{"text_format":"1","workbook":"xlsx","n_sheets":3,"sheets":["ورقة1","العاملين ","كشف1"],"not_rendered":{"charts":0,"images":0,"macros":1,"external_links":0,"defined_names":3,"comments":3,"pivot_tables":0},"unopened":[],"bounds":{"document_bytes":16777216,"sheet_cells":100000,"rows_first":2000,"rows_last":500,"rows_between":2000,"halvings":0,"cell_chars":16384,"cell_head_chars":4096},"cells_cut":0,"cells_raw":0,"read":"whole","date_system":"1900"}

{"sheet":"ورقة1","index":0,"n_rows":9,"n_cols":12,"rows_kept":9,"cut":false,"hidden":false,"merged":[[5,0,5,1],[6,0,6,1],[6,11,7,20],[7,0,7,1],[0,0,0,1],[1,0,1,1],[1,11,4,13],[2,0,2,1],[3,0,3,1],[4,0,4,1]]}
["إدارة ",null,"الشهداء التعليمية","بيانات العاملين "]
["مدرسة ",null,"الادارة","الاستمارة ",null,null,null,null,null,null,null,"صمم هذا البرنامج اخوكم فى الله أ/محمد محمد عبد الله عبد الصمد رئيس قسم التدريب بادارة الشهداء نسألكم الدعاء بظاهرالغيب"]
["شهر ",null,"مارس 2018","خلف الاستمارة "]
["مدير المدرسة",null,"محمد","فردية "]
["سنة ",null,2018,"خلف فردية "]
["مسئول المرتبات"]
[null,null,null,null,null,null,null,null,null,null,null,"يجب توزيع عدد العاملين على مجموعة من الكشوف بواقع 25 عامل للكشف على أن يكون كشف التجميعه من ضمن الكشوف فمثلا 50 عامل توزع 25كشف 1 و23 للكشف 2 وعدد 2عامل لكشف التجميعة ،خانة التوقيع بالاستلام اكتب فيها رقم العامل الموجودفى البيانات ، تأكد من عدم وجود بيانات فى الكشوف الغير مستعمله وذلكبالذهاب للكشف والضغطعلى مفتاحمسح البيانات فى يسار الكشف"]
[]
[null,null,null,null,null,null,null,null,null,null,"aya6672"]

{"sheet":"العاملين ","index":1,"n_rows":463,"n_cols":143,"rows_kept":463,"cut":false,"hidden":false,"merged":[[9,75,9,77],[10,75,10,77],[1,70,2,70],[1,71,2,71],[1,72,2,72],[1,82,2,82],[4,75,4,77],[6,75,6,77],[1,64,2,64],[1,65,2,65],[1,66,2,66],[1,67,2,67],[1,68,2,68],[1,69,2,69],[1,63,2,63],[1,44,1,47],[1,49,2,49],[1,50,2,50],[1,51,2,51],[1,52,1,56],[1,57,2,57],[1,58,2,58],[1,59,2,59],[1,60,2,60],[1,61,2,61],[1,62,2,62],[1,43,2,43],[1,32,2,32],[1,33,2,33],[1,34,2,34],[1,35,2,35],[1,36,2,36],[1,37,2,37],[1,38,2,38],[1,39,2,39],[1,40,2,40],[1,41,2,41],[1,42,2,42],[1,18,2,18],[1,31,2,31],[1,20,2,20],[1,21,2,21],[1,22,2,22],[1,23,2,23],[1,24,2,24],[1,25,2,25],[1,26,2,26],[1,27,2,27],[1,28,2,28],[1,29,2,29],[1,30,2,30],[1,13,2,13],[1,14,2,14],[1,15,2,15],[1,16,2,16],[1,17,2,17],[0,7,0,10],[0,41,0,45],[0,63,0,72],[1,0,2,0],[1,1,2,1],[1,2,2,2],[1,3,2,3],[1,4,2,4],[1,5,2,5],[1,7,2,7],[1,19,2,19],[1,8,2,8],[1,9,2,9],[1,10,2,10],[1,11,2,11],[1,12,2,12]]}
[null,null,null,null,null,null,null,"استحقاقات",null,null,null,null,null,null,null,null,null,null,null,null,null,null,null,null,null,null,null,null,null,null,null,null,null,null,null,null,null,null,null,null,null,"استقطاعات",null,null,null,null,null,null,null,null,null,null,null,null,null,null,null,null,null,null,null,null,null,"الخلايا الحمراء لا تدخل بها بيانات فهى تحسب نفسها"]
["م","الاســــــــــــم ","نقابي","نقابى /غيرنقابى","الحالة الاجتماعية","اكتب 1 للحاصل على ال 33%",null,"الوظيفة","المرتب الذى يحسب عليه الكادر","المرتب الاساسي ","علاوة  2012 ","علاوة   2013","علاوة  2014  ","علاةة   2015 ","علاوة   2016 ","ع اجتماعية","ع اجتماعيةاضافية","أعباء وظيفية","بدل نظارة","حافز مدير","بدل تفرغ","بدل تجاريين","بدل عدوي","حافز ماجستير","حافزدكتوراة","بدل تسكين","الحدالادنى","اكتب ما تشاء","اكتب ما تشاء","اكتب ما تشاء","اكتب ما تشاء","اكتب ما تشاء","اكتب ما تشاء","اكتب ما تشاء","اكتب ما تشاء","نقابة اجتماعية","نقابة تطبيقين ","رابطه","ضريبة الدخل ","دمغة عادية   ","دمغة نسبيه  ","أرباب عهد","خدمات عمالية","نقابة بحث علمى 5%","اقساط بنوك",null,null,null,null,"نصف العلاوة","ايرادات تربيةوتعليم","انقطاع ","للحالات خاصة فقط",null,null,null,null,null,null,null,null,null,null,"منحة","بدل معلم اضافى","بدل معلم ","بدل اعتماد ","حافز 25 %","حافز أداء ","الـ91.5","ال50%","ال 33%","الحد الادنى",null,null,null,null,null,null,null,null,null,"الوظيفة "]
[null,null,null,null,null,null,"الرقم القومى",null,null,null,null,null,null,null,null,null,null,null,null,null,null,null,null,null,null,null,null,null,null,null,null,null,null,null,null,null,null,null,null,null,null,null,null,null,"ناصر","القاهرة","الاهلى","اكتب ما تشاء","اكتب اسم البنك",null,null,null,"زمالة","جماعى","نقابة ","نادى المحافطة ","نادى الادارة",null,null,null,null,null,null,null,null,null,null,null,null,null,null,null,null,null,null,null,null,null,null,null,null,null,null,null,null,"حافز 25%","حافزأداء"]
[1,"محمد1",{"$f":"IF(D4=\"نقابى\",1,IF(D4=\"حالة خاصة\",2,0))","v":1},"نقابى","متزوج+2",0,null,"معلم",666.98,16650,null,62.23,62.73,66.69,null,4,{"$f":"IF(E4=\"متزوج\",2,IF(E4=\"متزوج+1\",4,IF(E4=\"متزوج+2\",6,IF(E4=\"متزوجة\",2,0))))","v":6},350,null,null,null,null," ",null,null,null,{"$f":"BU4","v":0},null,null,null,null,null,null,null,null,null,null,1,7.25,15.45,null,null,0,null,null,null,null,null,"khwv",null,null," ",5,5,5,5,5,null,null,null,null,null,null,{"$f":"IF(H4=\"معلم مساعد\",10,IF(H4=\"معلم تعاقد\",10,IF(H4=\"معلم\",10,IF(H4=\"معلم أول\",10,IF(H4=\"معلم أول أ\",10,IF(H4=\"خبير\",10,IF(H4=\"كبير\",10,IF(H4=\"عامل تعاقد\",0,\"\"))))))))","v":10},{"$f":"IF(H4=\"معلم مساعد\",I4*0/100,IF(H4=\"معلم تعاقد\",I4*0/100,IF(H4=\"معلم\",I4*50/100,IF(H4=\"معلم أول\",I4*50/100,IF(H4=\"معلم أول أ\",I4*50/100,IF(H4=\"خبير\",I4*50/100,IF(H4=\"كبير\",I4*50/100,)))))))","v":333.49},{"$f":"IF(H4=\"معلم مساعد\",I4*50/100,IF(H4=\"عامل تعاقد\",I4*0/100,IF(H4=\"معلم\",I4*50/100,IF(H4=\"معلم أول\",I4*50/100,IF(H4=\"معلم أول أ\",I4*50/100,IF(H4=\"خبير\",I4*50/100,IF(H4=\"كبير\",I4*50/100,)))))))","v":333.49},{"$f":"IF(H4=\"إدارى\",I4*0,IF(H4=\"معلم مساعد\",I4*0/100,IF(H4=\"معلم\",I4*50/100,IF(H4=\"معلم أول\",I4*75/100,IF(H4=\"معلم أول أ\",I4*100/100,IF(H4=\"خبير\",I4*125/100,IF(H4=\"كبير\",I4*150/100,)))))))","v":333.49},{"$f":"INT(IF(H4=\"عامل تعاقد\",I4*25/100,IF(H4=\"معلم مساعد\",I4*25/100,IF(H4=\"معلم\",I4*25/100,IF(H4=\"معلم أول\",I4*25/100,IF(H4=\"معلم أول أ\",I4*25/100,IF(H4=\"خبير\",I4*25/100,IF(H4=\"كبير\",I4*25/100,))))))))","v":166},{"$f":"INT(IF(H4=\"إدارى\",J4*0/100,IF(H4=\"معلم مساعد\",I4*125/100,IF(H4=\"معلم\",I4*75/100,IF(H4=\"معلم أول\",I4*50/100,IF(H4=\"معلم أول أ\",I4*25/100,IF(H4=\"خبير\",I4*25/100,IF(H4=\"كبير\",I4*25/100,))))))))","v":500},{"$f":"INT(IF(H4=\"عامل تعاقد\",I4*0.9166,IF(H4=\"معلم تعاقد\",I4*0.9166,0)))","v":0},{"$f":"INT(IF(H4=\"عامل تعاقد\",I4*0.5,IF(H4=\"معلم تعاقد\",I4*0.5,0)))","v":0},{"$f":"INT(IF(F4=1,I4*0.3333,0))","v":0},{"$f":"IF(H4=\"عامل تعاقد\",225,IF(H4=\"معلم تعاقد\",300,0))","v":0},null,null,null,null,null,null,{"$f":"IF($B4>0,(SUM(R4:AD4)-50),0)","v":300},{"$f":"IF(CB4<250,(CB4*0.006),IF(CB4<500,(CB4*0.0065),IF(CB4<1000,(CB4*0.007),IF(CB4<5000,(CB4*0.0075),IF(CB4>5000,(CB4*0.008),\" \" )))))","v":1.95},{"$f":"CEILING($CC4,0.05)","v":1.9500000000000002},"كبير",null,null,null,{"$f":"#VALUE!","v":{"$error":"#VALUE!"}}]
[2,"محمد2",{"$f":"IF(D5=\"نقابى\",1,IF(D5=\"حالة خاصة\",2,0))","v":1},"نقابى","متزوجة",0,null,"معلم أول أ",666.98,1500,null,48.43,48.93,52.05,null,4,{"$f":"IF(E5=\"متزوج\",2,IF(E5=\"متزوج+1\",4,IF(E5=\"متزوج+2\",6,IF(E5=\"متزوجة\",2,0))))","v":2},null,null,0,null,null,null,null,null,null,{"$f":"BU5","v":0},null,null,null,null,null,null,null,null,null,null,1,24.14,13.5,null,null,null,null,null,null,null,null,null,null,null,null,{"$f":"COLUMN()","v":53},null,null,null,null,null,null,null,null,null,null,{"$f":"IF(H5=\"معلم مساعد\",10,IF(H5=\"معلم تعاقد\",10,IF(H5=\"معلم\",10,IF(H5=\"معلم أول\",10,IF(H5=\"معلم أول أ\",10,IF(H5=\"خبير\",10,IF(H5=\"كبير\",10,IF(H5=\"عامل تعاقد\",0,\"\"))))))))","v":10},{"$f":"IF(H5=\"عقد مميز\",I5*0/100,IF(H5=\"معلم تعاقد\",I5*0/100,IF(H5=\"معلم\",I5*50/100,IF(H5=\"معلم أول\",I5*50/100,IF(H5=\"معلم أول أ\",I5*50/100,IF(H5=\"خبير\",I5*50/100,IF(H5=\"كبير\",I5*50/100,)))))))","v":333.49},{"$f":"IF(H5=\"معلم مساعد\",I5*50/100,IF(H5=\"عامل تعاقد\",I5*0/100,IF(H5=\"معلم\",I5*50/100,IF(H5=\"معلم أول\",I5*50/100,IF(H5=\"معلم أول أ\",I5*50/100,IF(H5=\"خبير\",I5*50/100,IF(H5=\"كبير\",I5*50/100,)))))))","v":333.49},{"$f":"IF(H5=\"إدارى\",I5*0,IF(H5=\"معلم مساعد\",I5*0/100,IF(H5=\"معلم\",I5*50/100,IF(H5=\"معلم أول\",I5*75/100,IF(H5=\"معلم أول أ\",I5*100/100,IF(H5=\"خبير\",I5*125/100,IF(H5=\"كبير\",I5*150/100,)))))))","v":666.98},166,166,0,0,0,0,null,null,"الحد الاقصي للمتغيرات فى الشهر",null,null,2800,-50,-0.3,{"$f":"CEILING($CC5,0.05)","v":{"$error":"#NUM!"}},"خبير",null,null,{"$f":"#VALUE!","v":{"$error":"#VALUE!"}},{"$f":"#VALUE!","v":{"$error":"#VALUE!"}}]
[3,"محمد3",{"$f":"IF(D6=\"نقابى\",1,IF(D6=\"حالة خاصة\",2,0))","v":1},"نقابى","متزوج+2",0,null,"معلم",566.52,938.62,null,52.79,53.29,56.69,null,4,6,null,null,null,null,null,null,null,null,null,0,null,null,null,null,null,null,null,null,null,null,1,26.73,14.95,null,null,null,null,null,null,null,null,null,null,4,null,null,null,null,null,null,null," ",null,null,null,null,10,283.26,283.26,{"$f":"IF(H6=\"إدارى\",I6*0,IF(H6=\"معلم مساعد\",I6*0/100,IF(H6=\"معلم\",I6*50/100,IF(H6=\"معلم أول\",I6*75/100,IF(H6=\"معلم أول أ\",I6*100/100,IF(H6=\"خبير\",I6*125/100,IF(H6=\"كبير\",I6*150/100,)))))))","v":283.26},141,424,0,0,0,0,null,null,null,null,null,null,-50,-0.3,{"$error":"#NUM!"},"معلم أول أ",null,null,{"$f":"#VALUE!","v":{"$error":"#VALUE!"}},{"$f":"#VALUE!","v":{"$error":"#VALUE!"}},null,null,null,null,null,null,null,null,null,null,null,null,null,null,null,null,null,null,null,null,null,null,null,null,null,null,null,null,null,null,null,null,null,null,null,null,null,null,null,null,null,null,null,null,null,null,null,null,null,null,null,null,null,null,null,"معلم"]
[4,"محمد4",{"$f":"IF(D7=\"نقابى\",1,IF(D7=\"حالة خاصة\",2,0))","v":1},"نقابى","متزوج+2",0,null,"معلم أول",511.02,854.21,null,47.01,47.51,51.1,null,4,6,null,null,null,null,null,null,null,null,null,0,null,null,null,null,null,null,null,null,null,null,1,22.26,13.75,null,null,null,null,null,null,null,null,null,null,null,null,null,null,null,null,null,null,null,null,null,null,null,10,255.51,255.51,383.26499999999999,127,255,0,0,0,0,null,null,"الحد الاقصي للمتغيرات  فى السنة",null,null,{"$f":"CA5*12","v":33600},-50,-0.3,{"$error":"#NUM!"},"معلم أول",null,null,{"$f":"#VALUE!","v":{"$error":"#VALUE!"}},{"$f":"#VALUE!","v":{"$error":"#VALUE!"}},null,null,null,"نقابى",null,null,null,null,null,null,null,null,null,null,null,null,null,null,null,null,null,null,null,null,null,null,null,null,null,null,null,null,null,null,null,null,null,null,null,null,null,null,null,null,null,null,null,null,null,null,null,null,null,null,null,"معلم اول"]
[5,"محمد5",{"$f":"IF(D8=\"نقابى\",1,IF(D8=\"حالة خاصة\",2,0))","v":1},"نقابى","متزوج+2",0,null,"معلم أول",536.12,891.32,null,49.89,50.39,53.61,null,4,6,null,null,null,null,null,null,null,null,null,0,null,null,null,null,null,null,null,null,null,null,1,19.72,14.35,null,null,null,null,null,null,null,null,null,null,null,null,null,null,null,null,null,null,null,null,null,null,null,10,268.06,268.06,402.09,134,268,0,0,0,0,null,null,null,null,null,null,-50,-0.3,{"$error":"#NUM!"},"معلم",null,null,{"$f":"#VALUE!","v":{"$error":"#VALUE!"}},{"$f":"#VALUE!","v":{"$error":"#VALUE!"}},null,null,null,"غير نقابى",null,null,null,null,null,null,null,null,null,null,null,null,null,null,null,null,null,null,null,null,null,null,null,null,null,null,null,null,null,null,null,null,null,null,null,null,null,null,null,null,null,null,null,null,null,null,null,null,null,null,null,"معلم اول ا"]
[6,"محمد6",1,"نقابى","متزوجة",0,null,"معلم أول",559.4,926.45,null,52.08,52.58,55.94,null,4,2,null,null,null,null,null,null,null,null,null,0,null,null,null,null,null,null,null,null,null,null,1,23.63,14.55,null,null,null,null,null,null,null,null,null,null,null,null,null,null,null,null,null,null,null,null,null,null,null,10,279.7,279.7,419.55,139,279,0,0,0,0,null,null,null,null,null,null,-50,-0.3,{"$error":"#NUM!"},"معلم مساعد",null,null,{"$f":"#VALUE!","v":{"$error":"#VALUE!"}},{"$f":"#VALUE!","v":{"$error":"#VALUE!"}},null,null,null,"حالة خاصة",null,null,null,null,null,null,null,null,null,null,null,null,null,null,null,null,null,null,null,null,null,null,null,null,null,null,null,null,null,null,null,null,null,null,null,null,null,null,null,null,null,null,null,null,null,null,null,null,null,null,null,"معلم خبير"]
[7,"محمد7",1,"نقابى","متزوجة",0,null,"معلم أول",512.17999999999995,855.89,null,47.12,47.62,51.21,null,4,2,null,null,null,null,null,null,null,null,null,0,null,null,null,null,null,null,null,null,null,null,1,22.27,13.95,null,null,null,null,null,null,null,null,null,null,null,null,null,null,null,null,null,null,null,null,null,null,null,10,256.08999999999997,256.08999999999997,384.13499999999993,128,256,0,0,0,0,null,null,"الحد الاقصي للمرتب الاساسي",null,null,1370,-50,-0.3,{"$error":"#NUM!"},"عامل تعاقد",null,null,{"$f":"#VALUE!","v":{"$error":"#VALUE!"}},{"$f":"#VALUE!","v":{"$error":"#VALUE!"}},null,null,null,null,null,null,null,null,null,null,null,null,null,null,null,null,null,null,null,null,null,null,null,null,null,null,null,null,null,null,null,null,null,null,null,null,null,null,null,null,null,null,null,null,null,null,null,null,null,null,null,null,null,null,null,"معلم كبير"]
[8,"محمد8",1,"نقابى","متزوجة",0,null,"معلم أول",512.17999999999995,855.89,null,47.12,47.62,51.21,null,4,2,null,null,null,null,null,null,null,null,null,0,null,null,null,null,null,null,null,null,null,null,1,22.27,13.95,null,null,null,null,null,null,null,null,null,null,null,null,null,null,null,null,null,null,null,null,null,null,null,10,256.08999999999997,256.08999999999997,384.13499999999993,128,256,0,0,0,0,null,null,"الاحد الاقصي للجور المتغيرة",null,null,2800,-50,-0.3,{"$error":"#NUM!"},null,null,null,{"$f":"#VALUE!","v":{"$error":"#VALUE!"}},{"$f":"#VALUE!","v":{"$error":"#VALUE!"}},null,null,null,null,null,null,null,null,null,null,null,null,null,null,null,null,null,null,null,null,null,null,null,null,null,null,null,null,null,null,null,null,null,null,null,null,null,null,null,null,null,null,null,null,null,null,null,null,null,null,null,null,null,null,null,"عقد مميز"]
[9,"محمد9",1,"نقابى","متزوجة",0,null,"معلم أول",504.1,843.7,null,46.35,46.85,50.41,null,4,2,null,null,null,null,null,null,null,null,null,0,null,null,null,null,null,null,null,null,null,null,1,22.01,13.4,null,null,null,null,null,null,null,null,null,null,null,null,null,null,null,null,null,null,null,null,null,null,null,10,252.05,252.05,378.07499999999999,126,252,0,0,0,0,null,null,null,null,null,null,-50,-0.3,{"$error":"#NUM!"},null,null,null,{"$f":"#VALUE!","v":{"$error":"#VALUE!"}},{"$f":"#VALUE!","v":{"$error":"#VALUE!"}}]
[10,"محمد10",1,"نقابى","متزوج+2",0,null,"معلم أول",546.57000000000005,906.88,null,50.87,51.37,54.64,null,4,6,null,null,null,null,null,null,null,null,null,0,null,null,null,null,null,null,null,null,null,null,1,47.68,15.35,null,null,null,null,null,null,null,null,null,null,null,null,null,null,null,null,null,null,null,null,null,null,null,10,273.28500000000003,273.28500000000003,409.92750000000007,136,273,0,0,0,0,null,null,null,null,null,null,-50,-0.3,{"$error":"#NUM!"},null,null,null,{"$f":"#VALUE!","v":{"$error":"#VALUE!"}},{"$f":"#VALUE!","v":{"$error":"#VALUE!"}}]
[11,"محمد11",1,"نقابى","متزوجة",0,null,"معلم أول",504.9,844.62,null,46.43,46.93,50.49,null,4,2,null,null,null,null,null,null,null,null,null,0,null,null,null,null,null,null,null,null,null,null,1,22.03,13.75,null,null,null,null,null,null,null,null,null,null,null,null,null,null,null,null,null,null,null,null,null,null,null,10,252.45,252.45,378.67500000000001,126,252,0,0,0,0,null,null,null,null,null,null,-50,-0.3,{"$error":"#NUM!"},null,null,null,{"$f":"#VALUE!","v":{"$error":"#VALUE!"}},{"$f":"#VALUE!","v":{"$error":"#VALUE!"}}]
[12,"محمد12",1,"نقابى","متزوج+2",0,null,"معلم أول",545.64,906.5,null,50.82,51.32,54.56,null,4,6,null,null,null,null,null,null,null,null,null,0,null,null,null,null,null,null,null,null,null,null,1,null,12.5,null,null,null,null,null,null,null,null,null,null,null,null,null,null,null,null,null,null,null,null,null,null,null,10,272.82,272.82,409.23,136,272,0,0,0,0,null,null,null,null,null,null,-50,-0.3,{"$error":"#NUM!"},null,null,null,{"$f":"#VALUE!","v":{"$error":"#VALUE!"}},{"$f":"#VALUE!","v":{"$error":"#VALUE!"}}]
[13,"محمد13",1,"نقابى","متزوجة",0,null,"معلم أول",499.36,836.86,null,45.91,46.41,49.93,null,4,2,null,null,null,null,null,null,null,null,null,0,null,null,null,null,null,null,null,null,null,null,1,21.73,13.85,null,null,null,null,null,null,null,null,null,null,null,null,null,null,null,null,null,null,null,null,null,null,null,10,249.68,249.68,374.52,124,249,0,0,0,0,null,null,null,null,null,null,-50,-0.3,{"$error":"#NUM!"},null,null,null,{"$f":"#VALUE!","v":{"$error":"#VALUE!"}},{"$f":"#VALUE!","v":{"$error":"#VALUE!"}}]
[14,"محمد14",1,"نقابى","متزوجة",0,null,"معلم أول",530.54,883.67,null,48.85,49.35,53.05,null,4,2,null,null,null,null,null,null,null,null,null,0,null,null,null,null,null,null,null,null,null,null,1,22.76,14.95,null,null,null,null,null,null,null,null,null,null,null,null,null,null,null,null,null,null,null,null,null,null,null,10,265.27,265.27,397.90499999999997,132,265,0,0,0,0,null,null,null,null,null,null,-50,-0.3,{"$error":"#NUM!"},null,null,null,{"$f":"#VALUE!","v":{"$error":"#VALUE!"}},{"$f":"#VALUE!","v":{"$error":"#VALUE!"}}]
[15,"محمد15",1,"نقابى","متزوج+2",0,null,"معلم أول",537.54,894.13,null,49.51,50.01,53.75,null,4,6,null,null,null,null,null,null,null,null,null,0,null,null,null,null,null,null,null,null,null,null,1,22.64,15,null,null,null,null,null,null,null,null,null,null,null,null,null,null,null,null,null,null,null,null,null,null,null,10,268.77,268.77,403.15499999999997,134,268,0,0,0,0,null,null,null,null,null,null,-50,-0.3,{"$error":"#NUM!"},null,null,null,{"$f":"#VALUE!","v":{"$error":"#VALUE!"}},{"$f":"#VALUE!","v":{"$error":"#VALUE!"}}]
[16,"محمد16",1,"نقابى","متزوجة",0,null,"معلم أول",395.16,705.15,null,36.6,37.1,39.51,null,4,2,null,null,null,null,null,null,null,null,null,0,null,null,null,null,null,null,null,null,null,null,1,14.76,9.65,null,null,null,null,null,null,null,null,null,null,null,null,null,null,null,null,null,null,null,null,null,null,null,10,197.58,197.58,296.37000000000006,98,197,0,0,0,0,null,null,null,null,null,null,-50,-0.3,{"$error":"#NUM!"},null,null,null,{"$f":"#VALUE!","v":{"$error":"#VALUE!"}},{"$f":"#VALUE!","v":{"$error":"#VALUE!"}}]
[17,"محمد17",1,"نقابى","متزوجة",0,null,"معلم أول",502.5,840.34,null,46.73,47.23,50.25,null,4,2,null,null,null,null,null,null,null,null,null,0,null,null,null,null,null,null,null,null,null,null,1,25.86,13.45,null,null,null,null,null,null,null,null,null,null,null,null,null,null,null,null,null,null,null,null,null,null,null,10,251.25,251.25,376.875,125,251,0,0,0,0,null,null,null,null,null,null,-50,-0.3,{"$error":"#NUM!"},null,null,null,{"$f":"#VALUE!","v":{"$error":"#VALUE!"}},{"$f":"#VALUE!","v":{"$error":"#VALUE!"}}]
[18,"محمد18",1,"نقابى","متزوجة",0,null,"معلم أول",510.68,854.27,null,46.96,47.46,51.06,null,4,2,null,null,null,null,null,null,null,null,null,0,null,null,null,null,null,null,null,null,null,null,1,22.28,13.85,null,null,null,null,null,null,null,null,null,null,null,null,null,null,null,null,null,null,null,null,null,null,null,10,255.34,255.34,383.01,127,255,0,0,0,0,null,null,null,null,null,null,-50,-0.3,{"$error":"#NUM!"},null,null,null,{"$f":"#VALUE!","v":{"$error":"#VALUE!"}},{"$f":"#VALUE!","v":{"$error":"#VALUE!"}}]
[19,"محمد19",1,"نقابى","متزوجة",0,null,"معلم أول",351.96,637.82000000000005,null,32.54,33.04,35.19,null,4,2,null,null,null,null,null,null,null,null,null,0,null,null,null,null,null,null,null,null,null,null,1,10.81,12,null,null,null,null,null,null,null,null,null,null,null,null,null,null,null,null,null,null,null,null,null,null,null,10,175.98,175.98,263.97000000000003,87,175,0,0,0,0,null,null,null,null,null,null,-50,-0.3,{"$error":"#NUM!"},null,null,null,{"$f":"#VALUE!","v":{"$error":"#VALUE!"}},{"$f":"#VALUE!","v":{"$error":"#VALUE!"}}]
[20,"محمد20",1,"نقابى","متزوج+1",0,null,"معلم أول",351.96,652.6,null,32.54,33.04,35.19,null,4,4,null,null,null,null,null,null,null,null,null,0,null,null,null,null,null,null,null,null,null,null,1,10.65,11.15,null,null,null,null,null,null,null,null,null,null,null,null,null,null,null,null,null,null,null,null,null,null,null,10,175.98,175.98,263.97000000000003,87,175,0,0,0,0,null,null,null,null,null,null,-50,-0.3,{"$error":"#NUM!"},null,null,null,{"$f":"#VALUE!","v":{"$error":"#VALUE!"}},{"$f":"#VALUE!","v":{"$error":"#VALUE!"}}]
[21,"محمد21",1,"نقابى","متزوجة",0,null,"معلم أول",356.96,652.6,null,32.54,33.04,35.19,null,4,2,null,null,null,null,null,null,null,null,null,0,null,null,null,null,null,null,null,null,null,null,1,11.55,11.15,null,null,null,null,null,null,null,null,null,null,null,null,null,null,null,null,null,null,null,null,null,null,null,10,178.48,178.48,267.72000000000003,89,178,0,0,0,0,null,null,null,null,null,null,-50,-0.3,{"$error":"#NUM!"},null,null,null,{"$f":"#VALUE!","v":{"$error":"#VALUE!"}},{"$f":"#VALUE!","v":{"$error":"#VALUE!"}}]
[22,"محمد22",1,"نقابى",null,0,null,"معلم أول",257.82,534.28,null,24.5,24.9,25.78,null,4,0,null,null,null,null,null,null,null,null,null,0,null,null,null,null,null,null,null,null,null,null,1,null,9.25,null,null,null,null,null,null,null,null,null,null,null,null,null,null,null,null,null,null,null,null,null,null,null,10,128.91,128.91,193.36500000000001,64,128,0,0,0,0,null,null,null,null,null,null,-50,-0.3,{"$error":"#NUM!"},null,null,null,{"$f":"#VALUE!","v":{"$error":"#VALUE!"}},{"$f":"#VALUE!","v":{"$error":"#VALUE!"}}]
[23,"محمد23",1,"نقابى","متزوج+2",0,null,"معلم أول",246,460.2,null,7.2,4.8,4.8,null,4,6,null,null,null,null,null,null,null,null,null,0,null,null,null,null,null,null,null,null,null,null,1,null,6,null,null,null,null,null,null,null,null,null,null,null,null,null,null,null,null,null,null,null,null,null,null,null,10,123,123,184.5,61,123,0,0,0,0,null,null,null,null,null,null,-50,-0.3,{"$error":"#NUM!"},null,null,null,{"$f":"#VALUE!","v":{"$error":"#VALUE!"}},{"$f":"#VALUE!","v":{"$error":"#VALUE!"}}]
[24,"محمد24",1,"نقابى","متزوجة",0,null,"معلم أول",246,460.2,null,7.2,4.8,4.8,null,4,2,null,null,null,null,null,null,null,null,null,0,null,null,null,null,null,null,null,null,null,null,1,null,6,null,null,null,null,null,null,null,null,null,null,null,null,null,null,null,null,null,null,null,null,null,null,null,10,123,123,184.5,61,123,0,0,0,0,null,null,null,null,null,null,-50,-0.3,{"$error":"#NUM!"},null,null,null,{"$f":"#VALUE!","v":{"$error":"#VALUE!"}},{"$f":"#VALUE!","v":{"$error":"#VALUE!"}}]
[25,"محمد25",1,"نقابى","متزوجة",0,null,"معلم أول",246,460.2,null,7.2,4.8,4.8,null,4,2,null,null,null,null,null,null,null,null,null,0,null,null,null,null,null,null,null,null,null,null,1,null,6,null,null,null,null,null,null,null,null,null,null,null,null,null,null,null,null,null,null,null,null,null,null,null,10,123,123,184.5,61,123,0,0,0,0,null,null,null,null,null,null,-50,-0.3,{"$error":"#NUM!"},null,null,null,{"$f":"#VALUE!","v":{"$error":"#VALUE!"}},{"$f":"#VALUE!","v":{"$error":"#VALUE!"}}]
[26,"محمد26",1,"نقابى","متزوجة",0,null,"معلم أول",246,460.2,null,7.2,4.8,4.8,null,4,2,null,null,null,null,null,null,null,null,null,0,null,null,null,null,null,null,null,null,null,null,1,null,6,null,null,null,null,null,null,null,null,null,null,null,null,null,null,null,null,null,null,null,null,null,null,null,10,123,123,184.5,61,123,0,0,0,0,null,null,null,null,null,null,-50,-0.3,{"$error":"#NUM!"},null,null,null,{"$f":"#VALUE!","v":{"$error":"#VALUE!"}},{"$f":"#VALUE!","v":{"$error":"#VALUE!"}}]
[27,"محمد27",1,"نقابى",null,0,null,null,0,0,null,null,null,null,null,null,0,null,null,null,null,null,null,null,null,null,0,null,null,null,null,null,null,null,null,null,null,null,null,null,null,null,null,null,null,null,null,null,null,null,null,null,null,null,null,null,null,null,null,null,null,null,null,"",0,0,0,0,0,0,0,0,0,null,null,null,null,null,null,-50,-0.3,{"$error":"#NUM!"},null,null,null,{"$f":"#VALUE!","v":{"$error":"#VALUE!"}},{"$f":"#VALUE!","v":{"$error":"#VALUE!"}}]
[28,"محمد28",1,"نقابى","متزوج+2",0,null,"خبير",638.54999999999995,1056.5899999999999,null,59.54,60.04,63.85,null,4,6,null,null,null,null,null,null,null,null,null,0,null,null,null,null,null,null,null,null,null,null,1,51.65,15,null,null,null,null,null,null,null,null,null,null,null,null,null,null,null,null,null,null,null,null,null,null,null,10,319.27499999999998,319.27499999999998,798.1875,159,159,0,0,0,0,null,null,null,null,null,null,-50,-0.3,{"$error":"#NUM!"},null,null,null,{"$f":"#VALUE!","v":{"$error":"#VALUE!"}},{"$f":"#VALUE!","v":{"$error":"#VALUE!"}}]
[29,"محمد29",1,"نقابى","متزوج+2",0,null,"خبير",546.57000000000005,906.88,null,50.87,51.37,54.64,null,4,6,null,null,null,null,null,null,null,null,null,0,null,null,null,null,null,null,null,null,null,null,1,47.68,15.35,null,null,null,null,null,null,null,null,null,null,null,null,null,null,null,null,null,null,null,null,null,null,null,10,273.28500000000003,273.28500000000003,683.21249999999998,136,136,0,0,0,0,null,null,null,null,null,null,-50,-0.3,{"$error":"#NUM!"},null,null,null,{"$f":"#VALUE!","v":{"$error":"#VALUE!"}},{"$f":"#VALUE!","v":{"$error":"#VALUE!"}}]
[30,"محمد30",1,"نقابى","متزوج+2",0,null,"خبير",574.79999999999995,951.55,null,53.54,54.04,57.48,null,4,6,null,null,null,null,null,null,null,null,null,0,null,null,null,null,null,null,null,null,null,null,1,null,14.95,null,null,null,null,null,null,null,null,null,null,null,null,null,null,null,null,null,null,null,null,null,null,null,10,287.39999999999998,287.39999999999998,718.5,143,143,0,0,0,0,null,null,null,null,null,null,-50,-0.3,{"$error":"#NUM!"},null,null,null,{"$f":"#VALUE!","v":{"$error":"#VALUE!"}},{"$f":"#VALUE!","v":{"$error":"#VALUE!"}}]
[31,"محمد31",1,"نقابى","متزوج+2",0,null,"خبير",537.55999999999995,892.61,null,50.03,50.53,53.75,null,4,6,null,null,null,null,null,null,null,null,null,0,null,null,null,null,null,null,null,null,null,null,1,38.49,14.35,null,null,null,null,null,null,null,null,null,null,null,null,null,null,null,null,null,null,null,null,null,null,null,10,268.77999999999997,268.77999999999997,671.95,134,134,0,0,0,0,null,null,null,null,null,null,-50,-0.3,{"$error":"#NUM!"},null,null,null,{"$f":"#VALUE!","v":{"$error":"#VALUE!"}},{"$f":"#VALUE!","v":{"$error":"#VALUE!"}}]
[32,"محمد32",1,"نقابى","متزوجة",0,null,"خبير",498.56,835.37,null,45.83,46.33,49.85,null,4,2,null,null,null,null,null,null,null,null,null,0,null,null,null,null,null,null,null,null,null,null,1,21.71,13.85,null,null,null,null,null,null,null,null,null,null,null,null,null,null,null,null,null,null,null,null,null,null,null,10,249.28,249.28,623.20000000000005,124,124,0,0,0,0,null,null,null,null,null,null,-50,-0.3,{"$error":"#NUM!"},null,null,null,{"$f":"#VALUE!","v":{"$error":"#VALUE!"}},{"$f":"#VALUE!","v":{"$error":"#VALUE!"}}]
[33,"محمد33",1,"نقابى","متزوج+2",0,null,"خبير",566.52,938.62,null,52.79,53.29,56.69,null,4,6,null,null,null,null,null,null,null,null,null,0,null,null,null,null,null,null,null,null,null,null,1,26.73,14.95,null,null,null,null,null,null,null,null,null,null,4,null,null,null,null,null,null,null,null,null,null,null,null,10,283.26,283.26,708.15,141,141,0,0,0,0,null,null,null,null,null,null,-50,-0.3,{"$error":"#NUM!"},null,null,null,{"$f":"#VALUE!","v":{"$error":"#VALUE!"}},{"$f":"#VALUE!","v":{"$error":"#VALUE!"}}]
[34,"محمد34",1,"نقابى","متزوجة",0,null,"خبير",514.52,860.87,null,47.4,47.9,51.45,null,4,2,null,null,null,null,null,null,null,null,null,0,null,null,null,null,null,null,null,null,null,null,1,null,13.85,null,null,null,null,null,null,null,null,null,null,null,null,null,null,null,null,null,null,null,null,null,null,null,10,257.26,257.26,643.15,128,128,0,0,0,0,null,null,null,null,null,null,-50,-0.3,{"$error":"#NUM!"},null,null,null,{"$f":"#VALUE!","v":{"$error":"#VALUE!"}},{"$f":"#VALUE!","v":{"$error":"#VALUE!"}}]
[35,"محمد35",1,"نقابى",null,0,null,"خبير",null,0,null,null,null,null,null,null,0,null,null,null,null,null,null,null,null,null,0,null,null,null,null,null,null,null,null,null,null,null,null,null,null,null,null,null,null,null,null,null,null,null,null,null,null,null,null,null,null,null,null,null,null,null,null,10,0,0,0,0,0,0,0,0,0,null,null,null,null,null,null,-50,-0.3,{"$error":"#NUM!"},null,null,null,{"$f":"#VALUE!","v":{"$error":"#VALUE!"}},{"$f":"#VALUE!","v":{"$error":"#VALUE!"}}]
[36,"محمد36",1,"نقابى",null,0,null,"خبير",null,0,null,null,null,null,null,null,0,null,null,null,null,null,null,null,null,null,0,null,null,null,null,null,null,null,null,null,null,null,null,null,null,null,null,null,null,null,null,null,null,null,null,null,null,null,null,null,null,null,null,null,null,null,null,10,0,0,0,0,0,0,0,0,0,null,null,null,null,null,null,-50,-0.3,{"$error":"#NUM!"},null,null,null,{"$f":"#VALUE!","v":{"$error":"#VALUE!"}},{"$f":"#VALUE!","v":{"$error":"#VALUE!"}}]
[37,"محمد37",1,"نقابى",null,0,null,"خبير",null,0,null,null,null,null,null,null,0,null,null,null,null,null,null,null,null,null,0,null,null,null,null,null,null,null,null,null,null,null,null,null,null,null,null,null,null,null,null,null,null,null,null,null,null,null,null,null,null,null,null,null,null,null,null,10,0,0,0,0,0,0,0,0,0,null,null,null,null,null,null,-50,-0.3,{"$error":"#NUM!"},null,null,null,{"$f":"#VALUE!","v":{"$error":"#VALUE!"}},{"$f":"#VALUE!","v":{"$error":"#VALUE!"}}]
[38,"محمد38",1,"نقابى",null,0,null,"خبير",null,0,null,null,null,null,null,null,0,null,null,null,null,null,null,null,null,null,0,null,null,null,null,null,null,null,null,null,null,null,null,null,null,null,null,null,null,null,null,null,null,null,null,null,null,null,null,null,null,null,null,null,null,null,null,10,0,0,0,0,0,0,0,0,0,null,null,null,null,null,null,-50,-0.3,{"$error":"#NUM!"},null,null,null,{"$f":"#VALUE!","v":{"$error":"#VALUE!"}},{"$f":"#VALUE!","v":{"$error":"#VALUE!"}}]
[39,"محمد39",0,null,null,0,null,"خبير",null,0,null,null,null,null,null,null,0,null,null,null,null,null,null,null,null,null,0,null,null,null,null,null,null,null,null,null,null,null,null,null,null,null,null,null,null,null,null,null,null,null,null,null,null,null,null,null,null,null,null,null,null,null,null,10,0,0,0,0,0,0,0,0,0,null,null,null,null,null,null,-50,-0.3,{"$error":"#NUM!"},null,null,null,{"$f":"#VALUE!","v":{"$error":"#VALUE!"}},{"$f":"#VALUE!","v":{"$error":"#VALUE!"}}]
[40,"محمد40",0,null,null,0,null,"عامل تعاقد",150,367.5,null,15,15,15,null,null,0,null,null,null,null,null,null,null,null,null,225,null,null,null,null,null,null,null,null,null,null,null,null,6,null,null,null,null,null,null,null,null,null,null,null,null,null,null,null,null,null,null,null,null,null,null,null,0,0,0,0,37,0,137,75,0,225,null,null,null,null,null,null,175,1.05,1.05,null,null,null,{"$f":"#VALUE!","v":{"$error":"#VALUE!"}},{"$f":"#VALUE!","v":{"$error":"#VALUE!"}}]
[41,null,0,null,null,0,null,null,null,null,null,null,null,null,null,null,0,null,null,null,null,null,null,null,null,null,0,null,null,null,null,null,null,null,null,null,null,null,null,null,null,null,null,null,null,null,null,null,null,null,null,null,null,null,null,null,null,null,null,null,null,null,null,"",0,0,0,0,0,0,0,0,0,null,null,null,null,null,null,0,0,0,null,null,null,{"$f":"#VALUE!","v":{"$error":"#VALUE!"}},{"$f":"#VALUE!","v":{"$error":"#VALUE!"}}]
[42,"محمد41",0,null,null,0,null,null,null,null,null,null,null,null,null,null,0,null,null,null,null,null,null,null,null,null,0,null,null,null,null,null,null,null,null,null,null,null,null,null,null,null,null,null,null,null,null,null,null,null,null,null,null,null,null,null,null,null,null,null,null,null,null,"",0,0,0,0,0,0,0,0,0,null,null,null,null,null,null,-50,-0.3,{"$error":"#NUM!"},null,null,null,{"$f":"#VALUE!","v":{"$error":"#VALUE!"}},{"$f":"#VALUE!","v":{"$error":"#VALUE!"}}]
[43,null,0,null,null,0,null,null,null,null,null,null,null,null,null,null,0,null,null,null,null,null,null,null,null,null,0,null,null,null,null,null,null,null,null,null,null,null,null,null,null,null,null,null,null,null,null,null,null,null,null,null,null,null,null,null,null,null,null,null,null,null,null,"",0,0,0,0,0,0,0,0,0,null,null,null,null,null,null,0,0,0,null,null,null,{"$f":"#VALUE!","v":{"$error":"#VALUE!"}},{"$f":"#VALUE!","v":{"$error":"#VALUE!"}}]
[44,null,0,null,null,0,null,null,null,null,null,null,null,null,null,null,0,null,null,null,null,null,null,null,null,null,0,null,null,null,null,null,null,null,null,null,null,null,null,null,null,null,null,null,null,null,null,null,null,null,null,null,null,null,null,null,null,null,null,null,null,null,null,"",0,0,0,0,0,0,0,0,0,null,null,null,null,null,null,0,0,0,null,null,null,{"$f":"#VALUE!","v":{"$error":"#VALUE!"}},{"$f":"#VALUE!","v":{"$error":"#VALUE!"}}]
[45,null,0,null,null,0,null,null,null,null,null,null,null,null,null,null,0,null,null,null,null,null,null,null,null,null,0,null,null,null,null,null,null,null,null,null,null,null,null,null,null,null,null,null,null,null,null,null,null,null,null,null,null,null,null,null,null,null,null,null,null,null,null,"",0,0,0,0,0,0,0,0,0,null,null,null,null,null,null,0,0,0,null,null,null,{"$f":"#VALUE!","v":{"$error":"#VALUE!"}},{"$f":"#VALUE!","v":{"$error":"#VALUE!"}}]
[46,null,0,null,null,0,null,null,null,null,null,null,null,null,null,null,0,null,null,null,null,null,null,null,null,null,0,null,null,null,null,null,null,null,null,null,null,null,null,null,null,null,null,null,null,null,null,null,null,null,null,null,null,null,null,null,null,null,null,null,null,null,null,"",0,0,0,0,0,0,0,0,0,null,null,null,null,null,null,0,0,0,null,null,null,{"$f":"#VALUE!","v":{"$error":"#VALUE!"}},{"$f":"#VALUE!","v":{"$error":"#VALUE!"}}]
[47,null,0,null,null,0,null,null,null,null,null,null,null,null,null,null,0,null,null,null,null,null,null,null,null,null,0,null,null,null,null,null,null,null,null,null,null,null,null,null,null,null,null,null,null,null,null,null,null,null,null,null,null,null,null,null,null,null,null,null,null,null,null,"",0,0,0,0,0,0,0,0,0,null,null,null,null,null,null,0,0,0,null,null,null,{"$f":"#VALUE!","v":{"$error":"#VALUE!"}},{"$f":"#VALUE!","v":{"$error":"#VALUE!"}}]
[48,null,0,null,null,0,null,null,null,null,null,null,null,null,null,null,0,null,null,null,null,null,null,null,null,null,0,null,null,null,null,null,null,null,null,null,null,null,null,null,null,null,null,null,null,null,null,null,null,null,null,null,null,null,null,null,null,null,null,null,null,null,null,"",0,0,0,0,0,0,0,0,0,null,null,null,null,null,null,0,0,0,null,null,null,{"$f":"#VALUE!","v":{"$error":"#VALUE!"}},{"$f":"#VALUE!","v":{"$error":"#VALUE!"}}]
[49,null,0,null,null,0,null,null,null,null,null,null,null,null,null,null,0,null,null,null,null,null,null,null,null,null,0,null,null,null,null,null,null,null,null,null,null,null,null,null,null,null,null,null,null,null,null,null,null,null,null,null,null,null,null,null,null,null,null,null,null,null,null,"",0,0,0,0,0,0,0,0,0,null,null,null,null,null,null,0,0,0,null,null,null,{"$f":"#VALUE!","v":{"$error":"#VALUE!"}},{"$f":"#VALUE!","v":{"$error":"#VALUE!"}}]
[50,null,0,null,null,0,null,null,null,null,null,null,null,null,null,null,0,null,null,null,null,null,null,null,null,null,0,null,null,null,null,null,null,null,null,null,null,null,null,null,null,null,null,null,null,null,null,null,null,null,null,null,null,null,null,null,null,null,null,null,null,null,null,"",0,0,0,0,0,0,0,0,0,null,null,null,null,null,null,0,0,0,null,null,null,{"$f":"#VALUE!","v":{"$error":"#VALUE!"}},{"$f":"#VALUE!","v":{"$error":"#VALUE!"}}]
[51,null,0,null,null,0,null,null,null,null,null,null,null,null,null,null,0,null,null,null,null,null,null,null,null,null,0,null,null,null,null,null,null,null,null,null,null,null,null,null,null,null,null,null,null,null,null,null,null,null,null,null,null,null,null,null,null,null,null,null,null,null,null,"",0,0,0,0,0,0,0,0,0,null,null,null,null,null,null,0,0,0,null,null,null,{"$f":"#VALUE!","v":{"$error":"#VALUE!"}},{"$f":"#VALUE!","v":{"$error":"#VALUE!"}}]
[52,null,0,null,null,0,null,null,null,null,null,null,null,null,null,null,0,null,null,null,null,null,null,null,null,null,0,null,null,null,null,null,null,null,null,null,null,null,null,null,null,null,null,null,null,null,null,null,null,null,null,null,null,null,null,null,null,null,null,null,null,null,null,"",0,0,0,0,0,0,0,0,0,null,null,null,null,null,null,0,0,0,null,null,null,{"$f":"#VALUE!","v":{"$error":"#VALUE!"}},{"$f":"#VALUE!","v":{"$error":"#VALUE!"}}]
[53,null,0,null,null,0,null,null,null,null,null,null,null,null,null,null,0,null,null,null,null,null,null,null,null,null,0,null,null,null,null,null,null,null,null,null,null,null,null,null,null,null,null,null,null,null,null,null,null,null,null,null,null,null,null,null,null,null,null,null,null,null,null,"",0,0,0,0,0,0,0,0,0,null,null,null,null,null,null,0,0,0,null,null,null,{"$f":"#VALUE!","v":{"$error":"#VALUE!"}},{"$f":"#VALUE!","v":{"$error":"#VALUE!"}}]
[54,null,0,null,null,0,null,null,null,null,null,null,null,null,null,null,0,null,null,null,null,null,null,null,null,null,0,null,null,null,null,null,null,null,null,null,null,null,null,null,null,null,null,null,null,null,null,null,null,null,null,null,null,null,null,null,null,null,null,null,null,null,null,"",0,0,0,0,0,0,0,0,0,null,null,null,null,null,null,0,0,0,null,null,null,{"$f":"#VALUE!","v":{"$error":"#VALUE!"}},{"$f":"#VALUE!","v":{"$error":"#VALUE!"}}]
[55,null,0,null,null,0,null,null,null,null,null,null,null,null,null,null,0,null,null,null,null,null,null,null,null,null,0,null,null,null,null,null,null,null,null,null,null,null,null,null,null,null,null,null,null,null,null,null,null,null,null,null,null,null,null,null,null,null,null,null,null,null,null,"",0,0,0,0,0,0,0,0,0,null,null,null,null,null,null,0,0,0,null,null,null,{"$f":"#VALUE!","v":{"$error":"#VALUE!"}},{"$f":"#VALUE!","v":{"$error":"#VALUE!"}}]
[56,null,0,null,null,0,null,null,null,null,null,null,null,null,null,null,0,null,null,null,null,null,null,null,null,null,0,null,null,null,null,null,null,null,null,null,null,null,null,null,null,null,null,null,null,null,null,null,null,null,null,null,null,null,null,null,null,null,null,null,null,null,null,"",0,0,0,0,0,0,0,0,0,null,null,null,null,null,null,0,0,0,null,null,null,{"$f":"#VALUE!","v":{"$error":"#VALUE!"}},{"$f":"#VALUE!","v":{"$error":"#VALUE!"}}]
[57,null,0,null,null,0,null,null,null,null,null,null,null,null,null,null,0,null,null,null,null,null,null,null,null,null,0,null,null,null,null,null,null,null,null,null,null,null,null,null,null,null,null,null,null,null,null,null,null,null,null,null,null,null,null,null,null,null,null,null,null,null,null,"",0,0,0,0,0,0,0,0,0,null,null,null,null,null,null,0,0,0,null,null,null,{"$f":"#VALUE!","v":{"$error":"#VALUE!"}},{"$f":"#VALUE!","v":{"$error":"#VALUE!"}}]
[58,null,0,null,null,0,null,null,null,null,null,null,null,null,null,null,0,null,null,null,null,null,null,null,null,null,0,null,null,null,null,null,null,null,null,null,null,null,null,null,null,null,null,null,null,null,null,null,null,null,null,null,null,null,null,null,null,null,null,null,null,null,null,"",0,0,0,0,0,0,0,0,0,null,null,null,null,null,null,0,0,0,null,null,null,{"$f":"#VALUE!","v":{"$error":"#VALUE!"}},{"$f":"#VALUE!","v":{"$error":"#VALUE!"}}]
[59,null,0,null,null,0,null,null,null,null,null,null,null,null,null,null,0,null,null,null,null,null,null,null,null,null,0,null,null,null,null,null,null,null,null,null,null,null,null,null,null,null,null,null,null,null,null,null,null,null,null,null,null,null,null,null,null,null,null,null,null,null,null,"",0,0,0,0,0,0,0,0,0,null,null,null,null,null,null,0,0,0,null,null,null,{"$f":"#VALUE!","v":{"$error":"#VALUE!"}},{"$f":"#VALUE!","v":{"$error":"#VALUE!"}}]
[60,null,0,null,null,0,null,null,null,null,null,null,null,null,null,null,0,null,null,null,null,null,null,null,null,null,0,null,null,null,null,null,null,null,null,null,null,null,null,null,null,null,null,null,null,null,null,null,null,null,null,null,null,null,null,null,null,null,null,null,null,null,null,"",0,0,0,0,0,0,0,0,0,null,null,null,null,null,null,0,0,0,null,null,null,{"$f":"#VALUE!","v":{"$error":"#VALUE!"}},{"$f":"#VALUE!","v":{"$error":"#VALUE!"}}]
[61,null,0,null,null,0,null,null,null,null,null,null,null,null,null,null,0,null,null,null,null,null,null,null,null,null,0,null,null,null,null,null,null,null,null,null,null,null,null,null,null,null,null,null,null,null,null,null,null,null,null,null,null,null,null,null,null,null,null,null,null,null,null,"",0,0,0,0,0,0,0,0,0,null,null,null,null,null,null,0,0,0,null,null,null,{"$f":"#VALUE!","v":{"$error":"#VALUE!"}},{"$f":"#VALUE!","v":{"$error":"#VALUE!"}}]
[62,null,0,null,null,0,null,null,null,null,null,null,null,null,null,null,0,null,null,null,null,null,null,null,null,null,0,null,null,null,null,null,null,null,null,null,null,null,null,null,null,null,null,null,null,null,null,null,null,null,null,null,null,null,null,null,null,null,null,null,null,null,null,"",0,0,0,0,0,0,0,0,0,null,null,null,null,null,null,0,0,0,null,null,null,{"$f":"#VALUE!","v":{"$error":"#VALUE!"}},{"$f":"#VALUE!","v":{"$error":"#VALUE!"}}]
[63,null,0,null,null,0,null,null,null,null,null,null,null,null,null,null,0,null,null,null,null,null,null,null,null,null,0,null,null,null,null,null,null,null,null,null,null,null,null,null,null,null,null,null,null,null,null,null,null,null,null,null,null,null,null,null,null,null,null,null,null,null,null,"",0,0,0,0,0,0,0,0,0,null,null,null,null,null,null,0,0,0,null,null,null,{"$f":"#VALUE!","v":{"$error":"#VALUE!"}},{"$f":"#VALUE!","v":{"$error":"#VALUE!"}}]
[64,null,0,null,null,0,null,null,null,null,null,null,null,null,null,null,0,null,null,null,null,null,null,null,null,null,0,null,null,null,null,null,null,null,null,null,null,null,null,null,null,null,null,null,null,null,null,null,null,null,null,null,null,null,null,null,null,null,null,null,null,null,null,"",0,0,0,0,0,0,0,0,0,null,null,null,null,null,null,0,0,0,null,null,null,{"$f":"#VALUE!","v":{"$error":"#VALUE!"}},{"$f":"#VALUE!","v":{"$error":"#VALUE!"}}]
[65,null,0,null,null,0,null,null,null,null,null,null,null,null,null,null,0,null,null,null,null,null,null,null,null,null,0,null,null,null,null,null,null,null,null,null,null,null,null,null,null,null,null,null,null,null,null,null,null,null,null,null,null,null,null,null,null,null,null,null,null,null,null,"",0,0,0,{"$f":"INT(IF(H68=\"عامل تعاقد\",I68*25/100,IF(H68=\"معلم مساعد\",I68*25/100,IF(H68=\"معلم\",I68*25/100,IF(H68=\"معلم أول\",I68*25/100,IF(H68=\"معلم أول أ\",I68*25/100,IF(H68=\"خبير\",I68*25/100,IF(H68=\"كبير\",I68*25/100,))))))))","v":0},{"$f":"INT(IF(H68=\"إدارى\",J68*0/100,IF(H68=\"معلم مساعد\",I68*125/100,IF(H68=\"معلم\",I68*75/100,IF(H68=\"معلم أول\",I68*50/100,IF(H68=\"معلم أول أ\",I68*25/100,IF(H68=\"خبير\",I68*25/100,IF(H68=\"كبير\",I68*25/100,))))))))","v":0},{"$f":"INT(IF(H68=\"عامل تعاقد\",I68*0.9166,IF(H68=\"معلم تعاقد\",I68*0.9166,0)))","v":0},{"$f":"INT(IF(H68=\"عامل تعاقد\",I68*0.5,IF(H68=\"معلم تعاقد\",I68*0.5,0)))","v":0},{"$f":"INT(IF(F68=1,I68*0.3333,0))","v":0},{"$f":"IF(H68=\"عامل تعاقد\",225,IF(H68=\"معلم تعاقد\",300,0))","v":0},null,null,null,null,null,null,{"$f":"IF($B68>0,(SUM(R68:AD68)-50),0)","v":0},{"$f":"IF(CB68<250,(CB68*0.006),IF(CB68<500,(CB68*0.0065),IF(CB68<1000,(CB68*0.007),IF(CB68<5000,(CB68*0.0075),IF(CB68>5000,(CB68*0.008),\" \" )))))","v":0},0,null,null,null,{"$f":"#VALUE!","v":{"$error":"#VALUE!"}},{"$f":"#VALUE!","v":{"$error":"#VALUE!"}}]
[66,null,0,null,null,0,null,null,null,null,null,null,null,null,null,null,{"$f":"IF(E69=\"متزوج\",2,IF(E69=\"متزوج+1\",4,IF(E69=\"متزوج+2\",6,IF(E69=\"متزوجة\",2,0))))","v":0},null,null,null,null,null,null,null,null,null,{"$f":"BU69","v":0},null,null,null,null,null,null,null,null,null,null,null,null,null,null,null,null,null,null,null,null,null,null,null,null,null,null,null,null,null,null,null,null,null,null,null,null,{"$f":"IF(H69=\"معلم مساعد\",10,IF(H69=\"معلم تعاقد\",10,IF(H69=\"معلم\",10,IF(H69=\"معلم أول\",10,IF(H69=\"معلم أول أ\",10,IF(H69=\"خبير\",10,IF(H69=\"كبير\",10,IF(H69=\"عامل تعاقد\",0,\"\"))))))))","v":""},{"$f":"IF(H69=\"عقد مميز\",I69*0/100,IF(H69=\"معلم تعاقد\",I69*0/100,IF(H69=\"معلم\",I69*50/100,IF(H69=\"معلم أول\",I69*50/100,IF(H69=\"معلم أول أ\",I69*50/100,IF(H69=\"خبير\",I69*50/100,IF(H69=\"كبير\",I69*50/100,)))))))","v":0},{"$f":"IF(H69=\"معلم مساعد\",I69*50/100,IF(H69=\"عامل تعاقد\",I69*0/100,IF(H69=\"معلم\",I69*50/100,IF(H69=\"معلم أول\",I69*50/100,IF(H69=\"معلم أول أ\",I69*50/100,IF(H69=\"خبير\",I69*50/100,IF(H69=\"كبير\",I69*50/100,)))))))","v":0},0,0,0,0,0,0,0,null,null,null,null,null,null,0,0,{"$f":"CEILING($CC69,0.05)","v":0},null,null,null,{"$f":"#VALUE!","v":{"$error":"#VALUE!"}},{"$f":"#VALUE!","v":{"$error":"#VALUE!"}}]
[67,null,0,null,null,0,null,null,null,null,null,null,null,null,null,null,0,null,null,null,null,null,null,null,null,null,0,null,null,null,null,null,null,null,null,null,null,null,null,null,null,null,null,null,null,null,null,null,null,null,null,null,null,null,null,null,null,null,null,null,null,null,null,"",0,0,{"$f":"IF(H70=\"إدارى\",I70*0,IF(H70=\"معلم مساعد\",I70*0/100,IF(H70=\"معلم\",I70*50/100,IF(H70=\"معلم أول\",I70*75/100,IF(H70=\"معلم أول أ\",I70*100/100,IF(H70=\"خبير\",I70*125/100,IF(H70=\"كبير\",I70*150/100,)))))))","v":0},0,0,0,0,0,0,null,null,null,null,null,null,0,0,0,null,null,null,{"$f":"#VALUE!","v":{"$error":"#VALUE!"}},{"$f":"#VALUE!","v":{"$error":"#VALUE!"}}]
[68,null,0,null,null,0,null,null,null,null,null,null,null,null,null,null,0,null,null,null,null,null,null,null,null,null,0,null,null,null,null,null,null,null,null,null,null,null,null,null,null,null,null,null,null,null,null,null,null,null,null,null,null,null,null,null,null,null,null,null,null,null,null,"",0,0,0,0,0,0,0,0,0,null,null,null,null,null,null,0,0,0,null,null,null,{"$f":"#VALUE!","v":{"$error":"#VALUE!"}},{"$f":"#VALUE!","v":{"$error":"#VALUE!"}}]
[69,null,{"$f":"IF(D72=\"نقابى\",1,IF(D72=\"حالة خاصة\",2,0))","v":0},null,null,0,null,null,null,null,null,null,null,null,null,null,0,null,null,null,null,null,null,null,null,null,0,null,null,null,null,null,null,null,null,null,null,null,null,null,null,null,null,null,null,null,null,null,null,null,null,null,null,null,null,null,null,null,null,null,null,null,null,"",0,0,0,0,0,0,0,0,0,null,null,null,null,null,null,0,0,0,null,null,null,{"$f":"#VALUE!","v":{"$error":"#VALUE!"}},{"$f":"#VALUE!","v":{"$error":"#VALUE!"}}]
[70,null,0,null,null,0,null,null,null,null,null,null,null,null,null,null,0,null,null,null,null,null,null,null,null,null,0,null,null,null,null,null,null,null,null,null,null,null,null,null,null,null,null,null,null,null,null,null,null,null,null,null,null,null,null,null,null,null,null,null,null,null,null,"",0,0,0,0,0,0,0,0,0,null,null,null,null,null,null,0,0,0,null,null,null,{"$f":"#VALUE!","v":{"$error":"#VALUE!"}},{"$f":"#VALUE!","v":{"$error":"#VALUE!"}}]
[71,null,0,null,null,0,null,null,null,null,null,null,null,null,null,null,0,null,null,null,null,null,null,null,null,null,0,null,null,null,null,null,null,null,null,null,null,null,null,null,null,null,null,null,null,null,null,null,null,null,null,null,null,null,null,null,null,null,null,null,null,null,null,"",0,0,0,0,0,0,0,0,0,null,null,null,null,null,null,0,0,0,null,null,null,{"$f":"#VALUE!","v":{"$error":"#VALUE!"}},{"$f":"#VALUE!","v":{"$error":"#VALUE!"}}]
[72,null,0,null,null,0,null,null,null,null,null,null,null,null,null,null,0,null,null,null,null,null,null,null,null,null,0,null,null,null,null,null,null,null,null,null,null,null,null,null,null,null,null,null,null,null,null,null,null,null,null,null,null,null,null,null,null,null,null,null,null,null,null,"",0,0,0,0,0,0,0,0,0,null,null,null,null,null,null,0,0,0,null,null,null,{"$f":"#VALUE!","v":{"$error":"#VALUE!"}},{"$f":"#VALUE!","v":{"$error":"#VALUE!"}}]
[73,null,0,null,null,0,null,null,null,null,null,null,null,null,null,null,0,null,null,null,null,null,null,null,null,null,0,null,null,null,null,null,null,null,null,null,null,null,null,null,null,null,null,null,null,null,null,null,null,null,null,null,null,null,null,null,null,null,null,null,null,null,null,"",0,0,0,0,0,0,0,0,0,null,null,null,null,null,null,0,0,0,null,null,null,{"$f":"#VALUE!","v":{"$error":"#VALUE!"}},{"$f":"#VALUE!","v":{"$error":"#VALUE!"}}]
[74,null,0,null,null,0,null,null,null,null,null,null,null,null,null,null,0,null,null,null,null,null,null,null,null,null,0,null,null,null,null,null,null,null,null,null,null,null,null,null,null,null,null,null,null,null,null,null,null,null,null,null,null,null,null,null,null,null,null,null,null,null,null,"",0,0,0,0,0,0,0,0,0,null,null,null,null,null,null,0,0,0,null,null,null,{"$f":"#VALUE!","v":{"$error":"#VALUE!"}},{"$f":"#VALUE!","v":{"$error":"#VALUE!"}}]
[75,null,0,null,null,0,null,null,null,null,null,null,null,null,null,null,0,null,null,null,null,null,null,null,null,null,0,null,null,null,null,null,null,null,null,null,null,null,null,null,null,null,null,null,null,null,null,null,null,null,null,null,null,null,null,null,null,null,null,null,null,null,null,"",0,0,0,0,0,0,0,0,0,null,null,null,null,null,null,0,0,0,null,null,null,{"$f":"#VALUE!","v":{"$error":"#VALUE!"}},{"$f":"#VALUE!","v":{"$error":"#VALUE!"}}]
[76,null,0,null,null,0,null,null,null,null,null,null,null,null,null,null,0,null,null,null,null,null,null,null,null,null,0,null,null,null,null,null,null,null,null,null,null,null,null,null,null,null,null,null,null,null,null,null,null,null,null,null,null,null,null,null,null,null,null,null,null,null,null,"",0,0,0,0,0,0,0,0,0,null,null,null,null,null,null,0,0,0,null,null,null,{"$f":"#VALUE!","v":{"$error":"#VALUE!"}},{"$f":"#VALUE!","v":{"$error":"#VALUE!"}}]
[77,null,0,null,null,0,null,null,null,null,null,null,null,null,null,null,0,null,null,null,null,null,null,null,null,null,0,null,null,null,null,null,null,null,null,null,null,null,null,null,null,null,null,null,null,null,null,null,null,null,null,null,null,null,null,null,null,null,null,null,null,null,null,"",0,0,0,0,0,0,0,0,0,null,null,null,null,null,null,0,0,0,null,null,null,{"$f":"#VALUE!","v":{"$error":"#VALUE!"}},{"$f":"#VALUE!","v":{"$error":"#VALUE!"}}]
[78,null,0,null,null,0,null,null,null,null,null,null,null,null,null,null,0,null,null,null,null,null,null,null,null,null,0,null,null,null,null,null,null,null,null,null,null,null,null,null,null,null,null,null,null,null,null,null,null,null,null,null,null,null,null,null,null,null,null,null,null,null,null,"",0,0,0,0,0,0,0,0,0,null,null,null,null,null,null,0,0,0,null,null,null,{"$f":"#VALUE!","v":{"$error":"#VALUE!"}},{"$f":"#VALUE!","v":{"$error":"#VALUE!"}}]
[79,null,0,null,null,0,null,null,null,null,null,null,null,null,null,null,0,null,null,null,null,null,null,null,null,null,0,null,null,null,null,null,null,null,null,null,null,null,null,null,null,null,null,null,null,null,null,null,null,null,null,null,null,null,null,null,null,null,null,null,null,null,null,"",0,0,0,0,0,0,0,0,0,null,null,null,null,null,null,0,0,0,null,null,null,{"$f":"#VALUE!","v":{"$error":"#VALUE!"}},{"$f":"#VALUE!","v":{"$error":"#VALUE!"}}]
[80,null,0,null,null,0,null,null,null,null,null,null,null,null,null,null,0,null,null,null,null,null,null,null,null,null,0,null,null,null,null,null,null,null,null,null,null,null,null,null,null,null,null,null,null,null,null,null,null,null,null,null,null,null,null,null,null,null,null,null,null,null,null,"",0,0,0,0,0,0,0,0,0,null,null,null,null,null,null,0,0,0,null,null,null,{"$f":"#VALUE!","v":{"$error":"#VALUE!"}},{"$f":"#VALUE!","v":{"$error":"#VALUE!"}}]
[81,null,0,null,null,0,null,null,null,null,null,null,null,null,null,null,0,null,null,null,null,null,null,null,null,null,0,null,null,null,null,null,null,null,null,null,null,null,null,null,null,null,null,null,null,null,null,null,null,null,null,null,null,null,null,null,null,null,null,null,null,null,null,"",0,0,0,0,0,0,0,0,0,null,null,null,null,null,null,0,0,0,null,null,null,{"$f":"#VALUE!","v":{"$error":"#VALUE!"}},{"$f":"#VALUE!","v":{"$error":"#VALUE!"}}]
[82,null,0,null,null,0,null,null,null,null,null,null,null,null,null,null,0,null,null,null,null,null,null,null,null,null,0,null,null,null,null,null,null,null,null,null,null,null,null,null,null,null,null,null,null,null,null,null,null,null,null,null,null,null,null,null,null,null,null,null,null,null,null,"",0,0,0,0,0,0,0,0,0,null,null,null,null,null,null,0,0,0,null,null,null,{"$f":"#VALUE!","v":{"$error":"#VALUE!"}},{"$f":"#VALUE!","v":{"$error":"#VALUE!"}}]
[83,null,0,null,null,0,null,null,null,null,null,null,null,null,null,null,0,null,null,null,null,null,null,null,null,null,0,null,null,null,null,null,null,null,null,null,null,null,null,null,null,null,null,null,null,null,null,null,null,null,null,null,null,null,null,null,null,null,null,null,null,null,null,"",0,0,0,0,0,0,0,0,0,null,null,null,null,null,null,0,0,0,null,null,null,{"$f":"#VALUE!","v":{"$error":"#VALUE!"}},{"$f":"#VALUE!","v":{"$error":"#VALUE!"}}]
[84,null,0,null,null,0,null,null,null,null,null,null,null,null,null,null,0,null,null,null,null,null,null,null,null,null,0,null,null,null,null,null,null,null,null,null,null,null,null,null,null,null,null,null,null,null,null,null,null,null,null,null,null,null,null,null,null,null,null,null,null,null,null,"",0,0,0,0,0,0,0,0,0,null,null,null,null,null,null,0,0,0,null,null,null,{"$f":"#VALUE!","v":{"$error":"#VALUE!"}},{"$f":"#VALUE!","v":{"$error":"#VALUE!"}}]
[85,null,0,null,null,0,null,null,null,null,null,null,null,null,null,null,0,null,null,null,null,null,null,null,null,null,0,null,null,null,null,null,null,null,null,null,null,null,null,null,null,null,null,null,null,null,null,null,null,null,null,null,null,null,null,null,null,null,null,null,null,null,null,"",0,0,0,0,0,0,0,0,0,null,null,null,null,null,null,0,0,0,null,null,null,{"$f":"#VALUE!","v":{"$error":"#VALUE!"}},{"$f":"#VALUE!","v":{"$error":"#VALUE!"}}]
[83,null,0,null,null,0,null,null,null,null,null,null,null,null,null,null,0,null,null,null,null,null,null,null,null,null,0,null,null,null,null,null,null,null,null,null,null,null,null,null,null,null,null,null,null,null,null,null,null,null,null,null,null,null,null,null,null,null,null,null,null,null,null,"",0,0,0,0,0,0,0,0,0,null,null,null,null,null,null,0,0,0,null,null,null,{"$f":"#VALUE!","v":{"$error":"#VALUE!"}},{"$f":"#VALUE!","v":{"$error":"#VALUE!"}}]
[84,null,0,null,null,0,null,null,null,null,null,null,null,null,null,null,0,null,null,null,null,null,null,null,null,null,0,null,null,null,null,null,null,null,null,null,null,null,null,null,null,null,null,null,null,null,null,null,null,null,null,null,null,null,null,null,null,null,null,null,null,null,null,"",0,0,0,0,0,0,0,0,0,null,null,null,null,null,null,0,0,0,null,null,null,{"$f":"#VALUE!","v":{"$error":"#VALUE!"}},{"$f":"#VALUE!","v":{"$error":"#VALUE!"}}]
[88,null,0,null,null,0,null,null,null,null,null,null,null,null,null,null,0,null,null,null,null,null,null,null,null,null,0,null,null,null,null,null,null,null,null,null,null,null,null,null,null,null,null,null,null,null,null,null,null,null,null,null,null,null,null,null,null,null,null,null,null,null,null,"",0,0,0,0,0,0,0,0,0,null,null,null,null,null,null,0,0,0,null,null,null,{"$f":"#VALUE!","v":{"$error":"#VALUE!"}},{"$f":"#VALUE!","v":{"$error":"#VALUE!"}}]
[89,null,0,null,null,0,null,null,null,null,null,null,null,null,null,null,0,null,null,null,null,null,null,null,null,null,0,null,null,null,null,null,null,null,null,null,null,null,null,null,null,null,null,null,null,null,null,null,null,null,null,null,null,null,null,null,null,null,null,null,null,null,null,"",0,0,0,0,0,0,0,0,0,null,null,null,null,null,null,0,0,0,null,null,null,{"$f":"#VALUE!","v":{"$error":"#VALUE!"}},{"$f":"#VALUE!","v":{"$error":"#VALUE!"}}]
[90,null,0,null,null,0,null,null,null,null,null,null,null,null,null,null,0,null,null,null,null,null,null,null,null,null,0,null,null,null,null,null,null,null,null,null,null,null,null,null,null,null,null,null,null,null,null,null,null,null,null,null,null,null,null,null,null,null,null,null,null,null,null,"",0,0,0,0,0,0,0,0,0,null,null,null,null,null,null,0,0,0,null,null,null,{"$f":"#VALUE!","v":{"$error":"#VALUE!"}},{"$f":"#VALUE!","v":{"$error":"#VALUE!"}}]
[91,null,0,null,null,0,null,null,null,null,null,null,null,null,null,null,0,null,null,null,null,null,null,null,null,null,0,null,null,null,null,null,null,null,null,null,null,null,null,null,null,null,null,null,null,null,null,null,null,null,null,null,null,null,null,null,null,null,null,null,null,null,null,"",0,0,0,0,0,0,0,0,0,null,null,null,null,null,null,0,0,0,null,null,null,{"$f":"#VALUE!","v":{"$error":"#VALUE!"}},{"$f":"#VALUE!","v":{"$error":"#VALUE!"}}]
[92,null,0,null,null,0,null,null,null,null,null,null,null,null,null,null,0,null,null,null,null,null,null,null,null,null,0,null,null,null,null,null,null,null,null,null,null,null,null,null,null,null,null,null,null,null,null,null,null,null,null,null,null,null,null,null,null,null,null,null,null,null,null,"",0,0,0,0,0,0,0,0,0,null,null,null,null,null,null,0,0,0,null,null,null,{"$f":"#VALUE!","v":{"$error":"#VALUE!"}},{"$f":"#VALUE!","v":{"$error":"#VALUE!"}}]
[93,null,0,null,null,0,null,null,null,null,null,null,null,null,null,null,0,null,null,null,null,null,null,null,null,null,0,null,null,null,null,null,null,null,null,null,null,null,null,null,null,null,null,null,null,null,null,null,null,null,null,null,null,null,null,null,null,null,null,null,null,null,null,"",0,0,0,0,0,0,0,0,0,null,null,null,null,null,null,0,0,0,null,null,null,{"$f":"#VALUE!","v":{"$error":"#VALUE!"}},{"$f":"#VALUE!","v":{"$error":"#VALUE!"}}]
[94,null,0,null,null,0,null,null,null,null,null,null,null,null,null,null,0,null,null,null,null,null,null,null,null,null,0,null,null,null,null,null,null,null,null,null,null,null,null,null,null,null,null,null,null,null,null,null,null,null,null,null,null,null,null,null,null,null,null,null,null,null,null,"",0,0,0,0,0,0,0,0,0,null,null,null,null,null,null,0,0,0,null,null,null,{"$f":"#VALUE!","v":{"$error":"#VALUE!"}},{"$f":"#VALUE!","v":{"$error":"#VALUE!"}}]
[95,null,0,null,null,0,null,null,null,null,null,null,null,null,null,null,0,null,null,null,null,null,null,null,null,null,0,null,null,null,null,null,null,null,null,null,null,null,null,null,null,null,null,null,null,null,null,null,null,null,null,null,null,null,null,null,null,null,null,null,null,null,null,"",0,0,0,0,0,0,0,0,0,null,null,null,null,null,null,0,0,0,null,null,null,{"$f":"#VALUE!","v":{"$error":"#VALUE!"}},{"$f":"#VALUE!","v":{"$error":"#VALUE!"}}]
[96,null,0,null,null,0,null,null,null,null,null,null,null,null,null,null,0,null,null,null,null,null,null,null,null,null,0,null,null,null,null,null,null,null,null,null,null,null,null,null,null,null,null,null,null,null,null,null,null,null,null,null,null,null,null,null,null,null,null,null,null,null,null,"",0,0,0,0,0,0,0,0,0,null,null,null,null,null,null,0,0,0,null,null,null,{"$f":"#VALUE!","v":{"$error":"#VALUE!"}},{"$f":"#VALUE!","v":{"$error":"#VALUE!"}}]
[97,null,0,null,null,0,null,null,null,null,null,null,null,null,null,null,0,null,null,null,null,null,null,null,null,null,0,null,null,null,null,null,null,null,null,null,null,null,null,null,null,null,null,null,null,null,null,null,null,null,null,null,null,null,null,null,null,null,null,null,null,null,null,"",0,0,0,0,0,0,0,0,0,null,null,null,null,null,null,0,0,0,null,null,null,{"$f":"#VALUE!","v":{"$error":"#VALUE!"}},{"$f":"#VALUE!","v":{"$error":"#VALUE!"}}]
[98,null,0,null,null,0,null,null,null,null,null,null,null,null,null,null,0,null,null,null,null,null,null,null,null,null,0,null,null,null,null,null,null,null,null,null,null,null,null,null,null,null,null,null,null,null,null,null,null,null,null,null,null,null,null,null,null,null,null,null,null,null,null,"",0,0,0,0,0,0,0,0,0,null,null,null,null,null,null,0,0,0,null,null,null,{"$f":"#VALUE!","v":{"$error":"#VALUE!"}},{"$f":"#VALUE!","v":{"$error":"#VALUE!"}}]
[99,null,0,null,null,0,null,null,null,null,null,null,null,null,null,null,0,null,null,null,null,null,null,null,null,null,0,null,null,null,null,null,null,null,null,null,null,null,null,null,null,null,null,null,null,null,null,null,null,null,null,null,null,null,null,null,null,null,null,null,null,null,null,"",0,0,0,0,0,0,0,0,0,null,null,null,null,null,null,0,0,0,null,null,null,{"$f":"#VALUE!","v":{"$error":"#VALUE!"}},{"$f":"#VALUE!","v":{"$error":"#VALUE!"}}]
[100,null,0,null,null,0,null,null,null,null,null,null,null,null,null,null,0,null,null,null,null,null,null,null,null,null,0,null,null,null,null,null,null,null,null,null,null,null,null,null,null,null,null,null,null,null,null,null,null,null,null,null,null,null,null,null,null,null,null,null,null,null,null,"",0,0,0,0,0,0,0,0,0,null,null,null,null,null,null,0,0,0,null,null,null,{"$f":"#VALUE!","v":{"$error":"#VALUE!"}},{"$f":"#VALUE!","v":{"$error":"#VALUE!"}}]
[null,null,0,null,null,0,null,null,null,null,null,null,null,null,null,null,0,null,null,null,null,null,null,null,null,null,0,null,null,null,null,null,null,null,null,null,null,null,null,null,null,null,null,null,null,null,null,null,null,null,null,null,null,null,null,null,null,null,null,null,null,null,null,"",0,0,0,0,0,0,0,0,0,null,null,null,null,null,null,0,0,0,null,null,null,{"$f":"#VALUE!","v":{"$error":"#VALUE!"}},{"$f":"#VALUE!","v":{"$error":"#VALUE!"}}]
[null,null,0,null,null,0,null,null,null,null,null,null,null,null,null,null,0,null,null,null,null,null,null,null,null,null,0,null,null,null,null,null,null,null,null,null,null,null,null,null,null,null,null,null,null,null,null,null,null,null,null,null,null,null,null,null,null,null,null,null,null,null,null,"",0,0,0,0,0,0,0,0,0,null,null,null,null,null,null,0,0,0,null,null,null,{"$f":"#VALUE!","v":{"$error":"#VALUE!"}},{"$f":"#VALUE!","v":{"$error":"#VALUE!"}}]
[null,null,0,null,null,0,null,null,null,null,null,null,null,null,null,null,0,null,null,null,null,null,null,null,null,null,0,null,null,null,null,null,null,null,null,null,null,null,null,null,null,null,null,null,null,null,null,null,null,null,null,null,null,null,null,null,null,null,null,null,null,null,null,"",0,0,0,0,0,0,0,0,0,null,null,null,null,null,null,0,0,0,null,null,null,{"$f":"#VALUE!","v":{"$error":"#VALUE!"}},{"$f":"#VALUE!","v":{"$error":"#VALUE!"}}]
[null,null,0,null,null,0,null,null,null,null,null,null,null,null,null,null,0,null,null,null,null,null,null,null,null,null,0,null,null,null,null,null,null,null,null,null,null,null,null,null,null,null,null,null,null,null,null,null,null,null,null,null,null,null,null,null,null,null,null,null,null,null,null,"",0,0,0,0,0,0,0,0,0,null,null,null,null,null,null,0,0,0,null,null,null,{"$f":"#VALUE!","v":{"$error":"#VALUE!"}},{"$f":"#VALUE!","v":{"$error":"#VALUE!"}}]
[null,null,0,null,null,0,null,null,null,null,null,null,null,null,null,null,0,null,null,null,null,null,null,null,null,null,0,null,null,null,null,null,null,null,null,null,null,null,null,null,null,null,null,null,null,null,null,null,null,null,null,null,null,null,null,null,null,null,null,null,null,null,null,"",0,0,0,0,0,0,0,0,0,null,null,null,null,null,null,0,0,0,null,null,null,{"$f":"#VALUE!","v":{"$error":"#VALUE!"}},{"$f":"#VALUE!","v":{"$error":"#VALUE!"}}]
[null,null,0,null,null,0,null,null,null,null,null,null,null,null,null,null,0,null,null,null,null,null,null,null,null,null,0,null,null,null,null,null,null,null,null,null,null,null,null,null,null,null,null,null,null,null,null,null,null,null,null,null,null,null,null,null,null,null,null,null,null,null,null,"",0,0,0,0,0,0,0,0,0,null,null,null,null,null,null,0,0,0,null,null,null,{"$f":"#VALUE!","v":{"$error":"#VALUE!"}},{"$f":"#VALUE!","v":{"$error":"#VALUE!"}}]
[null,null,0,null,null,0,null,null,null,null,null,null,null,null,null,null,0,null,null,null,null,null,null,null,null,null,0,null,null,null,null,null,null,null,null,null,null,null,null,null,null,null,null,null,null,null,null,null,null,null,null,null,null,null,null,null,null,null,null,null,null,null,null,"",0,0,0,0,0,0,0,0,0,null,null,null,null,null,null,0,0,0,null,null,null,{"$f":"#VALUE!","v":{"$error":"#VALUE!"}},{"$f":"#VALUE!","v":{"$error":"#VALUE!"}}]
[null,null,0,null,null,0,null,null,null,null,null,null,null,null,null,null,0,null,null,null,null,null,null,null,null,null,0,null,null,null,null,null,null,null,null,null,null,null,null,null,null,null,null,null,null,null,null,null,null,null,null,null,null,null,null,null,null,null,null,null,null,null,null,"",0,0,0,0,0,0,0,0,0,null,null,null,null,null,null,0,0,0,null,null,null,{"$f":"#VALUE!","v":{"$error":"#VALUE!"}},{"$f":"#VALUE!","v":{"$error":"#VALUE!"}}]
[null,null,0,null,null,0,null,null,null,null,null,null,null,null,null,null,0,null,null,null,null,null,null,null,null,null,0,null,null,null,null,null,null,null,null,null,null,null,null,null,null,null,null,null,null,null,null,null,null,null,null,null,null,null,null,null,null,null,null,null,null,null,null,"",0,0,0,0,0,0,0,0,0,null,null,null,null,null,null,0,0,0,null,null,null,{"$f":"#VALUE!","v":{"$error":"#VALUE!"}},{"$f":"#VALUE!","v":{"$error":"#VALUE!"}}]
[null,null,0,null,null,0,null,null,null,null,null,null,null,null,null,null,0,null,null,null,null,null,null,null,null,null,0,null,null,null,null,null,null,null,null,null,null,null,null,null,null,null,null,null,null,null,null,null,null,null,null,null,null,null,null,null,null,null,null,null,null,null,null,"",0,0,0,0,0,0,0,0,0,null,null,null,null,null,null,0,0,0,null,null,null,{"$f":"#VALUE!","v":{"$error":"#VALUE!"}},{"$f":"#VALUE!","v":{"$error":"#VALUE!"}}]
[null,null,0,null,null,0,null,null,null,null,null,null,null,null,null,null,0,null,null,null,null,null,null,null,null,null,0,null,null,null,null,null,null,null,null,null,null,null,null,null,null,null,null,null,null,null,null,null,null,null,null,null,null,null,null,null,null,null,null,null,null,null,null,"",0,0,0,0,0,0,0,0,0,null,null,null,null,null,null,0,0,0,null,null,null,{"$f":"#VALUE!","v":{"$error":"#VALUE!"}},{"$f":"#VALUE!","v":{"$error":"#VALUE!"}}]
[null,null,0,null,null,0,null,null,null,null,null,null,null,null,null,null,0,null,null,null,null,null,null,null,null,null,0,null,null,null,null,null,null,null,null,null,null,null,null,null,null,null,null,null,null,null,null,null,null,null,null,null,null,null,null,null,null,null,null,null,null,null,null,"",0,0,0,0,0,0,0,0,0,null,null,null,null,null,null,0,0,0,null,null,null,{"$f":"#VALUE!","v":{"$error":"#VALUE!"}},{"$f":"#VALUE!","v":{"$error":"#VALUE!"}}]
[null,null,0,null,null,0,null,null,null,null,null,null,null,null,null,null,0,null,null,null,null,null,null,null,null,null,0,null,null,null,null,null,null,null,null,null,null,null,null,null,null,null,null,null,null,null,null,null,null,null,null,null,null,null,null,null,null,null,null,null,null,null,null,"",0,0,0,0,0,0,0,0,0,null,null,null,null,null,null,0,0,0,null,null,null,{"$f":"#VALUE!","v":{"$error":"#VALUE!"}},{"$f":"#VALUE!","v":{"$error":"#VALUE!"}}]
[null,null,0,"غير نقابى",null,0,null,null,null,null,null,null,null,null,null,null,0,null,null,null,null,null,null,null,null,null,0,null,null,null,null,null,null,null,null,null,null,null,null,null,null,null,null,null,null,null,null,null,null,null,null,null,null,null,null,null,null,null,null,null,null,null,null,"",0,0,0,0,0,0,0,0,0,null,null,null,null,null,null,0,0,0,null,null,null,{"$f":"#VALUE!","v":{"$error":"#VALUE!"}},{"$f":"#VALUE!","v":{"$error":"#VALUE!"}}]
[null,null,0,null,null,0,null,null,null,null,null,null,null,null,null,null,0,null,null,null,null,null,null,null,null,null,0,null,null,null,null,null,null,null,null,null,null,null,null,null,null,null,null,null,null,null,null,null,null,null,null,null,null,null,null,null,null,null,null,null,null,null,null,"",0,0,0,0,0,0,0,0,0,null,null,null,null,null,null,0,0,0,null,null,null,{"$f":"#VALUE!","v":{"$error":"#VALUE!"}},{"$f":"#VALUE!","v":{"$error":"#VALUE!"}}]
[null,null,0,null,null,0,null,null,null,null,null,null,null,null,null,null,0,null,null,null,null,null,null,null,null,null,0,null,null,null,null,null,null,null,null,null,null,null,null,null,null,null,null,null,null,null,null,null,null,null,null,null,null,null,null,null,null,null,null,null,null,null,null,"",0,0,0,0,0,0,0,0,0,null,null,null,null,null,null,0,0,0,null,null,null,{"$f":"#VALUE!","v":{"$error":"#VALUE!"}},{"$f":"#VALUE!","v":{"$error":"#VALUE!"}}]
[null,null,0,null,null,0,null,null,null,null,null,null,null,null,null,null,0,null,null,null,null,null,null,null,null,null,0,null,null,null,null,null,null,null,null,null,null,null,null,null,null,null,null,null,null,null,null,null,null,null,null,null,null,null,null,null,null,null,null,null,null,null,null,"",0,0,0,0,0,0,0,0,0,null,null,null,null,null,null,0,0,0,null,null,null,{"$f":"#VALUE!","v":{"$error":"#VALUE!"}},{"$f":"#VALUE!","v":{"$error":"#VALUE!"}}]
[null,null,0,null,null,0,null,null,null,null,null,null,null,null,null,null,0,null,null,null,null,null,null,null,null,null,0,null,null,null,null,null,null,null,null,null,null,null,null,null,null,null,null,null,null,null,null,null,null,null,null,null,null,null,null,null,null,null,null,null,null,null,null,"",0,0,0,0,0,0,0,0,0,null,null,null,null,null,null,0,0,0,null,null,null,{"$f":"#VALUE!","v":{"$error":"#VALUE!"}},{"$f":"#VALUE!","v":{"$error":"#VALUE!"}}]
[null,null,0,null,null,0,null,null,null,null,null,null,null,null,null,null,0,null,null,null,null,null,null,null,null,null,0,null,null,null,null,null,null,null,null,null,null,null,null,null,null,null,null,null,null,null,null,null,null,null,null,null,null,null,null,null,null,null,null,null,null,null,null,"",0,0,0,0,0,0,0,0,0,null,null,null,null,null,null,0,0,0,null,null,null,{"$f":"#VALUE!","v":{"$error":"#VALUE!"}},{"$f":"#VALUE!","v":{"$error":"#VALUE!"}}]
[null,null,0,null,null,0,null,null,null,null,null,null,null,null,null,null,0,null,null,null,null,null,null,null,null,null,0,null,null,null,null,null,null,null,null,null,null,null,null,null,null,null,null,null,null,null,null,null,null,null,null,null,null,null,null,null,null,null,null,null,null,null,null,"",0,0,0,0,0,0,0,0,0,null,null,null,null,null,null,0,0,0,null,null,null,{"$f":"#VALUE!","v":{"$error":"#VALUE!"}},{"$f":"#VALUE!","v":{"$error":"#VALUE!"}}]
[null,null,0,null,null,0,null,null,null,null,null,null,null,null,null,null,0,null,null,null,null,null,null,null,null,null,0,null,null,null,null,null,null,null,null,null,null,null,null,null,null,null,null,null,null,null,null,null,null,null,null,null,null,null,null,null,null,null,null,null,null,null,null,"",0,0,0,0,0,0,0,0,0,null,null,null,null,null,null,0,0,0,null,null,null,{"$f":"#VALUE!","v":{"$error":"#VALUE!"}},{"$f":"#VALUE!","v":{"$error":"#VALUE!"}}]
[null,null,0,null,null,0,null,null,null,null,null,null,null,null,null,null,0,null,null,null,null,null,null,null,null,null,0,null,null,null,null,null,null,null,null,null,null,null,null,null,null,null,null,null,null,null,null,null,null,null,null,null,null,null,null,null,null,null,null,null,null,null,null,"",0,0,0,0,0,0,0,0,0,null,null,null,null,null,null,0,0,0,null,null,null,{"$f":"#VALUE!","v":{"$error":"#VALUE!"}},{"$f":"#VALUE!","v":{"$error":"#VALUE!"}}]
[null,null,0,null,null,0,null,null,null,null,null,null,null,null,null,null,0,null,null,null,null,null,null,null,null,null,0,null,null,null,null,null,null,null,null,null,null,null,null,null,null,null,null,null,null,null,null,null,null,null,null,null,null,null,null,null,null,null,null,null,null,null,null,"",0,0,0,0,0,0,0,0,0,null,null,null,null,null,null,0,0,0,null,null,null,{"$f":"#VALUE!","v":{"$error":"#VALUE!"}},{"$f":"#VALUE!","v":{"$error":"#VALUE!"}}]
[null,null,0,null,null,0,null,null,null,null,null,null,null,null,null,null,0,null,null,null,null,null,null,null,null,null,0,null,null,null,null,null,null,null,null,null,null,null,null,null,null,null,null,null,null,null,null,null,null,null,null,null,null,null,null,null,null,null,null,null,null,null,null,"",0,0,0,0,0,0,0,0,0,null,null,null,null,null,null,0,0,0,null,null,null,{"$f":"#VALUE!","v":{"$error":"#VALUE!"}},{"$f":"#VALUE!","v":{"$error":"#VALUE!"}}]
[null,null,0,null,null,0,null,null,null,null,null,null,null,null,null,null,0,null,null,null,null,null,null,null,null,null,0,null,null,null,null,null,null,null,null,null,null,null,null,null,null,null,null,null,null,null,null,null,null,null,null,null,null,null,null,null,null,null,null,null,null,null,null,"",0,0,0,0,0,0,0,0,0,null,null,null,null,null,null,0,0,0,null,null,null,{"$f":"#VALUE!","v":{"$error":"#VALUE!"}},{"$f":"#VALUE!","v":{"$error":"#VALUE!"}}]
[null,null,0,null,null,0,null,null,null,null,null,null,null,null,null,null,0,null,null,null,null,null,null,null,null,null,0,null,null,null,null,null,null,null,null,null,null,null,null,null,null,null,null,null,null,null,null,null,null,null,null,null,null,null,null,null,null,null,null,null,null,null,null,"",0,0,0,0,0,0,0,0,0,null,null,null,null,null,null,0,0,0,null,null,null,{"$f":"#VALUE!","v":{"$error":"#VALUE!"}},{"$f":"#VALUE!","v":{"$error":"#VALUE!"}}]
[null,null,0,null,null,0,null,null,null,null,null,null,null,null,null,null,0,null,null,null,null,null,null,null,null,null,0,null,null,null,null,null,null,null,null,null,null,null,null,null,null,null,null,null,null,null,null,null,null,null,null,null,null,null,null,null,null,null,null,null,null,null,null,"",0,0,0,0,0,0,0,0,0,null,null,null,null,null,null,0,0,0,null,null,null,{"$f":"#VALUE!","v":{"$error":"#VALUE!"}},{"$f":"#VALUE!","v":{"$error":"#VALUE!"}}]
[null,null,0,null,null,0,null,null,null,null,null,null,null,null,null,null,0,null,null,null,null,null,null,null,null,null,0,null,null,null,null,null,null,null,null,null,null,null,null,null,null,null,null,null,null,null,null,null,null,null,null,null,null,null,null,null,null,null,null,null,null,null,null,"",0,0,0,0,0,0,0,0,0,null,null,null,null,null,null,0,0,0,null,null,null,{"$f":"#VALUE!","v":{"$error":"#VALUE!"}},{"$f":"#VALUE!","v":{"$error":"#VALUE!"}}]
[null,null,0,null,null,0,null,null,null,null,null,null,null,null,null,null,0,null,null,null,null,null,null,null,null,null,0,null,null,null,null,null,null,null,null,null,null,null,null,null,null,null,null,null,null,null,null,null,null,null,null,null,null,null,null,null,null,null,null,null,null,null,null,"",0,0,0,{"$f":"INT(IF(H132=\"عامل تعاقد\",I132*25/100,IF(H132=\"معلم مساعد\",I132*25/100,IF(H132=\"معلم\",I132*25/100,IF(H132=\"معلم أول\",I132*25/100,IF(H132=\"معلم أول أ\",I132*25/100,IF(H132=\"خبير\",I132*25/100,IF(H132=\"كبير\",I132*25/100,))))))))","v":0},{"$f":"INT(IF(H132=\"إدارى\",J132*0/100,IF(H132=\"معلم مساعد\",I132*125/100,IF(H132=\"معلم\",I132*75/100,IF(H132=\"معلم أول\",I132*50/100,IF(H132=\"معلم أول أ\",I132*25/100,IF(H132=\"خبير\",I132*25/100,IF(H132=\"كبير\",I132*25/100,))))))))","v":0},{"$f":"INT(IF(H132=\"عامل تعاقد\",I132*0.9166,IF(H132=\"معلم تعاقد\",I132*0.9166,0)))","v":0},{"$f":"INT(IF(H132=\"عامل تعاقد\",I132*0.5,IF(H132=\"معلم تعاقد\",I132*0.5,0)))","v":0},{"$f":"INT(IF(F132=1,I132*0.3333,0))","v":0},{"$f":"IF(H132=\"عامل تعاقد\",225,IF(H132=\"معلم تعاقد\",300,0))","v":0},null,null,null,null,null,null,{"$f":"IF($B132>0,(SUM(R132:AD132)-50),0)","v":0},{"$f":"IF(CB132<250,(CB132*0.006),IF(CB132<500,(CB132*0.0065),IF(CB132<1000,(CB132*0.007),IF(CB132<5000,(CB132*0.0075),IF(CB132>5000,(CB132*0.008),\" \" )))))","v":0},0,null,null,null,{"$f":"#VALUE!","v":{"$error":"#VALUE!"}},{"$f":"#VALUE!","v":{"$error":"#VALUE!"}}]
[null,null,0,null,null,0,null,null,null,null,null,null,null,null,null,null,{"$f":"IF(E133=\"متزوج\",2,IF(E133=\"متزوج+1\",4,IF(E133=\"متزوج+2\",6,IF(E133=\"متزوجة\",2,0))))","v":0},null,null,null,null,null,null,null,null,null,{"$f":"BU133","v":0},null,null,null,null,null,null,null,null,null,null,null,null,null,null,null,null,null,null,null,null,null,null,null,null,null,null,null,null,null,null,null,null,null,null,null,null,{"$f":"IF(H133=\"معلم مساعد\",10,IF(H133=\"معلم تعاقد\",10,IF(H133=\"معلم\",10,IF(H133=\"معلم أول\",10,IF(H133=\"معلم أول أ\",10,IF(H133=\"خبير\",10,IF(H133=\"كبير\",10,IF(H133=\"عامل تعاقد\",0,\"\"))))))))","v":""},{"$f":"IF(H133=\"عقد مميز\",I133*0/100,IF(H133=\"معلم تعاقد\",I133*0/100,IF(H133=\"معلم\",I133*50/100,IF(H133=\"معلم أول\",I133*50/100,IF(H133=\"معلم أول أ\",I133*50/100,IF(H133=\"خبير\",I133*50/100,IF(H133=\"كبير\",I133*50/100,)))))))","v":0},{"$f":"IF(H133=\"معلم مساعد\",I133*50/100,IF(H133=\"عامل تعاقد\",I133*0/100,IF(H133=\"معلم\",I133*50/100,IF(H133=\"معلم أول\",I133*50/100,IF(H133=\"معلم أول أ\",I133*50/100,IF(H133=\"خبير\",I133*50/100,IF(H133=\"كبير\",I133*50/100,)))))))","v":0},0,0,0,0,0,0,0,null,null,null,null,null,null,0,0,{"$f":"CEILING($CC133,0.05)","v":0},null,null,null,{"$f":"#VALUE!","v":{"$error":"#VALUE!"}},{"$f":"#VALUE!","v":{"$error":"#VALUE!"}}]
[null,null,0,null,null,0,null,null,null,null,null,null,null,null,null,null,0,null,null,null,null,null,null,null,null,null,0,null,null,null,null,null,null,null,null,null,null,null,null,null,null,null,null,null,null,null,null,null,null,null,null,null,null,null,null,null,null,null,null,null,null,null,null,"",0,0,{"$f":"IF(H134=\"إدارى\",I134*0,IF(H134=\"معلم مساعد\",I134*0/100,IF(H134=\"معلم\",I134*50/100,IF(H134=\"معلم أول\",I134*75/100,IF(H134=\"معلم أول أ\",I134*100/100,IF(H134=\"خبير\",I134*125/100,IF(H134=\"كبير\",I134*150/100,)))))))","v":0},0,0,0,0,0,0,null,null,null,null,null,null,0,0,0,null,null,null,{"$f":"#VALUE!","v":{"$error":"#VALUE!"}},{"$f":"#VALUE!","v":{"$error":"#VALUE!"}}]
[null,null,0,null,null,0,null,null,null,null,null,null,null,null,null,null,0,null,null,null,null,null,null,null,null,null,0,null,null,null,null,null,null,null,null,null,null,null,null,null,null,null,null,null,null,null,null,null,null,null,null,null,null,null,null,null,null,null,null,null,null,null,null,"",0,0,0,0,0,0,0,0,0,null,null,null,null,null,null,0,0,0,null,null,null,{"$f":"#VALUE!","v":{"$error":"#VALUE!"}},{"$f":"#VALUE!","v":{"$error":"#VALUE!"}}]
[null,null,{"$f":"IF(D136=\"نقابى\",1,IF(D136=\"حالة خاصة\",2,0))","v":0},null,null,0,null,null,null,null,null,null,null,null,null,null,0,null,null,null,null,null,null,null,null,null,0,null,null,null,null,null,null,null,null,null,null,null,null,null,null,null,null,null,null,null,null,null,null,null,null,null,null,null,null,null,null,null,null,null,null,null,null,"",0,0,0,0,0,0,0,0,0,null,null,null,null,null,null,0,0,0,null,null,null,{"$f":"#VALUE!","v":{"$error":"#VALUE!"}},{"$f":"#VALUE!","v":{"$error":"#VALUE!"}}]
[null,null,0,null,null,0,null,null,null,null,null,null,null,null,null,null,0,null,null,null,null,null,null,null,null,null,0,null,null,null,null,null,null,null,null,null,null,null,null,null,null,null,null,null,null,null,null,null,null,null,null,null,null,null,null,null,null,null,null,null,null,null,null,"",0,0,0,0,0,0,0,0,0,null,null,null,null,null,null,0,0,0,null,null,null,{"$f":"#VALUE!","v":{"$error":"#VALUE!"}},{"$f":"#VALUE!","v":{"$error":"#VALUE!"}}]
[null,null,0,null,null,0,null,null,null,null,null,null,null,null,null,null,0,null,null,null,null,null,null,null,null,null,0,null,null,null,null,null,null,null,null,null,null,null,null,null,null,null,null,null,null,null,null,null,null,null,null,null,null,null,null,null,null,null,null,null,null,null,null,"",0,0,0,0,0,0,0,0,0,null,null,null,null,null,null,0,0,0,null,null,null,{"$f":"#VALUE!","v":{"$error":"#VALUE!"}},{"$f":"#VALUE!","v":{"$error":"#VALUE!"}}]
[null,null,0,null,null,0,null,null,null,null,null,null,null,null,null,null,0,null,null,null,null,null,null,null,null,null,0,null,null,null,null,null,null,null,null,null,null,null,null,null,null,null,null,null,null,null,null,null,null,null,null,null,null,null,null,null,null,null,null,null,null,null,null,"",0,0,0,0,0,0,0,0,0,null,null,null,null,null,null,0,0,0,null,null,null,{"$f":"#VALUE!","v":{"$error":"#VALUE!"}},{"$f":"#VALUE!","v":{"$error":"#VALUE!"}}]
[null,null,0,null,null,0,null,null,null,null,null,null,null,null,null,null,0,null,null,null,null,null,null,null,null,null,0,null,null,null,null,null,null,null,null,null,null,null,null,null,null,null,null,null,null,null,null,null,null,null,null,null,null,null,null,null,null,null,null,null,null,null,null,"",0,0,0,0,0,0,0,0,0,null,null,null,null,null,null,0,0,0,null,null,null,{"$f":"#VALUE!","v":{"$error":"#VALUE!"}},{"$f":"#VALUE!","v":{"$error":"#VALUE!"}}]
[null,null,0,null,null,0,null,null,null,null,null,null,null,null,null,null,0,null,null,null,null,null,null,null,null,null,0,null,null,null,null,null,null,null,null,null,null,null,null,null,null,null,null,null,null,null,null,null,null,null,null,null,null,null,null,null,null,null,null,null,null,null,null,"",0,0,0,0,0,0,0,0,0,null,null,null,null,null,null,0,0,0,null,null,null,{"$f":"#VALUE!","v":{"$error":"#VALUE!"}},{"$f":"#VALUE!","v":{"$error":"#VALUE!"}}]
[null,null,0,null,null,0,null,null,null,null,null,null,null,null,null,null,0,null,null,null,null,null,null,null,null,null,0,null,null,null,null,null,null,null,null,null,null,null,null,null,null,null,null,null,null,null,null,null,null,null,null,null,null,null,null,null,null,null,null,null,null,null,null,"",0,0,0,0,0,0,0,0,0,null,null,null,null,null,null,0,0,0,null,null,null,{"$f":"#VALUE!","v":{"$error":"#VALUE!"}},{"$f":"#VALUE!","v":{"$error":"#VALUE!"}}]
[null,null,0,null,null,0,null,null,null,null,null,null,null,null,null,null,0,null,null,null,null,null,null,null,null,null,0,null,null,null,null,null,null,null,null,null,null,null,null,null,null,null,null,null,null,null,null,null,null,null,null,null,null,null,null,null,null,null,null,null,null,null,null,"",0,0,0,0,0,0,0,0,0,null,null,null,null,null,null,0,0,0,null,null,null,{"$f":"#VALUE!","v":{"$error":"#VALUE!"}},{"$f":"#VALUE!","v":{"$error":"#VALUE!"}}]
[null,null,0,null,null,0,null,null,null,null,null,null,null,null,null,null,0,null,null,null,null,null,null,null,null,null,0,null,null,null,null,null,null,null,null,null,null,null,null,null,null,null,null,null,null,null,null,null,null,null,null,null,null,null,null,null,null,null,null,null,null,null,null,"",0,0,0,0,0,0,0,0,0,null,null,null,null,null,null,0,0,0,null,null,null,{"$f":"#VALUE!","v":{"$error":"#VALUE!"}},{"$f":"#VALUE!","v":{"$error":"#VALUE!"}}]
[null,null,0,null,null,0,null,null,null,null,null,null,null,null,null,null,0,null,null,null,null,null,null,null,null,null,0,null,null,null,null,null,null,null,null,null,null,null,null,null,null,null,null,null,null,null,null,null,null,null,null,null,null,null,null,null,null,null,null,null,null,null,null,"",0,0,0,0,0,0,0,0,0,null,null,null,null,null,null,0,0,0,null,null,null,{"$f":"#VALUE!","v":{"$error":"#VALUE!"}},{"$f":"#VALUE!","v":{"$error":"#VALUE!"}}]
[null,null,0,null,null,0,null,null,null,null,null,null,null,null,null,null,0,null,null,null,null,null,null,null,null,null,0,null,null,null,null,null,null,null,null,null,null,null,null,null,null,null,null,null,null,null,null,null,null,null,null,null,null,null,null,null,null,null,null,null,null,null,null,"",0,0,0,0,0,0,0,0,0,null,null,null,null,null,null,0,0,0,null,null,null,{"$f":"#VALUE!","v":{"$error":"#VALUE!"}},{"$f":"#VALUE!","v":{"$error":"#VALUE!"}}]
[null,null,0,null,null,0,null,null,null,null,null,null,null,null,null,null,0,null,null,null,null,null,null,null,null,null,0,null,null,null,null,null,null,null,null,null,null,null,null,null,null,null,null,null,null,null,null,null,null,null,null,null,null,null,null,null,null,null,null,null,null,null,null,"",0,0,0,0,0,0,0,0,0,null,null,null,null,null,null,0,0,0,null,null,null,{"$f":"#VALUE!","v":{"$error":"#VALUE!"}},{"$f":"#VALUE!","v":{"$error":"#VALUE!"}}]
[null,null,0,null,null,0,null,null,null,null,null,null,null,null,null,null,0,null,null,null,null,null,null,null,null,null,0,null,null,null,null,null,null,null,null,null,null,null,null,null,null,null,null,null,null,null,null,null,null,null,null,null,null,null,null,null,null,null,null,null,null,null,null,"",0,0,0,0,0,0,0,0,0,null,null,null,null,null,null,0,0,0,null,null,null,{"$f":"#VALUE!","v":{"$error":"#VALUE!"}},{"$f":"#VALUE!","v":{"$error":"#VALUE!"}}]
[null,null,0,null,null,0,null,null,null,null,null,null,null,null,null,null,0,null,null,null,null,null,null,null,null,null,0,null,null,null,null,null,null,null,null,null,null,null,null,null,null,null,null,null,null,null,null,null,null,null,null,null,null,null,null,null,null,null,null,null,null,null,null,"",0,0,0,0,0,0,0,0,0,null,null,null,null,null,null,0,0,0,null,null,null,{"$f":"#VALUE!","v":{"$error":"#VALUE!"}},{"$f":"#VALUE!","v":{"$error":"#VALUE!"}}]
[null,null,0,null,null,0,null,null,null,null,null,null,null,null,null,null,0,null,null,null,null,null,null,null,null,null,0,null,null,null,null,null,null,null,null,null,null,null,null,null,null,null,null,null,null,null,null,null,null,null,null,null,null,null,null,null,null,null,null,null,null,null,null,"",0,0,0,0,0,0,0,0,0,null,null,null,null,null,null,0,0,0,null,null,null,{"$f":"#VALUE!","v":{"$error":"#VALUE!"}},{"$f":"#VALUE!","v":{"$error":"#VALUE!"}}]
[null,null,0,null,null,0,null,null,null,null,null,null,null,null,null,null,0,null,null,null,null,null,null,null,null,null,0,null,null,null,null,null,null,null,null,null,null,null,null,null,null,null,null,null,null,null,null,null,null,null,null,null,null,null,null,null,null,null,null,null,null,null,null,"",0,0,0,0,0,0,0,0,0,null,null,null,null,null,null,0,0,0,null,null,null,{"$f":"#VALUE!","v":{"$error":"#VALUE!"}},{"$f":"#VALUE!","v":{"$error":"#VALUE!"}}]
[null,null,0,null,null,0,null,null,null,null,null,null,null,null,null,null,0,null,null,null,null,null,null,null,null,null,0,null,null,null,null,null,null,null,null,null,null,null,null,null,null,null,null,null,null,null,null,null,null,null,null,null,null,null,null,null,null,null,null,null,null,null,null,"",0,0,0,0,0,0,0,0,0,null,null,null,null,null,null,0,0,0,null,null,null,{"$f":"#VALUE!","v":{"$error":"#VALUE!"}},{"$f":"#VALUE!","v":{"$error":"#VALUE!"}}]
[null,null,0,null,null,0,null,null,null,null,null,null,null,null,null,null,0,null,null,null,null,null,null,null,null,null,0,null,null,null,null,null,null,null,null,null,null,null,null,null,null,null,null,null,null,null,null,null,null,null,null,null,null,null,null,null,null,null,null,null,null,null,null,"",0,0,0,0,0,0,0,0,0,null,null,null,null,null,null,0,0,0,null,null,null,{"$f":"#VALUE!","v":{"$error":"#VALUE!"}},{"$f":"#VALUE!","v":{"$error":"#VALUE!"}}]
[null,null,0,null,null,0,null,null,null,null,null,null,null,null,null,null,0,null,null,null,null,null,null,null,null,null,0,null,null,null,null,null,null,null,null,null,null,null,null,null,null,null,null,null,null,null,null,null,null,null,null,null,null,null,null,null,null,null,null,null,null,null,null,"",0,0,0,0,0,0,0,0,0,null,null,null,null,null,null,0,0,0,null,null,null,{"$f":"#VALUE!","v":{"$error":"#VALUE!"}},{"$f":"#VALUE!","v":{"$error":"#VALUE!"}}]
[null,null,0,null,null,0,null,null,null,null,null,null,null,null,null,null,0,null,null,null,null,null,null,null,null,null,0,null,null,null,null,null,null,null,null,null,null,null,null,null,null,null,null,null,null,null,null,null,null,null,null,null,null,null,null,null,null,null,null,null,null,null,null,"",0,0,0,0,0,0,0,0,0,null,null,null,null,null,null,0,0,0,null,null,null,{"$f":"#VALUE!","v":{"$error":"#VALUE!"}},{"$f":"#VALUE!","v":{"$error":"#VALUE!"}}]
[null,null,0,null,null,0,null,null,null,null,null,null,null,null,null,null,0,null,null,null,null,null,null,null,null,null,0,null,null,null,null,null,null,null,null,null,null,null,null,null,null,null,null,null,null,null,null,null,null,null,null,null,null,null,null,null,null,null,null,null,null,null,null,"",0,0,0,0,0,0,0,0,0,null,null,null,null,null,null,0,0,0,null,null,null,{"$f":"#VALUE!","v":{"$error":"#VALUE!"}},{"$f":"#VALUE!","v":{"$error":"#VALUE!"}}]
[null,null,0,null,null,0,null,null,null,null,null,null,null,null,null,null,0,null,null,null,null,null,null,null,null,null,0,null,null,null,null,null,null,null,null,null,null,null,null,null,null,null,null,null,null,null,null,null,null,null,null,null,null,null,null,null,null,null,null,null,null,null,null,"",0,0,0,0,0,0,0,0,0,null,null,null,null,null,null,0,0,0,null,null,null,{"$f":"#VALUE!","v":{"$error":"#VALUE!"}},{"$f":"#VALUE!","v":{"$error":"#VALUE!"}}]
[null,null,0,null,null,0,null,null,null,null,null,null,null,null,null,null,0,null,null,null,null,null,null,null,null,null,0,null,null,null,null,null,null,null,null,null,null,null,null,null,null,null,null,null,null,null,null,null,null,null,null,null,null,null,null,null,null,null,null,null,null,null,null,"",0,0,0,0,0,0,0,0,0,null,null,null,null,null,null,0,0,0,null,null,null,{"$f":"#VALUE!","v":{"$error":"#VALUE!"}},{"$f":"#VALUE!","v":{"$error":"#VALUE!"}}]
[null,null,0,null,null,0,null,null,null,null,null,null,null,null,null,null,0,null,null,null,null,null,null,null,null,null,0,null,null,null,null,null,null,null,null,null,null,null,null,null,null,null,null,null,null,null,null,null,null,null,null,null,null,null,null,null,null,null,null,null,null,null,null,"",0,0,0,0,0,0,0,0,0,null,null,null,null,null,null,0,0,0,null,null,null,{"$f":"#VALUE!","v":{"$error":"#VALUE!"}},{"$f":"#VALUE!","v":{"$error":"#VALUE!"}}]
[null,null,0,null,null,0,null,null,null,null,null,null,null,null,null,null,0,null,null,null,null,null,null,null,null,null,0,null,null,null,null,null,null,null,null,null,null,null,null,null,null,null,null,null,null,null,null,null,null,null,null,null,null,null,null,null,null,null,null,null,null,null,null,"",0,0,0,0,0,0,0,0,0,null,null,null,null,null,null,0,0,0,null,null,null,{"$f":"#VALUE!","v":{"$error":"#VALUE!"}},{"$f":"#VALUE!","v":{"$error":"#VALUE!"}}]
[null,null,0,null,null,0,null,null,null,null,null,null,null,null,null,null,0,null,null,null,null,null,null,null,null,null,0,null,null,null,null,null,null,null,null,null,null,null,null,null,null,null,null,null,null,null,null,null,null,null,null,null,null,null,null,null,null,null,null,null,null,null,null,"",0,0,0,0,0,0,0,0,0,null,null,null,null,null,null,0,0,0,null,null,null,{"$f":"#VALUE!","v":{"$error":"#VALUE!"}},{"$f":"#VALUE!","v":{"$error":"#VALUE!"}}]
[null,null,0,null,null,0,null,null,null,null,null,null,null,null,null,null,0,null,null,null,null,null,null,null,null,null,0,null,null,null,null,null,null,null,null,null,null,null,null,null,null,null,null,null,null,null,null,null,null,null,null,null,null,null,null,null,null,null,null,null,null,null,null,"",0,0,0,0,0,0,0,0,0,null,null,null,null,null,null,0,0,0,null,null,null,{"$f":"#VALUE!","v":{"$error":"#VALUE!"}},{"$f":"#VALUE!","v":{"$error":"#VALUE!"}}]
[null,null,0,null,null,0,null,null,null,null,null,null,null,null,null,null,0,null,null,null,null,null,null,null,null,null,0,null,null,null,null,null,null,null,null,null,null,null,null,null,null,null,null,null,null,null,null,null,null,null,null,null,null,null,null,null,null,null,null,null,null,null,null,"",0,0,0,0,0,0,0,0,0,null,null,null,null,null,null,0,0,0,null,null,null,{"$f":"#VALUE!","v":{"$error":"#VALUE!"}},{"$f":"#VALUE!","v":{"$error":"#VALUE!"}}]
[null,null,0,null,null,0,null,null,null,null,null,null,null,null,null,null,0,null,null,null,null,null,null,null,null,null,0,null,null,null,null,null,null,null,null,null,null,null,null,null,null,null,null,null,null,null,null,null,null,null,null,null,null,null,null,null,null,null,null,null,null,null,null,"",0,0,0,0,0,0,0,0,0,null,null,null,null,null,null,0,0,0,null,null,null,{"$f":"#VALUE!","v":{"$error":"#VALUE!"}},{"$f":"#VALUE!","v":{"$error":"#VALUE!"}}]
[null,null,0,null,null,0,null,null,null,null,null,null,null,null,null,null,0,null,null,null,null,null,null,null,null,null,0,null,null,null,null,null,null,null,null,null,null,null,null,null,null,null,null,null,null,null,null,null,null,null,null,null,null,null,null,null,null,null,null,null,null,null,null,"",0,0,0,0,0,0,0,0,0,null,null,null,null,null,null,0,0,0,null,null,null,{"$f":"#VALUE!","v":{"$error":"#VALUE!"}},{"$f":"#VALUE!","v":{"$error":"#VALUE!"}}]
[null,null,0,null,null,0,null,null,null,null,null,null,null,null,null,null,0,null,null,null,null,null,null,null,null,null,0,null,null,null,null,null,null,null,null,null,null,null,null,null,null,null,null,null,null,null,null,null,null,null,null,null,null,null,null,null,null,null,null,null,null,null,null,"",0,0,0,0,0,0,0,0,0,null,null,null,null,null,null,0,0,0,null,null,null,{"$f":"#VALUE!","v":{"$error":"#VALUE!"}},{"$f":"#VALUE!","v":{"$error":"#VALUE!"}}]
[null,null,0,null,null,0,null,null,null,null,null,null,null,null,null,null,0,null,null,null,null,null,null,null,null,null,0,null,null,null,null,null,null,null,null,null,null,null,null,null,null,null,null,null,null,null,null,null,null,null,null,null,null,null,null,null,null,null,null,null,null,null,null,"",0,0,0,0,0,0,0,0,0,null,null,null,null,null,null,0,0,0,null,null,null,{"$f":"#VALUE!","v":{"$error":"#VALUE!"}},{"$f":"#VALUE!","v":{"$error":"#VALUE!"}}]
[null,null,0,null,null,0,null,null,null,null,null,null,null,null,null,null,0,null,null,null,null,null,null,null,null,null,0,null,null,null,null,null,null,null,null,null,null,null,null,null,null,null,null,null,null,null,null,null,null,null,null,null,null,null,null,null,null,null,null,null,null,null,null,"",0,0,0,0,0,0,0,0,0,null,null,null,null,null,null,0,0,0,null,null,null,{"$f":"#VALUE!","v":{"$error":"#VALUE!"}},{"$f":"#VALUE!","v":{"$error":"#VALUE!"}}]
[null,null,0,null,null,0,null,null,null,null,null,null,null,null,null,null,0,null,null,null,null,null,null,null,null,null,0,null,null,null,null,null,null,null,null,null,null,null,null,null,null,null,null,null,null,null,null,null,null,null,null,null,null,null,null,null,null,null,null,null,null,null,null,"",0,0,0,0,0,0,0,0,0,null,null,null,null,null,null,0,0,0,null,null,null,{"$f":"#VALUE!","v":{"$error":"#VALUE!"}},{"$f":"#VALUE!","v":{"$error":"#VALUE!"}}]
[null,null,0,null,null,0,null,null,null,null,null,null,null,null,null,null,0,null,null,null,null,null,null,null,null,null,0,null,null,null,null,null,null,null,null,null,null,null,null,null,null,null,null,null,null,null,null,null,null,null,null,null,null,null,null,null,null,null,null,null,null,null,null,"",0,0,0,0,0,0,0,0,0,null,null,null,null,null,null,0,0,0,null,null,null,{"$f":"#VALUE!","v":{"$error":"#VALUE!"}},{"$f":"#VALUE!","v":{"$error":"#VALUE!"}}]
[null,null,0,null,null,0,null,null,null,null,null,null,null,null,null,null,0,null,null,null,null,null,null,null,null,null,0,null,null,null,null,null,null,null,null,null,null,null,null,null,null,null,null,null,null,null,null,null,null,null,null,null,null,null,null,null,null,null,null,null,null,null,null,"",0,0,0,0,0,0,0,0,0,null,null,null,null,null,null,0,0,0,null,null,null,{"$f":"#VALUE!","v":{"$error":"#VALUE!"}},{"$f":"#VALUE!","v":{"$error":"#VALUE!"}}]
[null,null,0,null,null,0,null,null,null,null,null,null,null,null,null,null,0,null,null,null,null,null,null,null,null,null,0,null,null,null,null,null,null,null,null,null,null,null,null,null,null,null,null,null,null,null,null,null,null,null,null,null,null,null,null,null,null,null,null,null,null,null,null,"",0,0,0,0,0,0,0,0,0,null,null,null,null,null,null,0,0,0,null,null,null,{"$f":"#VALUE!","v":{"$error":"#VALUE!"}},{"$f":"#VALUE!","v":{"$error":"#VALUE!"}}]
[null,null,0,null,null,0,null,null,null,null,null,null,null,null,null,null,0,null,null,null,null,null,null,null,null,null,0,null,null,null,null,null,null,null,null,null,null,null,null,null,null,null,null,null,null,null,null,null,null,null,null,null,null,null,null,null,null,null,null,null,null,null,null,"",0,0,0,0,0,0,0,0,0,null,null,null,null,null,null,0,0,0,null,null,null,{"$f":"#VALUE!","v":{"$error":"#VALUE!"}},{"$f":"#VALUE!","v":{"$error":"#VALUE!"}}]
[null,null,0,null,null,0,null,null,null,null,null,null,null,null,null,null,0,null,null,null,null,null,null,null,null,null,0,null,null,null,null,null,null,null,null,null,null,null,null,null,null,null,null,null,null,null,null,null,null,null,null,null,null,null,null,null,null,null,null,null,null,null,null,"",0,0,0,0,0,0,0,0,0,null,null,null,null,null,null,0,0,0,null,null,null,{"$f":"#VALUE!","v":{"$error":"#VALUE!"}},{"$f":"#VALUE!","v":{"$error":"#VALUE!"}}]
[null,null,0,null,null,0,null,null,null,null,null,null,null,null,null,null,0,null,null,null,null,null,null,null,null,null,0,null,null,null,null,null,null,null,null,null,null,null,null,null,null,null,null,null,null,null,null,null,null,null,null,null,null,null,null,null,null,null,null,null,null,null,null,"",0,0,0,0,0,0,0,0,0,null,null,null,null,null,null,0,0,0,null,null,null,{"$f":"#VALUE!","v":{"$error":"#VALUE!"}},{"$f":"#VALUE!","v":{"$error":"#VALUE!"}}]
[null,null,0,null,null,0,null,null,null,null,null,null,null,null,null,null,0,null,null,null,null,null,null,null,null,null,0,null,null,null,null,null,null,null,null,null,null,null,null,null,null,null,null,null,null,null,null,null,null,null,null,null,null,null,null,null,null,null,null,null,null,null,null,"",0,0,0,0,0,0,0,0,0,null,null,null,null,null,null,0,0,0,null,null,null,{"$f":"#VALUE!","v":{"$error":"#VALUE!"}},{"$f":"#VALUE!","v":{"$error":"#VALUE!"}}]
[null,null,0,null,null,0,null,null,null,null,null,null,null,null,null,null,0,null,null,null,null,null,null,null,null,null,0,null,null,null,null,null,null,null,null,null,null,null,null,null,null,null,null,null,null,null,null,null,null,null,null,null,null,null,null,null,null,null,null,null,null,null,null,"",0,0,0,0,0,0,0,0,0,null,null,null,null,null,null,0,0,0,null,null,null,{"$f":"#VALUE!","v":{"$error":"#VALUE!"}},{"$f":"#VALUE!","v":{"$error":"#VALUE!"}}]
[null,null,0,null,null,0,null,null,null,null,null,null,null,null,null,null,0,null,null,null,null,null,null,null,null,null,0,null,null,null,null,null,null,null,null,null,null,null,null,null,null,null,null,null,null,null,null,null,null,null,null,null,null,null,null,null,null,null,null,null,null,null,null,"",0,0,0,0,0,0,0,0,0,null,null,null,null,null,null,0,0,0,null,null,null,{"$f":"#VALUE!","v":{"$error":"#VALUE!"}},{"$f":"#VALUE!","v":{"$error":"#VALUE!"}}]
[null,null,0,null,null,0,null,null,null,null,null,null,null,null,null,null,0,null,null,null,null,null,null,null,null,null,0,null,null,null,null,null,null,null,null,null,null,null,null,null,null,null,null,null,null,null,null,null,null,null,null,null,null,null,null,null,null,null,null,null,null,null,null,"",0,0,0,0,0,0,0,0,0,null,null,null,null,null,null,0,0,0,null,null,null,{"$f":"#VALUE!","v":{"$error":"#VALUE!"}},{"$f":"#VALUE!","v":{"$error":"#VALUE!"}}]
[null,null,0,null,null,0,null,null,null,null,null,null,null,null,null,null,0,null,null,null,null,null,null,null,null,null,0,null,null,null,null,null,null,null,null,null,null,null,null,null,null,null,null,null,null,null,null,null,null,null,null,null,null,null,null,null,null,null,null,null,null,null,null,"",0,0,0,0,0,0,0,0,0,null,null,null,null,null,null,0,0,0,null,null,null,{"$f":"#VALUE!","v":{"$error":"#VALUE!"}},{"$f":"#VALUE!","v":{"$error":"#VALUE!"}}]
[null,null,0,null,null,0,null,null,null,null,null,null,null,null,null,null,0,null,null,null,null,null,null,null,null,null,0,null,null,null,null,null,null,null,null,null,null,null,null,null,null,null,null,null,null,null,null,null,null,null,null,null,null,null,null,null,null,null,null,null,null,null,null,"",0,0,0,0,0,0,0,0,0,null,null,null,null,null,null,0,0,0,null,null,null,{"$f":"#VALUE!","v":{"$error":"#VALUE!"}},{"$f":"#VALUE!","v":{"$error":"#VALUE!"}}]
[null,null,0,null,null,0,null,null,null,null,null,null,null,null,null,null,0,null,null,null,null,null,null,null,null,null,0,null,null,null,null,null,null,null,null,null,null,null,null,null,null,null,null,null,null,null,null,null,null,null,null,null,null,null,null,null,null,null,null,null,null,null,null,"",0,0,0,0,0,0,0,0,0,null,null,null,null,null,null,0,0,0,null,null,null,{"$f":"#VALUE!","v":{"$error":"#VALUE!"}},{"$f":"#VALUE!","v":{"$error":"#VALUE!"}}]
[null,null,0,null,null,0,null,null,null,null,null,null,null,null,null,null,0,null,null,null,null,null,null,null,null,null,0,null,null,null,null,null,null,null,null,null,null,null,null,null,null,null,null,null,null,null,null,null,null,null,null,null,null,null,null,null,null,null,null,null,null,null,null,"",0,0,0,0,0,0,0,0,0,null,null,null,null,null,null,0,0,0,null,null,null,{"$f":"#VALUE!","v":{"$error":"#VALUE!"}},{"$f":"#VALUE!","v":{"$error":"#VALUE!"}}]
[null,null,0,null,null,0,null,null,null,null,null,null,null,null,null,null,0,null,null,null,null,null,null,null,null,null,0,null,null,null,null,null,null,null,null,null,null,null,null,null,null,null,null,null,null,null,null,null,null,null,null,null,null,null,null,null,null,null,null,null,null,null,null,"",0,0,0,0,0,0,0,0,0,null,null,null,null,null,null,0,0,0,null,null,null,{"$f":"#VALUE!","v":{"$error":"#VALUE!"}},{"$f":"#VALUE!","v":{"$error":"#VALUE!"}}]
[null,null,0,null,null,0,null,null,null,null,null,null,null,null,null,null,0,null,null,null,null,null,null,null,null,null,0,null,null,null,null,null,null,null,null,null,null,null,null,null,null,null,null,null,null,null,null,null,null,null,null,null,null,null,null,null,null,null,null,null,null,null,null,"",0,0,0,0,0,0,0,0,0,null,null,null,null,null,null,0,0,0,null,null,null,{"$f":"#VALUE!","v":{"$error":"#VALUE!"}},{"$f":"#VALUE!","v":{"$error":"#VALUE!"}}]
[null,null,0,null,null,0,null,null,null,null,null,null,null,null,null,null,0,null,null,null,null,null,null,null,null,null,0,null,null,null,null,null,null,null,null,null,null,null,null,null,null,null,null,null,null,null,null,null,null,null,null,null,null,null,null,null,null,null,null,null,null,null,null,"",0,0,0,0,0,0,0,0,0,null,null,null,null,null,null,0,0,0,null,null,null,{"$f":"#VALUE!","v":{"$error":"#VALUE!"}},{"$f":"#VALUE!","v":{"$error":"#VALUE!"}}]
[null,null,0,null,null,0,null,null,null,null,null,null,null,null,null,null,0,null,null,null,null,null,null,null,null,null,0,null,null,null,null,null,null,null,null,null,null,null,null,null,null,null,null,null,null,null,null,null,null,null,null,null,null,null,null,null,null,null,null,null,null,null,null,"",0,0,0,0,0,0,0,0,0,null,null,null,null,null,null,0,0,0,null,null,null,{"$f":"#VALUE!","v":{"$error":"#VALUE!"}},{"$f":"#VALUE!","v":{"$error":"#VALUE!"}}]
[null,null,0,null,null,0,null,null,null,null,null,null,null,null,null,null,0,null,null,null,null,null,null,null,null,null,0,null,null,null,null,null,null,null,null,null,null,null,null,null,null,null,null,null,null,null,null,null,null,null,null,null,null,null,null,null,null,null,null,null,null,null,null,"",0,0,0,0,0,0,0,0,0,null,null,null,null,null,null,0,0,0,null,null,null,{"$f":"#VALUE!","v":{"$error":"#VALUE!"}},{"$f":"#VALUE!","v":{"$error":"#VALUE!"}}]
[null,null,0,null,null,0,null,null,null,null,null,null,null,null,null,null,0,null,null,null,null,null,null,null,null,null,0,null,null,null,null,null,null,null,null,null,null,null,null,null,null,null,null,null,null,null,null,null,null,null,null,null,null,null,null,null,null,null,null,null,null,null,null,"",0,0,0,0,0,0,0,0,0,null,null,null,null,null,null,0,0,0,null,null,null,{"$f":"#VALUE!","v":{"$error":"#VALUE!"}},{"$f":"#VALUE!","v":{"$error":"#VALUE!"}}]
[null,null,0,null,null,0,null,null,null,null,null,null,null,null,null,null,0,null,null,null,null,null,null,null,null,null,0,null,null,null,null,null,null,null,null,null,null,null,null,null,null,null,null,null,null,null,null,null,null,null,null,null,null,null,null,null,null,null,null,null,null,null,null,"",0,0,0,0,0,0,0,0,0,null,null,null,null,null,null,0,0,0,null,null,null,{"$f":"#VALUE!","v":{"$error":"#VALUE!"}},{"$f":"#VALUE!","v":{"$error":"#VALUE!"}}]
[null,null,0,null,null,0,null,null,null,null,null,null,null,null,null,null,0,null,null,null,null,null,null,null,null,null,0,null,null,null,null,null,null,null,null,null,null,null,null,null,null,null,null,null,null,null,null,null,null,null,null,null,null,null,null,null,null,null,null,null,null,null,null,"",0,0,0,0,0,0,0,0,0,null,null,null,null,null,null,0,0,0,null,null,null,{"$f":"#VALUE!","v":{"$error":"#VALUE!"}},{"$f":"#VALUE!","v":{"$error":"#VALUE!"}}]
[null,null,0,null,null,0,null,null,null,null,null,null,null,null,null,null,0,null,null,null,null,null,null,null,null,null,0,null,null,null,null,null,null,null,null,null,null,null,null,null,null,null,null,null,null,null,null,null,null,null,null,null,null,null,null,null,null,null,null,null,null,null,null,"",0,0,0,0,0,0,0,0,0,null,null,null,null,null,null,0,0,0,null,null,null,{"$f":"#VALUE!","v":{"$error":"#VALUE!"}},{"$f":"#VALUE!","v":{"$error":"#VALUE!"}}]
[null,null,0,null,null,0,null,null,null,null,null,null,null,null,null,null,0,null,null,null,null,null,null,null,null,null,0,null,null,null,null,null,null,null,null,null,null,null,null,null,null,null,null,null,null,null,null,null,null,null,null,null,null,null,null,null,null,null,null,null,null,null,null,"",0,0,0,0,0,0,0,0,0,null,null,null,null,null,null,0,0,0,null,null,null,{"$f":"#VALUE!","v":{"$error":"#VALUE!"}},{"$f":"#VALUE!","v":{"$error":"#VALUE!"}}]
[null,null,0,null,null,0,null,null,null,null,null,null,null,null,null,null,0,null,null,null,null,null,null,null,null,null,0,null,null,null,null,null,null,null,null,null,null,null,null,null,null,null,null,null,null,null,null,null,null,null,null,null,null,null,null,null,null,null,null,null,null,null,null,"",0,0,0,0,0,0,0,0,0,null,null,null,null,null,null,0,0,0,null,null,null,{"$f":"#VALUE!","v":{"$error":"#VALUE!"}},{"$f":"#VALUE!","v":{"$error":"#VALUE!"}}]
[null,null,0,null,null,0,null,null,null,null,null,null,null,null,null,null,0,null,null,null,null,null,null,null,null,null,0,null,null,null,null,null,null,null,null,null,null,null,null,null,null,null,null,null,null,null,null,null,null,null,null,null,null,null,null,null,null,null,null,null,null,null,null,"",0,0,0,0,0,0,0,0,0,null,null,null,null,null,null,0,0,0,null,null,null,{"$f":"#VALUE!","v":{"$error":"#VALUE!"}},{"$f":"#VALUE!","v":{"$error":"#VALUE!"}}]
[null,null,0,null,null,0,null,null,null,null,null,null,null,null,null,null,0,null,null,null,null,null,null,null,null,null,0,null,null,null,null,null,null,null,null,null,null,null,null,null,null,null,null,null,null,null,null,null,null,null,null,null,null,null,null,null,null,null,null,null,null,null,null,"",0,0,0,{"$f":"INT(IF(H196=\"عامل تعاقد\",I196*25/100,IF(H196=\"معلم مساعد\",I196*25/100,IF(H196=\"معلم\",I196*25/100,IF(H196=\"معلم أول\",I196*25/100,IF(H196=\"معلم أول أ\",I196*25/100,IF(H196=\"خبير\",I196*25/100,IF(H196=\"كبير\",I196*25/100,))))))))","v":0},{"$f":"INT(IF(H196=\"إدارى\",J196*0/100,IF(H196=\"معلم مساعد\",I196*125/100,IF(H196=\"معلم\",I196*75/100,IF(H196=\"معلم أول\",I196*50/100,IF(H196=\"معلم أول أ\",I196*25/100,IF(H196=\"خبير\",I196*25/100,IF(H196=\"كبير\",I196*25/100,))))))))","v":0},{"$f":"INT(IF(H196=\"عامل تعاقد\",I196*0.9166,IF(H196=\"معلم تعاقد\",I196*0.9166,0)))","v":0},{"$f":"INT(IF(H196=\"عامل تعاقد\",I196*0.5,IF(H196=\"معلم تعاقد\",I196*0.5,0)))","v":0},{"$f":"INT(IF(F196=1,I196*0.3333,0))","v":0},{"$f":"IF(H196=\"عامل تعاقد\",225,IF(H196=\"معلم تعاقد\",300,0))","v":0},null,null,null,null,null,null,{"$f":"IF($B196>0,(SUM(R196:AD196)-50),0)","v":0},{"$f":"IF(CB196<250,(CB196*0.006),IF(CB196<500,(CB196*0.0065),IF(CB196<1000,(CB196*0.007),IF(CB196<5000,(CB196*0.0075),IF(CB196>5000,(CB196*0.008),\" \" )))))","v":0},0,null,null,null,{"$f":"#VALUE!","v":{"$error":"#VALUE!"}},{"$f":"#VALUE!","v":{"$error":"#VALUE!"}}]
[null,null,0,null,null,0,null,null,null,null,null,null,null,null,null,null,{"$f":"IF(E197=\"متزوج\",2,IF(E197=\"متزوج+1\",4,IF(E197=\"متزوج+2\",6,IF(E197=\"متزوجة\",2,0))))","v":0},null,null,null,null,null,null,null,null,null,{"$f":"BU197","v":0},null,null,null,null,null,null,null,null,null,null,null,null,null,null,null,null,null,null,null,null,null,null,null,null,null,null,null,null,null,null,null,null,null,null,null,null,{"$f":"IF(H197=\"معلم مساعد\",10,IF(H197=\"معلم تعاقد\",10,IF(H197=\"معلم\",10,IF(H197=\"معلم أول\",10,IF(H197=\"معلم أول أ\",10,IF(H197=\"خبير\",10,IF(H197=\"كبير\",10,IF(H197=\"عامل تعاقد\",0,\"\"))))))))","v":""},{"$f":"IF(H197=\"عقد مميز\",I197*0/100,IF(H197=\"معلم تعاقد\",I197*0/100,IF(H197=\"معلم\",I197*50/100,IF(H197=\"معلم أول\",I197*50/100,IF(H197=\"معلم أول أ\",I197*50/100,IF(H197=\"خبير\",I197*50/100,IF(H197=\"كبير\",I197*50/100,)))))))","v":0},{"$f":"IF(H197=\"معلم مساعد\",I197*50/100,IF(H197=\"عامل تعاقد\",I197*0/100,IF(H197=\"معلم\",I197*50/100,IF(H197=\"معلم أول\",I197*50/100,IF(H197=\"معلم أول أ\",I197*50/100,IF(H197=\"خبير\",I197*50/100,IF(H197=\"كبير\",I197*50/100,)))))))","v":0},0,0,0,0,0,0,0,null,null,null,null,null,null,0,0,{"$f":"CEILING($CC197,0.05)","v":0},null,null,null,{"$f":"#VALUE!","v":{"$error":"#VALUE!"}},{"$f":"#VALUE!","v":{"$error":"#VALUE!"}}]
[null,null,0,null,null,0,null,null,null,null,null,null,null,null,null,null,0,null,null,null,null,null,null,null,null,null,0,null,null,null,null,null,null,null,null,null,null,null,null,null,null,null,null,null,null,null,null,null,null,null,null,null,null,null,null,null,null,null,null,null,null,null,null,"",0,0,{"$f":"IF(H198=\"إدارى\",I198*0,IF(H198=\"معلم مساعد\",I198*0/100,IF(H198=\"معلم\",I198*50/100,IF(H198=\"معلم أول\",I198*75/100,IF(H198=\"معلم أول أ\",I198*100/100,IF(H198=\"خبير\",I198*125/100,IF(H198=\"كبير\",I198*150/100,)))))))","v":0},0,0,0,0,0,0,null,null,null,null,null,null,0,0,0,null,null,null,{"$f":"#VALUE!","v":{"$error":"#VALUE!"}},{"$f":"#VALUE!","v":{"$error":"#VALUE!"}}]
[null,null,0,null,null,0,null,null,null,null,null,null,null,null,null,null,0,null,null,null,null,null,null,null,null,null,0,null,null,null,null,null,null,null,null,null,null,null,null,null,null,null,null,null,null,null,null,null,null,null,null,null,null,null,null,null,null,null,null,null,null,null,null,"",0,0,0,0,0,0,0,0,0,null,null,null,null,null,null,0,0,0,null,null,null,{"$f":"#VALUE!","v":{"$error":"#VALUE!"}},{"$f":"#VALUE!","v":{"$error":"#VALUE!"}}]
[null,null,{"$f":"IF(D200=\"نقابى\",1,IF(D200=\"حالة خاصة\",2,0))","v":0},null,null,0,null,null,null,null,null,null,null,null,null,null,0,null,null,null,null,null,null,null,null,null,0,null,null,null,null,null,null,null,null,null,null,null,null,null,null,null,null,null,null,null,null,null,null,null,null,null,null,null,null,null,null,null,null,null,null,null,null,"",0,0,0,0,0,0,0,0,0,null,null,null,null,null,null,0,0,0,null,null,null,{"$f":"#VALUE!","v":{"$error":"#VALUE!"}},{"$f":"#VALUE!","v":{"$error":"#VALUE!"}}]
[null,null,0,null,null,0,null,null,null,null,null,null,null,null,null,null,0,null,null,null,null,null,null,null,null,null,0,null,null,null,null,null,null,null,null,null,null,null,null,null,null,null,null,null,null,null,null,null,null,null,null,null,null,null,null,null,null,null,null,null,null,null,null,"",0,0,0,0,0,0,0,0,0,null,null,null,null,null,null,0,0,0,null,null,null,{"$f":"#VALUE!","v":{"$error":"#VALUE!"}},{"$f":"#VALUE!","v":{"$error":"#VALUE!"}}]
[null,null,0,null,null,0,null,null,null,null,null,null,null,null,null,null,0,null,null,null,null,null,null,null,null,null,0,null,null,null,null,null,null,null,null,null,null,null,null,null,null,null,null,null,null,null,null,null,null,null,null,null,null,null,null,null,null,null,null,null,null,null,null,"",0,0,0,0,0,0,0,0,0,null,null,null,null,null,null,0,0,0,null,null,null,{"$f":"#VALUE!","v":{"$error":"#VALUE!"}},{"$f":"#VALUE!","v":{"$error":"#VALUE!"}}]
[null,null,0,null,null,0,null,null,null,null,null,null,null,null,null,null,0,null,null,null,null,null,null,null,null,null,0,null,null,null,null,null,null,null,null,null,null,null,null,null,null,null,null,null,null,null,null,null,null,null,null,null,null,null,null,null,null,null,null,null,null,null,null,"",0,0,0,0,0,0,0,0,0,null,null,null,null,null,null,0,0,0,null,null,null,{"$f":"#VALUE!","v":{"$error":"#VALUE!"}},{"$f":"#VALUE!","v":{"$error":"#VALUE!"}}]
[null,null,0,null,null,0,null,null,null,null,null,null,null,null,null,null,0,null,null,null,null,null,null,null,null,null,0,null,null,null,null,null,null,null,null,null,null,null,null,null,null,null,null,null,null,null,null,null,null,null,null,null,null,null,null,null,null,null,null,null,null,null,null,"",0,0,0,0,0,0,0,0,0,null,null,null,null,null,null,0,0,0,null,null,null,{"$f":"#VALUE!","v":{"$error":"#VALUE!"}},{"$f":"#VALUE!","v":{"$error":"#VALUE!"}}]
[null,null,0,null,null,0,null,null,null,null,null,null,null,null,null,null,0,null,null,null,null,null,null,null,null,null,0,null,null,null,null,null,null,null,null,null,null,null,null,null,null,null,null,null,null,null,null,null,null,null,null,null,null,null,null,null,null,null,null,null,null,null,null,"",0,0,0,0,0,0,0,0,0,null,null,null,null,null,null,0,0,0,null,null,null,{"$f":"#VALUE!","v":{"$error":"#VALUE!"}},{"$f":"#VALUE!","v":{"$error":"#VALUE!"}}]
[null,null,0,null,null,0,null,null,null,null,null,null,null,null,null,null,0,null,null,null,null,null,null,null,null,null,0,null,null,null,null,null,null,null,null,null,null,null,null,null,null,null,null,null,null,null,null,null,null,null,null,null,null,null,null,null,null,null,null,null,null,null,null,"",0,0,0,0,0,0,0,0,0,null,null,null,null,null,null,0,0,0,null,null,null,{"$f":"#VALUE!","v":{"$error":"#VALUE!"}},{"$f":"#VALUE!","v":{"$error":"#VALUE!"}}]
[null,null,0,null,null,0,null,null,null,null,null,null,null,null,null,null,0,null,null,null,null,null,null,null,null,null,0,null,null,null,null,null,null,null,null,null,null,null,null,null,null,null,null,null,null,null,null,null,null,null,null,null,null,null,null,null,null,null,null,null,null,null,null,"",0,0,0,0,0,0,0,0,0,null,null,null,null,null,null,0,0,0,null,null,null,{"$f":"#VALUE!","v":{"$error":"#VALUE!"}},{"$f":"#VALUE!","v":{"$error":"#VALUE!"}}]
[null,null,0,null,null,0,null,null,null,null,null,null,null,null,null,null,0,null,null,null,null,null,null,null,null,null,0,null,null,null,null,null,null,null,null,null,null,null,null,null,null,null,null,null,null,null,null,null,null,null,null,null,null,null,null,null,null,null,null,null,null,null,null,"",0,0,0,0,0,0,0,0,0,null,null,null,null,null,null,0,0,0,null,null,null,{"$f":"#VALUE!","v":{"$error":"#VALUE!"}},{"$f":"#VALUE!","v":{"$error":"#VALUE!"}}]
[null,null,0,null,null,0,null,null,null,null,null,null,null,null,null,null,0,null,null,null,null,null,null,null,null,null,0,null,null,null,null,null,null,null,null,null,null,null,null,null,null,null,null,null,null,null,null,null,null,null,null,null,null,null,null,null,null,null,null,null,null,null,null,"",0,0,0,0,0,0,0,0,0,null,null,null,null,null,null,0,0,0,null,null,null,{"$f":"#VALUE!","v":{"$error":"#VALUE!"}},{"$f":"#VALUE!","v":{"$error":"#VALUE!"}}]
[null,null,0,null,null,0,null,null,null,null,null,null,null,null,null,null,0,null,null,null,null,null,null,null,null,null,0,null,null,null,null,null,null,null,null,null,null,null,null,null,null,null,null,null,null,null,null,null,null,null,null,null,null,null,null,null,null,null,null,null,null,null,null,"",0,0,0,0,0,0,0,0,0,null,null,null,null,null,null,0,0,0,null,null,null,{"$f":"#VALUE!","v":{"$error":"#VALUE!"}},{"$f":"#VALUE!","v":{"$error":"#VALUE!"}}]
[null,null,0,null,null,0,null,null,null,null,null,null,null,null,null,null,0,null,null,null,null,null,null,null,null,null,0,null,null,null,null,null,null,null,null,null,null,null,null,null,null,null,null,null,null,null,null,null,null,null,null,null,null,null,null,null,null,null,null,null,null,null,null,"",0,0,0,0,0,0,0,0,0,null,null,null,null,null,null,0,0,0,null,null,null,{"$f":"#VALUE!","v":{"$error":"#VALUE!"}},{"$f":"#VALUE!","v":{"$error":"#VALUE!"}}]
[null,null,0,null,null,0,null,null,null,null,null,null,null,null,null,null,0,null,null,null,null,null,null,null,null,null,0,null,null,null,null,null,null,null,null,null,null,null,null,null,null,null,null,null,null,null,null,null,null,null,null,null,null,null,null,null,null,null,null,null,null,null,null,"",0,0,0,0,0,0,0,0,0,null,null,null,null,null,null,0,0,0,null,null,null,{"$f":"#VALUE!","v":{"$error":"#VALUE!"}},{"$f":"#VALUE!","v":{"$error":"#VALUE!"}}]
[null,null,0,null,null,0,null,null,null,null,null,null,null,null,null,null,0,null,null,null,null,null,null,null,null,null,0,null,null,null,null,null,null,null,null,null,null,null,null,null,null,null,null,null,null,null,null,null,null,null,null,null,null,null,null,null,null,null,null,null,null,null,null,"",0,0,0,0,0,0,0,0,0,null,null,null,null,null,null,0,0,0,null,null,null,{"$f":"#VALUE!","v":{"$error":"#VALUE!"}},{"$f":"#VALUE!","v":{"$error":"#VALUE!"}}]
[null,null,0,null,null,0,null,null,null,null,null,null,null,null,null,null,0,null,null,null,null,null,null,null,null,null,0,null,null,null,null,null,null,null,null,null,null,null,null,null,null,null,null,null,null,null,null,null,null,null,null,null,null,null,null,null,null,null,null,null,null,null,null,"",0,0,0,0,0,0,0,0,0,null,null,null,null,null,null,0,0,0,null,null,null,{"$f":"#VALUE!","v":{"$error":"#VALUE!"}},{"$f":"#VALUE!","v":{"$error":"#VALUE!"}}]
[null,null,0,null,null,0,null,null,null,null,null,null,null,null,null,null,0,null,null,null,null,null,null,null,null,null,0,null,null,null,null,null,null,null,null,null,null,null,null,null,null,null,null,null,null,null,null,null,null,null,null,null,null,null,null,null,null,null,null,null,null,null,null,"",0,0,0,0,0,0,0,0,0,null,null,null,null,null,null,0,0,0,null,null,null,{"$f":"#VALUE!","v":{"$error":"#VALUE!"}},{"$f":"#VALUE!","v":{"$error":"#VALUE!"}}]
[null,null,0,null,null,0,null,null,null,null,null,null,null,null,null,null,0,null,null,null,null,null,null,null,null,null,0,null,null,null,null,null,null,null,null,null,null,null,null,null,null,null,null,null,null,null,null,null,null,null,null,null,null,null,null,null,null,null,null,null,null,null,null,"",0,0,0,0,0,0,0,0,0,null,null,null,null,null,null,0,0,0,null,null,null,{"$f":"#VALUE!","v":{"$error":"#VALUE!"}},{"$f":"#VALUE!","v":{"$error":"#VALUE!"}}]
[null,null,0,null,null,0,null,null,null,null,null,null,null,null,null,null,0,null,null,null,null,null,null,null,null,null,0,null,null,null,null,null,null,null,null,null,null,null,null,null,null,null,null,null,null,null,null,null,null,null,null,null,null,null,null,null,null,null,null,null,null,null,null,"",0,0,0,0,0,0,0,0,0,null,null,null,null,null,null,0,0,0,null,null,null,{"$f":"#VALUE!","v":{"$error":"#VALUE!"}},{"$f":"#VALUE!","v":{"$error":"#VALUE!"}}]
[null,null,0,null,null,0,null,null,null,null,null,null,null,null,null,null,0,null,null,null,null,null,null,null,null,null,0,null,null,null,null,null,null,null,null,null,null,null,null,null,null,null,null,null,null,null,null,null,null,null,null,null,null,null,null,null,null,null,null,null,null,null,null,"",0,0,0,0,0,0,0,0,0,null,null,null,null,null,null,0,0,0,null,null,null,{"$f":"#VALUE!","v":{"$error":"#VALUE!"}},{"$f":"#VALUE!","v":{"$error":"#VALUE!"}}]
[null,null,0,null,null,0,null,null,null,null,null,null,null,null,null,null,0,null,null,null,null,null,null,null,null,null,0,null,null,null,null,null,null,null,null,null,null,null,null,null,null,null,null,null,null,null,null,null,null,null,null,null,null,null,null,null,null,null,null,null,null,null,null,"",0,0,0,0,0,0,0,0,0,null,null,null,null,null,null,0,0,0,null,null,null,{"$f":"#VALUE!","v":{"$error":"#VALUE!"}},{"$f":"#VALUE!","v":{"$error":"#VALUE!"}}]
[null,null,0,null,null,0,null,null,null,null,null,null,null,null,null,null,0,null,null,null,null,null,null,null,null,null,0,null,null,null,null,null,null,null,null,null,null,null,null,null,null,null,null,null,null,null,null,null,null,null,null,null,null,null,null,null,null,null,null,null,null,null,null,"",0,0,0,0,0,0,0,0,0,null,null,null,null,null,null,0,0,0,null,null,null,{"$f":"#VALUE!","v":{"$error":"#VALUE!"}},{"$f":"#VALUE!","v":{"$error":"#VALUE!"}}]
[null,null,0,null,null,0,null,null,null,null,null,null,null,null,null,null,0,null,null,null,null,null,null,null,null,null,0,null,null,null,null,null,null,null,null,null,null,null,null,null,null,null,null,null,null,null,null,null,null,null,null,null,null,null,null,null,null,null,null,null,null,null,null,"",0,0,0,0,0,0,0,0,0,null,null,null,null,null,null,0,0,0,null,null,null,{"$f":"#VALUE!","v":{"$error":"#VALUE!"}},{"$f":"#VALUE!","v":{"$error":"#VALUE!"}}]
[null,null,0,null,null,0,null,null,null,null,null,null,null,null,null,null,0,null,null,null,null,null,null,null,null,null,0,null,null,null,null,null,null,null,null,null,null,null,null,null,null,null,null,null,null,null,null,null,null,null,null,null,null,null,null,null,null,null,null,null,null,null,null,"",0,0,0,0,0,0,0,0,0,null,null,null,null,null,null,0,0,0,null,null,null,{"$f":"#VALUE!","v":{"$error":"#VALUE!"}},{"$f":"#VALUE!","v":{"$error":"#VALUE!"}}]
[null,null,0,null,null,0,null,null,null,null,null,null,null,null,null,null,0,null,null,null,null,null,null,null,null,null,0,null,null,null,null,null,null,null,null,null,null,null,null,null,null,null,null,null,null,null,null,null,null,null,null,null,null,null,null,null,null,null,null,null,null,null,null,"",0,0,0,0,0,0,0,0,0,null,null,null,null,null,null,0,0,0,null,null,null,{"$f":"#VALUE!","v":{"$error":"#VALUE!"}},{"$f":"#VALUE!","v":{"$error":"#VALUE!"}}]
[null,null,0,null,null,0,null,null,null,null,null,null,null,null,null,null,0,null,null,null,null,null,null,null,null,null,0,null,null,null,null,null,null,null,null,null,null,null,null,null,null,null,null,null,null,null,null,null,null,null,null,null,null,null,null,null,null,null,null,null,null,null,null,"",0,0,0,0,0,0,0,0,0,null,null,null,null,null,null,0,0,0,null,null,null,{"$f":"#VALUE!","v":{"$error":"#VALUE!"}},{"$f":"#VALUE!","v":{"$error":"#VALUE!"}}]
[null,null,0,null,null,0,null,null,null,null,null,null,null,null,null,null,0,null,null,null,null,null,null,null,null,null,0,null,null,null,null,null,null,null,null,null,null,null,null,null,null,null,null,null,null,null,null,null,null,null,null,null,null,null,null,null,null,null,null,null,null,null,null,"",0,0,0,0,0,0,0,0,0,null,null,null,null,null,null,0,0,0,null,null,null,{"$f":"#VALUE!","v":{"$error":"#VALUE!"}},{"$f":"#VALUE!","v":{"$error":"#VALUE!"}}]
[null,null,0,null,null,0,null,null,null,null,null,null,null,null,null,null,0,null,null,null,null,null,null,null,null,null,0,null,null,null,null,null,null,null,null,null,null,null,null,null,null,null,null,null,null,null,null,null,null,null,null,null,null,null,null,null,null,null,null,null,null,null,null,"",0,0,0,0,0,0,0,0,0,null,null,null,null,null,null,0,0,0,null,null,null,{"$f":"#VALUE!","v":{"$error":"#VALUE!"}},{"$f":"#VALUE!","v":{"$error":"#VALUE!"}}]
[null,null,0,null,null,0,null,null,null,null,null,null,null,null,null,null,0,null,null,null,null,null,null,null,null,null,0,null,null,null,null,null,null,null,null,null,null,null,null,null,null,null,null,null,null,null,null,null,null,null,null,null,null,null,null,null,null,null,null,null,null,null,null,"",0,0,0,0,0,0,0,0,0,null,null,null,null,null,null,0,0,0,null,null,null,{"$f":"#VALUE!","v":{"$error":"#VALUE!"}},{"$f":"#VALUE!","v":{"$error":"#VALUE!"}}]
[null,null,0,null,null,0,null,null,null,null,null,null,null,null,null,null,0,null,null,null,null,null,null,null,null,null,0,null,null,null,null,null,null,null,null,null,null,null,null,null,null,null,null,null,null,null,null,null,null,null,null,null,null,null,null,null,null,null,null,null,null,null,null,"",0,0,0,0,0,0,0,0,0,null,null,null,null,null,null,0,0,0,null,null,null,{"$f":"#VALUE!","v":{"$error":"#VALUE!"}},{"$f":"#VALUE!","v":{"$error":"#VALUE!"}}]
[null,null,0,null,null,0,null,null,null,null,null,null,null,null,null,null,0,null,null,null,null,null,null,null,null,null,0,null,null,null,null,null,null,null,null,null,null,null,null,null,null,null,null,null,null,null,null,null,null,null,null,null,null,null,null,null,null,null,null,null,null,null,null,"",0,0,0,0,0,0,0,0,0,null,null,null,null,null,null,0,0,0,null,null,null,{"$f":"#VALUE!","v":{"$error":"#VALUE!"}},{"$f":"#VALUE!","v":{"$error":"#VALUE!"}}]
[null,null,0,null,null,0,null,null,null,null,null,null,null,null,null,null,0,null,null,null,null,null,null,null,null,null,0,null,null,null,null,null,null,null,null,null,null,null,null,null,null,null,null,null,null,null,null,null,null,null,null,null,null,null,null,null,null,null,null,null,null,null,null,"",0,0,0,0,0,0,0,0,0,null,null,null,null,null,null,0,0,0,null,null,null,{"$f":"#VALUE!","v":{"$error":"#VALUE!"}},{"$f":"#VALUE!","v":{"$error":"#VALUE!"}}]
[null,null,0,null,null,0,null,null,null,null,null,null,null,null,null,null,0,null,null,null,null,null,null,null,null,null,0,null,null,null,null,null,null,null,null,null,null,null,null,null,null,null,null,null,null,null,null,null,null,null,null,null,null,null,null,null,null,null,null,null,null,null,null,"",0,0,0,0,0,0,0,0,0,null,null,null,null,null,null,0,0,0,null,null,null,{"$f":"#VALUE!","v":{"$error":"#VALUE!"}},{"$f":"#VALUE!","v":{"$error":"#VALUE!"}}]
[null,null,0,null,null,0,null,null,null,null,null,null,null,null,null,null,0,null,null,null,null,null,null,null,null,null,0,null,null,null,null,null,null,null,null,null,null,null,null,null,null,null,null,null,null,null,null,null,null,null,null,null,null,null,null,null,null,null,null,null,null,null,null,"",0,0,0,0,0,0,0,0,0,null,null,null,null,null,null,0,0,0,null,null,null,{"$f":"#VALUE!","v":{"$error":"#VALUE!"}},{"$f":"#VALUE!","v":{"$error":"#VALUE!"}}]
[null,null,0,null,null,0,null,null,null,null,null,null,null,null,null,null,0,null,null,null,null,null,null,null,null,null,0,null,null,null,null,null,null,null,null,null,null,null,null,null,null,null,null,null,null,null,null,null,null,null,null,null,null,null,null,null,null,null,null,null,null,null,null,"",0,0,0,0,0,0,0,0,0,null,null,null,null,null,null,0,0,0,null,null,null,{"$f":"#VALUE!","v":{"$error":"#VALUE!"}},{"$f":"#VALUE!","v":{"$error":"#VALUE!"}}]
[null,null,0,null,null,0,null,null,null,null,null,null,null,null,null,null,0,null,null,null,null,null,null,null,null,null,0,null,null,null,null,null,null,null,null,null,null,null,null,null,null,null,null,null,null,null,null,null,null,null,null,null,null,null,null,null,null,null,null,null,null,null,null,"",0,0,0,0,0,0,0,0,0,null,null,null,null,null,null,0,0,0,null,null,null,{"$f":"#VALUE!","v":{"$error":"#VALUE!"}},{"$f":"#VALUE!","v":{"$error":"#VALUE!"}}]
[null,null,0,null,null,0,null,null,null,null,null,null,null,null,null,null,0,null,null,null,null,null,null,null,null,null,0,null,null,null,null,null,null,null,null,null,null,null,null,null,null,null,null,null,null,null,null,null,null,null,null,null,null,null,null,null,null,null,null,null,null,null,null,"",0,0,0,0,0,0,0,0,0,null,null,null,null,null,null,0,0,0,null,null,null,{"$f":"#VALUE!","v":{"$error":"#VALUE!"}},{"$f":"#VALUE!","v":{"$error":"#VALUE!"}}]
[null,null,0,null,null,0,null,null,null,null,null,null,null,null,null,null,0,null,null,null,null,null,null,null,null,null,0,null,null,null,null,null,null,null,null,null,null,null,null,null,null,null,null,null,null,null,null,null,null,null,null,null,null,null,null,null,null,null,null,null,null,null,null,"",0,0,0,0,0,0,0,0,0,null,null,null,null,null,null,0,0,0,null,null,null,{"$f":"#VALUE!","v":{"$error":"#VALUE!"}},{"$f":"#VALUE!","v":{"$error":"#VALUE!"}}]
[null,null,0,null,null,0,null,null,null,null,null,null,null,null,null,null,0,null,null,null,null,null,null,null,null,null,0,null,null,null,null,null,null,null,null,null,null,null,null,null,null,null,null,null,null,null,null,null,null,null,null,null,null,null,null,null,null,null,null,null,null,null,null,"",0,0,0,0,0,0,0,0,0,null,null,null,null,null,null,0,0,0,null,null,null,{"$f":"#VALUE!","v":{"$error":"#VALUE!"}},{"$f":"#VALUE!","v":{"$error":"#VALUE!"}}]
[null,null,0,null,null,0,null,null,null,null,null,null,null,null,null,null,0,null,null,null,null,null,null,null,null,null,0,null,null,null,null,null,null,null,null,null,null,null,null,null,null,null,null,null,null,null,null,null,null,null,null,null,null,null,null,null,null,null,null,null,null,null,null,"",0,0,0,0,0,0,0,0,0,null,null,null,null,null,null,0,0,0,null,null,null,{"$f":"#VALUE!","v":{"$error":"#VALUE!"}},{"$f":"#VALUE!","v":{"$error":"#VALUE!"}}]
[null,null,0,null,null,0,null,null,null,null,null,null,null,null,null,null,0,null,null,null,null,null,null,null,null,null,0,null,null,null,null,null,null,null,null,null,null,null,null,null,null,null,null,null,null,null,null,null,null,null,null,null,null,null,null,null,null,null,null,null,null,null,null,"",0,0,0,0,0,0,0,0,0,null,null,null,null,null,null,0,0,0,null,null,null,{"$f":"#VALUE!","v":{"$error":"#VALUE!"}},{"$f":"#VALUE!","v":{"$error":"#VALUE!"}}]
[null,null,0,null,null,0,null,null,null,null,null,null,null,null,null,null,0,null,null,null,null,null,null,null,null,null,0,null,null,null,null,null,null,null,null,null,null,null,null,null,null,null,null,null,null,null,null,null,null,null,null,null,null,null,null,null,null,null,null,null,null,null,null,"",0,0,0,0,0,0,0,0,0,null,null,null,null,null,null,0,0,0,null,null,null,{"$f":"#VALUE!","v":{"$error":"#VALUE!"}},{"$f":"#VALUE!","v":{"$error":"#VALUE!"}}]
[null,null,0,null,null,0,null,null,null,null,null,null,null,null,null,null,0,null,null,null,null,null,null,null,null,null,0,null,null,null,null,null,null,null,null,null,null,null,null,null,null,null,null,null,null,null,null,null,null,null,null,null,null,null,null,null,null,null,null,null,null,null,null,"",0,0,0,0,0,0,0,0,0,null,null,null,null,null,null,0,0,0,null,null,null,{"$f":"#VALUE!","v":{"$error":"#VALUE!"}},{"$f":"#VALUE!","v":{"$error":"#VALUE!"}}]
[null,null,0,null,null,0,null,null,null,null,null,null,null,null,null,null,0,null,null,null,null,null,null,null,null,null,0,null,null,null,null,null,null,null,null,null,null,null,null,null,null,null,null,null,null,null,null,null,null,null,null,null,null,null,null,null,null,null,null,null,null,null,null,"",0,0,0,0,0,0,0,0,0,null,null,null,null,null,null,0,0,0,null,null,null,{"$f":"#VALUE!","v":{"$error":"#VALUE!"}},{"$f":"#VALUE!","v":{"$error":"#VALUE!"}}]
[null,null,0,null,null,0,null,null,null,null,null,null,null,null,null,null,0,null,null,null,null,null,null,null,null,null,0,null,null,null,null,null,null,null,null,null,null,null,null,null,null,null,null,null,null,null,null,null,null,null,null,null,null,null,null,null,null,null,null,null,null,null,null,"",0,0,0,0,0,0,0,0,0,null,null,null,null,null,null,0,0,0,null,null,null,{"$f":"#VALUE!","v":{"$error":"#VALUE!"}},{"$f":"#VALUE!","v":{"$error":"#VALUE!"}}]
[null,null,0,null,null,0,null,null,null,null,null,null,null,null,null,null,0,null,null,null,null,null,null,null,null,null,0,null,null,null,null,null,null,null,null,null,null,null,null,null,null,null,null,null,null,null,null,null,null,null,null,null,null,null,null,null,null,null,null,null,null,null,null,"",0,0,0,0,0,0,0,0,0,null,null,null,null,null,null,0,0,0,null,null,null,{"$f":"#VALUE!","v":{"$error":"#VALUE!"}},{"$f":"#VALUE!","v":{"$error":"#VALUE!"}}]
[null,null,0,null,null,0,null,null,null,null,null,null,null,null,null,null,0,null,null,null,null,null,null,null,null,null,0,null,null,null,null,null,null,null,null,null,null,null,null,null,null,null,null,null,null,null,null,null,null,null,null,null,null,null,null,null,null,null,null,null,null,null,null,"",0,0,0,0,0,0,0,0,0,null,null,null,null,null,null,0,0,0,null,null,null,{"$f":"#VALUE!","v":{"$error":"#VALUE!"}},{"$f":"#VALUE!","v":{"$error":"#VALUE!"}}]
[null,null,0,null,null,0,null,null,null,null,null,null,null,null,null,null,0,null,null,null,null,null,null,null,null,null,0,null,null,null,null,null,null,null,null,null,null,null,null,null,null,null,null,null,null,null,null,null,null,null,null,null,null,null,null,null,null,null,null,null,null,null,null,"",0,0,0,0,0,0,0,0,0,null,null,null,null,null,null,0,0,0,null,null,null,{"$f":"#VALUE!","v":{"$error":"#VALUE!"}},{"$f":"#VALUE!","v":{"$error":"#VALUE!"}}]
[null,null,0,null,null,0,null,null,null,null,null,null,null,null,null,null,0,null,null,null,null,null,null,null,null,null,0,null,null,null,null,null,null,null,null,null,null,null,null,null,null,null,null,null,null,null,null,null,null,null,null,null,null,null,null,null,null,null,null,null,null,null,null,"",0,0,0,0,0,0,0,0,0,null,null,null,null,null,null,0,0,0,null,null,null,{"$f":"#VALUE!","v":{"$error":"#VALUE!"}},{"$f":"#VALUE!","v":{"$error":"#VALUE!"}}]
[null,null,0,null,null,0,null,null,null,null,null,null,null,null,null,null,0,null,null,null,null,null,null,null,null,null,0,null,null,null,null,null,null,null,null,null,null,null,null,null,null,null,null,null,null,null,null,null,null,null,null,null,null,null,null,null,null,null,null,null,null,null,null,"",0,0,0,0,0,0,0,0,0,null,null,null,null,null,null,0,0,0,null,null,null,{"$f":"#VALUE!","v":{"$error":"#VALUE!"}},{"$f":"#VALUE!","v":{"$error":"#VALUE!"}}]
[null,null,0,null,null,0,null,null,null,null,null,null,null,null,null,null,0,null,null,null,null,null,null,null,null,null,0,null,null,null,null,null,null,null,null,null,null,null,null,null,null,null,null,null,null,null,null,null,null,null,null,null,null,null,null,null,null,null,null,null,null,null,null,"",0,0,0,0,0,0,0,0,0,null,null,null,null,null,null,0,0,0,null,null,null,{"$f":"#VALUE!","v":{"$error":"#VALUE!"}},{"$f":"#VALUE!","v":{"$error":"#VALUE!"}}]
[null,null,0,null,null,0,null,null,null,null,null,null,null,null,null,null,0,null,null,null,null,null,null,null,null,null,0,null,null,null,null,null,null,null,null,null,null,null,null,null,null,null,null,null,null,null,null,null,null,null,null,null,null,null,null,null,null,null,null,null,null,null,null,"",0,0,0,0,0,0,0,0,0,null,null,null,null,null,null,0,0,0,null,null,null,{"$f":"#VALUE!","v":{"$error":"#VALUE!"}},{"$f":"#VALUE!","v":{"$error":"#VALUE!"}}]
[null,null,0,null,null,0,null,null,null,null,null,null,null,null,null,null,0,null,null,null,null,null,null,null,null,null,0,null,null,null,null,null,null,null,null,null,null,null,null,null,null,null,null,null,null,null,null,null,null,null,null,null,null,null,null,null,null,null,null,null,null,null,null,"",0,0,0,0,0,0,0,0,0,null,null,null,null,null,null,0,0,0,null,null,null,{"$f":"#VALUE!","v":{"$error":"#VALUE!"}},{"$f":"#VALUE!","v":{"$error":"#VALUE!"}}]
[null,null,0,null,null,0,null,null,null,null,null,null,null,null,null,null,0,null,null,null,null,null,null,null,null,null,0,null,null,null,null,null,null,null,null,null,null,null,null,null,null,null,null,null,null,null,null,null,null,null,null,null,null,null,null,null,null,null,null,null,null,null,null,"",0,0,0,0,0,0,0,0,0,null,null,null,null,null,null,0,0,0,null,null,null,{"$f":"#VALUE!","v":{"$error":"#VALUE!"}},{"$f":"#VALUE!","v":{"$error":"#VALUE!"}}]
[null,null,0,null,null,0,null,null,null,null,null,null,null,null,null,null,0,null,null,null,null,null,null,null,null,null,0,null,null,null,null,null,null,null,null,null,null,null,null,null,null,null,null,null,null,null,null,null,null,null,null,null,null,null,null,null,null,null,null,null,null,null,null,"",0,0,0,0,0,0,0,0,0,null,null,null,null,null,null,0,0,0,null,null,null,{"$f":"#VALUE!","v":{"$error":"#VALUE!"}},{"$f":"#VALUE!","v":{"$error":"#VALUE!"}}]
[null,null,0,null,null,0,null,null,null,null,null,null,null,null,null,null,0,null,null,null,null,null,null,null,null,null,0,null,null,null,null,null,null,null,null,null,null,null,null,null,null,null,null,null,null,null,null,null,null,null,null,null,null,null,null,null,null,null,null,null,null,null,null,"",0,0,0,0,0,0,0,0,0,null,null,null,null,null,null,0,0,0,null,null,null,{"$f":"#VALUE!","v":{"$error":"#VALUE!"}},{"$f":"#VALUE!","v":{"$error":"#VALUE!"}}]
[null,null,0,null,null,0,null,null,null,null,null,null,null,null,null,null,0,null,null,null,null,null,null,null,null,null,0,null,null,null,null,null,null,null,null,null,null,null,null,null,null,null,null,null,null,null,null,null,null,null,null,null,null,null,null,null,null,null,null,null,null,null,null,"",0,0,0,0,0,0,0,0,0,null,null,null,null,null,null,0,0,0,null,null,null,{"$f":"#VALUE!","v":{"$error":"#VALUE!"}},{"$f":"#VALUE!","v":{"$error":"#VALUE!"}}]
[null,null,0,null,null,0,null,null,null,null,null,null,null,null,null,null,0,null,null,null,null,null,null,null,null,null,0,null,null,null,null,null,null,null,null,null,null,null,null,null,null,null,null,null,null,null,null,null,null,null,null,null,null,null,null,null,null,null,null,null,null,null,null,"",0,0,0,0,0,0,0,0,0,null,null,null,null,null,null,0,0,0,null,null,null,{"$f":"#VALUE!","v":{"$error":"#VALUE!"}},{"$f":"#VALUE!","v":{"$error":"#VALUE!"}}]
[null,null,0,null,null,0,null,null,null,null,null,null,null,null,null,null,0,null,null,null,null,null,null,null,null,null,0,null,null,null,null,null,null,null,null,null,null,null,null,null,null,null,null,null,null,null,null,null,null,null,null,null,null,null,null,null,null,null,null,null,null,null,null,"",0,0,0,0,0,0,0,0,0,null,null,null,null,null,null,0,0,0,null,null,null,{"$f":"#VALUE!","v":{"$error":"#VALUE!"}},{"$f":"#VALUE!","v":{"$error":"#VALUE!"}}]
[null,null,0,null,null,0,null,null,null,null,null,null,null,null,null,null,0,null,null,null,null,null,null,null,null,null,0,null,null,null,null,null,null,null,null,null,null,null,null,null,null,null,null,null,null,null,null,null,null,null,null,null,null,null,null,null,null,null,null,null,null,null,null,"",0,0,0,0,0,0,0,0,0,null,null,null,null,null,null,0,0,0,null,null,null,{"$f":"#VALUE!","v":{"$error":"#VALUE!"}},{"$f":"#VALUE!","v":{"$error":"#VALUE!"}}]
[null,null,0,null,null,0,null,null,null,null,null,null,null,null,null,null,0,null,null,null,null,null,null,null,null,null,0,null,null,null,null,null,null,null,null,null,null,null,null,null,null,null,null,null,null,null,null,null,null,null,null,null,null,null,null,null,null,null,null,null,null,null,null,"",0,0,0,0,0,0,0,0,0,null,null,null,null,null,null,0,0,0,null,null,null,{"$f":"#VALUE!","v":{"$error":"#VALUE!"}},{"$f":"#VALUE!","v":{"$error":"#VALUE!"}}]
[null,null,0,null,null,0,null,null,null,null,null,null,null,null,null,null,{"$f":"IF(E260=\"متزوج\",2,IF(E260=\"متزوج+1\",4,IF(E260=\"متزوج+2\",6,IF(E260=\"متزوجة\",2,0))))","v":0},null,null,null,null,null,null,null,null,null,0,null,null,null,null,null,null,null,null,null,null,null,null,null,null,null,null,null,null,null,null,null,null,null,null,null,null,null,null,null,null,null,null,null,null,null,null,"",0,0,0,{"$f":"INT(IF(H260=\"عامل تعاقد\",I260*25/100,IF(H260=\"معلم مساعد\",I260*25/100,IF(H260=\"معلم\",I260*25/100,IF(H260=\"معلم أول\",I260*25/100,IF(H260=\"معلم أول أ\",I260*25/100,IF(H260=\"خبير\",I260*25/100,IF(H260=\"كبير\",I260*25/100,))))))))","v":0},{"$f":"INT(IF(H260=\"إدارى\",J260*0/100,IF(H260=\"معلم مساعد\",I260*125/100,IF(H260=\"معلم\",I260*75/100,IF(H260=\"معلم أول\",I260*50/100,IF(H260=\"معلم أول أ\",I260*25/100,IF(H260=\"خبير\",I260*25/100,IF(H260=\"كبير\",I260*25/100,))))))))","v":0},{"$f":"INT(IF(H260=\"عامل تعاقد\",I260*0.9166,IF(H260=\"معلم تعاقد\",I260*0.9166,0)))","v":0},{"$f":"INT(IF(H260=\"عامل تعاقد\",I260*0.5,IF(H260=\"معلم تعاقد\",I260*0.5,0)))","v":0},{"$f":"INT(IF(F260=1,I260*0.3333,0))","v":0},{"$f":"IF(H260=\"عامل تعاقد\",225,IF(H260=\"معلم تعاقد\",300,0))","v":0},null,null,null,null,null,null,0,{"$f":"IF(CB260<250,(CB260*0.006),IF(CB260<500,(CB260*0.0065),IF(CB260<1000,(CB260*0.007),IF(CB260<5000,(CB260*0.0075),IF(CB260>5000,(CB260*0.008),\" \" )))))","v":0},0,null,null,null,{"$f":"#VALUE!","v":{"$error":"#VALUE!"}},{"$f":"#VALUE!","v":{"$error":"#VALUE!"}}]
[null,null,0,null,null,0,null,null,null,null,null,null,null,null,null,null,{"$f":"IF(E261=\"متزوج\",2,IF(E261=\"متزوج+1\",4,IF(E261=\"متزوج+2\",6,IF(E261=\"متزوجة\",2,0))))","v":0},null,null,null,null,null,null,null,null,null,{"$f":"BU261","v":0},null,null,null,null,null,null,null,null,null,null,null,null,null,null,null,null,null,null,null,null,null,null,null,null,null,null,null,null,null,null,null,null,null,null,null,null,{"$f":"IF(H261=\"معلم مساعد\",10,IF(H261=\"معلم تعاقد\",10,IF(H261=\"معلم\",10,IF(H261=\"معلم أول\",10,IF(H261=\"معلم أول أ\",10,IF(H261=\"خبير\",10,IF(H261=\"كبير\",10,IF(H261=\"عامل تعاقد\",0,\"\"))))))))","v":""},{"$f":"IF(H261=\"عقد مميز\",I261*0/100,IF(H261=\"معلم تعاقد\",I261*0/100,IF(H261=\"معلم\",I261*50/100,IF(H261=\"معلم أول\",I261*50/100,IF(H261=\"معلم أول أ\",I261*50/100,IF(H261=\"خبير\",I261*50/100,IF(H261=\"كبير\",I261*50/100,)))))))","v":0},{"$f":"IF(H261=\"معلم مساعد\",I261*50/100,IF(H261=\"عامل تعاقد\",I261*0/100,IF(H261=\"معلم\",I261*50/100,IF(H261=\"معلم أول\",I261*50/100,IF(H261=\"معلم أول أ\",I261*50/100,IF(H261=\"خبير\",I261*50/100,IF(H261=\"كبير\",I261*50/100,)))))))","v":0},0,0,0,0,0,0,0,null,null,null,null,null,null,0,{"$f":"IF(CB261<250,(CB261*0.006),IF(CB261<500,(CB261*0.0065),IF(CB261<1000,(CB261*0.007),IF(CB261<5000,(CB261*0.0075),IF(CB261>5000,(CB261*0.008),\" \" )))))","v":0},{"$f":"CEILING($CC261,0.05)","v":0},null,null,null,{"$f":"#VALUE!","v":{"$error":"#VALUE!"}},{"$f":"#VALUE!","v":{"$error":"#VALUE!"}}]
[null,null,null,null,null,null,null,null,null,null,null,null,null,null,null,null,null,null,null,null,null,null,null,null,null,null,null,null,null,null,null,null,null,null,null,null,null,null,null,null,null,null,null,null,null,null,null,null,null,null,null,null,null,null,null,null,null,null,null,null,null,null,null,"",0,0,{"$f":"IF(H262=\"إدارى\",I262*0,IF(H262=\"معلم مساعد\",I262*0/100,IF(H262=\"معلم\",I262*50/100,IF(H262=\"معلم أول\",I262*75/100,IF(H262=\"معلم أول أ\",I262*100/100,IF(H262=\"خبير\",I262*125/100,IF(H262=\"كبير\",I262*150/100,)))))))","v":0},0,0,0,0,0,0,null,null,null,null,null,null,null,null,null,null,null,null,{"$f":"#VALUE!","v":{"$error":"#VALUE!"}},{"$f":"#VALUE!","v":{"$error":"#VALUE!"}}]
[null,null,null,null,null,null,null,null,null,null,null,null,null,null,null,null,null,null,null,null,null,null,null,null,null,null,null,null,null,null,null,null,null,null,null,null,null,null,null,null,null,null,null,null,null,null,null,null,null,null,null,null,null,null,null,null,null,null,null,null,null,null,null,"",0,0,0,0,0,0,0,0,0,null,null,null,null,null,null,null,null,null,null,null,null,{"$f":"#VALUE!","v":{"$error":"#VALUE!"}},{"$f":"#VALUE!","v":{"$error":"#VALUE!"}}]
[null,null,null,null,null,null,null,null,null,null,null,null,null,null,null,null,null,null,null,null,null,null,null,null,null,null,null,null,null,null,null,null,null,null,null,null,null,null,null,null,null,null,null,null,null,null,null,null,null,null,null,null,null,null,null,null,null,null,null,null,null,null,null,"",0,0,0,0,0,0,0,0,0,null,null,null,null,null,null,null,null,null,null,null,null,{"$f":"#VALUE!","v":{"$error":"#VALUE!"}},{"$f":"#VALUE!","v":{"$error":"#VALUE!"}}]
[null,null,null,null,null,null,null,null,null,null,null,null,null,null,null,null,null,null,null,null,null,null,null,null,null,null,null,null,null,null,null,null,null,null,null,null,null,null,null,null,null,null,null,null,null,null,null,null,null,null,null,null,null,null,null,null,null,null,null,null,null,null,null,"",0,0,0,0,0,0,0,0,0,null,null,null,null,null,null,null,null,null,null,null,null,{"$f":"#VALUE!","v":{"$error":"#VALUE!"}},{"$f":"#VALUE!","v":{"$error":"#VALUE!"}}]
[null,null,null,null,null,null,null,null,null,null,null,null,null,null,null,null,null,null,null,null,null,null,null,null,null,null,null,null,null,null,null,null,null,null,null,null,null,null,null,null,null,null,null,null,null,null,null,null,null,null,null,null,null,null,null,null,null,null,null,null,null,null,null,"",0,0,0,0,0,0,0,0,0,null,null,null,null,null,null,null,null,null,null,null,null,{"$f":"#VALUE!","v":{"$error":"#VALUE!"}},{"$f":"#VALUE!","v":{"$error":"#VALUE!"}}]
[null,null,null,null,null,null,null,null,null,null,null,null,null,null,null,null,null,null,null,null,null,null,null,null,null,null,null,null,null,null,null,null,null,null,null,null,null,null,null,null,null,null,null,null,null,null,null,null,null,null,null,null,null,null,null,null,null,null,null,null,null,null,null,"",0,0,0,0,0,0,0,0,0,null,null,null,null,null,null,null,null,null,null,null,null,{"$f":"#VALUE!","v":{"$error":"#VALUE!"}},{"$f":"#VALUE!","v":{"$error":"#VALUE!"}}]
[null,null,null,null,null,null,null,null,null,null,null,null,null,null,null,null,null,null,null,null,null,null,null,null,null,null,null,null,null,null,null,null,null,null,null,null,null,null,null,null,null,null,null,null,null,null,null,null,null,null,null,null,null,null,null,null,null,null,null,null,null,null,null,"",0,0,0,0,0,0,0,0,0,null,null,null,null,null,null,null,null,null,null,null,null,{"$f":"#VALUE!","v":{"$error":"#VALUE!"}},{"$f":"#VALUE!","v":{"$error":"#VALUE!"}}]
[null,null,null,null,null,null,null,null,null,null,null,null,null,null,null,null,null,null,null,null,null,null,null,null,null,null,null,null,null,null,null,null,null,null,null,null,null,null,null,null,null,null,null,null,null,null,null,null,null,null,null,null,null,null,null,null,null,null,null,null,null,null,null,"",0,0,0,0,0,0,0,0,0,null,null,null,null,null,null,null,null,null,null,null,null,{"$f":"#VALUE!","v":{"$error":"#VALUE!"}},{"$f":"#VALUE!","v":{"$error":"#VALUE!"}}]
[null,null,null,null,null,null,null,null,null,null,null,null,null,null,null,null,null,null,null,null,null,null,null,null,null,null,null,null,null,null,null,null,null,null,null,null,null,null,null,null,null,null,null,null,null,null,null,null,null,null,null,null,null,null,null,null,null,null,null,null,null,null,null,"",0,0,0,0,0,0,0,0,0,null,null,null,null,null,null,null,null,null,null,null,null,{"$f":"#VALUE!","v":{"$error":"#VALUE!"}},{"$f":"#VALUE!","v":{"$error":"#VALUE!"}}]
[null,null,null,null,null,null,null,null,null,null,null,null,null,null,null,null,null,null,null,null,null,null,null,null,null,null,null,null,null,null,null,null,null,null,null,null,null,null,null,null,null,null,null,null,null,null,null,null,null,null,null,null,null,null,null,null,null,null,null,null,null,null,null,"",0,0,0,0,0,0,0,0,0,null,null,null,null,null,null,null,null,null,null,null,null,{"$f":"#VALUE!","v":{"$error":"#VALUE!"}},{"$f":"#VALUE!","v":{"$error":"#VALUE!"}}]
[null,null,null,null,null,null,null,null,null,null,null,null,null,null,null,null,null,null,null,null,null,null,null,null,null,null,null,null,null,null,null,null,null,null,null,null,null,null,null,null,null,null,null,null,null,null,null,null,null,null,null,null,null,null,null,null,null,null,null,null,null,null,null,"",0,0,0,0,0,0,0,0,0,null,null,null,null,null,null,null,null,null,null,null,null,{"$f":"#VALUE!","v":{"$error":"#VALUE!"}},{"$f":"#VALUE!","v":{"$error":"#VALUE!"}}]
[null,null,null,null,null,null,null,null,null,null,null,null,null,null,null,null,null,null,null,null,null,null,null,null,null,null,null,null,null,null,null,null,null,null,null,null,null,null,null,null,null,null,null,null,null,null,null,null,null,null,null,null,null,null,null,null,null,null,null,null,null,null,null,"",0,0,0,0,0,0,0,0,0,null,null,null,null,null,null,null,null,null,null,null,null,{"$f":"#VALUE!","v":{"$error":"#VALUE!"}},{"$f":"#VALUE!","v":{"$error":"#VALUE!"}}]
[null,null,null,null,null,null,null,null,null,null,null,null,null,null,null,null,null,null,null,null,null,null,null,null,null,null,null,null,null,null,null,null,null,null,null,null,null,null,null,null,null,null,null,null,null,null,null,null,null,null,null,null,null,null,null,null,null,null,null,null,null,null,null,"",0,0,0,0,0,0,0,0,0,null,null,null,null,null,null,null,null,null,null,null,null,{"$f":"#VALUE!","v":{"$error":"#VALUE!"}},{"$f":"#VALUE!","v":{"$error":"#VALUE!"}}]
[null,null,null,null,null,null,null,null,null,null,null,null,null,null,null,null,null,null,null,null,null,null,null,null,null,null,null,null,null,null,null,null,null,null,null,null,null,null,null,null,null,null,null,null,null,null,null,null,null,null,null,null,null,null,null,null,null,null,null,null,null,null,null,"",0,0,0,0,0,0,0,0,0,null,null,null,null,null,null,null,null,null,null,null,null,{"$f":"#VALUE!","v":{"$error":"#VALUE!"}},{"$f":"#VALUE!","v":{"$error":"#VALUE!"}}]
[null,null,null,null,null,null,null,null,null,null,null,null,null,null,null,null,null,null,null,null,null,null,null,null,null,null,null,null,null,null,null,null,null,null,null,null,null,null,null,null,null,null,null,null,null,null,null,null,null,null,null,null,null,null,null,null,null,null,null,null,null,null,null,"",0,0,0,0,0,0,0,0,0,null,null,null,null,null,null,null,null,null,null,null,null,{"$f":"#VALUE!","v":{"$error":"#VALUE!"}},{"$f":"#VALUE!","v":{"$error":"#VALUE!"}}]
[null,null,null,null,null,null,null,null,null,null,null,null,null,null,null,null,null,null,null,null,null,null,null,null,null,null,null,null,null,null,null,null,null,null,null,null,null,null,null,null,null,null,null,null,null,null,null,null,null,null,null,null,null,null,null,null,null,null,null,null,null,null,null,"",0,0,0,0,0,0,0,0,0,null,null,null,null,null,null,null,null,null,null,null,null,{"$f":"#VALUE!","v":{"$error":"#VALUE!"}},{"$f":"#VALUE!","v":{"$error":"#VALUE!"}}]
[null,null,null,null,null,null,null,null,null,null,null,null,null,null,null,null,null,null,null,null,null,null,null,null,null,null,null,null,null,null,null,null,null,null,null,null,null,null,null,null,null,null,null,null,null,null,null,null,null,null,null,null,null,null,null,null,null,null,null,null,null,null,null,"",0,0,0,0,0,0,0,0,0,null,null,null,null,null,null,null,null,null,null,null,null,{"$f":"#VALUE!","v":{"$error":"#VALUE!"}},{"$f":"#VALUE!","v":{"$error":"#VALUE!"}}]
[null,null,null,null,null,null,null,null,null,null,null,null,null,null,null,null,null,null,null,null,null,null,null,null,null,null,null,null,null,null,null,null,null,null,null,null,null,null,null,null,null,null,null,null,null,null,null,null,null,null,null,null,null,null,null,null,null,null,null,null,null,null,null,"",0,0,0,0,0,0,0,0,0,null,null,null,null,null,null,null,null,null,null,null,null,{"$f":"#VALUE!","v":{"$error":"#VALUE!"}},{"$f":"#VALUE!","v":{"$error":"#VALUE!"}}]
[null,null,null,null,null,null,null,null,null,null,null,null,null,null,null,null,null,null,null,null,null,null,null,null,null,null,null,null,null,null,null,null,null,null,null,null,null,null,null,null,null,null,null,null,null,null,null,null,null,null,null,null,null,null,null,null,null,null,null,null,null,null,null,"",0,0,0,0,0,0,0,0,0,null,null,null,null,null,null,null,null,null,null,null,null,{"$f":"#VALUE!","v":{"$error":"#VALUE!"}},{"$f":"#VALUE!","v":{"$error":"#VALUE!"}}]
[null,null,null,null,null,null,null,null,null,null,null,null,null,null,null,null,null,null,null,null,null,null,null,null,null,null,null,null,null,null,null,null,null,null,null,null,null,null,null,null,null,null,null,null,null,null,null,null,null,null,null,null,null,null,null,null,null,null,null,null,null,null,null,"",0,0,0,0,0,0,0,0,0,null,null,null,null,null,null,null,null,null,null,null,null,{"$f":"#VALUE!","v":{"$error":"#VALUE!"}},{"$f":"#VALUE!","v":{"$error":"#VALUE!"}}]
[null,null,null,null,null,null,null,null,null,null,null,null,null,null,null,null,null,null,null,null,null,null,null,null,null,null,null,null,null,null,null,null,null,null,null,null,null,null,null,null,null,null,null,null,null,null,null,null,null,null,null,null,null,null,null,null,null,null,null,null,null,null,null,"",0,0,0,0,0,0,0,0,0,null,null,null,null,null,null,null,null,null,null,null,null,{"$f":"#VALUE!","v":{"$error":"#VALUE!"}},{"$f":"#VALUE!","v":{"$error":"#VALUE!"}}]
[null,null,null,null,null,null,null,null,null,null,null,null,null,null,null,null,null,null,null,null,null,null,null,null,null,null,null,null,null,null,null,null,null,null,null,null,null,null,null,null,null,null,null,null,null,null,null,null,null,null,null,null,null,null,null,null,null,null,null,null,null,null,null,"",0,0,0,0,0,0,0,0,0,null,null,null,null,null,null,null,null,null,null,null,null,{"$f":"#VALUE!","v":{"$error":"#VALUE!"}},{"$f":"#VALUE!","v":{"$error":"#VALUE!"}}]
[null,null,null,null,null,null,null,null,null,null,null,null,null,null,null,null,null,null,null,null,null,null,null,null,null,null,null,null,null,null,null,null,null,null,null,null,null,null,null,null,null,null,null,null,null,null,null,null,null,null,null,null,null,null,null,null,null,null,null,null,null,null,null,"",0,{"$f":"FLOOR(IF(H284=\"إدارى\",I284*0,IF(H284=\"معلم مساعد\",I284*50/100,IF(H284=\"معلم\",I284*50/100,IF(H284=\"معلم أول\",I284*50/100,IF(H284=\"معلم أول أ\",I284*50/100,IF(H284=\"خبير\",I284*50/100,IF(H284=\"كبير\",I284*50/100,))))))),0.05)","v":0},0,0,0,0,0,0,0,null,null,null,null,null,null,null,null,null,null,null,null,{"$f":"#VALUE!","v":{"$error":"#VALUE!"}},{"$f":"#VALUE!","v":{"$error":"#VALUE!"}}]
[null,null,null,null,null,null,null,null,null,null,null,null,null,null,null,null,null,null,null,null,null,null,null,null,null,null,null,null,null,null,null,null,null,null,null,null,null,null,null,null,null,null,null,null,null,null,null,null,null,null,null,null,null,null,null,null,null,null,null,null,null,null,null,"",0,0,0,0,0,0,0,0,0,null,null,null,null,null,null,null,null,null,null,null,null,{"$f":"#VALUE!","v":{"$error":"#VALUE!"}},{"$f":"#VALUE!","v":{"$error":"#VALUE!"}}]
[null,null,null,null,null,null,null,null,null,null,null,null,null,null,null,null,null,null,null,null,null,null,null,null,null,null,null,null,null,null,null,null,null,null,null,null,null,null,null,null,null,null,null,null,null,null,null,null,null,null,null,null,null,null,null,null,null,null,null,null,null,null,null,"",0,0,0,0,0,0,0,0,0,null,null,null,null,null,null,null,null,null,null,null,null,{"$f":"#VALUE!","v":{"$error":"#VALUE!"}},{"$f":"#VALUE!","v":{"$error":"#VALUE!"}}]
[null,null,null,null,null,null,null,null,null,null,null,null,null,null,null,null,null,null,null,null,null,null,null,null,null,null,null,null,null,null,null,null,null,null,null,null,null,null,null,null,null,null,null,null,null,null,null,null,null,null,null,null,null,null,null,null,null,null,null,null,null,null,null,"",0,0,0,0,0,0,0,0,0,null,null,null,null,null,null,null,null,null,null,null,null,{"$f":"#VALUE!","v":{"$error":"#VALUE!"}},{"$f":"#VALUE!","v":{"$error":"#VALUE!"}}]
[null,null,null,null,null,null,null,null,null,null,null,null,null,null,null,null,null,null,null,null,null,null,null,null,null,null,null,null,null,null,null,null,null,null,null,null,null,null,null,null,null,null,null,null,null,null,null,null,null,null,null,null,null,null,null,null,null,null,null,null,null,null,null,"",0,0,0,0,0,0,0,0,0,null,null,null,null,null,null,null,null,null,null,null,null,{"$f":"#VALUE!","v":{"$error":"#VALUE!"}},{"$f":"#VALUE!","v":{"$error":"#VALUE!"}}]
[null,null,null,null,null,null,null,null,null,null,null,null,null,null,null,null,null,null,null,null,null,null,null,null,null,null,null,null,null,null,null,null,null,null,null,null,null,null,null,null,null,null,null,null,null,null,null,null,null,null,null,null,null,null,null,null,null,null,null,null,null,null,null,"",0,0,0,0,0,0,0,0,0,null,null,null,null,null,null,null,null,null,null,null,null,{"$f":"#VALUE!","v":{"$error":"#VALUE!"}},{"$f":"#VALUE!","v":{"$error":"#VALUE!"}}]
[null,null,null,null,null,null,null,null,null,null,null,null,null,null,null,null,null,null,null,null,null,null,null,null,null,null,null,null,null,null,null,null,null,null,null,null,null,null,null,null,null,null,null,null,null,null,null,null,null,null,null,null,null,null,null,null,null,null,null,null,null,null,null,"",0,0,0,0,0,0,0,0,0,null,null,null,null,null,null,null,null,null,null,null,null,{"$f":"#VALUE!","v":{"$error":"#VALUE!"}},{"$f":"#VALUE!","v":{"$error":"#VALUE!"}}]
[null,null,null,null,null,null,null,null,null,null,null,null,null,null,null,null,null,null,null,null,null,null,null,null,null,null,null,null,null,null,null,null,null,null,null,null,null,null,null,null,null,null,null,null,null,null,null,null,null,null,null,null,null,null,null,null,null,null,null,null,null,null,null,"",0,0,0,0,0,0,0,0,0,null,null,null,null,null,null,null,null,null,null,null,null,{"$f":"#VALUE!","v":{"$error":"#VALUE!"}},{"$f":"#VALUE!","v":{"$error":"#VALUE!"}}]
[null,null,null,null,null,null,null,null,null,null,null,null,null,null,null,null,null,null,null,null,null,null,null,null,null,null,null,null,null,null,null,null,null,null,null,null,null,null,null,null,null,null,null,null,null,null,null,null,null,null,null,null,null,null,null,null,null,null,null,null,null,null,null,"",0,0,0,0,0,0,0,0,0,null,null,null,null,null,null,null,null,null,null,null,null,{"$f":"#VALUE!","v":{"$error":"#VALUE!"}},{"$f":"#VALUE!","v":{"$error":"#VALUE!"}}]
[null,null,null,null,null,null,null,null,null,null,null,null,null,null,null,null,null,null,null,null,null,null,null,null,null,null,null,null,null,null,null,null,null,null,null,null,null,null,null,null,null,null,null,null,null,null,null,null,null,null,null,null,null,null,null,null,null,null,null,null,null,null,null,"",0,0,0,0,0,0,0,0,0,null,null,null,null,null,null,null,null,null,null,null,null,{"$f":"#VALUE!","v":{"$error":"#VALUE!"}},{"$f":"#VALUE!","v":{"$error":"#VALUE!"}}]
[null,null,null,null,null,null,null,null,null,null,null,null,null,null,null,null,null,null,null,null,null,null,null,null,null,null,null,null,null,null,null,null,null,null,null,null,null,null,null,null,null,null,null,null,null,null,null,null,null,null,null,null,null,null,null,null,null,null,null,null,null,null,null,"",0,0,0,0,0,0,0,0,0,null,null,null,null,null,null,null,null,null,null,null,null,{"$f":"#VALUE!","v":{"$error":"#VALUE!"}},{"$f":"#VALUE!","v":{"$error":"#VALUE!"}}]
[null,null,null,null,null,null,null,null,null,null,null,null,null,null,null,null,null,null,null,null,null,null,null,null,null,null,null,null,null,null,null,null,null,null,null,null,null,null,null,null,null,null,null,null,null,null,null,null,null,null,null,null,null,null,null,null,null,null,null,null,null,null,null,"",0,0,0,0,0,0,0,0,0,null,null,null,null,null,null,null,null,null,null,null,null,{"$f":"#VALUE!","v":{"$error":"#VALUE!"}},{"$f":"#VALUE!","v":{"$error":"#VALUE!"}}]
[null,null,null,null,null,null,null,null,null,null,null,null,null,null,null,null,null,null,null,null,null,null,null,null,null,null,null,null,null,null,null,null,null,null,null,null,null,null,null,null,null,null,null,null,null,null,null,null,null,null,null,null,null,null,null,null,null,null,null,null,null,null,null,"",0,0,0,0,0,0,0,0,0,null,null,null,null,null,null,null,null,null,null,null,null,{"$f":"#VALUE!","v":{"$error":"#VALUE!"}},{"$f":"#VALUE!","v":{"$error":"#VALUE!"}}]
[null,null,null,null,null,null,null,null,null,null,null,null,null,null,null,null,null,null,null,null,null,null,null,null,null,null,null,null,null,null,null,null,null,null,null,null,null,null,null,null,null,null,null,null,null,null,null,null,null,null,null,null,null,null,null,null,null,null,null,null,null,null,null,"",0,0,0,0,0,0,0,0,0,null,null,null,null,null,null,null,null,null,null,null,null,{"$f":"#VALUE!","v":{"$error":"#VALUE!"}},{"$f":"#VALUE!","v":{"$error":"#VALUE!"}}]
[null,null,null,null,null,null,null,null,null,null,null,null,null,null,null,null,null,null,null,null,null,null,null,null,null,null,null,null,null,null,null,null,null,null,null,null,null,null,null,null,null,null,null,null,null,null,null,null,null,null,null,null,null,null,null,null,null,null,null,null,null,null,null,"",0,0,0,0,0,0,0,0,0,null,null,null,null,null,null,null,null,null,null,null,null,{"$f":"#VALUE!","v":{"$error":"#VALUE!"}},{"$f":"#VALUE!","v":{"$error":"#VALUE!"}}]
[null,null,null,null,null,null,null,null,null,null,null,null,null,null,null,null,null,null,null,null,null,null,null,null,null,null,null,null,null,null,null,null,null,null,null,null,null,null,null,null,null,null,null,null,null,null,null,null,null,null,null,null,null,null,null,null,null,null,null,null,null,null,null,"",0,0,0,0,0,0,0,0,0,null,null,null,null,null,null,null,null,null,null,null,null,{"$f":"#VALUE!","v":{"$error":"#VALUE!"}},{"$f":"#VALUE!","v":{"$error":"#VALUE!"}}]
[null,null,null,null,null,null,null,null,null,null,null,null,null,null,null,null,null,null,null,null,null,null,null,null,null,null,null,null,null,null,null,null,null,null,null,null,null,null,null,null,null,null,null,null,null,null,null,null,null,null,null,null,null,null,null,null,null,null,null,null,null,null,null,"",0,0,0,0,0,0,0,0,0,null,null,null,null,null,null,null,null,null,null,null,null,{"$f":"#VALUE!","v":{"$error":"#VALUE!"}},{"$f":"#VALUE!","v":{"$error":"#VALUE!"}}]
[null,null,null,null,null,null,null,null,null,null,null,null,null,null,null,null,null,null,null,null,null,null,null,null,null,null,null,null,null,null,null,null,null,null,null,null,null,null,null,null,null,null,null,null,null,null,null,null,null,null,null,null,null,null,null,null,null,null,null,null,null,null,null,"",0,0,0,0,0,0,0,0,0,null,null,null,null,null,null,null,null,null,null,null,null,{"$f":"#VALUE!","v":{"$error":"#VALUE!"}},{"$f":"#VALUE!","v":{"$error":"#VALUE!"}}]
[null,null,null,null,null,null,null,null,null,null,null,null,null,null,null,null,null,null,null,null,null,null,null,null,null,null,null,null,null,null,null,null,null,null,null,null,null,null,null,null,null,null,null,null,null,null,null,null,null,null,null,null,null,null,null,null,null,null,null,null,null,null,null,"",0,0,0,0,0,0,0,0,0,null,null,null,null,null,null,null,null,null,null,null,null,{"$f":"#VALUE!","v":{"$error":"#VALUE!"}},{"$f":"#VALUE!","v":{"$error":"#VALUE!"}}]
[null,null,null,null,null,null,null,null,null,null,null,null,null,null,null,null,null,null,null,null,null,null,null,null,null,null,null,null,null,null,null,null,null,null,null,null,null,null,null,null,null,null,null,null,null,null,null,null,null,null,null,null,null,null,null,null,null,null,null,null,null,null,null,"",0,0,0,0,0,0,0,0,0,null,null,null,null,null,null,null,null,null,null,null,null,{"$f":"#VALUE!","v":{"$error":"#VALUE!"}},{"$f":"#VALUE!","v":{"$error":"#VALUE!"}}]
[null,null,null,null,null,null,null,null,null,null,null,null,null,null,null,null,null,null,null,null,null,null,null,null,null,null,null,null,null,null,null,null,null,null,null,null,null,null,null,null,null,null,null,null,null,null,null,null,null,null,null,null,null,null,null,null,null,null,null,null,null,null,null,"",0,0,0,0,0,0,0,0,0,null,null,null,null,null,null,null,null,null,null,null,null,{"$f":"#VALUE!","v":{"$error":"#VALUE!"}},{"$f":"#VALUE!","v":{"$error":"#VALUE!"}}]
[null,null,null,null,null,null,null,null,null,null,null,null,null,null,null,null,null,null,null,null,null,null,null,null,null,null,null,null,null,null,null,null,null,null,null,null,null,null,null,null,null,null,null,null,null,null,null,null,null,null,null,null,null,null,null,null,null,null,null,null,null,null,null,"",0,0,0,0,0,0,0,0,0,null,null,null,null,null,null,null,null,null,null,null,null,{"$f":"#VALUE!","v":{"$error":"#VALUE!"}},{"$f":"#VALUE!","v":{"$error":"#VALUE!"}}]
[null,null,null,null,null,null,null,null,null,null,null,null,null,null,null,null,null,null,null,null,null,null,null,null,null,null,null,null,null,null,null,null,null,null,null,null,null,null,null,null,null,null,null,null,null,null,null,null,null,null,null,null,null,null,null,null,null,null,null,null,null,null,null,"",0,0,0,0,0,0,0,0,0,null,null,null,null,null,null,null,null,null,null,null,null,{"$f":"#VALUE!","v":{"$error":"#VALUE!"}},{"$f":"#VALUE!","v":{"$error":"#VALUE!"}}]
[null,null,null,null,null,null,null,null,null,null,null,null,null,null,null,null,null,null,null,null,null,null,null,null,null,null,null,null,null,null,null,null,null,null,null,null,null,null,null,null,null,null,null,null,null,null,null,null,null,null,null,null,null,null,null,null,null,null,null,null,null,null,null,"",0,0,0,0,0,0,0,0,0,null,null,null,null,null,null,null,null,null,null,null,null,{"$f":"#VALUE!","v":{"$error":"#VALUE!"}},{"$f":"#VALUE!","v":{"$error":"#VALUE!"}}]
[null,null,null,null,null,null,null,null,null,null,null,null,null,null,null,null,null,null,null,null,null,null,null,null,null,null,null,null,null,null,null,null,null,null,null,null,null,null,null,null,null,null,null,null,null,null,null,null,null,null,null,null,null,null,null,null,null,null,null,null,null,null,null,"",0,0,0,0,0,0,0,0,0,null,null,null,null,null,null,null,null,null,null,null,null,{"$f":"#VALUE!","v":{"$error":"#VALUE!"}},{"$f":"#VALUE!","v":{"$error":"#VALUE!"}}]
[null,null,null,null,null,null,null,null,null,null,null,null,null,null,null,null,null,null,null,null,null,null,null,null,null,null,null,null,null,null,null,null,null,null,null,null,null,null,null,null,null,null,null,null,null,null,null,null,null,null,null,null,null,null,null,null,null,null,null,null,null,null,null,"",0,0,0,0,0,0,0,0,0,null,null,null,null,null,null,null,null,null,null,null,null,{"$f":"#VALUE!","v":{"$error":"#VALUE!"}},{"$f":"#VALUE!","v":{"$error":"#VALUE!"}}]
[null,null,null,null,null,null,null,null,null,null,null,null,null,null,null,null,null,null,null,null,null,null,null,null,null,null,null,null,null,null,null,null,null,null,null,null,null,null,null,null,null,null,null,null,null,null,null,null,null,null,null,null,null,null,null,null,null,null,null,null,null,null,null,"",0,0,0,0,0,0,0,0,0,null,null,null,null,null,null,null,null,null,null,null,null,{"$f":"#VALUE!","v":{"$error":"#VALUE!"}},{"$f":"#VALUE!","v":{"$error":"#VALUE!"}}]
[null,null,null,null,null,null,null,null,null,null,null,null,null,null,null,null,null,null,null,null,null,null,null,null,null,null,null,null,null,null,null,null,null,null,null,null,null,null,null,null,null,null,null,null,null,null,null,null,null,null,null,null,null,null,null,null,null,null,null,null,null,null,null,"",0,0,0,0,0,0,0,0,0,null,null,null,null,null,null,null,null,null,null,null,null,{"$f":"#VALUE!","v":{"$error":"#VALUE!"}},{"$f":"#VALUE!","v":{"$error":"#VALUE!"}}]
[null,null,null,null,null,null,null,null,null,null,null,null,null,null,null,null,null,null,null,null,null,null,null,null,null,null,null,null,null,null,null,null,null,null,null,null,null,null,null,null,null,null,null,null,null,null,null,null,null,null,null,null,null,null,null,null,null,null,null,null,null,null,null,"",0,0,0,0,0,0,0,0,0,null,null,null,null,null,null,null,null,null,null,null,null,{"$f":"#VALUE!","v":{"$error":"#VALUE!"}},{"$f":"#VALUE!","v":{"$error":"#VALUE!"}}]
[null,null,null,null,null,null,null,null,null,null,null,null,null,null,null,null,null,null,null,null,null,null,null,null,null,null,null,null,null,null,null,null,null,null,null,null,null,null,null,null,null,null,null,null,null,null,null,null,null,null,null,null,null,null,null,null,null,null,null,null,null,null,null,"",0,0,0,0,0,0,0,0,0,null,null,null,null,null,null,null,null,null,null,null,null,{"$f":"#VALUE!","v":{"$error":"#VALUE!"}},{"$f":"#VALUE!","v":{"$error":"#VALUE!"}}]
[null,null,null,null,null,null,null,null,null,null,null,null,null,null,null,null,null,null,null,null,null,null,null,null,null,null,null,null,null,null,null,null,null,null,null,null,null,null,null,null,null,null,null,null,null,null,null,null,null,null,null,null,null,null,null,null,null,null,null,null,null,null,null,"",0,0,0,0,0,0,0,0,0,null,null,null,null,null,null,null,null,null,null,null,null,{"$f":"#VALUE!","v":{"$error":"#VALUE!"}},{"$f":"#VALUE!","v":{"$error":"#VALUE!"}}]
[null,null,null,null,null,null,null,null,null,null,null,null,null,null,null,null,null,null,null,null,null,null,null,null,null,null,null,null,null,null,null,null,null,null,null,null,null,null,null,null,null,null,null,null,null,null,null,null,null,null,null,null,null,null,null,null,null,null,null,null,null,null,null,"",0,0,0,0,0,0,0,0,0,null,null,null,null,null,null,null,null,null,null,null,null,{"$f":"#VALUE!","v":{"$error":"#VALUE!"}},{"$f":"#VALUE!","v":{"$error":"#VALUE!"}}]
[null,null,null,null,null,null,null,null,null,null,null,null,null,null,null,null,null,null,null,null,null,null,null,null,null,null,null,null,null,null,null,null,null,null,null,null,null,null,null,null,null,null,null,null,null,null,null,null,null,null,null,null,null,null,null,null,null,null,null,null,null,null,null,"",0,0,0,0,0,0,0,0,0,null,null,null,null,null,null,null,null,null,null,null,null,{"$f":"#VALUE!","v":{"$error":"#VALUE!"}},{"$f":"#VALUE!","v":{"$error":"#VALUE!"}}]
[null,null,null,null,null,null,null,null,null,null,null,null,null,null,null,null,null,null,null,null,null,null,null,null,null,null,null,null,null,null,null,null,null,null,null,null,null,null,null,null,null,null,null,null,null,null,null,null,null,null,null,null,null,null,null,null,null,null,null,null,null,null,null,"",0,0,0,0,0,0,0,0,0,null,null,null,null,null,null,null,null,null,null,null,null,{"$f":"#VALUE!","v":{"$error":"#VALUE!"}},{"$f":"#VALUE!","v":{"$error":"#VALUE!"}}]
[null,null,null,null,null,null,null,null,null,null,null,null,null,null,null,null,null,null,null,null,null,null,null,null,null,null,null,null,null,null,null,null,null,null,null,null,null,null,null,null,null,null,null,null,null,null,null,null,null,null,null,null,null,null,null,null,null,null,null,null,null,null,null,"",0,0,0,0,0,0,0,0,0,null,null,null,null,null,null,null,null,null,null,null,null,{"$f":"#VALUE!","v":{"$error":"#VALUE!"}},{"$f":"#VALUE!","v":{"$error":"#VALUE!"}}]
[null,null,null,null,null,null,null,null,null,null,null,null,null,null,null,null,null,null,null,null,null,null,null,null,null,null,null,null,null,null,null,null,null,null,null,null,null,null,null,null,null,null,null,null,null,null,null,null,null,null,null,null,null,null,null,null,null,null,null,null,null,null,null,"",0,0,0,0,0,0,0,0,0,null,null,null,null,null,null,null,null,null,null,null,null,{"$f":"#VALUE!","v":{"$error":"#VALUE!"}},{"$f":"#VALUE!","v":{"$error":"#VALUE!"}}]
[null,null,null,null,null,null,null,null,null,null,null,null,null,null,null,null,null,null,null,null,null,null,null,null,null,null,null,null,null,null,null,null,null,null,null,null,null,null,null,null,null,null,null,null,null,null,null,null,null,null,null,null,null,null,null,null,null,null,null,null,null,null,null,"",0,0,0,0,0,0,0,0,0,null,null,null,null,null,null,null,null,null,null,null,null,{"$f":"#VALUE!","v":{"$error":"#VALUE!"}},{"$f":"#VALUE!","v":{"$error":"#VALUE!"}}]
[null,null,null,null,null,null,null,null,null,null,null,null,null,null,null,null,null,null,null,null,null,null,null,null,null,null,null,null,null,null,null,null,null,null,null,null,null,null,null,null,null,null,null,null,null,null,null,null,null,null,null,null,null,null,null,null,null,null,null,null,null,null,null,"",0,0,0,0,0,0,0,0,0,null,null,null,null,null,null,null,null,null,null,null,null,{"$f":"#VALUE!","v":{"$error":"#VALUE!"}},{"$f":"#VALUE!","v":{"$error":"#VALUE!"}}]
[null,null,null,null,null,null,null,null,null,null,null,null,null,null,null,null,null,null,null,null,null,null,null,null,null,null,null,null,null,null,null,null,null,null,null,null,null,null,null,null,null,null,null,null,null,null,null,null,null,null,null,null,null,null,null,null,null,null,null,null,null,null,null,"",0,0,0,0,0,0,0,0,0,null,null,null,null,null,null,null,null,null,null,null,null,{"$f":"#VALUE!","v":{"$error":"#VALUE!"}},{"$f":"#VALUE!","v":{"$error":"#VALUE!"}}]
[null,null,null,null,null,null,null,null,null,null,null,null,null,null,null,null,null,null,null,null,null,null,null,null,null,null,null,null,null,null,null,null,null,null,null,null,null,null,null,null,null,null,null,null,null,null,null,null,null,null,null,null,null,null,null,null,null,null,null,null,null,null,null,"",0,0,0,0,0,0,0,0,0,null,null,null,null,null,null,null,null,null,null,null,null,{"$f":"#VALUE!","v":{"$error":"#VALUE!"}},{"$f":"#VALUE!","v":{"$error":"#VALUE!"}}]
[null,null,null,null,null,null,null,null,null,null,null,null,null,null,null,null,null,null,null,null,null,null,null,null,null,null,null,null,null,null,null,null,null,null,null,null,null,null,null,null,null,null,null,null,null,null,null,null,null,null,null,null,null,null,null,null,null,null,null,null,null,null,null,"",0,0,0,{"$f":"INT(IF(H324=\"عامل تعاقد\",I324*25/100,IF(H324=\"معلم مساعد\",I324*25/100,IF(H324=\"معلم\",I324*25/100,IF(H324=\"معلم أول\",I324*25/100,IF(H324=\"معلم أول أ\",I324*25/100,IF(H324=\"خبير\",I324*25/100,IF(H324=\"كبير\",I324*25/100,))))))))","v":0},{"$f":"INT(IF(H324=\"إدارى\",J324*0/100,IF(H324=\"معلم مساعد\",I324*125/100,IF(H324=\"معلم\",I324*75/100,IF(H324=\"معلم أول\",I324*50/100,IF(H324=\"معلم أول أ\",I324*25/100,IF(H324=\"خبير\",I324*25/100,IF(H324=\"كبير\",I324*25/100,))))))))","v":0},{"$f":"INT(IF(H324=\"عامل تعاقد\",I324*0.9166,IF(H324=\"معلم تعاقد\",I324*0.9166,0)))","v":0},{"$f":"INT(IF(H324=\"عامل تعاقد\",I324*0.5,IF(H324=\"معلم تعاقد\",I324*0.5,0)))","v":0},{"$f":"INT(IF(F324=1,I324*0.3333,0))","v":0},{"$f":"IF(H324=\"عامل تعاقد\",225,IF(H324=\"معلم تعاقد\",300,0))","v":0},null,null,null,null,null,null,null,null,null,null,null,null,{"$f":"#VALUE!","v":{"$error":"#VALUE!"}},{"$f":"#VALUE!","v":{"$error":"#VALUE!"}}]
[null,null,null,null,null,null,null,null,null,null,null,null,null,null,null,null,null,null,null,null,null,null,null,null,null,null,null,null,null,null,null,null,null,null,null,null,null,null,null,null,null,null,null,null,null,null,null,null,null,null,null,null,null,null,null,null,null,null,null,null,null,null,null,{"$f":"IF(H325=\"معلم مساعد\",10,IF(H325=\"معلم تعاقد\",10,IF(H325=\"معلم\",10,IF(H325=\"معلم أول\",10,IF(H325=\"معلم أول أ\",10,IF(H325=\"خبير\",10,IF(H325=\"كبير\",10,IF(H325=\"عامل تعاقد\",0,\"\"))))))))","v":""},{"$f":"IF(H325=\"عقد مميز\",I325*0/100,IF(H325=\"معلم تعاقد\",I325*0/100,IF(H325=\"معلم\",I325*50/100,IF(H325=\"معلم أول\",I325*50/100,IF(H325=\"معلم أول أ\",I325*50/100,IF(H325=\"خبير\",I325*50/100,IF(H325=\"كبير\",I325*50/100,)))))))","v":0},0,0,0,0,0,0,0,0,null,null,null,null,null,null,null,null,null,null,null,null,{"$f":"#VALUE!","v":{"$error":"#VALUE!"}},{"$f":"#VALUE!","v":{"$error":"#VALUE!"}}]
[null,null,null,null,null,null,null,null,null,null,null,null,null,null,null,null,null,null,null,null,null,null,null,null,null,null,null,null,null,null,null,null,null,null,null,null,null,null,null,null,null,null,null,null,null,null,null,null,null,null,null,null,null,null,null,null,null,null,null,null,null,null,null,"",0,0,{"$f":"IF(H326=\"إدارى\",I326*0,IF(H326=\"معلم مساعد\",I326*0/100,IF(H326=\"معلم\",I326*50/100,IF(H326=\"معلم أول\",I326*75/100,IF(H326=\"معلم أول أ\",I326*100/100,IF(H326=\"خبير\",I326*125/100,IF(H326=\"كبير\",I326*150/100,)))))))","v":0},0,0,0,0,0,0,null,null,null,null,null,null,null,null,null,null,null,null,{"$f":"#VALUE!","v":{"$error":"#VALUE!"}},{"$f":"#VALUE!","v":{"$error":"#VALUE!"}}]
[null,null,null,null,null,null,null,null,null,null,null,null,null,null,null,null,null,null,null,null,null,null,null,null,null,null,null,null,null,null,null,null,null,null,null,null,null,null,null,null,null,null,null,null,null,null,null,null,null,null,null,null,null,null,null,null,null,null,null,null,null,null,null,"",0,0,0,0,0,0,0,0,0,null,null,null,null,null,null,null,null,null,null,null,null,{"$f":"#VALUE!","v":{"$error":"#VALUE!"}},{"$f":"#VALUE!","v":{"$error":"#VALUE!"}}]
[null,null,null,null,null,null,null,null,null,null,null,null,null,null,null,null,null,null,null,null,null,null,null,null,null,null,null,null,null,null,null,null,null,null,null,null,null,null,null,null,null,null,null,null,null,null,null,null,null,null,null,null,null,null,null,null,null,null,null,null,null,null,null,"",0,0,0,0,0,0,0,0,0,null,null,null,null,null,null,null,null,null,null,null,null,{"$f":"#VALUE!","v":{"$error":"#VALUE!"}},{"$f":"#VALUE!","v":{"$error":"#VALUE!"}}]
[null,null,null,null,null,null,null,null,null,null,null,null,null,null,null,null,null,null,null,null,null,null,null,null,null,null,null,null,null,null,null,null,null,null,null,null,null,null,null,null,null,null,null,null,null,null,null,null,null,null,null,null,null,null,null,null,null,null,null,null,null,null,null,"",0,0,0,0,0,0,0,0,0,null,null,null,null,null,null,null,null,null,null,null,null,{"$f":"#VALUE!","v":{"$error":"#VALUE!"}},{"$f":"#VALUE!","v":{"$error":"#VALUE!"}}]
[null,null,null,null,null,null,null,null,null,null,null,null,null,null,null,null,null,null,null,null,null,null,null,null,null,null,null,null,null,null,null,null,null,null,null,null,null,null,null,null,null,null,null,null,null,null,null,null,null,null,null,null,null,null,null,null,null,null,null,null,null,null,null,"",0,0,0,0,0,0,0,0,0,null,null,null,null,null,null,null,null,null,null,null,null,{"$f":"#VALUE!","v":{"$error":"#VALUE!"}},{"$f":"#VALUE!","v":{"$error":"#VALUE!"}}]
[null,null,null,null,null,null,null,null,null,null,null,null,null,null,null,null,null,null,null,null,null,null,null,null,null,null,null,null,null,null,null,null,null,null,null,null,null,null,null,null,null,null,null,null,null,null,null,null,null,null,null,null,null,null,null,null,null,null,null,null,null,null,null,"",0,0,0,0,0,0,0,0,0,null,null,null,null,null,null,null,null,null,null,null,null,{"$f":"#VALUE!","v":{"$error":"#VALUE!"}},{"$f":"#VALUE!","v":{"$error":"#VALUE!"}}]
[null,null,null,null,null,null,null,null,null,null,null,null,null,null,null,null,null,null,null,null,null,null,null,null,null,null,null,null,null,null,null,null,null,null,null,null,null,null,null,null,null,null,null,null,null,null,null,null,null,null,null,null,null,null,null,null,null,null,null,null,null,null,null,"",0,0,0,0,0,0,0,0,0,null,null,null,null,null,null,null,null,null,null,null,null,{"$f":"#VALUE!","v":{"$error":"#VALUE!"}},{"$f":"#VALUE!","v":{"$error":"#VALUE!"}}]
[null,null,null,null,null,null,null,null,null,null,null,null,null,null,null,null,null,null,null,null,null,null,null,null,null,null,null,null,null,null,null,null,null,null,null,null,null,null,null,null,null,null,null,null,null,null,null,null,null,null,null,null,null,null,null,null,null,null,null,null,null,null,null,"",0,0,0,0,0,0,0,0,0,null,null,null,null,null,null,null,null,null,null,null,null,{"$f":"#VALUE!","v":{"$error":"#VALUE!"}},{"$f":"#VALUE!","v":{"$error":"#VALUE!"}}]
[null,null,null,null,null,null,null,null,null,null,null,null,null,null,null,null,null,null,null,null,null,null,null,null,null,null,null,null,null,null,null,null,null,null,null,null,null,null,null,null,null,null,null,null,null,null,null,null,null,null,null,null,null,null,null,null,null,null,null,null,null,null,null,"",0,0,0,0,0,0,0,0,0,null,null,null,null,null,null,null,null,null,null,null,null,{"$f":"#VALUE!","v":{"$error":"#VALUE!"}},{"$f":"#VALUE!","v":{"$error":"#VALUE!"}}]
[null,null,null,null,null,null,null,null,null,null,null,null,null,null,null,null,null,null,null,null,null,null,null,null,null,null,null,null,null,null,null,null,null,null,null,null,null,null,null,null,null,null,null,null,null,null,null,null,null,null,null,null,null,null,null,null,null,null,null,null,null,null,null,"",0,0,0,0,0,0,0,0,0,null,null,null,null,null,null,null,null,null,null,null,null,{"$f":"#VALUE!","v":{"$error":"#VALUE!"}},{"$f":"#VALUE!","v":{"$error":"#VALUE!"}}]
[null,null,null,null,null,null,null,null,null,null,null,null,null,null,null,null,null,null,null,null,null,null,null,null,null,null,null,null,null,null,null,null,null,null,null,null,null,null,null,null,null,null,null,null,null,null,null,null,null,null,null,null,null,null,null,null,null,null,null,null,null,null,null,"",0,0,0,0,0,0,0,0,0,null,null,null,null,null,null,null,null,null,null,null,null,{"$f":"#VALUE!","v":{"$error":"#VALUE!"}},{"$f":"#VALUE!","v":{"$error":"#VALUE!"}}]
[null,null,null,null,null,null,null,null,null,null,null,null,null,null,null,null,null,null,null,null,null,null,null,null,null,null,null,null,null,null,null,null,null,null,null,null,null,null,null,null,null,null,null,null,null,null,null,null,null,null,null,null,null,null,null,null,null,null,null,null,null,null,null,"",0,0,0,0,0,0,0,0,0,null,null,null,null,null,null,null,null,null,null,null,null,{"$f":"#VALUE!","v":{"$error":"#VALUE!"}},{"$f":"#VALUE!","v":{"$error":"#VALUE!"}}]
[null,null,null,null,null,null,null,null,null,null,null,null,null,null,null,null,null,null,null,null,null,null,null,null,null,null,null,null,null,null,null,null,null,null,null,null,null,null,null,null,null,null,null,null,null,null,null,null,null,null,null,null,null,null,null,null,null,null,null,null,null,null,null,"",0,0,0,0,0,0,0,0,0,null,null,null,null,null,null,null,null,null,null,null,null,{"$f":"#VALUE!","v":{"$error":"#VALUE!"}},{"$f":"#VALUE!","v":{"$error":"#VALUE!"}}]
[null,null,null,null,null,null,null,null,null,null,null,null,null,null,null,null,null,null,null,null,null,null,null,null,null,null,null,null,null,null,null,null,null,null,null,null,null,null,null,null,null,null,null,null,null,null,null,null,null,null,null,null,null,null,null,null,null,null,null,null,null,null,null,"",0,0,0,0,0,0,0,0,0,null,null,null,null,null,null,null,null,null,null,null,null,{"$f":"#VALUE!","v":{"$error":"#VALUE!"}},{"$f":"#VALUE!","v":{"$error":"#VALUE!"}}]
[null,null,null,null,null,null,null,null,null,null,null,null,null,null,null,null,null,null,null,null,null,null,null,null,null,null,null,null,null,null,null,null,null,null,null,null,null,null,null,null,null,null,null,null,null,null,null,null,null,null,null,null,null,null,null,null,null,null,null,null,null,null,null,"",0,0,0,0,0,0,0,0,0,null,null,null,null,null,null,null,null,null,null,null,null,{"$f":"#VALUE!","v":{"$error":"#VALUE!"}},{"$f":"#VALUE!","v":{"$error":"#VALUE!"}}]
[null,null,null,null,null,null,null,null,null,null,null,null,null,null,null,null,null,null,null,null,null,null,null,null,null,null,null,null,null,null,null,null,null,null,null,null,null,null,null,null,null,null,null,null,null,null,null,null,null,null,null,null,null,null,null,null,null,null,null,null,null,null,null,"",0,0,0,0,0,0,0,0,0,null,null,null,null,null,null,null,null,null,null,null,null,{"$f":"#VALUE!","v":{"$error":"#VALUE!"}},{"$f":"#VALUE!","v":{"$error":"#VALUE!"}}]
[null,null,null,null,null,null,null,null,null,null,null,null,null,null,null,null,null,null,null,null,null,null,null,null,null,null,null,null,null,null,null,null,null,null,null,null,null,null,null,null,null,null,null,null,null,null,null,null,null,null,null,null,null,null,null,null,null,null,null,null,null,null,null,"",0,0,0,0,0,0,0,0,0,null,null,null,null,null,null,null,null,null,null,null,null,{"$f":"#VALUE!","v":{"$error":"#VALUE!"}},{"$f":"#VALUE!","v":{"$error":"#VALUE!"}}]
[null,null,null,null,null,null,null,null,null,null,null,null,null,null,null,null,null,null,null,null,null,null,null,null,null,null,null,null,null,null,null,null,null,null,null,null,null,null,null,null,null,null,null,null,null,null,null,null,null,null,null,null,null,null,null,null,null,null,null,null,null,null,null,"",0,0,0,0,0,0,0,0,0,null,null,null,null,null,null,null,null,null,null,null,null,{"$f":"#VALUE!","v":{"$error":"#VALUE!"}},{"$f":"#VALUE!","v":{"$error":"#VALUE!"}}]
[null,null,null,null,null,null,null,null,null,null,null,null,null,null,null,null,null,null,null,null,null,null,null,null,null,null,null,null,null,null,null,null,null,null,null,null,null,null,null,null,null,null,null,null,null,null,null,null,null,null,null,null,null,null,null,null,null,null,null,null,null,null,null,"",0,0,0,0,0,0,0,0,0,null,null,null,null,null,null,null,null,null,null,null,null,{"$f":"#VALUE!","v":{"$error":"#VALUE!"}},{"$f":"#VALUE!","v":{"$error":"#VALUE!"}}]
[null,null,null,null,null,null,null,null,null,null,null,null,null,null,null,null,null,null,null,null,null,null,null,null,null,null,null,null,null,null,null,null,null,null,null,null,null,null,null,null,null,null,null,null,null,null,null,null,null,null,null,null,null,null,null,null,null,null,null,null,null,null,null,"",0,0,0,0,0,0,0,0,0,null,null,null,null,null,null,null,null,null,null,null,null,{"$f":"#VALUE!","v":{"$error":"#VALUE!"}},{"$f":"#VALUE!","v":{"$error":"#VALUE!"}}]
[null,null,null,null,null,null,null,null,null,null,null,null,null,null,null,null,null,null,null,null,null,null,null,null,null,null,null,null,null,null,null,null,null,null,null,null,null,null,null,null,null,null,null,null,null,null,null,null,null,null,null,null,null,null,null,null,null,null,null,null,null,null,null,"",0,0,0,0,0,0,0,0,0,null,null,null,null,null,null,null,null,null,null,null,null,{"$f":"#VALUE!","v":{"$error":"#VALUE!"}},{"$f":"#VALUE!","v":{"$error":"#VALUE!"}}]
[null,null,null,null,null,null,null,null,null,null,null,null,null,null,null,null,null,null,null,null,null,null,null,null,null,null,null,null,null,null,null,null,null,null,null,null,null,null,null,null,null,null,null,null,null,null,null,null,null,null,null,null,null,null,null,null,null,null,null,null,null,null,null,"",0,0,0,0,0,0,0,0,0,null,null,null,null,null,null,null,null,null,null,null,null,{"$f":"#VALUE!","v":{"$error":"#VALUE!"}},{"$f":"#VALUE!","v":{"$error":"#VALUE!"}}]
[null,null,null,null,null,null,null,null,null,null,null,null,null,null,null,null,null,null,null,null,null,null,null,null,null,null,null,null,null,null,null,null,null,null,null,null,null,null,null,null,null,null,null,null,null,null,null,null,null,null,null,null,null,null,null,null,null,null,null,null,null,null,null,"",0,{"$f":"FLOOR(IF(H348=\"إدارى\",I348*0,IF(H348=\"معلم مساعد\",I348*50/100,IF(H348=\"معلم\",I348*50/100,IF(H348=\"معلم أول\",I348*50/100,IF(H348=\"معلم أول أ\",I348*50/100,IF(H348=\"خبير\",I348*50/100,IF(H348=\"كبير\",I348*50/100,))))))),0.05)","v":0},0,0,0,0,0,0,0,null,null,null,null,null,null,null,null,null,null,null,null,{"$f":"#VALUE!","v":{"$error":"#VALUE!"}},{"$f":"#VALUE!","v":{"$error":"#VALUE!"}}]
[null,null,null,null,null,null,null,null,null,null,null,null,null,null,null,null,null,null,null,null,null,null,null,null,null,null,null,null,null,null,null,null,null,null,null,null,null,null,null,null,null,null,null,null,null,null,null,null,null,null,null,null,null,null,null,null,null,null,null,null,null,null,null,"",0,0,0,0,0,0,0,0,0,null,null,null,null,null,null,null,null,null,null,null,null,{"$f":"#VALUE!","v":{"$error":"#VALUE!"}},{"$f":"#VALUE!","v":{"$error":"#VALUE!"}}]
[null,null,null,null,null,null,null,null,null,null,null,null,null,null,null,null,null,null,null,null,null,null,null,null,null,null,null,null,null,null,null,null,null,null,null,null,null,null,null,null,null,null,null,null,null,null,null,null,null,null,null,null,null,null,null,null,null,null,null,null,null,null,null,"",0,0,0,0,0,0,0,0,0,null,null,null,null,null,null,null,null,null,null,null,null,{"$f":"#VALUE!","v":{"$error":"#VALUE!"}},{"$f":"#VALUE!","v":{"$error":"#VALUE!"}}]
[null,null,null,null,null,null,null,null,null,null,null,null,null,null,null,null,null,null,null,null,null,null,null,null,null,null,null,null,null,null,null,null,null,null,null,null,null,null,null,null,null,null,null,null,null,null,null,null,null,null,null,null,null,null,null,null,null,null,null,null,null,null,null,"",0,0,0,0,0,0,0,0,0,null,null,null,null,null,null,null,null,null,null,null,null,{"$f":"#VALUE!","v":{"$error":"#VALUE!"}},{"$f":"#VALUE!","v":{"$error":"#VALUE!"}}]
[null,null,null,null,null,null,null,null,null,null,null,null,null,null,null,null,null,null,null,null,null,null,null,null,null,null,null,null,null,null,null,null,null,null,null,null,null,null,null,null,null,null,null,null,null,null,null,null,null,null,null,null,null,null,null,null,null,null,null,null,null,null,null,"",0,0,0,0,0,0,0,0,0,null,null,null,null,null,null,null,null,null,null,null,null,{"$f":"#VALUE!","v":{"$error":"#VALUE!"}},{"$f":"#VALUE!","v":{"$error":"#VALUE!"}}]
[null,null,null,null,null,null,null,null,null,null,null,null,null,null,null,null,null,null,null,null,null,null,null,null,null,null,null,null,null,null,null,null,null,null,null,null,null,null,null,null,null,null,null,null,null,null,null,null,null,null,null,null,null,null,null,null,null,null,null,null,null,null,null,"",0,0,0,0,0,0,0,0,0,null,null,null,null,null,null,null,null,null,null,null,null,{"$f":"#VALUE!","v":{"$error":"#VALUE!"}},{"$f":"#VALUE!","v":{"$error":"#VALUE!"}}]
[null,null,null,null,null,null,null,null,null,null,null,null,null,null,null,null,null,null,null,null,null,null,null,null,null,null,null,null,null,null,null,null,null,null,null,null,null,null,null,null,null,null,null,null,null,null,null,null,null,null,null,null,null,null,null,null,null,null,null,null,null,null,null,"",0,0,0,0,0,0,0,0,0,null,null,null,null,null,null,null,null,null,null,null,null,{"$f":"#VALUE!","v":{"$error":"#VALUE!"}},{"$f":"#VALUE!","v":{"$error":"#VALUE!"}}]
[null,null,null,null,null,null,null,null,null,null,null,null,null,null,null,null,null,null,null,null,null,null,null,null,null,null,null,null,null,null,null,null,null,null,null,null,null,null,null,null,null,null,null,null,null,null,null,null,null,null,null,null,null,null,null,null,null,null,null,null,null,null,null,"",0,0,0,0,0,0,0,0,0,null,null,null,null,null,null,null,null,null,null,null,null,{"$f":"#VALUE!","v":{"$error":"#VALUE!"}},{"$f":"#VALUE!","v":{"$error":"#VALUE!"}}]
[null,null,null,null,null,null,null,null,null,null,null,null,null,null,null,null,null,null,null,null,null,null,null,null,null,null,null,null,null,null,null,null,null,null,null,null,null,null,null,null,null,null,null,null,null,null,null,null,null,null,null,null,null,null,null,null,null,null,null,null,null,null,null,"",0,0,0,0,0,0,0,0,0,null,null,null,null,null,null,null,null,null,null,null,null,{"$f":"#VALUE!","v":{"$error":"#VALUE!"}},{"$f":"#VALUE!","v":{"$error":"#VALUE!"}}]
[null,null,null,null,null,null,null,null,null,null,null,null,null,null,null,null,null,null,null,null,null,null,null,null,null,null,null,null,null,null,null,null,null,null,null,null,null,null,null,null,null,null,null,null,null,null,null,null,null,null,null,null,null,null,null,null,null,null,null,null,null,null,null,"",0,0,0,0,0,0,0,0,0,null,null,null,null,null,null,null,null,null,null,null,null,{"$f":"IF(H357=\"عقد مميز\",I357*0/100,IF(H357=\"معلم مساعد\",I357*125/100,IF(H357=\"معلم\",I357*75/100,IF(H357=\"معلم اول\",I357*50/100,IF(H357=\"معلم اول ا\",I357*25/100,IF(H357=\"معلم خبير\",I357*25/100,IF(H357=\"معلم كبير\",I357*25/100,)))))))","v":0},{"$f":"IF(H357=\"عقد مميز\",I357*25/100,IF(H357=\"معلم مساعد\",I357*25/100,IF(H357=\"معلم\",I357*25/100,IF(H357=\"معلم اول\",I357*25/100,IF(H357=\"معلم اول ا\",I357*25/100,IF(H357=\"معلم خبير\",I357*25/100,IF(H357=\"معلم كبير\",I357*25,0)))))))","v":0}]
[null,null,null,null,null,null,null,null,null,null,null,null,null,null,null,null,null,null,null,null,null,null,null,null,null,null,null,null,null,null,null,null,null,null,null,null,null,null,null,null,null,null,null,null,null,null,null,null,null,null,null,null,null,null,null,null,null,null,null,null,null,null,null,"",0,0,0,0,0,0,0,0,0]
[null,null,null,null,null,null,null,null,null,null,null,null,null,null,null,null,null,null,null,null,null,null,null,null,null,null,null,null,null,null,null,null,null,null,null,null,null,null,null,null,null,null,null,null,null,null,null,null,null,null,null,null,null,null,null,null,null,null,null,null,null,null,null,"",0,0,0,0,0,0,0,0,0]
[null,null,null,null,null,null,null,null,null,null,null,null,null,null,null,null,null,null,null,null,null,null,null,null,null,null,null,null,null,null,null,null,null,null,null,null,null,null,null,null,null,null,null,null,null,null,null,null,null,null,null,null,null,null,null,null,null,null,null,null,null,null,null,"",0,0,0,0,0,0,0,0,0]
[null,null,null,null,null,null,null,null,null,null,null,null,null,null,null,null,null,null,null,null,null,null,null,null,null,null,null,null,null,null,null,null,null,null,null,null,null,null,null,null,null,null,null,null,null,null,null,null,null,null,null,null,null,null,null,null,null,null,null,null,null,null,null,"",0,0,0,0,0,0,0,0,0]
[null,null,null,null,null,null,null,null,null,null,null,null,null,null,null,null,null,null,null,null,null,null,null,null,null,null,null,null,null,null,null,null,null,null,null,null,null,null,null,null,null,null,null,null,null,null,null,null,null,null,null,null,null,null,null,null,null,null,null,null,null,null,null,"",0,0,0,0,0,0,0,0,0]
[null,null,null,null,null,null,null,null,null,null,null,null,null,null,null,null,null,null,null,null,null,null,null,null,null,null,null,null,null,null,null,null,null,null,null,null,null,null,null,null,null,null,null,null,null,null,null,null,null,null,null,null,null,null,null,null,null,null,null,null,null,null,null,"",0,0,0,0,0,0,0,0,0]
[null,null,null,null,null,null,null,null,null,null,null,null,null,null,null,null,null,null,null,null,null,null,null,null,null,null,null,null,null,null,null,null,null,null,null,null,null,null,null,null,null,null,null,null,null,null,null,null,null,null,null,null,null,null,null,null,null,null,null,null,null,null,null,"",0,0,0,0,0,0,0,0,0]
[null,null,null,null,null,null,null,null,null,null,null,null,null,null,null,null,null,null,null,null,null,null,null,null,null,null,null,null,null,null,null,null,null,null,null,null,null,null,null,null,null,null,null,null,null,null,null,null,null,null,null,null,null,null,null,null,null,null,null,null,null,null,null,"",0,0,0,0,0,0,0,0,0]
[null,null,null,null,null,null,null,null,null,null,null,null,null,null,null,null,null,null,null,null,null,null,null,null,null,null,null,null,null,null,null,null,null,null,null,null,null,null,null,null,null,null,null,null,null,null,null,null,null,null,null,null,null,null,null,null,null,null,null,null,null,null,null,"",0,0,0,0,0,0,0,0,0]
[null,null,null,null,null,null,null,null,null,null,null,null,null,null,null,null,null,null,null,null,null,null,null,null,null,null,null,null,null,null,null,null,null,null,null,null,null,null,null,null,null,null,null,null,null,null,null,null,null,null,null,null,null,null,null,null,null,null,null,null,null,null,null,"",0,0,0,0,0,0,0,0,0]
[null,null,null,null,null,null,null,null,null,null,null,null,null,null,null,null,null,null,null,null,null,null,null,null,null,null,null,null,null,null,null,null,null,null,null,null,null,null,null,null,null,null,null,null,null,null,null,null,null,null,null,null,null,null,null,null,null,null,null,null,null,null,null,"",0,0,0,0,0,0,0,0,0]
[null,null,null,null,null,null,null,null,null,null,null,null,null,null,null,null,null,null,null,null,null,null,null,null,null,null,null,null,null,null,null,null,null,null,null,null,null,null,null,null,null,null,null,null,null,null,null,null,null,null,null,null,null,null,null,null,null,null,null,null,null,null,null,"",0,0,0,0,0,0,0,0,0]
[null,null,null,null,null,null,null,null,null,null,null,null,null,null,null,null,null,null,null,null,null,null,null,null,null,null,null,null,null,null,null,null,null,null,null,null,null,null,null,null,null,null,null,null,null,null,null,null,null,null,null,null,null,null,null,null,null,null,null,null,null,null,null,"",0,0,0,0,0,0,0,0,0]
[null,null,null,null,null,null,null,null,null,null,null,null,null,null,null,null,null,null,null,null,null,null,null,null,null,null,null,null,null,null,null,null,null,null,null,null,null,null,null,null,null,null,null,null,null,null,null,null,null,null,null,null,null,null,null,null,null,null,null,null,null,null,null,"",0,0,0,0,0,0,0,0,0]
[null,null,null,null,null,null,null,null,null,null,null,null,null,null,null,null,null,null,null,null,null,null,null,null,null,null,null,null,null,null,null,null,null,null,null,null,null,null,null,null,null,null,null,null,null,null,null,null,null,null,null,null,null,null,null,null,null,null,null,null,null,null,null,"",0,0,0,0,0,0,0,0,0]
[null,null,null,null,null,null,null,null,null,null,null,null,null,null,null,null,null,null,null,null,null,null,null,null,null,null,null,null,null,null,null,null,null,null,null,null,null,null,null,null,null,null,null,null,null,null,null,null,null,null,null,null,null,null,null,null,null,null,null,null,null,null,null,"",0,0,0,0,0,0,0,0,0]
[null,null,null,null,null,null,null,null,null,null,null,null,null,null,null,null,null,null,null,null,null,null,null,null,null,null,null,null,null,null,null,null,null,null,null,null,null,null,null,null,null,null,null,null,null,null,null,null,null,null,null,null,null,null,null,null,null,null,null,null,null,null,null,"",0,0,0,0,0,0,0,0,0]
[null,null,null,null,null,null,null,null,null,null,null,null,null,null,null,null,null,null,null,null,null,null,null,null,null,null,null,null,null,null,null,null,null,null,null,null,null,null,null,null,null,null,null,null,null,null,null,null,null,null,null,null,null,null,null,null,null,null,null,null,null,null,null,"",0,0,0,0,0,0,0,0,0]
[null,null,null,null,null,null,null,null,null,null,null,null,null,null,null,null,null,null,null,null,null,null,null,null,null,null,null,null,null,null,null,null,null,null,null,null,null,null,null,null,null,null,null,null,null,null,null,null,null,null,null,null,null,null,null,null,null,null,null,null,null,null,null,"",0,0,0,0,0,0,0,0,0]
[null,null,null,null,null,null,null,null,null,null,null,null,null,null,null,null,null,null,null,null,null,null,null,null,null,null,null,null,null,null,null,null,null,null,null,null,null,null,null,null,null,null,null,null,null,null,null,null,null,null,null,null,null,null,null,null,null,null,null,null,null,null,null,"",0,0,0,0,0,0,0,0,0]
[null,null,null,null,null,null,null,null,null,null,null,null,null,null,null,null,null,null,null,null,null,null,null,null,null,null,null,null,null,null,null,null,null,null,null,null,null,null,null,null,null,null,null,null,null,null,null,null,null,null,null,null,null,null,null,null,null,null,null,null,null,null,null,"",0,0,0,0,0,0,0,0,0]
[null,null,null,null,null,null,null,null,null,null,null,null,null,null,null,null,null,null,null,null,null,null,null,null,null,null,null,null,null,null,null,null,null,null,null,null,null,null,null,null,null,null,null,null,null,null,null,null,null,null,null,null,null,null,null,null,null,null,null,null,null,null,null,"",0,0,0,0,0,0,0,0,0]
[null,null,null,null,null,null,null,null,null,null,null,null,null,null,null,null,null,null,null,null,null,null,null,null,null,null,null,null,null,null,null,null,null,null,null,null,null,null,null,null,null,null,null,null,null,null,null,null,null,null,null,null,null,null,null,null,null,null,null,null,null,null,null,"",0,0,0,0,0,0,0,0,0]
[null,null,null,null,null,null,null,null,null,null,null,null,null,null,null,null,null,null,null,null,null,null,null,null,null,null,null,null,null,null,null,null,null,null,null,null,null,null,null,null,null,null,null,null,null,null,null,null,null,null,null,null,null,null,null,null,null,null,null,null,null,null,null,"",0,0,0,0,0,0,0,0,0]
[null,null,null,null,null,null,null,null,null,null,null,null,null,null,null,null,null,null,null,null,null,null,null,null,null,null,null,null,null,null,null,null,null,null,null,null,null,null,null,null,null,null,null,null,null,null,null,null,null,null,null,null,null,null,null,null,null,null,null,null,null,null,null,"",0,0,0,0,0,0,0,0,0]
[null,null,null,null,null,null,null,null,null,null,null,null,null,null,null,null,null,null,null,null,null,null,null,null,null,null,null,null,null,null,null,null,null,null,null,null,null,null,null,null,null,null,null,null,null,null,null,null,null,null,null,null,null,null,null,null,null,null,null,null,null,null,null,"",0,0,0,0,0,0,0,0,0]
[null,null,null,null,null,null,null,null,null,null,null,null,null,null,null,null,null,null,null,null,null,null,null,null,null,null,null,null,null,null,null,null,null,null,null,null,null,null,null,null,null,null,null,null,null,null,null,null,null,null,null,null,null,null,null,null,null,null,null,null,null,null,null,"",0,0,0,0,0,0,0,0,0]
[null,null,null,null,null,null,null,null,null,null,null,null,null,null,null,null,null,null,null,null,null,null,null,null,null,null,null,null,null,null,null,null,null,null,null,null,null,null,null,null,null,null,null,null,null,null,null,null,null,null,null,null,null,null,null,null,null,null,null,null,null,null,null,"",0,0,0,0,0,0,0,0,0]
[null,null,null,null,null,null,null,null,null,null,null,null,null,null,null,null,null,null,null,null,null,null,null,null,null,null,null,null,null,null,null,null,null,null,null,null,null,null,null,null,null,null,null,null,null,null,null,null,null,null,null,null,null,null,null,null,null,null,null,null,null,null,null,"",0,0,0,0,0,0,0,0,0]
[null,null,null,null,null,null,null,null,null,null,null,null,null,null,null,null,null,null,null,null,null,null,null,null,null,null,null,null,null,null,null,null,null,null,null,null,null,null,null,null,null,null,null,null,null,null,null,null,null,null,null,null,null,null,null,null,null,null,null,null,null,null,null,"",0,0,0,0,0,0,0,0,0]
[null,null,null,null,null,null,null,null,null,null,null,null,null,null,null,null,null,null,null,null,null,null,null,null,null,null,null,null,null,null,null,null,null,null,null,null,null,null,null,null,null,null,null,null,null,null,null,null,null,null,null,null,null,null,null,null,null,null,null,null,null,null,null,"",0,0,0,{"$f":"INT(IF(H388=\"عامل تعاقد\",I388*25/100,IF(H388=\"معلم مساعد\",I388*25/100,IF(H388=\"معلم\",I388*25/100,IF(H388=\"معلم أول\",I388*25/100,IF(H388=\"معلم أول أ\",I388*25/100,IF(H388=\"خبير\",I388*25/100,IF(H388=\"كبير\",I388*25/100,))))))))","v":0},{"$f":"INT(IF(H388=\"إدارى\",J388*0/100,IF(H388=\"معلم مساعد\",I388*125/100,IF(H388=\"معلم\",I388*75/100,IF(H388=\"معلم أول\",I388*50/100,IF(H388=\"معلم أول أ\",I388*25/100,IF(H388=\"خبير\",I388*25/100,IF(H388=\"كبير\",I388*25/100,))))))))","v":0},0,0,0,0]
[null,null,null,null,null,null,null,null,null,null,null,null,null,null,null,null,null,null,null,null,null,null,null,null,null,null,null,null,null,null,null,null,null,null,null,null,null,null,null,null,null,null,null,null,null,null,null,null,null,null,null,null,null,null,null,null,null,null,null,null,null,null,null,{"$f":"IF(H389=\"معلم مساعد\",10,IF(H389=\"معلم تعاقد\",10,IF(H389=\"معلم\",10,IF(H389=\"معلم أول\",10,IF(H389=\"معلم أول أ\",10,IF(H389=\"خبير\",10,IF(H389=\"كبير\",10,IF(H389=\"عامل تعاقد\",0,\"\"))))))))","v":""},{"$f":"IF(H389=\"عقد مميز\",I389*0/100,IF(H389=\"معلم تعاقد\",I389*0/100,IF(H389=\"معلم\",I389*50/100,IF(H389=\"معلم أول\",I389*50/100,IF(H389=\"معلم أول أ\",I389*50/100,IF(H389=\"خبير\",I389*50/100,IF(H389=\"كبير\",I389*50/100,)))))))","v":0},0,0,0,0,{"$f":"INT(IF(H389=\"عامل تعاقد\",I389*0.9166,IF(H389=\"معلم تعاقد\",I389*0.9166,0)))","v":0},{"$f":"INT(IF(H389=\"عامل تعاقد\",I389*0.5,IF(H389=\"معلم تعاقد\",I389*0.5,0)))","v":0},{"$f":"INT(IF(F389=1,I389*0.3333,0))","v":0},{"$f":"IF(H389=\"عامل تعاقد\",225,IF(H389=\"معلم تعاقد\",300,0))","v":0}]
[null,null,null,null,null,null,null,null,null,null,null,null,null,null,null,null,null,null,null,null,null,null,null,null,null,null,null,null,null,null,null,null,null,null,null,null,null,null,null,null,null,null,null,null,null,null,null,null,null,null,null,null,null,null,null,null,null,null,null,null,null,null,null,"",0,0,{"$f":"IF(H390=\"إدارى\",I390*0,IF(H390=\"معلم مساعد\",I390*0/100,IF(H390=\"معلم\",I390*50/100,IF(H390=\"معلم أول\",I390*75/100,IF(H390=\"معلم أول أ\",I390*100/100,IF(H390=\"خبير\",I390*125/100,IF(H390=\"كبير\",I390*150/100,)))))))","v":0},0,0,0,0,0,0]
[null,null,null,null,null,null,null,null,null,null,null,null,null,null,null,null,null,null,null,null,null,null,null,null,null,null,null,null,null,null,null,null,null,null,null,null,null,null,null,null,null,null,null,null,null,null,null,null,null,null,null,null,null,null,null,null,null,null,null,null,null,null,null,"",0,0,0,0,0,0,0,0,0]
[null,null,null,null,null,null,null,null,null,null,null,null,null,null,null,null,null,null,null,null,null,null,null,null,null,null,null,null,null,null,null,null,null,null,null,null,null,null,null,null,null,null,null,null,null,null,null,null,null,null,null,null,null,null,null,null,null,null,null,null,null,null,null,"",0,0,0,0,0,0,0,0,0]
[null,null,null,null,null,null,null,null,null,null,null,null,null,null,null,null,null,null,null,null,null,null,null,null,null,null,null,null,null,null,null,null,null,null,null,null,null,null,null,null,null,null,null,null,null,null,null,null,null,null,null,null,null,null,null,null,null,null,null,null,null,null,null,"",0,0,0,0,0,0,0,0,0]
[null,null,null,null,null,null,null,null,null,null,null,null,null,null,null,null,null,null,null,null,null,null,null,null,null,null,null,null,null,null,null,null,null,null,null,null,null,null,null,null,null,null,null,null,null,null,null,null,null,null,null,null,null,null,null,null,null,null,null,null,null,null,null,"",0,0,0,0,0,0,0,0,0]
[null,null,null,null,null,null,null,null,null,null,null,null,null,null,null,null,null,null,null,null,null,null,null,null,null,null,null,null,null,null,null,null,null,null,null,null,null,null,null,null,null,null,null,null,null,null,null,null,null,null,null,null,null,null,null,null,null,null,null,null,null,null,null,"",0,0,0,0,0,0,0,0,0]
[null,null,null,null,null,null,null,null,null,null,null,null,null,null,null,null,null,null,null,null,null,null,null,null,null,null,null,null,null,null,null,null,null,null,null,null,null,null,null,null,null,null,null,null,null,null,null,null,null,null,null,null,null,null,null,null,null,null,null,null,null,null,null,"",0,0,0,0,0,0,0,0,0]
[null,null,null,null,null,null,null,null,null,null,null,null,null,null,null,null,null,null,null,null,null,null,null,null,null,null,null,null,null,null,null,null,null,null,null,null,null,null,null,null,null,null,null,null,null,null,null,null,null,null,null,null,null,null,null,null,null,null,null,null,null,null,null,"",0,0,0,0,0,0,0,0,0]
[null,null,null,null,null,null,null,null,null,null,null,null,null,null,null,null,null,null,null,null,null,null,null,null,null,null,null,null,null,null,null,null,null,null,null,null,null,null,null,null,null,null,null,null,null,null,null,null,null,null,null,null,null,null,null,null,null,null,null,null,null,null,null,"",0,0,0,0,0,0,0,0,0]
[null,null,null,null,null,null,null,null,null,null,null,null,null,null,null,null,null,null,null,null,null,null,null,null,null,null,null,null,null,null,null,null,null,null,null,null,null,null,null,null,null,null,null,null,null,null,null,null,null,null,null,null,null,null,null,null,null,null,null,null,null,null,null,"",0,0,0,0,0,0,0,0,0]
[null,null,null,null,null,null,null,null,null,null,null,null,null,null,null,null,null,null,null,null,null,null,null,null,null,null,null,null,null,null,null,null,null,null,null,null,null,null,null,null,null,null,null,null,null,null,null,null,null,null,null,null,null,null,null,null,null,null,null,null,null,null,null,"",0,0,0,0,0,0,0,0,0]
[null,null,null,null,null,null,null,null,null,null,null,null,null,null,null,null,null,null,null,null,null,null,null,null,null,null,null,null,null,null,null,null,null,null,null,null,null,null,null,null,null,null,null,null,null,null,null,null,null,null,null,null,null,null,null,null,null,null,null,null,null,null,null,"",0,0,0,0,0,0,0,0,0]
[null,null,null,null,null,null,null,null,null,null,null,null,null,null,null,null,null,null,null,null,null,null,null,null,null,null,null,null,null,null,null,null,null,null,null,null,null,null,null,null,null,null,null,null,null,null,null,null,null,null,null,null,null,null,null,null,null,null,null,null,null,null,null,"",0,0,0,0,0,0,0,0,0]
[null,null,null,null,null,null,null,null,null,null,null,null,null,null,null,null,null,null,null,null,null,null,null,null,null,null,null,null,null,null,null,null,null,null,null,null,null,null,null,null,null,null,null,null,null,null,null,null,null,null,null,null,null,null,null,null,null,null,null,null,null,null,null,"",0,0,0,0,0,0,0,0,0]
[null,null,null,null,null,null,null,null,null,null,null,null,null,null,null,null,null,null,null,null,null,null,null,null,null,null,null,null,null,null,null,null,null,null,null,null,null,null,null,null,null,null,null,null,null,null,null,null,null,null,null,null,null,null,null,null,null,null,null,null,null,null,null,"",0,0,0,0,0,0,0,0,0]
[null,null,null,null,null,null,null,null,null,null,null,null,null,null,null,null,null,null,null,null,null,null,null,null,null,null,null,null,null,null,null,null,null,null,null,null,null,null,null,null,null,null,null,null,null,null,null,null,null,null,null,null,null,null,null,null,null,null,null,null,null,null,null,"",0,0,0,0,0,0,0,0,0]
[null,null,null,null,null,null,null,null,null,null,null,null,null,null,null,null,null,null,null,null,null,null,null,null,null,null,null,null,null,null,null,null,null,null,null,null,null,null,null,null,null,null,null,null,null,null,null,null,null,null,null,null,null,null,null,null,null,null,null,null,null,null,null,"",0,0,0,0,0,0,0,0,0]
[null,null,null,null,null,null,null,null,null,null,null,null,null,null,null,null,null,null,null,null,null,null,null,null,null,null,null,null,null,null,null,null,null,null,null,null,null,null,null,null,null,null,null,null,null,null,null,null,null,null,null,null,null,null,null,null,null,null,null,null,null,null,null,"",0,0,0,0,0,0,0,0,0]
[null,null,null,null,null,null,null,null,null,null,null,null,null,null,null,null,null,null,null,null,null,null,null,null,null,null,null,null,null,null,null,null,null,null,null,null,null,null,null,null,null,null,null,null,null,null,null,null,null,null,null,null,null,null,null,null,null,null,null,null,null,null,null,"",0,0,0,0,0,0,0,0,0]
[null,null,null,null,null,null,null,null,null,null,null,null,null,null,null,null,null,null,null,null,null,null,null,null,null,null,null,null,null,null,null,null,null,null,null,null,null,null,null,null,null,null,null,null,null,null,null,null,null,null,null,null,null,null,null,null,null,null,null,null,null,null,null,"",0,0,0,0,0,0,0,0,0]
[null,null,null,null,null,null,null,null,null,null,null,null,null,null,null,null,null,null,null,null,null,null,null,null,null,null,null,null,null,null,null,null,null,null,null,null,null,null,null,null,null,null,null,null,null,null,null,null,null,null,null,null,null,null,null,null,null,null,null,null,null,null,null,"",0,0,0,0,0,0,0,0,0]
[null,null,null,null,null,null,null,null,null,null,null,null,null,null,null,null,null,null,null,null,null,null,null,null,null,null,null,null,null,null,null,null,null,null,null,null,null,null,null,null,null,null,null,null,null,null,null,null,null,null,null,null,null,null,null,null,null,null,null,null,null,null,null,"",0,0,0,0,0,0,0,0,0]
[null,null,null,null,null,null,null,null,null,null,null,null,null,null,null,null,null,null,null,null,null,null,null,null,null,null,null,null,null,null,null,null,null,null,null,null,null,null,null,null,null,null,null,null,null,null,null,null,null,null,null,null,null,null,null,null,null,null,null,null,null,null,null,"",0,{"$f":"FLOOR(IF(H412=\"إدارى\",I412*0,IF(H412=\"معلم مساعد\",I412*50/100,IF(H412=\"معلم\",I412*50/100,IF(H412=\"معلم أول\",I412*50/100,IF(H412=\"معلم أول أ\",I412*50/100,IF(H412=\"خبير\",I412*50/100,IF(H412=\"كبير\",I412*50/100,))))))),0.05)","v":0},0,0,0,0,0,0,0]
[null,null,null,null,null,null,null,null,null,null,null,null,null,null,null,null,null,null,null,null,null,null,null,null,null,null,null,null,null,null,null,null,null,null,null,null,null,null,null,null,null,null,null,null,null,null,null,null,null,null,null,null,null,null,null,null,null,null,null,null,null,null,null,"",0,0,0,0,0,0,0,0,0]
[null,null,null,null,null,null,null,null,null,null,null,null,null,null,null,null,null,null,null,null,null,null,null,null,null,null,null,null,null,null,null,null,null,null,null,null,null,null,null,null,null,null,null,null,null,null,null,null,null,null,null,null,null,null,null,null,null,null,null,null,null,null,null,"",0,0,0,0,0,0,0,0,0]
[null,null,null,null,null,null,null,null,null,null,null,null,null,null,null,null,null,null,null,null,null,null,null,null,null,null,null,null,null,null,null,null,null,null,null,null,null,null,null,null,null,null,null,null,null,null,null,null,null,null,null,null,null,null,null,null,null,null,null,null,null,null,null,"",0,0,0,0,0,0,0,0,0]
[null,null,null,null,null,null,null,null,null,null,null,null,null,null,null,null,null,null,null,null,null,null,null,null,null,null,null,null,null,null,null,null,null,null,null,null,null,null,null,null,null,null,null,null,null,null,null,null,null,null,null,null,null,null,null,null,null,null,null,null,null,null,null,"",0,0,0,0,0,0,0,0,0]
[null,null,null,null,null,null,null,null,null,null,null,null,null,null,null,null,null,null,null,null,null,null,null,null,null,null,null,null,null,null,null,null,null,null,null,null,null,null,null,null,null,null,null,null,null,null,null,null,null,null,null,null,null,null,null,null,null,null,null,null,null,null,null,"",0,0,0,0,0,0,0,0,0]
[null,null,null,null,null,null,null,null,null,null,null,null,null,null,null,null,null,null,null,null,null,null,null,null,null,null,null,null,null,null,null,null,null,null,null,null,null,null,null,null,null,null,null,null,null,null,null,null,null,null,null,null,null,null,null,null,null,null,null,null,null,null,null,"",0,0,0,0,0,0,0,0,0]
[null,null,null,null,null,null,null,null,null,null,null,null,null,null,null,null,null,null,null,null,null,null,null,null,null,null,null,null,null,null,null,null,null,null,null,null,null,null,null,null,null,null,null,null,null,null,null,null,null,null,null,null,null,null,null,null,null,null,null,null,null,null,null,"",0,0,0,0,0,0,0,0,0]
[null,null,null,null,null,null,null,null,null,null,null,null,null,null,null,null,null,null,null,null,null,null,null,null,null,null,null,null,null,null,null,null,null,null,null,null,null,null,null,null,null,null,null,null,null,null,null,null,null,null,null,null,null,null,null,null,null,null,null,null,null,null,null,"",0,0,0,0,0,0,0,0,0]
[null,null,null,null,null,null,null,null,null,null,null,null,null,null,null,null,null,null,null,null,null,null,null,null,null,null,null,null,null,null,null,null,null,null,null,null,null,null,null,null,null,null,null,null,null,null,null,null,null,null,null,null,null,null,null,null,null,null,null,null,null,null,null,"",0,0,0,0,0,0,0,0,0]
[null,null,null,null,null,null,null,null,null,null,null,null,null,null,null,null,null,null,null,null,null,null,null,null,null,null,null,null,null,null,null,null,null,null,null,null,null,null,null,null,null,null,null,null,null,null,null,null,null,null,null,null,null,null,null,null,null,null,null,null,null,null,null,"",0,0,0,0,0,0,0,0,0]
[null,null,null,null,null,null,null,null,null,null,null,null,null,null,null,null,null,null,null,null,null,null,null,null,null,null,null,null,null,null,null,null,null,null,null,null,null,null,null,null,null,null,null,null,null,null,null,null,null,null,null,null,null,null,null,null,null,null,null,null,null,null,null,"",0,0,0,0,0,0,0,0,0]
[null,null,null,null,null,null,null,null,null,null,null,null,null,null,null,null,null,null,null,null,null,null,null,null,null,null,null,null,null,null,null,null,null,null,null,null,null,null,null,null,null,null,null,null,null,null,null,null,null,null,null,null,null,null,null,null,null,null,null,null,null,null,null,"",0,0,0,0,0,0,0,0,0]
[null,null,null,null,null,null,null,null,null,null,null,null,null,null,null,null,null,null,null,null,null,null,null,null,null,null,null,null,null,null,null,null,null,null,null,null,null,null,null,null,null,null,null,null,null,null,null,null,null,null,null,null,null,null,null,null,null,null,null,null,null,null,null,"",0,0,0,0,0,0,0,0,0]
[null,null,null,null,null,null,null,null,null,null,null,null,null,null,null,null,null,null,null,null,null,null,null,null,null,null,null,null,null,null,null,null,null,null,null,null,null,null,null,null,null,null,null,null,null,null,null,null,null,null,null,null,null,null,null,null,null,null,null,null,null,null,null,"",0,0,0,0,0,0,0,0,0]
[null,null,null,null,null,null,null,null,null,null,null,null,null,null,null,null,null,null,null,null,null,null,null,null,null,null,null,null,null,null,null,null,null,null,null,null,null,null,null,null,null,null,null,null,null,null,null,null,null,null,null,null,null,null,null,null,null,null,null,null,null,null,null,"",0,0,0,0,0,0,0,0,0]
[null,null,null,null,null,null,null,null,null,null,null,null,null,null,null,null,null,null,null,null,null,null,null,null,null,null,null,null,null,null,null,null,null,null,null,null,null,null,null,null,null,null,null,null,null,null,null,null,null,null,null,null,null,null,null,null,null,null,null,null,null,null,null,null,0,0,0,0,0,0,0]
[null,null,null,null,null,null,null,null,null,null,null,null,null,null,null,null,null,null,null,null,null,null,null,null,null,null,null,null,null,null,null,null,null,null,null,null,null,null,null,null,null,null,null,null,null,null,null,null,null,null,null,null,null,null,null,null,null,null,null,null,null,null,null,null,0,0,0,0,0,0,0]
[null,null,null,null,null,null,null,null,null,null,null,null,null,null,null,null,null,null,null,null,null,null,null,null,null,null,null,null,null,null,null,null,null,null,null,null,null,null,null,null,null,null,null,null,null,null,null,null,null,null,null,null,null,null,null,null,null,null,null,null,null,null,null,null,0,0,0,0,0]
[null,null,null,null,null,null,null,null,null,null,null,null,null,null,null,null,null,null,null,null,null,null,null,null,null,null,null,null,null,null,null,null,null,null,null,null,null,null,null,null,null,null,null,null,null,null,null,null,null,null,null,null,null,null,null,null,null,null,null,null,null,null,null,null,0,0,0,0,0]
[null,null,null,null,null,null,null,null,null,null,null,null,null,null,null,null,null,null,null,null,null,null,null,null,null,null,null,null,null,null,null,null,null,null,null,null,null,null,null,null,null,null,null,null,null,null,null,null,null,null,null,null,null,null,null,null,null,null,null,null,null,null,null,null,0,0,0,0,0]
[null,null,null,null,null,null,null,null,null,null,null,null,null,null,null,null,null,null,null,null,null,null,null,null,null,null,null,null,null,null,null,null,null,null,null,null,null,null,null,null,null,null,null,null,null,null,null,null,null,null,null,null,null,null,null,null,null,null,null,null,null,null,null,null,0,0,0,0,0]
[null,null,null,null,null,null,null,null,null,null,null,null,null,null,null,null,null,null,null,null,null,null,null,null,null,null,null,null,null,null,null,null,null,null,null,null,null,null,null,null,null,null,null,null,null,null,null,null,null,null,null,null,null,null,null,null,null,null,null,null,null,null,null,null,0,0,0,0,0]
[null,null,null,null,null,null,null,null,null,null,null,null,null,null,null,null,null,null,null,null,null,null,null,null,null,null,null,null,null,null,null,null,null,null,null,null,null,null,null,null,null,null,null,null,null,null,null,null,null,null,null,null,null,null,null,null,null,null,null,null,null,null,null,null,0,0,0,0,0]
[null,null,null,null,null,null,null,null,null,null,null,null,null,null,null,null,null,null,null,null,null,null,null,null,null,null,null,null,null,null,null,null,null,null,null,null,null,null,null,null,null,null,null,null,null,null,null,null,null,null,null,null,null,null,null,null,null,null,null,null,null,null,null,null,0,0,0,0,0]
[null,null,null,null,null,null,null,null,null,null,null,null,null,null,null,null,null,null,null,null,null,null,null,null,null,null,null,null,null,null,null,null,null,null,null,null,null,null,null,null,null,null,null,null,null,null,null,null,null,null,null,null,null,null,null,null,null,null,null,null,null,null,null,null,0,0,0,0,0]
[null,null,null,null,null,null,null,null,null,null,null,null,null,null,null,null,null,null,null,null,null,null,null,null,null,null,null,null,null,null,null,null,null,null,null,null,null,null,null,null,null,null,null,null,null,null,null,null,null,null,null,null,null,null,null,null,null,null,null,null,null,null,null,null,0,0,0,0,0]
[null,null,null,null,null,null,null,null,null,null,null,null,null,null,null,null,null,null,null,null,null,null,null,null,null,null,null,null,null,null,null,null,null,null,null,null,null,null,null,null,null,null,null,null,null,null,null,null,null,null,null,null,null,null,null,null,null,null,null,null,null,null,null,null,0,0,0,0,0]
[null,null,null,null,null,null,null,null,null,null,null,null,null,null,null,null,null,null,null,null,null,null,null,null,null,null,null,null,null,null,null,null,null,null,null,null,null,null,null,null,null,null,null,null,null,null,null,null,null,null,null,null,null,null,null,null,null,null,null,null,null,null,null,null,0,0,0,0,0]
[null,null,null,null,null,null,null,null,null,null,null,null,null,null,null,null,null,null,null,null,null,null,null,null,null,null,null,null,null,null,null,null,null,null,null,null,null,null,null,null,null,null,null,null,null,null,null,null,null,null,null,null,null,null,null,null,null,null,null,null,null,null,null,null,0,0,0,0,0]
[null,null,null,null,null,null,null,null,null,null,null,null,null,null,null,null,null,null,null,null,null,null,null,null,null,null,null,null,null,null,null,null,null,null,null,null,null,null,null,null,null,null,null,null,null,null,null,null,null,null,null,null,null,null,null,null,null,null,null,null,null,null,null,null,0,0,0,0,0]
[null,null,null,null,null,null,null,null,null,null,null,null,null,null,null,null,null,null,null,null,null,null,null,null,null,null,null,null,null,null,null,null,null,null,null,null,null,null,null,null,null,null,null,null,null,null,null,null,null,null,null,null,null,null,null,null,null,null,null,null,null,null,null,null,0,0,0,0,0]
[null,null,null,null,null,null,null,null,null,null,null,null,null,null,null,null,null,null,null,null,null,null,null,null,null,null,null,null,null,null,null,null,null,null,null,null,null,null,null,null,null,null,null,null,null,null,null,null,null,null,null,null,null,null,null,null,null,null,null,null,null,null,null,null,0,0,0,0,0]
[null,null,null,null,null,null,null,null,null,null,null,null,null,null,null,null,null,null,null,null,null,null,null,null,null,null,null,null,null,null,null,null,null,null,null,null,null,null,null,null,null,null,null,null,null,null,null,null,null,null,null,null,null,null,null,null,null,null,null,null,null,null,null,null,0,0,0,0,0]
[null,null,null,null,null,null,null,null,null,null,null,null,null,null,null,null,null,null,null,null,null,null,null,null,null,null,null,null,null,null,null,null,null,null,null,null,null,null,null,null,null,null,null,null,null,null,null,null,null,null,null,null,null,null,null,null,null,null,null,null,null,null,null,null,0,0,0,0,0]
[null,null,null,null,null,null,null,null,null,null,null,null,null,null,null,null,null,null,null,null,null,null,null,null,null,null,null,null,null,null,null,null,null,null,null,null,null,null,null,null,null,null,null,null,null,null,null,null,null,null,null,null,null,null,null,null,null,null,null,null,null,null,null,null,0,0,0,0,0]
[null,null,null,null,null,null,null,null,null,null,null,null,null,null,null,null,null,null,null,null,null,null,null,null,null,null,null,null,null,null,null,null,null,null,null,null,null,null,null,null,null,null,null,null,null,null,null,null,null,null,null,null,null,null,null,null,null,null,null,null,null,null,null,null,0,0,0,0,0]
[null,null,null,null,null,null,null,null,null,null,null,null,null,null,null,null,null,null,null,null,null,null,null,null,null,null,null,null,null,null,null,null,null,null,null,null,null,null,null,null,null,null,null,null,null,null,null,null,null,null,null,null,null,null,null,null,null,null,null,null,null,null,null,null,0,0,0,0,0]
[null,null,null,null,null,null,null,null,null,null,null,null,null,null,null,null,null,null,null,null,null,null,null,null,null,null,null,null,null,null,null,null,null,null,null,null,null,null,null,null,null,null,null,null,null,null,null,null,null,null,null,null,null,null,null,null,null,null,null,null,null,null,null,null,0,0,0,0,0]
[null,null,null,null,null,null,null,null,null,null,null,null,null,null,null,null,null,null,null,null,null,null,null,null,null,null,null,null,null,null,null,null,null,null,null,null,null,null,null,null,null,null,null,null,null,null,null,null,null,null,null,null,null,null,null,null,null,null,null,null,null,null,null,null,0,0,0,0,0]
[null,null,null,null,null,null,null,null,null,null,null,null,null,null,null,null,null,null,null,null,null,null,null,null,null,null,null,null,null,null,null,null,null,null,null,null,null,null,null,null,null,null,null,null,null,null,null,null,null,null,null,null,null,null,null,null,null,null,null,null,null,null,null,null,0,0,0,{"$f":"INT(IF(H452=\"عامل تعاقد\",I452*25/100,IF(H452=\"معلم مساعد\",I452*25/100,IF(H452=\"معلم\",I452*25/100,IF(H452=\"معلم أول\",I452*25/100,IF(H452=\"معلم أول أ\",I452*25/100,IF(H452=\"خبير\",I452*25/100,IF(H452=\"كبير\",I452*25/100,))))))))","v":0},{"$f":"INT(IF(H452=\"إدارى\",J452*0/100,IF(H452=\"معلم مساعد\",I452*125/100,IF(H452=\"معلم\",I452*75/100,IF(H452=\"معلم أول\",I452*50/100,IF(H452=\"معلم أول أ\",I452*25/100,IF(H452=\"خبير\",I452*25/100,IF(H452=\"كبير\",I452*25/100,))))))))","v":0}]
[null,null,null,null,null,null,null,null,null,null,null,null,null,null,null,null,null,null,null,null,null,null,null,null,null,null,null,null,null,null,null,null,null,null,null,null,null,null,null,null,null,null,null,null,null,null,null,null,null,null,null,null,null,null,null,null,null,null,null,null,null,null,null,null,{"$f":"IF(H453=\"عقد مميز\",I453*0/100,IF(H453=\"معلم تعاقد\",I453*0/100,IF(H453=\"معلم\",I453*50/100,IF(H453=\"معلم أول\",I453*50/100,IF(H453=\"معلم أول أ\",I453*50/100,IF(H453=\"خبير\",I453*50/100,IF(H453=\"كبير\",I453*50/100,)))))))","v":0},0,0,0,0]
[null,null,null,null,null,null,null,null,null,null,null,null,null,null,null,null,null,null,null,null,null,null,null,null,null,null,null,null,null,null,null,null,null,null,null,null,null,null,null,null,null,null,null,null,null,null,null,null,null,null,null,null,null,null,null,null,null,null,null,null,null,null,null,null,0,0,{"$f":"IF(H454=\"إدارى\",I454*0,IF(H454=\"معلم مساعد\",I454*0/100,IF(H454=\"معلم\",I454*50/100,IF(H454=\"معلم أول\",I454*75/100,IF(H454=\"معلم أول أ\",I454*100/100,IF(H454=\"خبير\",I454*125/100,IF(H454=\"كبير\",I454*150/100,)))))))","v":0},0,0]
[null,null,null,null,null,null,null,null,null,null,null,null,null,null,null,null,null,null,null,null,null,null,null,null,null,null,null,null,null,null,null,null,null,null,null,null,null,null,null,null,null,null,null,null,null,null,null,null,null,null,null,null,null,null,null,null,null,null,null,null,null,null,null,null,0,0,0,0,0]
[null,null,null,null,null,null,null,null,null,null,null,null,null,null,null,null,null,null,null,null,null,null,null,null,null,null,null,null,null,null,null,null,null,null,null,null,null,null,null,null,null,null,null,null,null,null,null,null,null,null,null,null,null,null,null,null,null,null,null,null,null,null,null,null,0,0,0,0,0]
[null,null,null,null,null,null,null,null,null,null,null,null,null,null,null,null,null,null,null,null,null,null,null,null,null,null,null,null,null,null,null,null,null,null,null,null,null,null,null,null,null,null,null,null,null,null,null,null,null,null,null,null,null,null,null,null,null,null,null,null,null,null,null,null,0,0,0,0,0]
[null,null,null,null,null,null,null,null,null,null,null,null,null,null,null,null,null,null,null,null,null,null,null,null,null,null,null,null,null,null,null,null,null,null,null,null,null,null,null,null,null,null,null,null,null,null,null,null,null,null,null,null,null,null,null,null,null,null,null,null,null,null,null,null,0,0,0,0,0]
[null,null,null,null,null,null,null,null,null,null,null,null,null,null,null,null,null,null,null,null,null,null,null,null,null,null,null,null,null,null,null,null,null,null,null,null,null,null,null,null,null,null,null,null,null,null,null,null,null,null,null,null,null,null,null,null,null,null,null,null,null,null,null,null,0,0,0,0,0]
[null,null,null,null,null,null,null,null,null,null,null,null,null,null,null,null,null,null,null,null,null,null,null,null,null,null,null,null,null,null,null,null,null,null,null,null,null,null,null,null,null,null,null,null,null,null,null,null,null,null,null,null,null,null,null,null,null,null,null,null,null,null,null,null,0,0,0,0,0]
[null,null,null,null,null,null,null,null,null,null,null,null,null,null,null,null,null,null,null,null,null,null,null,null,null,null,null,null,null,null,null,null,null,null,null,null,null,null,null,null,null,null,null,null,null,null,null,null,null,null,null,null,null,null,null,null,null,null,null,null,null,null,null,null,0,0,0,0,0]
[null,null,null,null,null,null,null,null,null,null,null,null,null,null,null,null,null,null,null,null,null,null,null,null,null,null,null,null,null,null,null,null,null,null,null,null,null,null,null,null,null,null,null,null,null,null,null,null,null,null,null,null,null,null,null,null,null,null,null,null,null,null,null,null,0,0,0,0,0]
[null,null,null,null,null,null,null,null,null,null,null,null,null,null,null,null,null,null,null,null,null,null,null,null,null,null,null,null,null,null,null,null,null,null,null,null,null,null,null,null,null,null,null,null,null,null,null,null,null,null,null,null,null,null,null,null,null,null,null,null,null,null,null,null,0,0,0,0,0]

{"sheet":"كشف1","index":2,"n_rows":199,"n_cols":92,"rows_kept":199,"cut":false,"hidden":false,"merged":[[170,48,172,48],[170,50,170,68],[170,69,170,71],[170,72,171,81],[171,41,172,41],[171,50,171,57],[171,58,171,62],[171,69,172,69],[171,70,172,70],[169,85,172,85],[169,86,172,86],[169,88,172,88],[168,0,168,49],[168,50,168,54],[168,55,168,68],[169,0,172,0],[169,1,169,47],[169,49,172,49],[169,50,169,81],[170,1,171,5],[170,6,172,6],[170,7,171,11],[170,12,172,12],[170,13,171,39],[170,40,172,40],[170,42,172,42],[170,43,171,45],[170,46,172,46],[169,82,172,82],[169,83,172,83],[169,84,172,84],[171,71,172,71],[170,47,172,47],[167,0,167,49],[167,50,167,55],[167,57,167,60],[167,63,167,68],[167,75,167,76],[135,47,137,47],[135,48,137,48],[135,50,135,68],[135,69,135,71],[135,72,136,81],[136,41,137,41],[136,50,136,57],[136,58,136,62],[136,69,137,69],[136,70,137,70],[135,12,137,12],[135,13,136,39],[135,40,137,40],[135,42,137,42],[135,43,136,45],[135,46,137,46],[134,82,137,82],[134,83,137,83],[134,84,137,84],[134,85,137,85],[134,86,137,86],[134,88,137,88],[133,0,133,49],[133,50,133,54],[133,55,133,68],[134,0,137,0],[134,1,134,47],[134,49,137,49],[134,50,134,81],[135,1,136,5],[135,6,137,6],[135,7,136,11],[136,71,137,71],[132,0,132,49],[132,50,132,55],[132,57,132,60],[132,63,132,68],[132,75,132,76],[102,47,104,47],[102,48,104,48],[102,50,102,68],[102,69,102,71],[102,72,103,81],[103,41,104,41],[103,50,103,57],[103,58,103,62],[103,69,104,69],[103,70,104,70],[102,12,104,12],[102,13,103,39],[102,40,104,40],[102,42,104,42],[102,43,103,45],[102,46,104,46],[101,82,104,82],[101,83,104,83],[101,84,104,84],[101,85,104,85],[101,86,104,86],[101,88,104,88],[100,0,100,49],[100,50,100,54],[100,55,100,68],[101,0,104,0],[101,1,101,47],[101,49,104,49],[101,50,101,81],[102,1,103,5],[102,6,104,6],[102,7,103,11],[103,71,104,71],[99,0,99,49],[99,50,99,55],[99,57,99,60],[99,63,99,68],[99,75,99,76],[69,47,71,47],[69,48,71,48],[69,50,69,68],[69,69,69,71],[69,72,70,81],[70,41,71,41],[70,50,70,57],[70,58,70,62],[70,69,71,69],[70,70,71,70],[69,12,71,12],[69,13,70,39],[69,40,71,40],[69,42,71,42],[69,43,70,45],[69,46,71,46],[68,82,71,82],[68,83,71,83],[68,84,71,84],[68,85,71,85],[68,86,71,86],[68,88,71,88],[67,0,67,49],[67,50,67,54],[67,55,67,68],[68,0,71,0],[68,1,68,47],[68,49,71,49],[68,50,68,81],[69,1,70,5],[69,6,71,6],[69,7,70,11],[70,71,71,71],[2,83,5,83],[66,0,66,49],[66,50,66,55],[66,57,66,60],[66,63,66,68],[66,75,66,76],[36,47,38,47],[36,48,38,48],[36,50,36,68],[36,69,36,71],[36,72,37,81],[37,41,38,41],[37,50,37,57],[37,58,37,62],[37,69,38,69],[37,70,38,70],[36,12,38,12],[36,13,37,39],[36,40,38,40],[36,42,38,42],[36,43,37,45],[36,46,38,46],[35,82,38,82],[35,83,38,83],[35,84,38,84],[35,85,38,85],[35,86,38,86],[35,88,38,88],[34,0,34,49],[34,50,34,54],[34,55,34,68],[35,0,38,0],[35,1,35,47],[35,49,38,49],[35,50,35,81],[36,1,37,5],[36,6,38,6],[36,7,37,11],[37,71,38,71],[2,84,5,84],[3,42,5,42],[3,43,4,45],[3,46,5,46],[3,47,5,47],[32,84,32,88],[33,0,33,49],[33,50,33,55],[33,57,33,60],[33,63,33,68],[33,75,33,76],[3,48,5,48],[3,50,3,68],[3,69,3,71],[3,72,4,81],[4,41,5,41],[4,50,4,57],[4,58,4,62],[4,69,5,69],[4,70,5,70],[4,71,5,71],[2,85,5,85],[2,86,5,86],[2,88,5,88],[0,42,0,45],[0,50,0,55],[0,57,0,60],[0,63,0,68],[0,72,0,82],[1,0,1,49],[1,50,1,54],[1,55,1,68],[3,13,4,39],[3,40,5,40],[2,1,2,47],[2,49,5,49],[2,50,2,81],[2,82,5,82],[3,0,5,0],[3,1,4,5],[3,6,5,6],[3,7,4,11],[3,12,5,12]]}
[null,null,null,null,null,null,null,null,null,null,null,null,{"$f":"'العاملين '!BA9","v":0},"كشــــــــــــــــــــــــــــــف المرتبات عن شــــــــــــــــــــــــــــــــهر /",null,null,null,null,null,null,null,null,null,null,null,null,null,null,null,null,null,null,null,null,null,null,null,null,null,null,null,null,{"$f":"ورقة1!C3","v":"مارس 2018"},null,null,null,null,null,null,null,{"$f":"ورقة1!C3","v":"مارس 2018"},null,null,null,null,null," ","ســــــــــــــــــــــــــــــــنة /",null,null,null,null,null,{"$f":"IF($CG14>0,ورقة1!$C$5,0)","v":2018},null,null,null,null,null,"م",null,null,"كشف 1"]
[{"$f":"ورقة1!C1","v":"الشهداء التعليمية"},null,null,null,null,null,null,null,null,null,null,null,null,null,null,null,null,null,null,null,null,null,null,null,null,null,null,null,null,null,null,null,null,null,null,null,null,null,null,null,null,null,null,null,null,null,null,null,null,null,"مدرسة /  ",null,null,null,null,{"$f":"IF($CG14>0,ورقة1!$C$2,\" \")","v":"الادارة"},null,null,null,null,null,null,null,null,null,null,null,null,null,null,null,null,null,null,null,null,null,null,null,null,null,null,null,null,null,{"$f":"FLOOR(CM14,0.05)","v":0}]
[{"$f":"'العاملين '!CA10","v":1370},"الاســــــــــــــــــــــــــتحـــــــــــــــــــــــــــــــــقــــــــــــــــــــــــــــــــــــــــــــــــــــــــــــــــــــــــــاقـــــــــــــــــــــــــــــــــــات ",null,null,null,null,null,null,null,null,null,null,null,null,null,null,null,null,null,null,null,null,null,null,null,null,null,null,null,null,null,null,null,null,null,null,null,null,null,null,null,null,null,null,null,null,null,null,null,"جملة الاستــــحقــاقات ","الأســـــــــــــــــــــــــــــــــــــتـــــــقـــــــــــــــــطاعـــــــــــــــــات ",null,null,null,null,null,null,null,null,null,null,null,null,null,null,null,null,null,null,null,null,null,null,null,null,null,null,null,null,null,null,null,"جملة الأستقطاعات ","الصافي المستحق ","الاســـــــــــــــــــم ","التوقيع بالاســــــــــــتلام ","صافي الشهر السابق ",null,"اسم البنك"]
["م ","الاجور الاســــــــــــــــــــــــــاسية ",null,null,null,null,"الجملة ","الاجور المتغيرة الخاضعة بكامل قيمتها للتأمينات والمعاشات ",null,null,null,null,"الجملة ","الاجور المتغيرة الاخري بنسبة        %",null,null,null,null,null,null,null,null,null,null,null,null,null,null,null,null,null,null,null,null,null,null,null,null,null,null,"الجملة ",{"$f":"'العاملين '!CA5","v":2800},"غير خاضع","حصص الاجور المتغيرة ",null,null,"الجملة ","منحة ","انقطاع",null,"لحســــــــــــــــــــاب الهيئة القوميـــــــــــــــــــــة للتـــــــــــــــــأمين الإجتـــــــــــــــــــــــــماعي ",null,null,null,null,null,null,null,null,null,null,null,null,null,null,null,null,null,null,"لحساب جاري دائنة مصلحة الضرائب ",null,null,"لحساب دائنين مختلفين "]
[null,null,null,null,null,null,null,null,null,null,null,null,null,null,null,null,null,null,null,null,null,null,null,null,null,null,null,null,null,null,null,null,null,null,null,null,null,null,null,null,null,"خاضع",null,null,null,null,null,null,null,null,"استقطاعات الأجور الاســــــــــــــــــاسية ",null,null,null,null,null,null,null,"استقطاعات الأجور المتغيرة ",null,null,null,null,"الأقساط الخاصة عن الأجور الأساسية ",null,null,null,null,null,"ضريبة دخل  ","دمغة عادية   ","دمغة نسبية"]
[null,"المرتب "," حصة الحكومة  15%",0.01,"أل 2 %","أ ل3 %",null,"علاوة 2012","علاوة 2013","علاوة 2014","علاوة 2015","علاوة 2016",null,{"$f":"'العاملين '!P2","v":"ع اجتماعية"},{"$f":"'العاملين '!Q2","v":"ع اجتماعيةاضافية"},{"$f":"'العاملين '!R2","v":"أعباء وظيفية"},{"$f":"'العاملين '!AA2","v":"الحدالادنى"},{"$f":"'العاملين '!S2","v":"بدل نظارة"},{"$f":"'العاملين '!T2","v":"حافز مدير"},{"$f":"'العاملين '!U2","v":"بدل تفرغ"},{"$f":"'العاملين '!V2","v":"بدل تجاريين"},{"$f":"'العاملين '!W2","v":"بدل عدوي"},{"$f":"'العاملين '!X2","v":"حافز ماجستير"},{"$f":"'العاملين '!Y2","v":"حافزدكتوراة"},{"$f":"'العاملين '!Z2","v":"بدل تسكين"},{"$f":"'العاملين '!BM2","v":"بدل معلم اضافى"},{"$f":"'العاملين '!BN2","v":"بدل معلم "},{"$f":"'العاملين '!BO2","v":"بدل اعتماد "},{"$f":"'العاملين '!BP2","v":"حافز 25 %"},{"$f":"'العاملين '!BQ2","v":"حافز أداء "},{"$f":"'العاملين '!BR2","v":"الـ91.5"},{"$f":"'العاملين '!BS2","v":"ال50%"},{"$f":"'العاملين '!BT2","v":"ال 33%"},"الاجر الوظيفي","الاجر المكمل","الحافزالتعويضي",{"$f":"'العاملين '!AD2","v":"اكتب ما تشاء"},{"$f":"'العاملين '!AE2","v":"اكتب ما تشاء"},{"$f":"'العاملين '!AF2","v":"اكتب ما تشاء"},{"$f":"'العاملين '!AG2","v":"اكتب ما تشاء"},null,null,null,"ألـ 15 %","ألـ 1 %","ألـ 3%",null,null,null,null," حصة الحكومة  15%","إصابة عمل  1%","الـ 2%",null," حصة الموظف  10%","ال8%","ألـ 3%","ألـ 1 %"," حصة الحكومة  15%","إصابة عمل  1%"," حصة الموظف  10%","ال3%","ال1%","زمالة   7 %","زمالة  جماعى","نقابه","رابطة ","نادى محافظة","نادي الادارة",null,null,null,{"$f":"'العاملين '!AP2","v":"أرباب عهد"},{"$f":"'العاملين '!AQ2","v":"خدمات عمالية"},{"$f":"'العاملين '!AR2","v":"نقابة بحث علمى 5%"},{"$f":"'العاملين '!AS3","v":"ناصر"},{"$f":"'العاملين '!AT3","v":"القاهرة"},{"$f":"'العاملين '!AU3","v":"الاهلى"},{"$f":"'العاملين '!AV3","v":"اكتب ما تشاء"},{"$f":"'العاملين '!AV3","v":"اكتب ما تشاء"},{"$f":"'العاملين '!AX2","v":"نصف العلاوة"},"كسر قرش",null,null,null,null,null,null,null,null,null,{"$f":"'العاملين '!CA10","v":1370}]
[1,{"$f":"IF($CH7>0,VLOOKUP($CH7,'العاملين '!$A$3:$AR$260,10),0)","v":652.6},{"$f":"ROUND(IF(B7<=$CN$6,B7*0.15,$CN$6*0.15),2)","v":97.89},{"$f":"ROUND(IF(B7<$A$3,B7*$D$6,IF(B7>=$A$3,$D$6*$A$3)),2)","v":6.53},{"$f":"ROUND(IF(B7<=$CN$6,B7*0.02,$CN$6*0.02),2)","v":13.05},{"$f":"ROUND(IF(B7<=$CN$6,B7*0.03,$CN$6*0.03),2)","v":19.579999999999998},{"$f":"IF($B7>0,SUM(B7:F7),\" \")","v":789.65},{"$f":"IF($CH7>0,VLOOKUP($CH7,'العاملين '!$A$3:$AR$260,11),0)","v":0},{"$f":"IF($CH7>0,VLOOKUP($CH7,'العاملين '!$A$3:$AR$260,12),0)","v":32.54},{"$f":"IF($CH7>0,VLOOKUP($CH7,'العاملين '!$A$3:$AR$260,13),0)","v":33.04},{"$f":"IF($CH7>0,VLOOKUP($CH7,'العاملين '!$A$3:$AR$260,14),0)","v":35.19},{"$f":"IF($CH7>0,VLOOKUP($CH7,'العاملين '!$A$3:$AR$260,15),0)","v":0},{"$f":"IF($B7>0,SUM(H7:L7),0)","v":100.77},{"$f":"IF($CH7>0,VLOOKUP($CH7,'العاملين '!$A$3:$AR$260,16),0)","v":4},{"$f":"IF($CH7>0,VLOOKUP($CH7,'العاملين '!$A$3:$AR$260,17),0)","v":4},{"$f":"IF($CH7>0,VLOOKUP($CH7,'العاملين '!$A$3:$AR$260,18),0)","v":0},{"$f":"IF($CH7>0,VLOOKUP($CH7,'العاملين '!$A$3:$AR$260,27),0)","v":0},{"$f":"IF($CH7>0,VLOOKUP($CH7,'العاملين '!$A$3:$AR$260,19),0)","v":0},{"$f":"IF($CH7>0,VLOOKUP($CH7,'العاملين '!$A$3:$AR$260,20),0)","v":0},{"$f":"IF($CH7>0,VLOOKUP($CH7,'العاملين '!$A$3:$AR$260,21),0)","v":0},{"$f":"IF($CH7>0,VLOOKUP($CH7,'العاملين '!$A$3:$AR$260,22),0)","v":0},{"$f":"IF($CH7>0,VLOOKUP($CH7,'العاملين '!$A$3:$AR$260,23),0)","v":0},{"$f":"IF($CH7>0,VLOOKUP($CH7,'العاملين '!$A$3:$AR$260,24),0)","v":0},{"$f":"IF($CH7>0,VLOOKUP($CH7,'العاملين '!$A$3:$AR$260,25),0)","v":0},{"$f":"IF($CH7>0,VLOOKUP($CH7,'العاملين '!$A$3:$AR$260,26),0)","v":0},{"$f":"IF($CH7>0,VLOOKUP($CH7,'العاملين '!$A$3:$CR$260,65),0)","v":175.98},{"$f":"IF($CH7>0,VLOOKUP($CH7,'العاملين '!$A$3:$CR$260,66),0)","v":175.98},{"$f":"IF($CH7>0,VLOOKUP($CH7,'العاملين '!$A$3:$CR$260,67),0)","v":263.97000000000003},{"$f":"IF($CH7>0,VLOOKUP($CH7,'العاملين '!$A$3:$CR$260,68),0)","v":87},{"$f":"IF($CH7>0,VLOOKUP($CH7,'العاملين '!$A$3:$CR$260,69),0)","v":175},{"$f":"IF($CH7>0,VLOOKUP($CH7,'العاملين '!$A$3:$CR$260,70),0)","v":0},{"$f":"IF($CH7>0,VLOOKUP($CH7,'العاملين '!$A$3:$CR$260,71),0)","v":0},{"$f":"IF($CH7>0,VLOOKUP($CH7,'العاملين '!$A$3:$CR$260,72),0)","v":0},null,null,null,null,null,null,{"$f":"IF($CH7>0,VLOOKUP($CH7,'العاملين '!$A$3:$AR$260,25),0)","v":0},{"$f":"SUM(M7:AN7)","v":986.7},{"$f":"IF(AO7>$AP$4,$AP$4,AO7)","v":986.7},{"$f":"AO7-AP7","v":0},{"$f":"ROUND(($AP7)*15%,2)","v":148.01},{"$f":"ROUND(($AP7)*1%,2)","v":9.8699999999999992},{"$f":"ROUND(($AP7)*3%,2)","v":29.6},{"$f":"SUM(AR7:AT7)","v":187.48},{"$f":"IF($CH7>0,VLOOKUP($CH7,'العاملين '!$A$3:$CR$260,64),0)","v":10},{"$f":"IF($CH7>0,VLOOKUP($CH7,'العاملين '!$A$3:$CR$260,52),0)","v":0},{"$f":"SUM(AV7,AU7,AO7,G7,AW7)","v":1973.83},{"$f":"ROUND(IF(B7<=$CN$6,B7*0.15,$CN$6*0.15),2)","v":97.89},{"$f":"ROUND(IF(B7<=$CN$6,B7*0.01,$CN$6*0.01),2)","v":6.53},{"$f":"ROUND(IF(B7<=$CN$6,B7*0.02,$CN$6*0.02),2)","v":13.05},null,{"$f":"IF($B7>0,ROUND(($B7)*10%,2),\" \")","v":65.260000000000005},{"$f":"ROUND(IF(B7<=$CN$6,B7*0.08,$CN$6*0.08),2)","v":52.21},{"$f":"ROUND(IF(B7<=$CN$6,B7*0.03,$CN$6*0.03),2)","v":19.579999999999998},{"$f":"ROUND(IF(B7<=$CN$6,B7*0.01,$CN$6*0.01),2)","v":6.53},{"$f":"AR7","v":148.01},{"$f":"AS7","v":9.8699999999999992},{"$f":"ROUND(($AP7)*10%,2)","v":98.67},{"$f":"AT7","v":29.6},{"$f":"AS7","v":9.8699999999999992},{"$f":"IF($CJ7=1,ROUND(($B7)*7%,2),IF($CJ7=2,VLOOKUP($CH7,'العاملين '!$A$3:$CT$260,53),0))","v":45.68},{"$f":"IF($CJ7=1,0.5,IF($CJ7=2,VLOOKUP($CH7,'العاملين '!$A$3:$CS$260,54),0))","v":0.5},{"$f":"IF($CJ7=1,4.5,IF($CJ7=2,VLOOKUP($CH7,'العاملين '!$A$3:$CT$260,55),0))","v":4.5},{"$f":"IF($CH7>0,VLOOKUP($CH7,'العاملين '!$A$3:$AR$260,38),0)","v":1},{"$f":"IF($CJ7=1,0.2,IF($CJ7=2,VLOOKUP($CH7,'العاملين '!$A$3:$CT$260,55),0))","v":0.2},{"$f":"IF($CJ7=1,0.05,IF($CJ7=2,VLOOKUP($CH7,'العاملين '!$A$3:$CT$260,55),0))","v":0.05},{"$f":"IF($CH7>0,VLOOKUP($CH7,'العاملين '!$A$3:$AR$260,39),0)","v":10.65},{"$f":"IF($CH7>0,VLOOKUP($CH7,'العاملين '!$A$3:$AR$260,40),0)","v":11.15},{"$f":"IF($CH7>0,VLOOKUP($CH7,'العاملين '!$A$3:$AR$260,41),0)","v":0},{"$f":"IF($CH7>0,VLOOKUP($CH7,'العاملين '!$A$3:$AR$260,42),0)","v":0},{"$f":"IF($CH7>0,VLOOKUP($CH7,'العاملين '!$A$3:$AR$260,43),0)","v":0},{"$f":"IF($CH7>0,VLOOKUP($CH7,'العاملين '!$A$3:$AR$260,44),0)","v":0},{"$f":"IF($CH7>0,VLOOKUP($CH7,'العاملين '!$A$3:$CR$260,45),0)","v":0},{"$f":"IF($CH7>0,VLOOKUP($CH7,'العاملين '!$A$3:$CR$260,46),0)","v":0},{"$f":"IF($CH7>0,VLOOKUP($CH7,'العاملين '!$A$3:$CR$260,47),0)","v":0},{"$f":"IF($CH7>0,VLOOKUP($CH7,'العاملين '!$A$3:$CR$260,48),0)","v":0},null,{"$f":"IF($CH7>0,VLOOKUP($CH7,'العاملين '!$A$3:$AR$260,41),0)","v":0},{"$f":"CL7-CF7","v":2.9999999999972715E-2},{"$f":"SUM(AY7:CD7)","v":630.82999999999993},{"$f":"FLOOR(CL7,0.05)","v":1343},{"$f":"IF($CH7>0,VLOOKUP($CH7,'العاملين '!$A$3:$AR$260,2),0)","v":"محمد20"},20,null,{"$f":"IF($CH7>0,VLOOKUP($CH7,'العاملين '!$A$3:$CR$260,3),0)","v":1},{"$f":"IF($CH7>0,VLOOKUP($CH7,'العاملين '!$A$3:$CR$260,49),0)","v":0},{"$f":"AX7-SUM(AY7:CC7)","v":1343.03},null,{"$f":"'العاملين '!BA10","v":0}]
[2,{"$f":"IF($CH8>0,VLOOKUP($CH8,'العاملين '!$A$3:$AR$260,10),0)","v":652.6},{"$f":"ROUND(IF(B8<=$CN$6,B8*0.15,$CN$6*0.15),2)","v":97.89},{"$f":"ROUND(IF(B8<$A$3,B8*$D$6,IF(B8>=$A$3,$D$6*$A$3)),2)","v":6.53},{"$f":"ROUND(IF(B8<=$CN$6,B8*0.02,$CN$6*0.02),2)","v":13.05},{"$f":"ROUND(IF(B8<=$CN$6,B8*0.03,$CN$6*0.03),2)","v":19.579999999999998},{"$f":"IF($B8>0,SUM(B8:F8),\" \")","v":789.65},{"$f":"IF($CH8>0,VLOOKUP($CH8,'العاملين '!$A$3:$AR$260,11),0)","v":0},{"$f":"IF($CH8>0,VLOOKUP($CH8,'العاملين '!$A$3:$AR$260,12),0)","v":32.54},{"$f":"IF($CH8>0,VLOOKUP($CH8,'العاملين '!$A$3:$AR$260,13),0)","v":33.04},{"$f":"IF($CH8>0,VLOOKUP($CH8,'العاملين '!$A$3:$AR$260,14),0)","v":35.19},{"$f":"IF($CH8>0,VLOOKUP($CH8,'العاملين '!$A$3:$AR$260,15),0)","v":0},{"$f":"IF($B8>0,SUM(H8:L8),0)","v":100.77},{"$f":"IF($CH8>0,VLOOKUP($CH8,'العاملين '!$A$3:$AR$260,16),0)","v":4},{"$f":"IF($CH8>0,VLOOKUP($CH8,'العاملين '!$A$3:$AR$260,17),0)","v":4},{"$f":"IF($CH8>0,VLOOKUP($CH8,'العاملين '!$A$3:$AR$260,18),0)","v":0},{"$f":"IF($CH8>0,VLOOKUP($CH8,'العاملين '!$A$3:$AR$260,27),0)","v":0},{"$f":"IF($CH8>0,VLOOKUP($CH8,'العاملين '!$A$3:$AR$260,19),0)","v":0},{"$f":"IF($CH8>0,VLOOKUP($CH8,'العاملين '!$A$3:$AR$260,20),0)","v":0},{"$f":"IF($CH8>0,VLOOKUP($CH8,'العاملين '!$A$3:$AR$260,21),0)","v":0},{"$f":"IF($CH8>0,VLOOKUP($CH8,'العاملين '!$A$3:$AR$260,22),0)","v":0},{"$f":"IF($CH8>0,VLOOKUP($CH8,'العاملين '!$A$3:$AR$260,23),0)","v":0},{"$f":"IF($CH8>0,VLOOKUP($CH8,'العاملين '!$A$3:$AR$260,24),0)","v":0},{"$f":"IF($CH8>0,VLOOKUP($CH8,'العاملين '!$A$3:$AR$260,25),0)","v":0},{"$f":"IF($CH8>0,VLOOKUP($CH8,'العاملين '!$A$3:$AR$260,26),0)","v":0},{"$f":"IF($CH8>0,VLOOKUP($CH8,'العاملين '!$A$3:$CR$260,65),0)","v":175.98},{"$f":"IF($CH8>0,VLOOKUP($CH8,'العاملين '!$A$3:$CR$260,66),0)","v":175.98},{"$f":"IF($CH8>0,VLOOKUP($CH8,'العاملين '!$A$3:$CR$260,67),0)","v":263.97000000000003},{"$f":"IF($CH8>0,VLOOKUP($CH8,'العاملين '!$A$3:$CR$260,68),0)","v":87},{"$f":"IF($CH8>0,VLOOKUP($CH8,'العاملين '!$A$3:$CR$260,69),0)","v":175},{"$f":"IF($CH8>0,VLOOKUP($CH8,'العاملين '!$A$3:$CR$260,70),0)","v":0},{"$f":"IF($CH8>0,VLOOKUP($CH8,'العاملين '!$A$3:$CR$260,71),0)","v":0},{"$f":"IF($CH8>0,VLOOKUP($CH8,'العاملين '!$A$3:$CR$260,72),0)","v":0},null,null,null,null,null,null,{"$f":"IF($CH8>0,VLOOKUP($CH8,'العاملين '!$A$3:$AR$260,25),0)","v":0},{"$f":"SUM(M8:AN8)","v":986.7},{"$f":"IF(AO8>$AP$4,$AP$4,AO8)","v":986.7},{"$f":"AO8-AP8","v":0},{"$f":"ROUND(($AP8)*15%,2)","v":148.01},{"$f":"ROUND(($AP8)*1%,2)","v":9.8699999999999992},{"$f":"ROUND(($AP8)*3%,2)","v":29.6},{"$f":"SUM(AR8:AT8)","v":187.48},{"$f":"IF($CH8>0,VLOOKUP($CH8,'العاملين '!$A$3:$CR$260,64),0)","v":10},{"$f":"IF($CH8>0,VLOOKUP($CH8,'العاملين '!$A$3:$CR$260,52),0)","v":0},{"$f":"SUM(AV8,AU8,AO8,G8,AW8)","v":1973.83},{"$f":"ROUND(IF(B8<=$CN$6,B8*0.15,$CN$6*0.15),2)","v":97.89},{"$f":"ROUND(IF(B8<=$CN$6,B8*0.01,$CN$6*0.01),2)","v":6.53},{"$f":"ROUND(IF(B8<=$CN$6,B8*0.02,$CN$6*0.02),2)","v":13.05},null,{"$f":"IF($B8>0,ROUND(($B8)*10%,2),\" \")","v":65.260000000000005},{"$f":"ROUND(IF(B8<=$CN$6,B8*0.08,$CN$6*0.08),2)","v":52.21},{"$f":"ROUND(IF(B8<=$CN$6,B8*0.03,$CN$6*0.03),2)","v":19.579999999999998},{"$f":"ROUND(IF(B8<=$CN$6,B8*0.01,$CN$6*0.01),2)","v":6.53},{"$f":"AR8","v":148.01},9.8699999999999992,98.67,{"$f":"AT8","v":29.6},{"$f":"AS8","v":9.8699999999999992},{"$f":"IF($CJ8=1,ROUND(($B8)*7%,2),IF($CJ8=2,VLOOKUP($CH8,'العاملين '!$A$3:$CT$260,53),0))","v":45.68},{"$f":"IF($CJ8=1,0.5,IF($CJ8=2,VLOOKUP($CH8,'العاملين '!$A$3:$CS$260,54),0))","v":0.5},{"$f":"IF($CJ8=1,4.5,IF($CJ8=2,VLOOKUP($CH8,'العاملين '!$A$3:$CT$260,55),0))","v":4.5},{"$f":"IF($CH8>0,VLOOKUP($CH8,'العاملين '!$A$3:$AR$260,38),0)","v":1},{"$f":"IF($CJ8=1,0.2,IF($CJ8=2,VLOOKUP($CH8,'العاملين '!$A$3:$CT$260,55),0))","v":0.2},{"$f":"IF($CJ8=1,0.05,IF($CJ8=2,VLOOKUP($CH8,'العاملين '!$A$3:$CT$260,55),0))","v":0.05},{"$f":"IF($CH8>0,VLOOKUP($CH8,'العاملين '!$A$3:$AR$260,39),0)","v":10.65},{"$f":"IF($CH8>0,VLOOKUP($CH8,'العاملين '!$A$3:$AR$260,40),0)","v":11.15},{"$f":"IF($CH8>0,VLOOKUP($CH8,'العاملين '!$A$3:$AR$260,41),0)","v":0},{"$f":"IF($CH8>0,VLOOKUP($CH8,'العاملين '!$A$3:$AR$260,42),0)","v":0},{"$f":"IF($CH8>0,VLOOKUP($CH8,'العاملين '!$A$3:$AR$260,43),0)","v":0},{"$f":"IF($CH8>0,VLOOKUP($CH8,'العاملين '!$A$3:$AR$260,44),0)","v":0},{"$f":"IF($CH8>0,VLOOKUP($CH8,'العاملين '!$A$3:$CR$260,45),0)","v":0},{"$f":"IF($CH8>0,VLOOKUP($CH8,'العاملين '!$A$3:$CR$260,46),0)","v":0},{"$f":"IF($CH8>0,VLOOKUP($CH8,'العاملين '!$A$3:$CR$260,47),0)","v":0},{"$f":"IF($CH8>0,VLOOKUP($CH8,'العاملين '!$A$3:$CR$260,48),0)","v":0},null,{"$f":"IF($CH8>0,VLOOKUP($CH8,'العاملين '!$A$3:$AR$260,41),0)","v":0},{"$f":"CL8-CF8","v":2.9999999999972715E-2},{"$f":"SUM(AY8:CD8)","v":630.82999999999993},{"$f":"FLOOR(CL8,0.05)","v":1343},{"$f":"IF($CH8>0,VLOOKUP($CH8,'العاملين '!$A$3:$AR$260,2),0)","v":"محمد20"},20,null,{"$f":"IF($CH8>0,VLOOKUP($CH8,'العاملين '!$A$3:$CR$260,3),0)","v":1},{"$f":"IF($CH8>0,VLOOKUP($CH8,'العاملين '!$A$3:$CR$260,49),0)","v":0},{"$f":"AX8-SUM(AY8:CC8)","v":1343.03}]
[3,{"$f":"IF($CH9>0,VLOOKUP($CH9,'العاملين '!$A$3:$AR$260,10),0)","v":652.6},97.89,{"$f":"ROUND(IF(B9<$A$3,B9*$D$6,IF(B9>=$A$3,$D$6*$A$3)),2)","v":6.53},13.05,19.579999999999998,789.65,{"$f":"IF($CH9>0,VLOOKUP($CH9,'العاملين '!$A$3:$AR$260,11),0)","v":0},{"$f":"IF($CH9>0,VLOOKUP($CH9,'العاملين '!$A$3:$AR$260,12),0)","v":32.54},{"$f":"IF($CH9>0,VLOOKUP($CH9,'العاملين '!$A$3:$AR$260,13),0)","v":33.04},{"$f":"IF($CH9>0,VLOOKUP($CH9,'العاملين '!$A$3:$AR$260,14),0)","v":35.19},{"$f":"IF($CH9>0,VLOOKUP($CH9,'العاملين '!$A$3:$AR$260,15),0)","v":0},100.77,{"$f":"IF($CH9>0,VLOOKUP($CH9,'العاملين '!$A$3:$AR$260,16),0)","v":4},{"$f":"IF($CH9>0,VLOOKUP($CH9,'العاملين '!$A$3:$AR$260,17),0)","v":4},{"$f":"IF($CH9>0,VLOOKUP($CH9,'العاملين '!$A$3:$AR$260,18),0)","v":0},{"$f":"IF($CH9>0,VLOOKUP($CH9,'العاملين '!$A$3:$AR$260,27),0)","v":0},{"$f":"IF($CH9>0,VLOOKUP($CH9,'العاملين '!$A$3:$AR$260,19),0)","v":0},{"$f":"IF($CH9>0,VLOOKUP($CH9,'العاملين '!$A$3:$AR$260,20),0)","v":0},{"$f":"IF($CH9>0,VLOOKUP($CH9,'العاملين '!$A$3:$AR$260,21),0)","v":0},{"$f":"IF($CH9>0,VLOOKUP($CH9,'العاملين '!$A$3:$AR$260,22),0)","v":0},{"$f":"IF($CH9>0,VLOOKUP($CH9,'العاملين '!$A$3:$AR$260,23),0)","v":0},{"$f":"IF($CH9>0,VLOOKUP($CH9,'العاملين '!$A$3:$AR$260,24),0)","v":0},{"$f":"IF($CH9>0,VLOOKUP($CH9,'العاملين '!$A$3:$AR$260,25),0)","v":0},{"$f":"IF($CH9>0,VLOOKUP($CH9,'العاملين '!$A$3:$AR$260,26),0)","v":0},{"$f":"IF($CH9>0,VLOOKUP($CH9,'العاملين '!$A$3:$CR$260,65),0)","v":175.98},{"$f":"IF($CH9>0,VLOOKUP($CH9,'العاملين '!$A$3:$CR$260,66),0)","v":175.98},{"$f":"IF($CH9>0,VLOOKUP($CH9,'العاملين '!$A$3:$CR$260,67),0)","v":263.97000000000003},{"$f":"IF($CH9>0,VLOOKUP($CH9,'العاملين '!$A$3:$CR$260,68),0)","v":87},{"$f":"IF($CH9>0,VLOOKUP($CH9,'العاملين '!$A$3:$CR$260,69),0)","v":175},{"$f":"IF($CH9>0,VLOOKUP($CH9,'العاملين '!$A$3:$CR$260,70),0)","v":0},{"$f":"IF($CH9>0,VLOOKUP($CH9,'العاملين '!$A$3:$CR$260,71),0)","v":0},{"$f":"IF($CH9>0,VLOOKUP($CH9,'العاملين '!$A$3:$CR$260,72),0)","v":0},null,null,null,null,null,null,{"$f":"IF($CH9>0,VLOOKUP($CH9,'العاملين '!$A$3:$AR$260,25),0)","v":0},986.7,986.7,0,148.01,9.8699999999999992,29.6,187.48,{"$f":"IF($CH9>0,VLOOKUP($CH9,'العاملين '!$A$3:$CR$260,64),0)","v":10},{"$f":"IF($CH9>0,VLOOKUP($CH9,'العاملين '!$A$3:$CR$260,52),0)","v":0},1973.83,97.89,6.53,13.05,null,65.260000000000005,52.21,19.579999999999998,6.53,148.01,9.8699999999999992,98.67,29.6,9.8699999999999992,{"$f":"IF($CJ9=1,ROUND(($B9)*7%,2),IF($CJ9=2,VLOOKUP($CH9,'العاملين '!$A$3:$CT$260,53),0))","v":45.68},{"$f":"IF($CJ9=1,0.5,IF($CJ9=2,VLOOKUP($CH9,'العاملين '!$A$3:$CS$260,54),0))","v":0.5},{"$f":"IF($CJ9=1,4.5,IF($CJ9=2,VLOOKUP($CH9,'العاملين '!$A$3:$CT$260,55),0))","v":4.5},{"$f":"IF($CH9>0,VLOOKUP($CH9,'العاملين '!$A$3:$AR$260,38),0)","v":1},{"$f":"IF($CJ9=1,0.2,IF($CJ9=2,VLOOKUP($CH9,'العاملين '!$A$3:$CT$260,55),0))","v":0.2},{"$f":"IF($CJ9=1,0.05,IF($CJ9=2,VLOOKUP($CH9,'العاملين '!$A$3:$CT$260,55),0))","v":0.05},{"$f":"IF($CH9>0,VLOOKUP($CH9,'العاملين '!$A$3:$AR$260,39),0)","v":10.65},{"$f":"IF($CH9>0,VLOOKUP($CH9,'العاملين '!$A$3:$AR$260,40),0)","v":11.15},{"$f":"IF($CH9>0,VLOOKUP($CH9,'العاملين '!$A$3:$AR$260,41),0)","v":0},{"$f":"IF($CH9>0,VLOOKUP($CH9,'العاملين '!$A$3:$AR$260,42),0)","v":0},{"$f":"IF($CH9>0,VLOOKUP($CH9,'العاملين '!$A$3:$AR$260,43),0)","v":0},{"$f":"IF($CH9>0,VLOOKUP($CH9,'العاملين '!$A$3:$AR$260,44),0)","v":0},{"$f":"IF($CH9>0,VLOOKUP($CH9,'العاملين '!$A$3:$CR$260,45),0)","v":0},{"$f":"IF($CH9>0,VLOOKUP($CH9,'العاملين '!$A$3:$CR$260,46),0)","v":0},{"$f":"IF($CH9>0,VLOOKUP($CH9,'العاملين '!$A$3:$CR$260,47),0)","v":0},{"$f":"IF($CH9>0,VLOOKUP($CH9,'العاملين '!$A$3:$CR$260,48),0)","v":0},null,{"$f":"IF($CH9>0,VLOOKUP($CH9,'العاملين '!$A$3:$AR$260,41),0)","v":0},2.9999999999972715E-2,630.82999999999993,1343,{"$f":"IF($CH9>0,VLOOKUP($CH9,'العاملين '!$A$3:$AR$260,2),0)","v":"محمد20"},20,null,{"$f":"IF($CH9>0,VLOOKUP($CH9,'العاملين '!$A$3:$CR$260,3),0)","v":1},{"$f":"IF($CH9>0,VLOOKUP($CH9,'العاملين '!$A$3:$CR$260,49),0)","v":0},{"$f":"AX9-SUM(AY9:CC9)","v":1343.03}]
[4,{"$f":"IF($CH10>0,VLOOKUP($CH10,'العاملين '!$A$3:$AR$260,10),0)","v":652.6},97.89,{"$f":"ROUND(IF(B10<$A$3,B10*$D$6,IF(B10>=$A$3,$D$6*$A$3)),2)","v":6.53},13.05,19.579999999999998,789.65,{"$f":"IF($CH10>0,VLOOKUP($CH10,'العاملين '!$A$3:$AR$260,11),0)","v":0},{"$f":"IF($CH10>0,VLOOKUP($CH10,'العاملين '!$A$3:$AR$260,12),0)","v":32.54},{"$f":"IF($CH10>0,VLOOKUP($CH10,'العاملين '!$A$3:$AR$260,13),0)","v":33.04},{"$f":"IF($CH10>0,VLOOKUP($CH10,'العاملين '!$A$3:$AR$260,14),0)","v":35.19},{"$f":"IF($CH10>0,VLOOKUP($CH10,'العاملين '!$A$3:$AR$260,15),0)","v":0},100.77,{"$f":"IF($CH10>0,VLOOKUP($CH10,'العاملين '!$A$3:$AR$260,16),0)","v":4},{"$f":"IF($CH10>0,VLOOKUP($CH10,'العاملين '!$A$3:$AR$260,17),0)","v":4},{"$f":"IF($CH10>0,VLOOKUP($CH10,'العاملين '!$A$3:$AR$260,18),0)","v":0},{"$f":"IF($CH10>0,VLOOKUP($CH10,'العاملين '!$A$3:$AR$260,27),0)","v":0},{"$f":"IF($CH10>0,VLOOKUP($CH10,'العاملين '!$A$3:$AR$260,19),0)","v":0},{"$f":"IF($CH10>0,VLOOKUP($CH10,'العاملين '!$A$3:$AR$260,20),0)","v":0},{"$f":"IF($CH10>0,VLOOKUP($CH10,'العاملين '!$A$3:$AR$260,21),0)","v":0},{"$f":"IF($CH10>0,VLOOKUP($CH10,'العاملين '!$A$3:$AR$260,22),0)","v":0},{"$f":"IF($CH10>0,VLOOKUP($CH10,'العاملين '!$A$3:$AR$260,23),0)","v":0},{"$f":"IF($CH10>0,VLOOKUP($CH10,'العاملين '!$A$3:$AR$260,24),0)","v":0},{"$f":"IF($CH10>0,VLOOKUP($CH10,'العاملين '!$A$3:$AR$260,25),0)","v":0},{"$f":"IF($CH10>0,VLOOKUP($CH10,'العاملين '!$A$3:$AR$260,26),0)","v":0},{"$f":"IF($CH10>0,VLOOKUP($CH10,'العاملين '!$A$3:$CR$260,65),0)","v":175.98},{"$f":"IF($CH10>0,VLOOKUP($CH10,'العاملين '!$A$3:$CR$260,66),0)","v":175.98},{"$f":"IF($CH10>0,VLOOKUP($CH10,'العاملين '!$A$3:$CR$260,67),0)","v":263.97000000000003},{"$f":"IF($CH10>0,VLOOKUP($CH10,'العاملين '!$A$3:$CR$260,68),0)","v":87},{"$f":"IF($CH10>0,VLOOKUP($CH10,'العاملين '!$A$3:$CR$260,69),0)","v":175},{"$f":"IF($CH10>0,VLOOKUP($CH10,'العاملين '!$A$3:$CR$260,70),0)","v":0},{"$f":"IF($CH10>0,VLOOKUP($CH10,'العاملين '!$A$3:$CR$260,71),0)","v":0},{"$f":"IF($CH10>0,VLOOKUP($CH10,'العاملين '!$A$3:$CR$260,72),0)","v":0},null,null,null,null,null,null,{"$f":"IF($CH10>0,VLOOKUP($CH10,'العاملين '!$A$3:$AR$260,25),0)","v":0},986.7,986.7,0,148.01,9.8699999999999992,29.6,187.48,{"$f":"IF($CH10>0,VLOOKUP($CH10,'العاملين '!$A$3:$CR$260,64),0)","v":10},{"$f":"IF($CH10>0,VLOOKUP($CH10,'العاملين '!$A$3:$CR$260,52),0)","v":0},1973.83,97.89,6.53,13.05,null,65.260000000000005,52.21,19.579999999999998,6.53,148.01,9.8699999999999992,98.67,29.6,9.8699999999999992,{"$f":"IF($CJ10=1,ROUND(($B10)*7%,2),IF($CJ10=2,VLOOKUP($CH10,'العاملين '!$A$3:$CT$260,53),0))","v":45.68},{"$f":"IF($CJ10=1,0.5,IF($CJ10=2,VLOOKUP($CH10,'العاملين '!$A$3:$CS$260,54),0))","v":0.5},{"$f":"IF($CJ10=1,4.5,IF($CJ10=2,VLOOKUP($CH10,'العاملين '!$A$3:$CT$260,55),0))","v":4.5},{"$f":"IF($CH10>0,VLOOKUP($CH10,'العاملين '!$A$3:$AR$260,38),0)","v":1},{"$f":"IF($CJ10=1,0.2,IF($CJ10=2,VLOOKUP($CH10,'العاملين '!$A$3:$CT$260,55),0))","v":0.2},{"$f":"IF($CJ10=1,0.05,IF($CJ10=2,VLOOKUP($CH10,'العاملين '!$A$3:$CT$260,55),0))","v":0.05},{"$f":"IF($CH10>0,VLOOKUP($CH10,'العاملين '!$A$3:$AR$260,39),0)","v":10.65},{"$f":"IF($CH10>0,VLOOKUP($CH10,'العاملين '!$A$3:$AR$260,40),0)","v":11.15},{"$f":"IF($CH10>0,VLOOKUP($CH10,'العاملين '!$A$3:$AR$260,41),0)","v":0},{"$f":"IF($CH10>0,VLOOKUP($CH10,'العاملين '!$A$3:$AR$260,42),0)","v":0},{"$f":"IF($CH10>0,VLOOKUP($CH10,'العاملين '!$A$3:$AR$260,43),0)","v":0},{"$f":"IF($CH10>0,VLOOKUP($CH10,'العاملين '!$A$3:$AR$260,44),0)","v":0},{"$f":"IF($CH10>0,VLOOKUP($CH10,'العاملين '!$A$3:$CR$260,45),0)","v":0},{"$f":"IF($CH10>0,VLOOKUP($CH10,'العاملين '!$A$3:$CR$260,46),0)","v":0},{"$f":"IF($CH10>0,VLOOKUP($CH10,'العاملين '!$A$3:$CR$260,47),0)","v":0},{"$f":"IF($CH10>0,VLOOKUP($CH10,'العاملين '!$A$3:$CR$260,48),0)","v":0},null,{"$f":"IF($CH10>0,VLOOKUP($CH10,'العاملين '!$A$3:$AR$260,41),0)","v":0},2.9999999999972715E-2,630.82999999999993,1343,{"$f":"IF($CH10>0,VLOOKUP($CH10,'العاملين '!$A$3:$AR$260,2),0)","v":"محمد20"},20,null,{"$f":"IF($CH10>0,VLOOKUP($CH10,'العاملين '!$A$3:$CR$260,3),0)","v":1},{"$f":"IF($CH10>0,VLOOKUP($CH10,'العاملين '!$A$3:$CR$260,49),0)","v":0},1343.03]
[5,{"$f":"IF($CH11>0,VLOOKUP($CH11,'العاملين '!$A$3:$AR$260,10),0)","v":652.6},97.89,6.53,13.05,19.579999999999998,789.65,{"$f":"IF($CH11>0,VLOOKUP($CH11,'العاملين '!$A$3:$AR$260,11),0)","v":0},{"$f":"IF($CH11>0,VLOOKUP($CH11,'العاملين '!$A$3:$AR$260,12),0)","v":32.54},{"$f":"IF($CH11>0,VLOOKUP($CH11,'العاملين '!$A$3:$AR$260,13),0)","v":33.04},{"$f":"IF($CH11>0,VLOOKUP($CH11,'العاملين '!$A$3:$AR$260,14),0)","v":35.19},{"$f":"IF($CH11>0,VLOOKUP($CH11,'العاملين '!$A$3:$AR$260,15),0)","v":0},100.77,{"$f":"IF($CH11>0,VLOOKUP($CH11,'العاملين '!$A$3:$AR$260,16),0)","v":4},{"$f":"IF($CH11>0,VLOOKUP($CH11,'العاملين '!$A$3:$AR$260,17),0)","v":4},{"$f":"IF($CH11>0,VLOOKUP($CH11,'العاملين '!$A$3:$AR$260,18),0)","v":0},{"$f":"IF($CH11>0,VLOOKUP($CH11,'العاملين '!$A$3:$AR$260,27),0)","v":0},{"$f":"IF($CH11>0,VLOOKUP($CH11,'العاملين '!$A$3:$AR$260,19),0)","v":0},{"$f":"IF($CH11>0,VLOOKUP($CH11,'العاملين '!$A$3:$AR$260,20),0)","v":0},{"$f":"IF($CH11>0,VLOOKUP($CH11,'العاملين '!$A$3:$AR$260,21),0)","v":0},{"$f":"IF($CH11>0,VLOOKUP($CH11,'العاملين '!$A$3:$AR$260,22),0)","v":0},{"$f":"IF($CH11>0,VLOOKUP($CH11,'العاملين '!$A$3:$AR$260,23),0)","v":0},{"$f":"IF($CH11>0,VLOOKUP($CH11,'العاملين '!$A$3:$AR$260,24),0)","v":0},{"$f":"IF($CH11>0,VLOOKUP($CH11,'العاملين '!$A$3:$AR$260,25),0)","v":0},{"$f":"IF($CH11>0,VLOOKUP($CH11,'العاملين '!$A$3:$AR$260,26),0)","v":0},{"$f":"IF($CH11>0,VLOOKUP($CH11,'العاملين '!$A$3:$CR$260,65),0)","v":175.98},{"$f":"IF($CH11>0,VLOOKUP($CH11,'العاملين '!$A$3:$CR$260,66),0)","v":175.98},{"$f":"IF($CH11>0,VLOOKUP($CH11,'العاملين '!$A$3:$CR$260,67),0)","v":263.97000000000003},{"$f":"IF($CH11>0,VLOOKUP($CH11,'العاملين '!$A$3:$CR$260,68),0)","v":87},{"$f":"IF($CH11>0,VLOOKUP($CH11,'العاملين '!$A$3:$CR$260,69),0)","v":175},{"$f":"IF($CH11>0,VLOOKUP($CH11,'العاملين '!$A$3:$CR$260,70),0)","v":0},{"$f":"IF($CH11>0,VLOOKUP($CH11,'العاملين '!$A$3:$CR$260,71),0)","v":0},{"$f":"IF($CH11>0,VLOOKUP($CH11,'العاملين '!$A$3:$CR$260,72),0)","v":0},null,null,null,null,null,null,{"$f":"IF($CH11>0,VLOOKUP($CH11,'العاملين '!$A$3:$AR$260,25),0)","v":0},986.7,986.7,0,148.01,9.8699999999999992,29.6,187.48,{"$f":"IF($CH11>0,VLOOKUP($CH11,'العاملين '!$A$3:$CR$260,64),0)","v":10},{"$f":"IF($CH11>0,VLOOKUP($CH11,'العاملين '!$A$3:$CR$260,52),0)","v":0},1973.83,97.89,6.53,13.05,null,65.260000000000005,52.21,19.579999999999998,6.53,148.01,9.8699999999999992,98.67,29.6,9.8699999999999992,{"$f":"IF($CJ11=1,ROUND(($B11)*7%,2),IF($CJ11=2,VLOOKUP($CH11,'العاملين '!$A$3:$CT$260,53),0))","v":45.68},{"$f":"IF($CJ11=1,0.5,IF($CJ11=2,VLOOKUP($CH11,'العاملين '!$A$3:$CS$260,54),0))","v":0.5},{"$f":"IF($CJ11=1,4.5,IF($CJ11=2,VLOOKUP($CH11,'العاملين '!$A$3:$CT$260,55),0))","v":4.5},{"$f":"IF($CH11>0,VLOOKUP($CH11,'العاملين '!$A$3:$AR$260,38),0)","v":1},{"$f":"IF($CJ11=1,0.2,IF($CJ11=2,VLOOKUP($CH11,'العاملين '!$A$3:$CT$260,55),0))","v":0.2},{"$f":"IF($CJ11=1,0.05,IF($CJ11=2,VLOOKUP($CH11,'العاملين '!$A$3:$CT$260,55),0))","v":0.05},{"$f":"IF($CH11>0,VLOOKUP($CH11,'العاملين '!$A$3:$AR$260,39),0)","v":10.65},{"$f":"IF($CH11>0,VLOOKUP($CH11,'العاملين '!$A$3:$AR$260,40),0)","v":11.15},{"$f":"IF($CH11>0,VLOOKUP($CH11,'العاملين '!$A$3:$AR$260,41),0)","v":0},{"$f":"IF($CH11>0,VLOOKUP($CH11,'العاملين '!$A$3:$AR$260,42),0)","v":0},{"$f":"IF($CH11>0,VLOOKUP($CH11,'العاملين '!$A$3:$AR$260,43),0)","v":0},{"$f":"IF($CH11>0,VLOOKUP($CH11,'العاملين '!$A$3:$AR$260,44),0)","v":0},{"$f":"IF($CH11>0,VLOOKUP($CH11,'العاملين '!$A$3:$CR$260,45),0)","v":0},{"$f":"IF($CH11>0,VLOOKUP($CH11,'العاملين '!$A$3:$CR$260,46),0)","v":0},{"$f":"IF($CH11>0,VLOOKUP($CH11,'العاملين '!$A$3:$CR$260,47),0)","v":0},{"$f":"IF($CH11>0,VLOOKUP($CH11,'العاملين '!$A$3:$CR$260,48),0)","v":0},null,{"$f":"IF($CH11>0,VLOOKUP($CH11,'العاملين '!$A$3:$AR$260,41),0)","v":0},2.9999999999972715E-2,630.82999999999993,1343,{"$f":"IF($CH11>0,VLOOKUP($CH11,'العاملين '!$A$3:$AR$260,2),0)","v":"محمد20"},20,null,{"$f":"IF($CH11>0,VLOOKUP($CH11,'العاملين '!$A$3:$CR$260,3),0)","v":1},{"$f":"IF($CH11>0,VLOOKUP($CH11,'العاملين '!$A$3:$CR$260,49),0)","v":0},1343.03]
[6,{"$f":"IF($CH12>0,VLOOKUP($CH12,'العاملين '!$A$3:$AR$260,10),0)","v":652.6},97.89,6.53,13.05,19.579999999999998,789.65,{"$f":"IF($CH12>0,VLOOKUP($CH12,'العاملين '!$A$3:$AR$260,11),0)","v":0},{"$f":"IF($CH12>0,VLOOKUP($CH12,'العاملين '!$A$3:$AR$260,12),0)","v":32.54},{"$f":"IF($CH12>0,VLOOKUP($CH12,'العاملين '!$A$3:$AR$260,13),0)","v":33.04},{"$f":"IF($CH12>0,VLOOKUP($CH12,'العاملين '!$A$3:$AR$260,14),0)","v":35.19},{"$f":"IF($CH12>0,VLOOKUP($CH12,'العاملين '!$A$3:$AR$260,15),0)","v":0},100.77,{"$f":"IF($CH12>0,VLOOKUP($CH12,'العاملين '!$A$3:$AR$260,16),0)","v":4},{"$f":"IF($CH12>0,VLOOKUP($CH12,'العاملين '!$A$3:$AR$260,17),0)","v":4},{"$f":"IF($CH12>0,VLOOKUP($CH12,'العاملين '!$A$3:$AR$260,18),0)","v":0},{"$f":"IF($CH12>0,VLOOKUP($CH12,'العاملين '!$A$3:$AR$260,27),0)","v":0},{"$f":"IF($CH12>0,VLOOKUP($CH12,'العاملين '!$A$3:$AR$260,19),0)","v":0},{"$f":"IF($CH12>0,VLOOKUP($CH12,'العاملين '!$A$3:$AR$260,20),0)","v":0},{"$f":"IF($CH12>0,VLOOKUP($CH12,'العاملين '!$A$3:$AR$260,21),0)","v":0},{"$f":"IF($CH12>0,VLOOKUP($CH12,'العاملين '!$A$3:$AR$260,22),0)","v":0},{"$f":"IF($CH12>0,VLOOKUP($CH12,'العاملين '!$A$3:$AR$260,23),0)","v":0},{"$f":"IF($CH12>0,VLOOKUP($CH12,'العاملين '!$A$3:$AR$260,24),0)","v":0},{"$f":"IF($CH12>0,VLOOKUP($CH12,'العاملين '!$A$3:$AR$260,25),0)","v":0},{"$f":"IF($CH12>0,VLOOKUP($CH12,'العاملين '!$A$3:$AR$260,26),0)","v":0},{"$f":"IF($CH12>0,VLOOKUP($CH12,'العاملين '!$A$3:$CR$260,65),0)","v":175.98},{"$f":"IF($CH12>0,VLOOKUP($CH12,'العاملين '!$A$3:$CR$260,66),0)","v":175.98},{"$f":"IF($CH12>0,VLOOKUP($CH12,'العاملين '!$A$3:$CR$260,67),0)","v":263.97000000000003},{"$f":"IF($CH12>0,VLOOKUP($CH12,'العاملين '!$A$3:$CR$260,68),0)","v":87},{"$f":"IF($CH12>0,VLOOKUP($CH12,'العاملين '!$A$3:$CR$260,69),0)","v":175},{"$f":"IF($CH12>0,VLOOKUP($CH12,'العاملين '!$A$3:$CR$260,70),0)","v":0},{"$f":"IF($CH12>0,VLOOKUP($CH12,'العاملين '!$A$3:$CR$260,71),0)","v":0},{"$f":"IF($CH12>0,VLOOKUP($CH12,'العاملين '!$A$3:$CR$260,72),0)","v":0},null,null,null,null,null,null,{"$f":"IF($CH12>0,VLOOKUP($CH12,'العاملين '!$A$3:$AR$260,25),0)","v":0},986.7,986.7,0,148.01,9.8699999999999992,29.6,187.48,{"$f":"IF($CH12>0,VLOOKUP($CH12,'العاملين '!$A$3:$CR$260,64),0)","v":10},{"$f":"IF($CH12>0,VLOOKUP($CH12,'العاملين '!$A$3:$CR$260,52),0)","v":0},1973.83,97.89,6.53,13.05,null,65.260000000000005,52.21,19.579999999999998,6.53,148.01,9.8699999999999992,98.67,29.6,9.8699999999999992,{"$f":"IF($CJ12=1,ROUND(($B12)*7%,2),IF($CJ12=2,VLOOKUP($CH12,'العاملين '!$A$3:$CT$260,53),0))","v":45.68},{"$f":"IF($CJ12=1,0.5,IF($CJ12=2,VLOOKUP($CH12,'العاملين '!$A$3:$CS$260,54),0))","v":0.5},{"$f":"IF($CJ12=1,4.5,IF($CJ12=2,VLOOKUP($CH12,'العاملين '!$A$3:$CT$260,55),0))","v":4.5},{"$f":"IF($CH12>0,VLOOKUP($CH12,'العاملين '!$A$3:$AR$260,38),0)","v":1},{"$f":"IF($CJ12=1,0.2,IF($CJ12=2,VLOOKUP($CH12,'العاملين '!$A$3:$CT$260,55),0))","v":0.2},{"$f":"IF($CJ12=1,0.05,IF($CJ12=2,VLOOKUP($CH12,'العاملين '!$A$3:$CT$260,55),0))","v":0.05},{"$f":"IF($CH12>0,VLOOKUP($CH12,'العاملين '!$A$3:$AR$260,39),0)","v":10.65},{"$f":"IF($CH12>0,VLOOKUP($CH12,'العاملين '!$A$3:$AR$260,40),0)","v":11.15},{"$f":"IF($CH12>0,VLOOKUP($CH12,'العاملين '!$A$3:$AR$260,41),0)","v":0},{"$f":"IF($CH12>0,VLOOKUP($CH12,'العاملين '!$A$3:$AR$260,42),0)","v":0},{"$f":"IF($CH12>0,VLOOKUP($CH12,'العاملين '!$A$3:$AR$260,43),0)","v":0},{"$f":"IF($CH12>0,VLOOKUP($CH12,'العاملين '!$A$3:$AR$260,44),0)","v":0},{"$f":"IF($CH12>0,VLOOKUP($CH12,'العاملين '!$A$3:$CR$260,45),0)","v":0},{"$f":"IF($CH12>0,VLOOKUP($CH12,'العاملين '!$A$3:$CR$260,46),0)","v":0},{"$f":"IF($CH12>0,VLOOKUP($CH12,'العاملين '!$A$3:$CR$260,47),0)","v":0},{"$f":"IF($CH12>0,VLOOKUP($CH12,'العاملين '!$A$3:$CR$260,48),0)","v":0},null,{"$f":"IF($CH12>0,VLOOKUP($CH12,'العاملين '!$A$3:$AR$260,41),0)","v":0},2.9999999999972715E-2,630.82999999999993,1343,{"$f":"IF($CH12>0,VLOOKUP($CH12,'العاملين '!$A$3:$AR$260,2),0)","v":"محمد20"},20,null,{"$f":"IF($CH12>0,VLOOKUP($CH12,'العاملين '!$A$3:$CR$260,3),0)","v":1},{"$f":"IF($CH12>0,VLOOKUP($CH12,'العاملين '!$A$3:$CR$260,49),0)","v":0},1343.03]
[7,{"$f":"IF($CH13>0,VLOOKUP($CH13,'العاملين '!$A$3:$AR$260,10),0)","v":652.6},97.89,6.53,13.05,19.579999999999998,789.65,{"$f":"IF($CH13>0,VLOOKUP($CH13,'العاملين '!$A$3:$AR$260,11),0)","v":0},{"$f":"IF($CH13>0,VLOOKUP($CH13,'العاملين '!$A$3:$AR$260,12),0)","v":32.54},{"$f":"IF($CH13>0,VLOOKUP($CH13,'العاملين '!$A$3:$AR$260,13),0)","v":33.04},{"$f":"IF($CH13>0,VLOOKUP($CH13,'العاملين '!$A$3:$AR$260,14),0)","v":35.19},{"$f":"IF($CH13>0,VLOOKUP($CH13,'العاملين '!$A$3:$AR$260,15),0)","v":0},100.77,{"$f":"IF($CH13>0,VLOOKUP($CH13,'العاملين '!$A$3:$AR$260,16),0)","v":4},{"$f":"IF($CH13>0,VLOOKUP($CH13,'العاملين '!$A$3:$AR$260,17),0)","v":4},{"$f":"IF($CH13>0,VLOOKUP($CH13,'العاملين '!$A$3:$AR$260,18),0)","v":0},{"$f":"IF($CH13>0,VLOOKUP($CH13,'العاملين '!$A$3:$AR$260,27),0)","v":0},{"$f":"IF($CH13>0,VLOOKUP($CH13,'العاملين '!$A$3:$AR$260,19),0)","v":0},{"$f":"IF($CH13>0,VLOOKUP($CH13,'العاملين '!$A$3:$AR$260,20),0)","v":0},{"$f":"IF($CH13>0,VLOOKUP($CH13,'العاملين '!$A$3:$AR$260,21),0)","v":0},{"$f":"IF($CH13>0,VLOOKUP($CH13,'العاملين '!$A$3:$AR$260,22),0)","v":0},{"$f":"IF($CH13>0,VLOOKUP($CH13,'العاملين '!$A$3:$AR$260,23),0)","v":0},{"$f":"IF($CH13>0,VLOOKUP($CH13,'العاملين '!$A$3:$AR$260,24),0)","v":0},{"$f":"IF($CH13>0,VLOOKUP($CH13,'العاملين '!$A$3:$AR$260,25),0)","v":0},{"$f":"IF($CH13>0,VLOOKUP($CH13,'العاملين '!$A$3:$AR$260,26),0)","v":0},{"$f":"IF($CH13>0,VLOOKUP($CH13,'العاملين '!$A$3:$CR$260,65),0)","v":175.98},{"$f":"IF($CH13>0,VLOOKUP($CH13,'العاملين '!$A$3:$CR$260,66),0)","v":175.98},{"$f":"IF($CH13>0,VLOOKUP($CH13,'العاملين '!$A$3:$CR$260,67),0)","v":263.97000000000003},{"$f":"IF($CH13>0,VLOOKUP($CH13,'العاملين '!$A$3:$CR$260,68),0)","v":87},{"$f":"IF($CH13>0,VLOOKUP($CH13,'العاملين '!$A$3:$CR$260,69),0)","v":175},{"$f":"IF($CH13>0,VLOOKUP($CH13,'العاملين '!$A$3:$CR$260,70),0)","v":0},{"$f":"IF($CH13>0,VLOOKUP($CH13,'العاملين '!$A$3:$CR$260,71),0)","v":0},{"$f":"IF($CH13>0,VLOOKUP($CH13,'العاملين '!$A$3:$CR$260,72),0)","v":0},null,null,null,null,null,null,{"$f":"IF($CH13>0,VLOOKUP($CH13,'العاملين '!$A$3:$AR$260,25),0)","v":0},986.7,986.7,0,148.01,9.8699999999999992,29.6,187.48,{"$f":"IF($CH13>0,VLOOKUP($CH13,'العاملين '!$A$3:$CR$260,64),0)","v":10},{"$f":"IF($CH13>0,VLOOKUP($CH13,'العاملين '!$A$3:$CR$260,52),0)","v":0},1973.83,97.89,6.53,13.05,null,65.260000000000005,52.21,19.579999999999998,6.53,148.01,9.8699999999999992,98.67,29.6,9.8699999999999992,{"$f":"IF($CJ13=1,ROUND(($B13)*7%,2),IF($CJ13=2,VLOOKUP($CH13,'العاملين '!$A$3:$CT$260,53),0))","v":45.68},{"$f":"IF($CJ13=1,0.5,IF($CJ13=2,VLOOKUP($CH13,'العاملين '!$A$3:$CS$260,54),0))","v":0.5},{"$f":"IF($CJ13=1,4.5,IF($CJ13=2,VLOOKUP($CH13,'العاملين '!$A$3:$CT$260,55),0))","v":4.5},{"$f":"IF($CH13>0,VLOOKUP($CH13,'العاملين '!$A$3:$AR$260,38),0)","v":1},{"$f":"IF($CJ13=1,0.2,IF($CJ13=2,VLOOKUP($CH13,'العاملين '!$A$3:$CT$260,55),0))","v":0.2},{"$f":"IF($CJ13=1,0.05,IF($CJ13=2,VLOOKUP($CH13,'العاملين '!$A$3:$CT$260,55),0))","v":0.05},{"$f":"IF($CH13>0,VLOOKUP($CH13,'العاملين '!$A$3:$AR$260,39),0)","v":10.65},{"$f":"IF($CH13>0,VLOOKUP($CH13,'العاملين '!$A$3:$AR$260,40),0)","v":11.15},{"$f":"IF($CH13>0,VLOOKUP($CH13,'العاملين '!$A$3:$AR$260,41),0)","v":0},{"$f":"IF($CH13>0,VLOOKUP($CH13,'العاملين '!$A$3:$AR$260,42),0)","v":0},{"$f":"IF($CH13>0,VLOOKUP($CH13,'العاملين '!$A$3:$AR$260,43),0)","v":0},{"$f":"IF($CH13>0,VLOOKUP($CH13,'العاملين '!$A$3:$AR$260,44),0)","v":0},{"$f":"IF($CH13>0,VLOOKUP($CH13,'العاملين '!$A$3:$CR$260,45),0)","v":0},{"$f":"IF($CH13>0,VLOOKUP($CH13,'العاملين '!$A$3:$CR$260,46),0)","v":0},{"$f":"IF($CH13>0,VLOOKUP($CH13,'العاملين '!$A$3:$CR$260,47),0)","v":0},{"$f":"IF($CH13>0,VLOOKUP($CH13,'العاملين '!$A$3:$CR$260,48),0)","v":0},null,{"$f":"IF($CH13>0,VLOOKUP($CH13,'العاملين '!$A$3:$AR$260,41),0)","v":0},2.9999999999972715E-2,630.82999999999993,1343,{"$f":"IF($CH13>0,VLOOKUP($CH13,'العاملين '!$A$3:$AR$260,2),0)","v":"محمد20"},20,null,{"$f":"IF($CH13>0,VLOOKUP($CH13,'العاملين '!$A$3:$CR$260,3),0)","v":1},{"$f":"IF($CH13>0,VLOOKUP($CH13,'العاملين '!$A$3:$CR$260,49),0)","v":0},{"$f":"AX13-SUM(AY13:CC13)","v":1343.03}]
[8,{"$f":"IF($CH14>0,VLOOKUP($CH14,'العاملين '!$A$3:$AR$260,10),0)","v":652.6},97.89,6.53,13.05,19.579999999999998,789.65,{"$f":"IF($CH14>0,VLOOKUP($CH14,'العاملين '!$A$3:$AR$260,11),0)","v":0},{"$f":"IF($CH14>0,VLOOKUP($CH14,'العاملين '!$A$3:$AR$260,12),0)","v":32.54},{"$f":"IF($CH14>0,VLOOKUP($CH14,'العاملين '!$A$3:$AR$260,13),0)","v":33.04},{"$f":"IF($CH14>0,VLOOKUP($CH14,'العاملين '!$A$3:$AR$260,14),0)","v":35.19},{"$f":"IF($CH14>0,VLOOKUP($CH14,'العاملين '!$A$3:$AR$260,15),0)","v":0},100.77,{"$f":"IF($CH14>0,VLOOKUP($CH14,'العاملين '!$A$3:$AR$260,16),0)","v":4},{"$f":"IF($CH14>0,VLOOKUP($CH14,'العاملين '!$A$3:$AR$260,17),0)","v":4},{"$f":"IF($CH14>0,VLOOKUP($CH14,'العاملين '!$A$3:$AR$260,18),0)","v":0},{"$f":"IF($CH14>0,VLOOKUP($CH14,'العاملين '!$A$3:$AR$260,27),0)","v":0},{"$f":"IF($CH14>0,VLOOKUP($CH14,'العاملين '!$A$3:$AR$260,19),0)","v":0},{"$f":"IF($CH14>0,VLOOKUP($CH14,'العاملين '!$A$3:$AR$260,20),0)","v":0},{"$f":"IF($CH14>0,VLOOKUP($CH14,'العاملين '!$A$3:$AR$260,21),0)","v":0},{"$f":"IF($CH14>0,VLOOKUP($CH14,'العاملين '!$A$3:$AR$260,22),0)","v":0},{"$f":"IF($CH14>0,VLOOKUP($CH14,'العاملين '!$A$3:$AR$260,23),0)","v":0},{"$f":"IF($CH14>0,VLOOKUP($CH14,'العاملين '!$A$3:$AR$260,24),0)","v":0},{"$f":"IF($CH14>0,VLOOKUP($CH14,'العاملين '!$A$3:$AR$260,25),0)","v":0},{"$f":"IF($CH14>0,VLOOKUP($CH14,'العاملين '!$A$3:$AR$260,26),0)","v":0},{"$f":"IF($CH14>0,VLOOKUP($CH14,'العاملين '!$A$3:$CR$260,65),0)","v":175.98},{"$f":"IF($CH14>0,VLOOKUP($CH14,'العاملين '!$A$3:$CR$260,66),0)","v":175.98},{"$f":"IF($CH14>0,VLOOKUP($CH14,'العاملين '!$A$3:$CR$260,67),0)","v":263.97000000000003},{"$f":"IF($CH14>0,VLOOKUP($CH14,'العاملين '!$A$3:$CR$260,68),0)","v":87},{"$f":"IF($CH14>0,VLOOKUP($CH14,'العاملين '!$A$3:$CR$260,69),0)","v":175},{"$f":"IF($CH14>0,VLOOKUP($CH14,'العاملين '!$A$3:$CR$260,70),0)","v":0},{"$f":"IF($CH14>0,VLOOKUP($CH14,'العاملين '!$A$3:$CR$260,71),0)","v":0},{"$f":"IF($CH14>0,VLOOKUP($CH14,'العاملين '!$A$3:$CR$260,72),0)","v":0},null,null,null,null,null,null,{"$f":"IF($CH14>0,VLOOKUP($CH14,'العاملين '!$A$3:$AR$260,25),0)","v":0},986.7,986.7,0,148.01,9.8699999999999992,29.6,187.48,{"$f":"IF($CH14>0,VLOOKUP($CH14,'العاملين '!$A$3:$CR$260,64),0)","v":10},{"$f":"IF($CH14>0,VLOOKUP($CH14,'العاملين '!$A$3:$CR$260,52),0)","v":0},1973.83,97.89,6.53,13.05,null,65.260000000000005,52.21,19.579999999999998,6.53,148.01,9.8699999999999992,98.67,29.6,9.8699999999999992,{"$f":"IF($CJ14=1,ROUND(($B14)*7%,2),IF($CJ14=2,VLOOKUP($CH14,'العاملين '!$A$3:$CT$260,53),0))","v":45.68},{"$f":"IF($CJ14=1,0.5,IF($CJ14=2,VLOOKUP($CH14,'العاملين '!$A$3:$CS$260,54),0))","v":0.5},{"$f":"IF($CJ14=1,4.5,IF($CJ14=2,VLOOKUP($CH14,'العاملين '!$A$3:$CT$260,55),0))","v":4.5},{"$f":"IF($CH14>0,VLOOKUP($CH14,'العاملين '!$A$3:$AR$260,38),0)","v":1},{"$f":"IF($CJ14=1,0.2,IF($CJ14=2,VLOOKUP($CH14,'العاملين '!$A$3:$CT$260,55),0))","v":0.2},{"$f":"IF($CJ14=1,0.05,IF($CJ14=2,VLOOKUP($CH14,'العاملين '!$A$3:$CT$260,55),0))","v":0.05},{"$f":"IF($CH14>0,VLOOKUP($CH14,'العاملين '!$A$3:$AR$260,39),0)","v":10.65},{"$f":"IF($CH14>0,VLOOKUP($CH14,'العاملين '!$A$3:$AR$260,40),0)","v":11.15},{"$f":"IF($CH14>0,VLOOKUP($CH14,'العاملين '!$A$3:$AR$260,41),0)","v":0},{"$f":"IF($CH14>0,VLOOKUP($CH14,'العاملين '!$A$3:$AR$260,42),0)","v":0},{"$f":"IF($CH14>0,VLOOKUP($CH14,'العاملين '!$A$3:$AR$260,43),0)","v":0},{"$f":"IF($CH14>0,VLOOKUP($CH14,'العاملين '!$A$3:$AR$260,44),0)","v":0},{"$f":"IF($CH14>0,VLOOKUP($CH14,'العاملين '!$A$3:$CR$260,45),0)","v":0},{"$f":"IF($CH14>0,VLOOKUP($CH14,'العاملين '!$A$3:$CR$260,46),0)","v":0},{"$f":"IF($CH14>0,VLOOKUP($CH14,'العاملين '!$A$3:$CR$260,47),0)","v":0},{"$f":"IF($CH14>0,VLOOKUP($CH14,'العاملين '!$A$3:$CR$260,48),0)","v":0},null,{"$f":"IF($CH14>0,VLOOKUP($CH14,'العاملين '!$A$3:$AR$260,41),0)","v":0},2.9999999999972715E-2,630.82999999999993,1343,{"$f":"IF($CH14>0,VLOOKUP($CH14,'العاملين '!$A$3:$AR$260,2),0)","v":"محمد20"},20,null,{"$f":"IF($CH14>0,VLOOKUP($CH14,'العاملين '!$A$3:$CR$260,3),0)","v":1},{"$f":"IF($CH14>0,VLOOKUP($CH14,'العاملين '!$A$3:$CR$260,49),0)","v":0},{"$f":"AX14-SUM(AY14:CC14)","v":1343.03}]
[9,{"$f":"IF($CH15>0,VLOOKUP($CH15,'العاملين '!$A$3:$AR$260,10),0)","v":652.6},97.89,6.53,13.05,19.579999999999998,789.65,{"$f":"IF($CH15>0,VLOOKUP($CH15,'العاملين '!$A$3:$AR$260,11),0)","v":0},{"$f":"IF($CH15>0,VLOOKUP($CH15,'العاملين '!$A$3:$AR$260,12),0)","v":32.54},{"$f":"IF($CH15>0,VLOOKUP($CH15,'العاملين '!$A$3:$AR$260,13),0)","v":33.04},{"$f":"IF($CH15>0,VLOOKUP($CH15,'العاملين '!$A$3:$AR$260,14),0)","v":35.19},{"$f":"IF($CH15>0,VLOOKUP($CH15,'العاملين '!$A$3:$AR$260,15),0)","v":0},100.77,{"$f":"IF($CH15>0,VLOOKUP($CH15,'العاملين '!$A$3:$AR$260,16),0)","v":4},{"$f":"IF($CH15>0,VLOOKUP($CH15,'العاملين '!$A$3:$AR$260,17),0)","v":4},{"$f":"IF($CH15>0,VLOOKUP($CH15,'العاملين '!$A$3:$AR$260,18),0)","v":0},{"$f":"IF($CH15>0,VLOOKUP($CH15,'العاملين '!$A$3:$AR$260,27),0)","v":0},{"$f":"IF($CH15>0,VLOOKUP($CH15,'العاملين '!$A$3:$AR$260,19),0)","v":0},{"$f":"IF($CH15>0,VLOOKUP($CH15,'العاملين '!$A$3:$AR$260,20),0)","v":0},{"$f":"IF($CH15>0,VLOOKUP($CH15,'العاملين '!$A$3:$AR$260,21),0)","v":0},{"$f":"IF($CH15>0,VLOOKUP($CH15,'العاملين '!$A$3:$AR$260,22),0)","v":0},{"$f":"IF($CH15>0,VLOOKUP($CH15,'العاملين '!$A$3:$AR$260,23),0)","v":0},{"$f":"IF($CH15>0,VLOOKUP($CH15,'العاملين '!$A$3:$AR$260,24),0)","v":0},{"$f":"IF($CH15>0,VLOOKUP($CH15,'العاملين '!$A$3:$AR$260,25),0)","v":0},{"$f":"IF($CH15>0,VLOOKUP($CH15,'العاملين '!$A$3:$AR$260,26),0)","v":0},{"$f":"IF($CH15>0,VLOOKUP($CH15,'العاملين '!$A$3:$CR$260,65),0)","v":175.98},{"$f":"IF($CH15>0,VLOOKUP($CH15,'العاملين '!$A$3:$CR$260,66),0)","v":175.98},{"$f":"IF($CH15>0,VLOOKUP($CH15,'العاملين '!$A$3:$CR$260,67),0)","v":263.97000000000003},{"$f":"IF($CH15>0,VLOOKUP($CH15,'العاملين '!$A$3:$CR$260,68),0)","v":87},{"$f":"IF($CH15>0,VLOOKUP($CH15,'العاملين '!$A$3:$CR$260,69),0)","v":175},{"$f":"IF($CH15>0,VLOOKUP($CH15,'العاملين '!$A$3:$CR$260,70),0)","v":0},{"$f":"IF($CH15>0,VLOOKUP($CH15,'العاملين '!$A$3:$CR$260,71),0)","v":0},{"$f":"IF($CH15>0,VLOOKUP($CH15,'العاملين '!$A$3:$CR$260,72),0)","v":0},null,null,null,null,null,null,{"$f":"IF($CH15>0,VLOOKUP($CH15,'العاملين '!$A$3:$AR$260,25),0)","v":0},986.7,986.7,0,148.01,9.8699999999999992,29.6,187.48,{"$f":"IF($CH15>0,VLOOKUP($CH15,'العاملين '!$A$3:$CR$260,64),0)","v":10},{"$f":"IF($CH15>0,VLOOKUP($CH15,'العاملين '!$A$3:$CR$260,52),0)","v":0},1973.83,97.89,6.53,13.05,null,65.260000000000005,52.21,19.579999999999998,6.53,148.01,9.8699999999999992,98.67,29.6,9.8699999999999992,{"$f":"IF($CJ15=1,ROUND(($B15)*7%,2),IF($CJ15=2,VLOOKUP($CH15,'العاملين '!$A$3:$CT$260,53),0))","v":45.68},{"$f":"IF($CJ15=1,0.5,IF($CJ15=2,VLOOKUP($CH15,'العاملين '!$A$3:$CS$260,54),0))","v":0.5},{"$f":"IF($CJ15=1,4.5,IF($CJ15=2,VLOOKUP($CH15,'العاملين '!$A$3:$CT$260,55),0))","v":4.5},{"$f":"IF($CH15>0,VLOOKUP($CH15,'العاملين '!$A$3:$AR$260,38),0)","v":1},{"$f":"IF($CJ15=1,0.2,IF($CJ15=2,VLOOKUP($CH15,'العاملين '!$A$3:$CT$260,55),0))","v":0.2},{"$f":"IF($CJ15=1,0.05,IF($CJ15=2,VLOOKUP($CH15,'العاملين '!$A$3:$CT$260,55),0))","v":0.05},{"$f":"IF($CH15>0,VLOOKUP($CH15,'العاملين '!$A$3:$AR$260,39),0)","v":10.65},{"$f":"IF($CH15>0,VLOOKUP($CH15,'العاملين '!$A$3:$AR$260,40),0)","v":11.15},{"$f":"IF($CH15>0,VLOOKUP($CH15,'العاملين '!$A$3:$AR$260,41),0)","v":0},{"$f":"IF($CH15>0,VLOOKUP($CH15,'العاملين '!$A$3:$AR$260,42),0)","v":0},{"$f":"IF($CH15>0,VLOOKUP($CH15,'العاملين '!$A$3:$AR$260,43),0)","v":0},{"$f":"IF($CH15>0,VLOOKUP($CH15,'العاملين '!$A$3:$AR$260,44),0)","v":0},{"$f":"IF($CH15>0,VLOOKUP($CH15,'العاملين '!$A$3:$CR$260,45),0)","v":0},{"$f":"IF($CH15>0,VLOOKUP($CH15,'العاملين '!$A$3:$CR$260,46),0)","v":0},{"$f":"IF($CH15>0,VLOOKUP($CH15,'العاملين '!$A$3:$CR$260,47),0)","v":0},{"$f":"IF($CH15>0,VLOOKUP($CH15,'العاملين '!$A$3:$CR$260,48),0)","v":0},null,{"$f":"IF($CH15>0,VLOOKUP($CH15,'العاملين '!$A$3:$AR$260,41),0)","v":0},2.9999999999972715E-2,630.82999999999993,1343,{"$f":"IF($CH15>0,VLOOKUP($CH15,'العاملين '!$A$3:$AR$260,2),0)","v":"محمد20"},20,null,{"$f":"IF($CH15>0,VLOOKUP($CH15,'العاملين '!$A$3:$CR$260,3),0)","v":1},{"$f":"IF($CH15>0,VLOOKUP($CH15,'العاملين '!$A$3:$CR$260,49),0)","v":0},1343.03]
[10,{"$f":"IF($CH16>0,VLOOKUP($CH16,'العاملين '!$A$3:$AR$260,10),0)","v":652.6},97.89,6.53,13.05,19.579999999999998,789.65,{"$f":"IF($CH16>0,VLOOKUP($CH16,'العاملين '!$A$3:$AR$260,11),0)","v":0},{"$f":"IF($CH16>0,VLOOKUP($CH16,'العاملين '!$A$3:$AR$260,12),0)","v":32.54},{"$f":"IF($CH16>0,VLOOKUP($CH16,'العاملين '!$A$3:$AR$260,13),0)","v":33.04},{"$f":"IF($CH16>0,VLOOKUP($CH16,'العاملين '!$A$3:$AR$260,14),0)","v":35.19},{"$f":"IF($CH16>0,VLOOKUP($CH16,'العاملين '!$A$3:$AR$260,15),0)","v":0},100.77,{"$f":"IF($CH16>0,VLOOKUP($CH16,'العاملين '!$A$3:$AR$260,16),0)","v":4},{"$f":"IF($CH16>0,VLOOKUP($CH16,'العاملين '!$A$3:$AR$260,17),0)","v":4},{"$f":"IF($CH16>0,VLOOKUP($CH16,'العاملين '!$A$3:$AR$260,18),0)","v":0},{"$f":"IF($CH16>0,VLOOKUP($CH16,'العاملين '!$A$3:$AR$260,27),0)","v":0},{"$f":"IF($CH16>0,VLOOKUP($CH16,'العاملين '!$A$3:$AR$260,19),0)","v":0},{"$f":"IF($CH16>0,VLOOKUP($CH16,'العاملين '!$A$3:$AR$260,20),0)","v":0},{"$f":"IF($CH16>0,VLOOKUP($CH16,'العاملين '!$A$3:$AR$260,21),0)","v":0},{"$f":"IF($CH16>0,VLOOKUP($CH16,'العاملين '!$A$3:$AR$260,22),0)","v":0},{"$f":"IF($CH16>0,VLOOKUP($CH16,'العاملين '!$A$3:$AR$260,23),0)","v":0},{"$f":"IF($CH16>0,VLOOKUP($CH16,'العاملين '!$A$3:$AR$260,24),0)","v":0},{"$f":"IF($CH16>0,VLOOKUP($CH16,'العاملين '!$A$3:$AR$260,25),0)","v":0},{"$f":"IF($CH16>0,VLOOKUP($CH16,'العاملين '!$A$3:$AR$260,26),0)","v":0},{"$f":"IF($CH16>0,VLOOKUP($CH16,'العاملين '!$A$3:$CR$260,65),0)","v":175.98},{"$f":"IF($CH16>0,VLOOKUP($CH16,'العاملين '!$A$3:$CR$260,66),0)","v":175.98},{"$f":"IF($CH16>0,VLOOKUP($CH16,'العاملين '!$A$3:$CR$260,67),0)","v":263.97000000000003},{"$f":"IF($CH16>0,VLOOKUP($CH16,'العاملين '!$A$3:$CR$260,68),0)","v":87},{"$f":"IF($CH16>0,VLOOKUP($CH16,'العاملين '!$A$3:$CR$260,69),0)","v":175},{"$f":"IF($CH16>0,VLOOKUP($CH16,'العاملين '!$A$3:$CR$260,70),0)","v":0},{"$f":"IF($CH16>0,VLOOKUP($CH16,'العاملين '!$A$3:$CR$260,71),0)","v":0},{"$f":"IF($CH16>0,VLOOKUP($CH16,'العاملين '!$A$3:$CR$260,72),0)","v":0},null,null,null,null,null,null,{"$f":"IF($CH16>0,VLOOKUP($CH16,'العاملين '!$A$3:$AR$260,25),0)","v":0},986.7,986.7,0,148.01,9.8699999999999992,29.6,187.48,{"$f":"IF($CH16>0,VLOOKUP($CH16,'العاملين '!$A$3:$CR$260,64),0)","v":10},{"$f":"IF($CH16>0,VLOOKUP($CH16,'العاملين '!$A$3:$CR$260,52),0)","v":0},1973.83,97.89,6.53,13.05,null,65.260000000000005,52.21,19.579999999999998,6.53,148.01,9.8699999999999992,98.67,29.6,9.8699999999999992,{"$f":"IF($CJ16=1,ROUND(($B16)*7%,2),IF($CJ16=2,VLOOKUP($CH16,'العاملين '!$A$3:$CT$260,53),0))","v":45.68},{"$f":"IF($CJ16=1,0.5,IF($CJ16=2,VLOOKUP($CH16,'العاملين '!$A$3:$CS$260,54),0))","v":0.5},{"$f":"IF($CJ16=1,4.5,IF($CJ16=2,VLOOKUP($CH16,'العاملين '!$A$3:$CT$260,55),0))","v":4.5},{"$f":"IF($CH16>0,VLOOKUP($CH16,'العاملين '!$A$3:$AR$260,38),0)","v":1},{"$f":"IF($CJ16=1,0.2,IF($CJ16=2,VLOOKUP($CH16,'العاملين '!$A$3:$CT$260,55),0))","v":0.2},{"$f":"IF($CJ16=1,0.05,IF($CJ16=2,VLOOKUP($CH16,'العاملين '!$A$3:$CT$260,55),0))","v":0.05},{"$f":"IF($CH16>0,VLOOKUP($CH16,'العاملين '!$A$3:$AR$260,39),0)","v":10.65},{"$f":"IF($CH16>0,VLOOKUP($CH16,'العاملين '!$A$3:$AR$260,40),0)","v":11.15},{"$f":"IF($CH16>0,VLOOKUP($CH16,'العاملين '!$A$3:$AR$260,41),0)","v":0},{"$f":"IF($CH16>0,VLOOKUP($CH16,'العاملين '!$A$3:$AR$260,42),0)","v":0},{"$f":"IF($CH16>0,VLOOKUP($CH16,'العاملين '!$A$3:$AR$260,43),0)","v":0},{"$f":"IF($CH16>0,VLOOKUP($CH16,'العاملين '!$A$3:$AR$260,44),0)","v":0},{"$f":"IF($CH16>0,VLOOKUP($CH16,'العاملين '!$A$3:$CR$260,45),0)","v":0},{"$f":"IF($CH16>0,VLOOKUP($CH16,'العاملين '!$A$3:$CR$260,46),0)","v":0},{"$f":"IF($CH16>0,VLOOKUP($CH16,'العاملين '!$A$3:$CR$260,47),0)","v":0},{"$f":"IF($CH16>0,VLOOKUP($CH16,'العاملين '!$A$3:$CR$260,48),0)","v":0},null,{"$f":"IF($CH16>0,VLOOKUP($CH16,'العاملين '!$A$3:$AR$260,41),0)","v":0},2.9999999999972715E-2,630.82999999999993,1343,{"$f":"IF($CH16>0,VLOOKUP($CH16,'العاملين '!$A$3:$AR$260,2),0)","v":"محمد20"},20,null,{"$f":"IF($CH16>0,VLOOKUP($CH16,'العاملين '!$A$3:$CR$260,3),0)","v":1},{"$f":"IF($CH16>0,VLOOKUP($CH16,'العاملين '!$A$3:$CR$260,49),0)","v":0},1343.03]
[11,{"$f":"IF($CH17>0,VLOOKUP($CH17,'العاملين '!$A$3:$AR$260,10),0)","v":652.6},97.89,6.53,13.05,19.579999999999998,789.65,{"$f":"IF($CH17>0,VLOOKUP($CH17,'العاملين '!$A$3:$AR$260,11),0)","v":0},{"$f":"IF($CH17>0,VLOOKUP($CH17,'العاملين '!$A$3:$AR$260,12),0)","v":32.54},{"$f":"IF($CH17>0,VLOOKUP($CH17,'العاملين '!$A$3:$AR$260,13),0)","v":33.04},{"$f":"IF($CH17>0,VLOOKUP($CH17,'العاملين '!$A$3:$AR$260,14),0)","v":35.19},{"$f":"IF($CH17>0,VLOOKUP($CH17,'العاملين '!$A$3:$AR$260,15),0)","v":0},100.77,{"$f":"IF($CH17>0,VLOOKUP($CH17,'العاملين '!$A$3:$AR$260,16),0)","v":4},{"$f":"IF($CH17>0,VLOOKUP($CH17,'العاملين '!$A$3:$AR$260,17),0)","v":4},{"$f":"IF($CH17>0,VLOOKUP($CH17,'العاملين '!$A$3:$AR$260,18),0)","v":0},{"$f":"IF($CH17>0,VLOOKUP($CH17,'العاملين '!$A$3:$AR$260,27),0)","v":0},{"$f":"IF($CH17>0,VLOOKUP($CH17,'العاملين '!$A$3:$AR$260,19),0)","v":0},{"$f":"IF($CH17>0,VLOOKUP($CH17,'العاملين '!$A$3:$AR$260,20),0)","v":0},{"$f":"IF($CH17>0,VLOOKUP($CH17,'العاملين '!$A$3:$AR$260,21),0)","v":0},{"$f":"IF($CH17>0,VLOOKUP($CH17,'العاملين '!$A$3:$AR$260,22),0)","v":0},{"$f":"IF($CH17>0,VLOOKUP($CH17,'العاملين '!$A$3:$AR$260,23),0)","v":0},{"$f":"IF($CH17>0,VLOOKUP($CH17,'العاملين '!$A$3:$AR$260,24),0)","v":0},{"$f":"IF($CH17>0,VLOOKUP($CH17,'العاملين '!$A$3:$AR$260,25),0)","v":0},{"$f":"IF($CH17>0,VLOOKUP($CH17,'العاملين '!$A$3:$AR$260,26),0)","v":0},{"$f":"IF($CH17>0,VLOOKUP($CH17,'العاملين '!$A$3:$CR$260,65),0)","v":175.98},{"$f":"IF($CH17>0,VLOOKUP($CH17,'العاملين '!$A$3:$CR$260,66),0)","v":175.98},{"$f":"IF($CH17>0,VLOOKUP($CH17,'العاملين '!$A$3:$CR$260,67),0)","v":263.97000000000003},{"$f":"IF($CH17>0,VLOOKUP($CH17,'العاملين '!$A$3:$CR$260,68),0)","v":87},{"$f":"IF($CH17>0,VLOOKUP($CH17,'العاملين '!$A$3:$CR$260,69),0)","v":175},{"$f":"IF($CH17>0,VLOOKUP($CH17,'العاملين '!$A$3:$CR$260,70),0)","v":0},{"$f":"IF($CH17>0,VLOOKUP($CH17,'العاملين '!$A$3:$CR$260,71),0)","v":0},{"$f":"IF($CH17>0,VLOOKUP($CH17,'العاملين '!$A$3:$CR$260,72),0)","v":0},null,null,null,null,null,null,{"$f":"IF($CH17>0,VLOOKUP($CH17,'العاملين '!$A$3:$AR$260,25),0)","v":0},986.7,986.7,0,148.01,9.8699999999999992,29.6,187.48,{"$f":"IF($CH17>0,VLOOKUP($CH17,'العاملين '!$A$3:$CR$260,64),0)","v":10},{"$f":"IF($CH17>0,VLOOKUP($CH17,'العاملين '!$A$3:$CR$260,52),0)","v":0},1973.83,97.89,6.53,13.05,null,65.260000000000005,52.21,19.579999999999998,6.53,148.01,9.8699999999999992,98.67,29.6,9.8699999999999992,{"$f":"IF($CJ17=1,ROUND(($B17)*7%,2),IF($CJ17=2,VLOOKUP($CH17,'العاملين '!$A$3:$CT$260,53),0))","v":45.68},{"$f":"IF($CJ17=1,0.5,IF($CJ17=2,VLOOKUP($CH17,'العاملين '!$A$3:$CS$260,54),0))","v":0.5},{"$f":"IF($CJ17=1,4.5,IF($CJ17=2,VLOOKUP($CH17,'العاملين '!$A$3:$CT$260,55),0))","v":4.5},{"$f":"IF($CH17>0,VLOOKUP($CH17,'العاملين '!$A$3:$AR$260,38),0)","v":1},{"$f":"IF($CJ17=1,0.2,IF($CJ17=2,VLOOKUP($CH17,'العاملين '!$A$3:$CT$260,55),0))","v":0.2},{"$f":"IF($CJ17=1,0.05,IF($CJ17=2,VLOOKUP($CH17,'العاملين '!$A$3:$CT$260,55),0))","v":0.05},{"$f":"IF($CH17>0,VLOOKUP($CH17,'العاملين '!$A$3:$AR$260,39),0)","v":10.65},{"$f":"IF($CH17>0,VLOOKUP($CH17,'العاملين '!$A$3:$AR$260,40),0)","v":11.15},{"$f":"IF($CH17>0,VLOOKUP($CH17,'العاملين '!$A$3:$AR$260,41),0)","v":0},{"$f":"IF($CH17>0,VLOOKUP($CH17,'العاملين '!$A$3:$AR$260,42),0)","v":0},{"$f":"IF($CH17>0,VLOOKUP($CH17,'العاملين '!$A$3:$AR$260,43),0)","v":0},{"$f":"IF($CH17>0,VLOOKUP($CH17,'العاملين '!$A$3:$AR$260,44),0)","v":0},{"$f":"IF($CH17>0,VLOOKUP($CH17,'العاملين '!$A$3:$CR$260,45),0)","v":0},{"$f":"IF($CH17>0,VLOOKUP($CH17,'العاملين '!$A$3:$CR$260,46),0)","v":0},{"$f":"IF($CH17>0,VLOOKUP($CH17,'العاملين '!$A$3:$CR$260,47),0)","v":0},{"$f":"IF($CH17>0,VLOOKUP($CH17,'العاملين '!$A$3:$CR$260,48),0)","v":0},null,{"$f":"IF($CH17>0,VLOOKUP($CH17,'العاملين '!$A$3:$AR$260,41),0)","v":0},2.9999999999972715E-2,630.82999999999993,1343,{"$f":"IF($CH17>0,VLOOKUP($CH17,'العاملين '!$A$3:$AR$260,2),0)","v":"محمد20"},20,null,{"$f":"IF($CH17>0,VLOOKUP($CH17,'العاملين '!$A$3:$CR$260,3),0)","v":1},{"$f":"IF($CH17>0,VLOOKUP($CH17,'العاملين '!$A$3:$CR$260,49),0)","v":0},1343.03]
[12,{"$f":"IF($CH18>0,VLOOKUP($CH18,'العاملين '!$A$3:$AR$260,10),0)","v":652.6},97.89,6.53,13.05,19.579999999999998,789.65,{"$f":"IF($CH18>0,VLOOKUP($CH18,'العاملين '!$A$3:$AR$260,11),0)","v":0},{"$f":"IF($CH18>0,VLOOKUP($CH18,'العاملين '!$A$3:$AR$260,12),0)","v":32.54},{"$f":"IF($CH18>0,VLOOKUP($CH18,'العاملين '!$A$3:$AR$260,13),0)","v":33.04},{"$f":"IF($CH18>0,VLOOKUP($CH18,'العاملين '!$A$3:$AR$260,14),0)","v":35.19},{"$f":"IF($CH18>0,VLOOKUP($CH18,'العاملين '!$A$3:$AR$260,15),0)","v":0},100.77,{"$f":"IF($CH18>0,VLOOKUP($CH18,'العاملين '!$A$3:$AR$260,16),0)","v":4},{"$f":"IF($CH18>0,VLOOKUP($CH18,'العاملين '!$A$3:$AR$260,17),0)","v":4},{"$f":"IF($CH18>0,VLOOKUP($CH18,'العاملين '!$A$3:$AR$260,18),0)","v":0},{"$f":"IF($CH18>0,VLOOKUP($CH18,'العاملين '!$A$3:$AR$260,27),0)","v":0},{"$f":"IF($CH18>0,VLOOKUP($CH18,'العاملين '!$A$3:$AR$260,19),0)","v":0},{"$f":"IF($CH18>0,VLOOKUP($CH18,'العاملين '!$A$3:$AR$260,20),0)","v":0},{"$f":"IF($CH18>0,VLOOKUP($CH18,'العاملين '!$A$3:$AR$260,21),0)","v":0},{"$f":"IF($CH18>0,VLOOKUP($CH18,'العاملين '!$A$3:$AR$260,22),0)","v":0},{"$f":"IF($CH18>0,VLOOKUP($CH18,'العاملين '!$A$3:$AR$260,23),0)","v":0},{"$f":"IF($CH18>0,VLOOKUP($CH18,'العاملين '!$A$3:$AR$260,24),0)","v":0},{"$f":"IF($CH18>0,VLOOKUP($CH18,'العاملين '!$A$3:$AR$260,25),0)","v":0},{"$f":"IF($CH18>0,VLOOKUP($CH18,'العاملين '!$A$3:$AR$260,26),0)","v":0},{"$f":"IF($CH18>0,VLOOKUP($CH18,'العاملين '!$A$3:$CR$260,65),0)","v":175.98},{"$f":"IF($CH18>0,VLOOKUP($CH18,'العاملين '!$A$3:$CR$260,66),0)","v":175.98},{"$f":"IF($CH18>0,VLOOKUP($CH18,'العاملين '!$A$3:$CR$260,67),0)","v":263.97000000000003},{"$f":"IF($CH18>0,VLOOKUP($CH18,'العاملين '!$A$3:$CR$260,68),0)","v":87},{"$f":"IF($CH18>0,VLOOKUP($CH18,'العاملين '!$A$3:$CR$260,69),0)","v":175},{"$f":"IF($CH18>0,VLOOKUP($CH18,'العاملين '!$A$3:$CR$260,70),0)","v":0},{"$f":"IF($CH18>0,VLOOKUP($CH18,'العاملين '!$A$3:$CR$260,71),0)","v":0},{"$f":"IF($CH18>0,VLOOKUP($CH18,'العاملين '!$A$3:$CR$260,72),0)","v":0},null,null,null,null,null,null,{"$f":"IF($CH18>0,VLOOKUP($CH18,'العاملين '!$A$3:$AR$260,25),0)","v":0},986.7,986.7,0,148.01,9.8699999999999992,29.6,187.48,{"$f":"IF($CH18>0,VLOOKUP($CH18,'العاملين '!$A$3:$CR$260,64),0)","v":10},{"$f":"IF($CH18>0,VLOOKUP($CH18,'العاملين '!$A$3:$CR$260,52),0)","v":0},1973.83,97.89,6.53,13.05,null,65.260000000000005,52.21,19.579999999999998,6.53,148.01,9.8699999999999992,98.67,29.6,9.8699999999999992,{"$f":"IF($CJ18=1,ROUND(($B18)*7%,2),IF($CJ18=2,VLOOKUP($CH18,'العاملين '!$A$3:$CT$260,53),0))","v":45.68},{"$f":"IF($CJ18=1,0.5,IF($CJ18=2,VLOOKUP($CH18,'العاملين '!$A$3:$CS$260,54),0))","v":0.5},{"$f":"IF($CJ18=1,4.5,IF($CJ18=2,VLOOKUP($CH18,'العاملين '!$A$3:$CT$260,55),0))","v":4.5},{"$f":"IF($CH18>0,VLOOKUP($CH18,'العاملين '!$A$3:$AR$260,38),0)","v":1},{"$f":"IF($CJ18=1,0.2,IF($CJ18=2,VLOOKUP($CH18,'العاملين '!$A$3:$CT$260,55),0))","v":0.2},{"$f":"IF($CJ18=1,0.05,IF($CJ18=2,VLOOKUP($CH18,'العاملين '!$A$3:$CT$260,55),0))","v":0.05},{"$f":"IF($CH18>0,VLOOKUP($CH18,'العاملين '!$A$3:$AR$260,39),0)","v":10.65},{"$f":"IF($CH18>0,VLOOKUP($CH18,'العاملين '!$A$3:$AR$260,40),0)","v":11.15},{"$f":"IF($CH18>0,VLOOKUP($CH18,'العاملين '!$A$3:$AR$260,41),0)","v":0},{"$f":"IF($CH18>0,VLOOKUP($CH18,'العاملين '!$A$3:$AR$260,42),0)","v":0},{"$f":"IF($CH18>0,VLOOKUP($CH18,'العاملين '!$A$3:$AR$260,43),0)","v":0},{"$f":"IF($CH18>0,VLOOKUP($CH18,'العاملين '!$A$3:$AR$260,44),0)","v":0},{"$f":"IF($CH18>0,VLOOKUP($CH18,'العاملين '!$A$3:$CR$260,45),0)","v":0},{"$f":"IF($CH18>0,VLOOKUP($CH18,'العاملين '!$A$3:$CR$260,46),0)","v":0},{"$f":"IF($CH18>0,VLOOKUP($CH18,'العاملين '!$A$3:$CR$260,47),0)","v":0},{"$f":"IF($CH18>0,VLOOKUP($CH18,'العاملين '!$A$3:$CR$260,48),0)","v":0},null,{"$f":"IF($CH18>0,VLOOKUP($CH18,'العاملين '!$A$3:$AR$260,41),0)","v":0},2.9999999999972715E-2,630.82999999999993,1343,{"$f":"IF($CH18>0,VLOOKUP($CH18,'العاملين '!$A$3:$AR$260,2),0)","v":"محمد20"},20,null,{"$f":"IF($CH18>0,VLOOKUP($CH18,'العاملين '!$A$3:$CR$260,3),0)","v":1},{"$f":"IF($CH18>0,VLOOKUP($CH18,'العاملين '!$A$3:$CR$260,49),0)","v":0},1343.03]
[13,{"$f":"IF($CH19>0,VLOOKUP($CH19,'العاملين '!$A$3:$AR$260,10),0)","v":652.6},97.89,6.53,13.05,19.579999999999998,789.65,{"$f":"IF($CH19>0,VLOOKUP($CH19,'العاملين '!$A$3:$AR$260,11),0)","v":0},{"$f":"IF($CH19>0,VLOOKUP($CH19,'العاملين '!$A$3:$AR$260,12),0)","v":32.54},{"$f":"IF($CH19>0,VLOOKUP($CH19,'العاملين '!$A$3:$AR$260,13),0)","v":33.04},{"$f":"IF($CH19>0,VLOOKUP($CH19,'العاملين '!$A$3:$AR$260,14),0)","v":35.19},{"$f":"IF($CH19>0,VLOOKUP($CH19,'العاملين '!$A$3:$AR$260,15),0)","v":0},100.77,{"$f":"IF($CH19>0,VLOOKUP($CH19,'العاملين '!$A$3:$AR$260,16),0)","v":4},{"$f":"IF($CH19>0,VLOOKUP($CH19,'العاملين '!$A$3:$AR$260,17),0)","v":4},{"$f":"IF($CH19>0,VLOOKUP($CH19,'العاملين '!$A$3:$AR$260,18),0)","v":0},{"$f":"IF($CH19>0,VLOOKUP($CH19,'العاملين '!$A$3:$AR$260,27),0)","v":0},{"$f":"IF($CH19>0,VLOOKUP($CH19,'العاملين '!$A$3:$AR$260,19),0)","v":0},{"$f":"IF($CH19>0,VLOOKUP($CH19,'العاملين '!$A$3:$AR$260,20),0)","v":0},{"$f":"IF($CH19>0,VLOOKUP($CH19,'العاملين '!$A$3:$AR$260,21),0)","v":0},{"$f":"IF($CH19>0,VLOOKUP($CH19,'العاملين '!$A$3:$AR$260,22),0)","v":0},{"$f":"IF($CH19>0,VLOOKUP($CH19,'العاملين '!$A$3:$AR$260,23),0)","v":0},{"$f":"IF($CH19>0,VLOOKUP($CH19,'العاملين '!$A$3:$AR$260,24),0)","v":0},{"$f":"IF($CH19>0,VLOOKUP($CH19,'العاملين '!$A$3:$AR$260,25),0)","v":0},{"$f":"IF($CH19>0,VLOOKUP($CH19,'العاملين '!$A$3:$AR$260,26),0)","v":0},{"$f":"IF($CH19>0,VLOOKUP($CH19,'العاملين '!$A$3:$CR$260,65),0)","v":175.98},{"$f":"IF($CH19>0,VLOOKUP($CH19,'العاملين '!$A$3:$CR$260,66),0)","v":175.98},{"$f":"IF($CH19>0,VLOOKUP($CH19,'العاملين '!$A$3:$CR$260,67),0)","v":263.97000000000003},{"$f":"IF($CH19>0,VLOOKUP($CH19,'العاملين '!$A$3:$CR$260,68),0)","v":87},{"$f":"IF($CH19>0,VLOOKUP($CH19,'العاملين '!$A$3:$CR$260,69),0)","v":175},{"$f":"IF($CH19>0,VLOOKUP($CH19,'العاملين '!$A$3:$CR$260,70),0)","v":0},{"$f":"IF($CH19>0,VLOOKUP($CH19,'العاملين '!$A$3:$CR$260,71),0)","v":0},{"$f":"IF($CH19>0,VLOOKUP($CH19,'العاملين '!$A$3:$CR$260,72),0)","v":0},null,null,null,null,null,null,{"$f":"IF($CH19>0,VLOOKUP($CH19,'العاملين '!$A$3:$AR$260,25),0)","v":0},986.7,986.7,0,148.01,9.8699999999999992,29.6,187.48,{"$f":"IF($CH19>0,VLOOKUP($CH19,'العاملين '!$A$3:$CR$260,64),0)","v":10},{"$f":"IF($CH19>0,VLOOKUP($CH19,'العاملين '!$A$3:$CR$260,52),0)","v":0},1973.83,97.89,6.53,13.05,null,65.260000000000005,52.21,19.579999999999998,6.53,148.01,9.8699999999999992,98.67,29.6,9.8699999999999992,{"$f":"IF($CJ19=1,ROUND(($B19)*7%,2),IF($CJ19=2,VLOOKUP($CH19,'العاملين '!$A$3:$CT$260,53),0))","v":45.68},{"$f":"IF($CJ19=1,0.5,IF($CJ19=2,VLOOKUP($CH19,'العاملين '!$A$3:$CS$260,54),0))","v":0.5},{"$f":"IF($CJ19=1,4.5,IF($CJ19=2,VLOOKUP($CH19,'العاملين '!$A$3:$CT$260,55),0))","v":4.5},{"$f":"IF($CH19>0,VLOOKUP($CH19,'العاملين '!$A$3:$AR$260,38),0)","v":1},{"$f":"IF($CJ19=1,0.2,IF($CJ19=2,VLOOKUP($CH19,'العاملين '!$A$3:$CT$260,55),0))","v":0.2},{"$f":"IF($CJ19=1,0.05,IF($CJ19=2,VLOOKUP($CH19,'العاملين '!$A$3:$CT$260,55),0))","v":0.05},{"$f":"IF($CH19>0,VLOOKUP($CH19,'العاملين '!$A$3:$AR$260,39),0)","v":10.65},{"$f":"IF($CH19>0,VLOOKUP($CH19,'العاملين '!$A$3:$AR$260,40),0)","v":11.15},{"$f":"IF($CH19>0,VLOOKUP($CH19,'العاملين '!$A$3:$AR$260,41),0)","v":0},{"$f":"IF($CH19>0,VLOOKUP($CH19,'العاملين '!$A$3:$AR$260,42),0)","v":0},{"$f":"IF($CH19>0,VLOOKUP($CH19,'العاملين '!$A$3:$AR$260,43),0)","v":0},{"$f":"IF($CH19>0,VLOOKUP($CH19,'العاملين '!$A$3:$AR$260,44),0)","v":0},{"$f":"IF($CH19>0,VLOOKUP($CH19,'العاملين '!$A$3:$CR$260,45),0)","v":0},{"$f":"IF($CH19>0,VLOOKUP($CH19,'العاملين '!$A$3:$CR$260,46),0)","v":0},{"$f":"IF($CH19>0,VLOOKUP($CH19,'العاملين '!$A$3:$CR$260,47),0)","v":0},{"$f":"IF($CH19>0,VLOOKUP($CH19,'العاملين '!$A$3:$CR$260,48),0)","v":0},null,{"$f":"IF($CH19>0,VLOOKUP($CH19,'العاملين '!$A$3:$AR$260,41),0)","v":0},2.9999999999972715E-2,630.82999999999993,1343,{"$f":"IF($CH19>0,VLOOKUP($CH19,'العاملين '!$A$3:$AR$260,2),0)","v":"محمد20"},20,null,{"$f":"IF($CH19>0,VLOOKUP($CH19,'العاملين '!$A$3:$CR$260,3),0)","v":1},{"$f":"IF($CH19>0,VLOOKUP($CH19,'العاملين '!$A$3:$CR$260,49),0)","v":0},1343.03]
[14,{"$f":"IF($CH20>0,VLOOKUP($CH20,'العاملين '!$A$3:$AR$260,10),0)","v":652.6},97.89,6.53,13.05,19.579999999999998,789.65,{"$f":"IF($CH20>0,VLOOKUP($CH20,'العاملين '!$A$3:$AR$260,11),0)","v":0},{"$f":"IF($CH20>0,VLOOKUP($CH20,'العاملين '!$A$3:$AR$260,12),0)","v":32.54},{"$f":"IF($CH20>0,VLOOKUP($CH20,'العاملين '!$A$3:$AR$260,13),0)","v":33.04},{"$f":"IF($CH20>0,VLOOKUP($CH20,'العاملين '!$A$3:$AR$260,14),0)","v":35.19},{"$f":"IF($CH20>0,VLOOKUP($CH20,'العاملين '!$A$3:$AR$260,15),0)","v":0},100.77,{"$f":"IF($CH20>0,VLOOKUP($CH20,'العاملين '!$A$3:$AR$260,16),0)","v":4},{"$f":"IF($CH20>0,VLOOKUP($CH20,'العاملين '!$A$3:$AR$260,17),0)","v":4},{"$f":"IF($CH20>0,VLOOKUP($CH20,'العاملين '!$A$3:$AR$260,18),0)","v":0},{"$f":"IF($CH20>0,VLOOKUP($CH20,'العاملين '!$A$3:$AR$260,27),0)","v":0},{"$f":"IF($CH20>0,VLOOKUP($CH20,'العاملين '!$A$3:$AR$260,19),0)","v":0},{"$f":"IF($CH20>0,VLOOKUP($CH20,'العاملين '!$A$3:$AR$260,20),0)","v":0},{"$f":"IF($CH20>0,VLOOKUP($CH20,'العاملين '!$A$3:$AR$260,21),0)","v":0},{"$f":"IF($CH20>0,VLOOKUP($CH20,'العاملين '!$A$3:$AR$260,22),0)","v":0},{"$f":"IF($CH20>0,VLOOKUP($CH20,'العاملين '!$A$3:$AR$260,23),0)","v":0},{"$f":"IF($CH20>0,VLOOKUP($CH20,'العاملين '!$A$3:$AR$260,24),0)","v":0},{"$f":"IF($CH20>0,VLOOKUP($CH20,'العاملين '!$A$3:$AR$260,25),0)","v":0},{"$f":"IF($CH20>0,VLOOKUP($CH20,'العاملين '!$A$3:$AR$260,26),0)","v":0},{"$f":"IF($CH20>0,VLOOKUP($CH20,'العاملين '!$A$3:$CR$260,65),0)","v":175.98},{"$f":"IF($CH20>0,VLOOKUP($CH20,'العاملين '!$A$3:$CR$260,66),0)","v":175.98},{"$f":"IF($CH20>0,VLOOKUP($CH20,'العاملين '!$A$3:$CR$260,67),0)","v":263.97000000000003},{"$f":"IF($CH20>0,VLOOKUP($CH20,'العاملين '!$A$3:$CR$260,68),0)","v":87},{"$f":"IF($CH20>0,VLOOKUP($CH20,'العاملين '!$A$3:$CR$260,69),0)","v":175},{"$f":"IF($CH20>0,VLOOKUP($CH20,'العاملين '!$A$3:$CR$260,70),0)","v":0},{"$f":"IF($CH20>0,VLOOKUP($CH20,'العاملين '!$A$3:$CR$260,71),0)","v":0},{"$f":"IF($CH20>0,VLOOKUP($CH20,'العاملين '!$A$3:$CR$260,72),0)","v":0},null,null,null,null,null,null,{"$f":"IF($CH20>0,VLOOKUP($CH20,'العاملين '!$A$3:$AR$260,25),0)","v":0},986.7,986.7,0,148.01,9.8699999999999992,29.6,187.48,{"$f":"IF($CH20>0,VLOOKUP($CH20,'العاملين '!$A$3:$CR$260,64),0)","v":10},{"$f":"IF($CH20>0,VLOOKUP($CH20,'العاملين '!$A$3:$CR$260,52),0)","v":0},1973.83,97.89,6.53,13.05,null,65.260000000000005,52.21,19.579999999999998,6.53,148.01,9.8699999999999992,98.67,29.6,9.8699999999999992,{"$f":"IF($CJ20=1,ROUND(($B20)*7%,2),IF($CJ20=2,VLOOKUP($CH20,'العاملين '!$A$3:$CT$260,53),0))","v":45.68},{"$f":"IF($CJ20=1,0.5,IF($CJ20=2,VLOOKUP($CH20,'العاملين '!$A$3:$CS$260,54),0))","v":0.5},{"$f":"IF($CJ20=1,4.5,IF($CJ20=2,VLOOKUP($CH20,'العاملين '!$A$3:$CT$260,55),0))","v":4.5},{"$f":"IF($CH20>0,VLOOKUP($CH20,'العاملين '!$A$3:$AR$260,38),0)","v":1},{"$f":"IF($CJ20=1,0.2,IF($CJ20=2,VLOOKUP($CH20,'العاملين '!$A$3:$CT$260,55),0))","v":0.2},{"$f":"IF($CJ20=1,0.05,IF($CJ20=2,VLOOKUP($CH20,'العاملين '!$A$3:$CT$260,55),0))","v":0.05},{"$f":"IF($CH20>0,VLOOKUP($CH20,'العاملين '!$A$3:$AR$260,39),0)","v":10.65},{"$f":"IF($CH20>0,VLOOKUP($CH20,'العاملين '!$A$3:$AR$260,40),0)","v":11.15},{"$f":"IF($CH20>0,VLOOKUP($CH20,'العاملين '!$A$3:$AR$260,41),0)","v":0},{"$f":"IF($CH20>0,VLOOKUP($CH20,'العاملين '!$A$3:$AR$260,42),0)","v":0},{"$f":"IF($CH20>0,VLOOKUP($CH20,'العاملين '!$A$3:$AR$260,43),0)","v":0},{"$f":"IF($CH20>0,VLOOKUP($CH20,'العاملين '!$A$3:$AR$260,44),0)","v":0},{"$f":"IF($CH20>0,VLOOKUP($CH20,'العاملين '!$A$3:$CR$260,45),0)","v":0},{"$f":"IF($CH20>0,VLOOKUP($CH20,'العاملين '!$A$3:$CR$260,46),0)","v":0},{"$f":"IF($CH20>0,VLOOKUP($CH20,'العاملين '!$A$3:$CR$260,47),0)","v":0},{"$f":"IF($CH20>0,VLOOKUP($CH20,'العاملين '!$A$3:$CR$260,48),0)","v":0},null,{"$f":"IF($CH20>0,VLOOKUP($CH20,'العاملين '!$A$3:$AR$260,41),0)","v":0},2.9999999999972715E-2,630.82999999999993,1343,{"$f":"IF($CH20>0,VLOOKUP($CH20,'العاملين '!$A$3:$AR$260,2),0)","v":"محمد20"},20,null,{"$f":"IF($CH20>0,VLOOKUP($CH20,'العاملين '!$A$3:$CR$260,3),0)","v":1},{"$f":"IF($CH20>0,VLOOKUP($CH20,'العاملين '!$A$3:$CR$260,49),0)","v":0},1343.03]
[15,{"$f":"IF($CH21>0,VLOOKUP($CH21,'العاملين '!$A$3:$AR$260,10),0)","v":652.6},97.89,6.53,13.05,19.579999999999998,789.65,{"$f":"IF($CH21>0,VLOOKUP($CH21,'العاملين '!$A$3:$AR$260,11),0)","v":0},{"$f":"IF($CH21>0,VLOOKUP($CH21,'العاملين '!$A$3:$AR$260,12),0)","v":32.54},{"$f":"IF($CH21>0,VLOOKUP($CH21,'العاملين '!$A$3:$AR$260,13),0)","v":33.04},{"$f":"IF($CH21>0,VLOOKUP($CH21,'العاملين '!$A$3:$AR$260,14),0)","v":35.19},{"$f":"IF($CH21>0,VLOOKUP($CH21,'العاملين '!$A$3:$AR$260,15),0)","v":0},100.77,{"$f":"IF($CH21>0,VLOOKUP($CH21,'العاملين '!$A$3:$AR$260,16),0)","v":4},{"$f":"IF($CH21>0,VLOOKUP($CH21,'العاملين '!$A$3:$AR$260,17),0)","v":4},{"$f":"IF($CH21>0,VLOOKUP($CH21,'العاملين '!$A$3:$AR$260,18),0)","v":0},{"$f":"IF($CH21>0,VLOOKUP($CH21,'العاملين '!$A$3:$AR$260,27),0)","v":0},{"$f":"IF($CH21>0,VLOOKUP($CH21,'العاملين '!$A$3:$AR$260,19),0)","v":0},{"$f":"IF($CH21>0,VLOOKUP($CH21,'العاملين '!$A$3:$AR$260,20),0)","v":0},{"$f":"IF($CH21>0,VLOOKUP($CH21,'العاملين '!$A$3:$AR$260,21),0)","v":0},{"$f":"IF($CH21>0,VLOOKUP($CH21,'العاملين '!$A$3:$AR$260,22),0)","v":0},{"$f":"IF($CH21>0,VLOOKUP($CH21,'العاملين '!$A$3:$AR$260,23),0)","v":0},{"$f":"IF($CH21>0,VLOOKUP($CH21,'العاملين '!$A$3:$AR$260,24),0)","v":0},{"$f":"IF($CH21>0,VLOOKUP($CH21,'العاملين '!$A$3:$AR$260,25),0)","v":0},{"$f":"IF($CH21>0,VLOOKUP($CH21,'العاملين '!$A$3:$AR$260,26),0)","v":0},{"$f":"IF($CH21>0,VLOOKUP($CH21,'العاملين '!$A$3:$CR$260,65),0)","v":175.98},{"$f":"IF($CH21>0,VLOOKUP($CH21,'العاملين '!$A$3:$CR$260,66),0)","v":175.98},{"$f":"IF($CH21>0,VLOOKUP($CH21,'العاملين '!$A$3:$CR$260,67),0)","v":263.97000000000003},{"$f":"IF($CH21>0,VLOOKUP($CH21,'العاملين '!$A$3:$CR$260,68),0)","v":87},{"$f":"IF($CH21>0,VLOOKUP($CH21,'العاملين '!$A$3:$CR$260,69),0)","v":175},{"$f":"IF($CH21>0,VLOOKUP($CH21,'العاملين '!$A$3:$CR$260,70),0)","v":0},{"$f":"IF($CH21>0,VLOOKUP($CH21,'العاملين '!$A$3:$CR$260,71),0)","v":0},{"$f":"IF($CH21>0,VLOOKUP($CH21,'العاملين '!$A$3:$CR$260,72),0)","v":0},null,null,null,null,null,null,{"$f":"IF($CH21>0,VLOOKUP($CH21,'العاملين '!$A$3:$AR$260,25),0)","v":0},986.7,986.7,0,148.01,9.8699999999999992,29.6,187.48,{"$f":"IF($CH21>0,VLOOKUP($CH21,'العاملين '!$A$3:$CR$260,64),0)","v":10},{"$f":"IF($CH21>0,VLOOKUP($CH21,'العاملين '!$A$3:$CR$260,52),0)","v":0},1973.83,97.89,6.53,13.05,null,65.260000000000005,52.21,19.579999999999998,6.53,148.01,9.8699999999999992,98.67,29.6,9.8699999999999992,{"$f":"IF($CJ21=1,ROUND(($B21)*7%,2),IF($CJ21=2,VLOOKUP($CH21,'العاملين '!$A$3:$CT$260,53),0))","v":45.68},{"$f":"IF($CJ21=1,0.5,IF($CJ21=2,VLOOKUP($CH21,'العاملين '!$A$3:$CS$260,54),0))","v":0.5},{"$f":"IF($CJ21=1,4.5,IF($CJ21=2,VLOOKUP($CH21,'العاملين '!$A$3:$CT$260,55),0))","v":4.5},{"$f":"IF($CH21>0,VLOOKUP($CH21,'العاملين '!$A$3:$AR$260,38),0)","v":1},{"$f":"IF($CJ21=1,0.2,IF($CJ21=2,VLOOKUP($CH21,'العاملين '!$A$3:$CT$260,55),0))","v":0.2},{"$f":"IF($CJ21=1,0.05,IF($CJ21=2,VLOOKUP($CH21,'العاملين '!$A$3:$CT$260,55),0))","v":0.05},{"$f":"IF($CH21>0,VLOOKUP($CH21,'العاملين '!$A$3:$AR$260,39),0)","v":10.65},{"$f":"IF($CH21>0,VLOOKUP($CH21,'العاملين '!$A$3:$AR$260,40),0)","v":11.15},{"$f":"IF($CH21>0,VLOOKUP($CH21,'العاملين '!$A$3:$AR$260,41),0)","v":0},{"$f":"IF($CH21>0,VLOOKUP($CH21,'العاملين '!$A$3:$AR$260,42),0)","v":0},{"$f":"IF($CH21>0,VLOOKUP($CH21,'العاملين '!$A$3:$AR$260,43),0)","v":0},{"$f":"IF($CH21>0,VLOOKUP($CH21,'العاملين '!$A$3:$AR$260,44),0)","v":0},{"$f":"IF($CH21>0,VLOOKUP($CH21,'العاملين '!$A$3:$CR$260,45),0)","v":0},{"$f":"IF($CH21>0,VLOOKUP($CH21,'العاملين '!$A$3:$CR$260,46),0)","v":0},{"$f":"IF($CH21>0,VLOOKUP($CH21,'العاملين '!$A$3:$CR$260,47),0)","v":0},{"$f":"IF($CH21>0,VLOOKUP($CH21,'العاملين '!$A$3:$CR$260,48),0)","v":0},null,{"$f":"IF($CH21>0,VLOOKUP($CH21,'العاملين '!$A$3:$AR$260,41),0)","v":0},2.9999999999972715E-2,630.82999999999993,1343,{"$f":"IF($CH21>0,VLOOKUP($CH21,'العاملين '!$A$3:$AR$260,2),0)","v":"محمد20"},20,null,{"$f":"IF($CH21>0,VLOOKUP($CH21,'العاملين '!$A$3:$CR$260,3),0)","v":1},{"$f":"IF($CH21>0,VLOOKUP($CH21,'العاملين '!$A$3:$CR$260,49),0)","v":0},1343.03]
[16,{"$f":"IF($CH22>0,VLOOKUP($CH22,'العاملين '!$A$3:$AR$260,10),0)","v":652.6},97.89,6.53,13.05,19.579999999999998,789.65,{"$f":"IF($CH22>0,VLOOKUP($CH22,'العاملين '!$A$3:$AR$260,11),0)","v":0},{"$f":"IF($CH22>0,VLOOKUP($CH22,'العاملين '!$A$3:$AR$260,12),0)","v":32.54},{"$f":"IF($CH22>0,VLOOKUP($CH22,'العاملين '!$A$3:$AR$260,13),0)","v":33.04},{"$f":"IF($CH22>0,VLOOKUP($CH22,'العاملين '!$A$3:$AR$260,14),0)","v":35.19},{"$f":"IF($CH22>0,VLOOKUP($CH22,'العاملين '!$A$3:$AR$260,15),0)","v":0},100.77,{"$f":"IF($CH22>0,VLOOKUP($CH22,'العاملين '!$A$3:$AR$260,16),0)","v":4},{"$f":"IF($CH22>0,VLOOKUP($CH22,'العاملين '!$A$3:$AR$260,17),0)","v":4},{"$f":"IF($CH22>0,VLOOKUP($CH22,'العاملين '!$A$3:$AR$260,18),0)","v":0},{"$f":"IF($CH22>0,VLOOKUP($CH22,'العاملين '!$A$3:$AR$260,27),0)","v":0},{"$f":"IF($CH22>0,VLOOKUP($CH22,'العاملين '!$A$3:$AR$260,19),0)","v":0},{"$f":"IF($CH22>0,VLOOKUP($CH22,'العاملين '!$A$3:$AR$260,20),0)","v":0},{"$f":"IF($CH22>0,VLOOKUP($CH22,'العاملين '!$A$3:$AR$260,21),0)","v":0},{"$f":"IF($CH22>0,VLOOKUP($CH22,'العاملين '!$A$3:$AR$260,22),0)","v":0},{"$f":"IF($CH22>0,VLOOKUP($CH22,'العاملين '!$A$3:$AR$260,23),0)","v":0},{"$f":"IF($CH22>0,VLOOKUP($CH22,'العاملين '!$A$3:$AR$260,24),0)","v":0},{"$f":"IF($CH22>0,VLOOKUP($CH22,'العاملين '!$A$3:$AR$260,25),0)","v":0},{"$f":"IF($CH22>0,VLOOKUP($CH22,'العاملين '!$A$3:$AR$260,26),0)","v":0},{"$f":"IF($CH22>0,VLOOKUP($CH22,'العاملين '!$A$3:$CR$260,65),0)","v":175.98},{"$f":"IF($CH22>0,VLOOKUP($CH22,'العاملين '!$A$3:$CR$260,66),0)","v":175.98},{"$f":"IF($CH22>0,VLOOKUP($CH22,'العاملين '!$A$3:$CR$260,67),0)","v":263.97000000000003},{"$f":"IF($CH22>0,VLOOKUP($CH22,'العاملين '!$A$3:$CR$260,68),0)","v":87},{"$f":"IF($CH22>0,VLOOKUP($CH22,'العاملين '!$A$3:$CR$260,69),0)","v":175},{"$f":"IF($CH22>0,VLOOKUP($CH22,'العاملين '!$A$3:$CR$260,70),0)","v":0},{"$f":"IF($CH22>0,VLOOKUP($CH22,'العاملين '!$A$3:$CR$260,71),0)","v":0},{"$f":"IF($CH22>0,VLOOKUP($CH22,'العاملين '!$A$3:$CR$260,72),0)","v":0},null,null,null,null,null,null,{"$f":"IF($CH22>0,VLOOKUP($CH22,'العاملين '!$A$3:$AR$260,25),0)","v":0},986.7,986.7,0,148.01,9.8699999999999992,29.6,187.48,{"$f":"IF($CH22>0,VLOOKUP($CH22,'العاملين '!$A$3:$CR$260,64),0)","v":10},{"$f":"IF($CH22>0,VLOOKUP($CH22,'العاملين '!$A$3:$CR$260,52),0)","v":0},1973.83,97.89,6.53,13.05,null,65.260000000000005,52.21,19.579999999999998,6.53,148.01,9.8699999999999992,98.67,29.6,9.8699999999999992,{"$f":"IF($CJ22=1,ROUND(($B22)*7%,2),IF($CJ22=2,VLOOKUP($CH22,'العاملين '!$A$3:$CT$260,53),0))","v":45.68},{"$f":"IF($CJ22=1,0.5,IF($CJ22=2,VLOOKUP($CH22,'العاملين '!$A$3:$CS$260,54),0))","v":0.5},{"$f":"IF($CJ22=1,4.5,IF($CJ22=2,VLOOKUP($CH22,'العاملين '!$A$3:$CT$260,55),0))","v":4.5},{"$f":"IF($CH22>0,VLOOKUP($CH22,'العاملين '!$A$3:$AR$260,38),0)","v":1},{"$f":"IF($CJ22=1,0.2,IF($CJ22=2,VLOOKUP($CH22,'العاملين '!$A$3:$CT$260,55),0))","v":0.2},{"$f":"IF($CJ22=1,0.05,IF($CJ22=2,VLOOKUP($CH22,'العاملين '!$A$3:$CT$260,55),0))","v":0.05},{"$f":"IF($CH22>0,VLOOKUP($CH22,'العاملين '!$A$3:$AR$260,39),0)","v":10.65},{"$f":"IF($CH22>0,VLOOKUP($CH22,'العاملين '!$A$3:$AR$260,40),0)","v":11.15},{"$f":"IF($CH22>0,VLOOKUP($CH22,'العاملين '!$A$3:$AR$260,41),0)","v":0},{"$f":"IF($CH22>0,VLOOKUP($CH22,'العاملين '!$A$3:$AR$260,42),0)","v":0},{"$f":"IF($CH22>0,VLOOKUP($CH22,'العاملين '!$A$3:$AR$260,43),0)","v":0},{"$f":"IF($CH22>0,VLOOKUP($CH22,'العاملين '!$A$3:$AR$260,44),0)","v":0},{"$f":"IF($CH22>0,VLOOKUP($CH22,'العاملين '!$A$3:$CR$260,45),0)","v":0},{"$f":"IF($CH22>0,VLOOKUP($CH22,'العاملين '!$A$3:$CR$260,46),0)","v":0},{"$f":"IF($CH22>0,VLOOKUP($CH22,'العاملين '!$A$3:$CR$260,47),0)","v":0},{"$f":"IF($CH22>0,VLOOKUP($CH22,'العاملين '!$A$3:$CR$260,48),0)","v":0},null,{"$f":"IF($CH22>0,VLOOKUP($CH22,'العاملين '!$A$3:$AR$260,41),0)","v":0},2.9999999999972715E-2,630.82999999999993,1343,{"$f":"IF($CH22>0,VLOOKUP($CH22,'العاملين '!$A$3:$AR$260,2),0)","v":"محمد20"},20,null,{"$f":"IF($CH22>0,VLOOKUP($CH22,'العاملين '!$A$3:$CR$260,3),0)","v":1},{"$f":"IF($CH22>0,VLOOKUP($CH22,'العاملين '!$A$3:$CR$260,49),0)","v":0},1343.03]
[17,{"$f":"IF($CH23>0,VLOOKUP($CH23,'العاملين '!$A$3:$AR$260,10),0)","v":652.6},97.89,6.53,13.05,19.579999999999998,789.65,{"$f":"IF($CH23>0,VLOOKUP($CH23,'العاملين '!$A$3:$AR$260,11),0)","v":0},{"$f":"IF($CH23>0,VLOOKUP($CH23,'العاملين '!$A$3:$AR$260,12),0)","v":32.54},{"$f":"IF($CH23>0,VLOOKUP($CH23,'العاملين '!$A$3:$AR$260,13),0)","v":33.04},{"$f":"IF($CH23>0,VLOOKUP($CH23,'العاملين '!$A$3:$AR$260,14),0)","v":35.19},{"$f":"IF($CH23>0,VLOOKUP($CH23,'العاملين '!$A$3:$AR$260,15),0)","v":0},100.77,{"$f":"IF($CH23>0,VLOOKUP($CH23,'العاملين '!$A$3:$AR$260,16),0)","v":4},{"$f":"IF($CH23>0,VLOOKUP($CH23,'العاملين '!$A$3:$AR$260,17),0)","v":4},{"$f":"IF($CH23>0,VLOOKUP($CH23,'العاملين '!$A$3:$AR$260,18),0)","v":0},{"$f":"IF($CH23>0,VLOOKUP($CH23,'العاملين '!$A$3:$AR$260,27),0)","v":0},{"$f":"IF($CH23>0,VLOOKUP($CH23,'العاملين '!$A$3:$AR$260,19),0)","v":0},{"$f":"IF($CH23>0,VLOOKUP($CH23,'العاملين '!$A$3:$AR$260,20),0)","v":0},{"$f":"IF($CH23>0,VLOOKUP($CH23,'العاملين '!$A$3:$AR$260,21),0)","v":0},{"$f":"IF($CH23>0,VLOOKUP($CH23,'العاملين '!$A$3:$AR$260,22),0)","v":0},{"$f":"IF($CH23>0,VLOOKUP($CH23,'العاملين '!$A$3:$AR$260,23),0)","v":0},{"$f":"IF($CH23>0,VLOOKUP($CH23,'العاملين '!$A$3:$AR$260,24),0)","v":0},{"$f":"IF($CH23>0,VLOOKUP($CH23,'العاملين '!$A$3:$AR$260,25),0)","v":0},{"$f":"IF($CH23>0,VLOOKUP($CH23,'العاملين '!$A$3:$AR$260,26),0)","v":0},{"$f":"IF($CH23>0,VLOOKUP($CH23,'العاملين '!$A$3:$CR$260,65),0)","v":175.98},{"$f":"IF($CH23>0,VLOOKUP($CH23,'العاملين '!$A$3:$CR$260,66),0)","v":175.98},{"$f":"IF($CH23>0,VLOOKUP($CH23,'العاملين '!$A$3:$CR$260,67),0)","v":263.97000000000003},{"$f":"IF($CH23>0,VLOOKUP($CH23,'العاملين '!$A$3:$CR$260,68),0)","v":87},{"$f":"IF($CH23>0,VLOOKUP($CH23,'العاملين '!$A$3:$CR$260,69),0)","v":175},{"$f":"IF($CH23>0,VLOOKUP($CH23,'العاملين '!$A$3:$CR$260,70),0)","v":0},{"$f":"IF($CH23>0,VLOOKUP($CH23,'العاملين '!$A$3:$CR$260,71),0)","v":0},{"$f":"IF($CH23>0,VLOOKUP($CH23,'العاملين '!$A$3:$CR$260,72),0)","v":0},null,null,null,null,null,null,{"$f":"IF($CH23>0,VLOOKUP($CH23,'العاملين '!$A$3:$AR$260,25),0)","v":0},986.7,986.7,0,148.01,9.8699999999999992,29.6,187.48,{"$f":"IF($CH23>0,VLOOKUP($CH23,'العاملين '!$A$3:$CR$260,64),0)","v":10},{"$f":"IF($CH23>0,VLOOKUP($CH23,'العاملين '!$A$3:$CR$260,52),0)","v":0},1973.83,97.89,6.53,13.05,null,65.260000000000005,52.21,19.579999999999998,6.53,148.01,9.8699999999999992,98.67,29.6,9.8699999999999992,{"$f":"IF($CJ23=1,ROUND(($B23)*7%,2),IF($CJ23=2,VLOOKUP($CH23,'العاملين '!$A$3:$CT$260,53),0))","v":45.68},{"$f":"IF($CJ23=1,0.5,IF($CJ23=2,VLOOKUP($CH23,'العاملين '!$A$3:$CS$260,54),0))","v":0.5},{"$f":"IF($CJ23=1,4.5,IF($CJ23=2,VLOOKUP($CH23,'العاملين '!$A$3:$CT$260,55),0))","v":4.5},{"$f":"IF($CH23>0,VLOOKUP($CH23,'العاملين '!$A$3:$AR$260,38),0)","v":1},{"$f":"IF($CJ23=1,0.2,IF($CJ23=2,VLOOKUP($CH23,'العاملين '!$A$3:$CT$260,55),0))","v":0.2},{"$f":"IF($CJ23=1,0.05,IF($CJ23=2,VLOOKUP($CH23,'العاملين '!$A$3:$CT$260,55),0))","v":0.05},{"$f":"IF($CH23>0,VLOOKUP($CH23,'العاملين '!$A$3:$AR$260,39),0)","v":10.65},{"$f":"IF($CH23>0,VLOOKUP($CH23,'العاملين '!$A$3:$AR$260,40),0)","v":11.15},{"$f":"IF($CH23>0,VLOOKUP($CH23,'العاملين '!$A$3:$AR$260,41),0)","v":0},{"$f":"IF($CH23>0,VLOOKUP($CH23,'العاملين '!$A$3:$AR$260,42),0)","v":0},{"$f":"IF($CH23>0,VLOOKUP($CH23,'العاملين '!$A$3:$AR$260,43),0)","v":0},{"$f":"IF($CH23>0,VLOOKUP($CH23,'العاملين '!$A$3:$AR$260,44),0)","v":0},{"$f":"IF($CH23>0,VLOOKUP($CH23,'العاملين '!$A$3:$CR$260,45),0)","v":0},{"$f":"IF($CH23>0,VLOOKUP($CH23,'العاملين '!$A$3:$CR$260,46),0)","v":0},{"$f":"IF($CH23>0,VLOOKUP($CH23,'العاملين '!$A$3:$CR$260,47),0)","v":0},{"$f":"IF($CH23>0,VLOOKUP($CH23,'العاملين '!$A$3:$CR$260,48),0)","v":0},null,{"$f":"IF($CH23>0,VLOOKUP($CH23,'العاملين '!$A$3:$AR$260,41),0)","v":0},2.9999999999972715E-2,630.82999999999993,1343,{"$f":"IF($CH23>0,VLOOKUP($CH23,'العاملين '!$A$3:$AR$260,2),0)","v":"محمد20"},20,null,{"$f":"IF($CH23>0,VLOOKUP($CH23,'العاملين '!$A$3:$CR$260,3),0)","v":1},{"$f":"IF($CH23>0,VLOOKUP($CH23,'العاملين '!$A$3:$CR$260,49),0)","v":0},1343.03]
[18,{"$f":"IF($CH24>0,VLOOKUP($CH24,'العاملين '!$A$3:$AR$260,10),0)","v":652.6},97.89,6.53,13.05,19.579999999999998,789.65,{"$f":"IF($CH24>0,VLOOKUP($CH24,'العاملين '!$A$3:$AR$260,11),0)","v":0},{"$f":"IF($CH24>0,VLOOKUP($CH24,'العاملين '!$A$3:$AR$260,12),0)","v":32.54},{"$f":"IF($CH24>0,VLOOKUP($CH24,'العاملين '!$A$3:$AR$260,13),0)","v":33.04},{"$f":"IF($CH24>0,VLOOKUP($CH24,'العاملين '!$A$3:$AR$260,14),0)","v":35.19},{"$f":"IF($CH24>0,VLOOKUP($CH24,'العاملين '!$A$3:$AR$260,15),0)","v":0},100.77,{"$f":"IF($CH24>0,VLOOKUP($CH24,'العاملين '!$A$3:$AR$260,16),0)","v":4},{"$f":"IF($CH24>0,VLOOKUP($CH24,'العاملين '!$A$3:$AR$260,17),0)","v":4},{"$f":"IF($CH24>0,VLOOKUP($CH24,'العاملين '!$A$3:$AR$260,18),0)","v":0},{"$f":"IF($CH24>0,VLOOKUP($CH24,'العاملين '!$A$3:$AR$260,27),0)","v":0},{"$f":"IF($CH24>0,VLOOKUP($CH24,'العاملين '!$A$3:$AR$260,19),0)","v":0},{"$f":"IF($CH24>0,VLOOKUP($CH24,'العاملين '!$A$3:$AR$260,20),0)","v":0},{"$f":"IF($CH24>0,VLOOKUP($CH24,'العاملين '!$A$3:$AR$260,21),0)","v":0},{"$f":"IF($CH24>0,VLOOKUP($CH24,'العاملين '!$A$3:$AR$260,22),0)","v":0},{"$f":"IF($CH24>0,VLOOKUP($CH24,'العاملين '!$A$3:$AR$260,23),0)","v":0},{"$f":"IF($CH24>0,VLOOKUP($CH24,'العاملين '!$A$3:$AR$260,24),0)","v":0},{"$f":"IF($CH24>0,VLOOKUP($CH24,'العاملين '!$A$3:$AR$260,25),0)","v":0},{"$f":"IF($CH24>0,VLOOKUP($CH24,'العاملين '!$A$3:$AR$260,26),0)","v":0},{"$f":"IF($CH24>0,VLOOKUP($CH24,'العاملين '!$A$3:$CR$260,65),0)","v":175.98},{"$f":"IF($CH24>0,VLOOKUP($CH24,'العاملين '!$A$3:$CR$260,66),0)","v":175.98},{"$f":"IF($CH24>0,VLOOKUP($CH24,'العاملين '!$A$3:$CR$260,67),0)","v":263.97000000000003},{"$f":"IF($CH24>0,VLOOKUP($CH24,'العاملين '!$A$3:$CR$260,68),0)","v":87},{"$f":"IF($CH24>0,VLOOKUP($CH24,'العاملين '!$A$3:$CR$260,69),0)","v":175},{"$f":"IF($CH24>0,VLOOKUP($CH24,'العاملين '!$A$3:$CR$260,70),0)","v":0},{"$f":"IF($CH24>0,VLOOKUP($CH24,'العاملين '!$A$3:$CR$260,71),0)","v":0},{"$f":"IF($CH24>0,VLOOKUP($CH24,'العاملين '!$A$3:$CR$260,72),0)","v":0},null,null,null,null,null,null,{"$f":"IF($CH24>0,VLOOKUP($CH24,'العاملين '!$A$3:$AR$260,25),0)","v":0},986.7,986.7,0,148.01,9.8699999999999992,29.6,187.48,{"$f":"IF($CH24>0,VLOOKUP($CH24,'العاملين '!$A$3:$CR$260,64),0)","v":10},{"$f":"IF($CH24>0,VLOOKUP($CH24,'العاملين '!$A$3:$CR$260,52),0)","v":0},1973.83,97.89,6.53,13.05,null,65.260000000000005,52.21,19.579999999999998,6.53,148.01,9.8699999999999992,98.67,29.6,9.8699999999999992,{"$f":"IF($CJ24=1,ROUND(($B24)*7%,2),IF($CJ24=2,VLOOKUP($CH24,'العاملين '!$A$3:$CT$260,53),0))","v":45.68},{"$f":"IF($CJ24=1,0.5,IF($CJ24=2,VLOOKUP($CH24,'العاملين '!$A$3:$CS$260,54),0))","v":0.5},{"$f":"IF($CJ24=1,4.5,IF($CJ24=2,VLOOKUP($CH24,'العاملين '!$A$3:$CT$260,55),0))","v":4.5},{"$f":"IF($CH24>0,VLOOKUP($CH24,'العاملين '!$A$3:$AR$260,38),0)","v":1},{"$f":"IF($CJ24=1,0.2,IF($CJ24=2,VLOOKUP($CH24,'العاملين '!$A$3:$CT$260,55),0))","v":0.2},{"$f":"IF($CJ24=1,0.05,IF($CJ24=2,VLOOKUP($CH24,'العاملين '!$A$3:$CT$260,55),0))","v":0.05},{"$f":"IF($CH24>0,VLOOKUP($CH24,'العاملين '!$A$3:$AR$260,39),0)","v":10.65},{"$f":"IF($CH24>0,VLOOKUP($CH24,'العاملين '!$A$3:$AR$260,40),0)","v":11.15},{"$f":"IF($CH24>0,VLOOKUP($CH24,'العاملين '!$A$3:$AR$260,41),0)","v":0},{"$f":"IF($CH24>0,VLOOKUP($CH24,'العاملين '!$A$3:$AR$260,42),0)","v":0},{"$f":"IF($CH24>0,VLOOKUP($CH24,'العاملين '!$A$3:$AR$260,43),0)","v":0},{"$f":"IF($CH24>0,VLOOKUP($CH24,'العاملين '!$A$3:$AR$260,44),0)","v":0},{"$f":"IF($CH24>0,VLOOKUP($CH24,'العاملين '!$A$3:$CR$260,45),0)","v":0},{"$f":"IF($CH24>0,VLOOKUP($CH24,'العاملين '!$A$3:$CR$260,46),0)","v":0},{"$f":"IF($CH24>0,VLOOKUP($CH24,'العاملين '!$A$3:$CR$260,47),0)","v":0},{"$f":"IF($CH24>0,VLOOKUP($CH24,'العاملين '!$A$3:$CR$260,48),0)","v":0},null,{"$f":"IF($CH24>0,VLOOKUP($CH24,'العاملين '!$A$3:$AR$260,41),0)","v":0},2.9999999999972715E-2,630.82999999999993,1343,{"$f":"IF($CH24>0,VLOOKUP($CH24,'العاملين '!$A$3:$AR$260,2),0)","v":"محمد20"},20,null,{"$f":"IF($CH24>0,VLOOKUP($CH24,'العاملين '!$A$3:$CR$260,3),0)","v":1},{"$f":"IF($CH24>0,VLOOKUP($CH24,'العاملين '!$A$3:$CR$260,49),0)","v":0},1343.03]
[19,{"$f":"IF($CH25>0,VLOOKUP($CH25,'العاملين '!$A$3:$AR$260,10),0)","v":652.6},97.89,6.53,13.05,19.579999999999998,789.65,{"$f":"IF($CH25>0,VLOOKUP($CH25,'العاملين '!$A$3:$AR$260,11),0)","v":0},{"$f":"IF($CH25>0,VLOOKUP($CH25,'العاملين '!$A$3:$AR$260,12),0)","v":32.54},{"$f":"IF($CH25>0,VLOOKUP($CH25,'العاملين '!$A$3:$AR$260,13),0)","v":33.04},{"$f":"IF($CH25>0,VLOOKUP($CH25,'العاملين '!$A$3:$AR$260,14),0)","v":35.19},{"$f":"IF($CH25>0,VLOOKUP($CH25,'العاملين '!$A$3:$AR$260,15),0)","v":0},100.77,{"$f":"IF($CH25>0,VLOOKUP($CH25,'العاملين '!$A$3:$AR$260,16),0)","v":4},{"$f":"IF($CH25>0,VLOOKUP($CH25,'العاملين '!$A$3:$AR$260,17),0)","v":4},{"$f":"IF($CH25>0,VLOOKUP($CH25,'العاملين '!$A$3:$AR$260,18),0)","v":0},{"$f":"IF($CH25>0,VLOOKUP($CH25,'العاملين '!$A$3:$AR$260,27),0)","v":0},{"$f":"IF($CH25>0,VLOOKUP($CH25,'العاملين '!$A$3:$AR$260,19),0)","v":0},{"$f":"IF($CH25>0,VLOOKUP($CH25,'العاملين '!$A$3:$AR$260,20),0)","v":0},{"$f":"IF($CH25>0,VLOOKUP($CH25,'العاملين '!$A$3:$AR$260,21),0)","v":0},{"$f":"IF($CH25>0,VLOOKUP($CH25,'العاملين '!$A$3:$AR$260,22),0)","v":0},{"$f":"IF($CH25>0,VLOOKUP($CH25,'العاملين '!$A$3:$AR$260,23),0)","v":0},{"$f":"IF($CH25>0,VLOOKUP($CH25,'العاملين '!$A$3:$AR$260,24),0)","v":0},{"$f":"IF($CH25>0,VLOOKUP($CH25,'العاملين '!$A$3:$AR$260,25),0)","v":0},{"$f":"IF($CH25>0,VLOOKUP($CH25,'العاملين '!$A$3:$AR$260,26),0)","v":0},{"$f":"IF($CH25>0,VLOOKUP($CH25,'العاملين '!$A$3:$CR$260,65),0)","v":175.98},{"$f":"IF($CH25>0,VLOOKUP($CH25,'العاملين '!$A$3:$CR$260,66),0)","v":175.98},{"$f":"IF($CH25>0,VLOOKUP($CH25,'العاملين '!$A$3:$CR$260,67),0)","v":263.97000000000003},{"$f":"IF($CH25>0,VLOOKUP($CH25,'العاملين '!$A$3:$CR$260,68),0)","v":87},{"$f":"IF($CH25>0,VLOOKUP($CH25,'العاملين '!$A$3:$CR$260,69),0)","v":175},{"$f":"IF($CH25>0,VLOOKUP($CH25,'العاملين '!$A$3:$CR$260,70),0)","v":0},{"$f":"IF($CH25>0,VLOOKUP($CH25,'العاملين '!$A$3:$CR$260,71),0)","v":0},{"$f":"IF($CH25>0,VLOOKUP($CH25,'العاملين '!$A$3:$CR$260,72),0)","v":0},null,null,null,null,null,null,{"$f":"IF($CH25>0,VLOOKUP($CH25,'العاملين '!$A$3:$AR$260,25),0)","v":0},986.7,986.7,0,148.01,9.8699999999999992,29.6,187.48,{"$f":"IF($CH25>0,VLOOKUP($CH25,'العاملين '!$A$3:$CR$260,64),0)","v":10},{"$f":"IF($CH25>0,VLOOKUP($CH25,'العاملين '!$A$3:$CR$260,52),0)","v":0},1973.83,97.89,6.53,13.05,null,65.260000000000005,52.21,19.579999999999998,6.53,148.01,9.8699999999999992,98.67,29.6,9.8699999999999992,{"$f":"IF($CJ25=1,ROUND(($B25)*7%,2),IF($CJ25=2,VLOOKUP($CH25,'العاملين '!$A$3:$CT$260,53),0))","v":45.68},{"$f":"IF($CJ25=1,0.5,IF($CJ25=2,VLOOKUP($CH25,'العاملين '!$A$3:$CS$260,54),0))","v":0.5},{"$f":"IF($CJ25=1,4.5,IF($CJ25=2,VLOOKUP($CH25,'العاملين '!$A$3:$CT$260,55),0))","v":4.5},{"$f":"IF($CH25>0,VLOOKUP($CH25,'العاملين '!$A$3:$AR$260,38),0)","v":1},{"$f":"IF($CJ25=1,0.2,IF($CJ25=2,VLOOKUP($CH25,'العاملين '!$A$3:$CT$260,55),0))","v":0.2},{"$f":"IF($CJ25=1,0.05,IF($CJ25=2,VLOOKUP($CH25,'العاملين '!$A$3:$CT$260,55),0))","v":0.05},{"$f":"IF($CH25>0,VLOOKUP($CH25,'العاملين '!$A$3:$AR$260,39),0)","v":10.65},{"$f":"IF($CH25>0,VLOOKUP($CH25,'العاملين '!$A$3:$AR$260,40),0)","v":11.15},{"$f":"IF($CH25>0,VLOOKUP($CH25,'العاملين '!$A$3:$AR$260,41),0)","v":0},{"$f":"IF($CH25>0,VLOOKUP($CH25,'العاملين '!$A$3:$AR$260,42),0)","v":0},{"$f":"IF($CH25>0,VLOOKUP($CH25,'العاملين '!$A$3:$AR$260,43),0)","v":0},{"$f":"IF($CH25>0,VLOOKUP($CH25,'العاملين '!$A$3:$AR$260,44),0)","v":0},{"$f":"IF($CH25>0,VLOOKUP($CH25,'العاملين '!$A$3:$CR$260,45),0)","v":0},{"$f":"IF($CH25>0,VLOOKUP($CH25,'العاملين '!$A$3:$CR$260,46),0)","v":0},{"$f":"IF($CH25>0,VLOOKUP($CH25,'العاملين '!$A$3:$CR$260,47),0)","v":0},{"$f":"IF($CH25>0,VLOOKUP($CH25,'العاملين '!$A$3:$CR$260,48),0)","v":0},null,{"$f":"IF($CH25>0,VLOOKUP($CH25,'العاملين '!$A$3:$AR$260,41),0)","v":0},2.9999999999972715E-2,630.82999999999993,1343,{"$f":"IF($CH25>0,VLOOKUP($CH25,'العاملين '!$A$3:$AR$260,2),0)","v":"محمد20"},20,null,{"$f":"IF($CH25>0,VLOOKUP($CH25,'العاملين '!$A$3:$CR$260,3),0)","v":1},{"$f":"IF($CH25>0,VLOOKUP($CH25,'العاملين '!$A$3:$CR$260,49),0)","v":0},1343.03]
[20,{"$f":"IF($CH26>0,VLOOKUP($CH26,'العاملين '!$A$3:$AR$260,10),0)","v":652.6},97.89,6.53,13.05,19.579999999999998,789.65,{"$f":"IF($CH26>0,VLOOKUP($CH26,'العاملين '!$A$3:$AR$260,11),0)","v":0},{"$f":"IF($CH26>0,VLOOKUP($CH26,'العاملين '!$A$3:$AR$260,12),0)","v":32.54},{"$f":"IF($CH26>0,VLOOKUP($CH26,'العاملين '!$A$3:$AR$260,13),0)","v":33.04},{"$f":"IF($CH26>0,VLOOKUP($CH26,'العاملين '!$A$3:$AR$260,14),0)","v":35.19},{"$f":"IF($CH26>0,VLOOKUP($CH26,'العاملين '!$A$3:$AR$260,15),0)","v":0},100.77,{"$f":"IF($CH26>0,VLOOKUP($CH26,'العاملين '!$A$3:$AR$260,16),0)","v":4},{"$f":"IF($CH26>0,VLOOKUP($CH26,'العاملين '!$A$3:$AR$260,17),0)","v":4},{"$f":"IF($CH26>0,VLOOKUP($CH26,'العاملين '!$A$3:$AR$260,18),0)","v":0},{"$f":"IF($CH26>0,VLOOKUP($CH26,'العاملين '!$A$3:$AR$260,27),0)","v":0},{"$f":"IF($CH26>0,VLOOKUP($CH26,'العاملين '!$A$3:$AR$260,19),0)","v":0},{"$f":"IF($CH26>0,VLOOKUP($CH26,'العاملين '!$A$3:$AR$260,20),0)","v":0},{"$f":"IF($CH26>0,VLOOKUP($CH26,'العاملين '!$A$3:$AR$260,21),0)","v":0},{"$f":"IF($CH26>0,VLOOKUP($CH26,'العاملين '!$A$3:$AR$260,22),0)","v":0},{"$f":"IF($CH26>0,VLOOKUP($CH26,'العاملين '!$A$3:$AR$260,23),0)","v":0},{"$f":"IF($CH26>0,VLOOKUP($CH26,'العاملين '!$A$3:$AR$260,24),0)","v":0},{"$f":"IF($CH26>0,VLOOKUP($CH26,'العاملين '!$A$3:$AR$260,25),0)","v":0},{"$f":"IF($CH26>0,VLOOKUP($CH26,'العاملين '!$A$3:$AR$260,26),0)","v":0},{"$f":"IF($CH26>0,VLOOKUP($CH26,'العاملين '!$A$3:$CR$260,65),0)","v":175.98},{"$f":"IF($CH26>0,VLOOKUP($CH26,'العاملين '!$A$3:$CR$260,66),0)","v":175.98},{"$f":"IF($CH26>0,VLOOKUP($CH26,'العاملين '!$A$3:$CR$260,67),0)","v":263.97000000000003},{"$f":"IF($CH26>0,VLOOKUP($CH26,'العاملين '!$A$3:$CR$260,68),0)","v":87},{"$f":"IF($CH26>0,VLOOKUP($CH26,'العاملين '!$A$3:$CR$260,69),0)","v":175},{"$f":"IF($CH26>0,VLOOKUP($CH26,'العاملين '!$A$3:$CR$260,70),0)","v":0},{"$f":"IF($CH26>0,VLOOKUP($CH26,'العاملين '!$A$3:$CR$260,71),0)","v":0},{"$f":"IF($CH26>0,VLOOKUP($CH26,'العاملين '!$A$3:$CR$260,72),0)","v":0},null,null,null,null,null,null,{"$f":"IF($CH26>0,VLOOKUP($CH26,'العاملين '!$A$3:$AR$260,25),0)","v":0},986.7,986.7,0,148.01,9.8699999999999992,29.6,187.48,{"$f":"IF($CH26>0,VLOOKUP($CH26,'العاملين '!$A$3:$CR$260,64),0)","v":10},{"$f":"IF($CH26>0,VLOOKUP($CH26,'العاملين '!$A$3:$CR$260,52),0)","v":0},1973.83,97.89,6.53,13.05,null,65.260000000000005,52.21,19.579999999999998,6.53,148.01,9.8699999999999992,98.67,29.6,9.8699999999999992,{"$f":"IF($CJ26=1,ROUND(($B26)*7%,2),IF($CJ26=2,VLOOKUP($CH26,'العاملين '!$A$3:$CT$260,53),0))","v":45.68},{"$f":"IF($CJ26=1,0.5,IF($CJ26=2,VLOOKUP($CH26,'العاملين '!$A$3:$CS$260,54),0))","v":0.5},{"$f":"IF($CJ26=1,4.5,IF($CJ26=2,VLOOKUP($CH26,'العاملين '!$A$3:$CT$260,55),0))","v":4.5},{"$f":"IF($CH26>0,VLOOKUP($CH26,'العاملين '!$A$3:$AR$260,38),0)","v":1},{"$f":"IF($CJ26=1,0.2,IF($CJ26=2,VLOOKUP($CH26,'العاملين '!$A$3:$CT$260,55),0))","v":0.2},{"$f":"IF($CJ26=1,0.05,IF($CJ26=2,VLOOKUP($CH26,'العاملين '!$A$3:$CT$260,55),0))","v":0.05},{"$f":"IF($CH26>0,VLOOKUP($CH26,'العاملين '!$A$3:$AR$260,39),0)","v":10.65},{"$f":"IF($CH26>0,VLOOKUP($CH26,'العاملين '!$A$3:$AR$260,40),0)","v":11.15},{"$f":"IF($CH26>0,VLOOKUP($CH26,'العاملين '!$A$3:$AR$260,41),0)","v":0},{"$f":"IF($CH26>0,VLOOKUP($CH26,'العاملين '!$A$3:$AR$260,42),0)","v":0},{"$f":"IF($CH26>0,VLOOKUP($CH26,'العاملين '!$A$3:$AR$260,43),0)","v":0},{"$f":"IF($CH26>0,VLOOKUP($CH26,'العاملين '!$A$3:$AR$260,44),0)","v":0},{"$f":"IF($CH26>0,VLOOKUP($CH26,'العاملين '!$A$3:$CR$260,45),0)","v":0},{"$f":"IF($CH26>0,VLOOKUP($CH26,'العاملين '!$A$3:$CR$260,46),0)","v":0},{"$f":"IF($CH26>0,VLOOKUP($CH26,'العاملين '!$A$3:$CR$260,47),0)","v":0},{"$f":"IF($CH26>0,VLOOKUP($CH26,'العاملين '!$A$3:$CR$260,48),0)","v":0},null,{"$f":"IF($CH26>0,VLOOKUP($CH26,'العاملين '!$A$3:$AR$260,41),0)","v":0},2.9999999999972715E-2,630.82999999999993,1343,{"$f":"IF($CH26>0,VLOOKUP($CH26,'العاملين '!$A$3:$AR$260,2),0)","v":"محمد20"},20,null,{"$f":"IF($CH26>0,VLOOKUP($CH26,'العاملين '!$A$3:$CR$260,3),0)","v":1},{"$f":"IF($CH26>0,VLOOKUP($CH26,'العاملين '!$A$3:$CR$260,49),0)","v":0},1343.03]
[21,{"$f":"IF($CH27>0,VLOOKUP($CH27,'العاملين '!$A$3:$AR$260,10),0)","v":652.6},97.89,6.53,13.05,19.579999999999998,789.65,{"$f":"IF($CH27>0,VLOOKUP($CH27,'العاملين '!$A$3:$AR$260,11),0)","v":0},{"$f":"IF($CH27>0,VLOOKUP($CH27,'العاملين '!$A$3:$AR$260,12),0)","v":32.54},{"$f":"IF($CH27>0,VLOOKUP($CH27,'العاملين '!$A$3:$AR$260,13),0)","v":33.04},{"$f":"IF($CH27>0,VLOOKUP($CH27,'العاملين '!$A$3:$AR$260,14),0)","v":35.19},{"$f":"IF($CH27>0,VLOOKUP($CH27,'العاملين '!$A$3:$AR$260,15),0)","v":0},100.77,{"$f":"IF($CH27>0,VLOOKUP($CH27,'العاملين '!$A$3:$AR$260,16),0)","v":4},{"$f":"IF($CH27>0,VLOOKUP($CH27,'العاملين '!$A$3:$AR$260,17),0)","v":4},{"$f":"IF($CH27>0,VLOOKUP($CH27,'العاملين '!$A$3:$AR$260,18),0)","v":0},{"$f":"IF($CH27>0,VLOOKUP($CH27,'العاملين '!$A$3:$AR$260,27),0)","v":0},{"$f":"IF($CH27>0,VLOOKUP($CH27,'العاملين '!$A$3:$AR$260,19),0)","v":0},{"$f":"IF($CH27>0,VLOOKUP($CH27,'العاملين '!$A$3:$AR$260,20),0)","v":0},{"$f":"IF($CH27>0,VLOOKUP($CH27,'العاملين '!$A$3:$AR$260,21),0)","v":0},{"$f":"IF($CH27>0,VLOOKUP($CH27,'العاملين '!$A$3:$AR$260,22),0)","v":0},{"$f":"IF($CH27>0,VLOOKUP($CH27,'العاملين '!$A$3:$AR$260,23),0)","v":0},{"$f":"IF($CH27>0,VLOOKUP($CH27,'العاملين '!$A$3:$AR$260,24),0)","v":0},{"$f":"IF($CH27>0,VLOOKUP($CH27,'العاملين '!$A$3:$AR$260,25),0)","v":0},{"$f":"IF($CH27>0,VLOOKUP($CH27,'العاملين '!$A$3:$AR$260,26),0)","v":0},{"$f":"IF($CH27>0,VLOOKUP($CH27,'العاملين '!$A$3:$CR$260,65),0)","v":175.98},{"$f":"IF($CH27>0,VLOOKUP($CH27,'العاملين '!$A$3:$CR$260,66),0)","v":175.98},{"$f":"IF($CH27>0,VLOOKUP($CH27,'العاملين '!$A$3:$CR$260,67),0)","v":263.97000000000003},{"$f":"IF($CH27>0,VLOOKUP($CH27,'العاملين '!$A$3:$CR$260,68),0)","v":87},{"$f":"IF($CH27>0,VLOOKUP($CH27,'العاملين '!$A$3:$CR$260,69),0)","v":175},{"$f":"IF($CH27>0,VLOOKUP($CH27,'العاملين '!$A$3:$CR$260,70),0)","v":0},{"$f":"IF($CH27>0,VLOOKUP($CH27,'العاملين '!$A$3:$CR$260,71),0)","v":0},{"$f":"IF($CH27>0,VLOOKUP($CH27,'العاملين '!$A$3:$CR$260,72),0)","v":0},null,null,null,null,null,null,{"$f":"IF($CH27>0,VLOOKUP($CH27,'العاملين '!$A$3:$AR$260,25),0)","v":0},986.7,986.7,0,148.01,9.8699999999999992,29.6,187.48,{"$f":"IF($CH27>0,VLOOKUP($CH27,'العاملين '!$A$3:$CR$260,64),0)","v":10},{"$f":"IF($CH27>0,VLOOKUP($CH27,'العاملين '!$A$3:$CR$260,52),0)","v":0},1973.83,97.89,6.53,13.05,null,65.260000000000005,52.21,19.579999999999998,6.53,148.01,9.8699999999999992,98.67,29.6,9.8699999999999992,{"$f":"IF($CJ27=1,ROUND(($B27)*7%,2),IF($CJ27=2,VLOOKUP($CH27,'العاملين '!$A$3:$CT$260,53),0))","v":45.68},{"$f":"IF($CJ27=1,0.5,IF($CJ27=2,VLOOKUP($CH27,'العاملين '!$A$3:$CS$260,54),0))","v":0.5},{"$f":"IF($CJ27=1,4.5,IF($CJ27=2,VLOOKUP($CH27,'العاملين '!$A$3:$CT$260,55),0))","v":4.5},{"$f":"IF($CH27>0,VLOOKUP($CH27,'العاملين '!$A$3:$AR$260,38),0)","v":1},{"$f":"IF($CJ27=1,0.2,IF($CJ27=2,VLOOKUP($CH27,'العاملين '!$A$3:$CT$260,55),0))","v":0.2},{"$f":"IF($CJ27=1,0.05,IF($CJ27=2,VLOOKUP($CH27,'العاملين '!$A$3:$CT$260,55),0))","v":0.05},{"$f":"IF($CH27>0,VLOOKUP($CH27,'العاملين '!$A$3:$AR$260,39),0)","v":10.65},{"$f":"IF($CH27>0,VLOOKUP($CH27,'العاملين '!$A$3:$AR$260,40),0)","v":11.15},{"$f":"IF($CH27>0,VLOOKUP($CH27,'العاملين '!$A$3:$AR$260,41),0)","v":0},{"$f":"IF($CH27>0,VLOOKUP($CH27,'العاملين '!$A$3:$AR$260,42),0)","v":0},{"$f":"IF($CH27>0,VLOOKUP($CH27,'العاملين '!$A$3:$AR$260,43),0)","v":0},{"$f":"IF($CH27>0,VLOOKUP($CH27,'العاملين '!$A$3:$AR$260,44),0)","v":0},{"$f":"IF($CH27>0,VLOOKUP($CH27,'العاملين '!$A$3:$CR$260,45),0)","v":0},{"$f":"IF($CH27>0,VLOOKUP($CH27,'العاملين '!$A$3:$CR$260,46),0)","v":0},{"$f":"IF($CH27>0,VLOOKUP($CH27,'العاملين '!$A$3:$CR$260,47),0)","v":0},{"$f":"IF($CH27>0,VLOOKUP($CH27,'العاملين '!$A$3:$CR$260,48),0)","v":0},null,{"$f":"IF($CH27>0,VLOOKUP($CH27,'العاملين '!$A$3:$AR$260,41),0)","v":0},2.9999999999972715E-2,630.82999999999993,1343,{"$f":"IF($CH27>0,VLOOKUP($CH27,'العاملين '!$A$3:$AR$260,2),0)","v":"محمد20"},20,null,{"$f":"IF($CH27>0,VLOOKUP($CH27,'العاملين '!$A$3:$CR$260,3),0)","v":1},{"$f":"IF($CH27>0,VLOOKUP($CH27,'العاملين '!$A$3:$CR$260,49),0)","v":0},1343.03]
[22,{"$f":"IF($CH28>0,VLOOKUP($CH28,'العاملين '!$A$3:$AR$260,10),0)","v":652.6},97.89,6.53,13.05,19.579999999999998,789.65,{"$f":"IF($CH28>0,VLOOKUP($CH28,'العاملين '!$A$3:$AR$260,11),0)","v":0},{"$f":"IF($CH28>0,VLOOKUP($CH28,'العاملين '!$A$3:$AR$260,12),0)","v":32.54},{"$f":"IF($CH28>0,VLOOKUP($CH28,'العاملين '!$A$3:$AR$260,13),0)","v":33.04},{"$f":"IF($CH28>0,VLOOKUP($CH28,'العاملين '!$A$3:$AR$260,14),0)","v":35.19},{"$f":"IF($CH28>0,VLOOKUP($CH28,'العاملين '!$A$3:$AR$260,15),0)","v":0},100.77,{"$f":"IF($CH28>0,VLOOKUP($CH28,'العاملين '!$A$3:$AR$260,16),0)","v":4},{"$f":"IF($CH28>0,VLOOKUP($CH28,'العاملين '!$A$3:$AR$260,17),0)","v":4},{"$f":"IF($CH28>0,VLOOKUP($CH28,'العاملين '!$A$3:$AR$260,18),0)","v":0},{"$f":"IF($CH28>0,VLOOKUP($CH28,'العاملين '!$A$3:$AR$260,27),0)","v":0},{"$f":"IF($CH28>0,VLOOKUP($CH28,'العاملين '!$A$3:$AR$260,19),0)","v":0},{"$f":"IF($CH28>0,VLOOKUP($CH28,'العاملين '!$A$3:$AR$260,20),0)","v":0},{"$f":"IF($CH28>0,VLOOKUP($CH28,'العاملين '!$A$3:$AR$260,21),0)","v":0},{"$f":"IF($CH28>0,VLOOKUP($CH28,'العاملين '!$A$3:$AR$260,22),0)","v":0},{"$f":"IF($CH28>0,VLOOKUP($CH28,'العاملين '!$A$3:$AR$260,23),0)","v":0},{"$f":"IF($CH28>0,VLOOKUP($CH28,'العاملين '!$A$3:$AR$260,24),0)","v":0},{"$f":"IF($CH28>0,VLOOKUP($CH28,'العاملين '!$A$3:$AR$260,25),0)","v":0},{"$f":"IF($CH28>0,VLOOKUP($CH28,'العاملين '!$A$3:$AR$260,26),0)","v":0},{"$f":"IF($CH28>0,VLOOKUP($CH28,'العاملين '!$A$3:$CR$260,65),0)","v":175.98},{"$f":"IF($CH28>0,VLOOKUP($CH28,'العاملين '!$A$3:$CR$260,66),0)","v":175.98},{"$f":"IF($CH28>0,VLOOKUP($CH28,'العاملين '!$A$3:$CR$260,67),0)","v":263.97000000000003},{"$f":"IF($CH28>0,VLOOKUP($CH28,'العاملين '!$A$3:$CR$260,68),0)","v":87},{"$f":"IF($CH28>0,VLOOKUP($CH28,'العاملين '!$A$3:$CR$260,69),0)","v":175},{"$f":"IF($CH28>0,VLOOKUP($CH28,'العاملين '!$A$3:$CR$260,70),0)","v":0},{"$f":"IF($CH28>0,VLOOKUP($CH28,'العاملين '!$A$3:$CR$260,71),0)","v":0},{"$f":"IF($CH28>0,VLOOKUP($CH28,'العاملين '!$A$3:$CR$260,72),0)","v":0},null,null,null,null,null,null,{"$f":"IF($CH28>0,VLOOKUP($CH28,'العاملين '!$A$3:$AR$260,25),0)","v":0},986.7,986.7,0,148.01,9.8699999999999992,29.6,187.48,{"$f":"IF($CH28>0,VLOOKUP($CH28,'العاملين '!$A$3:$CR$260,64),0)","v":10},{"$f":"IF($CH28>0,VLOOKUP($CH28,'العاملين '!$A$3:$CR$260,52),0)","v":0},1973.83,97.89,6.53,13.05,null,65.260000000000005,52.21,19.579999999999998,6.53,148.01,9.8699999999999992,98.67,29.6,9.8699999999999992,{"$f":"IF($CJ28=1,ROUND(($B28)*7%,2),IF($CJ28=2,VLOOKUP($CH28,'العاملين '!$A$3:$CT$260,53),0))","v":45.68},{"$f":"IF($CJ28=1,0.5,IF($CJ28=2,VLOOKUP($CH28,'العاملين '!$A$3:$CS$260,54),0))","v":0.5},{"$f":"IF($CJ28=1,4.5,IF($CJ28=2,VLOOKUP($CH28,'العاملين '!$A$3:$CT$260,55),0))","v":4.5},{"$f":"IF($CH28>0,VLOOKUP($CH28,'العاملين '!$A$3:$AR$260,38),0)","v":1},{"$f":"IF($CJ28=1,0.2,IF($CJ28=2,VLOOKUP($CH28,'العاملين '!$A$3:$CT$260,55),0))","v":0.2},{"$f":"IF($CJ28=1,0.05,IF($CJ28=2,VLOOKUP($CH28,'العاملين '!$A$3:$CT$260,55),0))","v":0.05},{"$f":"IF($CH28>0,VLOOKUP($CH28,'العاملين '!$A$3:$AR$260,39),0)","v":10.65},{"$f":"IF($CH28>0,VLOOKUP($CH28,'العاملين '!$A$3:$AR$260,40),0)","v":11.15},{"$f":"IF($CH28>0,VLOOKUP($CH28,'العاملين '!$A$3:$AR$260,41),0)","v":0},{"$f":"IF($CH28>0,VLOOKUP($CH28,'العاملين '!$A$3:$AR$260,42),0)","v":0},{"$f":"IF($CH28>0,VLOOKUP($CH28,'العاملين '!$A$3:$AR$260,43),0)","v":0},{"$f":"IF($CH28>0,VLOOKUP($CH28,'العاملين '!$A$3:$AR$260,44),0)","v":0},{"$f":"IF($CH28>0,VLOOKUP($CH28,'العاملين '!$A$3:$CR$260,45),0)","v":0},{"$f":"IF($CH28>0,VLOOKUP($CH28,'العاملين '!$A$3:$CR$260,46),0)","v":0},{"$f":"IF($CH28>0,VLOOKUP($CH28,'العاملين '!$A$3:$CR$260,47),0)","v":0},{"$f":"IF($CH28>0,VLOOKUP($CH28,'العاملين '!$A$3:$CR$260,48),0)","v":0},null,{"$f":"IF($CH28>0,VLOOKUP($CH28,'العاملين '!$A$3:$AR$260,41),0)","v":0},2.9999999999972715E-2,630.82999999999993,1343,{"$f":"IF($CH28>0,VLOOKUP($CH28,'العاملين '!$A$3:$AR$260,2),0)","v":"محمد20"},20,null,{"$f":"IF($CH28>0,VLOOKUP($CH28,'العاملين '!$A$3:$CR$260,3),0)","v":1},{"$f":"IF($CH28>0,VLOOKUP($CH28,'العاملين '!$A$3:$CR$260,49),0)","v":0},1343.03]
[23,{"$f":"IF($CH29>0,VLOOKUP($CH29,'العاملين '!$A$3:$AR$260,10),0)","v":652.6},97.89,6.53,13.05,19.579999999999998,789.65,{"$f":"IF($CH29>0,VLOOKUP($CH29,'العاملين '!$A$3:$AR$260,11),0)","v":0},{"$f":"IF($CH29>0,VLOOKUP($CH29,'العاملين '!$A$3:$AR$260,12),0)","v":32.54},{"$f":"IF($CH29>0,VLOOKUP($CH29,'العاملين '!$A$3:$AR$260,13),0)","v":33.04},{"$f":"IF($CH29>0,VLOOKUP($CH29,'العاملين '!$A$3:$AR$260,14),0)","v":35.19},{"$f":"IF($CH29>0,VLOOKUP($CH29,'العاملين '!$A$3:$AR$260,15),0)","v":0},100.77,{"$f":"IF($CH29>0,VLOOKUP($CH29,'العاملين '!$A$3:$AR$260,16),0)","v":4},{"$f":"IF($CH29>0,VLOOKUP($CH29,'العاملين '!$A$3:$AR$260,17),0)","v":4},{"$f":"IF($CH29>0,VLOOKUP($CH29,'العاملين '!$A$3:$AR$260,18),0)","v":0},{"$f":"IF($CH29>0,VLOOKUP($CH29,'العاملين '!$A$3:$AR$260,27),0)","v":0},{"$f":"IF($CH29>0,VLOOKUP($CH29,'العاملين '!$A$3:$AR$260,19),0)","v":0},{"$f":"IF($CH29>0,VLOOKUP($CH29,'العاملين '!$A$3:$AR$260,20),0)","v":0},{"$f":"IF($CH29>0,VLOOKUP($CH29,'العاملين '!$A$3:$AR$260,21),0)","v":0},{"$f":"IF($CH29>0,VLOOKUP($CH29,'العاملين '!$A$3:$AR$260,22),0)","v":0},{"$f":"IF($CH29>0,VLOOKUP($CH29,'العاملين '!$A$3:$AR$260,23),0)","v":0},{"$f":"IF($CH29>0,VLOOKUP($CH29,'العاملين '!$A$3:$AR$260,24),0)","v":0},{"$f":"IF($CH29>0,VLOOKUP($CH29,'العاملين '!$A$3:$AR$260,25),0)","v":0},{"$f":"IF($CH29>0,VLOOKUP($CH29,'العاملين '!$A$3:$AR$260,26),0)","v":0},{"$f":"IF($CH29>0,VLOOKUP($CH29,'العاملين '!$A$3:$CR$260,65),0)","v":175.98},{"$f":"IF($CH29>0,VLOOKUP($CH29,'العاملين '!$A$3:$CR$260,66),0)","v":175.98},{"$f":"IF($CH29>0,VLOOKUP($CH29,'العاملين '!$A$3:$CR$260,67),0)","v":263.97000000000003},{"$f":"IF($CH29>0,VLOOKUP($CH29,'العاملين '!$A$3:$CR$260,68),0)","v":87},{"$f":"IF($CH29>0,VLOOKUP($CH29,'العاملين '!$A$3:$CR$260,69),0)","v":175},{"$f":"IF($CH29>0,VLOOKUP($CH29,'العاملين '!$A$3:$CR$260,70),0)","v":0},{"$f":"IF($CH29>0,VLOOKUP($CH29,'العاملين '!$A$3:$CR$260,71),0)","v":0},{"$f":"IF($CH29>0,VLOOKUP($CH29,'العاملين '!$A$3:$CR$260,72),0)","v":0},null,null,null,null,null,null,{"$f":"IF($CH29>0,VLOOKUP($CH29,'العاملين '!$A$3:$AR$260,25),0)","v":0},986.7,986.7,0,148.01,9.8699999999999992,29.6,187.48,{"$f":"IF($CH29>0,VLOOKUP($CH29,'العاملين '!$A$3:$CR$260,64),0)","v":10},{"$f":"IF($CH29>0,VLOOKUP($CH29,'العاملين '!$A$3:$CR$260,52),0)","v":0},1973.83,97.89,6.53,13.05,null,65.260000000000005,52.21,19.579999999999998,6.53,148.01,9.8699999999999992,98.67,29.6,9.8699999999999992,{"$f":"IF($CJ29=1,ROUND(($B29)*7%,2),IF($CJ29=2,VLOOKUP($CH29,'العاملين '!$A$3:$CT$260,53),0))","v":45.68},{"$f":"IF($CJ29=1,0.5,IF($CJ29=2,VLOOKUP($CH29,'العاملين '!$A$3:$CS$260,54),0))","v":0.5},{"$f":"IF($CJ29=1,4.5,IF($CJ29=2,VLOOKUP($CH29,'العاملين '!$A$3:$CT$260,55),0))","v":4.5},{"$f":"IF($CH29>0,VLOOKUP($CH29,'العاملين '!$A$3:$AR$260,38),0)","v":1},{"$f":"IF($CJ29=1,0.2,IF($CJ29=2,VLOOKUP($CH29,'العاملين '!$A$3:$CT$260,55),0))","v":0.2},{"$f":"IF($CJ29=1,0.05,IF($CJ29=2,VLOOKUP($CH29,'العاملين '!$A$3:$CT$260,55),0))","v":0.05},{"$f":"IF($CH29>0,VLOOKUP($CH29,'العاملين '!$A$3:$AR$260,39),0)","v":10.65},{"$f":"IF($CH29>0,VLOOKUP($CH29,'العاملين '!$A$3:$AR$260,40),0)","v":11.15},{"$f":"IF($CH29>0,VLOOKUP($CH29,'العاملين '!$A$3:$AR$260,41),0)","v":0},{"$f":"IF($CH29>0,VLOOKUP($CH29,'العاملين '!$A$3:$AR$260,42),0)","v":0},{"$f":"IF($CH29>0,VLOOKUP($CH29,'العاملين '!$A$3:$AR$260,43),0)","v":0},{"$f":"IF($CH29>0,VLOOKUP($CH29,'العاملين '!$A$3:$AR$260,44),0)","v":0},{"$f":"IF($CH29>0,VLOOKUP($CH29,'العاملين '!$A$3:$CR$260,45),0)","v":0},{"$f":"IF($CH29>0,VLOOKUP($CH29,'العاملين '!$A$3:$CR$260,46),0)","v":0},{"$f":"IF($CH29>0,VLOOKUP($CH29,'العاملين '!$A$3:$CR$260,47),0)","v":0},{"$f":"IF($CH29>0,VLOOKUP($CH29,'العاملين '!$A$3:$CR$260,48),0)","v":0},null,{"$f":"IF($CH29>0,VLOOKUP($CH29,'العاملين '!$A$3:$AR$260,41),0)","v":0},2.9999999999972715E-2,630.82999999999993,1343,{"$f":"IF($CH29>0,VLOOKUP($CH29,'العاملين '!$A$3:$AR$260,2),0)","v":"محمد20"},20,null,{"$f":"IF($CH29>0,VLOOKUP($CH29,'العاملين '!$A$3:$CR$260,3),0)","v":1},{"$f":"IF($CH29>0,VLOOKUP($CH29,'العاملين '!$A$3:$CR$260,49),0)","v":0},1343.03]
[24,{"$f":"IF($CH30>0,VLOOKUP($CH30,'العاملين '!$A$3:$AR$260,10),0)","v":652.6},97.89,6.53,13.05,19.579999999999998,789.65,{"$f":"IF($CH30>0,VLOOKUP($CH30,'العاملين '!$A$3:$AR$260,11),0)","v":0},{"$f":"IF($CH30>0,VLOOKUP($CH30,'العاملين '!$A$3:$AR$260,12),0)","v":32.54},{"$f":"IF($CH30>0,VLOOKUP($CH30,'العاملين '!$A$3:$AR$260,13),0)","v":33.04},{"$f":"IF($CH30>0,VLOOKUP($CH30,'العاملين '!$A$3:$AR$260,14),0)","v":35.19},{"$f":"IF($CH30>0,VLOOKUP($CH30,'العاملين '!$A$3:$AR$260,15),0)","v":0},100.77,{"$f":"IF($CH30>0,VLOOKUP($CH30,'العاملين '!$A$3:$AR$260,16),0)","v":4},{"$f":"IF($CH30>0,VLOOKUP($CH30,'العاملين '!$A$3:$AR$260,17),0)","v":4},{"$f":"IF($CH30>0,VLOOKUP($CH30,'العاملين '!$A$3:$AR$260,18),0)","v":0},{"$f":"IF($CH30>0,VLOOKUP($CH30,'العاملين '!$A$3:$AR$260,27),0)","v":0},{"$f":"IF($CH30>0,VLOOKUP($CH30,'العاملين '!$A$3:$AR$260,19),0)","v":0},{"$f":"IF($CH30>0,VLOOKUP($CH30,'العاملين '!$A$3:$AR$260,20),0)","v":0},{"$f":"IF($CH30>0,VLOOKUP($CH30,'العاملين '!$A$3:$AR$260,21),0)","v":0},{"$f":"IF($CH30>0,VLOOKUP($CH30,'العاملين '!$A$3:$AR$260,22),0)","v":0},{"$f":"IF($CH30>0,VLOOKUP($CH30,'العاملين '!$A$3:$AR$260,23),0)","v":0},{"$f":"IF($CH30>0,VLOOKUP($CH30,'العاملين '!$A$3:$AR$260,24),0)","v":0},{"$f":"IF($CH30>0,VLOOKUP($CH30,'العاملين '!$A$3:$AR$260,25),0)","v":0},{"$f":"IF($CH30>0,VLOOKUP($CH30,'العاملين '!$A$3:$AR$260,26),0)","v":0},{"$f":"IF($CH30>0,VLOOKUP($CH30,'العاملين '!$A$3:$CR$260,65),0)","v":175.98},{"$f":"IF($CH30>0,VLOOKUP($CH30,'العاملين '!$A$3:$CR$260,66),0)","v":175.98},{"$f":"IF($CH30>0,VLOOKUP($CH30,'العاملين '!$A$3:$CR$260,67),0)","v":263.97000000000003},{"$f":"IF($CH30>0,VLOOKUP($CH30,'العاملين '!$A$3:$CR$260,68),0)","v":87},{"$f":"IF($CH30>0,VLOOKUP($CH30,'العاملين '!$A$3:$CR$260,69),0)","v":175},{"$f":"IF($CH30>0,VLOOKUP($CH30,'العاملين '!$A$3:$CR$260,70),0)","v":0},{"$f":"IF($CH30>0,VLOOKUP($CH30,'العاملين '!$A$3:$CR$260,71),0)","v":0},{"$f":"IF($CH30>0,VLOOKUP($CH30,'العاملين '!$A$3:$CR$260,72),0)","v":0},null,null,null,null,null,null,{"$f":"IF($CH30>0,VLOOKUP($CH30,'العاملين '!$A$3:$AR$260,25),0)","v":0},986.7,986.7,0,148.01,9.8699999999999992,29.6,187.48,{"$f":"IF($CH30>0,VLOOKUP($CH30,'العاملين '!$A$3:$CR$260,64),0)","v":10},{"$f":"IF($CH30>0,VLOOKUP($CH30,'العاملين '!$A$3:$CR$260,52),0)","v":0},1973.83,97.89,6.53,13.05,null,65.260000000000005,52.21,19.579999999999998,6.53,148.01,9.8699999999999992,98.67,29.6,9.8699999999999992,{"$f":"IF($CJ30=1,ROUND(($B30)*7%,2),IF($CJ30=2,VLOOKUP($CH30,'العاملين '!$A$3:$CT$260,53),0))","v":45.68},{"$f":"IF($CJ30=1,0.5,IF($CJ30=2,VLOOKUP($CH30,'العاملين '!$A$3:$CS$260,54),0))","v":0.5},{"$f":"IF($CJ30=1,4.5,IF($CJ30=2,VLOOKUP($CH30,'العاملين '!$A$3:$CT$260,55),0))","v":4.5},{"$f":"IF($CH30>0,VLOOKUP($CH30,'العاملين '!$A$3:$AR$260,38),0)","v":1},{"$f":"IF($CJ30=1,0.2,IF($CJ30=2,VLOOKUP($CH30,'العاملين '!$A$3:$CT$260,55),0))","v":0.2},{"$f":"IF($CJ30=1,0.05,IF($CJ30=2,VLOOKUP($CH30,'العاملين '!$A$3:$CT$260,55),0))","v":0.05},{"$f":"IF($CH30>0,VLOOKUP($CH30,'العاملين '!$A$3:$AR$260,39),0)","v":10.65},{"$f":"IF($CH30>0,VLOOKUP($CH30,'العاملين '!$A$3:$AR$260,40),0)","v":11.15},{"$f":"IF($CH30>0,VLOOKUP($CH30,'العاملين '!$A$3:$AR$260,41),0)","v":0},{"$f":"IF($CH30>0,VLOOKUP($CH30,'العاملين '!$A$3:$AR$260,42),0)","v":0},{"$f":"IF($CH30>0,VLOOKUP($CH30,'العاملين '!$A$3:$AR$260,43),0)","v":0},{"$f":"IF($CH30>0,VLOOKUP($CH30,'العاملين '!$A$3:$AR$260,44),0)","v":0},{"$f":"IF($CH30>0,VLOOKUP($CH30,'العاملين '!$A$3:$CR$260,45),0)","v":0},{"$f":"IF($CH30>0,VLOOKUP($CH30,'العاملين '!$A$3:$CR$260,46),0)","v":0},{"$f":"IF($CH30>0,VLOOKUP($CH30,'العاملين '!$A$3:$CR$260,47),0)","v":0},{"$f":"IF($CH30>0,VLOOKUP($CH30,'العاملين '!$A$3:$CR$260,48),0)","v":0},null,{"$f":"IF($CH30>0,VLOOKUP($CH30,'العاملين '!$A$3:$AR$260,41),0)","v":0},2.9999999999972715E-2,630.82999999999993,1343,{"$f":"IF($CH30>0,VLOOKUP($CH30,'العاملين '!$A$3:$AR$260,2),0)","v":"محمد20"},20,null,{"$f":"IF($CH30>0,VLOOKUP($CH30,'العاملين '!$A$3:$CR$260,3),0)","v":1},{"$f":"IF($CH30>0,VLOOKUP($CH30,'العاملين '!$A$3:$CR$260,49),0)","v":0},1343.03]
[25,{"$f":"IF($CH31>0,VLOOKUP($CH31,'العاملين '!$A$3:$AR$260,10),0)","v":652.6},97.89,6.53,13.05,19.579999999999998,789.65,{"$f":"IF($CH31>0,VLOOKUP($CH31,'العاملين '!$A$3:$AR$260,11),0)","v":0},{"$f":"IF($CH31>0,VLOOKUP($CH31,'العاملين '!$A$3:$AR$260,12),0)","v":32.54},{"$f":"IF($CH31>0,VLOOKUP($CH31,'العاملين '!$A$3:$AR$260,13),0)","v":33.04},{"$f":"IF($CH31>0,VLOOKUP($CH31,'العاملين '!$A$3:$AR$260,14),0)","v":35.19},{"$f":"IF($CH31>0,VLOOKUP($CH31,'العاملين '!$A$3:$AR$260,15),0)","v":0},100.77,{"$f":"IF($CH31>0,VLOOKUP($CH31,'العاملين '!$A$3:$AR$260,16),0)","v":4},{"$f":"IF($CH31>0,VLOOKUP($CH31,'العاملين '!$A$3:$AR$260,17),0)","v":4},{"$f":"IF($CH31>0,VLOOKUP($CH31,'العاملين '!$A$3:$AR$260,18),0)","v":0},{"$f":"IF($CH31>0,VLOOKUP($CH31,'العاملين '!$A$3:$AR$260,27),0)","v":0},{"$f":"IF($CH31>0,VLOOKUP($CH31,'العاملين '!$A$3:$AR$260,19),0)","v":0},{"$f":"IF($CH31>0,VLOOKUP($CH31,'العاملين '!$A$3:$AR$260,20),0)","v":0},{"$f":"IF($CH31>0,VLOOKUP($CH31,'العاملين '!$A$3:$AR$260,21),0)","v":0},{"$f":"IF($CH31>0,VLOOKUP($CH31,'العاملين '!$A$3:$AR$260,22),0)","v":0},{"$f":"IF($CH31>0,VLOOKUP($CH31,'العاملين '!$A$3:$AR$260,23),0)","v":0},{"$f":"IF($CH31>0,VLOOKUP($CH31,'العاملين '!$A$3:$AR$260,24),0)","v":0},{"$f":"IF($CH31>0,VLOOKUP($CH31,'العاملين '!$A$3:$AR$260,25),0)","v":0},{"$f":"IF($CH31>0,VLOOKUP($CH31,'العاملين '!$A$3:$AR$260,26),0)","v":0},{"$f":"IF($CH31>0,VLOOKUP($CH31,'العاملين '!$A$3:$CR$260,65),0)","v":175.98},{"$f":"IF($CH31>0,VLOOKUP($CH31,'العاملين '!$A$3:$CR$260,66),0)","v":175.98},{"$f":"IF($CH31>0,VLOOKUP($CH31,'العاملين '!$A$3:$CR$260,67),0)","v":263.97000000000003},{"$f":"IF($CH31>0,VLOOKUP($CH31,'العاملين '!$A$3:$CR$260,68),0)","v":87},{"$f":"IF($CH31>0,VLOOKUP($CH31,'العاملين '!$A$3:$CR$260,69),0)","v":175},{"$f":"IF($CH31>0,VLOOKUP($CH31,'العاملين '!$A$3:$CR$260,70),0)","v":0},{"$f":"IF($CH31>0,VLOOKUP($CH31,'العاملين '!$A$3:$CR$260,71),0)","v":0},{"$f":"IF($CH31>0,VLOOKUP($CH31,'العاملين '!$A$3:$CR$260,72),0)","v":0},null,null,null,null,null,null,{"$f":"IF($CH31>0,VLOOKUP($CH31,'العاملين '!$A$3:$AR$260,25),0)","v":0},986.7,986.7,0,148.01,9.8699999999999992,29.6,187.48,{"$f":"IF($CH31>0,VLOOKUP($CH31,'العاملين '!$A$3:$CR$260,64),0)","v":10},{"$f":"IF($CH31>0,VLOOKUP($CH31,'العاملين '!$A$3:$CR$260,52),0)","v":0},1973.83,97.89,6.53,13.05,null,65.260000000000005,52.21,19.579999999999998,6.53,148.01,9.8699999999999992,98.67,29.6,9.8699999999999992,{"$f":"IF($CJ31=1,ROUND(($B31)*7%,2),IF($CJ31=2,VLOOKUP($CH31,'العاملين '!$A$3:$CT$260,53),0))","v":45.68},{"$f":"IF($CJ31=1,0.5,IF($CJ31=2,VLOOKUP($CH31,'العاملين '!$A$3:$CS$260,54),0))","v":0.5},{"$f":"IF($CJ31=1,4.5,IF($CJ31=2,VLOOKUP($CH31,'العاملين '!$A$3:$CT$260,55),0))","v":4.5},{"$f":"IF($CH31>0,VLOOKUP($CH31,'العاملين '!$A$3:$AR$260,38),0)","v":1},{"$f":"IF($CJ31=1,0.2,IF($CJ31=2,VLOOKUP($CH31,'العاملين '!$A$3:$CT$260,55),0))","v":0.2},{"$f":"IF($CJ31=1,0.05,IF($CJ31=2,VLOOKUP($CH31,'العاملين '!$A$3:$CT$260,55),0))","v":0.05},{"$f":"IF($CH31>0,VLOOKUP($CH31,'العاملين '!$A$3:$AR$260,39),0)","v":10.65},{"$f":"IF($CH31>0,VLOOKUP($CH31,'العاملين '!$A$3:$AR$260,40),0)","v":11.15},{"$f":"IF($CH31>0,VLOOKUP($CH31,'العاملين '!$A$3:$AR$260,41),0)","v":0},{"$f":"IF($CH31>0,VLOOKUP($CH31,'العاملين '!$A$3:$AR$260,42),0)","v":0},{"$f":"IF($CH31>0,VLOOKUP($CH31,'العاملين '!$A$3:$AR$260,43),0)","v":0},{"$f":"IF($CH31>0,VLOOKUP($CH31,'العاملين '!$A$3:$AR$260,44),0)","v":0},{"$f":"IF($CH31>0,VLOOKUP($CH31,'العاملين '!$A$3:$CR$260,45),0)","v":0},{"$f":"IF($CH31>0,VLOOKUP($CH31,'العاملين '!$A$3:$CR$260,46),0)","v":0},{"$f":"IF($CH31>0,VLOOKUP($CH31,'العاملين '!$A$3:$CR$260,47),0)","v":0},{"$f":"IF($CH31>0,VLOOKUP($CH31,'العاملين '!$A$3:$CR$260,48),0)","v":0},null,{"$f":"IF($CH31>0,VLOOKUP($CH31,'العاملين '!$A$3:$AR$260,41),0)","v":0},2.9999999999972715E-2,630.82999999999993,1343,{"$f":"IF($CH31>0,VLOOKUP($CH31,'العاملين '!$A$3:$AR$260,2),0)","v":"محمد20"},20,null,{"$f":"IF($CH31>0,VLOOKUP($CH31,'العاملين '!$A$3:$CR$260,3),0)","v":1},{"$f":"IF($CH31>0,VLOOKUP($CH31,'العاملين '!$A$3:$CR$260,49),0)","v":0},1343.03]
[null,{"$f":"SUM(B7:B31)","v":16315.000000000005},{"$f":"SUM(C7:C31)","v":2447.2500000000005},163.25,326.25000000000017,489.49999999999972,19741.25,0,813.49999999999977,825.99999999999977,879.75000000000045,0,2519.25,100,100,0,0,0,0,0,0,0,0,0,0,4399.4999999999991,4399.4999999999991,6599.2500000000045,2175,4375,0,0,0,0,0,0,0,0,0,0,24667.500000000011,24667.500000000011,0,3700.2500000000018,246.75000000000006,740.00000000000034,4686.9999999999982,250,0,49345.750000000029,2447.2500000000005,163.25,326.25000000000017,0,1631.5,1305.2500000000005,489.49999999999972,163.25,3700.2500000000018,246.75000000000006,2466.7500000000009,740.00000000000034,246.75000000000006,1141.9999999999995,12.5,112.5,{"$f":"SUM(BO7:BO31)","v":25},5.0000000000000018,1.2500000000000004,266.25000000000006,278.75000000000006,0,0,0,0,0,0,0,0,0,0,0.74999999999931788,15770.749999999998,33575,null,null,null,null,null,{"$f":"AX32-SUM(AY32:CC32)","v":33575.750000000029}]
[null,null,null,null,null,null,null,null,null,null,null,null,null,null,null,null,null,null,null,null,null,null,null,null,null,null,null,null,null,null,null,null,null,null,null,null,null,null,null,null,null,null,null,null,null,null,null,null,null,null,null,null,null,null,null,null,null,null,null,null,null,null,null,null,null,null,null,null,null,null,null,null,null,null,null,null,null,null,null,null,null,null,null,null,"مع تحيات  أ / محمد عبد الصمد ـــ وأ / محمد زكي مرسي المزين",null,null,null,null,{"$f":"AX33-SUM(AY33:CC33)","v":0}]
["كشــــــــــــــــــــــــــــــف المرتبات عن شــــــــــــــــــــــــــــــــهر /",null,null,null,null,null,null,null,null,null,null,null,null,null,null,null,null,null,null,null,null,null,null,null,null,null,null,null,null,null,null,null,null,null,null,null,null,null,null,null,null,null,null,null,null,null,null,null,null,null,{"$f":"ورقة1!C3","v":"مارس 2018"},null,null,null,null,null," ","ســــــــــــــــــــــــــــــــنة /",null,null,null,null,null,{"$f":"IF($CG47>0,ورقة1!$C$5,0)","v":0},null,null,null,null,null,"م"]
[{"$f":"ورقة1!C1","v":"الشهداء التعليمية"},null,null,null,null,null,null,null,null,null,null,null,null,null,null,null,null,null,null,null,null,null,null,null,null,null,null,null,null,null,null,null,null,null,null,null,null,null,null,null,null,null,null,null,null,null,null,null,null,null,"مدرسة /  ",null,null,null,null,{"$f":"IF($CG47>0,ورقة1!$C$2,\" \")","v":" "},null,null,null,null,null,null,null,null,null,null,null,null,null,null,null,null,null,null,null,null,null,null,null,null,null,null,null,null,null,{"$f":"FLOOR(CM47,0.05)","v":0}]
["م ","الاســــــــــــــــــــــــــتحـــــــــــــــــــــــــــــــــقــــــــــــــــــــــــــــــــــــــــــــــــــــــــــــــــــــــــــاقـــــــــــــــــــــــــــــــــــات ",null,null,null,null,null,null,null,null,null,null,null,null,null,null,null,null,null,null,null,null,null,null,null,null,null,null,null,null,null,null,null,null,null,null,null,null,null,null,null,null,null,null,null,null,null,null,null,"جملة الاستــــحقــاقات ","الأســـــــــــــــــــــــــــــــــــــتـــــــقـــــــــــــــــطاعـــــــــــــــــات ",null,null,null,null,null,null,null,null,null,null,null,null,null,null,null,null,null,null,null,null,null,null,null,null,null,null,null,null,null,null,null,"جملة الأستقطاعات ","الصافي المستحق ","الاســـــــــــــــــــم ","التوقيع بالاســــــــــــتلام ","صافي الشهر السابق ",null,"اسم البنك"]
[null,"الاجور الاســــــــــــــــــــــــــاسية ",null,null,null,null,"الجملة ","الاجور المتغيرة الخاضعة بكامل قيمتها للتأمينات والمعاشات ",null,null,null,null,"الجملة ","الاجور المتغيرة الاخري بنسبة        %",null,null,null,null,null,null,null,null,null,null,null,null,null,null,null,null,null,null,null,null,null,null,null,null,null,null,"الجملة ",{"$f":"'العاملين '!BA37","v":0},"غير خاضع","حصص الاجور المتغيرة ",null,null,"الجملة ","منحة ",{"$f":"'العاملين '!$AA$1","v":0},null,"لحســــــــــــــــــــاب الهيئة القوميـــــــــــــــــــــة للتـــــــــــــــــأمين الإجتـــــــــــــــــــــــــماعي ",null,null,null,null,null,null,null,null,null,null,null,null,null,null,null,null,null,null,"لحساب جاري دائنة مصلحة الضرائب ",null,null,"لحساب دائنين مختلفين "]
[null,null,null,null,null,null,null,null,null,null,null,null,null,null,null,null,null,null,null,null,null,null,null,null,null,null,null,null,null,null,null,null,null,null,null,null,null,null,null,null,null,"خاضع",null,null,null,null,null,null,null,null,"استقطاعات الأجور الاســــــــــــــــــاسية ",null,null,null,null,null,null,null,"استقطاعات الأجور المتغيرة ",null,null,null,null,"الأقساط الخاصة عن الأجور الأساسية ",null,null,null,null,null,"ضريبة دخل  ","دمغة عادية   "]
[null,"المرتب "," حصة الحكومة  15%","إصابة عمل  1%","أ 2 %","أ 3 %",null,"علاوة 2012","علاوة 2013","علاوة 2014","علاوة 2015","علاوة 2016",null,{"$f":"'العاملين '!$N$1","v":0},{"$f":"'العاملين '!$O$1","v":0},{"$f":"'العاملين '!$P$1","v":0},{"$f":"'العاملين '!$Q$1","v":0},{"$f":"'العاملين '!$R$1","v":0},{"$f":"'العاملين '!#REF!","v":{"$error":"#REF!"}},{"$f":"'العاملين '!$S$1","v":0},{"$f":"'العاملين '!$T$1","v":0},{"$f":"'العاملين '!$U$1","v":0},{"$f":"'العاملين '!$V$1","v":0},{"$f":"'العاملين '!$W$1","v":0},"الحد الادنى",null,null,null,null,null,null,null,null,null,null,null,null,null,null,{"$f":"'العاملين '!$X$1","v":0},null,null,null,"ألـ 15 %","ألـ 1 %","ألـ 3%",null,null,null,null," حصة الحكومة  15%","إصابة عمل  1%","الـ 2%",null," حصة الموظف  10%",0.08,"ألـ 3%","ألـ 1 %"," حصة الحكومة  15%","إصابة عمل  1%"," حصة الموظف  10%",0.03,0.01,"زمالة   7 %","زمالة  جماعى","نقابه","رابطة ","نادى محافظة","نادي الادارة",null,null,null,{"$f":"'العاملين '!$AF$1","v":0},{"$f":"'العاملين '!$AG$1","v":0},{"$f":"'العاملين '!$AH$1","v":0},{"$f":"'العاملين '!$AI$1","v":0},{"$f":"'العاملين '!$AJ$1","v":0},{"$f":"'العاملين '!$AK$1","v":0},{"$f":"'العاملين '!$AL$1","v":0},{"$f":"'العاملين '!$AM$1","v":0},{"$f":"'العاملين '!$AN$1","v":0},"كسر قرش"]
[1,{"$f":"IF($CH40>0,VLOOKUP($CH40,'العاملين '!$A$3:$AR$260,8),0)","v":"معلم"},{"$f":"IF($B40>0,ROUND(($B40)*15%,2),\" \")","v":{"$error":"#VALUE!"}},{"$f":"IF($B40>0,ROUND(($B40)*1%,2),\" \")","v":{"$error":"#VALUE!"}},{"$f":"IF($B40>0,ROUND(($B40)*2%,2),\" \")","v":{"$error":"#VALUE!"}},{"$f":"IF($B40>0,ROUND(($B40)*3%,2),\" \")","v":{"$error":"#VALUE!"}},{"$f":"IF($B40>0,SUM(B40:F40),\" \")","v":{"$error":"#VALUE!"}},{"$f":"IF($CH40>0,VLOOKUP($CH40,'العاملين '!$A$3:$AR$260,9),0)","v":566.52},{"$f":"IF($CH40>0,VLOOKUP($CH40,'العاملين '!$A$3:$AR$260,10),0)","v":938.62},{"$f":"IF($CH40>0,VLOOKUP($CH40,'العاملين '!$A$3:$AR$260,11),0)","v":0},{"$f":"IF($CH40>0,VLOOKUP($CH40,'العاملين '!$A$3:$AR$260,12),0)","v":52.79},{"$f":"IF($CH40>0,VLOOKUP($CH40,'العاملين '!$A$3:$AR$260,13),0)","v":53.29},{"$f":"IF($B40>0,SUM(H40:L40),0)","v":1611.2199999999998},{"$f":"IF($CH40>0,VLOOKUP($CH40,'العاملين '!$A$3:$AR$260,14),0)","v":56.69},{"$f":"IF($CH40>0,VLOOKUP($CH40,'العاملين '!$A$3:$AR$260,15),0)","v":0},{"$f":"IF($CH40>0,VLOOKUP($CH40,'العاملين '!$A$3:$AR$260,16),0)","v":4},{"$f":"IF($CH40>0,VLOOKUP($CH40,'العاملين '!$A$3:$AR$260,17),0)","v":6},{"$f":"IF($CH40>0,VLOOKUP($CH40,'العاملين '!$A$3:$AR$260,18),0)","v":0},{"$f":"IF($CH40>0,VLOOKUP($CH40,'العاملين '!$A$3:$AR$260,19),0)","v":0},{"$f":"IF($CH40>0,VLOOKUP($CH40,'العاملين '!$A$3:$AR$260,20),0)","v":0},{"$f":"IF($CH40>0,VLOOKUP($CH40,'العاملين '!$A$3:$AR$260,21),0)","v":0},{"$f":"IF($CH40>0,VLOOKUP($CH40,'العاملين '!$A$3:$AR$260,22),0)","v":0},{"$f":"IF($CH40>0,VLOOKUP($CH40,'العاملين '!$A$3:$AR$260,23),0)","v":0},{"$f":"IF($CH40>0,VLOOKUP($CH40,'العاملين '!$A$3:$AR$260,24),0)","v":0},{"$f":"IF($CH40>0,VLOOKUP($CH40,'العاملين '!$A$3:$AR$260,26),0)","v":0},null,null,null,null,null,null,null,null,null,null,null,null,null,null,{"$f":"IF($CH40>0,VLOOKUP($CH40,'العاملين '!$A$3:$AR$260,25),0)","v":0},{"$f":"SUM(M40:AN40)","v":1677.9099999999999},{"$f":"IF(AO40>$AP$4,$AP$4,AO40)","v":1677.9099999999999},{"$f":"AO40-AP40","v":0},{"$f":"ROUND(($AP40)*15%,2)","v":251.69},{"$f":"ROUND(($AP40)*1%,2)","v":16.78},{"$f":"ROUND(($AP40)*3%,2)","v":50.34},{"$f":"SUM(AR40:AT40)","v":318.81000000000006},{"$f":"IF(B40>0,10,\"\")","v":10},{"$f":"IF($CH40>0,VLOOKUP($CH40,'العاملين '!$A$3:$AR$260,28),0)","v":0},{"$f":"SUM(AV40,AU40,AO40,G40,AW40)","v":{"$error":"#VALUE!"}},{"$f":"IF($B40>0,ROUND(($B40)*15%,2),\" \")","v":{"$error":"#VALUE!"}},{"$f":"IF($B40>0,ROUND(($B40)*1%,2),\" \")","v":{"$error":"#VALUE!"}},{"$f":"IF($B40>0,ROUND(($B40)*2%,2),\" \")","v":{"$error":"#VALUE!"}},null,{"$f":"IF($B40>0,ROUND(($B40)*10%,2),\" \")","v":{"$error":"#VALUE!"}},{"$f":"IF($B40>0,ROUND(($B40)*8%,2),\" \")","v":{"$error":"#VALUE!"}},{"$f":"IF($B40>0,ROUND(($B40)*3%,2),\" \")","v":{"$error":"#VALUE!"}},{"$f":"IF($B40>0,ROUND(($B40)*1%,2),\" \")","v":{"$error":"#VALUE!"}},{"$f":"AR40","v":251.69},16.78,{"$f":"ROUND(($AP40)*10%,2)","v":167.79},{"$f":"AT40","v":50.34},{"$f":"AS40","v":16.78},{"$f":"IF($CJ40=1,ROUND(($B40)*7%,2),IF($CJ40=2,VLOOKUP($CH40,'العاملين '!$A$3:$AS$260,44),0))","v":{"$error":"#VALUE!"}},{"$f":"IF($CJ40=1,0.5,IF($CJ40=2,VLOOKUP($CH40,'العاملين '!$A$3:$AS$260,45),0))","v":0.5},{"$f":"IF($CJ40=1,4.5,IF($CJ40=2,VLOOKUP($CH40,'العاملين '!$A$3:$AS$260,46),0))","v":4.5},{"$f":"IF($CH40>0,VLOOKUP($CH40,'العاملين '!$A$3:$AR$260,29),0)","v":0},{"$f":"IF($CJ40=1,0.2,IF($CJ40=2,VLOOKUP($CH40,'العاملين '!$A$3:$AU$260,47),0))","v":0.2},{"$f":"IF($CJ40=1,0.05,IF($CJ40=2,VLOOKUP($CH40,'العاملين '!$A$3:$AU$260,47),0))","v":0.05},{"$f":"IF($CH40>0,VLOOKUP($CH40,'العاملين '!$A$3:$AR$260,30),0)","v":0},{"$f":"IF($CH40>0,VLOOKUP($CH40,'العاملين '!$A$3:$AR$260,31),0)","v":0},null,{"$f":"IF($CH40>0,VLOOKUP($CH40,'العاملين '!$A$3:$AR$260,33),0)","v":0},{"$f":"IF($CH40>0,VLOOKUP($CH40,'العاملين '!$A$3:$AR$260,34),0)","v":0},{"$f":"IF($CH40>0,VLOOKUP($CH40,'العاملين '!$A$3:$AR$260,35),0)","v":0},{"$f":"IF($CH40>0,VLOOKUP($CH40,'العاملين '!$A$3:$AR$260,36),0)","v":0},{"$f":"IF($CH40>0,VLOOKUP($CH40,'العاملين '!$A$3:$AR$260,37),0)","v":0},{"$f":"IF($CH40>0,VLOOKUP($CH40,'العاملين '!$A$3:$AR$260,38),0)","v":1},{"$f":"IF($CH40>0,VLOOKUP($CH40,'العاملين '!$A$3:$AR$260,39),0)","v":26.73},{"$f":"IF($CH40>0,VLOOKUP($CH40,'العاملين '!$A$3:$AR$260,40),0)","v":14.95},{"$f":"IF($CH40>0,VLOOKUP($CH40,'العاملين '!$A$3:$AR$260,41),0)","v":0},{"$f":"CL40-CF40","v":{"$error":"#VALUE!"}},{"$f":"SUM(AY40:CD40)","v":{"$error":"#VALUE!"}},{"$f":"FLOOR(CL40,0.05)","v":{"$error":"#VALUE!"}},{"$f":"IF($CH40>0,VLOOKUP($CH40,'العاملين '!$A$3:$AR$260,2),0)","v":"محمد3"},3,null,{"$f":"IF($CH40>0,VLOOKUP($CH40,'العاملين '!$A$3:$AR$260,3),0)","v":1},{"$f":"IF($CH40>0,VLOOKUP($CH40,'العاملين '!$A$3:$AR$260,43),0)","v":0},{"$f":"AX40-SUM(AY40:CC40)","v":{"$error":"#VALUE!"}}]
[2,{"$f":"IF($CH41>0,VLOOKUP($CH41,'العاملين '!$A$3:$AR$260,8),0)","v":"خبير"},{"$error":"#VALUE!"},{"$error":"#VALUE!"},{"$error":"#VALUE!"},{"$error":"#VALUE!"},{"$error":"#VALUE!"},{"$f":"IF($CH41>0,VLOOKUP($CH41,'العاملين '!$A$3:$AR$260,9),0)","v":537.55999999999995},{"$f":"IF($CH41>0,VLOOKUP($CH41,'العاملين '!$A$3:$AR$260,10),0)","v":892.61},{"$f":"IF($CH41>0,VLOOKUP($CH41,'العاملين '!$A$3:$AR$260,11),0)","v":0},{"$f":"IF($CH41>0,VLOOKUP($CH41,'العاملين '!$A$3:$AR$260,12),0)","v":50.03},{"$f":"IF($CH41>0,VLOOKUP($CH41,'العاملين '!$A$3:$AR$260,13),0)","v":50.53},1530.73,{"$f":"IF($CH41>0,VLOOKUP($CH41,'العاملين '!$A$3:$AR$260,14),0)","v":53.75},{"$f":"IF($CH41>0,VLOOKUP($CH41,'العاملين '!$A$3:$AR$260,15),0)","v":0},{"$f":"IF($CH41>0,VLOOKUP($CH41,'العاملين '!$A$3:$AR$260,16),0)","v":4},{"$f":"IF($CH41>0,VLOOKUP($CH41,'العاملين '!$A$3:$AR$260,17),0)","v":6},{"$f":"IF($CH41>0,VLOOKUP($CH41,'العاملين '!$A$3:$AR$260,18),0)","v":0},{"$f":"IF($CH41>0,VLOOKUP($CH41,'العاملين '!$A$3:$AR$260,19),0)","v":0},{"$f":"IF($CH41>0,VLOOKUP($CH41,'العاملين '!$A$3:$AR$260,20),0)","v":0},{"$f":"IF($CH41>0,VLOOKUP($CH41,'العاملين '!$A$3:$AR$260,21),0)","v":0},{"$f":"IF($CH41>0,VLOOKUP($CH41,'العاملين '!$A$3:$AR$260,22),0)","v":0},{"$f":"IF($CH41>0,VLOOKUP($CH41,'العاملين '!$A$3:$AR$260,23),0)","v":0},{"$f":"IF($CH41>0,VLOOKUP($CH41,'العاملين '!$A$3:$AR$260,24),0)","v":0},{"$f":"IF($CH41>0,VLOOKUP($CH41,'العاملين '!$A$3:$AR$260,26),0)","v":0},null,null,null,null,null,null,null,null,null,null,null,null,null,null,{"$f":"IF($CH41>0,VLOOKUP($CH41,'العاملين '!$A$3:$AR$260,25),0)","v":0},1594.48,1594.48,0,239.17,15.94,47.83,302.94,10,{"$f":"IF($CH41>0,VLOOKUP($CH41,'العاملين '!$A$3:$AR$260,28),0)","v":0},{"$error":"#VALUE!"},{"$error":"#VALUE!"},{"$error":"#VALUE!"},{"$error":"#VALUE!"},null,{"$error":"#VALUE!"},{"$error":"#VALUE!"},{"$error":"#VALUE!"},{"$error":"#VALUE!"},239.17,15.94,159.44999999999999,47.83,15.94,{"$f":"IF($CJ41=1,ROUND(($B41)*7%,2),IF($CJ41=2,VLOOKUP($CH41,'العاملين '!$A$3:$AS$260,44),0))","v":{"$error":"#VALUE!"}},{"$f":"IF($CJ41=1,0.5,IF($CJ41=2,VLOOKUP($CH41,'العاملين '!$A$3:$AS$260,45),0))","v":0.5},{"$f":"IF($CJ41=1,4.5,IF($CJ41=2,VLOOKUP($CH41,'العاملين '!$A$3:$AS$260,46),0))","v":4.5},{"$f":"IF($CH41>0,VLOOKUP($CH41,'العاملين '!$A$3:$AR$260,29),0)","v":0},{"$f":"IF($CJ41=1,0.2,IF($CJ41=2,VLOOKUP($CH41,'العاملين '!$A$3:$AU$260,47),0))","v":0.2},{"$f":"IF($CJ41=1,0.05,IF($CJ41=2,VLOOKUP($CH41,'العاملين '!$A$3:$AU$260,47),0))","v":0.05},{"$f":"IF($CH41>0,VLOOKUP($CH41,'العاملين '!$A$3:$AR$260,30),0)","v":0},{"$f":"IF($CH41>0,VLOOKUP($CH41,'العاملين '!$A$3:$AR$260,31),0)","v":0},null,{"$f":"IF($CH41>0,VLOOKUP($CH41,'العاملين '!$A$3:$AR$260,33),0)","v":0},{"$f":"IF($CH41>0,VLOOKUP($CH41,'العاملين '!$A$3:$AR$260,34),0)","v":0},{"$f":"IF($CH41>0,VLOOKUP($CH41,'العاملين '!$A$3:$AR$260,35),0)","v":0},{"$f":"IF($CH41>0,VLOOKUP($CH41,'العاملين '!$A$3:$AR$260,36),0)","v":0},{"$f":"IF($CH41>0,VLOOKUP($CH41,'العاملين '!$A$3:$AR$260,37),0)","v":0},{"$f":"IF($CH41>0,VLOOKUP($CH41,'العاملين '!$A$3:$AR$260,38),0)","v":1},{"$f":"IF($CH41>0,VLOOKUP($CH41,'العاملين '!$A$3:$AR$260,39),0)","v":38.49},{"$f":"IF($CH41>0,VLOOKUP($CH41,'العاملين '!$A$3:$AR$260,40),0)","v":14.35},{"$f":"IF($CH41>0,VLOOKUP($CH41,'العاملين '!$A$3:$AR$260,41),0)","v":0},{"$error":"#VALUE!"},{"$error":"#VALUE!"},{"$error":"#VALUE!"},{"$f":"IF($CH41>0,VLOOKUP($CH41,'العاملين '!$A$3:$AR$260,2),0)","v":"محمد31"},31,null,{"$f":"IF($CH41>0,VLOOKUP($CH41,'العاملين '!$A$3:$AR$260,3),0)","v":1},{"$f":"IF($CH41>0,VLOOKUP($CH41,'العاملين '!$A$3:$AR$260,43),0)","v":0},{"$error":"#VALUE!"}]
[3,{"$f":"IF($CH42>0,VLOOKUP($CH42,'العاملين '!$A$3:$AR$260,8),0)","v":0}," "," "," "," "," ",{"$f":"IF($CH42>0,VLOOKUP($CH42,'العاملين '!$A$3:$AR$260,9),0)","v":0},{"$f":"IF($CH42>0,VLOOKUP($CH42,'العاملين '!$A$3:$AR$260,10),0)","v":0},{"$f":"IF($CH42>0,VLOOKUP($CH42,'العاملين '!$A$3:$AR$260,11),0)","v":0},{"$f":"IF($CH42>0,VLOOKUP($CH42,'العاملين '!$A$3:$AR$260,12),0)","v":0},{"$f":"IF($CH42>0,VLOOKUP($CH42,'العاملين '!$A$3:$AR$260,13),0)","v":0},0,{"$f":"IF($CH42>0,VLOOKUP($CH42,'العاملين '!$A$3:$AR$260,14),0)","v":0},{"$f":"IF($CH42>0,VLOOKUP($CH42,'العاملين '!$A$3:$AR$260,15),0)","v":0},{"$f":"IF($CH42>0,VLOOKUP($CH42,'العاملين '!$A$3:$AR$260,16),0)","v":0},{"$f":"IF($CH42>0,VLOOKUP($CH42,'العاملين '!$A$3:$AR$260,17),0)","v":0},{"$f":"IF($CH42>0,VLOOKUP($CH42,'العاملين '!$A$3:$AR$260,18),0)","v":0},{"$f":"IF($CH42>0,VLOOKUP($CH42,'العاملين '!$A$3:$AR$260,19),0)","v":0},{"$f":"IF($CH42>0,VLOOKUP($CH42,'العاملين '!$A$3:$AR$260,20),0)","v":0},{"$f":"IF($CH42>0,VLOOKUP($CH42,'العاملين '!$A$3:$AR$260,21),0)","v":0},{"$f":"IF($CH42>0,VLOOKUP($CH42,'العاملين '!$A$3:$AR$260,22),0)","v":0},{"$f":"IF($CH42>0,VLOOKUP($CH42,'العاملين '!$A$3:$AR$260,23),0)","v":0},{"$f":"IF($CH42>0,VLOOKUP($CH42,'العاملين '!$A$3:$AR$260,24),0)","v":0},{"$f":"IF($CH42>0,VLOOKUP($CH42,'العاملين '!$A$3:$AR$260,26),0)","v":0},null,null,null,null,null,null,null,null,null,null,null,null,null,null,{"$f":"IF($CH42>0,VLOOKUP($CH42,'العاملين '!$A$3:$AR$260,25),0)","v":0},0,0,0,0,0,0,0,"",{"$f":"IF($CH42>0,VLOOKUP($CH42,'العاملين '!$A$3:$AR$260,28),0)","v":0},0," "," "," ",null," "," "," "," ",0,0,0,0,0,{"$f":"IF($CJ42=1,ROUND(($B42)*7%,2),IF($CJ42=2,VLOOKUP($CH42,'العاملين '!$A$3:$AS$260,44),0))","v":0},{"$f":"IF($CJ42=1,0.5,IF($CJ42=2,VLOOKUP($CH42,'العاملين '!$A$3:$AS$260,45),0))","v":0},{"$f":"IF($CJ42=1,4.5,IF($CJ42=2,VLOOKUP($CH42,'العاملين '!$A$3:$AS$260,46),0))","v":0},{"$f":"IF($CH42>0,VLOOKUP($CH42,'العاملين '!$A$3:$AR$260,29),0)","v":0},{"$f":"IF($CJ42=1,0.2,IF($CJ42=2,VLOOKUP($CH42,'العاملين '!$A$3:$AU$260,47),0))","v":0},{"$f":"IF($CJ42=1,0.05,IF($CJ42=2,VLOOKUP($CH42,'العاملين '!$A$3:$AU$260,47),0))","v":0},{"$f":"IF($CH42>0,VLOOKUP($CH42,'العاملين '!$A$3:$AR$260,30),0)","v":0},{"$f":"IF($CH42>0,VLOOKUP($CH42,'العاملين '!$A$3:$AR$260,31),0)","v":0},null,{"$f":"IF($CH42>0,VLOOKUP($CH42,'العاملين '!$A$3:$AR$260,33),0)","v":0},{"$f":"IF($CH42>0,VLOOKUP($CH42,'العاملين '!$A$3:$AR$260,34),0)","v":0},{"$f":"IF($CH42>0,VLOOKUP($CH42,'العاملين '!$A$3:$AR$260,35),0)","v":0},{"$f":"IF($CH42>0,VLOOKUP($CH42,'العاملين '!$A$3:$AR$260,36),0)","v":0},{"$f":"IF($CH42>0,VLOOKUP($CH42,'العاملين '!$A$3:$AR$260,37),0)","v":0},{"$f":"IF($CH42>0,VLOOKUP($CH42,'العاملين '!$A$3:$AR$260,38),0)","v":0},{"$f":"IF($CH42>0,VLOOKUP($CH42,'العاملين '!$A$3:$AR$260,39),0)","v":0},{"$f":"IF($CH42>0,VLOOKUP($CH42,'العاملين '!$A$3:$AR$260,40),0)","v":0},{"$f":"IF($CH42>0,VLOOKUP($CH42,'العاملين '!$A$3:$AR$260,41),0)","v":0},0,0,0,{"$f":"IF($CH42>0,VLOOKUP($CH42,'العاملين '!$A$3:$AR$260,2),0)","v":0},0,null,{"$f":"IF($CH42>0,VLOOKUP($CH42,'العاملين '!$A$3:$AR$260,3),0)","v":0},{"$f":"IF($CH42>0,VLOOKUP($CH42,'العاملين '!$A$3:$AR$260,43),0)","v":0},0]
[4,{"$f":"IF($CH43>0,VLOOKUP($CH43,'العاملين '!$A$3:$AR$260,8),0)","v":"خبير"},{"$error":"#VALUE!"},{"$error":"#VALUE!"},{"$error":"#VALUE!"},{"$error":"#VALUE!"},{"$error":"#VALUE!"},{"$f":"IF($CH43>0,VLOOKUP($CH43,'العاملين '!$A$3:$AR$260,9),0)","v":0},{"$f":"IF($CH43>0,VLOOKUP($CH43,'العاملين '!$A$3:$AR$260,10),0)","v":0},{"$f":"IF($CH43>0,VLOOKUP($CH43,'العاملين '!$A$3:$AR$260,11),0)","v":0},{"$f":"IF($CH43>0,VLOOKUP($CH43,'العاملين '!$A$3:$AR$260,12),0)","v":0},{"$f":"IF($CH43>0,VLOOKUP($CH43,'العاملين '!$A$3:$AR$260,13),0)","v":0},0,{"$f":"IF($CH43>0,VLOOKUP($CH43,'العاملين '!$A$3:$AR$260,14),0)","v":0},{"$f":"IF($CH43>0,VLOOKUP($CH43,'العاملين '!$A$3:$AR$260,15),0)","v":0},{"$f":"IF($CH43>0,VLOOKUP($CH43,'العاملين '!$A$3:$AR$260,16),0)","v":0},{"$f":"IF($CH43>0,VLOOKUP($CH43,'العاملين '!$A$3:$AR$260,17),0)","v":0},{"$f":"IF($CH43>0,VLOOKUP($CH43,'العاملين '!$A$3:$AR$260,18),0)","v":0},{"$f":"IF($CH43>0,VLOOKUP($CH43,'العاملين '!$A$3:$AR$260,19),0)","v":0},{"$f":"IF($CH43>0,VLOOKUP($CH43,'العاملين '!$A$3:$AR$260,20),0)","v":0},{"$f":"IF($CH43>0,VLOOKUP($CH43,'العاملين '!$A$3:$AR$260,21),0)","v":0},{"$f":"IF($CH43>0,VLOOKUP($CH43,'العاملين '!$A$3:$AR$260,22),0)","v":0},{"$f":"IF($CH43>0,VLOOKUP($CH43,'العاملين '!$A$3:$AR$260,23),0)","v":0},{"$f":"IF($CH43>0,VLOOKUP($CH43,'العاملين '!$A$3:$AR$260,24),0)","v":0},{"$f":"IF($CH43>0,VLOOKUP($CH43,'العاملين '!$A$3:$AR$260,26),0)","v":0},null,null,null,null,null,null,null,null,null,null,null,null,null,null,{"$f":"IF($CH43>0,VLOOKUP($CH43,'العاملين '!$A$3:$AR$260,25),0)","v":0},0,0,0,0,0,0,0,10,{"$f":"IF($CH43>0,VLOOKUP($CH43,'العاملين '!$A$3:$AR$260,28),0)","v":0},{"$error":"#VALUE!"},{"$error":"#VALUE!"},{"$error":"#VALUE!"},{"$error":"#VALUE!"},null,{"$error":"#VALUE!"},{"$error":"#VALUE!"},{"$error":"#VALUE!"},{"$error":"#VALUE!"},0,0,0,0,0,{"$f":"IF($CJ43=1,ROUND(($B43)*7%,2),IF($CJ43=2,VLOOKUP($CH43,'العاملين '!$A$3:$AS$260,44),0))","v":{"$error":"#VALUE!"}},{"$f":"IF($CJ43=1,0.5,IF($CJ43=2,VLOOKUP($CH43,'العاملين '!$A$3:$AS$260,45),0))","v":0.5},{"$f":"IF($CJ43=1,4.5,IF($CJ43=2,VLOOKUP($CH43,'العاملين '!$A$3:$AS$260,46),0))","v":4.5},{"$f":"IF($CH43>0,VLOOKUP($CH43,'العاملين '!$A$3:$AR$260,29),0)","v":0},{"$f":"IF($CJ43=1,0.2,IF($CJ43=2,VLOOKUP($CH43,'العاملين '!$A$3:$AU$260,47),0))","v":0.2},{"$f":"IF($CJ43=1,0.05,IF($CJ43=2,VLOOKUP($CH43,'العاملين '!$A$3:$AU$260,47),0))","v":0.05},{"$f":"IF($CH43>0,VLOOKUP($CH43,'العاملين '!$A$3:$AR$260,30),0)","v":0},{"$f":"IF($CH43>0,VLOOKUP($CH43,'العاملين '!$A$3:$AR$260,31),0)","v":0},null,{"$f":"IF($CH43>0,VLOOKUP($CH43,'العاملين '!$A$3:$AR$260,33),0)","v":0},{"$f":"IF($CH43>0,VLOOKUP($CH43,'العاملين '!$A$3:$AR$260,34),0)","v":0},{"$f":"IF($CH43>0,VLOOKUP($CH43,'العاملين '!$A$3:$AR$260,35),0)","v":0},{"$f":"IF($CH43>0,VLOOKUP($CH43,'العاملين '!$A$3:$AR$260,36),0)","v":0},{"$f":"IF($CH43>0,VLOOKUP($CH43,'العاملين '!$A$3:$AR$260,37),0)","v":0},{"$f":"IF($CH43>0,VLOOKUP($CH43,'العاملين '!$A$3:$AR$260,38),0)","v":0},{"$f":"IF($CH43>0,VLOOKUP($CH43,'العاملين '!$A$3:$AR$260,39),0)","v":0},{"$f":"IF($CH43>0,VLOOKUP($CH43,'العاملين '!$A$3:$AR$260,40),0)","v":0},{"$f":"IF($CH43>0,VLOOKUP($CH43,'العاملين '!$A$3:$AR$260,41),0)","v":0},{"$error":"#VALUE!"},{"$error":"#VALUE!"},{"$error":"#VALUE!"},{"$f":"IF($CH43>0,VLOOKUP($CH43,'العاملين '!$A$3:$AR$260,2),0)","v":"محمد35"},35,null,{"$f":"IF($CH43>0,VLOOKUP($CH43,'العاملين '!$A$3:$AR$260,3),0)","v":1},{"$f":"IF($CH43>0,VLOOKUP($CH43,'العاملين '!$A$3:$AR$260,43),0)","v":0},{"$error":"#VALUE!"}]
[5,{"$f":"IF($CH44>0,VLOOKUP($CH44,'العاملين '!$A$3:$AR$260,8),0)","v":0}," "," "," "," "," ",{"$f":"IF($CH44>0,VLOOKUP($CH44,'العاملين '!$A$3:$AR$260,9),0)","v":0},{"$f":"IF($CH44>0,VLOOKUP($CH44,'العاملين '!$A$3:$AR$260,10),0)","v":0},{"$f":"IF($CH44>0,VLOOKUP($CH44,'العاملين '!$A$3:$AR$260,11),0)","v":0},{"$f":"IF($CH44>0,VLOOKUP($CH44,'العاملين '!$A$3:$AR$260,12),0)","v":0},{"$f":"IF($CH44>0,VLOOKUP($CH44,'العاملين '!$A$3:$AR$260,13),0)","v":0},0,{"$f":"IF($CH44>0,VLOOKUP($CH44,'العاملين '!$A$3:$AR$260,14),0)","v":0},{"$f":"IF($CH44>0,VLOOKUP($CH44,'العاملين '!$A$3:$AR$260,15),0)","v":0},{"$f":"IF($CH44>0,VLOOKUP($CH44,'العاملين '!$A$3:$AR$260,16),0)","v":0},{"$f":"IF($CH44>0,VLOOKUP($CH44,'العاملين '!$A$3:$AR$260,17),0)","v":0},{"$f":"IF($CH44>0,VLOOKUP($CH44,'العاملين '!$A$3:$AR$260,18),0)","v":0},{"$f":"IF($CH44>0,VLOOKUP($CH44,'العاملين '!$A$3:$AR$260,19),0)","v":0},{"$f":"IF($CH44>0,VLOOKUP($CH44,'العاملين '!$A$3:$AR$260,20),0)","v":0},{"$f":"IF($CH44>0,VLOOKUP($CH44,'العاملين '!$A$3:$AR$260,21),0)","v":0},{"$f":"IF($CH44>0,VLOOKUP($CH44,'العاملين '!$A$3:$AR$260,22),0)","v":0},{"$f":"IF($CH44>0,VLOOKUP($CH44,'العاملين '!$A$3:$AR$260,23),0)","v":0},{"$f":"IF($CH44>0,VLOOKUP($CH44,'العاملين '!$A$3:$AR$260,24),0)","v":0},{"$f":"IF($CH44>0,VLOOKUP($CH44,'العاملين '!$A$3:$AR$260,26),0)","v":0},null,null,null,null,null,null,null,null,null,null,null,null,null,null,{"$f":"IF($CH44>0,VLOOKUP($CH44,'العاملين '!$A$3:$AR$260,25),0)","v":0},0,0,0,0,0,0,0,"",{"$f":"IF($CH44>0,VLOOKUP($CH44,'العاملين '!$A$3:$AR$260,28),0)","v":0},0," "," "," ",null," "," "," "," ",0,0,0,0,0,{"$f":"IF($CJ44=1,ROUND(($B44)*7%,2),IF($CJ44=2,VLOOKUP($CH44,'العاملين '!$A$3:$AS$260,44),0))","v":0},{"$f":"IF($CJ44=1,0.5,IF($CJ44=2,VLOOKUP($CH44,'العاملين '!$A$3:$AS$260,45),0))","v":0},{"$f":"IF($CJ44=1,4.5,IF($CJ44=2,VLOOKUP($CH44,'العاملين '!$A$3:$AS$260,46),0))","v":0},{"$f":"IF($CH44>0,VLOOKUP($CH44,'العاملين '!$A$3:$AR$260,29),0)","v":0},{"$f":"IF($CJ44=1,0.2,IF($CJ44=2,VLOOKUP($CH44,'العاملين '!$A$3:$AU$260,47),0))","v":0},{"$f":"IF($CJ44=1,0.05,IF($CJ44=2,VLOOKUP($CH44,'العاملين '!$A$3:$AU$260,47),0))","v":0},{"$f":"IF($CH44>0,VLOOKUP($CH44,'العاملين '!$A$3:$AR$260,30),0)","v":0},{"$f":"IF($CH44>0,VLOOKUP($CH44,'العاملين '!$A$3:$AR$260,31),0)","v":0},null,{"$f":"IF($CH44>0,VLOOKUP($CH44,'العاملين '!$A$3:$AR$260,33),0)","v":0},{"$f":"IF($CH44>0,VLOOKUP($CH44,'العاملين '!$A$3:$AR$260,34),0)","v":0},{"$f":"IF($CH44>0,VLOOKUP($CH44,'العاملين '!$A$3:$AR$260,35),0)","v":0},{"$f":"IF($CH44>0,VLOOKUP($CH44,'العاملين '!$A$3:$AR$260,36),0)","v":0},{"$f":"IF($CH44>0,VLOOKUP($CH44,'العاملين '!$A$3:$AR$260,37),0)","v":0},{"$f":"IF($CH44>0,VLOOKUP($CH44,'العاملين '!$A$3:$AR$260,38),0)","v":0},{"$f":"IF($CH44>0,VLOOKUP($CH44,'العاملين '!$A$3:$AR$260,39),0)","v":0},{"$f":"IF($CH44>0,VLOOKUP($CH44,'العاملين '!$A$3:$AR$260,40),0)","v":0},{"$f":"IF($CH44>0,VLOOKUP($CH44,'العاملين '!$A$3:$AR$260,41),0)","v":0},0,0,0,{"$f":"IF($CH44>0,VLOOKUP($CH44,'العاملين '!$A$3:$AR$260,2),0)","v":0},0,null,{"$f":"IF($CH44>0,VLOOKUP($CH44,'العاملين '!$A$3:$AR$260,3),0)","v":0},{"$f":"IF($CH44>0,VLOOKUP($CH44,'العاملين '!$A$3:$AR$260,43),0)","v":0},0]
[6,{"$f":"IF($CH45>0,VLOOKUP($CH45,'العاملين '!$A$3:$AR$260,8),0)","v":0}," "," "," "," "," ",{"$f":"IF($CH45>0,VLOOKUP($CH45,'العاملين '!$A$3:$AR$260,9),0)","v":0},{"$f":"IF($CH45>0,VLOOKUP($CH45,'العاملين '!$A$3:$AR$260,10),0)","v":0},{"$f":"IF($CH45>0,VLOOKUP($CH45,'العاملين '!$A$3:$AR$260,11),0)","v":0},{"$f":"IF($CH45>0,VLOOKUP($CH45,'العاملين '!$A$3:$AR$260,12),0)","v":0},{"$f":"IF($CH45>0,VLOOKUP($CH45,'العاملين '!$A$3:$AR$260,13),0)","v":0},0,{"$f":"IF($CH45>0,VLOOKUP($CH45,'العاملين '!$A$3:$AR$260,14),0)","v":0},{"$f":"IF($CH45>0,VLOOKUP($CH45,'العاملين '!$A$3:$AR$260,15),0)","v":0},{"$f":"IF($CH45>0,VLOOKUP($CH45,'العاملين '!$A$3:$AR$260,16),0)","v":0},{"$f":"IF($CH45>0,VLOOKUP($CH45,'العاملين '!$A$3:$AR$260,17),0)","v":0},{"$f":"IF($CH45>0,VLOOKUP($CH45,'العاملين '!$A$3:$AR$260,18),0)","v":0},{"$f":"IF($CH45>0,VLOOKUP($CH45,'العاملين '!$A$3:$AR$260,19),0)","v":0},{"$f":"IF($CH45>0,VLOOKUP($CH45,'العاملين '!$A$3:$AR$260,20),0)","v":0},{"$f":"IF($CH45>0,VLOOKUP($CH45,'العاملين '!$A$3:$AR$260,21),0)","v":0},{"$f":"IF($CH45>0,VLOOKUP($CH45,'العاملين '!$A$3:$AR$260,22),0)","v":0},{"$f":"IF($CH45>0,VLOOKUP($CH45,'العاملين '!$A$3:$AR$260,23),0)","v":0},{"$f":"IF($CH45>0,VLOOKUP($CH45,'العاملين '!$A$3:$AR$260,24),0)","v":0},{"$f":"IF($CH45>0,VLOOKUP($CH45,'العاملين '!$A$3:$AR$260,26),0)","v":0},null,null,null,null,null,null,null,null,null,null,null,null,null,null,{"$f":"IF($CH45>0,VLOOKUP($CH45,'العاملين '!$A$3:$AR$260,25),0)","v":0},0,0,0,0,0,0,0,"",{"$f":"IF($CH45>0,VLOOKUP($CH45,'العاملين '!$A$3:$AR$260,28),0)","v":0},0," "," "," ",null," "," "," "," ",0,0,0,0,0,{"$f":"IF($CJ45=1,ROUND(($B45)*7%,2),IF($CJ45=2,VLOOKUP($CH45,'العاملين '!$A$3:$AS$260,44),0))","v":0},{"$f":"IF($CJ45=1,0.5,IF($CJ45=2,VLOOKUP($CH45,'العاملين '!$A$3:$AS$260,45),0))","v":0},{"$f":"IF($CJ45=1,4.5,IF($CJ45=2,VLOOKUP($CH45,'العاملين '!$A$3:$AS$260,46),0))","v":0},{"$f":"IF($CH45>0,VLOOKUP($CH45,'العاملين '!$A$3:$AR$260,29),0)","v":0},{"$f":"IF($CJ45=1,0.2,IF($CJ45=2,VLOOKUP($CH45,'العاملين '!$A$3:$AU$260,47),0))","v":0},{"$f":"IF($CJ45=1,0.05,IF($CJ45=2,VLOOKUP($CH45,'العاملين '!$A$3:$AU$260,47),0))","v":0},{"$f":"IF($CH45>0,VLOOKUP($CH45,'العاملين '!$A$3:$AR$260,30),0)","v":0},{"$f":"IF($CH45>0,VLOOKUP($CH45,'العاملين '!$A$3:$AR$260,31),0)","v":0},null,{"$f":"IF($CH45>0,VLOOKUP($CH45,'العاملين '!$A$3:$AR$260,33),0)","v":0},{"$f":"IF($CH45>0,VLOOKUP($CH45,'العاملين '!$A$3:$AR$260,34),0)","v":0},{"$f":"IF($CH45>0,VLOOKUP($CH45,'العاملين '!$A$3:$AR$260,35),0)","v":0},{"$f":"IF($CH45>0,VLOOKUP($CH45,'العاملين '!$A$3:$AR$260,36),0)","v":0},{"$f":"IF($CH45>0,VLOOKUP($CH45,'العاملين '!$A$3:$AR$260,37),0)","v":0},{"$f":"IF($CH45>0,VLOOKUP($CH45,'العاملين '!$A$3:$AR$260,38),0)","v":0},{"$f":"IF($CH45>0,VLOOKUP($CH45,'العاملين '!$A$3:$AR$260,39),0)","v":0},{"$f":"IF($CH45>0,VLOOKUP($CH45,'العاملين '!$A$3:$AR$260,40),0)","v":0},{"$f":"IF($CH45>0,VLOOKUP($CH45,'العاملين '!$A$3:$AR$260,41),0)","v":0},0,0,0,{"$f":"IF($CH45>0,VLOOKUP($CH45,'العاملين '!$A$3:$AR$260,2),0)","v":0},0,null,{"$f":"IF($CH45>0,VLOOKUP($CH45,'العاملين '!$A$3:$AR$260,3),0)","v":0},{"$f":"IF($CH45>0,VLOOKUP($CH45,'العاملين '!$A$3:$AR$260,43),0)","v":0},0]
[7,{"$f":"IF($CH46>0,VLOOKUP($CH46,'العاملين '!$A$3:$AR$260,8),0)","v":0},{"$f":"IF($B46>0,ROUND(($B46)*15%,2),\" \")","v":" "},{"$f":"IF($B46>0,ROUND(($B46)*1%,2),\" \")","v":" "},{"$f":"IF($B46>0,ROUND(($B46)*2%,2),\" \")","v":" "},{"$f":"IF($B46>0,ROUND(($B46)*3%,2),\" \")","v":" "},{"$f":"IF($B46>0,SUM(B46:F46),\" \")","v":" "},{"$f":"IF($CH46>0,VLOOKUP($CH46,'العاملين '!$A$3:$AR$260,9),0)","v":0},{"$f":"IF($CH46>0,VLOOKUP($CH46,'العاملين '!$A$3:$AR$260,10),0)","v":0},{"$f":"IF($CH46>0,VLOOKUP($CH46,'العاملين '!$A$3:$AR$260,11),0)","v":0},{"$f":"IF($CH46>0,VLOOKUP($CH46,'العاملين '!$A$3:$AR$260,12),0)","v":0},{"$f":"IF($CH46>0,VLOOKUP($CH46,'العاملين '!$A$3:$AR$260,13),0)","v":0},{"$f":"IF($B46>0,SUM(H46:L46),0)","v":0},{"$f":"IF($CH46>0,VLOOKUP($CH46,'العاملين '!$A$3:$AR$260,14),0)","v":0},{"$f":"IF($CH46>0,VLOOKUP($CH46,'العاملين '!$A$3:$AR$260,15),0)","v":0},{"$f":"IF($CH46>0,VLOOKUP($CH46,'العاملين '!$A$3:$AR$260,16),0)","v":0},{"$f":"IF($CH46>0,VLOOKUP($CH46,'العاملين '!$A$3:$AR$260,17),0)","v":0},{"$f":"IF($CH46>0,VLOOKUP($CH46,'العاملين '!$A$3:$AR$260,18),0)","v":0},{"$f":"IF($CH46>0,VLOOKUP($CH46,'العاملين '!$A$3:$AR$260,19),0)","v":0},{"$f":"IF($CH46>0,VLOOKUP($CH46,'العاملين '!$A$3:$AR$260,20),0)","v":0},{"$f":"IF($CH46>0,VLOOKUP($CH46,'العاملين '!$A$3:$AR$260,21),0)","v":0},{"$f":"IF($CH46>0,VLOOKUP($CH46,'العاملين '!$A$3:$AR$260,22),0)","v":0},{"$f":"IF($CH46>0,VLOOKUP($CH46,'العاملين '!$A$3:$AR$260,23),0)","v":0},{"$f":"IF($CH46>0,VLOOKUP($CH46,'العاملين '!$A$3:$AR$260,24),0)","v":0},{"$f":"IF($CH46>0,VLOOKUP($CH46,'العاملين '!$A$3:$AR$260,26),0)","v":0},null,null,null,null,null,null,null,null,null,null,null,null,null,null,{"$f":"IF($CH46>0,VLOOKUP($CH46,'العاملين '!$A$3:$AR$260,25),0)","v":0},{"$f":"SUM(M46:AN46)","v":0},0,{"$f":"AO46-AP46","v":0},{"$f":"ROUND(($AP46)*15%,2)","v":0},{"$f":"ROUND(($AP46)*1%,2)","v":0},{"$f":"ROUND(($AP46)*3%,2)","v":0},{"$f":"SUM(AR46:AT46)","v":0},{"$f":"IF(B46>0,10,\"\")","v":""},{"$f":"IF($CH46>0,VLOOKUP($CH46,'العاملين '!$A$3:$AR$260,28),0)","v":0},{"$f":"SUM(AV46,AU46,AO46,G46,AW46)","v":0},{"$f":"IF($B46>0,ROUND(($B46)*15%,2),\" \")","v":" "},{"$f":"IF($B46>0,ROUND(($B46)*1%,2),\" \")","v":" "},{"$f":"IF($B46>0,ROUND(($B46)*2%,2),\" \")","v":" "},null,{"$f":"IF($B46>0,ROUND(($B46)*10%,2),\" \")","v":" "},{"$f":"IF($B46>0,ROUND(($B46)*8%,2),\" \")","v":" "},{"$f":"IF($B46>0,ROUND(($B46)*3%,2),\" \")","v":" "},{"$f":"IF($B46>0,ROUND(($B46)*1%,2),\" \")","v":" "},{"$f":"AR46","v":0},{"$f":"AS46","v":0},{"$f":"ROUND(($AP46)*10%,2)","v":0},{"$f":"AT46","v":0},{"$f":"AS46","v":0},{"$f":"IF($CJ46=1,ROUND(($B46)*7%,2),IF($CJ46=2,VLOOKUP($CH46,'العاملين '!$A$3:$AS$260,44),0))","v":0},{"$f":"IF($CJ46=1,0.5,IF($CJ46=2,VLOOKUP($CH46,'العاملين '!$A$3:$AS$260,45),0))","v":0},{"$f":"IF($CJ46=1,4.5,IF($CJ46=2,VLOOKUP($CH46,'العاملين '!$A$3:$AS$260,46),0))","v":0},{"$f":"IF($CH46>0,VLOOKUP($CH46,'العاملين '!$A$3:$AR$260,29),0)","v":0},{"$f":"IF($CJ46=1,0.2,IF($CJ46=2,VLOOKUP($CH46,'العاملين '!$A$3:$AU$260,47),0))","v":0},{"$f":"IF($CJ46=1,0.05,IF($CJ46=2,VLOOKUP($CH46,'العاملين '!$A$3:$AU$260,47),0))","v":0},{"$f":"IF($CH46>0,VLOOKUP($CH46,'العاملين '!$A$3:$AR$260,30),0)","v":0},{"$f":"IF($CH46>0,VLOOKUP($CH46,'العاملين '!$A$3:$AR$260,31),0)","v":0},null,{"$f":"IF($CH46>0,VLOOKUP($CH46,'العاملين '!$A$3:$AR$260,33),0)","v":0},{"$f":"IF($CH46>0,VLOOKUP($CH46,'العاملين '!$A$3:$AR$260,34),0)","v":0},{"$f":"IF($CH46>0,VLOOKUP($CH46,'العاملين '!$A$3:$AR$260,35),0)","v":0},{"$f":"IF($CH46>0,VLOOKUP($CH46,'العاملين '!$A$3:$AR$260,36),0)","v":0},{"$f":"IF($CH46>0,VLOOKUP($CH46,'العاملين '!$A$3:$AR$260,37),0)","v":0},{"$f":"IF($CH46>0,VLOOKUP($CH46,'العاملين '!$A$3:$AR$260,38),0)","v":0},{"$f":"IF($CH46>0,VLOOKUP($CH46,'العاملين '!$A$3:$AR$260,39),0)","v":0},{"$f":"IF($CH46>0,VLOOKUP($CH46,'العاملين '!$A$3:$AR$260,40),0)","v":0},{"$f":"IF($CH46>0,VLOOKUP($CH46,'العاملين '!$A$3:$AR$260,41),0)","v":0},{"$f":"CL46-CF46","v":0},{"$f":"SUM(AY46:CD46)","v":0},{"$f":"FLOOR(CL46,0.05)","v":0},{"$f":"IF($CH46>0,VLOOKUP($CH46,'العاملين '!$A$3:$AR$260,2),0)","v":0},0,null,{"$f":"IF($CH46>0,VLOOKUP($CH46,'العاملين '!$A$3:$AR$260,3),0)","v":0},{"$f":"IF($CH46>0,VLOOKUP($CH46,'العاملين '!$A$3:$AR$260,43),0)","v":0},0]
[8,{"$f":"IF($CH47>0,VLOOKUP($CH47,'العاملين '!$A$3:$AR$260,8),0)","v":0},{"$f":"IF($B47>0,ROUND(($B47)*15%,2),\" \")","v":" "},{"$f":"IF($B47>0,ROUND(($B47)*1%,2),\" \")","v":" "},{"$f":"IF($B47>0,ROUND(($B47)*2%,2),\" \")","v":" "},{"$f":"IF($B47>0,ROUND(($B47)*3%,2),\" \")","v":" "},{"$f":"IF($B47>0,SUM(B47:F47),\" \")","v":" "},{"$f":"IF($CH47>0,VLOOKUP($CH47,'العاملين '!$A$3:$AR$260,9),0)","v":0},{"$f":"IF($CH47>0,VLOOKUP($CH47,'العاملين '!$A$3:$AR$260,10),0)","v":0},{"$f":"IF($CH47>0,VLOOKUP($CH47,'العاملين '!$A$3:$AR$260,11),0)","v":0},{"$f":"IF($CH47>0,VLOOKUP($CH47,'العاملين '!$A$3:$AR$260,12),0)","v":0},{"$f":"IF($CH47>0,VLOOKUP($CH47,'العاملين '!$A$3:$AR$260,13),0)","v":0},{"$f":"IF($B47>0,SUM(H47:L47),0)","v":0},{"$f":"IF($CH47>0,VLOOKUP($CH47,'العاملين '!$A$3:$AR$260,14),0)","v":0},{"$f":"IF($CH47>0,VLOOKUP($CH47,'العاملين '!$A$3:$AR$260,15),0)","v":0},{"$f":"IF($CH47>0,VLOOKUP($CH47,'العاملين '!$A$3:$AR$260,16),0)","v":0},{"$f":"IF($CH47>0,VLOOKUP($CH47,'العاملين '!$A$3:$AR$260,17),0)","v":0},{"$f":"IF($CH47>0,VLOOKUP($CH47,'العاملين '!$A$3:$AR$260,18),0)","v":0},{"$f":"IF($CH47>0,VLOOKUP($CH47,'العاملين '!$A$3:$AR$260,19),0)","v":0},{"$f":"IF($CH47>0,VLOOKUP($CH47,'العاملين '!$A$3:$AR$260,20),0)","v":0},{"$f":"IF($CH47>0,VLOOKUP($CH47,'العاملين '!$A$3:$AR$260,21),0)","v":0},{"$f":"IF($CH47>0,VLOOKUP($CH47,'العاملين '!$A$3:$AR$260,22),0)","v":0},{"$f":"IF($CH47>0,VLOOKUP($CH47,'العاملين '!$A$3:$AR$260,23),0)","v":0},{"$f":"IF($CH47>0,VLOOKUP($CH47,'العاملين '!$A$3:$AR$260,24),0)","v":0},{"$f":"IF($CH47>0,VLOOKUP($CH47,'العاملين '!$A$3:$AR$260,26),0)","v":0},null,null,null,null,null,null,null,null,null,null,null,null,null,null,{"$f":"IF($CH47>0,VLOOKUP($CH47,'العاملين '!$A$3:$AR$260,25),0)","v":0},{"$f":"SUM(M47:AN47)","v":0},0,{"$f":"AO47-AP47","v":0},{"$f":"ROUND(($AP47)*15%,2)","v":0},{"$f":"ROUND(($AP47)*1%,2)","v":0},{"$f":"ROUND(($AP47)*3%,2)","v":0},{"$f":"SUM(AR47:AT47)","v":0},{"$f":"IF(B47>0,10,\"\")","v":""},{"$f":"IF($CH47>0,VLOOKUP($CH47,'العاملين '!$A$3:$AR$260,28),0)","v":0},{"$f":"SUM(AV47,AU47,AO47,G47,AW47)","v":0},{"$f":"IF($B47>0,ROUND(($B47)*15%,2),\" \")","v":" "},{"$f":"IF($B47>0,ROUND(($B47)*1%,2),\" \")","v":" "},{"$f":"IF($B47>0,ROUND(($B47)*2%,2),\" \")","v":" "},null,{"$f":"IF($B47>0,ROUND(($B47)*10%,2),\" \")","v":" "},{"$f":"IF($B47>0,ROUND(($B47)*8%,2),\" \")","v":" "},{"$f":"IF($B47>0,ROUND(($B47)*3%,2),\" \")","v":" "},{"$f":"IF($B47>0,ROUND(($B47)*1%,2),\" \")","v":" "},{"$f":"AR47","v":0},{"$f":"AS47","v":0},{"$f":"ROUND(($AP47)*10%,2)","v":0},{"$f":"AT47","v":0},{"$f":"AS47","v":0},{"$f":"IF($CJ47=1,ROUND(($B47)*7%,2),IF($CJ47=2,VLOOKUP($CH47,'العاملين '!$A$3:$AS$260,44),0))","v":0},{"$f":"IF($CJ47=1,0.5,IF($CJ47=2,VLOOKUP($CH47,'العاملين '!$A$3:$AS$260,45),0))","v":0},{"$f":"IF($CJ47=1,4.5,IF($CJ47=2,VLOOKUP($CH47,'العاملين '!$A$3:$AS$260,46),0))","v":0},{"$f":"IF($CH47>0,VLOOKUP($CH47,'العاملين '!$A$3:$AR$260,29),0)","v":0},{"$f":"IF($CJ47=1,0.2,IF($CJ47=2,VLOOKUP($CH47,'العاملين '!$A$3:$AU$260,47),0))","v":0},{"$f":"IF($CJ47=1,0.05,IF($CJ47=2,VLOOKUP($CH47,'العاملين '!$A$3:$AU$260,47),0))","v":0},{"$f":"IF($CH47>0,VLOOKUP($CH47,'العاملين '!$A$3:$AR$260,30),0)","v":0},{"$f":"IF($CH47>0,VLOOKUP($CH47,'العاملين '!$A$3:$AR$260,31),0)","v":0},null,{"$f":"IF($CH47>0,VLOOKUP($CH47,'العاملين '!$A$3:$AR$260,33),0)","v":0},{"$f":"IF($CH47>0,VLOOKUP($CH47,'العاملين '!$A$3:$AR$260,34),0)","v":0},{"$f":"IF($CH47>0,VLOOKUP($CH47,'العاملين '!$A$3:$AR$260,35),0)","v":0},{"$f":"IF($CH47>0,VLOOKUP($CH47,'العاملين '!$A$3:$AR$260,36),0)","v":0},{"$f":"IF($CH47>0,VLOOKUP($CH47,'العاملين '!$A$3:$AR$260,37),0)","v":0},{"$f":"IF($CH47>0,VLOOKUP($CH47,'العاملين '!$A$3:$AR$260,38),0)","v":0},{"$f":"IF($CH47>0,VLOOKUP($CH47,'العاملين '!$A$3:$AR$260,39),0)","v":0},{"$f":"IF($CH47>0,VLOOKUP($CH47,'العاملين '!$A$3:$AR$260,40),0)","v":0},{"$f":"IF($CH47>0,VLOOKUP($CH47,'العاملين '!$A$3:$AR$260,41),0)","v":0},{"$f":"CL47-CF47","v":0},{"$f":"SUM(AY47:CD47)","v":0},{"$f":"FLOOR(CL47,0.05)","v":0},{"$f":"IF($CH47>0,VLOOKUP($CH47,'العاملين '!$A$3:$AR$260,2),0)","v":0},0,null,{"$f":"IF($CH47>0,VLOOKUP($CH47,'العاملين '!$A$3:$AR$260,3),0)","v":0},{"$f":"IF($CH47>0,VLOOKUP($CH47,'العاملين '!$A$3:$AR$260,43),0)","v":0},0]
[9,{"$f":"IF($CH48>0,VLOOKUP($CH48,'العاملين '!$A$3:$AR$260,8),0)","v":0},{"$f":"IF($B48>0,ROUND(($B48)*15%,2),\" \")","v":" "},{"$f":"IF($B48>0,ROUND(($B48)*1%,2),\" \")","v":" "},{"$f":"IF($B48>0,ROUND(($B48)*2%,2),\" \")","v":" "},{"$f":"IF($B48>0,ROUND(($B48)*3%,2),\" \")","v":" "},{"$f":"IF($B48>0,SUM(B48:F48),\" \")","v":" "},{"$f":"IF($CH48>0,VLOOKUP($CH48,'العاملين '!$A$3:$AR$260,9),0)","v":0},{"$f":"IF($CH48>0,VLOOKUP($CH48,'العاملين '!$A$3:$AR$260,10),0)","v":0},{"$f":"IF($CH48>0,VLOOKUP($CH48,'العاملين '!$A$3:$AR$260,11),0)","v":0},{"$f":"IF($CH48>0,VLOOKUP($CH48,'العاملين '!$A$3:$AR$260,12),0)","v":0},{"$f":"IF($CH48>0,VLOOKUP($CH48,'العاملين '!$A$3:$AR$260,13),0)","v":0},{"$f":"IF($B48>0,SUM(H48:L48),0)","v":0},{"$f":"IF($CH48>0,VLOOKUP($CH48,'العاملين '!$A$3:$AR$260,14),0)","v":0},{"$f":"IF($CH48>0,VLOOKUP($CH48,'العاملين '!$A$3:$AR$260,15),0)","v":0},{"$f":"IF($CH48>0,VLOOKUP($CH48,'العاملين '!$A$3:$AR$260,16),0)","v":0},{"$f":"IF($CH48>0,VLOOKUP($CH48,'العاملين '!$A$3:$AR$260,17),0)","v":0},{"$f":"IF($CH48>0,VLOOKUP($CH48,'العاملين '!$A$3:$AR$260,18),0)","v":0},{"$f":"IF($CH48>0,VLOOKUP($CH48,'العاملين '!$A$3:$AR$260,19),0)","v":0},{"$f":"IF($CH48>0,VLOOKUP($CH48,'العاملين '!$A$3:$AR$260,20),0)","v":0},{"$f":"IF($CH48>0,VLOOKUP($CH48,'العاملين '!$A$3:$AR$260,21),0)","v":0},{"$f":"IF($CH48>0,VLOOKUP($CH48,'العاملين '!$A$3:$AR$260,22),0)","v":0},{"$f":"IF($CH48>0,VLOOKUP($CH48,'العاملين '!$A$3:$AR$260,23),0)","v":0},{"$f":"IF($CH48>0,VLOOKUP($CH48,'العاملين '!$A$3:$AR$260,24),0)","v":0},{"$f":"IF($CH48>0,VLOOKUP($CH48,'العاملين '!$A$3:$AR$260,26),0)","v":0},null,null,null,null,null,null,null,null,null,null,null,null,null,null,{"$f":"IF($CH48>0,VLOOKUP($CH48,'العاملين '!$A$3:$AR$260,25),0)","v":0},{"$f":"SUM(M48:AN48)","v":0},0,{"$f":"AO48-AP48","v":0},{"$f":"ROUND(($AP48)*15%,2)","v":0},{"$f":"ROUND(($AP48)*1%,2)","v":0},{"$f":"ROUND(($AP48)*3%,2)","v":0},{"$f":"SUM(AR48:AT48)","v":0},{"$f":"IF(B48>0,10,\"\")","v":""},{"$f":"IF($CH48>0,VLOOKUP($CH48,'العاملين '!$A$3:$AR$260,28),0)","v":0},{"$f":"SUM(AV48,AU48,AO48,G48,AW48)","v":0},{"$f":"IF($B48>0,ROUND(($B48)*15%,2),\" \")","v":" "},{"$f":"IF($B48>0,ROUND(($B48)*1%,2),\" \")","v":" "},{"$f":"IF($B48>0,ROUND(($B48)*2%,2),\" \")","v":" "},null,{"$f":"IF($B48>0,ROUND(($B48)*10%,2),\" \")","v":" "},{"$f":"IF($B48>0,ROUND(($B48)*8%,2),\" \")","v":" "},{"$f":"IF($B48>0,ROUND(($B48)*3%,2),\" \")","v":" "},{"$f":"IF($B48>0,ROUND(($B48)*1%,2),\" \")","v":" "},{"$f":"AR48","v":0},0,{"$f":"ROUND(($AP48)*10%,2)","v":0},{"$f":"AT48","v":0},{"$f":"AS48","v":0},{"$f":"IF($CJ48=1,ROUND(($B48)*7%,2),IF($CJ48=2,VLOOKUP($CH48,'العاملين '!$A$3:$AS$260,44),0))","v":0},{"$f":"IF($CJ48=1,0.5,IF($CJ48=2,VLOOKUP($CH48,'العاملين '!$A$3:$AS$260,45),0))","v":0},{"$f":"IF($CJ48=1,4.5,IF($CJ48=2,VLOOKUP($CH48,'العاملين '!$A$3:$AS$260,46),0))","v":0},{"$f":"IF($CH48>0,VLOOKUP($CH48,'العاملين '!$A$3:$AR$260,29),0)","v":0},{"$f":"IF($CJ48=1,0.2,IF($CJ48=2,VLOOKUP($CH48,'العاملين '!$A$3:$AU$260,47),0))","v":0},{"$f":"IF($CJ48=1,0.05,IF($CJ48=2,VLOOKUP($CH48,'العاملين '!$A$3:$AU$260,47),0))","v":0},{"$f":"IF($CH48>0,VLOOKUP($CH48,'العاملين '!$A$3:$AR$260,30),0)","v":0},{"$f":"IF($CH48>0,VLOOKUP($CH48,'العاملين '!$A$3:$AR$260,31),0)","v":0},null,{"$f":"IF($CH48>0,VLOOKUP($CH48,'العاملين '!$A$3:$AR$260,33),0)","v":0},{"$f":"IF($CH48>0,VLOOKUP($CH48,'العاملين '!$A$3:$AR$260,34),0)","v":0},{"$f":"IF($CH48>0,VLOOKUP($CH48,'العاملين '!$A$3:$AR$260,35),0)","v":0},{"$f":"IF($CH48>0,VLOOKUP($CH48,'العاملين '!$A$3:$AR$260,36),0)","v":0},{"$f":"IF($CH48>0,VLOOKUP($CH48,'العاملين '!$A$3:$AR$260,37),0)","v":0},{"$f":"IF($CH48>0,VLOOKUP($CH48,'العاملين '!$A$3:$AR$260,38),0)","v":0},{"$f":"IF($CH48>0,VLOOKUP($CH48,'العاملين '!$A$3:$AR$260,39),0)","v":0},{"$f":"IF($CH48>0,VLOOKUP($CH48,'العاملين '!$A$3:$AR$260,40),0)","v":0},{"$f":"IF($CH48>0,VLOOKUP($CH48,'العاملين '!$A$3:$AR$260,41),0)","v":0},{"$f":"CL48-CF48","v":0},{"$f":"SUM(AY48:CD48)","v":0},{"$f":"FLOOR(CL48,0.05)","v":0},{"$f":"IF($CH48>0,VLOOKUP($CH48,'العاملين '!$A$3:$AR$260,2),0)","v":0},0,null,{"$f":"IF($CH48>0,VLOOKUP($CH48,'العاملين '!$A$3:$AR$260,3),0)","v":0},{"$f":"IF($CH48>0,VLOOKUP($CH48,'العاملين '!$A$3:$AR$260,43),0)","v":0},0]
[10,{"$f":"IF($CH49>0,VLOOKUP($CH49,'العاملين '!$A$3:$AR$260,8),0)","v":0}," "," "," "," "," ",{"$f":"IF($CH49>0,VLOOKUP($CH49,'العاملين '!$A$3:$AR$260,9),0)","v":0},{"$f":"IF($CH49>0,VLOOKUP($CH49,'العاملين '!$A$3:$AR$260,10),0)","v":0},{"$f":"IF($CH49>0,VLOOKUP($CH49,'العاملين '!$A$3:$AR$260,11),0)","v":0},{"$f":"IF($CH49>0,VLOOKUP($CH49,'العاملين '!$A$3:$AR$260,12),0)","v":0},{"$f":"IF($CH49>0,VLOOKUP($CH49,'العاملين '!$A$3:$AR$260,13),0)","v":0},0,{"$f":"IF($CH49>0,VLOOKUP($CH49,'العاملين '!$A$3:$AR$260,14),0)","v":0},{"$f":"IF($CH49>0,VLOOKUP($CH49,'العاملين '!$A$3:$AR$260,15),0)","v":0},{"$f":"IF($CH49>0,VLOOKUP($CH49,'العاملين '!$A$3:$AR$260,16),0)","v":0},{"$f":"IF($CH49>0,VLOOKUP($CH49,'العاملين '!$A$3:$AR$260,17),0)","v":0},{"$f":"IF($CH49>0,VLOOKUP($CH49,'العاملين '!$A$3:$AR$260,18),0)","v":0},{"$f":"IF($CH49>0,VLOOKUP($CH49,'العاملين '!$A$3:$AR$260,19),0)","v":0},{"$f":"IF($CH49>0,VLOOKUP($CH49,'العاملين '!$A$3:$AR$260,20),0)","v":0},{"$f":"IF($CH49>0,VLOOKUP($CH49,'العاملين '!$A$3:$AR$260,21),0)","v":0},{"$f":"IF($CH49>0,VLOOKUP($CH49,'العاملين '!$A$3:$AR$260,22),0)","v":0},{"$f":"IF($CH49>0,VLOOKUP($CH49,'العاملين '!$A$3:$AR$260,23),0)","v":0},{"$f":"IF($CH49>0,VLOOKUP($CH49,'العاملين '!$A$3:$AR$260,24),0)","v":0},{"$f":"IF($CH49>0,VLOOKUP($CH49,'العاملين '!$A$3:$AR$260,26),0)","v":0},null,null,null,null,null,null,null,null,null,null,null,null,null,null,{"$f":"IF($CH49>0,VLOOKUP($CH49,'العاملين '!$A$3:$AR$260,25),0)","v":0},0,0,0,0,0,0,0,"",{"$f":"IF($CH49>0,VLOOKUP($CH49,'العاملين '!$A$3:$AR$260,28),0)","v":0},0," "," "," ",null," "," "," "," ",0,0,0,0,0,{"$f":"IF($CJ49=1,ROUND(($B49)*7%,2),IF($CJ49=2,VLOOKUP($CH49,'العاملين '!$A$3:$AS$260,44),0))","v":0},{"$f":"IF($CJ49=1,0.5,IF($CJ49=2,VLOOKUP($CH49,'العاملين '!$A$3:$AS$260,45),0))","v":0},{"$f":"IF($CJ49=1,4.5,IF($CJ49=2,VLOOKUP($CH49,'العاملين '!$A$3:$AS$260,46),0))","v":0},{"$f":"IF($CH49>0,VLOOKUP($CH49,'العاملين '!$A$3:$AR$260,29),0)","v":0},{"$f":"IF($CJ49=1,0.2,IF($CJ49=2,VLOOKUP($CH49,'العاملين '!$A$3:$AU$260,47),0))","v":0},{"$f":"IF($CJ49=1,0.05,IF($CJ49=2,VLOOKUP($CH49,'العاملين '!$A$3:$AU$260,47),0))","v":0},{"$f":"IF($CH49>0,VLOOKUP($CH49,'العاملين '!$A$3:$AR$260,30),0)","v":0},{"$f":"IF($CH49>0,VLOOKUP($CH49,'العاملين '!$A$3:$AR$260,31),0)","v":0},null,{"$f":"IF($CH49>0,VLOOKUP($CH49,'العاملين '!$A$3:$AR$260,33),0)","v":0},{"$f":"IF($CH49>0,VLOOKUP($CH49,'العاملين '!$A$3:$AR$260,34),0)","v":0},{"$f":"IF($CH49>0,VLOOKUP($CH49,'العاملين '!$A$3:$AR$260,35),0)","v":0},{"$f":"IF($CH49>0,VLOOKUP($CH49,'العاملين '!$A$3:$AR$260,36),0)","v":0},{"$f":"IF($CH49>0,VLOOKUP($CH49,'العاملين '!$A$3:$AR$260,37),0)","v":0},{"$f":"IF($CH49>0,VLOOKUP($CH49,'العاملين '!$A$3:$AR$260,38),0)","v":0},{"$f":"IF($CH49>0,VLOOKUP($CH49,'العاملين '!$A$3:$AR$260,39),0)","v":0},{"$f":"IF($CH49>0,VLOOKUP($CH49,'العاملين '!$A$3:$AR$260,40),0)","v":0},{"$f":"IF($CH49>0,VLOOKUP($CH49,'العاملين '!$A$3:$AR$260,41),0)","v":0},0,0,0,{"$f":"IF($CH49>0,VLOOKUP($CH49,'العاملين '!$A$3:$AR$260,2),0)","v":0},0,null,{"$f":"IF($CH49>0,VLOOKUP($CH49,'العاملين '!$A$3:$AR$260,3),0)","v":0},{"$f":"IF($CH49>0,VLOOKUP($CH49,'العاملين '!$A$3:$AR$260,43),0)","v":0},0]
[11,{"$f":"IF($CH50>0,VLOOKUP($CH50,'العاملين '!$A$3:$AR$260,8),0)","v":0}," "," "," "," "," ",{"$f":"IF($CH50>0,VLOOKUP($CH50,'العاملين '!$A$3:$AR$260,9),0)","v":0},{"$f":"IF($CH50>0,VLOOKUP($CH50,'العاملين '!$A$3:$AR$260,10),0)","v":0},{"$f":"IF($CH50>0,VLOOKUP($CH50,'العاملين '!$A$3:$AR$260,11),0)","v":0},{"$f":"IF($CH50>0,VLOOKUP($CH50,'العاملين '!$A$3:$AR$260,12),0)","v":0},{"$f":"IF($CH50>0,VLOOKUP($CH50,'العاملين '!$A$3:$AR$260,13),0)","v":0},0,{"$f":"IF($CH50>0,VLOOKUP($CH50,'العاملين '!$A$3:$AR$260,14),0)","v":0},{"$f":"IF($CH50>0,VLOOKUP($CH50,'العاملين '!$A$3:$AR$260,15),0)","v":0},{"$f":"IF($CH50>0,VLOOKUP($CH50,'العاملين '!$A$3:$AR$260,16),0)","v":0},{"$f":"IF($CH50>0,VLOOKUP($CH50,'العاملين '!$A$3:$AR$260,17),0)","v":0},{"$f":"IF($CH50>0,VLOOKUP($CH50,'العاملين '!$A$3:$AR$260,18),0)","v":0},{"$f":"IF($CH50>0,VLOOKUP($CH50,'العاملين '!$A$3:$AR$260,19),0)","v":0},{"$f":"IF($CH50>0,VLOOKUP($CH50,'العاملين '!$A$3:$AR$260,20),0)","v":0},{"$f":"IF($CH50>0,VLOOKUP($CH50,'العاملين '!$A$3:$AR$260,21),0)","v":0},{"$f":"IF($CH50>0,VLOOKUP($CH50,'العاملين '!$A$3:$AR$260,22),0)","v":0},{"$f":"IF($CH50>0,VLOOKUP($CH50,'العاملين '!$A$3:$AR$260,23),0)","v":0},{"$f":"IF($CH50>0,VLOOKUP($CH50,'العاملين '!$A$3:$AR$260,24),0)","v":0},{"$f":"IF($CH50>0,VLOOKUP($CH50,'العاملين '!$A$3:$AR$260,26),0)","v":0},null,null,null,null,null,null,null,null,null,null,null,null,null,null,{"$f":"IF($CH50>0,VLOOKUP($CH50,'العاملين '!$A$3:$AR$260,25),0)","v":0},0,0,0,0,0,0,0,"",{"$f":"IF($CH50>0,VLOOKUP($CH50,'العاملين '!$A$3:$AR$260,28),0)","v":0},0," "," "," ",null," "," "," "," ",0,0,0,0,0,{"$f":"IF($CJ50=1,ROUND(($B50)*7%,2),IF($CJ50=2,VLOOKUP($CH50,'العاملين '!$A$3:$AS$260,44),0))","v":0},{"$f":"IF($CJ50=1,0.5,IF($CJ50=2,VLOOKUP($CH50,'العاملين '!$A$3:$AS$260,45),0))","v":0},{"$f":"IF($CJ50=1,4.5,IF($CJ50=2,VLOOKUP($CH50,'العاملين '!$A$3:$AS$260,46),0))","v":0},{"$f":"IF($CH50>0,VLOOKUP($CH50,'العاملين '!$A$3:$AR$260,29),0)","v":0},{"$f":"IF($CJ50=1,0.2,IF($CJ50=2,VLOOKUP($CH50,'العاملين '!$A$3:$AU$260,47),0))","v":0},{"$f":"IF($CJ50=1,0.05,IF($CJ50=2,VLOOKUP($CH50,'العاملين '!$A$3:$AU$260,47),0))","v":0},{"$f":"IF($CH50>0,VLOOKUP($CH50,'العاملين '!$A$3:$AR$260,30),0)","v":0},{"$f":"IF($CH50>0,VLOOKUP($CH50,'العاملين '!$A$3:$AR$260,31),0)","v":0},null,{"$f":"IF($CH50>0,VLOOKUP($CH50,'العاملين '!$A$3:$AR$260,33),0)","v":0},{"$f":"IF($CH50>0,VLOOKUP($CH50,'العاملين '!$A$3:$AR$260,34),0)","v":0},{"$f":"IF($CH50>0,VLOOKUP($CH50,'العاملين '!$A$3:$AR$260,35),0)","v":0},{"$f":"IF($CH50>0,VLOOKUP($CH50,'العاملين '!$A$3:$AR$260,36),0)","v":0},{"$f":"IF($CH50>0,VLOOKUP($CH50,'العاملين '!$A$3:$AR$260,37),0)","v":0},{"$f":"IF($CH50>0,VLOOKUP($CH50,'العاملين '!$A$3:$AR$260,38),0)","v":0},{"$f":"IF($CH50>0,VLOOKUP($CH50,'العاملين '!$A$3:$AR$260,39),0)","v":0},{"$f":"IF($CH50>0,VLOOKUP($CH50,'العاملين '!$A$3:$AR$260,40),0)","v":0},{"$f":"IF($CH50>0,VLOOKUP($CH50,'العاملين '!$A$3:$AR$260,41),0)","v":0},0,0,0,{"$f":"IF($CH50>0,VLOOKUP($CH50,'العاملين '!$A$3:$AR$260,2),0)","v":0},0,null,{"$f":"IF($CH50>0,VLOOKUP($CH50,'العاملين '!$A$3:$AR$260,3),0)","v":0},{"$f":"IF($CH50>0,VLOOKUP($CH50,'العاملين '!$A$3:$AR$260,43),0)","v":0},0]
[12,{"$f":"IF($CH51>0,VLOOKUP($CH51,'العاملين '!$A$3:$AR$260,8),0)","v":0}," "," "," "," "," ",{"$f":"IF($CH51>0,VLOOKUP($CH51,'العاملين '!$A$3:$AR$260,9),0)","v":0},{"$f":"IF($CH51>0,VLOOKUP($CH51,'العاملين '!$A$3:$AR$260,10),0)","v":0},{"$f":"IF($CH51>0,VLOOKUP($CH51,'العاملين '!$A$3:$AR$260,11),0)","v":0},{"$f":"IF($CH51>0,VLOOKUP($CH51,'العاملين '!$A$3:$AR$260,12),0)","v":0},{"$f":"IF($CH51>0,VLOOKUP($CH51,'العاملين '!$A$3:$AR$260,13),0)","v":0},0,{"$f":"IF($CH51>0,VLOOKUP($CH51,'العاملين '!$A$3:$AR$260,14),0)","v":0},{"$f":"IF($CH51>0,VLOOKUP($CH51,'العاملين '!$A$3:$AR$260,15),0)","v":0},{"$f":"IF($CH51>0,VLOOKUP($CH51,'العاملين '!$A$3:$AR$260,16),0)","v":0},{"$f":"IF($CH51>0,VLOOKUP($CH51,'العاملين '!$A$3:$AR$260,17),0)","v":0},{"$f":"IF($CH51>0,VLOOKUP($CH51,'العاملين '!$A$3:$AR$260,18),0)","v":0},{"$f":"IF($CH51>0,VLOOKUP($CH51,'العاملين '!$A$3:$AR$260,19),0)","v":0},{"$f":"IF($CH51>0,VLOOKUP($CH51,'العاملين '!$A$3:$AR$260,20),0)","v":0},{"$f":"IF($CH51>0,VLOOKUP($CH51,'العاملين '!$A$3:$AR$260,21),0)","v":0},{"$f":"IF($CH51>0,VLOOKUP($CH51,'العاملين '!$A$3:$AR$260,22),0)","v":0},{"$f":"IF($CH51>0,VLOOKUP($CH51,'العاملين '!$A$3:$AR$260,23),0)","v":0},{"$f":"IF($CH51>0,VLOOKUP($CH51,'العاملين '!$A$3:$AR$260,24),0)","v":0},{"$f":"IF($CH51>0,VLOOKUP($CH51,'العاملين '!$A$3:$AR$260,26),0)","v":0},null,null,null,null,null,null,null,null,null,null,null,null,null,null,{"$f":"IF($CH51>0,VLOOKUP($CH51,'العاملين '!$A$3:$AR$260,25),0)","v":0},0,0,0,0,0,0,0,"",{"$f":"IF($CH51>0,VLOOKUP($CH51,'العاملين '!$A$3:$AR$260,28),0)","v":0},0," "," "," ",null," "," "," "," ",0,0,0,0,0,{"$f":"IF($CJ51=1,ROUND(($B51)*7%,2),IF($CJ51=2,VLOOKUP($CH51,'العاملين '!$A$3:$AS$260,44),0))","v":0},{"$f":"IF($CJ51=1,0.5,IF($CJ51=2,VLOOKUP($CH51,'العاملين '!$A$3:$AS$260,45),0))","v":0},{"$f":"IF($CJ51=1,4.5,IF($CJ51=2,VLOOKUP($CH51,'العاملين '!$A$3:$AS$260,46),0))","v":0},{"$f":"IF($CH51>0,VLOOKUP($CH51,'العاملين '!$A$3:$AR$260,29),0)","v":0},{"$f":"IF($CJ51=1,0.2,IF($CJ51=2,VLOOKUP($CH51,'العاملين '!$A$3:$AU$260,47),0))","v":0},{"$f":"IF($CJ51=1,0.05,IF($CJ51=2,VLOOKUP($CH51,'العاملين '!$A$3:$AU$260,47),0))","v":0},{"$f":"IF($CH51>0,VLOOKUP($CH51,'العاملين '!$A$3:$AR$260,30),0)","v":0},{"$f":"IF($CH51>0,VLOOKUP($CH51,'العاملين '!$A$3:$AR$260,31),0)","v":0},null,{"$f":"IF($CH51>0,VLOOKUP($CH51,'العاملين '!$A$3:$AR$260,33),0)","v":0},{"$f":"IF($CH51>0,VLOOKUP($CH51,'العاملين '!$A$3:$AR$260,34),0)","v":0},{"$f":"IF($CH51>0,VLOOKUP($CH51,'العاملين '!$A$3:$AR$260,35),0)","v":0},{"$f":"IF($CH51>0,VLOOKUP($CH51,'العاملين '!$A$3:$AR$260,36),0)","v":0},{"$f":"IF($CH51>0,VLOOKUP($CH51,'العاملين '!$A$3:$AR$260,37),0)","v":0},{"$f":"IF($CH51>0,VLOOKUP($CH51,'العاملين '!$A$3:$AR$260,38),0)","v":0},{"$f":"IF($CH51>0,VLOOKUP($CH51,'العاملين '!$A$3:$AR$260,39),0)","v":0},{"$f":"IF($CH51>0,VLOOKUP($CH51,'العاملين '!$A$3:$AR$260,40),0)","v":0},{"$f":"IF($CH51>0,VLOOKUP($CH51,'العاملين '!$A$3:$AR$260,41),0)","v":0},0,0,0,{"$f":"IF($CH51>0,VLOOKUP($CH51,'العاملين '!$A$3:$AR$260,2),0)","v":0},0,null,{"$f":"IF($CH51>0,VLOOKUP($CH51,'العاملين '!$A$3:$AR$260,3),0)","v":0},{"$f":"IF($CH51>0,VLOOKUP($CH51,'العاملين '!$A$3:$AR$260,43),0)","v":0},0]
[13,{"$f":"IF($CH52>0,VLOOKUP($CH52,'العاملين '!$A$3:$AR$260,8),0)","v":0}," "," "," "," "," ",{"$f":"IF($CH52>0,VLOOKUP($CH52,'العاملين '!$A$3:$AR$260,9),0)","v":0},{"$f":"IF($CH52>0,VLOOKUP($CH52,'العاملين '!$A$3:$AR$260,10),0)","v":0},{"$f":"IF($CH52>0,VLOOKUP($CH52,'العاملين '!$A$3:$AR$260,11),0)","v":0},{"$f":"IF($CH52>0,VLOOKUP($CH52,'العاملين '!$A$3:$AR$260,12),0)","v":0},{"$f":"IF($CH52>0,VLOOKUP($CH52,'العاملين '!$A$3:$AR$260,13),0)","v":0},0,{"$f":"IF($CH52>0,VLOOKUP($CH52,'العاملين '!$A$3:$AR$260,14),0)","v":0},{"$f":"IF($CH52>0,VLOOKUP($CH52,'العاملين '!$A$3:$AR$260,15),0)","v":0},{"$f":"IF($CH52>0,VLOOKUP($CH52,'العاملين '!$A$3:$AR$260,16),0)","v":0},{"$f":"IF($CH52>0,VLOOKUP($CH52,'العاملين '!$A$3:$AR$260,17),0)","v":0},{"$f":"IF($CH52>0,VLOOKUP($CH52,'العاملين '!$A$3:$AR$260,18),0)","v":0},{"$f":"IF($CH52>0,VLOOKUP($CH52,'العاملين '!$A$3:$AR$260,19),0)","v":0},{"$f":"IF($CH52>0,VLOOKUP($CH52,'العاملين '!$A$3:$AR$260,20),0)","v":0},{"$f":"IF($CH52>0,VLOOKUP($CH52,'العاملين '!$A$3:$AR$260,21),0)","v":0},{"$f":"IF($CH52>0,VLOOKUP($CH52,'العاملين '!$A$3:$AR$260,22),0)","v":0},{"$f":"IF($CH52>0,VLOOKUP($CH52,'العاملين '!$A$3:$AR$260,23),0)","v":0},{"$f":"IF($CH52>0,VLOOKUP($CH52,'العاملين '!$A$3:$AR$260,24),0)","v":0},{"$f":"IF($CH52>0,VLOOKUP($CH52,'العاملين '!$A$3:$AR$260,26),0)","v":0},null,null,null,null,null,null,null,null,null,null,null,null,null,null,{"$f":"IF($CH52>0,VLOOKUP($CH52,'العاملين '!$A$3:$AR$260,25),0)","v":0},0,0,0,0,0,0,0,"",{"$f":"IF($CH52>0,VLOOKUP($CH52,'العاملين '!$A$3:$AR$260,28),0)","v":0},0," "," "," ",null," "," "," "," ",0,0,0,0,0,{"$f":"IF($CJ52=1,ROUND(($B52)*7%,2),IF($CJ52=2,VLOOKUP($CH52,'العاملين '!$A$3:$AS$260,44),0))","v":0},{"$f":"IF($CJ52=1,0.5,IF($CJ52=2,VLOOKUP($CH52,'العاملين '!$A$3:$AS$260,45),0))","v":0},{"$f":"IF($CJ52=1,4.5,IF($CJ52=2,VLOOKUP($CH52,'العاملين '!$A$3:$AS$260,46),0))","v":0},{"$f":"IF($CH52>0,VLOOKUP($CH52,'العاملين '!$A$3:$AR$260,29),0)","v":0},{"$f":"IF($CJ52=1,0.2,IF($CJ52=2,VLOOKUP($CH52,'العاملين '!$A$3:$AU$260,47),0))","v":0},{"$f":"IF($CJ52=1,0.05,IF($CJ52=2,VLOOKUP($CH52,'العاملين '!$A$3:$AU$260,47),0))","v":0},{"$f":"IF($CH52>0,VLOOKUP($CH52,'العاملين '!$A$3:$AR$260,30),0)","v":0},{"$f":"IF($CH52>0,VLOOKUP($CH52,'العاملين '!$A$3:$AR$260,31),0)","v":0},null,{"$f":"IF($CH52>0,VLOOKUP($CH52,'العاملين '!$A$3:$AR$260,33),0)","v":0},{"$f":"IF($CH52>0,VLOOKUP($CH52,'العاملين '!$A$3:$AR$260,34),0)","v":0},{"$f":"IF($CH52>0,VLOOKUP($CH52,'العاملين '!$A$3:$AR$260,35),0)","v":0},{"$f":"IF($CH52>0,VLOOKUP($CH52,'العاملين '!$A$3:$AR$260,36),0)","v":0},{"$f":"IF($CH52>0,VLOOKUP($CH52,'العاملين '!$A$3:$AR$260,37),0)","v":0},{"$f":"IF($CH52>0,VLOOKUP($CH52,'العاملين '!$A$3:$AR$260,38),0)","v":0},{"$f":"IF($CH52>0,VLOOKUP($CH52,'العاملين '!$A$3:$AR$260,39),0)","v":0},{"$f":"IF($CH52>0,VLOOKUP($CH52,'العاملين '!$A$3:$AR$260,40),0)","v":0},{"$f":"IF($CH52>0,VLOOKUP($CH52,'العاملين '!$A$3:$AR$260,41),0)","v":0},0,0,0,{"$f":"IF($CH52>0,VLOOKUP($CH52,'العاملين '!$A$3:$AR$260,2),0)","v":0},0,null,{"$f":"IF($CH52>0,VLOOKUP($CH52,'العاملين '!$A$3:$AR$260,3),0)","v":0},{"$f":"IF($CH52>0,VLOOKUP($CH52,'العاملين '!$A$3:$AR$260,43),0)","v":0},0]
[14,{"$f":"IF($CH53>0,VLOOKUP($CH53,'العاملين '!$A$3:$AR$260,8),0)","v":0}," "," "," "," "," ",{"$f":"IF($CH53>0,VLOOKUP($CH53,'العاملين '!$A$3:$AR$260,9),0)","v":0},{"$f":"IF($CH53>0,VLOOKUP($CH53,'العاملين '!$A$3:$AR$260,10),0)","v":0},{"$f":"IF($CH53>0,VLOOKUP($CH53,'العاملين '!$A$3:$AR$260,11),0)","v":0},{"$f":"IF($CH53>0,VLOOKUP($CH53,'العاملين '!$A$3:$AR$260,12),0)","v":0},{"$f":"IF($CH53>0,VLOOKUP($CH53,'العاملين '!$A$3:$AR$260,13),0)","v":0},0,{"$f":"IF($CH53>0,VLOOKUP($CH53,'العاملين '!$A$3:$AR$260,14),0)","v":0},{"$f":"IF($CH53>0,VLOOKUP($CH53,'العاملين '!$A$3:$AR$260,15),0)","v":0},{"$f":"IF($CH53>0,VLOOKUP($CH53,'العاملين '!$A$3:$AR$260,16),0)","v":0},{"$f":"IF($CH53>0,VLOOKUP($CH53,'العاملين '!$A$3:$AR$260,17),0)","v":0},{"$f":"IF($CH53>0,VLOOKUP($CH53,'العاملين '!$A$3:$AR$260,18),0)","v":0},{"$f":"IF($CH53>0,VLOOKUP($CH53,'العاملين '!$A$3:$AR$260,19),0)","v":0},{"$f":"IF($CH53>0,VLOOKUP($CH53,'العاملين '!$A$3:$AR$260,20),0)","v":0},{"$f":"IF($CH53>0,VLOOKUP($CH53,'العاملين '!$A$3:$AR$260,21),0)","v":0},{"$f":"IF($CH53>0,VLOOKUP($CH53,'العاملين '!$A$3:$AR$260,22),0)","v":0},{"$f":"IF($CH53>0,VLOOKUP($CH53,'العاملين '!$A$3:$AR$260,23),0)","v":0},{"$f":"IF($CH53>0,VLOOKUP($CH53,'العاملين '!$A$3:$AR$260,24),0)","v":0},{"$f":"IF($CH53>0,VLOOKUP($CH53,'العاملين '!$A$3:$AR$260,26),0)","v":0},null,null,null,null,null,null,null,null,null,null,null,null,null,null,{"$f":"IF($CH53>0,VLOOKUP($CH53,'العاملين '!$A$3:$AR$260,25),0)","v":0},0,0,0,0,0,0,0,"",{"$f":"IF($CH53>0,VLOOKUP($CH53,'العاملين '!$A$3:$AR$260,28),0)","v":0},0," "," "," ",null," "," "," "," ",0,0,0,0,0,{"$f":"IF($CJ53=1,ROUND(($B53)*7%,2),IF($CJ53=2,VLOOKUP($CH53,'العاملين '!$A$3:$AS$260,44),0))","v":0},{"$f":"IF($CJ53=1,0.5,IF($CJ53=2,VLOOKUP($CH53,'العاملين '!$A$3:$AS$260,45),0))","v":0},{"$f":"IF($CJ53=1,4.5,IF($CJ53=2,VLOOKUP($CH53,'العاملين '!$A$3:$AS$260,46),0))","v":0},{"$f":"IF($CH53>0,VLOOKUP($CH53,'العاملين '!$A$3:$AR$260,29),0)","v":0},{"$f":"IF($CJ53=1,0.2,IF($CJ53=2,VLOOKUP($CH53,'العاملين '!$A$3:$AU$260,47),0))","v":0},{"$f":"IF($CJ53=1,0.05,IF($CJ53=2,VLOOKUP($CH53,'العاملين '!$A$3:$AU$260,47),0))","v":0},{"$f":"IF($CH53>0,VLOOKUP($CH53,'العاملين '!$A$3:$AR$260,30),0)","v":0},{"$f":"IF($CH53>0,VLOOKUP($CH53,'العاملين '!$A$3:$AR$260,31),0)","v":0},null,{"$f":"IF($CH53>0,VLOOKUP($CH53,'العاملين '!$A$3:$AR$260,33),0)","v":0},{"$f":"IF($CH53>0,VLOOKUP($CH53,'العاملين '!$A$3:$AR$260,34),0)","v":0},{"$f":"IF($CH53>0,VLOOKUP($CH53,'العاملين '!$A$3:$AR$260,35),0)","v":0},{"$f":"IF($CH53>0,VLOOKUP($CH53,'العاملين '!$A$3:$AR$260,36),0)","v":0},{"$f":"IF($CH53>0,VLOOKUP($CH53,'العاملين '!$A$3:$AR$260,37),0)","v":0},{"$f":"IF($CH53>0,VLOOKUP($CH53,'العاملين '!$A$3:$AR$260,38),0)","v":0},{"$f":"IF($CH53>0,VLOOKUP($CH53,'العاملين '!$A$3:$AR$260,39),0)","v":0},{"$f":"IF($CH53>0,VLOOKUP($CH53,'العاملين '!$A$3:$AR$260,40),0)","v":0},{"$f":"IF($CH53>0,VLOOKUP($CH53,'العاملين '!$A$3:$AR$260,41),0)","v":0},0,0,0,{"$f":"IF($CH53>0,VLOOKUP($CH53,'العاملين '!$A$3:$AR$260,2),0)","v":0},0,null,{"$f":"IF($CH53>0,VLOOKUP($CH53,'العاملين '!$A$3:$AR$260,3),0)","v":0},{"$f":"IF($CH53>0,VLOOKUP($CH53,'العاملين '!$A$3:$AR$260,43),0)","v":0},0]
[15,{"$f":"IF($CH54>0,VLOOKUP($CH54,'العاملين '!$A$3:$AR$260,8),0)","v":0}," "," "," "," "," ",{"$f":"IF($CH54>0,VLOOKUP($CH54,'العاملين '!$A$3:$AR$260,9),0)","v":0},{"$f":"IF($CH54>0,VLOOKUP($CH54,'العاملين '!$A$3:$AR$260,10),0)","v":0},{"$f":"IF($CH54>0,VLOOKUP($CH54,'العاملين '!$A$3:$AR$260,11),0)","v":0},{"$f":"IF($CH54>0,VLOOKUP($CH54,'العاملين '!$A$3:$AR$260,12),0)","v":0},{"$f":"IF($CH54>0,VLOOKUP($CH54,'العاملين '!$A$3:$AR$260,13),0)","v":0},0,{"$f":"IF($CH54>0,VLOOKUP($CH54,'العاملين '!$A$3:$AR$260,14),0)","v":0},{"$f":"IF($CH54>0,VLOOKUP($CH54,'العاملين '!$A$3:$AR$260,15),0)","v":0},{"$f":"IF($CH54>0,VLOOKUP($CH54,'العاملين '!$A$3:$AR$260,16),0)","v":0},{"$f":"IF($CH54>0,VLOOKUP($CH54,'العاملين '!$A$3:$AR$260,17),0)","v":0},{"$f":"IF($CH54>0,VLOOKUP($CH54,'العاملين '!$A$3:$AR$260,18),0)","v":0},{"$f":"IF($CH54>0,VLOOKUP($CH54,'العاملين '!$A$3:$AR$260,19),0)","v":0},{"$f":"IF($CH54>0,VLOOKUP($CH54,'العاملين '!$A$3:$AR$260,20),0)","v":0},{"$f":"IF($CH54>0,VLOOKUP($CH54,'العاملين '!$A$3:$AR$260,21),0)","v":0},{"$f":"IF($CH54>0,VLOOKUP($CH54,'العاملين '!$A$3:$AR$260,22),0)","v":0},{"$f":"IF($CH54>0,VLOOKUP($CH54,'العاملين '!$A$3:$AR$260,23),0)","v":0},{"$f":"IF($CH54>0,VLOOKUP($CH54,'العاملين '!$A$3:$AR$260,24),0)","v":0},{"$f":"IF($CH54>0,VLOOKUP($CH54,'العاملين '!$A$3:$AR$260,26),0)","v":0},null,null,null,null,null,null,null,null,null,null,null,null,null,null,{"$f":"IF($CH54>0,VLOOKUP($CH54,'العاملين '!$A$3:$AR$260,25),0)","v":0},0,0,0,0,0,0,0,"",{"$f":"IF($CH54>0,VLOOKUP($CH54,'العاملين '!$A$3:$AR$260,28),0)","v":0},0," "," "," ",null," "," "," "," ",0,0,0,0,0,{"$f":"IF($CJ54=1,ROUND(($B54)*7%,2),IF($CJ54=2,VLOOKUP($CH54,'العاملين '!$A$3:$AS$260,44),0))","v":0},{"$f":"IF($CJ54=1,0.5,IF($CJ54=2,VLOOKUP($CH54,'العاملين '!$A$3:$AS$260,45),0))","v":0},{"$f":"IF($CJ54=1,4.5,IF($CJ54=2,VLOOKUP($CH54,'العاملين '!$A$3:$AS$260,46),0))","v":0},{"$f":"IF($CH54>0,VLOOKUP($CH54,'العاملين '!$A$3:$AR$260,29),0)","v":0},{"$f":"IF($CJ54=1,0.2,IF($CJ54=2,VLOOKUP($CH54,'العاملين '!$A$3:$AU$260,47),0))","v":0},{"$f":"IF($CJ54=1,0.05,IF($CJ54=2,VLOOKUP($CH54,'العاملين '!$A$3:$AU$260,47),0))","v":0},{"$f":"IF($CH54>0,VLOOKUP($CH54,'العاملين '!$A$3:$AR$260,30),0)","v":0},{"$f":"IF($CH54>0,VLOOKUP($CH54,'العاملين '!$A$3:$AR$260,31),0)","v":0},null,{"$f":"IF($CH54>0,VLOOKUP($CH54,'العاملين '!$A$3:$AR$260,33),0)","v":0},{"$f":"IF($CH54>0,VLOOKUP($CH54,'العاملين '!$A$3:$AR$260,34),0)","v":0},{"$f":"IF($CH54>0,VLOOKUP($CH54,'العاملين '!$A$3:$AR$260,35),0)","v":0},{"$f":"IF($CH54>0,VLOOKUP($CH54,'العاملين '!$A$3:$AR$260,36),0)","v":0},{"$f":"IF($CH54>0,VLOOKUP($CH54,'العاملين '!$A$3:$AR$260,37),0)","v":0},{"$f":"IF($CH54>0,VLOOKUP($CH54,'العاملين '!$A$3:$AR$260,38),0)","v":0},{"$f":"IF($CH54>0,VLOOKUP($CH54,'العاملين '!$A$3:$AR$260,39),0)","v":0},{"$f":"IF($CH54>0,VLOOKUP($CH54,'العاملين '!$A$3:$AR$260,40),0)","v":0},{"$f":"IF($CH54>0,VLOOKUP($CH54,'العاملين '!$A$3:$AR$260,41),0)","v":0},0,0,0,{"$f":"IF($CH54>0,VLOOKUP($CH54,'العاملين '!$A$3:$AR$260,2),0)","v":0},0,null,{"$f":"IF($CH54>0,VLOOKUP($CH54,'العاملين '!$A$3:$AR$260,3),0)","v":0},{"$f":"IF($CH54>0,VLOOKUP($CH54,'العاملين '!$A$3:$AR$260,43),0)","v":0},0]
[16,{"$f":"IF($CH55>0,VLOOKUP($CH55,'العاملين '!$A$3:$AR$260,8),0)","v":0}," "," "," "," "," ",{"$f":"IF($CH55>0,VLOOKUP($CH55,'العاملين '!$A$3:$AR$260,9),0)","v":0},{"$f":"IF($CH55>0,VLOOKUP($CH55,'العاملين '!$A$3:$AR$260,10),0)","v":0},{"$f":"IF($CH55>0,VLOOKUP($CH55,'العاملين '!$A$3:$AR$260,11),0)","v":0},{"$f":"IF($CH55>0,VLOOKUP($CH55,'العاملين '!$A$3:$AR$260,12),0)","v":0},{"$f":"IF($CH55>0,VLOOKUP($CH55,'العاملين '!$A$3:$AR$260,13),0)","v":0},0,{"$f":"IF($CH55>0,VLOOKUP($CH55,'العاملين '!$A$3:$AR$260,14),0)","v":0},{"$f":"IF($CH55>0,VLOOKUP($CH55,'العاملين '!$A$3:$AR$260,15),0)","v":0},{"$f":"IF($CH55>0,VLOOKUP($CH55,'العاملين '!$A$3:$AR$260,16),0)","v":0},{"$f":"IF($CH55>0,VLOOKUP($CH55,'العاملين '!$A$3:$AR$260,17),0)","v":0},{"$f":"IF($CH55>0,VLOOKUP($CH55,'العاملين '!$A$3:$AR$260,18),0)","v":0},{"$f":"IF($CH55>0,VLOOKUP($CH55,'العاملين '!$A$3:$AR$260,19),0)","v":0},{"$f":"IF($CH55>0,VLOOKUP($CH55,'العاملين '!$A$3:$AR$260,20),0)","v":0},{"$f":"IF($CH55>0,VLOOKUP($CH55,'العاملين '!$A$3:$AR$260,21),0)","v":0},{"$f":"IF($CH55>0,VLOOKUP($CH55,'العاملين '!$A$3:$AR$260,22),0)","v":0},{"$f":"IF($CH55>0,VLOOKUP($CH55,'العاملين '!$A$3:$AR$260,23),0)","v":0},{"$f":"IF($CH55>0,VLOOKUP($CH55,'العاملين '!$A$3:$AR$260,24),0)","v":0},{"$f":"IF($CH55>0,VLOOKUP($CH55,'العاملين '!$A$3:$AR$260,26),0)","v":0},null,null,null,null,null,null,null,null,null,null,null,null,null,null,{"$f":"IF($CH55>0,VLOOKUP($CH55,'العاملين '!$A$3:$AR$260,25),0)","v":0},0,0,0,0,0,0,0,"",{"$f":"IF($CH55>0,VLOOKUP($CH55,'العاملين '!$A$3:$AR$260,28),0)","v":0},0," "," "," ",null," "," "," "," ",0,0,0,0,0,{"$f":"IF($CJ55=1,ROUND(($B55)*7%,2),IF($CJ55=2,VLOOKUP($CH55,'العاملين '!$A$3:$AS$260,44),0))","v":0},{"$f":"IF($CJ55=1,0.5,IF($CJ55=2,VLOOKUP($CH55,'العاملين '!$A$3:$AS$260,45),0))","v":0},{"$f":"IF($CJ55=1,4.5,IF($CJ55=2,VLOOKUP($CH55,'العاملين '!$A$3:$AS$260,46),0))","v":0},{"$f":"IF($CH55>0,VLOOKUP($CH55,'العاملين '!$A$3:$AR$260,29),0)","v":0},{"$f":"IF($CJ55=1,0.2,IF($CJ55=2,VLOOKUP($CH55,'العاملين '!$A$3:$AU$260,47),0))","v":0},{"$f":"IF($CJ55=1,0.05,IF($CJ55=2,VLOOKUP($CH55,'العاملين '!$A$3:$AU$260,47),0))","v":0},{"$f":"IF($CH55>0,VLOOKUP($CH55,'العاملين '!$A$3:$AR$260,30),0)","v":0},{"$f":"IF($CH55>0,VLOOKUP($CH55,'العاملين '!$A$3:$AR$260,31),0)","v":0},null,{"$f":"IF($CH55>0,VLOOKUP($CH55,'العاملين '!$A$3:$AR$260,33),0)","v":0},{"$f":"IF($CH55>0,VLOOKUP($CH55,'العاملين '!$A$3:$AR$260,34),0)","v":0},{"$f":"IF($CH55>0,VLOOKUP($CH55,'العاملين '!$A$3:$AR$260,35),0)","v":0},{"$f":"IF($CH55>0,VLOOKUP($CH55,'العاملين '!$A$3:$AR$260,36),0)","v":0},{"$f":"IF($CH55>0,VLOOKUP($CH55,'العاملين '!$A$3:$AR$260,37),0)","v":0},{"$f":"IF($CH55>0,VLOOKUP($CH55,'العاملين '!$A$3:$AR$260,38),0)","v":0},{"$f":"IF($CH55>0,VLOOKUP($CH55,'العاملين '!$A$3:$AR$260,39),0)","v":0},{"$f":"IF($CH55>0,VLOOKUP($CH55,'العاملين '!$A$3:$AR$260,40),0)","v":0},{"$f":"IF($CH55>0,VLOOKUP($CH55,'العاملين '!$A$3:$AR$260,41),0)","v":0},0,0,0,{"$f":"IF($CH55>0,VLOOKUP($CH55,'العاملين '!$A$3:$AR$260,2),0)","v":0},0,null,{"$f":"IF($CH55>0,VLOOKUP($CH55,'العاملين '!$A$3:$AR$260,3),0)","v":0},{"$f":"IF($CH55>0,VLOOKUP($CH55,'العاملين '!$A$3:$AR$260,43),0)","v":0},0]
[17,{"$f":"IF($CH56>0,VLOOKUP($CH56,'العاملين '!$A$3:$AR$260,8),0)","v":0}," "," "," "," "," ",{"$f":"IF($CH56>0,VLOOKUP($CH56,'العاملين '!$A$3:$AR$260,9),0)","v":0},{"$f":"IF($CH56>0,VLOOKUP($CH56,'العاملين '!$A$3:$AR$260,10),0)","v":0},{"$f":"IF($CH56>0,VLOOKUP($CH56,'العاملين '!$A$3:$AR$260,11),0)","v":0},{"$f":"IF($CH56>0,VLOOKUP($CH56,'العاملين '!$A$3:$AR$260,12),0)","v":0},{"$f":"IF($CH56>0,VLOOKUP($CH56,'العاملين '!$A$3:$AR$260,13),0)","v":0},0,{"$f":"IF($CH56>0,VLOOKUP($CH56,'العاملين '!$A$3:$AR$260,14),0)","v":0},{"$f":"IF($CH56>0,VLOOKUP($CH56,'العاملين '!$A$3:$AR$260,15),0)","v":0},{"$f":"IF($CH56>0,VLOOKUP($CH56,'العاملين '!$A$3:$AR$260,16),0)","v":0},{"$f":"IF($CH56>0,VLOOKUP($CH56,'العاملين '!$A$3:$AR$260,17),0)","v":0},{"$f":"IF($CH56>0,VLOOKUP($CH56,'العاملين '!$A$3:$AR$260,18),0)","v":0},{"$f":"IF($CH56>0,VLOOKUP($CH56,'العاملين '!$A$3:$AR$260,19),0)","v":0},{"$f":"IF($CH56>0,VLOOKUP($CH56,'العاملين '!$A$3:$AR$260,20),0)","v":0},{"$f":"IF($CH56>0,VLOOKUP($CH56,'العاملين '!$A$3:$AR$260,21),0)","v":0},{"$f":"IF($CH56>0,VLOOKUP($CH56,'العاملين '!$A$3:$AR$260,22),0)","v":0},{"$f":"IF($CH56>0,VLOOKUP($CH56,'العاملين '!$A$3:$AR$260,23),0)","v":0},{"$f":"IF($CH56>0,VLOOKUP($CH56,'العاملين '!$A$3:$AR$260,24),0)","v":0},{"$f":"IF($CH56>0,VLOOKUP($CH56,'العاملين '!$A$3:$AR$260,26),0)","v":0},null,null,null,null,null,null,null,null,null,null,null,null,null,null,{"$f":"IF($CH56>0,VLOOKUP($CH56,'العاملين '!$A$3:$AR$260,25),0)","v":0},0,0,0,0,0,0,0,"",{"$f":"IF($CH56>0,VLOOKUP($CH56,'العاملين '!$A$3:$AR$260,28),0)","v":0},0," "," "," ",null," "," "," "," ",0,0,0,0,0,{"$f":"IF($CJ56=1,ROUND(($B56)*7%,2),IF($CJ56=2,VLOOKUP($CH56,'العاملين '!$A$3:$AS$260,44),0))","v":0},{"$f":"IF($CJ56=1,0.5,IF($CJ56=2,VLOOKUP($CH56,'العاملين '!$A$3:$AS$260,45),0))","v":0},{"$f":"IF($CJ56=1,4.5,IF($CJ56=2,VLOOKUP($CH56,'العاملين '!$A$3:$AS$260,46),0))","v":0},{"$f":"IF($CH56>0,VLOOKUP($CH56,'العاملين '!$A$3:$AR$260,29),0)","v":0},{"$f":"IF($CJ56=1,0.2,IF($CJ56=2,VLOOKUP($CH56,'العاملين '!$A$3:$AU$260,47),0))","v":0},{"$f":"IF($CJ56=1,0.05,IF($CJ56=2,VLOOKUP($CH56,'العاملين '!$A$3:$AU$260,47),0))","v":0},{"$f":"IF($CH56>0,VLOOKUP($CH56,'العاملين '!$A$3:$AR$260,30),0)","v":0},{"$f":"IF($CH56>0,VLOOKUP($CH56,'العاملين '!$A$3:$AR$260,31),0)","v":0},null,{"$f":"IF($CH56>0,VLOOKUP($CH56,'العاملين '!$A$3:$AR$260,33),0)","v":0},{"$f":"IF($CH56>0,VLOOKUP($CH56,'العاملين '!$A$3:$AR$260,34),0)","v":0},{"$f":"IF($CH56>0,VLOOKUP($CH56,'العاملين '!$A$3:$AR$260,35),0)","v":0},{"$f":"IF($CH56>0,VLOOKUP($CH56,'العاملين '!$A$3:$AR$260,36),0)","v":0},{"$f":"IF($CH56>0,VLOOKUP($CH56,'العاملين '!$A$3:$AR$260,37),0)","v":0},{"$f":"IF($CH56>0,VLOOKUP($CH56,'العاملين '!$A$3:$AR$260,38),0)","v":0},{"$f":"IF($CH56>0,VLOOKUP($CH56,'العاملين '!$A$3:$AR$260,39),0)","v":0},{"$f":"IF($CH56>0,VLOOKUP($CH56,'العاملين '!$A$3:$AR$260,40),0)","v":0},{"$f":"IF($CH56>0,VLOOKUP($CH56,'العاملين '!$A$3:$AR$260,41),0)","v":0},0,0,0,{"$f":"IF($CH56>0,VLOOKUP($CH56,'العاملين '!$A$3:$AR$260,2),0)","v":0},0,null,{"$f":"IF($CH56>0,VLOOKUP($CH56,'العاملين '!$A$3:$AR$260,3),0)","v":0},{"$f":"IF($CH56>0,VLOOKUP($CH56,'العاملين '!$A$3:$AR$260,43),0)","v":0},0]
[18,{"$f":"IF($CH57>0,VLOOKUP($CH57,'العاملين '!$A$3:$AR$260,8),0)","v":0}," "," "," "," "," ",{"$f":"IF($CH57>0,VLOOKUP($CH57,'العاملين '!$A$3:$AR$260,9),0)","v":0},{"$f":"IF($CH57>0,VLOOKUP($CH57,'العاملين '!$A$3:$AR$260,10),0)","v":0},{"$f":"IF($CH57>0,VLOOKUP($CH57,'العاملين '!$A$3:$AR$260,11),0)","v":0},{"$f":"IF($CH57>0,VLOOKUP($CH57,'العاملين '!$A$3:$AR$260,12),0)","v":0},{"$f":"IF($CH57>0,VLOOKUP($CH57,'العاملين '!$A$3:$AR$260,13),0)","v":0},0,{"$f":"IF($CH57>0,VLOOKUP($CH57,'العاملين '!$A$3:$AR$260,14),0)","v":0},{"$f":"IF($CH57>0,VLOOKUP($CH57,'العاملين '!$A$3:$AR$260,15),0)","v":0},{"$f":"IF($CH57>0,VLOOKUP($CH57,'العاملين '!$A$3:$AR$260,16),0)","v":0},{"$f":"IF($CH57>0,VLOOKUP($CH57,'العاملين '!$A$3:$AR$260,17),0)","v":0},{"$f":"IF($CH57>0,VLOOKUP($CH57,'العاملين '!$A$3:$AR$260,18),0)","v":0},{"$f":"IF($CH57>0,VLOOKUP($CH57,'العاملين '!$A$3:$AR$260,19),0)","v":0},{"$f":"IF($CH57>0,VLOOKUP($CH57,'العاملين '!$A$3:$AR$260,20),0)","v":0},{"$f":"IF($CH57>0,VLOOKUP($CH57,'العاملين '!$A$3:$AR$260,21),0)","v":0},{"$f":"IF($CH57>0,VLOOKUP($CH57,'العاملين '!$A$3:$AR$260,22),0)","v":0},{"$f":"IF($CH57>0,VLOOKUP($CH57,'العاملين '!$A$3:$AR$260,23),0)","v":0},{"$f":"IF($CH57>0,VLOOKUP($CH57,'العاملين '!$A$3:$AR$260,24),0)","v":0},{"$f":"IF($CH57>0,VLOOKUP($CH57,'العاملين '!$A$3:$AR$260,26),0)","v":0},null,null,null,null,null,null,null,null,null,null,null,null,null,null,{"$f":"IF($CH57>0,VLOOKUP($CH57,'العاملين '!$A$3:$AR$260,25),0)","v":0},0,0,0,0,0,0,0,"",{"$f":"IF($CH57>0,VLOOKUP($CH57,'العاملين '!$A$3:$AR$260,28),0)","v":0},0," "," "," ",null," "," "," "," ",0,0,0,0,0,{"$f":"IF($CJ57=1,ROUND(($B57)*7%,2),IF($CJ57=2,VLOOKUP($CH57,'العاملين '!$A$3:$AS$260,44),0))","v":0},{"$f":"IF($CJ57=1,0.5,IF($CJ57=2,VLOOKUP($CH57,'العاملين '!$A$3:$AS$260,45),0))","v":0},{"$f":"IF($CJ57=1,4.5,IF($CJ57=2,VLOOKUP($CH57,'العاملين '!$A$3:$AS$260,46),0))","v":0},{"$f":"IF($CH57>0,VLOOKUP($CH57,'العاملين '!$A$3:$AR$260,29),0)","v":0},{"$f":"IF($CJ57=1,0.2,IF($CJ57=2,VLOOKUP($CH57,'العاملين '!$A$3:$AU$260,47),0))","v":0},{"$f":"IF($CJ57=1,0.05,IF($CJ57=2,VLOOKUP($CH57,'العاملين '!$A$3:$AU$260,47),0))","v":0},{"$f":"IF($CH57>0,VLOOKUP($CH57,'العاملين '!$A$3:$AR$260,30),0)","v":0},{"$f":"IF($CH57>0,VLOOKUP($CH57,'العاملين '!$A$3:$AR$260,31),0)","v":0},null,{"$f":"IF($CH57>0,VLOOKUP($CH57,'العاملين '!$A$3:$AR$260,33),0)","v":0},{"$f":"IF($CH57>0,VLOOKUP($CH57,'العاملين '!$A$3:$AR$260,34),0)","v":0},{"$f":"IF($CH57>0,VLOOKUP($CH57,'العاملين '!$A$3:$AR$260,35),0)","v":0},{"$f":"IF($CH57>0,VLOOKUP($CH57,'العاملين '!$A$3:$AR$260,36),0)","v":0},{"$f":"IF($CH57>0,VLOOKUP($CH57,'العاملين '!$A$3:$AR$260,37),0)","v":0},{"$f":"IF($CH57>0,VLOOKUP($CH57,'العاملين '!$A$3:$AR$260,38),0)","v":0},{"$f":"IF($CH57>0,VLOOKUP($CH57,'العاملين '!$A$3:$AR$260,39),0)","v":0},{"$f":"IF($CH57>0,VLOOKUP($CH57,'العاملين '!$A$3:$AR$260,40),0)","v":0},{"$f":"IF($CH57>0,VLOOKUP($CH57,'العاملين '!$A$3:$AR$260,41),0)","v":0},0,0,0,{"$f":"IF($CH57>0,VLOOKUP($CH57,'العاملين '!$A$3:$AR$260,2),0)","v":0},0,null,{"$f":"IF($CH57>0,VLOOKUP($CH57,'العاملين '!$A$3:$AR$260,3),0)","v":0},{"$f":"IF($CH57>0,VLOOKUP($CH57,'العاملين '!$A$3:$AR$260,43),0)","v":0},0]
[19,{"$f":"IF($CH58>0,VLOOKUP($CH58,'العاملين '!$A$3:$AR$260,8),0)","v":0}," "," "," "," "," ",{"$f":"IF($CH58>0,VLOOKUP($CH58,'العاملين '!$A$3:$AR$260,9),0)","v":0},{"$f":"IF($CH58>0,VLOOKUP($CH58,'العاملين '!$A$3:$AR$260,10),0)","v":0},{"$f":"IF($CH58>0,VLOOKUP($CH58,'العاملين '!$A$3:$AR$260,11),0)","v":0},{"$f":"IF($CH58>0,VLOOKUP($CH58,'العاملين '!$A$3:$AR$260,12),0)","v":0},{"$f":"IF($CH58>0,VLOOKUP($CH58,'العاملين '!$A$3:$AR$260,13),0)","v":0},0,{"$f":"IF($CH58>0,VLOOKUP($CH58,'العاملين '!$A$3:$AR$260,14),0)","v":0},{"$f":"IF($CH58>0,VLOOKUP($CH58,'العاملين '!$A$3:$AR$260,15),0)","v":0},{"$f":"IF($CH58>0,VLOOKUP($CH58,'العاملين '!$A$3:$AR$260,16),0)","v":0},{"$f":"IF($CH58>0,VLOOKUP($CH58,'العاملين '!$A$3:$AR$260,17),0)","v":0},{"$f":"IF($CH58>0,VLOOKUP($CH58,'العاملين '!$A$3:$AR$260,18),0)","v":0},{"$f":"IF($CH58>0,VLOOKUP($CH58,'العاملين '!$A$3:$AR$260,19),0)","v":0},{"$f":"IF($CH58>0,VLOOKUP($CH58,'العاملين '!$A$3:$AR$260,20),0)","v":0},{"$f":"IF($CH58>0,VLOOKUP($CH58,'العاملين '!$A$3:$AR$260,21),0)","v":0},{"$f":"IF($CH58>0,VLOOKUP($CH58,'العاملين '!$A$3:$AR$260,22),0)","v":0},{"$f":"IF($CH58>0,VLOOKUP($CH58,'العاملين '!$A$3:$AR$260,23),0)","v":0},{"$f":"IF($CH58>0,VLOOKUP($CH58,'العاملين '!$A$3:$AR$260,24),0)","v":0},{"$f":"IF($CH58>0,VLOOKUP($CH58,'العاملين '!$A$3:$AR$260,26),0)","v":0},null,null,null,null,null,null,null,null,null,null,null,null,null,null,{"$f":"IF($CH58>0,VLOOKUP($CH58,'العاملين '!$A$3:$AR$260,25),0)","v":0},0,0,0,0,0,0,0,"",{"$f":"IF($CH58>0,VLOOKUP($CH58,'العاملين '!$A$3:$AR$260,28),0)","v":0},0," "," "," ",null," "," "," "," ",0,0,0,0,0,{"$f":"IF($CJ58=1,ROUND(($B58)*7%,2),IF($CJ58=2,VLOOKUP($CH58,'العاملين '!$A$3:$AS$260,44),0))","v":0},{"$f":"IF($CJ58=1,0.5,IF($CJ58=2,VLOOKUP($CH58,'العاملين '!$A$3:$AS$260,45),0))","v":0},{"$f":"IF($CJ58=1,4.5,IF($CJ58=2,VLOOKUP($CH58,'العاملين '!$A$3:$AS$260,46),0))","v":0},{"$f":"IF($CH58>0,VLOOKUP($CH58,'العاملين '!$A$3:$AR$260,29),0)","v":0},{"$f":"IF($CJ58=1,0.2,IF($CJ58=2,VLOOKUP($CH58,'العاملين '!$A$3:$AU$260,47),0))","v":0},{"$f":"IF($CJ58=1,0.05,IF($CJ58=2,VLOOKUP($CH58,'العاملين '!$A$3:$AU$260,47),0))","v":0},{"$f":"IF($CH58>0,VLOOKUP($CH58,'العاملين '!$A$3:$AR$260,30),0)","v":0},{"$f":"IF($CH58>0,VLOOKUP($CH58,'العاملين '!$A$3:$AR$260,31),0)","v":0},null,{"$f":"IF($CH58>0,VLOOKUP($CH58,'العاملين '!$A$3:$AR$260,33),0)","v":0},{"$f":"IF($CH58>0,VLOOKUP($CH58,'العاملين '!$A$3:$AR$260,34),0)","v":0},{"$f":"IF($CH58>0,VLOOKUP($CH58,'العاملين '!$A$3:$AR$260,35),0)","v":0},{"$f":"IF($CH58>0,VLOOKUP($CH58,'العاملين '!$A$3:$AR$260,36),0)","v":0},{"$f":"IF($CH58>0,VLOOKUP($CH58,'العاملين '!$A$3:$AR$260,37),0)","v":0},{"$f":"IF($CH58>0,VLOOKUP($CH58,'العاملين '!$A$3:$AR$260,38),0)","v":0},{"$f":"IF($CH58>0,VLOOKUP($CH58,'العاملين '!$A$3:$AR$260,39),0)","v":0},{"$f":"IF($CH58>0,VLOOKUP($CH58,'العاملين '!$A$3:$AR$260,40),0)","v":0},{"$f":"IF($CH58>0,VLOOKUP($CH58,'العاملين '!$A$3:$AR$260,41),0)","v":0},0,0,0,{"$f":"IF($CH58>0,VLOOKUP($CH58,'العاملين '!$A$3:$AR$260,2),0)","v":0},0,null,{"$f":"IF($CH58>0,VLOOKUP($CH58,'العاملين '!$A$3:$AR$260,3),0)","v":0},{"$f":"IF($CH58>0,VLOOKUP($CH58,'العاملين '!$A$3:$AR$260,43),0)","v":0},0]
[20,{"$f":"IF($CH59>0,VLOOKUP($CH59,'العاملين '!$A$3:$AR$260,8),0)","v":0}," "," "," "," "," ",{"$f":"IF($CH59>0,VLOOKUP($CH59,'العاملين '!$A$3:$AR$260,9),0)","v":0},{"$f":"IF($CH59>0,VLOOKUP($CH59,'العاملين '!$A$3:$AR$260,10),0)","v":0},{"$f":"IF($CH59>0,VLOOKUP($CH59,'العاملين '!$A$3:$AR$260,11),0)","v":0},{"$f":"IF($CH59>0,VLOOKUP($CH59,'العاملين '!$A$3:$AR$260,12),0)","v":0},{"$f":"IF($CH59>0,VLOOKUP($CH59,'العاملين '!$A$3:$AR$260,13),0)","v":0},0,{"$f":"IF($CH59>0,VLOOKUP($CH59,'العاملين '!$A$3:$AR$260,14),0)","v":0},{"$f":"IF($CH59>0,VLOOKUP($CH59,'العاملين '!$A$3:$AR$260,15),0)","v":0},{"$f":"IF($CH59>0,VLOOKUP($CH59,'العاملين '!$A$3:$AR$260,16),0)","v":0},{"$f":"IF($CH59>0,VLOOKUP($CH59,'العاملين '!$A$3:$AR$260,17),0)","v":0},{"$f":"IF($CH59>0,VLOOKUP($CH59,'العاملين '!$A$3:$AR$260,18),0)","v":0},{"$f":"IF($CH59>0,VLOOKUP($CH59,'العاملين '!$A$3:$AR$260,19),0)","v":0},{"$f":"IF($CH59>0,VLOOKUP($CH59,'العاملين '!$A$3:$AR$260,20),0)","v":0},{"$f":"IF($CH59>0,VLOOKUP($CH59,'العاملين '!$A$3:$AR$260,21),0)","v":0},{"$f":"IF($CH59>0,VLOOKUP($CH59,'العاملين '!$A$3:$AR$260,22),0)","v":0},{"$f":"IF($CH59>0,VLOOKUP($CH59,'العاملين '!$A$3:$AR$260,23),0)","v":0},{"$f":"IF($CH59>0,VLOOKUP($CH59,'العاملين '!$A$3:$AR$260,24),0)","v":0},{"$f":"IF($CH59>0,VLOOKUP($CH59,'العاملين '!$A$3:$AR$260,26),0)","v":0},null,null,null,null,null,null,null,null,null,null,null,null,null,null,{"$f":"IF($CH59>0,VLOOKUP($CH59,'العاملين '!$A$3:$AR$260,25),0)","v":0},0,0,0,0,0,0,0,"",{"$f":"IF($CH59>0,VLOOKUP($CH59,'العاملين '!$A$3:$AR$260,28),0)","v":0},0," "," "," ",null," "," "," "," ",0,0,0,0,0,{"$f":"IF($CJ59=1,ROUND(($B59)*7%,2),IF($CJ59=2,VLOOKUP($CH59,'العاملين '!$A$3:$AS$260,44),0))","v":0},{"$f":"IF($CJ59=1,0.5,IF($CJ59=2,VLOOKUP($CH59,'العاملين '!$A$3:$AS$260,45),0))","v":0},{"$f":"IF($CJ59=1,4.5,IF($CJ59=2,VLOOKUP($CH59,'العاملين '!$A$3:$AS$260,46),0))","v":0},{"$f":"IF($CH59>0,VLOOKUP($CH59,'العاملين '!$A$3:$AR$260,29),0)","v":0},{"$f":"IF($CJ59=1,0.2,IF($CJ59=2,VLOOKUP($CH59,'العاملين '!$A$3:$AU$260,47),0))","v":0},{"$f":"IF($CJ59=1,0.05,IF($CJ59=2,VLOOKUP($CH59,'العاملين '!$A$3:$AU$260,47),0))","v":0},{"$f":"IF($CH59>0,VLOOKUP($CH59,'العاملين '!$A$3:$AR$260,30),0)","v":0},{"$f":"IF($CH59>0,VLOOKUP($CH59,'العاملين '!$A$3:$AR$260,31),0)","v":0},null,{"$f":"IF($CH59>0,VLOOKUP($CH59,'العاملين '!$A$3:$AR$260,33),0)","v":0},{"$f":"IF($CH59>0,VLOOKUP($CH59,'العاملين '!$A$3:$AR$260,34),0)","v":0},{"$f":"IF($CH59>0,VLOOKUP($CH59,'العاملين '!$A$3:$AR$260,35),0)","v":0},{"$f":"IF($CH59>0,VLOOKUP($CH59,'العاملين '!$A$3:$AR$260,36),0)","v":0},{"$f":"IF($CH59>0,VLOOKUP($CH59,'العاملين '!$A$3:$AR$260,37),0)","v":0},{"$f":"IF($CH59>0,VLOOKUP($CH59,'العاملين '!$A$3:$AR$260,38),0)","v":0},{"$f":"IF($CH59>0,VLOOKUP($CH59,'العاملين '!$A$3:$AR$260,39),0)","v":0},{"$f":"IF($CH59>0,VLOOKUP($CH59,'العاملين '!$A$3:$AR$260,40),0)","v":0},{"$f":"IF($CH59>0,VLOOKUP($CH59,'العاملين '!$A$3:$AR$260,41),0)","v":0},0,0,0,{"$f":"IF($CH59>0,VLOOKUP($CH59,'العاملين '!$A$3:$AR$260,2),0)","v":0},0,null,{"$f":"IF($CH59>0,VLOOKUP($CH59,'العاملين '!$A$3:$AR$260,3),0)","v":0},{"$f":"IF($CH59>0,VLOOKUP($CH59,'العاملين '!$A$3:$AR$260,43),0)","v":0},0]
[21,{"$f":"IF($CH60>0,VLOOKUP($CH60,'العاملين '!$A$3:$AR$260,8),0)","v":0}," "," "," "," "," ",{"$f":"IF($CH60>0,VLOOKUP($CH60,'العاملين '!$A$3:$AR$260,9),0)","v":0},{"$f":"IF($CH60>0,VLOOKUP($CH60,'العاملين '!$A$3:$AR$260,10),0)","v":0},{"$f":"IF($CH60>0,VLOOKUP($CH60,'العاملين '!$A$3:$AR$260,11),0)","v":0},{"$f":"IF($CH60>0,VLOOKUP($CH60,'العاملين '!$A$3:$AR$260,12),0)","v":0},{"$f":"IF($CH60>0,VLOOKUP($CH60,'العاملين '!$A$3:$AR$260,13),0)","v":0},0,{"$f":"IF($CH60>0,VLOOKUP($CH60,'العاملين '!$A$3:$AR$260,14),0)","v":0},{"$f":"IF($CH60>0,VLOOKUP($CH60,'العاملين '!$A$3:$AR$260,15),0)","v":0},{"$f":"IF($CH60>0,VLOOKUP($CH60,'العاملين '!$A$3:$AR$260,16),0)","v":0},{"$f":"IF($CH60>0,VLOOKUP($CH60,'العاملين '!$A$3:$AR$260,17),0)","v":0},{"$f":"IF($CH60>0,VLOOKUP($CH60,'العاملين '!$A$3:$AR$260,18),0)","v":0},{"$f":"IF($CH60>0,VLOOKUP($CH60,'العاملين '!$A$3:$AR$260,19),0)","v":0},{"$f":"IF($CH60>0,VLOOKUP($CH60,'العاملين '!$A$3:$AR$260,20),0)","v":0},{"$f":"IF($CH60>0,VLOOKUP($CH60,'العاملين '!$A$3:$AR$260,21),0)","v":0},{"$f":"IF($CH60>0,VLOOKUP($CH60,'العاملين '!$A$3:$AR$260,22),0)","v":0},{"$f":"IF($CH60>0,VLOOKUP($CH60,'العاملين '!$A$3:$AR$260,23),0)","v":0},{"$f":"IF($CH60>0,VLOOKUP($CH60,'العاملين '!$A$3:$AR$260,24),0)","v":0},{"$f":"IF($CH60>0,VLOOKUP($CH60,'العاملين '!$A$3:$AR$260,26),0)","v":0},null,null,null,null,null,null,null,null,null,null,null,null,null,null,{"$f":"IF($CH60>0,VLOOKUP($CH60,'العاملين '!$A$3:$AR$260,25),0)","v":0},0,0,0,0,0,0,0,"",{"$f":"IF($CH60>0,VLOOKUP($CH60,'العاملين '!$A$3:$AR$260,28),0)","v":0},0," "," "," ",null," "," "," "," ",0,0,0,0,0,{"$f":"IF($CJ60=1,ROUND(($B60)*7%,2),IF($CJ60=2,VLOOKUP($CH60,'العاملين '!$A$3:$AS$260,44),0))","v":0},{"$f":"IF($CJ60=1,0.5,IF($CJ60=2,VLOOKUP($CH60,'العاملين '!$A$3:$AS$260,45),0))","v":0},{"$f":"IF($CJ60=1,4.5,IF($CJ60=2,VLOOKUP($CH60,'العاملين '!$A$3:$AS$260,46),0))","v":0},{"$f":"IF($CH60>0,VLOOKUP($CH60,'العاملين '!$A$3:$AR$260,29),0)","v":0},{"$f":"IF($CJ60=1,0.2,IF($CJ60=2,VLOOKUP($CH60,'العاملين '!$A$3:$AU$260,47),0))","v":0},{"$f":"IF($CJ60=1,0.05,IF($CJ60=2,VLOOKUP($CH60,'العاملين '!$A$3:$AU$260,47),0))","v":0},{"$f":"IF($CH60>0,VLOOKUP($CH60,'العاملين '!$A$3:$AR$260,30),0)","v":0},{"$f":"IF($CH60>0,VLOOKUP($CH60,'العاملين '!$A$3:$AR$260,31),0)","v":0},null,{"$f":"IF($CH60>0,VLOOKUP($CH60,'العاملين '!$A$3:$AR$260,33),0)","v":0},{"$f":"IF($CH60>0,VLOOKUP($CH60,'العاملين '!$A$3:$AR$260,34),0)","v":0},{"$f":"IF($CH60>0,VLOOKUP($CH60,'العاملين '!$A$3:$AR$260,35),0)","v":0},{"$f":"IF($CH60>0,VLOOKUP($CH60,'العاملين '!$A$3:$AR$260,36),0)","v":0},{"$f":"IF($CH60>0,VLOOKUP($CH60,'العاملين '!$A$3:$AR$260,37),0)","v":0},{"$f":"IF($CH60>0,VLOOKUP($CH60,'العاملين '!$A$3:$AR$260,38),0)","v":0},{"$f":"IF($CH60>0,VLOOKUP($CH60,'العاملين '!$A$3:$AR$260,39),0)","v":0},{"$f":"IF($CH60>0,VLOOKUP($CH60,'العاملين '!$A$3:$AR$260,40),0)","v":0},{"$f":"IF($CH60>0,VLOOKUP($CH60,'العاملين '!$A$3:$AR$260,41),0)","v":0},0,0,0,{"$f":"IF($CH60>0,VLOOKUP($CH60,'العاملين '!$A$3:$AR$260,2),0)","v":0},0,null,{"$f":"IF($CH60>0,VLOOKUP($CH60,'العاملين '!$A$3:$AR$260,3),0)","v":0},{"$f":"IF($CH60>0,VLOOKUP($CH60,'العاملين '!$A$3:$AR$260,43),0)","v":0},0]
[22,{"$f":"IF($CH61>0,VLOOKUP($CH61,'العاملين '!$A$3:$AR$260,8),0)","v":0}," "," "," "," "," ",{"$f":"IF($CH61>0,VLOOKUP($CH61,'العاملين '!$A$3:$AR$260,9),0)","v":0},{"$f":"IF($CH61>0,VLOOKUP($CH61,'العاملين '!$A$3:$AR$260,10),0)","v":0},{"$f":"IF($CH61>0,VLOOKUP($CH61,'العاملين '!$A$3:$AR$260,11),0)","v":0},{"$f":"IF($CH61>0,VLOOKUP($CH61,'العاملين '!$A$3:$AR$260,12),0)","v":0},{"$f":"IF($CH61>0,VLOOKUP($CH61,'العاملين '!$A$3:$AR$260,13),0)","v":0},0,{"$f":"IF($CH61>0,VLOOKUP($CH61,'العاملين '!$A$3:$AR$260,14),0)","v":0},{"$f":"IF($CH61>0,VLOOKUP($CH61,'العاملين '!$A$3:$AR$260,15),0)","v":0},{"$f":"IF($CH61>0,VLOOKUP($CH61,'العاملين '!$A$3:$AR$260,16),0)","v":0},{"$f":"IF($CH61>0,VLOOKUP($CH61,'العاملين '!$A$3:$AR$260,17),0)","v":0},{"$f":"IF($CH61>0,VLOOKUP($CH61,'العاملين '!$A$3:$AR$260,18),0)","v":0},{"$f":"IF($CH61>0,VLOOKUP($CH61,'العاملين '!$A$3:$AR$260,19),0)","v":0},{"$f":"IF($CH61>0,VLOOKUP($CH61,'العاملين '!$A$3:$AR$260,20),0)","v":0},{"$f":"IF($CH61>0,VLOOKUP($CH61,'العاملين '!$A$3:$AR$260,21),0)","v":0},{"$f":"IF($CH61>0,VLOOKUP($CH61,'العاملين '!$A$3:$AR$260,22),0)","v":0},{"$f":"IF($CH61>0,VLOOKUP($CH61,'العاملين '!$A$3:$AR$260,23),0)","v":0},{"$f":"IF($CH61>0,VLOOKUP($CH61,'العاملين '!$A$3:$AR$260,24),0)","v":0},{"$f":"IF($CH61>0,VLOOKUP($CH61,'العاملين '!$A$3:$AR$260,26),0)","v":0},null,null,null,null,null,null,null,null,null,null,null,null,null,null,{"$f":"IF($CH61>0,VLOOKUP($CH61,'العاملين '!$A$3:$AR$260,25),0)","v":0},0,0,0,0,0,0,0,"",{"$f":"IF($CH61>0,VLOOKUP($CH61,'العاملين '!$A$3:$AR$260,28),0)","v":0},0," "," "," ",null," "," "," "," ",0,0,0,0,0,{"$f":"IF($CJ61=1,ROUND(($B61)*7%,2),IF($CJ61=2,VLOOKUP($CH61,'العاملين '!$A$3:$AS$260,44),0))","v":0},{"$f":"IF($CJ61=1,0.5,IF($CJ61=2,VLOOKUP($CH61,'العاملين '!$A$3:$AS$260,45),0))","v":0},{"$f":"IF($CJ61=1,4.5,IF($CJ61=2,VLOOKUP($CH61,'العاملين '!$A$3:$AS$260,46),0))","v":0},{"$f":"IF($CH61>0,VLOOKUP($CH61,'العاملين '!$A$3:$AR$260,29),0)","v":0},{"$f":"IF($CJ61=1,0.2,IF($CJ61=2,VLOOKUP($CH61,'العاملين '!$A$3:$AU$260,47),0))","v":0},{"$f":"IF($CJ61=1,0.05,IF($CJ61=2,VLOOKUP($CH61,'العاملين '!$A$3:$AU$260,47),0))","v":0},{"$f":"IF($CH61>0,VLOOKUP($CH61,'العاملين '!$A$3:$AR$260,30),0)","v":0},{"$f":"IF($CH61>0,VLOOKUP($CH61,'العاملين '!$A$3:$AR$260,31),0)","v":0},null,{"$f":"IF($CH61>0,VLOOKUP($CH61,'العاملين '!$A$3:$AR$260,33),0)","v":0},{"$f":"IF($CH61>0,VLOOKUP($CH61,'العاملين '!$A$3:$AR$260,34),0)","v":0},{"$f":"IF($CH61>0,VLOOKUP($CH61,'العاملين '!$A$3:$AR$260,35),0)","v":0},{"$f":"IF($CH61>0,VLOOKUP($CH61,'العاملين '!$A$3:$AR$260,36),0)","v":0},{"$f":"IF($CH61>0,VLOOKUP($CH61,'العاملين '!$A$3:$AR$260,37),0)","v":0},{"$f":"IF($CH61>0,VLOOKUP($CH61,'العاملين '!$A$3:$AR$260,38),0)","v":0},{"$f":"IF($CH61>0,VLOOKUP($CH61,'العاملين '!$A$3:$AR$260,39),0)","v":0},{"$f":"IF($CH61>0,VLOOKUP($CH61,'العاملين '!$A$3:$AR$260,40),0)","v":0},{"$f":"IF($CH61>0,VLOOKUP($CH61,'العاملين '!$A$3:$AR$260,41),0)","v":0},0,0,0,{"$f":"IF($CH61>0,VLOOKUP($CH61,'العاملين '!$A$3:$AR$260,2),0)","v":0},0,null,{"$f":"IF($CH61>0,VLOOKUP($CH61,'العاملين '!$A$3:$AR$260,3),0)","v":0},{"$f":"IF($CH61>0,VLOOKUP($CH61,'العاملين '!$A$3:$AR$260,43),0)","v":0},0]
[23,{"$f":"IF($CH62>0,VLOOKUP($CH62,'العاملين '!$A$3:$AR$260,8),0)","v":0}," "," "," "," "," ",{"$f":"IF($CH62>0,VLOOKUP($CH62,'العاملين '!$A$3:$AR$260,9),0)","v":0},{"$f":"IF($CH62>0,VLOOKUP($CH62,'العاملين '!$A$3:$AR$260,10),0)","v":0},{"$f":"IF($CH62>0,VLOOKUP($CH62,'العاملين '!$A$3:$AR$260,11),0)","v":0},{"$f":"IF($CH62>0,VLOOKUP($CH62,'العاملين '!$A$3:$AR$260,12),0)","v":0},{"$f":"IF($CH62>0,VLOOKUP($CH62,'العاملين '!$A$3:$AR$260,13),0)","v":0},0,{"$f":"IF($CH62>0,VLOOKUP($CH62,'العاملين '!$A$3:$AR$260,14),0)","v":0},{"$f":"IF($CH62>0,VLOOKUP($CH62,'العاملين '!$A$3:$AR$260,15),0)","v":0},{"$f":"IF($CH62>0,VLOOKUP($CH62,'العاملين '!$A$3:$AR$260,16),0)","v":0},{"$f":"IF($CH62>0,VLOOKUP($CH62,'العاملين '!$A$3:$AR$260,17),0)","v":0},{"$f":"IF($CH62>0,VLOOKUP($CH62,'العاملين '!$A$3:$AR$260,18),0)","v":0},{"$f":"IF($CH62>0,VLOOKUP($CH62,'العاملين '!$A$3:$AR$260,19),0)","v":0},{"$f":"IF($CH62>0,VLOOKUP($CH62,'العاملين '!$A$3:$AR$260,20),0)","v":0},{"$f":"IF($CH62>0,VLOOKUP($CH62,'العاملين '!$A$3:$AR$260,21),0)","v":0},{"$f":"IF($CH62>0,VLOOKUP($CH62,'العاملين '!$A$3:$AR$260,22),0)","v":0},{"$f":"IF($CH62>0,VLOOKUP($CH62,'العاملين '!$A$3:$AR$260,23),0)","v":0},{"$f":"IF($CH62>0,VLOOKUP($CH62,'العاملين '!$A$3:$AR$260,24),0)","v":0},{"$f":"IF($CH62>0,VLOOKUP($CH62,'العاملين '!$A$3:$AR$260,26),0)","v":0},null,null,null,null,null,null,null,null,null,null,null,null,null,null,{"$f":"IF($CH62>0,VLOOKUP($CH62,'العاملين '!$A$3:$AR$260,25),0)","v":0},0,0,0,0,0,0,0,"",{"$f":"IF($CH62>0,VLOOKUP($CH62,'العاملين '!$A$3:$AR$260,28),0)","v":0},0," "," "," ",null," "," "," "," ",0,0,0,0,0,{"$f":"IF($CJ62=1,ROUND(($B62)*7%,2),IF($CJ62=2,VLOOKUP($CH62,'العاملين '!$A$3:$AS$260,44),0))","v":0},{"$f":"IF($CJ62=1,0.5,IF($CJ62=2,VLOOKUP($CH62,'العاملين '!$A$3:$AS$260,45),0))","v":0},{"$f":"IF($CJ62=1,4.5,IF($CJ62=2,VLOOKUP($CH62,'العاملين '!$A$3:$AS$260,46),0))","v":0},{"$f":"IF($CH62>0,VLOOKUP($CH62,'العاملين '!$A$3:$AR$260,29),0)","v":0},{"$f":"IF($CJ62=1,0.2,IF($CJ62=2,VLOOKUP($CH62,'العاملين '!$A$3:$AU$260,47),0))","v":0},{"$f":"IF($CJ62=1,0.05,IF($CJ62=2,VLOOKUP($CH62,'العاملين '!$A$3:$AU$260,47),0))","v":0},{"$f":"IF($CH62>0,VLOOKUP($CH62,'العاملين '!$A$3:$AR$260,30),0)","v":0},{"$f":"IF($CH62>0,VLOOKUP($CH62,'العاملين '!$A$3:$AR$260,31),0)","v":0},null,{"$f":"IF($CH62>0,VLOOKUP($CH62,'العاملين '!$A$3:$AR$260,33),0)","v":0},{"$f":"IF($CH62>0,VLOOKUP($CH62,'العاملين '!$A$3:$AR$260,34),0)","v":0},{"$f":"IF($CH62>0,VLOOKUP($CH62,'العاملين '!$A$3:$AR$260,35),0)","v":0},{"$f":"IF($CH62>0,VLOOKUP($CH62,'العاملين '!$A$3:$AR$260,36),0)","v":0},{"$f":"IF($CH62>0,VLOOKUP($CH62,'العاملين '!$A$3:$AR$260,37),0)","v":0},{"$f":"IF($CH62>0,VLOOKUP($CH62,'العاملين '!$A$3:$AR$260,38),0)","v":0},{"$f":"IF($CH62>0,VLOOKUP($CH62,'العاملين '!$A$3:$AR$260,39),0)","v":0},{"$f":"IF($CH62>0,VLOOKUP($CH62,'العاملين '!$A$3:$AR$260,40),0)","v":0},{"$f":"IF($CH62>0,VLOOKUP($CH62,'العاملين '!$A$3:$AR$260,41),0)","v":0},0,0,0,{"$f":"IF($CH62>0,VLOOKUP($CH62,'العاملين '!$A$3:$AR$260,2),0)","v":0},0,null,{"$f":"IF($CH62>0,VLOOKUP($CH62,'العاملين '!$A$3:$AR$260,3),0)","v":0},{"$f":"IF($CH62>0,VLOOKUP($CH62,'العاملين '!$A$3:$AR$260,43),0)","v":0},0]
[24,{"$f":"IF($CH63>0,VLOOKUP($CH63,'العاملين '!$A$3:$AR$260,8),0)","v":0}," "," "," "," "," ",{"$f":"IF($CH63>0,VLOOKUP($CH63,'العاملين '!$A$3:$AR$260,9),0)","v":0},{"$f":"IF($CH63>0,VLOOKUP($CH63,'العاملين '!$A$3:$AR$260,10),0)","v":0},{"$f":"IF($CH63>0,VLOOKUP($CH63,'العاملين '!$A$3:$AR$260,11),0)","v":0},{"$f":"IF($CH63>0,VLOOKUP($CH63,'العاملين '!$A$3:$AR$260,12),0)","v":0},{"$f":"IF($CH63>0,VLOOKUP($CH63,'العاملين '!$A$3:$AR$260,13),0)","v":0},0,{"$f":"IF($CH63>0,VLOOKUP($CH63,'العاملين '!$A$3:$AR$260,14),0)","v":0},{"$f":"IF($CH63>0,VLOOKUP($CH63,'العاملين '!$A$3:$AR$260,15),0)","v":0},{"$f":"IF($CH63>0,VLOOKUP($CH63,'العاملين '!$A$3:$AR$260,16),0)","v":0},{"$f":"IF($CH63>0,VLOOKUP($CH63,'العاملين '!$A$3:$AR$260,17),0)","v":0},{"$f":"IF($CH63>0,VLOOKUP($CH63,'العاملين '!$A$3:$AR$260,18),0)","v":0},{"$f":"IF($CH63>0,VLOOKUP($CH63,'العاملين '!$A$3:$AR$260,19),0)","v":0},{"$f":"IF($CH63>0,VLOOKUP($CH63,'العاملين '!$A$3:$AR$260,20),0)","v":0},{"$f":"IF($CH63>0,VLOOKUP($CH63,'العاملين '!$A$3:$AR$260,21),0)","v":0},{"$f":"IF($CH63>0,VLOOKUP($CH63,'العاملين '!$A$3:$AR$260,22),0)","v":0},{"$f":"IF($CH63>0,VLOOKUP($CH63,'العاملين '!$A$3:$AR$260,23),0)","v":0},{"$f":"IF($CH63>0,VLOOKUP($CH63,'العاملين '!$A$3:$AR$260,24),0)","v":0},{"$f":"IF($CH63>0,VLOOKUP($CH63,'العاملين '!$A$3:$AR$260,26),0)","v":0},null,null,null,null,null,null,null,null,null,null,null,null,null,null,{"$f":"IF($CH63>0,VLOOKUP($CH63,'العاملين '!$A$3:$AR$260,25),0)","v":0},0,0,0,0,0,0,0,"",{"$f":"IF($CH63>0,VLOOKUP($CH63,'العاملين '!$A$3:$AR$260,28),0)","v":0},0," "," "," ",null," "," "," "," ",0,0,0,0,0,{"$f":"IF($CJ63=1,ROUND(($B63)*7%,2),IF($CJ63=2,VLOOKUP($CH63,'العاملين '!$A$3:$AS$260,44),0))","v":0},{"$f":"IF($CJ63=1,0.5,IF($CJ63=2,VLOOKUP($CH63,'العاملين '!$A$3:$AS$260,45),0))","v":0},{"$f":"IF($CJ63=1,4.5,IF($CJ63=2,VLOOKUP($CH63,'العاملين '!$A$3:$AS$260,46),0))","v":0},{"$f":"IF($CH63>0,VLOOKUP($CH63,'العاملين '!$A$3:$AR$260,29),0)","v":0},{"$f":"IF($CJ63=1,0.2,IF($CJ63=2,VLOOKUP($CH63,'العاملين '!$A$3:$AU$260,47),0))","v":0},{"$f":"IF($CJ63=1,0.05,IF($CJ63=2,VLOOKUP($CH63,'العاملين '!$A$3:$AU$260,47),0))","v":0},{"$f":"IF($CH63>0,VLOOKUP($CH63,'العاملين '!$A$3:$AR$260,30),0)","v":0},{"$f":"IF($CH63>0,VLOOKUP($CH63,'العاملين '!$A$3:$AR$260,31),0)","v":0},null,{"$f":"IF($CH63>0,VLOOKUP($CH63,'العاملين '!$A$3:$AR$260,33),0)","v":0},{"$f":"IF($CH63>0,VLOOKUP($CH63,'العاملين '!$A$3:$AR$260,34),0)","v":0},{"$f":"IF($CH63>0,VLOOKUP($CH63,'العاملين '!$A$3:$AR$260,35),0)","v":0},{"$f":"IF($CH63>0,VLOOKUP($CH63,'العاملين '!$A$3:$AR$260,36),0)","v":0},{"$f":"IF($CH63>0,VLOOKUP($CH63,'العاملين '!$A$3:$AR$260,37),0)","v":0},{"$f":"IF($CH63>0,VLOOKUP($CH63,'العاملين '!$A$3:$AR$260,38),0)","v":0},{"$f":"IF($CH63>0,VLOOKUP($CH63,'العاملين '!$A$3:$AR$260,39),0)","v":0},{"$f":"IF($CH63>0,VLOOKUP($CH63,'العاملين '!$A$3:$AR$260,40),0)","v":0},{"$f":"IF($CH63>0,VLOOKUP($CH63,'العاملين '!$A$3:$AR$260,41),0)","v":0},0,0,0,{"$f":"IF($CH63>0,VLOOKUP($CH63,'العاملين '!$A$3:$AR$260,2),0)","v":0},0,null,{"$f":"IF($CH63>0,VLOOKUP($CH63,'العاملين '!$A$3:$AR$260,3),0)","v":0},{"$f":"IF($CH63>0,VLOOKUP($CH63,'العاملين '!$A$3:$AR$260,43),0)","v":0},0]
[25,{"$f":"IF($CH64>0,VLOOKUP($CH64,'العاملين '!$A$3:$AR$260,8),0)","v":0}," "," "," "," "," ",{"$f":"IF($CH64>0,VLOOKUP($CH64,'العاملين '!$A$3:$AR$260,9),0)","v":0},{"$f":"IF($CH64>0,VLOOKUP($CH64,'العاملين '!$A$3:$AR$260,10),0)","v":0},{"$f":"IF($CH64>0,VLOOKUP($CH64,'العاملين '!$A$3:$AR$260,11),0)","v":0},{"$f":"IF($CH64>0,VLOOKUP($CH64,'العاملين '!$A$3:$AR$260,12),0)","v":0},{"$f":"IF($CH64>0,VLOOKUP($CH64,'العاملين '!$A$3:$AR$260,13),0)","v":0},0,{"$f":"IF($CH64>0,VLOOKUP($CH64,'العاملين '!$A$3:$AR$260,14),0)","v":0},{"$f":"IF($CH64>0,VLOOKUP($CH64,'العاملين '!$A$3:$AR$260,15),0)","v":0},{"$f":"IF($CH64>0,VLOOKUP($CH64,'العاملين '!$A$3:$AR$260,16),0)","v":0},{"$f":"IF($CH64>0,VLOOKUP($CH64,'العاملين '!$A$3:$AR$260,17),0)","v":0},{"$f":"IF($CH64>0,VLOOKUP($CH64,'العاملين '!$A$3:$AR$260,18),0)","v":0},{"$f":"IF($CH64>0,VLOOKUP($CH64,'العاملين '!$A$3:$AR$260,19),0)","v":0},{"$f":"IF($CH64>0,VLOOKUP($CH64,'العاملين '!$A$3:$AR$260,20),0)","v":0},{"$f":"IF($CH64>0,VLOOKUP($CH64,'العاملين '!$A$3:$AR$260,21),0)","v":0},{"$f":"IF($CH64>0,VLOOKUP($CH64,'العاملين '!$A$3:$AR$260,22),0)","v":0},{"$f":"IF($CH64>0,VLOOKUP($CH64,'العاملين '!$A$3:$AR$260,23),0)","v":0},{"$f":"IF($CH64>0,VLOOKUP($CH64,'العاملين '!$A$3:$AR$260,24),0)","v":0},{"$f":"IF($CH64>0,VLOOKUP($CH64,'العاملين '!$A$3:$AR$260,26),0)","v":0},null,null,null,null,null,null,null,null,null,null,null,null,null,null,{"$f":"IF($CH64>0,VLOOKUP($CH64,'العاملين '!$A$3:$AR$260,25),0)","v":0},0,0,0,0,0,0,0,"",{"$f":"IF($CH64>0,VLOOKUP($CH64,'العاملين '!$A$3:$AR$260,28),0)","v":0},0," "," "," ",null," "," "," "," ",0,0,0,0,0,{"$f":"IF($CJ64=1,ROUND(($B64)*7%,2),IF($CJ64=2,VLOOKUP($CH64,'العاملين '!$A$3:$AS$260,44),0))","v":0},{"$f":"IF($CJ64=1,0.5,IF($CJ64=2,VLOOKUP($CH64,'العاملين '!$A$3:$AS$260,45),0))","v":0},{"$f":"IF($CJ64=1,4.5,IF($CJ64=2,VLOOKUP($CH64,'العاملين '!$A$3:$AS$260,46),0))","v":0},{"$f":"IF($CH64>0,VLOOKUP($CH64,'العاملين '!$A$3:$AR$260,29),0)","v":0},{"$f":"IF($CJ64=1,0.2,IF($CJ64=2,VLOOKUP($CH64,'العاملين '!$A$3:$AU$260,47),0))","v":0},{"$f":"IF($CJ64=1,0.05,IF($CJ64=2,VLOOKUP($CH64,'العاملين '!$A$3:$AU$260,47),0))","v":0},{"$f":"IF($CH64>0,VLOOKUP($CH64,'العاملين '!$A$3:$AR$260,30),0)","v":0},{"$f":"IF($CH64>0,VLOOKUP($CH64,'العاملين '!$A$3:$AR$260,31),0)","v":0},null,{"$f":"IF($CH64>0,VLOOKUP($CH64,'العاملين '!$A$3:$AR$260,33),0)","v":0},{"$f":"IF($CH64>0,VLOOKUP($CH64,'العاملين '!$A$3:$AR$260,34),0)","v":0},{"$f":"IF($CH64>0,VLOOKUP($CH64,'العاملين '!$A$3:$AR$260,35),0)","v":0},{"$f":"IF($CH64>0,VLOOKUP($CH64,'العاملين '!$A$3:$AR$260,36),0)","v":0},{"$f":"IF($CH64>0,VLOOKUP($CH64,'العاملين '!$A$3:$AR$260,37),0)","v":0},{"$f":"IF($CH64>0,VLOOKUP($CH64,'العاملين '!$A$3:$AR$260,38),0)","v":0},{"$f":"IF($CH64>0,VLOOKUP($CH64,'العاملين '!$A$3:$AR$260,39),0)","v":0},{"$f":"IF($CH64>0,VLOOKUP($CH64,'العاملين '!$A$3:$AR$260,40),0)","v":0},{"$f":"IF($CH64>0,VLOOKUP($CH64,'العاملين '!$A$3:$AR$260,41),0)","v":0},0,0,0,{"$f":"IF($CH64>0,VLOOKUP($CH64,'العاملين '!$A$3:$AR$260,2),0)","v":0},0,null,{"$f":"IF($CH64>0,VLOOKUP($CH64,'العاملين '!$A$3:$AR$260,3),0)","v":0},{"$f":"IF($CH64>0,VLOOKUP($CH64,'العاملين '!$A$3:$AR$260,43),0)","v":0},0]
[null,{"$f":"SUM(B40:B64)","v":0},{"$f":"SUM(C40:C64)","v":{"$error":"#VALUE!"}},{"$error":"#VALUE!"},{"$error":"#VALUE!"},{"$error":"#VALUE!"},{"$error":"#VALUE!"},1104.08,1831.23,0,102.82,103.82,3141.95,110.44,0,8,12,0,0,0,0,0,0,0,0,null,null,null,null,null,null,null,null,null,null,null,null,null,null,0,3272.39,3272.39,0,490.86,32.72,98.17,621.75,30,0,{"$f":"SUM(AX40:AX64)","v":{"$error":"#VALUE!"}},{"$f":"SUM(AY40:AY64)","v":{"$error":"#VALUE!"}},{"$error":"#VALUE!"},{"$error":"#VALUE!"},0,{"$error":"#VALUE!"},{"$error":"#VALUE!"},{"$error":"#VALUE!"},{"$error":"#VALUE!"},490.86,32.72,327.24,98.17,32.72,{"$error":"#VALUE!"},1.5,13.5,0,0.60000000000000009,0.15000000000000002,0,0,0,0,0,0,0,0,2,65.22,29.299999999999997,0,{"$error":"#VALUE!"},{"$error":"#VALUE!"},{"$error":"#VALUE!"},null,null,null,null,null,{"$error":"#VALUE!"}]
[]
["كشــــــــــــــــــــــــــــــف المرتبات عن شــــــــــــــــــــــــــــــــهر /",null,null,null,null,null,null,null,null,null,null,null,null,null,null,null,null,null,null,null,null,null,null,null,null,null,null,null,null,null,null,null,null,null,null,null,null,null,null,null,null,null,null,null,null,null,null,null,null,null,{"$f":"ورقة1!C3","v":"مارس 2018"},null,null,null,null,null," ","ســــــــــــــــــــــــــــــــنة /",null,null,null,null,null,{"$f":"IF($CG80>0,ورقة1!$C$5,0)","v":2018},null,null,null,null,null,"م"]
[{"$f":"ورقة1!C1","v":"الشهداء التعليمية"},null,null,null,null,null,null,null,null,null,null,null,null,null,null,null,null,null,null,null,null,null,null,null,null,null,null,null,null,null,null,null,null,null,null,null,null,null,null,null,null,null,null,null,null,null,null,null,null,null,"مدرسة /  ",null,null,null,null,{"$f":"IF($CG80>0,ورقة1!$C$2,\" \")","v":"الادارة"},null,null,null,null,null,null,null,null,null,null,null,null,null,null,null,null,null,null,null,null,null,null,null,null,null,null,null,null,null,{"$f":"FLOOR(CM80,0.05)","v":0}]
["م ","الاســــــــــــــــــــــــــتحـــــــــــــــــــــــــــــــــقــــــــــــــــــــــــــــــــــــــــــــــــــــــــــــــــــــــــــاقـــــــــــــــــــــــــــــــــــات ",null,null,null,null,null,null,null,null,null,null,null,null,null,null,null,null,null,null,null,null,null,null,null,null,null,null,null,null,null,null,null,null,null,null,null,null,null,null,null,null,null,null,null,null,null,null,null,"جملة الاستــــحقــاقات ","الأســـــــــــــــــــــــــــــــــــــتـــــــقـــــــــــــــــطاعـــــــــــــــــات ",null,null,null,null,null,null,null,null,null,null,null,null,null,null,null,null,null,null,null,null,null,null,null,null,null,null,null,null,null,null,null,"جملة الأستقطاعات ","الصافي المستحق ","الاســـــــــــــــــــم ","التوقيع بالاســــــــــــتلام ","صافي الشهر السابق ",null,"اسم البنك"]
[null,"الاجور الاســــــــــــــــــــــــــاسية ",null,null,null,null,"الجملة ","الاجور المتغيرة الخاضعة بكامل قيمتها للتأمينات والمعاشات ",null,null,null,null,"الجملة ","الاجور المتغيرة الاخري بنسبة        %",null,null,null,null,null,null,null,null,null,null,null,null,null,null,null,null,null,null,null,null,null,null,null,null,null,null,"الجملة ",{"$f":"'العاملين '!BA70","v":0},"غير خاضع","حصص الاجور المتغيرة ",null,null,"الجملة ","منحة ",{"$f":"'العاملين '!$AA$1","v":0},null,"لحســــــــــــــــــــاب الهيئة القوميـــــــــــــــــــــة للتـــــــــــــــــأمين الإجتـــــــــــــــــــــــــماعي ",null,null,null,null,null,null,null,null,null,null,null,null,null,null,null,null,null,null,"لحساب جاري دائنة مصلحة الضرائب ",null,null,"لحساب دائنين مختلفين "]
[null,null,null,null,null,null,null,null,null,null,null,null,null,null,null,null,null,null,null,null,null,null,null,null,null,null,null,null,null,null,null,null,null,null,null,null,null,null,null,null,null,"خاضع",null,null,null,null,null,null,null,null,"استقطاعات الأجور الاســــــــــــــــــاسية ",null,null,null,null,null,null,null,"استقطاعات الأجور المتغيرة ",null,null,null,null,"الأقساط الخاصة عن الأجور الأساسية ",null,null,null,null,null,"ضريبة دخل  ","دمغة عادية   "]
[null,"المرتب "," حصة الحكومة  15%","إصابة عمل  1%","أ 2 %","أ 3 %",null,"علاوة 2012","علاوة 2013","علاوة 2014","علاوة 2015","علاوة 2016",null,{"$f":"'العاملين '!$N$1","v":0},{"$f":"'العاملين '!$O$1","v":0},{"$f":"'العاملين '!$P$1","v":0},{"$f":"'العاملين '!$Q$1","v":0},{"$f":"'العاملين '!$R$1","v":0},{"$f":"'العاملين '!#REF!","v":{"$error":"#REF!"}},{"$f":"'العاملين '!$S$1","v":0},{"$f":"'العاملين '!$T$1","v":0},{"$f":"'العاملين '!$U$1","v":0},{"$f":"'العاملين '!$V$1","v":0},{"$f":"'العاملين '!$W$1","v":0},"الحد الادنى",null,null,null,null,null,null,null,null,null,null,null,null,null,null,{"$f":"'العاملين '!$X$1","v":0},null,null,null,"ألـ 15 %","ألـ 1 %","ألـ 3%",null,null,null,null," حصة الحكومة  15%","إصابة عمل  1%","الـ 2%",null," حصة الموظف  10%",0.08,"ألـ 3%","ألـ 1 %"," حصة الحكومة  15%","إصابة عمل  1%"," حصة الموظف  10%",0.03,0.01,"زمالة   7 %","زمالة  جماعى","نقابه","رابطة ","نادى محافظة","نادي الادارة",null,null,null,{"$f":"'العاملين '!$AF$1","v":0},{"$f":"'العاملين '!$AG$1","v":0},{"$f":"'العاملين '!$AH$1","v":0},{"$f":"'العاملين '!$AI$1","v":0},{"$f":"'العاملين '!$AJ$1","v":0},{"$f":"'العاملين '!$AK$1","v":0},{"$f":"'العاملين '!$AL$1","v":0},{"$f":"'العاملين '!$AM$1","v":0},{"$f":"'العاملين '!$AN$1","v":0},"كسر قرش"]
[1,{"$f":"IF($CH73>0,VLOOKUP($CH73,'العاملين '!$A$3:$AR$260,8),0)","v":"خبير"},{"$f":"IF($B73>0,ROUND(($B73)*15%,2),\" \")","v":{"$error":"#VALUE!"}},{"$f":"IF($B73>0,ROUND(($B73)*1%,2),\" \")","v":{"$error":"#VALUE!"}},{"$f":"IF($B73>0,ROUND(($B73)*2%,2),\" \")","v":{"$error":"#VALUE!"}},{"$f":"IF($B73>0,ROUND(($B73)*3%,2),\" \")","v":{"$error":"#VALUE!"}},{"$f":"IF($B73>0,SUM(B73:F73),\" \")","v":{"$error":"#VALUE!"}},{"$f":"IF($CH73>0,VLOOKUP($CH73,'العاملين '!$A$3:$AR$260,9),0)","v":574.79999999999995},{"$f":"IF($CH73>0,VLOOKUP($CH73,'العاملين '!$A$3:$AR$260,10),0)","v":951.55},{"$f":"IF($CH73>0,VLOOKUP($CH73,'العاملين '!$A$3:$AR$260,11),0)","v":0},{"$f":"IF($CH73>0,VLOOKUP($CH73,'العاملين '!$A$3:$AR$260,12),0)","v":53.54},{"$f":"IF($CH73>0,VLOOKUP($CH73,'العاملين '!$A$3:$AR$260,13),0)","v":54.04},{"$f":"IF($B73>0,SUM(H73:L73),0)","v":1633.9299999999998},{"$f":"IF($CH73>0,VLOOKUP($CH73,'العاملين '!$A$3:$AR$260,14),0)","v":57.48},{"$f":"IF($CH73>0,VLOOKUP($CH73,'العاملين '!$A$3:$AR$260,15),0)","v":0},{"$f":"IF($CH73>0,VLOOKUP($CH73,'العاملين '!$A$3:$AR$260,16),0)","v":4},{"$f":"IF($CH73>0,VLOOKUP($CH73,'العاملين '!$A$3:$AR$260,17),0)","v":6},{"$f":"IF($CH73>0,VLOOKUP($CH73,'العاملين '!$A$3:$AR$260,18),0)","v":0},{"$f":"IF($CH73>0,VLOOKUP($CH73,'العاملين '!$A$3:$AR$260,19),0)","v":0},{"$f":"IF($CH73>0,VLOOKUP($CH73,'العاملين '!$A$3:$AR$260,20),0)","v":0},{"$f":"IF($CH73>0,VLOOKUP($CH73,'العاملين '!$A$3:$AR$260,21),0)","v":0},{"$f":"IF($CH73>0,VLOOKUP($CH73,'العاملين '!$A$3:$AR$260,22),0)","v":0},{"$f":"IF($CH73>0,VLOOKUP($CH73,'العاملين '!$A$3:$AR$260,23),0)","v":0},{"$f":"IF($CH73>0,VLOOKUP($CH73,'العاملين '!$A$3:$AR$260,24),0)","v":0},{"$f":"IF($CH73>0,VLOOKUP($CH73,'العاملين '!$A$3:$AR$260,26),0)","v":0},null,null,null,null,null,null,null,null,null,null,null,null,null,null,{"$f":"IF($CH73>0,VLOOKUP($CH73,'العاملين '!$A$3:$AR$260,25),0)","v":0},{"$f":"SUM(M73:AN73)","v":1701.4099999999999},{"$f":"IF(AO73>$AP$4,$AP$4,AO73)","v":1701.4099999999999},{"$f":"AO73-AP73","v":0},{"$f":"ROUND(($AP73)*15%,2)","v":255.21},{"$f":"ROUND(($AP73)*1%,2)","v":17.010000000000002},{"$f":"ROUND(($AP73)*3%,2)","v":51.04},{"$f":"SUM(AR73:AT73)","v":323.26000000000005},{"$f":"IF(B73>0,10,\"\")","v":10},{"$f":"IF($CH73>0,VLOOKUP($CH73,'العاملين '!$A$3:$AR$260,28),0)","v":0},{"$f":"SUM(AV73,AU73,AO73,G73,AW73)","v":{"$error":"#VALUE!"}},{"$f":"IF($B73>0,ROUND(($B73)*15%,2),\" \")","v":{"$error":"#VALUE!"}},{"$f":"IF($B73>0,ROUND(($B73)*1%,2),\" \")","v":{"$error":"#VALUE!"}},{"$f":"IF($B73>0,ROUND(($B73)*2%,2),\" \")","v":{"$error":"#VALUE!"}},null,{"$f":"IF($B73>0,ROUND(($B73)*10%,2),\" \")","v":{"$error":"#VALUE!"}},{"$f":"IF($B73>0,ROUND(($B73)*8%,2),\" \")","v":{"$error":"#VALUE!"}},{"$f":"IF($B73>0,ROUND(($B73)*3%,2),\" \")","v":{"$error":"#VALUE!"}},{"$f":"IF($B73>0,ROUND(($B73)*1%,2),\" \")","v":{"$error":"#VALUE!"}},{"$f":"AR73","v":255.21},17.010000000000002,{"$f":"ROUND(($AP73)*10%,2)","v":170.14},{"$f":"AT73","v":51.04},{"$f":"AS73","v":17.010000000000002},{"$f":"IF($CJ73=1,ROUND(($B73)*7%,2),IF($CJ73=2,VLOOKUP($CH73,'العاملين '!$A$3:$AS$260,44),0))","v":{"$error":"#VALUE!"}},{"$f":"IF($CJ73=1,0.5,IF($CJ73=2,VLOOKUP($CH73,'العاملين '!$A$3:$AS$260,45),0))","v":0.5},{"$f":"IF($CJ73=1,4.5,IF($CJ73=2,VLOOKUP($CH73,'العاملين '!$A$3:$AS$260,46),0))","v":4.5},{"$f":"IF($CH73>0,VLOOKUP($CH73,'العاملين '!$A$3:$AR$260,29),0)","v":0},{"$f":"IF($CJ73=1,0.2,IF($CJ73=2,VLOOKUP($CH73,'العاملين '!$A$3:$AU$260,47),0))","v":0.2},{"$f":"IF($CJ73=1,0.05,IF($CJ73=2,VLOOKUP($CH73,'العاملين '!$A$3:$AU$260,47),0))","v":0.05},{"$f":"IF($CH73>0,VLOOKUP($CH73,'العاملين '!$A$3:$AR$260,30),0)","v":0},{"$f":"IF($CH73>0,VLOOKUP($CH73,'العاملين '!$A$3:$AR$260,31),0)","v":0},null,{"$f":"IF($CH73>0,VLOOKUP($CH73,'العاملين '!$A$3:$AR$260,33),0)","v":0},{"$f":"IF($CH73>0,VLOOKUP($CH73,'العاملين '!$A$3:$AR$260,34),0)","v":0},{"$f":"IF($CH73>0,VLOOKUP($CH73,'العاملين '!$A$3:$AR$260,35),0)","v":0},{"$f":"IF($CH73>0,VLOOKUP($CH73,'العاملين '!$A$3:$AR$260,36),0)","v":0},{"$f":"IF($CH73>0,VLOOKUP($CH73,'العاملين '!$A$3:$AR$260,37),0)","v":0},{"$f":"IF($CH73>0,VLOOKUP($CH73,'العاملين '!$A$3:$AR$260,38),0)","v":1},{"$f":"IF($CH73>0,VLOOKUP($CH73,'العاملين '!$A$3:$AR$260,39),0)","v":0},{"$f":"IF($CH73>0,VLOOKUP($CH73,'العاملين '!$A$3:$AR$260,40),0)","v":14.95},{"$f":"IF($CH73>0,VLOOKUP($CH73,'العاملين '!$A$3:$AR$260,41),0)","v":0},{"$f":"CL73-CF73","v":{"$error":"#VALUE!"}},{"$f":"SUM(AY73:CD73)","v":{"$error":"#VALUE!"}},{"$f":"FLOOR(CL73,0.05)","v":{"$error":"#VALUE!"}},{"$f":"IF($CH73>0,VLOOKUP($CH73,'العاملين '!$A$3:$AR$260,2),0)","v":"محمد30"},30,null,{"$f":"IF($CH73>0,VLOOKUP($CH73,'العاملين '!$A$3:$AR$260,3),0)","v":1},{"$f":"IF($CH73>0,VLOOKUP($CH73,'العاملين '!$A$3:$AR$260,43),0)","v":0},{"$f":"AX73-SUM(AY73:CC73)","v":{"$error":"#VALUE!"}}]
[2,{"$f":"IF($CH74>0,VLOOKUP($CH74,'العاملين '!$A$3:$AR$260,8),0)","v":"خبير"},{"$error":"#VALUE!"},{"$error":"#VALUE!"},{"$error":"#VALUE!"},{"$error":"#VALUE!"},{"$error":"#VALUE!"},{"$f":"IF($CH74>0,VLOOKUP($CH74,'العاملين '!$A$3:$AR$260,9),0)","v":537.55999999999995},{"$f":"IF($CH74>0,VLOOKUP($CH74,'العاملين '!$A$3:$AR$260,10),0)","v":892.61},{"$f":"IF($CH74>0,VLOOKUP($CH74,'العاملين '!$A$3:$AR$260,11),0)","v":0},{"$f":"IF($CH74>0,VLOOKUP($CH74,'العاملين '!$A$3:$AR$260,12),0)","v":50.03},{"$f":"IF($CH74>0,VLOOKUP($CH74,'العاملين '!$A$3:$AR$260,13),0)","v":50.53},1530.73,{"$f":"IF($CH74>0,VLOOKUP($CH74,'العاملين '!$A$3:$AR$260,14),0)","v":53.75},{"$f":"IF($CH74>0,VLOOKUP($CH74,'العاملين '!$A$3:$AR$260,15),0)","v":0},{"$f":"IF($CH74>0,VLOOKUP($CH74,'العاملين '!$A$3:$AR$260,16),0)","v":4},{"$f":"IF($CH74>0,VLOOKUP($CH74,'العاملين '!$A$3:$AR$260,17),0)","v":6},{"$f":"IF($CH74>0,VLOOKUP($CH74,'العاملين '!$A$3:$AR$260,18),0)","v":0},{"$f":"IF($CH74>0,VLOOKUP($CH74,'العاملين '!$A$3:$AR$260,19),0)","v":0},{"$f":"IF($CH74>0,VLOOKUP($CH74,'العاملين '!$A$3:$AR$260,20),0)","v":0},{"$f":"IF($CH74>0,VLOOKUP($CH74,'العاملين '!$A$3:$AR$260,21),0)","v":0},{"$f":"IF($CH74>0,VLOOKUP($CH74,'العاملين '!$A$3:$AR$260,22),0)","v":0},{"$f":"IF($CH74>0,VLOOKUP($CH74,'العاملين '!$A$3:$AR$260,23),0)","v":0},{"$f":"IF($CH74>0,VLOOKUP($CH74,'العاملين '!$A$3:$AR$260,24),0)","v":0},{"$f":"IF($CH74>0,VLOOKUP($CH74,'العاملين '!$A$3:$AR$260,26),0)","v":0},null,null,null,null,null,null,null,null,null,null,null,null,null,null,{"$f":"IF($CH74>0,VLOOKUP($CH74,'العاملين '!$A$3:$AR$260,25),0)","v":0},1594.48,1594.48,0,239.17,15.94,47.83,302.94,10,{"$f":"IF($CH74>0,VLOOKUP($CH74,'العاملين '!$A$3:$AR$260,28),0)","v":0},{"$error":"#VALUE!"},{"$error":"#VALUE!"},{"$error":"#VALUE!"},{"$error":"#VALUE!"},null,{"$error":"#VALUE!"},{"$error":"#VALUE!"},{"$error":"#VALUE!"},{"$error":"#VALUE!"},239.17,15.94,159.44999999999999,47.83,15.94,{"$f":"IF($CJ74=1,ROUND(($B74)*7%,2),IF($CJ74=2,VLOOKUP($CH74,'العاملين '!$A$3:$AS$260,44),0))","v":{"$error":"#VALUE!"}},{"$f":"IF($CJ74=1,0.5,IF($CJ74=2,VLOOKUP($CH74,'العاملين '!$A$3:$AS$260,45),0))","v":0.5},{"$f":"IF($CJ74=1,4.5,IF($CJ74=2,VLOOKUP($CH74,'العاملين '!$A$3:$AS$260,46),0))","v":4.5},{"$f":"IF($CH74>0,VLOOKUP($CH74,'العاملين '!$A$3:$AR$260,29),0)","v":0},{"$f":"IF($CJ74=1,0.2,IF($CJ74=2,VLOOKUP($CH74,'العاملين '!$A$3:$AU$260,47),0))","v":0.2},{"$f":"IF($CJ74=1,0.05,IF($CJ74=2,VLOOKUP($CH74,'العاملين '!$A$3:$AU$260,47),0))","v":0.05},{"$f":"IF($CH74>0,VLOOKUP($CH74,'العاملين '!$A$3:$AR$260,30),0)","v":0},{"$f":"IF($CH74>0,VLOOKUP($CH74,'العاملين '!$A$3:$AR$260,31),0)","v":0},null,{"$f":"IF($CH74>0,VLOOKUP($CH74,'العاملين '!$A$3:$AR$260,33),0)","v":0},{"$f":"IF($CH74>0,VLOOKUP($CH74,'العاملين '!$A$3:$AR$260,34),0)","v":0},{"$f":"IF($CH74>0,VLOOKUP($CH74,'العاملين '!$A$3:$AR$260,35),0)","v":0},{"$f":"IF($CH74>0,VLOOKUP($CH74,'العاملين '!$A$3:$AR$260,36),0)","v":0},{"$f":"IF($CH74>0,VLOOKUP($CH74,'العاملين '!$A$3:$AR$260,37),0)","v":0},{"$f":"IF($CH74>0,VLOOKUP($CH74,'العاملين '!$A$3:$AR$260,38),0)","v":1},{"$f":"IF($CH74>0,VLOOKUP($CH74,'العاملين '!$A$3:$AR$260,39),0)","v":38.49},{"$f":"IF($CH74>0,VLOOKUP($CH74,'العاملين '!$A$3:$AR$260,40),0)","v":14.35},{"$f":"IF($CH74>0,VLOOKUP($CH74,'العاملين '!$A$3:$AR$260,41),0)","v":0},{"$error":"#VALUE!"},{"$error":"#VALUE!"},{"$error":"#VALUE!"},{"$f":"IF($CH74>0,VLOOKUP($CH74,'العاملين '!$A$3:$AR$260,2),0)","v":"محمد31"},31,null,{"$f":"IF($CH74>0,VLOOKUP($CH74,'العاملين '!$A$3:$AR$260,3),0)","v":1},{"$f":"IF($CH74>0,VLOOKUP($CH74,'العاملين '!$A$3:$AR$260,43),0)","v":0},{"$error":"#VALUE!"}]
[3,{"$f":"IF($CH75>0,VLOOKUP($CH75,'العاملين '!$A$3:$AR$260,8),0)","v":"خبير"},{"$error":"#VALUE!"},{"$error":"#VALUE!"},{"$error":"#VALUE!"},{"$error":"#VALUE!"},{"$error":"#VALUE!"},{"$f":"IF($CH75>0,VLOOKUP($CH75,'العاملين '!$A$3:$AR$260,9),0)","v":498.56},{"$f":"IF($CH75>0,VLOOKUP($CH75,'العاملين '!$A$3:$AR$260,10),0)","v":835.37},{"$f":"IF($CH75>0,VLOOKUP($CH75,'العاملين '!$A$3:$AR$260,11),0)","v":0},{"$f":"IF($CH75>0,VLOOKUP($CH75,'العاملين '!$A$3:$AR$260,12),0)","v":45.83},{"$f":"IF($CH75>0,VLOOKUP($CH75,'العاملين '!$A$3:$AR$260,13),0)","v":46.33},1426.09,{"$f":"IF($CH75>0,VLOOKUP($CH75,'العاملين '!$A$3:$AR$260,14),0)","v":49.85},{"$f":"IF($CH75>0,VLOOKUP($CH75,'العاملين '!$A$3:$AR$260,15),0)","v":0},{"$f":"IF($CH75>0,VLOOKUP($CH75,'العاملين '!$A$3:$AR$260,16),0)","v":4},{"$f":"IF($CH75>0,VLOOKUP($CH75,'العاملين '!$A$3:$AR$260,17),0)","v":2},{"$f":"IF($CH75>0,VLOOKUP($CH75,'العاملين '!$A$3:$AR$260,18),0)","v":0},{"$f":"IF($CH75>0,VLOOKUP($CH75,'العاملين '!$A$3:$AR$260,19),0)","v":0},{"$f":"IF($CH75>0,VLOOKUP($CH75,'العاملين '!$A$3:$AR$260,20),0)","v":0},{"$f":"IF($CH75>0,VLOOKUP($CH75,'العاملين '!$A$3:$AR$260,21),0)","v":0},{"$f":"IF($CH75>0,VLOOKUP($CH75,'العاملين '!$A$3:$AR$260,22),0)","v":0},{"$f":"IF($CH75>0,VLOOKUP($CH75,'العاملين '!$A$3:$AR$260,23),0)","v":0},{"$f":"IF($CH75>0,VLOOKUP($CH75,'العاملين '!$A$3:$AR$260,24),0)","v":0},{"$f":"IF($CH75>0,VLOOKUP($CH75,'العاملين '!$A$3:$AR$260,26),0)","v":0},null,null,null,null,null,null,null,null,null,null,null,null,null,null,{"$f":"IF($CH75>0,VLOOKUP($CH75,'العاملين '!$A$3:$AR$260,25),0)","v":0},1481.9399999999998,1481.9399999999998,0,222.29,14.82,44.46,281.57,10,{"$f":"IF($CH75>0,VLOOKUP($CH75,'العاملين '!$A$3:$AR$260,28),0)","v":0},{"$error":"#VALUE!"},{"$error":"#VALUE!"},{"$error":"#VALUE!"},{"$error":"#VALUE!"},null,{"$error":"#VALUE!"},{"$error":"#VALUE!"},{"$error":"#VALUE!"},{"$error":"#VALUE!"},222.29,14.82,148.19,44.46,14.82,{"$f":"IF($CJ75=1,ROUND(($B75)*7%,2),IF($CJ75=2,VLOOKUP($CH75,'العاملين '!$A$3:$AS$260,44),0))","v":{"$error":"#VALUE!"}},{"$f":"IF($CJ75=1,0.5,IF($CJ75=2,VLOOKUP($CH75,'العاملين '!$A$3:$AS$260,45),0))","v":0.5},{"$f":"IF($CJ75=1,4.5,IF($CJ75=2,VLOOKUP($CH75,'العاملين '!$A$3:$AS$260,46),0))","v":4.5},{"$f":"IF($CH75>0,VLOOKUP($CH75,'العاملين '!$A$3:$AR$260,29),0)","v":0},{"$f":"IF($CJ75=1,0.2,IF($CJ75=2,VLOOKUP($CH75,'العاملين '!$A$3:$AU$260,47),0))","v":0.2},{"$f":"IF($CJ75=1,0.05,IF($CJ75=2,VLOOKUP($CH75,'العاملين '!$A$3:$AU$260,47),0))","v":0.05},{"$f":"IF($CH75>0,VLOOKUP($CH75,'العاملين '!$A$3:$AR$260,30),0)","v":0},{"$f":"IF($CH75>0,VLOOKUP($CH75,'العاملين '!$A$3:$AR$260,31),0)","v":0},null,{"$f":"IF($CH75>0,VLOOKUP($CH75,'العاملين '!$A$3:$AR$260,33),0)","v":0},{"$f":"IF($CH75>0,VLOOKUP($CH75,'العاملين '!$A$3:$AR$260,34),0)","v":0},{"$f":"IF($CH75>0,VLOOKUP($CH75,'العاملين '!$A$3:$AR$260,35),0)","v":0},{"$f":"IF($CH75>0,VLOOKUP($CH75,'العاملين '!$A$3:$AR$260,36),0)","v":0},{"$f":"IF($CH75>0,VLOOKUP($CH75,'العاملين '!$A$3:$AR$260,37),0)","v":0},{"$f":"IF($CH75>0,VLOOKUP($CH75,'العاملين '!$A$3:$AR$260,38),0)","v":1},{"$f":"IF($CH75>0,VLOOKUP($CH75,'العاملين '!$A$3:$AR$260,39),0)","v":21.71},{"$f":"IF($CH75>0,VLOOKUP($CH75,'العاملين '!$A$3:$AR$260,40),0)","v":13.85},{"$f":"IF($CH75>0,VLOOKUP($CH75,'العاملين '!$A$3:$AR$260,41),0)","v":0},{"$error":"#VALUE!"},{"$error":"#VALUE!"},{"$error":"#VALUE!"},{"$f":"IF($CH75>0,VLOOKUP($CH75,'العاملين '!$A$3:$AR$260,2),0)","v":"محمد32"},32,null,{"$f":"IF($CH75>0,VLOOKUP($CH75,'العاملين '!$A$3:$AR$260,3),0)","v":1},{"$f":"IF($CH75>0,VLOOKUP($CH75,'العاملين '!$A$3:$AR$260,43),0)","v":0},{"$error":"#VALUE!"}]
[4,{"$f":"IF($CH76>0,VLOOKUP($CH76,'العاملين '!$A$3:$AR$260,8),0)","v":"خبير"},{"$error":"#VALUE!"},{"$error":"#VALUE!"},{"$error":"#VALUE!"},{"$error":"#VALUE!"},{"$error":"#VALUE!"},{"$f":"IF($CH76>0,VLOOKUP($CH76,'العاملين '!$A$3:$AR$260,9),0)","v":566.52},{"$f":"IF($CH76>0,VLOOKUP($CH76,'العاملين '!$A$3:$AR$260,10),0)","v":938.62},{"$f":"IF($CH76>0,VLOOKUP($CH76,'العاملين '!$A$3:$AR$260,11),0)","v":0},{"$f":"IF($CH76>0,VLOOKUP($CH76,'العاملين '!$A$3:$AR$260,12),0)","v":52.79},{"$f":"IF($CH76>0,VLOOKUP($CH76,'العاملين '!$A$3:$AR$260,13),0)","v":53.29},1611.2199999999998,{"$f":"IF($CH76>0,VLOOKUP($CH76,'العاملين '!$A$3:$AR$260,14),0)","v":56.69},{"$f":"IF($CH76>0,VLOOKUP($CH76,'العاملين '!$A$3:$AR$260,15),0)","v":0},{"$f":"IF($CH76>0,VLOOKUP($CH76,'العاملين '!$A$3:$AR$260,16),0)","v":4},{"$f":"IF($CH76>0,VLOOKUP($CH76,'العاملين '!$A$3:$AR$260,17),0)","v":6},{"$f":"IF($CH76>0,VLOOKUP($CH76,'العاملين '!$A$3:$AR$260,18),0)","v":0},{"$f":"IF($CH76>0,VLOOKUP($CH76,'العاملين '!$A$3:$AR$260,19),0)","v":0},{"$f":"IF($CH76>0,VLOOKUP($CH76,'العاملين '!$A$3:$AR$260,20),0)","v":0},{"$f":"IF($CH76>0,VLOOKUP($CH76,'العاملين '!$A$3:$AR$260,21),0)","v":0},{"$f":"IF($CH76>0,VLOOKUP($CH76,'العاملين '!$A$3:$AR$260,22),0)","v":0},{"$f":"IF($CH76>0,VLOOKUP($CH76,'العاملين '!$A$3:$AR$260,23),0)","v":0},{"$f":"IF($CH76>0,VLOOKUP($CH76,'العاملين '!$A$3:$AR$260,24),0)","v":0},{"$f":"IF($CH76>0,VLOOKUP($CH76,'العاملين '!$A$3:$AR$260,26),0)","v":0},null,null,null,null,null,null,null,null,null,null,null,null,null,null,{"$f":"IF($CH76>0,VLOOKUP($CH76,'العاملين '!$A$3:$AR$260,25),0)","v":0},1677.9099999999999,1677.9099999999999,0,251.69,16.78,50.34,318.81000000000006,10,{"$f":"IF($CH76>0,VLOOKUP($CH76,'العاملين '!$A$3:$AR$260,28),0)","v":0},{"$error":"#VALUE!"},{"$error":"#VALUE!"},{"$error":"#VALUE!"},{"$error":"#VALUE!"},null,{"$error":"#VALUE!"},{"$error":"#VALUE!"},{"$error":"#VALUE!"},{"$error":"#VALUE!"},251.69,16.78,167.79,50.34,16.78,{"$f":"IF($CJ76=1,ROUND(($B76)*7%,2),IF($CJ76=2,VLOOKUP($CH76,'العاملين '!$A$3:$AS$260,44),0))","v":{"$error":"#VALUE!"}},{"$f":"IF($CJ76=1,0.5,IF($CJ76=2,VLOOKUP($CH76,'العاملين '!$A$3:$AS$260,45),0))","v":0.5},{"$f":"IF($CJ76=1,4.5,IF($CJ76=2,VLOOKUP($CH76,'العاملين '!$A$3:$AS$260,46),0))","v":4.5},{"$f":"IF($CH76>0,VLOOKUP($CH76,'العاملين '!$A$3:$AR$260,29),0)","v":0},{"$f":"IF($CJ76=1,0.2,IF($CJ76=2,VLOOKUP($CH76,'العاملين '!$A$3:$AU$260,47),0))","v":0.2},{"$f":"IF($CJ76=1,0.05,IF($CJ76=2,VLOOKUP($CH76,'العاملين '!$A$3:$AU$260,47),0))","v":0.05},{"$f":"IF($CH76>0,VLOOKUP($CH76,'العاملين '!$A$3:$AR$260,30),0)","v":0},{"$f":"IF($CH76>0,VLOOKUP($CH76,'العاملين '!$A$3:$AR$260,31),0)","v":0},null,{"$f":"IF($CH76>0,VLOOKUP($CH76,'العاملين '!$A$3:$AR$260,33),0)","v":0},{"$f":"IF($CH76>0,VLOOKUP($CH76,'العاملين '!$A$3:$AR$260,34),0)","v":0},{"$f":"IF($CH76>0,VLOOKUP($CH76,'العاملين '!$A$3:$AR$260,35),0)","v":0},{"$f":"IF($CH76>0,VLOOKUP($CH76,'العاملين '!$A$3:$AR$260,36),0)","v":0},{"$f":"IF($CH76>0,VLOOKUP($CH76,'العاملين '!$A$3:$AR$260,37),0)","v":0},{"$f":"IF($CH76>0,VLOOKUP($CH76,'العاملين '!$A$3:$AR$260,38),0)","v":1},{"$f":"IF($CH76>0,VLOOKUP($CH76,'العاملين '!$A$3:$AR$260,39),0)","v":26.73},{"$f":"IF($CH76>0,VLOOKUP($CH76,'العاملين '!$A$3:$AR$260,40),0)","v":14.95},{"$f":"IF($CH76>0,VLOOKUP($CH76,'العاملين '!$A$3:$AR$260,41),0)","v":0},{"$error":"#VALUE!"},{"$error":"#VALUE!"},{"$error":"#VALUE!"},{"$f":"IF($CH76>0,VLOOKUP($CH76,'العاملين '!$A$3:$AR$260,2),0)","v":"محمد33"},33,null,{"$f":"IF($CH76>0,VLOOKUP($CH76,'العاملين '!$A$3:$AR$260,3),0)","v":1},{"$f":"IF($CH76>0,VLOOKUP($CH76,'العاملين '!$A$3:$AR$260,43),0)","v":0},{"$error":"#VALUE!"}]
[5,{"$f":"IF($CH77>0,VLOOKUP($CH77,'العاملين '!$A$3:$AR$260,8),0)","v":"خبير"},{"$error":"#VALUE!"},{"$error":"#VALUE!"},{"$error":"#VALUE!"},{"$error":"#VALUE!"},{"$error":"#VALUE!"},{"$f":"IF($CH77>0,VLOOKUP($CH77,'العاملين '!$A$3:$AR$260,9),0)","v":514.52},{"$f":"IF($CH77>0,VLOOKUP($CH77,'العاملين '!$A$3:$AR$260,10),0)","v":860.87},{"$f":"IF($CH77>0,VLOOKUP($CH77,'العاملين '!$A$3:$AR$260,11),0)","v":0},{"$f":"IF($CH77>0,VLOOKUP($CH77,'العاملين '!$A$3:$AR$260,12),0)","v":47.4},{"$f":"IF($CH77>0,VLOOKUP($CH77,'العاملين '!$A$3:$AR$260,13),0)","v":47.9},1470.69,{"$f":"IF($CH77>0,VLOOKUP($CH77,'العاملين '!$A$3:$AR$260,14),0)","v":51.45},{"$f":"IF($CH77>0,VLOOKUP($CH77,'العاملين '!$A$3:$AR$260,15),0)","v":0},{"$f":"IF($CH77>0,VLOOKUP($CH77,'العاملين '!$A$3:$AR$260,16),0)","v":4},{"$f":"IF($CH77>0,VLOOKUP($CH77,'العاملين '!$A$3:$AR$260,17),0)","v":2},{"$f":"IF($CH77>0,VLOOKUP($CH77,'العاملين '!$A$3:$AR$260,18),0)","v":0},{"$f":"IF($CH77>0,VLOOKUP($CH77,'العاملين '!$A$3:$AR$260,19),0)","v":0},{"$f":"IF($CH77>0,VLOOKUP($CH77,'العاملين '!$A$3:$AR$260,20),0)","v":0},{"$f":"IF($CH77>0,VLOOKUP($CH77,'العاملين '!$A$3:$AR$260,21),0)","v":0},{"$f":"IF($CH77>0,VLOOKUP($CH77,'العاملين '!$A$3:$AR$260,22),0)","v":0},{"$f":"IF($CH77>0,VLOOKUP($CH77,'العاملين '!$A$3:$AR$260,23),0)","v":0},{"$f":"IF($CH77>0,VLOOKUP($CH77,'العاملين '!$A$3:$AR$260,24),0)","v":0},{"$f":"IF($CH77>0,VLOOKUP($CH77,'العاملين '!$A$3:$AR$260,26),0)","v":0},null,null,null,null,null,null,null,null,null,null,null,null,null,null,{"$f":"IF($CH77>0,VLOOKUP($CH77,'العاملين '!$A$3:$AR$260,25),0)","v":0},1528.14,1528.14,0,229.22,15.28,45.84,290.34000000000003,10,{"$f":"IF($CH77>0,VLOOKUP($CH77,'العاملين '!$A$3:$AR$260,28),0)","v":0},{"$error":"#VALUE!"},{"$error":"#VALUE!"},{"$error":"#VALUE!"},{"$error":"#VALUE!"},null,{"$error":"#VALUE!"},{"$error":"#VALUE!"},{"$error":"#VALUE!"},{"$error":"#VALUE!"},229.22,15.28,152.81,45.84,15.28,{"$f":"IF($CJ77=1,ROUND(($B77)*7%,2),IF($CJ77=2,VLOOKUP($CH77,'العاملين '!$A$3:$AS$260,44),0))","v":{"$error":"#VALUE!"}},{"$f":"IF($CJ77=1,0.5,IF($CJ77=2,VLOOKUP($CH77,'العاملين '!$A$3:$AS$260,45),0))","v":0.5},{"$f":"IF($CJ77=1,4.5,IF($CJ77=2,VLOOKUP($CH77,'العاملين '!$A$3:$AS$260,46),0))","v":4.5},{"$f":"IF($CH77>0,VLOOKUP($CH77,'العاملين '!$A$3:$AR$260,29),0)","v":0},{"$f":"IF($CJ77=1,0.2,IF($CJ77=2,VLOOKUP($CH77,'العاملين '!$A$3:$AU$260,47),0))","v":0.2},{"$f":"IF($CJ77=1,0.05,IF($CJ77=2,VLOOKUP($CH77,'العاملين '!$A$3:$AU$260,47),0))","v":0.05},{"$f":"IF($CH77>0,VLOOKUP($CH77,'العاملين '!$A$3:$AR$260,30),0)","v":0},{"$f":"IF($CH77>0,VLOOKUP($CH77,'العاملين '!$A$3:$AR$260,31),0)","v":0},null,{"$f":"IF($CH77>0,VLOOKUP($CH77,'العاملين '!$A$3:$AR$260,33),0)","v":0},{"$f":"IF($CH77>0,VLOOKUP($CH77,'العاملين '!$A$3:$AR$260,34),0)","v":0},{"$f":"IF($CH77>0,VLOOKUP($CH77,'العاملين '!$A$3:$AR$260,35),0)","v":0},{"$f":"IF($CH77>0,VLOOKUP($CH77,'العاملين '!$A$3:$AR$260,36),0)","v":0},{"$f":"IF($CH77>0,VLOOKUP($CH77,'العاملين '!$A$3:$AR$260,37),0)","v":0},{"$f":"IF($CH77>0,VLOOKUP($CH77,'العاملين '!$A$3:$AR$260,38),0)","v":1},{"$f":"IF($CH77>0,VLOOKUP($CH77,'العاملين '!$A$3:$AR$260,39),0)","v":0},{"$f":"IF($CH77>0,VLOOKUP($CH77,'العاملين '!$A$3:$AR$260,40),0)","v":13.85},{"$f":"IF($CH77>0,VLOOKUP($CH77,'العاملين '!$A$3:$AR$260,41),0)","v":0},{"$error":"#VALUE!"},{"$error":"#VALUE!"},{"$error":"#VALUE!"},{"$f":"IF($CH77>0,VLOOKUP($CH77,'العاملين '!$A$3:$AR$260,2),0)","v":"محمد34"},34,null,{"$f":"IF($CH77>0,VLOOKUP($CH77,'العاملين '!$A$3:$AR$260,3),0)","v":1},{"$f":"IF($CH77>0,VLOOKUP($CH77,'العاملين '!$A$3:$AR$260,43),0)","v":0},{"$error":"#VALUE!"}]
[6,{"$f":"IF($CH78>0,VLOOKUP($CH78,'العاملين '!$A$3:$AR$260,8),0)","v":"خبير"},{"$error":"#VALUE!"},{"$error":"#VALUE!"},{"$error":"#VALUE!"},{"$error":"#VALUE!"},{"$error":"#VALUE!"},{"$f":"IF($CH78>0,VLOOKUP($CH78,'العاملين '!$A$3:$AR$260,9),0)","v":498.56},{"$f":"IF($CH78>0,VLOOKUP($CH78,'العاملين '!$A$3:$AR$260,10),0)","v":835.37},{"$f":"IF($CH78>0,VLOOKUP($CH78,'العاملين '!$A$3:$AR$260,11),0)","v":0},{"$f":"IF($CH78>0,VLOOKUP($CH78,'العاملين '!$A$3:$AR$260,12),0)","v":45.83},{"$f":"IF($CH78>0,VLOOKUP($CH78,'العاملين '!$A$3:$AR$260,13),0)","v":46.33},1426.09,{"$f":"IF($CH78>0,VLOOKUP($CH78,'العاملين '!$A$3:$AR$260,14),0)","v":49.85},{"$f":"IF($CH78>0,VLOOKUP($CH78,'العاملين '!$A$3:$AR$260,15),0)","v":0},{"$f":"IF($CH78>0,VLOOKUP($CH78,'العاملين '!$A$3:$AR$260,16),0)","v":4},{"$f":"IF($CH78>0,VLOOKUP($CH78,'العاملين '!$A$3:$AR$260,17),0)","v":2},{"$f":"IF($CH78>0,VLOOKUP($CH78,'العاملين '!$A$3:$AR$260,18),0)","v":0},{"$f":"IF($CH78>0,VLOOKUP($CH78,'العاملين '!$A$3:$AR$260,19),0)","v":0},{"$f":"IF($CH78>0,VLOOKUP($CH78,'العاملين '!$A$3:$AR$260,20),0)","v":0},{"$f":"IF($CH78>0,VLOOKUP($CH78,'العاملين '!$A$3:$AR$260,21),0)","v":0},{"$f":"IF($CH78>0,VLOOKUP($CH78,'العاملين '!$A$3:$AR$260,22),0)","v":0},{"$f":"IF($CH78>0,VLOOKUP($CH78,'العاملين '!$A$3:$AR$260,23),0)","v":0},{"$f":"IF($CH78>0,VLOOKUP($CH78,'العاملين '!$A$3:$AR$260,24),0)","v":0},{"$f":"IF($CH78>0,VLOOKUP($CH78,'العاملين '!$A$3:$AR$260,26),0)","v":0},null,null,null,null,null,null,null,null,null,null,null,null,null,null,{"$f":"IF($CH78>0,VLOOKUP($CH78,'العاملين '!$A$3:$AR$260,25),0)","v":0},1481.9399999999998,1481.9399999999998,0,222.29,14.82,44.46,281.57,10,{"$f":"IF($CH78>0,VLOOKUP($CH78,'العاملين '!$A$3:$AR$260,28),0)","v":0},{"$error":"#VALUE!"},{"$error":"#VALUE!"},{"$error":"#VALUE!"},{"$error":"#VALUE!"},null,{"$error":"#VALUE!"},{"$error":"#VALUE!"},{"$error":"#VALUE!"},{"$error":"#VALUE!"},222.29,14.82,148.19,44.46,14.82,{"$f":"IF($CJ78=1,ROUND(($B78)*7%,2),IF($CJ78=2,VLOOKUP($CH78,'العاملين '!$A$3:$AS$260,44),0))","v":{"$error":"#VALUE!"}},{"$f":"IF($CJ78=1,0.5,IF($CJ78=2,VLOOKUP($CH78,'العاملين '!$A$3:$AS$260,45),0))","v":0.5},{"$f":"IF($CJ78=1,4.5,IF($CJ78=2,VLOOKUP($CH78,'العاملين '!$A$3:$AS$260,46),0))","v":4.5},{"$f":"IF($CH78>0,VLOOKUP($CH78,'العاملين '!$A$3:$AR$260,29),0)","v":0},{"$f":"IF($CJ78=1,0.2,IF($CJ78=2,VLOOKUP($CH78,'العاملين '!$A$3:$AU$260,47),0))","v":0.2},{"$f":"IF($CJ78=1,0.05,IF($CJ78=2,VLOOKUP($CH78,'العاملين '!$A$3:$AU$260,47),0))","v":0.05},{"$f":"IF($CH78>0,VLOOKUP($CH78,'العاملين '!$A$3:$AR$260,30),0)","v":0},{"$f":"IF($CH78>0,VLOOKUP($CH78,'العاملين '!$A$3:$AR$260,31),0)","v":0},null,{"$f":"IF($CH78>0,VLOOKUP($CH78,'العاملين '!$A$3:$AR$260,33),0)","v":0},{"$f":"IF($CH78>0,VLOOKUP($CH78,'العاملين '!$A$3:$AR$260,34),0)","v":0},{"$f":"IF($CH78>0,VLOOKUP($CH78,'العاملين '!$A$3:$AR$260,35),0)","v":0},{"$f":"IF($CH78>0,VLOOKUP($CH78,'العاملين '!$A$3:$AR$260,36),0)","v":0},{"$f":"IF($CH78>0,VLOOKUP($CH78,'العاملين '!$A$3:$AR$260,37),0)","v":0},{"$f":"IF($CH78>0,VLOOKUP($CH78,'العاملين '!$A$3:$AR$260,38),0)","v":1},{"$f":"IF($CH78>0,VLOOKUP($CH78,'العاملين '!$A$3:$AR$260,39),0)","v":21.71},{"$f":"IF($CH78>0,VLOOKUP($CH78,'العاملين '!$A$3:$AR$260,40),0)","v":13.85},{"$f":"IF($CH78>0,VLOOKUP($CH78,'العاملين '!$A$3:$AR$260,41),0)","v":0},{"$error":"#VALUE!"},{"$error":"#VALUE!"},{"$error":"#VALUE!"},{"$f":"IF($CH78>0,VLOOKUP($CH78,'العاملين '!$A$3:$AR$260,2),0)","v":"محمد32"},32,null,{"$f":"IF($CH78>0,VLOOKUP($CH78,'العاملين '!$A$3:$AR$260,3),0)","v":1},{"$f":"IF($CH78>0,VLOOKUP($CH78,'العاملين '!$A$3:$AR$260,43),0)","v":0},{"$error":"#VALUE!"}]
[7,{"$f":"IF($CH79>0,VLOOKUP($CH79,'العاملين '!$A$3:$AR$260,8),0)","v":"خبير"},{"$f":"IF($B79>0,ROUND(($B79)*15%,2),\" \")","v":{"$error":"#VALUE!"}},{"$f":"IF($B79>0,ROUND(($B79)*1%,2),\" \")","v":{"$error":"#VALUE!"}},{"$f":"IF($B79>0,ROUND(($B79)*2%,2),\" \")","v":{"$error":"#VALUE!"}},{"$f":"IF($B79>0,ROUND(($B79)*3%,2),\" \")","v":{"$error":"#VALUE!"}},{"$f":"IF($B79>0,SUM(B79:F79),\" \")","v":{"$error":"#VALUE!"}},{"$f":"IF($CH79>0,VLOOKUP($CH79,'العاملين '!$A$3:$AR$260,9),0)","v":498.56},{"$f":"IF($CH79>0,VLOOKUP($CH79,'العاملين '!$A$3:$AR$260,10),0)","v":835.37},{"$f":"IF($CH79>0,VLOOKUP($CH79,'العاملين '!$A$3:$AR$260,11),0)","v":0},{"$f":"IF($CH79>0,VLOOKUP($CH79,'العاملين '!$A$3:$AR$260,12),0)","v":45.83},{"$f":"IF($CH79>0,VLOOKUP($CH79,'العاملين '!$A$3:$AR$260,13),0)","v":46.33},{"$f":"IF($B79>0,SUM(H79:L79),0)","v":1426.09},{"$f":"IF($CH79>0,VLOOKUP($CH79,'العاملين '!$A$3:$AR$260,14),0)","v":49.85},{"$f":"IF($CH79>0,VLOOKUP($CH79,'العاملين '!$A$3:$AR$260,15),0)","v":0},{"$f":"IF($CH79>0,VLOOKUP($CH79,'العاملين '!$A$3:$AR$260,16),0)","v":4},{"$f":"IF($CH79>0,VLOOKUP($CH79,'العاملين '!$A$3:$AR$260,17),0)","v":2},{"$f":"IF($CH79>0,VLOOKUP($CH79,'العاملين '!$A$3:$AR$260,18),0)","v":0},{"$f":"IF($CH79>0,VLOOKUP($CH79,'العاملين '!$A$3:$AR$260,19),0)","v":0},{"$f":"IF($CH79>0,VLOOKUP($CH79,'العاملين '!$A$3:$AR$260,20),0)","v":0},{"$f":"IF($CH79>0,VLOOKUP($CH79,'العاملين '!$A$3:$AR$260,21),0)","v":0},{"$f":"IF($CH79>0,VLOOKUP($CH79,'العاملين '!$A$3:$AR$260,22),0)","v":0},{"$f":"IF($CH79>0,VLOOKUP($CH79,'العاملين '!$A$3:$AR$260,23),0)","v":0},{"$f":"IF($CH79>0,VLOOKUP($CH79,'العاملين '!$A$3:$AR$260,24),0)","v":0},{"$f":"IF($CH79>0,VLOOKUP($CH79,'العاملين '!$A$3:$AR$260,26),0)","v":0},null,null,null,null,null,null,null,null,null,null,null,null,null,null,{"$f":"IF($CH79>0,VLOOKUP($CH79,'العاملين '!$A$3:$AR$260,25),0)","v":0},{"$f":"SUM(M79:AN79)","v":1481.9399999999998},{"$f":"IF(AO79>$AP$4,$AP$4,AO79)","v":1481.9399999999998},{"$f":"AO79-AP79","v":0},{"$f":"ROUND(($AP79)*15%,2)","v":222.29},{"$f":"ROUND(($AP79)*1%,2)","v":14.82},{"$f":"ROUND(($AP79)*3%,2)","v":44.46},{"$f":"SUM(AR79:AT79)","v":281.57},{"$f":"IF(B79>0,10,\"\")","v":10},{"$f":"IF($CH79>0,VLOOKUP($CH79,'العاملين '!$A$3:$AR$260,28),0)","v":0},{"$f":"SUM(AV79,AU79,AO79,G79,AW79)","v":{"$error":"#VALUE!"}},{"$f":"IF($B79>0,ROUND(($B79)*15%,2),\" \")","v":{"$error":"#VALUE!"}},{"$f":"IF($B79>0,ROUND(($B79)*1%,2),\" \")","v":{"$error":"#VALUE!"}},{"$f":"IF($B79>0,ROUND(($B79)*2%,2),\" \")","v":{"$error":"#VALUE!"}},null,{"$f":"IF($B79>0,ROUND(($B79)*10%,2),\" \")","v":{"$error":"#VALUE!"}},{"$f":"IF($B79>0,ROUND(($B79)*8%,2),\" \")","v":{"$error":"#VALUE!"}},{"$f":"IF($B79>0,ROUND(($B79)*3%,2),\" \")","v":{"$error":"#VALUE!"}},{"$f":"IF($B79>0,ROUND(($B79)*1%,2),\" \")","v":{"$error":"#VALUE!"}},{"$f":"AR79","v":222.29},{"$f":"AS79","v":14.82},{"$f":"ROUND(($AP79)*10%,2)","v":148.19},{"$f":"AT79","v":44.46},{"$f":"AS79","v":14.82},{"$f":"IF($CJ79=1,ROUND(($B79)*7%,2),IF($CJ79=2,VLOOKUP($CH79,'العاملين '!$A$3:$AS$260,44),0))","v":{"$error":"#VALUE!"}},{"$f":"IF($CJ79=1,0.5,IF($CJ79=2,VLOOKUP($CH79,'العاملين '!$A$3:$AS$260,45),0))","v":0.5},{"$f":"IF($CJ79=1,4.5,IF($CJ79=2,VLOOKUP($CH79,'العاملين '!$A$3:$AS$260,46),0))","v":4.5},{"$f":"IF($CH79>0,VLOOKUP($CH79,'العاملين '!$A$3:$AR$260,29),0)","v":0},{"$f":"IF($CJ79=1,0.2,IF($CJ79=2,VLOOKUP($CH79,'العاملين '!$A$3:$AU$260,47),0))","v":0.2},{"$f":"IF($CJ79=1,0.05,IF($CJ79=2,VLOOKUP($CH79,'العاملين '!$A$3:$AU$260,47),0))","v":0.05},{"$f":"IF($CH79>0,VLOOKUP($CH79,'العاملين '!$A$3:$AR$260,30),0)","v":0},{"$f":"IF($CH79>0,VLOOKUP($CH79,'العاملين '!$A$3:$AR$260,31),0)","v":0},null,{"$f":"IF($CH79>0,VLOOKUP($CH79,'العاملين '!$A$3:$AR$260,33),0)","v":0},{"$f":"IF($CH79>0,VLOOKUP($CH79,'العاملين '!$A$3:$AR$260,34),0)","v":0},{"$f":"IF($CH79>0,VLOOKUP($CH79,'العاملين '!$A$3:$AR$260,35),0)","v":0},{"$f":"IF($CH79>0,VLOOKUP($CH79,'العاملين '!$A$3:$AR$260,36),0)","v":0},{"$f":"IF($CH79>0,VLOOKUP($CH79,'العاملين '!$A$3:$AR$260,37),0)","v":0},{"$f":"IF($CH79>0,VLOOKUP($CH79,'العاملين '!$A$3:$AR$260,38),0)","v":1},{"$f":"IF($CH79>0,VLOOKUP($CH79,'العاملين '!$A$3:$AR$260,39),0)","v":21.71},{"$f":"IF($CH79>0,VLOOKUP($CH79,'العاملين '!$A$3:$AR$260,40),0)","v":13.85},{"$f":"IF($CH79>0,VLOOKUP($CH79,'العاملين '!$A$3:$AR$260,41),0)","v":0},{"$f":"CL79-CF79","v":{"$error":"#VALUE!"}},{"$f":"SUM(AY79:CD79)","v":{"$error":"#VALUE!"}},{"$f":"FLOOR(CL79,0.05)","v":{"$error":"#VALUE!"}},{"$f":"IF($CH79>0,VLOOKUP($CH79,'العاملين '!$A$3:$AR$260,2),0)","v":"محمد32"},32,null,{"$f":"IF($CH79>0,VLOOKUP($CH79,'العاملين '!$A$3:$AR$260,3),0)","v":1},{"$f":"IF($CH79>0,VLOOKUP($CH79,'العاملين '!$A$3:$AR$260,43),0)","v":0},{"$error":"#VALUE!"}]
[8,{"$f":"IF($CH80>0,VLOOKUP($CH80,'العاملين '!$A$3:$AR$260,8),0)","v":"خبير"},{"$f":"IF($B80>0,ROUND(($B80)*15%,2),\" \")","v":{"$error":"#VALUE!"}},{"$f":"IF($B80>0,ROUND(($B80)*1%,2),\" \")","v":{"$error":"#VALUE!"}},{"$f":"IF($B80>0,ROUND(($B80)*2%,2),\" \")","v":{"$error":"#VALUE!"}},{"$f":"IF($B80>0,ROUND(($B80)*3%,2),\" \")","v":{"$error":"#VALUE!"}},{"$f":"IF($B80>0,SUM(B80:F80),\" \")","v":{"$error":"#VALUE!"}},{"$f":"IF($CH80>0,VLOOKUP($CH80,'العاملين '!$A$3:$AR$260,9),0)","v":638.54999999999995},{"$f":"IF($CH80>0,VLOOKUP($CH80,'العاملين '!$A$3:$AR$260,10),0)","v":1056.5899999999999},{"$f":"IF($CH80>0,VLOOKUP($CH80,'العاملين '!$A$3:$AR$260,11),0)","v":0},{"$f":"IF($CH80>0,VLOOKUP($CH80,'العاملين '!$A$3:$AR$260,12),0)","v":59.54},{"$f":"IF($CH80>0,VLOOKUP($CH80,'العاملين '!$A$3:$AR$260,13),0)","v":60.04},{"$f":"IF($B80>0,SUM(H80:L80),0)","v":1814.7199999999998},{"$f":"IF($CH80>0,VLOOKUP($CH80,'العاملين '!$A$3:$AR$260,14),0)","v":63.85},{"$f":"IF($CH80>0,VLOOKUP($CH80,'العاملين '!$A$3:$AR$260,15),0)","v":0},{"$f":"IF($CH80>0,VLOOKUP($CH80,'العاملين '!$A$3:$AR$260,16),0)","v":4},{"$f":"IF($CH80>0,VLOOKUP($CH80,'العاملين '!$A$3:$AR$260,17),0)","v":6},{"$f":"IF($CH80>0,VLOOKUP($CH80,'العاملين '!$A$3:$AR$260,18),0)","v":0},{"$f":"IF($CH80>0,VLOOKUP($CH80,'العاملين '!$A$3:$AR$260,19),0)","v":0},{"$f":"IF($CH80>0,VLOOKUP($CH80,'العاملين '!$A$3:$AR$260,20),0)","v":0},{"$f":"IF($CH80>0,VLOOKUP($CH80,'العاملين '!$A$3:$AR$260,21),0)","v":0},{"$f":"IF($CH80>0,VLOOKUP($CH80,'العاملين '!$A$3:$AR$260,22),0)","v":0},{"$f":"IF($CH80>0,VLOOKUP($CH80,'العاملين '!$A$3:$AR$260,23),0)","v":0},{"$f":"IF($CH80>0,VLOOKUP($CH80,'العاملين '!$A$3:$AR$260,24),0)","v":0},{"$f":"IF($CH80>0,VLOOKUP($CH80,'العاملين '!$A$3:$AR$260,26),0)","v":0},null,null,null,null,null,null,null,null,null,null,null,null,null,null,{"$f":"IF($CH80>0,VLOOKUP($CH80,'العاملين '!$A$3:$AR$260,25),0)","v":0},{"$f":"SUM(M80:AN80)","v":1888.5699999999997},{"$f":"IF(AO80>$AP$4,$AP$4,AO80)","v":1888.5699999999997},{"$f":"AO80-AP80","v":0},{"$f":"ROUND(($AP80)*15%,2)","v":283.29000000000002},{"$f":"ROUND(($AP80)*1%,2)","v":18.89},{"$f":"ROUND(($AP80)*3%,2)","v":56.66},{"$f":"SUM(AR80:AT80)","v":358.84000000000003},{"$f":"IF(B80>0,10,\"\")","v":10},{"$f":"IF($CH80>0,VLOOKUP($CH80,'العاملين '!$A$3:$AR$260,28),0)","v":0},{"$f":"SUM(AV80,AU80,AO80,G80,AW80)","v":{"$error":"#VALUE!"}},{"$f":"IF($B80>0,ROUND(($B80)*15%,2),\" \")","v":{"$error":"#VALUE!"}},{"$f":"IF($B80>0,ROUND(($B80)*1%,2),\" \")","v":{"$error":"#VALUE!"}},{"$f":"IF($B80>0,ROUND(($B80)*2%,2),\" \")","v":{"$error":"#VALUE!"}},null,{"$f":"IF($B80>0,ROUND(($B80)*10%,2),\" \")","v":{"$error":"#VALUE!"}},{"$f":"IF($B80>0,ROUND(($B80)*8%,2),\" \")","v":{"$error":"#VALUE!"}},{"$f":"IF($B80>0,ROUND(($B80)*3%,2),\" \")","v":{"$error":"#VALUE!"}},{"$f":"IF($B80>0,ROUND(($B80)*1%,2),\" \")","v":{"$error":"#VALUE!"}},{"$f":"AR80","v":283.29000000000002},{"$f":"AS80","v":18.89},{"$f":"ROUND(($AP80)*10%,2)","v":188.86},{"$f":"AT80","v":56.66},{"$f":"AS80","v":18.89},{"$f":"IF($CJ80=1,ROUND(($B80)*7%,2),IF($CJ80=2,VLOOKUP($CH80,'العاملين '!$A$3:$AS$260,44),0))","v":{"$error":"#VALUE!"}},{"$f":"IF($CJ80=1,0.5,IF($CJ80=2,VLOOKUP($CH80,'العاملين '!$A$3:$AS$260,45),0))","v":0.5},{"$f":"IF($CJ80=1,4.5,IF($CJ80=2,VLOOKUP($CH80,'العاملين '!$A$3:$AS$260,46),0))","v":4.5},{"$f":"IF($CH80>0,VLOOKUP($CH80,'العاملين '!$A$3:$AR$260,29),0)","v":0},{"$f":"IF($CJ80=1,0.2,IF($CJ80=2,VLOOKUP($CH80,'العاملين '!$A$3:$AU$260,47),0))","v":0.2},{"$f":"IF($CJ80=1,0.05,IF($CJ80=2,VLOOKUP($CH80,'العاملين '!$A$3:$AU$260,47),0))","v":0.05},{"$f":"IF($CH80>0,VLOOKUP($CH80,'العاملين '!$A$3:$AR$260,30),0)","v":0},{"$f":"IF($CH80>0,VLOOKUP($CH80,'العاملين '!$A$3:$AR$260,31),0)","v":0},null,{"$f":"IF($CH80>0,VLOOKUP($CH80,'العاملين '!$A$3:$AR$260,33),0)","v":0},{"$f":"IF($CH80>0,VLOOKUP($CH80,'العاملين '!$A$3:$AR$260,34),0)","v":0},{"$f":"IF($CH80>0,VLOOKUP($CH80,'العاملين '!$A$3:$AR$260,35),0)","v":0},{"$f":"IF($CH80>0,VLOOKUP($CH80,'العاملين '!$A$3:$AR$260,36),0)","v":0},{"$f":"IF($CH80>0,VLOOKUP($CH80,'العاملين '!$A$3:$AR$260,37),0)","v":0},{"$f":"IF($CH80>0,VLOOKUP($CH80,'العاملين '!$A$3:$AR$260,38),0)","v":1},{"$f":"IF($CH80>0,VLOOKUP($CH80,'العاملين '!$A$3:$AR$260,39),0)","v":51.65},{"$f":"IF($CH80>0,VLOOKUP($CH80,'العاملين '!$A$3:$AR$260,40),0)","v":15},{"$f":"IF($CH80>0,VLOOKUP($CH80,'العاملين '!$A$3:$AR$260,41),0)","v":0},{"$f":"CL80-CF80","v":{"$error":"#VALUE!"}},{"$f":"SUM(AY80:CD80)","v":{"$error":"#VALUE!"}},{"$f":"FLOOR(CL80,0.05)","v":{"$error":"#VALUE!"}},{"$f":"IF($CH80>0,VLOOKUP($CH80,'العاملين '!$A$3:$AR$260,2),0)","v":"محمد28"},28,null,{"$f":"IF($CH80>0,VLOOKUP($CH80,'العاملين '!$A$3:$AR$260,3),0)","v":1},{"$f":"IF($CH80>0,VLOOKUP($CH80,'العاملين '!$A$3:$AR$260,43),0)","v":0},{"$error":"#VALUE!"}]
[9,{"$f":"IF($CH81>0,VLOOKUP($CH81,'العاملين '!$A$3:$AR$260,8),0)","v":0},{"$f":"IF($B81>0,ROUND(($B81)*15%,2),\" \")","v":" "},{"$f":"IF($B81>0,ROUND(($B81)*1%,2),\" \")","v":" "},{"$f":"IF($B81>0,ROUND(($B81)*2%,2),\" \")","v":" "},{"$f":"IF($B81>0,ROUND(($B81)*3%,2),\" \")","v":" "},{"$f":"IF($B81>0,SUM(B81:F81),\" \")","v":" "},{"$f":"IF($CH81>0,VLOOKUP($CH81,'العاملين '!$A$3:$AR$260,9),0)","v":0},{"$f":"IF($CH81>0,VLOOKUP($CH81,'العاملين '!$A$3:$AR$260,10),0)","v":0},{"$f":"IF($CH81>0,VLOOKUP($CH81,'العاملين '!$A$3:$AR$260,11),0)","v":0},{"$f":"IF($CH81>0,VLOOKUP($CH81,'العاملين '!$A$3:$AR$260,12),0)","v":0},{"$f":"IF($CH81>0,VLOOKUP($CH81,'العاملين '!$A$3:$AR$260,13),0)","v":0},{"$f":"IF($B81>0,SUM(H81:L81),0)","v":0},{"$f":"IF($CH81>0,VLOOKUP($CH81,'العاملين '!$A$3:$AR$260,14),0)","v":0},{"$f":"IF($CH81>0,VLOOKUP($CH81,'العاملين '!$A$3:$AR$260,15),0)","v":0},{"$f":"IF($CH81>0,VLOOKUP($CH81,'العاملين '!$A$3:$AR$260,16),0)","v":0},{"$f":"IF($CH81>0,VLOOKUP($CH81,'العاملين '!$A$3:$AR$260,17),0)","v":0},{"$f":"IF($CH81>0,VLOOKUP($CH81,'العاملين '!$A$3:$AR$260,18),0)","v":0},{"$f":"IF($CH81>0,VLOOKUP($CH81,'العاملين '!$A$3:$AR$260,19),0)","v":0},{"$f":"IF($CH81>0,VLOOKUP($CH81,'العاملين '!$A$3:$AR$260,20),0)","v":0},{"$f":"IF($CH81>0,VLOOKUP($CH81,'العاملين '!$A$3:$AR$260,21),0)","v":0},{"$f":"IF($CH81>0,VLOOKUP($CH81,'العاملين '!$A$3:$AR$260,22),0)","v":0},{"$f":"IF($CH81>0,VLOOKUP($CH81,'العاملين '!$A$3:$AR$260,23),0)","v":0},{"$f":"IF($CH81>0,VLOOKUP($CH81,'العاملين '!$A$3:$AR$260,24),0)","v":0},{"$f":"IF($CH81>0,VLOOKUP($CH81,'العاملين '!$A$3:$AR$260,26),0)","v":0},null,null,null,null,null,null,null,null,null,null,null,null,null,null,{"$f":"IF($CH81>0,VLOOKUP($CH81,'العاملين '!$A$3:$AR$260,25),0)","v":0},{"$f":"SUM(M81:AN81)","v":0},{"$f":"IF(AO81>$AP$4,$AP$4,AO81)","v":0},{"$f":"AO81-AP81","v":0},{"$f":"ROUND(($AP81)*15%,2)","v":0},{"$f":"ROUND(($AP81)*1%,2)","v":0},{"$f":"ROUND(($AP81)*3%,2)","v":0},{"$f":"SUM(AR81:AT81)","v":0},{"$f":"IF(B81>0,10,\"\")","v":""},{"$f":"IF($CH81>0,VLOOKUP($CH81,'العاملين '!$A$3:$AR$260,28),0)","v":0},{"$f":"SUM(AV81,AU81,AO81,G81,AW81)","v":0},{"$f":"IF($B81>0,ROUND(($B81)*15%,2),\" \")","v":" "},{"$f":"IF($B81>0,ROUND(($B81)*1%,2),\" \")","v":" "},{"$f":"IF($B81>0,ROUND(($B81)*2%,2),\" \")","v":" "},null,{"$f":"IF($B81>0,ROUND(($B81)*10%,2),\" \")","v":" "},{"$f":"IF($B81>0,ROUND(($B81)*8%,2),\" \")","v":" "},{"$f":"IF($B81>0,ROUND(($B81)*3%,2),\" \")","v":" "},{"$f":"IF($B81>0,ROUND(($B81)*1%,2),\" \")","v":" "},{"$f":"AR81","v":0},0,{"$f":"ROUND(($AP81)*10%,2)","v":0},{"$f":"AT81","v":0},{"$f":"AS81","v":0},{"$f":"IF($CJ81=1,ROUND(($B81)*7%,2),IF($CJ81=2,VLOOKUP($CH81,'العاملين '!$A$3:$AS$260,44),0))","v":0},{"$f":"IF($CJ81=1,0.5,IF($CJ81=2,VLOOKUP($CH81,'العاملين '!$A$3:$AS$260,45),0))","v":0},{"$f":"IF($CJ81=1,4.5,IF($CJ81=2,VLOOKUP($CH81,'العاملين '!$A$3:$AS$260,46),0))","v":0},{"$f":"IF($CH81>0,VLOOKUP($CH81,'العاملين '!$A$3:$AR$260,29),0)","v":0},{"$f":"IF($CJ81=1,0.2,IF($CJ81=2,VLOOKUP($CH81,'العاملين '!$A$3:$AU$260,47),0))","v":0},{"$f":"IF($CJ81=1,0.05,IF($CJ81=2,VLOOKUP($CH81,'العاملين '!$A$3:$AU$260,47),0))","v":0},{"$f":"IF($CH81>0,VLOOKUP($CH81,'العاملين '!$A$3:$AR$260,30),0)","v":0},{"$f":"IF($CH81>0,VLOOKUP($CH81,'العاملين '!$A$3:$AR$260,31),0)","v":0},null,{"$f":"IF($CH81>0,VLOOKUP($CH81,'العاملين '!$A$3:$AR$260,33),0)","v":0},{"$f":"IF($CH81>0,VLOOKUP($CH81,'العاملين '!$A$3:$AR$260,34),0)","v":0},{"$f":"IF($CH81>0,VLOOKUP($CH81,'العاملين '!$A$3:$AR$260,35),0)","v":0},{"$f":"IF($CH81>0,VLOOKUP($CH81,'العاملين '!$A$3:$AR$260,36),0)","v":0},{"$f":"IF($CH81>0,VLOOKUP($CH81,'العاملين '!$A$3:$AR$260,37),0)","v":0},{"$f":"IF($CH81>0,VLOOKUP($CH81,'العاملين '!$A$3:$AR$260,38),0)","v":0},{"$f":"IF($CH81>0,VLOOKUP($CH81,'العاملين '!$A$3:$AR$260,39),0)","v":0},{"$f":"IF($CH81>0,VLOOKUP($CH81,'العاملين '!$A$3:$AR$260,40),0)","v":0},{"$f":"IF($CH81>0,VLOOKUP($CH81,'العاملين '!$A$3:$AR$260,41),0)","v":0},{"$f":"CL81-CF81","v":0},{"$f":"SUM(AY81:CD81)","v":0},{"$f":"FLOOR(CL81,0.05)","v":0},{"$f":"IF($CH81>0,VLOOKUP($CH81,'العاملين '!$A$3:$AR$260,2),0)","v":0},0,null,{"$f":"IF($CH81>0,VLOOKUP($CH81,'العاملين '!$A$3:$AR$260,3),0)","v":0},{"$f":"IF($CH81>0,VLOOKUP($CH81,'العاملين '!$A$3:$AR$260,43),0)","v":0},0]
[10,{"$f":"IF($CH82>0,VLOOKUP($CH82,'العاملين '!$A$3:$AR$260,8),0)","v":0}," "," "," "," "," ",{"$f":"IF($CH82>0,VLOOKUP($CH82,'العاملين '!$A$3:$AR$260,9),0)","v":0},{"$f":"IF($CH82>0,VLOOKUP($CH82,'العاملين '!$A$3:$AR$260,10),0)","v":0},{"$f":"IF($CH82>0,VLOOKUP($CH82,'العاملين '!$A$3:$AR$260,11),0)","v":0},{"$f":"IF($CH82>0,VLOOKUP($CH82,'العاملين '!$A$3:$AR$260,12),0)","v":0},{"$f":"IF($CH82>0,VLOOKUP($CH82,'العاملين '!$A$3:$AR$260,13),0)","v":0},0,{"$f":"IF($CH82>0,VLOOKUP($CH82,'العاملين '!$A$3:$AR$260,14),0)","v":0},{"$f":"IF($CH82>0,VLOOKUP($CH82,'العاملين '!$A$3:$AR$260,15),0)","v":0},{"$f":"IF($CH82>0,VLOOKUP($CH82,'العاملين '!$A$3:$AR$260,16),0)","v":0},{"$f":"IF($CH82>0,VLOOKUP($CH82,'العاملين '!$A$3:$AR$260,17),0)","v":0},{"$f":"IF($CH82>0,VLOOKUP($CH82,'العاملين '!$A$3:$AR$260,18),0)","v":0},{"$f":"IF($CH82>0,VLOOKUP($CH82,'العاملين '!$A$3:$AR$260,19),0)","v":0},{"$f":"IF($CH82>0,VLOOKUP($CH82,'العاملين '!$A$3:$AR$260,20),0)","v":0},{"$f":"IF($CH82>0,VLOOKUP($CH82,'العاملين '!$A$3:$AR$260,21),0)","v":0},{"$f":"IF($CH82>0,VLOOKUP($CH82,'العاملين '!$A$3:$AR$260,22),0)","v":0},{"$f":"IF($CH82>0,VLOOKUP($CH82,'العاملين '!$A$3:$AR$260,23),0)","v":0},{"$f":"IF($CH82>0,VLOOKUP($CH82,'العاملين '!$A$3:$AR$260,24),0)","v":0},{"$f":"IF($CH82>0,VLOOKUP($CH82,'العاملين '!$A$3:$AR$260,26),0)","v":0},null,null,null,null,null,null,null,null,null,null,null,null,null,null,{"$f":"IF($CH82>0,VLOOKUP($CH82,'العاملين '!$A$3:$AR$260,25),0)","v":0},0,0,0,0,0,0,0,"",{"$f":"IF($CH82>0,VLOOKUP($CH82,'العاملين '!$A$3:$AR$260,28),0)","v":0},0," "," "," ",null," "," "," "," ",0,0,0,0,0,{"$f":"IF($CJ82=1,ROUND(($B82)*7%,2),IF($CJ82=2,VLOOKUP($CH82,'العاملين '!$A$3:$AS$260,44),0))","v":0},{"$f":"IF($CJ82=1,0.5,IF($CJ82=2,VLOOKUP($CH82,'العاملين '!$A$3:$AS$260,45),0))","v":0},{"$f":"IF($CJ82=1,4.5,IF($CJ82=2,VLOOKUP($CH82,'العاملين '!$A$3:$AS$260,46),0))","v":0},{"$f":"IF($CH82>0,VLOOKUP($CH82,'العاملين '!$A$3:$AR$260,29),0)","v":0},{"$f":"IF($CJ82=1,0.2,IF($CJ82=2,VLOOKUP($CH82,'العاملين '!$A$3:$AU$260,47),0))","v":0},{"$f":"IF($CJ82=1,0.05,IF($CJ82=2,VLOOKUP($CH82,'العاملين '!$A$3:$AU$260,47),0))","v":0},{"$f":"IF($CH82>0,VLOOKUP($CH82,'العاملين '!$A$3:$AR$260,30),0)","v":0},{"$f":"IF($CH82>0,VLOOKUP($CH82,'العاملين '!$A$3:$AR$260,31),0)","v":0},null,{"$f":"IF($CH82>0,VLOOKUP($CH82,'العاملين '!$A$3:$AR$260,33),0)","v":0},{"$f":"IF($CH82>0,VLOOKUP($CH82,'العاملين '!$A$3:$AR$260,34),0)","v":0},{"$f":"IF($CH82>0,VLOOKUP($CH82,'العاملين '!$A$3:$AR$260,35),0)","v":0},{"$f":"IF($CH82>0,VLOOKUP($CH82,'العاملين '!$A$3:$AR$260,36),0)","v":0},{"$f":"IF($CH82>0,VLOOKUP($CH82,'العاملين '!$A$3:$AR$260,37),0)","v":0},{"$f":"IF($CH82>0,VLOOKUP($CH82,'العاملين '!$A$3:$AR$260,38),0)","v":0},{"$f":"IF($CH82>0,VLOOKUP($CH82,'العاملين '!$A$3:$AR$260,39),0)","v":0},{"$f":"IF($CH82>0,VLOOKUP($CH82,'العاملين '!$A$3:$AR$260,40),0)","v":0},{"$f":"IF($CH82>0,VLOOKUP($CH82,'العاملين '!$A$3:$AR$260,41),0)","v":0},0,0,0,{"$f":"IF($CH82>0,VLOOKUP($CH82,'العاملين '!$A$3:$AR$260,2),0)","v":0},0,null,{"$f":"IF($CH82>0,VLOOKUP($CH82,'العاملين '!$A$3:$AR$260,3),0)","v":0},{"$f":"IF($CH82>0,VLOOKUP($CH82,'العاملين '!$A$3:$AR$260,43),0)","v":0},0]
[11,{"$f":"IF($CH83>0,VLOOKUP($CH83,'العاملين '!$A$3:$AR$260,8),0)","v":0}," "," "," "," "," ",{"$f":"IF($CH83>0,VLOOKUP($CH83,'العاملين '!$A$3:$AR$260,9),0)","v":0},{"$f":"IF($CH83>0,VLOOKUP($CH83,'العاملين '!$A$3:$AR$260,10),0)","v":0},{"$f":"IF($CH83>0,VLOOKUP($CH83,'العاملين '!$A$3:$AR$260,11),0)","v":0},{"$f":"IF($CH83>0,VLOOKUP($CH83,'العاملين '!$A$3:$AR$260,12),0)","v":0},{"$f":"IF($CH83>0,VLOOKUP($CH83,'العاملين '!$A$3:$AR$260,13),0)","v":0},0,{"$f":"IF($CH83>0,VLOOKUP($CH83,'العاملين '!$A$3:$AR$260,14),0)","v":0},{"$f":"IF($CH83>0,VLOOKUP($CH83,'العاملين '!$A$3:$AR$260,15),0)","v":0},{"$f":"IF($CH83>0,VLOOKUP($CH83,'العاملين '!$A$3:$AR$260,16),0)","v":0},{"$f":"IF($CH83>0,VLOOKUP($CH83,'العاملين '!$A$3:$AR$260,17),0)","v":0},{"$f":"IF($CH83>0,VLOOKUP($CH83,'العاملين '!$A$3:$AR$260,18),0)","v":0},{"$f":"IF($CH83>0,VLOOKUP($CH83,'العاملين '!$A$3:$AR$260,19),0)","v":0},{"$f":"IF($CH83>0,VLOOKUP($CH83,'العاملين '!$A$3:$AR$260,20),0)","v":0},{"$f":"IF($CH83>0,VLOOKUP($CH83,'العاملين '!$A$3:$AR$260,21),0)","v":0},{"$f":"IF($CH83>0,VLOOKUP($CH83,'العاملين '!$A$3:$AR$260,22),0)","v":0},{"$f":"IF($CH83>0,VLOOKUP($CH83,'العاملين '!$A$3:$AR$260,23),0)","v":0},{"$f":"IF($CH83>0,VLOOKUP($CH83,'العاملين '!$A$3:$AR$260,24),0)","v":0},{"$f":"IF($CH83>0,VLOOKUP($CH83,'العاملين '!$A$3:$AR$260,26),0)","v":0},null,null,null,null,null,null,null,null,null,null,null,null,null,null,{"$f":"IF($CH83>0,VLOOKUP($CH83,'العاملين '!$A$3:$AR$260,25),0)","v":0},0,0,0,0,0,0,0,"",{"$f":"IF($CH83>0,VLOOKUP($CH83,'العاملين '!$A$3:$AR$260,28),0)","v":0},0," "," "," ",null," "," "," "," ",0,0,0,0,0,{"$f":"IF($CJ83=1,ROUND(($B83)*7%,2),IF($CJ83=2,VLOOKUP($CH83,'العاملين '!$A$3:$AS$260,44),0))","v":0},{"$f":"IF($CJ83=1,0.5,IF($CJ83=2,VLOOKUP($CH83,'العاملين '!$A$3:$AS$260,45),0))","v":0},{"$f":"IF($CJ83=1,4.5,IF($CJ83=2,VLOOKUP($CH83,'العاملين '!$A$3:$AS$260,46),0))","v":0},{"$f":"IF($CH83>0,VLOOKUP($CH83,'العاملين '!$A$3:$AR$260,29),0)","v":0},{"$f":"IF($CJ83=1,0.2,IF($CJ83=2,VLOOKUP($CH83,'العاملين '!$A$3:$AU$260,47),0))","v":0},{"$f":"IF($CJ83=1,0.05,IF($CJ83=2,VLOOKUP($CH83,'العاملين '!$A$3:$AU$260,47),0))","v":0},{"$f":"IF($CH83>0,VLOOKUP($CH83,'العاملين '!$A$3:$AR$260,30),0)","v":0},{"$f":"IF($CH83>0,VLOOKUP($CH83,'العاملين '!$A$3:$AR$260,31),0)","v":0},null,{"$f":"IF($CH83>0,VLOOKUP($CH83,'العاملين '!$A$3:$AR$260,33),0)","v":0},{"$f":"IF($CH83>0,VLOOKUP($CH83,'العاملين '!$A$3:$AR$260,34),0)","v":0},{"$f":"IF($CH83>0,VLOOKUP($CH83,'العاملين '!$A$3:$AR$260,35),0)","v":0},{"$f":"IF($CH83>0,VLOOKUP($CH83,'العاملين '!$A$3:$AR$260,36),0)","v":0},{"$f":"IF($CH83>0,VLOOKUP($CH83,'العاملين '!$A$3:$AR$260,37),0)","v":0},{"$f":"IF($CH83>0,VLOOKUP($CH83,'العاملين '!$A$3:$AR$260,38),0)","v":0},{"$f":"IF($CH83>0,VLOOKUP($CH83,'العاملين '!$A$3:$AR$260,39),0)","v":0},{"$f":"IF($CH83>0,VLOOKUP($CH83,'العاملين '!$A$3:$AR$260,40),0)","v":0},{"$f":"IF($CH83>0,VLOOKUP($CH83,'العاملين '!$A$3:$AR$260,41),0)","v":0},0,0,0,{"$f":"IF($CH83>0,VLOOKUP($CH83,'العاملين '!$A$3:$AR$260,2),0)","v":0},0,null,{"$f":"IF($CH83>0,VLOOKUP($CH83,'العاملين '!$A$3:$AR$260,3),0)","v":0},{"$f":"IF($CH83>0,VLOOKUP($CH83,'العاملين '!$A$3:$AR$260,43),0)","v":0},0]
[12,{"$f":"IF($CH84>0,VLOOKUP($CH84,'العاملين '!$A$3:$AR$260,8),0)","v":0}," "," "," "," "," ",{"$f":"IF($CH84>0,VLOOKUP($CH84,'العاملين '!$A$3:$AR$260,9),0)","v":0},{"$f":"IF($CH84>0,VLOOKUP($CH84,'العاملين '!$A$3:$AR$260,10),0)","v":0},{"$f":"IF($CH84>0,VLOOKUP($CH84,'العاملين '!$A$3:$AR$260,11),0)","v":0},{"$f":"IF($CH84>0,VLOOKUP($CH84,'العاملين '!$A$3:$AR$260,12),0)","v":0},{"$f":"IF($CH84>0,VLOOKUP($CH84,'العاملين '!$A$3:$AR$260,13),0)","v":0},0,{"$f":"IF($CH84>0,VLOOKUP($CH84,'العاملين '!$A$3:$AR$260,14),0)","v":0},{"$f":"IF($CH84>0,VLOOKUP($CH84,'العاملين '!$A$3:$AR$260,15),0)","v":0},{"$f":"IF($CH84>0,VLOOKUP($CH84,'العاملين '!$A$3:$AR$260,16),0)","v":0},{"$f":"IF($CH84>0,VLOOKUP($CH84,'العاملين '!$A$3:$AR$260,17),0)","v":0},{"$f":"IF($CH84>0,VLOOKUP($CH84,'العاملين '!$A$3:$AR$260,18),0)","v":0},{"$f":"IF($CH84>0,VLOOKUP($CH84,'العاملين '!$A$3:$AR$260,19),0)","v":0},{"$f":"IF($CH84>0,VLOOKUP($CH84,'العاملين '!$A$3:$AR$260,20),0)","v":0},{"$f":"IF($CH84>0,VLOOKUP($CH84,'العاملين '!$A$3:$AR$260,21),0)","v":0},{"$f":"IF($CH84>0,VLOOKUP($CH84,'العاملين '!$A$3:$AR$260,22),0)","v":0},{"$f":"IF($CH84>0,VLOOKUP($CH84,'العاملين '!$A$3:$AR$260,23),0)","v":0},{"$f":"IF($CH84>0,VLOOKUP($CH84,'العاملين '!$A$3:$AR$260,24),0)","v":0},{"$f":"IF($CH84>0,VLOOKUP($CH84,'العاملين '!$A$3:$AR$260,26),0)","v":0},null,null,null,null,null,null,null,null,null,null,null,null,null,null,{"$f":"IF($CH84>0,VLOOKUP($CH84,'العاملين '!$A$3:$AR$260,25),0)","v":0},0,0,0,0,0,0,0,"",{"$f":"IF($CH84>0,VLOOKUP($CH84,'العاملين '!$A$3:$AR$260,28),0)","v":0},0," "," "," ",null," "," "," "," ",0,0,0,0,0,{"$f":"IF($CJ84=1,ROUND(($B84)*7%,2),IF($CJ84=2,VLOOKUP($CH84,'العاملين '!$A$3:$AS$260,44),0))","v":0},{"$f":"IF($CJ84=1,0.5,IF($CJ84=2,VLOOKUP($CH84,'العاملين '!$A$3:$AS$260,45),0))","v":0},{"$f":"IF($CJ84=1,4.5,IF($CJ84=2,VLOOKUP($CH84,'العاملين '!$A$3:$AS$260,46),0))","v":0},{"$f":"IF($CH84>0,VLOOKUP($CH84,'العاملين '!$A$3:$AR$260,29),0)","v":0},{"$f":"IF($CJ84=1,0.2,IF($CJ84=2,VLOOKUP($CH84,'العاملين '!$A$3:$AU$260,47),0))","v":0},{"$f":"IF($CJ84=1,0.05,IF($CJ84=2,VLOOKUP($CH84,'العاملين '!$A$3:$AU$260,47),0))","v":0},{"$f":"IF($CH84>0,VLOOKUP($CH84,'العاملين '!$A$3:$AR$260,30),0)","v":0},{"$f":"IF($CH84>0,VLOOKUP($CH84,'العاملين '!$A$3:$AR$260,31),0)","v":0},null,{"$f":"IF($CH84>0,VLOOKUP($CH84,'العاملين '!$A$3:$AR$260,33),0)","v":0},{"$f":"IF($CH84>0,VLOOKUP($CH84,'العاملين '!$A$3:$AR$260,34),0)","v":0},{"$f":"IF($CH84>0,VLOOKUP($CH84,'العاملين '!$A$3:$AR$260,35),0)","v":0},{"$f":"IF($CH84>0,VLOOKUP($CH84,'العاملين '!$A$3:$AR$260,36),0)","v":0},{"$f":"IF($CH84>0,VLOOKUP($CH84,'العاملين '!$A$3:$AR$260,37),0)","v":0},{"$f":"IF($CH84>0,VLOOKUP($CH84,'العاملين '!$A$3:$AR$260,38),0)","v":0},{"$f":"IF($CH84>0,VLOOKUP($CH84,'العاملين '!$A$3:$AR$260,39),0)","v":0},{"$f":"IF($CH84>0,VLOOKUP($CH84,'العاملين '!$A$3:$AR$260,40),0)","v":0},{"$f":"IF($CH84>0,VLOOKUP($CH84,'العاملين '!$A$3:$AR$260,41),0)","v":0},0,0,0,{"$f":"IF($CH84>0,VLOOKUP($CH84,'العاملين '!$A$3:$AR$260,2),0)","v":0},0,null,{"$f":"IF($CH84>0,VLOOKUP($CH84,'العاملين '!$A$3:$AR$260,3),0)","v":0},{"$f":"IF($CH84>0,VLOOKUP($CH84,'العاملين '!$A$3:$AR$260,43),0)","v":0},0]
[13,{"$f":"IF($CH85>0,VLOOKUP($CH85,'العاملين '!$A$3:$AR$260,8),0)","v":0}," "," "," "," "," ",{"$f":"IF($CH85>0,VLOOKUP($CH85,'العاملين '!$A$3:$AR$260,9),0)","v":0},{"$f":"IF($CH85>0,VLOOKUP($CH85,'العاملين '!$A$3:$AR$260,10),0)","v":0},{"$f":"IF($CH85>0,VLOOKUP($CH85,'العاملين '!$A$3:$AR$260,11),0)","v":0},{"$f":"IF($CH85>0,VLOOKUP($CH85,'العاملين '!$A$3:$AR$260,12),0)","v":0},{"$f":"IF($CH85>0,VLOOKUP($CH85,'العاملين '!$A$3:$AR$260,13),0)","v":0},0,{"$f":"IF($CH85>0,VLOOKUP($CH85,'العاملين '!$A$3:$AR$260,14),0)","v":0},{"$f":"IF($CH85>0,VLOOKUP($CH85,'العاملين '!$A$3:$AR$260,15),0)","v":0},{"$f":"IF($CH85>0,VLOOKUP($CH85,'العاملين '!$A$3:$AR$260,16),0)","v":0},{"$f":"IF($CH85>0,VLOOKUP($CH85,'العاملين '!$A$3:$AR$260,17),0)","v":0},{"$f":"IF($CH85>0,VLOOKUP($CH85,'العاملين '!$A$3:$AR$260,18),0)","v":0},{"$f":"IF($CH85>0,VLOOKUP($CH85,'العاملين '!$A$3:$AR$260,19),0)","v":0},{"$f":"IF($CH85>0,VLOOKUP($CH85,'العاملين '!$A$3:$AR$260,20),0)","v":0},{"$f":"IF($CH85>0,VLOOKUP($CH85,'العاملين '!$A$3:$AR$260,21),0)","v":0},{"$f":"IF($CH85>0,VLOOKUP($CH85,'العاملين '!$A$3:$AR$260,22),0)","v":0},{"$f":"IF($CH85>0,VLOOKUP($CH85,'العاملين '!$A$3:$AR$260,23),0)","v":0},{"$f":"IF($CH85>0,VLOOKUP($CH85,'العاملين '!$A$3:$AR$260,24),0)","v":0},{"$f":"IF($CH85>0,VLOOKUP($CH85,'العاملين '!$A$3:$AR$260,26),0)","v":0},null,null,null,null,null,null,null,null,null,null,null,null,null,null,{"$f":"IF($CH85>0,VLOOKUP($CH85,'العاملين '!$A$3:$AR$260,25),0)","v":0},0,0,0,0,0,0,0,"",{"$f":"IF($CH85>0,VLOOKUP($CH85,'العاملين '!$A$3:$AR$260,28),0)","v":0},0," "," "," ",null," "," "," "," ",0,0,0,0,0,{"$f":"IF($CJ85=1,ROUND(($B85)*7%,2),IF($CJ85=2,VLOOKUP($CH85,'العاملين '!$A$3:$AS$260,44),0))","v":0},{"$f":"IF($CJ85=1,0.5,IF($CJ85=2,VLOOKUP($CH85,'العاملين '!$A$3:$AS$260,45),0))","v":0},{"$f":"IF($CJ85=1,4.5,IF($CJ85=2,VLOOKUP($CH85,'العاملين '!$A$3:$AS$260,46),0))","v":0},{"$f":"IF($CH85>0,VLOOKUP($CH85,'العاملين '!$A$3:$AR$260,29),0)","v":0},{"$f":"IF($CJ85=1,0.2,IF($CJ85=2,VLOOKUP($CH85,'العاملين '!$A$3:$AU$260,47),0))","v":0},{"$f":"IF($CJ85=1,0.05,IF($CJ85=2,VLOOKUP($CH85,'العاملين '!$A$3:$AU$260,47),0))","v":0},{"$f":"IF($CH85>0,VLOOKUP($CH85,'العاملين '!$A$3:$AR$260,30),0)","v":0},{"$f":"IF($CH85>0,VLOOKUP($CH85,'العاملين '!$A$3:$AR$260,31),0)","v":0},null,{"$f":"IF($CH85>0,VLOOKUP($CH85,'العاملين '!$A$3:$AR$260,33),0)","v":0},{"$f":"IF($CH85>0,VLOOKUP($CH85,'العاملين '!$A$3:$AR$260,34),0)","v":0},{"$f":"IF($CH85>0,VLOOKUP($CH85,'العاملين '!$A$3:$AR$260,35),0)","v":0},{"$f":"IF($CH85>0,VLOOKUP($CH85,'العاملين '!$A$3:$AR$260,36),0)","v":0},{"$f":"IF($CH85>0,VLOOKUP($CH85,'العاملين '!$A$3:$AR$260,37),0)","v":0},{"$f":"IF($CH85>0,VLOOKUP($CH85,'العاملين '!$A$3:$AR$260,38),0)","v":0},{"$f":"IF($CH85>0,VLOOKUP($CH85,'العاملين '!$A$3:$AR$260,39),0)","v":0},{"$f":"IF($CH85>0,VLOOKUP($CH85,'العاملين '!$A$3:$AR$260,40),0)","v":0},{"$f":"IF($CH85>0,VLOOKUP($CH85,'العاملين '!$A$3:$AR$260,41),0)","v":0},0,0,0,{"$f":"IF($CH85>0,VLOOKUP($CH85,'العاملين '!$A$3:$AR$260,2),0)","v":0},0,null,{"$f":"IF($CH85>0,VLOOKUP($CH85,'العاملين '!$A$3:$AR$260,3),0)","v":0},{"$f":"IF($CH85>0,VLOOKUP($CH85,'العاملين '!$A$3:$AR$260,43),0)","v":0},0]
[14,{"$f":"IF($CH86>0,VLOOKUP($CH86,'العاملين '!$A$3:$AR$260,8),0)","v":0}," "," "," "," "," ",{"$f":"IF($CH86>0,VLOOKUP($CH86,'العاملين '!$A$3:$AR$260,9),0)","v":0},{"$f":"IF($CH86>0,VLOOKUP($CH86,'العاملين '!$A$3:$AR$260,10),0)","v":0},{"$f":"IF($CH86>0,VLOOKUP($CH86,'العاملين '!$A$3:$AR$260,11),0)","v":0},{"$f":"IF($CH86>0,VLOOKUP($CH86,'العاملين '!$A$3:$AR$260,12),0)","v":0},{"$f":"IF($CH86>0,VLOOKUP($CH86,'العاملين '!$A$3:$AR$260,13),0)","v":0},0,{"$f":"IF($CH86>0,VLOOKUP($CH86,'العاملين '!$A$3:$AR$260,14),0)","v":0},{"$f":"IF($CH86>0,VLOOKUP($CH86,'العاملين '!$A$3:$AR$260,15),0)","v":0},{"$f":"IF($CH86>0,VLOOKUP($CH86,'العاملين '!$A$3:$AR$260,16),0)","v":0},{"$f":"IF($CH86>0,VLOOKUP($CH86,'العاملين '!$A$3:$AR$260,17),0)","v":0},{"$f":"IF($CH86>0,VLOOKUP($CH86,'العاملين '!$A$3:$AR$260,18),0)","v":0},{"$f":"IF($CH86>0,VLOOKUP($CH86,'العاملين '!$A$3:$AR$260,19),0)","v":0},{"$f":"IF($CH86>0,VLOOKUP($CH86,'العاملين '!$A$3:$AR$260,20),0)","v":0},{"$f":"IF($CH86>0,VLOOKUP($CH86,'العاملين '!$A$3:$AR$260,21),0)","v":0},{"$f":"IF($CH86>0,VLOOKUP($CH86,'العاملين '!$A$3:$AR$260,22),0)","v":0},{"$f":"IF($CH86>0,VLOOKUP($CH86,'العاملين '!$A$3:$AR$260,23),0)","v":0},{"$f":"IF($CH86>0,VLOOKUP($CH86,'العاملين '!$A$3:$AR$260,24),0)","v":0},{"$f":"IF($CH86>0,VLOOKUP($CH86,'العاملين '!$A$3:$AR$260,26),0)","v":0},null,null,null,null,null,null,null,null,null,null,null,null,null,null,{"$f":"IF($CH86>0,VLOOKUP($CH86,'العاملين '!$A$3:$AR$260,25),0)","v":0},0,0,0,0,0,0,0,"",{"$f":"IF($CH86>0,VLOOKUP($CH86,'العاملين '!$A$3:$AR$260,28),0)","v":0},0," "," "," ",null," "," "," "," ",0,0,0,0,0,{"$f":"IF($CJ86=1,ROUND(($B86)*7%,2),IF($CJ86=2,VLOOKUP($CH86,'العاملين '!$A$3:$AS$260,44),0))","v":0},{"$f":"IF($CJ86=1,0.5,IF($CJ86=2,VLOOKUP($CH86,'العاملين '!$A$3:$AS$260,45),0))","v":0},{"$f":"IF($CJ86=1,4.5,IF($CJ86=2,VLOOKUP($CH86,'العاملين '!$A$3:$AS$260,46),0))","v":0},{"$f":"IF($CH86>0,VLOOKUP($CH86,'العاملين '!$A$3:$AR$260,29),0)","v":0},{"$f":"IF($CJ86=1,0.2,IF($CJ86=2,VLOOKUP($CH86,'العاملين '!$A$3:$AU$260,47),0))","v":0},{"$f":"IF($CJ86=1,0.05,IF($CJ86=2,VLOOKUP($CH86,'العاملين '!$A$3:$AU$260,47),0))","v":0},{"$f":"IF($CH86>0,VLOOKUP($CH86,'العاملين '!$A$3:$AR$260,30),0)","v":0},{"$f":"IF($CH86>0,VLOOKUP($CH86,'العاملين '!$A$3:$AR$260,31),0)","v":0},null,{"$f":"IF($CH86>0,VLOOKUP($CH86,'العاملين '!$A$3:$AR$260,33),0)","v":0},{"$f":"IF($CH86>0,VLOOKUP($CH86,'العاملين '!$A$3:$AR$260,34),0)","v":0},{"$f":"IF($CH86>0,VLOOKUP($CH86,'العاملين '!$A$3:$AR$260,35),0)","v":0},{"$f":"IF($CH86>0,VLOOKUP($CH86,'العاملين '!$A$3:$AR$260,36),0)","v":0},{"$f":"IF($CH86>0,VLOOKUP($CH86,'العاملين '!$A$3:$AR$260,37),0)","v":0},{"$f":"IF($CH86>0,VLOOKUP($CH86,'العاملين '!$A$3:$AR$260,38),0)","v":0},{"$f":"IF($CH86>0,VLOOKUP($CH86,'العاملين '!$A$3:$AR$260,39),0)","v":0},{"$f":"IF($CH86>0,VLOOKUP($CH86,'العاملين '!$A$3:$AR$260,40),0)","v":0},{"$f":"IF($CH86>0,VLOOKUP($CH86,'العاملين '!$A$3:$AR$260,41),0)","v":0},0,0,0,{"$f":"IF($CH86>0,VLOOKUP($CH86,'العاملين '!$A$3:$AR$260,2),0)","v":0},0,null,{"$f":"IF($CH86>0,VLOOKUP($CH86,'العاملين '!$A$3:$AR$260,3),0)","v":0},{"$f":"IF($CH86>0,VLOOKUP($CH86,'العاملين '!$A$3:$AR$260,43),0)","v":0},0]
[15,{"$f":"IF($CH87>0,VLOOKUP($CH87,'العاملين '!$A$3:$AR$260,8),0)","v":0}," "," "," "," "," ",{"$f":"IF($CH87>0,VLOOKUP($CH87,'العاملين '!$A$3:$AR$260,9),0)","v":0},{"$f":"IF($CH87>0,VLOOKUP($CH87,'العاملين '!$A$3:$AR$260,10),0)","v":0},{"$f":"IF($CH87>0,VLOOKUP($CH87,'العاملين '!$A$3:$AR$260,11),0)","v":0},{"$f":"IF($CH87>0,VLOOKUP($CH87,'العاملين '!$A$3:$AR$260,12),0)","v":0},{"$f":"IF($CH87>0,VLOOKUP($CH87,'العاملين '!$A$3:$AR$260,13),0)","v":0},0,{"$f":"IF($CH87>0,VLOOKUP($CH87,'العاملين '!$A$3:$AR$260,14),0)","v":0},{"$f":"IF($CH87>0,VLOOKUP($CH87,'العاملين '!$A$3:$AR$260,15),0)","v":0},{"$f":"IF($CH87>0,VLOOKUP($CH87,'العاملين '!$A$3:$AR$260,16),0)","v":0},{"$f":"IF($CH87>0,VLOOKUP($CH87,'العاملين '!$A$3:$AR$260,17),0)","v":0},{"$f":"IF($CH87>0,VLOOKUP($CH87,'العاملين '!$A$3:$AR$260,18),0)","v":0},{"$f":"IF($CH87>0,VLOOKUP($CH87,'العاملين '!$A$3:$AR$260,19),0)","v":0},{"$f":"IF($CH87>0,VLOOKUP($CH87,'العاملين '!$A$3:$AR$260,20),0)","v":0},{"$f":"IF($CH87>0,VLOOKUP($CH87,'العاملين '!$A$3:$AR$260,21),0)","v":0},{"$f":"IF($CH87>0,VLOOKUP($CH87,'العاملين '!$A$3:$AR$260,22),0)","v":0},{"$f":"IF($CH87>0,VLOOKUP($CH87,'العاملين '!$A$3:$AR$260,23),0)","v":0},{"$f":"IF($CH87>0,VLOOKUP($CH87,'العاملين '!$A$3:$AR$260,24),0)","v":0},{"$f":"IF($CH87>0,VLOOKUP($CH87,'العاملين '!$A$3:$AR$260,26),0)","v":0},null,null,null,null,null,null,null,null,null,null,null,null,null,null,{"$f":"IF($CH87>0,VLOOKUP($CH87,'العاملين '!$A$3:$AR$260,25),0)","v":0},0,0,0,0,0,0,0,"",{"$f":"IF($CH87>0,VLOOKUP($CH87,'العاملين '!$A$3:$AR$260,28),0)","v":0},0," "," "," ",null," "," "," "," ",0,0,0,0,0,{"$f":"IF($CJ87=1,ROUND(($B87)*7%,2),IF($CJ87=2,VLOOKUP($CH87,'العاملين '!$A$3:$AS$260,44),0))","v":0},{"$f":"IF($CJ87=1,0.5,IF($CJ87=2,VLOOKUP($CH87,'العاملين '!$A$3:$AS$260,45),0))","v":0},{"$f":"IF($CJ87=1,4.5,IF($CJ87=2,VLOOKUP($CH87,'العاملين '!$A$3:$AS$260,46),0))","v":0},{"$f":"IF($CH87>0,VLOOKUP($CH87,'العاملين '!$A$3:$AR$260,29),0)","v":0},{"$f":"IF($CJ87=1,0.2,IF($CJ87=2,VLOOKUP($CH87,'العاملين '!$A$3:$AU$260,47),0))","v":0},{"$f":"IF($CJ87=1,0.05,IF($CJ87=2,VLOOKUP($CH87,'العاملين '!$A$3:$AU$260,47),0))","v":0},{"$f":"IF($CH87>0,VLOOKUP($CH87,'العاملين '!$A$3:$AR$260,30),0)","v":0},{"$f":"IF($CH87>0,VLOOKUP($CH87,'العاملين '!$A$3:$AR$260,31),0)","v":0},null,{"$f":"IF($CH87>0,VLOOKUP($CH87,'العاملين '!$A$3:$AR$260,33),0)","v":0},{"$f":"IF($CH87>0,VLOOKUP($CH87,'العاملين '!$A$3:$AR$260,34),0)","v":0},{"$f":"IF($CH87>0,VLOOKUP($CH87,'العاملين '!$A$3:$AR$260,35),0)","v":0},{"$f":"IF($CH87>0,VLOOKUP($CH87,'العاملين '!$A$3:$AR$260,36),0)","v":0},{"$f":"IF($CH87>0,VLOOKUP($CH87,'العاملين '!$A$3:$AR$260,37),0)","v":0},{"$f":"IF($CH87>0,VLOOKUP($CH87,'العاملين '!$A$3:$AR$260,38),0)","v":0},{"$f":"IF($CH87>0,VLOOKUP($CH87,'العاملين '!$A$3:$AR$260,39),0)","v":0},{"$f":"IF($CH87>0,VLOOKUP($CH87,'العاملين '!$A$3:$AR$260,40),0)","v":0},{"$f":"IF($CH87>0,VLOOKUP($CH87,'العاملين '!$A$3:$AR$260,41),0)","v":0},0,0,0,{"$f":"IF($CH87>0,VLOOKUP($CH87,'العاملين '!$A$3:$AR$260,2),0)","v":0},0,null,{"$f":"IF($CH87>0,VLOOKUP($CH87,'العاملين '!$A$3:$AR$260,3),0)","v":0},{"$f":"IF($CH87>0,VLOOKUP($CH87,'العاملين '!$A$3:$AR$260,43),0)","v":0},0]
[16,{"$f":"IF($CH88>0,VLOOKUP($CH88,'العاملين '!$A$3:$AR$260,8),0)","v":0}," "," "," "," "," ",{"$f":"IF($CH88>0,VLOOKUP($CH88,'العاملين '!$A$3:$AR$260,9),0)","v":0},{"$f":"IF($CH88>0,VLOOKUP($CH88,'العاملين '!$A$3:$AR$260,10),0)","v":0},{"$f":"IF($CH88>0,VLOOKUP($CH88,'العاملين '!$A$3:$AR$260,11),0)","v":0},{"$f":"IF($CH88>0,VLOOKUP($CH88,'العاملين '!$A$3:$AR$260,12),0)","v":0},{"$f":"IF($CH88>0,VLOOKUP($CH88,'العاملين '!$A$3:$AR$260,13),0)","v":0},0,{"$f":"IF($CH88>0,VLOOKUP($CH88,'العاملين '!$A$3:$AR$260,14),0)","v":0},{"$f":"IF($CH88>0,VLOOKUP($CH88,'العاملين '!$A$3:$AR$260,15),0)","v":0},{"$f":"IF($CH88>0,VLOOKUP($CH88,'العاملين '!$A$3:$AR$260,16),0)","v":0},{"$f":"IF($CH88>0,VLOOKUP($CH88,'العاملين '!$A$3:$AR$260,17),0)","v":0},{"$f":"IF($CH88>0,VLOOKUP($CH88,'العاملين '!$A$3:$AR$260,18),0)","v":0},{"$f":"IF($CH88>0,VLOOKUP($CH88,'العاملين '!$A$3:$AR$260,19),0)","v":0},{"$f":"IF($CH88>0,VLOOKUP($CH88,'العاملين '!$A$3:$AR$260,20),0)","v":0},{"$f":"IF($CH88>0,VLOOKUP($CH88,'العاملين '!$A$3:$AR$260,21),0)","v":0},{"$f":"IF($CH88>0,VLOOKUP($CH88,'العاملين '!$A$3:$AR$260,22),0)","v":0},{"$f":"IF($CH88>0,VLOOKUP($CH88,'العاملين '!$A$3:$AR$260,23),0)","v":0},{"$f":"IF($CH88>0,VLOOKUP($CH88,'العاملين '!$A$3:$AR$260,24),0)","v":0},{"$f":"IF($CH88>0,VLOOKUP($CH88,'العاملين '!$A$3:$AR$260,26),0)","v":0},null,null,null,null,null,null,null,null,null,null,null,null,null,null,{"$f":"IF($CH88>0,VLOOKUP($CH88,'العاملين '!$A$3:$AR$260,25),0)","v":0},0,0,0,0,0,0,0,"",{"$f":"IF($CH88>0,VLOOKUP($CH88,'العاملين '!$A$3:$AR$260,28),0)","v":0},0," "," "," ",null," "," "," "," ",0,0,0,0,0,{"$f":"IF($CJ88=1,ROUND(($B88)*7%,2),IF($CJ88=2,VLOOKUP($CH88,'العاملين '!$A$3:$AS$260,44),0))","v":0},{"$f":"IF($CJ88=1,0.5,IF($CJ88=2,VLOOKUP($CH88,'العاملين '!$A$3:$AS$260,45),0))","v":0},{"$f":"IF($CJ88=1,4.5,IF($CJ88=2,VLOOKUP($CH88,'العاملين '!$A$3:$AS$260,46),0))","v":0},{"$f":"IF($CH88>0,VLOOKUP($CH88,'العاملين '!$A$3:$AR$260,29),0)","v":0},{"$f":"IF($CJ88=1,0.2,IF($CJ88=2,VLOOKUP($CH88,'العاملين '!$A$3:$AU$260,47),0))","v":0},{"$f":"IF($CJ88=1,0.05,IF($CJ88=2,VLOOKUP($CH88,'العاملين '!$A$3:$AU$260,47),0))","v":0},{"$f":"IF($CH88>0,VLOOKUP($CH88,'العاملين '!$A$3:$AR$260,30),0)","v":0},{"$f":"IF($CH88>0,VLOOKUP($CH88,'العاملين '!$A$3:$AR$260,31),0)","v":0},null,{"$f":"IF($CH88>0,VLOOKUP($CH88,'العاملين '!$A$3:$AR$260,33),0)","v":0},{"$f":"IF($CH88>0,VLOOKUP($CH88,'العاملين '!$A$3:$AR$260,34),0)","v":0},{"$f":"IF($CH88>0,VLOOKUP($CH88,'العاملين '!$A$3:$AR$260,35),0)","v":0},{"$f":"IF($CH88>0,VLOOKUP($CH88,'العاملين '!$A$3:$AR$260,36),0)","v":0},{"$f":"IF($CH88>0,VLOOKUP($CH88,'العاملين '!$A$3:$AR$260,37),0)","v":0},{"$f":"IF($CH88>0,VLOOKUP($CH88,'العاملين '!$A$3:$AR$260,38),0)","v":0},{"$f":"IF($CH88>0,VLOOKUP($CH88,'العاملين '!$A$3:$AR$260,39),0)","v":0},{"$f":"IF($CH88>0,VLOOKUP($CH88,'العاملين '!$A$3:$AR$260,40),0)","v":0},{"$f":"IF($CH88>0,VLOOKUP($CH88,'العاملين '!$A$3:$AR$260,41),0)","v":0},0,0,0,{"$f":"IF($CH88>0,VLOOKUP($CH88,'العاملين '!$A$3:$AR$260,2),0)","v":0},0,null,{"$f":"IF($CH88>0,VLOOKUP($CH88,'العاملين '!$A$3:$AR$260,3),0)","v":0},{"$f":"IF($CH88>0,VLOOKUP($CH88,'العاملين '!$A$3:$AR$260,43),0)","v":0},0]
[17,{"$f":"IF($CH89>0,VLOOKUP($CH89,'العاملين '!$A$3:$AR$260,8),0)","v":0}," "," "," "," "," ",{"$f":"IF($CH89>0,VLOOKUP($CH89,'العاملين '!$A$3:$AR$260,9),0)","v":0},{"$f":"IF($CH89>0,VLOOKUP($CH89,'العاملين '!$A$3:$AR$260,10),0)","v":0},{"$f":"IF($CH89>0,VLOOKUP($CH89,'العاملين '!$A$3:$AR$260,11),0)","v":0},{"$f":"IF($CH89>0,VLOOKUP($CH89,'العاملين '!$A$3:$AR$260,12),0)","v":0},{"$f":"IF($CH89>0,VLOOKUP($CH89,'العاملين '!$A$3:$AR$260,13),0)","v":0},0,{"$f":"IF($CH89>0,VLOOKUP($CH89,'العاملين '!$A$3:$AR$260,14),0)","v":0},{"$f":"IF($CH89>0,VLOOKUP($CH89,'العاملين '!$A$3:$AR$260,15),0)","v":0},{"$f":"IF($CH89>0,VLOOKUP($CH89,'العاملين '!$A$3:$AR$260,16),0)","v":0},{"$f":"IF($CH89>0,VLOOKUP($CH89,'العاملين '!$A$3:$AR$260,17),0)","v":0},{"$f":"IF($CH89>0,VLOOKUP($CH89,'العاملين '!$A$3:$AR$260,18),0)","v":0},{"$f":"IF($CH89>0,VLOOKUP($CH89,'العاملين '!$A$3:$AR$260,19),0)","v":0},{"$f":"IF($CH89>0,VLOOKUP($CH89,'العاملين '!$A$3:$AR$260,20),0)","v":0},{"$f":"IF($CH89>0,VLOOKUP($CH89,'العاملين '!$A$3:$AR$260,21),0)","v":0},{"$f":"IF($CH89>0,VLOOKUP($CH89,'العاملين '!$A$3:$AR$260,22),0)","v":0},{"$f":"IF($CH89>0,VLOOKUP($CH89,'العاملين '!$A$3:$AR$260,23),0)","v":0},{"$f":"IF($CH89>0,VLOOKUP($CH89,'العاملين '!$A$3:$AR$260,24),0)","v":0},{"$f":"IF($CH89>0,VLOOKUP($CH89,'العاملين '!$A$3:$AR$260,26),0)","v":0},null,null,null,null,null,null,null,null,null,null,null,null,null,null,{"$f":"IF($CH89>0,VLOOKUP($CH89,'العاملين '!$A$3:$AR$260,25),0)","v":0},0,0,0,0,0,0,0,"",{"$f":"IF($CH89>0,VLOOKUP($CH89,'العاملين '!$A$3:$AR$260,28),0)","v":0},0," "," "," ",null," "," "," "," ",0,0,0,0,0,{"$f":"IF($CJ89=1,ROUND(($B89)*7%,2),IF($CJ89=2,VLOOKUP($CH89,'العاملين '!$A$3:$AS$260,44),0))","v":0},{"$f":"IF($CJ89=1,0.5,IF($CJ89=2,VLOOKUP($CH89,'العاملين '!$A$3:$AS$260,45),0))","v":0},{"$f":"IF($CJ89=1,4.5,IF($CJ89=2,VLOOKUP($CH89,'العاملين '!$A$3:$AS$260,46),0))","v":0},{"$f":"IF($CH89>0,VLOOKUP($CH89,'العاملين '!$A$3:$AR$260,29),0)","v":0},{"$f":"IF($CJ89=1,0.2,IF($CJ89=2,VLOOKUP($CH89,'العاملين '!$A$3:$AU$260,47),0))","v":0},{"$f":"IF($CJ89=1,0.05,IF($CJ89=2,VLOOKUP($CH89,'العاملين '!$A$3:$AU$260,47),0))","v":0},{"$f":"IF($CH89>0,VLOOKUP($CH89,'العاملين '!$A$3:$AR$260,30),0)","v":0},{"$f":"IF($CH89>0,VLOOKUP($CH89,'العاملين '!$A$3:$AR$260,31),0)","v":0},null,{"$f":"IF($CH89>0,VLOOKUP($CH89,'العاملين '!$A$3:$AR$260,33),0)","v":0},{"$f":"IF($CH89>0,VLOOKUP($CH89,'العاملين '!$A$3:$AR$260,34),0)","v":0},{"$f":"IF($CH89>0,VLOOKUP($CH89,'العاملين '!$A$3:$AR$260,35),0)","v":0},{"$f":"IF($CH89>0,VLOOKUP($CH89,'العاملين '!$A$3:$AR$260,36),0)","v":0},{"$f":"IF($CH89>0,VLOOKUP($CH89,'العاملين '!$A$3:$AR$260,37),0)","v":0},{"$f":"IF($CH89>0,VLOOKUP($CH89,'العاملين '!$A$3:$AR$260,38),0)","v":0},{"$f":"IF($CH89>0,VLOOKUP($CH89,'العاملين '!$A$3:$AR$260,39),0)","v":0},{"$f":"IF($CH89>0,VLOOKUP($CH89,'العاملين '!$A$3:$AR$260,40),0)","v":0},{"$f":"IF($CH89>0,VLOOKUP($CH89,'العاملين '!$A$3:$AR$260,41),0)","v":0},0,0,0,{"$f":"IF($CH89>0,VLOOKUP($CH89,'العاملين '!$A$3:$AR$260,2),0)","v":0},0,null,{"$f":"IF($CH89>0,VLOOKUP($CH89,'العاملين '!$A$3:$AR$260,3),0)","v":0},{"$f":"IF($CH89>0,VLOOKUP($CH89,'العاملين '!$A$3:$AR$260,43),0)","v":0},0]
[18,{"$f":"IF($CH90>0,VLOOKUP($CH90,'العاملين '!$A$3:$AR$260,8),0)","v":0}," "," "," "," "," ",{"$f":"IF($CH90>0,VLOOKUP($CH90,'العاملين '!$A$3:$AR$260,9),0)","v":0},{"$f":"IF($CH90>0,VLOOKUP($CH90,'العاملين '!$A$3:$AR$260,10),0)","v":0},{"$f":"IF($CH90>0,VLOOKUP($CH90,'العاملين '!$A$3:$AR$260,11),0)","v":0},{"$f":"IF($CH90>0,VLOOKUP($CH90,'العاملين '!$A$3:$AR$260,12),0)","v":0},{"$f":"IF($CH90>0,VLOOKUP($CH90,'العاملين '!$A$3:$AR$260,13),0)","v":0},0,{"$f":"IF($CH90>0,VLOOKUP($CH90,'العاملين '!$A$3:$AR$260,14),0)","v":0},{"$f":"IF($CH90>0,VLOOKUP($CH90,'العاملين '!$A$3:$AR$260,15),0)","v":0},{"$f":"IF($CH90>0,VLOOKUP($CH90,'العاملين '!$A$3:$AR$260,16),0)","v":0},{"$f":"IF($CH90>0,VLOOKUP($CH90,'العاملين '!$A$3:$AR$260,17),0)","v":0},{"$f":"IF($CH90>0,VLOOKUP($CH90,'العاملين '!$A$3:$AR$260,18),0)","v":0},{"$f":"IF($CH90>0,VLOOKUP($CH90,'العاملين '!$A$3:$AR$260,19),0)","v":0},{"$f":"IF($CH90>0,VLOOKUP($CH90,'العاملين '!$A$3:$AR$260,20),0)","v":0},{"$f":"IF($CH90>0,VLOOKUP($CH90,'العاملين '!$A$3:$AR$260,21),0)","v":0},{"$f":"IF($CH90>0,VLOOKUP($CH90,'العاملين '!$A$3:$AR$260,22),0)","v":0},{"$f":"IF($CH90>0,VLOOKUP($CH90,'العاملين '!$A$3:$AR$260,23),0)","v":0},{"$f":"IF($CH90>0,VLOOKUP($CH90,'العاملين '!$A$3:$AR$260,24),0)","v":0},{"$f":"IF($CH90>0,VLOOKUP($CH90,'العاملين '!$A$3:$AR$260,26),0)","v":0},null,null,null,null,null,null,null,null,null,null,null,null,null,null,{"$f":"IF($CH90>0,VLOOKUP($CH90,'العاملين '!$A$3:$AR$260,25),0)","v":0},0,0,0,0,0,0,0,"",{"$f":"IF($CH90>0,VLOOKUP($CH90,'العاملين '!$A$3:$AR$260,28),0)","v":0},0," "," "," ",null," "," "," "," ",0,0,0,0,0,{"$f":"IF($CJ90=1,ROUND(($B90)*7%,2),IF($CJ90=2,VLOOKUP($CH90,'العاملين '!$A$3:$AS$260,44),0))","v":0},{"$f":"IF($CJ90=1,0.5,IF($CJ90=2,VLOOKUP($CH90,'العاملين '!$A$3:$AS$260,45),0))","v":0},{"$f":"IF($CJ90=1,4.5,IF($CJ90=2,VLOOKUP($CH90,'العاملين '!$A$3:$AS$260,46),0))","v":0},{"$f":"IF($CH90>0,VLOOKUP($CH90,'العاملين '!$A$3:$AR$260,29),0)","v":0},{"$f":"IF($CJ90=1,0.2,IF($CJ90=2,VLOOKUP($CH90,'العاملين '!$A$3:$AU$260,47),0))","v":0},{"$f":"IF($CJ90=1,0.05,IF($CJ90=2,VLOOKUP($CH90,'العاملين '!$A$3:$AU$260,47),0))","v":0},{"$f":"IF($CH90>0,VLOOKUP($CH90,'العاملين '!$A$3:$AR$260,30),0)","v":0},{"$f":"IF($CH90>0,VLOOKUP($CH90,'العاملين '!$A$3:$AR$260,31),0)","v":0},null,{"$f":"IF($CH90>0,VLOOKUP($CH90,'العاملين '!$A$3:$AR$260,33),0)","v":0},{"$f":"IF($CH90>0,VLOOKUP($CH90,'العاملين '!$A$3:$AR$260,34),0)","v":0},{"$f":"IF($CH90>0,VLOOKUP($CH90,'العاملين '!$A$3:$AR$260,35),0)","v":0},{"$f":"IF($CH90>0,VLOOKUP($CH90,'العاملين '!$A$3:$AR$260,36),0)","v":0},{"$f":"IF($CH90>0,VLOOKUP($CH90,'العاملين '!$A$3:$AR$260,37),0)","v":0},{"$f":"IF($CH90>0,VLOOKUP($CH90,'العاملين '!$A$3:$AR$260,38),0)","v":0},{"$f":"IF($CH90>0,VLOOKUP($CH90,'العاملين '!$A$3:$AR$260,39),0)","v":0},{"$f":"IF($CH90>0,VLOOKUP($CH90,'العاملين '!$A$3:$AR$260,40),0)","v":0},{"$f":"IF($CH90>0,VLOOKUP($CH90,'العاملين '!$A$3:$AR$260,41),0)","v":0},0,0,0,{"$f":"IF($CH90>0,VLOOKUP($CH90,'العاملين '!$A$3:$AR$260,2),0)","v":0},0,null,{"$f":"IF($CH90>0,VLOOKUP($CH90,'العاملين '!$A$3:$AR$260,3),0)","v":0},{"$f":"IF($CH90>0,VLOOKUP($CH90,'العاملين '!$A$3:$AR$260,43),0)","v":0},0]
[19,{"$f":"IF($CH91>0,VLOOKUP($CH91,'العاملين '!$A$3:$AR$260,8),0)","v":0}," "," "," "," "," ",{"$f":"IF($CH91>0,VLOOKUP($CH91,'العاملين '!$A$3:$AR$260,9),0)","v":0},{"$f":"IF($CH91>0,VLOOKUP($CH91,'العاملين '!$A$3:$AR$260,10),0)","v":0},{"$f":"IF($CH91>0,VLOOKUP($CH91,'العاملين '!$A$3:$AR$260,11),0)","v":0},{"$f":"IF($CH91>0,VLOOKUP($CH91,'العاملين '!$A$3:$AR$260,12),0)","v":0},{"$f":"IF($CH91>0,VLOOKUP($CH91,'العاملين '!$A$3:$AR$260,13),0)","v":0},0,{"$f":"IF($CH91>0,VLOOKUP($CH91,'العاملين '!$A$3:$AR$260,14),0)","v":0},{"$f":"IF($CH91>0,VLOOKUP($CH91,'العاملين '!$A$3:$AR$260,15),0)","v":0},{"$f":"IF($CH91>0,VLOOKUP($CH91,'العاملين '!$A$3:$AR$260,16),0)","v":0},{"$f":"IF($CH91>0,VLOOKUP($CH91,'العاملين '!$A$3:$AR$260,17),0)","v":0},{"$f":"IF($CH91>0,VLOOKUP($CH91,'العاملين '!$A$3:$AR$260,18),0)","v":0},{"$f":"IF($CH91>0,VLOOKUP($CH91,'العاملين '!$A$3:$AR$260,19),0)","v":0},{"$f":"IF($CH91>0,VLOOKUP($CH91,'العاملين '!$A$3:$AR$260,20),0)","v":0},{"$f":"IF($CH91>0,VLOOKUP($CH91,'العاملين '!$A$3:$AR$260,21),0)","v":0},{"$f":"IF($CH91>0,VLOOKUP($CH91,'العاملين '!$A$3:$AR$260,22),0)","v":0},{"$f":"IF($CH91>0,VLOOKUP($CH91,'العاملين '!$A$3:$AR$260,23),0)","v":0},{"$f":"IF($CH91>0,VLOOKUP($CH91,'العاملين '!$A$3:$AR$260,24),0)","v":0},{"$f":"IF($CH91>0,VLOOKUP($CH91,'العاملين '!$A$3:$AR$260,26),0)","v":0},null,null,null,null,null,null,null,null,null,null,null,null,null,null,{"$f":"IF($CH91>0,VLOOKUP($CH91,'العاملين '!$A$3:$AR$260,25),0)","v":0},0,0,0,0,0,0,0,"",{"$f":"IF($CH91>0,VLOOKUP($CH91,'العاملين '!$A$3:$AR$260,28),0)","v":0},0," "," "," ",null," "," "," "," ",0,0,0,0,0,{"$f":"IF($CJ91=1,ROUND(($B91)*7%,2),IF($CJ91=2,VLOOKUP($CH91,'العاملين '!$A$3:$AS$260,44),0))","v":0},{"$f":"IF($CJ91=1,0.5,IF($CJ91=2,VLOOKUP($CH91,'العاملين '!$A$3:$AS$260,45),0))","v":0},{"$f":"IF($CJ91=1,4.5,IF($CJ91=2,VLOOKUP($CH91,'العاملين '!$A$3:$AS$260,46),0))","v":0},{"$f":"IF($CH91>0,VLOOKUP($CH91,'العاملين '!$A$3:$AR$260,29),0)","v":0},{"$f":"IF($CJ91=1,0.2,IF($CJ91=2,VLOOKUP($CH91,'العاملين '!$A$3:$AU$260,47),0))","v":0},{"$f":"IF($CJ91=1,0.05,IF($CJ91=2,VLOOKUP($CH91,'العاملين '!$A$3:$AU$260,47),0))","v":0},{"$f":"IF($CH91>0,VLOOKUP($CH91,'العاملين '!$A$3:$AR$260,30),0)","v":0},{"$f":"IF($CH91>0,VLOOKUP($CH91,'العاملين '!$A$3:$AR$260,31),0)","v":0},null,{"$f":"IF($CH91>0,VLOOKUP($CH91,'العاملين '!$A$3:$AR$260,33),0)","v":0},{"$f":"IF($CH91>0,VLOOKUP($CH91,'العاملين '!$A$3:$AR$260,34),0)","v":0},{"$f":"IF($CH91>0,VLOOKUP($CH91,'العاملين '!$A$3:$AR$260,35),0)","v":0},{"$f":"IF($CH91>0,VLOOKUP($CH91,'العاملين '!$A$3:$AR$260,36),0)","v":0},{"$f":"IF($CH91>0,VLOOKUP($CH91,'العاملين '!$A$3:$AR$260,37),0)","v":0},{"$f":"IF($CH91>0,VLOOKUP($CH91,'العاملين '!$A$3:$AR$260,38),0)","v":0},{"$f":"IF($CH91>0,VLOOKUP($CH91,'العاملين '!$A$3:$AR$260,39),0)","v":0},{"$f":"IF($CH91>0,VLOOKUP($CH91,'العاملين '!$A$3:$AR$260,40),0)","v":0},{"$f":"IF($CH91>0,VLOOKUP($CH91,'العاملين '!$A$3:$AR$260,41),0)","v":0},0,0,0,{"$f":"IF($CH91>0,VLOOKUP($CH91,'العاملين '!$A$3:$AR$260,2),0)","v":0},0,null,{"$f":"IF($CH91>0,VLOOKUP($CH91,'العاملين '!$A$3:$AR$260,3),0)","v":0},{"$f":"IF($CH91>0,VLOOKUP($CH91,'العاملين '!$A$3:$AR$260,43),0)","v":0},0]
[20,{"$f":"IF($CH92>0,VLOOKUP($CH92,'العاملين '!$A$3:$AR$260,8),0)","v":0}," "," "," "," "," ",{"$f":"IF($CH92>0,VLOOKUP($CH92,'العاملين '!$A$3:$AR$260,9),0)","v":0},{"$f":"IF($CH92>0,VLOOKUP($CH92,'العاملين '!$A$3:$AR$260,10),0)","v":0},{"$f":"IF($CH92>0,VLOOKUP($CH92,'العاملين '!$A$3:$AR$260,11),0)","v":0},{"$f":"IF($CH92>0,VLOOKUP($CH92,'العاملين '!$A$3:$AR$260,12),0)","v":0},{"$f":"IF($CH92>0,VLOOKUP($CH92,'العاملين '!$A$3:$AR$260,13),0)","v":0},0,{"$f":"IF($CH92>0,VLOOKUP($CH92,'العاملين '!$A$3:$AR$260,14),0)","v":0},{"$f":"IF($CH92>0,VLOOKUP($CH92,'العاملين '!$A$3:$AR$260,15),0)","v":0},{"$f":"IF($CH92>0,VLOOKUP($CH92,'العاملين '!$A$3:$AR$260,16),0)","v":0},{"$f":"IF($CH92>0,VLOOKUP($CH92,'العاملين '!$A$3:$AR$260,17),0)","v":0},{"$f":"IF($CH92>0,VLOOKUP($CH92,'العاملين '!$A$3:$AR$260,18),0)","v":0},{"$f":"IF($CH92>0,VLOOKUP($CH92,'العاملين '!$A$3:$AR$260,19),0)","v":0},{"$f":"IF($CH92>0,VLOOKUP($CH92,'العاملين '!$A$3:$AR$260,20),0)","v":0},{"$f":"IF($CH92>0,VLOOKUP($CH92,'العاملين '!$A$3:$AR$260,21),0)","v":0},{"$f":"IF($CH92>0,VLOOKUP($CH92,'العاملين '!$A$3:$AR$260,22),0)","v":0},{"$f":"IF($CH92>0,VLOOKUP($CH92,'العاملين '!$A$3:$AR$260,23),0)","v":0},{"$f":"IF($CH92>0,VLOOKUP($CH92,'العاملين '!$A$3:$AR$260,24),0)","v":0},{"$f":"IF($CH92>0,VLOOKUP($CH92,'العاملين '!$A$3:$AR$260,26),0)","v":0},null,null,null,null,null,null,null,null,null,null,null,null,null,null,{"$f":"IF($CH92>0,VLOOKUP($CH92,'العاملين '!$A$3:$AR$260,25),0)","v":0},0,0,0,0,0,0,0,"",{"$f":"IF($CH92>0,VLOOKUP($CH92,'العاملين '!$A$3:$AR$260,28),0)","v":0},0," "," "," ",null," "," "," "," ",0,0,0,0,0,{"$f":"IF($CJ92=1,ROUND(($B92)*7%,2),IF($CJ92=2,VLOOKUP($CH92,'العاملين '!$A$3:$AS$260,44),0))","v":0},{"$f":"IF($CJ92=1,0.5,IF($CJ92=2,VLOOKUP($CH92,'العاملين '!$A$3:$AS$260,45),0))","v":0},{"$f":"IF($CJ92=1,4.5,IF($CJ92=2,VLOOKUP($CH92,'العاملين '!$A$3:$AS$260,46),0))","v":0},{"$f":"IF($CH92>0,VLOOKUP($CH92,'العاملين '!$A$3:$AR$260,29),0)","v":0},{"$f":"IF($CJ92=1,0.2,IF($CJ92=2,VLOOKUP($CH92,'العاملين '!$A$3:$AU$260,47),0))","v":0},{"$f":"IF($CJ92=1,0.05,IF($CJ92=2,VLOOKUP($CH92,'العاملين '!$A$3:$AU$260,47),0))","v":0},{"$f":"IF($CH92>0,VLOOKUP($CH92,'العاملين '!$A$3:$AR$260,30),0)","v":0},{"$f":"IF($CH92>0,VLOOKUP($CH92,'العاملين '!$A$3:$AR$260,31),0)","v":0},null,{"$f":"IF($CH92>0,VLOOKUP($CH92,'العاملين '!$A$3:$AR$260,33),0)","v":0},{"$f":"IF($CH92>0,VLOOKUP($CH92,'العاملين '!$A$3:$AR$260,34),0)","v":0},{"$f":"IF($CH92>0,VLOOKUP($CH92,'العاملين '!$A$3:$AR$260,35),0)","v":0},{"$f":"IF($CH92>0,VLOOKUP($CH92,'العاملين '!$A$3:$AR$260,36),0)","v":0},{"$f":"IF($CH92>0,VLOOKUP($CH92,'العاملين '!$A$3:$AR$260,37),0)","v":0},{"$f":"IF($CH92>0,VLOOKUP($CH92,'العاملين '!$A$3:$AR$260,38),0)","v":0},{"$f":"IF($CH92>0,VLOOKUP($CH92,'العاملين '!$A$3:$AR$260,39),0)","v":0},{"$f":"IF($CH92>0,VLOOKUP($CH92,'العاملين '!$A$3:$AR$260,40),0)","v":0},{"$f":"IF($CH92>0,VLOOKUP($CH92,'العاملين '!$A$3:$AR$260,41),0)","v":0},0,0,0,{"$f":"IF($CH92>0,VLOOKUP($CH92,'العاملين '!$A$3:$AR$260,2),0)","v":0},0,null,{"$f":"IF($CH92>0,VLOOKUP($CH92,'العاملين '!$A$3:$AR$260,3),0)","v":0},{"$f":"IF($CH92>0,VLOOKUP($CH92,'العاملين '!$A$3:$AR$260,43),0)","v":0},0]
[21,{"$f":"IF($CH93>0,VLOOKUP($CH93,'العاملين '!$A$3:$AR$260,8),0)","v":0}," "," "," "," "," ",{"$f":"IF($CH93>0,VLOOKUP($CH93,'العاملين '!$A$3:$AR$260,9),0)","v":0},{"$f":"IF($CH93>0,VLOOKUP($CH93,'العاملين '!$A$3:$AR$260,10),0)","v":0},{"$f":"IF($CH93>0,VLOOKUP($CH93,'العاملين '!$A$3:$AR$260,11),0)","v":0},{"$f":"IF($CH93>0,VLOOKUP($CH93,'العاملين '!$A$3:$AR$260,12),0)","v":0},{"$f":"IF($CH93>0,VLOOKUP($CH93,'العاملين '!$A$3:$AR$260,13),0)","v":0},0,{"$f":"IF($CH93>0,VLOOKUP($CH93,'العاملين '!$A$3:$AR$260,14),0)","v":0},{"$f":"IF($CH93>0,VLOOKUP($CH93,'العاملين '!$A$3:$AR$260,15),0)","v":0},{"$f":"IF($CH93>0,VLOOKUP($CH93,'العاملين '!$A$3:$AR$260,16),0)","v":0},{"$f":"IF($CH93>0,VLOOKUP($CH93,'العاملين '!$A$3:$AR$260,17),0)","v":0},{"$f":"IF($CH93>0,VLOOKUP($CH93,'العاملين '!$A$3:$AR$260,18),0)","v":0},{"$f":"IF($CH93>0,VLOOKUP($CH93,'العاملين '!$A$3:$AR$260,19),0)","v":0},{"$f":"IF($CH93>0,VLOOKUP($CH93,'العاملين '!$A$3:$AR$260,20),0)","v":0},{"$f":"IF($CH93>0,VLOOKUP($CH93,'العاملين '!$A$3:$AR$260,21),0)","v":0},{"$f":"IF($CH93>0,VLOOKUP($CH93,'العاملين '!$A$3:$AR$260,22),0)","v":0},{"$f":"IF($CH93>0,VLOOKUP($CH93,'العاملين '!$A$3:$AR$260,23),0)","v":0},{"$f":"IF($CH93>0,VLOOKUP($CH93,'العاملين '!$A$3:$AR$260,24),0)","v":0},{"$f":"IF($CH93>0,VLOOKUP($CH93,'العاملين '!$A$3:$AR$260,26),0)","v":0},null,null,null,null,null,null,null,null,null,null,null,null,null,null,{"$f":"IF($CH93>0,VLOOKUP($CH93,'العاملين '!$A$3:$AR$260,25),0)","v":0},0,0,0,0,0,0,0,"",{"$f":"IF($CH93>0,VLOOKUP($CH93,'العاملين '!$A$3:$AR$260,28),0)","v":0},0," "," "," ",null," "," "," "," ",0,0,0,0,0,{"$f":"IF($CJ93=1,ROUND(($B93)*7%,2),IF($CJ93=2,VLOOKUP($CH93,'العاملين '!$A$3:$AS$260,44),0))","v":0},{"$f":"IF($CJ93=1,0.5,IF($CJ93=2,VLOOKUP($CH93,'العاملين '!$A$3:$AS$260,45),0))","v":0},{"$f":"IF($CJ93=1,4.5,IF($CJ93=2,VLOOKUP($CH93,'العاملين '!$A$3:$AS$260,46),0))","v":0},{"$f":"IF($CH93>0,VLOOKUP($CH93,'العاملين '!$A$3:$AR$260,29),0)","v":0},{"$f":"IF($CJ93=1,0.2,IF($CJ93=2,VLOOKUP($CH93,'العاملين '!$A$3:$AU$260,47),0))","v":0},{"$f":"IF($CJ93=1,0.05,IF($CJ93=2,VLOOKUP($CH93,'العاملين '!$A$3:$AU$260,47),0))","v":0},{"$f":"IF($CH93>0,VLOOKUP($CH93,'العاملين '!$A$3:$AR$260,30),0)","v":0},{"$f":"IF($CH93>0,VLOOKUP($CH93,'العاملين '!$A$3:$AR$260,31),0)","v":0},null,{"$f":"IF($CH93>0,VLOOKUP($CH93,'العاملين '!$A$3:$AR$260,33),0)","v":0},{"$f":"IF($CH93>0,VLOOKUP($CH93,'العاملين '!$A$3:$AR$260,34),0)","v":0},{"$f":"IF($CH93>0,VLOOKUP($CH93,'العاملين '!$A$3:$AR$260,35),0)","v":0},{"$f":"IF($CH93>0,VLOOKUP($CH93,'العاملين '!$A$3:$AR$260,36),0)","v":0},{"$f":"IF($CH93>0,VLOOKUP($CH93,'العاملين '!$A$3:$AR$260,37),0)","v":0},{"$f":"IF($CH93>0,VLOOKUP($CH93,'العاملين '!$A$3:$AR$260,38),0)","v":0},{"$f":"IF($CH93>0,VLOOKUP($CH93,'العاملين '!$A$3:$AR$260,39),0)","v":0},{"$f":"IF($CH93>0,VLOOKUP($CH93,'العاملين '!$A$3:$AR$260,40),0)","v":0},{"$f":"IF($CH93>0,VLOOKUP($CH93,'العاملين '!$A$3:$AR$260,41),0)","v":0},0,0,0,{"$f":"IF($CH93>0,VLOOKUP($CH93,'العاملين '!$A$3:$AR$260,2),0)","v":0},0,null,{"$f":"IF($CH93>0,VLOOKUP($CH93,'العاملين '!$A$3:$AR$260,3),0)","v":0},{"$f":"IF($CH93>0,VLOOKUP($CH93,'العاملين '!$A$3:$AR$260,43),0)","v":0},0]
[22,{"$f":"IF($CH94>0,VLOOKUP($CH94,'العاملين '!$A$3:$AR$260,8),0)","v":0}," "," "," "," "," ",{"$f":"IF($CH94>0,VLOOKUP($CH94,'العاملين '!$A$3:$AR$260,9),0)","v":0},{"$f":"IF($CH94>0,VLOOKUP($CH94,'العاملين '!$A$3:$AR$260,10),0)","v":0},{"$f":"IF($CH94>0,VLOOKUP($CH94,'العاملين '!$A$3:$AR$260,11),0)","v":0},{"$f":"IF($CH94>0,VLOOKUP($CH94,'العاملين '!$A$3:$AR$260,12),0)","v":0},{"$f":"IF($CH94>0,VLOOKUP($CH94,'العاملين '!$A$3:$AR$260,13),0)","v":0},0,{"$f":"IF($CH94>0,VLOOKUP($CH94,'العاملين '!$A$3:$AR$260,14),0)","v":0},{"$f":"IF($CH94>0,VLOOKUP($CH94,'العاملين '!$A$3:$AR$260,15),0)","v":0},{"$f":"IF($CH94>0,VLOOKUP($CH94,'العاملين '!$A$3:$AR$260,16),0)","v":0},{"$f":"IF($CH94>0,VLOOKUP($CH94,'العاملين '!$A$3:$AR$260,17),0)","v":0},{"$f":"IF($CH94>0,VLOOKUP($CH94,'العاملين '!$A$3:$AR$260,18),0)","v":0},{"$f":"IF($CH94>0,VLOOKUP($CH94,'العاملين '!$A$3:$AR$260,19),0)","v":0},{"$f":"IF($CH94>0,VLOOKUP($CH94,'العاملين '!$A$3:$AR$260,20),0)","v":0},{"$f":"IF($CH94>0,VLOOKUP($CH94,'العاملين '!$A$3:$AR$260,21),0)","v":0},{"$f":"IF($CH94>0,VLOOKUP($CH94,'العاملين '!$A$3:$AR$260,22),0)","v":0},{"$f":"IF($CH94>0,VLOOKUP($CH94,'العاملين '!$A$3:$AR$260,23),0)","v":0},{"$f":"IF($CH94>0,VLOOKUP($CH94,'العاملين '!$A$3:$AR$260,24),0)","v":0},{"$f":"IF($CH94>0,VLOOKUP($CH94,'العاملين '!$A$3:$AR$260,26),0)","v":0},null,null,null,null,null,null,null,null,null,null,null,null,null,null,{"$f":"IF($CH94>0,VLOOKUP($CH94,'العاملين '!$A$3:$AR$260,25),0)","v":0},0,0,0,0,0,0,0,"",{"$f":"IF($CH94>0,VLOOKUP($CH94,'العاملين '!$A$3:$AR$260,28),0)","v":0},0," "," "," ",null," "," "," "," ",0,0,0,0,0,{"$f":"IF($CJ94=1,ROUND(($B94)*7%,2),IF($CJ94=2,VLOOKUP($CH94,'العاملين '!$A$3:$AS$260,44),0))","v":0},{"$f":"IF($CJ94=1,0.5,IF($CJ94=2,VLOOKUP($CH94,'العاملين '!$A$3:$AS$260,45),0))","v":0},{"$f":"IF($CJ94=1,4.5,IF($CJ94=2,VLOOKUP($CH94,'العاملين '!$A$3:$AS$260,46),0))","v":0},{"$f":"IF($CH94>0,VLOOKUP($CH94,'العاملين '!$A$3:$AR$260,29),0)","v":0},{"$f":"IF($CJ94=1,0.2,IF($CJ94=2,VLOOKUP($CH94,'العاملين '!$A$3:$AU$260,47),0))","v":0},{"$f":"IF($CJ94=1,0.05,IF($CJ94=2,VLOOKUP($CH94,'العاملين '!$A$3:$AU$260,47),0))","v":0},{"$f":"IF($CH94>0,VLOOKUP($CH94,'العاملين '!$A$3:$AR$260,30),0)","v":0},{"$f":"IF($CH94>0,VLOOKUP($CH94,'العاملين '!$A$3:$AR$260,31),0)","v":0},null,{"$f":"IF($CH94>0,VLOOKUP($CH94,'العاملين '!$A$3:$AR$260,33),0)","v":0},{"$f":"IF($CH94>0,VLOOKUP($CH94,'العاملين '!$A$3:$AR$260,34),0)","v":0},{"$f":"IF($CH94>0,VLOOKUP($CH94,'العاملين '!$A$3:$AR$260,35),0)","v":0},{"$f":"IF($CH94>0,VLOOKUP($CH94,'العاملين '!$A$3:$AR$260,36),0)","v":0},{"$f":"IF($CH94>0,VLOOKUP($CH94,'العاملين '!$A$3:$AR$260,37),0)","v":0},{"$f":"IF($CH94>0,VLOOKUP($CH94,'العاملين '!$A$3:$AR$260,38),0)","v":0},{"$f":"IF($CH94>0,VLOOKUP($CH94,'العاملين '!$A$3:$AR$260,39),0)","v":0},{"$f":"IF($CH94>0,VLOOKUP($CH94,'العاملين '!$A$3:$AR$260,40),0)","v":0},{"$f":"IF($CH94>0,VLOOKUP($CH94,'العاملين '!$A$3:$AR$260,41),0)","v":0},0,0,0,{"$f":"IF($CH94>0,VLOOKUP($CH94,'العاملين '!$A$3:$AR$260,2),0)","v":0},0,null,{"$f":"IF($CH94>0,VLOOKUP($CH94,'العاملين '!$A$3:$AR$260,3),0)","v":0},{"$f":"IF($CH94>0,VLOOKUP($CH94,'العاملين '!$A$3:$AR$260,43),0)","v":0},0]
[23,{"$f":"IF($CH95>0,VLOOKUP($CH95,'العاملين '!$A$3:$AR$260,8),0)","v":0}," "," "," "," "," ",{"$f":"IF($CH95>0,VLOOKUP($CH95,'العاملين '!$A$3:$AR$260,9),0)","v":0},{"$f":"IF($CH95>0,VLOOKUP($CH95,'العاملين '!$A$3:$AR$260,10),0)","v":0},{"$f":"IF($CH95>0,VLOOKUP($CH95,'العاملين '!$A$3:$AR$260,11),0)","v":0},{"$f":"IF($CH95>0,VLOOKUP($CH95,'العاملين '!$A$3:$AR$260,12),0)","v":0},{"$f":"IF($CH95>0,VLOOKUP($CH95,'العاملين '!$A$3:$AR$260,13),0)","v":0},0,{"$f":"IF($CH95>0,VLOOKUP($CH95,'العاملين '!$A$3:$AR$260,14),0)","v":0},{"$f":"IF($CH95>0,VLOOKUP($CH95,'العاملين '!$A$3:$AR$260,15),0)","v":0},{"$f":"IF($CH95>0,VLOOKUP($CH95,'العاملين '!$A$3:$AR$260,16),0)","v":0},{"$f":"IF($CH95>0,VLOOKUP($CH95,'العاملين '!$A$3:$AR$260,17),0)","v":0},{"$f":"IF($CH95>0,VLOOKUP($CH95,'العاملين '!$A$3:$AR$260,18),0)","v":0},{"$f":"IF($CH95>0,VLOOKUP($CH95,'العاملين '!$A$3:$AR$260,19),0)","v":0},{"$f":"IF($CH95>0,VLOOKUP($CH95,'العاملين '!$A$3:$AR$260,20),0)","v":0},{"$f":"IF($CH95>0,VLOOKUP($CH95,'العاملين '!$A$3:$AR$260,21),0)","v":0},{"$f":"IF($CH95>0,VLOOKUP($CH95,'العاملين '!$A$3:$AR$260,22),0)","v":0},{"$f":"IF($CH95>0,VLOOKUP($CH95,'العاملين '!$A$3:$AR$260,23),0)","v":0},{"$f":"IF($CH95>0,VLOOKUP($CH95,'العاملين '!$A$3:$AR$260,24),0)","v":0},{"$f":"IF($CH95>0,VLOOKUP($CH95,'العاملين '!$A$3:$AR$260,26),0)","v":0},null,null,null,null,null,null,null,null,null,null,null,null,null,null,{"$f":"IF($CH95>0,VLOOKUP($CH95,'العاملين '!$A$3:$AR$260,25),0)","v":0},0,0,0,0,0,0,0,"",{"$f":"IF($CH95>0,VLOOKUP($CH95,'العاملين '!$A$3:$AR$260,28),0)","v":0},0," "," "," ",null," "," "," "," ",0,0,0,0,0,{"$f":"IF($CJ95=1,ROUND(($B95)*7%,2),IF($CJ95=2,VLOOKUP($CH95,'العاملين '!$A$3:$AS$260,44),0))","v":0},{"$f":"IF($CJ95=1,0.5,IF($CJ95=2,VLOOKUP($CH95,'العاملين '!$A$3:$AS$260,45),0))","v":0},{"$f":"IF($CJ95=1,4.5,IF($CJ95=2,VLOOKUP($CH95,'العاملين '!$A$3:$AS$260,46),0))","v":0},{"$f":"IF($CH95>0,VLOOKUP($CH95,'العاملين '!$A$3:$AR$260,29),0)","v":0},{"$f":"IF($CJ95=1,0.2,IF($CJ95=2,VLOOKUP($CH95,'العاملين '!$A$3:$AU$260,47),0))","v":0},{"$f":"IF($CJ95=1,0.05,IF($CJ95=2,VLOOKUP($CH95,'العاملين '!$A$3:$AU$260,47),0))","v":0},{"$f":"IF($CH95>0,VLOOKUP($CH95,'العاملين '!$A$3:$AR$260,30),0)","v":0},{"$f":"IF($CH95>0,VLOOKUP($CH95,'العاملين '!$A$3:$AR$260,31),0)","v":0},null,{"$f":"IF($CH95>0,VLOOKUP($CH95,'العاملين '!$A$3:$AR$260,33),0)","v":0},{"$f":"IF($CH95>0,VLOOKUP($CH95,'العاملين '!$A$3:$AR$260,34),0)","v":0},{"$f":"IF($CH95>0,VLOOKUP($CH95,'العاملين '!$A$3:$AR$260,35),0)","v":0},{"$f":"IF($CH95>0,VLOOKUP($CH95,'العاملين '!$A$3:$AR$260,36),0)","v":0},{"$f":"IF($CH95>0,VLOOKUP($CH95,'العاملين '!$A$3:$AR$260,37),0)","v":0},{"$f":"IF($CH95>0,VLOOKUP($CH95,'العاملين '!$A$3:$AR$260,38),0)","v":0},{"$f":"IF($CH95>0,VLOOKUP($CH95,'العاملين '!$A$3:$AR$260,39),0)","v":0},{"$f":"IF($CH95>0,VLOOKUP($CH95,'العاملين '!$A$3:$AR$260,40),0)","v":0},{"$f":"IF($CH95>0,VLOOKUP($CH95,'العاملين '!$A$3:$AR$260,41),0)","v":0},0,0,0,{"$f":"IF($CH95>0,VLOOKUP($CH95,'العاملين '!$A$3:$AR$260,2),0)","v":0},0,null,{"$f":"IF($CH95>0,VLOOKUP($CH95,'العاملين '!$A$3:$AR$260,3),0)","v":0},{"$f":"IF($CH95>0,VLOOKUP($CH95,'العاملين '!$A$3:$AR$260,43),0)","v":0},0]
[24,{"$f":"IF($CH96>0,VLOOKUP($CH96,'العاملين '!$A$3:$AR$260,8),0)","v":0}," "," "," "," "," ",{"$f":"IF($CH96>0,VLOOKUP($CH96,'العاملين '!$A$3:$AR$260,9),0)","v":0},{"$f":"IF($CH96>0,VLOOKUP($CH96,'العاملين '!$A$3:$AR$260,10),0)","v":0},{"$f":"IF($CH96>0,VLOOKUP($CH96,'العاملين '!$A$3:$AR$260,11),0)","v":0},{"$f":"IF($CH96>0,VLOOKUP($CH96,'العاملين '!$A$3:$AR$260,12),0)","v":0},{"$f":"IF($CH96>0,VLOOKUP($CH96,'العاملين '!$A$3:$AR$260,13),0)","v":0},0,{"$f":"IF($CH96>0,VLOOKUP($CH96,'العاملين '!$A$3:$AR$260,14),0)","v":0},{"$f":"IF($CH96>0,VLOOKUP($CH96,'العاملين '!$A$3:$AR$260,15),0)","v":0},{"$f":"IF($CH96>0,VLOOKUP($CH96,'العاملين '!$A$3:$AR$260,16),0)","v":0},{"$f":"IF($CH96>0,VLOOKUP($CH96,'العاملين '!$A$3:$AR$260,17),0)","v":0},{"$f":"IF($CH96>0,VLOOKUP($CH96,'العاملين '!$A$3:$AR$260,18),0)","v":0},{"$f":"IF($CH96>0,VLOOKUP($CH96,'العاملين '!$A$3:$AR$260,19),0)","v":0},{"$f":"IF($CH96>0,VLOOKUP($CH96,'العاملين '!$A$3:$AR$260,20),0)","v":0},{"$f":"IF($CH96>0,VLOOKUP($CH96,'العاملين '!$A$3:$AR$260,21),0)","v":0},{"$f":"IF($CH96>0,VLOOKUP($CH96,'العاملين '!$A$3:$AR$260,22),0)","v":0},{"$f":"IF($CH96>0,VLOOKUP($CH96,'العاملين '!$A$3:$AR$260,23),0)","v":0},{"$f":"IF($CH96>0,VLOOKUP($CH96,'العاملين '!$A$3:$AR$260,24),0)","v":0},{"$f":"IF($CH96>0,VLOOKUP($CH96,'العاملين '!$A$3:$AR$260,26),0)","v":0},null,null,null,null,null,null,null,null,null,null,null,null,null,null,{"$f":"IF($CH96>0,VLOOKUP($CH96,'العاملين '!$A$3:$AR$260,25),0)","v":0},0,0,0,0,0,0,0,"",{"$f":"IF($CH96>0,VLOOKUP($CH96,'العاملين '!$A$3:$AR$260,28),0)","v":0},0," "," "," ",null," "," "," "," ",0,0,0,0,0,{"$f":"IF($CJ96=1,ROUND(($B96)*7%,2),IF($CJ96=2,VLOOKUP($CH96,'العاملين '!$A$3:$AS$260,44),0))","v":0},{"$f":"IF($CJ96=1,0.5,IF($CJ96=2,VLOOKUP($CH96,'العاملين '!$A$3:$AS$260,45),0))","v":0},{"$f":"IF($CJ96=1,4.5,IF($CJ96=2,VLOOKUP($CH96,'العاملين '!$A$3:$AS$260,46),0))","v":0},{"$f":"IF($CH96>0,VLOOKUP($CH96,'العاملين '!$A$3:$AR$260,29),0)","v":0},{"$f":"IF($CJ96=1,0.2,IF($CJ96=2,VLOOKUP($CH96,'العاملين '!$A$3:$AU$260,47),0))","v":0},{"$f":"IF($CJ96=1,0.05,IF($CJ96=2,VLOOKUP($CH96,'العاملين '!$A$3:$AU$260,47),0))","v":0},{"$f":"IF($CH96>0,VLOOKUP($CH96,'العاملين '!$A$3:$AR$260,30),0)","v":0},{"$f":"IF($CH96>0,VLOOKUP($CH96,'العاملين '!$A$3:$AR$260,31),0)","v":0},null,{"$f":"IF($CH96>0,VLOOKUP($CH96,'العاملين '!$A$3:$AR$260,33),0)","v":0},{"$f":"IF($CH96>0,VLOOKUP($CH96,'العاملين '!$A$3:$AR$260,34),0)","v":0},{"$f":"IF($CH96>0,VLOOKUP($CH96,'العاملين '!$A$3:$AR$260,35),0)","v":0},{"$f":"IF($CH96>0,VLOOKUP($CH96,'العاملين '!$A$3:$AR$260,36),0)","v":0},{"$f":"IF($CH96>0,VLOOKUP($CH96,'العاملين '!$A$3:$AR$260,37),0)","v":0},{"$f":"IF($CH96>0,VLOOKUP($CH96,'العاملين '!$A$3:$AR$260,38),0)","v":0},{"$f":"IF($CH96>0,VLOOKUP($CH96,'العاملين '!$A$3:$AR$260,39),0)","v":0},{"$f":"IF($CH96>0,VLOOKUP($CH96,'العاملين '!$A$3:$AR$260,40),0)","v":0},{"$f":"IF($CH96>0,VLOOKUP($CH96,'العاملين '!$A$3:$AR$260,41),0)","v":0},0,0,0,{"$f":"IF($CH96>0,VLOOKUP($CH96,'العاملين '!$A$3:$AR$260,2),0)","v":0},0,null,{"$f":"IF($CH96>0,VLOOKUP($CH96,'العاملين '!$A$3:$AR$260,3),0)","v":0},{"$f":"IF($CH96>0,VLOOKUP($CH96,'العاملين '!$A$3:$AR$260,43),0)","v":0},0]
[25,{"$f":"IF($CH97>0,VLOOKUP($CH97,'العاملين '!$A$3:$AR$260,8),0)","v":0}," "," "," "," "," ",{"$f":"IF($CH97>0,VLOOKUP($CH97,'العاملين '!$A$3:$AR$260,9),0)","v":0},{"$f":"IF($CH97>0,VLOOKUP($CH97,'العاملين '!$A$3:$AR$260,10),0)","v":0},{"$f":"IF($CH97>0,VLOOKUP($CH97,'العاملين '!$A$3:$AR$260,11),0)","v":0},{"$f":"IF($CH97>0,VLOOKUP($CH97,'العاملين '!$A$3:$AR$260,12),0)","v":0},{"$f":"IF($CH97>0,VLOOKUP($CH97,'العاملين '!$A$3:$AR$260,13),0)","v":0},0,{"$f":"IF($CH97>0,VLOOKUP($CH97,'العاملين '!$A$3:$AR$260,14),0)","v":0},{"$f":"IF($CH97>0,VLOOKUP($CH97,'العاملين '!$A$3:$AR$260,15),0)","v":0},{"$f":"IF($CH97>0,VLOOKUP($CH97,'العاملين '!$A$3:$AR$260,16),0)","v":0},{"$f":"IF($CH97>0,VLOOKUP($CH97,'العاملين '!$A$3:$AR$260,17),0)","v":0},{"$f":"IF($CH97>0,VLOOKUP($CH97,'العاملين '!$A$3:$AR$260,18),0)","v":0},{"$f":"IF($CH97>0,VLOOKUP($CH97,'العاملين '!$A$3:$AR$260,19),0)","v":0},{"$f":"IF($CH97>0,VLOOKUP($CH97,'العاملين '!$A$3:$AR$260,20),0)","v":0},{"$f":"IF($CH97>0,VLOOKUP($CH97,'العاملين '!$A$3:$AR$260,21),0)","v":0},{"$f":"IF($CH97>0,VLOOKUP($CH97,'العاملين '!$A$3:$AR$260,22),0)","v":0},{"$f":"IF($CH97>0,VLOOKUP($CH97,'العاملين '!$A$3:$AR$260,23),0)","v":0},{"$f":"IF($CH97>0,VLOOKUP($CH97,'العاملين '!$A$3:$AR$260,24),0)","v":0},{"$f":"IF($CH97>0,VLOOKUP($CH97,'العاملين '!$A$3:$AR$260,26),0)","v":0},null,null,null,null,null,null,null,null,null,null,null,null,null,null,{"$f":"IF($CH97>0,VLOOKUP($CH97,'العاملين '!$A$3:$AR$260,25),0)","v":0},0,0,0,0,0,0,0,"",{"$f":"IF($CH97>0,VLOOKUP($CH97,'العاملين '!$A$3:$AR$260,28),0)","v":0},0," "," "," ",null," "," "," "," ",0,0,0,0,0,{"$f":"IF($CJ97=1,ROUND(($B97)*7%,2),IF($CJ97=2,VLOOKUP($CH97,'العاملين '!$A$3:$AS$260,44),0))","v":0},{"$f":"IF($CJ97=1,0.5,IF($CJ97=2,VLOOKUP($CH97,'العاملين '!$A$3:$AS$260,45),0))","v":0},{"$f":"IF($CJ97=1,4.5,IF($CJ97=2,VLOOKUP($CH97,'العاملين '!$A$3:$AS$260,46),0))","v":0},{"$f":"IF($CH97>0,VLOOKUP($CH97,'العاملين '!$A$3:$AR$260,29),0)","v":0},{"$f":"IF($CJ97=1,0.2,IF($CJ97=2,VLOOKUP($CH97,'العاملين '!$A$3:$AU$260,47),0))","v":0},{"$f":"IF($CJ97=1,0.05,IF($CJ97=2,VLOOKUP($CH97,'العاملين '!$A$3:$AU$260,47),0))","v":0},{"$f":"IF($CH97>0,VLOOKUP($CH97,'العاملين '!$A$3:$AR$260,30),0)","v":0},{"$f":"IF($CH97>0,VLOOKUP($CH97,'العاملين '!$A$3:$AR$260,31),0)","v":0},null,{"$f":"IF($CH97>0,VLOOKUP($CH97,'العاملين '!$A$3:$AR$260,33),0)","v":0},{"$f":"IF($CH97>0,VLOOKUP($CH97,'العاملين '!$A$3:$AR$260,34),0)","v":0},{"$f":"IF($CH97>0,VLOOKUP($CH97,'العاملين '!$A$3:$AR$260,35),0)","v":0},{"$f":"IF($CH97>0,VLOOKUP($CH97,'العاملين '!$A$3:$AR$260,36),0)","v":0},{"$f":"IF($CH97>0,VLOOKUP($CH97,'العاملين '!$A$3:$AR$260,37),0)","v":0},{"$f":"IF($CH97>0,VLOOKUP($CH97,'العاملين '!$A$3:$AR$260,38),0)","v":0},{"$f":"IF($CH97>0,VLOOKUP($CH97,'العاملين '!$A$3:$AR$260,39),0)","v":0},{"$f":"IF($CH97>0,VLOOKUP($CH97,'العاملين '!$A$3:$AR$260,40),0)","v":0},{"$f":"IF($CH97>0,VLOOKUP($CH97,'العاملين '!$A$3:$AR$260,41),0)","v":0},0,0,0,{"$f":"IF($CH97>0,VLOOKUP($CH97,'العاملين '!$A$3:$AR$260,2),0)","v":0},0,null,{"$f":"IF($CH97>0,VLOOKUP($CH97,'العاملين '!$A$3:$AR$260,3),0)","v":0},{"$f":"IF($CH97>0,VLOOKUP($CH97,'العاملين '!$A$3:$AR$260,43),0)","v":0},0]
[null,{"$f":"SUM(B73:B97)","v":0},{"$f":"SUM(C73:C97)","v":{"$error":"#VALUE!"}},{"$error":"#VALUE!"},{"$error":"#VALUE!"},{"$error":"#VALUE!"},{"$error":"#VALUE!"},4327.6299999999992,7206.3499999999995,0,400.78999999999996,404.78999999999996,12339.56,432.77000000000004,0,32,32,0,0,0,0,0,0,0,0,null,null,null,null,null,null,null,null,null,null,null,null,null,null,0,12836.33,12836.33,0,1925.4499999999998,128.36000000000001,385.09000000000003,2438.9,80,0,{"$error":"#VALUE!"},{"$error":"#VALUE!"},{"$error":"#VALUE!"},{"$error":"#VALUE!"},0,{"$error":"#VALUE!"},{"$error":"#VALUE!"},{"$error":"#VALUE!"},{"$error":"#VALUE!"},1925.4499999999998,128.36000000000001,1283.6199999999999,385.09000000000003,128.36000000000001,{"$error":"#VALUE!"},4,36,0,1.5999999999999999,0.39999999999999997,0,0,0,0,0,0,0,0,8,182.00000000000003,114.64999999999998,{"$f":"SUM(CC73:CC97)","v":0},{"$f":"SUM(CD73:CD97)","v":{"$error":"#VALUE!"}},{"$f":"SUM(CE73:CE97)","v":{"$error":"#VALUE!"}},{"$f":"SUM(CF73:CF97)","v":{"$error":"#VALUE!"}},null,null,null,null,null,{"$error":"#VALUE!"}]
[]
["كشــــــــــــــــــــــــــــــف المرتبات عن شــــــــــــــــــــــــــــــــهر /",null,null,null,null,null,null,null,null,null,null,null,null,null,null,null,null,null,null,null,null,null,null,null,null,null,null,null,null,null,null,null,null,null,null,null,null,null,null,null,null,null,null,null,null,null,null,null,null,null,{"$f":"ورقة1!C3","v":"مارس 2018"},null,null,null,null,null," ","ســــــــــــــــــــــــــــــــنة /",null,null,null,null,null,{"$f":"IF($CG113>0,ورقة1!$C$5,0)","v":0},null,null,null,null,null,"م"]
[{"$f":"ورقة1!C1","v":"الشهداء التعليمية"},null,null,null,null,null,null,null,null,null,null,null,null,null,null,null,null,null,null,null,null,null,null,null,null,null,null,null,null,null,null,null,null,null,null,null,null,null,null,null,null,null,null,null,null,null,null,null,null,null,"مدرسة /  ",null,null,null,null,{"$f":"IF($CG113>0,ورقة1!$C$2,\" \")","v":" "},null,null,null,null,null,null,null,null,null,null,null,null,null,null,null,null,null,null,null,null,null,null,null,null,null,null,null,null,null,{"$f":"FLOOR(CM113,0.05)","v":0}]
["م ","الاســــــــــــــــــــــــــتحـــــــــــــــــــــــــــــــــقــــــــــــــــــــــــــــــــــــــــــــــــــــــــــــــــــــــــــاقـــــــــــــــــــــــــــــــــــات ",null,null,null,null,null,null,null,null,null,null,null,null,null,null,null,null,null,null,null,null,null,null,null,null,null,null,null,null,null,null,null,null,null,null,null,null,null,null,null,null,null,null,null,null,null,null,null,"جملة الاستــــحقــاقات ","الأســـــــــــــــــــــــــــــــــــــتـــــــقـــــــــــــــــطاعـــــــــــــــــات ",null,null,null,null,null,null,null,null,null,null,null,null,null,null,null,null,null,null,null,null,null,null,null,null,null,null,null,null,null,null,null,"جملة الأستقطاعات ","الصافي المستحق ","الاســـــــــــــــــــم ","التوقيع بالاســــــــــــتلام ","صافي الشهر السابق ",null,"اسم البنك"]
[null,"الاجور الاســــــــــــــــــــــــــاسية ",null,null,null,null,"الجملة ","الاجور المتغيرة الخاضعة بكامل قيمتها للتأمينات والمعاشات ",null,null,null,null,"الجملة ","الاجور المتغيرة الاخري بنسبة        %",null,null,null,null,null,null,null,null,null,null,null,null,null,null,null,null,null,null,null,null,null,null,null,null,null,null,"الجملة ",{"$f":"'العاملين '!BA103","v":0},"غير خاضع","حصص الاجور المتغيرة ",null,null,"الجملة ","منحة ",{"$f":"'العاملين '!$AA$1","v":0},null,"لحســــــــــــــــــــاب الهيئة القوميـــــــــــــــــــــة للتـــــــــــــــــأمين الإجتـــــــــــــــــــــــــماعي ",null,null,null,null,null,null,null,null,null,null,null,null,null,null,null,null,null,null,"لحساب جاري دائنة مصلحة الضرائب ",null,null,"لحساب دائنين مختلفين "]
[null,null,null,null,null,null,null,null,null,null,null,null,null,null,null,null,null,null,null,null,null,null,null,null,null,null,null,null,null,null,null,null,null,null,null,null,null,null,null,null,null,"خاضع",null,null,null,null,null,null,null,null,"استقطاعات الأجور الاســــــــــــــــــاسية ",null,null,null,null,null,null,null,"استقطاعات الأجور المتغيرة ",null,null,null,null,"الأقساط الخاصة عن الأجور الأساسية ",null,null,null,null,null,"ضريبة دخل  ","دمغة عادية   "]
[null,"المرتب "," حصة الحكومة  15%","إصابة عمل  1%","أ 2 %","أ 3 %",null,"علاوة 2012","علاوة 2013","علاوة 2014","علاوة 2015","علاوة 2016",null,{"$f":"'العاملين '!$N$1","v":0},{"$f":"'العاملين '!$O$1","v":0},{"$f":"'العاملين '!$P$1","v":0},{"$f":"'العاملين '!$Q$1","v":0},{"$f":"'العاملين '!$R$1","v":0},{"$f":"'العاملين '!#REF!","v":{"$error":"#REF!"}},{"$f":"'العاملين '!$S$1","v":0},{"$f":"'العاملين '!$T$1","v":0},{"$f":"'العاملين '!$U$1","v":0},{"$f":"'العاملين '!$V$1","v":0},{"$f":"'العاملين '!$W$1","v":0},"الحد الادنى",null,null,null,null,null,null,null,null,null,null,null,null,null,null,{"$f":"'العاملين '!$X$1","v":0},null,null,null,"ألـ 15 %","ألـ 1 %","ألـ 3%",null,null,null,null," حصة الحكومة  15%","إصابة عمل  1%","الـ 2%",null," حصة الموظف  10%",0.08,"ألـ 3%","ألـ 1 %"," حصة الحكومة  15%","إصابة عمل  1%"," حصة الموظف  10%",0.03,0.01,"زمالة   7 %","زمالة  جماعى","نقابه","رابطة ","نادى محافظة","نادي الادارة",null,null,null,{"$f":"'العاملين '!$AF$1","v":0},{"$f":"'العاملين '!$AG$1","v":0},{"$f":"'العاملين '!$AH$1","v":0},{"$f":"'العاملين '!$AI$1","v":0},{"$f":"'العاملين '!$AJ$1","v":0},{"$f":"'العاملين '!$AK$1","v":0},{"$f":"'العاملين '!$AL$1","v":0},{"$f":"'العاملين '!$AM$1","v":0},{"$f":"'العاملين '!$AN$1","v":0},"كسر قرش"]
[1,{"$f":"IF($CH106>0,VLOOKUP($CH106,'العاملين '!$A$3:$AR$260,8),0)","v":"معلم أول"},{"$f":"IF($B106>0,ROUND(($B106)*15%,2),\" \")","v":{"$error":"#VALUE!"}},{"$f":"IF($B106>0,ROUND(($B106)*1%,2),\" \")","v":{"$error":"#VALUE!"}},{"$f":"IF($B106>0,ROUND(($B106)*2%,2),\" \")","v":{"$error":"#VALUE!"}},{"$f":"IF($B106>0,ROUND(($B106)*3%,2),\" \")","v":{"$error":"#VALUE!"}},{"$f":"IF($B106>0,SUM(B106:F106),\" \")","v":{"$error":"#VALUE!"}},{"$f":"IF($CH106>0,VLOOKUP($CH106,'العاملين '!$A$3:$AR$260,9),0)","v":546.57000000000005},{"$f":"IF($CH106>0,VLOOKUP($CH106,'العاملين '!$A$3:$AR$260,10),0)","v":906.88},{"$f":"IF($CH106>0,VLOOKUP($CH106,'العاملين '!$A$3:$AR$260,11),0)","v":0},{"$f":"IF($CH106>0,VLOOKUP($CH106,'العاملين '!$A$3:$AR$260,12),0)","v":50.87},{"$f":"IF($CH106>0,VLOOKUP($CH106,'العاملين '!$A$3:$AR$260,13),0)","v":51.37},{"$f":"IF($B106>0,SUM(H106:L106),0)","v":1555.6899999999998},{"$f":"IF($CH106>0,VLOOKUP($CH106,'العاملين '!$A$3:$AR$260,14),0)","v":54.64},{"$f":"IF($CH106>0,VLOOKUP($CH106,'العاملين '!$A$3:$AR$260,15),0)","v":0},{"$f":"IF($CH106>0,VLOOKUP($CH106,'العاملين '!$A$3:$AR$260,16),0)","v":4},{"$f":"IF($CH106>0,VLOOKUP($CH106,'العاملين '!$A$3:$AR$260,17),0)","v":6},{"$f":"IF($CH106>0,VLOOKUP($CH106,'العاملين '!$A$3:$AR$260,18),0)","v":0},{"$f":"IF($CH106>0,VLOOKUP($CH106,'العاملين '!$A$3:$AR$260,19),0)","v":0},{"$f":"IF($CH106>0,VLOOKUP($CH106,'العاملين '!$A$3:$AR$260,20),0)","v":0},{"$f":"IF($CH106>0,VLOOKUP($CH106,'العاملين '!$A$3:$AR$260,21),0)","v":0},{"$f":"IF($CH106>0,VLOOKUP($CH106,'العاملين '!$A$3:$AR$260,22),0)","v":0},{"$f":"IF($CH106>0,VLOOKUP($CH106,'العاملين '!$A$3:$AR$260,23),0)","v":0},{"$f":"IF($CH106>0,VLOOKUP($CH106,'العاملين '!$A$3:$AR$260,24),0)","v":0},{"$f":"IF($CH106>0,VLOOKUP($CH106,'العاملين '!$A$3:$AR$260,26),0)","v":0},null,null,null,null,null,null,null,null,null,null,null,null,null,null,{"$f":"IF($CH106>0,VLOOKUP($CH106,'العاملين '!$A$3:$AR$260,25),0)","v":0},{"$f":"SUM(M106:AN106)","v":1620.33},{"$f":"IF(AO106>$AP$4,$AP$4,AO106)","v":1620.33},{"$f":"AO106-AP106","v":0},{"$f":"ROUND(($AP106)*15%,2)","v":243.05},{"$f":"ROUND(($AP106)*1%,2)","v":16.2},{"$f":"ROUND(($AP106)*3%,2)","v":48.61},{"$f":"SUM(AR106:AT106)","v":307.86},{"$f":"IF(B106>0,10,\"\")","v":10},{"$f":"IF($CH106>0,VLOOKUP($CH106,'العاملين '!$A$3:$AR$260,28),0)","v":0},{"$f":"SUM(AV106,AU106,AO106,G106,AW106)","v":{"$error":"#VALUE!"}},{"$f":"IF($B106>0,ROUND(($B106)*15%,2),\" \")","v":{"$error":"#VALUE!"}},{"$f":"IF($B106>0,ROUND(($B106)*1%,2),\" \")","v":{"$error":"#VALUE!"}},{"$f":"IF($B106>0,ROUND(($B106)*2%,2),\" \")","v":{"$error":"#VALUE!"}},null,{"$f":"IF($B106>0,ROUND(($B106)*10%,2),\" \")","v":{"$error":"#VALUE!"}},{"$f":"IF($B106>0,ROUND(($B106)*8%,2),\" \")","v":{"$error":"#VALUE!"}},{"$f":"IF($B106>0,ROUND(($B106)*3%,2),\" \")","v":{"$error":"#VALUE!"}},{"$f":"IF($B106>0,ROUND(($B106)*1%,2),\" \")","v":{"$error":"#VALUE!"}},{"$f":"AR106","v":243.05},16.2,{"$f":"ROUND(($AP106)*10%,2)","v":162.03},{"$f":"AT106","v":48.61},{"$f":"AS106","v":16.2},{"$f":"IF($CJ106=1,ROUND(($B106)*7%,2),IF($CJ106=2,VLOOKUP($CH106,'العاملين '!$A$3:$AS$260,44),0))","v":{"$error":"#VALUE!"}},{"$f":"IF($CJ106=1,0.5,IF($CJ106=2,VLOOKUP($CH106,'العاملين '!$A$3:$AS$260,45),0))","v":0.5},{"$f":"IF($CJ106=1,4.5,IF($CJ106=2,VLOOKUP($CH106,'العاملين '!$A$3:$AS$260,46),0))","v":4.5},{"$f":"IF($CH106>0,VLOOKUP($CH106,'العاملين '!$A$3:$AR$260,29),0)","v":0},{"$f":"IF($CJ106=1,0.2,IF($CJ106=2,VLOOKUP($CH106,'العاملين '!$A$3:$AU$260,47),0))","v":0.2},{"$f":"IF($CJ106=1,0.05,IF($CJ106=2,VLOOKUP($CH106,'العاملين '!$A$3:$AU$260,47),0))","v":0.05},{"$f":"IF($CH106>0,VLOOKUP($CH106,'العاملين '!$A$3:$AR$260,30),0)","v":0},{"$f":"IF($CH106>0,VLOOKUP($CH106,'العاملين '!$A$3:$AR$260,31),0)","v":0},null,{"$f":"IF($CH106>0,VLOOKUP($CH106,'العاملين '!$A$3:$AR$260,33),0)","v":0},{"$f":"IF($CH106>0,VLOOKUP($CH106,'العاملين '!$A$3:$AR$260,34),0)","v":0},{"$f":"IF($CH106>0,VLOOKUP($CH106,'العاملين '!$A$3:$AR$260,35),0)","v":0},{"$f":"IF($CH106>0,VLOOKUP($CH106,'العاملين '!$A$3:$AR$260,36),0)","v":0},{"$f":"IF($CH106>0,VLOOKUP($CH106,'العاملين '!$A$3:$AR$260,37),0)","v":0},{"$f":"IF($CH106>0,VLOOKUP($CH106,'العاملين '!$A$3:$AR$260,38),0)","v":1},{"$f":"IF($CH106>0,VLOOKUP($CH106,'العاملين '!$A$3:$AR$260,39),0)","v":47.68},{"$f":"IF($CH106>0,VLOOKUP($CH106,'العاملين '!$A$3:$AR$260,40),0)","v":15.35},{"$f":"IF($CH106>0,VLOOKUP($CH106,'العاملين '!$A$3:$AR$260,41),0)","v":0},{"$f":"CL106-CF106","v":{"$error":"#VALUE!"}},{"$f":"SUM(AY106:CD106)","v":{"$error":"#VALUE!"}},{"$f":"FLOOR(CL106,0.05)","v":{"$error":"#VALUE!"}},{"$f":"IF($CH106>0,VLOOKUP($CH106,'العاملين '!$A$3:$AR$260,2),0)","v":"محمد10"},10,null,{"$f":"IF($CH106>0,VLOOKUP($CH106,'العاملين '!$A$3:$AR$260,3),0)","v":1},{"$f":"IF($CH106>0,VLOOKUP($CH106,'العاملين '!$A$3:$AR$260,43),0)","v":0},{"$f":"AX106-SUM(AY106:CC106)","v":{"$error":"#VALUE!"}}]
[2,{"$f":"IF($CH107>0,VLOOKUP($CH107,'العاملين '!$A$3:$AR$260,8),0)","v":"خبير"},{"$error":"#VALUE!"},{"$error":"#VALUE!"},{"$error":"#VALUE!"},{"$error":"#VALUE!"},{"$error":"#VALUE!"},{"$f":"IF($CH107>0,VLOOKUP($CH107,'العاملين '!$A$3:$AR$260,9),0)","v":638.54999999999995},{"$f":"IF($CH107>0,VLOOKUP($CH107,'العاملين '!$A$3:$AR$260,10),0)","v":1056.5899999999999},{"$f":"IF($CH107>0,VLOOKUP($CH107,'العاملين '!$A$3:$AR$260,11),0)","v":0},{"$f":"IF($CH107>0,VLOOKUP($CH107,'العاملين '!$A$3:$AR$260,12),0)","v":59.54},{"$f":"IF($CH107>0,VLOOKUP($CH107,'العاملين '!$A$3:$AR$260,13),0)","v":60.04},1814.7199999999998,{"$f":"IF($CH107>0,VLOOKUP($CH107,'العاملين '!$A$3:$AR$260,14),0)","v":63.85},{"$f":"IF($CH107>0,VLOOKUP($CH107,'العاملين '!$A$3:$AR$260,15),0)","v":0},{"$f":"IF($CH107>0,VLOOKUP($CH107,'العاملين '!$A$3:$AR$260,16),0)","v":4},{"$f":"IF($CH107>0,VLOOKUP($CH107,'العاملين '!$A$3:$AR$260,17),0)","v":6},{"$f":"IF($CH107>0,VLOOKUP($CH107,'العاملين '!$A$3:$AR$260,18),0)","v":0},{"$f":"IF($CH107>0,VLOOKUP($CH107,'العاملين '!$A$3:$AR$260,19),0)","v":0},{"$f":"IF($CH107>0,VLOOKUP($CH107,'العاملين '!$A$3:$AR$260,20),0)","v":0},{"$f":"IF($CH107>0,VLOOKUP($CH107,'العاملين '!$A$3:$AR$260,21),0)","v":0},{"$f":"IF($CH107>0,VLOOKUP($CH107,'العاملين '!$A$3:$AR$260,22),0)","v":0},{"$f":"IF($CH107>0,VLOOKUP($CH107,'العاملين '!$A$3:$AR$260,23),0)","v":0},{"$f":"IF($CH107>0,VLOOKUP($CH107,'العاملين '!$A$3:$AR$260,24),0)","v":0},{"$f":"IF($CH107>0,VLOOKUP($CH107,'العاملين '!$A$3:$AR$260,26),0)","v":0},null,null,null,null,null,null,null,null,null,null,null,null,null,null,{"$f":"IF($CH107>0,VLOOKUP($CH107,'العاملين '!$A$3:$AR$260,25),0)","v":0},1888.5699999999997,1888.5699999999997,0,283.29000000000002,18.89,56.66,358.84000000000003,10,{"$f":"IF($CH107>0,VLOOKUP($CH107,'العاملين '!$A$3:$AR$260,28),0)","v":0},{"$error":"#VALUE!"},{"$error":"#VALUE!"},{"$error":"#VALUE!"},{"$error":"#VALUE!"},null,{"$error":"#VALUE!"},{"$error":"#VALUE!"},{"$error":"#VALUE!"},{"$error":"#VALUE!"},283.29000000000002,18.89,188.86,56.66,18.89,{"$f":"IF($CJ107=1,ROUND(($B107)*7%,2),IF($CJ107=2,VLOOKUP($CH107,'العاملين '!$A$3:$AS$260,44),0))","v":{"$error":"#VALUE!"}},{"$f":"IF($CJ107=1,0.5,IF($CJ107=2,VLOOKUP($CH107,'العاملين '!$A$3:$AS$260,45),0))","v":0.5},{"$f":"IF($CJ107=1,4.5,IF($CJ107=2,VLOOKUP($CH107,'العاملين '!$A$3:$AS$260,46),0))","v":4.5},{"$f":"IF($CH107>0,VLOOKUP($CH107,'العاملين '!$A$3:$AR$260,29),0)","v":0},{"$f":"IF($CJ107=1,0.2,IF($CJ107=2,VLOOKUP($CH107,'العاملين '!$A$3:$AU$260,47),0))","v":0.2},{"$f":"IF($CJ107=1,0.05,IF($CJ107=2,VLOOKUP($CH107,'العاملين '!$A$3:$AU$260,47),0))","v":0.05},{"$f":"IF($CH107>0,VLOOKUP($CH107,'العاملين '!$A$3:$AR$260,30),0)","v":0},{"$f":"IF($CH107>0,VLOOKUP($CH107,'العاملين '!$A$3:$AR$260,31),0)","v":0},null,{"$f":"IF($CH107>0,VLOOKUP($CH107,'العاملين '!$A$3:$AR$260,33),0)","v":0},{"$f":"IF($CH107>0,VLOOKUP($CH107,'العاملين '!$A$3:$AR$260,34),0)","v":0},{"$f":"IF($CH107>0,VLOOKUP($CH107,'العاملين '!$A$3:$AR$260,35),0)","v":0},{"$f":"IF($CH107>0,VLOOKUP($CH107,'العاملين '!$A$3:$AR$260,36),0)","v":0},{"$f":"IF($CH107>0,VLOOKUP($CH107,'العاملين '!$A$3:$AR$260,37),0)","v":0},{"$f":"IF($CH107>0,VLOOKUP($CH107,'العاملين '!$A$3:$AR$260,38),0)","v":1},{"$f":"IF($CH107>0,VLOOKUP($CH107,'العاملين '!$A$3:$AR$260,39),0)","v":51.65},{"$f":"IF($CH107>0,VLOOKUP($CH107,'العاملين '!$A$3:$AR$260,40),0)","v":15},{"$f":"IF($CH107>0,VLOOKUP($CH107,'العاملين '!$A$3:$AR$260,41),0)","v":0},{"$error":"#VALUE!"},{"$error":"#VALUE!"},{"$error":"#VALUE!"},{"$f":"IF($CH107>0,VLOOKUP($CH107,'العاملين '!$A$3:$AR$260,2),0)","v":"محمد28"},28,null,{"$f":"IF($CH107>0,VLOOKUP($CH107,'العاملين '!$A$3:$AR$260,3),0)","v":1},{"$f":"IF($CH107>0,VLOOKUP($CH107,'العاملين '!$A$3:$AR$260,43),0)","v":0},{"$error":"#VALUE!"}]
[3,{"$f":"IF($CH108>0,VLOOKUP($CH108,'العاملين '!$A$3:$AR$260,8),0)","v":0}," "," "," "," "," ",{"$f":"IF($CH108>0,VLOOKUP($CH108,'العاملين '!$A$3:$AR$260,9),0)","v":0},{"$f":"IF($CH108>0,VLOOKUP($CH108,'العاملين '!$A$3:$AR$260,10),0)","v":0},{"$f":"IF($CH108>0,VLOOKUP($CH108,'العاملين '!$A$3:$AR$260,11),0)","v":0},{"$f":"IF($CH108>0,VLOOKUP($CH108,'العاملين '!$A$3:$AR$260,12),0)","v":0},{"$f":"IF($CH108>0,VLOOKUP($CH108,'العاملين '!$A$3:$AR$260,13),0)","v":0},0,{"$f":"IF($CH108>0,VLOOKUP($CH108,'العاملين '!$A$3:$AR$260,14),0)","v":0},{"$f":"IF($CH108>0,VLOOKUP($CH108,'العاملين '!$A$3:$AR$260,15),0)","v":0},{"$f":"IF($CH108>0,VLOOKUP($CH108,'العاملين '!$A$3:$AR$260,16),0)","v":0},{"$f":"IF($CH108>0,VLOOKUP($CH108,'العاملين '!$A$3:$AR$260,17),0)","v":0},{"$f":"IF($CH108>0,VLOOKUP($CH108,'العاملين '!$A$3:$AR$260,18),0)","v":0},{"$f":"IF($CH108>0,VLOOKUP($CH108,'العاملين '!$A$3:$AR$260,19),0)","v":0},{"$f":"IF($CH108>0,VLOOKUP($CH108,'العاملين '!$A$3:$AR$260,20),0)","v":0},{"$f":"IF($CH108>0,VLOOKUP($CH108,'العاملين '!$A$3:$AR$260,21),0)","v":0},{"$f":"IF($CH108>0,VLOOKUP($CH108,'العاملين '!$A$3:$AR$260,22),0)","v":0},{"$f":"IF($CH108>0,VLOOKUP($CH108,'العاملين '!$A$3:$AR$260,23),0)","v":0},{"$f":"IF($CH108>0,VLOOKUP($CH108,'العاملين '!$A$3:$AR$260,24),0)","v":0},{"$f":"IF($CH108>0,VLOOKUP($CH108,'العاملين '!$A$3:$AR$260,26),0)","v":0},null,null,null,null,null,null,null,null,null,null,null,null,null,null,{"$f":"IF($CH108>0,VLOOKUP($CH108,'العاملين '!$A$3:$AR$260,25),0)","v":0},0,0,0,0,0,0,0,"",{"$f":"IF($CH108>0,VLOOKUP($CH108,'العاملين '!$A$3:$AR$260,28),0)","v":0},0," "," "," ",null," "," "," "," ",0,0,0,0,0,{"$f":"IF($CJ108=1,ROUND(($B108)*7%,2),IF($CJ108=2,VLOOKUP($CH108,'العاملين '!$A$3:$AS$260,44),0))","v":0},{"$f":"IF($CJ108=1,0.5,IF($CJ108=2,VLOOKUP($CH108,'العاملين '!$A$3:$AS$260,45),0))","v":0},{"$f":"IF($CJ108=1,4.5,IF($CJ108=2,VLOOKUP($CH108,'العاملين '!$A$3:$AS$260,46),0))","v":0},{"$f":"IF($CH108>0,VLOOKUP($CH108,'العاملين '!$A$3:$AR$260,29),0)","v":0},{"$f":"IF($CJ108=1,0.2,IF($CJ108=2,VLOOKUP($CH108,'العاملين '!$A$3:$AU$260,47),0))","v":0},{"$f":"IF($CJ108=1,0.05,IF($CJ108=2,VLOOKUP($CH108,'العاملين '!$A$3:$AU$260,47),0))","v":0},{"$f":"IF($CH108>0,VLOOKUP($CH108,'العاملين '!$A$3:$AR$260,30),0)","v":0},{"$f":"IF($CH108>0,VLOOKUP($CH108,'العاملين '!$A$3:$AR$260,31),0)","v":0},null,{"$f":"IF($CH108>0,VLOOKUP($CH108,'العاملين '!$A$3:$AR$260,33),0)","v":0},{"$f":"IF($CH108>0,VLOOKUP($CH108,'العاملين '!$A$3:$AR$260,34),0)","v":0},{"$f":"IF($CH108>0,VLOOKUP($CH108,'العاملين '!$A$3:$AR$260,35),0)","v":0},{"$f":"IF($CH108>0,VLOOKUP($CH108,'العاملين '!$A$3:$AR$260,36),0)","v":0},{"$f":"IF($CH108>0,VLOOKUP($CH108,'العاملين '!$A$3:$AR$260,37),0)","v":0},{"$f":"IF($CH108>0,VLOOKUP($CH108,'العاملين '!$A$3:$AR$260,38),0)","v":0},{"$f":"IF($CH108>0,VLOOKUP($CH108,'العاملين '!$A$3:$AR$260,39),0)","v":0},{"$f":"IF($CH108>0,VLOOKUP($CH108,'العاملين '!$A$3:$AR$260,40),0)","v":0},{"$f":"IF($CH108>0,VLOOKUP($CH108,'العاملين '!$A$3:$AR$260,41),0)","v":0},0,0,0,{"$f":"IF($CH108>0,VLOOKUP($CH108,'العاملين '!$A$3:$AR$260,2),0)","v":0},0,null,{"$f":"IF($CH108>0,VLOOKUP($CH108,'العاملين '!$A$3:$AR$260,3),0)","v":0},{"$f":"IF($CH108>0,VLOOKUP($CH108,'العاملين '!$A$3:$AR$260,43),0)","v":0},0]
[4,{"$f":"IF($CH109>0,VLOOKUP($CH109,'العاملين '!$A$3:$AR$260,8),0)","v":0}," "," "," "," "," ",{"$f":"IF($CH109>0,VLOOKUP($CH109,'العاملين '!$A$3:$AR$260,9),0)","v":0},{"$f":"IF($CH109>0,VLOOKUP($CH109,'العاملين '!$A$3:$AR$260,10),0)","v":0},{"$f":"IF($CH109>0,VLOOKUP($CH109,'العاملين '!$A$3:$AR$260,11),0)","v":0},{"$f":"IF($CH109>0,VLOOKUP($CH109,'العاملين '!$A$3:$AR$260,12),0)","v":0},{"$f":"IF($CH109>0,VLOOKUP($CH109,'العاملين '!$A$3:$AR$260,13),0)","v":0},0,{"$f":"IF($CH109>0,VLOOKUP($CH109,'العاملين '!$A$3:$AR$260,14),0)","v":0},{"$f":"IF($CH109>0,VLOOKUP($CH109,'العاملين '!$A$3:$AR$260,15),0)","v":0},{"$f":"IF($CH109>0,VLOOKUP($CH109,'العاملين '!$A$3:$AR$260,16),0)","v":0},{"$f":"IF($CH109>0,VLOOKUP($CH109,'العاملين '!$A$3:$AR$260,17),0)","v":0},{"$f":"IF($CH109>0,VLOOKUP($CH109,'العاملين '!$A$3:$AR$260,18),0)","v":0},{"$f":"IF($CH109>0,VLOOKUP($CH109,'العاملين '!$A$3:$AR$260,19),0)","v":0},{"$f":"IF($CH109>0,VLOOKUP($CH109,'العاملين '!$A$3:$AR$260,20),0)","v":0},{"$f":"IF($CH109>0,VLOOKUP($CH109,'العاملين '!$A$3:$AR$260,21),0)","v":0},{"$f":"IF($CH109>0,VLOOKUP($CH109,'العاملين '!$A$3:$AR$260,22),0)","v":0},{"$f":"IF($CH109>0,VLOOKUP($CH109,'العاملين '!$A$3:$AR$260,23),0)","v":0},{"$f":"IF($CH109>0,VLOOKUP($CH109,'العاملين '!$A$3:$AR$260,24),0)","v":0},{"$f":"IF($CH109>0,VLOOKUP($CH109,'العاملين '!$A$3:$AR$260,26),0)","v":0},null,null,null,null,null,null,null,null,null,null,null,null,null,null,{"$f":"IF($CH109>0,VLOOKUP($CH109,'العاملين '!$A$3:$AR$260,25),0)","v":0},0,0,0,0,0,0,0,"",{"$f":"IF($CH109>0,VLOOKUP($CH109,'العاملين '!$A$3:$AR$260,28),0)","v":0},0," "," "," ",null," "," "," "," ",0,0,0,0,0,{"$f":"IF($CJ109=1,ROUND(($B109)*7%,2),IF($CJ109=2,VLOOKUP($CH109,'العاملين '!$A$3:$AS$260,44),0))","v":0},{"$f":"IF($CJ109=1,0.5,IF($CJ109=2,VLOOKUP($CH109,'العاملين '!$A$3:$AS$260,45),0))","v":0},{"$f":"IF($CJ109=1,4.5,IF($CJ109=2,VLOOKUP($CH109,'العاملين '!$A$3:$AS$260,46),0))","v":0},{"$f":"IF($CH109>0,VLOOKUP($CH109,'العاملين '!$A$3:$AR$260,29),0)","v":0},{"$f":"IF($CJ109=1,0.2,IF($CJ109=2,VLOOKUP($CH109,'العاملين '!$A$3:$AU$260,47),0))","v":0},{"$f":"IF($CJ109=1,0.05,IF($CJ109=2,VLOOKUP($CH109,'العاملين '!$A$3:$AU$260,47),0))","v":0},{"$f":"IF($CH109>0,VLOOKUP($CH109,'العاملين '!$A$3:$AR$260,30),0)","v":0},{"$f":"IF($CH109>0,VLOOKUP($CH109,'العاملين '!$A$3:$AR$260,31),0)","v":0},null,{"$f":"IF($CH109>0,VLOOKUP($CH109,'العاملين '!$A$3:$AR$260,33),0)","v":0},{"$f":"IF($CH109>0,VLOOKUP($CH109,'العاملين '!$A$3:$AR$260,34),0)","v":0},{"$f":"IF($CH109>0,VLOOKUP($CH109,'العاملين '!$A$3:$AR$260,35),0)","v":0},{"$f":"IF($CH109>0,VLOOKUP($CH109,'العاملين '!$A$3:$AR$260,36),0)","v":0},{"$f":"IF($CH109>0,VLOOKUP($CH109,'العاملين '!$A$3:$AR$260,37),0)","v":0},{"$f":"IF($CH109>0,VLOOKUP($CH109,'العاملين '!$A$3:$AR$260,38),0)","v":0},{"$f":"IF($CH109>0,VLOOKUP($CH109,'العاملين '!$A$3:$AR$260,39),0)","v":0},{"$f":"IF($CH109>0,VLOOKUP($CH109,'العاملين '!$A$3:$AR$260,40),0)","v":0},{"$f":"IF($CH109>0,VLOOKUP($CH109,'العاملين '!$A$3:$AR$260,41),0)","v":0},0,0,0,{"$f":"IF($CH109>0,VLOOKUP($CH109,'العاملين '!$A$3:$AR$260,2),0)","v":0},0,null,{"$f":"IF($CH109>0,VLOOKUP($CH109,'العاملين '!$A$3:$AR$260,3),0)","v":0},{"$f":"IF($CH109>0,VLOOKUP($CH109,'العاملين '!$A$3:$AR$260,43),0)","v":0},0]
[5,{"$f":"IF($CH110>0,VLOOKUP($CH110,'العاملين '!$A$3:$AR$260,8),0)","v":0}," "," "," "," "," ",{"$f":"IF($CH110>0,VLOOKUP($CH110,'العاملين '!$A$3:$AR$260,9),0)","v":0},{"$f":"IF($CH110>0,VLOOKUP($CH110,'العاملين '!$A$3:$AR$260,10),0)","v":0},{"$f":"IF($CH110>0,VLOOKUP($CH110,'العاملين '!$A$3:$AR$260,11),0)","v":0},{"$f":"IF($CH110>0,VLOOKUP($CH110,'العاملين '!$A$3:$AR$260,12),0)","v":0},{"$f":"IF($CH110>0,VLOOKUP($CH110,'العاملين '!$A$3:$AR$260,13),0)","v":0},0,{"$f":"IF($CH110>0,VLOOKUP($CH110,'العاملين '!$A$3:$AR$260,14),0)","v":0},{"$f":"IF($CH110>0,VLOOKUP($CH110,'العاملين '!$A$3:$AR$260,15),0)","v":0},{"$f":"IF($CH110>0,VLOOKUP($CH110,'العاملين '!$A$3:$AR$260,16),0)","v":0},{"$f":"IF($CH110>0,VLOOKUP($CH110,'العاملين '!$A$3:$AR$260,17),0)","v":0},{"$f":"IF($CH110>0,VLOOKUP($CH110,'العاملين '!$A$3:$AR$260,18),0)","v":0},{"$f":"IF($CH110>0,VLOOKUP($CH110,'العاملين '!$A$3:$AR$260,19),0)","v":0},{"$f":"IF($CH110>0,VLOOKUP($CH110,'العاملين '!$A$3:$AR$260,20),0)","v":0},{"$f":"IF($CH110>0,VLOOKUP($CH110,'العاملين '!$A$3:$AR$260,21),0)","v":0},{"$f":"IF($CH110>0,VLOOKUP($CH110,'العاملين '!$A$3:$AR$260,22),0)","v":0},{"$f":"IF($CH110>0,VLOOKUP($CH110,'العاملين '!$A$3:$AR$260,23),0)","v":0},{"$f":"IF($CH110>0,VLOOKUP($CH110,'العاملين '!$A$3:$AR$260,24),0)","v":0},{"$f":"IF($CH110>0,VLOOKUP($CH110,'العاملين '!$A$3:$AR$260,26),0)","v":0},null,null,null,null,null,null,null,null,null,null,null,null,null,null,{"$f":"IF($CH110>0,VLOOKUP($CH110,'العاملين '!$A$3:$AR$260,25),0)","v":0},0,0,0,0,0,0,0,"",{"$f":"IF($CH110>0,VLOOKUP($CH110,'العاملين '!$A$3:$AR$260,28),0)","v":0},0," "," "," ",null," "," "," "," ",0,0,0,0,0,{"$f":"IF($CJ110=1,ROUND(($B110)*7%,2),IF($CJ110=2,VLOOKUP($CH110,'العاملين '!$A$3:$AS$260,44),0))","v":0},{"$f":"IF($CJ110=1,0.5,IF($CJ110=2,VLOOKUP($CH110,'العاملين '!$A$3:$AS$260,45),0))","v":0},{"$f":"IF($CJ110=1,4.5,IF($CJ110=2,VLOOKUP($CH110,'العاملين '!$A$3:$AS$260,46),0))","v":0},{"$f":"IF($CH110>0,VLOOKUP($CH110,'العاملين '!$A$3:$AR$260,29),0)","v":0},{"$f":"IF($CJ110=1,0.2,IF($CJ110=2,VLOOKUP($CH110,'العاملين '!$A$3:$AU$260,47),0))","v":0},{"$f":"IF($CJ110=1,0.05,IF($CJ110=2,VLOOKUP($CH110,'العاملين '!$A$3:$AU$260,47),0))","v":0},{"$f":"IF($CH110>0,VLOOKUP($CH110,'العاملين '!$A$3:$AR$260,30),0)","v":0},{"$f":"IF($CH110>0,VLOOKUP($CH110,'العاملين '!$A$3:$AR$260,31),0)","v":0},null,{"$f":"IF($CH110>0,VLOOKUP($CH110,'العاملين '!$A$3:$AR$260,33),0)","v":0},{"$f":"IF($CH110>0,VLOOKUP($CH110,'العاملين '!$A$3:$AR$260,34),0)","v":0},{"$f":"IF($CH110>0,VLOOKUP($CH110,'العاملين '!$A$3:$AR$260,35),0)","v":0},{"$f":"IF($CH110>0,VLOOKUP($CH110,'العاملين '!$A$3:$AR$260,36),0)","v":0},{"$f":"IF($CH110>0,VLOOKUP($CH110,'العاملين '!$A$3:$AR$260,37),0)","v":0},{"$f":"IF($CH110>0,VLOOKUP($CH110,'العاملين '!$A$3:$AR$260,38),0)","v":0},{"$f":"IF($CH110>0,VLOOKUP($CH110,'العاملين '!$A$3:$AR$260,39),0)","v":0},{"$f":"IF($CH110>0,VLOOKUP($CH110,'العاملين '!$A$3:$AR$260,40),0)","v":0},{"$f":"IF($CH110>0,VLOOKUP($CH110,'العاملين '!$A$3:$AR$260,41),0)","v":0},0,0,0,{"$f":"IF($CH110>0,VLOOKUP($CH110,'العاملين '!$A$3:$AR$260,2),0)","v":0},0,null,{"$f":"IF($CH110>0,VLOOKUP($CH110,'العاملين '!$A$3:$AR$260,3),0)","v":0},{"$f":"IF($CH110>0,VLOOKUP($CH110,'العاملين '!$A$3:$AR$260,43),0)","v":0},0]
[6,{"$f":"IF($CH111>0,VLOOKUP($CH111,'العاملين '!$A$3:$AR$260,8),0)","v":0}," "," "," "," "," ",{"$f":"IF($CH111>0,VLOOKUP($CH111,'العاملين '!$A$3:$AR$260,9),0)","v":0},{"$f":"IF($CH111>0,VLOOKUP($CH111,'العاملين '!$A$3:$AR$260,10),0)","v":0},{"$f":"IF($CH111>0,VLOOKUP($CH111,'العاملين '!$A$3:$AR$260,11),0)","v":0},{"$f":"IF($CH111>0,VLOOKUP($CH111,'العاملين '!$A$3:$AR$260,12),0)","v":0},{"$f":"IF($CH111>0,VLOOKUP($CH111,'العاملين '!$A$3:$AR$260,13),0)","v":0},0,{"$f":"IF($CH111>0,VLOOKUP($CH111,'العاملين '!$A$3:$AR$260,14),0)","v":0},{"$f":"IF($CH111>0,VLOOKUP($CH111,'العاملين '!$A$3:$AR$260,15),0)","v":0},{"$f":"IF($CH111>0,VLOOKUP($CH111,'العاملين '!$A$3:$AR$260,16),0)","v":0},{"$f":"IF($CH111>0,VLOOKUP($CH111,'العاملين '!$A$3:$AR$260,17),0)","v":0},{"$f":"IF($CH111>0,VLOOKUP($CH111,'العاملين '!$A$3:$AR$260,18),0)","v":0},{"$f":"IF($CH111>0,VLOOKUP($CH111,'العاملين '!$A$3:$AR$260,19),0)","v":0},{"$f":"IF($CH111>0,VLOOKUP($CH111,'العاملين '!$A$3:$AR$260,20),0)","v":0},{"$f":"IF($CH111>0,VLOOKUP($CH111,'العاملين '!$A$3:$AR$260,21),0)","v":0},{"$f":"IF($CH111>0,VLOOKUP($CH111,'العاملين '!$A$3:$AR$260,22),0)","v":0},{"$f":"IF($CH111>0,VLOOKUP($CH111,'العاملين '!$A$3:$AR$260,23),0)","v":0},{"$f":"IF($CH111>0,VLOOKUP($CH111,'العاملين '!$A$3:$AR$260,24),0)","v":0},{"$f":"IF($CH111>0,VLOOKUP($CH111,'العاملين '!$A$3:$AR$260,26),0)","v":0},null,null,null,null,null,null,null,null,null,null,null,null,null,null,{"$f":"IF($CH111>0,VLOOKUP($CH111,'العاملين '!$A$3:$AR$260,25),0)","v":0},0,0,0,0,0,0,0,"",{"$f":"IF($CH111>0,VLOOKUP($CH111,'العاملين '!$A$3:$AR$260,28),0)","v":0},0," "," "," ",null," "," "," "," ",0,0,0,0,0,{"$f":"IF($CJ111=1,ROUND(($B111)*7%,2),IF($CJ111=2,VLOOKUP($CH111,'العاملين '!$A$3:$AS$260,44),0))","v":0},{"$f":"IF($CJ111=1,0.5,IF($CJ111=2,VLOOKUP($CH111,'العاملين '!$A$3:$AS$260,45),0))","v":0},{"$f":"IF($CJ111=1,4.5,IF($CJ111=2,VLOOKUP($CH111,'العاملين '!$A$3:$AS$260,46),0))","v":0},{"$f":"IF($CH111>0,VLOOKUP($CH111,'العاملين '!$A$3:$AR$260,29),0)","v":0},{"$f":"IF($CJ111=1,0.2,IF($CJ111=2,VLOOKUP($CH111,'العاملين '!$A$3:$AU$260,47),0))","v":0},{"$f":"IF($CJ111=1,0.05,IF($CJ111=2,VLOOKUP($CH111,'العاملين '!$A$3:$AU$260,47),0))","v":0},{"$f":"IF($CH111>0,VLOOKUP($CH111,'العاملين '!$A$3:$AR$260,30),0)","v":0},{"$f":"IF($CH111>0,VLOOKUP($CH111,'العاملين '!$A$3:$AR$260,31),0)","v":0},null,{"$f":"IF($CH111>0,VLOOKUP($CH111,'العاملين '!$A$3:$AR$260,33),0)","v":0},{"$f":"IF($CH111>0,VLOOKUP($CH111,'العاملين '!$A$3:$AR$260,34),0)","v":0},{"$f":"IF($CH111>0,VLOOKUP($CH111,'العاملين '!$A$3:$AR$260,35),0)","v":0},{"$f":"IF($CH111>0,VLOOKUP($CH111,'العاملين '!$A$3:$AR$260,36),0)","v":0},{"$f":"IF($CH111>0,VLOOKUP($CH111,'العاملين '!$A$3:$AR$260,37),0)","v":0},{"$f":"IF($CH111>0,VLOOKUP($CH111,'العاملين '!$A$3:$AR$260,38),0)","v":0},{"$f":"IF($CH111>0,VLOOKUP($CH111,'العاملين '!$A$3:$AR$260,39),0)","v":0},{"$f":"IF($CH111>0,VLOOKUP($CH111,'العاملين '!$A$3:$AR$260,40),0)","v":0},{"$f":"IF($CH111>0,VLOOKUP($CH111,'العاملين '!$A$3:$AR$260,41),0)","v":0},0,0,0,{"$f":"IF($CH111>0,VLOOKUP($CH111,'العاملين '!$A$3:$AR$260,2),0)","v":0},0,null,{"$f":"IF($CH111>0,VLOOKUP($CH111,'العاملين '!$A$3:$AR$260,3),0)","v":0},{"$f":"IF($CH111>0,VLOOKUP($CH111,'العاملين '!$A$3:$AR$260,43),0)","v":0},0]
[7,{"$f":"IF($CH112>0,VLOOKUP($CH112,'العاملين '!$A$3:$AR$260,8),0)","v":0},{"$f":"IF($B112>0,ROUND(($B112)*15%,2),\" \")","v":" "},{"$f":"IF($B112>0,ROUND(($B112)*1%,2),\" \")","v":" "},{"$f":"IF($B112>0,ROUND(($B112)*2%,2),\" \")","v":" "},{"$f":"IF($B112>0,ROUND(($B112)*3%,2),\" \")","v":" "},{"$f":"IF($B112>0,SUM(B112:F112),\" \")","v":" "},{"$f":"IF($CH112>0,VLOOKUP($CH112,'العاملين '!$A$3:$AR$260,9),0)","v":0},{"$f":"IF($CH112>0,VLOOKUP($CH112,'العاملين '!$A$3:$AR$260,10),0)","v":0},{"$f":"IF($CH112>0,VLOOKUP($CH112,'العاملين '!$A$3:$AR$260,11),0)","v":0},{"$f":"IF($CH112>0,VLOOKUP($CH112,'العاملين '!$A$3:$AR$260,12),0)","v":0},{"$f":"IF($CH112>0,VLOOKUP($CH112,'العاملين '!$A$3:$AR$260,13),0)","v":0},{"$f":"IF($B112>0,SUM(H112:L112),0)","v":0},{"$f":"IF($CH112>0,VLOOKUP($CH112,'العاملين '!$A$3:$AR$260,14),0)","v":0},{"$f":"IF($CH112>0,VLOOKUP($CH112,'العاملين '!$A$3:$AR$260,15),0)","v":0},{"$f":"IF($CH112>0,VLOOKUP($CH112,'العاملين '!$A$3:$AR$260,16),0)","v":0},{"$f":"IF($CH112>0,VLOOKUP($CH112,'العاملين '!$A$3:$AR$260,17),0)","v":0},{"$f":"IF($CH112>0,VLOOKUP($CH112,'العاملين '!$A$3:$AR$260,18),0)","v":0},{"$f":"IF($CH112>0,VLOOKUP($CH112,'العاملين '!$A$3:$AR$260,19),0)","v":0},{"$f":"IF($CH112>0,VLOOKUP($CH112,'العاملين '!$A$3:$AR$260,20),0)","v":0},{"$f":"IF($CH112>0,VLOOKUP($CH112,'العاملين '!$A$3:$AR$260,21),0)","v":0},{"$f":"IF($CH112>0,VLOOKUP($CH112,'العاملين '!$A$3:$AR$260,22),0)","v":0},{"$f":"IF($CH112>0,VLOOKUP($CH112,'العاملين '!$A$3:$AR$260,23),0)","v":0},{"$f":"IF($CH112>0,VLOOKUP($CH112,'العاملين '!$A$3:$AR$260,24),0)","v":0},{"$f":"IF($CH112>0,VLOOKUP($CH112,'العاملين '!$A$3:$AR$260,26),0)","v":0},null,null,null,null,null,null,null,null,null,null,null,null,null,null,{"$f":"IF($CH112>0,VLOOKUP($CH112,'العاملين '!$A$3:$AR$260,25),0)","v":0},{"$f":"SUM(M112:AN112)","v":0},{"$f":"IF(AO112>$AP$4,$AP$4,AO112)","v":0},{"$f":"AO112-AP112","v":0},{"$f":"ROUND(($AP112)*15%,2)","v":0},{"$f":"ROUND(($AP112)*1%,2)","v":0},{"$f":"ROUND(($AP112)*3%,2)","v":0},{"$f":"SUM(AR112:AT112)","v":0},{"$f":"IF(B112>0,10,\"\")","v":""},{"$f":"IF($CH112>0,VLOOKUP($CH112,'العاملين '!$A$3:$AR$260,28),0)","v":0},{"$f":"SUM(AV112,AU112,AO112,G112,AW112)","v":0},{"$f":"IF($B112>0,ROUND(($B112)*15%,2),\" \")","v":" "},{"$f":"IF($B112>0,ROUND(($B112)*1%,2),\" \")","v":" "},{"$f":"IF($B112>0,ROUND(($B112)*2%,2),\" \")","v":" "},null,{"$f":"IF($B112>0,ROUND(($B112)*10%,2),\" \")","v":" "},{"$f":"IF($B112>0,ROUND(($B112)*8%,2),\" \")","v":" "},{"$f":"IF($B112>0,ROUND(($B112)*3%,2),\" \")","v":" "},{"$f":"IF($B112>0,ROUND(($B112)*1%,2),\" \")","v":" "},{"$f":"AR112","v":0},{"$f":"AS112","v":0},{"$f":"ROUND(($AP112)*10%,2)","v":0},{"$f":"AT112","v":0},{"$f":"AS112","v":0},{"$f":"IF($CJ112=1,ROUND(($B112)*7%,2),IF($CJ112=2,VLOOKUP($CH112,'العاملين '!$A$3:$AS$260,44),0))","v":0},{"$f":"IF($CJ112=1,0.5,IF($CJ112=2,VLOOKUP($CH112,'العاملين '!$A$3:$AS$260,45),0))","v":0},{"$f":"IF($CJ112=1,4.5,IF($CJ112=2,VLOOKUP($CH112,'العاملين '!$A$3:$AS$260,46),0))","v":0},{"$f":"IF($CH112>0,VLOOKUP($CH112,'العاملين '!$A$3:$AR$260,29),0)","v":0},{"$f":"IF($CJ112=1,0.2,IF($CJ112=2,VLOOKUP($CH112,'العاملين '!$A$3:$AU$260,47),0))","v":0},{"$f":"IF($CJ112=1,0.05,IF($CJ112=2,VLOOKUP($CH112,'العاملين '!$A$3:$AU$260,47),0))","v":0},{"$f":"IF($CH112>0,VLOOKUP($CH112,'العاملين '!$A$3:$AR$260,30),0)","v":0},{"$f":"IF($CH112>0,VLOOKUP($CH112,'العاملين '!$A$3:$AR$260,31),0)","v":0},null,{"$f":"IF($CH112>0,VLOOKUP($CH112,'العاملين '!$A$3:$AR$260,33),0)","v":0},{"$f":"IF($CH112>0,VLOOKUP($CH112,'العاملين '!$A$3:$AR$260,34),0)","v":0},{"$f":"IF($CH112>0,VLOOKUP($CH112,'العاملين '!$A$3:$AR$260,35),0)","v":0},{"$f":"IF($CH112>0,VLOOKUP($CH112,'العاملين '!$A$3:$AR$260,36),0)","v":0},{"$f":"IF($CH112>0,VLOOKUP($CH112,'العاملين '!$A$3:$AR$260,37),0)","v":0},{"$f":"IF($CH112>0,VLOOKUP($CH112,'العاملين '!$A$3:$AR$260,38),0)","v":0},{"$f":"IF($CH112>0,VLOOKUP($CH112,'العاملين '!$A$3:$AR$260,39),0)","v":0},{"$f":"IF($CH112>0,VLOOKUP($CH112,'العاملين '!$A$3:$AR$260,40),0)","v":0},{"$f":"IF($CH112>0,VLOOKUP($CH112,'العاملين '!$A$3:$AR$260,41),0)","v":0},{"$f":"CL112-CF112","v":0},{"$f":"SUM(AY112:CD112)","v":0},{"$f":"FLOOR(CL112,0.05)","v":0},{"$f":"IF($CH112>0,VLOOKUP($CH112,'العاملين '!$A$3:$AR$260,2),0)","v":0},0,null,{"$f":"IF($CH112>0,VLOOKUP($CH112,'العاملين '!$A$3:$AR$260,3),0)","v":0},{"$f":"IF($CH112>0,VLOOKUP($CH112,'العاملين '!$A$3:$AR$260,43),0)","v":0},0]
[8,{"$f":"IF($CH113>0,VLOOKUP($CH113,'العاملين '!$A$3:$AR$260,8),0)","v":0},{"$f":"IF($B113>0,ROUND(($B113)*15%,2),\" \")","v":" "},{"$f":"IF($B113>0,ROUND(($B113)*1%,2),\" \")","v":" "},{"$f":"IF($B113>0,ROUND(($B113)*2%,2),\" \")","v":" "},{"$f":"IF($B113>0,ROUND(($B113)*3%,2),\" \")","v":" "},{"$f":"IF($B113>0,SUM(B113:F113),\" \")","v":" "},{"$f":"IF($CH113>0,VLOOKUP($CH113,'العاملين '!$A$3:$AR$260,9),0)","v":0},{"$f":"IF($CH113>0,VLOOKUP($CH113,'العاملين '!$A$3:$AR$260,10),0)","v":0},{"$f":"IF($CH113>0,VLOOKUP($CH113,'العاملين '!$A$3:$AR$260,11),0)","v":0},{"$f":"IF($CH113>0,VLOOKUP($CH113,'العاملين '!$A$3:$AR$260,12),0)","v":0},{"$f":"IF($CH113>0,VLOOKUP($CH113,'العاملين '!$A$3:$AR$260,13),0)","v":0},{"$f":"IF($B113>0,SUM(H113:L113),0)","v":0},{"$f":"IF($CH113>0,VLOOKUP($CH113,'العاملين '!$A$3:$AR$260,14),0)","v":0},{"$f":"IF($CH113>0,VLOOKUP($CH113,'العاملين '!$A$3:$AR$260,15),0)","v":0},{"$f":"IF($CH113>0,VLOOKUP($CH113,'العاملين '!$A$3:$AR$260,16),0)","v":0},{"$f":"IF($CH113>0,VLOOKUP($CH113,'العاملين '!$A$3:$AR$260,17),0)","v":0},{"$f":"IF($CH113>0,VLOOKUP($CH113,'العاملين '!$A$3:$AR$260,18),0)","v":0},{"$f":"IF($CH113>0,VLOOKUP($CH113,'العاملين '!$A$3:$AR$260,19),0)","v":0},{"$f":"IF($CH113>0,VLOOKUP($CH113,'العاملين '!$A$3:$AR$260,20),0)","v":0},{"$f":"IF($CH113>0,VLOOKUP($CH113,'العاملين '!$A$3:$AR$260,21),0)","v":0},{"$f":"IF($CH113>0,VLOOKUP($CH113,'العاملين '!$A$3:$AR$260,22),0)","v":0},{"$f":"IF($CH113>0,VLOOKUP($CH113,'العاملين '!$A$3:$AR$260,23),0)","v":0},{"$f":"IF($CH113>0,VLOOKUP($CH113,'العاملين '!$A$3:$AR$260,24),0)","v":0},{"$f":"IF($CH113>0,VLOOKUP($CH113,'العاملين '!$A$3:$AR$260,26),0)","v":0},null,null,null,null,null,null,null,null,null,null,null,null,null,null,{"$f":"IF($CH113>0,VLOOKUP($CH113,'العاملين '!$A$3:$AR$260,25),0)","v":0},{"$f":"SUM(M113:AN113)","v":0},{"$f":"IF(AO113>$AP$4,$AP$4,AO113)","v":0},{"$f":"AO113-AP113","v":0},{"$f":"ROUND(($AP113)*15%,2)","v":0},{"$f":"ROUND(($AP113)*1%,2)","v":0},{"$f":"ROUND(($AP113)*3%,2)","v":0},{"$f":"SUM(AR113:AT113)","v":0},{"$f":"IF(B113>0,10,\"\")","v":""},{"$f":"IF($CH113>0,VLOOKUP($CH113,'العاملين '!$A$3:$AR$260,28),0)","v":0},{"$f":"SUM(AV113,AU113,AO113,G113,AW113)","v":0},{"$f":"IF($B113>0,ROUND(($B113)*15%,2),\" \")","v":" "},{"$f":"IF($B113>0,ROUND(($B113)*1%,2),\" \")","v":" "},{"$f":"IF($B113>0,ROUND(($B113)*2%,2),\" \")","v":" "},null,{"$f":"IF($B113>0,ROUND(($B113)*10%,2),\" \")","v":" "},{"$f":"IF($B113>0,ROUND(($B113)*8%,2),\" \")","v":" "},{"$f":"IF($B113>0,ROUND(($B113)*3%,2),\" \")","v":" "},{"$f":"IF($B113>0,ROUND(($B113)*1%,2),\" \")","v":" "},{"$f":"AR113","v":0},{"$f":"AS113","v":0},{"$f":"ROUND(($AP113)*10%,2)","v":0},{"$f":"AT113","v":0},{"$f":"AS113","v":0},{"$f":"IF($CJ113=1,ROUND(($B113)*7%,2),IF($CJ113=2,VLOOKUP($CH113,'العاملين '!$A$3:$AS$260,44),0))","v":0},{"$f":"IF($CJ113=1,0.5,IF($CJ113=2,VLOOKUP($CH113,'العاملين '!$A$3:$AS$260,45),0))","v":0},{"$f":"IF($CJ113=1,4.5,IF($CJ113=2,VLOOKUP($CH113,'العاملين '!$A$3:$AS$260,46),0))","v":0},{"$f":"IF($CH113>0,VLOOKUP($CH113,'العاملين '!$A$3:$AR$260,29),0)","v":0},{"$f":"IF($CJ113=1,0.2,IF($CJ113=2,VLOOKUP($CH113,'العاملين '!$A$3:$AU$260,47),0))","v":0},{"$f":"IF($CJ113=1,0.05,IF($CJ113=2,VLOOKUP($CH113,'العاملين '!$A$3:$AU$260,47),0))","v":0},{"$f":"IF($CH113>0,VLOOKUP($CH113,'العاملين '!$A$3:$AR$260,30),0)","v":0},{"$f":"IF($CH113>0,VLOOKUP($CH113,'العاملين '!$A$3:$AR$260,31),0)","v":0},null,{"$f":"IF($CH113>0,VLOOKUP($CH113,'العاملين '!$A$3:$AR$260,33),0)","v":0},{"$f":"IF($CH113>0,VLOOKUP($CH113,'العاملين '!$A$3:$AR$260,34),0)","v":0},{"$f":"IF($CH113>0,VLOOKUP($CH113,'العاملين '!$A$3:$AR$260,35),0)","v":0},{"$f":"IF($CH113>0,VLOOKUP($CH113,'العاملين '!$A$3:$AR$260,36),0)","v":0},{"$f":"IF($CH113>0,VLOOKUP($CH113,'العاملين '!$A$3:$AR$260,37),0)","v":0},{"$f":"IF($CH113>0,VLOOKUP($CH113,'العاملين '!$A$3:$AR$260,38),0)","v":0},{"$f":"IF($CH113>0,VLOOKUP($CH113,'العاملين '!$A$3:$AR$260,39),0)","v":0},{"$f":"IF($CH113>0,VLOOKUP($CH113,'العاملين '!$A$3:$AR$260,40),0)","v":0},{"$f":"IF($CH113>0,VLOOKUP($CH113,'العاملين '!$A$3:$AR$260,41),0)","v":0},{"$f":"CL113-CF113","v":0},{"$f":"SUM(AY113:CD113)","v":0},{"$f":"FLOOR(CL113,0.05)","v":0},{"$f":"IF($CH113>0,VLOOKUP($CH113,'العاملين '!$A$3:$AR$260,2),0)","v":0},0,null,{"$f":"IF($CH113>0,VLOOKUP($CH113,'العاملين '!$A$3:$AR$260,3),0)","v":0},{"$f":"IF($CH113>0,VLOOKUP($CH113,'العاملين '!$A$3:$AR$260,43),0)","v":0},0]
[9,{"$f":"IF($CH114>0,VLOOKUP($CH114,'العاملين '!$A$3:$AR$260,8),0)","v":0},{"$f":"IF($B114>0,ROUND(($B114)*15%,2),\" \")","v":" "},{"$f":"IF($B114>0,ROUND(($B114)*1%,2),\" \")","v":" "},{"$f":"IF($B114>0,ROUND(($B114)*2%,2),\" \")","v":" "},{"$f":"IF($B114>0,ROUND(($B114)*3%,2),\" \")","v":" "},{"$f":"IF($B114>0,SUM(B114:F114),\" \")","v":" "},{"$f":"IF($CH114>0,VLOOKUP($CH114,'العاملين '!$A$3:$AR$260,9),0)","v":0},{"$f":"IF($CH114>0,VLOOKUP($CH114,'العاملين '!$A$3:$AR$260,10),0)","v":0},{"$f":"IF($CH114>0,VLOOKUP($CH114,'العاملين '!$A$3:$AR$260,11),0)","v":0},{"$f":"IF($CH114>0,VLOOKUP($CH114,'العاملين '!$A$3:$AR$260,12),0)","v":0},{"$f":"IF($CH114>0,VLOOKUP($CH114,'العاملين '!$A$3:$AR$260,13),0)","v":0},{"$f":"IF($B114>0,SUM(H114:L114),0)","v":0},{"$f":"IF($CH114>0,VLOOKUP($CH114,'العاملين '!$A$3:$AR$260,14),0)","v":0},{"$f":"IF($CH114>0,VLOOKUP($CH114,'العاملين '!$A$3:$AR$260,15),0)","v":0},{"$f":"IF($CH114>0,VLOOKUP($CH114,'العاملين '!$A$3:$AR$260,16),0)","v":0},{"$f":"IF($CH114>0,VLOOKUP($CH114,'العاملين '!$A$3:$AR$260,17),0)","v":0},{"$f":"IF($CH114>0,VLOOKUP($CH114,'العاملين '!$A$3:$AR$260,18),0)","v":0},{"$f":"IF($CH114>0,VLOOKUP($CH114,'العاملين '!$A$3:$AR$260,19),0)","v":0},{"$f":"IF($CH114>0,VLOOKUP($CH114,'العاملين '!$A$3:$AR$260,20),0)","v":0},{"$f":"IF($CH114>0,VLOOKUP($CH114,'العاملين '!$A$3:$AR$260,21),0)","v":0},{"$f":"IF($CH114>0,VLOOKUP($CH114,'العاملين '!$A$3:$AR$260,22),0)","v":0},{"$f":"IF($CH114>0,VLOOKUP($CH114,'العاملين '!$A$3:$AR$260,23),0)","v":0},{"$f":"IF($CH114>0,VLOOKUP($CH114,'العاملين '!$A$3:$AR$260,24),0)","v":0},{"$f":"IF($CH114>0,VLOOKUP($CH114,'العاملين '!$A$3:$AR$260,26),0)","v":0},null,null,null,null,null,null,null,null,null,null,null,null,null,null,{"$f":"IF($CH114>0,VLOOKUP($CH114,'العاملين '!$A$3:$AR$260,25),0)","v":0},{"$f":"SUM(M114:AN114)","v":0},{"$f":"IF(AO114>$AP$4,$AP$4,AO114)","v":0},{"$f":"AO114-AP114","v":0},{"$f":"ROUND(($AP114)*15%,2)","v":0},{"$f":"ROUND(($AP114)*1%,2)","v":0},{"$f":"ROUND(($AP114)*3%,2)","v":0},{"$f":"SUM(AR114:AT114)","v":0},{"$f":"IF(B114>0,10,\"\")","v":""},{"$f":"IF($CH114>0,VLOOKUP($CH114,'العاملين '!$A$3:$AR$260,28),0)","v":0},{"$f":"SUM(AV114,AU114,AO114,G114,AW114)","v":0},{"$f":"IF($B114>0,ROUND(($B114)*15%,2),\" \")","v":" "},{"$f":"IF($B114>0,ROUND(($B114)*1%,2),\" \")","v":" "},{"$f":"IF($B114>0,ROUND(($B114)*2%,2),\" \")","v":" "},null,{"$f":"IF($B114>0,ROUND(($B114)*10%,2),\" \")","v":" "},{"$f":"IF($B114>0,ROUND(($B114)*8%,2),\" \")","v":" "},{"$f":"IF($B114>0,ROUND(($B114)*3%,2),\" \")","v":" "},{"$f":"IF($B114>0,ROUND(($B114)*1%,2),\" \")","v":" "},{"$f":"AR114","v":0},0,{"$f":"ROUND(($AP114)*10%,2)","v":0},{"$f":"AT114","v":0},{"$f":"AS114","v":0},{"$f":"IF($CJ114=1,ROUND(($B114)*7%,2),IF($CJ114=2,VLOOKUP($CH114,'العاملين '!$A$3:$AS$260,44),0))","v":0},{"$f":"IF($CJ114=1,0.5,IF($CJ114=2,VLOOKUP($CH114,'العاملين '!$A$3:$AS$260,45),0))","v":0},{"$f":"IF($CJ114=1,4.5,IF($CJ114=2,VLOOKUP($CH114,'العاملين '!$A$3:$AS$260,46),0))","v":0},{"$f":"IF($CH114>0,VLOOKUP($CH114,'العاملين '!$A$3:$AR$260,29),0)","v":0},{"$f":"IF($CJ114=1,0.2,IF($CJ114=2,VLOOKUP($CH114,'العاملين '!$A$3:$AU$260,47),0))","v":0},{"$f":"IF($CJ114=1,0.05,IF($CJ114=2,VLOOKUP($CH114,'العاملين '!$A$3:$AU$260,47),0))","v":0},{"$f":"IF($CH114>0,VLOOKUP($CH114,'العاملين '!$A$3:$AR$260,30),0)","v":0},{"$f":"IF($CH114>0,VLOOKUP($CH114,'العاملين '!$A$3:$AR$260,31),0)","v":0},null,{"$f":"IF($CH114>0,VLOOKUP($CH114,'العاملين '!$A$3:$AR$260,33),0)","v":0},{"$f":"IF($CH114>0,VLOOKUP($CH114,'العاملين '!$A$3:$AR$260,34),0)","v":0},{"$f":"IF($CH114>0,VLOOKUP($CH114,'العاملين '!$A$3:$AR$260,35),0)","v":0},{"$f":"IF($CH114>0,VLOOKUP($CH114,'العاملين '!$A$3:$AR$260,36),0)","v":0},{"$f":"IF($CH114>0,VLOOKUP($CH114,'العاملين '!$A$3:$AR$260,37),0)","v":0},{"$f":"IF($CH114>0,VLOOKUP($CH114,'العاملين '!$A$3:$AR$260,38),0)","v":0},{"$f":"IF($CH114>0,VLOOKUP($CH114,'العاملين '!$A$3:$AR$260,39),0)","v":0},{"$f":"IF($CH114>0,VLOOKUP($CH114,'العاملين '!$A$3:$AR$260,40),0)","v":0},{"$f":"IF($CH114>0,VLOOKUP($CH114,'العاملين '!$A$3:$AR$260,41),0)","v":0},{"$f":"CL114-CF114","v":0},{"$f":"SUM(AY114:CD114)","v":0},{"$f":"FLOOR(CL114,0.05)","v":0},{"$f":"IF($CH114>0,VLOOKUP($CH114,'العاملين '!$A$3:$AR$260,2),0)","v":0},0,null,{"$f":"IF($CH114>0,VLOOKUP($CH114,'العاملين '!$A$3:$AR$260,3),0)","v":0},{"$f":"IF($CH114>0,VLOOKUP($CH114,'العاملين '!$A$3:$AR$260,43),0)","v":0},0]
[10,{"$f":"IF($CH115>0,VLOOKUP($CH115,'العاملين '!$A$3:$AR$260,8),0)","v":0}," "," "," "," "," ",{"$f":"IF($CH115>0,VLOOKUP($CH115,'العاملين '!$A$3:$AR$260,9),0)","v":0},{"$f":"IF($CH115>0,VLOOKUP($CH115,'العاملين '!$A$3:$AR$260,10),0)","v":0},{"$f":"IF($CH115>0,VLOOKUP($CH115,'العاملين '!$A$3:$AR$260,11),0)","v":0},{"$f":"IF($CH115>0,VLOOKUP($CH115,'العاملين '!$A$3:$AR$260,12),0)","v":0},{"$f":"IF($CH115>0,VLOOKUP($CH115,'العاملين '!$A$3:$AR$260,13),0)","v":0},0,{"$f":"IF($CH115>0,VLOOKUP($CH115,'العاملين '!$A$3:$AR$260,14),0)","v":0},{"$f":"IF($CH115>0,VLOOKUP($CH115,'العاملين '!$A$3:$AR$260,15),0)","v":0},{"$f":"IF($CH115>0,VLOOKUP($CH115,'العاملين '!$A$3:$AR$260,16),0)","v":0},{"$f":"IF($CH115>0,VLOOKUP($CH115,'العاملين '!$A$3:$AR$260,17),0)","v":0},{"$f":"IF($CH115>0,VLOOKUP($CH115,'العاملين '!$A$3:$AR$260,18),0)","v":0},{"$f":"IF($CH115>0,VLOOKUP($CH115,'العاملين '!$A$3:$AR$260,19),0)","v":0},{"$f":"IF($CH115>0,VLOOKUP($CH115,'العاملين '!$A$3:$AR$260,20),0)","v":0},{"$f":"IF($CH115>0,VLOOKUP($CH115,'العاملين '!$A$3:$AR$260,21),0)","v":0},{"$f":"IF($CH115>0,VLOOKUP($CH115,'العاملين '!$A$3:$AR$260,22),0)","v":0},{"$f":"IF($CH115>0,VLOOKUP($CH115,'العاملين '!$A$3:$AR$260,23),0)","v":0},{"$f":"IF($CH115>0,VLOOKUP($CH115,'العاملين '!$A$3:$AR$260,24),0)","v":0},{"$f":"IF($CH115>0,VLOOKUP($CH115,'العاملين '!$A$3:$AR$260,26),0)","v":0},null,null,null,null,null,null,null,null,null,null,null,null,null,null,{"$f":"IF($CH115>0,VLOOKUP($CH115,'العاملين '!$A$3:$AR$260,25),0)","v":0},0,0,0,0,0,0,0,"",{"$f":"IF($CH115>0,VLOOKUP($CH115,'العاملين '!$A$3:$AR$260,28),0)","v":0},0," "," "," ",null," "," "," "," ",0,0,0,0,0,{"$f":"IF($CJ115=1,ROUND(($B115)*7%,2),IF($CJ115=2,VLOOKUP($CH115,'العاملين '!$A$3:$AS$260,44),0))","v":0},{"$f":"IF($CJ115=1,0.5,IF($CJ115=2,VLOOKUP($CH115,'العاملين '!$A$3:$AS$260,45),0))","v":0},{"$f":"IF($CJ115=1,4.5,IF($CJ115=2,VLOOKUP($CH115,'العاملين '!$A$3:$AS$260,46),0))","v":0},{"$f":"IF($CH115>0,VLOOKUP($CH115,'العاملين '!$A$3:$AR$260,29),0)","v":0},{"$f":"IF($CJ115=1,0.2,IF($CJ115=2,VLOOKUP($CH115,'العاملين '!$A$3:$AU$260,47),0))","v":0},{"$f":"IF($CJ115=1,0.05,IF($CJ115=2,VLOOKUP($CH115,'العاملين '!$A$3:$AU$260,47),0))","v":0},{"$f":"IF($CH115>0,VLOOKUP($CH115,'العاملين '!$A$3:$AR$260,30),0)","v":0},{"$f":"IF($CH115>0,VLOOKUP($CH115,'العاملين '!$A$3:$AR$260,31),0)","v":0},null,{"$f":"IF($CH115>0,VLOOKUP($CH115,'العاملين '!$A$3:$AR$260,33),0)","v":0},{"$f":"IF($CH115>0,VLOOKUP($CH115,'العاملين '!$A$3:$AR$260,34),0)","v":0},{"$f":"IF($CH115>0,VLOOKUP($CH115,'العاملين '!$A$3:$AR$260,35),0)","v":0},{"$f":"IF($CH115>0,VLOOKUP($CH115,'العاملين '!$A$3:$AR$260,36),0)","v":0},{"$f":"IF($CH115>0,VLOOKUP($CH115,'العاملين '!$A$3:$AR$260,37),0)","v":0},{"$f":"IF($CH115>0,VLOOKUP($CH115,'العاملين '!$A$3:$AR$260,38),0)","v":0},{"$f":"IF($CH115>0,VLOOKUP($CH115,'العاملين '!$A$3:$AR$260,39),0)","v":0},{"$f":"IF($CH115>0,VLOOKUP($CH115,'العاملين '!$A$3:$AR$260,40),0)","v":0},{"$f":"IF($CH115>0,VLOOKUP($CH115,'العاملين '!$A$3:$AR$260,41),0)","v":0},0,0,0,{"$f":"IF($CH115>0,VLOOKUP($CH115,'العاملين '!$A$3:$AR$260,2),0)","v":0},0,null,{"$f":"IF($CH115>0,VLOOKUP($CH115,'العاملين '!$A$3:$AR$260,3),0)","v":0},{"$f":"IF($CH115>0,VLOOKUP($CH115,'العاملين '!$A$3:$AR$260,43),0)","v":0},0]
[11,{"$f":"IF($CH116>0,VLOOKUP($CH116,'العاملين '!$A$3:$AR$260,8),0)","v":0}," "," "," "," "," ",{"$f":"IF($CH116>0,VLOOKUP($CH116,'العاملين '!$A$3:$AR$260,9),0)","v":0},{"$f":"IF($CH116>0,VLOOKUP($CH116,'العاملين '!$A$3:$AR$260,10),0)","v":0},{"$f":"IF($CH116>0,VLOOKUP($CH116,'العاملين '!$A$3:$AR$260,11),0)","v":0},{"$f":"IF($CH116>0,VLOOKUP($CH116,'العاملين '!$A$3:$AR$260,12),0)","v":0},{"$f":"IF($CH116>0,VLOOKUP($CH116,'العاملين '!$A$3:$AR$260,13),0)","v":0},0,{"$f":"IF($CH116>0,VLOOKUP($CH116,'العاملين '!$A$3:$AR$260,14),0)","v":0},{"$f":"IF($CH116>0,VLOOKUP($CH116,'العاملين '!$A$3:$AR$260,15),0)","v":0},{"$f":"IF($CH116>0,VLOOKUP($CH116,'العاملين '!$A$3:$AR$260,16),0)","v":0},{"$f":"IF($CH116>0,VLOOKUP($CH116,'العاملين '!$A$3:$AR$260,17),0)","v":0},{"$f":"IF($CH116>0,VLOOKUP($CH116,'العاملين '!$A$3:$AR$260,18),0)","v":0},{"$f":"IF($CH116>0,VLOOKUP($CH116,'العاملين '!$A$3:$AR$260,19),0)","v":0},{"$f":"IF($CH116>0,VLOOKUP($CH116,'العاملين '!$A$3:$AR$260,20),0)","v":0},{"$f":"IF($CH116>0,VLOOKUP($CH116,'العاملين '!$A$3:$AR$260,21),0)","v":0},{"$f":"IF($CH116>0,VLOOKUP($CH116,'العاملين '!$A$3:$AR$260,22),0)","v":0},{"$f":"IF($CH116>0,VLOOKUP($CH116,'العاملين '!$A$3:$AR$260,23),0)","v":0},{"$f":"IF($CH116>0,VLOOKUP($CH116,'العاملين '!$A$3:$AR$260,24),0)","v":0},{"$f":"IF($CH116>0,VLOOKUP($CH116,'العاملين '!$A$3:$AR$260,26),0)","v":0},null,null,null,null,null,null,null,null,null,null,null,null,null,null,{"$f":"IF($CH116>0,VLOOKUP($CH116,'العاملين '!$A$3:$AR$260,25),0)","v":0},0,0,0,0,0,0,0,"",{"$f":"IF($CH116>0,VLOOKUP($CH116,'العاملين '!$A$3:$AR$260,28),0)","v":0},0," "," "," ",null," "," "," "," ",0,0,0,0,0,{"$f":"IF($CJ116=1,ROUND(($B116)*7%,2),IF($CJ116=2,VLOOKUP($CH116,'العاملين '!$A$3:$AS$260,44),0))","v":0},{"$f":"IF($CJ116=1,0.5,IF($CJ116=2,VLOOKUP($CH116,'العاملين '!$A$3:$AS$260,45),0))","v":0},{"$f":"IF($CJ116=1,4.5,IF($CJ116=2,VLOOKUP($CH116,'العاملين '!$A$3:$AS$260,46),0))","v":0},{"$f":"IF($CH116>0,VLOOKUP($CH116,'العاملين '!$A$3:$AR$260,29),0)","v":0},{"$f":"IF($CJ116=1,0.2,IF($CJ116=2,VLOOKUP($CH116,'العاملين '!$A$3:$AU$260,47),0))","v":0},{"$f":"IF($CJ116=1,0.05,IF($CJ116=2,VLOOKUP($CH116,'العاملين '!$A$3:$AU$260,47),0))","v":0},{"$f":"IF($CH116>0,VLOOKUP($CH116,'العاملين '!$A$3:$AR$260,30),0)","v":0},{"$f":"IF($CH116>0,VLOOKUP($CH116,'العاملين '!$A$3:$AR$260,31),0)","v":0},null,{"$f":"IF($CH116>0,VLOOKUP($CH116,'العاملين '!$A$3:$AR$260,33),0)","v":0},{"$f":"IF($CH116>0,VLOOKUP($CH116,'العاملين '!$A$3:$AR$260,34),0)","v":0},{"$f":"IF($CH116>0,VLOOKUP($CH116,'العاملين '!$A$3:$AR$260,35),0)","v":0},{"$f":"IF($CH116>0,VLOOKUP($CH116,'العاملين '!$A$3:$AR$260,36),0)","v":0},{"$f":"IF($CH116>0,VLOOKUP($CH116,'العاملين '!$A$3:$AR$260,37),0)","v":0},{"$f":"IF($CH116>0,VLOOKUP($CH116,'العاملين '!$A$3:$AR$260,38),0)","v":0},{"$f":"IF($CH116>0,VLOOKUP($CH116,'العاملين '!$A$3:$AR$260,39),0)","v":0},{"$f":"IF($CH116>0,VLOOKUP($CH116,'العاملين '!$A$3:$AR$260,40),0)","v":0},{"$f":"IF($CH116>0,VLOOKUP($CH116,'العاملين '!$A$3:$AR$260,41),0)","v":0},0,0,0,{"$f":"IF($CH116>0,VLOOKUP($CH116,'العاملين '!$A$3:$AR$260,2),0)","v":0},0,null,{"$f":"IF($CH116>0,VLOOKUP($CH116,'العاملين '!$A$3:$AR$260,3),0)","v":0},{"$f":"IF($CH116>0,VLOOKUP($CH116,'العاملين '!$A$3:$AR$260,43),0)","v":0},0]
[12,{"$f":"IF($CH117>0,VLOOKUP($CH117,'العاملين '!$A$3:$AR$260,8),0)","v":0}," "," "," "," "," ",{"$f":"IF($CH117>0,VLOOKUP($CH117,'العاملين '!$A$3:$AR$260,9),0)","v":0},{"$f":"IF($CH117>0,VLOOKUP($CH117,'العاملين '!$A$3:$AR$260,10),0)","v":0},{"$f":"IF($CH117>0,VLOOKUP($CH117,'العاملين '!$A$3:$AR$260,11),0)","v":0},{"$f":"IF($CH117>0,VLOOKUP($CH117,'العاملين '!$A$3:$AR$260,12),0)","v":0},{"$f":"IF($CH117>0,VLOOKUP($CH117,'العاملين '!$A$3:$AR$260,13),0)","v":0},0,{"$f":"IF($CH117>0,VLOOKUP($CH117,'العاملين '!$A$3:$AR$260,14),0)","v":0},{"$f":"IF($CH117>0,VLOOKUP($CH117,'العاملين '!$A$3:$AR$260,15),0)","v":0},{"$f":"IF($CH117>0,VLOOKUP($CH117,'العاملين '!$A$3:$AR$260,16),0)","v":0},{"$f":"IF($CH117>0,VLOOKUP($CH117,'العاملين '!$A$3:$AR$260,17),0)","v":0},{"$f":"IF($CH117>0,VLOOKUP($CH117,'العاملين '!$A$3:$AR$260,18),0)","v":0},{"$f":"IF($CH117>0,VLOOKUP($CH117,'العاملين '!$A$3:$AR$260,19),0)","v":0},{"$f":"IF($CH117>0,VLOOKUP($CH117,'العاملين '!$A$3:$AR$260,20),0)","v":0},{"$f":"IF($CH117>0,VLOOKUP($CH117,'العاملين '!$A$3:$AR$260,21),0)","v":0},{"$f":"IF($CH117>0,VLOOKUP($CH117,'العاملين '!$A$3:$AR$260,22),0)","v":0},{"$f":"IF($CH117>0,VLOOKUP($CH117,'العاملين '!$A$3:$AR$260,23),0)","v":0},{"$f":"IF($CH117>0,VLOOKUP($CH117,'العاملين '!$A$3:$AR$260,24),0)","v":0},{"$f":"IF($CH117>0,VLOOKUP($CH117,'العاملين '!$A$3:$AR$260,26),0)","v":0},null,null,null,null,null,null,null,null,null,null,null,null,null,null,{"$f":"IF($CH117>0,VLOOKUP($CH117,'العاملين '!$A$3:$AR$260,25),0)","v":0},0,0,0,0,0,0,0,"",{"$f":"IF($CH117>0,VLOOKUP($CH117,'العاملين '!$A$3:$AR$260,28),0)","v":0},0," "," "," ",null," "," "," "," ",0,0,0,0,0,{"$f":"IF($CJ117=1,ROUND(($B117)*7%,2),IF($CJ117=2,VLOOKUP($CH117,'العاملين '!$A$3:$AS$260,44),0))","v":0},{"$f":"IF($CJ117=1,0.5,IF($CJ117=2,VLOOKUP($CH117,'العاملين '!$A$3:$AS$260,45),0))","v":0},{"$f":"IF($CJ117=1,4.5,IF($CJ117=2,VLOOKUP($CH117,'العاملين '!$A$3:$AS$260,46),0))","v":0},{"$f":"IF($CH117>0,VLOOKUP($CH117,'العاملين '!$A$3:$AR$260,29),0)","v":0},{"$f":"IF($CJ117=1,0.2,IF($CJ117=2,VLOOKUP($CH117,'العاملين '!$A$3:$AU$260,47),0))","v":0},{"$f":"IF($CJ117=1,0.05,IF($CJ117=2,VLOOKUP($CH117,'العاملين '!$A$3:$AU$260,47),0))","v":0},{"$f":"IF($CH117>0,VLOOKUP($CH117,'العاملين '!$A$3:$AR$260,30),0)","v":0},{"$f":"IF($CH117>0,VLOOKUP($CH117,'العاملين '!$A$3:$AR$260,31),0)","v":0},null,{"$f":"IF($CH117>0,VLOOKUP($CH117,'العاملين '!$A$3:$AR$260,33),0)","v":0},{"$f":"IF($CH117>0,VLOOKUP($CH117,'العاملين '!$A$3:$AR$260,34),0)","v":0},{"$f":"IF($CH117>0,VLOOKUP($CH117,'العاملين '!$A$3:$AR$260,35),0)","v":0},{"$f":"IF($CH117>0,VLOOKUP($CH117,'العاملين '!$A$3:$AR$260,36),0)","v":0},{"$f":"IF($CH117>0,VLOOKUP($CH117,'العاملين '!$A$3:$AR$260,37),0)","v":0},{"$f":"IF($CH117>0,VLOOKUP($CH117,'العاملين '!$A$3:$AR$260,38),0)","v":0},{"$f":"IF($CH117>0,VLOOKUP($CH117,'العاملين '!$A$3:$AR$260,39),0)","v":0},{"$f":"IF($CH117>0,VLOOKUP($CH117,'العاملين '!$A$3:$AR$260,40),0)","v":0},{"$f":"IF($CH117>0,VLOOKUP($CH117,'العاملين '!$A$3:$AR$260,41),0)","v":0},0,0,0,{"$f":"IF($CH117>0,VLOOKUP($CH117,'العاملين '!$A$3:$AR$260,2),0)","v":0},0,null,{"$f":"IF($CH117>0,VLOOKUP($CH117,'العاملين '!$A$3:$AR$260,3),0)","v":0},{"$f":"IF($CH117>0,VLOOKUP($CH117,'العاملين '!$A$3:$AR$260,43),0)","v":0},0]
[13,{"$f":"IF($CH118>0,VLOOKUP($CH118,'العاملين '!$A$3:$AR$260,8),0)","v":0}," "," "," "," "," ",{"$f":"IF($CH118>0,VLOOKUP($CH118,'العاملين '!$A$3:$AR$260,9),0)","v":0},{"$f":"IF($CH118>0,VLOOKUP($CH118,'العاملين '!$A$3:$AR$260,10),0)","v":0},{"$f":"IF($CH118>0,VLOOKUP($CH118,'العاملين '!$A$3:$AR$260,11),0)","v":0},{"$f":"IF($CH118>0,VLOOKUP($CH118,'العاملين '!$A$3:$AR$260,12),0)","v":0},{"$f":"IF($CH118>0,VLOOKUP($CH118,'العاملين '!$A$3:$AR$260,13),0)","v":0},0,{"$f":"IF($CH118>0,VLOOKUP($CH118,'العاملين '!$A$3:$AR$260,14),0)","v":0},{"$f":"IF($CH118>0,VLOOKUP($CH118,'العاملين '!$A$3:$AR$260,15),0)","v":0},{"$f":"IF($CH118>0,VLOOKUP($CH118,'العاملين '!$A$3:$AR$260,16),0)","v":0},{"$f":"IF($CH118>0,VLOOKUP($CH118,'العاملين '!$A$3:$AR$260,17),0)","v":0},{"$f":"IF($CH118>0,VLOOKUP($CH118,'العاملين '!$A$3:$AR$260,18),0)","v":0},{"$f":"IF($CH118>0,VLOOKUP($CH118,'العاملين '!$A$3:$AR$260,19),0)","v":0},{"$f":"IF($CH118>0,VLOOKUP($CH118,'العاملين '!$A$3:$AR$260,20),0)","v":0},{"$f":"IF($CH118>0,VLOOKUP($CH118,'العاملين '!$A$3:$AR$260,21),0)","v":0},{"$f":"IF($CH118>0,VLOOKUP($CH118,'العاملين '!$A$3:$AR$260,22),0)","v":0},{"$f":"IF($CH118>0,VLOOKUP($CH118,'العاملين '!$A$3:$AR$260,23),0)","v":0},{"$f":"IF($CH118>0,VLOOKUP($CH118,'العاملين '!$A$3:$AR$260,24),0)","v":0},{"$f":"IF($CH118>0,VLOOKUP($CH118,'العاملين '!$A$3:$AR$260,26),0)","v":0},null,null,null,null,null,null,null,null,null,null,null,null,null,null,{"$f":"IF($CH118>0,VLOOKUP($CH118,'العاملين '!$A$3:$AR$260,25),0)","v":0},0,0,0,0,0,0,0,"",{"$f":"IF($CH118>0,VLOOKUP($CH118,'العاملين '!$A$3:$AR$260,28),0)","v":0},0," "," "," ",null," "," "," "," ",0,0,0,0,0,{"$f":"IF($CJ118=1,ROUND(($B118)*7%,2),IF($CJ118=2,VLOOKUP($CH118,'العاملين '!$A$3:$AS$260,44),0))","v":0},{"$f":"IF($CJ118=1,0.5,IF($CJ118=2,VLOOKUP($CH118,'العاملين '!$A$3:$AS$260,45),0))","v":0},{"$f":"IF($CJ118=1,4.5,IF($CJ118=2,VLOOKUP($CH118,'العاملين '!$A$3:$AS$260,46),0))","v":0},{"$f":"IF($CH118>0,VLOOKUP($CH118,'العاملين '!$A$3:$AR$260,29),0)","v":0},{"$f":"IF($CJ118=1,0.2,IF($CJ118=2,VLOOKUP($CH118,'العاملين '!$A$3:$AU$260,47),0))","v":0},{"$f":"IF($CJ118=1,0.05,IF($CJ118=2,VLOOKUP($CH118,'العاملين '!$A$3:$AU$260,47),0))","v":0},{"$f":"IF($CH118>0,VLOOKUP($CH118,'العاملين '!$A$3:$AR$260,30),0)","v":0},{"$f":"IF($CH118>0,VLOOKUP($CH118,'العاملين '!$A$3:$AR$260,31),0)","v":0},null,{"$f":"IF($CH118>0,VLOOKUP($CH118,'العاملين '!$A$3:$AR$260,33),0)","v":0},{"$f":"IF($CH118>0,VLOOKUP($CH118,'العاملين '!$A$3:$AR$260,34),0)","v":0},{"$f":"IF($CH118>0,VLOOKUP($CH118,'العاملين '!$A$3:$AR$260,35),0)","v":0},{"$f":"IF($CH118>0,VLOOKUP($CH118,'العاملين '!$A$3:$AR$260,36),0)","v":0},{"$f":"IF($CH118>0,VLOOKUP($CH118,'العاملين '!$A$3:$AR$260,37),0)","v":0},{"$f":"IF($CH118>0,VLOOKUP($CH118,'العاملين '!$A$3:$AR$260,38),0)","v":0},{"$f":"IF($CH118>0,VLOOKUP($CH118,'العاملين '!$A$3:$AR$260,39),0)","v":0},{"$f":"IF($CH118>0,VLOOKUP($CH118,'العاملين '!$A$3:$AR$260,40),0)","v":0},{"$f":"IF($CH118>0,VLOOKUP($CH118,'العاملين '!$A$3:$AR$260,41),0)","v":0},0,0,0,{"$f":"IF($CH118>0,VLOOKUP($CH118,'العاملين '!$A$3:$AR$260,2),0)","v":0},0,null,{"$f":"IF($CH118>0,VLOOKUP($CH118,'العاملين '!$A$3:$AR$260,3),0)","v":0},{"$f":"IF($CH118>0,VLOOKUP($CH118,'العاملين '!$A$3:$AR$260,43),0)","v":0},0]
[14,{"$f":"IF($CH119>0,VLOOKUP($CH119,'العاملين '!$A$3:$AR$260,8),0)","v":0}," "," "," "," "," ",{"$f":"IF($CH119>0,VLOOKUP($CH119,'العاملين '!$A$3:$AR$260,9),0)","v":0},{"$f":"IF($CH119>0,VLOOKUP($CH119,'العاملين '!$A$3:$AR$260,10),0)","v":0},{"$f":"IF($CH119>0,VLOOKUP($CH119,'العاملين '!$A$3:$AR$260,11),0)","v":0},{"$f":"IF($CH119>0,VLOOKUP($CH119,'العاملين '!$A$3:$AR$260,12),0)","v":0},{"$f":"IF($CH119>0,VLOOKUP($CH119,'العاملين '!$A$3:$AR$260,13),0)","v":0},0,{"$f":"IF($CH119>0,VLOOKUP($CH119,'العاملين '!$A$3:$AR$260,14),0)","v":0},{"$f":"IF($CH119>0,VLOOKUP($CH119,'العاملين '!$A$3:$AR$260,15),0)","v":0},{"$f":"IF($CH119>0,VLOOKUP($CH119,'العاملين '!$A$3:$AR$260,16),0)","v":0},{"$f":"IF($CH119>0,VLOOKUP($CH119,'العاملين '!$A$3:$AR$260,17),0)","v":0},{"$f":"IF($CH119>0,VLOOKUP($CH119,'العاملين '!$A$3:$AR$260,18),0)","v":0},{"$f":"IF($CH119>0,VLOOKUP($CH119,'العاملين '!$A$3:$AR$260,19),0)","v":0},{"$f":"IF($CH119>0,VLOOKUP($CH119,'العاملين '!$A$3:$AR$260,20),0)","v":0},{"$f":"IF($CH119>0,VLOOKUP($CH119,'العاملين '!$A$3:$AR$260,21),0)","v":0},{"$f":"IF($CH119>0,VLOOKUP($CH119,'العاملين '!$A$3:$AR$260,22),0)","v":0},{"$f":"IF($CH119>0,VLOOKUP($CH119,'العاملين '!$A$3:$AR$260,23),0)","v":0},{"$f":"IF($CH119>0,VLOOKUP($CH119,'العاملين '!$A$3:$AR$260,24),0)","v":0},{"$f":"IF($CH119>0,VLOOKUP($CH119,'العاملين '!$A$3:$AR$260,26),0)","v":0},null,null,null,null,null,null,null,null,null,null,null,null,null,null,{"$f":"IF($CH119>0,VLOOKUP($CH119,'العاملين '!$A$3:$AR$260,25),0)","v":0},0,0,0,0,0,0,0,"",{"$f":"IF($CH119>0,VLOOKUP($CH119,'العاملين '!$A$3:$AR$260,28),0)","v":0},0," "," "," ",null," "," "," "," ",0,0,0,0,0,{"$f":"IF($CJ119=1,ROUND(($B119)*7%,2),IF($CJ119=2,VLOOKUP($CH119,'العاملين '!$A$3:$AS$260,44),0))","v":0},{"$f":"IF($CJ119=1,0.5,IF($CJ119=2,VLOOKUP($CH119,'العاملين '!$A$3:$AS$260,45),0))","v":0},{"$f":"IF($CJ119=1,4.5,IF($CJ119=2,VLOOKUP($CH119,'العاملين '!$A$3:$AS$260,46),0))","v":0},{"$f":"IF($CH119>0,VLOOKUP($CH119,'العاملين '!$A$3:$AR$260,29),0)","v":0},{"$f":"IF($CJ119=1,0.2,IF($CJ119=2,VLOOKUP($CH119,'العاملين '!$A$3:$AU$260,47),0))","v":0},{"$f":"IF($CJ119=1,0.05,IF($CJ119=2,VLOOKUP($CH119,'العاملين '!$A$3:$AU$260,47),0))","v":0},{"$f":"IF($CH119>0,VLOOKUP($CH119,'العاملين '!$A$3:$AR$260,30),0)","v":0},{"$f":"IF($CH119>0,VLOOKUP($CH119,'العاملين '!$A$3:$AR$260,31),0)","v":0},null,{"$f":"IF($CH119>0,VLOOKUP($CH119,'العاملين '!$A$3:$AR$260,33),0)","v":0},{"$f":"IF($CH119>0,VLOOKUP($CH119,'العاملين '!$A$3:$AR$260,34),0)","v":0},{"$f":"IF($CH119>0,VLOOKUP($CH119,'العاملين '!$A$3:$AR$260,35),0)","v":0},{"$f":"IF($CH119>0,VLOOKUP($CH119,'العاملين '!$A$3:$AR$260,36),0)","v":0},{"$f":"IF($CH119>0,VLOOKUP($CH119,'العاملين '!$A$3:$AR$260,37),0)","v":0},{"$f":"IF($CH119>0,VLOOKUP($CH119,'العاملين '!$A$3:$AR$260,38),0)","v":0},{"$f":"IF($CH119>0,VLOOKUP($CH119,'العاملين '!$A$3:$AR$260,39),0)","v":0},{"$f":"IF($CH119>0,VLOOKUP($CH119,'العاملين '!$A$3:$AR$260,40),0)","v":0},{"$f":"IF($CH119>0,VLOOKUP($CH119,'العاملين '!$A$3:$AR$260,41),0)","v":0},0,0,0,{"$f":"IF($CH119>0,VLOOKUP($CH119,'العاملين '!$A$3:$AR$260,2),0)","v":0},0,null,{"$f":"IF($CH119>0,VLOOKUP($CH119,'العاملين '!$A$3:$AR$260,3),0)","v":0},{"$f":"IF($CH119>0,VLOOKUP($CH119,'العاملين '!$A$3:$AR$260,43),0)","v":0},0]
[15,{"$f":"IF($CH120>0,VLOOKUP($CH120,'العاملين '!$A$3:$AR$260,8),0)","v":0}," "," "," "," "," ",{"$f":"IF($CH120>0,VLOOKUP($CH120,'العاملين '!$A$3:$AR$260,9),0)","v":0},{"$f":"IF($CH120>0,VLOOKUP($CH120,'العاملين '!$A$3:$AR$260,10),0)","v":0},{"$f":"IF($CH120>0,VLOOKUP($CH120,'العاملين '!$A$3:$AR$260,11),0)","v":0},{"$f":"IF($CH120>0,VLOOKUP($CH120,'العاملين '!$A$3:$AR$260,12),0)","v":0},{"$f":"IF($CH120>0,VLOOKUP($CH120,'العاملين '!$A$3:$AR$260,13),0)","v":0},0,{"$f":"IF($CH120>0,VLOOKUP($CH120,'العاملين '!$A$3:$AR$260,14),0)","v":0},{"$f":"IF($CH120>0,VLOOKUP($CH120,'العاملين '!$A$3:$AR$260,15),0)","v":0},{"$f":"IF($CH120>0,VLOOKUP($CH120,'العاملين '!$A$3:$AR$260,16),0)","v":0},{"$f":"IF($CH120>0,VLOOKUP($CH120,'العاملين '!$A$3:$AR$260,17),0)","v":0},{"$f":"IF($CH120>0,VLOOKUP($CH120,'العاملين '!$A$3:$AR$260,18),0)","v":0},{"$f":"IF($CH120>0,VLOOKUP($CH120,'العاملين '!$A$3:$AR$260,19),0)","v":0},{"$f":"IF($CH120>0,VLOOKUP($CH120,'العاملين '!$A$3:$AR$260,20),0)","v":0},{"$f":"IF($CH120>0,VLOOKUP($CH120,'العاملين '!$A$3:$AR$260,21),0)","v":0},{"$f":"IF($CH120>0,VLOOKUP($CH120,'العاملين '!$A$3:$AR$260,22),0)","v":0},{"$f":"IF($CH120>0,VLOOKUP($CH120,'العاملين '!$A$3:$AR$260,23),0)","v":0},{"$f":"IF($CH120>0,VLOOKUP($CH120,'العاملين '!$A$3:$AR$260,24),0)","v":0},{"$f":"IF($CH120>0,VLOOKUP($CH120,'العاملين '!$A$3:$AR$260,26),0)","v":0},null,null,null,null,null,null,null,null,null,null,null,null,null,null,{"$f":"IF($CH120>0,VLOOKUP($CH120,'العاملين '!$A$3:$AR$260,25),0)","v":0},0,0,0,0,0,0,0,"",{"$f":"IF($CH120>0,VLOOKUP($CH120,'العاملين '!$A$3:$AR$260,28),0)","v":0},0," "," "," ",null," "," "," "," ",0,0,0,0,0,{"$f":"IF($CJ120=1,ROUND(($B120)*7%,2),IF($CJ120=2,VLOOKUP($CH120,'العاملين '!$A$3:$AS$260,44),0))","v":0},{"$f":"IF($CJ120=1,0.5,IF($CJ120=2,VLOOKUP($CH120,'العاملين '!$A$3:$AS$260,45),0))","v":0},{"$f":"IF($CJ120=1,4.5,IF($CJ120=2,VLOOKUP($CH120,'العاملين '!$A$3:$AS$260,46),0))","v":0},{"$f":"IF($CH120>0,VLOOKUP($CH120,'العاملين '!$A$3:$AR$260,29),0)","v":0},{"$f":"IF($CJ120=1,0.2,IF($CJ120=2,VLOOKUP($CH120,'العاملين '!$A$3:$AU$260,47),0))","v":0},{"$f":"IF($CJ120=1,0.05,IF($CJ120=2,VLOOKUP($CH120,'العاملين '!$A$3:$AU$260,47),0))","v":0},{"$f":"IF($CH120>0,VLOOKUP($CH120,'العاملين '!$A$3:$AR$260,30),0)","v":0},{"$f":"IF($CH120>0,VLOOKUP($CH120,'العاملين '!$A$3:$AR$260,31),0)","v":0},null,{"$f":"IF($CH120>0,VLOOKUP($CH120,'العاملين '!$A$3:$AR$260,33),0)","v":0},{"$f":"IF($CH120>0,VLOOKUP($CH120,'العاملين '!$A$3:$AR$260,34),0)","v":0},{"$f":"IF($CH120>0,VLOOKUP($CH120,'العاملين '!$A$3:$AR$260,35),0)","v":0},{"$f":"IF($CH120>0,VLOOKUP($CH120,'العاملين '!$A$3:$AR$260,36),0)","v":0},{"$f":"IF($CH120>0,VLOOKUP($CH120,'العاملين '!$A$3:$AR$260,37),0)","v":0},{"$f":"IF($CH120>0,VLOOKUP($CH120,'العاملين '!$A$3:$AR$260,38),0)","v":0},{"$f":"IF($CH120>0,VLOOKUP($CH120,'العاملين '!$A$3:$AR$260,39),0)","v":0},{"$f":"IF($CH120>0,VLOOKUP($CH120,'العاملين '!$A$3:$AR$260,40),0)","v":0},{"$f":"IF($CH120>0,VLOOKUP($CH120,'العاملين '!$A$3:$AR$260,41),0)","v":0},0,0,0,{"$f":"IF($CH120>0,VLOOKUP($CH120,'العاملين '!$A$3:$AR$260,2),0)","v":0},0,null,{"$f":"IF($CH120>0,VLOOKUP($CH120,'العاملين '!$A$3:$AR$260,3),0)","v":0},{"$f":"IF($CH120>0,VLOOKUP($CH120,'العاملين '!$A$3:$AR$260,43),0)","v":0},0]
[16,{"$f":"IF($CH121>0,VLOOKUP($CH121,'العاملين '!$A$3:$AR$260,8),0)","v":0}," "," "," "," "," ",{"$f":"IF($CH121>0,VLOOKUP($CH121,'العاملين '!$A$3:$AR$260,9),0)","v":0},{"$f":"IF($CH121>0,VLOOKUP($CH121,'العاملين '!$A$3:$AR$260,10),0)","v":0},{"$f":"IF($CH121>0,VLOOKUP($CH121,'العاملين '!$A$3:$AR$260,11),0)","v":0},{"$f":"IF($CH121>0,VLOOKUP($CH121,'العاملين '!$A$3:$AR$260,12),0)","v":0},{"$f":"IF($CH121>0,VLOOKUP($CH121,'العاملين '!$A$3:$AR$260,13),0)","v":0},0,{"$f":"IF($CH121>0,VLOOKUP($CH121,'العاملين '!$A$3:$AR$260,14),0)","v":0},{"$f":"IF($CH121>0,VLOOKUP($CH121,'العاملين '!$A$3:$AR$260,15),0)","v":0},{"$f":"IF($CH121>0,VLOOKUP($CH121,'العاملين '!$A$3:$AR$260,16),0)","v":0},{"$f":"IF($CH121>0,VLOOKUP($CH121,'العاملين '!$A$3:$AR$260,17),0)","v":0},{"$f":"IF($CH121>0,VLOOKUP($CH121,'العاملين '!$A$3:$AR$260,18),0)","v":0},{"$f":"IF($CH121>0,VLOOKUP($CH121,'العاملين '!$A$3:$AR$260,19),0)","v":0},{"$f":"IF($CH121>0,VLOOKUP($CH121,'العاملين '!$A$3:$AR$260,20),0)","v":0},{"$f":"IF($CH121>0,VLOOKUP($CH121,'العاملين '!$A$3:$AR$260,21),0)","v":0},{"$f":"IF($CH121>0,VLOOKUP($CH121,'العاملين '!$A$3:$AR$260,22),0)","v":0},{"$f":"IF($CH121>0,VLOOKUP($CH121,'العاملين '!$A$3:$AR$260,23),0)","v":0},{"$f":"IF($CH121>0,VLOOKUP($CH121,'العاملين '!$A$3:$AR$260,24),0)","v":0},{"$f":"IF($CH121>0,VLOOKUP($CH121,'العاملين '!$A$3:$AR$260,26),0)","v":0},null,null,null,null,null,null,null,null,null,null,null,null,null,null,{"$f":"IF($CH121>0,VLOOKUP($CH121,'العاملين '!$A$3:$AR$260,25),0)","v":0},0,0,0,0,0,0,0,"",{"$f":"IF($CH121>0,VLOOKUP($CH121,'العاملين '!$A$3:$AR$260,28),0)","v":0},0," "," "," ",null," "," "," "," ",0,0,0,0,0,{"$f":"IF($CJ121=1,ROUND(($B121)*7%,2),IF($CJ121=2,VLOOKUP($CH121,'العاملين '!$A$3:$AS$260,44),0))","v":0},{"$f":"IF($CJ121=1,0.5,IF($CJ121=2,VLOOKUP($CH121,'العاملين '!$A$3:$AS$260,45),0))","v":0},{"$f":"IF($CJ121=1,4.5,IF($CJ121=2,VLOOKUP($CH121,'العاملين '!$A$3:$AS$260,46),0))","v":0},{"$f":"IF($CH121>0,VLOOKUP($CH121,'العاملين '!$A$3:$AR$260,29),0)","v":0},{"$f":"IF($CJ121=1,0.2,IF($CJ121=2,VLOOKUP($CH121,'العاملين '!$A$3:$AU$260,47),0))","v":0},{"$f":"IF($CJ121=1,0.05,IF($CJ121=2,VLOOKUP($CH121,'العاملين '!$A$3:$AU$260,47),0))","v":0},{"$f":"IF($CH121>0,VLOOKUP($CH121,'العاملين '!$A$3:$AR$260,30),0)","v":0},{"$f":"IF($CH121>0,VLOOKUP($CH121,'العاملين '!$A$3:$AR$260,31),0)","v":0},null,{"$f":"IF($CH121>0,VLOOKUP($CH121,'العاملين '!$A$3:$AR$260,33),0)","v":0},{"$f":"IF($CH121>0,VLOOKUP($CH121,'العاملين '!$A$3:$AR$260,34),0)","v":0},{"$f":"IF($CH121>0,VLOOKUP($CH121,'العاملين '!$A$3:$AR$260,35),0)","v":0},{"$f":"IF($CH121>0,VLOOKUP($CH121,'العاملين '!$A$3:$AR$260,36),0)","v":0},{"$f":"IF($CH121>0,VLOOKUP($CH121,'العاملين '!$A$3:$AR$260,37),0)","v":0},{"$f":"IF($CH121>0,VLOOKUP($CH121,'العاملين '!$A$3:$AR$260,38),0)","v":0},{"$f":"IF($CH121>0,VLOOKUP($CH121,'العاملين '!$A$3:$AR$260,39),0)","v":0},{"$f":"IF($CH121>0,VLOOKUP($CH121,'العاملين '!$A$3:$AR$260,40),0)","v":0},{"$f":"IF($CH121>0,VLOOKUP($CH121,'العاملين '!$A$3:$AR$260,41),0)","v":0},0,0,0,{"$f":"IF($CH121>0,VLOOKUP($CH121,'العاملين '!$A$3:$AR$260,2),0)","v":0},0,null,{"$f":"IF($CH121>0,VLOOKUP($CH121,'العاملين '!$A$3:$AR$260,3),0)","v":0},{"$f":"IF($CH121>0,VLOOKUP($CH121,'العاملين '!$A$3:$AR$260,43),0)","v":0},0]
[17,{"$f":"IF($CH122>0,VLOOKUP($CH122,'العاملين '!$A$3:$AR$260,8),0)","v":0}," "," "," "," "," ",{"$f":"IF($CH122>0,VLOOKUP($CH122,'العاملين '!$A$3:$AR$260,9),0)","v":0},{"$f":"IF($CH122>0,VLOOKUP($CH122,'العاملين '!$A$3:$AR$260,10),0)","v":0},{"$f":"IF($CH122>0,VLOOKUP($CH122,'العاملين '!$A$3:$AR$260,11),0)","v":0},{"$f":"IF($CH122>0,VLOOKUP($CH122,'العاملين '!$A$3:$AR$260,12),0)","v":0},{"$f":"IF($CH122>0,VLOOKUP($CH122,'العاملين '!$A$3:$AR$260,13),0)","v":0},0,{"$f":"IF($CH122>0,VLOOKUP($CH122,'العاملين '!$A$3:$AR$260,14),0)","v":0},{"$f":"IF($CH122>0,VLOOKUP($CH122,'العاملين '!$A$3:$AR$260,15),0)","v":0},{"$f":"IF($CH122>0,VLOOKUP($CH122,'العاملين '!$A$3:$AR$260,16),0)","v":0},{"$f":"IF($CH122>0,VLOOKUP($CH122,'العاملين '!$A$3:$AR$260,17),0)","v":0},{"$f":"IF($CH122>0,VLOOKUP($CH122,'العاملين '!$A$3:$AR$260,18),0)","v":0},{"$f":"IF($CH122>0,VLOOKUP($CH122,'العاملين '!$A$3:$AR$260,19),0)","v":0},{"$f":"IF($CH122>0,VLOOKUP($CH122,'العاملين '!$A$3:$AR$260,20),0)","v":0},{"$f":"IF($CH122>0,VLOOKUP($CH122,'العاملين '!$A$3:$AR$260,21),0)","v":0},{"$f":"IF($CH122>0,VLOOKUP($CH122,'العاملين '!$A$3:$AR$260,22),0)","v":0},{"$f":"IF($CH122>0,VLOOKUP($CH122,'العاملين '!$A$3:$AR$260,23),0)","v":0},{"$f":"IF($CH122>0,VLOOKUP($CH122,'العاملين '!$A$3:$AR$260,24),0)","v":0},{"$f":"IF($CH122>0,VLOOKUP($CH122,'العاملين '!$A$3:$AR$260,26),0)","v":0},null,null,null,null,null,null,null,null,null,null,null,null,null,null,{"$f":"IF($CH122>0,VLOOKUP($CH122,'العاملين '!$A$3:$AR$260,25),0)","v":0},0,0,0,0,0,0,0,"",{"$f":"IF($CH122>0,VLOOKUP($CH122,'العاملين '!$A$3:$AR$260,28),0)","v":0},0," "," "," ",null," "," "," "," ",0,0,0,0,0,{"$f":"IF($CJ122=1,ROUND(($B122)*7%,2),IF($CJ122=2,VLOOKUP($CH122,'العاملين '!$A$3:$AS$260,44),0))","v":0},{"$f":"IF($CJ122=1,0.5,IF($CJ122=2,VLOOKUP($CH122,'العاملين '!$A$3:$AS$260,45),0))","v":0},{"$f":"IF($CJ122=1,4.5,IF($CJ122=2,VLOOKUP($CH122,'العاملين '!$A$3:$AS$260,46),0))","v":0},{"$f":"IF($CH122>0,VLOOKUP($CH122,'العاملين '!$A$3:$AR$260,29),0)","v":0},{"$f":"IF($CJ122=1,0.2,IF($CJ122=2,VLOOKUP($CH122,'العاملين '!$A$3:$AU$260,47),0))","v":0},{"$f":"IF($CJ122=1,0.05,IF($CJ122=2,VLOOKUP($CH122,'العاملين '!$A$3:$AU$260,47),0))","v":0},{"$f":"IF($CH122>0,VLOOKUP($CH122,'العاملين '!$A$3:$AR$260,30),0)","v":0},{"$f":"IF($CH122>0,VLOOKUP($CH122,'العاملين '!$A$3:$AR$260,31),0)","v":0},null,{"$f":"IF($CH122>0,VLOOKUP($CH122,'العاملين '!$A$3:$AR$260,33),0)","v":0},{"$f":"IF($CH122>0,VLOOKUP($CH122,'العاملين '!$A$3:$AR$260,34),0)","v":0},{"$f":"IF($CH122>0,VLOOKUP($CH122,'العاملين '!$A$3:$AR$260,35),0)","v":0},{"$f":"IF($CH122>0,VLOOKUP($CH122,'العاملين '!$A$3:$AR$260,36),0)","v":0},{"$f":"IF($CH122>0,VLOOKUP($CH122,'العاملين '!$A$3:$AR$260,37),0)","v":0},{"$f":"IF($CH122>0,VLOOKUP($CH122,'العاملين '!$A$3:$AR$260,38),0)","v":0},{"$f":"IF($CH122>0,VLOOKUP($CH122,'العاملين '!$A$3:$AR$260,39),0)","v":0},{"$f":"IF($CH122>0,VLOOKUP($CH122,'العاملين '!$A$3:$AR$260,40),0)","v":0},{"$f":"IF($CH122>0,VLOOKUP($CH122,'العاملين '!$A$3:$AR$260,41),0)","v":0},0,0,0,{"$f":"IF($CH122>0,VLOOKUP($CH122,'العاملين '!$A$3:$AR$260,2),0)","v":0},0,null,{"$f":"IF($CH122>0,VLOOKUP($CH122,'العاملين '!$A$3:$AR$260,3),0)","v":0},{"$f":"IF($CH122>0,VLOOKUP($CH122,'العاملين '!$A$3:$AR$260,43),0)","v":0},0]
[18,{"$f":"IF($CH123>0,VLOOKUP($CH123,'العاملين '!$A$3:$AR$260,8),0)","v":0}," "," "," "," "," ",{"$f":"IF($CH123>0,VLOOKUP($CH123,'العاملين '!$A$3:$AR$260,9),0)","v":0},{"$f":"IF($CH123>0,VLOOKUP($CH123,'العاملين '!$A$3:$AR$260,10),0)","v":0},{"$f":"IF($CH123>0,VLOOKUP($CH123,'العاملين '!$A$3:$AR$260,11),0)","v":0},{"$f":"IF($CH123>0,VLOOKUP($CH123,'العاملين '!$A$3:$AR$260,12),0)","v":0},{"$f":"IF($CH123>0,VLOOKUP($CH123,'العاملين '!$A$3:$AR$260,13),0)","v":0},0,{"$f":"IF($CH123>0,VLOOKUP($CH123,'العاملين '!$A$3:$AR$260,14),0)","v":0},{"$f":"IF($CH123>0,VLOOKUP($CH123,'العاملين '!$A$3:$AR$260,15),0)","v":0},{"$f":"IF($CH123>0,VLOOKUP($CH123,'العاملين '!$A$3:$AR$260,16),0)","v":0},{"$f":"IF($CH123>0,VLOOKUP($CH123,'العاملين '!$A$3:$AR$260,17),0)","v":0},{"$f":"IF($CH123>0,VLOOKUP($CH123,'العاملين '!$A$3:$AR$260,18),0)","v":0},{"$f":"IF($CH123>0,VLOOKUP($CH123,'العاملين '!$A$3:$AR$260,19),0)","v":0},{"$f":"IF($CH123>0,VLOOKUP($CH123,'العاملين '!$A$3:$AR$260,20),0)","v":0},{"$f":"IF($CH123>0,VLOOKUP($CH123,'العاملين '!$A$3:$AR$260,21),0)","v":0},{"$f":"IF($CH123>0,VLOOKUP($CH123,'العاملين '!$A$3:$AR$260,22),0)","v":0},{"$f":"IF($CH123>0,VLOOKUP($CH123,'العاملين '!$A$3:$AR$260,23),0)","v":0},{"$f":"IF($CH123>0,VLOOKUP($CH123,'العاملين '!$A$3:$AR$260,24),0)","v":0},{"$f":"IF($CH123>0,VLOOKUP($CH123,'العاملين '!$A$3:$AR$260,26),0)","v":0},null,null,null,null,null,null,null,null,null,null,null,null,null,null,{"$f":"IF($CH123>0,VLOOKUP($CH123,'العاملين '!$A$3:$AR$260,25),0)","v":0},0,0,0,0,0,0,0,"",{"$f":"IF($CH123>0,VLOOKUP($CH123,'العاملين '!$A$3:$AR$260,28),0)","v":0},0," "," "," ",null," "," "," "," ",0,0,0,0,0,{"$f":"IF($CJ123=1,ROUND(($B123)*7%,2),IF($CJ123=2,VLOOKUP($CH123,'العاملين '!$A$3:$AS$260,44),0))","v":0},{"$f":"IF($CJ123=1,0.5,IF($CJ123=2,VLOOKUP($CH123,'العاملين '!$A$3:$AS$260,45),0))","v":0},{"$f":"IF($CJ123=1,4.5,IF($CJ123=2,VLOOKUP($CH123,'العاملين '!$A$3:$AS$260,46),0))","v":0},{"$f":"IF($CH123>0,VLOOKUP($CH123,'العاملين '!$A$3:$AR$260,29),0)","v":0},{"$f":"IF($CJ123=1,0.2,IF($CJ123=2,VLOOKUP($CH123,'العاملين '!$A$3:$AU$260,47),0))","v":0},{"$f":"IF($CJ123=1,0.05,IF($CJ123=2,VLOOKUP($CH123,'العاملين '!$A$3:$AU$260,47),0))","v":0},{"$f":"IF($CH123>0,VLOOKUP($CH123,'العاملين '!$A$3:$AR$260,30),0)","v":0},{"$f":"IF($CH123>0,VLOOKUP($CH123,'العاملين '!$A$3:$AR$260,31),0)","v":0},null,{"$f":"IF($CH123>0,VLOOKUP($CH123,'العاملين '!$A$3:$AR$260,33),0)","v":0},{"$f":"IF($CH123>0,VLOOKUP($CH123,'العاملين '!$A$3:$AR$260,34),0)","v":0},{"$f":"IF($CH123>0,VLOOKUP($CH123,'العاملين '!$A$3:$AR$260,35),0)","v":0},{"$f":"IF($CH123>0,VLOOKUP($CH123,'العاملين '!$A$3:$AR$260,36),0)","v":0},{"$f":"IF($CH123>0,VLOOKUP($CH123,'العاملين '!$A$3:$AR$260,37),0)","v":0},{"$f":"IF($CH123>0,VLOOKUP($CH123,'العاملين '!$A$3:$AR$260,38),0)","v":0},{"$f":"IF($CH123>0,VLOOKUP($CH123,'العاملين '!$A$3:$AR$260,39),0)","v":0},{"$f":"IF($CH123>0,VLOOKUP($CH123,'العاملين '!$A$3:$AR$260,40),0)","v":0},{"$f":"IF($CH123>0,VLOOKUP($CH123,'العاملين '!$A$3:$AR$260,41),0)","v":0},0,0,0,{"$f":"IF($CH123>0,VLOOKUP($CH123,'العاملين '!$A$3:$AR$260,2),0)","v":0},0,null,{"$f":"IF($CH123>0,VLOOKUP($CH123,'العاملين '!$A$3:$AR$260,3),0)","v":0},{"$f":"IF($CH123>0,VLOOKUP($CH123,'العاملين '!$A$3:$AR$260,43),0)","v":0},0]
[19,{"$f":"IF($CH124>0,VLOOKUP($CH124,'العاملين '!$A$3:$AR$260,8),0)","v":0}," "," "," "," "," ",{"$f":"IF($CH124>0,VLOOKUP($CH124,'العاملين '!$A$3:$AR$260,9),0)","v":0},{"$f":"IF($CH124>0,VLOOKUP($CH124,'العاملين '!$A$3:$AR$260,10),0)","v":0},{"$f":"IF($CH124>0,VLOOKUP($CH124,'العاملين '!$A$3:$AR$260,11),0)","v":0},{"$f":"IF($CH124>0,VLOOKUP($CH124,'العاملين '!$A$3:$AR$260,12),0)","v":0},{"$f":"IF($CH124>0,VLOOKUP($CH124,'العاملين '!$A$3:$AR$260,13),0)","v":0},0,{"$f":"IF($CH124>0,VLOOKUP($CH124,'العاملين '!$A$3:$AR$260,14),0)","v":0},{"$f":"IF($CH124>0,VLOOKUP($CH124,'العاملين '!$A$3:$AR$260,15),0)","v":0},{"$f":"IF($CH124>0,VLOOKUP($CH124,'العاملين '!$A$3:$AR$260,16),0)","v":0},{"$f":"IF($CH124>0,VLOOKUP($CH124,'العاملين '!$A$3:$AR$260,17),0)","v":0},{"$f":"IF($CH124>0,VLOOKUP($CH124,'العاملين '!$A$3:$AR$260,18),0)","v":0},{"$f":"IF($CH124>0,VLOOKUP($CH124,'العاملين '!$A$3:$AR$260,19),0)","v":0},{"$f":"IF($CH124>0,VLOOKUP($CH124,'العاملين '!$A$3:$AR$260,20),0)","v":0},{"$f":"IF($CH124>0,VLOOKUP($CH124,'العاملين '!$A$3:$AR$260,21),0)","v":0},{"$f":"IF($CH124>0,VLOOKUP($CH124,'العاملين '!$A$3:$AR$260,22),0)","v":0},{"$f":"IF($CH124>0,VLOOKUP($CH124,'العاملين '!$A$3:$AR$260,23),0)","v":0},{"$f":"IF($CH124>0,VLOOKUP($CH124,'العاملين '!$A$3:$AR$260,24),0)","v":0},{"$f":"IF($CH124>0,VLOOKUP($CH124,'العاملين '!$A$3:$AR$260,26),0)","v":0},null,null,null,null,null,null,null,null,null,null,null,null,null,null,{"$f":"IF($CH124>0,VLOOKUP($CH124,'العاملين '!$A$3:$AR$260,25),0)","v":0},0,0,0,0,0,0,0,"",{"$f":"IF($CH124>0,VLOOKUP($CH124,'العاملين '!$A$3:$AR$260,28),0)","v":0},0," "," "," ",null," "," "," "," ",0,0,0,0,0,{"$f":"IF($CJ124=1,ROUND(($B124)*7%,2),IF($CJ124=2,VLOOKUP($CH124,'العاملين '!$A$3:$AS$260,44),0))","v":0},{"$f":"IF($CJ124=1,0.5,IF($CJ124=2,VLOOKUP($CH124,'العاملين '!$A$3:$AS$260,45),0))","v":0},{"$f":"IF($CJ124=1,4.5,IF($CJ124=2,VLOOKUP($CH124,'العاملين '!$A$3:$AS$260,46),0))","v":0},{"$f":"IF($CH124>0,VLOOKUP($CH124,'العاملين '!$A$3:$AR$260,29),0)","v":0},{"$f":"IF($CJ124=1,0.2,IF($CJ124=2,VLOOKUP($CH124,'العاملين '!$A$3:$AU$260,47),0))","v":0},{"$f":"IF($CJ124=1,0.05,IF($CJ124=2,VLOOKUP($CH124,'العاملين '!$A$3:$AU$260,47),0))","v":0},{"$f":"IF($CH124>0,VLOOKUP($CH124,'العاملين '!$A$3:$AR$260,30),0)","v":0},{"$f":"IF($CH124>0,VLOOKUP($CH124,'العاملين '!$A$3:$AR$260,31),0)","v":0},null,{"$f":"IF($CH124>0,VLOOKUP($CH124,'العاملين '!$A$3:$AR$260,33),0)","v":0},{"$f":"IF($CH124>0,VLOOKUP($CH124,'العاملين '!$A$3:$AR$260,34),0)","v":0},{"$f":"IF($CH124>0,VLOOKUP($CH124,'العاملين '!$A$3:$AR$260,35),0)","v":0},{"$f":"IF($CH124>0,VLOOKUP($CH124,'العاملين '!$A$3:$AR$260,36),0)","v":0},{"$f":"IF($CH124>0,VLOOKUP($CH124,'العاملين '!$A$3:$AR$260,37),0)","v":0},{"$f":"IF($CH124>0,VLOOKUP($CH124,'العاملين '!$A$3:$AR$260,38),0)","v":0},{"$f":"IF($CH124>0,VLOOKUP($CH124,'العاملين '!$A$3:$AR$260,39),0)","v":0},{"$f":"IF($CH124>0,VLOOKUP($CH124,'العاملين '!$A$3:$AR$260,40),0)","v":0},{"$f":"IF($CH124>0,VLOOKUP($CH124,'العاملين '!$A$3:$AR$260,41),0)","v":0},0,0,0,{"$f":"IF($CH124>0,VLOOKUP($CH124,'العاملين '!$A$3:$AR$260,2),0)","v":0},0,null,{"$f":"IF($CH124>0,VLOOKUP($CH124,'العاملين '!$A$3:$AR$260,3),0)","v":0},{"$f":"IF($CH124>0,VLOOKUP($CH124,'العاملين '!$A$3:$AR$260,43),0)","v":0},0]
[20,{"$f":"IF($CH125>0,VLOOKUP($CH125,'العاملين '!$A$3:$AR$260,8),0)","v":0}," "," "," "," "," ",{"$f":"IF($CH125>0,VLOOKUP($CH125,'العاملين '!$A$3:$AR$260,9),0)","v":0},{"$f":"IF($CH125>0,VLOOKUP($CH125,'العاملين '!$A$3:$AR$260,10),0)","v":0},{"$f":"IF($CH125>0,VLOOKUP($CH125,'العاملين '!$A$3:$AR$260,11),0)","v":0},{"$f":"IF($CH125>0,VLOOKUP($CH125,'العاملين '!$A$3:$AR$260,12),0)","v":0},{"$f":"IF($CH125>0,VLOOKUP($CH125,'العاملين '!$A$3:$AR$260,13),0)","v":0},0,{"$f":"IF($CH125>0,VLOOKUP($CH125,'العاملين '!$A$3:$AR$260,14),0)","v":0},{"$f":"IF($CH125>0,VLOOKUP($CH125,'العاملين '!$A$3:$AR$260,15),0)","v":0},{"$f":"IF($CH125>0,VLOOKUP($CH125,'العاملين '!$A$3:$AR$260,16),0)","v":0},{"$f":"IF($CH125>0,VLOOKUP($CH125,'العاملين '!$A$3:$AR$260,17),0)","v":0},{"$f":"IF($CH125>0,VLOOKUP($CH125,'العاملين '!$A$3:$AR$260,18),0)","v":0},{"$f":"IF($CH125>0,VLOOKUP($CH125,'العاملين '!$A$3:$AR$260,19),0)","v":0},{"$f":"IF($CH125>0,VLOOKUP($CH125,'العاملين '!$A$3:$AR$260,20),0)","v":0},{"$f":"IF($CH125>0,VLOOKUP($CH125,'العاملين '!$A$3:$AR$260,21),0)","v":0},{"$f":"IF($CH125>0,VLOOKUP($CH125,'العاملين '!$A$3:$AR$260,22),0)","v":0},{"$f":"IF($CH125>0,VLOOKUP($CH125,'العاملين '!$A$3:$AR$260,23),0)","v":0},{"$f":"IF($CH125>0,VLOOKUP($CH125,'العاملين '!$A$3:$AR$260,24),0)","v":0},{"$f":"IF($CH125>0,VLOOKUP($CH125,'العاملين '!$A$3:$AR$260,26),0)","v":0},null,null,null,null,null,null,null,null,null,null,null,null,null,null,{"$f":"IF($CH125>0,VLOOKUP($CH125,'العاملين '!$A$3:$AR$260,25),0)","v":0},0,0,0,0,0,0,0,"",{"$f":"IF($CH125>0,VLOOKUP($CH125,'العاملين '!$A$3:$AR$260,28),0)","v":0},0," "," "," ",null," "," "," "," ",0,0,0,0,0,{"$f":"IF($CJ125=1,ROUND(($B125)*7%,2),IF($CJ125=2,VLOOKUP($CH125,'العاملين '!$A$3:$AS$260,44),0))","v":0},{"$f":"IF($CJ125=1,0.5,IF($CJ125=2,VLOOKUP($CH125,'العاملين '!$A$3:$AS$260,45),0))","v":0},{"$f":"IF($CJ125=1,4.5,IF($CJ125=2,VLOOKUP($CH125,'العاملين '!$A$3:$AS$260,46),0))","v":0},{"$f":"IF($CH125>0,VLOOKUP($CH125,'العاملين '!$A$3:$AR$260,29),0)","v":0},{"$f":"IF($CJ125=1,0.2,IF($CJ125=2,VLOOKUP($CH125,'العاملين '!$A$3:$AU$260,47),0))","v":0},{"$f":"IF($CJ125=1,0.05,IF($CJ125=2,VLOOKUP($CH125,'العاملين '!$A$3:$AU$260,47),0))","v":0},{"$f":"IF($CH125>0,VLOOKUP($CH125,'العاملين '!$A$3:$AR$260,30),0)","v":0},{"$f":"IF($CH125>0,VLOOKUP($CH125,'العاملين '!$A$3:$AR$260,31),0)","v":0},null,{"$f":"IF($CH125>0,VLOOKUP($CH125,'العاملين '!$A$3:$AR$260,33),0)","v":0},{"$f":"IF($CH125>0,VLOOKUP($CH125,'العاملين '!$A$3:$AR$260,34),0)","v":0},{"$f":"IF($CH125>0,VLOOKUP($CH125,'العاملين '!$A$3:$AR$260,35),0)","v":0},{"$f":"IF($CH125>0,VLOOKUP($CH125,'العاملين '!$A$3:$AR$260,36),0)","v":0},{"$f":"IF($CH125>0,VLOOKUP($CH125,'العاملين '!$A$3:$AR$260,37),0)","v":0},{"$f":"IF($CH125>0,VLOOKUP($CH125,'العاملين '!$A$3:$AR$260,38),0)","v":0},{"$f":"IF($CH125>0,VLOOKUP($CH125,'العاملين '!$A$3:$AR$260,39),0)","v":0},{"$f":"IF($CH125>0,VLOOKUP($CH125,'العاملين '!$A$3:$AR$260,40),0)","v":0},{"$f":"IF($CH125>0,VLOOKUP($CH125,'العاملين '!$A$3:$AR$260,41),0)","v":0},0,0,0,{"$f":"IF($CH125>0,VLOOKUP($CH125,'العاملين '!$A$3:$AR$260,2),0)","v":0},0,null,{"$f":"IF($CH125>0,VLOOKUP($CH125,'العاملين '!$A$3:$AR$260,3),0)","v":0},{"$f":"IF($CH125>0,VLOOKUP($CH125,'العاملين '!$A$3:$AR$260,43),0)","v":0},0]
[21,{"$f":"IF($CH126>0,VLOOKUP($CH126,'العاملين '!$A$3:$AR$260,8),0)","v":0}," "," "," "," "," ",{"$f":"IF($CH126>0,VLOOKUP($CH126,'العاملين '!$A$3:$AR$260,9),0)","v":0},{"$f":"IF($CH126>0,VLOOKUP($CH126,'العاملين '!$A$3:$AR$260,10),0)","v":0},{"$f":"IF($CH126>0,VLOOKUP($CH126,'العاملين '!$A$3:$AR$260,11),0)","v":0},{"$f":"IF($CH126>0,VLOOKUP($CH126,'العاملين '!$A$3:$AR$260,12),0)","v":0},{"$f":"IF($CH126>0,VLOOKUP($CH126,'العاملين '!$A$3:$AR$260,13),0)","v":0},0,{"$f":"IF($CH126>0,VLOOKUP($CH126,'العاملين '!$A$3:$AR$260,14),0)","v":0},{"$f":"IF($CH126>0,VLOOKUP($CH126,'العاملين '!$A$3:$AR$260,15),0)","v":0},{"$f":"IF($CH126>0,VLOOKUP($CH126,'العاملين '!$A$3:$AR$260,16),0)","v":0},{"$f":"IF($CH126>0,VLOOKUP($CH126,'العاملين '!$A$3:$AR$260,17),0)","v":0},{"$f":"IF($CH126>0,VLOOKUP($CH126,'العاملين '!$A$3:$AR$260,18),0)","v":0},{"$f":"IF($CH126>0,VLOOKUP($CH126,'العاملين '!$A$3:$AR$260,19),0)","v":0},{"$f":"IF($CH126>0,VLOOKUP($CH126,'العاملين '!$A$3:$AR$260,20),0)","v":0},{"$f":"IF($CH126>0,VLOOKUP($CH126,'العاملين '!$A$3:$AR$260,21),0)","v":0},{"$f":"IF($CH126>0,VLOOKUP($CH126,'العاملين '!$A$3:$AR$260,22),0)","v":0},{"$f":"IF($CH126>0,VLOOKUP($CH126,'العاملين '!$A$3:$AR$260,23),0)","v":0},{"$f":"IF($CH126>0,VLOOKUP($CH126,'العاملين '!$A$3:$AR$260,24),0)","v":0},{"$f":"IF($CH126>0,VLOOKUP($CH126,'العاملين '!$A$3:$AR$260,26),0)","v":0},null,null,null,null,null,null,null,null,null,null,null,null,null,null,{"$f":"IF($CH126>0,VLOOKUP($CH126,'العاملين '!$A$3:$AR$260,25),0)","v":0},0,0,0,0,0,0,0,"",{"$f":"IF($CH126>0,VLOOKUP($CH126,'العاملين '!$A$3:$AR$260,28),0)","v":0},0," "," "," ",null," "," "," "," ",0,0,0,0,0,{"$f":"IF($CJ126=1,ROUND(($B126)*7%,2),IF($CJ126=2,VLOOKUP($CH126,'العاملين '!$A$3:$AS$260,44),0))","v":0},{"$f":"IF($CJ126=1,0.5,IF($CJ126=2,VLOOKUP($CH126,'العاملين '!$A$3:$AS$260,45),0))","v":0},{"$f":"IF($CJ126=1,4.5,IF($CJ126=2,VLOOKUP($CH126,'العاملين '!$A$3:$AS$260,46),0))","v":0},{"$f":"IF($CH126>0,VLOOKUP($CH126,'العاملين '!$A$3:$AR$260,29),0)","v":0},{"$f":"IF($CJ126=1,0.2,IF($CJ126=2,VLOOKUP($CH126,'العاملين '!$A$3:$AU$260,47),0))","v":0},{"$f":"IF($CJ126=1,0.05,IF($CJ126=2,VLOOKUP($CH126,'العاملين '!$A$3:$AU$260,47),0))","v":0},{"$f":"IF($CH126>0,VLOOKUP($CH126,'العاملين '!$A$3:$AR$260,30),0)","v":0},{"$f":"IF($CH126>0,VLOOKUP($CH126,'العاملين '!$A$3:$AR$260,31),0)","v":0},null,{"$f":"IF($CH126>0,VLOOKUP($CH126,'العاملين '!$A$3:$AR$260,33),0)","v":0},{"$f":"IF($CH126>0,VLOOKUP($CH126,'العاملين '!$A$3:$AR$260,34),0)","v":0},{"$f":"IF($CH126>0,VLOOKUP($CH126,'العاملين '!$A$3:$AR$260,35),0)","v":0},{"$f":"IF($CH126>0,VLOOKUP($CH126,'العاملين '!$A$3:$AR$260,36),0)","v":0},{"$f":"IF($CH126>0,VLOOKUP($CH126,'العاملين '!$A$3:$AR$260,37),0)","v":0},{"$f":"IF($CH126>0,VLOOKUP($CH126,'العاملين '!$A$3:$AR$260,38),0)","v":0},{"$f":"IF($CH126>0,VLOOKUP($CH126,'العاملين '!$A$3:$AR$260,39),0)","v":0},{"$f":"IF($CH126>0,VLOOKUP($CH126,'العاملين '!$A$3:$AR$260,40),0)","v":0},{"$f":"IF($CH126>0,VLOOKUP($CH126,'العاملين '!$A$3:$AR$260,41),0)","v":0},0,0,0,{"$f":"IF($CH126>0,VLOOKUP($CH126,'العاملين '!$A$3:$AR$260,2),0)","v":0},0,null,{"$f":"IF($CH126>0,VLOOKUP($CH126,'العاملين '!$A$3:$AR$260,3),0)","v":0},{"$f":"IF($CH126>0,VLOOKUP($CH126,'العاملين '!$A$3:$AR$260,43),0)","v":0},0]
[22,{"$f":"IF($CH127>0,VLOOKUP($CH127,'العاملين '!$A$3:$AR$260,8),0)","v":0}," "," "," "," "," ",{"$f":"IF($CH127>0,VLOOKUP($CH127,'العاملين '!$A$3:$AR$260,9),0)","v":0},{"$f":"IF($CH127>0,VLOOKUP($CH127,'العاملين '!$A$3:$AR$260,10),0)","v":0},{"$f":"IF($CH127>0,VLOOKUP($CH127,'العاملين '!$A$3:$AR$260,11),0)","v":0},{"$f":"IF($CH127>0,VLOOKUP($CH127,'العاملين '!$A$3:$AR$260,12),0)","v":0},{"$f":"IF($CH127>0,VLOOKUP($CH127,'العاملين '!$A$3:$AR$260,13),0)","v":0},0,{"$f":"IF($CH127>0,VLOOKUP($CH127,'العاملين '!$A$3:$AR$260,14),0)","v":0},{"$f":"IF($CH127>0,VLOOKUP($CH127,'العاملين '!$A$3:$AR$260,15),0)","v":0},{"$f":"IF($CH127>0,VLOOKUP($CH127,'العاملين '!$A$3:$AR$260,16),0)","v":0},{"$f":"IF($CH127>0,VLOOKUP($CH127,'العاملين '!$A$3:$AR$260,17),0)","v":0},{"$f":"IF($CH127>0,VLOOKUP($CH127,'العاملين '!$A$3:$AR$260,18),0)","v":0},{"$f":"IF($CH127>0,VLOOKUP($CH127,'العاملين '!$A$3:$AR$260,19),0)","v":0},{"$f":"IF($CH127>0,VLOOKUP($CH127,'العاملين '!$A$3:$AR$260,20),0)","v":0},{"$f":"IF($CH127>0,VLOOKUP($CH127,'العاملين '!$A$3:$AR$260,21),0)","v":0},{"$f":"IF($CH127>0,VLOOKUP($CH127,'العاملين '!$A$3:$AR$260,22),0)","v":0},{"$f":"IF($CH127>0,VLOOKUP($CH127,'العاملين '!$A$3:$AR$260,23),0)","v":0},{"$f":"IF($CH127>0,VLOOKUP($CH127,'العاملين '!$A$3:$AR$260,24),0)","v":0},{"$f":"IF($CH127>0,VLOOKUP($CH127,'العاملين '!$A$3:$AR$260,26),0)","v":0},null,null,null,null,null,null,null,null,null,null,null,null,null,null,{"$f":"IF($CH127>0,VLOOKUP($CH127,'العاملين '!$A$3:$AR$260,25),0)","v":0},0,0,0,0,0,0,0,"",{"$f":"IF($CH127>0,VLOOKUP($CH127,'العاملين '!$A$3:$AR$260,28),0)","v":0},0," "," "," ",null," "," "," "," ",0,0,0,0,0,{"$f":"IF($CJ127=1,ROUND(($B127)*7%,2),IF($CJ127=2,VLOOKUP($CH127,'العاملين '!$A$3:$AS$260,44),0))","v":0},{"$f":"IF($CJ127=1,0.5,IF($CJ127=2,VLOOKUP($CH127,'العاملين '!$A$3:$AS$260,45),0))","v":0},{"$f":"IF($CJ127=1,4.5,IF($CJ127=2,VLOOKUP($CH127,'العاملين '!$A$3:$AS$260,46),0))","v":0},{"$f":"IF($CH127>0,VLOOKUP($CH127,'العاملين '!$A$3:$AR$260,29),0)","v":0},{"$f":"IF($CJ127=1,0.2,IF($CJ127=2,VLOOKUP($CH127,'العاملين '!$A$3:$AU$260,47),0))","v":0},{"$f":"IF($CJ127=1,0.05,IF($CJ127=2,VLOOKUP($CH127,'العاملين '!$A$3:$AU$260,47),0))","v":0},{"$f":"IF($CH127>0,VLOOKUP($CH127,'العاملين '!$A$3:$AR$260,30),0)","v":0},{"$f":"IF($CH127>0,VLOOKUP($CH127,'العاملين '!$A$3:$AR$260,31),0)","v":0},null,{"$f":"IF($CH127>0,VLOOKUP($CH127,'العاملين '!$A$3:$AR$260,33),0)","v":0},{"$f":"IF($CH127>0,VLOOKUP($CH127,'العاملين '!$A$3:$AR$260,34),0)","v":0},{"$f":"IF($CH127>0,VLOOKUP($CH127,'العاملين '!$A$3:$AR$260,35),0)","v":0},{"$f":"IF($CH127>0,VLOOKUP($CH127,'العاملين '!$A$3:$AR$260,36),0)","v":0},{"$f":"IF($CH127>0,VLOOKUP($CH127,'العاملين '!$A$3:$AR$260,37),0)","v":0},{"$f":"IF($CH127>0,VLOOKUP($CH127,'العاملين '!$A$3:$AR$260,38),0)","v":0},{"$f":"IF($CH127>0,VLOOKUP($CH127,'العاملين '!$A$3:$AR$260,39),0)","v":0},{"$f":"IF($CH127>0,VLOOKUP($CH127,'العاملين '!$A$3:$AR$260,40),0)","v":0},{"$f":"IF($CH127>0,VLOOKUP($CH127,'العاملين '!$A$3:$AR$260,41),0)","v":0},0,0,0,{"$f":"IF($CH127>0,VLOOKUP($CH127,'العاملين '!$A$3:$AR$260,2),0)","v":0},0,null,{"$f":"IF($CH127>0,VLOOKUP($CH127,'العاملين '!$A$3:$AR$260,3),0)","v":0},{"$f":"IF($CH127>0,VLOOKUP($CH127,'العاملين '!$A$3:$AR$260,43),0)","v":0},0]
[23,{"$f":"IF($CH128>0,VLOOKUP($CH128,'العاملين '!$A$3:$AR$260,8),0)","v":0}," "," "," "," "," ",{"$f":"IF($CH128>0,VLOOKUP($CH128,'العاملين '!$A$3:$AR$260,9),0)","v":0},{"$f":"IF($CH128>0,VLOOKUP($CH128,'العاملين '!$A$3:$AR$260,10),0)","v":0},{"$f":"IF($CH128>0,VLOOKUP($CH128,'العاملين '!$A$3:$AR$260,11),0)","v":0},{"$f":"IF($CH128>0,VLOOKUP($CH128,'العاملين '!$A$3:$AR$260,12),0)","v":0},{"$f":"IF($CH128>0,VLOOKUP($CH128,'العاملين '!$A$3:$AR$260,13),0)","v":0},0,{"$f":"IF($CH128>0,VLOOKUP($CH128,'العاملين '!$A$3:$AR$260,14),0)","v":0},{"$f":"IF($CH128>0,VLOOKUP($CH128,'العاملين '!$A$3:$AR$260,15),0)","v":0},{"$f":"IF($CH128>0,VLOOKUP($CH128,'العاملين '!$A$3:$AR$260,16),0)","v":0},{"$f":"IF($CH128>0,VLOOKUP($CH128,'العاملين '!$A$3:$AR$260,17),0)","v":0},{"$f":"IF($CH128>0,VLOOKUP($CH128,'العاملين '!$A$3:$AR$260,18),0)","v":0},{"$f":"IF($CH128>0,VLOOKUP($CH128,'العاملين '!$A$3:$AR$260,19),0)","v":0},{"$f":"IF($CH128>0,VLOOKUP($CH128,'العاملين '!$A$3:$AR$260,20),0)","v":0},{"$f":"IF($CH128>0,VLOOKUP($CH128,'العاملين '!$A$3:$AR$260,21),0)","v":0},{"$f":"IF($CH128>0,VLOOKUP($CH128,'العاملين '!$A$3:$AR$260,22),0)","v":0},{"$f":"IF($CH128>0,VLOOKUP($CH128,'العاملين '!$A$3:$AR$260,23),0)","v":0},{"$f":"IF($CH128>0,VLOOKUP($CH128,'العاملين '!$A$3:$AR$260,24),0)","v":0},{"$f":"IF($CH128>0,VLOOKUP($CH128,'العاملين '!$A$3:$AR$260,26),0)","v":0},null,null,null,null,null,null,null,null,null,null,null,null,null,null,{"$f":"IF($CH128>0,VLOOKUP($CH128,'العاملين '!$A$3:$AR$260,25),0)","v":0},0,0,0,0,0,0,0,"",{"$f":"IF($CH128>0,VLOOKUP($CH128,'العاملين '!$A$3:$AR$260,28),0)","v":0},0," "," "," ",null," "," "," "," ",0,0,0,0,0,{"$f":"IF($CJ128=1,ROUND(($B128)*7%,2),IF($CJ128=2,VLOOKUP($CH128,'العاملين '!$A$3:$AS$260,44),0))","v":0},{"$f":"IF($CJ128=1,0.5,IF($CJ128=2,VLOOKUP($CH128,'العاملين '!$A$3:$AS$260,45),0))","v":0},{"$f":"IF($CJ128=1,4.5,IF($CJ128=2,VLOOKUP($CH128,'العاملين '!$A$3:$AS$260,46),0))","v":0},{"$f":"IF($CH128>0,VLOOKUP($CH128,'العاملين '!$A$3:$AR$260,29),0)","v":0},{"$f":"IF($CJ128=1,0.2,IF($CJ128=2,VLOOKUP($CH128,'العاملين '!$A$3:$AU$260,47),0))","v":0},{"$f":"IF($CJ128=1,0.05,IF($CJ128=2,VLOOKUP($CH128,'العاملين '!$A$3:$AU$260,47),0))","v":0},{"$f":"IF($CH128>0,VLOOKUP($CH128,'العاملين '!$A$3:$AR$260,30),0)","v":0},{"$f":"IF($CH128>0,VLOOKUP($CH128,'العاملين '!$A$3:$AR$260,31),0)","v":0},null,{"$f":"IF($CH128>0,VLOOKUP($CH128,'العاملين '!$A$3:$AR$260,33),0)","v":0},{"$f":"IF($CH128>0,VLOOKUP($CH128,'العاملين '!$A$3:$AR$260,34),0)","v":0},{"$f":"IF($CH128>0,VLOOKUP($CH128,'العاملين '!$A$3:$AR$260,35),0)","v":0},{"$f":"IF($CH128>0,VLOOKUP($CH128,'العاملين '!$A$3:$AR$260,36),0)","v":0},{"$f":"IF($CH128>0,VLOOKUP($CH128,'العاملين '!$A$3:$AR$260,37),0)","v":0},{"$f":"IF($CH128>0,VLOOKUP($CH128,'العاملين '!$A$3:$AR$260,38),0)","v":0},{"$f":"IF($CH128>0,VLOOKUP($CH128,'العاملين '!$A$3:$AR$260,39),0)","v":0},{"$f":"IF($CH128>0,VLOOKUP($CH128,'العاملين '!$A$3:$AR$260,40),0)","v":0},{"$f":"IF($CH128>0,VLOOKUP($CH128,'العاملين '!$A$3:$AR$260,41),0)","v":0},0,0,0,{"$f":"IF($CH128>0,VLOOKUP($CH128,'العاملين '!$A$3:$AR$260,2),0)","v":0},0,null,{"$f":"IF($CH128>0,VLOOKUP($CH128,'العاملين '!$A$3:$AR$260,3),0)","v":0},{"$f":"IF($CH128>0,VLOOKUP($CH128,'العاملين '!$A$3:$AR$260,43),0)","v":0},0]
[24,{"$f":"IF($CH129>0,VLOOKUP($CH129,'العاملين '!$A$3:$AR$260,8),0)","v":0}," "," "," "," "," ",{"$f":"IF($CH129>0,VLOOKUP($CH129,'العاملين '!$A$3:$AR$260,9),0)","v":0},{"$f":"IF($CH129>0,VLOOKUP($CH129,'العاملين '!$A$3:$AR$260,10),0)","v":0},{"$f":"IF($CH129>0,VLOOKUP($CH129,'العاملين '!$A$3:$AR$260,11),0)","v":0},{"$f":"IF($CH129>0,VLOOKUP($CH129,'العاملين '!$A$3:$AR$260,12),0)","v":0},{"$f":"IF($CH129>0,VLOOKUP($CH129,'العاملين '!$A$3:$AR$260,13),0)","v":0},0,{"$f":"IF($CH129>0,VLOOKUP($CH129,'العاملين '!$A$3:$AR$260,14),0)","v":0},{"$f":"IF($CH129>0,VLOOKUP($CH129,'العاملين '!$A$3:$AR$260,15),0)","v":0},{"$f":"IF($CH129>0,VLOOKUP($CH129,'العاملين '!$A$3:$AR$260,16),0)","v":0},{"$f":"IF($CH129>0,VLOOKUP($CH129,'العاملين '!$A$3:$AR$260,17),0)","v":0},{"$f":"IF($CH129>0,VLOOKUP($CH129,'العاملين '!$A$3:$AR$260,18),0)","v":0},{"$f":"IF($CH129>0,VLOOKUP($CH129,'العاملين '!$A$3:$AR$260,19),0)","v":0},{"$f":"IF($CH129>0,VLOOKUP($CH129,'العاملين '!$A$3:$AR$260,20),0)","v":0},{"$f":"IF($CH129>0,VLOOKUP($CH129,'العاملين '!$A$3:$AR$260,21),0)","v":0},{"$f":"IF($CH129>0,VLOOKUP($CH129,'العاملين '!$A$3:$AR$260,22),0)","v":0},{"$f":"IF($CH129>0,VLOOKUP($CH129,'العاملين '!$A$3:$AR$260,23),0)","v":0},{"$f":"IF($CH129>0,VLOOKUP($CH129,'العاملين '!$A$3:$AR$260,24),0)","v":0},{"$f":"IF($CH129>0,VLOOKUP($CH129,'العاملين '!$A$3:$AR$260,26),0)","v":0},null,null,null,null,null,null,null,null,null,null,null,null,null,null,{"$f":"IF($CH129>0,VLOOKUP($CH129,'العاملين '!$A$3:$AR$260,25),0)","v":0},0,0,0,0,0,0,0,"",{"$f":"IF($CH129>0,VLOOKUP($CH129,'العاملين '!$A$3:$AR$260,28),0)","v":0},0," "," "," ",null," "," "," "," ",0,0,0,0,0,{"$f":"IF($CJ129=1,ROUND(($B129)*7%,2),IF($CJ129=2,VLOOKUP($CH129,'العاملين '!$A$3:$AS$260,44),0))","v":0},{"$f":"IF($CJ129=1,0.5,IF($CJ129=2,VLOOKUP($CH129,'العاملين '!$A$3:$AS$260,45),0))","v":0},{"$f":"IF($CJ129=1,4.5,IF($CJ129=2,VLOOKUP($CH129,'العاملين '!$A$3:$AS$260,46),0))","v":0},{"$f":"IF($CH129>0,VLOOKUP($CH129,'العاملين '!$A$3:$AR$260,29),0)","v":0},{"$f":"IF($CJ129=1,0.2,IF($CJ129=2,VLOOKUP($CH129,'العاملين '!$A$3:$AU$260,47),0))","v":0},{"$f":"IF($CJ129=1,0.05,IF($CJ129=2,VLOOKUP($CH129,'العاملين '!$A$3:$AU$260,47),0))","v":0},{"$f":"IF($CH129>0,VLOOKUP($CH129,'العاملين '!$A$3:$AR$260,30),0)","v":0},{"$f":"IF($CH129>0,VLOOKUP($CH129,'العاملين '!$A$3:$AR$260,31),0)","v":0},null,{"$f":"IF($CH129>0,VLOOKUP($CH129,'العاملين '!$A$3:$AR$260,33),0)","v":0},{"$f":"IF($CH129>0,VLOOKUP($CH129,'العاملين '!$A$3:$AR$260,34),0)","v":0},{"$f":"IF($CH129>0,VLOOKUP($CH129,'العاملين '!$A$3:$AR$260,35),0)","v":0},{"$f":"IF($CH129>0,VLOOKUP($CH129,'العاملين '!$A$3:$AR$260,36),0)","v":0},{"$f":"IF($CH129>0,VLOOKUP($CH129,'العاملين '!$A$3:$AR$260,37),0)","v":0},{"$f":"IF($CH129>0,VLOOKUP($CH129,'العاملين '!$A$3:$AR$260,38),0)","v":0},{"$f":"IF($CH129>0,VLOOKUP($CH129,'العاملين '!$A$3:$AR$260,39),0)","v":0},{"$f":"IF($CH129>0,VLOOKUP($CH129,'العاملين '!$A$3:$AR$260,40),0)","v":0},{"$f":"IF($CH129>0,VLOOKUP($CH129,'العاملين '!$A$3:$AR$260,41),0)","v":0},0,0,0,{"$f":"IF($CH129>0,VLOOKUP($CH129,'العاملين '!$A$3:$AR$260,2),0)","v":0},0,null,{"$f":"IF($CH129>0,VLOOKUP($CH129,'العاملين '!$A$3:$AR$260,3),0)","v":0},{"$f":"IF($CH129>0,VLOOKUP($CH129,'العاملين '!$A$3:$AR$260,43),0)","v":0},0]
[25,{"$f":"IF($CH130>0,VLOOKUP($CH130,'العاملين '!$A$3:$AR$260,8),0)","v":0}," "," "," "," "," ",{"$f":"IF($CH130>0,VLOOKUP($CH130,'العاملين '!$A$3:$AR$260,9),0)","v":0},{"$f":"IF($CH130>0,VLOOKUP($CH130,'العاملين '!$A$3:$AR$260,10),0)","v":0},{"$f":"IF($CH130>0,VLOOKUP($CH130,'العاملين '!$A$3:$AR$260,11),0)","v":0},{"$f":"IF($CH130>0,VLOOKUP($CH130,'العاملين '!$A$3:$AR$260,12),0)","v":0},{"$f":"IF($CH130>0,VLOOKUP($CH130,'العاملين '!$A$3:$AR$260,13),0)","v":0},0,{"$f":"IF($CH130>0,VLOOKUP($CH130,'العاملين '!$A$3:$AR$260,14),0)","v":0},{"$f":"IF($CH130>0,VLOOKUP($CH130,'العاملين '!$A$3:$AR$260,15),0)","v":0},{"$f":"IF($CH130>0,VLOOKUP($CH130,'العاملين '!$A$3:$AR$260,16),0)","v":0},{"$f":"IF($CH130>0,VLOOKUP($CH130,'العاملين '!$A$3:$AR$260,17),0)","v":0},{"$f":"IF($CH130>0,VLOOKUP($CH130,'العاملين '!$A$3:$AR$260,18),0)","v":0},{"$f":"IF($CH130>0,VLOOKUP($CH130,'العاملين '!$A$3:$AR$260,19),0)","v":0},{"$f":"IF($CH130>0,VLOOKUP($CH130,'العاملين '!$A$3:$AR$260,20),0)","v":0},{"$f":"IF($CH130>0,VLOOKUP($CH130,'العاملين '!$A$3:$AR$260,21),0)","v":0},{"$f":"IF($CH130>0,VLOOKUP($CH130,'العاملين '!$A$3:$AR$260,22),0)","v":0},{"$f":"IF($CH130>0,VLOOKUP($CH130,'العاملين '!$A$3:$AR$260,23),0)","v":0},{"$f":"IF($CH130>0,VLOOKUP($CH130,'العاملين '!$A$3:$AR$260,24),0)","v":0},{"$f":"IF($CH130>0,VLOOKUP($CH130,'العاملين '!$A$3:$AR$260,26),0)","v":0},null,null,null,null,null,null,null,null,null,null,null,null,null,null,{"$f":"IF($CH130>0,VLOOKUP($CH130,'العاملين '!$A$3:$AR$260,25),0)","v":0},0,0,0,0,0,0,0,"",{"$f":"IF($CH130>0,VLOOKUP($CH130,'العاملين '!$A$3:$AR$260,28),0)","v":0},0," "," "," ",null," "," "," "," ",0,0,0,0,0,{"$f":"IF($CJ130=1,ROUND(($B130)*7%,2),IF($CJ130=2,VLOOKUP($CH130,'العاملين '!$A$3:$AS$260,44),0))","v":0},{"$f":"IF($CJ130=1,0.5,IF($CJ130=2,VLOOKUP($CH130,'العاملين '!$A$3:$AS$260,45),0))","v":0},{"$f":"IF($CJ130=1,4.5,IF($CJ130=2,VLOOKUP($CH130,'العاملين '!$A$3:$AS$260,46),0))","v":0},{"$f":"IF($CH130>0,VLOOKUP($CH130,'العاملين '!$A$3:$AR$260,29),0)","v":0},{"$f":"IF($CJ130=1,0.2,IF($CJ130=2,VLOOKUP($CH130,'العاملين '!$A$3:$AU$260,47),0))","v":0},{"$f":"IF($CJ130=1,0.05,IF($CJ130=2,VLOOKUP($CH130,'العاملين '!$A$3:$AU$260,47),0))","v":0},{"$f":"IF($CH130>0,VLOOKUP($CH130,'العاملين '!$A$3:$AR$260,30),0)","v":0},{"$f":"IF($CH130>0,VLOOKUP($CH130,'العاملين '!$A$3:$AR$260,31),0)","v":0},null,{"$f":"IF($CH130>0,VLOOKUP($CH130,'العاملين '!$A$3:$AR$260,33),0)","v":0},{"$f":"IF($CH130>0,VLOOKUP($CH130,'العاملين '!$A$3:$AR$260,34),0)","v":0},{"$f":"IF($CH130>0,VLOOKUP($CH130,'العاملين '!$A$3:$AR$260,35),0)","v":0},{"$f":"IF($CH130>0,VLOOKUP($CH130,'العاملين '!$A$3:$AR$260,36),0)","v":0},{"$f":"IF($CH130>0,VLOOKUP($CH130,'العاملين '!$A$3:$AR$260,37),0)","v":0},{"$f":"IF($CH130>0,VLOOKUP($CH130,'العاملين '!$A$3:$AR$260,38),0)","v":0},{"$f":"IF($CH130>0,VLOOKUP($CH130,'العاملين '!$A$3:$AR$260,39),0)","v":0},{"$f":"IF($CH130>0,VLOOKUP($CH130,'العاملين '!$A$3:$AR$260,40),0)","v":0},{"$f":"IF($CH130>0,VLOOKUP($CH130,'العاملين '!$A$3:$AR$260,41),0)","v":0},0,0,0,{"$f":"IF($CH130>0,VLOOKUP($CH130,'العاملين '!$A$3:$AR$260,2),0)","v":0},0,null,{"$f":"IF($CH130>0,VLOOKUP($CH130,'العاملين '!$A$3:$AR$260,3),0)","v":0},{"$f":"IF($CH130>0,VLOOKUP($CH130,'العاملين '!$A$3:$AR$260,43),0)","v":0},0]
[null,{"$f":"SUM(B106:B130)","v":0},{"$error":"#VALUE!"},{"$error":"#VALUE!"},{"$error":"#VALUE!"},{"$error":"#VALUE!"},{"$error":"#VALUE!"},1185.1199999999999,1963.4699999999998,0,110.41,111.41,3370.41,118.49000000000001,0,8,12,0,0,0,0,0,0,0,0,null,null,null,null,null,null,null,null,null,null,null,null,null,null,0,3508.8999999999996,3508.8999999999996,0,526.34,35.090000000000003,105.27,666.7,20,0,{"$error":"#VALUE!"},{"$error":"#VALUE!"},{"$error":"#VALUE!"},{"$error":"#VALUE!"},0,{"$error":"#VALUE!"},{"$error":"#VALUE!"},{"$error":"#VALUE!"},{"$error":"#VALUE!"},526.34,35.090000000000003,350.89,105.27,35.090000000000003,{"$error":"#VALUE!"},1,9,0,0.4,0.1,0,0,0,0,0,0,0,0,2,99.33,{"$f":"SUM(CB106:CB130)","v":30.35},{"$f":"SUM(CC106:CC130)","v":0},{"$f":"SUM(CD106:CD130)","v":{"$error":"#VALUE!"}},{"$f":"SUM(CE106:CE130)","v":{"$error":"#VALUE!"}},{"$f":"SUM(CF106:CF130)","v":{"$error":"#VALUE!"}},null,null,null,null,null,{"$error":"#VALUE!"}]
[]
["كشــــــــــــــــــــــــــــــف المرتبات عن شــــــــــــــــــــــــــــــــهر /",null,null,null,null,null,null,null,null,null,null,null,null,null,null,null,null,null,null,null,null,null,null,null,null,null,null,null,null,null,null,null,null,null,null,null,null,null,null,null,null,null,null,null,null,null,null,null,null,null,{"$f":"ورقة1!C3","v":"مارس 2018"},null,null,null,null,null," ","ســــــــــــــــــــــــــــــــنة /",null,null,null,null,null,{"$f":"IF($CG146>0,ورقة1!$C$5,0)","v":0},null,null,null,null,null,"م"]
[{"$f":"ورقة1!C1","v":"الشهداء التعليمية"},null,null,null,null,null,null,null,null,null,null,null,null,null,null,null,null,null,null,null,null,null,null,null,null,null,null,null,null,null,null,null,null,null,null,null,null,null,null,null,null,null,null,null,null,null,null,null,null,null,"مدرسة /  ",null,null,null,null,{"$f":"IF($CG146>0,ورقة1!$C$2,\" \")","v":" "},null,null,null,null,null,null,null,null,null,null,null,null,null,null,null,null,null,null,null,null,null,null,null,null,null,null,null,null,null,{"$f":"FLOOR(CM146,0.05)","v":0}]
["م ","الاســــــــــــــــــــــــــتحـــــــــــــــــــــــــــــــــقــــــــــــــــــــــــــــــــــــــــــــــــــــــــــــــــــــــــــاقـــــــــــــــــــــــــــــــــــات ",null,null,null,null,null,null,null,null,null,null,null,null,null,null,null,null,null,null,null,null,null,null,null,null,null,null,null,null,null,null,null,null,null,null,null,null,null,null,null,null,null,null,null,null,null,null,null,"جملة الاستــــحقــاقات ","الأســـــــــــــــــــــــــــــــــــــتـــــــقـــــــــــــــــطاعـــــــــــــــــات ",null,null,null,null,null,null,null,null,null,null,null,null,null,null,null,null,null,null,null,null,null,null,null,null,null,null,null,null,null,null,null,"جملة الأستقطاعات ","الصافي المستحق ","الاســـــــــــــــــــم ","التوقيع بالاســــــــــــتلام ","صافي الشهر السابق ",null,"اسم البنك"]
[null,"الاجور الاســــــــــــــــــــــــــاسية ",null,null,null,null,"الجملة ","الاجور المتغيرة الخاضعة بكامل قيمتها للتأمينات والمعاشات ",null,null,null,null,"الجملة ","الاجور المتغيرة الاخري بنسبة        %",null,null,null,null,null,null,null,null,null,null,null,null,null,null,null,null,null,null,null,null,null,null,null,null,null,null,"الجملة ",{"$f":"'العاملين '!BA136","v":0},"غير خاضع","حصص الاجور المتغيرة ",null,null,"الجملة ","منحة ",{"$f":"'العاملين '!$AA$1","v":0},null,"لحســــــــــــــــــــاب الهيئة القوميـــــــــــــــــــــة للتـــــــــــــــــأمين الإجتـــــــــــــــــــــــــماعي ",null,null,null,null,null,null,null,null,null,null,null,null,null,null,null,null,null,null,"لحساب جاري دائنة مصلحة الضرائب ",null,null,"لحساب دائنين مختلفين "]
[null,null,null,null,null,null,null,null,null,null,null,null,null,null,null,null,null,null,null,null,null,null,null,null,null,null,null,null,null,null,null,null,null,null,null,null,null,null,null,null,null,"خاضع",null,null,null,null,null,null,null,null,"استقطاعات الأجور الاســــــــــــــــــاسية ",null,null,null,null,null,null,null,"استقطاعات الأجور المتغيرة ",null,null,null,null,"الأقساط الخاصة عن الأجور الأساسية ",null,null,null,null,null,"ضريبة دخل  ","دمغة عادية   "]
[null,"المرتب "," حصة الحكومة  15%","إصابة عمل  1%","أ 2 %","أ 3 %",null,"علاوة 2012","علاوة 2013","علاوة 2014","علاوة 2015","علاوة 2016",null,{"$f":"'العاملين '!$N$1","v":0},{"$f":"'العاملين '!$O$1","v":0},{"$f":"'العاملين '!$P$1","v":0},{"$f":"'العاملين '!$Q$1","v":0},{"$f":"'العاملين '!$R$1","v":0},{"$f":"'العاملين '!#REF!","v":{"$error":"#REF!"}},{"$f":"'العاملين '!$S$1","v":0},{"$f":"'العاملين '!$T$1","v":0},{"$f":"'العاملين '!$U$1","v":0},{"$f":"'العاملين '!$V$1","v":0},{"$f":"'العاملين '!$W$1","v":0},"الحد الادنى",null,null,null,null,null,null,null,null,null,null,null,null,null,null,{"$f":"'العاملين '!$X$1","v":0},null,null,null,"ألـ 15 %","ألـ 1 %","ألـ 3%",null,null,null,null," حصة الحكومة  15%","إصابة عمل  1%","الـ 2%",null," حصة الموظف  10%",0.08,"ألـ 3%","ألـ 1 %"," حصة الحكومة  15%","إصابة عمل  1%"," حصة الموظف  10%",0.03,0.01,"زمالة   7 %","زمالة  جماعى","نقابه","رابطة ","نادى محافظة","نادي الادارة",null,null,null,{"$f":"'العاملين '!$AF$1","v":0},{"$f":"'العاملين '!$AG$1","v":0},{"$f":"'العاملين '!$AH$1","v":0},{"$f":"'العاملين '!$AI$1","v":0},{"$f":"'العاملين '!$AJ$1","v":0},{"$f":"'العاملين '!$AK$1","v":0},{"$f":"'العاملين '!$AL$1","v":0},{"$f":"'العاملين '!$AM$1","v":0},{"$f":"'العاملين '!$AN$1","v":0},"كسر قرش"]
[1,{"$f":"IF($CH139>0,VLOOKUP($CH139,'العاملين '!$A$3:$AR$260,8),0)","v":"معلم أول"},{"$f":"IF($B139>0,ROUND(($B139)*15%,2),\" \")","v":{"$error":"#VALUE!"}},{"$f":"IF($B139>0,ROUND(($B139)*1%,2),\" \")","v":{"$error":"#VALUE!"}},{"$f":"IF($B139>0,ROUND(($B139)*2%,2),\" \")","v":{"$error":"#VALUE!"}},{"$f":"IF($B139>0,ROUND(($B139)*3%,2),\" \")","v":{"$error":"#VALUE!"}},{"$f":"IF($B139>0,SUM(B139:F139),\" \")","v":{"$error":"#VALUE!"}},{"$f":"IF($CH139>0,VLOOKUP($CH139,'العاملين '!$A$3:$AR$260,9),0)","v":537.54},{"$f":"IF($CH139>0,VLOOKUP($CH139,'العاملين '!$A$3:$AR$260,10),0)","v":894.13},{"$f":"IF($CH139>0,VLOOKUP($CH139,'العاملين '!$A$3:$AR$260,11),0)","v":0},{"$f":"IF($CH139>0,VLOOKUP($CH139,'العاملين '!$A$3:$AR$260,12),0)","v":49.51},{"$f":"IF($CH139>0,VLOOKUP($CH139,'العاملين '!$A$3:$AR$260,13),0)","v":50.01},{"$f":"IF($B139>0,SUM(H139:L139),0)","v":1531.19},{"$f":"IF($CH139>0,VLOOKUP($CH139,'العاملين '!$A$3:$AR$260,14),0)","v":53.75},{"$f":"IF($CH139>0,VLOOKUP($CH139,'العاملين '!$A$3:$AR$260,15),0)","v":0},{"$f":"IF($CH139>0,VLOOKUP($CH139,'العاملين '!$A$3:$AR$260,16),0)","v":4},{"$f":"IF($CH139>0,VLOOKUP($CH139,'العاملين '!$A$3:$AR$260,17),0)","v":6},{"$f":"IF($CH139>0,VLOOKUP($CH139,'العاملين '!$A$3:$AR$260,18),0)","v":0},{"$f":"IF($CH139>0,VLOOKUP($CH139,'العاملين '!$A$3:$AR$260,19),0)","v":0},{"$f":"IF($CH139>0,VLOOKUP($CH139,'العاملين '!$A$3:$AR$260,20),0)","v":0},{"$f":"IF($CH139>0,VLOOKUP($CH139,'العاملين '!$A$3:$AR$260,21),0)","v":0},{"$f":"IF($CH139>0,VLOOKUP($CH139,'العاملين '!$A$3:$AR$260,22),0)","v":0},{"$f":"IF($CH139>0,VLOOKUP($CH139,'العاملين '!$A$3:$AR$260,23),0)","v":0},{"$f":"IF($CH139>0,VLOOKUP($CH139,'العاملين '!$A$3:$AR$260,24),0)","v":0},{"$f":"IF($CH139>0,VLOOKUP($CH139,'العاملين '!$A$3:$AR$260,26),0)","v":0},null,null,null,null,null,null,null,null,null,null,null,null,null,null,{"$f":"IF($CH139>0,VLOOKUP($CH139,'العاملين '!$A$3:$AR$260,25),0)","v":0},{"$f":"SUM(M139:AN139)","v":1594.94},{"$f":"IF(AO139>$AP$4,$AP$4,AO139)","v":1594.94},{"$f":"AO139-AP139","v":0},{"$f":"ROUND(($AP139)*15%,2)","v":239.24},{"$f":"ROUND(($AP139)*1%,2)","v":15.95},{"$f":"ROUND(($AP139)*3%,2)","v":47.85},{"$f":"SUM(AR139:AT139)","v":303.04000000000002},{"$f":"IF(B139>0,10,\"\")","v":10},{"$f":"IF($CH139>0,VLOOKUP($CH139,'العاملين '!$A$3:$AR$260,28),0)","v":0},{"$f":"SUM(AV139,AU139,AO139,G139,AW139)","v":{"$error":"#VALUE!"}},{"$f":"IF($B139>0,ROUND(($B139)*15%,2),\" \")","v":{"$error":"#VALUE!"}},{"$f":"IF($B139>0,ROUND(($B139)*1%,2),\" \")","v":{"$error":"#VALUE!"}},{"$f":"IF($B139>0,ROUND(($B139)*2%,2),\" \")","v":{"$error":"#VALUE!"}},null,{"$f":"IF($B139>0,ROUND(($B139)*10%,2),\" \")","v":{"$error":"#VALUE!"}},{"$f":"IF($B139>0,ROUND(($B139)*8%,2),\" \")","v":{"$error":"#VALUE!"}},{"$f":"IF($B139>0,ROUND(($B139)*3%,2),\" \")","v":{"$error":"#VALUE!"}},{"$f":"IF($B139>0,ROUND(($B139)*1%,2),\" \")","v":{"$error":"#VALUE!"}},{"$f":"AR139","v":239.24},15.95,{"$f":"ROUND(($AP139)*10%,2)","v":159.49},{"$f":"AT139","v":47.85},{"$f":"AS139","v":15.95},{"$f":"IF($CJ139=1,ROUND(($B139)*7%,2),IF($CJ139=2,VLOOKUP($CH139,'العاملين '!$A$3:$AS$260,44),0))","v":{"$error":"#VALUE!"}},{"$f":"IF($CJ139=1,0.5,IF($CJ139=2,VLOOKUP($CH139,'العاملين '!$A$3:$AS$260,45),0))","v":0.5},{"$f":"IF($CJ139=1,4.5,IF($CJ139=2,VLOOKUP($CH139,'العاملين '!$A$3:$AS$260,46),0))","v":4.5},{"$f":"IF($CH139>0,VLOOKUP($CH139,'العاملين '!$A$3:$AR$260,29),0)","v":0},{"$f":"IF($CJ139=1,0.2,IF($CJ139=2,VLOOKUP($CH139,'العاملين '!$A$3:$AU$260,47),0))","v":0.2},{"$f":"IF($CJ139=1,0.05,IF($CJ139=2,VLOOKUP($CH139,'العاملين '!$A$3:$AU$260,47),0))","v":0.05},{"$f":"IF($CH139>0,VLOOKUP($CH139,'العاملين '!$A$3:$AR$260,30),0)","v":0},{"$f":"IF($CH139>0,VLOOKUP($CH139,'العاملين '!$A$3:$AR$260,31),0)","v":0},null,{"$f":"IF($CH139>0,VLOOKUP($CH139,'العاملين '!$A$3:$AR$260,33),0)","v":0},{"$f":"IF($CH139>0,VLOOKUP($CH139,'العاملين '!$A$3:$AR$260,34),0)","v":0},{"$f":"IF($CH139>0,VLOOKUP($CH139,'العاملين '!$A$3:$AR$260,35),0)","v":0},{"$f":"IF($CH139>0,VLOOKUP($CH139,'العاملين '!$A$3:$AR$260,36),0)","v":0},{"$f":"IF($CH139>0,VLOOKUP($CH139,'العاملين '!$A$3:$AR$260,37),0)","v":0},{"$f":"IF($CH139>0,VLOOKUP($CH139,'العاملين '!$A$3:$AR$260,38),0)","v":1},{"$f":"IF($CH139>0,VLOOKUP($CH139,'العاملين '!$A$3:$AR$260,39),0)","v":22.64},{"$f":"IF($CH139>0,VLOOKUP($CH139,'العاملين '!$A$3:$AR$260,40),0)","v":15},{"$f":"IF($CH139>0,VLOOKUP($CH139,'العاملين '!$A$3:$AR$260,41),0)","v":0},{"$f":"CL139-CF139","v":{"$error":"#VALUE!"}},{"$f":"SUM(AY139:CD139)","v":{"$error":"#VALUE!"}},{"$f":"FLOOR(CL139,0.05)","v":{"$error":"#VALUE!"}},{"$f":"IF($CH139>0,VLOOKUP($CH139,'العاملين '!$A$3:$AR$260,2),0)","v":"محمد15"},15,null,{"$f":"IF($CH139>0,VLOOKUP($CH139,'العاملين '!$A$3:$AR$260,3),0)","v":1},{"$f":"IF($CH139>0,VLOOKUP($CH139,'العاملين '!$A$3:$AR$260,43),0)","v":0},{"$f":"AX139-SUM(AY139:CC139)","v":{"$error":"#VALUE!"}}]
[2,{"$f":"IF($CH140>0,VLOOKUP($CH140,'العاملين '!$A$3:$AR$260,8),0)","v":"خبير"},{"$error":"#VALUE!"},{"$error":"#VALUE!"},{"$error":"#VALUE!"},{"$error":"#VALUE!"},{"$error":"#VALUE!"},{"$f":"IF($CH140>0,VLOOKUP($CH140,'العاملين '!$A$3:$AR$260,9),0)","v":638.54999999999995},{"$f":"IF($CH140>0,VLOOKUP($CH140,'العاملين '!$A$3:$AR$260,10),0)","v":1056.5899999999999},{"$f":"IF($CH140>0,VLOOKUP($CH140,'العاملين '!$A$3:$AR$260,11),0)","v":0},{"$f":"IF($CH140>0,VLOOKUP($CH140,'العاملين '!$A$3:$AR$260,12),0)","v":59.54},{"$f":"IF($CH140>0,VLOOKUP($CH140,'العاملين '!$A$3:$AR$260,13),0)","v":60.04},1814.7199999999998,{"$f":"IF($CH140>0,VLOOKUP($CH140,'العاملين '!$A$3:$AR$260,14),0)","v":63.85},{"$f":"IF($CH140>0,VLOOKUP($CH140,'العاملين '!$A$3:$AR$260,15),0)","v":0},{"$f":"IF($CH140>0,VLOOKUP($CH140,'العاملين '!$A$3:$AR$260,16),0)","v":4},{"$f":"IF($CH140>0,VLOOKUP($CH140,'العاملين '!$A$3:$AR$260,17),0)","v":6},{"$f":"IF($CH140>0,VLOOKUP($CH140,'العاملين '!$A$3:$AR$260,18),0)","v":0},{"$f":"IF($CH140>0,VLOOKUP($CH140,'العاملين '!$A$3:$AR$260,19),0)","v":0},{"$f":"IF($CH140>0,VLOOKUP($CH140,'العاملين '!$A$3:$AR$260,20),0)","v":0},{"$f":"IF($CH140>0,VLOOKUP($CH140,'العاملين '!$A$3:$AR$260,21),0)","v":0},{"$f":"IF($CH140>0,VLOOKUP($CH140,'العاملين '!$A$3:$AR$260,22),0)","v":0},{"$f":"IF($CH140>0,VLOOKUP($CH140,'العاملين '!$A$3:$AR$260,23),0)","v":0},{"$f":"IF($CH140>0,VLOOKUP($CH140,'العاملين '!$A$3:$AR$260,24),0)","v":0},{"$f":"IF($CH140>0,VLOOKUP($CH140,'العاملين '!$A$3:$AR$260,26),0)","v":0},null,null,null,null,null,null,null,null,null,null,null,null,null,null,{"$f":"IF($CH140>0,VLOOKUP($CH140,'العاملين '!$A$3:$AR$260,25),0)","v":0},1888.5699999999997,1888.5699999999997,0,283.29000000000002,18.89,56.66,358.84000000000003,10,{"$f":"IF($CH140>0,VLOOKUP($CH140,'العاملين '!$A$3:$AR$260,28),0)","v":0},{"$error":"#VALUE!"},{"$error":"#VALUE!"},{"$error":"#VALUE!"},{"$error":"#VALUE!"},null,{"$error":"#VALUE!"},{"$error":"#VALUE!"},{"$error":"#VALUE!"},{"$error":"#VALUE!"},283.29000000000002,18.89,188.86,56.66,18.89,{"$f":"IF($CJ140=1,ROUND(($B140)*7%,2),IF($CJ140=2,VLOOKUP($CH140,'العاملين '!$A$3:$AS$260,44),0))","v":{"$error":"#VALUE!"}},{"$f":"IF($CJ140=1,0.5,IF($CJ140=2,VLOOKUP($CH140,'العاملين '!$A$3:$AS$260,45),0))","v":0.5},{"$f":"IF($CJ140=1,4.5,IF($CJ140=2,VLOOKUP($CH140,'العاملين '!$A$3:$AS$260,46),0))","v":4.5},{"$f":"IF($CH140>0,VLOOKUP($CH140,'العاملين '!$A$3:$AR$260,29),0)","v":0},{"$f":"IF($CJ140=1,0.2,IF($CJ140=2,VLOOKUP($CH140,'العاملين '!$A$3:$AU$260,47),0))","v":0.2},{"$f":"IF($CJ140=1,0.05,IF($CJ140=2,VLOOKUP($CH140,'العاملين '!$A$3:$AU$260,47),0))","v":0.05},{"$f":"IF($CH140>0,VLOOKUP($CH140,'العاملين '!$A$3:$AR$260,30),0)","v":0},{"$f":"IF($CH140>0,VLOOKUP($CH140,'العاملين '!$A$3:$AR$260,31),0)","v":0},null,{"$f":"IF($CH140>0,VLOOKUP($CH140,'العاملين '!$A$3:$AR$260,33),0)","v":0},{"$f":"IF($CH140>0,VLOOKUP($CH140,'العاملين '!$A$3:$AR$260,34),0)","v":0},{"$f":"IF($CH140>0,VLOOKUP($CH140,'العاملين '!$A$3:$AR$260,35),0)","v":0},{"$f":"IF($CH140>0,VLOOKUP($CH140,'العاملين '!$A$3:$AR$260,36),0)","v":0},{"$f":"IF($CH140>0,VLOOKUP($CH140,'العاملين '!$A$3:$AR$260,37),0)","v":0},{"$f":"IF($CH140>0,VLOOKUP($CH140,'العاملين '!$A$3:$AR$260,38),0)","v":1},{"$f":"IF($CH140>0,VLOOKUP($CH140,'العاملين '!$A$3:$AR$260,39),0)","v":51.65},{"$f":"IF($CH140>0,VLOOKUP($CH140,'العاملين '!$A$3:$AR$260,40),0)","v":15},{"$f":"IF($CH140>0,VLOOKUP($CH140,'العاملين '!$A$3:$AR$260,41),0)","v":0},{"$error":"#VALUE!"},{"$error":"#VALUE!"},{"$error":"#VALUE!"},{"$f":"IF($CH140>0,VLOOKUP($CH140,'العاملين '!$A$3:$AR$260,2),0)","v":"محمد28"},28,null,{"$f":"IF($CH140>0,VLOOKUP($CH140,'العاملين '!$A$3:$AR$260,3),0)","v":1},{"$f":"IF($CH140>0,VLOOKUP($CH140,'العاملين '!$A$3:$AR$260,43),0)","v":0},{"$error":"#VALUE!"}]
[3,{"$f":"IF($CH141>0,VLOOKUP($CH141,'العاملين '!$A$3:$AR$260,8),0)","v":0}," "," "," "," "," ",{"$f":"IF($CH141>0,VLOOKUP($CH141,'العاملين '!$A$3:$AR$260,9),0)","v":0},{"$f":"IF($CH141>0,VLOOKUP($CH141,'العاملين '!$A$3:$AR$260,10),0)","v":0},{"$f":"IF($CH141>0,VLOOKUP($CH141,'العاملين '!$A$3:$AR$260,11),0)","v":0},{"$f":"IF($CH141>0,VLOOKUP($CH141,'العاملين '!$A$3:$AR$260,12),0)","v":0},{"$f":"IF($CH141>0,VLOOKUP($CH141,'العاملين '!$A$3:$AR$260,13),0)","v":0},0,{"$f":"IF($CH141>0,VLOOKUP($CH141,'العاملين '!$A$3:$AR$260,14),0)","v":0},{"$f":"IF($CH141>0,VLOOKUP($CH141,'العاملين '!$A$3:$AR$260,15),0)","v":0},{"$f":"IF($CH141>0,VLOOKUP($CH141,'العاملين '!$A$3:$AR$260,16),0)","v":0},{"$f":"IF($CH141>0,VLOOKUP($CH141,'العاملين '!$A$3:$AR$260,17),0)","v":0},{"$f":"IF($CH141>0,VLOOKUP($CH141,'العاملين '!$A$3:$AR$260,18),0)","v":0},{"$f":"IF($CH141>0,VLOOKUP($CH141,'العاملين '!$A$3:$AR$260,19),0)","v":0},{"$f":"IF($CH141>0,VLOOKUP($CH141,'العاملين '!$A$3:$AR$260,20),0)","v":0},{"$f":"IF($CH141>0,VLOOKUP($CH141,'العاملين '!$A$3:$AR$260,21),0)","v":0},{"$f":"IF($CH141>0,VLOOKUP($CH141,'العاملين '!$A$3:$AR$260,22),0)","v":0},{"$f":"IF($CH141>0,VLOOKUP($CH141,'العاملين '!$A$3:$AR$260,23),0)","v":0},{"$f":"IF($CH141>0,VLOOKUP($CH141,'العاملين '!$A$3:$AR$260,24),0)","v":0},{"$f":"IF($CH141>0,VLOOKUP($CH141,'العاملين '!$A$3:$AR$260,26),0)","v":0},null,null,null,null,null,null,null,null,null,null,null,null,null,null,{"$f":"IF($CH141>0,VLOOKUP($CH141,'العاملين '!$A$3:$AR$260,25),0)","v":0},0,0,0,0,0,0,0,"",{"$f":"IF($CH141>0,VLOOKUP($CH141,'العاملين '!$A$3:$AR$260,28),0)","v":0},0," "," "," ",null," "," "," "," ",0,0,0,0,0,{"$f":"IF($CJ141=1,ROUND(($B141)*7%,2),IF($CJ141=2,VLOOKUP($CH141,'العاملين '!$A$3:$AS$260,44),0))","v":0},{"$f":"IF($CJ141=1,0.5,IF($CJ141=2,VLOOKUP($CH141,'العاملين '!$A$3:$AS$260,45),0))","v":0},{"$f":"IF($CJ141=1,4.5,IF($CJ141=2,VLOOKUP($CH141,'العاملين '!$A$3:$AS$260,46),0))","v":0},{"$f":"IF($CH141>0,VLOOKUP($CH141,'العاملين '!$A$3:$AR$260,29),0)","v":0},{"$f":"IF($CJ141=1,0.2,IF($CJ141=2,VLOOKUP($CH141,'العاملين '!$A$3:$AU$260,47),0))","v":0},{"$f":"IF($CJ141=1,0.05,IF($CJ141=2,VLOOKUP($CH141,'العاملين '!$A$3:$AU$260,47),0))","v":0},{"$f":"IF($CH141>0,VLOOKUP($CH141,'العاملين '!$A$3:$AR$260,30),0)","v":0},{"$f":"IF($CH141>0,VLOOKUP($CH141,'العاملين '!$A$3:$AR$260,31),0)","v":0},null,{"$f":"IF($CH141>0,VLOOKUP($CH141,'العاملين '!$A$3:$AR$260,33),0)","v":0},{"$f":"IF($CH141>0,VLOOKUP($CH141,'العاملين '!$A$3:$AR$260,34),0)","v":0},{"$f":"IF($CH141>0,VLOOKUP($CH141,'العاملين '!$A$3:$AR$260,35),0)","v":0},{"$f":"IF($CH141>0,VLOOKUP($CH141,'العاملين '!$A$3:$AR$260,36),0)","v":0},{"$f":"IF($CH141>0,VLOOKUP($CH141,'العاملين '!$A$3:$AR$260,37),0)","v":0},{"$f":"IF($CH141>0,VLOOKUP($CH141,'العاملين '!$A$3:$AR$260,38),0)","v":0},{"$f":"IF($CH141>0,VLOOKUP($CH141,'العاملين '!$A$3:$AR$260,39),0)","v":0},{"$f":"IF($CH141>0,VLOOKUP($CH141,'العاملين '!$A$3:$AR$260,40),0)","v":0},{"$f":"IF($CH141>0,VLOOKUP($CH141,'العاملين '!$A$3:$AR$260,41),0)","v":0},0,0,0,{"$f":"IF($CH141>0,VLOOKUP($CH141,'العاملين '!$A$3:$AR$260,2),0)","v":0},0,null,{"$f":"IF($CH141>0,VLOOKUP($CH141,'العاملين '!$A$3:$AR$260,3),0)","v":0},{"$f":"IF($CH141>0,VLOOKUP($CH141,'العاملين '!$A$3:$AR$260,43),0)","v":0},0]
[4,{"$f":"IF($CH142>0,VLOOKUP($CH142,'العاملين '!$A$3:$AR$260,8),0)","v":0}," "," "," "," "," ",{"$f":"IF($CH142>0,VLOOKUP($CH142,'العاملين '!$A$3:$AR$260,9),0)","v":0},{"$f":"IF($CH142>0,VLOOKUP($CH142,'العاملين '!$A$3:$AR$260,10),0)","v":0},{"$f":"IF($CH142>0,VLOOKUP($CH142,'العاملين '!$A$3:$AR$260,11),0)","v":0},{"$f":"IF($CH142>0,VLOOKUP($CH142,'العاملين '!$A$3:$AR$260,12),0)","v":0},{"$f":"IF($CH142>0,VLOOKUP($CH142,'العاملين '!$A$3:$AR$260,13),0)","v":0},0,{"$f":"IF($CH142>0,VLOOKUP($CH142,'العاملين '!$A$3:$AR$260,14),0)","v":0},{"$f":"IF($CH142>0,VLOOKUP($CH142,'العاملين '!$A$3:$AR$260,15),0)","v":0},{"$f":"IF($CH142>0,VLOOKUP($CH142,'العاملين '!$A$3:$AR$260,16),0)","v":0},{"$f":"IF($CH142>0,VLOOKUP($CH142,'العاملين '!$A$3:$AR$260,17),0)","v":0},{"$f":"IF($CH142>0,VLOOKUP($CH142,'العاملين '!$A$3:$AR$260,18),0)","v":0},{"$f":"IF($CH142>0,VLOOKUP($CH142,'العاملين '!$A$3:$AR$260,19),0)","v":0},{"$f":"IF($CH142>0,VLOOKUP($CH142,'العاملين '!$A$3:$AR$260,20),0)","v":0},{"$f":"IF($CH142>0,VLOOKUP($CH142,'العاملين '!$A$3:$AR$260,21),0)","v":0},{"$f":"IF($CH142>0,VLOOKUP($CH142,'العاملين '!$A$3:$AR$260,22),0)","v":0},{"$f":"IF($CH142>0,VLOOKUP($CH142,'العاملين '!$A$3:$AR$260,23),0)","v":0},{"$f":"IF($CH142>0,VLOOKUP($CH142,'العاملين '!$A$3:$AR$260,24),0)","v":0},{"$f":"IF($CH142>0,VLOOKUP($CH142,'العاملين '!$A$3:$AR$260,26),0)","v":0},null,null,null,null,null,null,null,null,null,null,null,null,null,null,{"$f":"IF($CH142>0,VLOOKUP($CH142,'العاملين '!$A$3:$AR$260,25),0)","v":0},0,0,0,0,0,0,0,"",{"$f":"IF($CH142>0,VLOOKUP($CH142,'العاملين '!$A$3:$AR$260,28),0)","v":0},0," "," "," ",null," "," "," "," ",0,0,0,0,0,{"$f":"IF($CJ142=1,ROUND(($B142)*7%,2),IF($CJ142=2,VLOOKUP($CH142,'العاملين '!$A$3:$AS$260,44),0))","v":0},{"$f":"IF($CJ142=1,0.5,IF($CJ142=2,VLOOKUP($CH142,'العاملين '!$A$3:$AS$260,45),0))","v":0},{"$f":"IF($CJ142=1,4.5,IF($CJ142=2,VLOOKUP($CH142,'العاملين '!$A$3:$AS$260,46),0))","v":0},{"$f":"IF($CH142>0,VLOOKUP($CH142,'العاملين '!$A$3:$AR$260,29),0)","v":0},{"$f":"IF($CJ142=1,0.2,IF($CJ142=2,VLOOKUP($CH142,'العاملين '!$A$3:$AU$260,47),0))","v":0},{"$f":"IF($CJ142=1,0.05,IF($CJ142=2,VLOOKUP($CH142,'العاملين '!$A$3:$AU$260,47),0))","v":0},{"$f":"IF($CH142>0,VLOOKUP($CH142,'العاملين '!$A$3:$AR$260,30),0)","v":0},{"$f":"IF($CH142>0,VLOOKUP($CH142,'العاملين '!$A$3:$AR$260,31),0)","v":0},null,{"$f":"IF($CH142>0,VLOOKUP($CH142,'العاملين '!$A$3:$AR$260,33),0)","v":0},{"$f":"IF($CH142>0,VLOOKUP($CH142,'العاملين '!$A$3:$AR$260,34),0)","v":0},{"$f":"IF($CH142>0,VLOOKUP($CH142,'العاملين '!$A$3:$AR$260,35),0)","v":0},{"$f":"IF($CH142>0,VLOOKUP($CH142,'العاملين '!$A$3:$AR$260,36),0)","v":0},{"$f":"IF($CH142>0,VLOOKUP($CH142,'العاملين '!$A$3:$AR$260,37),0)","v":0},{"$f":"IF($CH142>0,VLOOKUP($CH142,'العاملين '!$A$3:$AR$260,38),0)","v":0},{"$f":"IF($CH142>0,VLOOKUP($CH142,'العاملين '!$A$3:$AR$260,39),0)","v":0},{"$f":"IF($CH142>0,VLOOKUP($CH142,'العاملين '!$A$3:$AR$260,40),0)","v":0},{"$f":"IF($CH142>0,VLOOKUP($CH142,'العاملين '!$A$3:$AR$260,41),0)","v":0},0,0,0,{"$f":"IF($CH142>0,VLOOKUP($CH142,'العاملين '!$A$3:$AR$260,2),0)","v":0},0,null,{"$f":"IF($CH142>0,VLOOKUP($CH142,'العاملين '!$A$3:$AR$260,3),0)","v":0},{"$f":"IF($CH142>0,VLOOKUP($CH142,'العاملين '!$A$3:$AR$260,43),0)","v":0},0]
[5,{"$f":"IF($CH143>0,VLOOKUP($CH143,'العاملين '!$A$3:$AR$260,8),0)","v":0}," "," "," "," "," ",{"$f":"IF($CH143>0,VLOOKUP($CH143,'العاملين '!$A$3:$AR$260,9),0)","v":0},{"$f":"IF($CH143>0,VLOOKUP($CH143,'العاملين '!$A$3:$AR$260,10),0)","v":0},{"$f":"IF($CH143>0,VLOOKUP($CH143,'العاملين '!$A$3:$AR$260,11),0)","v":0},{"$f":"IF($CH143>0,VLOOKUP($CH143,'العاملين '!$A$3:$AR$260,12),0)","v":0},{"$f":"IF($CH143>0,VLOOKUP($CH143,'العاملين '!$A$3:$AR$260,13),0)","v":0},0,{"$f":"IF($CH143>0,VLOOKUP($CH143,'العاملين '!$A$3:$AR$260,14),0)","v":0},{"$f":"IF($CH143>0,VLOOKUP($CH143,'العاملين '!$A$3:$AR$260,15),0)","v":0},{"$f":"IF($CH143>0,VLOOKUP($CH143,'العاملين '!$A$3:$AR$260,16),0)","v":0},{"$f":"IF($CH143>0,VLOOKUP($CH143,'العاملين '!$A$3:$AR$260,17),0)","v":0},{"$f":"IF($CH143>0,VLOOKUP($CH143,'العاملين '!$A$3:$AR$260,18),0)","v":0},{"$f":"IF($CH143>0,VLOOKUP($CH143,'العاملين '!$A$3:$AR$260,19),0)","v":0},{"$f":"IF($CH143>0,VLOOKUP($CH143,'العاملين '!$A$3:$AR$260,20),0)","v":0},{"$f":"IF($CH143>0,VLOOKUP($CH143,'العاملين '!$A$3:$AR$260,21),0)","v":0},{"$f":"IF($CH143>0,VLOOKUP($CH143,'العاملين '!$A$3:$AR$260,22),0)","v":0},{"$f":"IF($CH143>0,VLOOKUP($CH143,'العاملين '!$A$3:$AR$260,23),0)","v":0},{"$f":"IF($CH143>0,VLOOKUP($CH143,'العاملين '!$A$3:$AR$260,24),0)","v":0},{"$f":"IF($CH143>0,VLOOKUP($CH143,'العاملين '!$A$3:$AR$260,26),0)","v":0},null,null,null,null,null,null,null,null,null,null,null,null,null,null,{"$f":"IF($CH143>0,VLOOKUP($CH143,'العاملين '!$A$3:$AR$260,25),0)","v":0},0,0,0,0,0,0,0,"",{"$f":"IF($CH143>0,VLOOKUP($CH143,'العاملين '!$A$3:$AR$260,28),0)","v":0},0," "," "," ",null," "," "," "," ",0,0,0,0,0,{"$f":"IF($CJ143=1,ROUND(($B143)*7%,2),IF($CJ143=2,VLOOKUP($CH143,'العاملين '!$A$3:$AS$260,44),0))","v":0},{"$f":"IF($CJ143=1,0.5,IF($CJ143=2,VLOOKUP($CH143,'العاملين '!$A$3:$AS$260,45),0))","v":0},{"$f":"IF($CJ143=1,4.5,IF($CJ143=2,VLOOKUP($CH143,'العاملين '!$A$3:$AS$260,46),0))","v":0},{"$f":"IF($CH143>0,VLOOKUP($CH143,'العاملين '!$A$3:$AR$260,29),0)","v":0},{"$f":"IF($CJ143=1,0.2,IF($CJ143=2,VLOOKUP($CH143,'العاملين '!$A$3:$AU$260,47),0))","v":0},{"$f":"IF($CJ143=1,0.05,IF($CJ143=2,VLOOKUP($CH143,'العاملين '!$A$3:$AU$260,47),0))","v":0},{"$f":"IF($CH143>0,VLOOKUP($CH143,'العاملين '!$A$3:$AR$260,30),0)","v":0},{"$f":"IF($CH143>0,VLOOKUP($CH143,'العاملين '!$A$3:$AR$260,31),0)","v":0},null,{"$f":"IF($CH143>0,VLOOKUP($CH143,'العاملين '!$A$3:$AR$260,33),0)","v":0},{"$f":"IF($CH143>0,VLOOKUP($CH143,'العاملين '!$A$3:$AR$260,34),0)","v":0},{"$f":"IF($CH143>0,VLOOKUP($CH143,'العاملين '!$A$3:$AR$260,35),0)","v":0},{"$f":"IF($CH143>0,VLOOKUP($CH143,'العاملين '!$A$3:$AR$260,36),0)","v":0},{"$f":"IF($CH143>0,VLOOKUP($CH143,'العاملين '!$A$3:$AR$260,37),0)","v":0},{"$f":"IF($CH143>0,VLOOKUP($CH143,'العاملين '!$A$3:$AR$260,38),0)","v":0},{"$f":"IF($CH143>0,VLOOKUP($CH143,'العاملين '!$A$3:$AR$260,39),0)","v":0},{"$f":"IF($CH143>0,VLOOKUP($CH143,'العاملين '!$A$3:$AR$260,40),0)","v":0},{"$f":"IF($CH143>0,VLOOKUP($CH143,'العاملين '!$A$3:$AR$260,41),0)","v":0},0,0,0,{"$f":"IF($CH143>0,VLOOKUP($CH143,'العاملين '!$A$3:$AR$260,2),0)","v":0},0,null,{"$f":"IF($CH143>0,VLOOKUP($CH143,'العاملين '!$A$3:$AR$260,3),0)","v":0},{"$f":"IF($CH143>0,VLOOKUP($CH143,'العاملين '!$A$3:$AR$260,43),0)","v":0},0]
[6,{"$f":"IF($CH144>0,VLOOKUP($CH144,'العاملين '!$A$3:$AR$260,8),0)","v":0}," "," "," "," "," ",{"$f":"IF($CH144>0,VLOOKUP($CH144,'العاملين '!$A$3:$AR$260,9),0)","v":0},{"$f":"IF($CH144>0,VLOOKUP($CH144,'العاملين '!$A$3:$AR$260,10),0)","v":0},{"$f":"IF($CH144>0,VLOOKUP($CH144,'العاملين '!$A$3:$AR$260,11),0)","v":0},{"$f":"IF($CH144>0,VLOOKUP($CH144,'العاملين '!$A$3:$AR$260,12),0)","v":0},{"$f":"IF($CH144>0,VLOOKUP($CH144,'العاملين '!$A$3:$AR$260,13),0)","v":0},0,{"$f":"IF($CH144>0,VLOOKUP($CH144,'العاملين '!$A$3:$AR$260,14),0)","v":0},{"$f":"IF($CH144>0,VLOOKUP($CH144,'العاملين '!$A$3:$AR$260,15),0)","v":0},{"$f":"IF($CH144>0,VLOOKUP($CH144,'العاملين '!$A$3:$AR$260,16),0)","v":0},{"$f":"IF($CH144>0,VLOOKUP($CH144,'العاملين '!$A$3:$AR$260,17),0)","v":0},{"$f":"IF($CH144>0,VLOOKUP($CH144,'العاملين '!$A$3:$AR$260,18),0)","v":0},{"$f":"IF($CH144>0,VLOOKUP($CH144,'العاملين '!$A$3:$AR$260,19),0)","v":0},{"$f":"IF($CH144>0,VLOOKUP($CH144,'العاملين '!$A$3:$AR$260,20),0)","v":0},{"$f":"IF($CH144>0,VLOOKUP($CH144,'العاملين '!$A$3:$AR$260,21),0)","v":0},{"$f":"IF($CH144>0,VLOOKUP($CH144,'العاملين '!$A$3:$AR$260,22),0)","v":0},{"$f":"IF($CH144>0,VLOOKUP($CH144,'العاملين '!$A$3:$AR$260,23),0)","v":0},{"$f":"IF($CH144>0,VLOOKUP($CH144,'العاملين '!$A$3:$AR$260,24),0)","v":0},{"$f":"IF($CH144>0,VLOOKUP($CH144,'العاملين '!$A$3:$AR$260,26),0)","v":0},null,null,null,null,null,null,null,null,null,null,null,null,null,null,{"$f":"IF($CH144>0,VLOOKUP($CH144,'العاملين '!$A$3:$AR$260,25),0)","v":0},0,0,0,0,0,0,0,"",{"$f":"IF($CH144>0,VLOOKUP($CH144,'العاملين '!$A$3:$AR$260,28),0)","v":0},0," "," "," ",null," "," "," "," ",0,0,0,0,0,{"$f":"IF($CJ144=1,ROUND(($B144)*7%,2),IF($CJ144=2,VLOOKUP($CH144,'العاملين '!$A$3:$AS$260,44),0))","v":0},{"$f":"IF($CJ144=1,0.5,IF($CJ144=2,VLOOKUP($CH144,'العاملين '!$A$3:$AS$260,45),0))","v":0},{"$f":"IF($CJ144=1,4.5,IF($CJ144=2,VLOOKUP($CH144,'العاملين '!$A$3:$AS$260,46),0))","v":0},{"$f":"IF($CH144>0,VLOOKUP($CH144,'العاملين '!$A$3:$AR$260,29),0)","v":0},{"$f":"IF($CJ144=1,0.2,IF($CJ144=2,VLOOKUP($CH144,'العاملين '!$A$3:$AU$260,47),0))","v":0},{"$f":"IF($CJ144=1,0.05,IF($CJ144=2,VLOOKUP($CH144,'العاملين '!$A$3:$AU$260,47),0))","v":0},{"$f":"IF($CH144>0,VLOOKUP($CH144,'العاملين '!$A$3:$AR$260,30),0)","v":0},{"$f":"IF($CH144>0,VLOOKUP($CH144,'العاملين '!$A$3:$AR$260,31),0)","v":0},null,{"$f":"IF($CH144>0,VLOOKUP($CH144,'العاملين '!$A$3:$AR$260,33),0)","v":0},{"$f":"IF($CH144>0,VLOOKUP($CH144,'العاملين '!$A$3:$AR$260,34),0)","v":0},{"$f":"IF($CH144>0,VLOOKUP($CH144,'العاملين '!$A$3:$AR$260,35),0)","v":0},{"$f":"IF($CH144>0,VLOOKUP($CH144,'العاملين '!$A$3:$AR$260,36),0)","v":0},{"$f":"IF($CH144>0,VLOOKUP($CH144,'العاملين '!$A$3:$AR$260,37),0)","v":0},{"$f":"IF($CH144>0,VLOOKUP($CH144,'العاملين '!$A$3:$AR$260,38),0)","v":0},{"$f":"IF($CH144>0,VLOOKUP($CH144,'العاملين '!$A$3:$AR$260,39),0)","v":0},{"$f":"IF($CH144>0,VLOOKUP($CH144,'العاملين '!$A$3:$AR$260,40),0)","v":0},{"$f":"IF($CH144>0,VLOOKUP($CH144,'العاملين '!$A$3:$AR$260,41),0)","v":0},0,0,0,{"$f":"IF($CH144>0,VLOOKUP($CH144,'العاملين '!$A$3:$AR$260,2),0)","v":0},0,null,{"$f":"IF($CH144>0,VLOOKUP($CH144,'العاملين '!$A$3:$AR$260,3),0)","v":0},{"$f":"IF($CH144>0,VLOOKUP($CH144,'العاملين '!$A$3:$AR$260,43),0)","v":0},0]
[7,{"$f":"IF($CH145>0,VLOOKUP($CH145,'العاملين '!$A$3:$AR$260,8),0)","v":0},{"$f":"IF($B145>0,ROUND(($B145)*15%,2),\" \")","v":" "},{"$f":"IF($B145>0,ROUND(($B145)*1%,2),\" \")","v":" "},{"$f":"IF($B145>0,ROUND(($B145)*2%,2),\" \")","v":" "},{"$f":"IF($B145>0,ROUND(($B145)*3%,2),\" \")","v":" "},{"$f":"IF($B145>0,SUM(B145:F145),\" \")","v":" "},{"$f":"IF($CH145>0,VLOOKUP($CH145,'العاملين '!$A$3:$AR$260,9),0)","v":0},{"$f":"IF($CH145>0,VLOOKUP($CH145,'العاملين '!$A$3:$AR$260,10),0)","v":0},{"$f":"IF($CH145>0,VLOOKUP($CH145,'العاملين '!$A$3:$AR$260,11),0)","v":0},{"$f":"IF($CH145>0,VLOOKUP($CH145,'العاملين '!$A$3:$AR$260,12),0)","v":0},{"$f":"IF($CH145>0,VLOOKUP($CH145,'العاملين '!$A$3:$AR$260,13),0)","v":0},{"$f":"IF($B145>0,SUM(H145:L145),0)","v":0},{"$f":"IF($CH145>0,VLOOKUP($CH145,'العاملين '!$A$3:$AR$260,14),0)","v":0},{"$f":"IF($CH145>0,VLOOKUP($CH145,'العاملين '!$A$3:$AR$260,15),0)","v":0},{"$f":"IF($CH145>0,VLOOKUP($CH145,'العاملين '!$A$3:$AR$260,16),0)","v":0},{"$f":"IF($CH145>0,VLOOKUP($CH145,'العاملين '!$A$3:$AR$260,17),0)","v":0},{"$f":"IF($CH145>0,VLOOKUP($CH145,'العاملين '!$A$3:$AR$260,18),0)","v":0},{"$f":"IF($CH145>0,VLOOKUP($CH145,'العاملين '!$A$3:$AR$260,19),0)","v":0},{"$f":"IF($CH145>0,VLOOKUP($CH145,'العاملين '!$A$3:$AR$260,20),0)","v":0},{"$f":"IF($CH145>0,VLOOKUP($CH145,'العاملين '!$A$3:$AR$260,21),0)","v":0},{"$f":"IF($CH145>0,VLOOKUP($CH145,'العاملين '!$A$3:$AR$260,22),0)","v":0},{"$f":"IF($CH145>0,VLOOKUP($CH145,'العاملين '!$A$3:$AR$260,23),0)","v":0},{"$f":"IF($CH145>0,VLOOKUP($CH145,'العاملين '!$A$3:$AR$260,24),0)","v":0},{"$f":"IF($CH145>0,VLOOKUP($CH145,'العاملين '!$A$3:$AR$260,26),0)","v":0},null,null,null,null,null,null,null,null,null,null,null,null,null,null,{"$f":"IF($CH145>0,VLOOKUP($CH145,'العاملين '!$A$3:$AR$260,25),0)","v":0},{"$f":"SUM(M145:AN145)","v":0},{"$f":"IF(AO145>$AP$4,$AP$4,AO145)","v":0},{"$f":"AO145-AP145","v":0},{"$f":"ROUND(($AP145)*15%,2)","v":0},{"$f":"ROUND(($AP145)*1%,2)","v":0},{"$f":"ROUND(($AP145)*3%,2)","v":0},{"$f":"SUM(AR145:AT145)","v":0},{"$f":"IF(B145>0,10,\"\")","v":""},{"$f":"IF($CH145>0,VLOOKUP($CH145,'العاملين '!$A$3:$AR$260,28),0)","v":0},{"$f":"SUM(AV145,AU145,AO145,G145,AW145)","v":0},{"$f":"IF($B145>0,ROUND(($B145)*15%,2),\" \")","v":" "},{"$f":"IF($B145>0,ROUND(($B145)*1%,2),\" \")","v":" "},{"$f":"IF($B145>0,ROUND(($B145)*2%,2),\" \")","v":" "},null,{"$f":"IF($B145>0,ROUND(($B145)*10%,2),\" \")","v":" "},{"$f":"IF($B145>0,ROUND(($B145)*8%,2),\" \")","v":" "},{"$f":"IF($B145>0,ROUND(($B145)*3%,2),\" \")","v":" "},{"$f":"IF($B145>0,ROUND(($B145)*1%,2),\" \")","v":" "},{"$f":"AR145","v":0},{"$f":"AS145","v":0},{"$f":"ROUND(($AP145)*10%,2)","v":0},{"$f":"AT145","v":0},{"$f":"AS145","v":0},{"$f":"IF($CJ145=1,ROUND(($B145)*7%,2),IF($CJ145=2,VLOOKUP($CH145,'العاملين '!$A$3:$AS$260,44),0))","v":0},{"$f":"IF($CJ145=1,0.5,IF($CJ145=2,VLOOKUP($CH145,'العاملين '!$A$3:$AS$260,45),0))","v":0},{"$f":"IF($CJ145=1,4.5,IF($CJ145=2,VLOOKUP($CH145,'العاملين '!$A$3:$AS$260,46),0))","v":0},{"$f":"IF($CH145>0,VLOOKUP($CH145,'العاملين '!$A$3:$AR$260,29),0)","v":0},{"$f":"IF($CJ145=1,0.2,IF($CJ145=2,VLOOKUP($CH145,'العاملين '!$A$3:$AU$260,47),0))","v":0},{"$f":"IF($CJ145=1,0.05,IF($CJ145=2,VLOOKUP($CH145,'العاملين '!$A$3:$AU$260,47),0))","v":0},{"$f":"IF($CH145>0,VLOOKUP($CH145,'العاملين '!$A$3:$AR$260,30),0)","v":0},{"$f":"IF($CH145>0,VLOOKUP($CH145,'العاملين '!$A$3:$AR$260,31),0)","v":0},null,{"$f":"IF($CH145>0,VLOOKUP($CH145,'العاملين '!$A$3:$AR$260,33),0)","v":0},{"$f":"IF($CH145>0,VLOOKUP($CH145,'العاملين '!$A$3:$AR$260,34),0)","v":0},{"$f":"IF($CH145>0,VLOOKUP($CH145,'العاملين '!$A$3:$AR$260,35),0)","v":0},{"$f":"IF($CH145>0,VLOOKUP($CH145,'العاملين '!$A$3:$AR$260,36),0)","v":0},{"$f":"IF($CH145>0,VLOOKUP($CH145,'العاملين '!$A$3:$AR$260,37),0)","v":0},{"$f":"IF($CH145>0,VLOOKUP($CH145,'العاملين '!$A$3:$AR$260,38),0)","v":0},{"$f":"IF($CH145>0,VLOOKUP($CH145,'العاملين '!$A$3:$AR$260,39),0)","v":0},{"$f":"IF($CH145>0,VLOOKUP($CH145,'العاملين '!$A$3:$AR$260,40),0)","v":0},{"$f":"IF($CH145>0,VLOOKUP($CH145,'العاملين '!$A$3:$AR$260,41),0)","v":0},{"$f":"CL145-CF145","v":0},{"$f":"SUM(AY145:CD145)","v":0},{"$f":"FLOOR(CL145,0.05)","v":0},{"$f":"IF($CH145>0,VLOOKUP($CH145,'العاملين '!$A$3:$AR$260,2),0)","v":0},0,null,{"$f":"IF($CH145>0,VLOOKUP($CH145,'العاملين '!$A$3:$AR$260,3),0)","v":0},{"$f":"IF($CH145>0,VLOOKUP($CH145,'العاملين '!$A$3:$AR$260,43),0)","v":0},0]
[8,{"$f":"IF($CH146>0,VLOOKUP($CH146,'العاملين '!$A$3:$AR$260,8),0)","v":0},{"$f":"IF($B146>0,ROUND(($B146)*15%,2),\" \")","v":" "},{"$f":"IF($B146>0,ROUND(($B146)*1%,2),\" \")","v":" "},{"$f":"IF($B146>0,ROUND(($B146)*2%,2),\" \")","v":" "},{"$f":"IF($B146>0,ROUND(($B146)*3%,2),\" \")","v":" "},{"$f":"IF($B146>0,SUM(B146:F146),\" \")","v":" "},{"$f":"IF($CH146>0,VLOOKUP($CH146,'العاملين '!$A$3:$AR$260,9),0)","v":0},{"$f":"IF($CH146>0,VLOOKUP($CH146,'العاملين '!$A$3:$AR$260,10),0)","v":0},{"$f":"IF($CH146>0,VLOOKUP($CH146,'العاملين '!$A$3:$AR$260,11),0)","v":0},{"$f":"IF($CH146>0,VLOOKUP($CH146,'العاملين '!$A$3:$AR$260,12),0)","v":0},{"$f":"IF($CH146>0,VLOOKUP($CH146,'العاملين '!$A$3:$AR$260,13),0)","v":0},{"$f":"IF($B146>0,SUM(H146:L146),0)","v":0},{"$f":"IF($CH146>0,VLOOKUP($CH146,'العاملين '!$A$3:$AR$260,14),0)","v":0},{"$f":"IF($CH146>0,VLOOKUP($CH146,'العاملين '!$A$3:$AR$260,15),0)","v":0},{"$f":"IF($CH146>0,VLOOKUP($CH146,'العاملين '!$A$3:$AR$260,16),0)","v":0},{"$f":"IF($CH146>0,VLOOKUP($CH146,'العاملين '!$A$3:$AR$260,17),0)","v":0},{"$f":"IF($CH146>0,VLOOKUP($CH146,'العاملين '!$A$3:$AR$260,18),0)","v":0},{"$f":"IF($CH146>0,VLOOKUP($CH146,'العاملين '!$A$3:$AR$260,19),0)","v":0},{"$f":"IF($CH146>0,VLOOKUP($CH146,'العاملين '!$A$3:$AR$260,20),0)","v":0},{"$f":"IF($CH146>0,VLOOKUP($CH146,'العاملين '!$A$3:$AR$260,21),0)","v":0},{"$f":"IF($CH146>0,VLOOKUP($CH146,'العاملين '!$A$3:$AR$260,22),0)","v":0},{"$f":"IF($CH146>0,VLOOKUP($CH146,'العاملين '!$A$3:$AR$260,23),0)","v":0},{"$f":"IF($CH146>0,VLOOKUP($CH146,'العاملين '!$A$3:$AR$260,24),0)","v":0},{"$f":"IF($CH146>0,VLOOKUP($CH146,'العاملين '!$A$3:$AR$260,26),0)","v":0},null,null,null,null,null,null,null,null,null,null,null,null,null,null,{"$f":"IF($CH146>0,VLOOKUP($CH146,'العاملين '!$A$3:$AR$260,25),0)","v":0},{"$f":"SUM(M146:AN146)","v":0},{"$f":"IF(AO146>$AP$4,$AP$4,AO146)","v":0},{"$f":"AO146-AP146","v":0},{"$f":"ROUND(($AP146)*15%,2)","v":0},{"$f":"ROUND(($AP146)*1%,2)","v":0},{"$f":"ROUND(($AP146)*3%,2)","v":0},{"$f":"SUM(AR146:AT146)","v":0},{"$f":"IF(B146>0,10,\"\")","v":""},{"$f":"IF($CH146>0,VLOOKUP($CH146,'العاملين '!$A$3:$AR$260,28),0)","v":0},{"$f":"SUM(AV146,AU146,AO146,G146,AW146)","v":0},{"$f":"IF($B146>0,ROUND(($B146)*15%,2),\" \")","v":" "},{"$f":"IF($B146>0,ROUND(($B146)*1%,2),\" \")","v":" "},{"$f":"IF($B146>0,ROUND(($B146)*2%,2),\" \")","v":" "},null,{"$f":"IF($B146>0,ROUND(($B146)*10%,2),\" \")","v":" "},{"$f":"IF($B146>0,ROUND(($B146)*8%,2),\" \")","v":" "},{"$f":"IF($B146>0,ROUND(($B146)*3%,2),\" \")","v":" "},{"$f":"IF($B146>0,ROUND(($B146)*1%,2),\" \")","v":" "},{"$f":"AR146","v":0},{"$f":"AS146","v":0},{"$f":"ROUND(($AP146)*10%,2)","v":0},{"$f":"AT146","v":0},{"$f":"AS146","v":0},{"$f":"IF($CJ146=1,ROUND(($B146)*7%,2),IF($CJ146=2,VLOOKUP($CH146,'العاملين '!$A$3:$AS$260,44),0))","v":0},{"$f":"IF($CJ146=1,0.5,IF($CJ146=2,VLOOKUP($CH146,'العاملين '!$A$3:$AS$260,45),0))","v":0},{"$f":"IF($CJ146=1,4.5,IF($CJ146=2,VLOOKUP($CH146,'العاملين '!$A$3:$AS$260,46),0))","v":0},{"$f":"IF($CH146>0,VLOOKUP($CH146,'العاملين '!$A$3:$AR$260,29),0)","v":0},{"$f":"IF($CJ146=1,0.2,IF($CJ146=2,VLOOKUP($CH146,'العاملين '!$A$3:$AU$260,47),0))","v":0},{"$f":"IF($CJ146=1,0.05,IF($CJ146=2,VLOOKUP($CH146,'العاملين '!$A$3:$AU$260,47),0))","v":0},{"$f":"IF($CH146>0,VLOOKUP($CH146,'العاملين '!$A$3:$AR$260,30),0)","v":0},{"$f":"IF($CH146>0,VLOOKUP($CH146,'العاملين '!$A$3:$AR$260,31),0)","v":0},null,{"$f":"IF($CH146>0,VLOOKUP($CH146,'العاملين '!$A$3:$AR$260,33),0)","v":0},{"$f":"IF($CH146>0,VLOOKUP($CH146,'العاملين '!$A$3:$AR$260,34),0)","v":0},{"$f":"IF($CH146>0,VLOOKUP($CH146,'العاملين '!$A$3:$AR$260,35),0)","v":0},{"$f":"IF($CH146>0,VLOOKUP($CH146,'العاملين '!$A$3:$AR$260,36),0)","v":0},{"$f":"IF($CH146>0,VLOOKUP($CH146,'العاملين '!$A$3:$AR$260,37),0)","v":0},{"$f":"IF($CH146>0,VLOOKUP($CH146,'العاملين '!$A$3:$AR$260,38),0)","v":0},{"$f":"IF($CH146>0,VLOOKUP($CH146,'العاملين '!$A$3:$AR$260,39),0)","v":0},{"$f":"IF($CH146>0,VLOOKUP($CH146,'العاملين '!$A$3:$AR$260,40),0)","v":0},{"$f":"IF($CH146>0,VLOOKUP($CH146,'العاملين '!$A$3:$AR$260,41),0)","v":0},{"$f":"CL146-CF146","v":0},{"$f":"SUM(AY146:CD146)","v":0},{"$f":"FLOOR(CL146,0.05)","v":0},{"$f":"IF($CH146>0,VLOOKUP($CH146,'العاملين '!$A$3:$AR$260,2),0)","v":0},0,null,{"$f":"IF($CH146>0,VLOOKUP($CH146,'العاملين '!$A$3:$AR$260,3),0)","v":0},{"$f":"IF($CH146>0,VLOOKUP($CH146,'العاملين '!$A$3:$AR$260,43),0)","v":0},0]
[9,{"$f":"IF($CH147>0,VLOOKUP($CH147,'العاملين '!$A$3:$AR$260,8),0)","v":0},{"$f":"IF($B147>0,ROUND(($B147)*15%,2),\" \")","v":" "},{"$f":"IF($B147>0,ROUND(($B147)*1%,2),\" \")","v":" "},{"$f":"IF($B147>0,ROUND(($B147)*2%,2),\" \")","v":" "},{"$f":"IF($B147>0,ROUND(($B147)*3%,2),\" \")","v":" "},{"$f":"IF($B147>0,SUM(B147:F147),\" \")","v":" "},{"$f":"IF($CH147>0,VLOOKUP($CH147,'العاملين '!$A$3:$AR$260,9),0)","v":0},{"$f":"IF($CH147>0,VLOOKUP($CH147,'العاملين '!$A$3:$AR$260,10),0)","v":0},{"$f":"IF($CH147>0,VLOOKUP($CH147,'العاملين '!$A$3:$AR$260,11),0)","v":0},{"$f":"IF($CH147>0,VLOOKUP($CH147,'العاملين '!$A$3:$AR$260,12),0)","v":0},{"$f":"IF($CH147>0,VLOOKUP($CH147,'العاملين '!$A$3:$AR$260,13),0)","v":0},{"$f":"IF($B147>0,SUM(H147:L147),0)","v":0},{"$f":"IF($CH147>0,VLOOKUP($CH147,'العاملين '!$A$3:$AR$260,14),0)","v":0},{"$f":"IF($CH147>0,VLOOKUP($CH147,'العاملين '!$A$3:$AR$260,15),0)","v":0},{"$f":"IF($CH147>0,VLOOKUP($CH147,'العاملين '!$A$3:$AR$260,16),0)","v":0},{"$f":"IF($CH147>0,VLOOKUP($CH147,'العاملين '!$A$3:$AR$260,17),0)","v":0},{"$f":"IF($CH147>0,VLOOKUP($CH147,'العاملين '!$A$3:$AR$260,18),0)","v":0},{"$f":"IF($CH147>0,VLOOKUP($CH147,'العاملين '!$A$3:$AR$260,19),0)","v":0},{"$f":"IF($CH147>0,VLOOKUP($CH147,'العاملين '!$A$3:$AR$260,20),0)","v":0},{"$f":"IF($CH147>0,VLOOKUP($CH147,'العاملين '!$A$3:$AR$260,21),0)","v":0},{"$f":"IF($CH147>0,VLOOKUP($CH147,'العاملين '!$A$3:$AR$260,22),0)","v":0},{"$f":"IF($CH147>0,VLOOKUP($CH147,'العاملين '!$A$3:$AR$260,23),0)","v":0},{"$f":"IF($CH147>0,VLOOKUP($CH147,'العاملين '!$A$3:$AR$260,24),0)","v":0},{"$f":"IF($CH147>0,VLOOKUP($CH147,'العاملين '!$A$3:$AR$260,26),0)","v":0},null,null,null,null,null,null,null,null,null,null,null,null,null,null,{"$f":"IF($CH147>0,VLOOKUP($CH147,'العاملين '!$A$3:$AR$260,25),0)","v":0},{"$f":"SUM(M147:AN147)","v":0},{"$f":"IF(AO147>$AP$4,$AP$4,AO147)","v":0},{"$f":"AO147-AP147","v":0},{"$f":"ROUND(($AP147)*15%,2)","v":0},{"$f":"ROUND(($AP147)*1%,2)","v":0},{"$f":"ROUND(($AP147)*3%,2)","v":0},{"$f":"SUM(AR147:AT147)","v":0},{"$f":"IF(B147>0,10,\"\")","v":""},{"$f":"IF($CH147>0,VLOOKUP($CH147,'العاملين '!$A$3:$AR$260,28),0)","v":0},{"$f":"SUM(AV147,AU147,AO147,G147,AW147)","v":0},{"$f":"IF($B147>0,ROUND(($B147)*15%,2),\" \")","v":" "},{"$f":"IF($B147>0,ROUND(($B147)*1%,2),\" \")","v":" "},{"$f":"IF($B147>0,ROUND(($B147)*2%,2),\" \")","v":" "},null,{"$f":"IF($B147>0,ROUND(($B147)*10%,2),\" \")","v":" "},{"$f":"IF($B147>0,ROUND(($B147)*8%,2),\" \")","v":" "},{"$f":"IF($B147>0,ROUND(($B147)*3%,2),\" \")","v":" "},{"$f":"IF($B147>0,ROUND(($B147)*1%,2),\" \")","v":" "},{"$f":"AR147","v":0},0,{"$f":"ROUND(($AP147)*10%,2)","v":0},{"$f":"AT147","v":0},{"$f":"AS147","v":0},{"$f":"IF($CJ147=1,ROUND(($B147)*7%,2),IF($CJ147=2,VLOOKUP($CH147,'العاملين '!$A$3:$AS$260,44),0))","v":0},{"$f":"IF($CJ147=1,0.5,IF($CJ147=2,VLOOKUP($CH147,'العاملين '!$A$3:$AS$260,45),0))","v":0},{"$f":"IF($CJ147=1,4.5,IF($CJ147=2,VLOOKUP($CH147,'العاملين '!$A$3:$AS$260,46),0))","v":0},{"$f":"IF($CH147>0,VLOOKUP($CH147,'العاملين '!$A$3:$AR$260,29),0)","v":0},{"$f":"IF($CJ147=1,0.2,IF($CJ147=2,VLOOKUP($CH147,'العاملين '!$A$3:$AU$260,47),0))","v":0},{"$f":"IF($CJ147=1,0.05,IF($CJ147=2,VLOOKUP($CH147,'العاملين '!$A$3:$AU$260,47),0))","v":0},{"$f":"IF($CH147>0,VLOOKUP($CH147,'العاملين '!$A$3:$AR$260,30),0)","v":0},{"$f":"IF($CH147>0,VLOOKUP($CH147,'العاملين '!$A$3:$AR$260,31),0)","v":0},null,{"$f":"IF($CH147>0,VLOOKUP($CH147,'العاملين '!$A$3:$AR$260,33),0)","v":0},{"$f":"IF($CH147>0,VLOOKUP($CH147,'العاملين '!$A$3:$AR$260,34),0)","v":0},{"$f":"IF($CH147>0,VLOOKUP($CH147,'العاملين '!$A$3:$AR$260,35),0)","v":0},{"$f":"IF($CH147>0,VLOOKUP($CH147,'العاملين '!$A$3:$AR$260,36),0)","v":0},{"$f":"IF($CH147>0,VLOOKUP($CH147,'العاملين '!$A$3:$AR$260,37),0)","v":0},{"$f":"IF($CH147>0,VLOOKUP($CH147,'العاملين '!$A$3:$AR$260,38),0)","v":0},{"$f":"IF($CH147>0,VLOOKUP($CH147,'العاملين '!$A$3:$AR$260,39),0)","v":0},{"$f":"IF($CH147>0,VLOOKUP($CH147,'العاملين '!$A$3:$AR$260,40),0)","v":0},{"$f":"IF($CH147>0,VLOOKUP($CH147,'العاملين '!$A$3:$AR$260,41),0)","v":0},{"$f":"CL147-CF147","v":0},{"$f":"SUM(AY147:CD147)","v":0},{"$f":"FLOOR(CL147,0.05)","v":0},{"$f":"IF($CH147>0,VLOOKUP($CH147,'العاملين '!$A$3:$AR$260,2),0)","v":0},0,null,{"$f":"IF($CH147>0,VLOOKUP($CH147,'العاملين '!$A$3:$AR$260,3),0)","v":0},{"$f":"IF($CH147>0,VLOOKUP($CH147,'العاملين '!$A$3:$AR$260,43),0)","v":0},0]
[10,{"$f":"IF($CH148>0,VLOOKUP($CH148,'العاملين '!$A$3:$AR$260,8),0)","v":0}," "," "," "," "," ",{"$f":"IF($CH148>0,VLOOKUP($CH148,'العاملين '!$A$3:$AR$260,9),0)","v":0},{"$f":"IF($CH148>0,VLOOKUP($CH148,'العاملين '!$A$3:$AR$260,10),0)","v":0},{"$f":"IF($CH148>0,VLOOKUP($CH148,'العاملين '!$A$3:$AR$260,11),0)","v":0},{"$f":"IF($CH148>0,VLOOKUP($CH148,'العاملين '!$A$3:$AR$260,12),0)","v":0},{"$f":"IF($CH148>0,VLOOKUP($CH148,'العاملين '!$A$3:$AR$260,13),0)","v":0},0,{"$f":"IF($CH148>0,VLOOKUP($CH148,'العاملين '!$A$3:$AR$260,14),0)","v":0},{"$f":"IF($CH148>0,VLOOKUP($CH148,'العاملين '!$A$3:$AR$260,15),0)","v":0},{"$f":"IF($CH148>0,VLOOKUP($CH148,'العاملين '!$A$3:$AR$260,16),0)","v":0},{"$f":"IF($CH148>0,VLOOKUP($CH148,'العاملين '!$A$3:$AR$260,17),0)","v":0},{"$f":"IF($CH148>0,VLOOKUP($CH148,'العاملين '!$A$3:$AR$260,18),0)","v":0},{"$f":"IF($CH148>0,VLOOKUP($CH148,'العاملين '!$A$3:$AR$260,19),0)","v":0},{"$f":"IF($CH148>0,VLOOKUP($CH148,'العاملين '!$A$3:$AR$260,20),0)","v":0},{"$f":"IF($CH148>0,VLOOKUP($CH148,'العاملين '!$A$3:$AR$260,21),0)","v":0},{"$f":"IF($CH148>0,VLOOKUP($CH148,'العاملين '!$A$3:$AR$260,22),0)","v":0},{"$f":"IF($CH148>0,VLOOKUP($CH148,'العاملين '!$A$3:$AR$260,23),0)","v":0},{"$f":"IF($CH148>0,VLOOKUP($CH148,'العاملين '!$A$3:$AR$260,24),0)","v":0},{"$f":"IF($CH148>0,VLOOKUP($CH148,'العاملين '!$A$3:$AR$260,26),0)","v":0},null,null,null,null,null,null,null,null,null,null,null,null,null,null,{"$f":"IF($CH148>0,VLOOKUP($CH148,'العاملين '!$A$3:$AR$260,25),0)","v":0},0,0,0,0,0,0,0,"",{"$f":"IF($CH148>0,VLOOKUP($CH148,'العاملين '!$A$3:$AR$260,28),0)","v":0},0," "," "," ",null," "," "," "," ",0,0,0,0,0,{"$f":"IF($CJ148=1,ROUND(($B148)*7%,2),IF($CJ148=2,VLOOKUP($CH148,'العاملين '!$A$3:$AS$260,44),0))","v":0},{"$f":"IF($CJ148=1,0.5,IF($CJ148=2,VLOOKUP($CH148,'العاملين '!$A$3:$AS$260,45),0))","v":0},{"$f":"IF($CJ148=1,4.5,IF($CJ148=2,VLOOKUP($CH148,'العاملين '!$A$3:$AS$260,46),0))","v":0},{"$f":"IF($CH148>0,VLOOKUP($CH148,'العاملين '!$A$3:$AR$260,29),0)","v":0},{"$f":"IF($CJ148=1,0.2,IF($CJ148=2,VLOOKUP($CH148,'العاملين '!$A$3:$AU$260,47),0))","v":0},{"$f":"IF($CJ148=1,0.05,IF($CJ148=2,VLOOKUP($CH148,'العاملين '!$A$3:$AU$260,47),0))","v":0},{"$f":"IF($CH148>0,VLOOKUP($CH148,'العاملين '!$A$3:$AR$260,30),0)","v":0},{"$f":"IF($CH148>0,VLOOKUP($CH148,'العاملين '!$A$3:$AR$260,31),0)","v":0},null,{"$f":"IF($CH148>0,VLOOKUP($CH148,'العاملين '!$A$3:$AR$260,33),0)","v":0},{"$f":"IF($CH148>0,VLOOKUP($CH148,'العاملين '!$A$3:$AR$260,34),0)","v":0},{"$f":"IF($CH148>0,VLOOKUP($CH148,'العاملين '!$A$3:$AR$260,35),0)","v":0},{"$f":"IF($CH148>0,VLOOKUP($CH148,'العاملين '!$A$3:$AR$260,36),0)","v":0},{"$f":"IF($CH148>0,VLOOKUP($CH148,'العاملين '!$A$3:$AR$260,37),0)","v":0},{"$f":"IF($CH148>0,VLOOKUP($CH148,'العاملين '!$A$3:$AR$260,38),0)","v":0},{"$f":"IF($CH148>0,VLOOKUP($CH148,'العاملين '!$A$3:$AR$260,39),0)","v":0},{"$f":"IF($CH148>0,VLOOKUP($CH148,'العاملين '!$A$3:$AR$260,40),0)","v":0},{"$f":"IF($CH148>0,VLOOKUP($CH148,'العاملين '!$A$3:$AR$260,41),0)","v":0},0,0,0,{"$f":"IF($CH148>0,VLOOKUP($CH148,'العاملين '!$A$3:$AR$260,2),0)","v":0},0,null,{"$f":"IF($CH148>0,VLOOKUP($CH148,'العاملين '!$A$3:$AR$260,3),0)","v":0},{"$f":"IF($CH148>0,VLOOKUP($CH148,'العاملين '!$A$3:$AR$260,43),0)","v":0},0]
[11,{"$f":"IF($CH149>0,VLOOKUP($CH149,'العاملين '!$A$3:$AR$260,8),0)","v":0}," "," "," "," "," ",{"$f":"IF($CH149>0,VLOOKUP($CH149,'العاملين '!$A$3:$AR$260,9),0)","v":0},{"$f":"IF($CH149>0,VLOOKUP($CH149,'العاملين '!$A$3:$AR$260,10),0)","v":0},{"$f":"IF($CH149>0,VLOOKUP($CH149,'العاملين '!$A$3:$AR$260,11),0)","v":0},{"$f":"IF($CH149>0,VLOOKUP($CH149,'العاملين '!$A$3:$AR$260,12),0)","v":0},{"$f":"IF($CH149>0,VLOOKUP($CH149,'العاملين '!$A$3:$AR$260,13),0)","v":0},0,{"$f":"IF($CH149>0,VLOOKUP($CH149,'العاملين '!$A$3:$AR$260,14),0)","v":0},{"$f":"IF($CH149>0,VLOOKUP($CH149,'العاملين '!$A$3:$AR$260,15),0)","v":0},{"$f":"IF($CH149>0,VLOOKUP($CH149,'العاملين '!$A$3:$AR$260,16),0)","v":0},{"$f":"IF($CH149>0,VLOOKUP($CH149,'العاملين '!$A$3:$AR$260,17),0)","v":0},{"$f":"IF($CH149>0,VLOOKUP($CH149,'العاملين '!$A$3:$AR$260,18),0)","v":0},{"$f":"IF($CH149>0,VLOOKUP($CH149,'العاملين '!$A$3:$AR$260,19),0)","v":0},{"$f":"IF($CH149>0,VLOOKUP($CH149,'العاملين '!$A$3:$AR$260,20),0)","v":0},{"$f":"IF($CH149>0,VLOOKUP($CH149,'العاملين '!$A$3:$AR$260,21),0)","v":0},{"$f":"IF($CH149>0,VLOOKUP($CH149,'العاملين '!$A$3:$AR$260,22),0)","v":0},{"$f":"IF($CH149>0,VLOOKUP($CH149,'العاملين '!$A$3:$AR$260,23),0)","v":0},{"$f":"IF($CH149>0,VLOOKUP($CH149,'العاملين '!$A$3:$AR$260,24),0)","v":0},{"$f":"IF($CH149>0,VLOOKUP($CH149,'العاملين '!$A$3:$AR$260,26),0)","v":0},null,null,null,null,null,null,null,null,null,null,null,null,null,null,{"$f":"IF($CH149>0,VLOOKUP($CH149,'العاملين '!$A$3:$AR$260,25),0)","v":0},0,0,0,0,0,0,0,"",{"$f":"IF($CH149>0,VLOOKUP($CH149,'العاملين '!$A$3:$AR$260,28),0)","v":0},0," "," "," ",null," "," "," "," ",0,0,0,0,0,{"$f":"IF($CJ149=1,ROUND(($B149)*7%,2),IF($CJ149=2,VLOOKUP($CH149,'العاملين '!$A$3:$AS$260,44),0))","v":0},{"$f":"IF($CJ149=1,0.5,IF($CJ149=2,VLOOKUP($CH149,'العاملين '!$A$3:$AS$260,45),0))","v":0},{"$f":"IF($CJ149=1,4.5,IF($CJ149=2,VLOOKUP($CH149,'العاملين '!$A$3:$AS$260,46),0))","v":0},{"$f":"IF($CH149>0,VLOOKUP($CH149,'العاملين '!$A$3:$AR$260,29),0)","v":0},{"$f":"IF($CJ149=1,0.2,IF($CJ149=2,VLOOKUP($CH149,'العاملين '!$A$3:$AU$260,47),0))","v":0},{"$f":"IF($CJ149=1,0.05,IF($CJ149=2,VLOOKUP($CH149,'العاملين '!$A$3:$AU$260,47),0))","v":0},{"$f":"IF($CH149>0,VLOOKUP($CH149,'العاملين '!$A$3:$AR$260,30),0)","v":0},{"$f":"IF($CH149>0,VLOOKUP($CH149,'العاملين '!$A$3:$AR$260,31),0)","v":0},null,{"$f":"IF($CH149>0,VLOOKUP($CH149,'العاملين '!$A$3:$AR$260,33),0)","v":0},{"$f":"IF($CH149>0,VLOOKUP($CH149,'العاملين '!$A$3:$AR$260,34),0)","v":0},{"$f":"IF($CH149>0,VLOOKUP($CH149,'العاملين '!$A$3:$AR$260,35),0)","v":0},{"$f":"IF($CH149>0,VLOOKUP($CH149,'العاملين '!$A$3:$AR$260,36),0)","v":0},{"$f":"IF($CH149>0,VLOOKUP($CH149,'العاملين '!$A$3:$AR$260,37),0)","v":0},{"$f":"IF($CH149>0,VLOOKUP($CH149,'العاملين '!$A$3:$AR$260,38),0)","v":0},{"$f":"IF($CH149>0,VLOOKUP($CH149,'العاملين '!$A$3:$AR$260,39),0)","v":0},{"$f":"IF($CH149>0,VLOOKUP($CH149,'العاملين '!$A$3:$AR$260,40),0)","v":0},{"$f":"IF($CH149>0,VLOOKUP($CH149,'العاملين '!$A$3:$AR$260,41),0)","v":0},0,0,0,{"$f":"IF($CH149>0,VLOOKUP($CH149,'العاملين '!$A$3:$AR$260,2),0)","v":0},0,null,{"$f":"IF($CH149>0,VLOOKUP($CH149,'العاملين '!$A$3:$AR$260,3),0)","v":0},{"$f":"IF($CH149>0,VLOOKUP($CH149,'العاملين '!$A$3:$AR$260,43),0)","v":0},0]
[12,{"$f":"IF($CH150>0,VLOOKUP($CH150,'العاملين '!$A$3:$AR$260,8),0)","v":0}," "," "," "," "," ",{"$f":"IF($CH150>0,VLOOKUP($CH150,'العاملين '!$A$3:$AR$260,9),0)","v":0},{"$f":"IF($CH150>0,VLOOKUP($CH150,'العاملين '!$A$3:$AR$260,10),0)","v":0},{"$f":"IF($CH150>0,VLOOKUP($CH150,'العاملين '!$A$3:$AR$260,11),0)","v":0},{"$f":"IF($CH150>0,VLOOKUP($CH150,'العاملين '!$A$3:$AR$260,12),0)","v":0},{"$f":"IF($CH150>0,VLOOKUP($CH150,'العاملين '!$A$3:$AR$260,13),0)","v":0},0,{"$f":"IF($CH150>0,VLOOKUP($CH150,'العاملين '!$A$3:$AR$260,14),0)","v":0},{"$f":"IF($CH150>0,VLOOKUP($CH150,'العاملين '!$A$3:$AR$260,15),0)","v":0},{"$f":"IF($CH150>0,VLOOKUP($CH150,'العاملين '!$A$3:$AR$260,16),0)","v":0},{"$f":"IF($CH150>0,VLOOKUP($CH150,'العاملين '!$A$3:$AR$260,17),0)","v":0},{"$f":"IF($CH150>0,VLOOKUP($CH150,'العاملين '!$A$3:$AR$260,18),0)","v":0},{"$f":"IF($CH150>0,VLOOKUP($CH150,'العاملين '!$A$3:$AR$260,19),0)","v":0},{"$f":"IF($CH150>0,VLOOKUP($CH150,'العاملين '!$A$3:$AR$260,20),0)","v":0},{"$f":"IF($CH150>0,VLOOKUP($CH150,'العاملين '!$A$3:$AR$260,21),0)","v":0},{"$f":"IF($CH150>0,VLOOKUP($CH150,'العاملين '!$A$3:$AR$260,22),0)","v":0},{"$f":"IF($CH150>0,VLOOKUP($CH150,'العاملين '!$A$3:$AR$260,23),0)","v":0},{"$f":"IF($CH150>0,VLOOKUP($CH150,'العاملين '!$A$3:$AR$260,24),0)","v":0},{"$f":"IF($CH150>0,VLOOKUP($CH150,'العاملين '!$A$3:$AR$260,26),0)","v":0},null,null,null,null,null,null,null,null,null,null,null,null,null,null,{"$f":"IF($CH150>0,VLOOKUP($CH150,'العاملين '!$A$3:$AR$260,25),0)","v":0},0,0,0,0,0,0,0,"",{"$f":"IF($CH150>0,VLOOKUP($CH150,'العاملين '!$A$3:$AR$260,28),0)","v":0},0," "," "," ",null," "," "," "," ",0,0,0,0,0,{"$f":"IF($CJ150=1,ROUND(($B150)*7%,2),IF($CJ150=2,VLOOKUP($CH150,'العاملين '!$A$3:$AS$260,44),0))","v":0},{"$f":"IF($CJ150=1,0.5,IF($CJ150=2,VLOOKUP($CH150,'العاملين '!$A$3:$AS$260,45),0))","v":0},{"$f":"IF($CJ150=1,4.5,IF($CJ150=2,VLOOKUP($CH150,'العاملين '!$A$3:$AS$260,46),0))","v":0},{"$f":"IF($CH150>0,VLOOKUP($CH150,'العاملين '!$A$3:$AR$260,29),0)","v":0},{"$f":"IF($CJ150=1,0.2,IF($CJ150=2,VLOOKUP($CH150,'العاملين '!$A$3:$AU$260,47),0))","v":0},{"$f":"IF($CJ150=1,0.05,IF($CJ150=2,VLOOKUP($CH150,'العاملين '!$A$3:$AU$260,47),0))","v":0},{"$f":"IF($CH150>0,VLOOKUP($CH150,'العاملين '!$A$3:$AR$260,30),0)","v":0},{"$f":"IF($CH150>0,VLOOKUP($CH150,'العاملين '!$A$3:$AR$260,31),0)","v":0},null,{"$f":"IF($CH150>0,VLOOKUP($CH150,'العاملين '!$A$3:$AR$260,33),0)","v":0},{"$f":"IF($CH150>0,VLOOKUP($CH150,'العاملين '!$A$3:$AR$260,34),0)","v":0},{"$f":"IF($CH150>0,VLOOKUP($CH150,'العاملين '!$A$3:$AR$260,35),0)","v":0},{"$f":"IF($CH150>0,VLOOKUP($CH150,'العاملين '!$A$3:$AR$260,36),0)","v":0},{"$f":"IF($CH150>0,VLOOKUP($CH150,'العاملين '!$A$3:$AR$260,37),0)","v":0},{"$f":"IF($CH150>0,VLOOKUP($CH150,'العاملين '!$A$3:$AR$260,38),0)","v":0},{"$f":"IF($CH150>0,VLOOKUP($CH150,'العاملين '!$A$3:$AR$260,39),0)","v":0},{"$f":"IF($CH150>0,VLOOKUP($CH150,'العاملين '!$A$3:$AR$260,40),0)","v":0},{"$f":"IF($CH150>0,VLOOKUP($CH150,'العاملين '!$A$3:$AR$260,41),0)","v":0},0,0,0,{"$f":"IF($CH150>0,VLOOKUP($CH150,'العاملين '!$A$3:$AR$260,2),0)","v":0},0,null,{"$f":"IF($CH150>0,VLOOKUP($CH150,'العاملين '!$A$3:$AR$260,3),0)","v":0},{"$f":"IF($CH150>0,VLOOKUP($CH150,'العاملين '!$A$3:$AR$260,43),0)","v":0},0]
[13,{"$f":"IF($CH151>0,VLOOKUP($CH151,'العاملين '!$A$3:$AR$260,8),0)","v":0}," "," "," "," "," ",{"$f":"IF($CH151>0,VLOOKUP($CH151,'العاملين '!$A$3:$AR$260,9),0)","v":0},{"$f":"IF($CH151>0,VLOOKUP($CH151,'العاملين '!$A$3:$AR$260,10),0)","v":0},{"$f":"IF($CH151>0,VLOOKUP($CH151,'العاملين '!$A$3:$AR$260,11),0)","v":0},{"$f":"IF($CH151>0,VLOOKUP($CH151,'العاملين '!$A$3:$AR$260,12),0)","v":0},{"$f":"IF($CH151>0,VLOOKUP($CH151,'العاملين '!$A$3:$AR$260,13),0)","v":0},0,{"$f":"IF($CH151>0,VLOOKUP($CH151,'العاملين '!$A$3:$AR$260,14),0)","v":0},{"$f":"IF($CH151>0,VLOOKUP($CH151,'العاملين '!$A$3:$AR$260,15),0)","v":0},{"$f":"IF($CH151>0,VLOOKUP($CH151,'العاملين '!$A$3:$AR$260,16),0)","v":0},{"$f":"IF($CH151>0,VLOOKUP($CH151,'العاملين '!$A$3:$AR$260,17),0)","v":0},{"$f":"IF($CH151>0,VLOOKUP($CH151,'العاملين '!$A$3:$AR$260,18),0)","v":0},{"$f":"IF($CH151>0,VLOOKUP($CH151,'العاملين '!$A$3:$AR$260,19),0)","v":0},{"$f":"IF($CH151>0,VLOOKUP($CH151,'العاملين '!$A$3:$AR$260,20),0)","v":0},{"$f":"IF($CH151>0,VLOOKUP($CH151,'العاملين '!$A$3:$AR$260,21),0)","v":0},{"$f":"IF($CH151>0,VLOOKUP($CH151,'العاملين '!$A$3:$AR$260,22),0)","v":0},{"$f":"IF($CH151>0,VLOOKUP($CH151,'العاملين '!$A$3:$AR$260,23),0)","v":0},{"$f":"IF($CH151>0,VLOOKUP($CH151,'العاملين '!$A$3:$AR$260,24),0)","v":0},{"$f":"IF($CH151>0,VLOOKUP($CH151,'العاملين '!$A$3:$AR$260,26),0)","v":0},null,null,null,null,null,null,null,null,null,null,null,null,null,null,{"$f":"IF($CH151>0,VLOOKUP($CH151,'العاملين '!$A$3:$AR$260,25),0)","v":0},0,0,0,0,0,0,0,"",{"$f":"IF($CH151>0,VLOOKUP($CH151,'العاملين '!$A$3:$AR$260,28),0)","v":0},0," "," "," ",null," "," "," "," ",0,0,0,0,0,{"$f":"IF($CJ151=1,ROUND(($B151)*7%,2),IF($CJ151=2,VLOOKUP($CH151,'العاملين '!$A$3:$AS$260,44),0))","v":0},{"$f":"IF($CJ151=1,0.5,IF($CJ151=2,VLOOKUP($CH151,'العاملين '!$A$3:$AS$260,45),0))","v":0},{"$f":"IF($CJ151=1,4.5,IF($CJ151=2,VLOOKUP($CH151,'العاملين '!$A$3:$AS$260,46),0))","v":0},{"$f":"IF($CH151>0,VLOOKUP($CH151,'العاملين '!$A$3:$AR$260,29),0)","v":0},{"$f":"IF($CJ151=1,0.2,IF($CJ151=2,VLOOKUP($CH151,'العاملين '!$A$3:$AU$260,47),0))","v":0},{"$f":"IF($CJ151=1,0.05,IF($CJ151=2,VLOOKUP($CH151,'العاملين '!$A$3:$AU$260,47),0))","v":0},{"$f":"IF($CH151>0,VLOOKUP($CH151,'العاملين '!$A$3:$AR$260,30),0)","v":0},{"$f":"IF($CH151>0,VLOOKUP($CH151,'العاملين '!$A$3:$AR$260,31),0)","v":0},null,{"$f":"IF($CH151>0,VLOOKUP($CH151,'العاملين '!$A$3:$AR$260,33),0)","v":0},{"$f":"IF($CH151>0,VLOOKUP($CH151,'العاملين '!$A$3:$AR$260,34),0)","v":0},{"$f":"IF($CH151>0,VLOOKUP($CH151,'العاملين '!$A$3:$AR$260,35),0)","v":0},{"$f":"IF($CH151>0,VLOOKUP($CH151,'العاملين '!$A$3:$AR$260,36),0)","v":0},{"$f":"IF($CH151>0,VLOOKUP($CH151,'العاملين '!$A$3:$AR$260,37),0)","v":0},{"$f":"IF($CH151>0,VLOOKUP($CH151,'العاملين '!$A$3:$AR$260,38),0)","v":0},{"$f":"IF($CH151>0,VLOOKUP($CH151,'العاملين '!$A$3:$AR$260,39),0)","v":0},{"$f":"IF($CH151>0,VLOOKUP($CH151,'العاملين '!$A$3:$AR$260,40),0)","v":0},{"$f":"IF($CH151>0,VLOOKUP($CH151,'العاملين '!$A$3:$AR$260,41),0)","v":0},0,0,0,{"$f":"IF($CH151>0,VLOOKUP($CH151,'العاملين '!$A$3:$AR$260,2),0)","v":0},0,null,{"$f":"IF($CH151>0,VLOOKUP($CH151,'العاملين '!$A$3:$AR$260,3),0)","v":0},{"$f":"IF($CH151>0,VLOOKUP($CH151,'العاملين '!$A$3:$AR$260,43),0)","v":0},0]
[14,{"$f":"IF($CH152>0,VLOOKUP($CH152,'العاملين '!$A$3:$AR$260,8),0)","v":0}," "," "," "," "," ",{"$f":"IF($CH152>0,VLOOKUP($CH152,'العاملين '!$A$3:$AR$260,9),0)","v":0},{"$f":"IF($CH152>0,VLOOKUP($CH152,'العاملين '!$A$3:$AR$260,10),0)","v":0},{"$f":"IF($CH152>0,VLOOKUP($CH152,'العاملين '!$A$3:$AR$260,11),0)","v":0},{"$f":"IF($CH152>0,VLOOKUP($CH152,'العاملين '!$A$3:$AR$260,12),0)","v":0},{"$f":"IF($CH152>0,VLOOKUP($CH152,'العاملين '!$A$3:$AR$260,13),0)","v":0},0,{"$f":"IF($CH152>0,VLOOKUP($CH152,'العاملين '!$A$3:$AR$260,14),0)","v":0},{"$f":"IF($CH152>0,VLOOKUP($CH152,'العاملين '!$A$3:$AR$260,15),0)","v":0},{"$f":"IF($CH152>0,VLOOKUP($CH152,'العاملين '!$A$3:$AR$260,16),0)","v":0},{"$f":"IF($CH152>0,VLOOKUP($CH152,'العاملين '!$A$3:$AR$260,17),0)","v":0},{"$f":"IF($CH152>0,VLOOKUP($CH152,'العاملين '!$A$3:$AR$260,18),0)","v":0},{"$f":"IF($CH152>0,VLOOKUP($CH152,'العاملين '!$A$3:$AR$260,19),0)","v":0},{"$f":"IF($CH152>0,VLOOKUP($CH152,'العاملين '!$A$3:$AR$260,20),0)","v":0},{"$f":"IF($CH152>0,VLOOKUP($CH152,'العاملين '!$A$3:$AR$260,21),0)","v":0},{"$f":"IF($CH152>0,VLOOKUP($CH152,'العاملين '!$A$3:$AR$260,22),0)","v":0},{"$f":"IF($CH152>0,VLOOKUP($CH152,'العاملين '!$A$3:$AR$260,23),0)","v":0},{"$f":"IF($CH152>0,VLOOKUP($CH152,'العاملين '!$A$3:$AR$260,24),0)","v":0},{"$f":"IF($CH152>0,VLOOKUP($CH152,'العاملين '!$A$3:$AR$260,26),0)","v":0},null,null,null,null,null,null,null,null,null,null,null,null,null,null,{"$f":"IF($CH152>0,VLOOKUP($CH152,'العاملين '!$A$3:$AR$260,25),0)","v":0},0,0,0,0,0,0,0,"",{"$f":"IF($CH152>0,VLOOKUP($CH152,'العاملين '!$A$3:$AR$260,28),0)","v":0},0," "," "," ",null," "," "," "," ",0,0,0,0,0,{"$f":"IF($CJ152=1,ROUND(($B152)*7%,2),IF($CJ152=2,VLOOKUP($CH152,'العاملين '!$A$3:$AS$260,44),0))","v":0},{"$f":"IF($CJ152=1,0.5,IF($CJ152=2,VLOOKUP($CH152,'العاملين '!$A$3:$AS$260,45),0))","v":0},{"$f":"IF($CJ152=1,4.5,IF($CJ152=2,VLOOKUP($CH152,'العاملين '!$A$3:$AS$260,46),0))","v":0},{"$f":"IF($CH152>0,VLOOKUP($CH152,'العاملين '!$A$3:$AR$260,29),0)","v":0},{"$f":"IF($CJ152=1,0.2,IF($CJ152=2,VLOOKUP($CH152,'العاملين '!$A$3:$AU$260,47),0))","v":0},{"$f":"IF($CJ152=1,0.05,IF($CJ152=2,VLOOKUP($CH152,'العاملين '!$A$3:$AU$260,47),0))","v":0},{"$f":"IF($CH152>0,VLOOKUP($CH152,'العاملين '!$A$3:$AR$260,30),0)","v":0},{"$f":"IF($CH152>0,VLOOKUP($CH152,'العاملين '!$A$3:$AR$260,31),0)","v":0},null,{"$f":"IF($CH152>0,VLOOKUP($CH152,'العاملين '!$A$3:$AR$260,33),0)","v":0},{"$f":"IF($CH152>0,VLOOKUP($CH152,'العاملين '!$A$3:$AR$260,34),0)","v":0},{"$f":"IF($CH152>0,VLOOKUP($CH152,'العاملين '!$A$3:$AR$260,35),0)","v":0},{"$f":"IF($CH152>0,VLOOKUP($CH152,'العاملين '!$A$3:$AR$260,36),0)","v":0},{"$f":"IF($CH152>0,VLOOKUP($CH152,'العاملين '!$A$3:$AR$260,37),0)","v":0},{"$f":"IF($CH152>0,VLOOKUP($CH152,'العاملين '!$A$3:$AR$260,38),0)","v":0},{"$f":"IF($CH152>0,VLOOKUP($CH152,'العاملين '!$A$3:$AR$260,39),0)","v":0},{"$f":"IF($CH152>0,VLOOKUP($CH152,'العاملين '!$A$3:$AR$260,40),0)","v":0},{"$f":"IF($CH152>0,VLOOKUP($CH152,'العاملين '!$A$3:$AR$260,41),0)","v":0},0,0,0,{"$f":"IF($CH152>0,VLOOKUP($CH152,'العاملين '!$A$3:$AR$260,2),0)","v":0},0,null,{"$f":"IF($CH152>0,VLOOKUP($CH152,'العاملين '!$A$3:$AR$260,3),0)","v":0},{"$f":"IF($CH152>0,VLOOKUP($CH152,'العاملين '!$A$3:$AR$260,43),0)","v":0},0]
[15,{"$f":"IF($CH153>0,VLOOKUP($CH153,'العاملين '!$A$3:$AR$260,8),0)","v":0}," "," "," "," "," ",{"$f":"IF($CH153>0,VLOOKUP($CH153,'العاملين '!$A$3:$AR$260,9),0)","v":0},{"$f":"IF($CH153>0,VLOOKUP($CH153,'العاملين '!$A$3:$AR$260,10),0)","v":0},{"$f":"IF($CH153>0,VLOOKUP($CH153,'العاملين '!$A$3:$AR$260,11),0)","v":0},{"$f":"IF($CH153>0,VLOOKUP($CH153,'العاملين '!$A$3:$AR$260,12),0)","v":0},{"$f":"IF($CH153>0,VLOOKUP($CH153,'العاملين '!$A$3:$AR$260,13),0)","v":0},0,{"$f":"IF($CH153>0,VLOOKUP($CH153,'العاملين '!$A$3:$AR$260,14),0)","v":0},{"$f":"IF($CH153>0,VLOOKUP($CH153,'العاملين '!$A$3:$AR$260,15),0)","v":0},{"$f":"IF($CH153>0,VLOOKUP($CH153,'العاملين '!$A$3:$AR$260,16),0)","v":0},{"$f":"IF($CH153>0,VLOOKUP($CH153,'العاملين '!$A$3:$AR$260,17),0)","v":0},{"$f":"IF($CH153>0,VLOOKUP($CH153,'العاملين '!$A$3:$AR$260,18),0)","v":0},{"$f":"IF($CH153>0,VLOOKUP($CH153,'العاملين '!$A$3:$AR$260,19),0)","v":0},{"$f":"IF($CH153>0,VLOOKUP($CH153,'العاملين '!$A$3:$AR$260,20),0)","v":0},{"$f":"IF($CH153>0,VLOOKUP($CH153,'العاملين '!$A$3:$AR$260,21),0)","v":0},{"$f":"IF($CH153>0,VLOOKUP($CH153,'العاملين '!$A$3:$AR$260,22),0)","v":0},{"$f":"IF($CH153>0,VLOOKUP($CH153,'العاملين '!$A$3:$AR$260,23),0)","v":0},{"$f":"IF($CH153>0,VLOOKUP($CH153,'العاملين '!$A$3:$AR$260,24),0)","v":0},{"$f":"IF($CH153>0,VLOOKUP($CH153,'العاملين '!$A$3:$AR$260,26),0)","v":0},null,null,null,null,null,null,null,null,null,null,null,null,null,null,{"$f":"IF($CH153>0,VLOOKUP($CH153,'العاملين '!$A$3:$AR$260,25),0)","v":0},0,0,0,0,0,0,0,"",{"$f":"IF($CH153>0,VLOOKUP($CH153,'العاملين '!$A$3:$AR$260,28),0)","v":0},0," "," "," ",null," "," "," "," ",0,0,0,0,0,{"$f":"IF($CJ153=1,ROUND(($B153)*7%,2),IF($CJ153=2,VLOOKUP($CH153,'العاملين '!$A$3:$AS$260,44),0))","v":0},{"$f":"IF($CJ153=1,0.5,IF($CJ153=2,VLOOKUP($CH153,'العاملين '!$A$3:$AS$260,45),0))","v":0},{"$f":"IF($CJ153=1,4.5,IF($CJ153=2,VLOOKUP($CH153,'العاملين '!$A$3:$AS$260,46),0))","v":0},{"$f":"IF($CH153>0,VLOOKUP($CH153,'العاملين '!$A$3:$AR$260,29),0)","v":0},{"$f":"IF($CJ153=1,0.2,IF($CJ153=2,VLOOKUP($CH153,'العاملين '!$A$3:$AU$260,47),0))","v":0},{"$f":"IF($CJ153=1,0.05,IF($CJ153=2,VLOOKUP($CH153,'العاملين '!$A$3:$AU$260,47),0))","v":0},{"$f":"IF($CH153>0,VLOOKUP($CH153,'العاملين '!$A$3:$AR$260,30),0)","v":0},{"$f":"IF($CH153>0,VLOOKUP($CH153,'العاملين '!$A$3:$AR$260,31),0)","v":0},null,{"$f":"IF($CH153>0,VLOOKUP($CH153,'العاملين '!$A$3:$AR$260,33),0)","v":0},{"$f":"IF($CH153>0,VLOOKUP($CH153,'العاملين '!$A$3:$AR$260,34),0)","v":0},{"$f":"IF($CH153>0,VLOOKUP($CH153,'العاملين '!$A$3:$AR$260,35),0)","v":0},{"$f":"IF($CH153>0,VLOOKUP($CH153,'العاملين '!$A$3:$AR$260,36),0)","v":0},{"$f":"IF($CH153>0,VLOOKUP($CH153,'العاملين '!$A$3:$AR$260,37),0)","v":0},{"$f":"IF($CH153>0,VLOOKUP($CH153,'العاملين '!$A$3:$AR$260,38),0)","v":0},{"$f":"IF($CH153>0,VLOOKUP($CH153,'العاملين '!$A$3:$AR$260,39),0)","v":0},{"$f":"IF($CH153>0,VLOOKUP($CH153,'العاملين '!$A$3:$AR$260,40),0)","v":0},{"$f":"IF($CH153>0,VLOOKUP($CH153,'العاملين '!$A$3:$AR$260,41),0)","v":0},0,0,0,{"$f":"IF($CH153>0,VLOOKUP($CH153,'العاملين '!$A$3:$AR$260,2),0)","v":0},0,null,{"$f":"IF($CH153>0,VLOOKUP($CH153,'العاملين '!$A$3:$AR$260,3),0)","v":0},{"$f":"IF($CH153>0,VLOOKUP($CH153,'العاملين '!$A$3:$AR$260,43),0)","v":0},0]
[16,{"$f":"IF($CH154>0,VLOOKUP($CH154,'العاملين '!$A$3:$AR$260,8),0)","v":0}," "," "," "," "," ",{"$f":"IF($CH154>0,VLOOKUP($CH154,'العاملين '!$A$3:$AR$260,9),0)","v":0},{"$f":"IF($CH154>0,VLOOKUP($CH154,'العاملين '!$A$3:$AR$260,10),0)","v":0},{"$f":"IF($CH154>0,VLOOKUP($CH154,'العاملين '!$A$3:$AR$260,11),0)","v":0},{"$f":"IF($CH154>0,VLOOKUP($CH154,'العاملين '!$A$3:$AR$260,12),0)","v":0},{"$f":"IF($CH154>0,VLOOKUP($CH154,'العاملين '!$A$3:$AR$260,13),0)","v":0},0,{"$f":"IF($CH154>0,VLOOKUP($CH154,'العاملين '!$A$3:$AR$260,14),0)","v":0},{"$f":"IF($CH154>0,VLOOKUP($CH154,'العاملين '!$A$3:$AR$260,15),0)","v":0},{"$f":"IF($CH154>0,VLOOKUP($CH154,'العاملين '!$A$3:$AR$260,16),0)","v":0},{"$f":"IF($CH154>0,VLOOKUP($CH154,'العاملين '!$A$3:$AR$260,17),0)","v":0},{"$f":"IF($CH154>0,VLOOKUP($CH154,'العاملين '!$A$3:$AR$260,18),0)","v":0},{"$f":"IF($CH154>0,VLOOKUP($CH154,'العاملين '!$A$3:$AR$260,19),0)","v":0},{"$f":"IF($CH154>0,VLOOKUP($CH154,'العاملين '!$A$3:$AR$260,20),0)","v":0},{"$f":"IF($CH154>0,VLOOKUP($CH154,'العاملين '!$A$3:$AR$260,21),0)","v":0},{"$f":"IF($CH154>0,VLOOKUP($CH154,'العاملين '!$A$3:$AR$260,22),0)","v":0},{"$f":"IF($CH154>0,VLOOKUP($CH154,'العاملين '!$A$3:$AR$260,23),0)","v":0},{"$f":"IF($CH154>0,VLOOKUP($CH154,'العاملين '!$A$3:$AR$260,24),0)","v":0},{"$f":"IF($CH154>0,VLOOKUP($CH154,'العاملين '!$A$3:$AR$260,26),0)","v":0},null,null,null,null,null,null,null,null,null,null,null,null,null,null,{"$f":"IF($CH154>0,VLOOKUP($CH154,'العاملين '!$A$3:$AR$260,25),0)","v":0},0,0,0,0,0,0,0,"",{"$f":"IF($CH154>0,VLOOKUP($CH154,'العاملين '!$A$3:$AR$260,28),0)","v":0},0," "," "," ",null," "," "," "," ",0,0,0,0,0,{"$f":"IF($CJ154=1,ROUND(($B154)*7%,2),IF($CJ154=2,VLOOKUP($CH154,'العاملين '!$A$3:$AS$260,44),0))","v":0},{"$f":"IF($CJ154=1,0.5,IF($CJ154=2,VLOOKUP($CH154,'العاملين '!$A$3:$AS$260,45),0))","v":0},{"$f":"IF($CJ154=1,4.5,IF($CJ154=2,VLOOKUP($CH154,'العاملين '!$A$3:$AS$260,46),0))","v":0},{"$f":"IF($CH154>0,VLOOKUP($CH154,'العاملين '!$A$3:$AR$260,29),0)","v":0},{"$f":"IF($CJ154=1,0.2,IF($CJ154=2,VLOOKUP($CH154,'العاملين '!$A$3:$AU$260,47),0))","v":0},{"$f":"IF($CJ154=1,0.05,IF($CJ154=2,VLOOKUP($CH154,'العاملين '!$A$3:$AU$260,47),0))","v":0},{"$f":"IF($CH154>0,VLOOKUP($CH154,'العاملين '!$A$3:$AR$260,30),0)","v":0},{"$f":"IF($CH154>0,VLOOKUP($CH154,'العاملين '!$A$3:$AR$260,31),0)","v":0},null,{"$f":"IF($CH154>0,VLOOKUP($CH154,'العاملين '!$A$3:$AR$260,33),0)","v":0},{"$f":"IF($CH154>0,VLOOKUP($CH154,'العاملين '!$A$3:$AR$260,34),0)","v":0},{"$f":"IF($CH154>0,VLOOKUP($CH154,'العاملين '!$A$3:$AR$260,35),0)","v":0},{"$f":"IF($CH154>0,VLOOKUP($CH154,'العاملين '!$A$3:$AR$260,36),0)","v":0},{"$f":"IF($CH154>0,VLOOKUP($CH154,'العاملين '!$A$3:$AR$260,37),0)","v":0},{"$f":"IF($CH154>0,VLOOKUP($CH154,'العاملين '!$A$3:$AR$260,38),0)","v":0},{"$f":"IF($CH154>0,VLOOKUP($CH154,'العاملين '!$A$3:$AR$260,39),0)","v":0},{"$f":"IF($CH154>0,VLOOKUP($CH154,'العاملين '!$A$3:$AR$260,40),0)","v":0},{"$f":"IF($CH154>0,VLOOKUP($CH154,'العاملين '!$A$3:$AR$260,41),0)","v":0},0,0,0,{"$f":"IF($CH154>0,VLOOKUP($CH154,'العاملين '!$A$3:$AR$260,2),0)","v":0},0,null,{"$f":"IF($CH154>0,VLOOKUP($CH154,'العاملين '!$A$3:$AR$260,3),0)","v":0},{"$f":"IF($CH154>0,VLOOKUP($CH154,'العاملين '!$A$3:$AR$260,43),0)","v":0},0]
[17,{"$f":"IF($CH155>0,VLOOKUP($CH155,'العاملين '!$A$3:$AR$260,8),0)","v":0}," "," "," "," "," ",{"$f":"IF($CH155>0,VLOOKUP($CH155,'العاملين '!$A$3:$AR$260,9),0)","v":0},{"$f":"IF($CH155>0,VLOOKUP($CH155,'العاملين '!$A$3:$AR$260,10),0)","v":0},{"$f":"IF($CH155>0,VLOOKUP($CH155,'العاملين '!$A$3:$AR$260,11),0)","v":0},{"$f":"IF($CH155>0,VLOOKUP($CH155,'العاملين '!$A$3:$AR$260,12),0)","v":0},{"$f":"IF($CH155>0,VLOOKUP($CH155,'العاملين '!$A$3:$AR$260,13),0)","v":0},0,{"$f":"IF($CH155>0,VLOOKUP($CH155,'العاملين '!$A$3:$AR$260,14),0)","v":0},{"$f":"IF($CH155>0,VLOOKUP($CH155,'العاملين '!$A$3:$AR$260,15),0)","v":0},{"$f":"IF($CH155>0,VLOOKUP($CH155,'العاملين '!$A$3:$AR$260,16),0)","v":0},{"$f":"IF($CH155>0,VLOOKUP($CH155,'العاملين '!$A$3:$AR$260,17),0)","v":0},{"$f":"IF($CH155>0,VLOOKUP($CH155,'العاملين '!$A$3:$AR$260,18),0)","v":0},{"$f":"IF($CH155>0,VLOOKUP($CH155,'العاملين '!$A$3:$AR$260,19),0)","v":0},{"$f":"IF($CH155>0,VLOOKUP($CH155,'العاملين '!$A$3:$AR$260,20),0)","v":0},{"$f":"IF($CH155>0,VLOOKUP($CH155,'العاملين '!$A$3:$AR$260,21),0)","v":0},{"$f":"IF($CH155>0,VLOOKUP($CH155,'العاملين '!$A$3:$AR$260,22),0)","v":0},{"$f":"IF($CH155>0,VLOOKUP($CH155,'العاملين '!$A$3:$AR$260,23),0)","v":0},{"$f":"IF($CH155>0,VLOOKUP($CH155,'العاملين '!$A$3:$AR$260,24),0)","v":0},{"$f":"IF($CH155>0,VLOOKUP($CH155,'العاملين '!$A$3:$AR$260,26),0)","v":0},null,null,null,null,null,null,null,null,null,null,null,null,null,null,{"$f":"IF($CH155>0,VLOOKUP($CH155,'العاملين '!$A$3:$AR$260,25),0)","v":0},0,0,0,0,0,0,0,"",{"$f":"IF($CH155>0,VLOOKUP($CH155,'العاملين '!$A$3:$AR$260,28),0)","v":0},0," "," "," ",null," "," "," "," ",0,0,0,0,0,{"$f":"IF($CJ155=1,ROUND(($B155)*7%,2),IF($CJ155=2,VLOOKUP($CH155,'العاملين '!$A$3:$AS$260,44),0))","v":0},{"$f":"IF($CJ155=1,0.5,IF($CJ155=2,VLOOKUP($CH155,'العاملين '!$A$3:$AS$260,45),0))","v":0},{"$f":"IF($CJ155=1,4.5,IF($CJ155=2,VLOOKUP($CH155,'العاملين '!$A$3:$AS$260,46),0))","v":0},{"$f":"IF($CH155>0,VLOOKUP($CH155,'العاملين '!$A$3:$AR$260,29),0)","v":0},{"$f":"IF($CJ155=1,0.2,IF($CJ155=2,VLOOKUP($CH155,'العاملين '!$A$3:$AU$260,47),0))","v":0},{"$f":"IF($CJ155=1,0.05,IF($CJ155=2,VLOOKUP($CH155,'العاملين '!$A$3:$AU$260,47),0))","v":0},{"$f":"IF($CH155>0,VLOOKUP($CH155,'العاملين '!$A$3:$AR$260,30),0)","v":0},{"$f":"IF($CH155>0,VLOOKUP($CH155,'العاملين '!$A$3:$AR$260,31),0)","v":0},null,{"$f":"IF($CH155>0,VLOOKUP($CH155,'العاملين '!$A$3:$AR$260,33),0)","v":0},{"$f":"IF($CH155>0,VLOOKUP($CH155,'العاملين '!$A$3:$AR$260,34),0)","v":0},{"$f":"IF($CH155>0,VLOOKUP($CH155,'العاملين '!$A$3:$AR$260,35),0)","v":0},{"$f":"IF($CH155>0,VLOOKUP($CH155,'العاملين '!$A$3:$AR$260,36),0)","v":0},{"$f":"IF($CH155>0,VLOOKUP($CH155,'العاملين '!$A$3:$AR$260,37),0)","v":0},{"$f":"IF($CH155>0,VLOOKUP($CH155,'العاملين '!$A$3:$AR$260,38),0)","v":0},{"$f":"IF($CH155>0,VLOOKUP($CH155,'العاملين '!$A$3:$AR$260,39),0)","v":0},{"$f":"IF($CH155>0,VLOOKUP($CH155,'العاملين '!$A$3:$AR$260,40),0)","v":0},{"$f":"IF($CH155>0,VLOOKUP($CH155,'العاملين '!$A$3:$AR$260,41),0)","v":0},0,0,0,{"$f":"IF($CH155>0,VLOOKUP($CH155,'العاملين '!$A$3:$AR$260,2),0)","v":0},0,null,{"$f":"IF($CH155>0,VLOOKUP($CH155,'العاملين '!$A$3:$AR$260,3),0)","v":0},{"$f":"IF($CH155>0,VLOOKUP($CH155,'العاملين '!$A$3:$AR$260,43),0)","v":0},0]
[18,{"$f":"IF($CH156>0,VLOOKUP($CH156,'العاملين '!$A$3:$AR$260,8),0)","v":0}," "," "," "," "," ",{"$f":"IF($CH156>0,VLOOKUP($CH156,'العاملين '!$A$3:$AR$260,9),0)","v":0},{"$f":"IF($CH156>0,VLOOKUP($CH156,'العاملين '!$A$3:$AR$260,10),0)","v":0},{"$f":"IF($CH156>0,VLOOKUP($CH156,'العاملين '!$A$3:$AR$260,11),0)","v":0},{"$f":"IF($CH156>0,VLOOKUP($CH156,'العاملين '!$A$3:$AR$260,12),0)","v":0},{"$f":"IF($CH156>0,VLOOKUP($CH156,'العاملين '!$A$3:$AR$260,13),0)","v":0},0,{"$f":"IF($CH156>0,VLOOKUP($CH156,'العاملين '!$A$3:$AR$260,14),0)","v":0},{"$f":"IF($CH156>0,VLOOKUP($CH156,'العاملين '!$A$3:$AR$260,15),0)","v":0},{"$f":"IF($CH156>0,VLOOKUP($CH156,'العاملين '!$A$3:$AR$260,16),0)","v":0},{"$f":"IF($CH156>0,VLOOKUP($CH156,'العاملين '!$A$3:$AR$260,17),0)","v":0},{"$f":"IF($CH156>0,VLOOKUP($CH156,'العاملين '!$A$3:$AR$260,18),0)","v":0},{"$f":"IF($CH156>0,VLOOKUP($CH156,'العاملين '!$A$3:$AR$260,19),0)","v":0},{"$f":"IF($CH156>0,VLOOKUP($CH156,'العاملين '!$A$3:$AR$260,20),0)","v":0},{"$f":"IF($CH156>0,VLOOKUP($CH156,'العاملين '!$A$3:$AR$260,21),0)","v":0},{"$f":"IF($CH156>0,VLOOKUP($CH156,'العاملين '!$A$3:$AR$260,22),0)","v":0},{"$f":"IF($CH156>0,VLOOKUP($CH156,'العاملين '!$A$3:$AR$260,23),0)","v":0},{"$f":"IF($CH156>0,VLOOKUP($CH156,'العاملين '!$A$3:$AR$260,24),0)","v":0},{"$f":"IF($CH156>0,VLOOKUP($CH156,'العاملين '!$A$3:$AR$260,26),0)","v":0},null,null,null,null,null,null,null,null,null,null,null,null,null,null,{"$f":"IF($CH156>0,VLOOKUP($CH156,'العاملين '!$A$3:$AR$260,25),0)","v":0},0,0,0,0,0,0,0,"",{"$f":"IF($CH156>0,VLOOKUP($CH156,'العاملين '!$A$3:$AR$260,28),0)","v":0},0," "," "," ",null," "," "," "," ",0,0,0,0,0,{"$f":"IF($CJ156=1,ROUND(($B156)*7%,2),IF($CJ156=2,VLOOKUP($CH156,'العاملين '!$A$3:$AS$260,44),0))","v":0},{"$f":"IF($CJ156=1,0.5,IF($CJ156=2,VLOOKUP($CH156,'العاملين '!$A$3:$AS$260,45),0))","v":0},{"$f":"IF($CJ156=1,4.5,IF($CJ156=2,VLOOKUP($CH156,'العاملين '!$A$3:$AS$260,46),0))","v":0},{"$f":"IF($CH156>0,VLOOKUP($CH156,'العاملين '!$A$3:$AR$260,29),0)","v":0},{"$f":"IF($CJ156=1,0.2,IF($CJ156=2,VLOOKUP($CH156,'العاملين '!$A$3:$AU$260,47),0))","v":0},{"$f":"IF($CJ156=1,0.05,IF($CJ156=2,VLOOKUP($CH156,'العاملين '!$A$3:$AU$260,47),0))","v":0},{"$f":"IF($CH156>0,VLOOKUP($CH156,'العاملين '!$A$3:$AR$260,30),0)","v":0},{"$f":"IF($CH156>0,VLOOKUP($CH156,'العاملين '!$A$3:$AR$260,31),0)","v":0},null,{"$f":"IF($CH156>0,VLOOKUP($CH156,'العاملين '!$A$3:$AR$260,33),0)","v":0},{"$f":"IF($CH156>0,VLOOKUP($CH156,'العاملين '!$A$3:$AR$260,34),0)","v":0},{"$f":"IF($CH156>0,VLOOKUP($CH156,'العاملين '!$A$3:$AR$260,35),0)","v":0},{"$f":"IF($CH156>0,VLOOKUP($CH156,'العاملين '!$A$3:$AR$260,36),0)","v":0},{"$f":"IF($CH156>0,VLOOKUP($CH156,'العاملين '!$A$3:$AR$260,37),0)","v":0},{"$f":"IF($CH156>0,VLOOKUP($CH156,'العاملين '!$A$3:$AR$260,38),0)","v":0},{"$f":"IF($CH156>0,VLOOKUP($CH156,'العاملين '!$A$3:$AR$260,39),0)","v":0},{"$f":"IF($CH156>0,VLOOKUP($CH156,'العاملين '!$A$3:$AR$260,40),0)","v":0},{"$f":"IF($CH156>0,VLOOKUP($CH156,'العاملين '!$A$3:$AR$260,41),0)","v":0},0,0,0,{"$f":"IF($CH156>0,VLOOKUP($CH156,'العاملين '!$A$3:$AR$260,2),0)","v":0},0,null,{"$f":"IF($CH156>0,VLOOKUP($CH156,'العاملين '!$A$3:$AR$260,3),0)","v":0},{"$f":"IF($CH156>0,VLOOKUP($CH156,'العاملين '!$A$3:$AR$260,43),0)","v":0},0]
[19,{"$f":"IF($CH157>0,VLOOKUP($CH157,'العاملين '!$A$3:$AR$260,8),0)","v":0}," "," "," "," "," ",{"$f":"IF($CH157>0,VLOOKUP($CH157,'العاملين '!$A$3:$AR$260,9),0)","v":0},{"$f":"IF($CH157>0,VLOOKUP($CH157,'العاملين '!$A$3:$AR$260,10),0)","v":0},{"$f":"IF($CH157>0,VLOOKUP($CH157,'العاملين '!$A$3:$AR$260,11),0)","v":0},{"$f":"IF($CH157>0,VLOOKUP($CH157,'العاملين '!$A$3:$AR$260,12),0)","v":0},{"$f":"IF($CH157>0,VLOOKUP($CH157,'العاملين '!$A$3:$AR$260,13),0)","v":0},0,{"$f":"IF($CH157>0,VLOOKUP($CH157,'العاملين '!$A$3:$AR$260,14),0)","v":0},{"$f":"IF($CH157>0,VLOOKUP($CH157,'العاملين '!$A$3:$AR$260,15),0)","v":0},{"$f":"IF($CH157>0,VLOOKUP($CH157,'العاملين '!$A$3:$AR$260,16),0)","v":0},{"$f":"IF($CH157>0,VLOOKUP($CH157,'العاملين '!$A$3:$AR$260,17),0)","v":0},{"$f":"IF($CH157>0,VLOOKUP($CH157,'العاملين '!$A$3:$AR$260,18),0)","v":0},{"$f":"IF($CH157>0,VLOOKUP($CH157,'العاملين '!$A$3:$AR$260,19),0)","v":0},{"$f":"IF($CH157>0,VLOOKUP($CH157,'العاملين '!$A$3:$AR$260,20),0)","v":0},{"$f":"IF($CH157>0,VLOOKUP($CH157,'العاملين '!$A$3:$AR$260,21),0)","v":0},{"$f":"IF($CH157>0,VLOOKUP($CH157,'العاملين '!$A$3:$AR$260,22),0)","v":0},{"$f":"IF($CH157>0,VLOOKUP($CH157,'العاملين '!$A$3:$AR$260,23),0)","v":0},{"$f":"IF($CH157>0,VLOOKUP($CH157,'العاملين '!$A$3:$AR$260,24),0)","v":0},{"$f":"IF($CH157>0,VLOOKUP($CH157,'العاملين '!$A$3:$AR$260,26),0)","v":0},null,null,null,null,null,null,null,null,null,null,null,null,null,null,{"$f":"IF($CH157>0,VLOOKUP($CH157,'العاملين '!$A$3:$AR$260,25),0)","v":0},0,0,0,0,0,0,0,"",{"$f":"IF($CH157>0,VLOOKUP($CH157,'العاملين '!$A$3:$AR$260,28),0)","v":0},0," "," "," ",null," "," "," "," ",0,0,0,0,0,{"$f":"IF($CJ157=1,ROUND(($B157)*7%,2),IF($CJ157=2,VLOOKUP($CH157,'العاملين '!$A$3:$AS$260,44),0))","v":0},{"$f":"IF($CJ157=1,0.5,IF($CJ157=2,VLOOKUP($CH157,'العاملين '!$A$3:$AS$260,45),0))","v":0},{"$f":"IF($CJ157=1,4.5,IF($CJ157=2,VLOOKUP($CH157,'العاملين '!$A$3:$AS$260,46),0))","v":0},{"$f":"IF($CH157>0,VLOOKUP($CH157,'العاملين '!$A$3:$AR$260,29),0)","v":0},{"$f":"IF($CJ157=1,0.2,IF($CJ157=2,VLOOKUP($CH157,'العاملين '!$A$3:$AU$260,47),0))","v":0},{"$f":"IF($CJ157=1,0.05,IF($CJ157=2,VLOOKUP($CH157,'العاملين '!$A$3:$AU$260,47),0))","v":0},{"$f":"IF($CH157>0,VLOOKUP($CH157,'العاملين '!$A$3:$AR$260,30),0)","v":0},{"$f":"IF($CH157>0,VLOOKUP($CH157,'العاملين '!$A$3:$AR$260,31),0)","v":0},null,{"$f":"IF($CH157>0,VLOOKUP($CH157,'العاملين '!$A$3:$AR$260,33),0)","v":0},{"$f":"IF($CH157>0,VLOOKUP($CH157,'العاملين '!$A$3:$AR$260,34),0)","v":0},{"$f":"IF($CH157>0,VLOOKUP($CH157,'العاملين '!$A$3:$AR$260,35),0)","v":0},{"$f":"IF($CH157>0,VLOOKUP($CH157,'العاملين '!$A$3:$AR$260,36),0)","v":0},{"$f":"IF($CH157>0,VLOOKUP($CH157,'العاملين '!$A$3:$AR$260,37),0)","v":0},{"$f":"IF($CH157>0,VLOOKUP($CH157,'العاملين '!$A$3:$AR$260,38),0)","v":0},{"$f":"IF($CH157>0,VLOOKUP($CH157,'العاملين '!$A$3:$AR$260,39),0)","v":0},{"$f":"IF($CH157>0,VLOOKUP($CH157,'العاملين '!$A$3:$AR$260,40),0)","v":0},{"$f":"IF($CH157>0,VLOOKUP($CH157,'العاملين '!$A$3:$AR$260,41),0)","v":0},0,0,0,{"$f":"IF($CH157>0,VLOOKUP($CH157,'العاملين '!$A$3:$AR$260,2),0)","v":0},0,null,{"$f":"IF($CH157>0,VLOOKUP($CH157,'العاملين '!$A$3:$AR$260,3),0)","v":0},{"$f":"IF($CH157>0,VLOOKUP($CH157,'العاملين '!$A$3:$AR$260,43),0)","v":0},0]
[20,{"$f":"IF($CH158>0,VLOOKUP($CH158,'العاملين '!$A$3:$AR$260,8),0)","v":0}," "," "," "," "," ",{"$f":"IF($CH158>0,VLOOKUP($CH158,'العاملين '!$A$3:$AR$260,9),0)","v":0},{"$f":"IF($CH158>0,VLOOKUP($CH158,'العاملين '!$A$3:$AR$260,10),0)","v":0},{"$f":"IF($CH158>0,VLOOKUP($CH158,'العاملين '!$A$3:$AR$260,11),0)","v":0},{"$f":"IF($CH158>0,VLOOKUP($CH158,'العاملين '!$A$3:$AR$260,12),0)","v":0},{"$f":"IF($CH158>0,VLOOKUP($CH158,'العاملين '!$A$3:$AR$260,13),0)","v":0},0,{"$f":"IF($CH158>0,VLOOKUP($CH158,'العاملين '!$A$3:$AR$260,14),0)","v":0},{"$f":"IF($CH158>0,VLOOKUP($CH158,'العاملين '!$A$3:$AR$260,15),0)","v":0},{"$f":"IF($CH158>0,VLOOKUP($CH158,'العاملين '!$A$3:$AR$260,16),0)","v":0},{"$f":"IF($CH158>0,VLOOKUP($CH158,'العاملين '!$A$3:$AR$260,17),0)","v":0},{"$f":"IF($CH158>0,VLOOKUP($CH158,'العاملين '!$A$3:$AR$260,18),0)","v":0},{"$f":"IF($CH158>0,VLOOKUP($CH158,'العاملين '!$A$3:$AR$260,19),0)","v":0},{"$f":"IF($CH158>0,VLOOKUP($CH158,'العاملين '!$A$3:$AR$260,20),0)","v":0},{"$f":"IF($CH158>0,VLOOKUP($CH158,'العاملين '!$A$3:$AR$260,21),0)","v":0},{"$f":"IF($CH158>0,VLOOKUP($CH158,'العاملين '!$A$3:$AR$260,22),0)","v":0},{"$f":"IF($CH158>0,VLOOKUP($CH158,'العاملين '!$A$3:$AR$260,23),0)","v":0},{"$f":"IF($CH158>0,VLOOKUP($CH158,'العاملين '!$A$3:$AR$260,24),0)","v":0},{"$f":"IF($CH158>0,VLOOKUP($CH158,'العاملين '!$A$3:$AR$260,26),0)","v":0},null,null,null,null,null,null,null,null,null,null,null,null,null,null,{"$f":"IF($CH158>0,VLOOKUP($CH158,'العاملين '!$A$3:$AR$260,25),0)","v":0},0,0,0,0,0,0,0,"",{"$f":"IF($CH158>0,VLOOKUP($CH158,'العاملين '!$A$3:$AR$260,28),0)","v":0},0," "," "," ",null," "," "," "," ",0,0,0,0,0,{"$f":"IF($CJ158=1,ROUND(($B158)*7%,2),IF($CJ158=2,VLOOKUP($CH158,'العاملين '!$A$3:$AS$260,44),0))","v":0},{"$f":"IF($CJ158=1,0.5,IF($CJ158=2,VLOOKUP($CH158,'العاملين '!$A$3:$AS$260,45),0))","v":0},{"$f":"IF($CJ158=1,4.5,IF($CJ158=2,VLOOKUP($CH158,'العاملين '!$A$3:$AS$260,46),0))","v":0},{"$f":"IF($CH158>0,VLOOKUP($CH158,'العاملين '!$A$3:$AR$260,29),0)","v":0},{"$f":"IF($CJ158=1,0.2,IF($CJ158=2,VLOOKUP($CH158,'العاملين '!$A$3:$AU$260,47),0))","v":0},{"$f":"IF($CJ158=1,0.05,IF($CJ158=2,VLOOKUP($CH158,'العاملين '!$A$3:$AU$260,47),0))","v":0},{"$f":"IF($CH158>0,VLOOKUP($CH158,'العاملين '!$A$3:$AR$260,30),0)","v":0},{"$f":"IF($CH158>0,VLOOKUP($CH158,'العاملين '!$A$3:$AR$260,31),0)","v":0},null,{"$f":"IF($CH158>0,VLOOKUP($CH158,'العاملين '!$A$3:$AR$260,33),0)","v":0},{"$f":"IF($CH158>0,VLOOKUP($CH158,'العاملين '!$A$3:$AR$260,34),0)","v":0},{"$f":"IF($CH158>0,VLOOKUP($CH158,'العاملين '!$A$3:$AR$260,35),0)","v":0},{"$f":"IF($CH158>0,VLOOKUP($CH158,'العاملين '!$A$3:$AR$260,36),0)","v":0},{"$f":"IF($CH158>0,VLOOKUP($CH158,'العاملين '!$A$3:$AR$260,37),0)","v":0},{"$f":"IF($CH158>0,VLOOKUP($CH158,'العاملين '!$A$3:$AR$260,38),0)","v":0},{"$f":"IF($CH158>0,VLOOKUP($CH158,'العاملين '!$A$3:$AR$260,39),0)","v":0},{"$f":"IF($CH158>0,VLOOKUP($CH158,'العاملين '!$A$3:$AR$260,40),0)","v":0},{"$f":"IF($CH158>0,VLOOKUP($CH158,'العاملين '!$A$3:$AR$260,41),0)","v":0},0,0,0,{"$f":"IF($CH158>0,VLOOKUP($CH158,'العاملين '!$A$3:$AR$260,2),0)","v":0},0,null,{"$f":"IF($CH158>0,VLOOKUP($CH158,'العاملين '!$A$3:$AR$260,3),0)","v":0},{"$f":"IF($CH158>0,VLOOKUP($CH158,'العاملين '!$A$3:$AR$260,43),0)","v":0},0]
[21,{"$f":"IF($CH159>0,VLOOKUP($CH159,'العاملين '!$A$3:$AR$260,8),0)","v":0}," "," "," "," "," ",{"$f":"IF($CH159>0,VLOOKUP($CH159,'العاملين '!$A$3:$AR$260,9),0)","v":0},{"$f":"IF($CH159>0,VLOOKUP($CH159,'العاملين '!$A$3:$AR$260,10),0)","v":0},{"$f":"IF($CH159>0,VLOOKUP($CH159,'العاملين '!$A$3:$AR$260,11),0)","v":0},{"$f":"IF($CH159>0,VLOOKUP($CH159,'العاملين '!$A$3:$AR$260,12),0)","v":0},{"$f":"IF($CH159>0,VLOOKUP($CH159,'العاملين '!$A$3:$AR$260,13),0)","v":0},0,{"$f":"IF($CH159>0,VLOOKUP($CH159,'العاملين '!$A$3:$AR$260,14),0)","v":0},{"$f":"IF($CH159>0,VLOOKUP($CH159,'العاملين '!$A$3:$AR$260,15),0)","v":0},{"$f":"IF($CH159>0,VLOOKUP($CH159,'العاملين '!$A$3:$AR$260,16),0)","v":0},{"$f":"IF($CH159>0,VLOOKUP($CH159,'العاملين '!$A$3:$AR$260,17),0)","v":0},{"$f":"IF($CH159>0,VLOOKUP($CH159,'العاملين '!$A$3:$AR$260,18),0)","v":0},{"$f":"IF($CH159>0,VLOOKUP($CH159,'العاملين '!$A$3:$AR$260,19),0)","v":0},{"$f":"IF($CH159>0,VLOOKUP($CH159,'العاملين '!$A$3:$AR$260,20),0)","v":0},{"$f":"IF($CH159>0,VLOOKUP($CH159,'العاملين '!$A$3:$AR$260,21),0)","v":0},{"$f":"IF($CH159>0,VLOOKUP($CH159,'العاملين '!$A$3:$AR$260,22),0)","v":0},{"$f":"IF($CH159>0,VLOOKUP($CH159,'العاملين '!$A$3:$AR$260,23),0)","v":0},{"$f":"IF($CH159>0,VLOOKUP($CH159,'العاملين '!$A$3:$AR$260,24),0)","v":0},{"$f":"IF($CH159>0,VLOOKUP($CH159,'العاملين '!$A$3:$AR$260,26),0)","v":0},null,null,null,null,null,null,null,null,null,null,null,null,null,null,{"$f":"IF($CH159>0,VLOOKUP($CH159,'العاملين '!$A$3:$AR$260,25),0)","v":0},0,0,0,0,0,0,0,"",{"$f":"IF($CH159>0,VLOOKUP($CH159,'العاملين '!$A$3:$AR$260,28),0)","v":0},0," "," "," ",null," "," "," "," ",0,0,0,0,0,{"$f":"IF($CJ159=1,ROUND(($B159)*7%,2),IF($CJ159=2,VLOOKUP($CH159,'العاملين '!$A$3:$AS$260,44),0))","v":0},{"$f":"IF($CJ159=1,0.5,IF($CJ159=2,VLOOKUP($CH159,'العاملين '!$A$3:$AS$260,45),0))","v":0},{"$f":"IF($CJ159=1,4.5,IF($CJ159=2,VLOOKUP($CH159,'العاملين '!$A$3:$AS$260,46),0))","v":0},{"$f":"IF($CH159>0,VLOOKUP($CH159,'العاملين '!$A$3:$AR$260,29),0)","v":0},{"$f":"IF($CJ159=1,0.2,IF($CJ159=2,VLOOKUP($CH159,'العاملين '!$A$3:$AU$260,47),0))","v":0},{"$f":"IF($CJ159=1,0.05,IF($CJ159=2,VLOOKUP($CH159,'العاملين '!$A$3:$AU$260,47),0))","v":0},{"$f":"IF($CH159>0,VLOOKUP($CH159,'العاملين '!$A$3:$AR$260,30),0)","v":0},{"$f":"IF($CH159>0,VLOOKUP($CH159,'العاملين '!$A$3:$AR$260,31),0)","v":0},null,{"$f":"IF($CH159>0,VLOOKUP($CH159,'العاملين '!$A$3:$AR$260,33),0)","v":0},{"$f":"IF($CH159>0,VLOOKUP($CH159,'العاملين '!$A$3:$AR$260,34),0)","v":0},{"$f":"IF($CH159>0,VLOOKUP($CH159,'العاملين '!$A$3:$AR$260,35),0)","v":0},{"$f":"IF($CH159>0,VLOOKUP($CH159,'العاملين '!$A$3:$AR$260,36),0)","v":0},{"$f":"IF($CH159>0,VLOOKUP($CH159,'العاملين '!$A$3:$AR$260,37),0)","v":0},{"$f":"IF($CH159>0,VLOOKUP($CH159,'العاملين '!$A$3:$AR$260,38),0)","v":0},{"$f":"IF($CH159>0,VLOOKUP($CH159,'العاملين '!$A$3:$AR$260,39),0)","v":0},{"$f":"IF($CH159>0,VLOOKUP($CH159,'العاملين '!$A$3:$AR$260,40),0)","v":0},{"$f":"IF($CH159>0,VLOOKUP($CH159,'العاملين '!$A$3:$AR$260,41),0)","v":0},0,0,0,{"$f":"IF($CH159>0,VLOOKUP($CH159,'العاملين '!$A$3:$AR$260,2),0)","v":0},0,null,{"$f":"IF($CH159>0,VLOOKUP($CH159,'العاملين '!$A$3:$AR$260,3),0)","v":0},{"$f":"IF($CH159>0,VLOOKUP($CH159,'العاملين '!$A$3:$AR$260,43),0)","v":0},0]
[22,{"$f":"IF($CH160>0,VLOOKUP($CH160,'العاملين '!$A$3:$AR$260,8),0)","v":0}," "," "," "," "," ",{"$f":"IF($CH160>0,VLOOKUP($CH160,'العاملين '!$A$3:$AR$260,9),0)","v":0},{"$f":"IF($CH160>0,VLOOKUP($CH160,'العاملين '!$A$3:$AR$260,10),0)","v":0},{"$f":"IF($CH160>0,VLOOKUP($CH160,'العاملين '!$A$3:$AR$260,11),0)","v":0},{"$f":"IF($CH160>0,VLOOKUP($CH160,'العاملين '!$A$3:$AR$260,12),0)","v":0},{"$f":"IF($CH160>0,VLOOKUP($CH160,'العاملين '!$A$3:$AR$260,13),0)","v":0},0,{"$f":"IF($CH160>0,VLOOKUP($CH160,'العاملين '!$A$3:$AR$260,14),0)","v":0},{"$f":"IF($CH160>0,VLOOKUP($CH160,'العاملين '!$A$3:$AR$260,15),0)","v":0},{"$f":"IF($CH160>0,VLOOKUP($CH160,'العاملين '!$A$3:$AR$260,16),0)","v":0},{"$f":"IF($CH160>0,VLOOKUP($CH160,'العاملين '!$A$3:$AR$260,17),0)","v":0},{"$f":"IF($CH160>0,VLOOKUP($CH160,'العاملين '!$A$3:$AR$260,18),0)","v":0},{"$f":"IF($CH160>0,VLOOKUP($CH160,'العاملين '!$A$3:$AR$260,19),0)","v":0},{"$f":"IF($CH160>0,VLOOKUP($CH160,'العاملين '!$A$3:$AR$260,20),0)","v":0},{"$f":"IF($CH160>0,VLOOKUP($CH160,'العاملين '!$A$3:$AR$260,21),0)","v":0},{"$f":"IF($CH160>0,VLOOKUP($CH160,'العاملين '!$A$3:$AR$260,22),0)","v":0},{"$f":"IF($CH160>0,VLOOKUP($CH160,'العاملين '!$A$3:$AR$260,23),0)","v":0},{"$f":"IF($CH160>0,VLOOKUP($CH160,'العاملين '!$A$3:$AR$260,24),0)","v":0},{"$f":"IF($CH160>0,VLOOKUP($CH160,'العاملين '!$A$3:$AR$260,26),0)","v":0},null,null,null,null,null,null,null,null,null,null,null,null,null,null,{"$f":"IF($CH160>0,VLOOKUP($CH160,'العاملين '!$A$3:$AR$260,25),0)","v":0},0,0,0,0,0,0,0,"",{"$f":"IF($CH160>0,VLOOKUP($CH160,'العاملين '!$A$3:$AR$260,28),0)","v":0},0," "," "," ",null," "," "," "," ",0,0,0,0,0,{"$f":"IF($CJ160=1,ROUND(($B160)*7%,2),IF($CJ160=2,VLOOKUP($CH160,'العاملين '!$A$3:$AS$260,44),0))","v":0},{"$f":"IF($CJ160=1,0.5,IF($CJ160=2,VLOOKUP($CH160,'العاملين '!$A$3:$AS$260,45),0))","v":0},{"$f":"IF($CJ160=1,4.5,IF($CJ160=2,VLOOKUP($CH160,'العاملين '!$A$3:$AS$260,46),0))","v":0},{"$f":"IF($CH160>0,VLOOKUP($CH160,'العاملين '!$A$3:$AR$260,29),0)","v":0},{"$f":"IF($CJ160=1,0.2,IF($CJ160=2,VLOOKUP($CH160,'العاملين '!$A$3:$AU$260,47),0))","v":0},{"$f":"IF($CJ160=1,0.05,IF($CJ160=2,VLOOKUP($CH160,'العاملين '!$A$3:$AU$260,47),0))","v":0},{"$f":"IF($CH160>0,VLOOKUP($CH160,'العاملين '!$A$3:$AR$260,30),0)","v":0},{"$f":"IF($CH160>0,VLOOKUP($CH160,'العاملين '!$A$3:$AR$260,31),0)","v":0},null,{"$f":"IF($CH160>0,VLOOKUP($CH160,'العاملين '!$A$3:$AR$260,33),0)","v":0},{"$f":"IF($CH160>0,VLOOKUP($CH160,'العاملين '!$A$3:$AR$260,34),0)","v":0},{"$f":"IF($CH160>0,VLOOKUP($CH160,'العاملين '!$A$3:$AR$260,35),0)","v":0},{"$f":"IF($CH160>0,VLOOKUP($CH160,'العاملين '!$A$3:$AR$260,36),0)","v":0},{"$f":"IF($CH160>0,VLOOKUP($CH160,'العاملين '!$A$3:$AR$260,37),0)","v":0},{"$f":"IF($CH160>0,VLOOKUP($CH160,'العاملين '!$A$3:$AR$260,38),0)","v":0},{"$f":"IF($CH160>0,VLOOKUP($CH160,'العاملين '!$A$3:$AR$260,39),0)","v":0},{"$f":"IF($CH160>0,VLOOKUP($CH160,'العاملين '!$A$3:$AR$260,40),0)","v":0},{"$f":"IF($CH160>0,VLOOKUP($CH160,'العاملين '!$A$3:$AR$260,41),0)","v":0},0,0,0,{"$f":"IF($CH160>0,VLOOKUP($CH160,'العاملين '!$A$3:$AR$260,2),0)","v":0},0,null,{"$f":"IF($CH160>0,VLOOKUP($CH160,'العاملين '!$A$3:$AR$260,3),0)","v":0},{"$f":"IF($CH160>0,VLOOKUP($CH160,'العاملين '!$A$3:$AR$260,43),0)","v":0},0]
[23,{"$f":"IF($CH161>0,VLOOKUP($CH161,'العاملين '!$A$3:$AR$260,8),0)","v":0}," "," "," "," "," ",{"$f":"IF($CH161>0,VLOOKUP($CH161,'العاملين '!$A$3:$AR$260,9),0)","v":0},{"$f":"IF($CH161>0,VLOOKUP($CH161,'العاملين '!$A$3:$AR$260,10),0)","v":0},{"$f":"IF($CH161>0,VLOOKUP($CH161,'العاملين '!$A$3:$AR$260,11),0)","v":0},{"$f":"IF($CH161>0,VLOOKUP($CH161,'العاملين '!$A$3:$AR$260,12),0)","v":0},{"$f":"IF($CH161>0,VLOOKUP($CH161,'العاملين '!$A$3:$AR$260,13),0)","v":0},0,{"$f":"IF($CH161>0,VLOOKUP($CH161,'العاملين '!$A$3:$AR$260,14),0)","v":0},{"$f":"IF($CH161>0,VLOOKUP($CH161,'العاملين '!$A$3:$AR$260,15),0)","v":0},{"$f":"IF($CH161>0,VLOOKUP($CH161,'العاملين '!$A$3:$AR$260,16),0)","v":0},{"$f":"IF($CH161>0,VLOOKUP($CH161,'العاملين '!$A$3:$AR$260,17),0)","v":0},{"$f":"IF($CH161>0,VLOOKUP($CH161,'العاملين '!$A$3:$AR$260,18),0)","v":0},{"$f":"IF($CH161>0,VLOOKUP($CH161,'العاملين '!$A$3:$AR$260,19),0)","v":0},{"$f":"IF($CH161>0,VLOOKUP($CH161,'العاملين '!$A$3:$AR$260,20),0)","v":0},{"$f":"IF($CH161>0,VLOOKUP($CH161,'العاملين '!$A$3:$AR$260,21),0)","v":0},{"$f":"IF($CH161>0,VLOOKUP($CH161,'العاملين '!$A$3:$AR$260,22),0)","v":0},{"$f":"IF($CH161>0,VLOOKUP($CH161,'العاملين '!$A$3:$AR$260,23),0)","v":0},{"$f":"IF($CH161>0,VLOOKUP($CH161,'العاملين '!$A$3:$AR$260,24),0)","v":0},{"$f":"IF($CH161>0,VLOOKUP($CH161,'العاملين '!$A$3:$AR$260,26),0)","v":0},null,null,null,null,null,null,null,null,null,null,null,null,null,null,{"$f":"IF($CH161>0,VLOOKUP($CH161,'العاملين '!$A$3:$AR$260,25),0)","v":0},0,0,0,0,0,0,0,"",{"$f":"IF($CH161>0,VLOOKUP($CH161,'العاملين '!$A$3:$AR$260,28),0)","v":0},0," "," "," ",null," "," "," "," ",0,0,0,0,0,{"$f":"IF($CJ161=1,ROUND(($B161)*7%,2),IF($CJ161=2,VLOOKUP($CH161,'العاملين '!$A$3:$AS$260,44),0))","v":0},{"$f":"IF($CJ161=1,0.5,IF($CJ161=2,VLOOKUP($CH161,'العاملين '!$A$3:$AS$260,45),0))","v":0},{"$f":"IF($CJ161=1,4.5,IF($CJ161=2,VLOOKUP($CH161,'العاملين '!$A$3:$AS$260,46),0))","v":0},{"$f":"IF($CH161>0,VLOOKUP($CH161,'العاملين '!$A$3:$AR$260,29),0)","v":0},{"$f":"IF($CJ161=1,0.2,IF($CJ161=2,VLOOKUP($CH161,'العاملين '!$A$3:$AU$260,47),0))","v":0},{"$f":"IF($CJ161=1,0.05,IF($CJ161=2,VLOOKUP($CH161,'العاملين '!$A$3:$AU$260,47),0))","v":0},{"$f":"IF($CH161>0,VLOOKUP($CH161,'العاملين '!$A$3:$AR$260,30),0)","v":0},{"$f":"IF($CH161>0,VLOOKUP($CH161,'العاملين '!$A$3:$AR$260,31),0)","v":0},null,{"$f":"IF($CH161>0,VLOOKUP($CH161,'العاملين '!$A$3:$AR$260,33),0)","v":0},{"$f":"IF($CH161>0,VLOOKUP($CH161,'العاملين '!$A$3:$AR$260,34),0)","v":0},{"$f":"IF($CH161>0,VLOOKUP($CH161,'العاملين '!$A$3:$AR$260,35),0)","v":0},{"$f":"IF($CH161>0,VLOOKUP($CH161,'العاملين '!$A$3:$AR$260,36),0)","v":0},{"$f":"IF($CH161>0,VLOOKUP($CH161,'العاملين '!$A$3:$AR$260,37),0)","v":0},{"$f":"IF($CH161>0,VLOOKUP($CH161,'العاملين '!$A$3:$AR$260,38),0)","v":0},{"$f":"IF($CH161>0,VLOOKUP($CH161,'العاملين '!$A$3:$AR$260,39),0)","v":0},{"$f":"IF($CH161>0,VLOOKUP($CH161,'العاملين '!$A$3:$AR$260,40),0)","v":0},{"$f":"IF($CH161>0,VLOOKUP($CH161,'العاملين '!$A$3:$AR$260,41),0)","v":0},0,0,0,{"$f":"IF($CH161>0,VLOOKUP($CH161,'العاملين '!$A$3:$AR$260,2),0)","v":0},0,null,{"$f":"IF($CH161>0,VLOOKUP($CH161,'العاملين '!$A$3:$AR$260,3),0)","v":0},{"$f":"IF($CH161>0,VLOOKUP($CH161,'العاملين '!$A$3:$AR$260,43),0)","v":0},0]
[24,{"$f":"IF($CH162>0,VLOOKUP($CH162,'العاملين '!$A$3:$AR$260,8),0)","v":0}," "," "," "," "," ",{"$f":"IF($CH162>0,VLOOKUP($CH162,'العاملين '!$A$3:$AR$260,9),0)","v":0},{"$f":"IF($CH162>0,VLOOKUP($CH162,'العاملين '!$A$3:$AR$260,10),0)","v":0},{"$f":"IF($CH162>0,VLOOKUP($CH162,'العاملين '!$A$3:$AR$260,11),0)","v":0},{"$f":"IF($CH162>0,VLOOKUP($CH162,'العاملين '!$A$3:$AR$260,12),0)","v":0},{"$f":"IF($CH162>0,VLOOKUP($CH162,'العاملين '!$A$3:$AR$260,13),0)","v":0},0,{"$f":"IF($CH162>0,VLOOKUP($CH162,'العاملين '!$A$3:$AR$260,14),0)","v":0},{"$f":"IF($CH162>0,VLOOKUP($CH162,'العاملين '!$A$3:$AR$260,15),0)","v":0},{"$f":"IF($CH162>0,VLOOKUP($CH162,'العاملين '!$A$3:$AR$260,16),0)","v":0},{"$f":"IF($CH162>0,VLOOKUP($CH162,'العاملين '!$A$3:$AR$260,17),0)","v":0},{"$f":"IF($CH162>0,VLOOKUP($CH162,'العاملين '!$A$3:$AR$260,18),0)","v":0},{"$f":"IF($CH162>0,VLOOKUP($CH162,'العاملين '!$A$3:$AR$260,19),0)","v":0},{"$f":"IF($CH162>0,VLOOKUP($CH162,'العاملين '!$A$3:$AR$260,20),0)","v":0},{"$f":"IF($CH162>0,VLOOKUP($CH162,'العاملين '!$A$3:$AR$260,21),0)","v":0},{"$f":"IF($CH162>0,VLOOKUP($CH162,'العاملين '!$A$3:$AR$260,22),0)","v":0},{"$f":"IF($CH162>0,VLOOKUP($CH162,'العاملين '!$A$3:$AR$260,23),0)","v":0},{"$f":"IF($CH162>0,VLOOKUP($CH162,'العاملين '!$A$3:$AR$260,24),0)","v":0},{"$f":"IF($CH162>0,VLOOKUP($CH162,'العاملين '!$A$3:$AR$260,26),0)","v":0},null,null,null,null,null,null,null,null,null,null,null,null,null,null,{"$f":"IF($CH162>0,VLOOKUP($CH162,'العاملين '!$A$3:$AR$260,25),0)","v":0},0,0,0,0,0,0,0,"",{"$f":"IF($CH162>0,VLOOKUP($CH162,'العاملين '!$A$3:$AR$260,28),0)","v":0},0," "," "," ",null," "," "," "," ",0,0,0,0,0,{"$f":"IF($CJ162=1,ROUND(($B162)*7%,2),IF($CJ162=2,VLOOKUP($CH162,'العاملين '!$A$3:$AS$260,44),0))","v":0},{"$f":"IF($CJ162=1,0.5,IF($CJ162=2,VLOOKUP($CH162,'العاملين '!$A$3:$AS$260,45),0))","v":0},{"$f":"IF($CJ162=1,4.5,IF($CJ162=2,VLOOKUP($CH162,'العاملين '!$A$3:$AS$260,46),0))","v":0},{"$f":"IF($CH162>0,VLOOKUP($CH162,'العاملين '!$A$3:$AR$260,29),0)","v":0},{"$f":"IF($CJ162=1,0.2,IF($CJ162=2,VLOOKUP($CH162,'العاملين '!$A$3:$AU$260,47),0))","v":0},{"$f":"IF($CJ162=1,0.05,IF($CJ162=2,VLOOKUP($CH162,'العاملين '!$A$3:$AU$260,47),0))","v":0},{"$f":"IF($CH162>0,VLOOKUP($CH162,'العاملين '!$A$3:$AR$260,30),0)","v":0},{"$f":"IF($CH162>0,VLOOKUP($CH162,'العاملين '!$A$3:$AR$260,31),0)","v":0},null,{"$f":"IF($CH162>0,VLOOKUP($CH162,'العاملين '!$A$3:$AR$260,33),0)","v":0},{"$f":"IF($CH162>0,VLOOKUP($CH162,'العاملين '!$A$3:$AR$260,34),0)","v":0},{"$f":"IF($CH162>0,VLOOKUP($CH162,'العاملين '!$A$3:$AR$260,35),0)","v":0},{"$f":"IF($CH162>0,VLOOKUP($CH162,'العاملين '!$A$3:$AR$260,36),0)","v":0},{"$f":"IF($CH162>0,VLOOKUP($CH162,'العاملين '!$A$3:$AR$260,37),0)","v":0},{"$f":"IF($CH162>0,VLOOKUP($CH162,'العاملين '!$A$3:$AR$260,38),0)","v":0},{"$f":"IF($CH162>0,VLOOKUP($CH162,'العاملين '!$A$3:$AR$260,39),0)","v":0},{"$f":"IF($CH162>0,VLOOKUP($CH162,'العاملين '!$A$3:$AR$260,40),0)","v":0},{"$f":"IF($CH162>0,VLOOKUP($CH162,'العاملين '!$A$3:$AR$260,41),0)","v":0},0,0,0,{"$f":"IF($CH162>0,VLOOKUP($CH162,'العاملين '!$A$3:$AR$260,2),0)","v":0},0,null,{"$f":"IF($CH162>0,VLOOKUP($CH162,'العاملين '!$A$3:$AR$260,3),0)","v":0},{"$f":"IF($CH162>0,VLOOKUP($CH162,'العاملين '!$A$3:$AR$260,43),0)","v":0},0]
[25,{"$f":"IF($CH163>0,VLOOKUP($CH163,'العاملين '!$A$3:$AR$260,8),0)","v":0}," "," "," "," "," ",{"$f":"IF($CH163>0,VLOOKUP($CH163,'العاملين '!$A$3:$AR$260,9),0)","v":0},{"$f":"IF($CH163>0,VLOOKUP($CH163,'العاملين '!$A$3:$AR$260,10),0)","v":0},{"$f":"IF($CH163>0,VLOOKUP($CH163,'العاملين '!$A$3:$AR$260,11),0)","v":0},{"$f":"IF($CH163>0,VLOOKUP($CH163,'العاملين '!$A$3:$AR$260,12),0)","v":0},{"$f":"IF($CH163>0,VLOOKUP($CH163,'العاملين '!$A$3:$AR$260,13),0)","v":0},0,{"$f":"IF($CH163>0,VLOOKUP($CH163,'العاملين '!$A$3:$AR$260,14),0)","v":0},{"$f":"IF($CH163>0,VLOOKUP($CH163,'العاملين '!$A$3:$AR$260,15),0)","v":0},{"$f":"IF($CH163>0,VLOOKUP($CH163,'العاملين '!$A$3:$AR$260,16),0)","v":0},{"$f":"IF($CH163>0,VLOOKUP($CH163,'العاملين '!$A$3:$AR$260,17),0)","v":0},{"$f":"IF($CH163>0,VLOOKUP($CH163,'العاملين '!$A$3:$AR$260,18),0)","v":0},{"$f":"IF($CH163>0,VLOOKUP($CH163,'العاملين '!$A$3:$AR$260,19),0)","v":0},{"$f":"IF($CH163>0,VLOOKUP($CH163,'العاملين '!$A$3:$AR$260,20),0)","v":0},{"$f":"IF($CH163>0,VLOOKUP($CH163,'العاملين '!$A$3:$AR$260,21),0)","v":0},{"$f":"IF($CH163>0,VLOOKUP($CH163,'العاملين '!$A$3:$AR$260,22),0)","v":0},{"$f":"IF($CH163>0,VLOOKUP($CH163,'العاملين '!$A$3:$AR$260,23),0)","v":0},{"$f":"IF($CH163>0,VLOOKUP($CH163,'العاملين '!$A$3:$AR$260,24),0)","v":0},{"$f":"IF($CH163>0,VLOOKUP($CH163,'العاملين '!$A$3:$AR$260,26),0)","v":0},null,null,null,null,null,null,null,null,null,null,null,null,null,null,{"$f":"IF($CH163>0,VLOOKUP($CH163,'العاملين '!$A$3:$AR$260,25),0)","v":0},0,0,0,0,0,0,0,"",{"$f":"IF($CH163>0,VLOOKUP($CH163,'العاملين '!$A$3:$AR$260,28),0)","v":0},0," "," "," ",null," "," "," "," ",0,0,0,0,0,{"$f":"IF($CJ163=1,ROUND(($B163)*7%,2),IF($CJ163=2,VLOOKUP($CH163,'العاملين '!$A$3:$AS$260,44),0))","v":0},{"$f":"IF($CJ163=1,0.5,IF($CJ163=2,VLOOKUP($CH163,'العاملين '!$A$3:$AS$260,45),0))","v":0},{"$f":"IF($CJ163=1,4.5,IF($CJ163=2,VLOOKUP($CH163,'العاملين '!$A$3:$AS$260,46),0))","v":0},{"$f":"IF($CH163>0,VLOOKUP($CH163,'العاملين '!$A$3:$AR$260,29),0)","v":0},{"$f":"IF($CJ163=1,0.2,IF($CJ163=2,VLOOKUP($CH163,'العاملين '!$A$3:$AU$260,47),0))","v":0},{"$f":"IF($CJ163=1,0.05,IF($CJ163=2,VLOOKUP($CH163,'العاملين '!$A$3:$AU$260,47),0))","v":0},{"$f":"IF($CH163>0,VLOOKUP($CH163,'العاملين '!$A$3:$AR$260,30),0)","v":0},{"$f":"IF($CH163>0,VLOOKUP($CH163,'العاملين '!$A$3:$AR$260,31),0)","v":0},null,{"$f":"IF($CH163>0,VLOOKUP($CH163,'العاملين '!$A$3:$AR$260,33),0)","v":0},{"$f":"IF($CH163>0,VLOOKUP($CH163,'العاملين '!$A$3:$AR$260,34),0)","v":0},{"$f":"IF($CH163>0,VLOOKUP($CH163,'العاملين '!$A$3:$AR$260,35),0)","v":0},{"$f":"IF($CH163>0,VLOOKUP($CH163,'العاملين '!$A$3:$AR$260,36),0)","v":0},{"$f":"IF($CH163>0,VLOOKUP($CH163,'العاملين '!$A$3:$AR$260,37),0)","v":0},{"$f":"IF($CH163>0,VLOOKUP($CH163,'العاملين '!$A$3:$AR$260,38),0)","v":0},{"$f":"IF($CH163>0,VLOOKUP($CH163,'العاملين '!$A$3:$AR$260,39),0)","v":0},{"$f":"IF($CH163>0,VLOOKUP($CH163,'العاملين '!$A$3:$AR$260,40),0)","v":0},{"$f":"IF($CH163>0,VLOOKUP($CH163,'العاملين '!$A$3:$AR$260,41),0)","v":0},0,0,0,{"$f":"IF($CH163>0,VLOOKUP($CH163,'العاملين '!$A$3:$AR$260,2),0)","v":0},0,null,{"$f":"IF($CH163>0,VLOOKUP($CH163,'العاملين '!$A$3:$AR$260,3),0)","v":0},{"$f":"IF($CH163>0,VLOOKUP($CH163,'العاملين '!$A$3:$AR$260,43),0)","v":0},0]
[null,{"$f":"SUM(B139:B163)","v":0},{"$f":"SUM(C139:C163)","v":{"$error":"#VALUE!"}},{"$error":"#VALUE!"},{"$error":"#VALUE!"},{"$error":"#VALUE!"},{"$error":"#VALUE!"},1176.0899999999999,1950.7199999999998,0,109.05,110.05,3345.91,117.6,0,8,12,0,0,0,0,0,0,0,0,null,null,null,null,null,null,null,null,null,null,null,null,null,null,0,3483.5099999999998,3483.5099999999998,0,522.53,34.840000000000003,104.50999999999999,661.88000000000011,20,0,{"$error":"#VALUE!"},{"$error":"#VALUE!"},{"$error":"#VALUE!"},{"$error":"#VALUE!"},0,{"$error":"#VALUE!"},{"$error":"#VALUE!"},{"$error":"#VALUE!"},{"$error":"#VALUE!"},522.53,34.840000000000003,348.35,104.50999999999999,34.840000000000003,{"$error":"#VALUE!"},1,9,0,0.4,0.1,0,0,0,0,0,0,0,0,2,74.289999999999992,30,{"$f":"SUM(CC139:CC163)","v":0},{"$f":"SUM(CD139:CD163)","v":{"$error":"#VALUE!"}},{"$f":"SUM(CE139:CE163)","v":{"$error":"#VALUE!"}},{"$f":"SUM(CF139:CF163)","v":{"$error":"#VALUE!"}},null,null,null,null,null,{"$error":"#VALUE!"}]
[]
[]
[]
["كشــــــــــــــــــــــــــــــف المرتبات عن شــــــــــــــــــــــــــــــــهر /",null,null,null,null,null,null,null,null,null,null,null,null,null,null,null,null,null,null,null,null,null,null,null,null,null,null,null,null,null,null,null,null,null,null,null,null,null,null,null,null,null,null,null,null,null,null,null,null,null,{"$f":"ورقة1!C3","v":"مارس 2018"},null,null,null,null,null," ","ســــــــــــــــــــــــــــــــنة /",null,null,null,null,null,{"$f":"IF($CG181>0,ورقة1!$C$5,0)","v":0},null,null,null,null,null,"م"]
[{"$f":"ورقة1!C1","v":"الشهداء التعليمية"},null,null,null,null,null,null,null,null,null,null,null,null,null,null,null,null,null,null,null,null,null,null,null,null,null,null,null,null,null,null,null,null,null,null,null,null,null,null,null,null,null,null,null,null,null,null,null,null,null,"مدرسة /  ",null,null,null,null,{"$f":"IF($CG181>0,ورقة1!$C$2,\" \")","v":" "},null,null,null,null,null,null,null,null,null,null,null,null,null,null,null,null,null,null,null,null,null,null,null,null,null,null,null,null,null,{"$f":"FLOOR(CM181,0.05)","v":0}]
["م ","الاســــــــــــــــــــــــــتحـــــــــــــــــــــــــــــــــقــــــــــــــــــــــــــــــــــــــــــــــــــــــــــــــــــــــــــاقـــــــــــــــــــــــــــــــــــات ",null,null,null,null,null,null,null,null,null,null,null,null,null,null,null,null,null,null,null,null,null,null,null,null,null,null,null,null,null,null,null,null,null,null,null,null,null,null,null,null,null,null,null,null,null,null,null,"جملة الاستــــحقــاقات ","الأســـــــــــــــــــــــــــــــــــــتـــــــقـــــــــــــــــطاعـــــــــــــــــات ",null,null,null,null,null,null,null,null,null,null,null,null,null,null,null,null,null,null,null,null,null,null,null,null,null,null,null,null,null,null,null,"جملة الأستقطاعات ","الصافي المستحق ","الاســـــــــــــــــــم ","التوقيع بالاســــــــــــتلام ","صافي الشهر السابق ",null,"اسم البنك"]
[null,"الاجور الاســــــــــــــــــــــــــاسية ",null,null,null,null,"الجملة ","الاجور المتغيرة الخاضعة بكامل قيمتها للتأمينات والمعاشات ",null,null,null,null,"الجملة ","الاجور المتغيرة الاخري بنسبة        %",null,null,null,null,null,null,null,null,null,null,null,null,null,null,null,null,null,null,null,null,null,null,null,null,null,null,"الجملة ",{"$f":"'العاملين '!BA171","v":0},"غير خاضع","حصص الاجور المتغيرة ",null,null,"الجملة ","منحة ",{"$f":"'العاملين '!$AA$1","v":0},null,"لحســــــــــــــــــــاب الهيئة القوميـــــــــــــــــــــة للتـــــــــــــــــأمين الإجتـــــــــــــــــــــــــماعي ",null,null,null,null,null,null,null,null,null,null,null,null,null,null,null,null,null,null,"لحساب جاري دائنة مصلحة الضرائب ",null,null,"لحساب دائنين مختلفين "]
[null,null,null,null,null,null,null,null,null,null,null,null,null,null,null,null,null,null,null,null,null,null,null,null,null,null,null,null,null,null,null,null,null,null,null,null,null,null,null,null,null,"خاضع",null,null,null,null,null,null,null,null,"استقطاعات الأجور الاســــــــــــــــــاسية ",null,null,null,null,null,null,null,"استقطاعات الأجور المتغيرة ",null,null,null,null,"الأقساط الخاصة عن الأجور الأساسية ",null,null,null,null,null,"ضريبة دخل  ","دمغة عادية   "]
[null,"المرتب "," حصة الحكومة  15%","إصابة عمل  1%","أ 2 %","أ 3 %",null,"علاوة 2012","علاوة 2013","علاوة 2014","علاوة 2015","علاوة 2016",null,{"$f":"'العاملين '!$N$1","v":0},{"$f":"'العاملين '!$O$1","v":0},{"$f":"'العاملين '!$P$1","v":0},{"$f":"'العاملين '!$Q$1","v":0},{"$f":"'العاملين '!$R$1","v":0},{"$f":"'العاملين '!#REF!","v":{"$error":"#REF!"}},{"$f":"'العاملين '!$S$1","v":0},{"$f":"'العاملين '!$T$1","v":0},{"$f":"'العاملين '!$U$1","v":0},{"$f":"'العاملين '!$V$1","v":0},{"$f":"'العاملين '!$W$1","v":0},"الحد الادنى",null,null,null,null,null,null,null,null,null,null,null,null,null,null,{"$f":"'العاملين '!$X$1","v":0},null,null,null,"ألـ 15 %","ألـ 1 %","ألـ 3%",null,null,null,null," حصة الحكومة  15%","إصابة عمل  1%","الـ 2%",null," حصة الموظف  10%",0.08,"ألـ 3%","ألـ 1 %"," حصة الحكومة  15%","إصابة عمل  1%"," حصة الموظف  10%",0.03,0.01,"زمالة   7 %","زمالة  جماعى","نقابه","رابطة ","نادى محافظة","نادي الادارة",null,null,null,{"$f":"'العاملين '!$AF$1","v":0},{"$f":"'العاملين '!$AG$1","v":0},{"$f":"'العاملين '!$AH$1","v":0},{"$f":"'العاملين '!$AI$1","v":0},{"$f":"'العاملين '!$AJ$1","v":0},{"$f":"'العاملين '!$AK$1","v":0},{"$f":"'العاملين '!$AL$1","v":0},{"$f":"'العاملين '!$AM$1","v":0},{"$f":"'العاملين '!$AN$1","v":0},"كسر قرش"]
[1,{"$f":"IF($CH174>0,VLOOKUP($CH174,'العاملين '!$A$3:$AR$260,8),0)","v":"معلم أول"},{"$f":"IF($B174>0,ROUND(($B174)*15%,2),\" \")","v":{"$error":"#VALUE!"}},{"$f":"IF($B174>0,ROUND(($B174)*1%,2),\" \")","v":{"$error":"#VALUE!"}},{"$f":"IF($B174>0,ROUND(($B174)*2%,2),\" \")","v":{"$error":"#VALUE!"}},{"$f":"IF($B174>0,ROUND(($B174)*3%,2),\" \")","v":{"$error":"#VALUE!"}},{"$f":"IF($B174>0,SUM(B174:F174),\" \")","v":{"$error":"#VALUE!"}},{"$f":"IF($CH174>0,VLOOKUP($CH174,'العاملين '!$A$3:$AR$260,9),0)","v":351.96},{"$f":"IF($CH174>0,VLOOKUP($CH174,'العاملين '!$A$3:$AR$260,10),0)","v":652.6},{"$f":"IF($CH174>0,VLOOKUP($CH174,'العاملين '!$A$3:$AR$260,11),0)","v":0},{"$f":"IF($CH174>0,VLOOKUP($CH174,'العاملين '!$A$3:$AR$260,12),0)","v":32.54},{"$f":"IF($CH174>0,VLOOKUP($CH174,'العاملين '!$A$3:$AR$260,13),0)","v":33.04},{"$f":"IF($B174>0,SUM(H174:L174),0)","v":1070.1399999999999},{"$f":"IF($CH174>0,VLOOKUP($CH174,'العاملين '!$A$3:$AR$260,14),0)","v":35.19},{"$f":"IF($CH174>0,VLOOKUP($CH174,'العاملين '!$A$3:$AR$260,15),0)","v":0},{"$f":"IF($CH174>0,VLOOKUP($CH174,'العاملين '!$A$3:$AR$260,16),0)","v":4},{"$f":"IF($CH174>0,VLOOKUP($CH174,'العاملين '!$A$3:$AR$260,17),0)","v":4},{"$f":"IF($CH174>0,VLOOKUP($CH174,'العاملين '!$A$3:$AR$260,18),0)","v":0},{"$f":"IF($CH174>0,VLOOKUP($CH174,'العاملين '!$A$3:$AR$260,19),0)","v":0},{"$f":"IF($CH174>0,VLOOKUP($CH174,'العاملين '!$A$3:$AR$260,20),0)","v":0},{"$f":"IF($CH174>0,VLOOKUP($CH174,'العاملين '!$A$3:$AR$260,21),0)","v":0},{"$f":"IF($CH174>0,VLOOKUP($CH174,'العاملين '!$A$3:$AR$260,22),0)","v":0},{"$f":"IF($CH174>0,VLOOKUP($CH174,'العاملين '!$A$3:$AR$260,23),0)","v":0},{"$f":"IF($CH174>0,VLOOKUP($CH174,'العاملين '!$A$3:$AR$260,24),0)","v":0},{"$f":"IF($CH174>0,VLOOKUP($CH174,'العاملين '!$A$3:$AR$260,26),0)","v":0},null,null,null,null,null,null,null,null,null,null,null,null,null,null,{"$f":"IF($CH174>0,VLOOKUP($CH174,'العاملين '!$A$3:$AR$260,25),0)","v":0},{"$f":"SUM(M174:AN174)","v":1113.33},{"$f":"IF(AO174>$AP$4,$AP$4,AO174)","v":1113.33},{"$f":"AO174-AP174","v":0},{"$f":"ROUND(($AP174)*15%,2)","v":167},{"$f":"ROUND(($AP174)*1%,2)","v":11.13},{"$f":"ROUND(($AP174)*3%,2)","v":33.4},{"$f":"SUM(AR174:AT174)","v":211.53},{"$f":"IF(B174>0,10,\"\")","v":10},{"$f":"IF($CH174>0,VLOOKUP($CH174,'العاملين '!$A$3:$AR$260,28),0)","v":0},{"$f":"SUM(AV174,AU174,AO174,G174,AW174)","v":{"$error":"#VALUE!"}},{"$f":"IF($B174>0,ROUND(($B174)*15%,2),\" \")","v":{"$error":"#VALUE!"}},{"$f":"IF($B174>0,ROUND(($B174)*1%,2),\" \")","v":{"$error":"#VALUE!"}},{"$f":"IF($B174>0,ROUND(($B174)*2%,2),\" \")","v":{"$error":"#VALUE!"}},null,{"$f":"IF($B174>0,ROUND(($B174)*10%,2),\" \")","v":{"$error":"#VALUE!"}},{"$f":"IF($B174>0,ROUND(($B174)*8%,2),\" \")","v":{"$error":"#VALUE!"}},{"$f":"IF($B174>0,ROUND(($B174)*3%,2),\" \")","v":{"$error":"#VALUE!"}},{"$f":"IF($B174>0,ROUND(($B174)*1%,2),\" \")","v":{"$error":"#VALUE!"}},{"$f":"AR174","v":167},11.13,{"$f":"ROUND(($AP174)*10%,2)","v":111.33},{"$f":"AT174","v":33.4},{"$f":"AS174","v":11.13},{"$f":"IF($CJ174=1,ROUND(($B174)*7%,2),IF($CJ174=2,VLOOKUP($CH174,'العاملين '!$A$3:$AS$260,44),0))","v":{"$error":"#VALUE!"}},{"$f":"IF($CJ174=1,0.5,IF($CJ174=2,VLOOKUP($CH174,'العاملين '!$A$3:$AS$260,45),0))","v":0.5},{"$f":"IF($CJ174=1,4.5,IF($CJ174=2,VLOOKUP($CH174,'العاملين '!$A$3:$AS$260,46),0))","v":4.5},{"$f":"IF($CH174>0,VLOOKUP($CH174,'العاملين '!$A$3:$AR$260,29),0)","v":0},{"$f":"IF($CJ174=1,0.2,IF($CJ174=2,VLOOKUP($CH174,'العاملين '!$A$3:$AU$260,47),0))","v":0.2},{"$f":"IF($CJ174=1,0.05,IF($CJ174=2,VLOOKUP($CH174,'العاملين '!$A$3:$AU$260,47),0))","v":0.05},{"$f":"IF($CH174>0,VLOOKUP($CH174,'العاملين '!$A$3:$AR$260,30),0)","v":0},{"$f":"IF($CH174>0,VLOOKUP($CH174,'العاملين '!$A$3:$AR$260,31),0)","v":0},null,{"$f":"IF($CH174>0,VLOOKUP($CH174,'العاملين '!$A$3:$AR$260,33),0)","v":0},{"$f":"IF($CH174>0,VLOOKUP($CH174,'العاملين '!$A$3:$AR$260,34),0)","v":0},{"$f":"IF($CH174>0,VLOOKUP($CH174,'العاملين '!$A$3:$AR$260,35),0)","v":0},{"$f":"IF($CH174>0,VLOOKUP($CH174,'العاملين '!$A$3:$AR$260,36),0)","v":0},{"$f":"IF($CH174>0,VLOOKUP($CH174,'العاملين '!$A$3:$AR$260,37),0)","v":0},{"$f":"IF($CH174>0,VLOOKUP($CH174,'العاملين '!$A$3:$AR$260,38),0)","v":1},{"$f":"IF($CH174>0,VLOOKUP($CH174,'العاملين '!$A$3:$AR$260,39),0)","v":10.65},{"$f":"IF($CH174>0,VLOOKUP($CH174,'العاملين '!$A$3:$AR$260,40),0)","v":11.15},{"$f":"IF($CH174>0,VLOOKUP($CH174,'العاملين '!$A$3:$AR$260,41),0)","v":0},{"$f":"CL174-CF174","v":{"$error":"#VALUE!"}},{"$f":"SUM(AY174:CD174)","v":{"$error":"#VALUE!"}},{"$f":"FLOOR(CL174,0.05)","v":{"$error":"#VALUE!"}},{"$f":"IF($CH174>0,VLOOKUP($CH174,'العاملين '!$A$3:$AR$260,2),0)","v":"محمد20"},20,null,{"$f":"IF($CH174>0,VLOOKUP($CH174,'العاملين '!$A$3:$AR$260,3),0)","v":1},{"$f":"IF($CH174>0,VLOOKUP($CH174,'العاملين '!$A$3:$AR$260,43),0)","v":0},{"$f":"AX174-SUM(AY174:CC174)","v":{"$error":"#VALUE!"}}]
[2,{"$f":"IF($CH175>0,VLOOKUP($CH175,'العاملين '!$A$3:$AR$260,8),0)","v":0}," "," "," "," "," ",{"$f":"IF($CH175>0,VLOOKUP($CH175,'العاملين '!$A$3:$AR$260,9),0)","v":0},{"$f":"IF($CH175>0,VLOOKUP($CH175,'العاملين '!$A$3:$AR$260,10),0)","v":0},{"$f":"IF($CH175>0,VLOOKUP($CH175,'العاملين '!$A$3:$AR$260,11),0)","v":0},{"$f":"IF($CH175>0,VLOOKUP($CH175,'العاملين '!$A$3:$AR$260,12),0)","v":0},{"$f":"IF($CH175>0,VLOOKUP($CH175,'العاملين '!$A$3:$AR$260,13),0)","v":0},0,{"$f":"IF($CH175>0,VLOOKUP($CH175,'العاملين '!$A$3:$AR$260,14),0)","v":0},{"$f":"IF($CH175>0,VLOOKUP($CH175,'العاملين '!$A$3:$AR$260,15),0)","v":0},{"$f":"IF($CH175>0,VLOOKUP($CH175,'العاملين '!$A$3:$AR$260,16),0)","v":0},{"$f":"IF($CH175>0,VLOOKUP($CH175,'العاملين '!$A$3:$AR$260,17),0)","v":0},{"$f":"IF($CH175>0,VLOOKUP($CH175,'العاملين '!$A$3:$AR$260,18),0)","v":0},{"$f":"IF($CH175>0,VLOOKUP($CH175,'العاملين '!$A$3:$AR$260,19),0)","v":0},{"$f":"IF($CH175>0,VLOOKUP($CH175,'العاملين '!$A$3:$AR$260,20),0)","v":0},{"$f":"IF($CH175>0,VLOOKUP($CH175,'العاملين '!$A$3:$AR$260,21),0)","v":0},{"$f":"IF($CH175>0,VLOOKUP($CH175,'العاملين '!$A$3:$AR$260,22),0)","v":0},{"$f":"IF($CH175>0,VLOOKUP($CH175,'العاملين '!$A$3:$AR$260,23),0)","v":0},{"$f":"IF($CH175>0,VLOOKUP($CH175,'العاملين '!$A$3:$AR$260,24),0)","v":0},{"$f":"IF($CH175>0,VLOOKUP($CH175,'العاملين '!$A$3:$AR$260,26),0)","v":0},null,null,null,null,null,null,null,null,null,null,null,null,null,null,{"$f":"IF($CH175>0,VLOOKUP($CH175,'العاملين '!$A$3:$AR$260,25),0)","v":0},0,0,0,0,0,0,0,"",{"$f":"IF($CH175>0,VLOOKUP($CH175,'العاملين '!$A$3:$AR$260,28),0)","v":0},0," "," "," ",null," "," "," "," ",0,0,0,0,0,{"$f":"IF($CJ175=1,ROUND(($B175)*7%,2),IF($CJ175=2,VLOOKUP($CH175,'العاملين '!$A$3:$AS$260,44),0))","v":0},{"$f":"IF($CJ175=1,0.5,IF($CJ175=2,VLOOKUP($CH175,'العاملين '!$A$3:$AS$260,45),0))","v":0},{"$f":"IF($CJ175=1,4.5,IF($CJ175=2,VLOOKUP($CH175,'العاملين '!$A$3:$AS$260,46),0))","v":0},{"$f":"IF($CH175>0,VLOOKUP($CH175,'العاملين '!$A$3:$AR$260,29),0)","v":0},{"$f":"IF($CJ175=1,0.2,IF($CJ175=2,VLOOKUP($CH175,'العاملين '!$A$3:$AU$260,47),0))","v":0},{"$f":"IF($CJ175=1,0.05,IF($CJ175=2,VLOOKUP($CH175,'العاملين '!$A$3:$AU$260,47),0))","v":0},{"$f":"IF($CH175>0,VLOOKUP($CH175,'العاملين '!$A$3:$AR$260,30),0)","v":0},{"$f":"IF($CH175>0,VLOOKUP($CH175,'العاملين '!$A$3:$AR$260,31),0)","v":0},null,{"$f":"IF($CH175>0,VLOOKUP($CH175,'العاملين '!$A$3:$AR$260,33),0)","v":0},{"$f":"IF($CH175>0,VLOOKUP($CH175,'العاملين '!$A$3:$AR$260,34),0)","v":0},{"$f":"IF($CH175>0,VLOOKUP($CH175,'العاملين '!$A$3:$AR$260,35),0)","v":0},{"$f":"IF($CH175>0,VLOOKUP($CH175,'العاملين '!$A$3:$AR$260,36),0)","v":0},{"$f":"IF($CH175>0,VLOOKUP($CH175,'العاملين '!$A$3:$AR$260,37),0)","v":0},{"$f":"IF($CH175>0,VLOOKUP($CH175,'العاملين '!$A$3:$AR$260,38),0)","v":0},{"$f":"IF($CH175>0,VLOOKUP($CH175,'العاملين '!$A$3:$AR$260,39),0)","v":0},{"$f":"IF($CH175>0,VLOOKUP($CH175,'العاملين '!$A$3:$AR$260,40),0)","v":0},{"$f":"IF($CH175>0,VLOOKUP($CH175,'العاملين '!$A$3:$AR$260,41),0)","v":0},0,0,0,{"$f":"IF($CH175>0,VLOOKUP($CH175,'العاملين '!$A$3:$AR$260,2),0)","v":0},0,null,{"$f":"IF($CH175>0,VLOOKUP($CH175,'العاملين '!$A$3:$AR$260,3),0)","v":0},{"$f":"IF($CH175>0,VLOOKUP($CH175,'العاملين '!$A$3:$AR$260,43),0)","v":0},0]
[3,{"$f":"IF($CH176>0,VLOOKUP($CH176,'العاملين '!$A$3:$AR$260,8),0)","v":0}," "," "," "," "," ",{"$f":"IF($CH176>0,VLOOKUP($CH176,'العاملين '!$A$3:$AR$260,9),0)","v":0},{"$f":"IF($CH176>0,VLOOKUP($CH176,'العاملين '!$A$3:$AR$260,10),0)","v":0},{"$f":"IF($CH176>0,VLOOKUP($CH176,'العاملين '!$A$3:$AR$260,11),0)","v":0},{"$f":"IF($CH176>0,VLOOKUP($CH176,'العاملين '!$A$3:$AR$260,12),0)","v":0},{"$f":"IF($CH176>0,VLOOKUP($CH176,'العاملين '!$A$3:$AR$260,13),0)","v":0},0,{"$f":"IF($CH176>0,VLOOKUP($CH176,'العاملين '!$A$3:$AR$260,14),0)","v":0},{"$f":"IF($CH176>0,VLOOKUP($CH176,'العاملين '!$A$3:$AR$260,15),0)","v":0},{"$f":"IF($CH176>0,VLOOKUP($CH176,'العاملين '!$A$3:$AR$260,16),0)","v":0},{"$f":"IF($CH176>0,VLOOKUP($CH176,'العاملين '!$A$3:$AR$260,17),0)","v":0},{"$f":"IF($CH176>0,VLOOKUP($CH176,'العاملين '!$A$3:$AR$260,18),0)","v":0},{"$f":"IF($CH176>0,VLOOKUP($CH176,'العاملين '!$A$3:$AR$260,19),0)","v":0},{"$f":"IF($CH176>0,VLOOKUP($CH176,'العاملين '!$A$3:$AR$260,20),0)","v":0},{"$f":"IF($CH176>0,VLOOKUP($CH176,'العاملين '!$A$3:$AR$260,21),0)","v":0},{"$f":"IF($CH176>0,VLOOKUP($CH176,'العاملين '!$A$3:$AR$260,22),0)","v":0},{"$f":"IF($CH176>0,VLOOKUP($CH176,'العاملين '!$A$3:$AR$260,23),0)","v":0},{"$f":"IF($CH176>0,VLOOKUP($CH176,'العاملين '!$A$3:$AR$260,24),0)","v":0},{"$f":"IF($CH176>0,VLOOKUP($CH176,'العاملين '!$A$3:$AR$260,26),0)","v":0},null,null,null,null,null,null,null,null,null,null,null,null,null,null,{"$f":"IF($CH176>0,VLOOKUP($CH176,'العاملين '!$A$3:$AR$260,25),0)","v":0},0,0,0,0,0,0,0,"",{"$f":"IF($CH176>0,VLOOKUP($CH176,'العاملين '!$A$3:$AR$260,28),0)","v":0},0," "," "," ",null," "," "," "," ",0,0,0,0,0,{"$f":"IF($CJ176=1,ROUND(($B176)*7%,2),IF($CJ176=2,VLOOKUP($CH176,'العاملين '!$A$3:$AS$260,44),0))","v":0},{"$f":"IF($CJ176=1,0.5,IF($CJ176=2,VLOOKUP($CH176,'العاملين '!$A$3:$AS$260,45),0))","v":0},{"$f":"IF($CJ176=1,4.5,IF($CJ176=2,VLOOKUP($CH176,'العاملين '!$A$3:$AS$260,46),0))","v":0},{"$f":"IF($CH176>0,VLOOKUP($CH176,'العاملين '!$A$3:$AR$260,29),0)","v":0},{"$f":"IF($CJ176=1,0.2,IF($CJ176=2,VLOOKUP($CH176,'العاملين '!$A$3:$AU$260,47),0))","v":0},{"$f":"IF($CJ176=1,0.05,IF($CJ176=2,VLOOKUP($CH176,'العاملين '!$A$3:$AU$260,47),0))","v":0},{"$f":"IF($CH176>0,VLOOKUP($CH176,'العاملين '!$A$3:$AR$260,30),0)","v":0},{"$f":"IF($CH176>0,VLOOKUP($CH176,'العاملين '!$A$3:$AR$260,31),0)","v":0},null,{"$f":"IF($CH176>0,VLOOKUP($CH176,'العاملين '!$A$3:$AR$260,33),0)","v":0},{"$f":"IF($CH176>0,VLOOKUP($CH176,'العاملين '!$A$3:$AR$260,34),0)","v":0},{"$f":"IF($CH176>0,VLOOKUP($CH176,'العاملين '!$A$3:$AR$260,35),0)","v":0},{"$f":"IF($CH176>0,VLOOKUP($CH176,'العاملين '!$A$3:$AR$260,36),0)","v":0},{"$f":"IF($CH176>0,VLOOKUP($CH176,'العاملين '!$A$3:$AR$260,37),0)","v":0},{"$f":"IF($CH176>0,VLOOKUP($CH176,'العاملين '!$A$3:$AR$260,38),0)","v":0},{"$f":"IF($CH176>0,VLOOKUP($CH176,'العاملين '!$A$3:$AR$260,39),0)","v":0},{"$f":"IF($CH176>0,VLOOKUP($CH176,'العاملين '!$A$3:$AR$260,40),0)","v":0},{"$f":"IF($CH176>0,VLOOKUP($CH176,'العاملين '!$A$3:$AR$260,41),0)","v":0},0,0,0,{"$f":"IF($CH176>0,VLOOKUP($CH176,'العاملين '!$A$3:$AR$260,2),0)","v":0},0,null,{"$f":"IF($CH176>0,VLOOKUP($CH176,'العاملين '!$A$3:$AR$260,3),0)","v":0},{"$f":"IF($CH176>0,VLOOKUP($CH176,'العاملين '!$A$3:$AR$260,43),0)","v":0},0]
[4,{"$f":"IF($CH177>0,VLOOKUP($CH177,'العاملين '!$A$3:$AR$260,8),0)","v":0}," "," "," "," "," ",{"$f":"IF($CH177>0,VLOOKUP($CH177,'العاملين '!$A$3:$AR$260,9),0)","v":0},{"$f":"IF($CH177>0,VLOOKUP($CH177,'العاملين '!$A$3:$AR$260,10),0)","v":0},{"$f":"IF($CH177>0,VLOOKUP($CH177,'العاملين '!$A$3:$AR$260,11),0)","v":0},{"$f":"IF($CH177>0,VLOOKUP($CH177,'العاملين '!$A$3:$AR$260,12),0)","v":0},{"$f":"IF($CH177>0,VLOOKUP($CH177,'العاملين '!$A$3:$AR$260,13),0)","v":0},0,{"$f":"IF($CH177>0,VLOOKUP($CH177,'العاملين '!$A$3:$AR$260,14),0)","v":0},{"$f":"IF($CH177>0,VLOOKUP($CH177,'العاملين '!$A$3:$AR$260,15),0)","v":0},{"$f":"IF($CH177>0,VLOOKUP($CH177,'العاملين '!$A$3:$AR$260,16),0)","v":0},{"$f":"IF($CH177>0,VLOOKUP($CH177,'العاملين '!$A$3:$AR$260,17),0)","v":0},{"$f":"IF($CH177>0,VLOOKUP($CH177,'العاملين '!$A$3:$AR$260,18),0)","v":0},{"$f":"IF($CH177>0,VLOOKUP($CH177,'العاملين '!$A$3:$AR$260,19),0)","v":0},{"$f":"IF($CH177>0,VLOOKUP($CH177,'العاملين '!$A$3:$AR$260,20),0)","v":0},{"$f":"IF($CH177>0,VLOOKUP($CH177,'العاملين '!$A$3:$AR$260,21),0)","v":0},{"$f":"IF($CH177>0,VLOOKUP($CH177,'العاملين '!$A$3:$AR$260,22),0)","v":0},{"$f":"IF($CH177>0,VLOOKUP($CH177,'العاملين '!$A$3:$AR$260,23),0)","v":0},{"$f":"IF($CH177>0,VLOOKUP($CH177,'العاملين '!$A$3:$AR$260,24),0)","v":0},{"$f":"IF($CH177>0,VLOOKUP($CH177,'العاملين '!$A$3:$AR$260,26),0)","v":0},null,null,null,null,null,null,null,null,null,null,null,null,null,null,{"$f":"IF($CH177>0,VLOOKUP($CH177,'العاملين '!$A$3:$AR$260,25),0)","v":0},0,0,0,0,0,0,0,"",{"$f":"IF($CH177>0,VLOOKUP($CH177,'العاملين '!$A$3:$AR$260,28),0)","v":0},0," "," "," ",null," "," "," "," ",0,0,0,0,0,{"$f":"IF($CJ177=1,ROUND(($B177)*7%,2),IF($CJ177=2,VLOOKUP($CH177,'العاملين '!$A$3:$AS$260,44),0))","v":0},{"$f":"IF($CJ177=1,0.5,IF($CJ177=2,VLOOKUP($CH177,'العاملين '!$A$3:$AS$260,45),0))","v":0},{"$f":"IF($CJ177=1,4.5,IF($CJ177=2,VLOOKUP($CH177,'العاملين '!$A$3:$AS$260,46),0))","v":0},{"$f":"IF($CH177>0,VLOOKUP($CH177,'العاملين '!$A$3:$AR$260,29),0)","v":0},{"$f":"IF($CJ177=1,0.2,IF($CJ177=2,VLOOKUP($CH177,'العاملين '!$A$3:$AU$260,47),0))","v":0},{"$f":"IF($CJ177=1,0.05,IF($CJ177=2,VLOOKUP($CH177,'العاملين '!$A$3:$AU$260,47),0))","v":0},{"$f":"IF($CH177>0,VLOOKUP($CH177,'العاملين '!$A$3:$AR$260,30),0)","v":0},{"$f":"IF($CH177>0,VLOOKUP($CH177,'العاملين '!$A$3:$AR$260,31),0)","v":0},null,{"$f":"IF($CH177>0,VLOOKUP($CH177,'العاملين '!$A$3:$AR$260,33),0)","v":0},{"$f":"IF($CH177>0,VLOOKUP($CH177,'العاملين '!$A$3:$AR$260,34),0)","v":0},{"$f":"IF($CH177>0,VLOOKUP($CH177,'العاملين '!$A$3:$AR$260,35),0)","v":0},{"$f":"IF($CH177>0,VLOOKUP($CH177,'العاملين '!$A$3:$AR$260,36),0)","v":0},{"$f":"IF($CH177>0,VLOOKUP($CH177,'العاملين '!$A$3:$AR$260,37),0)","v":0},{"$f":"IF($CH177>0,VLOOKUP($CH177,'العاملين '!$A$3:$AR$260,38),0)","v":0},{"$f":"IF($CH177>0,VLOOKUP($CH177,'العاملين '!$A$3:$AR$260,39),0)","v":0},{"$f":"IF($CH177>0,VLOOKUP($CH177,'العاملين '!$A$3:$AR$260,40),0)","v":0},{"$f":"IF($CH177>0,VLOOKUP($CH177,'العاملين '!$A$3:$AR$260,41),0)","v":0},0,0,0,{"$f":"IF($CH177>0,VLOOKUP($CH177,'العاملين '!$A$3:$AR$260,2),0)","v":0},0,null,{"$f":"IF($CH177>0,VLOOKUP($CH177,'العاملين '!$A$3:$AR$260,3),0)","v":0},{"$f":"IF($CH177>0,VLOOKUP($CH177,'العاملين '!$A$3:$AR$260,43),0)","v":0},0]
[5,{"$f":"IF($CH178>0,VLOOKUP($CH178,'العاملين '!$A$3:$AR$260,8),0)","v":0}," "," "," "," "," ",{"$f":"IF($CH178>0,VLOOKUP($CH178,'العاملين '!$A$3:$AR$260,9),0)","v":0},{"$f":"IF($CH178>0,VLOOKUP($CH178,'العاملين '!$A$3:$AR$260,10),0)","v":0},{"$f":"IF($CH178>0,VLOOKUP($CH178,'العاملين '!$A$3:$AR$260,11),0)","v":0},{"$f":"IF($CH178>0,VLOOKUP($CH178,'العاملين '!$A$3:$AR$260,12),0)","v":0},{"$f":"IF($CH178>0,VLOOKUP($CH178,'العاملين '!$A$3:$AR$260,13),0)","v":0},0,{"$f":"IF($CH178>0,VLOOKUP($CH178,'العاملين '!$A$3:$AR$260,14),0)","v":0},{"$f":"IF($CH178>0,VLOOKUP($CH178,'العاملين '!$A$3:$AR$260,15),0)","v":0},{"$f":"IF($CH178>0,VLOOKUP($CH178,'العاملين '!$A$3:$AR$260,16),0)","v":0},{"$f":"IF($CH178>0,VLOOKUP($CH178,'العاملين '!$A$3:$AR$260,17),0)","v":0},{"$f":"IF($CH178>0,VLOOKUP($CH178,'العاملين '!$A$3:$AR$260,18),0)","v":0},{"$f":"IF($CH178>0,VLOOKUP($CH178,'العاملين '!$A$3:$AR$260,19),0)","v":0},{"$f":"IF($CH178>0,VLOOKUP($CH178,'العاملين '!$A$3:$AR$260,20),0)","v":0},{"$f":"IF($CH178>0,VLOOKUP($CH178,'العاملين '!$A$3:$AR$260,21),0)","v":0},{"$f":"IF($CH178>0,VLOOKUP($CH178,'العاملين '!$A$3:$AR$260,22),0)","v":0},{"$f":"IF($CH178>0,VLOOKUP($CH178,'العاملين '!$A$3:$AR$260,23),0)","v":0},{"$f":"IF($CH178>0,VLOOKUP($CH178,'العاملين '!$A$3:$AR$260,24),0)","v":0},{"$f":"IF($CH178>0,VLOOKUP($CH178,'العاملين '!$A$3:$AR$260,26),0)","v":0},null,null,null,null,null,null,null,null,null,null,null,null,null,null,{"$f":"IF($CH178>0,VLOOKUP($CH178,'العاملين '!$A$3:$AR$260,25),0)","v":0},0,0,0,0,0,0,0,"",{"$f":"IF($CH178>0,VLOOKUP($CH178,'العاملين '!$A$3:$AR$260,28),0)","v":0},0," "," "," ",null," "," "," "," ",0,0,0,0,0,{"$f":"IF($CJ178=1,ROUND(($B178)*7%,2),IF($CJ178=2,VLOOKUP($CH178,'العاملين '!$A$3:$AS$260,44),0))","v":0},{"$f":"IF($CJ178=1,0.5,IF($CJ178=2,VLOOKUP($CH178,'العاملين '!$A$3:$AS$260,45),0))","v":0},{"$f":"IF($CJ178=1,4.5,IF($CJ178=2,VLOOKUP($CH178,'العاملين '!$A$3:$AS$260,46),0))","v":0},{"$f":"IF($CH178>0,VLOOKUP($CH178,'العاملين '!$A$3:$AR$260,29),0)","v":0},{"$f":"IF($CJ178=1,0.2,IF($CJ178=2,VLOOKUP($CH178,'العاملين '!$A$3:$AU$260,47),0))","v":0},{"$f":"IF($CJ178=1,0.05,IF($CJ178=2,VLOOKUP($CH178,'العاملين '!$A$3:$AU$260,47),0))","v":0},{"$f":"IF($CH178>0,VLOOKUP($CH178,'العاملين '!$A$3:$AR$260,30),0)","v":0},{"$f":"IF($CH178>0,VLOOKUP($CH178,'العاملين '!$A$3:$AR$260,31),0)","v":0},null,{"$f":"IF($CH178>0,VLOOKUP($CH178,'العاملين '!$A$3:$AR$260,33),0)","v":0},{"$f":"IF($CH178>0,VLOOKUP($CH178,'العاملين '!$A$3:$AR$260,34),0)","v":0},{"$f":"IF($CH178>0,VLOOKUP($CH178,'العاملين '!$A$3:$AR$260,35),0)","v":0},{"$f":"IF($CH178>0,VLOOKUP($CH178,'العاملين '!$A$3:$AR$260,36),0)","v":0},{"$f":"IF($CH178>0,VLOOKUP($CH178,'العاملين '!$A$3:$AR$260,37),0)","v":0},{"$f":"IF($CH178>0,VLOOKUP($CH178,'العاملين '!$A$3:$AR$260,38),0)","v":0},{"$f":"IF($CH178>0,VLOOKUP($CH178,'العاملين '!$A$3:$AR$260,39),0)","v":0},{"$f":"IF($CH178>0,VLOOKUP($CH178,'العاملين '!$A$3:$AR$260,40),0)","v":0},{"$f":"IF($CH178>0,VLOOKUP($CH178,'العاملين '!$A$3:$AR$260,41),0)","v":0},0,0,0,{"$f":"IF($CH178>0,VLOOKUP($CH178,'العاملين '!$A$3:$AR$260,2),0)","v":0},0,null,{"$f":"IF($CH178>0,VLOOKUP($CH178,'العاملين '!$A$3:$AR$260,3),0)","v":0},{"$f":"IF($CH178>0,VLOOKUP($CH178,'العاملين '!$A$3:$AR$260,43),0)","v":0},0]
[6,{"$f":"IF($CH179>0,VLOOKUP($CH179,'العاملين '!$A$3:$AR$260,8),0)","v":0}," "," "," "," "," ",{"$f":"IF($CH179>0,VLOOKUP($CH179,'العاملين '!$A$3:$AR$260,9),0)","v":0},{"$f":"IF($CH179>0,VLOOKUP($CH179,'العاملين '!$A$3:$AR$260,10),0)","v":0},{"$f":"IF($CH179>0,VLOOKUP($CH179,'العاملين '!$A$3:$AR$260,11),0)","v":0},{"$f":"IF($CH179>0,VLOOKUP($CH179,'العاملين '!$A$3:$AR$260,12),0)","v":0},{"$f":"IF($CH179>0,VLOOKUP($CH179,'العاملين '!$A$3:$AR$260,13),0)","v":0},0,{"$f":"IF($CH179>0,VLOOKUP($CH179,'العاملين '!$A$3:$AR$260,14),0)","v":0},{"$f":"IF($CH179>0,VLOOKUP($CH179,'العاملين '!$A$3:$AR$260,15),0)","v":0},{"$f":"IF($CH179>0,VLOOKUP($CH179,'العاملين '!$A$3:$AR$260,16),0)","v":0},{"$f":"IF($CH179>0,VLOOKUP($CH179,'العاملين '!$A$3:$AR$260,17),0)","v":0},{"$f":"IF($CH179>0,VLOOKUP($CH179,'العاملين '!$A$3:$AR$260,18),0)","v":0},{"$f":"IF($CH179>0,VLOOKUP($CH179,'العاملين '!$A$3:$AR$260,19),0)","v":0},{"$f":"IF($CH179>0,VLOOKUP($CH179,'العاملين '!$A$3:$AR$260,20),0)","v":0},{"$f":"IF($CH179>0,VLOOKUP($CH179,'العاملين '!$A$3:$AR$260,21),0)","v":0},{"$f":"IF($CH179>0,VLOOKUP($CH179,'العاملين '!$A$3:$AR$260,22),0)","v":0},{"$f":"IF($CH179>0,VLOOKUP($CH179,'العاملين '!$A$3:$AR$260,23),0)","v":0},{"$f":"IF($CH179>0,VLOOKUP($CH179,'العاملين '!$A$3:$AR$260,24),0)","v":0},{"$f":"IF($CH179>0,VLOOKUP($CH179,'العاملين '!$A$3:$AR$260,26),0)","v":0},null,null,null,null,null,null,null,null,null,null,null,null,null,null,{"$f":"IF($CH179>0,VLOOKUP($CH179,'العاملين '!$A$3:$AR$260,25),0)","v":0},0,0,0,0,0,0,0,"",{"$f":"IF($CH179>0,VLOOKUP($CH179,'العاملين '!$A$3:$AR$260,28),0)","v":0},0," "," "," ",null," "," "," "," ",0,0,0,0,0,{"$f":"IF($CJ179=1,ROUND(($B179)*7%,2),IF($CJ179=2,VLOOKUP($CH179,'العاملين '!$A$3:$AS$260,44),0))","v":0},{"$f":"IF($CJ179=1,0.5,IF($CJ179=2,VLOOKUP($CH179,'العاملين '!$A$3:$AS$260,45),0))","v":0},{"$f":"IF($CJ179=1,4.5,IF($CJ179=2,VLOOKUP($CH179,'العاملين '!$A$3:$AS$260,46),0))","v":0},{"$f":"IF($CH179>0,VLOOKUP($CH179,'العاملين '!$A$3:$AR$260,29),0)","v":0},{"$f":"IF($CJ179=1,0.2,IF($CJ179=2,VLOOKUP($CH179,'العاملين '!$A$3:$AU$260,47),0))","v":0},{"$f":"IF($CJ179=1,0.05,IF($CJ179=2,VLOOKUP($CH179,'العاملين '!$A$3:$AU$260,47),0))","v":0},{"$f":"IF($CH179>0,VLOOKUP($CH179,'العاملين '!$A$3:$AR$260,30),0)","v":0},{"$f":"IF($CH179>0,VLOOKUP($CH179,'العاملين '!$A$3:$AR$260,31),0)","v":0},null,{"$f":"IF($CH179>0,VLOOKUP($CH179,'العاملين '!$A$3:$AR$260,33),0)","v":0},{"$f":"IF($CH179>0,VLOOKUP($CH179,'العاملين '!$A$3:$AR$260,34),0)","v":0},{"$f":"IF($CH179>0,VLOOKUP($CH179,'العاملين '!$A$3:$AR$260,35),0)","v":0},{"$f":"IF($CH179>0,VLOOKUP($CH179,'العاملين '!$A$3:$AR$260,36),0)","v":0},{"$f":"IF($CH179>0,VLOOKUP($CH179,'العاملين '!$A$3:$AR$260,37),0)","v":0},{"$f":"IF($CH179>0,VLOOKUP($CH179,'العاملين '!$A$3:$AR$260,38),0)","v":0},{"$f":"IF($CH179>0,VLOOKUP($CH179,'العاملين '!$A$3:$AR$260,39),0)","v":0},{"$f":"IF($CH179>0,VLOOKUP($CH179,'العاملين '!$A$3:$AR$260,40),0)","v":0},{"$f":"IF($CH179>0,VLOOKUP($CH179,'العاملين '!$A$3:$AR$260,41),0)","v":0},0,0,0,{"$f":"IF($CH179>0,VLOOKUP($CH179,'العاملين '!$A$3:$AR$260,2),0)","v":0},0,null,{"$f":"IF($CH179>0,VLOOKUP($CH179,'العاملين '!$A$3:$AR$260,3),0)","v":0},{"$f":"IF($CH179>0,VLOOKUP($CH179,'العاملين '!$A$3:$AR$260,43),0)","v":0},0]
[7,{"$f":"IF($CH180>0,VLOOKUP($CH180,'العاملين '!$A$3:$AR$260,8),0)","v":0},{"$f":"IF($B180>0,ROUND(($B180)*15%,2),\" \")","v":" "},{"$f":"IF($B180>0,ROUND(($B180)*1%,2),\" \")","v":" "},{"$f":"IF($B180>0,ROUND(($B180)*2%,2),\" \")","v":" "},{"$f":"IF($B180>0,ROUND(($B180)*3%,2),\" \")","v":" "}," ",{"$f":"IF($CH180>0,VLOOKUP($CH180,'العاملين '!$A$3:$AR$260,9),0)","v":0},{"$f":"IF($CH180>0,VLOOKUP($CH180,'العاملين '!$A$3:$AR$260,10),0)","v":0},{"$f":"IF($CH180>0,VLOOKUP($CH180,'العاملين '!$A$3:$AR$260,11),0)","v":0},{"$f":"IF($CH180>0,VLOOKUP($CH180,'العاملين '!$A$3:$AR$260,12),0)","v":0},{"$f":"IF($CH180>0,VLOOKUP($CH180,'العاملين '!$A$3:$AR$260,13),0)","v":0},0,{"$f":"IF($CH180>0,VLOOKUP($CH180,'العاملين '!$A$3:$AR$260,14),0)","v":0},{"$f":"IF($CH180>0,VLOOKUP($CH180,'العاملين '!$A$3:$AR$260,15),0)","v":0},{"$f":"IF($CH180>0,VLOOKUP($CH180,'العاملين '!$A$3:$AR$260,16),0)","v":0},{"$f":"IF($CH180>0,VLOOKUP($CH180,'العاملين '!$A$3:$AR$260,17),0)","v":0},{"$f":"IF($CH180>0,VLOOKUP($CH180,'العاملين '!$A$3:$AR$260,18),0)","v":0},{"$f":"IF($CH180>0,VLOOKUP($CH180,'العاملين '!$A$3:$AR$260,19),0)","v":0},{"$f":"IF($CH180>0,VLOOKUP($CH180,'العاملين '!$A$3:$AR$260,20),0)","v":0},{"$f":"IF($CH180>0,VLOOKUP($CH180,'العاملين '!$A$3:$AR$260,21),0)","v":0},{"$f":"IF($CH180>0,VLOOKUP($CH180,'العاملين '!$A$3:$AR$260,22),0)","v":0},{"$f":"IF($CH180>0,VLOOKUP($CH180,'العاملين '!$A$3:$AR$260,23),0)","v":0},{"$f":"IF($CH180>0,VLOOKUP($CH180,'العاملين '!$A$3:$AR$260,24),0)","v":0},{"$f":"IF($CH180>0,VLOOKUP($CH180,'العاملين '!$A$3:$AR$260,26),0)","v":0},null,null,null,null,null,null,null,null,null,null,null,null,null,null,{"$f":"IF($CH180>0,VLOOKUP($CH180,'العاملين '!$A$3:$AR$260,25),0)","v":0},0,{"$f":"IF(AO180>$AP$4,$AP$4,AO180)","v":0},0,{"$f":"ROUND(($AP180)*15%,2)","v":0},{"$f":"ROUND(($AP180)*1%,2)","v":0},{"$f":"ROUND(($AP180)*3%,2)","v":0},0,"",{"$f":"IF($CH180>0,VLOOKUP($CH180,'العاملين '!$A$3:$AR$260,28),0)","v":0},0,{"$f":"IF($B180>0,ROUND(($B180)*15%,2),\" \")","v":" "},{"$f":"IF($B180>0,ROUND(($B180)*1%,2),\" \")","v":" "},{"$f":"IF($B180>0,ROUND(($B180)*2%,2),\" \")","v":" "},null,{"$f":"IF($B180>0,ROUND(($B180)*10%,2),\" \")","v":" "},{"$f":"IF($B180>0,ROUND(($B180)*8%,2),\" \")","v":" "},{"$f":"IF($B180>0,ROUND(($B180)*3%,2),\" \")","v":" "},{"$f":"IF($B180>0,ROUND(($B180)*1%,2),\" \")","v":" "},0,0,{"$f":"ROUND(($AP180)*10%,2)","v":0},0,0,{"$f":"IF($CJ180=1,ROUND(($B180)*7%,2),IF($CJ180=2,VLOOKUP($CH180,'العاملين '!$A$3:$AS$260,44),0))","v":0},{"$f":"IF($CJ180=1,0.5,IF($CJ180=2,VLOOKUP($CH180,'العاملين '!$A$3:$AS$260,45),0))","v":0},{"$f":"IF($CJ180=1,4.5,IF($CJ180=2,VLOOKUP($CH180,'العاملين '!$A$3:$AS$260,46),0))","v":0},{"$f":"IF($CH180>0,VLOOKUP($CH180,'العاملين '!$A$3:$AR$260,29),0)","v":0},{"$f":"IF($CJ180=1,0.2,IF($CJ180=2,VLOOKUP($CH180,'العاملين '!$A$3:$AU$260,47),0))","v":0},{"$f":"IF($CJ180=1,0.05,IF($CJ180=2,VLOOKUP($CH180,'العاملين '!$A$3:$AU$260,47),0))","v":0},{"$f":"IF($CH180>0,VLOOKUP($CH180,'العاملين '!$A$3:$AR$260,30),0)","v":0},{"$f":"IF($CH180>0,VLOOKUP($CH180,'العاملين '!$A$3:$AR$260,31),0)","v":0},null,{"$f":"IF($CH180>0,VLOOKUP($CH180,'العاملين '!$A$3:$AR$260,33),0)","v":0},{"$f":"IF($CH180>0,VLOOKUP($CH180,'العاملين '!$A$3:$AR$260,34),0)","v":0},{"$f":"IF($CH180>0,VLOOKUP($CH180,'العاملين '!$A$3:$AR$260,35),0)","v":0},{"$f":"IF($CH180>0,VLOOKUP($CH180,'العاملين '!$A$3:$AR$260,36),0)","v":0},{"$f":"IF($CH180>0,VLOOKUP($CH180,'العاملين '!$A$3:$AR$260,37),0)","v":0},{"$f":"IF($CH180>0,VLOOKUP($CH180,'العاملين '!$A$3:$AR$260,38),0)","v":0},{"$f":"IF($CH180>0,VLOOKUP($CH180,'العاملين '!$A$3:$AR$260,39),0)","v":0},{"$f":"IF($CH180>0,VLOOKUP($CH180,'العاملين '!$A$3:$AR$260,40),0)","v":0},{"$f":"IF($CH180>0,VLOOKUP($CH180,'العاملين '!$A$3:$AR$260,41),0)","v":0},0,0,0,{"$f":"IF($CH180>0,VLOOKUP($CH180,'العاملين '!$A$3:$AR$260,2),0)","v":0},0,null,{"$f":"IF($CH180>0,VLOOKUP($CH180,'العاملين '!$A$3:$AR$260,3),0)","v":0},{"$f":"IF($CH180>0,VLOOKUP($CH180,'العاملين '!$A$3:$AR$260,43),0)","v":0},0]
[8,{"$f":"IF($CH181>0,VLOOKUP($CH181,'العاملين '!$A$3:$AR$260,8),0)","v":0},{"$f":"IF($B181>0,ROUND(($B181)*15%,2),\" \")","v":" "},{"$f":"IF($B181>0,ROUND(($B181)*1%,2),\" \")","v":" "},{"$f":"IF($B181>0,ROUND(($B181)*2%,2),\" \")","v":" "},{"$f":"IF($B181>0,ROUND(($B181)*3%,2),\" \")","v":" "}," ",{"$f":"IF($CH181>0,VLOOKUP($CH181,'العاملين '!$A$3:$AR$260,9),0)","v":0},{"$f":"IF($CH181>0,VLOOKUP($CH181,'العاملين '!$A$3:$AR$260,10),0)","v":0},{"$f":"IF($CH181>0,VLOOKUP($CH181,'العاملين '!$A$3:$AR$260,11),0)","v":0},{"$f":"IF($CH181>0,VLOOKUP($CH181,'العاملين '!$A$3:$AR$260,12),0)","v":0},{"$f":"IF($CH181>0,VLOOKUP($CH181,'العاملين '!$A$3:$AR$260,13),0)","v":0},0,{"$f":"IF($CH181>0,VLOOKUP($CH181,'العاملين '!$A$3:$AR$260,14),0)","v":0},{"$f":"IF($CH181>0,VLOOKUP($CH181,'العاملين '!$A$3:$AR$260,15),0)","v":0},{"$f":"IF($CH181>0,VLOOKUP($CH181,'العاملين '!$A$3:$AR$260,16),0)","v":0},{"$f":"IF($CH181>0,VLOOKUP($CH181,'العاملين '!$A$3:$AR$260,17),0)","v":0},{"$f":"IF($CH181>0,VLOOKUP($CH181,'العاملين '!$A$3:$AR$260,18),0)","v":0},{"$f":"IF($CH181>0,VLOOKUP($CH181,'العاملين '!$A$3:$AR$260,19),0)","v":0},{"$f":"IF($CH181>0,VLOOKUP($CH181,'العاملين '!$A$3:$AR$260,20),0)","v":0},{"$f":"IF($CH181>0,VLOOKUP($CH181,'العاملين '!$A$3:$AR$260,21),0)","v":0},{"$f":"IF($CH181>0,VLOOKUP($CH181,'العاملين '!$A$3:$AR$260,22),0)","v":0},{"$f":"IF($CH181>0,VLOOKUP($CH181,'العاملين '!$A$3:$AR$260,23),0)","v":0},{"$f":"IF($CH181>0,VLOOKUP($CH181,'العاملين '!$A$3:$AR$260,24),0)","v":0},{"$f":"IF($CH181>0,VLOOKUP($CH181,'العاملين '!$A$3:$AR$260,26),0)","v":0},null,null,null,null,null,null,null,null,null,null,null,null,null,null,{"$f":"IF($CH181>0,VLOOKUP($CH181,'العاملين '!$A$3:$AR$260,25),0)","v":0},0,{"$f":"IF(AO181>$AP$4,$AP$4,AO181)","v":0},0,{"$f":"ROUND(($AP181)*15%,2)","v":0},{"$f":"ROUND(($AP181)*1%,2)","v":0},{"$f":"ROUND(($AP181)*3%,2)","v":0},0,"",{"$f":"IF($CH181>0,VLOOKUP($CH181,'العاملين '!$A$3:$AR$260,28),0)","v":0},0,{"$f":"IF($B181>0,ROUND(($B181)*15%,2),\" \")","v":" "},{"$f":"IF($B181>0,ROUND(($B181)*1%,2),\" \")","v":" "},{"$f":"IF($B181>0,ROUND(($B181)*2%,2),\" \")","v":" "},null,{"$f":"IF($B181>0,ROUND(($B181)*10%,2),\" \")","v":" "},{"$f":"IF($B181>0,ROUND(($B181)*8%,2),\" \")","v":" "},{"$f":"IF($B181>0,ROUND(($B181)*3%,2),\" \")","v":" "},{"$f":"IF($B181>0,ROUND(($B181)*1%,2),\" \")","v":" "},0,0,{"$f":"ROUND(($AP181)*10%,2)","v":0},0,0,{"$f":"IF($CJ181=1,ROUND(($B181)*7%,2),IF($CJ181=2,VLOOKUP($CH181,'العاملين '!$A$3:$AS$260,44),0))","v":0},{"$f":"IF($CJ181=1,0.5,IF($CJ181=2,VLOOKUP($CH181,'العاملين '!$A$3:$AS$260,45),0))","v":0},{"$f":"IF($CJ181=1,4.5,IF($CJ181=2,VLOOKUP($CH181,'العاملين '!$A$3:$AS$260,46),0))","v":0},{"$f":"IF($CH181>0,VLOOKUP($CH181,'العاملين '!$A$3:$AR$260,29),0)","v":0},{"$f":"IF($CJ181=1,0.2,IF($CJ181=2,VLOOKUP($CH181,'العاملين '!$A$3:$AU$260,47),0))","v":0},{"$f":"IF($CJ181=1,0.05,IF($CJ181=2,VLOOKUP($CH181,'العاملين '!$A$3:$AU$260,47),0))","v":0},{"$f":"IF($CH181>0,VLOOKUP($CH181,'العاملين '!$A$3:$AR$260,30),0)","v":0},{"$f":"IF($CH181>0,VLOOKUP($CH181,'العاملين '!$A$3:$AR$260,31),0)","v":0},null,{"$f":"IF($CH181>0,VLOOKUP($CH181,'العاملين '!$A$3:$AR$260,33),0)","v":0},{"$f":"IF($CH181>0,VLOOKUP($CH181,'العاملين '!$A$3:$AR$260,34),0)","v":0},{"$f":"IF($CH181>0,VLOOKUP($CH181,'العاملين '!$A$3:$AR$260,35),0)","v":0},{"$f":"IF($CH181>0,VLOOKUP($CH181,'العاملين '!$A$3:$AR$260,36),0)","v":0},{"$f":"IF($CH181>0,VLOOKUP($CH181,'العاملين '!$A$3:$AR$260,37),0)","v":0},{"$f":"IF($CH181>0,VLOOKUP($CH181,'العاملين '!$A$3:$AR$260,38),0)","v":0},{"$f":"IF($CH181>0,VLOOKUP($CH181,'العاملين '!$A$3:$AR$260,39),0)","v":0},{"$f":"IF($CH181>0,VLOOKUP($CH181,'العاملين '!$A$3:$AR$260,40),0)","v":0},{"$f":"IF($CH181>0,VLOOKUP($CH181,'العاملين '!$A$3:$AR$260,41),0)","v":0},0,0,0,{"$f":"IF($CH181>0,VLOOKUP($CH181,'العاملين '!$A$3:$AR$260,2),0)","v":0},0,null,{"$f":"IF($CH181>0,VLOOKUP($CH181,'العاملين '!$A$3:$AR$260,3),0)","v":0},{"$f":"IF($CH181>0,VLOOKUP($CH181,'العاملين '!$A$3:$AR$260,43),0)","v":0},0]
[9,{"$f":"IF($CH182>0,VLOOKUP($CH182,'العاملين '!$A$3:$AR$260,8),0)","v":0},{"$f":"IF($B182>0,ROUND(($B182)*15%,2),\" \")","v":" "},{"$f":"IF($B182>0,ROUND(($B182)*1%,2),\" \")","v":" "},{"$f":"IF($B182>0,ROUND(($B182)*2%,2),\" \")","v":" "},{"$f":"IF($B182>0,ROUND(($B182)*3%,2),\" \")","v":" "}," ",{"$f":"IF($CH182>0,VLOOKUP($CH182,'العاملين '!$A$3:$AR$260,9),0)","v":0},{"$f":"IF($CH182>0,VLOOKUP($CH182,'العاملين '!$A$3:$AR$260,10),0)","v":0},{"$f":"IF($CH182>0,VLOOKUP($CH182,'العاملين '!$A$3:$AR$260,11),0)","v":0},{"$f":"IF($CH182>0,VLOOKUP($CH182,'العاملين '!$A$3:$AR$260,12),0)","v":0},{"$f":"IF($CH182>0,VLOOKUP($CH182,'العاملين '!$A$3:$AR$260,13),0)","v":0},0,{"$f":"IF($CH182>0,VLOOKUP($CH182,'العاملين '!$A$3:$AR$260,14),0)","v":0},{"$f":"IF($CH182>0,VLOOKUP($CH182,'العاملين '!$A$3:$AR$260,15),0)","v":0},{"$f":"IF($CH182>0,VLOOKUP($CH182,'العاملين '!$A$3:$AR$260,16),0)","v":0},{"$f":"IF($CH182>0,VLOOKUP($CH182,'العاملين '!$A$3:$AR$260,17),0)","v":0},{"$f":"IF($CH182>0,VLOOKUP($CH182,'العاملين '!$A$3:$AR$260,18),0)","v":0},{"$f":"IF($CH182>0,VLOOKUP($CH182,'العاملين '!$A$3:$AR$260,19),0)","v":0},{"$f":"IF($CH182>0,VLOOKUP($CH182,'العاملين '!$A$3:$AR$260,20),0)","v":0},{"$f":"IF($CH182>0,VLOOKUP($CH182,'العاملين '!$A$3:$AR$260,21),0)","v":0},{"$f":"IF($CH182>0,VLOOKUP($CH182,'العاملين '!$A$3:$AR$260,22),0)","v":0},{"$f":"IF($CH182>0,VLOOKUP($CH182,'العاملين '!$A$3:$AR$260,23),0)","v":0},{"$f":"IF($CH182>0,VLOOKUP($CH182,'العاملين '!$A$3:$AR$260,24),0)","v":0},{"$f":"IF($CH182>0,VLOOKUP($CH182,'العاملين '!$A$3:$AR$260,26),0)","v":0},null,null,null,null,null,null,null,null,null,null,null,null,null,null,{"$f":"IF($CH182>0,VLOOKUP($CH182,'العاملين '!$A$3:$AR$260,25),0)","v":0},0,{"$f":"IF(AO182>$AP$4,$AP$4,AO182)","v":0},0,{"$f":"ROUND(($AP182)*15%,2)","v":0},{"$f":"ROUND(($AP182)*1%,2)","v":0},{"$f":"ROUND(($AP182)*3%,2)","v":0},0,"",{"$f":"IF($CH182>0,VLOOKUP($CH182,'العاملين '!$A$3:$AR$260,28),0)","v":0},0,{"$f":"IF($B182>0,ROUND(($B182)*15%,2),\" \")","v":" "},{"$f":"IF($B182>0,ROUND(($B182)*1%,2),\" \")","v":" "},{"$f":"IF($B182>0,ROUND(($B182)*2%,2),\" \")","v":" "},null,{"$f":"IF($B182>0,ROUND(($B182)*10%,2),\" \")","v":" "},{"$f":"IF($B182>0,ROUND(($B182)*8%,2),\" \")","v":" "},{"$f":"IF($B182>0,ROUND(($B182)*3%,2),\" \")","v":" "},{"$f":"IF($B182>0,ROUND(($B182)*1%,2),\" \")","v":" "},0,0,{"$f":"ROUND(($AP182)*10%,2)","v":0},0,0,{"$f":"IF($CJ182=1,ROUND(($B182)*7%,2),IF($CJ182=2,VLOOKUP($CH182,'العاملين '!$A$3:$AS$260,44),0))","v":0},{"$f":"IF($CJ182=1,0.5,IF($CJ182=2,VLOOKUP($CH182,'العاملين '!$A$3:$AS$260,45),0))","v":0},{"$f":"IF($CJ182=1,4.5,IF($CJ182=2,VLOOKUP($CH182,'العاملين '!$A$3:$AS$260,46),0))","v":0},{"$f":"IF($CH182>0,VLOOKUP($CH182,'العاملين '!$A$3:$AR$260,29),0)","v":0},{"$f":"IF($CJ182=1,0.2,IF($CJ182=2,VLOOKUP($CH182,'العاملين '!$A$3:$AU$260,47),0))","v":0},{"$f":"IF($CJ182=1,0.05,IF($CJ182=2,VLOOKUP($CH182,'العاملين '!$A$3:$AU$260,47),0))","v":0},{"$f":"IF($CH182>0,VLOOKUP($CH182,'العاملين '!$A$3:$AR$260,30),0)","v":0},{"$f":"IF($CH182>0,VLOOKUP($CH182,'العاملين '!$A$3:$AR$260,31),0)","v":0},null,{"$f":"IF($CH182>0,VLOOKUP($CH182,'العاملين '!$A$3:$AR$260,33),0)","v":0},{"$f":"IF($CH182>0,VLOOKUP($CH182,'العاملين '!$A$3:$AR$260,34),0)","v":0},{"$f":"IF($CH182>0,VLOOKUP($CH182,'العاملين '!$A$3:$AR$260,35),0)","v":0},{"$f":"IF($CH182>0,VLOOKUP($CH182,'العاملين '!$A$3:$AR$260,36),0)","v":0},{"$f":"IF($CH182>0,VLOOKUP($CH182,'العاملين '!$A$3:$AR$260,37),0)","v":0},{"$f":"IF($CH182>0,VLOOKUP($CH182,'العاملين '!$A$3:$AR$260,38),0)","v":0},{"$f":"IF($CH182>0,VLOOKUP($CH182,'العاملين '!$A$3:$AR$260,39),0)","v":0},{"$f":"IF($CH182>0,VLOOKUP($CH182,'العاملين '!$A$3:$AR$260,40),0)","v":0},{"$f":"IF($CH182>0,VLOOKUP($CH182,'العاملين '!$A$3:$AR$260,41),0)","v":0},0,0,0,{"$f":"IF($CH182>0,VLOOKUP($CH182,'العاملين '!$A$3:$AR$260,2),0)","v":0},0,null,{"$f":"IF($CH182>0,VLOOKUP($CH182,'العاملين '!$A$3:$AR$260,3),0)","v":0},{"$f":"IF($CH182>0,VLOOKUP($CH182,'العاملين '!$A$3:$AR$260,43),0)","v":0},0]
[10,{"$f":"IF($CH183>0,VLOOKUP($CH183,'العاملين '!$A$3:$AR$260,8),0)","v":0}," "," "," "," "," ",{"$f":"IF($CH183>0,VLOOKUP($CH183,'العاملين '!$A$3:$AR$260,9),0)","v":0},{"$f":"IF($CH183>0,VLOOKUP($CH183,'العاملين '!$A$3:$AR$260,10),0)","v":0},{"$f":"IF($CH183>0,VLOOKUP($CH183,'العاملين '!$A$3:$AR$260,11),0)","v":0},{"$f":"IF($CH183>0,VLOOKUP($CH183,'العاملين '!$A$3:$AR$260,12),0)","v":0},{"$f":"IF($CH183>0,VLOOKUP($CH183,'العاملين '!$A$3:$AR$260,13),0)","v":0},0,{"$f":"IF($CH183>0,VLOOKUP($CH183,'العاملين '!$A$3:$AR$260,14),0)","v":0},{"$f":"IF($CH183>0,VLOOKUP($CH183,'العاملين '!$A$3:$AR$260,15),0)","v":0},{"$f":"IF($CH183>0,VLOOKUP($CH183,'العاملين '!$A$3:$AR$260,16),0)","v":0},{"$f":"IF($CH183>0,VLOOKUP($CH183,'العاملين '!$A$3:$AR$260,17),0)","v":0},{"$f":"IF($CH183>0,VLOOKUP($CH183,'العاملين '!$A$3:$AR$260,18),0)","v":0},{"$f":"IF($CH183>0,VLOOKUP($CH183,'العاملين '!$A$3:$AR$260,19),0)","v":0},{"$f":"IF($CH183>0,VLOOKUP($CH183,'العاملين '!$A$3:$AR$260,20),0)","v":0},{"$f":"IF($CH183>0,VLOOKUP($CH183,'العاملين '!$A$3:$AR$260,21),0)","v":0},{"$f":"IF($CH183>0,VLOOKUP($CH183,'العاملين '!$A$3:$AR$260,22),0)","v":0},{"$f":"IF($CH183>0,VLOOKUP($CH183,'العاملين '!$A$3:$AR$260,23),0)","v":0},{"$f":"IF($CH183>0,VLOOKUP($CH183,'العاملين '!$A$3:$AR$260,24),0)","v":0},{"$f":"IF($CH183>0,VLOOKUP($CH183,'العاملين '!$A$3:$AR$260,26),0)","v":0},null,null,null,null,null,null,null,null,null,null,null,null,null,null,{"$f":"IF($CH183>0,VLOOKUP($CH183,'العاملين '!$A$3:$AR$260,25),0)","v":0},0,0,0,0,0,0,0,"",{"$f":"IF($CH183>0,VLOOKUP($CH183,'العاملين '!$A$3:$AR$260,28),0)","v":0},0," "," "," ",null," "," "," "," ",0,0,0,0,0,{"$f":"IF($CJ183=1,ROUND(($B183)*7%,2),IF($CJ183=2,VLOOKUP($CH183,'العاملين '!$A$3:$AS$260,44),0))","v":0},{"$f":"IF($CJ183=1,0.5,IF($CJ183=2,VLOOKUP($CH183,'العاملين '!$A$3:$AS$260,45),0))","v":0},{"$f":"IF($CJ183=1,4.5,IF($CJ183=2,VLOOKUP($CH183,'العاملين '!$A$3:$AS$260,46),0))","v":0},{"$f":"IF($CH183>0,VLOOKUP($CH183,'العاملين '!$A$3:$AR$260,29),0)","v":0},{"$f":"IF($CJ183=1,0.2,IF($CJ183=2,VLOOKUP($CH183,'العاملين '!$A$3:$AU$260,47),0))","v":0},{"$f":"IF($CJ183=1,0.05,IF($CJ183=2,VLOOKUP($CH183,'العاملين '!$A$3:$AU$260,47),0))","v":0},{"$f":"IF($CH183>0,VLOOKUP($CH183,'العاملين '!$A$3:$AR$260,30),0)","v":0},{"$f":"IF($CH183>0,VLOOKUP($CH183,'العاملين '!$A$3:$AR$260,31),0)","v":0},null,{"$f":"IF($CH183>0,VLOOKUP($CH183,'العاملين '!$A$3:$AR$260,33),0)","v":0},{"$f":"IF($CH183>0,VLOOKUP($CH183,'العاملين '!$A$3:$AR$260,34),0)","v":0},{"$f":"IF($CH183>0,VLOOKUP($CH183,'العاملين '!$A$3:$AR$260,35),0)","v":0},{"$f":"IF($CH183>0,VLOOKUP($CH183,'العاملين '!$A$3:$AR$260,36),0)","v":0},{"$f":"IF($CH183>0,VLOOKUP($CH183,'العاملين '!$A$3:$AR$260,37),0)","v":0},{"$f":"IF($CH183>0,VLOOKUP($CH183,'العاملين '!$A$3:$AR$260,38),0)","v":0},{"$f":"IF($CH183>0,VLOOKUP($CH183,'العاملين '!$A$3:$AR$260,39),0)","v":0},{"$f":"IF($CH183>0,VLOOKUP($CH183,'العاملين '!$A$3:$AR$260,40),0)","v":0},{"$f":"IF($CH183>0,VLOOKUP($CH183,'العاملين '!$A$3:$AR$260,41),0)","v":0},0,0,0,{"$f":"IF($CH183>0,VLOOKUP($CH183,'العاملين '!$A$3:$AR$260,2),0)","v":0},0,null,{"$f":"IF($CH183>0,VLOOKUP($CH183,'العاملين '!$A$3:$AR$260,3),0)","v":0},{"$f":"IF($CH183>0,VLOOKUP($CH183,'العاملين '!$A$3:$AR$260,43),0)","v":0},0]
[11,{"$f":"IF($CH184>0,VLOOKUP($CH184,'العاملين '!$A$3:$AR$260,8),0)","v":0}," "," "," "," "," ",{"$f":"IF($CH184>0,VLOOKUP($CH184,'العاملين '!$A$3:$AR$260,9),0)","v":0},{"$f":"IF($CH184>0,VLOOKUP($CH184,'العاملين '!$A$3:$AR$260,10),0)","v":0},{"$f":"IF($CH184>0,VLOOKUP($CH184,'العاملين '!$A$3:$AR$260,11),0)","v":0},{"$f":"IF($CH184>0,VLOOKUP($CH184,'العاملين '!$A$3:$AR$260,12),0)","v":0},{"$f":"IF($CH184>0,VLOOKUP($CH184,'العاملين '!$A$3:$AR$260,13),0)","v":0},0,{"$f":"IF($CH184>0,VLOOKUP($CH184,'العاملين '!$A$3:$AR$260,14),0)","v":0},{"$f":"IF($CH184>0,VLOOKUP($CH184,'العاملين '!$A$3:$AR$260,15),0)","v":0},{"$f":"IF($CH184>0,VLOOKUP($CH184,'العاملين '!$A$3:$AR$260,16),0)","v":0},{"$f":"IF($CH184>0,VLOOKUP($CH184,'العاملين '!$A$3:$AR$260,17),0)","v":0},{"$f":"IF($CH184>0,VLOOKUP($CH184,'العاملين '!$A$3:$AR$260,18),0)","v":0},{"$f":"IF($CH184>0,VLOOKUP($CH184,'العاملين '!$A$3:$AR$260,19),0)","v":0},{"$f":"IF($CH184>0,VLOOKUP($CH184,'العاملين '!$A$3:$AR$260,20),0)","v":0},{"$f":"IF($CH184>0,VLOOKUP($CH184,'العاملين '!$A$3:$AR$260,21),0)","v":0},{"$f":"IF($CH184>0,VLOOKUP($CH184,'العاملين '!$A$3:$AR$260,22),0)","v":0},{"$f":"IF($CH184>0,VLOOKUP($CH184,'العاملين '!$A$3:$AR$260,23),0)","v":0},{"$f":"IF($CH184>0,VLOOKUP($CH184,'العاملين '!$A$3:$AR$260,24),0)","v":0},{"$f":"IF($CH184>0,VLOOKUP($CH184,'العاملين '!$A$3:$AR$260,26),0)","v":0},null,null,null,null,null,null,null,null,null,null,null,null,null,null,{"$f":"IF($CH184>0,VLOOKUP($CH184,'العاملين '!$A$3:$AR$260,25),0)","v":0},0,0,0,0,0,0,0,"",{"$f":"IF($CH184>0,VLOOKUP($CH184,'العاملين '!$A$3:$AR$260,28),0)","v":0},0," "," "," ",null," "," "," "," ",0,0,0,0,0,{"$f":"IF($CJ184=1,ROUND(($B184)*7%,2),IF($CJ184=2,VLOOKUP($CH184,'العاملين '!$A$3:$AS$260,44),0))","v":0},{"$f":"IF($CJ184=1,0.5,IF($CJ184=2,VLOOKUP($CH184,'العاملين '!$A$3:$AS$260,45),0))","v":0},{"$f":"IF($CJ184=1,4.5,IF($CJ184=2,VLOOKUP($CH184,'العاملين '!$A$3:$AS$260,46),0))","v":0},{"$f":"IF($CH184>0,VLOOKUP($CH184,'العاملين '!$A$3:$AR$260,29),0)","v":0},{"$f":"IF($CJ184=1,0.2,IF($CJ184=2,VLOOKUP($CH184,'العاملين '!$A$3:$AU$260,47),0))","v":0},{"$f":"IF($CJ184=1,0.05,IF($CJ184=2,VLOOKUP($CH184,'العاملين '!$A$3:$AU$260,47),0))","v":0},{"$f":"IF($CH184>0,VLOOKUP($CH184,'العاملين '!$A$3:$AR$260,30),0)","v":0},{"$f":"IF($CH184>0,VLOOKUP($CH184,'العاملين '!$A$3:$AR$260,31),0)","v":0},null,{"$f":"IF($CH184>0,VLOOKUP($CH184,'العاملين '!$A$3:$AR$260,33),0)","v":0},{"$f":"IF($CH184>0,VLOOKUP($CH184,'العاملين '!$A$3:$AR$260,34),0)","v":0},{"$f":"IF($CH184>0,VLOOKUP($CH184,'العاملين '!$A$3:$AR$260,35),0)","v":0},{"$f":"IF($CH184>0,VLOOKUP($CH184,'العاملين '!$A$3:$AR$260,36),0)","v":0},{"$f":"IF($CH184>0,VLOOKUP($CH184,'العاملين '!$A$3:$AR$260,37),0)","v":0},{"$f":"IF($CH184>0,VLOOKUP($CH184,'العاملين '!$A$3:$AR$260,38),0)","v":0},{"$f":"IF($CH184>0,VLOOKUP($CH184,'العاملين '!$A$3:$AR$260,39),0)","v":0},{"$f":"IF($CH184>0,VLOOKUP($CH184,'العاملين '!$A$3:$AR$260,40),0)","v":0},{"$f":"IF($CH184>0,VLOOKUP($CH184,'العاملين '!$A$3:$AR$260,41),0)","v":0},0,0,0,{"$f":"IF($CH184>0,VLOOKUP($CH184,'العاملين '!$A$3:$AR$260,2),0)","v":0},0,null,{"$f":"IF($CH184>0,VLOOKUP($CH184,'العاملين '!$A$3:$AR$260,3),0)","v":0},{"$f":"IF($CH184>0,VLOOKUP($CH184,'العاملين '!$A$3:$AR$260,43),0)","v":0},0]
[12,{"$f":"IF($CH185>0,VLOOKUP($CH185,'العاملين '!$A$3:$AR$260,8),0)","v":0}," "," "," "," "," ",{"$f":"IF($CH185>0,VLOOKUP($CH185,'العاملين '!$A$3:$AR$260,9),0)","v":0},{"$f":"IF($CH185>0,VLOOKUP($CH185,'العاملين '!$A$3:$AR$260,10),0)","v":0},{"$f":"IF($CH185>0,VLOOKUP($CH185,'العاملين '!$A$3:$AR$260,11),0)","v":0},{"$f":"IF($CH185>0,VLOOKUP($CH185,'العاملين '!$A$3:$AR$260,12),0)","v":0},{"$f":"IF($CH185>0,VLOOKUP($CH185,'العاملين '!$A$3:$AR$260,13),0)","v":0},0,{"$f":"IF($CH185>0,VLOOKUP($CH185,'العاملين '!$A$3:$AR$260,14),0)","v":0},{"$f":"IF($CH185>0,VLOOKUP($CH185,'العاملين '!$A$3:$AR$260,15),0)","v":0},{"$f":"IF($CH185>0,VLOOKUP($CH185,'العاملين '!$A$3:$AR$260,16),0)","v":0},{"$f":"IF($CH185>0,VLOOKUP($CH185,'العاملين '!$A$3:$AR$260,17),0)","v":0},{"$f":"IF($CH185>0,VLOOKUP($CH185,'العاملين '!$A$3:$AR$260,18),0)","v":0},{"$f":"IF($CH185>0,VLOOKUP($CH185,'العاملين '!$A$3:$AR$260,19),0)","v":0},{"$f":"IF($CH185>0,VLOOKUP($CH185,'العاملين '!$A$3:$AR$260,20),0)","v":0},{"$f":"IF($CH185>0,VLOOKUP($CH185,'العاملين '!$A$3:$AR$260,21),0)","v":0},{"$f":"IF($CH185>0,VLOOKUP($CH185,'العاملين '!$A$3:$AR$260,22),0)","v":0},{"$f":"IF($CH185>0,VLOOKUP($CH185,'العاملين '!$A$3:$AR$260,23),0)","v":0},{"$f":"IF($CH185>0,VLOOKUP($CH185,'العاملين '!$A$3:$AR$260,24),0)","v":0},{"$f":"IF($CH185>0,VLOOKUP($CH185,'العاملين '!$A$3:$AR$260,26),0)","v":0},null,null,null,null,null,null,null,null,null,null,null,null,null,null,{"$f":"IF($CH185>0,VLOOKUP($CH185,'العاملين '!$A$3:$AR$260,25),0)","v":0},0,0,0,0,0,0,0,"",{"$f":"IF($CH185>0,VLOOKUP($CH185,'العاملين '!$A$3:$AR$260,28),0)","v":0},0," "," "," ",null," "," "," "," ",0,0,0,0,0,{"$f":"IF($CJ185=1,ROUND(($B185)*7%,2),IF($CJ185=2,VLOOKUP($CH185,'العاملين '!$A$3:$AS$260,44),0))","v":0},{"$f":"IF($CJ185=1,0.5,IF($CJ185=2,VLOOKUP($CH185,'العاملين '!$A$3:$AS$260,45),0))","v":0},{"$f":"IF($CJ185=1,4.5,IF($CJ185=2,VLOOKUP($CH185,'العاملين '!$A$3:$AS$260,46),0))","v":0},{"$f":"IF($CH185>0,VLOOKUP($CH185,'العاملين '!$A$3:$AR$260,29),0)","v":0},{"$f":"IF($CJ185=1,0.2,IF($CJ185=2,VLOOKUP($CH185,'العاملين '!$A$3:$AU$260,47),0))","v":0},{"$f":"IF($CJ185=1,0.05,IF($CJ185=2,VLOOKUP($CH185,'العاملين '!$A$3:$AU$260,47),0))","v":0},{"$f":"IF($CH185>0,VLOOKUP($CH185,'العاملين '!$A$3:$AR$260,30),0)","v":0},{"$f":"IF($CH185>0,VLOOKUP($CH185,'العاملين '!$A$3:$AR$260,31),0)","v":0},null,{"$f":"IF($CH185>0,VLOOKUP($CH185,'العاملين '!$A$3:$AR$260,33),0)","v":0},{"$f":"IF($CH185>0,VLOOKUP($CH185,'العاملين '!$A$3:$AR$260,34),0)","v":0},{"$f":"IF($CH185>0,VLOOKUP($CH185,'العاملين '!$A$3:$AR$260,35),0)","v":0},{"$f":"IF($CH185>0,VLOOKUP($CH185,'العاملين '!$A$3:$AR$260,36),0)","v":0},{"$f":"IF($CH185>0,VLOOKUP($CH185,'العاملين '!$A$3:$AR$260,37),0)","v":0},{"$f":"IF($CH185>0,VLOOKUP($CH185,'العاملين '!$A$3:$AR$260,38),0)","v":0},{"$f":"IF($CH185>0,VLOOKUP($CH185,'العاملين '!$A$3:$AR$260,39),0)","v":0},{"$f":"IF($CH185>0,VLOOKUP($CH185,'العاملين '!$A$3:$AR$260,40),0)","v":0},{"$f":"IF($CH185>0,VLOOKUP($CH185,'العاملين '!$A$3:$AR$260,41),0)","v":0},0,0,0,{"$f":"IF($CH185>0,VLOOKUP($CH185,'العاملين '!$A$3:$AR$260,2),0)","v":0},0,null,{"$f":"IF($CH185>0,VLOOKUP($CH185,'العاملين '!$A$3:$AR$260,3),0)","v":0},{"$f":"IF($CH185>0,VLOOKUP($CH185,'العاملين '!$A$3:$AR$260,43),0)","v":0},0]
[13,{"$f":"IF($CH186>0,VLOOKUP($CH186,'العاملين '!$A$3:$AR$260,8),0)","v":0}," "," "," "," "," ",{"$f":"IF($CH186>0,VLOOKUP($CH186,'العاملين '!$A$3:$AR$260,9),0)","v":0},{"$f":"IF($CH186>0,VLOOKUP($CH186,'العاملين '!$A$3:$AR$260,10),0)","v":0},{"$f":"IF($CH186>0,VLOOKUP($CH186,'العاملين '!$A$3:$AR$260,11),0)","v":0},{"$f":"IF($CH186>0,VLOOKUP($CH186,'العاملين '!$A$3:$AR$260,12),0)","v":0},{"$f":"IF($CH186>0,VLOOKUP($CH186,'العاملين '!$A$3:$AR$260,13),0)","v":0},0,{"$f":"IF($CH186>0,VLOOKUP($CH186,'العاملين '!$A$3:$AR$260,14),0)","v":0},{"$f":"IF($CH186>0,VLOOKUP($CH186,'العاملين '!$A$3:$AR$260,15),0)","v":0},{"$f":"IF($CH186>0,VLOOKUP($CH186,'العاملين '!$A$3:$AR$260,16),0)","v":0},{"$f":"IF($CH186>0,VLOOKUP($CH186,'العاملين '!$A$3:$AR$260,17),0)","v":0},{"$f":"IF($CH186>0,VLOOKUP($CH186,'العاملين '!$A$3:$AR$260,18),0)","v":0},{"$f":"IF($CH186>0,VLOOKUP($CH186,'العاملين '!$A$3:$AR$260,19),0)","v":0},{"$f":"IF($CH186>0,VLOOKUP($CH186,'العاملين '!$A$3:$AR$260,20),0)","v":0},{"$f":"IF($CH186>0,VLOOKUP($CH186,'العاملين '!$A$3:$AR$260,21),0)","v":0},{"$f":"IF($CH186>0,VLOOKUP($CH186,'العاملين '!$A$3:$AR$260,22),0)","v":0},{"$f":"IF($CH186>0,VLOOKUP($CH186,'العاملين '!$A$3:$AR$260,23),0)","v":0},{"$f":"IF($CH186>0,VLOOKUP($CH186,'العاملين '!$A$3:$AR$260,24),0)","v":0},{"$f":"IF($CH186>0,VLOOKUP($CH186,'العاملين '!$A$3:$AR$260,26),0)","v":0},null,null,null,null,null,null,null,null,null,null,null,null,null,null,{"$f":"IF($CH186>0,VLOOKUP($CH186,'العاملين '!$A$3:$AR$260,25),0)","v":0},0,0,0,0,0,0,0,"",{"$f":"IF($CH186>0,VLOOKUP($CH186,'العاملين '!$A$3:$AR$260,28),0)","v":0},0," "," "," ",null," "," "," "," ",0,0,0,0,0,{"$f":"IF($CJ186=1,ROUND(($B186)*7%,2),IF($CJ186=2,VLOOKUP($CH186,'العاملين '!$A$3:$AS$260,44),0))","v":0},{"$f":"IF($CJ186=1,0.5,IF($CJ186=2,VLOOKUP($CH186,'العاملين '!$A$3:$AS$260,45),0))","v":0},{"$f":"IF($CJ186=1,4.5,IF($CJ186=2,VLOOKUP($CH186,'العاملين '!$A$3:$AS$260,46),0))","v":0},{"$f":"IF($CH186>0,VLOOKUP($CH186,'العاملين '!$A$3:$AR$260,29),0)","v":0},{"$f":"IF($CJ186=1,0.2,IF($CJ186=2,VLOOKUP($CH186,'العاملين '!$A$3:$AU$260,47),0))","v":0},{"$f":"IF($CJ186=1,0.05,IF($CJ186=2,VLOOKUP($CH186,'العاملين '!$A$3:$AU$260,47),0))","v":0},{"$f":"IF($CH186>0,VLOOKUP($CH186,'العاملين '!$A$3:$AR$260,30),0)","v":0},{"$f":"IF($CH186>0,VLOOKUP($CH186,'العاملين '!$A$3:$AR$260,31),0)","v":0},null,{"$f":"IF($CH186>0,VLOOKUP($CH186,'العاملين '!$A$3:$AR$260,33),0)","v":0},{"$f":"IF($CH186>0,VLOOKUP($CH186,'العاملين '!$A$3:$AR$260,34),0)","v":0},{"$f":"IF($CH186>0,VLOOKUP($CH186,'العاملين '!$A$3:$AR$260,35),0)","v":0},{"$f":"IF($CH186>0,VLOOKUP($CH186,'العاملين '!$A$3:$AR$260,36),0)","v":0},{"$f":"IF($CH186>0,VLOOKUP($CH186,'العاملين '!$A$3:$AR$260,37),0)","v":0},{"$f":"IF($CH186>0,VLOOKUP($CH186,'العاملين '!$A$3:$AR$260,38),0)","v":0},{"$f":"IF($CH186>0,VLOOKUP($CH186,'العاملين '!$A$3:$AR$260,39),0)","v":0},{"$f":"IF($CH186>0,VLOOKUP($CH186,'العاملين '!$A$3:$AR$260,40),0)","v":0},{"$f":"IF($CH186>0,VLOOKUP($CH186,'العاملين '!$A$3:$AR$260,41),0)","v":0},0,0,0,{"$f":"IF($CH186>0,VLOOKUP($CH186,'العاملين '!$A$3:$AR$260,2),0)","v":0},0,null,{"$f":"IF($CH186>0,VLOOKUP($CH186,'العاملين '!$A$3:$AR$260,3),0)","v":0},{"$f":"IF($CH186>0,VLOOKUP($CH186,'العاملين '!$A$3:$AR$260,43),0)","v":0},0]
[14,{"$f":"IF($CH187>0,VLOOKUP($CH187,'العاملين '!$A$3:$AR$260,8),0)","v":0}," "," "," "," "," ",{"$f":"IF($CH187>0,VLOOKUP($CH187,'العاملين '!$A$3:$AR$260,9),0)","v":0},{"$f":"IF($CH187>0,VLOOKUP($CH187,'العاملين '!$A$3:$AR$260,10),0)","v":0},{"$f":"IF($CH187>0,VLOOKUP($CH187,'العاملين '!$A$3:$AR$260,11),0)","v":0},{"$f":"IF($CH187>0,VLOOKUP($CH187,'العاملين '!$A$3:$AR$260,12),0)","v":0},{"$f":"IF($CH187>0,VLOOKUP($CH187,'العاملين '!$A$3:$AR$260,13),0)","v":0},0,{"$f":"IF($CH187>0,VLOOKUP($CH187,'العاملين '!$A$3:$AR$260,14),0)","v":0},{"$f":"IF($CH187>0,VLOOKUP($CH187,'العاملين '!$A$3:$AR$260,15),0)","v":0},{"$f":"IF($CH187>0,VLOOKUP($CH187,'العاملين '!$A$3:$AR$260,16),0)","v":0},{"$f":"IF($CH187>0,VLOOKUP($CH187,'العاملين '!$A$3:$AR$260,17),0)","v":0},{"$f":"IF($CH187>0,VLOOKUP($CH187,'العاملين '!$A$3:$AR$260,18),0)","v":0},{"$f":"IF($CH187>0,VLOOKUP($CH187,'العاملين '!$A$3:$AR$260,19),0)","v":0},{"$f":"IF($CH187>0,VLOOKUP($CH187,'العاملين '!$A$3:$AR$260,20),0)","v":0},{"$f":"IF($CH187>0,VLOOKUP($CH187,'العاملين '!$A$3:$AR$260,21),0)","v":0},{"$f":"IF($CH187>0,VLOOKUP($CH187,'العاملين '!$A$3:$AR$260,22),0)","v":0},{"$f":"IF($CH187>0,VLOOKUP($CH187,'العاملين '!$A$3:$AR$260,23),0)","v":0},{"$f":"IF($CH187>0,VLOOKUP($CH187,'العاملين '!$A$3:$AR$260,24),0)","v":0},{"$f":"IF($CH187>0,VLOOKUP($CH187,'العاملين '!$A$3:$AR$260,26),0)","v":0},null,null,null,null,null,null,null,null,null,null,null,null,null,null,{"$f":"IF($CH187>0,VLOOKUP($CH187,'العاملين '!$A$3:$AR$260,25),0)","v":0},0,0,0,0,0,0,0,"",{"$f":"IF($CH187>0,VLOOKUP($CH187,'العاملين '!$A$3:$AR$260,28),0)","v":0},0," "," "," ",null," "," "," "," ",0,0,0,0,0,{"$f":"IF($CJ187=1,ROUND(($B187)*7%,2),IF($CJ187=2,VLOOKUP($CH187,'العاملين '!$A$3:$AS$260,44),0))","v":0},{"$f":"IF($CJ187=1,0.5,IF($CJ187=2,VLOOKUP($CH187,'العاملين '!$A$3:$AS$260,45),0))","v":0},{"$f":"IF($CJ187=1,4.5,IF($CJ187=2,VLOOKUP($CH187,'العاملين '!$A$3:$AS$260,46),0))","v":0},{"$f":"IF($CH187>0,VLOOKUP($CH187,'العاملين '!$A$3:$AR$260,29),0)","v":0},{"$f":"IF($CJ187=1,0.2,IF($CJ187=2,VLOOKUP($CH187,'العاملين '!$A$3:$AU$260,47),0))","v":0},{"$f":"IF($CJ187=1,0.05,IF($CJ187=2,VLOOKUP($CH187,'العاملين '!$A$3:$AU$260,47),0))","v":0},{"$f":"IF($CH187>0,VLOOKUP($CH187,'العاملين '!$A$3:$AR$260,30),0)","v":0},{"$f":"IF($CH187>0,VLOOKUP($CH187,'العاملين '!$A$3:$AR$260,31),0)","v":0},null,{"$f":"IF($CH187>0,VLOOKUP($CH187,'العاملين '!$A$3:$AR$260,33),0)","v":0},{"$f":"IF($CH187>0,VLOOKUP($CH187,'العاملين '!$A$3:$AR$260,34),0)","v":0},{"$f":"IF($CH187>0,VLOOKUP($CH187,'العاملين '!$A$3:$AR$260,35),0)","v":0},{"$f":"IF($CH187>0,VLOOKUP($CH187,'العاملين '!$A$3:$AR$260,36),0)","v":0},{"$f":"IF($CH187>0,VLOOKUP($CH187,'العاملين '!$A$3:$AR$260,37),0)","v":0},{"$f":"IF($CH187>0,VLOOKUP($CH187,'العاملين '!$A$3:$AR$260,38),0)","v":0},{"$f":"IF($CH187>0,VLOOKUP($CH187,'العاملين '!$A$3:$AR$260,39),0)","v":0},{"$f":"IF($CH187>0,VLOOKUP($CH187,'العاملين '!$A$3:$AR$260,40),0)","v":0},{"$f":"IF($CH187>0,VLOOKUP($CH187,'العاملين '!$A$3:$AR$260,41),0)","v":0},0,0,0,{"$f":"IF($CH187>0,VLOOKUP($CH187,'العاملين '!$A$3:$AR$260,2),0)","v":0},0,null,{"$f":"IF($CH187>0,VLOOKUP($CH187,'العاملين '!$A$3:$AR$260,3),0)","v":0},{"$f":"IF($CH187>0,VLOOKUP($CH187,'العاملين '!$A$3:$AR$260,43),0)","v":0},0]
[15,{"$f":"IF($CH188>0,VLOOKUP($CH188,'العاملين '!$A$3:$AR$260,8),0)","v":0}," "," "," "," "," ",{"$f":"IF($CH188>0,VLOOKUP($CH188,'العاملين '!$A$3:$AR$260,9),0)","v":0},{"$f":"IF($CH188>0,VLOOKUP($CH188,'العاملين '!$A$3:$AR$260,10),0)","v":0},{"$f":"IF($CH188>0,VLOOKUP($CH188,'العاملين '!$A$3:$AR$260,11),0)","v":0},{"$f":"IF($CH188>0,VLOOKUP($CH188,'العاملين '!$A$3:$AR$260,12),0)","v":0},{"$f":"IF($CH188>0,VLOOKUP($CH188,'العاملين '!$A$3:$AR$260,13),0)","v":0},0,{"$f":"IF($CH188>0,VLOOKUP($CH188,'العاملين '!$A$3:$AR$260,14),0)","v":0},{"$f":"IF($CH188>0,VLOOKUP($CH188,'العاملين '!$A$3:$AR$260,15),0)","v":0},{"$f":"IF($CH188>0,VLOOKUP($CH188,'العاملين '!$A$3:$AR$260,16),0)","v":0},{"$f":"IF($CH188>0,VLOOKUP($CH188,'العاملين '!$A$3:$AR$260,17),0)","v":0},{"$f":"IF($CH188>0,VLOOKUP($CH188,'العاملين '!$A$3:$AR$260,18),0)","v":0},{"$f":"IF($CH188>0,VLOOKUP($CH188,'العاملين '!$A$3:$AR$260,19),0)","v":0},{"$f":"IF($CH188>0,VLOOKUP($CH188,'العاملين '!$A$3:$AR$260,20),0)","v":0},{"$f":"IF($CH188>0,VLOOKUP($CH188,'العاملين '!$A$3:$AR$260,21),0)","v":0},{"$f":"IF($CH188>0,VLOOKUP($CH188,'العاملين '!$A$3:$AR$260,22),0)","v":0},{"$f":"IF($CH188>0,VLOOKUP($CH188,'العاملين '!$A$3:$AR$260,23),0)","v":0},{"$f":"IF($CH188>0,VLOOKUP($CH188,'العاملين '!$A$3:$AR$260,24),0)","v":0},{"$f":"IF($CH188>0,VLOOKUP($CH188,'العاملين '!$A$3:$AR$260,26),0)","v":0},null,null,null,null,null,null,null,null,null,null,null,null,null,null,{"$f":"IF($CH188>0,VLOOKUP($CH188,'العاملين '!$A$3:$AR$260,25),0)","v":0},0,0,0,0,0,0,0,"",{"$f":"IF($CH188>0,VLOOKUP($CH188,'العاملين '!$A$3:$AR$260,28),0)","v":0},0," "," "," ",null," "," "," "," ",0,0,0,0,0,{"$f":"IF($CJ188=1,ROUND(($B188)*7%,2),IF($CJ188=2,VLOOKUP($CH188,'العاملين '!$A$3:$AS$260,44),0))","v":0},{"$f":"IF($CJ188=1,0.5,IF($CJ188=2,VLOOKUP($CH188,'العاملين '!$A$3:$AS$260,45),0))","v":0},{"$f":"IF($CJ188=1,4.5,IF($CJ188=2,VLOOKUP($CH188,'العاملين '!$A$3:$AS$260,46),0))","v":0},{"$f":"IF($CH188>0,VLOOKUP($CH188,'العاملين '!$A$3:$AR$260,29),0)","v":0},{"$f":"IF($CJ188=1,0.2,IF($CJ188=2,VLOOKUP($CH188,'العاملين '!$A$3:$AU$260,47),0))","v":0},{"$f":"IF($CJ188=1,0.05,IF($CJ188=2,VLOOKUP($CH188,'العاملين '!$A$3:$AU$260,47),0))","v":0},{"$f":"IF($CH188>0,VLOOKUP($CH188,'العاملين '!$A$3:$AR$260,30),0)","v":0},{"$f":"IF($CH188>0,VLOOKUP($CH188,'العاملين '!$A$3:$AR$260,31),0)","v":0},null,{"$f":"IF($CH188>0,VLOOKUP($CH188,'العاملين '!$A$3:$AR$260,33),0)","v":0},{"$f":"IF($CH188>0,VLOOKUP($CH188,'العاملين '!$A$3:$AR$260,34),0)","v":0},{"$f":"IF($CH188>0,VLOOKUP($CH188,'العاملين '!$A$3:$AR$260,35),0)","v":0},{"$f":"IF($CH188>0,VLOOKUP($CH188,'العاملين '!$A$3:$AR$260,36),0)","v":0},{"$f":"IF($CH188>0,VLOOKUP($CH188,'العاملين '!$A$3:$AR$260,37),0)","v":0},{"$f":"IF($CH188>0,VLOOKUP($CH188,'العاملين '!$A$3:$AR$260,38),0)","v":0},{"$f":"IF($CH188>0,VLOOKUP($CH188,'العاملين '!$A$3:$AR$260,39),0)","v":0},{"$f":"IF($CH188>0,VLOOKUP($CH188,'العاملين '!$A$3:$AR$260,40),0)","v":0},{"$f":"IF($CH188>0,VLOOKUP($CH188,'العاملين '!$A$3:$AR$260,41),0)","v":0},0,0,0,{"$f":"IF($CH188>0,VLOOKUP($CH188,'العاملين '!$A$3:$AR$260,2),0)","v":0},0,null,{"$f":"IF($CH188>0,VLOOKUP($CH188,'العاملين '!$A$3:$AR$260,3),0)","v":0},{"$f":"IF($CH188>0,VLOOKUP($CH188,'العاملين '!$A$3:$AR$260,43),0)","v":0},0]
[16,{"$f":"IF($CH189>0,VLOOKUP($CH189,'العاملين '!$A$3:$AR$260,8),0)","v":0}," "," "," "," "," ",{"$f":"IF($CH189>0,VLOOKUP($CH189,'العاملين '!$A$3:$AR$260,9),0)","v":0},{"$f":"IF($CH189>0,VLOOKUP($CH189,'العاملين '!$A$3:$AR$260,10),0)","v":0},{"$f":"IF($CH189>0,VLOOKUP($CH189,'العاملين '!$A$3:$AR$260,11),0)","v":0},{"$f":"IF($CH189>0,VLOOKUP($CH189,'العاملين '!$A$3:$AR$260,12),0)","v":0},{"$f":"IF($CH189>0,VLOOKUP($CH189,'العاملين '!$A$3:$AR$260,13),0)","v":0},0,{"$f":"IF($CH189>0,VLOOKUP($CH189,'العاملين '!$A$3:$AR$260,14),0)","v":0},{"$f":"IF($CH189>0,VLOOKUP($CH189,'العاملين '!$A$3:$AR$260,15),0)","v":0},{"$f":"IF($CH189>0,VLOOKUP($CH189,'العاملين '!$A$3:$AR$260,16),0)","v":0},{"$f":"IF($CH189>0,VLOOKUP($CH189,'العاملين '!$A$3:$AR$260,17),0)","v":0},{"$f":"IF($CH189>0,VLOOKUP($CH189,'العاملين '!$A$3:$AR$260,18),0)","v":0},{"$f":"IF($CH189>0,VLOOKUP($CH189,'العاملين '!$A$3:$AR$260,19),0)","v":0},{"$f":"IF($CH189>0,VLOOKUP($CH189,'العاملين '!$A$3:$AR$260,20),0)","v":0},{"$f":"IF($CH189>0,VLOOKUP($CH189,'العاملين '!$A$3:$AR$260,21),0)","v":0},{"$f":"IF($CH189>0,VLOOKUP($CH189,'العاملين '!$A$3:$AR$260,22),0)","v":0},{"$f":"IF($CH189>0,VLOOKUP($CH189,'العاملين '!$A$3:$AR$260,23),0)","v":0},{"$f":"IF($CH189>0,VLOOKUP($CH189,'العاملين '!$A$3:$AR$260,24),0)","v":0},{"$f":"IF($CH189>0,VLOOKUP($CH189,'العاملين '!$A$3:$AR$260,26),0)","v":0},null,null,null,null,null,null,null,null,null,null,null,null,null,null,{"$f":"IF($CH189>0,VLOOKUP($CH189,'العاملين '!$A$3:$AR$260,25),0)","v":0},0,0,0,0,0,0,0,"",{"$f":"IF($CH189>0,VLOOKUP($CH189,'العاملين '!$A$3:$AR$260,28),0)","v":0},0," "," "," ",null," "," "," "," ",0,0,0,0,0,{"$f":"IF($CJ189=1,ROUND(($B189)*7%,2),IF($CJ189=2,VLOOKUP($CH189,'العاملين '!$A$3:$AS$260,44),0))","v":0},{"$f":"IF($CJ189=1,0.5,IF($CJ189=2,VLOOKUP($CH189,'العاملين '!$A$3:$AS$260,45),0))","v":0},{"$f":"IF($CJ189=1,4.5,IF($CJ189=2,VLOOKUP($CH189,'العاملين '!$A$3:$AS$260,46),0))","v":0},{"$f":"IF($CH189>0,VLOOKUP($CH189,'العاملين '!$A$3:$AR$260,29),0)","v":0},{"$f":"IF($CJ189=1,0.2,IF($CJ189=2,VLOOKUP($CH189,'العاملين '!$A$3:$AU$260,47),0))","v":0},{"$f":"IF($CJ189=1,0.05,IF($CJ189=2,VLOOKUP($CH189,'العاملين '!$A$3:$AU$260,47),0))","v":0},{"$f":"IF($CH189>0,VLOOKUP($CH189,'العاملين '!$A$3:$AR$260,30),0)","v":0},{"$f":"IF($CH189>0,VLOOKUP($CH189,'العاملين '!$A$3:$AR$260,31),0)","v":0},null,{"$f":"IF($CH189>0,VLOOKUP($CH189,'العاملين '!$A$3:$AR$260,33),0)","v":0},{"$f":"IF($CH189>0,VLOOKUP($CH189,'العاملين '!$A$3:$AR$260,34),0)","v":0},{"$f":"IF($CH189>0,VLOOKUP($CH189,'العاملين '!$A$3:$AR$260,35),0)","v":0},{"$f":"IF($CH189>0,VLOOKUP($CH189,'العاملين '!$A$3:$AR$260,36),0)","v":0},{"$f":"IF($CH189>0,VLOOKUP($CH189,'العاملين '!$A$3:$AR$260,37),0)","v":0},{"$f":"IF($CH189>0,VLOOKUP($CH189,'العاملين '!$A$3:$AR$260,38),0)","v":0},{"$f":"IF($CH189>0,VLOOKUP($CH189,'العاملين '!$A$3:$AR$260,39),0)","v":0},{"$f":"IF($CH189>0,VLOOKUP($CH189,'العاملين '!$A$3:$AR$260,40),0)","v":0},{"$f":"IF($CH189>0,VLOOKUP($CH189,'العاملين '!$A$3:$AR$260,41),0)","v":0},0,0,0,{"$f":"IF($CH189>0,VLOOKUP($CH189,'العاملين '!$A$3:$AR$260,2),0)","v":0},0,null,{"$f":"IF($CH189>0,VLOOKUP($CH189,'العاملين '!$A$3:$AR$260,3),0)","v":0},{"$f":"IF($CH189>0,VLOOKUP($CH189,'العاملين '!$A$3:$AR$260,43),0)","v":0},0]
[17,{"$f":"IF($CH190>0,VLOOKUP($CH190,'العاملين '!$A$3:$AR$260,8),0)","v":0}," "," "," "," "," ",{"$f":"IF($CH190>0,VLOOKUP($CH190,'العاملين '!$A$3:$AR$260,9),0)","v":0},{"$f":"IF($CH190>0,VLOOKUP($CH190,'العاملين '!$A$3:$AR$260,10),0)","v":0},{"$f":"IF($CH190>0,VLOOKUP($CH190,'العاملين '!$A$3:$AR$260,11),0)","v":0},{"$f":"IF($CH190>0,VLOOKUP($CH190,'العاملين '!$A$3:$AR$260,12),0)","v":0},{"$f":"IF($CH190>0,VLOOKUP($CH190,'العاملين '!$A$3:$AR$260,13),0)","v":0},0,{"$f":"IF($CH190>0,VLOOKUP($CH190,'العاملين '!$A$3:$AR$260,14),0)","v":0},{"$f":"IF($CH190>0,VLOOKUP($CH190,'العاملين '!$A$3:$AR$260,15),0)","v":0},{"$f":"IF($CH190>0,VLOOKUP($CH190,'العاملين '!$A$3:$AR$260,16),0)","v":0},{"$f":"IF($CH190>0,VLOOKUP($CH190,'العاملين '!$A$3:$AR$260,17),0)","v":0},{"$f":"IF($CH190>0,VLOOKUP($CH190,'العاملين '!$A$3:$AR$260,18),0)","v":0},{"$f":"IF($CH190>0,VLOOKUP($CH190,'العاملين '!$A$3:$AR$260,19),0)","v":0},{"$f":"IF($CH190>0,VLOOKUP($CH190,'العاملين '!$A$3:$AR$260,20),0)","v":0},{"$f":"IF($CH190>0,VLOOKUP($CH190,'العاملين '!$A$3:$AR$260,21),0)","v":0},{"$f":"IF($CH190>0,VLOOKUP($CH190,'العاملين '!$A$3:$AR$260,22),0)","v":0},{"$f":"IF($CH190>0,VLOOKUP($CH190,'العاملين '!$A$3:$AR$260,23),0)","v":0},{"$f":"IF($CH190>0,VLOOKUP($CH190,'العاملين '!$A$3:$AR$260,24),0)","v":0},{"$f":"IF($CH190>0,VLOOKUP($CH190,'العاملين '!$A$3:$AR$260,26),0)","v":0},null,null,null,null,null,null,null,null,null,null,null,null,null,null,{"$f":"IF($CH190>0,VLOOKUP($CH190,'العاملين '!$A$3:$AR$260,25),0)","v":0},0,0,0,0,0,0,0,"",{"$f":"IF($CH190>0,VLOOKUP($CH190,'العاملين '!$A$3:$AR$260,28),0)","v":0},0," "," "," ",null," "," "," "," ",{"$f":"AR190","v":0},0,0,0,0,{"$f":"IF($CJ190=1,ROUND(($B190)*7%,2),IF($CJ190=2,VLOOKUP($CH190,'العاملين '!$A$3:$AS$260,44),0))","v":0},{"$f":"IF($CJ190=1,0.5,IF($CJ190=2,VLOOKUP($CH190,'العاملين '!$A$3:$AS$260,45),0))","v":0},{"$f":"IF($CJ190=1,4.5,IF($CJ190=2,VLOOKUP($CH190,'العاملين '!$A$3:$AS$260,46),0))","v":0},{"$f":"IF($CH190>0,VLOOKUP($CH190,'العاملين '!$A$3:$AR$260,29),0)","v":0},{"$f":"IF($CJ190=1,0.2,IF($CJ190=2,VLOOKUP($CH190,'العاملين '!$A$3:$AU$260,47),0))","v":0},{"$f":"IF($CJ190=1,0.05,IF($CJ190=2,VLOOKUP($CH190,'العاملين '!$A$3:$AU$260,47),0))","v":0},{"$f":"IF($CH190>0,VLOOKUP($CH190,'العاملين '!$A$3:$AR$260,30),0)","v":0},{"$f":"IF($CH190>0,VLOOKUP($CH190,'العاملين '!$A$3:$AR$260,31),0)","v":0},null,{"$f":"IF($CH190>0,VLOOKUP($CH190,'العاملين '!$A$3:$AR$260,33),0)","v":0},{"$f":"IF($CH190>0,VLOOKUP($CH190,'العاملين '!$A$3:$AR$260,34),0)","v":0},{"$f":"IF($CH190>0,VLOOKUP($CH190,'العاملين '!$A$3:$AR$260,35),0)","v":0},{"$f":"IF($CH190>0,VLOOKUP($CH190,'العاملين '!$A$3:$AR$260,36),0)","v":0},{"$f":"IF($CH190>0,VLOOKUP($CH190,'العاملين '!$A$3:$AR$260,37),0)","v":0},{"$f":"IF($CH190>0,VLOOKUP($CH190,'العاملين '!$A$3:$AR$260,38),0)","v":0},{"$f":"IF($CH190>0,VLOOKUP($CH190,'العاملين '!$A$3:$AR$260,39),0)","v":0},{"$f":"IF($CH190>0,VLOOKUP($CH190,'العاملين '!$A$3:$AR$260,40),0)","v":0},{"$f":"IF($CH190>0,VLOOKUP($CH190,'العاملين '!$A$3:$AR$260,41),0)","v":0},0,0,0,{"$f":"IF($CH190>0,VLOOKUP($CH190,'العاملين '!$A$3:$AR$260,2),0)","v":0},0,null,{"$f":"IF($CH190>0,VLOOKUP($CH190,'العاملين '!$A$3:$AR$260,3),0)","v":0},{"$f":"IF($CH190>0,VLOOKUP($CH190,'العاملين '!$A$3:$AR$260,43),0)","v":0},0]
[18,{"$f":"IF($CH191>0,VLOOKUP($CH191,'العاملين '!$A$3:$AR$260,8),0)","v":0}," "," "," "," "," ",{"$f":"IF($CH191>0,VLOOKUP($CH191,'العاملين '!$A$3:$AR$260,9),0)","v":0},{"$f":"IF($CH191>0,VLOOKUP($CH191,'العاملين '!$A$3:$AR$260,10),0)","v":0},{"$f":"IF($CH191>0,VLOOKUP($CH191,'العاملين '!$A$3:$AR$260,11),0)","v":0},{"$f":"IF($CH191>0,VLOOKUP($CH191,'العاملين '!$A$3:$AR$260,12),0)","v":0},{"$f":"IF($CH191>0,VLOOKUP($CH191,'العاملين '!$A$3:$AR$260,13),0)","v":0},0,{"$f":"IF($CH191>0,VLOOKUP($CH191,'العاملين '!$A$3:$AR$260,14),0)","v":0},{"$f":"IF($CH191>0,VLOOKUP($CH191,'العاملين '!$A$3:$AR$260,15),0)","v":0},{"$f":"IF($CH191>0,VLOOKUP($CH191,'العاملين '!$A$3:$AR$260,16),0)","v":0},{"$f":"IF($CH191>0,VLOOKUP($CH191,'العاملين '!$A$3:$AR$260,17),0)","v":0},{"$f":"IF($CH191>0,VLOOKUP($CH191,'العاملين '!$A$3:$AR$260,18),0)","v":0},{"$f":"IF($CH191>0,VLOOKUP($CH191,'العاملين '!$A$3:$AR$260,19),0)","v":0},{"$f":"IF($CH191>0,VLOOKUP($CH191,'العاملين '!$A$3:$AR$260,20),0)","v":0},{"$f":"IF($CH191>0,VLOOKUP($CH191,'العاملين '!$A$3:$AR$260,21),0)","v":0},{"$f":"IF($CH191>0,VLOOKUP($CH191,'العاملين '!$A$3:$AR$260,22),0)","v":0},{"$f":"IF($CH191>0,VLOOKUP($CH191,'العاملين '!$A$3:$AR$260,23),0)","v":0},{"$f":"IF($CH191>0,VLOOKUP($CH191,'العاملين '!$A$3:$AR$260,24),0)","v":0},{"$f":"IF($CH191>0,VLOOKUP($CH191,'العاملين '!$A$3:$AR$260,26),0)","v":0},null,null,null,null,null,null,null,null,null,null,null,null,null,null,{"$f":"IF($CH191>0,VLOOKUP($CH191,'العاملين '!$A$3:$AR$260,25),0)","v":0},0,0,0,0,0,0,0,"",{"$f":"IF($CH191>0,VLOOKUP($CH191,'العاملين '!$A$3:$AR$260,28),0)","v":0},0," "," "," ",null," "," "," "," ",0,0,0,0,0,{"$f":"IF($CJ191=1,ROUND(($B191)*7%,2),IF($CJ191=2,VLOOKUP($CH191,'العاملين '!$A$3:$AS$260,44),0))","v":0},{"$f":"IF($CJ191=1,0.5,IF($CJ191=2,VLOOKUP($CH191,'العاملين '!$A$3:$AS$260,45),0))","v":0},{"$f":"IF($CJ191=1,4.5,IF($CJ191=2,VLOOKUP($CH191,'العاملين '!$A$3:$AS$260,46),0))","v":0},{"$f":"IF($CH191>0,VLOOKUP($CH191,'العاملين '!$A$3:$AR$260,29),0)","v":0},{"$f":"IF($CJ191=1,0.2,IF($CJ191=2,VLOOKUP($CH191,'العاملين '!$A$3:$AU$260,47),0))","v":0},{"$f":"IF($CJ191=1,0.05,IF($CJ191=2,VLOOKUP($CH191,'العاملين '!$A$3:$AU$260,47),0))","v":0},{"$f":"IF($CH191>0,VLOOKUP($CH191,'العاملين '!$A$3:$AR$260,30),0)","v":0},{"$f":"IF($CH191>0,VLOOKUP($CH191,'العاملين '!$A$3:$AR$260,31),0)","v":0},null,{"$f":"IF($CH191>0,VLOOKUP($CH191,'العاملين '!$A$3:$AR$260,33),0)","v":0},{"$f":"IF($CH191>0,VLOOKUP($CH191,'العاملين '!$A$3:$AR$260,34),0)","v":0},{"$f":"IF($CH191>0,VLOOKUP($CH191,'العاملين '!$A$3:$AR$260,35),0)","v":0},{"$f":"IF($CH191>0,VLOOKUP($CH191,'العاملين '!$A$3:$AR$260,36),0)","v":0},{"$f":"IF($CH191>0,VLOOKUP($CH191,'العاملين '!$A$3:$AR$260,37),0)","v":0},{"$f":"IF($CH191>0,VLOOKUP($CH191,'العاملين '!$A$3:$AR$260,38),0)","v":0},{"$f":"IF($CH191>0,VLOOKUP($CH191,'العاملين '!$A$3:$AR$260,39),0)","v":0},{"$f":"IF($CH191>0,VLOOKUP($CH191,'العاملين '!$A$3:$AR$260,40),0)","v":0},{"$f":"IF($CH191>0,VLOOKUP($CH191,'العاملين '!$A$3:$AR$260,41),0)","v":0},0,0,0,{"$f":"IF($CH191>0,VLOOKUP($CH191,'العاملين '!$A$3:$AR$260,2),0)","v":0},0,null,{"$f":"IF($CH191>0,VLOOKUP($CH191,'العاملين '!$A$3:$AR$260,3),0)","v":0},{"$f":"IF($CH191>0,VLOOKUP($CH191,'العاملين '!$A$3:$AR$260,43),0)","v":0},0]
[19,{"$f":"IF($CH192>0,VLOOKUP($CH192,'العاملين '!$A$3:$AR$260,8),0)","v":0}," "," "," "," "," ",{"$f":"IF($CH192>0,VLOOKUP($CH192,'العاملين '!$A$3:$AR$260,9),0)","v":0},{"$f":"IF($CH192>0,VLOOKUP($CH192,'العاملين '!$A$3:$AR$260,10),0)","v":0},{"$f":"IF($CH192>0,VLOOKUP($CH192,'العاملين '!$A$3:$AR$260,11),0)","v":0},{"$f":"IF($CH192>0,VLOOKUP($CH192,'العاملين '!$A$3:$AR$260,12),0)","v":0},{"$f":"IF($CH192>0,VLOOKUP($CH192,'العاملين '!$A$3:$AR$260,13),0)","v":0},0,{"$f":"IF($CH192>0,VLOOKUP($CH192,'العاملين '!$A$3:$AR$260,14),0)","v":0},{"$f":"IF($CH192>0,VLOOKUP($CH192,'العاملين '!$A$3:$AR$260,15),0)","v":0},{"$f":"IF($CH192>0,VLOOKUP($CH192,'العاملين '!$A$3:$AR$260,16),0)","v":0},{"$f":"IF($CH192>0,VLOOKUP($CH192,'العاملين '!$A$3:$AR$260,17),0)","v":0},{"$f":"IF($CH192>0,VLOOKUP($CH192,'العاملين '!$A$3:$AR$260,18),0)","v":0},{"$f":"IF($CH192>0,VLOOKUP($CH192,'العاملين '!$A$3:$AR$260,19),0)","v":0},{"$f":"IF($CH192>0,VLOOKUP($CH192,'العاملين '!$A$3:$AR$260,20),0)","v":0},{"$f":"IF($CH192>0,VLOOKUP($CH192,'العاملين '!$A$3:$AR$260,21),0)","v":0},{"$f":"IF($CH192>0,VLOOKUP($CH192,'العاملين '!$A$3:$AR$260,22),0)","v":0},{"$f":"IF($CH192>0,VLOOKUP($CH192,'العاملين '!$A$3:$AR$260,23),0)","v":0},{"$f":"IF($CH192>0,VLOOKUP($CH192,'العاملين '!$A$3:$AR$260,24),0)","v":0},{"$f":"IF($CH192>0,VLOOKUP($CH192,'العاملين '!$A$3:$AR$260,26),0)","v":0},null,null,null,null,null,null,null,null,null,null,null,null,null,null,{"$f":"IF($CH192>0,VLOOKUP($CH192,'العاملين '!$A$3:$AR$260,25),0)","v":0},0,0,0,0,0,0,0,"",{"$f":"IF($CH192>0,VLOOKUP($CH192,'العاملين '!$A$3:$AR$260,28),0)","v":0},0," "," "," ",null," "," "," "," ",0,0,0,0,0,{"$f":"IF($CJ192=1,ROUND(($B192)*7%,2),IF($CJ192=2,VLOOKUP($CH192,'العاملين '!$A$3:$AS$260,44),0))","v":0},{"$f":"IF($CJ192=1,0.5,IF($CJ192=2,VLOOKUP($CH192,'العاملين '!$A$3:$AS$260,45),0))","v":0},{"$f":"IF($CJ192=1,4.5,IF($CJ192=2,VLOOKUP($CH192,'العاملين '!$A$3:$AS$260,46),0))","v":0},{"$f":"IF($CH192>0,VLOOKUP($CH192,'العاملين '!$A$3:$AR$260,29),0)","v":0},{"$f":"IF($CJ192=1,0.2,IF($CJ192=2,VLOOKUP($CH192,'العاملين '!$A$3:$AU$260,47),0))","v":0},{"$f":"IF($CJ192=1,0.05,IF($CJ192=2,VLOOKUP($CH192,'العاملين '!$A$3:$AU$260,47),0))","v":0},{"$f":"IF($CH192>0,VLOOKUP($CH192,'العاملين '!$A$3:$AR$260,30),0)","v":0},{"$f":"IF($CH192>0,VLOOKUP($CH192,'العاملين '!$A$3:$AR$260,31),0)","v":0},null,{"$f":"IF($CH192>0,VLOOKUP($CH192,'العاملين '!$A$3:$AR$260,33),0)","v":0},{"$f":"IF($CH192>0,VLOOKUP($CH192,'العاملين '!$A$3:$AR$260,34),0)","v":0},{"$f":"IF($CH192>0,VLOOKUP($CH192,'العاملين '!$A$3:$AR$260,35),0)","v":0},{"$f":"IF($CH192>0,VLOOKUP($CH192,'العاملين '!$A$3:$AR$260,36),0)","v":0},{"$f":"IF($CH192>0,VLOOKUP($CH192,'العاملين '!$A$3:$AR$260,37),0)","v":0},{"$f":"IF($CH192>0,VLOOKUP($CH192,'العاملين '!$A$3:$AR$260,38),0)","v":0},{"$f":"IF($CH192>0,VLOOKUP($CH192,'العاملين '!$A$3:$AR$260,39),0)","v":0},{"$f":"IF($CH192>0,VLOOKUP($CH192,'العاملين '!$A$3:$AR$260,40),0)","v":0},{"$f":"IF($CH192>0,VLOOKUP($CH192,'العاملين '!$A$3:$AR$260,41),0)","v":0},0,0,0,{"$f":"IF($CH192>0,VLOOKUP($CH192,'العاملين '!$A$3:$AR$260,2),0)","v":0},0,null,{"$f":"IF($CH192>0,VLOOKUP($CH192,'العاملين '!$A$3:$AR$260,3),0)","v":0},{"$f":"IF($CH192>0,VLOOKUP($CH192,'العاملين '!$A$3:$AR$260,43),0)","v":0},0]
[20,{"$f":"IF($CH193>0,VLOOKUP($CH193,'العاملين '!$A$3:$AR$260,8),0)","v":0}," "," "," "," "," ",{"$f":"IF($CH193>0,VLOOKUP($CH193,'العاملين '!$A$3:$AR$260,9),0)","v":0},{"$f":"IF($CH193>0,VLOOKUP($CH193,'العاملين '!$A$3:$AR$260,10),0)","v":0},{"$f":"IF($CH193>0,VLOOKUP($CH193,'العاملين '!$A$3:$AR$260,11),0)","v":0},{"$f":"IF($CH193>0,VLOOKUP($CH193,'العاملين '!$A$3:$AR$260,12),0)","v":0},{"$f":"IF($CH193>0,VLOOKUP($CH193,'العاملين '!$A$3:$AR$260,13),0)","v":0},0,{"$f":"IF($CH193>0,VLOOKUP($CH193,'العاملين '!$A$3:$AR$260,14),0)","v":0},{"$f":"IF($CH193>0,VLOOKUP($CH193,'العاملين '!$A$3:$AR$260,15),0)","v":0},{"$f":"IF($CH193>0,VLOOKUP($CH193,'العاملين '!$A$3:$AR$260,16),0)","v":0},{"$f":"IF($CH193>0,VLOOKUP($CH193,'العاملين '!$A$3:$AR$260,17),0)","v":0},{"$f":"IF($CH193>0,VLOOKUP($CH193,'العاملين '!$A$3:$AR$260,18),0)","v":0},{"$f":"IF($CH193>0,VLOOKUP($CH193,'العاملين '!$A$3:$AR$260,19),0)","v":0},{"$f":"IF($CH193>0,VLOOKUP($CH193,'العاملين '!$A$3:$AR$260,20),0)","v":0},{"$f":"IF($CH193>0,VLOOKUP($CH193,'العاملين '!$A$3:$AR$260,21),0)","v":0},{"$f":"IF($CH193>0,VLOOKUP($CH193,'العاملين '!$A$3:$AR$260,22),0)","v":0},{"$f":"IF($CH193>0,VLOOKUP($CH193,'العاملين '!$A$3:$AR$260,23),0)","v":0},{"$f":"IF($CH193>0,VLOOKUP($CH193,'العاملين '!$A$3:$AR$260,24),0)","v":0},{"$f":"IF($CH193>0,VLOOKUP($CH193,'العاملين '!$A$3:$AR$260,26),0)","v":0},null,null,null,null,null,null,null,null,null,null,null,null,null,null,{"$f":"IF($CH193>0,VLOOKUP($CH193,'العاملين '!$A$3:$AR$260,25),0)","v":0},0,0,0,0,0,0,0,"",{"$f":"IF($CH193>0,VLOOKUP($CH193,'العاملين '!$A$3:$AR$260,28),0)","v":0},0," "," "," ",null," "," "," "," ",0,0,0,0,0,{"$f":"IF($CJ193=1,ROUND(($B193)*7%,2),IF($CJ193=2,VLOOKUP($CH193,'العاملين '!$A$3:$AS$260,44),0))","v":0},{"$f":"IF($CJ193=1,0.5,IF($CJ193=2,VLOOKUP($CH193,'العاملين '!$A$3:$AS$260,45),0))","v":0},{"$f":"IF($CJ193=1,4.5,IF($CJ193=2,VLOOKUP($CH193,'العاملين '!$A$3:$AS$260,46),0))","v":0},{"$f":"IF($CH193>0,VLOOKUP($CH193,'العاملين '!$A$3:$AR$260,29),0)","v":0},{"$f":"IF($CJ193=1,0.2,IF($CJ193=2,VLOOKUP($CH193,'العاملين '!$A$3:$AU$260,47),0))","v":0},{"$f":"IF($CJ193=1,0.05,IF($CJ193=2,VLOOKUP($CH193,'العاملين '!$A$3:$AU$260,47),0))","v":0},{"$f":"IF($CH193>0,VLOOKUP($CH193,'العاملين '!$A$3:$AR$260,30),0)","v":0},{"$f":"IF($CH193>0,VLOOKUP($CH193,'العاملين '!$A$3:$AR$260,31),0)","v":0},null,{"$f":"IF($CH193>0,VLOOKUP($CH193,'العاملين '!$A$3:$AR$260,33),0)","v":0},{"$f":"IF($CH193>0,VLOOKUP($CH193,'العاملين '!$A$3:$AR$260,34),0)","v":0},{"$f":"IF($CH193>0,VLOOKUP($CH193,'العاملين '!$A$3:$AR$260,35),0)","v":0},{"$f":"IF($CH193>0,VLOOKUP($CH193,'العاملين '!$A$3:$AR$260,36),0)","v":0},{"$f":"IF($CH193>0,VLOOKUP($CH193,'العاملين '!$A$3:$AR$260,37),0)","v":0},{"$f":"IF($CH193>0,VLOOKUP($CH193,'العاملين '!$A$3:$AR$260,38),0)","v":0},{"$f":"IF($CH193>0,VLOOKUP($CH193,'العاملين '!$A$3:$AR$260,39),0)","v":0},{"$f":"IF($CH193>0,VLOOKUP($CH193,'العاملين '!$A$3:$AR$260,40),0)","v":0},{"$f":"IF($CH193>0,VLOOKUP($CH193,'العاملين '!$A$3:$AR$260,41),0)","v":0},0,0,0,{"$f":"IF($CH193>0,VLOOKUP($CH193,'العاملين '!$A$3:$AR$260,2),0)","v":0},0,null,{"$f":"IF($CH193>0,VLOOKUP($CH193,'العاملين '!$A$3:$AR$260,3),0)","v":0},{"$f":"IF($CH193>0,VLOOKUP($CH193,'العاملين '!$A$3:$AR$260,43),0)","v":0},0]
[21,{"$f":"IF($CH194>0,VLOOKUP($CH194,'العاملين '!$A$3:$AR$260,8),0)","v":0}," "," "," "," "," ",{"$f":"IF($CH194>0,VLOOKUP($CH194,'العاملين '!$A$3:$AR$260,9),0)","v":0},{"$f":"IF($CH194>0,VLOOKUP($CH194,'العاملين '!$A$3:$AR$260,10),0)","v":0},{"$f":"IF($CH194>0,VLOOKUP($CH194,'العاملين '!$A$3:$AR$260,11),0)","v":0},{"$f":"IF($CH194>0,VLOOKUP($CH194,'العاملين '!$A$3:$AR$260,12),0)","v":0},{"$f":"IF($CH194>0,VLOOKUP($CH194,'العاملين '!$A$3:$AR$260,13),0)","v":0},0,{"$f":"IF($CH194>0,VLOOKUP($CH194,'العاملين '!$A$3:$AR$260,14),0)","v":0},{"$f":"IF($CH194>0,VLOOKUP($CH194,'العاملين '!$A$3:$AR$260,15),0)","v":0},{"$f":"IF($CH194>0,VLOOKUP($CH194,'العاملين '!$A$3:$AR$260,16),0)","v":0},{"$f":"IF($CH194>0,VLOOKUP($CH194,'العاملين '!$A$3:$AR$260,17),0)","v":0},{"$f":"IF($CH194>0,VLOOKUP($CH194,'العاملين '!$A$3:$AR$260,18),0)","v":0},{"$f":"IF($CH194>0,VLOOKUP($CH194,'العاملين '!$A$3:$AR$260,19),0)","v":0},{"$f":"IF($CH194>0,VLOOKUP($CH194,'العاملين '!$A$3:$AR$260,20),0)","v":0},{"$f":"IF($CH194>0,VLOOKUP($CH194,'العاملين '!$A$3:$AR$260,21),0)","v":0},{"$f":"IF($CH194>0,VLOOKUP($CH194,'العاملين '!$A$3:$AR$260,22),0)","v":0},{"$f":"IF($CH194>0,VLOOKUP($CH194,'العاملين '!$A$3:$AR$260,23),0)","v":0},{"$f":"IF($CH194>0,VLOOKUP($CH194,'العاملين '!$A$3:$AR$260,24),0)","v":0},{"$f":"IF($CH194>0,VLOOKUP($CH194,'العاملين '!$A$3:$AR$260,26),0)","v":0},null,null,null,null,null,null,null,null,null,null,null,null,null,null,{"$f":"IF($CH194>0,VLOOKUP($CH194,'العاملين '!$A$3:$AR$260,25),0)","v":0},0,0,0,0,0,0,0,"",{"$f":"IF($CH194>0,VLOOKUP($CH194,'العاملين '!$A$3:$AR$260,28),0)","v":0},0," "," "," ",null," "," "," "," ",0,0,0,0,0,{"$f":"IF($CJ194=1,ROUND(($B194)*7%,2),IF($CJ194=2,VLOOKUP($CH194,'العاملين '!$A$3:$AS$260,44),0))","v":0},{"$f":"IF($CJ194=1,0.5,IF($CJ194=2,VLOOKUP($CH194,'العاملين '!$A$3:$AS$260,45),0))","v":0},{"$f":"IF($CJ194=1,4.5,IF($CJ194=2,VLOOKUP($CH194,'العاملين '!$A$3:$AS$260,46),0))","v":0},{"$f":"IF($CH194>0,VLOOKUP($CH194,'العاملين '!$A$3:$AR$260,29),0)","v":0},{"$f":"IF($CJ194=1,0.2,IF($CJ194=2,VLOOKUP($CH194,'العاملين '!$A$3:$AU$260,47),0))","v":0},{"$f":"IF($CJ194=1,0.05,IF($CJ194=2,VLOOKUP($CH194,'العاملين '!$A$3:$AU$260,47),0))","v":0},{"$f":"IF($CH194>0,VLOOKUP($CH194,'العاملين '!$A$3:$AR$260,30),0)","v":0},{"$f":"IF($CH194>0,VLOOKUP($CH194,'العاملين '!$A$3:$AR$260,31),0)","v":0},null,{"$f":"IF($CH194>0,VLOOKUP($CH194,'العاملين '!$A$3:$AR$260,33),0)","v":0},{"$f":"IF($CH194>0,VLOOKUP($CH194,'العاملين '!$A$3:$AR$260,34),0)","v":0},{"$f":"IF($CH194>0,VLOOKUP($CH194,'العاملين '!$A$3:$AR$260,35),0)","v":0},{"$f":"IF($CH194>0,VLOOKUP($CH194,'العاملين '!$A$3:$AR$260,36),0)","v":0},{"$f":"IF($CH194>0,VLOOKUP($CH194,'العاملين '!$A$3:$AR$260,37),0)","v":0},{"$f":"IF($CH194>0,VLOOKUP($CH194,'العاملين '!$A$3:$AR$260,38),0)","v":0},{"$f":"IF($CH194>0,VLOOKUP($CH194,'العاملين '!$A$3:$AR$260,39),0)","v":0},{"$f":"IF($CH194>0,VLOOKUP($CH194,'العاملين '!$A$3:$AR$260,40),0)","v":0},{"$f":"IF($CH194>0,VLOOKUP($CH194,'العاملين '!$A$3:$AR$260,41),0)","v":0},0,0,0,{"$f":"IF($CH194>0,VLOOKUP($CH194,'العاملين '!$A$3:$AR$260,2),0)","v":0},0,null,{"$f":"IF($CH194>0,VLOOKUP($CH194,'العاملين '!$A$3:$AR$260,3),0)","v":0},{"$f":"IF($CH194>0,VLOOKUP($CH194,'العاملين '!$A$3:$AR$260,43),0)","v":0},0]
[22,{"$f":"IF($CH195>0,VLOOKUP($CH195,'العاملين '!$A$3:$AR$260,8),0)","v":0}," "," "," "," "," ",{"$f":"IF($CH195>0,VLOOKUP($CH195,'العاملين '!$A$3:$AR$260,9),0)","v":0},{"$f":"IF($CH195>0,VLOOKUP($CH195,'العاملين '!$A$3:$AR$260,10),0)","v":0},{"$f":"IF($CH195>0,VLOOKUP($CH195,'العاملين '!$A$3:$AR$260,11),0)","v":0},{"$f":"IF($CH195>0,VLOOKUP($CH195,'العاملين '!$A$3:$AR$260,12),0)","v":0},{"$f":"IF($CH195>0,VLOOKUP($CH195,'العاملين '!$A$3:$AR$260,13),0)","v":0},0,{"$f":"IF($CH195>0,VLOOKUP($CH195,'العاملين '!$A$3:$AR$260,14),0)","v":0},{"$f":"IF($CH195>0,VLOOKUP($CH195,'العاملين '!$A$3:$AR$260,15),0)","v":0},{"$f":"IF($CH195>0,VLOOKUP($CH195,'العاملين '!$A$3:$AR$260,16),0)","v":0},{"$f":"IF($CH195>0,VLOOKUP($CH195,'العاملين '!$A$3:$AR$260,17),0)","v":0},{"$f":"IF($CH195>0,VLOOKUP($CH195,'العاملين '!$A$3:$AR$260,18),0)","v":0},{"$f":"IF($CH195>0,VLOOKUP($CH195,'العاملين '!$A$3:$AR$260,19),0)","v":0},{"$f":"IF($CH195>0,VLOOKUP($CH195,'العاملين '!$A$3:$AR$260,20),0)","v":0},{"$f":"IF($CH195>0,VLOOKUP($CH195,'العاملين '!$A$3:$AR$260,21),0)","v":0},{"$f":"IF($CH195>0,VLOOKUP($CH195,'العاملين '!$A$3:$AR$260,22),0)","v":0},{"$f":"IF($CH195>0,VLOOKUP($CH195,'العاملين '!$A$3:$AR$260,23),0)","v":0},{"$f":"IF($CH195>0,VLOOKUP($CH195,'العاملين '!$A$3:$AR$260,24),0)","v":0},{"$f":"IF($CH195>0,VLOOKUP($CH195,'العاملين '!$A$3:$AR$260,26),0)","v":0},null,null,null,null,null,null,null,null,null,null,null,null,null,null,{"$f":"IF($CH195>0,VLOOKUP($CH195,'العاملين '!$A$3:$AR$260,25),0)","v":0},0,0,0,0,0,0,0,"",{"$f":"IF($CH195>0,VLOOKUP($CH195,'العاملين '!$A$3:$AR$260,28),0)","v":0},0," "," "," ",null," "," "," "," ",0,0,0,0,0,{"$f":"IF($CJ195=1,ROUND(($B195)*7%,2),IF($CJ195=2,VLOOKUP($CH195,'العاملين '!$A$3:$AS$260,44),0))","v":0},{"$f":"IF($CJ195=1,0.5,IF($CJ195=2,VLOOKUP($CH195,'العاملين '!$A$3:$AS$260,45),0))","v":0},{"$f":"IF($CJ195=1,4.5,IF($CJ195=2,VLOOKUP($CH195,'العاملين '!$A$3:$AS$260,46),0))","v":0},{"$f":"IF($CH195>0,VLOOKUP($CH195,'العاملين '!$A$3:$AR$260,29),0)","v":0},{"$f":"IF($CJ195=1,0.2,IF($CJ195=2,VLOOKUP($CH195,'العاملين '!$A$3:$AU$260,47),0))","v":0},{"$f":"IF($CJ195=1,0.05,IF($CJ195=2,VLOOKUP($CH195,'العاملين '!$A$3:$AU$260,47),0))","v":0},{"$f":"IF($CH195>0,VLOOKUP($CH195,'العاملين '!$A$3:$AR$260,30),0)","v":0},{"$f":"IF($CH195>0,VLOOKUP($CH195,'العاملين '!$A$3:$AR$260,31),0)","v":0},null,{"$f":"IF($CH195>0,VLOOKUP($CH195,'العاملين '!$A$3:$AR$260,33),0)","v":0},{"$f":"IF($CH195>0,VLOOKUP($CH195,'العاملين '!$A$3:$AR$260,34),0)","v":0},{"$f":"IF($CH195>0,VLOOKUP($CH195,'العاملين '!$A$3:$AR$260,35),0)","v":0},{"$f":"IF($CH195>0,VLOOKUP($CH195,'العاملين '!$A$3:$AR$260,36),0)","v":0},{"$f":"IF($CH195>0,VLOOKUP($CH195,'العاملين '!$A$3:$AR$260,37),0)","v":0},{"$f":"IF($CH195>0,VLOOKUP($CH195,'العاملين '!$A$3:$AR$260,38),0)","v":0},{"$f":"IF($CH195>0,VLOOKUP($CH195,'العاملين '!$A$3:$AR$260,39),0)","v":0},{"$f":"IF($CH195>0,VLOOKUP($CH195,'العاملين '!$A$3:$AR$260,40),0)","v":0},{"$f":"IF($CH195>0,VLOOKUP($CH195,'العاملين '!$A$3:$AR$260,41),0)","v":0},0,0,0,{"$f":"IF($CH195>0,VLOOKUP($CH195,'العاملين '!$A$3:$AR$260,2),0)","v":0},0,null,{"$f":"IF($CH195>0,VLOOKUP($CH195,'العاملين '!$A$3:$AR$260,3),0)","v":0},{"$f":"IF($CH195>0,VLOOKUP($CH195,'العاملين '!$A$3:$AR$260,43),0)","v":0},0]
[23,{"$f":"IF($CH196>0,VLOOKUP($CH196,'العاملين '!$A$3:$AR$260,8),0)","v":0}," "," "," "," "," ",{"$f":"IF($CH196>0,VLOOKUP($CH196,'العاملين '!$A$3:$AR$260,9),0)","v":0},{"$f":"IF($CH196>0,VLOOKUP($CH196,'العاملين '!$A$3:$AR$260,10),0)","v":0},{"$f":"IF($CH196>0,VLOOKUP($CH196,'العاملين '!$A$3:$AR$260,11),0)","v":0},{"$f":"IF($CH196>0,VLOOKUP($CH196,'العاملين '!$A$3:$AR$260,12),0)","v":0},{"$f":"IF($CH196>0,VLOOKUP($CH196,'العاملين '!$A$3:$AR$260,13),0)","v":0},0,{"$f":"IF($CH196>0,VLOOKUP($CH196,'العاملين '!$A$3:$AR$260,14),0)","v":0},{"$f":"IF($CH196>0,VLOOKUP($CH196,'العاملين '!$A$3:$AR$260,15),0)","v":0},{"$f":"IF($CH196>0,VLOOKUP($CH196,'العاملين '!$A$3:$AR$260,16),0)","v":0},{"$f":"IF($CH196>0,VLOOKUP($CH196,'العاملين '!$A$3:$AR$260,17),0)","v":0},{"$f":"IF($CH196>0,VLOOKUP($CH196,'العاملين '!$A$3:$AR$260,18),0)","v":0},{"$f":"IF($CH196>0,VLOOKUP($CH196,'العاملين '!$A$3:$AR$260,19),0)","v":0},{"$f":"IF($CH196>0,VLOOKUP($CH196,'العاملين '!$A$3:$AR$260,20),0)","v":0},{"$f":"IF($CH196>0,VLOOKUP($CH196,'العاملين '!$A$3:$AR$260,21),0)","v":0},{"$f":"IF($CH196>0,VLOOKUP($CH196,'العاملين '!$A$3:$AR$260,22),0)","v":0},{"$f":"IF($CH196>0,VLOOKUP($CH196,'العاملين '!$A$3:$AR$260,23),0)","v":0},{"$f":"IF($CH196>0,VLOOKUP($CH196,'العاملين '!$A$3:$AR$260,24),0)","v":0},{"$f":"IF($CH196>0,VLOOKUP($CH196,'العاملين '!$A$3:$AR$260,26),0)","v":0},null,null,null,null,null,null,null,null,null,null,null,null,null,null,{"$f":"IF($CH196>0,VLOOKUP($CH196,'العاملين '!$A$3:$AR$260,25),0)","v":0},0,0,0,0,0,0,0,"",{"$f":"IF($CH196>0,VLOOKUP($CH196,'العاملين '!$A$3:$AR$260,28),0)","v":0},0," "," "," ",null," "," "," "," ",0,0,0,0,0,{"$f":"IF($CJ196=1,ROUND(($B196)*7%,2),IF($CJ196=2,VLOOKUP($CH196,'العاملين '!$A$3:$AS$260,44),0))","v":0},{"$f":"IF($CJ196=1,0.5,IF($CJ196=2,VLOOKUP($CH196,'العاملين '!$A$3:$AS$260,45),0))","v":0},{"$f":"IF($CJ196=1,4.5,IF($CJ196=2,VLOOKUP($CH196,'العاملين '!$A$3:$AS$260,46),0))","v":0},{"$f":"IF($CH196>0,VLOOKUP($CH196,'العاملين '!$A$3:$AR$260,29),0)","v":0},{"$f":"IF($CJ196=1,0.2,IF($CJ196=2,VLOOKUP($CH196,'العاملين '!$A$3:$AU$260,47),0))","v":0},{"$f":"IF($CJ196=1,0.05,IF($CJ196=2,VLOOKUP($CH196,'العاملين '!$A$3:$AU$260,47),0))","v":0},{"$f":"IF($CH196>0,VLOOKUP($CH196,'العاملين '!$A$3:$AR$260,30),0)","v":0},{"$f":"IF($CH196>0,VLOOKUP($CH196,'العاملين '!$A$3:$AR$260,31),0)","v":0},null,{"$f":"IF($CH196>0,VLOOKUP($CH196,'العاملين '!$A$3:$AR$260,33),0)","v":0},{"$f":"IF($CH196>0,VLOOKUP($CH196,'العاملين '!$A$3:$AR$260,34),0)","v":0},{"$f":"IF($CH196>0,VLOOKUP($CH196,'العاملين '!$A$3:$AR$260,35),0)","v":0},{"$f":"IF($CH196>0,VLOOKUP($CH196,'العاملين '!$A$3:$AR$260,36),0)","v":0},{"$f":"IF($CH196>0,VLOOKUP($CH196,'العاملين '!$A$3:$AR$260,37),0)","v":0},{"$f":"IF($CH196>0,VLOOKUP($CH196,'العاملين '!$A$3:$AR$260,38),0)","v":0},{"$f":"IF($CH196>0,VLOOKUP($CH196,'العاملين '!$A$3:$AR$260,39),0)","v":0},{"$f":"IF($CH196>0,VLOOKUP($CH196,'العاملين '!$A$3:$AR$260,40),0)","v":0},{"$f":"IF($CH196>0,VLOOKUP($CH196,'العاملين '!$A$3:$AR$260,41),0)","v":0},0,0,0,{"$f":"IF($CH196>0,VLOOKUP($CH196,'العاملين '!$A$3:$AR$260,2),0)","v":0},0,null,{"$f":"IF($CH196>0,VLOOKUP($CH196,'العاملين '!$A$3:$AR$260,3),0)","v":0},{"$f":"IF($CH196>0,VLOOKUP($CH196,'العاملين '!$A$3:$AR$260,43),0)","v":0},0]
[24,{"$f":"IF($CH197>0,VLOOKUP($CH197,'العاملين '!$A$3:$AR$260,8),0)","v":0}," "," "," "," "," ",{"$f":"IF($CH197>0,VLOOKUP($CH197,'العاملين '!$A$3:$AR$260,9),0)","v":0},{"$f":"IF($CH197>0,VLOOKUP($CH197,'العاملين '!$A$3:$AR$260,10),0)","v":0},{"$f":"IF($CH197>0,VLOOKUP($CH197,'العاملين '!$A$3:$AR$260,11),0)","v":0},{"$f":"IF($CH197>0,VLOOKUP($CH197,'العاملين '!$A$3:$AR$260,12),0)","v":0},{"$f":"IF($CH197>0,VLOOKUP($CH197,'العاملين '!$A$3:$AR$260,13),0)","v":0},0,{"$f":"IF($CH197>0,VLOOKUP($CH197,'العاملين '!$A$3:$AR$260,14),0)","v":0},{"$f":"IF($CH197>0,VLOOKUP($CH197,'العاملين '!$A$3:$AR$260,15),0)","v":0},{"$f":"IF($CH197>0,VLOOKUP($CH197,'العاملين '!$A$3:$AR$260,16),0)","v":0},{"$f":"IF($CH197>0,VLOOKUP($CH197,'العاملين '!$A$3:$AR$260,17),0)","v":0},{"$f":"IF($CH197>0,VLOOKUP($CH197,'العاملين '!$A$3:$AR$260,18),0)","v":0},{"$f":"IF($CH197>0,VLOOKUP($CH197,'العاملين '!$A$3:$AR$260,19),0)","v":0},{"$f":"IF($CH197>0,VLOOKUP($CH197,'العاملين '!$A$3:$AR$260,20),0)","v":0},{"$f":"IF($CH197>0,VLOOKUP($CH197,'العاملين '!$A$3:$AR$260,21),0)","v":0},{"$f":"IF($CH197>0,VLOOKUP($CH197,'العاملين '!$A$3:$AR$260,22),0)","v":0},{"$f":"IF($CH197>0,VLOOKUP($CH197,'العاملين '!$A$3:$AR$260,23),0)","v":0},{"$f":"IF($CH197>0,VLOOKUP($CH197,'العاملين '!$A$3:$AR$260,24),0)","v":0},{"$f":"IF($CH197>0,VLOOKUP($CH197,'العاملين '!$A$3:$AR$260,26),0)","v":0},null,null,null,null,null,null,null,null,null,null,null,null,null,null,{"$f":"IF($CH197>0,VLOOKUP($CH197,'العاملين '!$A$3:$AR$260,25),0)","v":0},0,0,0,0,0,0,0,"",{"$f":"IF($CH197>0,VLOOKUP($CH197,'العاملين '!$A$3:$AR$260,28),0)","v":0},0," "," "," ",null," "," "," "," ",0,0,0,0,0,{"$f":"IF($CJ197=1,ROUND(($B197)*7%,2),IF($CJ197=2,VLOOKUP($CH197,'العاملين '!$A$3:$AS$260,44),0))","v":0},{"$f":"IF($CJ197=1,0.5,IF($CJ197=2,VLOOKUP($CH197,'العاملين '!$A$3:$AS$260,45),0))","v":0},{"$f":"IF($CJ197=1,4.5,IF($CJ197=2,VLOOKUP($CH197,'العاملين '!$A$3:$AS$260,46),0))","v":0},{"$f":"IF($CH197>0,VLOOKUP($CH197,'العاملين '!$A$3:$AR$260,29),0)","v":0},{"$f":"IF($CJ197=1,0.2,IF($CJ197=2,VLOOKUP($CH197,'العاملين '!$A$3:$AU$260,47),0))","v":0},{"$f":"IF($CJ197=1,0.05,IF($CJ197=2,VLOOKUP($CH197,'العاملين '!$A$3:$AU$260,47),0))","v":0},{"$f":"IF($CH197>0,VLOOKUP($CH197,'العاملين '!$A$3:$AR$260,30),0)","v":0},{"$f":"IF($CH197>0,VLOOKUP($CH197,'العاملين '!$A$3:$AR$260,31),0)","v":0},null,{"$f":"IF($CH197>0,VLOOKUP($CH197,'العاملين '!$A$3:$AR$260,33),0)","v":0},{"$f":"IF($CH197>0,VLOOKUP($CH197,'العاملين '!$A$3:$AR$260,34),0)","v":0},{"$f":"IF($CH197>0,VLOOKUP($CH197,'العاملين '!$A$3:$AR$260,35),0)","v":0},{"$f":"IF($CH197>0,VLOOKUP($CH197,'العاملين '!$A$3:$AR$260,36),0)","v":0},{"$f":"IF($CH197>0,VLOOKUP($CH197,'العاملين '!$A$3:$AR$260,37),0)","v":0},{"$f":"IF($CH197>0,VLOOKUP($CH197,'العاملين '!$A$3:$AR$260,38),0)","v":0},{"$f":"IF($CH197>0,VLOOKUP($CH197,'العاملين '!$A$3:$AR$260,39),0)","v":0},{"$f":"IF($CH197>0,VLOOKUP($CH197,'العاملين '!$A$3:$AR$260,40),0)","v":0},{"$f":"IF($CH197>0,VLOOKUP($CH197,'العاملين '!$A$3:$AR$260,41),0)","v":0},0,0,0,{"$f":"IF($CH197>0,VLOOKUP($CH197,'العاملين '!$A$3:$AR$260,2),0)","v":0},0,null,{"$f":"IF($CH197>0,VLOOKUP($CH197,'العاملين '!$A$3:$AR$260,3),0)","v":0},{"$f":"IF($CH197>0,VLOOKUP($CH197,'العاملين '!$A$3:$AR$260,43),0)","v":0},0]
[25,{"$f":"IF($CH198>0,VLOOKUP($CH198,'العاملين '!$A$3:$AR$260,8),0)","v":"عامل تعاقد"},{"$error":"#VALUE!"},{"$error":"#VALUE!"},{"$error":"#VALUE!"},{"$error":"#VALUE!"},{"$error":"#VALUE!"},{"$f":"IF($CH198>0,VLOOKUP($CH198,'العاملين '!$A$3:$AR$260,9),0)","v":150},{"$f":"IF($CH198>0,VLOOKUP($CH198,'العاملين '!$A$3:$AR$260,10),0)","v":367.5},{"$f":"IF($CH198>0,VLOOKUP($CH198,'العاملين '!$A$3:$AR$260,11),0)","v":0},{"$f":"IF($CH198>0,VLOOKUP($CH198,'العاملين '!$A$3:$AR$260,12),0)","v":15},{"$f":"IF($CH198>0,VLOOKUP($CH198,'العاملين '!$A$3:$AR$260,13),0)","v":15},547.5,{"$f":"IF($CH198>0,VLOOKUP($CH198,'العاملين '!$A$3:$AR$260,14),0)","v":15},{"$f":"IF($CH198>0,VLOOKUP($CH198,'العاملين '!$A$3:$AR$260,15),0)","v":0},{"$f":"IF($CH198>0,VLOOKUP($CH198,'العاملين '!$A$3:$AR$260,16),0)","v":0},{"$f":"IF($CH198>0,VLOOKUP($CH198,'العاملين '!$A$3:$AR$260,17),0)","v":0},{"$f":"IF($CH198>0,VLOOKUP($CH198,'العاملين '!$A$3:$AR$260,18),0)","v":0},{"$f":"IF($CH198>0,VLOOKUP($CH198,'العاملين '!$A$3:$AR$260,19),0)","v":0},{"$f":"IF($CH198>0,VLOOKUP($CH198,'العاملين '!$A$3:$AR$260,20),0)","v":0},{"$f":"IF($CH198>0,VLOOKUP($CH198,'العاملين '!$A$3:$AR$260,21),0)","v":0},{"$f":"IF($CH198>0,VLOOKUP($CH198,'العاملين '!$A$3:$AR$260,22),0)","v":0},{"$f":"IF($CH198>0,VLOOKUP($CH198,'العاملين '!$A$3:$AR$260,23),0)","v":0},{"$f":"IF($CH198>0,VLOOKUP($CH198,'العاملين '!$A$3:$AR$260,24),0)","v":0},{"$f":"IF($CH198>0,VLOOKUP($CH198,'العاملين '!$A$3:$AR$260,26),0)","v":0},null,null,null,null,null,null,null,null,null,null,null,null,null,null,{"$f":"IF($CH198>0,VLOOKUP($CH198,'العاملين '!$A$3:$AR$260,25),0)","v":0},562.5,562.5,0,84.38,5.63,16.88,106.88999999999999,null,{"$f":"IF($CH198>0,VLOOKUP($CH198,'العاملين '!$A$3:$AR$260,28),0)","v":0},{"$error":"#VALUE!"},{"$error":"#VALUE!"},{"$error":"#VALUE!"},{"$error":"#VALUE!"},null,{"$error":"#VALUE!"},{"$error":"#VALUE!"},{"$error":"#VALUE!"},{"$error":"#VALUE!"},84.38,5.63,56.25,16.88,5.63,{"$f":"IF($CJ198=1,ROUND(($B198)*7%,2),IF($CJ198=2,VLOOKUP($CH198,'العاملين '!$A$3:$AS$260,44),0))","v":0},{"$f":"IF($CJ198=1,0.5,IF($CJ198=2,VLOOKUP($CH198,'العاملين '!$A$3:$AS$260,45),0))","v":0},{"$f":"IF($CJ198=1,4.5,IF($CJ198=2,VLOOKUP($CH198,'العاملين '!$A$3:$AS$260,46),0))","v":0},{"$f":"IF($CH198>0,VLOOKUP($CH198,'العاملين '!$A$3:$AR$260,29),0)","v":0},{"$f":"IF($CJ198=1,0.2,IF($CJ198=2,VLOOKUP($CH198,'العاملين '!$A$3:$AU$260,47),0))","v":0},{"$f":"IF($CJ198=1,0.05,IF($CJ198=2,VLOOKUP($CH198,'العاملين '!$A$3:$AU$260,47),0))","v":0},{"$f":"IF($CH198>0,VLOOKUP($CH198,'العاملين '!$A$3:$AR$260,30),0)","v":0},{"$f":"IF($CH198>0,VLOOKUP($CH198,'العاملين '!$A$3:$AR$260,31),0)","v":0},null,{"$f":"IF($CH198>0,VLOOKUP($CH198,'العاملين '!$A$3:$AR$260,33),0)","v":0},{"$f":"IF($CH198>0,VLOOKUP($CH198,'العاملين '!$A$3:$AR$260,34),0)","v":0},{"$f":"IF($CH198>0,VLOOKUP($CH198,'العاملين '!$A$3:$AR$260,35),0)","v":0},{"$f":"IF($CH198>0,VLOOKUP($CH198,'العاملين '!$A$3:$AR$260,36),0)","v":0},{"$f":"IF($CH198>0,VLOOKUP($CH198,'العاملين '!$A$3:$AR$260,37),0)","v":0},{"$f":"IF($CH198>0,VLOOKUP($CH198,'العاملين '!$A$3:$AR$260,38),0)","v":0},{"$f":"IF($CH198>0,VLOOKUP($CH198,'العاملين '!$A$3:$AR$260,39),0)","v":0},{"$f":"IF($CH198>0,VLOOKUP($CH198,'العاملين '!$A$3:$AR$260,40),0)","v":6},{"$f":"IF($CH198>0,VLOOKUP($CH198,'العاملين '!$A$3:$AR$260,41),0)","v":0},{"$error":"#VALUE!"},{"$error":"#VALUE!"},{"$error":"#VALUE!"},{"$f":"IF($CH198>0,VLOOKUP($CH198,'العاملين '!$A$3:$AR$260,2),0)","v":"محمد40"},40,null,{"$f":"IF($CH198>0,VLOOKUP($CH198,'العاملين '!$A$3:$AR$260,3),0)","v":0},{"$f":"IF($CH198>0,VLOOKUP($CH198,'العاملين '!$A$3:$AR$260,43),0)","v":0},{"$error":"#VALUE!"}]
[null,{"$f":"SUM(B174:B198)","v":0},{"$error":"#VALUE!"},{"$error":"#VALUE!"},{"$error":"#VALUE!"},{"$error":"#VALUE!"},{"$error":"#VALUE!"},501.96,1020.1,0,47.54,48.04,1617.6399999999999,50.19,0,4,4,0,0,0,0,0,0,0,0,null,null,null,null,null,null,null,null,null,null,null,null,null,null,0,1675.83,1675.83,0,251.38,16.760000000000002,50.28,318.41999999999996,10,0,{"$error":"#VALUE!"},{"$error":"#VALUE!"},{"$error":"#VALUE!"},{"$error":"#VALUE!"},0,{"$error":"#VALUE!"},{"$error":"#VALUE!"},{"$error":"#VALUE!"},{"$error":"#VALUE!"},251.38,16.760000000000002,167.57999999999998,50.28,16.760000000000002,{"$error":"#VALUE!"},0.5,4.5,0,0.2,0.05,0,0,0,0,0,0,0,0,1,10.65,{"$f":"SUM(CB174:CB198)","v":17.149999999999999},{"$f":"SUM(CC174:CC198)","v":0},{"$f":"SUM(CD174:CD198)","v":{"$error":"#VALUE!"}},{"$f":"SUM(CE174:CE198)","v":{"$error":"#VALUE!"}},{"$f":"SUM(CF174:CF198)","v":{"$error":"#VALUE!"}},null,null,null,null,null,{"$error":"#VALUE!"}]