{"text_format":"1","workbook":"xlsx","n_sheets":2,"sheets":["شيت الرابع","شهادات الأوائل"],"not_rendered":{"charts":0,"images":3,"macros":1,"external_links":1,"defined_names":4,"comments":0,"pivot_tables":0},"unopened":[],"bounds":{"document_bytes":16777216,"sheet_cells":100000,"rows_first":2000,"rows_last":500,"rows_between":2000,"halvings":0,"cell_chars":16384,"cell_head_chars":4096},"cells_cut":0,"cells_raw":0,"read":"whole","date_system":"1900"}

{"sheet":"شيت الرابع","index":0,"n_rows":628,"n_cols":49,"rows_kept":628,"cut":false,"hidden":false,"merged":[[0,4,1,6],[8,29,8,30],[4,4,5,6],[2,4,3,6],[7,36,7,41],[7,42,10,42],[8,47,9,47],[7,43,7,48],[8,33,9,33],[7,2,10,2],[7,3,10,3],[7,8,10,8],[7,7,10,7],[7,6,10,6],[10,12,10,14],[7,12,9,14],[7,35,10,35],[8,45,8,46],[8,43,8,44],[8,31,8,32],[7,28,10,28],[7,0,10,0],[7,1,10,1],[8,27,9,27],[8,24,8,25],[8,22,8,23],[7,22,7,27],[7,5,10,5],[8,19,9,19],[8,26,9,26],[7,4,10,4],[7,21,10,21],[3,8,5,8],[0,13,0,14],[1,10,6,11],[0,22,0,26],[1,14,6,14],[0,15,0,19],[1,15,1,16],[0,8,2,8],[1,25,1,26],[1,22,1,23],[119,43,119,48],[1,18,1,19],[7,15,7,20],[8,17,8,18],[8,15,8,16],[8,20,9,20],[1,46,1,47],[1,29,1,30],[1,32,1,33],[1,43,1,44],[8,38,8,39],[8,40,9,40],[8,36,8,37],[8,41,9,41],[8,48,9,48],[8,34,9,34],[7,29,7,34],[119,15,119,20],[119,22,119,27],[119,29,119,34],[119,36,119,41],[0,29,0,33],[1,36,1,37],[1,39,1,40],[0,36,0,40],[0,43,0,47]]}
["غ",null,null,null,{"$f":"TEXT(E3,\"dddd\")","v":"Sunday"},null,null,null,null,"عدد التلاميذ",null,null,null,"منقطعين",null,"لغة عربية",null,null,null,null,null,null,"رياضيات",null,null,null,null,null,null,"لغة إنجليزية",null,null,null,null,null,null,"دراسات",null,null,null,null,null,null,"علوم"]
[null,null,null,null,null,null,null,null,null,null,{"$f":"COUNT(G12:G118)","v":107},null,null,null,{"$f":"COUNTIF(#REF!,\"غ\")","v":{"$error":"#REF!"}},"نصف العام",null,null,"آخر العام",null,null,null,"نصف العام",null,null,"آخر العام",null,null,null,"نصف العام",null,null,"آخر العام",null,null,null,"نصف العام",null,null,"آخر العام",null,null,null,"نصف العام",null,null,"آخر العام"]
[null,null,null,1,{"$f":"TODAY()","v":"2018-04-08"},null,null,"دمج ( 2 )",null,null,null,null,null,null,null,"ناجح",{"$f":"Q5-Q4","v":95},null,"ناجح",{"$f":"T5-T4","v":95},"دون المستوى",null,"ناجح",{"$f":"X5-X4","v":88},null,"ناجح",{"$f":"AA5-AA4","v":101},"دون المستوى",null,"ناجح",{"$f":"AE5-AE4","v":97},null,"ناجح",{"$f":"AH5-AH4","v":103},"دون المستوى",null,"ناجح",{"$f":"AL5-AL4","v":98},null,"ناجح",{"$f":"AO5-AO4","v":102},"دون المستوى",null,"ناجح",{"$f":"AS5-AS4","v":105},null,"ناجح",{"$f":"AV5-AV4","v":106},"دون المستوى"]
[null,null,null,null,null,null,null,null,"بداية رقم الجلوس",null,null,null,null,null,null,"راسب",{"$f":"SUMPRODUCT(--(Q12:Q118<20)+(Q12:Q118=\"غ\"))","v":12},null,"راسب",{"$f":"SUMPRODUCT(--(S12:S118<20)+(S12:S118=\"غ\"))","v":12},{"$f":"COUNTIF(V12:V118,\"دون المستوى\")","v":7},null,"راسب",{"$f":"SUMPRODUCT(--(X12:X118<20)+(X12:X118=\"غ\"))","v":19},null,"راسب",{"$f":"SUMPRODUCT(--(Z12:Z118<20)+(Z12:Z118=\"غ\"))","v":6},{"$f":"COUNTIF(AC12:AC118,\"دون المستوى\")","v":2},null,"راسب",{"$f":"SUMPRODUCT(--(AE12:AE118<20)+(AE12:AE118=\"غ\"))","v":10},null,"راسب",{"$f":"SUMPRODUCT(--(AG12:AG118<20)+(AG12:AG118=\"غ\"))","v":4},{"$f":"COUNTIF(AJ12:AJ118,\"دون المستوى\")","v":4},null,"راسب",{"$f":"SUMPRODUCT(--(AL12:AL118<20)+(AL12:AL118=\"غ\"))","v":9},null,"راسب",{"$f":"SUMPRODUCT(--(AN12:AN118<20)+(AN12:AN118=\"غ\"))","v":5},{"$f":"COUNTIF(AQ12:AQ118,\"دون المستوى\")","v":4},null,"راسب",{"$f":"SUMPRODUCT(--(AS12:AS118<20)+(AS12:AS118=\"غ\"))","v":2},null,"راسب",{"$f":"SUMPRODUCT(--(AU12:AU118<20)+(AU12:AU118=\"غ\"))","v":1},{"$f":"COUNTIF(#REF!,\"دون المستوى\")","v":{"$error":"#REF!"}}]
[null,null,null,null,{"$f":"TODAY()","v":"2018-04-08"},null,null,null,null,null,null,null,null,null,null,"حاضر",{"$f":"$K$2-Q6","v":107},null,"حاضر",{"$f":"$K$2-T6","v":107},null,null,"حاضر",{"$f":"$K$2-X6","v":107},null,"حاضر",{"$f":"$K$2-AA6","v":107},null,null,"حاضر",{"$f":"$K$2-AE6","v":107},null,"حاضر",{"$f":"$K$2-AH6","v":107},null,null,"حاضر",{"$f":"$K$2-AL6","v":107},null,"حاضر",{"$f":"$K$2-AO6","v":107},null,null,"حاضر",{"$f":"$K$2-AS6","v":107},null,"حاضر",{"$f":"$K$2-AV6","v":107}]
[null,null,null,null,null,null,null,null,null,null,null,null,null,null,null,"غياب",{"$f":"COUNTIF(Q12:Q118,\"غ\")","v":0},null,"غياب",{"$f":"COUNTIF(S12:S118,\"غ\")","v":0},null,null,"غياب",{"$f":"COUNTIF(X12:X118,\"غ\")","v":0},null,"غياب",{"$f":"COUNTIF(Z12:Z118,\"غ\")","v":0},null,null,"غياب",{"$f":"COUNTIF(AE12:AE118,\"غ\")","v":0},null,"غياب",{"$f":"COUNTIF(AG12:AG118,\"غ\")","v":0},null,null,"غياب",{"$f":"COUNTIF(AL12:AL118,\"غ\")","v":0},null,"غياب",{"$f":"COUNTIF(AN12:AN118,\"غ\")","v":0},null,null,"غياب",{"$f":"COUNTIF(AS12:AS118,\"غ\")","v":0},null,"غياب",{"$f":"COUNTIF(AU12:AU118,\"غ\")","v":0}]
[null,null,null,null,null,null,null,null,1,null,null,null,null,null,null,"النسبة ",{"$f":"Q3/Q5","v":0.88785046728971961},null,"النسبة ",{"$f":"T3/T5","v":0.88785046728971961},null,null,"النسبة ",{"$f":"X3/X5","v":0.82242990654205606},null,"النسبة ",{"$f":"AA3/AA5","v":0.94392523364485981},null,null,"النسبة ",{"$f":"AE3/AE5","v":0.90654205607476634},null,"النسبة ",{"$f":"AH3/AH5","v":0.96261682242990654},null,null,"النسبة ",{"$f":"AL3/AL5","v":0.91588785046728971},null,"النسبة ",{"$f":"AO3/AO5","v":0.95327102803738317},null,null,"النسبة ",{"$f":"AS3/AS5","v":0.98130841121495327},null,"النسبة ",{"$f":"AV3/AV5","v":0.99065420560747663}]
["الرقم القومى","تاريخ الميلاد","سرى ترم أول","سرى ترم ثان","الرقم السرى ترم ثان","الرقم السرى ترم  أول","م","إســــــــم التلميذ","رقم الجلوس","تاريخ الميلاد",null,null,"السن فى أول أكتوبر   ",null,null,"لغة عربية",null,null,null,null,null,"المستوى","رياضيات",null,null,null,null,null,"المستوى","لغة إنجليزية",null,null,null,null,null,"المستوى","دراسات",null,null,null,null,null,"المستوى","علوم"]
[null,null,null,null,null,null,null,null,null,null,null,null,null,null,null,"نصف العام",null,"آخر العام",null,"مجموع","الدرجة",null,"نصف العام",null,"آخر العام",null,"مجموع","الدرجة",null,"نصف العام",null,"آخر العام",null,"مجموع","الدرجة",null,"نصف العام",null,"آخر العام",null,"مجموع","الدرجة",null,"نصف العام",null,"آخر العام",null,"مجموع","الدرجة"]
[null,null,null,null,null,null,null,null,null,null,null,null,null,null,null,"تقويم شامل","إختبار","تقويم شامل","إختبار",null,null,null,"تقويم شامل","إختبار","تقويم شامل","إختبار",null,null,null,"تقويم شامل","إختبار","تقويم شامل","إختبار",null,null,null,"تقويم شامل","إختبار","تقويم شامل","إختبار",null,null,null,"تقويم شامل","إختبار","تقويم شامل","إختبار"]
[null,null,null,null,null,null,null,null,null,"يوم","شهر","سنة","2016-10-01",null,null,60,40,60,40,{"$f":"P11+Q11+R11+S11","v":200},100,null,60,40,60,40,{"$f":"W11+X11+Y11+Z11","v":200},80,null,60,40,60,40,{"$f":"AD11+AE11+AF11+AG11","v":200},40,null,60,40,60,40,{"$f":"AK11+AL11+AM11+AN11","v":200},40,null,60,40,60,"32+8",200,40]
[30701231701276,{"$f":"TEXT(LEFT(A12,7)+17000000,\"####-##-##\")+0","v":"2007-01-23"},null,null,201,70,{"$f":"IF(H12=\"\",\"\",SUBTOTAL(3,$H$12:H12))","v":1},"ابراهيم موسى ابراهيم موسي المرادى",{"$f":"IF(OR($I$7=0,$H12=\"\"),\"\",$I$7)","v":1},{"$f":"DAY(B12)","v":23},{"$f":"MONTH(B12)","v":1},{"$f":"YEAR(B12)","v":2007},{"$f":"DATEDIF(DATE(L12,K12,J12),$M$11,\"md\")","v":8},{"$f":"DATEDIF(DATE(L12,K12,J12),$M$11,\"ym\")","v":8},{"$f":"DATEDIF(DATE(L12,K12,J12),$M$11,\"y\")","v":9},52,33,52,29,{"$f":"IF(AND(P12=\"غ\",Q12=\"غ\",R12=\"غ\",S12=\"غ\"),\"غ\",SUM(P12:S12))","v":166},{"$f":"IF(T12=\"غ\",\"غ\",T12*100/200)","v":83},{"$f":"IF(OR(U12=\"\",S12=\"\"),\"\",IF(OR(S12<12,S12=\"غ\",U12=\"غ\"),\"دون المستوى\",IF(U12>=85,\"ممتاز\",IF(U12>=75,\"جيد جداً\",IF(U12>=65,\"جيد\",IF(U12>=50,\"مقبول\",IF(OR(U12<50,U12=\"غ\"),\"دون المستوى\")))))))","v":"جيد جداً"},53,22,53,34,{"$f":"IF(AND(W12=\"غ\",X12=\"غ\",Y12=\"غ\",Z12=\"غ\"),\"غ\",SUM(W12:Z12))","v":162},{"$f":"IF(AA12=\"غ\",\"غ\",AA12*80/200)","v":64.8},{"$f":"IF(OR(AB12=\"\",Z12=\"\"),\"\",IF(OR(Z12<12,Z12=\"غ\",AB12=\"غ\"),\"دون المستوى\",IF(AB12>=68,\"ممتاز\",IF(AB12>=60,\"جيد جداً\",IF(AB12>=52,\"جيد\",IF(AB12>=40,\"مقبول\",IF(OR(AB12<40,AB12=\"غ\"),\"دون المستوى\")))))))","v":"جيد جداً"},59,36,58,38,{"$f":"IF(AND(AD12=\"غ\",AE12=\"غ\",AF12=\"غ\",AG12=\"غ\"),\"غ\",SUM(AD12:AG12))","v":191},{"$f":"IF(AH12=\"غ\",\"غ\",AH12*40/200)","v":38.200000000000003},{"$f":"IF(OR(AI12=\"\",AG12=\"\"),\"\",IF(OR(AG12<12,AG12=\"غ\",AI12=\"غ\"),\"دون المستوى\",IF(AI12>=34,\"ممتاز\",IF(AI12>=30,\"جيد جداً\",IF(AI12>=26,\"جيد\",IF(AI12>=20,\"مقبول\",IF(OR(AI12<20,AI12=\"غ\"),\"دون المستوى\")))))))","v":"ممتاز"},55,40,55,38,{"$f":"IF(AND(AK12=\"غ\",AL12=\"غ\",AM12=\"غ\",AN12=\"غ\"),\"غ\",SUM(AK12:AN12))","v":188},{"$f":"IF(AO12=\"غ\",\"غ\",AO12*40/200)","v":37.6},{"$f":"IF(OR(AP12=\"\",AN12=\"\"),\"\",IF(OR(AN12<12,AN12=\"غ\",AP12=\"غ\"),\"دون المستوى\",IF(AP12>=34,\"ممتاز\",IF(AP12>=30,\"جيد جداً\",IF(AP12>=26,\"جيد\",IF(AP12>=20,\"مقبول\",IF(OR(AP12<20,AP12=\"غ\"),\"دون المستوى\")))))))","v":"ممتاز"},56,35,55,40,{"$f":"IF(AND(AR12=\"غ\",AS12=\"غ\",AT12=\"غ\",AU12=\"غ\"),\"غ\",SUM(AR12:AU12))","v":186},{"$f":"IF(AV12=\"غ\",\"غ\",AV12*40/200)","v":37.200000000000003}]
[30707071704255,{"$f":"TEXT(LEFT(A13,7)+17000000,\"####-##-##\")+0","v":"2007-07-07"},null,null,202,71,{"$f":"IF(H13=\"\",\"\",SUBTOTAL(3,$H$12:H13))","v":2},"أحمد السيد عبد الوهاب محمد عرفه",{"$f":"IF(OR($I$7=0,$H13=\"\"),\"\",$I12+1)","v":2},7,7,2007,{"$f":"DATEDIF(DATE(L13,K13,J13),$M$11,\"md\")","v":24},{"$f":"DATEDIF(DATE(L13,K13,J13),$M$11,\"ym\")","v":2},{"$f":"DATEDIF(DATE(L13,K13,J13),$M$11,\"y\")","v":9},58,39,57,39,{"$f":"IF(AND(P13=\"غ\",Q13=\"غ\",R13=\"غ\",S13=\"غ\"),\"غ\",SUM(P13:S13))","v":193},{"$f":"IF(T13=\"غ\",\"غ\",T13*100/200)","v":96.5},{"$f":"IF(OR(U13=\"\",S13=\"\"),\"\",IF(OR(S13<12,S13=\"غ\",U13=\"غ\"),\"دون المستوى\",IF(U13>=85,\"ممتاز\",IF(U13>=75,\"جيد جداً\",IF(U13>=65,\"جيد\",IF(U13>=50,\"مقبول\",IF(OR(U13<50,U13=\"غ\"),\"دون المستوى\")))))))","v":"ممتاز"},56,32,57,37,{"$f":"IF(AND(W13=\"غ\",X13=\"غ\",Y13=\"غ\",Z13=\"غ\"),\"غ\",SUM(W13:Z13))","v":182},{"$f":"IF(AA13=\"غ\",\"غ\",AA13*80/200)","v":72.8},{"$f":"IF(OR(AB13=\"\",Z13=\"\"),\"\",IF(OR(Z13<12,Z13=\"غ\",AB13=\"غ\"),\"دون المستوى\",IF(AB13>=68,\"ممتاز\",IF(AB13>=60,\"جيد جداً\",IF(AB13>=52,\"جيد\",IF(AB13>=40,\"مقبول\",IF(OR(AB13<40,AB13=\"غ\"),\"دون المستوى\")))))))","v":"ممتاز"},57,37,60,38,{"$f":"IF(AND(AD13=\"غ\",AE13=\"غ\",AF13=\"غ\",AG13=\"غ\"),\"غ\",SUM(AD13:AG13))","v":192},{"$f":"IF(AH13=\"غ\",\"غ\",AH13*40/200)","v":38.4},{"$f":"IF(OR(AI13=\"\",AG13=\"\"),\"\",IF(OR(AG13<12,AG13=\"غ\",AI13=\"غ\"),\"دون المستوى\",IF(AI13>=34,\"ممتاز\",IF(AI13>=30,\"جيد جداً\",IF(AI13>=26,\"جيد\",IF(AI13>=20,\"مقبول\",IF(OR(AI13<20,AI13=\"غ\"),\"دون المستوى\")))))))","v":"ممتاز"},59,40,59,40,{"$f":"IF(AND(AK13=\"غ\",AL13=\"غ\",AM13=\"غ\",AN13=\"غ\"),\"غ\",SUM(AK13:AN13))","v":198},{"$f":"IF(AO13=\"غ\",\"غ\",AO13*40/200)","v":39.6},{"$f":"IF(OR(AP13=\"\",AN13=\"\"),\"\",IF(OR(AN13<12,AN13=\"غ\",AP13=\"غ\"),\"دون المستوى\",IF(AP13>=34,\"ممتاز\",IF(AP13>=30,\"جيد جداً\",IF(AP13>=26,\"جيد\",IF(AP13>=20,\"مقبول\",IF(OR(AP13<20,AP13=\"غ\"),\"دون المستوى\")))))))","v":"ممتاز"},56,35,57,40,{"$f":"IF(AND(AR13=\"غ\",AS13=\"غ\",AT13=\"غ\",AU13=\"غ\"),\"غ\",SUM(AR13:AU13))","v":188},{"$f":"IF(AV13=\"غ\",\"غ\",AV13*40/200)","v":37.6}]
[30710041700892,"2007-10-04",null,null,203,72,{"$f":"IF(H14=\"\",\"\",SUBTOTAL(3,$H$12:H14))","v":3},"أحمد ايهاب مسعد محمد سلطان",3,4,10,2007,27,11,8,48,11,51,29,{"$f":"IF(AND(P14=\"غ\",Q14=\"غ\",R14=\"غ\",S14=\"غ\"),\"غ\",SUM(P14:S14))","v":139},69.5,{"$f":"IF(OR(U14=\"\",S14=\"\"),\"\",IF(OR(S14<12,S14=\"غ\",U14=\"غ\"),\"دون المستوى\",IF(U14>=85,\"ممتاز\",IF(U14>=75,\"جيد جداً\",IF(U14>=65,\"جيد\",IF(U14>=50,\"مقبول\",IF(OR(U14<50,U14=\"غ\"),\"دون المستوى\")))))))","v":"جيد"},50,17,51,35,153,61.2,"جيد جداً",54,31,56,31,172,34.4,"ممتاز",50,16,53,34,153,{"$f":"IF(AO14=\"غ\",\"غ\",AO14*40/200)","v":30.6},"جيد جداً",53,29,53,38,173,34.6]
[30709131702934,"2007-09-13",null,null,204,73,{"$f":"IF(H15=\"\",\"\",SUBTOTAL(3,$H$12:H15))","v":4},"أحمد سامح إبراهيم مصيلحى",4,13,9,2007,18,0,9,44,1,50,14,{"$f":"IF(AND(P15=\"غ\",Q15=\"غ\",R15=\"غ\",S15=\"غ\"),\"غ\",SUM(P15:S15))","v":109},54.5,"مقبول",45,12,44,24,125,50,"مقبول",41,21,45,23,130,26,"جيد",38,26,42,30,136,27.2,"جيد",41,28,42,28,139,27.8]
[30704011705016,"2007-04-01",null,null,205,74,{"$f":"IF(H16=\"\",\"\",SUBTOTAL(3,$H$12:H16))","v":5},"أحمد عصام صبحي محمد المرادي",5,1,4,2007,0,6,9,49,26,48,18,{"$f":"IF(AND(P16=\"غ\",Q16=\"غ\",R16=\"غ\",S16=\"غ\"),\"غ\",SUM(P16:S16))","v":141},70.5,"جيد",44,17,48,24,133,53.2,"جيد",47,18,48,32,145,29,"جيد",37,25,47,38,147,29.4,"جيد",40,28,45,23,136,27.2]
[30606141702475,"2006-06-14",null,null,206,75,{"$f":"IF(H17=\"\",\"\",SUBTOTAL(3,$H$12:H17))","v":6},"أحمد محمد سعيد سيد المرادي",6,14,6,2006,17,3,10,33,20,32,2,{"$f":"IF(AND(P17=\"غ\",Q17=\"غ\",R17=\"غ\",S17=\"غ\"),\"غ\",SUM(P17:S17))","v":87},43.5,"دون المستوى",43,30,42,17,132,52.8,"جيد",36,20,37,23,116,23.2,"مقبول",30,11,48,2,91,18.2,"دون المستوى",39,24,44,20,127,25.4]
[30803171702054,"2008-03-17",null,null,207,76,{"$f":"IF(H18=\"\",\"\",SUBTOTAL(3,$H$12:H18))","v":7},"أحمد محمد منصور باز الشريف",7,17,3,2008,14,6,8,59,34,57,37,187,93.5,"ممتاز",53,34,53,37,177,70.8,"ممتاز",60,37,60,37,194,38.799999999999997,"ممتاز",59,38,55,40,192,38.4,"ممتاز",59,34,56,40,189,37.799999999999997]
[30704231400798,"2007-04-23",null,null,208,77,{"$f":"IF(H19=\"\",\"\",SUBTOTAL(3,$H$12:H19))","v":8},"أحمد هاني عبدالوهاب علي ابراهيم",8,23,4,2007,8,5,9,49,19,51,20,139,69.5,"جيد",47,11,56,35,149,59.6,"جيد",53,23,51,36,163,32.6,"جيد جداً",48,9,45,26,128,25.6,"مقبول",53,32,44,32,161,32.200000000000003]
[30708061703052,"2007-08-06",null,null,209,78,{"$f":"IF(H20=\"\",\"\",SUBTOTAL(3,$H$12:H20))","v":9},"احمد وجيه محمد الخضرى سيد احمد",9,6,8,2007,25,1,9,47,5,42,19,113,56.5,"مقبول",43,10,42,27,122,48.8,"مقبول",44,16,41,30,131,26.2,"جيد",46,5,44,12,107,21.4,"مقبول",38,27,44,22,131,26.2]
[30701111702392,"2007-01-11",null,null,210,79,{"$f":"IF(H21=\"\",\"\",SUBTOTAL(3,$H$12:H21))","v":10},"أحمد وليد رمضان عبد العال متولي",10,11,1,2007,20,8,9,55,33,57,33,178,89,"ممتاز",49,32,51,39,171,68.400000000000006,"ممتاز",59,38,60,40,197,39.4,"ممتاز",54,34,57,40,185,37,"ممتاز",54,32,55,40,181,36.200000000000003]
[30710281701977,"2007-10-28",null,null,211,80,{"$f":"IF(H22=\"\",\"\",SUBTOTAL(3,$H$12:H22))","v":11},"أكرم محمد محمود حسنين",11,28,10,2007,3,11,8,60,40,60,40,200,100,"ممتاز",53,36,55,39,183,73.2,"ممتاز",60,40,60,40,200,40,"ممتاز",58,40,56,40,194,38.799999999999997,"ممتاز",58,38,60,40,196,39.200000000000003]
[30712251701037,"2007-12-25",null,null,212,81,{"$f":"IF(H23=\"\",\"\",SUBTOTAL(3,$H$12:H23))","v":12},"السيد طارق سليمان شادي",12,25,12,2007,6,9,8,59,38,59,36,192,96,"ممتاز",55,31,53,40,179,71.599999999999994,"ممتاز",59,40,60,40,199,39.799999999999997,"ممتاز",59,40,59,40,198,39.6,"ممتاز",54,38,60,38,190,38]
[30708211701797,"2007-08-21",null,null,213,82,{"$f":"IF(H24=\"\",\"\",SUBTOTAL(3,$H$12:H24))","v":13},"امير مجدى ابراهيم الجزار",13,21,8,2007,10,1,9,57,40,60,40,197,98.5,"ممتاز",57,33,58,35,183,73.2,"ممتاز",58,40,59,39,196,39.200000000000003,"ممتاز",57,38,58,40,193,38.6,"ممتاز",59,40,58,40,197,39.4]
[30803211703555,"2008-03-21",null,null,214,83,{"$f":"IF(H25=\"\",\"\",SUBTOTAL(3,$H$12:H25))","v":14},"أنس إبراهيم محمد الحاج موسى",14,21,3,2008,10,6,8,59,38,59,40,196,98,"ممتاز",51,29,56,39,175,70,"ممتاز",58,40,60,40,198,39.6,"ممتاز",54,38,57,40,189,37.799999999999997,"ممتاز",55,37,59,40,191,38.200000000000003]
[30708211701754,"2007-08-21",null,null,215,84,{"$f":"IF(H26=\"\",\"\",SUBTOTAL(3,$H$12:H26))","v":15},"انس مجدى ابراهيم الجزار",15,21,8,2007,10,1,9,58,38,59,39,194,97,"ممتاز",58,30,58,40,186,74.400000000000006,"ممتاز",58,39,58,40,195,39,"ممتاز",58,40,56,40,194,38.799999999999997,"ممتاز",59,39,58,40,196,39.200000000000003]
[30610211702351,"2006-10-21",null,null,216,85,{"$f":"IF(H27=\"\",\"\",SUBTOTAL(3,$H$12:H27))","v":16},"جمال محمد جمال عبد الحليم المرادي",16,21,10,2006,10,11,9,48,34,51,25,158,79,"جيد جداً",54,15,52,30,151,60.4,"جيد جداً",56,35,56,37,184,36.799999999999997,"ممتاز",52,36,55,38,181,36.200000000000003,"ممتاز",55,37,59,35,186,37.200000000000003]
[30707021701034,"2007-07-02",null,null,217,86,{"$f":"IF(H28=\"\",\"\",SUBTOTAL(3,$H$12:H28))","v":17},"حسن أيمن حسن باز الشريف",17,2,7,2007,29,2,9,49,27,53,28,157,78.5,"جيد جداً",57,20,48,38,163,65.2,"جيد جداً",56,34,56,40,186,37.200000000000003,"ممتاز",54,34,52,34,174,34.799999999999997,"ممتاز",55,39,56,39,189,37.799999999999997]
[30710011715194,"2007-10-01",null,null,218,87,{"$f":"IF(H29=\"\",\"\",SUBTOTAL(3,$H$12:H29))","v":18},"زياد محمد زايد عبد الرازق عبد العال",18,1,10,2007,0,0,9,52,25,52,18,147,73.5,"جيد",46,24,51,35,156,62.4,"جيد جداً",53,30,50,36,169,33.799999999999997,"جيد جداً",55,32,48,14,149,29.8,"جيد",50,32,44,21,147,29.4]
[30708161702339,"2007-08-16",null,null,219,88,{"$f":"IF(H30=\"\",\"\",SUBTOTAL(3,$H$12:H30))","v":19},"سعد محمد سعد محمد سويلم",19,16,8,2007,15,1,9,50,7,52,31,140,70,"جيد",48,19,55,32,154,61.6,"جيد جداً",49,27,51,36,163,32.6,"جيد جداً",50,36,54,32,172,34.4,"ممتاز",46,28,56,32,162,32.4]
[30711181701976,"2007-11-18",null,null,220,89,{"$f":"IF(H31=\"\",\"\",SUBTOTAL(3,$H$12:H31))","v":20},"سيف ايمن موسى ابراهيم حسين",20,18,11,2007,13,10,8,57,40,57,36,190,95,"ممتاز",49,31,53,32,165,66,"جيد جداً",58,40,60,38,196,39.200000000000003,"ممتاز",52,40,58,34,184,36.799999999999997,"ممتاز",51,35,58,35,179,35.799999999999997]
[30710011715275,"2007-10-01",null,null,221,90,{"$f":"IF(H32=\"\",\"\",SUBTOTAL(3,$H$12:H32))","v":21},"عاطف محمد الكيلاني عكاشه",21,1,10,2007,0,0,9,49,18,52,31,150,75,"جيد جداً",44,24,51,32,151,60.4,"جيد جداً",46,28,51,40,165,33,"جيد جداً",48,36,55,32,171,34.200000000000003,"ممتاز",47,38,49,32,166,33.200000000000003]
[30704301701219,"2007-04-30",null,null,222,91,{"$f":"IF(H33=\"\",\"\",SUBTOTAL(3,$H$12:H33))","v":22},"عبد الرحمن أحمد عبد الله أحمد يوسف",22,30,4,2007,1,5,9,31,38,32,40,141,70.5,"جيد",42,24,42,30,138,55.2,"جيد",30,40,40,38,148,29.6,"جيد",26,36,30,21,113,22.6,"مقبول",44,30,44,29,147,29.4]
[30704191700858,"2007-04-19",null,null,223,92,{"$f":"IF(H34=\"\",\"\",SUBTOTAL(3,$H$12:H34))","v":23},"عبد الرحمن جمال الشناوي الحسيني",23,19,4,2007,12,5,9,49,19,51,24,143,71.5,"جيد",48,26,51,23,148,59.2,"جيد",55,38,57,38,188,37.6,"ممتاز",50,30,58,34,172,34.4,"ممتاز",51,37,52,37,177,35.4]
[30712061702436,"2007-12-06",null,null,224,93,{"$f":"IF(H35=\"\",\"\",SUBTOTAL(3,$H$12:H35))","v":24},"عبد الرحمن عصام محمد بكر",24,6,12,2007,25,9,8,56,39,57,39,191,95.5,"ممتاز",56,31,57,38,182,72.8,"ممتاز",58,39,59,40,196,39.200000000000003,"ممتاز",55,40,57,38,190,38,"ممتاز",55,36,56,40,187,37.4]
[30712041701573,"2007-12-04",null,null,225,94,{"$f":"IF(H36=\"\",\"\",SUBTOTAL(3,$H$12:H36))","v":25},"عبد الرحمن عماد محمد عبدالعليم فرج",25,4,12,2007,27,9,8,56,39,58,37,190,95,"ممتاز",58,36,58,40,192,76.8,"ممتاز",58,39,60,39,196,39.200000000000003,"ممتاز",57,34,57,40,188,37.6,"ممتاز",55,33,58,38,184,36.799999999999997]
[30706091701833,"2007-06-09",null,null,226,95,{"$f":"IF(H37=\"\",\"\",SUBTOTAL(3,$H$12:H37))","v":26},"عبد الرحمن محمد أحمد عثمان",26,9,6,2007,22,3,9,53,25,52,33,163,81.5,"جيد جداً",44,28,55,35,162,64.8,"جيد جداً",58,30,57,36,181,36.200000000000003,"ممتاز",49,32,52,28,161,32.200000000000003,"جيد جداً",47,29,51,30,157,31.4]
[30709301705178,"2007-09-30",null,null,227,96,{"$f":"IF(H38=\"\",\"\",SUBTOTAL(3,$H$12:H38))","v":27},"عبد العزيز محمد عبد العزيز حماد",27,30,9,2007,1,0,9,59,38,57,37,191,95.5,"ممتاز",56,33,55,31,175,70,"ممتاز",59,39,59,39,196,39.200000000000003,"ممتاز",56,36,55,38,185,37,"ممتاز",52,38,57,40,187,37.4]
[30712091701795,"2007-12-09",null,null,228,97,{"$f":"IF(H39=\"\",\"\",SUBTOTAL(3,$H$12:H39))","v":28},"عبدالرحمن فتحي موسي عبد الدايم",28,9,12,2007,22,9,8,52,32,56,28,168,84,"جيد جداً",48,32,49,27,156,62.4,"جيد جداً",53,37,55,38,183,36.6,"ممتاز",47,40,54,34,175,35,"ممتاز",49,31,59,38,177,35.4]
[30707071701477,"2007-07-07",null,null,229,98,{"$f":"IF(H40=\"\",\"\",SUBTOTAL(3,$H$12:H40))","v":29},"عصام محمد سمير فرج",29,7,7,2007,24,2,9,55,37,59,38,189,94.5,"ممتاز",56,35,58,38,187,74.8,"ممتاز",60,40,60,40,200,40,"ممتاز",57,36,58,38,189,37.799999999999997,"ممتاز",56,37,59,40,192,38.4]
[30708201704313,"2007-08-20",null,null,230,99,{"$f":"IF(H41=\"\",\"\",SUBTOTAL(3,$H$12:H41))","v":30},"على محمد على عبد الجواد",30,20,8,2007,11,1,9,50,6,47,13,116,58,"مقبول",47,19,46,16,128,51.2,"مقبول",55,33,52,34,174,34.799999999999997,"ممتاز",49,8,33,20,110,22,"مقبول",39,16,44,30,129,25.8]
[30704291701738,"2007-04-29",null,null,231,100,{"$f":"IF(H42=\"\",\"\",SUBTOTAL(3,$H$12:H42))","v":31},"عمار حاتم محمد رياض عمر",31,29,4,2007,2,5,9,58,39,58,39,194,97,"ممتاز",49,30,45,38,162,64.8,"جيد جداً",60,38,60,36,194,38.799999999999997,"ممتاز",59,34,56,40,189,37.799999999999997,"ممتاز",50,35,57,40,182,36.4]
[30705011707856,"2007-05-01",null,null,232,101,{"$f":"IF(H43=\"\",\"\",SUBTOTAL(3,$H$12:H43))","v":32},"عمار علي علي رضوان الشحري",32,1,5,2007,0,5,9,55,37,52,30,174,87,"ممتاز",58,36,60,39,193,77.2,"ممتاز",54,34,53,37,178,35.6,"ممتاز",57,36,58,38,189,37.799999999999997,"ممتاز",56,37,59,39,191,38.200000000000003]
[30611091702634,"2006-11-09",null,null,233,102,{"$f":"IF(H44=\"\",\"\",SUBTOTAL(3,$H$12:H44))","v":33},"عمر أمير عبد الحفيظ أحمد الطنطاوي",33,{"$f":"DAY(B44)","v":9},{"$f":"MONTH(B44)","v":11},{"$f":"YEAR(B44)","v":2006},22,10,9,52,34,52,33,171,85.5,"ممتاز",44,31,53,34,162,64.8,"جيد جداً",55,36,52,35,178,35.6,"ممتاز",57,40,52,40,189,37.799999999999997,"ممتاز",57,35,59,34,185,37]
[30710311701012,"2007-10-31",null,null,234,103,{"$f":"IF(H45=\"\",\"\",SUBTOTAL(3,$H$12:H45))","v":34},"عمر محمد محمد عبد العزيز حماد",{"$f":"IF(OR($I$7=0,$H45=\"\"),\"\",$I44+1)","v":34},31,10,2007,0,11,8,59,33,59,34,185,92.5,"ممتاز",60,28,60,37,185,74,"ممتاز",57,39,60,39,195,39,"ممتاز",52,38,58,38,186,37.200000000000003,"ممتاز",53,36,51,40,180,36]
[30710101703993,"2007-10-10",null,null,235,104,{"$f":"IF(H46=\"\",\"\",SUBTOTAL(3,$H$12:H46))","v":35},"عمرو محمد إبراهيم محمد إبراهيم",35,10,10,2007,21,11,8,45,24,54,21,144,72,"جيد",49,24,52,34,159,{"$f":"IF(AA46=\"غ\",\"غ\",AA46*80/200)","v":63.6},"جيد جداً",48,29,52,33,162,32.4,"جيد جداً",48,30,44,32,154,30.8,"جيد جداً",52,33,49,39,173,34.6]
[30611291701152,"2006-11-29",null,null,236,105,{"$f":"IF(H47=\"\",\"\",SUBTOTAL(3,$H$12:H47))","v":36},"فارس محمد عبد الله محمد هدهد",36,29,11,2006,2,10,9,7,"صفر",7,4,18,9,"دون المستوى",7,13,"غ",6,26,10.4,"دون المستوى",7,8,2,11,28,5.6,"دون المستوى",7,"صفر","غ","صفر",7,1.4,"دون المستوى",7,9,"غ",15,31,6.2]
[30705071702373,"2007-05-07",null,null,237,106,{"$f":"IF(H48=\"\",\"\",SUBTOTAL(3,$H$12:H48))","v":37},"فتحى عادل فتحى عبدالكريم",37,7,5,2007,24,4,9,57,30,56,32,175,87.5,"ممتاز",56,19,57,27,159,63.6,"جيد جداً",50,33,58,37,178,35.6,"ممتاز",52,34,54,38,178,35.6,"ممتاز",50,36,53,40,179,35.799999999999997]
[30802011704712,"2008-02-01",null,null,238,107,{"$f":"IF(H49=\"\",\"\",SUBTOTAL(3,$H$12:H49))","v":38},"فتحى عبد الكريم فتحى عبد الكريم يوسف",38,1,2,2008,0,8,8,48,23,53,28,152,76,"جيد جداً",52,31,57,25,165,66,"جيد جداً",51,33,56,33,173,34.6,"ممتاز",51,36,56,36,179,35.799999999999997,"ممتاز",47,40,48,40,175,35]
[30709111702636,"2007-09-11",null,null,270,32,{"$f":"IF(H50=\"\",\"\",SUBTOTAL(3,$H$12:H50))","v":39},"فتحي أيمن فتحي محمد إبراهيم",39,11,9,2007,20,0,9,56,39,59,40,194,97,"ممتاز",59,29,60,40,188,75.2,"ممتاز",57,33,56,37,183,36.6,"ممتاز",57,40,58,40,195,39,"ممتاز",53,39,57,40,189,37.799999999999997]
[30701231701292,"2007-01-23",null,null,271,33,{"$f":"IF(H51=\"\",\"\",SUBTOTAL(3,$H$12:H51))","v":40},"فرج محمود فرج مغاوري",40,23,1,2007,8,8,9,55,26,55,29,165,82.5,"جيد جداً",56,30,53,25,164,65.599999999999994,"جيد جداً",55,33,42,37,167,33.4,"جيد جداً",44,34,52,30,160,32,"جيد جداً",52,39,49,35,175,35]
[30610251704438,"2006-10-25",null,null,272,34,{"$f":"IF(H52=\"\",\"\",SUBTOTAL(3,$H$12:H52))","v":41},"فهد محمد عبد الحليم سيد المرادي",41,25,10,2006,6,11,9,7,2,7,"صفر",16,8,"دون المستوى",7,26,"غ",12,45,18,"دون المستوى",7,29,"غ",14,50,10,"دون المستوى",7,22,7,20,56,11.2,"دون المستوى",7,30,7,22,66,13.2]
[30708231701351,"2007-08-23",null,null,273,35,{"$f":"IF(H53=\"\",\"\",SUBTOTAL(3,$H$12:H53))","v":42},"فهيم ياسر فهيم احمد مروان",42,23,8,2007,8,1,9,50,28,53,34,165,82.5,"جيد جداً",51,29,53,33,166,66.400000000000006,"جيد جداً",50,18,54,34,156,31.2,"جيد جداً",51,32,54,32,169,33.799999999999997,"جيد جداً",35,29,50,38,152,30.4]
[30712031701699,"2007-12-03",null,null,274,36,{"$f":"IF(H54=\"\",\"\",SUBTOTAL(3,$H$12:H54))","v":43},"محمد ايهاب محمد الدسوقي",43,3,12,2007,28,9,8,60,40,60,39,199,99.5,"ممتاز",59,36,60,39,194,77.599999999999994,"ممتاز",60,40,60,40,200,40,"ممتاز",60,40,58,40,198,39.6,"ممتاز",60,40,60,40,200,40]
[30712281700256,"2007-12-28",null,null,275,37,{"$f":"IF(H55=\"\",\"\",SUBTOTAL(3,$H$12:H55))","v":44},"محمد جمعة عبدالغفار محمد هدهد",44,28,12,2007,3,9,8,41,24,44,22,131,65.5,"جيد",47,26,45,26,144,57.6,"جيد",41,15,42,36,134,26.8,"جيد",47,28,50,14,139,27.8,"جيد",47,32,41,34,154,30.8]
[30707031701334,"2007-07-03",null,null,276,38,{"$f":"IF(H56=\"\",\"\",SUBTOTAL(3,$H$12:H56))","v":45},"محمد حسام عبد المنعم السيد فرج",45,3,7,2007,28,2,9,58,33,60,38,189,94.5,"ممتاز",56,29,57,38,180,72,"ممتاز",59,37,60,40,196,39.200000000000003,"ممتاز",56,38,58,40,192,38.4,"ممتاز",53,36,58,40,187,37.4]
[30708251703911,"2007-08-25",null,null,277,39,{"$f":"IF(H57=\"\",\"\",SUBTOTAL(3,$H$12:H57))","v":46},"محمد ماهر إبراهيم المرادي",46,25,8,2007,6,1,9,53,38,55,35,181,90.5,"ممتاز",55,33,57,38,183,73.2,"ممتاز",59,34,59,39,191,38.200000000000003,"ممتاز",55,38,57,40,190,38,"ممتاز",52,37,56,38,183,36.6]
[30701011708415,"2007-01-01",null,null,278,40,{"$f":"IF(H58=\"\",\"\",SUBTOTAL(3,$H$12:H58))","v":47},"محمد ماهر محمد سعيد السيد",47,1,1,2007,0,9,9,54,37,54,38,183,91.5,"ممتاز",46,25,58,33,162,64.8,"جيد جداً",58,35,60,39,192,38.4,"ممتاز",57,32,52,40,181,36.200000000000003,"ممتاز",46,36,52,40,174,34.799999999999997]
[30712111700936,"2007-12-11",null,null,279,41,{"$f":"IF(H59=\"\",\"\",SUBTOTAL(3,$H$12:H59))","v":48},"محمود رفعت عبدالرشيد السيد عامر",48,11,12,2007,20,9,8,56,35,57,38,186,93,"ممتاز",57,33,56,40,186,74.400000000000006,"ممتاز",59,39,60,38,196,39.200000000000003,"ممتاز",58,38,58,40,194,38.799999999999997,"ممتاز",52,36,57,40,185,37]
[30705081702339,"2007-05-08",null,null,280,42,{"$f":"IF(H60=\"\",\"\",SUBTOTAL(3,$H$12:H60))","v":49},"محمود عاطف عبدالرازق قطب",49,8,5,2007,23,4,9,40,13,46,12,111,55.5,"مقبول",36,21,37,24,118,47.2,"مقبول",37,16,37,24,114,22.8,"مقبول",36,10,44,24,114,22.8,"مقبول",43,29,44,26,142,28.4]
[30705081702355,"2007-05-08",null,null,281,43,{"$f":"IF(H61=\"\",\"\",SUBTOTAL(3,$H$12:H61))","v":50},"محمود عماد عبد الستار محمد ابراهيم",50,8,5,2007,23,4,9,58,39,58,35,190,95,"ممتاز",57,26,57,32,172,68.8,"ممتاز",59,32,60,40,191,38.200000000000003,"ممتاز",56,40,55,40,191,38.200000000000003,"ممتاز",59,36,58,38,191,38.200000000000003]
[30702211700911,"2007-02-21",null,null,282,44,{"$f":"IF(H62=\"\",\"\",SUBTOTAL(3,$H$12:H62))","v":51},"مصطفي عاطف محمد أحمد",51,21,2,2007,10,7,9,52,30,53,32,167,83.5,"جيد جداً",54,22,54,35,165,66,"جيد جداً",57,36,53,35,181,36.200000000000003,"ممتاز",53,40,54,36,183,36.6,"ممتاز",58,37,58,39,192,38.4]
[30712101703112,"2007-12-10",null,null,283,45,{"$f":"IF(H63=\"\",\"\",SUBTOTAL(3,$H$12:H63))","v":52},"معتز إيهاب عبدالمطلب على",52,10,12,2007,21,9,8,58,40,59,38,195,97.5,"ممتاز",57,33,56,39,185,74,"ممتاز",59,40,60,40,199,39.799999999999997,"ممتاز",59,40,59,38,196,39.200000000000003,"ممتاز",54,35,56,40,185,37]
[30709231703156,"2007-09-23",null,null,284,46,{"$f":"IF(H64=\"\",\"\",SUBTOTAL(3,$H$12:H64))","v":53},"مهند أمير سامي عبد المطلب درغام",53,23,9,2007,8,0,9,55,35,53,37,180,90,"ممتاز",57,28,55,35,175,70,"ممتاز",55,24,55,34,168,33.6,"جيد جداً",56,38,52,40,186,37.200000000000003,"ممتاز",54,36,58,34,182,36.4]
[30709161703757,"2007-09-16",null,null,285,47,{"$f":"IF(H65=\"\",\"\",SUBTOTAL(3,$H$12:H65))","v":54},"يوسف ماهر محمود عبدالعاطي محمد",54,16,9,2007,15,0,9,55,36,58,35,184,92,"ممتاز",54,27,55,35,171,68.400000000000006,"ممتاز",58,37,55,38,188,37.6,"ممتاز",53,34,55,40,182,36.4,"ممتاز",60,35,58,40,193,38.6]
[30701011720539,"2007-01-01",null,null,286,48,{"$f":"IF(H66=\"\",\"\",SUBTOTAL(3,$H$12:H66))","v":55},"يوسف محمد أحمد محمد وافي",55,1,1,2007,0,9,9,49,24,48,20,141,70.5,"جيد",42,15,46,27,130,52,"جيد",50,18,46,28,142,28.4,"جيد",49,26,53,38,166,33.200000000000003,"جيد جداً",49,29,48,32,158,31.6]
[30703061701252,"2007-03-06",null,null,287,49,{"$f":"IF(H67=\"\",\"\",SUBTOTAL(3,$H$12:H67))","v":56},"يوسف محمد جبر أحمد جبر",56,6,3,2007,25,6,9,51,31,52,33,167,83.5,"جيد جداً",53,27,53,29,162,64.8,"جيد جداً",54,33,57,33,177,35.4,"ممتاز",56,34,51,40,181,36.200000000000003,"ممتاز",49,26,46,36,157,31.4]
[30704151702416,"2007-04-15",null,null,288,50,{"$f":"IF(H68=\"\",\"\",SUBTOTAL(3,$H$12:H68))","v":57},"يوسف محمد عبد الحميد هدهد",57,15,4,2007,16,5,9,54,32,51,25,162,81,"جيد جداً",52,23,53,28,156,62.4,"جيد جداً",47,28,51,38,164,32.799999999999997,"جيد جداً",50,22,50,36,158,31.6,"جيد جداً",43,24,46,30,143,28.6]
[30709251704752,"2007-09-25",null,null,289,51,{"$f":"IF(H69=\"\",\"\",SUBTOTAL(3,$H$12:H69))","v":58},"يوسف محمد عبد السميع بكر",58,25,9,2007,6,0,9,51,36,50,29,166,83,"جيد جداً",46,17,54,36,153,61.2,"جيد جداً",54,31,55,36,176,35.200000000000003,"ممتاز",50,29,50,36,165,33,"جيد جداً",51,30,46,26,153,30.6]
[30701011720512,"2007-01-01",null,null,290,52,{"$f":"IF(H70=\"\",\"\",SUBTOTAL(3,$H$12:H70))","v":59},"يوسف محمد كمال الصادق فرج",59,1,1,2007,0,9,9,14,23,27,28,92,46,"دون المستوى",25,24,40,33,122,48.8,"مقبول",12,18,40,22,92,18.399999999999999,"دون المستوى",26,30,26,25,107,21.4,"مقبول",44,26,44,28,142,28.4]
[30708211701738,"2007-08-21",null,null,291,53,{"$f":"IF(H71=\"\",\"\",SUBTOTAL(3,$H$12:H71))","v":60},"يوسف محمود عبد الموجود السيد سيد أحمد",60,21,8,2007,10,1,9,41,9,43,8,101,50.5,"دون المستوى",37,29,46,20,132,52.8,"جيد",38,14,35,22,109,21.8,"مقبول",27,8,42,20,97,19.399999999999999,"دون المستوى",44,35,46,27,152,30.4]
[30707151702946,"2007-07-15",null,null,292,54,{"$f":"IF(H72=\"\",\"\",SUBTOTAL(3,$H$12:H72))","v":61},"اروى عزب عبد المولى عزب خليل",61,15,7,2007,16,2,9,51,32,57,39,179,89.5,"ممتاز",56,27,56,33,172,68.8,"ممتاز",52,30,51,33,166,33.200000000000003,"جيد جداً",54,33,54,26,167,33.4,"جيد جداً",44,27,51,32,154,30.8]
[30708111701943,"2007-08-11",null,null,293,55,{"$f":"IF(H73=\"\",\"\",SUBTOTAL(3,$H$12:H73))","v":62},"إسراء جمال محمد الخضري",62,11,8,2007,20,1,9,55,30,52,26,163,81.5,"جيد جداً",56,21,53,28,158,63.2,"جيد جداً",56,31,56,33,176,35.200000000000003,"ممتاز",57,30,52,38,177,35.4,"ممتاز",52,35,57,33,177,35.4]
[30708181703609,"2007-08-18",null,null,294,56,{"$f":"IF(H74=\"\",\"\",SUBTOTAL(3,$H$12:H74))","v":63},"آلاء أشرف محمود السيد عبد الرحمن",63,18,8,2007,13,1,9,59,39,58,39,195,97.5,"ممتاز",57,27,58,37,179,71.599999999999994,"ممتاز",59,38,60,39,196,39.200000000000003,"ممتاز",58,27,56,40,181,36.200000000000003,"ممتاز",53,33,55,34,175,35]
[30708011710244,"2007-08-01",null,null,295,57,{"$f":"IF(H75=\"\",\"\",SUBTOTAL(3,$H$12:H75))","v":64},"آلاء محمد عبد اللطيف السيد عطوه",64,1,8,2007,0,2,9,43,21,43,9,116,58,"دون المستوى",43,32,43,23,141,56.4,"جيد",35,36,39,16,126,25.2,"مقبول",30,36,36,20,122,24.4,"مقبول",33,27,40,23,123,24.6]
[30706251701967,"2007-06-25",null,null,296,58,{"$f":"IF(H76=\"\",\"\",SUBTOTAL(3,$H$12:H76))","v":65},"ايثار حمدي عبد الستار علي فرج",65,{"$f":"DAY(B76)","v":25},{"$f":"MONTH(B76)","v":6},{"$f":"YEAR(B76)","v":2007},6,3,9,44,20,47,18,129,64.5,"مقبول",53,15,51,28,147,58.8,"جيد",46,22,44,26,138,27.6,"جيد",51,14,44,26,135,27,"جيد",47,27,47,29,150,30]
[30707141702964,{"$f":"TEXT(LEFT(A77,7)+17000000,\"####-##-##\")+0","v":"2007-07-14"},null,null,297,59,{"$f":"IF(H77=\"\",\"\",SUBTOTAL(3,$H$12:H77))","v":66},"آيه إيهاب عبد الله إبراهيم عامر",{"$f":"IF(OR($I$7=0,$H77=\"\"),\"\",$I76+1)","v":66},14,7,2007,{"$f":"DATEDIF(DATE(L77,K77,J77),$M$11,\"md\")","v":17},{"$f":"DATEDIF(DATE(L77,K77,J77),$M$11,\"ym\")","v":2},{"$f":"DATEDIF(DATE(L77,K77,J77),$M$11,\"y\")","v":9},59,40,60,39,198,{"$f":"IF(T77=\"غ\",\"غ\",T77*100/200)","v":99},{"$f":"IF(OR(U77=\"\",S77=\"\"),\"\",IF(OR(S77<12,S77=\"غ\",U77=\"غ\"),\"دون المستوى\",IF(U77>=85,\"ممتاز\",IF(U77>=75,\"جيد جداً\",IF(U77>=65,\"جيد\",IF(U77>=50,\"مقبول\",IF(OR(U77<50,U77=\"غ\"),\"دون المستوى\")))))))","v":"ممتاز"},57,34,60,40,{"$f":"IF(AND(W77=\"غ\",X77=\"غ\",Y77=\"غ\",Z77=\"غ\"),\"غ\",SUM(W77:Z77))","v":191},{"$f":"IF(AA77=\"غ\",\"غ\",AA77*80/200)","v":76.400000000000006},{"$f":"IF(OR(AB77=\"\",Z77=\"\"),\"\",IF(OR(Z77<12,Z77=\"غ\",AB77=\"غ\"),\"دون المستوى\",IF(AB77>=68,\"ممتاز\",IF(AB77>=60,\"جيد جداً\",IF(AB77>=52,\"جيد\",IF(AB77>=40,\"مقبول\",IF(OR(AB77<40,AB77=\"غ\"),\"دون المستوى\")))))))","v":"ممتاز"},60,38,60,40,{"$f":"IF(AND(AD77=\"غ\",AE77=\"غ\",AF77=\"غ\",AG77=\"غ\"),\"غ\",SUM(AD77:AG77))","v":198},{"$f":"IF(AH77=\"غ\",\"غ\",AH77*40/200)","v":39.6},{"$f":"IF(OR(AI77=\"\",AG77=\"\"),\"\",IF(OR(AG77<12,AG77=\"غ\",AI77=\"غ\"),\"دون المستوى\",IF(AI77>=34,\"ممتاز\",IF(AI77>=30,\"جيد جداً\",IF(AI77>=26,\"جيد\",IF(AI77>=20,\"مقبول\",IF(OR(AI77<20,AI77=\"غ\"),\"دون المستوى\")))))))","v":"ممتاز"},58,40,56,40,{"$f":"IF(AND(AK77=\"غ\",AL77=\"غ\",AM77=\"غ\",AN77=\"غ\"),\"غ\",SUM(AK77:AN77))","v":194},38.799999999999997,{"$f":"IF(OR(AP77=\"\",AN77=\"\"),\"\",IF(OR(AN77<12,AN77=\"غ\",AP77=\"غ\"),\"دون المستوى\",IF(AP77>=34,\"ممتاز\",IF(AP77>=30,\"جيد جداً\",IF(AP77>=26,\"جيد\",IF(AP77>=20,\"مقبول\",IF(OR(AP77<20,AP77=\"غ\"),\"دون المستوى\")))))))","v":"ممتاز"},59,37,58,40,{"$f":"IF(AND(AR77=\"غ\",AS77=\"غ\",AT77=\"غ\",AU77=\"غ\"),\"غ\",SUM(AR77:AU77))","v":194},{"$f":"IF(AV77=\"غ\",\"غ\",AV77*40/200)","v":38.799999999999997}]
[30705111701707,"2007-05-11",null,null,298,60,{"$f":"IF(H78=\"\",\"\",SUBTOTAL(3,$H$12:H78))","v":67},"آيه عبد الحميد علي بكر",67,11,5,2007,20,4,9,60,40,59,39,198,99,"ممتاز",57,31,57,40,185,74,"ممتاز",59,40,57,38,194,38.799999999999997,"ممتاز",58,40,58,40,196,{"$f":"IF(AO78=\"غ\",\"غ\",AO78*40/200)","v":39.200000000000003},"ممتاز",54,34,58,40,186,37.200000000000003]
[30706011702303,"2007-06-01",null,null,299,61,{"$f":"IF(H79=\"\",\"\",SUBTOTAL(3,$H$12:H79))","v":68},"بسملة محمد فوزى صلاح الدين عامر",68,1,6,2007,0,4,9,54,38,56,34,182,91,"ممتاز",49,25,51,35,160,64,"جيد جداً",58,34,59,38,189,37.799999999999997,"ممتاز",52,29,52,40,173,34.6,"ممتاز",46,34,56,39,175,35]
[30712051701849,"2007-12-05",null,null,300,62,{"$f":"IF(H80=\"\",\"\",SUBTOTAL(3,$H$12:H80))","v":69},"جنى عبد الله حسن عبد الله ابراهيم",69,5,12,2007,26,9,8,59,38,59,37,193,96.5,"ممتاز",57,35,55,39,186,74.400000000000006,"ممتاز",59,37,60,40,196,39.200000000000003,"ممتاز",59,39,59,40,197,39.4,"ممتاز",57,39,53,40,189,37.799999999999997]
[30801111701943,"2008-01-11",null,null,301,63,{"$f":"IF(H81=\"\",\"\",SUBTOTAL(3,$H$12:H81))","v":70},"حبيبة هشام ابراهيم علي",70,11,1,2008,20,8,8,57,40,59,34,{"$f":"IF(AND(P81=\"غ\",Q81=\"غ\",R81=\"غ\",S81=\"غ\"),\"غ\",SUM(P81:S81))","v":190},95,"ممتاز",57,34,54,33,178,71.2,"ممتاز",60,39,60,40,199,39.799999999999997,"ممتاز",56,38,59,40,193,38.6,"ممتاز",57,36,56,39,188,37.6]
[30706281701147,"2007-06-28",null,null,302,64,{"$f":"IF(H82=\"\",\"\",SUBTOTAL(3,$H$12:H82))","v":71},"حبيبه جمال إمام محمد المرادي",71,28,6,2007,3,3,9,56,31,58,33,178,89,"ممتاز",54,16,45,19,134,53.6,"جيد",57,36,57,36,186,37.200000000000003,"ممتاز",55,38,58,38,189,37.799999999999997,"ممتاز",52,33,51,37,173,34.6]
[30710011713205,"2007-10-01",null,null,303,65,{"$f":"IF(H83=\"\",\"\",SUBTOTAL(3,$H$12:H83))","v":72},"حبيبه صلاح الدين أحمد عبد الوهاب حماد",72,1,10,2007,0,0,9,58,33,58,35,184,92,"ممتاز",55,25,56,28,164,65.599999999999994,"جيد جداً",57,36,57,38,188,37.6,"ممتاز",50,36,55,36,177,35.4,"ممتاز",53,36,53,38,180,36]
[30709090110687,"2007-09-09",null,null,304,66,{"$f":"IF(H84=\"\",\"\",SUBTOTAL(3,$H$12:H84))","v":73},"حبيبه محمد عبد الله مرسي",73,9,9,2007,22,0,9,50,36,54,33,173,86.5,"ممتاز",46,21,50,37,154,61.6,"جيد جداً",56,26,54,34,170,34,"ممتاز",56,28,52,38,174,34.799999999999997,"ممتاز",50,31,45,33,159,31.8]
[30611231700866,"2006-11-23",null,null,305,67,{"$f":"IF(H85=\"\",\"\",SUBTOTAL(3,$H$12:H85))","v":74},"دعاء ياسر عبد الرحيم علي شعلان",74,23,11,2006,8,10,9,59,40,59,40,198,99,"ممتاز",60,35,59,40,194,77.599999999999994,"ممتاز",60,37,60,40,197,39.4,"ممتاز",58,34,59,40,191,38.200000000000003,"ممتاز",57,37,56,38,188,37.6]
[30707121703263,"2007-07-12",null,null,306,68,{"$f":"IF(H86=\"\",\"\",SUBTOTAL(3,$H$12:H86))","v":75},"دنيا عبد الكريم عبد الله عبد الكريم يوسف",75,12,7,2007,19,2,9,59,37,60,39,195,97.5,"ممتاز",56,29,52,37,174,69.599999999999994,"ممتاز",60,34,60,40,194,38.799999999999997,"ممتاز",58,38,59,40,195,39,"ممتاز",55,37,59,38,189,37.799999999999997]
[30705201702486,"2007-05-20",null,null,307,69,{"$f":"IF(H87=\"\",\"\",SUBTOTAL(3,$H$12:H87))","v":76},"روان باسم نعيم السيد محمود",76,20,5,2007,11,4,9,59,37,57,40,193,96.5,"ممتاز",55,32,54,35,176,70.400000000000006,"ممتاز",59,35,59,39,192,38.4,"ممتاز",53,35,54,40,182,36.4,"ممتاز",53,37,57,36,183,36.6]
[30709051701821,"2007-09-05",null,null,239,1,{"$f":"IF(H88=\"\",\"\",SUBTOTAL(3,$H$12:H88))","v":77},"رودينه محمود طه محمود عيد",77,5,9,2007,26,0,9,48,27,49,37,161,80.5,"جيد جداً",44,15,44,36,139,55.6,"جيد",50,31,48,20,149,29.8,"جيد",43,30,43,38,154,30.8,"جيد جداً",40,31,44,35,150,30]
[30703141701989,"2007-03-14",null,null,240,2,{"$f":"IF(H89=\"\",\"\",SUBTOTAL(3,$H$12:H89))","v":78},"رؤي سمير موسي أحمد عبد الدايم",78,14,3,2007,17,6,9,57,39,59,35,190,95,"ممتاز",58,32,58,40,188,75.2,"ممتاز",59,39,60,39,197,39.4,"ممتاز",56,40,51,40,187,37.4,"ممتاز",55,36,52,40,183,36.6]
[30711271701428,"2007-11-27",null,null,241,3,{"$f":"IF(H90=\"\",\"\",SUBTOTAL(3,$H$12:H90))","v":79},"سامية عبد العزيز محمد عبد العزيز حماد",79,27,11,2007,4,10,8,57,40,59,38,194,97,"ممتاز",58,33,58,40,189,75.599999999999994,"ممتاز",59,37,60,40,196,39.200000000000003,"ممتاز",58,38,59,40,195,39,"ممتاز",57,36,60,40,193,38.6]
[30705071701784,"2007-05-07",null,null,242,4,{"$f":"IF(H91=\"\",\"\",SUBTOTAL(3,$H$12:H91))","v":80},"سعاد عادل فتحى عبدالكريم",80,7,5,2007,24,4,9,49,27,47,26,149,74.5,"جيد",47,16,51,29,143,57.2,"جيد",46,29,50,37,162,32.4,"جيد جداً",46,36,53,34,169,33.799999999999997,"جيد جداً",48,33,48,40,169,33.799999999999997]
[30707271703709,"2007-07-27",null,null,243,5,{"$f":"IF(H92=\"\",\"\",SUBTOTAL(3,$H$12:H92))","v":81},"سندس ماهر أمين محمد المرادي",81,27,7,2007,4,2,9,55,39,58,39,191,95.5,"ممتاز",54,32,55,36,177,70.8,"ممتاز",59,39,60,38,196,39.200000000000003,"ممتاز",58,38,57,38,191,38.200000000000003,"ممتاز",52,34,56,40,182,36.4]
[30712051701822,"2007-12-05",null,null,244,6,{"$f":"IF(H93=\"\",\"\",SUBTOTAL(3,$H$12:H93))","v":82},"شذا أنور أحمد التهامي حجاج",82,5,12,2007,26,9,8,56,37,56,37,186,93,"ممتاز",55,32,56,38,181,72.400000000000006,"ممتاز",59,39,58,39,195,39,"ممتاز",58,40,59,40,197,39.4,"ممتاز",58,34,59,39,190,38]
[30706231700182,"2007-06-23",null,null,245,7,{"$f":"IF(H94=\"\",\"\",SUBTOTAL(3,$H$12:H94))","v":83},"شهد عبد الله فراج أحمد فراج",83,23,6,2007,8,3,9,60,37,57,38,192,96,"ممتاز",59,37,60,40,196,78.400000000000006,"ممتاز",57,36,60,40,193,38.6,"ممتاز",56,39,59,40,194,38.799999999999997,"ممتاز",51,36,57,40,184,36.799999999999997]
[30708151702004,"2007-08-15",null,null,246,8,{"$f":"IF(H95=\"\",\"\",SUBTOTAL(3,$H$12:H95))","v":84},"شهد علي محمد مصلحي عوض",84,15,8,2007,16,1,9,60,40,60,38,198,99,"ممتاز",58,36,58,38,190,76,"ممتاز",59,38,59,39,195,39,"ممتاز",58,39,59,40,196,39.200000000000003,"ممتاز",56,38,58,40,192,38.4]
[30709111702946,"2007-09-11",null,null,247,9,{"$f":"IF(H96=\"\",\"\",SUBTOTAL(3,$H$12:H96))","v":85},"شهد محمد إبراهيم متولي اليبد",85,11,9,2007,20,0,9,53,33,53,31,170,85,"ممتاز",55,26,57,37,175,70,"ممتاز",57,35,59,37,188,37.6,"ممتاز",59,38,52,36,185,37,"ممتاز",52,33,52,36,173,34.6]
[30708161701227,"2007-08-16",null,null,248,10,{"$f":"IF(H97=\"\",\"\",SUBTOTAL(3,$H$12:H97))","v":86},"شهد نادر عقل محمد عقل",86,16,8,2007,15,1,9,60,36,58,39,193,96.5,"ممتاز",57,33,57,35,182,72.8,"ممتاز",59,38,57,36,190,38,"ممتاز",57,38,57,38,190,38,"ممتاز",51,32,57,40,180,36]
[30707211702088,"2007-07-21",null,null,249,11,{"$f":"IF(H98=\"\",\"\",SUBTOTAL(3,$H$12:H98))","v":87},"فاطمة أيمن محمد عبد الستارعطيه",87,21,7,2007,10,2,9,53,36,56,30,175,87.5,"ممتاز",58,23,57,40,178,71.2,"ممتاز",55,36,59,38,188,37.6,"ممتاز",58,34,51,40,183,36.6,"ممتاز",53,32,57,40,182,36.4]
[30709291704585,"2007-09-29",null,null,250,12,{"$f":"IF(H99=\"\",\"\",SUBTOTAL(3,$H$12:H99))","v":88},"مريم جلال إبراهيم الدسوقي النادي",88,29,9,2007,2,0,9,57,34,57,37,185,92.5,"ممتاز",60,33,60,38,191,76.400000000000006,"ممتاز",58,39,60,40,197,39.4,"ممتاز",57,36,53,40,186,37.200000000000003,"ممتاز",55,35,58,40,188,37.6]
[30711081701146,"2007-11-08",null,null,251,13,{"$f":"IF(H100=\"\",\"\",SUBTOTAL(3,$H$12:H100))","v":89},"مريم سعيد عبدالمنعم ابراهيم موسى",89,8,11,2007,23,10,8,60,39,60,40,199,99.5,"ممتاز",57,36,57,40,190,76,"ممتاز",60,40,60,39,199,39.799999999999997,"ممتاز",58,38,57,36,189,37.799999999999997,"ممتاز",57,37,59,40,193,38.6]
[30703251702727,"2007-03-25",null,null,252,14,{"$f":"IF(H101=\"\",\"\",SUBTOTAL(3,$H$12:H101))","v":90},"ملك جمال عبد الوهاب علي",90,25,3,2007,6,6,9,60,33,58,40,191,95.5,"ممتاز",59,32,59,38,188,75.2,"ممتاز",60,40,60,38,198,39.6,"ممتاز",59,38,57,38,192,38.4,"ممتاز",56,38,59,40,193,38.6]
[30705051704027,"2007-05-05",null,null,253,15,{"$f":"IF(H102=\"\",\"\",SUBTOTAL(3,$H$12:H102))","v":91},"ملك حسين موسي ابراهيم موسى",91,5,5,2007,26,4,9,58,38,59,37,192,96,"ممتاز",60,36,60,40,196,78.400000000000006,"ممتاز",60,38,59,39,196,39.200000000000003,"ممتاز",58,40,58,40,196,39.200000000000003,"ممتاز",59,39,59,40,197,39.4]
[30701011708865,"2007-01-01",null,null,254,16,{"$f":"IF(H103=\"\",\"\",SUBTOTAL(3,$H$12:H103))","v":92},"ملك عماد النادي موسي المرادي",92,1,1,2007,0,9,9,50,25,52,31,158,79,"جيد جداً",56,27,57,38,178,71.2,"ممتاز",52,37,56,38,183,36.6,"ممتاز",52,40,57,40,189,37.799999999999997,"ممتاز",51,37,52,39,179,35.799999999999997]
[30711121701845,"2007-11-12",null,null,255,17,{"$f":"IF(H104=\"\",\"\",SUBTOTAL(3,$H$12:H104))","v":93},"ملك ماهر السيد حسين غلوش",93,12,11,2007,19,10,8,60,39,57,37,193,96.5,"ممتاز",57,25,57,36,175,70,"ممتاز",58,38,59,38,193,38.6,"ممتاز",58,40,58,40,196,39.200000000000003,"ممتاز",59,38,59,40,196,39.200000000000003]
[30712081702084,"2007-12-08",null,null,256,18,{"$f":"IF(H105=\"\",\"\",SUBTOTAL(3,$H$12:H105))","v":94},"ملك محمد السيد خضير",94,8,12,2007,23,9,8,60,40,60,39,199,99.5,"ممتاز",60,39,60,40,199,79.599999999999994,"ممتاز",59,39,60,40,198,39.6,"ممتاز",58,40,58,40,196,39.200000000000003,"ممتاز",58,40,59,40,197,39.4]
[30701281702141,"2007-01-28",null,null,257,19,{"$f":"IF(H106=\"\",\"\",SUBTOTAL(3,$H$12:H106))","v":95},"ملك محمد عبد الله حسن فرج",95,28,1,2007,3,8,9,49,21,47,23,140,70,"جيد",57,29,57,34,177,70.8,"ممتاز",47,21,42,27,137,27.4,"جيد",49,28,50,32,159,31.8,"جيد جداً",44,35,54,39,172,34.4]
[30612141701487,"2006-12-14",null,null,258,20,{"$f":"IF(H107=\"\",\"\",SUBTOTAL(3,$H$12:H107))","v":96},"ملك محمد عبد الله محمود البكري",96,14,12,2006,17,9,9,60,40,48,39,187,93.5,"ممتاز",57,27,55,36,175,70,"ممتاز",59,40,60,38,197,39.4,"ممتاز",58,40,58,40,196,39.200000000000003,"ممتاز",57,38,59,39,193,38.6]
[30709011703988,"2007-09-01",null,null,259,21,{"$f":"IF(H108=\"\",\"\",SUBTOTAL(3,$H$12:H108))","v":97},"ملك نبيل أحمد أبو المجد أحمد",97,{"$f":"DAY(B108)","v":1},{"$f":"MONTH(B108)","v":9},{"$f":"YEAR(B108)","v":2007},0,1,9,54,28,54,35,171,85.5,"ممتاز",58,32,59,26,175,70,"ممتاز",55,34,58,36,183,36.6,"ممتاز",49,34,56,40,179,35.799999999999997,"ممتاز",48,38,59,39,184,36.799999999999997]
[30704081701123,"2007-04-08",null,null,260,22,{"$f":"IF(H109=\"\",\"\",SUBTOTAL(3,$H$12:H109))","v":98},"منه امير عبد الله ابراهيم عامر",{"$f":"IF(OR($I$7=0,$H109=\"\"),\"\",$I108+1)","v":98},8,4,2007,23,5,9,54,31,55,26,166,83,"جيد جداً",43,15,48,26,132,52.8,"جيد",50,23,48,22,143,28.6,"جيد",50,30,53,30,163,32.6,"جيد جداً",55,31,48,32,166,33.200000000000003]
[30703061400244,"2007-03-06",null,null,261,23,{"$f":"IF(H110=\"\",\"\",SUBTOTAL(3,$H$12:H110))","v":99},"منه ماهر عبد المولي الصادق فرج",99,6,3,2007,25,6,9,60,40,58,37,195,97.5,"ممتاز",57,37,58,40,192,76.8,"ممتاز",58,38,60,39,195,39,"ممتاز",54,40,57,32,183,36.6,"ممتاز",59,39,59,40,197,39.4]
[30704041702747,"2007-04-04",null,null,262,24,{"$f":"IF(H111=\"\",\"\",SUBTOTAL(3,$H$12:H111))","v":100},"مني جمال ابراهيم محمد عبدالله",100,4,4,2007,27,5,9,59,38,58,37,192,96,"ممتاز",60,39,60,40,199,79.599999999999994,"ممتاز",60,37,59,37,193,38.6,"ممتاز",59,40,58,38,195,39,"ممتاز",59,39,59,40,197,39.4]
[30708081704446,"2007-08-08",null,null,263,25,{"$f":"IF(H112=\"\",\"\",SUBTOTAL(3,$H$12:H112))","v":101},"نادين أيمن عبد الله الصادق فرج",101,8,8,2007,23,1,9,60,38,58,40,196,98,"ممتاز",58,33,60,36,187,74.8,"ممتاز",59,38,60,40,197,39.4,"ممتاز",59,32,59,38,188,37.6,"ممتاز",56,38,59,40,193,38.6]
[30708081704462,"2007-08-08",null,null,264,26,{"$f":"IF(H113=\"\",\"\",SUBTOTAL(3,$H$12:H113))","v":102},"نور أحمد عبد الرازق يوسف عبد الله",102,8,8,2007,23,1,9,60,39,57,39,195,97.5,"ممتاز",59,40,60,40,199,79.599999999999994,"ممتاز",59,37,60,40,196,39.200000000000003,"ممتاز",59,38,58,40,195,39,"ممتاز",58,39,59,40,196,39.200000000000003]
[30701011708881,"2007-01-01",null,null,265,27,{"$f":"IF(H114=\"\",\"\",SUBTOTAL(3,$H$12:H114))","v":103},"نورا إبراهيم كمال الصادق فرج",103,1,1,2007,0,9,9,57,38,57,36,188,94,"ممتاز",58,35,60,39,192,76.8,"ممتاز",58,35,60,40,193,38.6,"ممتاز",56,36,56,40,188,37.6,"ممتاز",55,39,58,39,191,38.200000000000003]
[30712121702848,"2007-12-12",null,null,266,28,{"$f":"IF(H115=\"\",\"\",SUBTOTAL(3,$H$12:H115))","v":104},"هاجر ايمن محمود السيد المرادى",104,12,12,2007,19,9,8,53,32,53,27,165,82.5,"جيد جداً",50,13,51,14,128,51.2,"مقبول",46,29,49,22,146,29.2,"جيد",50,34,47,30,161,32.200000000000003,"جيد جداً",51,36,48,32,167,33.4]
[30706301701122,{"$f":"TEXT(LEFT(A116,7)+17000000,\"####-##-##\")+0","v":"2007-06-30"},null,null,267,29,{"$f":"IF(H116=\"\",\"\",SUBTOTAL(3,$H$12:H116))","v":105},"هبة الله السيد فهمي محمد إبراهيم",105,30,6,2007,{"$f":"DATEDIF(DATE(L116,K116,J116),$M$11,\"md\")","v":1},{"$f":"DATEDIF(DATE(L116,K116,J116),$M$11,\"ym\")","v":3},{"$f":"DATEDIF(DATE(L116,K116,J116),$M$11,\"y\")","v":9},60,40,60,40,200,100,"ممتاز",59,37,60,40,196,78.400000000000006,"ممتاز",60,40,60,40,200,40,"ممتاز",60,40,59,40,199,39.799999999999997,"ممتاز",58,40,60,40,198,39.6]
[30705261400802,{"$f":"TEXT(LEFT(A117,7)+17000000,\"####-##-##\")+0","v":"2007-05-26"},null,null,268,30,{"$f":"IF(H117=\"\",\"\",SUBTOTAL(3,$H$12:H117))","v":106},"هدير أحمد محمد أحمد مكاوي",106,26,5,2007,{"$f":"DATEDIF(DATE(L117,K117,J117),$M$11,\"md\")","v":5},{"$f":"DATEDIF(DATE(L117,K117,J117),$M$11,\"ym\")","v":4},{"$f":"DATEDIF(DATE(L117,K117,J117),$M$11,\"y\")","v":9},43,11,47,9,110,55,"دون المستوى",41,9,41,22,113,45.2,"مقبول",39,10,40,7,96,19.2,"دون المستوى",43,18,30,14,105,21,"مقبول",41,28,43,23,135,27]
[30711231701549,{"$f":"TEXT(LEFT(A118,7)+17000000,\"####-##-##\")+0","v":"2007-11-23"},null,null,269,31,{"$f":"IF(H118=\"\",\"\",SUBTOTAL(3,$H$12:H118))","v":107},"وفاء علاء محمد علي حسن",107,23,11,2007,{"$f":"DATEDIF(DATE(L118,K118,J118),$M$11,\"md\")","v":8},{"$f":"DATEDIF(DATE(L118,K118,J118),$M$11,\"ym\")","v":10},{"$f":"DATEDIF(DATE(L118,K118,J118),$M$11,\"y\")","v":8},60,40,60,40,200,100,"ممتاز",58,36,59,40,193,77.2,"ممتاز",60,40,60,40,200,40,"ممتاز",59,40,58,40,197,39.4,"ممتاز",59,39,59,40,197,39.4]
[]
[null,null,null,null,null,null,null,"اللــــــــــون",null,null,null,null,null,null,null,"لغة عربية",null,null,null,null,null,null,"رياضيات",null,null,null,null,null,null,"لغة إنجليزية",null,null,null,null,null,null,"دراسات",null,null,null,null,null,null,"علوم"]
[null,null,null,null,null,null,null,null,null,null,null,null,null,null,null,null,null,null,null,null,{"$f":"ColorFunction(H121,$U$12:$U$118)","v":98},{"$f":"ColorFunction(I121,$U$12:$U$118)","v":0},0,0,0,0,0,{"$f":"ColorFunction(H121,$AB$12:$AB$118)","v":87},0,0,0,0,0,0,{"$f":"ColorFunction(H121,$AI$12:$AI$118)","v":95},0,0,0,0,0,0,{"$f":"ColorFunction(H121,$AP$12:$AP$118)","v":97},0,0,0,0,0,0,{"$f":"ColorFunction(H121,$AW$12:$AW$118)","v":89}]
[null,null,null,null,null,null,null,null,null,null,null,null,null,null,null,null,null,null,null,null,{"$f":"ColorFunction(H122,$U$12:$U$118)","v":3},null,null,null,null,null,null,{"$f":"ColorFunction(H122,$AB$12:$AB$118)","v":13},{"$f":"ColorFunction(P122,$U$12:$U$118)","v":0},{"$f":"ColorFunction(Q122,$U$12:$U$118)","v":0},{"$f":"ColorFunction(R122,$U$12:$U$118)","v":0},{"$f":"ColorFunction(S122,$U$12:$U$118)","v":0},{"$f":"ColorFunction(T122,$U$12:$U$118)","v":0},{"$f":"ColorFunction(U122,$U$12:$U$118)","v":0},{"$f":"ColorFunction(H122,$AI$12:$AI$118)","v":5},{"$f":"ColorFunction(W122,$U$12:$U$118)","v":0},{"$f":"ColorFunction(X122,$U$12:$U$118)","v":0},{"$f":"ColorFunction(Y122,$U$12:$U$118)","v":0},{"$f":"ColorFunction(Z122,$U$12:$U$118)","v":0},{"$f":"ColorFunction(AA122,$U$12:$U$118)","v":0},{"$f":"ColorFunction(AB122,$U$12:$U$118)","v":0},{"$f":"ColorFunction(H122,$AP$12:$AP$118)","v":4},{"$f":"ColorFunction(AD122,$U$12:$U$118)","v":0},{"$f":"ColorFunction(AE122,$U$12:$U$118)","v":0},{"$f":"ColorFunction(AF122,$U$12:$U$118)","v":0},{"$f":"ColorFunction(AG122,$U$12:$U$118)","v":0},{"$f":"ColorFunction(AH122,$U$12:$U$118)","v":0},{"$f":"ColorFunction(AI122,$U$12:$U$118)","v":0},{"$f":"ColorFunction(H122,$AW$12:$AW$118)","v":11}]
[null,null,null,null,null,null,null,null,null,null,null,null,null,null,null,null,null,null,null,null,6,null,null,null,null,null,null,6,0,0,0,0,0,0,7,0,0,0,0,0,0,6,0,0,0,0,0,0,6]
[null,null,null,null,null,null,{"$f":"IF(#REF!=\"\",\"\",SUBTOTAL(3,$H$12:H123))","v":{"$error":"#REF!"}}]
[null,null,null,null,null,null,{"$f":"IF(H125=\"\",\"\",SUBTOTAL(3,$H$12:H125))","v":""}]
[null,null,null,null,null,null,{"$f":"IF(H126=\"\",\"\",SUBTOTAL(3,$H$12:H126))","v":""}]
[null,null,null,null,null,null,{"$f":"IF(H127=\"\",\"\",SUBTOTAL(3,$H$12:H127))","v":""}]
[null,null,null,null,null,null,{"$f":"IF(H128=\"\",\"\",SUBTOTAL(3,$H$12:H128))","v":""}]
[null,null,null,null,null,null,{"$f":"IF(H129=\"\",\"\",SUBTOTAL(3,$H$12:H129))","v":""}]
[null,null,null,null,null,null,{"$f":"IF(H130=\"\",\"\",SUBTOTAL(3,$H$12:H130))","v":""}]
[null,null,null,null,null,null,{"$f":"IF(H131=\"\",\"\",SUBTOTAL(3,$H$12:H131))","v":""}]
[null,null,null,null,null,null,{"$f":"IF(H132=\"\",\"\",SUBTOTAL(3,$H$12:H132))","v":""}]
[null,null,null,null,null,null,{"$f":"IF(H133=\"\",\"\",SUBTOTAL(3,$H$12:H133))","v":""}]
[null,null,null,null,null,null,{"$f":"IF(H134=\"\",\"\",SUBTOTAL(3,$H$12:H134))","v":""}]
[null,null,null,null,null,null,{"$f":"IF(H135=\"\",\"\",SUBTOTAL(3,$H$12:H135))","v":""}]
[null,null,null,null,null,null,{"$f":"IF(H136=\"\",\"\",SUBTOTAL(3,$H$12:H136))","v":""}]
[null,null,null,null,null,null,{"$f":"IF(H137=\"\",\"\",SUBTOTAL(3,$H$12:H137))","v":""}]
[null,null,null,null,null,null,{"$f":"IF(H138=\"\",\"\",SUBTOTAL(3,$H$12:H138))","v":""}]
[null,null,null,null,null,null,{"$f":"IF(H139=\"\",\"\",SUBTOTAL(3,$H$12:H139))","v":""}]
[null,null,null,null,null,null,{"$f":"IF(H140=\"\",\"\",SUBTOTAL(3,$H$12:H140))","v":""}]
[null,null,null,null,null,null,{"$f":"IF(H141=\"\",\"\",SUBTOTAL(3,$H$12:H141))","v":""}]
[null,null,null,null,null,null,{"$f":"IF(H142=\"\",\"\",SUBTOTAL(3,$H$12:H142))","v":""}]
[null,null,null,null,null,null,{"$f":"IF(H143=\"\",\"\",SUBTOTAL(3,$H$12:H143))","v":""}]
[null,null,null,null,null,null,{"$f":"IF(H144=\"\",\"\",SUBTOTAL(3,$H$12:H144))","v":""}]
[null,null,null,null,null,null,{"$f":"IF(H145=\"\",\"\",SUBTOTAL(3,$H$12:H145))","v":""}]
[null,null,null,null,null,null,{"$f":"IF(H146=\"\",\"\",SUBTOTAL(3,$H$12:H146))","v":""}]
[null,null,null,null,null,null,{"$f":"IF(H147=\"\",\"\",SUBTOTAL(3,$H$12:H147))","v":""}]
[null,null,null,null,null,null,{"$f":"IF(H148=\"\",\"\",SUBTOTAL(3,$H$12:H148))","v":""}]
[null,null,null,null,null,null,{"$f":"IF(H149=\"\",\"\",SUBTOTAL(3,$H$12:H149))","v":""}]
[null,null,null,null,null,null,{"$f":"IF(H150=\"\",\"\",SUBTOTAL(3,$H$12:H150))","v":""}]
[null,null,null,null,null,null,{"$f":"IF(H151=\"\",\"\",SUBTOTAL(3,$H$12:H151))","v":""}]
[null,null,null,null,null,null,{"$f":"IF(H152=\"\",\"\",SUBTOTAL(3,$H$12:H152))","v":""}]
[null,null,null,null,null,null,{"$f":"IF(H153=\"\",\"\",SUBTOTAL(3,$H$12:H153))","v":""}]
[null,null,null,null,null,null,{"$f":"IF(H154=\"\",\"\",SUBTOTAL(3,$H$12:H154))","v":""}]
[null,null,null,null,null,null,{"$f":"IF(H155=\"\",\"\",SUBTOTAL(3,$H$12:H155))","v":""}]
[null,null,null,null,null,null,{"$f":"IF(H156=\"\",\"\",SUBTOTAL(3,$H$12:H156))","v":""}]
[null,null,null,null,null,null,{"$f":"IF(H157=\"\",\"\",SUBTOTAL(3,$H$12:H157))","v":""}]
[null,null,null,null,null,null,{"$f":"IF(H158=\"\",\"\",SUBTOTAL(3,$H$12:H158))","v":""}]
[null,null,null,null,null,null,{"$f":"IF(H159=\"\",\"\",SUBTOTAL(3,$H$12:H159))","v":""}]
[null,null,null,null,null,null,{"$f":"IF(H160=\"\",\"\",SUBTOTAL(3,$H$12:H160))","v":""}]
[null,null,null,null,null,null,{"$f":"IF(H161=\"\",\"\",SUBTOTAL(3,$H$12:H161))","v":""}]
[null,null,null,null,null,null,{"$f":"IF(H162=\"\",\"\",SUBTOTAL(3,$H$12:H162))","v":""}]
[null,null,null,null,null,null,{"$f":"IF(H163=\"\",\"\",SUBTOTAL(3,$H$12:H163))","v":""}]
[null,null,null,null,null,null,{"$f":"IF(H164=\"\",\"\",SUBTOTAL(3,$H$12:H164))","v":""}]
[null,null,null,null,null,null,{"$f":"IF(H165=\"\",\"\",SUBTOTAL(3,$H$12:H165))","v":""}]
[null,null,null,null,null,null,{"$f":"IF(H166=\"\",\"\",SUBTOTAL(3,$H$12:H166))","v":""}]
[null,null,null,null,null,null,{"$f":"IF(H167=\"\",\"\",SUBTOTAL(3,$H$12:H167))","v":""}]
[null,null,null,null,null,null,{"$f":"IF(H168=\"\",\"\",SUBTOTAL(3,$H$12:H168))","v":""}]
[null,null,null,null,null,null,{"$f":"IF(H169=\"\",\"\",SUBTOTAL(3,$H$12:H169))","v":""}]
[null,null,null,null,null,null,{"$f":"IF(H170=\"\",\"\",SUBTOTAL(3,$H$12:H170))","v":""}]
[null,null,null,null,null,null,{"$f":"IF(H171=\"\",\"\",SUBTOTAL(3,$H$12:H171))","v":""}]
[null,null,null,null,null,null,{"$f":"IF(H172=\"\",\"\",SUBTOTAL(3,$H$12:H172))","v":""}]
[null,null,null,null,null,null,{"$f":"IF(H173=\"\",\"\",SUBTOTAL(3,$H$12:H173))","v":""}]
[null,null,null,null,null,null,{"$f":"IF(H174=\"\",\"\",SUBTOTAL(3,$H$12:H174))","v":""}]
[null,null,null,null,null,null,{"$f":"IF(H175=\"\",\"\",SUBTOTAL(3,$H$12:H175))","v":""}]
[null,null,null,null,null,null,{"$f":"IF(H176=\"\",\"\",SUBTOTAL(3,$H$12:H176))","v":""}]
[null,null,null,null,null,null,{"$f":"IF(H177=\"\",\"\",SUBTOTAL(3,$H$12:H177))","v":""}]
[null,null,null,null,null,null,{"$f":"IF(H178=\"\",\"\",SUBTOTAL(3,$H$12:H178))","v":""}]
[null,null,null,null,null,null,{"$f":"IF(H179=\"\",\"\",SUBTOTAL(3,$H$12:H179))","v":""}]
[null,null,null,null,null,null,{"$f":"IF(H180=\"\",\"\",SUBTOTAL(3,$H$12:H180))","v":""}]
[null,null,null,null,null,null,{"$f":"IF(H181=\"\",\"\",SUBTOTAL(3,$H$12:H181))","v":""}]
[null,null,null,null,null,null,{"$f":"IF(H182=\"\",\"\",SUBTOTAL(3,$H$12:H182))","v":""}]
[null,null,null,null,null,null,{"$f":"IF(H183=\"\",\"\",SUBTOTAL(3,$H$12:H183))","v":""}]
[null,null,null,null,null,null,{"$f":"IF(H184=\"\",\"\",SUBTOTAL(3,$H$12:H184))","v":""}]
[null,null,null,null,null,null,{"$f":"IF(H185=\"\",\"\",SUBTOTAL(3,$H$12:H185))","v":""}]
[null,null,null,null,null,null,{"$f":"IF(H186=\"\",\"\",SUBTOTAL(3,$H$12:H186))","v":""}]
[null,null,null,null,null,null,{"$f":"IF(H187=\"\",\"\",SUBTOTAL(3,$H$12:H187))","v":""}]
[null,null,null,null,null,null,{"$f":"IF(H188=\"\",\"\",SUBTOTAL(3,$H$12:H188))","v":""}]
[null,null,null,null,null,null,{"$f":"IF(H189=\"\",\"\",SUBTOTAL(3,$H$12:H189))","v":""}]
[null,null,null,null,null,null,{"$f":"IF(H190=\"\",\"\",SUBTOTAL(3,$H$12:H190))","v":""}]
[null,null,null,null,null,null,{"$f":"IF(H191=\"\",\"\",SUBTOTAL(3,$H$12:H191))","v":""}]
[null,null,null,null,null,null,{"$f":"IF(H192=\"\",\"\",SUBTOTAL(3,$H$12:H192))","v":""}]
[null,null,null,null,null,null,{"$f":"IF(H193=\"\",\"\",SUBTOTAL(3,$H$12:H193))","v":""}]
[null,null,null,null,null,null,{"$f":"IF(H194=\"\",\"\",SUBTOTAL(3,$H$12:H194))","v":""}]
[null,null,null,null,null,null,{"$f":"IF(H195=\"\",\"\",SUBTOTAL(3,$H$12:H195))","v":""}]
[null,null,null,null,null,null,{"$f":"IF(H196=\"\",\"\",SUBTOTAL(3,$H$12:H196))","v":""}]
[null,null,null,null,null,null,{"$f":"IF(H197=\"\",\"\",SUBTOTAL(3,$H$12:H197))","v":""}]
[null,null,null,null,null,null,{"$f":"IF(H198=\"\",\"\",SUBTOTAL(3,$H$12:H198))","v":""}]
[null,null,null,null,null,null,{"$f":"IF(H199=\"\",\"\",SUBTOTAL(3,$H$12:H199))","v":""}]
[null,null,null,null,null,null,{"$f":"IF(H200=\"\",\"\",SUBTOTAL(3,$H$12:H200))","v":""}]
[null,null,null,null,null,null,{"$f":"IF(H201=\"\",\"\",SUBTOTAL(3,$H$12:H201))","v":""}]
[null,null,null,null,null,null,{"$f":"IF(H202=\"\",\"\",SUBTOTAL(3,$H$12:H202))","v":""}]
[null,null,null,null,null,null,{"$f":"IF(H203=\"\",\"\",SUBTOTAL(3,$H$12:H203))","v":""}]
[null,null,null,null,null,null,{"$f":"IF(H204=\"\",\"\",SUBTOTAL(3,$H$12:H204))","v":""}]
[null,null,null,null,null,null,{"$f":"IF(H205=\"\",\"\",SUBTOTAL(3,$H$12:H205))","v":""}]
[null,null,null,null,null,null,{"$f":"IF(H206=\"\",\"\",SUBTOTAL(3,$H$12:H206))","v":""}]
[null,null,null,null,null,null,{"$f":"IF(H207=\"\",\"\",SUBTOTAL(3,$H$12:H207))","v":""}]
[null,null,null,null,null,null,{"$f":"IF(H208=\"\",\"\",SUBTOTAL(3,$H$12:H208))","v":""}]
[null,null,null,null,null,null,{"$f":"IF(H209=\"\",\"\",SUBTOTAL(3,$H$12:H209))","v":""}]
[null,null,null,null,null,null,{"$f":"IF(H210=\"\",\"\",SUBTOTAL(3,$H$12:H210))","v":""}]
[null,null,null,null,null,null,{"$f":"IF(H211=\"\",\"\",SUBTOTAL(3,$H$12:H211))","v":""}]
[null,null,null,null,null,null,{"$f":"IF(H212=\"\",\"\",SUBTOTAL(3,$H$12:H212))","v":""}]
[null,null,null,null,null,null,{"$f":"IF(H213=\"\",\"\",SUBTOTAL(3,$H$12:H213))","v":""}]
[null,null,null,null,null,null,{"$f":"IF(H214=\"\",\"\",SUBTOTAL(3,$H$12:H214))","v":""}]
[null,null,null,null,null,null,{"$f":"IF(H215=\"\",\"\",SUBTOTAL(3,$H$12:H215))","v":""}]
[null,null,null,null,null,null,{"$f":"IF(H216=\"\",\"\",SUBTOTAL(3,$H$12:H216))","v":""}]
[null,null,null,null,null,null,{"$f":"IF(H217=\"\",\"\",SUBTOTAL(3,$H$12:H217))","v":""}]
[null,null,null,null,null,null,{"$f":"IF(H218=\"\",\"\",SUBTOTAL(3,$H$12:H218))","v":""}]
[null,null,null,null,null,null,{"$f":"IF(H219=\"\",\"\",SUBTOTAL(3,$H$12:H219))","v":""}]
[null,null,null,null,null,null,{"$f":"IF(H220=\"\",\"\",SUBTOTAL(3,$H$12:H220))","v":""}]
[null,null,null,null,null,null,{"$f":"IF(H221=\"\",\"\",SUBTOTAL(3,$H$12:H221))","v":""}]
[null,null,null,null,null,null,{"$f":"IF(H222=\"\",\"\",SUBTOTAL(3,$H$12:H222))","v":""}]
[null,null,null,null,null,null,{"$f":"IF(H223=\"\",\"\",SUBTOTAL(3,$H$12:H223))","v":""}]
[null,null,null,null,null,null,{"$f":"IF(H224=\"\",\"\",SUBTOTAL(3,$H$12:H224))","v":""}]
[null,null,null,null,null,null,{"$f":"IF(H225=\"\",\"\",SUBTOTAL(3,$H$12:H225))","v":""}]
[null,null,null,null,null,null,{"$f":"IF(H226=\"\",\"\",SUBTOTAL(3,$H$12:H226))","v":""}]
[null,null,null,null,null,null,{"$f":"IF(H227=\"\",\"\",SUBTOTAL(3,$H$12:H227))","v":""}]
[null,null,null,null,null,null,{"$f":"IF(H228=\"\",\"\",SUBTOTAL(3,$H$12:H228))","v":""}]
[null,null,null,null,null,null,{"$f":"IF(H229=\"\",\"\",SUBTOTAL(3,$H$12:H229))","v":""}]
[null,null,null,null,null,null,{"$f":"IF(H230=\"\",\"\",SUBTOTAL(3,$H$12:H230))","v":""}]
[null,null,null,null,null,null,{"$f":"IF(H231=\"\",\"\",SUBTOTAL(3,$H$12:H231))","v":""}]
[null,null,null,null,null,null,{"$f":"IF(H232=\"\",\"\",SUBTOTAL(3,$H$12:H232))","v":""}]
[null,null,null,null,null,null,{"$f":"IF(H233=\"\",\"\",SUBTOTAL(3,$H$12:H233))","v":""}]
[null,null,null,null,null,null,{"$f":"IF(H234=\"\",\"\",SUBTOTAL(3,$H$12:H234))","v":""}]
[null,null,null,null,null,null,{"$f":"IF(H235=\"\",\"\",SUBTOTAL(3,$H$12:H235))","v":""}]
[null,null,null,null,null,null,{"$f":"IF(H236=\"\",\"\",SUBTOTAL(3,$H$12:H236))","v":""}]
[null,null,null,null,null,null,{"$f":"IF(H237=\"\",\"\",SUBTOTAL(3,$H$12:H237))","v":""}]
[null,null,null,null,null,null,{"$f":"IF(H238=\"\",\"\",SUBTOTAL(3,$H$12:H238))","v":""}]
[null,null,null,null,null,null,{"$f":"IF(H239=\"\",\"\",SUBTOTAL(3,$H$12:H239))","v":""}]
[null,null,null,null,null,null,{"$f":"IF(H240=\"\",\"\",SUBTOTAL(3,$H$12:H240))","v":""}]
[null,null,null,null,null,null,{"$f":"IF(H241=\"\",\"\",SUBTOTAL(3,$H$12:H241))","v":""}]
[null,null,null,null,null,null,{"$f":"IF(H242=\"\",\"\",SUBTOTAL(3,$H$12:H242))","v":""}]
[null,null,null,null,null,null,{"$f":"IF(H243=\"\",\"\",SUBTOTAL(3,$H$12:H243))","v":""}]
[null,null,null,null,null,null,{"$f":"IF(H244=\"\",\"\",SUBTOTAL(3,$H$12:H244))","v":""}]
[null,null,null,null,null,null,{"$f":"IF(H245=\"\",\"\",SUBTOTAL(3,$H$12:H245))","v":""}]
[null,null,null,null,null,null,{"$f":"IF(H246=\"\",\"\",SUBTOTAL(3,$H$12:H246))","v":""}]
[null,null,null,null,null,null,{"$f":"IF(H247=\"\",\"\",SUBTOTAL(3,$H$12:H247))","v":""}]
[null,null,null,null,null,null,{"$f":"IF(H248=\"\",\"\",SUBTOTAL(3,$H$12:H248))","v":""}]
[null,null,null,null,null,null,{"$f":"IF(H249=\"\",\"\",SUBTOTAL(3,$H$12:H249))","v":""}]
[null,null,null,null,null,null,{"$f":"IF(H250=\"\",\"\",SUBTOTAL(3,$H$12:H250))","v":""}]
[null,null,null,null,null,null,{"$f":"IF(H251=\"\",\"\",SUBTOTAL(3,$H$12:H251))","v":""}]
[null,null,null,null,null,null,{"$f":"IF(H252=\"\",\"\",SUBTOTAL(3,$H$12:H252))","v":""}]
[null,null,null,null,null,null,{"$f":"IF(H253=\"\",\"\",SUBTOTAL(3,$H$12:H253))","v":""}]
[null,null,null,null,null,null,{"$f":"IF(H254=\"\",\"\",SUBTOTAL(3,$H$12:H254))","v":""}]
[null,null,null,null,null,null,{"$f":"IF(H255=\"\",\"\",SUBTOTAL(3,$H$12:H255))","v":""}]
[null,null,null,null,null,null,{"$f":"IF(H256=\"\",\"\",SUBTOTAL(3,$H$12:H256))","v":""}]
[null,null,null,null,null,null,{"$f":"IF(H257=\"\",\"\",SUBTOTAL(3,$H$12:H257))","v":""}]
[null,null,null,null,null,null,{"$f":"IF(H258=\"\",\"\",SUBTOTAL(3,$H$12:H258))","v":""}]
[null,null,null,null,null,null,{"$f":"IF(H259=\"\",\"\",SUBTOTAL(3,$H$12:H259))","v":""}]
[null,null,null,null,null,null,{"$f":"IF(H260=\"\",\"\",SUBTOTAL(3,$H$12:H260))","v":""}]
[null,null,null,null,null,null,{"$f":"IF(H261=\"\",\"\",SUBTOTAL(3,$H$12:H261))","v":""}]
[null,null,null,null,null,null,{"$f":"IF(H262=\"\",\"\",SUBTOTAL(3,$H$12:H262))","v":""}]
[null,null,null,null,null,null,{"$f":"IF(H263=\"\",\"\",SUBTOTAL(3,$H$12:H263))","v":""}]
[null,null,null,null,null,null,{"$f":"IF(H264=\"\",\"\",SUBTOTAL(3,$H$12:H264))","v":""}]
[null,null,null,null,null,null,{"$f":"IF(H265=\"\",\"\",SUBTOTAL(3,$H$12:H265))","v":""}]
[null,null,null,null,null,null,{"$f":"IF(H266=\"\",\"\",SUBTOTAL(3,$H$12:H266))","v":""}]
[null,null,null,null,null,null,{"$f":"IF(H267=\"\",\"\",SUBTOTAL(3,$H$12:H267))","v":""}]
[null,null,null,null,null,null,{"$f":"IF(H268=\"\",\"\",SUBTOTAL(3,$H$12:H268))","v":""}]
[null,null,null,null,null,null,{"$f":"IF(H269=\"\",\"\",SUBTOTAL(3,$H$12:H269))","v":""}]
[null,null,null,null,null,null,{"$f":"IF(H270=\"\",\"\",SUBTOTAL(3,$H$12:H270))","v":""}]
[null,null,null,null,null,null,{"$f":"IF(H271=\"\",\"\",SUBTOTAL(3,$H$12:H271))","v":""}]
[null,null,null,null,null,null,{"$f":"IF(H272=\"\",\"\",SUBTOTAL(3,$H$12:H272))","v":""}]
[null,null,null,null,null,null,{"$f":"IF(H273=\"\",\"\",SUBTOTAL(3,$H$12:H273))","v":""}]
[null,null,null,null,null,null,{"$f":"IF(H274=\"\",\"\",SUBTOTAL(3,$H$12:H274))","v":""}]
[null,null,null,null,null,null,{"$f":"IF(H275=\"\",\"\",SUBTOTAL(3,$H$12:H275))","v":""}]
[null,null,null,null,null,null,{"$f":"IF(H276=\"\",\"\",SUBTOTAL(3,$H$12:H276))","v":""}]
[null,null,null,null,null,null,{"$f":"IF(H277=\"\",\"\",SUBTOTAL(3,$H$12:H277))","v":""}]
[null,null,null,null,null,null,{"$f":"IF(H278=\"\",\"\",SUBTOTAL(3,$H$12:H278))","v":""}]
[null,null,null,null,null,null,{"$f":"IF(H279=\"\",\"\",SUBTOTAL(3,$H$12:H279))","v":""}]
[null,null,null,null,null,null,{"$f":"IF(H280=\"\",\"\",SUBTOTAL(3,$H$12:H280))","v":""}]
[null,null,null,null,null,null,{"$f":"IF(H281=\"\",\"\",SUBTOTAL(3,$H$12:H281))","v":""}]
[null,null,null,null,null,null,{"$f":"IF(H282=\"\",\"\",SUBTOTAL(3,$H$12:H282))","v":""}]
[null,null,null,null,null,null,{"$f":"IF(H283=\"\",\"\",SUBTOTAL(3,$H$12:H283))","v":""}]
[null,null,null,null,null,null,{"$f":"IF(H284=\"\",\"\",SUBTOTAL(3,$H$12:H284))","v":""}]
[null,null,null,null,null,null,{"$f":"IF(H285=\"\",\"\",SUBTOTAL(3,$H$12:H285))","v":""}]
[null,null,null,null,null,null,{"$f":"IF(H286=\"\",\"\",SUBTOTAL(3,$H$12:H286))","v":""}]
[null,null,null,null,null,null,{"$f":"IF(H287=\"\",\"\",SUBTOTAL(3,$H$12:H287))","v":""}]
[null,null,null,null,null,null,{"$f":"IF(H288=\"\",\"\",SUBTOTAL(3,$H$12:H288))","v":""}]
[null,null,null,null,null,null,{"$f":"IF(H289=\"\",\"\",SUBTOTAL(3,$H$12:H289))","v":""}]
[null,null,null,null,null,null,{"$f":"IF(H290=\"\",\"\",SUBTOTAL(3,$H$12:H290))","v":""}]
[null,null,null,null,null,null,{"$f":"IF(H291=\"\",\"\",SUBTOTAL(3,$H$12:H291))","v":""}]
[null,null,null,null,null,null,{"$f":"IF(H292=\"\",\"\",SUBTOTAL(3,$H$12:H292))","v":""}]
[null,null,null,null,null,null,{"$f":"IF(H293=\"\",\"\",SUBTOTAL(3,$H$12:H293))","v":""}]
[null,null,null,null,null,null,{"$f":"IF(H294=\"\",\"\",SUBTOTAL(3,$H$12:H294))","v":""}]
[null,null,null,null,null,null,{"$f":"IF(H295=\"\",\"\",SUBTOTAL(3,$H$12:H295))","v":""}]
[null,null,null,null,null,null,{"$f":"IF(H296=\"\",\"\",SUBTOTAL(3,$H$12:H296))","v":""}]
[null,null,null,null,null,null,{"$f":"IF(H297=\"\",\"\",SUBTOTAL(3,$H$12:H297))","v":""}]
[null,null,null,null,null,null,{"$f":"IF(H298=\"\",\"\",SUBTOTAL(3,$H$12:H298))","v":""}]
[null,null,null,null,null,null,{"$f":"IF(H299=\"\",\"\",SUBTOTAL(3,$H$12:H299))","v":""}]
[null,null,null,null,null,null,{"$f":"IF(H300=\"\",\"\",SUBTOTAL(3,$H$12:H300))","v":""}]
[null,null,null,null,null,null,{"$f":"IF(H301=\"\",\"\",SUBTOTAL(3,$H$12:H301))","v":""}]
[null,null,null,null,null,null,{"$f":"IF(H302=\"\",\"\",SUBTOTAL(3,$H$12:H302))","v":""}]
[null,null,null,null,null,null,{"$f":"IF(H303=\"\",\"\",SUBTOTAL(3,$H$12:H303))","v":""}]
[null,null,null,null,null,null,{"$f":"IF(H304=\"\",\"\",SUBTOTAL(3,$H$12:H304))","v":""}]
[null,null,null,null,null,null,{"$f":"IF(H305=\"\",\"\",SUBTOTAL(3,$H$12:H305))","v":""}]
[null,null,null,null,null,null,{"$f":"IF(H306=\"\",\"\",SUBTOTAL(3,$H$12:H306))","v":""}]
[null,null,null,null,null,null,{"$f":"IF(H307=\"\",\"\",SUBTOTAL(3,$H$12:H307))","v":""}]
[null,null,null,null,null,null,{"$f":"IF(H308=\"\",\"\",SUBTOTAL(3,$H$12:H308))","v":""}]
[null,null,null,null,null,null,{"$f":"IF(H309=\"\",\"\",SUBTOTAL(3,$H$12:H309))","v":""}]
[null,null,null,null,null,null,{"$f":"IF(H310=\"\",\"\",SUBTOTAL(3,$H$12:H310))","v":""}]
[null,null,null,null,null,null,{"$f":"IF(H311=\"\",\"\",SUBTOTAL(3,$H$12:H311))","v":""}]
[null,null,null,null,null,null,{"$f":"IF(H312=\"\",\"\",SUBTOTAL(3,$H$12:H312))","v":""}]
[null,null,null,null,null,null,{"$f":"IF(H313=\"\",\"\",SUBTOTAL(3,$H$12:H313))","v":""}]
[null,null,null,null,null,null,{"$f":"IF(H314=\"\",\"\",SUBTOTAL(3,$H$12:H314))","v":""}]
[null,null,null,null,null,null,{"$f":"IF(H315=\"\",\"\",SUBTOTAL(3,$H$12:H315))","v":""}]
[null,null,null,null,null,null,{"$f":"IF(H316=\"\",\"\",SUBTOTAL(3,$H$12:H316))","v":""}]
[null,null,null,null,null,null,{"$f":"IF(H317=\"\",\"\",SUBTOTAL(3,$H$12:H317))","v":""}]
[null,null,null,null,null,null,{"$f":"IF(H318=\"\",\"\",SUBTOTAL(3,$H$12:H318))","v":""}]
[null,null,null,null,null,null,{"$f":"IF(H319=\"\",\"\",SUBTOTAL(3,$H$12:H319))","v":""}]
[null,null,null,null,null,null,{"$f":"IF(H320=\"\",\"\",SUBTOTAL(3,$H$12:H320))","v":""}]
[null,null,null,null,null,null,{"$f":"IF(H321=\"\",\"\",SUBTOTAL(3,$H$12:H321))","v":""}]
[null,null,null,null,null,null,{"$f":"IF(H322=\"\",\"\",SUBTOTAL(3,$H$12:H322))","v":""}]
[null,null,null,null,null,null,{"$f":"IF(H323=\"\",\"\",SUBTOTAL(3,$H$12:H323))","v":""}]
[null,null,null,null,null,null,{"$f":"IF(H324=\"\",\"\",SUBTOTAL(3,$H$12:H324))","v":""}]
[null,null,null,null,null,null,{"$f":"IF(H325=\"\",\"\",SUBTOTAL(3,$H$12:H325))","v":""}]
[null,null,null,null,null,null,{"$f":"IF(H326=\"\",\"\",SUBTOTAL(3,$H$12:H326))","v":""}]
[null,null,null,null,null,null,{"$f":"IF(H327=\"\",\"\",SUBTOTAL(3,$H$12:H327))","v":""}]
[null,null,null,null,null,null,{"$f":"IF(H328=\"\",\"\",SUBTOTAL(3,$H$12:H328))","v":""}]
[null,null,null,null,null,null,{"$f":"IF(H329=\"\",\"\",SUBTOTAL(3,$H$12:H329))","v":""}]
[null,null,null,null,null,null,{"$f":"IF(H330=\"\",\"\",SUBTOTAL(3,$H$12:H330))","v":""}]
[null,null,null,null,null,null,{"$f":"IF(H331=\"\",\"\",SUBTOTAL(3,$H$12:H331))","v":""}]
[null,null,null,null,null,null,{"$f":"IF(H332=\"\",\"\",SUBTOTAL(3,$H$12:H332))","v":""}]
[null,null,null,null,null,null,{"$f":"IF(H333=\"\",\"\",SUBTOTAL(3,$H$12:H333))","v":""}]
[null,null,null,null,null,null,{"$f":"IF(H334=\"\",\"\",SUBTOTAL(3,$H$12:H334))","v":""}]
[null,null,null,null,null,null,{"$f":"IF(H335=\"\",\"\",SUBTOTAL(3,$H$12:H335))","v":""}]
[null,null,null,null,null,null,{"$f":"IF(H336=\"\",\"\",SUBTOTAL(3,$H$12:H336))","v":""}]
[null,null,null,null,null,null,{"$f":"IF(H337=\"\",\"\",SUBTOTAL(3,$H$12:H337))","v":""}]
[null,null,null,null,null,null,{"$f":"IF(H338=\"\",\"\",SUBTOTAL(3,$H$12:H338))","v":""}]
[null,null,null,null,null,null,{"$f":"IF(H339=\"\",\"\",SUBTOTAL(3,$H$12:H339))","v":""}]
[null,null,null,null,null,null,{"$f":"IF(H340=\"\",\"\",SUBTOTAL(3,$H$12:H340))","v":""}]
[null,null,null,null,null,null,{"$f":"IF(H341=\"\",\"\",SUBTOTAL(3,$H$12:H341))","v":""}]
[null,null,null,null,null,null,{"$f":"IF(H342=\"\",\"\",SUBTOTAL(3,$H$12:H342))","v":""}]
[null,null,null,null,null,null,{"$f":"IF(H343=\"\",\"\",SUBTOTAL(3,$H$12:H343))","v":""}]
[null,null,null,null,null,null,{"$f":"IF(H344=\"\",\"\",SUBTOTAL(3,$H$12:H344))","v":""}]
[null,null,null,null,null,null,{"$f":"IF(H345=\"\",\"\",SUBTOTAL(3,$H$12:H345))","v":""}]
[null,null,null,null,null,null,{"$f":"IF(H346=\"\",\"\",SUBTOTAL(3,$H$12:H346))","v":""}]
[null,null,null,null,null,null,{"$f":"IF(H347=\"\",\"\",SUBTOTAL(3,$H$12:H347))","v":""}]
[null,null,null,null,null,null,{"$f":"IF(H348=\"\",\"\",SUBTOTAL(3,$H$12:H348))","v":""}]
[null,null,null,null,null,null,{"$f":"IF(H349=\"\",\"\",SUBTOTAL(3,$H$12:H349))","v":""}]
[null,null,null,null,null,null,{"$f":"IF(H350=\"\",\"\",SUBTOTAL(3,$H$12:H350))","v":""}]
[null,null,null,null,null,null,{"$f":"IF(H351=\"\",\"\",SUBTOTAL(3,$H$12:H351))","v":""}]
[null,null,null,null,null,null,{"$f":"IF(H352=\"\",\"\",SUBTOTAL(3,$H$12:H352))","v":""}]
[null,null,null,null,null,null,{"$f":"IF(H353=\"\",\"\",SUBTOTAL(3,$H$12:H353))","v":""}]
[null,null,null,null,null,null,{"$f":"IF(H354=\"\",\"\",SUBTOTAL(3,$H$12:H354))","v":""}]
[null,null,null,null,null,null,{"$f":"IF(H355=\"\",\"\",SUBTOTAL(3,$H$12:H355))","v":""}]
[null,null,null,null,null,null,{"$f":"IF(H356=\"\",\"\",SUBTOTAL(3,$H$12:H356))","v":""}]
[null,null,null,null,null,null,{"$f":"IF(H357=\"\",\"\",SUBTOTAL(3,$H$12:H357))","v":""}]
[null,null,null,null,null,null,{"$f":"IF(H358=\"\",\"\",SUBTOTAL(3,$H$12:H358))","v":""}]
[null,null,null,null,null,null,{"$f":"IF(H359=\"\",\"\",SUBTOTAL(3,$H$12:H359))","v":""}]
[null,null,null,null,null,null,{"$f":"IF(H360=\"\",\"\",SUBTOTAL(3,$H$12:H360))","v":""}]
[null,null,null,null,null,null,{"$f":"IF(H361=\"\",\"\",SUBTOTAL(3,$H$12:H361))","v":""}]
[null,null,null,null,null,null,{"$f":"IF(H362=\"\",\"\",SUBTOTAL(3,$H$12:H362))","v":""}]
[null,null,null,null,null,null,{"$f":"IF(H363=\"\",\"\",SUBTOTAL(3,$H$12:H363))","v":""}]
[null,null,null,null,null,null,{"$f":"IF(H364=\"\",\"\",SUBTOTAL(3,$H$12:H364))","v":""}]
[null,null,null,null,null,null,{"$f":"IF(H365=\"\",\"\",SUBTOTAL(3,$H$12:H365))","v":""}]
[null,null,null,null,null,null,{"$f":"IF(H366=\"\",\"\",SUBTOTAL(3,$H$12:H366))","v":""}]
[null,null,null,null,null,null,{"$f":"IF(H367=\"\",\"\",SUBTOTAL(3,$H$12:H367))","v":""}]
[null,null,null,null,null,null,{"$f":"IF(H368=\"\",\"\",SUBTOTAL(3,$H$12:H368))","v":""}]
[null,null,null,null,null,null,{"$f":"IF(H369=\"\",\"\",SUBTOTAL(3,$H$12:H369))","v":""}]
[null,null,null,null,null,null,{"$f":"IF(H370=\"\",\"\",SUBTOTAL(3,$H$12:H370))","v":""}]
[null,null,null,null,null,null,{"$f":"IF(H371=\"\",\"\",SUBTOTAL(3,$H$12:H371))","v":""}]
[null,null,null,null,null,null,{"$f":"IF(H372=\"\",\"\",SUBTOTAL(3,$H$12:H372))","v":""}]
[null,null,null,null,null,null,{"$f":"IF(H373=\"\",\"\",SUBTOTAL(3,$H$12:H373))","v":""}]
[null,null,null,null,null,null,{"$f":"IF(H374=\"\",\"\",SUBTOTAL(3,$H$12:H374))","v":""}]
[null,null,null,null,null,null,{"$f":"IF(H375=\"\",\"\",SUBTOTAL(3,$H$12:H375))","v":""}]
[null,null,null,null,null,null,{"$f":"IF(H376=\"\",\"\",SUBTOTAL(3,$H$12:H376))","v":""}]
[null,null,null,null,null,null,{"$f":"IF(H377=\"\",\"\",SUBTOTAL(3,$H$12:H377))","v":""}]
[null,null,null,null,null,null,{"$f":"IF(H378=\"\",\"\",SUBTOTAL(3,$H$12:H378))","v":""}]
[null,null,null,null,null,null,{"$f":"IF(H379=\"\",\"\",SUBTOTAL(3,$H$12:H379))","v":""}]
[null,null,null,null,null,null,{"$f":"IF(H380=\"\",\"\",SUBTOTAL(3,$H$12:H380))","v":""}]
[null,null,null,null,null,null,{"$f":"IF(H381=\"\",\"\",SUBTOTAL(3,$H$12:H381))","v":""}]
[null,null,null,null,null,null,{"$f":"IF(H382=\"\",\"\",SUBTOTAL(3,$H$12:H382))","v":""}]
[null,null,null,null,null,null,{"$f":"IF(H383=\"\",\"\",SUBTOTAL(3,$H$12:H383))","v":""}]
[null,null,null,null,null,null,{"$f":"IF(H384=\"\",\"\",SUBTOTAL(3,$H$12:H384))","v":""}]
[null,null,null,null,null,null,{"$f":"IF(H385=\"\",\"\",SUBTOTAL(3,$H$12:H385))","v":""}]
[null,null,null,null,null,null,{"$f":"IF(H386=\"\",\"\",SUBTOTAL(3,$H$12:H386))","v":""}]
[null,null,null,null,null,null,{"$f":"IF(H387=\"\",\"\",SUBTOTAL(3,$H$12:H387))","v":""}]
[null,null,null,null,null,null,{"$f":"IF(H388=\"\",\"\",SUBTOTAL(3,$H$12:H388))","v":""}]
[null,null,null,null,null,null,{"$f":"IF(H389=\"\",\"\",SUBTOTAL(3,$H$12:H389))","v":""}]
[null,null,null,null,null,null,{"$f":"IF(H390=\"\",\"\",SUBTOTAL(3,$H$12:H390))","v":""}]
[null,null,null,null,null,null,{"$f":"IF(H391=\"\",\"\",SUBTOTAL(3,$H$12:H391))","v":""}]
[null,null,null,null,null,null,{"$f":"IF(H392=\"\",\"\",SUBTOTAL(3,$H$12:H392))","v":""}]
[null,null,null,null,null,null,{"$f":"IF(H393=\"\",\"\",SUBTOTAL(3,$H$12:H393))","v":""}]
[null,null,null,null,null,null,{"$f":"IF(H394=\"\",\"\",SUBTOTAL(3,$H$12:H394))","v":""}]
[null,null,null,null,null,null,{"$f":"IF(H395=\"\",\"\",SUBTOTAL(3,$H$12:H395))","v":""}]
[null,null,null,null,null,null,{"$f":"IF(H396=\"\",\"\",SUBTOTAL(3,$H$12:H396))","v":""}]
[null,null,null,null,null,null,{"$f":"IF(H397=\"\",\"\",SUBTOTAL(3,$H$12:H397))","v":""}]
[null,null,null,null,null,null,{"$f":"IF(H398=\"\",\"\",SUBTOTAL(3,$H$12:H398))","v":""}]
[null,null,null,null,null,null,{"$f":"IF(H399=\"\",\"\",SUBTOTAL(3,$H$12:H399))","v":""}]
[null,null,null,null,null,null,{"$f":"IF(H400=\"\",\"\",SUBTOTAL(3,$H$12:H400))","v":""}]
[null,null,null,null,null,null,{"$f":"IF(H401=\"\",\"\",SUBTOTAL(3,$H$12:H401))","v":""}]
[null,null,null,null,null,null,{"$f":"IF(H402=\"\",\"\",SUBTOTAL(3,$H$12:H402))","v":""}]
[null,null,null,null,null,null,{"$f":"IF(H403=\"\",\"\",SUBTOTAL(3,$H$12:H403))","v":""}]
[null,null,null,null,null,null,{"$f":"IF(H404=\"\",\"\",SUBTOTAL(3,$H$12:H404))","v":""}]
[null,null,null,null,null,null,{"$f":"IF(H405=\"\",\"\",SUBTOTAL(3,$H$12:H405))","v":""}]
[null,null,null,null,null,null,{"$f":"IF(H406=\"\",\"\",SUBTOTAL(3,$H$12:H406))","v":""}]
[null,null,null,null,null,null,{"$f":"IF(H407=\"\",\"\",SUBTOTAL(3,$H$12:H407))","v":""}]
[null,null,null,null,null,null,{"$f":"IF(H408=\"\",\"\",SUBTOTAL(3,$H$12:H408))","v":""}]
[null,null,null,null,null,null,{"$f":"IF(H409=\"\",\"\",SUBTOTAL(3,$H$12:H409))","v":""}]
[null,null,null,null,null,null,{"$f":"IF(H410=\"\",\"\",SUBTOTAL(3,$H$12:H410))","v":""}]
[null,null,null,null,null,null,{"$f":"IF(H411=\"\",\"\",SUBTOTAL(3,$H$12:H411))","v":""}]
[null,null,null,null,null,null,{"$f":"IF(H412=\"\",\"\",SUBTOTAL(3,$H$12:H412))","v":""}]
[null,null,null,null,null,null,{"$f":"IF(H413=\"\",\"\",SUBTOTAL(3,$H$12:H413))","v":""}]
[null,null,null,null,null,null,{"$f":"IF(H414=\"\",\"\",SUBTOTAL(3,$H$12:H414))","v":""}]
[null,null,null,null,null,null,{"$f":"IF(H415=\"\",\"\",SUBTOTAL(3,$H$12:H415))","v":""}]
[null,null,null,null,null,null,{"$f":"IF(H416=\"\",\"\",SUBTOTAL(3,$H$12:H416))","v":""}]
[null,null,null,null,null,null,{"$f":"IF(H417=\"\",\"\",SUBTOTAL(3,$H$12:H417))","v":""}]
[null,null,null,null,null,null,{"$f":"IF(H418=\"\",\"\",SUBTOTAL(3,$H$12:H418))","v":""}]
[null,null,null,null,null,null,{"$f":"IF(H419=\"\",\"\",SUBTOTAL(3,$H$12:H419))","v":""}]
[null,null,null,null,null,null,{"$f":"IF(H420=\"\",\"\",SUBTOTAL(3,$H$12:H420))","v":""}]
[null,null,null,null,null,null,{"$f":"IF(H421=\"\",\"\",SUBTOTAL(3,$H$12:H421))","v":""}]
[null,null,null,null,null,null,{"$f":"IF(H422=\"\",\"\",SUBTOTAL(3,$H$12:H422))","v":""}]
[null,null,null,null,null,null,{"$f":"IF(H423=\"\",\"\",SUBTOTAL(3,$H$12:H423))","v":""}]
[null,null,null,null,null,null,{"$f":"IF(H424=\"\",\"\",SUBTOTAL(3,$H$12:H424))","v":""}]
[null,null,null,null,null,null,{"$f":"IF(H425=\"\",\"\",SUBTOTAL(3,$H$12:H425))","v":""}]
[null,null,null,null,null,null,{"$f":"IF(H426=\"\",\"\",SUBTOTAL(3,$H$12:H426))","v":""}]
[null,null,null,null,null,null,{"$f":"IF(H427=\"\",\"\",SUBTOTAL(3,$H$12:H427))","v":""}]
[null,null,null,null,null,null,{"$f":"IF(H428=\"\",\"\",SUBTOTAL(3,$H$12:H428))","v":""}]
[null,null,null,null,null,null,{"$f":"IF(H429=\"\",\"\",SUBTOTAL(3,$H$12:H429))","v":""}]
[null,null,null,null,null,null,{"$f":"IF(H430=\"\",\"\",SUBTOTAL(3,$H$12:H430))","v":""}]
[null,null,null,null,null,null,{"$f":"IF(H431=\"\",\"\",SUBTOTAL(3,$H$12:H431))","v":""}]
[null,null,null,null,null,null,{"$f":"IF(H432=\"\",\"\",SUBTOTAL(3,$H$12:H432))","v":""}]
[null,null,null,null,null,null,{"$f":"IF(H433=\"\",\"\",SUBTOTAL(3,$H$12:H433))","v":""}]
[null,null,null,null,null,null,{"$f":"IF(H434=\"\",\"\",SUBTOTAL(3,$H$12:H434))","v":""}]
[null,null,null,null,null,null,{"$f":"IF(H435=\"\",\"\",SUBTOTAL(3,$H$12:H435))","v":""}]
[null,null,null,null,null,null,{"$f":"IF(H436=\"\",\"\",SUBTOTAL(3,$H$12:H436))","v":""}]
[null,null,null,null,null,null,{"$f":"IF(H437=\"\",\"\",SUBTOTAL(3,$H$12:H437))","v":""}]
[null,null,null,null,null,null,{"$f":"IF(H438=\"\",\"\",SUBTOTAL(3,$H$12:H438))","v":""}]
[null,null,null,null,null,null,{"$f":"IF(H439=\"\",\"\",SUBTOTAL(3,$H$12:H439))","v":""}]
[null,null,null,null,null,null,{"$f":"IF(H440=\"\",\"\",SUBTOTAL(3,$H$12:H440))","v":""}]
[null,null,null,null,null,null,{"$f":"IF(H441=\"\",\"\",SUBTOTAL(3,$H$12:H441))","v":""}]
[null,null,null,null,null,null,{"$f":"IF(H442=\"\",\"\",SUBTOTAL(3,$H$12:H442))","v":""}]
[null,null,null,null,null,null,{"$f":"IF(H443=\"\",\"\",SUBTOTAL(3,$H$12:H443))","v":""}]
[null,null,null,null,null,null,{"$f":"IF(H444=\"\",\"\",SUBTOTAL(3,$H$12:H444))","v":""}]
[null,null,null,null,null,null,{"$f":"IF(H445=\"\",\"\",SUBTOTAL(3,$H$12:H445))","v":""}]
[null,null,null,null,null,null,{"$f":"IF(H446=\"\",\"\",SUBTOTAL(3,$H$12:H446))","v":""}]
[null,null,null,null,null,null,{"$f":"IF(H447=\"\",\"\",SUBTOTAL(3,$H$12:H447))","v":""}]
[null,null,null,null,null,null,{"$f":"IF(H448=\"\",\"\",SUBTOTAL(3,$H$12:H448))","v":""}]
[null,null,null,null,null,null,{"$f":"IF(H449=\"\",\"\",SUBTOTAL(3,$H$12:H449))","v":""}]
[null,null,null,null,null,null,{"$f":"IF(H450=\"\",\"\",SUBTOTAL(3,$H$12:H450))","v":""}]
[null,null,null,null,null,null,{"$f":"IF(H451=\"\",\"\",SUBTOTAL(3,$H$12:H451))","v":""}]
[null,null,null,null,null,null,{"$f":"IF(H452=\"\",\"\",SUBTOTAL(3,$H$12:H452))","v":""}]
[null,null,null,null,null,null,{"$f":"IF(H453=\"\",\"\",SUBTOTAL(3,$H$12:H453))","v":""}]
[null,null,null,null,null,null,{"$f":"IF(H454=\"\",\"\",SUBTOTAL(3,$H$12:H454))","v":""}]
[null,null,null,null,null,null,{"$f":"IF(H455=\"\",\"\",SUBTOTAL(3,$H$12:H455))","v":""}]
[null,null,null,null,null,null,{"$f":"IF(H456=\"\",\"\",SUBTOTAL(3,$H$12:H456))","v":""}]
[null,null,null,null,null,null,{"$f":"IF(H457=\"\",\"\",SUBTOTAL(3,$H$12:H457))","v":""}]
[null,null,null,null,null,null,{"$f":"IF(H458=\"\",\"\",SUBTOTAL(3,$H$12:H458))","v":""}]
[null,null,null,null,null,null,{"$f":"IF(H459=\"\",\"\",SUBTOTAL(3,$H$12:H459))","v":""}]
[null,null,null,null,null,null,{"$f":"IF(H460=\"\",\"\",SUBTOTAL(3,$H$12:H460))","v":""}]
[null,null,null,null,null,null,{"$f":"IF(H461=\"\",\"\",SUBTOTAL(3,$H$12:H461))","v":""}]
[null,null,null,null,null,null,{"$f":"IF(H462=\"\",\"\",SUBTOTAL(3,$H$12:H462))","v":""}]
[null,null,null,null,null,null,{"$f":"IF(H463=\"\",\"\",SUBTOTAL(3,$H$12:H463))","v":""}]
[null,null,null,null,null,null,{"$f":"IF(H464=\"\",\"\",SUBTOTAL(3,$H$12:H464))","v":""}]
[null,null,null,null,null,null,{"$f":"IF(H465=\"\",\"\",SUBTOTAL(3,$H$12:H465))","v":""}]
[null,null,null,null,null,null,{"$f":"IF(H466=\"\",\"\",SUBTOTAL(3,$H$12:H466))","v":""}]
[null,null,null,null,null,null,{"$f":"IF(H467=\"\",\"\",SUBTOTAL(3,$H$12:H467))","v":""}]
[null,null,null,null,null,null,{"$f":"IF(H468=\"\",\"\",SUBTOTAL(3,$H$12:H468))","v":""}]
[null,null,null,null,null,null,{"$f":"IF(H469=\"\",\"\",SUBTOTAL(3,$H$12:H469))","v":""}]
[null,null,null,null,null,null,{"$f":"IF(H470=\"\",\"\",SUBTOTAL(3,$H$12:H470))","v":""}]
[null,null,null,null,null,null,{"$f":"IF(H471=\"\",\"\",SUBTOTAL(3,$H$12:H471))","v":""}]
[null,null,null,null,null,null,{"$f":"IF(H472=\"\",\"\",SUBTOTAL(3,$H$12:H472))","v":""}]
[null,null,null,null,null,null,{"$f":"IF(H473=\"\",\"\",SUBTOTAL(3,$H$12:H473))","v":""}]
[null,null,null,null,null,null,{"$f":"IF(H474=\"\",\"\",SUBTOTAL(3,$H$12:H474))","v":""}]
[null,null,null,null,null,null,{"$f":"IF(H475=\"\",\"\",SUBTOTAL(3,$H$12:H475))","v":""}]
[null,null,null,null,null,null,{"$f":"IF(H476=\"\",\"\",SUBTOTAL(3,$H$12:H476))","v":""}]
[null,null,null,null,null,null,{"$f":"IF(H477=\"\",\"\",SUBTOTAL(3,$H$12:H477))","v":""}]
[null,null,null,null,null,null,{"$f":"IF(H478=\"\",\"\",SUBTOTAL(3,$H$12:H478))","v":""}]
[null,null,null,null,null,null,{"$f":"IF(H479=\"\",\"\",SUBTOTAL(3,$H$12:H479))","v":""}]
[null,null,null,null,null,null,{"$f":"IF(H480=\"\",\"\",SUBTOTAL(3,$H$12:H480))","v":""}]
[null,null,null,null,null,null,{"$f":"IF(H481=\"\",\"\",SUBTOTAL(3,$H$12:H481))","v":""}]
[null,null,null,null,null,null,{"$f":"IF(H482=\"\",\"\",SUBTOTAL(3,$H$12:H482))","v":""}]
[null,null,null,null,null,null,{"$f":"IF(H483=\"\",\"\",SUBTOTAL(3,$H$12:H483))","v":""}]
[null,null,null,null,null,null,{"$f":"IF(H484=\"\",\"\",SUBTOTAL(3,$H$12:H484))","v":""}]
[null,null,null,null,null,null,{"$f":"IF(H485=\"\",\"\",SUBTOTAL(3,$H$12:H485))","v":""}]
[null,null,null,null,null,null,{"$f":"IF(H486=\"\",\"\",SUBTOTAL(3,$H$12:H486))","v":""}]
[null,null,null,null,null,null,{"$f":"IF(H487=\"\",\"\",SUBTOTAL(3,$H$12:H487))","v":""}]
[null,null,null,null,null,null,{"$f":"IF(H488=\"\",\"\",SUBTOTAL(3,$H$12:H488))","v":""}]
[null,null,null,null,null,null,{"$f":"IF(H489=\"\",\"\",SUBTOTAL(3,$H$12:H489))","v":""}]
[null,null,null,null,null,null,{"$f":"IF(H490=\"\",\"\",SUBTOTAL(3,$H$12:H490))","v":""}]
[null,null,null,null,null,null,{"$f":"IF(H491=\"\",\"\",SUBTOTAL(3,$H$12:H491))","v":""}]
[null,null,null,null,null,null,{"$f":"IF(H492=\"\",\"\",SUBTOTAL(3,$H$12:H492))","v":""}]
[null,null,null,null,null,null,{"$f":"IF(H493=\"\",\"\",SUBTOTAL(3,$H$12:H493))","v":""}]
[null,null,null,null,null,null,{"$f":"IF(H494=\"\",\"\",SUBTOTAL(3,$H$12:H494))","v":""}]
[null,null,null,null,null,null,{"$f":"IF(H495=\"\",\"\",SUBTOTAL(3,$H$12:H495))","v":""}]
[null,null,null,null,null,null,{"$f":"IF(H496=\"\",\"\",SUBTOTAL(3,$H$12:H496))","v":""}]
[null,null,null,null,null,null,{"$f":"IF(H497=\"\",\"\",SUBTOTAL(3,$H$12:H497))","v":""}]
[null,null,null,null,null,null,{"$f":"IF(H498=\"\",\"\",SUBTOTAL(3,$H$12:H498))","v":""}]
[null,null,null,null,null,null,{"$f":"IF(H499=\"\",\"\",SUBTOTAL(3,$H$12:H499))","v":""}]
[null,null,null,null,null,null,{"$f":"IF(H500=\"\",\"\",SUBTOTAL(3,$H$12:H500))","v":""}]
[null,null,null,null,null,null,{"$f":"IF(H501=\"\",\"\",SUBTOTAL(3,$H$12:H501))","v":""}]
[null,null,null,null,null,null,{"$f":"IF(H502=\"\",\"\",SUBTOTAL(3,$H$12:H502))","v":""}]
[null,null,null,null,null,null,{"$f":"IF(H503=\"\",\"\",SUBTOTAL(3,$H$12:H503))","v":""}]
[null,null,null,null,null,null,{"$f":"IF(H504=\"\",\"\",SUBTOTAL(3,$H$12:H504))","v":""}]
[null,null,null,null,null,null,{"$f":"IF(H505=\"\",\"\",SUBTOTAL(3,$H$12:H505))","v":""}]
[null,null,null,null,null,null,{"$f":"IF(H506=\"\",\"\",SUBTOTAL(3,$H$12:H506))","v":""}]
[null,null,null,null,null,null,{"$f":"IF(H507=\"\",\"\",SUBTOTAL(3,$H$12:H507))","v":""}]
[null,null,null,null,null,null,{"$f":"IF(H508=\"\",\"\",SUBTOTAL(3,$H$12:H508))","v":""}]
[null,null,null,null,null,null,{"$f":"IF(H509=\"\",\"\",SUBTOTAL(3,$H$12:H509))","v":""}]
[null,null,null,null,null,null,{"$f":"IF(H510=\"\",\"\",SUBTOTAL(3,$H$12:H510))","v":""}]
[null,null,null,null,null,null,{"$f":"IF(H511=\"\",\"\",SUBTOTAL(3,$H$12:H511))","v":""}]
[null,null,null,null,null,null,{"$f":"IF(H512=\"\",\"\",SUBTOTAL(3,$H$12:H512))","v":""}]
[null,null,null,null,null,null,{"$f":"IF(H513=\"\",\"\",SUBTOTAL(3,$H$12:H513))","v":""}]
[null,null,null,null,null,null,{"$f":"IF(H514=\"\",\"\",SUBTOTAL(3,$H$12:H514))","v":""}]
[null,null,null,null,null,null,{"$f":"IF(H515=\"\",\"\",SUBTOTAL(3,$H$12:H515))","v":""}]
[null,null,null,null,null,null,{"$f":"IF(H516=\"\",\"\",SUBTOTAL(3,$H$12:H516))","v":""}]
[null,null,null,null,null,null,{"$f":"IF(H517=\"\",\"\",SUBTOTAL(3,$H$12:H517))","v":""}]
[null,null,null,null,null,null,{"$f":"IF(H518=\"\",\"\",SUBTOTAL(3,$H$12:H518))","v":""}]
[null,null,null,null,null,null,{"$f":"IF(H519=\"\",\"\",SUBTOTAL(3,$H$12:H519))","v":""}]
[null,null,null,null,null,null,{"$f":"IF(H520=\"\",\"\",SUBTOTAL(3,$H$12:H520))","v":""}]
[null,null,null,null,null,null,{"$f":"IF(H521=\"\",\"\",SUBTOTAL(3,$H$12:H521))","v":""}]
[null,null,null,null,null,null,{"$f":"IF(H522=\"\",\"\",SUBTOTAL(3,$H$12:H522))","v":""}]
[null,null,null,null,null,null,{"$f":"IF(H523=\"\",\"\",SUBTOTAL(3,$H$12:H523))","v":""}]
[null,null,null,null,null,null,{"$f":"IF(H524=\"\",\"\",SUBTOTAL(3,$H$12:H524))","v":""}]
[null,null,null,null,null,null,{"$f":"IF(H525=\"\",\"\",SUBTOTAL(3,$H$12:H525))","v":""}]
[null,null,null,null,null,null,{"$f":"IF(H526=\"\",\"\",SUBTOTAL(3,$H$12:H526))","v":""}]
[null,null,null,null,null,null,{"$f":"IF(H527=\"\",\"\",SUBTOTAL(3,$H$12:H527))","v":""}]
[null,null,null,null,null,null,{"$f":"IF(H528=\"\",\"\",SUBTOTAL(3,$H$12:H528))","v":""}]
[null,null,null,null,null,null,{"$f":"IF(H529=\"\",\"\",SUBTOTAL(3,$H$12:H529))","v":""}]
[null,null,null,null,null,null,{"$f":"IF(H530=\"\",\"\",SUBTOTAL(3,$H$12:H530))","v":""}]
[null,null,null,null,null,null,{"$f":"IF(H531=\"\",\"\",SUBTOTAL(3,$H$12:H531))","v":""}]
[null,null,null,null,null,null,{"$f":"IF(H532=\"\",\"\",SUBTOTAL(3,$H$12:H532))","v":""}]
[null,null,null,null,null,null,{"$f":"IF(H533=\"\",\"\",SUBTOTAL(3,$H$12:H533))","v":""}]
[null,null,null,null,null,null,{"$f":"IF(H534=\"\",\"\",SUBTOTAL(3,$H$12:H534))","v":""}]
[null,null,null,null,null,null,{"$f":"IF(H535=\"\",\"\",SUBTOTAL(3,$H$12:H535))","v":""}]
[null,null,null,null,null,null,{"$f":"IF(H536=\"\",\"\",SUBTOTAL(3,$H$12:H536))","v":""}]
[null,null,null,null,null,null,{"$f":"IF(H537=\"\",\"\",SUBTOTAL(3,$H$12:H537))","v":""}]
[null,null,null,null,null,null,{"$f":"IF(H538=\"\",\"\",SUBTOTAL(3,$H$12:H538))","v":""}]
[null,null,null,null,null,null,{"$f":"IF(H539=\"\",\"\",SUBTOTAL(3,$H$12:H539))","v":""}]
[null,null,null,null,null,null,{"$f":"IF(H540=\"\",\"\",SUBTOTAL(3,$H$12:H540))","v":""}]
[null,null,null,null,null,null,{"$f":"IF(H541=\"\",\"\",SUBTOTAL(3,$H$12:H541))","v":""}]
[null,null,null,null,null,null,{"$f":"IF(H542=\"\",\"\",SUBTOTAL(3,$H$12:H542))","v":""}]
[null,null,null,null,null,null,{"$f":"IF(H543=\"\",\"\",SUBTOTAL(3,$H$12:H543))","v":""}]
[null,null,null,null,null,null,{"$f":"IF(H544=\"\",\"\",SUBTOTAL(3,$H$12:H544))","v":""}]
[null,null,null,null,null,null,{"$f":"IF(H545=\"\",\"\",SUBTOTAL(3,$H$12:H545))","v":""}]
[null,null,null,null,null,null,{"$f":"IF(H546=\"\",\"\",SUBTOTAL(3,$H$12:H546))","v":""}]
[null,null,null,null,null,null,{"$f":"IF(H547=\"\",\"\",SUBTOTAL(3,$H$12:H547))","v":""}]
[null,null,null,null,null,null,{"$f":"IF(H548=\"\",\"\",SUBTOTAL(3,$H$12:H548))","v":""}]
[null,null,null,null,null,null,{"$f":"IF(H549=\"\",\"\",SUBTOTAL(3,$H$12:H549))","v":""}]
[null,null,null,null,null,null,{"$f":"IF(H550=\"\",\"\",SUBTOTAL(3,$H$12:H550))","v":""}]
[null,null,null,null,null,null,{"$f":"IF(H551=\"\",\"\",SUBTOTAL(3,$H$12:H551))","v":""}]
[null,null,null,null,null,null,{"$f":"IF(H552=\"\",\"\",SUBTOTAL(3,$H$12:H552))","v":""}]
[null,null,null,null,null,null,{"$f":"IF(H553=\"\",\"\",SUBTOTAL(3,$H$12:H553))","v":""}]
[null,null,null,null,null,null,{"$f":"IF(H554=\"\",\"\",SUBTOTAL(3,$H$12:H554))","v":""}]
[null,null,null,null,null,null,{"$f":"IF(H555=\"\",\"\",SUBTOTAL(3,$H$12:H555))","v":""}]
[null,null,null,null,null,null,{"$f":"IF(H556=\"\",\"\",SUBTOTAL(3,$H$12:H556))","v":""}]
[null,null,null,null,null,null,{"$f":"IF(H557=\"\",\"\",SUBTOTAL(3,$H$12:H557))","v":""}]
[null,null,null,null,null,null,{"$f":"IF(H558=\"\",\"\",SUBTOTAL(3,$H$12:H558))","v":""}]
[null,null,null,null,null,null,{"$f":"IF(H559=\"\",\"\",SUBTOTAL(3,$H$12:H559))","v":""}]
[null,null,null,null,null,null,{"$f":"IF(H560=\"\",\"\",SUBTOTAL(3,$H$12:H560))","v":""}]
[null,null,null,null,null,null,{"$f":"IF(H561=\"\",\"\",SUBTOTAL(3,$H$12:H561))","v":""}]
[null,null,null,null,null,null,{"$f":"IF(H562=\"\",\"\",SUBTOTAL(3,$H$12:H562))","v":""}]
[null,null,null,null,null,null,{"$f":"IF(H563=\"\",\"\",SUBTOTAL(3,$H$12:H563))","v":""}]
[null,null,null,null,null,null,{"$f":"IF(H564=\"\",\"\",SUBTOTAL(3,$H$12:H564))","v":""}]
[null,null,null,null,null,null,{"$f":"IF(H565=\"\",\"\",SUBTOTAL(3,$H$12:H565))","v":""}]
[null,null,null,null,null,null,{"$f":"IF(H566=\"\",\"\",SUBTOTAL(3,$H$12:H566))","v":""}]
[null,null,null,null,null,null,{"$f":"IF(H567=\"\",\"\",SUBTOTAL(3,$H$12:H567))","v":""}]
[null,null,null,null,null,null,{"$f":"IF(H568=\"\",\"\",SUBTOTAL(3,$H$12:H568))","v":""}]
[null,null,null,null,null,null,{"$f":"IF(H569=\"\",\"\",SUBTOTAL(3,$H$12:H569))","v":""}]
[null,null,null,null,null,null,{"$f":"IF(H570=\"\",\"\",SUBTOTAL(3,$H$12:H570))","v":""}]
[null,null,null,null,null,null,{"$f":"IF(H571=\"\",\"\",SUBTOTAL(3,$H$12:H571))","v":""}]
[null,null,null,null,null,null,{"$f":"IF(H572=\"\",\"\",SUBTOTAL(3,$H$12:H572))","v":""}]
[null,null,null,null,null,null,{"$f":"IF(H573=\"\",\"\",SUBTOTAL(3,$H$12:H573))","v":""}]
[null,null,null,null,null,null,{"$f":"IF(H574=\"\",\"\",SUBTOTAL(3,$H$12:H574))","v":""}]
[null,null,null,null,null,null,{"$f":"IF(H575=\"\",\"\",SUBTOTAL(3,$H$12:H575))","v":""}]
[null,null,null,null,null,null,{"$f":"IF(H576=\"\",\"\",SUBTOTAL(3,$H$12:H576))","v":""}]
[null,null,null,null,null,null,{"$f":"IF(H577=\"\",\"\",SUBTOTAL(3,$H$12:H577))","v":""}]
[null,null,null,null,null,null,{"$f":"IF(H578=\"\",\"\",SUBTOTAL(3,$H$12:H578))","v":""}]
[null,null,null,null,null,null,{"$f":"IF(H579=\"\",\"\",SUBTOTAL(3,$H$12:H579))","v":""}]
[null,null,null,null,null,null,{"$f":"IF(H580=\"\",\"\",SUBTOTAL(3,$H$12:H580))","v":""}]
[null,null,null,null,null,null,{"$f":"IF(H581=\"\",\"\",SUBTOTAL(3,$H$12:H581))","v":""}]
[null,null,null,null,null,null,{"$f":"IF(H582=\"\",\"\",SUBTOTAL(3,$H$12:H582))","v":""}]
[null,null,null,null,null,null,{"$f":"IF(H583=\"\",\"\",SUBTOTAL(3,$H$12:H583))","v":""}]
[null,null,null,null,null,null,{"$f":"IF(H584=\"\",\"\",SUBTOTAL(3,$H$12:H584))","v":""}]
[null,null,null,null,null,null,{"$f":"IF(H585=\"\",\"\",SUBTOTAL(3,$H$12:H585))","v":""}]
[null,null,null,null,null,null,{"$f":"IF(H586=\"\",\"\",SUBTOTAL(3,$H$12:H586))","v":""}]
[null,null,null,null,null,null,{"$f":"IF(H587=\"\",\"\",SUBTOTAL(3,$H$12:H587))","v":""}]
[null,null,null,null,null,null,{"$f":"IF(H588=\"\",\"\",SUBTOTAL(3,$H$12:H588))","v":""}]
[null,null,null,null,null,null,{"$f":"IF(H589=\"\",\"\",SUBTOTAL(3,$H$12:H589))","v":""}]
[null,null,null,null,null,null,{"$f":"IF(H590=\"\",\"\",SUBTOTAL(3,$H$12:H590))","v":""}]
[null,null,null,null,null,null,{"$f":"IF(H591=\"\",\"\",SUBTOTAL(3,$H$12:H591))","v":""}]
[null,null,null,null,null,null,{"$f":"IF(H592=\"\",\"\",SUBTOTAL(3,$H$12:H592))","v":""}]
[null,null,null,null,null,null,{"$f":"IF(H593=\"\",\"\",SUBTOTAL(3,$H$12:H593))","v":""}]
[null,null,null,null,null,null,{"$f":"IF(H594=\"\",\"\",SUBTOTAL(3,$H$12:H594))","v":""}]
[null,null,null,null,null,null,{"$f":"IF(H595=\"\",\"\",SUBTOTAL(3,$H$12:H595))","v":""}]
[null,null,null,null,null,null,{"$f":"IF(H596=\"\",\"\",SUBTOTAL(3,$H$12:H596))","v":""}]
[null,null,null,null,null,null,{"$f":"IF(H597=\"\",\"\",SUBTOTAL(3,$H$12:H597))","v":""}]
[null,null,null,null,null,null,{"$f":"IF(H598=\"\",\"\",SUBTOTAL(3,$H$12:H598))","v":""}]
[null,null,null,null,null,null,{"$f":"IF(H599=\"\",\"\",SUBTOTAL(3,$H$12:H599))","v":""}]
[null,null,null,null,null,null,{"$f":"IF(H600=\"\",\"\",SUBTOTAL(3,$H$12:H600))","v":""}]
[null,null,null,null,null,null,{"$f":"IF(H601=\"\",\"\",SUBTOTAL(3,$H$12:H601))","v":""}]
[null,null,null,null,null,null,{"$f":"IF(H602=\"\",\"\",SUBTOTAL(3,$H$12:H602))","v":""}]
[null,null,null,null,null,null,{"$f":"IF(H603=\"\",\"\",SUBTOTAL(3,$H$12:H603))","v":""}]
[null,null,null,null,null,null,{"$f":"IF(H604=\"\",\"\",SUBTOTAL(3,$H$12:H604))","v":""}]
[null,null,null,null,null,null,{"$f":"IF(H605=\"\",\"\",SUBTOTAL(3,$H$12:H605))","v":""}]
[null,null,null,null,null,null,{"$f":"IF(H606=\"\",\"\",SUBTOTAL(3,$H$12:H606))","v":""}]
[null,null,null,null,null,null,{"$f":"IF(H607=\"\",\"\",SUBTOTAL(3,$H$12:H607))","v":""}]
[null,null,null,null,null,null,{"$f":"IF(H608=\"\",\"\",SUBTOTAL(3,$H$12:H608))","v":""}]
[null,null,null,null,null,null,{"$f":"IF(H609=\"\",\"\",SUBTOTAL(3,$H$12:H609))","v":""}]
[null,null,null,null,null,null,{"$f":"IF(H610=\"\",\"\",SUBTOTAL(3,$H$12:H610))","v":""}]
[null,null,null,null,null,null,{"$f":"IF(H611=\"\",\"\",SUBTOTAL(3,$H$12:H611))","v":""}]
[null,null,null,null,null,null,{"$f":"IF(H612=\"\",\"\",SUBTOTAL(3,$H$12:H612))","v":""}]
[null,null,null,null,null,null,{"$f":"IF(H613=\"\",\"\",SUBTOTAL(3,$H$12:H613))","v":""}]
[null,null,null,null,null,null,{"$f":"IF(H614=\"\",\"\",SUBTOTAL(3,$H$12:H614))","v":""}]
[null,null,null,null,null,null,{"$f":"IF(H615=\"\",\"\",SUBTOTAL(3,$H$12:H615))","v":""}]
[null,null,null,null,null,null,{"$f":"IF(H616=\"\",\"\",SUBTOTAL(3,$H$12:H616))","v":""}]
[null,null,null,null,null,null,{"$f":"IF(H617=\"\",\"\",SUBTOTAL(3,$H$12:H617))","v":""}]
[null,null,null,null,null,null,{"$f":"IF(H618=\"\",\"\",SUBTOTAL(3,$H$12:H618))","v":""}]
[null,null,null,null,null,null,{"$f":"IF(H619=\"\",\"\",SUBTOTAL(3,$H$12:H619))","v":""}]
[null,null,null,null,null,null,{"$f":"IF(H620=\"\",\"\",SUBTOTAL(3,$H$12:H620))","v":""}]
[null,null,null,null,null,null,{"$f":"IF(H621=\"\",\"\",SUBTOTAL(3,$H$12:H621))","v":""}]
[null,null,null,null,null,null,{"$f":"IF(H622=\"\",\"\",SUBTOTAL(3,$H$12:H622))","v":""}]
[null,null,null,null,null,null,{"$f":"IF(H623=\"\",\"\",SUBTOTAL(3,$H$12:H623))","v":""}]
[null,null,null,null,null,null,{"$f":"IF(H624=\"\",\"\",SUBTOTAL(3,$H$12:H624))","v":""}]
[null,null,null,null,null,null,{"$f":"IF(H625=\"\",\"\",SUBTOTAL(3,$H$12:H625))","v":""}]
[null,null,null,null,null,null,{"$f":"IF(H626=\"\",\"\",SUBTOTAL(3,$H$12:H626))","v":""}]
[null,null,null,null,null,null,{"$f":"IF(H627=\"\",\"\",SUBTOTAL(3,$H$12:H627))","v":""}]
[null,null,null,null,null,null,{"$f":"IF(H628=\"\",\"\",SUBTOTAL(3,$H$12:H628))","v":""}]

{"sheet":"شهادات الأوائل","index":1,"n_rows":39,"n_cols":28,"rows_kept":39,"cut":false,"hidden":true,"merged":[[1,15,2,17],[18,9,19,9],[30,4,30,5],[2,4,2,5],[10,2,10,4],[3,1,3,3],[9,14,10,14],[31,9,32,9],[25,2,25,4],[38,2,38,4],[17,4,17,5],[18,1,18,3],[31,1,31,3]]}
[]
["إدارة قويسنا التعليمية",null,null,null,null,null,null,null,null,null,null,null,null,null,null,"الــرابـــــــــــــع"]
["  مدرسة /  منشاة دملو الإبتدائية0",null,null,null,"رقم الجلوس",null,{"$f":"LOOKUP(F4,AB7:AB23,'شيت الرابع'!#REF!)","v":{"$error":"#REF!"}},null,null,null,{"$f":"IF(L5>=90%,\"بارك الله لك\",\"\")","v":{"$error":"#REF!"}}]
["الاســـم/ ",{"$f":"LOOKUP(F4,AB7:AB22,'شيت الرابع'!#REF!)","v":{"$error":"#REF!"}},null,null,null,1,null,null,null,{"$f":"LOOKUP(F4,AB7:AB23,'شيت الرابع'!#REF!)","v":{"$error":"#REF!"}},"الترتيب","النسبة "]
["الصف الرابع",null,null,"نتيجة امتحان اخرالعام 2013/2012",null,null,null,null,null,null,{"$f":"LOOKUP(F4,AB7:AB23,'شيت الرابع'!#REF!)","v":{"$error":"#REF!"}},{"$f":"K9/K7","v":{"$error":"#REF!"}}]
["النهاية","عربي","حساب","انجليزي","علوم ","دراسات","فنى","رياضى","نشاط1","نشاط2","المجموع","دين"]
["الكبرى",100,80,40,40,40,20,20,20,20,380,40,null,null,null,null,"الرئيسية",null,null,null,null,null,null,null,null,null,null,1]
["الصغرى",50,40,20,20,20,10,10,10,10,190,20,null,null,null,null,null,null,null,null,null,null,null,null,null,null,null,2]
["الدرجة",{"$f":"LOOKUP(F4,AB7:AB23,'شيت الرابع'!#REF!)","v":{"$error":"#REF!"}},{"$f":"LOOKUP(F4,AB7:AB23,'شيت الرابع'!#REF!)","v":{"$error":"#REF!"}},{"$f":"LOOKUP(F4,AB7:AB23,'شيت الرابع'!#REF!)","v":{"$error":"#REF!"}},{"$f":"LOOKUP(F4,AB7:AB23,'شيت الرابع'!#REF!)","v":{"$error":"#REF!"}},{"$f":"LOOKUP(F4,AB7:AB23,'شيت الرابع'!#REF!)","v":{"$error":"#REF!"}},{"$f":"LOOKUP(F4,AB7:AB23,'شيت الرابع'!#REF!)","v":{"$error":"#REF!"}},{"$f":"LOOKUP(F4,AB7:AB23,'شيت الرابع'!#REF!)","v":{"$error":"#REF!"}},{"$f":"LOOKUP(F4,AB7:AB23,'شيت الرابع'!#REF!)","v":{"$error":"#REF!"}},{"$f":"LOOKUP(F4,AB7:AB23,'شيت الرابع'!#REF!)","v":{"$error":"#REF!"}},{"$f":"LOOKUP(F4,AB7:AB23,'شيت الرابع'!#REF!)","v":{"$error":"#REF!"}},{"$f":"LOOKUP(F4,AB7:AB23,'شيت الرابع'!#REF!)","v":{"$error":"#REF!"}},null,null,null,null,null,null,null,null,null,null,null,null,null,null,null,3]
["ش / ط ",null,null,"وكيل المدرسة",null,null,null,null,null,null,"مديرة المدرسة",null,null,null,"الإســـــــــــم",null,null,null,null,null,null,null,null,null,null,null,null,4]
["عايده",null,null,null,null,null,null,null,null,null,null,null,null,null,null,null,null,null,null,null,null,null,null,null,null,null,null,5]
[null,null,null,null,null,null,null,null,null,null,null,null,null,null,null,null,null,null,null,null,null,null,null,null,null,null,null,6]
[null,null,null,null,null,null,null,null,null,null,null,null,null,null,null,null,null,null,null,null,null,null,null,null,null,null,null,7]
[null,null,null,null,null,null,null,null,null,null,null,null,null,null,null,null,null,null,null,null,null,null,null,null,null,null,null,8]
[null,null,null,null,null,null,null,null,null,null,null,null,null,null,null,null,null,null,null,null,null,null,null,null,null,null,null,9]
[null,null,null,null,null,null,null,null,null,null,null,null,null,null,"رقم الجلوس",null,null,null,null,null,null,null,null,null,null,null,null,10]
["إدارة قويسنا التعليمية",null,null,null,null,{"$f":"F4+1","v":2},null,null,null,null,null,null,null,null,null,null,null,null,null,null,null,null,null,null,null,null,null,11]
["  مدرسة /  منشاة دملو الإبتدائية0",null,null,null,"رقم الجلوس",null,{"$f":"LOOKUP(F17,AB7:AB23,'شيت الرابع'!#REF!)","v":{"$error":"#REF!"}},null,null,null,{"$f":"IF(L20>=90%,\"بارك الله لك\",\"\")","v":{"$error":"#REF!"}},null,null,null,null,null,null,null,null,null,null,null,null,null,null,null,null,12]
["الاســـم/ ",{"$f":"LOOKUP(F17,AB7:AB22,'شيت الرابع'!#REF!)","v":{"$error":"#REF!"}},null,null,null,null,null,null,null,{"$f":"LOOKUP(F17,AB7:AB23,'شيت الرابع'!#REF!)","v":{"$error":"#REF!"}},"الترتيب","النسبة المئوية",null,null,null,null,null,null,null,null,null,null,null,null,null,null,null,13]
["الصف الرابع",null,null,"نتيجة امتحان اخرالعام 2013/2012",null,null,null,null,null,null,{"$f":"LOOKUP(F17,AB7:AB23,'شيت الرابع'!#REF!)","v":{"$error":"#REF!"}},{"$f":"K24/K22","v":{"$error":"#REF!"}},null,null,null,null,null,null,null,null,null,null,null,null,null,null,null,14]
["النهاية","عربي","حساب","انجليزي","علوم ","دراسات","فنى","رياضى","نشاط1","نشاط2","المجموع","دين",null,null,null,null,null,null,null,null,null,null,null,null,null,null,null,15]
["الكبرى",100,80,40,40,40,20,20,20,20,380,40,null,null,null,null,null,null,null,null,null,null,null,null,null,null,null,16]
["الصغرى",50,40,20,20,20,10,10,10,10,190,20,null,null,null,null,null,null,null,null,null,null,null,null,null,null,null,17]
["الدرجة",{"$f":"LOOKUP(F17,AB7:AB23,'شيت الرابع'!#REF!)","v":{"$error":"#REF!"}},{"$f":"LOOKUP(F17,AB7:AB23,'شيت الرابع'!#REF!)","v":{"$error":"#REF!"}},{"$f":"LOOKUP(F17,AB7:AB23,'شيت الرابع'!#REF!)","v":{"$error":"#REF!"}},{"$f":"LOOKUP(F17,AB7:AB23,'شيت الرابع'!#REF!)","v":{"$error":"#REF!"}},{"$f":"LOOKUP(F17,AB7:AB23,'شيت الرابع'!#REF!)","v":{"$error":"#REF!"}},{"$f":"LOOKUP(F17,AB7:AB23,'شيت الرابع'!#REF!)","v":{"$error":"#REF!"}},{"$f":"LOOKUP(F17,AB7:AB23,'شيت الرابع'!#REF!)","v":{"$error":"#REF!"}},{"$f":"LOOKUP(F17,AB7:AB23,'شيت الرابع'!#REF!)","v":{"$error":"#REF!"}},{"$f":"LOOKUP(F17,AB7:AB23,'شيت الرابع'!#REF!)","v":{"$error":"#REF!"}},{"$f":"LOOKUP(F17,AB7:AB23,'شيت الرابع'!#REF!)","v":{"$error":"#REF!"}},{"$f":"LOOKUP(F17,AB7:AB23,'شيت الرابع'!#REF!)","v":{"$error":"#REF!"}}]
["ش / ط ",null,null,"وكيل المدرسة",null,null,null,null,null,null,"مديرة المدرسة"]
["عايده"]
[]
[]
[]
["إدارة قويسنا التعليمية",null,null,null,null,{"$f":"F17+1","v":3}]
["  مدرسة /  منشاة دملو الإبتدائية0",null,null,null,"رقم الجلوس",null,{"$f":"LOOKUP(F30,AB7:AB23,'شيت الرابع'!#REF!)","v":{"$error":"#REF!"}},null,null,null,{"$f":"IF(L33>=90%,\"بارك الله لك\",\"\")","v":{"$error":"#REF!"}}]
["الاســـم/ ",{"$f":"LOOKUP(F30,AB7:AB22,'شيت الرابع'!#REF!)","v":{"$error":"#REF!"}},null,null,null,null,null,null,null,{"$f":"LOOKUP(F30,AB7:AB23,'شيت الرابع'!#REF!)","v":{"$error":"#REF!"}},"الترتيب","النسبة المئوية"]
["الصف الرابع",null,null,"نتيجة امتحان اخرالعام 2013/2012",null,null,null,null,null,null,{"$f":"LOOKUP(F30,AB7:AB23,'شيت الرابع'!#REF!)","v":{"$error":"#REF!"}},{"$f":"K37/K35","v":{"$error":"#REF!"}}]
["النهاية","عربي","حساب","انجليزي","علوم ","دراسات","فنى","رياضى","نشاط1","نشاط2","المجموع","دين"]
["الكبرى",100,80,40,40,40,20,20,20,20,380,40]
["الصغرى",50,40,20,20,20,10,10,10,10,190,20]
["الدرجة",{"$f":"LOOKUP(F30,AB7:AB23,'شيت الرابع'!#REF!)","v":{"$error":"#REF!"}},{"$f":"LOOKUP(F30,AB7:AB23,'شيت الرابع'!#REF!)","v":{"$error":"#REF!"}},{"$f":"LOOKUP(F30,AB7:AB23,'شيت الرابع'!#REF!)","v":{"$error":"#REF!"}},{"$f":"LOOKUP(F30,AB7:AB23,'شيت الرابع'!#REF!)","v":{"$error":"#REF!"}},{"$f":"LOOKUP(F30,AB7:AB23,'شيت الرابع'!#REF!)","v":{"$error":"#REF!"}},{"$f":"LOOKUP(F30,AB7:AB23,'شيت الرابع'!#REF!)","v":{"$error":"#REF!"}},{"$f":"LOOKUP(F30,AB7:AB23,'شيت الرابع'!#REF!)","v":{"$error":"#REF!"}},{"$f":"LOOKUP(F30,AB7:AB23,'شيت الرابع'!#REF!)","v":{"$error":"#REF!"}},{"$f":"LOOKUP(F30,AB7:AB23,'شيت الرابع'!#REF!)","v":{"$error":"#REF!"}},{"$f":"LOOKUP(F30,AB7:AB23,'شيت الرابع'!#REF!)","v":{"$error":"#REF!"}},{"$f":"LOOKUP(F30,AB7:AB23,'شيت الرابع'!#REF!)","v":{"$error":"#REF!"}}]
["ش / ط ",null,null,"وكيل المدرسة",null,null,null,null,null,null,"مديرة المدرسة"]
["عايده"]