{"text_format":"1","workbook":"xlsx","n_sheets":2,"sheets":["اقساط","اسماء العملاء"],"not_rendered":{"charts":0,"images":1,"macros":0,"external_links":0,"defined_names":3,"comments":0,"pivot_tables":0},"unopened":[],"bounds":{"document_bytes":16777216,"sheet_cells":100000,"rows_first":2000,"rows_last":500,"rows_between":2000,"halvings":0,"cell_chars":16384,"cell_head_chars":4096},"cells_cut":0,"cells_raw":0,"read":"whole","date_system":"1900"}

{"sheet":"اقساط","index":0,"n_rows":8532,"n_cols":47,"rows_kept":1125,"cut":true,"hidden":false,"merged":[],"bounds":{"rows_first":500,"rows_last":125,"rows_between":500,"halvings":2}}
["رمز المادة","اسم المادة","سعر المادة","العدد","المبلغ","تاريخ الشراء","اسم العميل",{"$f":"SUM(H3:H749)","v":23216500},"المبلغ المتبقي بذمة العميل","الدفعة الأولى","تاريخه","الدفعة الثانية","تاريخه","الدفعة الثالثة","تاريخه","الدفعة الرابعة","تاريخه","الدفعة الخامسة","تاريخه","الدفعة السادسة","تاريخه","الدفعة السابعة","تاريخه","الدفعة الثامنة","تاريخه","الدفعة التاسعة","تاريخه","الدفعة العاشرة","تاريخه","الدفعة احد عشر","تاريخه","الدفعة الأخيرة","تاريخه","عنوان الكفيل","اسم الكفيل","الدائرة","رقم الموبايل","الملاحظات","رقم الموبايل","عنوان العميل","الدائرة","الملاحظات","الحالة",{"$f":"SUM(AR3:AR1109)","v":17890000},"المبلغ المتبقي","رقم الفاتورة","ت"]
["رمز المادة","اسم المادة","سعر المادة","العدد","المبلغ","تاريخ الشراء","اسم العميل","مجموع المشتريات","المبلغ المتبقي بذمة العميل","الدفعة الأولى","تاريخه","الدفعة الثانية","تاريخه","الدفعة الثالثة","تاريخه","الدفعة الرابعة","تاريخه","الدفعة الخامسة","تاريخه","الدفعة السادسة","تاريخه","الدفعة السابعة","تاريخه","الدفعة الثامنة","تاريخه","الدفعة التاسعة","تاريخه","الدفعة العاشرة","تاريخه","الدفعة احد عشر","تاريخه","الدفعة الأخيرة","تاريخه","عنوان الكفيل","اسم الكفيل","الدائرة","رقم الموبايل","الملاحظات","رقم الموبايل","عنوان العميل","الدائرة","الملاحظات","الحالة","مجموع المبالغ المستلمة","المبلغ المتبقي","رقم الفاتورة","ت"]
[181,"شاشة عرض دنكا 55",850000,1,850000,"2017-09-24","أبو ايمن دائره مجاري",1225000,1225000,null,{"$f":"F3","v":"2017-09-24"},null,{"$f":"K3+30","v":"2017-10-24"},null,{"$f":"M3+30","v":"2017-11-23"},null,{"$f":"O3+30","v":"2017-12-23"},null,{"$f":"Q3+30","v":"2018-01-22"},null,{"$f":"S3+30","v":"2018-02-21"},null,{"$f":"U3+30","v":"2018-03-23"},null,{"$f":"W3+30","v":"2018-04-22"},null,{"$f":"Y3+30","v":"2018-05-22"},null,{"$f":"AA3+30","v":"2018-06-21"},null,{"$f":"AC3+30","v":"2018-07-21"},null,{"$f":"AE3+30","v":"2018-08-20"},null,null,null,null,null,null,null,null,null,null,{"$f":"SUM(J3+L3+N3+P3+R3+T3+V3+X3+Z3+AB3+AD3+AF3)","v":0},{"$f":"H3-AR3","v":1225000},{"$f":"AU3","v":1},1]
[22,"مجمدة ميديا 12 قدم",325000,1,325000,"2017-09-24","أبو ايمن دائره مجاري",null,null,null,{"$f":"F4","v":"2017-09-24"},null,{"$f":"K4+30","v":"2017-10-24"},null,{"$f":"M4+30","v":"2017-11-23"},null,{"$f":"O4+30","v":"2017-12-23"},null,{"$f":"Q4+30","v":"2018-01-22"},null,{"$f":"S4+30","v":"2018-02-21"},null,{"$f":"U4+30","v":"2018-03-23"},null,{"$f":"W4+30","v":"2018-04-22"},null,{"$f":"Y4+30","v":"2018-05-22"},null,{"$f":"AA4+30","v":"2018-06-21"},null,{"$f":"AC4+30","v":"2018-07-21"},null,{"$f":"AE4+30","v":"2018-08-20"},null,null,null,null,null,null,null,null,null,null,{"$f":"SUM(J4+L4+N4+P4+R4+T4+V4+X4+Z4+AB4+AD4+AF4)","v":0},{"$f":"H4-AR4","v":0},1,2]
[107,"ستلايت سترونك 7777 عدسه كامه",25000,1,25000,"2017-09-24","أبو ايمن دائره مجاري",null,null,null,"2017-09-24",null,"2017-10-24",null,"2017-11-23",null,"2017-12-23",null,"2018-01-22",null,"2018-02-21",null,"2018-03-23",null,"2018-04-22",null,"2018-05-22",null,"2018-06-21",null,"2018-07-21",null,"2018-08-20",null,null,null,null,null,null,null,null,null,null,0,0,1,3]
[165,"حمالة شاشة 6047 ذراع",25000,1,25000,"2017-09-24","أبو ايمن دائره مجاري",null,null,null,"2017-09-24",null,"2017-10-24",null,"2017-11-23",null,"2017-12-23",null,"2018-01-22",null,"2018-02-21",null,"2018-03-23",null,"2018-04-22",null,"2018-05-22",null,"2018-06-21",null,"2018-07-21",null,"2018-08-20",null,null,null,null,null,null,null,null,null,null,0,0,1,4]
[279,"مكيف LG",400000,1,400000,"2017-09-05","أبو ثائر حصيبه",400000,175000,125000,"2017-09-05",100000,"2017-10-05",175000,"2017-11-04",null,"2017-12-04",null,"2018-01-03",null,"2018-02-02",null,"2018-03-04",null,"2018-04-03",null,"2018-05-03",null,"2018-06-02",null,"2018-07-02",null,"2018-08-01",null,null,null,null,null,null,null,null,null,null,400000,0,2,5]
[214,"عارضة سما عامودي 350",540000,1,540000,"2017-08-08","أبو رداد",5405000,3865000,500000,"2017-08-08",1040000,"2017-09-07",1500000,"2017-10-07",2000000,"2017-11-06",365000,"2017-12-06",null,"2018-01-05",null,"2018-02-04",null,"2018-03-06",null,"2018-04-05",null,"2018-05-05",null,"2018-06-04",null,"2018-07-04",null,null,null,null,null,null,null,null,null,null,5405000,0,3,6]
[177,"عارضة سنفير 22 قدم",625000,2,1250000,"2017-08-08","أبو رداد",null,null,null,"2017-08-08",null,"2017-09-07",null,"2017-10-07",null,"2017-11-06",null,"2017-12-06",null,"2018-01-05",null,"2018-02-04",null,"2018-03-06",null,"2018-04-05",null,"2018-05-05",null,"2018-06-04",null,"2018-07-04",null,null,null,null,null,null,null,null,null,null,0,0,3,7]
[211,"عارضة سما افقي 335",450000,1,450000,"2017-08-08","أبو رداد",null,null,null,"2017-08-08",null,"2017-09-07",null,"2017-10-07",null,"2017-11-06",null,"2017-12-06",null,"2018-01-05",null,"2018-02-04",null,"2018-03-06",null,"2018-04-05",null,"2018-05-05",null,"2018-06-04",null,"2018-07-04",null,null,null,null,null,null,null,null,null,null,0,0,3,8]
[212,"عارضة سما افقي 456",600000,1,600000,"2017-08-08","أبو رداد",null,null,null,"2017-08-08",null,"2017-09-07",null,"2017-10-07",null,"2017-11-06",null,"2017-12-06",null,"2018-01-05",null,"2018-02-04",null,"2018-03-06",null,"2018-04-05",null,"2018-05-05",null,"2018-06-04",null,"2018-07-04",null,null,null,null,null,null,null,null,null,null,0,0,3,9]
[150,"سبلت يورك 2 طن",825000,1,825000,"2017-08-08","أبو رداد",null,null,null,"2017-08-08",null,"2017-09-07",null,"2017-10-07",null,"2017-11-06",null,"2017-12-06",null,"2018-01-05",null,"2018-02-04",null,"2018-03-06",null,"2018-04-05",null,"2018-05-05",null,"2018-06-04",null,"2018-07-04",null,null,null,null,null,null,null,null,null,null,0,0,3,10]
[41,"سبلت اوكس 3 طن كنتوري",1325000,1,1325000,"2017-08-08","أبو رداد",null,null,null,"2017-08-08",null,"2017-09-07",null,"2017-10-07",null,"2017-11-06",null,"2017-12-06",null,"2018-01-05",null,"2018-02-04",null,"2018-03-06",null,"2018-04-05",null,"2018-05-05",null,"2018-06-04",null,"2018-07-04",null,null,null,null,null,null,null,null,null,null,0,0,3,11]
[146,"مبردة سوبر امبريال KT -1E-3S",415000,1,415000,"2017-08-08","أبو رداد",null,null,null,"2017-08-08",null,"2017-09-07",null,"2017-10-07",null,"2017-11-06",null,"2017-12-06",null,"2018-01-05",null,"2018-02-04",null,"2018-03-06",null,"2018-04-05",null,"2018-05-05",null,"2018-06-04",null,"2018-07-04",null,null,null,null,null,null,null,null,null,null,0,0,3,12]
[152,"سبلت شونك 1.5 طن",430000,1,430000,"2017-05-20","أبو شيحان",430000,80000,350000,"2017-05-20",80000,"2017-06-19",null,"2017-07-19",null,"2017-08-18",null,"2017-09-17",null,"2017-10-17",null,"2017-11-16",null,"2017-12-16",null,"2018-01-15",null,"2018-02-14",null,"2018-03-16",null,"2018-04-15",null,null,null,null,null,null,null,null,null,null,430000,0,4,13]
[17,"مجمدة ارجلك 3150 14 قدم",409000,1,409000,"2017-04-28","أبو عبدالرحمن (صباح)",409000,409000,null,"2017-04-28",null,"2017-05-28",null,"2017-06-27",null,"2017-07-27",null,"2017-08-26",null,"2017-09-25",null,"2017-10-25",null,"2017-11-24",null,"2017-12-24",null,"2018-01-23",null,"2018-02-22",null,"2018-03-24",null,null,null,null,null,null,null,null,null,null,0,409000,5,14]
[173,"ثلاجة ثريا 10 قدم",300000,1,300000,"2017-05-25","أبو عبدالله سكيورتي",300000,50000,50000,"2017-05-25",50000,"2017-06-24",50000,"2017-07-24",50000,"2017-08-23",50000,"2017-09-22",50000,"2017-10-22",null,"2017-11-21",null,"2017-12-21",null,"2018-01-20",null,"2018-02-19",null,"2018-03-21",null,"2018-04-20",null,null,null,null,null,null,null,null,null,null,300000,0,6,15]
[151,"سبلت يورك 3 طن كنتوري",1200000,1,1200000,"2017-08-15","أبو لؤي 2",1680000,680000,1000000,"2017-08-15",680000,"2017-09-14",null,"2017-10-14",null,"2017-11-13",null,"2017-12-13",null,"2018-01-12",null,"2018-02-11",null,"2018-03-13",null,"2018-04-12",null,"2018-05-12",null,"2018-06-11",null,"2018-07-11",null,null,null,null,null,null,null,null,null,null,1680000,0,7,16]
[251,"ثلاجة كين وود 22",480000,1,480000,"2017-08-15","أبو لؤي 2",null,null,null,"2017-08-15",null,"2017-09-14",null,"2017-10-14",null,"2017-11-13",null,"2017-12-13",null,"2018-01-12",null,"2018-02-11",null,"2018-03-13",null,"2018-04-12",null,"2018-05-12",null,"2018-06-11",null,"2018-07-11",null,null,null,null,null,null,null,null,null,null,0,0,7,17]
[327,"شاشة عرض همر 49 سمارت",500000,1,500000,"2017-10-13","أبو ماريا البيت",1025000,525000,500000,"2017-10-13",null,"2017-11-12",null,"2017-12-12",null,"2018-01-11",null,"2018-02-10",null,"2018-03-12",null,"2018-04-11",null,"2018-05-11",null,"2018-06-10",null,"2018-07-10",null,"2018-08-09",null,"2018-09-08",null,null,null,null,null,null,null,null,null,null,500000,525000,8,18]
[1,"ثلاجة توسوت 530WDR فريز ابيض",525000,1,525000,"2017-10-13","أبو ماريا البيت",null,null,null,"2017-10-13",null,"2017-11-12",null,"2017-12-12",null,"2018-01-11",null,"2018-02-10",null,"2018-03-12",null,"2018-04-11",null,"2018-05-11",null,"2018-06-10",null,"2018-07-10",null,"2018-08-09",null,"2018-09-08",null,null,null,null,null,null,null,null,null,null,0,0,8,19]
[98,"سبلت توسوت 2 طن ",635000,2,1270000,"2017-08-24","أستاذ احمد عايد أبو رانيه",1270000,954000,158000,"2017-08-24",158000,"2017-09-23",158000,"2017-10-23",150000,"2017-11-22",160000,"2017-12-22",150000,"2018-01-21",160000,"2018-02-20",176000,"2018-03-22",null,"2018-04-21",null,"2018-05-21",null,"2018-06-20",null,"2018-07-20",null,"عمر حمدالله",null,null,null,null,null,null,null,null,1270000,0,9,20]
[262,"سبلت يورك 1.5 طن",520000,1,520000,"2017-07-30","أستاذ فلاح مصلح",520000,520000,null,"2017-07-30",null,"2017-08-29",null,"2017-09-28",null,"2017-10-28",null,"2017-11-27",null,"2017-12-27",null,"2018-01-26",null,"2018-02-25",null,"2018-03-27",null,"2018-04-26",null,"2018-05-26",null,"2018-06-25",null,null,null,null,null,null,null,null,null,null,0,520000,10,21]
[37,"غسالة سامسونك 15 كيلو فول 5730",450000,1,450000,"2017-05-28","أستاذ محمد رشيد ",2010000,2010000,null,"2017-05-28",null,"2017-06-27",null,"2017-07-27",null,"2017-08-26",null,"2017-09-25",null,"2017-10-25",null,"2017-11-24",null,"2017-12-24",null,"2018-01-23",null,"2018-02-22",null,"2018-03-24",null,"2018-04-23",null,null,null,null,null,null,null,null,null,null,0,2010000,11,22]
[97,"سبلت توسوت 1.5 طن",460000,1,460000,"2017-05-28","أستاذ محمد رشيد ",null,null,null,"2017-05-28",null,"2017-06-27",null,"2017-07-27",null,"2017-08-26",null,"2017-09-25",null,"2017-10-25",null,"2017-11-24",null,"2017-12-24",null,"2018-01-23",null,"2018-02-22",null,"2018-03-24",null,"2018-04-23",null,null,null,null,null,null,null,null,null,null,0,0,11,23]
[154,"سبلت توسوت 2طن وثلث كنتوري",1100000,1,1100000,"2017-05-28","أستاذ محمد رشيد ",null,null,null,"2017-05-28",null,"2017-06-27",null,"2017-07-27",null,"2017-08-26",null,"2017-09-25",null,"2017-10-25",null,"2017-11-24",null,"2017-12-24",null,"2018-01-23",null,"2018-02-22",null,"2018-03-24",null,"2018-04-23",null,null,null,null,null,null,null,null,null,null,0,0,11,24]
[12,"ثلاجة ميديا 5 قدم",150000,1,150000,"2017-05-04","أستاذ ياسين الدبي",1978500,163500,280000,"2017-05-04",440000,"2017-06-03",280000,"2017-07-03",325000,"2017-08-02",325000,"2017-09-01",325000,"2017-10-01",null,"2017-10-31",null,"2017-11-30",null,"2017-12-30",null,"2018-01-29",null,"2018-02-28",null,"2018-03-30",null,null,null,null,null,null,null,null,null,null,1975000,3500,12,25]
[68,"براد نوال 048 احمر",150000,1,150000,"2017-05-04","أستاذ ياسين الدبي",null,null,null,"2017-05-04",null,"2017-06-03",null,"2017-07-03",null,"2017-08-02",null,"2017-09-01",null,"2017-10-01",null,"2017-10-31",null,"2017-11-30",null,"2017-12-30",null,"2018-01-29",null,"2018-02-28",null,"2018-03-30",null,null,null,null,null,null,null,null,null,null,0,0,12,26]
[39,"سبلت اوكس 1 طن",459500,3,1378500,"2017-05-04","أستاذ ياسين الدبي",null,null,null,"2017-05-04",null,"2017-06-03",null,"2017-07-03",null,"2017-08-02",null,"2017-09-01",null,"2017-10-01",null,"2017-10-31",null,"2017-11-30",null,"2017-12-30",null,"2018-01-29",null,"2018-02-28",null,"2018-03-30",null,null,null,null,null,null,null,null,null,null,0,0,12,27]
[63,"براد ماء توسوت",150000,2,300000,"2017-06-24","أستاذ ياسين الدبي",null,null,null,"2017-06-24",null,"2017-07-24",null,"2017-08-23",null,"2017-09-22",null,"2017-10-22",null,"2017-11-21",null,"2017-12-21",null,"2018-01-20",null,"2018-02-19",null,"2018-03-21",null,"2018-04-20",null,"2018-05-20",null,null,null,null,null,null,null,null,null,null,0,0,12,28]
[265,"شاشة عرض 32YES TV",190000,1,190000,"2017-07-28","أنور صلاح ",350000,200000,100000,"2017-07-28",50000,"2017-08-27",50000,"2017-09-26",100000,"2017-10-26",50000,"2017-11-25",null,"2017-12-25",null,"2018-01-24",null,"2018-02-23",null,"2018-03-25",null,"2018-04-24",null,"2018-05-24",null,"2018-06-23",null,null,null,null,null,null,null,null,null,null,350000,0,13,29]
[171,"غسالة ميديا 12 كيلو",160000,1,160000,"2017-07-28","أنور صلاح ",null,null,null,"2017-07-28",null,"2017-08-27",null,"2017-09-26",null,"2017-10-26",null,"2017-11-25",null,"2017-12-25",null,"2018-01-24",null,"2018-02-23",null,"2018-03-25",null,"2018-04-24",null,"2018-05-24",null,"2018-06-23",null,null,null,null,null,null,null,null,null,null,0,0,13,30]
[180,"مجمدة ميديا 14 قدم 377",365000,1,365000,"2017-05-17","إبراهيم الحرج مجمدة",365000,250000,65000,"2017-05-17",50000,"2017-06-16",null,"2017-07-16",null,"2017-08-15",null,"2017-09-14",null,"2017-10-14",null,"2017-11-13",null,"2017-12-13",null,"2018-01-12",null,"2018-02-11",null,"2018-03-13",null,"2018-04-12",null,null,null,null,null,null,null,null,null,null,115000,250000,14,31]
[150,"سبلت يورك 2 طن",755000,1,755000,"2017-05-11","إبراهيم الحرج",755000,30000,125000,"2017-05-11",100000,"2017-06-10",150000,"2017-07-10",125000,"2017-08-09",125000,"2017-09-08",100000,"2017-10-08",null,"2017-11-07",null,"2017-12-07",null,"2018-01-06",null,"2018-02-05",null,"2018-03-07",null,"2018-04-06",null,null,null,null,null,null,null,null,null,null,725000,30000,15,32]
[300,"شاشة عرض شينون 55 4K مقوس",840000,1,840000,"2017-10-01","إبراهيم الخفاجي",939000,924000,115000,"2017-10-01",100000,"2017-10-31",100000,"2017-11-30",100000,"2017-12-30",100000,"2018-01-29",100000,"2018-02-28",100000,"2018-03-30",100000,"2018-04-29",null,"2018-05-29",null,"2018-06-28",null,"2018-07-28",null,"2018-08-27",null,null,null,null,null,null,null,null,null,null,815000,124000,16,33]
[65,"براد ماء نوبل منضدي",84000,1,84000,"2017-10-01","إبراهيم الخفاجي",null,null,null,"2017-10-01",null,"2017-10-31",null,"2017-11-30",null,"2017-12-30",null,"2018-01-29",null,"2018-02-28",null,"2018-03-30",null,"2018-04-29",null,"2018-05-29",null,"2018-06-28",null,"2018-07-28",null,"2018-08-27",null,null,null,null,null,null,null,null,null,null,0,0,16,34]
[164,"حمالة شاشة 4575 ذراع كبيرة",15000,1,15000,"2017-10-01","إبراهيم الخفاجي",null,null,null,"2017-10-01",null,"2017-10-31",null,"2017-11-30",null,"2017-12-30",null,"2018-01-29",null,"2018-02-28",null,"2018-03-30",null,"2018-04-29",null,"2018-05-29",null,"2018-06-28",null,"2018-07-28",null,"2018-08-27",null,null,null,null,null,null,null,null,null,null,0,0,16,35]
[251,"ثلاجة كين وود 22",625000,1,625000,"2017-05-22","إبراهيم السمره ثلاجة كيود",625000,425000,100000,"2017-05-22",100000,"2017-06-21",100000,"2017-07-21",100000,"2017-08-20",225000,"2017-09-19",null,"2017-10-19",null,"2017-11-18",null,"2017-12-18",null,"2018-01-17",null,"2018-02-16",null,"2018-03-18",null,"2018-04-17",null,null,null,null,null,null,null,null,null,null,625000,0,17,36]
[191,"ثلاجة دنكا 219",330000,1,330000,"2017-07-22","إبراهيم السمره ثلاجه",330000,180000,50000,"2017-07-22",50000,"2017-08-21",50000,"2017-09-20",50000,"2017-10-20",50000,"2017-11-19",80000,"2017-12-19",null,"2018-01-18",null,"2018-02-17",null,"2018-03-19",null,"2018-04-18",null,"2018-05-18",null,"2018-06-17",null,null,null,null,null,null,null,null,null,null,330000,0,18,37]
[284,"غسالة هيتاشي 16 كيلو حوضين",130000,1,130000,"2017-05-22","إبراهيم السمره غساله",130000,130000,130000,"2017-05-22",null,"2017-06-21",null,"2017-07-21",null,"2017-08-20",null,"2017-09-19",null,"2017-10-19",null,"2017-11-18",null,"2017-12-18",null,"2018-01-17",null,"2018-02-16",null,"2018-03-18",null,"2018-04-17",null,null,null,null,null,null,null,null,null,null,130000,0,19,38]
[150,"سبلت يورك 2 طن",640000,1,640000,"2017-05-26","إسماعيل خليل إبراهيم",640000,260000,250000,"2017-05-26",130000,"2017-06-25",100000,"2017-07-25",155000,"2017-08-24",null,"2017-09-23",null,"2017-10-23",null,"2017-11-22",null,"2017-12-22",null,"2018-01-21",null,"2018-02-20",null,"2018-03-22",null,"2018-04-21",null,null,null,7809570442,null,null,null,null,null,null,635000,5000,20,39]
[307,"طباخ تروست منضدي",35000,1,35000,"2017-10-02","إبراهيم السمره طباخ منضدي",35000,35000,35000,"2017-10-02",null,"2017-11-01",null,"2017-12-01",null,"2017-12-31",null,"2018-01-30",null,"2018-03-01",null,"2018-03-31",null,"2018-04-30",null,"2018-05-30",null,"2018-06-29",null,"2018-07-29",null,"2018-08-28",null,null,null,null,null,null,null,null,null,null,35000,0,21,40]
[98,"سبلت توسوت 2 طن ",625000,1,625000,"2017-08-06","اثير جاسم",625000,225000,400000,"2017-08-06",null,"2017-09-05",null,"2017-10-05",null,"2017-11-04",null,"2017-12-04",null,"2018-01-03",null,"2018-02-02",null,"2018-03-04",null,"2018-04-03",null,"2018-05-03",null,"2018-06-02",null,"2018-07-02",null,null,null,null,null,null,null,null,null,null,400000,225000,22,41]
[18,"مجمدة سكاي وورث",360000,1,360000,"2017-05-26","احمد حسن محمد",360000,60000,60000,"2017-05-26",60000,"2017-06-25",60000,"2017-07-25",60000,"2017-08-24",60000,"2017-09-23",60000,"2017-10-23",null,"2017-11-22",null,"2017-12-22",null,"2018-01-21",null,"2018-02-20",null,"2018-03-22",null,"2018-04-21",null,null,null,null,null,null,null,null,null,null,360000,0,23,42]
[48,"سبلت ميديا 2 طن جداري",750000,1,750000,"2017-07-01","احمد حميد داوود",750000,310000,110000,"2017-07-01",110000,"2017-07-31",110000,"2017-08-30",110000,"2017-09-29",110000,"2017-10-29",100000,"2017-11-28",100000,"2017-12-28",null,"2018-01-27",null,"2018-02-26",null,"2018-03-28",null,"2018-04-27",null,"2018-05-27",null,null,null,null,null,null,null,null,null,null,750000,0,24,43]
[48,"سبلت ميديا 2 طن جداري",660000,1,660000,"2017-06-16","احمد خيريه شحاذه",660000,110000,110000,"2017-06-16",110000,"2017-07-16",110000,"2017-08-15",110000,"2017-09-14",110000,"2017-10-14",110000,"2017-11-13",null,"2017-12-13",null,"2018-01-12",null,"2018-02-11",null,"2018-03-13",null,"2018-04-12",null,"2018-05-12",null,null,null,null,null,null,null,null,null,null,660000,0,25,44]
[null,1200,null,null,null,null,"سيد",null,null,null,{"$f":"F47","v":"00:00:00"},null,{"$f":"K47+30","v":"1900-01-30"},null,{"$f":"M47+30","v":60},null,{"$f":"O47+30","v":"1900-03-30"},null,{"$f":"Q47+30","v":"1900-04-29"},null,{"$f":"S47+30","v":"1900-05-29"},null,{"$f":"U47+30","v":"1900-06-28"},null,{"$f":"W47+30","v":"1900-07-28"},null,{"$f":"Y47+30","v":"1900-08-27"},null,{"$f":"AA47+30","v":"1900-09-26"},null,{"$f":"AC47+30","v":"1900-10-26"},null,{"$f":"AE47+30","v":"1900-11-25"},null,null,null,null,null,null,null,null,null,null,{"$f":"SUM(J47+L47+N47+P47+R47+T47+V47+X47+Z47+AB47+AD47+AF47)","v":0},{"$f":"H47-AR47","v":0},null,1515]
[null,null,null,null,null,null,null,null,null,null,"00:00:00",null,"1900-01-30",null,60,null,"1900-03-30",null,"1900-04-29",null,"1900-05-29",null,"1900-06-28",null,"1900-07-28",null,"1900-08-27",null,"1900-09-26",null,"1900-10-26",null,"1900-11-25",null,null,null,null,null,null,null,null,null,null,0,0,null,1516]
[null,null,null,null,null,null,null,null,null,null,"00:00:00",null,"1900-01-30",null,60,null,"1900-03-30",null,"1900-04-29",null,"1900-05-29",null,"1900-06-28",null,"1900-07-28",null,"1900-08-27",null,"1900-09-26",null,"1900-10-26",null,"1900-11-25",null,null,null,null,null,null,null,null,null,null,0,0,null,1517]
[null,null,null,null,null,null,null,null,null,null,"00:00:00",null,"1900-01-30",null,60,null,"1900-03-30",null,"1900-04-29",null,"1900-05-29",null,"1900-06-28",null,"1900-07-28",null,"1900-08-27",null,"1900-09-26",null,"1900-10-26",null,"1900-11-25",null,null,null,null,null,null,null,null,null,null,0,0,null,1518]
[null,null,null,null,null,null,null,null,null,null,"00:00:00",null,"1900-01-30",null,60,null,"1900-03-30",null,"1900-04-29",null,"1900-05-29",null,"1900-06-28",null,"1900-07-28",null,"1900-08-27",null,"1900-09-26",null,"1900-10-26",null,"1900-11-25",null,null,null,null,null,null,null,null,null,null,0,0,null,1519]
[null,null,null,null,null,null,null,null,null,null,"00:00:00",null,"1900-01-30",null,60,null,"1900-03-30",null,"1900-04-29",null,"1900-05-29",null,"1900-06-28",null,"1900-07-28",null,"1900-08-27",null,"1900-09-26",null,"1900-10-26",null,"1900-11-25",null,null,null,null,null,null,null,null,null,null,0,0,null,1520]
[null,null,null,null,null,null,null,null,null,null,"00:00:00",null,"1900-01-30",null,60,null,"1900-03-30",null,"1900-04-29",null,"1900-05-29",null,"1900-06-28",null,"1900-07-28",null,"1900-08-27",null,"1900-09-26",null,"1900-10-26",null,"1900-11-25",null,null,null,null,null,null,null,null,null,null,0,0,null,1521]
[null,null,null,null,null,null,null,null,null,null,"00:00:00",null,"1900-01-30",null,60,null,"1900-03-30",null,"1900-04-29",null,"1900-05-29",null,"1900-06-28",null,"1900-07-28",null,"1900-08-27",null,"1900-09-26",null,"1900-10-26",null,"1900-11-25",null,null,null,null,null,null,null,null,null,null,0,0,null,1522]
[null,null,null,null,null,null,null,null,null,null,"00:00:00",null,"1900-01-30",null,60,null,"1900-03-30",null,"1900-04-29",null,"1900-05-29",null,"1900-06-28",null,"1900-07-28",null,"1900-08-27",null,"1900-09-26",null,"1900-10-26",null,"1900-11-25",null,null,null,null,null,null,null,null,null,null,0,0,null,1523]
[null,null,null,null,null,null,null,null,null,null,"00:00:00",null,"1900-01-30",null,60,null,"1900-03-30",null,"1900-04-29",null,"1900-05-29",null,"1900-06-28",null,"1900-07-28",null,"1900-08-27",null,"1900-09-26",null,"1900-10-26",null,"1900-11-25",null,null,null,null,null,null,null,null,null,null,0,0,null,1524]
[null,null,null,null,null,null,null,null,null,null,"00:00:00",null,"1900-01-30",null,60,null,"1900-03-30",null,"1900-04-29",null,"1900-05-29",null,"1900-06-28",null,"1900-07-28",null,"1900-08-27",null,"1900-09-26",null,"1900-10-26",null,"1900-11-25",null,null,null,null,null,null,null,null,null,null,0,0,null,1525]
[null,null,null,null,null,null,null,null,null,null,"00:00:00",null,"1900-01-30",null,60,null,"1900-03-30",null,"1900-04-29",null,"1900-05-29",null,"1900-06-28",null,"1900-07-28",null,"1900-08-27",null,"1900-09-26",null,"1900-10-26",null,"1900-11-25",null,null,null,null,null,null,null,null,null,null,0,0,null,1526]
[null,null,null,null,null,null,null,null,null,null,"00:00:00",null,"1900-01-30",null,60,null,"1900-03-30",null,"1900-04-29",null,"1900-05-29",null,"1900-06-28",null,"1900-07-28",null,"1900-08-27",null,"1900-09-26",null,"1900-10-26",null,"1900-11-25",null,null,null,null,null,null,null,null,null,null,0,0,null,1527]
[null,null,null,null,null,null,null,null,null,null,"00:00:00",null,"1900-01-30",null,60,null,"1900-03-30",null,"1900-04-29",null,"1900-05-29",null,"1900-06-28",null,"1900-07-28",null,"1900-08-27",null,"1900-09-26",null,"1900-10-26",null,"1900-11-25",null,null,null,null,null,null,null,null,null,null,0,0,null,1528]
[null,null,null,null,null,null,null,null,null,null,"00:00:00",null,"1900-01-30",null,60,null,"1900-03-30",null,"1900-04-29",null,"1900-05-29",null,"1900-06-28",null,"1900-07-28",null,"1900-08-27",null,"1900-09-26",null,"1900-10-26",null,"1900-11-25",null,null,null,null,null,null,null,null,null,null,0,0,null,1529]
[null,null,null,null,null,null,null,null,null,null,"00:00:00",null,"1900-01-30",null,60,null,"1900-03-30",null,"1900-04-29",null,"1900-05-29",null,"1900-06-28",null,"1900-07-28",null,"1900-08-27",null,"1900-09-26",null,"1900-10-26",null,"1900-11-25",null,null,null,null,null,null,null,null,null,null,0,0,null,1530]
[null,null,null,null,null,null,null,null,null,null,"00:00:00",null,"1900-01-30",null,60,null,"1900-03-30",null,"1900-04-29",null,"1900-05-29",null,"1900-06-28",null,"1900-07-28",null,"1900-08-27",null,"1900-09-26",null,"1900-10-26",null,"1900-11-25",null,null,null,null,null,null,null,null,null,null,0,0,null,1531]
[null,null,null,null,null,null,null,null,null,null,"00:00:00",null,"1900-01-30",null,60,null,"1900-03-30",null,"1900-04-29",null,"1900-05-29",null,"1900-06-28",null,"1900-07-28",null,"1900-08-27",null,"1900-09-26",null,"1900-10-26",null,"1900-11-25",null,null,null,null,null,null,null,null,null,null,0,0,null,1532]
[null,null,null,null,null,null,null,null,null,null,"00:00:00",null,"1900-01-30",null,60,null,"1900-03-30",null,"1900-04-29",null,"1900-05-29",null,"1900-06-28",null,"1900-07-28",null,"1900-08-27",null,"1900-09-26",null,"1900-10-26",null,"1900-11-25",null,null,null,null,null,null,null,null,null,null,0,0,null,1533]
[null,null,null,null,null,null,null,null,null,null,"00:00:00",null,"1900-01-30",null,60,null,"1900-03-30",null,"1900-04-29",null,"1900-05-29",null,"1900-06-28",null,"1900-07-28",null,"1900-08-27",null,"1900-09-26",null,"1900-10-26",null,"1900-11-25",null,null,null,null,null,null,null,null,null,null,0,0,null,1534]
[null,null,null,null,null,null,null,null,null,null,"00:00:00",null,"1900-01-30",null,60,null,"1900-03-30",null,"1900-04-29",null,"1900-05-29",null,"1900-06-28",null,"1900-07-28",null,"1900-08-27",null,"1900-09-26",null,"1900-10-26",null,"1900-11-25",null,null,null,null,null,null,null,null,null,null,0,0,null,1535]
[null,null,null,null,null,null,null,null,null,null,"00:00:00",null,"1900-01-30",null,60,null,"1900-03-30",null,"1900-04-29",null,"1900-05-29",null,"1900-06-28",null,"1900-07-28",null,"1900-08-27",null,"1900-09-26",null,"1900-10-26",null,"1900-11-25",null,null,null,null,null,null,null,null,null,null,0,0,null,1536]
[null,null,null,null,null,null,null,null,null,null,"00:00:00",null,"1900-01-30",null,60,null,"1900-03-30",null,"1900-04-29",null,"1900-05-29",null,"1900-06-28",null,"1900-07-28",null,"1900-08-27",null,"1900-09-26",null,"1900-10-26",null,"1900-11-25",null,null,null,null,null,null,null,null,null,null,0,0,null,1537]
[null,null,null,null,null,null,null,null,null,null,"00:00:00",null,"1900-01-30",null,60,null,"1900-03-30",null,"1900-04-29",null,"1900-05-29",null,"1900-06-28",null,"1900-07-28",null,"1900-08-27",null,"1900-09-26",null,"1900-10-26",null,"1900-11-25",null,null,null,null,null,null,null,null,null,null,0,{"$f":"H70-AR70","v":0},null,1538]
[null,null,null,null,null,null,null,null,null,null,"00:00:00",null,"1900-01-30",null,60,null,"1900-03-30",null,"1900-04-29",null,"1900-05-29",null,"1900-06-28",null,"1900-07-28",null,"1900-08-27",null,"1900-09-26",null,"1900-10-26",null,"1900-11-25",null,null,null,null,null,null,null,null,null,null,{"$f":"SUM(J71+L71+N71+P71+R71+T71+V71+X71+Z71+AB71+AD71+AF71)","v":0},0,null,1539]
[null,null,null,null,null,null,null,null,null,null,"00:00:00",null,"1900-01-30",null,60,null,"1900-03-30",null,"1900-04-29",null,"1900-05-29",null,"1900-06-28",null,"1900-07-28",null,"1900-08-27",null,"1900-09-26",null,"1900-10-26",null,"1900-11-25",null,null,null,null,null,null,null,null,null,null,0,0,null,1540]
[null,null,null,null,null,null,null,null,null,null,"00:00:00",null,"1900-01-30",null,60,null,"1900-03-30",null,"1900-04-29",null,"1900-05-29",null,"1900-06-28",null,"1900-07-28",null,"1900-08-27",null,"1900-09-26",null,"1900-10-26",null,"1900-11-25",null,null,null,null,null,null,null,null,null,null,0,0,null,1541]
[null,null,null,null,null,null,null,null,null,null,"00:00:00",null,"1900-01-30",null,60,null,"1900-03-30",null,"1900-04-29",null,"1900-05-29",null,"1900-06-28",null,"1900-07-28",null,"1900-08-27",null,"1900-09-26",null,"1900-10-26",null,"1900-11-25",null,null,null,null,null,null,null,null,null,null,0,0,null,1542]
[null,null,null,null,null,null,null,null,null,null,{"$f":"F75","v":"00:00:00"},null,{"$f":"K75+30","v":"1900-01-30"},null,{"$f":"M75+30","v":60},null,{"$f":"O75+30","v":"1900-03-30"},null,{"$f":"Q75+30","v":"1900-04-29"},null,{"$f":"S75+30","v":"1900-05-29"},null,{"$f":"U75+30","v":"1900-06-28"},null,{"$f":"W75+30","v":"1900-07-28"},null,{"$f":"Y75+30","v":"1900-08-27"},null,{"$f":"AA75+30","v":"1900-09-26"},null,{"$f":"AC75+30","v":"1900-10-26"},null,{"$f":"AE75+30","v":"1900-11-25"},null,null,null,null,null,null,null,null,null,null,0,0,null,1543]
[null,null,null,null,null,null,null,null,null,null,"00:00:00",null,"1900-01-30",null,60,null,"1900-03-30",null,"1900-04-29",null,"1900-05-29",null,"1900-06-28",null,"1900-07-28",null,"1900-08-27",null,"1900-09-26",null,"1900-10-26",null,"1900-11-25",null,null,null,null,null,null,null,null,null,null,0,0,null,1544]
[null,null,null,null,null,null,null,null,null,null,"00:00:00",null,"1900-01-30",null,60,null,"1900-03-30",null,"1900-04-29",null,"1900-05-29",null,"1900-06-28",null,"1900-07-28",null,"1900-08-27",null,"1900-09-26",null,"1900-10-26",null,"1900-11-25",null,null,null,null,null,null,null,null,null,null,0,0,null,1545]
[null,null,null,null,null,null,null,null,null,null,"00:00:00",null,"1900-01-30",null,60,null,"1900-03-30",null,"1900-04-29",null,"1900-05-29",null,"1900-06-28",null,"1900-07-28",null,"1900-08-27",null,"1900-09-26",null,"1900-10-26",null,"1900-11-25",null,null,null,null,null,null,null,null,null,null,0,0,null,1546]
[null,null,null,null,null,null,null,null,null,null,"00:00:00",null,"1900-01-30",null,60,null,"1900-03-30",null,"1900-04-29",null,"1900-05-29",null,"1900-06-28",null,"1900-07-28",null,"1900-08-27",null,"1900-09-26",null,"1900-10-26",null,"1900-11-25",null,null,null,null,null,null,null,null,null,null,0,0,null,1547]
[null,null,null,null,null,null,null,null,null,null,"00:00:00",null,"1900-01-30",null,60,null,"1900-03-30",null,"1900-04-29",null,"1900-05-29",null,"1900-06-28",null,"1900-07-28",null,"1900-08-27",null,"1900-09-26",null,"1900-10-26",null,"1900-11-25",null,null,null,null,null,null,null,null,null,null,0,0,null,1548]
[null,null,null,null,null,null,null,null,null,null,"00:00:00",null,"1900-01-30",null,60,null,"1900-03-30",null,"1900-04-29",null,"1900-05-29",null,"1900-06-28",null,"1900-07-28",null,"1900-08-27",null,"1900-09-26",null,"1900-10-26",null,"1900-11-25",null,null,null,null,null,null,null,null,null,null,0,0,null,1549]
[null,null,null,null,null,null,null,null,null,null,"00:00:00",null,"1900-01-30",null,60,null,"1900-03-30",null,"1900-04-29",null,"1900-05-29",null,"1900-06-28",null,"1900-07-28",null,"1900-08-27",null,"1900-09-26",null,"1900-10-26",null,"1900-11-25",null,null,null,null,null,null,null,null,null,null,0,0,null,1550]
[null,null,null,null,null,null,null,null,null,null,"00:00:00",null,"1900-01-30",null,60,null,"1900-03-30",null,"1900-04-29",null,"1900-05-29",null,"1900-06-28",null,"1900-07-28",null,"1900-08-27",null,"1900-09-26",null,"1900-10-26",null,"1900-11-25",null,null,null,null,null,null,null,null,null,null,0,0,null,1551]
[null,null,null,null,null,null,null,null,null,null,"00:00:00",null,"1900-01-30",null,60,null,"1900-03-30",null,"1900-04-29",null,"1900-05-29",null,"1900-06-28",null,"1900-07-28",null,"1900-08-27",null,"1900-09-26",null,"1900-10-26",null,"1900-11-25",null,null,null,null,null,null,null,null,null,null,0,0,null,1552]
[null,null,null,null,null,null,null,null,null,null,"00:00:00",null,"1900-01-30",null,60,null,"1900-03-30",null,"1900-04-29",null,"1900-05-29",null,"1900-06-28",null,"1900-07-28",null,"1900-08-27",null,"1900-09-26",null,"1900-10-26",null,"1900-11-25",null,null,null,null,null,null,null,null,null,null,0,0,null,1553]
[null,null,null,null,null,null,null,null,null,null,"00:00:00",null,"1900-01-30",null,60,null,"1900-03-30",null,"1900-04-29",null,"1900-05-29",null,"1900-06-28",null,"1900-07-28",null,"1900-08-27",null,"1900-09-26",null,"1900-10-26",null,"1900-11-25",null,null,null,null,null,null,null,null,null,null,0,0,null,1554]
[null,null,null,null,null,null,null,null,null,null,"00:00:00",null,"1900-01-30",null,60,null,"1900-03-30",null,"1900-04-29",null,"1900-05-29",null,"1900-06-28",null,"1900-07-28",null,"1900-08-27",null,"1900-09-26",null,"1900-10-26",null,"1900-11-25",null,null,null,null,null,null,null,null,null,null,0,0,null,1555]
[null,null,null,null,null,null,null,null,null,null,"00:00:00",null,"1900-01-30",null,60,null,"1900-03-30",null,"1900-04-29",null,"1900-05-29",null,"1900-06-28",null,"1900-07-28",null,"1900-08-27",null,"1900-09-26",null,"1900-10-26",null,"1900-11-25",null,null,null,null,null,null,null,null,null,null,0,0,null,1556]
[null,null,null,null,null,null,null,null,null,null,"00:00:00",null,"1900-01-30",null,60,null,"1900-03-30",null,"1900-04-29",null,"1900-05-29",null,"1900-06-28",null,"1900-07-28",null,"1900-08-27",null,"1900-09-26",null,"1900-10-26",null,"1900-11-25",null,null,null,null,null,null,null,null,null,null,0,0,null,1557]
[null,null,null,null,null,null,null,null,null,null,"00:00:00",null,"1900-01-30",null,60,null,"1900-03-30",null,"1900-04-29",null,"1900-05-29",null,"1900-06-28",null,"1900-07-28",null,"1900-08-27",null,"1900-09-26",null,"1900-10-26",null,"1900-11-25",null,null,null,null,null,null,null,null,null,null,0,0,null,1558]
[null,null,null,null,null,null,null,null,null,null,"00:00:00",null,"1900-01-30",null,60,null,"1900-03-30",null,"1900-04-29",null,"1900-05-29",null,"1900-06-28",null,"1900-07-28",null,"1900-08-27",null,"1900-09-26",null,"1900-10-26",null,"1900-11-25",null,null,null,null,null,null,null,null,null,null,0,0,null,1559]
[null,null,null,null,null,null,null,null,null,null,"00:00:00",null,"1900-01-30",null,60,null,"1900-03-30",null,"1900-04-29",null,"1900-05-29",null,"1900-06-28",null,"1900-07-28",null,"1900-08-27",null,"1900-09-26",null,"1900-10-26",null,"1900-11-25",null,null,null,null,null,null,null,null,null,null,0,0,null,1560]
[null,null,null,null,null,null,null,null,null,null,"00:00:00",null,"1900-01-30",null,60,null,"1900-03-30",null,"1900-04-29",null,"1900-05-29",null,"1900-06-28",null,"1900-07-28",null,"1900-08-27",null,"1900-09-26",null,"1900-10-26",null,"1900-11-25",null,null,null,null,null,null,null,null,null,null,0,0,null,1561]
[null,null,null,null,null,null,null,null,null,null,"00:00:00",null,"1900-01-30",null,60,null,"1900-03-30",null,"1900-04-29",null,"1900-05-29",null,"1900-06-28",null,"1900-07-28",null,"1900-08-27",null,"1900-09-26",null,"1900-10-26",null,"1900-11-25",null,null,null,null,null,null,null,null,null,null,0,0,null,1562]
[null,null,null,null,null,null,null,null,null,null,"00:00:00",null,"1900-01-30",null,60,null,"1900-03-30",null,"1900-04-29",null,"1900-05-29",null,"1900-06-28",null,"1900-07-28",null,"1900-08-27",null,"1900-09-26",null,"1900-10-26",null,"1900-11-25",null,null,null,null,null,null,null,null,null,null,0,0,null,1563]
[null,null,null,null,null,null,null,null,null,null,"00:00:00",null,"1900-01-30",null,60,null,"1900-03-30",null,"1900-04-29",null,"1900-05-29",null,"1900-06-28",null,"1900-07-28",null,"1900-08-27",null,"1900-09-26",null,"1900-10-26",null,"1900-11-25",null,null,null,null,null,null,null,null,null,null,0,0,null,1564]
[null,null,null,null,null,null,null,null,null,null,"00:00:00",null,"1900-01-30",null,60,null,"1900-03-30",null,"1900-04-29",null,"1900-05-29",null,"1900-06-28",null,"1900-07-28",null,"1900-08-27",null,"1900-09-26",null,"1900-10-26",null,"1900-11-25",null,null,null,null,null,null,null,null,null,null,0,0,null,1565]
[null,null,null,null,null,null,null,null,null,null,"00:00:00",null,"1900-01-30",null,60,null,"1900-03-30",null,"1900-04-29",null,"1900-05-29",null,"1900-06-28",null,"1900-07-28",null,"1900-08-27",null,"1900-09-26",null,"1900-10-26",null,"1900-11-25",null,null,null,null,null,null,null,null,null,null,0,0,null,1566]
[null,null,null,null,null,null,null,null,null,null,"00:00:00",null,"1900-01-30",null,60,null,"1900-03-30",null,"1900-04-29",null,"1900-05-29",null,"1900-06-28",null,"1900-07-28",null,"1900-08-27",null,"1900-09-26",null,"1900-10-26",null,"1900-11-25",null,null,null,null,null,null,null,null,null,null,0,0,null,1567]
[null,null,null,null,null,null,null,null,null,null,"00:00:00",null,"1900-01-30",null,60,null,"1900-03-30",null,"1900-04-29",null,"1900-05-29",null,"1900-06-28",null,"1900-07-28",null,"1900-08-27",null,"1900-09-26",null,"1900-10-26",null,"1900-11-25",null,null,null,null,null,null,null,null,null,null,0,0,null,1568]
[null,null,null,null,null,null,null,null,null,null,"00:00:00",null,"1900-01-30",null,60,null,"1900-03-30",null,"1900-04-29",null,"1900-05-29",null,"1900-06-28",null,"1900-07-28",null,"1900-08-27",null,"1900-09-26",null,"1900-10-26",null,"1900-11-25",null,null,null,null,null,null,null,null,null,null,0,0,null,1569]
[null,null,null,null,null,null,null,null,null,null,"00:00:00",null,"1900-01-30",null,60,null,"1900-03-30",null,"1900-04-29",null,"1900-05-29",null,"1900-06-28",null,"1900-07-28",null,"1900-08-27",null,"1900-09-26",null,"1900-10-26",null,"1900-11-25",null,null,null,null,null,null,null,null,null,null,0,0,null,1570]
[null,null,null,null,null,null,null,null,null,null,"00:00:00",null,"1900-01-30",null,60,null,"1900-03-30",null,"1900-04-29",null,"1900-05-29",null,"1900-06-28",null,"1900-07-28",null,"1900-08-27",null,"1900-09-26",null,"1900-10-26",null,"1900-11-25",null,null,null,null,null,null,null,null,null,null,0,0,null,1571]
[null,null,null,null,null,null,null,null,null,null,"00:00:00",null,"1900-01-30",null,60,null,"1900-03-30",null,"1900-04-29",null,"1900-05-29",null,"1900-06-28",null,"1900-07-28",null,"1900-08-27",null,"1900-09-26",null,"1900-10-26",null,"1900-11-25",null,null,null,null,null,null,null,null,null,null,0,0,null,1572]
[null,null,null,null,null,null,null,null,null,null,"00:00:00",null,"1900-01-30",null,60,null,"1900-03-30",null,"1900-04-29",null,"1900-05-29",null,"1900-06-28",null,"1900-07-28",null,"1900-08-27",null,"1900-09-26",null,"1900-10-26",null,"1900-11-25",null,null,null,null,null,null,null,null,null,null,0,0,null,1573]
[null,null,null,null,null,null,null,null,null,null,"00:00:00",null,"1900-01-30",null,60,null,"1900-03-30",null,"1900-04-29",null,"1900-05-29",null,"1900-06-28",null,"1900-07-28",null,"1900-08-27",null,"1900-09-26",null,"1900-10-26",null,"1900-11-25",null,null,null,null,null,null,null,null,null,null,0,0,null,1574]
[null,null,null,null,null,null,null,null,null,null,"00:00:00",null,"1900-01-30",null,60,null,"1900-03-30",null,"1900-04-29",null,"1900-05-29",null,"1900-06-28",null,"1900-07-28",null,"1900-08-27",null,"1900-09-26",null,"1900-10-26",null,"1900-11-25",null,null,null,null,null,null,null,null,null,null,0,0,null,1575]
[null,null,null,null,null,null,null,null,null,null,"00:00:00",null,"1900-01-30",null,60,null,"1900-03-30",null,"1900-04-29",null,"1900-05-29",null,"1900-06-28",null,"1900-07-28",null,"1900-08-27",null,"1900-09-26",null,"1900-10-26",null,"1900-11-25",null,null,null,null,null,null,null,null,null,null,0,0,null,1576]
[null,null,null,null,null,null,null,null,null,null,"00:00:00",null,"1900-01-30",null,60,null,"1900-03-30",null,"1900-04-29",null,"1900-05-29",null,"1900-06-28",null,"1900-07-28",null,"1900-08-27",null,"1900-09-26",null,"1900-10-26",null,"1900-11-25",null,null,null,null,null,null,null,null,null,null,0,0,null,1577]
[null,null,null,null,null,null,null,null,null,null,"00:00:00",null,"1900-01-30",null,60,null,"1900-03-30",null,"1900-04-29",null,"1900-05-29",null,"1900-06-28",null,"1900-07-28",null,"1900-08-27",null,"1900-09-26",null,"1900-10-26",null,"1900-11-25",null,null,null,null,null,null,null,null,null,null,0,0,null,1578]
[null,null,null,null,null,null,null,null,null,null,"00:00:00",null,"1900-01-30",null,60,null,"1900-03-30",null,"1900-04-29",null,"1900-05-29",null,"1900-06-28",null,"1900-07-28",null,"1900-08-27",null,"1900-09-26",null,"1900-10-26",null,"1900-11-25",null,null,null,null,null,null,null,null,null,null,0,0,null,1579]
[null,null,null,null,null,null,null,null,null,null,"00:00:00",null,"1900-01-30",null,60,null,"1900-03-30",null,"1900-04-29",null,"1900-05-29",null,"1900-06-28",null,"1900-07-28",null,"1900-08-27",null,"1900-09-26",null,"1900-10-26",null,"1900-11-25",null,null,null,null,null,null,null,null,null,null,0,0,null,1580]
[null,null,null,null,null,null,null,null,null,null,"00:00:00",null,"1900-01-30",null,60,null,"1900-03-30",null,"1900-04-29",null,"1900-05-29",null,"1900-06-28",null,"1900-07-28",null,"1900-08-27",null,"1900-09-26",null,"1900-10-26",null,"1900-11-25",null,null,null,null,null,null,null,null,null,null,0,0,null,1581]
[null,null,null,null,null,null,null,null,null,null,"00:00:00",null,"1900-01-30",null,60,null,"1900-03-30",null,"1900-04-29",null,"1900-05-29",null,"1900-06-28",null,"1900-07-28",null,"1900-08-27",null,"1900-09-26",null,"1900-10-26",null,"1900-11-25",null,null,null,null,null,null,null,null,null,null,0,0,null,1582]
[null,null,null,null,null,null,null,null,null,null,"00:00:00",null,"1900-01-30",null,60,null,"1900-03-30",null,"1900-04-29",null,"1900-05-29",null,"1900-06-28",null,"1900-07-28",null,"1900-08-27",null,"1900-09-26",null,"1900-10-26",null,"1900-11-25",null,null,null,null,null,null,null,null,null,null,0,0,null,1583]
[null,null,null,null,null,null,null,null,null,null,"00:00:00",null,"1900-01-30",null,60,null,"1900-03-30",null,"1900-04-29",null,"1900-05-29",null,"1900-06-28",null,"1900-07-28",null,"1900-08-27",null,"1900-09-26",null,"1900-10-26",null,"1900-11-25",null,null,null,null,null,null,null,null,null,null,0,0,null,1584]
[null,null,null,null,null,null,null,null,null,null,"00:00:00",null,"1900-01-30",null,60,null,"1900-03-30",null,"1900-04-29",null,"1900-05-29",null,"1900-06-28",null,"1900-07-28",null,"1900-08-27",null,"1900-09-26",null,"1900-10-26",null,"1900-11-25",null,null,null,null,null,null,null,null,null,null,0,0,null,1585]
[null,null,null,null,null,null,null,null,null,null,"00:00:00",null,"1900-01-30",null,60,null,"1900-03-30",null,"1900-04-29",null,"1900-05-29",null,"1900-06-28",null,"1900-07-28",null,"1900-08-27",null,"1900-09-26",null,"1900-10-26",null,"1900-11-25",null,null,null,null,null,null,null,null,null,null,0,0,null,1586]
[null,null,null,null,null,null,null,null,null,null,"00:00:00",null,"1900-01-30",null,60,null,"1900-03-30",null,"1900-04-29",null,"1900-05-29",null,"1900-06-28",null,"1900-07-28",null,"1900-08-27",null,"1900-09-26",null,"1900-10-26",null,"1900-11-25",null,null,null,null,null,null,null,null,null,null,0,0,null,1587]
[null,null,null,null,null,null,null,null,null,null,"00:00:00",null,"1900-01-30",null,60,null,"1900-03-30",null,"1900-04-29",null,"1900-05-29",null,"1900-06-28",null,"1900-07-28",null,"1900-08-27",null,"1900-09-26",null,"1900-10-26",null,"1900-11-25",null,null,null,null,null,null,null,null,null,null,0,0,null,1588]
[null,null,null,null,null,null,null,null,null,null,"00:00:00",null,"1900-01-30",null,60,null,"1900-03-30",null,"1900-04-29",null,"1900-05-29",null,"1900-06-28",null,"1900-07-28",null,"1900-08-27",null,"1900-09-26",null,"1900-10-26",null,"1900-11-25",null,null,null,null,null,null,null,null,null,null,0,0,null,1589]
[null,null,null,null,null,null,null,null,null,null,"00:00:00",null,"1900-01-30",null,60,null,"1900-03-30",null,"1900-04-29",null,"1900-05-29",null,"1900-06-28",null,"1900-07-28",null,"1900-08-27",null,"1900-09-26",null,"1900-10-26",null,"1900-11-25",null,null,null,null,null,null,null,null,null,null,0,0,null,1590]
[null,null,null,null,null,null,null,null,null,null,"00:00:00",null,"1900-01-30",null,60,null,"1900-03-30",null,"1900-04-29",null,"1900-05-29",null,"1900-06-28",null,"1900-07-28",null,"1900-08-27",null,"1900-09-26",null,"1900-10-26",null,"1900-11-25",null,null,null,null,null,null,null,null,null,null,0,0,null,1591]
[null,null,null,null,null,null,null,null,null,null,"00:00:00",null,"1900-01-30",null,60,null,"1900-03-30",null,"1900-04-29",null,"1900-05-29",null,"1900-06-28",null,"1900-07-28",null,"1900-08-27",null,"1900-09-26",null,"1900-10-26",null,"1900-11-25",null,null,null,null,null,null,null,null,null,null,0,0,null,1592]
[null,null,null,null,null,null,null,null,null,null,"00:00:00",null,"1900-01-30",null,60,null,"1900-03-30",null,"1900-04-29",null,"1900-05-29",null,"1900-06-28",null,"1900-07-28",null,"1900-08-27",null,"1900-09-26",null,"1900-10-26",null,"1900-11-25",null,null,null,null,null,null,null,null,null,null,0,0,null,1593]
[null,null,null,null,null,null,null,null,null,null,"00:00:00",null,"1900-01-30",null,60,null,"1900-03-30",null,"1900-04-29",null,"1900-05-29",null,"1900-06-28",null,"1900-07-28",null,"1900-08-27",null,"1900-09-26",null,"1900-10-26",null,"1900-11-25",null,null,null,null,null,null,null,null,null,null,0,0,null,1594]
[null,null,null,null,null,null,null,null,null,null,"00:00:00",null,"1900-01-30",null,60,null,"1900-03-30",null,"1900-04-29",null,"1900-05-29",null,"1900-06-28",null,"1900-07-28",null,"1900-08-27",null,"1900-09-26",null,"1900-10-26",null,"1900-11-25",null,null,null,null,null,null,null,null,null,null,0,0,null,1595]
[null,null,null,null,null,null,null,null,null,null,"00:00:00",null,"1900-01-30",null,60,null,"1900-03-30",null,"1900-04-29",null,"1900-05-29",null,"1900-06-28",null,"1900-07-28",null,"1900-08-27",null,"1900-09-26",null,"1900-10-26",null,"1900-11-25",null,null,null,null,null,null,null,null,null,null,0,0,null,1596]
[null,null,null,null,null,null,null,null,null,null,"00:00:00",null,"1900-01-30",null,60,null,"1900-03-30",null,"1900-04-29",null,"1900-05-29",null,"1900-06-28",null,"1900-07-28",null,"1900-08-27",null,"1900-09-26",null,"1900-10-26",null,"1900-11-25",null,null,null,null,null,null,null,null,null,null,0,0,null,1597]
[null,null,null,null,null,null,null,null,null,null,"00:00:00",null,"1900-01-30",null,60,null,"1900-03-30",null,"1900-04-29",null,"1900-05-29",null,"1900-06-28",null,"1900-07-28",null,"1900-08-27",null,"1900-09-26",null,"1900-10-26",null,"1900-11-25",null,null,null,null,null,null,null,null,null,null,0,0,null,1598]
[null,null,null,null,null,null,null,null,null,null,"00:00:00",null,"1900-01-30",null,60,null,"1900-03-30",null,"1900-04-29",null,"1900-05-29",null,"1900-06-28",null,"1900-07-28",null,"1900-08-27",null,"1900-09-26",null,"1900-10-26",null,"1900-11-25",null,null,null,null,null,null,null,null,null,null,0,0,null,1599]
[null,null,null,null,null,null,null,null,null,null,"00:00:00",null,"1900-01-30",null,60,null,"1900-03-30",null,"1900-04-29",null,"1900-05-29",null,"1900-06-28",null,"1900-07-28",null,"1900-08-27",null,"1900-09-26",null,"1900-10-26",null,"1900-11-25",null,null,null,null,null,null,null,null,null,null,0,0,null,1600]
[null,null,null,null,null,null,null,null,null,null,"00:00:00",null,"1900-01-30",null,60,null,"1900-03-30",null,"1900-04-29",null,"1900-05-29",null,"1900-06-28",null,"1900-07-28",null,"1900-08-27",null,"1900-09-26",null,"1900-10-26",null,"1900-11-25",null,null,null,null,null,null,null,null,null,null,0,0,null,1601]
[null,null,null,null,null,null,null,null,null,null,"00:00:00",null,"1900-01-30",null,60,null,"1900-03-30",null,"1900-04-29",null,"1900-05-29",null,"1900-06-28",null,"1900-07-28",null,"1900-08-27",null,"1900-09-26",null,"1900-10-26",null,"1900-11-25",null,null,null,null,null,null,null,null,null,null,0,{"$f":"H134-AR134","v":0},null,1602]
[null,null,null,null,null,null,null,null,null,null,"00:00:00",null,"1900-01-30",null,60,null,"1900-03-30",null,"1900-04-29",null,"1900-05-29",null,"1900-06-28",null,"1900-07-28",null,"1900-08-27",null,"1900-09-26",null,"1900-10-26",null,"1900-11-25",null,null,null,null,null,null,null,null,null,null,{"$f":"SUM(J135+L135+N135+P135+R135+T135+V135+X135+Z135+AB135+AD135+AF135)","v":0},0,null,1603]
[null,null,null,null,null,null,null,null,null,null,"00:00:00",null,"1900-01-30",null,60,null,"1900-03-30",null,"1900-04-29",null,"1900-05-29",null,"1900-06-28",null,"1900-07-28",null,"1900-08-27",null,"1900-09-26",null,"1900-10-26",null,"1900-11-25",null,null,null,null,null,null,null,null,null,null,0,0,null,1604]
[null,null,null,null,null,null,null,null,null,null,"00:00:00",null,"1900-01-30",null,60,null,"1900-03-30",null,"1900-04-29",null,"1900-05-29",null,"1900-06-28",null,"1900-07-28",null,"1900-08-27",null,"1900-09-26",null,"1900-10-26",null,"1900-11-25",null,null,null,null,null,null,null,null,null,null,0,0,null,1605]
[null,null,null,null,null,null,null,null,null,null,"00:00:00",null,"1900-01-30",null,60,null,"1900-03-30",null,"1900-04-29",null,"1900-05-29",null,"1900-06-28",null,"1900-07-28",null,"1900-08-27",null,"1900-09-26",null,"1900-10-26",null,"1900-11-25",null,null,null,null,null,null,null,null,null,null,0,0,null,1606]
[null,null,null,null,null,null,null,null,null,null,{"$f":"F139","v":"00:00:00"},null,{"$f":"K139+30","v":"1900-01-30"},null,{"$f":"M139+30","v":60},null,{"$f":"O139+30","v":"1900-03-30"},null,{"$f":"Q139+30","v":"1900-04-29"},null,{"$f":"S139+30","v":"1900-05-29"},null,{"$f":"U139+30","v":"1900-06-28"},null,{"$f":"W139+30","v":"1900-07-28"},null,{"$f":"Y139+30","v":"1900-08-27"},null,{"$f":"AA139+30","v":"1900-09-26"},null,{"$f":"AC139+30","v":"1900-10-26"},null,{"$f":"AE139+30","v":"1900-11-25"},null,null,null,null,null,null,null,null,null,null,0,0,null,1607]
[null,null,null,null,null,null,null,null,null,null,"00:00:00",null,"1900-01-30",null,60,null,"1900-03-30",null,"1900-04-29",null,"1900-05-29",null,"1900-06-28",null,"1900-07-28",null,"1900-08-27",null,"1900-09-26",null,"1900-10-26",null,"1900-11-25",null,null,null,null,null,null,null,null,null,null,0,0,null,1608]
[null,null,null,null,null,null,null,null,null,null,"00:00:00",null,"1900-01-30",null,60,null,"1900-03-30",null,"1900-04-29",null,"1900-05-29",null,"1900-06-28",null,"1900-07-28",null,"1900-08-27",null,"1900-09-26",null,"1900-10-26",null,"1900-11-25",null,null,null,null,null,null,null,null,null,null,0,0,null,1609]
[null,null,null,null,null,null,null,null,null,null,"00:00:00",null,"1900-01-30",null,60,null,"1900-03-30",null,"1900-04-29",null,"1900-05-29",null,"1900-06-28",null,"1900-07-28",null,"1900-08-27",null,"1900-09-26",null,"1900-10-26",null,"1900-11-25",null,null,null,null,null,null,null,null,null,null,0,0,null,1610]
[null,null,null,null,null,null,null,null,null,null,"00:00:00",null,"1900-01-30",null,60,null,"1900-03-30",null,"1900-04-29",null,"1900-05-29",null,"1900-06-28",null,"1900-07-28",null,"1900-08-27",null,"1900-09-26",null,"1900-10-26",null,"1900-11-25",null,null,null,null,null,null,null,null,null,null,0,0,null,1611]
[null,null,null,null,null,null,null,null,null,null,"00:00:00",null,"1900-01-30",null,60,null,"1900-03-30",null,"1900-04-29",null,"1900-05-29",null,"1900-06-28",null,"1900-07-28",null,"1900-08-27",null,"1900-09-26",null,"1900-10-26",null,"1900-11-25",null,null,null,null,null,null,null,null,null,null,0,0,null,1612]
[null,null,null,null,null,null,null,null,null,null,"00:00:00",null,"1900-01-30",null,60,null,"1900-03-30",null,"1900-04-29",null,"1900-05-29",null,"1900-06-28",null,"1900-07-28",null,"1900-08-27",null,"1900-09-26",null,"1900-10-26",null,"1900-11-25",null,null,null,null,null,null,null,null,null,null,0,0,null,1613]
[null,null,null,null,null,null,null,null,null,null,"00:00:00",null,"1900-01-30",null,60,null,"1900-03-30",null,"1900-04-29",null,"1900-05-29",null,"1900-06-28",null,"1900-07-28",null,"1900-08-27",null,"1900-09-26",null,"1900-10-26",null,"1900-11-25",null,null,null,null,null,null,null,null,null,null,0,0,null,1614]
[null,null,null,null,null,null,null,null,null,null,"00:00:00",null,"1900-01-30",null,60,null,"1900-03-30",null,"1900-04-29",null,"1900-05-29",null,"1900-06-28",null,"1900-07-28",null,"1900-08-27",null,"1900-09-26",null,"1900-10-26",null,"1900-11-25",null,null,null,null,null,null,null,null,null,null,0,0,null,1615]
[null,null,null,null,null,null,null,null,null,null,"00:00:00",null,"1900-01-30",null,60,null,"1900-03-30",null,"1900-04-29",null,"1900-05-29",null,"1900-06-28",null,"1900-07-28",null,"1900-08-27",null,"1900-09-26",null,"1900-10-26",null,"1900-11-25",null,null,null,null,null,null,null,null,null,null,0,0,null,1616]
[null,null,null,null,null,null,null,null,null,null,"00:00:00",null,"1900-01-30",null,60,null,"1900-03-30",null,"1900-04-29",null,"1900-05-29",null,"1900-06-28",null,"1900-07-28",null,"1900-08-27",null,"1900-09-26",null,"1900-10-26",null,"1900-11-25",null,null,null,null,null,null,null,null,null,null,0,0,null,1617]
[null,null,null,null,null,null,null,null,null,null,"00:00:00",null,"1900-01-30",null,60,null,"1900-03-30",null,"1900-04-29",null,"1900-05-29",null,"1900-06-28",null,"1900-07-28",null,"1900-08-27",null,"1900-09-26",null,"1900-10-26",null,"1900-11-25",null,null,null,null,null,null,null,null,null,null,0,0,null,1618]
[null,null,null,null,null,null,null,null,null,null,"00:00:00",null,"1900-01-30",null,60,null,"1900-03-30",null,"1900-04-29",null,"1900-05-29",null,"1900-06-28",null,"1900-07-28",null,"1900-08-27",null,"1900-09-26",null,"1900-10-26",null,"1900-11-25",null,null,null,null,null,null,null,null,null,null,0,0,null,1619]
[null,null,null,null,null,null,null,null,null,null,"00:00:00",null,"1900-01-30",null,60,null,"1900-03-30",null,"1900-04-29",null,"1900-05-29",null,"1900-06-28",null,"1900-07-28",null,"1900-08-27",null,"1900-09-26",null,"1900-10-26",null,"1900-11-25",null,null,null,null,null,null,null,null,null,null,0,0,null,1620]
[null,null,null,null,null,null,null,null,null,null,"00:00:00",null,"1900-01-30",null,60,null,"1900-03-30",null,"1900-04-29",null,"1900-05-29",null,"1900-06-28",null,"1900-07-28",null,"1900-08-27",null,"1900-09-26",null,"1900-10-26",null,"1900-11-25",null,null,null,null,null,null,null,null,null,null,0,0,null,1621]
[null,null,null,null,null,null,null,null,null,null,"00:00:00",null,"1900-01-30",null,60,null,"1900-03-30",null,"1900-04-29",null,"1900-05-29",null,"1900-06-28",null,"1900-07-28",null,"1900-08-27",null,"1900-09-26",null,"1900-10-26",null,"1900-11-25",null,null,null,null,null,null,null,null,null,null,0,0,null,1622]
[null,null,null,null,null,null,null,null,null,null,"00:00:00",null,"1900-01-30",null,60,null,"1900-03-30",null,"1900-04-29",null,"1900-05-29",null,"1900-06-28",null,"1900-07-28",null,"1900-08-27",null,"1900-09-26",null,"1900-10-26",null,"1900-11-25",null,null,null,null,null,null,null,null,null,null,0,0,null,1623]
[null,null,null,null,null,null,null,null,null,null,"00:00:00",null,"1900-01-30",null,60,null,"1900-03-30",null,"1900-04-29",null,"1900-05-29",null,"1900-06-28",null,"1900-07-28",null,"1900-08-27",null,"1900-09-26",null,"1900-10-26",null,"1900-11-25",null,null,null,null,null,null,null,null,null,null,0,0,null,1624]
[null,null,null,null,null,null,null,null,null,null,"00:00:00",null,"1900-01-30",null,60,null,"1900-03-30",null,"1900-04-29",null,"1900-05-29",null,"1900-06-28",null,"1900-07-28",null,"1900-08-27",null,"1900-09-26",null,"1900-10-26",null,"1900-11-25",null,null,null,null,null,null,null,null,null,null,0,0,null,1625]
[null,null,null,null,null,null,null,null,null,null,"00:00:00",null,"1900-01-30",null,60,null,"1900-03-30",null,"1900-04-29",null,"1900-05-29",null,"1900-06-28",null,"1900-07-28",null,"1900-08-27",null,"1900-09-26",null,"1900-10-26",null,"1900-11-25",null,null,null,null,null,null,null,null,null,null,0,0,null,1626]
[null,null,null,null,null,null,null,null,null,null,"00:00:00",null,"1900-01-30",null,60,null,"1900-03-30",null,"1900-04-29",null,"1900-05-29",null,"1900-06-28",null,"1900-07-28",null,"1900-08-27",null,"1900-09-26",null,"1900-10-26",null,"1900-11-25",null,null,null,null,null,null,null,null,null,null,0,0,null,1627]
[null,null,null,null,null,null,null,null,null,null,"00:00:00",null,"1900-01-30",null,60,null,"1900-03-30",null,"1900-04-29",null,"1900-05-29",null,"1900-06-28",null,"1900-07-28",null,"1900-08-27",null,"1900-09-26",null,"1900-10-26",null,"1900-11-25",null,null,null,null,null,null,null,null,null,null,0,0,null,1628]
[null,null,null,null,null,null,null,null,null,null,"00:00:00",null,"1900-01-30",null,60,null,"1900-03-30",null,"1900-04-29",null,"1900-05-29",null,"1900-06-28",null,"1900-07-28",null,"1900-08-27",null,"1900-09-26",null,"1900-10-26",null,"1900-11-25",null,null,null,null,null,null,null,null,null,null,0,0,null,1629]
[null,null,null,null,null,null,null,null,null,null,"00:00:00",null,"1900-01-30",null,60,null,"1900-03-30",null,"1900-04-29",null,"1900-05-29",null,"1900-06-28",null,"1900-07-28",null,"1900-08-27",null,"1900-09-26",null,"1900-10-26",null,"1900-11-25",null,null,null,null,null,null,null,null,null,null,0,0,null,1630]
[null,null,null,null,null,null,null,null,null,null,"00:00:00",null,"1900-01-30",null,60,null,"1900-03-30",null,"1900-04-29",null,"1900-05-29",null,"1900-06-28",null,"1900-07-28",null,"1900-08-27",null,"1900-09-26",null,"1900-10-26",null,"1900-11-25",null,null,null,null,null,null,null,null,null,null,0,0,null,1631]
[null,null,null,null,null,null,null,null,null,null,"00:00:00",null,"1900-01-30",null,60,null,"1900-03-30",null,"1900-04-29",null,"1900-05-29",null,"1900-06-28",null,"1900-07-28",null,"1900-08-27",null,"1900-09-26",null,"1900-10-26",null,"1900-11-25",null,null,null,null,null,null,null,null,null,null,0,0,null,1632]
[null,null,null,null,null,null,null,null,null,null,"00:00:00",null,"1900-01-30",null,60,null,"1900-03-30",null,"1900-04-29",null,"1900-05-29",null,"1900-06-28",null,"1900-07-28",null,"1900-08-27",null,"1900-09-26",null,"1900-10-26",null,"1900-11-25",null,null,null,null,null,null,null,null,null,null,0,0,null,1633]
[null,null,null,null,null,null,null,null,null,null,"00:00:00",null,"1900-01-30",null,60,null,"1900-03-30",null,"1900-04-29",null,"1900-05-29",null,"1900-06-28",null,"1900-07-28",null,"1900-08-27",null,"1900-09-26",null,"1900-10-26",null,"1900-11-25",null,null,null,null,null,null,null,null,null,null,0,0,null,1634]
[null,null,null,null,null,null,null,null,null,null,"00:00:00",null,"1900-01-30",null,60,null,"1900-03-30",null,"1900-04-29",null,"1900-05-29",null,"1900-06-28",null,"1900-07-28",null,"1900-08-27",null,"1900-09-26",null,"1900-10-26",null,"1900-11-25",null,null,null,null,null,null,null,null,null,null,0,0,null,1635]
[null,null,null,null,null,null,null,null,null,null,"00:00:00",null,"1900-01-30",null,60,null,"1900-03-30",null,"1900-04-29",null,"1900-05-29",null,"1900-06-28",null,"1900-07-28",null,"1900-08-27",null,"1900-09-26",null,"1900-10-26",null,"1900-11-25",null,null,null,null,null,null,null,null,null,null,0,0,null,1636]
[null,null,null,null,null,null,null,null,null,null,"00:00:00",null,"1900-01-30",null,60,null,"1900-03-30",null,"1900-04-29",null,"1900-05-29",null,"1900-06-28",null,"1900-07-28",null,"1900-08-27",null,"1900-09-26",null,"1900-10-26",null,"1900-11-25",null,null,null,null,null,null,null,null,null,null,0,0,null,1637]
[null,null,null,null,null,null,null,null,null,null,"00:00:00",null,"1900-01-30",null,60,null,"1900-03-30",null,"1900-04-29",null,"1900-05-29",null,"1900-06-28",null,"1900-07-28",null,"1900-08-27",null,"1900-09-26",null,"1900-10-26",null,"1900-11-25",null,null,null,null,null,null,null,null,null,null,0,0,null,1638]
[null,null,null,null,null,null,null,null,null,null,"00:00:00",null,"1900-01-30",null,60,null,"1900-03-30",null,"1900-04-29",null,"1900-05-29",null,"1900-06-28",null,"1900-07-28",null,"1900-08-27",null,"1900-09-26",null,"1900-10-26",null,"1900-11-25",null,null,null,null,null,null,null,null,null,null,0,0,null,1639]
[null,null,null,null,null,null,null,null,null,null,"00:00:00",null,"1900-01-30",null,60,null,"1900-03-30",null,"1900-04-29",null,"1900-05-29",null,"1900-06-28",null,"1900-07-28",null,"1900-08-27",null,"1900-09-26",null,"1900-10-26",null,"1900-11-25",null,null,null,null,null,null,null,null,null,null,0,0,null,1640]
[null,null,null,null,null,null,null,null,null,null,"00:00:00",null,"1900-01-30",null,60,null,"1900-03-30",null,"1900-04-29",null,"1900-05-29",null,"1900-06-28",null,"1900-07-28",null,"1900-08-27",null,"1900-09-26",null,"1900-10-26",null,"1900-11-25",null,null,null,null,null,null,null,null,null,null,0,0,null,1641]
[null,null,null,null,null,null,null,null,null,null,"00:00:00",null,"1900-01-30",null,60,null,"1900-03-30",null,"1900-04-29",null,"1900-05-29",null,"1900-06-28",null,"1900-07-28",null,"1900-08-27",null,"1900-09-26",null,"1900-10-26",null,"1900-11-25",null,null,null,null,null,null,null,null,null,null,0,0,null,1642]
[null,null,null,null,null,null,null,null,null,null,"00:00:00",null,"1900-01-30",null,60,null,"1900-03-30",null,"1900-04-29",null,"1900-05-29",null,"1900-06-28",null,"1900-07-28",null,"1900-08-27",null,"1900-09-26",null,"1900-10-26",null,"1900-11-25",null,null,null,null,null,null,null,null,null,null,0,0,null,1643]
[null,null,null,null,null,null,null,null,null,null,"00:00:00",null,"1900-01-30",null,60,null,"1900-03-30",null,"1900-04-29",null,"1900-05-29",null,"1900-06-28",null,"1900-07-28",null,"1900-08-27",null,"1900-09-26",null,"1900-10-26",null,"1900-11-25",null,null,null,null,null,null,null,null,null,null,0,0,null,1644]
[null,null,null,null,null,null,null,null,null,null,"00:00:00",null,"1900-01-30",null,60,null,"1900-03-30",null,"1900-04-29",null,"1900-05-29",null,"1900-06-28",null,"1900-07-28",null,"1900-08-27",null,"1900-09-26",null,"1900-10-26",null,"1900-11-25",null,null,null,null,null,null,null,null,null,null,0,0,null,1645]
[null,null,null,null,null,null,null,null,null,null,"00:00:00",null,"1900-01-30",null,60,null,"1900-03-30",null,"1900-04-29",null,"1900-05-29",null,"1900-06-28",null,"1900-07-28",null,"1900-08-27",null,"1900-09-26",null,"1900-10-26",null,"1900-11-25",null,null,null,null,null,null,null,null,null,null,0,0,null,1646]
[null,null,null,null,null,null,null,null,null,null,"00:00:00",null,"1900-01-30",null,60,null,"1900-03-30",null,"1900-04-29",null,"1900-05-29",null,"1900-06-28",null,"1900-07-28",null,"1900-08-27",null,"1900-09-26",null,"1900-10-26",null,"1900-11-25",null,null,null,null,null,null,null,null,null,null,0,0,null,1647]
[null,null,null,null,null,null,null,null,null,null,"00:00:00",null,"1900-01-30",null,60,null,"1900-03-30",null,"1900-04-29",null,"1900-05-29",null,"1900-06-28",null,"1900-07-28",null,"1900-08-27",null,"1900-09-26",null,"1900-10-26",null,"1900-11-25",null,null,null,null,null,null,null,null,null,null,0,0,null,1648]
[null,null,null,null,null,null,null,null,null,null,"00:00:00",null,"1900-01-30",null,60,null,"1900-03-30",null,"1900-04-29",null,"1900-05-29",null,"1900-06-28",null,"1900-07-28",null,"1900-08-27",null,"1900-09-26",null,"1900-10-26",null,"1900-11-25",null,null,null,null,null,null,null,null,null,null,0,0,null,1649]
[null,null,null,null,null,null,null,null,null,null,"00:00:00",null,"1900-01-30",null,60,null,"1900-03-30",null,"1900-04-29",null,"1900-05-29",null,"1900-06-28",null,"1900-07-28",null,"1900-08-27",null,"1900-09-26",null,"1900-10-26",null,"1900-11-25",null,null,null,null,null,null,null,null,null,null,0,0,null,1650]
[null,null,null,null,null,null,null,null,null,null,"00:00:00",null,"1900-01-30",null,60,null,"1900-03-30",null,"1900-04-29",null,"1900-05-29",null,"1900-06-28",null,"1900-07-28",null,"1900-08-27",null,"1900-09-26",null,"1900-10-26",null,"1900-11-25",null,null,null,null,null,null,null,null,null,null,0,0,null,1651]
[null,null,null,null,null,null,null,null,null,null,"00:00:00",null,"1900-01-30",null,60,null,"1900-03-30",null,"1900-04-29",null,"1900-05-29",null,"1900-06-28",null,"1900-07-28",null,"1900-08-27",null,"1900-09-26",null,"1900-10-26",null,"1900-11-25",null,null,null,null,null,null,null,null,null,null,0,0,null,1652]
[null,null,null,null,null,null,null,null,null,null,"00:00:00",null,"1900-01-30",null,60,null,"1900-03-30",null,"1900-04-29",null,"1900-05-29",null,"1900-06-28",null,"1900-07-28",null,"1900-08-27",null,"1900-09-26",null,"1900-10-26",null,"1900-11-25",null,null,null,null,null,null,null,null,null,null,0,0,null,1653]
[null,null,null,null,null,null,null,null,null,null,"00:00:00",null,"1900-01-30",null,60,null,"1900-03-30",null,"1900-04-29",null,"1900-05-29",null,"1900-06-28",null,"1900-07-28",null,"1900-08-27",null,"1900-09-26",null,"1900-10-26",null,"1900-11-25",null,null,null,null,null,null,null,null,null,null,0,0,null,1654]
[null,null,null,null,null,null,null,null,null,null,"00:00:00",null,"1900-01-30",null,60,null,"1900-03-30",null,"1900-04-29",null,"1900-05-29",null,"1900-06-28",null,"1900-07-28",null,"1900-08-27",null,"1900-09-26",null,"1900-10-26",null,"1900-11-25",null,null,null,null,null,null,null,null,null,null,0,0,null,1655]
[null,null,null,null,null,null,null,null,null,null,"00:00:00",null,"1900-01-30",null,60,null,"1900-03-30",null,"1900-04-29",null,"1900-05-29",null,"1900-06-28",null,"1900-07-28",null,"1900-08-27",null,"1900-09-26",null,"1900-10-26",null,"1900-11-25",null,null,null,null,null,null,null,null,null,null,0,0,null,1656]
[null,null,null,null,null,null,null,null,null,null,"00:00:00",null,"1900-01-30",null,60,null,"1900-03-30",null,"1900-04-29",null,"1900-05-29",null,"1900-06-28",null,"1900-07-28",null,"1900-08-27",null,"1900-09-26",null,"1900-10-26",null,"1900-11-25",null,null,null,null,null,null,null,null,null,null,0,0,null,1657]
[null,null,null,null,null,null,null,null,null,null,"00:00:00",null,"1900-01-30",null,60,null,"1900-03-30",null,"1900-04-29",null,"1900-05-29",null,"1900-06-28",null,"1900-07-28",null,"1900-08-27",null,"1900-09-26",null,"1900-10-26",null,"1900-11-25",null,null,null,null,null,null,null,null,null,null,0,0,null,1658]
[null,null,null,null,null,null,null,null,null,null,"00:00:00",null,"1900-01-30",null,60,null,"1900-03-30",null,"1900-04-29",null,"1900-05-29",null,"1900-06-28",null,"1900-07-28",null,"1900-08-27",null,"1900-09-26",null,"1900-10-26",null,"1900-11-25",null,null,null,null,null,null,null,null,null,null,0,0,null,1659]
[null,null,null,null,null,null,null,null,null,null,"00:00:00",null,"1900-01-30",null,60,null,"1900-03-30",null,"1900-04-29",null,"1900-05-29",null,"1900-06-28",null,"1900-07-28",null,"1900-08-27",null,"1900-09-26",null,"1900-10-26",null,"1900-11-25",null,null,null,null,null,null,null,null,null,null,0,0,null,1660]
[null,null,null,null,null,null,null,null,null,null,"00:00:00",null,"1900-01-30",null,60,null,"1900-03-30",null,"1900-04-29",null,"1900-05-29",null,"1900-06-28",null,"1900-07-28",null,"1900-08-27",null,"1900-09-26",null,"1900-10-26",null,"1900-11-25",null,null,null,null,null,null,null,null,null,null,0,0,null,1661]
[null,null,null,null,null,null,null,null,null,null,"00:00:00",null,"1900-01-30",null,60,null,"1900-03-30",null,"1900-04-29",null,"1900-05-29",null,"1900-06-28",null,"1900-07-28",null,"1900-08-27",null,"1900-09-26",null,"1900-10-26",null,"1900-11-25",null,null,null,null,null,null,null,null,null,null,0,0,null,1662]
[null,null,null,null,null,null,null,null,null,null,"00:00:00",null,"1900-01-30",null,60,null,"1900-03-30",null,"1900-04-29",null,"1900-05-29",null,"1900-06-28",null,"1900-07-28",null,"1900-08-27",null,"1900-09-26",null,"1900-10-26",null,"1900-11-25",null,null,null,null,null,null,null,null,null,null,0,0,null,1663]
[null,null,null,null,null,null,null,null,null,null,"00:00:00",null,"1900-01-30",null,60,null,"1900-03-30",null,"1900-04-29",null,"1900-05-29",null,"1900-06-28",null,"1900-07-28",null,"1900-08-27",null,"1900-09-26",null,"1900-10-26",null,"1900-11-25",null,null,null,null,null,null,null,null,null,null,0,0,null,1664]
[null,null,null,null,null,null,null,null,null,null,"00:00:00",null,"1900-01-30",null,60,null,"1900-03-30",null,"1900-04-29",null,"1900-05-29",null,"1900-06-28",null,"1900-07-28",null,"1900-08-27",null,"1900-09-26",null,"1900-10-26",null,"1900-11-25",null,null,null,null,null,null,null,null,null,null,0,0,null,1665]
[null,null,null,null,null,null,null,null,null,null,"00:00:00",null,"1900-01-30",null,60,null,"1900-03-30",null,"1900-04-29",null,"1900-05-29",null,"1900-06-28",null,"1900-07-28",null,"1900-08-27",null,"1900-09-26",null,"1900-10-26",null,"1900-11-25",null,null,null,null,null,null,null,null,null,null,0,{"$f":"H198-AR198","v":0},null,1666]
[null,null,null,null,null,null,null,null,null,null,"00:00:00",null,"1900-01-30",null,60,null,"1900-03-30",null,"1900-04-29",null,"1900-05-29",null,"1900-06-28",null,"1900-07-28",null,"1900-08-27",null,"1900-09-26",null,"1900-10-26",null,"1900-11-25",null,null,null,null,null,null,null,null,null,null,{"$f":"SUM(J199+L199+N199+P199+R199+T199+V199+X199+Z199+AB199+AD199+AF199)","v":0},0,null,1667]
[null,null,null,null,null,null,null,null,null,null,"00:00:00",null,"1900-01-30",null,60,null,"1900-03-30",null,"1900-04-29",null,"1900-05-29",null,"1900-06-28",null,"1900-07-28",null,"1900-08-27",null,"1900-09-26",null,"1900-10-26",null,"1900-11-25",null,null,null,null,null,null,null,null,null,null,0,0,null,1668]
[null,null,null,null,null,null,null,null,null,null,"00:00:00",null,"1900-01-30",null,60,null,"1900-03-30",null,"1900-04-29",null,"1900-05-29",null,"1900-06-28",null,"1900-07-28",null,"1900-08-27",null,"1900-09-26",null,"1900-10-26",null,"1900-11-25",null,null,null,null,null,null,null,null,null,null,0,0,null,1669]
[null,null,null,null,null,null,null,null,null,null,"00:00:00",null,"1900-01-30",null,60,null,"1900-03-30",null,"1900-04-29",null,"1900-05-29",null,"1900-06-28",null,"1900-07-28",null,"1900-08-27",null,"1900-09-26",null,"1900-10-26",null,"1900-11-25",null,null,null,null,null,null,null,null,null,null,0,0,null,1670]
[null,null,null,null,null,null,null,null,null,null,{"$f":"F203","v":"00:00:00"},null,{"$f":"K203+30","v":"1900-01-30"},null,{"$f":"M203+30","v":60},null,{"$f":"O203+30","v":"1900-03-30"},null,{"$f":"Q203+30","v":"1900-04-29"},null,{"$f":"S203+30","v":"1900-05-29"},null,{"$f":"U203+30","v":"1900-06-28"},null,{"$f":"W203+30","v":"1900-07-28"},null,{"$f":"Y203+30","v":"1900-08-27"},null,{"$f":"AA203+30","v":"1900-09-26"},null,{"$f":"AC203+30","v":"1900-10-26"},null,{"$f":"AE203+30","v":"1900-11-25"},null,null,null,null,null,null,null,null,null,null,0,0,null,1671]
[null,null,null,null,null,null,null,null,null,null,"00:00:00",null,"1900-01-30",null,60,null,"1900-03-30",null,"1900-04-29",null,"1900-05-29",null,"1900-06-28",null,"1900-07-28",null,"1900-08-27",null,"1900-09-26",null,"1900-10-26",null,"1900-11-25",null,null,null,null,null,null,null,null,null,null,0,0,null,1672]
[null,null,null,null,null,null,null,null,null,null,"00:00:00",null,"1900-01-30",null,60,null,"1900-03-30",null,"1900-04-29",null,"1900-05-29",null,"1900-06-28",null,"1900-07-28",null,"1900-08-27",null,"1900-09-26",null,"1900-10-26",null,"1900-11-25",null,null,null,null,null,null,null,null,null,null,0,0,null,1673]
[null,null,null,null,null,null,null,null,null,null,"00:00:00",null,"1900-01-30",null,60,null,"1900-03-30",null,"1900-04-29",null,"1900-05-29",null,"1900-06-28",null,"1900-07-28",null,"1900-08-27",null,"1900-09-26",null,"1900-10-26",null,"1900-11-25",null,null,null,null,null,null,null,null,null,null,0,0,null,1674]
[null,null,null,null,null,null,null,null,null,null,"00:00:00",null,"1900-01-30",null,60,null,"1900-03-30",null,"1900-04-29",null,"1900-05-29",null,"1900-06-28",null,"1900-07-28",null,"1900-08-27",null,"1900-09-26",null,"1900-10-26",null,"1900-11-25",null,null,null,null,null,null,null,null,null,null,0,0,null,1675]
[null,null,null,null,null,null,null,null,null,null,"00:00:00",null,"1900-01-30",null,60,null,"1900-03-30",null,"1900-04-29",null,"1900-05-29",null,"1900-06-28",null,"1900-07-28",null,"1900-08-27",null,"1900-09-26",null,"1900-10-26",null,"1900-11-25",null,null,null,null,null,null,null,null,null,null,0,0,null,1676]
[null,null,null,null,null,null,null,null,null,null,"00:00:00",null,"1900-01-30",null,60,null,"1900-03-30",null,"1900-04-29",null,"1900-05-29",null,"1900-06-28",null,"1900-07-28",null,"1900-08-27",null,"1900-09-26",null,"1900-10-26",null,"1900-11-25",null,null,null,null,null,null,null,null,null,null,0,0,null,1677]
[null,null,null,null,null,null,null,null,null,null,"00:00:00",null,"1900-01-30",null,60,null,"1900-03-30",null,"1900-04-29",null,"1900-05-29",null,"1900-06-28",null,"1900-07-28",null,"1900-08-27",null,"1900-09-26",null,"1900-10-26",null,"1900-11-25",null,null,null,null,null,null,null,null,null,null,0,0,null,1678]
[null,null,null,null,null,null,null,null,null,null,"00:00:00",null,"1900-01-30",null,60,null,"1900-03-30",null,"1900-04-29",null,"1900-05-29",null,"1900-06-28",null,"1900-07-28",null,"1900-08-27",null,"1900-09-26",null,"1900-10-26",null,"1900-11-25",null,null,null,null,null,null,null,null,null,null,0,0,null,1679]
[null,null,null,null,null,null,null,null,null,null,"00:00:00",null,"1900-01-30",null,60,null,"1900-03-30",null,"1900-04-29",null,"1900-05-29",null,"1900-06-28",null,"1900-07-28",null,"1900-08-27",null,"1900-09-26",null,"1900-10-26",null,"1900-11-25",null,null,null,null,null,null,null,null,null,null,0,0,null,1680]
[null,null,null,null,null,null,null,null,null,null,"00:00:00",null,"1900-01-30",null,60,null,"1900-03-30",null,"1900-04-29",null,"1900-05-29",null,"1900-06-28",null,"1900-07-28",null,"1900-08-27",null,"1900-09-26",null,"1900-10-26",null,"1900-11-25",null,null,null,null,null,null,null,null,null,null,0,0,null,1681]
[null,null,null,null,null,null,null,null,null,null,"00:00:00",null,"1900-01-30",null,60,null,"1900-03-30",null,"1900-04-29",null,"1900-05-29",null,"1900-06-28",null,"1900-07-28",null,"1900-08-27",null,"1900-09-26",null,"1900-10-26",null,"1900-11-25",null,null,null,null,null,null,null,null,null,null,0,0,null,1682]
[null,null,null,null,null,null,null,null,null,null,"00:00:00",null,"1900-01-30",null,60,null,"1900-03-30",null,"1900-04-29",null,"1900-05-29",null,"1900-06-28",null,"1900-07-28",null,"1900-08-27",null,"1900-09-26",null,"1900-10-26",null,"1900-11-25",null,null,null,null,null,null,null,null,null,null,0,0,null,1683]
[null,null,null,null,null,null,null,null,null,null,"00:00:00",null,"1900-01-30",null,60,null,"1900-03-30",null,"1900-04-29",null,"1900-05-29",null,"1900-06-28",null,"1900-07-28",null,"1900-08-27",null,"1900-09-26",null,"1900-10-26",null,"1900-11-25",null,null,null,null,null,null,null,null,null,null,0,0,null,1684]
[null,null,null,null,null,null,null,null,null,null,"00:00:00",null,"1900-01-30",null,60,null,"1900-03-30",null,"1900-04-29",null,"1900-05-29",null,"1900-06-28",null,"1900-07-28",null,"1900-08-27",null,"1900-09-26",null,"1900-10-26",null,"1900-11-25",null,null,null,null,null,null,null,null,null,null,0,0,null,1685]
[null,null,null,null,null,null,null,null,null,null,"00:00:00",null,"1900-01-30",null,60,null,"1900-03-30",null,"1900-04-29",null,"1900-05-29",null,"1900-06-28",null,"1900-07-28",null,"1900-08-27",null,"1900-09-26",null,"1900-10-26",null,"1900-11-25",null,null,null,null,null,null,null,null,null,null,0,0,null,1686]
[null,null,null,null,null,null,null,null,null,null,"00:00:00",null,"1900-01-30",null,60,null,"1900-03-30",null,"1900-04-29",null,"1900-05-29",null,"1900-06-28",null,"1900-07-28",null,"1900-08-27",null,"1900-09-26",null,"1900-10-26",null,"1900-11-25",null,null,null,null,null,null,null,null,null,null,0,0,null,1687]
[null,null,null,null,null,null,null,null,null,null,"00:00:00",null,"1900-01-30",null,60,null,"1900-03-30",null,"1900-04-29",null,"1900-05-29",null,"1900-06-28",null,"1900-07-28",null,"1900-08-27",null,"1900-09-26",null,"1900-10-26",null,"1900-11-25",null,null,null,null,null,null,null,null,null,null,0,0,null,1688]
[null,null,null,null,null,null,null,null,null,null,"00:00:00",null,"1900-01-30",null,60,null,"1900-03-30",null,"1900-04-29",null,"1900-05-29",null,"1900-06-28",null,"1900-07-28",null,"1900-08-27",null,"1900-09-26",null,"1900-10-26",null,"1900-11-25",null,null,null,null,null,null,null,null,null,null,0,0,null,1689]
[null,null,null,null,null,null,null,null,null,null,"00:00:00",null,"1900-01-30",null,60,null,"1900-03-30",null,"1900-04-29",null,"1900-05-29",null,"1900-06-28",null,"1900-07-28",null,"1900-08-27",null,"1900-09-26",null,"1900-10-26",null,"1900-11-25",null,null,null,null,null,null,null,null,null,null,0,0,null,1690]
[null,null,null,null,null,null,null,null,null,null,"00:00:00",null,"1900-01-30",null,60,null,"1900-03-30",null,"1900-04-29",null,"1900-05-29",null,"1900-06-28",null,"1900-07-28",null,"1900-08-27",null,"1900-09-26",null,"1900-10-26",null,"1900-11-25",null,null,null,null,null,null,null,null,null,null,0,0,null,1691]
[null,null,null,null,null,null,null,null,null,null,"00:00:00",null,"1900-01-30",null,60,null,"1900-03-30",null,"1900-04-29",null,"1900-05-29",null,"1900-06-28",null,"1900-07-28",null,"1900-08-27",null,"1900-09-26",null,"1900-10-26",null,"1900-11-25",null,null,null,null,null,null,null,null,null,null,0,0,null,1692]
[null,null,null,null,null,null,null,null,null,null,"00:00:00",null,"1900-01-30",null,60,null,"1900-03-30",null,"1900-04-29",null,"1900-05-29",null,"1900-06-28",null,"1900-07-28",null,"1900-08-27",null,"1900-09-26",null,"1900-10-26",null,"1900-11-25",null,null,null,null,null,null,null,null,null,null,0,0,null,1693]
[null,null,null,null,null,null,null,null,null,null,"00:00:00",null,"1900-01-30",null,60,null,"1900-03-30",null,"1900-04-29",null,"1900-05-29",null,"1900-06-28",null,"1900-07-28",null,"1900-08-27",null,"1900-09-26",null,"1900-10-26",null,"1900-11-25",null,null,null,null,null,null,null,null,null,null,0,0,null,1694]
[null,null,null,null,null,null,null,null,null,null,"00:00:00",null,"1900-01-30",null,60,null,"1900-03-30",null,"1900-04-29",null,"1900-05-29",null,"1900-06-28",null,"1900-07-28",null,"1900-08-27",null,"1900-09-26",null,"1900-10-26",null,"1900-11-25",null,null,null,null,null,null,null,null,null,null,0,0,null,1695]
[null,null,null,null,null,null,null,null,null,null,"00:00:00",null,"1900-01-30",null,60,null,"1900-03-30",null,"1900-04-29",null,"1900-05-29",null,"1900-06-28",null,"1900-07-28",null,"1900-08-27",null,"1900-09-26",null,"1900-10-26",null,"1900-11-25",null,null,null,null,null,null,null,null,null,null,0,0,null,1696]
[null,null,null,null,null,null,null,null,null,null,"00:00:00",null,"1900-01-30",null,60,null,"1900-03-30",null,"1900-04-29",null,"1900-05-29",null,"1900-06-28",null,"1900-07-28",null,"1900-08-27",null,"1900-09-26",null,"1900-10-26",null,"1900-11-25",null,null,null,null,null,null,null,null,null,null,0,0,null,1697]
[null,null,null,null,null,null,null,null,null,null,"00:00:00",null,"1900-01-30",null,60,null,"1900-03-30",null,"1900-04-29",null,"1900-05-29",null,"1900-06-28",null,"1900-07-28",null,"1900-08-27",null,"1900-09-26",null,"1900-10-26",null,"1900-11-25",null,null,null,null,null,null,null,null,null,null,0,0,null,1698]
[null,null,null,null,null,null,null,null,null,null,"00:00:00",null,"1900-01-30",null,60,null,"1900-03-30",null,"1900-04-29",null,"1900-05-29",null,"1900-06-28",null,"1900-07-28",null,"1900-08-27",null,"1900-09-26",null,"1900-10-26",null,"1900-11-25",null,null,null,null,null,null,null,null,null,null,0,0,null,1699]
[null,null,null,null,null,null,null,null,null,null,"00:00:00",null,"1900-01-30",null,60,null,"1900-03-30",null,"1900-04-29",null,"1900-05-29",null,"1900-06-28",null,"1900-07-28",null,"1900-08-27",null,"1900-09-26",null,"1900-10-26",null,"1900-11-25",null,null,null,null,null,null,null,null,null,null,0,0,null,1700]
[null,null,null,null,null,null,null,null,null,null,"00:00:00",null,"1900-01-30",null,60,null,"1900-03-30",null,"1900-04-29",null,"1900-05-29",null,"1900-06-28",null,"1900-07-28",null,"1900-08-27",null,"1900-09-26",null,"1900-10-26",null,"1900-11-25",null,null,null,null,null,null,null,null,null,null,0,0,null,1701]
[null,null,null,null,null,null,null,null,null,null,"00:00:00",null,"1900-01-30",null,60,null,"1900-03-30",null,"1900-04-29",null,"1900-05-29",null,"1900-06-28",null,"1900-07-28",null,"1900-08-27",null,"1900-09-26",null,"1900-10-26",null,"1900-11-25",null,null,null,null,null,null,null,null,null,null,0,0,null,1702]
[null,null,null,null,null,null,null,null,null,null,"00:00:00",null,"1900-01-30",null,60,null,"1900-03-30",null,"1900-04-29",null,"1900-05-29",null,"1900-06-28",null,"1900-07-28",null,"1900-08-27",null,"1900-09-26",null,"1900-10-26",null,"1900-11-25",null,null,null,null,null,null,null,null,null,null,0,0,null,1703]
[null,null,null,null,null,null,null,null,null,null,"00:00:00",null,"1900-01-30",null,60,null,"1900-03-30",null,"1900-04-29",null,"1900-05-29",null,"1900-06-28",null,"1900-07-28",null,"1900-08-27",null,"1900-09-26",null,"1900-10-26",null,"1900-11-25",null,null,null,null,null,null,null,null,null,null,0,0,null,1704]
[null,null,null,null,null,null,null,null,null,null,"00:00:00",null,"1900-01-30",null,60,null,"1900-03-30",null,"1900-04-29",null,"1900-05-29",null,"1900-06-28",null,"1900-07-28",null,"1900-08-27",null,"1900-09-26",null,"1900-10-26",null,"1900-11-25",null,null,null,null,null,null,null,null,null,null,0,0,null,1705]
[null,null,null,null,null,null,null,null,null,null,"00:00:00",null,"1900-01-30",null,60,null,"1900-03-30",null,"1900-04-29",null,"1900-05-29",null,"1900-06-28",null,"1900-07-28",null,"1900-08-27",null,"1900-09-26",null,"1900-10-26",null,"1900-11-25",null,null,null,null,null,null,null,null,null,null,0,0,null,1706]
[null,null,null,null,null,null,null,null,null,null,"00:00:00",null,"1900-01-30",null,60,null,"1900-03-30",null,"1900-04-29",null,"1900-05-29",null,"1900-06-28",null,"1900-07-28",null,"1900-08-27",null,"1900-09-26",null,"1900-10-26",null,"1900-11-25",null,null,null,null,null,null,null,null,null,null,0,0,null,1707]
[null,null,null,null,null,null,null,null,null,null,"00:00:00",null,"1900-01-30",null,60,null,"1900-03-30",null,"1900-04-29",null,"1900-05-29",null,"1900-06-28",null,"1900-07-28",null,"1900-08-27",null,"1900-09-26",null,"1900-10-26",null,"1900-11-25",null,null,null,null,null,null,null,null,null,null,0,0,null,1708]
[null,null,null,null,null,null,null,null,null,null,"00:00:00",null,"1900-01-30",null,60,null,"1900-03-30",null,"1900-04-29",null,"1900-05-29",null,"1900-06-28",null,"1900-07-28",null,"1900-08-27",null,"1900-09-26",null,"1900-10-26",null,"1900-11-25",null,null,null,null,null,null,null,null,null,null,0,0,null,1709]
[null,null,null,null,null,null,null,null,null,null,"00:00:00",null,"1900-01-30",null,60,null,"1900-03-30",null,"1900-04-29",null,"1900-05-29",null,"1900-06-28",null,"1900-07-28",null,"1900-08-27",null,"1900-09-26",null,"1900-10-26",null,"1900-11-25",null,null,null,null,null,null,null,null,null,null,0,0,null,1710]
[null,null,null,null,null,null,null,null,null,null,"00:00:00",null,"1900-01-30",null,60,null,"1900-03-30",null,"1900-04-29",null,"1900-05-29",null,"1900-06-28",null,"1900-07-28",null,"1900-08-27",null,"1900-09-26",null,"1900-10-26",null,"1900-11-25",null,null,null,null,null,null,null,null,null,null,0,0,null,1711]
[null,null,null,null,null,null,null,null,null,null,"00:00:00",null,"1900-01-30",null,60,null,"1900-03-30",null,"1900-04-29",null,"1900-05-29",null,"1900-06-28",null,"1900-07-28",null,"1900-08-27",null,"1900-09-26",null,"1900-10-26",null,"1900-11-25",null,null,null,null,null,null,null,null,null,null,0,0,null,1712]
[null,null,null,null,null,null,null,null,null,null,"00:00:00",null,"1900-01-30",null,60,null,"1900-03-30",null,"1900-04-29",null,"1900-05-29",null,"1900-06-28",null,"1900-07-28",null,"1900-08-27",null,"1900-09-26",null,"1900-10-26",null,"1900-11-25",null,null,null,null,null,null,null,null,null,null,0,0,null,1713]
[null,null,null,null,null,null,null,null,null,null,"00:00:00",null,"1900-01-30",null,60,null,"1900-03-30",null,"1900-04-29",null,"1900-05-29",null,"1900-06-28",null,"1900-07-28",null,"1900-08-27",null,"1900-09-26",null,"1900-10-26",null,"1900-11-25",null,null,null,null,null,null,null,null,null,null,0,0,null,1714]
[null,null,null,null,null,null,null,null,null,null,"00:00:00",null,"1900-01-30",null,60,null,"1900-03-30",null,"1900-04-29",null,"1900-05-29",null,"1900-06-28",null,"1900-07-28",null,"1900-08-27",null,"1900-09-26",null,"1900-10-26",null,"1900-11-25",null,null,null,null,null,null,null,null,null,null,0,0,null,1715]
[null,null,null,null,null,null,null,null,null,null,"00:00:00",null,"1900-01-30",null,60,null,"1900-03-30",null,"1900-04-29",null,"1900-05-29",null,"1900-06-28",null,"1900-07-28",null,"1900-08-27",null,"1900-09-26",null,"1900-10-26",null,"1900-11-25",null,null,null,null,null,null,null,null,null,null,0,0,null,1716]
[null,null,null,null,null,null,null,null,null,null,"00:00:00",null,"1900-01-30",null,60,null,"1900-03-30",null,"1900-04-29",null,"1900-05-29",null,"1900-06-28",null,"1900-07-28",null,"1900-08-27",null,"1900-09-26",null,"1900-10-26",null,"1900-11-25",null,null,null,null,null,null,null,null,null,null,0,0,null,1717]
[null,null,null,null,null,null,null,null,null,null,"00:00:00",null,"1900-01-30",null,60,null,"1900-03-30",null,"1900-04-29",null,"1900-05-29",null,"1900-06-28",null,"1900-07-28",null,"1900-08-27",null,"1900-09-26",null,"1900-10-26",null,"1900-11-25",null,null,null,null,null,null,null,null,null,null,0,0,null,1718]
[null,null,null,null,null,null,null,null,null,null,"00:00:00",null,"1900-01-30",null,60,null,"1900-03-30",null,"1900-04-29",null,"1900-05-29",null,"1900-06-28",null,"1900-07-28",null,"1900-08-27",null,"1900-09-26",null,"1900-10-26",null,"1900-11-25",null,null,null,null,null,null,null,null,null,null,0,0,null,1719]
[null,null,null,null,null,null,null,null,null,null,"00:00:00",null,"1900-01-30",null,60,null,"1900-03-30",null,"1900-04-29",null,"1900-05-29",null,"1900-06-28",null,"1900-07-28",null,"1900-08-27",null,"1900-09-26",null,"1900-10-26",null,"1900-11-25",null,null,null,null,null,null,null,null,null,null,0,0,null,1720]
[null,null,null,null,null,null,null,null,null,null,"00:00:00",null,"1900-01-30",null,60,null,"1900-03-30",null,"1900-04-29",null,"1900-05-29",null,"1900-06-28",null,"1900-07-28",null,"1900-08-27",null,"1900-09-26",null,"1900-10-26",null,"1900-11-25",null,null,null,null,null,null,null,null,null,null,0,0,null,1721]
[null,null,null,null,null,null,null,null,null,null,"00:00:00",null,"1900-01-30",null,60,null,"1900-03-30",null,"1900-04-29",null,"1900-05-29",null,"1900-06-28",null,"1900-07-28",null,"1900-08-27",null,"1900-09-26",null,"1900-10-26",null,"1900-11-25",null,null,null,null,null,null,null,null,null,null,0,0,null,1722]
[null,null,null,null,null,null,null,null,null,null,"00:00:00",null,"1900-01-30",null,60,null,"1900-03-30",null,"1900-04-29",null,"1900-05-29",null,"1900-06-28",null,"1900-07-28",null,"1900-08-27",null,"1900-09-26",null,"1900-10-26",null,"1900-11-25",null,null,null,null,null,null,null,null,null,null,0,0,null,1723]
[null,null,null,null,null,null,null,null,null,null,"00:00:00",null,"1900-01-30",null,60,null,"1900-03-30",null,"1900-04-29",null,"1900-05-29",null,"1900-06-28",null,"1900-07-28",null,"1900-08-27",null,"1900-09-26",null,"1900-10-26",null,"1900-11-25",null,null,null,null,null,null,null,null,null,null,0,0,null,1724]
[null,null,null,null,null,null,null,null,null,null,"00:00:00",null,"1900-01-30",null,60,null,"1900-03-30",null,"1900-04-29",null,"1900-05-29",null,"1900-06-28",null,"1900-07-28",null,"1900-08-27",null,"1900-09-26",null,"1900-10-26",null,"1900-11-25",null,null,null,null,null,null,null,null,null,null,0,0,null,1725]
[null,null,null,null,null,null,null,null,null,null,"00:00:00",null,"1900-01-30",null,60,null,"1900-03-30",null,"1900-04-29",null,"1900-05-29",null,"1900-06-28",null,"1900-07-28",null,"1900-08-27",null,"1900-09-26",null,"1900-10-26",null,"1900-11-25",null,null,null,null,null,null,null,null,null,null,0,0,null,1726]
[null,null,null,null,null,null,null,null,null,null,"00:00:00",null,"1900-01-30",null,60,null,"1900-03-30",null,"1900-04-29",null,"1900-05-29",null,"1900-06-28",null,"1900-07-28",null,"1900-08-27",null,"1900-09-26",null,"1900-10-26",null,"1900-11-25",null,null,null,null,null,null,null,null,null,null,0,0,null,1727]
[null,null,null,null,null,null,null,null,null,null,"00:00:00",null,"1900-01-30",null,60,null,"1900-03-30",null,"1900-04-29",null,"1900-05-29",null,"1900-06-28",null,"1900-07-28",null,"1900-08-27",null,"1900-09-26",null,"1900-10-26",null,"1900-11-25",null,null,null,null,null,null,null,null,null,null,0,0,null,1728]
[null,null,null,null,null,null,null,null,null,null,"00:00:00",null,"1900-01-30",null,60,null,"1900-03-30",null,"1900-04-29",null,"1900-05-29",null,"1900-06-28",null,"1900-07-28",null,"1900-08-27",null,"1900-09-26",null,"1900-10-26",null,"1900-11-25",null,null,null,null,null,null,null,null,null,null,0,0,null,1729]
[null,null,null,null,null,null,null,null,null,null,"00:00:00",null,"1900-01-30",null,60,null,"1900-03-30",null,"1900-04-29",null,"1900-05-29",null,"1900-06-28",null,"1900-07-28",null,"1900-08-27",null,"1900-09-26",null,"1900-10-26",null,"1900-11-25",null,null,null,null,null,null,null,null,null,null,0,{"$f":"H262-AR262","v":0},null,1730]
[null,null,null,null,null,null,null,null,null,null,"00:00:00",null,"1900-01-30",null,60,null,"1900-03-30",null,"1900-04-29",null,"1900-05-29",null,"1900-06-28",null,"1900-07-28",null,"1900-08-27",null,"1900-09-26",null,"1900-10-26",null,"1900-11-25",null,null,null,null,null,null,null,null,null,null,{"$f":"SUM(J263+L263+N263+P263+R263+T263+V263+X263+Z263+AB263+AD263+AF263)","v":0},0,null,1731]
[null,null,null,null,null,null,null,null,null,null,"00:00:00",null,"1900-01-30",null,60,null,"1900-03-30",null,"1900-04-29",null,"1900-05-29",null,"1900-06-28",null,"1900-07-28",null,"1900-08-27",null,"1900-09-26",null,"1900-10-26",null,"1900-11-25",null,null,null,null,null,null,null,null,null,null,0,0,null,1732]
[null,null,null,null,null,null,null,null,null,null,"00:00:00",null,"1900-01-30",null,60,null,"1900-03-30",null,"1900-04-29",null,"1900-05-29",null,"1900-06-28",null,"1900-07-28",null,"1900-08-27",null,"1900-09-26",null,"1900-10-26",null,"1900-11-25",null,null,null,null,null,null,null,null,null,null,0,0,null,1733]
[null,null,null,null,null,null,null,null,null,null,"00:00:00",null,"1900-01-30",null,60,null,"1900-03-30",null,"1900-04-29",null,"1900-05-29",null,"1900-06-28",null,"1900-07-28",null,"1900-08-27",null,"1900-09-26",null,"1900-10-26",null,"1900-11-25",null,null,null,null,null,null,null,null,null,null,0,0,null,1734]
[null,null,null,null,null,null,null,null,null,null,{"$f":"F267","v":"00:00:00"},null,{"$f":"K267+30","v":"1900-01-30"},null,{"$f":"M267+30","v":60},null,{"$f":"O267+30","v":"1900-03-30"},null,{"$f":"Q267+30","v":"1900-04-29"},null,{"$f":"S267+30","v":"1900-05-29"},null,{"$f":"U267+30","v":"1900-06-28"},null,{"$f":"W267+30","v":"1900-07-28"},null,{"$f":"Y267+30","v":"1900-08-27"},null,{"$f":"AA267+30","v":"1900-09-26"},null,{"$f":"AC267+30","v":"1900-10-26"},null,{"$f":"AE267+30","v":"1900-11-25"},null,null,null,null,null,null,null,null,null,null,0,0,null,1735]
[null,null,null,null,null,null,null,null,null,null,"00:00:00",null,"1900-01-30",null,60,null,"1900-03-30",null,"1900-04-29",null,"1900-05-29",null,"1900-06-28",null,"1900-07-28",null,"1900-08-27",null,"1900-09-26",null,"1900-10-26",null,"1900-11-25",null,null,null,null,null,null,null,null,null,null,0,0,null,1736]
[null,null,null,null,null,null,null,null,null,null,"00:00:00",null,"1900-01-30",null,60,null,"1900-03-30",null,"1900-04-29",null,"1900-05-29",null,"1900-06-28",null,"1900-07-28",null,"1900-08-27",null,"1900-09-26",null,"1900-10-26",null,"1900-11-25",null,null,null,null,null,null,null,null,null,null,0,0,null,1737]
[null,null,null,null,null,null,null,null,null,null,"00:00:00",null,"1900-01-30",null,60,null,"1900-03-30",null,"1900-04-29",null,"1900-05-29",null,"1900-06-28",null,"1900-07-28",null,"1900-08-27",null,"1900-09-26",null,"1900-10-26",null,"1900-11-25",null,null,null,null,null,null,null,null,null,null,0,0,null,1738]
[null,null,null,null,null,null,null,null,null,null,"00:00:00",null,"1900-01-30",null,60,null,"1900-03-30",null,"1900-04-29",null,"1900-05-29",null,"1900-06-28",null,"1900-07-28",null,"1900-08-27",null,"1900-09-26",null,"1900-10-26",null,"1900-11-25",null,null,null,null,null,null,null,null,null,null,0,0,null,1739]
[null,null,null,null,null,null,null,null,null,null,"00:00:00",null,"1900-01-30",null,60,null,"1900-03-30",null,"1900-04-29",null,"1900-05-29",null,"1900-06-28",null,"1900-07-28",null,"1900-08-27",null,"1900-09-26",null,"1900-10-26",null,"1900-11-25",null,null,null,null,null,null,null,null,null,null,0,0,null,1740]
[null,null,null,null,null,null,null,null,null,null,"00:00:00",null,"1900-01-30",null,60,null,"1900-03-30",null,"1900-04-29",null,"1900-05-29",null,"1900-06-28",null,"1900-07-28",null,"1900-08-27",null,"1900-09-26",null,"1900-10-26",null,"1900-11-25",null,null,null,null,null,null,null,null,null,null,0,0,null,1741]
[null,null,null,null,null,null,null,null,null,null,"00:00:00",null,"1900-01-30",null,60,null,"1900-03-30",null,"1900-04-29",null,"1900-05-29",null,"1900-06-28",null,"1900-07-28",null,"1900-08-27",null,"1900-09-26",null,"1900-10-26",null,"1900-11-25",null,null,null,null,null,null,null,null,null,null,0,0,null,1742]
[null,null,null,null,null,null,null,null,null,null,"00:00:00",null,"1900-01-30",null,60,null,"1900-03-30",null,"1900-04-29",null,"1900-05-29",null,"1900-06-28",null,"1900-07-28",null,"1900-08-27",null,"1900-09-26",null,"1900-10-26",null,"1900-11-25",null,null,null,null,null,null,null,null,null,null,0,0,null,1743]
[null,null,null,null,null,null,null,null,null,null,"00:00:00",null,"1900-01-30",null,60,null,"1900-03-30",null,"1900-04-29",null,"1900-05-29",null,"1900-06-28",null,"1900-07-28",null,"1900-08-27",null,"1900-09-26",null,"1900-10-26",null,"1900-11-25",null,null,null,null,null,null,null,null,null,null,0,0,null,1744]
[null,null,null,null,null,null,null,null,null,null,"00:00:00",null,"1900-01-30",null,60,null,"1900-03-30",null,"1900-04-29",null,"1900-05-29",null,"1900-06-28",null,"1900-07-28",null,"1900-08-27",null,"1900-09-26",null,"1900-10-26",null,"1900-11-25",null,null,null,null,null,null,null,null,null,null,0,0,null,1745]
[null,null,null,null,null,null,null,null,null,null,"00:00:00",null,"1900-01-30",null,60,null,"1900-03-30",null,"1900-04-29",null,"1900-05-29",null,"1900-06-28",null,"1900-07-28",null,"1900-08-27",null,"1900-09-26",null,"1900-10-26",null,"1900-11-25",null,null,null,null,null,null,null,null,null,null,0,0,null,1746]
[null,null,null,null,null,null,null,null,null,null,"00:00:00",null,"1900-01-30",null,60,null,"1900-03-30",null,"1900-04-29",null,"1900-05-29",null,"1900-06-28",null,"1900-07-28",null,"1900-08-27",null,"1900-09-26",null,"1900-10-26",null,"1900-11-25",null,null,null,null,null,null,null,null,null,null,0,0,null,1747]
[null,null,null,null,null,null,null,null,null,null,"00:00:00",null,"1900-01-30",null,60,null,"1900-03-30",null,"1900-04-29",null,"1900-05-29",null,"1900-06-28",null,"1900-07-28",null,"1900-08-27",null,"1900-09-26",null,"1900-10-26",null,"1900-11-25",null,null,null,null,null,null,null,null,null,null,0,0,null,1748]
[null,null,null,null,null,null,null,null,null,null,"00:00:00",null,"1900-01-30",null,60,null,"1900-03-30",null,"1900-04-29",null,"1900-05-29",null,"1900-06-28",null,"1900-07-28",null,"1900-08-27",null,"1900-09-26",null,"1900-10-26",null,"1900-11-25",null,null,null,null,null,null,null,null,null,null,0,0,null,1749]
[null,null,null,null,null,null,null,null,null,null,"00:00:00",null,"1900-01-30",null,60,null,"1900-03-30",null,"1900-04-29",null,"1900-05-29",null,"1900-06-28",null,"1900-07-28",null,"1900-08-27",null,"1900-09-26",null,"1900-10-26",null,"1900-11-25",null,null,null,null,null,null,null,null,null,null,0,0,null,1750]
[null,null,null,null,null,null,null,null,null,null,"00:00:00",null,"1900-01-30",null,60,null,"1900-03-30",null,"1900-04-29",null,"1900-05-29",null,"1900-06-28",null,"1900-07-28",null,"1900-08-27",null,"1900-09-26",null,"1900-10-26",null,"1900-11-25",null,null,null,null,null,null,null,null,null,null,0,0,null,1751]
[null,null,null,null,null,null,null,null,null,null,"00:00:00",null,"1900-01-30",null,60,null,"1900-03-30",null,"1900-04-29",null,"1900-05-29",null,"1900-06-28",null,"1900-07-28",null,"1900-08-27",null,"1900-09-26",null,"1900-10-26",null,"1900-11-25",null,null,null,null,null,null,null,null,null,null,0,0,null,1752]
[null,null,null,null,null,null,null,null,null,null,"00:00:00",null,"1900-01-30",null,60,null,"1900-03-30",null,"1900-04-29",null,"1900-05-29",null,"1900-06-28",null,"1900-07-28",null,"1900-08-27",null,"1900-09-26",null,"1900-10-26",null,"1900-11-25",null,null,null,null,null,null,null,null,null,null,0,0,null,1753]
[null,null,null,null,null,null,null,null,null,null,"00:00:00",null,"1900-01-30",null,60,null,"1900-03-30",null,"1900-04-29",null,"1900-05-29",null,"1900-06-28",null,"1900-07-28",null,"1900-08-27",null,"1900-09-26",null,"1900-10-26",null,"1900-11-25",null,null,null,null,null,null,null,null,null,null,0,0,null,1754]
[null,null,null,null,null,null,null,null,null,null,"00:00:00",null,"1900-01-30",null,60,null,"1900-03-30",null,"1900-04-29",null,"1900-05-29",null,"1900-06-28",null,"1900-07-28",null,"1900-08-27",null,"1900-09-26",null,"1900-10-26",null,"1900-11-25",null,null,null,null,null,null,null,null,null,null,0,0,null,1755]
[null,null,null,null,null,null,null,null,null,null,"00:00:00",null,"1900-01-30",null,60,null,"1900-03-30",null,"1900-04-29",null,"1900-05-29",null,"1900-06-28",null,"1900-07-28",null,"1900-08-27",null,"1900-09-26",null,"1900-10-26",null,"1900-11-25",null,null,null,null,null,null,null,null,null,null,0,0,null,1756]
[null,null,null,null,null,null,null,null,null,null,"00:00:00",null,"1900-01-30",null,60,null,"1900-03-30",null,"1900-04-29",null,"1900-05-29",null,"1900-06-28",null,"1900-07-28",null,"1900-08-27",null,"1900-09-26",null,"1900-10-26",null,"1900-11-25",null,null,null,null,null,null,null,null,null,null,0,0,null,1757]
[null,null,null,null,null,null,null,null,null,null,"00:00:00",null,"1900-01-30",null,60,null,"1900-03-30",null,"1900-04-29",null,"1900-05-29",null,"1900-06-28",null,"1900-07-28",null,"1900-08-27",null,"1900-09-26",null,"1900-10-26",null,"1900-11-25",null,null,null,null,null,null,null,null,null,null,0,0,null,1758]
[null,null,null,null,null,null,null,null,null,null,"00:00:00",null,"1900-01-30",null,60,null,"1900-03-30",null,"1900-04-29",null,"1900-05-29",null,"1900-06-28",null,"1900-07-28",null,"1900-08-27",null,"1900-09-26",null,"1900-10-26",null,"1900-11-25",null,null,null,null,null,null,null,null,null,null,0,0,null,1759]
[null,null,null,null,null,null,null,null,null,null,"00:00:00",null,"1900-01-30",null,60,null,"1900-03-30",null,"1900-04-29",null,"1900-05-29",null,"1900-06-28",null,"1900-07-28",null,"1900-08-27",null,"1900-09-26",null,"1900-10-26",null,"1900-11-25",null,null,null,null,null,null,null,null,null,null,0,0,null,1760]
[null,null,null,null,null,null,null,null,null,null,"00:00:00",null,"1900-01-30",null,60,null,"1900-03-30",null,"1900-04-29",null,"1900-05-29",null,"1900-06-28",null,"1900-07-28",null,"1900-08-27",null,"1900-09-26",null,"1900-10-26",null,"1900-11-25",null,null,null,null,null,null,null,null,null,null,0,0,null,1761]
[null,null,null,null,null,null,null,null,null,null,"00:00:00",null,"1900-01-30",null,60,null,"1900-03-30",null,"1900-04-29",null,"1900-05-29",null,"1900-06-28",null,"1900-07-28",null,"1900-08-27",null,"1900-09-26",null,"1900-10-26",null,"1900-11-25",null,null,null,null,null,null,null,null,null,null,0,0,null,1762]
[null,null,null,null,null,null,null,null,null,null,"00:00:00",null,"1900-01-30",null,60,null,"1900-03-30",null,"1900-04-29",null,"1900-05-29",null,"1900-06-28",null,"1900-07-28",null,"1900-08-27",null,"1900-09-26",null,"1900-10-26",null,"1900-11-25",null,null,null,null,null,null,null,null,null,null,0,0,null,1763]
[null,null,null,null,null,null,null,null,null,null,"00:00:00",null,"1900-01-30",null,60,null,"1900-03-30",null,"1900-04-29",null,"1900-05-29",null,"1900-06-28",null,"1900-07-28",null,"1900-08-27",null,"1900-09-26",null,"1900-10-26",null,"1900-11-25",null,null,null,null,null,null,null,null,null,null,0,0,null,1764]
[null,null,null,null,null,null,null,null,null,null,"00:00:00",null,"1900-01-30",null,60,null,"1900-03-30",null,"1900-04-29",null,"1900-05-29",null,"1900-06-28",null,"1900-07-28",null,"1900-08-27",null,"1900-09-26",null,"1900-10-26",null,"1900-11-25",null,null,null,null,null,null,null,null,null,null,0,0,null,1765]
[null,null,null,null,null,null,null,null,null,null,"00:00:00",null,"1900-01-30",null,60,null,"1900-03-30",null,"1900-04-29",null,"1900-05-29",null,"1900-06-28",null,"1900-07-28",null,"1900-08-27",null,"1900-09-26",null,"1900-10-26",null,"1900-11-25",null,null,null,null,null,null,null,null,null,null,0,0,null,1766]
[null,null,null,null,null,null,null,null,null,null,"00:00:00",null,"1900-01-30",null,60,null,"1900-03-30",null,"1900-04-29",null,"1900-05-29",null,"1900-06-28",null,"1900-07-28",null,"1900-08-27",null,"1900-09-26",null,"1900-10-26",null,"1900-11-25",null,null,null,null,null,null,null,null,null,null,0,0,null,1767]
[null,null,null,null,null,null,null,null,null,null,"00:00:00",null,"1900-01-30",null,60,null,"1900-03-30",null,"1900-04-29",null,"1900-05-29",null,"1900-06-28",null,"1900-07-28",null,"1900-08-27",null,"1900-09-26",null,"1900-10-26",null,"1900-11-25",null,null,null,null,null,null,null,null,null,null,0,0,null,1768]
[null,null,null,null,null,null,null,null,null,null,"00:00:00",null,"1900-01-30",null,60,null,"1900-03-30",null,"1900-04-29",null,"1900-05-29",null,"1900-06-28",null,"1900-07-28",null,"1900-08-27",null,"1900-09-26",null,"1900-10-26",null,"1900-11-25",null,null,null,null,null,null,null,null,null,null,0,0,null,1769]
[null,null,null,null,null,null,null,null,null,null,"00:00:00",null,"1900-01-30",null,60,null,"1900-03-30",null,"1900-04-29",null,"1900-05-29",null,"1900-06-28",null,"1900-07-28",null,"1900-08-27",null,"1900-09-26",null,"1900-10-26",null,"1900-11-25",null,null,null,null,null,null,null,null,null,null,0,0,null,1770]
[null,null,null,null,null,null,null,null,null,null,"00:00:00",null,"1900-01-30",null,60,null,"1900-03-30",null,"1900-04-29",null,"1900-05-29",null,"1900-06-28",null,"1900-07-28",null,"1900-08-27",null,"1900-09-26",null,"1900-10-26",null,"1900-11-25",null,null,null,null,null,null,null,null,null,null,0,0,null,1771]
[null,null,null,null,null,null,null,null,null,null,"00:00:00",null,"1900-01-30",null,60,null,"1900-03-30",null,"1900-04-29",null,"1900-05-29",null,"1900-06-28",null,"1900-07-28",null,"1900-08-27",null,"1900-09-26",null,"1900-10-26",null,"1900-11-25",null,null,null,null,null,null,null,null,null,null,0,0,null,1772]
[null,null,null,null,null,null,null,null,null,null,"00:00:00",null,"1900-01-30",null,60,null,"1900-03-30",null,"1900-04-29",null,"1900-05-29",null,"1900-06-28",null,"1900-07-28",null,"1900-08-27",null,"1900-09-26",null,"1900-10-26",null,"1900-11-25",null,null,null,null,null,null,null,null,null,null,0,0,null,1773]
[null,null,null,null,null,null,null,null,null,null,"00:00:00",null,"1900-01-30",null,60,null,"1900-03-30",null,"1900-04-29",null,"1900-05-29",null,"1900-06-28",null,"1900-07-28",null,"1900-08-27",null,"1900-09-26",null,"1900-10-26",null,"1900-11-25",null,null,null,null,null,null,null,null,null,null,0,0,null,1774]
[null,null,null,null,null,null,null,null,null,null,"00:00:00",null,"1900-01-30",null,60,null,"1900-03-30",null,"1900-04-29",null,"1900-05-29",null,"1900-06-28",null,"1900-07-28",null,"1900-08-27",null,"1900-09-26",null,"1900-10-26",null,"1900-11-25",null,null,null,null,null,null,null,null,null,null,0,0,null,1775]
[null,null,null,null,null,null,null,null,null,null,"00:00:00",null,"1900-01-30",null,60,null,"1900-03-30",null,"1900-04-29",null,"1900-05-29",null,"1900-06-28",null,"1900-07-28",null,"1900-08-27",null,"1900-09-26",null,"1900-10-26",null,"1900-11-25",null,null,null,null,null,null,null,null,null,null,0,0,null,1776]
[null,null,null,null,null,null,null,null,null,null,"00:00:00",null,"1900-01-30",null,60,null,"1900-03-30",null,"1900-04-29",null,"1900-05-29",null,"1900-06-28",null,"1900-07-28",null,"1900-08-27",null,"1900-09-26",null,"1900-10-26",null,"1900-11-25",null,null,null,null,null,null,null,null,null,null,0,0,null,1777]
[null,null,null,null,null,null,null,null,null,null,"00:00:00",null,"1900-01-30",null,60,null,"1900-03-30",null,"1900-04-29",null,"1900-05-29",null,"1900-06-28",null,"1900-07-28",null,"1900-08-27",null,"1900-09-26",null,"1900-10-26",null,"1900-11-25",null,null,null,null,null,null,null,null,null,null,0,0,null,1778]
[null,null,null,null,null,null,null,null,null,null,"00:00:00",null,"1900-01-30",null,60,null,"1900-03-30",null,"1900-04-29",null,"1900-05-29",null,"1900-06-28",null,"1900-07-28",null,"1900-08-27",null,"1900-09-26",null,"1900-10-26",null,"1900-11-25",null,null,null,null,null,null,null,null,null,null,0,0,null,1779]
[null,null,null,null,null,null,null,null,null,null,"00:00:00",null,"1900-01-30",null,60,null,"1900-03-30",null,"1900-04-29",null,"1900-05-29",null,"1900-06-28",null,"1900-07-28",null,"1900-08-27",null,"1900-09-26",null,"1900-10-26",null,"1900-11-25",null,null,null,null,null,null,null,null,null,null,0,0,null,1780]
[null,null,null,null,null,null,null,null,null,null,"00:00:00",null,"1900-01-30",null,60,null,"1900-03-30",null,"1900-04-29",null,"1900-05-29",null,"1900-06-28",null,"1900-07-28",null,"1900-08-27",null,"1900-09-26",null,"1900-10-26",null,"1900-11-25",null,null,null,null,null,null,null,null,null,null,0,0,null,1781]
[null,null,null,null,null,null,null,null,null,null,"00:00:00",null,"1900-01-30",null,60,null,"1900-03-30",null,"1900-04-29",null,"1900-05-29",null,"1900-06-28",null,"1900-07-28",null,"1900-08-27",null,"1900-09-26",null,"1900-10-26",null,"1900-11-25",null,null,null,null,null,null,null,null,null,null,0,0,null,1782]
[null,null,null,null,null,null,null,null,null,null,"00:00:00",null,"1900-01-30",null,60,null,"1900-03-30",null,"1900-04-29",null,"1900-05-29",null,"1900-06-28",null,"1900-07-28",null,"1900-08-27",null,"1900-09-26",null,"1900-10-26",null,"1900-11-25",null,null,null,null,null,null,null,null,null,null,0,0,null,1783]
[null,null,null,null,null,null,null,null,null,null,"00:00:00",null,"1900-01-30",null,60,null,"1900-03-30",null,"1900-04-29",null,"1900-05-29",null,"1900-06-28",null,"1900-07-28",null,"1900-08-27",null,"1900-09-26",null,"1900-10-26",null,"1900-11-25",null,null,null,null,null,null,null,null,null,null,0,0,null,1784]
[null,null,null,null,null,null,null,null,null,null,"00:00:00",null,"1900-01-30",null,60,null,"1900-03-30",null,"1900-04-29",null,"1900-05-29",null,"1900-06-28",null,"1900-07-28",null,"1900-08-27",null,"1900-09-26",null,"1900-10-26",null,"1900-11-25",null,null,null,null,null,null,null,null,null,null,0,0,null,1785]
[null,null,null,null,null,null,null,null,null,null,"00:00:00",null,"1900-01-30",null,60,null,"1900-03-30",null,"1900-04-29",null,"1900-05-29",null,"1900-06-28",null,"1900-07-28",null,"1900-08-27",null,"1900-09-26",null,"1900-10-26",null,"1900-11-25",null,null,null,null,null,null,null,null,null,null,0,0,null,1786]
[null,null,null,null,null,null,null,null,null,null,"00:00:00",null,"1900-01-30",null,60,null,"1900-03-30",null,"1900-04-29",null,"1900-05-29",null,"1900-06-28",null,"1900-07-28",null,"1900-08-27",null,"1900-09-26",null,"1900-10-26",null,"1900-11-25",null,null,null,null,null,null,null,null,null,null,0,0,null,1787]
[null,null,null,null,null,null,null,null,null,null,"00:00:00",null,"1900-01-30",null,60,null,"1900-03-30",null,"1900-04-29",null,"1900-05-29",null,"1900-06-28",null,"1900-07-28",null,"1900-08-27",null,"1900-09-26",null,"1900-10-26",null,"1900-11-25",null,null,null,null,null,null,null,null,null,null,0,0,null,1788]
[null,null,null,null,null,null,null,null,null,null,"00:00:00",null,"1900-01-30",null,60,null,"1900-03-30",null,"1900-04-29",null,"1900-05-29",null,"1900-06-28",null,"1900-07-28",null,"1900-08-27",null,"1900-09-26",null,"1900-10-26",null,"1900-11-25",null,null,null,null,null,null,null,null,null,null,0,0,null,1789]
[null,null,null,null,null,null,null,null,null,null,"00:00:00",null,"1900-01-30",null,60,null,"1900-03-30",null,"1900-04-29",null,"1900-05-29",null,"1900-06-28",null,"1900-07-28",null,"1900-08-27",null,"1900-09-26",null,"1900-10-26",null,"1900-11-25",null,null,null,null,null,null,null,null,null,null,0,0,null,1790]
[null,null,null,null,null,null,null,null,null,null,"00:00:00",null,"1900-01-30",null,60,null,"1900-03-30",null,"1900-04-29",null,"1900-05-29",null,"1900-06-28",null,"1900-07-28",null,"1900-08-27",null,"1900-09-26",null,"1900-10-26",null,"1900-11-25",null,null,null,null,null,null,null,null,null,null,0,0,null,1791]
[null,null,null,null,null,null,null,null,null,null,"00:00:00",null,"1900-01-30",null,60,null,"1900-03-30",null,"1900-04-29",null,"1900-05-29",null,"1900-06-28",null,"1900-07-28",null,"1900-08-27",null,"1900-09-26",null,"1900-10-26",null,"1900-11-25",null,null,null,null,null,null,null,null,null,null,0,0,null,1792]
[null,null,null,null,null,null,null,null,null,null,"00:00:00",null,"1900-01-30",null,60,null,"1900-03-30",null,"1900-04-29",null,"1900-05-29",null,"1900-06-28",null,"1900-07-28",null,"1900-08-27",null,"1900-09-26",null,"1900-10-26",null,"1900-11-25",null,null,null,null,null,null,null,null,null,null,0,0,null,1793]
[null,null,null,null,null,null,null,null,null,null,"00:00:00",null,"1900-01-30",null,60,null,"1900-03-30",null,"1900-04-29",null,"1900-05-29",null,"1900-06-28",null,"1900-07-28",null,"1900-08-27",null,"1900-09-26",null,"1900-10-26",null,"1900-11-25",null,null,null,null,null,null,null,null,null,null,0,{"$f":"H326-AR326","v":0},null,1794]
[null,null,null,null,null,null,null,null,null,null,"00:00:00",null,"1900-01-30",null,60,null,"1900-03-30",null,"1900-04-29",null,"1900-05-29",null,"1900-06-28",null,"1900-07-28",null,"1900-08-27",null,"1900-09-26",null,"1900-10-26",null,"1900-11-25",null,null,null,null,null,null,null,null,null,null,{"$f":"SUM(J327+L327+N327+P327+R327+T327+V327+X327+Z327+AB327+AD327+AF327)","v":0},0,null,1795]
[null,null,null,null,null,null,null,null,null,null,"00:00:00",null,"1900-01-30",null,60,null,"1900-03-30",null,"1900-04-29",null,"1900-05-29",null,"1900-06-28",null,"1900-07-28",null,"1900-08-27",null,"1900-09-26",null,"1900-10-26",null,"1900-11-25",null,null,null,null,null,null,null,null,null,null,0,0,null,1796]
[null,null,null,null,null,null,null,null,null,null,"00:00:00",null,"1900-01-30",null,60,null,"1900-03-30",null,"1900-04-29",null,"1900-05-29",null,"1900-06-28",null,"1900-07-28",null,"1900-08-27",null,"1900-09-26",null,"1900-10-26",null,"1900-11-25",null,null,null,null,null,null,null,null,null,null,0,0,null,1797]
[null,null,null,null,null,null,null,null,null,null,"00:00:00",null,"1900-01-30",null,60,null,"1900-03-30",null,"1900-04-29",null,"1900-05-29",null,"1900-06-28",null,"1900-07-28",null,"1900-08-27",null,"1900-09-26",null,"1900-10-26",null,"1900-11-25",null,null,null,null,null,null,null,null,null,null,0,0,null,1798]
[null,null,null,null,null,null,null,null,null,null,{"$f":"F331","v":"00:00:00"},null,{"$f":"K331+30","v":"1900-01-30"},null,{"$f":"M331+30","v":60},null,{"$f":"O331+30","v":"1900-03-30"},null,{"$f":"Q331+30","v":"1900-04-29"},null,{"$f":"S331+30","v":"1900-05-29"},null,{"$f":"U331+30","v":"1900-06-28"},null,{"$f":"W331+30","v":"1900-07-28"},null,{"$f":"Y331+30","v":"1900-08-27"},null,{"$f":"AA331+30","v":"1900-09-26"},null,{"$f":"AC331+30","v":"1900-10-26"},null,{"$f":"AE331+30","v":"1900-11-25"},null,null,null,null,null,null,null,null,null,null,0,0,null,1799]
[null,null,null,null,null,null,null,null,null,null,"00:00:00",null,"1900-01-30",null,60,null,"1900-03-30",null,"1900-04-29",null,"1900-05-29",null,"1900-06-28",null,"1900-07-28",null,"1900-08-27",null,"1900-09-26",null,"1900-10-26",null,"1900-11-25",null,null,null,null,null,null,null,null,null,null,0,0,null,1800]
[null,null,null,null,null,null,null,null,null,null,"00:00:00",null,"1900-01-30",null,60,null,"1900-03-30",null,"1900-04-29",null,"1900-05-29",null,"1900-06-28",null,"1900-07-28",null,"1900-08-27",null,"1900-09-26",null,"1900-10-26",null,"1900-11-25",null,null,null,null,null,null,null,null,null,null,0,0,null,1801]
[null,null,null,null,null,null,null,null,null,null,"00:00:00",null,"1900-01-30",null,60,null,"1900-03-30",null,"1900-04-29",null,"1900-05-29",null,"1900-06-28",null,"1900-07-28",null,"1900-08-27",null,"1900-09-26",null,"1900-10-26",null,"1900-11-25",null,null,null,null,null,null,null,null,null,null,0,0,null,1802]
[null,null,null,null,null,null,null,null,null,null,"00:00:00",null,"1900-01-30",null,60,null,"1900-03-30",null,"1900-04-29",null,"1900-05-29",null,"1900-06-28",null,"1900-07-28",null,"1900-08-27",null,"1900-09-26",null,"1900-10-26",null,"1900-11-25",null,null,null,null,null,null,null,null,null,null,0,0,null,1803]
[null,null,null,null,null,null,null,null,null,null,"00:00:00",null,"1900-01-30",null,60,null,"1900-03-30",null,"1900-04-29",null,"1900-05-29",null,"1900-06-28",null,"1900-07-28",null,"1900-08-27",null,"1900-09-26",null,"1900-10-26",null,"1900-11-25",null,null,null,null,null,null,null,null,null,null,0,0,null,1804]
[null,null,null,null,null,null,null,null,null,null,"00:00:00",null,"1900-01-30",null,60,null,"1900-03-30",null,"1900-04-29",null,"1900-05-29",null,"1900-06-28",null,"1900-07-28",null,"1900-08-27",null,"1900-09-26",null,"1900-10-26",null,"1900-11-25",null,null,null,null,null,null,null,null,null,null,0,0,null,1805]
[null,null,null,null,null,null,null,null,null,null,"00:00:00",null,"1900-01-30",null,60,null,"1900-03-30",null,"1900-04-29",null,"1900-05-29",null,"1900-06-28",null,"1900-07-28",null,"1900-08-27",null,"1900-09-26",null,"1900-10-26",null,"1900-11-25",null,null,null,null,null,null,null,null,null,null,0,0,null,1806]
[null,null,null,null,null,null,null,null,null,null,"00:00:00",null,"1900-01-30",null,60,null,"1900-03-30",null,"1900-04-29",null,"1900-05-29",null,"1900-06-28",null,"1900-07-28",null,"1900-08-27",null,"1900-09-26",null,"1900-10-26",null,"1900-11-25",null,null,null,null,null,null,null,null,null,null,0,0,null,1807]
[null,null,null,null,null,null,null,null,null,null,"00:00:00",null,"1900-01-30",null,60,null,"1900-03-30",null,"1900-04-29",null,"1900-05-29",null,"1900-06-28",null,"1900-07-28",null,"1900-08-27",null,"1900-09-26",null,"1900-10-26",null,"1900-11-25",null,null,null,null,null,null,null,null,null,null,0,0,null,1808]
[null,null,null,null,null,null,null,null,null,null,"00:00:00",null,"1900-01-30",null,60,null,"1900-03-30",null,"1900-04-29",null,"1900-05-29",null,"1900-06-28",null,"1900-07-28",null,"1900-08-27",null,"1900-09-26",null,"1900-10-26",null,"1900-11-25",null,null,null,null,null,null,null,null,null,null,0,0,null,1809]
[null,null,null,null,null,null,null,null,null,null,"00:00:00",null,"1900-01-30",null,60,null,"1900-03-30",null,"1900-04-29",null,"1900-05-29",null,"1900-06-28",null,"1900-07-28",null,"1900-08-27",null,"1900-09-26",null,"1900-10-26",null,"1900-11-25",null,null,null,null,null,null,null,null,null,null,0,0,null,1810]
[null,null,null,null,null,null,null,null,null,null,"00:00:00",null,"1900-01-30",null,60,null,"1900-03-30",null,"1900-04-29",null,"1900-05-29",null,"1900-06-28",null,"1900-07-28",null,"1900-08-27",null,"1900-09-26",null,"1900-10-26",null,"1900-11-25",null,null,null,null,null,null,null,null,null,null,0,0,null,1811]
[null,null,null,null,null,null,null,null,null,null,"00:00:00",null,"1900-01-30",null,60,null,"1900-03-30",null,"1900-04-29",null,"1900-05-29",null,"1900-06-28",null,"1900-07-28",null,"1900-08-27",null,"1900-09-26",null,"1900-10-26",null,"1900-11-25",null,null,null,null,null,null,null,null,null,null,0,0,null,1812]
[null,null,null,null,null,null,null,null,null,null,"00:00:00",null,"1900-01-30",null,60,null,"1900-03-30",null,"1900-04-29",null,"1900-05-29",null,"1900-06-28",null,"1900-07-28",null,"1900-08-27",null,"1900-09-26",null,"1900-10-26",null,"1900-11-25",null,null,null,null,null,null,null,null,null,null,0,0,null,1813]
[null,null,null,null,null,null,null,null,null,null,"00:00:00",null,"1900-01-30",null,60,null,"1900-03-30",null,"1900-04-29",null,"1900-05-29",null,"1900-06-28",null,"1900-07-28",null,"1900-08-27",null,"1900-09-26",null,"1900-10-26",null,"1900-11-25",null,null,null,null,null,null,null,null,null,null,0,0,null,1814]
[null,null,null,null,null,null,null,null,null,null,"00:00:00",null,"1900-01-30",null,60,null,"1900-03-30",null,"1900-04-29",null,"1900-05-29",null,"1900-06-28",null,"1900-07-28",null,"1900-08-27",null,"1900-09-26",null,"1900-10-26",null,"1900-11-25",null,null,null,null,null,null,null,null,null,null,0,0,null,1815]
[null,null,null,null,null,null,null,null,null,null,"00:00:00",null,"1900-01-30",null,60,null,"1900-03-30",null,"1900-04-29",null,"1900-05-29",null,"1900-06-28",null,"1900-07-28",null,"1900-08-27",null,"1900-09-26",null,"1900-10-26",null,"1900-11-25",null,null,null,null,null,null,null,null,null,null,0,0,null,1816]
[null,null,null,null,null,null,null,null,null,null,"00:00:00",null,"1900-01-30",null,60,null,"1900-03-30",null,"1900-04-29",null,"1900-05-29",null,"1900-06-28",null,"1900-07-28",null,"1900-08-27",null,"1900-09-26",null,"1900-10-26",null,"1900-11-25",null,null,null,null,null,null,null,null,null,null,0,0,null,1817]
[null,null,null,null,null,null,null,null,null,null,"00:00:00",null,"1900-01-30",null,60,null,"1900-03-30",null,"1900-04-29",null,"1900-05-29",null,"1900-06-28",null,"1900-07-28",null,"1900-08-27",null,"1900-09-26",null,"1900-10-26",null,"1900-11-25",null,null,null,null,null,null,null,null,null,null,0,0,null,1818]
[null,null,null,null,null,null,null,null,null,null,"00:00:00",null,"1900-01-30",null,60,null,"1900-03-30",null,"1900-04-29",null,"1900-05-29",null,"1900-06-28",null,"1900-07-28",null,"1900-08-27",null,"1900-09-26",null,"1900-10-26",null,"1900-11-25",null,null,null,null,null,null,null,null,null,null,0,0,null,1819]
[null,null,null,null,null,null,null,null,null,null,"00:00:00",null,"1900-01-30",null,60,null,"1900-03-30",null,"1900-04-29",null,"1900-05-29",null,"1900-06-28",null,"1900-07-28",null,"1900-08-27",null,"1900-09-26",null,"1900-10-26",null,"1900-11-25",null,null,null,null,null,null,null,null,null,null,0,0,null,1820]
[null,null,null,null,null,null,null,null,null,null,"00:00:00",null,"1900-01-30",null,60,null,"1900-03-30",null,"1900-04-29",null,"1900-05-29",null,"1900-06-28",null,"1900-07-28",null,"1900-08-27",null,"1900-09-26",null,"1900-10-26",null,"1900-11-25",null,null,null,null,null,null,null,null,null,null,0,0,null,1821]
[null,null,null,null,null,null,null,null,null,null,"00:00:00",null,"1900-01-30",null,60,null,"1900-03-30",null,"1900-04-29",null,"1900-05-29",null,"1900-06-28",null,"1900-07-28",null,"1900-08-27",null,"1900-09-26",null,"1900-10-26",null,"1900-11-25",null,null,null,null,null,null,null,null,null,null,0,0,null,1822]
[null,null,null,null,null,null,null,null,null,null,"00:00:00",null,"1900-01-30",null,60,null,"1900-03-30",null,"1900-04-29",null,"1900-05-29",null,"1900-06-28",null,"1900-07-28",null,"1900-08-27",null,"1900-09-26",null,"1900-10-26",null,"1900-11-25",null,null,null,null,null,null,null,null,null,null,0,0,null,1823]
[null,null,null,null,null,null,null,null,null,null,"00:00:00",null,"1900-01-30",null,60,null,"1900-03-30",null,"1900-04-29",null,"1900-05-29",null,"1900-06-28",null,"1900-07-28",null,"1900-08-27",null,"1900-09-26",null,"1900-10-26",null,"1900-11-25",null,null,null,null,null,null,null,null,null,null,0,0,null,1824]
[null,null,null,null,null,null,null,null,null,null,"00:00:00",null,"1900-01-30",null,60,null,"1900-03-30",null,"1900-04-29",null,"1900-05-29",null,"1900-06-28",null,"1900-07-28",null,"1900-08-27",null,"1900-09-26",null,"1900-10-26",null,"1900-11-25",null,null,null,null,null,null,null,null,null,null,0,0,null,1825]
[null,null,null,null,null,null,null,null,null,null,"00:00:00",null,"1900-01-30",null,60,null,"1900-03-30",null,"1900-04-29",null,"1900-05-29",null,"1900-06-28",null,"1900-07-28",null,"1900-08-27",null,"1900-09-26",null,"1900-10-26",null,"1900-11-25",null,null,null,null,null,null,null,null,null,null,0,0,null,1826]
[null,null,null,null,null,null,null,null,null,null,"00:00:00",null,"1900-01-30",null,60,null,"1900-03-30",null,"1900-04-29",null,"1900-05-29",null,"1900-06-28",null,"1900-07-28",null,"1900-08-27",null,"1900-09-26",null,"1900-10-26",null,"1900-11-25",null,null,null,null,null,null,null,null,null,null,0,0,null,1827]
[null,null,null,null,null,null,null,null,null,null,"00:00:00",null,"1900-01-30",null,60,null,"1900-03-30",null,"1900-04-29",null,"1900-05-29",null,"1900-06-28",null,"1900-07-28",null,"1900-08-27",null,"1900-09-26",null,"1900-10-26",null,"1900-11-25",null,null,null,null,null,null,null,null,null,null,0,0,null,1828]
[null,null,null,null,null,null,null,null,null,null,"00:00:00",null,"1900-01-30",null,60,null,"1900-03-30",null,"1900-04-29",null,"1900-05-29",null,"1900-06-28",null,"1900-07-28",null,"1900-08-27",null,"1900-09-26",null,"1900-10-26",null,"1900-11-25",null,null,null,null,null,null,null,null,null,null,0,0,null,1829]
[null,null,null,null,null,null,null,null,null,null,"00:00:00",null,"1900-01-30",null,60,null,"1900-03-30",null,"1900-04-29",null,"1900-05-29",null,"1900-06-28",null,"1900-07-28",null,"1900-08-27",null,"1900-09-26",null,"1900-10-26",null,"1900-11-25",null,null,null,null,null,null,null,null,null,null,0,0,null,1830]
[null,null,null,null,null,null,null,null,null,null,"00:00:00",null,"1900-01-30",null,60,null,"1900-03-30",null,"1900-04-29",null,"1900-05-29",null,"1900-06-28",null,"1900-07-28",null,"1900-08-27",null,"1900-09-26",null,"1900-10-26",null,"1900-11-25",null,null,null,null,null,null,null,null,null,null,0,0,null,1831]
[null,null,null,null,null,null,null,null,null,null,"00:00:00",null,"1900-01-30",null,60,null,"1900-03-30",null,"1900-04-29",null,"1900-05-29",null,"1900-06-28",null,"1900-07-28",null,"1900-08-27",null,"1900-09-26",null,"1900-10-26",null,"1900-11-25",null,null,null,null,null,null,null,null,null,null,0,0,null,1832]
[null,null,null,null,null,null,null,null,null,null,"00:00:00",null,"1900-01-30",null,60,null,"1900-03-30",null,"1900-04-29",null,"1900-05-29",null,"1900-06-28",null,"1900-07-28",null,"1900-08-27",null,"1900-09-26",null,"1900-10-26",null,"1900-11-25",null,null,null,null,null,null,null,null,null,null,0,0,null,1833]
[null,null,null,null,null,null,null,null,null,null,"00:00:00",null,"1900-01-30",null,60,null,"1900-03-30",null,"1900-04-29",null,"1900-05-29",null,"1900-06-28",null,"1900-07-28",null,"1900-08-27",null,"1900-09-26",null,"1900-10-26",null,"1900-11-25",null,null,null,null,null,null,null,null,null,null,0,0,null,1834]
[null,null,null,null,null,null,null,null,null,null,"00:00:00",null,"1900-01-30",null,60,null,"1900-03-30",null,"1900-04-29",null,"1900-05-29",null,"1900-06-28",null,"1900-07-28",null,"1900-08-27",null,"1900-09-26",null,"1900-10-26",null,"1900-11-25",null,null,null,null,null,null,null,null,null,null,0,0,null,1835]
[null,null,null,null,null,null,null,null,null,null,"00:00:00",null,"1900-01-30",null,60,null,"1900-03-30",null,"1900-04-29",null,"1900-05-29",null,"1900-06-28",null,"1900-07-28",null,"1900-08-27",null,"1900-09-26",null,"1900-10-26",null,"1900-11-25",null,null,null,null,null,null,null,null,null,null,0,0,null,1836]
[null,null,null,null,null,null,null,null,null,null,"00:00:00",null,"1900-01-30",null,60,null,"1900-03-30",null,"1900-04-29",null,"1900-05-29",null,"1900-06-28",null,"1900-07-28",null,"1900-08-27",null,"1900-09-26",null,"1900-10-26",null,"1900-11-25",null,null,null,null,null,null,null,null,null,null,0,0,null,1837]
[null,null,null,null,null,null,null,null,null,null,"00:00:00",null,"1900-01-30",null,60,null,"1900-03-30",null,"1900-04-29",null,"1900-05-29",null,"1900-06-28",null,"1900-07-28",null,"1900-08-27",null,"1900-09-26",null,"1900-10-26",null,"1900-11-25",null,null,null,null,null,null,null,null,null,null,0,0,null,1838]
[null,null,null,null,null,null,null,null,null,null,"00:00:00",null,"1900-01-30",null,60,null,"1900-03-30",null,"1900-04-29",null,"1900-05-29",null,"1900-06-28",null,"1900-07-28",null,"1900-08-27",null,"1900-09-26",null,"1900-10-26",null,"1900-11-25",null,null,null,null,null,null,null,null,null,null,0,0,null,1839]
[null,null,null,null,null,null,null,null,null,null,"00:00:00",null,"1900-01-30",null,60,null,"1900-03-30",null,"1900-04-29",null,"1900-05-29",null,"1900-06-28",null,"1900-07-28",null,"1900-08-27",null,"1900-09-26",null,"1900-10-26",null,"1900-11-25",null,null,null,null,null,null,null,null,null,null,0,0,null,1840]
[null,null,null,null,null,null,null,null,null,null,"00:00:00",null,"1900-01-30",null,60,null,"1900-03-30",null,"1900-04-29",null,"1900-05-29",null,"1900-06-28",null,"1900-07-28",null,"1900-08-27",null,"1900-09-26",null,"1900-10-26",null,"1900-11-25",null,null,null,null,null,null,null,null,null,null,0,0,null,1841]
[null,null,null,null,null,null,null,null,null,null,"00:00:00",null,"1900-01-30",null,60,null,"1900-03-30",null,"1900-04-29",null,"1900-05-29",null,"1900-06-28",null,"1900-07-28",null,"1900-08-27",null,"1900-09-26",null,"1900-10-26",null,"1900-11-25",null,null,null,null,null,null,null,null,null,null,0,0,null,1842]
[null,null,null,null,null,null,null,null,null,null,"00:00:00",null,"1900-01-30",null,60,null,"1900-03-30",null,"1900-04-29",null,"1900-05-29",null,"1900-06-28",null,"1900-07-28",null,"1900-08-27",null,"1900-09-26",null,"1900-10-26",null,"1900-11-25",null,null,null,null,null,null,null,null,null,null,0,0,null,1843]
[null,null,null,null,null,null,null,null,null,null,"00:00:00",null,"1900-01-30",null,60,null,"1900-03-30",null,"1900-04-29",null,"1900-05-29",null,"1900-06-28",null,"1900-07-28",null,"1900-08-27",null,"1900-09-26",null,"1900-10-26",null,"1900-11-25",null,null,null,null,null,null,null,null,null,null,0,0,null,1844]
[null,null,null,null,null,null,null,null,null,null,"00:00:00",null,"1900-01-30",null,60,null,"1900-03-30",null,"1900-04-29",null,"1900-05-29",null,"1900-06-28",null,"1900-07-28",null,"1900-08-27",null,"1900-09-26",null,"1900-10-26",null,"1900-11-25",null,null,null,null,null,null,null,null,null,null,0,0,null,1845]
[null,null,null,null,null,null,null,null,null,null,"00:00:00",null,"1900-01-30",null,60,null,"1900-03-30",null,"1900-04-29",null,"1900-05-29",null,"1900-06-28",null,"1900-07-28",null,"1900-08-27",null,"1900-09-26",null,"1900-10-26",null,"1900-11-25",null,null,null,null,null,null,null,null,null,null,0,0,null,1846]
[null,null,null,null,null,null,null,null,null,null,"00:00:00",null,"1900-01-30",null,60,null,"1900-03-30",null,"1900-04-29",null,"1900-05-29",null,"1900-06-28",null,"1900-07-28",null,"1900-08-27",null,"1900-09-26",null,"1900-10-26",null,"1900-11-25",null,null,null,null,null,null,null,null,null,null,0,0,null,1847]
[null,null,null,null,null,null,null,null,null,null,"00:00:00",null,"1900-01-30",null,60,null,"1900-03-30",null,"1900-04-29",null,"1900-05-29",null,"1900-06-28",null,"1900-07-28",null,"1900-08-27",null,"1900-09-26",null,"1900-10-26",null,"1900-11-25",null,null,null,null,null,null,null,null,null,null,0,0,null,1848]
[null,null,null,null,null,null,null,null,null,null,"00:00:00",null,"1900-01-30",null,60,null,"1900-03-30",null,"1900-04-29",null,"1900-05-29",null,"1900-06-28",null,"1900-07-28",null,"1900-08-27",null,"1900-09-26",null,"1900-10-26",null,"1900-11-25",null,null,null,null,null,null,null,null,null,null,0,0,null,1849]
[null,null,null,null,null,null,null,null,null,null,"00:00:00",null,"1900-01-30",null,60,null,"1900-03-30",null,"1900-04-29",null,"1900-05-29",null,"1900-06-28",null,"1900-07-28",null,"1900-08-27",null,"1900-09-26",null,"1900-10-26",null,"1900-11-25",null,null,null,null,null,null,null,null,null,null,0,0,null,1850]
[null,null,null,null,null,null,null,null,null,null,"00:00:00",null,"1900-01-30",null,60,null,"1900-03-30",null,"1900-04-29",null,"1900-05-29",null,"1900-06-28",null,"1900-07-28",null,"1900-08-27",null,"1900-09-26",null,"1900-10-26",null,"1900-11-25",null,null,null,null,null,null,null,null,null,null,0,0,null,1851]
[null,null,null,null,null,null,null,null,null,null,"00:00:00",null,"1900-01-30",null,60,null,"1900-03-30",null,"1900-04-29",null,"1900-05-29",null,"1900-06-28",null,"1900-07-28",null,"1900-08-27",null,"1900-09-26",null,"1900-10-26",null,"1900-11-25",null,null,null,null,null,null,null,null,null,null,0,0,null,1852]
[null,null,null,null,null,null,null,null,null,null,"00:00:00",null,"1900-01-30",null,60,null,"1900-03-30",null,"1900-04-29",null,"1900-05-29",null,"1900-06-28",null,"1900-07-28",null,"1900-08-27",null,"1900-09-26",null,"1900-10-26",null,"1900-11-25",null,null,null,null,null,null,null,null,null,null,0,0,null,1853]
[null,null,null,null,null,null,null,null,null,null,"00:00:00",null,"1900-01-30",null,60,null,"1900-03-30",null,"1900-04-29",null,"1900-05-29",null,"1900-06-28",null,"1900-07-28",null,"1900-08-27",null,"1900-09-26",null,"1900-10-26",null,"1900-11-25",null,null,null,null,null,null,null,null,null,null,0,0,null,1854]
[null,null,null,null,null,null,null,null,null,null,"00:00:00",null,"1900-01-30",null,60,null,"1900-03-30",null,"1900-04-29",null,"1900-05-29",null,"1900-06-28",null,"1900-07-28",null,"1900-08-27",null,"1900-09-26",null,"1900-10-26",null,"1900-11-25",null,null,null,null,null,null,null,null,null,null,0,0,null,1855]
[null,null,null,null,null,null,null,null,null,null,"00:00:00",null,"1900-01-30",null,60,null,"1900-03-30",null,"1900-04-29",null,"1900-05-29",null,"1900-06-28",null,"1900-07-28",null,"1900-08-27",null,"1900-09-26",null,"1900-10-26",null,"1900-11-25",null,null,null,null,null,null,null,null,null,null,0,0,null,1856]
[null,null,null,null,null,null,null,null,null,null,"00:00:00",null,"1900-01-30",null,60,null,"1900-03-30",null,"1900-04-29",null,"1900-05-29",null,"1900-06-28",null,"1900-07-28",null,"1900-08-27",null,"1900-09-26",null,"1900-10-26",null,"1900-11-25",null,null,null,null,null,null,null,null,null,null,0,0,null,1857]
[null,null,null,null,null,null,null,null,null,null,"00:00:00",null,"1900-01-30",null,60,null,"1900-03-30",null,"1900-04-29",null,"1900-05-29",null,"1900-06-28",null,"1900-07-28",null,"1900-08-27",null,"1900-09-26",null,"1900-10-26",null,"1900-11-25",null,null,null,null,null,null,null,null,null,null,0,{"$f":"H390-AR390","v":0},null,1858]
[null,null,null,null,null,null,null,null,null,null,"00:00:00",null,"1900-01-30",null,60,null,"1900-03-30",null,"1900-04-29",null,"1900-05-29",null,"1900-06-28",null,"1900-07-28",null,"1900-08-27",null,"1900-09-26",null,"1900-10-26",null,"1900-11-25",null,null,null,null,null,null,null,null,null,null,{"$f":"SUM(J391+L391+N391+P391+R391+T391+V391+X391+Z391+AB391+AD391+AF391)","v":0},0,null,1859]
[null,null,null,null,null,null,null,null,null,null,"00:00:00",null,"1900-01-30",null,60,null,"1900-03-30",null,"1900-04-29",null,"1900-05-29",null,"1900-06-28",null,"1900-07-28",null,"1900-08-27",null,"1900-09-26",null,"1900-10-26",null,"1900-11-25",null,null,null,null,null,null,null,null,null,null,0,0,null,1860]
[null,null,null,null,null,null,null,null,null,null,"00:00:00",null,"1900-01-30",null,60,null,"1900-03-30",null,"1900-04-29",null,"1900-05-29",null,"1900-06-28",null,"1900-07-28",null,"1900-08-27",null,"1900-09-26",null,"1900-10-26",null,"1900-11-25",null,null,null,null,null,null,null,null,null,null,0,0,null,1861]
[null,null,null,null,null,null,null,null,null,null,"00:00:00",null,"1900-01-30",null,60,null,"1900-03-30",null,"1900-04-29",null,"1900-05-29",null,"1900-06-28",null,"1900-07-28",null,"1900-08-27",null,"1900-09-26",null,"1900-10-26",null,"1900-11-25",null,null,null,null,null,null,null,null,null,null,0,0,null,1862]
[null,null,null,null,null,null,null,null,null,null,{"$f":"F395","v":"00:00:00"},null,{"$f":"K395+30","v":"1900-01-30"},null,{"$f":"M395+30","v":60},null,{"$f":"O395+30","v":"1900-03-30"},null,{"$f":"Q395+30","v":"1900-04-29"},null,{"$f":"S395+30","v":"1900-05-29"},null,{"$f":"U395+30","v":"1900-06-28"},null,{"$f":"W395+30","v":"1900-07-28"},null,{"$f":"Y395+30","v":"1900-08-27"},null,{"$f":"AA395+30","v":"1900-09-26"},null,{"$f":"AC395+30","v":"1900-10-26"},null,{"$f":"AE395+30","v":"1900-11-25"},null,null,null,null,null,null,null,null,null,null,0,0,null,1863]
[null,null,null,null,null,null,null,null,null,null,"00:00:00",null,"1900-01-30",null,60,null,"1900-03-30",null,"1900-04-29",null,"1900-05-29",null,"1900-06-28",null,"1900-07-28",null,"1900-08-27",null,"1900-09-26",null,"1900-10-26",null,"1900-11-25",null,null,null,null,null,null,null,null,null,null,0,0,null,1864]
[null,null,null,null,null,null,null,null,null,null,"00:00:00",null,"1900-01-30",null,60,null,"1900-03-30",null,"1900-04-29",null,"1900-05-29",null,"1900-06-28",null,"1900-07-28",null,"1900-08-27",null,"1900-09-26",null,"1900-10-26",null,"1900-11-25",null,null,null,null,null,null,null,null,null,null,0,0,null,1865]
[null,null,null,null,null,null,null,null,null,null,"00:00:00",null,"1900-01-30",null,60,null,"1900-03-30",null,"1900-04-29",null,"1900-05-29",null,"1900-06-28",null,"1900-07-28",null,"1900-08-27",null,"1900-09-26",null,"1900-10-26",null,"1900-11-25",null,null,null,null,null,null,null,null,null,null,0,0,null,1866]
[null,null,null,null,null,null,null,null,null,null,"00:00:00",null,"1900-01-30",null,60,null,"1900-03-30",null,"1900-04-29",null,"1900-05-29",null,"1900-06-28",null,"1900-07-28",null,"1900-08-27",null,"1900-09-26",null,"1900-10-26",null,"1900-11-25",null,null,null,null,null,null,null,null,null,null,0,0,null,1867]
[null,null,null,null,null,null,null,null,null,null,"00:00:00",null,"1900-01-30",null,60,null,"1900-03-30",null,"1900-04-29",null,"1900-05-29",null,"1900-06-28",null,"1900-07-28",null,"1900-08-27",null,"1900-09-26",null,"1900-10-26",null,"1900-11-25",null,null,null,null,null,null,null,null,null,null,0,0,null,1868]
[null,null,null,null,null,null,null,null,null,null,"00:00:00",null,"1900-01-30",null,60,null,"1900-03-30",null,"1900-04-29",null,"1900-05-29",null,"1900-06-28",null,"1900-07-28",null,"1900-08-27",null,"1900-09-26",null,"1900-10-26",null,"1900-11-25",null,null,null,null,null,null,null,null,null,null,0,0,null,1869]
[null,null,null,null,null,null,null,null,null,null,"00:00:00",null,"1900-01-30",null,60,null,"1900-03-30",null,"1900-04-29",null,"1900-05-29",null,"1900-06-28",null,"1900-07-28",null,"1900-08-27",null,"1900-09-26",null,"1900-10-26",null,"1900-11-25",null,null,null,null,null,null,null,null,null,null,0,0,null,1870]
[null,null,null,null,null,null,null,null,null,null,"00:00:00",null,"1900-01-30",null,60,null,"1900-03-30",null,"1900-04-29",null,"1900-05-29",null,"1900-06-28",null,"1900-07-28",null,"1900-08-27",null,"1900-09-26",null,"1900-10-26",null,"1900-11-25",null,null,null,null,null,null,null,null,null,null,0,0,null,1871]
[null,null,null,null,null,null,null,null,null,null,"00:00:00",null,"1900-01-30",null,60,null,"1900-03-30",null,"1900-04-29",null,"1900-05-29",null,"1900-06-28",null,"1900-07-28",null,"1900-08-27",null,"1900-09-26",null,"1900-10-26",null,"1900-11-25",null,null,null,null,null,null,null,null,null,null,0,0,null,1872]
[null,null,null,null,null,null,null,null,null,null,"00:00:00",null,"1900-01-30",null,60,null,"1900-03-30",null,"1900-04-29",null,"1900-05-29",null,"1900-06-28",null,"1900-07-28",null,"1900-08-27",null,"1900-09-26",null,"1900-10-26",null,"1900-11-25",null,null,null,null,null,null,null,null,null,null,0,0,null,1873]
[null,null,null,null,null,null,null,null,null,null,"00:00:00",null,"1900-01-30",null,60,null,"1900-03-30",null,"1900-04-29",null,"1900-05-29",null,"1900-06-28",null,"1900-07-28",null,"1900-08-27",null,"1900-09-26",null,"1900-10-26",null,"1900-11-25",null,null,null,null,null,null,null,null,null,null,0,0,null,1874]
[null,null,null,null,null,null,null,null,null,null,"00:00:00",null,"1900-01-30",null,60,null,"1900-03-30",null,"1900-04-29",null,"1900-05-29",null,"1900-06-28",null,"1900-07-28",null,"1900-08-27",null,"1900-09-26",null,"1900-10-26",null,"1900-11-25",null,null,null,null,null,null,null,null,null,null,0,0,null,1875]
[null,null,null,null,null,null,null,null,null,null,"00:00:00",null,"1900-01-30",null,60,null,"1900-03-30",null,"1900-04-29",null,"1900-05-29",null,"1900-06-28",null,"1900-07-28",null,"1900-08-27",null,"1900-09-26",null,"1900-10-26",null,"1900-11-25",null,null,null,null,null,null,null,null,null,null,0,0,null,1876]
[null,null,null,null,null,null,null,null,null,null,"00:00:00",null,"1900-01-30",null,60,null,"1900-03-30",null,"1900-04-29",null,"1900-05-29",null,"1900-06-28",null,"1900-07-28",null,"1900-08-27",null,"1900-09-26",null,"1900-10-26",null,"1900-11-25",null,null,null,null,null,null,null,null,null,null,0,0,null,1877]
[null,null,null,null,null,null,null,null,null,null,"00:00:00",null,"1900-01-30",null,60,null,"1900-03-30",null,"1900-04-29",null,"1900-05-29",null,"1900-06-28",null,"1900-07-28",null,"1900-08-27",null,"1900-09-26",null,"1900-10-26",null,"1900-11-25",null,null,null,null,null,null,null,null,null,null,0,0,null,1878]
[null,null,null,null,null,null,null,null,null,null,"00:00:00",null,"1900-01-30",null,60,null,"1900-03-30",null,"1900-04-29",null,"1900-05-29",null,"1900-06-28",null,"1900-07-28",null,"1900-08-27",null,"1900-09-26",null,"1900-10-26",null,"1900-11-25",null,null,null,null,null,null,null,null,null,null,0,0,null,1879]
[null,null,null,null,null,null,null,null,null,null,"00:00:00",null,"1900-01-30",null,60,null,"1900-03-30",null,"1900-04-29",null,"1900-05-29",null,"1900-06-28",null,"1900-07-28",null,"1900-08-27",null,"1900-09-26",null,"1900-10-26",null,"1900-11-25",null,null,null,null,null,null,null,null,null,null,0,0,null,1880]
[null,null,null,null,null,null,null,null,null,null,"00:00:00",null,"1900-01-30",null,60,null,"1900-03-30",null,"1900-04-29",null,"1900-05-29",null,"1900-06-28",null,"1900-07-28",null,"1900-08-27",null,"1900-09-26",null,"1900-10-26",null,"1900-11-25",null,null,null,null,null,null,null,null,null,null,0,0,null,1881]
[null,null,null,null,null,null,null,null,null,null,"00:00:00",null,"1900-01-30",null,60,null,"1900-03-30",null,"1900-04-29",null,"1900-05-29",null,"1900-06-28",null,"1900-07-28",null,"1900-08-27",null,"1900-09-26",null,"1900-10-26",null,"1900-11-25",null,null,null,null,null,null,null,null,null,null,0,0,null,1882]
[null,null,null,null,null,null,null,null,null,null,"00:00:00",null,"1900-01-30",null,60,null,"1900-03-30",null,"1900-04-29",null,"1900-05-29",null,"1900-06-28",null,"1900-07-28",null,"1900-08-27",null,"1900-09-26",null,"1900-10-26",null,"1900-11-25",null,null,null,null,null,null,null,null,null,null,0,0,null,1883]
[null,null,null,null,null,null,null,null,null,null,"00:00:00",null,"1900-01-30",null,60,null,"1900-03-30",null,"1900-04-29",null,"1900-05-29",null,"1900-06-28",null,"1900-07-28",null,"1900-08-27",null,"1900-09-26",null,"1900-10-26",null,"1900-11-25",null,null,null,null,null,null,null,null,null,null,0,0,null,1884]
[null,null,null,null,null,null,null,null,null,null,"00:00:00",null,"1900-01-30",null,60,null,"1900-03-30",null,"1900-04-29",null,"1900-05-29",null,"1900-06-28",null,"1900-07-28",null,"1900-08-27",null,"1900-09-26",null,"1900-10-26",null,"1900-11-25",null,null,null,null,null,null,null,null,null,null,0,0,null,1885]
[null,null,null,null,null,null,null,null,null,null,"00:00:00",null,"1900-01-30",null,60,null,"1900-03-30",null,"1900-04-29",null,"1900-05-29",null,"1900-06-28",null,"1900-07-28",null,"1900-08-27",null,"1900-09-26",null,"1900-10-26",null,"1900-11-25",null,null,null,null,null,null,null,null,null,null,0,0,null,1886]
[null,null,null,null,null,null,null,null,null,null,"00:00:00",null,"1900-01-30",null,60,null,"1900-03-30",null,"1900-04-29",null,"1900-05-29",null,"1900-06-28",null,"1900-07-28",null,"1900-08-27",null,"1900-09-26",null,"1900-10-26",null,"1900-11-25",null,null,null,null,null,null,null,null,null,null,0,0,null,1887]
[null,null,null,null,null,null,null,null,null,null,"00:00:00",null,"1900-01-30",null,60,null,"1900-03-30",null,"1900-04-29",null,"1900-05-29",null,"1900-06-28",null,"1900-07-28",null,"1900-08-27",null,"1900-09-26",null,"1900-10-26",null,"1900-11-25",null,null,null,null,null,null,null,null,null,null,0,0,null,1888]
[null,null,null,null,null,null,null,null,null,null,"00:00:00",null,"1900-01-30",null,60,null,"1900-03-30",null,"1900-04-29",null,"1900-05-29",null,"1900-06-28",null,"1900-07-28",null,"1900-08-27",null,"1900-09-26",null,"1900-10-26",null,"1900-11-25",null,null,null,null,null,null,null,null,null,null,0,0,null,1889]
[null,null,null,null,null,null,null,null,null,null,"00:00:00",null,"1900-01-30",null,60,null,"1900-03-30",null,"1900-04-29",null,"1900-05-29",null,"1900-06-28",null,"1900-07-28",null,"1900-08-27",null,"1900-09-26",null,"1900-10-26",null,"1900-11-25",null,null,null,null,null,null,null,null,null,null,0,0,null,1890]
[null,null,null,null,null,null,null,null,null,null,"00:00:00",null,"1900-01-30",null,60,null,"1900-03-30",null,"1900-04-29",null,"1900-05-29",null,"1900-06-28",null,"1900-07-28",null,"1900-08-27",null,"1900-09-26",null,"1900-10-26",null,"1900-11-25",null,null,null,null,null,null,null,null,null,null,0,0,null,1891]
[null,null,null,null,null,null,null,null,null,null,"00:00:00",null,"1900-01-30",null,60,null,"1900-03-30",null,"1900-04-29",null,"1900-05-29",null,"1900-06-28",null,"1900-07-28",null,"1900-08-27",null,"1900-09-26",null,"1900-10-26",null,"1900-11-25",null,null,null,null,null,null,null,null,null,null,0,0,null,1892]
[null,null,null,null,null,null,null,null,null,null,"00:00:00",null,"1900-01-30",null,60,null,"1900-03-30",null,"1900-04-29",null,"1900-05-29",null,"1900-06-28",null,"1900-07-28",null,"1900-08-27",null,"1900-09-26",null,"1900-10-26",null,"1900-11-25",null,null,null,null,null,null,null,null,null,null,0,0,null,1893]
[null,null,null,null,null,null,null,null,null,null,"00:00:00",null,"1900-01-30",null,60,null,"1900-03-30",null,"1900-04-29",null,"1900-05-29",null,"1900-06-28",null,"1900-07-28",null,"1900-08-27",null,"1900-09-26",null,"1900-10-26",null,"1900-11-25",null,null,null,null,null,null,null,null,null,null,0,0,null,1894]
[null,null,null,null,null,null,null,null,null,null,"00:00:00",null,"1900-01-30",null,60,null,"1900-03-30",null,"1900-04-29",null,"1900-05-29",null,"1900-06-28",null,"1900-07-28",null,"1900-08-27",null,"1900-09-26",null,"1900-10-26",null,"1900-11-25",null,null,null,null,null,null,null,null,null,null,0,0,null,1895]
[null,null,null,null,null,null,null,null,null,null,"00:00:00",null,"1900-01-30",null,60,null,"1900-03-30",null,"1900-04-29",null,"1900-05-29",null,"1900-06-28",null,"1900-07-28",null,"1900-08-27",null,"1900-09-26",null,"1900-10-26",null,"1900-11-25",null,null,null,null,null,null,null,null,null,null,0,0,null,1896]
[null,null,null,null,null,null,null,null,null,null,"00:00:00",null,"1900-01-30",null,60,null,"1900-03-30",null,"1900-04-29",null,"1900-05-29",null,"1900-06-28",null,"1900-07-28",null,"1900-08-27",null,"1900-09-26",null,"1900-10-26",null,"1900-11-25",null,null,null,null,null,null,null,null,null,null,0,0,null,1897]
[null,null,null,null,null,null,null,null,null,null,"00:00:00",null,"1900-01-30",null,60,null,"1900-03-30",null,"1900-04-29",null,"1900-05-29",null,"1900-06-28",null,"1900-07-28",null,"1900-08-27",null,"1900-09-26",null,"1900-10-26",null,"1900-11-25",null,null,null,null,null,null,null,null,null,null,0,0,null,1898]
[null,null,null,null,null,null,null,null,null,null,"00:00:00",null,"1900-01-30",null,60,null,"1900-03-30",null,"1900-04-29",null,"1900-05-29",null,"1900-06-28",null,"1900-07-28",null,"1900-08-27",null,"1900-09-26",null,"1900-10-26",null,"1900-11-25",null,null,null,null,null,null,null,null,null,null,0,0,null,1899]
[null,null,null,null,null,null,null,null,null,null,"00:00:00",null,"1900-01-30",null,60,null,"1900-03-30",null,"1900-04-29",null,"1900-05-29",null,"1900-06-28",null,"1900-07-28",null,"1900-08-27",null,"1900-09-26",null,"1900-10-26",null,"1900-11-25",null,null,null,null,null,null,null,null,null,null,0,0,null,1900]
[null,null,null,null,null,null,null,null,null,null,"00:00:00",null,"1900-01-30",null,60,null,"1900-03-30",null,"1900-04-29",null,"1900-05-29",null,"1900-06-28",null,"1900-07-28",null,"1900-08-27",null,"1900-09-26",null,"1900-10-26",null,"1900-11-25",null,null,null,null,null,null,null,null,null,null,0,0,null,1901]
[null,null,null,null,null,null,null,null,null,null,"00:00:00",null,"1900-01-30",null,60,null,"1900-03-30",null,"1900-04-29",null,"1900-05-29",null,"1900-06-28",null,"1900-07-28",null,"1900-08-27",null,"1900-09-26",null,"1900-10-26",null,"1900-11-25",null,null,null,null,null,null,null,null,null,null,0,0,null,1902]
[null,null,null,null,null,null,null,null,null,null,"00:00:00",null,"1900-01-30",null,60,null,"1900-03-30",null,"1900-04-29",null,"1900-05-29",null,"1900-06-28",null,"1900-07-28",null,"1900-08-27",null,"1900-09-26",null,"1900-10-26",null,"1900-11-25",null,null,null,null,null,null,null,null,null,null,0,0,null,1903]
[null,null,null,null,null,null,null,null,null,null,"00:00:00",null,"1900-01-30",null,60,null,"1900-03-30",null,"1900-04-29",null,"1900-05-29",null,"1900-06-28",null,"1900-07-28",null,"1900-08-27",null,"1900-09-26",null,"1900-10-26",null,"1900-11-25",null,null,null,null,null,null,null,null,null,null,0,0,null,1904]
[null,null,null,null,null,null,null,null,null,null,"00:00:00",null,"1900-01-30",null,60,null,"1900-03-30",null,"1900-04-29",null,"1900-05-29",null,"1900-06-28",null,"1900-07-28",null,"1900-08-27",null,"1900-09-26",null,"1900-10-26",null,"1900-11-25",null,null,null,null,null,null,null,null,null,null,0,0,null,1905]
[null,null,null,null,null,null,null,null,null,null,"00:00:00",null,"1900-01-30",null,60,null,"1900-03-30",null,"1900-04-29",null,"1900-05-29",null,"1900-06-28",null,"1900-07-28",null,"1900-08-27",null,"1900-09-26",null,"1900-10-26",null,"1900-11-25",null,null,null,null,null,null,null,null,null,null,0,0,null,1906]
[null,null,null,null,null,null,null,null,null,null,"00:00:00",null,"1900-01-30",null,60,null,"1900-03-30",null,"1900-04-29",null,"1900-05-29",null,"1900-06-28",null,"1900-07-28",null,"1900-08-27",null,"1900-09-26",null,"1900-10-26",null,"1900-11-25",null,null,null,null,null,null,null,null,null,null,0,0,null,1907]
[null,null,null,null,null,null,null,null,null,null,"00:00:00",null,"1900-01-30",null,60,null,"1900-03-30",null,"1900-04-29",null,"1900-05-29",null,"1900-06-28",null,"1900-07-28",null,"1900-08-27",null,"1900-09-26",null,"1900-10-26",null,"1900-11-25",null,null,null,null,null,null,null,null,null,null,0,0,null,1908]
[null,null,null,null,null,null,null,null,null,null,"00:00:00",null,"1900-01-30",null,60,null,"1900-03-30",null,"1900-04-29",null,"1900-05-29",null,"1900-06-28",null,"1900-07-28",null,"1900-08-27",null,"1900-09-26",null,"1900-10-26",null,"1900-11-25",null,null,null,null,null,null,null,null,null,null,0,0,null,1909]
[null,null,null,null,null,null,null,null,null,null,"00:00:00",null,"1900-01-30",null,60,null,"1900-03-30",null,"1900-04-29",null,"1900-05-29",null,"1900-06-28",null,"1900-07-28",null,"1900-08-27",null,"1900-09-26",null,"1900-10-26",null,"1900-11-25",null,null,null,null,null,null,null,null,null,null,0,0,null,1910]
[null,null,null,null,null,null,null,null,null,null,"00:00:00",null,"1900-01-30",null,60,null,"1900-03-30",null,"1900-04-29",null,"1900-05-29",null,"1900-06-28",null,"1900-07-28",null,"1900-08-27",null,"1900-09-26",null,"1900-10-26",null,"1900-11-25",null,null,null,null,null,null,null,null,null,null,0,0,null,1911]
[null,null,null,null,null,null,null,null,null,null,"00:00:00",null,"1900-01-30",null,60,null,"1900-03-30",null,"1900-04-29",null,"1900-05-29",null,"1900-06-28",null,"1900-07-28",null,"1900-08-27",null,"1900-09-26",null,"1900-10-26",null,"1900-11-25",null,null,null,null,null,null,null,null,null,null,0,0,null,1912]
[null,null,null,null,null,null,null,null,null,null,"00:00:00",null,"1900-01-30",null,60,null,"1900-03-30",null,"1900-04-29",null,"1900-05-29",null,"1900-06-28",null,"1900-07-28",null,"1900-08-27",null,"1900-09-26",null,"1900-10-26",null,"1900-11-25",null,null,null,null,null,null,null,null,null,null,0,0,null,1913]
[null,null,null,null,null,null,null,null,null,null,"00:00:00",null,"1900-01-30",null,60,null,"1900-03-30",null,"1900-04-29",null,"1900-05-29",null,"1900-06-28",null,"1900-07-28",null,"1900-08-27",null,"1900-09-26",null,"1900-10-26",null,"1900-11-25",null,null,null,null,null,null,null,null,null,null,0,0,null,1914]
[null,null,null,null,null,null,null,null,null,null,"00:00:00",null,"1900-01-30",null,60,null,"1900-03-30",null,"1900-04-29",null,"1900-05-29",null,"1900-06-28",null,"1900-07-28",null,"1900-08-27",null,"1900-09-26",null,"1900-10-26",null,"1900-11-25",null,null,null,null,null,null,null,null,null,null,0,0,null,1915]
[null,null,null,null,null,null,null,null,null,null,"00:00:00",null,"1900-01-30",null,60,null,"1900-03-30",null,"1900-04-29",null,"1900-05-29",null,"1900-06-28",null,"1900-07-28",null,"1900-08-27",null,"1900-09-26",null,"1900-10-26",null,"1900-11-25",null,null,null,null,null,null,null,null,null,null,0,0,null,1916]
[null,null,null,null,null,null,null,null,null,null,"00:00:00",null,"1900-01-30",null,60,null,"1900-03-30",null,"1900-04-29",null,"1900-05-29",null,"1900-06-28",null,"1900-07-28",null,"1900-08-27",null,"1900-09-26",null,"1900-10-26",null,"1900-11-25",null,null,null,null,null,null,null,null,null,null,0,0,null,1917]
[null,null,null,null,null,null,null,null,null,null,"00:00:00",null,"1900-01-30",null,60,null,"1900-03-30",null,"1900-04-29",null,"1900-05-29",null,"1900-06-28",null,"1900-07-28",null,"1900-08-27",null,"1900-09-26",null,"1900-10-26",null,"1900-11-25",null,null,null,null,null,null,null,null,null,null,0,0,null,1918]
[null,null,null,null,null,null,null,null,null,null,"00:00:00",null,"1900-01-30",null,60,null,"1900-03-30",null,"1900-04-29",null,"1900-05-29",null,"1900-06-28",null,"1900-07-28",null,"1900-08-27",null,"1900-09-26",null,"1900-10-26",null,"1900-11-25",null,null,null,null,null,null,null,null,null,null,0,0,null,1919]
[null,null,null,null,null,null,null,null,null,null,"00:00:00",null,"1900-01-30",null,60,null,"1900-03-30",null,"1900-04-29",null,"1900-05-29",null,"1900-06-28",null,"1900-07-28",null,"1900-08-27",null,"1900-09-26",null,"1900-10-26",null,"1900-11-25",null,null,null,null,null,null,null,null,null,null,0,0,null,1920]
[null,null,null,null,null,null,null,null,null,null,"00:00:00",null,"1900-01-30",null,60,null,"1900-03-30",null,"1900-04-29",null,"1900-05-29",null,"1900-06-28",null,"1900-07-28",null,"1900-08-27",null,"1900-09-26",null,"1900-10-26",null,"1900-11-25",null,null,null,null,null,null,null,null,null,null,0,0,null,1921]
[null,null,null,null,null,null,null,null,null,null,"00:00:00",null,"1900-01-30",null,60,null,"1900-03-30",null,"1900-04-29",null,"1900-05-29",null,"1900-06-28",null,"1900-07-28",null,"1900-08-27",null,"1900-09-26",null,"1900-10-26",null,"1900-11-25",null,null,null,null,null,null,null,null,null,null,0,{"$f":"H454-AR454","v":0},null,1922]
[null,null,null,null,null,null,null,null,null,null,"00:00:00",null,"1900-01-30",null,60,null,"1900-03-30",null,"1900-04-29",null,"1900-05-29",null,"1900-06-28",null,"1900-07-28",null,"1900-08-27",null,"1900-09-26",null,"1900-10-26",null,"1900-11-25",null,null,null,null,null,null,null,null,null,null,{"$f":"SUM(J455+L455+N455+P455+R455+T455+V455+X455+Z455+AB455+AD455+AF455)","v":0},0,null,1923]
[null,null,null,null,null,null,null,null,null,null,"00:00:00",null,"1900-01-30",null,60,null,"1900-03-30",null,"1900-04-29",null,"1900-05-29",null,"1900-06-28",null,"1900-07-28",null,"1900-08-27",null,"1900-09-26",null,"1900-10-26",null,"1900-11-25",null,null,null,null,null,null,null,null,null,null,0,0,null,1924]
[null,null,null,null,null,null,null,null,null,null,"00:00:00",null,"1900-01-30",null,60,null,"1900-03-30",null,"1900-04-29",null,"1900-05-29",null,"1900-06-28",null,"1900-07-28",null,"1900-08-27",null,"1900-09-26",null,"1900-10-26",null,"1900-11-25",null,null,null,null,null,null,null,null,null,null,0,0,null,1925]
[null,null,null,null,null,null,null,null,null,null,"00:00:00",null,"1900-01-30",null,60,null,"1900-03-30",null,"1900-04-29",null,"1900-05-29",null,"1900-06-28",null,"1900-07-28",null,"1900-08-27",null,"1900-09-26",null,"1900-10-26",null,"1900-11-25",null,null,null,null,null,null,null,null,null,null,0,0,null,1926]
[null,null,null,null,null,null,null,null,null,null,{"$f":"F459","v":"00:00:00"},null,{"$f":"K459+30","v":"1900-01-30"},null,{"$f":"M459+30","v":60},null,{"$f":"O459+30","v":"1900-03-30"},null,{"$f":"Q459+30","v":"1900-04-29"},null,{"$f":"S459+30","v":"1900-05-29"},null,{"$f":"U459+30","v":"1900-06-28"},null,{"$f":"W459+30","v":"1900-07-28"},null,{"$f":"Y459+30","v":"1900-08-27"},null,{"$f":"AA459+30","v":"1900-09-26"},null,{"$f":"AC459+30","v":"1900-10-26"},null,{"$f":"AE459+30","v":"1900-11-25"},null,null,null,null,null,null,null,null,null,null,0,0,null,1927]
[null,null,null,null,null,null,null,null,null,null,"00:00:00",null,"1900-01-30",null,60,null,"1900-03-30",null,"1900-04-29",null,"1900-05-29",null,"1900-06-28",null,"1900-07-28",null,"1900-08-27",null,"1900-09-26",null,"1900-10-26",null,"1900-11-25",null,null,null,null,null,null,null,null,null,null,0,0,null,1928]
[null,null,null,null,null,null,null,null,null,null,"00:00:00",null,"1900-01-30",null,60,null,"1900-03-30",null,"1900-04-29",null,"1900-05-29",null,"1900-06-28",null,"1900-07-28",null,"1900-08-27",null,"1900-09-26",null,"1900-10-26",null,"1900-11-25",null,null,null,null,null,null,null,null,null,null,0,0,null,1929]
[null,null,null,null,null,null,null,null,null,null,"00:00:00",null,"1900-01-30",null,60,null,"1900-03-30",null,"1900-04-29",null,"1900-05-29",null,"1900-06-28",null,"1900-07-28",null,"1900-08-27",null,"1900-09-26",null,"1900-10-26",null,"1900-11-25",null,null,null,null,null,null,null,null,null,null,0,0,null,1930]
[null,null,null,null,null,null,null,null,null,null,"00:00:00",null,"1900-01-30",null,60,null,"1900-03-30",null,"1900-04-29",null,"1900-05-29",null,"1900-06-28",null,"1900-07-28",null,"1900-08-27",null,"1900-09-26",null,"1900-10-26",null,"1900-11-25",null,null,null,null,null,null,null,null,null,null,0,0,null,1931]
[null,null,null,null,null,null,null,null,null,null,"00:00:00",null,"1900-01-30",null,60,null,"1900-03-30",null,"1900-04-29",null,"1900-05-29",null,"1900-06-28",null,"1900-07-28",null,"1900-08-27",null,"1900-09-26",null,"1900-10-26",null,"1900-11-25",null,null,null,null,null,null,null,null,null,null,0,0,null,1932]
[null,null,null,null,null,null,null,null,null,null,"00:00:00",null,"1900-01-30",null,60,null,"1900-03-30",null,"1900-04-29",null,"1900-05-29",null,"1900-06-28",null,"1900-07-28",null,"1900-08-27",null,"1900-09-26",null,"1900-10-26",null,"1900-11-25",null,null,null,null,null,null,null,null,null,null,0,0,null,1933]
[null,null,null,null,null,null,null,null,null,null,"00:00:00",null,"1900-01-30",null,60,null,"1900-03-30",null,"1900-04-29",null,"1900-05-29",null,"1900-06-28",null,"1900-07-28",null,"1900-08-27",null,"1900-09-26",null,"1900-10-26",null,"1900-11-25",null,null,null,null,null,null,null,null,null,null,0,0,null,1934]
[null,null,null,null,null,null,null,null,null,null,"00:00:00",null,"1900-01-30",null,60,null,"1900-03-30",null,"1900-04-29",null,"1900-05-29",null,"1900-06-28",null,"1900-07-28",null,"1900-08-27",null,"1900-09-26",null,"1900-10-26",null,"1900-11-25",null,null,null,null,null,null,null,null,null,null,0,0,null,1935]
[null,null,null,null,null,null,null,null,null,null,"00:00:00",null,"1900-01-30",null,60,null,"1900-03-30",null,"1900-04-29",null,"1900-05-29",null,"1900-06-28",null,"1900-07-28",null,"1900-08-27",null,"1900-09-26",null,"1900-10-26",null,"1900-11-25",null,null,null,null,null,null,null,null,null,null,0,0,null,1936]
[null,null,null,null,null,null,null,null,null,null,"00:00:00",null,"1900-01-30",null,60,null,"1900-03-30",null,"1900-04-29",null,"1900-05-29",null,"1900-06-28",null,"1900-07-28",null,"1900-08-27",null,"1900-09-26",null,"1900-10-26",null,"1900-11-25",null,null,null,null,null,null,null,null,null,null,0,0,null,1937]
[null,null,null,null,null,null,null,null,null,null,"00:00:00",null,"1900-01-30",null,60,null,"1900-03-30",null,"1900-04-29",null,"1900-05-29",null,"1900-06-28",null,"1900-07-28",null,"1900-08-27",null,"1900-09-26",null,"1900-10-26",null,"1900-11-25",null,null,null,null,null,null,null,null,null,null,0,0,null,1938]
[null,null,null,null,null,null,null,null,null,null,"00:00:00",null,"1900-01-30",null,60,null,"1900-03-30",null,"1900-04-29",null,"1900-05-29",null,"1900-06-28",null,"1900-07-28",null,"1900-08-27",null,"1900-09-26",null,"1900-10-26",null,"1900-11-25",null,null,null,null,null,null,null,null,null,null,0,0,null,1939]
[null,null,null,null,null,null,null,null,null,null,"00:00:00",null,"1900-01-30",null,60,null,"1900-03-30",null,"1900-04-29",null,"1900-05-29",null,"1900-06-28",null,"1900-07-28",null,"1900-08-27",null,"1900-09-26",null,"1900-10-26",null,"1900-11-25",null,null,null,null,null,null,null,null,null,null,0,0,null,1940]
[null,null,null,null,null,null,null,null,null,null,"00:00:00",null,"1900-01-30",null,60,null,"1900-03-30",null,"1900-04-29",null,"1900-05-29",null,"1900-06-28",null,"1900-07-28",null,"1900-08-27",null,"1900-09-26",null,"1900-10-26",null,"1900-11-25",null,null,null,null,null,null,null,null,null,null,0,0,null,1941]
[null,null,null,null,null,null,null,null,null,null,"00:00:00",null,"1900-01-30",null,60,null,"1900-03-30",null,"1900-04-29",null,"1900-05-29",null,"1900-06-28",null,"1900-07-28",null,"1900-08-27",null,"1900-09-26",null,"1900-10-26",null,"1900-11-25",null,null,null,null,null,null,null,null,null,null,0,0,null,1942]
[null,null,null,null,null,null,null,null,null,null,"00:00:00",null,"1900-01-30",null,60,null,"1900-03-30",null,"1900-04-29",null,"1900-05-29",null,"1900-06-28",null,"1900-07-28",null,"1900-08-27",null,"1900-09-26",null,"1900-10-26",null,"1900-11-25",null,null,null,null,null,null,null,null,null,null,0,0,null,1943]
[null,null,null,null,null,null,null,null,null,null,"00:00:00",null,"1900-01-30",null,60,null,"1900-03-30",null,"1900-04-29",null,"1900-05-29",null,"1900-06-28",null,"1900-07-28",null,"1900-08-27",null,"1900-09-26",null,"1900-10-26",null,"1900-11-25",null,null,null,null,null,null,null,null,null,null,0,0,null,1944]
[null,null,null,null,null,null,null,null,null,null,"00:00:00",null,"1900-01-30",null,60,null,"1900-03-30",null,"1900-04-29",null,"1900-05-29",null,"1900-06-28",null,"1900-07-28",null,"1900-08-27",null,"1900-09-26",null,"1900-10-26",null,"1900-11-25",null,null,null,null,null,null,null,null,null,null,0,0,null,1945]
[null,null,null,null,null,null,null,null,null,null,"00:00:00",null,"1900-01-30",null,60,null,"1900-03-30",null,"1900-04-29",null,"1900-05-29",null,"1900-06-28",null,"1900-07-28",null,"1900-08-27",null,"1900-09-26",null,"1900-10-26",null,"1900-11-25",null,null,null,null,null,null,null,null,null,null,0,0,null,1946]
[null,null,null,null,null,null,null,null,null,null,"00:00:00",null,"1900-01-30",null,60,null,"1900-03-30",null,"1900-04-29",null,"1900-05-29",null,"1900-06-28",null,"1900-07-28",null,"1900-08-27",null,"1900-09-26",null,"1900-10-26",null,"1900-11-25",null,null,null,null,null,null,null,null,null,null,0,0,null,1947]
[null,null,null,null,null,null,null,null,null,null,"00:00:00",null,"1900-01-30",null,60,null,"1900-03-30",null,"1900-04-29",null,"1900-05-29",null,"1900-06-28",null,"1900-07-28",null,"1900-08-27",null,"1900-09-26",null,"1900-10-26",null,"1900-11-25",null,null,null,null,null,null,null,null,null,null,0,0,null,1948]
[null,null,null,null,null,null,null,null,null,null,"00:00:00",null,"1900-01-30",null,60,null,"1900-03-30",null,"1900-04-29",null,"1900-05-29",null,"1900-06-28",null,"1900-07-28",null,"1900-08-27",null,"1900-09-26",null,"1900-10-26",null,"1900-11-25",null,null,null,null,null,null,null,null,null,null,0,0,null,1949]
[null,null,null,null,null,null,null,null,null,null,"00:00:00",null,"1900-01-30",null,60,null,"1900-03-30",null,"1900-04-29",null,"1900-05-29",null,"1900-06-28",null,"1900-07-28",null,"1900-08-27",null,"1900-09-26",null,"1900-10-26",null,"1900-11-25",null,null,null,null,null,null,null,null,null,null,0,0,null,1950]
[null,null,null,null,null,null,null,null,null,null,"00:00:00",null,"1900-01-30",null,60,null,"1900-03-30",null,"1900-04-29",null,"1900-05-29",null,"1900-06-28",null,"1900-07-28",null,"1900-08-27",null,"1900-09-26",null,"1900-10-26",null,"1900-11-25",null,null,null,null,null,null,null,null,null,null,0,0,null,1951]
[null,null,null,null,null,null,null,null,null,null,"00:00:00",null,"1900-01-30",null,60,null,"1900-03-30",null,"1900-04-29",null,"1900-05-29",null,"1900-06-28",null,"1900-07-28",null,"1900-08-27",null,"1900-09-26",null,"1900-10-26",null,"1900-11-25",null,null,null,null,null,null,null,null,null,null,0,0,null,1952]
[null,null,null,null,null,null,null,null,null,null,"00:00:00",null,"1900-01-30",null,60,null,"1900-03-30",null,"1900-04-29",null,"1900-05-29",null,"1900-06-28",null,"1900-07-28",null,"1900-08-27",null,"1900-09-26",null,"1900-10-26",null,"1900-11-25",null,null,null,null,null,null,null,null,null,null,0,0,null,1953]
[null,null,null,null,null,null,null,null,null,null,"00:00:00",null,"1900-01-30",null,60,null,"1900-03-30",null,"1900-04-29",null,"1900-05-29",null,"1900-06-28",null,"1900-07-28",null,"1900-08-27",null,"1900-09-26",null,"1900-10-26",null,"1900-11-25",null,null,null,null,null,null,null,null,null,null,0,0,null,1954]
[null,null,null,null,null,null,null,null,null,null,"00:00:00",null,"1900-01-30",null,60,null,"1900-03-30",null,"1900-04-29",null,"1900-05-29",null,"1900-06-28",null,"1900-07-28",null,"1900-08-27",null,"1900-09-26",null,"1900-10-26",null,"1900-11-25",null,null,null,null,null,null,null,null,null,null,0,0,null,1955]
[null,null,null,null,null,null,null,null,null,null,"00:00:00",null,"1900-01-30",null,60,null,"1900-03-30",null,"1900-04-29",null,"1900-05-29",null,"1900-06-28",null,"1900-07-28",null,"1900-08-27",null,"1900-09-26",null,"1900-10-26",null,"1900-11-25",null,null,null,null,null,null,null,null,null,null,0,0,null,1956]
[null,null,null,null,null,null,null,null,null,null,"00:00:00",null,"1900-01-30",null,60,null,"1900-03-30",null,"1900-04-29",null,"1900-05-29",null,"1900-06-28",null,"1900-07-28",null,"1900-08-27",null,"1900-09-26",null,"1900-10-26",null,"1900-11-25",null,null,null,null,null,null,null,null,null,null,0,0,null,1957]
[null,null,null,null,null,null,null,null,null,null,"00:00:00",null,"1900-01-30",null,60,null,"1900-03-30",null,"1900-04-29",null,"1900-05-29",null,"1900-06-28",null,"1900-07-28",null,"1900-08-27",null,"1900-09-26",null,"1900-10-26",null,"1900-11-25",null,null,null,null,null,null,null,null,null,null,0,0,null,1958]
[null,null,null,null,null,null,null,null,null,null,"00:00:00",null,"1900-01-30",null,60,null,"1900-03-30",null,"1900-04-29",null,"1900-05-29",null,"1900-06-28",null,"1900-07-28",null,"1900-08-27",null,"1900-09-26",null,"1900-10-26",null,"1900-11-25",null,null,null,null,null,null,null,null,null,null,0,0,null,1959]
[null,null,null,null,null,null,null,null,null,null,"00:00:00",null,"1900-01-30",null,60,null,"1900-03-30",null,"1900-04-29",null,"1900-05-29",null,"1900-06-28",null,"1900-07-28",null,"1900-08-27",null,"1900-09-26",null,"1900-10-26",null,"1900-11-25",null,null,null,null,null,null,null,null,null,null,0,0,null,1960]
[null,null,null,null,null,null,null,null,null,null,"00:00:00",null,"1900-01-30",null,60,null,"1900-03-30",null,"1900-04-29",null,"1900-05-29",null,"1900-06-28",null,"1900-07-28",null,"1900-08-27",null,"1900-09-26",null,"1900-10-26",null,"1900-11-25",null,null,null,null,null,null,null,null,null,null,0,0,null,1961]
[null,null,null,null,null,null,null,null,null,null,"00:00:00",null,"1900-01-30",null,60,null,"1900-03-30",null,"1900-04-29",null,"1900-05-29",null,"1900-06-28",null,"1900-07-28",null,"1900-08-27",null,"1900-09-26",null,"1900-10-26",null,"1900-11-25",null,null,null,null,null,null,null,null,null,null,0,0,null,1962]
[null,null,null,null,null,null,null,null,null,null,"00:00:00",null,"1900-01-30",null,60,null,"1900-03-30",null,"1900-04-29",null,"1900-05-29",null,"1900-06-28",null,"1900-07-28",null,"1900-08-27",null,"1900-09-26",null,"1900-10-26",null,"1900-11-25",null,null,null,null,null,null,null,null,null,null,0,0,null,1963]
[null,null,null,null,null,null,null,null,null,null,"00:00:00",null,"1900-01-30",null,60,null,"1900-03-30",null,"1900-04-29",null,"1900-05-29",null,"1900-06-28",null,"1900-07-28",null,"1900-08-27",null,"1900-09-26",null,"1900-10-26",null,"1900-11-25",null,null,null,null,null,null,null,null,null,null,0,0,null,1964]
[null,null,null,null,null,null,null,null,null,null,"00:00:00",null,"1900-01-30",null,60,null,"1900-03-30",null,"1900-04-29",null,"1900-05-29",null,"1900-06-28",null,"1900-07-28",null,"1900-08-27",null,"1900-09-26",null,"1900-10-26",null,"1900-11-25",null,null,null,null,null,null,null,null,null,null,0,0,null,1965]
[null,null,null,null,null,null,null,null,null,null,"00:00:00",null,"1900-01-30",null,60,null,"1900-03-30",null,"1900-04-29",null,"1900-05-29",null,"1900-06-28",null,"1900-07-28",null,"1900-08-27",null,"1900-09-26",null,"1900-10-26",null,"1900-11-25",null,null,null,null,null,null,null,null,null,null,0,0,null,1966]
[null,null,null,null,null,null,null,null,null,null,"00:00:00",null,"1900-01-30",null,60,null,"1900-03-30",null,"1900-04-29",null,"1900-05-29",null,"1900-06-28",null,"1900-07-28",null,"1900-08-27",null,"1900-09-26",null,"1900-10-26",null,"1900-11-25",null,null,null,null,null,null,null,null,null,null,0,0,null,1967]
[null,null,null,null,null,null,null,null,null,null,"00:00:00",null,"1900-01-30",null,60,null,"1900-03-30",null,"1900-04-29",null,"1900-05-29",null,"1900-06-28",null,"1900-07-28",null,"1900-08-27",null,"1900-09-26",null,"1900-10-26",null,"1900-11-25",null,null,null,null,null,null,null,null,null,null,0,0,null,1968]
[null,null,null,null,null,null,null,null,null,null,"00:00:00",null,"1900-01-30",null,60,null,"1900-03-30",null,"1900-04-29",null,"1900-05-29",null,"1900-06-28",null,"1900-07-28",null,"1900-08-27",null,"1900-09-26",null,"1900-10-26",null,"1900-11-25",null,null,null,null,null,null,null,null,null,null,0,0,null,1969]
[null,null,null,null,null,null,null,null,null,null,"00:00:00",null,"1900-01-30",null,60,null,"1900-03-30",null,"1900-04-29",null,"1900-05-29",null,"1900-06-28",null,"1900-07-28",null,"1900-08-27",null,"1900-09-26",null,"1900-10-26",null,"1900-11-25",null,null,null,null,null,null,null,null,null,null,0,0,null,1994]
[null,null,null,null,null,null,null,null,null,null,"00:00:00",null,"1900-01-30",null,60,null,"1900-03-30",null,"1900-04-29",null,"1900-05-29",null,"1900-06-28",null,"1900-07-28",null,"1900-08-27",null,"1900-09-26",null,"1900-10-26",null,"1900-11-25",null,null,null,null,null,null,null,null,null,null,0,0,null,2011]
[null,null,null,null,null,null,null,null,null,null,"00:00:00",null,"1900-01-30",null,60,null,"1900-03-30",null,"1900-04-29",null,"1900-05-29",null,"1900-06-28",null,"1900-07-28",null,"1900-08-27",null,"1900-09-26",null,"1900-10-26",null,"1900-11-25",null,null,null,null,null,null,null,null,null,null,0,0,null,2028]
[null,null,null,null,null,null,null,null,null,null,"00:00:00",null,"1900-01-30",null,60,null,"1900-03-30",null,"1900-04-29",null,"1900-05-29",null,null,null,"1900-01-30",null,60,null,"1900-03-30",null,"1900-04-29",null,"1900-05-29",null,null,null,null,null,null,null,null,null,null,0,0,null,2045]
[null,null,null,null,null,null,null,null,null,null,"00:00:00",null,"1900-01-30",null,60,null,"1900-03-30",null,"1900-04-29",null,"1900-05-29",null,null,null,"1900-01-30",null,60,null,"1900-03-30",null,"1900-04-29",null,"1900-05-29",null,null,null,null,null,null,null,null,null,null,0,{"$f":"H582-AR582","v":0},null,2050]
[null,null,null,null,null,null,null,null,null,null,"00:00:00",null,"1900-01-30",null,60,null,"1900-03-30",null,"1900-04-29",null,"1900-05-29",null,null,null,"1900-01-30",null,60,null,"1900-03-30",null,"1900-04-29",null,"1900-05-29",null,null,null,null,null,null,null,null,null,null,0,0,null,2078]
[null,null,null,null,null,null,null,null,null,null,"00:00:00",null,"1900-01-30",null,60,null,"1900-03-30",null,"1900-04-29",null,"1900-05-29",null,null,null,"1900-01-30",null,60,null,"1900-03-30",null,"1900-04-29",null,"1900-05-29",null,null,null,null,null,null,null,null,null,null,0,0,null,2079]
[null,null,null,null,null,null,null,null,null,null,"00:00:00",null,"1900-01-30",null,60,null,"1900-03-30",null,"1900-04-29",null,"1900-05-29",null,null,null,"1900-01-30",null,null,null,"1900-01-30",null,60,null,"1900-03-30",null,null,null,null,null,null,null,null,null,null,0,0,null,2096]
[null,null,null,null,null,null,null,null,null,null,"00:00:00",null,"1900-01-30",null,60,null,"1900-03-30",null,"1900-04-29",null,"1900-05-29",null,null,null,"1900-01-30",null,null,null,"1900-01-30",null,60,null,"1900-03-30",null,null,null,null,null,null,null,null,null,null,0,0,null,2113]
[null,null,null,null,null,null,null,null,null,null,"00:00:00",null,"1900-01-30",null,60,null,"1900-03-30",null,"1900-04-29",null,"1900-05-29",null,null,null,"1900-01-30",null,null,null,"1900-01-30",null,60,null,"1900-03-30",null,null,null,null,null,null,null,null,null,null,0,0,null,2131]
[null,null,null,null,null,null,null,null,null,null,"00:00:00",null,"1900-01-30",null,60,null,"1900-03-30",null,"1900-04-29",null,"1900-05-29",null,null,null,"1900-01-30",null,null,null,"1900-01-30",null,60,null,"1900-03-30",null,null,null,null,null,null,null,null,null,null,0,0,null,2146]
[null,null,null,null,null,null,null,null,null,null,"00:00:00",null,"1900-01-30",null,60,null,"1900-03-30",null,"1900-04-29",null,"1900-05-29",null,null,null,"1900-01-30",null,null,null,"1900-01-30",null,60,null,"1900-03-30",null,null,null,null,null,null,null,null,null,null,0,0,null,2163]
[null,null,null,null,null,null,null,null,null,null,"00:00:00",null,"1900-01-30",null,null,null,"1900-01-30",null,60,null,"1900-03-30",null,null,null,"1900-01-30",null,null,null,"1900-01-30",null,60,null,"1900-03-30",null,null,null,null,null,null,null,null,null,null,0,0,null,2180]
[null,null,null,null,null,null,null,null,null,null,"00:00:00",null,"1900-01-30",null,null,null,"1900-01-30",null,60,null,"1900-03-30",null,null,null,"1900-01-30",null,null,null,"1900-01-30",null,60,null,"1900-03-30",null,null,null,null,null,null,null,null,null,null,0,0,null,2197]
[null,null,null,null,null,null,null,null,null,null,"00:00:00",null,"1900-01-30",null,null,null,"1900-01-30",null,60,null,"1900-03-30",null,null,null,"1900-01-30",null,null,null,"1900-01-30",null,60,null,"1900-03-30",null,null,null,null,null,null,null,null,null,null,0,0,null,2214]
[null,null,null,null,null,null,null,null,null,null,"00:00:00",null,"1900-01-30",null,null,null,"1900-01-30",null,60,null,"1900-03-30",null,null,null,null,null,null,null,"1900-01-30",null,60,null,"1900-03-30",null,null,null,null,null,null,null,null,null,null,0,0,null,2229]
[null,null,null,null,null,null,null,null,null,null,{"$f":"F779","v":"00:00:00"},null,{"$f":"K779+30","v":"1900-01-30"},null,null,null,{"$f":"O779+30","v":"1900-01-30"},null,{"$f":"Q779+30","v":60},null,{"$f":"S779+30","v":"1900-03-30"},null,null,null,null,null,null,null,{"$f":"AA779+30","v":"1900-01-30"},null,{"$f":"AC779+30","v":60},null,{"$f":"AE779+30","v":"1900-03-30"},null,null,null,null,null,null,null,null,null,null,0,0,null,2247]
[null,null,null,null,null,null,null,null,null,null,null,null,null,null,null,null,"1900-01-30",null,60,null,"1900-03-30",null,null,null,null,null,null,null,"1900-01-30",null,60,null,"1900-03-30",null,null,null,null,null,null,null,null,null,null,0,0,null,2264]
[null,null,null,null,null,null,null,null,null,null,null,null,null,null,null,null,"1900-01-30",null,60,null,"1900-03-30",null,null,null,null,null,null,null,"1900-01-30",null,60,null,"1900-03-30",null,null,null,null,null,null,null,null,null,null,0,0,null,2281]
[null,null,null,null,null,null,null,null,null,null,null,null,null,null,null,null,"1900-01-30",null,60,null,"1900-03-30",null,null,null,null,null,null,null,"1900-01-30",null,60,null,"1900-03-30",null,null,null,null,null,null,null,null,null,null,0,0,null,2298]
[null,null,null,null,null,null,null,null,null,null,null,null,null,null,null,null,"1900-01-30",null,60,null,"1900-03-30",null,null,null,null,null,null,null,"1900-01-30",null,60,null,"1900-03-30",null,null,null,null,null,null,null,null,null,null,0,0,null,2310]
[null,null,null,null,null,null,null,null,null,null,null,null,null,null,null,null,"1900-01-30",null,60,null,"1900-03-30",null,null,null,null,null,null,null,"1900-01-30",null,60,null,"1900-03-30",null,null,null,null,null,null,null,null,null,null,0,0,null,2331]
[null,null,null,null,null,null,null,null,null,null,null,null,null,null,null,null,"1900-01-30",null,60,null,"1900-03-30",null,null,null,null,null,null,null,"1900-01-30",null,60,null,"1900-03-30",null,null,null,null,null,null,null,null,null,null,0,0,null,2332]
[null,null,null,null,null,null,null,null,null,null,null,null,null,null,null,null,"1900-01-30",null,60,null,"1900-03-30",null,null,null,null,null,null,null,"1900-01-30",null,60,null,"1900-03-30",null,null,null,null,null,null,null,null,null,null,0,0,null,2349]
[null,null,null,null,null,null,null,null,null,null,null,null,null,null,null,null,"1900-01-30",null,60,null,"1900-03-30",null,null,null,null,null,null,null,null,null,"1900-01-30",null,60,null,null,null,null,null,null,null,null,null,null,0,0,null,2366]
[null,null,null,null,null,null,null,null,null,null,null,null,null,null,null,null,"1900-01-30",null,60,null,"1900-03-30",null,null,null,null,null,null,null,null,null,"1900-01-30",null,60,null,null,null,null,null,null,null,null,null,null,0,0,null,2390]
[null,null,null,null,null,null,null,null,null,null,null,null,null,null,null,null,"1900-01-30",null,60,null,"1900-03-30",null,null,null,null,null,null,null,null,null,"1900-01-30",null,60,null,null,null,null,null,null,null,null,null,null,0,0,null,2399]
[null,null,null,null,null,null,null,null,null,null,null,null,null,null,null,null,"1900-01-30",null,60,null,"1900-03-30",null,null,null,null,null,null,null,null,null,"1900-01-30",null,60,null,null,null,null,null,null,null,null,null,null,0,0,null,2416]
[null,null,null,null,null,null,null,null,null,null,null,null,null,null,null,null,"1900-01-30",null,60,null,"1900-03-30",null,null,null,null,null,null,null,null,null,"1900-01-30",null,60,null,null,null,null,null,null,null,null,null,null,0,0,null,2433]
[null,null,null,null,null,null,null,null,null,null,null,null,null,null,null,null,"1900-01-30",null,60,null,"1900-03-30",null,null,null,null,null,null,null,null,null,"1900-01-30",null,60,null,null,null,null,null,null,null,null,null,null,0,0,null,2450]
[null,null,null,null,null,null,null,null,null,null,null,null,null,null,null,null,"1900-01-30",null,60,null,"1900-03-30",null,null,null,null,null,null,null,null,null,"1900-01-30",null,60,null,null,null,null,null,null,null,null,null,null,0,0,null,2467]
[null,null,null,null,null,null,null,null,null,null,null,null,null,null,null,null,"1900-01-30",null,60,null,"1900-03-30",null,null,null,null,null,null,null,null,null,"1900-01-30",null,60,null,null,null,null,null,null,null,null,null,null,0,0,null,2488]
[null,null,null,null,null,null,null,null,null,null,null,null,null,null,null,null,"1900-01-30",null,60,null,"1900-03-30",null,null,null,null,null,null,null,null,null,"1900-01-30",null,60,null,null,null,null,null,null,null,null,null,null,0,0,null,2500]
[null,null,null,null,null,null,null,null,null,null,null,null,null,null,null,null,"1900-01-30",null,60,null,"1900-03-30",null,null,null,null,null,null,null,null,null,"1900-01-30",null,60,null,null,null,null,null,null,null,null,null,null,0,0,null,2517]
[null,null,null,null,null,null,null,null,null,null,null,null,null,null,null,null,"1900-01-30",null,60,null,"1900-03-30",null,null,null,null,null,null,null,null,null,"1900-01-30",null,60,null,null,null,null,null,null,null,null,null,null,0,0,null,2534]
[null,null,null,null,null,null,null,null,null,null,null,null,null,null,null,null,"1900-01-30",null,60,null,"1900-03-30",null,null,null,null,null,null,null,null,null,"1900-01-30",null,60,null,null,null,null,null,null,null,null,null,null,0,0,null,2551]
[null,null,null,null,null,null,null,null,null,null,null,null,null,null,null,null,"1900-01-30",null,60,null,"1900-03-30",null,null,null,null,null,null,null,null,null,"1900-01-30",null,60,null,null,null,null,null,null,null,null,null,null,0,0,null,2554]
[null,null,null,null,null,null,null,null,null,null,null,null,null,null,null,null,"1900-01-30",null,60,null,"1900-03-30",null,null,null,null,null,null,null,null,null,"1900-01-30",null,60,null,null,null,null,null,null,null,null,null,null,0,0,null,2584]
[null,null,null,null,null,null,null,null,null,null,null,null,null,null,null,null,"1900-01-30",null,60,null,"1900-03-30",null,null,null,null,null,null,null,null,null,"1900-01-30",null,60,null,null,null,null,null,null,null,null,null,null,0,0,null,2585]
[null,null,null,null,null,null,null,null,null,null,null,null,null,null,null,null,"1900-01-30",null,60,null,"1900-03-30",null,null,null,null,null,null,null,null,null,"1900-01-30",null,60,null,null,null,null,null,null,null,null,null,null,0,0,null,2602]
[null,null,null,null,null,null,null,null,null,null,null,null,null,null,null,null,"1900-01-30",null,60,null,"1900-03-30",null,null,null,null,null,null,null,null,null,"1900-01-30",null,60,null,null,null,null,null,null,null,null,null,null,0,0,null,2619]
[null,null,null,null,null,null,null,null,null,null,null,null,null,null,null,null,"1900-01-30",null,60,null,"1900-03-30",null,null,null,null,null,null,null,null,null,null,null,"1900-01-30",null,null,null,null,null,null,null,null,null,null,0,0,null,2636]
[null,null,null,null,null,null,null,null,null,null,null,null,null,null,null,null,"1900-01-30",null,60,null,"1900-03-30",null,null,null,null,null,null,null,null,null,null,null,"1900-01-30",null,null,null,null,null,null,null,null,null,null,0,0,null,2651]
[null,null,null,null,null,null,null,null,null,null,null,null,null,null,null,null,"1900-01-30",null,60,null,"1900-03-30",null,null,null,null,null,null,null,null,null,null,null,"1900-01-30",null,null,null,null,null,null,null,null,null,null,0,0,null,2669]
[null,null,null,null,null,null,null,null,null,null,null,null,null,null,null,null,"1900-01-30",null,60,null,"1900-03-30",null,null,null,null,null,null,null,null,null,null,null,"1900-01-30",null,null,null,null,null,null,null,null,null,null,0,0,null,2686]
[null,null,null,null,null,null,null,null,null,null,null,null,null,null,null,null,"1900-01-30",null,60,null,"1900-03-30",null,null,null,null,null,null,null,null,null,null,null,"1900-01-30",null,null,null,null,null,null,null,null,null,null,0,0,null,2703]
[null,null,null,null,null,null,null,null,null,null,null,null,null,null,null,null,"1900-01-30",null,60,null,"1900-03-30",null,null,null,null,null,null,null,null,null,null,null,"1900-01-30",null,null,null,null,null,null,null,null,null,null,0,0,null,2720]
[null,null,null,null,null,null,null,null,null,null,null,null,null,null,null,null,"1900-01-30",null,60,null,"1900-03-30",null,null,null,null,null,null,null,null,null,null,null,"1900-01-30",null,null,null,null,null,null,null,null,null,null,0,0,null,2732]
[null,null,null,null,null,null,null,null,null,null,null,null,null,null,null,null,"1900-01-30",null,60,null,"1900-03-30",null,null,null,null,null,null,null,null,null,null,null,"1900-01-30",null,null,null,null,null,null,null,null,null,null,0,0,null,2753]
[null,null,null,null,null,null,null,null,null,null,null,null,null,null,null,null,"1900-01-30",null,null,null,"1900-01-30",null,null,null,null,null,null,null,null,null,null,null,"1900-01-30",null,null,null,null,null,null,null,null,null,null,0,0,null,2770]
[null,null,null,null,null,null,null,null,null,null,null,null,null,null,null,null,"1900-01-30",null,null,null,"1900-01-30",null,null,null,null,null,null,null,null,null,null,null,"1900-01-30",null,null,null,null,null,null,null,null,null,null,0,0,null,2787]
[null,null,null,null,null,null,null,null,null,null,null,null,null,null,null,null,"1900-01-30",null,null,null,"1900-01-30",null,null,null,null,null,null,null,null,null,null,null,"1900-01-30",null,null,null,null,null,null,null,null,null,null,0,0,null,2804]
[null,null,null,null,null,null,null,null,null,null,null,null,null,null,null,null,"1900-01-30",null,null,null,"1900-01-30",null,null,null,null,null,null,null,null,null,null,null,"1900-01-30",null,null,null,null,null,null,null,null,null,null,0,0,null,2813]
[null,null,null,null,null,null,null,null,null,null,null,null,null,null,null,null,"1900-01-30",null,null,null,"1900-01-30",null,null,null,null,null,null,null,null,null,null,null,"1900-01-30",null,null,null,null,null,null,null,null,null,null,0,0,null,2837]
[null,null,null,null,null,null,null,null,null,null,null,null,null,null,null,null,"1900-01-30",null,null,null,"1900-01-30",null,null,null,null,null,null,null,null,null,null,null,"1900-01-30",null,null,null,null,null,null,null,null,null,null,0,0,null,2838]
[null,null,null,null,null,null,null,null,null,null,null,null,null,null,null,null,"1900-01-30",null,null,null,"1900-01-30",null,null,null,null,null,null,null,null,null,null,null,"1900-01-30",null,null,null,null,null,null,null,null,null,null,0,0,null,2855]
[null,null,null,null,null,null,null,null,null,null,null,null,null,null,null,null,"1900-01-30",null,null,null,"1900-01-30",null,null,null,null,null,null,null,null,null,null,null,"1900-01-30",null,null,null,null,null,null,null,null,null,null,0,0,null,2872]
[null,null,null,null,null,null,null,null,null,null,null,null,null,null,null,null,null,null,null,null,"1900-01-30",null,null,null,null,null,null,null,null,null,null,null,"1900-01-30",null,null,null,null,null,null,null,null,null,null,0,0,null,2889]
[null,null,null,null,null,null,null,null,null,null,null,null,null,null,null,null,null,null,null,null,"1900-01-30",null,null,null,null,null,null,null,null,null,null,null,"1900-01-30",null,null,null,null,null,null,null,null,null,null,0,0,null,2910]
[null,null,null,null,null,null,null,null,null,null,null,null,null,null,null,null,null,null,null,null,"1900-01-30",null,null,null,null,null,null,null,null,null,null,null,"1900-01-30",null,null,null,null,null,null,null,null,null,null,0,0,null,2922]
[null,null,null,null,null,null,null,null,null,null,null,null,null,null,null,null,null,null,null,null,"1900-01-30",null,null,null,null,null,null,null,null,null,null,null,"1900-01-30",null,null,null,null,null,null,null,null,null,null,0,0,null,2939]
[null,null,null,null,null,null,null,null,null,null,null,null,null,null,null,null,null,null,null,null,"1900-01-30",null,null,null,null,null,null,null,null,null,null,null,"1900-01-30",null,null,null,null,null,null,null,null,null,null,0,0,null,2956]
[null,null,null,null,null,null,null,null,null,null,null,null,null,null,null,null,null,null,null,null,"1900-01-30",null,null,null,null,null,null,null,null,null,null,null,"1900-01-30",null,null,null,null,null,null,null,null,null,null,0,0,null,2973]
[null,null,null,null,null,null,null,null,null,null,null,null,null,null,null,null,null,null,null,null,"1900-01-30",null,null,null,null,null,null,null,null,null,null,null,"1900-01-30",null,null,null,null,null,null,null,null,null,null,0,0,null,2991]
[null,null,null,null,null,null,null,null,null,null,null,null,null,null,null,null,null,null,null,null,"1900-01-30",null,null,null,null,null,null,null,null,null,null,null,"1900-01-30",null,null,null,null,null,null,null,null,null,null,0,0,null,3006]
[null,null,null,null,null,null,null,null,null,null,null,null,null,null,null,null,null,null,null,null,"1900-01-30",null,null,null,null,null,null,null,null,null,null,null,"1900-01-30",null,null,null,null,null,null,null,null,null,null,0,0,null,3023]
[null,null,null,null,null,null,null,null,null,null,null,null,null,null,null,null,null,null,null,null,"1900-01-30",null,null,null,null,null,null,null,null,null,null,null,"1900-01-30",null,null,null,null,null,null,null,null,null,null,0,0,null,3040]
[null,null,null,null,null,null,null,null,null,null,null,null,null,null,null,null,null,null,null,null,"1900-01-30",null,null,null,null,null,null,null,null,null,null,null,"1900-01-30",null,null,null,null,null,null,null,null,null,null,0,0,null,3057]
[null,null,null,null,null,null,null,null,null,null,null,null,null,null,null,null,null,null,null,null,"1900-01-30",null,null,null,null,null,null,null,null,null,null,null,"1900-01-30",null,null,null,null,null,null,null,null,null,null,0,0,null,3072]
[null,null,null,null,null,null,null,null,null,null,null,null,null,null,null,null,null,null,null,null,null,null,null,null,null,null,null,null,null,null,null,null,"1900-01-30",null,null,null,null,null,null,null,null,null,null,0,0,null,3090]
[null,null,null,null,null,null,null,null,null,null,null,null,null,null,null,null,null,null,null,null,null,null,null,null,null,null,null,null,null,null,null,null,"1900-01-30",null,null,null,null,null,null,null,null,null,null,0,0,null,3091]
[null,null,null,null,null,null,null,null,null,null,null,null,null,null,null,null,null,null,null,null,null,null,null,null,null,null,null,null,null,null,null,null,"1900-01-30",null,null,null,null,null,null,null,null,null,null,0,0,null,3108]
[null,null,null,null,null,null,null,null,null,null,null,null,null,null,null,null,null,null,null,null,null,null,null,null,null,null,null,null,null,null,null,null,"1900-01-30",null,null,null,null,null,null,null,null,null,null,0,0,null,3125]
[null,null,null,null,null,null,null,null,null,null,null,null,null,null,null,null,null,null,null,null,null,null,null,null,null,null,null,null,null,null,null,null,"1900-01-30",null,null,null,null,null,null,null,null,null,null,0,0,null,3142]
[null,null,null,null,null,null,null,null,null,null,null,null,null,null,null,null,null,null,null,null,null,null,null,null,null,null,null,null,null,null,null,null,"1900-01-30",null,null,null,null,null,null,null,null,null,null,0,0,null,3169]
[null,null,null,null,null,null,null,null,null,null,null,null,null,null,null,null,null,null,null,null,null,null,null,null,null,null,null,null,null,null,null,null,"1900-01-30",null,null,null,null,null,null,null,null,null,null,0,0,null,3175]
[null,null,null,null,null,null,null,null,null,null,null,null,null,null,null,null,null,null,null,null,null,null,null,null,null,null,null,null,null,null,null,null,"1900-01-30",null,null,null,null,null,null,null,null,null,null,0,0,null,3192]
[null,null,null,null,null,null,null,null,null,null,null,null,null,null,null,null,null,null,null,null,null,null,null,null,null,null,null,null,null,null,null,null,"1900-01-30",null,null,null,null,null,null,null,null,null,null,0,0,null,3209]
[null,null,null,null,null,null,null,null,null,null,null,null,null,null,null,null,null,null,null,null,null,null,null,null,null,null,null,null,null,null,null,null,"1900-01-30",null,null,null,null,null,null,null,null,null,null,0,0,null,3226]
[null,null,null,null,null,null,null,null,null,null,null,null,null,null,null,null,null,null,null,null,null,null,null,null,null,null,null,null,null,null,null,null,"1900-01-30",null,null,null,null,null,null,null,null,null,null,0,0,null,3235]
[null,null,null,null,null,null,null,null,null,null,null,null,null,null,null,null,null,null,null,null,null,null,null,null,null,null,null,null,null,null,null,null,"1900-01-30",null,null,null,null,null,null,null,null,null,null,0,0,null,3259]
[null,null,null,null,null,null,null,null,null,null,null,null,null,null,null,null,null,null,null,null,null,null,null,null,null,null,null,null,null,null,null,null,"1900-01-30",null,null,null,null,null,null,null,null,null,null,0,0,null,3276]
[null,null,null,null,null,null,null,null,null,null,null,null,null,null,null,null,null,null,null,null,null,null,null,null,null,null,null,null,null,null,null,null,"1900-01-30",null,null,null,null,null,null,null,null,null,null,0,0,null,3293]
[null,null,null,null,null,null,null,null,null,null,null,null,null,null,null,null,null,null,null,null,null,null,null,null,null,null,null,null,null,null,null,null,"1900-01-30",null,null,null,null,null,null,null,null,null,null,0,0,null,3310]
[null,null,null,null,null,null,null,null,null,null,null,null,null,null,null,null,null,null,null,null,null,null,null,null,null,null,null,null,null,null,null,null,"1900-01-30",null,null,null,null,null,null,null,null,null,null,0,0,null,3327]
[null,null,null,null,null,null,null,null,null,null,null,null,null,null,null,null,null,null,null,null,null,null,null,null,null,null,null,null,null,null,null,null,"1900-01-30",null,null,null,null,null,null,null,null,null,null,0,0,null,3332]
[null,null,null,null,null,null,null,null,null,null,null,null,null,null,null,null,null,null,null,null,null,null,null,null,null,null,null,null,null,null,null,null,"1900-01-30",null,null,null,null,null,null,null,null,null,null,0,0,null,3344]
[null,null,null,null,null,null,null,null,null,null,null,null,null,null,null,null,null,null,null,null,null,null,null,null,null,null,null,null,null,null,null,null,"1900-01-30",null,null,null,null,null,null,null,null,null,null,0,0,null,3361]
[null,null,null,null,null,null,null,null,null,null,null,null,null,null,null,null,null,null,null,null,null,null,null,null,null,null,null,null,null,null,null,null,"1900-01-30",null,null,null,null,null,null,null,null,null,null,0,0,null,3378]
[null,null,null,null,null,null,null,null,null,null,null,null,null,null,null,null,null,null,null,null,null,null,null,null,null,null,null,null,null,null,null,null,"1900-01-30",null,null,null,null,null,null,null,null,null,null,{"$f":"SUM(J1927+L1927+N1927+P1927+R1927+T1927+V1927+X1927+Z1927+AB1927+AD1927+AF1927)","v":0},0,null,3395]
[null,null,null,null,null,null,null,null,null,null,null,null,null,null,null,null,null,null,null,null,null,null,null,null,null,null,null,null,null,null,null,null,"1900-01-30",null,null,null,null,null,null,null,null,null,null,0,0,null,3413]
[null,null,null,null,null,null,null,null,null,null,null,null,null,null,null,null,null,null,null,null,null,null,null,null,null,null,null,null,null,null,null,null,"1900-01-30",null,null,null,null,null,null,null,null,null,null,0,0,null,3428]
[null,null,null,null,null,null,null,null,null,null,null,null,null,null,null,null,null,null,null,null,null,null,null,null,null,null,null,null,null,null,null,null,"1900-01-30",null,null,null,null,null,null,null,null,null,null,0,0,null,3445]
[null,null,null,null,null,null,null,null,null,null,null,null,null,null,null,null,null,null,null,null,null,null,null,null,null,null,null,null,null,null,null,null,"1900-01-30",null,null,null,null,null,null,null,null,null,null,0,0,null,3462]
[null,null,null,null,null,null,null,null,null,null,null,null,null,null,null,null,null,null,null,null,null,null,null,null,null,null,null,null,null,null,null,null,"1900-01-30",null,null,null,null,null,null,null,null,null,null,0,0,null,3479]
[null,null,null,null,null,null,null,null,null,null,null,null,null,null,null,null,null,null,null,null,null,null,null,null,null,null,null,null,null,null,null,null,"1900-01-30",null,null,null,null,null,null,null,null,null,null,0,0,null,3494]
[null,null,null,null,null,null,null,null,null,null,null,null,null,null,null,null,null,null,null,null,null,null,null,null,null,null,null,null,null,null,null,null,"1900-01-30",null,null,null,null,null,null,null,null,null,null,0,0,null,3512]
[null,null,null,null,null,null,null,null,null,null,null,null,null,null,null,null,null,null,null,null,null,null,null,null,null,null,null,null,null,null,null,null,"1900-01-30",null,null,null,null,null,null,null,null,null,null,0,0,null,3529]
[null,null,null,null,null,null,null,null,null,null,null,null,null,null,null,null,null,null,null,null,null,null,null,null,null,null,null,null,null,null,null,null,"1900-01-30",null,null,null,null,null,null,null,null,null,null,0,0,null,3546]
[null,null,null,null,null,null,null,null,null,null,null,null,null,null,null,null,null,null,null,null,null,null,null,null,null,null,null,null,null,null,null,null,"1900-01-30",null,null,null,null,null,null,null,null,null,null,0,0,null,3563]
[null,null,null,null,null,null,null,null,null,null,null,null,null,null,null,null,null,null,null,null,null,null,null,null,null,null,null,null,null,null,null,null,"1900-01-30",null,null,null,null,null,null,null,null,null,null,0,0,null,3580]
[null,null,null,null,null,null,null,null,null,null,null,null,null,null,null,null,null,null,null,null,null,null,null,null,null,null,null,null,null,null,null,null,{"$f":"AE2123+30","v":"1900-01-30"},null,null,null,null,null,null,null,null,null,null,0,0,null,3591]
[null,null,null,null,null,null,null,null,null,null,null,null,null,null,null,null,null,null,null,null,null,null,null,null,null,null,null,null,null,null,null,null,"1900-01-30",null,null,null,null,null,null,null,null,null,null,0,0,null,3597]
[null,null,null,null,null,null,null,null,null,null,null,null,null,null,null,null,null,null,null,null,null,null,null,null,null,null,null,null,null,null,null,null,"1900-01-30",null,null,null,null,null,null,null,null,null,null,0,0,null,3614]
[null,null,null,null,null,null,null,null,null,null,null,null,null,null,null,null,null,null,null,null,null,null,null,null,null,null,null,null,null,null,null,null,"1900-01-30",null,null,null,null,null,null,null,null,null,null,0,0,null,3631]
[null,null,null,null,null,null,null,null,null,null,null,null,null,null,null,null,null,null,null,null,null,null,null,null,null,null,null,null,null,null,null,null,"1900-01-30",null,null,null,null,null,null,null,null,null,null,0,0,null,3648]
[null,null,null,null,null,null,null,null,null,null,null,null,null,null,null,null,null,null,null,null,null,null,null,null,null,null,null,null,null,null,null,null,"1900-01-30",null,null,null,null,null,null,null,null,null,null,0,0,null,3672]
[null,null,null,null,null,null,null,null,null,null,null,null,null,null,null,null,null,null,null,null,null,null,null,null,null,null,null,null,null,null,null,null,"1900-01-30",null,null,null,null,null,null,null,null,null,null,0,0,null,3681]
[null,null,null,null,null,null,null,null,null,null,null,null,null,null,null,null,null,null,null,null,null,null,null,null,null,null,null,null,null,null,null,null,"1900-01-30",null,null,null,null,null,null,null,null,null,null,0,0,null,3698]
[null,null,null,null,null,null,null,null,null,null,null,null,null,null,null,null,null,null,null,null,null,null,null,null,null,null,null,null,null,null,null,null,"1900-01-30",null,null,null,null,null,null,null,null,null,null,{"$f":"SUM(J2247+L2247+N2247+P2247+R2247+T2247+V2247+X2247+Z2247+AB2247+AD2247+AF2247)","v":0},0,null,3715]
[null,null,null,null,null,null,null,null,null,null,null,null,null,null,null,null,null,null,null,null,null,null,null,null,null,null,null,null,null,null,null,null,"1900-01-30",null,null,null,null,null,null,null,null,null,null,0,0,null,3732]
[null,null,null,null,null,null,null,null,null,null,null,null,null,null,null,null,null,null,null,null,null,null,null,null,null,null,null,null,null,null,null,null,"1900-01-30",null,null,null,null,null,null,null,null,null,null,0,0,null,3753]
[null,null,null,null,null,null,null,null,null,null,null,null,null,null,null,null,null,null,null,null,null,null,null,null,null,null,null,null,null,null,null,null,"1900-01-30",null,null,null,null,null,null,null,null,null,null,0,0,null,3765]
[null,null,null,null,null,null,null,null,null,null,null,null,null,null,null,null,null,null,null,null,null,null,null,null,null,null,null,null,null,null,null,null,"1900-01-30",null,null,null,null,null,null,null,null,null,null,0,0,null,3782]
[null,null,null,null,null,null,null,null,null,null,null,null,null,null,null,null,null,null,null,null,null,null,null,null,null,null,null,null,null,null,null,null,"1900-01-30",null,null,null,null,null,null,null,null,null,null,0,0,null,3799]
[null,null,null,null,null,null,null,null,null,null,null,null,null,null,null,null,null,null,null,null,null,null,null,null,null,null,null,null,null,null,null,null,"1900-01-30",null,null,null,null,null,null,null,null,null,null,0,0,null,3816]
[null,null,null,null,null,null,null,null,null,null,null,null,null,null,null,null,null,null,null,null,null,null,null,null,null,null,null,null,null,null,null,null,"1900-01-30",null,null,null,null,null,null,null,null,null,null,0,0,null,3833]
[null,null,null,null,null,null,null,null,null,null,null,null,null,null,null,null,null,null,null,null,null,null,null,null,null,null,null,null,null,null,null,null,"1900-01-30",null,null,null,null,null,null,null,null,null,null,0,0,null,3836]
[null,null,null,null,null,null,null,null,null,null,null,null,null,null,null,null,null,null,null,null,null,null,null,null,null,null,null,null,null,null,null,null,"1900-01-30",null,null,null,null,null,null,null,null,null,null,0,0,null,3850]
[null,null,null,null,null,null,null,null,null,null,null,null,null,null,null,null,null,null,null,null,null,null,null,null,null,null,null,null,null,null,null,null,"1900-01-30",null,null,null,null,null,null,null,null,null,null,0,0,null,3867]
[null,null,null,null,null,null,null,null,null,null,null,null,null,null,null,null,null,null,null,null,null,null,null,null,null,null,null,null,null,null,null,null,"1900-01-30",null,null,null,null,null,null,null,null,null,null,0,0,null,3884]
[null,null,null,null,null,null,null,null,null,null,null,null,null,null,null,null,null,null,null,null,null,null,null,null,null,null,null,null,null,null,null,null,"1900-01-30",null,null,null,null,null,null,null,null,null,null,0,0,null,3901]
[null,null,null,null,null,null,null,null,null,null,null,null,null,null,null,null,null,null,null,null,null,null,null,null,null,null,null,null,null,null,null,null,"1900-01-30",null,null,null,null,null,null,null,null,null,null,0,0,null,3916]
[null,null,null,null,null,null,null,null,null,null,null,null,null,null,null,null,null,null,null,null,null,null,null,null,null,null,null,null,null,null,null,null,"1900-01-30",null,null,null,null,null,null,null,null,null,null,0,0,null,3934]
[null,null,null,null,null,null,null,null,null,null,null,null,null,null,null,null,null,null,null,null,null,null,null,null,null,null,null,null,null,null,null,null,"1900-01-30",null,null,null,null,null,null,null,null,null,null,0,0,null,3951]
[null,null,null,null,null,null,null,null,null,null,null,null,null,null,null,null,null,null,null,null,null,null,null,null,null,null,null,null,null,null,null,null,"1900-01-30",null,null,null,null,null,null,null,null,null,null,0,0,null,3968]
[null,null,null,null,null,null,null,null,null,null,null,null,null,null,null,null,null,null,null,null,null,null,null,null,null,null,null,null,null,null,null,null,"1900-01-30",null,null,null,null,null,null,null,null,null,null,0,0,null,3985]
[null,null,null,null,null,null,null,null,null,null,null,null,null,null,null,null,null,null,null,null,null,null,null,null,null,null,null,null,null,null,null,null,"1900-01-30",null,null,null,null,null,null,null,null,null,null,0,0,null,4002]
[null,null,null,null,null,null,null,null,null,null,null,null,null,null,null,null,null,null,null,null,null,null,null,null,null,null,null,null,null,null,null,null,"1900-01-30",null,null,null,null,null,null,null,null,null,null,0,0,null,4014]
[null,null,null,null,null,null,null,null,null,null,null,null,null,null,null,null,null,null,null,null,null,null,null,null,null,null,null,null,null,null,null,null,"1900-01-30",null,null,null,null,null,null,null,null,null,null,{"$f":"SUM(J2567+L2567+N2567+P2567+R2567+T2567+V2567+X2567+Z2567+AB2567+AD2567+AF2567)","v":0},0,null,4035]
[null,null,null,null,null,null,null,null,null,null,null,null,null,null,null,null,null,null,null,null,null,null,null,null,null,null,null,null,null,null,null,null,"1900-01-30",null,null,null,null,null,null,null,null,null,null,0,0,null,4052]
[null,null,null,null,null,null,null,null,null,null,null,null,null,null,null,null,null,null,null,null,null,null,null,null,null,null,null,null,null,null,null,null,"1900-01-30",null,null,null,null,null,null,null,null,null,null,0,0,null,4069]
[null,null,null,null,null,null,null,null,null,null,null,null,null,null,null,null,null,null,null,null,null,null,null,null,null,null,null,null,null,null,null,null,"1900-01-30",null,null,null,null,null,null,null,null,null,null,0,0,null,4086]
[null,null,null,null,null,null,null,null,null,null,null,null,null,null,null,null,null,null,null,null,null,null,null,null,null,null,null,null,null,null,null,null,"1900-01-30",null,null,null,null,null,null,null,null,null,null,0,0,null,4095]
[null,null,null,null,null,null,null,null,null,null,null,null,null,null,null,null,null,null,null,null,null,null,null,null,null,null,null,null,null,null,null,null,{"$f":"AE2635+30","v":"1900-01-30"},null,null,null,null,null,null,null,null,null,null,0,0,null,4103]
[null,null,null,null,null,null,null,null,null,null,null,null,null,null,null,null,null,null,null,null,null,null,null,null,null,null,null,null,null,null,null,null,"1900-01-30",null,null,null,null,null,null,null,null,null,null,0,0,null,4120]
[null,null,null,null,null,null,null,null,null,null,null,null,null,null,null,null,null,null,null,null,null,null,null,null,null,null,null,null,null,null,null,null,"1900-01-30",null,null,null,null,null,null,null,null,null,null,0,0,null,4137]
[null,null,null,null,null,null,null,null,null,null,null,null,null,null,null,null,null,null,null,null,null,null,null,null,null,null,null,null,null,null,null,null,"1900-01-30",null,null,null,null,null,null,null,null,null,null,0,0,null,4154]
[null,null,null,null,null,null,null,null,null,null,null,null,null,null,null,null,null,null,null,null,null,null,null,null,null,null,null,null,null,null,null,null,"1900-01-30",null,null,null,null,null,null,null,null,null,null,0,0,null,4176]
[null,null,null,null,null,null,null,null,null,null,null,null,null,null,null,null,null,null,null,null,null,null,null,null,null,null,null,null,null,null,null,null,"1900-01-30",null,null,null,null,null,null,null,null,null,null,0,0,null,4187]
[null,null,null,null,null,null,null,null,null,null,null,null,null,null,null,null,null,null,null,null,null,null,null,null,null,null,null,null,null,null,null,null,"1900-01-30",null,null,null,null,null,null,null,null,null,null,0,0,null,4204]
[null,null,null,null,null,null,null,null,null,null,null,null,null,null,null,null,null,null,null,null,null,null,null,null,null,null,null,null,null,null,null,null,"1900-01-30",null,null,null,null,null,null,null,null,null,null,0,0,null,4221]
[null,null,null,null,null,null,null,null,null,null,null,null,null,null,null,null,null,null,null,null,null,null,null,null,null,null,null,null,null,null,null,null,"1900-01-30",null,null,null,null,null,null,null,null,null,null,0,0,null,4238]
[null,null,null,null,null,null,null,null,null,null,null,null,null,null,null,null,null,null,null,null,null,null,null,null,null,null,null,null,null,null,null,null,"1900-01-30",null,null,null,null,null,null,null,null,null,null,0,0,null,4255]
[null,null,null,null,null,null,null,null,null,null,null,null,null,null,null,null,null,null,null,null,null,null,null,null,null,null,null,null,null,null,null,null,"1900-01-30",null,null,null,null,null,null,null,null,null,null,0,0,null,4273]
[null,null,null,null,null,null,null,null,null,null,null,null,null,null,null,null,null,null,null,null,null,null,null,null,null,null,null,null,null,null,null,null,"1900-01-30",null,null,null,null,null,null,null,null,null,null,0,0,null,4288]
[null,null,null,null,null,null,null,null,null,null,null,null,null,null,null,null,null,null,null,null,null,null,null,null,null,null,null,null,null,null,null,null,"1900-01-30",null,null,null,null,null,null,null,null,null,null,0,0,null,4305]
[null,null,null,null,null,null,null,null,null,null,null,null,null,null,null,null,null,null,null,null,null,null,null,null,null,null,null,null,null,null,null,null,null,null,null,null,null,null,null,null,null,null,null,0,0,null,4322]
[null,null,null,null,null,null,null,null,null,null,null,null,null,null,null,null,null,null,null,null,null,null,null,null,null,null,null,null,null,null,null,null,null,null,null,null,null,null,null,null,null,null,null,0,0,null,4339]
[null,null,null,null,null,null,null,null,null,null,null,null,null,null,null,null,null,null,null,null,null,null,null,null,null,null,null,null,null,null,null,null,null,null,null,null,null,null,null,null,null,null,null,0,{"$f":"H2886-AR2886","v":0},null,4354]
[null,null,null,null,null,null,null,null,null,null,null,null,null,null,null,null,null,null,null,null,null,null,null,null,null,null,null,null,null,null,null,null,null,null,null,null,null,null,null,null,null,null,null,0,0,null,4356]
[null,null,null,null,null,null,null,null,null,null,null,null,null,null,null,null,null,null,null,null,null,null,null,null,null,null,null,null,null,null,null,null,null,null,null,null,null,null,null,null,null,null,null,0,0,null,4373]
[null,null,null,null,null,null,null,null,null,null,null,null,null,null,null,null,null,null,null,null,null,null,null,null,null,null,null,null,null,null,null,null,null,null,null,null,null,null,null,null,null,null,null,0,0,null,4390]
[null,null,null,null,null,null,null,null,null,null,null,null,null,null,null,null,null,null,null,null,null,null,null,null,null,null,null,null,null,null,null,null,null,null,null,null,null,null,null,null,null,null,null,0,0,null,4407]
[null,null,null,null,null,null,null,null,null,null,null,null,null,null,null,null,null,null,null,null,null,null,null,null,null,null,null,null,null,null,null,null,null,null,null,null,null,null,null,null,null,null,null,0,0,null,4420]
[null,null,null,null,null,null,null,null,null,null,null,null,null,null,null,null,null,null,null,null,null,null,null,null,null,null,null,null,null,null,null,null,null,null,null,null,null,null,null,null,null,null,null,0,0,null,4440]
[null,null,null,null,null,null,null,null,null,null,null,null,null,null,null,null,null,null,null,null,null,null,null,null,null,null,null,null,null,null,null,null,null,null,null,null,null,null,null,null,null,null,null,0,0,null,4457]
[null,null,null,null,null,null,null,null,null,null,null,null,null,null,null,null,null,null,null,null,null,null,null,null,null,null,null,null,null,null,null,null,null,null,null,null,null,null,null,null,null,null,null,0,0,null,4474]
[null,null,null,null,null,null,null,null,null,null,null,null,null,null,null,null,null,null,null,null,null,null,null,null,null,null,null,null,null,null,null,null,null,null,null,null,null,null,null,null,null,null,null,0,0,null,4491]
[null,null,null,null,null,null,null,null,null,null,null,null,null,null,null,null,null,null,null,null,null,null,null,null,null,null,null,null,null,null,null,null,null,null,null,null,null,null,null,null,null,null,null,0,0,null,4508]
[null,null,null,null,null,null,null,null,null,null,null,null,null,null,null,null,null,null,null,null,null,null,null,null,null,null,null,null,null,null,null,null,null,null,null,null,null,null,null,null,null,null,null,0,0,null,4517]
[null,null,null,null,null,null,null,null,null,null,null,null,null,null,null,null,null,null,null,null,null,null,null,null,null,null,null,null,null,null,null,null,null,null,null,null,null,null,null,null,null,null,null,0,0,null,4541]
[null,null,null,null,null,null,null,null,null,null,null,null,null,null,null,null,null,null,null,null,null,null,null,null,null,null,null,null,null,null,null,null,null,null,null,null,null,null,null,null,null,null,null,0,0,null,4558]
[null,null,null,null,null,null,null,null,null,null,null,null,null,null,null,null,null,null,null,null,null,null,null,null,null,null,null,null,null,null,null,null,null,null,null,null,null,null,null,null,null,null,null,0,0,null,4575]
[null,null,null,null,null,null,null,null,null,null,null,null,null,null,null,null,null,null,null,null,null,null,null,null,null,null,null,null,null,null,null,null,null,null,null,null,null,null,null,null,null,null,null,0,0,null,4592]
[null,null,null,null,null,null,null,null,null,null,null,null,null,null,null,null,null,null,null,null,null,null,null,null,null,null,null,null,null,null,null,null,null,null,null,null,null,null,null,null,null,null,null,0,0,null,4598]
[null,null,null,null,null,null,null,null,null,null,null,null,null,null,null,null,null,null,null,null,null,null,null,null,null,null,null,null,null,null,null,null,null,null,null,null,null,null,null,null,null,null,null,0,0,null,4609]
[null,null,null,null,null,null,null,null,null,null,null,null,null,null,null,null,null,null,null,null,null,null,null,null,null,null,null,null,null,null,null,null,null,null,null,null,null,null,null,null,null,null,null,0,0,null,4626]
[null,null,null,null,null,null,null,null,null,null,null,null,null,null,null,null,null,null,null,null,null,null,null,null,null,null,null,null,null,null,null,null,null,null,null,null,null,null,null,null,null,null,null,0,0,null,4643]
[null,null,null,null,null,null,null,null,null,null,null,null,null,null,null,null,null,null,null,null,null,null,null,null,null,null,null,null,null,null,null,null,null,null,null,null,null,null,null,null,null,null,null,0,0,null,4660]
[null,null,null,null,null,null,null,null,null,null,null,null,null,null,null,null,null,null,null,null,null,null,null,null,null,null,null,null,null,null,null,null,null,null,null,null,null,null,null,null,null,null,null,0,0,null,4677]
[null,null,null,null,null,null,null,null,null,null,null,null,null,null,null,null,null,null,null,null,null,null,null,null,null,null,null,null,null,null,null,null,null,null,null,null,null,null,null,null,null,null,null,0,0,null,4695]
[null,null,null,null,null,null,null,null,null,null,null,null,null,null,null,null,null,null,null,null,null,null,null,null,null,null,null,null,null,null,null,null,null,null,null,null,null,null,null,null,null,null,null,0,0,null,4710]
[null,null,null,null,null,null,null,null,null,null,null,null,null,null,null,null,null,null,null,null,null,null,null,null,null,null,null,null,null,null,null,null,null,null,null,null,null,null,null,null,null,null,null,0,0,null,4727]
[null,null,null,null,null,null,null,null,null,null,null,null,null,null,null,null,null,null,null,null,null,null,null,null,null,null,null,null,null,null,null,null,null,null,null,null,null,null,null,null,null,null,null,0,0,null,4744]
[null,null,null,null,null,null,null,null,null,null,null,null,null,null,null,null,null,null,null,null,null,null,null,null,null,null,null,null,null,null,null,null,null,null,null,null,null,null,null,null,null,null,null,0,0,null,4761]
[null,null,null,null,null,null,null,null,null,null,null,null,null,null,null,null,null,null,null,null,null,null,null,null,null,null,null,null,null,null,null,null,null,null,null,null,null,null,null,null,null,null,null,0,0,null,4776]
[null,null,null,null,null,null,null,null,null,null,null,null,null,null,null,null,null,null,null,null,null,null,null,null,null,null,null,null,null,null,null,null,null,null,null,null,null,null,null,null,null,null,null,0,0,null,4794]
[null,null,null,null,null,null,null,null,null,null,null,null,null,null,null,null,null,null,null,null,null,null,null,null,null,null,null,null,null,null,null,null,null,null,null,null,null,null,null,null,null,null,null,0,0,null,4811]
[null,null,null,null,null,null,null,null,null,null,null,null,null,null,null,null,null,null,null,null,null,null,null,null,null,null,null,null,null,null,null,null,null,null,null,null,null,null,null,null,null,null,null,0,0,null,4828]
[null,null,null,null,null,null,null,null,null,null,null,null,null,null,null,null,null,null,null,null,null,null,null,null,null,null,null,null,null,null,null,null,null,null,null,null,null,null,null,null,null,null,null,0,0,null,4845]
[null,null,null,null,null,null,null,null,null,null,null,null,null,null,null,null,null,null,null,null,null,null,null,null,null,null,null,null,null,null,null,null,null,null,null,null,null,null,null,null,null,null,null,0,0,null,4857]
[null,null,null,null,null,null,null,null,null,null,null,null,null,null,null,null,null,null,null,null,null,null,null,null,null,null,null,null,null,null,null,null,null,null,null,null,null,null,null,null,null,null,null,0,0,null,4862]
[null,null,null,null,null,null,null,null,null,null,null,null,null,null,null,null,null,null,null,null,null,null,null,null,null,null,null,null,null,null,null,null,null,null,null,null,null,null,null,null,null,null,null,0,0,null,4879]
[null,null,null,null,null,null,null,null,null,null,null,null,null,null,null,null,null,null,null,null,null,null,null,null,null,null,null,null,null,null,null,null,null,null,null,null,null,null,null,null,null,null,null,0,0,null,4896]
[null,null,null,null,null,null,null,null,null,null,null,null,null,null,null,null,null,null,null,null,null,null,null,null,null,null,null,null,null,null,null,null,null,null,null,null,null,null,null,null,null,null,null,0,0,null,4913]
[null,null,null,null,null,null,null,null,null,null,null,null,null,null,null,null,null,null,null,null,null,null,null,null,null,null,null,null,null,null,null,null,null,null,null,null,null,null,null,null,null,null,null,0,{"$f":"H3462-AR3462","v":0},null,4930]
[null,null,null,null,null,null,null,null,null,null,null,null,null,null,null,null,null,null,null,null,null,null,null,null,null,null,null,null,null,null,null,null,null,null,null,null,null,null,null,null,null,null,null,0,0,null,4954]
[null,null,null,null,null,null,null,null,null,null,null,null,null,null,null,null,null,null,null,null,null,null,null,null,null,null,null,null,null,null,null,null,null,null,null,null,null,null,null,null,null,null,null,0,0,null,4963]
[null,null,null,null,null,null,null,null,null,null,null,null,null,null,null,null,null,null,null,null,null,null,null,null,null,null,null,null,null,null,null,null,null,null,null,null,null,null,null,null,null,null,null,0,0,null,4980]
[null,null,null,null,null,null,null,null,null,null,null,null,null,null,null,null,null,null,null,null,null,null,null,null,null,null,null,null,null,null,null,null,null,null,null,null,null,null,null,null,null,null,null,0,0,null,4997]
[null,null,null,null,null,null,null,null,null,null,null,null,null,null,null,null,null,null,null,null,null,null,null,null,null,null,null,null,null,null,null,null,null,null,null,null,null,null,null,null,null,null,null,0,0,null,5014]
[null,null,null,null,null,null,null,null,null,null,null,null,null,null,null,null,null,null,null,null,null,null,null,null,null,null,null,null,null,null,null,null,null,null,null,null,null,null,null,null,null,null,null,0,0,null,5035]
[null,null,null,null,null,null,null,null,null,null,null,null,null,null,null,null,null,null,null,null,null,null,null,null,null,null,null,null,null,null,null,null,null,null,null,null,null,null,null,null,null,null,null,0,0,null,5047]
[null,null,null,null,null,null,null,null,null,null,null,null,null,null,null,null,null,null,null,null,null,null,null,null,null,null,null,null,null,null,null,null,null,null,null,null,null,null,null,null,null,null,null,0,0,null,5064]
[null,null,null,null,null,null,null,null,null,null,null,null,null,null,null,null,null,null,null,null,null,null,null,null,null,null,null,null,null,null,null,null,null,null,null,null,null,null,null,null,null,null,null,0,0,null,5081]
[null,null,null,null,null,null,null,null,null,null,null,null,null,null,null,null,null,null,null,null,null,null,null,null,null,null,null,null,null,null,null,null,null,null,null,null,null,null,null,null,null,null,null,0,0,null,5098]
[null,null,null,null,null,null,null,null,null,null,null,null,null,null,null,null,null,null,null,null,null,null,null,null,null,null,null,null,null,null,null,null,null,null,null,null,null,null,null,null,null,null,null,0,0,null,5101]
[null,null,null,null,null,null,null,null,null,null,null,null,null,null,null,null,null,null,null,null,null,null,null,null,null,null,null,null,null,null,null,null,null,null,null,null,null,null,null,null,null,null,null,0,0,null,5115]
[null,null,null,null,null,null,null,null,null,null,null,null,null,null,null,null,null,null,null,null,null,null,null,null,null,null,null,null,null,null,null,null,null,null,null,null,null,null,null,null,null,null,null,0,0,null,5132]
[null,null,null,null,null,null,null,null,null,null,null,null,null,null,null,null,null,null,null,null,null,null,null,null,null,null,null,null,null,null,null,null,null,null,null,null,null,null,null,null,null,null,null,0,0,null,5149]
[null,null,null,null,null,null,null,null,null,null,null,null,null,null,null,null,null,null,null,null,null,null,null,null,null,null,null,null,null,null,null,null,null,null,null,null,null,null,null,null,null,null,null,0,0,null,5166]
[null,null,null,null,null,null,null,null,null,null,null,null,null,null,null,null,null,null,null,null,null,null,null,null,null,null,null,null,null,null,null,null,null,null,null,null,null,null,null,null,null,null,null,0,0,null,5183]
[null,null,null,null,null,null,null,null,null,null,null,null,null,null,null,null,null,null,null,null,null,null,null,null,null,null,null,null,null,null,null,null,null,null,null,null,null,null,null,null,null,null,null,0,0,null,5198]
[null,null,null,null,null,null,null,null,null,null,null,null,null,null,null,null,null,null,null,null,null,null,null,null,null,null,null,null,null,null,null,null,null,null,null,null,null,null,null,null,null,null,null,0,0,null,5216]
[null,null,null,null,null,null,null,null,null,null,null,null,null,null,null,null,null,null,null,null,null,null,null,null,null,null,null,null,null,null,null,null,null,null,null,null,null,null,null,null,null,null,null,0,0,null,5233]
[null,null,null,null,null,null,null,null,null,null,null,null,null,null,null,null,null,null,null,null,null,null,null,null,null,null,null,null,null,null,null,null,null,null,null,null,null,null,null,null,null,null,null,0,{"$f":"H3782-AR3782","v":0},null,5250]
[null,null,null,null,null,null,null,null,null,null,null,null,null,null,null,null,null,null,null,null,null,null,null,null,null,null,null,null,null,null,null,null,null,null,null,null,null,null,null,null,null,null,null,0,0,null,5267]
[null,null,null,null,null,null,null,null,null,null,null,null,null,null,null,null,null,null,null,null,null,null,null,null,null,null,null,null,null,null,null,null,null,null,null,null,null,null,null,null,null,null,null,0,0,null,5279]
[null,null,null,null,null,null,null,null,null,null,null,null,null,null,null,null,null,null,null,null,null,null,null,null,null,null,null,null,null,null,null,null,null,null,null,null,null,null,null,null,null,null,null,0,0,null,5300]
[null,null,null,null,null,null,null,null,null,null,null,null,null,null,null,null,null,null,null,null,null,null,null,null,null,null,null,null,null,null,null,null,null,null,null,null,null,null,null,null,null,null,null,0,0,null,5317]
[null,null,null,null,null,null,null,null,null,null,null,null,null,null,null,null,null,null,null,null,null,null,null,null,null,null,null,null,null,null,null,null,null,null,null,null,null,null,null,null,null,null,null,0,0,null,5334]
[null,null,null,null,null,null,null,null,null,null,null,null,null,null,null,null,null,null,null,null,null,null,null,null,null,null,null,null,null,null,null,null,null,null,null,null,null,null,null,null,null,null,null,0,0,null,5351]
[null,null,null,null,null,null,null,null,null,null,null,null,null,null,null,null,null,null,null,null,null,null,null,null,null,null,null,null,null,null,null,null,null,null,null,null,null,null,null,null,null,null,null,0,0,null,5368]
[null,null,null,null,null,null,null,null,null,null,null,null,null,null,null,null,null,null,null,null,null,null,null,null,null,null,null,null,null,null,null,null,null,null,null,null,null,null,null,null,null,null,null,0,0,null,5377]
[null,null,null,null,null,null,null,null,null,null,null,null,null,null,null,null,null,null,null,null,null,null,null,null,null,null,null,null,null,null,null,null,null,null,null,null,null,null,null,null,null,null,null,0,0,null,5385]
[null,null,null,null,null,null,null,null,null,null,null,null,null,null,null,null,null,null,null,null,null,null,null,null,null,null,null,null,null,null,null,null,null,null,null,null,null,null,null,null,null,null,null,0,0,null,5402]
[null,null,null,null,null,null,null,null,null,null,null,null,null,null,null,null,null,null,null,null,null,null,null,null,null,null,null,null,null,null,null,null,null,null,null,null,null,null,null,null,null,null,null,0,0,null,5419]
[null,null,null,null,null,null,null,null,null,null,null,null,null,null,null,null,null,null,null,null,null,null,null,null,null,null,null,null,null,null,null,null,null,null,null,null,null,null,null,null,null,null,null,0,0,null,5436]
[null,null,null,null,null,null,null,null,null,null,null,null,null,null,null,null,null,null,null,null,null,null,null,null,null,null,null,null,null,null,null,null,null,null,null,null,null,null,null,null,null,null,null,0,0,null,5458]
[null,null,null,null,null,null,null,null,null,null,null,null,null,null,null,null,null,null,null,null,null,null,null,null,null,null,null,null,null,null,null,null,null,null,null,null,null,null,null,null,null,null,null,0,0,null,5469]
[null,null,null,null,null,null,null,null,null,null,null,null,null,null,null,null,null,null,null,null,null,null,null,null,null,null,null,null,null,null,null,null,null,null,null,null,null,null,null,null,null,null,null,0,0,null,5486]
[null,null,null,null,null,null,null,null,null,null,null,null,null,null,null,null,null,null,null,null,null,null,null,null,null,null,null,null,null,null,null,null,null,null,null,null,null,null,null,null,null,null,null,0,0,null,5503]
[null,null,null,null,null,null,null,null,null,null,null,null,null,null,null,null,null,null,null,null,null,null,null,null,null,null,null,null,null,null,null,null,null,null,null,null,null,null,null,null,null,null,null,0,0,null,5520]
[null,null,null,null,null,null,null,null,null,null,null,null,null,null,null,null,null,null,null,null,null,null,null,null,null,null,null,null,null,null,null,null,null,null,null,null,null,null,null,null,null,null,null,0,0,null,5538]
[null,null,null,null,null,null,null,null,null,null,null,null,null,null,null,null,null,null,null,null,null,null,null,null,null,null,null,null,null,null,null,null,null,null,null,null,null,null,null,null,null,null,null,0,0,null,5553]
[null,null,null,null,null,null,null,null,null,null,null,null,null,null,null,null,null,null,null,null,null,null,null,null,null,null,null,null,null,null,null,null,null,null,null,null,null,null,null,null,null,null,null,0,{"$f":"H4102-AR4102","v":0},null,5570]
[null,null,null,null,null,null,null,null,null,null,null,null,null,null,null,null,null,null,null,null,null,null,null,null,null,null,null,null,null,null,null,null,null,null,null,null,null,null,null,null,null,null,null,0,0,null,5587]
[null,null,null,null,null,null,null,null,null,null,null,null,null,null,null,null,null,null,null,null,null,null,null,null,null,null,null,null,null,null,null,null,null,null,null,null,null,null,null,null,null,null,null,0,0,null,5604]
[null,null,null,null,null,null,null,null,null,null,null,null,null,null,null,null,null,null,null,null,null,null,null,null,null,null,null,null,null,null,null,null,null,null,null,null,null,null,null,null,null,null,null,0,0,null,5621]
[null,null,null,null,null,null,null,null,null,null,null,null,null,null,null,null,null,null,null,null,null,null,null,null,null,null,null,null,null,null,null,null,null,null,null,null,null,null,null,null,null,null,null,0,0,null,5636]
[null,null,null,null,null,null,null,null,null,null,null,null,null,null,null,null,null,null,null,null,null,null,null,null,null,null,null,null,null,null,null,null,null,null,null,null,null,null,null,null,null,null,null,0,0,null,5638]
[null,null,null,null,null,null,null,null,null,null,null,null,null,null,null,null,null,null,null,null,null,null,null,null,null,null,null,null,null,null,null,null,null,null,null,null,null,null,null,null,null,null,null,0,0,null,5655]
[null,null,null,null,null,null,null,null,null,null,null,null,null,null,null,null,null,null,null,null,null,null,null,null,null,null,null,null,null,null,null,null,null,null,null,null,null,null,null,null,null,null,null,0,0,null,5672]
[null,null,null,null,null,null,null,null,null,null,null,null,null,null,null,null,null,null,null,null,null,null,null,null,null,null,null,null,null,null,null,null,null,null,null,null,null,null,null,null,null,null,null,0,0,null,5689]
[null,null,null,null,null,null,null,null,null,null,null,null,null,null,null,null,null,null,null,null,null,null,null,null,null,null,null,null,null,null,null,null,null,null,null,null,null,null,null,null,null,null,null,0,0,null,5702]
[null,null,null,null,null,null,null,null,null,null,null,null,null,null,null,null,null,null,null,null,null,null,null,null,null,null,null,null,null,null,null,null,null,null,null,null,null,null,null,null,null,null,null,0,0,null,5722]
[null,null,null,null,null,null,null,null,null,null,null,null,null,null,null,null,null,null,null,null,null,null,null,null,null,null,null,null,null,null,null,null,null,null,null,null,null,null,null,null,null,null,null,0,0,null,5739]
[null,null,null,null,null,null,null,null,null,null,null,null,null,null,null,null,null,null,null,null,null,null,null,null,null,null,null,null,null,null,null,null,null,null,null,null,null,null,null,null,null,null,null,0,0,null,5756]
[null,null,null,null,null,null,null,null,null,null,null,null,null,null,null,null,null,null,null,null,null,null,null,null,null,null,null,null,null,null,null,null,null,null,null,null,null,null,null,null,null,null,null,0,0,null,5773]
[null,null,null,null,null,null,null,null,null,null,null,null,null,null,null,null,null,null,null,null,null,null,null,null,null,null,null,null,null,null,null,null,null,null,null,null,null,null,null,null,null,null,null,0,0,null,5783]
[null,null,null,null,null,null,null,null,null,null,null,null,null,null,null,null,null,null,null,null,null,null,null,null,null,null,null,null,null,null,null,null,null,null,null,null,null,null,null,null,null,null,null,0,0,null,5806]
[null,null,null,null,null,null,null,null,null,null,null,null,null,null,null,null,null,null,null,null,null,null,null,null,null,null,null,null,null,null,null,null,null,null,null,null,null,null,null,null,null,null,null,0,0,null,5823]
[null,null,null,null,null,null,null,null,null,null,null,null,null,null,null,null,null,null,null,null,null,null,null,null,null,null,null,null,null,null,null,null,null,null,null,null,null,null,null,null,null,null,null,0,0,null,5840]
[null,null,null,null,null,null,null,null,null,null,null,null,null,null,null,null,null,null,null,null,null,null,null,null,null,null,null,null,null,null,null,null,null,null,null,null,null,null,null,null,null,null,null,0,0,null,5857]
[null,null,null,null,null,null,null,null,null,null,null,null,null,null,null,null,null,null,null,null,null,null,null,null,null,null,null,null,null,null,null,null,null,null,null,null,null,null,null,null,null,null,null,0,0,null,5874]
[null,null,null,null,null,null,null,null,null,null,null,null,null,null,null,null,null,null,null,null,null,null,null,null,null,null,null,null,null,null,null,null,null,null,null,null,null,null,null,null,null,null,null,0,0,null,5880]
[null,null,null,null,null,null,null,null,null,null,null,null,null,null,null,null,null,null,null,null,null,null,null,null,null,null,null,null,null,null,null,null,null,null,null,null,null,null,null,null,null,null,null,{"$f":"SUM(J4423+L4423+N4423+P4423+R4423+T4423+V4423+X4423+Z4423+AB4423+AD4423+AF4423)","v":0},0,null,5891]
[null,null,null,null,null,null,null,null,null,null,null,null,null,null,null,null,null,null,null,null,null,null,null,null,null,null,null,null,null,null,null,null,null,null,null,null,null,null,null,null,null,null,null,0,0,null,5908]
[null,null,null,null,null,null,null,null,null,null,null,null,null,null,null,null,null,null,null,null,null,null,null,null,null,null,null,null,null,null,null,null,null,null,null,null,null,null,null,null,null,null,null,0,0,null,5925]
[null,null,null,null,null,null,null,null,null,null,null,null,null,null,null,null,null,null,null,null,null,null,null,null,null,null,null,null,null,null,null,null,null,null,null,null,null,null,null,null,null,null,null,0,0,null,5942]
[null,null,null,null,null,null,null,null,null,null,null,null,null,null,null,null,null,null,null,null,null,null,null,null,null,null,null,null,null,null,null,null,null,null,null,null,null,null,null,null,null,null,null,0,0,null,5961]
[null,null,null,null,null,null,null,null,null,null,null,null,null,null,null,null,null,null,null,null,null,null,null,null,null,null,null,null,null,null,null,null,null,null,null,null,null,null,null,null,null,null,null,0,0,null,5975]
[null,null,null,null,null,null,null,null,null,null,null,null,null,null,null,null,null,null,null,null,null,null,null,null,null,null,null,null,null,null,null,null,null,null,null,null,null,null,null,null,null,null,null,0,0,null,5992]
[null,null,null,null,null,null,null,null,null,null,null,null,null,null,null,null,null,null,null,null,null,null,null,null,null,null,null,null,null,null,null,null,null,null,null,null,null,null,null,null,null,null,null,0,0,null,6009]
[null,null,null,null,null,null,null,null,null,null,null,null,null,null,null,null,null,null,null,null,null,null,null,null,null,null,null,null,null,null,null,null,null,null,null,null,null,null,null,null,null,null,null,0,0,null,6026]
[null,null,null,null,null,null,null,null,null,null,null,null,null,null,null,null,null,null,null,null,null,null,null,null,null,null,null,null,null,null,null,null,null,null,null,null,null,null,null,null,null,null,null,0,0,null,6043]
[null,null,null,null,null,null,null,null,null,null,null,null,null,null,null,null,null,null,null,null,null,null,null,null,null,null,null,null,null,null,null,null,null,null,null,null,null,null,null,null,null,null,null,0,0,null,6058]
[null,null,null,null,null,null,null,null,null,null,null,null,null,null,null,null,null,null,null,null,null,null,null,null,null,null,null,null,null,null,null,null,null,null,null,null,null,null,null,null,null,null,null,0,0,null,6076]
[null,null,null,null,null,null,null,null,null,null,null,null,null,null,null,null,null,null,null,null,null,null,null,null,null,null,null,null,null,null,null,null,null,null,null,null,null,null,null,null,null,null,null,0,0,null,6093]
[null,null,null,null,null,null,null,null,null,null,null,null,null,null,null,null,null,null,null,null,null,null,null,null,null,null,null,null,null,null,null,null,null,null,null,null,null,null,null,null,null,null,null,0,0,null,6110]
[null,null,null,null,null,null,null,null,null,null,null,null,null,null,null,null,null,null,null,null,null,null,null,null,null,null,null,null,null,null,null,null,null,null,null,null,null,null,null,null,null,null,null,0,0,null,6127]
[null,null,null,null,null,null,null,null,null,null,null,null,null,null,null,null,null,null,null,null,null,null,null,null,null,null,null,null,null,null,null,null,null,null,null,null,null,null,null,null,null,null,null,0,0,null,6139]
[null,null,null,null,null,null,null,null,null,null,null,null,null,null,null,null,null,null,null,null,null,null,null,null,null,null,null,null,null,null,null,null,null,null,null,null,null,null,null,null,null,null,null,0,0,null,6144]
[null,null,null,null,null,null,null,null,null,null,null,null,null,null,null,null,null,null,null,null,null,null,null,null,null,null,null,null,null,null,null,null,null,null,null,null,null,null,null,null,null,null,null,0,0,null,6161]
[null,null,null,null,null,null,null,null,null,null,null,null,null,null,null,null,null,null,null,null,null,null,null,null,null,null,null,null,null,null,null,null,null,null,null,null,null,null,null,null,null,null,null,0,0,null,6178]
[null,null,null,null,null,null,null,null,null,null,null,null,null,null,null,null,null,null,null,null,null,null,null,null,null,null,null,null,null,null,null,null,null,null,null,null,null,null,null,null,null,null,null,0,0,null,6195]
[null,null,null,null,null,null,null,null,null,null,null,null,null,null,null,null,null,null,null,null,null,null,null,null,null,null,null,null,null,null,null,null,null,null,null,null,null,null,null,null,null,null,null,0,0,null,6220]
[null,null,null,null,null,null,null,null,null,null,null,null,null,null,null,null,null,null,null,null,null,null,null,null,null,null,null,null,null,null,null,null,null,null,null,null,null,null,null,null,null,null,null,0,0,null,6228]
[null,null,null,null,null,null,null,null,null,null,null,null,null,null,null,null,null,null,null,null,null,null,null,null,null,null,null,null,null,null,null,null,null,null,null,null,null,null,null,null,null,null,null,0,0,null,6245]
[null,null,null,null,null,null,null,null,null,null,null,null,null,null,null,null,null,null,null,null,null,null,null,null,null,null,null,null,null,null,null,null,null,null,null,null,null,null,null,null,null,null,null,0,0,null,6262]
[null,null,null,null,null,null,null,null,null,null,null,null,null,null,null,null,null,null,null,null,null,null,null,null,null,null,null,null,null,null,null,null,null,null,null,null,null,null,null,null,null,null,null,0,0,null,6279]
[null,null,null,null,null,null,null,null,null,null,null,null,null,null,null,null,null,null,null,null,null,null,null,null,null,null,null,null,null,null,null,null,null,null,null,null,null,null,null,null,null,null,null,0,0,null,6296]
[null,null,null,null,null,null,null,null,null,null,null,null,null,null,null,null,null,null,null,null,null,null,null,null,null,null,null,null,null,null,null,null,null,null,null,null,null,null,null,null,null,null,null,0,0,null,6302]
[null,null,null,null,null,null,null,null,null,null,null,null,null,null,null,null,null,null,null,null,null,null,null,null,null,null,null,null,null,null,null,null,null,null,null,null,null,null,null,null,null,null,null,0,0,null,6329]
[null,null,null,null,null,null,null,null,null,null,null,null,null,null,null,null,null,null,null,null,null,null,null,null,null,null,null,null,null,null,null,null,null,null,null,null,null,null,null,null,null,null,null,0,0,null,6346]
[null,null,null,null,null,null,null,null,null,null,null,null,null,null,null,null,null,null,null,null,null,null,null,null,null,null,null,null,null,null,null,null,null,null,null,null,null,null,null,null,null,null,null,0,0,null,6363]
[null,null,null,null,null,null,null,null,null,null,null,null,null,null,null,null,null,null,null,null,null,null,null,null,null,null,null,null,null,null,null,null,null,null,null,null,null,null,null,null,null,null,null,0,0,null,6380]
[null,null,null,null,null,null,null,null,null,null,null,null,null,null,null,null,null,null,null,null,null,null,null,null,null,null,null,null,null,null,null,null,null,null,null,null,null,null,null,null,null,null,null,0,0,null,6383]
[null,null,null,null,null,null,null,null,null,null,null,null,null,null,null,null,null,null,null,null,null,null,null,null,null,null,null,null,null,null,null,null,null,null,null,null,null,null,null,null,null,null,null,0,0,null,6397]
[null,null,null,null,null,null,null,null,null,null,null,null,null,null,null,null,null,null,null,null,null,null,null,null,null,null,null,null,null,null,null,null,null,null,null,null,null,null,null,null,null,null,null,0,0,null,6414]
[null,null,null,null,null,null,null,null,null,null,null,null,null,null,null,null,null,null,null,null,null,null,null,null,null,null,null,null,null,null,null,null,null,null,null,null,null,null,null,null,null,null,null,0,0,null,6431]
[null,null,null,null,null,null,null,null,null,null,null,null,null,null,null,null,null,null,null,null,null,null,null,null,null,null,null,null,null,null,null,null,null,null,null,null,null,null,null,null,null,null,null,0,0,null,6448]
[null,null,null,null,null,null,null,null,null,null,null,null,null,null,null,null,null,null,null,null,null,null,null,null,null,null,null,null,null,null,null,null,null,null,null,null,null,null,null,null,null,null,null,0,0,null,6464]
[null,null,null,null,null,null,null,null,null,null,null,null,null,null,null,null,null,null,null,null,null,null,null,null,null,null,null,null,null,null,null,null,null,null,null,null,null,null,null,null,null,null,null,0,0,null,6481]
[null,null,null,null,null,null,null,null,null,null,null,null,null,null,null,null,null,null,null,null,null,null,null,null,null,null,null,null,null,null,null,null,null,null,null,null,null,null,null,null,null,null,null,0,0,null,6498]
[null,null,null,null,null,null,null,null,null,null,null,null,null,null,null,null,null,null,null,null,null,null,null,null,null,null,null,null,null,null,null,null,null,null,null,null,null,null,null,null,null,null,null,0,0,null,6515]
[null,null,null,null,null,null,null,null,null,null,null,null,null,null,null,null,null,null,null,null,null,null,null,null,null,null,null,null,null,null,null,null,null,null,null,null,null,null,null,null,null,null,null,0,0,null,6532]
[null,null,null,null,null,null,null,null,null,null,null,null,null,null,null,null,null,null,null,null,null,null,null,null,null,null,null,null,null,null,null,null,null,null,null,null,null,null,null,null,null,null,null,0,0,null,6549]
[null,null,null,null,null,null,null,null,null,null,null,null,null,null,null,null,null,null,null,null,null,null,null,null,null,null,null,null,null,null,null,null,null,null,null,null,null,null,null,null,null,null,null,0,0,null,6561]
[null,null,null,null,null,null,null,null,null,null,null,null,null,null,null,null,null,null,null,null,null,null,null,null,null,null,null,null,null,null,null,null,null,null,null,null,null,null,null,null,null,null,null,0,0,null,6582]
[null,null,null,null,null,null,null,null,null,null,null,null,null,null,null,null,null,null,null,null,null,null,null,null,null,null,null,null,null,null,null,null,null,null,null,null,null,null,null,null,null,null,null,0,0,null,6599]
[null,null,null,null,null,null,null,null,null,null,null,null,null,null,null,null,null,null,null,null,null,null,null,null,null,null,null,null,null,null,null,null,null,null,null,null,null,null,null,null,null,null,null,0,0,null,6616]
[null,null,null,null,null,null,null,null,null,null,null,null,null,null,null,null,null,null,null,null,null,null,null,null,null,null,null,null,null,null,null,null,null,null,null,null,null,null,null,null,null,null,null,0,0,null,6633]
[null,null,null,null,null,null,null,null,null,null,null,null,null,null,null,null,null,null,null,null,null,null,null,null,null,null,null,null,null,null,null,null,null,null,null,null,null,null,null,null,null,null,null,0,0,null,6642]
[null,null,null,null,null,null,null,null,null,null,null,null,null,null,null,null,null,null,null,null,null,null,null,null,null,null,null,null,null,null,null,null,null,null,null,null,null,null,null,null,null,null,null,0,0,null,6650]
[null,null,null,null,null,null,null,null,null,null,null,null,null,null,null,null,null,null,null,null,null,null,null,null,null,null,null,null,null,null,null,null,null,null,null,null,null,null,null,null,null,null,null,0,0,null,6667]
[null,null,null,null,null,null,null,null,null,null,null,null,null,null,null,null,null,null,null,null,null,null,null,null,null,null,null,null,null,null,null,null,null,null,null,null,null,null,null,null,null,null,null,0,0,null,6684]
[null,null,null,null,null,null,null,null,null,null,null,null,null,null,null,null,null,null,null,null,null,null,null,null,null,null,null,null,null,null,null,null,null,null,null,null,null,null,null,null,null,null,null,0,0,null,6701]
[null,null,null,null,null,null,null,null,null,null,null,null,null,null,null,null,null,null,null,null,null,null,null,null,null,null,null,null,null,null,null,null,null,null,null,null,null,null,null,null,null,null,null,0,0,null,6718]
[null,null,null,null,null,null,null,null,null,null,null,null,null,null,null,null,null,null,null,null,null,null,null,null,null,null,null,null,null,null,null,null,null,null,null,null,null,null,null,null,null,null,null,0,0,null,6739]
[null,null,null,null,null,null,null,null,null,null,null,null,null,null,null,null,null,null,null,null,null,null,null,null,null,null,null,null,null,null,null,null,null,null,null,null,null,null,null,null,null,null,null,0,0,null,6751]
[null,null,null,null,null,null,null,null,null,null,null,null,null,null,null,null,null,null,null,null,null,null,null,null,null,null,null,null,null,null,null,null,null,null,null,null,null,null,null,null,null,null,null,0,0,null,6768]
[null,null,null,null,null,null,null,null,null,null,null,null,null,null,null,null,null,null,null,null,null,null,null,null,null,null,null,null,null,null,null,null,null,null,null,null,null,null,null,null,null,null,null,0,0,null,6785]
[null,null,null,null,null,null,null,null,null,null,null,null,null,null,null,null,null,null,null,null,null,null,null,null,null,null,null,null,null,null,null,null,null,null,null,null,null,null,null,null,null,null,null,0,0,null,6802]
[null,null,null,null,null,null,null,null,null,null,null,null,null,null,null,null,null,null,null,null,null,null,null,null,null,null,null,null,null,null,null,null,null,null,null,null,null,null,null,null,null,null,null,0,0,null,6820]
[null,null,null,null,null,null,null,null,null,null,null,null,null,null,null,null,null,null,null,null,null,null,null,null,null,null,null,null,null,null,null,null,null,null,null,null,null,null,null,null,null,null,null,0,0,null,6835]
[null,null,null,null,null,null,null,null,null,null,null,null,null,null,null,null,null,null,null,null,null,null,null,null,null,null,null,null,null,null,null,null,null,null,null,null,null,null,null,null,null,null,null,0,0,null,6852]
[null,null,null,null,null,null,null,null,null,null,null,null,null,null,null,null,null,null,null,null,null,null,null,null,null,null,null,null,null,null,null,null,null,null,null,null,null,null,null,null,null,null,null,0,0,null,6869]
[null,null,null,null,null,null,null,null,null,null,null,null,null,null,null,null,null,null,null,null,null,null,null,null,null,null,null,null,null,null,null,null,null,null,null,null,null,null,null,null,null,null,null,0,0,null,6886]
[null,null,null,null,null,null,null,null,null,null,null,null,null,null,null,null,null,null,null,null,null,null,null,null,null,null,null,null,null,null,null,null,null,null,null,null,null,null,null,null,null,null,null,0,0,null,6901]
[null,null,null,null,null,null,null,null,null,null,null,null,null,null,null,null,null,null,null,null,null,null,null,null,null,null,null,null,null,null,null,null,null,null,null,null,null,null,null,null,null,null,null,0,0,null,6903]
[null,null,null,null,null,null,null,null,null,null,null,null,null,null,null,null,null,null,null,null,null,null,null,null,null,null,null,null,null,null,null,null,null,null,null,null,null,null,null,null,null,null,null,0,0,null,6920]
[null,null,null,null,null,null,null,null,null,null,null,null,null,null,null,null,null,null,null,null,null,null,null,null,null,null,null,null,null,null,null,null,null,null,null,null,null,null,null,null,null,null,null,0,0,null,6937]
[null,null,null,null,null,null,null,null,null,null,null,null,null,null,null,null,null,null,null,null,null,null,null,null,null,null,null,null,null,null,null,null,null,null,null,null,null,null,null,null,null,null,null,0,0,null,6954]
[null,null,null,null,null,null,null,null,null,null,null,null,null,null,null,null,null,null,null,null,null,null,null,null,null,null,null,null,null,null,null,null,null,null,null,null,null,null,null,null,null,null,null,0,0,null,6971]
[null,null,null,null,null,null,null,null,null,null,null,null,null,null,null,null,null,null,null,null,null,null,null,null,null,null,null,null,null,null,null,null,null,null,null,null,null,null,null,null,null,null,null,0,0,null,6984]
[null,null,null,null,null,null,null,null,null,null,null,null,null,null,null,null,null,null,null,null,null,null,null,null,null,null,null,null,null,null,null,null,null,null,null,null,null,null,null,null,null,null,null,0,0,null,7004]
[null,null,null,null,null,null,null,null,null,null,null,null,null,null,null,null,null,null,null,null,null,null,null,null,null,null,null,null,null,null,null,null,null,null,null,null,null,null,null,null,null,null,null,0,0,null,7021]
[null,null,null,null,null,null,null,null,null,null,null,null,null,null,null,null,null,null,null,null,null,null,null,null,null,null,null,null,null,null,null,null,null,null,null,null,null,null,null,null,null,null,null,0,0,null,7038]
[null,null,null,null,null,null,null,null,null,null,null,null,null,null,null,null,null,null,null,null,null,null,null,null,null,null,null,null,null,null,null,null,null,null,null,null,null,null,null,null,null,null,null,0,0,null,7055]
[null,null,null,null,null,null,null,null,null,null,null,null,null,null,null,null,null,null,null,null,null,null,null,null,null,null,null,null,null,null,null,null,null,null,null,null,null,null,null,null,null,null,null,0,0,null,7064]
[null,null,null,null,null,null,null,null,null,null,null,null,null,null,null,null,null,null,null,null,null,null,null,null,null,null,null,null,null,null,null,null,null,null,null,null,null,null,null,null,null,null,null,0,0,null,7088]
[null,null,null,null,null,null,null,null,null,null,null,null,null,null,null,null,null,null,null,null,null,null,null,null,null,null,null,null,null,null,null,null,null,null,null,null,null,null,null,null,null,null,null,0,0,null,7105]
[null,null,null,null,null,null,null,null,null,null,null,null,null,null,null,null,null,null,null,null,null,null,null,null,null,null,null,null,null,null,null,null,null,null,null,null,null,null,null,null,null,null,null,0,0,null,7122]
[null,null,null,null,null,null,null,null,null,null,null,null,null,null,null,null,null,null,null,null,null,null,null,null,null,null,null,null,null,null,null,null,null,null,null,null,null,null,null,null,null,null,null,0,0,null,7139]
[null,null,null,null,null,null,null,null,null,null,null,null,null,null,null,null,null,null,null,null,null,null,null,null,null,null,null,null,null,null,null,null,null,null,null,null,null,null,null,null,null,null,null,0,0,null,7145]
[null,null,null,null,null,null,null,null,null,null,null,null,null,null,null,null,null,null,null,null,null,null,null,null,null,null,null,null,null,null,null,null,null,null,null,null,null,null,null,null,null,null,null,0,0,null,7156]
[null,null,null,null,null,null,null,null,null,null,null,null,null,null,null,null,null,null,null,null,null,null,null,null,null,null,null,null,null,null,null,null,null,null,null,null,null,null,null,null,null,null,null,0,0,null,7173]
[null,null,null,null,null,null,null,null,null,null,null,null,null,null,null,null,null,null,null,null,null,null,null,null,null,null,null,null,null,null,null,null,null,null,null,null,null,null,null,null,null,null,null,0,0,null,7190]
[null,null,null,null,null,null,null,null,null,null,null,null,null,null,null,null,null,null,null,null,null,null,null,null,null,null,null,null,null,null,null,null,null,null,null,null,null,null,null,null,null,null,null,0,0,null,7207]
[null,null,null,null,null,null,null,null,null,null,null,null,null,null,null,null,null,null,null,null,null,null,null,null,null,null,null,null,null,null,null,null,null,null,null,null,null,null,null,null,null,null,null,0,0,null,7224]
[null,null,null,null,null,null,null,null,null,null,null,null,null,null,null,null,null,null,null,null,null,null,null,null,null,null,null,null,null,null,null,null,null,null,null,null,null,null,null,null,null,null,null,0,0,null,7243]
[null,null,null,null,null,null,null,null,null,null,null,null,null,null,null,null,null,null,null,null,null,null,null,null,null,null,null,null,null,null,null,null,null,null,null,null,null,null,null,null,null,null,null,0,0,null,7257]
[null,null,null,null,null,null,null,null,null,null,null,null,null,null,null,null,null,null,null,null,null,null,null,null,null,null,null,null,null,null,null,null,null,null,null,null,null,null,null,null,null,null,null,0,0,null,7274]
[null,null,null,null,null,null,null,null,null,null,null,null,null,null,null,null,null,null,null,null,null,null,null,null,null,null,null,null,null,null,null,null,null,null,null,null,null,null,null,null,null,null,null,0,0,null,7291]
[null,null,null,null,null,null,null,null,null,null,null,null,null,null,null,null,null,null,null,null,null,null,null,null,null,null,null,null,null,null,null,null,null,null,null,null,null,null,null,null,null,null,null,0,0,null,7308]
[null,null,null,null,null,null,null,null,null,null,null,null,null,null,null,null,null,null,null,null,null,null,null,null,null,null,null,null,null,null,null,null,null,null,null,null,null,null,null,null,null,null,null,0,0,null,7324]
[null,null,null,null,null,null,null,null,null,null,null,null,null,null,null,null,null,null,null,null,null,null,null,null,null,null,null,null,null,null,null,null,null,null,null,null,null,null,null,null,null,null,null,0,0,null,7341]
[null,null,null,null,null,null,null,null,null,null,null,null,null,null,null,null,null,null,null,null,null,null,null,null,null,null,null,null,null,null,null,null,null,null,null,null,null,null,null,null,null,null,null,0,0,null,7358]
[null,null,null,null,null,null,null,null,null,null,null,null,null,null,null,null,null,null,null,null,null,null,null,null,null,null,null,null,null,null,null,null,null,null,null,null,null,null,null,null,null,null,null,0,0,null,7375]
[null,null,null,null,null,null,null,null,null,null,null,null,null,null,null,null,null,null,null,null,null,null,null,null,null,null,null,null,null,null,null,null,null,null,null,null,null,null,null,null,null,null,null,0,0,null,7392]
[null,null,null,null,null,null,null,null,null,null,null,null,null,null,null,null,null,null,null,null,null,null,null,null,null,null,null,null,null,null,null,null,null,null,null,null,null,null,null,null,null,null,null,0,0,null,7393]
[null,null,null,null,null,null,null,null,null,null,null,null,null,null,null,null,null,null,null,null,null,null,null,null,null,null,null,null,null,null,null,null,null,null,null,null,null,null,null,null,null,null,null,0,0,null,7421]
[null,null,null,null,null,null,null,null,null,null,null,null,null,null,null,null,null,null,null,null,null,null,null,null,null,null,null,null,null,null,null,null,null,null,null,null,null,null,null,null,null,null,null,0,{"$f":"H5958-AR5958","v":0},null,7426]
[null,null,null,null,null,null,null,null,null,null,null,null,null,null,null,null,null,null,null,null,null,null,null,null,null,null,null,null,null,null,null,null,null,null,null,null,null,null,null,null,null,null,null,0,0,null,7443]
[null,null,null,null,null,null,null,null,null,null,null,null,null,null,null,null,null,null,null,null,null,null,null,null,null,null,null,null,null,null,null,null,null,null,null,null,null,null,null,null,null,null,null,0,0,null,7460]
[null,null,null,null,null,null,null,null,null,null,null,null,null,null,null,null,null,null,null,null,null,null,null,null,null,null,null,null,null,null,null,null,null,null,null,null,null,null,null,null,null,null,null,0,0,null,7477]
[null,null,null,null,null,null,null,null,null,null,null,null,null,null,null,null,null,null,null,null,null,null,null,null,null,null,null,null,null,null,null,null,null,null,null,null,null,null,null,null,null,null,null,0,0,null,7502]
[null,null,null,null,null,null,null,null,null,null,null,null,null,null,null,null,null,null,null,null,null,null,null,null,null,null,null,null,null,null,null,null,null,null,null,null,null,null,null,null,null,null,null,0,0,null,7510]
[null,null,null,null,null,null,null,null,null,null,null,null,null,null,null,null,null,null,null,null,null,null,null,null,null,null,null,null,null,null,null,null,null,null,null,null,null,null,null,null,null,null,null,0,0,null,7527]
[null,null,null,null,null,null,null,null,null,null,null,null,null,null,null,null,null,null,null,null,null,null,null,null,null,null,null,null,null,null,null,null,null,null,null,null,null,null,null,null,null,null,null,0,0,null,7544]
[null,null,null,null,null,null,null,null,null,null,null,null,null,null,null,null,null,null,null,null,null,null,null,null,null,null,null,null,null,null,null,null,null,null,null,null,null,null,null,null,null,null,null,0,0,null,7561]
[null,null,null,null,null,null,null,null,null,null,null,null,null,null,null,null,null,null,null,null,null,null,null,null,null,null,null,null,null,null,null,null,null,null,null,null,null,null,null,null,null,null,null,0,0,null,7568]
[null,null,null,null,null,null,null,null,null,null,null,null,null,null,null,null,null,null,null,null,null,null,null,null,null,null,null,null,null,null,null,null,null,null,null,null,null,null,null,null,null,null,null,0,0,null,7594]
[null,null,null,null,null,null,null,null,null,null,null,null,null,null,null,null,null,null,null,null,null,null,null,null,null,null,null,null,null,null,null,null,null,null,null,null,null,null,null,null,null,null,null,0,0,null,7611]
[null,null,null,null,null,null,null,null,null,null,null,null,null,null,null,null,null,null,null,null,null,null,null,null,null,null,null,null,null,null,null,null,null,null,null,null,null,null,null,null,null,null,null,0,0,null,7628]
[null,null,null,null,null,null,null,null,null,null,null,null,null,null,null,null,null,null,null,null,null,null,null,null,null,null,null,null,null,null,null,null,null,null,null,null,null,null,null,null,null,null,null,0,0,null,7645]
[null,null,null,null,null,null,null,null,null,null,null,null,null,null,null,null,null,null,null,null,null,null,null,null,null,null,null,null,null,null,null,null,null,null,null,null,null,null,null,null,null,null,null,0,0,null,7646]
[null,null,null,null,null,null,null,null,null,null,null,null,null,null,null,null,null,null,null,null,null,null,null,null,null,null,null,null,null,null,null,null,null,null,null,null,null,null,null,null,null,null,null,0,0,null,7665]
[null,null,null,null,null,null,null,null,null,null,null,null,null,null,null,null,null,null,null,null,null,null,null,null,null,null,null,null,null,null,null,null,null,null,null,null,null,null,null,null,null,null,null,0,0,null,7679]
[null,null,null,null,null,null,null,null,null,null,null,null,null,null,null,null,null,null,null,null,null,null,null,null,null,null,null,null,null,null,null,null,null,null,null,null,null,null,null,null,null,null,null,0,0,null,7696]
[null,null,null,null,null,null,null,null,null,null,null,null,null,null,null,null,null,null,null,null,null,null,null,null,null,null,null,null,null,null,null,null,null,null,null,null,null,null,null,null,null,null,null,0,0,null,7713]
[null,null,null,null,null,null,null,null,null,null,null,null,null,null,null,null,null,null,null,null,null,null,null,null,null,null,null,null,null,null,null,null,null,null,null,null,null,null,null,null,null,null,null,0,0,null,7730]
[null,null,null,null,null,null,null,null,null,null,null,null,null,null,null,null,null,null,null,null,null,null,null,null,null,null,null,null,null,null,null,null,null,null,null,null,null,null,null,null,null,null,null,0,{"$f":"H6278-AR6278","v":0},null,7746]
[null,null,null,null,null,null,null,null,null,null,null,null,null,null,null,null,null,null,null,null,null,null,null,null,null,null,null,null,null,null,null,null,null,null,null,null,null,null,null,null,null,null,null,0,0,null,7763]
[null,null,null,null,null,null,null,null,null,null,null,null,null,null,null,null,null,null,null,null,null,null,null,null,null,null,null,null,null,null,null,null,null,null,null,null,null,null,null,null,null,null,null,0,0,null,7780]
[null,null,null,null,null,null,null,null,null,null,null,null,null,null,null,null,null,null,null,null,null,null,null,null,null,null,null,null,null,null,null,null,null,null,null,null,null,null,null,null,null,null,null,0,0,null,7797]
[null,null,null,null,null,null,null,null,null,null,null,null,null,null,null,null,null,null,null,null,null,null,null,null,null,null,null,null,null,null,null,null,null,null,null,null,null,null,null,null,null,null,null,0,0,null,7814]
[null,null,null,null,null,null,null,null,null,null,null,null,null,null,null,null,null,null,null,null,null,null,null,null,null,null,null,null,null,null,null,null,null,null,null,null,null,null,null,null,null,null,null,0,0,null,7827]
[null,null,null,null,null,null,null,null,null,null,null,null,null,null,null,null,null,null,null,null,null,null,null,null,null,null,null,null,null,null,null,null,null,null,null,null,null,null,null,null,null,null,null,0,0,null,7847]
[null,null,null,null,null,null,null,null,null,null,null,null,null,null,null,null,null,null,null,null,null,null,null,null,null,null,null,null,null,null,null,null,null,null,null,null,null,null,null,null,null,null,null,0,0,null,7864]
[null,null,null,null,null,null,null,null,null,null,null,null,null,null,null,null,null,null,null,null,null,null,null,null,null,null,null,null,null,null,null,null,null,null,null,null,null,null,null,null,null,null,null,0,0,null,7881]
[null,null,null,null,null,null,null,null,null,null,null,null,null,null,null,null,null,null,null,null,null,null,null,null,null,null,null,null,null,null,null,null,null,null,null,null,null,null,null,null,null,null,null,0,0,null,7898]
[null,null,null,null,null,null,null,null,null,null,null,null,null,null,null,null,null,null,null,null,null,null,null,null,null,null,null,null,null,null,null,null,null,null,null,null,null,null,null,null,null,null,null,0,0,null,7899]
[null,null,null,null,null,null,null,null,null,null,null,null,null,null,null,null,null,null,null,null,null,null,null,null,null,null,null,null,null,null,null,null,null,null,null,null,null,null,null,null,null,null,null,0,0,null,7924]
[null,null,null,null,null,null,null,null,null,null,null,null,null,null,null,null,null,null,null,null,null,null,null,null,null,null,null,null,null,null,null,null,null,null,null,null,null,null,null,null,null,null,null,0,0,null,7932]
[null,null,null,null,null,null,null,null,null,null,null,null,null,null,null,null,null,null,null,null,null,null,null,null,null,null,null,null,null,null,null,null,null,null,null,null,null,null,null,null,null,null,null,0,0,null,7949]
[null,null,null,null,null,null,null,null,null,null,null,null,null,null,null,null,null,null,null,null,null,null,null,null,null,null,null,null,null,null,null,null,null,null,null,null,null,null,null,null,null,null,null,0,0,null,7966]
[null,null,null,null,null,null,null,null,null,null,null,null,null,null,null,null,null,null,null,null,null,null,null,null,null,null,null,null,null,null,null,null,null,null,null,null,null,null,null,null,null,null,null,0,0,null,7983]
[null,null,null,null,null,null,null,null,null,null,null,null,null,null,null,null,null,null,null,null,null,null,null,null,null,null,null,null,null,null,null,null,null,null,null,null,null,null,null,null,null,null,null,0,0,null,8005]
[null,null,null,null,null,null,null,null,null,null,null,null,null,null,null,null,null,null,null,null,null,null,null,null,null,null,null,null,null,null,null,null,null,null,null,null,null,null,null,null,null,null,null,0,0,null,8016]
[null,null,null,null,null,null,null,null,null,null,null,null,null,null,null,null,null,null,null,null,null,null,null,null,null,null,null,null,null,null,null,null,null,null,null,null,null,null,null,null,null,null,null,0,0,null,8033]
[null,null,null,null,null,null,null,null,null,null,null,null,null,null,null,null,null,null,null,null,null,null,null,null,null,null,null,null,null,null,null,null,null,null,null,null,null,null,null,null,null,null,null,0,0,null,8050]
[null,null,null,null,null,null,null,null,null,null,null,null,null,null,null,null,null,null,null,null,null,null,null,null,null,null,null,null,null,null,null,null,null,null,null,null,null,null,null,null,null,null,null,{"$f":"SUM(J6599+L6599+N6599+P6599+R6599+T6599+V6599+X6599+Z6599+AB6599+AD6599+AF6599)","v":0},0,null,8067]
[null,null,null,null,null,null,null,null,null,null,null,null,null,null,null,null,null,null,null,null,null,null,null,null,null,null,null,null,null,null,null,null,null,null,null,null,null,null,null,null,null,null,null,0,0,null,8084]
[null,null,null,null,null,null,null,null,null,null,null,null,null,null,null,null,null,null,null,null,null,null,null,null,null,null,null,null,null,null,null,null,null,null,null,null,null,null,null,null,null,null,null,0,0,null,8102]
[null,null,null,null,null,null,null,null,null,null,null,null,null,null,null,null,null,null,null,null,null,null,null,null,null,null,null,null,null,null,null,null,null,null,null,null,null,null,null,null,null,null,null,0,0,null,8117]
[null,null,null,null,null,null,null,null,null,null,null,null,null,null,null,null,null,null,null,null,null,null,null,null,null,null,null,null,null,null,null,null,null,null,null,null,null,null,null,null,null,null,null,0,0,null,8134]
[null,null,null,null,null,null,null,null,null,null,null,null,null,null,null,null,null,null,null,null,null,null,null,null,null,null,null,null,null,null,null,null,null,null,null,null,null,null,null,null,null,null,null,0,0,null,8151]
[null,null,null,null,null,null,null,null,null,null,null,null,null,null,null,null,null,null,null,null,null,null,null,null,null,null,null,null,null,null,null,null,null,null,null,null,null,null,null,null,null,null,null,0,0,null,8152]
[null,null,null,null,null,null,null,null,null,null,null,null,null,null,null,null,null,null,null,null,null,null,null,null,null,null,null,null,null,null,null,null,null,null,null,null,null,null,null,null,null,null,null,0,0,null,8168]
[null,null,null,null,null,null,null,null,null,null,null,null,null,null,null,null,null,null,null,null,null,null,null,null,null,null,null,null,null,null,null,null,null,null,null,null,null,null,null,null,null,null,null,0,0,null,8185]
[null,null,null,null,null,null,null,null,null,null,null,null,null,null,null,null,null,null,null,null,null,null,null,null,null,null,null,null,null,null,null,null,null,null,null,null,null,null,null,null,null,null,null,0,0,null,8202]
[null,null,null,null,null,null,null,null,null,null,null,null,null,null,null,null,null,null,null,null,null,null,null,null,null,null,null,null,null,null,null,null,null,null,null,null,null,null,null,null,null,null,null,0,0,null,8219]
[null,null,null,null,null,null,null,null,null,null,null,null,null,null,null,null,null,null,null,null,null,null,null,null,null,null,null,null,null,null,null,null,null,null,null,null,null,null,null,null,null,null,null,0,0,null,8236]
[null,null,null,null,null,null,null,null,null,null,null,null,null,null,null,null,null,null,null,null,null,null,null,null,null,null,null,null,null,null,null,null,null,null,null,null,null,null,null,null,null,null,null,0,0,null,8249]
[null,null,null,null,null,null,null,null,null,null,null,null,null,null,null,null,null,null,null,null,null,null,null,null,null,null,null,null,null,null,null,null,null,null,null,null,null,null,null,null,null,null,null,0,0,null,8269]
[null,null,null,null,null,null,null,null,null,null,null,null,null,null,null,null,null,null,null,null,null,null,null,null,null,null,null,null,null,null,null,null,null,null,null,null,null,null,null,null,null,null,null,0,0,null,8286]
[null,null,null,null,null,null,null,null,null,null,null,null,null,null,null,null,null,null,null,null,null,null,null,null,null,null,null,null,null,null,null,null,null,null,null,null,null,null,null,null,null,null,null,0,0,null,8303]
[null,null,null,null,null,null,null,null,null,null,null,null,null,null,null,null,null,null,null,null,null,null,null,null,null,null,null,null,null,null,null,null,null,null,null,null,null,null,null,null,null,null,null,0,0,null,8320]
[null,null,null,null,null,null,null,null,null,null,null,null,null,null,null,null,null,null,null,null,null,null,null,null,null,null,null,null,null,null,null,null,null,null,null,null,null,null,null,null,null,null,null,0,0,null,8337]
[null,null,null,null,null,null,null,null,null,null,null,null,null,null,null,null,null,null,null,null,null,null,null,null,null,null,null,null,null,null,null,null,null,null,null,null,null,null,null,null,null,null,null,0,0,null,8346]
[null,null,null,null,null,null,null,null,null,null,null,null,null,null,null,null,null,null,null,null,null,null,null,null,null,null,null,null,null,null,null,null,null,null,null,null,null,null,null,null,null,null,null,0,0,null,8370]
[null,null,null,null,null,null,null,null,null,null,null,null,null,null,null,null,null,null,null,null,null,null,null,null,null,null,null,null,null,null,null,null,null,null,null,null,null,null,null,null,null,null,null,{"$f":"SUM(J6919+L6919+N6919+P6919+R6919+T6919+V6919+X6919+Z6919+AB6919+AD6919+AF6919)","v":0},0,null,8387]
[null,null,null,null,null,null,null,null,null,null,null,null,null,null,null,null,null,null,null,null,null,null,null,null,null,null,null,null,null,null,null,null,null,null,null,null,null,null,null,null,null,null,null,0,0,null,8404]
[null,null,null,null,null,null,null,null,null,null,null,null,null,null,null,null,null,null,null,null,null,null,null,null,null,null,null,null,null,null,null,null,null,null,null,null,null,null,null,null,null,null,null,0,0,null,8405]
[null,null,null,null,null,null,null,null,null,null,null,null,null,null,null,null,null,null,null,null,null,null,null,null,null,null,null,null,null,null,null,null,null,null,null,null,null,null,null,null,null,null,null,0,0,null,8427]
[null,null,null,null,null,null,null,null,null,null,null,null,null,null,null,null,null,null,null,null,null,null,null,null,null,null,null,null,null,null,null,null,null,null,null,null,null,null,null,null,null,null,null,0,0,null,8438]
[null,null,null,null,null,null,null,null,null,null,null,null,null,null,null,null,null,null,null,null,null,null,null,null,null,null,null,null,null,null,null,null,null,null,null,null,null,null,null,null,null,null,null,0,0,null,8455]
[null,null,null,null,null,null,null,null,null,null,null,null,null,null,null,null,null,null,null,null,null,null,null,null,null,null,null,null,null,null,null,null,null,null,null,null,null,null,null,null,null,null,null,0,0,null,8472]
[null,null,null,null,null,null,null,null,null,null,null,null,null,null,null,null,null,null,null,null,null,null,null,null,null,null,null,null,null,null,null,null,null,null,null,null,null,null,null,null,null,null,null,0,0,null,8489]
[null,null,null,null,null,null,null,null,null,null,null,null,null,null,null,null,null,null,null,null,null,null,null,null,null,null,null,null,null,null,null,null,null,null,null,null,null,null,null,null,null,null,null,0,0,null,8508]
[null,null,null,null,null,null,null,null,null,null,null,null,null,null,null,null,null,null,null,null,null,null,null,null,null,null,null,null,null,null,null,null,null,null,null,null,null,null,null,null,null,null,null,0,0,null,8522]
[null,null,null,null,null,null,null,null,null,null,null,null,null,null,null,null,null,null,null,null,null,null,null,null,null,null,null,null,null,null,null,null,null,null,null,null,null,null,null,null,null,null,null,0,0,null,8539]
[null,null,null,null,null,null,null,null,null,null,null,null,null,null,null,null,null,null,null,null,null,null,null,null,null,null,null,null,null,null,null,null,null,null,null,null,null,null,null,null,null,null,null,0,0,null,8556]
[null,null,null,null,null,null,null,null,null,null,null,null,null,null,null,null,null,null,null,null,null,null,null,null,null,null,null,null,null,null,null,null,null,null,null,null,null,null,null,null,null,null,null,0,0,null,8573]
[null,null,null,null,null,null,null,null,null,null,null,null,null,null,null,null,null,null,null,null,null,null,null,null,null,null,null,null,null,null,null,null,null,null,null,null,null,null,null,null,null,null,null,0,0,null,8590]
[null,null,null,null,null,null,null,null,null,null,null,null,null,null,null,null,null,null,null,null,null,null,null,null,null,null,null,null,null,null,null,null,null,null,null,null,null,null,null,null,null,null,null,0,0,null,8606]
[null,null,null,null,null,null,null,null,null,null,null,null,null,null,null,null,null,null,null,null,null,null,null,null,null,null,null,null,null,null,null,null,null,null,null,null,null,null,null,null,null,null,null,0,0,null,8623]
[null,null,null,null,null,null,null,null,null,null,null,null,null,null,null,null,null,null,null,null,null,null,null,null,null,null,null,null,null,null,null,null,null,null,null,null,null,null,null,null,null,null,null,0,0,null,8640]
[null,null,null,null,null,null,null,null,null,null,null,null,null,null,null,null,null,null,null,null,null,null,null,null,null,null,null,null,null,null,null,null,null,null,null,null,null,null,null,null,null,null,null,0,0,null,8657]
[null,null,null,null,null,null,null,null,null,null,null,null,null,null,null,null,null,null,null,null,null,null,null,null,null,null,null,null,null,null,null,null,null,null,null,null,null,null,null,null,null,null,null,0,0,null,8658]
[null,null,null,null,null,null,null,null,null,null,null,null,null,null,null,null,null,null,null,null,null,null,null,null,null,null,null,null,null,null,null,null,null,null,null,null,null,null,null,null,null,null,null,0,0,null,8686]
[null,null,null,null,null,null,null,null,null,null,null,null,null,null,null,null,null,null,null,null,null,null,null,null,null,null,null,null,null,null,null,null,null,null,null,null,null,null,null,null,null,null,null,0,0,null,8691]
[null,null,null,null,null,null,null,null,null,null,null,null,null,null,null,null,null,null,null,null,null,null,null,null,null,null,null,null,null,null,null,null,null,null,null,null,null,null,null,null,null,null,null,0,0,null,8708]
[null,null,null,null,null,null,null,null,null,null,null,null,null,null,null,null,null,null,null,null,null,null,null,null,null,null,null,null,null,null,null,null,null,null,null,null,null,null,null,null,null,null,null,0,0,null,8725]
[null,null,null,null,null,null,null,null,null,null,null,null,null,null,null,null,null,null,null,null,null,null,null,null,null,null,null,null,null,null,null,null,null,null,null,null,null,null,null,null,null,null,null,0,0,null,8742]
[null,null,null,null,null,null,null,null,null,null,null,null,null,null,null,null,null,null,null,null,null,null,null,null,null,null,null,null,null,null,null,null,null,null,null,null,null,null,null,null,null,null,null,0,0,null,8759]
[null,null,null,null,null,null,null,null,null,null,null,null,null,null,null,null,null,null,null,null,null,null,null,null,null,null,null,null,null,null,null,null,null,null,null,null,null,null,null,null,null,null,null,0,0,null,8769]
[null,null,null,null,null,null,null,null,null,null,null,null,null,null,null,null,null,null,null,null,null,null,null,null,null,null,null,null,null,null,null,null,null,null,null,null,null,null,null,null,null,null,null,0,0,null,8792]
[null,null,null,null,null,null,null,null,null,null,null,null,null,null,null,null,null,null,null,null,null,null,null,null,null,null,null,null,null,null,null,null,null,null,null,null,null,null,null,null,null,null,null,0,0,null,8809]
[null,null,null,null,null,null,null,null,null,null,null,null,null,null,null,null,null,null,null,null,null,null,null,null,null,null,null,null,null,null,null,null,null,null,null,null,null,null,null,null,null,null,null,0,0,null,8826]
[null,null,null,null,null,null,null,null,null,null,null,null,null,null,null,null,null,null,null,null,null,null,null,null,null,null,null,null,null,null,null,null,null,null,null,null,null,null,null,null,null,null,null,0,0,null,8843]
[null,null,null,null,null,null,null,null,null,null,null,null,null,null,null,null,null,null,null,null,null,null,null,null,null,null,null,null,null,null,null,null,null,null,null,null,null,null,null,null,null,null,null,0,0,null,8850]
[null,null,null,null,null,null,null,null,null,null,null,null,null,null,null,null,null,null,null,null,null,null,null,null,null,null,null,null,null,null,null,null,null,null,null,null,null,null,null,null,null,null,null,0,0,null,8876]
[null,null,null,null,null,null,null,null,null,null,null,null,null,null,null,null,null,null,null,null,null,null,null,null,null,null,null,null,null,null,null,null,null,null,null,null,null,null,null,null,null,null,null,0,0,null,8893]
[null,null,null,null,null,null,null,null,null,null,null,null,null,null,null,null,null,null,null,null,null,null,null,null,null,null,null,null,null,null,null,null,null,null,null,null,null,null,null,null,null,null,null,0,0,null,8910]
[null,null,null,null,null,null,null,null,null,null,null,null,null,null,null,null,null,null,null,null,null,null,null,null,null,null,null,null,null,null,null,null,null,null,null,null,null,null,null,null,null,null,null,0,0,null,8911]
[null,null,null,null,null,null,null,null,null,null,null,null,null,null,null,null,null,null,null,null,null,null,null,null,null,null,null,null,null,null,null,null,null,null,null,null,null,null,null,null,null,null,null,0,0,null,8931]
[null,null,null,null,null,null,null,null,null,null,null,null,null,null,null,null,null,null,null,null,null,null,null,null,null,null,null,null,null,null,null,null,null,null,null,null,null,null,null,null,null,null,null,0,0,null,8944]
[null,null,null,null,null,null,null,null,null,null,null,null,null,null,null,null,null,null,null,null,null,null,null,null,null,null,null,null,null,null,null,null,null,null,null,null,null,null,null,null,null,null,null,0,0,null,8961]
[null,null,null,null,null,null,null,null,null,null,null,null,null,null,null,null,null,null,null,null,null,null,null,null,null,null,null,null,null,null,null,null,null,null,null,null,null,null,null,null,null,null,null,0,0,null,8978]
[null,null,null,null,null,null,null,null,null,null,null,null,null,null,null,null,null,null,null,null,null,null,null,null,null,null,null,null,null,null,null,null,null,null,null,null,null,null,null,null,null,null,null,0,0,null,8995]
[null,null,null,null,null,null,null,null,null,null,null,null,null,null,null,null,null,null,null,null,null,null,null,null,null,null,null,null,null,null,null,null,null,null,null,null,null,null,null,null,null,null,null,0,0,null,9012]
[null,null,null,null,null,null,null,null,null,null,null,null,null,null,null,null,null,null,null,null,null,null,null,null,null,null,null,null,null,null,null,null,null,null,null,null,null,null,null,null,null,null,null,0,0,null,9028]
[null,null,null,null,null,null,null,null,null,null,null,null,null,null,null,null,null,null,null,null,null,null,null,null,null,null,null,null,null,null,null,null,null,null,null,null,null,null,null,null,null,null,null,0,0,null,9045]
[null,null,null,null,null,null,null,null,null,null,null,null,null,null,null,null,null,null,null,null,null,null,null,null,null,null,null,null,null,null,null,null,null,null,null,null,null,null,null,null,null,null,null,0,0,null,9062]
[null,null,null,null,null,null,null,null,null,null,null,null,null,null,null,null,null,null,null,null,null,null,null,null,null,null,null,null,null,null,null,null,null,null,null,null,null,null,null,null,null,null,null,0,0,null,9079]
[null,null,null,null,null,null,null,null,null,null,null,null,null,null,null,null,null,null,null,null,null,null,null,null,null,null,null,null,null,null,null,null,null,null,null,null,null,null,null,null,null,null,null,0,0,null,9096]
[null,null,null,null,null,null,null,null,null,null,null,null,null,null,null,null,null,null,null,null,null,null,null,null,null,null,null,null,null,null,null,null,null,null,null,null,null,null,null,null,null,null,null,0,0,null,9109]
[null,null,null,null,null,null,null,null,null,null,null,null,null,null,null,null,null,null,null,null,null,null,null,null,null,null,null,null,null,null,null,null,null,null,null,null,null,null,null,null,null,null,null,0,0,null,9129]
[null,null,null,null,null,null,null,null,null,null,null,null,null,null,null,null,null,null,null,null,null,null,null,null,null,null,null,null,null,null,null,null,null,null,null,null,null,null,null,null,null,null,null,0,0,null,9146]
[null,null,null,null,null,null,null,null,null,null,null,null,null,null,null,null,null,null,null,null,null,null,null,null,null,null,null,null,null,null,null,null,null,null,null,null,null,null,null,null,null,null,null,0,0,null,9163]
[null,null,null,null,null,null,null,null,null,null,null,null,null,null,null,null,null,null,null,null,null,null,null,null,null,null,null,null,null,null,null,null,null,null,null,null,null,null,null,null,null,null,null,0,0,null,9164]
[null,null,null,null,null,null,null,null,null,null,null,null,null,null,null,null,null,null,null,null,null,null,null,null,null,null,null,null,null,null,null,null,null,null,null,null,null,null,null,null,null,null,null,0,0,null,9190]
[null,null,null,null,null,null,null,null,null,null,null,null,null,null,null,null,null,null,null,null,null,null,null,null,null,null,null,null,null,null,null,null,null,null,null,null,null,null,null,null,null,null,null,0,0,null,9197]
[null,null,null,null,null,null,null,null,null,null,null,null,null,null,null,null,null,null,null,null,null,null,null,null,null,null,null,null,null,null,null,null,null,null,null,null,null,null,null,null,null,null,null,0,0,null,9214]
[null,null,null,null,null,null,null,null,null,null,null,null,null,null,null,null,null,null,null,null,null,null,null,null,null,null,null,null,null,null,null,null,null,null,null,null,null,null,null,null,null,null,null,0,0,null,9231]
[null,null,null,null,null,null,null,null,null,null,null,null,null,null,null,null,null,null,null,null,null,null,null,null,null,null,null,null,null,null,null,null,null,null,null,null,null,null,null,null,null,null,null,0,0,null,9248]
[null,null,null,null,null,null,null,null,null,null,null,null,null,null,null,null,null,null,null,null,null,null,null,null,null,null,null,null,null,null,null,null,null,null,null,null,null,null,null,null,null,null,null,0,0,null,9265]
[null,null,null,null,null,null,null,null,null,null,null,null,null,null,null,null,null,null,null,null,null,null,null,null,null,null,null,null,null,null,null,null,null,null,null,null,null,null,null,null,null,null,null,0,0,null,9287]
[null,null,null,null,null,null,null,null,null,null,null,null,null,null,null,null,null,null,null,null,null,null,null,null,null,null,null,null,null,null,null,null,null,null,null,null,null,null,null,null,null,null,null,0,0,null,9298]
[null,null,null,null,null,null,null,null,null,null,null,null,null,null,null,null,null,null,null,null,null,null,null,null,null,null,null,null,null,null,null,null,null,null,null,null,null,null,null,null,null,null,null,0,0,null,9315]
[null,null,null,null,null,null,null,null,null,null,null,null,null,null,null,null,null,null,null,null,null,null,null,null,null,null,null,null,null,null,null,null,null,null,null,null,null,null,null,null,null,null,null,0,0,null,9332]
[null,null,null,null,null,null,null,null,null,null,null,null,null,null,null,null,null,null,null,null,null,null,null,null,null,null,null,null,null,null,null,null,null,null,null,null,null,null,null,null,null,null,null,0,0,null,9349]
[null,null,null,null,null,null,null,null,null,null,null,null,null,null,null,null,null,null,null,null,null,null,null,null,null,null,null,null,null,null,null,null,null,null,null,null,null,null,null,null,null,null,null,0,0,null,9368]
[null,null,null,null,null,null,null,null,null,null,null,null,null,null,null,null,null,null,null,null,null,null,null,null,null,null,null,null,null,null,null,null,null,null,null,null,null,null,null,null,null,null,null,0,0,null,9382]
[null,null,null,null,null,null,null,null,null,null,null,null,null,null,null,null,null,null,null,null,null,null,null,null,null,null,null,null,null,null,null,null,null,null,null,null,null,null,null,null,null,null,null,0,0,null,9399]
[null,null,null,null,null,null,null,null,null,null,null,null,null,null,null,null,null,null,null,null,null,null,null,null,null,null,null,null,null,null,null,null,null,null,null,null,null,null,null,null,null,null,null,0,0,null,9416]
[null,null,null,null,null,null,null,null,null,null,null,null,null,null,null,null,null,null,null,null,null,null,null,null,null,null,null,null,null,null,null,null,null,null,null,null,null,null,null,null,null,null,null,0,0,null,9417]
[null,null,null,null,null,null,null,null,null,null,null,null,null,null,null,null,null,null,null,null,null,null,null,null,null,null,null,null,null,null,null,null,null,null,null,null,null,null,null,null,null,null,null,0,0,null,9434]
[null,null,null,null,null,null,null,null,null,null,null,null,null,null,null,null,null,null,null,null,null,null,null,null,null,null,null,null,null,null,null,null,null,null,null,null,null,null,null,null,null,null,null,0,0,null,9450]
[null,null,null,null,null,null,null,null,null,null,null,null,null,null,null,null,null,null,null,null,null,null,null,null,null,null,null,null,null,null,null,null,null,null,null,null,null,null,null,null,null,null,null,0,0,null,9467]
[null,null,null,null,null,null,null,null,null,null,null,null,null,null,null,null,null,null,null,null,null,null,null,null,null,null,null,null,null,null,null,null,null,null,null,null,null,null,null,null,null,null,null,0,0,null,9484]
[null,null,null,null,null,null,null,null,null,null,null,null,null,null,null,null,null,null,null,null,null,null,null,null,null,null,null,null,null,null,null,null,null,null,null,null,null,null,null,null,null,null,null,0,0,null,9501]
[null,null,null,null,null,null,null,null,null,null,null,null,null,null,null,null,null,null,null,null,null,null,null,null,null,null,null,null,null,null,null,null,null,null,null,null,null,null,null,null,null,null,null,0,0,null,9518]
[null,null,null,null,null,null,null,null,null,null,null,null,null,null,null,null,null,null,null,null,null,null,null,null,null,null,null,null,null,null,null,null,null,null,null,null,null,null,null,null,null,null,null,0,0,null,9531]
[null,null,null,null,null,null,null,null,null,null,null,null,null,null,null,null,null,null,null,null,null,null,null,null,null,null,null,null,null,null,null,null,null,null,null,null,null,null,null,null,null,null,null,0,0,null,9551]
[null,null,null,null,null,null,null,null,null,null,null,null,null,null,null,null,null,null,null,null,null,null,null,null,null,null,null,null,null,null,null,null,null,null,null,null,null,null,null,null,null,null,null,0,0,null,9568]
[null,null,null,null,null,null,null,null,null,null,null,null,null,null,null,null,null,null,null,null,null,null,null,null,null,null,null,null,null,null,null,null,null,null,null,null,null,null,null,null,null,null,null,0,0,null,9585]
[null,null,null,null,null,null,null,null,null,null,null,null,null,null,null,null,null,null,null,null,null,null,null,null,null,null,null,null,null,null,null,null,null,null,null,null,null,null,null,null,null,null,null,0,{"$f":"H8134-AR8134","v":0},null,9602]
[null,null,null,null,null,null,null,null,null,null,null,null,null,null,null,null,null,null,null,null,null,null,null,null,null,null,null,null,null,null,null,null,null,null,null,null,null,null,null,null,null,null,null,0,0,null,9612]
[null,null,null,null,null,null,null,null,null,null,null,null,null,null,null,null,null,null,null,null,null,null,null,null,null,null,null,null,null,null,null,null,null,null,null,null,null,null,null,null,null,null,null,0,0,null,9635]
[null,null,null,null,null,null,null,null,null,null,null,null,null,null,null,null,null,null,null,null,null,null,null,null,null,null,null,null,null,null,null,null,null,null,null,null,null,null,null,null,null,null,null,0,0,null,9652]
[null,null,null,null,null,null,null,null,null,null,null,null,null,null,null,null,null,null,null,null,null,null,null,null,null,null,null,null,null,null,null,null,null,null,null,null,null,null,null,null,null,null,null,0,0,null,9669]
[null,null,null,null,null,null,null,null,null,null,null,null,null,null,null,null,null,null,null,null,null,null,null,null,null,null,null,null,null,null,null,null,null,null,null,null,null,null,null,null,null,null,null,0,0,null,9670]
[null,null,null,null,null,null,null,null,null,null,null,null,null,null,null,null,null,null,null,null,null,null,null,null,null,null,null,null,null,null,null,null,null,null,null,null,null,null,null,null,null,null,null,0,0,null,9687]
[null,null,null,null,null,null,null,null,null,null,null,null,null,null,null,null,null,null,null,null,null,null,null,null,null,null,null,null,null,null,null,null,null,null,null,null,null,null,null,null,null,null,null,0,0,null,9709]
[null,null,null,null,null,null,null,null,null,null,null,null,null,null,null,null,null,null,null,null,null,null,null,null,null,null,null,null,null,null,null,null,null,null,null,null,null,null,null,null,null,null,null,0,0,null,9720]
[null,null,null,null,null,null,null,null,null,null,null,null,null,null,null,null,null,null,null,null,null,null,null,null,null,null,null,null,null,null,null,null,null,null,null,null,null,null,null,null,null,null,null,0,0,null,9737]
[null,null,null,null,null,null,null,null,null,null,null,null,null,null,null,null,null,null,null,null,null,null,null,null,null,null,null,null,null,null,null,null,null,null,null,null,null,null,null,null,null,null,null,0,0,null,9754]
[null,null,null,null,null,null,null,null,null,null,null,null,null,null,null,null,null,null,null,null,null,null,null,null,null,null,null,null,null,null,null,null,null,null,null,null,null,null,null,null,null,null,null,0,0,null,9771]
[null,null,null,null,null,null,null,null,null,null,null,null,null,null,null,null,null,null,null,null,null,null,null,null,null,null,null,null,null,null,null,null,null,null,null,null,null,null,null,null,null,null,null,0,0,null,9790]
[null,null,null,null,null,null,null,null,null,null,null,null,null,null,null,null,null,null,null,null,null,null,null,null,null,null,null,null,null,null,null,null,null,null,null,null,null,null,null,null,null,null,null,0,0,null,9804]
[null,null,null,null,null,null,null,null,null,null,null,null,null,null,null,null,null,null,null,null,null,null,null,null,null,null,null,null,null,null,null,null,null,null,null,null,null,null,null,null,null,null,null,0,0,null,9821]
[null,null,null,null,null,null,null,null,null,null,null,null,null,null,null,null,null,null,null,null,null,null,null,null,null,null,null,null,null,null,null,null,null,null,null,null,null,null,null,null,null,null,null,0,0,null,9838]
[null,null,null,null,null,null,null,null,null,null,null,null,null,null,null,null,null,null,null,null,null,null,null,null,null,null,null,null,null,null,null,null,null,null,null,null,null,null,null,null,null,null,null,0,0,null,9855]
[null,null,null,null,null,null,null,null,null,null,null,null,null,null,null,null,null,null,null,null,null,null,null,null,null,null,null,null,null,null,null,null,null,null,null,null,null,null,null,null,null,null,null,0,0,null,9872]
[null,null,null,null,null,null,null,null,null,null,null,null,null,null,null,null,null,null,null,null,null,null,null,null,null,null,null,null,null,null,null,null,null,null,null,null,null,null,null,null,null,null,null,0,0,null,9876]
[null,null,null,null,null,null,null,null,null,null,null,null,null,null,null,null,null,null,null,null,null,null,null,null,null,null,null,null,null,null,null,null,null,null,null,null,null,null,null,null,null,null,null,0,0,null,9877]
[null,null,null,null,null,null,null,null,null,null,null,null,null,null,null,null,null,null,null,null,null,null,null,null,null,null,null,null,null,null,null,null,null,null,null,null,null,null,null,null,null,null,null,0,0,null,9878]
[null,null,null,null,null,null,null,null,null,null,null,null,null,null,null,null,null,null,null,null,null,null,null,null,null,null,null,null,null,null,null,null,null,null,null,null,null,null,null,null,null,null,null,0,0,null,9879]
[null,null,null,null,null,null,null,null,null,null,null,null,null,null,null,null,null,null,null,null,null,null,null,null,null,null,null,null,null,null,null,null,null,null,null,null,null,null,null,null,null,null,null,0,0,null,9880]
[null,null,null,null,null,null,null,null,null,null,null,null,null,null,null,null,null,null,null,null,null,null,null,null,null,null,null,null,null,null,null,null,null,null,null,null,null,null,null,null,null,null,null,0,0,null,9881]
[null,null,null,null,null,null,null,null,null,null,null,null,null,null,null,null,null,null,null,null,null,null,null,null,null,null,null,null,null,null,null,null,null,null,null,null,null,null,null,null,null,null,null,0,0,null,9882]
[null,null,null,null,null,null,null,null,null,null,null,null,null,null,null,null,null,null,null,null,null,null,null,null,null,null,null,null,null,null,null,null,null,null,null,null,null,null,null,null,null,null,null,0,0,null,9883]
[null,null,null,null,null,null,null,null,null,null,null,null,null,null,null,null,null,null,null,null,null,null,null,null,null,null,null,null,null,null,null,null,null,null,null,null,null,null,null,null,null,null,null,0,0,null,9884]
[null,null,null,null,null,null,null,null,null,null,null,null,null,null,null,null,null,null,null,null,null,null,null,null,null,null,null,null,null,null,null,null,null,null,null,null,null,null,null,null,null,null,null,0,0,null,9885]
[null,null,null,null,null,null,null,null,null,null,null,null,null,null,null,null,null,null,null,null,null,null,null,null,null,null,null,null,null,null,null,null,null,null,null,null,null,null,null,null,null,null,null,0,0,null,9886]
[null,null,null,null,null,null,null,null,null,null,null,null,null,null,null,null,null,null,null,null,null,null,null,null,null,null,null,null,null,null,null,null,null,null,null,null,null,null,null,null,null,null,null,0,0,null,9887]
[null,null,null,null,null,null,null,null,null,null,null,null,null,null,null,null,null,null,null,null,null,null,null,null,null,null,null,null,null,null,null,null,null,null,null,null,null,null,null,null,null,null,null,0,0,null,9888]
[null,null,null,null,null,null,null,null,null,null,null,null,null,null,null,null,null,null,null,null,null,null,null,null,null,null,null,null,null,null,null,null,null,null,null,null,null,null,null,null,null,null,null,0,0,null,9889]
[null,null,null,null,null,null,null,null,null,null,null,null,null,null,null,null,null,null,null,null,null,null,null,null,null,null,null,null,null,null,null,null,null,null,null,null,null,null,null,null,null,null,null,0,0,null,9890]
[null,null,null,null,null,null,null,null,null,null,null,null,null,null,null,null,null,null,null,null,null,null,null,null,null,null,null,null,null,null,null,null,null,null,null,null,null,null,null,null,null,null,null,0,0,null,9891]
[null,null,null,null,null,null,null,null,null,null,null,null,null,null,null,null,null,null,null,null,null,null,null,null,null,null,null,null,null,null,null,null,null,null,null,null,null,null,null,null,null,null,null,0,0,null,9892]
[null,null,null,null,null,null,null,null,null,null,null,null,null,null,null,null,null,null,null,null,null,null,null,null,null,null,null,null,null,null,null,null,null,null,null,null,null,null,null,null,null,null,null,0,0,null,9893]
[null,null,null,null,null,null,null,null,null,null,null,null,null,null,null,null,null,null,null,null,null,null,null,null,null,null,null,null,null,null,null,null,null,null,null,null,null,null,null,null,null,null,null,0,0,null,9894]
[null,null,null,null,null,null,null,null,null,null,null,null,null,null,null,null,null,null,null,null,null,null,null,null,null,null,null,null,null,null,null,null,null,null,null,null,null,null,null,null,null,null,null,0,0,null,9895]
[null,null,null,null,null,null,null,null,null,null,null,null,null,null,null,null,null,null,null,null,null,null,null,null,null,null,null,null,null,null,null,null,null,null,null,null,null,null,null,null,null,null,null,0,0,null,9896]
[null,null,null,null,null,null,null,null,null,null,null,null,null,null,null,null,null,null,null,null,null,null,null,null,null,null,null,null,null,null,null,null,null,null,null,null,null,null,null,null,null,null,null,0,0,null,9897]
[null,null,null,null,null,null,null,null,null,null,null,null,null,null,null,null,null,null,null,null,null,null,null,null,null,null,null,null,null,null,null,null,null,null,null,null,null,null,null,null,null,null,null,0,0,null,9898]
[null,null,null,null,null,null,null,null,null,null,null,null,null,null,null,null,null,null,null,null,null,null,null,null,null,null,null,null,null,null,null,null,null,null,null,null,null,null,null,null,null,null,null,0,0,null,9899]
[null,null,null,null,null,null,null,null,null,null,null,null,null,null,null,null,null,null,null,null,null,null,null,null,null,null,null,null,null,null,null,null,null,null,null,null,null,null,null,null,null,null,null,0,0,null,9900]
[null,null,null,null,null,null,null,null,null,null,null,null,null,null,null,null,null,null,null,null,null,null,null,null,null,null,null,null,null,null,null,null,null,null,null,null,null,null,null,null,null,null,null,0,0,null,9901]
[null,null,null,null,null,null,null,null,null,null,null,null,null,null,null,null,null,null,null,null,null,null,null,null,null,null,null,null,null,null,null,null,null,null,null,null,null,null,null,null,null,null,null,0,0,null,9902]
[null,null,null,null,null,null,null,null,null,null,null,null,null,null,null,null,null,null,null,null,null,null,null,null,null,null,null,null,null,null,null,null,null,null,null,null,null,null,null,null,null,null,null,0,0,null,9903]
[null,null,null,null,null,null,null,null,null,null,null,null,null,null,null,null,null,null,null,null,null,null,null,null,null,null,null,null,null,null,null,null,null,null,null,null,null,null,null,null,null,null,null,0,0,null,9904]
[null,null,null,null,null,null,null,null,null,null,null,null,null,null,null,null,null,null,null,null,null,null,null,null,null,null,null,null,null,null,null,null,null,null,null,null,null,null,null,null,null,null,null,0,0,null,9905]
[null,null,null,null,null,null,null,null,null,null,null,null,null,null,null,null,null,null,null,null,null,null,null,null,null,null,null,null,null,null,null,null,null,null,null,null,null,null,null,null,null,null,null,0,0,null,9906]
[null,null,null,null,null,null,null,null,null,null,null,null,null,null,null,null,null,null,null,null,null,null,null,null,null,null,null,null,null,null,null,null,null,null,null,null,null,null,null,null,null,null,null,0,0,null,9907]
[null,null,null,null,null,null,null,null,null,null,null,null,null,null,null,null,null,null,null,null,null,null,null,null,null,null,null,null,null,null,null,null,null,null,null,null,null,null,null,null,null,null,null,0,0,null,9908]
[null,null,null,null,null,null,null,null,null,null,null,null,null,null,null,null,null,null,null,null,null,null,null,null,null,null,null,null,null,null,null,null,null,null,null,null,null,null,null,null,null,null,null,0,0,null,9909]
[null,null,null,null,null,null,null,null,null,null,null,null,null,null,null,null,null,null,null,null,null,null,null,null,null,null,null,null,null,null,null,null,null,null,null,null,null,null,null,null,null,null,null,0,0,null,9910]
[null,null,null,null,null,null,null,null,null,null,null,null,null,null,null,null,null,null,null,null,null,null,null,null,null,null,null,null,null,null,null,null,null,null,null,null,null,null,null,null,null,null,null,0,0,null,9911]
[null,null,null,null,null,null,null,null,null,null,null,null,null,null,null,null,null,null,null,null,null,null,null,null,null,null,null,null,null,null,null,null,null,null,null,null,null,null,null,null,null,null,null,0,0,null,9912]
[null,null,null,null,null,null,null,null,null,null,null,null,null,null,null,null,null,null,null,null,null,null,null,null,null,null,null,null,null,null,null,null,null,null,null,null,null,null,null,null,null,null,null,0,0,null,9913]
[null,null,null,null,null,null,null,null,null,null,null,null,null,null,null,null,null,null,null,null,null,null,null,null,null,null,null,null,null,null,null,null,null,null,null,null,null,null,null,null,null,null,null,0,0,null,9914]
[null,null,null,null,null,null,null,null,null,null,null,null,null,null,null,null,null,null,null,null,null,null,null,null,null,null,null,null,null,null,null,null,null,null,null,null,null,null,null,null,null,null,null,0,0,null,9915]
[null,null,null,null,null,null,null,null,null,null,null,null,null,null,null,null,null,null,null,null,null,null,null,null,null,null,null,null,null,null,null,null,null,null,null,null,null,null,null,null,null,null,null,0,0,null,9916]
[null,null,null,null,null,null,null,null,null,null,null,null,null,null,null,null,null,null,null,null,null,null,null,null,null,null,null,null,null,null,null,null,null,null,null,null,null,null,null,null,null,null,null,0,0,null,9917]
[null,null,null,null,null,null,null,null,null,null,null,null,null,null,null,null,null,null,null,null,null,null,null,null,null,null,null,null,null,null,null,null,null,null,null,null,null,null,null,null,null,null,null,0,0,null,9918]
[null,null,null,null,null,null,null,null,null,null,null,null,null,null,null,null,null,null,null,null,null,null,null,null,null,null,null,null,null,null,null,null,null,null,null,null,null,null,null,null,null,null,null,0,0,null,9919]
[null,null,null,null,null,null,null,null,null,null,null,null,null,null,null,null,null,null,null,null,null,null,null,null,null,null,null,null,null,null,null,null,null,null,null,null,null,null,null,null,null,null,null,0,0,null,9920]
[null,null,null,null,null,null,null,null,null,null,null,null,null,null,null,null,null,null,null,null,null,null,null,null,null,null,null,null,null,null,null,null,null,null,null,null,null,null,null,null,null,null,null,0,0,null,9921]
[null,null,null,null,null,null,null,null,null,null,null,null,null,null,null,null,null,null,null,null,null,null,null,null,null,null,null,null,null,null,null,null,null,null,null,null,null,null,null,null,null,null,null,0,{"$f":"H8454-AR8454","v":0},null,9922]
[null,null,null,null,null,null,null,null,null,null,null,null,null,null,null,null,null,null,null,null,null,null,null,null,null,null,null,null,null,null,null,null,null,null,null,null,null,null,null,null,null,null,null,{"$f":"SUM(J8455+L8455+N8455+P8455+R8455+T8455+V8455+X8455+Z8455+AB8455+AD8455+AF8455)","v":0},0,null,9923]
[null,null,null,null,null,null,null,null,null,null,null,null,null,null,null,null,null,null,null,null,null,null,null,null,null,null,null,null,null,null,null,null,null,null,null,null,null,null,null,null,null,null,null,0,0,null,9924]
[null,null,null,null,null,null,null,null,null,null,null,null,null,null,null,null,null,null,null,null,null,null,null,null,null,null,null,null,null,null,null,null,null,null,null,null,null,null,null,null,null,null,null,0,0,null,9925]
[null,null,null,null,null,null,null,null,null,null,null,null,null,null,null,null,null,null,null,null,null,null,null,null,null,null,null,null,null,null,null,null,null,null,null,null,null,null,null,null,null,null,null,0,0,null,9926]
[null,null,null,null,null,null,null,null,null,null,null,null,null,null,null,null,null,null,null,null,null,null,null,null,null,null,null,null,null,null,null,null,null,null,null,null,null,null,null,null,null,null,null,0,0,null,9927]
[null,null,null,null,null,null,null,null,null,null,null,null,null,null,null,null,null,null,null,null,null,null,null,null,null,null,null,null,null,null,null,null,null,null,null,null,null,null,null,null,null,null,null,0,0,null,9928]
[null,null,null,null,null,null,null,null,null,null,null,null,null,null,null,null,null,null,null,null,null,null,null,null,null,null,null,null,null,null,null,null,null,null,null,null,null,null,null,null,null,null,null,0,0,null,9929]
[null,null,null,null,null,null,null,null,null,null,null,null,null,null,null,null,null,null,null,null,null,null,null,null,null,null,null,null,null,null,null,null,null,null,null,null,null,null,null,null,null,null,null,0,0,null,9930]
[null,null,null,null,null,null,null,null,null,null,null,null,null,null,null,null,null,null,null,null,null,null,null,null,null,null,null,null,null,null,null,null,null,null,null,null,null,null,null,null,null,null,null,0,0,null,9931]
[null,null,null,null,null,null,null,null,null,null,null,null,null,null,null,null,null,null,null,null,null,null,null,null,null,null,null,null,null,null,null,null,null,null,null,null,null,null,null,null,null,null,null,0,0,null,9932]
[null,null,null,null,null,null,null,null,null,null,null,null,null,null,null,null,null,null,null,null,null,null,null,null,null,null,null,null,null,null,null,null,null,null,null,null,null,null,null,null,null,null,null,0,0,null,9933]
[null,null,null,null,null,null,null,null,null,null,null,null,null,null,null,null,null,null,null,null,null,null,null,null,null,null,null,null,null,null,null,null,null,null,null,null,null,null,null,null,null,null,null,0,0,null,9934]
[null,null,null,null,null,null,null,null,null,null,null,null,null,null,null,null,null,null,null,null,null,null,null,null,null,null,null,null,null,null,null,null,null,null,null,null,null,null,null,null,null,null,null,0,0,null,9935]
[null,null,null,null,null,null,null,null,null,null,null,null,null,null,null,null,null,null,null,null,null,null,null,null,null,null,null,null,null,null,null,null,null,null,null,null,null,null,null,null,null,null,null,0,0,null,9936]
[null,null,null,null,null,null,null,null,null,null,null,null,null,null,null,null,null,null,null,null,null,null,null,null,null,null,null,null,null,null,null,null,null,null,null,null,null,null,null,null,null,null,null,0,0,null,9937]
[null,null,null,null,null,null,null,null,null,null,null,null,null,null,null,null,null,null,null,null,null,null,null,null,null,null,null,null,null,null,null,null,null,null,null,null,null,null,null,null,null,null,null,0,0,null,9938]
[null,null,null,null,null,null,null,null,null,null,null,null,null,null,null,null,null,null,null,null,null,null,null,null,null,null,null,null,null,null,null,null,null,null,null,null,null,null,null,null,null,null,null,0,0,null,9939]
[null,null,null,null,null,null,null,null,null,null,null,null,null,null,null,null,null,null,null,null,null,null,null,null,null,null,null,null,null,null,null,null,null,null,null,null,null,null,null,null,null,null,null,0,0,null,9940]
[null,null,null,null,null,null,null,null,null,null,null,null,null,null,null,null,null,null,null,null,null,null,null,null,null,null,null,null,null,null,null,null,null,null,null,null,null,null,null,null,null,null,null,0,0,null,9941]
[null,null,null,null,null,null,null,null,null,null,null,null,null,null,null,null,null,null,null,null,null,null,null,null,null,null,null,null,null,null,null,null,null,null,null,null,null,null,null,null,null,null,null,0,0,null,9942]
[null,null,null,null,null,null,null,null,null,null,null,null,null,null,null,null,null,null,null,null,null,null,null,null,null,null,null,null,null,null,null,null,null,null,null,null,null,null,null,null,null,null,null,0,0,null,9943]
[null,null,null,null,null,null,null,null,null,null,null,null,null,null,null,null,null,null,null,null,null,null,null,null,null,null,null,null,null,null,null,null,null,null,null,null,null,null,null,null,null,null,null,0,0,null,9944]
[null,null,null,null,null,null,null,null,null,null,null,null,null,null,null,null,null,null,null,null,null,null,null,null,null,null,null,null,null,null,null,null,null,null,null,null,null,null,null,null,null,null,null,0,0,null,9945]
[null,null,null,null,null,null,null,null,null,null,null,null,null,null,null,null,null,null,null,null,null,null,null,null,null,null,null,null,null,null,null,null,null,null,null,null,null,null,null,null,null,null,null,0,0,null,9946]
[null,null,null,null,null,null,null,null,null,null,null,null,null,null,null,null,null,null,null,null,null,null,null,null,null,null,null,null,null,null,null,null,null,null,null,null,null,null,null,null,null,null,null,0,0,null,9947]
[null,null,null,null,null,null,null,null,null,null,null,null,null,null,null,null,null,null,null,null,null,null,null,null,null,null,null,null,null,null,null,null,null,null,null,null,null,null,null,null,null,null,null,0,0,null,9948]
[null,null,null,null,null,null,null,null,null,null,null,null,null,null,null,null,null,null,null,null,null,null,null,null,null,null,null,null,null,null,null,null,null,null,null,null,null,null,null,null,null,null,null,0,0,null,9949]
[null,null,null,null,null,null,null,null,null,null,null,null,null,null,null,null,null,null,null,null,null,null,null,null,null,null,null,null,null,null,null,null,null,null,null,null,null,null,null,null,null,null,null,0,0,null,9950]
[null,null,null,null,null,null,null,null,null,null,null,null,null,null,null,null,null,null,null,null,null,null,null,null,null,null,null,null,null,null,null,null,null,null,null,null,null,null,null,null,null,null,null,0,0,null,9951]
[null,null,null,null,null,null,null,null,null,null,null,null,null,null,null,null,null,null,null,null,null,null,null,null,null,null,null,null,null,null,null,null,null,null,null,null,null,null,null,null,null,null,null,0,0,null,9952]
[null,null,null,null,null,null,null,null,null,null,null,null,null,null,null,null,null,null,null,null,null,null,null,null,null,null,null,null,null,null,null,null,null,null,null,null,null,null,null,null,null,null,null,0,0,null,9953]
[null,null,null,null,null,null,null,null,null,null,null,null,null,null,null,null,null,null,null,null,null,null,null,null,null,null,null,null,null,null,null,null,null,null,null,null,null,null,null,null,null,null,null,0,0,null,9954]
[null,null,null,null,null,null,null,null,null,null,null,null,null,null,null,null,null,null,null,null,null,null,null,null,null,null,null,null,null,null,null,null,null,null,null,null,null,null,null,null,null,null,null,0,0,null,9955]
[null,null,null,null,null,null,null,null,null,null,null,null,null,null,null,null,null,null,null,null,null,null,null,null,null,null,null,null,null,null,null,null,null,null,null,null,null,null,null,null,null,null,null,0,0,null,9956]
[null,null,null,null,null,null,null,null,null,null,null,null,null,null,null,null,null,null,null,null,null,null,null,null,null,null,null,null,null,null,null,null,null,null,null,null,null,null,null,null,null,null,null,0,0,null,9957]
[null,null,null,null,null,null,null,null,null,null,null,null,null,null,null,null,null,null,null,null,null,null,null,null,null,null,null,null,null,null,null,null,null,null,null,null,null,null,null,null,null,null,null,0,0,null,9958]
[null,null,null,null,null,null,null,null,null,null,null,null,null,null,null,null,null,null,null,null,null,null,null,null,null,null,null,null,null,null,null,null,null,null,null,null,null,null,null,null,null,null,null,0,0,null,9959]
[null,null,null,null,null,null,null,null,null,null,null,null,null,null,null,null,null,null,null,null,null,null,null,null,null,null,null,null,null,null,null,null,null,null,null,null,null,null,null,null,null,null,null,0,0,null,9960]
[null,null,null,null,null,null,null,null,null,null,null,null,null,null,null,null,null,null,null,null,null,null,null,null,null,null,null,null,null,null,null,null,null,null,null,null,null,null,null,null,null,null,null,0,0,null,9961]
[null,null,null,null,null,null,null,null,null,null,null,null,null,null,null,null,null,null,null,null,null,null,null,null,null,null,null,null,null,null,null,null,null,null,null,null,null,null,null,null,null,null,null,0,0,null,9962]
[null,null,null,null,null,null,null,null,null,null,null,null,null,null,null,null,null,null,null,null,null,null,null,null,null,null,null,null,null,null,null,null,null,null,null,null,null,null,null,null,null,null,null,0,0,null,9963]
[null,null,null,null,null,null,null,null,null,null,null,null,null,null,null,null,null,null,null,null,null,null,null,null,null,null,null,null,null,null,null,null,null,null,null,null,null,null,null,null,null,null,null,0,0,null,9964]
[null,null,null,null,null,null,null,null,null,null,null,null,null,null,null,null,null,null,null,null,null,null,null,null,null,null,null,null,null,null,null,null,null,null,null,null,null,null,null,null,null,null,null,0,0,null,9965]
[null,null,null,null,null,null,null,null,null,null,null,null,null,null,null,null,null,null,null,null,null,null,null,null,null,null,null,null,null,null,null,null,null,null,null,null,null,null,null,null,null,null,null,0,0,null,9966]
[null,null,null,null,null,null,null,null,null,null,null,null,null,null,null,null,null,null,null,null,null,null,null,null,null,null,null,null,null,null,null,null,null,null,null,null,null,null,null,null,null,null,null,0,0,null,9967]
[null,null,null,null,null,null,null,null,null,null,null,null,null,null,null,null,null,null,null,null,null,null,null,null,null,null,null,null,null,null,null,null,null,null,null,null,null,null,null,null,null,null,null,0,0,null,9968]
[null,null,null,null,null,null,null,null,null,null,null,null,null,null,null,null,null,null,null,null,null,null,null,null,null,null,null,null,null,null,null,null,null,null,null,null,null,null,null,null,null,null,null,0,0,null,9969]
[null,null,null,null,null,null,null,null,null,null,null,null,null,null,null,null,null,null,null,null,null,null,null,null,null,null,null,null,null,null,null,null,null,null,null,null,null,null,null,null,null,null,null,0,0,null,9970]
[null,null,null,null,null,null,null,null,null,null,null,null,null,null,null,null,null,null,null,null,null,null,null,null,null,null,null,null,null,null,null,null,null,null,null,null,null,null,null,null,null,null,null,0,0,null,9971]
[null,null,null,null,null,null,null,null,null,null,null,null,null,null,null,null,null,null,null,null,null,null,null,null,null,null,null,null,null,null,null,null,null,null,null,null,null,null,null,null,null,null,null,0,0,null,9972]
[null,null,null,null,null,null,null,null,null,null,null,null,null,null,null,null,null,null,null,null,null,null,null,null,null,null,null,null,null,null,null,null,null,null,null,null,null,null,null,null,null,null,null,0,0,null,9973]
[null,null,null,null,null,null,null,null,null,null,null,null,null,null,null,null,null,null,null,null,null,null,null,null,null,null,null,null,null,null,null,null,null,null,null,null,null,null,null,null,null,null,null,0,0,null,9974]
[null,null,null,null,null,null,null,null,null,null,null,null,null,null,null,null,null,null,null,null,null,null,null,null,null,null,null,null,null,null,null,null,null,null,null,null,null,null,null,null,null,null,null,0,0,null,9975]
[null,null,null,null,null,null,null,null,null,null,null,null,null,null,null,null,null,null,null,null,null,null,null,null,null,null,null,null,null,null,null,null,null,null,null,null,null,null,null,null,null,null,null,0,0,null,9976]
[null,null,null,null,null,null,null,null,null,null,null,null,null,null,null,null,null,null,null,null,null,null,null,null,null,null,null,null,null,null,null,null,null,null,null,null,null,null,null,null,null,null,null,0,0,null,9977]
[null,null,null,null,null,null,null,null,null,null,null,null,null,null,null,null,null,null,null,null,null,null,null,null,null,null,null,null,null,null,null,null,null,null,null,null,null,null,null,null,null,null,null,0,0,null,9978]
[null,null,null,null,null,null,null,null,null,null,null,null,null,null,null,null,null,null,null,null,null,null,null,null,null,null,null,null,null,null,null,null,null,null,null,null,null,null,null,null,null,null,null,0,0,null,9979]
[null,null,null,null,null,null,null,null,null,null,null,null,null,null,null,null,null,null,null,null,null,null,null,null,null,null,null,null,null,null,null,null,null,null,null,null,null,null,null,null,null,null,null,0,0,null,9980]
[null,null,null,null,null,null,null,null,null,null,null,null,null,null,null,null,null,null,null,null,null,null,null,null,null,null,null,null,null,null,null,null,null,null,null,null,null,null,null,null,null,null,null,0,0,null,9981]
[null,null,null,null,null,null,null,null,null,null,null,null,null,null,null,null,null,null,null,null,null,null,null,null,null,null,null,null,null,null,null,null,null,null,null,null,null,null,null,null,null,null,null,0,0,null,9982]
[null,null,null,null,null,null,null,null,null,null,null,null,null,null,null,null,null,null,null,null,null,null,null,null,null,null,null,null,null,null,null,null,null,null,null,null,null,null,null,null,null,null,null,0,0,null,9983]
[null,null,null,null,null,null,null,null,null,null,null,null,null,null,null,null,null,null,null,null,null,null,null,null,null,null,null,null,null,null,null,null,null,null,null,null,null,null,null,null,null,null,null,0,0,null,9984]
[null,null,null,null,null,null,null,null,null,null,null,null,null,null,null,null,null,null,null,null,null,null,null,null,null,null,null,null,null,null,null,null,null,null,null,null,null,null,null,null,null,null,null,0,0,null,9985]
[null,null,null,null,null,null,null,null,null,null,null,null,null,null,null,null,null,null,null,null,null,null,null,null,null,null,null,null,null,null,null,null,null,null,null,null,null,null,null,null,null,null,null,0,{"$f":"H8518-AR8518","v":0},null,9986]
[null,null,null,null,null,null,null,null,null,null,null,null,null,null,null,null,null,null,null,null,null,null,null,null,null,null,null,null,null,null,null,null,null,null,null,null,null,null,null,null,null,null,null,{"$f":"SUM(J8519+L8519+N8519+P8519+R8519+T8519+V8519+X8519+Z8519+AB8519+AD8519+AF8519)","v":0},0,null,9987]
[null,null,null,null,null,null,null,null,null,null,null,null,null,null,null,null,null,null,null,null,null,null,null,null,null,null,null,null,null,null,null,null,null,null,null,null,null,null,null,null,null,null,null,0,0,null,9988]
[null,null,null,null,null,null,null,null,null,null,null,null,null,null,null,null,null,null,null,null,null,null,null,null,null,null,null,null,null,null,null,null,null,null,null,null,null,null,null,null,null,null,null,0,0,null,9989]
[null,null,null,null,null,null,null,null,null,null,null,null,null,null,null,null,null,null,null,null,null,null,null,null,null,null,null,null,null,null,null,null,null,null,null,null,null,null,null,null,null,null,null,0,0,null,9990]
[null,null,null,null,null,null,null,null,null,null,null,null,null,null,null,null,null,null,null,null,null,null,null,null,null,null,null,null,null,null,null,null,null,null,null,null,null,null,null,null,null,null,null,0,0,null,9991]
[null,null,null,null,null,null,null,null,null,null,null,null,null,null,null,null,null,null,null,null,null,null,null,null,null,null,null,null,null,null,null,null,null,null,null,null,null,null,null,null,null,null,null,0,0,null,9992]
[null,null,null,null,null,null,null,null,null,null,null,null,null,null,null,null,null,null,null,null,null,null,null,null,null,null,null,null,null,null,null,null,null,null,null,null,null,null,null,null,null,null,null,0,0,null,9993]
[null,null,null,null,null,null,null,null,null,null,null,null,null,null,null,null,null,null,null,null,null,null,null,null,null,null,null,null,null,null,null,null,null,null,null,null,null,null,null,null,null,null,null,0,0,null,9994]
[null,null,null,null,null,null,null,null,null,null,null,null,null,null,null,null,null,null,null,null,null,null,null,null,null,null,null,null,null,null,null,null,null,null,null,null,null,null,null,null,null,null,null,0,0,null,9995]
[null,null,null,null,null,null,null,null,null,null,null,null,null,null,null,null,null,null,null,null,null,null,null,null,null,null,null,null,null,null,null,null,null,null,null,null,null,null,null,null,null,null,null,0,0,null,9996]
[null,null,null,null,null,null,null,null,null,null,null,null,null,null,null,null,null,null,null,null,null,null,null,null,null,null,null,null,null,null,null,null,null,null,null,null,null,null,null,null,null,null,null,0,0,null,9997]
[null,null,null,null,null,null,null,null,null,null,null,null,null,null,null,null,null,null,null,null,null,null,null,null,null,null,null,null,null,null,null,null,null,null,null,null,null,null,null,null,null,null,null,0,0,null,9998]
[null,null,null,null,null,null,null,null,null,null,null,null,null,null,null,null,null,null,null,null,null,null,null,null,null,null,null,null,null,null,null,null,null,null,null,null,null,null,null,null,null,null,null,0,0,null,9999]
[null,null,null,null,null,null,null,null,null,null,null,null,null,null,null,null,null,null,null,null,null,null,null,null,null,null,null,null,null,null,null,null,null,null,null,null,null,null,null,null,null,null,null,0,0,null,10000]

{"sheet":"اسماء العملاء","index":1,"n_rows":3523,"n_cols":3,"rows_kept":3523,"cut":false,"hidden":false,"merged":[]}
["الكود","أنو"]
["رقم الفاتورة","اسم العميل","اسم المادة"]
[{"$f":"IFERROR(INDEX(اقساط!$AT$3:$AT$2000,SMALL(IF(اقساط!$G$3:$G$2000=B3,ROW($AT$3:$AT$2000)-ROW($AT$3)+1),ROWS($A$3:A3))),\"\")","v":13},{"$f":"IFERROR(INDEX(Names,SMALL(IF(Names<>\"\",IF(MID(Names,1,LEN($B$1))=$B$1,ROW(Names)-ROW($G$3)+1)),ROWS($A$1:A1))),\"\")","v":"أنور صلاح "},{"$f":"IFERROR(INDEX(اقساط!$B$3:$B$2000,SMALL(IF(اقساط!$G$3:$G$2000=B3,ROW($B$3:$B$2000)-ROW($B$3)+1),ROWS($C$3:C3))),\"\")","v":"شاشة عرض 32YES TV"}]
[{"$f":"IFERROR(INDEX(اقساط!$AT$3:$AT$8532,SMALL(IF(اقساط!$G$3:$G$8532=B4,ROW($AT$3:$AT$8532)-ROW($AT$3)+1),ROWS($A$3:A4))),\"\")","v":13},{"$f":"IFERROR(INDEX(Names,SMALL(IF(Names<>\"\",IF(MID(Names,1,LEN($B$1))=$B$1,ROW(Names)-ROW($G$3)+1)),ROWS($A$1:A2))),\"\")","v":"أنور صلاح "},{"$f":"IFERROR(INDEX(اقساط!$B$3:$B$2000,SMALL(IF(اقساط!$G$3:$G$2000=B4,ROW($B$3:$B$2000)-ROW($B$3)+1),ROWS($C$3:C4))),\"\")","v":"غسالة ميديا 12 كيلو"}]
[{"$f":"IFERROR(INDEX(اقساط!$AT$3:$AT$8532,SMALL(IF(اقساط!$G$3:$G$8532=B5,ROW($AT$3:$AT$8532)-ROW($AT$3)+1),ROWS($A$3:A5))),\"\")","v":0},{"$f":"IFERROR(INDEX(Names,SMALL(IF(Names<>\"\",IF(MID(Names,1,LEN($B$1))=$B$1,ROW(Names)-ROW($G$3)+1)),ROWS($A$1:A3))),\"\")","v":""},{"$f":"IFERROR(INDEX(اقساط!$B$3:$B$2000,SMALL(IF(اقساط!$G$3:$G$2000=B5,ROW($B$3:$B$2000)-ROW($B$3)+1),ROWS($C$3:C5))),\"\")","v":0}]
[{"$f":"IFERROR(INDEX(اقساط!$AT$3:$AT$8532,SMALL(IF(اقساط!$G$3:$G$8532=B6,ROW($AT$3:$AT$8532)-ROW($AT$3)+1),ROWS($A$3:A6))),\"\")","v":0},{"$f":"IFERROR(INDEX(Names,SMALL(IF(Names<>\"\",IF(MID(Names,1,LEN($B$1))=$B$1,ROW(Names)-ROW($G$3)+1)),ROWS($A$1:A4))),\"\")","v":""},{"$f":"IFERROR(INDEX(اقساط!$B$3:$B$2000,SMALL(IF(اقساط!$G$3:$G$2000=B6,ROW($B$3:$B$2000)-ROW($B$3)+1),ROWS($C$3:C6))),\"\")","v":0}]
[{"$f":"IFERROR(INDEX(اقساط!$AT$3:$AT$8532,SMALL(IF(اقساط!$G$3:$G$8532=B7,ROW($AT$3:$AT$8532)-ROW($AT$3)+1),ROWS($A$3:A7))),\"\")","v":0},{"$f":"IFERROR(INDEX(Names,SMALL(IF(Names<>\"\",IF(MID(Names,1,LEN($B$1))=$B$1,ROW(Names)-ROW($G$3)+1)),ROWS($A$1:A5))),\"\")","v":""},{"$f":"IFERROR(INDEX(اقساط!$B$3:$B$2000,SMALL(IF(اقساط!$G$3:$G$2000=B7,ROW($B$3:$B$2000)-ROW($B$3)+1),ROWS($C$3:C7))),\"\")","v":0}]
[{"$f":"IFERROR(INDEX(اقساط!$AT$3:$AT$8532,SMALL(IF(اقساط!$G$3:$G$8532=B8,ROW($AT$3:$AT$8532)-ROW($AT$3)+1),ROWS($A$3:A8))),\"\")","v":0},{"$f":"IFERROR(INDEX(Names,SMALL(IF(Names<>\"\",IF(MID(Names,1,LEN($B$1))=$B$1,ROW(Names)-ROW($G$3)+1)),ROWS($A$1:A6))),\"\")","v":""},{"$f":"IFERROR(INDEX(اقساط!$B$3:$B$2000,SMALL(IF(اقساط!$G$3:$G$2000=B8,ROW($B$3:$B$2000)-ROW($B$3)+1),ROWS($C$3:C8))),\"\")","v":0}]
[{"$f":"IFERROR(INDEX(اقساط!$AT$3:$AT$8532,SMALL(IF(اقساط!$G$3:$G$8532=B9,ROW($AT$3:$AT$8532)-ROW($AT$3)+1),ROWS($A$3:A9))),\"\")","v":0},{"$f":"IFERROR(INDEX(Names,SMALL(IF(Names<>\"\",IF(MID(Names,1,LEN($B$1))=$B$1,ROW(Names)-ROW($G$3)+1)),ROWS($A$1:A7))),\"\")","v":""},{"$f":"IFERROR(INDEX(اقساط!$B$3:$B$2000,SMALL(IF(اقساط!$G$3:$G$2000=B9,ROW($B$3:$B$2000)-ROW($B$3)+1),ROWS($C$3:C9))),\"\")","v":0}]
[{"$f":"IFERROR(INDEX(اقساط!$AT$3:$AT$8532,SMALL(IF(اقساط!$G$3:$G$8532=B10,ROW($AT$3:$AT$8532)-ROW($AT$3)+1),ROWS($A$3:A10))),\"\")","v":0},{"$f":"IFERROR(INDEX(Names,SMALL(IF(Names<>\"\",IF(MID(Names,1,LEN($B$1))=$B$1,ROW(Names)-ROW($G$3)+1)),ROWS($A$1:A8))),\"\")","v":""},{"$f":"IFERROR(INDEX(اقساط!$B$3:$B$2000,SMALL(IF(اقساط!$G$3:$G$2000=B10,ROW($B$3:$B$2000)-ROW($B$3)+1),ROWS($C$3:C10))),\"\")","v":0}]
[{"$f":"IFERROR(INDEX(اقساط!$AT$3:$AT$8532,SMALL(IF(اقساط!$G$3:$G$8532=B11,ROW($AT$3:$AT$8532)-ROW($AT$3)+1),ROWS($A$3:A11))),\"\")","v":0},{"$f":"IFERROR(INDEX(Names,SMALL(IF(Names<>\"\",IF(MID(Names,1,LEN($B$1))=$B$1,ROW(Names)-ROW($G$3)+1)),ROWS($A$1:A9))),\"\")","v":""},{"$f":"IFERROR(INDEX(اقساط!$B$3:$B$2000,SMALL(IF(اقساط!$G$3:$G$2000=B11,ROW($B$3:$B$2000)-ROW($B$3)+1),ROWS($C$3:C11))),\"\")","v":0}]
[{"$f":"IFERROR(INDEX(اقساط!$AT$3:$AT$8532,SMALL(IF(اقساط!$G$3:$G$8532=B12,ROW($AT$3:$AT$8532)-ROW($AT$3)+1),ROWS($A$3:A12))),\"\")","v":0},{"$f":"IFERROR(INDEX(Names,SMALL(IF(Names<>\"\",IF(MID(Names,1,LEN($B$1))=$B$1,ROW(Names)-ROW($G$3)+1)),ROWS($A$1:A10))),\"\")","v":""},{"$f":"IFERROR(INDEX(اقساط!$B$3:$B$2000,SMALL(IF(اقساط!$G$3:$G$2000=B12,ROW($B$3:$B$2000)-ROW($B$3)+1),ROWS($C$3:C12))),\"\")","v":0}]
[{"$f":"IFERROR(INDEX(اقساط!$AT$3:$AT$8532,SMALL(IF(اقساط!$G$3:$G$8532=B13,ROW($AT$3:$AT$8532)-ROW($AT$3)+1),ROWS($A$3:A13))),\"\")","v":0},{"$f":"IFERROR(INDEX(Names,SMALL(IF(Names<>\"\",IF(MID(Names,1,LEN($B$1))=$B$1,ROW(Names)-ROW($G$3)+1)),ROWS($A$1:A11))),\"\")","v":""},{"$f":"IFERROR(INDEX(اقساط!$B$3:$B$2000,SMALL(IF(اقساط!$G$3:$G$2000=B13,ROW($B$3:$B$2000)-ROW($B$3)+1),ROWS($C$3:C13))),\"\")","v":0}]
[{"$f":"IFERROR(INDEX(اقساط!$AT$3:$AT$8532,SMALL(IF(اقساط!$G$3:$G$8532=B14,ROW($AT$3:$AT$8532)-ROW($AT$3)+1),ROWS($A$3:A14))),\"\")","v":0},{"$f":"IFERROR(INDEX(Names,SMALL(IF(Names<>\"\",IF(MID(Names,1,LEN($B$1))=$B$1,ROW(Names)-ROW($G$3)+1)),ROWS($A$1:A12))),\"\")","v":""},{"$f":"IFERROR(INDEX(اقساط!$B$3:$B$2000,SMALL(IF(اقساط!$G$3:$G$2000=B14,ROW($B$3:$B$2000)-ROW($B$3)+1),ROWS($C$3:C14))),\"\")","v":0}]
[{"$f":"IFERROR(INDEX(اقساط!$AT$3:$AT$8532,SMALL(IF(اقساط!$G$3:$G$8532=B15,ROW($AT$3:$AT$8532)-ROW($AT$3)+1),ROWS($A$3:A15))),\"\")","v":0},{"$f":"IFERROR(INDEX(Names,SMALL(IF(Names<>\"\",IF(MID(Names,1,LEN($B$1))=$B$1,ROW(Names)-ROW($G$3)+1)),ROWS($A$1:A13))),\"\")","v":""},{"$f":"IFERROR(INDEX(اقساط!$B$3:$B$2000,SMALL(IF(اقساط!$G$3:$G$2000=B15,ROW($B$3:$B$2000)-ROW($B$3)+1),ROWS($C$3:C15))),\"\")","v":0}]
[{"$f":"IFERROR(INDEX(اقساط!$AT$3:$AT$8532,SMALL(IF(اقساط!$G$3:$G$8532=B16,ROW($AT$3:$AT$8532)-ROW($AT$3)+1),ROWS($A$3:A16))),\"\")","v":0},{"$f":"IFERROR(INDEX(Names,SMALL(IF(Names<>\"\",IF(MID(Names,1,LEN($B$1))=$B$1,ROW(Names)-ROW($G$3)+1)),ROWS($A$1:A14))),\"\")","v":""},{"$f":"IFERROR(INDEX(اقساط!$B$3:$B$2000,SMALL(IF(اقساط!$G$3:$G$2000=B16,ROW($B$3:$B$2000)-ROW($B$3)+1),ROWS($C$3:C16))),\"\")","v":0}]
[{"$f":"IFERROR(INDEX(اقساط!$AT$3:$AT$8532,SMALL(IF(اقساط!$G$3:$G$8532=B17,ROW($AT$3:$AT$8532)-ROW($AT$3)+1),ROWS($A$3:A17))),\"\")","v":0},{"$f":"IFERROR(INDEX(Names,SMALL(IF(Names<>\"\",IF(MID(Names,1,LEN($B$1))=$B$1,ROW(Names)-ROW($G$3)+1)),ROWS($A$1:A15))),\"\")","v":""},{"$f":"IFERROR(INDEX(اقساط!$B$3:$B$2000,SMALL(IF(اقساط!$G$3:$G$2000=B17,ROW($B$3:$B$2000)-ROW($B$3)+1),ROWS($C$3:C17))),\"\")","v":0}]
[{"$f":"IFERROR(INDEX(اقساط!$AT$3:$AT$8532,SMALL(IF(اقساط!$G$3:$G$8532=B18,ROW($AT$3:$AT$8532)-ROW($AT$3)+1),ROWS($A$3:A18))),\"\")","v":0},{"$f":"IFERROR(INDEX(Names,SMALL(IF(Names<>\"\",IF(MID(Names,1,LEN($B$1))=$B$1,ROW(Names)-ROW($G$3)+1)),ROWS($A$1:A16))),\"\")","v":""},{"$f":"IFERROR(INDEX(اقساط!$B$3:$B$2000,SMALL(IF(اقساط!$G$3:$G$2000=B18,ROW($B$3:$B$2000)-ROW($B$3)+1),ROWS($C$3:C18))),\"\")","v":0}]
[{"$f":"IFERROR(INDEX(اقساط!$AT$3:$AT$8532,SMALL(IF(اقساط!$G$3:$G$8532=B19,ROW($AT$3:$AT$8532)-ROW($AT$3)+1),ROWS($A$3:A19))),\"\")","v":0},{"$f":"IFERROR(INDEX(Names,SMALL(IF(Names<>\"\",IF(MID(Names,1,LEN($B$1))=$B$1,ROW(Names)-ROW($G$3)+1)),ROWS($A$1:A17))),\"\")","v":""},{"$f":"IFERROR(INDEX(اقساط!$B$3:$B$2000,SMALL(IF(اقساط!$G$3:$G$2000=B19,ROW($B$3:$B$2000)-ROW($B$3)+1),ROWS($C$3:C19))),\"\")","v":0}]
[{"$f":"IFERROR(INDEX(اقساط!$AT$3:$AT$8532,SMALL(IF(اقساط!$G$3:$G$8532=B20,ROW($AT$3:$AT$8532)-ROW($AT$3)+1),ROWS($A$3:A20))),\"\")","v":0},{"$f":"IFERROR(INDEX(Names,SMALL(IF(Names<>\"\",IF(MID(Names,1,LEN($B$1))=$B$1,ROW(Names)-ROW($G$3)+1)),ROWS($A$1:A18))),\"\")","v":""},{"$f":"IFERROR(INDEX(اقساط!$B$3:$B$2000,SMALL(IF(اقساط!$G$3:$G$2000=B20,ROW($B$3:$B$2000)-ROW($B$3)+1),ROWS($C$3:C20))),\"\")","v":0}]
[{"$f":"IFERROR(INDEX(اقساط!$AT$3:$AT$8532,SMALL(IF(اقساط!$G$3:$G$8532=B21,ROW($AT$3:$AT$8532)-ROW($AT$3)+1),ROWS($A$3:A21))),\"\")","v":0},{"$f":"IFERROR(INDEX(Names,SMALL(IF(Names<>\"\",IF(MID(Names,1,LEN($B$1))=$B$1,ROW(Names)-ROW($G$3)+1)),ROWS($A$1:A19))),\"\")","v":""},{"$f":"IFERROR(INDEX(اقساط!$B$3:$B$2000,SMALL(IF(اقساط!$G$3:$G$2000=B21,ROW($B$3:$B$2000)-ROW($B$3)+1),ROWS($C$3:C21))),\"\")","v":0}]
[{"$f":"IFERROR(INDEX(اقساط!$AT$3:$AT$8532,SMALL(IF(اقساط!$G$3:$G$8532=B22,ROW($AT$3:$AT$8532)-ROW($AT$3)+1),ROWS($A$3:A22))),\"\")","v":0},{"$f":"IFERROR(INDEX(Names,SMALL(IF(Names<>\"\",IF(MID(Names,1,LEN($B$1))=$B$1,ROW(Names)-ROW($G$3)+1)),ROWS($A$1:A20))),\"\")","v":""},{"$f":"IFERROR(INDEX(اقساط!$B$3:$B$2000,SMALL(IF(اقساط!$G$3:$G$2000=B22,ROW($B$3:$B$2000)-ROW($B$3)+1),ROWS($C$3:C22))),\"\")","v":0}]
[{"$f":"IFERROR(INDEX(اقساط!$AT$3:$AT$8532,SMALL(IF(اقساط!$G$3:$G$8532=B23,ROW($AT$3:$AT$8532)-ROW($AT$3)+1),ROWS($A$3:A23))),\"\")","v":0},{"$f":"IFERROR(INDEX(Names,SMALL(IF(Names<>\"\",IF(MID(Names,1,LEN($B$1))=$B$1,ROW(Names)-ROW($G$3)+1)),ROWS($A$1:A21))),\"\")","v":""},{"$f":"IFERROR(INDEX(اقساط!$B$3:$B$2000,SMALL(IF(اقساط!$G$3:$G$2000=B23,ROW($B$3:$B$2000)-ROW($B$3)+1),ROWS($C$3:C23))),\"\")","v":0}]
[{"$f":"IFERROR(INDEX(اقساط!$AT$3:$AT$8532,SMALL(IF(اقساط!$G$3:$G$8532=B24,ROW($AT$3:$AT$8532)-ROW($AT$3)+1),ROWS($A$3:A24))),\"\")","v":0},{"$f":"IFERROR(INDEX(Names,SMALL(IF(Names<>\"\",IF(MID(Names,1,LEN($B$1))=$B$1,ROW(Names)-ROW($G$3)+1)),ROWS($A$1:A22))),\"\")","v":""},{"$f":"IFERROR(INDEX(اقساط!$B$3:$B$2000,SMALL(IF(اقساط!$G$3:$G$2000=B24,ROW($B$3:$B$2000)-ROW($B$3)+1),ROWS($C$3:C24))),\"\")","v":0}]
[{"$f":"IFERROR(INDEX(اقساط!$AT$3:$AT$8532,SMALL(IF(اقساط!$G$3:$G$8532=B25,ROW($AT$3:$AT$8532)-ROW($AT$3)+1),ROWS($A$3:A25))),\"\")","v":0},{"$f":"IFERROR(INDEX(Names,SMALL(IF(Names<>\"\",IF(MID(Names,1,LEN($B$1))=$B$1,ROW(Names)-ROW($G$3)+1)),ROWS($A$1:A23))),\"\")","v":""},{"$f":"IFERROR(INDEX(اقساط!$B$3:$B$2000,SMALL(IF(اقساط!$G$3:$G$2000=B25,ROW($B$3:$B$2000)-ROW($B$3)+1),ROWS($C$3:C25))),\"\")","v":0}]
[{"$f":"IFERROR(INDEX(اقساط!$AT$3:$AT$8532,SMALL(IF(اقساط!$G$3:$G$8532=B26,ROW($AT$3:$AT$8532)-ROW($AT$3)+1),ROWS($A$3:A26))),\"\")","v":0},{"$f":"IFERROR(INDEX(Names,SMALL(IF(Names<>\"\",IF(MID(Names,1,LEN($B$1))=$B$1,ROW(Names)-ROW($G$3)+1)),ROWS($A$1:A24))),\"\")","v":""},{"$f":"IFERROR(INDEX(اقساط!$B$3:$B$2000,SMALL(IF(اقساط!$G$3:$G$2000=B26,ROW($B$3:$B$2000)-ROW($B$3)+1),ROWS($C$3:C26))),\"\")","v":0}]
[{"$f":"IFERROR(INDEX(اقساط!$AT$3:$AT$8532,SMALL(IF(اقساط!$G$3:$G$8532=B27,ROW($AT$3:$AT$8532)-ROW($AT$3)+1),ROWS($A$3:A27))),\"\")","v":0},{"$f":"IFERROR(INDEX(Names,SMALL(IF(Names<>\"\",IF(MID(Names,1,LEN($B$1))=$B$1,ROW(Names)-ROW($G$3)+1)),ROWS($A$1:A25))),\"\")","v":""},{"$f":"IFERROR(INDEX(اقساط!$B$3:$B$2000,SMALL(IF(اقساط!$G$3:$G$2000=B27,ROW($B$3:$B$2000)-ROW($B$3)+1),ROWS($C$3:C27))),\"\")","v":0}]
[{"$f":"IFERROR(INDEX(اقساط!$AT$3:$AT$8532,SMALL(IF(اقساط!$G$3:$G$8532=B28,ROW($AT$3:$AT$8532)-ROW($AT$3)+1),ROWS($A$3:A28))),\"\")","v":0},{"$f":"IFERROR(INDEX(Names,SMALL(IF(Names<>\"\",IF(MID(Names,1,LEN($B$1))=$B$1,ROW(Names)-ROW($G$3)+1)),ROWS($A$1:A26))),\"\")","v":""},{"$f":"IFERROR(INDEX(اقساط!$B$3:$B$2000,SMALL(IF(اقساط!$G$3:$G$2000=B28,ROW($B$3:$B$2000)-ROW($B$3)+1),ROWS($C$3:C28))),\"\")","v":0}]
[{"$f":"IFERROR(INDEX(اقساط!$AT$3:$AT$8532,SMALL(IF(اقساط!$G$3:$G$8532=B29,ROW($AT$3:$AT$8532)-ROW($AT$3)+1),ROWS($A$3:A29))),\"\")","v":0},{"$f":"IFERROR(INDEX(Names,SMALL(IF(Names<>\"\",IF(MID(Names,1,LEN($B$1))=$B$1,ROW(Names)-ROW($G$3)+1)),ROWS($A$1:A27))),\"\")","v":""},{"$f":"IFERROR(INDEX(اقساط!$B$3:$B$2000,SMALL(IF(اقساط!$G$3:$G$2000=B29,ROW($B$3:$B$2000)-ROW($B$3)+1),ROWS($C$3:C29))),\"\")","v":0}]
[{"$f":"IFERROR(INDEX(اقساط!$AT$3:$AT$8532,SMALL(IF(اقساط!$G$3:$G$8532=B30,ROW($AT$3:$AT$8532)-ROW($AT$3)+1),ROWS($A$3:A30))),\"\")","v":0},{"$f":"IFERROR(INDEX(Names,SMALL(IF(Names<>\"\",IF(MID(Names,1,LEN($B$1))=$B$1,ROW(Names)-ROW($G$3)+1)),ROWS($A$1:A28))),\"\")","v":""},{"$f":"IFERROR(INDEX(اقساط!$B$3:$B$2000,SMALL(IF(اقساط!$G$3:$G$2000=B30,ROW($B$3:$B$2000)-ROW($B$3)+1),ROWS($C$3:C30))),\"\")","v":0}]
[{"$f":"IFERROR(INDEX(اقساط!$AT$3:$AT$8532,SMALL(IF(اقساط!$G$3:$G$8532=B31,ROW($AT$3:$AT$8532)-ROW($AT$3)+1),ROWS($A$3:A31))),\"\")","v":0},{"$f":"IFERROR(INDEX(Names,SMALL(IF(Names<>\"\",IF(MID(Names,1,LEN($B$1))=$B$1,ROW(Names)-ROW($G$3)+1)),ROWS($A$1:A29))),\"\")","v":""},{"$f":"IFERROR(INDEX(اقساط!$B$3:$B$2000,SMALL(IF(اقساط!$G$3:$G$2000=B31,ROW($B$3:$B$2000)-ROW($B$3)+1),ROWS($C$3:C31))),\"\")","v":0}]
[{"$f":"IFERROR(INDEX(اقساط!$AT$3:$AT$8532,SMALL(IF(اقساط!$G$3:$G$8532=B32,ROW($AT$3:$AT$8532)-ROW($AT$3)+1),ROWS($A$3:A32))),\"\")","v":0},{"$f":"IFERROR(INDEX(Names,SMALL(IF(Names<>\"\",IF(MID(Names,1,LEN($B$1))=$B$1,ROW(Names)-ROW($G$3)+1)),ROWS($A$1:A30))),\"\")","v":""},{"$f":"IFERROR(INDEX(اقساط!$B$3:$B$2000,SMALL(IF(اقساط!$G$3:$G$2000=B32,ROW($B$3:$B$2000)-ROW($B$3)+1),ROWS($C$3:C32))),\"\")","v":0}]
[{"$f":"IFERROR(INDEX(اقساط!$AT$3:$AT$8532,SMALL(IF(اقساط!$G$3:$G$8532=B33,ROW($AT$3:$AT$8532)-ROW($AT$3)+1),ROWS($A$3:A33))),\"\")","v":0},{"$f":"IFERROR(INDEX(Names,SMALL(IF(Names<>\"\",IF(MID(Names,1,LEN($B$1))=$B$1,ROW(Names)-ROW($G$3)+1)),ROWS($A$1:A31))),\"\")","v":""},{"$f":"IFERROR(INDEX(اقساط!$B$3:$B$2000,SMALL(IF(اقساط!$G$3:$G$2000=B33,ROW($B$3:$B$2000)-ROW($B$3)+1),ROWS($C$3:C33))),\"\")","v":0}]
[{"$f":"IFERROR(INDEX(اقساط!$AT$3:$AT$8532,SMALL(IF(اقساط!$G$3:$G$8532=B34,ROW($AT$3:$AT$8532)-ROW($AT$3)+1),ROWS($A$3:A34))),\"\")","v":0},{"$f":"IFERROR(INDEX(Names,SMALL(IF(Names<>\"\",IF(MID(Names,1,LEN($B$1))=$B$1,ROW(Names)-ROW($G$3)+1)),ROWS($A$1:A32))),\"\")","v":""},{"$f":"IFERROR(INDEX(اقساط!$B$3:$B$2000,SMALL(IF(اقساط!$G$3:$G$2000=B34,ROW($B$3:$B$2000)-ROW($B$3)+1),ROWS($C$3:C34))),\"\")","v":0}]
[{"$f":"IFERROR(INDEX(اقساط!$AT$3:$AT$8532,SMALL(IF(اقساط!$G$3:$G$8532=B35,ROW($AT$3:$AT$8532)-ROW($AT$3)+1),ROWS($A$3:A35))),\"\")","v":0},{"$f":"IFERROR(INDEX(Names,SMALL(IF(Names<>\"\",IF(MID(Names,1,LEN($B$1))=$B$1,ROW(Names)-ROW($G$3)+1)),ROWS($A$1:A33))),\"\")","v":""},{"$f":"IFERROR(INDEX(اقساط!$B$3:$B$2000,SMALL(IF(اقساط!$G$3:$G$2000=B35,ROW($B$3:$B$2000)-ROW($B$3)+1),ROWS($C$3:C35))),\"\")","v":0}]
[{"$f":"IFERROR(INDEX(اقساط!$AT$3:$AT$8532,SMALL(IF(اقساط!$G$3:$G$8532=B36,ROW($AT$3:$AT$8532)-ROW($AT$3)+1),ROWS($A$3:A36))),\"\")","v":0},{"$f":"IFERROR(INDEX(Names,SMALL(IF(Names<>\"\",IF(MID(Names,1,LEN($B$1))=$B$1,ROW(Names)-ROW($G$3)+1)),ROWS($A$1:A34))),\"\")","v":""},{"$f":"IFERROR(INDEX(اقساط!$B$3:$B$2000,SMALL(IF(اقساط!$G$3:$G$2000=B36,ROW($B$3:$B$2000)-ROW($B$3)+1),ROWS($C$3:C36))),\"\")","v":0}]
[{"$f":"IFERROR(INDEX(اقساط!$AT$3:$AT$8532,SMALL(IF(اقساط!$G$3:$G$8532=B37,ROW($AT$3:$AT$8532)-ROW($AT$3)+1),ROWS($A$3:A37))),\"\")","v":0},{"$f":"IFERROR(INDEX(Names,SMALL(IF(Names<>\"\",IF(MID(Names,1,LEN($B$1))=$B$1,ROW(Names)-ROW($G$3)+1)),ROWS($A$1:A35))),\"\")","v":""},{"$f":"IFERROR(INDEX(اقساط!$B$3:$B$2000,SMALL(IF(اقساط!$G$3:$G$2000=B37,ROW($B$3:$B$2000)-ROW($B$3)+1),ROWS($C$3:C37))),\"\")","v":0}]
[{"$f":"IFERROR(INDEX(اقساط!$AT$3:$AT$8532,SMALL(IF(اقساط!$G$3:$G$8532=B38,ROW($AT$3:$AT$8532)-ROW($AT$3)+1),ROWS($A$3:A38))),\"\")","v":0},{"$f":"IFERROR(INDEX(Names,SMALL(IF(Names<>\"\",IF(MID(Names,1,LEN($B$1))=$B$1,ROW(Names)-ROW($G$3)+1)),ROWS($A$1:A36))),\"\")","v":""},{"$f":"IFERROR(INDEX(اقساط!$B$3:$B$2000,SMALL(IF(اقساط!$G$3:$G$2000=B38,ROW($B$3:$B$2000)-ROW($B$3)+1),ROWS($C$3:C38))),\"\")","v":0}]
[{"$f":"IFERROR(INDEX(اقساط!$AT$3:$AT$8532,SMALL(IF(اقساط!$G$3:$G$8532=B39,ROW($AT$3:$AT$8532)-ROW($AT$3)+1),ROWS($A$3:A39))),\"\")","v":0},{"$f":"IFERROR(INDEX(Names,SMALL(IF(Names<>\"\",IF(MID(Names,1,LEN($B$1))=$B$1,ROW(Names)-ROW($G$3)+1)),ROWS($A$1:A37))),\"\")","v":""},{"$f":"IFERROR(INDEX(اقساط!$B$3:$B$2000,SMALL(IF(اقساط!$G$3:$G$2000=B39,ROW($B$3:$B$2000)-ROW($B$3)+1),ROWS($C$3:C39))),\"\")","v":0}]
[{"$f":"IFERROR(INDEX(اقساط!$AT$3:$AT$8532,SMALL(IF(اقساط!$G$3:$G$8532=B40,ROW($AT$3:$AT$8532)-ROW($AT$3)+1),ROWS($A$3:A40))),\"\")","v":0},{"$f":"IFERROR(INDEX(Names,SMALL(IF(Names<>\"\",IF(MID(Names,1,LEN($B$1))=$B$1,ROW(Names)-ROW($G$3)+1)),ROWS($A$1:A38))),\"\")","v":""},{"$f":"IFERROR(INDEX(اقساط!$B$3:$B$2000,SMALL(IF(اقساط!$G$3:$G$2000=B40,ROW($B$3:$B$2000)-ROW($B$3)+1),ROWS($C$3:C40))),\"\")","v":0}]
[{"$f":"IFERROR(INDEX(اقساط!$AT$3:$AT$8532,SMALL(IF(اقساط!$G$3:$G$8532=B41,ROW($AT$3:$AT$8532)-ROW($AT$3)+1),ROWS($A$3:A41))),\"\")","v":0},{"$f":"IFERROR(INDEX(Names,SMALL(IF(Names<>\"\",IF(MID(Names,1,LEN($B$1))=$B$1,ROW(Names)-ROW($G$3)+1)),ROWS($A$1:A39))),\"\")","v":""},{"$f":"IFERROR(INDEX(اقساط!$B$3:$B$2000,SMALL(IF(اقساط!$G$3:$G$2000=B41,ROW($B$3:$B$2000)-ROW($B$3)+1),ROWS($C$3:C41))),\"\")","v":0}]
[{"$f":"IFERROR(INDEX(اقساط!$AT$3:$AT$8532,SMALL(IF(اقساط!$G$3:$G$8532=B42,ROW($AT$3:$AT$8532)-ROW($AT$3)+1),ROWS($A$3:A42))),\"\")","v":0},{"$f":"IFERROR(INDEX(Names,SMALL(IF(Names<>\"\",IF(MID(Names,1,LEN($B$1))=$B$1,ROW(Names)-ROW($G$3)+1)),ROWS($A$1:A40))),\"\")","v":""},{"$f":"IFERROR(INDEX(اقساط!$B$3:$B$2000,SMALL(IF(اقساط!$G$3:$G$2000=B42,ROW($B$3:$B$2000)-ROW($B$3)+1),ROWS($C$3:C42))),\"\")","v":0}]
[{"$f":"IFERROR(INDEX(اقساط!$AT$3:$AT$8532,SMALL(IF(اقساط!$G$3:$G$8532=B43,ROW($AT$3:$AT$8532)-ROW($AT$3)+1),ROWS($A$3:A43))),\"\")","v":0},{"$f":"IFERROR(INDEX(Names,SMALL(IF(Names<>\"\",IF(MID(Names,1,LEN($B$1))=$B$1,ROW(Names)-ROW($G$3)+1)),ROWS($A$1:A41))),\"\")","v":""},{"$f":"IFERROR(INDEX(اقساط!$B$3:$B$2000,SMALL(IF(اقساط!$G$3:$G$2000=B43,ROW($B$3:$B$2000)-ROW($B$3)+1),ROWS($C$3:C43))),\"\")","v":0}]
[{"$f":"IFERROR(INDEX(اقساط!$AT$3:$AT$8532,SMALL(IF(اقساط!$G$3:$G$8532=B44,ROW($AT$3:$AT$8532)-ROW($AT$3)+1),ROWS($A$3:A44))),\"\")","v":0},{"$f":"IFERROR(INDEX(Names,SMALL(IF(Names<>\"\",IF(MID(Names,1,LEN($B$1))=$B$1,ROW(Names)-ROW($G$3)+1)),ROWS($A$1:A42))),\"\")","v":""},{"$f":"IFERROR(INDEX(اقساط!$B$3:$B$2000,SMALL(IF(اقساط!$G$3:$G$2000=B44,ROW($B$3:$B$2000)-ROW($B$3)+1),ROWS($C$3:C44))),\"\")","v":0}]
[{"$f":"IFERROR(INDEX(اقساط!$AT$3:$AT$8532,SMALL(IF(اقساط!$G$3:$G$8532=B45,ROW($AT$3:$AT$8532)-ROW($AT$3)+1),ROWS($A$3:A45))),\"\")","v":0},{"$f":"IFERROR(INDEX(Names,SMALL(IF(Names<>\"\",IF(MID(Names,1,LEN($B$1))=$B$1,ROW(Names)-ROW($G$3)+1)),ROWS($A$1:A43))),\"\")","v":""},{"$f":"IFERROR(INDEX(اقساط!$B$3:$B$2000,SMALL(IF(اقساط!$G$3:$G$2000=B45,ROW($B$3:$B$2000)-ROW($B$3)+1),ROWS($C$3:C45))),\"\")","v":0}]
[{"$f":"IFERROR(INDEX(اقساط!$AT$3:$AT$8532,SMALL(IF(اقساط!$G$3:$G$8532=B46,ROW($AT$3:$AT$8532)-ROW($AT$3)+1),ROWS($A$3:A46))),\"\")","v":0},{"$f":"IFERROR(INDEX(Names,SMALL(IF(Names<>\"\",IF(MID(Names,1,LEN($B$1))=$B$1,ROW(Names)-ROW($G$3)+1)),ROWS($A$1:A44))),\"\")","v":""},{"$f":"IFERROR(INDEX(اقساط!$B$3:$B$2000,SMALL(IF(اقساط!$G$3:$G$2000=B46,ROW($B$3:$B$2000)-ROW($B$3)+1),ROWS($C$3:C46))),\"\")","v":0}]
[{"$f":"IFERROR(INDEX(اقساط!$AT$3:$AT$8532,SMALL(IF(اقساط!$G$3:$G$8532=B47,ROW($AT$3:$AT$8532)-ROW($AT$3)+1),ROWS($A$3:A47))),\"\")","v":0},{"$f":"IFERROR(INDEX(Names,SMALL(IF(Names<>\"\",IF(MID(Names,1,LEN($B$1))=$B$1,ROW(Names)-ROW($G$3)+1)),ROWS($A$1:A45))),\"\")","v":""},{"$f":"IFERROR(INDEX(اقساط!$B$3:$B$2000,SMALL(IF(اقساط!$G$3:$G$2000=B47,ROW($B$3:$B$2000)-ROW($B$3)+1),ROWS($C$3:C47))),\"\")","v":0}]
[{"$f":"IFERROR(INDEX(اقساط!$AT$3:$AT$8532,SMALL(IF(اقساط!$G$3:$G$8532=B48,ROW($AT$3:$AT$8532)-ROW($AT$3)+1),ROWS($A$3:A48))),\"\")","v":0},{"$f":"IFERROR(INDEX(Names,SMALL(IF(Names<>\"\",IF(MID(Names,1,LEN($B$1))=$B$1,ROW(Names)-ROW($G$3)+1)),ROWS($A$1:A46))),\"\")","v":""},{"$f":"IFERROR(INDEX(اقساط!$B$3:$B$2000,SMALL(IF(اقساط!$G$3:$G$2000=B48,ROW($B$3:$B$2000)-ROW($B$3)+1),ROWS($C$3:C48))),\"\")","v":0}]
[{"$f":"IFERROR(INDEX(اقساط!$AT$3:$AT$8532,SMALL(IF(اقساط!$G$3:$G$8532=B49,ROW($AT$3:$AT$8532)-ROW($AT$3)+1),ROWS($A$3:A49))),\"\")","v":0},{"$f":"IFERROR(INDEX(Names,SMALL(IF(Names<>\"\",IF(MID(Names,1,LEN($B$1))=$B$1,ROW(Names)-ROW($G$3)+1)),ROWS($A$1:A47))),\"\")","v":""},{"$f":"IFERROR(INDEX(اقساط!$B$3:$B$2000,SMALL(IF(اقساط!$G$3:$G$2000=B49,ROW($B$3:$B$2000)-ROW($B$3)+1),ROWS($C$3:C49))),\"\")","v":0}]
[{"$f":"IFERROR(INDEX(اقساط!$AT$3:$AT$8532,SMALL(IF(اقساط!$G$3:$G$8532=B50,ROW($AT$3:$AT$8532)-ROW($AT$3)+1),ROWS($A$3:A50))),\"\")","v":0},{"$f":"IFERROR(INDEX(Names,SMALL(IF(Names<>\"\",IF(MID(Names,1,LEN($B$1))=$B$1,ROW(Names)-ROW($G$3)+1)),ROWS($A$1:A48))),\"\")","v":""},{"$f":"IFERROR(INDEX(اقساط!$B$3:$B$2000,SMALL(IF(اقساط!$G$3:$G$2000=B50,ROW($B$3:$B$2000)-ROW($B$3)+1),ROWS($C$3:C50))),\"\")","v":0}]
[{"$f":"IFERROR(INDEX(اقساط!$AT$3:$AT$8532,SMALL(IF(اقساط!$G$3:$G$8532=B51,ROW($AT$3:$AT$8532)-ROW($AT$3)+1),ROWS($A$3:A51))),\"\")","v":0},{"$f":"IFERROR(INDEX(Names,SMALL(IF(Names<>\"\",IF(MID(Names,1,LEN($B$1))=$B$1,ROW(Names)-ROW($G$3)+1)),ROWS($A$1:A49))),\"\")","v":""},{"$f":"IFERROR(INDEX(اقساط!$B$3:$B$2000,SMALL(IF(اقساط!$G$3:$G$2000=B51,ROW($B$3:$B$2000)-ROW($B$3)+1),ROWS($C$3:C51))),\"\")","v":0}]
[{"$f":"IFERROR(INDEX(اقساط!$AT$3:$AT$8532,SMALL(IF(اقساط!$G$3:$G$8532=B52,ROW($AT$3:$AT$8532)-ROW($AT$3)+1),ROWS($A$3:A52))),\"\")","v":0},{"$f":"IFERROR(INDEX(Names,SMALL(IF(Names<>\"\",IF(MID(Names,1,LEN($B$1))=$B$1,ROW(Names)-ROW($G$3)+1)),ROWS($A$1:A50))),\"\")","v":""},{"$f":"IFERROR(INDEX(اقساط!$B$3:$B$2000,SMALL(IF(اقساط!$G$3:$G$2000=B52,ROW($B$3:$B$2000)-ROW($B$3)+1),ROWS($C$3:C52))),\"\")","v":0}]
[{"$f":"IFERROR(INDEX(اقساط!$AT$3:$AT$8532,SMALL(IF(اقساط!$G$3:$G$8532=B53,ROW($AT$3:$AT$8532)-ROW($AT$3)+1),ROWS($A$3:A53))),\"\")","v":0},{"$f":"IFERROR(INDEX(Names,SMALL(IF(Names<>\"\",IF(MID(Names,1,LEN($B$1))=$B$1,ROW(Names)-ROW($G$3)+1)),ROWS($A$1:A51))),\"\")","v":""},{"$f":"IFERROR(INDEX(اقساط!$B$3:$B$2000,SMALL(IF(اقساط!$G$3:$G$2000=B53,ROW($B$3:$B$2000)-ROW($B$3)+1),ROWS($C$3:C53))),\"\")","v":0}]
[{"$f":"IFERROR(INDEX(اقساط!$AT$3:$AT$8532,SMALL(IF(اقساط!$G$3:$G$8532=B54,ROW($AT$3:$AT$8532)-ROW($AT$3)+1),ROWS($A$3:A54))),\"\")","v":0},{"$f":"IFERROR(INDEX(Names,SMALL(IF(Names<>\"\",IF(MID(Names,1,LEN($B$1))=$B$1,ROW(Names)-ROW($G$3)+1)),ROWS($A$1:A52))),\"\")","v":""},{"$f":"IFERROR(INDEX(اقساط!$B$3:$B$2000,SMALL(IF(اقساط!$G$3:$G$2000=B54,ROW($B$3:$B$2000)-ROW($B$3)+1),ROWS($C$3:C54))),\"\")","v":0}]
[{"$f":"IFERROR(INDEX(اقساط!$AT$3:$AT$8532,SMALL(IF(اقساط!$G$3:$G$8532=B55,ROW($AT$3:$AT$8532)-ROW($AT$3)+1),ROWS($A$3:A55))),\"\")","v":0},{"$f":"IFERROR(INDEX(Names,SMALL(IF(Names<>\"\",IF(MID(Names,1,LEN($B$1))=$B$1,ROW(Names)-ROW($G$3)+1)),ROWS($A$1:A53))),\"\")","v":""},{"$f":"IFERROR(INDEX(اقساط!$B$3:$B$2000,SMALL(IF(اقساط!$G$3:$G$2000=B55,ROW($B$3:$B$2000)-ROW($B$3)+1),ROWS($C$3:C55))),\"\")","v":0}]
[{"$f":"IFERROR(INDEX(اقساط!$AT$3:$AT$8532,SMALL(IF(اقساط!$G$3:$G$8532=B56,ROW($AT$3:$AT$8532)-ROW($AT$3)+1),ROWS($A$3:A56))),\"\")","v":0},{"$f":"IFERROR(INDEX(Names,SMALL(IF(Names<>\"\",IF(MID(Names,1,LEN($B$1))=$B$1,ROW(Names)-ROW($G$3)+1)),ROWS($A$1:A54))),\"\")","v":""},{"$f":"IFERROR(INDEX(اقساط!$B$3:$B$2000,SMALL(IF(اقساط!$G$3:$G$2000=B56,ROW($B$3:$B$2000)-ROW($B$3)+1),ROWS($C$3:C56))),\"\")","v":0}]
[{"$f":"IFERROR(INDEX(اقساط!$AT$3:$AT$8532,SMALL(IF(اقساط!$G$3:$G$8532=B57,ROW($AT$3:$AT$8532)-ROW($AT$3)+1),ROWS($A$3:A57))),\"\")","v":0},{"$f":"IFERROR(INDEX(Names,SMALL(IF(Names<>\"\",IF(MID(Names,1,LEN($B$1))=$B$1,ROW(Names)-ROW($G$3)+1)),ROWS($A$1:A55))),\"\")","v":""},{"$f":"IFERROR(INDEX(اقساط!$B$3:$B$2000,SMALL(IF(اقساط!$G$3:$G$2000=B57,ROW($B$3:$B$2000)-ROW($B$3)+1),ROWS($C$3:C57))),\"\")","v":0}]
[{"$f":"IFERROR(INDEX(اقساط!$AT$3:$AT$8532,SMALL(IF(اقساط!$G$3:$G$8532=B58,ROW($AT$3:$AT$8532)-ROW($AT$3)+1),ROWS($A$3:A58))),\"\")","v":0},{"$f":"IFERROR(INDEX(Names,SMALL(IF(Names<>\"\",IF(MID(Names,1,LEN($B$1))=$B$1,ROW(Names)-ROW($G$3)+1)),ROWS($A$1:A56))),\"\")","v":""},{"$f":"IFERROR(INDEX(اقساط!$B$3:$B$2000,SMALL(IF(اقساط!$G$3:$G$2000=B58,ROW($B$3:$B$2000)-ROW($B$3)+1),ROWS($C$3:C58))),\"\")","v":0}]
[{"$f":"IFERROR(INDEX(اقساط!$AT$3:$AT$8532,SMALL(IF(اقساط!$G$3:$G$8532=B59,ROW($AT$3:$AT$8532)-ROW($AT$3)+1),ROWS($A$3:A59))),\"\")","v":0},{"$f":"IFERROR(INDEX(Names,SMALL(IF(Names<>\"\",IF(MID(Names,1,LEN($B$1))=$B$1,ROW(Names)-ROW($G$3)+1)),ROWS($A$1:A57))),\"\")","v":""},{"$f":"IFERROR(INDEX(اقساط!$B$3:$B$2000,SMALL(IF(اقساط!$G$3:$G$2000=B59,ROW($B$3:$B$2000)-ROW($B$3)+1),ROWS($C$3:C59))),\"\")","v":0}]
[{"$f":"IFERROR(INDEX(اقساط!$AT$3:$AT$8532,SMALL(IF(اقساط!$G$3:$G$8532=B60,ROW($AT$3:$AT$8532)-ROW($AT$3)+1),ROWS($A$3:A60))),\"\")","v":0},{"$f":"IFERROR(INDEX(Names,SMALL(IF(Names<>\"\",IF(MID(Names,1,LEN($B$1))=$B$1,ROW(Names)-ROW($G$3)+1)),ROWS($A$1:A58))),\"\")","v":""},{"$f":"IFERROR(INDEX(اقساط!$B$3:$B$2000,SMALL(IF(اقساط!$G$3:$G$2000=B60,ROW($B$3:$B$2000)-ROW($B$3)+1),ROWS($C$3:C60))),\"\")","v":0}]
[{"$f":"IFERROR(INDEX(اقساط!$AT$3:$AT$8532,SMALL(IF(اقساط!$G$3:$G$8532=B61,ROW($AT$3:$AT$8532)-ROW($AT$3)+1),ROWS($A$3:A61))),\"\")","v":0},{"$f":"IFERROR(INDEX(Names,SMALL(IF(Names<>\"\",IF(MID(Names,1,LEN($B$1))=$B$1,ROW(Names)-ROW($G$3)+1)),ROWS($A$1:A59))),\"\")","v":""},{"$f":"IFERROR(INDEX(اقساط!$B$3:$B$2000,SMALL(IF(اقساط!$G$3:$G$2000=B61,ROW($B$3:$B$2000)-ROW($B$3)+1),ROWS($C$3:C61))),\"\")","v":0}]
[{"$f":"IFERROR(INDEX(اقساط!$AT$3:$AT$8532,SMALL(IF(اقساط!$G$3:$G$8532=B62,ROW($AT$3:$AT$8532)-ROW($AT$3)+1),ROWS($A$3:A62))),\"\")","v":0},{"$f":"IFERROR(INDEX(Names,SMALL(IF(Names<>\"\",IF(MID(Names,1,LEN($B$1))=$B$1,ROW(Names)-ROW($G$3)+1)),ROWS($A$1:A60))),\"\")","v":""},{"$f":"IFERROR(INDEX(اقساط!$B$3:$B$2000,SMALL(IF(اقساط!$G$3:$G$2000=B62,ROW($B$3:$B$2000)-ROW($B$3)+1),ROWS($C$3:C62))),\"\")","v":0}]
[{"$f":"IFERROR(INDEX(اقساط!$AT$3:$AT$8532,SMALL(IF(اقساط!$G$3:$G$8532=B63,ROW($AT$3:$AT$8532)-ROW($AT$3)+1),ROWS($A$3:A63))),\"\")","v":0},{"$f":"IFERROR(INDEX(Names,SMALL(IF(Names<>\"\",IF(MID(Names,1,LEN($B$1))=$B$1,ROW(Names)-ROW($G$3)+1)),ROWS($A$1:A61))),\"\")","v":""},{"$f":"IFERROR(INDEX(اقساط!$B$3:$B$2000,SMALL(IF(اقساط!$G$3:$G$2000=B63,ROW($B$3:$B$2000)-ROW($B$3)+1),ROWS($C$3:C63))),\"\")","v":0}]
[{"$f":"IFERROR(INDEX(اقساط!$AT$3:$AT$8532,SMALL(IF(اقساط!$G$3:$G$8532=B64,ROW($AT$3:$AT$8532)-ROW($AT$3)+1),ROWS($A$3:A64))),\"\")","v":0},{"$f":"IFERROR(INDEX(Names,SMALL(IF(Names<>\"\",IF(MID(Names,1,LEN($B$1))=$B$1,ROW(Names)-ROW($G$3)+1)),ROWS($A$1:A62))),\"\")","v":""},{"$f":"IFERROR(INDEX(اقساط!$B$3:$B$2000,SMALL(IF(اقساط!$G$3:$G$2000=B64,ROW($B$3:$B$2000)-ROW($B$3)+1),ROWS($C$3:C64))),\"\")","v":0}]
[{"$f":"IFERROR(INDEX(اقساط!$AT$3:$AT$8532,SMALL(IF(اقساط!$G$3:$G$8532=B65,ROW($AT$3:$AT$8532)-ROW($AT$3)+1),ROWS($A$3:A65))),\"\")","v":0},{"$f":"IFERROR(INDEX(Names,SMALL(IF(Names<>\"\",IF(MID(Names,1,LEN($B$1))=$B$1,ROW(Names)-ROW($G$3)+1)),ROWS($A$1:A63))),\"\")","v":""},{"$f":"IFERROR(INDEX(اقساط!$B$3:$B$2000,SMALL(IF(اقساط!$G$3:$G$2000=B65,ROW($B$3:$B$2000)-ROW($B$3)+1),ROWS($C$3:C65))),\"\")","v":0}]
[{"$f":"IFERROR(INDEX(اقساط!$AT$3:$AT$8532,SMALL(IF(اقساط!$G$3:$G$8532=B66,ROW($AT$3:$AT$8532)-ROW($AT$3)+1),ROWS($A$3:A66))),\"\")","v":0},{"$f":"IFERROR(INDEX(Names,SMALL(IF(Names<>\"\",IF(MID(Names,1,LEN($B$1))=$B$1,ROW(Names)-ROW($G$3)+1)),ROWS($A$1:A64))),\"\")","v":""},{"$f":"IFERROR(INDEX(اقساط!$B$3:$B$2000,SMALL(IF(اقساط!$G$3:$G$2000=B66,ROW($B$3:$B$2000)-ROW($B$3)+1),ROWS($C$3:C66))),\"\")","v":0}]
[{"$f":"IFERROR(INDEX(اقساط!$AT$3:$AT$8532,SMALL(IF(اقساط!$G$3:$G$8532=B67,ROW($AT$3:$AT$8532)-ROW($AT$3)+1),ROWS($A$3:A67))),\"\")","v":0},{"$f":"IFERROR(INDEX(Names,SMALL(IF(Names<>\"\",IF(MID(Names,1,LEN($B$1))=$B$1,ROW(Names)-ROW($G$3)+1)),ROWS($A$1:A65))),\"\")","v":""},{"$f":"IFERROR(INDEX(اقساط!$B$3:$B$2000,SMALL(IF(اقساط!$G$3:$G$2000=B67,ROW($B$3:$B$2000)-ROW($B$3)+1),ROWS($C$3:C67))),\"\")","v":0}]
[{"$f":"IFERROR(INDEX(اقساط!$AT$3:$AT$8532,SMALL(IF(اقساط!$G$3:$G$8532=B68,ROW($AT$3:$AT$8532)-ROW($AT$3)+1),ROWS($A$3:A68))),\"\")","v":0},{"$f":"IFERROR(INDEX(Names,SMALL(IF(Names<>\"\",IF(MID(Names,1,LEN($B$1))=$B$1,ROW(Names)-ROW($G$3)+1)),ROWS($A$1:A66))),\"\")","v":""},{"$f":"IFERROR(INDEX(اقساط!$B$3:$B$2000,SMALL(IF(اقساط!$G$3:$G$2000=B68,ROW($B$3:$B$2000)-ROW($B$3)+1),ROWS($C$3:C68))),\"\")","v":0}]
[{"$f":"IFERROR(INDEX(اقساط!$AT$3:$AT$8532,SMALL(IF(اقساط!$G$3:$G$8532=B69,ROW($AT$3:$AT$8532)-ROW($AT$3)+1),ROWS($A$3:A69))),\"\")","v":0},{"$f":"IFERROR(INDEX(Names,SMALL(IF(Names<>\"\",IF(MID(Names,1,LEN($B$1))=$B$1,ROW(Names)-ROW($G$3)+1)),ROWS($A$1:A67))),\"\")","v":""},{"$f":"IFERROR(INDEX(اقساط!$B$3:$B$2000,SMALL(IF(اقساط!$G$3:$G$2000=B69,ROW($B$3:$B$2000)-ROW($B$3)+1),ROWS($C$3:C69))),\"\")","v":0}]
[{"$f":"IFERROR(INDEX(اقساط!$AT$3:$AT$8532,SMALL(IF(اقساط!$G$3:$G$8532=B70,ROW($AT$3:$AT$8532)-ROW($AT$3)+1),ROWS($A$3:A70))),\"\")","v":0},{"$f":"IFERROR(INDEX(Names,SMALL(IF(Names<>\"\",IF(MID(Names,1,LEN($B$1))=$B$1,ROW(Names)-ROW($G$3)+1)),ROWS($A$1:A68))),\"\")","v":""},{"$f":"IFERROR(INDEX(اقساط!$B$3:$B$2000,SMALL(IF(اقساط!$G$3:$G$2000=B70,ROW($B$3:$B$2000)-ROW($B$3)+1),ROWS($C$3:C70))),\"\")","v":0}]
[{"$f":"IFERROR(INDEX(اقساط!$AT$3:$AT$8532,SMALL(IF(اقساط!$G$3:$G$8532=B71,ROW($AT$3:$AT$8532)-ROW($AT$3)+1),ROWS($A$3:A71))),\"\")","v":0},{"$f":"IFERROR(INDEX(Names,SMALL(IF(Names<>\"\",IF(MID(Names,1,LEN($B$1))=$B$1,ROW(Names)-ROW($G$3)+1)),ROWS($A$1:A69))),\"\")","v":""},{"$f":"IFERROR(INDEX(اقساط!$B$3:$B$2000,SMALL(IF(اقساط!$G$3:$G$2000=B71,ROW($B$3:$B$2000)-ROW($B$3)+1),ROWS($C$3:C71))),\"\")","v":0}]
[{"$f":"IFERROR(INDEX(اقساط!$AT$3:$AT$8532,SMALL(IF(اقساط!$G$3:$G$8532=B72,ROW($AT$3:$AT$8532)-ROW($AT$3)+1),ROWS($A$3:A72))),\"\")","v":0},{"$f":"IFERROR(INDEX(Names,SMALL(IF(Names<>\"\",IF(MID(Names,1,LEN($B$1))=$B$1,ROW(Names)-ROW($G$3)+1)),ROWS($A$1:A70))),\"\")","v":""},{"$f":"IFERROR(INDEX(اقساط!$B$3:$B$2000,SMALL(IF(اقساط!$G$3:$G$2000=B72,ROW($B$3:$B$2000)-ROW($B$3)+1),ROWS($C$3:C72))),\"\")","v":0}]
[{"$f":"IFERROR(INDEX(اقساط!$AT$3:$AT$8532,SMALL(IF(اقساط!$G$3:$G$8532=B73,ROW($AT$3:$AT$8532)-ROW($AT$3)+1),ROWS($A$3:A73))),\"\")","v":0},{"$f":"IFERROR(INDEX(Names,SMALL(IF(Names<>\"\",IF(MID(Names,1,LEN($B$1))=$B$1,ROW(Names)-ROW($G$3)+1)),ROWS($A$1:A71))),\"\")","v":""},{"$f":"IFERROR(INDEX(اقساط!$B$3:$B$2000,SMALL(IF(اقساط!$G$3:$G$2000=B73,ROW($B$3:$B$2000)-ROW($B$3)+1),ROWS($C$3:C73))),\"\")","v":0}]
[{"$f":"IFERROR(INDEX(اقساط!$AT$3:$AT$8532,SMALL(IF(اقساط!$G$3:$G$8532=B74,ROW($AT$3:$AT$8532)-ROW($AT$3)+1),ROWS($A$3:A74))),\"\")","v":0},{"$f":"IFERROR(INDEX(Names,SMALL(IF(Names<>\"\",IF(MID(Names,1,LEN($B$1))=$B$1,ROW(Names)-ROW($G$3)+1)),ROWS($A$1:A72))),\"\")","v":""},{"$f":"IFERROR(INDEX(اقساط!$B$3:$B$2000,SMALL(IF(اقساط!$G$3:$G$2000=B74,ROW($B$3:$B$2000)-ROW($B$3)+1),ROWS($C$3:C74))),\"\")","v":0}]
[{"$f":"IFERROR(INDEX(اقساط!$AT$3:$AT$8532,SMALL(IF(اقساط!$G$3:$G$8532=B75,ROW($AT$3:$AT$8532)-ROW($AT$3)+1),ROWS($A$3:A75))),\"\")","v":0},{"$f":"IFERROR(INDEX(Names,SMALL(IF(Names<>\"\",IF(MID(Names,1,LEN($B$1))=$B$1,ROW(Names)-ROW($G$3)+1)),ROWS($A$1:A73))),\"\")","v":""},{"$f":"IFERROR(INDEX(اقساط!$B$3:$B$2000,SMALL(IF(اقساط!$G$3:$G$2000=B75,ROW($B$3:$B$2000)-ROW($B$3)+1),ROWS($C$3:C75))),\"\")","v":0}]
[{"$f":"IFERROR(INDEX(اقساط!$AT$3:$AT$8532,SMALL(IF(اقساط!$G$3:$G$8532=B76,ROW($AT$3:$AT$8532)-ROW($AT$3)+1),ROWS($A$3:A76))),\"\")","v":0},{"$f":"IFERROR(INDEX(Names,SMALL(IF(Names<>\"\",IF(MID(Names,1,LEN($B$1))=$B$1,ROW(Names)-ROW($G$3)+1)),ROWS($A$1:A74))),\"\")","v":""},{"$f":"IFERROR(INDEX(اقساط!$B$3:$B$2000,SMALL(IF(اقساط!$G$3:$G$2000=B76,ROW($B$3:$B$2000)-ROW($B$3)+1),ROWS($C$3:C76))),\"\")","v":0}]
[{"$f":"IFERROR(INDEX(اقساط!$AT$3:$AT$8532,SMALL(IF(اقساط!$G$3:$G$8532=B77,ROW($AT$3:$AT$8532)-ROW($AT$3)+1),ROWS($A$3:A77))),\"\")","v":0},{"$f":"IFERROR(INDEX(Names,SMALL(IF(Names<>\"\",IF(MID(Names,1,LEN($B$1))=$B$1,ROW(Names)-ROW($G$3)+1)),ROWS($A$1:A75))),\"\")","v":""},{"$f":"IFERROR(INDEX(اقساط!$B$3:$B$2000,SMALL(IF(اقساط!$G$3:$G$2000=B77,ROW($B$3:$B$2000)-ROW($B$3)+1),ROWS($C$3:C77))),\"\")","v":0}]
[{"$f":"IFERROR(INDEX(اقساط!$AT$3:$AT$8532,SMALL(IF(اقساط!$G$3:$G$8532=B78,ROW($AT$3:$AT$8532)-ROW($AT$3)+1),ROWS($A$3:A78))),\"\")","v":0},{"$f":"IFERROR(INDEX(Names,SMALL(IF(Names<>\"\",IF(MID(Names,1,LEN($B$1))=$B$1,ROW(Names)-ROW($G$3)+1)),ROWS($A$1:A76))),\"\")","v":""},{"$f":"IFERROR(INDEX(اقساط!$B$3:$B$2000,SMALL(IF(اقساط!$G$3:$G$2000=B78,ROW($B$3:$B$2000)-ROW($B$3)+1),ROWS($C$3:C78))),\"\")","v":0}]
[{"$f":"IFERROR(INDEX(اقساط!$AT$3:$AT$8532,SMALL(IF(اقساط!$G$3:$G$8532=B79,ROW($AT$3:$AT$8532)-ROW($AT$3)+1),ROWS($A$3:A79))),\"\")","v":0},{"$f":"IFERROR(INDEX(Names,SMALL(IF(Names<>\"\",IF(MID(Names,1,LEN($B$1))=$B$1,ROW(Names)-ROW($G$3)+1)),ROWS($A$1:A77))),\"\")","v":""},{"$f":"IFERROR(INDEX(اقساط!$B$3:$B$2000,SMALL(IF(اقساط!$G$3:$G$2000=B79,ROW($B$3:$B$2000)-ROW($B$3)+1),ROWS($C$3:C79))),\"\")","v":0}]
[{"$f":"IFERROR(INDEX(اقساط!$AT$3:$AT$8532,SMALL(IF(اقساط!$G$3:$G$8532=B80,ROW($AT$3:$AT$8532)-ROW($AT$3)+1),ROWS($A$3:A80))),\"\")","v":0},{"$f":"IFERROR(INDEX(Names,SMALL(IF(Names<>\"\",IF(MID(Names,1,LEN($B$1))=$B$1,ROW(Names)-ROW($G$3)+1)),ROWS($A$1:A78))),\"\")","v":""},{"$f":"IFERROR(INDEX(اقساط!$B$3:$B$2000,SMALL(IF(اقساط!$G$3:$G$2000=B80,ROW($B$3:$B$2000)-ROW($B$3)+1),ROWS($C$3:C80))),\"\")","v":0}]
[{"$f":"IFERROR(INDEX(اقساط!$AT$3:$AT$8532,SMALL(IF(اقساط!$G$3:$G$8532=B81,ROW($AT$3:$AT$8532)-ROW($AT$3)+1),ROWS($A$3:A81))),\"\")","v":0},{"$f":"IFERROR(INDEX(Names,SMALL(IF(Names<>\"\",IF(MID(Names,1,LEN($B$1))=$B$1,ROW(Names)-ROW($G$3)+1)),ROWS($A$1:A79))),\"\")","v":""},{"$f":"IFERROR(INDEX(اقساط!$B$3:$B$2000,SMALL(IF(اقساط!$G$3:$G$2000=B81,ROW($B$3:$B$2000)-ROW($B$3)+1),ROWS($C$3:C81))),\"\")","v":0}]
[{"$f":"IFERROR(INDEX(اقساط!$AT$3:$AT$8532,SMALL(IF(اقساط!$G$3:$G$8532=B82,ROW($AT$3:$AT$8532)-ROW($AT$3)+1),ROWS($A$3:A82))),\"\")","v":0},{"$f":"IFERROR(INDEX(Names,SMALL(IF(Names<>\"\",IF(MID(Names,1,LEN($B$1))=$B$1,ROW(Names)-ROW($G$3)+1)),ROWS($A$1:A80))),\"\")","v":""},{"$f":"IFERROR(INDEX(اقساط!$B$3:$B$2000,SMALL(IF(اقساط!$G$3:$G$2000=B82,ROW($B$3:$B$2000)-ROW($B$3)+1),ROWS($C$3:C82))),\"\")","v":0}]
[{"$f":"IFERROR(INDEX(اقساط!$AT$3:$AT$8532,SMALL(IF(اقساط!$G$3:$G$8532=B83,ROW($AT$3:$AT$8532)-ROW($AT$3)+1),ROWS($A$3:A83))),\"\")","v":0},{"$f":"IFERROR(INDEX(Names,SMALL(IF(Names<>\"\",IF(MID(Names,1,LEN($B$1))=$B$1,ROW(Names)-ROW($G$3)+1)),ROWS($A$1:A81))),\"\")","v":""},{"$f":"IFERROR(INDEX(اقساط!$B$3:$B$2000,SMALL(IF(اقساط!$G$3:$G$2000=B83,ROW($B$3:$B$2000)-ROW($B$3)+1),ROWS($C$3:C83))),\"\")","v":0}]
[{"$f":"IFERROR(INDEX(اقساط!$AT$3:$AT$8532,SMALL(IF(اقساط!$G$3:$G$8532=B84,ROW($AT$3:$AT$8532)-ROW($AT$3)+1),ROWS($A$3:A84))),\"\")","v":0},{"$f":"IFERROR(INDEX(Names,SMALL(IF(Names<>\"\",IF(MID(Names,1,LEN($B$1))=$B$1,ROW(Names)-ROW($G$3)+1)),ROWS($A$1:A82))),\"\")","v":""},{"$f":"IFERROR(INDEX(اقساط!$B$3:$B$2000,SMALL(IF(اقساط!$G$3:$G$2000=B84,ROW($B$3:$B$2000)-ROW($B$3)+1),ROWS($C$3:C84))),\"\")","v":0}]
[{"$f":"IFERROR(INDEX(اقساط!$AT$3:$AT$8532,SMALL(IF(اقساط!$G$3:$G$8532=B85,ROW($AT$3:$AT$8532)-ROW($AT$3)+1),ROWS($A$3:A85))),\"\")","v":0},{"$f":"IFERROR(INDEX(Names,SMALL(IF(Names<>\"\",IF(MID(Names,1,LEN($B$1))=$B$1,ROW(Names)-ROW($G$3)+1)),ROWS($A$1:A83))),\"\")","v":""},{"$f":"IFERROR(INDEX(اقساط!$B$3:$B$2000,SMALL(IF(اقساط!$G$3:$G$2000=B85,ROW($B$3:$B$2000)-ROW($B$3)+1),ROWS($C$3:C85))),\"\")","v":0}]
[{"$f":"IFERROR(INDEX(اقساط!$AT$3:$AT$8532,SMALL(IF(اقساط!$G$3:$G$8532=B86,ROW($AT$3:$AT$8532)-ROW($AT$3)+1),ROWS($A$3:A86))),\"\")","v":0},{"$f":"IFERROR(INDEX(Names,SMALL(IF(Names<>\"\",IF(MID(Names,1,LEN($B$1))=$B$1,ROW(Names)-ROW($G$3)+1)),ROWS($A$1:A84))),\"\")","v":""},{"$f":"IFERROR(INDEX(اقساط!$B$3:$B$2000,SMALL(IF(اقساط!$G$3:$G$2000=B86,ROW($B$3:$B$2000)-ROW($B$3)+1),ROWS($C$3:C86))),\"\")","v":0}]
[{"$f":"IFERROR(INDEX(اقساط!$AT$3:$AT$8532,SMALL(IF(اقساط!$G$3:$G$8532=B87,ROW($AT$3:$AT$8532)-ROW($AT$3)+1),ROWS($A$3:A87))),\"\")","v":0},{"$f":"IFERROR(INDEX(Names,SMALL(IF(Names<>\"\",IF(MID(Names,1,LEN($B$1))=$B$1,ROW(Names)-ROW($G$3)+1)),ROWS($A$1:A85))),\"\")","v":""},{"$f":"IFERROR(INDEX(اقساط!$B$3:$B$2000,SMALL(IF(اقساط!$G$3:$G$2000=B87,ROW($B$3:$B$2000)-ROW($B$3)+1),ROWS($C$3:C87))),\"\")","v":0}]
[{"$f":"IFERROR(INDEX(اقساط!$AT$3:$AT$8532,SMALL(IF(اقساط!$G$3:$G$8532=B88,ROW($AT$3:$AT$8532)-ROW($AT$3)+1),ROWS($A$3:A88))),\"\")","v":0},{"$f":"IFERROR(INDEX(Names,SMALL(IF(Names<>\"\",IF(MID(Names,1,LEN($B$1))=$B$1,ROW(Names)-ROW($G$3)+1)),ROWS($A$1:A86))),\"\")","v":""},{"$f":"IFERROR(INDEX(اقساط!$B$3:$B$2000,SMALL(IF(اقساط!$G$3:$G$2000=B88,ROW($B$3:$B$2000)-ROW($B$3)+1),ROWS($C$3:C88))),\"\")","v":0}]
[{"$f":"IFERROR(INDEX(اقساط!$AT$3:$AT$8532,SMALL(IF(اقساط!$G$3:$G$8532=B89,ROW($AT$3:$AT$8532)-ROW($AT$3)+1),ROWS($A$3:A89))),\"\")","v":0},{"$f":"IFERROR(INDEX(Names,SMALL(IF(Names<>\"\",IF(MID(Names,1,LEN($B$1))=$B$1,ROW(Names)-ROW($G$3)+1)),ROWS($A$1:A87))),\"\")","v":""},{"$f":"IFERROR(INDEX(اقساط!$B$3:$B$2000,SMALL(IF(اقساط!$G$3:$G$2000=B89,ROW($B$3:$B$2000)-ROW($B$3)+1),ROWS($C$3:C89))),\"\")","v":0}]
[{"$f":"IFERROR(INDEX(اقساط!$AT$3:$AT$8532,SMALL(IF(اقساط!$G$3:$G$8532=B90,ROW($AT$3:$AT$8532)-ROW($AT$3)+1),ROWS($A$3:A90))),\"\")","v":0},{"$f":"IFERROR(INDEX(Names,SMALL(IF(Names<>\"\",IF(MID(Names,1,LEN($B$1))=$B$1,ROW(Names)-ROW($G$3)+1)),ROWS($A$1:A88))),\"\")","v":""},{"$f":"IFERROR(INDEX(اقساط!$B$3:$B$2000,SMALL(IF(اقساط!$G$3:$G$2000=B90,ROW($B$3:$B$2000)-ROW($B$3)+1),ROWS($C$3:C90))),\"\")","v":0}]
[{"$f":"IFERROR(INDEX(اقساط!$AT$3:$AT$8532,SMALL(IF(اقساط!$G$3:$G$8532=B91,ROW($AT$3:$AT$8532)-ROW($AT$3)+1),ROWS($A$3:A91))),\"\")","v":0},{"$f":"IFERROR(INDEX(Names,SMALL(IF(Names<>\"\",IF(MID(Names,1,LEN($B$1))=$B$1,ROW(Names)-ROW($G$3)+1)),ROWS($A$1:A89))),\"\")","v":""},{"$f":"IFERROR(INDEX(اقساط!$B$3:$B$2000,SMALL(IF(اقساط!$G$3:$G$2000=B91,ROW($B$3:$B$2000)-ROW($B$3)+1),ROWS($C$3:C91))),\"\")","v":0}]
[{"$f":"IFERROR(INDEX(اقساط!$AT$3:$AT$8532,SMALL(IF(اقساط!$G$3:$G$8532=B92,ROW($AT$3:$AT$8532)-ROW($AT$3)+1),ROWS($A$3:A92))),\"\")","v":0},{"$f":"IFERROR(INDEX(Names,SMALL(IF(Names<>\"\",IF(MID(Names,1,LEN($B$1))=$B$1,ROW(Names)-ROW($G$3)+1)),ROWS($A$1:A90))),\"\")","v":""},{"$f":"IFERROR(INDEX(اقساط!$B$3:$B$2000,SMALL(IF(اقساط!$G$3:$G$2000=B92,ROW($B$3:$B$2000)-ROW($B$3)+1),ROWS($C$3:C92))),\"\")","v":0}]
[{"$f":"IFERROR(INDEX(اقساط!$AT$3:$AT$8532,SMALL(IF(اقساط!$G$3:$G$8532=B93,ROW($AT$3:$AT$8532)-ROW($AT$3)+1),ROWS($A$3:A93))),\"\")","v":0},{"$f":"IFERROR(INDEX(Names,SMALL(IF(Names<>\"\",IF(MID(Names,1,LEN($B$1))=$B$1,ROW(Names)-ROW($G$3)+1)),ROWS($A$1:A91))),\"\")","v":""},{"$f":"IFERROR(INDEX(اقساط!$B$3:$B$2000,SMALL(IF(اقساط!$G$3:$G$2000=B93,ROW($B$3:$B$2000)-ROW($B$3)+1),ROWS($C$3:C93))),\"\")","v":0}]
[{"$f":"IFERROR(INDEX(اقساط!$AT$3:$AT$8532,SMALL(IF(اقساط!$G$3:$G$8532=B94,ROW($AT$3:$AT$8532)-ROW($AT$3)+1),ROWS($A$3:A94))),\"\")","v":0},{"$f":"IFERROR(INDEX(Names,SMALL(IF(Names<>\"\",IF(MID(Names,1,LEN($B$1))=$B$1,ROW(Names)-ROW($G$3)+1)),ROWS($A$1:A92))),\"\")","v":""},{"$f":"IFERROR(INDEX(اقساط!$B$3:$B$2000,SMALL(IF(اقساط!$G$3:$G$2000=B94,ROW($B$3:$B$2000)-ROW($B$3)+1),ROWS($C$3:C94))),\"\")","v":0}]
[{"$f":"IFERROR(INDEX(اقساط!$AT$3:$AT$8532,SMALL(IF(اقساط!$G$3:$G$8532=B95,ROW($AT$3:$AT$8532)-ROW($AT$3)+1),ROWS($A$3:A95))),\"\")","v":0},{"$f":"IFERROR(INDEX(Names,SMALL(IF(Names<>\"\",IF(MID(Names,1,LEN($B$1))=$B$1,ROW(Names)-ROW($G$3)+1)),ROWS($A$1:A93))),\"\")","v":""},{"$f":"IFERROR(INDEX(اقساط!$B$3:$B$2000,SMALL(IF(اقساط!$G$3:$G$2000=B95,ROW($B$3:$B$2000)-ROW($B$3)+1),ROWS($C$3:C95))),\"\")","v":0}]
[{"$f":"IFERROR(INDEX(اقساط!$AT$3:$AT$8532,SMALL(IF(اقساط!$G$3:$G$8532=B96,ROW($AT$3:$AT$8532)-ROW($AT$3)+1),ROWS($A$3:A96))),\"\")","v":0},{"$f":"IFERROR(INDEX(Names,SMALL(IF(Names<>\"\",IF(MID(Names,1,LEN($B$1))=$B$1,ROW(Names)-ROW($G$3)+1)),ROWS($A$1:A94))),\"\")","v":""},{"$f":"IFERROR(INDEX(اقساط!$B$3:$B$2000,SMALL(IF(اقساط!$G$3:$G$2000=B96,ROW($B$3:$B$2000)-ROW($B$3)+1),ROWS($C$3:C96))),\"\")","v":0}]
[{"$f":"IFERROR(INDEX(اقساط!$AT$3:$AT$8532,SMALL(IF(اقساط!$G$3:$G$8532=B97,ROW($AT$3:$AT$8532)-ROW($AT$3)+1),ROWS($A$3:A97))),\"\")","v":0},{"$f":"IFERROR(INDEX(Names,SMALL(IF(Names<>\"\",IF(MID(Names,1,LEN($B$1))=$B$1,ROW(Names)-ROW($G$3)+1)),ROWS($A$1:A95))),\"\")","v":""},{"$f":"IFERROR(INDEX(اقساط!$B$3:$B$2000,SMALL(IF(اقساط!$G$3:$G$2000=B97,ROW($B$3:$B$2000)-ROW($B$3)+1),ROWS($C$3:C97))),\"\")","v":0}]
[{"$f":"IFERROR(INDEX(اقساط!$AT$3:$AT$8532,SMALL(IF(اقساط!$G$3:$G$8532=B98,ROW($AT$3:$AT$8532)-ROW($AT$3)+1),ROWS($A$3:A98))),\"\")","v":0},{"$f":"IFERROR(INDEX(Names,SMALL(IF(Names<>\"\",IF(MID(Names,1,LEN($B$1))=$B$1,ROW(Names)-ROW($G$3)+1)),ROWS($A$1:A96))),\"\")","v":""},{"$f":"IFERROR(INDEX(اقساط!$B$3:$B$2000,SMALL(IF(اقساط!$G$3:$G$2000=B98,ROW($B$3:$B$2000)-ROW($B$3)+1),ROWS($C$3:C98))),\"\")","v":0}]
[{"$f":"IFERROR(INDEX(اقساط!$AT$3:$AT$8532,SMALL(IF(اقساط!$G$3:$G$8532=B99,ROW($AT$3:$AT$8532)-ROW($AT$3)+1),ROWS($A$3:A99))),\"\")","v":0},{"$f":"IFERROR(INDEX(Names,SMALL(IF(Names<>\"\",IF(MID(Names,1,LEN($B$1))=$B$1,ROW(Names)-ROW($G$3)+1)),ROWS($A$1:A97))),\"\")","v":""},{"$f":"IFERROR(INDEX(اقساط!$B$3:$B$2000,SMALL(IF(اقساط!$G$3:$G$2000=B99,ROW($B$3:$B$2000)-ROW($B$3)+1),ROWS($C$3:C99))),\"\")","v":0}]
[{"$f":"IFERROR(INDEX(اقساط!$AT$3:$AT$8532,SMALL(IF(اقساط!$G$3:$G$8532=B100,ROW($AT$3:$AT$8532)-ROW($AT$3)+1),ROWS($A$3:A100))),\"\")","v":0},{"$f":"IFERROR(INDEX(Names,SMALL(IF(Names<>\"\",IF(MID(Names,1,LEN($B$1))=$B$1,ROW(Names)-ROW($G$3)+1)),ROWS($A$1:A98))),\"\")","v":""},{"$f":"IFERROR(INDEX(اقساط!$B$3:$B$2000,SMALL(IF(اقساط!$G$3:$G$2000=B100,ROW($B$3:$B$2000)-ROW($B$3)+1),ROWS($C$3:C100))),\"\")","v":0}]
[{"$f":"IFERROR(INDEX(اقساط!$AT$3:$AT$8532,SMALL(IF(اقساط!$G$3:$G$8532=B101,ROW($AT$3:$AT$8532)-ROW($AT$3)+1),ROWS($A$3:A101))),\"\")","v":0},{"$f":"IFERROR(INDEX(Names,SMALL(IF(Names<>\"\",IF(MID(Names,1,LEN($B$1))=$B$1,ROW(Names)-ROW($G$3)+1)),ROWS($A$1:A99))),\"\")","v":""},{"$f":"IFERROR(INDEX(اقساط!$B$3:$B$2000,SMALL(IF(اقساط!$G$3:$G$2000=B101,ROW($B$3:$B$2000)-ROW($B$3)+1),ROWS($C$3:C101))),\"\")","v":0}]
[{"$f":"IFERROR(INDEX(اقساط!$AT$3:$AT$8532,SMALL(IF(اقساط!$G$3:$G$8532=B102,ROW($AT$3:$AT$8532)-ROW($AT$3)+1),ROWS($A$3:A102))),\"\")","v":0},{"$f":"IFERROR(INDEX(Names,SMALL(IF(Names<>\"\",IF(MID(Names,1,LEN($B$1))=$B$1,ROW(Names)-ROW($G$3)+1)),ROWS($A$1:A100))),\"\")","v":""},{"$f":"IFERROR(INDEX(اقساط!$B$3:$B$2000,SMALL(IF(اقساط!$G$3:$G$2000=B102,ROW($B$3:$B$2000)-ROW($B$3)+1),ROWS($C$3:C102))),\"\")","v":0}]
[{"$f":"IFERROR(INDEX(اقساط!$AT$3:$AT$8532,SMALL(IF(اقساط!$G$3:$G$8532=B103,ROW($AT$3:$AT$8532)-ROW($AT$3)+1),ROWS($A$3:A103))),\"\")","v":0},{"$f":"IFERROR(INDEX(Names,SMALL(IF(Names<>\"\",IF(MID(Names,1,LEN($B$1))=$B$1,ROW(Names)-ROW($G$3)+1)),ROWS($A$1:A101))),\"\")","v":""},{"$f":"IFERROR(INDEX(اقساط!$B$3:$B$2000,SMALL(IF(اقساط!$G$3:$G$2000=B103,ROW($B$3:$B$2000)-ROW($B$3)+1),ROWS($C$3:C103))),\"\")","v":0}]
[{"$f":"IFERROR(INDEX(اقساط!$AT$3:$AT$8532,SMALL(IF(اقساط!$G$3:$G$8532=B104,ROW($AT$3:$AT$8532)-ROW($AT$3)+1),ROWS($A$3:A104))),\"\")","v":0},{"$f":"IFERROR(INDEX(Names,SMALL(IF(Names<>\"\",IF(MID(Names,1,LEN($B$1))=$B$1,ROW(Names)-ROW($G$3)+1)),ROWS($A$1:A102))),\"\")","v":""},{"$f":"IFERROR(INDEX(اقساط!$B$3:$B$2000,SMALL(IF(اقساط!$G$3:$G$2000=B104,ROW($B$3:$B$2000)-ROW($B$3)+1),ROWS($C$3:C104))),\"\")","v":0}]
[{"$f":"IFERROR(INDEX(اقساط!$AT$3:$AT$8532,SMALL(IF(اقساط!$G$3:$G$8532=B105,ROW($AT$3:$AT$8532)-ROW($AT$3)+1),ROWS($A$3:A105))),\"\")","v":0},{"$f":"IFERROR(INDEX(Names,SMALL(IF(Names<>\"\",IF(MID(Names,1,LEN($B$1))=$B$1,ROW(Names)-ROW($G$3)+1)),ROWS($A$1:A103))),\"\")","v":""},{"$f":"IFERROR(INDEX(اقساط!$B$3:$B$2000,SMALL(IF(اقساط!$G$3:$G$2000=B105,ROW($B$3:$B$2000)-ROW($B$3)+1),ROWS($C$3:C105))),\"\")","v":0}]
[{"$f":"IFERROR(INDEX(اقساط!$AT$3:$AT$8532,SMALL(IF(اقساط!$G$3:$G$8532=B106,ROW($AT$3:$AT$8532)-ROW($AT$3)+1),ROWS($A$3:A106))),\"\")","v":0},{"$f":"IFERROR(INDEX(Names,SMALL(IF(Names<>\"\",IF(MID(Names,1,LEN($B$1))=$B$1,ROW(Names)-ROW($G$3)+1)),ROWS($A$1:A104))),\"\")","v":""},{"$f":"IFERROR(INDEX(اقساط!$B$3:$B$2000,SMALL(IF(اقساط!$G$3:$G$2000=B106,ROW($B$3:$B$2000)-ROW($B$3)+1),ROWS($C$3:C106))),\"\")","v":0}]
[{"$f":"IFERROR(INDEX(اقساط!$AT$3:$AT$8532,SMALL(IF(اقساط!$G$3:$G$8532=B107,ROW($AT$3:$AT$8532)-ROW($AT$3)+1),ROWS($A$3:A107))),\"\")","v":0},{"$f":"IFERROR(INDEX(Names,SMALL(IF(Names<>\"\",IF(MID(Names,1,LEN($B$1))=$B$1,ROW(Names)-ROW($G$3)+1)),ROWS($A$1:A105))),\"\")","v":""},{"$f":"IFERROR(INDEX(اقساط!$B$3:$B$2000,SMALL(IF(اقساط!$G$3:$G$2000=B107,ROW($B$3:$B$2000)-ROW($B$3)+1),ROWS($C$3:C107))),\"\")","v":0}]
[{"$f":"IFERROR(INDEX(اقساط!$AT$3:$AT$8532,SMALL(IF(اقساط!$G$3:$G$8532=B108,ROW($AT$3:$AT$8532)-ROW($AT$3)+1),ROWS($A$3:A108))),\"\")","v":0},{"$f":"IFERROR(INDEX(Names,SMALL(IF(Names<>\"\",IF(MID(Names,1,LEN($B$1))=$B$1,ROW(Names)-ROW($G$3)+1)),ROWS($A$1:A106))),\"\")","v":""},{"$f":"IFERROR(INDEX(اقساط!$B$3:$B$2000,SMALL(IF(اقساط!$G$3:$G$2000=B108,ROW($B$3:$B$2000)-ROW($B$3)+1),ROWS($C$3:C108))),\"\")","v":0}]
[{"$f":"IFERROR(INDEX(اقساط!$AT$3:$AT$8532,SMALL(IF(اقساط!$G$3:$G$8532=B109,ROW($AT$3:$AT$8532)-ROW($AT$3)+1),ROWS($A$3:A109))),\"\")","v":0},{"$f":"IFERROR(INDEX(Names,SMALL(IF(Names<>\"\",IF(MID(Names,1,LEN($B$1))=$B$1,ROW(Names)-ROW($G$3)+1)),ROWS($A$1:A107))),\"\")","v":""},{"$f":"IFERROR(INDEX(اقساط!$B$3:$B$2000,SMALL(IF(اقساط!$G$3:$G$2000=B109,ROW($B$3:$B$2000)-ROW($B$3)+1),ROWS($C$3:C109))),\"\")","v":0}]
[{"$f":"IFERROR(INDEX(اقساط!$AT$3:$AT$8532,SMALL(IF(اقساط!$G$3:$G$8532=B110,ROW($AT$3:$AT$8532)-ROW($AT$3)+1),ROWS($A$3:A110))),\"\")","v":0},{"$f":"IFERROR(INDEX(Names,SMALL(IF(Names<>\"\",IF(MID(Names,1,LEN($B$1))=$B$1,ROW(Names)-ROW($G$3)+1)),ROWS($A$1:A108))),\"\")","v":""},{"$f":"IFERROR(INDEX(اقساط!$B$3:$B$2000,SMALL(IF(اقساط!$G$3:$G$2000=B110,ROW($B$3:$B$2000)-ROW($B$3)+1),ROWS($C$3:C110))),\"\")","v":0}]
[{"$f":"IFERROR(INDEX(اقساط!$AT$3:$AT$8532,SMALL(IF(اقساط!$G$3:$G$8532=B111,ROW($AT$3:$AT$8532)-ROW($AT$3)+1),ROWS($A$3:A111))),\"\")","v":0},{"$f":"IFERROR(INDEX(Names,SMALL(IF(Names<>\"\",IF(MID(Names,1,LEN($B$1))=$B$1,ROW(Names)-ROW($G$3)+1)),ROWS($A$1:A109))),\"\")","v":""},{"$f":"IFERROR(INDEX(اقساط!$B$3:$B$2000,SMALL(IF(اقساط!$G$3:$G$2000=B111,ROW($B$3:$B$2000)-ROW($B$3)+1),ROWS($C$3:C111))),\"\")","v":0}]
[{"$f":"IFERROR(INDEX(اقساط!$AT$3:$AT$8532,SMALL(IF(اقساط!$G$3:$G$8532=B112,ROW($AT$3:$AT$8532)-ROW($AT$3)+1),ROWS($A$3:A112))),\"\")","v":0},{"$f":"IFERROR(INDEX(Names,SMALL(IF(Names<>\"\",IF(MID(Names,1,LEN($B$1))=$B$1,ROW(Names)-ROW($G$3)+1)),ROWS($A$1:A110))),\"\")","v":""},{"$f":"IFERROR(INDEX(اقساط!$B$3:$B$2000,SMALL(IF(اقساط!$G$3:$G$2000=B112,ROW($B$3:$B$2000)-ROW($B$3)+1),ROWS($C$3:C112))),\"\")","v":0}]
[{"$f":"IFERROR(INDEX(اقساط!$AT$3:$AT$8532,SMALL(IF(اقساط!$G$3:$G$8532=B113,ROW($AT$3:$AT$8532)-ROW($AT$3)+1),ROWS($A$3:A113))),\"\")","v":0},{"$f":"IFERROR(INDEX(Names,SMALL(IF(Names<>\"\",IF(MID(Names,1,LEN($B$1))=$B$1,ROW(Names)-ROW($G$3)+1)),ROWS($A$1:A111))),\"\")","v":""},{"$f":"IFERROR(INDEX(اقساط!$B$3:$B$2000,SMALL(IF(اقساط!$G$3:$G$2000=B113,ROW($B$3:$B$2000)-ROW($B$3)+1),ROWS($C$3:C113))),\"\")","v":0}]
[{"$f":"IFERROR(INDEX(اقساط!$AT$3:$AT$8532,SMALL(IF(اقساط!$G$3:$G$8532=B114,ROW($AT$3:$AT$8532)-ROW($AT$3)+1),ROWS($A$3:A114))),\"\")","v":0},{"$f":"IFERROR(INDEX(Names,SMALL(IF(Names<>\"\",IF(MID(Names,1,LEN($B$1))=$B$1,ROW(Names)-ROW($G$3)+1)),ROWS($A$1:A112))),\"\")","v":""},{"$f":"IFERROR(INDEX(اقساط!$B$3:$B$2000,SMALL(IF(اقساط!$G$3:$G$2000=B114,ROW($B$3:$B$2000)-ROW($B$3)+1),ROWS($C$3:C114))),\"\")","v":0}]
[{"$f":"IFERROR(INDEX(اقساط!$AT$3:$AT$8532,SMALL(IF(اقساط!$G$3:$G$8532=B115,ROW($AT$3:$AT$8532)-ROW($AT$3)+1),ROWS($A$3:A115))),\"\")","v":0},{"$f":"IFERROR(INDEX(Names,SMALL(IF(Names<>\"\",IF(MID(Names,1,LEN($B$1))=$B$1,ROW(Names)-ROW($G$3)+1)),ROWS($A$1:A113))),\"\")","v":""},{"$f":"IFERROR(INDEX(اقساط!$B$3:$B$2000,SMALL(IF(اقساط!$G$3:$G$2000=B115,ROW($B$3:$B$2000)-ROW($B$3)+1),ROWS($C$3:C115))),\"\")","v":0}]
[{"$f":"IFERROR(INDEX(اقساط!$AT$3:$AT$8532,SMALL(IF(اقساط!$G$3:$G$8532=B116,ROW($AT$3:$AT$8532)-ROW($AT$3)+1),ROWS($A$3:A116))),\"\")","v":0},{"$f":"IFERROR(INDEX(Names,SMALL(IF(Names<>\"\",IF(MID(Names,1,LEN($B$1))=$B$1,ROW(Names)-ROW($G$3)+1)),ROWS($A$1:A114))),\"\")","v":""},{"$f":"IFERROR(INDEX(اقساط!$B$3:$B$2000,SMALL(IF(اقساط!$G$3:$G$2000=B116,ROW($B$3:$B$2000)-ROW($B$3)+1),ROWS($C$3:C116))),\"\")","v":0}]
[{"$f":"IFERROR(INDEX(اقساط!$AT$3:$AT$8532,SMALL(IF(اقساط!$G$3:$G$8532=B117,ROW($AT$3:$AT$8532)-ROW($AT$3)+1),ROWS($A$3:A117))),\"\")","v":0},{"$f":"IFERROR(INDEX(Names,SMALL(IF(Names<>\"\",IF(MID(Names,1,LEN($B$1))=$B$1,ROW(Names)-ROW($G$3)+1)),ROWS($A$1:A115))),\"\")","v":""},{"$f":"IFERROR(INDEX(اقساط!$B$3:$B$2000,SMALL(IF(اقساط!$G$3:$G$2000=B117,ROW($B$3:$B$2000)-ROW($B$3)+1),ROWS($C$3:C117))),\"\")","v":0}]
[{"$f":"IFERROR(INDEX(اقساط!$AT$3:$AT$8532,SMALL(IF(اقساط!$G$3:$G$8532=B118,ROW($AT$3:$AT$8532)-ROW($AT$3)+1),ROWS($A$3:A118))),\"\")","v":0},{"$f":"IFERROR(INDEX(Names,SMALL(IF(Names<>\"\",IF(MID(Names,1,LEN($B$1))=$B$1,ROW(Names)-ROW($G$3)+1)),ROWS($A$1:A116))),\"\")","v":""},{"$f":"IFERROR(INDEX(اقساط!$B$3:$B$2000,SMALL(IF(اقساط!$G$3:$G$2000=B118,ROW($B$3:$B$2000)-ROW($B$3)+1),ROWS($C$3:C118))),\"\")","v":0}]
[{"$f":"IFERROR(INDEX(اقساط!$AT$3:$AT$8532,SMALL(IF(اقساط!$G$3:$G$8532=B119,ROW($AT$3:$AT$8532)-ROW($AT$3)+1),ROWS($A$3:A119))),\"\")","v":0},{"$f":"IFERROR(INDEX(Names,SMALL(IF(Names<>\"\",IF(MID(Names,1,LEN($B$1))=$B$1,ROW(Names)-ROW($G$3)+1)),ROWS($A$1:A117))),\"\")","v":""},{"$f":"IFERROR(INDEX(اقساط!$B$3:$B$2000,SMALL(IF(اقساط!$G$3:$G$2000=B119,ROW($B$3:$B$2000)-ROW($B$3)+1),ROWS($C$3:C119))),\"\")","v":0}]
[{"$f":"IFERROR(INDEX(اقساط!$AT$3:$AT$8532,SMALL(IF(اقساط!$G$3:$G$8532=B120,ROW($AT$3:$AT$8532)-ROW($AT$3)+1),ROWS($A$3:A120))),\"\")","v":0},{"$f":"IFERROR(INDEX(Names,SMALL(IF(Names<>\"\",IF(MID(Names,1,LEN($B$1))=$B$1,ROW(Names)-ROW($G$3)+1)),ROWS($A$1:A118))),\"\")","v":""},{"$f":"IFERROR(INDEX(اقساط!$B$3:$B$2000,SMALL(IF(اقساط!$G$3:$G$2000=B120,ROW($B$3:$B$2000)-ROW($B$3)+1),ROWS($C$3:C120))),\"\")","v":0}]
[{"$f":"IFERROR(INDEX(اقساط!$AT$3:$AT$8532,SMALL(IF(اقساط!$G$3:$G$8532=B121,ROW($AT$3:$AT$8532)-ROW($AT$3)+1),ROWS($A$3:A121))),\"\")","v":0},{"$f":"IFERROR(INDEX(Names,SMALL(IF(Names<>\"\",IF(MID(Names,1,LEN($B$1))=$B$1,ROW(Names)-ROW($G$3)+1)),ROWS($A$1:A119))),\"\")","v":""},{"$f":"IFERROR(INDEX(اقساط!$B$3:$B$2000,SMALL(IF(اقساط!$G$3:$G$2000=B121,ROW($B$3:$B$2000)-ROW($B$3)+1),ROWS($C$3:C121))),\"\")","v":0}]
[{"$f":"IFERROR(INDEX(اقساط!$AT$3:$AT$8532,SMALL(IF(اقساط!$G$3:$G$8532=B122,ROW($AT$3:$AT$8532)-ROW($AT$3)+1),ROWS($A$3:A122))),\"\")","v":0},{"$f":"IFERROR(INDEX(Names,SMALL(IF(Names<>\"\",IF(MID(Names,1,LEN($B$1))=$B$1,ROW(Names)-ROW($G$3)+1)),ROWS($A$1:A120))),\"\")","v":""},{"$f":"IFERROR(INDEX(اقساط!$B$3:$B$2000,SMALL(IF(اقساط!$G$3:$G$2000=B122,ROW($B$3:$B$2000)-ROW($B$3)+1),ROWS($C$3:C122))),\"\")","v":0}]
[{"$f":"IFERROR(INDEX(اقساط!$AT$3:$AT$8532,SMALL(IF(اقساط!$G$3:$G$8532=B123,ROW($AT$3:$AT$8532)-ROW($AT$3)+1),ROWS($A$3:A123))),\"\")","v":0},{"$f":"IFERROR(INDEX(Names,SMALL(IF(Names<>\"\",IF(MID(Names,1,LEN($B$1))=$B$1,ROW(Names)-ROW($G$3)+1)),ROWS($A$1:A121))),\"\")","v":""},{"$f":"IFERROR(INDEX(اقساط!$B$3:$B$2000,SMALL(IF(اقساط!$G$3:$G$2000=B123,ROW($B$3:$B$2000)-ROW($B$3)+1),ROWS($C$3:C123))),\"\")","v":0}]
[{"$f":"IFERROR(INDEX(اقساط!$AT$3:$AT$8532,SMALL(IF(اقساط!$G$3:$G$8532=B124,ROW($AT$3:$AT$8532)-ROW($AT$3)+1),ROWS($A$3:A124))),\"\")","v":0},{"$f":"IFERROR(INDEX(Names,SMALL(IF(Names<>\"\",IF(MID(Names,1,LEN($B$1))=$B$1,ROW(Names)-ROW($G$3)+1)),ROWS($A$1:A122))),\"\")","v":""},{"$f":"IFERROR(INDEX(اقساط!$B$3:$B$2000,SMALL(IF(اقساط!$G$3:$G$2000=B124,ROW($B$3:$B$2000)-ROW($B$3)+1),ROWS($C$3:C124))),\"\")","v":0}]
[{"$f":"IFERROR(INDEX(اقساط!$AT$3:$AT$8532,SMALL(IF(اقساط!$G$3:$G$8532=B125,ROW($AT$3:$AT$8532)-ROW($AT$3)+1),ROWS($A$3:A125))),\"\")","v":0},{"$f":"IFERROR(INDEX(Names,SMALL(IF(Names<>\"\",IF(MID(Names,1,LEN($B$1))=$B$1,ROW(Names)-ROW($G$3)+1)),ROWS($A$1:A123))),\"\")","v":""},{"$f":"IFERROR(INDEX(اقساط!$B$3:$B$2000,SMALL(IF(اقساط!$G$3:$G$2000=B125,ROW($B$3:$B$2000)-ROW($B$3)+1),ROWS($C$3:C125))),\"\")","v":0}]
[{"$f":"IFERROR(INDEX(اقساط!$AT$3:$AT$8532,SMALL(IF(اقساط!$G$3:$G$8532=B126,ROW($AT$3:$AT$8532)-ROW($AT$3)+1),ROWS($A$3:A126))),\"\")","v":0},{"$f":"IFERROR(INDEX(Names,SMALL(IF(Names<>\"\",IF(MID(Names,1,LEN($B$1))=$B$1,ROW(Names)-ROW($G$3)+1)),ROWS($A$1:A124))),\"\")","v":""},{"$f":"IFERROR(INDEX(اقساط!$B$3:$B$2000,SMALL(IF(اقساط!$G$3:$G$2000=B126,ROW($B$3:$B$2000)-ROW($B$3)+1),ROWS($C$3:C126))),\"\")","v":0}]
[{"$f":"IFERROR(INDEX(اقساط!$AT$3:$AT$8532,SMALL(IF(اقساط!$G$3:$G$8532=B127,ROW($AT$3:$AT$8532)-ROW($AT$3)+1),ROWS($A$3:A127))),\"\")","v":0},{"$f":"IFERROR(INDEX(Names,SMALL(IF(Names<>\"\",IF(MID(Names,1,LEN($B$1))=$B$1,ROW(Names)-ROW($G$3)+1)),ROWS($A$1:A125))),\"\")","v":""},{"$f":"IFERROR(INDEX(اقساط!$B$3:$B$2000,SMALL(IF(اقساط!$G$3:$G$2000=B127,ROW($B$3:$B$2000)-ROW($B$3)+1),ROWS($C$3:C127))),\"\")","v":0}]
[{"$f":"IFERROR(INDEX(اقساط!$AT$3:$AT$8532,SMALL(IF(اقساط!$G$3:$G$8532=B128,ROW($AT$3:$AT$8532)-ROW($AT$3)+1),ROWS($A$3:A128))),\"\")","v":0},{"$f":"IFERROR(INDEX(Names,SMALL(IF(Names<>\"\",IF(MID(Names,1,LEN($B$1))=$B$1,ROW(Names)-ROW($G$3)+1)),ROWS($A$1:A126))),\"\")","v":""},{"$f":"IFERROR(INDEX(اقساط!$B$3:$B$2000,SMALL(IF(اقساط!$G$3:$G$2000=B128,ROW($B$3:$B$2000)-ROW($B$3)+1),ROWS($C$3:C128))),\"\")","v":0}]
[{"$f":"IFERROR(INDEX(اقساط!$AT$3:$AT$8532,SMALL(IF(اقساط!$G$3:$G$8532=B129,ROW($AT$3:$AT$8532)-ROW($AT$3)+1),ROWS($A$3:A129))),\"\")","v":0},{"$f":"IFERROR(INDEX(Names,SMALL(IF(Names<>\"\",IF(MID(Names,1,LEN($B$1))=$B$1,ROW(Names)-ROW($G$3)+1)),ROWS($A$1:A127))),\"\")","v":""},{"$f":"IFERROR(INDEX(اقساط!$B$3:$B$2000,SMALL(IF(اقساط!$G$3:$G$2000=B129,ROW($B$3:$B$2000)-ROW($B$3)+1),ROWS($C$3:C129))),\"\")","v":0}]
[{"$f":"IFERROR(INDEX(اقساط!$AT$3:$AT$8532,SMALL(IF(اقساط!$G$3:$G$8532=B130,ROW($AT$3:$AT$8532)-ROW($AT$3)+1),ROWS($A$3:A130))),\"\")","v":0},{"$f":"IFERROR(INDEX(Names,SMALL(IF(Names<>\"\",IF(MID(Names,1,LEN($B$1))=$B$1,ROW(Names)-ROW($G$3)+1)),ROWS($A$1:A128))),\"\")","v":""},{"$f":"IFERROR(INDEX(اقساط!$B$3:$B$2000,SMALL(IF(اقساط!$G$3:$G$2000=B130,ROW($B$3:$B$2000)-ROW($B$3)+1),ROWS($C$3:C130))),\"\")","v":0}]
[{"$f":"IFERROR(INDEX(اقساط!$AT$3:$AT$8532,SMALL(IF(اقساط!$G$3:$G$8532=B131,ROW($AT$3:$AT$8532)-ROW($AT$3)+1),ROWS($A$3:A131))),\"\")","v":0},{"$f":"IFERROR(INDEX(Names,SMALL(IF(Names<>\"\",IF(MID(Names,1,LEN($B$1))=$B$1,ROW(Names)-ROW($G$3)+1)),ROWS($A$1:A129))),\"\")","v":""},{"$f":"IFERROR(INDEX(اقساط!$B$3:$B$2000,SMALL(IF(اقساط!$G$3:$G$2000=B131,ROW($B$3:$B$2000)-ROW($B$3)+1),ROWS($C$3:C131))),\"\")","v":0}]
[{"$f":"IFERROR(INDEX(اقساط!$AT$3:$AT$8532,SMALL(IF(اقساط!$G$3:$G$8532=B132,ROW($AT$3:$AT$8532)-ROW($AT$3)+1),ROWS($A$3:A132))),\"\")","v":0},{"$f":"IFERROR(INDEX(Names,SMALL(IF(Names<>\"\",IF(MID(Names,1,LEN($B$1))=$B$1,ROW(Names)-ROW($G$3)+1)),ROWS($A$1:A130))),\"\")","v":""},{"$f":"IFERROR(INDEX(اقساط!$B$3:$B$2000,SMALL(IF(اقساط!$G$3:$G$2000=B132,ROW($B$3:$B$2000)-ROW($B$3)+1),ROWS($C$3:C132))),\"\")","v":0}]
[{"$f":"IFERROR(INDEX(اقساط!$AT$3:$AT$8532,SMALL(IF(اقساط!$G$3:$G$8532=B133,ROW($AT$3:$AT$8532)-ROW($AT$3)+1),ROWS($A$3:A133))),\"\")","v":0},{"$f":"IFERROR(INDEX(Names,SMALL(IF(Names<>\"\",IF(MID(Names,1,LEN($B$1))=$B$1,ROW(Names)-ROW($G$3)+1)),ROWS($A$1:A131))),\"\")","v":""},{"$f":"IFERROR(INDEX(اقساط!$B$3:$B$2000,SMALL(IF(اقساط!$G$3:$G$2000=B133,ROW($B$3:$B$2000)-ROW($B$3)+1),ROWS($C$3:C133))),\"\")","v":0}]
[{"$f":"IFERROR(INDEX(اقساط!$AT$3:$AT$8532,SMALL(IF(اقساط!$G$3:$G$8532=B134,ROW($AT$3:$AT$8532)-ROW($AT$3)+1),ROWS($A$3:A134))),\"\")","v":0},{"$f":"IFERROR(INDEX(Names,SMALL(IF(Names<>\"\",IF(MID(Names,1,LEN($B$1))=$B$1,ROW(Names)-ROW($G$3)+1)),ROWS($A$1:A132))),\"\")","v":""},{"$f":"IFERROR(INDEX(اقساط!$B$3:$B$2000,SMALL(IF(اقساط!$G$3:$G$2000=B134,ROW($B$3:$B$2000)-ROW($B$3)+1),ROWS($C$3:C134))),\"\")","v":0}]
[{"$f":"IFERROR(INDEX(اقساط!$AT$3:$AT$8532,SMALL(IF(اقساط!$G$3:$G$8532=B135,ROW($AT$3:$AT$8532)-ROW($AT$3)+1),ROWS($A$3:A135))),\"\")","v":0},{"$f":"IFERROR(INDEX(Names,SMALL(IF(Names<>\"\",IF(MID(Names,1,LEN($B$1))=$B$1,ROW(Names)-ROW($G$3)+1)),ROWS($A$1:A133))),\"\")","v":""},{"$f":"IFERROR(INDEX(اقساط!$B$3:$B$2000,SMALL(IF(اقساط!$G$3:$G$2000=B135,ROW($B$3:$B$2000)-ROW($B$3)+1),ROWS($C$3:C135))),\"\")","v":0}]
[{"$f":"IFERROR(INDEX(اقساط!$AT$3:$AT$8532,SMALL(IF(اقساط!$G$3:$G$8532=B136,ROW($AT$3:$AT$8532)-ROW($AT$3)+1),ROWS($A$3:A136))),\"\")","v":0},{"$f":"IFERROR(INDEX(Names,SMALL(IF(Names<>\"\",IF(MID(Names,1,LEN($B$1))=$B$1,ROW(Names)-ROW($G$3)+1)),ROWS($A$1:A134))),\"\")","v":""},{"$f":"IFERROR(INDEX(اقساط!$B$3:$B$2000,SMALL(IF(اقساط!$G$3:$G$2000=B136,ROW($B$3:$B$2000)-ROW($B$3)+1),ROWS($C$3:C136))),\"\")","v":0}]
[{"$f":"IFERROR(INDEX(اقساط!$AT$3:$AT$8532,SMALL(IF(اقساط!$G$3:$G$8532=B137,ROW($AT$3:$AT$8532)-ROW($AT$3)+1),ROWS($A$3:A137))),\"\")","v":0},{"$f":"IFERROR(INDEX(Names,SMALL(IF(Names<>\"\",IF(MID(Names,1,LEN($B$1))=$B$1,ROW(Names)-ROW($G$3)+1)),ROWS($A$1:A135))),\"\")","v":""},{"$f":"IFERROR(INDEX(اقساط!$B$3:$B$2000,SMALL(IF(اقساط!$G$3:$G$2000=B137,ROW($B$3:$B$2000)-ROW($B$3)+1),ROWS($C$3:C137))),\"\")","v":0}]
[{"$f":"IFERROR(INDEX(اقساط!$AT$3:$AT$8532,SMALL(IF(اقساط!$G$3:$G$8532=B138,ROW($AT$3:$AT$8532)-ROW($AT$3)+1),ROWS($A$3:A138))),\"\")","v":0},{"$f":"IFERROR(INDEX(Names,SMALL(IF(Names<>\"\",IF(MID(Names,1,LEN($B$1))=$B$1,ROW(Names)-ROW($G$3)+1)),ROWS($A$1:A136))),\"\")","v":""},{"$f":"IFERROR(INDEX(اقساط!$B$3:$B$2000,SMALL(IF(اقساط!$G$3:$G$2000=B138,ROW($B$3:$B$2000)-ROW($B$3)+1),ROWS($C$3:C138))),\"\")","v":0}]
[{"$f":"IFERROR(INDEX(اقساط!$AT$3:$AT$8532,SMALL(IF(اقساط!$G$3:$G$8532=B139,ROW($AT$3:$AT$8532)-ROW($AT$3)+1),ROWS($A$3:A139))),\"\")","v":0},{"$f":"IFERROR(INDEX(Names,SMALL(IF(Names<>\"\",IF(MID(Names,1,LEN($B$1))=$B$1,ROW(Names)-ROW($G$3)+1)),ROWS($A$1:A137))),\"\")","v":""},{"$f":"IFERROR(INDEX(اقساط!$B$3:$B$2000,SMALL(IF(اقساط!$G$3:$G$2000=B139,ROW($B$3:$B$2000)-ROW($B$3)+1),ROWS($C$3:C139))),\"\")","v":0}]
[{"$f":"IFERROR(INDEX(اقساط!$AT$3:$AT$8532,SMALL(IF(اقساط!$G$3:$G$8532=B140,ROW($AT$3:$AT$8532)-ROW($AT$3)+1),ROWS($A$3:A140))),\"\")","v":0},{"$f":"IFERROR(INDEX(Names,SMALL(IF(Names<>\"\",IF(MID(Names,1,LEN($B$1))=$B$1,ROW(Names)-ROW($G$3)+1)),ROWS($A$1:A138))),\"\")","v":""},{"$f":"IFERROR(INDEX(اقساط!$B$3:$B$2000,SMALL(IF(اقساط!$G$3:$G$2000=B140,ROW($B$3:$B$2000)-ROW($B$3)+1),ROWS($C$3:C140))),\"\")","v":0}]
[{"$f":"IFERROR(INDEX(اقساط!$AT$3:$AT$8532,SMALL(IF(اقساط!$G$3:$G$8532=B141,ROW($AT$3:$AT$8532)-ROW($AT$3)+1),ROWS($A$3:A141))),\"\")","v":0},{"$f":"IFERROR(INDEX(Names,SMALL(IF(Names<>\"\",IF(MID(Names,1,LEN($B$1))=$B$1,ROW(Names)-ROW($G$3)+1)),ROWS($A$1:A139))),\"\")","v":""},{"$f":"IFERROR(INDEX(اقساط!$B$3:$B$2000,SMALL(IF(اقساط!$G$3:$G$2000=B141,ROW($B$3:$B$2000)-ROW($B$3)+1),ROWS($C$3:C141))),\"\")","v":0}]
[{"$f":"IFERROR(INDEX(اقساط!$AT$3:$AT$8532,SMALL(IF(اقساط!$G$3:$G$8532=B142,ROW($AT$3:$AT$8532)-ROW($AT$3)+1),ROWS($A$3:A142))),\"\")","v":0},{"$f":"IFERROR(INDEX(Names,SMALL(IF(Names<>\"\",IF(MID(Names,1,LEN($B$1))=$B$1,ROW(Names)-ROW($G$3)+1)),ROWS($A$1:A140))),\"\")","v":""},{"$f":"IFERROR(INDEX(اقساط!$B$3:$B$2000,SMALL(IF(اقساط!$G$3:$G$2000=B142,ROW($B$3:$B$2000)-ROW($B$3)+1),ROWS($C$3:C142))),\"\")","v":0}]
[{"$f":"IFERROR(INDEX(اقساط!$AT$3:$AT$8532,SMALL(IF(اقساط!$G$3:$G$8532=B143,ROW($AT$3:$AT$8532)-ROW($AT$3)+1),ROWS($A$3:A143))),\"\")","v":0},{"$f":"IFERROR(INDEX(Names,SMALL(IF(Names<>\"\",IF(MID(Names,1,LEN($B$1))=$B$1,ROW(Names)-ROW($G$3)+1)),ROWS($A$1:A141))),\"\")","v":""},{"$f":"IFERROR(INDEX(اقساط!$B$3:$B$2000,SMALL(IF(اقساط!$G$3:$G$2000=B143,ROW($B$3:$B$2000)-ROW($B$3)+1),ROWS($C$3:C143))),\"\")","v":0}]
[{"$f":"IFERROR(INDEX(اقساط!$AT$3:$AT$8532,SMALL(IF(اقساط!$G$3:$G$8532=B144,ROW($AT$3:$AT$8532)-ROW($AT$3)+1),ROWS($A$3:A144))),\"\")","v":0},{"$f":"IFERROR(INDEX(Names,SMALL(IF(Names<>\"\",IF(MID(Names,1,LEN($B$1))=$B$1,ROW(Names)-ROW($G$3)+1)),ROWS($A$1:A142))),\"\")","v":""},{"$f":"IFERROR(INDEX(اقساط!$B$3:$B$2000,SMALL(IF(اقساط!$G$3:$G$2000=B144,ROW($B$3:$B$2000)-ROW($B$3)+1),ROWS($C$3:C144))),\"\")","v":0}]
[{"$f":"IFERROR(INDEX(اقساط!$AT$3:$AT$8532,SMALL(IF(اقساط!$G$3:$G$8532=B145,ROW($AT$3:$AT$8532)-ROW($AT$3)+1),ROWS($A$3:A145))),\"\")","v":0},{"$f":"IFERROR(INDEX(Names,SMALL(IF(Names<>\"\",IF(MID(Names,1,LEN($B$1))=$B$1,ROW(Names)-ROW($G$3)+1)),ROWS($A$1:A143))),\"\")","v":""},{"$f":"IFERROR(INDEX(اقساط!$B$3:$B$2000,SMALL(IF(اقساط!$G$3:$G$2000=B145,ROW($B$3:$B$2000)-ROW($B$3)+1),ROWS($C$3:C145))),\"\")","v":0}]
[{"$f":"IFERROR(INDEX(اقساط!$AT$3:$AT$8532,SMALL(IF(اقساط!$G$3:$G$8532=B146,ROW($AT$3:$AT$8532)-ROW($AT$3)+1),ROWS($A$3:A146))),\"\")","v":0},{"$f":"IFERROR(INDEX(Names,SMALL(IF(Names<>\"\",IF(MID(Names,1,LEN($B$1))=$B$1,ROW(Names)-ROW($G$3)+1)),ROWS($A$1:A144))),\"\")","v":""},{"$f":"IFERROR(INDEX(اقساط!$B$3:$B$2000,SMALL(IF(اقساط!$G$3:$G$2000=B146,ROW($B$3:$B$2000)-ROW($B$3)+1),ROWS($C$3:C146))),\"\")","v":0}]
[{"$f":"IFERROR(INDEX(اقساط!$AT$3:$AT$8532,SMALL(IF(اقساط!$G$3:$G$8532=B147,ROW($AT$3:$AT$8532)-ROW($AT$3)+1),ROWS($A$3:A147))),\"\")","v":0},{"$f":"IFERROR(INDEX(Names,SMALL(IF(Names<>\"\",IF(MID(Names,1,LEN($B$1))=$B$1,ROW(Names)-ROW($G$3)+1)),ROWS($A$1:A145))),\"\")","v":""},{"$f":"IFERROR(INDEX(اقساط!$B$3:$B$2000,SMALL(IF(اقساط!$G$3:$G$2000=B147,ROW($B$3:$B$2000)-ROW($B$3)+1),ROWS($C$3:C147))),\"\")","v":0}]
[{"$f":"IFERROR(INDEX(اقساط!$AT$3:$AT$8532,SMALL(IF(اقساط!$G$3:$G$8532=B148,ROW($AT$3:$AT$8532)-ROW($AT$3)+1),ROWS($A$3:A148))),\"\")","v":0},{"$f":"IFERROR(INDEX(Names,SMALL(IF(Names<>\"\",IF(MID(Names,1,LEN($B$1))=$B$1,ROW(Names)-ROW($G$3)+1)),ROWS($A$1:A146))),\"\")","v":""},{"$f":"IFERROR(INDEX(اقساط!$B$3:$B$2000,SMALL(IF(اقساط!$G$3:$G$2000=B148,ROW($B$3:$B$2000)-ROW($B$3)+1),ROWS($C$3:C148))),\"\")","v":0}]
[{"$f":"IFERROR(INDEX(اقساط!$AT$3:$AT$8532,SMALL(IF(اقساط!$G$3:$G$8532=B149,ROW($AT$3:$AT$8532)-ROW($AT$3)+1),ROWS($A$3:A149))),\"\")","v":0},{"$f":"IFERROR(INDEX(Names,SMALL(IF(Names<>\"\",IF(MID(Names,1,LEN($B$1))=$B$1,ROW(Names)-ROW($G$3)+1)),ROWS($A$1:A147))),\"\")","v":""},{"$f":"IFERROR(INDEX(اقساط!$B$3:$B$2000,SMALL(IF(اقساط!$G$3:$G$2000=B149,ROW($B$3:$B$2000)-ROW($B$3)+1),ROWS($C$3:C149))),\"\")","v":0}]
[{"$f":"IFERROR(INDEX(اقساط!$AT$3:$AT$8532,SMALL(IF(اقساط!$G$3:$G$8532=B150,ROW($AT$3:$AT$8532)-ROW($AT$3)+1),ROWS($A$3:A150))),\"\")","v":0},{"$f":"IFERROR(INDEX(Names,SMALL(IF(Names<>\"\",IF(MID(Names,1,LEN($B$1))=$B$1,ROW(Names)-ROW($G$3)+1)),ROWS($A$1:A148))),\"\")","v":""},{"$f":"IFERROR(INDEX(اقساط!$B$3:$B$2000,SMALL(IF(اقساط!$G$3:$G$2000=B150,ROW($B$3:$B$2000)-ROW($B$3)+1),ROWS($C$3:C150))),\"\")","v":0}]
[{"$f":"IFERROR(INDEX(اقساط!$AT$3:$AT$8532,SMALL(IF(اقساط!$G$3:$G$8532=B151,ROW($AT$3:$AT$8532)-ROW($AT$3)+1),ROWS($A$3:A151))),\"\")","v":0},{"$f":"IFERROR(INDEX(Names,SMALL(IF(Names<>\"\",IF(MID(Names,1,LEN($B$1))=$B$1,ROW(Names)-ROW($G$3)+1)),ROWS($A$1:A149))),\"\")","v":""},{"$f":"IFERROR(INDEX(اقساط!$B$3:$B$2000,SMALL(IF(اقساط!$G$3:$G$2000=B151,ROW($B$3:$B$2000)-ROW($B$3)+1),ROWS($C$3:C151))),\"\")","v":0}]
[{"$f":"IFERROR(INDEX(اقساط!$AT$3:$AT$8532,SMALL(IF(اقساط!$G$3:$G$8532=B152,ROW($AT$3:$AT$8532)-ROW($AT$3)+1),ROWS($A$3:A152))),\"\")","v":0},{"$f":"IFERROR(INDEX(Names,SMALL(IF(Names<>\"\",IF(MID(Names,1,LEN($B$1))=$B$1,ROW(Names)-ROW($G$3)+1)),ROWS($A$1:A150))),\"\")","v":""},{"$f":"IFERROR(INDEX(اقساط!$B$3:$B$2000,SMALL(IF(اقساط!$G$3:$G$2000=B152,ROW($B$3:$B$2000)-ROW($B$3)+1),ROWS($C$3:C152))),\"\")","v":0}]
[{"$f":"IFERROR(INDEX(اقساط!$AT$3:$AT$8532,SMALL(IF(اقساط!$G$3:$G$8532=B153,ROW($AT$3:$AT$8532)-ROW($AT$3)+1),ROWS($A$3:A153))),\"\")","v":0},{"$f":"IFERROR(INDEX(Names,SMALL(IF(Names<>\"\",IF(MID(Names,1,LEN($B$1))=$B$1,ROW(Names)-ROW($G$3)+1)),ROWS($A$1:A151))),\"\")","v":""},{"$f":"IFERROR(INDEX(اقساط!$B$3:$B$2000,SMALL(IF(اقساط!$G$3:$G$2000=B153,ROW($B$3:$B$2000)-ROW($B$3)+1),ROWS($C$3:C153))),\"\")","v":0}]
[{"$f":"IFERROR(INDEX(اقساط!$AT$3:$AT$8532,SMALL(IF(اقساط!$G$3:$G$8532=B154,ROW($AT$3:$AT$8532)-ROW($AT$3)+1),ROWS($A$3:A154))),\"\")","v":0},{"$f":"IFERROR(INDEX(Names,SMALL(IF(Names<>\"\",IF(MID(Names,1,LEN($B$1))=$B$1,ROW(Names)-ROW($G$3)+1)),ROWS($A$1:A152))),\"\")","v":""},{"$f":"IFERROR(INDEX(اقساط!$B$3:$B$2000,SMALL(IF(اقساط!$G$3:$G$2000=B154,ROW($B$3:$B$2000)-ROW($B$3)+1),ROWS($C$3:C154))),\"\")","v":0}]
[{"$f":"IFERROR(INDEX(اقساط!$AT$3:$AT$8532,SMALL(IF(اقساط!$G$3:$G$8532=B155,ROW($AT$3:$AT$8532)-ROW($AT$3)+1),ROWS($A$3:A155))),\"\")","v":0},{"$f":"IFERROR(INDEX(Names,SMALL(IF(Names<>\"\",IF(MID(Names,1,LEN($B$1))=$B$1,ROW(Names)-ROW($G$3)+1)),ROWS($A$1:A153))),\"\")","v":""},{"$f":"IFERROR(INDEX(اقساط!$B$3:$B$2000,SMALL(IF(اقساط!$G$3:$G$2000=B155,ROW($B$3:$B$2000)-ROW($B$3)+1),ROWS($C$3:C155))),\"\")","v":0}]
[{"$f":"IFERROR(INDEX(اقساط!$AT$3:$AT$8532,SMALL(IF(اقساط!$G$3:$G$8532=B156,ROW($AT$3:$AT$8532)-ROW($AT$3)+1),ROWS($A$3:A156))),\"\")","v":0},{"$f":"IFERROR(INDEX(Names,SMALL(IF(Names<>\"\",IF(MID(Names,1,LEN($B$1))=$B$1,ROW(Names)-ROW($G$3)+1)),ROWS($A$1:A154))),\"\")","v":""},{"$f":"IFERROR(INDEX(اقساط!$B$3:$B$2000,SMALL(IF(اقساط!$G$3:$G$2000=B156,ROW($B$3:$B$2000)-ROW($B$3)+1),ROWS($C$3:C156))),\"\")","v":0}]
[{"$f":"IFERROR(INDEX(اقساط!$AT$3:$AT$8532,SMALL(IF(اقساط!$G$3:$G$8532=B157,ROW($AT$3:$AT$8532)-ROW($AT$3)+1),ROWS($A$3:A157))),\"\")","v":0},{"$f":"IFERROR(INDEX(Names,SMALL(IF(Names<>\"\",IF(MID(Names,1,LEN($B$1))=$B$1,ROW(Names)-ROW($G$3)+1)),ROWS($A$1:A155))),\"\")","v":""},{"$f":"IFERROR(INDEX(اقساط!$B$3:$B$2000,SMALL(IF(اقساط!$G$3:$G$2000=B157,ROW($B$3:$B$2000)-ROW($B$3)+1),ROWS($C$3:C157))),\"\")","v":0}]
[{"$f":"IFERROR(INDEX(اقساط!$AT$3:$AT$8532,SMALL(IF(اقساط!$G$3:$G$8532=B158,ROW($AT$3:$AT$8532)-ROW($AT$3)+1),ROWS($A$3:A158))),\"\")","v":0},{"$f":"IFERROR(INDEX(Names,SMALL(IF(Names<>\"\",IF(MID(Names,1,LEN($B$1))=$B$1,ROW(Names)-ROW($G$3)+1)),ROWS($A$1:A156))),\"\")","v":""},{"$f":"IFERROR(INDEX(اقساط!$B$3:$B$2000,SMALL(IF(اقساط!$G$3:$G$2000=B158,ROW($B$3:$B$2000)-ROW($B$3)+1),ROWS($C$3:C158))),\"\")","v":0}]
[{"$f":"IFERROR(INDEX(اقساط!$AT$3:$AT$8532,SMALL(IF(اقساط!$G$3:$G$8532=B159,ROW($AT$3:$AT$8532)-ROW($AT$3)+1),ROWS($A$3:A159))),\"\")","v":0},{"$f":"IFERROR(INDEX(Names,SMALL(IF(Names<>\"\",IF(MID(Names,1,LEN($B$1))=$B$1,ROW(Names)-ROW($G$3)+1)),ROWS($A$1:A157))),\"\")","v":""},{"$f":"IFERROR(INDEX(اقساط!$B$3:$B$2000,SMALL(IF(اقساط!$G$3:$G$2000=B159,ROW($B$3:$B$2000)-ROW($B$3)+1),ROWS($C$3:C159))),\"\")","v":0}]
[{"$f":"IFERROR(INDEX(اقساط!$AT$3:$AT$8532,SMALL(IF(اقساط!$G$3:$G$8532=B160,ROW($AT$3:$AT$8532)-ROW($AT$3)+1),ROWS($A$3:A160))),\"\")","v":0},{"$f":"IFERROR(INDEX(Names,SMALL(IF(Names<>\"\",IF(MID(Names,1,LEN($B$1))=$B$1,ROW(Names)-ROW($G$3)+1)),ROWS($A$1:A158))),\"\")","v":""},{"$f":"IFERROR(INDEX(اقساط!$B$3:$B$2000,SMALL(IF(اقساط!$G$3:$G$2000=B160,ROW($B$3:$B$2000)-ROW($B$3)+1),ROWS($C$3:C160))),\"\")","v":0}]
[{"$f":"IFERROR(INDEX(اقساط!$AT$3:$AT$8532,SMALL(IF(اقساط!$G$3:$G$8532=B161,ROW($AT$3:$AT$8532)-ROW($AT$3)+1),ROWS($A$3:A161))),\"\")","v":0},{"$f":"IFERROR(INDEX(Names,SMALL(IF(Names<>\"\",IF(MID(Names,1,LEN($B$1))=$B$1,ROW(Names)-ROW($G$3)+1)),ROWS($A$1:A159))),\"\")","v":""},{"$f":"IFERROR(INDEX(اقساط!$B$3:$B$2000,SMALL(IF(اقساط!$G$3:$G$2000=B161,ROW($B$3:$B$2000)-ROW($B$3)+1),ROWS($C$3:C161))),\"\")","v":0}]
[{"$f":"IFERROR(INDEX(اقساط!$AT$3:$AT$8532,SMALL(IF(اقساط!$G$3:$G$8532=B162,ROW($AT$3:$AT$8532)-ROW($AT$3)+1),ROWS($A$3:A162))),\"\")","v":0},{"$f":"IFERROR(INDEX(Names,SMALL(IF(Names<>\"\",IF(MID(Names,1,LEN($B$1))=$B$1,ROW(Names)-ROW($G$3)+1)),ROWS($A$1:A160))),\"\")","v":""},{"$f":"IFERROR(INDEX(اقساط!$B$3:$B$2000,SMALL(IF(اقساط!$G$3:$G$2000=B162,ROW($B$3:$B$2000)-ROW($B$3)+1),ROWS($C$3:C162))),\"\")","v":0}]
[{"$f":"IFERROR(INDEX(اقساط!$AT$3:$AT$8532,SMALL(IF(اقساط!$G$3:$G$8532=B163,ROW($AT$3:$AT$8532)-ROW($AT$3)+1),ROWS($A$3:A163))),\"\")","v":0},{"$f":"IFERROR(INDEX(Names,SMALL(IF(Names<>\"\",IF(MID(Names,1,LEN($B$1))=$B$1,ROW(Names)-ROW($G$3)+1)),ROWS($A$1:A161))),\"\")","v":""},{"$f":"IFERROR(INDEX(اقساط!$B$3:$B$2000,SMALL(IF(اقساط!$G$3:$G$2000=B163,ROW($B$3:$B$2000)-ROW($B$3)+1),ROWS($C$3:C163))),\"\")","v":0}]
[{"$f":"IFERROR(INDEX(اقساط!$AT$3:$AT$8532,SMALL(IF(اقساط!$G$3:$G$8532=B164,ROW($AT$3:$AT$8532)-ROW($AT$3)+1),ROWS($A$3:A164))),\"\")","v":0},{"$f":"IFERROR(INDEX(Names,SMALL(IF(Names<>\"\",IF(MID(Names,1,LEN($B$1))=$B$1,ROW(Names)-ROW($G$3)+1)),ROWS($A$1:A162))),\"\")","v":""},{"$f":"IFERROR(INDEX(اقساط!$B$3:$B$2000,SMALL(IF(اقساط!$G$3:$G$2000=B164,ROW($B$3:$B$2000)-ROW($B$3)+1),ROWS($C$3:C164))),\"\")","v":0}]
[{"$f":"IFERROR(INDEX(اقساط!$AT$3:$AT$8532,SMALL(IF(اقساط!$G$3:$G$8532=B165,ROW($AT$3:$AT$8532)-ROW($AT$3)+1),ROWS($A$3:A165))),\"\")","v":0},{"$f":"IFERROR(INDEX(Names,SMALL(IF(Names<>\"\",IF(MID(Names,1,LEN($B$1))=$B$1,ROW(Names)-ROW($G$3)+1)),ROWS($A$1:A163))),\"\")","v":""},{"$f":"IFERROR(INDEX(اقساط!$B$3:$B$2000,SMALL(IF(اقساط!$G$3:$G$2000=B165,ROW($B$3:$B$2000)-ROW($B$3)+1),ROWS($C$3:C165))),\"\")","v":0}]
[{"$f":"IFERROR(INDEX(اقساط!$AT$3:$AT$8532,SMALL(IF(اقساط!$G$3:$G$8532=B166,ROW($AT$3:$AT$8532)-ROW($AT$3)+1),ROWS($A$3:A166))),\"\")","v":0},{"$f":"IFERROR(INDEX(Names,SMALL(IF(Names<>\"\",IF(MID(Names,1,LEN($B$1))=$B$1,ROW(Names)-ROW($G$3)+1)),ROWS($A$1:A164))),\"\")","v":""},{"$f":"IFERROR(INDEX(اقساط!$B$3:$B$2000,SMALL(IF(اقساط!$G$3:$G$2000=B166,ROW($B$3:$B$2000)-ROW($B$3)+1),ROWS($C$3:C166))),\"\")","v":0}]
[{"$f":"IFERROR(INDEX(اقساط!$AT$3:$AT$8532,SMALL(IF(اقساط!$G$3:$G$8532=B167,ROW($AT$3:$AT$8532)-ROW($AT$3)+1),ROWS($A$3:A167))),\"\")","v":0},{"$f":"IFERROR(INDEX(Names,SMALL(IF(Names<>\"\",IF(MID(Names,1,LEN($B$1))=$B$1,ROW(Names)-ROW($G$3)+1)),ROWS($A$1:A165))),\"\")","v":""},{"$f":"IFERROR(INDEX(اقساط!$B$3:$B$2000,SMALL(IF(اقساط!$G$3:$G$2000=B167,ROW($B$3:$B$2000)-ROW($B$3)+1),ROWS($C$3:C167))),\"\")","v":0}]
[{"$f":"IFERROR(INDEX(اقساط!$AT$3:$AT$8532,SMALL(IF(اقساط!$G$3:$G$8532=B168,ROW($AT$3:$AT$8532)-ROW($AT$3)+1),ROWS($A$3:A168))),\"\")","v":0},{"$f":"IFERROR(INDEX(Names,SMALL(IF(Names<>\"\",IF(MID(Names,1,LEN($B$1))=$B$1,ROW(Names)-ROW($G$3)+1)),ROWS($A$1:A166))),\"\")","v":""},{"$f":"IFERROR(INDEX(اقساط!$B$3:$B$2000,SMALL(IF(اقساط!$G$3:$G$2000=B168,ROW($B$3:$B$2000)-ROW($B$3)+1),ROWS($C$3:C168))),\"\")","v":0}]
[{"$f":"IFERROR(INDEX(اقساط!$AT$3:$AT$8532,SMALL(IF(اقساط!$G$3:$G$8532=B169,ROW($AT$3:$AT$8532)-ROW($AT$3)+1),ROWS($A$3:A169))),\"\")","v":0},{"$f":"IFERROR(INDEX(Names,SMALL(IF(Names<>\"\",IF(MID(Names,1,LEN($B$1))=$B$1,ROW(Names)-ROW($G$3)+1)),ROWS($A$1:A167))),\"\")","v":""},{"$f":"IFERROR(INDEX(اقساط!$B$3:$B$2000,SMALL(IF(اقساط!$G$3:$G$2000=B169,ROW($B$3:$B$2000)-ROW($B$3)+1),ROWS($C$3:C169))),\"\")","v":0}]
[{"$f":"IFERROR(INDEX(اقساط!$AT$3:$AT$8532,SMALL(IF(اقساط!$G$3:$G$8532=B170,ROW($AT$3:$AT$8532)-ROW($AT$3)+1),ROWS($A$3:A170))),\"\")","v":0},{"$f":"IFERROR(INDEX(Names,SMALL(IF(Names<>\"\",IF(MID(Names,1,LEN($B$1))=$B$1,ROW(Names)-ROW($G$3)+1)),ROWS($A$1:A168))),\"\")","v":""},{"$f":"IFERROR(INDEX(اقساط!$B$3:$B$2000,SMALL(IF(اقساط!$G$3:$G$2000=B170,ROW($B$3:$B$2000)-ROW($B$3)+1),ROWS($C$3:C170))),\"\")","v":0}]
[{"$f":"IFERROR(INDEX(اقساط!$AT$3:$AT$8532,SMALL(IF(اقساط!$G$3:$G$8532=B171,ROW($AT$3:$AT$8532)-ROW($AT$3)+1),ROWS($A$3:A171))),\"\")","v":0},{"$f":"IFERROR(INDEX(Names,SMALL(IF(Names<>\"\",IF(MID(Names,1,LEN($B$1))=$B$1,ROW(Names)-ROW($G$3)+1)),ROWS($A$1:A169))),\"\")","v":""},{"$f":"IFERROR(INDEX(اقساط!$B$3:$B$2000,SMALL(IF(اقساط!$G$3:$G$2000=B171,ROW($B$3:$B$2000)-ROW($B$3)+1),ROWS($C$3:C171))),\"\")","v":0}]
[{"$f":"IFERROR(INDEX(اقساط!$AT$3:$AT$8532,SMALL(IF(اقساط!$G$3:$G$8532=B172,ROW($AT$3:$AT$8532)-ROW($AT$3)+1),ROWS($A$3:A172))),\"\")","v":0},{"$f":"IFERROR(INDEX(Names,SMALL(IF(Names<>\"\",IF(MID(Names,1,LEN($B$1))=$B$1,ROW(Names)-ROW($G$3)+1)),ROWS($A$1:A170))),\"\")","v":""},{"$f":"IFERROR(INDEX(اقساط!$B$3:$B$2000,SMALL(IF(اقساط!$G$3:$G$2000=B172,ROW($B$3:$B$2000)-ROW($B$3)+1),ROWS($C$3:C172))),\"\")","v":0}]
[{"$f":"IFERROR(INDEX(اقساط!$AT$3:$AT$8532,SMALL(IF(اقساط!$G$3:$G$8532=B173,ROW($AT$3:$AT$8532)-ROW($AT$3)+1),ROWS($A$3:A173))),\"\")","v":0},{"$f":"IFERROR(INDEX(Names,SMALL(IF(Names<>\"\",IF(MID(Names,1,LEN($B$1))=$B$1,ROW(Names)-ROW($G$3)+1)),ROWS($A$1:A171))),\"\")","v":""},{"$f":"IFERROR(INDEX(اقساط!$B$3:$B$2000,SMALL(IF(اقساط!$G$3:$G$2000=B173,ROW($B$3:$B$2000)-ROW($B$3)+1),ROWS($C$3:C173))),\"\")","v":0}]
[{"$f":"IFERROR(INDEX(اقساط!$AT$3:$AT$8532,SMALL(IF(اقساط!$G$3:$G$8532=B174,ROW($AT$3:$AT$8532)-ROW($AT$3)+1),ROWS($A$3:A174))),\"\")","v":0},{"$f":"IFERROR(INDEX(Names,SMALL(IF(Names<>\"\",IF(MID(Names,1,LEN($B$1))=$B$1,ROW(Names)-ROW($G$3)+1)),ROWS($A$1:A172))),\"\")","v":""},{"$f":"IFERROR(INDEX(اقساط!$B$3:$B$2000,SMALL(IF(اقساط!$G$3:$G$2000=B174,ROW($B$3:$B$2000)-ROW($B$3)+1),ROWS($C$3:C174))),\"\")","v":0}]
[{"$f":"IFERROR(INDEX(اقساط!$AT$3:$AT$8532,SMALL(IF(اقساط!$G$3:$G$8532=B175,ROW($AT$3:$AT$8532)-ROW($AT$3)+1),ROWS($A$3:A175))),\"\")","v":0},{"$f":"IFERROR(INDEX(Names,SMALL(IF(Names<>\"\",IF(MID(Names,1,LEN($B$1))=$B$1,ROW(Names)-ROW($G$3)+1)),ROWS($A$1:A173))),\"\")","v":""},{"$f":"IFERROR(INDEX(اقساط!$B$3:$B$2000,SMALL(IF(اقساط!$G$3:$G$2000=B175,ROW($B$3:$B$2000)-ROW($B$3)+1),ROWS($C$3:C175))),\"\")","v":0}]
[{"$f":"IFERROR(INDEX(اقساط!$AT$3:$AT$8532,SMALL(IF(اقساط!$G$3:$G$8532=B176,ROW($AT$3:$AT$8532)-ROW($AT$3)+1),ROWS($A$3:A176))),\"\")","v":0},{"$f":"IFERROR(INDEX(Names,SMALL(IF(Names<>\"\",IF(MID(Names,1,LEN($B$1))=$B$1,ROW(Names)-ROW($G$3)+1)),ROWS($A$1:A174))),\"\")","v":""},{"$f":"IFERROR(INDEX(اقساط!$B$3:$B$2000,SMALL(IF(اقساط!$G$3:$G$2000=B176,ROW($B$3:$B$2000)-ROW($B$3)+1),ROWS($C$3:C176))),\"\")","v":0}]
[{"$f":"IFERROR(INDEX(اقساط!$AT$3:$AT$8532,SMALL(IF(اقساط!$G$3:$G$8532=B177,ROW($AT$3:$AT$8532)-ROW($AT$3)+1),ROWS($A$3:A177))),\"\")","v":0},{"$f":"IFERROR(INDEX(Names,SMALL(IF(Names<>\"\",IF(MID(Names,1,LEN($B$1))=$B$1,ROW(Names)-ROW($G$3)+1)),ROWS($A$1:A175))),\"\")","v":""},{"$f":"IFERROR(INDEX(اقساط!$B$3:$B$2000,SMALL(IF(اقساط!$G$3:$G$2000=B177,ROW($B$3:$B$2000)-ROW($B$3)+1),ROWS($C$3:C177))),\"\")","v":0}]
[{"$f":"IFERROR(INDEX(اقساط!$AT$3:$AT$8532,SMALL(IF(اقساط!$G$3:$G$8532=B178,ROW($AT$3:$AT$8532)-ROW($AT$3)+1),ROWS($A$3:A178))),\"\")","v":0},{"$f":"IFERROR(INDEX(Names,SMALL(IF(Names<>\"\",IF(MID(Names,1,LEN($B$1))=$B$1,ROW(Names)-ROW($G$3)+1)),ROWS($A$1:A176))),\"\")","v":""},{"$f":"IFERROR(INDEX(اقساط!$B$3:$B$2000,SMALL(IF(اقساط!$G$3:$G$2000=B178,ROW($B$3:$B$2000)-ROW($B$3)+1),ROWS($C$3:C178))),\"\")","v":0}]
[{"$f":"IFERROR(INDEX(اقساط!$AT$3:$AT$8532,SMALL(IF(اقساط!$G$3:$G$8532=B179,ROW($AT$3:$AT$8532)-ROW($AT$3)+1),ROWS($A$3:A179))),\"\")","v":0},{"$f":"IFERROR(INDEX(Names,SMALL(IF(Names<>\"\",IF(MID(Names,1,LEN($B$1))=$B$1,ROW(Names)-ROW($G$3)+1)),ROWS($A$1:A177))),\"\")","v":""},{"$f":"IFERROR(INDEX(اقساط!$B$3:$B$2000,SMALL(IF(اقساط!$G$3:$G$2000=B179,ROW($B$3:$B$2000)-ROW($B$3)+1),ROWS($C$3:C179))),\"\")","v":0}]
[{"$f":"IFERROR(INDEX(اقساط!$AT$3:$AT$8532,SMALL(IF(اقساط!$G$3:$G$8532=B180,ROW($AT$3:$AT$8532)-ROW($AT$3)+1),ROWS($A$3:A180))),\"\")","v":0},{"$f":"IFERROR(INDEX(Names,SMALL(IF(Names<>\"\",IF(MID(Names,1,LEN($B$1))=$B$1,ROW(Names)-ROW($G$3)+1)),ROWS($A$1:A178))),\"\")","v":""},{"$f":"IFERROR(INDEX(اقساط!$B$3:$B$2000,SMALL(IF(اقساط!$G$3:$G$2000=B180,ROW($B$3:$B$2000)-ROW($B$3)+1),ROWS($C$3:C180))),\"\")","v":0}]
[{"$f":"IFERROR(INDEX(اقساط!$AT$3:$AT$8532,SMALL(IF(اقساط!$G$3:$G$8532=B181,ROW($AT$3:$AT$8532)-ROW($AT$3)+1),ROWS($A$3:A181))),\"\")","v":0},{"$f":"IFERROR(INDEX(Names,SMALL(IF(Names<>\"\",IF(MID(Names,1,LEN($B$1))=$B$1,ROW(Names)-ROW($G$3)+1)),ROWS($A$1:A179))),\"\")","v":""},{"$f":"IFERROR(INDEX(اقساط!$B$3:$B$2000,SMALL(IF(اقساط!$G$3:$G$2000=B181,ROW($B$3:$B$2000)-ROW($B$3)+1),ROWS($C$3:C181))),\"\")","v":0}]
[{"$f":"IFERROR(INDEX(اقساط!$AT$3:$AT$8532,SMALL(IF(اقساط!$G$3:$G$8532=B182,ROW($AT$3:$AT$8532)-ROW($AT$3)+1),ROWS($A$3:A182))),\"\")","v":0},{"$f":"IFERROR(INDEX(Names,SMALL(IF(Names<>\"\",IF(MID(Names,1,LEN($B$1))=$B$1,ROW(Names)-ROW($G$3)+1)),ROWS($A$1:A180))),\"\")","v":""},{"$f":"IFERROR(INDEX(اقساط!$B$3:$B$2000,SMALL(IF(اقساط!$G$3:$G$2000=B182,ROW($B$3:$B$2000)-ROW($B$3)+1),ROWS($C$3:C182))),\"\")","v":0}]
[{"$f":"IFERROR(INDEX(اقساط!$AT$3:$AT$8532,SMALL(IF(اقساط!$G$3:$G$8532=B183,ROW($AT$3:$AT$8532)-ROW($AT$3)+1),ROWS($A$3:A183))),\"\")","v":0},{"$f":"IFERROR(INDEX(Names,SMALL(IF(Names<>\"\",IF(MID(Names,1,LEN($B$1))=$B$1,ROW(Names)-ROW($G$3)+1)),ROWS($A$1:A181))),\"\")","v":""},{"$f":"IFERROR(INDEX(اقساط!$B$3:$B$2000,SMALL(IF(اقساط!$G$3:$G$2000=B183,ROW($B$3:$B$2000)-ROW($B$3)+1),ROWS($C$3:C183))),\"\")","v":0}]
[{"$f":"IFERROR(INDEX(اقساط!$AT$3:$AT$8532,SMALL(IF(اقساط!$G$3:$G$8532=B184,ROW($AT$3:$AT$8532)-ROW($AT$3)+1),ROWS($A$3:A184))),\"\")","v":0},{"$f":"IFERROR(INDEX(Names,SMALL(IF(Names<>\"\",IF(MID(Names,1,LEN($B$1))=$B$1,ROW(Names)-ROW($G$3)+1)),ROWS($A$1:A182))),\"\")","v":""},{"$f":"IFERROR(INDEX(اقساط!$B$3:$B$2000,SMALL(IF(اقساط!$G$3:$G$2000=B184,ROW($B$3:$B$2000)-ROW($B$3)+1),ROWS($C$3:C184))),\"\")","v":0}]
[{"$f":"IFERROR(INDEX(اقساط!$AT$3:$AT$8532,SMALL(IF(اقساط!$G$3:$G$8532=B185,ROW($AT$3:$AT$8532)-ROW($AT$3)+1),ROWS($A$3:A185))),\"\")","v":0},{"$f":"IFERROR(INDEX(Names,SMALL(IF(Names<>\"\",IF(MID(Names,1,LEN($B$1))=$B$1,ROW(Names)-ROW($G$3)+1)),ROWS($A$1:A183))),\"\")","v":""},{"$f":"IFERROR(INDEX(اقساط!$B$3:$B$2000,SMALL(IF(اقساط!$G$3:$G$2000=B185,ROW($B$3:$B$2000)-ROW($B$3)+1),ROWS($C$3:C185))),\"\")","v":0}]
[{"$f":"IFERROR(INDEX(اقساط!$AT$3:$AT$8532,SMALL(IF(اقساط!$G$3:$G$8532=B186,ROW($AT$3:$AT$8532)-ROW($AT$3)+1),ROWS($A$3:A186))),\"\")","v":0},{"$f":"IFERROR(INDEX(Names,SMALL(IF(Names<>\"\",IF(MID(Names,1,LEN($B$1))=$B$1,ROW(Names)-ROW($G$3)+1)),ROWS($A$1:A184))),\"\")","v":""},{"$f":"IFERROR(INDEX(اقساط!$B$3:$B$2000,SMALL(IF(اقساط!$G$3:$G$2000=B186,ROW($B$3:$B$2000)-ROW($B$3)+1),ROWS($C$3:C186))),\"\")","v":0}]
[{"$f":"IFERROR(INDEX(اقساط!$AT$3:$AT$8532,SMALL(IF(اقساط!$G$3:$G$8532=B187,ROW($AT$3:$AT$8532)-ROW($AT$3)+1),ROWS($A$3:A187))),\"\")","v":0},{"$f":"IFERROR(INDEX(Names,SMALL(IF(Names<>\"\",IF(MID(Names,1,LEN($B$1))=$B$1,ROW(Names)-ROW($G$3)+1)),ROWS($A$1:A185))),\"\")","v":""},{"$f":"IFERROR(INDEX(اقساط!$B$3:$B$2000,SMALL(IF(اقساط!$G$3:$G$2000=B187,ROW($B$3:$B$2000)-ROW($B$3)+1),ROWS($C$3:C187))),\"\")","v":0}]
[{"$f":"IFERROR(INDEX(اقساط!$AT$3:$AT$8532,SMALL(IF(اقساط!$G$3:$G$8532=B188,ROW($AT$3:$AT$8532)-ROW($AT$3)+1),ROWS($A$3:A188))),\"\")","v":0},{"$f":"IFERROR(INDEX(Names,SMALL(IF(Names<>\"\",IF(MID(Names,1,LEN($B$1))=$B$1,ROW(Names)-ROW($G$3)+1)),ROWS($A$1:A186))),\"\")","v":""},{"$f":"IFERROR(INDEX(اقساط!$B$3:$B$2000,SMALL(IF(اقساط!$G$3:$G$2000=B188,ROW($B$3:$B$2000)-ROW($B$3)+1),ROWS($C$3:C188))),\"\")","v":0}]
[{"$f":"IFERROR(INDEX(اقساط!$AT$3:$AT$8532,SMALL(IF(اقساط!$G$3:$G$8532=B189,ROW($AT$3:$AT$8532)-ROW($AT$3)+1),ROWS($A$3:A189))),\"\")","v":0},{"$f":"IFERROR(INDEX(Names,SMALL(IF(Names<>\"\",IF(MID(Names,1,LEN($B$1))=$B$1,ROW(Names)-ROW($G$3)+1)),ROWS($A$1:A187))),\"\")","v":""},{"$f":"IFERROR(INDEX(اقساط!$B$3:$B$2000,SMALL(IF(اقساط!$G$3:$G$2000=B189,ROW($B$3:$B$2000)-ROW($B$3)+1),ROWS($C$3:C189))),\"\")","v":0}]
[{"$f":"IFERROR(INDEX(اقساط!$AT$3:$AT$8532,SMALL(IF(اقساط!$G$3:$G$8532=B190,ROW($AT$3:$AT$8532)-ROW($AT$3)+1),ROWS($A$3:A190))),\"\")","v":0},{"$f":"IFERROR(INDEX(Names,SMALL(IF(Names<>\"\",IF(MID(Names,1,LEN($B$1))=$B$1,ROW(Names)-ROW($G$3)+1)),ROWS($A$1:A188))),\"\")","v":""},{"$f":"IFERROR(INDEX(اقساط!$B$3:$B$2000,SMALL(IF(اقساط!$G$3:$G$2000=B190,ROW($B$3:$B$2000)-ROW($B$3)+1),ROWS($C$3:C190))),\"\")","v":0}]
[{"$f":"IFERROR(INDEX(اقساط!$AT$3:$AT$8532,SMALL(IF(اقساط!$G$3:$G$8532=B191,ROW($AT$3:$AT$8532)-ROW($AT$3)+1),ROWS($A$3:A191))),\"\")","v":0},{"$f":"IFERROR(INDEX(Names,SMALL(IF(Names<>\"\",IF(MID(Names,1,LEN($B$1))=$B$1,ROW(Names)-ROW($G$3)+1)),ROWS($A$1:A189))),\"\")","v":""},{"$f":"IFERROR(INDEX(اقساط!$B$3:$B$2000,SMALL(IF(اقساط!$G$3:$G$2000=B191,ROW($B$3:$B$2000)-ROW($B$3)+1),ROWS($C$3:C191))),\"\")","v":0}]
[{"$f":"IFERROR(INDEX(اقساط!$AT$3:$AT$8532,SMALL(IF(اقساط!$G$3:$G$8532=B192,ROW($AT$3:$AT$8532)-ROW($AT$3)+1),ROWS($A$3:A192))),\"\")","v":0},{"$f":"IFERROR(INDEX(Names,SMALL(IF(Names<>\"\",IF(MID(Names,1,LEN($B$1))=$B$1,ROW(Names)-ROW($G$3)+1)),ROWS($A$1:A190))),\"\")","v":""},{"$f":"IFERROR(INDEX(اقساط!$B$3:$B$2000,SMALL(IF(اقساط!$G$3:$G$2000=B192,ROW($B$3:$B$2000)-ROW($B$3)+1),ROWS($C$3:C192))),\"\")","v":0}]
[{"$f":"IFERROR(INDEX(اقساط!$AT$3:$AT$8532,SMALL(IF(اقساط!$G$3:$G$8532=B193,ROW($AT$3:$AT$8532)-ROW($AT$3)+1),ROWS($A$3:A193))),\"\")","v":0},{"$f":"IFERROR(INDEX(Names,SMALL(IF(Names<>\"\",IF(MID(Names,1,LEN($B$1))=$B$1,ROW(Names)-ROW($G$3)+1)),ROWS($A$1:A191))),\"\")","v":""},{"$f":"IFERROR(INDEX(اقساط!$B$3:$B$2000,SMALL(IF(اقساط!$G$3:$G$2000=B193,ROW($B$3:$B$2000)-ROW($B$3)+1),ROWS($C$3:C193))),\"\")","v":0}]
[{"$f":"IFERROR(INDEX(اقساط!$AT$3:$AT$8532,SMALL(IF(اقساط!$G$3:$G$8532=B194,ROW($AT$3:$AT$8532)-ROW($AT$3)+1),ROWS($A$3:A194))),\"\")","v":0},{"$f":"IFERROR(INDEX(Names,SMALL(IF(Names<>\"\",IF(MID(Names,1,LEN($B$1))=$B$1,ROW(Names)-ROW($G$3)+1)),ROWS($A$1:A192))),\"\")","v":""},{"$f":"IFERROR(INDEX(اقساط!$B$3:$B$2000,SMALL(IF(اقساط!$G$3:$G$2000=B194,ROW($B$3:$B$2000)-ROW($B$3)+1),ROWS($C$3:C194))),\"\")","v":0}]
[{"$f":"IFERROR(INDEX(اقساط!$AT$3:$AT$8532,SMALL(IF(اقساط!$G$3:$G$8532=B195,ROW($AT$3:$AT$8532)-ROW($AT$3)+1),ROWS($A$3:A195))),\"\")","v":0},{"$f":"IFERROR(INDEX(Names,SMALL(IF(Names<>\"\",IF(MID(Names,1,LEN($B$1))=$B$1,ROW(Names)-ROW($G$3)+1)),ROWS($A$1:A193))),\"\")","v":""},{"$f":"IFERROR(INDEX(اقساط!$B$3:$B$2000,SMALL(IF(اقساط!$G$3:$G$2000=B195,ROW($B$3:$B$2000)-ROW($B$3)+1),ROWS($C$3:C195))),\"\")","v":0}]
[{"$f":"IFERROR(INDEX(اقساط!$AT$3:$AT$8532,SMALL(IF(اقساط!$G$3:$G$8532=B196,ROW($AT$3:$AT$8532)-ROW($AT$3)+1),ROWS($A$3:A196))),\"\")","v":0},{"$f":"IFERROR(INDEX(Names,SMALL(IF(Names<>\"\",IF(MID(Names,1,LEN($B$1))=$B$1,ROW(Names)-ROW($G$3)+1)),ROWS($A$1:A194))),\"\")","v":""},{"$f":"IFERROR(INDEX(اقساط!$B$3:$B$2000,SMALL(IF(اقساط!$G$3:$G$2000=B196,ROW($B$3:$B$2000)-ROW($B$3)+1),ROWS($C$3:C196))),\"\")","v":0}]
[{"$f":"IFERROR(INDEX(اقساط!$AT$3:$AT$8532,SMALL(IF(اقساط!$G$3:$G$8532=B197,ROW($AT$3:$AT$8532)-ROW($AT$3)+1),ROWS($A$3:A197))),\"\")","v":0},{"$f":"IFERROR(INDEX(Names,SMALL(IF(Names<>\"\",IF(MID(Names,1,LEN($B$1))=$B$1,ROW(Names)-ROW($G$3)+1)),ROWS($A$1:A195))),\"\")","v":""},{"$f":"IFERROR(INDEX(اقساط!$B$3:$B$2000,SMALL(IF(اقساط!$G$3:$G$2000=B197,ROW($B$3:$B$2000)-ROW($B$3)+1),ROWS($C$3:C197))),\"\")","v":0}]
[{"$f":"IFERROR(INDEX(اقساط!$AT$3:$AT$8532,SMALL(IF(اقساط!$G$3:$G$8532=B198,ROW($AT$3:$AT$8532)-ROW($AT$3)+1),ROWS($A$3:A198))),\"\")","v":0},{"$f":"IFERROR(INDEX(Names,SMALL(IF(Names<>\"\",IF(MID(Names,1,LEN($B$1))=$B$1,ROW(Names)-ROW($G$3)+1)),ROWS($A$1:A196))),\"\")","v":""},{"$f":"IFERROR(INDEX(اقساط!$B$3:$B$2000,SMALL(IF(اقساط!$G$3:$G$2000=B198,ROW($B$3:$B$2000)-ROW($B$3)+1),ROWS($C$3:C198))),\"\")","v":0}]
[{"$f":"IFERROR(INDEX(اقساط!$AT$3:$AT$8532,SMALL(IF(اقساط!$G$3:$G$8532=B199,ROW($AT$3:$AT$8532)-ROW($AT$3)+1),ROWS($A$3:A199))),\"\")","v":0},{"$f":"IFERROR(INDEX(Names,SMALL(IF(Names<>\"\",IF(MID(Names,1,LEN($B$1))=$B$1,ROW(Names)-ROW($G$3)+1)),ROWS($A$1:A197))),\"\")","v":""},{"$f":"IFERROR(INDEX(اقساط!$B$3:$B$2000,SMALL(IF(اقساط!$G$3:$G$2000=B199,ROW($B$3:$B$2000)-ROW($B$3)+1),ROWS($C$3:C199))),\"\")","v":0}]
[{"$f":"IFERROR(INDEX(اقساط!$AT$3:$AT$8532,SMALL(IF(اقساط!$G$3:$G$8532=B200,ROW($AT$3:$AT$8532)-ROW($AT$3)+1),ROWS($A$3:A200))),\"\")","v":0},{"$f":"IFERROR(INDEX(Names,SMALL(IF(Names<>\"\",IF(MID(Names,1,LEN($B$1))=$B$1,ROW(Names)-ROW($G$3)+1)),ROWS($A$1:A198))),\"\")","v":""},{"$f":"IFERROR(INDEX(اقساط!$B$3:$B$2000,SMALL(IF(اقساط!$G$3:$G$2000=B200,ROW($B$3:$B$2000)-ROW($B$3)+1),ROWS($C$3:C200))),\"\")","v":0}]
[{"$f":"IFERROR(INDEX(اقساط!$AT$3:$AT$8532,SMALL(IF(اقساط!$G$3:$G$8532=B201,ROW($AT$3:$AT$8532)-ROW($AT$3)+1),ROWS($A$3:A201))),\"\")","v":0},{"$f":"IFERROR(INDEX(Names,SMALL(IF(Names<>\"\",IF(MID(Names,1,LEN($B$1))=$B$1,ROW(Names)-ROW($G$3)+1)),ROWS($A$1:A199))),\"\")","v":""},{"$f":"IFERROR(INDEX(اقساط!$B$3:$B$2000,SMALL(IF(اقساط!$G$3:$G$2000=B201,ROW($B$3:$B$2000)-ROW($B$3)+1),ROWS($C$3:C201))),\"\")","v":0}]
[{"$f":"IFERROR(INDEX(اقساط!$AT$3:$AT$8532,SMALL(IF(اقساط!$G$3:$G$8532=B202,ROW($AT$3:$AT$8532)-ROW($AT$3)+1),ROWS($A$3:A202))),\"\")","v":0},{"$f":"IFERROR(INDEX(Names,SMALL(IF(Names<>\"\",IF(MID(Names,1,LEN($B$1))=$B$1,ROW(Names)-ROW($G$3)+1)),ROWS($A$1:A200))),\"\")","v":""},{"$f":"IFERROR(INDEX(اقساط!$B$3:$B$2000,SMALL(IF(اقساط!$G$3:$G$2000=B202,ROW($B$3:$B$2000)-ROW($B$3)+1),ROWS($C$3:C202))),\"\")","v":0}]
[{"$f":"IFERROR(INDEX(اقساط!$AT$3:$AT$8532,SMALL(IF(اقساط!$G$3:$G$8532=B203,ROW($AT$3:$AT$8532)-ROW($AT$3)+1),ROWS($A$3:A203))),\"\")","v":0},{"$f":"IFERROR(INDEX(Names,SMALL(IF(Names<>\"\",IF(MID(Names,1,LEN($B$1))=$B$1,ROW(Names)-ROW($G$3)+1)),ROWS($A$1:A201))),\"\")","v":""},{"$f":"IFERROR(INDEX(اقساط!$B$3:$B$2000,SMALL(IF(اقساط!$G$3:$G$2000=B203,ROW($B$3:$B$2000)-ROW($B$3)+1),ROWS($C$3:C203))),\"\")","v":0}]
[{"$f":"IFERROR(INDEX(اقساط!$AT$3:$AT$8532,SMALL(IF(اقساط!$G$3:$G$8532=B204,ROW($AT$3:$AT$8532)-ROW($AT$3)+1),ROWS($A$3:A204))),\"\")","v":0},{"$f":"IFERROR(INDEX(Names,SMALL(IF(Names<>\"\",IF(MID(Names,1,LEN($B$1))=$B$1,ROW(Names)-ROW($G$3)+1)),ROWS($A$1:A202))),\"\")","v":""},{"$f":"IFERROR(INDEX(اقساط!$B$3:$B$2000,SMALL(IF(اقساط!$G$3:$G$2000=B204,ROW($B$3:$B$2000)-ROW($B$3)+1),ROWS($C$3:C204))),\"\")","v":0}]
[{"$f":"IFERROR(INDEX(اقساط!$AT$3:$AT$8532,SMALL(IF(اقساط!$G$3:$G$8532=B205,ROW($AT$3:$AT$8532)-ROW($AT$3)+1),ROWS($A$3:A205))),\"\")","v":0},{"$f":"IFERROR(INDEX(Names,SMALL(IF(Names<>\"\",IF(MID(Names,1,LEN($B$1))=$B$1,ROW(Names)-ROW($G$3)+1)),ROWS($A$1:A203))),\"\")","v":""},{"$f":"IFERROR(INDEX(اقساط!$B$3:$B$2000,SMALL(IF(اقساط!$G$3:$G$2000=B205,ROW($B$3:$B$2000)-ROW($B$3)+1),ROWS($C$3:C205))),\"\")","v":0}]
[{"$f":"IFERROR(INDEX(اقساط!$AT$3:$AT$8532,SMALL(IF(اقساط!$G$3:$G$8532=B206,ROW($AT$3:$AT$8532)-ROW($AT$3)+1),ROWS($A$3:A206))),\"\")","v":0},{"$f":"IFERROR(INDEX(Names,SMALL(IF(Names<>\"\",IF(MID(Names,1,LEN($B$1))=$B$1,ROW(Names)-ROW($G$3)+1)),ROWS($A$1:A204))),\"\")","v":""},{"$f":"IFERROR(INDEX(اقساط!$B$3:$B$2000,SMALL(IF(اقساط!$G$3:$G$2000=B206,ROW($B$3:$B$2000)-ROW($B$3)+1),ROWS($C$3:C206))),\"\")","v":0}]
[{"$f":"IFERROR(INDEX(اقساط!$AT$3:$AT$8532,SMALL(IF(اقساط!$G$3:$G$8532=B207,ROW($AT$3:$AT$8532)-ROW($AT$3)+1),ROWS($A$3:A207))),\"\")","v":0},{"$f":"IFERROR(INDEX(Names,SMALL(IF(Names<>\"\",IF(MID(Names,1,LEN($B$1))=$B$1,ROW(Names)-ROW($G$3)+1)),ROWS($A$1:A205))),\"\")","v":""},{"$f":"IFERROR(INDEX(اقساط!$B$3:$B$2000,SMALL(IF(اقساط!$G$3:$G$2000=B207,ROW($B$3:$B$2000)-ROW($B$3)+1),ROWS($C$3:C207))),\"\")","v":0}]
[{"$f":"IFERROR(INDEX(اقساط!$AT$3:$AT$8532,SMALL(IF(اقساط!$G$3:$G$8532=B208,ROW($AT$3:$AT$8532)-ROW($AT$3)+1),ROWS($A$3:A208))),\"\")","v":0},{"$f":"IFERROR(INDEX(Names,SMALL(IF(Names<>\"\",IF(MID(Names,1,LEN($B$1))=$B$1,ROW(Names)-ROW($G$3)+1)),ROWS($A$1:A206))),\"\")","v":""},{"$f":"IFERROR(INDEX(اقساط!$B$3:$B$2000,SMALL(IF(اقساط!$G$3:$G$2000=B208,ROW($B$3:$B$2000)-ROW($B$3)+1),ROWS($C$3:C208))),\"\")","v":0}]
[{"$f":"IFERROR(INDEX(اقساط!$AT$3:$AT$8532,SMALL(IF(اقساط!$G$3:$G$8532=B209,ROW($AT$3:$AT$8532)-ROW($AT$3)+1),ROWS($A$3:A209))),\"\")","v":0},{"$f":"IFERROR(INDEX(Names,SMALL(IF(Names<>\"\",IF(MID(Names,1,LEN($B$1))=$B$1,ROW(Names)-ROW($G$3)+1)),ROWS($A$1:A207))),\"\")","v":""},{"$f":"IFERROR(INDEX(اقساط!$B$3:$B$2000,SMALL(IF(اقساط!$G$3:$G$2000=B209,ROW($B$3:$B$2000)-ROW($B$3)+1),ROWS($C$3:C209))),\"\")","v":0}]
[{"$f":"IFERROR(INDEX(اقساط!$AT$3:$AT$8532,SMALL(IF(اقساط!$G$3:$G$8532=B210,ROW($AT$3:$AT$8532)-ROW($AT$3)+1),ROWS($A$3:A210))),\"\")","v":0},{"$f":"IFERROR(INDEX(Names,SMALL(IF(Names<>\"\",IF(MID(Names,1,LEN($B$1))=$B$1,ROW(Names)-ROW($G$3)+1)),ROWS($A$1:A208))),\"\")","v":""},{"$f":"IFERROR(INDEX(اقساط!$B$3:$B$2000,SMALL(IF(اقساط!$G$3:$G$2000=B210,ROW($B$3:$B$2000)-ROW($B$3)+1),ROWS($C$3:C210))),\"\")","v":0}]
[{"$f":"IFERROR(INDEX(اقساط!$AT$3:$AT$8532,SMALL(IF(اقساط!$G$3:$G$8532=B211,ROW($AT$3:$AT$8532)-ROW($AT$3)+1),ROWS($A$3:A211))),\"\")","v":0},{"$f":"IFERROR(INDEX(Names,SMALL(IF(Names<>\"\",IF(MID(Names,1,LEN($B$1))=$B$1,ROW(Names)-ROW($G$3)+1)),ROWS($A$1:A209))),\"\")","v":""},{"$f":"IFERROR(INDEX(اقساط!$B$3:$B$2000,SMALL(IF(اقساط!$G$3:$G$2000=B211,ROW($B$3:$B$2000)-ROW($B$3)+1),ROWS($C$3:C211))),\"\")","v":0}]
[{"$f":"IFERROR(INDEX(اقساط!$AT$3:$AT$8532,SMALL(IF(اقساط!$G$3:$G$8532=B212,ROW($AT$3:$AT$8532)-ROW($AT$3)+1),ROWS($A$3:A212))),\"\")","v":0},{"$f":"IFERROR(INDEX(Names,SMALL(IF(Names<>\"\",IF(MID(Names,1,LEN($B$1))=$B$1,ROW(Names)-ROW($G$3)+1)),ROWS($A$1:A210))),\"\")","v":""},{"$f":"IFERROR(INDEX(اقساط!$B$3:$B$2000,SMALL(IF(اقساط!$G$3:$G$2000=B212,ROW($B$3:$B$2000)-ROW($B$3)+1),ROWS($C$3:C212))),\"\")","v":0}]
[{"$f":"IFERROR(INDEX(اقساط!$AT$3:$AT$8532,SMALL(IF(اقساط!$G$3:$G$8532=B213,ROW($AT$3:$AT$8532)-ROW($AT$3)+1),ROWS($A$3:A213))),\"\")","v":0},{"$f":"IFERROR(INDEX(Names,SMALL(IF(Names<>\"\",IF(MID(Names,1,LEN($B$1))=$B$1,ROW(Names)-ROW($G$3)+1)),ROWS($A$1:A211))),\"\")","v":""},{"$f":"IFERROR(INDEX(اقساط!$B$3:$B$2000,SMALL(IF(اقساط!$G$3:$G$2000=B213,ROW($B$3:$B$2000)-ROW($B$3)+1),ROWS($C$3:C213))),\"\")","v":0}]
[{"$f":"IFERROR(INDEX(اقساط!$AT$3:$AT$8532,SMALL(IF(اقساط!$G$3:$G$8532=B214,ROW($AT$3:$AT$8532)-ROW($AT$3)+1),ROWS($A$3:A214))),\"\")","v":0},{"$f":"IFERROR(INDEX(Names,SMALL(IF(Names<>\"\",IF(MID(Names,1,LEN($B$1))=$B$1,ROW(Names)-ROW($G$3)+1)),ROWS($A$1:A212))),\"\")","v":""},{"$f":"IFERROR(INDEX(اقساط!$B$3:$B$2000,SMALL(IF(اقساط!$G$3:$G$2000=B214,ROW($B$3:$B$2000)-ROW($B$3)+1),ROWS($C$3:C214))),\"\")","v":0}]
[{"$f":"IFERROR(INDEX(اقساط!$AT$3:$AT$8532,SMALL(IF(اقساط!$G$3:$G$8532=B215,ROW($AT$3:$AT$8532)-ROW($AT$3)+1),ROWS($A$3:A215))),\"\")","v":0},{"$f":"IFERROR(INDEX(Names,SMALL(IF(Names<>\"\",IF(MID(Names,1,LEN($B$1))=$B$1,ROW(Names)-ROW($G$3)+1)),ROWS($A$1:A213))),\"\")","v":""},{"$f":"IFERROR(INDEX(اقساط!$B$3:$B$2000,SMALL(IF(اقساط!$G$3:$G$2000=B215,ROW($B$3:$B$2000)-ROW($B$3)+1),ROWS($C$3:C215))),\"\")","v":0}]
[{"$f":"IFERROR(INDEX(اقساط!$AT$3:$AT$8532,SMALL(IF(اقساط!$G$3:$G$8532=B216,ROW($AT$3:$AT$8532)-ROW($AT$3)+1),ROWS($A$3:A216))),\"\")","v":0},{"$f":"IFERROR(INDEX(Names,SMALL(IF(Names<>\"\",IF(MID(Names,1,LEN($B$1))=$B$1,ROW(Names)-ROW($G$3)+1)),ROWS($A$1:A214))),\"\")","v":""},{"$f":"IFERROR(INDEX(اقساط!$B$3:$B$2000,SMALL(IF(اقساط!$G$3:$G$2000=B216,ROW($B$3:$B$2000)-ROW($B$3)+1),ROWS($C$3:C216))),\"\")","v":0}]
[{"$f":"IFERROR(INDEX(اقساط!$AT$3:$AT$8532,SMALL(IF(اقساط!$G$3:$G$8532=B217,ROW($AT$3:$AT$8532)-ROW($AT$3)+1),ROWS($A$3:A217))),\"\")","v":0},{"$f":"IFERROR(INDEX(Names,SMALL(IF(Names<>\"\",IF(MID(Names,1,LEN($B$1))=$B$1,ROW(Names)-ROW($G$3)+1)),ROWS($A$1:A215))),\"\")","v":""},{"$f":"IFERROR(INDEX(اقساط!$B$3:$B$2000,SMALL(IF(اقساط!$G$3:$G$2000=B217,ROW($B$3:$B$2000)-ROW($B$3)+1),ROWS($C$3:C217))),\"\")","v":0}]
[{"$f":"IFERROR(INDEX(اقساط!$AT$3:$AT$8532,SMALL(IF(اقساط!$G$3:$G$8532=B218,ROW($AT$3:$AT$8532)-ROW($AT$3)+1),ROWS($A$3:A218))),\"\")","v":0},{"$f":"IFERROR(INDEX(Names,SMALL(IF(Names<>\"\",IF(MID(Names,1,LEN($B$1))=$B$1,ROW(Names)-ROW($G$3)+1)),ROWS($A$1:A216))),\"\")","v":""},{"$f":"IFERROR(INDEX(اقساط!$B$3:$B$2000,SMALL(IF(اقساط!$G$3:$G$2000=B218,ROW($B$3:$B$2000)-ROW($B$3)+1),ROWS($C$3:C218))),\"\")","v":0}]
[{"$f":"IFERROR(INDEX(اقساط!$AT$3:$AT$8532,SMALL(IF(اقساط!$G$3:$G$8532=B219,ROW($AT$3:$AT$8532)-ROW($AT$3)+1),ROWS($A$3:A219))),\"\")","v":0},{"$f":"IFERROR(INDEX(Names,SMALL(IF(Names<>\"\",IF(MID(Names,1,LEN($B$1))=$B$1,ROW(Names)-ROW($G$3)+1)),ROWS($A$1:A217))),\"\")","v":""},{"$f":"IFERROR(INDEX(اقساط!$B$3:$B$2000,SMALL(IF(اقساط!$G$3:$G$2000=B219,ROW($B$3:$B$2000)-ROW($B$3)+1),ROWS($C$3:C219))),\"\")","v":0}]
[{"$f":"IFERROR(INDEX(اقساط!$AT$3:$AT$8532,SMALL(IF(اقساط!$G$3:$G$8532=B220,ROW($AT$3:$AT$8532)-ROW($AT$3)+1),ROWS($A$3:A220))),\"\")","v":0},{"$f":"IFERROR(INDEX(Names,SMALL(IF(Names<>\"\",IF(MID(Names,1,LEN($B$1))=$B$1,ROW(Names)-ROW($G$3)+1)),ROWS($A$1:A218))),\"\")","v":""},{"$f":"IFERROR(INDEX(اقساط!$B$3:$B$2000,SMALL(IF(اقساط!$G$3:$G$2000=B220,ROW($B$3:$B$2000)-ROW($B$3)+1),ROWS($C$3:C220))),\"\")","v":0}]
[{"$f":"IFERROR(INDEX(اقساط!$AT$3:$AT$8532,SMALL(IF(اقساط!$G$3:$G$8532=B221,ROW($AT$3:$AT$8532)-ROW($AT$3)+1),ROWS($A$3:A221))),\"\")","v":0},{"$f":"IFERROR(INDEX(Names,SMALL(IF(Names<>\"\",IF(MID(Names,1,LEN($B$1))=$B$1,ROW(Names)-ROW($G$3)+1)),ROWS($A$1:A219))),\"\")","v":""},{"$f":"IFERROR(INDEX(اقساط!$B$3:$B$2000,SMALL(IF(اقساط!$G$3:$G$2000=B221,ROW($B$3:$B$2000)-ROW($B$3)+1),ROWS($C$3:C221))),\"\")","v":0}]
[{"$f":"IFERROR(INDEX(اقساط!$AT$3:$AT$8532,SMALL(IF(اقساط!$G$3:$G$8532=B222,ROW($AT$3:$AT$8532)-ROW($AT$3)+1),ROWS($A$3:A222))),\"\")","v":0},{"$f":"IFERROR(INDEX(Names,SMALL(IF(Names<>\"\",IF(MID(Names,1,LEN($B$1))=$B$1,ROW(Names)-ROW($G$3)+1)),ROWS($A$1:A220))),\"\")","v":""},{"$f":"IFERROR(INDEX(اقساط!$B$3:$B$2000,SMALL(IF(اقساط!$G$3:$G$2000=B222,ROW($B$3:$B$2000)-ROW($B$3)+1),ROWS($C$3:C222))),\"\")","v":0}]
[{"$f":"IFERROR(INDEX(اقساط!$AT$3:$AT$8532,SMALL(IF(اقساط!$G$3:$G$8532=B223,ROW($AT$3:$AT$8532)-ROW($AT$3)+1),ROWS($A$3:A223))),\"\")","v":0},{"$f":"IFERROR(INDEX(Names,SMALL(IF(Names<>\"\",IF(MID(Names,1,LEN($B$1))=$B$1,ROW(Names)-ROW($G$3)+1)),ROWS($A$1:A221))),\"\")","v":""},{"$f":"IFERROR(INDEX(اقساط!$B$3:$B$2000,SMALL(IF(اقساط!$G$3:$G$2000=B223,ROW($B$3:$B$2000)-ROW($B$3)+1),ROWS($C$3:C223))),\"\")","v":0}]
[{"$f":"IFERROR(INDEX(اقساط!$AT$3:$AT$8532,SMALL(IF(اقساط!$G$3:$G$8532=B224,ROW($AT$3:$AT$8532)-ROW($AT$3)+1),ROWS($A$3:A224))),\"\")","v":0},{"$f":"IFERROR(INDEX(Names,SMALL(IF(Names<>\"\",IF(MID(Names,1,LEN($B$1))=$B$1,ROW(Names)-ROW($G$3)+1)),ROWS($A$1:A222))),\"\")","v":""},{"$f":"IFERROR(INDEX(اقساط!$B$3:$B$2000,SMALL(IF(اقساط!$G$3:$G$2000=B224,ROW($B$3:$B$2000)-ROW($B$3)+1),ROWS($C$3:C224))),\"\")","v":0}]
[{"$f":"IFERROR(INDEX(اقساط!$AT$3:$AT$8532,SMALL(IF(اقساط!$G$3:$G$8532=B225,ROW($AT$3:$AT$8532)-ROW($AT$3)+1),ROWS($A$3:A225))),\"\")","v":0},{"$f":"IFERROR(INDEX(Names,SMALL(IF(Names<>\"\",IF(MID(Names,1,LEN($B$1))=$B$1,ROW(Names)-ROW($G$3)+1)),ROWS($A$1:A223))),\"\")","v":""},{"$f":"IFERROR(INDEX(اقساط!$B$3:$B$2000,SMALL(IF(اقساط!$G$3:$G$2000=B225,ROW($B$3:$B$2000)-ROW($B$3)+1),ROWS($C$3:C225))),\"\")","v":0}]
[{"$f":"IFERROR(INDEX(اقساط!$AT$3:$AT$8532,SMALL(IF(اقساط!$G$3:$G$8532=B226,ROW($AT$3:$AT$8532)-ROW($AT$3)+1),ROWS($A$3:A226))),\"\")","v":0},{"$f":"IFERROR(INDEX(Names,SMALL(IF(Names<>\"\",IF(MID(Names,1,LEN($B$1))=$B$1,ROW(Names)-ROW($G$3)+1)),ROWS($A$1:A224))),\"\")","v":""},{"$f":"IFERROR(INDEX(اقساط!$B$3:$B$2000,SMALL(IF(اقساط!$G$3:$G$2000=B226,ROW($B$3:$B$2000)-ROW($B$3)+1),ROWS($C$3:C226))),\"\")","v":0}]
[{"$f":"IFERROR(INDEX(اقساط!$AT$3:$AT$8532,SMALL(IF(اقساط!$G$3:$G$8532=B227,ROW($AT$3:$AT$8532)-ROW($AT$3)+1),ROWS($A$3:A227))),\"\")","v":0},{"$f":"IFERROR(INDEX(Names,SMALL(IF(Names<>\"\",IF(MID(Names,1,LEN($B$1))=$B$1,ROW(Names)-ROW($G$3)+1)),ROWS($A$1:A225))),\"\")","v":""},{"$f":"IFERROR(INDEX(اقساط!$B$3:$B$2000,SMALL(IF(اقساط!$G$3:$G$2000=B227,ROW($B$3:$B$2000)-ROW($B$3)+1),ROWS($C$3:C227))),\"\")","v":0}]
[{"$f":"IFERROR(INDEX(اقساط!$AT$3:$AT$8532,SMALL(IF(اقساط!$G$3:$G$8532=B228,ROW($AT$3:$AT$8532)-ROW($AT$3)+1),ROWS($A$3:A228))),\"\")","v":0},{"$f":"IFERROR(INDEX(Names,SMALL(IF(Names<>\"\",IF(MID(Names,1,LEN($B$1))=$B$1,ROW(Names)-ROW($G$3)+1)),ROWS($A$1:A226))),\"\")","v":""},{"$f":"IFERROR(INDEX(اقساط!$B$3:$B$2000,SMALL(IF(اقساط!$G$3:$G$2000=B228,ROW($B$3:$B$2000)-ROW($B$3)+1),ROWS($C$3:C228))),\"\")","v":0}]
[{"$f":"IFERROR(INDEX(اقساط!$AT$3:$AT$8532,SMALL(IF(اقساط!$G$3:$G$8532=B229,ROW($AT$3:$AT$8532)-ROW($AT$3)+1),ROWS($A$3:A229))),\"\")","v":0},{"$f":"IFERROR(INDEX(Names,SMALL(IF(Names<>\"\",IF(MID(Names,1,LEN($B$1))=$B$1,ROW(Names)-ROW($G$3)+1)),ROWS($A$1:A227))),\"\")","v":""},{"$f":"IFERROR(INDEX(اقساط!$B$3:$B$2000,SMALL(IF(اقساط!$G$3:$G$2000=B229,ROW($B$3:$B$2000)-ROW($B$3)+1),ROWS($C$3:C229))),\"\")","v":0}]
[{"$f":"IFERROR(INDEX(اقساط!$AT$3:$AT$8532,SMALL(IF(اقساط!$G$3:$G$8532=B230,ROW($AT$3:$AT$8532)-ROW($AT$3)+1),ROWS($A$3:A230))),\"\")","v":0},{"$f":"IFERROR(INDEX(Names,SMALL(IF(Names<>\"\",IF(MID(Names,1,LEN($B$1))=$B$1,ROW(Names)-ROW($G$3)+1)),ROWS($A$1:A228))),\"\")","v":""},{"$f":"IFERROR(INDEX(اقساط!$B$3:$B$2000,SMALL(IF(اقساط!$G$3:$G$2000=B230,ROW($B$3:$B$2000)-ROW($B$3)+1),ROWS($C$3:C230))),\"\")","v":0}]
[{"$f":"IFERROR(INDEX(اقساط!$AT$3:$AT$8532,SMALL(IF(اقساط!$G$3:$G$8532=B231,ROW($AT$3:$AT$8532)-ROW($AT$3)+1),ROWS($A$3:A231))),\"\")","v":0},{"$f":"IFERROR(INDEX(Names,SMALL(IF(Names<>\"\",IF(MID(Names,1,LEN($B$1))=$B$1,ROW(Names)-ROW($G$3)+1)),ROWS($A$1:A229))),\"\")","v":""},{"$f":"IFERROR(INDEX(اقساط!$B$3:$B$2000,SMALL(IF(اقساط!$G$3:$G$2000=B231,ROW($B$3:$B$2000)-ROW($B$3)+1),ROWS($C$3:C231))),\"\")","v":0}]
[{"$f":"IFERROR(INDEX(اقساط!$AT$3:$AT$8532,SMALL(IF(اقساط!$G$3:$G$8532=B232,ROW($AT$3:$AT$8532)-ROW($AT$3)+1),ROWS($A$3:A232))),\"\")","v":0},{"$f":"IFERROR(INDEX(Names,SMALL(IF(Names<>\"\",IF(MID(Names,1,LEN($B$1))=$B$1,ROW(Names)-ROW($G$3)+1)),ROWS($A$1:A230))),\"\")","v":""},{"$f":"IFERROR(INDEX(اقساط!$B$3:$B$2000,SMALL(IF(اقساط!$G$3:$G$2000=B232,ROW($B$3:$B$2000)-ROW($B$3)+1),ROWS($C$3:C232))),\"\")","v":0}]
[{"$f":"IFERROR(INDEX(اقساط!$AT$3:$AT$8532,SMALL(IF(اقساط!$G$3:$G$8532=B233,ROW($AT$3:$AT$8532)-ROW($AT$3)+1),ROWS($A$3:A233))),\"\")","v":0},{"$f":"IFERROR(INDEX(Names,SMALL(IF(Names<>\"\",IF(MID(Names,1,LEN($B$1))=$B$1,ROW(Names)-ROW($G$3)+1)),ROWS($A$1:A231))),\"\")","v":""},{"$f":"IFERROR(INDEX(اقساط!$B$3:$B$2000,SMALL(IF(اقساط!$G$3:$G$2000=B233,ROW($B$3:$B$2000)-ROW($B$3)+1),ROWS($C$3:C233))),\"\")","v":0}]
[{"$f":"IFERROR(INDEX(اقساط!$AT$3:$AT$8532,SMALL(IF(اقساط!$G$3:$G$8532=B234,ROW($AT$3:$AT$8532)-ROW($AT$3)+1),ROWS($A$3:A234))),\"\")","v":0},{"$f":"IFERROR(INDEX(Names,SMALL(IF(Names<>\"\",IF(MID(Names,1,LEN($B$1))=$B$1,ROW(Names)-ROW($G$3)+1)),ROWS($A$1:A232))),\"\")","v":""},{"$f":"IFERROR(INDEX(اقساط!$B$3:$B$2000,SMALL(IF(اقساط!$G$3:$G$2000=B234,ROW($B$3:$B$2000)-ROW($B$3)+1),ROWS($C$3:C234))),\"\")","v":0}]
[{"$f":"IFERROR(INDEX(اقساط!$AT$3:$AT$8532,SMALL(IF(اقساط!$G$3:$G$8532=B235,ROW($AT$3:$AT$8532)-ROW($AT$3)+1),ROWS($A$3:A235))),\"\")","v":0},{"$f":"IFERROR(INDEX(Names,SMALL(IF(Names<>\"\",IF(MID(Names,1,LEN($B$1))=$B$1,ROW(Names)-ROW($G$3)+1)),ROWS($A$1:A233))),\"\")","v":""},{"$f":"IFERROR(INDEX(اقساط!$B$3:$B$2000,SMALL(IF(اقساط!$G$3:$G$2000=B235,ROW($B$3:$B$2000)-ROW($B$3)+1),ROWS($C$3:C235))),\"\")","v":0}]
[{"$f":"IFERROR(INDEX(اقساط!$AT$3:$AT$8532,SMALL(IF(اقساط!$G$3:$G$8532=B236,ROW($AT$3:$AT$8532)-ROW($AT$3)+1),ROWS($A$3:A236))),\"\")","v":0},{"$f":"IFERROR(INDEX(Names,SMALL(IF(Names<>\"\",IF(MID(Names,1,LEN($B$1))=$B$1,ROW(Names)-ROW($G$3)+1)),ROWS($A$1:A234))),\"\")","v":""},{"$f":"IFERROR(INDEX(اقساط!$B$3:$B$2000,SMALL(IF(اقساط!$G$3:$G$2000=B236,ROW($B$3:$B$2000)-ROW($B$3)+1),ROWS($C$3:C236))),\"\")","v":0}]
[{"$f":"IFERROR(INDEX(اقساط!$AT$3:$AT$8532,SMALL(IF(اقساط!$G$3:$G$8532=B237,ROW($AT$3:$AT$8532)-ROW($AT$3)+1),ROWS($A$3:A237))),\"\")","v":0},{"$f":"IFERROR(INDEX(Names,SMALL(IF(Names<>\"\",IF(MID(Names,1,LEN($B$1))=$B$1,ROW(Names)-ROW($G$3)+1)),ROWS($A$1:A235))),\"\")","v":""},{"$f":"IFERROR(INDEX(اقساط!$B$3:$B$2000,SMALL(IF(اقساط!$G$3:$G$2000=B237,ROW($B$3:$B$2000)-ROW($B$3)+1),ROWS($C$3:C237))),\"\")","v":0}]
[{"$f":"IFERROR(INDEX(اقساط!$AT$3:$AT$8532,SMALL(IF(اقساط!$G$3:$G$8532=B238,ROW($AT$3:$AT$8532)-ROW($AT$3)+1),ROWS($A$3:A238))),\"\")","v":0},{"$f":"IFERROR(INDEX(Names,SMALL(IF(Names<>\"\",IF(MID(Names,1,LEN($B$1))=$B$1,ROW(Names)-ROW($G$3)+1)),ROWS($A$1:A236))),\"\")","v":""},{"$f":"IFERROR(INDEX(اقساط!$B$3:$B$2000,SMALL(IF(اقساط!$G$3:$G$2000=B238,ROW($B$3:$B$2000)-ROW($B$3)+1),ROWS($C$3:C238))),\"\")","v":0}]
[{"$f":"IFERROR(INDEX(اقساط!$AT$3:$AT$8532,SMALL(IF(اقساط!$G$3:$G$8532=B239,ROW($AT$3:$AT$8532)-ROW($AT$3)+1),ROWS($A$3:A239))),\"\")","v":0},{"$f":"IFERROR(INDEX(Names,SMALL(IF(Names<>\"\",IF(MID(Names,1,LEN($B$1))=$B$1,ROW(Names)-ROW($G$3)+1)),ROWS($A$1:A237))),\"\")","v":""},{"$f":"IFERROR(INDEX(اقساط!$B$3:$B$2000,SMALL(IF(اقساط!$G$3:$G$2000=B239,ROW($B$3:$B$2000)-ROW($B$3)+1),ROWS($C$3:C239))),\"\")","v":0}]
[{"$f":"IFERROR(INDEX(اقساط!$AT$3:$AT$8532,SMALL(IF(اقساط!$G$3:$G$8532=B240,ROW($AT$3:$AT$8532)-ROW($AT$3)+1),ROWS($A$3:A240))),\"\")","v":0},{"$f":"IFERROR(INDEX(Names,SMALL(IF(Names<>\"\",IF(MID(Names,1,LEN($B$1))=$B$1,ROW(Names)-ROW($G$3)+1)),ROWS($A$1:A238))),\"\")","v":""},{"$f":"IFERROR(INDEX(اقساط!$B$3:$B$2000,SMALL(IF(اقساط!$G$3:$G$2000=B240,ROW($B$3:$B$2000)-ROW($B$3)+1),ROWS($C$3:C240))),\"\")","v":0}]
[{"$f":"IFERROR(INDEX(اقساط!$AT$3:$AT$8532,SMALL(IF(اقساط!$G$3:$G$8532=B241,ROW($AT$3:$AT$8532)-ROW($AT$3)+1),ROWS($A$3:A241))),\"\")","v":0},{"$f":"IFERROR(INDEX(Names,SMALL(IF(Names<>\"\",IF(MID(Names,1,LEN($B$1))=$B$1,ROW(Names)-ROW($G$3)+1)),ROWS($A$1:A239))),\"\")","v":""},{"$f":"IFERROR(INDEX(اقساط!$B$3:$B$2000,SMALL(IF(اقساط!$G$3:$G$2000=B241,ROW($B$3:$B$2000)-ROW($B$3)+1),ROWS($C$3:C241))),\"\")","v":0}]
[{"$f":"IFERROR(INDEX(اقساط!$AT$3:$AT$8532,SMALL(IF(اقساط!$G$3:$G$8532=B242,ROW($AT$3:$AT$8532)-ROW($AT$3)+1),ROWS($A$3:A242))),\"\")","v":0},{"$f":"IFERROR(INDEX(Names,SMALL(IF(Names<>\"\",IF(MID(Names,1,LEN($B$1))=$B$1,ROW(Names)-ROW($G$3)+1)),ROWS($A$1:A240))),\"\")","v":""},{"$f":"IFERROR(INDEX(اقساط!$B$3:$B$2000,SMALL(IF(اقساط!$G$3:$G$2000=B242,ROW($B$3:$B$2000)-ROW($B$3)+1),ROWS($C$3:C242))),\"\")","v":0}]
[{"$f":"IFERROR(INDEX(اقساط!$AT$3:$AT$8532,SMALL(IF(اقساط!$G$3:$G$8532=B243,ROW($AT$3:$AT$8532)-ROW($AT$3)+1),ROWS($A$3:A243))),\"\")","v":0},{"$f":"IFERROR(INDEX(Names,SMALL(IF(Names<>\"\",IF(MID(Names,1,LEN($B$1))=$B$1,ROW(Names)-ROW($G$3)+1)),ROWS($A$1:A241))),\"\")","v":""},{"$f":"IFERROR(INDEX(اقساط!$B$3:$B$2000,SMALL(IF(اقساط!$G$3:$G$2000=B243,ROW($B$3:$B$2000)-ROW($B$3)+1),ROWS($C$3:C243))),\"\")","v":0}]
[{"$f":"IFERROR(INDEX(اقساط!$AT$3:$AT$8532,SMALL(IF(اقساط!$G$3:$G$8532=B244,ROW($AT$3:$AT$8532)-ROW($AT$3)+1),ROWS($A$3:A244))),\"\")","v":0},{"$f":"IFERROR(INDEX(Names,SMALL(IF(Names<>\"\",IF(MID(Names,1,LEN($B$1))=$B$1,ROW(Names)-ROW($G$3)+1)),ROWS($A$1:A242))),\"\")","v":""},{"$f":"IFERROR(INDEX(اقساط!$B$3:$B$2000,SMALL(IF(اقساط!$G$3:$G$2000=B244,ROW($B$3:$B$2000)-ROW($B$3)+1),ROWS($C$3:C244))),\"\")","v":0}]
[{"$f":"IFERROR(INDEX(اقساط!$AT$3:$AT$8532,SMALL(IF(اقساط!$G$3:$G$8532=B245,ROW($AT$3:$AT$8532)-ROW($AT$3)+1),ROWS($A$3:A245))),\"\")","v":0},{"$f":"IFERROR(INDEX(Names,SMALL(IF(Names<>\"\",IF(MID(Names,1,LEN($B$1))=$B$1,ROW(Names)-ROW($G$3)+1)),ROWS($A$1:A243))),\"\")","v":""},{"$f":"IFERROR(INDEX(اقساط!$B$3:$B$2000,SMALL(IF(اقساط!$G$3:$G$2000=B245,ROW($B$3:$B$2000)-ROW($B$3)+1),ROWS($C$3:C245))),\"\")","v":0}]
[{"$f":"IFERROR(INDEX(اقساط!$AT$3:$AT$8532,SMALL(IF(اقساط!$G$3:$G$8532=B246,ROW($AT$3:$AT$8532)-ROW($AT$3)+1),ROWS($A$3:A246))),\"\")","v":0},{"$f":"IFERROR(INDEX(Names,SMALL(IF(Names<>\"\",IF(MID(Names,1,LEN($B$1))=$B$1,ROW(Names)-ROW($G$3)+1)),ROWS($A$1:A244))),\"\")","v":""},{"$f":"IFERROR(INDEX(اقساط!$B$3:$B$2000,SMALL(IF(اقساط!$G$3:$G$2000=B246,ROW($B$3:$B$2000)-ROW($B$3)+1),ROWS($C$3:C246))),\"\")","v":0}]
[{"$f":"IFERROR(INDEX(اقساط!$AT$3:$AT$8532,SMALL(IF(اقساط!$G$3:$G$8532=B247,ROW($AT$3:$AT$8532)-ROW($AT$3)+1),ROWS($A$3:A247))),\"\")","v":0},{"$f":"IFERROR(INDEX(Names,SMALL(IF(Names<>\"\",IF(MID(Names,1,LEN($B$1))=$B$1,ROW(Names)-ROW($G$3)+1)),ROWS($A$1:A245))),\"\")","v":""},{"$f":"IFERROR(INDEX(اقساط!$B$3:$B$2000,SMALL(IF(اقساط!$G$3:$G$2000=B247,ROW($B$3:$B$2000)-ROW($B$3)+1),ROWS($C$3:C247))),\"\")","v":0}]
[{"$f":"IFERROR(INDEX(اقساط!$AT$3:$AT$8532,SMALL(IF(اقساط!$G$3:$G$8532=B248,ROW($AT$3:$AT$8532)-ROW($AT$3)+1),ROWS($A$3:A248))),\"\")","v":0},{"$f":"IFERROR(INDEX(Names,SMALL(IF(Names<>\"\",IF(MID(Names,1,LEN($B$1))=$B$1,ROW(Names)-ROW($G$3)+1)),ROWS($A$1:A246))),\"\")","v":""},{"$f":"IFERROR(INDEX(اقساط!$B$3:$B$2000,SMALL(IF(اقساط!$G$3:$G$2000=B248,ROW($B$3:$B$2000)-ROW($B$3)+1),ROWS($C$3:C248))),\"\")","v":0}]
[{"$f":"IFERROR(INDEX(اقساط!$AT$3:$AT$8532,SMALL(IF(اقساط!$G$3:$G$8532=B249,ROW($AT$3:$AT$8532)-ROW($AT$3)+1),ROWS($A$3:A249))),\"\")","v":0},{"$f":"IFERROR(INDEX(Names,SMALL(IF(Names<>\"\",IF(MID(Names,1,LEN($B$1))=$B$1,ROW(Names)-ROW($G$3)+1)),ROWS($A$1:A247))),\"\")","v":""},{"$f":"IFERROR(INDEX(اقساط!$B$3:$B$2000,SMALL(IF(اقساط!$G$3:$G$2000=B249,ROW($B$3:$B$2000)-ROW($B$3)+1),ROWS($C$3:C249))),\"\")","v":0}]
[{"$f":"IFERROR(INDEX(اقساط!$AT$3:$AT$8532,SMALL(IF(اقساط!$G$3:$G$8532=B250,ROW($AT$3:$AT$8532)-ROW($AT$3)+1),ROWS($A$3:A250))),\"\")","v":0},{"$f":"IFERROR(INDEX(Names,SMALL(IF(Names<>\"\",IF(MID(Names,1,LEN($B$1))=$B$1,ROW(Names)-ROW($G$3)+1)),ROWS($A$1:A248))),\"\")","v":""},{"$f":"IFERROR(INDEX(اقساط!$B$3:$B$2000,SMALL(IF(اقساط!$G$3:$G$2000=B250,ROW($B$3:$B$2000)-ROW($B$3)+1),ROWS($C$3:C250))),\"\")","v":0}]
[{"$f":"IFERROR(INDEX(اقساط!$AT$3:$AT$8532,SMALL(IF(اقساط!$G$3:$G$8532=B251,ROW($AT$3:$AT$8532)-ROW($AT$3)+1),ROWS($A$3:A251))),\"\")","v":0},{"$f":"IFERROR(INDEX(Names,SMALL(IF(Names<>\"\",IF(MID(Names,1,LEN($B$1))=$B$1,ROW(Names)-ROW($G$3)+1)),ROWS($A$1:A249))),\"\")","v":""},{"$f":"IFERROR(INDEX(اقساط!$B$3:$B$2000,SMALL(IF(اقساط!$G$3:$G$2000=B251,ROW($B$3:$B$2000)-ROW($B$3)+1),ROWS($C$3:C251))),\"\")","v":0}]
[{"$f":"IFERROR(INDEX(اقساط!$AT$3:$AT$8532,SMALL(IF(اقساط!$G$3:$G$8532=B252,ROW($AT$3:$AT$8532)-ROW($AT$3)+1),ROWS($A$3:A252))),\"\")","v":0},{"$f":"IFERROR(INDEX(Names,SMALL(IF(Names<>\"\",IF(MID(Names,1,LEN($B$1))=$B$1,ROW(Names)-ROW($G$3)+1)),ROWS($A$1:A250))),\"\")","v":""},{"$f":"IFERROR(INDEX(اقساط!$B$3:$B$2000,SMALL(IF(اقساط!$G$3:$G$2000=B252,ROW($B$3:$B$2000)-ROW($B$3)+1),ROWS($C$3:C252))),\"\")","v":0}]
[{"$f":"IFERROR(INDEX(اقساط!$AT$3:$AT$8532,SMALL(IF(اقساط!$G$3:$G$8532=B253,ROW($AT$3:$AT$8532)-ROW($AT$3)+1),ROWS($A$3:A253))),\"\")","v":0},{"$f":"IFERROR(INDEX(Names,SMALL(IF(Names<>\"\",IF(MID(Names,1,LEN($B$1))=$B$1,ROW(Names)-ROW($G$3)+1)),ROWS($A$1:A251))),\"\")","v":""},{"$f":"IFERROR(INDEX(اقساط!$B$3:$B$2000,SMALL(IF(اقساط!$G$3:$G$2000=B253,ROW($B$3:$B$2000)-ROW($B$3)+1),ROWS($C$3:C253))),\"\")","v":0}]
[{"$f":"IFERROR(INDEX(اقساط!$AT$3:$AT$8532,SMALL(IF(اقساط!$G$3:$G$8532=B254,ROW($AT$3:$AT$8532)-ROW($AT$3)+1),ROWS($A$3:A254))),\"\")","v":0},{"$f":"IFERROR(INDEX(Names,SMALL(IF(Names<>\"\",IF(MID(Names,1,LEN($B$1))=$B$1,ROW(Names)-ROW($G$3)+1)),ROWS($A$1:A252))),\"\")","v":""},{"$f":"IFERROR(INDEX(اقساط!$B$3:$B$2000,SMALL(IF(اقساط!$G$3:$G$2000=B254,ROW($B$3:$B$2000)-ROW($B$3)+1),ROWS($C$3:C254))),\"\")","v":0}]
[{"$f":"IFERROR(INDEX(اقساط!$AT$3:$AT$8532,SMALL(IF(اقساط!$G$3:$G$8532=B255,ROW($AT$3:$AT$8532)-ROW($AT$3)+1),ROWS($A$3:A255))),\"\")","v":0},{"$f":"IFERROR(INDEX(Names,SMALL(IF(Names<>\"\",IF(MID(Names,1,LEN($B$1))=$B$1,ROW(Names)-ROW($G$3)+1)),ROWS($A$1:A253))),\"\")","v":""},{"$f":"IFERROR(INDEX(اقساط!$B$3:$B$2000,SMALL(IF(اقساط!$G$3:$G$2000=B255,ROW($B$3:$B$2000)-ROW($B$3)+1),ROWS($C$3:C255))),\"\")","v":0}]
[{"$f":"IFERROR(INDEX(اقساط!$AT$3:$AT$8532,SMALL(IF(اقساط!$G$3:$G$8532=B256,ROW($AT$3:$AT$8532)-ROW($AT$3)+1),ROWS($A$3:A256))),\"\")","v":0},{"$f":"IFERROR(INDEX(Names,SMALL(IF(Names<>\"\",IF(MID(Names,1,LEN($B$1))=$B$1,ROW(Names)-ROW($G$3)+1)),ROWS($A$1:A254))),\"\")","v":""},{"$f":"IFERROR(INDEX(اقساط!$B$3:$B$2000,SMALL(IF(اقساط!$G$3:$G$2000=B256,ROW($B$3:$B$2000)-ROW($B$3)+1),ROWS($C$3:C256))),\"\")","v":0}]
[{"$f":"IFERROR(INDEX(اقساط!$AT$3:$AT$8532,SMALL(IF(اقساط!$G$3:$G$8532=B257,ROW($AT$3:$AT$8532)-ROW($AT$3)+1),ROWS($A$3:A257))),\"\")","v":0},{"$f":"IFERROR(INDEX(Names,SMALL(IF(Names<>\"\",IF(MID(Names,1,LEN($B$1))=$B$1,ROW(Names)-ROW($G$3)+1)),ROWS($A$1:A255))),\"\")","v":""},{"$f":"IFERROR(INDEX(اقساط!$B$3:$B$2000,SMALL(IF(اقساط!$G$3:$G$2000=B257,ROW($B$3:$B$2000)-ROW($B$3)+1),ROWS($C$3:C257))),\"\")","v":0}]
[{"$f":"IFERROR(INDEX(اقساط!$AT$3:$AT$8532,SMALL(IF(اقساط!$G$3:$G$8532=B258,ROW($AT$3:$AT$8532)-ROW($AT$3)+1),ROWS($A$3:A258))),\"\")","v":0},{"$f":"IFERROR(INDEX(Names,SMALL(IF(Names<>\"\",IF(MID(Names,1,LEN($B$1))=$B$1,ROW(Names)-ROW($G$3)+1)),ROWS($A$1:A256))),\"\")","v":""},{"$f":"IFERROR(INDEX(اقساط!$B$3:$B$2000,SMALL(IF(اقساط!$G$3:$G$2000=B258,ROW($B$3:$B$2000)-ROW($B$3)+1),ROWS($C$3:C258))),\"\")","v":0}]
[{"$f":"IFERROR(INDEX(اقساط!$AT$3:$AT$8532,SMALL(IF(اقساط!$G$3:$G$8532=B259,ROW($AT$3:$AT$8532)-ROW($AT$3)+1),ROWS($A$3:A259))),\"\")","v":0},{"$f":"IFERROR(INDEX(Names,SMALL(IF(Names<>\"\",IF(MID(Names,1,LEN($B$1))=$B$1,ROW(Names)-ROW($G$3)+1)),ROWS($A$1:A257))),\"\")","v":""},{"$f":"IFERROR(INDEX(اقساط!$B$3:$B$2000,SMALL(IF(اقساط!$G$3:$G$2000=B259,ROW($B$3:$B$2000)-ROW($B$3)+1),ROWS($C$3:C259))),\"\")","v":0}]
[{"$f":"IFERROR(INDEX(اقساط!$AT$3:$AT$8532,SMALL(IF(اقساط!$G$3:$G$8532=B260,ROW($AT$3:$AT$8532)-ROW($AT$3)+1),ROWS($A$3:A260))),\"\")","v":0},{"$f":"IFERROR(INDEX(Names,SMALL(IF(Names<>\"\",IF(MID(Names,1,LEN($B$1))=$B$1,ROW(Names)-ROW($G$3)+1)),ROWS($A$1:A258))),\"\")","v":""},{"$f":"IFERROR(INDEX(اقساط!$B$3:$B$2000,SMALL(IF(اقساط!$G$3:$G$2000=B260,ROW($B$3:$B$2000)-ROW($B$3)+1),ROWS($C$3:C260))),\"\")","v":0}]
[{"$f":"IFERROR(INDEX(اقساط!$AT$3:$AT$8532,SMALL(IF(اقساط!$G$3:$G$8532=B261,ROW($AT$3:$AT$8532)-ROW($AT$3)+1),ROWS($A$3:A261))),\"\")","v":0},{"$f":"IFERROR(INDEX(Names,SMALL(IF(Names<>\"\",IF(MID(Names,1,LEN($B$1))=$B$1,ROW(Names)-ROW($G$3)+1)),ROWS($A$1:A259))),\"\")","v":""},{"$f":"IFERROR(INDEX(اقساط!$B$3:$B$2000,SMALL(IF(اقساط!$G$3:$G$2000=B261,ROW($B$3:$B$2000)-ROW($B$3)+1),ROWS($C$3:C261))),\"\")","v":0}]
[{"$f":"IFERROR(INDEX(اقساط!$AT$3:$AT$8532,SMALL(IF(اقساط!$G$3:$G$8532=B262,ROW($AT$3:$AT$8532)-ROW($AT$3)+1),ROWS($A$3:A262))),\"\")","v":0},{"$f":"IFERROR(INDEX(Names,SMALL(IF(Names<>\"\",IF(MID(Names,1,LEN($B$1))=$B$1,ROW(Names)-ROW($G$3)+1)),ROWS($A$1:A260))),\"\")","v":""},{"$f":"IFERROR(INDEX(اقساط!$B$3:$B$2000,SMALL(IF(اقساط!$G$3:$G$2000=B262,ROW($B$3:$B$2000)-ROW($B$3)+1),ROWS($C$3:C262))),\"\")","v":0}]
[{"$f":"IFERROR(INDEX(اقساط!$AT$3:$AT$8532,SMALL(IF(اقساط!$G$3:$G$8532=B263,ROW($AT$3:$AT$8532)-ROW($AT$3)+1),ROWS($A$3:A263))),\"\")","v":0},{"$f":"IFERROR(INDEX(Names,SMALL(IF(Names<>\"\",IF(MID(Names,1,LEN($B$1))=$B$1,ROW(Names)-ROW($G$3)+1)),ROWS($A$1:A261))),\"\")","v":""},{"$f":"IFERROR(INDEX(اقساط!$B$3:$B$2000,SMALL(IF(اقساط!$G$3:$G$2000=B263,ROW($B$3:$B$2000)-ROW($B$3)+1),ROWS($C$3:C263))),\"\")","v":0}]
[{"$f":"IFERROR(INDEX(اقساط!$AT$3:$AT$8532,SMALL(IF(اقساط!$G$3:$G$8532=B264,ROW($AT$3:$AT$8532)-ROW($AT$3)+1),ROWS($A$3:A264))),\"\")","v":0},{"$f":"IFERROR(INDEX(Names,SMALL(IF(Names<>\"\",IF(MID(Names,1,LEN($B$1))=$B$1,ROW(Names)-ROW($G$3)+1)),ROWS($A$1:A262))),\"\")","v":""},{"$f":"IFERROR(INDEX(اقساط!$B$3:$B$2000,SMALL(IF(اقساط!$G$3:$G$2000=B264,ROW($B$3:$B$2000)-ROW($B$3)+1),ROWS($C$3:C264))),\"\")","v":0}]
[{"$f":"IFERROR(INDEX(اقساط!$AT$3:$AT$8532,SMALL(IF(اقساط!$G$3:$G$8532=B265,ROW($AT$3:$AT$8532)-ROW($AT$3)+1),ROWS($A$3:A265))),\"\")","v":0},{"$f":"IFERROR(INDEX(Names,SMALL(IF(Names<>\"\",IF(MID(Names,1,LEN($B$1))=$B$1,ROW(Names)-ROW($G$3)+1)),ROWS($A$1:A263))),\"\")","v":""},{"$f":"IFERROR(INDEX(اقساط!$B$3:$B$2000,SMALL(IF(اقساط!$G$3:$G$2000=B265,ROW($B$3:$B$2000)-ROW($B$3)+1),ROWS($C$3:C265))),\"\")","v":0}]
[{"$f":"IFERROR(INDEX(اقساط!$AT$3:$AT$8532,SMALL(IF(اقساط!$G$3:$G$8532=B266,ROW($AT$3:$AT$8532)-ROW($AT$3)+1),ROWS($A$3:A266))),\"\")","v":0},{"$f":"IFERROR(INDEX(Names,SMALL(IF(Names<>\"\",IF(MID(Names,1,LEN($B$1))=$B$1,ROW(Names)-ROW($G$3)+1)),ROWS($A$1:A264))),\"\")","v":""},{"$f":"IFERROR(INDEX(اقساط!$B$3:$B$2000,SMALL(IF(اقساط!$G$3:$G$2000=B266,ROW($B$3:$B$2000)-ROW($B$3)+1),ROWS($C$3:C266))),\"\")","v":0}]
[{"$f":"IFERROR(INDEX(اقساط!$AT$3:$AT$8532,SMALL(IF(اقساط!$G$3:$G$8532=B267,ROW($AT$3:$AT$8532)-ROW($AT$3)+1),ROWS($A$3:A267))),\"\")","v":0},{"$f":"IFERROR(INDEX(Names,SMALL(IF(Names<>\"\",IF(MID(Names,1,LEN($B$1))=$B$1,ROW(Names)-ROW($G$3)+1)),ROWS($A$1:A265))),\"\")","v":""},{"$f":"IFERROR(INDEX(اقساط!$B$3:$B$2000,SMALL(IF(اقساط!$G$3:$G$2000=B267,ROW($B$3:$B$2000)-ROW($B$3)+1),ROWS($C$3:C267))),\"\")","v":0}]
[{"$f":"IFERROR(INDEX(اقساط!$AT$3:$AT$8532,SMALL(IF(اقساط!$G$3:$G$8532=B268,ROW($AT$3:$AT$8532)-ROW($AT$3)+1),ROWS($A$3:A268))),\"\")","v":0},{"$f":"IFERROR(INDEX(Names,SMALL(IF(Names<>\"\",IF(MID(Names,1,LEN($B$1))=$B$1,ROW(Names)-ROW($G$3)+1)),ROWS($A$1:A266))),\"\")","v":""},{"$f":"IFERROR(INDEX(اقساط!$B$3:$B$2000,SMALL(IF(اقساط!$G$3:$G$2000=B268,ROW($B$3:$B$2000)-ROW($B$3)+1),ROWS($C$3:C268))),\"\")","v":0}]
[{"$f":"IFERROR(INDEX(اقساط!$AT$3:$AT$8532,SMALL(IF(اقساط!$G$3:$G$8532=B269,ROW($AT$3:$AT$8532)-ROW($AT$3)+1),ROWS($A$3:A269))),\"\")","v":0},{"$f":"IFERROR(INDEX(Names,SMALL(IF(Names<>\"\",IF(MID(Names,1,LEN($B$1))=$B$1,ROW(Names)-ROW($G$3)+1)),ROWS($A$1:A267))),\"\")","v":""},{"$f":"IFERROR(INDEX(اقساط!$B$3:$B$2000,SMALL(IF(اقساط!$G$3:$G$2000=B269,ROW($B$3:$B$2000)-ROW($B$3)+1),ROWS($C$3:C269))),\"\")","v":0}]
[{"$f":"IFERROR(INDEX(اقساط!$AT$3:$AT$8532,SMALL(IF(اقساط!$G$3:$G$8532=B270,ROW($AT$3:$AT$8532)-ROW($AT$3)+1),ROWS($A$3:A270))),\"\")","v":0},{"$f":"IFERROR(INDEX(Names,SMALL(IF(Names<>\"\",IF(MID(Names,1,LEN($B$1))=$B$1,ROW(Names)-ROW($G$3)+1)),ROWS($A$1:A268))),\"\")","v":""},{"$f":"IFERROR(INDEX(اقساط!$B$3:$B$2000,SMALL(IF(اقساط!$G$3:$G$2000=B270,ROW($B$3:$B$2000)-ROW($B$3)+1),ROWS($C$3:C270))),\"\")","v":0}]
[{"$f":"IFERROR(INDEX(اقساط!$AT$3:$AT$8532,SMALL(IF(اقساط!$G$3:$G$8532=B271,ROW($AT$3:$AT$8532)-ROW($AT$3)+1),ROWS($A$3:A271))),\"\")","v":0},{"$f":"IFERROR(INDEX(Names,SMALL(IF(Names<>\"\",IF(MID(Names,1,LEN($B$1))=$B$1,ROW(Names)-ROW($G$3)+1)),ROWS($A$1:A269))),\"\")","v":""},{"$f":"IFERROR(INDEX(اقساط!$B$3:$B$2000,SMALL(IF(اقساط!$G$3:$G$2000=B271,ROW($B$3:$B$2000)-ROW($B$3)+1),ROWS($C$3:C271))),\"\")","v":0}]
[{"$f":"IFERROR(INDEX(اقساط!$AT$3:$AT$8532,SMALL(IF(اقساط!$G$3:$G$8532=B272,ROW($AT$3:$AT$8532)-ROW($AT$3)+1),ROWS($A$3:A272))),\"\")","v":0},{"$f":"IFERROR(INDEX(Names,SMALL(IF(Names<>\"\",IF(MID(Names,1,LEN($B$1))=$B$1,ROW(Names)-ROW($G$3)+1)),ROWS($A$1:A270))),\"\")","v":""},{"$f":"IFERROR(INDEX(اقساط!$B$3:$B$2000,SMALL(IF(اقساط!$G$3:$G$2000=B272,ROW($B$3:$B$2000)-ROW($B$3)+1),ROWS($C$3:C272))),\"\")","v":0}]
[{"$f":"IFERROR(INDEX(اقساط!$AT$3:$AT$8532,SMALL(IF(اقساط!$G$3:$G$8532=B273,ROW($AT$3:$AT$8532)-ROW($AT$3)+1),ROWS($A$3:A273))),\"\")","v":0},{"$f":"IFERROR(INDEX(Names,SMALL(IF(Names<>\"\",IF(MID(Names,1,LEN($B$1))=$B$1,ROW(Names)-ROW($G$3)+1)),ROWS($A$1:A271))),\"\")","v":""},{"$f":"IFERROR(INDEX(اقساط!$B$3:$B$2000,SMALL(IF(اقساط!$G$3:$G$2000=B273,ROW($B$3:$B$2000)-ROW($B$3)+1),ROWS($C$3:C273))),\"\")","v":0}]
[{"$f":"IFERROR(INDEX(اقساط!$AT$3:$AT$8532,SMALL(IF(اقساط!$G$3:$G$8532=B274,ROW($AT$3:$AT$8532)-ROW($AT$3)+1),ROWS($A$3:A274))),\"\")","v":0},{"$f":"IFERROR(INDEX(Names,SMALL(IF(Names<>\"\",IF(MID(Names,1,LEN($B$1))=$B$1,ROW(Names)-ROW($G$3)+1)),ROWS($A$1:A272))),\"\")","v":""},{"$f":"IFERROR(INDEX(اقساط!$B$3:$B$2000,SMALL(IF(اقساط!$G$3:$G$2000=B274,ROW($B$3:$B$2000)-ROW($B$3)+1),ROWS($C$3:C274))),\"\")","v":0}]
[{"$f":"IFERROR(INDEX(اقساط!$AT$3:$AT$8532,SMALL(IF(اقساط!$G$3:$G$8532=B275,ROW($AT$3:$AT$8532)-ROW($AT$3)+1),ROWS($A$3:A275))),\"\")","v":0},{"$f":"IFERROR(INDEX(Names,SMALL(IF(Names<>\"\",IF(MID(Names,1,LEN($B$1))=$B$1,ROW(Names)-ROW($G$3)+1)),ROWS($A$1:A273))),\"\")","v":""},{"$f":"IFERROR(INDEX(اقساط!$B$3:$B$2000,SMALL(IF(اقساط!$G$3:$G$2000=B275,ROW($B$3:$B$2000)-ROW($B$3)+1),ROWS($C$3:C275))),\"\")","v":0}]
[{"$f":"IFERROR(INDEX(اقساط!$AT$3:$AT$8532,SMALL(IF(اقساط!$G$3:$G$8532=B276,ROW($AT$3:$AT$8532)-ROW($AT$3)+1),ROWS($A$3:A276))),\"\")","v":0},{"$f":"IFERROR(INDEX(Names,SMALL(IF(Names<>\"\",IF(MID(Names,1,LEN($B$1))=$B$1,ROW(Names)-ROW($G$3)+1)),ROWS($A$1:A274))),\"\")","v":""},{"$f":"IFERROR(INDEX(اقساط!$B$3:$B$2000,SMALL(IF(اقساط!$G$3:$G$2000=B276,ROW($B$3:$B$2000)-ROW($B$3)+1),ROWS($C$3:C276))),\"\")","v":0}]
[{"$f":"IFERROR(INDEX(اقساط!$AT$3:$AT$8532,SMALL(IF(اقساط!$G$3:$G$8532=B277,ROW($AT$3:$AT$8532)-ROW($AT$3)+1),ROWS($A$3:A277))),\"\")","v":0},{"$f":"IFERROR(INDEX(Names,SMALL(IF(Names<>\"\",IF(MID(Names,1,LEN($B$1))=$B$1,ROW(Names)-ROW($G$3)+1)),ROWS($A$1:A275))),\"\")","v":""},{"$f":"IFERROR(INDEX(اقساط!$B$3:$B$2000,SMALL(IF(اقساط!$G$3:$G$2000=B277,ROW($B$3:$B$2000)-ROW($B$3)+1),ROWS($C$3:C277))),\"\")","v":0}]
[{"$f":"IFERROR(INDEX(اقساط!$AT$3:$AT$8532,SMALL(IF(اقساط!$G$3:$G$8532=B278,ROW($AT$3:$AT$8532)-ROW($AT$3)+1),ROWS($A$3:A278))),\"\")","v":0},{"$f":"IFERROR(INDEX(Names,SMALL(IF(Names<>\"\",IF(MID(Names,1,LEN($B$1))=$B$1,ROW(Names)-ROW($G$3)+1)),ROWS($A$1:A276))),\"\")","v":""},{"$f":"IFERROR(INDEX(اقساط!$B$3:$B$2000,SMALL(IF(اقساط!$G$3:$G$2000=B278,ROW($B$3:$B$2000)-ROW($B$3)+1),ROWS($C$3:C278))),\"\")","v":0}]
[{"$f":"IFERROR(INDEX(اقساط!$AT$3:$AT$8532,SMALL(IF(اقساط!$G$3:$G$8532=B279,ROW($AT$3:$AT$8532)-ROW($AT$3)+1),ROWS($A$3:A279))),\"\")","v":0},{"$f":"IFERROR(INDEX(Names,SMALL(IF(Names<>\"\",IF(MID(Names,1,LEN($B$1))=$B$1,ROW(Names)-ROW($G$3)+1)),ROWS($A$1:A277))),\"\")","v":""},{"$f":"IFERROR(INDEX(اقساط!$B$3:$B$2000,SMALL(IF(اقساط!$G$3:$G$2000=B279,ROW($B$3:$B$2000)-ROW($B$3)+1),ROWS($C$3:C279))),\"\")","v":0}]
[{"$f":"IFERROR(INDEX(اقساط!$AT$3:$AT$8532,SMALL(IF(اقساط!$G$3:$G$8532=B280,ROW($AT$3:$AT$8532)-ROW($AT$3)+1),ROWS($A$3:A280))),\"\")","v":0},{"$f":"IFERROR(INDEX(Names,SMALL(IF(Names<>\"\",IF(MID(Names,1,LEN($B$1))=$B$1,ROW(Names)-ROW($G$3)+1)),ROWS($A$1:A278))),\"\")","v":""},{"$f":"IFERROR(INDEX(اقساط!$B$3:$B$2000,SMALL(IF(اقساط!$G$3:$G$2000=B280,ROW($B$3:$B$2000)-ROW($B$3)+1),ROWS($C$3:C280))),\"\")","v":0}]
[{"$f":"IFERROR(INDEX(اقساط!$AT$3:$AT$8532,SMALL(IF(اقساط!$G$3:$G$8532=B281,ROW($AT$3:$AT$8532)-ROW($AT$3)+1),ROWS($A$3:A281))),\"\")","v":0},{"$f":"IFERROR(INDEX(Names,SMALL(IF(Names<>\"\",IF(MID(Names,1,LEN($B$1))=$B$1,ROW(Names)-ROW($G$3)+1)),ROWS($A$1:A279))),\"\")","v":""},{"$f":"IFERROR(INDEX(اقساط!$B$3:$B$2000,SMALL(IF(اقساط!$G$3:$G$2000=B281,ROW($B$3:$B$2000)-ROW($B$3)+1),ROWS($C$3:C281))),\"\")","v":0}]
[{"$f":"IFERROR(INDEX(اقساط!$AT$3:$AT$8532,SMALL(IF(اقساط!$G$3:$G$8532=B282,ROW($AT$3:$AT$8532)-ROW($AT$3)+1),ROWS($A$3:A282))),\"\")","v":0},{"$f":"IFERROR(INDEX(Names,SMALL(IF(Names<>\"\",IF(MID(Names,1,LEN($B$1))=$B$1,ROW(Names)-ROW($G$3)+1)),ROWS($A$1:A280))),\"\")","v":""},{"$f":"IFERROR(INDEX(اقساط!$B$3:$B$2000,SMALL(IF(اقساط!$G$3:$G$2000=B282,ROW($B$3:$B$2000)-ROW($B$3)+1),ROWS($C$3:C282))),\"\")","v":0}]
[{"$f":"IFERROR(INDEX(اقساط!$AT$3:$AT$8532,SMALL(IF(اقساط!$G$3:$G$8532=B283,ROW($AT$3:$AT$8532)-ROW($AT$3)+1),ROWS($A$3:A283))),\"\")","v":0},{"$f":"IFERROR(INDEX(Names,SMALL(IF(Names<>\"\",IF(MID(Names,1,LEN($B$1))=$B$1,ROW(Names)-ROW($G$3)+1)),ROWS($A$1:A281))),\"\")","v":""},{"$f":"IFERROR(INDEX(اقساط!$B$3:$B$2000,SMALL(IF(اقساط!$G$3:$G$2000=B283,ROW($B$3:$B$2000)-ROW($B$3)+1),ROWS($C$3:C283))),\"\")","v":0}]
[{"$f":"IFERROR(INDEX(اقساط!$AT$3:$AT$8532,SMALL(IF(اقساط!$G$3:$G$8532=B284,ROW($AT$3:$AT$8532)-ROW($AT$3)+1),ROWS($A$3:A284))),\"\")","v":0},{"$f":"IFERROR(INDEX(Names,SMALL(IF(Names<>\"\",IF(MID(Names,1,LEN($B$1))=$B$1,ROW(Names)-ROW($G$3)+1)),ROWS($A$1:A282))),\"\")","v":""},{"$f":"IFERROR(INDEX(اقساط!$B$3:$B$2000,SMALL(IF(اقساط!$G$3:$G$2000=B284,ROW($B$3:$B$2000)-ROW($B$3)+1),ROWS($C$3:C284))),\"\")","v":0}]
[{"$f":"IFERROR(INDEX(اقساط!$AT$3:$AT$8532,SMALL(IF(اقساط!$G$3:$G$8532=B285,ROW($AT$3:$AT$8532)-ROW($AT$3)+1),ROWS($A$3:A285))),\"\")","v":0},{"$f":"IFERROR(INDEX(Names,SMALL(IF(Names<>\"\",IF(MID(Names,1,LEN($B$1))=$B$1,ROW(Names)-ROW($G$3)+1)),ROWS($A$1:A283))),\"\")","v":""},{"$f":"IFERROR(INDEX(اقساط!$B$3:$B$2000,SMALL(IF(اقساط!$G$3:$G$2000=B285,ROW($B$3:$B$2000)-ROW($B$3)+1),ROWS($C$3:C285))),\"\")","v":0}]
[{"$f":"IFERROR(INDEX(اقساط!$AT$3:$AT$8532,SMALL(IF(اقساط!$G$3:$G$8532=B286,ROW($AT$3:$AT$8532)-ROW($AT$3)+1),ROWS($A$3:A286))),\"\")","v":0},{"$f":"IFERROR(INDEX(Names,SMALL(IF(Names<>\"\",IF(MID(Names,1,LEN($B$1))=$B$1,ROW(Names)-ROW($G$3)+1)),ROWS($A$1:A284))),\"\")","v":""},{"$f":"IFERROR(INDEX(اقساط!$B$3:$B$2000,SMALL(IF(اقساط!$G$3:$G$2000=B286,ROW($B$3:$B$2000)-ROW($B$3)+1),ROWS($C$3:C286))),\"\")","v":0}]
[{"$f":"IFERROR(INDEX(اقساط!$AT$3:$AT$8532,SMALL(IF(اقساط!$G$3:$G$8532=B287,ROW($AT$3:$AT$8532)-ROW($AT$3)+1),ROWS($A$3:A287))),\"\")","v":0},{"$f":"IFERROR(INDEX(Names,SMALL(IF(Names<>\"\",IF(MID(Names,1,LEN($B$1))=$B$1,ROW(Names)-ROW($G$3)+1)),ROWS($A$1:A285))),\"\")","v":""},{"$f":"IFERROR(INDEX(اقساط!$B$3:$B$2000,SMALL(IF(اقساط!$G$3:$G$2000=B287,ROW($B$3:$B$2000)-ROW($B$3)+1),ROWS($C$3:C287))),\"\")","v":0}]
[{"$f":"IFERROR(INDEX(اقساط!$AT$3:$AT$8532,SMALL(IF(اقساط!$G$3:$G$8532=B288,ROW($AT$3:$AT$8532)-ROW($AT$3)+1),ROWS($A$3:A288))),\"\")","v":0},{"$f":"IFERROR(INDEX(Names,SMALL(IF(Names<>\"\",IF(MID(Names,1,LEN($B$1))=$B$1,ROW(Names)-ROW($G$3)+1)),ROWS($A$1:A286))),\"\")","v":""},{"$f":"IFERROR(INDEX(اقساط!$B$3:$B$2000,SMALL(IF(اقساط!$G$3:$G$2000=B288,ROW($B$3:$B$2000)-ROW($B$3)+1),ROWS($C$3:C288))),\"\")","v":0}]
[{"$f":"IFERROR(INDEX(اقساط!$AT$3:$AT$8532,SMALL(IF(اقساط!$G$3:$G$8532=B289,ROW($AT$3:$AT$8532)-ROW($AT$3)+1),ROWS($A$3:A289))),\"\")","v":0},{"$f":"IFERROR(INDEX(Names,SMALL(IF(Names<>\"\",IF(MID(Names,1,LEN($B$1))=$B$1,ROW(Names)-ROW($G$3)+1)),ROWS($A$1:A287))),\"\")","v":""},{"$f":"IFERROR(INDEX(اقساط!$B$3:$B$2000,SMALL(IF(اقساط!$G$3:$G$2000=B289,ROW($B$3:$B$2000)-ROW($B$3)+1),ROWS($C$3:C289))),\"\")","v":0}]
[{"$f":"IFERROR(INDEX(اقساط!$AT$3:$AT$8532,SMALL(IF(اقساط!$G$3:$G$8532=B290,ROW($AT$3:$AT$8532)-ROW($AT$3)+1),ROWS($A$3:A290))),\"\")","v":0},{"$f":"IFERROR(INDEX(Names,SMALL(IF(Names<>\"\",IF(MID(Names,1,LEN($B$1))=$B$1,ROW(Names)-ROW($G$3)+1)),ROWS($A$1:A288))),\"\")","v":""},{"$f":"IFERROR(INDEX(اقساط!$B$3:$B$2000,SMALL(IF(اقساط!$G$3:$G$2000=B290,ROW($B$3:$B$2000)-ROW($B$3)+1),ROWS($C$3:C290))),\"\")","v":0}]
[{"$f":"IFERROR(INDEX(اقساط!$AT$3:$AT$8532,SMALL(IF(اقساط!$G$3:$G$8532=B291,ROW($AT$3:$AT$8532)-ROW($AT$3)+1),ROWS($A$3:A291))),\"\")","v":0},{"$f":"IFERROR(INDEX(Names,SMALL(IF(Names<>\"\",IF(MID(Names,1,LEN($B$1))=$B$1,ROW(Names)-ROW($G$3)+1)),ROWS($A$1:A289))),\"\")","v":""},{"$f":"IFERROR(INDEX(اقساط!$B$3:$B$2000,SMALL(IF(اقساط!$G$3:$G$2000=B291,ROW($B$3:$B$2000)-ROW($B$3)+1),ROWS($C$3:C291))),\"\")","v":0}]
[{"$f":"IFERROR(INDEX(اقساط!$AT$3:$AT$8532,SMALL(IF(اقساط!$G$3:$G$8532=B292,ROW($AT$3:$AT$8532)-ROW($AT$3)+1),ROWS($A$3:A292))),\"\")","v":0},{"$f":"IFERROR(INDEX(Names,SMALL(IF(Names<>\"\",IF(MID(Names,1,LEN($B$1))=$B$1,ROW(Names)-ROW($G$3)+1)),ROWS($A$1:A290))),\"\")","v":""},{"$f":"IFERROR(INDEX(اقساط!$B$3:$B$2000,SMALL(IF(اقساط!$G$3:$G$2000=B292,ROW($B$3:$B$2000)-ROW($B$3)+1),ROWS($C$3:C292))),\"\")","v":0}]
[{"$f":"IFERROR(INDEX(اقساط!$AT$3:$AT$8532,SMALL(IF(اقساط!$G$3:$G$8532=B293,ROW($AT$3:$AT$8532)-ROW($AT$3)+1),ROWS($A$3:A293))),\"\")","v":0},{"$f":"IFERROR(INDEX(Names,SMALL(IF(Names<>\"\",IF(MID(Names,1,LEN($B$1))=$B$1,ROW(Names)-ROW($G$3)+1)),ROWS($A$1:A291))),\"\")","v":""},{"$f":"IFERROR(INDEX(اقساط!$B$3:$B$2000,SMALL(IF(اقساط!$G$3:$G$2000=B293,ROW($B$3:$B$2000)-ROW($B$3)+1),ROWS($C$3:C293))),\"\")","v":0}]
[{"$f":"IFERROR(INDEX(اقساط!$AT$3:$AT$8532,SMALL(IF(اقساط!$G$3:$G$8532=B294,ROW($AT$3:$AT$8532)-ROW($AT$3)+1),ROWS($A$3:A294))),\"\")","v":0},{"$f":"IFERROR(INDEX(Names,SMALL(IF(Names<>\"\",IF(MID(Names,1,LEN($B$1))=$B$1,ROW(Names)-ROW($G$3)+1)),ROWS($A$1:A292))),\"\")","v":""},{"$f":"IFERROR(INDEX(اقساط!$B$3:$B$2000,SMALL(IF(اقساط!$G$3:$G$2000=B294,ROW($B$3:$B$2000)-ROW($B$3)+1),ROWS($C$3:C294))),\"\")","v":0}]
[{"$f":"IFERROR(INDEX(اقساط!$AT$3:$AT$8532,SMALL(IF(اقساط!$G$3:$G$8532=B295,ROW($AT$3:$AT$8532)-ROW($AT$3)+1),ROWS($A$3:A295))),\"\")","v":0},{"$f":"IFERROR(INDEX(Names,SMALL(IF(Names<>\"\",IF(MID(Names,1,LEN($B$1))=$B$1,ROW(Names)-ROW($G$3)+1)),ROWS($A$1:A293))),\"\")","v":""},{"$f":"IFERROR(INDEX(اقساط!$B$3:$B$2000,SMALL(IF(اقساط!$G$3:$G$2000=B295,ROW($B$3:$B$2000)-ROW($B$3)+1),ROWS($C$3:C295))),\"\")","v":0}]
[{"$f":"IFERROR(INDEX(اقساط!$AT$3:$AT$8532,SMALL(IF(اقساط!$G$3:$G$8532=B296,ROW($AT$3:$AT$8532)-ROW($AT$3)+1),ROWS($A$3:A296))),\"\")","v":0},{"$f":"IFERROR(INDEX(Names,SMALL(IF(Names<>\"\",IF(MID(Names,1,LEN($B$1))=$B$1,ROW(Names)-ROW($G$3)+1)),ROWS($A$1:A294))),\"\")","v":""},{"$f":"IFERROR(INDEX(اقساط!$B$3:$B$2000,SMALL(IF(اقساط!$G$3:$G$2000=B296,ROW($B$3:$B$2000)-ROW($B$3)+1),ROWS($C$3:C296))),\"\")","v":0}]
[{"$f":"IFERROR(INDEX(اقساط!$AT$3:$AT$8532,SMALL(IF(اقساط!$G$3:$G$8532=B297,ROW($AT$3:$AT$8532)-ROW($AT$3)+1),ROWS($A$3:A297))),\"\")","v":0},{"$f":"IFERROR(INDEX(Names,SMALL(IF(Names<>\"\",IF(MID(Names,1,LEN($B$1))=$B$1,ROW(Names)-ROW($G$3)+1)),ROWS($A$1:A295))),\"\")","v":""},{"$f":"IFERROR(INDEX(اقساط!$B$3:$B$2000,SMALL(IF(اقساط!$G$3:$G$2000=B297,ROW($B$3:$B$2000)-ROW($B$3)+1),ROWS($C$3:C297))),\"\")","v":0}]
[{"$f":"IFERROR(INDEX(اقساط!$AT$3:$AT$8532,SMALL(IF(اقساط!$G$3:$G$8532=B298,ROW($AT$3:$AT$8532)-ROW($AT$3)+1),ROWS($A$3:A298))),\"\")","v":0},{"$f":"IFERROR(INDEX(Names,SMALL(IF(Names<>\"\",IF(MID(Names,1,LEN($B$1))=$B$1,ROW(Names)-ROW($G$3)+1)),ROWS($A$1:A296))),\"\")","v":""},{"$f":"IFERROR(INDEX(اقساط!$B$3:$B$2000,SMALL(IF(اقساط!$G$3:$G$2000=B298,ROW($B$3:$B$2000)-ROW($B$3)+1),ROWS($C$3:C298))),\"\")","v":0}]
[{"$f":"IFERROR(INDEX(اقساط!$AT$3:$AT$8532,SMALL(IF(اقساط!$G$3:$G$8532=B299,ROW($AT$3:$AT$8532)-ROW($AT$3)+1),ROWS($A$3:A299))),\"\")","v":0},{"$f":"IFERROR(INDEX(Names,SMALL(IF(Names<>\"\",IF(MID(Names,1,LEN($B$1))=$B$1,ROW(Names)-ROW($G$3)+1)),ROWS($A$1:A297))),\"\")","v":""},{"$f":"IFERROR(INDEX(اقساط!$B$3:$B$2000,SMALL(IF(اقساط!$G$3:$G$2000=B299,ROW($B$3:$B$2000)-ROW($B$3)+1),ROWS($C$3:C299))),\"\")","v":0}]
[{"$f":"IFERROR(INDEX(اقساط!$AT$3:$AT$8532,SMALL(IF(اقساط!$G$3:$G$8532=B300,ROW($AT$3:$AT$8532)-ROW($AT$3)+1),ROWS($A$3:A300))),\"\")","v":0},{"$f":"IFERROR(INDEX(Names,SMALL(IF(Names<>\"\",IF(MID(Names,1,LEN($B$1))=$B$1,ROW(Names)-ROW($G$3)+1)),ROWS($A$1:A298))),\"\")","v":""},{"$f":"IFERROR(INDEX(اقساط!$B$3:$B$2000,SMALL(IF(اقساط!$G$3:$G$2000=B300,ROW($B$3:$B$2000)-ROW($B$3)+1),ROWS($C$3:C300))),\"\")","v":0}]
[{"$f":"IFERROR(INDEX(اقساط!$AT$3:$AT$8532,SMALL(IF(اقساط!$G$3:$G$8532=B301,ROW($AT$3:$AT$8532)-ROW($AT$3)+1),ROWS($A$3:A301))),\"\")","v":0},{"$f":"IFERROR(INDEX(Names,SMALL(IF(Names<>\"\",IF(MID(Names,1,LEN($B$1))=$B$1,ROW(Names)-ROW($G$3)+1)),ROWS($A$1:A299))),\"\")","v":""},{"$f":"IFERROR(INDEX(اقساط!$B$3:$B$2000,SMALL(IF(اقساط!$G$3:$G$2000=B301,ROW($B$3:$B$2000)-ROW($B$3)+1),ROWS($C$3:C301))),\"\")","v":0}]
[{"$f":"IFERROR(INDEX(اقساط!$AT$3:$AT$8532,SMALL(IF(اقساط!$G$3:$G$8532=B302,ROW($AT$3:$AT$8532)-ROW($AT$3)+1),ROWS($A$3:A302))),\"\")","v":0},{"$f":"IFERROR(INDEX(Names,SMALL(IF(Names<>\"\",IF(MID(Names,1,LEN($B$1))=$B$1,ROW(Names)-ROW($G$3)+1)),ROWS($A$1:A300))),\"\")","v":""},{"$f":"IFERROR(INDEX(اقساط!$B$3:$B$2000,SMALL(IF(اقساط!$G$3:$G$2000=B302,ROW($B$3:$B$2000)-ROW($B$3)+1),ROWS($C$3:C302))),\"\")","v":0}]
[{"$f":"IFERROR(INDEX(اقساط!$AT$3:$AT$8532,SMALL(IF(اقساط!$G$3:$G$8532=B303,ROW($AT$3:$AT$8532)-ROW($AT$3)+1),ROWS($A$3:A303))),\"\")","v":0},{"$f":"IFERROR(INDEX(Names,SMALL(IF(Names<>\"\",IF(MID(Names,1,LEN($B$1))=$B$1,ROW(Names)-ROW($G$3)+1)),ROWS($A$1:A301))),\"\")","v":""},{"$f":"IFERROR(INDEX(اقساط!$B$3:$B$2000,SMALL(IF(اقساط!$G$3:$G$2000=B303,ROW($B$3:$B$2000)-ROW($B$3)+1),ROWS($C$3:C303))),\"\")","v":0}]
[{"$f":"IFERROR(INDEX(اقساط!$AT$3:$AT$8532,SMALL(IF(اقساط!$G$3:$G$8532=B304,ROW($AT$3:$AT$8532)-ROW($AT$3)+1),ROWS($A$3:A304))),\"\")","v":0},{"$f":"IFERROR(INDEX(Names,SMALL(IF(Names<>\"\",IF(MID(Names,1,LEN($B$1))=$B$1,ROW(Names)-ROW($G$3)+1)),ROWS($A$1:A302))),\"\")","v":""},{"$f":"IFERROR(INDEX(اقساط!$B$3:$B$2000,SMALL(IF(اقساط!$G$3:$G$2000=B304,ROW($B$3:$B$2000)-ROW($B$3)+1),ROWS($C$3:C304))),\"\")","v":0}]
[{"$f":"IFERROR(INDEX(اقساط!$AT$3:$AT$8532,SMALL(IF(اقساط!$G$3:$G$8532=B305,ROW($AT$3:$AT$8532)-ROW($AT$3)+1),ROWS($A$3:A305))),\"\")","v":0},{"$f":"IFERROR(INDEX(Names,SMALL(IF(Names<>\"\",IF(MID(Names,1,LEN($B$1))=$B$1,ROW(Names)-ROW($G$3)+1)),ROWS($A$1:A303))),\"\")","v":""},{"$f":"IFERROR(INDEX(اقساط!$B$3:$B$2000,SMALL(IF(اقساط!$G$3:$G$2000=B305,ROW($B$3:$B$2000)-ROW($B$3)+1),ROWS($C$3:C305))),\"\")","v":0}]
[{"$f":"IFERROR(INDEX(اقساط!$AT$3:$AT$8532,SMALL(IF(اقساط!$G$3:$G$8532=B306,ROW($AT$3:$AT$8532)-ROW($AT$3)+1),ROWS($A$3:A306))),\"\")","v":0},{"$f":"IFERROR(INDEX(Names,SMALL(IF(Names<>\"\",IF(MID(Names,1,LEN($B$1))=$B$1,ROW(Names)-ROW($G$3)+1)),ROWS($A$1:A304))),\"\")","v":""},{"$f":"IFERROR(INDEX(اقساط!$B$3:$B$2000,SMALL(IF(اقساط!$G$3:$G$2000=B306,ROW($B$3:$B$2000)-ROW($B$3)+1),ROWS($C$3:C306))),\"\")","v":0}]
[{"$f":"IFERROR(INDEX(اقساط!$AT$3:$AT$8532,SMALL(IF(اقساط!$G$3:$G$8532=B307,ROW($AT$3:$AT$8532)-ROW($AT$3)+1),ROWS($A$3:A307))),\"\")","v":0},{"$f":"IFERROR(INDEX(Names,SMALL(IF(Names<>\"\",IF(MID(Names,1,LEN($B$1))=$B$1,ROW(Names)-ROW($G$3)+1)),ROWS($A$1:A305))),\"\")","v":""},{"$f":"IFERROR(INDEX(اقساط!$B$3:$B$2000,SMALL(IF(اقساط!$G$3:$G$2000=B307,ROW($B$3:$B$2000)-ROW($B$3)+1),ROWS($C$3:C307))),\"\")","v":0}]
[{"$f":"IFERROR(INDEX(اقساط!$AT$3:$AT$8532,SMALL(IF(اقساط!$G$3:$G$8532=B308,ROW($AT$3:$AT$8532)-ROW($AT$3)+1),ROWS($A$3:A308))),\"\")","v":0},{"$f":"IFERROR(INDEX(Names,SMALL(IF(Names<>\"\",IF(MID(Names,1,LEN($B$1))=$B$1,ROW(Names)-ROW($G$3)+1)),ROWS($A$1:A306))),\"\")","v":""},{"$f":"IFERROR(INDEX(اقساط!$B$3:$B$2000,SMALL(IF(اقساط!$G$3:$G$2000=B308,ROW($B$3:$B$2000)-ROW($B$3)+1),ROWS($C$3:C308))),\"\")","v":0}]
[{"$f":"IFERROR(INDEX(اقساط!$AT$3:$AT$8532,SMALL(IF(اقساط!$G$3:$G$8532=B309,ROW($AT$3:$AT$8532)-ROW($AT$3)+1),ROWS($A$3:A309))),\"\")","v":0},{"$f":"IFERROR(INDEX(Names,SMALL(IF(Names<>\"\",IF(MID(Names,1,LEN($B$1))=$B$1,ROW(Names)-ROW($G$3)+1)),ROWS($A$1:A307))),\"\")","v":""},{"$f":"IFERROR(INDEX(اقساط!$B$3:$B$2000,SMALL(IF(اقساط!$G$3:$G$2000=B309,ROW($B$3:$B$2000)-ROW($B$3)+1),ROWS($C$3:C309))),\"\")","v":0}]
[{"$f":"IFERROR(INDEX(اقساط!$AT$3:$AT$8532,SMALL(IF(اقساط!$G$3:$G$8532=B310,ROW($AT$3:$AT$8532)-ROW($AT$3)+1),ROWS($A$3:A310))),\"\")","v":0},{"$f":"IFERROR(INDEX(Names,SMALL(IF(Names<>\"\",IF(MID(Names,1,LEN($B$1))=$B$1,ROW(Names)-ROW($G$3)+1)),ROWS($A$1:A308))),\"\")","v":""},{"$f":"IFERROR(INDEX(اقساط!$B$3:$B$2000,SMALL(IF(اقساط!$G$3:$G$2000=B310,ROW($B$3:$B$2000)-ROW($B$3)+1),ROWS($C$3:C310))),\"\")","v":0}]
[{"$f":"IFERROR(INDEX(اقساط!$AT$3:$AT$8532,SMALL(IF(اقساط!$G$3:$G$8532=B311,ROW($AT$3:$AT$8532)-ROW($AT$3)+1),ROWS($A$3:A311))),\"\")","v":0},{"$f":"IFERROR(INDEX(Names,SMALL(IF(Names<>\"\",IF(MID(Names,1,LEN($B$1))=$B$1,ROW(Names)-ROW($G$3)+1)),ROWS($A$1:A309))),\"\")","v":""},{"$f":"IFERROR(INDEX(اقساط!$B$3:$B$2000,SMALL(IF(اقساط!$G$3:$G$2000=B311,ROW($B$3:$B$2000)-ROW($B$3)+1),ROWS($C$3:C311))),\"\")","v":0}]
[{"$f":"IFERROR(INDEX(اقساط!$AT$3:$AT$8532,SMALL(IF(اقساط!$G$3:$G$8532=B312,ROW($AT$3:$AT$8532)-ROW($AT$3)+1),ROWS($A$3:A312))),\"\")","v":0},{"$f":"IFERROR(INDEX(Names,SMALL(IF(Names<>\"\",IF(MID(Names,1,LEN($B$1))=$B$1,ROW(Names)-ROW($G$3)+1)),ROWS($A$1:A310))),\"\")","v":""},{"$f":"IFERROR(INDEX(اقساط!$B$3:$B$2000,SMALL(IF(اقساط!$G$3:$G$2000=B312,ROW($B$3:$B$2000)-ROW($B$3)+1),ROWS($C$3:C312))),\"\")","v":0}]
[{"$f":"IFERROR(INDEX(اقساط!$AT$3:$AT$8532,SMALL(IF(اقساط!$G$3:$G$8532=B313,ROW($AT$3:$AT$8532)-ROW($AT$3)+1),ROWS($A$3:A313))),\"\")","v":0},{"$f":"IFERROR(INDEX(Names,SMALL(IF(Names<>\"\",IF(MID(Names,1,LEN($B$1))=$B$1,ROW(Names)-ROW($G$3)+1)),ROWS($A$1:A311))),\"\")","v":""},{"$f":"IFERROR(INDEX(اقساط!$B$3:$B$2000,SMALL(IF(اقساط!$G$3:$G$2000=B313,ROW($B$3:$B$2000)-ROW($B$3)+1),ROWS($C$3:C313))),\"\")","v":0}]
[{"$f":"IFERROR(INDEX(اقساط!$AT$3:$AT$8532,SMALL(IF(اقساط!$G$3:$G$8532=B314,ROW($AT$3:$AT$8532)-ROW($AT$3)+1),ROWS($A$3:A314))),\"\")","v":0},{"$f":"IFERROR(INDEX(Names,SMALL(IF(Names<>\"\",IF(MID(Names,1,LEN($B$1))=$B$1,ROW(Names)-ROW($G$3)+1)),ROWS($A$1:A312))),\"\")","v":""},{"$f":"IFERROR(INDEX(اقساط!$B$3:$B$2000,SMALL(IF(اقساط!$G$3:$G$2000=B314,ROW($B$3:$B$2000)-ROW($B$3)+1),ROWS($C$3:C314))),\"\")","v":0}]
[{"$f":"IFERROR(INDEX(اقساط!$AT$3:$AT$8532,SMALL(IF(اقساط!$G$3:$G$8532=B315,ROW($AT$3:$AT$8532)-ROW($AT$3)+1),ROWS($A$3:A315))),\"\")","v":0},{"$f":"IFERROR(INDEX(Names,SMALL(IF(Names<>\"\",IF(MID(Names,1,LEN($B$1))=$B$1,ROW(Names)-ROW($G$3)+1)),ROWS($A$1:A313))),\"\")","v":""},{"$f":"IFERROR(INDEX(اقساط!$B$3:$B$2000,SMALL(IF(اقساط!$G$3:$G$2000=B315,ROW($B$3:$B$2000)-ROW($B$3)+1),ROWS($C$3:C315))),\"\")","v":0}]
[{"$f":"IFERROR(INDEX(اقساط!$AT$3:$AT$8532,SMALL(IF(اقساط!$G$3:$G$8532=B316,ROW($AT$3:$AT$8532)-ROW($AT$3)+1),ROWS($A$3:A316))),\"\")","v":0},{"$f":"IFERROR(INDEX(Names,SMALL(IF(Names<>\"\",IF(MID(Names,1,LEN($B$1))=$B$1,ROW(Names)-ROW($G$3)+1)),ROWS($A$1:A314))),\"\")","v":""},{"$f":"IFERROR(INDEX(اقساط!$B$3:$B$2000,SMALL(IF(اقساط!$G$3:$G$2000=B316,ROW($B$3:$B$2000)-ROW($B$3)+1),ROWS($C$3:C316))),\"\")","v":0}]
[{"$f":"IFERROR(INDEX(اقساط!$AT$3:$AT$8532,SMALL(IF(اقساط!$G$3:$G$8532=B317,ROW($AT$3:$AT$8532)-ROW($AT$3)+1),ROWS($A$3:A317))),\"\")","v":0},{"$f":"IFERROR(INDEX(Names,SMALL(IF(Names<>\"\",IF(MID(Names,1,LEN($B$1))=$B$1,ROW(Names)-ROW($G$3)+1)),ROWS($A$1:A315))),\"\")","v":""},{"$f":"IFERROR(INDEX(اقساط!$B$3:$B$2000,SMALL(IF(اقساط!$G$3:$G$2000=B317,ROW($B$3:$B$2000)-ROW($B$3)+1),ROWS($C$3:C317))),\"\")","v":0}]
[{"$f":"IFERROR(INDEX(اقساط!$AT$3:$AT$8532,SMALL(IF(اقساط!$G$3:$G$8532=B318,ROW($AT$3:$AT$8532)-ROW($AT$3)+1),ROWS($A$3:A318))),\"\")","v":0},{"$f":"IFERROR(INDEX(Names,SMALL(IF(Names<>\"\",IF(MID(Names,1,LEN($B$1))=$B$1,ROW(Names)-ROW($G$3)+1)),ROWS($A$1:A316))),\"\")","v":""},{"$f":"IFERROR(INDEX(اقساط!$B$3:$B$2000,SMALL(IF(اقساط!$G$3:$G$2000=B318,ROW($B$3:$B$2000)-ROW($B$3)+1),ROWS($C$3:C318))),\"\")","v":0}]
[{"$f":"IFERROR(INDEX(اقساط!$AT$3:$AT$8532,SMALL(IF(اقساط!$G$3:$G$8532=B319,ROW($AT$3:$AT$8532)-ROW($AT$3)+1),ROWS($A$3:A319))),\"\")","v":0},{"$f":"IFERROR(INDEX(Names,SMALL(IF(Names<>\"\",IF(MID(Names,1,LEN($B$1))=$B$1,ROW(Names)-ROW($G$3)+1)),ROWS($A$1:A317))),\"\")","v":""},{"$f":"IFERROR(INDEX(اقساط!$B$3:$B$2000,SMALL(IF(اقساط!$G$3:$G$2000=B319,ROW($B$3:$B$2000)-ROW($B$3)+1),ROWS($C$3:C319))),\"\")","v":0}]
[{"$f":"IFERROR(INDEX(اقساط!$AT$3:$AT$8532,SMALL(IF(اقساط!$G$3:$G$8532=B320,ROW($AT$3:$AT$8532)-ROW($AT$3)+1),ROWS($A$3:A320))),\"\")","v":0},{"$f":"IFERROR(INDEX(Names,SMALL(IF(Names<>\"\",IF(MID(Names,1,LEN($B$1))=$B$1,ROW(Names)-ROW($G$3)+1)),ROWS($A$1:A318))),\"\")","v":""},{"$f":"IFERROR(INDEX(اقساط!$B$3:$B$2000,SMALL(IF(اقساط!$G$3:$G$2000=B320,ROW($B$3:$B$2000)-ROW($B$3)+1),ROWS($C$3:C320))),\"\")","v":0}]
[{"$f":"IFERROR(INDEX(اقساط!$AT$3:$AT$8532,SMALL(IF(اقساط!$G$3:$G$8532=B321,ROW($AT$3:$AT$8532)-ROW($AT$3)+1),ROWS($A$3:A321))),\"\")","v":0},{"$f":"IFERROR(INDEX(Names,SMALL(IF(Names<>\"\",IF(MID(Names,1,LEN($B$1))=$B$1,ROW(Names)-ROW($G$3)+1)),ROWS($A$1:A319))),\"\")","v":""},{"$f":"IFERROR(INDEX(اقساط!$B$3:$B$2000,SMALL(IF(اقساط!$G$3:$G$2000=B321,ROW($B$3:$B$2000)-ROW($B$3)+1),ROWS($C$3:C321))),\"\")","v":0}]
[{"$f":"IFERROR(INDEX(اقساط!$AT$3:$AT$8532,SMALL(IF(اقساط!$G$3:$G$8532=B322,ROW($AT$3:$AT$8532)-ROW($AT$3)+1),ROWS($A$3:A322))),\"\")","v":0},{"$f":"IFERROR(INDEX(Names,SMALL(IF(Names<>\"\",IF(MID(Names,1,LEN($B$1))=$B$1,ROW(Names)-ROW($G$3)+1)),ROWS($A$1:A320))),\"\")","v":""},{"$f":"IFERROR(INDEX(اقساط!$B$3:$B$2000,SMALL(IF(اقساط!$G$3:$G$2000=B322,ROW($B$3:$B$2000)-ROW($B$3)+1),ROWS($C$3:C322))),\"\")","v":0}]
[{"$f":"IFERROR(INDEX(اقساط!$AT$3:$AT$8532,SMALL(IF(اقساط!$G$3:$G$8532=B323,ROW($AT$3:$AT$8532)-ROW($AT$3)+1),ROWS($A$3:A323))),\"\")","v":0},{"$f":"IFERROR(INDEX(Names,SMALL(IF(Names<>\"\",IF(MID(Names,1,LEN($B$1))=$B$1,ROW(Names)-ROW($G$3)+1)),ROWS($A$1:A321))),\"\")","v":""},{"$f":"IFERROR(INDEX(اقساط!$B$3:$B$2000,SMALL(IF(اقساط!$G$3:$G$2000=B323,ROW($B$3:$B$2000)-ROW($B$3)+1),ROWS($C$3:C323))),\"\")","v":0}]
[{"$f":"IFERROR(INDEX(اقساط!$AT$3:$AT$8532,SMALL(IF(اقساط!$G$3:$G$8532=B324,ROW($AT$3:$AT$8532)-ROW($AT$3)+1),ROWS($A$3:A324))),\"\")","v":0},{"$f":"IFERROR(INDEX(Names,SMALL(IF(Names<>\"\",IF(MID(Names,1,LEN($B$1))=$B$1,ROW(Names)-ROW($G$3)+1)),ROWS($A$1:A322))),\"\")","v":""},{"$f":"IFERROR(INDEX(اقساط!$B$3:$B$2000,SMALL(IF(اقساط!$G$3:$G$2000=B324,ROW($B$3:$B$2000)-ROW($B$3)+1),ROWS($C$3:C324))),\"\")","v":0}]
[{"$f":"IFERROR(INDEX(اقساط!$AT$3:$AT$8532,SMALL(IF(اقساط!$G$3:$G$8532=B325,ROW($AT$3:$AT$8532)-ROW($AT$3)+1),ROWS($A$3:A325))),\"\")","v":0},{"$f":"IFERROR(INDEX(Names,SMALL(IF(Names<>\"\",IF(MID(Names,1,LEN($B$1))=$B$1,ROW(Names)-ROW($G$3)+1)),ROWS($A$1:A323))),\"\")","v":""},{"$f":"IFERROR(INDEX(اقساط!$B$3:$B$2000,SMALL(IF(اقساط!$G$3:$G$2000=B325,ROW($B$3:$B$2000)-ROW($B$3)+1),ROWS($C$3:C325))),\"\")","v":0}]
[{"$f":"IFERROR(INDEX(اقساط!$AT$3:$AT$8532,SMALL(IF(اقساط!$G$3:$G$8532=B326,ROW($AT$3:$AT$8532)-ROW($AT$3)+1),ROWS($A$3:A326))),\"\")","v":0},{"$f":"IFERROR(INDEX(Names,SMALL(IF(Names<>\"\",IF(MID(Names,1,LEN($B$1))=$B$1,ROW(Names)-ROW($G$3)+1)),ROWS($A$1:A324))),\"\")","v":""},{"$f":"IFERROR(INDEX(اقساط!$B$3:$B$2000,SMALL(IF(اقساط!$G$3:$G$2000=B326,ROW($B$3:$B$2000)-ROW($B$3)+1),ROWS($C$3:C326))),\"\")","v":0}]
[{"$f":"IFERROR(INDEX(اقساط!$AT$3:$AT$8532,SMALL(IF(اقساط!$G$3:$G$8532=B327,ROW($AT$3:$AT$8532)-ROW($AT$3)+1),ROWS($A$3:A327))),\"\")","v":0},{"$f":"IFERROR(INDEX(Names,SMALL(IF(Names<>\"\",IF(MID(Names,1,LEN($B$1))=$B$1,ROW(Names)-ROW($G$3)+1)),ROWS($A$1:A325))),\"\")","v":""},{"$f":"IFERROR(INDEX(اقساط!$B$3:$B$2000,SMALL(IF(اقساط!$G$3:$G$2000=B327,ROW($B$3:$B$2000)-ROW($B$3)+1),ROWS($C$3:C327))),\"\")","v":0}]
[{"$f":"IFERROR(INDEX(اقساط!$AT$3:$AT$8532,SMALL(IF(اقساط!$G$3:$G$8532=B328,ROW($AT$3:$AT$8532)-ROW($AT$3)+1),ROWS($A$3:A328))),\"\")","v":0},{"$f":"IFERROR(INDEX(Names,SMALL(IF(Names<>\"\",IF(MID(Names,1,LEN($B$1))=$B$1,ROW(Names)-ROW($G$3)+1)),ROWS($A$1:A326))),\"\")","v":""},{"$f":"IFERROR(INDEX(اقساط!$B$3:$B$2000,SMALL(IF(اقساط!$G$3:$G$2000=B328,ROW($B$3:$B$2000)-ROW($B$3)+1),ROWS($C$3:C328))),\"\")","v":0}]
[{"$f":"IFERROR(INDEX(اقساط!$AT$3:$AT$8532,SMALL(IF(اقساط!$G$3:$G$8532=B329,ROW($AT$3:$AT$8532)-ROW($AT$3)+1),ROWS($A$3:A329))),\"\")","v":0},{"$f":"IFERROR(INDEX(Names,SMALL(IF(Names<>\"\",IF(MID(Names,1,LEN($B$1))=$B$1,ROW(Names)-ROW($G$3)+1)),ROWS($A$1:A327))),\"\")","v":""},{"$f":"IFERROR(INDEX(اقساط!$B$3:$B$2000,SMALL(IF(اقساط!$G$3:$G$2000=B329,ROW($B$3:$B$2000)-ROW($B$3)+1),ROWS($C$3:C329))),\"\")","v":0}]
[{"$f":"IFERROR(INDEX(اقساط!$AT$3:$AT$8532,SMALL(IF(اقساط!$G$3:$G$8532=B330,ROW($AT$3:$AT$8532)-ROW($AT$3)+1),ROWS($A$3:A330))),\"\")","v":0},{"$f":"IFERROR(INDEX(Names,SMALL(IF(Names<>\"\",IF(MID(Names,1,LEN($B$1))=$B$1,ROW(Names)-ROW($G$3)+1)),ROWS($A$1:A328))),\"\")","v":""},{"$f":"IFERROR(INDEX(اقساط!$B$3:$B$2000,SMALL(IF(اقساط!$G$3:$G$2000=B330,ROW($B$3:$B$2000)-ROW($B$3)+1),ROWS($C$3:C330))),\"\")","v":0}]
[{"$f":"IFERROR(INDEX(اقساط!$AT$3:$AT$8532,SMALL(IF(اقساط!$G$3:$G$8532=B331,ROW($AT$3:$AT$8532)-ROW($AT$3)+1),ROWS($A$3:A331))),\"\")","v":0},{"$f":"IFERROR(INDEX(Names,SMALL(IF(Names<>\"\",IF(MID(Names,1,LEN($B$1))=$B$1,ROW(Names)-ROW($G$3)+1)),ROWS($A$1:A329))),\"\")","v":""},{"$f":"IFERROR(INDEX(اقساط!$B$3:$B$2000,SMALL(IF(اقساط!$G$3:$G$2000=B331,ROW($B$3:$B$2000)-ROW($B$3)+1),ROWS($C$3:C331))),\"\")","v":0}]
[{"$f":"IFERROR(INDEX(اقساط!$AT$3:$AT$8532,SMALL(IF(اقساط!$G$3:$G$8532=B332,ROW($AT$3:$AT$8532)-ROW($AT$3)+1),ROWS($A$3:A332))),\"\")","v":0},{"$f":"IFERROR(INDEX(Names,SMALL(IF(Names<>\"\",IF(MID(Names,1,LEN($B$1))=$B$1,ROW(Names)-ROW($G$3)+1)),ROWS($A$1:A330))),\"\")","v":""},{"$f":"IFERROR(INDEX(اقساط!$B$3:$B$2000,SMALL(IF(اقساط!$G$3:$G$2000=B332,ROW($B$3:$B$2000)-ROW($B$3)+1),ROWS($C$3:C332))),\"\")","v":0}]
[{"$f":"IFERROR(INDEX(اقساط!$AT$3:$AT$8532,SMALL(IF(اقساط!$G$3:$G$8532=B333,ROW($AT$3:$AT$8532)-ROW($AT$3)+1),ROWS($A$3:A333))),\"\")","v":0},{"$f":"IFERROR(INDEX(Names,SMALL(IF(Names<>\"\",IF(MID(Names,1,LEN($B$1))=$B$1,ROW(Names)-ROW($G$3)+1)),ROWS($A$1:A331))),\"\")","v":""},{"$f":"IFERROR(INDEX(اقساط!$B$3:$B$2000,SMALL(IF(اقساط!$G$3:$G$2000=B333,ROW($B$3:$B$2000)-ROW($B$3)+1),ROWS($C$3:C333))),\"\")","v":0}]
[{"$f":"IFERROR(INDEX(اقساط!$AT$3:$AT$8532,SMALL(IF(اقساط!$G$3:$G$8532=B334,ROW($AT$3:$AT$8532)-ROW($AT$3)+1),ROWS($A$3:A334))),\"\")","v":0},{"$f":"IFERROR(INDEX(Names,SMALL(IF(Names<>\"\",IF(MID(Names,1,LEN($B$1))=$B$1,ROW(Names)-ROW($G$3)+1)),ROWS($A$1:A332))),\"\")","v":""},{"$f":"IFERROR(INDEX(اقساط!$B$3:$B$2000,SMALL(IF(اقساط!$G$3:$G$2000=B334,ROW($B$3:$B$2000)-ROW($B$3)+1),ROWS($C$3:C334))),\"\")","v":0}]
[{"$f":"IFERROR(INDEX(اقساط!$AT$3:$AT$8532,SMALL(IF(اقساط!$G$3:$G$8532=B335,ROW($AT$3:$AT$8532)-ROW($AT$3)+1),ROWS($A$3:A335))),\"\")","v":0},{"$f":"IFERROR(INDEX(Names,SMALL(IF(Names<>\"\",IF(MID(Names,1,LEN($B$1))=$B$1,ROW(Names)-ROW($G$3)+1)),ROWS($A$1:A333))),\"\")","v":""},{"$f":"IFERROR(INDEX(اقساط!$B$3:$B$2000,SMALL(IF(اقساط!$G$3:$G$2000=B335,ROW($B$3:$B$2000)-ROW($B$3)+1),ROWS($C$3:C335))),\"\")","v":0}]
[{"$f":"IFERROR(INDEX(اقساط!$AT$3:$AT$8532,SMALL(IF(اقساط!$G$3:$G$8532=B336,ROW($AT$3:$AT$8532)-ROW($AT$3)+1),ROWS($A$3:A336))),\"\")","v":0},{"$f":"IFERROR(INDEX(Names,SMALL(IF(Names<>\"\",IF(MID(Names,1,LEN($B$1))=$B$1,ROW(Names)-ROW($G$3)+1)),ROWS($A$1:A334))),\"\")","v":""},{"$f":"IFERROR(INDEX(اقساط!$B$3:$B$2000,SMALL(IF(اقساط!$G$3:$G$2000=B336,ROW($B$3:$B$2000)-ROW($B$3)+1),ROWS($C$3:C336))),\"\")","v":0}]
[{"$f":"IFERROR(INDEX(اقساط!$AT$3:$AT$8532,SMALL(IF(اقساط!$G$3:$G$8532=B337,ROW($AT$3:$AT$8532)-ROW($AT$3)+1),ROWS($A$3:A337))),\"\")","v":0},{"$f":"IFERROR(INDEX(Names,SMALL(IF(Names<>\"\",IF(MID(Names,1,LEN($B$1))=$B$1,ROW(Names)-ROW($G$3)+1)),ROWS($A$1:A335))),\"\")","v":""},{"$f":"IFERROR(INDEX(اقساط!$B$3:$B$2000,SMALL(IF(اقساط!$G$3:$G$2000=B337,ROW($B$3:$B$2000)-ROW($B$3)+1),ROWS($C$3:C337))),\"\")","v":0}]
[{"$f":"IFERROR(INDEX(اقساط!$AT$3:$AT$8532,SMALL(IF(اقساط!$G$3:$G$8532=B338,ROW($AT$3:$AT$8532)-ROW($AT$3)+1),ROWS($A$3:A338))),\"\")","v":0},{"$f":"IFERROR(INDEX(Names,SMALL(IF(Names<>\"\",IF(MID(Names,1,LEN($B$1))=$B$1,ROW(Names)-ROW($G$3)+1)),ROWS($A$1:A336))),\"\")","v":""},{"$f":"IFERROR(INDEX(اقساط!$B$3:$B$2000,SMALL(IF(اقساط!$G$3:$G$2000=B338,ROW($B$3:$B$2000)-ROW($B$3)+1),ROWS($C$3:C338))),\"\")","v":0}]
[{"$f":"IFERROR(INDEX(اقساط!$AT$3:$AT$8532,SMALL(IF(اقساط!$G$3:$G$8532=B339,ROW($AT$3:$AT$8532)-ROW($AT$3)+1),ROWS($A$3:A339))),\"\")","v":0},{"$f":"IFERROR(INDEX(Names,SMALL(IF(Names<>\"\",IF(MID(Names,1,LEN($B$1))=$B$1,ROW(Names)-ROW($G$3)+1)),ROWS($A$1:A337))),\"\")","v":""},{"$f":"IFERROR(INDEX(اقساط!$B$3:$B$2000,SMALL(IF(اقساط!$G$3:$G$2000=B339,ROW($B$3:$B$2000)-ROW($B$3)+1),ROWS($C$3:C339))),\"\")","v":0}]
[{"$f":"IFERROR(INDEX(اقساط!$AT$3:$AT$8532,SMALL(IF(اقساط!$G$3:$G$8532=B340,ROW($AT$3:$AT$8532)-ROW($AT$3)+1),ROWS($A$3:A340))),\"\")","v":0},{"$f":"IFERROR(INDEX(Names,SMALL(IF(Names<>\"\",IF(MID(Names,1,LEN($B$1))=$B$1,ROW(Names)-ROW($G$3)+1)),ROWS($A$1:A338))),\"\")","v":""},{"$f":"IFERROR(INDEX(اقساط!$B$3:$B$2000,SMALL(IF(اقساط!$G$3:$G$2000=B340,ROW($B$3:$B$2000)-ROW($B$3)+1),ROWS($C$3:C340))),\"\")","v":0}]
[{"$f":"IFERROR(INDEX(اقساط!$AT$3:$AT$8532,SMALL(IF(اقساط!$G$3:$G$8532=B341,ROW($AT$3:$AT$8532)-ROW($AT$3)+1),ROWS($A$3:A341))),\"\")","v":0},{"$f":"IFERROR(INDEX(Names,SMALL(IF(Names<>\"\",IF(MID(Names,1,LEN($B$1))=$B$1,ROW(Names)-ROW($G$3)+1)),ROWS($A$1:A339))),\"\")","v":""},{"$f":"IFERROR(INDEX(اقساط!$B$3:$B$2000,SMALL(IF(اقساط!$G$3:$G$2000=B341,ROW($B$3:$B$2000)-ROW($B$3)+1),ROWS($C$3:C341))),\"\")","v":0}]
[{"$f":"IFERROR(INDEX(اقساط!$AT$3:$AT$8532,SMALL(IF(اقساط!$G$3:$G$8532=B342,ROW($AT$3:$AT$8532)-ROW($AT$3)+1),ROWS($A$3:A342))),\"\")","v":0},{"$f":"IFERROR(INDEX(Names,SMALL(IF(Names<>\"\",IF(MID(Names,1,LEN($B$1))=$B$1,ROW(Names)-ROW($G$3)+1)),ROWS($A$1:A340))),\"\")","v":""},{"$f":"IFERROR(INDEX(اقساط!$B$3:$B$2000,SMALL(IF(اقساط!$G$3:$G$2000=B342,ROW($B$3:$B$2000)-ROW($B$3)+1),ROWS($C$3:C342))),\"\")","v":0}]
[{"$f":"IFERROR(INDEX(اقساط!$AT$3:$AT$8532,SMALL(IF(اقساط!$G$3:$G$8532=B343,ROW($AT$3:$AT$8532)-ROW($AT$3)+1),ROWS($A$3:A343))),\"\")","v":0},{"$f":"IFERROR(INDEX(Names,SMALL(IF(Names<>\"\",IF(MID(Names,1,LEN($B$1))=$B$1,ROW(Names)-ROW($G$3)+1)),ROWS($A$1:A341))),\"\")","v":""},{"$f":"IFERROR(INDEX(اقساط!$B$3:$B$2000,SMALL(IF(اقساط!$G$3:$G$2000=B343,ROW($B$3:$B$2000)-ROW($B$3)+1),ROWS($C$3:C343))),\"\")","v":0}]
[{"$f":"IFERROR(INDEX(اقساط!$AT$3:$AT$8532,SMALL(IF(اقساط!$G$3:$G$8532=B344,ROW($AT$3:$AT$8532)-ROW($AT$3)+1),ROWS($A$3:A344))),\"\")","v":0},{"$f":"IFERROR(INDEX(Names,SMALL(IF(Names<>\"\",IF(MID(Names,1,LEN($B$1))=$B$1,ROW(Names)-ROW($G$3)+1)),ROWS($A$1:A342))),\"\")","v":""},{"$f":"IFERROR(INDEX(اقساط!$B$3:$B$2000,SMALL(IF(اقساط!$G$3:$G$2000=B344,ROW($B$3:$B$2000)-ROW($B$3)+1),ROWS($C$3:C344))),\"\")","v":0}]
[{"$f":"IFERROR(INDEX(اقساط!$AT$3:$AT$8532,SMALL(IF(اقساط!$G$3:$G$8532=B345,ROW($AT$3:$AT$8532)-ROW($AT$3)+1),ROWS($A$3:A345))),\"\")","v":0},{"$f":"IFERROR(INDEX(Names,SMALL(IF(Names<>\"\",IF(MID(Names,1,LEN($B$1))=$B$1,ROW(Names)-ROW($G$3)+1)),ROWS($A$1:A343))),\"\")","v":""},{"$f":"IFERROR(INDEX(اقساط!$B$3:$B$2000,SMALL(IF(اقساط!$G$3:$G$2000=B345,ROW($B$3:$B$2000)-ROW($B$3)+1),ROWS($C$3:C345))),\"\")","v":0}]
[{"$f":"IFERROR(INDEX(اقساط!$AT$3:$AT$8532,SMALL(IF(اقساط!$G$3:$G$8532=B346,ROW($AT$3:$AT$8532)-ROW($AT$3)+1),ROWS($A$3:A346))),\"\")","v":0},{"$f":"IFERROR(INDEX(Names,SMALL(IF(Names<>\"\",IF(MID(Names,1,LEN($B$1))=$B$1,ROW(Names)-ROW($G$3)+1)),ROWS($A$1:A344))),\"\")","v":""},{"$f":"IFERROR(INDEX(اقساط!$B$3:$B$2000,SMALL(IF(اقساط!$G$3:$G$2000=B346,ROW($B$3:$B$2000)-ROW($B$3)+1),ROWS($C$3:C346))),\"\")","v":0}]
[{"$f":"IFERROR(INDEX(اقساط!$AT$3:$AT$8532,SMALL(IF(اقساط!$G$3:$G$8532=B347,ROW($AT$3:$AT$8532)-ROW($AT$3)+1),ROWS($A$3:A347))),\"\")","v":0},{"$f":"IFERROR(INDEX(Names,SMALL(IF(Names<>\"\",IF(MID(Names,1,LEN($B$1))=$B$1,ROW(Names)-ROW($G$3)+1)),ROWS($A$1:A345))),\"\")","v":""},{"$f":"IFERROR(INDEX(اقساط!$B$3:$B$2000,SMALL(IF(اقساط!$G$3:$G$2000=B347,ROW($B$3:$B$2000)-ROW($B$3)+1),ROWS($C$3:C347))),\"\")","v":0}]
[{"$f":"IFERROR(INDEX(اقساط!$AT$3:$AT$8532,SMALL(IF(اقساط!$G$3:$G$8532=B348,ROW($AT$3:$AT$8532)-ROW($AT$3)+1),ROWS($A$3:A348))),\"\")","v":0},{"$f":"IFERROR(INDEX(Names,SMALL(IF(Names<>\"\",IF(MID(Names,1,LEN($B$1))=$B$1,ROW(Names)-ROW($G$3)+1)),ROWS($A$1:A346))),\"\")","v":""},{"$f":"IFERROR(INDEX(اقساط!$B$3:$B$2000,SMALL(IF(اقساط!$G$3:$G$2000=B348,ROW($B$3:$B$2000)-ROW($B$3)+1),ROWS($C$3:C348))),\"\")","v":0}]
[{"$f":"IFERROR(INDEX(اقساط!$AT$3:$AT$8532,SMALL(IF(اقساط!$G$3:$G$8532=B349,ROW($AT$3:$AT$8532)-ROW($AT$3)+1),ROWS($A$3:A349))),\"\")","v":0},{"$f":"IFERROR(INDEX(Names,SMALL(IF(Names<>\"\",IF(MID(Names,1,LEN($B$1))=$B$1,ROW(Names)-ROW($G$3)+1)),ROWS($A$1:A347))),\"\")","v":""},{"$f":"IFERROR(INDEX(اقساط!$B$3:$B$2000,SMALL(IF(اقساط!$G$3:$G$2000=B349,ROW($B$3:$B$2000)-ROW($B$3)+1),ROWS($C$3:C349))),\"\")","v":0}]
[{"$f":"IFERROR(INDEX(اقساط!$AT$3:$AT$8532,SMALL(IF(اقساط!$G$3:$G$8532=B350,ROW($AT$3:$AT$8532)-ROW($AT$3)+1),ROWS($A$3:A350))),\"\")","v":0},{"$f":"IFERROR(INDEX(Names,SMALL(IF(Names<>\"\",IF(MID(Names,1,LEN($B$1))=$B$1,ROW(Names)-ROW($G$3)+1)),ROWS($A$1:A348))),\"\")","v":""},{"$f":"IFERROR(INDEX(اقساط!$B$3:$B$2000,SMALL(IF(اقساط!$G$3:$G$2000=B350,ROW($B$3:$B$2000)-ROW($B$3)+1),ROWS($C$3:C350))),\"\")","v":0}]
[{"$f":"IFERROR(INDEX(اقساط!$AT$3:$AT$8532,SMALL(IF(اقساط!$G$3:$G$8532=B351,ROW($AT$3:$AT$8532)-ROW($AT$3)+1),ROWS($A$3:A351))),\"\")","v":0},{"$f":"IFERROR(INDEX(Names,SMALL(IF(Names<>\"\",IF(MID(Names,1,LEN($B$1))=$B$1,ROW(Names)-ROW($G$3)+1)),ROWS($A$1:A349))),\"\")","v":""},{"$f":"IFERROR(INDEX(اقساط!$B$3:$B$2000,SMALL(IF(اقساط!$G$3:$G$2000=B351,ROW($B$3:$B$2000)-ROW($B$3)+1),ROWS($C$3:C351))),\"\")","v":0}]
[{"$f":"IFERROR(INDEX(اقساط!$AT$3:$AT$8532,SMALL(IF(اقساط!$G$3:$G$8532=B352,ROW($AT$3:$AT$8532)-ROW($AT$3)+1),ROWS($A$3:A352))),\"\")","v":0},{"$f":"IFERROR(INDEX(Names,SMALL(IF(Names<>\"\",IF(MID(Names,1,LEN($B$1))=$B$1,ROW(Names)-ROW($G$3)+1)),ROWS($A$1:A350))),\"\")","v":""},{"$f":"IFERROR(INDEX(اقساط!$B$3:$B$2000,SMALL(IF(اقساط!$G$3:$G$2000=B352,ROW($B$3:$B$2000)-ROW($B$3)+1),ROWS($C$3:C352))),\"\")","v":0}]
[{"$f":"IFERROR(INDEX(اقساط!$AT$3:$AT$8532,SMALL(IF(اقساط!$G$3:$G$8532=B353,ROW($AT$3:$AT$8532)-ROW($AT$3)+1),ROWS($A$3:A353))),\"\")","v":0},{"$f":"IFERROR(INDEX(Names,SMALL(IF(Names<>\"\",IF(MID(Names,1,LEN($B$1))=$B$1,ROW(Names)-ROW($G$3)+1)),ROWS($A$1:A351))),\"\")","v":""},{"$f":"IFERROR(INDEX(اقساط!$B$3:$B$2000,SMALL(IF(اقساط!$G$3:$G$2000=B353,ROW($B$3:$B$2000)-ROW($B$3)+1),ROWS($C$3:C353))),\"\")","v":0}]
[{"$f":"IFERROR(INDEX(اقساط!$AT$3:$AT$8532,SMALL(IF(اقساط!$G$3:$G$8532=B354,ROW($AT$3:$AT$8532)-ROW($AT$3)+1),ROWS($A$3:A354))),\"\")","v":0},{"$f":"IFERROR(INDEX(Names,SMALL(IF(Names<>\"\",IF(MID(Names,1,LEN($B$1))=$B$1,ROW(Names)-ROW($G$3)+1)),ROWS($A$1:A352))),\"\")","v":""},{"$f":"IFERROR(INDEX(اقساط!$B$3:$B$2000,SMALL(IF(اقساط!$G$3:$G$2000=B354,ROW($B$3:$B$2000)-ROW($B$3)+1),ROWS($C$3:C354))),\"\")","v":0}]
[{"$f":"IFERROR(INDEX(اقساط!$AT$3:$AT$8532,SMALL(IF(اقساط!$G$3:$G$8532=B355,ROW($AT$3:$AT$8532)-ROW($AT$3)+1),ROWS($A$3:A355))),\"\")","v":0},{"$f":"IFERROR(INDEX(Names,SMALL(IF(Names<>\"\",IF(MID(Names,1,LEN($B$1))=$B$1,ROW(Names)-ROW($G$3)+1)),ROWS($A$1:A353))),\"\")","v":""},{"$f":"IFERROR(INDEX(اقساط!$B$3:$B$2000,SMALL(IF(اقساط!$G$3:$G$2000=B355,ROW($B$3:$B$2000)-ROW($B$3)+1),ROWS($C$3:C355))),\"\")","v":0}]
[{"$f":"IFERROR(INDEX(اقساط!$AT$3:$AT$8532,SMALL(IF(اقساط!$G$3:$G$8532=B356,ROW($AT$3:$AT$8532)-ROW($AT$3)+1),ROWS($A$3:A356))),\"\")","v":0},{"$f":"IFERROR(INDEX(Names,SMALL(IF(Names<>\"\",IF(MID(Names,1,LEN($B$1))=$B$1,ROW(Names)-ROW($G$3)+1)),ROWS($A$1:A354))),\"\")","v":""},{"$f":"IFERROR(INDEX(اقساط!$B$3:$B$2000,SMALL(IF(اقساط!$G$3:$G$2000=B356,ROW($B$3:$B$2000)-ROW($B$3)+1),ROWS($C$3:C356))),\"\")","v":0}]
[{"$f":"IFERROR(INDEX(اقساط!$AT$3:$AT$8532,SMALL(IF(اقساط!$G$3:$G$8532=B357,ROW($AT$3:$AT$8532)-ROW($AT$3)+1),ROWS($A$3:A357))),\"\")","v":0},{"$f":"IFERROR(INDEX(Names,SMALL(IF(Names<>\"\",IF(MID(Names,1,LEN($B$1))=$B$1,ROW(Names)-ROW($G$3)+1)),ROWS($A$1:A355))),\"\")","v":""},{"$f":"IFERROR(INDEX(اقساط!$B$3:$B$2000,SMALL(IF(اقساط!$G$3:$G$2000=B357,ROW($B$3:$B$2000)-ROW($B$3)+1),ROWS($C$3:C357))),\"\")","v":0}]
[{"$f":"IFERROR(INDEX(اقساط!$AT$3:$AT$8532,SMALL(IF(اقساط!$G$3:$G$8532=B358,ROW($AT$3:$AT$8532)-ROW($AT$3)+1),ROWS($A$3:A358))),\"\")","v":0},{"$f":"IFERROR(INDEX(Names,SMALL(IF(Names<>\"\",IF(MID(Names,1,LEN($B$1))=$B$1,ROW(Names)-ROW($G$3)+1)),ROWS($A$1:A356))),\"\")","v":""},{"$f":"IFERROR(INDEX(اقساط!$B$3:$B$2000,SMALL(IF(اقساط!$G$3:$G$2000=B358,ROW($B$3:$B$2000)-ROW($B$3)+1),ROWS($C$3:C358))),\"\")","v":0}]
[{"$f":"IFERROR(INDEX(اقساط!$AT$3:$AT$8532,SMALL(IF(اقساط!$G$3:$G$8532=B359,ROW($AT$3:$AT$8532)-ROW($AT$3)+1),ROWS($A$3:A359))),\"\")","v":0},{"$f":"IFERROR(INDEX(Names,SMALL(IF(Names<>\"\",IF(MID(Names,1,LEN($B$1))=$B$1,ROW(Names)-ROW($G$3)+1)),ROWS($A$1:A357))),\"\")","v":""},{"$f":"IFERROR(INDEX(اقساط!$B$3:$B$2000,SMALL(IF(اقساط!$G$3:$G$2000=B359,ROW($B$3:$B$2000)-ROW($B$3)+1),ROWS($C$3:C359))),\"\")","v":0}]
[{"$f":"IFERROR(INDEX(اقساط!$AT$3:$AT$8532,SMALL(IF(اقساط!$G$3:$G$8532=B360,ROW($AT$3:$AT$8532)-ROW($AT$3)+1),ROWS($A$3:A360))),\"\")","v":0},{"$f":"IFERROR(INDEX(Names,SMALL(IF(Names<>\"\",IF(MID(Names,1,LEN($B$1))=$B$1,ROW(Names)-ROW($G$3)+1)),ROWS($A$1:A358))),\"\")","v":""},{"$f":"IFERROR(INDEX(اقساط!$B$3:$B$2000,SMALL(IF(اقساط!$G$3:$G$2000=B360,ROW($B$3:$B$2000)-ROW($B$3)+1),ROWS($C$3:C360))),\"\")","v":0}]
[{"$f":"IFERROR(INDEX(اقساط!$AT$3:$AT$8532,SMALL(IF(اقساط!$G$3:$G$8532=B361,ROW($AT$3:$AT$8532)-ROW($AT$3)+1),ROWS($A$3:A361))),\"\")","v":0},{"$f":"IFERROR(INDEX(Names,SMALL(IF(Names<>\"\",IF(MID(Names,1,LEN($B$1))=$B$1,ROW(Names)-ROW($G$3)+1)),ROWS($A$1:A359))),\"\")","v":""},{"$f":"IFERROR(INDEX(اقساط!$B$3:$B$2000,SMALL(IF(اقساط!$G$3:$G$2000=B361,ROW($B$3:$B$2000)-ROW($B$3)+1),ROWS($C$3:C361))),\"\")","v":0}]
[{"$f":"IFERROR(INDEX(اقساط!$AT$3:$AT$8532,SMALL(IF(اقساط!$G$3:$G$8532=B362,ROW($AT$3:$AT$8532)-ROW($AT$3)+1),ROWS($A$3:A362))),\"\")","v":0},{"$f":"IFERROR(INDEX(Names,SMALL(IF(Names<>\"\",IF(MID(Names,1,LEN($B$1))=$B$1,ROW(Names)-ROW($G$3)+1)),ROWS($A$1:A360))),\"\")","v":""},{"$f":"IFERROR(INDEX(اقساط!$B$3:$B$2000,SMALL(IF(اقساط!$G$3:$G$2000=B362,ROW($B$3:$B$2000)-ROW($B$3)+1),ROWS($C$3:C362))),\"\")","v":0}]
[{"$f":"IFERROR(INDEX(اقساط!$AT$3:$AT$8532,SMALL(IF(اقساط!$G$3:$G$8532=B363,ROW($AT$3:$AT$8532)-ROW($AT$3)+1),ROWS($A$3:A363))),\"\")","v":0},{"$f":"IFERROR(INDEX(Names,SMALL(IF(Names<>\"\",IF(MID(Names,1,LEN($B$1))=$B$1,ROW(Names)-ROW($G$3)+1)),ROWS($A$1:A361))),\"\")","v":""},{"$f":"IFERROR(INDEX(اقساط!$B$3:$B$2000,SMALL(IF(اقساط!$G$3:$G$2000=B363,ROW($B$3:$B$2000)-ROW($B$3)+1),ROWS($C$3:C363))),\"\")","v":0}]
[{"$f":"IFERROR(INDEX(اقساط!$AT$3:$AT$8532,SMALL(IF(اقساط!$G$3:$G$8532=B364,ROW($AT$3:$AT$8532)-ROW($AT$3)+1),ROWS($A$3:A364))),\"\")","v":0},{"$f":"IFERROR(INDEX(Names,SMALL(IF(Names<>\"\",IF(MID(Names,1,LEN($B$1))=$B$1,ROW(Names)-ROW($G$3)+1)),ROWS($A$1:A362))),\"\")","v":""},{"$f":"IFERROR(INDEX(اقساط!$B$3:$B$2000,SMALL(IF(اقساط!$G$3:$G$2000=B364,ROW($B$3:$B$2000)-ROW($B$3)+1),ROWS($C$3:C364))),\"\")","v":0}]
[{"$f":"IFERROR(INDEX(اقساط!$AT$3:$AT$8532,SMALL(IF(اقساط!$G$3:$G$8532=B365,ROW($AT$3:$AT$8532)-ROW($AT$3)+1),ROWS($A$3:A365))),\"\")","v":0},{"$f":"IFERROR(INDEX(Names,SMALL(IF(Names<>\"\",IF(MID(Names,1,LEN($B$1))=$B$1,ROW(Names)-ROW($G$3)+1)),ROWS($A$1:A363))),\"\")","v":""},{"$f":"IFERROR(INDEX(اقساط!$B$3:$B$2000,SMALL(IF(اقساط!$G$3:$G$2000=B365,ROW($B$3:$B$2000)-ROW($B$3)+1),ROWS($C$3:C365))),\"\")","v":0}]
[{"$f":"IFERROR(INDEX(اقساط!$AT$3:$AT$8532,SMALL(IF(اقساط!$G$3:$G$8532=B366,ROW($AT$3:$AT$8532)-ROW($AT$3)+1),ROWS($A$3:A366))),\"\")","v":0},{"$f":"IFERROR(INDEX(Names,SMALL(IF(Names<>\"\",IF(MID(Names,1,LEN($B$1))=$B$1,ROW(Names)-ROW($G$3)+1)),ROWS($A$1:A364))),\"\")","v":""},{"$f":"IFERROR(INDEX(اقساط!$B$3:$B$2000,SMALL(IF(اقساط!$G$3:$G$2000=B366,ROW($B$3:$B$2000)-ROW($B$3)+1),ROWS($C$3:C366))),\"\")","v":0}]
[{"$f":"IFERROR(INDEX(اقساط!$AT$3:$AT$8532,SMALL(IF(اقساط!$G$3:$G$8532=B367,ROW($AT$3:$AT$8532)-ROW($AT$3)+1),ROWS($A$3:A367))),\"\")","v":0},{"$f":"IFERROR(INDEX(Names,SMALL(IF(Names<>\"\",IF(MID(Names,1,LEN($B$1))=$B$1,ROW(Names)-ROW($G$3)+1)),ROWS($A$1:A365))),\"\")","v":""},{"$f":"IFERROR(INDEX(اقساط!$B$3:$B$2000,SMALL(IF(اقساط!$G$3:$G$2000=B367,ROW($B$3:$B$2000)-ROW($B$3)+1),ROWS($C$3:C367))),\"\")","v":0}]
[{"$f":"IFERROR(INDEX(اقساط!$AT$3:$AT$8532,SMALL(IF(اقساط!$G$3:$G$8532=B368,ROW($AT$3:$AT$8532)-ROW($AT$3)+1),ROWS($A$3:A368))),\"\")","v":0},{"$f":"IFERROR(INDEX(Names,SMALL(IF(Names<>\"\",IF(MID(Names,1,LEN($B$1))=$B$1,ROW(Names)-ROW($G$3)+1)),ROWS($A$1:A366))),\"\")","v":""},{"$f":"IFERROR(INDEX(اقساط!$B$3:$B$2000,SMALL(IF(اقساط!$G$3:$G$2000=B368,ROW($B$3:$B$2000)-ROW($B$3)+1),ROWS($C$3:C368))),\"\")","v":0}]
[{"$f":"IFERROR(INDEX(اقساط!$AT$3:$AT$8532,SMALL(IF(اقساط!$G$3:$G$8532=B369,ROW($AT$3:$AT$8532)-ROW($AT$3)+1),ROWS($A$3:A369))),\"\")","v":0},{"$f":"IFERROR(INDEX(Names,SMALL(IF(Names<>\"\",IF(MID(Names,1,LEN($B$1))=$B$1,ROW(Names)-ROW($G$3)+1)),ROWS($A$1:A367))),\"\")","v":""},{"$f":"IFERROR(INDEX(اقساط!$B$3:$B$2000,SMALL(IF(اقساط!$G$3:$G$2000=B369,ROW($B$3:$B$2000)-ROW($B$3)+1),ROWS($C$3:C369))),\"\")","v":0}]
[{"$f":"IFERROR(INDEX(اقساط!$AT$3:$AT$8532,SMALL(IF(اقساط!$G$3:$G$8532=B370,ROW($AT$3:$AT$8532)-ROW($AT$3)+1),ROWS($A$3:A370))),\"\")","v":0},{"$f":"IFERROR(INDEX(Names,SMALL(IF(Names<>\"\",IF(MID(Names,1,LEN($B$1))=$B$1,ROW(Names)-ROW($G$3)+1)),ROWS($A$1:A368))),\"\")","v":""},{"$f":"IFERROR(INDEX(اقساط!$B$3:$B$2000,SMALL(IF(اقساط!$G$3:$G$2000=B370,ROW($B$3:$B$2000)-ROW($B$3)+1),ROWS($C$3:C370))),\"\")","v":0}]
[{"$f":"IFERROR(INDEX(اقساط!$AT$3:$AT$8532,SMALL(IF(اقساط!$G$3:$G$8532=B371,ROW($AT$3:$AT$8532)-ROW($AT$3)+1),ROWS($A$3:A371))),\"\")","v":0},{"$f":"IFERROR(INDEX(Names,SMALL(IF(Names<>\"\",IF(MID(Names,1,LEN($B$1))=$B$1,ROW(Names)-ROW($G$3)+1)),ROWS($A$1:A369))),\"\")","v":""},{"$f":"IFERROR(INDEX(اقساط!$B$3:$B$2000,SMALL(IF(اقساط!$G$3:$G$2000=B371,ROW($B$3:$B$2000)-ROW($B$3)+1),ROWS($C$3:C371))),\"\")","v":0}]
[{"$f":"IFERROR(INDEX(اقساط!$AT$3:$AT$8532,SMALL(IF(اقساط!$G$3:$G$8532=B372,ROW($AT$3:$AT$8532)-ROW($AT$3)+1),ROWS($A$3:A372))),\"\")","v":0},{"$f":"IFERROR(INDEX(Names,SMALL(IF(Names<>\"\",IF(MID(Names,1,LEN($B$1))=$B$1,ROW(Names)-ROW($G$3)+1)),ROWS($A$1:A370))),\"\")","v":""},{"$f":"IFERROR(INDEX(اقساط!$B$3:$B$2000,SMALL(IF(اقساط!$G$3:$G$2000=B372,ROW($B$3:$B$2000)-ROW($B$3)+1),ROWS($C$3:C372))),\"\")","v":0}]
[{"$f":"IFERROR(INDEX(اقساط!$AT$3:$AT$8532,SMALL(IF(اقساط!$G$3:$G$8532=B373,ROW($AT$3:$AT$8532)-ROW($AT$3)+1),ROWS($A$3:A373))),\"\")","v":0},{"$f":"IFERROR(INDEX(Names,SMALL(IF(Names<>\"\",IF(MID(Names,1,LEN($B$1))=$B$1,ROW(Names)-ROW($G$3)+1)),ROWS($A$1:A371))),\"\")","v":""},{"$f":"IFERROR(INDEX(اقساط!$B$3:$B$2000,SMALL(IF(اقساط!$G$3:$G$2000=B373,ROW($B$3:$B$2000)-ROW($B$3)+1),ROWS($C$3:C373))),\"\")","v":0}]
[{"$f":"IFERROR(INDEX(اقساط!$AT$3:$AT$8532,SMALL(IF(اقساط!$G$3:$G$8532=B374,ROW($AT$3:$AT$8532)-ROW($AT$3)+1),ROWS($A$3:A374))),\"\")","v":0},{"$f":"IFERROR(INDEX(Names,SMALL(IF(Names<>\"\",IF(MID(Names,1,LEN($B$1))=$B$1,ROW(Names)-ROW($G$3)+1)),ROWS($A$1:A372))),\"\")","v":""},{"$f":"IFERROR(INDEX(اقساط!$B$3:$B$2000,SMALL(IF(اقساط!$G$3:$G$2000=B374,ROW($B$3:$B$2000)-ROW($B$3)+1),ROWS($C$3:C374))),\"\")","v":0}]
[{"$f":"IFERROR(INDEX(اقساط!$AT$3:$AT$8532,SMALL(IF(اقساط!$G$3:$G$8532=B375,ROW($AT$3:$AT$8532)-ROW($AT$3)+1),ROWS($A$3:A375))),\"\")","v":0},{"$f":"IFERROR(INDEX(Names,SMALL(IF(Names<>\"\",IF(MID(Names,1,LEN($B$1))=$B$1,ROW(Names)-ROW($G$3)+1)),ROWS($A$1:A373))),\"\")","v":""},{"$f":"IFERROR(INDEX(اقساط!$B$3:$B$2000,SMALL(IF(اقساط!$G$3:$G$2000=B375,ROW($B$3:$B$2000)-ROW($B$3)+1),ROWS($C$3:C375))),\"\")","v":0}]
[{"$f":"IFERROR(INDEX(اقساط!$AT$3:$AT$8532,SMALL(IF(اقساط!$G$3:$G$8532=B376,ROW($AT$3:$AT$8532)-ROW($AT$3)+1),ROWS($A$3:A376))),\"\")","v":0},{"$f":"IFERROR(INDEX(Names,SMALL(IF(Names<>\"\",IF(MID(Names,1,LEN($B$1))=$B$1,ROW(Names)-ROW($G$3)+1)),ROWS($A$1:A374))),\"\")","v":""},{"$f":"IFERROR(INDEX(اقساط!$B$3:$B$2000,SMALL(IF(اقساط!$G$3:$G$2000=B376,ROW($B$3:$B$2000)-ROW($B$3)+1),ROWS($C$3:C376))),\"\")","v":0}]
[{"$f":"IFERROR(INDEX(اقساط!$AT$3:$AT$8532,SMALL(IF(اقساط!$G$3:$G$8532=B377,ROW($AT$3:$AT$8532)-ROW($AT$3)+1),ROWS($A$3:A377))),\"\")","v":0},{"$f":"IFERROR(INDEX(Names,SMALL(IF(Names<>\"\",IF(MID(Names,1,LEN($B$1))=$B$1,ROW(Names)-ROW($G$3)+1)),ROWS($A$1:A375))),\"\")","v":""},{"$f":"IFERROR(INDEX(اقساط!$B$3:$B$2000,SMALL(IF(اقساط!$G$3:$G$2000=B377,ROW($B$3:$B$2000)-ROW($B$3)+1),ROWS($C$3:C377))),\"\")","v":0}]
[{"$f":"IFERROR(INDEX(اقساط!$AT$3:$AT$8532,SMALL(IF(اقساط!$G$3:$G$8532=B378,ROW($AT$3:$AT$8532)-ROW($AT$3)+1),ROWS($A$3:A378))),\"\")","v":0},{"$f":"IFERROR(INDEX(Names,SMALL(IF(Names<>\"\",IF(MID(Names,1,LEN($B$1))=$B$1,ROW(Names)-ROW($G$3)+1)),ROWS($A$1:A376))),\"\")","v":""},{"$f":"IFERROR(INDEX(اقساط!$B$3:$B$2000,SMALL(IF(اقساط!$G$3:$G$2000=B378,ROW($B$3:$B$2000)-ROW($B$3)+1),ROWS($C$3:C378))),\"\")","v":0}]
[{"$f":"IFERROR(INDEX(اقساط!$AT$3:$AT$8532,SMALL(IF(اقساط!$G$3:$G$8532=B379,ROW($AT$3:$AT$8532)-ROW($AT$3)+1),ROWS($A$3:A379))),\"\")","v":0},{"$f":"IFERROR(INDEX(Names,SMALL(IF(Names<>\"\",IF(MID(Names,1,LEN($B$1))=$B$1,ROW(Names)-ROW($G$3)+1)),ROWS($A$1:A377))),\"\")","v":""},{"$f":"IFERROR(INDEX(اقساط!$B$3:$B$2000,SMALL(IF(اقساط!$G$3:$G$2000=B379,ROW($B$3:$B$2000)-ROW($B$3)+1),ROWS($C$3:C379))),\"\")","v":0}]
[{"$f":"IFERROR(INDEX(اقساط!$AT$3:$AT$8532,SMALL(IF(اقساط!$G$3:$G$8532=B380,ROW($AT$3:$AT$8532)-ROW($AT$3)+1),ROWS($A$3:A380))),\"\")","v":0},{"$f":"IFERROR(INDEX(Names,SMALL(IF(Names<>\"\",IF(MID(Names,1,LEN($B$1))=$B$1,ROW(Names)-ROW($G$3)+1)),ROWS($A$1:A378))),\"\")","v":""},{"$f":"IFERROR(INDEX(اقساط!$B$3:$B$2000,SMALL(IF(اقساط!$G$3:$G$2000=B380,ROW($B$3:$B$2000)-ROW($B$3)+1),ROWS($C$3:C380))),\"\")","v":0}]
[{"$f":"IFERROR(INDEX(اقساط!$AT$3:$AT$8532,SMALL(IF(اقساط!$G$3:$G$8532=B381,ROW($AT$3:$AT$8532)-ROW($AT$3)+1),ROWS($A$3:A381))),\"\")","v":0},{"$f":"IFERROR(INDEX(Names,SMALL(IF(Names<>\"\",IF(MID(Names,1,LEN($B$1))=$B$1,ROW(Names)-ROW($G$3)+1)),ROWS($A$1:A379))),\"\")","v":""},{"$f":"IFERROR(INDEX(اقساط!$B$3:$B$2000,SMALL(IF(اقساط!$G$3:$G$2000=B381,ROW($B$3:$B$2000)-ROW($B$3)+1),ROWS($C$3:C381))),\"\")","v":0}]
[{"$f":"IFERROR(INDEX(اقساط!$AT$3:$AT$8532,SMALL(IF(اقساط!$G$3:$G$8532=B382,ROW($AT$3:$AT$8532)-ROW($AT$3)+1),ROWS($A$3:A382))),\"\")","v":0},{"$f":"IFERROR(INDEX(Names,SMALL(IF(Names<>\"\",IF(MID(Names,1,LEN($B$1))=$B$1,ROW(Names)-ROW($G$3)+1)),ROWS($A$1:A380))),\"\")","v":""},{"$f":"IFERROR(INDEX(اقساط!$B$3:$B$2000,SMALL(IF(اقساط!$G$3:$G$2000=B382,ROW($B$3:$B$2000)-ROW($B$3)+1),ROWS($C$3:C382))),\"\")","v":0}]
[{"$f":"IFERROR(INDEX(اقساط!$AT$3:$AT$8532,SMALL(IF(اقساط!$G$3:$G$8532=B383,ROW($AT$3:$AT$8532)-ROW($AT$3)+1),ROWS($A$3:A383))),\"\")","v":0},{"$f":"IFERROR(INDEX(Names,SMALL(IF(Names<>\"\",IF(MID(Names,1,LEN($B$1))=$B$1,ROW(Names)-ROW($G$3)+1)),ROWS($A$1:A381))),\"\")","v":""},{"$f":"IFERROR(INDEX(اقساط!$B$3:$B$2000,SMALL(IF(اقساط!$G$3:$G$2000=B383,ROW($B$3:$B$2000)-ROW($B$3)+1),ROWS($C$3:C383))),\"\")","v":0}]
[{"$f":"IFERROR(INDEX(اقساط!$AT$3:$AT$8532,SMALL(IF(اقساط!$G$3:$G$8532=B384,ROW($AT$3:$AT$8532)-ROW($AT$3)+1),ROWS($A$3:A384))),\"\")","v":0},{"$f":"IFERROR(INDEX(Names,SMALL(IF(Names<>\"\",IF(MID(Names,1,LEN($B$1))=$B$1,ROW(Names)-ROW($G$3)+1)),ROWS($A$1:A382))),\"\")","v":""},{"$f":"IFERROR(INDEX(اقساط!$B$3:$B$2000,SMALL(IF(اقساط!$G$3:$G$2000=B384,ROW($B$3:$B$2000)-ROW($B$3)+1),ROWS($C$3:C384))),\"\")","v":0}]
[{"$f":"IFERROR(INDEX(اقساط!$AT$3:$AT$8532,SMALL(IF(اقساط!$G$3:$G$8532=B385,ROW($AT$3:$AT$8532)-ROW($AT$3)+1),ROWS($A$3:A385))),\"\")","v":0},{"$f":"IFERROR(INDEX(Names,SMALL(IF(Names<>\"\",IF(MID(Names,1,LEN($B$1))=$B$1,ROW(Names)-ROW($G$3)+1)),ROWS($A$1:A383))),\"\")","v":""},{"$f":"IFERROR(INDEX(اقساط!$B$3:$B$2000,SMALL(IF(اقساط!$G$3:$G$2000=B385,ROW($B$3:$B$2000)-ROW($B$3)+1),ROWS($C$3:C385))),\"\")","v":0}]
[{"$f":"IFERROR(INDEX(اقساط!$AT$3:$AT$8532,SMALL(IF(اقساط!$G$3:$G$8532=B386,ROW($AT$3:$AT$8532)-ROW($AT$3)+1),ROWS($A$3:A386))),\"\")","v":0},{"$f":"IFERROR(INDEX(Names,SMALL(IF(Names<>\"\",IF(MID(Names,1,LEN($B$1))=$B$1,ROW(Names)-ROW($G$3)+1)),ROWS($A$1:A384))),\"\")","v":""},{"$f":"IFERROR(INDEX(اقساط!$B$3:$B$2000,SMALL(IF(اقساط!$G$3:$G$2000=B386,ROW($B$3:$B$2000)-ROW($B$3)+1),ROWS($C$3:C386))),\"\")","v":0}]
[{"$f":"IFERROR(INDEX(اقساط!$AT$3:$AT$8532,SMALL(IF(اقساط!$G$3:$G$8532=B387,ROW($AT$3:$AT$8532)-ROW($AT$3)+1),ROWS($A$3:A387))),\"\")","v":0},{"$f":"IFERROR(INDEX(Names,SMALL(IF(Names<>\"\",IF(MID(Names,1,LEN($B$1))=$B$1,ROW(Names)-ROW($G$3)+1)),ROWS($A$1:A385))),\"\")","v":""},{"$f":"IFERROR(INDEX(اقساط!$B$3:$B$2000,SMALL(IF(اقساط!$G$3:$G$2000=B387,ROW($B$3:$B$2000)-ROW($B$3)+1),ROWS($C$3:C387))),\"\")","v":0}]
[{"$f":"IFERROR(INDEX(اقساط!$AT$3:$AT$8532,SMALL(IF(اقساط!$G$3:$G$8532=B388,ROW($AT$3:$AT$8532)-ROW($AT$3)+1),ROWS($A$3:A388))),\"\")","v":0},{"$f":"IFERROR(INDEX(Names,SMALL(IF(Names<>\"\",IF(MID(Names,1,LEN($B$1))=$B$1,ROW(Names)-ROW($G$3)+1)),ROWS($A$1:A386))),\"\")","v":""},{"$f":"IFERROR(INDEX(اقساط!$B$3:$B$2000,SMALL(IF(اقساط!$G$3:$G$2000=B388,ROW($B$3:$B$2000)-ROW($B$3)+1),ROWS($C$3:C388))),\"\")","v":0}]
[{"$f":"IFERROR(INDEX(اقساط!$AT$3:$AT$8532,SMALL(IF(اقساط!$G$3:$G$8532=B389,ROW($AT$3:$AT$8532)-ROW($AT$3)+1),ROWS($A$3:A389))),\"\")","v":0},{"$f":"IFERROR(INDEX(Names,SMALL(IF(Names<>\"\",IF(MID(Names,1,LEN($B$1))=$B$1,ROW(Names)-ROW($G$3)+1)),ROWS($A$1:A387))),\"\")","v":""},{"$f":"IFERROR(INDEX(اقساط!$B$3:$B$2000,SMALL(IF(اقساط!$G$3:$G$2000=B389,ROW($B$3:$B$2000)-ROW($B$3)+1),ROWS($C$3:C389))),\"\")","v":0}]
[{"$f":"IFERROR(INDEX(اقساط!$AT$3:$AT$8532,SMALL(IF(اقساط!$G$3:$G$8532=B390,ROW($AT$3:$AT$8532)-ROW($AT$3)+1),ROWS($A$3:A390))),\"\")","v":0},{"$f":"IFERROR(INDEX(Names,SMALL(IF(Names<>\"\",IF(MID(Names,1,LEN($B$1))=$B$1,ROW(Names)-ROW($G$3)+1)),ROWS($A$1:A388))),\"\")","v":""},{"$f":"IFERROR(INDEX(اقساط!$B$3:$B$2000,SMALL(IF(اقساط!$G$3:$G$2000=B390,ROW($B$3:$B$2000)-ROW($B$3)+1),ROWS($C$3:C390))),\"\")","v":0}]
[{"$f":"IFERROR(INDEX(اقساط!$AT$3:$AT$8532,SMALL(IF(اقساط!$G$3:$G$8532=B391,ROW($AT$3:$AT$8532)-ROW($AT$3)+1),ROWS($A$3:A391))),\"\")","v":0},{"$f":"IFERROR(INDEX(Names,SMALL(IF(Names<>\"\",IF(MID(Names,1,LEN($B$1))=$B$1,ROW(Names)-ROW($G$3)+1)),ROWS($A$1:A389))),\"\")","v":""},{"$f":"IFERROR(INDEX(اقساط!$B$3:$B$2000,SMALL(IF(اقساط!$G$3:$G$2000=B391,ROW($B$3:$B$2000)-ROW($B$3)+1),ROWS($C$3:C391))),\"\")","v":0}]
[{"$f":"IFERROR(INDEX(اقساط!$AT$3:$AT$8532,SMALL(IF(اقساط!$G$3:$G$8532=B392,ROW($AT$3:$AT$8532)-ROW($AT$3)+1),ROWS($A$3:A392))),\"\")","v":0},{"$f":"IFERROR(INDEX(Names,SMALL(IF(Names<>\"\",IF(MID(Names,1,LEN($B$1))=$B$1,ROW(Names)-ROW($G$3)+1)),ROWS($A$1:A390))),\"\")","v":""},{"$f":"IFERROR(INDEX(اقساط!$B$3:$B$2000,SMALL(IF(اقساط!$G$3:$G$2000=B392,ROW($B$3:$B$2000)-ROW($B$3)+1),ROWS($C$3:C392))),\"\")","v":0}]
[{"$f":"IFERROR(INDEX(اقساط!$AT$3:$AT$8532,SMALL(IF(اقساط!$G$3:$G$8532=B393,ROW($AT$3:$AT$8532)-ROW($AT$3)+1),ROWS($A$3:A393))),\"\")","v":0},{"$f":"IFERROR(INDEX(Names,SMALL(IF(Names<>\"\",IF(MID(Names,1,LEN($B$1))=$B$1,ROW(Names)-ROW($G$3)+1)),ROWS($A$1:A391))),\"\")","v":""},{"$f":"IFERROR(INDEX(اقساط!$B$3:$B$2000,SMALL(IF(اقساط!$G$3:$G$2000=B393,ROW($B$3:$B$2000)-ROW($B$3)+1),ROWS($C$3:C393))),\"\")","v":0}]
[{"$f":"IFERROR(INDEX(اقساط!$AT$3:$AT$8532,SMALL(IF(اقساط!$G$3:$G$8532=B394,ROW($AT$3:$AT$8532)-ROW($AT$3)+1),ROWS($A$3:A394))),\"\")","v":0},{"$f":"IFERROR(INDEX(Names,SMALL(IF(Names<>\"\",IF(MID(Names,1,LEN($B$1))=$B$1,ROW(Names)-ROW($G$3)+1)),ROWS($A$1:A392))),\"\")","v":""},{"$f":"IFERROR(INDEX(اقساط!$B$3:$B$2000,SMALL(IF(اقساط!$G$3:$G$2000=B394,ROW($B$3:$B$2000)-ROW($B$3)+1),ROWS($C$3:C394))),\"\")","v":0}]
[{"$f":"IFERROR(INDEX(اقساط!$AT$3:$AT$8532,SMALL(IF(اقساط!$G$3:$G$8532=B395,ROW($AT$3:$AT$8532)-ROW($AT$3)+1),ROWS($A$3:A395))),\"\")","v":0},{"$f":"IFERROR(INDEX(Names,SMALL(IF(Names<>\"\",IF(MID(Names,1,LEN($B$1))=$B$1,ROW(Names)-ROW($G$3)+1)),ROWS($A$1:A393))),\"\")","v":""},{"$f":"IFERROR(INDEX(اقساط!$B$3:$B$2000,SMALL(IF(اقساط!$G$3:$G$2000=B395,ROW($B$3:$B$2000)-ROW($B$3)+1),ROWS($C$3:C395))),\"\")","v":0}]
[{"$f":"IFERROR(INDEX(اقساط!$AT$3:$AT$8532,SMALL(IF(اقساط!$G$3:$G$8532=B396,ROW($AT$3:$AT$8532)-ROW($AT$3)+1),ROWS($A$3:A396))),\"\")","v":0},{"$f":"IFERROR(INDEX(Names,SMALL(IF(Names<>\"\",IF(MID(Names,1,LEN($B$1))=$B$1,ROW(Names)-ROW($G$3)+1)),ROWS($A$1:A394))),\"\")","v":""},{"$f":"IFERROR(INDEX(اقساط!$B$3:$B$2000,SMALL(IF(اقساط!$G$3:$G$2000=B396,ROW($B$3:$B$2000)-ROW($B$3)+1),ROWS($C$3:C396))),\"\")","v":0}]
[{"$f":"IFERROR(INDEX(اقساط!$AT$3:$AT$8532,SMALL(IF(اقساط!$G$3:$G$8532=B397,ROW($AT$3:$AT$8532)-ROW($AT$3)+1),ROWS($A$3:A397))),\"\")","v":0},{"$f":"IFERROR(INDEX(Names,SMALL(IF(Names<>\"\",IF(MID(Names,1,LEN($B$1))=$B$1,ROW(Names)-ROW($G$3)+1)),ROWS($A$1:A395))),\"\")","v":""},{"$f":"IFERROR(INDEX(اقساط!$B$3:$B$2000,SMALL(IF(اقساط!$G$3:$G$2000=B397,ROW($B$3:$B$2000)-ROW($B$3)+1),ROWS($C$3:C397))),\"\")","v":0}]
[{"$f":"IFERROR(INDEX(اقساط!$AT$3:$AT$8532,SMALL(IF(اقساط!$G$3:$G$8532=B398,ROW($AT$3:$AT$8532)-ROW($AT$3)+1),ROWS($A$3:A398))),\"\")","v":0},{"$f":"IFERROR(INDEX(Names,SMALL(IF(Names<>\"\",IF(MID(Names,1,LEN($B$1))=$B$1,ROW(Names)-ROW($G$3)+1)),ROWS($A$1:A396))),\"\")","v":""},{"$f":"IFERROR(INDEX(اقساط!$B$3:$B$2000,SMALL(IF(اقساط!$G$3:$G$2000=B398,ROW($B$3:$B$2000)-ROW($B$3)+1),ROWS($C$3:C398))),\"\")","v":0}]
[{"$f":"IFERROR(INDEX(اقساط!$AT$3:$AT$8532,SMALL(IF(اقساط!$G$3:$G$8532=B399,ROW($AT$3:$AT$8532)-ROW($AT$3)+1),ROWS($A$3:A399))),\"\")","v":0},{"$f":"IFERROR(INDEX(Names,SMALL(IF(Names<>\"\",IF(MID(Names,1,LEN($B$1))=$B$1,ROW(Names)-ROW($G$3)+1)),ROWS($A$1:A397))),\"\")","v":""},{"$f":"IFERROR(INDEX(اقساط!$B$3:$B$2000,SMALL(IF(اقساط!$G$3:$G$2000=B399,ROW($B$3:$B$2000)-ROW($B$3)+1),ROWS($C$3:C399))),\"\")","v":0}]
[{"$f":"IFERROR(INDEX(اقساط!$AT$3:$AT$8532,SMALL(IF(اقساط!$G$3:$G$8532=B400,ROW($AT$3:$AT$8532)-ROW($AT$3)+1),ROWS($A$3:A400))),\"\")","v":0},{"$f":"IFERROR(INDEX(Names,SMALL(IF(Names<>\"\",IF(MID(Names,1,LEN($B$1))=$B$1,ROW(Names)-ROW($G$3)+1)),ROWS($A$1:A398))),\"\")","v":""},{"$f":"IFERROR(INDEX(اقساط!$B$3:$B$2000,SMALL(IF(اقساط!$G$3:$G$2000=B400,ROW($B$3:$B$2000)-ROW($B$3)+1),ROWS($C$3:C400))),\"\")","v":0}]
[{"$f":"IFERROR(INDEX(اقساط!$AT$3:$AT$8532,SMALL(IF(اقساط!$G$3:$G$8532=B401,ROW($AT$3:$AT$8532)-ROW($AT$3)+1),ROWS($A$3:A401))),\"\")","v":0},{"$f":"IFERROR(INDEX(Names,SMALL(IF(Names<>\"\",IF(MID(Names,1,LEN($B$1))=$B$1,ROW(Names)-ROW($G$3)+1)),ROWS($A$1:A399))),\"\")","v":""},{"$f":"IFERROR(INDEX(اقساط!$B$3:$B$2000,SMALL(IF(اقساط!$G$3:$G$2000=B401,ROW($B$3:$B$2000)-ROW($B$3)+1),ROWS($C$3:C401))),\"\")","v":0}]
[{"$f":"IFERROR(INDEX(اقساط!$AT$3:$AT$8532,SMALL(IF(اقساط!$G$3:$G$8532=B402,ROW($AT$3:$AT$8532)-ROW($AT$3)+1),ROWS($A$3:A402))),\"\")","v":0},{"$f":"IFERROR(INDEX(Names,SMALL(IF(Names<>\"\",IF(MID(Names,1,LEN($B$1))=$B$1,ROW(Names)-ROW($G$3)+1)),ROWS($A$1:A400))),\"\")","v":""},{"$f":"IFERROR(INDEX(اقساط!$B$3:$B$2000,SMALL(IF(اقساط!$G$3:$G$2000=B402,ROW($B$3:$B$2000)-ROW($B$3)+1),ROWS($C$3:C402))),\"\")","v":0}]
[{"$f":"IFERROR(INDEX(اقساط!$AT$3:$AT$8532,SMALL(IF(اقساط!$G$3:$G$8532=B403,ROW($AT$3:$AT$8532)-ROW($AT$3)+1),ROWS($A$3:A403))),\"\")","v":0},{"$f":"IFERROR(INDEX(Names,SMALL(IF(Names<>\"\",IF(MID(Names,1,LEN($B$1))=$B$1,ROW(Names)-ROW($G$3)+1)),ROWS($A$1:A401))),\"\")","v":""},{"$f":"IFERROR(INDEX(اقساط!$B$3:$B$2000,SMALL(IF(اقساط!$G$3:$G$2000=B403,ROW($B$3:$B$2000)-ROW($B$3)+1),ROWS($C$3:C403))),\"\")","v":0}]
[{"$f":"IFERROR(INDEX(اقساط!$AT$3:$AT$8532,SMALL(IF(اقساط!$G$3:$G$8532=B404,ROW($AT$3:$AT$8532)-ROW($AT$3)+1),ROWS($A$3:A404))),\"\")","v":0},{"$f":"IFERROR(INDEX(Names,SMALL(IF(Names<>\"\",IF(MID(Names,1,LEN($B$1))=$B$1,ROW(Names)-ROW($G$3)+1)),ROWS($A$1:A402))),\"\")","v":""},{"$f":"IFERROR(INDEX(اقساط!$B$3:$B$2000,SMALL(IF(اقساط!$G$3:$G$2000=B404,ROW($B$3:$B$2000)-ROW($B$3)+1),ROWS($C$3:C404))),\"\")","v":0}]
[{"$f":"IFERROR(INDEX(اقساط!$AT$3:$AT$8532,SMALL(IF(اقساط!$G$3:$G$8532=B405,ROW($AT$3:$AT$8532)-ROW($AT$3)+1),ROWS($A$3:A405))),\"\")","v":0},{"$f":"IFERROR(INDEX(Names,SMALL(IF(Names<>\"\",IF(MID(Names,1,LEN($B$1))=$B$1,ROW(Names)-ROW($G$3)+1)),ROWS($A$1:A403))),\"\")","v":""},{"$f":"IFERROR(INDEX(اقساط!$B$3:$B$2000,SMALL(IF(اقساط!$G$3:$G$2000=B405,ROW($B$3:$B$2000)-ROW($B$3)+1),ROWS($C$3:C405))),\"\")","v":0}]
[{"$f":"IFERROR(INDEX(اقساط!$AT$3:$AT$8532,SMALL(IF(اقساط!$G$3:$G$8532=B406,ROW($AT$3:$AT$8532)-ROW($AT$3)+1),ROWS($A$3:A406))),\"\")","v":0},{"$f":"IFERROR(INDEX(Names,SMALL(IF(Names<>\"\",IF(MID(Names,1,LEN($B$1))=$B$1,ROW(Names)-ROW($G$3)+1)),ROWS($A$1:A404))),\"\")","v":""},{"$f":"IFERROR(INDEX(اقساط!$B$3:$B$2000,SMALL(IF(اقساط!$G$3:$G$2000=B406,ROW($B$3:$B$2000)-ROW($B$3)+1),ROWS($C$3:C406))),\"\")","v":0}]
[{"$f":"IFERROR(INDEX(اقساط!$AT$3:$AT$8532,SMALL(IF(اقساط!$G$3:$G$8532=B407,ROW($AT$3:$AT$8532)-ROW($AT$3)+1),ROWS($A$3:A407))),\"\")","v":0},{"$f":"IFERROR(INDEX(Names,SMALL(IF(Names<>\"\",IF(MID(Names,1,LEN($B$1))=$B$1,ROW(Names)-ROW($G$3)+1)),ROWS($A$1:A405))),\"\")","v":""},{"$f":"IFERROR(INDEX(اقساط!$B$3:$B$2000,SMALL(IF(اقساط!$G$3:$G$2000=B407,ROW($B$3:$B$2000)-ROW($B$3)+1),ROWS($C$3:C407))),\"\")","v":0}]
[{"$f":"IFERROR(INDEX(اقساط!$AT$3:$AT$8532,SMALL(IF(اقساط!$G$3:$G$8532=B408,ROW($AT$3:$AT$8532)-ROW($AT$3)+1),ROWS($A$3:A408))),\"\")","v":0},{"$f":"IFERROR(INDEX(Names,SMALL(IF(Names<>\"\",IF(MID(Names,1,LEN($B$1))=$B$1,ROW(Names)-ROW($G$3)+1)),ROWS($A$1:A406))),\"\")","v":""},{"$f":"IFERROR(INDEX(اقساط!$B$3:$B$2000,SMALL(IF(اقساط!$G$3:$G$2000=B408,ROW($B$3:$B$2000)-ROW($B$3)+1),ROWS($C$3:C408))),\"\")","v":0}]
[{"$f":"IFERROR(INDEX(اقساط!$AT$3:$AT$8532,SMALL(IF(اقساط!$G$3:$G$8532=B409,ROW($AT$3:$AT$8532)-ROW($AT$3)+1),ROWS($A$3:A409))),\"\")","v":0},{"$f":"IFERROR(INDEX(Names,SMALL(IF(Names<>\"\",IF(MID(Names,1,LEN($B$1))=$B$1,ROW(Names)-ROW($G$3)+1)),ROWS($A$1:A407))),\"\")","v":""},{"$f":"IFERROR(INDEX(اقساط!$B$3:$B$2000,SMALL(IF(اقساط!$G$3:$G$2000=B409,ROW($B$3:$B$2000)-ROW($B$3)+1),ROWS($C$3:C409))),\"\")","v":0}]
[{"$f":"IFERROR(INDEX(اقساط!$AT$3:$AT$8532,SMALL(IF(اقساط!$G$3:$G$8532=B410,ROW($AT$3:$AT$8532)-ROW($AT$3)+1),ROWS($A$3:A410))),\"\")","v":0},{"$f":"IFERROR(INDEX(Names,SMALL(IF(Names<>\"\",IF(MID(Names,1,LEN($B$1))=$B$1,ROW(Names)-ROW($G$3)+1)),ROWS($A$1:A408))),\"\")","v":""},{"$f":"IFERROR(INDEX(اقساط!$B$3:$B$2000,SMALL(IF(اقساط!$G$3:$G$2000=B410,ROW($B$3:$B$2000)-ROW($B$3)+1),ROWS($C$3:C410))),\"\")","v":0}]
[{"$f":"IFERROR(INDEX(اقساط!$AT$3:$AT$8532,SMALL(IF(اقساط!$G$3:$G$8532=B411,ROW($AT$3:$AT$8532)-ROW($AT$3)+1),ROWS($A$3:A411))),\"\")","v":0},{"$f":"IFERROR(INDEX(Names,SMALL(IF(Names<>\"\",IF(MID(Names,1,LEN($B$1))=$B$1,ROW(Names)-ROW($G$3)+1)),ROWS($A$1:A409))),\"\")","v":""},{"$f":"IFERROR(INDEX(اقساط!$B$3:$B$2000,SMALL(IF(اقساط!$G$3:$G$2000=B411,ROW($B$3:$B$2000)-ROW($B$3)+1),ROWS($C$3:C411))),\"\")","v":0}]
[{"$f":"IFERROR(INDEX(اقساط!$AT$3:$AT$8532,SMALL(IF(اقساط!$G$3:$G$8532=B412,ROW($AT$3:$AT$8532)-ROW($AT$3)+1),ROWS($A$3:A412))),\"\")","v":0},{"$f":"IFERROR(INDEX(Names,SMALL(IF(Names<>\"\",IF(MID(Names,1,LEN($B$1))=$B$1,ROW(Names)-ROW($G$3)+1)),ROWS($A$1:A410))),\"\")","v":""},{"$f":"IFERROR(INDEX(اقساط!$B$3:$B$2000,SMALL(IF(اقساط!$G$3:$G$2000=B412,ROW($B$3:$B$2000)-ROW($B$3)+1),ROWS($C$3:C412))),\"\")","v":0}]
[{"$f":"IFERROR(INDEX(اقساط!$AT$3:$AT$8532,SMALL(IF(اقساط!$G$3:$G$8532=B413,ROW($AT$3:$AT$8532)-ROW($AT$3)+1),ROWS($A$3:A413))),\"\")","v":0},{"$f":"IFERROR(INDEX(Names,SMALL(IF(Names<>\"\",IF(MID(Names,1,LEN($B$1))=$B$1,ROW(Names)-ROW($G$3)+1)),ROWS($A$1:A411))),\"\")","v":""},{"$f":"IFERROR(INDEX(اقساط!$B$3:$B$2000,SMALL(IF(اقساط!$G$3:$G$2000=B413,ROW($B$3:$B$2000)-ROW($B$3)+1),ROWS($C$3:C413))),\"\")","v":0}]
[{"$f":"IFERROR(INDEX(اقساط!$AT$3:$AT$8532,SMALL(IF(اقساط!$G$3:$G$8532=B414,ROW($AT$3:$AT$8532)-ROW($AT$3)+1),ROWS($A$3:A414))),\"\")","v":0},{"$f":"IFERROR(INDEX(Names,SMALL(IF(Names<>\"\",IF(MID(Names,1,LEN($B$1))=$B$1,ROW(Names)-ROW($G$3)+1)),ROWS($A$1:A412))),\"\")","v":""},{"$f":"IFERROR(INDEX(اقساط!$B$3:$B$2000,SMALL(IF(اقساط!$G$3:$G$2000=B414,ROW($B$3:$B$2000)-ROW($B$3)+1),ROWS($C$3:C414))),\"\")","v":0}]
[{"$f":"IFERROR(INDEX(اقساط!$AT$3:$AT$8532,SMALL(IF(اقساط!$G$3:$G$8532=B415,ROW($AT$3:$AT$8532)-ROW($AT$3)+1),ROWS($A$3:A415))),\"\")","v":0},{"$f":"IFERROR(INDEX(Names,SMALL(IF(Names<>\"\",IF(MID(Names,1,LEN($B$1))=$B$1,ROW(Names)-ROW($G$3)+1)),ROWS($A$1:A413))),\"\")","v":""},{"$f":"IFERROR(INDEX(اقساط!$B$3:$B$2000,SMALL(IF(اقساط!$G$3:$G$2000=B415,ROW($B$3:$B$2000)-ROW($B$3)+1),ROWS($C$3:C415))),\"\")","v":0}]
[{"$f":"IFERROR(INDEX(اقساط!$AT$3:$AT$8532,SMALL(IF(اقساط!$G$3:$G$8532=B416,ROW($AT$3:$AT$8532)-ROW($AT$3)+1),ROWS($A$3:A416))),\"\")","v":0},{"$f":"IFERROR(INDEX(Names,SMALL(IF(Names<>\"\",IF(MID(Names,1,LEN($B$1))=$B$1,ROW(Names)-ROW($G$3)+1)),ROWS($A$1:A414))),\"\")","v":""},{"$f":"IFERROR(INDEX(اقساط!$B$3:$B$2000,SMALL(IF(اقساط!$G$3:$G$2000=B416,ROW($B$3:$B$2000)-ROW($B$3)+1),ROWS($C$3:C416))),\"\")","v":0}]
[{"$f":"IFERROR(INDEX(اقساط!$AT$3:$AT$8532,SMALL(IF(اقساط!$G$3:$G$8532=B417,ROW($AT$3:$AT$8532)-ROW($AT$3)+1),ROWS($A$3:A417))),\"\")","v":0},{"$f":"IFERROR(INDEX(Names,SMALL(IF(Names<>\"\",IF(MID(Names,1,LEN($B$1))=$B$1,ROW(Names)-ROW($G$3)+1)),ROWS($A$1:A415))),\"\")","v":""},{"$f":"IFERROR(INDEX(اقساط!$B$3:$B$2000,SMALL(IF(اقساط!$G$3:$G$2000=B417,ROW($B$3:$B$2000)-ROW($B$3)+1),ROWS($C$3:C417))),\"\")","v":0}]
[{"$f":"IFERROR(INDEX(اقساط!$AT$3:$AT$8532,SMALL(IF(اقساط!$G$3:$G$8532=B418,ROW($AT$3:$AT$8532)-ROW($AT$3)+1),ROWS($A$3:A418))),\"\")","v":0},{"$f":"IFERROR(INDEX(Names,SMALL(IF(Names<>\"\",IF(MID(Names,1,LEN($B$1))=$B$1,ROW(Names)-ROW($G$3)+1)),ROWS($A$1:A416))),\"\")","v":""},{"$f":"IFERROR(INDEX(اقساط!$B$3:$B$2000,SMALL(IF(اقساط!$G$3:$G$2000=B418,ROW($B$3:$B$2000)-ROW($B$3)+1),ROWS($C$3:C418))),\"\")","v":0}]
[{"$f":"IFERROR(INDEX(اقساط!$AT$3:$AT$8532,SMALL(IF(اقساط!$G$3:$G$8532=B419,ROW($AT$3:$AT$8532)-ROW($AT$3)+1),ROWS($A$3:A419))),\"\")","v":0},{"$f":"IFERROR(INDEX(Names,SMALL(IF(Names<>\"\",IF(MID(Names,1,LEN($B$1))=$B$1,ROW(Names)-ROW($G$3)+1)),ROWS($A$1:A417))),\"\")","v":""},{"$f":"IFERROR(INDEX(اقساط!$B$3:$B$2000,SMALL(IF(اقساط!$G$3:$G$2000=B419,ROW($B$3:$B$2000)-ROW($B$3)+1),ROWS($C$3:C419))),\"\")","v":0}]
[{"$f":"IFERROR(INDEX(اقساط!$AT$3:$AT$8532,SMALL(IF(اقساط!$G$3:$G$8532=B420,ROW($AT$3:$AT$8532)-ROW($AT$3)+1),ROWS($A$3:A420))),\"\")","v":0},{"$f":"IFERROR(INDEX(Names,SMALL(IF(Names<>\"\",IF(MID(Names,1,LEN($B$1))=$B$1,ROW(Names)-ROW($G$3)+1)),ROWS($A$1:A418))),\"\")","v":""},{"$f":"IFERROR(INDEX(اقساط!$B$3:$B$2000,SMALL(IF(اقساط!$G$3:$G$2000=B420,ROW($B$3:$B$2000)-ROW($B$3)+1),ROWS($C$3:C420))),\"\")","v":0}]
[{"$f":"IFERROR(INDEX(اقساط!$AT$3:$AT$8532,SMALL(IF(اقساط!$G$3:$G$8532=B421,ROW($AT$3:$AT$8532)-ROW($AT$3)+1),ROWS($A$3:A421))),\"\")","v":0},{"$f":"IFERROR(INDEX(Names,SMALL(IF(Names<>\"\",IF(MID(Names,1,LEN($B$1))=$B$1,ROW(Names)-ROW($G$3)+1)),ROWS($A$1:A419))),\"\")","v":""},{"$f":"IFERROR(INDEX(اقساط!$B$3:$B$2000,SMALL(IF(اقساط!$G$3:$G$2000=B421,ROW($B$3:$B$2000)-ROW($B$3)+1),ROWS($C$3:C421))),\"\")","v":0}]
[{"$f":"IFERROR(INDEX(اقساط!$AT$3:$AT$8532,SMALL(IF(اقساط!$G$3:$G$8532=B422,ROW($AT$3:$AT$8532)-ROW($AT$3)+1),ROWS($A$3:A422))),\"\")","v":0},{"$f":"IFERROR(INDEX(Names,SMALL(IF(Names<>\"\",IF(MID(Names,1,LEN($B$1))=$B$1,ROW(Names)-ROW($G$3)+1)),ROWS($A$1:A420))),\"\")","v":""},{"$f":"IFERROR(INDEX(اقساط!$B$3:$B$2000,SMALL(IF(اقساط!$G$3:$G$2000=B422,ROW($B$3:$B$2000)-ROW($B$3)+1),ROWS($C$3:C422))),\"\")","v":0}]
[{"$f":"IFERROR(INDEX(اقساط!$AT$3:$AT$8532,SMALL(IF(اقساط!$G$3:$G$8532=B423,ROW($AT$3:$AT$8532)-ROW($AT$3)+1),ROWS($A$3:A423))),\"\")","v":0},{"$f":"IFERROR(INDEX(Names,SMALL(IF(Names<>\"\",IF(MID(Names,1,LEN($B$1))=$B$1,ROW(Names)-ROW($G$3)+1)),ROWS($A$1:A421))),\"\")","v":""},{"$f":"IFERROR(INDEX(اقساط!$B$3:$B$2000,SMALL(IF(اقساط!$G$3:$G$2000=B423,ROW($B$3:$B$2000)-ROW($B$3)+1),ROWS($C$3:C423))),\"\")","v":0}]
[{"$f":"IFERROR(INDEX(اقساط!$AT$3:$AT$8532,SMALL(IF(اقساط!$G$3:$G$8532=B424,ROW($AT$3:$AT$8532)-ROW($AT$3)+1),ROWS($A$3:A424))),\"\")","v":0},{"$f":"IFERROR(INDEX(Names,SMALL(IF(Names<>\"\",IF(MID(Names,1,LEN($B$1))=$B$1,ROW(Names)-ROW($G$3)+1)),ROWS($A$1:A422))),\"\")","v":""},{"$f":"IFERROR(INDEX(اقساط!$B$3:$B$2000,SMALL(IF(اقساط!$G$3:$G$2000=B424,ROW($B$3:$B$2000)-ROW($B$3)+1),ROWS($C$3:C424))),\"\")","v":0}]
[{"$f":"IFERROR(INDEX(اقساط!$AT$3:$AT$8532,SMALL(IF(اقساط!$G$3:$G$8532=B425,ROW($AT$3:$AT$8532)-ROW($AT$3)+1),ROWS($A$3:A425))),\"\")","v":0},{"$f":"IFERROR(INDEX(Names,SMALL(IF(Names<>\"\",IF(MID(Names,1,LEN($B$1))=$B$1,ROW(Names)-ROW($G$3)+1)),ROWS($A$1:A423))),\"\")","v":""},{"$f":"IFERROR(INDEX(اقساط!$B$3:$B$2000,SMALL(IF(اقساط!$G$3:$G$2000=B425,ROW($B$3:$B$2000)-ROW($B$3)+1),ROWS($C$3:C425))),\"\")","v":0}]
[{"$f":"IFERROR(INDEX(اقساط!$AT$3:$AT$8532,SMALL(IF(اقساط!$G$3:$G$8532=B426,ROW($AT$3:$AT$8532)-ROW($AT$3)+1),ROWS($A$3:A426))),\"\")","v":0},{"$f":"IFERROR(INDEX(Names,SMALL(IF(Names<>\"\",IF(MID(Names,1,LEN($B$1))=$B$1,ROW(Names)-ROW($G$3)+1)),ROWS($A$1:A424))),\"\")","v":""},{"$f":"IFERROR(INDEX(اقساط!$B$3:$B$2000,SMALL(IF(اقساط!$G$3:$G$2000=B426,ROW($B$3:$B$2000)-ROW($B$3)+1),ROWS($C$3:C426))),\"\")","v":0}]
[{"$f":"IFERROR(INDEX(اقساط!$AT$3:$AT$8532,SMALL(IF(اقساط!$G$3:$G$8532=B427,ROW($AT$3:$AT$8532)-ROW($AT$3)+1),ROWS($A$3:A427))),\"\")","v":0},{"$f":"IFERROR(INDEX(Names,SMALL(IF(Names<>\"\",IF(MID(Names,1,LEN($B$1))=$B$1,ROW(Names)-ROW($G$3)+1)),ROWS($A$1:A425))),\"\")","v":""},{"$f":"IFERROR(INDEX(اقساط!$B$3:$B$2000,SMALL(IF(اقساط!$G$3:$G$2000=B427,ROW($B$3:$B$2000)-ROW($B$3)+1),ROWS($C$3:C427))),\"\")","v":0}]
[{"$f":"IFERROR(INDEX(اقساط!$AT$3:$AT$8532,SMALL(IF(اقساط!$G$3:$G$8532=B428,ROW($AT$3:$AT$8532)-ROW($AT$3)+1),ROWS($A$3:A428))),\"\")","v":0},{"$f":"IFERROR(INDEX(Names,SMALL(IF(Names<>\"\",IF(MID(Names,1,LEN($B$1))=$B$1,ROW(Names)-ROW($G$3)+1)),ROWS($A$1:A426))),\"\")","v":""},{"$f":"IFERROR(INDEX(اقساط!$B$3:$B$2000,SMALL(IF(اقساط!$G$3:$G$2000=B428,ROW($B$3:$B$2000)-ROW($B$3)+1),ROWS($C$3:C428))),\"\")","v":0}]
[{"$f":"IFERROR(INDEX(اقساط!$AT$3:$AT$8532,SMALL(IF(اقساط!$G$3:$G$8532=B429,ROW($AT$3:$AT$8532)-ROW($AT$3)+1),ROWS($A$3:A429))),\"\")","v":0},{"$f":"IFERROR(INDEX(Names,SMALL(IF(Names<>\"\",IF(MID(Names,1,LEN($B$1))=$B$1,ROW(Names)-ROW($G$3)+1)),ROWS($A$1:A427))),\"\")","v":""},{"$f":"IFERROR(INDEX(اقساط!$B$3:$B$2000,SMALL(IF(اقساط!$G$3:$G$2000=B429,ROW($B$3:$B$2000)-ROW($B$3)+1),ROWS($C$3:C429))),\"\")","v":0}]
[{"$f":"IFERROR(INDEX(اقساط!$AT$3:$AT$8532,SMALL(IF(اقساط!$G$3:$G$8532=B430,ROW($AT$3:$AT$8532)-ROW($AT$3)+1),ROWS($A$3:A430))),\"\")","v":0},{"$f":"IFERROR(INDEX(Names,SMALL(IF(Names<>\"\",IF(MID(Names,1,LEN($B$1))=$B$1,ROW(Names)-ROW($G$3)+1)),ROWS($A$1:A428))),\"\")","v":""},{"$f":"IFERROR(INDEX(اقساط!$B$3:$B$2000,SMALL(IF(اقساط!$G$3:$G$2000=B430,ROW($B$3:$B$2000)-ROW($B$3)+1),ROWS($C$3:C430))),\"\")","v":0}]
[{"$f":"IFERROR(INDEX(اقساط!$AT$3:$AT$8532,SMALL(IF(اقساط!$G$3:$G$8532=B431,ROW($AT$3:$AT$8532)-ROW($AT$3)+1),ROWS($A$3:A431))),\"\")","v":0},{"$f":"IFERROR(INDEX(Names,SMALL(IF(Names<>\"\",IF(MID(Names,1,LEN($B$1))=$B$1,ROW(Names)-ROW($G$3)+1)),ROWS($A$1:A429))),\"\")","v":""},{"$f":"IFERROR(INDEX(اقساط!$B$3:$B$2000,SMALL(IF(اقساط!$G$3:$G$2000=B431,ROW($B$3:$B$2000)-ROW($B$3)+1),ROWS($C$3:C431))),\"\")","v":0}]
[{"$f":"IFERROR(INDEX(اقساط!$AT$3:$AT$8532,SMALL(IF(اقساط!$G$3:$G$8532=B432,ROW($AT$3:$AT$8532)-ROW($AT$3)+1),ROWS($A$3:A432))),\"\")","v":0},{"$f":"IFERROR(INDEX(Names,SMALL(IF(Names<>\"\",IF(MID(Names,1,LEN($B$1))=$B$1,ROW(Names)-ROW($G$3)+1)),ROWS($A$1:A430))),\"\")","v":""},{"$f":"IFERROR(INDEX(اقساط!$B$3:$B$2000,SMALL(IF(اقساط!$G$3:$G$2000=B432,ROW($B$3:$B$2000)-ROW($B$3)+1),ROWS($C$3:C432))),\"\")","v":0}]
[{"$f":"IFERROR(INDEX(اقساط!$AT$3:$AT$8532,SMALL(IF(اقساط!$G$3:$G$8532=B433,ROW($AT$3:$AT$8532)-ROW($AT$3)+1),ROWS($A$3:A433))),\"\")","v":0},{"$f":"IFERROR(INDEX(Names,SMALL(IF(Names<>\"\",IF(MID(Names,1,LEN($B$1))=$B$1,ROW(Names)-ROW($G$3)+1)),ROWS($A$1:A431))),\"\")","v":""},{"$f":"IFERROR(INDEX(اقساط!$B$3:$B$2000,SMALL(IF(اقساط!$G$3:$G$2000=B433,ROW($B$3:$B$2000)-ROW($B$3)+1),ROWS($C$3:C433))),\"\")","v":0}]
[{"$f":"IFERROR(INDEX(اقساط!$AT$3:$AT$8532,SMALL(IF(اقساط!$G$3:$G$8532=B434,ROW($AT$3:$AT$8532)-ROW($AT$3)+1),ROWS($A$3:A434))),\"\")","v":0},{"$f":"IFERROR(INDEX(Names,SMALL(IF(Names<>\"\",IF(MID(Names,1,LEN($B$1))=$B$1,ROW(Names)-ROW($G$3)+1)),ROWS($A$1:A432))),\"\")","v":""},{"$f":"IFERROR(INDEX(اقساط!$B$3:$B$2000,SMALL(IF(اقساط!$G$3:$G$2000=B434,ROW($B$3:$B$2000)-ROW($B$3)+1),ROWS($C$3:C434))),\"\")","v":0}]
[{"$f":"IFERROR(INDEX(اقساط!$AT$3:$AT$8532,SMALL(IF(اقساط!$G$3:$G$8532=B435,ROW($AT$3:$AT$8532)-ROW($AT$3)+1),ROWS($A$3:A435))),\"\")","v":0},{"$f":"IFERROR(INDEX(Names,SMALL(IF(Names<>\"\",IF(MID(Names,1,LEN($B$1))=$B$1,ROW(Names)-ROW($G$3)+1)),ROWS($A$1:A433))),\"\")","v":""},{"$f":"IFERROR(INDEX(اقساط!$B$3:$B$2000,SMALL(IF(اقساط!$G$3:$G$2000=B435,ROW($B$3:$B$2000)-ROW($B$3)+1),ROWS($C$3:C435))),\"\")","v":0}]
[{"$f":"IFERROR(INDEX(اقساط!$AT$3:$AT$8532,SMALL(IF(اقساط!$G$3:$G$8532=B436,ROW($AT$3:$AT$8532)-ROW($AT$3)+1),ROWS($A$3:A436))),\"\")","v":0},{"$f":"IFERROR(INDEX(Names,SMALL(IF(Names<>\"\",IF(MID(Names,1,LEN($B$1))=$B$1,ROW(Names)-ROW($G$3)+1)),ROWS($A$1:A434))),\"\")","v":""},{"$f":"IFERROR(INDEX(اقساط!$B$3:$B$2000,SMALL(IF(اقساط!$G$3:$G$2000=B436,ROW($B$3:$B$2000)-ROW($B$3)+1),ROWS($C$3:C436))),\"\")","v":0}]
[{"$f":"IFERROR(INDEX(اقساط!$AT$3:$AT$8532,SMALL(IF(اقساط!$G$3:$G$8532=B437,ROW($AT$3:$AT$8532)-ROW($AT$3)+1),ROWS($A$3:A437))),\"\")","v":0},{"$f":"IFERROR(INDEX(Names,SMALL(IF(Names<>\"\",IF(MID(Names,1,LEN($B$1))=$B$1,ROW(Names)-ROW($G$3)+1)),ROWS($A$1:A435))),\"\")","v":""},{"$f":"IFERROR(INDEX(اقساط!$B$3:$B$2000,SMALL(IF(اقساط!$G$3:$G$2000=B437,ROW($B$3:$B$2000)-ROW($B$3)+1),ROWS($C$3:C437))),\"\")","v":0}]
[{"$f":"IFERROR(INDEX(اقساط!$AT$3:$AT$8532,SMALL(IF(اقساط!$G$3:$G$8532=B438,ROW($AT$3:$AT$8532)-ROW($AT$3)+1),ROWS($A$3:A438))),\"\")","v":0},{"$f":"IFERROR(INDEX(Names,SMALL(IF(Names<>\"\",IF(MID(Names,1,LEN($B$1))=$B$1,ROW(Names)-ROW($G$3)+1)),ROWS($A$1:A436))),\"\")","v":""},{"$f":"IFERROR(INDEX(اقساط!$B$3:$B$2000,SMALL(IF(اقساط!$G$3:$G$2000=B438,ROW($B$3:$B$2000)-ROW($B$3)+1),ROWS($C$3:C438))),\"\")","v":0}]
[{"$f":"IFERROR(INDEX(اقساط!$AT$3:$AT$8532,SMALL(IF(اقساط!$G$3:$G$8532=B439,ROW($AT$3:$AT$8532)-ROW($AT$3)+1),ROWS($A$3:A439))),\"\")","v":0},{"$f":"IFERROR(INDEX(Names,SMALL(IF(Names<>\"\",IF(MID(Names,1,LEN($B$1))=$B$1,ROW(Names)-ROW($G$3)+1)),ROWS($A$1:A437))),\"\")","v":""},{"$f":"IFERROR(INDEX(اقساط!$B$3:$B$2000,SMALL(IF(اقساط!$G$3:$G$2000=B439,ROW($B$3:$B$2000)-ROW($B$3)+1),ROWS($C$3:C439))),\"\")","v":0}]
[{"$f":"IFERROR(INDEX(اقساط!$AT$3:$AT$8532,SMALL(IF(اقساط!$G$3:$G$8532=B440,ROW($AT$3:$AT$8532)-ROW($AT$3)+1),ROWS($A$3:A440))),\"\")","v":0},{"$f":"IFERROR(INDEX(Names,SMALL(IF(Names<>\"\",IF(MID(Names,1,LEN($B$1))=$B$1,ROW(Names)-ROW($G$3)+1)),ROWS($A$1:A438))),\"\")","v":""},{"$f":"IFERROR(INDEX(اقساط!$B$3:$B$2000,SMALL(IF(اقساط!$G$3:$G$2000=B440,ROW($B$3:$B$2000)-ROW($B$3)+1),ROWS($C$3:C440))),\"\")","v":0}]
[{"$f":"IFERROR(INDEX(اقساط!$AT$3:$AT$8532,SMALL(IF(اقساط!$G$3:$G$8532=B441,ROW($AT$3:$AT$8532)-ROW($AT$3)+1),ROWS($A$3:A441))),\"\")","v":0},{"$f":"IFERROR(INDEX(Names,SMALL(IF(Names<>\"\",IF(MID(Names,1,LEN($B$1))=$B$1,ROW(Names)-ROW($G$3)+1)),ROWS($A$1:A439))),\"\")","v":""},{"$f":"IFERROR(INDEX(اقساط!$B$3:$B$2000,SMALL(IF(اقساط!$G$3:$G$2000=B441,ROW($B$3:$B$2000)-ROW($B$3)+1),ROWS($C$3:C441))),\"\")","v":0}]
[{"$f":"IFERROR(INDEX(اقساط!$AT$3:$AT$8532,SMALL(IF(اقساط!$G$3:$G$8532=B442,ROW($AT$3:$AT$8532)-ROW($AT$3)+1),ROWS($A$3:A442))),\"\")","v":0},{"$f":"IFERROR(INDEX(Names,SMALL(IF(Names<>\"\",IF(MID(Names,1,LEN($B$1))=$B$1,ROW(Names)-ROW($G$3)+1)),ROWS($A$1:A440))),\"\")","v":""},{"$f":"IFERROR(INDEX(اقساط!$B$3:$B$2000,SMALL(IF(اقساط!$G$3:$G$2000=B442,ROW($B$3:$B$2000)-ROW($B$3)+1),ROWS($C$3:C442))),\"\")","v":0}]
[{"$f":"IFERROR(INDEX(اقساط!$AT$3:$AT$8532,SMALL(IF(اقساط!$G$3:$G$8532=B443,ROW($AT$3:$AT$8532)-ROW($AT$3)+1),ROWS($A$3:A443))),\"\")","v":0},{"$f":"IFERROR(INDEX(Names,SMALL(IF(Names<>\"\",IF(MID(Names,1,LEN($B$1))=$B$1,ROW(Names)-ROW($G$3)+1)),ROWS($A$1:A441))),\"\")","v":""},{"$f":"IFERROR(INDEX(اقساط!$B$3:$B$2000,SMALL(IF(اقساط!$G$3:$G$2000=B443,ROW($B$3:$B$2000)-ROW($B$3)+1),ROWS($C$3:C443))),\"\")","v":0}]
[{"$f":"IFERROR(INDEX(اقساط!$AT$3:$AT$8532,SMALL(IF(اقساط!$G$3:$G$8532=B444,ROW($AT$3:$AT$8532)-ROW($AT$3)+1),ROWS($A$3:A444))),\"\")","v":0},{"$f":"IFERROR(INDEX(Names,SMALL(IF(Names<>\"\",IF(MID(Names,1,LEN($B$1))=$B$1,ROW(Names)-ROW($G$3)+1)),ROWS($A$1:A442))),\"\")","v":""},{"$f":"IFERROR(INDEX(اقساط!$B$3:$B$2000,SMALL(IF(اقساط!$G$3:$G$2000=B444,ROW($B$3:$B$2000)-ROW($B$3)+1),ROWS($C$3:C444))),\"\")","v":0}]
[{"$f":"IFERROR(INDEX(اقساط!$AT$3:$AT$8532,SMALL(IF(اقساط!$G$3:$G$8532=B445,ROW($AT$3:$AT$8532)-ROW($AT$3)+1),ROWS($A$3:A445))),\"\")","v":0},{"$f":"IFERROR(INDEX(Names,SMALL(IF(Names<>\"\",IF(MID(Names,1,LEN($B$1))=$B$1,ROW(Names)-ROW($G$3)+1)),ROWS($A$1:A443))),\"\")","v":""},{"$f":"IFERROR(INDEX(اقساط!$B$3:$B$2000,SMALL(IF(اقساط!$G$3:$G$2000=B445,ROW($B$3:$B$2000)-ROW($B$3)+1),ROWS($C$3:C445))),\"\")","v":0}]
[{"$f":"IFERROR(INDEX(اقساط!$AT$3:$AT$8532,SMALL(IF(اقساط!$G$3:$G$8532=B446,ROW($AT$3:$AT$8532)-ROW($AT$3)+1),ROWS($A$3:A446))),\"\")","v":0},{"$f":"IFERROR(INDEX(Names,SMALL(IF(Names<>\"\",IF(MID(Names,1,LEN($B$1))=$B$1,ROW(Names)-ROW($G$3)+1)),ROWS($A$1:A444))),\"\")","v":""},{"$f":"IFERROR(INDEX(اقساط!$B$3:$B$2000,SMALL(IF(اقساط!$G$3:$G$2000=B446,ROW($B$3:$B$2000)-ROW($B$3)+1),ROWS($C$3:C446))),\"\")","v":0}]
[{"$f":"IFERROR(INDEX(اقساط!$AT$3:$AT$8532,SMALL(IF(اقساط!$G$3:$G$8532=B447,ROW($AT$3:$AT$8532)-ROW($AT$3)+1),ROWS($A$3:A447))),\"\")","v":0},{"$f":"IFERROR(INDEX(Names,SMALL(IF(Names<>\"\",IF(MID(Names,1,LEN($B$1))=$B$1,ROW(Names)-ROW($G$3)+1)),ROWS($A$1:A445))),\"\")","v":""},{"$f":"IFERROR(INDEX(اقساط!$B$3:$B$2000,SMALL(IF(اقساط!$G$3:$G$2000=B447,ROW($B$3:$B$2000)-ROW($B$3)+1),ROWS($C$3:C447))),\"\")","v":0}]
[{"$f":"IFERROR(INDEX(اقساط!$AT$3:$AT$8532,SMALL(IF(اقساط!$G$3:$G$8532=B448,ROW($AT$3:$AT$8532)-ROW($AT$3)+1),ROWS($A$3:A448))),\"\")","v":0},{"$f":"IFERROR(INDEX(Names,SMALL(IF(Names<>\"\",IF(MID(Names,1,LEN($B$1))=$B$1,ROW(Names)-ROW($G$3)+1)),ROWS($A$1:A446))),\"\")","v":""},{"$f":"IFERROR(INDEX(اقساط!$B$3:$B$2000,SMALL(IF(اقساط!$G$3:$G$2000=B448,ROW($B$3:$B$2000)-ROW($B$3)+1),ROWS($C$3:C448))),\"\")","v":0}]
[{"$f":"IFERROR(INDEX(اقساط!$AT$3:$AT$8532,SMALL(IF(اقساط!$G$3:$G$8532=B449,ROW($AT$3:$AT$8532)-ROW($AT$3)+1),ROWS($A$3:A449))),\"\")","v":0},{"$f":"IFERROR(INDEX(Names,SMALL(IF(Names<>\"\",IF(MID(Names,1,LEN($B$1))=$B$1,ROW(Names)-ROW($G$3)+1)),ROWS($A$1:A447))),\"\")","v":""},{"$f":"IFERROR(INDEX(اقساط!$B$3:$B$2000,SMALL(IF(اقساط!$G$3:$G$2000=B449,ROW($B$3:$B$2000)-ROW($B$3)+1),ROWS($C$3:C449))),\"\")","v":0}]
[{"$f":"IFERROR(INDEX(اقساط!$AT$3:$AT$8532,SMALL(IF(اقساط!$G$3:$G$8532=B450,ROW($AT$3:$AT$8532)-ROW($AT$3)+1),ROWS($A$3:A450))),\"\")","v":0},{"$f":"IFERROR(INDEX(Names,SMALL(IF(Names<>\"\",IF(MID(Names,1,LEN($B$1))=$B$1,ROW(Names)-ROW($G$3)+1)),ROWS($A$1:A448))),\"\")","v":""},{"$f":"IFERROR(INDEX(اقساط!$B$3:$B$2000,SMALL(IF(اقساط!$G$3:$G$2000=B450,ROW($B$3:$B$2000)-ROW($B$3)+1),ROWS($C$3:C450))),\"\")","v":0}]
[{"$f":"IFERROR(INDEX(اقساط!$AT$3:$AT$8532,SMALL(IF(اقساط!$G$3:$G$8532=B451,ROW($AT$3:$AT$8532)-ROW($AT$3)+1),ROWS($A$3:A451))),\"\")","v":0},{"$f":"IFERROR(INDEX(Names,SMALL(IF(Names<>\"\",IF(MID(Names,1,LEN($B$1))=$B$1,ROW(Names)-ROW($G$3)+1)),ROWS($A$1:A449))),\"\")","v":""},{"$f":"IFERROR(INDEX(اقساط!$B$3:$B$2000,SMALL(IF(اقساط!$G$3:$G$2000=B451,ROW($B$3:$B$2000)-ROW($B$3)+1),ROWS($C$3:C451))),\"\")","v":0}]
[{"$f":"IFERROR(INDEX(اقساط!$AT$3:$AT$8532,SMALL(IF(اقساط!$G$3:$G$8532=B452,ROW($AT$3:$AT$8532)-ROW($AT$3)+1),ROWS($A$3:A452))),\"\")","v":0},{"$f":"IFERROR(INDEX(Names,SMALL(IF(Names<>\"\",IF(MID(Names,1,LEN($B$1))=$B$1,ROW(Names)-ROW($G$3)+1)),ROWS($A$1:A450))),\"\")","v":""},{"$f":"IFERROR(INDEX(اقساط!$B$3:$B$2000,SMALL(IF(اقساط!$G$3:$G$2000=B452,ROW($B$3:$B$2000)-ROW($B$3)+1),ROWS($C$3:C452))),\"\")","v":0}]
[{"$f":"IFERROR(INDEX(اقساط!$AT$3:$AT$8532,SMALL(IF(اقساط!$G$3:$G$8532=B453,ROW($AT$3:$AT$8532)-ROW($AT$3)+1),ROWS($A$3:A453))),\"\")","v":0},{"$f":"IFERROR(INDEX(Names,SMALL(IF(Names<>\"\",IF(MID(Names,1,LEN($B$1))=$B$1,ROW(Names)-ROW($G$3)+1)),ROWS($A$1:A451))),\"\")","v":""},{"$f":"IFERROR(INDEX(اقساط!$B$3:$B$2000,SMALL(IF(اقساط!$G$3:$G$2000=B453,ROW($B$3:$B$2000)-ROW($B$3)+1),ROWS($C$3:C453))),\"\")","v":0}]
[{"$f":"IFERROR(INDEX(اقساط!$AT$3:$AT$8532,SMALL(IF(اقساط!$G$3:$G$8532=B454,ROW($AT$3:$AT$8532)-ROW($AT$3)+1),ROWS($A$3:A454))),\"\")","v":0},{"$f":"IFERROR(INDEX(Names,SMALL(IF(Names<>\"\",IF(MID(Names,1,LEN($B$1))=$B$1,ROW(Names)-ROW($G$3)+1)),ROWS($A$1:A452))),\"\")","v":""},{"$f":"IFERROR(INDEX(اقساط!$B$3:$B$2000,SMALL(IF(اقساط!$G$3:$G$2000=B454,ROW($B$3:$B$2000)-ROW($B$3)+1),ROWS($C$3:C454))),\"\")","v":0}]
[{"$f":"IFERROR(INDEX(اقساط!$AT$3:$AT$8532,SMALL(IF(اقساط!$G$3:$G$8532=B455,ROW($AT$3:$AT$8532)-ROW($AT$3)+1),ROWS($A$3:A455))),\"\")","v":0},{"$f":"IFERROR(INDEX(Names,SMALL(IF(Names<>\"\",IF(MID(Names,1,LEN($B$1))=$B$1,ROW(Names)-ROW($G$3)+1)),ROWS($A$1:A453))),\"\")","v":""},{"$f":"IFERROR(INDEX(اقساط!$B$3:$B$2000,SMALL(IF(اقساط!$G$3:$G$2000=B455,ROW($B$3:$B$2000)-ROW($B$3)+1),ROWS($C$3:C455))),\"\")","v":0}]
[{"$f":"IFERROR(INDEX(اقساط!$AT$3:$AT$8532,SMALL(IF(اقساط!$G$3:$G$8532=B456,ROW($AT$3:$AT$8532)-ROW($AT$3)+1),ROWS($A$3:A456))),\"\")","v":0},{"$f":"IFERROR(INDEX(Names,SMALL(IF(Names<>\"\",IF(MID(Names,1,LEN($B$1))=$B$1,ROW(Names)-ROW($G$3)+1)),ROWS($A$1:A454))),\"\")","v":""},{"$f":"IFERROR(INDEX(اقساط!$B$3:$B$2000,SMALL(IF(اقساط!$G$3:$G$2000=B456,ROW($B$3:$B$2000)-ROW($B$3)+1),ROWS($C$3:C456))),\"\")","v":0}]
[{"$f":"IFERROR(INDEX(اقساط!$AT$3:$AT$8532,SMALL(IF(اقساط!$G$3:$G$8532=B457,ROW($AT$3:$AT$8532)-ROW($AT$3)+1),ROWS($A$3:A457))),\"\")","v":0},{"$f":"IFERROR(INDEX(Names,SMALL(IF(Names<>\"\",IF(MID(Names,1,LEN($B$1))=$B$1,ROW(Names)-ROW($G$3)+1)),ROWS($A$1:A455))),\"\")","v":""},{"$f":"IFERROR(INDEX(اقساط!$B$3:$B$2000,SMALL(IF(اقساط!$G$3:$G$2000=B457,ROW($B$3:$B$2000)-ROW($B$3)+1),ROWS($C$3:C457))),\"\")","v":0}]
[{"$f":"IFERROR(INDEX(اقساط!$AT$3:$AT$8532,SMALL(IF(اقساط!$G$3:$G$8532=B458,ROW($AT$3:$AT$8532)-ROW($AT$3)+1),ROWS($A$3:A458))),\"\")","v":0},{"$f":"IFERROR(INDEX(Names,SMALL(IF(Names<>\"\",IF(MID(Names,1,LEN($B$1))=$B$1,ROW(Names)-ROW($G$3)+1)),ROWS($A$1:A456))),\"\")","v":""},{"$f":"IFERROR(INDEX(اقساط!$B$3:$B$2000,SMALL(IF(اقساط!$G$3:$G$2000=B458,ROW($B$3:$B$2000)-ROW($B$3)+1),ROWS($C$3:C458))),\"\")","v":0}]
[{"$f":"IFERROR(INDEX(اقساط!$AT$3:$AT$8532,SMALL(IF(اقساط!$G$3:$G$8532=B459,ROW($AT$3:$AT$8532)-ROW($AT$3)+1),ROWS($A$3:A459))),\"\")","v":0},{"$f":"IFERROR(INDEX(Names,SMALL(IF(Names<>\"\",IF(MID(Names,1,LEN($B$1))=$B$1,ROW(Names)-ROW($G$3)+1)),ROWS($A$1:A457))),\"\")","v":""},{"$f":"IFERROR(INDEX(اقساط!$B$3:$B$8532,SMALL(IF(اقساط!$G$3:$G$8532=B459,ROW($B$3:$B$8532)-ROW($B$3)+1),ROWS($C$3:C459))),\"\")","v":0}]
[{"$f":"IFERROR(INDEX(اقساط!$AT$3:$AT$8532,SMALL(IF(اقساط!$G$3:$G$8532=B460,ROW($AT$3:$AT$8532)-ROW($AT$3)+1),ROWS($A$3:A460))),\"\")","v":0},{"$f":"IFERROR(INDEX(Names,SMALL(IF(Names<>\"\",IF(MID(Names,1,LEN($B$1))=$B$1,ROW(Names)-ROW($G$3)+1)),ROWS($A$1:A458))),\"\")","v":""},{"$f":"IFERROR(INDEX(اقساط!$B$3:$B$8532,SMALL(IF(اقساط!$G$3:$G$8532=B460,ROW($B$3:$B$8532)-ROW($B$3)+1),ROWS($C$3:C460))),\"\")","v":0}]
[{"$f":"IFERROR(INDEX(اقساط!$AT$3:$AT$8532,SMALL(IF(اقساط!$G$3:$G$8532=B461,ROW($AT$3:$AT$8532)-ROW($AT$3)+1),ROWS($A$3:A461))),\"\")","v":0},{"$f":"IFERROR(INDEX(Names,SMALL(IF(Names<>\"\",IF(MID(Names,1,LEN($B$1))=$B$1,ROW(Names)-ROW($G$3)+1)),ROWS($A$1:A459))),\"\")","v":""},{"$f":"IFERROR(INDEX(اقساط!$B$3:$B$8532,SMALL(IF(اقساط!$G$3:$G$8532=B461,ROW($B$3:$B$8532)-ROW($B$3)+1),ROWS($C$3:C461))),\"\")","v":0}]
[{"$f":"IFERROR(INDEX(اقساط!$AT$3:$AT$8532,SMALL(IF(اقساط!$G$3:$G$8532=B462,ROW($AT$3:$AT$8532)-ROW($AT$3)+1),ROWS($A$3:A462))),\"\")","v":0},{"$f":"IFERROR(INDEX(Names,SMALL(IF(Names<>\"\",IF(MID(Names,1,LEN($B$1))=$B$1,ROW(Names)-ROW($G$3)+1)),ROWS($A$1:A460))),\"\")","v":""},{"$f":"IFERROR(INDEX(اقساط!$B$3:$B$8532,SMALL(IF(اقساط!$G$3:$G$8532=B462,ROW($B$3:$B$8532)-ROW($B$3)+1),ROWS($C$3:C462))),\"\")","v":0}]
[{"$f":"IFERROR(INDEX(اقساط!$AT$3:$AT$8532,SMALL(IF(اقساط!$G$3:$G$8532=B463,ROW($AT$3:$AT$8532)-ROW($AT$3)+1),ROWS($A$3:A463))),\"\")","v":0},{"$f":"IFERROR(INDEX(Names,SMALL(IF(Names<>\"\",IF(MID(Names,1,LEN($B$1))=$B$1,ROW(Names)-ROW($G$3)+1)),ROWS($A$1:A461))),\"\")","v":""},{"$f":"IFERROR(INDEX(اقساط!$B$3:$B$8532,SMALL(IF(اقساط!$G$3:$G$8532=B463,ROW($B$3:$B$8532)-ROW($B$3)+1),ROWS($C$3:C463))),\"\")","v":0}]
[{"$f":"IFERROR(INDEX(اقساط!$AT$3:$AT$8532,SMALL(IF(اقساط!$G$3:$G$8532=B464,ROW($AT$3:$AT$8532)-ROW($AT$3)+1),ROWS($A$3:A464))),\"\")","v":0},{"$f":"IFERROR(INDEX(Names,SMALL(IF(Names<>\"\",IF(MID(Names,1,LEN($B$1))=$B$1,ROW(Names)-ROW($G$3)+1)),ROWS($A$1:A462))),\"\")","v":""},{"$f":"IFERROR(INDEX(اقساط!$B$3:$B$8532,SMALL(IF(اقساط!$G$3:$G$8532=B464,ROW($B$3:$B$8532)-ROW($B$3)+1),ROWS($C$3:C464))),\"\")","v":0}]
[{"$f":"IFERROR(INDEX(اقساط!$AT$3:$AT$8532,SMALL(IF(اقساط!$G$3:$G$8532=B465,ROW($AT$3:$AT$8532)-ROW($AT$3)+1),ROWS($A$3:A465))),\"\")","v":0},{"$f":"IFERROR(INDEX(Names,SMALL(IF(Names<>\"\",IF(MID(Names,1,LEN($B$1))=$B$1,ROW(Names)-ROW($G$3)+1)),ROWS($A$1:A463))),\"\")","v":""},{"$f":"IFERROR(INDEX(اقساط!$B$3:$B$8532,SMALL(IF(اقساط!$G$3:$G$8532=B465,ROW($B$3:$B$8532)-ROW($B$3)+1),ROWS($C$3:C465))),\"\")","v":0}]
[{"$f":"IFERROR(INDEX(اقساط!$AT$3:$AT$8532,SMALL(IF(اقساط!$G$3:$G$8532=B466,ROW($AT$3:$AT$8532)-ROW($AT$3)+1),ROWS($A$3:A466))),\"\")","v":0},{"$f":"IFERROR(INDEX(Names,SMALL(IF(Names<>\"\",IF(MID(Names,1,LEN($B$1))=$B$1,ROW(Names)-ROW($G$3)+1)),ROWS($A$1:A464))),\"\")","v":""},{"$f":"IFERROR(INDEX(اقساط!$B$3:$B$8532,SMALL(IF(اقساط!$G$3:$G$8532=B466,ROW($B$3:$B$8532)-ROW($B$3)+1),ROWS($C$3:C466))),\"\")","v":0}]
[{"$f":"IFERROR(INDEX(اقساط!$AT$3:$AT$8532,SMALL(IF(اقساط!$G$3:$G$8532=B467,ROW($AT$3:$AT$8532)-ROW($AT$3)+1),ROWS($A$3:A467))),\"\")","v":0},{"$f":"IFERROR(INDEX(Names,SMALL(IF(Names<>\"\",IF(MID(Names,1,LEN($B$1))=$B$1,ROW(Names)-ROW($G$3)+1)),ROWS($A$1:A465))),\"\")","v":""},{"$f":"IFERROR(INDEX(اقساط!$B$3:$B$8532,SMALL(IF(اقساط!$G$3:$G$8532=B467,ROW($B$3:$B$8532)-ROW($B$3)+1),ROWS($C$3:C467))),\"\")","v":0}]
[{"$f":"IFERROR(INDEX(اقساط!$AT$3:$AT$8532,SMALL(IF(اقساط!$G$3:$G$8532=B468,ROW($AT$3:$AT$8532)-ROW($AT$3)+1),ROWS($A$3:A468))),\"\")","v":0},{"$f":"IFERROR(INDEX(Names,SMALL(IF(Names<>\"\",IF(MID(Names,1,LEN($B$1))=$B$1,ROW(Names)-ROW($G$3)+1)),ROWS($A$1:A466))),\"\")","v":""},{"$f":"IFERROR(INDEX(اقساط!$B$3:$B$8532,SMALL(IF(اقساط!$G$3:$G$8532=B468,ROW($B$3:$B$8532)-ROW($B$3)+1),ROWS($C$3:C468))),\"\")","v":0}]
[{"$f":"IFERROR(INDEX(اقساط!$AT$3:$AT$8532,SMALL(IF(اقساط!$G$3:$G$8532=B469,ROW($AT$3:$AT$8532)-ROW($AT$3)+1),ROWS($A$3:A469))),\"\")","v":0},{"$f":"IFERROR(INDEX(Names,SMALL(IF(Names<>\"\",IF(MID(Names,1,LEN($B$1))=$B$1,ROW(Names)-ROW($G$3)+1)),ROWS($A$1:A467))),\"\")","v":""},{"$f":"IFERROR(INDEX(اقساط!$B$3:$B$8532,SMALL(IF(اقساط!$G$3:$G$8532=B469,ROW($B$3:$B$8532)-ROW($B$3)+1),ROWS($C$3:C469))),\"\")","v":0}]
[{"$f":"IFERROR(INDEX(اقساط!$AT$3:$AT$8532,SMALL(IF(اقساط!$G$3:$G$8532=B470,ROW($AT$3:$AT$8532)-ROW($AT$3)+1),ROWS($A$3:A470))),\"\")","v":0},{"$f":"IFERROR(INDEX(Names,SMALL(IF(Names<>\"\",IF(MID(Names,1,LEN($B$1))=$B$1,ROW(Names)-ROW($G$3)+1)),ROWS($A$1:A468))),\"\")","v":""},{"$f":"IFERROR(INDEX(اقساط!$B$3:$B$8532,SMALL(IF(اقساط!$G$3:$G$8532=B470,ROW($B$3:$B$8532)-ROW($B$3)+1),ROWS($C$3:C470))),\"\")","v":0}]
[{"$f":"IFERROR(INDEX(اقساط!$AT$3:$AT$8532,SMALL(IF(اقساط!$G$3:$G$8532=B471,ROW($AT$3:$AT$8532)-ROW($AT$3)+1),ROWS($A$3:A471))),\"\")","v":0},{"$f":"IFERROR(INDEX(Names,SMALL(IF(Names<>\"\",IF(MID(Names,1,LEN($B$1))=$B$1,ROW(Names)-ROW($G$3)+1)),ROWS($A$1:A469))),\"\")","v":""},{"$f":"IFERROR(INDEX(اقساط!$B$3:$B$8532,SMALL(IF(اقساط!$G$3:$G$8532=B471,ROW($B$3:$B$8532)-ROW($B$3)+1),ROWS($C$3:C471))),\"\")","v":0}]
[{"$f":"IFERROR(INDEX(اقساط!$AT$3:$AT$8532,SMALL(IF(اقساط!$G$3:$G$8532=B472,ROW($AT$3:$AT$8532)-ROW($AT$3)+1),ROWS($A$3:A472))),\"\")","v":0},{"$f":"IFERROR(INDEX(Names,SMALL(IF(Names<>\"\",IF(MID(Names,1,LEN($B$1))=$B$1,ROW(Names)-ROW($G$3)+1)),ROWS($A$1:A470))),\"\")","v":""},{"$f":"IFERROR(INDEX(اقساط!$B$3:$B$8532,SMALL(IF(اقساط!$G$3:$G$8532=B472,ROW($B$3:$B$8532)-ROW($B$3)+1),ROWS($C$3:C472))),\"\")","v":0}]
[{"$f":"IFERROR(INDEX(اقساط!$AT$3:$AT$8532,SMALL(IF(اقساط!$G$3:$G$8532=B473,ROW($AT$3:$AT$8532)-ROW($AT$3)+1),ROWS($A$3:A473))),\"\")","v":0},{"$f":"IFERROR(INDEX(Names,SMALL(IF(Names<>\"\",IF(MID(Names,1,LEN($B$1))=$B$1,ROW(Names)-ROW($G$3)+1)),ROWS($A$1:A471))),\"\")","v":""},{"$f":"IFERROR(INDEX(اقساط!$B$3:$B$8532,SMALL(IF(اقساط!$G$3:$G$8532=B473,ROW($B$3:$B$8532)-ROW($B$3)+1),ROWS($C$3:C473))),\"\")","v":0}]
[{"$f":"IFERROR(INDEX(اقساط!$AT$3:$AT$8532,SMALL(IF(اقساط!$G$3:$G$8532=B474,ROW($AT$3:$AT$8532)-ROW($AT$3)+1),ROWS($A$3:A474))),\"\")","v":0},{"$f":"IFERROR(INDEX(Names,SMALL(IF(Names<>\"\",IF(MID(Names,1,LEN($B$1))=$B$1,ROW(Names)-ROW($G$3)+1)),ROWS($A$1:A472))),\"\")","v":""},{"$f":"IFERROR(INDEX(اقساط!$B$3:$B$8532,SMALL(IF(اقساط!$G$3:$G$8532=B474,ROW($B$3:$B$8532)-ROW($B$3)+1),ROWS($C$3:C474))),\"\")","v":0}]
[{"$f":"IFERROR(INDEX(اقساط!$AT$3:$AT$8532,SMALL(IF(اقساط!$G$3:$G$8532=B475,ROW($AT$3:$AT$8532)-ROW($AT$3)+1),ROWS($A$3:A475))),\"\")","v":0},{"$f":"IFERROR(INDEX(Names,SMALL(IF(Names<>\"\",IF(MID(Names,1,LEN($B$1))=$B$1,ROW(Names)-ROW($G$3)+1)),ROWS($A$1:A473))),\"\")","v":""},{"$f":"IFERROR(INDEX(اقساط!$B$3:$B$8532,SMALL(IF(اقساط!$G$3:$G$8532=B475,ROW($B$3:$B$8532)-ROW($B$3)+1),ROWS($C$3:C475))),\"\")","v":0}]
[{"$f":"IFERROR(INDEX(اقساط!$AT$3:$AT$8532,SMALL(IF(اقساط!$G$3:$G$8532=B476,ROW($AT$3:$AT$8532)-ROW($AT$3)+1),ROWS($A$3:A476))),\"\")","v":0},{"$f":"IFERROR(INDEX(Names,SMALL(IF(Names<>\"\",IF(MID(Names,1,LEN($B$1))=$B$1,ROW(Names)-ROW($G$3)+1)),ROWS($A$1:A474))),\"\")","v":""},{"$f":"IFERROR(INDEX(اقساط!$B$3:$B$8532,SMALL(IF(اقساط!$G$3:$G$8532=B476,ROW($B$3:$B$8532)-ROW($B$3)+1),ROWS($C$3:C476))),\"\")","v":0}]
[{"$f":"IFERROR(INDEX(اقساط!$AT$3:$AT$8532,SMALL(IF(اقساط!$G$3:$G$8532=B477,ROW($AT$3:$AT$8532)-ROW($AT$3)+1),ROWS($A$3:A477))),\"\")","v":0},{"$f":"IFERROR(INDEX(Names,SMALL(IF(Names<>\"\",IF(MID(Names,1,LEN($B$1))=$B$1,ROW(Names)-ROW($G$3)+1)),ROWS($A$1:A475))),\"\")","v":""},{"$f":"IFERROR(INDEX(اقساط!$B$3:$B$8532,SMALL(IF(اقساط!$G$3:$G$8532=B477,ROW($B$3:$B$8532)-ROW($B$3)+1),ROWS($C$3:C477))),\"\")","v":0}]
[{"$f":"IFERROR(INDEX(اقساط!$AT$3:$AT$8532,SMALL(IF(اقساط!$G$3:$G$8532=B478,ROW($AT$3:$AT$8532)-ROW($AT$3)+1),ROWS($A$3:A478))),\"\")","v":0},{"$f":"IFERROR(INDEX(Names,SMALL(IF(Names<>\"\",IF(MID(Names,1,LEN($B$1))=$B$1,ROW(Names)-ROW($G$3)+1)),ROWS($A$1:A476))),\"\")","v":""},{"$f":"IFERROR(INDEX(اقساط!$B$3:$B$8532,SMALL(IF(اقساط!$G$3:$G$8532=B478,ROW($B$3:$B$8532)-ROW($B$3)+1),ROWS($C$3:C478))),\"\")","v":0}]
[{"$f":"IFERROR(INDEX(اقساط!$AT$3:$AT$8532,SMALL(IF(اقساط!$G$3:$G$8532=B479,ROW($AT$3:$AT$8532)-ROW($AT$3)+1),ROWS($A$3:A479))),\"\")","v":0},{"$f":"IFERROR(INDEX(Names,SMALL(IF(Names<>\"\",IF(MID(Names,1,LEN($B$1))=$B$1,ROW(Names)-ROW($G$3)+1)),ROWS($A$1:A477))),\"\")","v":""},{"$f":"IFERROR(INDEX(اقساط!$B$3:$B$8532,SMALL(IF(اقساط!$G$3:$G$8532=B479,ROW($B$3:$B$8532)-ROW($B$3)+1),ROWS($C$3:C479))),\"\")","v":0}]
[{"$f":"IFERROR(INDEX(اقساط!$AT$3:$AT$8532,SMALL(IF(اقساط!$G$3:$G$8532=B480,ROW($AT$3:$AT$8532)-ROW($AT$3)+1),ROWS($A$3:A480))),\"\")","v":0},{"$f":"IFERROR(INDEX(Names,SMALL(IF(Names<>\"\",IF(MID(Names,1,LEN($B$1))=$B$1,ROW(Names)-ROW($G$3)+1)),ROWS($A$1:A478))),\"\")","v":""},{"$f":"IFERROR(INDEX(اقساط!$B$3:$B$8532,SMALL(IF(اقساط!$G$3:$G$8532=B480,ROW($B$3:$B$8532)-ROW($B$3)+1),ROWS($C$3:C480))),\"\")","v":0}]
[{"$f":"IFERROR(INDEX(اقساط!$AT$3:$AT$8532,SMALL(IF(اقساط!$G$3:$G$8532=B481,ROW($AT$3:$AT$8532)-ROW($AT$3)+1),ROWS($A$3:A481))),\"\")","v":0},{"$f":"IFERROR(INDEX(Names,SMALL(IF(Names<>\"\",IF(MID(Names,1,LEN($B$1))=$B$1,ROW(Names)-ROW($G$3)+1)),ROWS($A$1:A479))),\"\")","v":""},{"$f":"IFERROR(INDEX(اقساط!$B$3:$B$8532,SMALL(IF(اقساط!$G$3:$G$8532=B481,ROW($B$3:$B$8532)-ROW($B$3)+1),ROWS($C$3:C481))),\"\")","v":0}]
[{"$f":"IFERROR(INDEX(اقساط!$AT$3:$AT$8532,SMALL(IF(اقساط!$G$3:$G$8532=B482,ROW($AT$3:$AT$8532)-ROW($AT$3)+1),ROWS($A$3:A482))),\"\")","v":0},{"$f":"IFERROR(INDEX(Names,SMALL(IF(Names<>\"\",IF(MID(Names,1,LEN($B$1))=$B$1,ROW(Names)-ROW($G$3)+1)),ROWS($A$1:A480))),\"\")","v":""},{"$f":"IFERROR(INDEX(اقساط!$B$3:$B$8532,SMALL(IF(اقساط!$G$3:$G$8532=B482,ROW($B$3:$B$8532)-ROW($B$3)+1),ROWS($C$3:C482))),\"\")","v":0}]
[{"$f":"IFERROR(INDEX(اقساط!$AT$3:$AT$8532,SMALL(IF(اقساط!$G$3:$G$8532=B483,ROW($AT$3:$AT$8532)-ROW($AT$3)+1),ROWS($A$3:A483))),\"\")","v":0},{"$f":"IFERROR(INDEX(Names,SMALL(IF(Names<>\"\",IF(MID(Names,1,LEN($B$1))=$B$1,ROW(Names)-ROW($G$3)+1)),ROWS($A$1:A481))),\"\")","v":""},{"$f":"IFERROR(INDEX(اقساط!$B$3:$B$8532,SMALL(IF(اقساط!$G$3:$G$8532=B483,ROW($B$3:$B$8532)-ROW($B$3)+1),ROWS($C$3:C483))),\"\")","v":0}]
[{"$f":"IFERROR(INDEX(اقساط!$AT$3:$AT$8532,SMALL(IF(اقساط!$G$3:$G$8532=B484,ROW($AT$3:$AT$8532)-ROW($AT$3)+1),ROWS($A$3:A484))),\"\")","v":0},{"$f":"IFERROR(INDEX(Names,SMALL(IF(Names<>\"\",IF(MID(Names,1,LEN($B$1))=$B$1,ROW(Names)-ROW($G$3)+1)),ROWS($A$1:A482))),\"\")","v":""},{"$f":"IFERROR(INDEX(اقساط!$B$3:$B$8532,SMALL(IF(اقساط!$G$3:$G$8532=B484,ROW($B$3:$B$8532)-ROW($B$3)+1),ROWS($C$3:C484))),\"\")","v":0}]
[{"$f":"IFERROR(INDEX(اقساط!$AT$3:$AT$8532,SMALL(IF(اقساط!$G$3:$G$8532=B485,ROW($AT$3:$AT$8532)-ROW($AT$3)+1),ROWS($A$3:A485))),\"\")","v":0},{"$f":"IFERROR(INDEX(Names,SMALL(IF(Names<>\"\",IF(MID(Names,1,LEN($B$1))=$B$1,ROW(Names)-ROW($G$3)+1)),ROWS($A$1:A483))),\"\")","v":""},{"$f":"IFERROR(INDEX(اقساط!$B$3:$B$8532,SMALL(IF(اقساط!$G$3:$G$8532=B485,ROW($B$3:$B$8532)-ROW($B$3)+1),ROWS($C$3:C485))),\"\")","v":0}]
[{"$f":"IFERROR(INDEX(اقساط!$AT$3:$AT$8532,SMALL(IF(اقساط!$G$3:$G$8532=B486,ROW($AT$3:$AT$8532)-ROW($AT$3)+1),ROWS($A$3:A486))),\"\")","v":0},{"$f":"IFERROR(INDEX(Names,SMALL(IF(Names<>\"\",IF(MID(Names,1,LEN($B$1))=$B$1,ROW(Names)-ROW($G$3)+1)),ROWS($A$1:A484))),\"\")","v":""},{"$f":"IFERROR(INDEX(اقساط!$B$3:$B$8532,SMALL(IF(اقساط!$G$3:$G$8532=B486,ROW($B$3:$B$8532)-ROW($B$3)+1),ROWS($C$3:C486))),\"\")","v":0}]
[{"$f":"IFERROR(INDEX(اقساط!$AT$3:$AT$8532,SMALL(IF(اقساط!$G$3:$G$8532=B487,ROW($AT$3:$AT$8532)-ROW($AT$3)+1),ROWS($A$3:A487))),\"\")","v":0},{"$f":"IFERROR(INDEX(Names,SMALL(IF(Names<>\"\",IF(MID(Names,1,LEN($B$1))=$B$1,ROW(Names)-ROW($G$3)+1)),ROWS($A$1:A485))),\"\")","v":""},{"$f":"IFERROR(INDEX(اقساط!$B$3:$B$8532,SMALL(IF(اقساط!$G$3:$G$8532=B487,ROW($B$3:$B$8532)-ROW($B$3)+1),ROWS($C$3:C487))),\"\")","v":0}]
[{"$f":"IFERROR(INDEX(اقساط!$AT$3:$AT$8532,SMALL(IF(اقساط!$G$3:$G$8532=B488,ROW($AT$3:$AT$8532)-ROW($AT$3)+1),ROWS($A$3:A488))),\"\")","v":0},{"$f":"IFERROR(INDEX(Names,SMALL(IF(Names<>\"\",IF(MID(Names,1,LEN($B$1))=$B$1,ROW(Names)-ROW($G$3)+1)),ROWS($A$1:A486))),\"\")","v":""},{"$f":"IFERROR(INDEX(اقساط!$B$3:$B$8532,SMALL(IF(اقساط!$G$3:$G$8532=B488,ROW($B$3:$B$8532)-ROW($B$3)+1),ROWS($C$3:C488))),\"\")","v":0}]
[{"$f":"IFERROR(INDEX(اقساط!$AT$3:$AT$8532,SMALL(IF(اقساط!$G$3:$G$8532=B489,ROW($AT$3:$AT$8532)-ROW($AT$3)+1),ROWS($A$3:A489))),\"\")","v":0},{"$f":"IFERROR(INDEX(Names,SMALL(IF(Names<>\"\",IF(MID(Names,1,LEN($B$1))=$B$1,ROW(Names)-ROW($G$3)+1)),ROWS($A$1:A487))),\"\")","v":""},{"$f":"IFERROR(INDEX(اقساط!$B$3:$B$8532,SMALL(IF(اقساط!$G$3:$G$8532=B489,ROW($B$3:$B$8532)-ROW($B$3)+1),ROWS($C$3:C489))),\"\")","v":0}]
[{"$f":"IFERROR(INDEX(اقساط!$AT$3:$AT$8532,SMALL(IF(اقساط!$G$3:$G$8532=B490,ROW($AT$3:$AT$8532)-ROW($AT$3)+1),ROWS($A$3:A490))),\"\")","v":0},{"$f":"IFERROR(INDEX(Names,SMALL(IF(Names<>\"\",IF(MID(Names,1,LEN($B$1))=$B$1,ROW(Names)-ROW($G$3)+1)),ROWS($A$1:A488))),\"\")","v":""},{"$f":"IFERROR(INDEX(اقساط!$B$3:$B$8532,SMALL(IF(اقساط!$G$3:$G$8532=B490,ROW($B$3:$B$8532)-ROW($B$3)+1),ROWS($C$3:C490))),\"\")","v":0}]
[{"$f":"IFERROR(INDEX(اقساط!$AT$3:$AT$8532,SMALL(IF(اقساط!$G$3:$G$8532=B491,ROW($AT$3:$AT$8532)-ROW($AT$3)+1),ROWS($A$3:A491))),\"\")","v":0},{"$f":"IFERROR(INDEX(Names,SMALL(IF(Names<>\"\",IF(MID(Names,1,LEN($B$1))=$B$1,ROW(Names)-ROW($G$3)+1)),ROWS($A$1:A489))),\"\")","v":""},{"$f":"IFERROR(INDEX(اقساط!$B$3:$B$8532,SMALL(IF(اقساط!$G$3:$G$8532=B491,ROW($B$3:$B$8532)-ROW($B$3)+1),ROWS($C$3:C491))),\"\")","v":0}]
[{"$f":"IFERROR(INDEX(اقساط!$AT$3:$AT$8532,SMALL(IF(اقساط!$G$3:$G$8532=B492,ROW($AT$3:$AT$8532)-ROW($AT$3)+1),ROWS($A$3:A492))),\"\")","v":0},{"$f":"IFERROR(INDEX(Names,SMALL(IF(Names<>\"\",IF(MID(Names,1,LEN($B$1))=$B$1,ROW(Names)-ROW($G$3)+1)),ROWS($A$1:A490))),\"\")","v":""},{"$f":"IFERROR(INDEX(اقساط!$B$3:$B$8532,SMALL(IF(اقساط!$G$3:$G$8532=B492,ROW($B$3:$B$8532)-ROW($B$3)+1),ROWS($C$3:C492))),\"\")","v":0}]
[{"$f":"IFERROR(INDEX(اقساط!$AT$3:$AT$8532,SMALL(IF(اقساط!$G$3:$G$8532=B493,ROW($AT$3:$AT$8532)-ROW($AT$3)+1),ROWS($A$3:A493))),\"\")","v":0},{"$f":"IFERROR(INDEX(Names,SMALL(IF(Names<>\"\",IF(MID(Names,1,LEN($B$1))=$B$1,ROW(Names)-ROW($G$3)+1)),ROWS($A$1:A491))),\"\")","v":""},{"$f":"IFERROR(INDEX(اقساط!$B$3:$B$8532,SMALL(IF(اقساط!$G$3:$G$8532=B493,ROW($B$3:$B$8532)-ROW($B$3)+1),ROWS($C$3:C493))),\"\")","v":0}]
[{"$f":"IFERROR(INDEX(اقساط!$AT$3:$AT$8532,SMALL(IF(اقساط!$G$3:$G$8532=B494,ROW($AT$3:$AT$8532)-ROW($AT$3)+1),ROWS($A$3:A494))),\"\")","v":0},{"$f":"IFERROR(INDEX(Names,SMALL(IF(Names<>\"\",IF(MID(Names,1,LEN($B$1))=$B$1,ROW(Names)-ROW($G$3)+1)),ROWS($A$1:A492))),\"\")","v":""},{"$f":"IFERROR(INDEX(اقساط!$B$3:$B$8532,SMALL(IF(اقساط!$G$3:$G$8532=B494,ROW($B$3:$B$8532)-ROW($B$3)+1),ROWS($C$3:C494))),\"\")","v":0}]
[{"$f":"IFERROR(INDEX(اقساط!$AT$3:$AT$8532,SMALL(IF(اقساط!$G$3:$G$8532=B495,ROW($AT$3:$AT$8532)-ROW($AT$3)+1),ROWS($A$3:A495))),\"\")","v":0},{"$f":"IFERROR(INDEX(Names,SMALL(IF(Names<>\"\",IF(MID(Names,1,LEN($B$1))=$B$1,ROW(Names)-ROW($G$3)+1)),ROWS($A$1:A493))),\"\")","v":""},{"$f":"IFERROR(INDEX(اقساط!$B$3:$B$8532,SMALL(IF(اقساط!$G$3:$G$8532=B495,ROW($B$3:$B$8532)-ROW($B$3)+1),ROWS($C$3:C495))),\"\")","v":0}]
[{"$f":"IFERROR(INDEX(اقساط!$AT$3:$AT$8532,SMALL(IF(اقساط!$G$3:$G$8532=B496,ROW($AT$3:$AT$8532)-ROW($AT$3)+1),ROWS($A$3:A496))),\"\")","v":0},{"$f":"IFERROR(INDEX(Names,SMALL(IF(Names<>\"\",IF(MID(Names,1,LEN($B$1))=$B$1,ROW(Names)-ROW($G$3)+1)),ROWS($A$1:A494))),\"\")","v":""},{"$f":"IFERROR(INDEX(اقساط!$B$3:$B$8532,SMALL(IF(اقساط!$G$3:$G$8532=B496,ROW($B$3:$B$8532)-ROW($B$3)+1),ROWS($C$3:C496))),\"\")","v":0}]
[{"$f":"IFERROR(INDEX(اقساط!$AT$3:$AT$8532,SMALL(IF(اقساط!$G$3:$G$8532=B497,ROW($AT$3:$AT$8532)-ROW($AT$3)+1),ROWS($A$3:A497))),\"\")","v":0},{"$f":"IFERROR(INDEX(Names,SMALL(IF(Names<>\"\",IF(MID(Names,1,LEN($B$1))=$B$1,ROW(Names)-ROW($G$3)+1)),ROWS($A$1:A495))),\"\")","v":""},{"$f":"IFERROR(INDEX(اقساط!$B$3:$B$8532,SMALL(IF(اقساط!$G$3:$G$8532=B497,ROW($B$3:$B$8532)-ROW($B$3)+1),ROWS($C$3:C497))),\"\")","v":0}]
[{"$f":"IFERROR(INDEX(اقساط!$AT$3:$AT$8532,SMALL(IF(اقساط!$G$3:$G$8532=B498,ROW($AT$3:$AT$8532)-ROW($AT$3)+1),ROWS($A$3:A498))),\"\")","v":0},{"$f":"IFERROR(INDEX(Names,SMALL(IF(Names<>\"\",IF(MID(Names,1,LEN($B$1))=$B$1,ROW(Names)-ROW($G$3)+1)),ROWS($A$1:A496))),\"\")","v":""},{"$f":"IFERROR(INDEX(اقساط!$B$3:$B$8532,SMALL(IF(اقساط!$G$3:$G$8532=B498,ROW($B$3:$B$8532)-ROW($B$3)+1),ROWS($C$3:C498))),\"\")","v":0}]
[{"$f":"IFERROR(INDEX(اقساط!$AT$3:$AT$8532,SMALL(IF(اقساط!$G$3:$G$8532=B499,ROW($AT$3:$AT$8532)-ROW($AT$3)+1),ROWS($A$3:A499))),\"\")","v":0},{"$f":"IFERROR(INDEX(Names,SMALL(IF(Names<>\"\",IF(MID(Names,1,LEN($B$1))=$B$1,ROW(Names)-ROW($G$3)+1)),ROWS($A$1:A497))),\"\")","v":""},{"$f":"IFERROR(INDEX(اقساط!$B$3:$B$8532,SMALL(IF(اقساط!$G$3:$G$8532=B499,ROW($B$3:$B$8532)-ROW($B$3)+1),ROWS($C$3:C499))),\"\")","v":0}]
[{"$f":"IFERROR(INDEX(اقساط!$AT$3:$AT$8532,SMALL(IF(اقساط!$G$3:$G$8532=B500,ROW($AT$3:$AT$8532)-ROW($AT$3)+1),ROWS($A$3:A500))),\"\")","v":0},{"$f":"IFERROR(INDEX(Names,SMALL(IF(Names<>\"\",IF(MID(Names,1,LEN($B$1))=$B$1,ROW(Names)-ROW($G$3)+1)),ROWS($A$1:A498))),\"\")","v":""},{"$f":"IFERROR(INDEX(اقساط!$B$3:$B$8532,SMALL(IF(اقساط!$G$3:$G$8532=B500,ROW($B$3:$B$8532)-ROW($B$3)+1),ROWS($C$3:C500))),\"\")","v":0}]
[{"$f":"IFERROR(INDEX(اقساط!$AT$3:$AT$8532,SMALL(IF(اقساط!$G$3:$G$8532=B501,ROW($AT$3:$AT$8532)-ROW($AT$3)+1),ROWS($A$3:A501))),\"\")","v":0},{"$f":"IFERROR(INDEX(Names,SMALL(IF(Names<>\"\",IF(MID(Names,1,LEN($B$1))=$B$1,ROW(Names)-ROW($G$3)+1)),ROWS($A$1:A499))),\"\")","v":""},{"$f":"IFERROR(INDEX(اقساط!$B$3:$B$8532,SMALL(IF(اقساط!$G$3:$G$8532=B501,ROW($B$3:$B$8532)-ROW($B$3)+1),ROWS($C$3:C501))),\"\")","v":0}]
[{"$f":"IFERROR(INDEX(اقساط!$AT$3:$AT$8532,SMALL(IF(اقساط!$G$3:$G$8532=B502,ROW($AT$3:$AT$8532)-ROW($AT$3)+1),ROWS($A$3:A502))),\"\")","v":0},{"$f":"IFERROR(INDEX(Names,SMALL(IF(Names<>\"\",IF(MID(Names,1,LEN($B$1))=$B$1,ROW(Names)-ROW($G$3)+1)),ROWS($A$1:A500))),\"\")","v":""},{"$f":"IFERROR(INDEX(اقساط!$B$3:$B$8532,SMALL(IF(اقساط!$G$3:$G$8532=B502,ROW($B$3:$B$8532)-ROW($B$3)+1),ROWS($C$3:C502))),\"\")","v":0}]
[{"$f":"IFERROR(INDEX(اقساط!$AT$3:$AT$8532,SMALL(IF(اقساط!$G$3:$G$8532=B503,ROW($AT$3:$AT$8532)-ROW($AT$3)+1),ROWS($A$3:A503))),\"\")","v":0},{"$f":"IFERROR(INDEX(Names,SMALL(IF(Names<>\"\",IF(MID(Names,1,LEN($B$1))=$B$1,ROW(Names)-ROW($G$3)+1)),ROWS($A$1:A501))),\"\")","v":""},{"$f":"IFERROR(INDEX(اقساط!$B$3:$B$8532,SMALL(IF(اقساط!$G$3:$G$8532=B503,ROW($B$3:$B$8532)-ROW($B$3)+1),ROWS($C$3:C503))),\"\")","v":0}]
[{"$f":"IFERROR(INDEX(اقساط!$AT$3:$AT$8532,SMALL(IF(اقساط!$G$3:$G$8532=B504,ROW($AT$3:$AT$8532)-ROW($AT$3)+1),ROWS($A$3:A504))),\"\")","v":0},{"$f":"IFERROR(INDEX(Names,SMALL(IF(Names<>\"\",IF(MID(Names,1,LEN($B$1))=$B$1,ROW(Names)-ROW($G$3)+1)),ROWS($A$1:A502))),\"\")","v":""},{"$f":"IFERROR(INDEX(اقساط!$B$3:$B$8532,SMALL(IF(اقساط!$G$3:$G$8532=B504,ROW($B$3:$B$8532)-ROW($B$3)+1),ROWS($C$3:C504))),\"\")","v":0}]
[{"$f":"IFERROR(INDEX(اقساط!$AT$3:$AT$8532,SMALL(IF(اقساط!$G$3:$G$8532=B505,ROW($AT$3:$AT$8532)-ROW($AT$3)+1),ROWS($A$3:A505))),\"\")","v":0},{"$f":"IFERROR(INDEX(Names,SMALL(IF(Names<>\"\",IF(MID(Names,1,LEN($B$1))=$B$1,ROW(Names)-ROW($G$3)+1)),ROWS($A$1:A503))),\"\")","v":""},{"$f":"IFERROR(INDEX(اقساط!$B$3:$B$8532,SMALL(IF(اقساط!$G$3:$G$8532=B505,ROW($B$3:$B$8532)-ROW($B$3)+1),ROWS($C$3:C505))),\"\")","v":0}]
[{"$f":"IFERROR(INDEX(اقساط!$AT$3:$AT$8532,SMALL(IF(اقساط!$G$3:$G$8532=B506,ROW($AT$3:$AT$8532)-ROW($AT$3)+1),ROWS($A$3:A506))),\"\")","v":0},{"$f":"IFERROR(INDEX(Names,SMALL(IF(Names<>\"\",IF(MID(Names,1,LEN($B$1))=$B$1,ROW(Names)-ROW($G$3)+1)),ROWS($A$1:A504))),\"\")","v":""},{"$f":"IFERROR(INDEX(اقساط!$B$3:$B$8532,SMALL(IF(اقساط!$G$3:$G$8532=B506,ROW($B$3:$B$8532)-ROW($B$3)+1),ROWS($C$3:C506))),\"\")","v":0}]
[{"$f":"IFERROR(INDEX(اقساط!$AT$3:$AT$8532,SMALL(IF(اقساط!$G$3:$G$8532=B507,ROW($AT$3:$AT$8532)-ROW($AT$3)+1),ROWS($A$3:A507))),\"\")","v":0},{"$f":"IFERROR(INDEX(Names,SMALL(IF(Names<>\"\",IF(MID(Names,1,LEN($B$1))=$B$1,ROW(Names)-ROW($G$3)+1)),ROWS($A$1:A505))),\"\")","v":""},{"$f":"IFERROR(INDEX(اقساط!$B$3:$B$8532,SMALL(IF(اقساط!$G$3:$G$8532=B507,ROW($B$3:$B$8532)-ROW($B$3)+1),ROWS($C$3:C507))),\"\")","v":0}]
[{"$f":"IFERROR(INDEX(اقساط!$AT$3:$AT$8532,SMALL(IF(اقساط!$G$3:$G$8532=B508,ROW($AT$3:$AT$8532)-ROW($AT$3)+1),ROWS($A$3:A508))),\"\")","v":0},{"$f":"IFERROR(INDEX(Names,SMALL(IF(Names<>\"\",IF(MID(Names,1,LEN($B$1))=$B$1,ROW(Names)-ROW($G$3)+1)),ROWS($A$1:A506))),\"\")","v":""},{"$f":"IFERROR(INDEX(اقساط!$B$3:$B$8532,SMALL(IF(اقساط!$G$3:$G$8532=B508,ROW($B$3:$B$8532)-ROW($B$3)+1),ROWS($C$3:C508))),\"\")","v":0}]
[{"$f":"IFERROR(INDEX(اقساط!$AT$3:$AT$8532,SMALL(IF(اقساط!$G$3:$G$8532=B509,ROW($AT$3:$AT$8532)-ROW($AT$3)+1),ROWS($A$3:A509))),\"\")","v":0},{"$f":"IFERROR(INDEX(Names,SMALL(IF(Names<>\"\",IF(MID(Names,1,LEN($B$1))=$B$1,ROW(Names)-ROW($G$3)+1)),ROWS($A$1:A507))),\"\")","v":""},{"$f":"IFERROR(INDEX(اقساط!$B$3:$B$8532,SMALL(IF(اقساط!$G$3:$G$8532=B509,ROW($B$3:$B$8532)-ROW($B$3)+1),ROWS($C$3:C509))),\"\")","v":0}]
[{"$f":"IFERROR(INDEX(اقساط!$AT$3:$AT$8532,SMALL(IF(اقساط!$G$3:$G$8532=B510,ROW($AT$3:$AT$8532)-ROW($AT$3)+1),ROWS($A$3:A510))),\"\")","v":0},{"$f":"IFERROR(INDEX(Names,SMALL(IF(Names<>\"\",IF(MID(Names,1,LEN($B$1))=$B$1,ROW(Names)-ROW($G$3)+1)),ROWS($A$1:A508))),\"\")","v":""},{"$f":"IFERROR(INDEX(اقساط!$B$3:$B$8532,SMALL(IF(اقساط!$G$3:$G$8532=B510,ROW($B$3:$B$8532)-ROW($B$3)+1),ROWS($C$3:C510))),\"\")","v":0}]
[{"$f":"IFERROR(INDEX(اقساط!$AT$3:$AT$8532,SMALL(IF(اقساط!$G$3:$G$8532=B511,ROW($AT$3:$AT$8532)-ROW($AT$3)+1),ROWS($A$3:A511))),\"\")","v":0},{"$f":"IFERROR(INDEX(Names,SMALL(IF(Names<>\"\",IF(MID(Names,1,LEN($B$1))=$B$1,ROW(Names)-ROW($G$3)+1)),ROWS($A$1:A509))),\"\")","v":""},{"$f":"IFERROR(INDEX(اقساط!$B$3:$B$8532,SMALL(IF(اقساط!$G$3:$G$8532=B511,ROW($B$3:$B$8532)-ROW($B$3)+1),ROWS($C$3:C511))),\"\")","v":0}]
[{"$f":"IFERROR(INDEX(اقساط!$AT$3:$AT$8532,SMALL(IF(اقساط!$G$3:$G$8532=B512,ROW($AT$3:$AT$8532)-ROW($AT$3)+1),ROWS($A$3:A512))),\"\")","v":0},{"$f":"IFERROR(INDEX(Names,SMALL(IF(Names<>\"\",IF(MID(Names,1,LEN($B$1))=$B$1,ROW(Names)-ROW($G$3)+1)),ROWS($A$1:A510))),\"\")","v":""},{"$f":"IFERROR(INDEX(اقساط!$B$3:$B$8532,SMALL(IF(اقساط!$G$3:$G$8532=B512,ROW($B$3:$B$8532)-ROW($B$3)+1),ROWS($C$3:C512))),\"\")","v":0}]
[{"$f":"IFERROR(INDEX(اقساط!$AT$3:$AT$8532,SMALL(IF(اقساط!$G$3:$G$8532=B513,ROW($AT$3:$AT$8532)-ROW($AT$3)+1),ROWS($A$3:A513))),\"\")","v":0},{"$f":"IFERROR(INDEX(Names,SMALL(IF(Names<>\"\",IF(MID(Names,1,LEN($B$1))=$B$1,ROW(Names)-ROW($G$3)+1)),ROWS($A$1:A511))),\"\")","v":""},{"$f":"IFERROR(INDEX(اقساط!$B$3:$B$8532,SMALL(IF(اقساط!$G$3:$G$8532=B513,ROW($B$3:$B$8532)-ROW($B$3)+1),ROWS($C$3:C513))),\"\")","v":0}]
[{"$f":"IFERROR(INDEX(اقساط!$AT$3:$AT$8532,SMALL(IF(اقساط!$G$3:$G$8532=B514,ROW($AT$3:$AT$8532)-ROW($AT$3)+1),ROWS($A$3:A514))),\"\")","v":0},{"$f":"IFERROR(INDEX(Names,SMALL(IF(Names<>\"\",IF(MID(Names,1,LEN($B$1))=$B$1,ROW(Names)-ROW($G$3)+1)),ROWS($A$1:A512))),\"\")","v":""},{"$f":"IFERROR(INDEX(اقساط!$B$3:$B$8532,SMALL(IF(اقساط!$G$3:$G$8532=B514,ROW($B$3:$B$8532)-ROW($B$3)+1),ROWS($C$3:C514))),\"\")","v":0}]
[{"$f":"IFERROR(INDEX(اقساط!$AT$3:$AT$8532,SMALL(IF(اقساط!$G$3:$G$8532=B515,ROW($AT$3:$AT$8532)-ROW($AT$3)+1),ROWS($A$3:A515))),\"\")","v":0},{"$f":"IFERROR(INDEX(Names,SMALL(IF(Names<>\"\",IF(MID(Names,1,LEN($B$1))=$B$1,ROW(Names)-ROW($G$3)+1)),ROWS($A$1:A513))),\"\")","v":""},{"$f":"IFERROR(INDEX(اقساط!$B$3:$B$8532,SMALL(IF(اقساط!$G$3:$G$8532=B515,ROW($B$3:$B$8532)-ROW($B$3)+1),ROWS($C$3:C515))),\"\")","v":0}]
[{"$f":"IFERROR(INDEX(اقساط!$AT$3:$AT$8532,SMALL(IF(اقساط!$G$3:$G$8532=B516,ROW($AT$3:$AT$8532)-ROW($AT$3)+1),ROWS($A$3:A516))),\"\")","v":0},{"$f":"IFERROR(INDEX(Names,SMALL(IF(Names<>\"\",IF(MID(Names,1,LEN($B$1))=$B$1,ROW(Names)-ROW($G$3)+1)),ROWS($A$1:A514))),\"\")","v":""},{"$f":"IFERROR(INDEX(اقساط!$B$3:$B$8532,SMALL(IF(اقساط!$G$3:$G$8532=B516,ROW($B$3:$B$8532)-ROW($B$3)+1),ROWS($C$3:C516))),\"\")","v":0}]
[{"$f":"IFERROR(INDEX(اقساط!$AT$3:$AT$8532,SMALL(IF(اقساط!$G$3:$G$8532=B517,ROW($AT$3:$AT$8532)-ROW($AT$3)+1),ROWS($A$3:A517))),\"\")","v":0},{"$f":"IFERROR(INDEX(Names,SMALL(IF(Names<>\"\",IF(MID(Names,1,LEN($B$1))=$B$1,ROW(Names)-ROW($G$3)+1)),ROWS($A$1:A515))),\"\")","v":""},{"$f":"IFERROR(INDEX(اقساط!$B$3:$B$8532,SMALL(IF(اقساط!$G$3:$G$8532=B517,ROW($B$3:$B$8532)-ROW($B$3)+1),ROWS($C$3:C517))),\"\")","v":0}]
[{"$f":"IFERROR(INDEX(اقساط!$AT$3:$AT$8532,SMALL(IF(اقساط!$G$3:$G$8532=B518,ROW($AT$3:$AT$8532)-ROW($AT$3)+1),ROWS($A$3:A518))),\"\")","v":0},{"$f":"IFERROR(INDEX(Names,SMALL(IF(Names<>\"\",IF(MID(Names,1,LEN($B$1))=$B$1,ROW(Names)-ROW($G$3)+1)),ROWS($A$1:A516))),\"\")","v":""},{"$f":"IFERROR(INDEX(اقساط!$B$3:$B$8532,SMALL(IF(اقساط!$G$3:$G$8532=B518,ROW($B$3:$B$8532)-ROW($B$3)+1),ROWS($C$3:C518))),\"\")","v":0}]
[{"$f":"IFERROR(INDEX(اقساط!$AT$3:$AT$8532,SMALL(IF(اقساط!$G$3:$G$8532=B519,ROW($AT$3:$AT$8532)-ROW($AT$3)+1),ROWS($A$3:A519))),\"\")","v":0},{"$f":"IFERROR(INDEX(Names,SMALL(IF(Names<>\"\",IF(MID(Names,1,LEN($B$1))=$B$1,ROW(Names)-ROW($G$3)+1)),ROWS($A$1:A517))),\"\")","v":""},{"$f":"IFERROR(INDEX(اقساط!$B$3:$B$8532,SMALL(IF(اقساط!$G$3:$G$8532=B519,ROW($B$3:$B$8532)-ROW($B$3)+1),ROWS($C$3:C519))),\"\")","v":0}]
[{"$f":"IFERROR(INDEX(اقساط!$AT$3:$AT$8532,SMALL(IF(اقساط!$G$3:$G$8532=B520,ROW($AT$3:$AT$8532)-ROW($AT$3)+1),ROWS($A$3:A520))),\"\")","v":0},{"$f":"IFERROR(INDEX(Names,SMALL(IF(Names<>\"\",IF(MID(Names,1,LEN($B$1))=$B$1,ROW(Names)-ROW($G$3)+1)),ROWS($A$1:A518))),\"\")","v":""},{"$f":"IFERROR(INDEX(اقساط!$B$3:$B$8532,SMALL(IF(اقساط!$G$3:$G$8532=B520,ROW($B$3:$B$8532)-ROW($B$3)+1),ROWS($C$3:C520))),\"\")","v":0}]
[{"$f":"IFERROR(INDEX(اقساط!$AT$3:$AT$8532,SMALL(IF(اقساط!$G$3:$G$8532=B521,ROW($AT$3:$AT$8532)-ROW($AT$3)+1),ROWS($A$3:A521))),\"\")","v":0},{"$f":"IFERROR(INDEX(Names,SMALL(IF(Names<>\"\",IF(MID(Names,1,LEN($B$1))=$B$1,ROW(Names)-ROW($G$3)+1)),ROWS($A$1:A519))),\"\")","v":""},{"$f":"IFERROR(INDEX(اقساط!$B$3:$B$8532,SMALL(IF(اقساط!$G$3:$G$8532=B521,ROW($B$3:$B$8532)-ROW($B$3)+1),ROWS($C$3:C521))),\"\")","v":0}]
[{"$f":"IFERROR(INDEX(اقساط!$AT$3:$AT$8532,SMALL(IF(اقساط!$G$3:$G$8532=B522,ROW($AT$3:$AT$8532)-ROW($AT$3)+1),ROWS($A$3:A522))),\"\")","v":0},{"$f":"IFERROR(INDEX(Names,SMALL(IF(Names<>\"\",IF(MID(Names,1,LEN($B$1))=$B$1,ROW(Names)-ROW($G$3)+1)),ROWS($A$1:A520))),\"\")","v":""},{"$f":"IFERROR(INDEX(اقساط!$B$3:$B$8532,SMALL(IF(اقساط!$G$3:$G$8532=B522,ROW($B$3:$B$8532)-ROW($B$3)+1),ROWS($C$3:C522))),\"\")","v":0}]
[{"$f":"IFERROR(INDEX(اقساط!$AT$3:$AT$8532,SMALL(IF(اقساط!$G$3:$G$8532=B523,ROW($AT$3:$AT$8532)-ROW($AT$3)+1),ROWS($A$3:A523))),\"\")","v":0},{"$f":"IFERROR(INDEX(Names,SMALL(IF(Names<>\"\",IF(MID(Names,1,LEN($B$1))=$B$1,ROW(Names)-ROW($G$3)+1)),ROWS($A$1:A521))),\"\")","v":""},{"$f":"IFERROR(INDEX(اقساط!$B$3:$B$8532,SMALL(IF(اقساط!$G$3:$G$8532=B523,ROW($B$3:$B$8532)-ROW($B$3)+1),ROWS($C$3:C523))),\"\")","v":0}]
[{"$f":"IFERROR(INDEX(اقساط!$AT$3:$AT$8532,SMALL(IF(اقساط!$G$3:$G$8532=B524,ROW($AT$3:$AT$8532)-ROW($AT$3)+1),ROWS($A$3:A524))),\"\")","v":0},{"$f":"IFERROR(INDEX(Names,SMALL(IF(Names<>\"\",IF(MID(Names,1,LEN($B$1))=$B$1,ROW(Names)-ROW($G$3)+1)),ROWS($A$1:A522))),\"\")","v":""},{"$f":"IFERROR(INDEX(اقساط!$B$3:$B$8532,SMALL(IF(اقساط!$G$3:$G$8532=B524,ROW($B$3:$B$8532)-ROW($B$3)+1),ROWS($C$3:C524))),\"\")","v":0}]
[{"$f":"IFERROR(INDEX(اقساط!$AT$3:$AT$8532,SMALL(IF(اقساط!$G$3:$G$8532=B525,ROW($AT$3:$AT$8532)-ROW($AT$3)+1),ROWS($A$3:A525))),\"\")","v":0},{"$f":"IFERROR(INDEX(Names,SMALL(IF(Names<>\"\",IF(MID(Names,1,LEN($B$1))=$B$1,ROW(Names)-ROW($G$3)+1)),ROWS($A$1:A523))),\"\")","v":""},{"$f":"IFERROR(INDEX(اقساط!$B$3:$B$8532,SMALL(IF(اقساط!$G$3:$G$8532=B525,ROW($B$3:$B$8532)-ROW($B$3)+1),ROWS($C$3:C525))),\"\")","v":0}]
[{"$f":"IFERROR(INDEX(اقساط!$AT$3:$AT$8532,SMALL(IF(اقساط!$G$3:$G$8532=B526,ROW($AT$3:$AT$8532)-ROW($AT$3)+1),ROWS($A$3:A526))),\"\")","v":0},{"$f":"IFERROR(INDEX(Names,SMALL(IF(Names<>\"\",IF(MID(Names,1,LEN($B$1))=$B$1,ROW(Names)-ROW($G$3)+1)),ROWS($A$1:A524))),\"\")","v":""},{"$f":"IFERROR(INDEX(اقساط!$B$3:$B$8532,SMALL(IF(اقساط!$G$3:$G$8532=B526,ROW($B$3:$B$8532)-ROW($B$3)+1),ROWS($C$3:C526))),\"\")","v":0}]
[{"$f":"IFERROR(INDEX(اقساط!$AT$3:$AT$8532,SMALL(IF(اقساط!$G$3:$G$8532=B527,ROW($AT$3:$AT$8532)-ROW($AT$3)+1),ROWS($A$3:A527))),\"\")","v":0},{"$f":"IFERROR(INDEX(Names,SMALL(IF(Names<>\"\",IF(MID(Names,1,LEN($B$1))=$B$1,ROW(Names)-ROW($G$3)+1)),ROWS($A$1:A525))),\"\")","v":""},{"$f":"IFERROR(INDEX(اقساط!$B$3:$B$8532,SMALL(IF(اقساط!$G$3:$G$8532=B527,ROW($B$3:$B$8532)-ROW($B$3)+1),ROWS($C$3:C527))),\"\")","v":0}]
[{"$f":"IFERROR(INDEX(اقساط!$AT$3:$AT$8532,SMALL(IF(اقساط!$G$3:$G$8532=B528,ROW($AT$3:$AT$8532)-ROW($AT$3)+1),ROWS($A$3:A528))),\"\")","v":0},{"$f":"IFERROR(INDEX(Names,SMALL(IF(Names<>\"\",IF(MID(Names,1,LEN($B$1))=$B$1,ROW(Names)-ROW($G$3)+1)),ROWS($A$1:A526))),\"\")","v":""},{"$f":"IFERROR(INDEX(اقساط!$B$3:$B$8532,SMALL(IF(اقساط!$G$3:$G$8532=B528,ROW($B$3:$B$8532)-ROW($B$3)+1),ROWS($C$3:C528))),\"\")","v":0}]
[{"$f":"IFERROR(INDEX(اقساط!$AT$3:$AT$8532,SMALL(IF(اقساط!$G$3:$G$8532=B529,ROW($AT$3:$AT$8532)-ROW($AT$3)+1),ROWS($A$3:A529))),\"\")","v":0},{"$f":"IFERROR(INDEX(Names,SMALL(IF(Names<>\"\",IF(MID(Names,1,LEN($B$1))=$B$1,ROW(Names)-ROW($G$3)+1)),ROWS($A$1:A527))),\"\")","v":""},{"$f":"IFERROR(INDEX(اقساط!$B$3:$B$8532,SMALL(IF(اقساط!$G$3:$G$8532=B529,ROW($B$3:$B$8532)-ROW($B$3)+1),ROWS($C$3:C529))),\"\")","v":0}]
[{"$f":"IFERROR(INDEX(اقساط!$AT$3:$AT$8532,SMALL(IF(اقساط!$G$3:$G$8532=B530,ROW($AT$3:$AT$8532)-ROW($AT$3)+1),ROWS($A$3:A530))),\"\")","v":0},{"$f":"IFERROR(INDEX(Names,SMALL(IF(Names<>\"\",IF(MID(Names,1,LEN($B$1))=$B$1,ROW(Names)-ROW($G$3)+1)),ROWS($A$1:A528))),\"\")","v":""},{"$f":"IFERROR(INDEX(اقساط!$B$3:$B$8532,SMALL(IF(اقساط!$G$3:$G$8532=B530,ROW($B$3:$B$8532)-ROW($B$3)+1),ROWS($C$3:C530))),\"\")","v":0}]
[{"$f":"IFERROR(INDEX(اقساط!$AT$3:$AT$8532,SMALL(IF(اقساط!$G$3:$G$8532=B531,ROW($AT$3:$AT$8532)-ROW($AT$3)+1),ROWS($A$3:A531))),\"\")","v":0},{"$f":"IFERROR(INDEX(Names,SMALL(IF(Names<>\"\",IF(MID(Names,1,LEN($B$1))=$B$1,ROW(Names)-ROW($G$3)+1)),ROWS($A$1:A529))),\"\")","v":""},{"$f":"IFERROR(INDEX(اقساط!$B$3:$B$8532,SMALL(IF(اقساط!$G$3:$G$8532=B531,ROW($B$3:$B$8532)-ROW($B$3)+1),ROWS($C$3:C531))),\"\")","v":0}]
[{"$f":"IFERROR(INDEX(اقساط!$AT$3:$AT$8532,SMALL(IF(اقساط!$G$3:$G$8532=B532,ROW($AT$3:$AT$8532)-ROW($AT$3)+1),ROWS($A$3:A532))),\"\")","v":0},{"$f":"IFERROR(INDEX(Names,SMALL(IF(Names<>\"\",IF(MID(Names,1,LEN($B$1))=$B$1,ROW(Names)-ROW($G$3)+1)),ROWS($A$1:A530))),\"\")","v":""},{"$f":"IFERROR(INDEX(اقساط!$B$3:$B$8532,SMALL(IF(اقساط!$G$3:$G$8532=B532,ROW($B$3:$B$8532)-ROW($B$3)+1),ROWS($C$3:C532))),\"\")","v":0}]
[{"$f":"IFERROR(INDEX(اقساط!$AT$3:$AT$8532,SMALL(IF(اقساط!$G$3:$G$8532=B533,ROW($AT$3:$AT$8532)-ROW($AT$3)+1),ROWS($A$3:A533))),\"\")","v":0},{"$f":"IFERROR(INDEX(Names,SMALL(IF(Names<>\"\",IF(MID(Names,1,LEN($B$1))=$B$1,ROW(Names)-ROW($G$3)+1)),ROWS($A$1:A531))),\"\")","v":""},{"$f":"IFERROR(INDEX(اقساط!$B$3:$B$8532,SMALL(IF(اقساط!$G$3:$G$8532=B533,ROW($B$3:$B$8532)-ROW($B$3)+1),ROWS($C$3:C533))),\"\")","v":0}]
[{"$f":"IFERROR(INDEX(اقساط!$AT$3:$AT$8532,SMALL(IF(اقساط!$G$3:$G$8532=B534,ROW($AT$3:$AT$8532)-ROW($AT$3)+1),ROWS($A$3:A534))),\"\")","v":0},{"$f":"IFERROR(INDEX(Names,SMALL(IF(Names<>\"\",IF(MID(Names,1,LEN($B$1))=$B$1,ROW(Names)-ROW($G$3)+1)),ROWS($A$1:A532))),\"\")","v":""},{"$f":"IFERROR(INDEX(اقساط!$B$3:$B$8532,SMALL(IF(اقساط!$G$3:$G$8532=B534,ROW($B$3:$B$8532)-ROW($B$3)+1),ROWS($C$3:C534))),\"\")","v":0}]
[{"$f":"IFERROR(INDEX(اقساط!$AT$3:$AT$8532,SMALL(IF(اقساط!$G$3:$G$8532=B535,ROW($AT$3:$AT$8532)-ROW($AT$3)+1),ROWS($A$3:A535))),\"\")","v":0},{"$f":"IFERROR(INDEX(Names,SMALL(IF(Names<>\"\",IF(MID(Names,1,LEN($B$1))=$B$1,ROW(Names)-ROW($G$3)+1)),ROWS($A$1:A533))),\"\")","v":""},{"$f":"IFERROR(INDEX(اقساط!$B$3:$B$8532,SMALL(IF(اقساط!$G$3:$G$8532=B535,ROW($B$3:$B$8532)-ROW($B$3)+1),ROWS($C$3:C535))),\"\")","v":0}]
[{"$f":"IFERROR(INDEX(اقساط!$AT$3:$AT$8532,SMALL(IF(اقساط!$G$3:$G$8532=B536,ROW($AT$3:$AT$8532)-ROW($AT$3)+1),ROWS($A$3:A536))),\"\")","v":0},{"$f":"IFERROR(INDEX(Names,SMALL(IF(Names<>\"\",IF(MID(Names,1,LEN($B$1))=$B$1,ROW(Names)-ROW($G$3)+1)),ROWS($A$1:A534))),\"\")","v":""},{"$f":"IFERROR(INDEX(اقساط!$B$3:$B$8532,SMALL(IF(اقساط!$G$3:$G$8532=B536,ROW($B$3:$B$8532)-ROW($B$3)+1),ROWS($C$3:C536))),\"\")","v":0}]
[{"$f":"IFERROR(INDEX(اقساط!$AT$3:$AT$8532,SMALL(IF(اقساط!$G$3:$G$8532=B537,ROW($AT$3:$AT$8532)-ROW($AT$3)+1),ROWS($A$3:A537))),\"\")","v":0},{"$f":"IFERROR(INDEX(Names,SMALL(IF(Names<>\"\",IF(MID(Names,1,LEN($B$1))=$B$1,ROW(Names)-ROW($G$3)+1)),ROWS($A$1:A535))),\"\")","v":""},{"$f":"IFERROR(INDEX(اقساط!$B$3:$B$8532,SMALL(IF(اقساط!$G$3:$G$8532=B537,ROW($B$3:$B$8532)-ROW($B$3)+1),ROWS($C$3:C537))),\"\")","v":0}]
[{"$f":"IFERROR(INDEX(اقساط!$AT$3:$AT$8532,SMALL(IF(اقساط!$G$3:$G$8532=B538,ROW($AT$3:$AT$8532)-ROW($AT$3)+1),ROWS($A$3:A538))),\"\")","v":0},{"$f":"IFERROR(INDEX(Names,SMALL(IF(Names<>\"\",IF(MID(Names,1,LEN($B$1))=$B$1,ROW(Names)-ROW($G$3)+1)),ROWS($A$1:A536))),\"\")","v":""},{"$f":"IFERROR(INDEX(اقساط!$B$3:$B$8532,SMALL(IF(اقساط!$G$3:$G$8532=B538,ROW($B$3:$B$8532)-ROW($B$3)+1),ROWS($C$3:C538))),\"\")","v":0}]
[{"$f":"IFERROR(INDEX(اقساط!$AT$3:$AT$8532,SMALL(IF(اقساط!$G$3:$G$8532=B539,ROW($AT$3:$AT$8532)-ROW($AT$3)+1),ROWS($A$3:A539))),\"\")","v":0},{"$f":"IFERROR(INDEX(Names,SMALL(IF(Names<>\"\",IF(MID(Names,1,LEN($B$1))=$B$1,ROW(Names)-ROW($G$3)+1)),ROWS($A$1:A537))),\"\")","v":""},{"$f":"IFERROR(INDEX(اقساط!$B$3:$B$8532,SMALL(IF(اقساط!$G$3:$G$8532=B539,ROW($B$3:$B$8532)-ROW($B$3)+1),ROWS($C$3:C539))),\"\")","v":0}]
[{"$f":"IFERROR(INDEX(اقساط!$AT$3:$AT$8532,SMALL(IF(اقساط!$G$3:$G$8532=B540,ROW($AT$3:$AT$8532)-ROW($AT$3)+1),ROWS($A$3:A540))),\"\")","v":0},{"$f":"IFERROR(INDEX(Names,SMALL(IF(Names<>\"\",IF(MID(Names,1,LEN($B$1))=$B$1,ROW(Names)-ROW($G$3)+1)),ROWS($A$1:A538))),\"\")","v":""},{"$f":"IFERROR(INDEX(اقساط!$B$3:$B$8532,SMALL(IF(اقساط!$G$3:$G$8532=B540,ROW($B$3:$B$8532)-ROW($B$3)+1),ROWS($C$3:C540))),\"\")","v":0}]
[{"$f":"IFERROR(INDEX(اقساط!$AT$3:$AT$8532,SMALL(IF(اقساط!$G$3:$G$8532=B541,ROW($AT$3:$AT$8532)-ROW($AT$3)+1),ROWS($A$3:A541))),\"\")","v":0},{"$f":"IFERROR(INDEX(Names,SMALL(IF(Names<>\"\",IF(MID(Names,1,LEN($B$1))=$B$1,ROW(Names)-ROW($G$3)+1)),ROWS($A$1:A539))),\"\")","v":""},{"$f":"IFERROR(INDEX(اقساط!$B$3:$B$8532,SMALL(IF(اقساط!$G$3:$G$8532=B541,ROW($B$3:$B$8532)-ROW($B$3)+1),ROWS($C$3:C541))),\"\")","v":0}]
[{"$f":"IFERROR(INDEX(اقساط!$AT$3:$AT$8532,SMALL(IF(اقساط!$G$3:$G$8532=B542,ROW($AT$3:$AT$8532)-ROW($AT$3)+1),ROWS($A$3:A542))),\"\")","v":0},{"$f":"IFERROR(INDEX(Names,SMALL(IF(Names<>\"\",IF(MID(Names,1,LEN($B$1))=$B$1,ROW(Names)-ROW($G$3)+1)),ROWS($A$1:A540))),\"\")","v":""},{"$f":"IFERROR(INDEX(اقساط!$B$3:$B$8532,SMALL(IF(اقساط!$G$3:$G$8532=B542,ROW($B$3:$B$8532)-ROW($B$3)+1),ROWS($C$3:C542))),\"\")","v":0}]
[{"$f":"IFERROR(INDEX(اقساط!$AT$3:$AT$8532,SMALL(IF(اقساط!$G$3:$G$8532=B543,ROW($AT$3:$AT$8532)-ROW($AT$3)+1),ROWS($A$3:A543))),\"\")","v":0},{"$f":"IFERROR(INDEX(Names,SMALL(IF(Names<>\"\",IF(MID(Names,1,LEN($B$1))=$B$1,ROW(Names)-ROW($G$3)+1)),ROWS($A$1:A541))),\"\")","v":""},{"$f":"IFERROR(INDEX(اقساط!$B$3:$B$8532,SMALL(IF(اقساط!$G$3:$G$8532=B543,ROW($B$3:$B$8532)-ROW($B$3)+1),ROWS($C$3:C543))),\"\")","v":0}]
[{"$f":"IFERROR(INDEX(اقساط!$AT$3:$AT$8532,SMALL(IF(اقساط!$G$3:$G$8532=B544,ROW($AT$3:$AT$8532)-ROW($AT$3)+1),ROWS($A$3:A544))),\"\")","v":0},{"$f":"IFERROR(INDEX(Names,SMALL(IF(Names<>\"\",IF(MID(Names,1,LEN($B$1))=$B$1,ROW(Names)-ROW($G$3)+1)),ROWS($A$1:A542))),\"\")","v":""},{"$f":"IFERROR(INDEX(اقساط!$B$3:$B$8532,SMALL(IF(اقساط!$G$3:$G$8532=B544,ROW($B$3:$B$8532)-ROW($B$3)+1),ROWS($C$3:C544))),\"\")","v":0}]
[{"$f":"IFERROR(INDEX(اقساط!$AT$3:$AT$8532,SMALL(IF(اقساط!$G$3:$G$8532=B545,ROW($AT$3:$AT$8532)-ROW($AT$3)+1),ROWS($A$3:A545))),\"\")","v":0},{"$f":"IFERROR(INDEX(Names,SMALL(IF(Names<>\"\",IF(MID(Names,1,LEN($B$1))=$B$1,ROW(Names)-ROW($G$3)+1)),ROWS($A$1:A543))),\"\")","v":""},{"$f":"IFERROR(INDEX(اقساط!$B$3:$B$8532,SMALL(IF(اقساط!$G$3:$G$8532=B545,ROW($B$3:$B$8532)-ROW($B$3)+1),ROWS($C$3:C545))),\"\")","v":0}]
[{"$f":"IFERROR(INDEX(اقساط!$AT$3:$AT$8532,SMALL(IF(اقساط!$G$3:$G$8532=B546,ROW($AT$3:$AT$8532)-ROW($AT$3)+1),ROWS($A$3:A546))),\"\")","v":0},{"$f":"IFERROR(INDEX(Names,SMALL(IF(Names<>\"\",IF(MID(Names,1,LEN($B$1))=$B$1,ROW(Names)-ROW($G$3)+1)),ROWS($A$1:A544))),\"\")","v":""},{"$f":"IFERROR(INDEX(اقساط!$B$3:$B$8532,SMALL(IF(اقساط!$G$3:$G$8532=B546,ROW($B$3:$B$8532)-ROW($B$3)+1),ROWS($C$3:C546))),\"\")","v":0}]
[{"$f":"IFERROR(INDEX(اقساط!$AT$3:$AT$8532,SMALL(IF(اقساط!$G$3:$G$8532=B547,ROW($AT$3:$AT$8532)-ROW($AT$3)+1),ROWS($A$3:A547))),\"\")","v":0},{"$f":"IFERROR(INDEX(Names,SMALL(IF(Names<>\"\",IF(MID(Names,1,LEN($B$1))=$B$1,ROW(Names)-ROW($G$3)+1)),ROWS($A$1:A545))),\"\")","v":""},{"$f":"IFERROR(INDEX(اقساط!$B$3:$B$8532,SMALL(IF(اقساط!$G$3:$G$8532=B547,ROW($B$3:$B$8532)-ROW($B$3)+1),ROWS($C$3:C547))),\"\")","v":0}]
[{"$f":"IFERROR(INDEX(اقساط!$AT$3:$AT$8532,SMALL(IF(اقساط!$G$3:$G$8532=B548,ROW($AT$3:$AT$8532)-ROW($AT$3)+1),ROWS($A$3:A548))),\"\")","v":0},{"$f":"IFERROR(INDEX(Names,SMALL(IF(Names<>\"\",IF(MID(Names,1,LEN($B$1))=$B$1,ROW(Names)-ROW($G$3)+1)),ROWS($A$1:A546))),\"\")","v":""},{"$f":"IFERROR(INDEX(اقساط!$B$3:$B$8532,SMALL(IF(اقساط!$G$3:$G$8532=B548,ROW($B$3:$B$8532)-ROW($B$3)+1),ROWS($C$3:C548))),\"\")","v":0}]
[{"$f":"IFERROR(INDEX(اقساط!$AT$3:$AT$8532,SMALL(IF(اقساط!$G$3:$G$8532=B549,ROW($AT$3:$AT$8532)-ROW($AT$3)+1),ROWS($A$3:A549))),\"\")","v":0},{"$f":"IFERROR(INDEX(Names,SMALL(IF(Names<>\"\",IF(MID(Names,1,LEN($B$1))=$B$1,ROW(Names)-ROW($G$3)+1)),ROWS($A$1:A547))),\"\")","v":""},{"$f":"IFERROR(INDEX(اقساط!$B$3:$B$8532,SMALL(IF(اقساط!$G$3:$G$8532=B549,ROW($B$3:$B$8532)-ROW($B$3)+1),ROWS($C$3:C549))),\"\")","v":0}]
[{"$f":"IFERROR(INDEX(اقساط!$AT$3:$AT$8532,SMALL(IF(اقساط!$G$3:$G$8532=B550,ROW($AT$3:$AT$8532)-ROW($AT$3)+1),ROWS($A$3:A550))),\"\")","v":0},{"$f":"IFERROR(INDEX(Names,SMALL(IF(Names<>\"\",IF(MID(Names,1,LEN($B$1))=$B$1,ROW(Names)-ROW($G$3)+1)),ROWS($A$1:A548))),\"\")","v":""},{"$f":"IFERROR(INDEX(اقساط!$B$3:$B$8532,SMALL(IF(اقساط!$G$3:$G$8532=B550,ROW($B$3:$B$8532)-ROW($B$3)+1),ROWS($C$3:C550))),\"\")","v":0}]
[{"$f":"IFERROR(INDEX(اقساط!$AT$3:$AT$8532,SMALL(IF(اقساط!$G$3:$G$8532=B551,ROW($AT$3:$AT$8532)-ROW($AT$3)+1),ROWS($A$3:A551))),\"\")","v":0},{"$f":"IFERROR(INDEX(Names,SMALL(IF(Names<>\"\",IF(MID(Names,1,LEN($B$1))=$B$1,ROW(Names)-ROW($G$3)+1)),ROWS($A$1:A549))),\"\")","v":""},{"$f":"IFERROR(INDEX(اقساط!$B$3:$B$8532,SMALL(IF(اقساط!$G$3:$G$8532=B551,ROW($B$3:$B$8532)-ROW($B$3)+1),ROWS($C$3:C551))),\"\")","v":0}]
[{"$f":"IFERROR(INDEX(اقساط!$AT$3:$AT$8532,SMALL(IF(اقساط!$G$3:$G$8532=B552,ROW($AT$3:$AT$8532)-ROW($AT$3)+1),ROWS($A$3:A552))),\"\")","v":0},{"$f":"IFERROR(INDEX(Names,SMALL(IF(Names<>\"\",IF(MID(Names,1,LEN($B$1))=$B$1,ROW(Names)-ROW($G$3)+1)),ROWS($A$1:A550))),\"\")","v":""},{"$f":"IFERROR(INDEX(اقساط!$B$3:$B$8532,SMALL(IF(اقساط!$G$3:$G$8532=B552,ROW($B$3:$B$8532)-ROW($B$3)+1),ROWS($C$3:C552))),\"\")","v":0}]
[{"$f":"IFERROR(INDEX(اقساط!$AT$3:$AT$8532,SMALL(IF(اقساط!$G$3:$G$8532=B553,ROW($AT$3:$AT$8532)-ROW($AT$3)+1),ROWS($A$3:A553))),\"\")","v":0},{"$f":"IFERROR(INDEX(Names,SMALL(IF(Names<>\"\",IF(MID(Names,1,LEN($B$1))=$B$1,ROW(Names)-ROW($G$3)+1)),ROWS($A$1:A551))),\"\")","v":""},{"$f":"IFERROR(INDEX(اقساط!$B$3:$B$8532,SMALL(IF(اقساط!$G$3:$G$8532=B553,ROW($B$3:$B$8532)-ROW($B$3)+1),ROWS($C$3:C553))),\"\")","v":0}]
[{"$f":"IFERROR(INDEX(اقساط!$AT$3:$AT$8532,SMALL(IF(اقساط!$G$3:$G$8532=B554,ROW($AT$3:$AT$8532)-ROW($AT$3)+1),ROWS($A$3:A554))),\"\")","v":0},{"$f":"IFERROR(INDEX(Names,SMALL(IF(Names<>\"\",IF(MID(Names,1,LEN($B$1))=$B$1,ROW(Names)-ROW($G$3)+1)),ROWS($A$1:A552))),\"\")","v":""},{"$f":"IFERROR(INDEX(اقساط!$B$3:$B$8532,SMALL(IF(اقساط!$G$3:$G$8532=B554,ROW($B$3:$B$8532)-ROW($B$3)+1),ROWS($C$3:C554))),\"\")","v":0}]
[{"$f":"IFERROR(INDEX(اقساط!$AT$3:$AT$8532,SMALL(IF(اقساط!$G$3:$G$8532=B555,ROW($AT$3:$AT$8532)-ROW($AT$3)+1),ROWS($A$3:A555))),\"\")","v":0},{"$f":"IFERROR(INDEX(Names,SMALL(IF(Names<>\"\",IF(MID(Names,1,LEN($B$1))=$B$1,ROW(Names)-ROW($G$3)+1)),ROWS($A$1:A553))),\"\")","v":""},{"$f":"IFERROR(INDEX(اقساط!$B$3:$B$8532,SMALL(IF(اقساط!$G$3:$G$8532=B555,ROW($B$3:$B$8532)-ROW($B$3)+1),ROWS($C$3:C555))),\"\")","v":0}]
[{"$f":"IFERROR(INDEX(اقساط!$AT$3:$AT$8532,SMALL(IF(اقساط!$G$3:$G$8532=B556,ROW($AT$3:$AT$8532)-ROW($AT$3)+1),ROWS($A$3:A556))),\"\")","v":0},{"$f":"IFERROR(INDEX(Names,SMALL(IF(Names<>\"\",IF(MID(Names,1,LEN($B$1))=$B$1,ROW(Names)-ROW($G$3)+1)),ROWS($A$1:A554))),\"\")","v":""},{"$f":"IFERROR(INDEX(اقساط!$B$3:$B$8532,SMALL(IF(اقساط!$G$3:$G$8532=B556,ROW($B$3:$B$8532)-ROW($B$3)+1),ROWS($C$3:C556))),\"\")","v":0}]
[{"$f":"IFERROR(INDEX(اقساط!$AT$3:$AT$8532,SMALL(IF(اقساط!$G$3:$G$8532=B557,ROW($AT$3:$AT$8532)-ROW($AT$3)+1),ROWS($A$3:A557))),\"\")","v":0},{"$f":"IFERROR(INDEX(Names,SMALL(IF(Names<>\"\",IF(MID(Names,1,LEN($B$1))=$B$1,ROW(Names)-ROW($G$3)+1)),ROWS($A$1:A555))),\"\")","v":""},{"$f":"IFERROR(INDEX(اقساط!$B$3:$B$8532,SMALL(IF(اقساط!$G$3:$G$8532=B557,ROW($B$3:$B$8532)-ROW($B$3)+1),ROWS($C$3:C557))),\"\")","v":0}]
[{"$f":"IFERROR(INDEX(اقساط!$AT$3:$AT$8532,SMALL(IF(اقساط!$G$3:$G$8532=B558,ROW($AT$3:$AT$8532)-ROW($AT$3)+1),ROWS($A$3:A558))),\"\")","v":0},{"$f":"IFERROR(INDEX(Names,SMALL(IF(Names<>\"\",IF(MID(Names,1,LEN($B$1))=$B$1,ROW(Names)-ROW($G$3)+1)),ROWS($A$1:A556))),\"\")","v":""},{"$f":"IFERROR(INDEX(اقساط!$B$3:$B$8532,SMALL(IF(اقساط!$G$3:$G$8532=B558,ROW($B$3:$B$8532)-ROW($B$3)+1),ROWS($C$3:C558))),\"\")","v":0}]
[{"$f":"IFERROR(INDEX(اقساط!$AT$3:$AT$8532,SMALL(IF(اقساط!$G$3:$G$8532=B559,ROW($AT$3:$AT$8532)-ROW($AT$3)+1),ROWS($A$3:A559))),\"\")","v":0},{"$f":"IFERROR(INDEX(Names,SMALL(IF(Names<>\"\",IF(MID(Names,1,LEN($B$1))=$B$1,ROW(Names)-ROW($G$3)+1)),ROWS($A$1:A557))),\"\")","v":""},{"$f":"IFERROR(INDEX(اقساط!$B$3:$B$8532,SMALL(IF(اقساط!$G$3:$G$8532=B559,ROW($B$3:$B$8532)-ROW($B$3)+1),ROWS($C$3:C559))),\"\")","v":0}]
[{"$f":"IFERROR(INDEX(اقساط!$AT$3:$AT$8532,SMALL(IF(اقساط!$G$3:$G$8532=B560,ROW($AT$3:$AT$8532)-ROW($AT$3)+1),ROWS($A$3:A560))),\"\")","v":0},{"$f":"IFERROR(INDEX(Names,SMALL(IF(Names<>\"\",IF(MID(Names,1,LEN($B$1))=$B$1,ROW(Names)-ROW($G$3)+1)),ROWS($A$1:A558))),\"\")","v":""},{"$f":"IFERROR(INDEX(اقساط!$B$3:$B$8532,SMALL(IF(اقساط!$G$3:$G$8532=B560,ROW($B$3:$B$8532)-ROW($B$3)+1),ROWS($C$3:C560))),\"\")","v":0}]
[{"$f":"IFERROR(INDEX(اقساط!$AT$3:$AT$8532,SMALL(IF(اقساط!$G$3:$G$8532=B561,ROW($AT$3:$AT$8532)-ROW($AT$3)+1),ROWS($A$3:A561))),\"\")","v":0},{"$f":"IFERROR(INDEX(Names,SMALL(IF(Names<>\"\",IF(MID(Names,1,LEN($B$1))=$B$1,ROW(Names)-ROW($G$3)+1)),ROWS($A$1:A559))),\"\")","v":""},{"$f":"IFERROR(INDEX(اقساط!$B$3:$B$8532,SMALL(IF(اقساط!$G$3:$G$8532=B561,ROW($B$3:$B$8532)-ROW($B$3)+1),ROWS($C$3:C561))),\"\")","v":0}]
[{"$f":"IFERROR(INDEX(اقساط!$AT$3:$AT$8532,SMALL(IF(اقساط!$G$3:$G$8532=B562,ROW($AT$3:$AT$8532)-ROW($AT$3)+1),ROWS($A$3:A562))),\"\")","v":0},{"$f":"IFERROR(INDEX(Names,SMALL(IF(Names<>\"\",IF(MID(Names,1,LEN($B$1))=$B$1,ROW(Names)-ROW($G$3)+1)),ROWS($A$1:A560))),\"\")","v":""},{"$f":"IFERROR(INDEX(اقساط!$B$3:$B$8532,SMALL(IF(اقساط!$G$3:$G$8532=B562,ROW($B$3:$B$8532)-ROW($B$3)+1),ROWS($C$3:C562))),\"\")","v":0}]
[{"$f":"IFERROR(INDEX(اقساط!$AT$3:$AT$8532,SMALL(IF(اقساط!$G$3:$G$8532=B563,ROW($AT$3:$AT$8532)-ROW($AT$3)+1),ROWS($A$3:A563))),\"\")","v":0},{"$f":"IFERROR(INDEX(Names,SMALL(IF(Names<>\"\",IF(MID(Names,1,LEN($B$1))=$B$1,ROW(Names)-ROW($G$3)+1)),ROWS($A$1:A561))),\"\")","v":""},{"$f":"IFERROR(INDEX(اقساط!$B$3:$B$8532,SMALL(IF(اقساط!$G$3:$G$8532=B563,ROW($B$3:$B$8532)-ROW($B$3)+1),ROWS($C$3:C563))),\"\")","v":0}]
[{"$f":"IFERROR(INDEX(اقساط!$AT$3:$AT$8532,SMALL(IF(اقساط!$G$3:$G$8532=B564,ROW($AT$3:$AT$8532)-ROW($AT$3)+1),ROWS($A$3:A564))),\"\")","v":0},{"$f":"IFERROR(INDEX(Names,SMALL(IF(Names<>\"\",IF(MID(Names,1,LEN($B$1))=$B$1,ROW(Names)-ROW($G$3)+1)),ROWS($A$1:A562))),\"\")","v":""},{"$f":"IFERROR(INDEX(اقساط!$B$3:$B$8532,SMALL(IF(اقساط!$G$3:$G$8532=B564,ROW($B$3:$B$8532)-ROW($B$3)+1),ROWS($C$3:C564))),\"\")","v":0}]
[{"$f":"IFERROR(INDEX(اقساط!$AT$3:$AT$8532,SMALL(IF(اقساط!$G$3:$G$8532=B565,ROW($AT$3:$AT$8532)-ROW($AT$3)+1),ROWS($A$3:A565))),\"\")","v":0},{"$f":"IFERROR(INDEX(Names,SMALL(IF(Names<>\"\",IF(MID(Names,1,LEN($B$1))=$B$1,ROW(Names)-ROW($G$3)+1)),ROWS($A$1:A563))),\"\")","v":""},{"$f":"IFERROR(INDEX(اقساط!$B$3:$B$8532,SMALL(IF(اقساط!$G$3:$G$8532=B565,ROW($B$3:$B$8532)-ROW($B$3)+1),ROWS($C$3:C565))),\"\")","v":0}]
[{"$f":"IFERROR(INDEX(اقساط!$AT$3:$AT$8532,SMALL(IF(اقساط!$G$3:$G$8532=B566,ROW($AT$3:$AT$8532)-ROW($AT$3)+1),ROWS($A$3:A566))),\"\")","v":0},{"$f":"IFERROR(INDEX(Names,SMALL(IF(Names<>\"\",IF(MID(Names,1,LEN($B$1))=$B$1,ROW(Names)-ROW($G$3)+1)),ROWS($A$1:A564))),\"\")","v":""},{"$f":"IFERROR(INDEX(اقساط!$B$3:$B$8532,SMALL(IF(اقساط!$G$3:$G$8532=B566,ROW($B$3:$B$8532)-ROW($B$3)+1),ROWS($C$3:C566))),\"\")","v":0}]
[{"$f":"IFERROR(INDEX(اقساط!$AT$3:$AT$8532,SMALL(IF(اقساط!$G$3:$G$8532=B567,ROW($AT$3:$AT$8532)-ROW($AT$3)+1),ROWS($A$3:A567))),\"\")","v":0},{"$f":"IFERROR(INDEX(Names,SMALL(IF(Names<>\"\",IF(MID(Names,1,LEN($B$1))=$B$1,ROW(Names)-ROW($G$3)+1)),ROWS($A$1:A565))),\"\")","v":""},{"$f":"IFERROR(INDEX(اقساط!$B$3:$B$8532,SMALL(IF(اقساط!$G$3:$G$8532=B567,ROW($B$3:$B$8532)-ROW($B$3)+1),ROWS($C$3:C567))),\"\")","v":0}]
[{"$f":"IFERROR(INDEX(اقساط!$AT$3:$AT$8532,SMALL(IF(اقساط!$G$3:$G$8532=B568,ROW($AT$3:$AT$8532)-ROW($AT$3)+1),ROWS($A$3:A568))),\"\")","v":0},{"$f":"IFERROR(INDEX(Names,SMALL(IF(Names<>\"\",IF(MID(Names,1,LEN($B$1))=$B$1,ROW(Names)-ROW($G$3)+1)),ROWS($A$1:A566))),\"\")","v":""},{"$f":"IFERROR(INDEX(اقساط!$B$3:$B$8532,SMALL(IF(اقساط!$G$3:$G$8532=B568,ROW($B$3:$B$8532)-ROW($B$3)+1),ROWS($C$3:C568))),\"\")","v":0}]
[{"$f":"IFERROR(INDEX(اقساط!$AT$3:$AT$8532,SMALL(IF(اقساط!$G$3:$G$8532=B569,ROW($AT$3:$AT$8532)-ROW($AT$3)+1),ROWS($A$3:A569))),\"\")","v":0},{"$f":"IFERROR(INDEX(Names,SMALL(IF(Names<>\"\",IF(MID(Names,1,LEN($B$1))=$B$1,ROW(Names)-ROW($G$3)+1)),ROWS($A$1:A567))),\"\")","v":""},{"$f":"IFERROR(INDEX(اقساط!$B$3:$B$8532,SMALL(IF(اقساط!$G$3:$G$8532=B569,ROW($B$3:$B$8532)-ROW($B$3)+1),ROWS($C$3:C569))),\"\")","v":0}]
[{"$f":"IFERROR(INDEX(اقساط!$AT$3:$AT$8532,SMALL(IF(اقساط!$G$3:$G$8532=B570,ROW($AT$3:$AT$8532)-ROW($AT$3)+1),ROWS($A$3:A570))),\"\")","v":0},{"$f":"IFERROR(INDEX(Names,SMALL(IF(Names<>\"\",IF(MID(Names,1,LEN($B$1))=$B$1,ROW(Names)-ROW($G$3)+1)),ROWS($A$1:A568))),\"\")","v":""},{"$f":"IFERROR(INDEX(اقساط!$B$3:$B$8532,SMALL(IF(اقساط!$G$3:$G$8532=B570,ROW($B$3:$B$8532)-ROW($B$3)+1),ROWS($C$3:C570))),\"\")","v":0}]
[{"$f":"IFERROR(INDEX(اقساط!$AT$3:$AT$8532,SMALL(IF(اقساط!$G$3:$G$8532=B571,ROW($AT$3:$AT$8532)-ROW($AT$3)+1),ROWS($A$3:A571))),\"\")","v":0},{"$f":"IFERROR(INDEX(Names,SMALL(IF(Names<>\"\",IF(MID(Names,1,LEN($B$1))=$B$1,ROW(Names)-ROW($G$3)+1)),ROWS($A$1:A569))),\"\")","v":""},{"$f":"IFERROR(INDEX(اقساط!$B$3:$B$8532,SMALL(IF(اقساط!$G$3:$G$8532=B571,ROW($B$3:$B$8532)-ROW($B$3)+1),ROWS($C$3:C571))),\"\")","v":0}]
[{"$f":"IFERROR(INDEX(اقساط!$AT$3:$AT$8532,SMALL(IF(اقساط!$G$3:$G$8532=B572,ROW($AT$3:$AT$8532)-ROW($AT$3)+1),ROWS($A$3:A572))),\"\")","v":0},{"$f":"IFERROR(INDEX(Names,SMALL(IF(Names<>\"\",IF(MID(Names,1,LEN($B$1))=$B$1,ROW(Names)-ROW($G$3)+1)),ROWS($A$1:A570))),\"\")","v":""},{"$f":"IFERROR(INDEX(اقساط!$B$3:$B$8532,SMALL(IF(اقساط!$G$3:$G$8532=B572,ROW($B$3:$B$8532)-ROW($B$3)+1),ROWS($C$3:C572))),\"\")","v":0}]
[{"$f":"IFERROR(INDEX(اقساط!$AT$3:$AT$8532,SMALL(IF(اقساط!$G$3:$G$8532=B573,ROW($AT$3:$AT$8532)-ROW($AT$3)+1),ROWS($A$3:A573))),\"\")","v":0},{"$f":"IFERROR(INDEX(Names,SMALL(IF(Names<>\"\",IF(MID(Names,1,LEN($B$1))=$B$1,ROW(Names)-ROW($G$3)+1)),ROWS($A$1:A571))),\"\")","v":""},{"$f":"IFERROR(INDEX(اقساط!$B$3:$B$8532,SMALL(IF(اقساط!$G$3:$G$8532=B573,ROW($B$3:$B$8532)-ROW($B$3)+1),ROWS($C$3:C573))),\"\")","v":0}]
[{"$f":"IFERROR(INDEX(اقساط!$AT$3:$AT$8532,SMALL(IF(اقساط!$G$3:$G$8532=B574,ROW($AT$3:$AT$8532)-ROW($AT$3)+1),ROWS($A$3:A574))),\"\")","v":0},{"$f":"IFERROR(INDEX(Names,SMALL(IF(Names<>\"\",IF(MID(Names,1,LEN($B$1))=$B$1,ROW(Names)-ROW($G$3)+1)),ROWS($A$1:A572))),\"\")","v":""},{"$f":"IFERROR(INDEX(اقساط!$B$3:$B$8532,SMALL(IF(اقساط!$G$3:$G$8532=B574,ROW($B$3:$B$8532)-ROW($B$3)+1),ROWS($C$3:C574))),\"\")","v":0}]
[{"$f":"IFERROR(INDEX(اقساط!$AT$3:$AT$8532,SMALL(IF(اقساط!$G$3:$G$8532=B575,ROW($AT$3:$AT$8532)-ROW($AT$3)+1),ROWS($A$3:A575))),\"\")","v":0},{"$f":"IFERROR(INDEX(Names,SMALL(IF(Names<>\"\",IF(MID(Names,1,LEN($B$1))=$B$1,ROW(Names)-ROW($G$3)+1)),ROWS($A$1:A573))),\"\")","v":""},{"$f":"IFERROR(INDEX(اقساط!$B$3:$B$8532,SMALL(IF(اقساط!$G$3:$G$8532=B575,ROW($B$3:$B$8532)-ROW($B$3)+1),ROWS($C$3:C575))),\"\")","v":0}]
[{"$f":"IFERROR(INDEX(اقساط!$AT$3:$AT$8532,SMALL(IF(اقساط!$G$3:$G$8532=B576,ROW($AT$3:$AT$8532)-ROW($AT$3)+1),ROWS($A$3:A576))),\"\")","v":0},{"$f":"IFERROR(INDEX(Names,SMALL(IF(Names<>\"\",IF(MID(Names,1,LEN($B$1))=$B$1,ROW(Names)-ROW($G$3)+1)),ROWS($A$1:A574))),\"\")","v":""},{"$f":"IFERROR(INDEX(اقساط!$B$3:$B$8532,SMALL(IF(اقساط!$G$3:$G$8532=B576,ROW($B$3:$B$8532)-ROW($B$3)+1),ROWS($C$3:C576))),\"\")","v":0}]
[{"$f":"IFERROR(INDEX(اقساط!$AT$3:$AT$8532,SMALL(IF(اقساط!$G$3:$G$8532=B577,ROW($AT$3:$AT$8532)-ROW($AT$3)+1),ROWS($A$3:A577))),\"\")","v":0},{"$f":"IFERROR(INDEX(Names,SMALL(IF(Names<>\"\",IF(MID(Names,1,LEN($B$1))=$B$1,ROW(Names)-ROW($G$3)+1)),ROWS($A$1:A575))),\"\")","v":""},{"$f":"IFERROR(INDEX(اقساط!$B$3:$B$8532,SMALL(IF(اقساط!$G$3:$G$8532=B577,ROW($B$3:$B$8532)-ROW($B$3)+1),ROWS($C$3:C577))),\"\")","v":0}]
[{"$f":"IFERROR(INDEX(اقساط!$AT$3:$AT$8532,SMALL(IF(اقساط!$G$3:$G$8532=B578,ROW($AT$3:$AT$8532)-ROW($AT$3)+1),ROWS($A$3:A578))),\"\")","v":0},{"$f":"IFERROR(INDEX(Names,SMALL(IF(Names<>\"\",IF(MID(Names,1,LEN($B$1))=$B$1,ROW(Names)-ROW($G$3)+1)),ROWS($A$1:A576))),\"\")","v":""},{"$f":"IFERROR(INDEX(اقساط!$B$3:$B$8532,SMALL(IF(اقساط!$G$3:$G$8532=B578,ROW($B$3:$B$8532)-ROW($B$3)+1),ROWS($C$3:C578))),\"\")","v":0}]
[{"$f":"IFERROR(INDEX(اقساط!$AT$3:$AT$8532,SMALL(IF(اقساط!$G$3:$G$8532=B579,ROW($AT$3:$AT$8532)-ROW($AT$3)+1),ROWS($A$3:A579))),\"\")","v":0},{"$f":"IFERROR(INDEX(Names,SMALL(IF(Names<>\"\",IF(MID(Names,1,LEN($B$1))=$B$1,ROW(Names)-ROW($G$3)+1)),ROWS($A$1:A577))),\"\")","v":""},{"$f":"IFERROR(INDEX(اقساط!$B$3:$B$8532,SMALL(IF(اقساط!$G$3:$G$8532=B579,ROW($B$3:$B$8532)-ROW($B$3)+1),ROWS($C$3:C579))),\"\")","v":0}]
[{"$f":"IFERROR(INDEX(اقساط!$AT$3:$AT$8532,SMALL(IF(اقساط!$G$3:$G$8532=B580,ROW($AT$3:$AT$8532)-ROW($AT$3)+1),ROWS($A$3:A580))),\"\")","v":0},{"$f":"IFERROR(INDEX(Names,SMALL(IF(Names<>\"\",IF(MID(Names,1,LEN($B$1))=$B$1,ROW(Names)-ROW($G$3)+1)),ROWS($A$1:A578))),\"\")","v":""},{"$f":"IFERROR(INDEX(اقساط!$B$3:$B$8532,SMALL(IF(اقساط!$G$3:$G$8532=B580,ROW($B$3:$B$8532)-ROW($B$3)+1),ROWS($C$3:C580))),\"\")","v":0}]
[{"$f":"IFERROR(INDEX(اقساط!$AT$3:$AT$8532,SMALL(IF(اقساط!$G$3:$G$8532=B581,ROW($AT$3:$AT$8532)-ROW($AT$3)+1),ROWS($A$3:A581))),\"\")","v":0},{"$f":"IFERROR(INDEX(Names,SMALL(IF(Names<>\"\",IF(MID(Names,1,LEN($B$1))=$B$1,ROW(Names)-ROW($G$3)+1)),ROWS($A$1:A579))),\"\")","v":""},{"$f":"IFERROR(INDEX(اقساط!$B$3:$B$8532,SMALL(IF(اقساط!$G$3:$G$8532=B581,ROW($B$3:$B$8532)-ROW($B$3)+1),ROWS($C$3:C581))),\"\")","v":0}]
[{"$f":"IFERROR(INDEX(اقساط!$AT$3:$AT$8532,SMALL(IF(اقساط!$G$3:$G$8532=B582,ROW($AT$3:$AT$8532)-ROW($AT$3)+1),ROWS($A$3:A582))),\"\")","v":0},{"$f":"IFERROR(INDEX(Names,SMALL(IF(Names<>\"\",IF(MID(Names,1,LEN($B$1))=$B$1,ROW(Names)-ROW($G$3)+1)),ROWS($A$1:A580))),\"\")","v":""},{"$f":"IFERROR(INDEX(اقساط!$B$3:$B$8532,SMALL(IF(اقساط!$G$3:$G$8532=B582,ROW($B$3:$B$8532)-ROW($B$3)+1),ROWS($C$3:C582))),\"\")","v":0}]
[{"$f":"IFERROR(INDEX(اقساط!$AT$3:$AT$8532,SMALL(IF(اقساط!$G$3:$G$8532=B583,ROW($AT$3:$AT$8532)-ROW($AT$3)+1),ROWS($A$3:A583))),\"\")","v":0},{"$f":"IFERROR(INDEX(Names,SMALL(IF(Names<>\"\",IF(MID(Names,1,LEN($B$1))=$B$1,ROW(Names)-ROW($G$3)+1)),ROWS($A$1:A581))),\"\")","v":""},{"$f":"IFERROR(INDEX(اقساط!$B$3:$B$8532,SMALL(IF(اقساط!$G$3:$G$8532=B583,ROW($B$3:$B$8532)-ROW($B$3)+1),ROWS($C$3:C583))),\"\")","v":0}]
[{"$f":"IFERROR(INDEX(اقساط!$AT$3:$AT$8532,SMALL(IF(اقساط!$G$3:$G$8532=B584,ROW($AT$3:$AT$8532)-ROW($AT$3)+1),ROWS($A$3:A584))),\"\")","v":0},{"$f":"IFERROR(INDEX(Names,SMALL(IF(Names<>\"\",IF(MID(Names,1,LEN($B$1))=$B$1,ROW(Names)-ROW($G$3)+1)),ROWS($A$1:A582))),\"\")","v":""},{"$f":"IFERROR(INDEX(اقساط!$B$3:$B$8532,SMALL(IF(اقساط!$G$3:$G$8532=B584,ROW($B$3:$B$8532)-ROW($B$3)+1),ROWS($C$3:C584))),\"\")","v":0}]
[{"$f":"IFERROR(INDEX(اقساط!$AT$3:$AT$8532,SMALL(IF(اقساط!$G$3:$G$8532=B585,ROW($AT$3:$AT$8532)-ROW($AT$3)+1),ROWS($A$3:A585))),\"\")","v":0},{"$f":"IFERROR(INDEX(Names,SMALL(IF(Names<>\"\",IF(MID(Names,1,LEN($B$1))=$B$1,ROW(Names)-ROW($G$3)+1)),ROWS($A$1:A583))),\"\")","v":""},{"$f":"IFERROR(INDEX(اقساط!$B$3:$B$8532,SMALL(IF(اقساط!$G$3:$G$8532=B585,ROW($B$3:$B$8532)-ROW($B$3)+1),ROWS($C$3:C585))),\"\")","v":0}]
[{"$f":"IFERROR(INDEX(اقساط!$AT$3:$AT$8532,SMALL(IF(اقساط!$G$3:$G$8532=B586,ROW($AT$3:$AT$8532)-ROW($AT$3)+1),ROWS($A$3:A586))),\"\")","v":0},{"$f":"IFERROR(INDEX(Names,SMALL(IF(Names<>\"\",IF(MID(Names,1,LEN($B$1))=$B$1,ROW(Names)-ROW($G$3)+1)),ROWS($A$1:A584))),\"\")","v":""},{"$f":"IFERROR(INDEX(اقساط!$B$3:$B$8532,SMALL(IF(اقساط!$G$3:$G$8532=B586,ROW($B$3:$B$8532)-ROW($B$3)+1),ROWS($C$3:C586))),\"\")","v":0}]
[{"$f":"IFERROR(INDEX(اقساط!$AT$3:$AT$8532,SMALL(IF(اقساط!$G$3:$G$8532=B587,ROW($AT$3:$AT$8532)-ROW($AT$3)+1),ROWS($A$3:A587))),\"\")","v":0},{"$f":"IFERROR(INDEX(Names,SMALL(IF(Names<>\"\",IF(MID(Names,1,LEN($B$1))=$B$1,ROW(Names)-ROW($G$3)+1)),ROWS($A$1:A585))),\"\")","v":""},{"$f":"IFERROR(INDEX(اقساط!$B$3:$B$8532,SMALL(IF(اقساط!$G$3:$G$8532=B587,ROW($B$3:$B$8532)-ROW($B$3)+1),ROWS($C$3:C587))),\"\")","v":0}]
[{"$f":"IFERROR(INDEX(اقساط!$AT$3:$AT$8532,SMALL(IF(اقساط!$G$3:$G$8532=B588,ROW($AT$3:$AT$8532)-ROW($AT$3)+1),ROWS($A$3:A588))),\"\")","v":0},{"$f":"IFERROR(INDEX(Names,SMALL(IF(Names<>\"\",IF(MID(Names,1,LEN($B$1))=$B$1,ROW(Names)-ROW($G$3)+1)),ROWS($A$1:A586))),\"\")","v":""},{"$f":"IFERROR(INDEX(اقساط!$B$3:$B$8532,SMALL(IF(اقساط!$G$3:$G$8532=B588,ROW($B$3:$B$8532)-ROW($B$3)+1),ROWS($C$3:C588))),\"\")","v":0}]
[{"$f":"IFERROR(INDEX(اقساط!$AT$3:$AT$8532,SMALL(IF(اقساط!$G$3:$G$8532=B589,ROW($AT$3:$AT$8532)-ROW($AT$3)+1),ROWS($A$3:A589))),\"\")","v":0},{"$f":"IFERROR(INDEX(Names,SMALL(IF(Names<>\"\",IF(MID(Names,1,LEN($B$1))=$B$1,ROW(Names)-ROW($G$3)+1)),ROWS($A$1:A587))),\"\")","v":""},{"$f":"IFERROR(INDEX(اقساط!$B$3:$B$8532,SMALL(IF(اقساط!$G$3:$G$8532=B589,ROW($B$3:$B$8532)-ROW($B$3)+1),ROWS($C$3:C589))),\"\")","v":0}]
[{"$f":"IFERROR(INDEX(اقساط!$AT$3:$AT$8532,SMALL(IF(اقساط!$G$3:$G$8532=B590,ROW($AT$3:$AT$8532)-ROW($AT$3)+1),ROWS($A$3:A590))),\"\")","v":0},{"$f":"IFERROR(INDEX(Names,SMALL(IF(Names<>\"\",IF(MID(Names,1,LEN($B$1))=$B$1,ROW(Names)-ROW($G$3)+1)),ROWS($A$1:A588))),\"\")","v":""},{"$f":"IFERROR(INDEX(اقساط!$B$3:$B$8532,SMALL(IF(اقساط!$G$3:$G$8532=B590,ROW($B$3:$B$8532)-ROW($B$3)+1),ROWS($C$3:C590))),\"\")","v":0}]
[{"$f":"IFERROR(INDEX(اقساط!$AT$3:$AT$8532,SMALL(IF(اقساط!$G$3:$G$8532=B591,ROW($AT$3:$AT$8532)-ROW($AT$3)+1),ROWS($A$3:A591))),\"\")","v":0},{"$f":"IFERROR(INDEX(Names,SMALL(IF(Names<>\"\",IF(MID(Names,1,LEN($B$1))=$B$1,ROW(Names)-ROW($G$3)+1)),ROWS($A$1:A589))),\"\")","v":""},{"$f":"IFERROR(INDEX(اقساط!$B$3:$B$8532,SMALL(IF(اقساط!$G$3:$G$8532=B591,ROW($B$3:$B$8532)-ROW($B$3)+1),ROWS($C$3:C591))),\"\")","v":0}]
[{"$f":"IFERROR(INDEX(اقساط!$AT$3:$AT$8532,SMALL(IF(اقساط!$G$3:$G$8532=B592,ROW($AT$3:$AT$8532)-ROW($AT$3)+1),ROWS($A$3:A592))),\"\")","v":0},{"$f":"IFERROR(INDEX(Names,SMALL(IF(Names<>\"\",IF(MID(Names,1,LEN($B$1))=$B$1,ROW(Names)-ROW($G$3)+1)),ROWS($A$1:A590))),\"\")","v":""},{"$f":"IFERROR(INDEX(اقساط!$B$3:$B$8532,SMALL(IF(اقساط!$G$3:$G$8532=B592,ROW($B$3:$B$8532)-ROW($B$3)+1),ROWS($C$3:C592))),\"\")","v":0}]
[{"$f":"IFERROR(INDEX(اقساط!$AT$3:$AT$8532,SMALL(IF(اقساط!$G$3:$G$8532=B593,ROW($AT$3:$AT$8532)-ROW($AT$3)+1),ROWS($A$3:A593))),\"\")","v":0},{"$f":"IFERROR(INDEX(Names,SMALL(IF(Names<>\"\",IF(MID(Names,1,LEN($B$1))=$B$1,ROW(Names)-ROW($G$3)+1)),ROWS($A$1:A591))),\"\")","v":""},{"$f":"IFERROR(INDEX(اقساط!$B$3:$B$8532,SMALL(IF(اقساط!$G$3:$G$8532=B593,ROW($B$3:$B$8532)-ROW($B$3)+1),ROWS($C$3:C593))),\"\")","v":0}]
[{"$f":"IFERROR(INDEX(اقساط!$AT$3:$AT$8532,SMALL(IF(اقساط!$G$3:$G$8532=B594,ROW($AT$3:$AT$8532)-ROW($AT$3)+1),ROWS($A$3:A594))),\"\")","v":0},{"$f":"IFERROR(INDEX(Names,SMALL(IF(Names<>\"\",IF(MID(Names,1,LEN($B$1))=$B$1,ROW(Names)-ROW($G$3)+1)),ROWS($A$1:A592))),\"\")","v":""},{"$f":"IFERROR(INDEX(اقساط!$B$3:$B$8532,SMALL(IF(اقساط!$G$3:$G$8532=B594,ROW($B$3:$B$8532)-ROW($B$3)+1),ROWS($C$3:C594))),\"\")","v":0}]
[{"$f":"IFERROR(INDEX(اقساط!$AT$3:$AT$8532,SMALL(IF(اقساط!$G$3:$G$8532=B595,ROW($AT$3:$AT$8532)-ROW($AT$3)+1),ROWS($A$3:A595))),\"\")","v":0},{"$f":"IFERROR(INDEX(Names,SMALL(IF(Names<>\"\",IF(MID(Names,1,LEN($B$1))=$B$1,ROW(Names)-ROW($G$3)+1)),ROWS($A$1:A593))),\"\")","v":""},{"$f":"IFERROR(INDEX(اقساط!$B$3:$B$8532,SMALL(IF(اقساط!$G$3:$G$8532=B595,ROW($B$3:$B$8532)-ROW($B$3)+1),ROWS($C$3:C595))),\"\")","v":0}]
[{"$f":"IFERROR(INDEX(اقساط!$AT$3:$AT$8532,SMALL(IF(اقساط!$G$3:$G$8532=B596,ROW($AT$3:$AT$8532)-ROW($AT$3)+1),ROWS($A$3:A596))),\"\")","v":0},{"$f":"IFERROR(INDEX(Names,SMALL(IF(Names<>\"\",IF(MID(Names,1,LEN($B$1))=$B$1,ROW(Names)-ROW($G$3)+1)),ROWS($A$1:A594))),\"\")","v":""},{"$f":"IFERROR(INDEX(اقساط!$B$3:$B$8532,SMALL(IF(اقساط!$G$3:$G$8532=B596,ROW($B$3:$B$8532)-ROW($B$3)+1),ROWS($C$3:C596))),\"\")","v":0}]
[{"$f":"IFERROR(INDEX(اقساط!$AT$3:$AT$8532,SMALL(IF(اقساط!$G$3:$G$8532=B597,ROW($AT$3:$AT$8532)-ROW($AT$3)+1),ROWS($A$3:A597))),\"\")","v":0},{"$f":"IFERROR(INDEX(Names,SMALL(IF(Names<>\"\",IF(MID(Names,1,LEN($B$1))=$B$1,ROW(Names)-ROW($G$3)+1)),ROWS($A$1:A595))),\"\")","v":""},{"$f":"IFERROR(INDEX(اقساط!$B$3:$B$8532,SMALL(IF(اقساط!$G$3:$G$8532=B597,ROW($B$3:$B$8532)-ROW($B$3)+1),ROWS($C$3:C597))),\"\")","v":0}]
[{"$f":"IFERROR(INDEX(اقساط!$AT$3:$AT$8532,SMALL(IF(اقساط!$G$3:$G$8532=B598,ROW($AT$3:$AT$8532)-ROW($AT$3)+1),ROWS($A$3:A598))),\"\")","v":0},{"$f":"IFERROR(INDEX(Names,SMALL(IF(Names<>\"\",IF(MID(Names,1,LEN($B$1))=$B$1,ROW(Names)-ROW($G$3)+1)),ROWS($A$1:A596))),\"\")","v":""},{"$f":"IFERROR(INDEX(اقساط!$B$3:$B$8532,SMALL(IF(اقساط!$G$3:$G$8532=B598,ROW($B$3:$B$8532)-ROW($B$3)+1),ROWS($C$3:C598))),\"\")","v":0}]
[{"$f":"IFERROR(INDEX(اقساط!$AT$3:$AT$8532,SMALL(IF(اقساط!$G$3:$G$8532=B599,ROW($AT$3:$AT$8532)-ROW($AT$3)+1),ROWS($A$3:A599))),\"\")","v":0},{"$f":"IFERROR(INDEX(Names,SMALL(IF(Names<>\"\",IF(MID(Names,1,LEN($B$1))=$B$1,ROW(Names)-ROW($G$3)+1)),ROWS($A$1:A597))),\"\")","v":""},{"$f":"IFERROR(INDEX(اقساط!$B$3:$B$8532,SMALL(IF(اقساط!$G$3:$G$8532=B599,ROW($B$3:$B$8532)-ROW($B$3)+1),ROWS($C$3:C599))),\"\")","v":0}]
[{"$f":"IFERROR(INDEX(اقساط!$AT$3:$AT$8532,SMALL(IF(اقساط!$G$3:$G$8532=B600,ROW($AT$3:$AT$8532)-ROW($AT$3)+1),ROWS($A$3:A600))),\"\")","v":0},{"$f":"IFERROR(INDEX(Names,SMALL(IF(Names<>\"\",IF(MID(Names,1,LEN($B$1))=$B$1,ROW(Names)-ROW($G$3)+1)),ROWS($A$1:A598))),\"\")","v":""},{"$f":"IFERROR(INDEX(اقساط!$B$3:$B$8532,SMALL(IF(اقساط!$G$3:$G$8532=B600,ROW($B$3:$B$8532)-ROW($B$3)+1),ROWS($C$3:C600))),\"\")","v":0}]
[{"$f":"IFERROR(INDEX(اقساط!$AT$3:$AT$8532,SMALL(IF(اقساط!$G$3:$G$8532=B601,ROW($AT$3:$AT$8532)-ROW($AT$3)+1),ROWS($A$3:A601))),\"\")","v":0},{"$f":"IFERROR(INDEX(Names,SMALL(IF(Names<>\"\",IF(MID(Names,1,LEN($B$1))=$B$1,ROW(Names)-ROW($G$3)+1)),ROWS($A$1:A599))),\"\")","v":""},{"$f":"IFERROR(INDEX(اقساط!$B$3:$B$8532,SMALL(IF(اقساط!$G$3:$G$8532=B601,ROW($B$3:$B$8532)-ROW($B$3)+1),ROWS($C$3:C601))),\"\")","v":0}]
[{"$f":"IFERROR(INDEX(اقساط!$AT$3:$AT$8532,SMALL(IF(اقساط!$G$3:$G$8532=B602,ROW($AT$3:$AT$8532)-ROW($AT$3)+1),ROWS($A$3:A602))),\"\")","v":0},{"$f":"IFERROR(INDEX(Names,SMALL(IF(Names<>\"\",IF(MID(Names,1,LEN($B$1))=$B$1,ROW(Names)-ROW($G$3)+1)),ROWS($A$1:A600))),\"\")","v":""},{"$f":"IFERROR(INDEX(اقساط!$B$3:$B$8532,SMALL(IF(اقساط!$G$3:$G$8532=B602,ROW($B$3:$B$8532)-ROW($B$3)+1),ROWS($C$3:C602))),\"\")","v":0}]
[{"$f":"IFERROR(INDEX(اقساط!$AT$3:$AT$8532,SMALL(IF(اقساط!$G$3:$G$8532=B603,ROW($AT$3:$AT$8532)-ROW($AT$3)+1),ROWS($A$3:A603))),\"\")","v":0},{"$f":"IFERROR(INDEX(Names,SMALL(IF(Names<>\"\",IF(MID(Names,1,LEN($B$1))=$B$1,ROW(Names)-ROW($G$3)+1)),ROWS($A$1:A601))),\"\")","v":""},{"$f":"IFERROR(INDEX(اقساط!$B$3:$B$8532,SMALL(IF(اقساط!$G$3:$G$8532=B603,ROW($B$3:$B$8532)-ROW($B$3)+1),ROWS($C$3:C603))),\"\")","v":0}]
[{"$f":"IFERROR(INDEX(اقساط!$AT$3:$AT$8532,SMALL(IF(اقساط!$G$3:$G$8532=B604,ROW($AT$3:$AT$8532)-ROW($AT$3)+1),ROWS($A$3:A604))),\"\")","v":0},{"$f":"IFERROR(INDEX(Names,SMALL(IF(Names<>\"\",IF(MID(Names,1,LEN($B$1))=$B$1,ROW(Names)-ROW($G$3)+1)),ROWS($A$1:A602))),\"\")","v":""},{"$f":"IFERROR(INDEX(اقساط!$B$3:$B$8532,SMALL(IF(اقساط!$G$3:$G$8532=B604,ROW($B$3:$B$8532)-ROW($B$3)+1),ROWS($C$3:C604))),\"\")","v":0}]
[{"$f":"IFERROR(INDEX(اقساط!$AT$3:$AT$8532,SMALL(IF(اقساط!$G$3:$G$8532=B605,ROW($AT$3:$AT$8532)-ROW($AT$3)+1),ROWS($A$3:A605))),\"\")","v":0},{"$f":"IFERROR(INDEX(Names,SMALL(IF(Names<>\"\",IF(MID(Names,1,LEN($B$1))=$B$1,ROW(Names)-ROW($G$3)+1)),ROWS($A$1:A603))),\"\")","v":""},{"$f":"IFERROR(INDEX(اقساط!$B$3:$B$8532,SMALL(IF(اقساط!$G$3:$G$8532=B605,ROW($B$3:$B$8532)-ROW($B$3)+1),ROWS($C$3:C605))),\"\")","v":0}]
[{"$f":"IFERROR(INDEX(اقساط!$AT$3:$AT$8532,SMALL(IF(اقساط!$G$3:$G$8532=B606,ROW($AT$3:$AT$8532)-ROW($AT$3)+1),ROWS($A$3:A606))),\"\")","v":0},{"$f":"IFERROR(INDEX(Names,SMALL(IF(Names<>\"\",IF(MID(Names,1,LEN($B$1))=$B$1,ROW(Names)-ROW($G$3)+1)),ROWS($A$1:A604))),\"\")","v":""},{"$f":"IFERROR(INDEX(اقساط!$B$3:$B$8532,SMALL(IF(اقساط!$G$3:$G$8532=B606,ROW($B$3:$B$8532)-ROW($B$3)+1),ROWS($C$3:C606))),\"\")","v":0}]
[{"$f":"IFERROR(INDEX(اقساط!$AT$3:$AT$8532,SMALL(IF(اقساط!$G$3:$G$8532=B607,ROW($AT$3:$AT$8532)-ROW($AT$3)+1),ROWS($A$3:A607))),\"\")","v":0},{"$f":"IFERROR(INDEX(Names,SMALL(IF(Names<>\"\",IF(MID(Names,1,LEN($B$1))=$B$1,ROW(Names)-ROW($G$3)+1)),ROWS($A$1:A605))),\"\")","v":""},{"$f":"IFERROR(INDEX(اقساط!$B$3:$B$8532,SMALL(IF(اقساط!$G$3:$G$8532=B607,ROW($B$3:$B$8532)-ROW($B$3)+1),ROWS($C$3:C607))),\"\")","v":0}]
[{"$f":"IFERROR(INDEX(اقساط!$AT$3:$AT$8532,SMALL(IF(اقساط!$G$3:$G$8532=B608,ROW($AT$3:$AT$8532)-ROW($AT$3)+1),ROWS($A$3:A608))),\"\")","v":0},{"$f":"IFERROR(INDEX(Names,SMALL(IF(Names<>\"\",IF(MID(Names,1,LEN($B$1))=$B$1,ROW(Names)-ROW($G$3)+1)),ROWS($A$1:A606))),\"\")","v":""},{"$f":"IFERROR(INDEX(اقساط!$B$3:$B$8532,SMALL(IF(اقساط!$G$3:$G$8532=B608,ROW($B$3:$B$8532)-ROW($B$3)+1),ROWS($C$3:C608))),\"\")","v":0}]
[{"$f":"IFERROR(INDEX(اقساط!$AT$3:$AT$8532,SMALL(IF(اقساط!$G$3:$G$8532=B609,ROW($AT$3:$AT$8532)-ROW($AT$3)+1),ROWS($A$3:A609))),\"\")","v":0},{"$f":"IFERROR(INDEX(Names,SMALL(IF(Names<>\"\",IF(MID(Names,1,LEN($B$1))=$B$1,ROW(Names)-ROW($G$3)+1)),ROWS($A$1:A607))),\"\")","v":""},{"$f":"IFERROR(INDEX(اقساط!$B$3:$B$8532,SMALL(IF(اقساط!$G$3:$G$8532=B609,ROW($B$3:$B$8532)-ROW($B$3)+1),ROWS($C$3:C609))),\"\")","v":0}]
[{"$f":"IFERROR(INDEX(اقساط!$AT$3:$AT$8532,SMALL(IF(اقساط!$G$3:$G$8532=B610,ROW($AT$3:$AT$8532)-ROW($AT$3)+1),ROWS($A$3:A610))),\"\")","v":0},{"$f":"IFERROR(INDEX(Names,SMALL(IF(Names<>\"\",IF(MID(Names,1,LEN($B$1))=$B$1,ROW(Names)-ROW($G$3)+1)),ROWS($A$1:A608))),\"\")","v":""},{"$f":"IFERROR(INDEX(اقساط!$B$3:$B$8532,SMALL(IF(اقساط!$G$3:$G$8532=B610,ROW($B$3:$B$8532)-ROW($B$3)+1),ROWS($C$3:C610))),\"\")","v":0}]
[{"$f":"IFERROR(INDEX(اقساط!$AT$3:$AT$8532,SMALL(IF(اقساط!$G$3:$G$8532=B611,ROW($AT$3:$AT$8532)-ROW($AT$3)+1),ROWS($A$3:A611))),\"\")","v":0},{"$f":"IFERROR(INDEX(Names,SMALL(IF(Names<>\"\",IF(MID(Names,1,LEN($B$1))=$B$1,ROW(Names)-ROW($G$3)+1)),ROWS($A$1:A609))),\"\")","v":""},{"$f":"IFERROR(INDEX(اقساط!$B$3:$B$8532,SMALL(IF(اقساط!$G$3:$G$8532=B611,ROW($B$3:$B$8532)-ROW($B$3)+1),ROWS($C$3:C611))),\"\")","v":0}]
[{"$f":"IFERROR(INDEX(اقساط!$AT$3:$AT$8532,SMALL(IF(اقساط!$G$3:$G$8532=B612,ROW($AT$3:$AT$8532)-ROW($AT$3)+1),ROWS($A$3:A612))),\"\")","v":0},{"$f":"IFERROR(INDEX(Names,SMALL(IF(Names<>\"\",IF(MID(Names,1,LEN($B$1))=$B$1,ROW(Names)-ROW($G$3)+1)),ROWS($A$1:A610))),\"\")","v":""},{"$f":"IFERROR(INDEX(اقساط!$B$3:$B$8532,SMALL(IF(اقساط!$G$3:$G$8532=B612,ROW($B$3:$B$8532)-ROW($B$3)+1),ROWS($C$3:C612))),\"\")","v":0}]
[{"$f":"IFERROR(INDEX(اقساط!$AT$3:$AT$8532,SMALL(IF(اقساط!$G$3:$G$8532=B613,ROW($AT$3:$AT$8532)-ROW($AT$3)+1),ROWS($A$3:A613))),\"\")","v":0},{"$f":"IFERROR(INDEX(Names,SMALL(IF(Names<>\"\",IF(MID(Names,1,LEN($B$1))=$B$1,ROW(Names)-ROW($G$3)+1)),ROWS($A$1:A611))),\"\")","v":""},{"$f":"IFERROR(INDEX(اقساط!$B$3:$B$8532,SMALL(IF(اقساط!$G$3:$G$8532=B613,ROW($B$3:$B$8532)-ROW($B$3)+1),ROWS($C$3:C613))),\"\")","v":0}]
[{"$f":"IFERROR(INDEX(اقساط!$AT$3:$AT$8532,SMALL(IF(اقساط!$G$3:$G$8532=B614,ROW($AT$3:$AT$8532)-ROW($AT$3)+1),ROWS($A$3:A614))),\"\")","v":0},{"$f":"IFERROR(INDEX(Names,SMALL(IF(Names<>\"\",IF(MID(Names,1,LEN($B$1))=$B$1,ROW(Names)-ROW($G$3)+1)),ROWS($A$1:A612))),\"\")","v":""},{"$f":"IFERROR(INDEX(اقساط!$B$3:$B$8532,SMALL(IF(اقساط!$G$3:$G$8532=B614,ROW($B$3:$B$8532)-ROW($B$3)+1),ROWS($C$3:C614))),\"\")","v":0}]
[{"$f":"IFERROR(INDEX(اقساط!$AT$3:$AT$8532,SMALL(IF(اقساط!$G$3:$G$8532=B615,ROW($AT$3:$AT$8532)-ROW($AT$3)+1),ROWS($A$3:A615))),\"\")","v":0},{"$f":"IFERROR(INDEX(Names,SMALL(IF(Names<>\"\",IF(MID(Names,1,LEN($B$1))=$B$1,ROW(Names)-ROW($G$3)+1)),ROWS($A$1:A613))),\"\")","v":""},{"$f":"IFERROR(INDEX(اقساط!$B$3:$B$8532,SMALL(IF(اقساط!$G$3:$G$8532=B615,ROW($B$3:$B$8532)-ROW($B$3)+1),ROWS($C$3:C615))),\"\")","v":0}]
[{"$f":"IFERROR(INDEX(اقساط!$AT$3:$AT$8532,SMALL(IF(اقساط!$G$3:$G$8532=B616,ROW($AT$3:$AT$8532)-ROW($AT$3)+1),ROWS($A$3:A616))),\"\")","v":0},{"$f":"IFERROR(INDEX(Names,SMALL(IF(Names<>\"\",IF(MID(Names,1,LEN($B$1))=$B$1,ROW(Names)-ROW($G$3)+1)),ROWS($A$1:A614))),\"\")","v":""},{"$f":"IFERROR(INDEX(اقساط!$B$3:$B$8532,SMALL(IF(اقساط!$G$3:$G$8532=B616,ROW($B$3:$B$8532)-ROW($B$3)+1),ROWS($C$3:C616))),\"\")","v":0}]
[{"$f":"IFERROR(INDEX(اقساط!$AT$3:$AT$8532,SMALL(IF(اقساط!$G$3:$G$8532=B617,ROW($AT$3:$AT$8532)-ROW($AT$3)+1),ROWS($A$3:A617))),\"\")","v":0},{"$f":"IFERROR(INDEX(Names,SMALL(IF(Names<>\"\",IF(MID(Names,1,LEN($B$1))=$B$1,ROW(Names)-ROW($G$3)+1)),ROWS($A$1:A615))),\"\")","v":""},{"$f":"IFERROR(INDEX(اقساط!$B$3:$B$8532,SMALL(IF(اقساط!$G$3:$G$8532=B617,ROW($B$3:$B$8532)-ROW($B$3)+1),ROWS($C$3:C617))),\"\")","v":0}]
[{"$f":"IFERROR(INDEX(اقساط!$AT$3:$AT$8532,SMALL(IF(اقساط!$G$3:$G$8532=B618,ROW($AT$3:$AT$8532)-ROW($AT$3)+1),ROWS($A$3:A618))),\"\")","v":0},{"$f":"IFERROR(INDEX(Names,SMALL(IF(Names<>\"\",IF(MID(Names,1,LEN($B$1))=$B$1,ROW(Names)-ROW($G$3)+1)),ROWS($A$1:A616))),\"\")","v":""},{"$f":"IFERROR(INDEX(اقساط!$B$3:$B$8532,SMALL(IF(اقساط!$G$3:$G$8532=B618,ROW($B$3:$B$8532)-ROW($B$3)+1),ROWS($C$3:C618))),\"\")","v":0}]
[{"$f":"IFERROR(INDEX(اقساط!$AT$3:$AT$8532,SMALL(IF(اقساط!$G$3:$G$8532=B619,ROW($AT$3:$AT$8532)-ROW($AT$3)+1),ROWS($A$3:A619))),\"\")","v":0},{"$f":"IFERROR(INDEX(Names,SMALL(IF(Names<>\"\",IF(MID(Names,1,LEN($B$1))=$B$1,ROW(Names)-ROW($G$3)+1)),ROWS($A$1:A617))),\"\")","v":""},{"$f":"IFERROR(INDEX(اقساط!$B$3:$B$8532,SMALL(IF(اقساط!$G$3:$G$8532=B619,ROW($B$3:$B$8532)-ROW($B$3)+1),ROWS($C$3:C619))),\"\")","v":0}]
[{"$f":"IFERROR(INDEX(اقساط!$AT$3:$AT$8532,SMALL(IF(اقساط!$G$3:$G$8532=B620,ROW($AT$3:$AT$8532)-ROW($AT$3)+1),ROWS($A$3:A620))),\"\")","v":0},{"$f":"IFERROR(INDEX(Names,SMALL(IF(Names<>\"\",IF(MID(Names,1,LEN($B$1))=$B$1,ROW(Names)-ROW($G$3)+1)),ROWS($A$1:A618))),\"\")","v":""},{"$f":"IFERROR(INDEX(اقساط!$B$3:$B$8532,SMALL(IF(اقساط!$G$3:$G$8532=B620,ROW($B$3:$B$8532)-ROW($B$3)+1),ROWS($C$3:C620))),\"\")","v":0}]
[{"$f":"IFERROR(INDEX(اقساط!$AT$3:$AT$8532,SMALL(IF(اقساط!$G$3:$G$8532=B621,ROW($AT$3:$AT$8532)-ROW($AT$3)+1),ROWS($A$3:A621))),\"\")","v":0},{"$f":"IFERROR(INDEX(Names,SMALL(IF(Names<>\"\",IF(MID(Names,1,LEN($B$1))=$B$1,ROW(Names)-ROW($G$3)+1)),ROWS($A$1:A619))),\"\")","v":""},{"$f":"IFERROR(INDEX(اقساط!$B$3:$B$8532,SMALL(IF(اقساط!$G$3:$G$8532=B621,ROW($B$3:$B$8532)-ROW($B$3)+1),ROWS($C$3:C621))),\"\")","v":0}]
[{"$f":"IFERROR(INDEX(اقساط!$AT$3:$AT$8532,SMALL(IF(اقساط!$G$3:$G$8532=B622,ROW($AT$3:$AT$8532)-ROW($AT$3)+1),ROWS($A$3:A622))),\"\")","v":0},{"$f":"IFERROR(INDEX(Names,SMALL(IF(Names<>\"\",IF(MID(Names,1,LEN($B$1))=$B$1,ROW(Names)-ROW($G$3)+1)),ROWS($A$1:A620))),\"\")","v":""},{"$f":"IFERROR(INDEX(اقساط!$B$3:$B$8532,SMALL(IF(اقساط!$G$3:$G$8532=B622,ROW($B$3:$B$8532)-ROW($B$3)+1),ROWS($C$3:C622))),\"\")","v":0}]
[{"$f":"IFERROR(INDEX(اقساط!$AT$3:$AT$8532,SMALL(IF(اقساط!$G$3:$G$8532=B623,ROW($AT$3:$AT$8532)-ROW($AT$3)+1),ROWS($A$3:A623))),\"\")","v":0},{"$f":"IFERROR(INDEX(Names,SMALL(IF(Names<>\"\",IF(MID(Names,1,LEN($B$1))=$B$1,ROW(Names)-ROW($G$3)+1)),ROWS($A$1:A621))),\"\")","v":""},{"$f":"IFERROR(INDEX(اقساط!$B$3:$B$8532,SMALL(IF(اقساط!$G$3:$G$8532=B623,ROW($B$3:$B$8532)-ROW($B$3)+1),ROWS($C$3:C623))),\"\")","v":0}]
[{"$f":"IFERROR(INDEX(اقساط!$AT$3:$AT$8532,SMALL(IF(اقساط!$G$3:$G$8532=B624,ROW($AT$3:$AT$8532)-ROW($AT$3)+1),ROWS($A$3:A624))),\"\")","v":0},{"$f":"IFERROR(INDEX(Names,SMALL(IF(Names<>\"\",IF(MID(Names,1,LEN($B$1))=$B$1,ROW(Names)-ROW($G$3)+1)),ROWS($A$1:A622))),\"\")","v":""},{"$f":"IFERROR(INDEX(اقساط!$B$3:$B$8532,SMALL(IF(اقساط!$G$3:$G$8532=B624,ROW($B$3:$B$8532)-ROW($B$3)+1),ROWS($C$3:C624))),\"\")","v":0}]
[{"$f":"IFERROR(INDEX(اقساط!$AT$3:$AT$8532,SMALL(IF(اقساط!$G$3:$G$8532=B625,ROW($AT$3:$AT$8532)-ROW($AT$3)+1),ROWS($A$3:A625))),\"\")","v":0},{"$f":"IFERROR(INDEX(Names,SMALL(IF(Names<>\"\",IF(MID(Names,1,LEN($B$1))=$B$1,ROW(Names)-ROW($G$3)+1)),ROWS($A$1:A623))),\"\")","v":""},{"$f":"IFERROR(INDEX(اقساط!$B$3:$B$8532,SMALL(IF(اقساط!$G$3:$G$8532=B625,ROW($B$3:$B$8532)-ROW($B$3)+1),ROWS($C$3:C625))),\"\")","v":0}]
[{"$f":"IFERROR(INDEX(اقساط!$AT$3:$AT$8532,SMALL(IF(اقساط!$G$3:$G$8532=B626,ROW($AT$3:$AT$8532)-ROW($AT$3)+1),ROWS($A$3:A626))),\"\")","v":0},{"$f":"IFERROR(INDEX(Names,SMALL(IF(Names<>\"\",IF(MID(Names,1,LEN($B$1))=$B$1,ROW(Names)-ROW($G$3)+1)),ROWS($A$1:A624))),\"\")","v":""},{"$f":"IFERROR(INDEX(اقساط!$B$3:$B$8532,SMALL(IF(اقساط!$G$3:$G$8532=B626,ROW($B$3:$B$8532)-ROW($B$3)+1),ROWS($C$3:C626))),\"\")","v":0}]
[{"$f":"IFERROR(INDEX(اقساط!$AT$3:$AT$8532,SMALL(IF(اقساط!$G$3:$G$8532=B627,ROW($AT$3:$AT$8532)-ROW($AT$3)+1),ROWS($A$3:A627))),\"\")","v":0},{"$f":"IFERROR(INDEX(Names,SMALL(IF(Names<>\"\",IF(MID(Names,1,LEN($B$1))=$B$1,ROW(Names)-ROW($G$3)+1)),ROWS($A$1:A625))),\"\")","v":""},{"$f":"IFERROR(INDEX(اقساط!$B$3:$B$8532,SMALL(IF(اقساط!$G$3:$G$8532=B627,ROW($B$3:$B$8532)-ROW($B$3)+1),ROWS($C$3:C627))),\"\")","v":0}]
[{"$f":"IFERROR(INDEX(اقساط!$AT$3:$AT$8532,SMALL(IF(اقساط!$G$3:$G$8532=B628,ROW($AT$3:$AT$8532)-ROW($AT$3)+1),ROWS($A$3:A628))),\"\")","v":0},{"$f":"IFERROR(INDEX(Names,SMALL(IF(Names<>\"\",IF(MID(Names,1,LEN($B$1))=$B$1,ROW(Names)-ROW($G$3)+1)),ROWS($A$1:A626))),\"\")","v":""},{"$f":"IFERROR(INDEX(اقساط!$B$3:$B$8532,SMALL(IF(اقساط!$G$3:$G$8532=B628,ROW($B$3:$B$8532)-ROW($B$3)+1),ROWS($C$3:C628))),\"\")","v":0}]
[{"$f":"IFERROR(INDEX(اقساط!$AT$3:$AT$8532,SMALL(IF(اقساط!$G$3:$G$8532=B629,ROW($AT$3:$AT$8532)-ROW($AT$3)+1),ROWS($A$3:A629))),\"\")","v":0},{"$f":"IFERROR(INDEX(Names,SMALL(IF(Names<>\"\",IF(MID(Names,1,LEN($B$1))=$B$1,ROW(Names)-ROW($G$3)+1)),ROWS($A$1:A627))),\"\")","v":""},{"$f":"IFERROR(INDEX(اقساط!$B$3:$B$8532,SMALL(IF(اقساط!$G$3:$G$8532=B629,ROW($B$3:$B$8532)-ROW($B$3)+1),ROWS($C$3:C629))),\"\")","v":0}]
[{"$f":"IFERROR(INDEX(اقساط!$AT$3:$AT$8532,SMALL(IF(اقساط!$G$3:$G$8532=B630,ROW($AT$3:$AT$8532)-ROW($AT$3)+1),ROWS($A$3:A630))),\"\")","v":0},{"$f":"IFERROR(INDEX(Names,SMALL(IF(Names<>\"\",IF(MID(Names,1,LEN($B$1))=$B$1,ROW(Names)-ROW($G$3)+1)),ROWS($A$1:A628))),\"\")","v":""},{"$f":"IFERROR(INDEX(اقساط!$B$3:$B$8532,SMALL(IF(اقساط!$G$3:$G$8532=B630,ROW($B$3:$B$8532)-ROW($B$3)+1),ROWS($C$3:C630))),\"\")","v":0}]
[{"$f":"IFERROR(INDEX(اقساط!$AT$3:$AT$8532,SMALL(IF(اقساط!$G$3:$G$8532=B631,ROW($AT$3:$AT$8532)-ROW($AT$3)+1),ROWS($A$3:A631))),\"\")","v":0},{"$f":"IFERROR(INDEX(Names,SMALL(IF(Names<>\"\",IF(MID(Names,1,LEN($B$1))=$B$1,ROW(Names)-ROW($G$3)+1)),ROWS($A$1:A629))),\"\")","v":""},{"$f":"IFERROR(INDEX(اقساط!$B$3:$B$8532,SMALL(IF(اقساط!$G$3:$G$8532=B631,ROW($B$3:$B$8532)-ROW($B$3)+1),ROWS($C$3:C631))),\"\")","v":0}]
[{"$f":"IFERROR(INDEX(اقساط!$AT$3:$AT$8532,SMALL(IF(اقساط!$G$3:$G$8532=B632,ROW($AT$3:$AT$8532)-ROW($AT$3)+1),ROWS($A$3:A632))),\"\")","v":0},{"$f":"IFERROR(INDEX(Names,SMALL(IF(Names<>\"\",IF(MID(Names,1,LEN($B$1))=$B$1,ROW(Names)-ROW($G$3)+1)),ROWS($A$1:A630))),\"\")","v":""},{"$f":"IFERROR(INDEX(اقساط!$B$3:$B$8532,SMALL(IF(اقساط!$G$3:$G$8532=B632,ROW($B$3:$B$8532)-ROW($B$3)+1),ROWS($C$3:C632))),\"\")","v":0}]
[{"$f":"IFERROR(INDEX(اقساط!$AT$3:$AT$8532,SMALL(IF(اقساط!$G$3:$G$8532=B633,ROW($AT$3:$AT$8532)-ROW($AT$3)+1),ROWS($A$3:A633))),\"\")","v":0},{"$f":"IFERROR(INDEX(Names,SMALL(IF(Names<>\"\",IF(MID(Names,1,LEN($B$1))=$B$1,ROW(Names)-ROW($G$3)+1)),ROWS($A$1:A631))),\"\")","v":""},{"$f":"IFERROR(INDEX(اقساط!$B$3:$B$8532,SMALL(IF(اقساط!$G$3:$G$8532=B633,ROW($B$3:$B$8532)-ROW($B$3)+1),ROWS($C$3:C633))),\"\")","v":0}]
[{"$f":"IFERROR(INDEX(اقساط!$AT$3:$AT$8532,SMALL(IF(اقساط!$G$3:$G$8532=B634,ROW($AT$3:$AT$8532)-ROW($AT$3)+1),ROWS($A$3:A634))),\"\")","v":0},{"$f":"IFERROR(INDEX(Names,SMALL(IF(Names<>\"\",IF(MID(Names,1,LEN($B$1))=$B$1,ROW(Names)-ROW($G$3)+1)),ROWS($A$1:A632))),\"\")","v":""},{"$f":"IFERROR(INDEX(اقساط!$B$3:$B$8532,SMALL(IF(اقساط!$G$3:$G$8532=B634,ROW($B$3:$B$8532)-ROW($B$3)+1),ROWS($C$3:C634))),\"\")","v":0}]
[{"$f":"IFERROR(INDEX(اقساط!$AT$3:$AT$8532,SMALL(IF(اقساط!$G$3:$G$8532=B635,ROW($AT$3:$AT$8532)-ROW($AT$3)+1),ROWS($A$3:A635))),\"\")","v":0},{"$f":"IFERROR(INDEX(Names,SMALL(IF(Names<>\"\",IF(MID(Names,1,LEN($B$1))=$B$1,ROW(Names)-ROW($G$3)+1)),ROWS($A$1:A633))),\"\")","v":""},{"$f":"IFERROR(INDEX(اقساط!$B$3:$B$8532,SMALL(IF(اقساط!$G$3:$G$8532=B635,ROW($B$3:$B$8532)-ROW($B$3)+1),ROWS($C$3:C635))),\"\")","v":0}]
[{"$f":"IFERROR(INDEX(اقساط!$AT$3:$AT$8532,SMALL(IF(اقساط!$G$3:$G$8532=B636,ROW($AT$3:$AT$8532)-ROW($AT$3)+1),ROWS($A$3:A636))),\"\")","v":0},{"$f":"IFERROR(INDEX(Names,SMALL(IF(Names<>\"\",IF(MID(Names,1,LEN($B$1))=$B$1,ROW(Names)-ROW($G$3)+1)),ROWS($A$1:A634))),\"\")","v":""},{"$f":"IFERROR(INDEX(اقساط!$B$3:$B$8532,SMALL(IF(اقساط!$G$3:$G$8532=B636,ROW($B$3:$B$8532)-ROW($B$3)+1),ROWS($C$3:C636))),\"\")","v":0}]
[{"$f":"IFERROR(INDEX(اقساط!$AT$3:$AT$8532,SMALL(IF(اقساط!$G$3:$G$8532=B637,ROW($AT$3:$AT$8532)-ROW($AT$3)+1),ROWS($A$3:A637))),\"\")","v":0},{"$f":"IFERROR(INDEX(Names,SMALL(IF(Names<>\"\",IF(MID(Names,1,LEN($B$1))=$B$1,ROW(Names)-ROW($G$3)+1)),ROWS($A$1:A635))),\"\")","v":""},{"$f":"IFERROR(INDEX(اقساط!$B$3:$B$8532,SMALL(IF(اقساط!$G$3:$G$8532=B637,ROW($B$3:$B$8532)-ROW($B$3)+1),ROWS($C$3:C637))),\"\")","v":0}]
[{"$f":"IFERROR(INDEX(اقساط!$AT$3:$AT$8532,SMALL(IF(اقساط!$G$3:$G$8532=B638,ROW($AT$3:$AT$8532)-ROW($AT$3)+1),ROWS($A$3:A638))),\"\")","v":0},{"$f":"IFERROR(INDEX(Names,SMALL(IF(Names<>\"\",IF(MID(Names,1,LEN($B$1))=$B$1,ROW(Names)-ROW($G$3)+1)),ROWS($A$1:A636))),\"\")","v":""},{"$f":"IFERROR(INDEX(اقساط!$B$3:$B$8532,SMALL(IF(اقساط!$G$3:$G$8532=B638,ROW($B$3:$B$8532)-ROW($B$3)+1),ROWS($C$3:C638))),\"\")","v":0}]
[{"$f":"IFERROR(INDEX(اقساط!$AT$3:$AT$8532,SMALL(IF(اقساط!$G$3:$G$8532=B639,ROW($AT$3:$AT$8532)-ROW($AT$3)+1),ROWS($A$3:A639))),\"\")","v":0},{"$f":"IFERROR(INDEX(Names,SMALL(IF(Names<>\"\",IF(MID(Names,1,LEN($B$1))=$B$1,ROW(Names)-ROW($G$3)+1)),ROWS($A$1:A637))),\"\")","v":""},{"$f":"IFERROR(INDEX(اقساط!$B$3:$B$8532,SMALL(IF(اقساط!$G$3:$G$8532=B639,ROW($B$3:$B$8532)-ROW($B$3)+1),ROWS($C$3:C639))),\"\")","v":0}]
[{"$f":"IFERROR(INDEX(اقساط!$AT$3:$AT$8532,SMALL(IF(اقساط!$G$3:$G$8532=B640,ROW($AT$3:$AT$8532)-ROW($AT$3)+1),ROWS($A$3:A640))),\"\")","v":0},{"$f":"IFERROR(INDEX(Names,SMALL(IF(Names<>\"\",IF(MID(Names,1,LEN($B$1))=$B$1,ROW(Names)-ROW($G$3)+1)),ROWS($A$1:A638))),\"\")","v":""},{"$f":"IFERROR(INDEX(اقساط!$B$3:$B$8532,SMALL(IF(اقساط!$G$3:$G$8532=B640,ROW($B$3:$B$8532)-ROW($B$3)+1),ROWS($C$3:C640))),\"\")","v":0}]
[{"$f":"IFERROR(INDEX(اقساط!$AT$3:$AT$8532,SMALL(IF(اقساط!$G$3:$G$8532=B641,ROW($AT$3:$AT$8532)-ROW($AT$3)+1),ROWS($A$3:A641))),\"\")","v":0},{"$f":"IFERROR(INDEX(Names,SMALL(IF(Names<>\"\",IF(MID(Names,1,LEN($B$1))=$B$1,ROW(Names)-ROW($G$3)+1)),ROWS($A$1:A639))),\"\")","v":""},{"$f":"IFERROR(INDEX(اقساط!$B$3:$B$8532,SMALL(IF(اقساط!$G$3:$G$8532=B641,ROW($B$3:$B$8532)-ROW($B$3)+1),ROWS($C$3:C641))),\"\")","v":0}]
[{"$f":"IFERROR(INDEX(اقساط!$AT$3:$AT$8532,SMALL(IF(اقساط!$G$3:$G$8532=B642,ROW($AT$3:$AT$8532)-ROW($AT$3)+1),ROWS($A$3:A642))),\"\")","v":0},{"$f":"IFERROR(INDEX(Names,SMALL(IF(Names<>\"\",IF(MID(Names,1,LEN($B$1))=$B$1,ROW(Names)-ROW($G$3)+1)),ROWS($A$1:A640))),\"\")","v":""},{"$f":"IFERROR(INDEX(اقساط!$B$3:$B$8532,SMALL(IF(اقساط!$G$3:$G$8532=B642,ROW($B$3:$B$8532)-ROW($B$3)+1),ROWS($C$3:C642))),\"\")","v":0}]
[{"$f":"IFERROR(INDEX(اقساط!$AT$3:$AT$8532,SMALL(IF(اقساط!$G$3:$G$8532=B643,ROW($AT$3:$AT$8532)-ROW($AT$3)+1),ROWS($A$3:A643))),\"\")","v":0},{"$f":"IFERROR(INDEX(Names,SMALL(IF(Names<>\"\",IF(MID(Names,1,LEN($B$1))=$B$1,ROW(Names)-ROW($G$3)+1)),ROWS($A$1:A641))),\"\")","v":""},{"$f":"IFERROR(INDEX(اقساط!$B$3:$B$8532,SMALL(IF(اقساط!$G$3:$G$8532=B643,ROW($B$3:$B$8532)-ROW($B$3)+1),ROWS($C$3:C643))),\"\")","v":0}]
[{"$f":"IFERROR(INDEX(اقساط!$AT$3:$AT$8532,SMALL(IF(اقساط!$G$3:$G$8532=B644,ROW($AT$3:$AT$8532)-ROW($AT$3)+1),ROWS($A$3:A644))),\"\")","v":0},{"$f":"IFERROR(INDEX(Names,SMALL(IF(Names<>\"\",IF(MID(Names,1,LEN($B$1))=$B$1,ROW(Names)-ROW($G$3)+1)),ROWS($A$1:A642))),\"\")","v":""},{"$f":"IFERROR(INDEX(اقساط!$B$3:$B$8532,SMALL(IF(اقساط!$G$3:$G$8532=B644,ROW($B$3:$B$8532)-ROW($B$3)+1),ROWS($C$3:C644))),\"\")","v":0}]
[{"$f":"IFERROR(INDEX(اقساط!$AT$3:$AT$8532,SMALL(IF(اقساط!$G$3:$G$8532=B645,ROW($AT$3:$AT$8532)-ROW($AT$3)+1),ROWS($A$3:A645))),\"\")","v":0},{"$f":"IFERROR(INDEX(Names,SMALL(IF(Names<>\"\",IF(MID(Names,1,LEN($B$1))=$B$1,ROW(Names)-ROW($G$3)+1)),ROWS($A$1:A643))),\"\")","v":""},{"$f":"IFERROR(INDEX(اقساط!$B$3:$B$8532,SMALL(IF(اقساط!$G$3:$G$8532=B645,ROW($B$3:$B$8532)-ROW($B$3)+1),ROWS($C$3:C645))),\"\")","v":0}]
[{"$f":"IFERROR(INDEX(اقساط!$AT$3:$AT$8532,SMALL(IF(اقساط!$G$3:$G$8532=B646,ROW($AT$3:$AT$8532)-ROW($AT$3)+1),ROWS($A$3:A646))),\"\")","v":0},{"$f":"IFERROR(INDEX(Names,SMALL(IF(Names<>\"\",IF(MID(Names,1,LEN($B$1))=$B$1,ROW(Names)-ROW($G$3)+1)),ROWS($A$1:A644))),\"\")","v":""},{"$f":"IFERROR(INDEX(اقساط!$B$3:$B$8532,SMALL(IF(اقساط!$G$3:$G$8532=B646,ROW($B$3:$B$8532)-ROW($B$3)+1),ROWS($C$3:C646))),\"\")","v":0}]
[{"$f":"IFERROR(INDEX(اقساط!$AT$3:$AT$8532,SMALL(IF(اقساط!$G$3:$G$8532=B647,ROW($AT$3:$AT$8532)-ROW($AT$3)+1),ROWS($A$3:A647))),\"\")","v":0},{"$f":"IFERROR(INDEX(Names,SMALL(IF(Names<>\"\",IF(MID(Names,1,LEN($B$1))=$B$1,ROW(Names)-ROW($G$3)+1)),ROWS($A$1:A645))),\"\")","v":""},{"$f":"IFERROR(INDEX(اقساط!$B$3:$B$8532,SMALL(IF(اقساط!$G$3:$G$8532=B647,ROW($B$3:$B$8532)-ROW($B$3)+1),ROWS($C$3:C647))),\"\")","v":0}]
[{"$f":"IFERROR(INDEX(اقساط!$AT$3:$AT$8532,SMALL(IF(اقساط!$G$3:$G$8532=B648,ROW($AT$3:$AT$8532)-ROW($AT$3)+1),ROWS($A$3:A648))),\"\")","v":0},{"$f":"IFERROR(INDEX(Names,SMALL(IF(Names<>\"\",IF(MID(Names,1,LEN($B$1))=$B$1,ROW(Names)-ROW($G$3)+1)),ROWS($A$1:A646))),\"\")","v":""},{"$f":"IFERROR(INDEX(اقساط!$B$3:$B$8532,SMALL(IF(اقساط!$G$3:$G$8532=B648,ROW($B$3:$B$8532)-ROW($B$3)+1),ROWS($C$3:C648))),\"\")","v":0}]
[{"$f":"IFERROR(INDEX(اقساط!$AT$3:$AT$8532,SMALL(IF(اقساط!$G$3:$G$8532=B649,ROW($AT$3:$AT$8532)-ROW($AT$3)+1),ROWS($A$3:A649))),\"\")","v":0},{"$f":"IFERROR(INDEX(Names,SMALL(IF(Names<>\"\",IF(MID(Names,1,LEN($B$1))=$B$1,ROW(Names)-ROW($G$3)+1)),ROWS($A$1:A647))),\"\")","v":""},{"$f":"IFERROR(INDEX(اقساط!$B$3:$B$8532,SMALL(IF(اقساط!$G$3:$G$8532=B649,ROW($B$3:$B$8532)-ROW($B$3)+1),ROWS($C$3:C649))),\"\")","v":0}]
[{"$f":"IFERROR(INDEX(اقساط!$AT$3:$AT$8532,SMALL(IF(اقساط!$G$3:$G$8532=B650,ROW($AT$3:$AT$8532)-ROW($AT$3)+1),ROWS($A$3:A650))),\"\")","v":0},{"$f":"IFERROR(INDEX(Names,SMALL(IF(Names<>\"\",IF(MID(Names,1,LEN($B$1))=$B$1,ROW(Names)-ROW($G$3)+1)),ROWS($A$1:A648))),\"\")","v":""},{"$f":"IFERROR(INDEX(اقساط!$B$3:$B$8532,SMALL(IF(اقساط!$G$3:$G$8532=B650,ROW($B$3:$B$8532)-ROW($B$3)+1),ROWS($C$3:C650))),\"\")","v":0}]
[{"$f":"IFERROR(INDEX(اقساط!$AT$3:$AT$8532,SMALL(IF(اقساط!$G$3:$G$8532=B651,ROW($AT$3:$AT$8532)-ROW($AT$3)+1),ROWS($A$3:A651))),\"\")","v":0},{"$f":"IFERROR(INDEX(Names,SMALL(IF(Names<>\"\",IF(MID(Names,1,LEN($B$1))=$B$1,ROW(Names)-ROW($G$3)+1)),ROWS($A$1:A649))),\"\")","v":""},{"$f":"IFERROR(INDEX(اقساط!$B$3:$B$8532,SMALL(IF(اقساط!$G$3:$G$8532=B651,ROW($B$3:$B$8532)-ROW($B$3)+1),ROWS($C$3:C651))),\"\")","v":0}]
[{"$f":"IFERROR(INDEX(اقساط!$AT$3:$AT$8532,SMALL(IF(اقساط!$G$3:$G$8532=B652,ROW($AT$3:$AT$8532)-ROW($AT$3)+1),ROWS($A$3:A652))),\"\")","v":0},{"$f":"IFERROR(INDEX(Names,SMALL(IF(Names<>\"\",IF(MID(Names,1,LEN($B$1))=$B$1,ROW(Names)-ROW($G$3)+1)),ROWS($A$1:A650))),\"\")","v":""},{"$f":"IFERROR(INDEX(اقساط!$B$3:$B$8532,SMALL(IF(اقساط!$G$3:$G$8532=B652,ROW($B$3:$B$8532)-ROW($B$3)+1),ROWS($C$3:C652))),\"\")","v":0}]
[{"$f":"IFERROR(INDEX(اقساط!$AT$3:$AT$8532,SMALL(IF(اقساط!$G$3:$G$8532=B653,ROW($AT$3:$AT$8532)-ROW($AT$3)+1),ROWS($A$3:A653))),\"\")","v":0},{"$f":"IFERROR(INDEX(Names,SMALL(IF(Names<>\"\",IF(MID(Names,1,LEN($B$1))=$B$1,ROW(Names)-ROW($G$3)+1)),ROWS($A$1:A651))),\"\")","v":""},{"$f":"IFERROR(INDEX(اقساط!$B$3:$B$8532,SMALL(IF(اقساط!$G$3:$G$8532=B653,ROW($B$3:$B$8532)-ROW($B$3)+1),ROWS($C$3:C653))),\"\")","v":0}]
[{"$f":"IFERROR(INDEX(اقساط!$AT$3:$AT$8532,SMALL(IF(اقساط!$G$3:$G$8532=B654,ROW($AT$3:$AT$8532)-ROW($AT$3)+1),ROWS($A$3:A654))),\"\")","v":0},{"$f":"IFERROR(INDEX(Names,SMALL(IF(Names<>\"\",IF(MID(Names,1,LEN($B$1))=$B$1,ROW(Names)-ROW($G$3)+1)),ROWS($A$1:A652))),\"\")","v":""},{"$f":"IFERROR(INDEX(اقساط!$B$3:$B$8532,SMALL(IF(اقساط!$G$3:$G$8532=B654,ROW($B$3:$B$8532)-ROW($B$3)+1),ROWS($C$3:C654))),\"\")","v":0}]
[{"$f":"IFERROR(INDEX(اقساط!$AT$3:$AT$8532,SMALL(IF(اقساط!$G$3:$G$8532=B655,ROW($AT$3:$AT$8532)-ROW($AT$3)+1),ROWS($A$3:A655))),\"\")","v":0},{"$f":"IFERROR(INDEX(Names,SMALL(IF(Names<>\"\",IF(MID(Names,1,LEN($B$1))=$B$1,ROW(Names)-ROW($G$3)+1)),ROWS($A$1:A653))),\"\")","v":""},{"$f":"IFERROR(INDEX(اقساط!$B$3:$B$8532,SMALL(IF(اقساط!$G$3:$G$8532=B655,ROW($B$3:$B$8532)-ROW($B$3)+1),ROWS($C$3:C655))),\"\")","v":0}]
[{"$f":"IFERROR(INDEX(اقساط!$AT$3:$AT$8532,SMALL(IF(اقساط!$G$3:$G$8532=B656,ROW($AT$3:$AT$8532)-ROW($AT$3)+1),ROWS($A$3:A656))),\"\")","v":0},{"$f":"IFERROR(INDEX(Names,SMALL(IF(Names<>\"\",IF(MID(Names,1,LEN($B$1))=$B$1,ROW(Names)-ROW($G$3)+1)),ROWS($A$1:A654))),\"\")","v":""},{"$f":"IFERROR(INDEX(اقساط!$B$3:$B$8532,SMALL(IF(اقساط!$G$3:$G$8532=B656,ROW($B$3:$B$8532)-ROW($B$3)+1),ROWS($C$3:C656))),\"\")","v":0}]
[{"$f":"IFERROR(INDEX(اقساط!$AT$3:$AT$8532,SMALL(IF(اقساط!$G$3:$G$8532=B657,ROW($AT$3:$AT$8532)-ROW($AT$3)+1),ROWS($A$3:A657))),\"\")","v":0},{"$f":"IFERROR(INDEX(Names,SMALL(IF(Names<>\"\",IF(MID(Names,1,LEN($B$1))=$B$1,ROW(Names)-ROW($G$3)+1)),ROWS($A$1:A655))),\"\")","v":""},{"$f":"IFERROR(INDEX(اقساط!$B$3:$B$8532,SMALL(IF(اقساط!$G$3:$G$8532=B657,ROW($B$3:$B$8532)-ROW($B$3)+1),ROWS($C$3:C657))),\"\")","v":0}]
[{"$f":"IFERROR(INDEX(اقساط!$AT$3:$AT$8532,SMALL(IF(اقساط!$G$3:$G$8532=B658,ROW($AT$3:$AT$8532)-ROW($AT$3)+1),ROWS($A$3:A658))),\"\")","v":0},{"$f":"IFERROR(INDEX(Names,SMALL(IF(Names<>\"\",IF(MID(Names,1,LEN($B$1))=$B$1,ROW(Names)-ROW($G$3)+1)),ROWS($A$1:A656))),\"\")","v":""},{"$f":"IFERROR(INDEX(اقساط!$B$3:$B$8532,SMALL(IF(اقساط!$G$3:$G$8532=B658,ROW($B$3:$B$8532)-ROW($B$3)+1),ROWS($C$3:C658))),\"\")","v":0}]
[{"$f":"IFERROR(INDEX(اقساط!$AT$3:$AT$8532,SMALL(IF(اقساط!$G$3:$G$8532=B659,ROW($AT$3:$AT$8532)-ROW($AT$3)+1),ROWS($A$3:A659))),\"\")","v":0},{"$f":"IFERROR(INDEX(Names,SMALL(IF(Names<>\"\",IF(MID(Names,1,LEN($B$1))=$B$1,ROW(Names)-ROW($G$3)+1)),ROWS($A$1:A657))),\"\")","v":""},{"$f":"IFERROR(INDEX(اقساط!$B$3:$B$8532,SMALL(IF(اقساط!$G$3:$G$8532=B659,ROW($B$3:$B$8532)-ROW($B$3)+1),ROWS($C$3:C659))),\"\")","v":0}]
[{"$f":"IFERROR(INDEX(اقساط!$AT$3:$AT$8532,SMALL(IF(اقساط!$G$3:$G$8532=B660,ROW($AT$3:$AT$8532)-ROW($AT$3)+1),ROWS($A$3:A660))),\"\")","v":0},{"$f":"IFERROR(INDEX(Names,SMALL(IF(Names<>\"\",IF(MID(Names,1,LEN($B$1))=$B$1,ROW(Names)-ROW($G$3)+1)),ROWS($A$1:A658))),\"\")","v":""},{"$f":"IFERROR(INDEX(اقساط!$B$3:$B$8532,SMALL(IF(اقساط!$G$3:$G$8532=B660,ROW($B$3:$B$8532)-ROW($B$3)+1),ROWS($C$3:C660))),\"\")","v":0}]
[{"$f":"IFERROR(INDEX(اقساط!$AT$3:$AT$8532,SMALL(IF(اقساط!$G$3:$G$8532=B661,ROW($AT$3:$AT$8532)-ROW($AT$3)+1),ROWS($A$3:A661))),\"\")","v":0},{"$f":"IFERROR(INDEX(Names,SMALL(IF(Names<>\"\",IF(MID(Names,1,LEN($B$1))=$B$1,ROW(Names)-ROW($G$3)+1)),ROWS($A$1:A659))),\"\")","v":""},{"$f":"IFERROR(INDEX(اقساط!$B$3:$B$8532,SMALL(IF(اقساط!$G$3:$G$8532=B661,ROW($B$3:$B$8532)-ROW($B$3)+1),ROWS($C$3:C661))),\"\")","v":0}]
[{"$f":"IFERROR(INDEX(اقساط!$AT$3:$AT$8532,SMALL(IF(اقساط!$G$3:$G$8532=B662,ROW($AT$3:$AT$8532)-ROW($AT$3)+1),ROWS($A$3:A662))),\"\")","v":0},{"$f":"IFERROR(INDEX(Names,SMALL(IF(Names<>\"\",IF(MID(Names,1,LEN($B$1))=$B$1,ROW(Names)-ROW($G$3)+1)),ROWS($A$1:A660))),\"\")","v":""},{"$f":"IFERROR(INDEX(اقساط!$B$3:$B$8532,SMALL(IF(اقساط!$G$3:$G$8532=B662,ROW($B$3:$B$8532)-ROW($B$3)+1),ROWS($C$3:C662))),\"\")","v":0}]
[{"$f":"IFERROR(INDEX(اقساط!$AT$3:$AT$8532,SMALL(IF(اقساط!$G$3:$G$8532=B663,ROW($AT$3:$AT$8532)-ROW($AT$3)+1),ROWS($A$3:A663))),\"\")","v":0},{"$f":"IFERROR(INDEX(Names,SMALL(IF(Names<>\"\",IF(MID(Names,1,LEN($B$1))=$B$1,ROW(Names)-ROW($G$3)+1)),ROWS($A$1:A661))),\"\")","v":""},{"$f":"IFERROR(INDEX(اقساط!$B$3:$B$8532,SMALL(IF(اقساط!$G$3:$G$8532=B663,ROW($B$3:$B$8532)-ROW($B$3)+1),ROWS($C$3:C663))),\"\")","v":0}]
[{"$f":"IFERROR(INDEX(اقساط!$AT$3:$AT$8532,SMALL(IF(اقساط!$G$3:$G$8532=B664,ROW($AT$3:$AT$8532)-ROW($AT$3)+1),ROWS($A$3:A664))),\"\")","v":0},{"$f":"IFERROR(INDEX(Names,SMALL(IF(Names<>\"\",IF(MID(Names,1,LEN($B$1))=$B$1,ROW(Names)-ROW($G$3)+1)),ROWS($A$1:A662))),\"\")","v":""},{"$f":"IFERROR(INDEX(اقساط!$B$3:$B$8532,SMALL(IF(اقساط!$G$3:$G$8532=B664,ROW($B$3:$B$8532)-ROW($B$3)+1),ROWS($C$3:C664))),\"\")","v":0}]
[{"$f":"IFERROR(INDEX(اقساط!$AT$3:$AT$8532,SMALL(IF(اقساط!$G$3:$G$8532=B665,ROW($AT$3:$AT$8532)-ROW($AT$3)+1),ROWS($A$3:A665))),\"\")","v":0},{"$f":"IFERROR(INDEX(Names,SMALL(IF(Names<>\"\",IF(MID(Names,1,LEN($B$1))=$B$1,ROW(Names)-ROW($G$3)+1)),ROWS($A$1:A663))),\"\")","v":""},{"$f":"IFERROR(INDEX(اقساط!$B$3:$B$8532,SMALL(IF(اقساط!$G$3:$G$8532=B665,ROW($B$3:$B$8532)-ROW($B$3)+1),ROWS($C$3:C665))),\"\")","v":0}]
[{"$f":"IFERROR(INDEX(اقساط!$AT$3:$AT$8532,SMALL(IF(اقساط!$G$3:$G$8532=B666,ROW($AT$3:$AT$8532)-ROW($AT$3)+1),ROWS($A$3:A666))),\"\")","v":0},{"$f":"IFERROR(INDEX(Names,SMALL(IF(Names<>\"\",IF(MID(Names,1,LEN($B$1))=$B$1,ROW(Names)-ROW($G$3)+1)),ROWS($A$1:A664))),\"\")","v":""},{"$f":"IFERROR(INDEX(اقساط!$B$3:$B$8532,SMALL(IF(اقساط!$G$3:$G$8532=B666,ROW($B$3:$B$8532)-ROW($B$3)+1),ROWS($C$3:C666))),\"\")","v":0}]
[{"$f":"IFERROR(INDEX(اقساط!$AT$3:$AT$8532,SMALL(IF(اقساط!$G$3:$G$8532=B667,ROW($AT$3:$AT$8532)-ROW($AT$3)+1),ROWS($A$3:A667))),\"\")","v":0},{"$f":"IFERROR(INDEX(Names,SMALL(IF(Names<>\"\",IF(MID(Names,1,LEN($B$1))=$B$1,ROW(Names)-ROW($G$3)+1)),ROWS($A$1:A665))),\"\")","v":""},{"$f":"IFERROR(INDEX(اقساط!$B$3:$B$8532,SMALL(IF(اقساط!$G$3:$G$8532=B667,ROW($B$3:$B$8532)-ROW($B$3)+1),ROWS($C$3:C667))),\"\")","v":0}]
[{"$f":"IFERROR(INDEX(اقساط!$AT$3:$AT$8532,SMALL(IF(اقساط!$G$3:$G$8532=B668,ROW($AT$3:$AT$8532)-ROW($AT$3)+1),ROWS($A$3:A668))),\"\")","v":0},{"$f":"IFERROR(INDEX(Names,SMALL(IF(Names<>\"\",IF(MID(Names,1,LEN($B$1))=$B$1,ROW(Names)-ROW($G$3)+1)),ROWS($A$1:A666))),\"\")","v":""},{"$f":"IFERROR(INDEX(اقساط!$B$3:$B$8532,SMALL(IF(اقساط!$G$3:$G$8532=B668,ROW($B$3:$B$8532)-ROW($B$3)+1),ROWS($C$3:C668))),\"\")","v":0}]
[{"$f":"IFERROR(INDEX(اقساط!$AT$3:$AT$8532,SMALL(IF(اقساط!$G$3:$G$8532=B669,ROW($AT$3:$AT$8532)-ROW($AT$3)+1),ROWS($A$3:A669))),\"\")","v":0},{"$f":"IFERROR(INDEX(Names,SMALL(IF(Names<>\"\",IF(MID(Names,1,LEN($B$1))=$B$1,ROW(Names)-ROW($G$3)+1)),ROWS($A$1:A667))),\"\")","v":""},{"$f":"IFERROR(INDEX(اقساط!$B$3:$B$8532,SMALL(IF(اقساط!$G$3:$G$8532=B669,ROW($B$3:$B$8532)-ROW($B$3)+1),ROWS($C$3:C669))),\"\")","v":0}]
[{"$f":"IFERROR(INDEX(اقساط!$AT$3:$AT$8532,SMALL(IF(اقساط!$G$3:$G$8532=B670,ROW($AT$3:$AT$8532)-ROW($AT$3)+1),ROWS($A$3:A670))),\"\")","v":0},{"$f":"IFERROR(INDEX(Names,SMALL(IF(Names<>\"\",IF(MID(Names,1,LEN($B$1))=$B$1,ROW(Names)-ROW($G$3)+1)),ROWS($A$1:A668))),\"\")","v":""},{"$f":"IFERROR(INDEX(اقساط!$B$3:$B$8532,SMALL(IF(اقساط!$G$3:$G$8532=B670,ROW($B$3:$B$8532)-ROW($B$3)+1),ROWS($C$3:C670))),\"\")","v":0}]
[{"$f":"IFERROR(INDEX(اقساط!$AT$3:$AT$8532,SMALL(IF(اقساط!$G$3:$G$8532=B671,ROW($AT$3:$AT$8532)-ROW($AT$3)+1),ROWS($A$3:A671))),\"\")","v":0},{"$f":"IFERROR(INDEX(Names,SMALL(IF(Names<>\"\",IF(MID(Names,1,LEN($B$1))=$B$1,ROW(Names)-ROW($G$3)+1)),ROWS($A$1:A669))),\"\")","v":""},{"$f":"IFERROR(INDEX(اقساط!$B$3:$B$8532,SMALL(IF(اقساط!$G$3:$G$8532=B671,ROW($B$3:$B$8532)-ROW($B$3)+1),ROWS($C$3:C671))),\"\")","v":0}]
[{"$f":"IFERROR(INDEX(اقساط!$AT$3:$AT$8532,SMALL(IF(اقساط!$G$3:$G$8532=B672,ROW($AT$3:$AT$8532)-ROW($AT$3)+1),ROWS($A$3:A672))),\"\")","v":0},{"$f":"IFERROR(INDEX(Names,SMALL(IF(Names<>\"\",IF(MID(Names,1,LEN($B$1))=$B$1,ROW(Names)-ROW($G$3)+1)),ROWS($A$1:A670))),\"\")","v":""},{"$f":"IFERROR(INDEX(اقساط!$B$3:$B$8532,SMALL(IF(اقساط!$G$3:$G$8532=B672,ROW($B$3:$B$8532)-ROW($B$3)+1),ROWS($C$3:C672))),\"\")","v":0}]
[{"$f":"IFERROR(INDEX(اقساط!$AT$3:$AT$8532,SMALL(IF(اقساط!$G$3:$G$8532=B673,ROW($AT$3:$AT$8532)-ROW($AT$3)+1),ROWS($A$3:A673))),\"\")","v":0},{"$f":"IFERROR(INDEX(Names,SMALL(IF(Names<>\"\",IF(MID(Names,1,LEN($B$1))=$B$1,ROW(Names)-ROW($G$3)+1)),ROWS($A$1:A671))),\"\")","v":""},{"$f":"IFERROR(INDEX(اقساط!$B$3:$B$8532,SMALL(IF(اقساط!$G$3:$G$8532=B673,ROW($B$3:$B$8532)-ROW($B$3)+1),ROWS($C$3:C673))),\"\")","v":0}]
[{"$f":"IFERROR(INDEX(اقساط!$AT$3:$AT$8532,SMALL(IF(اقساط!$G$3:$G$8532=B674,ROW($AT$3:$AT$8532)-ROW($AT$3)+1),ROWS($A$3:A674))),\"\")","v":0},{"$f":"IFERROR(INDEX(Names,SMALL(IF(Names<>\"\",IF(MID(Names,1,LEN($B$1))=$B$1,ROW(Names)-ROW($G$3)+1)),ROWS($A$1:A672))),\"\")","v":""},{"$f":"IFERROR(INDEX(اقساط!$B$3:$B$8532,SMALL(IF(اقساط!$G$3:$G$8532=B674,ROW($B$3:$B$8532)-ROW($B$3)+1),ROWS($C$3:C674))),\"\")","v":0}]
[{"$f":"IFERROR(INDEX(اقساط!$AT$3:$AT$8532,SMALL(IF(اقساط!$G$3:$G$8532=B675,ROW($AT$3:$AT$8532)-ROW($AT$3)+1),ROWS($A$3:A675))),\"\")","v":0},{"$f":"IFERROR(INDEX(Names,SMALL(IF(Names<>\"\",IF(MID(Names,1,LEN($B$1))=$B$1,ROW(Names)-ROW($G$3)+1)),ROWS($A$1:A673))),\"\")","v":""},{"$f":"IFERROR(INDEX(اقساط!$B$3:$B$8532,SMALL(IF(اقساط!$G$3:$G$8532=B675,ROW($B$3:$B$8532)-ROW($B$3)+1),ROWS($C$3:C675))),\"\")","v":0}]
[{"$f":"IFERROR(INDEX(اقساط!$AT$3:$AT$8532,SMALL(IF(اقساط!$G$3:$G$8532=B676,ROW($AT$3:$AT$8532)-ROW($AT$3)+1),ROWS($A$3:A676))),\"\")","v":0},{"$f":"IFERROR(INDEX(Names,SMALL(IF(Names<>\"\",IF(MID(Names,1,LEN($B$1))=$B$1,ROW(Names)-ROW($G$3)+1)),ROWS($A$1:A674))),\"\")","v":""},{"$f":"IFERROR(INDEX(اقساط!$B$3:$B$8532,SMALL(IF(اقساط!$G$3:$G$8532=B676,ROW($B$3:$B$8532)-ROW($B$3)+1),ROWS($C$3:C676))),\"\")","v":0}]
[{"$f":"IFERROR(INDEX(اقساط!$AT$3:$AT$8532,SMALL(IF(اقساط!$G$3:$G$8532=B677,ROW($AT$3:$AT$8532)-ROW($AT$3)+1),ROWS($A$3:A677))),\"\")","v":0},{"$f":"IFERROR(INDEX(Names,SMALL(IF(Names<>\"\",IF(MID(Names,1,LEN($B$1))=$B$1,ROW(Names)-ROW($G$3)+1)),ROWS($A$1:A675))),\"\")","v":""},{"$f":"IFERROR(INDEX(اقساط!$B$3:$B$8532,SMALL(IF(اقساط!$G$3:$G$8532=B677,ROW($B$3:$B$8532)-ROW($B$3)+1),ROWS($C$3:C677))),\"\")","v":0}]
[{"$f":"IFERROR(INDEX(اقساط!$AT$3:$AT$8532,SMALL(IF(اقساط!$G$3:$G$8532=B678,ROW($AT$3:$AT$8532)-ROW($AT$3)+1),ROWS($A$3:A678))),\"\")","v":0},{"$f":"IFERROR(INDEX(Names,SMALL(IF(Names<>\"\",IF(MID(Names,1,LEN($B$1))=$B$1,ROW(Names)-ROW($G$3)+1)),ROWS($A$1:A676))),\"\")","v":""},{"$f":"IFERROR(INDEX(اقساط!$B$3:$B$8532,SMALL(IF(اقساط!$G$3:$G$8532=B678,ROW($B$3:$B$8532)-ROW($B$3)+1),ROWS($C$3:C678))),\"\")","v":0}]
[{"$f":"IFERROR(INDEX(اقساط!$AT$3:$AT$8532,SMALL(IF(اقساط!$G$3:$G$8532=B679,ROW($AT$3:$AT$8532)-ROW($AT$3)+1),ROWS($A$3:A679))),\"\")","v":0},{"$f":"IFERROR(INDEX(Names,SMALL(IF(Names<>\"\",IF(MID(Names,1,LEN($B$1))=$B$1,ROW(Names)-ROW($G$3)+1)),ROWS($A$1:A677))),\"\")","v":""},{"$f":"IFERROR(INDEX(اقساط!$B$3:$B$8532,SMALL(IF(اقساط!$G$3:$G$8532=B679,ROW($B$3:$B$8532)-ROW($B$3)+1),ROWS($C$3:C679))),\"\")","v":0}]
[{"$f":"IFERROR(INDEX(اقساط!$AT$3:$AT$8532,SMALL(IF(اقساط!$G$3:$G$8532=B680,ROW($AT$3:$AT$8532)-ROW($AT$3)+1),ROWS($A$3:A680))),\"\")","v":0},{"$f":"IFERROR(INDEX(Names,SMALL(IF(Names<>\"\",IF(MID(Names,1,LEN($B$1))=$B$1,ROW(Names)-ROW($G$3)+1)),ROWS($A$1:A678))),\"\")","v":""},{"$f":"IFERROR(INDEX(اقساط!$B$3:$B$8532,SMALL(IF(اقساط!$G$3:$G$8532=B680,ROW($B$3:$B$8532)-ROW($B$3)+1),ROWS($C$3:C680))),\"\")","v":0}]
[{"$f":"IFERROR(INDEX(اقساط!$AT$3:$AT$8532,SMALL(IF(اقساط!$G$3:$G$8532=B681,ROW($AT$3:$AT$8532)-ROW($AT$3)+1),ROWS($A$3:A681))),\"\")","v":0},{"$f":"IFERROR(INDEX(Names,SMALL(IF(Names<>\"\",IF(MID(Names,1,LEN($B$1))=$B$1,ROW(Names)-ROW($G$3)+1)),ROWS($A$1:A679))),\"\")","v":""},{"$f":"IFERROR(INDEX(اقساط!$B$3:$B$8532,SMALL(IF(اقساط!$G$3:$G$8532=B681,ROW($B$3:$B$8532)-ROW($B$3)+1),ROWS($C$3:C681))),\"\")","v":0}]
[{"$f":"IFERROR(INDEX(اقساط!$AT$3:$AT$8532,SMALL(IF(اقساط!$G$3:$G$8532=B682,ROW($AT$3:$AT$8532)-ROW($AT$3)+1),ROWS($A$3:A682))),\"\")","v":0},{"$f":"IFERROR(INDEX(Names,SMALL(IF(Names<>\"\",IF(MID(Names,1,LEN($B$1))=$B$1,ROW(Names)-ROW($G$3)+1)),ROWS($A$1:A680))),\"\")","v":""},{"$f":"IFERROR(INDEX(اقساط!$B$3:$B$8532,SMALL(IF(اقساط!$G$3:$G$8532=B682,ROW($B$3:$B$8532)-ROW($B$3)+1),ROWS($C$3:C682))),\"\")","v":0}]
[{"$f":"IFERROR(INDEX(اقساط!$AT$3:$AT$8532,SMALL(IF(اقساط!$G$3:$G$8532=B683,ROW($AT$3:$AT$8532)-ROW($AT$3)+1),ROWS($A$3:A683))),\"\")","v":0},{"$f":"IFERROR(INDEX(Names,SMALL(IF(Names<>\"\",IF(MID(Names,1,LEN($B$1))=$B$1,ROW(Names)-ROW($G$3)+1)),ROWS($A$1:A681))),\"\")","v":""},{"$f":"IFERROR(INDEX(اقساط!$B$3:$B$8532,SMALL(IF(اقساط!$G$3:$G$8532=B683,ROW($B$3:$B$8532)-ROW($B$3)+1),ROWS($C$3:C683))),\"\")","v":0}]
[{"$f":"IFERROR(INDEX(اقساط!$AT$3:$AT$8532,SMALL(IF(اقساط!$G$3:$G$8532=B684,ROW($AT$3:$AT$8532)-ROW($AT$3)+1),ROWS($A$3:A684))),\"\")","v":0},{"$f":"IFERROR(INDEX(Names,SMALL(IF(Names<>\"\",IF(MID(Names,1,LEN($B$1))=$B$1,ROW(Names)-ROW($G$3)+1)),ROWS($A$1:A682))),\"\")","v":""},{"$f":"IFERROR(INDEX(اقساط!$B$3:$B$8532,SMALL(IF(اقساط!$G$3:$G$8532=B684,ROW($B$3:$B$8532)-ROW($B$3)+1),ROWS($C$3:C684))),\"\")","v":0}]
[{"$f":"IFERROR(INDEX(اقساط!$AT$3:$AT$8532,SMALL(IF(اقساط!$G$3:$G$8532=B685,ROW($AT$3:$AT$8532)-ROW($AT$3)+1),ROWS($A$3:A685))),\"\")","v":0},{"$f":"IFERROR(INDEX(Names,SMALL(IF(Names<>\"\",IF(MID(Names,1,LEN($B$1))=$B$1,ROW(Names)-ROW($G$3)+1)),ROWS($A$1:A683))),\"\")","v":""},{"$f":"IFERROR(INDEX(اقساط!$B$3:$B$8532,SMALL(IF(اقساط!$G$3:$G$8532=B685,ROW($B$3:$B$8532)-ROW($B$3)+1),ROWS($C$3:C685))),\"\")","v":0}]
[{"$f":"IFERROR(INDEX(اقساط!$AT$3:$AT$8532,SMALL(IF(اقساط!$G$3:$G$8532=B686,ROW($AT$3:$AT$8532)-ROW($AT$3)+1),ROWS($A$3:A686))),\"\")","v":0},{"$f":"IFERROR(INDEX(Names,SMALL(IF(Names<>\"\",IF(MID(Names,1,LEN($B$1))=$B$1,ROW(Names)-ROW($G$3)+1)),ROWS($A$1:A684))),\"\")","v":""},{"$f":"IFERROR(INDEX(اقساط!$B$3:$B$8532,SMALL(IF(اقساط!$G$3:$G$8532=B686,ROW($B$3:$B$8532)-ROW($B$3)+1),ROWS($C$3:C686))),\"\")","v":0}]
[{"$f":"IFERROR(INDEX(اقساط!$AT$3:$AT$8532,SMALL(IF(اقساط!$G$3:$G$8532=B687,ROW($AT$3:$AT$8532)-ROW($AT$3)+1),ROWS($A$3:A687))),\"\")","v":0},{"$f":"IFERROR(INDEX(Names,SMALL(IF(Names<>\"\",IF(MID(Names,1,LEN($B$1))=$B$1,ROW(Names)-ROW($G$3)+1)),ROWS($A$1:A685))),\"\")","v":""},{"$f":"IFERROR(INDEX(اقساط!$B$3:$B$8532,SMALL(IF(اقساط!$G$3:$G$8532=B687,ROW($B$3:$B$8532)-ROW($B$3)+1),ROWS($C$3:C687))),\"\")","v":0}]
[{"$f":"IFERROR(INDEX(اقساط!$AT$3:$AT$8532,SMALL(IF(اقساط!$G$3:$G$8532=B688,ROW($AT$3:$AT$8532)-ROW($AT$3)+1),ROWS($A$3:A688))),\"\")","v":0},{"$f":"IFERROR(INDEX(Names,SMALL(IF(Names<>\"\",IF(MID(Names,1,LEN($B$1))=$B$1,ROW(Names)-ROW($G$3)+1)),ROWS($A$1:A686))),\"\")","v":""},{"$f":"IFERROR(INDEX(اقساط!$B$3:$B$8532,SMALL(IF(اقساط!$G$3:$G$8532=B688,ROW($B$3:$B$8532)-ROW($B$3)+1),ROWS($C$3:C688))),\"\")","v":0}]
[{"$f":"IFERROR(INDEX(اقساط!$AT$3:$AT$8532,SMALL(IF(اقساط!$G$3:$G$8532=B689,ROW($AT$3:$AT$8532)-ROW($AT$3)+1),ROWS($A$3:A689))),\"\")","v":0},{"$f":"IFERROR(INDEX(Names,SMALL(IF(Names<>\"\",IF(MID(Names,1,LEN($B$1))=$B$1,ROW(Names)-ROW($G$3)+1)),ROWS($A$1:A687))),\"\")","v":""},{"$f":"IFERROR(INDEX(اقساط!$B$3:$B$8532,SMALL(IF(اقساط!$G$3:$G$8532=B689,ROW($B$3:$B$8532)-ROW($B$3)+1),ROWS($C$3:C689))),\"\")","v":0}]
[{"$f":"IFERROR(INDEX(اقساط!$AT$3:$AT$8532,SMALL(IF(اقساط!$G$3:$G$8532=B690,ROW($AT$3:$AT$8532)-ROW($AT$3)+1),ROWS($A$3:A690))),\"\")","v":0},{"$f":"IFERROR(INDEX(Names,SMALL(IF(Names<>\"\",IF(MID(Names,1,LEN($B$1))=$B$1,ROW(Names)-ROW($G$3)+1)),ROWS($A$1:A688))),\"\")","v":""},{"$f":"IFERROR(INDEX(اقساط!$B$3:$B$8532,SMALL(IF(اقساط!$G$3:$G$8532=B690,ROW($B$3:$B$8532)-ROW($B$3)+1),ROWS($C$3:C690))),\"\")","v":0}]
[{"$f":"IFERROR(INDEX(اقساط!$AT$3:$AT$8532,SMALL(IF(اقساط!$G$3:$G$8532=B691,ROW($AT$3:$AT$8532)-ROW($AT$3)+1),ROWS($A$3:A691))),\"\")","v":0},{"$f":"IFERROR(INDEX(Names,SMALL(IF(Names<>\"\",IF(MID(Names,1,LEN($B$1))=$B$1,ROW(Names)-ROW($G$3)+1)),ROWS($A$1:A689))),\"\")","v":""},{"$f":"IFERROR(INDEX(اقساط!$B$3:$B$8532,SMALL(IF(اقساط!$G$3:$G$8532=B691,ROW($B$3:$B$8532)-ROW($B$3)+1),ROWS($C$3:C691))),\"\")","v":0}]
[{"$f":"IFERROR(INDEX(اقساط!$AT$3:$AT$8532,SMALL(IF(اقساط!$G$3:$G$8532=B692,ROW($AT$3:$AT$8532)-ROW($AT$3)+1),ROWS($A$3:A692))),\"\")","v":0},{"$f":"IFERROR(INDEX(Names,SMALL(IF(Names<>\"\",IF(MID(Names,1,LEN($B$1))=$B$1,ROW(Names)-ROW($G$3)+1)),ROWS($A$1:A690))),\"\")","v":""},{"$f":"IFERROR(INDEX(اقساط!$B$3:$B$8532,SMALL(IF(اقساط!$G$3:$G$8532=B692,ROW($B$3:$B$8532)-ROW($B$3)+1),ROWS($C$3:C692))),\"\")","v":0}]
[{"$f":"IFERROR(INDEX(اقساط!$AT$3:$AT$8532,SMALL(IF(اقساط!$G$3:$G$8532=B693,ROW($AT$3:$AT$8532)-ROW($AT$3)+1),ROWS($A$3:A693))),\"\")","v":0},{"$f":"IFERROR(INDEX(Names,SMALL(IF(Names<>\"\",IF(MID(Names,1,LEN($B$1))=$B$1,ROW(Names)-ROW($G$3)+1)),ROWS($A$1:A691))),\"\")","v":""},{"$f":"IFERROR(INDEX(اقساط!$B$3:$B$8532,SMALL(IF(اقساط!$G$3:$G$8532=B693,ROW($B$3:$B$8532)-ROW($B$3)+1),ROWS($C$3:C693))),\"\")","v":0}]
[{"$f":"IFERROR(INDEX(اقساط!$AT$3:$AT$8532,SMALL(IF(اقساط!$G$3:$G$8532=B694,ROW($AT$3:$AT$8532)-ROW($AT$3)+1),ROWS($A$3:A694))),\"\")","v":0},{"$f":"IFERROR(INDEX(Names,SMALL(IF(Names<>\"\",IF(MID(Names,1,LEN($B$1))=$B$1,ROW(Names)-ROW($G$3)+1)),ROWS($A$1:A692))),\"\")","v":""},{"$f":"IFERROR(INDEX(اقساط!$B$3:$B$8532,SMALL(IF(اقساط!$G$3:$G$8532=B694,ROW($B$3:$B$8532)-ROW($B$3)+1),ROWS($C$3:C694))),\"\")","v":0}]
[{"$f":"IFERROR(INDEX(اقساط!$AT$3:$AT$8532,SMALL(IF(اقساط!$G$3:$G$8532=B695,ROW($AT$3:$AT$8532)-ROW($AT$3)+1),ROWS($A$3:A695))),\"\")","v":0},{"$f":"IFERROR(INDEX(Names,SMALL(IF(Names<>\"\",IF(MID(Names,1,LEN($B$1))=$B$1,ROW(Names)-ROW($G$3)+1)),ROWS($A$1:A693))),\"\")","v":""},{"$f":"IFERROR(INDEX(اقساط!$B$3:$B$8532,SMALL(IF(اقساط!$G$3:$G$8532=B695,ROW($B$3:$B$8532)-ROW($B$3)+1),ROWS($C$3:C695))),\"\")","v":0}]
[{"$f":"IFERROR(INDEX(اقساط!$AT$3:$AT$8532,SMALL(IF(اقساط!$G$3:$G$8532=B696,ROW($AT$3:$AT$8532)-ROW($AT$3)+1),ROWS($A$3:A696))),\"\")","v":0},{"$f":"IFERROR(INDEX(Names,SMALL(IF(Names<>\"\",IF(MID(Names,1,LEN($B$1))=$B$1,ROW(Names)-ROW($G$3)+1)),ROWS($A$1:A694))),\"\")","v":""},{"$f":"IFERROR(INDEX(اقساط!$B$3:$B$8532,SMALL(IF(اقساط!$G$3:$G$8532=B696,ROW($B$3:$B$8532)-ROW($B$3)+1),ROWS($C$3:C696))),\"\")","v":0}]
[{"$f":"IFERROR(INDEX(اقساط!$AT$3:$AT$8532,SMALL(IF(اقساط!$G$3:$G$8532=B697,ROW($AT$3:$AT$8532)-ROW($AT$3)+1),ROWS($A$3:A697))),\"\")","v":0},{"$f":"IFERROR(INDEX(Names,SMALL(IF(Names<>\"\",IF(MID(Names,1,LEN($B$1))=$B$1,ROW(Names)-ROW($G$3)+1)),ROWS($A$1:A695))),\"\")","v":""},{"$f":"IFERROR(INDEX(اقساط!$B$3:$B$8532,SMALL(IF(اقساط!$G$3:$G$8532=B697,ROW($B$3:$B$8532)-ROW($B$3)+1),ROWS($C$3:C697))),\"\")","v":0}]
[{"$f":"IFERROR(INDEX(اقساط!$AT$3:$AT$8532,SMALL(IF(اقساط!$G$3:$G$8532=B698,ROW($AT$3:$AT$8532)-ROW($AT$3)+1),ROWS($A$3:A698))),\"\")","v":0},{"$f":"IFERROR(INDEX(Names,SMALL(IF(Names<>\"\",IF(MID(Names,1,LEN($B$1))=$B$1,ROW(Names)-ROW($G$3)+1)),ROWS($A$1:A696))),\"\")","v":""},{"$f":"IFERROR(INDEX(اقساط!$B$3:$B$8532,SMALL(IF(اقساط!$G$3:$G$8532=B698,ROW($B$3:$B$8532)-ROW($B$3)+1),ROWS($C$3:C698))),\"\")","v":0}]
[{"$f":"IFERROR(INDEX(اقساط!$AT$3:$AT$8532,SMALL(IF(اقساط!$G$3:$G$8532=B699,ROW($AT$3:$AT$8532)-ROW($AT$3)+1),ROWS($A$3:A699))),\"\")","v":0},{"$f":"IFERROR(INDEX(Names,SMALL(IF(Names<>\"\",IF(MID(Names,1,LEN($B$1))=$B$1,ROW(Names)-ROW($G$3)+1)),ROWS($A$1:A697))),\"\")","v":""},{"$f":"IFERROR(INDEX(اقساط!$B$3:$B$8532,SMALL(IF(اقساط!$G$3:$G$8532=B699,ROW($B$3:$B$8532)-ROW($B$3)+1),ROWS($C$3:C699))),\"\")","v":0}]
[{"$f":"IFERROR(INDEX(اقساط!$AT$3:$AT$8532,SMALL(IF(اقساط!$G$3:$G$8532=B700,ROW($AT$3:$AT$8532)-ROW($AT$3)+1),ROWS($A$3:A700))),\"\")","v":0},{"$f":"IFERROR(INDEX(Names,SMALL(IF(Names<>\"\",IF(MID(Names,1,LEN($B$1))=$B$1,ROW(Names)-ROW($G$3)+1)),ROWS($A$1:A698))),\"\")","v":""},{"$f":"IFERROR(INDEX(اقساط!$B$3:$B$8532,SMALL(IF(اقساط!$G$3:$G$8532=B700,ROW($B$3:$B$8532)-ROW($B$3)+1),ROWS($C$3:C700))),\"\")","v":0}]
[{"$f":"IFERROR(INDEX(اقساط!$AT$3:$AT$8532,SMALL(IF(اقساط!$G$3:$G$8532=B701,ROW($AT$3:$AT$8532)-ROW($AT$3)+1),ROWS($A$3:A701))),\"\")","v":0},{"$f":"IFERROR(INDEX(Names,SMALL(IF(Names<>\"\",IF(MID(Names,1,LEN($B$1))=$B$1,ROW(Names)-ROW($G$3)+1)),ROWS($A$1:A699))),\"\")","v":""},{"$f":"IFERROR(INDEX(اقساط!$B$3:$B$8532,SMALL(IF(اقساط!$G$3:$G$8532=B701,ROW($B$3:$B$8532)-ROW($B$3)+1),ROWS($C$3:C701))),\"\")","v":0}]
[{"$f":"IFERROR(INDEX(اقساط!$AT$3:$AT$8532,SMALL(IF(اقساط!$G$3:$G$8532=B702,ROW($AT$3:$AT$8532)-ROW($AT$3)+1),ROWS($A$3:A702))),\"\")","v":0},{"$f":"IFERROR(INDEX(Names,SMALL(IF(Names<>\"\",IF(MID(Names,1,LEN($B$1))=$B$1,ROW(Names)-ROW($G$3)+1)),ROWS($A$1:A700))),\"\")","v":""},{"$f":"IFERROR(INDEX(اقساط!$B$3:$B$8532,SMALL(IF(اقساط!$G$3:$G$8532=B702,ROW($B$3:$B$8532)-ROW($B$3)+1),ROWS($C$3:C702))),\"\")","v":0}]
[{"$f":"IFERROR(INDEX(اقساط!$AT$3:$AT$8532,SMALL(IF(اقساط!$G$3:$G$8532=B703,ROW($AT$3:$AT$8532)-ROW($AT$3)+1),ROWS($A$3:A703))),\"\")","v":0},{"$f":"IFERROR(INDEX(Names,SMALL(IF(Names<>\"\",IF(MID(Names,1,LEN($B$1))=$B$1,ROW(Names)-ROW($G$3)+1)),ROWS($A$1:A701))),\"\")","v":""},{"$f":"IFERROR(INDEX(اقساط!$B$3:$B$8532,SMALL(IF(اقساط!$G$3:$G$8532=B703,ROW($B$3:$B$8532)-ROW($B$3)+1),ROWS($C$3:C703))),\"\")","v":0}]
[{"$f":"IFERROR(INDEX(اقساط!$AT$3:$AT$8532,SMALL(IF(اقساط!$G$3:$G$8532=B704,ROW($AT$3:$AT$8532)-ROW($AT$3)+1),ROWS($A$3:A704))),\"\")","v":0},{"$f":"IFERROR(INDEX(Names,SMALL(IF(Names<>\"\",IF(MID(Names,1,LEN($B$1))=$B$1,ROW(Names)-ROW($G$3)+1)),ROWS($A$1:A702))),\"\")","v":""},{"$f":"IFERROR(INDEX(اقساط!$B$3:$B$8532,SMALL(IF(اقساط!$G$3:$G$8532=B704,ROW($B$3:$B$8532)-ROW($B$3)+1),ROWS($C$3:C704))),\"\")","v":0}]
[{"$f":"IFERROR(INDEX(اقساط!$AT$3:$AT$8532,SMALL(IF(اقساط!$G$3:$G$8532=B705,ROW($AT$3:$AT$8532)-ROW($AT$3)+1),ROWS($A$3:A705))),\"\")","v":0},{"$f":"IFERROR(INDEX(Names,SMALL(IF(Names<>\"\",IF(MID(Names,1,LEN($B$1))=$B$1,ROW(Names)-ROW($G$3)+1)),ROWS($A$1:A703))),\"\")","v":""},{"$f":"IFERROR(INDEX(اقساط!$B$3:$B$8532,SMALL(IF(اقساط!$G$3:$G$8532=B705,ROW($B$3:$B$8532)-ROW($B$3)+1),ROWS($C$3:C705))),\"\")","v":0}]
[{"$f":"IFERROR(INDEX(اقساط!$AT$3:$AT$8532,SMALL(IF(اقساط!$G$3:$G$8532=B706,ROW($AT$3:$AT$8532)-ROW($AT$3)+1),ROWS($A$3:A706))),\"\")","v":0},{"$f":"IFERROR(INDEX(Names,SMALL(IF(Names<>\"\",IF(MID(Names,1,LEN($B$1))=$B$1,ROW(Names)-ROW($G$3)+1)),ROWS($A$1:A704))),\"\")","v":""},{"$f":"IFERROR(INDEX(اقساط!$B$3:$B$8532,SMALL(IF(اقساط!$G$3:$G$8532=B706,ROW($B$3:$B$8532)-ROW($B$3)+1),ROWS($C$3:C706))),\"\")","v":0}]
[{"$f":"IFERROR(INDEX(اقساط!$AT$3:$AT$8532,SMALL(IF(اقساط!$G$3:$G$8532=B707,ROW($AT$3:$AT$8532)-ROW($AT$3)+1),ROWS($A$3:A707))),\"\")","v":0},{"$f":"IFERROR(INDEX(Names,SMALL(IF(Names<>\"\",IF(MID(Names,1,LEN($B$1))=$B$1,ROW(Names)-ROW($G$3)+1)),ROWS($A$1:A705))),\"\")","v":""},{"$f":"IFERROR(INDEX(اقساط!$B$3:$B$8532,SMALL(IF(اقساط!$G$3:$G$8532=B707,ROW($B$3:$B$8532)-ROW($B$3)+1),ROWS($C$3:C707))),\"\")","v":0}]
[{"$f":"IFERROR(INDEX(اقساط!$AT$3:$AT$8532,SMALL(IF(اقساط!$G$3:$G$8532=B708,ROW($AT$3:$AT$8532)-ROW($AT$3)+1),ROWS($A$3:A708))),\"\")","v":0},{"$f":"IFERROR(INDEX(Names,SMALL(IF(Names<>\"\",IF(MID(Names,1,LEN($B$1))=$B$1,ROW(Names)-ROW($G$3)+1)),ROWS($A$1:A706))),\"\")","v":""},{"$f":"IFERROR(INDEX(اقساط!$B$3:$B$8532,SMALL(IF(اقساط!$G$3:$G$8532=B708,ROW($B$3:$B$8532)-ROW($B$3)+1),ROWS($C$3:C708))),\"\")","v":0}]
[{"$f":"IFERROR(INDEX(اقساط!$AT$3:$AT$8532,SMALL(IF(اقساط!$G$3:$G$8532=B709,ROW($AT$3:$AT$8532)-ROW($AT$3)+1),ROWS($A$3:A709))),\"\")","v":0},{"$f":"IFERROR(INDEX(Names,SMALL(IF(Names<>\"\",IF(MID(Names,1,LEN($B$1))=$B$1,ROW(Names)-ROW($G$3)+1)),ROWS($A$1:A707))),\"\")","v":""},{"$f":"IFERROR(INDEX(اقساط!$B$3:$B$8532,SMALL(IF(اقساط!$G$3:$G$8532=B709,ROW($B$3:$B$8532)-ROW($B$3)+1),ROWS($C$3:C709))),\"\")","v":0}]
[{"$f":"IFERROR(INDEX(اقساط!$AT$3:$AT$8532,SMALL(IF(اقساط!$G$3:$G$8532=B710,ROW($AT$3:$AT$8532)-ROW($AT$3)+1),ROWS($A$3:A710))),\"\")","v":0},{"$f":"IFERROR(INDEX(Names,SMALL(IF(Names<>\"\",IF(MID(Names,1,LEN($B$1))=$B$1,ROW(Names)-ROW($G$3)+1)),ROWS($A$1:A708))),\"\")","v":""},{"$f":"IFERROR(INDEX(اقساط!$B$3:$B$8532,SMALL(IF(اقساط!$G$3:$G$8532=B710,ROW($B$3:$B$8532)-ROW($B$3)+1),ROWS($C$3:C710))),\"\")","v":0}]
[{"$f":"IFERROR(INDEX(اقساط!$AT$3:$AT$8532,SMALL(IF(اقساط!$G$3:$G$8532=B711,ROW($AT$3:$AT$8532)-ROW($AT$3)+1),ROWS($A$3:A711))),\"\")","v":0},{"$f":"IFERROR(INDEX(Names,SMALL(IF(Names<>\"\",IF(MID(Names,1,LEN($B$1))=$B$1,ROW(Names)-ROW($G$3)+1)),ROWS($A$1:A709))),\"\")","v":""},{"$f":"IFERROR(INDEX(اقساط!$B$3:$B$8532,SMALL(IF(اقساط!$G$3:$G$8532=B711,ROW($B$3:$B$8532)-ROW($B$3)+1),ROWS($C$3:C711))),\"\")","v":0}]
[{"$f":"IFERROR(INDEX(اقساط!$AT$3:$AT$8532,SMALL(IF(اقساط!$G$3:$G$8532=B712,ROW($AT$3:$AT$8532)-ROW($AT$3)+1),ROWS($A$3:A712))),\"\")","v":0},{"$f":"IFERROR(INDEX(Names,SMALL(IF(Names<>\"\",IF(MID(Names,1,LEN($B$1))=$B$1,ROW(Names)-ROW($G$3)+1)),ROWS($A$1:A710))),\"\")","v":""},{"$f":"IFERROR(INDEX(اقساط!$B$3:$B$8532,SMALL(IF(اقساط!$G$3:$G$8532=B712,ROW($B$3:$B$8532)-ROW($B$3)+1),ROWS($C$3:C712))),\"\")","v":0}]
[{"$f":"IFERROR(INDEX(اقساط!$AT$3:$AT$8532,SMALL(IF(اقساط!$G$3:$G$8532=B713,ROW($AT$3:$AT$8532)-ROW($AT$3)+1),ROWS($A$3:A713))),\"\")","v":0},{"$f":"IFERROR(INDEX(Names,SMALL(IF(Names<>\"\",IF(MID(Names,1,LEN($B$1))=$B$1,ROW(Names)-ROW($G$3)+1)),ROWS($A$1:A711))),\"\")","v":""},{"$f":"IFERROR(INDEX(اقساط!$B$3:$B$8532,SMALL(IF(اقساط!$G$3:$G$8532=B713,ROW($B$3:$B$8532)-ROW($B$3)+1),ROWS($C$3:C713))),\"\")","v":0}]
[{"$f":"IFERROR(INDEX(اقساط!$AT$3:$AT$8532,SMALL(IF(اقساط!$G$3:$G$8532=B714,ROW($AT$3:$AT$8532)-ROW($AT$3)+1),ROWS($A$3:A714))),\"\")","v":0},{"$f":"IFERROR(INDEX(Names,SMALL(IF(Names<>\"\",IF(MID(Names,1,LEN($B$1))=$B$1,ROW(Names)-ROW($G$3)+1)),ROWS($A$1:A712))),\"\")","v":""},{"$f":"IFERROR(INDEX(اقساط!$B$3:$B$8532,SMALL(IF(اقساط!$G$3:$G$8532=B714,ROW($B$3:$B$8532)-ROW($B$3)+1),ROWS($C$3:C714))),\"\")","v":0}]
[{"$f":"IFERROR(INDEX(اقساط!$AT$3:$AT$8532,SMALL(IF(اقساط!$G$3:$G$8532=B715,ROW($AT$3:$AT$8532)-ROW($AT$3)+1),ROWS($A$3:A715))),\"\")","v":0},{"$f":"IFERROR(INDEX(Names,SMALL(IF(Names<>\"\",IF(MID(Names,1,LEN($B$1))=$B$1,ROW(Names)-ROW($G$3)+1)),ROWS($A$1:A713))),\"\")","v":""},{"$f":"IFERROR(INDEX(اقساط!$B$3:$B$8532,SMALL(IF(اقساط!$G$3:$G$8532=B715,ROW($B$3:$B$8532)-ROW($B$3)+1),ROWS($C$3:C715))),\"\")","v":0}]
[{"$f":"IFERROR(INDEX(اقساط!$AT$3:$AT$8532,SMALL(IF(اقساط!$G$3:$G$8532=B716,ROW($AT$3:$AT$8532)-ROW($AT$3)+1),ROWS($A$3:A716))),\"\")","v":0},{"$f":"IFERROR(INDEX(Names,SMALL(IF(Names<>\"\",IF(MID(Names,1,LEN($B$1))=$B$1,ROW(Names)-ROW($G$3)+1)),ROWS($A$1:A714))),\"\")","v":""},{"$f":"IFERROR(INDEX(اقساط!$B$3:$B$8532,SMALL(IF(اقساط!$G$3:$G$8532=B716,ROW($B$3:$B$8532)-ROW($B$3)+1),ROWS($C$3:C716))),\"\")","v":0}]
[{"$f":"IFERROR(INDEX(اقساط!$AT$3:$AT$8532,SMALL(IF(اقساط!$G$3:$G$8532=B717,ROW($AT$3:$AT$8532)-ROW($AT$3)+1),ROWS($A$3:A717))),\"\")","v":0},{"$f":"IFERROR(INDEX(Names,SMALL(IF(Names<>\"\",IF(MID(Names,1,LEN($B$1))=$B$1,ROW(Names)-ROW($G$3)+1)),ROWS($A$1:A715))),\"\")","v":""},{"$f":"IFERROR(INDEX(اقساط!$B$3:$B$8532,SMALL(IF(اقساط!$G$3:$G$8532=B717,ROW($B$3:$B$8532)-ROW($B$3)+1),ROWS($C$3:C717))),\"\")","v":0}]
[{"$f":"IFERROR(INDEX(اقساط!$AT$3:$AT$8532,SMALL(IF(اقساط!$G$3:$G$8532=B718,ROW($AT$3:$AT$8532)-ROW($AT$3)+1),ROWS($A$3:A718))),\"\")","v":0},{"$f":"IFERROR(INDEX(Names,SMALL(IF(Names<>\"\",IF(MID(Names,1,LEN($B$1))=$B$1,ROW(Names)-ROW($G$3)+1)),ROWS($A$1:A716))),\"\")","v":""},{"$f":"IFERROR(INDEX(اقساط!$B$3:$B$8532,SMALL(IF(اقساط!$G$3:$G$8532=B718,ROW($B$3:$B$8532)-ROW($B$3)+1),ROWS($C$3:C718))),\"\")","v":0}]
[{"$f":"IFERROR(INDEX(اقساط!$AT$3:$AT$8532,SMALL(IF(اقساط!$G$3:$G$8532=B719,ROW($AT$3:$AT$8532)-ROW($AT$3)+1),ROWS($A$3:A719))),\"\")","v":0},{"$f":"IFERROR(INDEX(Names,SMALL(IF(Names<>\"\",IF(MID(Names,1,LEN($B$1))=$B$1,ROW(Names)-ROW($G$3)+1)),ROWS($A$1:A717))),\"\")","v":""},{"$f":"IFERROR(INDEX(اقساط!$B$3:$B$8532,SMALL(IF(اقساط!$G$3:$G$8532=B719,ROW($B$3:$B$8532)-ROW($B$3)+1),ROWS($C$3:C719))),\"\")","v":0}]
[{"$f":"IFERROR(INDEX(اقساط!$AT$3:$AT$8532,SMALL(IF(اقساط!$G$3:$G$8532=B720,ROW($AT$3:$AT$8532)-ROW($AT$3)+1),ROWS($A$3:A720))),\"\")","v":0},{"$f":"IFERROR(INDEX(Names,SMALL(IF(Names<>\"\",IF(MID(Names,1,LEN($B$1))=$B$1,ROW(Names)-ROW($G$3)+1)),ROWS($A$1:A718))),\"\")","v":""},{"$f":"IFERROR(INDEX(اقساط!$B$3:$B$8532,SMALL(IF(اقساط!$G$3:$G$8532=B720,ROW($B$3:$B$8532)-ROW($B$3)+1),ROWS($C$3:C720))),\"\")","v":0}]
[{"$f":"IFERROR(INDEX(اقساط!$AT$3:$AT$8532,SMALL(IF(اقساط!$G$3:$G$8532=B721,ROW($AT$3:$AT$8532)-ROW($AT$3)+1),ROWS($A$3:A721))),\"\")","v":0},{"$f":"IFERROR(INDEX(Names,SMALL(IF(Names<>\"\",IF(MID(Names,1,LEN($B$1))=$B$1,ROW(Names)-ROW($G$3)+1)),ROWS($A$1:A719))),\"\")","v":""},{"$f":"IFERROR(INDEX(اقساط!$B$3:$B$8532,SMALL(IF(اقساط!$G$3:$G$8532=B721,ROW($B$3:$B$8532)-ROW($B$3)+1),ROWS($C$3:C721))),\"\")","v":0}]
[{"$f":"IFERROR(INDEX(اقساط!$AT$3:$AT$8532,SMALL(IF(اقساط!$G$3:$G$8532=B722,ROW($AT$3:$AT$8532)-ROW($AT$3)+1),ROWS($A$3:A722))),\"\")","v":0},{"$f":"IFERROR(INDEX(Names,SMALL(IF(Names<>\"\",IF(MID(Names,1,LEN($B$1))=$B$1,ROW(Names)-ROW($G$3)+1)),ROWS($A$1:A720))),\"\")","v":""},{"$f":"IFERROR(INDEX(اقساط!$B$3:$B$8532,SMALL(IF(اقساط!$G$3:$G$8532=B722,ROW($B$3:$B$8532)-ROW($B$3)+1),ROWS($C$3:C722))),\"\")","v":0}]
[{"$f":"IFERROR(INDEX(اقساط!$AT$3:$AT$8532,SMALL(IF(اقساط!$G$3:$G$8532=B723,ROW($AT$3:$AT$8532)-ROW($AT$3)+1),ROWS($A$3:A723))),\"\")","v":0},{"$f":"IFERROR(INDEX(Names,SMALL(IF(Names<>\"\",IF(MID(Names,1,LEN($B$1))=$B$1,ROW(Names)-ROW($G$3)+1)),ROWS($A$1:A721))),\"\")","v":""},{"$f":"IFERROR(INDEX(اقساط!$B$3:$B$8532,SMALL(IF(اقساط!$G$3:$G$8532=B723,ROW($B$3:$B$8532)-ROW($B$3)+1),ROWS($C$3:C723))),\"\")","v":0}]
[{"$f":"IFERROR(INDEX(اقساط!$AT$3:$AT$8532,SMALL(IF(اقساط!$G$3:$G$8532=B724,ROW($AT$3:$AT$8532)-ROW($AT$3)+1),ROWS($A$3:A724))),\"\")","v":0},{"$f":"IFERROR(INDEX(Names,SMALL(IF(Names<>\"\",IF(MID(Names,1,LEN($B$1))=$B$1,ROW(Names)-ROW($G$3)+1)),ROWS($A$1:A722))),\"\")","v":""},{"$f":"IFERROR(INDEX(اقساط!$B$3:$B$8532,SMALL(IF(اقساط!$G$3:$G$8532=B724,ROW($B$3:$B$8532)-ROW($B$3)+1),ROWS($C$3:C724))),\"\")","v":0}]
[{"$f":"IFERROR(INDEX(اقساط!$AT$3:$AT$8532,SMALL(IF(اقساط!$G$3:$G$8532=B725,ROW($AT$3:$AT$8532)-ROW($AT$3)+1),ROWS($A$3:A725))),\"\")","v":0},{"$f":"IFERROR(INDEX(Names,SMALL(IF(Names<>\"\",IF(MID(Names,1,LEN($B$1))=$B$1,ROW(Names)-ROW($G$3)+1)),ROWS($A$1:A723))),\"\")","v":""},{"$f":"IFERROR(INDEX(اقساط!$B$3:$B$8532,SMALL(IF(اقساط!$G$3:$G$8532=B725,ROW($B$3:$B$8532)-ROW($B$3)+1),ROWS($C$3:C725))),\"\")","v":0}]
[{"$f":"IFERROR(INDEX(اقساط!$AT$3:$AT$8532,SMALL(IF(اقساط!$G$3:$G$8532=B726,ROW($AT$3:$AT$8532)-ROW($AT$3)+1),ROWS($A$3:A726))),\"\")","v":0},{"$f":"IFERROR(INDEX(Names,SMALL(IF(Names<>\"\",IF(MID(Names,1,LEN($B$1))=$B$1,ROW(Names)-ROW($G$3)+1)),ROWS($A$1:A724))),\"\")","v":""},{"$f":"IFERROR(INDEX(اقساط!$B$3:$B$8532,SMALL(IF(اقساط!$G$3:$G$8532=B726,ROW($B$3:$B$8532)-ROW($B$3)+1),ROWS($C$3:C726))),\"\")","v":0}]
[{"$f":"IFERROR(INDEX(اقساط!$AT$3:$AT$8532,SMALL(IF(اقساط!$G$3:$G$8532=B727,ROW($AT$3:$AT$8532)-ROW($AT$3)+1),ROWS($A$3:A727))),\"\")","v":0},{"$f":"IFERROR(INDEX(Names,SMALL(IF(Names<>\"\",IF(MID(Names,1,LEN($B$1))=$B$1,ROW(Names)-ROW($G$3)+1)),ROWS($A$1:A725))),\"\")","v":""},{"$f":"IFERROR(INDEX(اقساط!$B$3:$B$8532,SMALL(IF(اقساط!$G$3:$G$8532=B727,ROW($B$3:$B$8532)-ROW($B$3)+1),ROWS($C$3:C727))),\"\")","v":0}]
[{"$f":"IFERROR(INDEX(اقساط!$AT$3:$AT$8532,SMALL(IF(اقساط!$G$3:$G$8532=B728,ROW($AT$3:$AT$8532)-ROW($AT$3)+1),ROWS($A$3:A728))),\"\")","v":0},{"$f":"IFERROR(INDEX(Names,SMALL(IF(Names<>\"\",IF(MID(Names,1,LEN($B$1))=$B$1,ROW(Names)-ROW($G$3)+1)),ROWS($A$1:A726))),\"\")","v":""},{"$f":"IFERROR(INDEX(اقساط!$B$3:$B$8532,SMALL(IF(اقساط!$G$3:$G$8532=B728,ROW($B$3:$B$8532)-ROW($B$3)+1),ROWS($C$3:C728))),\"\")","v":0}]
[{"$f":"IFERROR(INDEX(اقساط!$AT$3:$AT$8532,SMALL(IF(اقساط!$G$3:$G$8532=B729,ROW($AT$3:$AT$8532)-ROW($AT$3)+1),ROWS($A$3:A729))),\"\")","v":0},{"$f":"IFERROR(INDEX(Names,SMALL(IF(Names<>\"\",IF(MID(Names,1,LEN($B$1))=$B$1,ROW(Names)-ROW($G$3)+1)),ROWS($A$1:A727))),\"\")","v":""},{"$f":"IFERROR(INDEX(اقساط!$B$3:$B$8532,SMALL(IF(اقساط!$G$3:$G$8532=B729,ROW($B$3:$B$8532)-ROW($B$3)+1),ROWS($C$3:C729))),\"\")","v":0}]
[{"$f":"IFERROR(INDEX(اقساط!$AT$3:$AT$8532,SMALL(IF(اقساط!$G$3:$G$8532=B730,ROW($AT$3:$AT$8532)-ROW($AT$3)+1),ROWS($A$3:A730))),\"\")","v":0},{"$f":"IFERROR(INDEX(Names,SMALL(IF(Names<>\"\",IF(MID(Names,1,LEN($B$1))=$B$1,ROW(Names)-ROW($G$3)+1)),ROWS($A$1:A728))),\"\")","v":""},{"$f":"IFERROR(INDEX(اقساط!$B$3:$B$8532,SMALL(IF(اقساط!$G$3:$G$8532=B730,ROW($B$3:$B$8532)-ROW($B$3)+1),ROWS($C$3:C730))),\"\")","v":0}]
[{"$f":"IFERROR(INDEX(اقساط!$AT$3:$AT$8532,SMALL(IF(اقساط!$G$3:$G$8532=B731,ROW($AT$3:$AT$8532)-ROW($AT$3)+1),ROWS($A$3:A731))),\"\")","v":0},{"$f":"IFERROR(INDEX(Names,SMALL(IF(Names<>\"\",IF(MID(Names,1,LEN($B$1))=$B$1,ROW(Names)-ROW($G$3)+1)),ROWS($A$1:A729))),\"\")","v":""},{"$f":"IFERROR(INDEX(اقساط!$B$3:$B$8532,SMALL(IF(اقساط!$G$3:$G$8532=B731,ROW($B$3:$B$8532)-ROW($B$3)+1),ROWS($C$3:C731))),\"\")","v":0}]
[{"$f":"IFERROR(INDEX(اقساط!$AT$3:$AT$8532,SMALL(IF(اقساط!$G$3:$G$8532=B732,ROW($AT$3:$AT$8532)-ROW($AT$3)+1),ROWS($A$3:A732))),\"\")","v":0},{"$f":"IFERROR(INDEX(Names,SMALL(IF(Names<>\"\",IF(MID(Names,1,LEN($B$1))=$B$1,ROW(Names)-ROW($G$3)+1)),ROWS($A$1:A730))),\"\")","v":""},{"$f":"IFERROR(INDEX(اقساط!$B$3:$B$8532,SMALL(IF(اقساط!$G$3:$G$8532=B732,ROW($B$3:$B$8532)-ROW($B$3)+1),ROWS($C$3:C732))),\"\")","v":0}]
[{"$f":"IFERROR(INDEX(اقساط!$AT$3:$AT$8532,SMALL(IF(اقساط!$G$3:$G$8532=B733,ROW($AT$3:$AT$8532)-ROW($AT$3)+1),ROWS($A$3:A733))),\"\")","v":0},{"$f":"IFERROR(INDEX(Names,SMALL(IF(Names<>\"\",IF(MID(Names,1,LEN($B$1))=$B$1,ROW(Names)-ROW($G$3)+1)),ROWS($A$1:A731))),\"\")","v":""},{"$f":"IFERROR(INDEX(اقساط!$B$3:$B$8532,SMALL(IF(اقساط!$G$3:$G$8532=B733,ROW($B$3:$B$8532)-ROW($B$3)+1),ROWS($C$3:C733))),\"\")","v":0}]
[{"$f":"IFERROR(INDEX(اقساط!$AT$3:$AT$8532,SMALL(IF(اقساط!$G$3:$G$8532=B734,ROW($AT$3:$AT$8532)-ROW($AT$3)+1),ROWS($A$3:A734))),\"\")","v":0},{"$f":"IFERROR(INDEX(Names,SMALL(IF(Names<>\"\",IF(MID(Names,1,LEN($B$1))=$B$1,ROW(Names)-ROW($G$3)+1)),ROWS($A$1:A732))),\"\")","v":""},{"$f":"IFERROR(INDEX(اقساط!$B$3:$B$8532,SMALL(IF(اقساط!$G$3:$G$8532=B734,ROW($B$3:$B$8532)-ROW($B$3)+1),ROWS($C$3:C734))),\"\")","v":0}]
[{"$f":"IFERROR(INDEX(اقساط!$AT$3:$AT$8532,SMALL(IF(اقساط!$G$3:$G$8532=B735,ROW($AT$3:$AT$8532)-ROW($AT$3)+1),ROWS($A$3:A735))),\"\")","v":0},{"$f":"IFERROR(INDEX(Names,SMALL(IF(Names<>\"\",IF(MID(Names,1,LEN($B$1))=$B$1,ROW(Names)-ROW($G$3)+1)),ROWS($A$1:A733))),\"\")","v":""},{"$f":"IFERROR(INDEX(اقساط!$B$3:$B$8532,SMALL(IF(اقساط!$G$3:$G$8532=B735,ROW($B$3:$B$8532)-ROW($B$3)+1),ROWS($C$3:C735))),\"\")","v":0}]
[{"$f":"IFERROR(INDEX(اقساط!$AT$3:$AT$8532,SMALL(IF(اقساط!$G$3:$G$8532=B736,ROW($AT$3:$AT$8532)-ROW($AT$3)+1),ROWS($A$3:A736))),\"\")","v":0},{"$f":"IFERROR(INDEX(Names,SMALL(IF(Names<>\"\",IF(MID(Names,1,LEN($B$1))=$B$1,ROW(Names)-ROW($G$3)+1)),ROWS($A$1:A734))),\"\")","v":""},{"$f":"IFERROR(INDEX(اقساط!$B$3:$B$8532,SMALL(IF(اقساط!$G$3:$G$8532=B736,ROW($B$3:$B$8532)-ROW($B$3)+1),ROWS($C$3:C736))),\"\")","v":0}]
[{"$f":"IFERROR(INDEX(اقساط!$AT$3:$AT$8532,SMALL(IF(اقساط!$G$3:$G$8532=B737,ROW($AT$3:$AT$8532)-ROW($AT$3)+1),ROWS($A$3:A737))),\"\")","v":0},{"$f":"IFERROR(INDEX(Names,SMALL(IF(Names<>\"\",IF(MID(Names,1,LEN($B$1))=$B$1,ROW(Names)-ROW($G$3)+1)),ROWS($A$1:A735))),\"\")","v":""},{"$f":"IFERROR(INDEX(اقساط!$B$3:$B$8532,SMALL(IF(اقساط!$G$3:$G$8532=B737,ROW($B$3:$B$8532)-ROW($B$3)+1),ROWS($C$3:C737))),\"\")","v":0}]
[{"$f":"IFERROR(INDEX(اقساط!$AT$3:$AT$8532,SMALL(IF(اقساط!$G$3:$G$8532=B738,ROW($AT$3:$AT$8532)-ROW($AT$3)+1),ROWS($A$3:A738))),\"\")","v":0},{"$f":"IFERROR(INDEX(Names,SMALL(IF(Names<>\"\",IF(MID(Names,1,LEN($B$1))=$B$1,ROW(Names)-ROW($G$3)+1)),ROWS($A$1:A736))),\"\")","v":""},{"$f":"IFERROR(INDEX(اقساط!$B$3:$B$8532,SMALL(IF(اقساط!$G$3:$G$8532=B738,ROW($B$3:$B$8532)-ROW($B$3)+1),ROWS($C$3:C738))),\"\")","v":0}]
[{"$f":"IFERROR(INDEX(اقساط!$AT$3:$AT$8532,SMALL(IF(اقساط!$G$3:$G$8532=B739,ROW($AT$3:$AT$8532)-ROW($AT$3)+1),ROWS($A$3:A739))),\"\")","v":0},{"$f":"IFERROR(INDEX(Names,SMALL(IF(Names<>\"\",IF(MID(Names,1,LEN($B$1))=$B$1,ROW(Names)-ROW($G$3)+1)),ROWS($A$1:A737))),\"\")","v":""},{"$f":"IFERROR(INDEX(اقساط!$B$3:$B$8532,SMALL(IF(اقساط!$G$3:$G$8532=B739,ROW($B$3:$B$8532)-ROW($B$3)+1),ROWS($C$3:C739))),\"\")","v":0}]
[{"$f":"IFERROR(INDEX(اقساط!$AT$3:$AT$8532,SMALL(IF(اقساط!$G$3:$G$8532=B740,ROW($AT$3:$AT$8532)-ROW($AT$3)+1),ROWS($A$3:A740))),\"\")","v":0},{"$f":"IFERROR(INDEX(Names,SMALL(IF(Names<>\"\",IF(MID(Names,1,LEN($B$1))=$B$1,ROW(Names)-ROW($G$3)+1)),ROWS($A$1:A738))),\"\")","v":""},{"$f":"IFERROR(INDEX(اقساط!$B$3:$B$8532,SMALL(IF(اقساط!$G$3:$G$8532=B740,ROW($B$3:$B$8532)-ROW($B$3)+1),ROWS($C$3:C740))),\"\")","v":0}]
[{"$f":"IFERROR(INDEX(اقساط!$AT$3:$AT$8532,SMALL(IF(اقساط!$G$3:$G$8532=B741,ROW($AT$3:$AT$8532)-ROW($AT$3)+1),ROWS($A$3:A741))),\"\")","v":0},{"$f":"IFERROR(INDEX(Names,SMALL(IF(Names<>\"\",IF(MID(Names,1,LEN($B$1))=$B$1,ROW(Names)-ROW($G$3)+1)),ROWS($A$1:A739))),\"\")","v":""},{"$f":"IFERROR(INDEX(اقساط!$B$3:$B$8532,SMALL(IF(اقساط!$G$3:$G$8532=B741,ROW($B$3:$B$8532)-ROW($B$3)+1),ROWS($C$3:C741))),\"\")","v":0}]
[{"$f":"IFERROR(INDEX(اقساط!$AT$3:$AT$8532,SMALL(IF(اقساط!$G$3:$G$8532=B742,ROW($AT$3:$AT$8532)-ROW($AT$3)+1),ROWS($A$3:A742))),\"\")","v":0},{"$f":"IFERROR(INDEX(Names,SMALL(IF(Names<>\"\",IF(MID(Names,1,LEN($B$1))=$B$1,ROW(Names)-ROW($G$3)+1)),ROWS($A$1:A740))),\"\")","v":""},{"$f":"IFERROR(INDEX(اقساط!$B$3:$B$8532,SMALL(IF(اقساط!$G$3:$G$8532=B742,ROW($B$3:$B$8532)-ROW($B$3)+1),ROWS($C$3:C742))),\"\")","v":0}]
[{"$f":"IFERROR(INDEX(اقساط!$AT$3:$AT$8532,SMALL(IF(اقساط!$G$3:$G$8532=B743,ROW($AT$3:$AT$8532)-ROW($AT$3)+1),ROWS($A$3:A743))),\"\")","v":0},{"$f":"IFERROR(INDEX(Names,SMALL(IF(Names<>\"\",IF(MID(Names,1,LEN($B$1))=$B$1,ROW(Names)-ROW($G$3)+1)),ROWS($A$1:A741))),\"\")","v":""},{"$f":"IFERROR(INDEX(اقساط!$B$3:$B$8532,SMALL(IF(اقساط!$G$3:$G$8532=B743,ROW($B$3:$B$8532)-ROW($B$3)+1),ROWS($C$3:C743))),\"\")","v":0}]
[{"$f":"IFERROR(INDEX(اقساط!$AT$3:$AT$8532,SMALL(IF(اقساط!$G$3:$G$8532=B744,ROW($AT$3:$AT$8532)-ROW($AT$3)+1),ROWS($A$3:A744))),\"\")","v":0},{"$f":"IFERROR(INDEX(Names,SMALL(IF(Names<>\"\",IF(MID(Names,1,LEN($B$1))=$B$1,ROW(Names)-ROW($G$3)+1)),ROWS($A$1:A742))),\"\")","v":""},{"$f":"IFERROR(INDEX(اقساط!$B$3:$B$8532,SMALL(IF(اقساط!$G$3:$G$8532=B744,ROW($B$3:$B$8532)-ROW($B$3)+1),ROWS($C$3:C744))),\"\")","v":0}]
[{"$f":"IFERROR(INDEX(اقساط!$AT$3:$AT$8532,SMALL(IF(اقساط!$G$3:$G$8532=B745,ROW($AT$3:$AT$8532)-ROW($AT$3)+1),ROWS($A$3:A745))),\"\")","v":0},{"$f":"IFERROR(INDEX(Names,SMALL(IF(Names<>\"\",IF(MID(Names,1,LEN($B$1))=$B$1,ROW(Names)-ROW($G$3)+1)),ROWS($A$1:A743))),\"\")","v":""},{"$f":"IFERROR(INDEX(اقساط!$B$3:$B$8532,SMALL(IF(اقساط!$G$3:$G$8532=B745,ROW($B$3:$B$8532)-ROW($B$3)+1),ROWS($C$3:C745))),\"\")","v":0}]
[{"$f":"IFERROR(INDEX(اقساط!$AT$3:$AT$8532,SMALL(IF(اقساط!$G$3:$G$8532=B746,ROW($AT$3:$AT$8532)-ROW($AT$3)+1),ROWS($A$3:A746))),\"\")","v":0},{"$f":"IFERROR(INDEX(Names,SMALL(IF(Names<>\"\",IF(MID(Names,1,LEN($B$1))=$B$1,ROW(Names)-ROW($G$3)+1)),ROWS($A$1:A744))),\"\")","v":""},{"$f":"IFERROR(INDEX(اقساط!$B$3:$B$8532,SMALL(IF(اقساط!$G$3:$G$8532=B746,ROW($B$3:$B$8532)-ROW($B$3)+1),ROWS($C$3:C746))),\"\")","v":0}]
[{"$f":"IFERROR(INDEX(اقساط!$AT$3:$AT$8532,SMALL(IF(اقساط!$G$3:$G$8532=B747,ROW($AT$3:$AT$8532)-ROW($AT$3)+1),ROWS($A$3:A747))),\"\")","v":0},{"$f":"IFERROR(INDEX(Names,SMALL(IF(Names<>\"\",IF(MID(Names,1,LEN($B$1))=$B$1,ROW(Names)-ROW($G$3)+1)),ROWS($A$1:A745))),\"\")","v":""},{"$f":"IFERROR(INDEX(اقساط!$B$3:$B$8532,SMALL(IF(اقساط!$G$3:$G$8532=B747,ROW($B$3:$B$8532)-ROW($B$3)+1),ROWS($C$3:C747))),\"\")","v":0}]
[{"$f":"IFERROR(INDEX(اقساط!$AT$3:$AT$8532,SMALL(IF(اقساط!$G$3:$G$8532=B748,ROW($AT$3:$AT$8532)-ROW($AT$3)+1),ROWS($A$3:A748))),\"\")","v":0},{"$f":"IFERROR(INDEX(Names,SMALL(IF(Names<>\"\",IF(MID(Names,1,LEN($B$1))=$B$1,ROW(Names)-ROW($G$3)+1)),ROWS($A$1:A746))),\"\")","v":""},{"$f":"IFERROR(INDEX(اقساط!$B$3:$B$8532,SMALL(IF(اقساط!$G$3:$G$8532=B748,ROW($B$3:$B$8532)-ROW($B$3)+1),ROWS($C$3:C748))),\"\")","v":0}]
[{"$f":"IFERROR(INDEX(اقساط!$AT$3:$AT$8532,SMALL(IF(اقساط!$G$3:$G$8532=B749,ROW($AT$3:$AT$8532)-ROW($AT$3)+1),ROWS($A$3:A749))),\"\")","v":0},{"$f":"IFERROR(INDEX(Names,SMALL(IF(Names<>\"\",IF(MID(Names,1,LEN($B$1))=$B$1,ROW(Names)-ROW($G$3)+1)),ROWS($A$1:A747))),\"\")","v":""},{"$f":"IFERROR(INDEX(اقساط!$B$3:$B$8532,SMALL(IF(اقساط!$G$3:$G$8532=B749,ROW($B$3:$B$8532)-ROW($B$3)+1),ROWS($C$3:C749))),\"\")","v":0}]
[{"$f":"IFERROR(INDEX(اقساط!$AT$3:$AT$8532,SMALL(IF(اقساط!$G$3:$G$8532=B750,ROW($AT$3:$AT$8532)-ROW($AT$3)+1),ROWS($A$3:A750))),\"\")","v":0},{"$f":"IFERROR(INDEX(Names,SMALL(IF(Names<>\"\",IF(MID(Names,1,LEN($B$1))=$B$1,ROW(Names)-ROW($G$3)+1)),ROWS($A$1:A748))),\"\")","v":""},{"$f":"IFERROR(INDEX(اقساط!$B$3:$B$8532,SMALL(IF(اقساط!$G$3:$G$8532=B750,ROW($B$3:$B$8532)-ROW($B$3)+1),ROWS($C$3:C750))),\"\")","v":0}]
[{"$f":"IFERROR(INDEX(اقساط!$AT$3:$AT$8532,SMALL(IF(اقساط!$G$3:$G$8532=B751,ROW($AT$3:$AT$8532)-ROW($AT$3)+1),ROWS($A$3:A751))),\"\")","v":0},{"$f":"IFERROR(INDEX(Names,SMALL(IF(Names<>\"\",IF(MID(Names,1,LEN($B$1))=$B$1,ROW(Names)-ROW($G$3)+1)),ROWS($A$1:A749))),\"\")","v":""},{"$f":"IFERROR(INDEX(اقساط!$B$3:$B$8532,SMALL(IF(اقساط!$G$3:$G$8532=B751,ROW($B$3:$B$8532)-ROW($B$3)+1),ROWS($C$3:C751))),\"\")","v":0}]
[{"$f":"IFERROR(INDEX(اقساط!$AT$3:$AT$8532,SMALL(IF(اقساط!$G$3:$G$8532=B752,ROW($AT$3:$AT$8532)-ROW($AT$3)+1),ROWS($A$3:A752))),\"\")","v":0},{"$f":"IFERROR(INDEX(Names,SMALL(IF(Names<>\"\",IF(MID(Names,1,LEN($B$1))=$B$1,ROW(Names)-ROW($G$3)+1)),ROWS($A$1:A750))),\"\")","v":""},{"$f":"IFERROR(INDEX(اقساط!$B$3:$B$8532,SMALL(IF(اقساط!$G$3:$G$8532=B752,ROW($B$3:$B$8532)-ROW($B$3)+1),ROWS($C$3:C752))),\"\")","v":0}]
[{"$f":"IFERROR(INDEX(اقساط!$AT$3:$AT$8532,SMALL(IF(اقساط!$G$3:$G$8532=B753,ROW($AT$3:$AT$8532)-ROW($AT$3)+1),ROWS($A$3:A753))),\"\")","v":0},{"$f":"IFERROR(INDEX(Names,SMALL(IF(Names<>\"\",IF(MID(Names,1,LEN($B$1))=$B$1,ROW(Names)-ROW($G$3)+1)),ROWS($A$1:A751))),\"\")","v":""},{"$f":"IFERROR(INDEX(اقساط!$B$3:$B$8532,SMALL(IF(اقساط!$G$3:$G$8532=B753,ROW($B$3:$B$8532)-ROW($B$3)+1),ROWS($C$3:C753))),\"\")","v":0}]
[{"$f":"IFERROR(INDEX(اقساط!$AT$3:$AT$8532,SMALL(IF(اقساط!$G$3:$G$8532=B754,ROW($AT$3:$AT$8532)-ROW($AT$3)+1),ROWS($A$3:A754))),\"\")","v":0},{"$f":"IFERROR(INDEX(Names,SMALL(IF(Names<>\"\",IF(MID(Names,1,LEN($B$1))=$B$1,ROW(Names)-ROW($G$3)+1)),ROWS($A$1:A752))),\"\")","v":""},{"$f":"IFERROR(INDEX(اقساط!$B$3:$B$8532,SMALL(IF(اقساط!$G$3:$G$8532=B754,ROW($B$3:$B$8532)-ROW($B$3)+1),ROWS($C$3:C754))),\"\")","v":0}]
[{"$f":"IFERROR(INDEX(اقساط!$AT$3:$AT$8532,SMALL(IF(اقساط!$G$3:$G$8532=B755,ROW($AT$3:$AT$8532)-ROW($AT$3)+1),ROWS($A$3:A755))),\"\")","v":0},{"$f":"IFERROR(INDEX(Names,SMALL(IF(Names<>\"\",IF(MID(Names,1,LEN($B$1))=$B$1,ROW(Names)-ROW($G$3)+1)),ROWS($A$1:A753))),\"\")","v":""},{"$f":"IFERROR(INDEX(اقساط!$B$3:$B$8532,SMALL(IF(اقساط!$G$3:$G$8532=B755,ROW($B$3:$B$8532)-ROW($B$3)+1),ROWS($C$3:C755))),\"\")","v":0}]
[{"$f":"IFERROR(INDEX(اقساط!$AT$3:$AT$8532,SMALL(IF(اقساط!$G$3:$G$8532=B756,ROW($AT$3:$AT$8532)-ROW($AT$3)+1),ROWS($A$3:A756))),\"\")","v":0},{"$f":"IFERROR(INDEX(Names,SMALL(IF(Names<>\"\",IF(MID(Names,1,LEN($B$1))=$B$1,ROW(Names)-ROW($G$3)+1)),ROWS($A$1:A754))),\"\")","v":""},{"$f":"IFERROR(INDEX(اقساط!$B$3:$B$8532,SMALL(IF(اقساط!$G$3:$G$8532=B756,ROW($B$3:$B$8532)-ROW($B$3)+1),ROWS($C$3:C756))),\"\")","v":0}]
[{"$f":"IFERROR(INDEX(اقساط!$AT$3:$AT$8532,SMALL(IF(اقساط!$G$3:$G$8532=B757,ROW($AT$3:$AT$8532)-ROW($AT$3)+1),ROWS($A$3:A757))),\"\")","v":0},{"$f":"IFERROR(INDEX(Names,SMALL(IF(Names<>\"\",IF(MID(Names,1,LEN($B$1))=$B$1,ROW(Names)-ROW($G$3)+1)),ROWS($A$1:A755))),\"\")","v":""},{"$f":"IFERROR(INDEX(اقساط!$B$3:$B$8532,SMALL(IF(اقساط!$G$3:$G$8532=B757,ROW($B$3:$B$8532)-ROW($B$3)+1),ROWS($C$3:C757))),\"\")","v":0}]
[{"$f":"IFERROR(INDEX(اقساط!$AT$3:$AT$8532,SMALL(IF(اقساط!$G$3:$G$8532=B758,ROW($AT$3:$AT$8532)-ROW($AT$3)+1),ROWS($A$3:A758))),\"\")","v":0},{"$f":"IFERROR(INDEX(Names,SMALL(IF(Names<>\"\",IF(MID(Names,1,LEN($B$1))=$B$1,ROW(Names)-ROW($G$3)+1)),ROWS($A$1:A756))),\"\")","v":""},{"$f":"IFERROR(INDEX(اقساط!$B$3:$B$8532,SMALL(IF(اقساط!$G$3:$G$8532=B758,ROW($B$3:$B$8532)-ROW($B$3)+1),ROWS($C$3:C758))),\"\")","v":0}]
[{"$f":"IFERROR(INDEX(اقساط!$AT$3:$AT$8532,SMALL(IF(اقساط!$G$3:$G$8532=B759,ROW($AT$3:$AT$8532)-ROW($AT$3)+1),ROWS($A$3:A759))),\"\")","v":0},{"$f":"IFERROR(INDEX(Names,SMALL(IF(Names<>\"\",IF(MID(Names,1,LEN($B$1))=$B$1,ROW(Names)-ROW($G$3)+1)),ROWS($A$1:A757))),\"\")","v":""},{"$f":"IFERROR(INDEX(اقساط!$B$3:$B$8532,SMALL(IF(اقساط!$G$3:$G$8532=B759,ROW($B$3:$B$8532)-ROW($B$3)+1),ROWS($C$3:C759))),\"\")","v":0}]
[{"$f":"IFERROR(INDEX(اقساط!$AT$3:$AT$8532,SMALL(IF(اقساط!$G$3:$G$8532=B760,ROW($AT$3:$AT$8532)-ROW($AT$3)+1),ROWS($A$3:A760))),\"\")","v":0},{"$f":"IFERROR(INDEX(Names,SMALL(IF(Names<>\"\",IF(MID(Names,1,LEN($B$1))=$B$1,ROW(Names)-ROW($G$3)+1)),ROWS($A$1:A758))),\"\")","v":""},{"$f":"IFERROR(INDEX(اقساط!$B$3:$B$8532,SMALL(IF(اقساط!$G$3:$G$8532=B760,ROW($B$3:$B$8532)-ROW($B$3)+1),ROWS($C$3:C760))),\"\")","v":0}]
[{"$f":"IFERROR(INDEX(اقساط!$AT$3:$AT$8532,SMALL(IF(اقساط!$G$3:$G$8532=B761,ROW($AT$3:$AT$8532)-ROW($AT$3)+1),ROWS($A$3:A761))),\"\")","v":0},{"$f":"IFERROR(INDEX(Names,SMALL(IF(Names<>\"\",IF(MID(Names,1,LEN($B$1))=$B$1,ROW(Names)-ROW($G$3)+1)),ROWS($A$1:A759))),\"\")","v":""},{"$f":"IFERROR(INDEX(اقساط!$B$3:$B$8532,SMALL(IF(اقساط!$G$3:$G$8532=B761,ROW($B$3:$B$8532)-ROW($B$3)+1),ROWS($C$3:C761))),\"\")","v":0}]
[{"$f":"IFERROR(INDEX(اقساط!$AT$3:$AT$8532,SMALL(IF(اقساط!$G$3:$G$8532=B762,ROW($AT$3:$AT$8532)-ROW($AT$3)+1),ROWS($A$3:A762))),\"\")","v":0},{"$f":"IFERROR(INDEX(Names,SMALL(IF(Names<>\"\",IF(MID(Names,1,LEN($B$1))=$B$1,ROW(Names)-ROW($G$3)+1)),ROWS($A$1:A760))),\"\")","v":""},{"$f":"IFERROR(INDEX(اقساط!$B$3:$B$8532,SMALL(IF(اقساط!$G$3:$G$8532=B762,ROW($B$3:$B$8532)-ROW($B$3)+1),ROWS($C$3:C762))),\"\")","v":0}]
[{"$f":"IFERROR(INDEX(اقساط!$AT$3:$AT$8532,SMALL(IF(اقساط!$G$3:$G$8532=B763,ROW($AT$3:$AT$8532)-ROW($AT$3)+1),ROWS($A$3:A763))),\"\")","v":0},{"$f":"IFERROR(INDEX(Names,SMALL(IF(Names<>\"\",IF(MID(Names,1,LEN($B$1))=$B$1,ROW(Names)-ROW($G$3)+1)),ROWS($A$1:A761))),\"\")","v":""},{"$f":"IFERROR(INDEX(اقساط!$B$3:$B$8532,SMALL(IF(اقساط!$G$3:$G$8532=B763,ROW($B$3:$B$8532)-ROW($B$3)+1),ROWS($C$3:C763))),\"\")","v":0}]
[{"$f":"IFERROR(INDEX(اقساط!$AT$3:$AT$8532,SMALL(IF(اقساط!$G$3:$G$8532=B764,ROW($AT$3:$AT$8532)-ROW($AT$3)+1),ROWS($A$3:A764))),\"\")","v":0},{"$f":"IFERROR(INDEX(Names,SMALL(IF(Names<>\"\",IF(MID(Names,1,LEN($B$1))=$B$1,ROW(Names)-ROW($G$3)+1)),ROWS($A$1:A762))),\"\")","v":""},{"$f":"IFERROR(INDEX(اقساط!$B$3:$B$8532,SMALL(IF(اقساط!$G$3:$G$8532=B764,ROW($B$3:$B$8532)-ROW($B$3)+1),ROWS($C$3:C764))),\"\")","v":0}]
[{"$f":"IFERROR(INDEX(اقساط!$AT$3:$AT$8532,SMALL(IF(اقساط!$G$3:$G$8532=B765,ROW($AT$3:$AT$8532)-ROW($AT$3)+1),ROWS($A$3:A765))),\"\")","v":0},{"$f":"IFERROR(INDEX(Names,SMALL(IF(Names<>\"\",IF(MID(Names,1,LEN($B$1))=$B$1,ROW(Names)-ROW($G$3)+1)),ROWS($A$1:A763))),\"\")","v":""},{"$f":"IFERROR(INDEX(اقساط!$B$3:$B$8532,SMALL(IF(اقساط!$G$3:$G$8532=B765,ROW($B$3:$B$8532)-ROW($B$3)+1),ROWS($C$3:C765))),\"\")","v":0}]
[{"$f":"IFERROR(INDEX(اقساط!$AT$3:$AT$8532,SMALL(IF(اقساط!$G$3:$G$8532=B766,ROW($AT$3:$AT$8532)-ROW($AT$3)+1),ROWS($A$3:A766))),\"\")","v":0},{"$f":"IFERROR(INDEX(Names,SMALL(IF(Names<>\"\",IF(MID(Names,1,LEN($B$1))=$B$1,ROW(Names)-ROW($G$3)+1)),ROWS($A$1:A764))),\"\")","v":""},{"$f":"IFERROR(INDEX(اقساط!$B$3:$B$8532,SMALL(IF(اقساط!$G$3:$G$8532=B766,ROW($B$3:$B$8532)-ROW($B$3)+1),ROWS($C$3:C766))),\"\")","v":0}]
[{"$f":"IFERROR(INDEX(اقساط!$AT$3:$AT$8532,SMALL(IF(اقساط!$G$3:$G$8532=B767,ROW($AT$3:$AT$8532)-ROW($AT$3)+1),ROWS($A$3:A767))),\"\")","v":0},{"$f":"IFERROR(INDEX(Names,SMALL(IF(Names<>\"\",IF(MID(Names,1,LEN($B$1))=$B$1,ROW(Names)-ROW($G$3)+1)),ROWS($A$1:A765))),\"\")","v":""},{"$f":"IFERROR(INDEX(اقساط!$B$3:$B$8532,SMALL(IF(اقساط!$G$3:$G$8532=B767,ROW($B$3:$B$8532)-ROW($B$3)+1),ROWS($C$3:C767))),\"\")","v":0}]
[{"$f":"IFERROR(INDEX(اقساط!$AT$3:$AT$8532,SMALL(IF(اقساط!$G$3:$G$8532=B768,ROW($AT$3:$AT$8532)-ROW($AT$3)+1),ROWS($A$3:A768))),\"\")","v":0},{"$f":"IFERROR(INDEX(Names,SMALL(IF(Names<>\"\",IF(MID(Names,1,LEN($B$1))=$B$1,ROW(Names)-ROW($G$3)+1)),ROWS($A$1:A766))),\"\")","v":""},{"$f":"IFERROR(INDEX(اقساط!$B$3:$B$8532,SMALL(IF(اقساط!$G$3:$G$8532=B768,ROW($B$3:$B$8532)-ROW($B$3)+1),ROWS($C$3:C768))),\"\")","v":0}]
[{"$f":"IFERROR(INDEX(اقساط!$AT$3:$AT$8532,SMALL(IF(اقساط!$G$3:$G$8532=B769,ROW($AT$3:$AT$8532)-ROW($AT$3)+1),ROWS($A$3:A769))),\"\")","v":0},{"$f":"IFERROR(INDEX(Names,SMALL(IF(Names<>\"\",IF(MID(Names,1,LEN($B$1))=$B$1,ROW(Names)-ROW($G$3)+1)),ROWS($A$1:A767))),\"\")","v":""},{"$f":"IFERROR(INDEX(اقساط!$B$3:$B$8532,SMALL(IF(اقساط!$G$3:$G$8532=B769,ROW($B$3:$B$8532)-ROW($B$3)+1),ROWS($C$3:C769))),\"\")","v":0}]
[{"$f":"IFERROR(INDEX(اقساط!$AT$3:$AT$8532,SMALL(IF(اقساط!$G$3:$G$8532=B770,ROW($AT$3:$AT$8532)-ROW($AT$3)+1),ROWS($A$3:A770))),\"\")","v":0},{"$f":"IFERROR(INDEX(Names,SMALL(IF(Names<>\"\",IF(MID(Names,1,LEN($B$1))=$B$1,ROW(Names)-ROW($G$3)+1)),ROWS($A$1:A768))),\"\")","v":""},{"$f":"IFERROR(INDEX(اقساط!$B$3:$B$8532,SMALL(IF(اقساط!$G$3:$G$8532=B770,ROW($B$3:$B$8532)-ROW($B$3)+1),ROWS($C$3:C770))),\"\")","v":0}]
[{"$f":"IFERROR(INDEX(اقساط!$AT$3:$AT$8532,SMALL(IF(اقساط!$G$3:$G$8532=B771,ROW($AT$3:$AT$8532)-ROW($AT$3)+1),ROWS($A$3:A771))),\"\")","v":0},{"$f":"IFERROR(INDEX(Names,SMALL(IF(Names<>\"\",IF(MID(Names,1,LEN($B$1))=$B$1,ROW(Names)-ROW($G$3)+1)),ROWS($A$1:A769))),\"\")","v":""},{"$f":"IFERROR(INDEX(اقساط!$B$3:$B$8532,SMALL(IF(اقساط!$G$3:$G$8532=B771,ROW($B$3:$B$8532)-ROW($B$3)+1),ROWS($C$3:C771))),\"\")","v":0}]
[{"$f":"IFERROR(INDEX(اقساط!$AT$3:$AT$8532,SMALL(IF(اقساط!$G$3:$G$8532=B772,ROW($AT$3:$AT$8532)-ROW($AT$3)+1),ROWS($A$3:A772))),\"\")","v":0},{"$f":"IFERROR(INDEX(Names,SMALL(IF(Names<>\"\",IF(MID(Names,1,LEN($B$1))=$B$1,ROW(Names)-ROW($G$3)+1)),ROWS($A$1:A770))),\"\")","v":""},{"$f":"IFERROR(INDEX(اقساط!$B$3:$B$8532,SMALL(IF(اقساط!$G$3:$G$8532=B772,ROW($B$3:$B$8532)-ROW($B$3)+1),ROWS($C$3:C772))),\"\")","v":0}]
[{"$f":"IFERROR(INDEX(اقساط!$AT$3:$AT$8532,SMALL(IF(اقساط!$G$3:$G$8532=B773,ROW($AT$3:$AT$8532)-ROW($AT$3)+1),ROWS($A$3:A773))),\"\")","v":0},{"$f":"IFERROR(INDEX(Names,SMALL(IF(Names<>\"\",IF(MID(Names,1,LEN($B$1))=$B$1,ROW(Names)-ROW($G$3)+1)),ROWS($A$1:A771))),\"\")","v":""},{"$f":"IFERROR(INDEX(اقساط!$B$3:$B$8532,SMALL(IF(اقساط!$G$3:$G$8532=B773,ROW($B$3:$B$8532)-ROW($B$3)+1),ROWS($C$3:C773))),\"\")","v":0}]
[{"$f":"IFERROR(INDEX(اقساط!$AT$3:$AT$8532,SMALL(IF(اقساط!$G$3:$G$8532=B774,ROW($AT$3:$AT$8532)-ROW($AT$3)+1),ROWS($A$3:A774))),\"\")","v":0},{"$f":"IFERROR(INDEX(Names,SMALL(IF(Names<>\"\",IF(MID(Names,1,LEN($B$1))=$B$1,ROW(Names)-ROW($G$3)+1)),ROWS($A$1:A772))),\"\")","v":""},{"$f":"IFERROR(INDEX(اقساط!$B$3:$B$8532,SMALL(IF(اقساط!$G$3:$G$8532=B774,ROW($B$3:$B$8532)-ROW($B$3)+1),ROWS($C$3:C774))),\"\")","v":0}]
[{"$f":"IFERROR(INDEX(اقساط!$AT$3:$AT$8532,SMALL(IF(اقساط!$G$3:$G$8532=B775,ROW($AT$3:$AT$8532)-ROW($AT$3)+1),ROWS($A$3:A775))),\"\")","v":0},{"$f":"IFERROR(INDEX(Names,SMALL(IF(Names<>\"\",IF(MID(Names,1,LEN($B$1))=$B$1,ROW(Names)-ROW($G$3)+1)),ROWS($A$1:A773))),\"\")","v":""},{"$f":"IFERROR(INDEX(اقساط!$B$3:$B$8532,SMALL(IF(اقساط!$G$3:$G$8532=B775,ROW($B$3:$B$8532)-ROW($B$3)+1),ROWS($C$3:C775))),\"\")","v":0}]
[{"$f":"IFERROR(INDEX(اقساط!$AT$3:$AT$8532,SMALL(IF(اقساط!$G$3:$G$8532=B776,ROW($AT$3:$AT$8532)-ROW($AT$3)+1),ROWS($A$3:A776))),\"\")","v":0},{"$f":"IFERROR(INDEX(Names,SMALL(IF(Names<>\"\",IF(MID(Names,1,LEN($B$1))=$B$1,ROW(Names)-ROW($G$3)+1)),ROWS($A$1:A774))),\"\")","v":""},{"$f":"IFERROR(INDEX(اقساط!$B$3:$B$8532,SMALL(IF(اقساط!$G$3:$G$8532=B776,ROW($B$3:$B$8532)-ROW($B$3)+1),ROWS($C$3:C776))),\"\")","v":0}]
[{"$f":"IFERROR(INDEX(اقساط!$AT$3:$AT$8532,SMALL(IF(اقساط!$G$3:$G$8532=B777,ROW($AT$3:$AT$8532)-ROW($AT$3)+1),ROWS($A$3:A777))),\"\")","v":0},{"$f":"IFERROR(INDEX(Names,SMALL(IF(Names<>\"\",IF(MID(Names,1,LEN($B$1))=$B$1,ROW(Names)-ROW($G$3)+1)),ROWS($A$1:A775))),\"\")","v":""},{"$f":"IFERROR(INDEX(اقساط!$B$3:$B$8532,SMALL(IF(اقساط!$G$3:$G$8532=B777,ROW($B$3:$B$8532)-ROW($B$3)+1),ROWS($C$3:C777))),\"\")","v":0}]
[{"$f":"IFERROR(INDEX(اقساط!$AT$3:$AT$8532,SMALL(IF(اقساط!$G$3:$G$8532=B778,ROW($AT$3:$AT$8532)-ROW($AT$3)+1),ROWS($A$3:A778))),\"\")","v":0},{"$f":"IFERROR(INDEX(Names,SMALL(IF(Names<>\"\",IF(MID(Names,1,LEN($B$1))=$B$1,ROW(Names)-ROW($G$3)+1)),ROWS($A$1:A776))),\"\")","v":""},{"$f":"IFERROR(INDEX(اقساط!$B$3:$B$8532,SMALL(IF(اقساط!$G$3:$G$8532=B778,ROW($B$3:$B$8532)-ROW($B$3)+1),ROWS($C$3:C778))),\"\")","v":0}]
[{"$f":"IFERROR(INDEX(اقساط!$AT$3:$AT$8532,SMALL(IF(اقساط!$G$3:$G$8532=B779,ROW($AT$3:$AT$8532)-ROW($AT$3)+1),ROWS($A$3:A779))),\"\")","v":0},{"$f":"IFERROR(INDEX(Names,SMALL(IF(Names<>\"\",IF(MID(Names,1,LEN($B$1))=$B$1,ROW(Names)-ROW($G$3)+1)),ROWS($A$1:A777))),\"\")","v":""},{"$f":"IFERROR(INDEX(اقساط!$B$3:$B$8532,SMALL(IF(اقساط!$G$3:$G$8532=B779,ROW($B$3:$B$8532)-ROW($B$3)+1),ROWS($C$3:C779))),\"\")","v":0}]
[{"$f":"IFERROR(INDEX(اقساط!$AT$3:$AT$8532,SMALL(IF(اقساط!$G$3:$G$8532=B780,ROW($AT$3:$AT$8532)-ROW($AT$3)+1),ROWS($A$3:A780))),\"\")","v":0},{"$f":"IFERROR(INDEX(Names,SMALL(IF(Names<>\"\",IF(MID(Names,1,LEN($B$1))=$B$1,ROW(Names)-ROW($G$3)+1)),ROWS($A$1:A778))),\"\")","v":""},{"$f":"IFERROR(INDEX(اقساط!$B$3:$B$8532,SMALL(IF(اقساط!$G$3:$G$8532=B780,ROW($B$3:$B$8532)-ROW($B$3)+1),ROWS($C$3:C780))),\"\")","v":0}]
[{"$f":"IFERROR(INDEX(اقساط!$AT$3:$AT$8532,SMALL(IF(اقساط!$G$3:$G$8532=B781,ROW($AT$3:$AT$8532)-ROW($AT$3)+1),ROWS($A$3:A781))),\"\")","v":0},{"$f":"IFERROR(INDEX(Names,SMALL(IF(Names<>\"\",IF(MID(Names,1,LEN($B$1))=$B$1,ROW(Names)-ROW($G$3)+1)),ROWS($A$1:A779))),\"\")","v":""},{"$f":"IFERROR(INDEX(اقساط!$B$3:$B$8532,SMALL(IF(اقساط!$G$3:$G$8532=B781,ROW($B$3:$B$8532)-ROW($B$3)+1),ROWS($C$3:C781))),\"\")","v":0}]
[{"$f":"IFERROR(INDEX(اقساط!$AT$3:$AT$8532,SMALL(IF(اقساط!$G$3:$G$8532=B782,ROW($AT$3:$AT$8532)-ROW($AT$3)+1),ROWS($A$3:A782))),\"\")","v":0},{"$f":"IFERROR(INDEX(Names,SMALL(IF(Names<>\"\",IF(MID(Names,1,LEN($B$1))=$B$1,ROW(Names)-ROW($G$3)+1)),ROWS($A$1:A780))),\"\")","v":""},{"$f":"IFERROR(INDEX(اقساط!$B$3:$B$8532,SMALL(IF(اقساط!$G$3:$G$8532=B782,ROW($B$3:$B$8532)-ROW($B$3)+1),ROWS($C$3:C782))),\"\")","v":0}]
[{"$f":"IFERROR(INDEX(اقساط!$AT$3:$AT$8532,SMALL(IF(اقساط!$G$3:$G$8532=B783,ROW($AT$3:$AT$8532)-ROW($AT$3)+1),ROWS($A$3:A783))),\"\")","v":0},{"$f":"IFERROR(INDEX(Names,SMALL(IF(Names<>\"\",IF(MID(Names,1,LEN($B$1))=$B$1,ROW(Names)-ROW($G$3)+1)),ROWS($A$1:A781))),\"\")","v":""},{"$f":"IFERROR(INDEX(اقساط!$B$3:$B$8532,SMALL(IF(اقساط!$G$3:$G$8532=B783,ROW($B$3:$B$8532)-ROW($B$3)+1),ROWS($C$3:C783))),\"\")","v":0}]
[{"$f":"IFERROR(INDEX(اقساط!$AT$3:$AT$8532,SMALL(IF(اقساط!$G$3:$G$8532=B784,ROW($AT$3:$AT$8532)-ROW($AT$3)+1),ROWS($A$3:A784))),\"\")","v":0},{"$f":"IFERROR(INDEX(Names,SMALL(IF(Names<>\"\",IF(MID(Names,1,LEN($B$1))=$B$1,ROW(Names)-ROW($G$3)+1)),ROWS($A$1:A782))),\"\")","v":""},{"$f":"IFERROR(INDEX(اقساط!$B$3:$B$8532,SMALL(IF(اقساط!$G$3:$G$8532=B784,ROW($B$3:$B$8532)-ROW($B$3)+1),ROWS($C$3:C784))),\"\")","v":0}]
[{"$f":"IFERROR(INDEX(اقساط!$AT$3:$AT$8532,SMALL(IF(اقساط!$G$3:$G$8532=B785,ROW($AT$3:$AT$8532)-ROW($AT$3)+1),ROWS($A$3:A785))),\"\")","v":0},{"$f":"IFERROR(INDEX(Names,SMALL(IF(Names<>\"\",IF(MID(Names,1,LEN($B$1))=$B$1,ROW(Names)-ROW($G$3)+1)),ROWS($A$1:A783))),\"\")","v":""},{"$f":"IFERROR(INDEX(اقساط!$B$3:$B$8532,SMALL(IF(اقساط!$G$3:$G$8532=B785,ROW($B$3:$B$8532)-ROW($B$3)+1),ROWS($C$3:C785))),\"\")","v":0}]
[{"$f":"IFERROR(INDEX(اقساط!$AT$3:$AT$8532,SMALL(IF(اقساط!$G$3:$G$8532=B786,ROW($AT$3:$AT$8532)-ROW($AT$3)+1),ROWS($A$3:A786))),\"\")","v":0},{"$f":"IFERROR(INDEX(Names,SMALL(IF(Names<>\"\",IF(MID(Names,1,LEN($B$1))=$B$1,ROW(Names)-ROW($G$3)+1)),ROWS($A$1:A784))),\"\")","v":""},{"$f":"IFERROR(INDEX(اقساط!$B$3:$B$8532,SMALL(IF(اقساط!$G$3:$G$8532=B786,ROW($B$3:$B$8532)-ROW($B$3)+1),ROWS($C$3:C786))),\"\")","v":0}]
[{"$f":"IFERROR(INDEX(اقساط!$AT$3:$AT$8532,SMALL(IF(اقساط!$G$3:$G$8532=B787,ROW($AT$3:$AT$8532)-ROW($AT$3)+1),ROWS($A$3:A787))),\"\")","v":0},{"$f":"IFERROR(INDEX(Names,SMALL(IF(Names<>\"\",IF(MID(Names,1,LEN($B$1))=$B$1,ROW(Names)-ROW($G$3)+1)),ROWS($A$1:A785))),\"\")","v":""},{"$f":"IFERROR(INDEX(اقساط!$B$3:$B$8532,SMALL(IF(اقساط!$G$3:$G$8532=B787,ROW($B$3:$B$8532)-ROW($B$3)+1),ROWS($C$3:C787))),\"\")","v":0}]
[{"$f":"IFERROR(INDEX(اقساط!$AT$3:$AT$8532,SMALL(IF(اقساط!$G$3:$G$8532=B788,ROW($AT$3:$AT$8532)-ROW($AT$3)+1),ROWS($A$3:A788))),\"\")","v":0},{"$f":"IFERROR(INDEX(Names,SMALL(IF(Names<>\"\",IF(MID(Names,1,LEN($B$1))=$B$1,ROW(Names)-ROW($G$3)+1)),ROWS($A$1:A786))),\"\")","v":""},{"$f":"IFERROR(INDEX(اقساط!$B$3:$B$8532,SMALL(IF(اقساط!$G$3:$G$8532=B788,ROW($B$3:$B$8532)-ROW($B$3)+1),ROWS($C$3:C788))),\"\")","v":0}]
[{"$f":"IFERROR(INDEX(اقساط!$AT$3:$AT$8532,SMALL(IF(اقساط!$G$3:$G$8532=B789,ROW($AT$3:$AT$8532)-ROW($AT$3)+1),ROWS($A$3:A789))),\"\")","v":0},{"$f":"IFERROR(INDEX(Names,SMALL(IF(Names<>\"\",IF(MID(Names,1,LEN($B$1))=$B$1,ROW(Names)-ROW($G$3)+1)),ROWS($A$1:A787))),\"\")","v":""},{"$f":"IFERROR(INDEX(اقساط!$B$3:$B$8532,SMALL(IF(اقساط!$G$3:$G$8532=B789,ROW($B$3:$B$8532)-ROW($B$3)+1),ROWS($C$3:C789))),\"\")","v":0}]
[{"$f":"IFERROR(INDEX(اقساط!$AT$3:$AT$8532,SMALL(IF(اقساط!$G$3:$G$8532=B790,ROW($AT$3:$AT$8532)-ROW($AT$3)+1),ROWS($A$3:A790))),\"\")","v":0},{"$f":"IFERROR(INDEX(Names,SMALL(IF(Names<>\"\",IF(MID(Names,1,LEN($B$1))=$B$1,ROW(Names)-ROW($G$3)+1)),ROWS($A$1:A788))),\"\")","v":""},{"$f":"IFERROR(INDEX(اقساط!$B$3:$B$8532,SMALL(IF(اقساط!$G$3:$G$8532=B790,ROW($B$3:$B$8532)-ROW($B$3)+1),ROWS($C$3:C790))),\"\")","v":0}]
[{"$f":"IFERROR(INDEX(اقساط!$AT$3:$AT$8532,SMALL(IF(اقساط!$G$3:$G$8532=B791,ROW($AT$3:$AT$8532)-ROW($AT$3)+1),ROWS($A$3:A791))),\"\")","v":0},{"$f":"IFERROR(INDEX(Names,SMALL(IF(Names<>\"\",IF(MID(Names,1,LEN($B$1))=$B$1,ROW(Names)-ROW($G$3)+1)),ROWS($A$1:A789))),\"\")","v":""},{"$f":"IFERROR(INDEX(اقساط!$B$3:$B$8532,SMALL(IF(اقساط!$G$3:$G$8532=B791,ROW($B$3:$B$8532)-ROW($B$3)+1),ROWS($C$3:C791))),\"\")","v":0}]
[{"$f":"IFERROR(INDEX(اقساط!$AT$3:$AT$8532,SMALL(IF(اقساط!$G$3:$G$8532=B792,ROW($AT$3:$AT$8532)-ROW($AT$3)+1),ROWS($A$3:A792))),\"\")","v":0},{"$f":"IFERROR(INDEX(Names,SMALL(IF(Names<>\"\",IF(MID(Names,1,LEN($B$1))=$B$1,ROW(Names)-ROW($G$3)+1)),ROWS($A$1:A790))),\"\")","v":""},{"$f":"IFERROR(INDEX(اقساط!$B$3:$B$8532,SMALL(IF(اقساط!$G$3:$G$8532=B792,ROW($B$3:$B$8532)-ROW($B$3)+1),ROWS($C$3:C792))),\"\")","v":0}]
[{"$f":"IFERROR(INDEX(اقساط!$AT$3:$AT$8532,SMALL(IF(اقساط!$G$3:$G$8532=B793,ROW($AT$3:$AT$8532)-ROW($AT$3)+1),ROWS($A$3:A793))),\"\")","v":0},{"$f":"IFERROR(INDEX(Names,SMALL(IF(Names<>\"\",IF(MID(Names,1,LEN($B$1))=$B$1,ROW(Names)-ROW($G$3)+1)),ROWS($A$1:A791))),\"\")","v":""},{"$f":"IFERROR(INDEX(اقساط!$B$3:$B$8532,SMALL(IF(اقساط!$G$3:$G$8532=B793,ROW($B$3:$B$8532)-ROW($B$3)+1),ROWS($C$3:C793))),\"\")","v":0}]
[{"$f":"IFERROR(INDEX(اقساط!$AT$3:$AT$8532,SMALL(IF(اقساط!$G$3:$G$8532=B794,ROW($AT$3:$AT$8532)-ROW($AT$3)+1),ROWS($A$3:A794))),\"\")","v":0},{"$f":"IFERROR(INDEX(Names,SMALL(IF(Names<>\"\",IF(MID(Names,1,LEN($B$1))=$B$1,ROW(Names)-ROW($G$3)+1)),ROWS($A$1:A792))),\"\")","v":""},{"$f":"IFERROR(INDEX(اقساط!$B$3:$B$8532,SMALL(IF(اقساط!$G$3:$G$8532=B794,ROW($B$3:$B$8532)-ROW($B$3)+1),ROWS($C$3:C794))),\"\")","v":0}]
[{"$f":"IFERROR(INDEX(اقساط!$AT$3:$AT$8532,SMALL(IF(اقساط!$G$3:$G$8532=B795,ROW($AT$3:$AT$8532)-ROW($AT$3)+1),ROWS($A$3:A795))),\"\")","v":0},{"$f":"IFERROR(INDEX(Names,SMALL(IF(Names<>\"\",IF(MID(Names,1,LEN($B$1))=$B$1,ROW(Names)-ROW($G$3)+1)),ROWS($A$1:A793))),\"\")","v":""},{"$f":"IFERROR(INDEX(اقساط!$B$3:$B$8532,SMALL(IF(اقساط!$G$3:$G$8532=B795,ROW($B$3:$B$8532)-ROW($B$3)+1),ROWS($C$3:C795))),\"\")","v":0}]
[{"$f":"IFERROR(INDEX(اقساط!$AT$3:$AT$8532,SMALL(IF(اقساط!$G$3:$G$8532=B796,ROW($AT$3:$AT$8532)-ROW($AT$3)+1),ROWS($A$3:A796))),\"\")","v":0},{"$f":"IFERROR(INDEX(Names,SMALL(IF(Names<>\"\",IF(MID(Names,1,LEN($B$1))=$B$1,ROW(Names)-ROW($G$3)+1)),ROWS($A$1:A794))),\"\")","v":""},{"$f":"IFERROR(INDEX(اقساط!$B$3:$B$8532,SMALL(IF(اقساط!$G$3:$G$8532=B796,ROW($B$3:$B$8532)-ROW($B$3)+1),ROWS($C$3:C796))),\"\")","v":0}]
[{"$f":"IFERROR(INDEX(اقساط!$AT$3:$AT$8532,SMALL(IF(اقساط!$G$3:$G$8532=B797,ROW($AT$3:$AT$8532)-ROW($AT$3)+1),ROWS($A$3:A797))),\"\")","v":0},{"$f":"IFERROR(INDEX(Names,SMALL(IF(Names<>\"\",IF(MID(Names,1,LEN($B$1))=$B$1,ROW(Names)-ROW($G$3)+1)),ROWS($A$1:A795))),\"\")","v":""},{"$f":"IFERROR(INDEX(اقساط!$B$3:$B$8532,SMALL(IF(اقساط!$G$3:$G$8532=B797,ROW($B$3:$B$8532)-ROW($B$3)+1),ROWS($C$3:C797))),\"\")","v":0}]
[{"$f":"IFERROR(INDEX(اقساط!$AT$3:$AT$8532,SMALL(IF(اقساط!$G$3:$G$8532=B798,ROW($AT$3:$AT$8532)-ROW($AT$3)+1),ROWS($A$3:A798))),\"\")","v":0},{"$f":"IFERROR(INDEX(Names,SMALL(IF(Names<>\"\",IF(MID(Names,1,LEN($B$1))=$B$1,ROW(Names)-ROW($G$3)+1)),ROWS($A$1:A796))),\"\")","v":""},{"$f":"IFERROR(INDEX(اقساط!$B$3:$B$8532,SMALL(IF(اقساط!$G$3:$G$8532=B798,ROW($B$3:$B$8532)-ROW($B$3)+1),ROWS($C$3:C798))),\"\")","v":0}]
[{"$f":"IFERROR(INDEX(اقساط!$AT$3:$AT$8532,SMALL(IF(اقساط!$G$3:$G$8532=B799,ROW($AT$3:$AT$8532)-ROW($AT$3)+1),ROWS($A$3:A799))),\"\")","v":0},{"$f":"IFERROR(INDEX(Names,SMALL(IF(Names<>\"\",IF(MID(Names,1,LEN($B$1))=$B$1,ROW(Names)-ROW($G$3)+1)),ROWS($A$1:A797))),\"\")","v":""},{"$f":"IFERROR(INDEX(اقساط!$B$3:$B$8532,SMALL(IF(اقساط!$G$3:$G$8532=B799,ROW($B$3:$B$8532)-ROW($B$3)+1),ROWS($C$3:C799))),\"\")","v":0}]
[{"$f":"IFERROR(INDEX(اقساط!$AT$3:$AT$8532,SMALL(IF(اقساط!$G$3:$G$8532=B800,ROW($AT$3:$AT$8532)-ROW($AT$3)+1),ROWS($A$3:A800))),\"\")","v":0},{"$f":"IFERROR(INDEX(Names,SMALL(IF(Names<>\"\",IF(MID(Names,1,LEN($B$1))=$B$1,ROW(Names)-ROW($G$3)+1)),ROWS($A$1:A798))),\"\")","v":""},{"$f":"IFERROR(INDEX(اقساط!$B$3:$B$8532,SMALL(IF(اقساط!$G$3:$G$8532=B800,ROW($B$3:$B$8532)-ROW($B$3)+1),ROWS($C$3:C800))),\"\")","v":0}]
[{"$f":"IFERROR(INDEX(اقساط!$AT$3:$AT$8532,SMALL(IF(اقساط!$G$3:$G$8532=B801,ROW($AT$3:$AT$8532)-ROW($AT$3)+1),ROWS($A$3:A801))),\"\")","v":0},{"$f":"IFERROR(INDEX(Names,SMALL(IF(Names<>\"\",IF(MID(Names,1,LEN($B$1))=$B$1,ROW(Names)-ROW($G$3)+1)),ROWS($A$1:A799))),\"\")","v":""},{"$f":"IFERROR(INDEX(اقساط!$B$3:$B$8532,SMALL(IF(اقساط!$G$3:$G$8532=B801,ROW($B$3:$B$8532)-ROW($B$3)+1),ROWS($C$3:C801))),\"\")","v":0}]
[{"$f":"IFERROR(INDEX(اقساط!$AT$3:$AT$8532,SMALL(IF(اقساط!$G$3:$G$8532=B802,ROW($AT$3:$AT$8532)-ROW($AT$3)+1),ROWS($A$3:A802))),\"\")","v":0},{"$f":"IFERROR(INDEX(Names,SMALL(IF(Names<>\"\",IF(MID(Names,1,LEN($B$1))=$B$1,ROW(Names)-ROW($G$3)+1)),ROWS($A$1:A800))),\"\")","v":""},{"$f":"IFERROR(INDEX(اقساط!$B$3:$B$8532,SMALL(IF(اقساط!$G$3:$G$8532=B802,ROW($B$3:$B$8532)-ROW($B$3)+1),ROWS($C$3:C802))),\"\")","v":0}]
[{"$f":"IFERROR(INDEX(اقساط!$AT$3:$AT$8532,SMALL(IF(اقساط!$G$3:$G$8532=B803,ROW($AT$3:$AT$8532)-ROW($AT$3)+1),ROWS($A$3:A803))),\"\")","v":0},{"$f":"IFERROR(INDEX(Names,SMALL(IF(Names<>\"\",IF(MID(Names,1,LEN($B$1))=$B$1,ROW(Names)-ROW($G$3)+1)),ROWS($A$1:A801))),\"\")","v":""},{"$f":"IFERROR(INDEX(اقساط!$B$3:$B$8532,SMALL(IF(اقساط!$G$3:$G$8532=B803,ROW($B$3:$B$8532)-ROW($B$3)+1),ROWS($C$3:C803))),\"\")","v":0}]
[{"$f":"IFERROR(INDEX(اقساط!$AT$3:$AT$8532,SMALL(IF(اقساط!$G$3:$G$8532=B804,ROW($AT$3:$AT$8532)-ROW($AT$3)+1),ROWS($A$3:A804))),\"\")","v":0},{"$f":"IFERROR(INDEX(Names,SMALL(IF(Names<>\"\",IF(MID(Names,1,LEN($B$1))=$B$1,ROW(Names)-ROW($G$3)+1)),ROWS($A$1:A802))),\"\")","v":""},{"$f":"IFERROR(INDEX(اقساط!$B$3:$B$8532,SMALL(IF(اقساط!$G$3:$G$8532=B804,ROW($B$3:$B$8532)-ROW($B$3)+1),ROWS($C$3:C804))),\"\")","v":0}]
[{"$f":"IFERROR(INDEX(اقساط!$AT$3:$AT$8532,SMALL(IF(اقساط!$G$3:$G$8532=B805,ROW($AT$3:$AT$8532)-ROW($AT$3)+1),ROWS($A$3:A805))),\"\")","v":0},{"$f":"IFERROR(INDEX(Names,SMALL(IF(Names<>\"\",IF(MID(Names,1,LEN($B$1))=$B$1,ROW(Names)-ROW($G$3)+1)),ROWS($A$1:A803))),\"\")","v":""},{"$f":"IFERROR(INDEX(اقساط!$B$3:$B$8532,SMALL(IF(اقساط!$G$3:$G$8532=B805,ROW($B$3:$B$8532)-ROW($B$3)+1),ROWS($C$3:C805))),\"\")","v":0}]
[{"$f":"IFERROR(INDEX(اقساط!$AT$3:$AT$8532,SMALL(IF(اقساط!$G$3:$G$8532=B806,ROW($AT$3:$AT$8532)-ROW($AT$3)+1),ROWS($A$3:A806))),\"\")","v":0},{"$f":"IFERROR(INDEX(Names,SMALL(IF(Names<>\"\",IF(MID(Names,1,LEN($B$1))=$B$1,ROW(Names)-ROW($G$3)+1)),ROWS($A$1:A804))),\"\")","v":""},{"$f":"IFERROR(INDEX(اقساط!$B$3:$B$8532,SMALL(IF(اقساط!$G$3:$G$8532=B806,ROW($B$3:$B$8532)-ROW($B$3)+1),ROWS($C$3:C806))),\"\")","v":0}]
[{"$f":"IFERROR(INDEX(اقساط!$AT$3:$AT$8532,SMALL(IF(اقساط!$G$3:$G$8532=B807,ROW($AT$3:$AT$8532)-ROW($AT$3)+1),ROWS($A$3:A807))),\"\")","v":0},{"$f":"IFERROR(INDEX(Names,SMALL(IF(Names<>\"\",IF(MID(Names,1,LEN($B$1))=$B$1,ROW(Names)-ROW($G$3)+1)),ROWS($A$1:A805))),\"\")","v":""},{"$f":"IFERROR(INDEX(اقساط!$B$3:$B$8532,SMALL(IF(اقساط!$G$3:$G$8532=B807,ROW($B$3:$B$8532)-ROW($B$3)+1),ROWS($C$3:C807))),\"\")","v":0}]
[{"$f":"IFERROR(INDEX(اقساط!$AT$3:$AT$8532,SMALL(IF(اقساط!$G$3:$G$8532=B808,ROW($AT$3:$AT$8532)-ROW($AT$3)+1),ROWS($A$3:A808))),\"\")","v":0},{"$f":"IFERROR(INDEX(Names,SMALL(IF(Names<>\"\",IF(MID(Names,1,LEN($B$1))=$B$1,ROW(Names)-ROW($G$3)+1)),ROWS($A$1:A806))),\"\")","v":""},{"$f":"IFERROR(INDEX(اقساط!$B$3:$B$8532,SMALL(IF(اقساط!$G$3:$G$8532=B808,ROW($B$3:$B$8532)-ROW($B$3)+1),ROWS($C$3:C808))),\"\")","v":0}]
[{"$f":"IFERROR(INDEX(اقساط!$AT$3:$AT$8532,SMALL(IF(اقساط!$G$3:$G$8532=B809,ROW($AT$3:$AT$8532)-ROW($AT$3)+1),ROWS($A$3:A809))),\"\")","v":0},{"$f":"IFERROR(INDEX(Names,SMALL(IF(Names<>\"\",IF(MID(Names,1,LEN($B$1))=$B$1,ROW(Names)-ROW($G$3)+1)),ROWS($A$1:A807))),\"\")","v":""},{"$f":"IFERROR(INDEX(اقساط!$B$3:$B$8532,SMALL(IF(اقساط!$G$3:$G$8532=B809,ROW($B$3:$B$8532)-ROW($B$3)+1),ROWS($C$3:C809))),\"\")","v":0}]
[{"$f":"IFERROR(INDEX(اقساط!$AT$3:$AT$8532,SMALL(IF(اقساط!$G$3:$G$8532=B810,ROW($AT$3:$AT$8532)-ROW($AT$3)+1),ROWS($A$3:A810))),\"\")","v":0},{"$f":"IFERROR(INDEX(Names,SMALL(IF(Names<>\"\",IF(MID(Names,1,LEN($B$1))=$B$1,ROW(Names)-ROW($G$3)+1)),ROWS($A$1:A808))),\"\")","v":""},{"$f":"IFERROR(INDEX(اقساط!$B$3:$B$8532,SMALL(IF(اقساط!$G$3:$G$8532=B810,ROW($B$3:$B$8532)-ROW($B$3)+1),ROWS($C$3:C810))),\"\")","v":0}]
[{"$f":"IFERROR(INDEX(اقساط!$AT$3:$AT$8532,SMALL(IF(اقساط!$G$3:$G$8532=B811,ROW($AT$3:$AT$8532)-ROW($AT$3)+1),ROWS($A$3:A811))),\"\")","v":0},{"$f":"IFERROR(INDEX(Names,SMALL(IF(Names<>\"\",IF(MID(Names,1,LEN($B$1))=$B$1,ROW(Names)-ROW($G$3)+1)),ROWS($A$1:A809))),\"\")","v":""},{"$f":"IFERROR(INDEX(اقساط!$B$3:$B$8532,SMALL(IF(اقساط!$G$3:$G$8532=B811,ROW($B$3:$B$8532)-ROW($B$3)+1),ROWS($C$3:C811))),\"\")","v":0}]
[{"$f":"IFERROR(INDEX(اقساط!$AT$3:$AT$8532,SMALL(IF(اقساط!$G$3:$G$8532=B812,ROW($AT$3:$AT$8532)-ROW($AT$3)+1),ROWS($A$3:A812))),\"\")","v":0},{"$f":"IFERROR(INDEX(Names,SMALL(IF(Names<>\"\",IF(MID(Names,1,LEN($B$1))=$B$1,ROW(Names)-ROW($G$3)+1)),ROWS($A$1:A810))),\"\")","v":""},{"$f":"IFERROR(INDEX(اقساط!$B$3:$B$8532,SMALL(IF(اقساط!$G$3:$G$8532=B812,ROW($B$3:$B$8532)-ROW($B$3)+1),ROWS($C$3:C812))),\"\")","v":0}]
[{"$f":"IFERROR(INDEX(اقساط!$AT$3:$AT$8532,SMALL(IF(اقساط!$G$3:$G$8532=B813,ROW($AT$3:$AT$8532)-ROW($AT$3)+1),ROWS($A$3:A813))),\"\")","v":0},{"$f":"IFERROR(INDEX(Names,SMALL(IF(Names<>\"\",IF(MID(Names,1,LEN($B$1))=$B$1,ROW(Names)-ROW($G$3)+1)),ROWS($A$1:A811))),\"\")","v":""},{"$f":"IFERROR(INDEX(اقساط!$B$3:$B$8532,SMALL(IF(اقساط!$G$3:$G$8532=B813,ROW($B$3:$B$8532)-ROW($B$3)+1),ROWS($C$3:C813))),\"\")","v":0}]
[{"$f":"IFERROR(INDEX(اقساط!$AT$3:$AT$8532,SMALL(IF(اقساط!$G$3:$G$8532=B814,ROW($AT$3:$AT$8532)-ROW($AT$3)+1),ROWS($A$3:A814))),\"\")","v":0},{"$f":"IFERROR(INDEX(Names,SMALL(IF(Names<>\"\",IF(MID(Names,1,LEN($B$1))=$B$1,ROW(Names)-ROW($G$3)+1)),ROWS($A$1:A812))),\"\")","v":""},{"$f":"IFERROR(INDEX(اقساط!$B$3:$B$8532,SMALL(IF(اقساط!$G$3:$G$8532=B814,ROW($B$3:$B$8532)-ROW($B$3)+1),ROWS($C$3:C814))),\"\")","v":0}]
[{"$f":"IFERROR(INDEX(اقساط!$AT$3:$AT$8532,SMALL(IF(اقساط!$G$3:$G$8532=B815,ROW($AT$3:$AT$8532)-ROW($AT$3)+1),ROWS($A$3:A815))),\"\")","v":0},{"$f":"IFERROR(INDEX(Names,SMALL(IF(Names<>\"\",IF(MID(Names,1,LEN($B$1))=$B$1,ROW(Names)-ROW($G$3)+1)),ROWS($A$1:A813))),\"\")","v":""},{"$f":"IFERROR(INDEX(اقساط!$B$3:$B$8532,SMALL(IF(اقساط!$G$3:$G$8532=B815,ROW($B$3:$B$8532)-ROW($B$3)+1),ROWS($C$3:C815))),\"\")","v":0}]
[{"$f":"IFERROR(INDEX(اقساط!$AT$3:$AT$8532,SMALL(IF(اقساط!$G$3:$G$8532=B816,ROW($AT$3:$AT$8532)-ROW($AT$3)+1),ROWS($A$3:A816))),\"\")","v":0},{"$f":"IFERROR(INDEX(Names,SMALL(IF(Names<>\"\",IF(MID(Names,1,LEN($B$1))=$B$1,ROW(Names)-ROW($G$3)+1)),ROWS($A$1:A814))),\"\")","v":""},{"$f":"IFERROR(INDEX(اقساط!$B$3:$B$8532,SMALL(IF(اقساط!$G$3:$G$8532=B816,ROW($B$3:$B$8532)-ROW($B$3)+1),ROWS($C$3:C816))),\"\")","v":0}]
[{"$f":"IFERROR(INDEX(اقساط!$AT$3:$AT$8532,SMALL(IF(اقساط!$G$3:$G$8532=B817,ROW($AT$3:$AT$8532)-ROW($AT$3)+1),ROWS($A$3:A817))),\"\")","v":0},{"$f":"IFERROR(INDEX(Names,SMALL(IF(Names<>\"\",IF(MID(Names,1,LEN($B$1))=$B$1,ROW(Names)-ROW($G$3)+1)),ROWS($A$1:A815))),\"\")","v":""},{"$f":"IFERROR(INDEX(اقساط!$B$3:$B$8532,SMALL(IF(اقساط!$G$3:$G$8532=B817,ROW($B$3:$B$8532)-ROW($B$3)+1),ROWS($C$3:C817))),\"\")","v":0}]
[{"$f":"IFERROR(INDEX(اقساط!$AT$3:$AT$8532,SMALL(IF(اقساط!$G$3:$G$8532=B818,ROW($AT$3:$AT$8532)-ROW($AT$3)+1),ROWS($A$3:A818))),\"\")","v":0},{"$f":"IFERROR(INDEX(Names,SMALL(IF(Names<>\"\",IF(MID(Names,1,LEN($B$1))=$B$1,ROW(Names)-ROW($G$3)+1)),ROWS($A$1:A816))),\"\")","v":""},{"$f":"IFERROR(INDEX(اقساط!$B$3:$B$8532,SMALL(IF(اقساط!$G$3:$G$8532=B818,ROW($B$3:$B$8532)-ROW($B$3)+1),ROWS($C$3:C818))),\"\")","v":0}]
[{"$f":"IFERROR(INDEX(اقساط!$AT$3:$AT$8532,SMALL(IF(اقساط!$G$3:$G$8532=B819,ROW($AT$3:$AT$8532)-ROW($AT$3)+1),ROWS($A$3:A819))),\"\")","v":0},{"$f":"IFERROR(INDEX(Names,SMALL(IF(Names<>\"\",IF(MID(Names,1,LEN($B$1))=$B$1,ROW(Names)-ROW($G$3)+1)),ROWS($A$1:A817))),\"\")","v":""},{"$f":"IFERROR(INDEX(اقساط!$B$3:$B$8532,SMALL(IF(اقساط!$G$3:$G$8532=B819,ROW($B$3:$B$8532)-ROW($B$3)+1),ROWS($C$3:C819))),\"\")","v":0}]
[{"$f":"IFERROR(INDEX(اقساط!$AT$3:$AT$8532,SMALL(IF(اقساط!$G$3:$G$8532=B820,ROW($AT$3:$AT$8532)-ROW($AT$3)+1),ROWS($A$3:A820))),\"\")","v":0},{"$f":"IFERROR(INDEX(Names,SMALL(IF(Names<>\"\",IF(MID(Names,1,LEN($B$1))=$B$1,ROW(Names)-ROW($G$3)+1)),ROWS($A$1:A818))),\"\")","v":""},{"$f":"IFERROR(INDEX(اقساط!$B$3:$B$8532,SMALL(IF(اقساط!$G$3:$G$8532=B820,ROW($B$3:$B$8532)-ROW($B$3)+1),ROWS($C$3:C820))),\"\")","v":0}]
[{"$f":"IFERROR(INDEX(اقساط!$AT$3:$AT$8532,SMALL(IF(اقساط!$G$3:$G$8532=B821,ROW($AT$3:$AT$8532)-ROW($AT$3)+1),ROWS($A$3:A821))),\"\")","v":0},{"$f":"IFERROR(INDEX(Names,SMALL(IF(Names<>\"\",IF(MID(Names,1,LEN($B$1))=$B$1,ROW(Names)-ROW($G$3)+1)),ROWS($A$1:A819))),\"\")","v":""},{"$f":"IFERROR(INDEX(اقساط!$B$3:$B$8532,SMALL(IF(اقساط!$G$3:$G$8532=B821,ROW($B$3:$B$8532)-ROW($B$3)+1),ROWS($C$3:C821))),\"\")","v":0}]
[{"$f":"IFERROR(INDEX(اقساط!$AT$3:$AT$8532,SMALL(IF(اقساط!$G$3:$G$8532=B822,ROW($AT$3:$AT$8532)-ROW($AT$3)+1),ROWS($A$3:A822))),\"\")","v":0},{"$f":"IFERROR(INDEX(Names,SMALL(IF(Names<>\"\",IF(MID(Names,1,LEN($B$1))=$B$1,ROW(Names)-ROW($G$3)+1)),ROWS($A$1:A820))),\"\")","v":""},{"$f":"IFERROR(INDEX(اقساط!$B$3:$B$8532,SMALL(IF(اقساط!$G$3:$G$8532=B822,ROW($B$3:$B$8532)-ROW($B$3)+1),ROWS($C$3:C822))),\"\")","v":0}]
[{"$f":"IFERROR(INDEX(اقساط!$AT$3:$AT$8532,SMALL(IF(اقساط!$G$3:$G$8532=B823,ROW($AT$3:$AT$8532)-ROW($AT$3)+1),ROWS($A$3:A823))),\"\")","v":0},{"$f":"IFERROR(INDEX(Names,SMALL(IF(Names<>\"\",IF(MID(Names,1,LEN($B$1))=$B$1,ROW(Names)-ROW($G$3)+1)),ROWS($A$1:A821))),\"\")","v":""},{"$f":"IFERROR(INDEX(اقساط!$B$3:$B$8532,SMALL(IF(اقساط!$G$3:$G$8532=B823,ROW($B$3:$B$8532)-ROW($B$3)+1),ROWS($C$3:C823))),\"\")","v":0}]
[{"$f":"IFERROR(INDEX(اقساط!$AT$3:$AT$8532,SMALL(IF(اقساط!$G$3:$G$8532=B824,ROW($AT$3:$AT$8532)-ROW($AT$3)+1),ROWS($A$3:A824))),\"\")","v":0},{"$f":"IFERROR(INDEX(Names,SMALL(IF(Names<>\"\",IF(MID(Names,1,LEN($B$1))=$B$1,ROW(Names)-ROW($G$3)+1)),ROWS($A$1:A822))),\"\")","v":""},{"$f":"IFERROR(INDEX(اقساط!$B$3:$B$8532,SMALL(IF(اقساط!$G$3:$G$8532=B824,ROW($B$3:$B$8532)-ROW($B$3)+1),ROWS($C$3:C824))),\"\")","v":0}]
[{"$f":"IFERROR(INDEX(اقساط!$AT$3:$AT$8532,SMALL(IF(اقساط!$G$3:$G$8532=B825,ROW($AT$3:$AT$8532)-ROW($AT$3)+1),ROWS($A$3:A825))),\"\")","v":0},{"$f":"IFERROR(INDEX(Names,SMALL(IF(Names<>\"\",IF(MID(Names,1,LEN($B$1))=$B$1,ROW(Names)-ROW($G$3)+1)),ROWS($A$1:A823))),\"\")","v":""},{"$f":"IFERROR(INDEX(اقساط!$B$3:$B$8532,SMALL(IF(اقساط!$G$3:$G$8532=B825,ROW($B$3:$B$8532)-ROW($B$3)+1),ROWS($C$3:C825))),\"\")","v":0}]
[{"$f":"IFERROR(INDEX(اقساط!$AT$3:$AT$8532,SMALL(IF(اقساط!$G$3:$G$8532=B826,ROW($AT$3:$AT$8532)-ROW($AT$3)+1),ROWS($A$3:A826))),\"\")","v":0},{"$f":"IFERROR(INDEX(Names,SMALL(IF(Names<>\"\",IF(MID(Names,1,LEN($B$1))=$B$1,ROW(Names)-ROW($G$3)+1)),ROWS($A$1:A824))),\"\")","v":""},{"$f":"IFERROR(INDEX(اقساط!$B$3:$B$8532,SMALL(IF(اقساط!$G$3:$G$8532=B826,ROW($B$3:$B$8532)-ROW($B$3)+1),ROWS($C$3:C826))),\"\")","v":0}]
[{"$f":"IFERROR(INDEX(اقساط!$AT$3:$AT$8532,SMALL(IF(اقساط!$G$3:$G$8532=B827,ROW($AT$3:$AT$8532)-ROW($AT$3)+1),ROWS($A$3:A827))),\"\")","v":0},{"$f":"IFERROR(INDEX(Names,SMALL(IF(Names<>\"\",IF(MID(Names,1,LEN($B$1))=$B$1,ROW(Names)-ROW($G$3)+1)),ROWS($A$1:A825))),\"\")","v":""},{"$f":"IFERROR(INDEX(اقساط!$B$3:$B$8532,SMALL(IF(اقساط!$G$3:$G$8532=B827,ROW($B$3:$B$8532)-ROW($B$3)+1),ROWS($C$3:C827))),\"\")","v":0}]
[{"$f":"IFERROR(INDEX(اقساط!$AT$3:$AT$8532,SMALL(IF(اقساط!$G$3:$G$8532=B828,ROW($AT$3:$AT$8532)-ROW($AT$3)+1),ROWS($A$3:A828))),\"\")","v":0},{"$f":"IFERROR(INDEX(Names,SMALL(IF(Names<>\"\",IF(MID(Names,1,LEN($B$1))=$B$1,ROW(Names)-ROW($G$3)+1)),ROWS($A$1:A826))),\"\")","v":""},{"$f":"IFERROR(INDEX(اقساط!$B$3:$B$8532,SMALL(IF(اقساط!$G$3:$G$8532=B828,ROW($B$3:$B$8532)-ROW($B$3)+1),ROWS($C$3:C828))),\"\")","v":0}]
[{"$f":"IFERROR(INDEX(اقساط!$AT$3:$AT$8532,SMALL(IF(اقساط!$G$3:$G$8532=B829,ROW($AT$3:$AT$8532)-ROW($AT$3)+1),ROWS($A$3:A829))),\"\")","v":0},{"$f":"IFERROR(INDEX(Names,SMALL(IF(Names<>\"\",IF(MID(Names,1,LEN($B$1))=$B$1,ROW(Names)-ROW($G$3)+1)),ROWS($A$1:A827))),\"\")","v":""},{"$f":"IFERROR(INDEX(اقساط!$B$3:$B$8532,SMALL(IF(اقساط!$G$3:$G$8532=B829,ROW($B$3:$B$8532)-ROW($B$3)+1),ROWS($C$3:C829))),\"\")","v":0}]
[{"$f":"IFERROR(INDEX(اقساط!$AT$3:$AT$8532,SMALL(IF(اقساط!$G$3:$G$8532=B830,ROW($AT$3:$AT$8532)-ROW($AT$3)+1),ROWS($A$3:A830))),\"\")","v":0},{"$f":"IFERROR(INDEX(Names,SMALL(IF(Names<>\"\",IF(MID(Names,1,LEN($B$1))=$B$1,ROW(Names)-ROW($G$3)+1)),ROWS($A$1:A828))),\"\")","v":""},{"$f":"IFERROR(INDEX(اقساط!$B$3:$B$8532,SMALL(IF(اقساط!$G$3:$G$8532=B830,ROW($B$3:$B$8532)-ROW($B$3)+1),ROWS($C$3:C830))),\"\")","v":0}]
[{"$f":"IFERROR(INDEX(اقساط!$AT$3:$AT$8532,SMALL(IF(اقساط!$G$3:$G$8532=B831,ROW($AT$3:$AT$8532)-ROW($AT$3)+1),ROWS($A$3:A831))),\"\")","v":0},{"$f":"IFERROR(INDEX(Names,SMALL(IF(Names<>\"\",IF(MID(Names,1,LEN($B$1))=$B$1,ROW(Names)-ROW($G$3)+1)),ROWS($A$1:A829))),\"\")","v":""},{"$f":"IFERROR(INDEX(اقساط!$B$3:$B$8532,SMALL(IF(اقساط!$G$3:$G$8532=B831,ROW($B$3:$B$8532)-ROW($B$3)+1),ROWS($C$3:C831))),\"\")","v":0}]
[{"$f":"IFERROR(INDEX(اقساط!$AT$3:$AT$8532,SMALL(IF(اقساط!$G$3:$G$8532=B832,ROW($AT$3:$AT$8532)-ROW($AT$3)+1),ROWS($A$3:A832))),\"\")","v":0},{"$f":"IFERROR(INDEX(Names,SMALL(IF(Names<>\"\",IF(MID(Names,1,LEN($B$1))=$B$1,ROW(Names)-ROW($G$3)+1)),ROWS($A$1:A830))),\"\")","v":""},{"$f":"IFERROR(INDEX(اقساط!$B$3:$B$8532,SMALL(IF(اقساط!$G$3:$G$8532=B832,ROW($B$3:$B$8532)-ROW($B$3)+1),ROWS($C$3:C832))),\"\")","v":0}]
[{"$f":"IFERROR(INDEX(اقساط!$AT$3:$AT$8532,SMALL(IF(اقساط!$G$3:$G$8532=B833,ROW($AT$3:$AT$8532)-ROW($AT$3)+1),ROWS($A$3:A833))),\"\")","v":0},{"$f":"IFERROR(INDEX(Names,SMALL(IF(Names<>\"\",IF(MID(Names,1,LEN($B$1))=$B$1,ROW(Names)-ROW($G$3)+1)),ROWS($A$1:A831))),\"\")","v":""},{"$f":"IFERROR(INDEX(اقساط!$B$3:$B$8532,SMALL(IF(اقساط!$G$3:$G$8532=B833,ROW($B$3:$B$8532)-ROW($B$3)+1),ROWS($C$3:C833))),\"\")","v":0}]
[{"$f":"IFERROR(INDEX(اقساط!$AT$3:$AT$8532,SMALL(IF(اقساط!$G$3:$G$8532=B834,ROW($AT$3:$AT$8532)-ROW($AT$3)+1),ROWS($A$3:A834))),\"\")","v":0},{"$f":"IFERROR(INDEX(Names,SMALL(IF(Names<>\"\",IF(MID(Names,1,LEN($B$1))=$B$1,ROW(Names)-ROW($G$3)+1)),ROWS($A$1:A832))),\"\")","v":""},{"$f":"IFERROR(INDEX(اقساط!$B$3:$B$8532,SMALL(IF(اقساط!$G$3:$G$8532=B834,ROW($B$3:$B$8532)-ROW($B$3)+1),ROWS($C$3:C834))),\"\")","v":0}]
[{"$f":"IFERROR(INDEX(اقساط!$AT$3:$AT$8532,SMALL(IF(اقساط!$G$3:$G$8532=B835,ROW($AT$3:$AT$8532)-ROW($AT$3)+1),ROWS($A$3:A835))),\"\")","v":0},{"$f":"IFERROR(INDEX(Names,SMALL(IF(Names<>\"\",IF(MID(Names,1,LEN($B$1))=$B$1,ROW(Names)-ROW($G$3)+1)),ROWS($A$1:A833))),\"\")","v":""},{"$f":"IFERROR(INDEX(اقساط!$B$3:$B$8532,SMALL(IF(اقساط!$G$3:$G$8532=B835,ROW($B$3:$B$8532)-ROW($B$3)+1),ROWS($C$3:C835))),\"\")","v":0}]
[{"$f":"IFERROR(INDEX(اقساط!$AT$3:$AT$8532,SMALL(IF(اقساط!$G$3:$G$8532=B836,ROW($AT$3:$AT$8532)-ROW($AT$3)+1),ROWS($A$3:A836))),\"\")","v":0},{"$f":"IFERROR(INDEX(Names,SMALL(IF(Names<>\"\",IF(MID(Names,1,LEN($B$1))=$B$1,ROW(Names)-ROW($G$3)+1)),ROWS($A$1:A834))),\"\")","v":""},{"$f":"IFERROR(INDEX(اقساط!$B$3:$B$8532,SMALL(IF(اقساط!$G$3:$G$8532=B836,ROW($B$3:$B$8532)-ROW($B$3)+1),ROWS($C$3:C836))),\"\")","v":0}]
[{"$f":"IFERROR(INDEX(اقساط!$AT$3:$AT$8532,SMALL(IF(اقساط!$G$3:$G$8532=B837,ROW($AT$3:$AT$8532)-ROW($AT$3)+1),ROWS($A$3:A837))),\"\")","v":0},{"$f":"IFERROR(INDEX(Names,SMALL(IF(Names<>\"\",IF(MID(Names,1,LEN($B$1))=$B$1,ROW(Names)-ROW($G$3)+1)),ROWS($A$1:A835))),\"\")","v":""},{"$f":"IFERROR(INDEX(اقساط!$B$3:$B$8532,SMALL(IF(اقساط!$G$3:$G$8532=B837,ROW($B$3:$B$8532)-ROW($B$3)+1),ROWS($C$3:C837))),\"\")","v":0}]
[{"$f":"IFERROR(INDEX(اقساط!$AT$3:$AT$8532,SMALL(IF(اقساط!$G$3:$G$8532=B838,ROW($AT$3:$AT$8532)-ROW($AT$3)+1),ROWS($A$3:A838))),\"\")","v":0},{"$f":"IFERROR(INDEX(Names,SMALL(IF(Names<>\"\",IF(MID(Names,1,LEN($B$1))=$B$1,ROW(Names)-ROW($G$3)+1)),ROWS($A$1:A836))),\"\")","v":""},{"$f":"IFERROR(INDEX(اقساط!$B$3:$B$8532,SMALL(IF(اقساط!$G$3:$G$8532=B838,ROW($B$3:$B$8532)-ROW($B$3)+1),ROWS($C$3:C838))),\"\")","v":0}]
[{"$f":"IFERROR(INDEX(اقساط!$AT$3:$AT$8532,SMALL(IF(اقساط!$G$3:$G$8532=B839,ROW($AT$3:$AT$8532)-ROW($AT$3)+1),ROWS($A$3:A839))),\"\")","v":0},{"$f":"IFERROR(INDEX(Names,SMALL(IF(Names<>\"\",IF(MID(Names,1,LEN($B$1))=$B$1,ROW(Names)-ROW($G$3)+1)),ROWS($A$1:A837))),\"\")","v":""},{"$f":"IFERROR(INDEX(اقساط!$B$3:$B$8532,SMALL(IF(اقساط!$G$3:$G$8532=B839,ROW($B$3:$B$8532)-ROW($B$3)+1),ROWS($C$3:C839))),\"\")","v":0}]
[{"$f":"IFERROR(INDEX(اقساط!$AT$3:$AT$8532,SMALL(IF(اقساط!$G$3:$G$8532=B840,ROW($AT$3:$AT$8532)-ROW($AT$3)+1),ROWS($A$3:A840))),\"\")","v":0},{"$f":"IFERROR(INDEX(Names,SMALL(IF(Names<>\"\",IF(MID(Names,1,LEN($B$1))=$B$1,ROW(Names)-ROW($G$3)+1)),ROWS($A$1:A838))),\"\")","v":""},{"$f":"IFERROR(INDEX(اقساط!$B$3:$B$8532,SMALL(IF(اقساط!$G$3:$G$8532=B840,ROW($B$3:$B$8532)-ROW($B$3)+1),ROWS($C$3:C840))),\"\")","v":0}]
[{"$f":"IFERROR(INDEX(اقساط!$AT$3:$AT$8532,SMALL(IF(اقساط!$G$3:$G$8532=B841,ROW($AT$3:$AT$8532)-ROW($AT$3)+1),ROWS($A$3:A841))),\"\")","v":0},{"$f":"IFERROR(INDEX(Names,SMALL(IF(Names<>\"\",IF(MID(Names,1,LEN($B$1))=$B$1,ROW(Names)-ROW($G$3)+1)),ROWS($A$1:A839))),\"\")","v":""},{"$f":"IFERROR(INDEX(اقساط!$B$3:$B$8532,SMALL(IF(اقساط!$G$3:$G$8532=B841,ROW($B$3:$B$8532)-ROW($B$3)+1),ROWS($C$3:C841))),\"\")","v":0}]
[{"$f":"IFERROR(INDEX(اقساط!$AT$3:$AT$8532,SMALL(IF(اقساط!$G$3:$G$8532=B842,ROW($AT$3:$AT$8532)-ROW($AT$3)+1),ROWS($A$3:A842))),\"\")","v":0},{"$f":"IFERROR(INDEX(Names,SMALL(IF(Names<>\"\",IF(MID(Names,1,LEN($B$1))=$B$1,ROW(Names)-ROW($G$3)+1)),ROWS($A$1:A840))),\"\")","v":""},{"$f":"IFERROR(INDEX(اقساط!$B$3:$B$8532,SMALL(IF(اقساط!$G$3:$G$8532=B842,ROW($B$3:$B$8532)-ROW($B$3)+1),ROWS($C$3:C842))),\"\")","v":0}]
[{"$f":"IFERROR(INDEX(اقساط!$AT$3:$AT$8532,SMALL(IF(اقساط!$G$3:$G$8532=B843,ROW($AT$3:$AT$8532)-ROW($AT$3)+1),ROWS($A$3:A843))),\"\")","v":0},{"$f":"IFERROR(INDEX(Names,SMALL(IF(Names<>\"\",IF(MID(Names,1,LEN($B$1))=$B$1,ROW(Names)-ROW($G$3)+1)),ROWS($A$1:A841))),\"\")","v":""},{"$f":"IFERROR(INDEX(اقساط!$B$3:$B$8532,SMALL(IF(اقساط!$G$3:$G$8532=B843,ROW($B$3:$B$8532)-ROW($B$3)+1),ROWS($C$3:C843))),\"\")","v":0}]
[{"$f":"IFERROR(INDEX(اقساط!$AT$3:$AT$8532,SMALL(IF(اقساط!$G$3:$G$8532=B844,ROW($AT$3:$AT$8532)-ROW($AT$3)+1),ROWS($A$3:A844))),\"\")","v":0},{"$f":"IFERROR(INDEX(Names,SMALL(IF(Names<>\"\",IF(MID(Names,1,LEN($B$1))=$B$1,ROW(Names)-ROW($G$3)+1)),ROWS($A$1:A842))),\"\")","v":""},{"$f":"IFERROR(INDEX(اقساط!$B$3:$B$8532,SMALL(IF(اقساط!$G$3:$G$8532=B844,ROW($B$3:$B$8532)-ROW($B$3)+1),ROWS($C$3:C844))),\"\")","v":0}]
[{"$f":"IFERROR(INDEX(اقساط!$AT$3:$AT$8532,SMALL(IF(اقساط!$G$3:$G$8532=B845,ROW($AT$3:$AT$8532)-ROW($AT$3)+1),ROWS($A$3:A845))),\"\")","v":0},{"$f":"IFERROR(INDEX(Names,SMALL(IF(Names<>\"\",IF(MID(Names,1,LEN($B$1))=$B$1,ROW(Names)-ROW($G$3)+1)),ROWS($A$1:A843))),\"\")","v":""},{"$f":"IFERROR(INDEX(اقساط!$B$3:$B$8532,SMALL(IF(اقساط!$G$3:$G$8532=B845,ROW($B$3:$B$8532)-ROW($B$3)+1),ROWS($C$3:C845))),\"\")","v":0}]
[{"$f":"IFERROR(INDEX(اقساط!$AT$3:$AT$8532,SMALL(IF(اقساط!$G$3:$G$8532=B846,ROW($AT$3:$AT$8532)-ROW($AT$3)+1),ROWS($A$3:A846))),\"\")","v":0},{"$f":"IFERROR(INDEX(Names,SMALL(IF(Names<>\"\",IF(MID(Names,1,LEN($B$1))=$B$1,ROW(Names)-ROW($G$3)+1)),ROWS($A$1:A844))),\"\")","v":""},{"$f":"IFERROR(INDEX(اقساط!$B$3:$B$8532,SMALL(IF(اقساط!$G$3:$G$8532=B846,ROW($B$3:$B$8532)-ROW($B$3)+1),ROWS($C$3:C846))),\"\")","v":0}]
[{"$f":"IFERROR(INDEX(اقساط!$AT$3:$AT$8532,SMALL(IF(اقساط!$G$3:$G$8532=B847,ROW($AT$3:$AT$8532)-ROW($AT$3)+1),ROWS($A$3:A847))),\"\")","v":0},{"$f":"IFERROR(INDEX(Names,SMALL(IF(Names<>\"\",IF(MID(Names,1,LEN($B$1))=$B$1,ROW(Names)-ROW($G$3)+1)),ROWS($A$1:A845))),\"\")","v":""},{"$f":"IFERROR(INDEX(اقساط!$B$3:$B$8532,SMALL(IF(اقساط!$G$3:$G$8532=B847,ROW($B$3:$B$8532)-ROW($B$3)+1),ROWS($C$3:C847))),\"\")","v":0}]
[{"$f":"IFERROR(INDEX(اقساط!$AT$3:$AT$8532,SMALL(IF(اقساط!$G$3:$G$8532=B848,ROW($AT$3:$AT$8532)-ROW($AT$3)+1),ROWS($A$3:A848))),\"\")","v":0},{"$f":"IFERROR(INDEX(Names,SMALL(IF(Names<>\"\",IF(MID(Names,1,LEN($B$1))=$B$1,ROW(Names)-ROW($G$3)+1)),ROWS($A$1:A846))),\"\")","v":""},{"$f":"IFERROR(INDEX(اقساط!$B$3:$B$8532,SMALL(IF(اقساط!$G$3:$G$8532=B848,ROW($B$3:$B$8532)-ROW($B$3)+1),ROWS($C$3:C848))),\"\")","v":0}]
[{"$f":"IFERROR(INDEX(اقساط!$AT$3:$AT$8532,SMALL(IF(اقساط!$G$3:$G$8532=B849,ROW($AT$3:$AT$8532)-ROW($AT$3)+1),ROWS($A$3:A849))),\"\")","v":0},{"$f":"IFERROR(INDEX(Names,SMALL(IF(Names<>\"\",IF(MID(Names,1,LEN($B$1))=$B$1,ROW(Names)-ROW($G$3)+1)),ROWS($A$1:A847))),\"\")","v":""},{"$f":"IFERROR(INDEX(اقساط!$B$3:$B$8532,SMALL(IF(اقساط!$G$3:$G$8532=B849,ROW($B$3:$B$8532)-ROW($B$3)+1),ROWS($C$3:C849))),\"\")","v":0}]
[{"$f":"IFERROR(INDEX(اقساط!$AT$3:$AT$8532,SMALL(IF(اقساط!$G$3:$G$8532=B850,ROW($AT$3:$AT$8532)-ROW($AT$3)+1),ROWS($A$3:A850))),\"\")","v":0},{"$f":"IFERROR(INDEX(Names,SMALL(IF(Names<>\"\",IF(MID(Names,1,LEN($B$1))=$B$1,ROW(Names)-ROW($G$3)+1)),ROWS($A$1:A848))),\"\")","v":""},{"$f":"IFERROR(INDEX(اقساط!$B$3:$B$8532,SMALL(IF(اقساط!$G$3:$G$8532=B850,ROW($B$3:$B$8532)-ROW($B$3)+1),ROWS($C$3:C850))),\"\")","v":0}]
[{"$f":"IFERROR(INDEX(اقساط!$AT$3:$AT$8532,SMALL(IF(اقساط!$G$3:$G$8532=B851,ROW($AT$3:$AT$8532)-ROW($AT$3)+1),ROWS($A$3:A851))),\"\")","v":0},{"$f":"IFERROR(INDEX(Names,SMALL(IF(Names<>\"\",IF(MID(Names,1,LEN($B$1))=$B$1,ROW(Names)-ROW($G$3)+1)),ROWS($A$1:A849))),\"\")","v":""},{"$f":"IFERROR(INDEX(اقساط!$B$3:$B$8532,SMALL(IF(اقساط!$G$3:$G$8532=B851,ROW($B$3:$B$8532)-ROW($B$3)+1),ROWS($C$3:C851))),\"\")","v":0}]
[{"$f":"IFERROR(INDEX(اقساط!$AT$3:$AT$8532,SMALL(IF(اقساط!$G$3:$G$8532=B852,ROW($AT$3:$AT$8532)-ROW($AT$3)+1),ROWS($A$3:A852))),\"\")","v":0},{"$f":"IFERROR(INDEX(Names,SMALL(IF(Names<>\"\",IF(MID(Names,1,LEN($B$1))=$B$1,ROW(Names)-ROW($G$3)+1)),ROWS($A$1:A850))),\"\")","v":""},{"$f":"IFERROR(INDEX(اقساط!$B$3:$B$8532,SMALL(IF(اقساط!$G$3:$G$8532=B852,ROW($B$3:$B$8532)-ROW($B$3)+1),ROWS($C$3:C852))),\"\")","v":0}]
[{"$f":"IFERROR(INDEX(اقساط!$AT$3:$AT$8532,SMALL(IF(اقساط!$G$3:$G$8532=B853,ROW($AT$3:$AT$8532)-ROW($AT$3)+1),ROWS($A$3:A853))),\"\")","v":0},{"$f":"IFERROR(INDEX(Names,SMALL(IF(Names<>\"\",IF(MID(Names,1,LEN($B$1))=$B$1,ROW(Names)-ROW($G$3)+1)),ROWS($A$1:A851))),\"\")","v":""},{"$f":"IFERROR(INDEX(اقساط!$B$3:$B$8532,SMALL(IF(اقساط!$G$3:$G$8532=B853,ROW($B$3:$B$8532)-ROW($B$3)+1),ROWS($C$3:C853))),\"\")","v":0}]
[{"$f":"IFERROR(INDEX(اقساط!$AT$3:$AT$8532,SMALL(IF(اقساط!$G$3:$G$8532=B854,ROW($AT$3:$AT$8532)-ROW($AT$3)+1),ROWS($A$3:A854))),\"\")","v":0},{"$f":"IFERROR(INDEX(Names,SMALL(IF(Names<>\"\",IF(MID(Names,1,LEN($B$1))=$B$1,ROW(Names)-ROW($G$3)+1)),ROWS($A$1:A852))),\"\")","v":""},{"$f":"IFERROR(INDEX(اقساط!$B$3:$B$8532,SMALL(IF(اقساط!$G$3:$G$8532=B854,ROW($B$3:$B$8532)-ROW($B$3)+1),ROWS($C$3:C854))),\"\")","v":0}]
[{"$f":"IFERROR(INDEX(اقساط!$AT$3:$AT$8532,SMALL(IF(اقساط!$G$3:$G$8532=B855,ROW($AT$3:$AT$8532)-ROW($AT$3)+1),ROWS($A$3:A855))),\"\")","v":0},{"$f":"IFERROR(INDEX(Names,SMALL(IF(Names<>\"\",IF(MID(Names,1,LEN($B$1))=$B$1,ROW(Names)-ROW($G$3)+1)),ROWS($A$1:A853))),\"\")","v":""},{"$f":"IFERROR(INDEX(اقساط!$B$3:$B$8532,SMALL(IF(اقساط!$G$3:$G$8532=B855,ROW($B$3:$B$8532)-ROW($B$3)+1),ROWS($C$3:C855))),\"\")","v":0}]
[{"$f":"IFERROR(INDEX(اقساط!$AT$3:$AT$8532,SMALL(IF(اقساط!$G$3:$G$8532=B856,ROW($AT$3:$AT$8532)-ROW($AT$3)+1),ROWS($A$3:A856))),\"\")","v":0},{"$f":"IFERROR(INDEX(Names,SMALL(IF(Names<>\"\",IF(MID(Names,1,LEN($B$1))=$B$1,ROW(Names)-ROW($G$3)+1)),ROWS($A$1:A854))),\"\")","v":""},{"$f":"IFERROR(INDEX(اقساط!$B$3:$B$8532,SMALL(IF(اقساط!$G$3:$G$8532=B856,ROW($B$3:$B$8532)-ROW($B$3)+1),ROWS($C$3:C856))),\"\")","v":0}]
[{"$f":"IFERROR(INDEX(اقساط!$AT$3:$AT$8532,SMALL(IF(اقساط!$G$3:$G$8532=B857,ROW($AT$3:$AT$8532)-ROW($AT$3)+1),ROWS($A$3:A857))),\"\")","v":0},{"$f":"IFERROR(INDEX(Names,SMALL(IF(Names<>\"\",IF(MID(Names,1,LEN($B$1))=$B$1,ROW(Names)-ROW($G$3)+1)),ROWS($A$1:A855))),\"\")","v":""},{"$f":"IFERROR(INDEX(اقساط!$B$3:$B$8532,SMALL(IF(اقساط!$G$3:$G$8532=B857,ROW($B$3:$B$8532)-ROW($B$3)+1),ROWS($C$3:C857))),\"\")","v":0}]
[{"$f":"IFERROR(INDEX(اقساط!$AT$3:$AT$8532,SMALL(IF(اقساط!$G$3:$G$8532=B858,ROW($AT$3:$AT$8532)-ROW($AT$3)+1),ROWS($A$3:A858))),\"\")","v":0},{"$f":"IFERROR(INDEX(Names,SMALL(IF(Names<>\"\",IF(MID(Names,1,LEN($B$1))=$B$1,ROW(Names)-ROW($G$3)+1)),ROWS($A$1:A856))),\"\")","v":""},{"$f":"IFERROR(INDEX(اقساط!$B$3:$B$8532,SMALL(IF(اقساط!$G$3:$G$8532=B858,ROW($B$3:$B$8532)-ROW($B$3)+1),ROWS($C$3:C858))),\"\")","v":0}]
[{"$f":"IFERROR(INDEX(اقساط!$AT$3:$AT$8532,SMALL(IF(اقساط!$G$3:$G$8532=B859,ROW($AT$3:$AT$8532)-ROW($AT$3)+1),ROWS($A$3:A859))),\"\")","v":0},{"$f":"IFERROR(INDEX(Names,SMALL(IF(Names<>\"\",IF(MID(Names,1,LEN($B$1))=$B$1,ROW(Names)-ROW($G$3)+1)),ROWS($A$1:A857))),\"\")","v":""},{"$f":"IFERROR(INDEX(اقساط!$B$3:$B$8532,SMALL(IF(اقساط!$G$3:$G$8532=B859,ROW($B$3:$B$8532)-ROW($B$3)+1),ROWS($C$3:C859))),\"\")","v":0}]
[{"$f":"IFERROR(INDEX(اقساط!$AT$3:$AT$8532,SMALL(IF(اقساط!$G$3:$G$8532=B860,ROW($AT$3:$AT$8532)-ROW($AT$3)+1),ROWS($A$3:A860))),\"\")","v":0},{"$f":"IFERROR(INDEX(Names,SMALL(IF(Names<>\"\",IF(MID(Names,1,LEN($B$1))=$B$1,ROW(Names)-ROW($G$3)+1)),ROWS($A$1:A858))),\"\")","v":""},{"$f":"IFERROR(INDEX(اقساط!$B$3:$B$8532,SMALL(IF(اقساط!$G$3:$G$8532=B860,ROW($B$3:$B$8532)-ROW($B$3)+1),ROWS($C$3:C860))),\"\")","v":0}]
[{"$f":"IFERROR(INDEX(اقساط!$AT$3:$AT$8532,SMALL(IF(اقساط!$G$3:$G$8532=B861,ROW($AT$3:$AT$8532)-ROW($AT$3)+1),ROWS($A$3:A861))),\"\")","v":0},{"$f":"IFERROR(INDEX(Names,SMALL(IF(Names<>\"\",IF(MID(Names,1,LEN($B$1))=$B$1,ROW(Names)-ROW($G$3)+1)),ROWS($A$1:A859))),\"\")","v":""},{"$f":"IFERROR(INDEX(اقساط!$B$3:$B$8532,SMALL(IF(اقساط!$G$3:$G$8532=B861,ROW($B$3:$B$8532)-ROW($B$3)+1),ROWS($C$3:C861))),\"\")","v":0}]
[{"$f":"IFERROR(INDEX(اقساط!$AT$3:$AT$8532,SMALL(IF(اقساط!$G$3:$G$8532=B862,ROW($AT$3:$AT$8532)-ROW($AT$3)+1),ROWS($A$3:A862))),\"\")","v":0},{"$f":"IFERROR(INDEX(Names,SMALL(IF(Names<>\"\",IF(MID(Names,1,LEN($B$1))=$B$1,ROW(Names)-ROW($G$3)+1)),ROWS($A$1:A860))),\"\")","v":""},{"$f":"IFERROR(INDEX(اقساط!$B$3:$B$8532,SMALL(IF(اقساط!$G$3:$G$8532=B862,ROW($B$3:$B$8532)-ROW($B$3)+1),ROWS($C$3:C862))),\"\")","v":0}]
[{"$f":"IFERROR(INDEX(اقساط!$AT$3:$AT$8532,SMALL(IF(اقساط!$G$3:$G$8532=B863,ROW($AT$3:$AT$8532)-ROW($AT$3)+1),ROWS($A$3:A863))),\"\")","v":0},{"$f":"IFERROR(INDEX(Names,SMALL(IF(Names<>\"\",IF(MID(Names,1,LEN($B$1))=$B$1,ROW(Names)-ROW($G$3)+1)),ROWS($A$1:A861))),\"\")","v":""},{"$f":"IFERROR(INDEX(اقساط!$B$3:$B$8532,SMALL(IF(اقساط!$G$3:$G$8532=B863,ROW($B$3:$B$8532)-ROW($B$3)+1),ROWS($C$3:C863))),\"\")","v":0}]
[{"$f":"IFERROR(INDEX(اقساط!$AT$3:$AT$8532,SMALL(IF(اقساط!$G$3:$G$8532=B864,ROW($AT$3:$AT$8532)-ROW($AT$3)+1),ROWS($A$3:A864))),\"\")","v":0},{"$f":"IFERROR(INDEX(Names,SMALL(IF(Names<>\"\",IF(MID(Names,1,LEN($B$1))=$B$1,ROW(Names)-ROW($G$3)+1)),ROWS($A$1:A862))),\"\")","v":""},{"$f":"IFERROR(INDEX(اقساط!$B$3:$B$8532,SMALL(IF(اقساط!$G$3:$G$8532=B864,ROW($B$3:$B$8532)-ROW($B$3)+1),ROWS($C$3:C864))),\"\")","v":0}]
[{"$f":"IFERROR(INDEX(اقساط!$AT$3:$AT$8532,SMALL(IF(اقساط!$G$3:$G$8532=B865,ROW($AT$3:$AT$8532)-ROW($AT$3)+1),ROWS($A$3:A865))),\"\")","v":0},{"$f":"IFERROR(INDEX(Names,SMALL(IF(Names<>\"\",IF(MID(Names,1,LEN($B$1))=$B$1,ROW(Names)-ROW($G$3)+1)),ROWS($A$1:A863))),\"\")","v":""},{"$f":"IFERROR(INDEX(اقساط!$B$3:$B$8532,SMALL(IF(اقساط!$G$3:$G$8532=B865,ROW($B$3:$B$8532)-ROW($B$3)+1),ROWS($C$3:C865))),\"\")","v":0}]
[{"$f":"IFERROR(INDEX(اقساط!$AT$3:$AT$8532,SMALL(IF(اقساط!$G$3:$G$8532=B866,ROW($AT$3:$AT$8532)-ROW($AT$3)+1),ROWS($A$3:A866))),\"\")","v":0},{"$f":"IFERROR(INDEX(Names,SMALL(IF(Names<>\"\",IF(MID(Names,1,LEN($B$1))=$B$1,ROW(Names)-ROW($G$3)+1)),ROWS($A$1:A864))),\"\")","v":""},{"$f":"IFERROR(INDEX(اقساط!$B$3:$B$8532,SMALL(IF(اقساط!$G$3:$G$8532=B866,ROW($B$3:$B$8532)-ROW($B$3)+1),ROWS($C$3:C866))),\"\")","v":0}]
[{"$f":"IFERROR(INDEX(اقساط!$AT$3:$AT$8532,SMALL(IF(اقساط!$G$3:$G$8532=B867,ROW($AT$3:$AT$8532)-ROW($AT$3)+1),ROWS($A$3:A867))),\"\")","v":0},{"$f":"IFERROR(INDEX(Names,SMALL(IF(Names<>\"\",IF(MID(Names,1,LEN($B$1))=$B$1,ROW(Names)-ROW($G$3)+1)),ROWS($A$1:A865))),\"\")","v":""},{"$f":"IFERROR(INDEX(اقساط!$B$3:$B$8532,SMALL(IF(اقساط!$G$3:$G$8532=B867,ROW($B$3:$B$8532)-ROW($B$3)+1),ROWS($C$3:C867))),\"\")","v":0}]
[{"$f":"IFERROR(INDEX(اقساط!$AT$3:$AT$8532,SMALL(IF(اقساط!$G$3:$G$8532=B868,ROW($AT$3:$AT$8532)-ROW($AT$3)+1),ROWS($A$3:A868))),\"\")","v":0},{"$f":"IFERROR(INDEX(Names,SMALL(IF(Names<>\"\",IF(MID(Names,1,LEN($B$1))=$B$1,ROW(Names)-ROW($G$3)+1)),ROWS($A$1:A866))),\"\")","v":""},{"$f":"IFERROR(INDEX(اقساط!$B$3:$B$8532,SMALL(IF(اقساط!$G$3:$G$8532=B868,ROW($B$3:$B$8532)-ROW($B$3)+1),ROWS($C$3:C868))),\"\")","v":0}]
[{"$f":"IFERROR(INDEX(اقساط!$AT$3:$AT$8532,SMALL(IF(اقساط!$G$3:$G$8532=B869,ROW($AT$3:$AT$8532)-ROW($AT$3)+1),ROWS($A$3:A869))),\"\")","v":0},{"$f":"IFERROR(INDEX(Names,SMALL(IF(Names<>\"\",IF(MID(Names,1,LEN($B$1))=$B$1,ROW(Names)-ROW($G$3)+1)),ROWS($A$1:A867))),\"\")","v":""},{"$f":"IFERROR(INDEX(اقساط!$B$3:$B$8532,SMALL(IF(اقساط!$G$3:$G$8532=B869,ROW($B$3:$B$8532)-ROW($B$3)+1),ROWS($C$3:C869))),\"\")","v":0}]
[{"$f":"IFERROR(INDEX(اقساط!$AT$3:$AT$8532,SMALL(IF(اقساط!$G$3:$G$8532=B870,ROW($AT$3:$AT$8532)-ROW($AT$3)+1),ROWS($A$3:A870))),\"\")","v":0},{"$f":"IFERROR(INDEX(Names,SMALL(IF(Names<>\"\",IF(MID(Names,1,LEN($B$1))=$B$1,ROW(Names)-ROW($G$3)+1)),ROWS($A$1:A868))),\"\")","v":""},{"$f":"IFERROR(INDEX(اقساط!$B$3:$B$8532,SMALL(IF(اقساط!$G$3:$G$8532=B870,ROW($B$3:$B$8532)-ROW($B$3)+1),ROWS($C$3:C870))),\"\")","v":0}]
[{"$f":"IFERROR(INDEX(اقساط!$AT$3:$AT$8532,SMALL(IF(اقساط!$G$3:$G$8532=B871,ROW($AT$3:$AT$8532)-ROW($AT$3)+1),ROWS($A$3:A871))),\"\")","v":0},{"$f":"IFERROR(INDEX(Names,SMALL(IF(Names<>\"\",IF(MID(Names,1,LEN($B$1))=$B$1,ROW(Names)-ROW($G$3)+1)),ROWS($A$1:A869))),\"\")","v":""},{"$f":"IFERROR(INDEX(اقساط!$B$3:$B$8532,SMALL(IF(اقساط!$G$3:$G$8532=B871,ROW($B$3:$B$8532)-ROW($B$3)+1),ROWS($C$3:C871))),\"\")","v":0}]
[{"$f":"IFERROR(INDEX(اقساط!$AT$3:$AT$8532,SMALL(IF(اقساط!$G$3:$G$8532=B872,ROW($AT$3:$AT$8532)-ROW($AT$3)+1),ROWS($A$3:A872))),\"\")","v":0},{"$f":"IFERROR(INDEX(Names,SMALL(IF(Names<>\"\",IF(MID(Names,1,LEN($B$1))=$B$1,ROW(Names)-ROW($G$3)+1)),ROWS($A$1:A870))),\"\")","v":""},{"$f":"IFERROR(INDEX(اقساط!$B$3:$B$8532,SMALL(IF(اقساط!$G$3:$G$8532=B872,ROW($B$3:$B$8532)-ROW($B$3)+1),ROWS($C$3:C872))),\"\")","v":0}]
[{"$f":"IFERROR(INDEX(اقساط!$AT$3:$AT$8532,SMALL(IF(اقساط!$G$3:$G$8532=B873,ROW($AT$3:$AT$8532)-ROW($AT$3)+1),ROWS($A$3:A873))),\"\")","v":0},{"$f":"IFERROR(INDEX(Names,SMALL(IF(Names<>\"\",IF(MID(Names,1,LEN($B$1))=$B$1,ROW(Names)-ROW($G$3)+1)),ROWS($A$1:A871))),\"\")","v":""},{"$f":"IFERROR(INDEX(اقساط!$B$3:$B$8532,SMALL(IF(اقساط!$G$3:$G$8532=B873,ROW($B$3:$B$8532)-ROW($B$3)+1),ROWS($C$3:C873))),\"\")","v":0}]
[{"$f":"IFERROR(INDEX(اقساط!$AT$3:$AT$8532,SMALL(IF(اقساط!$G$3:$G$8532=B874,ROW($AT$3:$AT$8532)-ROW($AT$3)+1),ROWS($A$3:A874))),\"\")","v":0},{"$f":"IFERROR(INDEX(Names,SMALL(IF(Names<>\"\",IF(MID(Names,1,LEN($B$1))=$B$1,ROW(Names)-ROW($G$3)+1)),ROWS($A$1:A872))),\"\")","v":""},{"$f":"IFERROR(INDEX(اقساط!$B$3:$B$8532,SMALL(IF(اقساط!$G$3:$G$8532=B874,ROW($B$3:$B$8532)-ROW($B$3)+1),ROWS($C$3:C874))),\"\")","v":0}]
[{"$f":"IFERROR(INDEX(اقساط!$AT$3:$AT$8532,SMALL(IF(اقساط!$G$3:$G$8532=B875,ROW($AT$3:$AT$8532)-ROW($AT$3)+1),ROWS($A$3:A875))),\"\")","v":0},{"$f":"IFERROR(INDEX(Names,SMALL(IF(Names<>\"\",IF(MID(Names,1,LEN($B$1))=$B$1,ROW(Names)-ROW($G$3)+1)),ROWS($A$1:A873))),\"\")","v":""},{"$f":"IFERROR(INDEX(اقساط!$B$3:$B$8532,SMALL(IF(اقساط!$G$3:$G$8532=B875,ROW($B$3:$B$8532)-ROW($B$3)+1),ROWS($C$3:C875))),\"\")","v":0}]
[{"$f":"IFERROR(INDEX(اقساط!$AT$3:$AT$8532,SMALL(IF(اقساط!$G$3:$G$8532=B876,ROW($AT$3:$AT$8532)-ROW($AT$3)+1),ROWS($A$3:A876))),\"\")","v":0},{"$f":"IFERROR(INDEX(Names,SMALL(IF(Names<>\"\",IF(MID(Names,1,LEN($B$1))=$B$1,ROW(Names)-ROW($G$3)+1)),ROWS($A$1:A874))),\"\")","v":""},{"$f":"IFERROR(INDEX(اقساط!$B$3:$B$8532,SMALL(IF(اقساط!$G$3:$G$8532=B876,ROW($B$3:$B$8532)-ROW($B$3)+1),ROWS($C$3:C876))),\"\")","v":0}]
[{"$f":"IFERROR(INDEX(اقساط!$AT$3:$AT$8532,SMALL(IF(اقساط!$G$3:$G$8532=B877,ROW($AT$3:$AT$8532)-ROW($AT$3)+1),ROWS($A$3:A877))),\"\")","v":0},{"$f":"IFERROR(INDEX(Names,SMALL(IF(Names<>\"\",IF(MID(Names,1,LEN($B$1))=$B$1,ROW(Names)-ROW($G$3)+1)),ROWS($A$1:A875))),\"\")","v":""},{"$f":"IFERROR(INDEX(اقساط!$B$3:$B$8532,SMALL(IF(اقساط!$G$3:$G$8532=B877,ROW($B$3:$B$8532)-ROW($B$3)+1),ROWS($C$3:C877))),\"\")","v":0}]
[{"$f":"IFERROR(INDEX(اقساط!$AT$3:$AT$8532,SMALL(IF(اقساط!$G$3:$G$8532=B878,ROW($AT$3:$AT$8532)-ROW($AT$3)+1),ROWS($A$3:A878))),\"\")","v":0},{"$f":"IFERROR(INDEX(Names,SMALL(IF(Names<>\"\",IF(MID(Names,1,LEN($B$1))=$B$1,ROW(Names)-ROW($G$3)+1)),ROWS($A$1:A876))),\"\")","v":""},{"$f":"IFERROR(INDEX(اقساط!$B$3:$B$8532,SMALL(IF(اقساط!$G$3:$G$8532=B878,ROW($B$3:$B$8532)-ROW($B$3)+1),ROWS($C$3:C878))),\"\")","v":0}]
[{"$f":"IFERROR(INDEX(اقساط!$AT$3:$AT$8532,SMALL(IF(اقساط!$G$3:$G$8532=B879,ROW($AT$3:$AT$8532)-ROW($AT$3)+1),ROWS($A$3:A879))),\"\")","v":0},{"$f":"IFERROR(INDEX(Names,SMALL(IF(Names<>\"\",IF(MID(Names,1,LEN($B$1))=$B$1,ROW(Names)-ROW($G$3)+1)),ROWS($A$1:A877))),\"\")","v":""},{"$f":"IFERROR(INDEX(اقساط!$B$3:$B$8532,SMALL(IF(اقساط!$G$3:$G$8532=B879,ROW($B$3:$B$8532)-ROW($B$3)+1),ROWS($C$3:C879))),\"\")","v":0}]
[{"$f":"IFERROR(INDEX(اقساط!$AT$3:$AT$8532,SMALL(IF(اقساط!$G$3:$G$8532=B880,ROW($AT$3:$AT$8532)-ROW($AT$3)+1),ROWS($A$3:A880))),\"\")","v":0},{"$f":"IFERROR(INDEX(Names,SMALL(IF(Names<>\"\",IF(MID(Names,1,LEN($B$1))=$B$1,ROW(Names)-ROW($G$3)+1)),ROWS($A$1:A878))),\"\")","v":""},{"$f":"IFERROR(INDEX(اقساط!$B$3:$B$8532,SMALL(IF(اقساط!$G$3:$G$8532=B880,ROW($B$3:$B$8532)-ROW($B$3)+1),ROWS($C$3:C880))),\"\")","v":0}]
[{"$f":"IFERROR(INDEX(اقساط!$AT$3:$AT$8532,SMALL(IF(اقساط!$G$3:$G$8532=B881,ROW($AT$3:$AT$8532)-ROW($AT$3)+1),ROWS($A$3:A881))),\"\")","v":0},{"$f":"IFERROR(INDEX(Names,SMALL(IF(Names<>\"\",IF(MID(Names,1,LEN($B$1))=$B$1,ROW(Names)-ROW($G$3)+1)),ROWS($A$1:A879))),\"\")","v":""},{"$f":"IFERROR(INDEX(اقساط!$B$3:$B$8532,SMALL(IF(اقساط!$G$3:$G$8532=B881,ROW($B$3:$B$8532)-ROW($B$3)+1),ROWS($C$3:C881))),\"\")","v":0}]
[{"$f":"IFERROR(INDEX(اقساط!$AT$3:$AT$8532,SMALL(IF(اقساط!$G$3:$G$8532=B882,ROW($AT$3:$AT$8532)-ROW($AT$3)+1),ROWS($A$3:A882))),\"\")","v":0},{"$f":"IFERROR(INDEX(Names,SMALL(IF(Names<>\"\",IF(MID(Names,1,LEN($B$1))=$B$1,ROW(Names)-ROW($G$3)+1)),ROWS($A$1:A880))),\"\")","v":""},{"$f":"IFERROR(INDEX(اقساط!$B$3:$B$8532,SMALL(IF(اقساط!$G$3:$G$8532=B882,ROW($B$3:$B$8532)-ROW($B$3)+1),ROWS($C$3:C882))),\"\")","v":0}]
[{"$f":"IFERROR(INDEX(اقساط!$AT$3:$AT$8532,SMALL(IF(اقساط!$G$3:$G$8532=B883,ROW($AT$3:$AT$8532)-ROW($AT$3)+1),ROWS($A$3:A883))),\"\")","v":0},{"$f":"IFERROR(INDEX(Names,SMALL(IF(Names<>\"\",IF(MID(Names,1,LEN($B$1))=$B$1,ROW(Names)-ROW($G$3)+1)),ROWS($A$1:A881))),\"\")","v":""},{"$f":"IFERROR(INDEX(اقساط!$B$3:$B$8532,SMALL(IF(اقساط!$G$3:$G$8532=B883,ROW($B$3:$B$8532)-ROW($B$3)+1),ROWS($C$3:C883))),\"\")","v":0}]
[{"$f":"IFERROR(INDEX(اقساط!$AT$3:$AT$8532,SMALL(IF(اقساط!$G$3:$G$8532=B884,ROW($AT$3:$AT$8532)-ROW($AT$3)+1),ROWS($A$3:A884))),\"\")","v":0},{"$f":"IFERROR(INDEX(Names,SMALL(IF(Names<>\"\",IF(MID(Names,1,LEN($B$1))=$B$1,ROW(Names)-ROW($G$3)+1)),ROWS($A$1:A882))),\"\")","v":""},{"$f":"IFERROR(INDEX(اقساط!$B$3:$B$8532,SMALL(IF(اقساط!$G$3:$G$8532=B884,ROW($B$3:$B$8532)-ROW($B$3)+1),ROWS($C$3:C884))),\"\")","v":0}]
[{"$f":"IFERROR(INDEX(اقساط!$AT$3:$AT$8532,SMALL(IF(اقساط!$G$3:$G$8532=B885,ROW($AT$3:$AT$8532)-ROW($AT$3)+1),ROWS($A$3:A885))),\"\")","v":0},{"$f":"IFERROR(INDEX(Names,SMALL(IF(Names<>\"\",IF(MID(Names,1,LEN($B$1))=$B$1,ROW(Names)-ROW($G$3)+1)),ROWS($A$1:A883))),\"\")","v":""},{"$f":"IFERROR(INDEX(اقساط!$B$3:$B$8532,SMALL(IF(اقساط!$G$3:$G$8532=B885,ROW($B$3:$B$8532)-ROW($B$3)+1),ROWS($C$3:C885))),\"\")","v":0}]
[{"$f":"IFERROR(INDEX(اقساط!$AT$3:$AT$8532,SMALL(IF(اقساط!$G$3:$G$8532=B886,ROW($AT$3:$AT$8532)-ROW($AT$3)+1),ROWS($A$3:A886))),\"\")","v":0},{"$f":"IFERROR(INDEX(Names,SMALL(IF(Names<>\"\",IF(MID(Names,1,LEN($B$1))=$B$1,ROW(Names)-ROW($G$3)+1)),ROWS($A$1:A884))),\"\")","v":""},{"$f":"IFERROR(INDEX(اقساط!$B$3:$B$8532,SMALL(IF(اقساط!$G$3:$G$8532=B886,ROW($B$3:$B$8532)-ROW($B$3)+1),ROWS($C$3:C886))),\"\")","v":0}]
[{"$f":"IFERROR(INDEX(اقساط!$AT$3:$AT$8532,SMALL(IF(اقساط!$G$3:$G$8532=B887,ROW($AT$3:$AT$8532)-ROW($AT$3)+1),ROWS($A$3:A887))),\"\")","v":0},{"$f":"IFERROR(INDEX(Names,SMALL(IF(Names<>\"\",IF(MID(Names,1,LEN($B$1))=$B$1,ROW(Names)-ROW($G$3)+1)),ROWS($A$1:A885))),\"\")","v":""},{"$f":"IFERROR(INDEX(اقساط!$B$3:$B$8532,SMALL(IF(اقساط!$G$3:$G$8532=B887,ROW($B$3:$B$8532)-ROW($B$3)+1),ROWS($C$3:C887))),\"\")","v":0}]
[{"$f":"IFERROR(INDEX(اقساط!$AT$3:$AT$8532,SMALL(IF(اقساط!$G$3:$G$8532=B888,ROW($AT$3:$AT$8532)-ROW($AT$3)+1),ROWS($A$3:A888))),\"\")","v":0},{"$f":"IFERROR(INDEX(Names,SMALL(IF(Names<>\"\",IF(MID(Names,1,LEN($B$1))=$B$1,ROW(Names)-ROW($G$3)+1)),ROWS($A$1:A886))),\"\")","v":""},{"$f":"IFERROR(INDEX(اقساط!$B$3:$B$8532,SMALL(IF(اقساط!$G$3:$G$8532=B888,ROW($B$3:$B$8532)-ROW($B$3)+1),ROWS($C$3:C888))),\"\")","v":0}]
[{"$f":"IFERROR(INDEX(اقساط!$AT$3:$AT$8532,SMALL(IF(اقساط!$G$3:$G$8532=B889,ROW($AT$3:$AT$8532)-ROW($AT$3)+1),ROWS($A$3:A889))),\"\")","v":0},{"$f":"IFERROR(INDEX(Names,SMALL(IF(Names<>\"\",IF(MID(Names,1,LEN($B$1))=$B$1,ROW(Names)-ROW($G$3)+1)),ROWS($A$1:A887))),\"\")","v":""},{"$f":"IFERROR(INDEX(اقساط!$B$3:$B$8532,SMALL(IF(اقساط!$G$3:$G$8532=B889,ROW($B$3:$B$8532)-ROW($B$3)+1),ROWS($C$3:C889))),\"\")","v":0}]
[{"$f":"IFERROR(INDEX(اقساط!$AT$3:$AT$8532,SMALL(IF(اقساط!$G$3:$G$8532=B890,ROW($AT$3:$AT$8532)-ROW($AT$3)+1),ROWS($A$3:A890))),\"\")","v":0},{"$f":"IFERROR(INDEX(Names,SMALL(IF(Names<>\"\",IF(MID(Names,1,LEN($B$1))=$B$1,ROW(Names)-ROW($G$3)+1)),ROWS($A$1:A888))),\"\")","v":""},{"$f":"IFERROR(INDEX(اقساط!$B$3:$B$8532,SMALL(IF(اقساط!$G$3:$G$8532=B890,ROW($B$3:$B$8532)-ROW($B$3)+1),ROWS($C$3:C890))),\"\")","v":0}]
[{"$f":"IFERROR(INDEX(اقساط!$AT$3:$AT$8532,SMALL(IF(اقساط!$G$3:$G$8532=B891,ROW($AT$3:$AT$8532)-ROW($AT$3)+1),ROWS($A$3:A891))),\"\")","v":0},{"$f":"IFERROR(INDEX(Names,SMALL(IF(Names<>\"\",IF(MID(Names,1,LEN($B$1))=$B$1,ROW(Names)-ROW($G$3)+1)),ROWS($A$1:A889))),\"\")","v":""},{"$f":"IFERROR(INDEX(اقساط!$B$3:$B$8532,SMALL(IF(اقساط!$G$3:$G$8532=B891,ROW($B$3:$B$8532)-ROW($B$3)+1),ROWS($C$3:C891))),\"\")","v":0}]
[{"$f":"IFERROR(INDEX(اقساط!$AT$3:$AT$8532,SMALL(IF(اقساط!$G$3:$G$8532=B892,ROW($AT$3:$AT$8532)-ROW($AT$3)+1),ROWS($A$3:A892))),\"\")","v":0},{"$f":"IFERROR(INDEX(Names,SMALL(IF(Names<>\"\",IF(MID(Names,1,LEN($B$1))=$B$1,ROW(Names)-ROW($G$3)+1)),ROWS($A$1:A890))),\"\")","v":""},{"$f":"IFERROR(INDEX(اقساط!$B$3:$B$8532,SMALL(IF(اقساط!$G$3:$G$8532=B892,ROW($B$3:$B$8532)-ROW($B$3)+1),ROWS($C$3:C892))),\"\")","v":0}]
[{"$f":"IFERROR(INDEX(اقساط!$AT$3:$AT$8532,SMALL(IF(اقساط!$G$3:$G$8532=B893,ROW($AT$3:$AT$8532)-ROW($AT$3)+1),ROWS($A$3:A893))),\"\")","v":0},{"$f":"IFERROR(INDEX(Names,SMALL(IF(Names<>\"\",IF(MID(Names,1,LEN($B$1))=$B$1,ROW(Names)-ROW($G$3)+1)),ROWS($A$1:A891))),\"\")","v":""},{"$f":"IFERROR(INDEX(اقساط!$B$3:$B$8532,SMALL(IF(اقساط!$G$3:$G$8532=B893,ROW($B$3:$B$8532)-ROW($B$3)+1),ROWS($C$3:C893))),\"\")","v":0}]
[{"$f":"IFERROR(INDEX(اقساط!$AT$3:$AT$8532,SMALL(IF(اقساط!$G$3:$G$8532=B894,ROW($AT$3:$AT$8532)-ROW($AT$3)+1),ROWS($A$3:A894))),\"\")","v":0},{"$f":"IFERROR(INDEX(Names,SMALL(IF(Names<>\"\",IF(MID(Names,1,LEN($B$1))=$B$1,ROW(Names)-ROW($G$3)+1)),ROWS($A$1:A892))),\"\")","v":""},{"$f":"IFERROR(INDEX(اقساط!$B$3:$B$8532,SMALL(IF(اقساط!$G$3:$G$8532=B894,ROW($B$3:$B$8532)-ROW($B$3)+1),ROWS($C$3:C894))),\"\")","v":0}]
[{"$f":"IFERROR(INDEX(اقساط!$AT$3:$AT$8532,SMALL(IF(اقساط!$G$3:$G$8532=B895,ROW($AT$3:$AT$8532)-ROW($AT$3)+1),ROWS($A$3:A895))),\"\")","v":0},{"$f":"IFERROR(INDEX(Names,SMALL(IF(Names<>\"\",IF(MID(Names,1,LEN($B$1))=$B$1,ROW(Names)-ROW($G$3)+1)),ROWS($A$1:A893))),\"\")","v":""},{"$f":"IFERROR(INDEX(اقساط!$B$3:$B$8532,SMALL(IF(اقساط!$G$3:$G$8532=B895,ROW($B$3:$B$8532)-ROW($B$3)+1),ROWS($C$3:C895))),\"\")","v":0}]
[{"$f":"IFERROR(INDEX(اقساط!$AT$3:$AT$8532,SMALL(IF(اقساط!$G$3:$G$8532=B896,ROW($AT$3:$AT$8532)-ROW($AT$3)+1),ROWS($A$3:A896))),\"\")","v":0},{"$f":"IFERROR(INDEX(Names,SMALL(IF(Names<>\"\",IF(MID(Names,1,LEN($B$1))=$B$1,ROW(Names)-ROW($G$3)+1)),ROWS($A$1:A894))),\"\")","v":""},{"$f":"IFERROR(INDEX(اقساط!$B$3:$B$8532,SMALL(IF(اقساط!$G$3:$G$8532=B896,ROW($B$3:$B$8532)-ROW($B$3)+1),ROWS($C$3:C896))),\"\")","v":0}]
[{"$f":"IFERROR(INDEX(اقساط!$AT$3:$AT$8532,SMALL(IF(اقساط!$G$3:$G$8532=B897,ROW($AT$3:$AT$8532)-ROW($AT$3)+1),ROWS($A$3:A897))),\"\")","v":0},{"$f":"IFERROR(INDEX(Names,SMALL(IF(Names<>\"\",IF(MID(Names,1,LEN($B$1))=$B$1,ROW(Names)-ROW($G$3)+1)),ROWS($A$1:A895))),\"\")","v":""},{"$f":"IFERROR(INDEX(اقساط!$B$3:$B$8532,SMALL(IF(اقساط!$G$3:$G$8532=B897,ROW($B$3:$B$8532)-ROW($B$3)+1),ROWS($C$3:C897))),\"\")","v":0}]
[{"$f":"IFERROR(INDEX(اقساط!$AT$3:$AT$8532,SMALL(IF(اقساط!$G$3:$G$8532=B898,ROW($AT$3:$AT$8532)-ROW($AT$3)+1),ROWS($A$3:A898))),\"\")","v":0},{"$f":"IFERROR(INDEX(Names,SMALL(IF(Names<>\"\",IF(MID(Names,1,LEN($B$1))=$B$1,ROW(Names)-ROW($G$3)+1)),ROWS($A$1:A896))),\"\")","v":""},{"$f":"IFERROR(INDEX(اقساط!$B$3:$B$8532,SMALL(IF(اقساط!$G$3:$G$8532=B898,ROW($B$3:$B$8532)-ROW($B$3)+1),ROWS($C$3:C898))),\"\")","v":0}]
[{"$f":"IFERROR(INDEX(اقساط!$AT$3:$AT$8532,SMALL(IF(اقساط!$G$3:$G$8532=B899,ROW($AT$3:$AT$8532)-ROW($AT$3)+1),ROWS($A$3:A899))),\"\")","v":0},{"$f":"IFERROR(INDEX(Names,SMALL(IF(Names<>\"\",IF(MID(Names,1,LEN($B$1))=$B$1,ROW(Names)-ROW($G$3)+1)),ROWS($A$1:A897))),\"\")","v":""},{"$f":"IFERROR(INDEX(اقساط!$B$3:$B$8532,SMALL(IF(اقساط!$G$3:$G$8532=B899,ROW($B$3:$B$8532)-ROW($B$3)+1),ROWS($C$3:C899))),\"\")","v":0}]
[{"$f":"IFERROR(INDEX(اقساط!$AT$3:$AT$8532,SMALL(IF(اقساط!$G$3:$G$8532=B900,ROW($AT$3:$AT$8532)-ROW($AT$3)+1),ROWS($A$3:A900))),\"\")","v":0},{"$f":"IFERROR(INDEX(Names,SMALL(IF(Names<>\"\",IF(MID(Names,1,LEN($B$1))=$B$1,ROW(Names)-ROW($G$3)+1)),ROWS($A$1:A898))),\"\")","v":""},{"$f":"IFERROR(INDEX(اقساط!$B$3:$B$8532,SMALL(IF(اقساط!$G$3:$G$8532=B900,ROW($B$3:$B$8532)-ROW($B$3)+1),ROWS($C$3:C900))),\"\")","v":0}]
[{"$f":"IFERROR(INDEX(اقساط!$AT$3:$AT$8532,SMALL(IF(اقساط!$G$3:$G$8532=B901,ROW($AT$3:$AT$8532)-ROW($AT$3)+1),ROWS($A$3:A901))),\"\")","v":0},{"$f":"IFERROR(INDEX(Names,SMALL(IF(Names<>\"\",IF(MID(Names,1,LEN($B$1))=$B$1,ROW(Names)-ROW($G$3)+1)),ROWS($A$1:A899))),\"\")","v":""},{"$f":"IFERROR(INDEX(اقساط!$B$3:$B$8532,SMALL(IF(اقساط!$G$3:$G$8532=B901,ROW($B$3:$B$8532)-ROW($B$3)+1),ROWS($C$3:C901))),\"\")","v":0}]
[{"$f":"IFERROR(INDEX(اقساط!$AT$3:$AT$8532,SMALL(IF(اقساط!$G$3:$G$8532=B902,ROW($AT$3:$AT$8532)-ROW($AT$3)+1),ROWS($A$3:A902))),\"\")","v":0},{"$f":"IFERROR(INDEX(Names,SMALL(IF(Names<>\"\",IF(MID(Names,1,LEN($B$1))=$B$1,ROW(Names)-ROW($G$3)+1)),ROWS($A$1:A900))),\"\")","v":""},{"$f":"IFERROR(INDEX(اقساط!$B$3:$B$8532,SMALL(IF(اقساط!$G$3:$G$8532=B902,ROW($B$3:$B$8532)-ROW($B$3)+1),ROWS($C$3:C902))),\"\")","v":0}]
[{"$f":"IFERROR(INDEX(اقساط!$AT$3:$AT$8532,SMALL(IF(اقساط!$G$3:$G$8532=B903,ROW($AT$3:$AT$8532)-ROW($AT$3)+1),ROWS($A$3:A903))),\"\")","v":0},{"$f":"IFERROR(INDEX(Names,SMALL(IF(Names<>\"\",IF(MID(Names,1,LEN($B$1))=$B$1,ROW(Names)-ROW($G$3)+1)),ROWS($A$1:A901))),\"\")","v":""},{"$f":"IFERROR(INDEX(اقساط!$B$3:$B$8532,SMALL(IF(اقساط!$G$3:$G$8532=B903,ROW($B$3:$B$8532)-ROW($B$3)+1),ROWS($C$3:C903))),\"\")","v":0}]
[{"$f":"IFERROR(INDEX(اقساط!$AT$3:$AT$8532,SMALL(IF(اقساط!$G$3:$G$8532=B904,ROW($AT$3:$AT$8532)-ROW($AT$3)+1),ROWS($A$3:A904))),\"\")","v":0},{"$f":"IFERROR(INDEX(Names,SMALL(IF(Names<>\"\",IF(MID(Names,1,LEN($B$1))=$B$1,ROW(Names)-ROW($G$3)+1)),ROWS($A$1:A902))),\"\")","v":""},{"$f":"IFERROR(INDEX(اقساط!$B$3:$B$8532,SMALL(IF(اقساط!$G$3:$G$8532=B904,ROW($B$3:$B$8532)-ROW($B$3)+1),ROWS($C$3:C904))),\"\")","v":0}]
[{"$f":"IFERROR(INDEX(اقساط!$AT$3:$AT$8532,SMALL(IF(اقساط!$G$3:$G$8532=B905,ROW($AT$3:$AT$8532)-ROW($AT$3)+1),ROWS($A$3:A905))),\"\")","v":0},{"$f":"IFERROR(INDEX(Names,SMALL(IF(Names<>\"\",IF(MID(Names,1,LEN($B$1))=$B$1,ROW(Names)-ROW($G$3)+1)),ROWS($A$1:A903))),\"\")","v":""},{"$f":"IFERROR(INDEX(اقساط!$B$3:$B$8532,SMALL(IF(اقساط!$G$3:$G$8532=B905,ROW($B$3:$B$8532)-ROW($B$3)+1),ROWS($C$3:C905))),\"\")","v":0}]
[{"$f":"IFERROR(INDEX(اقساط!$AT$3:$AT$8532,SMALL(IF(اقساط!$G$3:$G$8532=B906,ROW($AT$3:$AT$8532)-ROW($AT$3)+1),ROWS($A$3:A906))),\"\")","v":0},{"$f":"IFERROR(INDEX(Names,SMALL(IF(Names<>\"\",IF(MID(Names,1,LEN($B$1))=$B$1,ROW(Names)-ROW($G$3)+1)),ROWS($A$1:A904))),\"\")","v":""},{"$f":"IFERROR(INDEX(اقساط!$B$3:$B$8532,SMALL(IF(اقساط!$G$3:$G$8532=B906,ROW($B$3:$B$8532)-ROW($B$3)+1),ROWS($C$3:C906))),\"\")","v":0}]
[{"$f":"IFERROR(INDEX(اقساط!$AT$3:$AT$8532,SMALL(IF(اقساط!$G$3:$G$8532=B907,ROW($AT$3:$AT$8532)-ROW($AT$3)+1),ROWS($A$3:A907))),\"\")","v":0},{"$f":"IFERROR(INDEX(Names,SMALL(IF(Names<>\"\",IF(MID(Names,1,LEN($B$1))=$B$1,ROW(Names)-ROW($G$3)+1)),ROWS($A$1:A905))),\"\")","v":""},{"$f":"IFERROR(INDEX(اقساط!$B$3:$B$8532,SMALL(IF(اقساط!$G$3:$G$8532=B907,ROW($B$3:$B$8532)-ROW($B$3)+1),ROWS($C$3:C907))),\"\")","v":0}]
[{"$f":"IFERROR(INDEX(اقساط!$AT$3:$AT$8532,SMALL(IF(اقساط!$G$3:$G$8532=B908,ROW($AT$3:$AT$8532)-ROW($AT$3)+1),ROWS($A$3:A908))),\"\")","v":0},{"$f":"IFERROR(INDEX(Names,SMALL(IF(Names<>\"\",IF(MID(Names,1,LEN($B$1))=$B$1,ROW(Names)-ROW($G$3)+1)),ROWS($A$1:A906))),\"\")","v":""},{"$f":"IFERROR(INDEX(اقساط!$B$3:$B$8532,SMALL(IF(اقساط!$G$3:$G$8532=B908,ROW($B$3:$B$8532)-ROW($B$3)+1),ROWS($C$3:C908))),\"\")","v":0}]
[{"$f":"IFERROR(INDEX(اقساط!$AT$3:$AT$8532,SMALL(IF(اقساط!$G$3:$G$8532=B909,ROW($AT$3:$AT$8532)-ROW($AT$3)+1),ROWS($A$3:A909))),\"\")","v":0},{"$f":"IFERROR(INDEX(Names,SMALL(IF(Names<>\"\",IF(MID(Names,1,LEN($B$1))=$B$1,ROW(Names)-ROW($G$3)+1)),ROWS($A$1:A907))),\"\")","v":""},{"$f":"IFERROR(INDEX(اقساط!$B$3:$B$8532,SMALL(IF(اقساط!$G$3:$G$8532=B909,ROW($B$3:$B$8532)-ROW($B$3)+1),ROWS($C$3:C909))),\"\")","v":0}]
[{"$f":"IFERROR(INDEX(اقساط!$AT$3:$AT$8532,SMALL(IF(اقساط!$G$3:$G$8532=B910,ROW($AT$3:$AT$8532)-ROW($AT$3)+1),ROWS($A$3:A910))),\"\")","v":0},{"$f":"IFERROR(INDEX(Names,SMALL(IF(Names<>\"\",IF(MID(Names,1,LEN($B$1))=$B$1,ROW(Names)-ROW($G$3)+1)),ROWS($A$1:A908))),\"\")","v":""},{"$f":"IFERROR(INDEX(اقساط!$B$3:$B$8532,SMALL(IF(اقساط!$G$3:$G$8532=B910,ROW($B$3:$B$8532)-ROW($B$3)+1),ROWS($C$3:C910))),\"\")","v":0}]
[{"$f":"IFERROR(INDEX(اقساط!$AT$3:$AT$8532,SMALL(IF(اقساط!$G$3:$G$8532=B911,ROW($AT$3:$AT$8532)-ROW($AT$3)+1),ROWS($A$3:A911))),\"\")","v":0},{"$f":"IFERROR(INDEX(Names,SMALL(IF(Names<>\"\",IF(MID(Names,1,LEN($B$1))=$B$1,ROW(Names)-ROW($G$3)+1)),ROWS($A$1:A909))),\"\")","v":""},{"$f":"IFERROR(INDEX(اقساط!$B$3:$B$8532,SMALL(IF(اقساط!$G$3:$G$8532=B911,ROW($B$3:$B$8532)-ROW($B$3)+1),ROWS($C$3:C911))),\"\")","v":0}]
[{"$f":"IFERROR(INDEX(اقساط!$AT$3:$AT$8532,SMALL(IF(اقساط!$G$3:$G$8532=B912,ROW($AT$3:$AT$8532)-ROW($AT$3)+1),ROWS($A$3:A912))),\"\")","v":0},{"$f":"IFERROR(INDEX(Names,SMALL(IF(Names<>\"\",IF(MID(Names,1,LEN($B$1))=$B$1,ROW(Names)-ROW($G$3)+1)),ROWS($A$1:A910))),\"\")","v":""},{"$f":"IFERROR(INDEX(اقساط!$B$3:$B$8532,SMALL(IF(اقساط!$G$3:$G$8532=B912,ROW($B$3:$B$8532)-ROW($B$3)+1),ROWS($C$3:C912))),\"\")","v":0}]
[{"$f":"IFERROR(INDEX(اقساط!$AT$3:$AT$8532,SMALL(IF(اقساط!$G$3:$G$8532=B913,ROW($AT$3:$AT$8532)-ROW($AT$3)+1),ROWS($A$3:A913))),\"\")","v":0},{"$f":"IFERROR(INDEX(Names,SMALL(IF(Names<>\"\",IF(MID(Names,1,LEN($B$1))=$B$1,ROW(Names)-ROW($G$3)+1)),ROWS($A$1:A911))),\"\")","v":""},{"$f":"IFERROR(INDEX(اقساط!$B$3:$B$8532,SMALL(IF(اقساط!$G$3:$G$8532=B913,ROW($B$3:$B$8532)-ROW($B$3)+1),ROWS($C$3:C913))),\"\")","v":0}]
[{"$f":"IFERROR(INDEX(اقساط!$AT$3:$AT$8532,SMALL(IF(اقساط!$G$3:$G$8532=B914,ROW($AT$3:$AT$8532)-ROW($AT$3)+1),ROWS($A$3:A914))),\"\")","v":0},{"$f":"IFERROR(INDEX(Names,SMALL(IF(Names<>\"\",IF(MID(Names,1,LEN($B$1))=$B$1,ROW(Names)-ROW($G$3)+1)),ROWS($A$1:A912))),\"\")","v":""},{"$f":"IFERROR(INDEX(اقساط!$B$3:$B$8532,SMALL(IF(اقساط!$G$3:$G$8532=B914,ROW($B$3:$B$8532)-ROW($B$3)+1),ROWS($C$3:C914))),\"\")","v":0}]
[{"$f":"IFERROR(INDEX(اقساط!$AT$3:$AT$8532,SMALL(IF(اقساط!$G$3:$G$8532=B915,ROW($AT$3:$AT$8532)-ROW($AT$3)+1),ROWS($A$3:A915))),\"\")","v":0},{"$f":"IFERROR(INDEX(Names,SMALL(IF(Names<>\"\",IF(MID(Names,1,LEN($B$1))=$B$1,ROW(Names)-ROW($G$3)+1)),ROWS($A$1:A913))),\"\")","v":""},{"$f":"IFERROR(INDEX(اقساط!$B$3:$B$8532,SMALL(IF(اقساط!$G$3:$G$8532=B915,ROW($B$3:$B$8532)-ROW($B$3)+1),ROWS($C$3:C915))),\"\")","v":0}]
[{"$f":"IFERROR(INDEX(اقساط!$AT$3:$AT$8532,SMALL(IF(اقساط!$G$3:$G$8532=B916,ROW($AT$3:$AT$8532)-ROW($AT$3)+1),ROWS($A$3:A916))),\"\")","v":0},{"$f":"IFERROR(INDEX(Names,SMALL(IF(Names<>\"\",IF(MID(Names,1,LEN($B$1))=$B$1,ROW(Names)-ROW($G$3)+1)),ROWS($A$1:A914))),\"\")","v":""},{"$f":"IFERROR(INDEX(اقساط!$B$3:$B$8532,SMALL(IF(اقساط!$G$3:$G$8532=B916,ROW($B$3:$B$8532)-ROW($B$3)+1),ROWS($C$3:C916))),\"\")","v":0}]
[{"$f":"IFERROR(INDEX(اقساط!$AT$3:$AT$8532,SMALL(IF(اقساط!$G$3:$G$8532=B917,ROW($AT$3:$AT$8532)-ROW($AT$3)+1),ROWS($A$3:A917))),\"\")","v":0},{"$f":"IFERROR(INDEX(Names,SMALL(IF(Names<>\"\",IF(MID(Names,1,LEN($B$1))=$B$1,ROW(Names)-ROW($G$3)+1)),ROWS($A$1:A915))),\"\")","v":""},{"$f":"IFERROR(INDEX(اقساط!$B$3:$B$8532,SMALL(IF(اقساط!$G$3:$G$8532=B917,ROW($B$3:$B$8532)-ROW($B$3)+1),ROWS($C$3:C917))),\"\")","v":0}]
[{"$f":"IFERROR(INDEX(اقساط!$AT$3:$AT$8532,SMALL(IF(اقساط!$G$3:$G$8532=B918,ROW($AT$3:$AT$8532)-ROW($AT$3)+1),ROWS($A$3:A918))),\"\")","v":0},{"$f":"IFERROR(INDEX(Names,SMALL(IF(Names<>\"\",IF(MID(Names,1,LEN($B$1))=$B$1,ROW(Names)-ROW($G$3)+1)),ROWS($A$1:A916))),\"\")","v":""},{"$f":"IFERROR(INDEX(اقساط!$B$3:$B$8532,SMALL(IF(اقساط!$G$3:$G$8532=B918,ROW($B$3:$B$8532)-ROW($B$3)+1),ROWS($C$3:C918))),\"\")","v":0}]
[{"$f":"IFERROR(INDEX(اقساط!$AT$3:$AT$8532,SMALL(IF(اقساط!$G$3:$G$8532=B919,ROW($AT$3:$AT$8532)-ROW($AT$3)+1),ROWS($A$3:A919))),\"\")","v":0},{"$f":"IFERROR(INDEX(Names,SMALL(IF(Names<>\"\",IF(MID(Names,1,LEN($B$1))=$B$1,ROW(Names)-ROW($G$3)+1)),ROWS($A$1:A917))),\"\")","v":""},{"$f":"IFERROR(INDEX(اقساط!$B$3:$B$8532,SMALL(IF(اقساط!$G$3:$G$8532=B919,ROW($B$3:$B$8532)-ROW($B$3)+1),ROWS($C$3:C919))),\"\")","v":0}]
[{"$f":"IFERROR(INDEX(اقساط!$AT$3:$AT$8532,SMALL(IF(اقساط!$G$3:$G$8532=B920,ROW($AT$3:$AT$8532)-ROW($AT$3)+1),ROWS($A$3:A920))),\"\")","v":0},{"$f":"IFERROR(INDEX(Names,SMALL(IF(Names<>\"\",IF(MID(Names,1,LEN($B$1))=$B$1,ROW(Names)-ROW($G$3)+1)),ROWS($A$1:A918))),\"\")","v":""},{"$f":"IFERROR(INDEX(اقساط!$B$3:$B$8532,SMALL(IF(اقساط!$G$3:$G$8532=B920,ROW($B$3:$B$8532)-ROW($B$3)+1),ROWS($C$3:C920))),\"\")","v":0}]
[{"$f":"IFERROR(INDEX(اقساط!$AT$3:$AT$8532,SMALL(IF(اقساط!$G$3:$G$8532=B921,ROW($AT$3:$AT$8532)-ROW($AT$3)+1),ROWS($A$3:A921))),\"\")","v":0},{"$f":"IFERROR(INDEX(Names,SMALL(IF(Names<>\"\",IF(MID(Names,1,LEN($B$1))=$B$1,ROW(Names)-ROW($G$3)+1)),ROWS($A$1:A919))),\"\")","v":""},{"$f":"IFERROR(INDEX(اقساط!$B$3:$B$8532,SMALL(IF(اقساط!$G$3:$G$8532=B921,ROW($B$3:$B$8532)-ROW($B$3)+1),ROWS($C$3:C921))),\"\")","v":0}]
[{"$f":"IFERROR(INDEX(اقساط!$AT$3:$AT$8532,SMALL(IF(اقساط!$G$3:$G$8532=B922,ROW($AT$3:$AT$8532)-ROW($AT$3)+1),ROWS($A$3:A922))),\"\")","v":0},{"$f":"IFERROR(INDEX(Names,SMALL(IF(Names<>\"\",IF(MID(Names,1,LEN($B$1))=$B$1,ROW(Names)-ROW($G$3)+1)),ROWS($A$1:A920))),\"\")","v":""},{"$f":"IFERROR(INDEX(اقساط!$B$3:$B$8532,SMALL(IF(اقساط!$G$3:$G$8532=B922,ROW($B$3:$B$8532)-ROW($B$3)+1),ROWS($C$3:C922))),\"\")","v":0}]
[{"$f":"IFERROR(INDEX(اقساط!$AT$3:$AT$8532,SMALL(IF(اقساط!$G$3:$G$8532=B923,ROW($AT$3:$AT$8532)-ROW($AT$3)+1),ROWS($A$3:A923))),\"\")","v":0},{"$f":"IFERROR(INDEX(Names,SMALL(IF(Names<>\"\",IF(MID(Names,1,LEN($B$1))=$B$1,ROW(Names)-ROW($G$3)+1)),ROWS($A$1:A921))),\"\")","v":""},{"$f":"IFERROR(INDEX(اقساط!$B$3:$B$8532,SMALL(IF(اقساط!$G$3:$G$8532=B923,ROW($B$3:$B$8532)-ROW($B$3)+1),ROWS($C$3:C923))),\"\")","v":0}]
[{"$f":"IFERROR(INDEX(اقساط!$AT$3:$AT$8532,SMALL(IF(اقساط!$G$3:$G$8532=B924,ROW($AT$3:$AT$8532)-ROW($AT$3)+1),ROWS($A$3:A924))),\"\")","v":0},{"$f":"IFERROR(INDEX(Names,SMALL(IF(Names<>\"\",IF(MID(Names,1,LEN($B$1))=$B$1,ROW(Names)-ROW($G$3)+1)),ROWS($A$1:A922))),\"\")","v":""},{"$f":"IFERROR(INDEX(اقساط!$B$3:$B$8532,SMALL(IF(اقساط!$G$3:$G$8532=B924,ROW($B$3:$B$8532)-ROW($B$3)+1),ROWS($C$3:C924))),\"\")","v":0}]
[{"$f":"IFERROR(INDEX(اقساط!$AT$3:$AT$8532,SMALL(IF(اقساط!$G$3:$G$8532=B925,ROW($AT$3:$AT$8532)-ROW($AT$3)+1),ROWS($A$3:A925))),\"\")","v":0},{"$f":"IFERROR(INDEX(Names,SMALL(IF(Names<>\"\",IF(MID(Names,1,LEN($B$1))=$B$1,ROW(Names)-ROW($G$3)+1)),ROWS($A$1:A923))),\"\")","v":""},{"$f":"IFERROR(INDEX(اقساط!$B$3:$B$8532,SMALL(IF(اقساط!$G$3:$G$8532=B925,ROW($B$3:$B$8532)-ROW($B$3)+1),ROWS($C$3:C925))),\"\")","v":0}]
[{"$f":"IFERROR(INDEX(اقساط!$AT$3:$AT$8532,SMALL(IF(اقساط!$G$3:$G$8532=B926,ROW($AT$3:$AT$8532)-ROW($AT$3)+1),ROWS($A$3:A926))),\"\")","v":0},{"$f":"IFERROR(INDEX(Names,SMALL(IF(Names<>\"\",IF(MID(Names,1,LEN($B$1))=$B$1,ROW(Names)-ROW($G$3)+1)),ROWS($A$1:A924))),\"\")","v":""},{"$f":"IFERROR(INDEX(اقساط!$B$3:$B$8532,SMALL(IF(اقساط!$G$3:$G$8532=B926,ROW($B$3:$B$8532)-ROW($B$3)+1),ROWS($C$3:C926))),\"\")","v":0}]
[{"$f":"IFERROR(INDEX(اقساط!$AT$3:$AT$8532,SMALL(IF(اقساط!$G$3:$G$8532=B927,ROW($AT$3:$AT$8532)-ROW($AT$3)+1),ROWS($A$3:A927))),\"\")","v":0},{"$f":"IFERROR(INDEX(Names,SMALL(IF(Names<>\"\",IF(MID(Names,1,LEN($B$1))=$B$1,ROW(Names)-ROW($G$3)+1)),ROWS($A$1:A925))),\"\")","v":""},{"$f":"IFERROR(INDEX(اقساط!$B$3:$B$8532,SMALL(IF(اقساط!$G$3:$G$8532=B927,ROW($B$3:$B$8532)-ROW($B$3)+1),ROWS($C$3:C927))),\"\")","v":0}]
[{"$f":"IFERROR(INDEX(اقساط!$AT$3:$AT$8532,SMALL(IF(اقساط!$G$3:$G$8532=B928,ROW($AT$3:$AT$8532)-ROW($AT$3)+1),ROWS($A$3:A928))),\"\")","v":0},{"$f":"IFERROR(INDEX(Names,SMALL(IF(Names<>\"\",IF(MID(Names,1,LEN($B$1))=$B$1,ROW(Names)-ROW($G$3)+1)),ROWS($A$1:A926))),\"\")","v":""},{"$f":"IFERROR(INDEX(اقساط!$B$3:$B$8532,SMALL(IF(اقساط!$G$3:$G$8532=B928,ROW($B$3:$B$8532)-ROW($B$3)+1),ROWS($C$3:C928))),\"\")","v":0}]
[{"$f":"IFERROR(INDEX(اقساط!$AT$3:$AT$8532,SMALL(IF(اقساط!$G$3:$G$8532=B929,ROW($AT$3:$AT$8532)-ROW($AT$3)+1),ROWS($A$3:A929))),\"\")","v":0},{"$f":"IFERROR(INDEX(Names,SMALL(IF(Names<>\"\",IF(MID(Names,1,LEN($B$1))=$B$1,ROW(Names)-ROW($G$3)+1)),ROWS($A$1:A927))),\"\")","v":""},{"$f":"IFERROR(INDEX(اقساط!$B$3:$B$8532,SMALL(IF(اقساط!$G$3:$G$8532=B929,ROW($B$3:$B$8532)-ROW($B$3)+1),ROWS($C$3:C929))),\"\")","v":0}]
[{"$f":"IFERROR(INDEX(اقساط!$AT$3:$AT$8532,SMALL(IF(اقساط!$G$3:$G$8532=B930,ROW($AT$3:$AT$8532)-ROW($AT$3)+1),ROWS($A$3:A930))),\"\")","v":0},{"$f":"IFERROR(INDEX(Names,SMALL(IF(Names<>\"\",IF(MID(Names,1,LEN($B$1))=$B$1,ROW(Names)-ROW($G$3)+1)),ROWS($A$1:A928))),\"\")","v":""},{"$f":"IFERROR(INDEX(اقساط!$B$3:$B$8532,SMALL(IF(اقساط!$G$3:$G$8532=B930,ROW($B$3:$B$8532)-ROW($B$3)+1),ROWS($C$3:C930))),\"\")","v":0}]
[{"$f":"IFERROR(INDEX(اقساط!$AT$3:$AT$8532,SMALL(IF(اقساط!$G$3:$G$8532=B931,ROW($AT$3:$AT$8532)-ROW($AT$3)+1),ROWS($A$3:A931))),\"\")","v":0},{"$f":"IFERROR(INDEX(Names,SMALL(IF(Names<>\"\",IF(MID(Names,1,LEN($B$1))=$B$1,ROW(Names)-ROW($G$3)+1)),ROWS($A$1:A929))),\"\")","v":""},{"$f":"IFERROR(INDEX(اقساط!$B$3:$B$8532,SMALL(IF(اقساط!$G$3:$G$8532=B931,ROW($B$3:$B$8532)-ROW($B$3)+1),ROWS($C$3:C931))),\"\")","v":0}]
[{"$f":"IFERROR(INDEX(اقساط!$AT$3:$AT$8532,SMALL(IF(اقساط!$G$3:$G$8532=B932,ROW($AT$3:$AT$8532)-ROW($AT$3)+1),ROWS($A$3:A932))),\"\")","v":0},{"$f":"IFERROR(INDEX(Names,SMALL(IF(Names<>\"\",IF(MID(Names,1,LEN($B$1))=$B$1,ROW(Names)-ROW($G$3)+1)),ROWS($A$1:A930))),\"\")","v":""},{"$f":"IFERROR(INDEX(اقساط!$B$3:$B$8532,SMALL(IF(اقساط!$G$3:$G$8532=B932,ROW($B$3:$B$8532)-ROW($B$3)+1),ROWS($C$3:C932))),\"\")","v":0}]
[{"$f":"IFERROR(INDEX(اقساط!$AT$3:$AT$8532,SMALL(IF(اقساط!$G$3:$G$8532=B933,ROW($AT$3:$AT$8532)-ROW($AT$3)+1),ROWS($A$3:A933))),\"\")","v":0},{"$f":"IFERROR(INDEX(Names,SMALL(IF(Names<>\"\",IF(MID(Names,1,LEN($B$1))=$B$1,ROW(Names)-ROW($G$3)+1)),ROWS($A$1:A931))),\"\")","v":""},{"$f":"IFERROR(INDEX(اقساط!$B$3:$B$8532,SMALL(IF(اقساط!$G$3:$G$8532=B933,ROW($B$3:$B$8532)-ROW($B$3)+1),ROWS($C$3:C933))),\"\")","v":0}]
[{"$f":"IFERROR(INDEX(اقساط!$AT$3:$AT$8532,SMALL(IF(اقساط!$G$3:$G$8532=B934,ROW($AT$3:$AT$8532)-ROW($AT$3)+1),ROWS($A$3:A934))),\"\")","v":0},{"$f":"IFERROR(INDEX(Names,SMALL(IF(Names<>\"\",IF(MID(Names,1,LEN($B$1))=$B$1,ROW(Names)-ROW($G$3)+1)),ROWS($A$1:A932))),\"\")","v":""},{"$f":"IFERROR(INDEX(اقساط!$B$3:$B$8532,SMALL(IF(اقساط!$G$3:$G$8532=B934,ROW($B$3:$B$8532)-ROW($B$3)+1),ROWS($C$3:C934))),\"\")","v":0}]
[{"$f":"IFERROR(INDEX(اقساط!$AT$3:$AT$8532,SMALL(IF(اقساط!$G$3:$G$8532=B935,ROW($AT$3:$AT$8532)-ROW($AT$3)+1),ROWS($A$3:A935))),\"\")","v":0},{"$f":"IFERROR(INDEX(Names,SMALL(IF(Names<>\"\",IF(MID(Names,1,LEN($B$1))=$B$1,ROW(Names)-ROW($G$3)+1)),ROWS($A$1:A933))),\"\")","v":""},{"$f":"IFERROR(INDEX(اقساط!$B$3:$B$8532,SMALL(IF(اقساط!$G$3:$G$8532=B935,ROW($B$3:$B$8532)-ROW($B$3)+1),ROWS($C$3:C935))),\"\")","v":0}]
[{"$f":"IFERROR(INDEX(اقساط!$AT$3:$AT$8532,SMALL(IF(اقساط!$G$3:$G$8532=B936,ROW($AT$3:$AT$8532)-ROW($AT$3)+1),ROWS($A$3:A936))),\"\")","v":0},{"$f":"IFERROR(INDEX(Names,SMALL(IF(Names<>\"\",IF(MID(Names,1,LEN($B$1))=$B$1,ROW(Names)-ROW($G$3)+1)),ROWS($A$1:A934))),\"\")","v":""},{"$f":"IFERROR(INDEX(اقساط!$B$3:$B$8532,SMALL(IF(اقساط!$G$3:$G$8532=B936,ROW($B$3:$B$8532)-ROW($B$3)+1),ROWS($C$3:C936))),\"\")","v":0}]
[{"$f":"IFERROR(INDEX(اقساط!$AT$3:$AT$8532,SMALL(IF(اقساط!$G$3:$G$8532=B937,ROW($AT$3:$AT$8532)-ROW($AT$3)+1),ROWS($A$3:A937))),\"\")","v":0},{"$f":"IFERROR(INDEX(Names,SMALL(IF(Names<>\"\",IF(MID(Names,1,LEN($B$1))=$B$1,ROW(Names)-ROW($G$3)+1)),ROWS($A$1:A935))),\"\")","v":""},{"$f":"IFERROR(INDEX(اقساط!$B$3:$B$8532,SMALL(IF(اقساط!$G$3:$G$8532=B937,ROW($B$3:$B$8532)-ROW($B$3)+1),ROWS($C$3:C937))),\"\")","v":0}]
[{"$f":"IFERROR(INDEX(اقساط!$AT$3:$AT$8532,SMALL(IF(اقساط!$G$3:$G$8532=B938,ROW($AT$3:$AT$8532)-ROW($AT$3)+1),ROWS($A$3:A938))),\"\")","v":0},{"$f":"IFERROR(INDEX(Names,SMALL(IF(Names<>\"\",IF(MID(Names,1,LEN($B$1))=$B$1,ROW(Names)-ROW($G$3)+1)),ROWS($A$1:A936))),\"\")","v":""},{"$f":"IFERROR(INDEX(اقساط!$B$3:$B$8532,SMALL(IF(اقساط!$G$3:$G$8532=B938,ROW($B$3:$B$8532)-ROW($B$3)+1),ROWS($C$3:C938))),\"\")","v":0}]
[{"$f":"IFERROR(INDEX(اقساط!$AT$3:$AT$8532,SMALL(IF(اقساط!$G$3:$G$8532=B939,ROW($AT$3:$AT$8532)-ROW($AT$3)+1),ROWS($A$3:A939))),\"\")","v":0},{"$f":"IFERROR(INDEX(Names,SMALL(IF(Names<>\"\",IF(MID(Names,1,LEN($B$1))=$B$1,ROW(Names)-ROW($G$3)+1)),ROWS($A$1:A937))),\"\")","v":""},{"$f":"IFERROR(INDEX(اقساط!$B$3:$B$8532,SMALL(IF(اقساط!$G$3:$G$8532=B939,ROW($B$3:$B$8532)-ROW($B$3)+1),ROWS($C$3:C939))),\"\")","v":0}]
[{"$f":"IFERROR(INDEX(اقساط!$AT$3:$AT$8532,SMALL(IF(اقساط!$G$3:$G$8532=B940,ROW($AT$3:$AT$8532)-ROW($AT$3)+1),ROWS($A$3:A940))),\"\")","v":0},{"$f":"IFERROR(INDEX(Names,SMALL(IF(Names<>\"\",IF(MID(Names,1,LEN($B$1))=$B$1,ROW(Names)-ROW($G$3)+1)),ROWS($A$1:A938))),\"\")","v":""},{"$f":"IFERROR(INDEX(اقساط!$B$3:$B$8532,SMALL(IF(اقساط!$G$3:$G$8532=B940,ROW($B$3:$B$8532)-ROW($B$3)+1),ROWS($C$3:C940))),\"\")","v":0}]
[{"$f":"IFERROR(INDEX(اقساط!$AT$3:$AT$8532,SMALL(IF(اقساط!$G$3:$G$8532=B941,ROW($AT$3:$AT$8532)-ROW($AT$3)+1),ROWS($A$3:A941))),\"\")","v":0},{"$f":"IFERROR(INDEX(Names,SMALL(IF(Names<>\"\",IF(MID(Names,1,LEN($B$1))=$B$1,ROW(Names)-ROW($G$3)+1)),ROWS($A$1:A939))),\"\")","v":""},{"$f":"IFERROR(INDEX(اقساط!$B$3:$B$8532,SMALL(IF(اقساط!$G$3:$G$8532=B941,ROW($B$3:$B$8532)-ROW($B$3)+1),ROWS($C$3:C941))),\"\")","v":0}]
[{"$f":"IFERROR(INDEX(اقساط!$AT$3:$AT$8532,SMALL(IF(اقساط!$G$3:$G$8532=B942,ROW($AT$3:$AT$8532)-ROW($AT$3)+1),ROWS($A$3:A942))),\"\")","v":0},{"$f":"IFERROR(INDEX(Names,SMALL(IF(Names<>\"\",IF(MID(Names,1,LEN($B$1))=$B$1,ROW(Names)-ROW($G$3)+1)),ROWS($A$1:A940))),\"\")","v":""},{"$f":"IFERROR(INDEX(اقساط!$B$3:$B$8532,SMALL(IF(اقساط!$G$3:$G$8532=B942,ROW($B$3:$B$8532)-ROW($B$3)+1),ROWS($C$3:C942))),\"\")","v":0}]
[{"$f":"IFERROR(INDEX(اقساط!$AT$3:$AT$8532,SMALL(IF(اقساط!$G$3:$G$8532=B943,ROW($AT$3:$AT$8532)-ROW($AT$3)+1),ROWS($A$3:A943))),\"\")","v":0},{"$f":"IFERROR(INDEX(Names,SMALL(IF(Names<>\"\",IF(MID(Names,1,LEN($B$1))=$B$1,ROW(Names)-ROW($G$3)+1)),ROWS($A$1:A941))),\"\")","v":""},{"$f":"IFERROR(INDEX(اقساط!$B$3:$B$8532,SMALL(IF(اقساط!$G$3:$G$8532=B943,ROW($B$3:$B$8532)-ROW($B$3)+1),ROWS($C$3:C943))),\"\")","v":0}]
[{"$f":"IFERROR(INDEX(اقساط!$AT$3:$AT$8532,SMALL(IF(اقساط!$G$3:$G$8532=B944,ROW($AT$3:$AT$8532)-ROW($AT$3)+1),ROWS($A$3:A944))),\"\")","v":0},{"$f":"IFERROR(INDEX(Names,SMALL(IF(Names<>\"\",IF(MID(Names,1,LEN($B$1))=$B$1,ROW(Names)-ROW($G$3)+1)),ROWS($A$1:A942))),\"\")","v":""},{"$f":"IFERROR(INDEX(اقساط!$B$3:$B$8532,SMALL(IF(اقساط!$G$3:$G$8532=B944,ROW($B$3:$B$8532)-ROW($B$3)+1),ROWS($C$3:C944))),\"\")","v":0}]
[{"$f":"IFERROR(INDEX(اقساط!$AT$3:$AT$8532,SMALL(IF(اقساط!$G$3:$G$8532=B945,ROW($AT$3:$AT$8532)-ROW($AT$3)+1),ROWS($A$3:A945))),\"\")","v":0},{"$f":"IFERROR(INDEX(Names,SMALL(IF(Names<>\"\",IF(MID(Names,1,LEN($B$1))=$B$1,ROW(Names)-ROW($G$3)+1)),ROWS($A$1:A943))),\"\")","v":""},{"$f":"IFERROR(INDEX(اقساط!$B$3:$B$8532,SMALL(IF(اقساط!$G$3:$G$8532=B945,ROW($B$3:$B$8532)-ROW($B$3)+1),ROWS($C$3:C945))),\"\")","v":0}]
[{"$f":"IFERROR(INDEX(اقساط!$AT$3:$AT$8532,SMALL(IF(اقساط!$G$3:$G$8532=B946,ROW($AT$3:$AT$8532)-ROW($AT$3)+1),ROWS($A$3:A946))),\"\")","v":0},{"$f":"IFERROR(INDEX(Names,SMALL(IF(Names<>\"\",IF(MID(Names,1,LEN($B$1))=$B$1,ROW(Names)-ROW($G$3)+1)),ROWS($A$1:A944))),\"\")","v":""},{"$f":"IFERROR(INDEX(اقساط!$B$3:$B$8532,SMALL(IF(اقساط!$G$3:$G$8532=B946,ROW($B$3:$B$8532)-ROW($B$3)+1),ROWS($C$3:C946))),\"\")","v":0}]
[{"$f":"IFERROR(INDEX(اقساط!$AT$3:$AT$8532,SMALL(IF(اقساط!$G$3:$G$8532=B947,ROW($AT$3:$AT$8532)-ROW($AT$3)+1),ROWS($A$3:A947))),\"\")","v":0},{"$f":"IFERROR(INDEX(Names,SMALL(IF(Names<>\"\",IF(MID(Names,1,LEN($B$1))=$B$1,ROW(Names)-ROW($G$3)+1)),ROWS($A$1:A945))),\"\")","v":""},{"$f":"IFERROR(INDEX(اقساط!$B$3:$B$8532,SMALL(IF(اقساط!$G$3:$G$8532=B947,ROW($B$3:$B$8532)-ROW($B$3)+1),ROWS($C$3:C947))),\"\")","v":0}]
[{"$f":"IFERROR(INDEX(اقساط!$AT$3:$AT$8532,SMALL(IF(اقساط!$G$3:$G$8532=B948,ROW($AT$3:$AT$8532)-ROW($AT$3)+1),ROWS($A$3:A948))),\"\")","v":0},{"$f":"IFERROR(INDEX(Names,SMALL(IF(Names<>\"\",IF(MID(Names,1,LEN($B$1))=$B$1,ROW(Names)-ROW($G$3)+1)),ROWS($A$1:A946))),\"\")","v":""},{"$f":"IFERROR(INDEX(اقساط!$B$3:$B$8532,SMALL(IF(اقساط!$G$3:$G$8532=B948,ROW($B$3:$B$8532)-ROW($B$3)+1),ROWS($C$3:C948))),\"\")","v":0}]
[{"$f":"IFERROR(INDEX(اقساط!$AT$3:$AT$8532,SMALL(IF(اقساط!$G$3:$G$8532=B949,ROW($AT$3:$AT$8532)-ROW($AT$3)+1),ROWS($A$3:A949))),\"\")","v":0},{"$f":"IFERROR(INDEX(Names,SMALL(IF(Names<>\"\",IF(MID(Names,1,LEN($B$1))=$B$1,ROW(Names)-ROW($G$3)+1)),ROWS($A$1:A947))),\"\")","v":""},{"$f":"IFERROR(INDEX(اقساط!$B$3:$B$8532,SMALL(IF(اقساط!$G$3:$G$8532=B949,ROW($B$3:$B$8532)-ROW($B$3)+1),ROWS($C$3:C949))),\"\")","v":0}]
[{"$f":"IFERROR(INDEX(اقساط!$AT$3:$AT$8532,SMALL(IF(اقساط!$G$3:$G$8532=B950,ROW($AT$3:$AT$8532)-ROW($AT$3)+1),ROWS($A$3:A950))),\"\")","v":0},{"$f":"IFERROR(INDEX(Names,SMALL(IF(Names<>\"\",IF(MID(Names,1,LEN($B$1))=$B$1,ROW(Names)-ROW($G$3)+1)),ROWS($A$1:A948))),\"\")","v":""},{"$f":"IFERROR(INDEX(اقساط!$B$3:$B$8532,SMALL(IF(اقساط!$G$3:$G$8532=B950,ROW($B$3:$B$8532)-ROW($B$3)+1),ROWS($C$3:C950))),\"\")","v":0}]
[{"$f":"IFERROR(INDEX(اقساط!$AT$3:$AT$8532,SMALL(IF(اقساط!$G$3:$G$8532=B951,ROW($AT$3:$AT$8532)-ROW($AT$3)+1),ROWS($A$3:A951))),\"\")","v":0},{"$f":"IFERROR(INDEX(Names,SMALL(IF(Names<>\"\",IF(MID(Names,1,LEN($B$1))=$B$1,ROW(Names)-ROW($G$3)+1)),ROWS($A$1:A949))),\"\")","v":""},{"$f":"IFERROR(INDEX(اقساط!$B$3:$B$8532,SMALL(IF(اقساط!$G$3:$G$8532=B951,ROW($B$3:$B$8532)-ROW($B$3)+1),ROWS($C$3:C951))),\"\")","v":0}]
[{"$f":"IFERROR(INDEX(اقساط!$AT$3:$AT$8532,SMALL(IF(اقساط!$G$3:$G$8532=B952,ROW($AT$3:$AT$8532)-ROW($AT$3)+1),ROWS($A$3:A952))),\"\")","v":0},{"$f":"IFERROR(INDEX(Names,SMALL(IF(Names<>\"\",IF(MID(Names,1,LEN($B$1))=$B$1,ROW(Names)-ROW($G$3)+1)),ROWS($A$1:A950))),\"\")","v":""},{"$f":"IFERROR(INDEX(اقساط!$B$3:$B$8532,SMALL(IF(اقساط!$G$3:$G$8532=B952,ROW($B$3:$B$8532)-ROW($B$3)+1),ROWS($C$3:C952))),\"\")","v":0}]
[{"$f":"IFERROR(INDEX(اقساط!$AT$3:$AT$8532,SMALL(IF(اقساط!$G$3:$G$8532=B953,ROW($AT$3:$AT$8532)-ROW($AT$3)+1),ROWS($A$3:A953))),\"\")","v":0},{"$f":"IFERROR(INDEX(Names,SMALL(IF(Names<>\"\",IF(MID(Names,1,LEN($B$1))=$B$1,ROW(Names)-ROW($G$3)+1)),ROWS($A$1:A951))),\"\")","v":""},{"$f":"IFERROR(INDEX(اقساط!$B$3:$B$8532,SMALL(IF(اقساط!$G$3:$G$8532=B953,ROW($B$3:$B$8532)-ROW($B$3)+1),ROWS($C$3:C953))),\"\")","v":0}]
[{"$f":"IFERROR(INDEX(اقساط!$AT$3:$AT$8532,SMALL(IF(اقساط!$G$3:$G$8532=B954,ROW($AT$3:$AT$8532)-ROW($AT$3)+1),ROWS($A$3:A954))),\"\")","v":0},{"$f":"IFERROR(INDEX(Names,SMALL(IF(Names<>\"\",IF(MID(Names,1,LEN($B$1))=$B$1,ROW(Names)-ROW($G$3)+1)),ROWS($A$1:A952))),\"\")","v":""},{"$f":"IFERROR(INDEX(اقساط!$B$3:$B$8532,SMALL(IF(اقساط!$G$3:$G$8532=B954,ROW($B$3:$B$8532)-ROW($B$3)+1),ROWS($C$3:C954))),\"\")","v":0}]
[{"$f":"IFERROR(INDEX(اقساط!$AT$3:$AT$8532,SMALL(IF(اقساط!$G$3:$G$8532=B955,ROW($AT$3:$AT$8532)-ROW($AT$3)+1),ROWS($A$3:A955))),\"\")","v":0},{"$f":"IFERROR(INDEX(Names,SMALL(IF(Names<>\"\",IF(MID(Names,1,LEN($B$1))=$B$1,ROW(Names)-ROW($G$3)+1)),ROWS($A$1:A953))),\"\")","v":""},{"$f":"IFERROR(INDEX(اقساط!$B$3:$B$8532,SMALL(IF(اقساط!$G$3:$G$8532=B955,ROW($B$3:$B$8532)-ROW($B$3)+1),ROWS($C$3:C955))),\"\")","v":0}]
[{"$f":"IFERROR(INDEX(اقساط!$AT$3:$AT$8532,SMALL(IF(اقساط!$G$3:$G$8532=B956,ROW($AT$3:$AT$8532)-ROW($AT$3)+1),ROWS($A$3:A956))),\"\")","v":0},{"$f":"IFERROR(INDEX(Names,SMALL(IF(Names<>\"\",IF(MID(Names,1,LEN($B$1))=$B$1,ROW(Names)-ROW($G$3)+1)),ROWS($A$1:A954))),\"\")","v":""},{"$f":"IFERROR(INDEX(اقساط!$B$3:$B$8532,SMALL(IF(اقساط!$G$3:$G$8532=B956,ROW($B$3:$B$8532)-ROW($B$3)+1),ROWS($C$3:C956))),\"\")","v":0}]
[{"$f":"IFERROR(INDEX(اقساط!$AT$3:$AT$8532,SMALL(IF(اقساط!$G$3:$G$8532=B957,ROW($AT$3:$AT$8532)-ROW($AT$3)+1),ROWS($A$3:A957))),\"\")","v":0},{"$f":"IFERROR(INDEX(Names,SMALL(IF(Names<>\"\",IF(MID(Names,1,LEN($B$1))=$B$1,ROW(Names)-ROW($G$3)+1)),ROWS($A$1:A955))),\"\")","v":""},{"$f":"IFERROR(INDEX(اقساط!$B$3:$B$8532,SMALL(IF(اقساط!$G$3:$G$8532=B957,ROW($B$3:$B$8532)-ROW($B$3)+1),ROWS($C$3:C957))),\"\")","v":0}]
[{"$f":"IFERROR(INDEX(اقساط!$AT$3:$AT$8532,SMALL(IF(اقساط!$G$3:$G$8532=B958,ROW($AT$3:$AT$8532)-ROW($AT$3)+1),ROWS($A$3:A958))),\"\")","v":0},{"$f":"IFERROR(INDEX(Names,SMALL(IF(Names<>\"\",IF(MID(Names,1,LEN($B$1))=$B$1,ROW(Names)-ROW($G$3)+1)),ROWS($A$1:A956))),\"\")","v":""},{"$f":"IFERROR(INDEX(اقساط!$B$3:$B$8532,SMALL(IF(اقساط!$G$3:$G$8532=B958,ROW($B$3:$B$8532)-ROW($B$3)+1),ROWS($C$3:C958))),\"\")","v":0}]
[{"$f":"IFERROR(INDEX(اقساط!$AT$3:$AT$8532,SMALL(IF(اقساط!$G$3:$G$8532=B959,ROW($AT$3:$AT$8532)-ROW($AT$3)+1),ROWS($A$3:A959))),\"\")","v":0},{"$f":"IFERROR(INDEX(Names,SMALL(IF(Names<>\"\",IF(MID(Names,1,LEN($B$1))=$B$1,ROW(Names)-ROW($G$3)+1)),ROWS($A$1:A957))),\"\")","v":""},{"$f":"IFERROR(INDEX(اقساط!$B$3:$B$8532,SMALL(IF(اقساط!$G$3:$G$8532=B959,ROW($B$3:$B$8532)-ROW($B$3)+1),ROWS($C$3:C959))),\"\")","v":0}]
[{"$f":"IFERROR(INDEX(اقساط!$AT$3:$AT$8532,SMALL(IF(اقساط!$G$3:$G$8532=B960,ROW($AT$3:$AT$8532)-ROW($AT$3)+1),ROWS($A$3:A960))),\"\")","v":0},{"$f":"IFERROR(INDEX(Names,SMALL(IF(Names<>\"\",IF(MID(Names,1,LEN($B$1))=$B$1,ROW(Names)-ROW($G$3)+1)),ROWS($A$1:A958))),\"\")","v":""},{"$f":"IFERROR(INDEX(اقساط!$B$3:$B$8532,SMALL(IF(اقساط!$G$3:$G$8532=B960,ROW($B$3:$B$8532)-ROW($B$3)+1),ROWS($C$3:C960))),\"\")","v":0}]
[{"$f":"IFERROR(INDEX(اقساط!$AT$3:$AT$8532,SMALL(IF(اقساط!$G$3:$G$8532=B961,ROW($AT$3:$AT$8532)-ROW($AT$3)+1),ROWS($A$3:A961))),\"\")","v":0},{"$f":"IFERROR(INDEX(Names,SMALL(IF(Names<>\"\",IF(MID(Names,1,LEN($B$1))=$B$1,ROW(Names)-ROW($G$3)+1)),ROWS($A$1:A959))),\"\")","v":""},{"$f":"IFERROR(INDEX(اقساط!$B$3:$B$8532,SMALL(IF(اقساط!$G$3:$G$8532=B961,ROW($B$3:$B$8532)-ROW($B$3)+1),ROWS($C$3:C961))),\"\")","v":0}]
[{"$f":"IFERROR(INDEX(اقساط!$AT$3:$AT$8532,SMALL(IF(اقساط!$G$3:$G$8532=B962,ROW($AT$3:$AT$8532)-ROW($AT$3)+1),ROWS($A$3:A962))),\"\")","v":0},{"$f":"IFERROR(INDEX(Names,SMALL(IF(Names<>\"\",IF(MID(Names,1,LEN($B$1))=$B$1,ROW(Names)-ROW($G$3)+1)),ROWS($A$1:A960))),\"\")","v":""},{"$f":"IFERROR(INDEX(اقساط!$B$3:$B$8532,SMALL(IF(اقساط!$G$3:$G$8532=B962,ROW($B$3:$B$8532)-ROW($B$3)+1),ROWS($C$3:C962))),\"\")","v":0}]
[{"$f":"IFERROR(INDEX(اقساط!$AT$3:$AT$8532,SMALL(IF(اقساط!$G$3:$G$8532=B963,ROW($AT$3:$AT$8532)-ROW($AT$3)+1),ROWS($A$3:A963))),\"\")","v":0},{"$f":"IFERROR(INDEX(Names,SMALL(IF(Names<>\"\",IF(MID(Names,1,LEN($B$1))=$B$1,ROW(Names)-ROW($G$3)+1)),ROWS($A$1:A961))),\"\")","v":""},{"$f":"IFERROR(INDEX(اقساط!$B$3:$B$8532,SMALL(IF(اقساط!$G$3:$G$8532=B963,ROW($B$3:$B$8532)-ROW($B$3)+1),ROWS($C$3:C963))),\"\")","v":0}]
[{"$f":"IFERROR(INDEX(اقساط!$AT$3:$AT$8532,SMALL(IF(اقساط!$G$3:$G$8532=B964,ROW($AT$3:$AT$8532)-ROW($AT$3)+1),ROWS($A$3:A964))),\"\")","v":0},{"$f":"IFERROR(INDEX(Names,SMALL(IF(Names<>\"\",IF(MID(Names,1,LEN($B$1))=$B$1,ROW(Names)-ROW($G$3)+1)),ROWS($A$1:A962))),\"\")","v":""},{"$f":"IFERROR(INDEX(اقساط!$B$3:$B$8532,SMALL(IF(اقساط!$G$3:$G$8532=B964,ROW($B$3:$B$8532)-ROW($B$3)+1),ROWS($C$3:C964))),\"\")","v":0}]
[{"$f":"IFERROR(INDEX(اقساط!$AT$3:$AT$8532,SMALL(IF(اقساط!$G$3:$G$8532=B965,ROW($AT$3:$AT$8532)-ROW($AT$3)+1),ROWS($A$3:A965))),\"\")","v":0},{"$f":"IFERROR(INDEX(Names,SMALL(IF(Names<>\"\",IF(MID(Names,1,LEN($B$1))=$B$1,ROW(Names)-ROW($G$3)+1)),ROWS($A$1:A963))),\"\")","v":""},{"$f":"IFERROR(INDEX(اقساط!$B$3:$B$8532,SMALL(IF(اقساط!$G$3:$G$8532=B965,ROW($B$3:$B$8532)-ROW($B$3)+1),ROWS($C$3:C965))),\"\")","v":0}]
[{"$f":"IFERROR(INDEX(اقساط!$AT$3:$AT$8532,SMALL(IF(اقساط!$G$3:$G$8532=B966,ROW($AT$3:$AT$8532)-ROW($AT$3)+1),ROWS($A$3:A966))),\"\")","v":0},{"$f":"IFERROR(INDEX(Names,SMALL(IF(Names<>\"\",IF(MID(Names,1,LEN($B$1))=$B$1,ROW(Names)-ROW($G$3)+1)),ROWS($A$1:A964))),\"\")","v":""},{"$f":"IFERROR(INDEX(اقساط!$B$3:$B$8532,SMALL(IF(اقساط!$G$3:$G$8532=B966,ROW($B$3:$B$8532)-ROW($B$3)+1),ROWS($C$3:C966))),\"\")","v":0}]
[{"$f":"IFERROR(INDEX(اقساط!$AT$3:$AT$8532,SMALL(IF(اقساط!$G$3:$G$8532=B967,ROW($AT$3:$AT$8532)-ROW($AT$3)+1),ROWS($A$3:A967))),\"\")","v":0},{"$f":"IFERROR(INDEX(Names,SMALL(IF(Names<>\"\",IF(MID(Names,1,LEN($B$1))=$B$1,ROW(Names)-ROW($G$3)+1)),ROWS($A$1:A965))),\"\")","v":""},{"$f":"IFERROR(INDEX(اقساط!$B$3:$B$8532,SMALL(IF(اقساط!$G$3:$G$8532=B967,ROW($B$3:$B$8532)-ROW($B$3)+1),ROWS($C$3:C967))),\"\")","v":0}]
[{"$f":"IFERROR(INDEX(اقساط!$AT$3:$AT$8532,SMALL(IF(اقساط!$G$3:$G$8532=B968,ROW($AT$3:$AT$8532)-ROW($AT$3)+1),ROWS($A$3:A968))),\"\")","v":0},{"$f":"IFERROR(INDEX(Names,SMALL(IF(Names<>\"\",IF(MID(Names,1,LEN($B$1))=$B$1,ROW(Names)-ROW($G$3)+1)),ROWS($A$1:A966))),\"\")","v":""},{"$f":"IFERROR(INDEX(اقساط!$B$3:$B$8532,SMALL(IF(اقساط!$G$3:$G$8532=B968,ROW($B$3:$B$8532)-ROW($B$3)+1),ROWS($C$3:C968))),\"\")","v":0}]
[{"$f":"IFERROR(INDEX(اقساط!$AT$3:$AT$8532,SMALL(IF(اقساط!$G$3:$G$8532=B969,ROW($AT$3:$AT$8532)-ROW($AT$3)+1),ROWS($A$3:A969))),\"\")","v":0},{"$f":"IFERROR(INDEX(Names,SMALL(IF(Names<>\"\",IF(MID(Names,1,LEN($B$1))=$B$1,ROW(Names)-ROW($G$3)+1)),ROWS($A$1:A967))),\"\")","v":""},{"$f":"IFERROR(INDEX(اقساط!$B$3:$B$8532,SMALL(IF(اقساط!$G$3:$G$8532=B969,ROW($B$3:$B$8532)-ROW($B$3)+1),ROWS($C$3:C969))),\"\")","v":0}]
[{"$f":"IFERROR(INDEX(اقساط!$AT$3:$AT$8532,SMALL(IF(اقساط!$G$3:$G$8532=B970,ROW($AT$3:$AT$8532)-ROW($AT$3)+1),ROWS($A$3:A970))),\"\")","v":0},{"$f":"IFERROR(INDEX(Names,SMALL(IF(Names<>\"\",IF(MID(Names,1,LEN($B$1))=$B$1,ROW(Names)-ROW($G$3)+1)),ROWS($A$1:A968))),\"\")","v":""},{"$f":"IFERROR(INDEX(اقساط!$B$3:$B$8532,SMALL(IF(اقساط!$G$3:$G$8532=B970,ROW($B$3:$B$8532)-ROW($B$3)+1),ROWS($C$3:C970))),\"\")","v":0}]
[{"$f":"IFERROR(INDEX(اقساط!$AT$3:$AT$8532,SMALL(IF(اقساط!$G$3:$G$8532=B971,ROW($AT$3:$AT$8532)-ROW($AT$3)+1),ROWS($A$3:A971))),\"\")","v":0},{"$f":"IFERROR(INDEX(Names,SMALL(IF(Names<>\"\",IF(MID(Names,1,LEN($B$1))=$B$1,ROW(Names)-ROW($G$3)+1)),ROWS($A$1:A969))),\"\")","v":""},{"$f":"IFERROR(INDEX(اقساط!$B$3:$B$8532,SMALL(IF(اقساط!$G$3:$G$8532=B971,ROW($B$3:$B$8532)-ROW($B$3)+1),ROWS($C$3:C971))),\"\")","v":0}]
[{"$f":"IFERROR(INDEX(اقساط!$AT$3:$AT$8532,SMALL(IF(اقساط!$G$3:$G$8532=B972,ROW($AT$3:$AT$8532)-ROW($AT$3)+1),ROWS($A$3:A972))),\"\")","v":0},{"$f":"IFERROR(INDEX(Names,SMALL(IF(Names<>\"\",IF(MID(Names,1,LEN($B$1))=$B$1,ROW(Names)-ROW($G$3)+1)),ROWS($A$1:A970))),\"\")","v":""},{"$f":"IFERROR(INDEX(اقساط!$B$3:$B$8532,SMALL(IF(اقساط!$G$3:$G$8532=B972,ROW($B$3:$B$8532)-ROW($B$3)+1),ROWS($C$3:C972))),\"\")","v":0}]
[{"$f":"IFERROR(INDEX(اقساط!$AT$3:$AT$8532,SMALL(IF(اقساط!$G$3:$G$8532=B973,ROW($AT$3:$AT$8532)-ROW($AT$3)+1),ROWS($A$3:A973))),\"\")","v":0},{"$f":"IFERROR(INDEX(Names,SMALL(IF(Names<>\"\",IF(MID(Names,1,LEN($B$1))=$B$1,ROW(Names)-ROW($G$3)+1)),ROWS($A$1:A971))),\"\")","v":""},{"$f":"IFERROR(INDEX(اقساط!$B$3:$B$8532,SMALL(IF(اقساط!$G$3:$G$8532=B973,ROW($B$3:$B$8532)-ROW($B$3)+1),ROWS($C$3:C973))),\"\")","v":0}]
[{"$f":"IFERROR(INDEX(اقساط!$AT$3:$AT$8532,SMALL(IF(اقساط!$G$3:$G$8532=B974,ROW($AT$3:$AT$8532)-ROW($AT$3)+1),ROWS($A$3:A974))),\"\")","v":0},{"$f":"IFERROR(INDEX(Names,SMALL(IF(Names<>\"\",IF(MID(Names,1,LEN($B$1))=$B$1,ROW(Names)-ROW($G$3)+1)),ROWS($A$1:A972))),\"\")","v":""},{"$f":"IFERROR(INDEX(اقساط!$B$3:$B$8532,SMALL(IF(اقساط!$G$3:$G$8532=B974,ROW($B$3:$B$8532)-ROW($B$3)+1),ROWS($C$3:C974))),\"\")","v":0}]
[{"$f":"IFERROR(INDEX(اقساط!$AT$3:$AT$8532,SMALL(IF(اقساط!$G$3:$G$8532=B975,ROW($AT$3:$AT$8532)-ROW($AT$3)+1),ROWS($A$3:A975))),\"\")","v":0},{"$f":"IFERROR(INDEX(Names,SMALL(IF(Names<>\"\",IF(MID(Names,1,LEN($B$1))=$B$1,ROW(Names)-ROW($G$3)+1)),ROWS($A$1:A973))),\"\")","v":""},{"$f":"IFERROR(INDEX(اقساط!$B$3:$B$8532,SMALL(IF(اقساط!$G$3:$G$8532=B975,ROW($B$3:$B$8532)-ROW($B$3)+1),ROWS($C$3:C975))),\"\")","v":0}]
[{"$f":"IFERROR(INDEX(اقساط!$AT$3:$AT$8532,SMALL(IF(اقساط!$G$3:$G$8532=B976,ROW($AT$3:$AT$8532)-ROW($AT$3)+1),ROWS($A$3:A976))),\"\")","v":0},{"$f":"IFERROR(INDEX(Names,SMALL(IF(Names<>\"\",IF(MID(Names,1,LEN($B$1))=$B$1,ROW(Names)-ROW($G$3)+1)),ROWS($A$1:A974))),\"\")","v":""},{"$f":"IFERROR(INDEX(اقساط!$B$3:$B$8532,SMALL(IF(اقساط!$G$3:$G$8532=B976,ROW($B$3:$B$8532)-ROW($B$3)+1),ROWS($C$3:C976))),\"\")","v":0}]
[{"$f":"IFERROR(INDEX(اقساط!$AT$3:$AT$8532,SMALL(IF(اقساط!$G$3:$G$8532=B977,ROW($AT$3:$AT$8532)-ROW($AT$3)+1),ROWS($A$3:A977))),\"\")","v":0},{"$f":"IFERROR(INDEX(Names,SMALL(IF(Names<>\"\",IF(MID(Names,1,LEN($B$1))=$B$1,ROW(Names)-ROW($G$3)+1)),ROWS($A$1:A975))),\"\")","v":""},{"$f":"IFERROR(INDEX(اقساط!$B$3:$B$8532,SMALL(IF(اقساط!$G$3:$G$8532=B977,ROW($B$3:$B$8532)-ROW($B$3)+1),ROWS($C$3:C977))),\"\")","v":0}]
[{"$f":"IFERROR(INDEX(اقساط!$AT$3:$AT$8532,SMALL(IF(اقساط!$G$3:$G$8532=B978,ROW($AT$3:$AT$8532)-ROW($AT$3)+1),ROWS($A$3:A978))),\"\")","v":0},{"$f":"IFERROR(INDEX(Names,SMALL(IF(Names<>\"\",IF(MID(Names,1,LEN($B$1))=$B$1,ROW(Names)-ROW($G$3)+1)),ROWS($A$1:A976))),\"\")","v":""},{"$f":"IFERROR(INDEX(اقساط!$B$3:$B$8532,SMALL(IF(اقساط!$G$3:$G$8532=B978,ROW($B$3:$B$8532)-ROW($B$3)+1),ROWS($C$3:C978))),\"\")","v":0}]
[{"$f":"IFERROR(INDEX(اقساط!$AT$3:$AT$8532,SMALL(IF(اقساط!$G$3:$G$8532=B979,ROW($AT$3:$AT$8532)-ROW($AT$3)+1),ROWS($A$3:A979))),\"\")","v":0},{"$f":"IFERROR(INDEX(Names,SMALL(IF(Names<>\"\",IF(MID(Names,1,LEN($B$1))=$B$1,ROW(Names)-ROW($G$3)+1)),ROWS($A$1:A977))),\"\")","v":""},{"$f":"IFERROR(INDEX(اقساط!$B$3:$B$8532,SMALL(IF(اقساط!$G$3:$G$8532=B979,ROW($B$3:$B$8532)-ROW($B$3)+1),ROWS($C$3:C979))),\"\")","v":0}]
[{"$f":"IFERROR(INDEX(اقساط!$AT$3:$AT$8532,SMALL(IF(اقساط!$G$3:$G$8532=B980,ROW($AT$3:$AT$8532)-ROW($AT$3)+1),ROWS($A$3:A980))),\"\")","v":0},{"$f":"IFERROR(INDEX(Names,SMALL(IF(Names<>\"\",IF(MID(Names,1,LEN($B$1))=$B$1,ROW(Names)-ROW($G$3)+1)),ROWS($A$1:A978))),\"\")","v":""},{"$f":"IFERROR(INDEX(اقساط!$B$3:$B$8532,SMALL(IF(اقساط!$G$3:$G$8532=B980,ROW($B$3:$B$8532)-ROW($B$3)+1),ROWS($C$3:C980))),\"\")","v":0}]
[{"$f":"IFERROR(INDEX(اقساط!$AT$3:$AT$8532,SMALL(IF(اقساط!$G$3:$G$8532=B981,ROW($AT$3:$AT$8532)-ROW($AT$3)+1),ROWS($A$3:A981))),\"\")","v":0},{"$f":"IFERROR(INDEX(Names,SMALL(IF(Names<>\"\",IF(MID(Names,1,LEN($B$1))=$B$1,ROW(Names)-ROW($G$3)+1)),ROWS($A$1:A979))),\"\")","v":""},{"$f":"IFERROR(INDEX(اقساط!$B$3:$B$8532,SMALL(IF(اقساط!$G$3:$G$8532=B981,ROW($B$3:$B$8532)-ROW($B$3)+1),ROWS($C$3:C981))),\"\")","v":0}]
[{"$f":"IFERROR(INDEX(اقساط!$AT$3:$AT$8532,SMALL(IF(اقساط!$G$3:$G$8532=B982,ROW($AT$3:$AT$8532)-ROW($AT$3)+1),ROWS($A$3:A982))),\"\")","v":0},{"$f":"IFERROR(INDEX(Names,SMALL(IF(Names<>\"\",IF(MID(Names,1,LEN($B$1))=$B$1,ROW(Names)-ROW($G$3)+1)),ROWS($A$1:A980))),\"\")","v":""},{"$f":"IFERROR(INDEX(اقساط!$B$3:$B$8532,SMALL(IF(اقساط!$G$3:$G$8532=B982,ROW($B$3:$B$8532)-ROW($B$3)+1),ROWS($C$3:C982))),\"\")","v":0}]
[{"$f":"IFERROR(INDEX(اقساط!$AT$3:$AT$8532,SMALL(IF(اقساط!$G$3:$G$8532=B983,ROW($AT$3:$AT$8532)-ROW($AT$3)+1),ROWS($A$3:A983))),\"\")","v":0},{"$f":"IFERROR(INDEX(Names,SMALL(IF(Names<>\"\",IF(MID(Names,1,LEN($B$1))=$B$1,ROW(Names)-ROW($G$3)+1)),ROWS($A$1:A981))),\"\")","v":""},{"$f":"IFERROR(INDEX(اقساط!$B$3:$B$8532,SMALL(IF(اقساط!$G$3:$G$8532=B983,ROW($B$3:$B$8532)-ROW($B$3)+1),ROWS($C$3:C983))),\"\")","v":0}]
[{"$f":"IFERROR(INDEX(اقساط!$AT$3:$AT$8532,SMALL(IF(اقساط!$G$3:$G$8532=B984,ROW($AT$3:$AT$8532)-ROW($AT$3)+1),ROWS($A$3:A984))),\"\")","v":0},{"$f":"IFERROR(INDEX(Names,SMALL(IF(Names<>\"\",IF(MID(Names,1,LEN($B$1))=$B$1,ROW(Names)-ROW($G$3)+1)),ROWS($A$1:A982))),\"\")","v":""},{"$f":"IFERROR(INDEX(اقساط!$B$3:$B$8532,SMALL(IF(اقساط!$G$3:$G$8532=B984,ROW($B$3:$B$8532)-ROW($B$3)+1),ROWS($C$3:C984))),\"\")","v":0}]
[{"$f":"IFERROR(INDEX(اقساط!$AT$3:$AT$8532,SMALL(IF(اقساط!$G$3:$G$8532=B985,ROW($AT$3:$AT$8532)-ROW($AT$3)+1),ROWS($A$3:A985))),\"\")","v":0},{"$f":"IFERROR(INDEX(Names,SMALL(IF(Names<>\"\",IF(MID(Names,1,LEN($B$1))=$B$1,ROW(Names)-ROW($G$3)+1)),ROWS($A$1:A983))),\"\")","v":""},{"$f":"IFERROR(INDEX(اقساط!$B$3:$B$8532,SMALL(IF(اقساط!$G$3:$G$8532=B985,ROW($B$3:$B$8532)-ROW($B$3)+1),ROWS($C$3:C985))),\"\")","v":0}]
[{"$f":"IFERROR(INDEX(اقساط!$AT$3:$AT$8532,SMALL(IF(اقساط!$G$3:$G$8532=B986,ROW($AT$3:$AT$8532)-ROW($AT$3)+1),ROWS($A$3:A986))),\"\")","v":0},{"$f":"IFERROR(INDEX(Names,SMALL(IF(Names<>\"\",IF(MID(Names,1,LEN($B$1))=$B$1,ROW(Names)-ROW($G$3)+1)),ROWS($A$1:A984))),\"\")","v":""},{"$f":"IFERROR(INDEX(اقساط!$B$3:$B$8532,SMALL(IF(اقساط!$G$3:$G$8532=B986,ROW($B$3:$B$8532)-ROW($B$3)+1),ROWS($C$3:C986))),\"\")","v":0}]
[{"$f":"IFERROR(INDEX(اقساط!$AT$3:$AT$8532,SMALL(IF(اقساط!$G$3:$G$8532=B987,ROW($AT$3:$AT$8532)-ROW($AT$3)+1),ROWS($A$3:A987))),\"\")","v":0},{"$f":"IFERROR(INDEX(Names,SMALL(IF(Names<>\"\",IF(MID(Names,1,LEN($B$1))=$B$1,ROW(Names)-ROW($G$3)+1)),ROWS($A$1:A985))),\"\")","v":""},{"$f":"IFERROR(INDEX(اقساط!$B$3:$B$8532,SMALL(IF(اقساط!$G$3:$G$8532=B987,ROW($B$3:$B$8532)-ROW($B$3)+1),ROWS($C$3:C987))),\"\")","v":0}]
[{"$f":"IFERROR(INDEX(اقساط!$AT$3:$AT$8532,SMALL(IF(اقساط!$G$3:$G$8532=B988,ROW($AT$3:$AT$8532)-ROW($AT$3)+1),ROWS($A$3:A988))),\"\")","v":0},{"$f":"IFERROR(INDEX(Names,SMALL(IF(Names<>\"\",IF(MID(Names,1,LEN($B$1))=$B$1,ROW(Names)-ROW($G$3)+1)),ROWS($A$1:A986))),\"\")","v":""},{"$f":"IFERROR(INDEX(اقساط!$B$3:$B$8532,SMALL(IF(اقساط!$G$3:$G$8532=B988,ROW($B$3:$B$8532)-ROW($B$3)+1),ROWS($C$3:C988))),\"\")","v":0}]
[{"$f":"IFERROR(INDEX(اقساط!$AT$3:$AT$8532,SMALL(IF(اقساط!$G$3:$G$8532=B989,ROW($AT$3:$AT$8532)-ROW($AT$3)+1),ROWS($A$3:A989))),\"\")","v":0},{"$f":"IFERROR(INDEX(Names,SMALL(IF(Names<>\"\",IF(MID(Names,1,LEN($B$1))=$B$1,ROW(Names)-ROW($G$3)+1)),ROWS($A$1:A987))),\"\")","v":""},{"$f":"IFERROR(INDEX(اقساط!$B$3:$B$8532,SMALL(IF(اقساط!$G$3:$G$8532=B989,ROW($B$3:$B$8532)-ROW($B$3)+1),ROWS($C$3:C989))),\"\")","v":0}]
[{"$f":"IFERROR(INDEX(اقساط!$AT$3:$AT$8532,SMALL(IF(اقساط!$G$3:$G$8532=B990,ROW($AT$3:$AT$8532)-ROW($AT$3)+1),ROWS($A$3:A990))),\"\")","v":0},{"$f":"IFERROR(INDEX(Names,SMALL(IF(Names<>\"\",IF(MID(Names,1,LEN($B$1))=$B$1,ROW(Names)-ROW($G$3)+1)),ROWS($A$1:A988))),\"\")","v":""},{"$f":"IFERROR(INDEX(اقساط!$B$3:$B$8532,SMALL(IF(اقساط!$G$3:$G$8532=B990,ROW($B$3:$B$8532)-ROW($B$3)+1),ROWS($C$3:C990))),\"\")","v":0}]
[{"$f":"IFERROR(INDEX(اقساط!$AT$3:$AT$8532,SMALL(IF(اقساط!$G$3:$G$8532=B991,ROW($AT$3:$AT$8532)-ROW($AT$3)+1),ROWS($A$3:A991))),\"\")","v":0},{"$f":"IFERROR(INDEX(Names,SMALL(IF(Names<>\"\",IF(MID(Names,1,LEN($B$1))=$B$1,ROW(Names)-ROW($G$3)+1)),ROWS($A$1:A989))),\"\")","v":""},{"$f":"IFERROR(INDEX(اقساط!$B$3:$B$8532,SMALL(IF(اقساط!$G$3:$G$8532=B991,ROW($B$3:$B$8532)-ROW($B$3)+1),ROWS($C$3:C991))),\"\")","v":0}]
[{"$f":"IFERROR(INDEX(اقساط!$AT$3:$AT$8532,SMALL(IF(اقساط!$G$3:$G$8532=B992,ROW($AT$3:$AT$8532)-ROW($AT$3)+1),ROWS($A$3:A992))),\"\")","v":0},{"$f":"IFERROR(INDEX(Names,SMALL(IF(Names<>\"\",IF(MID(Names,1,LEN($B$1))=$B$1,ROW(Names)-ROW($G$3)+1)),ROWS($A$1:A990))),\"\")","v":""},{"$f":"IFERROR(INDEX(اقساط!$B$3:$B$8532,SMALL(IF(اقساط!$G$3:$G$8532=B992,ROW($B$3:$B$8532)-ROW($B$3)+1),ROWS($C$3:C992))),\"\")","v":0}]
[{"$f":"IFERROR(INDEX(اقساط!$AT$3:$AT$8532,SMALL(IF(اقساط!$G$3:$G$8532=B993,ROW($AT$3:$AT$8532)-ROW($AT$3)+1),ROWS($A$3:A993))),\"\")","v":0},{"$f":"IFERROR(INDEX(Names,SMALL(IF(Names<>\"\",IF(MID(Names,1,LEN($B$1))=$B$1,ROW(Names)-ROW($G$3)+1)),ROWS($A$1:A991))),\"\")","v":""},{"$f":"IFERROR(INDEX(اقساط!$B$3:$B$8532,SMALL(IF(اقساط!$G$3:$G$8532=B993,ROW($B$3:$B$8532)-ROW($B$3)+1),ROWS($C$3:C993))),\"\")","v":0}]
[{"$f":"IFERROR(INDEX(اقساط!$AT$3:$AT$8532,SMALL(IF(اقساط!$G$3:$G$8532=B994,ROW($AT$3:$AT$8532)-ROW($AT$3)+1),ROWS($A$3:A994))),\"\")","v":0},{"$f":"IFERROR(INDEX(Names,SMALL(IF(Names<>\"\",IF(MID(Names,1,LEN($B$1))=$B$1,ROW(Names)-ROW($G$3)+1)),ROWS($A$1:A992))),\"\")","v":""},{"$f":"IFERROR(INDEX(اقساط!$B$3:$B$8532,SMALL(IF(اقساط!$G$3:$G$8532=B994,ROW($B$3:$B$8532)-ROW($B$3)+1),ROWS($C$3:C994))),\"\")","v":0}]
[{"$f":"IFERROR(INDEX(اقساط!$AT$3:$AT$8532,SMALL(IF(اقساط!$G$3:$G$8532=B995,ROW($AT$3:$AT$8532)-ROW($AT$3)+1),ROWS($A$3:A995))),\"\")","v":0},{"$f":"IFERROR(INDEX(Names,SMALL(IF(Names<>\"\",IF(MID(Names,1,LEN($B$1))=$B$1,ROW(Names)-ROW($G$3)+1)),ROWS($A$1:A993))),\"\")","v":""},{"$f":"IFERROR(INDEX(اقساط!$B$3:$B$8532,SMALL(IF(اقساط!$G$3:$G$8532=B995,ROW($B$3:$B$8532)-ROW($B$3)+1),ROWS($C$3:C995))),\"\")","v":0}]
[{"$f":"IFERROR(INDEX(اقساط!$AT$3:$AT$8532,SMALL(IF(اقساط!$G$3:$G$8532=B996,ROW($AT$3:$AT$8532)-ROW($AT$3)+1),ROWS($A$3:A996))),\"\")","v":0},{"$f":"IFERROR(INDEX(Names,SMALL(IF(Names<>\"\",IF(MID(Names,1,LEN($B$1))=$B$1,ROW(Names)-ROW($G$3)+1)),ROWS($A$1:A994))),\"\")","v":""},{"$f":"IFERROR(INDEX(اقساط!$B$3:$B$8532,SMALL(IF(اقساط!$G$3:$G$8532=B996,ROW($B$3:$B$8532)-ROW($B$3)+1),ROWS($C$3:C996))),\"\")","v":0}]
[{"$f":"IFERROR(INDEX(اقساط!$AT$3:$AT$8532,SMALL(IF(اقساط!$G$3:$G$8532=B997,ROW($AT$3:$AT$8532)-ROW($AT$3)+1),ROWS($A$3:A997))),\"\")","v":0},{"$f":"IFERROR(INDEX(Names,SMALL(IF(Names<>\"\",IF(MID(Names,1,LEN($B$1))=$B$1,ROW(Names)-ROW($G$3)+1)),ROWS($A$1:A995))),\"\")","v":""},{"$f":"IFERROR(INDEX(اقساط!$B$3:$B$8532,SMALL(IF(اقساط!$G$3:$G$8532=B997,ROW($B$3:$B$8532)-ROW($B$3)+1),ROWS($C$3:C997))),\"\")","v":0}]
[{"$f":"IFERROR(INDEX(اقساط!$AT$3:$AT$8532,SMALL(IF(اقساط!$G$3:$G$8532=B998,ROW($AT$3:$AT$8532)-ROW($AT$3)+1),ROWS($A$3:A998))),\"\")","v":0},{"$f":"IFERROR(INDEX(Names,SMALL(IF(Names<>\"\",IF(MID(Names,1,LEN($B$1))=$B$1,ROW(Names)-ROW($G$3)+1)),ROWS($A$1:A996))),\"\")","v":""},{"$f":"IFERROR(INDEX(اقساط!$B$3:$B$8532,SMALL(IF(اقساط!$G$3:$G$8532=B998,ROW($B$3:$B$8532)-ROW($B$3)+1),ROWS($C$3:C998))),\"\")","v":0}]
[{"$f":"IFERROR(INDEX(اقساط!$AT$3:$AT$8532,SMALL(IF(اقساط!$G$3:$G$8532=B999,ROW($AT$3:$AT$8532)-ROW($AT$3)+1),ROWS($A$3:A999))),\"\")","v":0},{"$f":"IFERROR(INDEX(Names,SMALL(IF(Names<>\"\",IF(MID(Names,1,LEN($B$1))=$B$1,ROW(Names)-ROW($G$3)+1)),ROWS($A$1:A997))),\"\")","v":""},{"$f":"IFERROR(INDEX(اقساط!$B$3:$B$8532,SMALL(IF(اقساط!$G$3:$G$8532=B999,ROW($B$3:$B$8532)-ROW($B$3)+1),ROWS($C$3:C999))),\"\")","v":0}]
[{"$f":"IFERROR(INDEX(اقساط!$AT$3:$AT$8532,SMALL(IF(اقساط!$G$3:$G$8532=B1000,ROW($AT$3:$AT$8532)-ROW($AT$3)+1),ROWS($A$3:A1000))),\"\")","v":0},{"$f":"IFERROR(INDEX(Names,SMALL(IF(Names<>\"\",IF(MID(Names,1,LEN($B$1))=$B$1,ROW(Names)-ROW($G$3)+1)),ROWS($A$1:A998))),\"\")","v":""},{"$f":"IFERROR(INDEX(اقساط!$B$3:$B$8532,SMALL(IF(اقساط!$G$3:$G$8532=B1000,ROW($B$3:$B$8532)-ROW($B$3)+1),ROWS($C$3:C1000))),\"\")","v":0}]
[{"$f":"IFERROR(INDEX(اقساط!$AT$3:$AT$8532,SMALL(IF(اقساط!$G$3:$G$8532=B1001,ROW($AT$3:$AT$8532)-ROW($AT$3)+1),ROWS($A$3:A1001))),\"\")","v":0},{"$f":"IFERROR(INDEX(Names,SMALL(IF(Names<>\"\",IF(MID(Names,1,LEN($B$1))=$B$1,ROW(Names)-ROW($G$3)+1)),ROWS($A$1:A999))),\"\")","v":""},{"$f":"IFERROR(INDEX(اقساط!$B$3:$B$8532,SMALL(IF(اقساط!$G$3:$G$8532=B1001,ROW($B$3:$B$8532)-ROW($B$3)+1),ROWS($C$3:C1001))),\"\")","v":0}]
[{"$f":"IFERROR(INDEX(اقساط!$AT$3:$AT$8532,SMALL(IF(اقساط!$G$3:$G$8532=B1002,ROW($AT$3:$AT$8532)-ROW($AT$3)+1),ROWS($A$3:A1002))),\"\")","v":0},{"$f":"IFERROR(INDEX(Names,SMALL(IF(Names<>\"\",IF(MID(Names,1,LEN($B$1))=$B$1,ROW(Names)-ROW($G$3)+1)),ROWS($A$1:A1000))),\"\")","v":""},{"$f":"IFERROR(INDEX(اقساط!$B$3:$B$8532,SMALL(IF(اقساط!$G$3:$G$8532=B1002,ROW($B$3:$B$8532)-ROW($B$3)+1),ROWS($C$3:C1002))),\"\")","v":0}]
[{"$f":"IFERROR(INDEX(اقساط!$AT$3:$AT$8532,SMALL(IF(اقساط!$G$3:$G$8532=B1003,ROW($AT$3:$AT$8532)-ROW($AT$3)+1),ROWS($A$3:A1003))),\"\")","v":0},{"$f":"IFERROR(INDEX(Names,SMALL(IF(Names<>\"\",IF(MID(Names,1,LEN($B$1))=$B$1,ROW(Names)-ROW($G$3)+1)),ROWS($A$1:A1001))),\"\")","v":""},{"$f":"IFERROR(INDEX(اقساط!$B$3:$B$8532,SMALL(IF(اقساط!$G$3:$G$8532=B1003,ROW($B$3:$B$8532)-ROW($B$3)+1),ROWS($C$3:C1003))),\"\")","v":0}]
[{"$f":"IFERROR(INDEX(اقساط!$AT$3:$AT$8532,SMALL(IF(اقساط!$G$3:$G$8532=B1004,ROW($AT$3:$AT$8532)-ROW($AT$3)+1),ROWS($A$3:A1004))),\"\")","v":0},{"$f":"IFERROR(INDEX(Names,SMALL(IF(Names<>\"\",IF(MID(Names,1,LEN($B$1))=$B$1,ROW(Names)-ROW($G$3)+1)),ROWS($A$1:A1002))),\"\")","v":""},{"$f":"IFERROR(INDEX(اقساط!$B$3:$B$8532,SMALL(IF(اقساط!$G$3:$G$8532=B1004,ROW($B$3:$B$8532)-ROW($B$3)+1),ROWS($C$3:C1004))),\"\")","v":0}]
[{"$f":"IFERROR(INDEX(اقساط!$AT$3:$AT$8532,SMALL(IF(اقساط!$G$3:$G$8532=B1005,ROW($AT$3:$AT$8532)-ROW($AT$3)+1),ROWS($A$3:A1005))),\"\")","v":0},{"$f":"IFERROR(INDEX(Names,SMALL(IF(Names<>\"\",IF(MID(Names,1,LEN($B$1))=$B$1,ROW(Names)-ROW($G$3)+1)),ROWS($A$1:A1003))),\"\")","v":""},{"$f":"IFERROR(INDEX(اقساط!$B$3:$B$8532,SMALL(IF(اقساط!$G$3:$G$8532=B1005,ROW($B$3:$B$8532)-ROW($B$3)+1),ROWS($C$3:C1005))),\"\")","v":0}]
[{"$f":"IFERROR(INDEX(اقساط!$AT$3:$AT$8532,SMALL(IF(اقساط!$G$3:$G$8532=B1006,ROW($AT$3:$AT$8532)-ROW($AT$3)+1),ROWS($A$3:A1006))),\"\")","v":0},{"$f":"IFERROR(INDEX(Names,SMALL(IF(Names<>\"\",IF(MID(Names,1,LEN($B$1))=$B$1,ROW(Names)-ROW($G$3)+1)),ROWS($A$1:A1004))),\"\")","v":""},{"$f":"IFERROR(INDEX(اقساط!$B$3:$B$8532,SMALL(IF(اقساط!$G$3:$G$8532=B1006,ROW($B$3:$B$8532)-ROW($B$3)+1),ROWS($C$3:C1006))),\"\")","v":0}]
[{"$f":"IFERROR(INDEX(اقساط!$AT$3:$AT$8532,SMALL(IF(اقساط!$G$3:$G$8532=B1007,ROW($AT$3:$AT$8532)-ROW($AT$3)+1),ROWS($A$3:A1007))),\"\")","v":0},{"$f":"IFERROR(INDEX(Names,SMALL(IF(Names<>\"\",IF(MID(Names,1,LEN($B$1))=$B$1,ROW(Names)-ROW($G$3)+1)),ROWS($A$1:A1005))),\"\")","v":""},{"$f":"IFERROR(INDEX(اقساط!$B$3:$B$8532,SMALL(IF(اقساط!$G$3:$G$8532=B1007,ROW($B$3:$B$8532)-ROW($B$3)+1),ROWS($C$3:C1007))),\"\")","v":0}]
[{"$f":"IFERROR(INDEX(اقساط!$AT$3:$AT$8532,SMALL(IF(اقساط!$G$3:$G$8532=B1008,ROW($AT$3:$AT$8532)-ROW($AT$3)+1),ROWS($A$3:A1008))),\"\")","v":0},{"$f":"IFERROR(INDEX(Names,SMALL(IF(Names<>\"\",IF(MID(Names,1,LEN($B$1))=$B$1,ROW(Names)-ROW($G$3)+1)),ROWS($A$1:A1006))),\"\")","v":""},{"$f":"IFERROR(INDEX(اقساط!$B$3:$B$8532,SMALL(IF(اقساط!$G$3:$G$8532=B1008,ROW($B$3:$B$8532)-ROW($B$3)+1),ROWS($C$3:C1008))),\"\")","v":0}]
[{"$f":"IFERROR(INDEX(اقساط!$AT$3:$AT$8532,SMALL(IF(اقساط!$G$3:$G$8532=B1009,ROW($AT$3:$AT$8532)-ROW($AT$3)+1),ROWS($A$3:A1009))),\"\")","v":0},{"$f":"IFERROR(INDEX(Names,SMALL(IF(Names<>\"\",IF(MID(Names,1,LEN($B$1))=$B$1,ROW(Names)-ROW($G$3)+1)),ROWS($A$1:A1007))),\"\")","v":""},{"$f":"IFERROR(INDEX(اقساط!$B$3:$B$8532,SMALL(IF(اقساط!$G$3:$G$8532=B1009,ROW($B$3:$B$8532)-ROW($B$3)+1),ROWS($C$3:C1009))),\"\")","v":0}]
[{"$f":"IFERROR(INDEX(اقساط!$AT$3:$AT$8532,SMALL(IF(اقساط!$G$3:$G$8532=B1010,ROW($AT$3:$AT$8532)-ROW($AT$3)+1),ROWS($A$3:A1010))),\"\")","v":0},{"$f":"IFERROR(INDEX(Names,SMALL(IF(Names<>\"\",IF(MID(Names,1,LEN($B$1))=$B$1,ROW(Names)-ROW($G$3)+1)),ROWS($A$1:A1008))),\"\")","v":""},{"$f":"IFERROR(INDEX(اقساط!$B$3:$B$8532,SMALL(IF(اقساط!$G$3:$G$8532=B1010,ROW($B$3:$B$8532)-ROW($B$3)+1),ROWS($C$3:C1010))),\"\")","v":0}]
[{"$f":"IFERROR(INDEX(اقساط!$AT$3:$AT$8532,SMALL(IF(اقساط!$G$3:$G$8532=B1011,ROW($AT$3:$AT$8532)-ROW($AT$3)+1),ROWS($A$3:A1011))),\"\")","v":0},{"$f":"IFERROR(INDEX(Names,SMALL(IF(Names<>\"\",IF(MID(Names,1,LEN($B$1))=$B$1,ROW(Names)-ROW($G$3)+1)),ROWS($A$1:A1009))),\"\")","v":""},{"$f":"IFERROR(INDEX(اقساط!$B$3:$B$8532,SMALL(IF(اقساط!$G$3:$G$8532=B1011,ROW($B$3:$B$8532)-ROW($B$3)+1),ROWS($C$3:C1011))),\"\")","v":0}]
[{"$f":"IFERROR(INDEX(اقساط!$AT$3:$AT$8532,SMALL(IF(اقساط!$G$3:$G$8532=B1012,ROW($AT$3:$AT$8532)-ROW($AT$3)+1),ROWS($A$3:A1012))),\"\")","v":0},{"$f":"IFERROR(INDEX(Names,SMALL(IF(Names<>\"\",IF(MID(Names,1,LEN($B$1))=$B$1,ROW(Names)-ROW($G$3)+1)),ROWS($A$1:A1010))),\"\")","v":""},{"$f":"IFERROR(INDEX(اقساط!$B$3:$B$8532,SMALL(IF(اقساط!$G$3:$G$8532=B1012,ROW($B$3:$B$8532)-ROW($B$3)+1),ROWS($C$3:C1012))),\"\")","v":0}]
[{"$f":"IFERROR(INDEX(اقساط!$AT$3:$AT$8532,SMALL(IF(اقساط!$G$3:$G$8532=B1013,ROW($AT$3:$AT$8532)-ROW($AT$3)+1),ROWS($A$3:A1013))),\"\")","v":0},{"$f":"IFERROR(INDEX(Names,SMALL(IF(Names<>\"\",IF(MID(Names,1,LEN($B$1))=$B$1,ROW(Names)-ROW($G$3)+1)),ROWS($A$1:A1011))),\"\")","v":""},{"$f":"IFERROR(INDEX(اقساط!$B$3:$B$8532,SMALL(IF(اقساط!$G$3:$G$8532=B1013,ROW($B$3:$B$8532)-ROW($B$3)+1),ROWS($C$3:C1013))),\"\")","v":0}]
[{"$f":"IFERROR(INDEX(اقساط!$AT$3:$AT$8532,SMALL(IF(اقساط!$G$3:$G$8532=B1014,ROW($AT$3:$AT$8532)-ROW($AT$3)+1),ROWS($A$3:A1014))),\"\")","v":0},{"$f":"IFERROR(INDEX(Names,SMALL(IF(Names<>\"\",IF(MID(Names,1,LEN($B$1))=$B$1,ROW(Names)-ROW($G$3)+1)),ROWS($A$1:A1012))),\"\")","v":""},{"$f":"IFERROR(INDEX(اقساط!$B$3:$B$8532,SMALL(IF(اقساط!$G$3:$G$8532=B1014,ROW($B$3:$B$8532)-ROW($B$3)+1),ROWS($C$3:C1014))),\"\")","v":0}]
[{"$f":"IFERROR(INDEX(اقساط!$AT$3:$AT$8532,SMALL(IF(اقساط!$G$3:$G$8532=B1015,ROW($AT$3:$AT$8532)-ROW($AT$3)+1),ROWS($A$3:A1015))),\"\")","v":0},{"$f":"IFERROR(INDEX(Names,SMALL(IF(Names<>\"\",IF(MID(Names,1,LEN($B$1))=$B$1,ROW(Names)-ROW($G$3)+1)),ROWS($A$1:A1013))),\"\")","v":""},{"$f":"IFERROR(INDEX(اقساط!$B$3:$B$8532,SMALL(IF(اقساط!$G$3:$G$8532=B1015,ROW($B$3:$B$8532)-ROW($B$3)+1),ROWS($C$3:C1015))),\"\")","v":0}]
[{"$f":"IFERROR(INDEX(اقساط!$AT$3:$AT$8532,SMALL(IF(اقساط!$G$3:$G$8532=B1016,ROW($AT$3:$AT$8532)-ROW($AT$3)+1),ROWS($A$3:A1016))),\"\")","v":0},{"$f":"IFERROR(INDEX(Names,SMALL(IF(Names<>\"\",IF(MID(Names,1,LEN($B$1))=$B$1,ROW(Names)-ROW($G$3)+1)),ROWS($A$1:A1014))),\"\")","v":""},{"$f":"IFERROR(INDEX(اقساط!$B$3:$B$8532,SMALL(IF(اقساط!$G$3:$G$8532=B1016,ROW($B$3:$B$8532)-ROW($B$3)+1),ROWS($C$3:C1016))),\"\")","v":0}]
[{"$f":"IFERROR(INDEX(اقساط!$AT$3:$AT$8532,SMALL(IF(اقساط!$G$3:$G$8532=B1017,ROW($AT$3:$AT$8532)-ROW($AT$3)+1),ROWS($A$3:A1017))),\"\")","v":0},null,{"$f":"IFERROR(INDEX(اقساط!$B$3:$B$8532,SMALL(IF(اقساط!$G$3:$G$8532=B1017,ROW($B$3:$B$8532)-ROW($B$3)+1),ROWS($C$3:C1017))),\"\")","v":0}]
[{"$f":"IFERROR(INDEX(اقساط!$AT$3:$AT$8532,SMALL(IF(اقساط!$G$3:$G$8532=B1018,ROW($AT$3:$AT$8532)-ROW($AT$3)+1),ROWS($A$3:A1018))),\"\")","v":0},null,{"$f":"IFERROR(INDEX(اقساط!$B$3:$B$8532,SMALL(IF(اقساط!$G$3:$G$8532=B1018,ROW($B$3:$B$8532)-ROW($B$3)+1),ROWS($C$3:C1018))),\"\")","v":0}]
[{"$f":"IFERROR(INDEX(اقساط!$AT$3:$AT$8532,SMALL(IF(اقساط!$G$3:$G$8532=B1019,ROW($AT$3:$AT$8532)-ROW($AT$3)+1),ROWS($A$3:A1019))),\"\")","v":0},null,{"$f":"IFERROR(INDEX(اقساط!$B$3:$B$8532,SMALL(IF(اقساط!$G$3:$G$8532=B1019,ROW($B$3:$B$8532)-ROW($B$3)+1),ROWS($C$3:C1019))),\"\")","v":0}]
[{"$f":"IFERROR(INDEX(اقساط!$AT$3:$AT$8532,SMALL(IF(اقساط!$G$3:$G$8532=B1020,ROW($AT$3:$AT$8532)-ROW($AT$3)+1),ROWS($A$3:A1020))),\"\")","v":0},null,{"$f":"IFERROR(INDEX(اقساط!$B$3:$B$8532,SMALL(IF(اقساط!$G$3:$G$8532=B1020,ROW($B$3:$B$8532)-ROW($B$3)+1),ROWS($C$3:C1020))),\"\")","v":0}]
[{"$f":"IFERROR(INDEX(اقساط!$AT$3:$AT$8532,SMALL(IF(اقساط!$G$3:$G$8532=B1021,ROW($AT$3:$AT$8532)-ROW($AT$3)+1),ROWS($A$3:A1021))),\"\")","v":0},null,{"$f":"IFERROR(INDEX(اقساط!$B$3:$B$8532,SMALL(IF(اقساط!$G$3:$G$8532=B1021,ROW($B$3:$B$8532)-ROW($B$3)+1),ROWS($C$3:C1021))),\"\")","v":0}]
[{"$f":"IFERROR(INDEX(اقساط!$AT$3:$AT$8532,SMALL(IF(اقساط!$G$3:$G$8532=B1022,ROW($AT$3:$AT$8532)-ROW($AT$3)+1),ROWS($A$3:A1022))),\"\")","v":0},null,{"$f":"IFERROR(INDEX(اقساط!$B$3:$B$8532,SMALL(IF(اقساط!$G$3:$G$8532=B1022,ROW($B$3:$B$8532)-ROW($B$3)+1),ROWS($C$3:C1022))),\"\")","v":0}]
[{"$f":"IFERROR(INDEX(اقساط!$AT$3:$AT$8532,SMALL(IF(اقساط!$G$3:$G$8532=B1023,ROW($AT$3:$AT$8532)-ROW($AT$3)+1),ROWS($A$3:A1023))),\"\")","v":0},null,{"$f":"IFERROR(INDEX(اقساط!$B$3:$B$8532,SMALL(IF(اقساط!$G$3:$G$8532=B1023,ROW($B$3:$B$8532)-ROW($B$3)+1),ROWS($C$3:C1023))),\"\")","v":0}]
[{"$f":"IFERROR(INDEX(اقساط!$AT$3:$AT$8532,SMALL(IF(اقساط!$G$3:$G$8532=B1024,ROW($AT$3:$AT$8532)-ROW($AT$3)+1),ROWS($A$3:A1024))),\"\")","v":0},null,{"$f":"IFERROR(INDEX(اقساط!$B$3:$B$8532,SMALL(IF(اقساط!$G$3:$G$8532=B1024,ROW($B$3:$B$8532)-ROW($B$3)+1),ROWS($C$3:C1024))),\"\")","v":0}]
[{"$f":"IFERROR(INDEX(اقساط!$AT$3:$AT$8532,SMALL(IF(اقساط!$G$3:$G$8532=B1025,ROW($AT$3:$AT$8532)-ROW($AT$3)+1),ROWS($A$3:A1025))),\"\")","v":0},null,{"$f":"IFERROR(INDEX(اقساط!$B$3:$B$8532,SMALL(IF(اقساط!$G$3:$G$8532=B1025,ROW($B$3:$B$8532)-ROW($B$3)+1),ROWS($C$3:C1025))),\"\")","v":0}]
[{"$f":"IFERROR(INDEX(اقساط!$AT$3:$AT$8532,SMALL(IF(اقساط!$G$3:$G$8532=B1026,ROW($AT$3:$AT$8532)-ROW($AT$3)+1),ROWS($A$3:A1026))),\"\")","v":0},null,{"$f":"IFERROR(INDEX(اقساط!$B$3:$B$8532,SMALL(IF(اقساط!$G$3:$G$8532=B1026,ROW($B$3:$B$8532)-ROW($B$3)+1),ROWS($C$3:C1026))),\"\")","v":0}]
[{"$f":"IFERROR(INDEX(اقساط!$AT$3:$AT$8532,SMALL(IF(اقساط!$G$3:$G$8532=B1027,ROW($AT$3:$AT$8532)-ROW($AT$3)+1),ROWS($A$3:A1027))),\"\")","v":0},null,{"$f":"IFERROR(INDEX(اقساط!$B$3:$B$8532,SMALL(IF(اقساط!$G$3:$G$8532=B1027,ROW($B$3:$B$8532)-ROW($B$3)+1),ROWS($C$3:C1027))),\"\")","v":0}]
[{"$f":"IFERROR(INDEX(اقساط!$AT$3:$AT$8532,SMALL(IF(اقساط!$G$3:$G$8532=B1028,ROW($AT$3:$AT$8532)-ROW($AT$3)+1),ROWS($A$3:A1028))),\"\")","v":0},null,{"$f":"IFERROR(INDEX(اقساط!$B$3:$B$8532,SMALL(IF(اقساط!$G$3:$G$8532=B1028,ROW($B$3:$B$8532)-ROW($B$3)+1),ROWS($C$3:C1028))),\"\")","v":0}]
[{"$f":"IFERROR(INDEX(اقساط!$AT$3:$AT$8532,SMALL(IF(اقساط!$G$3:$G$8532=B1029,ROW($AT$3:$AT$8532)-ROW($AT$3)+1),ROWS($A$3:A1029))),\"\")","v":0},null,{"$f":"IFERROR(INDEX(اقساط!$B$3:$B$8532,SMALL(IF(اقساط!$G$3:$G$8532=B1029,ROW($B$3:$B$8532)-ROW($B$3)+1),ROWS($C$3:C1029))),\"\")","v":0}]
[{"$f":"IFERROR(INDEX(اقساط!$AT$3:$AT$8532,SMALL(IF(اقساط!$G$3:$G$8532=B1030,ROW($AT$3:$AT$8532)-ROW($AT$3)+1),ROWS($A$3:A1030))),\"\")","v":0},null,{"$f":"IFERROR(INDEX(اقساط!$B$3:$B$8532,SMALL(IF(اقساط!$G$3:$G$8532=B1030,ROW($B$3:$B$8532)-ROW($B$3)+1),ROWS($C$3:C1030))),\"\")","v":0}]
[{"$f":"IFERROR(INDEX(اقساط!$AT$3:$AT$8532,SMALL(IF(اقساط!$G$3:$G$8532=B1031,ROW($AT$3:$AT$8532)-ROW($AT$3)+1),ROWS($A$3:A1031))),\"\")","v":0},null,{"$f":"IFERROR(INDEX(اقساط!$B$3:$B$8532,SMALL(IF(اقساط!$G$3:$G$8532=B1031,ROW($B$3:$B$8532)-ROW($B$3)+1),ROWS($C$3:C1031))),\"\")","v":0}]
[{"$f":"IFERROR(INDEX(اقساط!$AT$3:$AT$8532,SMALL(IF(اقساط!$G$3:$G$8532=B1032,ROW($AT$3:$AT$8532)-ROW($AT$3)+1),ROWS($A$3:A1032))),\"\")","v":0},null,{"$f":"IFERROR(INDEX(اقساط!$B$3:$B$8532,SMALL(IF(اقساط!$G$3:$G$8532=B1032,ROW($B$3:$B$8532)-ROW($B$3)+1),ROWS($C$3:C1032))),\"\")","v":0}]
[{"$f":"IFERROR(INDEX(اقساط!$AT$3:$AT$8532,SMALL(IF(اقساط!$G$3:$G$8532=B1033,ROW($AT$3:$AT$8532)-ROW($AT$3)+1),ROWS($A$3:A1033))),\"\")","v":0},null,{"$f":"IFERROR(INDEX(اقساط!$B$3:$B$8532,SMALL(IF(اقساط!$G$3:$G$8532=B1033,ROW($B$3:$B$8532)-ROW($B$3)+1),ROWS($C$3:C1033))),\"\")","v":0}]
[{"$f":"IFERROR(INDEX(اقساط!$AT$3:$AT$8532,SMALL(IF(اقساط!$G$3:$G$8532=B1034,ROW($AT$3:$AT$8532)-ROW($AT$3)+1),ROWS($A$3:A1034))),\"\")","v":0},null,{"$f":"IFERROR(INDEX(اقساط!$B$3:$B$8532,SMALL(IF(اقساط!$G$3:$G$8532=B1034,ROW($B$3:$B$8532)-ROW($B$3)+1),ROWS($C$3:C1034))),\"\")","v":0}]
[{"$f":"IFERROR(INDEX(اقساط!$AT$3:$AT$8532,SMALL(IF(اقساط!$G$3:$G$8532=B1035,ROW($AT$3:$AT$8532)-ROW($AT$3)+1),ROWS($A$3:A1035))),\"\")","v":0},null,{"$f":"IFERROR(INDEX(اقساط!$B$3:$B$8532,SMALL(IF(اقساط!$G$3:$G$8532=B1035,ROW($B$3:$B$8532)-ROW($B$3)+1),ROWS($C$3:C1035))),\"\")","v":0}]
[{"$f":"IFERROR(INDEX(اقساط!$AT$3:$AT$8532,SMALL(IF(اقساط!$G$3:$G$8532=B1036,ROW($AT$3:$AT$8532)-ROW($AT$3)+1),ROWS($A$3:A1036))),\"\")","v":0},null,{"$f":"IFERROR(INDEX(اقساط!$B$3:$B$8532,SMALL(IF(اقساط!$G$3:$G$8532=B1036,ROW($B$3:$B$8532)-ROW($B$3)+1),ROWS($C$3:C1036))),\"\")","v":0}]
[{"$f":"IFERROR(INDEX(اقساط!$AT$3:$AT$8532,SMALL(IF(اقساط!$G$3:$G$8532=B1037,ROW($AT$3:$AT$8532)-ROW($AT$3)+1),ROWS($A$3:A1037))),\"\")","v":0},null,{"$f":"IFERROR(INDEX(اقساط!$B$3:$B$8532,SMALL(IF(اقساط!$G$3:$G$8532=B1037,ROW($B$3:$B$8532)-ROW($B$3)+1),ROWS($C$3:C1037))),\"\")","v":0}]
[{"$f":"IFERROR(INDEX(اقساط!$AT$3:$AT$8532,SMALL(IF(اقساط!$G$3:$G$8532=B1038,ROW($AT$3:$AT$8532)-ROW($AT$3)+1),ROWS($A$3:A1038))),\"\")","v":0},null,{"$f":"IFERROR(INDEX(اقساط!$B$3:$B$8532,SMALL(IF(اقساط!$G$3:$G$8532=B1038,ROW($B$3:$B$8532)-ROW($B$3)+1),ROWS($C$3:C1038))),\"\")","v":0}]
[{"$f":"IFERROR(INDEX(اقساط!$AT$3:$AT$8532,SMALL(IF(اقساط!$G$3:$G$8532=B1039,ROW($AT$3:$AT$8532)-ROW($AT$3)+1),ROWS($A$3:A1039))),\"\")","v":0},null,{"$f":"IFERROR(INDEX(اقساط!$B$3:$B$8532,SMALL(IF(اقساط!$G$3:$G$8532=B1039,ROW($B$3:$B$8532)-ROW($B$3)+1),ROWS($C$3:C1039))),\"\")","v":0}]
[{"$f":"IFERROR(INDEX(اقساط!$AT$3:$AT$8532,SMALL(IF(اقساط!$G$3:$G$8532=B1040,ROW($AT$3:$AT$8532)-ROW($AT$3)+1),ROWS($A$3:A1040))),\"\")","v":0},null,{"$f":"IFERROR(INDEX(اقساط!$B$3:$B$8532,SMALL(IF(اقساط!$G$3:$G$8532=B1040,ROW($B$3:$B$8532)-ROW($B$3)+1),ROWS($C$3:C1040))),\"\")","v":0}]
[{"$f":"IFERROR(INDEX(اقساط!$AT$3:$AT$8532,SMALL(IF(اقساط!$G$3:$G$8532=B1041,ROW($AT$3:$AT$8532)-ROW($AT$3)+1),ROWS($A$3:A1041))),\"\")","v":0},null,{"$f":"IFERROR(INDEX(اقساط!$B$3:$B$8532,SMALL(IF(اقساط!$G$3:$G$8532=B1041,ROW($B$3:$B$8532)-ROW($B$3)+1),ROWS($C$3:C1041))),\"\")","v":0}]
[{"$f":"IFERROR(INDEX(اقساط!$AT$3:$AT$8532,SMALL(IF(اقساط!$G$3:$G$8532=B1042,ROW($AT$3:$AT$8532)-ROW($AT$3)+1),ROWS($A$3:A1042))),\"\")","v":0},null,{"$f":"IFERROR(INDEX(اقساط!$B$3:$B$8532,SMALL(IF(اقساط!$G$3:$G$8532=B1042,ROW($B$3:$B$8532)-ROW($B$3)+1),ROWS($C$3:C1042))),\"\")","v":0}]
[{"$f":"IFERROR(INDEX(اقساط!$AT$3:$AT$8532,SMALL(IF(اقساط!$G$3:$G$8532=B1043,ROW($AT$3:$AT$8532)-ROW($AT$3)+1),ROWS($A$3:A1043))),\"\")","v":0},null,{"$f":"IFERROR(INDEX(اقساط!$B$3:$B$8532,SMALL(IF(اقساط!$G$3:$G$8532=B1043,ROW($B$3:$B$8532)-ROW($B$3)+1),ROWS($C$3:C1043))),\"\")","v":0}]
[{"$f":"IFERROR(INDEX(اقساط!$AT$3:$AT$8532,SMALL(IF(اقساط!$G$3:$G$8532=B1044,ROW($AT$3:$AT$8532)-ROW($AT$3)+1),ROWS($A$3:A1044))),\"\")","v":0},null,{"$f":"IFERROR(INDEX(اقساط!$B$3:$B$8532,SMALL(IF(اقساط!$G$3:$G$8532=B1044,ROW($B$3:$B$8532)-ROW($B$3)+1),ROWS($C$3:C1044))),\"\")","v":0}]
[{"$f":"IFERROR(INDEX(اقساط!$AT$3:$AT$8532,SMALL(IF(اقساط!$G$3:$G$8532=B1045,ROW($AT$3:$AT$8532)-ROW($AT$3)+1),ROWS($A$3:A1045))),\"\")","v":0},null,{"$f":"IFERROR(INDEX(اقساط!$B$3:$B$8532,SMALL(IF(اقساط!$G$3:$G$8532=B1045,ROW($B$3:$B$8532)-ROW($B$3)+1),ROWS($C$3:C1045))),\"\")","v":0}]
[{"$f":"IFERROR(INDEX(اقساط!$AT$3:$AT$8532,SMALL(IF(اقساط!$G$3:$G$8532=B1046,ROW($AT$3:$AT$8532)-ROW($AT$3)+1),ROWS($A$3:A1046))),\"\")","v":0},null,{"$f":"IFERROR(INDEX(اقساط!$B$3:$B$8532,SMALL(IF(اقساط!$G$3:$G$8532=B1046,ROW($B$3:$B$8532)-ROW($B$3)+1),ROWS($C$3:C1046))),\"\")","v":0}]
[{"$f":"IFERROR(INDEX(اقساط!$AT$3:$AT$8532,SMALL(IF(اقساط!$G$3:$G$8532=B1047,ROW($AT$3:$AT$8532)-ROW($AT$3)+1),ROWS($A$3:A1047))),\"\")","v":0},null,{"$f":"IFERROR(INDEX(اقساط!$B$3:$B$8532,SMALL(IF(اقساط!$G$3:$G$8532=B1047,ROW($B$3:$B$8532)-ROW($B$3)+1),ROWS($C$3:C1047))),\"\")","v":0}]
[{"$f":"IFERROR(INDEX(اقساط!$AT$3:$AT$8532,SMALL(IF(اقساط!$G$3:$G$8532=B1048,ROW($AT$3:$AT$8532)-ROW($AT$3)+1),ROWS($A$3:A1048))),\"\")","v":0},null,{"$f":"IFERROR(INDEX(اقساط!$B$3:$B$8532,SMALL(IF(اقساط!$G$3:$G$8532=B1048,ROW($B$3:$B$8532)-ROW($B$3)+1),ROWS($C$3:C1048))),\"\")","v":0}]
[{"$f":"IFERROR(INDEX(اقساط!$AT$3:$AT$8532,SMALL(IF(اقساط!$G$3:$G$8532=B1049,ROW($AT$3:$AT$8532)-ROW($AT$3)+1),ROWS($A$3:A1049))),\"\")","v":0},null,{"$f":"IFERROR(INDEX(اقساط!$B$3:$B$8532,SMALL(IF(اقساط!$G$3:$G$8532=B1049,ROW($B$3:$B$8532)-ROW($B$3)+1),ROWS($C$3:C1049))),\"\")","v":0}]
[{"$f":"IFERROR(INDEX(اقساط!$AT$3:$AT$8532,SMALL(IF(اقساط!$G$3:$G$8532=B1050,ROW($AT$3:$AT$8532)-ROW($AT$3)+1),ROWS($A$3:A1050))),\"\")","v":0},null,{"$f":"IFERROR(INDEX(اقساط!$B$3:$B$8532,SMALL(IF(اقساط!$G$3:$G$8532=B1050,ROW($B$3:$B$8532)-ROW($B$3)+1),ROWS($C$3:C1050))),\"\")","v":0}]
[{"$f":"IFERROR(INDEX(اقساط!$AT$3:$AT$8532,SMALL(IF(اقساط!$G$3:$G$8532=B1051,ROW($AT$3:$AT$8532)-ROW($AT$3)+1),ROWS($A$3:A1051))),\"\")","v":0},null,{"$f":"IFERROR(INDEX(اقساط!$B$3:$B$8532,SMALL(IF(اقساط!$G$3:$G$8532=B1051,ROW($B$3:$B$8532)-ROW($B$3)+1),ROWS($C$3:C1051))),\"\")","v":0}]
[{"$f":"IFERROR(INDEX(اقساط!$AT$3:$AT$8532,SMALL(IF(اقساط!$G$3:$G$8532=B1052,ROW($AT$3:$AT$8532)-ROW($AT$3)+1),ROWS($A$3:A1052))),\"\")","v":0},null,{"$f":"IFERROR(INDEX(اقساط!$B$3:$B$8532,SMALL(IF(اقساط!$G$3:$G$8532=B1052,ROW($B$3:$B$8532)-ROW($B$3)+1),ROWS($C$3:C1052))),\"\")","v":0}]
[{"$f":"IFERROR(INDEX(اقساط!$AT$3:$AT$8532,SMALL(IF(اقساط!$G$3:$G$8532=B1053,ROW($AT$3:$AT$8532)-ROW($AT$3)+1),ROWS($A$3:A1053))),\"\")","v":0},null,{"$f":"IFERROR(INDEX(اقساط!$B$3:$B$8532,SMALL(IF(اقساط!$G$3:$G$8532=B1053,ROW($B$3:$B$8532)-ROW($B$3)+1),ROWS($C$3:C1053))),\"\")","v":0}]
[{"$f":"IFERROR(INDEX(اقساط!$AT$3:$AT$8532,SMALL(IF(اقساط!$G$3:$G$8532=B1054,ROW($AT$3:$AT$8532)-ROW($AT$3)+1),ROWS($A$3:A1054))),\"\")","v":0},null,{"$f":"IFERROR(INDEX(اقساط!$B$3:$B$8532,SMALL(IF(اقساط!$G$3:$G$8532=B1054,ROW($B$3:$B$8532)-ROW($B$3)+1),ROWS($C$3:C1054))),\"\")","v":0}]
[{"$f":"IFERROR(INDEX(اقساط!$AT$3:$AT$8532,SMALL(IF(اقساط!$G$3:$G$8532=B1055,ROW($AT$3:$AT$8532)-ROW($AT$3)+1),ROWS($A$3:A1055))),\"\")","v":0},null,{"$f":"IFERROR(INDEX(اقساط!$B$3:$B$8532,SMALL(IF(اقساط!$G$3:$G$8532=B1055,ROW($B$3:$B$8532)-ROW($B$3)+1),ROWS($C$3:C1055))),\"\")","v":0}]
[{"$f":"IFERROR(INDEX(اقساط!$AT$3:$AT$8532,SMALL(IF(اقساط!$G$3:$G$8532=B1056,ROW($AT$3:$AT$8532)-ROW($AT$3)+1),ROWS($A$3:A1056))),\"\")","v":0},null,{"$f":"IFERROR(INDEX(اقساط!$B$3:$B$8532,SMALL(IF(اقساط!$G$3:$G$8532=B1056,ROW($B$3:$B$8532)-ROW($B$3)+1),ROWS($C$3:C1056))),\"\")","v":0}]
[{"$f":"IFERROR(INDEX(اقساط!$AT$3:$AT$8532,SMALL(IF(اقساط!$G$3:$G$8532=B1057,ROW($AT$3:$AT$8532)-ROW($AT$3)+1),ROWS($A$3:A1057))),\"\")","v":0},null,{"$f":"IFERROR(INDEX(اقساط!$B$3:$B$8532,SMALL(IF(اقساط!$G$3:$G$8532=B1057,ROW($B$3:$B$8532)-ROW($B$3)+1),ROWS($C$3:C1057))),\"\")","v":0}]
[{"$f":"IFERROR(INDEX(اقساط!$AT$3:$AT$8532,SMALL(IF(اقساط!$G$3:$G$8532=B1058,ROW($AT$3:$AT$8532)-ROW($AT$3)+1),ROWS($A$3:A1058))),\"\")","v":0},null,{"$f":"IFERROR(INDEX(اقساط!$B$3:$B$8532,SMALL(IF(اقساط!$G$3:$G$8532=B1058,ROW($B$3:$B$8532)-ROW($B$3)+1),ROWS($C$3:C1058))),\"\")","v":0}]
[{"$f":"IFERROR(INDEX(اقساط!$AT$3:$AT$8532,SMALL(IF(اقساط!$G$3:$G$8532=B1059,ROW($AT$3:$AT$8532)-ROW($AT$3)+1),ROWS($A$3:A1059))),\"\")","v":0},null,{"$f":"IFERROR(INDEX(اقساط!$B$3:$B$8532,SMALL(IF(اقساط!$G$3:$G$8532=B1059,ROW($B$3:$B$8532)-ROW($B$3)+1),ROWS($C$3:C1059))),\"\")","v":0}]
[{"$f":"IFERROR(INDEX(اقساط!$AT$3:$AT$8532,SMALL(IF(اقساط!$G$3:$G$8532=B1060,ROW($AT$3:$AT$8532)-ROW($AT$3)+1),ROWS($A$3:A1060))),\"\")","v":0},null,{"$f":"IFERROR(INDEX(اقساط!$B$3:$B$8532,SMALL(IF(اقساط!$G$3:$G$8532=B1060,ROW($B$3:$B$8532)-ROW($B$3)+1),ROWS($C$3:C1060))),\"\")","v":0}]
[{"$f":"IFERROR(INDEX(اقساط!$AT$3:$AT$8532,SMALL(IF(اقساط!$G$3:$G$8532=B1061,ROW($AT$3:$AT$8532)-ROW($AT$3)+1),ROWS($A$3:A1061))),\"\")","v":0},null,{"$f":"IFERROR(INDEX(اقساط!$B$3:$B$8532,SMALL(IF(اقساط!$G$3:$G$8532=B1061,ROW($B$3:$B$8532)-ROW($B$3)+1),ROWS($C$3:C1061))),\"\")","v":0}]
[{"$f":"IFERROR(INDEX(اقساط!$AT$3:$AT$8532,SMALL(IF(اقساط!$G$3:$G$8532=B1062,ROW($AT$3:$AT$8532)-ROW($AT$3)+1),ROWS($A$3:A1062))),\"\")","v":0},null,{"$f":"IFERROR(INDEX(اقساط!$B$3:$B$8532,SMALL(IF(اقساط!$G$3:$G$8532=B1062,ROW($B$3:$B$8532)-ROW($B$3)+1),ROWS($C$3:C1062))),\"\")","v":0}]
[{"$f":"IFERROR(INDEX(اقساط!$AT$3:$AT$8532,SMALL(IF(اقساط!$G$3:$G$8532=B1063,ROW($AT$3:$AT$8532)-ROW($AT$3)+1),ROWS($A$3:A1063))),\"\")","v":0},null,{"$f":"IFERROR(INDEX(اقساط!$B$3:$B$8532,SMALL(IF(اقساط!$G$3:$G$8532=B1063,ROW($B$3:$B$8532)-ROW($B$3)+1),ROWS($C$3:C1063))),\"\")","v":0}]
[{"$f":"IFERROR(INDEX(اقساط!$AT$3:$AT$8532,SMALL(IF(اقساط!$G$3:$G$8532=B1064,ROW($AT$3:$AT$8532)-ROW($AT$3)+1),ROWS($A$3:A1064))),\"\")","v":0},null,{"$f":"IFERROR(INDEX(اقساط!$B$3:$B$8532,SMALL(IF(اقساط!$G$3:$G$8532=B1064,ROW($B$3:$B$8532)-ROW($B$3)+1),ROWS($C$3:C1064))),\"\")","v":0}]
[{"$f":"IFERROR(INDEX(اقساط!$AT$3:$AT$8532,SMALL(IF(اقساط!$G$3:$G$8532=B1065,ROW($AT$3:$AT$8532)-ROW($AT$3)+1),ROWS($A$3:A1065))),\"\")","v":0},null,{"$f":"IFERROR(INDEX(اقساط!$B$3:$B$8532,SMALL(IF(اقساط!$G$3:$G$8532=B1065,ROW($B$3:$B$8532)-ROW($B$3)+1),ROWS($C$3:C1065))),\"\")","v":0}]
[{"$f":"IFERROR(INDEX(اقساط!$AT$3:$AT$8532,SMALL(IF(اقساط!$G$3:$G$8532=B1066,ROW($AT$3:$AT$8532)-ROW($AT$3)+1),ROWS($A$3:A1066))),\"\")","v":0},null,{"$f":"IFERROR(INDEX(اقساط!$B$3:$B$8532,SMALL(IF(اقساط!$G$3:$G$8532=B1066,ROW($B$3:$B$8532)-ROW($B$3)+1),ROWS($C$3:C1066))),\"\")","v":0}]
[{"$f":"IFERROR(INDEX(اقساط!$AT$3:$AT$8532,SMALL(IF(اقساط!$G$3:$G$8532=B1067,ROW($AT$3:$AT$8532)-ROW($AT$3)+1),ROWS($A$3:A1067))),\"\")","v":0},null,{"$f":"IFERROR(INDEX(اقساط!$B$3:$B$8532,SMALL(IF(اقساط!$G$3:$G$8532=B1067,ROW($B$3:$B$8532)-ROW($B$3)+1),ROWS($C$3:C1067))),\"\")","v":0}]
[{"$f":"IFERROR(INDEX(اقساط!$AT$3:$AT$8532,SMALL(IF(اقساط!$G$3:$G$8532=B1068,ROW($AT$3:$AT$8532)-ROW($AT$3)+1),ROWS($A$3:A1068))),\"\")","v":0},null,{"$f":"IFERROR(INDEX(اقساط!$B$3:$B$8532,SMALL(IF(اقساط!$G$3:$G$8532=B1068,ROW($B$3:$B$8532)-ROW($B$3)+1),ROWS($C$3:C1068))),\"\")","v":0}]
[{"$f":"IFERROR(INDEX(اقساط!$AT$3:$AT$8532,SMALL(IF(اقساط!$G$3:$G$8532=B1069,ROW($AT$3:$AT$8532)-ROW($AT$3)+1),ROWS($A$3:A1069))),\"\")","v":0},null,{"$f":"IFERROR(INDEX(اقساط!$B$3:$B$8532,SMALL(IF(اقساط!$G$3:$G$8532=B1069,ROW($B$3:$B$8532)-ROW($B$3)+1),ROWS($C$3:C1069))),\"\")","v":0}]
[{"$f":"IFERROR(INDEX(اقساط!$AT$3:$AT$8532,SMALL(IF(اقساط!$G$3:$G$8532=B1070,ROW($AT$3:$AT$8532)-ROW($AT$3)+1),ROWS($A$3:A1070))),\"\")","v":0},null,{"$f":"IFERROR(INDEX(اقساط!$B$3:$B$8532,SMALL(IF(اقساط!$G$3:$G$8532=B1070,ROW($B$3:$B$8532)-ROW($B$3)+1),ROWS($C$3:C1070))),\"\")","v":0}]
[{"$f":"IFERROR(INDEX(اقساط!$AT$3:$AT$8532,SMALL(IF(اقساط!$G$3:$G$8532=B1071,ROW($AT$3:$AT$8532)-ROW($AT$3)+1),ROWS($A$3:A1071))),\"\")","v":0},null,{"$f":"IFERROR(INDEX(اقساط!$B$3:$B$8532,SMALL(IF(اقساط!$G$3:$G$8532=B1071,ROW($B$3:$B$8532)-ROW($B$3)+1),ROWS($C$3:C1071))),\"\")","v":0}]
[{"$f":"IFERROR(INDEX(اقساط!$AT$3:$AT$8532,SMALL(IF(اقساط!$G$3:$G$8532=B1072,ROW($AT$3:$AT$8532)-ROW($AT$3)+1),ROWS($A$3:A1072))),\"\")","v":0},null,{"$f":"IFERROR(INDEX(اقساط!$B$3:$B$8532,SMALL(IF(اقساط!$G$3:$G$8532=B1072,ROW($B$3:$B$8532)-ROW($B$3)+1),ROWS($C$3:C1072))),\"\")","v":0}]
[{"$f":"IFERROR(INDEX(اقساط!$AT$3:$AT$8532,SMALL(IF(اقساط!$G$3:$G$8532=B1073,ROW($AT$3:$AT$8532)-ROW($AT$3)+1),ROWS($A$3:A1073))),\"\")","v":0},null,{"$f":"IFERROR(INDEX(اقساط!$B$3:$B$8532,SMALL(IF(اقساط!$G$3:$G$8532=B1073,ROW($B$3:$B$8532)-ROW($B$3)+1),ROWS($C$3:C1073))),\"\")","v":0}]
[{"$f":"IFERROR(INDEX(اقساط!$AT$3:$AT$8532,SMALL(IF(اقساط!$G$3:$G$8532=B1074,ROW($AT$3:$AT$8532)-ROW($AT$3)+1),ROWS($A$3:A1074))),\"\")","v":0},null,{"$f":"IFERROR(INDEX(اقساط!$B$3:$B$8532,SMALL(IF(اقساط!$G$3:$G$8532=B1074,ROW($B$3:$B$8532)-ROW($B$3)+1),ROWS($C$3:C1074))),\"\")","v":0}]
[{"$f":"IFERROR(INDEX(اقساط!$AT$3:$AT$8532,SMALL(IF(اقساط!$G$3:$G$8532=B1075,ROW($AT$3:$AT$8532)-ROW($AT$3)+1),ROWS($A$3:A1075))),\"\")","v":0},null,{"$f":"IFERROR(INDEX(اقساط!$B$3:$B$8532,SMALL(IF(اقساط!$G$3:$G$8532=B1075,ROW($B$3:$B$8532)-ROW($B$3)+1),ROWS($C$3:C1075))),\"\")","v":0}]
[{"$f":"IFERROR(INDEX(اقساط!$AT$3:$AT$8532,SMALL(IF(اقساط!$G$3:$G$8532=B1076,ROW($AT$3:$AT$8532)-ROW($AT$3)+1),ROWS($A$3:A1076))),\"\")","v":0},null,{"$f":"IFERROR(INDEX(اقساط!$B$3:$B$8532,SMALL(IF(اقساط!$G$3:$G$8532=B1076,ROW($B$3:$B$8532)-ROW($B$3)+1),ROWS($C$3:C1076))),\"\")","v":0}]
[{"$f":"IFERROR(INDEX(اقساط!$AT$3:$AT$8532,SMALL(IF(اقساط!$G$3:$G$8532=B1077,ROW($AT$3:$AT$8532)-ROW($AT$3)+1),ROWS($A$3:A1077))),\"\")","v":0},null,{"$f":"IFERROR(INDEX(اقساط!$B$3:$B$8532,SMALL(IF(اقساط!$G$3:$G$8532=B1077,ROW($B$3:$B$8532)-ROW($B$3)+1),ROWS($C$3:C1077))),\"\")","v":0}]
[{"$f":"IFERROR(INDEX(اقساط!$AT$3:$AT$8532,SMALL(IF(اقساط!$G$3:$G$8532=B1078,ROW($AT$3:$AT$8532)-ROW($AT$3)+1),ROWS($A$3:A1078))),\"\")","v":0},null,{"$f":"IFERROR(INDEX(اقساط!$B$3:$B$8532,SMALL(IF(اقساط!$G$3:$G$8532=B1078,ROW($B$3:$B$8532)-ROW($B$3)+1),ROWS($C$3:C1078))),\"\")","v":0}]
[{"$f":"IFERROR(INDEX(اقساط!$AT$3:$AT$8532,SMALL(IF(اقساط!$G$3:$G$8532=B1079,ROW($AT$3:$AT$8532)-ROW($AT$3)+1),ROWS($A$3:A1079))),\"\")","v":0},null,{"$f":"IFERROR(INDEX(اقساط!$B$3:$B$8532,SMALL(IF(اقساط!$G$3:$G$8532=B1079,ROW($B$3:$B$8532)-ROW($B$3)+1),ROWS($C$3:C1079))),\"\")","v":0}]
[{"$f":"IFERROR(INDEX(اقساط!$AT$3:$AT$8532,SMALL(IF(اقساط!$G$3:$G$8532=B1080,ROW($AT$3:$AT$8532)-ROW($AT$3)+1),ROWS($A$3:A1080))),\"\")","v":0},null,{"$f":"IFERROR(INDEX(اقساط!$B$3:$B$8532,SMALL(IF(اقساط!$G$3:$G$8532=B1080,ROW($B$3:$B$8532)-ROW($B$3)+1),ROWS($C$3:C1080))),\"\")","v":0}]
[{"$f":"IFERROR(INDEX(اقساط!$AT$3:$AT$8532,SMALL(IF(اقساط!$G$3:$G$8532=B1081,ROW($AT$3:$AT$8532)-ROW($AT$3)+1),ROWS($A$3:A1081))),\"\")","v":0},null,{"$f":"IFERROR(INDEX(اقساط!$B$3:$B$8532,SMALL(IF(اقساط!$G$3:$G$8532=B1081,ROW($B$3:$B$8532)-ROW($B$3)+1),ROWS($C$3:C1081))),\"\")","v":0}]
[{"$f":"IFERROR(INDEX(اقساط!$AT$3:$AT$8532,SMALL(IF(اقساط!$G$3:$G$8532=B1082,ROW($AT$3:$AT$8532)-ROW($AT$3)+1),ROWS($A$3:A1082))),\"\")","v":0},null,{"$f":"IFERROR(INDEX(اقساط!$B$3:$B$8532,SMALL(IF(اقساط!$G$3:$G$8532=B1082,ROW($B$3:$B$8532)-ROW($B$3)+1),ROWS($C$3:C1082))),\"\")","v":0}]
[{"$f":"IFERROR(INDEX(اقساط!$AT$3:$AT$8532,SMALL(IF(اقساط!$G$3:$G$8532=B1083,ROW($AT$3:$AT$8532)-ROW($AT$3)+1),ROWS($A$3:A1083))),\"\")","v":0},null,{"$f":"IFERROR(INDEX(اقساط!$B$3:$B$8532,SMALL(IF(اقساط!$G$3:$G$8532=B1083,ROW($B$3:$B$8532)-ROW($B$3)+1),ROWS($C$3:C1083))),\"\")","v":0}]
[{"$f":"IFERROR(INDEX(اقساط!$AT$3:$AT$8532,SMALL(IF(اقساط!$G$3:$G$8532=B1084,ROW($AT$3:$AT$8532)-ROW($AT$3)+1),ROWS($A$3:A1084))),\"\")","v":0},null,{"$f":"IFERROR(INDEX(اقساط!$B$3:$B$8532,SMALL(IF(اقساط!$G$3:$G$8532=B1084,ROW($B$3:$B$8532)-ROW($B$3)+1),ROWS($C$3:C1084))),\"\")","v":0}]
[{"$f":"IFERROR(INDEX(اقساط!$AT$3:$AT$8532,SMALL(IF(اقساط!$G$3:$G$8532=B1085,ROW($AT$3:$AT$8532)-ROW($AT$3)+1),ROWS($A$3:A1085))),\"\")","v":0},null,{"$f":"IFERROR(INDEX(اقساط!$B$3:$B$8532,SMALL(IF(اقساط!$G$3:$G$8532=B1085,ROW($B$3:$B$8532)-ROW($B$3)+1),ROWS($C$3:C1085))),\"\")","v":0}]
[{"$f":"IFERROR(INDEX(اقساط!$AT$3:$AT$8532,SMALL(IF(اقساط!$G$3:$G$8532=B1086,ROW($AT$3:$AT$8532)-ROW($AT$3)+1),ROWS($A$3:A1086))),\"\")","v":0},null,{"$f":"IFERROR(INDEX(اقساط!$B$3:$B$8532,SMALL(IF(اقساط!$G$3:$G$8532=B1086,ROW($B$3:$B$8532)-ROW($B$3)+1),ROWS($C$3:C1086))),\"\")","v":0}]
[{"$f":"IFERROR(INDEX(اقساط!$AT$3:$AT$8532,SMALL(IF(اقساط!$G$3:$G$8532=B1087,ROW($AT$3:$AT$8532)-ROW($AT$3)+1),ROWS($A$3:A1087))),\"\")","v":0},null,{"$f":"IFERROR(INDEX(اقساط!$B$3:$B$8532,SMALL(IF(اقساط!$G$3:$G$8532=B1087,ROW($B$3:$B$8532)-ROW($B$3)+1),ROWS($C$3:C1087))),\"\")","v":0}]
[{"$f":"IFERROR(INDEX(اقساط!$AT$3:$AT$8532,SMALL(IF(اقساط!$G$3:$G$8532=B1088,ROW($AT$3:$AT$8532)-ROW($AT$3)+1),ROWS($A$3:A1088))),\"\")","v":0},null,{"$f":"IFERROR(INDEX(اقساط!$B$3:$B$8532,SMALL(IF(اقساط!$G$3:$G$8532=B1088,ROW($B$3:$B$8532)-ROW($B$3)+1),ROWS($C$3:C1088))),\"\")","v":0}]
[{"$f":"IFERROR(INDEX(اقساط!$AT$3:$AT$8532,SMALL(IF(اقساط!$G$3:$G$8532=B1089,ROW($AT$3:$AT$8532)-ROW($AT$3)+1),ROWS($A$3:A1089))),\"\")","v":0},null,{"$f":"IFERROR(INDEX(اقساط!$B$3:$B$8532,SMALL(IF(اقساط!$G$3:$G$8532=B1089,ROW($B$3:$B$8532)-ROW($B$3)+1),ROWS($C$3:C1089))),\"\")","v":0}]
[{"$f":"IFERROR(INDEX(اقساط!$AT$3:$AT$8532,SMALL(IF(اقساط!$G$3:$G$8532=B1090,ROW($AT$3:$AT$8532)-ROW($AT$3)+1),ROWS($A$3:A1090))),\"\")","v":0},null,{"$f":"IFERROR(INDEX(اقساط!$B$3:$B$8532,SMALL(IF(اقساط!$G$3:$G$8532=B1090,ROW($B$3:$B$8532)-ROW($B$3)+1),ROWS($C$3:C1090))),\"\")","v":0}]
[{"$f":"IFERROR(INDEX(اقساط!$AT$3:$AT$8532,SMALL(IF(اقساط!$G$3:$G$8532=B1091,ROW($AT$3:$AT$8532)-ROW($AT$3)+1),ROWS($A$3:A1091))),\"\")","v":0},null,{"$f":"IFERROR(INDEX(اقساط!$B$3:$B$8532,SMALL(IF(اقساط!$G$3:$G$8532=B1091,ROW($B$3:$B$8532)-ROW($B$3)+1),ROWS($C$3:C1091))),\"\")","v":0}]
[{"$f":"IFERROR(INDEX(اقساط!$AT$3:$AT$8532,SMALL(IF(اقساط!$G$3:$G$8532=B1092,ROW($AT$3:$AT$8532)-ROW($AT$3)+1),ROWS($A$3:A1092))),\"\")","v":0},null,{"$f":"IFERROR(INDEX(اقساط!$B$3:$B$8532,SMALL(IF(اقساط!$G$3:$G$8532=B1092,ROW($B$3:$B$8532)-ROW($B$3)+1),ROWS($C$3:C1092))),\"\")","v":0}]
[{"$f":"IFERROR(INDEX(اقساط!$AT$3:$AT$8532,SMALL(IF(اقساط!$G$3:$G$8532=B1093,ROW($AT$3:$AT$8532)-ROW($AT$3)+1),ROWS($A$3:A1093))),\"\")","v":0},null,{"$f":"IFERROR(INDEX(اقساط!$B$3:$B$8532,SMALL(IF(اقساط!$G$3:$G$8532=B1093,ROW($B$3:$B$8532)-ROW($B$3)+1),ROWS($C$3:C1093))),\"\")","v":0}]
[{"$f":"IFERROR(INDEX(اقساط!$AT$3:$AT$8532,SMALL(IF(اقساط!$G$3:$G$8532=B1094,ROW($AT$3:$AT$8532)-ROW($AT$3)+1),ROWS($A$3:A1094))),\"\")","v":0},null,{"$f":"IFERROR(INDEX(اقساط!$B$3:$B$8532,SMALL(IF(اقساط!$G$3:$G$8532=B1094,ROW($B$3:$B$8532)-ROW($B$3)+1),ROWS($C$3:C1094))),\"\")","v":0}]
[{"$f":"IFERROR(INDEX(اقساط!$AT$3:$AT$8532,SMALL(IF(اقساط!$G$3:$G$8532=B1095,ROW($AT$3:$AT$8532)-ROW($AT$3)+1),ROWS($A$3:A1095))),\"\")","v":0},null,{"$f":"IFERROR(INDEX(اقساط!$B$3:$B$8532,SMALL(IF(اقساط!$G$3:$G$8532=B1095,ROW($B$3:$B$8532)-ROW($B$3)+1),ROWS($C$3:C1095))),\"\")","v":0}]
[{"$f":"IFERROR(INDEX(اقساط!$AT$3:$AT$8532,SMALL(IF(اقساط!$G$3:$G$8532=B1096,ROW($AT$3:$AT$8532)-ROW($AT$3)+1),ROWS($A$3:A1096))),\"\")","v":0},null,{"$f":"IFERROR(INDEX(اقساط!$B$3:$B$8532,SMALL(IF(اقساط!$G$3:$G$8532=B1096,ROW($B$3:$B$8532)-ROW($B$3)+1),ROWS($C$3:C1096))),\"\")","v":0}]
[{"$f":"IFERROR(INDEX(اقساط!$AT$3:$AT$8532,SMALL(IF(اقساط!$G$3:$G$8532=B1097,ROW($AT$3:$AT$8532)-ROW($AT$3)+1),ROWS($A$3:A1097))),\"\")","v":0},null,{"$f":"IFERROR(INDEX(اقساط!$B$3:$B$8532,SMALL(IF(اقساط!$G$3:$G$8532=B1097,ROW($B$3:$B$8532)-ROW($B$3)+1),ROWS($C$3:C1097))),\"\")","v":0}]
[{"$f":"IFERROR(INDEX(اقساط!$AT$3:$AT$8532,SMALL(IF(اقساط!$G$3:$G$8532=B1098,ROW($AT$3:$AT$8532)-ROW($AT$3)+1),ROWS($A$3:A1098))),\"\")","v":0},null,{"$f":"IFERROR(INDEX(اقساط!$B$3:$B$8532,SMALL(IF(اقساط!$G$3:$G$8532=B1098,ROW($B$3:$B$8532)-ROW($B$3)+1),ROWS($C$3:C1098))),\"\")","v":0}]
[{"$f":"IFERROR(INDEX(اقساط!$AT$3:$AT$8532,SMALL(IF(اقساط!$G$3:$G$8532=B1099,ROW($AT$3:$AT$8532)-ROW($AT$3)+1),ROWS($A$3:A1099))),\"\")","v":0},null,{"$f":"IFERROR(INDEX(اقساط!$B$3:$B$8532,SMALL(IF(اقساط!$G$3:$G$8532=B1099,ROW($B$3:$B$8532)-ROW($B$3)+1),ROWS($C$3:C1099))),\"\")","v":0}]
[{"$f":"IFERROR(INDEX(اقساط!$AT$3:$AT$8532,SMALL(IF(اقساط!$G$3:$G$8532=B1100,ROW($AT$3:$AT$8532)-ROW($AT$3)+1),ROWS($A$3:A1100))),\"\")","v":0},null,{"$f":"IFERROR(INDEX(اقساط!$B$3:$B$8532,SMALL(IF(اقساط!$G$3:$G$8532=B1100,ROW($B$3:$B$8532)-ROW($B$3)+1),ROWS($C$3:C1100))),\"\")","v":0}]
[{"$f":"IFERROR(INDEX(اقساط!$AT$3:$AT$8532,SMALL(IF(اقساط!$G$3:$G$8532=B1101,ROW($AT$3:$AT$8532)-ROW($AT$3)+1),ROWS($A$3:A1101))),\"\")","v":0},null,{"$f":"IFERROR(INDEX(اقساط!$B$3:$B$8532,SMALL(IF(اقساط!$G$3:$G$8532=B1101,ROW($B$3:$B$8532)-ROW($B$3)+1),ROWS($C$3:C1101))),\"\")","v":0}]
[{"$f":"IFERROR(INDEX(اقساط!$AT$3:$AT$8532,SMALL(IF(اقساط!$G$3:$G$8532=B1102,ROW($AT$3:$AT$8532)-ROW($AT$3)+1),ROWS($A$3:A1102))),\"\")","v":0},null,{"$f":"IFERROR(INDEX(اقساط!$B$3:$B$8532,SMALL(IF(اقساط!$G$3:$G$8532=B1102,ROW($B$3:$B$8532)-ROW($B$3)+1),ROWS($C$3:C1102))),\"\")","v":0}]
[{"$f":"IFERROR(INDEX(اقساط!$AT$3:$AT$8532,SMALL(IF(اقساط!$G$3:$G$8532=B1103,ROW($AT$3:$AT$8532)-ROW($AT$3)+1),ROWS($A$3:A1103))),\"\")","v":0},null,{"$f":"IFERROR(INDEX(اقساط!$B$3:$B$8532,SMALL(IF(اقساط!$G$3:$G$8532=B1103,ROW($B$3:$B$8532)-ROW($B$3)+1),ROWS($C$3:C1103))),\"\")","v":0}]
[{"$f":"IFERROR(INDEX(اقساط!$AT$3:$AT$8532,SMALL(IF(اقساط!$G$3:$G$8532=B1104,ROW($AT$3:$AT$8532)-ROW($AT$3)+1),ROWS($A$3:A1104))),\"\")","v":0},null,{"$f":"IFERROR(INDEX(اقساط!$B$3:$B$8532,SMALL(IF(اقساط!$G$3:$G$8532=B1104,ROW($B$3:$B$8532)-ROW($B$3)+1),ROWS($C$3:C1104))),\"\")","v":0}]
[{"$f":"IFERROR(INDEX(اقساط!$AT$3:$AT$8532,SMALL(IF(اقساط!$G$3:$G$8532=B1105,ROW($AT$3:$AT$8532)-ROW($AT$3)+1),ROWS($A$3:A1105))),\"\")","v":0},null,{"$f":"IFERROR(INDEX(اقساط!$B$3:$B$8532,SMALL(IF(اقساط!$G$3:$G$8532=B1105,ROW($B$3:$B$8532)-ROW($B$3)+1),ROWS($C$3:C1105))),\"\")","v":0}]
[{"$f":"IFERROR(INDEX(اقساط!$AT$3:$AT$8532,SMALL(IF(اقساط!$G$3:$G$8532=B1106,ROW($AT$3:$AT$8532)-ROW($AT$3)+1),ROWS($A$3:A1106))),\"\")","v":0},null,{"$f":"IFERROR(INDEX(اقساط!$B$3:$B$8532,SMALL(IF(اقساط!$G$3:$G$8532=B1106,ROW($B$3:$B$8532)-ROW($B$3)+1),ROWS($C$3:C1106))),\"\")","v":0}]
[{"$f":"IFERROR(INDEX(اقساط!$AT$3:$AT$8532,SMALL(IF(اقساط!$G$3:$G$8532=B1107,ROW($AT$3:$AT$8532)-ROW($AT$3)+1),ROWS($A$3:A1107))),\"\")","v":0},null,{"$f":"IFERROR(INDEX(اقساط!$B$3:$B$8532,SMALL(IF(اقساط!$G$3:$G$8532=B1107,ROW($B$3:$B$8532)-ROW($B$3)+1),ROWS($C$3:C1107))),\"\")","v":0}]
[{"$f":"IFERROR(INDEX(اقساط!$AT$3:$AT$8532,SMALL(IF(اقساط!$G$3:$G$8532=B1108,ROW($AT$3:$AT$8532)-ROW($AT$3)+1),ROWS($A$3:A1108))),\"\")","v":0},null,{"$f":"IFERROR(INDEX(اقساط!$B$3:$B$8532,SMALL(IF(اقساط!$G$3:$G$8532=B1108,ROW($B$3:$B$8532)-ROW($B$3)+1),ROWS($C$3:C1108))),\"\")","v":0}]
[{"$f":"IFERROR(INDEX(اقساط!$AT$3:$AT$8532,SMALL(IF(اقساط!$G$3:$G$8532=B1109,ROW($AT$3:$AT$8532)-ROW($AT$3)+1),ROWS($A$3:A1109))),\"\")","v":0},null,{"$f":"IFERROR(INDEX(اقساط!$B$3:$B$8532,SMALL(IF(اقساط!$G$3:$G$8532=B1109,ROW($B$3:$B$8532)-ROW($B$3)+1),ROWS($C$3:C1109))),\"\")","v":0}]
[{"$f":"IFERROR(INDEX(اقساط!$AT$3:$AT$8532,SMALL(IF(اقساط!$G$3:$G$8532=B1110,ROW($AT$3:$AT$8532)-ROW($AT$3)+1),ROWS($A$3:A1110))),\"\")","v":0},null,{"$f":"IFERROR(INDEX(اقساط!$B$3:$B$8532,SMALL(IF(اقساط!$G$3:$G$8532=B1110,ROW($B$3:$B$8532)-ROW($B$3)+1),ROWS($C$3:C1110))),\"\")","v":0}]
[{"$f":"IFERROR(INDEX(اقساط!$AT$3:$AT$8532,SMALL(IF(اقساط!$G$3:$G$8532=B1111,ROW($AT$3:$AT$8532)-ROW($AT$3)+1),ROWS($A$3:A1111))),\"\")","v":0},null,{"$f":"IFERROR(INDEX(اقساط!$B$3:$B$8532,SMALL(IF(اقساط!$G$3:$G$8532=B1111,ROW($B$3:$B$8532)-ROW($B$3)+1),ROWS($C$3:C1111))),\"\")","v":0}]
[{"$f":"IFERROR(INDEX(اقساط!$AT$3:$AT$8532,SMALL(IF(اقساط!$G$3:$G$8532=B1112,ROW($AT$3:$AT$8532)-ROW($AT$3)+1),ROWS($A$3:A1112))),\"\")","v":0},null,{"$f":"IFERROR(INDEX(اقساط!$B$3:$B$8532,SMALL(IF(اقساط!$G$3:$G$8532=B1112,ROW($B$3:$B$8532)-ROW($B$3)+1),ROWS($C$3:C1112))),\"\")","v":0}]
[{"$f":"IFERROR(INDEX(اقساط!$AT$3:$AT$8532,SMALL(IF(اقساط!$G$3:$G$8532=B1113,ROW($AT$3:$AT$8532)-ROW($AT$3)+1),ROWS($A$3:A1113))),\"\")","v":0},null,{"$f":"IFERROR(INDEX(اقساط!$B$3:$B$8532,SMALL(IF(اقساط!$G$3:$G$8532=B1113,ROW($B$3:$B$8532)-ROW($B$3)+1),ROWS($C$3:C1113))),\"\")","v":0}]
[{"$f":"IFERROR(INDEX(اقساط!$AT$3:$AT$8532,SMALL(IF(اقساط!$G$3:$G$8532=B1114,ROW($AT$3:$AT$8532)-ROW($AT$3)+1),ROWS($A$3:A1114))),\"\")","v":0},null,{"$f":"IFERROR(INDEX(اقساط!$B$3:$B$8532,SMALL(IF(اقساط!$G$3:$G$8532=B1114,ROW($B$3:$B$8532)-ROW($B$3)+1),ROWS($C$3:C1114))),\"\")","v":0}]
[{"$f":"IFERROR(INDEX(اقساط!$AT$3:$AT$8532,SMALL(IF(اقساط!$G$3:$G$8532=B1115,ROW($AT$3:$AT$8532)-ROW($AT$3)+1),ROWS($A$3:A1115))),\"\")","v":0},null,{"$f":"IFERROR(INDEX(اقساط!$B$3:$B$8532,SMALL(IF(اقساط!$G$3:$G$8532=B1115,ROW($B$3:$B$8532)-ROW($B$3)+1),ROWS($C$3:C1115))),\"\")","v":0}]
[{"$f":"IFERROR(INDEX(اقساط!$AT$3:$AT$8532,SMALL(IF(اقساط!$G$3:$G$8532=B1116,ROW($AT$3:$AT$8532)-ROW($AT$3)+1),ROWS($A$3:A1116))),\"\")","v":0},null,{"$f":"IFERROR(INDEX(اقساط!$B$3:$B$8532,SMALL(IF(اقساط!$G$3:$G$8532=B1116,ROW($B$3:$B$8532)-ROW($B$3)+1),ROWS($C$3:C1116))),\"\")","v":0}]
[{"$f":"IFERROR(INDEX(اقساط!$AT$3:$AT$8532,SMALL(IF(اقساط!$G$3:$G$8532=B1117,ROW($AT$3:$AT$8532)-ROW($AT$3)+1),ROWS($A$3:A1117))),\"\")","v":0},null,{"$f":"IFERROR(INDEX(اقساط!$B$3:$B$8532,SMALL(IF(اقساط!$G$3:$G$8532=B1117,ROW($B$3:$B$8532)-ROW($B$3)+1),ROWS($C$3:C1117))),\"\")","v":0}]
[{"$f":"IFERROR(INDEX(اقساط!$AT$3:$AT$8532,SMALL(IF(اقساط!$G$3:$G$8532=B1118,ROW($AT$3:$AT$8532)-ROW($AT$3)+1),ROWS($A$3:A1118))),\"\")","v":0},null,{"$f":"IFERROR(INDEX(اقساط!$B$3:$B$8532,SMALL(IF(اقساط!$G$3:$G$8532=B1118,ROW($B$3:$B$8532)-ROW($B$3)+1),ROWS($C$3:C1118))),\"\")","v":0}]
[{"$f":"IFERROR(INDEX(اقساط!$AT$3:$AT$8532,SMALL(IF(اقساط!$G$3:$G$8532=B1119,ROW($AT$3:$AT$8532)-ROW($AT$3)+1),ROWS($A$3:A1119))),\"\")","v":0},null,{"$f":"IFERROR(INDEX(اقساط!$B$3:$B$8532,SMALL(IF(اقساط!$G$3:$G$8532=B1119,ROW($B$3:$B$8532)-ROW($B$3)+1),ROWS($C$3:C1119))),\"\")","v":0}]
[{"$f":"IFERROR(INDEX(اقساط!$AT$3:$AT$8532,SMALL(IF(اقساط!$G$3:$G$8532=B1120,ROW($AT$3:$AT$8532)-ROW($AT$3)+1),ROWS($A$3:A1120))),\"\")","v":0},null,{"$f":"IFERROR(INDEX(اقساط!$B$3:$B$8532,SMALL(IF(اقساط!$G$3:$G$8532=B1120,ROW($B$3:$B$8532)-ROW($B$3)+1),ROWS($C$3:C1120))),\"\")","v":0}]
[{"$f":"IFERROR(INDEX(اقساط!$AT$3:$AT$8532,SMALL(IF(اقساط!$G$3:$G$8532=B1121,ROW($AT$3:$AT$8532)-ROW($AT$3)+1),ROWS($A$3:A1121))),\"\")","v":0},null,{"$f":"IFERROR(INDEX(اقساط!$B$3:$B$8532,SMALL(IF(اقساط!$G$3:$G$8532=B1121,ROW($B$3:$B$8532)-ROW($B$3)+1),ROWS($C$3:C1121))),\"\")","v":0}]
[{"$f":"IFERROR(INDEX(اقساط!$AT$3:$AT$8532,SMALL(IF(اقساط!$G$3:$G$8532=B1122,ROW($AT$3:$AT$8532)-ROW($AT$3)+1),ROWS($A$3:A1122))),\"\")","v":0},null,{"$f":"IFERROR(INDEX(اقساط!$B$3:$B$8532,SMALL(IF(اقساط!$G$3:$G$8532=B1122,ROW($B$3:$B$8532)-ROW($B$3)+1),ROWS($C$3:C1122))),\"\")","v":0}]
[{"$f":"IFERROR(INDEX(اقساط!$AT$3:$AT$8532,SMALL(IF(اقساط!$G$3:$G$8532=B1123,ROW($AT$3:$AT$8532)-ROW($AT$3)+1),ROWS($A$3:A1123))),\"\")","v":0},null,{"$f":"IFERROR(INDEX(اقساط!$B$3:$B$8532,SMALL(IF(اقساط!$G$3:$G$8532=B1123,ROW($B$3:$B$8532)-ROW($B$3)+1),ROWS($C$3:C1123))),\"\")","v":0}]
[{"$f":"IFERROR(INDEX(اقساط!$AT$3:$AT$8532,SMALL(IF(اقساط!$G$3:$G$8532=B1124,ROW($AT$3:$AT$8532)-ROW($AT$3)+1),ROWS($A$3:A1124))),\"\")","v":0},null,{"$f":"IFERROR(INDEX(اقساط!$B$3:$B$8532,SMALL(IF(اقساط!$G$3:$G$8532=B1124,ROW($B$3:$B$8532)-ROW($B$3)+1),ROWS($C$3:C1124))),\"\")","v":0}]
[{"$f":"IFERROR(INDEX(اقساط!$AT$3:$AT$8532,SMALL(IF(اقساط!$G$3:$G$8532=B1125,ROW($AT$3:$AT$8532)-ROW($AT$3)+1),ROWS($A$3:A1125))),\"\")","v":0},null,{"$f":"IFERROR(INDEX(اقساط!$B$3:$B$8532,SMALL(IF(اقساط!$G$3:$G$8532=B1125,ROW($B$3:$B$8532)-ROW($B$3)+1),ROWS($C$3:C1125))),\"\")","v":0}]
[{"$f":"IFERROR(INDEX(اقساط!$AT$3:$AT$8532,SMALL(IF(اقساط!$G$3:$G$8532=B1126,ROW($AT$3:$AT$8532)-ROW($AT$3)+1),ROWS($A$3:A1126))),\"\")","v":0},null,{"$f":"IFERROR(INDEX(اقساط!$B$3:$B$8532,SMALL(IF(اقساط!$G$3:$G$8532=B1126,ROW($B$3:$B$8532)-ROW($B$3)+1),ROWS($C$3:C1126))),\"\")","v":0}]
[{"$f":"IFERROR(INDEX(اقساط!$AT$3:$AT$8532,SMALL(IF(اقساط!$G$3:$G$8532=B1127,ROW($AT$3:$AT$8532)-ROW($AT$3)+1),ROWS($A$3:A1127))),\"\")","v":0},null,{"$f":"IFERROR(INDEX(اقساط!$B$3:$B$8532,SMALL(IF(اقساط!$G$3:$G$8532=B1127,ROW($B$3:$B$8532)-ROW($B$3)+1),ROWS($C$3:C1127))),\"\")","v":0}]
[{"$f":"IFERROR(INDEX(اقساط!$AT$3:$AT$8532,SMALL(IF(اقساط!$G$3:$G$8532=B1128,ROW($AT$3:$AT$8532)-ROW($AT$3)+1),ROWS($A$3:A1128))),\"\")","v":0},null,{"$f":"IFERROR(INDEX(اقساط!$B$3:$B$8532,SMALL(IF(اقساط!$G$3:$G$8532=B1128,ROW($B$3:$B$8532)-ROW($B$3)+1),ROWS($C$3:C1128))),\"\")","v":0}]
[{"$f":"IFERROR(INDEX(اقساط!$AT$3:$AT$8532,SMALL(IF(اقساط!$G$3:$G$8532=B1129,ROW($AT$3:$AT$8532)-ROW($AT$3)+1),ROWS($A$3:A1129))),\"\")","v":0},null,{"$f":"IFERROR(INDEX(اقساط!$B$3:$B$8532,SMALL(IF(اقساط!$G$3:$G$8532=B1129,ROW($B$3:$B$8532)-ROW($B$3)+1),ROWS($C$3:C1129))),\"\")","v":0}]
[{"$f":"IFERROR(INDEX(اقساط!$AT$3:$AT$8532,SMALL(IF(اقساط!$G$3:$G$8532=B1130,ROW($AT$3:$AT$8532)-ROW($AT$3)+1),ROWS($A$3:A1130))),\"\")","v":0},null,{"$f":"IFERROR(INDEX(اقساط!$B$3:$B$8532,SMALL(IF(اقساط!$G$3:$G$8532=B1130,ROW($B$3:$B$8532)-ROW($B$3)+1),ROWS($C$3:C1130))),\"\")","v":0}]
[{"$f":"IFERROR(INDEX(اقساط!$AT$3:$AT$8532,SMALL(IF(اقساط!$G$3:$G$8532=B1131,ROW($AT$3:$AT$8532)-ROW($AT$3)+1),ROWS($A$3:A1131))),\"\")","v":0},null,{"$f":"IFERROR(INDEX(اقساط!$B$3:$B$8532,SMALL(IF(اقساط!$G$3:$G$8532=B1131,ROW($B$3:$B$8532)-ROW($B$3)+1),ROWS($C$3:C1131))),\"\")","v":0}]
[{"$f":"IFERROR(INDEX(اقساط!$AT$3:$AT$8532,SMALL(IF(اقساط!$G$3:$G$8532=B1132,ROW($AT$3:$AT$8532)-ROW($AT$3)+1),ROWS($A$3:A1132))),\"\")","v":0},null,{"$f":"IFERROR(INDEX(اقساط!$B$3:$B$8532,SMALL(IF(اقساط!$G$3:$G$8532=B1132,ROW($B$3:$B$8532)-ROW($B$3)+1),ROWS($C$3:C1132))),\"\")","v":0}]
[{"$f":"IFERROR(INDEX(اقساط!$AT$3:$AT$8532,SMALL(IF(اقساط!$G$3:$G$8532=B1133,ROW($AT$3:$AT$8532)-ROW($AT$3)+1),ROWS($A$3:A1133))),\"\")","v":0},null,{"$f":"IFERROR(INDEX(اقساط!$B$3:$B$8532,SMALL(IF(اقساط!$G$3:$G$8532=B1133,ROW($B$3:$B$8532)-ROW($B$3)+1),ROWS($C$3:C1133))),\"\")","v":0}]
[{"$f":"IFERROR(INDEX(اقساط!$AT$3:$AT$8532,SMALL(IF(اقساط!$G$3:$G$8532=B1134,ROW($AT$3:$AT$8532)-ROW($AT$3)+1),ROWS($A$3:A1134))),\"\")","v":0},null,{"$f":"IFERROR(INDEX(اقساط!$B$3:$B$8532,SMALL(IF(اقساط!$G$3:$G$8532=B1134,ROW($B$3:$B$8532)-ROW($B$3)+1),ROWS($C$3:C1134))),\"\")","v":0}]
[{"$f":"IFERROR(INDEX(اقساط!$AT$3:$AT$8532,SMALL(IF(اقساط!$G$3:$G$8532=B1135,ROW($AT$3:$AT$8532)-ROW($AT$3)+1),ROWS($A$3:A1135))),\"\")","v":0},null,{"$f":"IFERROR(INDEX(اقساط!$B$3:$B$8532,SMALL(IF(اقساط!$G$3:$G$8532=B1135,ROW($B$3:$B$8532)-ROW($B$3)+1),ROWS($C$3:C1135))),\"\")","v":0}]
[{"$f":"IFERROR(INDEX(اقساط!$AT$3:$AT$8532,SMALL(IF(اقساط!$G$3:$G$8532=B1136,ROW($AT$3:$AT$8532)-ROW($AT$3)+1),ROWS($A$3:A1136))),\"\")","v":0},null,{"$f":"IFERROR(INDEX(اقساط!$B$3:$B$8532,SMALL(IF(اقساط!$G$3:$G$8532=B1136,ROW($B$3:$B$8532)-ROW($B$3)+1),ROWS($C$3:C1136))),\"\")","v":0}]
[{"$f":"IFERROR(INDEX(اقساط!$AT$3:$AT$8532,SMALL(IF(اقساط!$G$3:$G$8532=B1137,ROW($AT$3:$AT$8532)-ROW($AT$3)+1),ROWS($A$3:A1137))),\"\")","v":0},null,{"$f":"IFERROR(INDEX(اقساط!$B$3:$B$8532,SMALL(IF(اقساط!$G$3:$G$8532=B1137,ROW($B$3:$B$8532)-ROW($B$3)+1),ROWS($C$3:C1137))),\"\")","v":0}]
[{"$f":"IFERROR(INDEX(اقساط!$AT$3:$AT$8532,SMALL(IF(اقساط!$G$3:$G$8532=B1138,ROW($AT$3:$AT$8532)-ROW($AT$3)+1),ROWS($A$3:A1138))),\"\")","v":0},null,{"$f":"IFERROR(INDEX(اقساط!$B$3:$B$8532,SMALL(IF(اقساط!$G$3:$G$8532=B1138,ROW($B$3:$B$8532)-ROW($B$3)+1),ROWS($C$3:C1138))),\"\")","v":0}]
[{"$f":"IFERROR(INDEX(اقساط!$AT$3:$AT$8532,SMALL(IF(اقساط!$G$3:$G$8532=B1139,ROW($AT$3:$AT$8532)-ROW($AT$3)+1),ROWS($A$3:A1139))),\"\")","v":0},null,{"$f":"IFERROR(INDEX(اقساط!$B$3:$B$8532,SMALL(IF(اقساط!$G$3:$G$8532=B1139,ROW($B$3:$B$8532)-ROW($B$3)+1),ROWS($C$3:C1139))),\"\")","v":0}]
[{"$f":"IFERROR(INDEX(اقساط!$AT$3:$AT$8532,SMALL(IF(اقساط!$G$3:$G$8532=B1140,ROW($AT$3:$AT$8532)-ROW($AT$3)+1),ROWS($A$3:A1140))),\"\")","v":0},null,{"$f":"IFERROR(INDEX(اقساط!$B$3:$B$8532,SMALL(IF(اقساط!$G$3:$G$8532=B1140,ROW($B$3:$B$8532)-ROW($B$3)+1),ROWS($C$3:C1140))),\"\")","v":0}]
[{"$f":"IFERROR(INDEX(اقساط!$AT$3:$AT$8532,SMALL(IF(اقساط!$G$3:$G$8532=B1141,ROW($AT$3:$AT$8532)-ROW($AT$3)+1),ROWS($A$3:A1141))),\"\")","v":0},null,{"$f":"IFERROR(INDEX(اقساط!$B$3:$B$8532,SMALL(IF(اقساط!$G$3:$G$8532=B1141,ROW($B$3:$B$8532)-ROW($B$3)+1),ROWS($C$3:C1141))),\"\")","v":0}]
[{"$f":"IFERROR(INDEX(اقساط!$AT$3:$AT$8532,SMALL(IF(اقساط!$G$3:$G$8532=B1142,ROW($AT$3:$AT$8532)-ROW($AT$3)+1),ROWS($A$3:A1142))),\"\")","v":0},null,{"$f":"IFERROR(INDEX(اقساط!$B$3:$B$8532,SMALL(IF(اقساط!$G$3:$G$8532=B1142,ROW($B$3:$B$8532)-ROW($B$3)+1),ROWS($C$3:C1142))),\"\")","v":0}]
[{"$f":"IFERROR(INDEX(اقساط!$AT$3:$AT$8532,SMALL(IF(اقساط!$G$3:$G$8532=B1143,ROW($AT$3:$AT$8532)-ROW($AT$3)+1),ROWS($A$3:A1143))),\"\")","v":0},null,{"$f":"IFERROR(INDEX(اقساط!$B$3:$B$8532,SMALL(IF(اقساط!$G$3:$G$8532=B1143,ROW($B$3:$B$8532)-ROW($B$3)+1),ROWS($C$3:C1143))),\"\")","v":0}]
[{"$f":"IFERROR(INDEX(اقساط!$AT$3:$AT$8532,SMALL(IF(اقساط!$G$3:$G$8532=B1144,ROW($AT$3:$AT$8532)-ROW($AT$3)+1),ROWS($A$3:A1144))),\"\")","v":0},null,{"$f":"IFERROR(INDEX(اقساط!$B$3:$B$8532,SMALL(IF(اقساط!$G$3:$G$8532=B1144,ROW($B$3:$B$8532)-ROW($B$3)+1),ROWS($C$3:C1144))),\"\")","v":0}]
[{"$f":"IFERROR(INDEX(اقساط!$AT$3:$AT$8532,SMALL(IF(اقساط!$G$3:$G$8532=B1145,ROW($AT$3:$AT$8532)-ROW($AT$3)+1),ROWS($A$3:A1145))),\"\")","v":0},null,{"$f":"IFERROR(INDEX(اقساط!$B$3:$B$8532,SMALL(IF(اقساط!$G$3:$G$8532=B1145,ROW($B$3:$B$8532)-ROW($B$3)+1),ROWS($C$3:C1145))),\"\")","v":0}]
[{"$f":"IFERROR(INDEX(اقساط!$AT$3:$AT$8532,SMALL(IF(اقساط!$G$3:$G$8532=B1146,ROW($AT$3:$AT$8532)-ROW($AT$3)+1),ROWS($A$3:A1146))),\"\")","v":0},null,{"$f":"IFERROR(INDEX(اقساط!$B$3:$B$8532,SMALL(IF(اقساط!$G$3:$G$8532=B1146,ROW($B$3:$B$8532)-ROW($B$3)+1),ROWS($C$3:C1146))),\"\")","v":0}]
[{"$f":"IFERROR(INDEX(اقساط!$AT$3:$AT$8532,SMALL(IF(اقساط!$G$3:$G$8532=B1147,ROW($AT$3:$AT$8532)-ROW($AT$3)+1),ROWS($A$3:A1147))),\"\")","v":0},null,{"$f":"IFERROR(INDEX(اقساط!$B$3:$B$8532,SMALL(IF(اقساط!$G$3:$G$8532=B1147,ROW($B$3:$B$8532)-ROW($B$3)+1),ROWS($C$3:C1147))),\"\")","v":0}]
[{"$f":"IFERROR(INDEX(اقساط!$AT$3:$AT$8532,SMALL(IF(اقساط!$G$3:$G$8532=B1148,ROW($AT$3:$AT$8532)-ROW($AT$3)+1),ROWS($A$3:A1148))),\"\")","v":0},null,{"$f":"IFERROR(INDEX(اقساط!$B$3:$B$8532,SMALL(IF(اقساط!$G$3:$G$8532=B1148,ROW($B$3:$B$8532)-ROW($B$3)+1),ROWS($C$3:C1148))),\"\")","v":0}]
[{"$f":"IFERROR(INDEX(اقساط!$AT$3:$AT$8532,SMALL(IF(اقساط!$G$3:$G$8532=B1149,ROW($AT$3:$AT$8532)-ROW($AT$3)+1),ROWS($A$3:A1149))),\"\")","v":0},null,{"$f":"IFERROR(INDEX(اقساط!$B$3:$B$8532,SMALL(IF(اقساط!$G$3:$G$8532=B1149,ROW($B$3:$B$8532)-ROW($B$3)+1),ROWS($C$3:C1149))),\"\")","v":0}]
[{"$f":"IFERROR(INDEX(اقساط!$AT$3:$AT$8532,SMALL(IF(اقساط!$G$3:$G$8532=B1150,ROW($AT$3:$AT$8532)-ROW($AT$3)+1),ROWS($A$3:A1150))),\"\")","v":0},null,{"$f":"IFERROR(INDEX(اقساط!$B$3:$B$8532,SMALL(IF(اقساط!$G$3:$G$8532=B1150,ROW($B$3:$B$8532)-ROW($B$3)+1),ROWS($C$3:C1150))),\"\")","v":0}]
[{"$f":"IFERROR(INDEX(اقساط!$AT$3:$AT$8532,SMALL(IF(اقساط!$G$3:$G$8532=B1151,ROW($AT$3:$AT$8532)-ROW($AT$3)+1),ROWS($A$3:A1151))),\"\")","v":0},null,{"$f":"IFERROR(INDEX(اقساط!$B$3:$B$8532,SMALL(IF(اقساط!$G$3:$G$8532=B1151,ROW($B$3:$B$8532)-ROW($B$3)+1),ROWS($C$3:C1151))),\"\")","v":0}]
[{"$f":"IFERROR(INDEX(اقساط!$AT$3:$AT$8532,SMALL(IF(اقساط!$G$3:$G$8532=B1152,ROW($AT$3:$AT$8532)-ROW($AT$3)+1),ROWS($A$3:A1152))),\"\")","v":0},null,{"$f":"IFERROR(INDEX(اقساط!$B$3:$B$8532,SMALL(IF(اقساط!$G$3:$G$8532=B1152,ROW($B$3:$B$8532)-ROW($B$3)+1),ROWS($C$3:C1152))),\"\")","v":0}]
[{"$f":"IFERROR(INDEX(اقساط!$AT$3:$AT$8532,SMALL(IF(اقساط!$G$3:$G$8532=B1153,ROW($AT$3:$AT$8532)-ROW($AT$3)+1),ROWS($A$3:A1153))),\"\")","v":0},null,{"$f":"IFERROR(INDEX(اقساط!$B$3:$B$8532,SMALL(IF(اقساط!$G$3:$G$8532=B1153,ROW($B$3:$B$8532)-ROW($B$3)+1),ROWS($C$3:C1153))),\"\")","v":0}]
[{"$f":"IFERROR(INDEX(اقساط!$AT$3:$AT$8532,SMALL(IF(اقساط!$G$3:$G$8532=B1154,ROW($AT$3:$AT$8532)-ROW($AT$3)+1),ROWS($A$3:A1154))),\"\")","v":0},null,{"$f":"IFERROR(INDEX(اقساط!$B$3:$B$8532,SMALL(IF(اقساط!$G$3:$G$8532=B1154,ROW($B$3:$B$8532)-ROW($B$3)+1),ROWS($C$3:C1154))),\"\")","v":0}]
[{"$f":"IFERROR(INDEX(اقساط!$AT$3:$AT$8532,SMALL(IF(اقساط!$G$3:$G$8532=B1155,ROW($AT$3:$AT$8532)-ROW($AT$3)+1),ROWS($A$3:A1155))),\"\")","v":0},null,{"$f":"IFERROR(INDEX(اقساط!$B$3:$B$8532,SMALL(IF(اقساط!$G$3:$G$8532=B1155,ROW($B$3:$B$8532)-ROW($B$3)+1),ROWS($C$3:C1155))),\"\")","v":0}]
[{"$f":"IFERROR(INDEX(اقساط!$AT$3:$AT$8532,SMALL(IF(اقساط!$G$3:$G$8532=B1156,ROW($AT$3:$AT$8532)-ROW($AT$3)+1),ROWS($A$3:A1156))),\"\")","v":0},null,{"$f":"IFERROR(INDEX(اقساط!$B$3:$B$8532,SMALL(IF(اقساط!$G$3:$G$8532=B1156,ROW($B$3:$B$8532)-ROW($B$3)+1),ROWS($C$3:C1156))),\"\")","v":0}]
[{"$f":"IFERROR(INDEX(اقساط!$AT$3:$AT$8532,SMALL(IF(اقساط!$G$3:$G$8532=B1157,ROW($AT$3:$AT$8532)-ROW($AT$3)+1),ROWS($A$3:A1157))),\"\")","v":0},null,{"$f":"IFERROR(INDEX(اقساط!$B$3:$B$8532,SMALL(IF(اقساط!$G$3:$G$8532=B1157,ROW($B$3:$B$8532)-ROW($B$3)+1),ROWS($C$3:C1157))),\"\")","v":0}]
[{"$f":"IFERROR(INDEX(اقساط!$AT$3:$AT$8532,SMALL(IF(اقساط!$G$3:$G$8532=B1158,ROW($AT$3:$AT$8532)-ROW($AT$3)+1),ROWS($A$3:A1158))),\"\")","v":0},null,{"$f":"IFERROR(INDEX(اقساط!$B$3:$B$8532,SMALL(IF(اقساط!$G$3:$G$8532=B1158,ROW($B$3:$B$8532)-ROW($B$3)+1),ROWS($C$3:C1158))),\"\")","v":0}]
[{"$f":"IFERROR(INDEX(اقساط!$AT$3:$AT$8532,SMALL(IF(اقساط!$G$3:$G$8532=B1159,ROW($AT$3:$AT$8532)-ROW($AT$3)+1),ROWS($A$3:A1159))),\"\")","v":0},null,{"$f":"IFERROR(INDEX(اقساط!$B$3:$B$8532,SMALL(IF(اقساط!$G$3:$G$8532=B1159,ROW($B$3:$B$8532)-ROW($B$3)+1),ROWS($C$3:C1159))),\"\")","v":0}]
[{"$f":"IFERROR(INDEX(اقساط!$AT$3:$AT$8532,SMALL(IF(اقساط!$G$3:$G$8532=B1160,ROW($AT$3:$AT$8532)-ROW($AT$3)+1),ROWS($A$3:A1160))),\"\")","v":0},null,{"$f":"IFERROR(INDEX(اقساط!$B$3:$B$8532,SMALL(IF(اقساط!$G$3:$G$8532=B1160,ROW($B$3:$B$8532)-ROW($B$3)+1),ROWS($C$3:C1160))),\"\")","v":0}]
[{"$f":"IFERROR(INDEX(اقساط!$AT$3:$AT$8532,SMALL(IF(اقساط!$G$3:$G$8532=B1161,ROW($AT$3:$AT$8532)-ROW($AT$3)+1),ROWS($A$3:A1161))),\"\")","v":0},null,{"$f":"IFERROR(INDEX(اقساط!$B$3:$B$8532,SMALL(IF(اقساط!$G$3:$G$8532=B1161,ROW($B$3:$B$8532)-ROW($B$3)+1),ROWS($C$3:C1161))),\"\")","v":0}]
[{"$f":"IFERROR(INDEX(اقساط!$AT$3:$AT$8532,SMALL(IF(اقساط!$G$3:$G$8532=B1162,ROW($AT$3:$AT$8532)-ROW($AT$3)+1),ROWS($A$3:A1162))),\"\")","v":0},null,{"$f":"IFERROR(INDEX(اقساط!$B$3:$B$8532,SMALL(IF(اقساط!$G$3:$G$8532=B1162,ROW($B$3:$B$8532)-ROW($B$3)+1),ROWS($C$3:C1162))),\"\")","v":0}]
[{"$f":"IFERROR(INDEX(اقساط!$AT$3:$AT$8532,SMALL(IF(اقساط!$G$3:$G$8532=B1163,ROW($AT$3:$AT$8532)-ROW($AT$3)+1),ROWS($A$3:A1163))),\"\")","v":0},null,{"$f":"IFERROR(INDEX(اقساط!$B$3:$B$8532,SMALL(IF(اقساط!$G$3:$G$8532=B1163,ROW($B$3:$B$8532)-ROW($B$3)+1),ROWS($C$3:C1163))),\"\")","v":0}]
[{"$f":"IFERROR(INDEX(اقساط!$AT$3:$AT$8532,SMALL(IF(اقساط!$G$3:$G$8532=B1164,ROW($AT$3:$AT$8532)-ROW($AT$3)+1),ROWS($A$3:A1164))),\"\")","v":0},null,{"$f":"IFERROR(INDEX(اقساط!$B$3:$B$8532,SMALL(IF(اقساط!$G$3:$G$8532=B1164,ROW($B$3:$B$8532)-ROW($B$3)+1),ROWS($C$3:C1164))),\"\")","v":0}]
[{"$f":"IFERROR(INDEX(اقساط!$AT$3:$AT$8532,SMALL(IF(اقساط!$G$3:$G$8532=B1165,ROW($AT$3:$AT$8532)-ROW($AT$3)+1),ROWS($A$3:A1165))),\"\")","v":0},null,{"$f":"IFERROR(INDEX(اقساط!$B$3:$B$8532,SMALL(IF(اقساط!$G$3:$G$8532=B1165,ROW($B$3:$B$8532)-ROW($B$3)+1),ROWS($C$3:C1165))),\"\")","v":0}]
[{"$f":"IFERROR(INDEX(اقساط!$AT$3:$AT$8532,SMALL(IF(اقساط!$G$3:$G$8532=B1166,ROW($AT$3:$AT$8532)-ROW($AT$3)+1),ROWS($A$3:A1166))),\"\")","v":0},null,{"$f":"IFERROR(INDEX(اقساط!$B$3:$B$8532,SMALL(IF(اقساط!$G$3:$G$8532=B1166,ROW($B$3:$B$8532)-ROW($B$3)+1),ROWS($C$3:C1166))),\"\")","v":0}]
[{"$f":"IFERROR(INDEX(اقساط!$AT$3:$AT$8532,SMALL(IF(اقساط!$G$3:$G$8532=B1167,ROW($AT$3:$AT$8532)-ROW($AT$3)+1),ROWS($A$3:A1167))),\"\")","v":0},null,{"$f":"IFERROR(INDEX(اقساط!$B$3:$B$8532,SMALL(IF(اقساط!$G$3:$G$8532=B1167,ROW($B$3:$B$8532)-ROW($B$3)+1),ROWS($C$3:C1167))),\"\")","v":0}]
[{"$f":"IFERROR(INDEX(اقساط!$AT$3:$AT$8532,SMALL(IF(اقساط!$G$3:$G$8532=B1168,ROW($AT$3:$AT$8532)-ROW($AT$3)+1),ROWS($A$3:A1168))),\"\")","v":0},null,{"$f":"IFERROR(INDEX(اقساط!$B$3:$B$8532,SMALL(IF(اقساط!$G$3:$G$8532=B1168,ROW($B$3:$B$8532)-ROW($B$3)+1),ROWS($C$3:C1168))),\"\")","v":0}]
[{"$f":"IFERROR(INDEX(اقساط!$AT$3:$AT$8532,SMALL(IF(اقساط!$G$3:$G$8532=B1169,ROW($AT$3:$AT$8532)-ROW($AT$3)+1),ROWS($A$3:A1169))),\"\")","v":0},null,{"$f":"IFERROR(INDEX(اقساط!$B$3:$B$8532,SMALL(IF(اقساط!$G$3:$G$8532=B1169,ROW($B$3:$B$8532)-ROW($B$3)+1),ROWS($C$3:C1169))),\"\")","v":0}]
[{"$f":"IFERROR(INDEX(اقساط!$AT$3:$AT$8532,SMALL(IF(اقساط!$G$3:$G$8532=B1170,ROW($AT$3:$AT$8532)-ROW($AT$3)+1),ROWS($A$3:A1170))),\"\")","v":0},null,{"$f":"IFERROR(INDEX(اقساط!$B$3:$B$8532,SMALL(IF(اقساط!$G$3:$G$8532=B1170,ROW($B$3:$B$8532)-ROW($B$3)+1),ROWS($C$3:C1170))),\"\")","v":0}]
[{"$f":"IFERROR(INDEX(اقساط!$AT$3:$AT$8532,SMALL(IF(اقساط!$G$3:$G$8532=B1171,ROW($AT$3:$AT$8532)-ROW($AT$3)+1),ROWS($A$3:A1171))),\"\")","v":0},null,{"$f":"IFERROR(INDEX(اقساط!$B$3:$B$8532,SMALL(IF(اقساط!$G$3:$G$8532=B1171,ROW($B$3:$B$8532)-ROW($B$3)+1),ROWS($C$3:C1171))),\"\")","v":0}]
[{"$f":"IFERROR(INDEX(اقساط!$AT$3:$AT$8532,SMALL(IF(اقساط!$G$3:$G$8532=B1172,ROW($AT$3:$AT$8532)-ROW($AT$3)+1),ROWS($A$3:A1172))),\"\")","v":0},null,{"$f":"IFERROR(INDEX(اقساط!$B$3:$B$8532,SMALL(IF(اقساط!$G$3:$G$8532=B1172,ROW($B$3:$B$8532)-ROW($B$3)+1),ROWS($C$3:C1172))),\"\")","v":0}]
[{"$f":"IFERROR(INDEX(اقساط!$AT$3:$AT$8532,SMALL(IF(اقساط!$G$3:$G$8532=B1173,ROW($AT$3:$AT$8532)-ROW($AT$3)+1),ROWS($A$3:A1173))),\"\")","v":0},null,{"$f":"IFERROR(INDEX(اقساط!$B$3:$B$8532,SMALL(IF(اقساط!$G$3:$G$8532=B1173,ROW($B$3:$B$8532)-ROW($B$3)+1),ROWS($C$3:C1173))),\"\")","v":0}]
[{"$f":"IFERROR(INDEX(اقساط!$AT$3:$AT$8532,SMALL(IF(اقساط!$G$3:$G$8532=B1174,ROW($AT$3:$AT$8532)-ROW($AT$3)+1),ROWS($A$3:A1174))),\"\")","v":0},null,{"$f":"IFERROR(INDEX(اقساط!$B$3:$B$8532,SMALL(IF(اقساط!$G$3:$G$8532=B1174,ROW($B$3:$B$8532)-ROW($B$3)+1),ROWS($C$3:C1174))),\"\")","v":0}]
[{"$f":"IFERROR(INDEX(اقساط!$AT$3:$AT$8532,SMALL(IF(اقساط!$G$3:$G$8532=B1175,ROW($AT$3:$AT$8532)-ROW($AT$3)+1),ROWS($A$3:A1175))),\"\")","v":0},null,{"$f":"IFERROR(INDEX(اقساط!$B$3:$B$8532,SMALL(IF(اقساط!$G$3:$G$8532=B1175,ROW($B$3:$B$8532)-ROW($B$3)+1),ROWS($C$3:C1175))),\"\")","v":0}]
[{"$f":"IFERROR(INDEX(اقساط!$AT$3:$AT$8532,SMALL(IF(اقساط!$G$3:$G$8532=B1176,ROW($AT$3:$AT$8532)-ROW($AT$3)+1),ROWS($A$3:A1176))),\"\")","v":0},null,{"$f":"IFERROR(INDEX(اقساط!$B$3:$B$8532,SMALL(IF(اقساط!$G$3:$G$8532=B1176,ROW($B$3:$B$8532)-ROW($B$3)+1),ROWS($C$3:C1176))),\"\")","v":0}]
[{"$f":"IFERROR(INDEX(اقساط!$AT$3:$AT$8532,SMALL(IF(اقساط!$G$3:$G$8532=B1177,ROW($AT$3:$AT$8532)-ROW($AT$3)+1),ROWS($A$3:A1177))),\"\")","v":0},null,{"$f":"IFERROR(INDEX(اقساط!$B$3:$B$8532,SMALL(IF(اقساط!$G$3:$G$8532=B1177,ROW($B$3:$B$8532)-ROW($B$3)+1),ROWS($C$3:C1177))),\"\")","v":0}]
[{"$f":"IFERROR(INDEX(اقساط!$AT$3:$AT$8532,SMALL(IF(اقساط!$G$3:$G$8532=B1178,ROW($AT$3:$AT$8532)-ROW($AT$3)+1),ROWS($A$3:A1178))),\"\")","v":0},null,{"$f":"IFERROR(INDEX(اقساط!$B$3:$B$8532,SMALL(IF(اقساط!$G$3:$G$8532=B1178,ROW($B$3:$B$8532)-ROW($B$3)+1),ROWS($C$3:C1178))),\"\")","v":0}]
[{"$f":"IFERROR(INDEX(اقساط!$AT$3:$AT$8532,SMALL(IF(اقساط!$G$3:$G$8532=B1179,ROW($AT$3:$AT$8532)-ROW($AT$3)+1),ROWS($A$3:A1179))),\"\")","v":0},null,{"$f":"IFERROR(INDEX(اقساط!$B$3:$B$8532,SMALL(IF(اقساط!$G$3:$G$8532=B1179,ROW($B$3:$B$8532)-ROW($B$3)+1),ROWS($C$3:C1179))),\"\")","v":0}]
[{"$f":"IFERROR(INDEX(اقساط!$AT$3:$AT$8532,SMALL(IF(اقساط!$G$3:$G$8532=B1180,ROW($AT$3:$AT$8532)-ROW($AT$3)+1),ROWS($A$3:A1180))),\"\")","v":0},null,{"$f":"IFERROR(INDEX(اقساط!$B$3:$B$8532,SMALL(IF(اقساط!$G$3:$G$8532=B1180,ROW($B$3:$B$8532)-ROW($B$3)+1),ROWS($C$3:C1180))),\"\")","v":0}]
[{"$f":"IFERROR(INDEX(اقساط!$AT$3:$AT$8532,SMALL(IF(اقساط!$G$3:$G$8532=B1181,ROW($AT$3:$AT$8532)-ROW($AT$3)+1),ROWS($A$3:A1181))),\"\")","v":0},null,{"$f":"IFERROR(INDEX(اقساط!$B$3:$B$8532,SMALL(IF(اقساط!$G$3:$G$8532=B1181,ROW($B$3:$B$8532)-ROW($B$3)+1),ROWS($C$3:C1181))),\"\")","v":0}]
[{"$f":"IFERROR(INDEX(اقساط!$AT$3:$AT$8532,SMALL(IF(اقساط!$G$3:$G$8532=B1182,ROW($AT$3:$AT$8532)-ROW($AT$3)+1),ROWS($A$3:A1182))),\"\")","v":0},null,{"$f":"IFERROR(INDEX(اقساط!$B$3:$B$8532,SMALL(IF(اقساط!$G$3:$G$8532=B1182,ROW($B$3:$B$8532)-ROW($B$3)+1),ROWS($C$3:C1182))),\"\")","v":0}]
[{"$f":"IFERROR(INDEX(اقساط!$AT$3:$AT$8532,SMALL(IF(اقساط!$G$3:$G$8532=B1183,ROW($AT$3:$AT$8532)-ROW($AT$3)+1),ROWS($A$3:A1183))),\"\")","v":0},null,{"$f":"IFERROR(INDEX(اقساط!$B$3:$B$8532,SMALL(IF(اقساط!$G$3:$G$8532=B1183,ROW($B$3:$B$8532)-ROW($B$3)+1),ROWS($C$3:C1183))),\"\")","v":0}]
[{"$f":"IFERROR(INDEX(اقساط!$AT$3:$AT$8532,SMALL(IF(اقساط!$G$3:$G$8532=B1184,ROW($AT$3:$AT$8532)-ROW($AT$3)+1),ROWS($A$3:A1184))),\"\")","v":0},null,{"$f":"IFERROR(INDEX(اقساط!$B$3:$B$8532,SMALL(IF(اقساط!$G$3:$G$8532=B1184,ROW($B$3:$B$8532)-ROW($B$3)+1),ROWS($C$3:C1184))),\"\")","v":0}]
[{"$f":"IFERROR(INDEX(اقساط!$AT$3:$AT$8532,SMALL(IF(اقساط!$G$3:$G$8532=B1185,ROW($AT$3:$AT$8532)-ROW($AT$3)+1),ROWS($A$3:A1185))),\"\")","v":0},null,{"$f":"IFERROR(INDEX(اقساط!$B$3:$B$8532,SMALL(IF(اقساط!$G$3:$G$8532=B1185,ROW($B$3:$B$8532)-ROW($B$3)+1),ROWS($C$3:C1185))),\"\")","v":0}]
[{"$f":"IFERROR(INDEX(اقساط!$AT$3:$AT$8532,SMALL(IF(اقساط!$G$3:$G$8532=B1186,ROW($AT$3:$AT$8532)-ROW($AT$3)+1),ROWS($A$3:A1186))),\"\")","v":0},null,{"$f":"IFERROR(INDEX(اقساط!$B$3:$B$8532,SMALL(IF(اقساط!$G$3:$G$8532=B1186,ROW($B$3:$B$8532)-ROW($B$3)+1),ROWS($C$3:C1186))),\"\")","v":0}]
[{"$f":"IFERROR(INDEX(اقساط!$AT$3:$AT$8532,SMALL(IF(اقساط!$G$3:$G$8532=B1187,ROW($AT$3:$AT$8532)-ROW($AT$3)+1),ROWS($A$3:A1187))),\"\")","v":0},null,{"$f":"IFERROR(INDEX(اقساط!$B$3:$B$8532,SMALL(IF(اقساط!$G$3:$G$8532=B1187,ROW($B$3:$B$8532)-ROW($B$3)+1),ROWS($C$3:C1187))),\"\")","v":0}]
[{"$f":"IFERROR(INDEX(اقساط!$AT$3:$AT$8532,SMALL(IF(اقساط!$G$3:$G$8532=B1188,ROW($AT$3:$AT$8532)-ROW($AT$3)+1),ROWS($A$3:A1188))),\"\")","v":0},null,{"$f":"IFERROR(INDEX(اقساط!$B$3:$B$8532,SMALL(IF(اقساط!$G$3:$G$8532=B1188,ROW($B$3:$B$8532)-ROW($B$3)+1),ROWS($C$3:C1188))),\"\")","v":0}]
[{"$f":"IFERROR(INDEX(اقساط!$AT$3:$AT$8532,SMALL(IF(اقساط!$G$3:$G$8532=B1189,ROW($AT$3:$AT$8532)-ROW($AT$3)+1),ROWS($A$3:A1189))),\"\")","v":0},null,{"$f":"IFERROR(INDEX(اقساط!$B$3:$B$8532,SMALL(IF(اقساط!$G$3:$G$8532=B1189,ROW($B$3:$B$8532)-ROW($B$3)+1),ROWS($C$3:C1189))),\"\")","v":0}]
[{"$f":"IFERROR(INDEX(اقساط!$AT$3:$AT$8532,SMALL(IF(اقساط!$G$3:$G$8532=B1190,ROW($AT$3:$AT$8532)-ROW($AT$3)+1),ROWS($A$3:A1190))),\"\")","v":0},null,{"$f":"IFERROR(INDEX(اقساط!$B$3:$B$8532,SMALL(IF(اقساط!$G$3:$G$8532=B1190,ROW($B$3:$B$8532)-ROW($B$3)+1),ROWS($C$3:C1190))),\"\")","v":0}]
[{"$f":"IFERROR(INDEX(اقساط!$AT$3:$AT$8532,SMALL(IF(اقساط!$G$3:$G$8532=B1191,ROW($AT$3:$AT$8532)-ROW($AT$3)+1),ROWS($A$3:A1191))),\"\")","v":0},null,{"$f":"IFERROR(INDEX(اقساط!$B$3:$B$8532,SMALL(IF(اقساط!$G$3:$G$8532=B1191,ROW($B$3:$B$8532)-ROW($B$3)+1),ROWS($C$3:C1191))),\"\")","v":0}]
[{"$f":"IFERROR(INDEX(اقساط!$AT$3:$AT$8532,SMALL(IF(اقساط!$G$3:$G$8532=B1192,ROW($AT$3:$AT$8532)-ROW($AT$3)+1),ROWS($A$3:A1192))),\"\")","v":0},null,{"$f":"IFERROR(INDEX(اقساط!$B$3:$B$8532,SMALL(IF(اقساط!$G$3:$G$8532=B1192,ROW($B$3:$B$8532)-ROW($B$3)+1),ROWS($C$3:C1192))),\"\")","v":0}]
[{"$f":"IFERROR(INDEX(اقساط!$AT$3:$AT$8532,SMALL(IF(اقساط!$G$3:$G$8532=B1193,ROW($AT$3:$AT$8532)-ROW($AT$3)+1),ROWS($A$3:A1193))),\"\")","v":0},null,{"$f":"IFERROR(INDEX(اقساط!$B$3:$B$8532,SMALL(IF(اقساط!$G$3:$G$8532=B1193,ROW($B$3:$B$8532)-ROW($B$3)+1),ROWS($C$3:C1193))),\"\")","v":0}]
[{"$f":"IFERROR(INDEX(اقساط!$AT$3:$AT$8532,SMALL(IF(اقساط!$G$3:$G$8532=B1194,ROW($AT$3:$AT$8532)-ROW($AT$3)+1),ROWS($A$3:A1194))),\"\")","v":0},null,{"$f":"IFERROR(INDEX(اقساط!$B$3:$B$8532,SMALL(IF(اقساط!$G$3:$G$8532=B1194,ROW($B$3:$B$8532)-ROW($B$3)+1),ROWS($C$3:C1194))),\"\")","v":0}]
[{"$f":"IFERROR(INDEX(اقساط!$AT$3:$AT$8532,SMALL(IF(اقساط!$G$3:$G$8532=B1195,ROW($AT$3:$AT$8532)-ROW($AT$3)+1),ROWS($A$3:A1195))),\"\")","v":0},null,{"$f":"IFERROR(INDEX(اقساط!$B$3:$B$8532,SMALL(IF(اقساط!$G$3:$G$8532=B1195,ROW($B$3:$B$8532)-ROW($B$3)+1),ROWS($C$3:C1195))),\"\")","v":0}]
[{"$f":"IFERROR(INDEX(اقساط!$AT$3:$AT$8532,SMALL(IF(اقساط!$G$3:$G$8532=B1196,ROW($AT$3:$AT$8532)-ROW($AT$3)+1),ROWS($A$3:A1196))),\"\")","v":0},null,{"$f":"IFERROR(INDEX(اقساط!$B$3:$B$8532,SMALL(IF(اقساط!$G$3:$G$8532=B1196,ROW($B$3:$B$8532)-ROW($B$3)+1),ROWS($C$3:C1196))),\"\")","v":0}]
[{"$f":"IFERROR(INDEX(اقساط!$AT$3:$AT$8532,SMALL(IF(اقساط!$G$3:$G$8532=B1197,ROW($AT$3:$AT$8532)-ROW($AT$3)+1),ROWS($A$3:A1197))),\"\")","v":0},null,{"$f":"IFERROR(INDEX(اقساط!$B$3:$B$8532,SMALL(IF(اقساط!$G$3:$G$8532=B1197,ROW($B$3:$B$8532)-ROW($B$3)+1),ROWS($C$3:C1197))),\"\")","v":0}]
[{"$f":"IFERROR(INDEX(اقساط!$AT$3:$AT$8532,SMALL(IF(اقساط!$G$3:$G$8532=B1198,ROW($AT$3:$AT$8532)-ROW($AT$3)+1),ROWS($A$3:A1198))),\"\")","v":0},null,{"$f":"IFERROR(INDEX(اقساط!$B$3:$B$8532,SMALL(IF(اقساط!$G$3:$G$8532=B1198,ROW($B$3:$B$8532)-ROW($B$3)+1),ROWS($C$3:C1198))),\"\")","v":0}]
[{"$f":"IFERROR(INDEX(اقساط!$AT$3:$AT$8532,SMALL(IF(اقساط!$G$3:$G$8532=B1199,ROW($AT$3:$AT$8532)-ROW($AT$3)+1),ROWS($A$3:A1199))),\"\")","v":0},null,{"$f":"IFERROR(INDEX(اقساط!$B$3:$B$8532,SMALL(IF(اقساط!$G$3:$G$8532=B1199,ROW($B$3:$B$8532)-ROW($B$3)+1),ROWS($C$3:C1199))),\"\")","v":0}]
[{"$f":"IFERROR(INDEX(اقساط!$AT$3:$AT$8532,SMALL(IF(اقساط!$G$3:$G$8532=B1200,ROW($AT$3:$AT$8532)-ROW($AT$3)+1),ROWS($A$3:A1200))),\"\")","v":0},null,{"$f":"IFERROR(INDEX(اقساط!$B$3:$B$8532,SMALL(IF(اقساط!$G$3:$G$8532=B1200,ROW($B$3:$B$8532)-ROW($B$3)+1),ROWS($C$3:C1200))),\"\")","v":0}]
[{"$f":"IFERROR(INDEX(اقساط!$AT$3:$AT$8532,SMALL(IF(اقساط!$G$3:$G$8532=B1201,ROW($AT$3:$AT$8532)-ROW($AT$3)+1),ROWS($A$3:A1201))),\"\")","v":0},null,{"$f":"IFERROR(INDEX(اقساط!$B$3:$B$8532,SMALL(IF(اقساط!$G$3:$G$8532=B1201,ROW($B$3:$B$8532)-ROW($B$3)+1),ROWS($C$3:C1201))),\"\")","v":0}]
[{"$f":"IFERROR(INDEX(اقساط!$AT$3:$AT$8532,SMALL(IF(اقساط!$G$3:$G$8532=B1202,ROW($AT$3:$AT$8532)-ROW($AT$3)+1),ROWS($A$3:A1202))),\"\")","v":0},null,{"$f":"IFERROR(INDEX(اقساط!$B$3:$B$8532,SMALL(IF(اقساط!$G$3:$G$8532=B1202,ROW($B$3:$B$8532)-ROW($B$3)+1),ROWS($C$3:C1202))),\"\")","v":0}]
[{"$f":"IFERROR(INDEX(اقساط!$AT$3:$AT$8532,SMALL(IF(اقساط!$G$3:$G$8532=B1203,ROW($AT$3:$AT$8532)-ROW($AT$3)+1),ROWS($A$3:A1203))),\"\")","v":0},null,{"$f":"IFERROR(INDEX(اقساط!$B$3:$B$8532,SMALL(IF(اقساط!$G$3:$G$8532=B1203,ROW($B$3:$B$8532)-ROW($B$3)+1),ROWS($C$3:C1203))),\"\")","v":0}]
[{"$f":"IFERROR(INDEX(اقساط!$AT$3:$AT$8532,SMALL(IF(اقساط!$G$3:$G$8532=B1204,ROW($AT$3:$AT$8532)-ROW($AT$3)+1),ROWS($A$3:A1204))),\"\")","v":0},null,{"$f":"IFERROR(INDEX(اقساط!$B$3:$B$8532,SMALL(IF(اقساط!$G$3:$G$8532=B1204,ROW($B$3:$B$8532)-ROW($B$3)+1),ROWS($C$3:C1204))),\"\")","v":0}]
[{"$f":"IFERROR(INDEX(اقساط!$AT$3:$AT$8532,SMALL(IF(اقساط!$G$3:$G$8532=B1205,ROW($AT$3:$AT$8532)-ROW($AT$3)+1),ROWS($A$3:A1205))),\"\")","v":0},null,{"$f":"IFERROR(INDEX(اقساط!$B$3:$B$8532,SMALL(IF(اقساط!$G$3:$G$8532=B1205,ROW($B$3:$B$8532)-ROW($B$3)+1),ROWS($C$3:C1205))),\"\")","v":0}]
[{"$f":"IFERROR(INDEX(اقساط!$AT$3:$AT$8532,SMALL(IF(اقساط!$G$3:$G$8532=B1206,ROW($AT$3:$AT$8532)-ROW($AT$3)+1),ROWS($A$3:A1206))),\"\")","v":0},null,{"$f":"IFERROR(INDEX(اقساط!$B$3:$B$8532,SMALL(IF(اقساط!$G$3:$G$8532=B1206,ROW($B$3:$B$8532)-ROW($B$3)+1),ROWS($C$3:C1206))),\"\")","v":0}]
[{"$f":"IFERROR(INDEX(اقساط!$AT$3:$AT$8532,SMALL(IF(اقساط!$G$3:$G$8532=B1207,ROW($AT$3:$AT$8532)-ROW($AT$3)+1),ROWS($A$3:A1207))),\"\")","v":0},null,{"$f":"IFERROR(INDEX(اقساط!$B$3:$B$8532,SMALL(IF(اقساط!$G$3:$G$8532=B1207,ROW($B$3:$B$8532)-ROW($B$3)+1),ROWS($C$3:C1207))),\"\")","v":0}]
[{"$f":"IFERROR(INDEX(اقساط!$AT$3:$AT$8532,SMALL(IF(اقساط!$G$3:$G$8532=B1208,ROW($AT$3:$AT$8532)-ROW($AT$3)+1),ROWS($A$3:A1208))),\"\")","v":0},null,{"$f":"IFERROR(INDEX(اقساط!$B$3:$B$8532,SMALL(IF(اقساط!$G$3:$G$8532=B1208,ROW($B$3:$B$8532)-ROW($B$3)+1),ROWS($C$3:C1208))),\"\")","v":0}]
[{"$f":"IFERROR(INDEX(اقساط!$AT$3:$AT$8532,SMALL(IF(اقساط!$G$3:$G$8532=B1209,ROW($AT$3:$AT$8532)-ROW($AT$3)+1),ROWS($A$3:A1209))),\"\")","v":0},null,{"$f":"IFERROR(INDEX(اقساط!$B$3:$B$8532,SMALL(IF(اقساط!$G$3:$G$8532=B1209,ROW($B$3:$B$8532)-ROW($B$3)+1),ROWS($C$3:C1209))),\"\")","v":0}]
[{"$f":"IFERROR(INDEX(اقساط!$AT$3:$AT$8532,SMALL(IF(اقساط!$G$3:$G$8532=B1210,ROW($AT$3:$AT$8532)-ROW($AT$3)+1),ROWS($A$3:A1210))),\"\")","v":0},null,{"$f":"IFERROR(INDEX(اقساط!$B$3:$B$8532,SMALL(IF(اقساط!$G$3:$G$8532=B1210,ROW($B$3:$B$8532)-ROW($B$3)+1),ROWS($C$3:C1210))),\"\")","v":0}]
[{"$f":"IFERROR(INDEX(اقساط!$AT$3:$AT$8532,SMALL(IF(اقساط!$G$3:$G$8532=B1211,ROW($AT$3:$AT$8532)-ROW($AT$3)+1),ROWS($A$3:A1211))),\"\")","v":0},null,{"$f":"IFERROR(INDEX(اقساط!$B$3:$B$8532,SMALL(IF(اقساط!$G$3:$G$8532=B1211,ROW($B$3:$B$8532)-ROW($B$3)+1),ROWS($C$3:C1211))),\"\")","v":0}]
[{"$f":"IFERROR(INDEX(اقساط!$AT$3:$AT$8532,SMALL(IF(اقساط!$G$3:$G$8532=B1212,ROW($AT$3:$AT$8532)-ROW($AT$3)+1),ROWS($A$3:A1212))),\"\")","v":0},null,{"$f":"IFERROR(INDEX(اقساط!$B$3:$B$8532,SMALL(IF(اقساط!$G$3:$G$8532=B1212,ROW($B$3:$B$8532)-ROW($B$3)+1),ROWS($C$3:C1212))),\"\")","v":0}]
[{"$f":"IFERROR(INDEX(اقساط!$AT$3:$AT$8532,SMALL(IF(اقساط!$G$3:$G$8532=B1213,ROW($AT$3:$AT$8532)-ROW($AT$3)+1),ROWS($A$3:A1213))),\"\")","v":0},null,{"$f":"IFERROR(INDEX(اقساط!$B$3:$B$8532,SMALL(IF(اقساط!$G$3:$G$8532=B1213,ROW($B$3:$B$8532)-ROW($B$3)+1),ROWS($C$3:C1213))),\"\")","v":0}]
[{"$f":"IFERROR(INDEX(اقساط!$AT$3:$AT$8532,SMALL(IF(اقساط!$G$3:$G$8532=B1214,ROW($AT$3:$AT$8532)-ROW($AT$3)+1),ROWS($A$3:A1214))),\"\")","v":0},null,{"$f":"IFERROR(INDEX(اقساط!$B$3:$B$8532,SMALL(IF(اقساط!$G$3:$G$8532=B1214,ROW($B$3:$B$8532)-ROW($B$3)+1),ROWS($C$3:C1214))),\"\")","v":0}]
[{"$f":"IFERROR(INDEX(اقساط!$AT$3:$AT$8532,SMALL(IF(اقساط!$G$3:$G$8532=B1215,ROW($AT$3:$AT$8532)-ROW($AT$3)+1),ROWS($A$3:A1215))),\"\")","v":0},null,{"$f":"IFERROR(INDEX(اقساط!$B$3:$B$8532,SMALL(IF(اقساط!$G$3:$G$8532=B1215,ROW($B$3:$B$8532)-ROW($B$3)+1),ROWS($C$3:C1215))),\"\")","v":0}]
[{"$f":"IFERROR(INDEX(اقساط!$AT$3:$AT$8532,SMALL(IF(اقساط!$G$3:$G$8532=B1216,ROW($AT$3:$AT$8532)-ROW($AT$3)+1),ROWS($A$3:A1216))),\"\")","v":0},null,{"$f":"IFERROR(INDEX(اقساط!$B$3:$B$8532,SMALL(IF(اقساط!$G$3:$G$8532=B1216,ROW($B$3:$B$8532)-ROW($B$3)+1),ROWS($C$3:C1216))),\"\")","v":0}]
[{"$f":"IFERROR(INDEX(اقساط!$AT$3:$AT$8532,SMALL(IF(اقساط!$G$3:$G$8532=B1217,ROW($AT$3:$AT$8532)-ROW($AT$3)+1),ROWS($A$3:A1217))),\"\")","v":0},null,{"$f":"IFERROR(INDEX(اقساط!$B$3:$B$8532,SMALL(IF(اقساط!$G$3:$G$8532=B1217,ROW($B$3:$B$8532)-ROW($B$3)+1),ROWS($C$3:C1217))),\"\")","v":0}]
[{"$f":"IFERROR(INDEX(اقساط!$AT$3:$AT$8532,SMALL(IF(اقساط!$G$3:$G$8532=B1218,ROW($AT$3:$AT$8532)-ROW($AT$3)+1),ROWS($A$3:A1218))),\"\")","v":0},null,{"$f":"IFERROR(INDEX(اقساط!$B$3:$B$8532,SMALL(IF(اقساط!$G$3:$G$8532=B1218,ROW($B$3:$B$8532)-ROW($B$3)+1),ROWS($C$3:C1218))),\"\")","v":0}]
[{"$f":"IFERROR(INDEX(اقساط!$AT$3:$AT$8532,SMALL(IF(اقساط!$G$3:$G$8532=B1219,ROW($AT$3:$AT$8532)-ROW($AT$3)+1),ROWS($A$3:A1219))),\"\")","v":0},null,{"$f":"IFERROR(INDEX(اقساط!$B$3:$B$8532,SMALL(IF(اقساط!$G$3:$G$8532=B1219,ROW($B$3:$B$8532)-ROW($B$3)+1),ROWS($C$3:C1219))),\"\")","v":0}]
[{"$f":"IFERROR(INDEX(اقساط!$AT$3:$AT$8532,SMALL(IF(اقساط!$G$3:$G$8532=B1220,ROW($AT$3:$AT$8532)-ROW($AT$3)+1),ROWS($A$3:A1220))),\"\")","v":0},null,{"$f":"IFERROR(INDEX(اقساط!$B$3:$B$8532,SMALL(IF(اقساط!$G$3:$G$8532=B1220,ROW($B$3:$B$8532)-ROW($B$3)+1),ROWS($C$3:C1220))),\"\")","v":0}]
[{"$f":"IFERROR(INDEX(اقساط!$AT$3:$AT$8532,SMALL(IF(اقساط!$G$3:$G$8532=B1221,ROW($AT$3:$AT$8532)-ROW($AT$3)+1),ROWS($A$3:A1221))),\"\")","v":0},null,{"$f":"IFERROR(INDEX(اقساط!$B$3:$B$8532,SMALL(IF(اقساط!$G$3:$G$8532=B1221,ROW($B$3:$B$8532)-ROW($B$3)+1),ROWS($C$3:C1221))),\"\")","v":0}]
[{"$f":"IFERROR(INDEX(اقساط!$AT$3:$AT$8532,SMALL(IF(اقساط!$G$3:$G$8532=B1222,ROW($AT$3:$AT$8532)-ROW($AT$3)+1),ROWS($A$3:A1222))),\"\")","v":0},null,{"$f":"IFERROR(INDEX(اقساط!$B$3:$B$8532,SMALL(IF(اقساط!$G$3:$G$8532=B1222,ROW($B$3:$B$8532)-ROW($B$3)+1),ROWS($C$3:C1222))),\"\")","v":0}]
[{"$f":"IFERROR(INDEX(اقساط!$AT$3:$AT$8532,SMALL(IF(اقساط!$G$3:$G$8532=B1223,ROW($AT$3:$AT$8532)-ROW($AT$3)+1),ROWS($A$3:A1223))),\"\")","v":0},null,{"$f":"IFERROR(INDEX(اقساط!$B$3:$B$8532,SMALL(IF(اقساط!$G$3:$G$8532=B1223,ROW($B$3:$B$8532)-ROW($B$3)+1),ROWS($C$3:C1223))),\"\")","v":0}]
[{"$f":"IFERROR(INDEX(اقساط!$AT$3:$AT$8532,SMALL(IF(اقساط!$G$3:$G$8532=B1224,ROW($AT$3:$AT$8532)-ROW($AT$3)+1),ROWS($A$3:A1224))),\"\")","v":0},null,{"$f":"IFERROR(INDEX(اقساط!$B$3:$B$8532,SMALL(IF(اقساط!$G$3:$G$8532=B1224,ROW($B$3:$B$8532)-ROW($B$3)+1),ROWS($C$3:C1224))),\"\")","v":0}]
[{"$f":"IFERROR(INDEX(اقساط!$AT$3:$AT$8532,SMALL(IF(اقساط!$G$3:$G$8532=B1225,ROW($AT$3:$AT$8532)-ROW($AT$3)+1),ROWS($A$3:A1225))),\"\")","v":0},null,{"$f":"IFERROR(INDEX(اقساط!$B$3:$B$8532,SMALL(IF(اقساط!$G$3:$G$8532=B1225,ROW($B$3:$B$8532)-ROW($B$3)+1),ROWS($C$3:C1225))),\"\")","v":0}]
[{"$f":"IFERROR(INDEX(اقساط!$AT$3:$AT$8532,SMALL(IF(اقساط!$G$3:$G$8532=B1226,ROW($AT$3:$AT$8532)-ROW($AT$3)+1),ROWS($A$3:A1226))),\"\")","v":0},null,{"$f":"IFERROR(INDEX(اقساط!$B$3:$B$8532,SMALL(IF(اقساط!$G$3:$G$8532=B1226,ROW($B$3:$B$8532)-ROW($B$3)+1),ROWS($C$3:C1226))),\"\")","v":0}]
[{"$f":"IFERROR(INDEX(اقساط!$AT$3:$AT$8532,SMALL(IF(اقساط!$G$3:$G$8532=B1227,ROW($AT$3:$AT$8532)-ROW($AT$3)+1),ROWS($A$3:A1227))),\"\")","v":0},null,{"$f":"IFERROR(INDEX(اقساط!$B$3:$B$8532,SMALL(IF(اقساط!$G$3:$G$8532=B1227,ROW($B$3:$B$8532)-ROW($B$3)+1),ROWS($C$3:C1227))),\"\")","v":0}]
[{"$f":"IFERROR(INDEX(اقساط!$AT$3:$AT$8532,SMALL(IF(اقساط!$G$3:$G$8532=B1228,ROW($AT$3:$AT$8532)-ROW($AT$3)+1),ROWS($A$3:A1228))),\"\")","v":0},null,{"$f":"IFERROR(INDEX(اقساط!$B$3:$B$8532,SMALL(IF(اقساط!$G$3:$G$8532=B1228,ROW($B$3:$B$8532)-ROW($B$3)+1),ROWS($C$3:C1228))),\"\")","v":0}]
[{"$f":"IFERROR(INDEX(اقساط!$AT$3:$AT$8532,SMALL(IF(اقساط!$G$3:$G$8532=B1229,ROW($AT$3:$AT$8532)-ROW($AT$3)+1),ROWS($A$3:A1229))),\"\")","v":0},null,{"$f":"IFERROR(INDEX(اقساط!$B$3:$B$8532,SMALL(IF(اقساط!$G$3:$G$8532=B1229,ROW($B$3:$B$8532)-ROW($B$3)+1),ROWS($C$3:C1229))),\"\")","v":0}]
[{"$f":"IFERROR(INDEX(اقساط!$AT$3:$AT$8532,SMALL(IF(اقساط!$G$3:$G$8532=B1230,ROW($AT$3:$AT$8532)-ROW($AT$3)+1),ROWS($A$3:A1230))),\"\")","v":0},null,{"$f":"IFERROR(INDEX(اقساط!$B$3:$B$8532,SMALL(IF(اقساط!$G$3:$G$8532=B1230,ROW($B$3:$B$8532)-ROW($B$3)+1),ROWS($C$3:C1230))),\"\")","v":0}]
[{"$f":"IFERROR(INDEX(اقساط!$AT$3:$AT$8532,SMALL(IF(اقساط!$G$3:$G$8532=B1231,ROW($AT$3:$AT$8532)-ROW($AT$3)+1),ROWS($A$3:A1231))),\"\")","v":0},null,{"$f":"IFERROR(INDEX(اقساط!$B$3:$B$8532,SMALL(IF(اقساط!$G$3:$G$8532=B1231,ROW($B$3:$B$8532)-ROW($B$3)+1),ROWS($C$3:C1231))),\"\")","v":0}]
[{"$f":"IFERROR(INDEX(اقساط!$AT$3:$AT$8532,SMALL(IF(اقساط!$G$3:$G$8532=B1232,ROW($AT$3:$AT$8532)-ROW($AT$3)+1),ROWS($A$3:A1232))),\"\")","v":0},null,{"$f":"IFERROR(INDEX(اقساط!$B$3:$B$8532,SMALL(IF(اقساط!$G$3:$G$8532=B1232,ROW($B$3:$B$8532)-ROW($B$3)+1),ROWS($C$3:C1232))),\"\")","v":0}]
[{"$f":"IFERROR(INDEX(اقساط!$AT$3:$AT$8532,SMALL(IF(اقساط!$G$3:$G$8532=B1233,ROW($AT$3:$AT$8532)-ROW($AT$3)+1),ROWS($A$3:A1233))),\"\")","v":0},null,{"$f":"IFERROR(INDEX(اقساط!$B$3:$B$8532,SMALL(IF(اقساط!$G$3:$G$8532=B1233,ROW($B$3:$B$8532)-ROW($B$3)+1),ROWS($C$3:C1233))),\"\")","v":0}]
[{"$f":"IFERROR(INDEX(اقساط!$AT$3:$AT$8532,SMALL(IF(اقساط!$G$3:$G$8532=B1234,ROW($AT$3:$AT$8532)-ROW($AT$3)+1),ROWS($A$3:A1234))),\"\")","v":0},null,{"$f":"IFERROR(INDEX(اقساط!$B$3:$B$8532,SMALL(IF(اقساط!$G$3:$G$8532=B1234,ROW($B$3:$B$8532)-ROW($B$3)+1),ROWS($C$3:C1234))),\"\")","v":0}]
[{"$f":"IFERROR(INDEX(اقساط!$AT$3:$AT$8532,SMALL(IF(اقساط!$G$3:$G$8532=B1235,ROW($AT$3:$AT$8532)-ROW($AT$3)+1),ROWS($A$3:A1235))),\"\")","v":0},null,{"$f":"IFERROR(INDEX(اقساط!$B$3:$B$8532,SMALL(IF(اقساط!$G$3:$G$8532=B1235,ROW($B$3:$B$8532)-ROW($B$3)+1),ROWS($C$3:C1235))),\"\")","v":0}]
[{"$f":"IFERROR(INDEX(اقساط!$AT$3:$AT$8532,SMALL(IF(اقساط!$G$3:$G$8532=B1236,ROW($AT$3:$AT$8532)-ROW($AT$3)+1),ROWS($A$3:A1236))),\"\")","v":0},null,{"$f":"IFERROR(INDEX(اقساط!$B$3:$B$8532,SMALL(IF(اقساط!$G$3:$G$8532=B1236,ROW($B$3:$B$8532)-ROW($B$3)+1),ROWS($C$3:C1236))),\"\")","v":0}]
[{"$f":"IFERROR(INDEX(اقساط!$AT$3:$AT$8532,SMALL(IF(اقساط!$G$3:$G$8532=B1237,ROW($AT$3:$AT$8532)-ROW($AT$3)+1),ROWS($A$3:A1237))),\"\")","v":0},null,{"$f":"IFERROR(INDEX(اقساط!$B$3:$B$8532,SMALL(IF(اقساط!$G$3:$G$8532=B1237,ROW($B$3:$B$8532)-ROW($B$3)+1),ROWS($C$3:C1237))),\"\")","v":0}]
[{"$f":"IFERROR(INDEX(اقساط!$AT$3:$AT$8532,SMALL(IF(اقساط!$G$3:$G$8532=B1238,ROW($AT$3:$AT$8532)-ROW($AT$3)+1),ROWS($A$3:A1238))),\"\")","v":0},null,{"$f":"IFERROR(INDEX(اقساط!$B$3:$B$8532,SMALL(IF(اقساط!$G$3:$G$8532=B1238,ROW($B$3:$B$8532)-ROW($B$3)+1),ROWS($C$3:C1238))),\"\")","v":0}]
[{"$f":"IFERROR(INDEX(اقساط!$AT$3:$AT$8532,SMALL(IF(اقساط!$G$3:$G$8532=B1239,ROW($AT$3:$AT$8532)-ROW($AT$3)+1),ROWS($A$3:A1239))),\"\")","v":0},null,{"$f":"IFERROR(INDEX(اقساط!$B$3:$B$8532,SMALL(IF(اقساط!$G$3:$G$8532=B1239,ROW($B$3:$B$8532)-ROW($B$3)+1),ROWS($C$3:C1239))),\"\")","v":0}]
[{"$f":"IFERROR(INDEX(اقساط!$AT$3:$AT$8532,SMALL(IF(اقساط!$G$3:$G$8532=B1240,ROW($AT$3:$AT$8532)-ROW($AT$3)+1),ROWS($A$3:A1240))),\"\")","v":0},null,{"$f":"IFERROR(INDEX(اقساط!$B$3:$B$8532,SMALL(IF(اقساط!$G$3:$G$8532=B1240,ROW($B$3:$B$8532)-ROW($B$3)+1),ROWS($C$3:C1240))),\"\")","v":0}]
[{"$f":"IFERROR(INDEX(اقساط!$AT$3:$AT$8532,SMALL(IF(اقساط!$G$3:$G$8532=B1241,ROW($AT$3:$AT$8532)-ROW($AT$3)+1),ROWS($A$3:A1241))),\"\")","v":0},null,{"$f":"IFERROR(INDEX(اقساط!$B$3:$B$8532,SMALL(IF(اقساط!$G$3:$G$8532=B1241,ROW($B$3:$B$8532)-ROW($B$3)+1),ROWS($C$3:C1241))),\"\")","v":0}]
[{"$f":"IFERROR(INDEX(اقساط!$AT$3:$AT$8532,SMALL(IF(اقساط!$G$3:$G$8532=B1242,ROW($AT$3:$AT$8532)-ROW($AT$3)+1),ROWS($A$3:A1242))),\"\")","v":0},null,{"$f":"IFERROR(INDEX(اقساط!$B$3:$B$8532,SMALL(IF(اقساط!$G$3:$G$8532=B1242,ROW($B$3:$B$8532)-ROW($B$3)+1),ROWS($C$3:C1242))),\"\")","v":0}]
[{"$f":"IFERROR(INDEX(اقساط!$AT$3:$AT$8532,SMALL(IF(اقساط!$G$3:$G$8532=B1243,ROW($AT$3:$AT$8532)-ROW($AT$3)+1),ROWS($A$3:A1243))),\"\")","v":0},null,{"$f":"IFERROR(INDEX(اقساط!$B$3:$B$8532,SMALL(IF(اقساط!$G$3:$G$8532=B1243,ROW($B$3:$B$8532)-ROW($B$3)+1),ROWS($C$3:C1243))),\"\")","v":0}]
[{"$f":"IFERROR(INDEX(اقساط!$AT$3:$AT$8532,SMALL(IF(اقساط!$G$3:$G$8532=B1244,ROW($AT$3:$AT$8532)-ROW($AT$3)+1),ROWS($A$3:A1244))),\"\")","v":0},null,{"$f":"IFERROR(INDEX(اقساط!$B$3:$B$8532,SMALL(IF(اقساط!$G$3:$G$8532=B1244,ROW($B$3:$B$8532)-ROW($B$3)+1),ROWS($C$3:C1244))),\"\")","v":0}]
[{"$f":"IFERROR(INDEX(اقساط!$AT$3:$AT$8532,SMALL(IF(اقساط!$G$3:$G$8532=B1245,ROW($AT$3:$AT$8532)-ROW($AT$3)+1),ROWS($A$3:A1245))),\"\")","v":0},null,{"$f":"IFERROR(INDEX(اقساط!$B$3:$B$8532,SMALL(IF(اقساط!$G$3:$G$8532=B1245,ROW($B$3:$B$8532)-ROW($B$3)+1),ROWS($C$3:C1245))),\"\")","v":0}]
[{"$f":"IFERROR(INDEX(اقساط!$AT$3:$AT$8532,SMALL(IF(اقساط!$G$3:$G$8532=B1246,ROW($AT$3:$AT$8532)-ROW($AT$3)+1),ROWS($A$3:A1246))),\"\")","v":0},null,{"$f":"IFERROR(INDEX(اقساط!$B$3:$B$8532,SMALL(IF(اقساط!$G$3:$G$8532=B1246,ROW($B$3:$B$8532)-ROW($B$3)+1),ROWS($C$3:C1246))),\"\")","v":0}]
[{"$f":"IFERROR(INDEX(اقساط!$AT$3:$AT$8532,SMALL(IF(اقساط!$G$3:$G$8532=B1247,ROW($AT$3:$AT$8532)-ROW($AT$3)+1),ROWS($A$3:A1247))),\"\")","v":0},null,{"$f":"IFERROR(INDEX(اقساط!$B$3:$B$8532,SMALL(IF(اقساط!$G$3:$G$8532=B1247,ROW($B$3:$B$8532)-ROW($B$3)+1),ROWS($C$3:C1247))),\"\")","v":0}]
[{"$f":"IFERROR(INDEX(اقساط!$AT$3:$AT$8532,SMALL(IF(اقساط!$G$3:$G$8532=B1248,ROW($AT$3:$AT$8532)-ROW($AT$3)+1),ROWS($A$3:A1248))),\"\")","v":0},null,{"$f":"IFERROR(INDEX(اقساط!$B$3:$B$8532,SMALL(IF(اقساط!$G$3:$G$8532=B1248,ROW($B$3:$B$8532)-ROW($B$3)+1),ROWS($C$3:C1248))),\"\")","v":0}]
[{"$f":"IFERROR(INDEX(اقساط!$AT$3:$AT$8532,SMALL(IF(اقساط!$G$3:$G$8532=B1249,ROW($AT$3:$AT$8532)-ROW($AT$3)+1),ROWS($A$3:A1249))),\"\")","v":0},null,{"$f":"IFERROR(INDEX(اقساط!$B$3:$B$8532,SMALL(IF(اقساط!$G$3:$G$8532=B1249,ROW($B$3:$B$8532)-ROW($B$3)+1),ROWS($C$3:C1249))),\"\")","v":0}]
[{"$f":"IFERROR(INDEX(اقساط!$AT$3:$AT$8532,SMALL(IF(اقساط!$G$3:$G$8532=B1250,ROW($AT$3:$AT$8532)-ROW($AT$3)+1),ROWS($A$3:A1250))),\"\")","v":0},null,{"$f":"IFERROR(INDEX(اقساط!$B$3:$B$8532,SMALL(IF(اقساط!$G$3:$G$8532=B1250,ROW($B$3:$B$8532)-ROW($B$3)+1),ROWS($C$3:C1250))),\"\")","v":0}]
[{"$f":"IFERROR(INDEX(اقساط!$AT$3:$AT$8532,SMALL(IF(اقساط!$G$3:$G$8532=B1251,ROW($AT$3:$AT$8532)-ROW($AT$3)+1),ROWS($A$3:A1251))),\"\")","v":0},null,{"$f":"IFERROR(INDEX(اقساط!$B$3:$B$8532,SMALL(IF(اقساط!$G$3:$G$8532=B1251,ROW($B$3:$B$8532)-ROW($B$3)+1),ROWS($C$3:C1251))),\"\")","v":0}]
[{"$f":"IFERROR(INDEX(اقساط!$AT$3:$AT$8532,SMALL(IF(اقساط!$G$3:$G$8532=B1252,ROW($AT$3:$AT$8532)-ROW($AT$3)+1),ROWS($A$3:A1252))),\"\")","v":0},null,{"$f":"IFERROR(INDEX(اقساط!$B$3:$B$8532,SMALL(IF(اقساط!$G$3:$G$8532=B1252,ROW($B$3:$B$8532)-ROW($B$3)+1),ROWS($C$3:C1252))),\"\")","v":0}]
[{"$f":"IFERROR(INDEX(اقساط!$AT$3:$AT$8532,SMALL(IF(اقساط!$G$3:$G$8532=B1253,ROW($AT$3:$AT$8532)-ROW($AT$3)+1),ROWS($A$3:A1253))),\"\")","v":0},null,{"$f":"IFERROR(INDEX(اقساط!$B$3:$B$8532,SMALL(IF(اقساط!$G$3:$G$8532=B1253,ROW($B$3:$B$8532)-ROW($B$3)+1),ROWS($C$3:C1253))),\"\")","v":0}]
[{"$f":"IFERROR(INDEX(اقساط!$AT$3:$AT$8532,SMALL(IF(اقساط!$G$3:$G$8532=B1254,ROW($AT$3:$AT$8532)-ROW($AT$3)+1),ROWS($A$3:A1254))),\"\")","v":0},null,{"$f":"IFERROR(INDEX(اقساط!$B$3:$B$8532,SMALL(IF(اقساط!$G$3:$G$8532=B1254,ROW($B$3:$B$8532)-ROW($B$3)+1),ROWS($C$3:C1254))),\"\")","v":0}]
[{"$f":"IFERROR(INDEX(اقساط!$AT$3:$AT$8532,SMALL(IF(اقساط!$G$3:$G$8532=B1255,ROW($AT$3:$AT$8532)-ROW($AT$3)+1),ROWS($A$3:A1255))),\"\")","v":0},null,{"$f":"IFERROR(INDEX(اقساط!$B$3:$B$8532,SMALL(IF(اقساط!$G$3:$G$8532=B1255,ROW($B$3:$B$8532)-ROW($B$3)+1),ROWS($C$3:C1255))),\"\")","v":0}]
[{"$f":"IFERROR(INDEX(اقساط!$AT$3:$AT$8532,SMALL(IF(اقساط!$G$3:$G$8532=B1256,ROW($AT$3:$AT$8532)-ROW($AT$3)+1),ROWS($A$3:A1256))),\"\")","v":0},null,{"$f":"IFERROR(INDEX(اقساط!$B$3:$B$8532,SMALL(IF(اقساط!$G$3:$G$8532=B1256,ROW($B$3:$B$8532)-ROW($B$3)+1),ROWS($C$3:C1256))),\"\")","v":0}]
[{"$f":"IFERROR(INDEX(اقساط!$AT$3:$AT$8532,SMALL(IF(اقساط!$G$3:$G$8532=B1257,ROW($AT$3:$AT$8532)-ROW($AT$3)+1),ROWS($A$3:A1257))),\"\")","v":0},null,{"$f":"IFERROR(INDEX(اقساط!$B$3:$B$8532,SMALL(IF(اقساط!$G$3:$G$8532=B1257,ROW($B$3:$B$8532)-ROW($B$3)+1),ROWS($C$3:C1257))),\"\")","v":0}]
[{"$f":"IFERROR(INDEX(اقساط!$AT$3:$AT$8532,SMALL(IF(اقساط!$G$3:$G$8532=B1258,ROW($AT$3:$AT$8532)-ROW($AT$3)+1),ROWS($A$3:A1258))),\"\")","v":0},null,{"$f":"IFERROR(INDEX(اقساط!$B$3:$B$8532,SMALL(IF(اقساط!$G$3:$G$8532=B1258,ROW($B$3:$B$8532)-ROW($B$3)+1),ROWS($C$3:C1258))),\"\")","v":0}]
[{"$f":"IFERROR(INDEX(اقساط!$AT$3:$AT$8532,SMALL(IF(اقساط!$G$3:$G$8532=B1259,ROW($AT$3:$AT$8532)-ROW($AT$3)+1),ROWS($A$3:A1259))),\"\")","v":0},null,{"$f":"IFERROR(INDEX(اقساط!$B$3:$B$8532,SMALL(IF(اقساط!$G$3:$G$8532=B1259,ROW($B$3:$B$8532)-ROW($B$3)+1),ROWS($C$3:C1259))),\"\")","v":0}]
[{"$f":"IFERROR(INDEX(اقساط!$AT$3:$AT$8532,SMALL(IF(اقساط!$G$3:$G$8532=B1260,ROW($AT$3:$AT$8532)-ROW($AT$3)+1),ROWS($A$3:A1260))),\"\")","v":0},null,{"$f":"IFERROR(INDEX(اقساط!$B$3:$B$8532,SMALL(IF(اقساط!$G$3:$G$8532=B1260,ROW($B$3:$B$8532)-ROW($B$3)+1),ROWS($C$3:C1260))),\"\")","v":0}]
[{"$f":"IFERROR(INDEX(اقساط!$AT$3:$AT$8532,SMALL(IF(اقساط!$G$3:$G$8532=B1261,ROW($AT$3:$AT$8532)-ROW($AT$3)+1),ROWS($A$3:A1261))),\"\")","v":0},null,{"$f":"IFERROR(INDEX(اقساط!$B$3:$B$8532,SMALL(IF(اقساط!$G$3:$G$8532=B1261,ROW($B$3:$B$8532)-ROW($B$3)+1),ROWS($C$3:C1261))),\"\")","v":0}]
[{"$f":"IFERROR(INDEX(اقساط!$AT$3:$AT$8532,SMALL(IF(اقساط!$G$3:$G$8532=B1262,ROW($AT$3:$AT$8532)-ROW($AT$3)+1),ROWS($A$3:A1262))),\"\")","v":0},null,{"$f":"IFERROR(INDEX(اقساط!$B$3:$B$8532,SMALL(IF(اقساط!$G$3:$G$8532=B1262,ROW($B$3:$B$8532)-ROW($B$3)+1),ROWS($C$3:C1262))),\"\")","v":0}]
[{"$f":"IFERROR(INDEX(اقساط!$AT$3:$AT$8532,SMALL(IF(اقساط!$G$3:$G$8532=B1263,ROW($AT$3:$AT$8532)-ROW($AT$3)+1),ROWS($A$3:A1263))),\"\")","v":0},null,{"$f":"IFERROR(INDEX(اقساط!$B$3:$B$8532,SMALL(IF(اقساط!$G$3:$G$8532=B1263,ROW($B$3:$B$8532)-ROW($B$3)+1),ROWS($C$3:C1263))),\"\")","v":0}]
[{"$f":"IFERROR(INDEX(اقساط!$AT$3:$AT$8532,SMALL(IF(اقساط!$G$3:$G$8532=B1264,ROW($AT$3:$AT$8532)-ROW($AT$3)+1),ROWS($A$3:A1264))),\"\")","v":0},null,{"$f":"IFERROR(INDEX(اقساط!$B$3:$B$8532,SMALL(IF(اقساط!$G$3:$G$8532=B1264,ROW($B$3:$B$8532)-ROW($B$3)+1),ROWS($C$3:C1264))),\"\")","v":0}]
[{"$f":"IFERROR(INDEX(اقساط!$AT$3:$AT$8532,SMALL(IF(اقساط!$G$3:$G$8532=B1265,ROW($AT$3:$AT$8532)-ROW($AT$3)+1),ROWS($A$3:A1265))),\"\")","v":0},null,{"$f":"IFERROR(INDEX(اقساط!$B$3:$B$8532,SMALL(IF(اقساط!$G$3:$G$8532=B1265,ROW($B$3:$B$8532)-ROW($B$3)+1),ROWS($C$3:C1265))),\"\")","v":0}]
[{"$f":"IFERROR(INDEX(اقساط!$AT$3:$AT$8532,SMALL(IF(اقساط!$G$3:$G$8532=B1266,ROW($AT$3:$AT$8532)-ROW($AT$3)+1),ROWS($A$3:A1266))),\"\")","v":0},null,{"$f":"IFERROR(INDEX(اقساط!$B$3:$B$8532,SMALL(IF(اقساط!$G$3:$G$8532=B1266,ROW($B$3:$B$8532)-ROW($B$3)+1),ROWS($C$3:C1266))),\"\")","v":0}]
[{"$f":"IFERROR(INDEX(اقساط!$AT$3:$AT$8532,SMALL(IF(اقساط!$G$3:$G$8532=B1267,ROW($AT$3:$AT$8532)-ROW($AT$3)+1),ROWS($A$3:A1267))),\"\")","v":0},null,{"$f":"IFERROR(INDEX(اقساط!$B$3:$B$8532,SMALL(IF(اقساط!$G$3:$G$8532=B1267,ROW($B$3:$B$8532)-ROW($B$3)+1),ROWS($C$3:C1267))),\"\")","v":0}]
[{"$f":"IFERROR(INDEX(اقساط!$AT$3:$AT$8532,SMALL(IF(اقساط!$G$3:$G$8532=B1268,ROW($AT$3:$AT$8532)-ROW($AT$3)+1),ROWS($A$3:A1268))),\"\")","v":0},null,{"$f":"IFERROR(INDEX(اقساط!$B$3:$B$8532,SMALL(IF(اقساط!$G$3:$G$8532=B1268,ROW($B$3:$B$8532)-ROW($B$3)+1),ROWS($C$3:C1268))),\"\")","v":0}]
[{"$f":"IFERROR(INDEX(اقساط!$AT$3:$AT$8532,SMALL(IF(اقساط!$G$3:$G$8532=B1269,ROW($AT$3:$AT$8532)-ROW($AT$3)+1),ROWS($A$3:A1269))),\"\")","v":0},null,{"$f":"IFERROR(INDEX(اقساط!$B$3:$B$8532,SMALL(IF(اقساط!$G$3:$G$8532=B1269,ROW($B$3:$B$8532)-ROW($B$3)+1),ROWS($C$3:C1269))),\"\")","v":0}]
[{"$f":"IFERROR(INDEX(اقساط!$AT$3:$AT$8532,SMALL(IF(اقساط!$G$3:$G$8532=B1270,ROW($AT$3:$AT$8532)-ROW($AT$3)+1),ROWS($A$3:A1270))),\"\")","v":0},null,{"$f":"IFERROR(INDEX(اقساط!$B$3:$B$8532,SMALL(IF(اقساط!$G$3:$G$8532=B1270,ROW($B$3:$B$8532)-ROW($B$3)+1),ROWS($C$3:C1270))),\"\")","v":0}]
[{"$f":"IFERROR(INDEX(اقساط!$AT$3:$AT$8532,SMALL(IF(اقساط!$G$3:$G$8532=B1271,ROW($AT$3:$AT$8532)-ROW($AT$3)+1),ROWS($A$3:A1271))),\"\")","v":0},null,{"$f":"IFERROR(INDEX(اقساط!$B$3:$B$8532,SMALL(IF(اقساط!$G$3:$G$8532=B1271,ROW($B$3:$B$8532)-ROW($B$3)+1),ROWS($C$3:C1271))),\"\")","v":0}]
[{"$f":"IFERROR(INDEX(اقساط!$AT$3:$AT$8532,SMALL(IF(اقساط!$G$3:$G$8532=B1272,ROW($AT$3:$AT$8532)-ROW($AT$3)+1),ROWS($A$3:A1272))),\"\")","v":0},null,{"$f":"IFERROR(INDEX(اقساط!$B$3:$B$8532,SMALL(IF(اقساط!$G$3:$G$8532=B1272,ROW($B$3:$B$8532)-ROW($B$3)+1),ROWS($C$3:C1272))),\"\")","v":0}]
[{"$f":"IFERROR(INDEX(اقساط!$AT$3:$AT$8532,SMALL(IF(اقساط!$G$3:$G$8532=B1273,ROW($AT$3:$AT$8532)-ROW($AT$3)+1),ROWS($A$3:A1273))),\"\")","v":0},null,{"$f":"IFERROR(INDEX(اقساط!$B$3:$B$8532,SMALL(IF(اقساط!$G$3:$G$8532=B1273,ROW($B$3:$B$8532)-ROW($B$3)+1),ROWS($C$3:C1273))),\"\")","v":0}]
[{"$f":"IFERROR(INDEX(اقساط!$AT$3:$AT$8532,SMALL(IF(اقساط!$G$3:$G$8532=B1274,ROW($AT$3:$AT$8532)-ROW($AT$3)+1),ROWS($A$3:A1274))),\"\")","v":0},null,{"$f":"IFERROR(INDEX(اقساط!$B$3:$B$8532,SMALL(IF(اقساط!$G$3:$G$8532=B1274,ROW($B$3:$B$8532)-ROW($B$3)+1),ROWS($C$3:C1274))),\"\")","v":0}]
[{"$f":"IFERROR(INDEX(اقساط!$AT$3:$AT$8532,SMALL(IF(اقساط!$G$3:$G$8532=B1275,ROW($AT$3:$AT$8532)-ROW($AT$3)+1),ROWS($A$3:A1275))),\"\")","v":0},null,{"$f":"IFERROR(INDEX(اقساط!$B$3:$B$8532,SMALL(IF(اقساط!$G$3:$G$8532=B1275,ROW($B$3:$B$8532)-ROW($B$3)+1),ROWS($C$3:C1275))),\"\")","v":0}]
[{"$f":"IFERROR(INDEX(اقساط!$AT$3:$AT$8532,SMALL(IF(اقساط!$G$3:$G$8532=B1276,ROW($AT$3:$AT$8532)-ROW($AT$3)+1),ROWS($A$3:A1276))),\"\")","v":0},null,{"$f":"IFERROR(INDEX(اقساط!$B$3:$B$8532,SMALL(IF(اقساط!$G$3:$G$8532=B1276,ROW($B$3:$B$8532)-ROW($B$3)+1),ROWS($C$3:C1276))),\"\")","v":0}]
[{"$f":"IFERROR(INDEX(اقساط!$AT$3:$AT$8532,SMALL(IF(اقساط!$G$3:$G$8532=B1277,ROW($AT$3:$AT$8532)-ROW($AT$3)+1),ROWS($A$3:A1277))),\"\")","v":0},null,{"$f":"IFERROR(INDEX(اقساط!$B$3:$B$8532,SMALL(IF(اقساط!$G$3:$G$8532=B1277,ROW($B$3:$B$8532)-ROW($B$3)+1),ROWS($C$3:C1277))),\"\")","v":0}]
[{"$f":"IFERROR(INDEX(اقساط!$AT$3:$AT$8532,SMALL(IF(اقساط!$G$3:$G$8532=B1278,ROW($AT$3:$AT$8532)-ROW($AT$3)+1),ROWS($A$3:A1278))),\"\")","v":0},null,{"$f":"IFERROR(INDEX(اقساط!$B$3:$B$8532,SMALL(IF(اقساط!$G$3:$G$8532=B1278,ROW($B$3:$B$8532)-ROW($B$3)+1),ROWS($C$3:C1278))),\"\")","v":0}]
[{"$f":"IFERROR(INDEX(اقساط!$AT$3:$AT$8532,SMALL(IF(اقساط!$G$3:$G$8532=B1279,ROW($AT$3:$AT$8532)-ROW($AT$3)+1),ROWS($A$3:A1279))),\"\")","v":0},null,{"$f":"IFERROR(INDEX(اقساط!$B$3:$B$8532,SMALL(IF(اقساط!$G$3:$G$8532=B1279,ROW($B$3:$B$8532)-ROW($B$3)+1),ROWS($C$3:C1279))),\"\")","v":0}]
[{"$f":"IFERROR(INDEX(اقساط!$AT$3:$AT$8532,SMALL(IF(اقساط!$G$3:$G$8532=B1280,ROW($AT$3:$AT$8532)-ROW($AT$3)+1),ROWS($A$3:A1280))),\"\")","v":0},null,{"$f":"IFERROR(INDEX(اقساط!$B$3:$B$8532,SMALL(IF(اقساط!$G$3:$G$8532=B1280,ROW($B$3:$B$8532)-ROW($B$3)+1),ROWS($C$3:C1280))),\"\")","v":0}]
[{"$f":"IFERROR(INDEX(اقساط!$AT$3:$AT$8532,SMALL(IF(اقساط!$G$3:$G$8532=B1281,ROW($AT$3:$AT$8532)-ROW($AT$3)+1),ROWS($A$3:A1281))),\"\")","v":0},null,{"$f":"IFERROR(INDEX(اقساط!$B$3:$B$8532,SMALL(IF(اقساط!$G$3:$G$8532=B1281,ROW($B$3:$B$8532)-ROW($B$3)+1),ROWS($C$3:C1281))),\"\")","v":0}]
[{"$f":"IFERROR(INDEX(اقساط!$AT$3:$AT$8532,SMALL(IF(اقساط!$G$3:$G$8532=B1282,ROW($AT$3:$AT$8532)-ROW($AT$3)+1),ROWS($A$3:A1282))),\"\")","v":0},null,{"$f":"IFERROR(INDEX(اقساط!$B$3:$B$8532,SMALL(IF(اقساط!$G$3:$G$8532=B1282,ROW($B$3:$B$8532)-ROW($B$3)+1),ROWS($C$3:C1282))),\"\")","v":0}]
[{"$f":"IFERROR(INDEX(اقساط!$AT$3:$AT$8532,SMALL(IF(اقساط!$G$3:$G$8532=B1283,ROW($AT$3:$AT$8532)-ROW($AT$3)+1),ROWS($A$3:A1283))),\"\")","v":0},null,{"$f":"IFERROR(INDEX(اقساط!$B$3:$B$8532,SMALL(IF(اقساط!$G$3:$G$8532=B1283,ROW($B$3:$B$8532)-ROW($B$3)+1),ROWS($C$3:C1283))),\"\")","v":0}]
[{"$f":"IFERROR(INDEX(اقساط!$AT$3:$AT$8532,SMALL(IF(اقساط!$G$3:$G$8532=B1284,ROW($AT$3:$AT$8532)-ROW($AT$3)+1),ROWS($A$3:A1284))),\"\")","v":0},null,{"$f":"IFERROR(INDEX(اقساط!$B$3:$B$8532,SMALL(IF(اقساط!$G$3:$G$8532=B1284,ROW($B$3:$B$8532)-ROW($B$3)+1),ROWS($C$3:C1284))),\"\")","v":0}]
[{"$f":"IFERROR(INDEX(اقساط!$AT$3:$AT$8532,SMALL(IF(اقساط!$G$3:$G$8532=B1285,ROW($AT$3:$AT$8532)-ROW($AT$3)+1),ROWS($A$3:A1285))),\"\")","v":0},null,{"$f":"IFERROR(INDEX(اقساط!$B$3:$B$8532,SMALL(IF(اقساط!$G$3:$G$8532=B1285,ROW($B$3:$B$8532)-ROW($B$3)+1),ROWS($C$3:C1285))),\"\")","v":0}]
[{"$f":"IFERROR(INDEX(اقساط!$AT$3:$AT$8532,SMALL(IF(اقساط!$G$3:$G$8532=B1286,ROW($AT$3:$AT$8532)-ROW($AT$3)+1),ROWS($A$3:A1286))),\"\")","v":0},null,{"$f":"IFERROR(INDEX(اقساط!$B$3:$B$8532,SMALL(IF(اقساط!$G$3:$G$8532=B1286,ROW($B$3:$B$8532)-ROW($B$3)+1),ROWS($C$3:C1286))),\"\")","v":0}]
[{"$f":"IFERROR(INDEX(اقساط!$AT$3:$AT$8532,SMALL(IF(اقساط!$G$3:$G$8532=B1287,ROW($AT$3:$AT$8532)-ROW($AT$3)+1),ROWS($A$3:A1287))),\"\")","v":0},null,{"$f":"IFERROR(INDEX(اقساط!$B$3:$B$8532,SMALL(IF(اقساط!$G$3:$G$8532=B1287,ROW($B$3:$B$8532)-ROW($B$3)+1),ROWS($C$3:C1287))),\"\")","v":0}]
[{"$f":"IFERROR(INDEX(اقساط!$AT$3:$AT$8532,SMALL(IF(اقساط!$G$3:$G$8532=B1288,ROW($AT$3:$AT$8532)-ROW($AT$3)+1),ROWS($A$3:A1288))),\"\")","v":0},null,{"$f":"IFERROR(INDEX(اقساط!$B$3:$B$8532,SMALL(IF(اقساط!$G$3:$G$8532=B1288,ROW($B$3:$B$8532)-ROW($B$3)+1),ROWS($C$3:C1288))),\"\")","v":0}]
[{"$f":"IFERROR(INDEX(اقساط!$AT$3:$AT$8532,SMALL(IF(اقساط!$G$3:$G$8532=B1289,ROW($AT$3:$AT$8532)-ROW($AT$3)+1),ROWS($A$3:A1289))),\"\")","v":0},null,{"$f":"IFERROR(INDEX(اقساط!$B$3:$B$8532,SMALL(IF(اقساط!$G$3:$G$8532=B1289,ROW($B$3:$B$8532)-ROW($B$3)+1),ROWS($C$3:C1289))),\"\")","v":0}]
[{"$f":"IFERROR(INDEX(اقساط!$AT$3:$AT$8532,SMALL(IF(اقساط!$G$3:$G$8532=B1290,ROW($AT$3:$AT$8532)-ROW($AT$3)+1),ROWS($A$3:A1290))),\"\")","v":0},null,{"$f":"IFERROR(INDEX(اقساط!$B$3:$B$8532,SMALL(IF(اقساط!$G$3:$G$8532=B1290,ROW($B$3:$B$8532)-ROW($B$3)+1),ROWS($C$3:C1290))),\"\")","v":0}]
[{"$f":"IFERROR(INDEX(اقساط!$AT$3:$AT$8532,SMALL(IF(اقساط!$G$3:$G$8532=B1291,ROW($AT$3:$AT$8532)-ROW($AT$3)+1),ROWS($A$3:A1291))),\"\")","v":0},null,{"$f":"IFERROR(INDEX(اقساط!$B$3:$B$8532,SMALL(IF(اقساط!$G$3:$G$8532=B1291,ROW($B$3:$B$8532)-ROW($B$3)+1),ROWS($C$3:C1291))),\"\")","v":0}]
[{"$f":"IFERROR(INDEX(اقساط!$AT$3:$AT$8532,SMALL(IF(اقساط!$G$3:$G$8532=B1292,ROW($AT$3:$AT$8532)-ROW($AT$3)+1),ROWS($A$3:A1292))),\"\")","v":0},null,{"$f":"IFERROR(INDEX(اقساط!$B$3:$B$8532,SMALL(IF(اقساط!$G$3:$G$8532=B1292,ROW($B$3:$B$8532)-ROW($B$3)+1),ROWS($C$3:C1292))),\"\")","v":0}]
[{"$f":"IFERROR(INDEX(اقساط!$AT$3:$AT$8532,SMALL(IF(اقساط!$G$3:$G$8532=B1293,ROW($AT$3:$AT$8532)-ROW($AT$3)+1),ROWS($A$3:A1293))),\"\")","v":0},null,{"$f":"IFERROR(INDEX(اقساط!$B$3:$B$8532,SMALL(IF(اقساط!$G$3:$G$8532=B1293,ROW($B$3:$B$8532)-ROW($B$3)+1),ROWS($C$3:C1293))),\"\")","v":0}]
[{"$f":"IFERROR(INDEX(اقساط!$AT$3:$AT$8532,SMALL(IF(اقساط!$G$3:$G$8532=B1294,ROW($AT$3:$AT$8532)-ROW($AT$3)+1),ROWS($A$3:A1294))),\"\")","v":0},null,{"$f":"IFERROR(INDEX(اقساط!$B$3:$B$8532,SMALL(IF(اقساط!$G$3:$G$8532=B1294,ROW($B$3:$B$8532)-ROW($B$3)+1),ROWS($C$3:C1294))),\"\")","v":0}]
[{"$f":"IFERROR(INDEX(اقساط!$AT$3:$AT$8532,SMALL(IF(اقساط!$G$3:$G$8532=B1295,ROW($AT$3:$AT$8532)-ROW($AT$3)+1),ROWS($A$3:A1295))),\"\")","v":0},null,{"$f":"IFERROR(INDEX(اقساط!$B$3:$B$8532,SMALL(IF(اقساط!$G$3:$G$8532=B1295,ROW($B$3:$B$8532)-ROW($B$3)+1),ROWS($C$3:C1295))),\"\")","v":0}]
[{"$f":"IFERROR(INDEX(اقساط!$AT$3:$AT$8532,SMALL(IF(اقساط!$G$3:$G$8532=B1296,ROW($AT$3:$AT$8532)-ROW($AT$3)+1),ROWS($A$3:A1296))),\"\")","v":0},null,{"$f":"IFERROR(INDEX(اقساط!$B$3:$B$8532,SMALL(IF(اقساط!$G$3:$G$8532=B1296,ROW($B$3:$B$8532)-ROW($B$3)+1),ROWS($C$3:C1296))),\"\")","v":0}]
[{"$f":"IFERROR(INDEX(اقساط!$AT$3:$AT$8532,SMALL(IF(اقساط!$G$3:$G$8532=B1297,ROW($AT$3:$AT$8532)-ROW($AT$3)+1),ROWS($A$3:A1297))),\"\")","v":0},null,{"$f":"IFERROR(INDEX(اقساط!$B$3:$B$8532,SMALL(IF(اقساط!$G$3:$G$8532=B1297,ROW($B$3:$B$8532)-ROW($B$3)+1),ROWS($C$3:C1297))),\"\")","v":0}]
[{"$f":"IFERROR(INDEX(اقساط!$AT$3:$AT$8532,SMALL(IF(اقساط!$G$3:$G$8532=B1298,ROW($AT$3:$AT$8532)-ROW($AT$3)+1),ROWS($A$3:A1298))),\"\")","v":0},null,{"$f":"IFERROR(INDEX(اقساط!$B$3:$B$8532,SMALL(IF(اقساط!$G$3:$G$8532=B1298,ROW($B$3:$B$8532)-ROW($B$3)+1),ROWS($C$3:C1298))),\"\")","v":0}]
[{"$f":"IFERROR(INDEX(اقساط!$AT$3:$AT$8532,SMALL(IF(اقساط!$G$3:$G$8532=B1299,ROW($AT$3:$AT$8532)-ROW($AT$3)+1),ROWS($A$3:A1299))),\"\")","v":0},null,{"$f":"IFERROR(INDEX(اقساط!$B$3:$B$8532,SMALL(IF(اقساط!$G$3:$G$8532=B1299,ROW($B$3:$B$8532)-ROW($B$3)+1),ROWS($C$3:C1299))),\"\")","v":0}]
[{"$f":"IFERROR(INDEX(اقساط!$AT$3:$AT$8532,SMALL(IF(اقساط!$G$3:$G$8532=B1300,ROW($AT$3:$AT$8532)-ROW($AT$3)+1),ROWS($A$3:A1300))),\"\")","v":0},null,{"$f":"IFERROR(INDEX(اقساط!$B$3:$B$8532,SMALL(IF(اقساط!$G$3:$G$8532=B1300,ROW($B$3:$B$8532)-ROW($B$3)+1),ROWS($C$3:C1300))),\"\")","v":0}]
[{"$f":"IFERROR(INDEX(اقساط!$AT$3:$AT$8532,SMALL(IF(اقساط!$G$3:$G$8532=B1301,ROW($AT$3:$AT$8532)-ROW($AT$3)+1),ROWS($A$3:A1301))),\"\")","v":0},null,{"$f":"IFERROR(INDEX(اقساط!$B$3:$B$8532,SMALL(IF(اقساط!$G$3:$G$8532=B1301,ROW($B$3:$B$8532)-ROW($B$3)+1),ROWS($C$3:C1301))),\"\")","v":0}]
[{"$f":"IFERROR(INDEX(اقساط!$AT$3:$AT$8532,SMALL(IF(اقساط!$G$3:$G$8532=B1302,ROW($AT$3:$AT$8532)-ROW($AT$3)+1),ROWS($A$3:A1302))),\"\")","v":0},null,{"$f":"IFERROR(INDEX(اقساط!$B$3:$B$8532,SMALL(IF(اقساط!$G$3:$G$8532=B1302,ROW($B$3:$B$8532)-ROW($B$3)+1),ROWS($C$3:C1302))),\"\")","v":0}]
[{"$f":"IFERROR(INDEX(اقساط!$AT$3:$AT$8532,SMALL(IF(اقساط!$G$3:$G$8532=B1303,ROW($AT$3:$AT$8532)-ROW($AT$3)+1),ROWS($A$3:A1303))),\"\")","v":0},null,{"$f":"IFERROR(INDEX(اقساط!$B$3:$B$8532,SMALL(IF(اقساط!$G$3:$G$8532=B1303,ROW($B$3:$B$8532)-ROW($B$3)+1),ROWS($C$3:C1303))),\"\")","v":0}]
[{"$f":"IFERROR(INDEX(اقساط!$AT$3:$AT$8532,SMALL(IF(اقساط!$G$3:$G$8532=B1304,ROW($AT$3:$AT$8532)-ROW($AT$3)+1),ROWS($A$3:A1304))),\"\")","v":0},null,{"$f":"IFERROR(INDEX(اقساط!$B$3:$B$8532,SMALL(IF(اقساط!$G$3:$G$8532=B1304,ROW($B$3:$B$8532)-ROW($B$3)+1),ROWS($C$3:C1304))),\"\")","v":0}]
[{"$f":"IFERROR(INDEX(اقساط!$AT$3:$AT$8532,SMALL(IF(اقساط!$G$3:$G$8532=B1305,ROW($AT$3:$AT$8532)-ROW($AT$3)+1),ROWS($A$3:A1305))),\"\")","v":0},null,{"$f":"IFERROR(INDEX(اقساط!$B$3:$B$8532,SMALL(IF(اقساط!$G$3:$G$8532=B1305,ROW($B$3:$B$8532)-ROW($B$3)+1),ROWS($C$3:C1305))),\"\")","v":0}]
[{"$f":"IFERROR(INDEX(اقساط!$AT$3:$AT$8532,SMALL(IF(اقساط!$G$3:$G$8532=B1306,ROW($AT$3:$AT$8532)-ROW($AT$3)+1),ROWS($A$3:A1306))),\"\")","v":0},null,{"$f":"IFERROR(INDEX(اقساط!$B$3:$B$8532,SMALL(IF(اقساط!$G$3:$G$8532=B1306,ROW($B$3:$B$8532)-ROW($B$3)+1),ROWS($C$3:C1306))),\"\")","v":0}]
[{"$f":"IFERROR(INDEX(اقساط!$AT$3:$AT$8532,SMALL(IF(اقساط!$G$3:$G$8532=B1307,ROW($AT$3:$AT$8532)-ROW($AT$3)+1),ROWS($A$3:A1307))),\"\")","v":0},null,{"$f":"IFERROR(INDEX(اقساط!$B$3:$B$8532,SMALL(IF(اقساط!$G$3:$G$8532=B1307,ROW($B$3:$B$8532)-ROW($B$3)+1),ROWS($C$3:C1307))),\"\")","v":0}]
[{"$f":"IFERROR(INDEX(اقساط!$AT$3:$AT$8532,SMALL(IF(اقساط!$G$3:$G$8532=B1308,ROW($AT$3:$AT$8532)-ROW($AT$3)+1),ROWS($A$3:A1308))),\"\")","v":0},null,{"$f":"IFERROR(INDEX(اقساط!$B$3:$B$8532,SMALL(IF(اقساط!$G$3:$G$8532=B1308,ROW($B$3:$B$8532)-ROW($B$3)+1),ROWS($C$3:C1308))),\"\")","v":0}]
[{"$f":"IFERROR(INDEX(اقساط!$AT$3:$AT$8532,SMALL(IF(اقساط!$G$3:$G$8532=B1309,ROW($AT$3:$AT$8532)-ROW($AT$3)+1),ROWS($A$3:A1309))),\"\")","v":0},null,{"$f":"IFERROR(INDEX(اقساط!$B$3:$B$8532,SMALL(IF(اقساط!$G$3:$G$8532=B1309,ROW($B$3:$B$8532)-ROW($B$3)+1),ROWS($C$3:C1309))),\"\")","v":0}]
[{"$f":"IFERROR(INDEX(اقساط!$AT$3:$AT$8532,SMALL(IF(اقساط!$G$3:$G$8532=B1310,ROW($AT$3:$AT$8532)-ROW($AT$3)+1),ROWS($A$3:A1310))),\"\")","v":0},null,{"$f":"IFERROR(INDEX(اقساط!$B$3:$B$8532,SMALL(IF(اقساط!$G$3:$G$8532=B1310,ROW($B$3:$B$8532)-ROW($B$3)+1),ROWS($C$3:C1310))),\"\")","v":0}]
[{"$f":"IFERROR(INDEX(اقساط!$AT$3:$AT$8532,SMALL(IF(اقساط!$G$3:$G$8532=B1311,ROW($AT$3:$AT$8532)-ROW($AT$3)+1),ROWS($A$3:A1311))),\"\")","v":0},null,{"$f":"IFERROR(INDEX(اقساط!$B$3:$B$8532,SMALL(IF(اقساط!$G$3:$G$8532=B1311,ROW($B$3:$B$8532)-ROW($B$3)+1),ROWS($C$3:C1311))),\"\")","v":0}]
[{"$f":"IFERROR(INDEX(اقساط!$AT$3:$AT$8532,SMALL(IF(اقساط!$G$3:$G$8532=B1312,ROW($AT$3:$AT$8532)-ROW($AT$3)+1),ROWS($A$3:A1312))),\"\")","v":0},null,{"$f":"IFERROR(INDEX(اقساط!$B$3:$B$8532,SMALL(IF(اقساط!$G$3:$G$8532=B1312,ROW($B$3:$B$8532)-ROW($B$3)+1),ROWS($C$3:C1312))),\"\")","v":0}]
[{"$f":"IFERROR(INDEX(اقساط!$AT$3:$AT$8532,SMALL(IF(اقساط!$G$3:$G$8532=B1313,ROW($AT$3:$AT$8532)-ROW($AT$3)+1),ROWS($A$3:A1313))),\"\")","v":0},null,{"$f":"IFERROR(INDEX(اقساط!$B$3:$B$8532,SMALL(IF(اقساط!$G$3:$G$8532=B1313,ROW($B$3:$B$8532)-ROW($B$3)+1),ROWS($C$3:C1313))),\"\")","v":0}]
[{"$f":"IFERROR(INDEX(اقساط!$AT$3:$AT$8532,SMALL(IF(اقساط!$G$3:$G$8532=B1314,ROW($AT$3:$AT$8532)-ROW($AT$3)+1),ROWS($A$3:A1314))),\"\")","v":0},null,{"$f":"IFERROR(INDEX(اقساط!$B$3:$B$8532,SMALL(IF(اقساط!$G$3:$G$8532=B1314,ROW($B$3:$B$8532)-ROW($B$3)+1),ROWS($C$3:C1314))),\"\")","v":0}]
[{"$f":"IFERROR(INDEX(اقساط!$AT$3:$AT$8532,SMALL(IF(اقساط!$G$3:$G$8532=B1315,ROW($AT$3:$AT$8532)-ROW($AT$3)+1),ROWS($A$3:A1315))),\"\")","v":0},null,{"$f":"IFERROR(INDEX(اقساط!$B$3:$B$8532,SMALL(IF(اقساط!$G$3:$G$8532=B1315,ROW($B$3:$B$8532)-ROW($B$3)+1),ROWS($C$3:C1315))),\"\")","v":0}]
[{"$f":"IFERROR(INDEX(اقساط!$AT$3:$AT$8532,SMALL(IF(اقساط!$G$3:$G$8532=B1316,ROW($AT$3:$AT$8532)-ROW($AT$3)+1),ROWS($A$3:A1316))),\"\")","v":0},null,{"$f":"IFERROR(INDEX(اقساط!$B$3:$B$8532,SMALL(IF(اقساط!$G$3:$G$8532=B1316,ROW($B$3:$B$8532)-ROW($B$3)+1),ROWS($C$3:C1316))),\"\")","v":0}]
[{"$f":"IFERROR(INDEX(اقساط!$AT$3:$AT$8532,SMALL(IF(اقساط!$G$3:$G$8532=B1317,ROW($AT$3:$AT$8532)-ROW($AT$3)+1),ROWS($A$3:A1317))),\"\")","v":0},null,{"$f":"IFERROR(INDEX(اقساط!$B$3:$B$8532,SMALL(IF(اقساط!$G$3:$G$8532=B1317,ROW($B$3:$B$8532)-ROW($B$3)+1),ROWS($C$3:C1317))),\"\")","v":0}]
[{"$f":"IFERROR(INDEX(اقساط!$AT$3:$AT$8532,SMALL(IF(اقساط!$G$3:$G$8532=B1318,ROW($AT$3:$AT$8532)-ROW($AT$3)+1),ROWS($A$3:A1318))),\"\")","v":0},null,{"$f":"IFERROR(INDEX(اقساط!$B$3:$B$8532,SMALL(IF(اقساط!$G$3:$G$8532=B1318,ROW($B$3:$B$8532)-ROW($B$3)+1),ROWS($C$3:C1318))),\"\")","v":0}]
[{"$f":"IFERROR(INDEX(اقساط!$AT$3:$AT$8532,SMALL(IF(اقساط!$G$3:$G$8532=B1319,ROW($AT$3:$AT$8532)-ROW($AT$3)+1),ROWS($A$3:A1319))),\"\")","v":0},null,{"$f":"IFERROR(INDEX(اقساط!$B$3:$B$8532,SMALL(IF(اقساط!$G$3:$G$8532=B1319,ROW($B$3:$B$8532)-ROW($B$3)+1),ROWS($C$3:C1319))),\"\")","v":0}]
[{"$f":"IFERROR(INDEX(اقساط!$AT$3:$AT$8532,SMALL(IF(اقساط!$G$3:$G$8532=B1320,ROW($AT$3:$AT$8532)-ROW($AT$3)+1),ROWS($A$3:A1320))),\"\")","v":0},null,{"$f":"IFERROR(INDEX(اقساط!$B$3:$B$8532,SMALL(IF(اقساط!$G$3:$G$8532=B1320,ROW($B$3:$B$8532)-ROW($B$3)+1),ROWS($C$3:C1320))),\"\")","v":0}]
[{"$f":"IFERROR(INDEX(اقساط!$AT$3:$AT$8532,SMALL(IF(اقساط!$G$3:$G$8532=B1321,ROW($AT$3:$AT$8532)-ROW($AT$3)+1),ROWS($A$3:A1321))),\"\")","v":0},null,{"$f":"IFERROR(INDEX(اقساط!$B$3:$B$8532,SMALL(IF(اقساط!$G$3:$G$8532=B1321,ROW($B$3:$B$8532)-ROW($B$3)+1),ROWS($C$3:C1321))),\"\")","v":0}]
[{"$f":"IFERROR(INDEX(اقساط!$AT$3:$AT$8532,SMALL(IF(اقساط!$G$3:$G$8532=B1322,ROW($AT$3:$AT$8532)-ROW($AT$3)+1),ROWS($A$3:A1322))),\"\")","v":0},null,{"$f":"IFERROR(INDEX(اقساط!$B$3:$B$8532,SMALL(IF(اقساط!$G$3:$G$8532=B1322,ROW($B$3:$B$8532)-ROW($B$3)+1),ROWS($C$3:C1322))),\"\")","v":0}]
[{"$f":"IFERROR(INDEX(اقساط!$AT$3:$AT$8532,SMALL(IF(اقساط!$G$3:$G$8532=B1323,ROW($AT$3:$AT$8532)-ROW($AT$3)+1),ROWS($A$3:A1323))),\"\")","v":0},null,{"$f":"IFERROR(INDEX(اقساط!$B$3:$B$8532,SMALL(IF(اقساط!$G$3:$G$8532=B1323,ROW($B$3:$B$8532)-ROW($B$3)+1),ROWS($C$3:C1323))),\"\")","v":0}]
[{"$f":"IFERROR(INDEX(اقساط!$AT$3:$AT$8532,SMALL(IF(اقساط!$G$3:$G$8532=B1324,ROW($AT$3:$AT$8532)-ROW($AT$3)+1),ROWS($A$3:A1324))),\"\")","v":0},null,{"$f":"IFERROR(INDEX(اقساط!$B$3:$B$8532,SMALL(IF(اقساط!$G$3:$G$8532=B1324,ROW($B$3:$B$8532)-ROW($B$3)+1),ROWS($C$3:C1324))),\"\")","v":0}]
[{"$f":"IFERROR(INDEX(اقساط!$AT$3:$AT$8532,SMALL(IF(اقساط!$G$3:$G$8532=B1325,ROW($AT$3:$AT$8532)-ROW($AT$3)+1),ROWS($A$3:A1325))),\"\")","v":0},null,{"$f":"IFERROR(INDEX(اقساط!$B$3:$B$8532,SMALL(IF(اقساط!$G$3:$G$8532=B1325,ROW($B$3:$B$8532)-ROW($B$3)+1),ROWS($C$3:C1325))),\"\")","v":0}]
[{"$f":"IFERROR(INDEX(اقساط!$AT$3:$AT$8532,SMALL(IF(اقساط!$G$3:$G$8532=B1326,ROW($AT$3:$AT$8532)-ROW($AT$3)+1),ROWS($A$3:A1326))),\"\")","v":0},null,{"$f":"IFERROR(INDEX(اقساط!$B$3:$B$8532,SMALL(IF(اقساط!$G$3:$G$8532=B1326,ROW($B$3:$B$8532)-ROW($B$3)+1),ROWS($C$3:C1326))),\"\")","v":0}]
[{"$f":"IFERROR(INDEX(اقساط!$AT$3:$AT$8532,SMALL(IF(اقساط!$G$3:$G$8532=B1327,ROW($AT$3:$AT$8532)-ROW($AT$3)+1),ROWS($A$3:A1327))),\"\")","v":0},null,{"$f":"IFERROR(INDEX(اقساط!$B$3:$B$8532,SMALL(IF(اقساط!$G$3:$G$8532=B1327,ROW($B$3:$B$8532)-ROW($B$3)+1),ROWS($C$3:C1327))),\"\")","v":0}]
[{"$f":"IFERROR(INDEX(اقساط!$AT$3:$AT$8532,SMALL(IF(اقساط!$G$3:$G$8532=B1328,ROW($AT$3:$AT$8532)-ROW($AT$3)+1),ROWS($A$3:A1328))),\"\")","v":0},null,{"$f":"IFERROR(INDEX(اقساط!$B$3:$B$8532,SMALL(IF(اقساط!$G$3:$G$8532=B1328,ROW($B$3:$B$8532)-ROW($B$3)+1),ROWS($C$3:C1328))),\"\")","v":0}]
[{"$f":"IFERROR(INDEX(اقساط!$AT$3:$AT$8532,SMALL(IF(اقساط!$G$3:$G$8532=B1329,ROW($AT$3:$AT$8532)-ROW($AT$3)+1),ROWS($A$3:A1329))),\"\")","v":0},null,{"$f":"IFERROR(INDEX(اقساط!$B$3:$B$8532,SMALL(IF(اقساط!$G$3:$G$8532=B1329,ROW($B$3:$B$8532)-ROW($B$3)+1),ROWS($C$3:C1329))),\"\")","v":0}]
[{"$f":"IFERROR(INDEX(اقساط!$AT$3:$AT$8532,SMALL(IF(اقساط!$G$3:$G$8532=B1330,ROW($AT$3:$AT$8532)-ROW($AT$3)+1),ROWS($A$3:A1330))),\"\")","v":0},null,{"$f":"IFERROR(INDEX(اقساط!$B$3:$B$8532,SMALL(IF(اقساط!$G$3:$G$8532=B1330,ROW($B$3:$B$8532)-ROW($B$3)+1),ROWS($C$3:C1330))),\"\")","v":0}]
[{"$f":"IFERROR(INDEX(اقساط!$AT$3:$AT$8532,SMALL(IF(اقساط!$G$3:$G$8532=B1331,ROW($AT$3:$AT$8532)-ROW($AT$3)+1),ROWS($A$3:A1331))),\"\")","v":0},null,{"$f":"IFERROR(INDEX(اقساط!$B$3:$B$8532,SMALL(IF(اقساط!$G$3:$G$8532=B1331,ROW($B$3:$B$8532)-ROW($B$3)+1),ROWS($C$3:C1331))),\"\")","v":0}]
[{"$f":"IFERROR(INDEX(اقساط!$AT$3:$AT$8532,SMALL(IF(اقساط!$G$3:$G$8532=B1332,ROW($AT$3:$AT$8532)-ROW($AT$3)+1),ROWS($A$3:A1332))),\"\")","v":0},null,{"$f":"IFERROR(INDEX(اقساط!$B$3:$B$8532,SMALL(IF(اقساط!$G$3:$G$8532=B1332,ROW($B$3:$B$8532)-ROW($B$3)+1),ROWS($C$3:C1332))),\"\")","v":0}]
[{"$f":"IFERROR(INDEX(اقساط!$AT$3:$AT$8532,SMALL(IF(اقساط!$G$3:$G$8532=B1333,ROW($AT$3:$AT$8532)-ROW($AT$3)+1),ROWS($A$3:A1333))),\"\")","v":0},null,{"$f":"IFERROR(INDEX(اقساط!$B$3:$B$8532,SMALL(IF(اقساط!$G$3:$G$8532=B1333,ROW($B$3:$B$8532)-ROW($B$3)+1),ROWS($C$3:C1333))),\"\")","v":0}]
[{"$f":"IFERROR(INDEX(اقساط!$AT$3:$AT$8532,SMALL(IF(اقساط!$G$3:$G$8532=B1334,ROW($AT$3:$AT$8532)-ROW($AT$3)+1),ROWS($A$3:A1334))),\"\")","v":0},null,{"$f":"IFERROR(INDEX(اقساط!$B$3:$B$8532,SMALL(IF(اقساط!$G$3:$G$8532=B1334,ROW($B$3:$B$8532)-ROW($B$3)+1),ROWS($C$3:C1334))),\"\")","v":0}]
[{"$f":"IFERROR(INDEX(اقساط!$AT$3:$AT$8532,SMALL(IF(اقساط!$G$3:$G$8532=B1335,ROW($AT$3:$AT$8532)-ROW($AT$3)+1),ROWS($A$3:A1335))),\"\")","v":0},null,{"$f":"IFERROR(INDEX(اقساط!$B$3:$B$8532,SMALL(IF(اقساط!$G$3:$G$8532=B1335,ROW($B$3:$B$8532)-ROW($B$3)+1),ROWS($C$3:C1335))),\"\")","v":0}]
[{"$f":"IFERROR(INDEX(اقساط!$AT$3:$AT$8532,SMALL(IF(اقساط!$G$3:$G$8532=B1336,ROW($AT$3:$AT$8532)-ROW($AT$3)+1),ROWS($A$3:A1336))),\"\")","v":0},null,{"$f":"IFERROR(INDEX(اقساط!$B$3:$B$8532,SMALL(IF(اقساط!$G$3:$G$8532=B1336,ROW($B$3:$B$8532)-ROW($B$3)+1),ROWS($C$3:C1336))),\"\")","v":0}]
[{"$f":"IFERROR(INDEX(اقساط!$AT$3:$AT$8532,SMALL(IF(اقساط!$G$3:$G$8532=B1337,ROW($AT$3:$AT$8532)-ROW($AT$3)+1),ROWS($A$3:A1337))),\"\")","v":0},null,{"$f":"IFERROR(INDEX(اقساط!$B$3:$B$8532,SMALL(IF(اقساط!$G$3:$G$8532=B1337,ROW($B$3:$B$8532)-ROW($B$3)+1),ROWS($C$3:C1337))),\"\")","v":0}]
[{"$f":"IFERROR(INDEX(اقساط!$AT$3:$AT$8532,SMALL(IF(اقساط!$G$3:$G$8532=B1338,ROW($AT$3:$AT$8532)-ROW($AT$3)+1),ROWS($A$3:A1338))),\"\")","v":0},null,{"$f":"IFERROR(INDEX(اقساط!$B$3:$B$8532,SMALL(IF(اقساط!$G$3:$G$8532=B1338,ROW($B$3:$B$8532)-ROW($B$3)+1),ROWS($C$3:C1338))),\"\")","v":0}]
[{"$f":"IFERROR(INDEX(اقساط!$AT$3:$AT$8532,SMALL(IF(اقساط!$G$3:$G$8532=B1339,ROW($AT$3:$AT$8532)-ROW($AT$3)+1),ROWS($A$3:A1339))),\"\")","v":0},null,{"$f":"IFERROR(INDEX(اقساط!$B$3:$B$8532,SMALL(IF(اقساط!$G$3:$G$8532=B1339,ROW($B$3:$B$8532)-ROW($B$3)+1),ROWS($C$3:C1339))),\"\")","v":0}]
[{"$f":"IFERROR(INDEX(اقساط!$AT$3:$AT$8532,SMALL(IF(اقساط!$G$3:$G$8532=B1340,ROW($AT$3:$AT$8532)-ROW($AT$3)+1),ROWS($A$3:A1340))),\"\")","v":0},null,{"$f":"IFERROR(INDEX(اقساط!$B$3:$B$8532,SMALL(IF(اقساط!$G$3:$G$8532=B1340,ROW($B$3:$B$8532)-ROW($B$3)+1),ROWS($C$3:C1340))),\"\")","v":0}]
[{"$f":"IFERROR(INDEX(اقساط!$AT$3:$AT$8532,SMALL(IF(اقساط!$G$3:$G$8532=B1341,ROW($AT$3:$AT$8532)-ROW($AT$3)+1),ROWS($A$3:A1341))),\"\")","v":0},null,{"$f":"IFERROR(INDEX(اقساط!$B$3:$B$8532,SMALL(IF(اقساط!$G$3:$G$8532=B1341,ROW($B$3:$B$8532)-ROW($B$3)+1),ROWS($C$3:C1341))),\"\")","v":0}]
[{"$f":"IFERROR(INDEX(اقساط!$AT$3:$AT$8532,SMALL(IF(اقساط!$G$3:$G$8532=B1342,ROW($AT$3:$AT$8532)-ROW($AT$3)+1),ROWS($A$3:A1342))),\"\")","v":0},null,{"$f":"IFERROR(INDEX(اقساط!$B$3:$B$8532,SMALL(IF(اقساط!$G$3:$G$8532=B1342,ROW($B$3:$B$8532)-ROW($B$3)+1),ROWS($C$3:C1342))),\"\")","v":0}]
[{"$f":"IFERROR(INDEX(اقساط!$AT$3:$AT$8532,SMALL(IF(اقساط!$G$3:$G$8532=B1343,ROW($AT$3:$AT$8532)-ROW($AT$3)+1),ROWS($A$3:A1343))),\"\")","v":0},null,{"$f":"IFERROR(INDEX(اقساط!$B$3:$B$8532,SMALL(IF(اقساط!$G$3:$G$8532=B1343,ROW($B$3:$B$8532)-ROW($B$3)+1),ROWS($C$3:C1343))),\"\")","v":0}]
[{"$f":"IFERROR(INDEX(اقساط!$AT$3:$AT$8532,SMALL(IF(اقساط!$G$3:$G$8532=B1344,ROW($AT$3:$AT$8532)-ROW($AT$3)+1),ROWS($A$3:A1344))),\"\")","v":0},null,{"$f":"IFERROR(INDEX(اقساط!$B$3:$B$8532,SMALL(IF(اقساط!$G$3:$G$8532=B1344,ROW($B$3:$B$8532)-ROW($B$3)+1),ROWS($C$3:C1344))),\"\")","v":0}]
[{"$f":"IFERROR(INDEX(اقساط!$AT$3:$AT$8532,SMALL(IF(اقساط!$G$3:$G$8532=B1345,ROW($AT$3:$AT$8532)-ROW($AT$3)+1),ROWS($A$3:A1345))),\"\")","v":0},null,{"$f":"IFERROR(INDEX(اقساط!$B$3:$B$8532,SMALL(IF(اقساط!$G$3:$G$8532=B1345,ROW($B$3:$B$8532)-ROW($B$3)+1),ROWS($C$3:C1345))),\"\")","v":0}]
[{"$f":"IFERROR(INDEX(اقساط!$AT$3:$AT$8532,SMALL(IF(اقساط!$G$3:$G$8532=B1346,ROW($AT$3:$AT$8532)-ROW($AT$3)+1),ROWS($A$3:A1346))),\"\")","v":0},null,{"$f":"IFERROR(INDEX(اقساط!$B$3:$B$8532,SMALL(IF(اقساط!$G$3:$G$8532=B1346,ROW($B$3:$B$8532)-ROW($B$3)+1),ROWS($C$3:C1346))),\"\")","v":0}]
[{"$f":"IFERROR(INDEX(اقساط!$AT$3:$AT$8532,SMALL(IF(اقساط!$G$3:$G$8532=B1347,ROW($AT$3:$AT$8532)-ROW($AT$3)+1),ROWS($A$3:A1347))),\"\")","v":0},null,{"$f":"IFERROR(INDEX(اقساط!$B$3:$B$8532,SMALL(IF(اقساط!$G$3:$G$8532=B1347,ROW($B$3:$B$8532)-ROW($B$3)+1),ROWS($C$3:C1347))),\"\")","v":0}]
[{"$f":"IFERROR(INDEX(اقساط!$AT$3:$AT$8532,SMALL(IF(اقساط!$G$3:$G$8532=B1348,ROW($AT$3:$AT$8532)-ROW($AT$3)+1),ROWS($A$3:A1348))),\"\")","v":0},null,{"$f":"IFERROR(INDEX(اقساط!$B$3:$B$8532,SMALL(IF(اقساط!$G$3:$G$8532=B1348,ROW($B$3:$B$8532)-ROW($B$3)+1),ROWS($C$3:C1348))),\"\")","v":0}]
[{"$f":"IFERROR(INDEX(اقساط!$AT$3:$AT$8532,SMALL(IF(اقساط!$G$3:$G$8532=B1349,ROW($AT$3:$AT$8532)-ROW($AT$3)+1),ROWS($A$3:A1349))),\"\")","v":0},null,{"$f":"IFERROR(INDEX(اقساط!$B$3:$B$8532,SMALL(IF(اقساط!$G$3:$G$8532=B1349,ROW($B$3:$B$8532)-ROW($B$3)+1),ROWS($C$3:C1349))),\"\")","v":0}]
[{"$f":"IFERROR(INDEX(اقساط!$AT$3:$AT$8532,SMALL(IF(اقساط!$G$3:$G$8532=B1350,ROW($AT$3:$AT$8532)-ROW($AT$3)+1),ROWS($A$3:A1350))),\"\")","v":0},null,{"$f":"IFERROR(INDEX(اقساط!$B$3:$B$8532,SMALL(IF(اقساط!$G$3:$G$8532=B1350,ROW($B$3:$B$8532)-ROW($B$3)+1),ROWS($C$3:C1350))),\"\")","v":0}]
[{"$f":"IFERROR(INDEX(اقساط!$AT$3:$AT$8532,SMALL(IF(اقساط!$G$3:$G$8532=B1351,ROW($AT$3:$AT$8532)-ROW($AT$3)+1),ROWS($A$3:A1351))),\"\")","v":0},null,{"$f":"IFERROR(INDEX(اقساط!$B$3:$B$8532,SMALL(IF(اقساط!$G$3:$G$8532=B1351,ROW($B$3:$B$8532)-ROW($B$3)+1),ROWS($C$3:C1351))),\"\")","v":0}]
[{"$f":"IFERROR(INDEX(اقساط!$AT$3:$AT$8532,SMALL(IF(اقساط!$G$3:$G$8532=B1352,ROW($AT$3:$AT$8532)-ROW($AT$3)+1),ROWS($A$3:A1352))),\"\")","v":0},null,{"$f":"IFERROR(INDEX(اقساط!$B$3:$B$8532,SMALL(IF(اقساط!$G$3:$G$8532=B1352,ROW($B$3:$B$8532)-ROW($B$3)+1),ROWS($C$3:C1352))),\"\")","v":0}]
[{"$f":"IFERROR(INDEX(اقساط!$AT$3:$AT$8532,SMALL(IF(اقساط!$G$3:$G$8532=B1353,ROW($AT$3:$AT$8532)-ROW($AT$3)+1),ROWS($A$3:A1353))),\"\")","v":0},null,{"$f":"IFERROR(INDEX(اقساط!$B$3:$B$8532,SMALL(IF(اقساط!$G$3:$G$8532=B1353,ROW($B$3:$B$8532)-ROW($B$3)+1),ROWS($C$3:C1353))),\"\")","v":0}]
[{"$f":"IFERROR(INDEX(اقساط!$AT$3:$AT$8532,SMALL(IF(اقساط!$G$3:$G$8532=B1354,ROW($AT$3:$AT$8532)-ROW($AT$3)+1),ROWS($A$3:A1354))),\"\")","v":0},null,{"$f":"IFERROR(INDEX(اقساط!$B$3:$B$8532,SMALL(IF(اقساط!$G$3:$G$8532=B1354,ROW($B$3:$B$8532)-ROW($B$3)+1),ROWS($C$3:C1354))),\"\")","v":0}]
[{"$f":"IFERROR(INDEX(اقساط!$AT$3:$AT$8532,SMALL(IF(اقساط!$G$3:$G$8532=B1355,ROW($AT$3:$AT$8532)-ROW($AT$3)+1),ROWS($A$3:A1355))),\"\")","v":0},null,{"$f":"IFERROR(INDEX(اقساط!$B$3:$B$8532,SMALL(IF(اقساط!$G$3:$G$8532=B1355,ROW($B$3:$B$8532)-ROW($B$3)+1),ROWS($C$3:C1355))),\"\")","v":0}]
[{"$f":"IFERROR(INDEX(اقساط!$AT$3:$AT$8532,SMALL(IF(اقساط!$G$3:$G$8532=B1356,ROW($AT$3:$AT$8532)-ROW($AT$3)+1),ROWS($A$3:A1356))),\"\")","v":0},null,{"$f":"IFERROR(INDEX(اقساط!$B$3:$B$8532,SMALL(IF(اقساط!$G$3:$G$8532=B1356,ROW($B$3:$B$8532)-ROW($B$3)+1),ROWS($C$3:C1356))),\"\")","v":0}]
[{"$f":"IFERROR(INDEX(اقساط!$AT$3:$AT$8532,SMALL(IF(اقساط!$G$3:$G$8532=B1357,ROW($AT$3:$AT$8532)-ROW($AT$3)+1),ROWS($A$3:A1357))),\"\")","v":0},null,{"$f":"IFERROR(INDEX(اقساط!$B$3:$B$8532,SMALL(IF(اقساط!$G$3:$G$8532=B1357,ROW($B$3:$B$8532)-ROW($B$3)+1),ROWS($C$3:C1357))),\"\")","v":0}]
[{"$f":"IFERROR(INDEX(اقساط!$AT$3:$AT$8532,SMALL(IF(اقساط!$G$3:$G$8532=B1358,ROW($AT$3:$AT$8532)-ROW($AT$3)+1),ROWS($A$3:A1358))),\"\")","v":0},null,{"$f":"IFERROR(INDEX(اقساط!$B$3:$B$8532,SMALL(IF(اقساط!$G$3:$G$8532=B1358,ROW($B$3:$B$8532)-ROW($B$3)+1),ROWS($C$3:C1358))),\"\")","v":0}]
[{"$f":"IFERROR(INDEX(اقساط!$AT$3:$AT$8532,SMALL(IF(اقساط!$G$3:$G$8532=B1359,ROW($AT$3:$AT$8532)-ROW($AT$3)+1),ROWS($A$3:A1359))),\"\")","v":0},null,{"$f":"IFERROR(INDEX(اقساط!$B$3:$B$8532,SMALL(IF(اقساط!$G$3:$G$8532=B1359,ROW($B$3:$B$8532)-ROW($B$3)+1),ROWS($C$3:C1359))),\"\")","v":0}]
[{"$f":"IFERROR(INDEX(اقساط!$AT$3:$AT$8532,SMALL(IF(اقساط!$G$3:$G$8532=B1360,ROW($AT$3:$AT$8532)-ROW($AT$3)+1),ROWS($A$3:A1360))),\"\")","v":0},null,{"$f":"IFERROR(INDEX(اقساط!$B$3:$B$8532,SMALL(IF(اقساط!$G$3:$G$8532=B1360,ROW($B$3:$B$8532)-ROW($B$3)+1),ROWS($C$3:C1360))),\"\")","v":0}]
[{"$f":"IFERROR(INDEX(اقساط!$AT$3:$AT$8532,SMALL(IF(اقساط!$G$3:$G$8532=B1361,ROW($AT$3:$AT$8532)-ROW($AT$3)+1),ROWS($A$3:A1361))),\"\")","v":0},null,{"$f":"IFERROR(INDEX(اقساط!$B$3:$B$8532,SMALL(IF(اقساط!$G$3:$G$8532=B1361,ROW($B$3:$B$8532)-ROW($B$3)+1),ROWS($C$3:C1361))),\"\")","v":0}]
[{"$f":"IFERROR(INDEX(اقساط!$AT$3:$AT$8532,SMALL(IF(اقساط!$G$3:$G$8532=B1362,ROW($AT$3:$AT$8532)-ROW($AT$3)+1),ROWS($A$3:A1362))),\"\")","v":0},null,{"$f":"IFERROR(INDEX(اقساط!$B$3:$B$8532,SMALL(IF(اقساط!$G$3:$G$8532=B1362,ROW($B$3:$B$8532)-ROW($B$3)+1),ROWS($C$3:C1362))),\"\")","v":0}]
[{"$f":"IFERROR(INDEX(اقساط!$AT$3:$AT$8532,SMALL(IF(اقساط!$G$3:$G$8532=B1363,ROW($AT$3:$AT$8532)-ROW($AT$3)+1),ROWS($A$3:A1363))),\"\")","v":0},null,{"$f":"IFERROR(INDEX(اقساط!$B$3:$B$8532,SMALL(IF(اقساط!$G$3:$G$8532=B1363,ROW($B$3:$B$8532)-ROW($B$3)+1),ROWS($C$3:C1363))),\"\")","v":0}]
[{"$f":"IFERROR(INDEX(اقساط!$AT$3:$AT$8532,SMALL(IF(اقساط!$G$3:$G$8532=B1364,ROW($AT$3:$AT$8532)-ROW($AT$3)+1),ROWS($A$3:A1364))),\"\")","v":0},null,{"$f":"IFERROR(INDEX(اقساط!$B$3:$B$8532,SMALL(IF(اقساط!$G$3:$G$8532=B1364,ROW($B$3:$B$8532)-ROW($B$3)+1),ROWS($C$3:C1364))),\"\")","v":0}]
[{"$f":"IFERROR(INDEX(اقساط!$AT$3:$AT$8532,SMALL(IF(اقساط!$G$3:$G$8532=B1365,ROW($AT$3:$AT$8532)-ROW($AT$3)+1),ROWS($A$3:A1365))),\"\")","v":0},null,{"$f":"IFERROR(INDEX(اقساط!$B$3:$B$8532,SMALL(IF(اقساط!$G$3:$G$8532=B1365,ROW($B$3:$B$8532)-ROW($B$3)+1),ROWS($C$3:C1365))),\"\")","v":0}]
[{"$f":"IFERROR(INDEX(اقساط!$AT$3:$AT$8532,SMALL(IF(اقساط!$G$3:$G$8532=B1366,ROW($AT$3:$AT$8532)-ROW($AT$3)+1),ROWS($A$3:A1366))),\"\")","v":0},null,{"$f":"IFERROR(INDEX(اقساط!$B$3:$B$8532,SMALL(IF(اقساط!$G$3:$G$8532=B1366,ROW($B$3:$B$8532)-ROW($B$3)+1),ROWS($C$3:C1366))),\"\")","v":0}]
[{"$f":"IFERROR(INDEX(اقساط!$AT$3:$AT$8532,SMALL(IF(اقساط!$G$3:$G$8532=B1367,ROW($AT$3:$AT$8532)-ROW($AT$3)+1),ROWS($A$3:A1367))),\"\")","v":0},null,{"$f":"IFERROR(INDEX(اقساط!$B$3:$B$8532,SMALL(IF(اقساط!$G$3:$G$8532=B1367,ROW($B$3:$B$8532)-ROW($B$3)+1),ROWS($C$3:C1367))),\"\")","v":0}]
[{"$f":"IFERROR(INDEX(اقساط!$AT$3:$AT$8532,SMALL(IF(اقساط!$G$3:$G$8532=B1368,ROW($AT$3:$AT$8532)-ROW($AT$3)+1),ROWS($A$3:A1368))),\"\")","v":0},null,{"$f":"IFERROR(INDEX(اقساط!$B$3:$B$8532,SMALL(IF(اقساط!$G$3:$G$8532=B1368,ROW($B$3:$B$8532)-ROW($B$3)+1),ROWS($C$3:C1368))),\"\")","v":0}]
[{"$f":"IFERROR(INDEX(اقساط!$AT$3:$AT$8532,SMALL(IF(اقساط!$G$3:$G$8532=B1369,ROW($AT$3:$AT$8532)-ROW($AT$3)+1),ROWS($A$3:A1369))),\"\")","v":0},null,{"$f":"IFERROR(INDEX(اقساط!$B$3:$B$8532,SMALL(IF(اقساط!$G$3:$G$8532=B1369,ROW($B$3:$B$8532)-ROW($B$3)+1),ROWS($C$3:C1369))),\"\")","v":0}]
[{"$f":"IFERROR(INDEX(اقساط!$AT$3:$AT$8532,SMALL(IF(اقساط!$G$3:$G$8532=B1370,ROW($AT$3:$AT$8532)-ROW($AT$3)+1),ROWS($A$3:A1370))),\"\")","v":0},null,{"$f":"IFERROR(INDEX(اقساط!$B$3:$B$8532,SMALL(IF(اقساط!$G$3:$G$8532=B1370,ROW($B$3:$B$8532)-ROW($B$3)+1),ROWS($C$3:C1370))),\"\")","v":0}]
[{"$f":"IFERROR(INDEX(اقساط!$AT$3:$AT$8532,SMALL(IF(اقساط!$G$3:$G$8532=B1371,ROW($AT$3:$AT$8532)-ROW($AT$3)+1),ROWS($A$3:A1371))),\"\")","v":0},null,{"$f":"IFERROR(INDEX(اقساط!$B$3:$B$8532,SMALL(IF(اقساط!$G$3:$G$8532=B1371,ROW($B$3:$B$8532)-ROW($B$3)+1),ROWS($C$3:C1371))),\"\")","v":0}]
[{"$f":"IFERROR(INDEX(اقساط!$AT$3:$AT$8532,SMALL(IF(اقساط!$G$3:$G$8532=B1372,ROW($AT$3:$AT$8532)-ROW($AT$3)+1),ROWS($A$3:A1372))),\"\")","v":0},null,{"$f":"IFERROR(INDEX(اقساط!$B$3:$B$8532,SMALL(IF(اقساط!$G$3:$G$8532=B1372,ROW($B$3:$B$8532)-ROW($B$3)+1),ROWS($C$3:C1372))),\"\")","v":0}]
[{"$f":"IFERROR(INDEX(اقساط!$AT$3:$AT$8532,SMALL(IF(اقساط!$G$3:$G$8532=B1373,ROW($AT$3:$AT$8532)-ROW($AT$3)+1),ROWS($A$3:A1373))),\"\")","v":0},null,{"$f":"IFERROR(INDEX(اقساط!$B$3:$B$8532,SMALL(IF(اقساط!$G$3:$G$8532=B1373,ROW($B$3:$B$8532)-ROW($B$3)+1),ROWS($C$3:C1373))),\"\")","v":0}]
[{"$f":"IFERROR(INDEX(اقساط!$AT$3:$AT$8532,SMALL(IF(اقساط!$G$3:$G$8532=B1374,ROW($AT$3:$AT$8532)-ROW($AT$3)+1),ROWS($A$3:A1374))),\"\")","v":0},null,{"$f":"IFERROR(INDEX(اقساط!$B$3:$B$8532,SMALL(IF(اقساط!$G$3:$G$8532=B1374,ROW($B$3:$B$8532)-ROW($B$3)+1),ROWS($C$3:C1374))),\"\")","v":0}]
[{"$f":"IFERROR(INDEX(اقساط!$AT$3:$AT$8532,SMALL(IF(اقساط!$G$3:$G$8532=B1375,ROW($AT$3:$AT$8532)-ROW($AT$3)+1),ROWS($A$3:A1375))),\"\")","v":0},null,{"$f":"IFERROR(INDEX(اقساط!$B$3:$B$8532,SMALL(IF(اقساط!$G$3:$G$8532=B1375,ROW($B$3:$B$8532)-ROW($B$3)+1),ROWS($C$3:C1375))),\"\")","v":0}]
[{"$f":"IFERROR(INDEX(اقساط!$AT$3:$AT$8532,SMALL(IF(اقساط!$G$3:$G$8532=B1376,ROW($AT$3:$AT$8532)-ROW($AT$3)+1),ROWS($A$3:A1376))),\"\")","v":0},null,{"$f":"IFERROR(INDEX(اقساط!$B$3:$B$8532,SMALL(IF(اقساط!$G$3:$G$8532=B1376,ROW($B$3:$B$8532)-ROW($B$3)+1),ROWS($C$3:C1376))),\"\")","v":0}]
[{"$f":"IFERROR(INDEX(اقساط!$AT$3:$AT$8532,SMALL(IF(اقساط!$G$3:$G$8532=B1377,ROW($AT$3:$AT$8532)-ROW($AT$3)+1),ROWS($A$3:A1377))),\"\")","v":0},null,{"$f":"IFERROR(INDEX(اقساط!$B$3:$B$8532,SMALL(IF(اقساط!$G$3:$G$8532=B1377,ROW($B$3:$B$8532)-ROW($B$3)+1),ROWS($C$3:C1377))),\"\")","v":0}]
[{"$f":"IFERROR(INDEX(اقساط!$AT$3:$AT$8532,SMALL(IF(اقساط!$G$3:$G$8532=B1378,ROW($AT$3:$AT$8532)-ROW($AT$3)+1),ROWS($A$3:A1378))),\"\")","v":0},null,{"$f":"IFERROR(INDEX(اقساط!$B$3:$B$8532,SMALL(IF(اقساط!$G$3:$G$8532=B1378,ROW($B$3:$B$8532)-ROW($B$3)+1),ROWS($C$3:C1378))),\"\")","v":0}]
[{"$f":"IFERROR(INDEX(اقساط!$AT$3:$AT$8532,SMALL(IF(اقساط!$G$3:$G$8532=B1379,ROW($AT$3:$AT$8532)-ROW($AT$3)+1),ROWS($A$3:A1379))),\"\")","v":0},null,{"$f":"IFERROR(INDEX(اقساط!$B$3:$B$8532,SMALL(IF(اقساط!$G$3:$G$8532=B1379,ROW($B$3:$B$8532)-ROW($B$3)+1),ROWS($C$3:C1379))),\"\")","v":0}]
[{"$f":"IFERROR(INDEX(اقساط!$AT$3:$AT$8532,SMALL(IF(اقساط!$G$3:$G$8532=B1380,ROW($AT$3:$AT$8532)-ROW($AT$3)+1),ROWS($A$3:A1380))),\"\")","v":0},null,{"$f":"IFERROR(INDEX(اقساط!$B$3:$B$8532,SMALL(IF(اقساط!$G$3:$G$8532=B1380,ROW($B$3:$B$8532)-ROW($B$3)+1),ROWS($C$3:C1380))),\"\")","v":0}]
[{"$f":"IFERROR(INDEX(اقساط!$AT$3:$AT$8532,SMALL(IF(اقساط!$G$3:$G$8532=B1381,ROW($AT$3:$AT$8532)-ROW($AT$3)+1),ROWS($A$3:A1381))),\"\")","v":0},null,{"$f":"IFERROR(INDEX(اقساط!$B$3:$B$8532,SMALL(IF(اقساط!$G$3:$G$8532=B1381,ROW($B$3:$B$8532)-ROW($B$3)+1),ROWS($C$3:C1381))),\"\")","v":0}]
[{"$f":"IFERROR(INDEX(اقساط!$AT$3:$AT$8532,SMALL(IF(اقساط!$G$3:$G$8532=B1382,ROW($AT$3:$AT$8532)-ROW($AT$3)+1),ROWS($A$3:A1382))),\"\")","v":0},null,{"$f":"IFERROR(INDEX(اقساط!$B$3:$B$8532,SMALL(IF(اقساط!$G$3:$G$8532=B1382,ROW($B$3:$B$8532)-ROW($B$3)+1),ROWS($C$3:C1382))),\"\")","v":0}]
[{"$f":"IFERROR(INDEX(اقساط!$AT$3:$AT$8532,SMALL(IF(اقساط!$G$3:$G$8532=B1383,ROW($AT$3:$AT$8532)-ROW($AT$3)+1),ROWS($A$3:A1383))),\"\")","v":0},null,{"$f":"IFERROR(INDEX(اقساط!$B$3:$B$8532,SMALL(IF(اقساط!$G$3:$G$8532=B1383,ROW($B$3:$B$8532)-ROW($B$3)+1),ROWS($C$3:C1383))),\"\")","v":0}]
[{"$f":"IFERROR(INDEX(اقساط!$AT$3:$AT$8532,SMALL(IF(اقساط!$G$3:$G$8532=B1384,ROW($AT$3:$AT$8532)-ROW($AT$3)+1),ROWS($A$3:A1384))),\"\")","v":0},null,{"$f":"IFERROR(INDEX(اقساط!$B$3:$B$8532,SMALL(IF(اقساط!$G$3:$G$8532=B1384,ROW($B$3:$B$8532)-ROW($B$3)+1),ROWS($C$3:C1384))),\"\")","v":0}]
[{"$f":"IFERROR(INDEX(اقساط!$AT$3:$AT$8532,SMALL(IF(اقساط!$G$3:$G$8532=B1385,ROW($AT$3:$AT$8532)-ROW($AT$3)+1),ROWS($A$3:A1385))),\"\")","v":0},null,{"$f":"IFERROR(INDEX(اقساط!$B$3:$B$8532,SMALL(IF(اقساط!$G$3:$G$8532=B1385,ROW($B$3:$B$8532)-ROW($B$3)+1),ROWS($C$3:C1385))),\"\")","v":0}]
[{"$f":"IFERROR(INDEX(اقساط!$AT$3:$AT$8532,SMALL(IF(اقساط!$G$3:$G$8532=B1386,ROW($AT$3:$AT$8532)-ROW($AT$3)+1),ROWS($A$3:A1386))),\"\")","v":0},null,{"$f":"IFERROR(INDEX(اقساط!$B$3:$B$8532,SMALL(IF(اقساط!$G$3:$G$8532=B1386,ROW($B$3:$B$8532)-ROW($B$3)+1),ROWS($C$3:C1386))),\"\")","v":0}]
[{"$f":"IFERROR(INDEX(اقساط!$AT$3:$AT$8532,SMALL(IF(اقساط!$G$3:$G$8532=B1387,ROW($AT$3:$AT$8532)-ROW($AT$3)+1),ROWS($A$3:A1387))),\"\")","v":0},null,{"$f":"IFERROR(INDEX(اقساط!$B$3:$B$8532,SMALL(IF(اقساط!$G$3:$G$8532=B1387,ROW($B$3:$B$8532)-ROW($B$3)+1),ROWS($C$3:C1387))),\"\")","v":0}]
[{"$f":"IFERROR(INDEX(اقساط!$AT$3:$AT$8532,SMALL(IF(اقساط!$G$3:$G$8532=B1388,ROW($AT$3:$AT$8532)-ROW($AT$3)+1),ROWS($A$3:A1388))),\"\")","v":0},null,{"$f":"IFERROR(INDEX(اقساط!$B$3:$B$8532,SMALL(IF(اقساط!$G$3:$G$8532=B1388,ROW($B$3:$B$8532)-ROW($B$3)+1),ROWS($C$3:C1388))),\"\")","v":0}]
[{"$f":"IFERROR(INDEX(اقساط!$AT$3:$AT$8532,SMALL(IF(اقساط!$G$3:$G$8532=B1389,ROW($AT$3:$AT$8532)-ROW($AT$3)+1),ROWS($A$3:A1389))),\"\")","v":0},null,{"$f":"IFERROR(INDEX(اقساط!$B$3:$B$8532,SMALL(IF(اقساط!$G$3:$G$8532=B1389,ROW($B$3:$B$8532)-ROW($B$3)+1),ROWS($C$3:C1389))),\"\")","v":0}]
[{"$f":"IFERROR(INDEX(اقساط!$AT$3:$AT$8532,SMALL(IF(اقساط!$G$3:$G$8532=B1390,ROW($AT$3:$AT$8532)-ROW($AT$3)+1),ROWS($A$3:A1390))),\"\")","v":0},null,{"$f":"IFERROR(INDEX(اقساط!$B$3:$B$8532,SMALL(IF(اقساط!$G$3:$G$8532=B1390,ROW($B$3:$B$8532)-ROW($B$3)+1),ROWS($C$3:C1390))),\"\")","v":0}]
[{"$f":"IFERROR(INDEX(اقساط!$AT$3:$AT$8532,SMALL(IF(اقساط!$G$3:$G$8532=B1391,ROW($AT$3:$AT$8532)-ROW($AT$3)+1),ROWS($A$3:A1391))),\"\")","v":0},null,{"$f":"IFERROR(INDEX(اقساط!$B$3:$B$8532,SMALL(IF(اقساط!$G$3:$G$8532=B1391,ROW($B$3:$B$8532)-ROW($B$3)+1),ROWS($C$3:C1391))),\"\")","v":0}]
[{"$f":"IFERROR(INDEX(اقساط!$AT$3:$AT$8532,SMALL(IF(اقساط!$G$3:$G$8532=B1392,ROW($AT$3:$AT$8532)-ROW($AT$3)+1),ROWS($A$3:A1392))),\"\")","v":0},null,{"$f":"IFERROR(INDEX(اقساط!$B$3:$B$8532,SMALL(IF(اقساط!$G$3:$G$8532=B1392,ROW($B$3:$B$8532)-ROW($B$3)+1),ROWS($C$3:C1392))),\"\")","v":0}]
[{"$f":"IFERROR(INDEX(اقساط!$AT$3:$AT$8532,SMALL(IF(اقساط!$G$3:$G$8532=B1393,ROW($AT$3:$AT$8532)-ROW($AT$3)+1),ROWS($A$3:A1393))),\"\")","v":0},null,{"$f":"IFERROR(INDEX(اقساط!$B$3:$B$8532,SMALL(IF(اقساط!$G$3:$G$8532=B1393,ROW($B$3:$B$8532)-ROW($B$3)+1),ROWS($C$3:C1393))),\"\")","v":0}]
[{"$f":"IFERROR(INDEX(اقساط!$AT$3:$AT$8532,SMALL(IF(اقساط!$G$3:$G$8532=B1394,ROW($AT$3:$AT$8532)-ROW($AT$3)+1),ROWS($A$3:A1394))),\"\")","v":0},null,{"$f":"IFERROR(INDEX(اقساط!$B$3:$B$8532,SMALL(IF(اقساط!$G$3:$G$8532=B1394,ROW($B$3:$B$8532)-ROW($B$3)+1),ROWS($C$3:C1394))),\"\")","v":0}]
[{"$f":"IFERROR(INDEX(اقساط!$AT$3:$AT$8532,SMALL(IF(اقساط!$G$3:$G$8532=B1395,ROW($AT$3:$AT$8532)-ROW($AT$3)+1),ROWS($A$3:A1395))),\"\")","v":0},null,{"$f":"IFERROR(INDEX(اقساط!$B$3:$B$8532,SMALL(IF(اقساط!$G$3:$G$8532=B1395,ROW($B$3:$B$8532)-ROW($B$3)+1),ROWS($C$3:C1395))),\"\")","v":0}]
[{"$f":"IFERROR(INDEX(اقساط!$AT$3:$AT$8532,SMALL(IF(اقساط!$G$3:$G$8532=B1396,ROW($AT$3:$AT$8532)-ROW($AT$3)+1),ROWS($A$3:A1396))),\"\")","v":0},null,{"$f":"IFERROR(INDEX(اقساط!$B$3:$B$8532,SMALL(IF(اقساط!$G$3:$G$8532=B1396,ROW($B$3:$B$8532)-ROW($B$3)+1),ROWS($C$3:C1396))),\"\")","v":0}]
[{"$f":"IFERROR(INDEX(اقساط!$AT$3:$AT$8532,SMALL(IF(اقساط!$G$3:$G$8532=B1397,ROW($AT$3:$AT$8532)-ROW($AT$3)+1),ROWS($A$3:A1397))),\"\")","v":0},null,{"$f":"IFERROR(INDEX(اقساط!$B$3:$B$8532,SMALL(IF(اقساط!$G$3:$G$8532=B1397,ROW($B$3:$B$8532)-ROW($B$3)+1),ROWS($C$3:C1397))),\"\")","v":0}]
[{"$f":"IFERROR(INDEX(اقساط!$AT$3:$AT$8532,SMALL(IF(اقساط!$G$3:$G$8532=B1398,ROW($AT$3:$AT$8532)-ROW($AT$3)+1),ROWS($A$3:A1398))),\"\")","v":0},null,{"$f":"IFERROR(INDEX(اقساط!$B$3:$B$8532,SMALL(IF(اقساط!$G$3:$G$8532=B1398,ROW($B$3:$B$8532)-ROW($B$3)+1),ROWS($C$3:C1398))),\"\")","v":0}]
[{"$f":"IFERROR(INDEX(اقساط!$AT$3:$AT$8532,SMALL(IF(اقساط!$G$3:$G$8532=B1399,ROW($AT$3:$AT$8532)-ROW($AT$3)+1),ROWS($A$3:A1399))),\"\")","v":0},null,{"$f":"IFERROR(INDEX(اقساط!$B$3:$B$8532,SMALL(IF(اقساط!$G$3:$G$8532=B1399,ROW($B$3:$B$8532)-ROW($B$3)+1),ROWS($C$3:C1399))),\"\")","v":0}]
[{"$f":"IFERROR(INDEX(اقساط!$AT$3:$AT$8532,SMALL(IF(اقساط!$G$3:$G$8532=B1400,ROW($AT$3:$AT$8532)-ROW($AT$3)+1),ROWS($A$3:A1400))),\"\")","v":0},null,{"$f":"IFERROR(INDEX(اقساط!$B$3:$B$8532,SMALL(IF(اقساط!$G$3:$G$8532=B1400,ROW($B$3:$B$8532)-ROW($B$3)+1),ROWS($C$3:C1400))),\"\")","v":0}]
[{"$f":"IFERROR(INDEX(اقساط!$AT$3:$AT$8532,SMALL(IF(اقساط!$G$3:$G$8532=B1401,ROW($AT$3:$AT$8532)-ROW($AT$3)+1),ROWS($A$3:A1401))),\"\")","v":0},null,{"$f":"IFERROR(INDEX(اقساط!$B$3:$B$8532,SMALL(IF(اقساط!$G$3:$G$8532=B1401,ROW($B$3:$B$8532)-ROW($B$3)+1),ROWS($C$3:C1401))),\"\")","v":0}]
[{"$f":"IFERROR(INDEX(اقساط!$AT$3:$AT$8532,SMALL(IF(اقساط!$G$3:$G$8532=B1402,ROW($AT$3:$AT$8532)-ROW($AT$3)+1),ROWS($A$3:A1402))),\"\")","v":0},null,{"$f":"IFERROR(INDEX(اقساط!$B$3:$B$8532,SMALL(IF(اقساط!$G$3:$G$8532=B1402,ROW($B$3:$B$8532)-ROW($B$3)+1),ROWS($C$3:C1402))),\"\")","v":0}]
[{"$f":"IFERROR(INDEX(اقساط!$AT$3:$AT$8532,SMALL(IF(اقساط!$G$3:$G$8532=B1403,ROW($AT$3:$AT$8532)-ROW($AT$3)+1),ROWS($A$3:A1403))),\"\")","v":0},null,{"$f":"IFERROR(INDEX(اقساط!$B$3:$B$8532,SMALL(IF(اقساط!$G$3:$G$8532=B1403,ROW($B$3:$B$8532)-ROW($B$3)+1),ROWS($C$3:C1403))),\"\")","v":0}]
[{"$f":"IFERROR(INDEX(اقساط!$AT$3:$AT$8532,SMALL(IF(اقساط!$G$3:$G$8532=B1404,ROW($AT$3:$AT$8532)-ROW($AT$3)+1),ROWS($A$3:A1404))),\"\")","v":0},null,{"$f":"IFERROR(INDEX(اقساط!$B$3:$B$8532,SMALL(IF(اقساط!$G$3:$G$8532=B1404,ROW($B$3:$B$8532)-ROW($B$3)+1),ROWS($C$3:C1404))),\"\")","v":0}]
[{"$f":"IFERROR(INDEX(اقساط!$AT$3:$AT$8532,SMALL(IF(اقساط!$G$3:$G$8532=B1405,ROW($AT$3:$AT$8532)-ROW($AT$3)+1),ROWS($A$3:A1405))),\"\")","v":0},null,{"$f":"IFERROR(INDEX(اقساط!$B$3:$B$8532,SMALL(IF(اقساط!$G$3:$G$8532=B1405,ROW($B$3:$B$8532)-ROW($B$3)+1),ROWS($C$3:C1405))),\"\")","v":0}]
[{"$f":"IFERROR(INDEX(اقساط!$AT$3:$AT$8532,SMALL(IF(اقساط!$G$3:$G$8532=B1406,ROW($AT$3:$AT$8532)-ROW($AT$3)+1),ROWS($A$3:A1406))),\"\")","v":0},null,{"$f":"IFERROR(INDEX(اقساط!$B$3:$B$8532,SMALL(IF(اقساط!$G$3:$G$8532=B1406,ROW($B$3:$B$8532)-ROW($B$3)+1),ROWS($C$3:C1406))),\"\")","v":0}]
[{"$f":"IFERROR(INDEX(اقساط!$AT$3:$AT$8532,SMALL(IF(اقساط!$G$3:$G$8532=B1407,ROW($AT$3:$AT$8532)-ROW($AT$3)+1),ROWS($A$3:A1407))),\"\")","v":0},null,{"$f":"IFERROR(INDEX(اقساط!$B$3:$B$8532,SMALL(IF(اقساط!$G$3:$G$8532=B1407,ROW($B$3:$B$8532)-ROW($B$3)+1),ROWS($C$3:C1407))),\"\")","v":0}]
[{"$f":"IFERROR(INDEX(اقساط!$AT$3:$AT$8532,SMALL(IF(اقساط!$G$3:$G$8532=B1408,ROW($AT$3:$AT$8532)-ROW($AT$3)+1),ROWS($A$3:A1408))),\"\")","v":0},null,{"$f":"IFERROR(INDEX(اقساط!$B$3:$B$8532,SMALL(IF(اقساط!$G$3:$G$8532=B1408,ROW($B$3:$B$8532)-ROW($B$3)+1),ROWS($C$3:C1408))),\"\")","v":0}]
[{"$f":"IFERROR(INDEX(اقساط!$AT$3:$AT$8532,SMALL(IF(اقساط!$G$3:$G$8532=B1409,ROW($AT$3:$AT$8532)-ROW($AT$3)+1),ROWS($A$3:A1409))),\"\")","v":0},null,{"$f":"IFERROR(INDEX(اقساط!$B$3:$B$8532,SMALL(IF(اقساط!$G$3:$G$8532=B1409,ROW($B$3:$B$8532)-ROW($B$3)+1),ROWS($C$3:C1409))),\"\")","v":0}]
[{"$f":"IFERROR(INDEX(اقساط!$AT$3:$AT$8532,SMALL(IF(اقساط!$G$3:$G$8532=B1410,ROW($AT$3:$AT$8532)-ROW($AT$3)+1),ROWS($A$3:A1410))),\"\")","v":0},null,{"$f":"IFERROR(INDEX(اقساط!$B$3:$B$8532,SMALL(IF(اقساط!$G$3:$G$8532=B1410,ROW($B$3:$B$8532)-ROW($B$3)+1),ROWS($C$3:C1410))),\"\")","v":0}]
[{"$f":"IFERROR(INDEX(اقساط!$AT$3:$AT$8532,SMALL(IF(اقساط!$G$3:$G$8532=B1411,ROW($AT$3:$AT$8532)-ROW($AT$3)+1),ROWS($A$3:A1411))),\"\")","v":0},null,{"$f":"IFERROR(INDEX(اقساط!$B$3:$B$8532,SMALL(IF(اقساط!$G$3:$G$8532=B1411,ROW($B$3:$B$8532)-ROW($B$3)+1),ROWS($C$3:C1411))),\"\")","v":0}]
[{"$f":"IFERROR(INDEX(اقساط!$AT$3:$AT$8532,SMALL(IF(اقساط!$G$3:$G$8532=B1412,ROW($AT$3:$AT$8532)-ROW($AT$3)+1),ROWS($A$3:A1412))),\"\")","v":0},null,{"$f":"IFERROR(INDEX(اقساط!$B$3:$B$8532,SMALL(IF(اقساط!$G$3:$G$8532=B1412,ROW($B$3:$B$8532)-ROW($B$3)+1),ROWS($C$3:C1412))),\"\")","v":0}]
[{"$f":"IFERROR(INDEX(اقساط!$AT$3:$AT$8532,SMALL(IF(اقساط!$G$3:$G$8532=B1413,ROW($AT$3:$AT$8532)-ROW($AT$3)+1),ROWS($A$3:A1413))),\"\")","v":0},null,{"$f":"IFERROR(INDEX(اقساط!$B$3:$B$8532,SMALL(IF(اقساط!$G$3:$G$8532=B1413,ROW($B$3:$B$8532)-ROW($B$3)+1),ROWS($C$3:C1413))),\"\")","v":0}]
[{"$f":"IFERROR(INDEX(اقساط!$AT$3:$AT$8532,SMALL(IF(اقساط!$G$3:$G$8532=B1414,ROW($AT$3:$AT$8532)-ROW($AT$3)+1),ROWS($A$3:A1414))),\"\")","v":0},null,{"$f":"IFERROR(INDEX(اقساط!$B$3:$B$8532,SMALL(IF(اقساط!$G$3:$G$8532=B1414,ROW($B$3:$B$8532)-ROW($B$3)+1),ROWS($C$3:C1414))),\"\")","v":0}]
[{"$f":"IFERROR(INDEX(اقساط!$AT$3:$AT$8532,SMALL(IF(اقساط!$G$3:$G$8532=B1415,ROW($AT$3:$AT$8532)-ROW($AT$3)+1),ROWS($A$3:A1415))),\"\")","v":0},null,{"$f":"IFERROR(INDEX(اقساط!$B$3:$B$8532,SMALL(IF(اقساط!$G$3:$G$8532=B1415,ROW($B$3:$B$8532)-ROW($B$3)+1),ROWS($C$3:C1415))),\"\")","v":0}]
[{"$f":"IFERROR(INDEX(اقساط!$AT$3:$AT$8532,SMALL(IF(اقساط!$G$3:$G$8532=B1416,ROW($AT$3:$AT$8532)-ROW($AT$3)+1),ROWS($A$3:A1416))),\"\")","v":0},null,{"$f":"IFERROR(INDEX(اقساط!$B$3:$B$8532,SMALL(IF(اقساط!$G$3:$G$8532=B1416,ROW($B$3:$B$8532)-ROW($B$3)+1),ROWS($C$3:C1416))),\"\")","v":0}]
[{"$f":"IFERROR(INDEX(اقساط!$AT$3:$AT$8532,SMALL(IF(اقساط!$G$3:$G$8532=B1417,ROW($AT$3:$AT$8532)-ROW($AT$3)+1),ROWS($A$3:A1417))),\"\")","v":0},null,{"$f":"IFERROR(INDEX(اقساط!$B$3:$B$8532,SMALL(IF(اقساط!$G$3:$G$8532=B1417,ROW($B$3:$B$8532)-ROW($B$3)+1),ROWS($C$3:C1417))),\"\")","v":0}]
[{"$f":"IFERROR(INDEX(اقساط!$AT$3:$AT$8532,SMALL(IF(اقساط!$G$3:$G$8532=B1418,ROW($AT$3:$AT$8532)-ROW($AT$3)+1),ROWS($A$3:A1418))),\"\")","v":0},null,{"$f":"IFERROR(INDEX(اقساط!$B$3:$B$8532,SMALL(IF(اقساط!$G$3:$G$8532=B1418,ROW($B$3:$B$8532)-ROW($B$3)+1),ROWS($C$3:C1418))),\"\")","v":0}]
[{"$f":"IFERROR(INDEX(اقساط!$AT$3:$AT$8532,SMALL(IF(اقساط!$G$3:$G$8532=B1419,ROW($AT$3:$AT$8532)-ROW($AT$3)+1),ROWS($A$3:A1419))),\"\")","v":0},null,{"$f":"IFERROR(INDEX(اقساط!$B$3:$B$8532,SMALL(IF(اقساط!$G$3:$G$8532=B1419,ROW($B$3:$B$8532)-ROW($B$3)+1),ROWS($C$3:C1419))),\"\")","v":0}]
[{"$f":"IFERROR(INDEX(اقساط!$AT$3:$AT$8532,SMALL(IF(اقساط!$G$3:$G$8532=B1420,ROW($AT$3:$AT$8532)-ROW($AT$3)+1),ROWS($A$3:A1420))),\"\")","v":0},null,{"$f":"IFERROR(INDEX(اقساط!$B$3:$B$8532,SMALL(IF(اقساط!$G$3:$G$8532=B1420,ROW($B$3:$B$8532)-ROW($B$3)+1),ROWS($C$3:C1420))),\"\")","v":0}]
[{"$f":"IFERROR(INDEX(اقساط!$AT$3:$AT$8532,SMALL(IF(اقساط!$G$3:$G$8532=B1421,ROW($AT$3:$AT$8532)-ROW($AT$3)+1),ROWS($A$3:A1421))),\"\")","v":0},null,{"$f":"IFERROR(INDEX(اقساط!$B$3:$B$8532,SMALL(IF(اقساط!$G$3:$G$8532=B1421,ROW($B$3:$B$8532)-ROW($B$3)+1),ROWS($C$3:C1421))),\"\")","v":0}]
[{"$f":"IFERROR(INDEX(اقساط!$AT$3:$AT$8532,SMALL(IF(اقساط!$G$3:$G$8532=B1422,ROW($AT$3:$AT$8532)-ROW($AT$3)+1),ROWS($A$3:A1422))),\"\")","v":0},null,{"$f":"IFERROR(INDEX(اقساط!$B$3:$B$8532,SMALL(IF(اقساط!$G$3:$G$8532=B1422,ROW($B$3:$B$8532)-ROW($B$3)+1),ROWS($C$3:C1422))),\"\")","v":0}]
[{"$f":"IFERROR(INDEX(اقساط!$AT$3:$AT$8532,SMALL(IF(اقساط!$G$3:$G$8532=B1423,ROW($AT$3:$AT$8532)-ROW($AT$3)+1),ROWS($A$3:A1423))),\"\")","v":0},null,{"$f":"IFERROR(INDEX(اقساط!$B$3:$B$8532,SMALL(IF(اقساط!$G$3:$G$8532=B1423,ROW($B$3:$B$8532)-ROW($B$3)+1),ROWS($C$3:C1423))),\"\")","v":0}]
[{"$f":"IFERROR(INDEX(اقساط!$AT$3:$AT$8532,SMALL(IF(اقساط!$G$3:$G$8532=B1424,ROW($AT$3:$AT$8532)-ROW($AT$3)+1),ROWS($A$3:A1424))),\"\")","v":0},null,{"$f":"IFERROR(INDEX(اقساط!$B$3:$B$8532,SMALL(IF(اقساط!$G$3:$G$8532=B1424,ROW($B$3:$B$8532)-ROW($B$3)+1),ROWS($C$3:C1424))),\"\")","v":0}]
[{"$f":"IFERROR(INDEX(اقساط!$AT$3:$AT$8532,SMALL(IF(اقساط!$G$3:$G$8532=B1425,ROW($AT$3:$AT$8532)-ROW($AT$3)+1),ROWS($A$3:A1425))),\"\")","v":0},null,{"$f":"IFERROR(INDEX(اقساط!$B$3:$B$8532,SMALL(IF(اقساط!$G$3:$G$8532=B1425,ROW($B$3:$B$8532)-ROW($B$3)+1),ROWS($C$3:C1425))),\"\")","v":0}]
[{"$f":"IFERROR(INDEX(اقساط!$AT$3:$AT$8532,SMALL(IF(اقساط!$G$3:$G$8532=B1426,ROW($AT$3:$AT$8532)-ROW($AT$3)+1),ROWS($A$3:A1426))),\"\")","v":0},null,{"$f":"IFERROR(INDEX(اقساط!$B$3:$B$8532,SMALL(IF(اقساط!$G$3:$G$8532=B1426,ROW($B$3:$B$8532)-ROW($B$3)+1),ROWS($C$3:C1426))),\"\")","v":0}]
[{"$f":"IFERROR(INDEX(اقساط!$AT$3:$AT$8532,SMALL(IF(اقساط!$G$3:$G$8532=B1427,ROW($AT$3:$AT$8532)-ROW($AT$3)+1),ROWS($A$3:A1427))),\"\")","v":0},null,{"$f":"IFERROR(INDEX(اقساط!$B$3:$B$8532,SMALL(IF(اقساط!$G$3:$G$8532=B1427,ROW($B$3:$B$8532)-ROW($B$3)+1),ROWS($C$3:C1427))),\"\")","v":0}]
[{"$f":"IFERROR(INDEX(اقساط!$AT$3:$AT$8532,SMALL(IF(اقساط!$G$3:$G$8532=B1428,ROW($AT$3:$AT$8532)-ROW($AT$3)+1),ROWS($A$3:A1428))),\"\")","v":0},null,{"$f":"IFERROR(INDEX(اقساط!$B$3:$B$8532,SMALL(IF(اقساط!$G$3:$G$8532=B1428,ROW($B$3:$B$8532)-ROW($B$3)+1),ROWS($C$3:C1428))),\"\")","v":0}]
[{"$f":"IFERROR(INDEX(اقساط!$AT$3:$AT$8532,SMALL(IF(اقساط!$G$3:$G$8532=B1429,ROW($AT$3:$AT$8532)-ROW($AT$3)+1),ROWS($A$3:A1429))),\"\")","v":0},null,{"$f":"IFERROR(INDEX(اقساط!$B$3:$B$8532,SMALL(IF(اقساط!$G$3:$G$8532=B1429,ROW($B$3:$B$8532)-ROW($B$3)+1),ROWS($C$3:C1429))),\"\")","v":0}]
[{"$f":"IFERROR(INDEX(اقساط!$AT$3:$AT$8532,SMALL(IF(اقساط!$G$3:$G$8532=B1430,ROW($AT$3:$AT$8532)-ROW($AT$3)+1),ROWS($A$3:A1430))),\"\")","v":0},null,{"$f":"IFERROR(INDEX(اقساط!$B$3:$B$8532,SMALL(IF(اقساط!$G$3:$G$8532=B1430,ROW($B$3:$B$8532)-ROW($B$3)+1),ROWS($C$3:C1430))),\"\")","v":0}]
[{"$f":"IFERROR(INDEX(اقساط!$AT$3:$AT$8532,SMALL(IF(اقساط!$G$3:$G$8532=B1431,ROW($AT$3:$AT$8532)-ROW($AT$3)+1),ROWS($A$3:A1431))),\"\")","v":0},null,{"$f":"IFERROR(INDEX(اقساط!$B$3:$B$8532,SMALL(IF(اقساط!$G$3:$G$8532=B1431,ROW($B$3:$B$8532)-ROW($B$3)+1),ROWS($C$3:C1431))),\"\")","v":0}]
[{"$f":"IFERROR(INDEX(اقساط!$AT$3:$AT$8532,SMALL(IF(اقساط!$G$3:$G$8532=B1432,ROW($AT$3:$AT$8532)-ROW($AT$3)+1),ROWS($A$3:A1432))),\"\")","v":0},null,{"$f":"IFERROR(INDEX(اقساط!$B$3:$B$8532,SMALL(IF(اقساط!$G$3:$G$8532=B1432,ROW($B$3:$B$8532)-ROW($B$3)+1),ROWS($C$3:C1432))),\"\")","v":0}]
[{"$f":"IFERROR(INDEX(اقساط!$AT$3:$AT$8532,SMALL(IF(اقساط!$G$3:$G$8532=B1433,ROW($AT$3:$AT$8532)-ROW($AT$3)+1),ROWS($A$3:A1433))),\"\")","v":0},null,{"$f":"IFERROR(INDEX(اقساط!$B$3:$B$8532,SMALL(IF(اقساط!$G$3:$G$8532=B1433,ROW($B$3:$B$8532)-ROW($B$3)+1),ROWS($C$3:C1433))),\"\")","v":0}]
[{"$f":"IFERROR(INDEX(اقساط!$AT$3:$AT$8532,SMALL(IF(اقساط!$G$3:$G$8532=B1434,ROW($AT$3:$AT$8532)-ROW($AT$3)+1),ROWS($A$3:A1434))),\"\")","v":0},null,{"$f":"IFERROR(INDEX(اقساط!$B$3:$B$8532,SMALL(IF(اقساط!$G$3:$G$8532=B1434,ROW($B$3:$B$8532)-ROW($B$3)+1),ROWS($C$3:C1434))),\"\")","v":0}]
[{"$f":"IFERROR(INDEX(اقساط!$AT$3:$AT$8532,SMALL(IF(اقساط!$G$3:$G$8532=B1435,ROW($AT$3:$AT$8532)-ROW($AT$3)+1),ROWS($A$3:A1435))),\"\")","v":0},null,{"$f":"IFERROR(INDEX(اقساط!$B$3:$B$8532,SMALL(IF(اقساط!$G$3:$G$8532=B1435,ROW($B$3:$B$8532)-ROW($B$3)+1),ROWS($C$3:C1435))),\"\")","v":0}]
[{"$f":"IFERROR(INDEX(اقساط!$AT$3:$AT$8532,SMALL(IF(اقساط!$G$3:$G$8532=B1436,ROW($AT$3:$AT$8532)-ROW($AT$3)+1),ROWS($A$3:A1436))),\"\")","v":0},null,{"$f":"IFERROR(INDEX(اقساط!$B$3:$B$8532,SMALL(IF(اقساط!$G$3:$G$8532=B1436,ROW($B$3:$B$8532)-ROW($B$3)+1),ROWS($C$3:C1436))),\"\")","v":0}]
[{"$f":"IFERROR(INDEX(اقساط!$AT$3:$AT$8532,SMALL(IF(اقساط!$G$3:$G$8532=B1437,ROW($AT$3:$AT$8532)-ROW($AT$3)+1),ROWS($A$3:A1437))),\"\")","v":0},null,{"$f":"IFERROR(INDEX(اقساط!$B$3:$B$8532,SMALL(IF(اقساط!$G$3:$G$8532=B1437,ROW($B$3:$B$8532)-ROW($B$3)+1),ROWS($C$3:C1437))),\"\")","v":0}]
[{"$f":"IFERROR(INDEX(اقساط!$AT$3:$AT$8532,SMALL(IF(اقساط!$G$3:$G$8532=B1438,ROW($AT$3:$AT$8532)-ROW($AT$3)+1),ROWS($A$3:A1438))),\"\")","v":0},null,{"$f":"IFERROR(INDEX(اقساط!$B$3:$B$8532,SMALL(IF(اقساط!$G$3:$G$8532=B1438,ROW($B$3:$B$8532)-ROW($B$3)+1),ROWS($C$3:C1438))),\"\")","v":0}]
[{"$f":"IFERROR(INDEX(اقساط!$AT$3:$AT$8532,SMALL(IF(اقساط!$G$3:$G$8532=B1439,ROW($AT$3:$AT$8532)-ROW($AT$3)+1),ROWS($A$3:A1439))),\"\")","v":0},null,{"$f":"IFERROR(INDEX(اقساط!$B$3:$B$8532,SMALL(IF(اقساط!$G$3:$G$8532=B1439,ROW($B$3:$B$8532)-ROW($B$3)+1),ROWS($C$3:C1439))),\"\")","v":0}]
[{"$f":"IFERROR(INDEX(اقساط!$AT$3:$AT$8532,SMALL(IF(اقساط!$G$3:$G$8532=B1440,ROW($AT$3:$AT$8532)-ROW($AT$3)+1),ROWS($A$3:A1440))),\"\")","v":0},null,{"$f":"IFERROR(INDEX(اقساط!$B$3:$B$8532,SMALL(IF(اقساط!$G$3:$G$8532=B1440,ROW($B$3:$B$8532)-ROW($B$3)+1),ROWS($C$3:C1440))),\"\")","v":0}]
[{"$f":"IFERROR(INDEX(اقساط!$AT$3:$AT$8532,SMALL(IF(اقساط!$G$3:$G$8532=B1441,ROW($AT$3:$AT$8532)-ROW($AT$3)+1),ROWS($A$3:A1441))),\"\")","v":0},null,{"$f":"IFERROR(INDEX(اقساط!$B$3:$B$8532,SMALL(IF(اقساط!$G$3:$G$8532=B1441,ROW($B$3:$B$8532)-ROW($B$3)+1),ROWS($C$3:C1441))),\"\")","v":0}]
[{"$f":"IFERROR(INDEX(اقساط!$AT$3:$AT$8532,SMALL(IF(اقساط!$G$3:$G$8532=B1442,ROW($AT$3:$AT$8532)-ROW($AT$3)+1),ROWS($A$3:A1442))),\"\")","v":0},null,{"$f":"IFERROR(INDEX(اقساط!$B$3:$B$8532,SMALL(IF(اقساط!$G$3:$G$8532=B1442,ROW($B$3:$B$8532)-ROW($B$3)+1),ROWS($C$3:C1442))),\"\")","v":0}]
[{"$f":"IFERROR(INDEX(اقساط!$AT$3:$AT$8532,SMALL(IF(اقساط!$G$3:$G$8532=B1443,ROW($AT$3:$AT$8532)-ROW($AT$3)+1),ROWS($A$3:A1443))),\"\")","v":0},null,{"$f":"IFERROR(INDEX(اقساط!$B$3:$B$8532,SMALL(IF(اقساط!$G$3:$G$8532=B1443,ROW($B$3:$B$8532)-ROW($B$3)+1),ROWS($C$3:C1443))),\"\")","v":0}]
[{"$f":"IFERROR(INDEX(اقساط!$AT$3:$AT$8532,SMALL(IF(اقساط!$G$3:$G$8532=B1444,ROW($AT$3:$AT$8532)-ROW($AT$3)+1),ROWS($A$3:A1444))),\"\")","v":0},null,{"$f":"IFERROR(INDEX(اقساط!$B$3:$B$8532,SMALL(IF(اقساط!$G$3:$G$8532=B1444,ROW($B$3:$B$8532)-ROW($B$3)+1),ROWS($C$3:C1444))),\"\")","v":0}]
[{"$f":"IFERROR(INDEX(اقساط!$AT$3:$AT$8532,SMALL(IF(اقساط!$G$3:$G$8532=B1445,ROW($AT$3:$AT$8532)-ROW($AT$3)+1),ROWS($A$3:A1445))),\"\")","v":0},null,{"$f":"IFERROR(INDEX(اقساط!$B$3:$B$8532,SMALL(IF(اقساط!$G$3:$G$8532=B1445,ROW($B$3:$B$8532)-ROW($B$3)+1),ROWS($C$3:C1445))),\"\")","v":0}]
[{"$f":"IFERROR(INDEX(اقساط!$AT$3:$AT$8532,SMALL(IF(اقساط!$G$3:$G$8532=B1446,ROW($AT$3:$AT$8532)-ROW($AT$3)+1),ROWS($A$3:A1446))),\"\")","v":0},null,{"$f":"IFERROR(INDEX(اقساط!$B$3:$B$8532,SMALL(IF(اقساط!$G$3:$G$8532=B1446,ROW($B$3:$B$8532)-ROW($B$3)+1),ROWS($C$3:C1446))),\"\")","v":0}]
[{"$f":"IFERROR(INDEX(اقساط!$AT$3:$AT$8532,SMALL(IF(اقساط!$G$3:$G$8532=B1447,ROW($AT$3:$AT$8532)-ROW($AT$3)+1),ROWS($A$3:A1447))),\"\")","v":0},null,{"$f":"IFERROR(INDEX(اقساط!$B$3:$B$8532,SMALL(IF(اقساط!$G$3:$G$8532=B1447,ROW($B$3:$B$8532)-ROW($B$3)+1),ROWS($C$3:C1447))),\"\")","v":0}]
[{"$f":"IFERROR(INDEX(اقساط!$AT$3:$AT$8532,SMALL(IF(اقساط!$G$3:$G$8532=B1448,ROW($AT$3:$AT$8532)-ROW($AT$3)+1),ROWS($A$3:A1448))),\"\")","v":0},null,{"$f":"IFERROR(INDEX(اقساط!$B$3:$B$8532,SMALL(IF(اقساط!$G$3:$G$8532=B1448,ROW($B$3:$B$8532)-ROW($B$3)+1),ROWS($C$3:C1448))),\"\")","v":0}]
[{"$f":"IFERROR(INDEX(اقساط!$AT$3:$AT$8532,SMALL(IF(اقساط!$G$3:$G$8532=B1449,ROW($AT$3:$AT$8532)-ROW($AT$3)+1),ROWS($A$3:A1449))),\"\")","v":0},null,{"$f":"IFERROR(INDEX(اقساط!$B$3:$B$8532,SMALL(IF(اقساط!$G$3:$G$8532=B1449,ROW($B$3:$B$8532)-ROW($B$3)+1),ROWS($C$3:C1449))),\"\")","v":0}]
[{"$f":"IFERROR(INDEX(اقساط!$AT$3:$AT$8532,SMALL(IF(اقساط!$G$3:$G$8532=B1450,ROW($AT$3:$AT$8532)-ROW($AT$3)+1),ROWS($A$3:A1450))),\"\")","v":0},null,{"$f":"IFERROR(INDEX(اقساط!$B$3:$B$8532,SMALL(IF(اقساط!$G$3:$G$8532=B1450,ROW($B$3:$B$8532)-ROW($B$3)+1),ROWS($C$3:C1450))),\"\")","v":0}]
[{"$f":"IFERROR(INDEX(اقساط!$AT$3:$AT$8532,SMALL(IF(اقساط!$G$3:$G$8532=B1451,ROW($AT$3:$AT$8532)-ROW($AT$3)+1),ROWS($A$3:A1451))),\"\")","v":0},null,{"$f":"IFERROR(INDEX(اقساط!$B$3:$B$8532,SMALL(IF(اقساط!$G$3:$G$8532=B1451,ROW($B$3:$B$8532)-ROW($B$3)+1),ROWS($C$3:C1451))),\"\")","v":0}]
[{"$f":"IFERROR(INDEX(اقساط!$AT$3:$AT$8532,SMALL(IF(اقساط!$G$3:$G$8532=B1452,ROW($AT$3:$AT$8532)-ROW($AT$3)+1),ROWS($A$3:A1452))),\"\")","v":0},null,{"$f":"IFERROR(INDEX(اقساط!$B$3:$B$8532,SMALL(IF(اقساط!$G$3:$G$8532=B1452,ROW($B$3:$B$8532)-ROW($B$3)+1),ROWS($C$3:C1452))),\"\")","v":0}]
[{"$f":"IFERROR(INDEX(اقساط!$AT$3:$AT$8532,SMALL(IF(اقساط!$G$3:$G$8532=B1453,ROW($AT$3:$AT$8532)-ROW($AT$3)+1),ROWS($A$3:A1453))),\"\")","v":0},null,{"$f":"IFERROR(INDEX(اقساط!$B$3:$B$8532,SMALL(IF(اقساط!$G$3:$G$8532=B1453,ROW($B$3:$B$8532)-ROW($B$3)+1),ROWS($C$3:C1453))),\"\")","v":0}]
[{"$f":"IFERROR(INDEX(اقساط!$AT$3:$AT$8532,SMALL(IF(اقساط!$G$3:$G$8532=B1454,ROW($AT$3:$AT$8532)-ROW($AT$3)+1),ROWS($A$3:A1454))),\"\")","v":0},null,{"$f":"IFERROR(INDEX(اقساط!$B$3:$B$8532,SMALL(IF(اقساط!$G$3:$G$8532=B1454,ROW($B$3:$B$8532)-ROW($B$3)+1),ROWS($C$3:C1454))),\"\")","v":0}]
[{"$f":"IFERROR(INDEX(اقساط!$AT$3:$AT$8532,SMALL(IF(اقساط!$G$3:$G$8532=B1455,ROW($AT$3:$AT$8532)-ROW($AT$3)+1),ROWS($A$3:A1455))),\"\")","v":0},null,{"$f":"IFERROR(INDEX(اقساط!$B$3:$B$8532,SMALL(IF(اقساط!$G$3:$G$8532=B1455,ROW($B$3:$B$8532)-ROW($B$3)+1),ROWS($C$3:C1455))),\"\")","v":0}]
[{"$f":"IFERROR(INDEX(اقساط!$AT$3:$AT$8532,SMALL(IF(اقساط!$G$3:$G$8532=B1456,ROW($AT$3:$AT$8532)-ROW($AT$3)+1),ROWS($A$3:A1456))),\"\")","v":0},null,{"$f":"IFERROR(INDEX(اقساط!$B$3:$B$8532,SMALL(IF(اقساط!$G$3:$G$8532=B1456,ROW($B$3:$B$8532)-ROW($B$3)+1),ROWS($C$3:C1456))),\"\")","v":0}]
[{"$f":"IFERROR(INDEX(اقساط!$AT$3:$AT$8532,SMALL(IF(اقساط!$G$3:$G$8532=B1457,ROW($AT$3:$AT$8532)-ROW($AT$3)+1),ROWS($A$3:A1457))),\"\")","v":0},null,{"$f":"IFERROR(INDEX(اقساط!$B$3:$B$8532,SMALL(IF(اقساط!$G$3:$G$8532=B1457,ROW($B$3:$B$8532)-ROW($B$3)+1),ROWS($C$3:C1457))),\"\")","v":0}]
[{"$f":"IFERROR(INDEX(اقساط!$AT$3:$AT$8532,SMALL(IF(اقساط!$G$3:$G$8532=B1458,ROW($AT$3:$AT$8532)-ROW($AT$3)+1),ROWS($A$3:A1458))),\"\")","v":0},null,{"$f":"IFERROR(INDEX(اقساط!$B$3:$B$8532,SMALL(IF(اقساط!$G$3:$G$8532=B1458,ROW($B$3:$B$8532)-ROW($B$3)+1),ROWS($C$3:C1458))),\"\")","v":0}]
[{"$f":"IFERROR(INDEX(اقساط!$AT$3:$AT$8532,SMALL(IF(اقساط!$G$3:$G$8532=B1459,ROW($AT$3:$AT$8532)-ROW($AT$3)+1),ROWS($A$3:A1459))),\"\")","v":0},null,{"$f":"IFERROR(INDEX(اقساط!$B$3:$B$8532,SMALL(IF(اقساط!$G$3:$G$8532=B1459,ROW($B$3:$B$8532)-ROW($B$3)+1),ROWS($C$3:C1459))),\"\")","v":0}]
[{"$f":"IFERROR(INDEX(اقساط!$AT$3:$AT$8532,SMALL(IF(اقساط!$G$3:$G$8532=B1460,ROW($AT$3:$AT$8532)-ROW($AT$3)+1),ROWS($A$3:A1460))),\"\")","v":0},null,{"$f":"IFERROR(INDEX(اقساط!$B$3:$B$8532,SMALL(IF(اقساط!$G$3:$G$8532=B1460,ROW($B$3:$B$8532)-ROW($B$3)+1),ROWS($C$3:C1460))),\"\")","v":0}]
[{"$f":"IFERROR(INDEX(اقساط!$AT$3:$AT$8532,SMALL(IF(اقساط!$G$3:$G$8532=B1461,ROW($AT$3:$AT$8532)-ROW($AT$3)+1),ROWS($A$3:A1461))),\"\")","v":0},null,{"$f":"IFERROR(INDEX(اقساط!$B$3:$B$8532,SMALL(IF(اقساط!$G$3:$G$8532=B1461,ROW($B$3:$B$8532)-ROW($B$3)+1),ROWS($C$3:C1461))),\"\")","v":0}]
[{"$f":"IFERROR(INDEX(اقساط!$AT$3:$AT$8532,SMALL(IF(اقساط!$G$3:$G$8532=B1462,ROW($AT$3:$AT$8532)-ROW($AT$3)+1),ROWS($A$3:A1462))),\"\")","v":0},null,{"$f":"IFERROR(INDEX(اقساط!$B$3:$B$8532,SMALL(IF(اقساط!$G$3:$G$8532=B1462,ROW($B$3:$B$8532)-ROW($B$3)+1),ROWS($C$3:C1462))),\"\")","v":0}]
[{"$f":"IFERROR(INDEX(اقساط!$AT$3:$AT$8532,SMALL(IF(اقساط!$G$3:$G$8532=B1463,ROW($AT$3:$AT$8532)-ROW($AT$3)+1),ROWS($A$3:A1463))),\"\")","v":0},null,{"$f":"IFERROR(INDEX(اقساط!$B$3:$B$8532,SMALL(IF(اقساط!$G$3:$G$8532=B1463,ROW($B$3:$B$8532)-ROW($B$3)+1),ROWS($C$3:C1463))),\"\")","v":0}]
[{"$f":"IFERROR(INDEX(اقساط!$AT$3:$AT$8532,SMALL(IF(اقساط!$G$3:$G$8532=B1464,ROW($AT$3:$AT$8532)-ROW($AT$3)+1),ROWS($A$3:A1464))),\"\")","v":0},null,{"$f":"IFERROR(INDEX(اقساط!$B$3:$B$8532,SMALL(IF(اقساط!$G$3:$G$8532=B1464,ROW($B$3:$B$8532)-ROW($B$3)+1),ROWS($C$3:C1464))),\"\")","v":0}]
[{"$f":"IFERROR(INDEX(اقساط!$AT$3:$AT$8532,SMALL(IF(اقساط!$G$3:$G$8532=B1465,ROW($AT$3:$AT$8532)-ROW($AT$3)+1),ROWS($A$3:A1465))),\"\")","v":0},null,{"$f":"IFERROR(INDEX(اقساط!$B$3:$B$8532,SMALL(IF(اقساط!$G$3:$G$8532=B1465,ROW($B$3:$B$8532)-ROW($B$3)+1),ROWS($C$3:C1465))),\"\")","v":0}]
[{"$f":"IFERROR(INDEX(اقساط!$AT$3:$AT$8532,SMALL(IF(اقساط!$G$3:$G$8532=B1466,ROW($AT$3:$AT$8532)-ROW($AT$3)+1),ROWS($A$3:A1466))),\"\")","v":0},null,{"$f":"IFERROR(INDEX(اقساط!$B$3:$B$8532,SMALL(IF(اقساط!$G$3:$G$8532=B1466,ROW($B$3:$B$8532)-ROW($B$3)+1),ROWS($C$3:C1466))),\"\")","v":0}]
[{"$f":"IFERROR(INDEX(اقساط!$AT$3:$AT$8532,SMALL(IF(اقساط!$G$3:$G$8532=B1467,ROW($AT$3:$AT$8532)-ROW($AT$3)+1),ROWS($A$3:A1467))),\"\")","v":0},null,{"$f":"IFERROR(INDEX(اقساط!$B$3:$B$8532,SMALL(IF(اقساط!$G$3:$G$8532=B1467,ROW($B$3:$B$8532)-ROW($B$3)+1),ROWS($C$3:C1467))),\"\")","v":0}]
[{"$f":"IFERROR(INDEX(اقساط!$AT$3:$AT$8532,SMALL(IF(اقساط!$G$3:$G$8532=B1468,ROW($AT$3:$AT$8532)-ROW($AT$3)+1),ROWS($A$3:A1468))),\"\")","v":0},null,{"$f":"IFERROR(INDEX(اقساط!$B$3:$B$8532,SMALL(IF(اقساط!$G$3:$G$8532=B1468,ROW($B$3:$B$8532)-ROW($B$3)+1),ROWS($C$3:C1468))),\"\")","v":0}]
[{"$f":"IFERROR(INDEX(اقساط!$AT$3:$AT$8532,SMALL(IF(اقساط!$G$3:$G$8532=B1469,ROW($AT$3:$AT$8532)-ROW($AT$3)+1),ROWS($A$3:A1469))),\"\")","v":0},null,{"$f":"IFERROR(INDEX(اقساط!$B$3:$B$8532,SMALL(IF(اقساط!$G$3:$G$8532=B1469,ROW($B$3:$B$8532)-ROW($B$3)+1),ROWS($C$3:C1469))),\"\")","v":0}]
[{"$f":"IFERROR(INDEX(اقساط!$AT$3:$AT$8532,SMALL(IF(اقساط!$G$3:$G$8532=B1470,ROW($AT$3:$AT$8532)-ROW($AT$3)+1),ROWS($A$3:A1470))),\"\")","v":0},null,{"$f":"IFERROR(INDEX(اقساط!$B$3:$B$8532,SMALL(IF(اقساط!$G$3:$G$8532=B1470,ROW($B$3:$B$8532)-ROW($B$3)+1),ROWS($C$3:C1470))),\"\")","v":0}]
[{"$f":"IFERROR(INDEX(اقساط!$AT$3:$AT$8532,SMALL(IF(اقساط!$G$3:$G$8532=B1471,ROW($AT$3:$AT$8532)-ROW($AT$3)+1),ROWS($A$3:A1471))),\"\")","v":0},null,{"$f":"IFERROR(INDEX(اقساط!$B$3:$B$8532,SMALL(IF(اقساط!$G$3:$G$8532=B1471,ROW($B$3:$B$8532)-ROW($B$3)+1),ROWS($C$3:C1471))),\"\")","v":0}]
[{"$f":"IFERROR(INDEX(اقساط!$AT$3:$AT$8532,SMALL(IF(اقساط!$G$3:$G$8532=B1472,ROW($AT$3:$AT$8532)-ROW($AT$3)+1),ROWS($A$3:A1472))),\"\")","v":0},null,{"$f":"IFERROR(INDEX(اقساط!$B$3:$B$8532,SMALL(IF(اقساط!$G$3:$G$8532=B1472,ROW($B$3:$B$8532)-ROW($B$3)+1),ROWS($C$3:C1472))),\"\")","v":0}]
[{"$f":"IFERROR(INDEX(اقساط!$AT$3:$AT$8532,SMALL(IF(اقساط!$G$3:$G$8532=B1473,ROW($AT$3:$AT$8532)-ROW($AT$3)+1),ROWS($A$3:A1473))),\"\")","v":0},null,{"$f":"IFERROR(INDEX(اقساط!$B$3:$B$8532,SMALL(IF(اقساط!$G$3:$G$8532=B1473,ROW($B$3:$B$8532)-ROW($B$3)+1),ROWS($C$3:C1473))),\"\")","v":0}]
[{"$f":"IFERROR(INDEX(اقساط!$AT$3:$AT$8532,SMALL(IF(اقساط!$G$3:$G$8532=B1474,ROW($AT$3:$AT$8532)-ROW($AT$3)+1),ROWS($A$3:A1474))),\"\")","v":0},null,{"$f":"IFERROR(INDEX(اقساط!$B$3:$B$8532,SMALL(IF(اقساط!$G$3:$G$8532=B1474,ROW($B$3:$B$8532)-ROW($B$3)+1),ROWS($C$3:C1474))),\"\")","v":0}]
[{"$f":"IFERROR(INDEX(اقساط!$AT$3:$AT$8532,SMALL(IF(اقساط!$G$3:$G$8532=B1475,ROW($AT$3:$AT$8532)-ROW($AT$3)+1),ROWS($A$3:A1475))),\"\")","v":0},null,{"$f":"IFERROR(INDEX(اقساط!$B$3:$B$8532,SMALL(IF(اقساط!$G$3:$G$8532=B1475,ROW($B$3:$B$8532)-ROW($B$3)+1),ROWS($C$3:C1475))),\"\")","v":0}]
[{"$f":"IFERROR(INDEX(اقساط!$AT$3:$AT$8532,SMALL(IF(اقساط!$G$3:$G$8532=B1476,ROW($AT$3:$AT$8532)-ROW($AT$3)+1),ROWS($A$3:A1476))),\"\")","v":0},null,{"$f":"IFERROR(INDEX(اقساط!$B$3:$B$8532,SMALL(IF(اقساط!$G$3:$G$8532=B1476,ROW($B$3:$B$8532)-ROW($B$3)+1),ROWS($C$3:C1476))),\"\")","v":0}]
[{"$f":"IFERROR(INDEX(اقساط!$AT$3:$AT$8532,SMALL(IF(اقساط!$G$3:$G$8532=B1477,ROW($AT$3:$AT$8532)-ROW($AT$3)+1),ROWS($A$3:A1477))),\"\")","v":0},null,{"$f":"IFERROR(INDEX(اقساط!$B$3:$B$8532,SMALL(IF(اقساط!$G$3:$G$8532=B1477,ROW($B$3:$B$8532)-ROW($B$3)+1),ROWS($C$3:C1477))),\"\")","v":0}]
[{"$f":"IFERROR(INDEX(اقساط!$AT$3:$AT$8532,SMALL(IF(اقساط!$G$3:$G$8532=B1478,ROW($AT$3:$AT$8532)-ROW($AT$3)+1),ROWS($A$3:A1478))),\"\")","v":0},null,{"$f":"IFERROR(INDEX(اقساط!$B$3:$B$8532,SMALL(IF(اقساط!$G$3:$G$8532=B1478,ROW($B$3:$B$8532)-ROW($B$3)+1),ROWS($C$3:C1478))),\"\")","v":0}]
[{"$f":"IFERROR(INDEX(اقساط!$AT$3:$AT$8532,SMALL(IF(اقساط!$G$3:$G$8532=B1479,ROW($AT$3:$AT$8532)-ROW($AT$3)+1),ROWS($A$3:A1479))),\"\")","v":0},null,{"$f":"IFERROR(INDEX(اقساط!$B$3:$B$8532,SMALL(IF(اقساط!$G$3:$G$8532=B1479,ROW($B$3:$B$8532)-ROW($B$3)+1),ROWS($C$3:C1479))),\"\")","v":0}]
[{"$f":"IFERROR(INDEX(اقساط!$AT$3:$AT$8532,SMALL(IF(اقساط!$G$3:$G$8532=B1480,ROW($AT$3:$AT$8532)-ROW($AT$3)+1),ROWS($A$3:A1480))),\"\")","v":0},null,{"$f":"IFERROR(INDEX(اقساط!$B$3:$B$8532,SMALL(IF(اقساط!$G$3:$G$8532=B1480,ROW($B$3:$B$8532)-ROW($B$3)+1),ROWS($C$3:C1480))),\"\")","v":0}]
[{"$f":"IFERROR(INDEX(اقساط!$AT$3:$AT$8532,SMALL(IF(اقساط!$G$3:$G$8532=B1481,ROW($AT$3:$AT$8532)-ROW($AT$3)+1),ROWS($A$3:A1481))),\"\")","v":0},null,{"$f":"IFERROR(INDEX(اقساط!$B$3:$B$8532,SMALL(IF(اقساط!$G$3:$G$8532=B1481,ROW($B$3:$B$8532)-ROW($B$3)+1),ROWS($C$3:C1481))),\"\")","v":0}]
[{"$f":"IFERROR(INDEX(اقساط!$AT$3:$AT$8532,SMALL(IF(اقساط!$G$3:$G$8532=B1482,ROW($AT$3:$AT$8532)-ROW($AT$3)+1),ROWS($A$3:A1482))),\"\")","v":0},null,{"$f":"IFERROR(INDEX(اقساط!$B$3:$B$8532,SMALL(IF(اقساط!$G$3:$G$8532=B1482,ROW($B$3:$B$8532)-ROW($B$3)+1),ROWS($C$3:C1482))),\"\")","v":0}]
[{"$f":"IFERROR(INDEX(اقساط!$AT$3:$AT$8532,SMALL(IF(اقساط!$G$3:$G$8532=B1483,ROW($AT$3:$AT$8532)-ROW($AT$3)+1),ROWS($A$3:A1483))),\"\")","v":0},null,{"$f":"IFERROR(INDEX(اقساط!$B$3:$B$8532,SMALL(IF(اقساط!$G$3:$G$8532=B1483,ROW($B$3:$B$8532)-ROW($B$3)+1),ROWS($C$3:C1483))),\"\")","v":0}]
[{"$f":"IFERROR(INDEX(اقساط!$AT$3:$AT$8532,SMALL(IF(اقساط!$G$3:$G$8532=B1484,ROW($AT$3:$AT$8532)-ROW($AT$3)+1),ROWS($A$3:A1484))),\"\")","v":0},null,{"$f":"IFERROR(INDEX(اقساط!$B$3:$B$8532,SMALL(IF(اقساط!$G$3:$G$8532=B1484,ROW($B$3:$B$8532)-ROW($B$3)+1),ROWS($C$3:C1484))),\"\")","v":0}]
[{"$f":"IFERROR(INDEX(اقساط!$AT$3:$AT$8532,SMALL(IF(اقساط!$G$3:$G$8532=B1485,ROW($AT$3:$AT$8532)-ROW($AT$3)+1),ROWS($A$3:A1485))),\"\")","v":0},null,{"$f":"IFERROR(INDEX(اقساط!$B$3:$B$8532,SMALL(IF(اقساط!$G$3:$G$8532=B1485,ROW($B$3:$B$8532)-ROW($B$3)+1),ROWS($C$3:C1485))),\"\")","v":0}]
[{"$f":"IFERROR(INDEX(اقساط!$AT$3:$AT$8532,SMALL(IF(اقساط!$G$3:$G$8532=B1486,ROW($AT$3:$AT$8532)-ROW($AT$3)+1),ROWS($A$3:A1486))),\"\")","v":0},null,{"$f":"IFERROR(INDEX(اقساط!$B$3:$B$8532,SMALL(IF(اقساط!$G$3:$G$8532=B1486,ROW($B$3:$B$8532)-ROW($B$3)+1),ROWS($C$3:C1486))),\"\")","v":0}]
[{"$f":"IFERROR(INDEX(اقساط!$AT$3:$AT$8532,SMALL(IF(اقساط!$G$3:$G$8532=B1487,ROW($AT$3:$AT$8532)-ROW($AT$3)+1),ROWS($A$3:A1487))),\"\")","v":0},null,{"$f":"IFERROR(INDEX(اقساط!$B$3:$B$8532,SMALL(IF(اقساط!$G$3:$G$8532=B1487,ROW($B$3:$B$8532)-ROW($B$3)+1),ROWS($C$3:C1487))),\"\")","v":0}]
[{"$f":"IFERROR(INDEX(اقساط!$AT$3:$AT$8532,SMALL(IF(اقساط!$G$3:$G$8532=B1488,ROW($AT$3:$AT$8532)-ROW($AT$3)+1),ROWS($A$3:A1488))),\"\")","v":0},null,{"$f":"IFERROR(INDEX(اقساط!$B$3:$B$8532,SMALL(IF(اقساط!$G$3:$G$8532=B1488,ROW($B$3:$B$8532)-ROW($B$3)+1),ROWS($C$3:C1488))),\"\")","v":0}]
[{"$f":"IFERROR(INDEX(اقساط!$AT$3:$AT$8532,SMALL(IF(اقساط!$G$3:$G$8532=B1489,ROW($AT$3:$AT$8532)-ROW($AT$3)+1),ROWS($A$3:A1489))),\"\")","v":0},null,{"$f":"IFERROR(INDEX(اقساط!$B$3:$B$8532,SMALL(IF(اقساط!$G$3:$G$8532=B1489,ROW($B$3:$B$8532)-ROW($B$3)+1),ROWS($C$3:C1489))),\"\")","v":0}]
[{"$f":"IFERROR(INDEX(اقساط!$AT$3:$AT$8532,SMALL(IF(اقساط!$G$3:$G$8532=B1490,ROW($AT$3:$AT$8532)-ROW($AT$3)+1),ROWS($A$3:A1490))),\"\")","v":0},null,{"$f":"IFERROR(INDEX(اقساط!$B$3:$B$8532,SMALL(IF(اقساط!$G$3:$G$8532=B1490,ROW($B$3:$B$8532)-ROW($B$3)+1),ROWS($C$3:C1490))),\"\")","v":0}]
[{"$f":"IFERROR(INDEX(اقساط!$AT$3:$AT$8532,SMALL(IF(اقساط!$G$3:$G$8532=B1491,ROW($AT$3:$AT$8532)-ROW($AT$3)+1),ROWS($A$3:A1491))),\"\")","v":0},null,{"$f":"IFERROR(INDEX(اقساط!$B$3:$B$8532,SMALL(IF(اقساط!$G$3:$G$8532=B1491,ROW($B$3:$B$8532)-ROW($B$3)+1),ROWS($C$3:C1491))),\"\")","v":0}]
[{"$f":"IFERROR(INDEX(اقساط!$AT$3:$AT$8532,SMALL(IF(اقساط!$G$3:$G$8532=B1492,ROW($AT$3:$AT$8532)-ROW($AT$3)+1),ROWS($A$3:A1492))),\"\")","v":0},null,{"$f":"IFERROR(INDEX(اقساط!$B$3:$B$8532,SMALL(IF(اقساط!$G$3:$G$8532=B1492,ROW($B$3:$B$8532)-ROW($B$3)+1),ROWS($C$3:C1492))),\"\")","v":0}]
[{"$f":"IFERROR(INDEX(اقساط!$AT$3:$AT$8532,SMALL(IF(اقساط!$G$3:$G$8532=B1493,ROW($AT$3:$AT$8532)-ROW($AT$3)+1),ROWS($A$3:A1493))),\"\")","v":0},null,{"$f":"IFERROR(INDEX(اقساط!$B$3:$B$8532,SMALL(IF(اقساط!$G$3:$G$8532=B1493,ROW($B$3:$B$8532)-ROW($B$3)+1),ROWS($C$3:C1493))),\"\")","v":0}]
[{"$f":"IFERROR(INDEX(اقساط!$AT$3:$AT$8532,SMALL(IF(اقساط!$G$3:$G$8532=B1494,ROW($AT$3:$AT$8532)-ROW($AT$3)+1),ROWS($A$3:A1494))),\"\")","v":0},null,{"$f":"IFERROR(INDEX(اقساط!$B$3:$B$8532,SMALL(IF(اقساط!$G$3:$G$8532=B1494,ROW($B$3:$B$8532)-ROW($B$3)+1),ROWS($C$3:C1494))),\"\")","v":0}]
[{"$f":"IFERROR(INDEX(اقساط!$AT$3:$AT$8532,SMALL(IF(اقساط!$G$3:$G$8532=B1495,ROW($AT$3:$AT$8532)-ROW($AT$3)+1),ROWS($A$3:A1495))),\"\")","v":0},null,{"$f":"IFERROR(INDEX(اقساط!$B$3:$B$8532,SMALL(IF(اقساط!$G$3:$G$8532=B1495,ROW($B$3:$B$8532)-ROW($B$3)+1),ROWS($C$3:C1495))),\"\")","v":0}]
[{"$f":"IFERROR(INDEX(اقساط!$AT$3:$AT$8532,SMALL(IF(اقساط!$G$3:$G$8532=B1496,ROW($AT$3:$AT$8532)-ROW($AT$3)+1),ROWS($A$3:A1496))),\"\")","v":0},null,{"$f":"IFERROR(INDEX(اقساط!$B$3:$B$8532,SMALL(IF(اقساط!$G$3:$G$8532=B1496,ROW($B$3:$B$8532)-ROW($B$3)+1),ROWS($C$3:C1496))),\"\")","v":0}]
[{"$f":"IFERROR(INDEX(اقساط!$AT$3:$AT$8532,SMALL(IF(اقساط!$G$3:$G$8532=B1497,ROW($AT$3:$AT$8532)-ROW($AT$3)+1),ROWS($A$3:A1497))),\"\")","v":0},null,{"$f":"IFERROR(INDEX(اقساط!$B$3:$B$8532,SMALL(IF(اقساط!$G$3:$G$8532=B1497,ROW($B$3:$B$8532)-ROW($B$3)+1),ROWS($C$3:C1497))),\"\")","v":0}]
[{"$f":"IFERROR(INDEX(اقساط!$AT$3:$AT$8532,SMALL(IF(اقساط!$G$3:$G$8532=B1498,ROW($AT$3:$AT$8532)-ROW($AT$3)+1),ROWS($A$3:A1498))),\"\")","v":0},null,{"$f":"IFERROR(INDEX(اقساط!$B$3:$B$8532,SMALL(IF(اقساط!$G$3:$G$8532=B1498,ROW($B$3:$B$8532)-ROW($B$3)+1),ROWS($C$3:C1498))),\"\")","v":0}]
[{"$f":"IFERROR(INDEX(اقساط!$AT$3:$AT$8532,SMALL(IF(اقساط!$G$3:$G$8532=B1499,ROW($AT$3:$AT$8532)-ROW($AT$3)+1),ROWS($A$3:A1499))),\"\")","v":0},null,{"$f":"IFERROR(INDEX(اقساط!$B$3:$B$8532,SMALL(IF(اقساط!$G$3:$G$8532=B1499,ROW($B$3:$B$8532)-ROW($B$3)+1),ROWS($C$3:C1499))),\"\")","v":0}]
[{"$f":"IFERROR(INDEX(اقساط!$AT$3:$AT$8532,SMALL(IF(اقساط!$G$3:$G$8532=B1500,ROW($AT$3:$AT$8532)-ROW($AT$3)+1),ROWS($A$3:A1500))),\"\")","v":0},null,{"$f":"IFERROR(INDEX(اقساط!$B$3:$B$8532,SMALL(IF(اقساط!$G$3:$G$8532=B1500,ROW($B$3:$B$8532)-ROW($B$3)+1),ROWS($C$3:C1500))),\"\")","v":0}]
[{"$f":"IFERROR(INDEX(اقساط!$AT$3:$AT$8532,SMALL(IF(اقساط!$G$3:$G$8532=B1501,ROW($AT$3:$AT$8532)-ROW($AT$3)+1),ROWS($A$3:A1501))),\"\")","v":0},null,{"$f":"IFERROR(INDEX(اقساط!$B$3:$B$8532,SMALL(IF(اقساط!$G$3:$G$8532=B1501,ROW($B$3:$B$8532)-ROW($B$3)+1),ROWS($C$3:C1501))),\"\")","v":0}]
[{"$f":"IFERROR(INDEX(اقساط!$AT$3:$AT$8532,SMALL(IF(اقساط!$G$3:$G$8532=B1502,ROW($AT$3:$AT$8532)-ROW($AT$3)+1),ROWS($A$3:A1502))),\"\")","v":0},null,{"$f":"IFERROR(INDEX(اقساط!$B$3:$B$8532,SMALL(IF(اقساط!$G$3:$G$8532=B1502,ROW($B$3:$B$8532)-ROW($B$3)+1),ROWS($C$3:C1502))),\"\")","v":0}]
[{"$f":"IFERROR(INDEX(اقساط!$AT$3:$AT$8532,SMALL(IF(اقساط!$G$3:$G$8532=B1503,ROW($AT$3:$AT$8532)-ROW($AT$3)+1),ROWS($A$3:A1503))),\"\")","v":0},null,{"$f":"IFERROR(INDEX(اقساط!$B$3:$B$8532,SMALL(IF(اقساط!$G$3:$G$8532=B1503,ROW($B$3:$B$8532)-ROW($B$3)+1),ROWS($C$3:C1503))),\"\")","v":0}]
[{"$f":"IFERROR(INDEX(اقساط!$AT$3:$AT$8532,SMALL(IF(اقساط!$G$3:$G$8532=B1504,ROW($AT$3:$AT$8532)-ROW($AT$3)+1),ROWS($A$3:A1504))),\"\")","v":0},null,{"$f":"IFERROR(INDEX(اقساط!$B$3:$B$8532,SMALL(IF(اقساط!$G$3:$G$8532=B1504,ROW($B$3:$B$8532)-ROW($B$3)+1),ROWS($C$3:C1504))),\"\")","v":0}]
[{"$f":"IFERROR(INDEX(اقساط!$AT$3:$AT$8532,SMALL(IF(اقساط!$G$3:$G$8532=B1505,ROW($AT$3:$AT$8532)-ROW($AT$3)+1),ROWS($A$3:A1505))),\"\")","v":0},null,{"$f":"IFERROR(INDEX(اقساط!$B$3:$B$8532,SMALL(IF(اقساط!$G$3:$G$8532=B1505,ROW($B$3:$B$8532)-ROW($B$3)+1),ROWS($C$3:C1505))),\"\")","v":0}]
[{"$f":"IFERROR(INDEX(اقساط!$AT$3:$AT$8532,SMALL(IF(اقساط!$G$3:$G$8532=B1506,ROW($AT$3:$AT$8532)-ROW($AT$3)+1),ROWS($A$3:A1506))),\"\")","v":0},null,{"$f":"IFERROR(INDEX(اقساط!$B$3:$B$8532,SMALL(IF(اقساط!$G$3:$G$8532=B1506,ROW($B$3:$B$8532)-ROW($B$3)+1),ROWS($C$3:C1506))),\"\")","v":0}]
[{"$f":"IFERROR(INDEX(اقساط!$AT$3:$AT$8532,SMALL(IF(اقساط!$G$3:$G$8532=B1507,ROW($AT$3:$AT$8532)-ROW($AT$3)+1),ROWS($A$3:A1507))),\"\")","v":0},null,{"$f":"IFERROR(INDEX(اقساط!$B$3:$B$8532,SMALL(IF(اقساط!$G$3:$G$8532=B1507,ROW($B$3:$B$8532)-ROW($B$3)+1),ROWS($C$3:C1507))),\"\")","v":0}]
[{"$f":"IFERROR(INDEX(اقساط!$AT$3:$AT$8532,SMALL(IF(اقساط!$G$3:$G$8532=B1508,ROW($AT$3:$AT$8532)-ROW($AT$3)+1),ROWS($A$3:A1508))),\"\")","v":0},null,{"$f":"IFERROR(INDEX(اقساط!$B$3:$B$8532,SMALL(IF(اقساط!$G$3:$G$8532=B1508,ROW($B$3:$B$8532)-ROW($B$3)+1),ROWS($C$3:C1508))),\"\")","v":0}]
[{"$f":"IFERROR(INDEX(اقساط!$AT$3:$AT$8532,SMALL(IF(اقساط!$G$3:$G$8532=B1509,ROW($AT$3:$AT$8532)-ROW($AT$3)+1),ROWS($A$3:A1509))),\"\")","v":0},null,{"$f":"IFERROR(INDEX(اقساط!$B$3:$B$8532,SMALL(IF(اقساط!$G$3:$G$8532=B1509,ROW($B$3:$B$8532)-ROW($B$3)+1),ROWS($C$3:C1509))),\"\")","v":0}]
[{"$f":"IFERROR(INDEX(اقساط!$AT$3:$AT$8532,SMALL(IF(اقساط!$G$3:$G$8532=B1510,ROW($AT$3:$AT$8532)-ROW($AT$3)+1),ROWS($A$3:A1510))),\"\")","v":0},null,{"$f":"IFERROR(INDEX(اقساط!$B$3:$B$8532,SMALL(IF(اقساط!$G$3:$G$8532=B1510,ROW($B$3:$B$8532)-ROW($B$3)+1),ROWS($C$3:C1510))),\"\")","v":0}]
[{"$f":"IFERROR(INDEX(اقساط!$AT$3:$AT$8532,SMALL(IF(اقساط!$G$3:$G$8532=B1511,ROW($AT$3:$AT$8532)-ROW($AT$3)+1),ROWS($A$3:A1511))),\"\")","v":0},null,{"$f":"IFERROR(INDEX(اقساط!$B$3:$B$8532,SMALL(IF(اقساط!$G$3:$G$8532=B1511,ROW($B$3:$B$8532)-ROW($B$3)+1),ROWS($C$3:C1511))),\"\")","v":0}]
[{"$f":"IFERROR(INDEX(اقساط!$AT$3:$AT$8532,SMALL(IF(اقساط!$G$3:$G$8532=B1512,ROW($AT$3:$AT$8532)-ROW($AT$3)+1),ROWS($A$3:A1512))),\"\")","v":0},null,{"$f":"IFERROR(INDEX(اقساط!$B$3:$B$8532,SMALL(IF(اقساط!$G$3:$G$8532=B1512,ROW($B$3:$B$8532)-ROW($B$3)+1),ROWS($C$3:C1512))),\"\")","v":0}]
[{"$f":"IFERROR(INDEX(اقساط!$AT$3:$AT$8532,SMALL(IF(اقساط!$G$3:$G$8532=B1513,ROW($AT$3:$AT$8532)-ROW($AT$3)+1),ROWS($A$3:A1513))),\"\")","v":0},null,{"$f":"IFERROR(INDEX(اقساط!$B$3:$B$8532,SMALL(IF(اقساط!$G$3:$G$8532=B1513,ROW($B$3:$B$8532)-ROW($B$3)+1),ROWS($C$3:C1513))),\"\")","v":0}]
[{"$f":"IFERROR(INDEX(اقساط!$AT$3:$AT$8532,SMALL(IF(اقساط!$G$3:$G$8532=B1514,ROW($AT$3:$AT$8532)-ROW($AT$3)+1),ROWS($A$3:A1514))),\"\")","v":0},null,{"$f":"IFERROR(INDEX(اقساط!$B$3:$B$8532,SMALL(IF(اقساط!$G$3:$G$8532=B1514,ROW($B$3:$B$8532)-ROW($B$3)+1),ROWS($C$3:C1514))),\"\")","v":0}]
[{"$f":"IFERROR(INDEX(اقساط!$AT$3:$AT$8532,SMALL(IF(اقساط!$G$3:$G$8532=B1515,ROW($AT$3:$AT$8532)-ROW($AT$3)+1),ROWS($A$3:A1515))),\"\")","v":0},null,{"$f":"IFERROR(INDEX(اقساط!$B$3:$B$8532,SMALL(IF(اقساط!$G$3:$G$8532=B1515,ROW($B$3:$B$8532)-ROW($B$3)+1),ROWS($C$3:C1515))),\"\")","v":0}]
[{"$f":"IFERROR(INDEX(اقساط!$AT$3:$AT$8532,SMALL(IF(اقساط!$G$3:$G$8532=B1516,ROW($AT$3:$AT$8532)-ROW($AT$3)+1),ROWS($A$3:A1516))),\"\")","v":0},null,{"$f":"IFERROR(INDEX(اقساط!$B$3:$B$8532,SMALL(IF(اقساط!$G$3:$G$8532=B1516,ROW($B$3:$B$8532)-ROW($B$3)+1),ROWS($C$3:C1516))),\"\")","v":0}]
[{"$f":"IFERROR(INDEX(اقساط!$AT$3:$AT$8532,SMALL(IF(اقساط!$G$3:$G$8532=B1517,ROW($AT$3:$AT$8532)-ROW($AT$3)+1),ROWS($A$3:A1517))),\"\")","v":0},null,{"$f":"IFERROR(INDEX(اقساط!$B$3:$B$8532,SMALL(IF(اقساط!$G$3:$G$8532=B1517,ROW($B$3:$B$8532)-ROW($B$3)+1),ROWS($C$3:C1517))),\"\")","v":0}]
[{"$f":"IFERROR(INDEX(اقساط!$AT$3:$AT$8532,SMALL(IF(اقساط!$G$3:$G$8532=B1518,ROW($AT$3:$AT$8532)-ROW($AT$3)+1),ROWS($A$3:A1518))),\"\")","v":0},null,{"$f":"IFERROR(INDEX(اقساط!$B$3:$B$8532,SMALL(IF(اقساط!$G$3:$G$8532=B1518,ROW($B$3:$B$8532)-ROW($B$3)+1),ROWS($C$3:C1518))),\"\")","v":0}]
[{"$f":"IFERROR(INDEX(اقساط!$AT$3:$AT$8532,SMALL(IF(اقساط!$G$3:$G$8532=B1519,ROW($AT$3:$AT$8532)-ROW($AT$3)+1),ROWS($A$3:A1519))),\"\")","v":0},null,{"$f":"IFERROR(INDEX(اقساط!$B$3:$B$8532,SMALL(IF(اقساط!$G$3:$G$8532=B1519,ROW($B$3:$B$8532)-ROW($B$3)+1),ROWS($C$3:C1519))),\"\")","v":0}]
[{"$f":"IFERROR(INDEX(اقساط!$AT$3:$AT$8532,SMALL(IF(اقساط!$G$3:$G$8532=B1520,ROW($AT$3:$AT$8532)-ROW($AT$3)+1),ROWS($A$3:A1520))),\"\")","v":0},null,{"$f":"IFERROR(INDEX(اقساط!$B$3:$B$8532,SMALL(IF(اقساط!$G$3:$G$8532=B1520,ROW($B$3:$B$8532)-ROW($B$3)+1),ROWS($C$3:C1520))),\"\")","v":0}]
[{"$f":"IFERROR(INDEX(اقساط!$AT$3:$AT$8532,SMALL(IF(اقساط!$G$3:$G$8532=B1521,ROW($AT$3:$AT$8532)-ROW($AT$3)+1),ROWS($A$3:A1521))),\"\")","v":0},null,{"$f":"IFERROR(INDEX(اقساط!$B$3:$B$8532,SMALL(IF(اقساط!$G$3:$G$8532=B1521,ROW($B$3:$B$8532)-ROW($B$3)+1),ROWS($C$3:C1521))),\"\")","v":0}]
[{"$f":"IFERROR(INDEX(اقساط!$AT$3:$AT$8532,SMALL(IF(اقساط!$G$3:$G$8532=B1522,ROW($AT$3:$AT$8532)-ROW($AT$3)+1),ROWS($A$3:A1522))),\"\")","v":0},null,{"$f":"IFERROR(INDEX(اقساط!$B$3:$B$8532,SMALL(IF(اقساط!$G$3:$G$8532=B1522,ROW($B$3:$B$8532)-ROW($B$3)+1),ROWS($C$3:C1522))),\"\")","v":0}]
[{"$f":"IFERROR(INDEX(اقساط!$AT$3:$AT$8532,SMALL(IF(اقساط!$G$3:$G$8532=B1523,ROW($AT$3:$AT$8532)-ROW($AT$3)+1),ROWS($A$3:A1523))),\"\")","v":0},null,{"$f":"IFERROR(INDEX(اقساط!$B$3:$B$8532,SMALL(IF(اقساط!$G$3:$G$8532=B1523,ROW($B$3:$B$8532)-ROW($B$3)+1),ROWS($C$3:C1523))),\"\")","v":0}]
[{"$f":"IFERROR(INDEX(اقساط!$AT$3:$AT$8532,SMALL(IF(اقساط!$G$3:$G$8532=B1524,ROW($AT$3:$AT$8532)-ROW($AT$3)+1),ROWS($A$3:A1524))),\"\")","v":0},null,{"$f":"IFERROR(INDEX(اقساط!$B$3:$B$8532,SMALL(IF(اقساط!$G$3:$G$8532=B1524,ROW($B$3:$B$8532)-ROW($B$3)+1),ROWS($C$3:C1524))),\"\")","v":0}]
[{"$f":"IFERROR(INDEX(اقساط!$AT$3:$AT$8532,SMALL(IF(اقساط!$G$3:$G$8532=B1525,ROW($AT$3:$AT$8532)-ROW($AT$3)+1),ROWS($A$3:A1525))),\"\")","v":0},null,{"$f":"IFERROR(INDEX(اقساط!$B$3:$B$8532,SMALL(IF(اقساط!$G$3:$G$8532=B1525,ROW($B$3:$B$8532)-ROW($B$3)+1),ROWS($C$3:C1525))),\"\")","v":0}]
[{"$f":"IFERROR(INDEX(اقساط!$AT$3:$AT$8532,SMALL(IF(اقساط!$G$3:$G$8532=B1526,ROW($AT$3:$AT$8532)-ROW($AT$3)+1),ROWS($A$3:A1526))),\"\")","v":0},null,{"$f":"IFERROR(INDEX(اقساط!$B$3:$B$8532,SMALL(IF(اقساط!$G$3:$G$8532=B1526,ROW($B$3:$B$8532)-ROW($B$3)+1),ROWS($C$3:C1526))),\"\")","v":0}]
[{"$f":"IFERROR(INDEX(اقساط!$AT$3:$AT$8532,SMALL(IF(اقساط!$G$3:$G$8532=B1527,ROW($AT$3:$AT$8532)-ROW($AT$3)+1),ROWS($A$3:A1527))),\"\")","v":0},null,{"$f":"IFERROR(INDEX(اقساط!$B$3:$B$8532,SMALL(IF(اقساط!$G$3:$G$8532=B1527,ROW($B$3:$B$8532)-ROW($B$3)+1),ROWS($C$3:C1527))),\"\")","v":0}]
[{"$f":"IFERROR(INDEX(اقساط!$AT$3:$AT$8532,SMALL(IF(اقساط!$G$3:$G$8532=B1528,ROW($AT$3:$AT$8532)-ROW($AT$3)+1),ROWS($A$3:A1528))),\"\")","v":0},null,{"$f":"IFERROR(INDEX(اقساط!$B$3:$B$8532,SMALL(IF(اقساط!$G$3:$G$8532=B1528,ROW($B$3:$B$8532)-ROW($B$3)+1),ROWS($C$3:C1528))),\"\")","v":0}]
[{"$f":"IFERROR(INDEX(اقساط!$AT$3:$AT$8532,SMALL(IF(اقساط!$G$3:$G$8532=B1529,ROW($AT$3:$AT$8532)-ROW($AT$3)+1),ROWS($A$3:A1529))),\"\")","v":0},null,{"$f":"IFERROR(INDEX(اقساط!$B$3:$B$8532,SMALL(IF(اقساط!$G$3:$G$8532=B1529,ROW($B$3:$B$8532)-ROW($B$3)+1),ROWS($C$3:C1529))),\"\")","v":0}]
[{"$f":"IFERROR(INDEX(اقساط!$AT$3:$AT$8532,SMALL(IF(اقساط!$G$3:$G$8532=B1530,ROW($AT$3:$AT$8532)-ROW($AT$3)+1),ROWS($A$3:A1530))),\"\")","v":0},null,{"$f":"IFERROR(INDEX(اقساط!$B$3:$B$8532,SMALL(IF(اقساط!$G$3:$G$8532=B1530,ROW($B$3:$B$8532)-ROW($B$3)+1),ROWS($C$3:C1530))),\"\")","v":0}]
[{"$f":"IFERROR(INDEX(اقساط!$AT$3:$AT$8532,SMALL(IF(اقساط!$G$3:$G$8532=B1531,ROW($AT$3:$AT$8532)-ROW($AT$3)+1),ROWS($A$3:A1531))),\"\")","v":0},null,{"$f":"IFERROR(INDEX(اقساط!$B$3:$B$8532,SMALL(IF(اقساط!$G$3:$G$8532=B1531,ROW($B$3:$B$8532)-ROW($B$3)+1),ROWS($C$3:C1531))),\"\")","v":0}]
[{"$f":"IFERROR(INDEX(اقساط!$AT$3:$AT$8532,SMALL(IF(اقساط!$G$3:$G$8532=B1532,ROW($AT$3:$AT$8532)-ROW($AT$3)+1),ROWS($A$3:A1532))),\"\")","v":0},null,{"$f":"IFERROR(INDEX(اقساط!$B$3:$B$8532,SMALL(IF(اقساط!$G$3:$G$8532=B1532,ROW($B$3:$B$8532)-ROW($B$3)+1),ROWS($C$3:C1532))),\"\")","v":0}]
[{"$f":"IFERROR(INDEX(اقساط!$AT$3:$AT$8532,SMALL(IF(اقساط!$G$3:$G$8532=B1533,ROW($AT$3:$AT$8532)-ROW($AT$3)+1),ROWS($A$3:A1533))),\"\")","v":0},null,{"$f":"IFERROR(INDEX(اقساط!$B$3:$B$8532,SMALL(IF(اقساط!$G$3:$G$8532=B1533,ROW($B$3:$B$8532)-ROW($B$3)+1),ROWS($C$3:C1533))),\"\")","v":0}]
[{"$f":"IFERROR(INDEX(اقساط!$AT$3:$AT$8532,SMALL(IF(اقساط!$G$3:$G$8532=B1534,ROW($AT$3:$AT$8532)-ROW($AT$3)+1),ROWS($A$3:A1534))),\"\")","v":0},null,{"$f":"IFERROR(INDEX(اقساط!$B$3:$B$8532,SMALL(IF(اقساط!$G$3:$G$8532=B1534,ROW($B$3:$B$8532)-ROW($B$3)+1),ROWS($C$3:C1534))),\"\")","v":0}]
[{"$f":"IFERROR(INDEX(اقساط!$AT$3:$AT$8532,SMALL(IF(اقساط!$G$3:$G$8532=B1535,ROW($AT$3:$AT$8532)-ROW($AT$3)+1),ROWS($A$3:A1535))),\"\")","v":0},null,{"$f":"IFERROR(INDEX(اقساط!$B$3:$B$8532,SMALL(IF(اقساط!$G$3:$G$8532=B1535,ROW($B$3:$B$8532)-ROW($B$3)+1),ROWS($C$3:C1535))),\"\")","v":0}]
[{"$f":"IFERROR(INDEX(اقساط!$AT$3:$AT$8532,SMALL(IF(اقساط!$G$3:$G$8532=B1536,ROW($AT$3:$AT$8532)-ROW($AT$3)+1),ROWS($A$3:A1536))),\"\")","v":0},null,{"$f":"IFERROR(INDEX(اقساط!$B$3:$B$8532,SMALL(IF(اقساط!$G$3:$G$8532=B1536,ROW($B$3:$B$8532)-ROW($B$3)+1),ROWS($C$3:C1536))),\"\")","v":0}]
[{"$f":"IFERROR(INDEX(اقساط!$AT$3:$AT$8532,SMALL(IF(اقساط!$G$3:$G$8532=B1537,ROW($AT$3:$AT$8532)-ROW($AT$3)+1),ROWS($A$3:A1537))),\"\")","v":0},null,{"$f":"IFERROR(INDEX(اقساط!$B$3:$B$8532,SMALL(IF(اقساط!$G$3:$G$8532=B1537,ROW($B$3:$B$8532)-ROW($B$3)+1),ROWS($C$3:C1537))),\"\")","v":0}]
[{"$f":"IFERROR(INDEX(اقساط!$AT$3:$AT$8532,SMALL(IF(اقساط!$G$3:$G$8532=B1538,ROW($AT$3:$AT$8532)-ROW($AT$3)+1),ROWS($A$3:A1538))),\"\")","v":0},null,{"$f":"IFERROR(INDEX(اقساط!$B$3:$B$8532,SMALL(IF(اقساط!$G$3:$G$8532=B1538,ROW($B$3:$B$8532)-ROW($B$3)+1),ROWS($C$3:C1538))),\"\")","v":0}]
[{"$f":"IFERROR(INDEX(اقساط!$AT$3:$AT$8532,SMALL(IF(اقساط!$G$3:$G$8532=B1539,ROW($AT$3:$AT$8532)-ROW($AT$3)+1),ROWS($A$3:A1539))),\"\")","v":0},null,{"$f":"IFERROR(INDEX(اقساط!$B$3:$B$8532,SMALL(IF(اقساط!$G$3:$G$8532=B1539,ROW($B$3:$B$8532)-ROW($B$3)+1),ROWS($C$3:C1539))),\"\")","v":0}]
[{"$f":"IFERROR(INDEX(اقساط!$AT$3:$AT$8532,SMALL(IF(اقساط!$G$3:$G$8532=B1540,ROW($AT$3:$AT$8532)-ROW($AT$3)+1),ROWS($A$3:A1540))),\"\")","v":0},null,{"$f":"IFERROR(INDEX(اقساط!$B$3:$B$8532,SMALL(IF(اقساط!$G$3:$G$8532=B1540,ROW($B$3:$B$8532)-ROW($B$3)+1),ROWS($C$3:C1540))),\"\")","v":0}]
[{"$f":"IFERROR(INDEX(اقساط!$AT$3:$AT$8532,SMALL(IF(اقساط!$G$3:$G$8532=B1541,ROW($AT$3:$AT$8532)-ROW($AT$3)+1),ROWS($A$3:A1541))),\"\")","v":0},null,{"$f":"IFERROR(INDEX(اقساط!$B$3:$B$8532,SMALL(IF(اقساط!$G$3:$G$8532=B1541,ROW($B$3:$B$8532)-ROW($B$3)+1),ROWS($C$3:C1541))),\"\")","v":0}]
[{"$f":"IFERROR(INDEX(اقساط!$AT$3:$AT$8532,SMALL(IF(اقساط!$G$3:$G$8532=B1542,ROW($AT$3:$AT$8532)-ROW($AT$3)+1),ROWS($A$3:A1542))),\"\")","v":0},null,{"$f":"IFERROR(INDEX(اقساط!$B$3:$B$8532,SMALL(IF(اقساط!$G$3:$G$8532=B1542,ROW($B$3:$B$8532)-ROW($B$3)+1),ROWS($C$3:C1542))),\"\")","v":0}]
[{"$f":"IFERROR(INDEX(اقساط!$AT$3:$AT$8532,SMALL(IF(اقساط!$G$3:$G$8532=B1543,ROW($AT$3:$AT$8532)-ROW($AT$3)+1),ROWS($A$3:A1543))),\"\")","v":0},null,{"$f":"IFERROR(INDEX(اقساط!$B$3:$B$8532,SMALL(IF(اقساط!$G$3:$G$8532=B1543,ROW($B$3:$B$8532)-ROW($B$3)+1),ROWS($C$3:C1543))),\"\")","v":0}]
[{"$f":"IFERROR(INDEX(اقساط!$AT$3:$AT$8532,SMALL(IF(اقساط!$G$3:$G$8532=B1544,ROW($AT$3:$AT$8532)-ROW($AT$3)+1),ROWS($A$3:A1544))),\"\")","v":0},null,{"$f":"IFERROR(INDEX(اقساط!$B$3:$B$8532,SMALL(IF(اقساط!$G$3:$G$8532=B1544,ROW($B$3:$B$8532)-ROW($B$3)+1),ROWS($C$3:C1544))),\"\")","v":0}]
[{"$f":"IFERROR(INDEX(اقساط!$AT$3:$AT$8532,SMALL(IF(اقساط!$G$3:$G$8532=B1545,ROW($AT$3:$AT$8532)-ROW($AT$3)+1),ROWS($A$3:A1545))),\"\")","v":0},null,{"$f":"IFERROR(INDEX(اقساط!$B$3:$B$8532,SMALL(IF(اقساط!$G$3:$G$8532=B1545,ROW($B$3:$B$8532)-ROW($B$3)+1),ROWS($C$3:C1545))),\"\")","v":0}]
[{"$f":"IFERROR(INDEX(اقساط!$AT$3:$AT$8532,SMALL(IF(اقساط!$G$3:$G$8532=B1546,ROW($AT$3:$AT$8532)-ROW($AT$3)+1),ROWS($A$3:A1546))),\"\")","v":0},null,{"$f":"IFERROR(INDEX(اقساط!$B$3:$B$8532,SMALL(IF(اقساط!$G$3:$G$8532=B1546,ROW($B$3:$B$8532)-ROW($B$3)+1),ROWS($C$3:C1546))),\"\")","v":0}]
[{"$f":"IFERROR(INDEX(اقساط!$AT$3:$AT$8532,SMALL(IF(اقساط!$G$3:$G$8532=B1547,ROW($AT$3:$AT$8532)-ROW($AT$3)+1),ROWS($A$3:A1547))),\"\")","v":0},null,{"$f":"IFERROR(INDEX(اقساط!$B$3:$B$8532,SMALL(IF(اقساط!$G$3:$G$8532=B1547,ROW($B$3:$B$8532)-ROW($B$3)+1),ROWS($C$3:C1547))),\"\")","v":0}]
[{"$f":"IFERROR(INDEX(اقساط!$AT$3:$AT$8532,SMALL(IF(اقساط!$G$3:$G$8532=B1548,ROW($AT$3:$AT$8532)-ROW($AT$3)+1),ROWS($A$3:A1548))),\"\")","v":0},null,{"$f":"IFERROR(INDEX(اقساط!$B$3:$B$8532,SMALL(IF(اقساط!$G$3:$G$8532=B1548,ROW($B$3:$B$8532)-ROW($B$3)+1),ROWS($C$3:C1548))),\"\")","v":0}]
[{"$f":"IFERROR(INDEX(اقساط!$AT$3:$AT$8532,SMALL(IF(اقساط!$G$3:$G$8532=B1549,ROW($AT$3:$AT$8532)-ROW($AT$3)+1),ROWS($A$3:A1549))),\"\")","v":0},null,{"$f":"IFERROR(INDEX(اقساط!$B$3:$B$8532,SMALL(IF(اقساط!$G$3:$G$8532=B1549,ROW($B$3:$B$8532)-ROW($B$3)+1),ROWS($C$3:C1549))),\"\")","v":0}]
[{"$f":"IFERROR(INDEX(اقساط!$AT$3:$AT$8532,SMALL(IF(اقساط!$G$3:$G$8532=B1550,ROW($AT$3:$AT$8532)-ROW($AT$3)+1),ROWS($A$3:A1550))),\"\")","v":0},null,{"$f":"IFERROR(INDEX(اقساط!$B$3:$B$8532,SMALL(IF(اقساط!$G$3:$G$8532=B1550,ROW($B$3:$B$8532)-ROW($B$3)+1),ROWS($C$3:C1550))),\"\")","v":0}]
[{"$f":"IFERROR(INDEX(اقساط!$AT$3:$AT$8532,SMALL(IF(اقساط!$G$3:$G$8532=B1551,ROW($AT$3:$AT$8532)-ROW($AT$3)+1),ROWS($A$3:A1551))),\"\")","v":0},null,{"$f":"IFERROR(INDEX(اقساط!$B$3:$B$8532,SMALL(IF(اقساط!$G$3:$G$8532=B1551,ROW($B$3:$B$8532)-ROW($B$3)+1),ROWS($C$3:C1551))),\"\")","v":0}]
[{"$f":"IFERROR(INDEX(اقساط!$AT$3:$AT$8532,SMALL(IF(اقساط!$G$3:$G$8532=B1552,ROW($AT$3:$AT$8532)-ROW($AT$3)+1),ROWS($A$3:A1552))),\"\")","v":0},null,{"$f":"IFERROR(INDEX(اقساط!$B$3:$B$8532,SMALL(IF(اقساط!$G$3:$G$8532=B1552,ROW($B$3:$B$8532)-ROW($B$3)+1),ROWS($C$3:C1552))),\"\")","v":0}]
[{"$f":"IFERROR(INDEX(اقساط!$AT$3:$AT$8532,SMALL(IF(اقساط!$G$3:$G$8532=B1553,ROW($AT$3:$AT$8532)-ROW($AT$3)+1),ROWS($A$3:A1553))),\"\")","v":0},null,{"$f":"IFERROR(INDEX(اقساط!$B$3:$B$8532,SMALL(IF(اقساط!$G$3:$G$8532=B1553,ROW($B$3:$B$8532)-ROW($B$3)+1),ROWS($C$3:C1553))),\"\")","v":0}]
[{"$f":"IFERROR(INDEX(اقساط!$AT$3:$AT$8532,SMALL(IF(اقساط!$G$3:$G$8532=B1554,ROW($AT$3:$AT$8532)-ROW($AT$3)+1),ROWS($A$3:A1554))),\"\")","v":0},null,{"$f":"IFERROR(INDEX(اقساط!$B$3:$B$8532,SMALL(IF(اقساط!$G$3:$G$8532=B1554,ROW($B$3:$B$8532)-ROW($B$3)+1),ROWS($C$3:C1554))),\"\")","v":0}]
[{"$f":"IFERROR(INDEX(اقساط!$AT$3:$AT$8532,SMALL(IF(اقساط!$G$3:$G$8532=B1555,ROW($AT$3:$AT$8532)-ROW($AT$3)+1),ROWS($A$3:A1555))),\"\")","v":0},null,{"$f":"IFERROR(INDEX(اقساط!$B$3:$B$8532,SMALL(IF(اقساط!$G$3:$G$8532=B1555,ROW($B$3:$B$8532)-ROW($B$3)+1),ROWS($C$3:C1555))),\"\")","v":0}]
[{"$f":"IFERROR(INDEX(اقساط!$AT$3:$AT$8532,SMALL(IF(اقساط!$G$3:$G$8532=B1556,ROW($AT$3:$AT$8532)-ROW($AT$3)+1),ROWS($A$3:A1556))),\"\")","v":0},null,{"$f":"IFERROR(INDEX(اقساط!$B$3:$B$8532,SMALL(IF(اقساط!$G$3:$G$8532=B1556,ROW($B$3:$B$8532)-ROW($B$3)+1),ROWS($C$3:C1556))),\"\")","v":0}]
[{"$f":"IFERROR(INDEX(اقساط!$AT$3:$AT$8532,SMALL(IF(اقساط!$G$3:$G$8532=B1557,ROW($AT$3:$AT$8532)-ROW($AT$3)+1),ROWS($A$3:A1557))),\"\")","v":0},null,{"$f":"IFERROR(INDEX(اقساط!$B$3:$B$8532,SMALL(IF(اقساط!$G$3:$G$8532=B1557,ROW($B$3:$B$8532)-ROW($B$3)+1),ROWS($C$3:C1557))),\"\")","v":0}]
[{"$f":"IFERROR(INDEX(اقساط!$AT$3:$AT$8532,SMALL(IF(اقساط!$G$3:$G$8532=B1558,ROW($AT$3:$AT$8532)-ROW($AT$3)+1),ROWS($A$3:A1558))),\"\")","v":0},null,{"$f":"IFERROR(INDEX(اقساط!$B$3:$B$8532,SMALL(IF(اقساط!$G$3:$G$8532=B1558,ROW($B$3:$B$8532)-ROW($B$3)+1),ROWS($C$3:C1558))),\"\")","v":0}]
[{"$f":"IFERROR(INDEX(اقساط!$AT$3:$AT$8532,SMALL(IF(اقساط!$G$3:$G$8532=B1559,ROW($AT$3:$AT$8532)-ROW($AT$3)+1),ROWS($A$3:A1559))),\"\")","v":0},null,{"$f":"IFERROR(INDEX(اقساط!$B$3:$B$8532,SMALL(IF(اقساط!$G$3:$G$8532=B1559,ROW($B$3:$B$8532)-ROW($B$3)+1),ROWS($C$3:C1559))),\"\")","v":0}]
[{"$f":"IFERROR(INDEX(اقساط!$AT$3:$AT$8532,SMALL(IF(اقساط!$G$3:$G$8532=B1560,ROW($AT$3:$AT$8532)-ROW($AT$3)+1),ROWS($A$3:A1560))),\"\")","v":0},null,{"$f":"IFERROR(INDEX(اقساط!$B$3:$B$8532,SMALL(IF(اقساط!$G$3:$G$8532=B1560,ROW($B$3:$B$8532)-ROW($B$3)+1),ROWS($C$3:C1560))),\"\")","v":0}]
[{"$f":"IFERROR(INDEX(اقساط!$AT$3:$AT$8532,SMALL(IF(اقساط!$G$3:$G$8532=B1561,ROW($AT$3:$AT$8532)-ROW($AT$3)+1),ROWS($A$3:A1561))),\"\")","v":0},null,{"$f":"IFERROR(INDEX(اقساط!$B$3:$B$8532,SMALL(IF(اقساط!$G$3:$G$8532=B1561,ROW($B$3:$B$8532)-ROW($B$3)+1),ROWS($C$3:C1561))),\"\")","v":0}]
[{"$f":"IFERROR(INDEX(اقساط!$AT$3:$AT$8532,SMALL(IF(اقساط!$G$3:$G$8532=B1562,ROW($AT$3:$AT$8532)-ROW($AT$3)+1),ROWS($A$3:A1562))),\"\")","v":0},null,{"$f":"IFERROR(INDEX(اقساط!$B$3:$B$8532,SMALL(IF(اقساط!$G$3:$G$8532=B1562,ROW($B$3:$B$8532)-ROW($B$3)+1),ROWS($C$3:C1562))),\"\")","v":0}]
[{"$f":"IFERROR(INDEX(اقساط!$AT$3:$AT$8532,SMALL(IF(اقساط!$G$3:$G$8532=B1563,ROW($AT$3:$AT$8532)-ROW($AT$3)+1),ROWS($A$3:A1563))),\"\")","v":0},null,{"$f":"IFERROR(INDEX(اقساط!$B$3:$B$8532,SMALL(IF(اقساط!$G$3:$G$8532=B1563,ROW($B$3:$B$8532)-ROW($B$3)+1),ROWS($C$3:C1563))),\"\")","v":0}]
[{"$f":"IFERROR(INDEX(اقساط!$AT$3:$AT$8532,SMALL(IF(اقساط!$G$3:$G$8532=B1564,ROW($AT$3:$AT$8532)-ROW($AT$3)+1),ROWS($A$3:A1564))),\"\")","v":0},null,{"$f":"IFERROR(INDEX(اقساط!$B$3:$B$8532,SMALL(IF(اقساط!$G$3:$G$8532=B1564,ROW($B$3:$B$8532)-ROW($B$3)+1),ROWS($C$3:C1564))),\"\")","v":0}]
[{"$f":"IFERROR(INDEX(اقساط!$AT$3:$AT$8532,SMALL(IF(اقساط!$G$3:$G$8532=B1565,ROW($AT$3:$AT$8532)-ROW($AT$3)+1),ROWS($A$3:A1565))),\"\")","v":0},null,{"$f":"IFERROR(INDEX(اقساط!$B$3:$B$8532,SMALL(IF(اقساط!$G$3:$G$8532=B1565,ROW($B$3:$B$8532)-ROW($B$3)+1),ROWS($C$3:C1565))),\"\")","v":0}]
[{"$f":"IFERROR(INDEX(اقساط!$AT$3:$AT$8532,SMALL(IF(اقساط!$G$3:$G$8532=B1566,ROW($AT$3:$AT$8532)-ROW($AT$3)+1),ROWS($A$3:A1566))),\"\")","v":0},null,{"$f":"IFERROR(INDEX(اقساط!$B$3:$B$8532,SMALL(IF(اقساط!$G$3:$G$8532=B1566,ROW($B$3:$B$8532)-ROW($B$3)+1),ROWS($C$3:C1566))),\"\")","v":0}]
[{"$f":"IFERROR(INDEX(اقساط!$AT$3:$AT$8532,SMALL(IF(اقساط!$G$3:$G$8532=B1567,ROW($AT$3:$AT$8532)-ROW($AT$3)+1),ROWS($A$3:A1567))),\"\")","v":0},null,{"$f":"IFERROR(INDEX(اقساط!$B$3:$B$8532,SMALL(IF(اقساط!$G$3:$G$8532=B1567,ROW($B$3:$B$8532)-ROW($B$3)+1),ROWS($C$3:C1567))),\"\")","v":0}]
[{"$f":"IFERROR(INDEX(اقساط!$AT$3:$AT$8532,SMALL(IF(اقساط!$G$3:$G$8532=B1568,ROW($AT$3:$AT$8532)-ROW($AT$3)+1),ROWS($A$3:A1568))),\"\")","v":0},null,{"$f":"IFERROR(INDEX(اقساط!$B$3:$B$8532,SMALL(IF(اقساط!$G$3:$G$8532=B1568,ROW($B$3:$B$8532)-ROW($B$3)+1),ROWS($C$3:C1568))),\"\")","v":0}]
[{"$f":"IFERROR(INDEX(اقساط!$AT$3:$AT$8532,SMALL(IF(اقساط!$G$3:$G$8532=B1569,ROW($AT$3:$AT$8532)-ROW($AT$3)+1),ROWS($A$3:A1569))),\"\")","v":0},null,{"$f":"IFERROR(INDEX(اقساط!$B$3:$B$8532,SMALL(IF(اقساط!$G$3:$G$8532=B1569,ROW($B$3:$B$8532)-ROW($B$3)+1),ROWS($C$3:C1569))),\"\")","v":0}]
[{"$f":"IFERROR(INDEX(اقساط!$AT$3:$AT$8532,SMALL(IF(اقساط!$G$3:$G$8532=B1570,ROW($AT$3:$AT$8532)-ROW($AT$3)+1),ROWS($A$3:A1570))),\"\")","v":0},null,{"$f":"IFERROR(INDEX(اقساط!$B$3:$B$8532,SMALL(IF(اقساط!$G$3:$G$8532=B1570,ROW($B$3:$B$8532)-ROW($B$3)+1),ROWS($C$3:C1570))),\"\")","v":0}]
[{"$f":"IFERROR(INDEX(اقساط!$AT$3:$AT$8532,SMALL(IF(اقساط!$G$3:$G$8532=B1571,ROW($AT$3:$AT$8532)-ROW($AT$3)+1),ROWS($A$3:A1571))),\"\")","v":0},null,{"$f":"IFERROR(INDEX(اقساط!$B$3:$B$8532,SMALL(IF(اقساط!$G$3:$G$8532=B1571,ROW($B$3:$B$8532)-ROW($B$3)+1),ROWS($C$3:C1571))),\"\")","v":0}]
[{"$f":"IFERROR(INDEX(اقساط!$AT$3:$AT$8532,SMALL(IF(اقساط!$G$3:$G$8532=B1572,ROW($AT$3:$AT$8532)-ROW($AT$3)+1),ROWS($A$3:A1572))),\"\")","v":0},null,{"$f":"IFERROR(INDEX(اقساط!$B$3:$B$8532,SMALL(IF(اقساط!$G$3:$G$8532=B1572,ROW($B$3:$B$8532)-ROW($B$3)+1),ROWS($C$3:C1572))),\"\")","v":0}]
[{"$f":"IFERROR(INDEX(اقساط!$AT$3:$AT$8532,SMALL(IF(اقساط!$G$3:$G$8532=B1573,ROW($AT$3:$AT$8532)-ROW($AT$3)+1),ROWS($A$3:A1573))),\"\")","v":0},null,{"$f":"IFERROR(INDEX(اقساط!$B$3:$B$8532,SMALL(IF(اقساط!$G$3:$G$8532=B1573,ROW($B$3:$B$8532)-ROW($B$3)+1),ROWS($C$3:C1573))),\"\")","v":0}]
[{"$f":"IFERROR(INDEX(اقساط!$AT$3:$AT$8532,SMALL(IF(اقساط!$G$3:$G$8532=B1574,ROW($AT$3:$AT$8532)-ROW($AT$3)+1),ROWS($A$3:A1574))),\"\")","v":0},null,{"$f":"IFERROR(INDEX(اقساط!$B$3:$B$8532,SMALL(IF(اقساط!$G$3:$G$8532=B1574,ROW($B$3:$B$8532)-ROW($B$3)+1),ROWS($C$3:C1574))),\"\")","v":0}]
[{"$f":"IFERROR(INDEX(اقساط!$AT$3:$AT$8532,SMALL(IF(اقساط!$G$3:$G$8532=B1575,ROW($AT$3:$AT$8532)-ROW($AT$3)+1),ROWS($A$3:A1575))),\"\")","v":0},null,{"$f":"IFERROR(INDEX(اقساط!$B$3:$B$8532,SMALL(IF(اقساط!$G$3:$G$8532=B1575,ROW($B$3:$B$8532)-ROW($B$3)+1),ROWS($C$3:C1575))),\"\")","v":0}]
[{"$f":"IFERROR(INDEX(اقساط!$AT$3:$AT$8532,SMALL(IF(اقساط!$G$3:$G$8532=B1576,ROW($AT$3:$AT$8532)-ROW($AT$3)+1),ROWS($A$3:A1576))),\"\")","v":0},null,{"$f":"IFERROR(INDEX(اقساط!$B$3:$B$8532,SMALL(IF(اقساط!$G$3:$G$8532=B1576,ROW($B$3:$B$8532)-ROW($B$3)+1),ROWS($C$3:C1576))),\"\")","v":0}]
[{"$f":"IFERROR(INDEX(اقساط!$AT$3:$AT$8532,SMALL(IF(اقساط!$G$3:$G$8532=B1577,ROW($AT$3:$AT$8532)-ROW($AT$3)+1),ROWS($A$3:A1577))),\"\")","v":0},null,{"$f":"IFERROR(INDEX(اقساط!$B$3:$B$8532,SMALL(IF(اقساط!$G$3:$G$8532=B1577,ROW($B$3:$B$8532)-ROW($B$3)+1),ROWS($C$3:C1577))),\"\")","v":0}]
[{"$f":"IFERROR(INDEX(اقساط!$AT$3:$AT$8532,SMALL(IF(اقساط!$G$3:$G$8532=B1578,ROW($AT$3:$AT$8532)-ROW($AT$3)+1),ROWS($A$3:A1578))),\"\")","v":0},null,{"$f":"IFERROR(INDEX(اقساط!$B$3:$B$8532,SMALL(IF(اقساط!$G$3:$G$8532=B1578,ROW($B$3:$B$8532)-ROW($B$3)+1),ROWS($C$3:C1578))),\"\")","v":0}]
[{"$f":"IFERROR(INDEX(اقساط!$AT$3:$AT$8532,SMALL(IF(اقساط!$G$3:$G$8532=B1579,ROW($AT$3:$AT$8532)-ROW($AT$3)+1),ROWS($A$3:A1579))),\"\")","v":0},null,{"$f":"IFERROR(INDEX(اقساط!$B$3:$B$8532,SMALL(IF(اقساط!$G$3:$G$8532=B1579,ROW($B$3:$B$8532)-ROW($B$3)+1),ROWS($C$3:C1579))),\"\")","v":0}]
[{"$f":"IFERROR(INDEX(اقساط!$AT$3:$AT$8532,SMALL(IF(اقساط!$G$3:$G$8532=B1580,ROW($AT$3:$AT$8532)-ROW($AT$3)+1),ROWS($A$3:A1580))),\"\")","v":0},null,{"$f":"IFERROR(INDEX(اقساط!$B$3:$B$8532,SMALL(IF(اقساط!$G$3:$G$8532=B1580,ROW($B$3:$B$8532)-ROW($B$3)+1),ROWS($C$3:C1580))),\"\")","v":0}]
[{"$f":"IFERROR(INDEX(اقساط!$AT$3:$AT$8532,SMALL(IF(اقساط!$G$3:$G$8532=B1581,ROW($AT$3:$AT$8532)-ROW($AT$3)+1),ROWS($A$3:A1581))),\"\")","v":0},null,{"$f":"IFERROR(INDEX(اقساط!$B$3:$B$8532,SMALL(IF(اقساط!$G$3:$G$8532=B1581,ROW($B$3:$B$8532)-ROW($B$3)+1),ROWS($C$3:C1581))),\"\")","v":0}]
[{"$f":"IFERROR(INDEX(اقساط!$AT$3:$AT$8532,SMALL(IF(اقساط!$G$3:$G$8532=B1582,ROW($AT$3:$AT$8532)-ROW($AT$3)+1),ROWS($A$3:A1582))),\"\")","v":0},null,{"$f":"IFERROR(INDEX(اقساط!$B$3:$B$8532,SMALL(IF(اقساط!$G$3:$G$8532=B1582,ROW($B$3:$B$8532)-ROW($B$3)+1),ROWS($C$3:C1582))),\"\")","v":0}]
[{"$f":"IFERROR(INDEX(اقساط!$AT$3:$AT$8532,SMALL(IF(اقساط!$G$3:$G$8532=B1583,ROW($AT$3:$AT$8532)-ROW($AT$3)+1),ROWS($A$3:A1583))),\"\")","v":0},null,{"$f":"IFERROR(INDEX(اقساط!$B$3:$B$8532,SMALL(IF(اقساط!$G$3:$G$8532=B1583,ROW($B$3:$B$8532)-ROW($B$3)+1),ROWS($C$3:C1583))),\"\")","v":0}]
[{"$f":"IFERROR(INDEX(اقساط!$AT$3:$AT$8532,SMALL(IF(اقساط!$G$3:$G$8532=B1584,ROW($AT$3:$AT$8532)-ROW($AT$3)+1),ROWS($A$3:A1584))),\"\")","v":0},null,{"$f":"IFERROR(INDEX(اقساط!$B$3:$B$8532,SMALL(IF(اقساط!$G$3:$G$8532=B1584,ROW($B$3:$B$8532)-ROW($B$3)+1),ROWS($C$3:C1584))),\"\")","v":0}]
[{"$f":"IFERROR(INDEX(اقساط!$AT$3:$AT$8532,SMALL(IF(اقساط!$G$3:$G$8532=B1585,ROW($AT$3:$AT$8532)-ROW($AT$3)+1),ROWS($A$3:A1585))),\"\")","v":0},null,{"$f":"IFERROR(INDEX(اقساط!$B$3:$B$8532,SMALL(IF(اقساط!$G$3:$G$8532=B1585,ROW($B$3:$B$8532)-ROW($B$3)+1),ROWS($C$3:C1585))),\"\")","v":0}]
[{"$f":"IFERROR(INDEX(اقساط!$AT$3:$AT$8532,SMALL(IF(اقساط!$G$3:$G$8532=B1586,ROW($AT$3:$AT$8532)-ROW($AT$3)+1),ROWS($A$3:A1586))),\"\")","v":0},null,{"$f":"IFERROR(INDEX(اقساط!$B$3:$B$8532,SMALL(IF(اقساط!$G$3:$G$8532=B1586,ROW($B$3:$B$8532)-ROW($B$3)+1),ROWS($C$3:C1586))),\"\")","v":0}]
[{"$f":"IFERROR(INDEX(اقساط!$AT$3:$AT$8532,SMALL(IF(اقساط!$G$3:$G$8532=B1587,ROW($AT$3:$AT$8532)-ROW($AT$3)+1),ROWS($A$3:A1587))),\"\")","v":0},null,{"$f":"IFERROR(INDEX(اقساط!$B$3:$B$8532,SMALL(IF(اقساط!$G$3:$G$8532=B1587,ROW($B$3:$B$8532)-ROW($B$3)+1),ROWS($C$3:C1587))),\"\")","v":0}]
[{"$f":"IFERROR(INDEX(اقساط!$AT$3:$AT$8532,SMALL(IF(اقساط!$G$3:$G$8532=B1588,ROW($AT$3:$AT$8532)-ROW($AT$3)+1),ROWS($A$3:A1588))),\"\")","v":0},null,{"$f":"IFERROR(INDEX(اقساط!$B$3:$B$8532,SMALL(IF(اقساط!$G$3:$G$8532=B1588,ROW($B$3:$B$8532)-ROW($B$3)+1),ROWS($C$3:C1588))),\"\")","v":0}]
[{"$f":"IFERROR(INDEX(اقساط!$AT$3:$AT$8532,SMALL(IF(اقساط!$G$3:$G$8532=B1589,ROW($AT$3:$AT$8532)-ROW($AT$3)+1),ROWS($A$3:A1589))),\"\")","v":0},null,{"$f":"IFERROR(INDEX(اقساط!$B$3:$B$8532,SMALL(IF(اقساط!$G$3:$G$8532=B1589,ROW($B$3:$B$8532)-ROW($B$3)+1),ROWS($C$3:C1589))),\"\")","v":0}]
[{"$f":"IFERROR(INDEX(اقساط!$AT$3:$AT$8532,SMALL(IF(اقساط!$G$3:$G$8532=B1590,ROW($AT$3:$AT$8532)-ROW($AT$3)+1),ROWS($A$3:A1590))),\"\")","v":0},null,{"$f":"IFERROR(INDEX(اقساط!$B$3:$B$8532,SMALL(IF(اقساط!$G$3:$G$8532=B1590,ROW($B$3:$B$8532)-ROW($B$3)+1),ROWS($C$3:C1590))),\"\")","v":0}]
[{"$f":"IFERROR(INDEX(اقساط!$AT$3:$AT$8532,SMALL(IF(اقساط!$G$3:$G$8532=B1591,ROW($AT$3:$AT$8532)-ROW($AT$3)+1),ROWS($A$3:A1591))),\"\")","v":0},null,{"$f":"IFERROR(INDEX(اقساط!$B$3:$B$8532,SMALL(IF(اقساط!$G$3:$G$8532=B1591,ROW($B$3:$B$8532)-ROW($B$3)+1),ROWS($C$3:C1591))),\"\")","v":0}]
[{"$f":"IFERROR(INDEX(اقساط!$AT$3:$AT$8532,SMALL(IF(اقساط!$G$3:$G$8532=B1592,ROW($AT$3:$AT$8532)-ROW($AT$3)+1),ROWS($A$3:A1592))),\"\")","v":0},null,{"$f":"IFERROR(INDEX(اقساط!$B$3:$B$8532,SMALL(IF(اقساط!$G$3:$G$8532=B1592,ROW($B$3:$B$8532)-ROW($B$3)+1),ROWS($C$3:C1592))),\"\")","v":0}]
[{"$f":"IFERROR(INDEX(اقساط!$AT$3:$AT$8532,SMALL(IF(اقساط!$G$3:$G$8532=B1593,ROW($AT$3:$AT$8532)-ROW($AT$3)+1),ROWS($A$3:A1593))),\"\")","v":0},null,{"$f":"IFERROR(INDEX(اقساط!$B$3:$B$8532,SMALL(IF(اقساط!$G$3:$G$8532=B1593,ROW($B$3:$B$8532)-ROW($B$3)+1),ROWS($C$3:C1593))),\"\")","v":0}]
[{"$f":"IFERROR(INDEX(اقساط!$AT$3:$AT$8532,SMALL(IF(اقساط!$G$3:$G$8532=B1594,ROW($AT$3:$AT$8532)-ROW($AT$3)+1),ROWS($A$3:A1594))),\"\")","v":0},null,{"$f":"IFERROR(INDEX(اقساط!$B$3:$B$8532,SMALL(IF(اقساط!$G$3:$G$8532=B1594,ROW($B$3:$B$8532)-ROW($B$3)+1),ROWS($C$3:C1594))),\"\")","v":0}]
[{"$f":"IFERROR(INDEX(اقساط!$AT$3:$AT$8532,SMALL(IF(اقساط!$G$3:$G$8532=B1595,ROW($AT$3:$AT$8532)-ROW($AT$3)+1),ROWS($A$3:A1595))),\"\")","v":0},null,{"$f":"IFERROR(INDEX(اقساط!$B$3:$B$8532,SMALL(IF(اقساط!$G$3:$G$8532=B1595,ROW($B$3:$B$8532)-ROW($B$3)+1),ROWS($C$3:C1595))),\"\")","v":0}]
[{"$f":"IFERROR(INDEX(اقساط!$AT$3:$AT$8532,SMALL(IF(اقساط!$G$3:$G$8532=B1596,ROW($AT$3:$AT$8532)-ROW($AT$3)+1),ROWS($A$3:A1596))),\"\")","v":0},null,{"$f":"IFERROR(INDEX(اقساط!$B$3:$B$8532,SMALL(IF(اقساط!$G$3:$G$8532=B1596,ROW($B$3:$B$8532)-ROW($B$3)+1),ROWS($C$3:C1596))),\"\")","v":0}]
[{"$f":"IFERROR(INDEX(اقساط!$AT$3:$AT$8532,SMALL(IF(اقساط!$G$3:$G$8532=B1597,ROW($AT$3:$AT$8532)-ROW($AT$3)+1),ROWS($A$3:A1597))),\"\")","v":0},null,{"$f":"IFERROR(INDEX(اقساط!$B$3:$B$8532,SMALL(IF(اقساط!$G$3:$G$8532=B1597,ROW($B$3:$B$8532)-ROW($B$3)+1),ROWS($C$3:C1597))),\"\")","v":0}]
[{"$f":"IFERROR(INDEX(اقساط!$AT$3:$AT$8532,SMALL(IF(اقساط!$G$3:$G$8532=B1598,ROW($AT$3:$AT$8532)-ROW($AT$3)+1),ROWS($A$3:A1598))),\"\")","v":0},null,{"$f":"IFERROR(INDEX(اقساط!$B$3:$B$8532,SMALL(IF(اقساط!$G$3:$G$8532=B1598,ROW($B$3:$B$8532)-ROW($B$3)+1),ROWS($C$3:C1598))),\"\")","v":0}]
[{"$f":"IFERROR(INDEX(اقساط!$AT$3:$AT$8532,SMALL(IF(اقساط!$G$3:$G$8532=B1599,ROW($AT$3:$AT$8532)-ROW($AT$3)+1),ROWS($A$3:A1599))),\"\")","v":0},null,{"$f":"IFERROR(INDEX(اقساط!$B$3:$B$8532,SMALL(IF(اقساط!$G$3:$G$8532=B1599,ROW($B$3:$B$8532)-ROW($B$3)+1),ROWS($C$3:C1599))),\"\")","v":0}]
[{"$f":"IFERROR(INDEX(اقساط!$AT$3:$AT$8532,SMALL(IF(اقساط!$G$3:$G$8532=B1600,ROW($AT$3:$AT$8532)-ROW($AT$3)+1),ROWS($A$3:A1600))),\"\")","v":0},null,{"$f":"IFERROR(INDEX(اقساط!$B$3:$B$8532,SMALL(IF(اقساط!$G$3:$G$8532=B1600,ROW($B$3:$B$8532)-ROW($B$3)+1),ROWS($C$3:C1600))),\"\")","v":0}]
[{"$f":"IFERROR(INDEX(اقساط!$AT$3:$AT$8532,SMALL(IF(اقساط!$G$3:$G$8532=B1601,ROW($AT$3:$AT$8532)-ROW($AT$3)+1),ROWS($A$3:A1601))),\"\")","v":0},null,{"$f":"IFERROR(INDEX(اقساط!$B$3:$B$8532,SMALL(IF(اقساط!$G$3:$G$8532=B1601,ROW($B$3:$B$8532)-ROW($B$3)+1),ROWS($C$3:C1601))),\"\")","v":0}]
[{"$f":"IFERROR(INDEX(اقساط!$AT$3:$AT$8532,SMALL(IF(اقساط!$G$3:$G$8532=B1602,ROW($AT$3:$AT$8532)-ROW($AT$3)+1),ROWS($A$3:A1602))),\"\")","v":0},null,{"$f":"IFERROR(INDEX(اقساط!$B$3:$B$8532,SMALL(IF(اقساط!$G$3:$G$8532=B1602,ROW($B$3:$B$8532)-ROW($B$3)+1),ROWS($C$3:C1602))),\"\")","v":0}]
[{"$f":"IFERROR(INDEX(اقساط!$AT$3:$AT$8532,SMALL(IF(اقساط!$G$3:$G$8532=B1603,ROW($AT$3:$AT$8532)-ROW($AT$3)+1),ROWS($A$3:A1603))),\"\")","v":0},null,{"$f":"IFERROR(INDEX(اقساط!$B$3:$B$8532,SMALL(IF(اقساط!$G$3:$G$8532=B1603,ROW($B$3:$B$8532)-ROW($B$3)+1),ROWS($C$3:C1603))),\"\")","v":0}]
[{"$f":"IFERROR(INDEX(اقساط!$AT$3:$AT$8532,SMALL(IF(اقساط!$G$3:$G$8532=B1604,ROW($AT$3:$AT$8532)-ROW($AT$3)+1),ROWS($A$3:A1604))),\"\")","v":0},null,{"$f":"IFERROR(INDEX(اقساط!$B$3:$B$8532,SMALL(IF(اقساط!$G$3:$G$8532=B1604,ROW($B$3:$B$8532)-ROW($B$3)+1),ROWS($C$3:C1604))),\"\")","v":0}]
[{"$f":"IFERROR(INDEX(اقساط!$AT$3:$AT$8532,SMALL(IF(اقساط!$G$3:$G$8532=B1605,ROW($AT$3:$AT$8532)-ROW($AT$3)+1),ROWS($A$3:A1605))),\"\")","v":0},null,{"$f":"IFERROR(INDEX(اقساط!$B$3:$B$8532,SMALL(IF(اقساط!$G$3:$G$8532=B1605,ROW($B$3:$B$8532)-ROW($B$3)+1),ROWS($C$3:C1605))),\"\")","v":0}]
[{"$f":"IFERROR(INDEX(اقساط!$AT$3:$AT$8532,SMALL(IF(اقساط!$G$3:$G$8532=B1606,ROW($AT$3:$AT$8532)-ROW($AT$3)+1),ROWS($A$3:A1606))),\"\")","v":0},null,{"$f":"IFERROR(INDEX(اقساط!$B$3:$B$8532,SMALL(IF(اقساط!$G$3:$G$8532=B1606,ROW($B$3:$B$8532)-ROW($B$3)+1),ROWS($C$3:C1606))),\"\")","v":0}]
[{"$f":"IFERROR(INDEX(اقساط!$AT$3:$AT$8532,SMALL(IF(اقساط!$G$3:$G$8532=B1607,ROW($AT$3:$AT$8532)-ROW($AT$3)+1),ROWS($A$3:A1607))),\"\")","v":0},null,{"$f":"IFERROR(INDEX(اقساط!$B$3:$B$8532,SMALL(IF(اقساط!$G$3:$G$8532=B1607,ROW($B$3:$B$8532)-ROW($B$3)+1),ROWS($C$3:C1607))),\"\")","v":0}]
[{"$f":"IFERROR(INDEX(اقساط!$AT$3:$AT$8532,SMALL(IF(اقساط!$G$3:$G$8532=B1608,ROW($AT$3:$AT$8532)-ROW($AT$3)+1),ROWS($A$3:A1608))),\"\")","v":0},null,{"$f":"IFERROR(INDEX(اقساط!$B$3:$B$8532,SMALL(IF(اقساط!$G$3:$G$8532=B1608,ROW($B$3:$B$8532)-ROW($B$3)+1),ROWS($C$3:C1608))),\"\")","v":0}]
[{"$f":"IFERROR(INDEX(اقساط!$AT$3:$AT$8532,SMALL(IF(اقساط!$G$3:$G$8532=B1609,ROW($AT$3:$AT$8532)-ROW($AT$3)+1),ROWS($A$3:A1609))),\"\")","v":0},null,{"$f":"IFERROR(INDEX(اقساط!$B$3:$B$8532,SMALL(IF(اقساط!$G$3:$G$8532=B1609,ROW($B$3:$B$8532)-ROW($B$3)+1),ROWS($C$3:C1609))),\"\")","v":0}]
[{"$f":"IFERROR(INDEX(اقساط!$AT$3:$AT$8532,SMALL(IF(اقساط!$G$3:$G$8532=B1610,ROW($AT$3:$AT$8532)-ROW($AT$3)+1),ROWS($A$3:A1610))),\"\")","v":0},null,{"$f":"IFERROR(INDEX(اقساط!$B$3:$B$8532,SMALL(IF(اقساط!$G$3:$G$8532=B1610,ROW($B$3:$B$8532)-ROW($B$3)+1),ROWS($C$3:C1610))),\"\")","v":0}]
[{"$f":"IFERROR(INDEX(اقساط!$AT$3:$AT$8532,SMALL(IF(اقساط!$G$3:$G$8532=B1611,ROW($AT$3:$AT$8532)-ROW($AT$3)+1),ROWS($A$3:A1611))),\"\")","v":0},null,{"$f":"IFERROR(INDEX(اقساط!$B$3:$B$8532,SMALL(IF(اقساط!$G$3:$G$8532=B1611,ROW($B$3:$B$8532)-ROW($B$3)+1),ROWS($C$3:C1611))),\"\")","v":0}]
[{"$f":"IFERROR(INDEX(اقساط!$AT$3:$AT$8532,SMALL(IF(اقساط!$G$3:$G$8532=B1612,ROW($AT$3:$AT$8532)-ROW($AT$3)+1),ROWS($A$3:A1612))),\"\")","v":0},null,{"$f":"IFERROR(INDEX(اقساط!$B$3:$B$8532,SMALL(IF(اقساط!$G$3:$G$8532=B1612,ROW($B$3:$B$8532)-ROW($B$3)+1),ROWS($C$3:C1612))),\"\")","v":0}]
[{"$f":"IFERROR(INDEX(اقساط!$AT$3:$AT$8532,SMALL(IF(اقساط!$G$3:$G$8532=B1613,ROW($AT$3:$AT$8532)-ROW($AT$3)+1),ROWS($A$3:A1613))),\"\")","v":0},null,{"$f":"IFERROR(INDEX(اقساط!$B$3:$B$8532,SMALL(IF(اقساط!$G$3:$G$8532=B1613,ROW($B$3:$B$8532)-ROW($B$3)+1),ROWS($C$3:C1613))),\"\")","v":0}]
[{"$f":"IFERROR(INDEX(اقساط!$AT$3:$AT$8532,SMALL(IF(اقساط!$G$3:$G$8532=B1614,ROW($AT$3:$AT$8532)-ROW($AT$3)+1),ROWS($A$3:A1614))),\"\")","v":0},null,{"$f":"IFERROR(INDEX(اقساط!$B$3:$B$8532,SMALL(IF(اقساط!$G$3:$G$8532=B1614,ROW($B$3:$B$8532)-ROW($B$3)+1),ROWS($C$3:C1614))),\"\")","v":0}]
[{"$f":"IFERROR(INDEX(اقساط!$AT$3:$AT$8532,SMALL(IF(اقساط!$G$3:$G$8532=B1615,ROW($AT$3:$AT$8532)-ROW($AT$3)+1),ROWS($A$3:A1615))),\"\")","v":0},null,{"$f":"IFERROR(INDEX(اقساط!$B$3:$B$8532,SMALL(IF(اقساط!$G$3:$G$8532=B1615,ROW($B$3:$B$8532)-ROW($B$3)+1),ROWS($C$3:C1615))),\"\")","v":0}]
[{"$f":"IFERROR(INDEX(اقساط!$AT$3:$AT$8532,SMALL(IF(اقساط!$G$3:$G$8532=B1616,ROW($AT$3:$AT$8532)-ROW($AT$3)+1),ROWS($A$3:A1616))),\"\")","v":0},null,{"$f":"IFERROR(INDEX(اقساط!$B$3:$B$8532,SMALL(IF(اقساط!$G$3:$G$8532=B1616,ROW($B$3:$B$8532)-ROW($B$3)+1),ROWS($C$3:C1616))),\"\")","v":0}]
[{"$f":"IFERROR(INDEX(اقساط!$AT$3:$AT$8532,SMALL(IF(اقساط!$G$3:$G$8532=B1617,ROW($AT$3:$AT$8532)-ROW($AT$3)+1),ROWS($A$3:A1617))),\"\")","v":0},null,{"$f":"IFERROR(INDEX(اقساط!$B$3:$B$8532,SMALL(IF(اقساط!$G$3:$G$8532=B1617,ROW($B$3:$B$8532)-ROW($B$3)+1),ROWS($C$3:C1617))),\"\")","v":0}]
[{"$f":"IFERROR(INDEX(اقساط!$AT$3:$AT$8532,SMALL(IF(اقساط!$G$3:$G$8532=B1618,ROW($AT$3:$AT$8532)-ROW($AT$3)+1),ROWS($A$3:A1618))),\"\")","v":0},null,{"$f":"IFERROR(INDEX(اقساط!$B$3:$B$8532,SMALL(IF(اقساط!$G$3:$G$8532=B1618,ROW($B$3:$B$8532)-ROW($B$3)+1),ROWS($C$3:C1618))),\"\")","v":0}]
[{"$f":"IFERROR(INDEX(اقساط!$AT$3:$AT$8532,SMALL(IF(اقساط!$G$3:$G$8532=B1619,ROW($AT$3:$AT$8532)-ROW($AT$3)+1),ROWS($A$3:A1619))),\"\")","v":0},null,{"$f":"IFERROR(INDEX(اقساط!$B$3:$B$8532,SMALL(IF(اقساط!$G$3:$G$8532=B1619,ROW($B$3:$B$8532)-ROW($B$3)+1),ROWS($C$3:C1619))),\"\")","v":0}]
[{"$f":"IFERROR(INDEX(اقساط!$AT$3:$AT$8532,SMALL(IF(اقساط!$G$3:$G$8532=B1620,ROW($AT$3:$AT$8532)-ROW($AT$3)+1),ROWS($A$3:A1620))),\"\")","v":0},null,{"$f":"IFERROR(INDEX(اقساط!$B$3:$B$8532,SMALL(IF(اقساط!$G$3:$G$8532=B1620,ROW($B$3:$B$8532)-ROW($B$3)+1),ROWS($C$3:C1620))),\"\")","v":0}]
[{"$f":"IFERROR(INDEX(اقساط!$AT$3:$AT$8532,SMALL(IF(اقساط!$G$3:$G$8532=B1621,ROW($AT$3:$AT$8532)-ROW($AT$3)+1),ROWS($A$3:A1621))),\"\")","v":0},null,{"$f":"IFERROR(INDEX(اقساط!$B$3:$B$8532,SMALL(IF(اقساط!$G$3:$G$8532=B1621,ROW($B$3:$B$8532)-ROW($B$3)+1),ROWS($C$3:C1621))),\"\")","v":0}]
[{"$f":"IFERROR(INDEX(اقساط!$AT$3:$AT$8532,SMALL(IF(اقساط!$G$3:$G$8532=B1622,ROW($AT$3:$AT$8532)-ROW($AT$3)+1),ROWS($A$3:A1622))),\"\")","v":0},null,{"$f":"IFERROR(INDEX(اقساط!$B$3:$B$8532,SMALL(IF(اقساط!$G$3:$G$8532=B1622,ROW($B$3:$B$8532)-ROW($B$3)+1),ROWS($C$3:C1622))),\"\")","v":0}]
[{"$f":"IFERROR(INDEX(اقساط!$AT$3:$AT$8532,SMALL(IF(اقساط!$G$3:$G$8532=B1623,ROW($AT$3:$AT$8532)-ROW($AT$3)+1),ROWS($A$3:A1623))),\"\")","v":0},null,{"$f":"IFERROR(INDEX(اقساط!$B$3:$B$8532,SMALL(IF(اقساط!$G$3:$G$8532=B1623,ROW($B$3:$B$8532)-ROW($B$3)+1),ROWS($C$3:C1623))),\"\")","v":0}]
[{"$f":"IFERROR(INDEX(اقساط!$AT$3:$AT$8532,SMALL(IF(اقساط!$G$3:$G$8532=B1624,ROW($AT$3:$AT$8532)-ROW($AT$3)+1),ROWS($A$3:A1624))),\"\")","v":0},null,{"$f":"IFERROR(INDEX(اقساط!$B$3:$B$8532,SMALL(IF(اقساط!$G$3:$G$8532=B1624,ROW($B$3:$B$8532)-ROW($B$3)+1),ROWS($C$3:C1624))),\"\")","v":0}]
[{"$f":"IFERROR(INDEX(اقساط!$AT$3:$AT$8532,SMALL(IF(اقساط!$G$3:$G$8532=B1625,ROW($AT$3:$AT$8532)-ROW($AT$3)+1),ROWS($A$3:A1625))),\"\")","v":0},null,{"$f":"IFERROR(INDEX(اقساط!$B$3:$B$8532,SMALL(IF(اقساط!$G$3:$G$8532=B1625,ROW($B$3:$B$8532)-ROW($B$3)+1),ROWS($C$3:C1625))),\"\")","v":0}]
[{"$f":"IFERROR(INDEX(اقساط!$AT$3:$AT$8532,SMALL(IF(اقساط!$G$3:$G$8532=B1626,ROW($AT$3:$AT$8532)-ROW($AT$3)+1),ROWS($A$3:A1626))),\"\")","v":0},null,{"$f":"IFERROR(INDEX(اقساط!$B$3:$B$8532,SMALL(IF(اقساط!$G$3:$G$8532=B1626,ROW($B$3:$B$8532)-ROW($B$3)+1),ROWS($C$3:C1626))),\"\")","v":0}]
[{"$f":"IFERROR(INDEX(اقساط!$AT$3:$AT$8532,SMALL(IF(اقساط!$G$3:$G$8532=B1627,ROW($AT$3:$AT$8532)-ROW($AT$3)+1),ROWS($A$3:A1627))),\"\")","v":0},null,{"$f":"IFERROR(INDEX(اقساط!$B$3:$B$8532,SMALL(IF(اقساط!$G$3:$G$8532=B1627,ROW($B$3:$B$8532)-ROW($B$3)+1),ROWS($C$3:C1627))),\"\")","v":0}]
[{"$f":"IFERROR(INDEX(اقساط!$AT$3:$AT$8532,SMALL(IF(اقساط!$G$3:$G$8532=B1628,ROW($AT$3:$AT$8532)-ROW($AT$3)+1),ROWS($A$3:A1628))),\"\")","v":0},null,{"$f":"IFERROR(INDEX(اقساط!$B$3:$B$8532,SMALL(IF(اقساط!$G$3:$G$8532=B1628,ROW($B$3:$B$8532)-ROW($B$3)+1),ROWS($C$3:C1628))),\"\")","v":0}]
[{"$f":"IFERROR(INDEX(اقساط!$AT$3:$AT$8532,SMALL(IF(اقساط!$G$3:$G$8532=B1629,ROW($AT$3:$AT$8532)-ROW($AT$3)+1),ROWS($A$3:A1629))),\"\")","v":0},null,{"$f":"IFERROR(INDEX(اقساط!$B$3:$B$8532,SMALL(IF(اقساط!$G$3:$G$8532=B1629,ROW($B$3:$B$8532)-ROW($B$3)+1),ROWS($C$3:C1629))),\"\")","v":0}]
[{"$f":"IFERROR(INDEX(اقساط!$AT$3:$AT$8532,SMALL(IF(اقساط!$G$3:$G$8532=B1630,ROW($AT$3:$AT$8532)-ROW($AT$3)+1),ROWS($A$3:A1630))),\"\")","v":0},null,{"$f":"IFERROR(INDEX(اقساط!$B$3:$B$8532,SMALL(IF(اقساط!$G$3:$G$8532=B1630,ROW($B$3:$B$8532)-ROW($B$3)+1),ROWS($C$3:C1630))),\"\")","v":0}]
[{"$f":"IFERROR(INDEX(اقساط!$AT$3:$AT$8532,SMALL(IF(اقساط!$G$3:$G$8532=B1631,ROW($AT$3:$AT$8532)-ROW($AT$3)+1),ROWS($A$3:A1631))),\"\")","v":0},null,{"$f":"IFERROR(INDEX(اقساط!$B$3:$B$8532,SMALL(IF(اقساط!$G$3:$G$8532=B1631,ROW($B$3:$B$8532)-ROW($B$3)+1),ROWS($C$3:C1631))),\"\")","v":0}]
[{"$f":"IFERROR(INDEX(اقساط!$AT$3:$AT$8532,SMALL(IF(اقساط!$G$3:$G$8532=B1632,ROW($AT$3:$AT$8532)-ROW($AT$3)+1),ROWS($A$3:A1632))),\"\")","v":0},null,{"$f":"IFERROR(INDEX(اقساط!$B$3:$B$8532,SMALL(IF(اقساط!$G$3:$G$8532=B1632,ROW($B$3:$B$8532)-ROW($B$3)+1),ROWS($C$3:C1632))),\"\")","v":0}]
[{"$f":"IFERROR(INDEX(اقساط!$AT$3:$AT$8532,SMALL(IF(اقساط!$G$3:$G$8532=B1633,ROW($AT$3:$AT$8532)-ROW($AT$3)+1),ROWS($A$3:A1633))),\"\")","v":0},null,{"$f":"IFERROR(INDEX(اقساط!$B$3:$B$8532,SMALL(IF(اقساط!$G$3:$G$8532=B1633,ROW($B$3:$B$8532)-ROW($B$3)+1),ROWS($C$3:C1633))),\"\")","v":0}]
[{"$f":"IFERROR(INDEX(اقساط!$AT$3:$AT$8532,SMALL(IF(اقساط!$G$3:$G$8532=B1634,ROW($AT$3:$AT$8532)-ROW($AT$3)+1),ROWS($A$3:A1634))),\"\")","v":0},null,{"$f":"IFERROR(INDEX(اقساط!$B$3:$B$8532,SMALL(IF(اقساط!$G$3:$G$8532=B1634,ROW($B$3:$B$8532)-ROW($B$3)+1),ROWS($C$3:C1634))),\"\")","v":0}]
[{"$f":"IFERROR(INDEX(اقساط!$AT$3:$AT$8532,SMALL(IF(اقساط!$G$3:$G$8532=B1635,ROW($AT$3:$AT$8532)-ROW($AT$3)+1),ROWS($A$3:A1635))),\"\")","v":0},null,{"$f":"IFERROR(INDEX(اقساط!$B$3:$B$8532,SMALL(IF(اقساط!$G$3:$G$8532=B1635,ROW($B$3:$B$8532)-ROW($B$3)+1),ROWS($C$3:C1635))),\"\")","v":0}]
[{"$f":"IFERROR(INDEX(اقساط!$AT$3:$AT$8532,SMALL(IF(اقساط!$G$3:$G$8532=B1636,ROW($AT$3:$AT$8532)-ROW($AT$3)+1),ROWS($A$3:A1636))),\"\")","v":0},null,{"$f":"IFERROR(INDEX(اقساط!$B$3:$B$8532,SMALL(IF(اقساط!$G$3:$G$8532=B1636,ROW($B$3:$B$8532)-ROW($B$3)+1),ROWS($C$3:C1636))),\"\")","v":0}]
[{"$f":"IFERROR(INDEX(اقساط!$AT$3:$AT$8532,SMALL(IF(اقساط!$G$3:$G$8532=B1637,ROW($AT$3:$AT$8532)-ROW($AT$3)+1),ROWS($A$3:A1637))),\"\")","v":0},null,{"$f":"IFERROR(INDEX(اقساط!$B$3:$B$8532,SMALL(IF(اقساط!$G$3:$G$8532=B1637,ROW($B$3:$B$8532)-ROW($B$3)+1),ROWS($C$3:C1637))),\"\")","v":0}]
[{"$f":"IFERROR(INDEX(اقساط!$AT$3:$AT$8532,SMALL(IF(اقساط!$G$3:$G$8532=B1638,ROW($AT$3:$AT$8532)-ROW($AT$3)+1),ROWS($A$3:A1638))),\"\")","v":0},null,{"$f":"IFERROR(INDEX(اقساط!$B$3:$B$8532,SMALL(IF(اقساط!$G$3:$G$8532=B1638,ROW($B$3:$B$8532)-ROW($B$3)+1),ROWS($C$3:C1638))),\"\")","v":0}]
[{"$f":"IFERROR(INDEX(اقساط!$AT$3:$AT$8532,SMALL(IF(اقساط!$G$3:$G$8532=B1639,ROW($AT$3:$AT$8532)-ROW($AT$3)+1),ROWS($A$3:A1639))),\"\")","v":0},null,{"$f":"IFERROR(INDEX(اقساط!$B$3:$B$8532,SMALL(IF(اقساط!$G$3:$G$8532=B1639,ROW($B$3:$B$8532)-ROW($B$3)+1),ROWS($C$3:C1639))),\"\")","v":0}]
[{"$f":"IFERROR(INDEX(اقساط!$AT$3:$AT$8532,SMALL(IF(اقساط!$G$3:$G$8532=B1640,ROW($AT$3:$AT$8532)-ROW($AT$3)+1),ROWS($A$3:A1640))),\"\")","v":0},null,{"$f":"IFERROR(INDEX(اقساط!$B$3:$B$8532,SMALL(IF(اقساط!$G$3:$G$8532=B1640,ROW($B$3:$B$8532)-ROW($B$3)+1),ROWS($C$3:C1640))),\"\")","v":0}]
[{"$f":"IFERROR(INDEX(اقساط!$AT$3:$AT$8532,SMALL(IF(اقساط!$G$3:$G$8532=B1641,ROW($AT$3:$AT$8532)-ROW($AT$3)+1),ROWS($A$3:A1641))),\"\")","v":0},null,{"$f":"IFERROR(INDEX(اقساط!$B$3:$B$8532,SMALL(IF(اقساط!$G$3:$G$8532=B1641,ROW($B$3:$B$8532)-ROW($B$3)+1),ROWS($C$3:C1641))),\"\")","v":0}]
[{"$f":"IFERROR(INDEX(اقساط!$AT$3:$AT$8532,SMALL(IF(اقساط!$G$3:$G$8532=B1642,ROW($AT$3:$AT$8532)-ROW($AT$3)+1),ROWS($A$3:A1642))),\"\")","v":0},null,{"$f":"IFERROR(INDEX(اقساط!$B$3:$B$8532,SMALL(IF(اقساط!$G$3:$G$8532=B1642,ROW($B$3:$B$8532)-ROW($B$3)+1),ROWS($C$3:C1642))),\"\")","v":0}]
[{"$f":"IFERROR(INDEX(اقساط!$AT$3:$AT$8532,SMALL(IF(اقساط!$G$3:$G$8532=B1643,ROW($AT$3:$AT$8532)-ROW($AT$3)+1),ROWS($A$3:A1643))),\"\")","v":0},null,{"$f":"IFERROR(INDEX(اقساط!$B$3:$B$8532,SMALL(IF(اقساط!$G$3:$G$8532=B1643,ROW($B$3:$B$8532)-ROW($B$3)+1),ROWS($C$3:C1643))),\"\")","v":0}]
[{"$f":"IFERROR(INDEX(اقساط!$AT$3:$AT$8532,SMALL(IF(اقساط!$G$3:$G$8532=B1644,ROW($AT$3:$AT$8532)-ROW($AT$3)+1),ROWS($A$3:A1644))),\"\")","v":0},null,{"$f":"IFERROR(INDEX(اقساط!$B$3:$B$8532,SMALL(IF(اقساط!$G$3:$G$8532=B1644,ROW($B$3:$B$8532)-ROW($B$3)+1),ROWS($C$3:C1644))),\"\")","v":0}]
[{"$f":"IFERROR(INDEX(اقساط!$AT$3:$AT$8532,SMALL(IF(اقساط!$G$3:$G$8532=B1645,ROW($AT$3:$AT$8532)-ROW($AT$3)+1),ROWS($A$3:A1645))),\"\")","v":0},null,{"$f":"IFERROR(INDEX(اقساط!$B$3:$B$8532,SMALL(IF(اقساط!$G$3:$G$8532=B1645,ROW($B$3:$B$8532)-ROW($B$3)+1),ROWS($C$3:C1645))),\"\")","v":0}]
[{"$f":"IFERROR(INDEX(اقساط!$AT$3:$AT$8532,SMALL(IF(اقساط!$G$3:$G$8532=B1646,ROW($AT$3:$AT$8532)-ROW($AT$3)+1),ROWS($A$3:A1646))),\"\")","v":0},null,{"$f":"IFERROR(INDEX(اقساط!$B$3:$B$8532,SMALL(IF(اقساط!$G$3:$G$8532=B1646,ROW($B$3:$B$8532)-ROW($B$3)+1),ROWS($C$3:C1646))),\"\")","v":0}]
[{"$f":"IFERROR(INDEX(اقساط!$AT$3:$AT$8532,SMALL(IF(اقساط!$G$3:$G$8532=B1647,ROW($AT$3:$AT$8532)-ROW($AT$3)+1),ROWS($A$3:A1647))),\"\")","v":0},null,{"$f":"IFERROR(INDEX(اقساط!$B$3:$B$8532,SMALL(IF(اقساط!$G$3:$G$8532=B1647,ROW($B$3:$B$8532)-ROW($B$3)+1),ROWS($C$3:C1647))),\"\")","v":0}]
[{"$f":"IFERROR(INDEX(اقساط!$AT$3:$AT$8532,SMALL(IF(اقساط!$G$3:$G$8532=B1648,ROW($AT$3:$AT$8532)-ROW($AT$3)+1),ROWS($A$3:A1648))),\"\")","v":0},null,{"$f":"IFERROR(INDEX(اقساط!$B$3:$B$8532,SMALL(IF(اقساط!$G$3:$G$8532=B1648,ROW($B$3:$B$8532)-ROW($B$3)+1),ROWS($C$3:C1648))),\"\")","v":0}]
[{"$f":"IFERROR(INDEX(اقساط!$AT$3:$AT$8532,SMALL(IF(اقساط!$G$3:$G$8532=B1649,ROW($AT$3:$AT$8532)-ROW($AT$3)+1),ROWS($A$3:A1649))),\"\")","v":0},null,{"$f":"IFERROR(INDEX(اقساط!$B$3:$B$8532,SMALL(IF(اقساط!$G$3:$G$8532=B1649,ROW($B$3:$B$8532)-ROW($B$3)+1),ROWS($C$3:C1649))),\"\")","v":0}]
[{"$f":"IFERROR(INDEX(اقساط!$AT$3:$AT$8532,SMALL(IF(اقساط!$G$3:$G$8532=B1650,ROW($AT$3:$AT$8532)-ROW($AT$3)+1),ROWS($A$3:A1650))),\"\")","v":0},null,{"$f":"IFERROR(INDEX(اقساط!$B$3:$B$8532,SMALL(IF(اقساط!$G$3:$G$8532=B1650,ROW($B$3:$B$8532)-ROW($B$3)+1),ROWS($C$3:C1650))),\"\")","v":0}]
[{"$f":"IFERROR(INDEX(اقساط!$AT$3:$AT$8532,SMALL(IF(اقساط!$G$3:$G$8532=B1651,ROW($AT$3:$AT$8532)-ROW($AT$3)+1),ROWS($A$3:A1651))),\"\")","v":0},null,{"$f":"IFERROR(INDEX(اقساط!$B$3:$B$8532,SMALL(IF(اقساط!$G$3:$G$8532=B1651,ROW($B$3:$B$8532)-ROW($B$3)+1),ROWS($C$3:C1651))),\"\")","v":0}]
[{"$f":"IFERROR(INDEX(اقساط!$AT$3:$AT$8532,SMALL(IF(اقساط!$G$3:$G$8532=B1652,ROW($AT$3:$AT$8532)-ROW($AT$3)+1),ROWS($A$3:A1652))),\"\")","v":0},null,{"$f":"IFERROR(INDEX(اقساط!$B$3:$B$8532,SMALL(IF(اقساط!$G$3:$G$8532=B1652,ROW($B$3:$B$8532)-ROW($B$3)+1),ROWS($C$3:C1652))),\"\")","v":0}]
[{"$f":"IFERROR(INDEX(اقساط!$AT$3:$AT$8532,SMALL(IF(اقساط!$G$3:$G$8532=B1653,ROW($AT$3:$AT$8532)-ROW($AT$3)+1),ROWS($A$3:A1653))),\"\")","v":0},null,{"$f":"IFERROR(INDEX(اقساط!$B$3:$B$8532,SMALL(IF(اقساط!$G$3:$G$8532=B1653,ROW($B$3:$B$8532)-ROW($B$3)+1),ROWS($C$3:C1653))),\"\")","v":0}]
[{"$f":"IFERROR(INDEX(اقساط!$AT$3:$AT$8532,SMALL(IF(اقساط!$G$3:$G$8532=B1654,ROW($AT$3:$AT$8532)-ROW($AT$3)+1),ROWS($A$3:A1654))),\"\")","v":0},null,{"$f":"IFERROR(INDEX(اقساط!$B$3:$B$8532,SMALL(IF(اقساط!$G$3:$G$8532=B1654,ROW($B$3:$B$8532)-ROW($B$3)+1),ROWS($C$3:C1654))),\"\")","v":0}]
[{"$f":"IFERROR(INDEX(اقساط!$AT$3:$AT$8532,SMALL(IF(اقساط!$G$3:$G$8532=B1655,ROW($AT$3:$AT$8532)-ROW($AT$3)+1),ROWS($A$3:A1655))),\"\")","v":0},null,{"$f":"IFERROR(INDEX(اقساط!$B$3:$B$8532,SMALL(IF(اقساط!$G$3:$G$8532=B1655,ROW($B$3:$B$8532)-ROW($B$3)+1),ROWS($C$3:C1655))),\"\")","v":0}]
[{"$f":"IFERROR(INDEX(اقساط!$AT$3:$AT$8532,SMALL(IF(اقساط!$G$3:$G$8532=B1656,ROW($AT$3:$AT$8532)-ROW($AT$3)+1),ROWS($A$3:A1656))),\"\")","v":0},null,{"$f":"IFERROR(INDEX(اقساط!$B$3:$B$8532,SMALL(IF(اقساط!$G$3:$G$8532=B1656,ROW($B$3:$B$8532)-ROW($B$3)+1),ROWS($C$3:C1656))),\"\")","v":0}]
[{"$f":"IFERROR(INDEX(اقساط!$AT$3:$AT$8532,SMALL(IF(اقساط!$G$3:$G$8532=B1657,ROW($AT$3:$AT$8532)-ROW($AT$3)+1),ROWS($A$3:A1657))),\"\")","v":0},null,{"$f":"IFERROR(INDEX(اقساط!$B$3:$B$8532,SMALL(IF(اقساط!$G$3:$G$8532=B1657,ROW($B$3:$B$8532)-ROW($B$3)+1),ROWS($C$3:C1657))),\"\")","v":0}]
[{"$f":"IFERROR(INDEX(اقساط!$AT$3:$AT$8532,SMALL(IF(اقساط!$G$3:$G$8532=B1658,ROW($AT$3:$AT$8532)-ROW($AT$3)+1),ROWS($A$3:A1658))),\"\")","v":0},null,{"$f":"IFERROR(INDEX(اقساط!$B$3:$B$8532,SMALL(IF(اقساط!$G$3:$G$8532=B1658,ROW($B$3:$B$8532)-ROW($B$3)+1),ROWS($C$3:C1658))),\"\")","v":0}]
[{"$f":"IFERROR(INDEX(اقساط!$AT$3:$AT$8532,SMALL(IF(اقساط!$G$3:$G$8532=B1659,ROW($AT$3:$AT$8532)-ROW($AT$3)+1),ROWS($A$3:A1659))),\"\")","v":0},null,{"$f":"IFERROR(INDEX(اقساط!$B$3:$B$8532,SMALL(IF(اقساط!$G$3:$G$8532=B1659,ROW($B$3:$B$8532)-ROW($B$3)+1),ROWS($C$3:C1659))),\"\")","v":0}]
[{"$f":"IFERROR(INDEX(اقساط!$AT$3:$AT$8532,SMALL(IF(اقساط!$G$3:$G$8532=B1660,ROW($AT$3:$AT$8532)-ROW($AT$3)+1),ROWS($A$3:A1660))),\"\")","v":0},null,{"$f":"IFERROR(INDEX(اقساط!$B$3:$B$8532,SMALL(IF(اقساط!$G$3:$G$8532=B1660,ROW($B$3:$B$8532)-ROW($B$3)+1),ROWS($C$3:C1660))),\"\")","v":0}]
[{"$f":"IFERROR(INDEX(اقساط!$AT$3:$AT$8532,SMALL(IF(اقساط!$G$3:$G$8532=B1661,ROW($AT$3:$AT$8532)-ROW($AT$3)+1),ROWS($A$3:A1661))),\"\")","v":0},null,{"$f":"IFERROR(INDEX(اقساط!$B$3:$B$8532,SMALL(IF(اقساط!$G$3:$G$8532=B1661,ROW($B$3:$B$8532)-ROW($B$3)+1),ROWS($C$3:C1661))),\"\")","v":0}]
[{"$f":"IFERROR(INDEX(اقساط!$AT$3:$AT$8532,SMALL(IF(اقساط!$G$3:$G$8532=B1662,ROW($AT$3:$AT$8532)-ROW($AT$3)+1),ROWS($A$3:A1662))),\"\")","v":0},null,{"$f":"IFERROR(INDEX(اقساط!$B$3:$B$8532,SMALL(IF(اقساط!$G$3:$G$8532=B1662,ROW($B$3:$B$8532)-ROW($B$3)+1),ROWS($C$3:C1662))),\"\")","v":0}]
[{"$f":"IFERROR(INDEX(اقساط!$AT$3:$AT$8532,SMALL(IF(اقساط!$G$3:$G$8532=B1663,ROW($AT$3:$AT$8532)-ROW($AT$3)+1),ROWS($A$3:A1663))),\"\")","v":0},null,{"$f":"IFERROR(INDEX(اقساط!$B$3:$B$8532,SMALL(IF(اقساط!$G$3:$G$8532=B1663,ROW($B$3:$B$8532)-ROW($B$3)+1),ROWS($C$3:C1663))),\"\")","v":0}]
[{"$f":"IFERROR(INDEX(اقساط!$AT$3:$AT$8532,SMALL(IF(اقساط!$G$3:$G$8532=B1664,ROW($AT$3:$AT$8532)-ROW($AT$3)+1),ROWS($A$3:A1664))),\"\")","v":0},null,{"$f":"IFERROR(INDEX(اقساط!$B$3:$B$8532,SMALL(IF(اقساط!$G$3:$G$8532=B1664,ROW($B$3:$B$8532)-ROW($B$3)+1),ROWS($C$3:C1664))),\"\")","v":0}]
[{"$f":"IFERROR(INDEX(اقساط!$AT$3:$AT$8532,SMALL(IF(اقساط!$G$3:$G$8532=B1665,ROW($AT$3:$AT$8532)-ROW($AT$3)+1),ROWS($A$3:A1665))),\"\")","v":0},null,{"$f":"IFERROR(INDEX(اقساط!$B$3:$B$8532,SMALL(IF(اقساط!$G$3:$G$8532=B1665,ROW($B$3:$B$8532)-ROW($B$3)+1),ROWS($C$3:C1665))),\"\")","v":0}]
[{"$f":"IFERROR(INDEX(اقساط!$AT$3:$AT$8532,SMALL(IF(اقساط!$G$3:$G$8532=B1666,ROW($AT$3:$AT$8532)-ROW($AT$3)+1),ROWS($A$3:A1666))),\"\")","v":0},null,{"$f":"IFERROR(INDEX(اقساط!$B$3:$B$8532,SMALL(IF(اقساط!$G$3:$G$8532=B1666,ROW($B$3:$B$8532)-ROW($B$3)+1),ROWS($C$3:C1666))),\"\")","v":0}]
[{"$f":"IFERROR(INDEX(اقساط!$AT$3:$AT$8532,SMALL(IF(اقساط!$G$3:$G$8532=B1667,ROW($AT$3:$AT$8532)-ROW($AT$3)+1),ROWS($A$3:A1667))),\"\")","v":0},null,{"$f":"IFERROR(INDEX(اقساط!$B$3:$B$8532,SMALL(IF(اقساط!$G$3:$G$8532=B1667,ROW($B$3:$B$8532)-ROW($B$3)+1),ROWS($C$3:C1667))),\"\")","v":0}]
[{"$f":"IFERROR(INDEX(اقساط!$AT$3:$AT$8532,SMALL(IF(اقساط!$G$3:$G$8532=B1668,ROW($AT$3:$AT$8532)-ROW($AT$3)+1),ROWS($A$3:A1668))),\"\")","v":0},null,{"$f":"IFERROR(INDEX(اقساط!$B$3:$B$8532,SMALL(IF(اقساط!$G$3:$G$8532=B1668,ROW($B$3:$B$8532)-ROW($B$3)+1),ROWS($C$3:C1668))),\"\")","v":0}]
[{"$f":"IFERROR(INDEX(اقساط!$AT$3:$AT$8532,SMALL(IF(اقساط!$G$3:$G$8532=B1669,ROW($AT$3:$AT$8532)-ROW($AT$3)+1),ROWS($A$3:A1669))),\"\")","v":0},null,{"$f":"IFERROR(INDEX(اقساط!$B$3:$B$8532,SMALL(IF(اقساط!$G$3:$G$8532=B1669,ROW($B$3:$B$8532)-ROW($B$3)+1),ROWS($C$3:C1669))),\"\")","v":0}]
[{"$f":"IFERROR(INDEX(اقساط!$AT$3:$AT$8532,SMALL(IF(اقساط!$G$3:$G$8532=B1670,ROW($AT$3:$AT$8532)-ROW($AT$3)+1),ROWS($A$3:A1670))),\"\")","v":0},null,{"$f":"IFERROR(INDEX(اقساط!$B$3:$B$8532,SMALL(IF(اقساط!$G$3:$G$8532=B1670,ROW($B$3:$B$8532)-ROW($B$3)+1),ROWS($C$3:C1670))),\"\")","v":0}]
[{"$f":"IFERROR(INDEX(اقساط!$AT$3:$AT$8532,SMALL(IF(اقساط!$G$3:$G$8532=B1671,ROW($AT$3:$AT$8532)-ROW($AT$3)+1),ROWS($A$3:A1671))),\"\")","v":0},null,{"$f":"IFERROR(INDEX(اقساط!$B$3:$B$8532,SMALL(IF(اقساط!$G$3:$G$8532=B1671,ROW($B$3:$B$8532)-ROW($B$3)+1),ROWS($C$3:C1671))),\"\")","v":0}]
[{"$f":"IFERROR(INDEX(اقساط!$AT$3:$AT$8532,SMALL(IF(اقساط!$G$3:$G$8532=B1672,ROW($AT$3:$AT$8532)-ROW($AT$3)+1),ROWS($A$3:A1672))),\"\")","v":0},null,{"$f":"IFERROR(INDEX(اقساط!$B$3:$B$8532,SMALL(IF(اقساط!$G$3:$G$8532=B1672,ROW($B$3:$B$8532)-ROW($B$3)+1),ROWS($C$3:C1672))),\"\")","v":0}]
[{"$f":"IFERROR(INDEX(اقساط!$AT$3:$AT$8532,SMALL(IF(اقساط!$G$3:$G$8532=B1673,ROW($AT$3:$AT$8532)-ROW($AT$3)+1),ROWS($A$3:A1673))),\"\")","v":0},null,{"$f":"IFERROR(INDEX(اقساط!$B$3:$B$8532,SMALL(IF(اقساط!$G$3:$G$8532=B1673,ROW($B$3:$B$8532)-ROW($B$3)+1),ROWS($C$3:C1673))),\"\")","v":0}]
[{"$f":"IFERROR(INDEX(اقساط!$AT$3:$AT$8532,SMALL(IF(اقساط!$G$3:$G$8532=B1674,ROW($AT$3:$AT$8532)-ROW($AT$3)+1),ROWS($A$3:A1674))),\"\")","v":0},null,{"$f":"IFERROR(INDEX(اقساط!$B$3:$B$8532,SMALL(IF(اقساط!$G$3:$G$8532=B1674,ROW($B$3:$B$8532)-ROW($B$3)+1),ROWS($C$3:C1674))),\"\")","v":0}]
[{"$f":"IFERROR(INDEX(اقساط!$AT$3:$AT$8532,SMALL(IF(اقساط!$G$3:$G$8532=B1675,ROW($AT$3:$AT$8532)-ROW($AT$3)+1),ROWS($A$3:A1675))),\"\")","v":0},null,{"$f":"IFERROR(INDEX(اقساط!$B$3:$B$8532,SMALL(IF(اقساط!$G$3:$G$8532=B1675,ROW($B$3:$B$8532)-ROW($B$3)+1),ROWS($C$3:C1675))),\"\")","v":0}]
[{"$f":"IFERROR(INDEX(اقساط!$AT$3:$AT$8532,SMALL(IF(اقساط!$G$3:$G$8532=B1676,ROW($AT$3:$AT$8532)-ROW($AT$3)+1),ROWS($A$3:A1676))),\"\")","v":0},null,{"$f":"IFERROR(INDEX(اقساط!$B$3:$B$8532,SMALL(IF(اقساط!$G$3:$G$8532=B1676,ROW($B$3:$B$8532)-ROW($B$3)+1),ROWS($C$3:C1676))),\"\")","v":0}]
[{"$f":"IFERROR(INDEX(اقساط!$AT$3:$AT$8532,SMALL(IF(اقساط!$G$3:$G$8532=B1677,ROW($AT$3:$AT$8532)-ROW($AT$3)+1),ROWS($A$3:A1677))),\"\")","v":0},null,{"$f":"IFERROR(INDEX(اقساط!$B$3:$B$8532,SMALL(IF(اقساط!$G$3:$G$8532=B1677,ROW($B$3:$B$8532)-ROW($B$3)+1),ROWS($C$3:C1677))),\"\")","v":0}]
[{"$f":"IFERROR(INDEX(اقساط!$AT$3:$AT$8532,SMALL(IF(اقساط!$G$3:$G$8532=B1678,ROW($AT$3:$AT$8532)-ROW($AT$3)+1),ROWS($A$3:A1678))),\"\")","v":0},null,{"$f":"IFERROR(INDEX(اقساط!$B$3:$B$8532,SMALL(IF(اقساط!$G$3:$G$8532=B1678,ROW($B$3:$B$8532)-ROW($B$3)+1),ROWS($C$3:C1678))),\"\")","v":0}]
[{"$f":"IFERROR(INDEX(اقساط!$AT$3:$AT$8532,SMALL(IF(اقساط!$G$3:$G$8532=B1679,ROW($AT$3:$AT$8532)-ROW($AT$3)+1),ROWS($A$3:A1679))),\"\")","v":0},null,{"$f":"IFERROR(INDEX(اقساط!$B$3:$B$8532,SMALL(IF(اقساط!$G$3:$G$8532=B1679,ROW($B$3:$B$8532)-ROW($B$3)+1),ROWS($C$3:C1679))),\"\")","v":0}]
[{"$f":"IFERROR(INDEX(اقساط!$AT$3:$AT$8532,SMALL(IF(اقساط!$G$3:$G$8532=B1680,ROW($AT$3:$AT$8532)-ROW($AT$3)+1),ROWS($A$3:A1680))),\"\")","v":0},null,{"$f":"IFERROR(INDEX(اقساط!$B$3:$B$8532,SMALL(IF(اقساط!$G$3:$G$8532=B1680,ROW($B$3:$B$8532)-ROW($B$3)+1),ROWS($C$3:C1680))),\"\")","v":0}]
[{"$f":"IFERROR(INDEX(اقساط!$AT$3:$AT$8532,SMALL(IF(اقساط!$G$3:$G$8532=B1681,ROW($AT$3:$AT$8532)-ROW($AT$3)+1),ROWS($A$3:A1681))),\"\")","v":0},null,{"$f":"IFERROR(INDEX(اقساط!$B$3:$B$8532,SMALL(IF(اقساط!$G$3:$G$8532=B1681,ROW($B$3:$B$8532)-ROW($B$3)+1),ROWS($C$3:C1681))),\"\")","v":0}]
[{"$f":"IFERROR(INDEX(اقساط!$AT$3:$AT$8532,SMALL(IF(اقساط!$G$3:$G$8532=B1682,ROW($AT$3:$AT$8532)-ROW($AT$3)+1),ROWS($A$3:A1682))),\"\")","v":0},null,{"$f":"IFERROR(INDEX(اقساط!$B$3:$B$8532,SMALL(IF(اقساط!$G$3:$G$8532=B1682,ROW($B$3:$B$8532)-ROW($B$3)+1),ROWS($C$3:C1682))),\"\")","v":0}]
[{"$f":"IFERROR(INDEX(اقساط!$AT$3:$AT$8532,SMALL(IF(اقساط!$G$3:$G$8532=B1683,ROW($AT$3:$AT$8532)-ROW($AT$3)+1),ROWS($A$3:A1683))),\"\")","v":0},null,{"$f":"IFERROR(INDEX(اقساط!$B$3:$B$8532,SMALL(IF(اقساط!$G$3:$G$8532=B1683,ROW($B$3:$B$8532)-ROW($B$3)+1),ROWS($C$3:C1683))),\"\")","v":0}]
[{"$f":"IFERROR(INDEX(اقساط!$AT$3:$AT$8532,SMALL(IF(اقساط!$G$3:$G$8532=B1684,ROW($AT$3:$AT$8532)-ROW($AT$3)+1),ROWS($A$3:A1684))),\"\")","v":0},null,{"$f":"IFERROR(INDEX(اقساط!$B$3:$B$8532,SMALL(IF(اقساط!$G$3:$G$8532=B1684,ROW($B$3:$B$8532)-ROW($B$3)+1),ROWS($C$3:C1684))),\"\")","v":0}]
[{"$f":"IFERROR(INDEX(اقساط!$AT$3:$AT$8532,SMALL(IF(اقساط!$G$3:$G$8532=B1685,ROW($AT$3:$AT$8532)-ROW($AT$3)+1),ROWS($A$3:A1685))),\"\")","v":0},null,{"$f":"IFERROR(INDEX(اقساط!$B$3:$B$8532,SMALL(IF(اقساط!$G$3:$G$8532=B1685,ROW($B$3:$B$8532)-ROW($B$3)+1),ROWS($C$3:C1685))),\"\")","v":0}]
[{"$f":"IFERROR(INDEX(اقساط!$AT$3:$AT$8532,SMALL(IF(اقساط!$G$3:$G$8532=B1686,ROW($AT$3:$AT$8532)-ROW($AT$3)+1),ROWS($A$3:A1686))),\"\")","v":0},null,{"$f":"IFERROR(INDEX(اقساط!$B$3:$B$8532,SMALL(IF(اقساط!$G$3:$G$8532=B1686,ROW($B$3:$B$8532)-ROW($B$3)+1),ROWS($C$3:C1686))),\"\")","v":0}]
[{"$f":"IFERROR(INDEX(اقساط!$AT$3:$AT$8532,SMALL(IF(اقساط!$G$3:$G$8532=B1687,ROW($AT$3:$AT$8532)-ROW($AT$3)+1),ROWS($A$3:A1687))),\"\")","v":0},null,{"$f":"IFERROR(INDEX(اقساط!$B$3:$B$8532,SMALL(IF(اقساط!$G$3:$G$8532=B1687,ROW($B$3:$B$8532)-ROW($B$3)+1),ROWS($C$3:C1687))),\"\")","v":0}]
[{"$f":"IFERROR(INDEX(اقساط!$AT$3:$AT$8532,SMALL(IF(اقساط!$G$3:$G$8532=B1688,ROW($AT$3:$AT$8532)-ROW($AT$3)+1),ROWS($A$3:A1688))),\"\")","v":0},null,{"$f":"IFERROR(INDEX(اقساط!$B$3:$B$8532,SMALL(IF(اقساط!$G$3:$G$8532=B1688,ROW($B$3:$B$8532)-ROW($B$3)+1),ROWS($C$3:C1688))),\"\")","v":0}]
[{"$f":"IFERROR(INDEX(اقساط!$AT$3:$AT$8532,SMALL(IF(اقساط!$G$3:$G$8532=B1689,ROW($AT$3:$AT$8532)-ROW($AT$3)+1),ROWS($A$3:A1689))),\"\")","v":0},null,{"$f":"IFERROR(INDEX(اقساط!$B$3:$B$8532,SMALL(IF(اقساط!$G$3:$G$8532=B1689,ROW($B$3:$B$8532)-ROW($B$3)+1),ROWS($C$3:C1689))),\"\")","v":0}]
[{"$f":"IFERROR(INDEX(اقساط!$AT$3:$AT$8532,SMALL(IF(اقساط!$G$3:$G$8532=B1690,ROW($AT$3:$AT$8532)-ROW($AT$3)+1),ROWS($A$3:A1690))),\"\")","v":0},null,{"$f":"IFERROR(INDEX(اقساط!$B$3:$B$8532,SMALL(IF(اقساط!$G$3:$G$8532=B1690,ROW($B$3:$B$8532)-ROW($B$3)+1),ROWS($C$3:C1690))),\"\")","v":0}]
[{"$f":"IFERROR(INDEX(اقساط!$AT$3:$AT$8532,SMALL(IF(اقساط!$G$3:$G$8532=B1691,ROW($AT$3:$AT$8532)-ROW($AT$3)+1),ROWS($A$3:A1691))),\"\")","v":0},null,{"$f":"IFERROR(INDEX(اقساط!$B$3:$B$8532,SMALL(IF(اقساط!$G$3:$G$8532=B1691,ROW($B$3:$B$8532)-ROW($B$3)+1),ROWS($C$3:C1691))),\"\")","v":0}]
[{"$f":"IFERROR(INDEX(اقساط!$AT$3:$AT$8532,SMALL(IF(اقساط!$G$3:$G$8532=B1692,ROW($AT$3:$AT$8532)-ROW($AT$3)+1),ROWS($A$3:A1692))),\"\")","v":0},null,{"$f":"IFERROR(INDEX(اقساط!$B$3:$B$8532,SMALL(IF(اقساط!$G$3:$G$8532=B1692,ROW($B$3:$B$8532)-ROW($B$3)+1),ROWS($C$3:C1692))),\"\")","v":0}]
[{"$f":"IFERROR(INDEX(اقساط!$AT$3:$AT$8532,SMALL(IF(اقساط!$G$3:$G$8532=B1693,ROW($AT$3:$AT$8532)-ROW($AT$3)+1),ROWS($A$3:A1693))),\"\")","v":0},null,{"$f":"IFERROR(INDEX(اقساط!$B$3:$B$8532,SMALL(IF(اقساط!$G$3:$G$8532=B1693,ROW($B$3:$B$8532)-ROW($B$3)+1),ROWS($C$3:C1693))),\"\")","v":0}]
[{"$f":"IFERROR(INDEX(اقساط!$AT$3:$AT$8532,SMALL(IF(اقساط!$G$3:$G$8532=B1694,ROW($AT$3:$AT$8532)-ROW($AT$3)+1),ROWS($A$3:A1694))),\"\")","v":0},null,{"$f":"IFERROR(INDEX(اقساط!$B$3:$B$8532,SMALL(IF(اقساط!$G$3:$G$8532=B1694,ROW($B$3:$B$8532)-ROW($B$3)+1),ROWS($C$3:C1694))),\"\")","v":0}]
[{"$f":"IFERROR(INDEX(اقساط!$AT$3:$AT$8532,SMALL(IF(اقساط!$G$3:$G$8532=B1695,ROW($AT$3:$AT$8532)-ROW($AT$3)+1),ROWS($A$3:A1695))),\"\")","v":0},null,{"$f":"IFERROR(INDEX(اقساط!$B$3:$B$8532,SMALL(IF(اقساط!$G$3:$G$8532=B1695,ROW($B$3:$B$8532)-ROW($B$3)+1),ROWS($C$3:C1695))),\"\")","v":0}]
[{"$f":"IFERROR(INDEX(اقساط!$AT$3:$AT$8532,SMALL(IF(اقساط!$G$3:$G$8532=B1696,ROW($AT$3:$AT$8532)-ROW($AT$3)+1),ROWS($A$3:A1696))),\"\")","v":0},null,{"$f":"IFERROR(INDEX(اقساط!$B$3:$B$8532,SMALL(IF(اقساط!$G$3:$G$8532=B1696,ROW($B$3:$B$8532)-ROW($B$3)+1),ROWS($C$3:C1696))),\"\")","v":0}]
[{"$f":"IFERROR(INDEX(اقساط!$AT$3:$AT$8532,SMALL(IF(اقساط!$G$3:$G$8532=B1697,ROW($AT$3:$AT$8532)-ROW($AT$3)+1),ROWS($A$3:A1697))),\"\")","v":0},null,{"$f":"IFERROR(INDEX(اقساط!$B$3:$B$8532,SMALL(IF(اقساط!$G$3:$G$8532=B1697,ROW($B$3:$B$8532)-ROW($B$3)+1),ROWS($C$3:C1697))),\"\")","v":0}]
[{"$f":"IFERROR(INDEX(اقساط!$AT$3:$AT$8532,SMALL(IF(اقساط!$G$3:$G$8532=B1698,ROW($AT$3:$AT$8532)-ROW($AT$3)+1),ROWS($A$3:A1698))),\"\")","v":0},null,{"$f":"IFERROR(INDEX(اقساط!$B$3:$B$8532,SMALL(IF(اقساط!$G$3:$G$8532=B1698,ROW($B$3:$B$8532)-ROW($B$3)+1),ROWS($C$3:C1698))),\"\")","v":0}]
[{"$f":"IFERROR(INDEX(اقساط!$AT$3:$AT$8532,SMALL(IF(اقساط!$G$3:$G$8532=B1699,ROW($AT$3:$AT$8532)-ROW($AT$3)+1),ROWS($A$3:A1699))),\"\")","v":0},null,{"$f":"IFERROR(INDEX(اقساط!$B$3:$B$8532,SMALL(IF(اقساط!$G$3:$G$8532=B1699,ROW($B$3:$B$8532)-ROW($B$3)+1),ROWS($C$3:C1699))),\"\")","v":0}]
[{"$f":"IFERROR(INDEX(اقساط!$AT$3:$AT$8532,SMALL(IF(اقساط!$G$3:$G$8532=B1700,ROW($AT$3:$AT$8532)-ROW($AT$3)+1),ROWS($A$3:A1700))),\"\")","v":0},null,{"$f":"IFERROR(INDEX(اقساط!$B$3:$B$8532,SMALL(IF(اقساط!$G$3:$G$8532=B1700,ROW($B$3:$B$8532)-ROW($B$3)+1),ROWS($C$3:C1700))),\"\")","v":0}]
[{"$f":"IFERROR(INDEX(اقساط!$AT$3:$AT$8532,SMALL(IF(اقساط!$G$3:$G$8532=B1701,ROW($AT$3:$AT$8532)-ROW($AT$3)+1),ROWS($A$3:A1701))),\"\")","v":0},null,{"$f":"IFERROR(INDEX(اقساط!$B$3:$B$8532,SMALL(IF(اقساط!$G$3:$G$8532=B1701,ROW($B$3:$B$8532)-ROW($B$3)+1),ROWS($C$3:C1701))),\"\")","v":0}]
[{"$f":"IFERROR(INDEX(اقساط!$AT$3:$AT$8532,SMALL(IF(اقساط!$G$3:$G$8532=B1702,ROW($AT$3:$AT$8532)-ROW($AT$3)+1),ROWS($A$3:A1702))),\"\")","v":0},null,{"$f":"IFERROR(INDEX(اقساط!$B$3:$B$8532,SMALL(IF(اقساط!$G$3:$G$8532=B1702,ROW($B$3:$B$8532)-ROW($B$3)+1),ROWS($C$3:C1702))),\"\")","v":0}]
[{"$f":"IFERROR(INDEX(اقساط!$AT$3:$AT$8532,SMALL(IF(اقساط!$G$3:$G$8532=B1703,ROW($AT$3:$AT$8532)-ROW($AT$3)+1),ROWS($A$3:A1703))),\"\")","v":0},null,{"$f":"IFERROR(INDEX(اقساط!$B$3:$B$8532,SMALL(IF(اقساط!$G$3:$G$8532=B1703,ROW($B$3:$B$8532)-ROW($B$3)+1),ROWS($C$3:C1703))),\"\")","v":0}]
[{"$f":"IFERROR(INDEX(اقساط!$AT$3:$AT$8532,SMALL(IF(اقساط!$G$3:$G$8532=B1704,ROW($AT$3:$AT$8532)-ROW($AT$3)+1),ROWS($A$3:A1704))),\"\")","v":0},null,{"$f":"IFERROR(INDEX(اقساط!$B$3:$B$8532,SMALL(IF(اقساط!$G$3:$G$8532=B1704,ROW($B$3:$B$8532)-ROW($B$3)+1),ROWS($C$3:C1704))),\"\")","v":0}]
[{"$f":"IFERROR(INDEX(اقساط!$AT$3:$AT$8532,SMALL(IF(اقساط!$G$3:$G$8532=B1705,ROW($AT$3:$AT$8532)-ROW($AT$3)+1),ROWS($A$3:A1705))),\"\")","v":0},null,{"$f":"IFERROR(INDEX(اقساط!$B$3:$B$8532,SMALL(IF(اقساط!$G$3:$G$8532=B1705,ROW($B$3:$B$8532)-ROW($B$3)+1),ROWS($C$3:C1705))),\"\")","v":0}]
[{"$f":"IFERROR(INDEX(اقساط!$AT$3:$AT$8532,SMALL(IF(اقساط!$G$3:$G$8532=B1706,ROW($AT$3:$AT$8532)-ROW($AT$3)+1),ROWS($A$3:A1706))),\"\")","v":0},null,{"$f":"IFERROR(INDEX(اقساط!$B$3:$B$8532,SMALL(IF(اقساط!$G$3:$G$8532=B1706,ROW($B$3:$B$8532)-ROW($B$3)+1),ROWS($C$3:C1706))),\"\")","v":0}]
[{"$f":"IFERROR(INDEX(اقساط!$AT$3:$AT$8532,SMALL(IF(اقساط!$G$3:$G$8532=B1707,ROW($AT$3:$AT$8532)-ROW($AT$3)+1),ROWS($A$3:A1707))),\"\")","v":0},null,{"$f":"IFERROR(INDEX(اقساط!$B$3:$B$8532,SMALL(IF(اقساط!$G$3:$G$8532=B1707,ROW($B$3:$B$8532)-ROW($B$3)+1),ROWS($C$3:C1707))),\"\")","v":0}]
[{"$f":"IFERROR(INDEX(اقساط!$AT$3:$AT$8532,SMALL(IF(اقساط!$G$3:$G$8532=B1708,ROW($AT$3:$AT$8532)-ROW($AT$3)+1),ROWS($A$3:A1708))),\"\")","v":0},null,{"$f":"IFERROR(INDEX(اقساط!$B$3:$B$8532,SMALL(IF(اقساط!$G$3:$G$8532=B1708,ROW($B$3:$B$8532)-ROW($B$3)+1),ROWS($C$3:C1708))),\"\")","v":0}]
[{"$f":"IFERROR(INDEX(اقساط!$AT$3:$AT$8532,SMALL(IF(اقساط!$G$3:$G$8532=B1709,ROW($AT$3:$AT$8532)-ROW($AT$3)+1),ROWS($A$3:A1709))),\"\")","v":0},null,{"$f":"IFERROR(INDEX(اقساط!$B$3:$B$8532,SMALL(IF(اقساط!$G$3:$G$8532=B1709,ROW($B$3:$B$8532)-ROW($B$3)+1),ROWS($C$3:C1709))),\"\")","v":0}]
[{"$f":"IFERROR(INDEX(اقساط!$AT$3:$AT$8532,SMALL(IF(اقساط!$G$3:$G$8532=B1710,ROW($AT$3:$AT$8532)-ROW($AT$3)+1),ROWS($A$3:A1710))),\"\")","v":0},null,{"$f":"IFERROR(INDEX(اقساط!$B$3:$B$8532,SMALL(IF(اقساط!$G$3:$G$8532=B1710,ROW($B$3:$B$8532)-ROW($B$3)+1),ROWS($C$3:C1710))),\"\")","v":0}]
[{"$f":"IFERROR(INDEX(اقساط!$AT$3:$AT$8532,SMALL(IF(اقساط!$G$3:$G$8532=B1711,ROW($AT$3:$AT$8532)-ROW($AT$3)+1),ROWS($A$3:A1711))),\"\")","v":0},null,{"$f":"IFERROR(INDEX(اقساط!$B$3:$B$8532,SMALL(IF(اقساط!$G$3:$G$8532=B1711,ROW($B$3:$B$8532)-ROW($B$3)+1),ROWS($C$3:C1711))),\"\")","v":0}]
[{"$f":"IFERROR(INDEX(اقساط!$AT$3:$AT$8532,SMALL(IF(اقساط!$G$3:$G$8532=B1712,ROW($AT$3:$AT$8532)-ROW($AT$3)+1),ROWS($A$3:A1712))),\"\")","v":0},null,{"$f":"IFERROR(INDEX(اقساط!$B$3:$B$8532,SMALL(IF(اقساط!$G$3:$G$8532=B1712,ROW($B$3:$B$8532)-ROW($B$3)+1),ROWS($C$3:C1712))),\"\")","v":0}]
[{"$f":"IFERROR(INDEX(اقساط!$AT$3:$AT$8532,SMALL(IF(اقساط!$G$3:$G$8532=B1713,ROW($AT$3:$AT$8532)-ROW($AT$3)+1),ROWS($A$3:A1713))),\"\")","v":0},null,{"$f":"IFERROR(INDEX(اقساط!$B$3:$B$8532,SMALL(IF(اقساط!$G$3:$G$8532=B1713,ROW($B$3:$B$8532)-ROW($B$3)+1),ROWS($C$3:C1713))),\"\")","v":0}]
[{"$f":"IFERROR(INDEX(اقساط!$AT$3:$AT$8532,SMALL(IF(اقساط!$G$3:$G$8532=B1714,ROW($AT$3:$AT$8532)-ROW($AT$3)+1),ROWS($A$3:A1714))),\"\")","v":0},null,{"$f":"IFERROR(INDEX(اقساط!$B$3:$B$8532,SMALL(IF(اقساط!$G$3:$G$8532=B1714,ROW($B$3:$B$8532)-ROW($B$3)+1),ROWS($C$3:C1714))),\"\")","v":0}]
[{"$f":"IFERROR(INDEX(اقساط!$AT$3:$AT$8532,SMALL(IF(اقساط!$G$3:$G$8532=B1715,ROW($AT$3:$AT$8532)-ROW($AT$3)+1),ROWS($A$3:A1715))),\"\")","v":0},null,{"$f":"IFERROR(INDEX(اقساط!$B$3:$B$8532,SMALL(IF(اقساط!$G$3:$G$8532=B1715,ROW($B$3:$B$8532)-ROW($B$3)+1),ROWS($C$3:C1715))),\"\")","v":0}]
[{"$f":"IFERROR(INDEX(اقساط!$AT$3:$AT$8532,SMALL(IF(اقساط!$G$3:$G$8532=B1716,ROW($AT$3:$AT$8532)-ROW($AT$3)+1),ROWS($A$3:A1716))),\"\")","v":0},null,{"$f":"IFERROR(INDEX(اقساط!$B$3:$B$8532,SMALL(IF(اقساط!$G$3:$G$8532=B1716,ROW($B$3:$B$8532)-ROW($B$3)+1),ROWS($C$3:C1716))),\"\")","v":0}]
[{"$f":"IFERROR(INDEX(اقساط!$AT$3:$AT$8532,SMALL(IF(اقساط!$G$3:$G$8532=B1717,ROW($AT$3:$AT$8532)-ROW($AT$3)+1),ROWS($A$3:A1717))),\"\")","v":0},null,{"$f":"IFERROR(INDEX(اقساط!$B$3:$B$8532,SMALL(IF(اقساط!$G$3:$G$8532=B1717,ROW($B$3:$B$8532)-ROW($B$3)+1),ROWS($C$3:C1717))),\"\")","v":0}]
[{"$f":"IFERROR(INDEX(اقساط!$AT$3:$AT$8532,SMALL(IF(اقساط!$G$3:$G$8532=B1718,ROW($AT$3:$AT$8532)-ROW($AT$3)+1),ROWS($A$3:A1718))),\"\")","v":0},null,{"$f":"IFERROR(INDEX(اقساط!$B$3:$B$8532,SMALL(IF(اقساط!$G$3:$G$8532=B1718,ROW($B$3:$B$8532)-ROW($B$3)+1),ROWS($C$3:C1718))),\"\")","v":0}]
[{"$f":"IFERROR(INDEX(اقساط!$AT$3:$AT$8532,SMALL(IF(اقساط!$G$3:$G$8532=B1719,ROW($AT$3:$AT$8532)-ROW($AT$3)+1),ROWS($A$3:A1719))),\"\")","v":0},null,{"$f":"IFERROR(INDEX(اقساط!$B$3:$B$8532,SMALL(IF(اقساط!$G$3:$G$8532=B1719,ROW($B$3:$B$8532)-ROW($B$3)+1),ROWS($C$3:C1719))),\"\")","v":0}]
[{"$f":"IFERROR(INDEX(اقساط!$AT$3:$AT$8532,SMALL(IF(اقساط!$G$3:$G$8532=B1720,ROW($AT$3:$AT$8532)-ROW($AT$3)+1),ROWS($A$3:A1720))),\"\")","v":0},null,{"$f":"IFERROR(INDEX(اقساط!$B$3:$B$8532,SMALL(IF(اقساط!$G$3:$G$8532=B1720,ROW($B$3:$B$8532)-ROW($B$3)+1),ROWS($C$3:C1720))),\"\")","v":0}]
[{"$f":"IFERROR(INDEX(اقساط!$AT$3:$AT$8532,SMALL(IF(اقساط!$G$3:$G$8532=B1721,ROW($AT$3:$AT$8532)-ROW($AT$3)+1),ROWS($A$3:A1721))),\"\")","v":0},null,{"$f":"IFERROR(INDEX(اقساط!$B$3:$B$8532,SMALL(IF(اقساط!$G$3:$G$8532=B1721,ROW($B$3:$B$8532)-ROW($B$3)+1),ROWS($C$3:C1721))),\"\")","v":0}]
[{"$f":"IFERROR(INDEX(اقساط!$AT$3:$AT$8532,SMALL(IF(اقساط!$G$3:$G$8532=B1722,ROW($AT$3:$AT$8532)-ROW($AT$3)+1),ROWS($A$3:A1722))),\"\")","v":0},null,{"$f":"IFERROR(INDEX(اقساط!$B$3:$B$8532,SMALL(IF(اقساط!$G$3:$G$8532=B1722,ROW($B$3:$B$8532)-ROW($B$3)+1),ROWS($C$3:C1722))),\"\")","v":0}]
[{"$f":"IFERROR(INDEX(اقساط!$AT$3:$AT$8532,SMALL(IF(اقساط!$G$3:$G$8532=B1723,ROW($AT$3:$AT$8532)-ROW($AT$3)+1),ROWS($A$3:A1723))),\"\")","v":0},null,{"$f":"IFERROR(INDEX(اقساط!$B$3:$B$8532,SMALL(IF(اقساط!$G$3:$G$8532=B1723,ROW($B$3:$B$8532)-ROW($B$3)+1),ROWS($C$3:C1723))),\"\")","v":0}]
[{"$f":"IFERROR(INDEX(اقساط!$AT$3:$AT$8532,SMALL(IF(اقساط!$G$3:$G$8532=B1724,ROW($AT$3:$AT$8532)-ROW($AT$3)+1),ROWS($A$3:A1724))),\"\")","v":0},null,{"$f":"IFERROR(INDEX(اقساط!$B$3:$B$8532,SMALL(IF(اقساط!$G$3:$G$8532=B1724,ROW($B$3:$B$8532)-ROW($B$3)+1),ROWS($C$3:C1724))),\"\")","v":0}]
[{"$f":"IFERROR(INDEX(اقساط!$AT$3:$AT$8532,SMALL(IF(اقساط!$G$3:$G$8532=B1725,ROW($AT$3:$AT$8532)-ROW($AT$3)+1),ROWS($A$3:A1725))),\"\")","v":0},null,{"$f":"IFERROR(INDEX(اقساط!$B$3:$B$8532,SMALL(IF(اقساط!$G$3:$G$8532=B1725,ROW($B$3:$B$8532)-ROW($B$3)+1),ROWS($C$3:C1725))),\"\")","v":0}]
[{"$f":"IFERROR(INDEX(اقساط!$AT$3:$AT$8532,SMALL(IF(اقساط!$G$3:$G$8532=B1726,ROW($AT$3:$AT$8532)-ROW($AT$3)+1),ROWS($A$3:A1726))),\"\")","v":0},null,{"$f":"IFERROR(INDEX(اقساط!$B$3:$B$8532,SMALL(IF(اقساط!$G$3:$G$8532=B1726,ROW($B$3:$B$8532)-ROW($B$3)+1),ROWS($C$3:C1726))),\"\")","v":0}]
[{"$f":"IFERROR(INDEX(اقساط!$AT$3:$AT$8532,SMALL(IF(اقساط!$G$3:$G$8532=B1727,ROW($AT$3:$AT$8532)-ROW($AT$3)+1),ROWS($A$3:A1727))),\"\")","v":0},null,{"$f":"IFERROR(INDEX(اقساط!$B$3:$B$8532,SMALL(IF(اقساط!$G$3:$G$8532=B1727,ROW($B$3:$B$8532)-ROW($B$3)+1),ROWS($C$3:C1727))),\"\")","v":0}]
[{"$f":"IFERROR(INDEX(اقساط!$AT$3:$AT$8532,SMALL(IF(اقساط!$G$3:$G$8532=B1728,ROW($AT$3:$AT$8532)-ROW($AT$3)+1),ROWS($A$3:A1728))),\"\")","v":0},null,{"$f":"IFERROR(INDEX(اقساط!$B$3:$B$8532,SMALL(IF(اقساط!$G$3:$G$8532=B1728,ROW($B$3:$B$8532)-ROW($B$3)+1),ROWS($C$3:C1728))),\"\")","v":0}]
[{"$f":"IFERROR(INDEX(اقساط!$AT$3:$AT$8532,SMALL(IF(اقساط!$G$3:$G$8532=B1729,ROW($AT$3:$AT$8532)-ROW($AT$3)+1),ROWS($A$3:A1729))),\"\")","v":0},null,{"$f":"IFERROR(INDEX(اقساط!$B$3:$B$8532,SMALL(IF(اقساط!$G$3:$G$8532=B1729,ROW($B$3:$B$8532)-ROW($B$3)+1),ROWS($C$3:C1729))),\"\")","v":0}]
[{"$f":"IFERROR(INDEX(اقساط!$AT$3:$AT$8532,SMALL(IF(اقساط!$G$3:$G$8532=B1730,ROW($AT$3:$AT$8532)-ROW($AT$3)+1),ROWS($A$3:A1730))),\"\")","v":0},null,{"$f":"IFERROR(INDEX(اقساط!$B$3:$B$8532,SMALL(IF(اقساط!$G$3:$G$8532=B1730,ROW($B$3:$B$8532)-ROW($B$3)+1),ROWS($C$3:C1730))),\"\")","v":0}]
[{"$f":"IFERROR(INDEX(اقساط!$AT$3:$AT$8532,SMALL(IF(اقساط!$G$3:$G$8532=B1731,ROW($AT$3:$AT$8532)-ROW($AT$3)+1),ROWS($A$3:A1731))),\"\")","v":0},null,{"$f":"IFERROR(INDEX(اقساط!$B$3:$B$8532,SMALL(IF(اقساط!$G$3:$G$8532=B1731,ROW($B$3:$B$8532)-ROW($B$3)+1),ROWS($C$3:C1731))),\"\")","v":0}]
[{"$f":"IFERROR(INDEX(اقساط!$AT$3:$AT$8532,SMALL(IF(اقساط!$G$3:$G$8532=B1732,ROW($AT$3:$AT$8532)-ROW($AT$3)+1),ROWS($A$3:A1732))),\"\")","v":0},null,{"$f":"IFERROR(INDEX(اقساط!$B$3:$B$8532,SMALL(IF(اقساط!$G$3:$G$8532=B1732,ROW($B$3:$B$8532)-ROW($B$3)+1),ROWS($C$3:C1732))),\"\")","v":0}]
[{"$f":"IFERROR(INDEX(اقساط!$AT$3:$AT$8532,SMALL(IF(اقساط!$G$3:$G$8532=B1733,ROW($AT$3:$AT$8532)-ROW($AT$3)+1),ROWS($A$3:A1733))),\"\")","v":0},null,{"$f":"IFERROR(INDEX(اقساط!$B$3:$B$8532,SMALL(IF(اقساط!$G$3:$G$8532=B1733,ROW($B$3:$B$8532)-ROW($B$3)+1),ROWS($C$3:C1733))),\"\")","v":0}]
[{"$f":"IFERROR(INDEX(اقساط!$AT$3:$AT$8532,SMALL(IF(اقساط!$G$3:$G$8532=B1734,ROW($AT$3:$AT$8532)-ROW($AT$3)+1),ROWS($A$3:A1734))),\"\")","v":0},null,{"$f":"IFERROR(INDEX(اقساط!$B$3:$B$8532,SMALL(IF(اقساط!$G$3:$G$8532=B1734,ROW($B$3:$B$8532)-ROW($B$3)+1),ROWS($C$3:C1734))),\"\")","v":0}]
[{"$f":"IFERROR(INDEX(اقساط!$AT$3:$AT$8532,SMALL(IF(اقساط!$G$3:$G$8532=B1735,ROW($AT$3:$AT$8532)-ROW($AT$3)+1),ROWS($A$3:A1735))),\"\")","v":0},null,{"$f":"IFERROR(INDEX(اقساط!$B$3:$B$8532,SMALL(IF(اقساط!$G$3:$G$8532=B1735,ROW($B$3:$B$8532)-ROW($B$3)+1),ROWS($C$3:C1735))),\"\")","v":0}]
[{"$f":"IFERROR(INDEX(اقساط!$AT$3:$AT$8532,SMALL(IF(اقساط!$G$3:$G$8532=B1736,ROW($AT$3:$AT$8532)-ROW($AT$3)+1),ROWS($A$3:A1736))),\"\")","v":0},null,{"$f":"IFERROR(INDEX(اقساط!$B$3:$B$8532,SMALL(IF(اقساط!$G$3:$G$8532=B1736,ROW($B$3:$B$8532)-ROW($B$3)+1),ROWS($C$3:C1736))),\"\")","v":0}]
[{"$f":"IFERROR(INDEX(اقساط!$AT$3:$AT$8532,SMALL(IF(اقساط!$G$3:$G$8532=B1737,ROW($AT$3:$AT$8532)-ROW($AT$3)+1),ROWS($A$3:A1737))),\"\")","v":0},null,{"$f":"IFERROR(INDEX(اقساط!$B$3:$B$8532,SMALL(IF(اقساط!$G$3:$G$8532=B1737,ROW($B$3:$B$8532)-ROW($B$3)+1),ROWS($C$3:C1737))),\"\")","v":0}]
[{"$f":"IFERROR(INDEX(اقساط!$AT$3:$AT$8532,SMALL(IF(اقساط!$G$3:$G$8532=B1738,ROW($AT$3:$AT$8532)-ROW($AT$3)+1),ROWS($A$3:A1738))),\"\")","v":0},null,{"$f":"IFERROR(INDEX(اقساط!$B$3:$B$8532,SMALL(IF(اقساط!$G$3:$G$8532=B1738,ROW($B$3:$B$8532)-ROW($B$3)+1),ROWS($C$3:C1738))),\"\")","v":0}]
[{"$f":"IFERROR(INDEX(اقساط!$AT$3:$AT$8532,SMALL(IF(اقساط!$G$3:$G$8532=B1739,ROW($AT$3:$AT$8532)-ROW($AT$3)+1),ROWS($A$3:A1739))),\"\")","v":0},null,{"$f":"IFERROR(INDEX(اقساط!$B$3:$B$8532,SMALL(IF(اقساط!$G$3:$G$8532=B1739,ROW($B$3:$B$8532)-ROW($B$3)+1),ROWS($C$3:C1739))),\"\")","v":0}]
[{"$f":"IFERROR(INDEX(اقساط!$AT$3:$AT$8532,SMALL(IF(اقساط!$G$3:$G$8532=B1740,ROW($AT$3:$AT$8532)-ROW($AT$3)+1),ROWS($A$3:A1740))),\"\")","v":0},null,{"$f":"IFERROR(INDEX(اقساط!$B$3:$B$8532,SMALL(IF(اقساط!$G$3:$G$8532=B1740,ROW($B$3:$B$8532)-ROW($B$3)+1),ROWS($C$3:C1740))),\"\")","v":0}]
[{"$f":"IFERROR(INDEX(اقساط!$AT$3:$AT$8532,SMALL(IF(اقساط!$G$3:$G$8532=B1741,ROW($AT$3:$AT$8532)-ROW($AT$3)+1),ROWS($A$3:A1741))),\"\")","v":0},null,{"$f":"IFERROR(INDEX(اقساط!$B$3:$B$8532,SMALL(IF(اقساط!$G$3:$G$8532=B1741,ROW($B$3:$B$8532)-ROW($B$3)+1),ROWS($C$3:C1741))),\"\")","v":0}]
[{"$f":"IFERROR(INDEX(اقساط!$AT$3:$AT$8532,SMALL(IF(اقساط!$G$3:$G$8532=B1742,ROW($AT$3:$AT$8532)-ROW($AT$3)+1),ROWS($A$3:A1742))),\"\")","v":0},null,{"$f":"IFERROR(INDEX(اقساط!$B$3:$B$8532,SMALL(IF(اقساط!$G$3:$G$8532=B1742,ROW($B$3:$B$8532)-ROW($B$3)+1),ROWS($C$3:C1742))),\"\")","v":0}]
[{"$f":"IFERROR(INDEX(اقساط!$AT$3:$AT$8532,SMALL(IF(اقساط!$G$3:$G$8532=B1743,ROW($AT$3:$AT$8532)-ROW($AT$3)+1),ROWS($A$3:A1743))),\"\")","v":0},null,{"$f":"IFERROR(INDEX(اقساط!$B$3:$B$8532,SMALL(IF(اقساط!$G$3:$G$8532=B1743,ROW($B$3:$B$8532)-ROW($B$3)+1),ROWS($C$3:C1743))),\"\")","v":0}]
[{"$f":"IFERROR(INDEX(اقساط!$AT$3:$AT$8532,SMALL(IF(اقساط!$G$3:$G$8532=B1744,ROW($AT$3:$AT$8532)-ROW($AT$3)+1),ROWS($A$3:A1744))),\"\")","v":0},null,{"$f":"IFERROR(INDEX(اقساط!$B$3:$B$8532,SMALL(IF(اقساط!$G$3:$G$8532=B1744,ROW($B$3:$B$8532)-ROW($B$3)+1),ROWS($C$3:C1744))),\"\")","v":0}]
[{"$f":"IFERROR(INDEX(اقساط!$AT$3:$AT$8532,SMALL(IF(اقساط!$G$3:$G$8532=B1745,ROW($AT$3:$AT$8532)-ROW($AT$3)+1),ROWS($A$3:A1745))),\"\")","v":0},null,{"$f":"IFERROR(INDEX(اقساط!$B$3:$B$8532,SMALL(IF(اقساط!$G$3:$G$8532=B1745,ROW($B$3:$B$8532)-ROW($B$3)+1),ROWS($C$3:C1745))),\"\")","v":0}]
[{"$f":"IFERROR(INDEX(اقساط!$AT$3:$AT$8532,SMALL(IF(اقساط!$G$3:$G$8532=B1746,ROW($AT$3:$AT$8532)-ROW($AT$3)+1),ROWS($A$3:A1746))),\"\")","v":0},null,{"$f":"IFERROR(INDEX(اقساط!$B$3:$B$8532,SMALL(IF(اقساط!$G$3:$G$8532=B1746,ROW($B$3:$B$8532)-ROW($B$3)+1),ROWS($C$3:C1746))),\"\")","v":0}]
[{"$f":"IFERROR(INDEX(اقساط!$AT$3:$AT$8532,SMALL(IF(اقساط!$G$3:$G$8532=B1747,ROW($AT$3:$AT$8532)-ROW($AT$3)+1),ROWS($A$3:A1747))),\"\")","v":0},null,{"$f":"IFERROR(INDEX(اقساط!$B$3:$B$8532,SMALL(IF(اقساط!$G$3:$G$8532=B1747,ROW($B$3:$B$8532)-ROW($B$3)+1),ROWS($C$3:C1747))),\"\")","v":0}]
[{"$f":"IFERROR(INDEX(اقساط!$AT$3:$AT$8532,SMALL(IF(اقساط!$G$3:$G$8532=B1748,ROW($AT$3:$AT$8532)-ROW($AT$3)+1),ROWS($A$3:A1748))),\"\")","v":0},null,{"$f":"IFERROR(INDEX(اقساط!$B$3:$B$8532,SMALL(IF(اقساط!$G$3:$G$8532=B1748,ROW($B$3:$B$8532)-ROW($B$3)+1),ROWS($C$3:C1748))),\"\")","v":0}]
[{"$f":"IFERROR(INDEX(اقساط!$AT$3:$AT$8532,SMALL(IF(اقساط!$G$3:$G$8532=B1749,ROW($AT$3:$AT$8532)-ROW($AT$3)+1),ROWS($A$3:A1749))),\"\")","v":0},null,{"$f":"IFERROR(INDEX(اقساط!$B$3:$B$8532,SMALL(IF(اقساط!$G$3:$G$8532=B1749,ROW($B$3:$B$8532)-ROW($B$3)+1),ROWS($C$3:C1749))),\"\")","v":0}]
[{"$f":"IFERROR(INDEX(اقساط!$AT$3:$AT$8532,SMALL(IF(اقساط!$G$3:$G$8532=B1750,ROW($AT$3:$AT$8532)-ROW($AT$3)+1),ROWS($A$3:A1750))),\"\")","v":0},null,{"$f":"IFERROR(INDEX(اقساط!$B$3:$B$8532,SMALL(IF(اقساط!$G$3:$G$8532=B1750,ROW($B$3:$B$8532)-ROW($B$3)+1),ROWS($C$3:C1750))),\"\")","v":0}]
[{"$f":"IFERROR(INDEX(اقساط!$AT$3:$AT$8532,SMALL(IF(اقساط!$G$3:$G$8532=B1751,ROW($AT$3:$AT$8532)-ROW($AT$3)+1),ROWS($A$3:A1751))),\"\")","v":0},null,{"$f":"IFERROR(INDEX(اقساط!$B$3:$B$8532,SMALL(IF(اقساط!$G$3:$G$8532=B1751,ROW($B$3:$B$8532)-ROW($B$3)+1),ROWS($C$3:C1751))),\"\")","v":0}]
[{"$f":"IFERROR(INDEX(اقساط!$AT$3:$AT$8532,SMALL(IF(اقساط!$G$3:$G$8532=B1752,ROW($AT$3:$AT$8532)-ROW($AT$3)+1),ROWS($A$3:A1752))),\"\")","v":0},null,{"$f":"IFERROR(INDEX(اقساط!$B$3:$B$8532,SMALL(IF(اقساط!$G$3:$G$8532=B1752,ROW($B$3:$B$8532)-ROW($B$3)+1),ROWS($C$3:C1752))),\"\")","v":0}]
[{"$f":"IFERROR(INDEX(اقساط!$AT$3:$AT$8532,SMALL(IF(اقساط!$G$3:$G$8532=B1753,ROW($AT$3:$AT$8532)-ROW($AT$3)+1),ROWS($A$3:A1753))),\"\")","v":0},null,{"$f":"IFERROR(INDEX(اقساط!$B$3:$B$8532,SMALL(IF(اقساط!$G$3:$G$8532=B1753,ROW($B$3:$B$8532)-ROW($B$3)+1),ROWS($C$3:C1753))),\"\")","v":0}]
[{"$f":"IFERROR(INDEX(اقساط!$AT$3:$AT$8532,SMALL(IF(اقساط!$G$3:$G$8532=B1754,ROW($AT$3:$AT$8532)-ROW($AT$3)+1),ROWS($A$3:A1754))),\"\")","v":0},null,{"$f":"IFERROR(INDEX(اقساط!$B$3:$B$8532,SMALL(IF(اقساط!$G$3:$G$8532=B1754,ROW($B$3:$B$8532)-ROW($B$3)+1),ROWS($C$3:C1754))),\"\")","v":0}]
[{"$f":"IFERROR(INDEX(اقساط!$AT$3:$AT$8532,SMALL(IF(اقساط!$G$3:$G$8532=B1755,ROW($AT$3:$AT$8532)-ROW($AT$3)+1),ROWS($A$3:A1755))),\"\")","v":0},null,{"$f":"IFERROR(INDEX(اقساط!$B$3:$B$8532,SMALL(IF(اقساط!$G$3:$G$8532=B1755,ROW($B$3:$B$8532)-ROW($B$3)+1),ROWS($C$3:C1755))),\"\")","v":0}]
[{"$f":"IFERROR(INDEX(اقساط!$AT$3:$AT$8532,SMALL(IF(اقساط!$G$3:$G$8532=B1756,ROW($AT$3:$AT$8532)-ROW($AT$3)+1),ROWS($A$3:A1756))),\"\")","v":0},null,{"$f":"IFERROR(INDEX(اقساط!$B$3:$B$8532,SMALL(IF(اقساط!$G$3:$G$8532=B1756,ROW($B$3:$B$8532)-ROW($B$3)+1),ROWS($C$3:C1756))),\"\")","v":0}]
[{"$f":"IFERROR(INDEX(اقساط!$AT$3:$AT$8532,SMALL(IF(اقساط!$G$3:$G$8532=B1757,ROW($AT$3:$AT$8532)-ROW($AT$3)+1),ROWS($A$3:A1757))),\"\")","v":0},null,{"$f":"IFERROR(INDEX(اقساط!$B$3:$B$8532,SMALL(IF(اقساط!$G$3:$G$8532=B1757,ROW($B$3:$B$8532)-ROW($B$3)+1),ROWS($C$3:C1757))),\"\")","v":0}]
[{"$f":"IFERROR(INDEX(اقساط!$AT$3:$AT$8532,SMALL(IF(اقساط!$G$3:$G$8532=B1758,ROW($AT$3:$AT$8532)-ROW($AT$3)+1),ROWS($A$3:A1758))),\"\")","v":0},null,{"$f":"IFERROR(INDEX(اقساط!$B$3:$B$8532,SMALL(IF(اقساط!$G$3:$G$8532=B1758,ROW($B$3:$B$8532)-ROW($B$3)+1),ROWS($C$3:C1758))),\"\")","v":0}]
[{"$f":"IFERROR(INDEX(اقساط!$AT$3:$AT$8532,SMALL(IF(اقساط!$G$3:$G$8532=B1759,ROW($AT$3:$AT$8532)-ROW($AT$3)+1),ROWS($A$3:A1759))),\"\")","v":0},null,{"$f":"IFERROR(INDEX(اقساط!$B$3:$B$8532,SMALL(IF(اقساط!$G$3:$G$8532=B1759,ROW($B$3:$B$8532)-ROW($B$3)+1),ROWS($C$3:C1759))),\"\")","v":0}]
[{"$f":"IFERROR(INDEX(اقساط!$AT$3:$AT$8532,SMALL(IF(اقساط!$G$3:$G$8532=B1760,ROW($AT$3:$AT$8532)-ROW($AT$3)+1),ROWS($A$3:A1760))),\"\")","v":0},null,{"$f":"IFERROR(INDEX(اقساط!$B$3:$B$8532,SMALL(IF(اقساط!$G$3:$G$8532=B1760,ROW($B$3:$B$8532)-ROW($B$3)+1),ROWS($C$3:C1760))),\"\")","v":0}]
[{"$f":"IFERROR(INDEX(اقساط!$AT$3:$AT$8532,SMALL(IF(اقساط!$G$3:$G$8532=B1761,ROW($AT$3:$AT$8532)-ROW($AT$3)+1),ROWS($A$3:A1761))),\"\")","v":0},null,{"$f":"IFERROR(INDEX(اقساط!$B$3:$B$8532,SMALL(IF(اقساط!$G$3:$G$8532=B1761,ROW($B$3:$B$8532)-ROW($B$3)+1),ROWS($C$3:C1761))),\"\")","v":0}]
[{"$f":"IFERROR(INDEX(اقساط!$AT$3:$AT$8532,SMALL(IF(اقساط!$G$3:$G$8532=B1762,ROW($AT$3:$AT$8532)-ROW($AT$3)+1),ROWS($A$3:A1762))),\"\")","v":0},null,{"$f":"IFERROR(INDEX(اقساط!$B$3:$B$8532,SMALL(IF(اقساط!$G$3:$G$8532=B1762,ROW($B$3:$B$8532)-ROW($B$3)+1),ROWS($C$3:C1762))),\"\")","v":0}]
[{"$f":"IFERROR(INDEX(اقساط!$AT$3:$AT$8532,SMALL(IF(اقساط!$G$3:$G$8532=B1763,ROW($AT$3:$AT$8532)-ROW($AT$3)+1),ROWS($A$3:A1763))),\"\")","v":0},null,{"$f":"IFERROR(INDEX(اقساط!$B$3:$B$8532,SMALL(IF(اقساط!$G$3:$G$8532=B1763,ROW($B$3:$B$8532)-ROW($B$3)+1),ROWS($C$3:C1763))),\"\")","v":0}]
[{"$f":"IFERROR(INDEX(اقساط!$AT$3:$AT$8532,SMALL(IF(اقساط!$G$3:$G$8532=B1764,ROW($AT$3:$AT$8532)-ROW($AT$3)+1),ROWS($A$3:A1764))),\"\")","v":0},null,{"$f":"IFERROR(INDEX(اقساط!$B$3:$B$8532,SMALL(IF(اقساط!$G$3:$G$8532=B1764,ROW($B$3:$B$8532)-ROW($B$3)+1),ROWS($C$3:C1764))),\"\")","v":0}]
[{"$f":"IFERROR(INDEX(اقساط!$AT$3:$AT$8532,SMALL(IF(اقساط!$G$3:$G$8532=B1765,ROW($AT$3:$AT$8532)-ROW($AT$3)+1),ROWS($A$3:A1765))),\"\")","v":0},null,{"$f":"IFERROR(INDEX(اقساط!$B$3:$B$8532,SMALL(IF(اقساط!$G$3:$G$8532=B1765,ROW($B$3:$B$8532)-ROW($B$3)+1),ROWS($C$3:C1765))),\"\")","v":0}]
[{"$f":"IFERROR(INDEX(اقساط!$AT$3:$AT$8532,SMALL(IF(اقساط!$G$3:$G$8532=B1766,ROW($AT$3:$AT$8532)-ROW($AT$3)+1),ROWS($A$3:A1766))),\"\")","v":0},null,{"$f":"IFERROR(INDEX(اقساط!$B$3:$B$8532,SMALL(IF(اقساط!$G$3:$G$8532=B1766,ROW($B$3:$B$8532)-ROW($B$3)+1),ROWS($C$3:C1766))),\"\")","v":0}]
[{"$f":"IFERROR(INDEX(اقساط!$AT$3:$AT$8532,SMALL(IF(اقساط!$G$3:$G$8532=B1767,ROW($AT$3:$AT$8532)-ROW($AT$3)+1),ROWS($A$3:A1767))),\"\")","v":0},null,{"$f":"IFERROR(INDEX(اقساط!$B$3:$B$8532,SMALL(IF(اقساط!$G$3:$G$8532=B1767,ROW($B$3:$B$8532)-ROW($B$3)+1),ROWS($C$3:C1767))),\"\")","v":0}]
[{"$f":"IFERROR(INDEX(اقساط!$AT$3:$AT$8532,SMALL(IF(اقساط!$G$3:$G$8532=B1768,ROW($AT$3:$AT$8532)-ROW($AT$3)+1),ROWS($A$3:A1768))),\"\")","v":0},null,{"$f":"IFERROR(INDEX(اقساط!$B$3:$B$8532,SMALL(IF(اقساط!$G$3:$G$8532=B1768,ROW($B$3:$B$8532)-ROW($B$3)+1),ROWS($C$3:C1768))),\"\")","v":0}]
[{"$f":"IFERROR(INDEX(اقساط!$AT$3:$AT$8532,SMALL(IF(اقساط!$G$3:$G$8532=B1769,ROW($AT$3:$AT$8532)-ROW($AT$3)+1),ROWS($A$3:A1769))),\"\")","v":0},null,{"$f":"IFERROR(INDEX(اقساط!$B$3:$B$8532,SMALL(IF(اقساط!$G$3:$G$8532=B1769,ROW($B$3:$B$8532)-ROW($B$3)+1),ROWS($C$3:C1769))),\"\")","v":0}]
[{"$f":"IFERROR(INDEX(اقساط!$AT$3:$AT$8532,SMALL(IF(اقساط!$G$3:$G$8532=B1770,ROW($AT$3:$AT$8532)-ROW($AT$3)+1),ROWS($A$3:A1770))),\"\")","v":0},null,{"$f":"IFERROR(INDEX(اقساط!$B$3:$B$8532,SMALL(IF(اقساط!$G$3:$G$8532=B1770,ROW($B$3:$B$8532)-ROW($B$3)+1),ROWS($C$3:C1770))),\"\")","v":0}]
[{"$f":"IFERROR(INDEX(اقساط!$AT$3:$AT$8532,SMALL(IF(اقساط!$G$3:$G$8532=B1771,ROW($AT$3:$AT$8532)-ROW($AT$3)+1),ROWS($A$3:A1771))),\"\")","v":0},null,{"$f":"IFERROR(INDEX(اقساط!$B$3:$B$8532,SMALL(IF(اقساط!$G$3:$G$8532=B1771,ROW($B$3:$B$8532)-ROW($B$3)+1),ROWS($C$3:C1771))),\"\")","v":0}]
[{"$f":"IFERROR(INDEX(اقساط!$AT$3:$AT$8532,SMALL(IF(اقساط!$G$3:$G$8532=B1772,ROW($AT$3:$AT$8532)-ROW($AT$3)+1),ROWS($A$3:A1772))),\"\")","v":0},null,{"$f":"IFERROR(INDEX(اقساط!$B$3:$B$8532,SMALL(IF(اقساط!$G$3:$G$8532=B1772,ROW($B$3:$B$8532)-ROW($B$3)+1),ROWS($C$3:C1772))),\"\")","v":0}]
[{"$f":"IFERROR(INDEX(اقساط!$AT$3:$AT$8532,SMALL(IF(اقساط!$G$3:$G$8532=B1773,ROW($AT$3:$AT$8532)-ROW($AT$3)+1),ROWS($A$3:A1773))),\"\")","v":0},null,{"$f":"IFERROR(INDEX(اقساط!$B$3:$B$8532,SMALL(IF(اقساط!$G$3:$G$8532=B1773,ROW($B$3:$B$8532)-ROW($B$3)+1),ROWS($C$3:C1773))),\"\")","v":0}]
[{"$f":"IFERROR(INDEX(اقساط!$AT$3:$AT$8532,SMALL(IF(اقساط!$G$3:$G$8532=B1774,ROW($AT$3:$AT$8532)-ROW($AT$3)+1),ROWS($A$3:A1774))),\"\")","v":0},null,{"$f":"IFERROR(INDEX(اقساط!$B$3:$B$8532,SMALL(IF(اقساط!$G$3:$G$8532=B1774,ROW($B$3:$B$8532)-ROW($B$3)+1),ROWS($C$3:C1774))),\"\")","v":0}]
[{"$f":"IFERROR(INDEX(اقساط!$AT$3:$AT$8532,SMALL(IF(اقساط!$G$3:$G$8532=B1775,ROW($AT$3:$AT$8532)-ROW($AT$3)+1),ROWS($A$3:A1775))),\"\")","v":0},null,{"$f":"IFERROR(INDEX(اقساط!$B$3:$B$8532,SMALL(IF(اقساط!$G$3:$G$8532=B1775,ROW($B$3:$B$8532)-ROW($B$3)+1),ROWS($C$3:C1775))),\"\")","v":0}]
[{"$f":"IFERROR(INDEX(اقساط!$AT$3:$AT$8532,SMALL(IF(اقساط!$G$3:$G$8532=B1776,ROW($AT$3:$AT$8532)-ROW($AT$3)+1),ROWS($A$3:A1776))),\"\")","v":0},null,{"$f":"IFERROR(INDEX(اقساط!$B$3:$B$8532,SMALL(IF(اقساط!$G$3:$G$8532=B1776,ROW($B$3:$B$8532)-ROW($B$3)+1),ROWS($C$3:C1776))),\"\")","v":0}]
[{"$f":"IFERROR(INDEX(اقساط!$AT$3:$AT$8532,SMALL(IF(اقساط!$G$3:$G$8532=B1777,ROW($AT$3:$AT$8532)-ROW($AT$3)+1),ROWS($A$3:A1777))),\"\")","v":0},null,{"$f":"IFERROR(INDEX(اقساط!$B$3:$B$8532,SMALL(IF(اقساط!$G$3:$G$8532=B1777,ROW($B$3:$B$8532)-ROW($B$3)+1),ROWS($C$3:C1777))),\"\")","v":0}]
[{"$f":"IFERROR(INDEX(اقساط!$AT$3:$AT$8532,SMALL(IF(اقساط!$G$3:$G$8532=B1778,ROW($AT$3:$AT$8532)-ROW($AT$3)+1),ROWS($A$3:A1778))),\"\")","v":0},null,{"$f":"IFERROR(INDEX(اقساط!$B$3:$B$8532,SMALL(IF(اقساط!$G$3:$G$8532=B1778,ROW($B$3:$B$8532)-ROW($B$3)+1),ROWS($C$3:C1778))),\"\")","v":0}]
[{"$f":"IFERROR(INDEX(اقساط!$AT$3:$AT$8532,SMALL(IF(اقساط!$G$3:$G$8532=B1779,ROW($AT$3:$AT$8532)-ROW($AT$3)+1),ROWS($A$3:A1779))),\"\")","v":0},null,{"$f":"IFERROR(INDEX(اقساط!$B$3:$B$8532,SMALL(IF(اقساط!$G$3:$G$8532=B1779,ROW($B$3:$B$8532)-ROW($B$3)+1),ROWS($C$3:C1779))),\"\")","v":0}]
[{"$f":"IFERROR(INDEX(اقساط!$AT$3:$AT$8532,SMALL(IF(اقساط!$G$3:$G$8532=B1780,ROW($AT$3:$AT$8532)-ROW($AT$3)+1),ROWS($A$3:A1780))),\"\")","v":0},null,{"$f":"IFERROR(INDEX(اقساط!$B$3:$B$8532,SMALL(IF(اقساط!$G$3:$G$8532=B1780,ROW($B$3:$B$8532)-ROW($B$3)+1),ROWS($C$3:C1780))),\"\")","v":0}]
[{"$f":"IFERROR(INDEX(اقساط!$AT$3:$AT$8532,SMALL(IF(اقساط!$G$3:$G$8532=B1781,ROW($AT$3:$AT$8532)-ROW($AT$3)+1),ROWS($A$3:A1781))),\"\")","v":0},null,{"$f":"IFERROR(INDEX(اقساط!$B$3:$B$8532,SMALL(IF(اقساط!$G$3:$G$8532=B1781,ROW($B$3:$B$8532)-ROW($B$3)+1),ROWS($C$3:C1781))),\"\")","v":0}]
[{"$f":"IFERROR(INDEX(اقساط!$AT$3:$AT$8532,SMALL(IF(اقساط!$G$3:$G$8532=B1782,ROW($AT$3:$AT$8532)-ROW($AT$3)+1),ROWS($A$3:A1782))),\"\")","v":0},null,{"$f":"IFERROR(INDEX(اقساط!$B$3:$B$8532,SMALL(IF(اقساط!$G$3:$G$8532=B1782,ROW($B$3:$B$8532)-ROW($B$3)+1),ROWS($C$3:C1782))),\"\")","v":0}]
[{"$f":"IFERROR(INDEX(اقساط!$AT$3:$AT$8532,SMALL(IF(اقساط!$G$3:$G$8532=B1783,ROW($AT$3:$AT$8532)-ROW($AT$3)+1),ROWS($A$3:A1783))),\"\")","v":0},null,{"$f":"IFERROR(INDEX(اقساط!$B$3:$B$8532,SMALL(IF(اقساط!$G$3:$G$8532=B1783,ROW($B$3:$B$8532)-ROW($B$3)+1),ROWS($C$3:C1783))),\"\")","v":0}]
[{"$f":"IFERROR(INDEX(اقساط!$AT$3:$AT$8532,SMALL(IF(اقساط!$G$3:$G$8532=B1784,ROW($AT$3:$AT$8532)-ROW($AT$3)+1),ROWS($A$3:A1784))),\"\")","v":0},null,{"$f":"IFERROR(INDEX(اقساط!$B$3:$B$8532,SMALL(IF(اقساط!$G$3:$G$8532=B1784,ROW($B$3:$B$8532)-ROW($B$3)+1),ROWS($C$3:C1784))),\"\")","v":0}]
[{"$f":"IFERROR(INDEX(اقساط!$AT$3:$AT$8532,SMALL(IF(اقساط!$G$3:$G$8532=B1785,ROW($AT$3:$AT$8532)-ROW($AT$3)+1),ROWS($A$3:A1785))),\"\")","v":0},null,{"$f":"IFERROR(INDEX(اقساط!$B$3:$B$8532,SMALL(IF(اقساط!$G$3:$G$8532=B1785,ROW($B$3:$B$8532)-ROW($B$3)+1),ROWS($C$3:C1785))),\"\")","v":0}]
[{"$f":"IFERROR(INDEX(اقساط!$AT$3:$AT$8532,SMALL(IF(اقساط!$G$3:$G$8532=B1786,ROW($AT$3:$AT$8532)-ROW($AT$3)+1),ROWS($A$3:A1786))),\"\")","v":0},null,{"$f":"IFERROR(INDEX(اقساط!$B$3:$B$8532,SMALL(IF(اقساط!$G$3:$G$8532=B1786,ROW($B$3:$B$8532)-ROW($B$3)+1),ROWS($C$3:C1786))),\"\")","v":0}]
[{"$f":"IFERROR(INDEX(اقساط!$AT$3:$AT$8532,SMALL(IF(اقساط!$G$3:$G$8532=B1787,ROW($AT$3:$AT$8532)-ROW($AT$3)+1),ROWS($A$3:A1787))),\"\")","v":0},null,{"$f":"IFERROR(INDEX(اقساط!$B$3:$B$8532,SMALL(IF(اقساط!$G$3:$G$8532=B1787,ROW($B$3:$B$8532)-ROW($B$3)+1),ROWS($C$3:C1787))),\"\")","v":0}]
[{"$f":"IFERROR(INDEX(اقساط!$AT$3:$AT$8532,SMALL(IF(اقساط!$G$3:$G$8532=B1788,ROW($AT$3:$AT$8532)-ROW($AT$3)+1),ROWS($A$3:A1788))),\"\")","v":0},null,{"$f":"IFERROR(INDEX(اقساط!$B$3:$B$8532,SMALL(IF(اقساط!$G$3:$G$8532=B1788,ROW($B$3:$B$8532)-ROW($B$3)+1),ROWS($C$3:C1788))),\"\")","v":0}]
[{"$f":"IFERROR(INDEX(اقساط!$AT$3:$AT$8532,SMALL(IF(اقساط!$G$3:$G$8532=B1789,ROW($AT$3:$AT$8532)-ROW($AT$3)+1),ROWS($A$3:A1789))),\"\")","v":0},null,{"$f":"IFERROR(INDEX(اقساط!$B$3:$B$8532,SMALL(IF(اقساط!$G$3:$G$8532=B1789,ROW($B$3:$B$8532)-ROW($B$3)+1),ROWS($C$3:C1789))),\"\")","v":0}]
[{"$f":"IFERROR(INDEX(اقساط!$AT$3:$AT$8532,SMALL(IF(اقساط!$G$3:$G$8532=B1790,ROW($AT$3:$AT$8532)-ROW($AT$3)+1),ROWS($A$3:A1790))),\"\")","v":0},null,{"$f":"IFERROR(INDEX(اقساط!$B$3:$B$8532,SMALL(IF(اقساط!$G$3:$G$8532=B1790,ROW($B$3:$B$8532)-ROW($B$3)+1),ROWS($C$3:C1790))),\"\")","v":0}]
[{"$f":"IFERROR(INDEX(اقساط!$AT$3:$AT$8532,SMALL(IF(اقساط!$G$3:$G$8532=B1791,ROW($AT$3:$AT$8532)-ROW($AT$3)+1),ROWS($A$3:A1791))),\"\")","v":0},null,{"$f":"IFERROR(INDEX(اقساط!$B$3:$B$8532,SMALL(IF(اقساط!$G$3:$G$8532=B1791,ROW($B$3:$B$8532)-ROW($B$3)+1),ROWS($C$3:C1791))),\"\")","v":0}]
[{"$f":"IFERROR(INDEX(اقساط!$AT$3:$AT$8532,SMALL(IF(اقساط!$G$3:$G$8532=B1792,ROW($AT$3:$AT$8532)-ROW($AT$3)+1),ROWS($A$3:A1792))),\"\")","v":0},null,{"$f":"IFERROR(INDEX(اقساط!$B$3:$B$8532,SMALL(IF(اقساط!$G$3:$G$8532=B1792,ROW($B$3:$B$8532)-ROW($B$3)+1),ROWS($C$3:C1792))),\"\")","v":0}]
[{"$f":"IFERROR(INDEX(اقساط!$AT$3:$AT$8532,SMALL(IF(اقساط!$G$3:$G$8532=B1793,ROW($AT$3:$AT$8532)-ROW($AT$3)+1),ROWS($A$3:A1793))),\"\")","v":0},null,{"$f":"IFERROR(INDEX(اقساط!$B$3:$B$8532,SMALL(IF(اقساط!$G$3:$G$8532=B1793,ROW($B$3:$B$8532)-ROW($B$3)+1),ROWS($C$3:C1793))),\"\")","v":0}]
[{"$f":"IFERROR(INDEX(اقساط!$AT$3:$AT$8532,SMALL(IF(اقساط!$G$3:$G$8532=B1794,ROW($AT$3:$AT$8532)-ROW($AT$3)+1),ROWS($A$3:A1794))),\"\")","v":0},null,{"$f":"IFERROR(INDEX(اقساط!$B$3:$B$8532,SMALL(IF(اقساط!$G$3:$G$8532=B1794,ROW($B$3:$B$8532)-ROW($B$3)+1),ROWS($C$3:C1794))),\"\")","v":0}]
[{"$f":"IFERROR(INDEX(اقساط!$AT$3:$AT$8532,SMALL(IF(اقساط!$G$3:$G$8532=B1795,ROW($AT$3:$AT$8532)-ROW($AT$3)+1),ROWS($A$3:A1795))),\"\")","v":0},null,{"$f":"IFERROR(INDEX(اقساط!$B$3:$B$8532,SMALL(IF(اقساط!$G$3:$G$8532=B1795,ROW($B$3:$B$8532)-ROW($B$3)+1),ROWS($C$3:C1795))),\"\")","v":0}]
[{"$f":"IFERROR(INDEX(اقساط!$AT$3:$AT$8532,SMALL(IF(اقساط!$G$3:$G$8532=B1796,ROW($AT$3:$AT$8532)-ROW($AT$3)+1),ROWS($A$3:A1796))),\"\")","v":0},null,{"$f":"IFERROR(INDEX(اقساط!$B$3:$B$8532,SMALL(IF(اقساط!$G$3:$G$8532=B1796,ROW($B$3:$B$8532)-ROW($B$3)+1),ROWS($C$3:C1796))),\"\")","v":0}]
[{"$f":"IFERROR(INDEX(اقساط!$AT$3:$AT$8532,SMALL(IF(اقساط!$G$3:$G$8532=B1797,ROW($AT$3:$AT$8532)-ROW($AT$3)+1),ROWS($A$3:A1797))),\"\")","v":0},null,{"$f":"IFERROR(INDEX(اقساط!$B$3:$B$8532,SMALL(IF(اقساط!$G$3:$G$8532=B1797,ROW($B$3:$B$8532)-ROW($B$3)+1),ROWS($C$3:C1797))),\"\")","v":0}]
[{"$f":"IFERROR(INDEX(اقساط!$AT$3:$AT$8532,SMALL(IF(اقساط!$G$3:$G$8532=B1798,ROW($AT$3:$AT$8532)-ROW($AT$3)+1),ROWS($A$3:A1798))),\"\")","v":0},null,{"$f":"IFERROR(INDEX(اقساط!$B$3:$B$8532,SMALL(IF(اقساط!$G$3:$G$8532=B1798,ROW($B$3:$B$8532)-ROW($B$3)+1),ROWS($C$3:C1798))),\"\")","v":0}]
[{"$f":"IFERROR(INDEX(اقساط!$AT$3:$AT$8532,SMALL(IF(اقساط!$G$3:$G$8532=B1799,ROW($AT$3:$AT$8532)-ROW($AT$3)+1),ROWS($A$3:A1799))),\"\")","v":0},null,{"$f":"IFERROR(INDEX(اقساط!$B$3:$B$8532,SMALL(IF(اقساط!$G$3:$G$8532=B1799,ROW($B$3:$B$8532)-ROW($B$3)+1),ROWS($C$3:C1799))),\"\")","v":0}]
[{"$f":"IFERROR(INDEX(اقساط!$AT$3:$AT$8532,SMALL(IF(اقساط!$G$3:$G$8532=B1800,ROW($AT$3:$AT$8532)-ROW($AT$3)+1),ROWS($A$3:A1800))),\"\")","v":0},null,{"$f":"IFERROR(INDEX(اقساط!$B$3:$B$8532,SMALL(IF(اقساط!$G$3:$G$8532=B1800,ROW($B$3:$B$8532)-ROW($B$3)+1),ROWS($C$3:C1800))),\"\")","v":0}]
[{"$f":"IFERROR(INDEX(اقساط!$AT$3:$AT$8532,SMALL(IF(اقساط!$G$3:$G$8532=B1801,ROW($AT$3:$AT$8532)-ROW($AT$3)+1),ROWS($A$3:A1801))),\"\")","v":0},null,{"$f":"IFERROR(INDEX(اقساط!$B$3:$B$8532,SMALL(IF(اقساط!$G$3:$G$8532=B1801,ROW($B$3:$B$8532)-ROW($B$3)+1),ROWS($C$3:C1801))),\"\")","v":0}]
[{"$f":"IFERROR(INDEX(اقساط!$AT$3:$AT$8532,SMALL(IF(اقساط!$G$3:$G$8532=B1802,ROW($AT$3:$AT$8532)-ROW($AT$3)+1),ROWS($A$3:A1802))),\"\")","v":0},null,{"$f":"IFERROR(INDEX(اقساط!$B$3:$B$8532,SMALL(IF(اقساط!$G$3:$G$8532=B1802,ROW($B$3:$B$8532)-ROW($B$3)+1),ROWS($C$3:C1802))),\"\")","v":0}]
[{"$f":"IFERROR(INDEX(اقساط!$AT$3:$AT$8532,SMALL(IF(اقساط!$G$3:$G$8532=B1803,ROW($AT$3:$AT$8532)-ROW($AT$3)+1),ROWS($A$3:A1803))),\"\")","v":0},null,{"$f":"IFERROR(INDEX(اقساط!$B$3:$B$8532,SMALL(IF(اقساط!$G$3:$G$8532=B1803,ROW($B$3:$B$8532)-ROW($B$3)+1),ROWS($C$3:C1803))),\"\")","v":0}]
[{"$f":"IFERROR(INDEX(اقساط!$AT$3:$AT$8532,SMALL(IF(اقساط!$G$3:$G$8532=B1804,ROW($AT$3:$AT$8532)-ROW($AT$3)+1),ROWS($A$3:A1804))),\"\")","v":0},null,{"$f":"IFERROR(INDEX(اقساط!$B$3:$B$8532,SMALL(IF(اقساط!$G$3:$G$8532=B1804,ROW($B$3:$B$8532)-ROW($B$3)+1),ROWS($C$3:C1804))),\"\")","v":0}]
[{"$f":"IFERROR(INDEX(اقساط!$AT$3:$AT$8532,SMALL(IF(اقساط!$G$3:$G$8532=B1805,ROW($AT$3:$AT$8532)-ROW($AT$3)+1),ROWS($A$3:A1805))),\"\")","v":0},null,{"$f":"IFERROR(INDEX(اقساط!$B$3:$B$8532,SMALL(IF(اقساط!$G$3:$G$8532=B1805,ROW($B$3:$B$8532)-ROW($B$3)+1),ROWS($C$3:C1805))),\"\")","v":0}]
[{"$f":"IFERROR(INDEX(اقساط!$AT$3:$AT$8532,SMALL(IF(اقساط!$G$3:$G$8532=B1806,ROW($AT$3:$AT$8532)-ROW($AT$3)+1),ROWS($A$3:A1806))),\"\")","v":0},null,{"$f":"IFERROR(INDEX(اقساط!$B$3:$B$8532,SMALL(IF(اقساط!$G$3:$G$8532=B1806,ROW($B$3:$B$8532)-ROW($B$3)+1),ROWS($C$3:C1806))),\"\")","v":0}]
[{"$f":"IFERROR(INDEX(اقساط!$AT$3:$AT$8532,SMALL(IF(اقساط!$G$3:$G$8532=B1807,ROW($AT$3:$AT$8532)-ROW($AT$3)+1),ROWS($A$3:A1807))),\"\")","v":0},null,{"$f":"IFERROR(INDEX(اقساط!$B$3:$B$8532,SMALL(IF(اقساط!$G$3:$G$8532=B1807,ROW($B$3:$B$8532)-ROW($B$3)+1),ROWS($C$3:C1807))),\"\")","v":0}]
[{"$f":"IFERROR(INDEX(اقساط!$AT$3:$AT$8532,SMALL(IF(اقساط!$G$3:$G$8532=B1808,ROW($AT$3:$AT$8532)-ROW($AT$3)+1),ROWS($A$3:A1808))),\"\")","v":0},null,{"$f":"IFERROR(INDEX(اقساط!$B$3:$B$8532,SMALL(IF(اقساط!$G$3:$G$8532=B1808,ROW($B$3:$B$8532)-ROW($B$3)+1),ROWS($C$3:C1808))),\"\")","v":0}]
[{"$f":"IFERROR(INDEX(اقساط!$AT$3:$AT$8532,SMALL(IF(اقساط!$G$3:$G$8532=B1809,ROW($AT$3:$AT$8532)-ROW($AT$3)+1),ROWS($A$3:A1809))),\"\")","v":0},null,{"$f":"IFERROR(INDEX(اقساط!$B$3:$B$8532,SMALL(IF(اقساط!$G$3:$G$8532=B1809,ROW($B$3:$B$8532)-ROW($B$3)+1),ROWS($C$3:C1809))),\"\")","v":0}]
[{"$f":"IFERROR(INDEX(اقساط!$AT$3:$AT$8532,SMALL(IF(اقساط!$G$3:$G$8532=B1810,ROW($AT$3:$AT$8532)-ROW($AT$3)+1),ROWS($A$3:A1810))),\"\")","v":0},null,{"$f":"IFERROR(INDEX(اقساط!$B$3:$B$8532,SMALL(IF(اقساط!$G$3:$G$8532=B1810,ROW($B$3:$B$8532)-ROW($B$3)+1),ROWS($C$3:C1810))),\"\")","v":0}]
[{"$f":"IFERROR(INDEX(اقساط!$AT$3:$AT$8532,SMALL(IF(اقساط!$G$3:$G$8532=B1811,ROW($AT$3:$AT$8532)-ROW($AT$3)+1),ROWS($A$3:A1811))),\"\")","v":0},null,{"$f":"IFERROR(INDEX(اقساط!$B$3:$B$8532,SMALL(IF(اقساط!$G$3:$G$8532=B1811,ROW($B$3:$B$8532)-ROW($B$3)+1),ROWS($C$3:C1811))),\"\")","v":0}]
[{"$f":"IFERROR(INDEX(اقساط!$AT$3:$AT$8532,SMALL(IF(اقساط!$G$3:$G$8532=B1812,ROW($AT$3:$AT$8532)-ROW($AT$3)+1),ROWS($A$3:A1812))),\"\")","v":0},null,{"$f":"IFERROR(INDEX(اقساط!$B$3:$B$8532,SMALL(IF(اقساط!$G$3:$G$8532=B1812,ROW($B$3:$B$8532)-ROW($B$3)+1),ROWS($C$3:C1812))),\"\")","v":0}]
[{"$f":"IFERROR(INDEX(اقساط!$AT$3:$AT$8532,SMALL(IF(اقساط!$G$3:$G$8532=B1813,ROW($AT$3:$AT$8532)-ROW($AT$3)+1),ROWS($A$3:A1813))),\"\")","v":0},null,{"$f":"IFERROR(INDEX(اقساط!$B$3:$B$8532,SMALL(IF(اقساط!$G$3:$G$8532=B1813,ROW($B$3:$B$8532)-ROW($B$3)+1),ROWS($C$3:C1813))),\"\")","v":0}]
[{"$f":"IFERROR(INDEX(اقساط!$AT$3:$AT$8532,SMALL(IF(اقساط!$G$3:$G$8532=B1814,ROW($AT$3:$AT$8532)-ROW($AT$3)+1),ROWS($A$3:A1814))),\"\")","v":0},null,{"$f":"IFERROR(INDEX(اقساط!$B$3:$B$8532,SMALL(IF(اقساط!$G$3:$G$8532=B1814,ROW($B$3:$B$8532)-ROW($B$3)+1),ROWS($C$3:C1814))),\"\")","v":0}]
[{"$f":"IFERROR(INDEX(اقساط!$AT$3:$AT$8532,SMALL(IF(اقساط!$G$3:$G$8532=B1815,ROW($AT$3:$AT$8532)-ROW($AT$3)+1),ROWS($A$3:A1815))),\"\")","v":0},null,{"$f":"IFERROR(INDEX(اقساط!$B$3:$B$8532,SMALL(IF(اقساط!$G$3:$G$8532=B1815,ROW($B$3:$B$8532)-ROW($B$3)+1),ROWS($C$3:C1815))),\"\")","v":0}]
[{"$f":"IFERROR(INDEX(اقساط!$AT$3:$AT$8532,SMALL(IF(اقساط!$G$3:$G$8532=B1816,ROW($AT$3:$AT$8532)-ROW($AT$3)+1),ROWS($A$3:A1816))),\"\")","v":0},null,{"$f":"IFERROR(INDEX(اقساط!$B$3:$B$8532,SMALL(IF(اقساط!$G$3:$G$8532=B1816,ROW($B$3:$B$8532)-ROW($B$3)+1),ROWS($C$3:C1816))),\"\")","v":0}]
[{"$f":"IFERROR(INDEX(اقساط!$AT$3:$AT$8532,SMALL(IF(اقساط!$G$3:$G$8532=B1817,ROW($AT$3:$AT$8532)-ROW($AT$3)+1),ROWS($A$3:A1817))),\"\")","v":0},null,{"$f":"IFERROR(INDEX(اقساط!$B$3:$B$8532,SMALL(IF(اقساط!$G$3:$G$8532=B1817,ROW($B$3:$B$8532)-ROW($B$3)+1),ROWS($C$3:C1817))),\"\")","v":0}]
[{"$f":"IFERROR(INDEX(اقساط!$AT$3:$AT$8532,SMALL(IF(اقساط!$G$3:$G$8532=B1818,ROW($AT$3:$AT$8532)-ROW($AT$3)+1),ROWS($A$3:A1818))),\"\")","v":0},null,{"$f":"IFERROR(INDEX(اقساط!$B$3:$B$8532,SMALL(IF(اقساط!$G$3:$G$8532=B1818,ROW($B$3:$B$8532)-ROW($B$3)+1),ROWS($C$3:C1818))),\"\")","v":0}]
[{"$f":"IFERROR(INDEX(اقساط!$AT$3:$AT$8532,SMALL(IF(اقساط!$G$3:$G$8532=B1819,ROW($AT$3:$AT$8532)-ROW($AT$3)+1),ROWS($A$3:A1819))),\"\")","v":0},null,{"$f":"IFERROR(INDEX(اقساط!$B$3:$B$8532,SMALL(IF(اقساط!$G$3:$G$8532=B1819,ROW($B$3:$B$8532)-ROW($B$3)+1),ROWS($C$3:C1819))),\"\")","v":0}]
[{"$f":"IFERROR(INDEX(اقساط!$AT$3:$AT$8532,SMALL(IF(اقساط!$G$3:$G$8532=B1820,ROW($AT$3:$AT$8532)-ROW($AT$3)+1),ROWS($A$3:A1820))),\"\")","v":0},null,{"$f":"IFERROR(INDEX(اقساط!$B$3:$B$8532,SMALL(IF(اقساط!$G$3:$G$8532=B1820,ROW($B$3:$B$8532)-ROW($B$3)+1),ROWS($C$3:C1820))),\"\")","v":0}]
[{"$f":"IFERROR(INDEX(اقساط!$AT$3:$AT$8532,SMALL(IF(اقساط!$G$3:$G$8532=B1821,ROW($AT$3:$AT$8532)-ROW($AT$3)+1),ROWS($A$3:A1821))),\"\")","v":0},null,{"$f":"IFERROR(INDEX(اقساط!$B$3:$B$8532,SMALL(IF(اقساط!$G$3:$G$8532=B1821,ROW($B$3:$B$8532)-ROW($B$3)+1),ROWS($C$3:C1821))),\"\")","v":0}]
[{"$f":"IFERROR(INDEX(اقساط!$AT$3:$AT$8532,SMALL(IF(اقساط!$G$3:$G$8532=B1822,ROW($AT$3:$AT$8532)-ROW($AT$3)+1),ROWS($A$3:A1822))),\"\")","v":0},null,{"$f":"IFERROR(INDEX(اقساط!$B$3:$B$8532,SMALL(IF(اقساط!$G$3:$G$8532=B1822,ROW($B$3:$B$8532)-ROW($B$3)+1),ROWS($C$3:C1822))),\"\")","v":0}]
[{"$f":"IFERROR(INDEX(اقساط!$AT$3:$AT$8532,SMALL(IF(اقساط!$G$3:$G$8532=B1823,ROW($AT$3:$AT$8532)-ROW($AT$3)+1),ROWS($A$3:A1823))),\"\")","v":0},null,{"$f":"IFERROR(INDEX(اقساط!$B$3:$B$8532,SMALL(IF(اقساط!$G$3:$G$8532=B1823,ROW($B$3:$B$8532)-ROW($B$3)+1),ROWS($C$3:C1823))),\"\")","v":0}]
[{"$f":"IFERROR(INDEX(اقساط!$AT$3:$AT$8532,SMALL(IF(اقساط!$G$3:$G$8532=B1824,ROW($AT$3:$AT$8532)-ROW($AT$3)+1),ROWS($A$3:A1824))),\"\")","v":0},null,{"$f":"IFERROR(INDEX(اقساط!$B$3:$B$8532,SMALL(IF(اقساط!$G$3:$G$8532=B1824,ROW($B$3:$B$8532)-ROW($B$3)+1),ROWS($C$3:C1824))),\"\")","v":0}]
[{"$f":"IFERROR(INDEX(اقساط!$AT$3:$AT$8532,SMALL(IF(اقساط!$G$3:$G$8532=B1825,ROW($AT$3:$AT$8532)-ROW($AT$3)+1),ROWS($A$3:A1825))),\"\")","v":0},null,{"$f":"IFERROR(INDEX(اقساط!$B$3:$B$8532,SMALL(IF(اقساط!$G$3:$G$8532=B1825,ROW($B$3:$B$8532)-ROW($B$3)+1),ROWS($C$3:C1825))),\"\")","v":0}]
[{"$f":"IFERROR(INDEX(اقساط!$AT$3:$AT$8532,SMALL(IF(اقساط!$G$3:$G$8532=B1826,ROW($AT$3:$AT$8532)-ROW($AT$3)+1),ROWS($A$3:A1826))),\"\")","v":0},null,{"$f":"IFERROR(INDEX(اقساط!$B$3:$B$8532,SMALL(IF(اقساط!$G$3:$G$8532=B1826,ROW($B$3:$B$8532)-ROW($B$3)+1),ROWS($C$3:C1826))),\"\")","v":0}]
[{"$f":"IFERROR(INDEX(اقساط!$AT$3:$AT$8532,SMALL(IF(اقساط!$G$3:$G$8532=B1827,ROW($AT$3:$AT$8532)-ROW($AT$3)+1),ROWS($A$3:A1827))),\"\")","v":0},null,{"$f":"IFERROR(INDEX(اقساط!$B$3:$B$8532,SMALL(IF(اقساط!$G$3:$G$8532=B1827,ROW($B$3:$B$8532)-ROW($B$3)+1),ROWS($C$3:C1827))),\"\")","v":0}]
[{"$f":"IFERROR(INDEX(اقساط!$AT$3:$AT$8532,SMALL(IF(اقساط!$G$3:$G$8532=B1828,ROW($AT$3:$AT$8532)-ROW($AT$3)+1),ROWS($A$3:A1828))),\"\")","v":0},null,{"$f":"IFERROR(INDEX(اقساط!$B$3:$B$8532,SMALL(IF(اقساط!$G$3:$G$8532=B1828,ROW($B$3:$B$8532)-ROW($B$3)+1),ROWS($C$3:C1828))),\"\")","v":0}]
[{"$f":"IFERROR(INDEX(اقساط!$AT$3:$AT$8532,SMALL(IF(اقساط!$G$3:$G$8532=B1829,ROW($AT$3:$AT$8532)-ROW($AT$3)+1),ROWS($A$3:A1829))),\"\")","v":0},null,{"$f":"IFERROR(INDEX(اقساط!$B$3:$B$8532,SMALL(IF(اقساط!$G$3:$G$8532=B1829,ROW($B$3:$B$8532)-ROW($B$3)+1),ROWS($C$3:C1829))),\"\")","v":0}]
[{"$f":"IFERROR(INDEX(اقساط!$AT$3:$AT$8532,SMALL(IF(اقساط!$G$3:$G$8532=B1830,ROW($AT$3:$AT$8532)-ROW($AT$3)+1),ROWS($A$3:A1830))),\"\")","v":0},null,{"$f":"IFERROR(INDEX(اقساط!$B$3:$B$8532,SMALL(IF(اقساط!$G$3:$G$8532=B1830,ROW($B$3:$B$8532)-ROW($B$3)+1),ROWS($C$3:C1830))),\"\")","v":0}]
[{"$f":"IFERROR(INDEX(اقساط!$AT$3:$AT$8532,SMALL(IF(اقساط!$G$3:$G$8532=B1831,ROW($AT$3:$AT$8532)-ROW($AT$3)+1),ROWS($A$3:A1831))),\"\")","v":0},null,{"$f":"IFERROR(INDEX(اقساط!$B$3:$B$8532,SMALL(IF(اقساط!$G$3:$G$8532=B1831,ROW($B$3:$B$8532)-ROW($B$3)+1),ROWS($C$3:C1831))),\"\")","v":0}]
[{"$f":"IFERROR(INDEX(اقساط!$AT$3:$AT$8532,SMALL(IF(اقساط!$G$3:$G$8532=B1832,ROW($AT$3:$AT$8532)-ROW($AT$3)+1),ROWS($A$3:A1832))),\"\")","v":0},null,{"$f":"IFERROR(INDEX(اقساط!$B$3:$B$8532,SMALL(IF(اقساط!$G$3:$G$8532=B1832,ROW($B$3:$B$8532)-ROW($B$3)+1),ROWS($C$3:C1832))),\"\")","v":0}]
[{"$f":"IFERROR(INDEX(اقساط!$AT$3:$AT$8532,SMALL(IF(اقساط!$G$3:$G$8532=B1833,ROW($AT$3:$AT$8532)-ROW($AT$3)+1),ROWS($A$3:A1833))),\"\")","v":0},null,{"$f":"IFERROR(INDEX(اقساط!$B$3:$B$8532,SMALL(IF(اقساط!$G$3:$G$8532=B1833,ROW($B$3:$B$8532)-ROW($B$3)+1),ROWS($C$3:C1833))),\"\")","v":0}]
[{"$f":"IFERROR(INDEX(اقساط!$AT$3:$AT$8532,SMALL(IF(اقساط!$G$3:$G$8532=B1834,ROW($AT$3:$AT$8532)-ROW($AT$3)+1),ROWS($A$3:A1834))),\"\")","v":0},null,{"$f":"IFERROR(INDEX(اقساط!$B$3:$B$8532,SMALL(IF(اقساط!$G$3:$G$8532=B1834,ROW($B$3:$B$8532)-ROW($B$3)+1),ROWS($C$3:C1834))),\"\")","v":0}]
[{"$f":"IFERROR(INDEX(اقساط!$AT$3:$AT$8532,SMALL(IF(اقساط!$G$3:$G$8532=B1835,ROW($AT$3:$AT$8532)-ROW($AT$3)+1),ROWS($A$3:A1835))),\"\")","v":0},null,{"$f":"IFERROR(INDEX(اقساط!$B$3:$B$8532,SMALL(IF(اقساط!$G$3:$G$8532=B1835,ROW($B$3:$B$8532)-ROW($B$3)+1),ROWS($C$3:C1835))),\"\")","v":0}]
[{"$f":"IFERROR(INDEX(اقساط!$AT$3:$AT$8532,SMALL(IF(اقساط!$G$3:$G$8532=B1836,ROW($AT$3:$AT$8532)-ROW($AT$3)+1),ROWS($A$3:A1836))),\"\")","v":0},null,{"$f":"IFERROR(INDEX(اقساط!$B$3:$B$8532,SMALL(IF(اقساط!$G$3:$G$8532=B1836,ROW($B$3:$B$8532)-ROW($B$3)+1),ROWS($C$3:C1836))),\"\")","v":0}]
[{"$f":"IFERROR(INDEX(اقساط!$AT$3:$AT$8532,SMALL(IF(اقساط!$G$3:$G$8532=B1837,ROW($AT$3:$AT$8532)-ROW($AT$3)+1),ROWS($A$3:A1837))),\"\")","v":0},null,{"$f":"IFERROR(INDEX(اقساط!$B$3:$B$8532,SMALL(IF(اقساط!$G$3:$G$8532=B1837,ROW($B$3:$B$8532)-ROW($B$3)+1),ROWS($C$3:C1837))),\"\")","v":0}]
[{"$f":"IFERROR(INDEX(اقساط!$AT$3:$AT$8532,SMALL(IF(اقساط!$G$3:$G$8532=B1838,ROW($AT$3:$AT$8532)-ROW($AT$3)+1),ROWS($A$3:A1838))),\"\")","v":0},null,{"$f":"IFERROR(INDEX(اقساط!$B$3:$B$8532,SMALL(IF(اقساط!$G$3:$G$8532=B1838,ROW($B$3:$B$8532)-ROW($B$3)+1),ROWS($C$3:C1838))),\"\")","v":0}]
[{"$f":"IFERROR(INDEX(اقساط!$AT$3:$AT$8532,SMALL(IF(اقساط!$G$3:$G$8532=B1839,ROW($AT$3:$AT$8532)-ROW($AT$3)+1),ROWS($A$3:A1839))),\"\")","v":0},null,{"$f":"IFERROR(INDEX(اقساط!$B$3:$B$8532,SMALL(IF(اقساط!$G$3:$G$8532=B1839,ROW($B$3:$B$8532)-ROW($B$3)+1),ROWS($C$3:C1839))),\"\")","v":0}]
[{"$f":"IFERROR(INDEX(اقساط!$AT$3:$AT$8532,SMALL(IF(اقساط!$G$3:$G$8532=B1840,ROW($AT$3:$AT$8532)-ROW($AT$3)+1),ROWS($A$3:A1840))),\"\")","v":0},null,{"$f":"IFERROR(INDEX(اقساط!$B$3:$B$8532,SMALL(IF(اقساط!$G$3:$G$8532=B1840,ROW($B$3:$B$8532)-ROW($B$3)+1),ROWS($C$3:C1840))),\"\")","v":0}]
[{"$f":"IFERROR(INDEX(اقساط!$AT$3:$AT$8532,SMALL(IF(اقساط!$G$3:$G$8532=B1841,ROW($AT$3:$AT$8532)-ROW($AT$3)+1),ROWS($A$3:A1841))),\"\")","v":0},null,{"$f":"IFERROR(INDEX(اقساط!$B$3:$B$8532,SMALL(IF(اقساط!$G$3:$G$8532=B1841,ROW($B$3:$B$8532)-ROW($B$3)+1),ROWS($C$3:C1841))),\"\")","v":0}]
[{"$f":"IFERROR(INDEX(اقساط!$AT$3:$AT$8532,SMALL(IF(اقساط!$G$3:$G$8532=B1842,ROW($AT$3:$AT$8532)-ROW($AT$3)+1),ROWS($A$3:A1842))),\"\")","v":0},null,{"$f":"IFERROR(INDEX(اقساط!$B$3:$B$8532,SMALL(IF(اقساط!$G$3:$G$8532=B1842,ROW($B$3:$B$8532)-ROW($B$3)+1),ROWS($C$3:C1842))),\"\")","v":0}]
[{"$f":"IFERROR(INDEX(اقساط!$AT$3:$AT$8532,SMALL(IF(اقساط!$G$3:$G$8532=B1843,ROW($AT$3:$AT$8532)-ROW($AT$3)+1),ROWS($A$3:A1843))),\"\")","v":0},null,{"$f":"IFERROR(INDEX(اقساط!$B$3:$B$8532,SMALL(IF(اقساط!$G$3:$G$8532=B1843,ROW($B$3:$B$8532)-ROW($B$3)+1),ROWS($C$3:C1843))),\"\")","v":0}]
[{"$f":"IFERROR(INDEX(اقساط!$AT$3:$AT$8532,SMALL(IF(اقساط!$G$3:$G$8532=B1844,ROW($AT$3:$AT$8532)-ROW($AT$3)+1),ROWS($A$3:A1844))),\"\")","v":0},null,{"$f":"IFERROR(INDEX(اقساط!$B$3:$B$8532,SMALL(IF(اقساط!$G$3:$G$8532=B1844,ROW($B$3:$B$8532)-ROW($B$3)+1),ROWS($C$3:C1844))),\"\")","v":0}]
[{"$f":"IFERROR(INDEX(اقساط!$AT$3:$AT$8532,SMALL(IF(اقساط!$G$3:$G$8532=B1845,ROW($AT$3:$AT$8532)-ROW($AT$3)+1),ROWS($A$3:A1845))),\"\")","v":0},null,{"$f":"IFERROR(INDEX(اقساط!$B$3:$B$8532,SMALL(IF(اقساط!$G$3:$G$8532=B1845,ROW($B$3:$B$8532)-ROW($B$3)+1),ROWS($C$3:C1845))),\"\")","v":0}]
[{"$f":"IFERROR(INDEX(اقساط!$AT$3:$AT$8532,SMALL(IF(اقساط!$G$3:$G$8532=B1846,ROW($AT$3:$AT$8532)-ROW($AT$3)+1),ROWS($A$3:A1846))),\"\")","v":0},null,{"$f":"IFERROR(INDEX(اقساط!$B$3:$B$8532,SMALL(IF(اقساط!$G$3:$G$8532=B1846,ROW($B$3:$B$8532)-ROW($B$3)+1),ROWS($C$3:C1846))),\"\")","v":0}]
[{"$f":"IFERROR(INDEX(اقساط!$AT$3:$AT$8532,SMALL(IF(اقساط!$G$3:$G$8532=B1847,ROW($AT$3:$AT$8532)-ROW($AT$3)+1),ROWS($A$3:A1847))),\"\")","v":0},null,{"$f":"IFERROR(INDEX(اقساط!$B$3:$B$8532,SMALL(IF(اقساط!$G$3:$G$8532=B1847,ROW($B$3:$B$8532)-ROW($B$3)+1),ROWS($C$3:C1847))),\"\")","v":0}]
[{"$f":"IFERROR(INDEX(اقساط!$AT$3:$AT$8532,SMALL(IF(اقساط!$G$3:$G$8532=B1848,ROW($AT$3:$AT$8532)-ROW($AT$3)+1),ROWS($A$3:A1848))),\"\")","v":0},null,{"$f":"IFERROR(INDEX(اقساط!$B$3:$B$8532,SMALL(IF(اقساط!$G$3:$G$8532=B1848,ROW($B$3:$B$8532)-ROW($B$3)+1),ROWS($C$3:C1848))),\"\")","v":0}]
[{"$f":"IFERROR(INDEX(اقساط!$AT$3:$AT$8532,SMALL(IF(اقساط!$G$3:$G$8532=B1849,ROW($AT$3:$AT$8532)-ROW($AT$3)+1),ROWS($A$3:A1849))),\"\")","v":0},null,{"$f":"IFERROR(INDEX(اقساط!$B$3:$B$8532,SMALL(IF(اقساط!$G$3:$G$8532=B1849,ROW($B$3:$B$8532)-ROW($B$3)+1),ROWS($C$3:C1849))),\"\")","v":0}]
[{"$f":"IFERROR(INDEX(اقساط!$AT$3:$AT$8532,SMALL(IF(اقساط!$G$3:$G$8532=B1850,ROW($AT$3:$AT$8532)-ROW($AT$3)+1),ROWS($A$3:A1850))),\"\")","v":0},null,{"$f":"IFERROR(INDEX(اقساط!$B$3:$B$8532,SMALL(IF(اقساط!$G$3:$G$8532=B1850,ROW($B$3:$B$8532)-ROW($B$3)+1),ROWS($C$3:C1850))),\"\")","v":0}]
[{"$f":"IFERROR(INDEX(اقساط!$AT$3:$AT$8532,SMALL(IF(اقساط!$G$3:$G$8532=B1851,ROW($AT$3:$AT$8532)-ROW($AT$3)+1),ROWS($A$3:A1851))),\"\")","v":0},null,{"$f":"IFERROR(INDEX(اقساط!$B$3:$B$8532,SMALL(IF(اقساط!$G$3:$G$8532=B1851,ROW($B$3:$B$8532)-ROW($B$3)+1),ROWS($C$3:C1851))),\"\")","v":0}]
[{"$f":"IFERROR(INDEX(اقساط!$AT$3:$AT$8532,SMALL(IF(اقساط!$G$3:$G$8532=B1852,ROW($AT$3:$AT$8532)-ROW($AT$3)+1),ROWS($A$3:A1852))),\"\")","v":0},null,{"$f":"IFERROR(INDEX(اقساط!$B$3:$B$8532,SMALL(IF(اقساط!$G$3:$G$8532=B1852,ROW($B$3:$B$8532)-ROW($B$3)+1),ROWS($C$3:C1852))),\"\")","v":0}]
[{"$f":"IFERROR(INDEX(اقساط!$AT$3:$AT$8532,SMALL(IF(اقساط!$G$3:$G$8532=B1853,ROW($AT$3:$AT$8532)-ROW($AT$3)+1),ROWS($A$3:A1853))),\"\")","v":0},null,{"$f":"IFERROR(INDEX(اقساط!$B$3:$B$8532,SMALL(IF(اقساط!$G$3:$G$8532=B1853,ROW($B$3:$B$8532)-ROW($B$3)+1),ROWS($C$3:C1853))),\"\")","v":0}]
[{"$f":"IFERROR(INDEX(اقساط!$AT$3:$AT$8532,SMALL(IF(اقساط!$G$3:$G$8532=B1854,ROW($AT$3:$AT$8532)-ROW($AT$3)+1),ROWS($A$3:A1854))),\"\")","v":0},null,{"$f":"IFERROR(INDEX(اقساط!$B$3:$B$8532,SMALL(IF(اقساط!$G$3:$G$8532=B1854,ROW($B$3:$B$8532)-ROW($B$3)+1),ROWS($C$3:C1854))),\"\")","v":0}]
[{"$f":"IFERROR(INDEX(اقساط!$AT$3:$AT$8532,SMALL(IF(اقساط!$G$3:$G$8532=B1855,ROW($AT$3:$AT$8532)-ROW($AT$3)+1),ROWS($A$3:A1855))),\"\")","v":0},null,{"$f":"IFERROR(INDEX(اقساط!$B$3:$B$8532,SMALL(IF(اقساط!$G$3:$G$8532=B1855,ROW($B$3:$B$8532)-ROW($B$3)+1),ROWS($C$3:C1855))),\"\")","v":0}]
[{"$f":"IFERROR(INDEX(اقساط!$AT$3:$AT$8532,SMALL(IF(اقساط!$G$3:$G$8532=B1856,ROW($AT$3:$AT$8532)-ROW($AT$3)+1),ROWS($A$3:A1856))),\"\")","v":0},null,{"$f":"IFERROR(INDEX(اقساط!$B$3:$B$8532,SMALL(IF(اقساط!$G$3:$G$8532=B1856,ROW($B$3:$B$8532)-ROW($B$3)+1),ROWS($C$3:C1856))),\"\")","v":0}]
[{"$f":"IFERROR(INDEX(اقساط!$AT$3:$AT$8532,SMALL(IF(اقساط!$G$3:$G$8532=B1857,ROW($AT$3:$AT$8532)-ROW($AT$3)+1),ROWS($A$3:A1857))),\"\")","v":0},null,{"$f":"IFERROR(INDEX(اقساط!$B$3:$B$8532,SMALL(IF(اقساط!$G$3:$G$8532=B1857,ROW($B$3:$B$8532)-ROW($B$3)+1),ROWS($C$3:C1857))),\"\")","v":0}]
[{"$f":"IFERROR(INDEX(اقساط!$AT$3:$AT$8532,SMALL(IF(اقساط!$G$3:$G$8532=B1858,ROW($AT$3:$AT$8532)-ROW($AT$3)+1),ROWS($A$3:A1858))),\"\")","v":0},null,{"$f":"IFERROR(INDEX(اقساط!$B$3:$B$8532,SMALL(IF(اقساط!$G$3:$G$8532=B1858,ROW($B$3:$B$8532)-ROW($B$3)+1),ROWS($C$3:C1858))),\"\")","v":0}]
[{"$f":"IFERROR(INDEX(اقساط!$AT$3:$AT$8532,SMALL(IF(اقساط!$G$3:$G$8532=B1859,ROW($AT$3:$AT$8532)-ROW($AT$3)+1),ROWS($A$3:A1859))),\"\")","v":0},null,{"$f":"IFERROR(INDEX(اقساط!$B$3:$B$8532,SMALL(IF(اقساط!$G$3:$G$8532=B1859,ROW($B$3:$B$8532)-ROW($B$3)+1),ROWS($C$3:C1859))),\"\")","v":0}]
[{"$f":"IFERROR(INDEX(اقساط!$AT$3:$AT$8532,SMALL(IF(اقساط!$G$3:$G$8532=B1860,ROW($AT$3:$AT$8532)-ROW($AT$3)+1),ROWS($A$3:A1860))),\"\")","v":0},null,{"$f":"IFERROR(INDEX(اقساط!$B$3:$B$8532,SMALL(IF(اقساط!$G$3:$G$8532=B1860,ROW($B$3:$B$8532)-ROW($B$3)+1),ROWS($C$3:C1860))),\"\")","v":0}]
[{"$f":"IFERROR(INDEX(اقساط!$AT$3:$AT$8532,SMALL(IF(اقساط!$G$3:$G$8532=B1861,ROW($AT$3:$AT$8532)-ROW($AT$3)+1),ROWS($A$3:A1861))),\"\")","v":0},null,{"$f":"IFERROR(INDEX(اقساط!$B$3:$B$8532,SMALL(IF(اقساط!$G$3:$G$8532=B1861,ROW($B$3:$B$8532)-ROW($B$3)+1),ROWS($C$3:C1861))),\"\")","v":0}]
[{"$f":"IFERROR(INDEX(اقساط!$AT$3:$AT$8532,SMALL(IF(اقساط!$G$3:$G$8532=B1862,ROW($AT$3:$AT$8532)-ROW($AT$3)+1),ROWS($A$3:A1862))),\"\")","v":0},null,{"$f":"IFERROR(INDEX(اقساط!$B$3:$B$8532,SMALL(IF(اقساط!$G$3:$G$8532=B1862,ROW($B$3:$B$8532)-ROW($B$3)+1),ROWS($C$3:C1862))),\"\")","v":0}]
[{"$f":"IFERROR(INDEX(اقساط!$AT$3:$AT$8532,SMALL(IF(اقساط!$G$3:$G$8532=B1863,ROW($AT$3:$AT$8532)-ROW($AT$3)+1),ROWS($A$3:A1863))),\"\")","v":0},null,{"$f":"IFERROR(INDEX(اقساط!$B$3:$B$8532,SMALL(IF(اقساط!$G$3:$G$8532=B1863,ROW($B$3:$B$8532)-ROW($B$3)+1),ROWS($C$3:C1863))),\"\")","v":0}]
[{"$f":"IFERROR(INDEX(اقساط!$AT$3:$AT$8532,SMALL(IF(اقساط!$G$3:$G$8532=B1864,ROW($AT$3:$AT$8532)-ROW($AT$3)+1),ROWS($A$3:A1864))),\"\")","v":0},null,{"$f":"IFERROR(INDEX(اقساط!$B$3:$B$8532,SMALL(IF(اقساط!$G$3:$G$8532=B1864,ROW($B$3:$B$8532)-ROW($B$3)+1),ROWS($C$3:C1864))),\"\")","v":0}]
[{"$f":"IFERROR(INDEX(اقساط!$AT$3:$AT$8532,SMALL(IF(اقساط!$G$3:$G$8532=B1865,ROW($AT$3:$AT$8532)-ROW($AT$3)+1),ROWS($A$3:A1865))),\"\")","v":0},null,{"$f":"IFERROR(INDEX(اقساط!$B$3:$B$8532,SMALL(IF(اقساط!$G$3:$G$8532=B1865,ROW($B$3:$B$8532)-ROW($B$3)+1),ROWS($C$3:C1865))),\"\")","v":0}]
[{"$f":"IFERROR(INDEX(اقساط!$AT$3:$AT$8532,SMALL(IF(اقساط!$G$3:$G$8532=B1866,ROW($AT$3:$AT$8532)-ROW($AT$3)+1),ROWS($A$3:A1866))),\"\")","v":0},null,{"$f":"IFERROR(INDEX(اقساط!$B$3:$B$8532,SMALL(IF(اقساط!$G$3:$G$8532=B1866,ROW($B$3:$B$8532)-ROW($B$3)+1),ROWS($C$3:C1866))),\"\")","v":0}]
[{"$f":"IFERROR(INDEX(اقساط!$AT$3:$AT$8532,SMALL(IF(اقساط!$G$3:$G$8532=B1867,ROW($AT$3:$AT$8532)-ROW($AT$3)+1),ROWS($A$3:A1867))),\"\")","v":0},null,{"$f":"IFERROR(INDEX(اقساط!$B$3:$B$8532,SMALL(IF(اقساط!$G$3:$G$8532=B1867,ROW($B$3:$B$8532)-ROW($B$3)+1),ROWS($C$3:C1867))),\"\")","v":0}]
[{"$f":"IFERROR(INDEX(اقساط!$AT$3:$AT$8532,SMALL(IF(اقساط!$G$3:$G$8532=B1868,ROW($AT$3:$AT$8532)-ROW($AT$3)+1),ROWS($A$3:A1868))),\"\")","v":0},null,{"$f":"IFERROR(INDEX(اقساط!$B$3:$B$8532,SMALL(IF(اقساط!$G$3:$G$8532=B1868,ROW($B$3:$B$8532)-ROW($B$3)+1),ROWS($C$3:C1868))),\"\")","v":0}]
[{"$f":"IFERROR(INDEX(اقساط!$AT$3:$AT$8532,SMALL(IF(اقساط!$G$3:$G$8532=B1869,ROW($AT$3:$AT$8532)-ROW($AT$3)+1),ROWS($A$3:A1869))),\"\")","v":0},null,{"$f":"IFERROR(INDEX(اقساط!$B$3:$B$8532,SMALL(IF(اقساط!$G$3:$G$8532=B1869,ROW($B$3:$B$8532)-ROW($B$3)+1),ROWS($C$3:C1869))),\"\")","v":0}]
[{"$f":"IFERROR(INDEX(اقساط!$AT$3:$AT$8532,SMALL(IF(اقساط!$G$3:$G$8532=B1870,ROW($AT$3:$AT$8532)-ROW($AT$3)+1),ROWS($A$3:A1870))),\"\")","v":0},null,{"$f":"IFERROR(INDEX(اقساط!$B$3:$B$8532,SMALL(IF(اقساط!$G$3:$G$8532=B1870,ROW($B$3:$B$8532)-ROW($B$3)+1),ROWS($C$3:C1870))),\"\")","v":0}]
[{"$f":"IFERROR(INDEX(اقساط!$AT$3:$AT$8532,SMALL(IF(اقساط!$G$3:$G$8532=B1871,ROW($AT$3:$AT$8532)-ROW($AT$3)+1),ROWS($A$3:A1871))),\"\")","v":0},null,{"$f":"IFERROR(INDEX(اقساط!$B$3:$B$8532,SMALL(IF(اقساط!$G$3:$G$8532=B1871,ROW($B$3:$B$8532)-ROW($B$3)+1),ROWS($C$3:C1871))),\"\")","v":0}]
[{"$f":"IFERROR(INDEX(اقساط!$AT$3:$AT$8532,SMALL(IF(اقساط!$G$3:$G$8532=B1872,ROW($AT$3:$AT$8532)-ROW($AT$3)+1),ROWS($A$3:A1872))),\"\")","v":0},null,{"$f":"IFERROR(INDEX(اقساط!$B$3:$B$8532,SMALL(IF(اقساط!$G$3:$G$8532=B1872,ROW($B$3:$B$8532)-ROW($B$3)+1),ROWS($C$3:C1872))),\"\")","v":0}]
[{"$f":"IFERROR(INDEX(اقساط!$AT$3:$AT$8532,SMALL(IF(اقساط!$G$3:$G$8532=B1873,ROW($AT$3:$AT$8532)-ROW($AT$3)+1),ROWS($A$3:A1873))),\"\")","v":0},null,{"$f":"IFERROR(INDEX(اقساط!$B$3:$B$8532,SMALL(IF(اقساط!$G$3:$G$8532=B1873,ROW($B$3:$B$8532)-ROW($B$3)+1),ROWS($C$3:C1873))),\"\")","v":0}]
[{"$f":"IFERROR(INDEX(اقساط!$AT$3:$AT$8532,SMALL(IF(اقساط!$G$3:$G$8532=B1874,ROW($AT$3:$AT$8532)-ROW($AT$3)+1),ROWS($A$3:A1874))),\"\")","v":0},null,{"$f":"IFERROR(INDEX(اقساط!$B$3:$B$8532,SMALL(IF(اقساط!$G$3:$G$8532=B1874,ROW($B$3:$B$8532)-ROW($B$3)+1),ROWS($C$3:C1874))),\"\")","v":0}]
[{"$f":"IFERROR(INDEX(اقساط!$AT$3:$AT$8532,SMALL(IF(اقساط!$G$3:$G$8532=B1875,ROW($AT$3:$AT$8532)-ROW($AT$3)+1),ROWS($A$3:A1875))),\"\")","v":0},null,{"$f":"IFERROR(INDEX(اقساط!$B$3:$B$8532,SMALL(IF(اقساط!$G$3:$G$8532=B1875,ROW($B$3:$B$8532)-ROW($B$3)+1),ROWS($C$3:C1875))),\"\")","v":0}]
[{"$f":"IFERROR(INDEX(اقساط!$AT$3:$AT$8532,SMALL(IF(اقساط!$G$3:$G$8532=B1876,ROW($AT$3:$AT$8532)-ROW($AT$3)+1),ROWS($A$3:A1876))),\"\")","v":0},null,{"$f":"IFERROR(INDEX(اقساط!$B$3:$B$8532,SMALL(IF(اقساط!$G$3:$G$8532=B1876,ROW($B$3:$B$8532)-ROW($B$3)+1),ROWS($C$3:C1876))),\"\")","v":0}]
[{"$f":"IFERROR(INDEX(اقساط!$AT$3:$AT$8532,SMALL(IF(اقساط!$G$3:$G$8532=B1877,ROW($AT$3:$AT$8532)-ROW($AT$3)+1),ROWS($A$3:A1877))),\"\")","v":0},null,{"$f":"IFERROR(INDEX(اقساط!$B$3:$B$8532,SMALL(IF(اقساط!$G$3:$G$8532=B1877,ROW($B$3:$B$8532)-ROW($B$3)+1),ROWS($C$3:C1877))),\"\")","v":0}]
[{"$f":"IFERROR(INDEX(اقساط!$AT$3:$AT$8532,SMALL(IF(اقساط!$G$3:$G$8532=B1878,ROW($AT$3:$AT$8532)-ROW($AT$3)+1),ROWS($A$3:A1878))),\"\")","v":0},null,{"$f":"IFERROR(INDEX(اقساط!$B$3:$B$8532,SMALL(IF(اقساط!$G$3:$G$8532=B1878,ROW($B$3:$B$8532)-ROW($B$3)+1),ROWS($C$3:C1878))),\"\")","v":0}]
[{"$f":"IFERROR(INDEX(اقساط!$AT$3:$AT$8532,SMALL(IF(اقساط!$G$3:$G$8532=B1879,ROW($AT$3:$AT$8532)-ROW($AT$3)+1),ROWS($A$3:A1879))),\"\")","v":0},null,{"$f":"IFERROR(INDEX(اقساط!$B$3:$B$8532,SMALL(IF(اقساط!$G$3:$G$8532=B1879,ROW($B$3:$B$8532)-ROW($B$3)+1),ROWS($C$3:C1879))),\"\")","v":0}]
[{"$f":"IFERROR(INDEX(اقساط!$AT$3:$AT$8532,SMALL(IF(اقساط!$G$3:$G$8532=B1880,ROW($AT$3:$AT$8532)-ROW($AT$3)+1),ROWS($A$3:A1880))),\"\")","v":0},null,{"$f":"IFERROR(INDEX(اقساط!$B$3:$B$8532,SMALL(IF(اقساط!$G$3:$G$8532=B1880,ROW($B$3:$B$8532)-ROW($B$3)+1),ROWS($C$3:C1880))),\"\")","v":0}]
[{"$f":"IFERROR(INDEX(اقساط!$AT$3:$AT$8532,SMALL(IF(اقساط!$G$3:$G$8532=B1881,ROW($AT$3:$AT$8532)-ROW($AT$3)+1),ROWS($A$3:A1881))),\"\")","v":0},null,{"$f":"IFERROR(INDEX(اقساط!$B$3:$B$8532,SMALL(IF(اقساط!$G$3:$G$8532=B1881,ROW($B$3:$B$8532)-ROW($B$3)+1),ROWS($C$3:C1881))),\"\")","v":0}]
[{"$f":"IFERROR(INDEX(اقساط!$AT$3:$AT$8532,SMALL(IF(اقساط!$G$3:$G$8532=B1882,ROW($AT$3:$AT$8532)-ROW($AT$3)+1),ROWS($A$3:A1882))),\"\")","v":0},null,{"$f":"IFERROR(INDEX(اقساط!$B$3:$B$8532,SMALL(IF(اقساط!$G$3:$G$8532=B1882,ROW($B$3:$B$8532)-ROW($B$3)+1),ROWS($C$3:C1882))),\"\")","v":0}]
[{"$f":"IFERROR(INDEX(اقساط!$AT$3:$AT$8532,SMALL(IF(اقساط!$G$3:$G$8532=B1883,ROW($AT$3:$AT$8532)-ROW($AT$3)+1),ROWS($A$3:A1883))),\"\")","v":0},null,{"$f":"IFERROR(INDEX(اقساط!$B$3:$B$8532,SMALL(IF(اقساط!$G$3:$G$8532=B1883,ROW($B$3:$B$8532)-ROW($B$3)+1),ROWS($C$3:C1883))),\"\")","v":0}]
[{"$f":"IFERROR(INDEX(اقساط!$AT$3:$AT$8532,SMALL(IF(اقساط!$G$3:$G$8532=B1884,ROW($AT$3:$AT$8532)-ROW($AT$3)+1),ROWS($A$3:A1884))),\"\")","v":0},null,{"$f":"IFERROR(INDEX(اقساط!$B$3:$B$8532,SMALL(IF(اقساط!$G$3:$G$8532=B1884,ROW($B$3:$B$8532)-ROW($B$3)+1),ROWS($C$3:C1884))),\"\")","v":0}]
[{"$f":"IFERROR(INDEX(اقساط!$AT$3:$AT$8532,SMALL(IF(اقساط!$G$3:$G$8532=B1885,ROW($AT$3:$AT$8532)-ROW($AT$3)+1),ROWS($A$3:A1885))),\"\")","v":0},null,{"$f":"IFERROR(INDEX(اقساط!$B$3:$B$8532,SMALL(IF(اقساط!$G$3:$G$8532=B1885,ROW($B$3:$B$8532)-ROW($B$3)+1),ROWS($C$3:C1885))),\"\")","v":0}]
[{"$f":"IFERROR(INDEX(اقساط!$AT$3:$AT$8532,SMALL(IF(اقساط!$G$3:$G$8532=B1886,ROW($AT$3:$AT$8532)-ROW($AT$3)+1),ROWS($A$3:A1886))),\"\")","v":0},null,{"$f":"IFERROR(INDEX(اقساط!$B$3:$B$8532,SMALL(IF(اقساط!$G$3:$G$8532=B1886,ROW($B$3:$B$8532)-ROW($B$3)+1),ROWS($C$3:C1886))),\"\")","v":0}]
[{"$f":"IFERROR(INDEX(اقساط!$AT$3:$AT$8532,SMALL(IF(اقساط!$G$3:$G$8532=B1887,ROW($AT$3:$AT$8532)-ROW($AT$3)+1),ROWS($A$3:A1887))),\"\")","v":0},null,{"$f":"IFERROR(INDEX(اقساط!$B$3:$B$8532,SMALL(IF(اقساط!$G$3:$G$8532=B1887,ROW($B$3:$B$8532)-ROW($B$3)+1),ROWS($C$3:C1887))),\"\")","v":0}]
[{"$f":"IFERROR(INDEX(اقساط!$AT$3:$AT$8532,SMALL(IF(اقساط!$G$3:$G$8532=B1888,ROW($AT$3:$AT$8532)-ROW($AT$3)+1),ROWS($A$3:A1888))),\"\")","v":0},null,{"$f":"IFERROR(INDEX(اقساط!$B$3:$B$8532,SMALL(IF(اقساط!$G$3:$G$8532=B1888,ROW($B$3:$B$8532)-ROW($B$3)+1),ROWS($C$3:C1888))),\"\")","v":0}]
[{"$f":"IFERROR(INDEX(اقساط!$AT$3:$AT$8532,SMALL(IF(اقساط!$G$3:$G$8532=B1889,ROW($AT$3:$AT$8532)-ROW($AT$3)+1),ROWS($A$3:A1889))),\"\")","v":0},null,{"$f":"IFERROR(INDEX(اقساط!$B$3:$B$8532,SMALL(IF(اقساط!$G$3:$G$8532=B1889,ROW($B$3:$B$8532)-ROW($B$3)+1),ROWS($C$3:C1889))),\"\")","v":0}]
[{"$f":"IFERROR(INDEX(اقساط!$AT$3:$AT$8532,SMALL(IF(اقساط!$G$3:$G$8532=B1890,ROW($AT$3:$AT$8532)-ROW($AT$3)+1),ROWS($A$3:A1890))),\"\")","v":0},null,{"$f":"IFERROR(INDEX(اقساط!$B$3:$B$8532,SMALL(IF(اقساط!$G$3:$G$8532=B1890,ROW($B$3:$B$8532)-ROW($B$3)+1),ROWS($C$3:C1890))),\"\")","v":0}]
[{"$f":"IFERROR(INDEX(اقساط!$AT$3:$AT$8532,SMALL(IF(اقساط!$G$3:$G$8532=B1891,ROW($AT$3:$AT$8532)-ROW($AT$3)+1),ROWS($A$3:A1891))),\"\")","v":0},null,{"$f":"IFERROR(INDEX(اقساط!$B$3:$B$8532,SMALL(IF(اقساط!$G$3:$G$8532=B1891,ROW($B$3:$B$8532)-ROW($B$3)+1),ROWS($C$3:C1891))),\"\")","v":0}]
[{"$f":"IFERROR(INDEX(اقساط!$AT$3:$AT$8532,SMALL(IF(اقساط!$G$3:$G$8532=B1892,ROW($AT$3:$AT$8532)-ROW($AT$3)+1),ROWS($A$3:A1892))),\"\")","v":0},null,{"$f":"IFERROR(INDEX(اقساط!$B$3:$B$8532,SMALL(IF(اقساط!$G$3:$G$8532=B1892,ROW($B$3:$B$8532)-ROW($B$3)+1),ROWS($C$3:C1892))),\"\")","v":0}]
[{"$f":"IFERROR(INDEX(اقساط!$AT$3:$AT$8532,SMALL(IF(اقساط!$G$3:$G$8532=B1893,ROW($AT$3:$AT$8532)-ROW($AT$3)+1),ROWS($A$3:A1893))),\"\")","v":0},null,{"$f":"IFERROR(INDEX(اقساط!$B$3:$B$8532,SMALL(IF(اقساط!$G$3:$G$8532=B1893,ROW($B$3:$B$8532)-ROW($B$3)+1),ROWS($C$3:C1893))),\"\")","v":0}]
[{"$f":"IFERROR(INDEX(اقساط!$AT$3:$AT$8532,SMALL(IF(اقساط!$G$3:$G$8532=B1894,ROW($AT$3:$AT$8532)-ROW($AT$3)+1),ROWS($A$3:A1894))),\"\")","v":0},null,{"$f":"IFERROR(INDEX(اقساط!$B$3:$B$8532,SMALL(IF(اقساط!$G$3:$G$8532=B1894,ROW($B$3:$B$8532)-ROW($B$3)+1),ROWS($C$3:C1894))),\"\")","v":0}]
[{"$f":"IFERROR(INDEX(اقساط!$AT$3:$AT$8532,SMALL(IF(اقساط!$G$3:$G$8532=B1895,ROW($AT$3:$AT$8532)-ROW($AT$3)+1),ROWS($A$3:A1895))),\"\")","v":0},null,{"$f":"IFERROR(INDEX(اقساط!$B$3:$B$8532,SMALL(IF(اقساط!$G$3:$G$8532=B1895,ROW($B$3:$B$8532)-ROW($B$3)+1),ROWS($C$3:C1895))),\"\")","v":0}]
[{"$f":"IFERROR(INDEX(اقساط!$AT$3:$AT$8532,SMALL(IF(اقساط!$G$3:$G$8532=B1896,ROW($AT$3:$AT$8532)-ROW($AT$3)+1),ROWS($A$3:A1896))),\"\")","v":0},null,{"$f":"IFERROR(INDEX(اقساط!$B$3:$B$8532,SMALL(IF(اقساط!$G$3:$G$8532=B1896,ROW($B$3:$B$8532)-ROW($B$3)+1),ROWS($C$3:C1896))),\"\")","v":0}]
[{"$f":"IFERROR(INDEX(اقساط!$AT$3:$AT$8532,SMALL(IF(اقساط!$G$3:$G$8532=B1897,ROW($AT$3:$AT$8532)-ROW($AT$3)+1),ROWS($A$3:A1897))),\"\")","v":0},null,{"$f":"IFERROR(INDEX(اقساط!$B$3:$B$8532,SMALL(IF(اقساط!$G$3:$G$8532=B1897,ROW($B$3:$B$8532)-ROW($B$3)+1),ROWS($C$3:C1897))),\"\")","v":0}]
[{"$f":"IFERROR(INDEX(اقساط!$AT$3:$AT$8532,SMALL(IF(اقساط!$G$3:$G$8532=B1898,ROW($AT$3:$AT$8532)-ROW($AT$3)+1),ROWS($A$3:A1898))),\"\")","v":0},null,{"$f":"IFERROR(INDEX(اقساط!$B$3:$B$8532,SMALL(IF(اقساط!$G$3:$G$8532=B1898,ROW($B$3:$B$8532)-ROW($B$3)+1),ROWS($C$3:C1898))),\"\")","v":0}]
[{"$f":"IFERROR(INDEX(اقساط!$AT$3:$AT$8532,SMALL(IF(اقساط!$G$3:$G$8532=B1899,ROW($AT$3:$AT$8532)-ROW($AT$3)+1),ROWS($A$3:A1899))),\"\")","v":0},null,{"$f":"IFERROR(INDEX(اقساط!$B$3:$B$8532,SMALL(IF(اقساط!$G$3:$G$8532=B1899,ROW($B$3:$B$8532)-ROW($B$3)+1),ROWS($C$3:C1899))),\"\")","v":0}]
[{"$f":"IFERROR(INDEX(اقساط!$AT$3:$AT$8532,SMALL(IF(اقساط!$G$3:$G$8532=B1900,ROW($AT$3:$AT$8532)-ROW($AT$3)+1),ROWS($A$3:A1900))),\"\")","v":0},null,{"$f":"IFERROR(INDEX(اقساط!$B$3:$B$8532,SMALL(IF(اقساط!$G$3:$G$8532=B1900,ROW($B$3:$B$8532)-ROW($B$3)+1),ROWS($C$3:C1900))),\"\")","v":0}]
[{"$f":"IFERROR(INDEX(اقساط!$AT$3:$AT$8532,SMALL(IF(اقساط!$G$3:$G$8532=B1901,ROW($AT$3:$AT$8532)-ROW($AT$3)+1),ROWS($A$3:A1901))),\"\")","v":0},null,{"$f":"IFERROR(INDEX(اقساط!$B$3:$B$8532,SMALL(IF(اقساط!$G$3:$G$8532=B1901,ROW($B$3:$B$8532)-ROW($B$3)+1),ROWS($C$3:C1901))),\"\")","v":0}]
[{"$f":"IFERROR(INDEX(اقساط!$AT$3:$AT$8532,SMALL(IF(اقساط!$G$3:$G$8532=B1902,ROW($AT$3:$AT$8532)-ROW($AT$3)+1),ROWS($A$3:A1902))),\"\")","v":0},null,{"$f":"IFERROR(INDEX(اقساط!$B$3:$B$8532,SMALL(IF(اقساط!$G$3:$G$8532=B1902,ROW($B$3:$B$8532)-ROW($B$3)+1),ROWS($C$3:C1902))),\"\")","v":0}]
[{"$f":"IFERROR(INDEX(اقساط!$AT$3:$AT$8532,SMALL(IF(اقساط!$G$3:$G$8532=B1903,ROW($AT$3:$AT$8532)-ROW($AT$3)+1),ROWS($A$3:A1903))),\"\")","v":0},null,{"$f":"IFERROR(INDEX(اقساط!$B$3:$B$8532,SMALL(IF(اقساط!$G$3:$G$8532=B1903,ROW($B$3:$B$8532)-ROW($B$3)+1),ROWS($C$3:C1903))),\"\")","v":0}]
[{"$f":"IFERROR(INDEX(اقساط!$AT$3:$AT$8532,SMALL(IF(اقساط!$G$3:$G$8532=B1904,ROW($AT$3:$AT$8532)-ROW($AT$3)+1),ROWS($A$3:A1904))),\"\")","v":0},null,{"$f":"IFERROR(INDEX(اقساط!$B$3:$B$8532,SMALL(IF(اقساط!$G$3:$G$8532=B1904,ROW($B$3:$B$8532)-ROW($B$3)+1),ROWS($C$3:C1904))),\"\")","v":0}]
[{"$f":"IFERROR(INDEX(اقساط!$AT$3:$AT$8532,SMALL(IF(اقساط!$G$3:$G$8532=B1905,ROW($AT$3:$AT$8532)-ROW($AT$3)+1),ROWS($A$3:A1905))),\"\")","v":0},null,{"$f":"IFERROR(INDEX(اقساط!$B$3:$B$8532,SMALL(IF(اقساط!$G$3:$G$8532=B1905,ROW($B$3:$B$8532)-ROW($B$3)+1),ROWS($C$3:C1905))),\"\")","v":0}]
[{"$f":"IFERROR(INDEX(اقساط!$AT$3:$AT$8532,SMALL(IF(اقساط!$G$3:$G$8532=B1906,ROW($AT$3:$AT$8532)-ROW($AT$3)+1),ROWS($A$3:A1906))),\"\")","v":0},null,{"$f":"IFERROR(INDEX(اقساط!$B$3:$B$8532,SMALL(IF(اقساط!$G$3:$G$8532=B1906,ROW($B$3:$B$8532)-ROW($B$3)+1),ROWS($C$3:C1906))),\"\")","v":0}]
[{"$f":"IFERROR(INDEX(اقساط!$AT$3:$AT$8532,SMALL(IF(اقساط!$G$3:$G$8532=B1907,ROW($AT$3:$AT$8532)-ROW($AT$3)+1),ROWS($A$3:A1907))),\"\")","v":0},null,{"$f":"IFERROR(INDEX(اقساط!$B$3:$B$8532,SMALL(IF(اقساط!$G$3:$G$8532=B1907,ROW($B$3:$B$8532)-ROW($B$3)+1),ROWS($C$3:C1907))),\"\")","v":0}]
[{"$f":"IFERROR(INDEX(اقساط!$AT$3:$AT$8532,SMALL(IF(اقساط!$G$3:$G$8532=B1908,ROW($AT$3:$AT$8532)-ROW($AT$3)+1),ROWS($A$3:A1908))),\"\")","v":0},null,{"$f":"IFERROR(INDEX(اقساط!$B$3:$B$8532,SMALL(IF(اقساط!$G$3:$G$8532=B1908,ROW($B$3:$B$8532)-ROW($B$3)+1),ROWS($C$3:C1908))),\"\")","v":0}]
[{"$f":"IFERROR(INDEX(اقساط!$AT$3:$AT$8532,SMALL(IF(اقساط!$G$3:$G$8532=B1909,ROW($AT$3:$AT$8532)-ROW($AT$3)+1),ROWS($A$3:A1909))),\"\")","v":0},null,{"$f":"IFERROR(INDEX(اقساط!$B$3:$B$8532,SMALL(IF(اقساط!$G$3:$G$8532=B1909,ROW($B$3:$B$8532)-ROW($B$3)+1),ROWS($C$3:C1909))),\"\")","v":0}]
[{"$f":"IFERROR(INDEX(اقساط!$AT$3:$AT$8532,SMALL(IF(اقساط!$G$3:$G$8532=B1910,ROW($AT$3:$AT$8532)-ROW($AT$3)+1),ROWS($A$3:A1910))),\"\")","v":0},null,{"$f":"IFERROR(INDEX(اقساط!$B$3:$B$8532,SMALL(IF(اقساط!$G$3:$G$8532=B1910,ROW($B$3:$B$8532)-ROW($B$3)+1),ROWS($C$3:C1910))),\"\")","v":0}]
[{"$f":"IFERROR(INDEX(اقساط!$AT$3:$AT$8532,SMALL(IF(اقساط!$G$3:$G$8532=B1911,ROW($AT$3:$AT$8532)-ROW($AT$3)+1),ROWS($A$3:A1911))),\"\")","v":0},null,{"$f":"IFERROR(INDEX(اقساط!$B$3:$B$8532,SMALL(IF(اقساط!$G$3:$G$8532=B1911,ROW($B$3:$B$8532)-ROW($B$3)+1),ROWS($C$3:C1911))),\"\")","v":0}]
[{"$f":"IFERROR(INDEX(اقساط!$AT$3:$AT$8532,SMALL(IF(اقساط!$G$3:$G$8532=B1912,ROW($AT$3:$AT$8532)-ROW($AT$3)+1),ROWS($A$3:A1912))),\"\")","v":0},null,{"$f":"IFERROR(INDEX(اقساط!$B$3:$B$8532,SMALL(IF(اقساط!$G$3:$G$8532=B1912,ROW($B$3:$B$8532)-ROW($B$3)+1),ROWS($C$3:C1912))),\"\")","v":0}]
[{"$f":"IFERROR(INDEX(اقساط!$AT$3:$AT$8532,SMALL(IF(اقساط!$G$3:$G$8532=B1913,ROW($AT$3:$AT$8532)-ROW($AT$3)+1),ROWS($A$3:A1913))),\"\")","v":0},null,{"$f":"IFERROR(INDEX(اقساط!$B$3:$B$8532,SMALL(IF(اقساط!$G$3:$G$8532=B1913,ROW($B$3:$B$8532)-ROW($B$3)+1),ROWS($C$3:C1913))),\"\")","v":0}]
[{"$f":"IFERROR(INDEX(اقساط!$AT$3:$AT$8532,SMALL(IF(اقساط!$G$3:$G$8532=B1914,ROW($AT$3:$AT$8532)-ROW($AT$3)+1),ROWS($A$3:A1914))),\"\")","v":0},null,{"$f":"IFERROR(INDEX(اقساط!$B$3:$B$8532,SMALL(IF(اقساط!$G$3:$G$8532=B1914,ROW($B$3:$B$8532)-ROW($B$3)+1),ROWS($C$3:C1914))),\"\")","v":0}]
[{"$f":"IFERROR(INDEX(اقساط!$AT$3:$AT$8532,SMALL(IF(اقساط!$G$3:$G$8532=B1915,ROW($AT$3:$AT$8532)-ROW($AT$3)+1),ROWS($A$3:A1915))),\"\")","v":0},null,{"$f":"IFERROR(INDEX(اقساط!$B$3:$B$8532,SMALL(IF(اقساط!$G$3:$G$8532=B1915,ROW($B$3:$B$8532)-ROW($B$3)+1),ROWS($C$3:C1915))),\"\")","v":0}]
[{"$f":"IFERROR(INDEX(اقساط!$AT$3:$AT$8532,SMALL(IF(اقساط!$G$3:$G$8532=B1916,ROW($AT$3:$AT$8532)-ROW($AT$3)+1),ROWS($A$3:A1916))),\"\")","v":0},null,{"$f":"IFERROR(INDEX(اقساط!$B$3:$B$8532,SMALL(IF(اقساط!$G$3:$G$8532=B1916,ROW($B$3:$B$8532)-ROW($B$3)+1),ROWS($C$3:C1916))),\"\")","v":0}]
[{"$f":"IFERROR(INDEX(اقساط!$AT$3:$AT$8532,SMALL(IF(اقساط!$G$3:$G$8532=B1917,ROW($AT$3:$AT$8532)-ROW($AT$3)+1),ROWS($A$3:A1917))),\"\")","v":0},null,{"$f":"IFERROR(INDEX(اقساط!$B$3:$B$8532,SMALL(IF(اقساط!$G$3:$G$8532=B1917,ROW($B$3:$B$8532)-ROW($B$3)+1),ROWS($C$3:C1917))),\"\")","v":0}]
[{"$f":"IFERROR(INDEX(اقساط!$AT$3:$AT$8532,SMALL(IF(اقساط!$G$3:$G$8532=B1918,ROW($AT$3:$AT$8532)-ROW($AT$3)+1),ROWS($A$3:A1918))),\"\")","v":0},null,{"$f":"IFERROR(INDEX(اقساط!$B$3:$B$8532,SMALL(IF(اقساط!$G$3:$G$8532=B1918,ROW($B$3:$B$8532)-ROW($B$3)+1),ROWS($C$3:C1918))),\"\")","v":0}]
[{"$f":"IFERROR(INDEX(اقساط!$AT$3:$AT$8532,SMALL(IF(اقساط!$G$3:$G$8532=B1919,ROW($AT$3:$AT$8532)-ROW($AT$3)+1),ROWS($A$3:A1919))),\"\")","v":0},null,{"$f":"IFERROR(INDEX(اقساط!$B$3:$B$8532,SMALL(IF(اقساط!$G$3:$G$8532=B1919,ROW($B$3:$B$8532)-ROW($B$3)+1),ROWS($C$3:C1919))),\"\")","v":0}]
[{"$f":"IFERROR(INDEX(اقساط!$AT$3:$AT$8532,SMALL(IF(اقساط!$G$3:$G$8532=B1920,ROW($AT$3:$AT$8532)-ROW($AT$3)+1),ROWS($A$3:A1920))),\"\")","v":0},null,{"$f":"IFERROR(INDEX(اقساط!$B$3:$B$8532,SMALL(IF(اقساط!$G$3:$G$8532=B1920,ROW($B$3:$B$8532)-ROW($B$3)+1),ROWS($C$3:C1920))),\"\")","v":0}]
[{"$f":"IFERROR(INDEX(اقساط!$AT$3:$AT$8532,SMALL(IF(اقساط!$G$3:$G$8532=B1921,ROW($AT$3:$AT$8532)-ROW($AT$3)+1),ROWS($A$3:A1921))),\"\")","v":0},null,{"$f":"IFERROR(INDEX(اقساط!$B$3:$B$8532,SMALL(IF(اقساط!$G$3:$G$8532=B1921,ROW($B$3:$B$8532)-ROW($B$3)+1),ROWS($C$3:C1921))),\"\")","v":0}]
[{"$f":"IFERROR(INDEX(اقساط!$AT$3:$AT$8532,SMALL(IF(اقساط!$G$3:$G$8532=B1922,ROW($AT$3:$AT$8532)-ROW($AT$3)+1),ROWS($A$3:A1922))),\"\")","v":0},null,{"$f":"IFERROR(INDEX(اقساط!$B$3:$B$8532,SMALL(IF(اقساط!$G$3:$G$8532=B1922,ROW($B$3:$B$8532)-ROW($B$3)+1),ROWS($C$3:C1922))),\"\")","v":0}]
[{"$f":"IFERROR(INDEX(اقساط!$AT$3:$AT$8532,SMALL(IF(اقساط!$G$3:$G$8532=B1923,ROW($AT$3:$AT$8532)-ROW($AT$3)+1),ROWS($A$3:A1923))),\"\")","v":0},null,{"$f":"IFERROR(INDEX(اقساط!$B$3:$B$8532,SMALL(IF(اقساط!$G$3:$G$8532=B1923,ROW($B$3:$B$8532)-ROW($B$3)+1),ROWS($C$3:C1923))),\"\")","v":0}]
[{"$f":"IFERROR(INDEX(اقساط!$AT$3:$AT$8532,SMALL(IF(اقساط!$G$3:$G$8532=B1924,ROW($AT$3:$AT$8532)-ROW($AT$3)+1),ROWS($A$3:A1924))),\"\")","v":0},null,{"$f":"IFERROR(INDEX(اقساط!$B$3:$B$8532,SMALL(IF(اقساط!$G$3:$G$8532=B1924,ROW($B$3:$B$8532)-ROW($B$3)+1),ROWS($C$3:C1924))),\"\")","v":0}]
[{"$f":"IFERROR(INDEX(اقساط!$AT$3:$AT$8532,SMALL(IF(اقساط!$G$3:$G$8532=B1925,ROW($AT$3:$AT$8532)-ROW($AT$3)+1),ROWS($A$3:A1925))),\"\")","v":0},null,{"$f":"IFERROR(INDEX(اقساط!$B$3:$B$8532,SMALL(IF(اقساط!$G$3:$G$8532=B1925,ROW($B$3:$B$8532)-ROW($B$3)+1),ROWS($C$3:C1925))),\"\")","v":0}]
[{"$f":"IFERROR(INDEX(اقساط!$AT$3:$AT$8532,SMALL(IF(اقساط!$G$3:$G$8532=B1926,ROW($AT$3:$AT$8532)-ROW($AT$3)+1),ROWS($A$3:A1926))),\"\")","v":0},null,{"$f":"IFERROR(INDEX(اقساط!$B$3:$B$8532,SMALL(IF(اقساط!$G$3:$G$8532=B1926,ROW($B$3:$B$8532)-ROW($B$3)+1),ROWS($C$3:C1926))),\"\")","v":0}]
[{"$f":"IFERROR(INDEX(اقساط!$AT$3:$AT$8532,SMALL(IF(اقساط!$G$3:$G$8532=B1927,ROW($AT$3:$AT$8532)-ROW($AT$3)+1),ROWS($A$3:A1927))),\"\")","v":0},null,{"$f":"IFERROR(INDEX(اقساط!$B$3:$B$8532,SMALL(IF(اقساط!$G$3:$G$8532=B1927,ROW($B$3:$B$8532)-ROW($B$3)+1),ROWS($C$3:C1927))),\"\")","v":0}]
[{"$f":"IFERROR(INDEX(اقساط!$AT$3:$AT$8532,SMALL(IF(اقساط!$G$3:$G$8532=B1928,ROW($AT$3:$AT$8532)-ROW($AT$3)+1),ROWS($A$3:A1928))),\"\")","v":0},null,{"$f":"IFERROR(INDEX(اقساط!$B$3:$B$8532,SMALL(IF(اقساط!$G$3:$G$8532=B1928,ROW($B$3:$B$8532)-ROW($B$3)+1),ROWS($C$3:C1928))),\"\")","v":0}]
[{"$f":"IFERROR(INDEX(اقساط!$AT$3:$AT$8532,SMALL(IF(اقساط!$G$3:$G$8532=B1929,ROW($AT$3:$AT$8532)-ROW($AT$3)+1),ROWS($A$3:A1929))),\"\")","v":0},null,{"$f":"IFERROR(INDEX(اقساط!$B$3:$B$8532,SMALL(IF(اقساط!$G$3:$G$8532=B1929,ROW($B$3:$B$8532)-ROW($B$3)+1),ROWS($C$3:C1929))),\"\")","v":0}]
[{"$f":"IFERROR(INDEX(اقساط!$AT$3:$AT$8532,SMALL(IF(اقساط!$G$3:$G$8532=B1930,ROW($AT$3:$AT$8532)-ROW($AT$3)+1),ROWS($A$3:A1930))),\"\")","v":0},null,{"$f":"IFERROR(INDEX(اقساط!$B$3:$B$8532,SMALL(IF(اقساط!$G$3:$G$8532=B1930,ROW($B$3:$B$8532)-ROW($B$3)+1),ROWS($C$3:C1930))),\"\")","v":0}]
[{"$f":"IFERROR(INDEX(اقساط!$AT$3:$AT$8532,SMALL(IF(اقساط!$G$3:$G$8532=B1931,ROW($AT$3:$AT$8532)-ROW($AT$3)+1),ROWS($A$3:A1931))),\"\")","v":0},null,{"$f":"IFERROR(INDEX(اقساط!$B$3:$B$8532,SMALL(IF(اقساط!$G$3:$G$8532=B1931,ROW($B$3:$B$8532)-ROW($B$3)+1),ROWS($C$3:C1931))),\"\")","v":0}]
[{"$f":"IFERROR(INDEX(اقساط!$AT$3:$AT$8532,SMALL(IF(اقساط!$G$3:$G$8532=B1932,ROW($AT$3:$AT$8532)-ROW($AT$3)+1),ROWS($A$3:A1932))),\"\")","v":0},null,{"$f":"IFERROR(INDEX(اقساط!$B$3:$B$8532,SMALL(IF(اقساط!$G$3:$G$8532=B1932,ROW($B$3:$B$8532)-ROW($B$3)+1),ROWS($C$3:C1932))),\"\")","v":0}]
[{"$f":"IFERROR(INDEX(اقساط!$AT$3:$AT$8532,SMALL(IF(اقساط!$G$3:$G$8532=B1933,ROW($AT$3:$AT$8532)-ROW($AT$3)+1),ROWS($A$3:A1933))),\"\")","v":0},null,{"$f":"IFERROR(INDEX(اقساط!$B$3:$B$8532,SMALL(IF(اقساط!$G$3:$G$8532=B1933,ROW($B$3:$B$8532)-ROW($B$3)+1),ROWS($C$3:C1933))),\"\")","v":0}]
[{"$f":"IFERROR(INDEX(اقساط!$AT$3:$AT$8532,SMALL(IF(اقساط!$G$3:$G$8532=B1934,ROW($AT$3:$AT$8532)-ROW($AT$3)+1),ROWS($A$3:A1934))),\"\")","v":0},null,{"$f":"IFERROR(INDEX(اقساط!$B$3:$B$8532,SMALL(IF(اقساط!$G$3:$G$8532=B1934,ROW($B$3:$B$8532)-ROW($B$3)+1),ROWS($C$3:C1934))),\"\")","v":0}]
[{"$f":"IFERROR(INDEX(اقساط!$AT$3:$AT$8532,SMALL(IF(اقساط!$G$3:$G$8532=B1935,ROW($AT$3:$AT$8532)-ROW($AT$3)+1),ROWS($A$3:A1935))),\"\")","v":0},null,{"$f":"IFERROR(INDEX(اقساط!$B$3:$B$8532,SMALL(IF(اقساط!$G$3:$G$8532=B1935,ROW($B$3:$B$8532)-ROW($B$3)+1),ROWS($C$3:C1935))),\"\")","v":0}]
[{"$f":"IFERROR(INDEX(اقساط!$AT$3:$AT$8532,SMALL(IF(اقساط!$G$3:$G$8532=B1936,ROW($AT$3:$AT$8532)-ROW($AT$3)+1),ROWS($A$3:A1936))),\"\")","v":0},null,{"$f":"IFERROR(INDEX(اقساط!$B$3:$B$8532,SMALL(IF(اقساط!$G$3:$G$8532=B1936,ROW($B$3:$B$8532)-ROW($B$3)+1),ROWS($C$3:C1936))),\"\")","v":0}]
[{"$f":"IFERROR(INDEX(اقساط!$AT$3:$AT$8532,SMALL(IF(اقساط!$G$3:$G$8532=B1937,ROW($AT$3:$AT$8532)-ROW($AT$3)+1),ROWS($A$3:A1937))),\"\")","v":0},null,{"$f":"IFERROR(INDEX(اقساط!$B$3:$B$8532,SMALL(IF(اقساط!$G$3:$G$8532=B1937,ROW($B$3:$B$8532)-ROW($B$3)+1),ROWS($C$3:C1937))),\"\")","v":0}]
[{"$f":"IFERROR(INDEX(اقساط!$AT$3:$AT$8532,SMALL(IF(اقساط!$G$3:$G$8532=B1938,ROW($AT$3:$AT$8532)-ROW($AT$3)+1),ROWS($A$3:A1938))),\"\")","v":0},null,{"$f":"IFERROR(INDEX(اقساط!$B$3:$B$8532,SMALL(IF(اقساط!$G$3:$G$8532=B1938,ROW($B$3:$B$8532)-ROW($B$3)+1),ROWS($C$3:C1938))),\"\")","v":0}]
[{"$f":"IFERROR(INDEX(اقساط!$AT$3:$AT$8532,SMALL(IF(اقساط!$G$3:$G$8532=B1939,ROW($AT$3:$AT$8532)-ROW($AT$3)+1),ROWS($A$3:A1939))),\"\")","v":0},null,{"$f":"IFERROR(INDEX(اقساط!$B$3:$B$8532,SMALL(IF(اقساط!$G$3:$G$8532=B1939,ROW($B$3:$B$8532)-ROW($B$3)+1),ROWS($C$3:C1939))),\"\")","v":0}]
[{"$f":"IFERROR(INDEX(اقساط!$AT$3:$AT$8532,SMALL(IF(اقساط!$G$3:$G$8532=B1940,ROW($AT$3:$AT$8532)-ROW($AT$3)+1),ROWS($A$3:A1940))),\"\")","v":0},null,{"$f":"IFERROR(INDEX(اقساط!$B$3:$B$8532,SMALL(IF(اقساط!$G$3:$G$8532=B1940,ROW($B$3:$B$8532)-ROW($B$3)+1),ROWS($C$3:C1940))),\"\")","v":0}]
[{"$f":"IFERROR(INDEX(اقساط!$AT$3:$AT$8532,SMALL(IF(اقساط!$G$3:$G$8532=B1941,ROW($AT$3:$AT$8532)-ROW($AT$3)+1),ROWS($A$3:A1941))),\"\")","v":0},null,{"$f":"IFERROR(INDEX(اقساط!$B$3:$B$8532,SMALL(IF(اقساط!$G$3:$G$8532=B1941,ROW($B$3:$B$8532)-ROW($B$3)+1),ROWS($C$3:C1941))),\"\")","v":0}]
[{"$f":"IFERROR(INDEX(اقساط!$AT$3:$AT$8532,SMALL(IF(اقساط!$G$3:$G$8532=B1942,ROW($AT$3:$AT$8532)-ROW($AT$3)+1),ROWS($A$3:A1942))),\"\")","v":0},null,{"$f":"IFERROR(INDEX(اقساط!$B$3:$B$8532,SMALL(IF(اقساط!$G$3:$G$8532=B1942,ROW($B$3:$B$8532)-ROW($B$3)+1),ROWS($C$3:C1942))),\"\")","v":0}]
[{"$f":"IFERROR(INDEX(اقساط!$AT$3:$AT$8532,SMALL(IF(اقساط!$G$3:$G$8532=B1943,ROW($AT$3:$AT$8532)-ROW($AT$3)+1),ROWS($A$3:A1943))),\"\")","v":0},null,{"$f":"IFERROR(INDEX(اقساط!$B$3:$B$8532,SMALL(IF(اقساط!$G$3:$G$8532=B1943,ROW($B$3:$B$8532)-ROW($B$3)+1),ROWS($C$3:C1943))),\"\")","v":0}]
[{"$f":"IFERROR(INDEX(اقساط!$AT$3:$AT$8532,SMALL(IF(اقساط!$G$3:$G$8532=B1944,ROW($AT$3:$AT$8532)-ROW($AT$3)+1),ROWS($A$3:A1944))),\"\")","v":0},null,{"$f":"IFERROR(INDEX(اقساط!$B$3:$B$8532,SMALL(IF(اقساط!$G$3:$G$8532=B1944,ROW($B$3:$B$8532)-ROW($B$3)+1),ROWS($C$3:C1944))),\"\")","v":0}]
[{"$f":"IFERROR(INDEX(اقساط!$AT$3:$AT$8532,SMALL(IF(اقساط!$G$3:$G$8532=B1945,ROW($AT$3:$AT$8532)-ROW($AT$3)+1),ROWS($A$3:A1945))),\"\")","v":0},null,{"$f":"IFERROR(INDEX(اقساط!$B$3:$B$8532,SMALL(IF(اقساط!$G$3:$G$8532=B1945,ROW($B$3:$B$8532)-ROW($B$3)+1),ROWS($C$3:C1945))),\"\")","v":0}]
[{"$f":"IFERROR(INDEX(اقساط!$AT$3:$AT$8532,SMALL(IF(اقساط!$G$3:$G$8532=B1946,ROW($AT$3:$AT$8532)-ROW($AT$3)+1),ROWS($A$3:A1946))),\"\")","v":0},null,{"$f":"IFERROR(INDEX(اقساط!$B$3:$B$8532,SMALL(IF(اقساط!$G$3:$G$8532=B1946,ROW($B$3:$B$8532)-ROW($B$3)+1),ROWS($C$3:C1946))),\"\")","v":0}]
[{"$f":"IFERROR(INDEX(اقساط!$AT$3:$AT$8532,SMALL(IF(اقساط!$G$3:$G$8532=B1947,ROW($AT$3:$AT$8532)-ROW($AT$3)+1),ROWS($A$3:A1947))),\"\")","v":0},null,{"$f":"IFERROR(INDEX(اقساط!$B$3:$B$8532,SMALL(IF(اقساط!$G$3:$G$8532=B1947,ROW($B$3:$B$8532)-ROW($B$3)+1),ROWS($C$3:C1947))),\"\")","v":0}]
[{"$f":"IFERROR(INDEX(اقساط!$AT$3:$AT$8532,SMALL(IF(اقساط!$G$3:$G$8532=B1948,ROW($AT$3:$AT$8532)-ROW($AT$3)+1),ROWS($A$3:A1948))),\"\")","v":0},null,{"$f":"IFERROR(INDEX(اقساط!$B$3:$B$8532,SMALL(IF(اقساط!$G$3:$G$8532=B1948,ROW($B$3:$B$8532)-ROW($B$3)+1),ROWS($C$3:C1948))),\"\")","v":0}]
[{"$f":"IFERROR(INDEX(اقساط!$AT$3:$AT$8532,SMALL(IF(اقساط!$G$3:$G$8532=B1949,ROW($AT$3:$AT$8532)-ROW($AT$3)+1),ROWS($A$3:A1949))),\"\")","v":0},null,{"$f":"IFERROR(INDEX(اقساط!$B$3:$B$8532,SMALL(IF(اقساط!$G$3:$G$8532=B1949,ROW($B$3:$B$8532)-ROW($B$3)+1),ROWS($C$3:C1949))),\"\")","v":0}]
[{"$f":"IFERROR(INDEX(اقساط!$AT$3:$AT$8532,SMALL(IF(اقساط!$G$3:$G$8532=B1950,ROW($AT$3:$AT$8532)-ROW($AT$3)+1),ROWS($A$3:A1950))),\"\")","v":0},null,{"$f":"IFERROR(INDEX(اقساط!$B$3:$B$8532,SMALL(IF(اقساط!$G$3:$G$8532=B1950,ROW($B$3:$B$8532)-ROW($B$3)+1),ROWS($C$3:C1950))),\"\")","v":0}]
[{"$f":"IFERROR(INDEX(اقساط!$AT$3:$AT$8532,SMALL(IF(اقساط!$G$3:$G$8532=B1951,ROW($AT$3:$AT$8532)-ROW($AT$3)+1),ROWS($A$3:A1951))),\"\")","v":0},null,{"$f":"IFERROR(INDEX(اقساط!$B$3:$B$8532,SMALL(IF(اقساط!$G$3:$G$8532=B1951,ROW($B$3:$B$8532)-ROW($B$3)+1),ROWS($C$3:C1951))),\"\")","v":0}]
[{"$f":"IFERROR(INDEX(اقساط!$AT$3:$AT$8532,SMALL(IF(اقساط!$G$3:$G$8532=B1952,ROW($AT$3:$AT$8532)-ROW($AT$3)+1),ROWS($A$3:A1952))),\"\")","v":0},null,{"$f":"IFERROR(INDEX(اقساط!$B$3:$B$8532,SMALL(IF(اقساط!$G$3:$G$8532=B1952,ROW($B$3:$B$8532)-ROW($B$3)+1),ROWS($C$3:C1952))),\"\")","v":0}]
[{"$f":"IFERROR(INDEX(اقساط!$AT$3:$AT$8532,SMALL(IF(اقساط!$G$3:$G$8532=B1953,ROW($AT$3:$AT$8532)-ROW($AT$3)+1),ROWS($A$3:A1953))),\"\")","v":0},null,{"$f":"IFERROR(INDEX(اقساط!$B$3:$B$8532,SMALL(IF(اقساط!$G$3:$G$8532=B1953,ROW($B$3:$B$8532)-ROW($B$3)+1),ROWS($C$3:C1953))),\"\")","v":0}]
[{"$f":"IFERROR(INDEX(اقساط!$AT$3:$AT$8532,SMALL(IF(اقساط!$G$3:$G$8532=B1954,ROW($AT$3:$AT$8532)-ROW($AT$3)+1),ROWS($A$3:A1954))),\"\")","v":0},null,{"$f":"IFERROR(INDEX(اقساط!$B$3:$B$8532,SMALL(IF(اقساط!$G$3:$G$8532=B1954,ROW($B$3:$B$8532)-ROW($B$3)+1),ROWS($C$3:C1954))),\"\")","v":0}]
[{"$f":"IFERROR(INDEX(اقساط!$AT$3:$AT$8532,SMALL(IF(اقساط!$G$3:$G$8532=B1955,ROW($AT$3:$AT$8532)-ROW($AT$3)+1),ROWS($A$3:A1955))),\"\")","v":0},null,{"$f":"IFERROR(INDEX(اقساط!$B$3:$B$8532,SMALL(IF(اقساط!$G$3:$G$8532=B1955,ROW($B$3:$B$8532)-ROW($B$3)+1),ROWS($C$3:C1955))),\"\")","v":0}]
[{"$f":"IFERROR(INDEX(اقساط!$AT$3:$AT$8532,SMALL(IF(اقساط!$G$3:$G$8532=B1956,ROW($AT$3:$AT$8532)-ROW($AT$3)+1),ROWS($A$3:A1956))),\"\")","v":0},null,{"$f":"IFERROR(INDEX(اقساط!$B$3:$B$8532,SMALL(IF(اقساط!$G$3:$G$8532=B1956,ROW($B$3:$B$8532)-ROW($B$3)+1),ROWS($C$3:C1956))),\"\")","v":0}]
[{"$f":"IFERROR(INDEX(اقساط!$AT$3:$AT$8532,SMALL(IF(اقساط!$G$3:$G$8532=B1957,ROW($AT$3:$AT$8532)-ROW($AT$3)+1),ROWS($A$3:A1957))),\"\")","v":0},null,{"$f":"IFERROR(INDEX(اقساط!$B$3:$B$8532,SMALL(IF(اقساط!$G$3:$G$8532=B1957,ROW($B$3:$B$8532)-ROW($B$3)+1),ROWS($C$3:C1957))),\"\")","v":0}]
[{"$f":"IFERROR(INDEX(اقساط!$AT$3:$AT$8532,SMALL(IF(اقساط!$G$3:$G$8532=B1958,ROW($AT$3:$AT$8532)-ROW($AT$3)+1),ROWS($A$3:A1958))),\"\")","v":0},null,{"$f":"IFERROR(INDEX(اقساط!$B$3:$B$8532,SMALL(IF(اقساط!$G$3:$G$8532=B1958,ROW($B$3:$B$8532)-ROW($B$3)+1),ROWS($C$3:C1958))),\"\")","v":0}]
[{"$f":"IFERROR(INDEX(اقساط!$AT$3:$AT$8532,SMALL(IF(اقساط!$G$3:$G$8532=B1959,ROW($AT$3:$AT$8532)-ROW($AT$3)+1),ROWS($A$3:A1959))),\"\")","v":0},null,{"$f":"IFERROR(INDEX(اقساط!$B$3:$B$8532,SMALL(IF(اقساط!$G$3:$G$8532=B1959,ROW($B$3:$B$8532)-ROW($B$3)+1),ROWS($C$3:C1959))),\"\")","v":0}]
[{"$f":"IFERROR(INDEX(اقساط!$AT$3:$AT$8532,SMALL(IF(اقساط!$G$3:$G$8532=B1960,ROW($AT$3:$AT$8532)-ROW($AT$3)+1),ROWS($A$3:A1960))),\"\")","v":0},null,{"$f":"IFERROR(INDEX(اقساط!$B$3:$B$8532,SMALL(IF(اقساط!$G$3:$G$8532=B1960,ROW($B$3:$B$8532)-ROW($B$3)+1),ROWS($C$3:C1960))),\"\")","v":0}]
[{"$f":"IFERROR(INDEX(اقساط!$AT$3:$AT$8532,SMALL(IF(اقساط!$G$3:$G$8532=B1961,ROW($AT$3:$AT$8532)-ROW($AT$3)+1),ROWS($A$3:A1961))),\"\")","v":0},null,{"$f":"IFERROR(INDEX(اقساط!$B$3:$B$8532,SMALL(IF(اقساط!$G$3:$G$8532=B1961,ROW($B$3:$B$8532)-ROW($B$3)+1),ROWS($C$3:C1961))),\"\")","v":0}]
[{"$f":"IFERROR(INDEX(اقساط!$AT$3:$AT$8532,SMALL(IF(اقساط!$G$3:$G$8532=B1962,ROW($AT$3:$AT$8532)-ROW($AT$3)+1),ROWS($A$3:A1962))),\"\")","v":0},null,{"$f":"IFERROR(INDEX(اقساط!$B$3:$B$8532,SMALL(IF(اقساط!$G$3:$G$8532=B1962,ROW($B$3:$B$8532)-ROW($B$3)+1),ROWS($C$3:C1962))),\"\")","v":0}]
[{"$f":"IFERROR(INDEX(اقساط!$AT$3:$AT$8532,SMALL(IF(اقساط!$G$3:$G$8532=B1963,ROW($AT$3:$AT$8532)-ROW($AT$3)+1),ROWS($A$3:A1963))),\"\")","v":0},null,{"$f":"IFERROR(INDEX(اقساط!$B$3:$B$8532,SMALL(IF(اقساط!$G$3:$G$8532=B1963,ROW($B$3:$B$8532)-ROW($B$3)+1),ROWS($C$3:C1963))),\"\")","v":0}]
[{"$f":"IFERROR(INDEX(اقساط!$AT$3:$AT$8532,SMALL(IF(اقساط!$G$3:$G$8532=B1964,ROW($AT$3:$AT$8532)-ROW($AT$3)+1),ROWS($A$3:A1964))),\"\")","v":0},null,{"$f":"IFERROR(INDEX(اقساط!$B$3:$B$8532,SMALL(IF(اقساط!$G$3:$G$8532=B1964,ROW($B$3:$B$8532)-ROW($B$3)+1),ROWS($C$3:C1964))),\"\")","v":0}]
[{"$f":"IFERROR(INDEX(اقساط!$AT$3:$AT$8532,SMALL(IF(اقساط!$G$3:$G$8532=B1965,ROW($AT$3:$AT$8532)-ROW($AT$3)+1),ROWS($A$3:A1965))),\"\")","v":0},null,{"$f":"IFERROR(INDEX(اقساط!$B$3:$B$8532,SMALL(IF(اقساط!$G$3:$G$8532=B1965,ROW($B$3:$B$8532)-ROW($B$3)+1),ROWS($C$3:C1965))),\"\")","v":0}]
[{"$f":"IFERROR(INDEX(اقساط!$AT$3:$AT$8532,SMALL(IF(اقساط!$G$3:$G$8532=B1966,ROW($AT$3:$AT$8532)-ROW($AT$3)+1),ROWS($A$3:A1966))),\"\")","v":0},null,{"$f":"IFERROR(INDEX(اقساط!$B$3:$B$8532,SMALL(IF(اقساط!$G$3:$G$8532=B1966,ROW($B$3:$B$8532)-ROW($B$3)+1),ROWS($C$3:C1966))),\"\")","v":0}]
[{"$f":"IFERROR(INDEX(اقساط!$AT$3:$AT$8532,SMALL(IF(اقساط!$G$3:$G$8532=B1967,ROW($AT$3:$AT$8532)-ROW($AT$3)+1),ROWS($A$3:A1967))),\"\")","v":0},null,{"$f":"IFERROR(INDEX(اقساط!$B$3:$B$8532,SMALL(IF(اقساط!$G$3:$G$8532=B1967,ROW($B$3:$B$8532)-ROW($B$3)+1),ROWS($C$3:C1967))),\"\")","v":0}]
[{"$f":"IFERROR(INDEX(اقساط!$AT$3:$AT$8532,SMALL(IF(اقساط!$G$3:$G$8532=B1968,ROW($AT$3:$AT$8532)-ROW($AT$3)+1),ROWS($A$3:A1968))),\"\")","v":0},null,{"$f":"IFERROR(INDEX(اقساط!$B$3:$B$8532,SMALL(IF(اقساط!$G$3:$G$8532=B1968,ROW($B$3:$B$8532)-ROW($B$3)+1),ROWS($C$3:C1968))),\"\")","v":0}]
[{"$f":"IFERROR(INDEX(اقساط!$AT$3:$AT$8532,SMALL(IF(اقساط!$G$3:$G$8532=B1969,ROW($AT$3:$AT$8532)-ROW($AT$3)+1),ROWS($A$3:A1969))),\"\")","v":0},null,{"$f":"IFERROR(INDEX(اقساط!$B$3:$B$8532,SMALL(IF(اقساط!$G$3:$G$8532=B1969,ROW($B$3:$B$8532)-ROW($B$3)+1),ROWS($C$3:C1969))),\"\")","v":0}]
[{"$f":"IFERROR(INDEX(اقساط!$AT$3:$AT$8532,SMALL(IF(اقساط!$G$3:$G$8532=B1970,ROW($AT$3:$AT$8532)-ROW($AT$3)+1),ROWS($A$3:A1970))),\"\")","v":0},null,{"$f":"IFERROR(INDEX(اقساط!$B$3:$B$8532,SMALL(IF(اقساط!$G$3:$G$8532=B1970,ROW($B$3:$B$8532)-ROW($B$3)+1),ROWS($C$3:C1970))),\"\")","v":0}]
[{"$f":"IFERROR(INDEX(اقساط!$AT$3:$AT$8532,SMALL(IF(اقساط!$G$3:$G$8532=B1971,ROW($AT$3:$AT$8532)-ROW($AT$3)+1),ROWS($A$3:A1971))),\"\")","v":0},null,{"$f":"IFERROR(INDEX(اقساط!$B$3:$B$8532,SMALL(IF(اقساط!$G$3:$G$8532=B1971,ROW($B$3:$B$8532)-ROW($B$3)+1),ROWS($C$3:C1971))),\"\")","v":0}]
[{"$f":"IFERROR(INDEX(اقساط!$AT$3:$AT$8532,SMALL(IF(اقساط!$G$3:$G$8532=B1972,ROW($AT$3:$AT$8532)-ROW($AT$3)+1),ROWS($A$3:A1972))),\"\")","v":0},null,{"$f":"IFERROR(INDEX(اقساط!$B$3:$B$8532,SMALL(IF(اقساط!$G$3:$G$8532=B1972,ROW($B$3:$B$8532)-ROW($B$3)+1),ROWS($C$3:C1972))),\"\")","v":0}]
[{"$f":"IFERROR(INDEX(اقساط!$AT$3:$AT$8532,SMALL(IF(اقساط!$G$3:$G$8532=B1973,ROW($AT$3:$AT$8532)-ROW($AT$3)+1),ROWS($A$3:A1973))),\"\")","v":0},null,{"$f":"IFERROR(INDEX(اقساط!$B$3:$B$8532,SMALL(IF(اقساط!$G$3:$G$8532=B1973,ROW($B$3:$B$8532)-ROW($B$3)+1),ROWS($C$3:C1973))),\"\")","v":0}]
[{"$f":"IFERROR(INDEX(اقساط!$AT$3:$AT$8532,SMALL(IF(اقساط!$G$3:$G$8532=B1974,ROW($AT$3:$AT$8532)-ROW($AT$3)+1),ROWS($A$3:A1974))),\"\")","v":0},null,{"$f":"IFERROR(INDEX(اقساط!$B$3:$B$8532,SMALL(IF(اقساط!$G$3:$G$8532=B1974,ROW($B$3:$B$8532)-ROW($B$3)+1),ROWS($C$3:C1974))),\"\")","v":0}]
[{"$f":"IFERROR(INDEX(اقساط!$AT$3:$AT$8532,SMALL(IF(اقساط!$G$3:$G$8532=B1975,ROW($AT$3:$AT$8532)-ROW($AT$3)+1),ROWS($A$3:A1975))),\"\")","v":0},null,{"$f":"IFERROR(INDEX(اقساط!$B$3:$B$8532,SMALL(IF(اقساط!$G$3:$G$8532=B1975,ROW($B$3:$B$8532)-ROW($B$3)+1),ROWS($C$3:C1975))),\"\")","v":0}]
[{"$f":"IFERROR(INDEX(اقساط!$AT$3:$AT$8532,SMALL(IF(اقساط!$G$3:$G$8532=B1976,ROW($AT$3:$AT$8532)-ROW($AT$3)+1),ROWS($A$3:A1976))),\"\")","v":0},null,{"$f":"IFERROR(INDEX(اقساط!$B$3:$B$8532,SMALL(IF(اقساط!$G$3:$G$8532=B1976,ROW($B$3:$B$8532)-ROW($B$3)+1),ROWS($C$3:C1976))),\"\")","v":0}]
[{"$f":"IFERROR(INDEX(اقساط!$AT$3:$AT$8532,SMALL(IF(اقساط!$G$3:$G$8532=B1977,ROW($AT$3:$AT$8532)-ROW($AT$3)+1),ROWS($A$3:A1977))),\"\")","v":0},null,{"$f":"IFERROR(INDEX(اقساط!$B$3:$B$8532,SMALL(IF(اقساط!$G$3:$G$8532=B1977,ROW($B$3:$B$8532)-ROW($B$3)+1),ROWS($C$3:C1977))),\"\")","v":0}]
[{"$f":"IFERROR(INDEX(اقساط!$AT$3:$AT$8532,SMALL(IF(اقساط!$G$3:$G$8532=B1978,ROW($AT$3:$AT$8532)-ROW($AT$3)+1),ROWS($A$3:A1978))),\"\")","v":0},null,{"$f":"IFERROR(INDEX(اقساط!$B$3:$B$8532,SMALL(IF(اقساط!$G$3:$G$8532=B1978,ROW($B$3:$B$8532)-ROW($B$3)+1),ROWS($C$3:C1978))),\"\")","v":0}]
[{"$f":"IFERROR(INDEX(اقساط!$AT$3:$AT$8532,SMALL(IF(اقساط!$G$3:$G$8532=B1979,ROW($AT$3:$AT$8532)-ROW($AT$3)+1),ROWS($A$3:A1979))),\"\")","v":0},null,{"$f":"IFERROR(INDEX(اقساط!$B$3:$B$8532,SMALL(IF(اقساط!$G$3:$G$8532=B1979,ROW($B$3:$B$8532)-ROW($B$3)+1),ROWS($C$3:C1979))),\"\")","v":0}]
[{"$f":"IFERROR(INDEX(اقساط!$AT$3:$AT$8532,SMALL(IF(اقساط!$G$3:$G$8532=B1980,ROW($AT$3:$AT$8532)-ROW($AT$3)+1),ROWS($A$3:A1980))),\"\")","v":0},null,{"$f":"IFERROR(INDEX(اقساط!$B$3:$B$8532,SMALL(IF(اقساط!$G$3:$G$8532=B1980,ROW($B$3:$B$8532)-ROW($B$3)+1),ROWS($C$3:C1980))),\"\")","v":0}]
[{"$f":"IFERROR(INDEX(اقساط!$AT$3:$AT$8532,SMALL(IF(اقساط!$G$3:$G$8532=B1981,ROW($AT$3:$AT$8532)-ROW($AT$3)+1),ROWS($A$3:A1981))),\"\")","v":0},null,{"$f":"IFERROR(INDEX(اقساط!$B$3:$B$8532,SMALL(IF(اقساط!$G$3:$G$8532=B1981,ROW($B$3:$B$8532)-ROW($B$3)+1),ROWS($C$3:C1981))),\"\")","v":0}]
[{"$f":"IFERROR(INDEX(اقساط!$AT$3:$AT$8532,SMALL(IF(اقساط!$G$3:$G$8532=B1982,ROW($AT$3:$AT$8532)-ROW($AT$3)+1),ROWS($A$3:A1982))),\"\")","v":0},null,{"$f":"IFERROR(INDEX(اقساط!$B$3:$B$8532,SMALL(IF(اقساط!$G$3:$G$8532=B1982,ROW($B$3:$B$8532)-ROW($B$3)+1),ROWS($C$3:C1982))),\"\")","v":0}]
[{"$f":"IFERROR(INDEX(اقساط!$AT$3:$AT$8532,SMALL(IF(اقساط!$G$3:$G$8532=B1983,ROW($AT$3:$AT$8532)-ROW($AT$3)+1),ROWS($A$3:A1983))),\"\")","v":0},null,{"$f":"IFERROR(INDEX(اقساط!$B$3:$B$8532,SMALL(IF(اقساط!$G$3:$G$8532=B1983,ROW($B$3:$B$8532)-ROW($B$3)+1),ROWS($C$3:C1983))),\"\")","v":0}]
[{"$f":"IFERROR(INDEX(اقساط!$AT$3:$AT$8532,SMALL(IF(اقساط!$G$3:$G$8532=B1984,ROW($AT$3:$AT$8532)-ROW($AT$3)+1),ROWS($A$3:A1984))),\"\")","v":0},null,{"$f":"IFERROR(INDEX(اقساط!$B$3:$B$8532,SMALL(IF(اقساط!$G$3:$G$8532=B1984,ROW($B$3:$B$8532)-ROW($B$3)+1),ROWS($C$3:C1984))),\"\")","v":0}]
[{"$f":"IFERROR(INDEX(اقساط!$AT$3:$AT$8532,SMALL(IF(اقساط!$G$3:$G$8532=B1985,ROW($AT$3:$AT$8532)-ROW($AT$3)+1),ROWS($A$3:A1985))),\"\")","v":0},null,{"$f":"IFERROR(INDEX(اقساط!$B$3:$B$8532,SMALL(IF(اقساط!$G$3:$G$8532=B1985,ROW($B$3:$B$8532)-ROW($B$3)+1),ROWS($C$3:C1985))),\"\")","v":0}]
[{"$f":"IFERROR(INDEX(اقساط!$AT$3:$AT$8532,SMALL(IF(اقساط!$G$3:$G$8532=B1986,ROW($AT$3:$AT$8532)-ROW($AT$3)+1),ROWS($A$3:A1986))),\"\")","v":0},null,{"$f":"IFERROR(INDEX(اقساط!$B$3:$B$8532,SMALL(IF(اقساط!$G$3:$G$8532=B1986,ROW($B$3:$B$8532)-ROW($B$3)+1),ROWS($C$3:C1986))),\"\")","v":0}]
[{"$f":"IFERROR(INDEX(اقساط!$AT$3:$AT$8532,SMALL(IF(اقساط!$G$3:$G$8532=B1987,ROW($AT$3:$AT$8532)-ROW($AT$3)+1),ROWS($A$3:A1987))),\"\")","v":0},null,{"$f":"IFERROR(INDEX(اقساط!$B$3:$B$8532,SMALL(IF(اقساط!$G$3:$G$8532=B1987,ROW($B$3:$B$8532)-ROW($B$3)+1),ROWS($C$3:C1987))),\"\")","v":0}]
[{"$f":"IFERROR(INDEX(اقساط!$AT$3:$AT$8532,SMALL(IF(اقساط!$G$3:$G$8532=B1988,ROW($AT$3:$AT$8532)-ROW($AT$3)+1),ROWS($A$3:A1988))),\"\")","v":0},null,{"$f":"IFERROR(INDEX(اقساط!$B$3:$B$8532,SMALL(IF(اقساط!$G$3:$G$8532=B1988,ROW($B$3:$B$8532)-ROW($B$3)+1),ROWS($C$3:C1988))),\"\")","v":0}]
[{"$f":"IFERROR(INDEX(اقساط!$AT$3:$AT$8532,SMALL(IF(اقساط!$G$3:$G$8532=B1989,ROW($AT$3:$AT$8532)-ROW($AT$3)+1),ROWS($A$3:A1989))),\"\")","v":0},null,{"$f":"IFERROR(INDEX(اقساط!$B$3:$B$8532,SMALL(IF(اقساط!$G$3:$G$8532=B1989,ROW($B$3:$B$8532)-ROW($B$3)+1),ROWS($C$3:C1989))),\"\")","v":0}]
[{"$f":"IFERROR(INDEX(اقساط!$AT$3:$AT$8532,SMALL(IF(اقساط!$G$3:$G$8532=B1990,ROW($AT$3:$AT$8532)-ROW($AT$3)+1),ROWS($A$3:A1990))),\"\")","v":0},null,{"$f":"IFERROR(INDEX(اقساط!$B$3:$B$8532,SMALL(IF(اقساط!$G$3:$G$8532=B1990,ROW($B$3:$B$8532)-ROW($B$3)+1),ROWS($C$3:C1990))),\"\")","v":0}]
[{"$f":"IFERROR(INDEX(اقساط!$AT$3:$AT$8532,SMALL(IF(اقساط!$G$3:$G$8532=B1991,ROW($AT$3:$AT$8532)-ROW($AT$3)+1),ROWS($A$3:A1991))),\"\")","v":0},null,{"$f":"IFERROR(INDEX(اقساط!$B$3:$B$8532,SMALL(IF(اقساط!$G$3:$G$8532=B1991,ROW($B$3:$B$8532)-ROW($B$3)+1),ROWS($C$3:C1991))),\"\")","v":0}]
[{"$f":"IFERROR(INDEX(اقساط!$AT$3:$AT$8532,SMALL(IF(اقساط!$G$3:$G$8532=B1992,ROW($AT$3:$AT$8532)-ROW($AT$3)+1),ROWS($A$3:A1992))),\"\")","v":0},null,{"$f":"IFERROR(INDEX(اقساط!$B$3:$B$8532,SMALL(IF(اقساط!$G$3:$G$8532=B1992,ROW($B$3:$B$8532)-ROW($B$3)+1),ROWS($C$3:C1992))),\"\")","v":0}]
[{"$f":"IFERROR(INDEX(اقساط!$AT$3:$AT$8532,SMALL(IF(اقساط!$G$3:$G$8532=B1993,ROW($AT$3:$AT$8532)-ROW($AT$3)+1),ROWS($A$3:A1993))),\"\")","v":0},null,{"$f":"IFERROR(INDEX(اقساط!$B$3:$B$8532,SMALL(IF(اقساط!$G$3:$G$8532=B1993,ROW($B$3:$B$8532)-ROW($B$3)+1),ROWS($C$3:C1993))),\"\")","v":0}]
[{"$f":"IFERROR(INDEX(اقساط!$AT$3:$AT$8532,SMALL(IF(اقساط!$G$3:$G$8532=B1994,ROW($AT$3:$AT$8532)-ROW($AT$3)+1),ROWS($A$3:A1994))),\"\")","v":0},null,{"$f":"IFERROR(INDEX(اقساط!$B$3:$B$8532,SMALL(IF(اقساط!$G$3:$G$8532=B1994,ROW($B$3:$B$8532)-ROW($B$3)+1),ROWS($C$3:C1994))),\"\")","v":0}]
[{"$f":"IFERROR(INDEX(اقساط!$AT$3:$AT$8532,SMALL(IF(اقساط!$G$3:$G$8532=B1995,ROW($AT$3:$AT$8532)-ROW($AT$3)+1),ROWS($A$3:A1995))),\"\")","v":0},null,{"$f":"IFERROR(INDEX(اقساط!$B$3:$B$8532,SMALL(IF(اقساط!$G$3:$G$8532=B1995,ROW($B$3:$B$8532)-ROW($B$3)+1),ROWS($C$3:C1995))),\"\")","v":0}]
[{"$f":"IFERROR(INDEX(اقساط!$AT$3:$AT$8532,SMALL(IF(اقساط!$G$3:$G$8532=B1996,ROW($AT$3:$AT$8532)-ROW($AT$3)+1),ROWS($A$3:A1996))),\"\")","v":0},null,{"$f":"IFERROR(INDEX(اقساط!$B$3:$B$8532,SMALL(IF(اقساط!$G$3:$G$8532=B1996,ROW($B$3:$B$8532)-ROW($B$3)+1),ROWS($C$3:C1996))),\"\")","v":0}]
[{"$f":"IFERROR(INDEX(اقساط!$AT$3:$AT$8532,SMALL(IF(اقساط!$G$3:$G$8532=B1997,ROW($AT$3:$AT$8532)-ROW($AT$3)+1),ROWS($A$3:A1997))),\"\")","v":0},null,{"$f":"IFERROR(INDEX(اقساط!$B$3:$B$8532,SMALL(IF(اقساط!$G$3:$G$8532=B1997,ROW($B$3:$B$8532)-ROW($B$3)+1),ROWS($C$3:C1997))),\"\")","v":0}]
[{"$f":"IFERROR(INDEX(اقساط!$AT$3:$AT$8532,SMALL(IF(اقساط!$G$3:$G$8532=B1998,ROW($AT$3:$AT$8532)-ROW($AT$3)+1),ROWS($A$3:A1998))),\"\")","v":0},null,{"$f":"IFERROR(INDEX(اقساط!$B$3:$B$8532,SMALL(IF(اقساط!$G$3:$G$8532=B1998,ROW($B$3:$B$8532)-ROW($B$3)+1),ROWS($C$3:C1998))),\"\")","v":0}]
[{"$f":"IFERROR(INDEX(اقساط!$AT$3:$AT$8532,SMALL(IF(اقساط!$G$3:$G$8532=B1999,ROW($AT$3:$AT$8532)-ROW($AT$3)+1),ROWS($A$3:A1999))),\"\")","v":0},null,{"$f":"IFERROR(INDEX(اقساط!$B$3:$B$8532,SMALL(IF(اقساط!$G$3:$G$8532=B1999,ROW($B$3:$B$8532)-ROW($B$3)+1),ROWS($C$3:C1999))),\"\")","v":0}]
[{"$f":"IFERROR(INDEX(اقساط!$AT$3:$AT$8532,SMALL(IF(اقساط!$G$3:$G$8532=B2000,ROW($AT$3:$AT$8532)-ROW($AT$3)+1),ROWS($A$3:A2000))),\"\")","v":0},null,{"$f":"IFERROR(INDEX(اقساط!$B$3:$B$8532,SMALL(IF(اقساط!$G$3:$G$8532=B2000,ROW($B$3:$B$8532)-ROW($B$3)+1),ROWS($C$3:C2000))),\"\")","v":0}]
[{"$f":"IFERROR(INDEX(اقساط!$AT$3:$AT$8532,SMALL(IF(اقساط!$G$3:$G$8532=B2001,ROW($AT$3:$AT$8532)-ROW($AT$3)+1),ROWS($A$3:A2001))),\"\")","v":0},null,{"$f":"IFERROR(INDEX(اقساط!$B$3:$B$8532,SMALL(IF(اقساط!$G$3:$G$8532=B2001,ROW($B$3:$B$8532)-ROW($B$3)+1),ROWS($C$3:C2001))),\"\")","v":0}]
[{"$f":"IFERROR(INDEX(اقساط!$AT$3:$AT$8532,SMALL(IF(اقساط!$G$3:$G$8532=B2002,ROW($AT$3:$AT$8532)-ROW($AT$3)+1),ROWS($A$3:A2002))),\"\")","v":0},null,{"$f":"IFERROR(INDEX(اقساط!$B$3:$B$8532,SMALL(IF(اقساط!$G$3:$G$8532=B2002,ROW($B$3:$B$8532)-ROW($B$3)+1),ROWS($C$3:C2002))),\"\")","v":0}]
[{"$f":"IFERROR(INDEX(اقساط!$AT$3:$AT$8532,SMALL(IF(اقساط!$G$3:$G$8532=B2003,ROW($AT$3:$AT$8532)-ROW($AT$3)+1),ROWS($A$3:A2003))),\"\")","v":0},null,{"$f":"IFERROR(INDEX(اقساط!$B$3:$B$8532,SMALL(IF(اقساط!$G$3:$G$8532=B2003,ROW($B$3:$B$8532)-ROW($B$3)+1),ROWS($C$3:C2003))),\"\")","v":0}]
[{"$f":"IFERROR(INDEX(اقساط!$AT$3:$AT$8532,SMALL(IF(اقساط!$G$3:$G$8532=B2004,ROW($AT$3:$AT$8532)-ROW($AT$3)+1),ROWS($A$3:A2004))),\"\")","v":0},null,{"$f":"IFERROR(INDEX(اقساط!$B$3:$B$8532,SMALL(IF(اقساط!$G$3:$G$8532=B2004,ROW($B$3:$B$8532)-ROW($B$3)+1),ROWS($C$3:C2004))),\"\")","v":0}]
[{"$f":"IFERROR(INDEX(اقساط!$AT$3:$AT$8532,SMALL(IF(اقساط!$G$3:$G$8532=B2005,ROW($AT$3:$AT$8532)-ROW($AT$3)+1),ROWS($A$3:A2005))),\"\")","v":0},null,{"$f":"IFERROR(INDEX(اقساط!$B$3:$B$8532,SMALL(IF(اقساط!$G$3:$G$8532=B2005,ROW($B$3:$B$8532)-ROW($B$3)+1),ROWS($C$3:C2005))),\"\")","v":0}]
[{"$f":"IFERROR(INDEX(اقساط!$AT$3:$AT$8532,SMALL(IF(اقساط!$G$3:$G$8532=B2006,ROW($AT$3:$AT$8532)-ROW($AT$3)+1),ROWS($A$3:A2006))),\"\")","v":0},null,{"$f":"IFERROR(INDEX(اقساط!$B$3:$B$8532,SMALL(IF(اقساط!$G$3:$G$8532=B2006,ROW($B$3:$B$8532)-ROW($B$3)+1),ROWS($C$3:C2006))),\"\")","v":0}]
[{"$f":"IFERROR(INDEX(اقساط!$AT$3:$AT$8532,SMALL(IF(اقساط!$G$3:$G$8532=B2007,ROW($AT$3:$AT$8532)-ROW($AT$3)+1),ROWS($A$3:A2007))),\"\")","v":0},null,{"$f":"IFERROR(INDEX(اقساط!$B$3:$B$8532,SMALL(IF(اقساط!$G$3:$G$8532=B2007,ROW($B$3:$B$8532)-ROW($B$3)+1),ROWS($C$3:C2007))),\"\")","v":0}]
[{"$f":"IFERROR(INDEX(اقساط!$AT$3:$AT$8532,SMALL(IF(اقساط!$G$3:$G$8532=B2008,ROW($AT$3:$AT$8532)-ROW($AT$3)+1),ROWS($A$3:A2008))),\"\")","v":0},null,{"$f":"IFERROR(INDEX(اقساط!$B$3:$B$8532,SMALL(IF(اقساط!$G$3:$G$8532=B2008,ROW($B$3:$B$8532)-ROW($B$3)+1),ROWS($C$3:C2008))),\"\")","v":0}]
[{"$f":"IFERROR(INDEX(اقساط!$AT$3:$AT$8532,SMALL(IF(اقساط!$G$3:$G$8532=B2009,ROW($AT$3:$AT$8532)-ROW($AT$3)+1),ROWS($A$3:A2009))),\"\")","v":0},null,{"$f":"IFERROR(INDEX(اقساط!$B$3:$B$8532,SMALL(IF(اقساط!$G$3:$G$8532=B2009,ROW($B$3:$B$8532)-ROW($B$3)+1),ROWS($C$3:C2009))),\"\")","v":0}]
[{"$f":"IFERROR(INDEX(اقساط!$AT$3:$AT$8532,SMALL(IF(اقساط!$G$3:$G$8532=B2010,ROW($AT$3:$AT$8532)-ROW($AT$3)+1),ROWS($A$3:A2010))),\"\")","v":0},null,{"$f":"IFERROR(INDEX(اقساط!$B$3:$B$8532,SMALL(IF(اقساط!$G$3:$G$8532=B2010,ROW($B$3:$B$8532)-ROW($B$3)+1),ROWS($C$3:C2010))),\"\")","v":0}]
[{"$f":"IFERROR(INDEX(اقساط!$AT$3:$AT$8532,SMALL(IF(اقساط!$G$3:$G$8532=B2011,ROW($AT$3:$AT$8532)-ROW($AT$3)+1),ROWS($A$3:A2011))),\"\")","v":0},null,{"$f":"IFERROR(INDEX(اقساط!$B$3:$B$8532,SMALL(IF(اقساط!$G$3:$G$8532=B2011,ROW($B$3:$B$8532)-ROW($B$3)+1),ROWS($C$3:C2011))),\"\")","v":0}]
[{"$f":"IFERROR(INDEX(اقساط!$AT$3:$AT$8532,SMALL(IF(اقساط!$G$3:$G$8532=B2012,ROW($AT$3:$AT$8532)-ROW($AT$3)+1),ROWS($A$3:A2012))),\"\")","v":0},null,{"$f":"IFERROR(INDEX(اقساط!$B$3:$B$8532,SMALL(IF(اقساط!$G$3:$G$8532=B2012,ROW($B$3:$B$8532)-ROW($B$3)+1),ROWS($C$3:C2012))),\"\")","v":0}]
[{"$f":"IFERROR(INDEX(اقساط!$AT$3:$AT$8532,SMALL(IF(اقساط!$G$3:$G$8532=B2013,ROW($AT$3:$AT$8532)-ROW($AT$3)+1),ROWS($A$3:A2013))),\"\")","v":0},null,{"$f":"IFERROR(INDEX(اقساط!$B$3:$B$8532,SMALL(IF(اقساط!$G$3:$G$8532=B2013,ROW($B$3:$B$8532)-ROW($B$3)+1),ROWS($C$3:C2013))),\"\")","v":0}]
[{"$f":"IFERROR(INDEX(اقساط!$AT$3:$AT$8532,SMALL(IF(اقساط!$G$3:$G$8532=B2014,ROW($AT$3:$AT$8532)-ROW($AT$3)+1),ROWS($A$3:A2014))),\"\")","v":0},null,{"$f":"IFERROR(INDEX(اقساط!$B$3:$B$8532,SMALL(IF(اقساط!$G$3:$G$8532=B2014,ROW($B$3:$B$8532)-ROW($B$3)+1),ROWS($C$3:C2014))),\"\")","v":0}]
[{"$f":"IFERROR(INDEX(اقساط!$AT$3:$AT$8532,SMALL(IF(اقساط!$G$3:$G$8532=B2015,ROW($AT$3:$AT$8532)-ROW($AT$3)+1),ROWS($A$3:A2015))),\"\")","v":0},null,{"$f":"IFERROR(INDEX(اقساط!$B$3:$B$8532,SMALL(IF(اقساط!$G$3:$G$8532=B2015,ROW($B$3:$B$8532)-ROW($B$3)+1),ROWS($C$3:C2015))),\"\")","v":0}]
[{"$f":"IFERROR(INDEX(اقساط!$AT$3:$AT$8532,SMALL(IF(اقساط!$G$3:$G$8532=B2016,ROW($AT$3:$AT$8532)-ROW($AT$3)+1),ROWS($A$3:A2016))),\"\")","v":0},null,{"$f":"IFERROR(INDEX(اقساط!$B$3:$B$8532,SMALL(IF(اقساط!$G$3:$G$8532=B2016,ROW($B$3:$B$8532)-ROW($B$3)+1),ROWS($C$3:C2016))),\"\")","v":0}]
[{"$f":"IFERROR(INDEX(اقساط!$AT$3:$AT$8532,SMALL(IF(اقساط!$G$3:$G$8532=B2017,ROW($AT$3:$AT$8532)-ROW($AT$3)+1),ROWS($A$3:A2017))),\"\")","v":0},null,{"$f":"IFERROR(INDEX(اقساط!$B$3:$B$8532,SMALL(IF(اقساط!$G$3:$G$8532=B2017,ROW($B$3:$B$8532)-ROW($B$3)+1),ROWS($C$3:C2017))),\"\")","v":0}]
[{"$f":"IFERROR(INDEX(اقساط!$AT$3:$AT$8532,SMALL(IF(اقساط!$G$3:$G$8532=B2018,ROW($AT$3:$AT$8532)-ROW($AT$3)+1),ROWS($A$3:A2018))),\"\")","v":0},null,{"$f":"IFERROR(INDEX(اقساط!$B$3:$B$8532,SMALL(IF(اقساط!$G$3:$G$8532=B2018,ROW($B$3:$B$8532)-ROW($B$3)+1),ROWS($C$3:C2018))),\"\")","v":0}]
[{"$f":"IFERROR(INDEX(اقساط!$AT$3:$AT$8532,SMALL(IF(اقساط!$G$3:$G$8532=B2019,ROW($AT$3:$AT$8532)-ROW($AT$3)+1),ROWS($A$3:A2019))),\"\")","v":0},null,{"$f":"IFERROR(INDEX(اقساط!$B$3:$B$8532,SMALL(IF(اقساط!$G$3:$G$8532=B2019,ROW($B$3:$B$8532)-ROW($B$3)+1),ROWS($C$3:C2019))),\"\")","v":0}]
[{"$f":"IFERROR(INDEX(اقساط!$AT$3:$AT$8532,SMALL(IF(اقساط!$G$3:$G$8532=B2020,ROW($AT$3:$AT$8532)-ROW($AT$3)+1),ROWS($A$3:A2020))),\"\")","v":0},null,{"$f":"IFERROR(INDEX(اقساط!$B$3:$B$8532,SMALL(IF(اقساط!$G$3:$G$8532=B2020,ROW($B$3:$B$8532)-ROW($B$3)+1),ROWS($C$3:C2020))),\"\")","v":0}]
[{"$f":"IFERROR(INDEX(اقساط!$AT$3:$AT$8532,SMALL(IF(اقساط!$G$3:$G$8532=B2021,ROW($AT$3:$AT$8532)-ROW($AT$3)+1),ROWS($A$3:A2021))),\"\")","v":0},null,{"$f":"IFERROR(INDEX(اقساط!$B$3:$B$8532,SMALL(IF(اقساط!$G$3:$G$8532=B2021,ROW($B$3:$B$8532)-ROW($B$3)+1),ROWS($C$3:C2021))),\"\")","v":0}]
[{"$f":"IFERROR(INDEX(اقساط!$AT$3:$AT$8532,SMALL(IF(اقساط!$G$3:$G$8532=B2022,ROW($AT$3:$AT$8532)-ROW($AT$3)+1),ROWS($A$3:A2022))),\"\")","v":0},null,{"$f":"IFERROR(INDEX(اقساط!$B$3:$B$8532,SMALL(IF(اقساط!$G$3:$G$8532=B2022,ROW($B$3:$B$8532)-ROW($B$3)+1),ROWS($C$3:C2022))),\"\")","v":0}]
[{"$f":"IFERROR(INDEX(اقساط!$AT$3:$AT$8532,SMALL(IF(اقساط!$G$3:$G$8532=B2023,ROW($AT$3:$AT$8532)-ROW($AT$3)+1),ROWS($A$3:A2023))),\"\")","v":0},null,{"$f":"IFERROR(INDEX(اقساط!$B$3:$B$8532,SMALL(IF(اقساط!$G$3:$G$8532=B2023,ROW($B$3:$B$8532)-ROW($B$3)+1),ROWS($C$3:C2023))),\"\")","v":0}]
[{"$f":"IFERROR(INDEX(اقساط!$AT$3:$AT$8532,SMALL(IF(اقساط!$G$3:$G$8532=B2024,ROW($AT$3:$AT$8532)-ROW($AT$3)+1),ROWS($A$3:A2024))),\"\")","v":0},null,{"$f":"IFERROR(INDEX(اقساط!$B$3:$B$8532,SMALL(IF(اقساط!$G$3:$G$8532=B2024,ROW($B$3:$B$8532)-ROW($B$3)+1),ROWS($C$3:C2024))),\"\")","v":0}]
[{"$f":"IFERROR(INDEX(اقساط!$AT$3:$AT$8532,SMALL(IF(اقساط!$G$3:$G$8532=B2025,ROW($AT$3:$AT$8532)-ROW($AT$3)+1),ROWS($A$3:A2025))),\"\")","v":0},null,{"$f":"IFERROR(INDEX(اقساط!$B$3:$B$8532,SMALL(IF(اقساط!$G$3:$G$8532=B2025,ROW($B$3:$B$8532)-ROW($B$3)+1),ROWS($C$3:C2025))),\"\")","v":0}]
[{"$f":"IFERROR(INDEX(اقساط!$AT$3:$AT$8532,SMALL(IF(اقساط!$G$3:$G$8532=B2026,ROW($AT$3:$AT$8532)-ROW($AT$3)+1),ROWS($A$3:A2026))),\"\")","v":0},null,{"$f":"IFERROR(INDEX(اقساط!$B$3:$B$8532,SMALL(IF(اقساط!$G$3:$G$8532=B2026,ROW($B$3:$B$8532)-ROW($B$3)+1),ROWS($C$3:C2026))),\"\")","v":0}]
[{"$f":"IFERROR(INDEX(اقساط!$AT$3:$AT$8532,SMALL(IF(اقساط!$G$3:$G$8532=B2027,ROW($AT$3:$AT$8532)-ROW($AT$3)+1),ROWS($A$3:A2027))),\"\")","v":0},null,{"$f":"IFERROR(INDEX(اقساط!$B$3:$B$8532,SMALL(IF(اقساط!$G$3:$G$8532=B2027,ROW($B$3:$B$8532)-ROW($B$3)+1),ROWS($C$3:C2027))),\"\")","v":0}]
[{"$f":"IFERROR(INDEX(اقساط!$AT$3:$AT$8532,SMALL(IF(اقساط!$G$3:$G$8532=B2028,ROW($AT$3:$AT$8532)-ROW($AT$3)+1),ROWS($A$3:A2028))),\"\")","v":0},null,{"$f":"IFERROR(INDEX(اقساط!$B$3:$B$8532,SMALL(IF(اقساط!$G$3:$G$8532=B2028,ROW($B$3:$B$8532)-ROW($B$3)+1),ROWS($C$3:C2028))),\"\")","v":0}]
[{"$f":"IFERROR(INDEX(اقساط!$AT$3:$AT$8532,SMALL(IF(اقساط!$G$3:$G$8532=B2029,ROW($AT$3:$AT$8532)-ROW($AT$3)+1),ROWS($A$3:A2029))),\"\")","v":0},null,{"$f":"IFERROR(INDEX(اقساط!$B$3:$B$8532,SMALL(IF(اقساط!$G$3:$G$8532=B2029,ROW($B$3:$B$8532)-ROW($B$3)+1),ROWS($C$3:C2029))),\"\")","v":0}]
[{"$f":"IFERROR(INDEX(اقساط!$AT$3:$AT$8532,SMALL(IF(اقساط!$G$3:$G$8532=B2030,ROW($AT$3:$AT$8532)-ROW($AT$3)+1),ROWS($A$3:A2030))),\"\")","v":0},null,{"$f":"IFERROR(INDEX(اقساط!$B$3:$B$8532,SMALL(IF(اقساط!$G$3:$G$8532=B2030,ROW($B$3:$B$8532)-ROW($B$3)+1),ROWS($C$3:C2030))),\"\")","v":0}]
[{"$f":"IFERROR(INDEX(اقساط!$AT$3:$AT$8532,SMALL(IF(اقساط!$G$3:$G$8532=B2031,ROW($AT$3:$AT$8532)-ROW($AT$3)+1),ROWS($A$3:A2031))),\"\")","v":0},null,{"$f":"IFERROR(INDEX(اقساط!$B$3:$B$8532,SMALL(IF(اقساط!$G$3:$G$8532=B2031,ROW($B$3:$B$8532)-ROW($B$3)+1),ROWS($C$3:C2031))),\"\")","v":0}]
[{"$f":"IFERROR(INDEX(اقساط!$AT$3:$AT$8532,SMALL(IF(اقساط!$G$3:$G$8532=B2032,ROW($AT$3:$AT$8532)-ROW($AT$3)+1),ROWS($A$3:A2032))),\"\")","v":0},null,{"$f":"IFERROR(INDEX(اقساط!$B$3:$B$8532,SMALL(IF(اقساط!$G$3:$G$8532=B2032,ROW($B$3:$B$8532)-ROW($B$3)+1),ROWS($C$3:C2032))),\"\")","v":0}]
[{"$f":"IFERROR(INDEX(اقساط!$AT$3:$AT$8532,SMALL(IF(اقساط!$G$3:$G$8532=B2033,ROW($AT$3:$AT$8532)-ROW($AT$3)+1),ROWS($A$3:A2033))),\"\")","v":0},null,{"$f":"IFERROR(INDEX(اقساط!$B$3:$B$8532,SMALL(IF(اقساط!$G$3:$G$8532=B2033,ROW($B$3:$B$8532)-ROW($B$3)+1),ROWS($C$3:C2033))),\"\")","v":0}]
[{"$f":"IFERROR(INDEX(اقساط!$AT$3:$AT$8532,SMALL(IF(اقساط!$G$3:$G$8532=B2034,ROW($AT$3:$AT$8532)-ROW($AT$3)+1),ROWS($A$3:A2034))),\"\")","v":0},null,{"$f":"IFERROR(INDEX(اقساط!$B$3:$B$8532,SMALL(IF(اقساط!$G$3:$G$8532=B2034,ROW($B$3:$B$8532)-ROW($B$3)+1),ROWS($C$3:C2034))),\"\")","v":0}]
[{"$f":"IFERROR(INDEX(اقساط!$AT$3:$AT$8532,SMALL(IF(اقساط!$G$3:$G$8532=B2035,ROW($AT$3:$AT$8532)-ROW($AT$3)+1),ROWS($A$3:A2035))),\"\")","v":0},null,{"$f":"IFERROR(INDEX(اقساط!$B$3:$B$8532,SMALL(IF(اقساط!$G$3:$G$8532=B2035,ROW($B$3:$B$8532)-ROW($B$3)+1),ROWS($C$3:C2035))),\"\")","v":0}]
[{"$f":"IFERROR(INDEX(اقساط!$AT$3:$AT$8532,SMALL(IF(اقساط!$G$3:$G$8532=B2036,ROW($AT$3:$AT$8532)-ROW($AT$3)+1),ROWS($A$3:A2036))),\"\")","v":0},null,{"$f":"IFERROR(INDEX(اقساط!$B$3:$B$8532,SMALL(IF(اقساط!$G$3:$G$8532=B2036,ROW($B$3:$B$8532)-ROW($B$3)+1),ROWS($C$3:C2036))),\"\")","v":0}]
[{"$f":"IFERROR(INDEX(اقساط!$AT$3:$AT$8532,SMALL(IF(اقساط!$G$3:$G$8532=B2037,ROW($AT$3:$AT$8532)-ROW($AT$3)+1),ROWS($A$3:A2037))),\"\")","v":0},null,{"$f":"IFERROR(INDEX(اقساط!$B$3:$B$8532,SMALL(IF(اقساط!$G$3:$G$8532=B2037,ROW($B$3:$B$8532)-ROW($B$3)+1),ROWS($C$3:C2037))),\"\")","v":0}]
[{"$f":"IFERROR(INDEX(اقساط!$AT$3:$AT$8532,SMALL(IF(اقساط!$G$3:$G$8532=B2038,ROW($AT$3:$AT$8532)-ROW($AT$3)+1),ROWS($A$3:A2038))),\"\")","v":0},null,{"$f":"IFERROR(INDEX(اقساط!$B$3:$B$8532,SMALL(IF(اقساط!$G$3:$G$8532=B2038,ROW($B$3:$B$8532)-ROW($B$3)+1),ROWS($C$3:C2038))),\"\")","v":0}]
[{"$f":"IFERROR(INDEX(اقساط!$AT$3:$AT$8532,SMALL(IF(اقساط!$G$3:$G$8532=B2039,ROW($AT$3:$AT$8532)-ROW($AT$3)+1),ROWS($A$3:A2039))),\"\")","v":0},null,{"$f":"IFERROR(INDEX(اقساط!$B$3:$B$8532,SMALL(IF(اقساط!$G$3:$G$8532=B2039,ROW($B$3:$B$8532)-ROW($B$3)+1),ROWS($C$3:C2039))),\"\")","v":0}]
[{"$f":"IFERROR(INDEX(اقساط!$AT$3:$AT$8532,SMALL(IF(اقساط!$G$3:$G$8532=B2040,ROW($AT$3:$AT$8532)-ROW($AT$3)+1),ROWS($A$3:A2040))),\"\")","v":0},null,{"$f":"IFERROR(INDEX(اقساط!$B$3:$B$8532,SMALL(IF(اقساط!$G$3:$G$8532=B2040,ROW($B$3:$B$8532)-ROW($B$3)+1),ROWS($C$3:C2040))),\"\")","v":0}]
[{"$f":"IFERROR(INDEX(اقساط!$AT$3:$AT$8532,SMALL(IF(اقساط!$G$3:$G$8532=B2041,ROW($AT$3:$AT$8532)-ROW($AT$3)+1),ROWS($A$3:A2041))),\"\")","v":0},null,{"$f":"IFERROR(INDEX(اقساط!$B$3:$B$8532,SMALL(IF(اقساط!$G$3:$G$8532=B2041,ROW($B$3:$B$8532)-ROW($B$3)+1),ROWS($C$3:C2041))),\"\")","v":0}]
[{"$f":"IFERROR(INDEX(اقساط!$AT$3:$AT$8532,SMALL(IF(اقساط!$G$3:$G$8532=B2042,ROW($AT$3:$AT$8532)-ROW($AT$3)+1),ROWS($A$3:A2042))),\"\")","v":0},null,{"$f":"IFERROR(INDEX(اقساط!$B$3:$B$8532,SMALL(IF(اقساط!$G$3:$G$8532=B2042,ROW($B$3:$B$8532)-ROW($B$3)+1),ROWS($C$3:C2042))),\"\")","v":0}]
[{"$f":"IFERROR(INDEX(اقساط!$AT$3:$AT$8532,SMALL(IF(اقساط!$G$3:$G$8532=B2043,ROW($AT$3:$AT$8532)-ROW($AT$3)+1),ROWS($A$3:A2043))),\"\")","v":0},null,{"$f":"IFERROR(INDEX(اقساط!$B$3:$B$8532,SMALL(IF(اقساط!$G$3:$G$8532=B2043,ROW($B$3:$B$8532)-ROW($B$3)+1),ROWS($C$3:C2043))),\"\")","v":0}]
[{"$f":"IFERROR(INDEX(اقساط!$AT$3:$AT$8532,SMALL(IF(اقساط!$G$3:$G$8532=B2044,ROW($AT$3:$AT$8532)-ROW($AT$3)+1),ROWS($A$3:A2044))),\"\")","v":0},null,{"$f":"IFERROR(INDEX(اقساط!$B$3:$B$8532,SMALL(IF(اقساط!$G$3:$G$8532=B2044,ROW($B$3:$B$8532)-ROW($B$3)+1),ROWS($C$3:C2044))),\"\")","v":0}]
[{"$f":"IFERROR(INDEX(اقساط!$AT$3:$AT$8532,SMALL(IF(اقساط!$G$3:$G$8532=B2045,ROW($AT$3:$AT$8532)-ROW($AT$3)+1),ROWS($A$3:A2045))),\"\")","v":0},null,{"$f":"IFERROR(INDEX(اقساط!$B$3:$B$8532,SMALL(IF(اقساط!$G$3:$G$8532=B2045,ROW($B$3:$B$8532)-ROW($B$3)+1),ROWS($C$3:C2045))),\"\")","v":0}]
[{"$f":"IFERROR(INDEX(اقساط!$AT$3:$AT$8532,SMALL(IF(اقساط!$G$3:$G$8532=B2046,ROW($AT$3:$AT$8532)-ROW($AT$3)+1),ROWS($A$3:A2046))),\"\")","v":0},null,{"$f":"IFERROR(INDEX(اقساط!$B$3:$B$8532,SMALL(IF(اقساط!$G$3:$G$8532=B2046,ROW($B$3:$B$8532)-ROW($B$3)+1),ROWS($C$3:C2046))),\"\")","v":0}]
[{"$f":"IFERROR(INDEX(اقساط!$AT$3:$AT$8532,SMALL(IF(اقساط!$G$3:$G$8532=B2047,ROW($AT$3:$AT$8532)-ROW($AT$3)+1),ROWS($A$3:A2047))),\"\")","v":0},null,{"$f":"IFERROR(INDEX(اقساط!$B$3:$B$8532,SMALL(IF(اقساط!$G$3:$G$8532=B2047,ROW($B$3:$B$8532)-ROW($B$3)+1),ROWS($C$3:C2047))),\"\")","v":0}]
[{"$f":"IFERROR(INDEX(اقساط!$AT$3:$AT$8532,SMALL(IF(اقساط!$G$3:$G$8532=B2048,ROW($AT$3:$AT$8532)-ROW($AT$3)+1),ROWS($A$3:A2048))),\"\")","v":0},null,{"$f":"IFERROR(INDEX(اقساط!$B$3:$B$8532,SMALL(IF(اقساط!$G$3:$G$8532=B2048,ROW($B$3:$B$8532)-ROW($B$3)+1),ROWS($C$3:C2048))),\"\")","v":0}]
[{"$f":"IFERROR(INDEX(اقساط!$AT$3:$AT$8532,SMALL(IF(اقساط!$G$3:$G$8532=B2049,ROW($AT$3:$AT$8532)-ROW($AT$3)+1),ROWS($A$3:A2049))),\"\")","v":0},null,{"$f":"IFERROR(INDEX(اقساط!$B$3:$B$8532,SMALL(IF(اقساط!$G$3:$G$8532=B2049,ROW($B$3:$B$8532)-ROW($B$3)+1),ROWS($C$3:C2049))),\"\")","v":0}]
[{"$f":"IFERROR(INDEX(اقساط!$AT$3:$AT$8532,SMALL(IF(اقساط!$G$3:$G$8532=B2050,ROW($AT$3:$AT$8532)-ROW($AT$3)+1),ROWS($A$3:A2050))),\"\")","v":0},null,{"$f":"IFERROR(INDEX(اقساط!$B$3:$B$8532,SMALL(IF(اقساط!$G$3:$G$8532=B2050,ROW($B$3:$B$8532)-ROW($B$3)+1),ROWS($C$3:C2050))),\"\")","v":0}]
[{"$f":"IFERROR(INDEX(اقساط!$AT$3:$AT$8532,SMALL(IF(اقساط!$G$3:$G$8532=B2051,ROW($AT$3:$AT$8532)-ROW($AT$3)+1),ROWS($A$3:A2051))),\"\")","v":0},null,{"$f":"IFERROR(INDEX(اقساط!$B$3:$B$8532,SMALL(IF(اقساط!$G$3:$G$8532=B2051,ROW($B$3:$B$8532)-ROW($B$3)+1),ROWS($C$3:C2051))),\"\")","v":0}]
[{"$f":"IFERROR(INDEX(اقساط!$AT$3:$AT$8532,SMALL(IF(اقساط!$G$3:$G$8532=B2052,ROW($AT$3:$AT$8532)-ROW($AT$3)+1),ROWS($A$3:A2052))),\"\")","v":0},null,{"$f":"IFERROR(INDEX(اقساط!$B$3:$B$8532,SMALL(IF(اقساط!$G$3:$G$8532=B2052,ROW($B$3:$B$8532)-ROW($B$3)+1),ROWS($C$3:C2052))),\"\")","v":0}]
[{"$f":"IFERROR(INDEX(اقساط!$AT$3:$AT$8532,SMALL(IF(اقساط!$G$3:$G$8532=B2053,ROW($AT$3:$AT$8532)-ROW($AT$3)+1),ROWS($A$3:A2053))),\"\")","v":0},null,{"$f":"IFERROR(INDEX(اقساط!$B$3:$B$8532,SMALL(IF(اقساط!$G$3:$G$8532=B2053,ROW($B$3:$B$8532)-ROW($B$3)+1),ROWS($C$3:C2053))),\"\")","v":0}]
[{"$f":"IFERROR(INDEX(اقساط!$AT$3:$AT$8532,SMALL(IF(اقساط!$G$3:$G$8532=B2054,ROW($AT$3:$AT$8532)-ROW($AT$3)+1),ROWS($A$3:A2054))),\"\")","v":0},null,{"$f":"IFERROR(INDEX(اقساط!$B$3:$B$8532,SMALL(IF(اقساط!$G$3:$G$8532=B2054,ROW($B$3:$B$8532)-ROW($B$3)+1),ROWS($C$3:C2054))),\"\")","v":0}]
[{"$f":"IFERROR(INDEX(اقساط!$AT$3:$AT$8532,SMALL(IF(اقساط!$G$3:$G$8532=B2055,ROW($AT$3:$AT$8532)-ROW($AT$3)+1),ROWS($A$3:A2055))),\"\")","v":0},null,{"$f":"IFERROR(INDEX(اقساط!$B$3:$B$8532,SMALL(IF(اقساط!$G$3:$G$8532=B2055,ROW($B$3:$B$8532)-ROW($B$3)+1),ROWS($C$3:C2055))),\"\")","v":0}]
[{"$f":"IFERROR(INDEX(اقساط!$AT$3:$AT$8532,SMALL(IF(اقساط!$G$3:$G$8532=B2056,ROW($AT$3:$AT$8532)-ROW($AT$3)+1),ROWS($A$3:A2056))),\"\")","v":0},null,{"$f":"IFERROR(INDEX(اقساط!$B$3:$B$8532,SMALL(IF(اقساط!$G$3:$G$8532=B2056,ROW($B$3:$B$8532)-ROW($B$3)+1),ROWS($C$3:C2056))),\"\")","v":0}]
[{"$f":"IFERROR(INDEX(اقساط!$AT$3:$AT$8532,SMALL(IF(اقساط!$G$3:$G$8532=B2057,ROW($AT$3:$AT$8532)-ROW($AT$3)+1),ROWS($A$3:A2057))),\"\")","v":0},null,{"$f":"IFERROR(INDEX(اقساط!$B$3:$B$8532,SMALL(IF(اقساط!$G$3:$G$8532=B2057,ROW($B$3:$B$8532)-ROW($B$3)+1),ROWS($C$3:C2057))),\"\")","v":0}]
[{"$f":"IFERROR(INDEX(اقساط!$AT$3:$AT$8532,SMALL(IF(اقساط!$G$3:$G$8532=B2058,ROW($AT$3:$AT$8532)-ROW($AT$3)+1),ROWS($A$3:A2058))),\"\")","v":0},null,{"$f":"IFERROR(INDEX(اقساط!$B$3:$B$8532,SMALL(IF(اقساط!$G$3:$G$8532=B2058,ROW($B$3:$B$8532)-ROW($B$3)+1),ROWS($C$3:C2058))),\"\")","v":0}]
[{"$f":"IFERROR(INDEX(اقساط!$AT$3:$AT$8532,SMALL(IF(اقساط!$G$3:$G$8532=B2059,ROW($AT$3:$AT$8532)-ROW($AT$3)+1),ROWS($A$3:A2059))),\"\")","v":0},null,{"$f":"IFERROR(INDEX(اقساط!$B$3:$B$8532,SMALL(IF(اقساط!$G$3:$G$8532=B2059,ROW($B$3:$B$8532)-ROW($B$3)+1),ROWS($C$3:C2059))),\"\")","v":0}]
[{"$f":"IFERROR(INDEX(اقساط!$AT$3:$AT$8532,SMALL(IF(اقساط!$G$3:$G$8532=B2060,ROW($AT$3:$AT$8532)-ROW($AT$3)+1),ROWS($A$3:A2060))),\"\")","v":0},null,{"$f":"IFERROR(INDEX(اقساط!$B$3:$B$8532,SMALL(IF(اقساط!$G$3:$G$8532=B2060,ROW($B$3:$B$8532)-ROW($B$3)+1),ROWS($C$3:C2060))),\"\")","v":0}]
[{"$f":"IFERROR(INDEX(اقساط!$AT$3:$AT$8532,SMALL(IF(اقساط!$G$3:$G$8532=B2061,ROW($AT$3:$AT$8532)-ROW($AT$3)+1),ROWS($A$3:A2061))),\"\")","v":0},null,{"$f":"IFERROR(INDEX(اقساط!$B$3:$B$8532,SMALL(IF(اقساط!$G$3:$G$8532=B2061,ROW($B$3:$B$8532)-ROW($B$3)+1),ROWS($C$3:C2061))),\"\")","v":0}]
[{"$f":"IFERROR(INDEX(اقساط!$AT$3:$AT$8532,SMALL(IF(اقساط!$G$3:$G$8532=B2062,ROW($AT$3:$AT$8532)-ROW($AT$3)+1),ROWS($A$3:A2062))),\"\")","v":0},null,{"$f":"IFERROR(INDEX(اقساط!$B$3:$B$8532,SMALL(IF(اقساط!$G$3:$G$8532=B2062,ROW($B$3:$B$8532)-ROW($B$3)+1),ROWS($C$3:C2062))),\"\")","v":0}]
[{"$f":"IFERROR(INDEX(اقساط!$AT$3:$AT$8532,SMALL(IF(اقساط!$G$3:$G$8532=B2063,ROW($AT$3:$AT$8532)-ROW($AT$3)+1),ROWS($A$3:A2063))),\"\")","v":0},null,{"$f":"IFERROR(INDEX(اقساط!$B$3:$B$8532,SMALL(IF(اقساط!$G$3:$G$8532=B2063,ROW($B$3:$B$8532)-ROW($B$3)+1),ROWS($C$3:C2063))),\"\")","v":0}]
[{"$f":"IFERROR(INDEX(اقساط!$AT$3:$AT$8532,SMALL(IF(اقساط!$G$3:$G$8532=B2064,ROW($AT$3:$AT$8532)-ROW($AT$3)+1),ROWS($A$3:A2064))),\"\")","v":0},null,{"$f":"IFERROR(INDEX(اقساط!$B$3:$B$8532,SMALL(IF(اقساط!$G$3:$G$8532=B2064,ROW($B$3:$B$8532)-ROW($B$3)+1),ROWS($C$3:C2064))),\"\")","v":0}]
[{"$f":"IFERROR(INDEX(اقساط!$AT$3:$AT$8532,SMALL(IF(اقساط!$G$3:$G$8532=B2065,ROW($AT$3:$AT$8532)-ROW($AT$3)+1),ROWS($A$3:A2065))),\"\")","v":0},null,{"$f":"IFERROR(INDEX(اقساط!$B$3:$B$8532,SMALL(IF(اقساط!$G$3:$G$8532=B2065,ROW($B$3:$B$8532)-ROW($B$3)+1),ROWS($C$3:C2065))),\"\")","v":0}]
[{"$f":"IFERROR(INDEX(اقساط!$AT$3:$AT$8532,SMALL(IF(اقساط!$G$3:$G$8532=B2066,ROW($AT$3:$AT$8532)-ROW($AT$3)+1),ROWS($A$3:A2066))),\"\")","v":0},null,{"$f":"IFERROR(INDEX(اقساط!$B$3:$B$8532,SMALL(IF(اقساط!$G$3:$G$8532=B2066,ROW($B$3:$B$8532)-ROW($B$3)+1),ROWS($C$3:C2066))),\"\")","v":0}]
[{"$f":"IFERROR(INDEX(اقساط!$AT$3:$AT$8532,SMALL(IF(اقساط!$G$3:$G$8532=B2067,ROW($AT$3:$AT$8532)-ROW($AT$3)+1),ROWS($A$3:A2067))),\"\")","v":0},null,{"$f":"IFERROR(INDEX(اقساط!$B$3:$B$8532,SMALL(IF(اقساط!$G$3:$G$8532=B2067,ROW($B$3:$B$8532)-ROW($B$3)+1),ROWS($C$3:C2067))),\"\")","v":0}]
[{"$f":"IFERROR(INDEX(اقساط!$AT$3:$AT$8532,SMALL(IF(اقساط!$G$3:$G$8532=B2068,ROW($AT$3:$AT$8532)-ROW($AT$3)+1),ROWS($A$3:A2068))),\"\")","v":0},null,{"$f":"IFERROR(INDEX(اقساط!$B$3:$B$8532,SMALL(IF(اقساط!$G$3:$G$8532=B2068,ROW($B$3:$B$8532)-ROW($B$3)+1),ROWS($C$3:C2068))),\"\")","v":0}]
[{"$f":"IFERROR(INDEX(اقساط!$AT$3:$AT$8532,SMALL(IF(اقساط!$G$3:$G$8532=B2069,ROW($AT$3:$AT$8532)-ROW($AT$3)+1),ROWS($A$3:A2069))),\"\")","v":0},null,{"$f":"IFERROR(INDEX(اقساط!$B$3:$B$8532,SMALL(IF(اقساط!$G$3:$G$8532=B2069,ROW($B$3:$B$8532)-ROW($B$3)+1),ROWS($C$3:C2069))),\"\")","v":0}]
[{"$f":"IFERROR(INDEX(اقساط!$AT$3:$AT$8532,SMALL(IF(اقساط!$G$3:$G$8532=B2070,ROW($AT$3:$AT$8532)-ROW($AT$3)+1),ROWS($A$3:A2070))),\"\")","v":0},null,{"$f":"IFERROR(INDEX(اقساط!$B$3:$B$8532,SMALL(IF(اقساط!$G$3:$G$8532=B2070,ROW($B$3:$B$8532)-ROW($B$3)+1),ROWS($C$3:C2070))),\"\")","v":0}]
[{"$f":"IFERROR(INDEX(اقساط!$AT$3:$AT$8532,SMALL(IF(اقساط!$G$3:$G$8532=B2071,ROW($AT$3:$AT$8532)-ROW($AT$3)+1),ROWS($A$3:A2071))),\"\")","v":0},null,{"$f":"IFERROR(INDEX(اقساط!$B$3:$B$8532,SMALL(IF(اقساط!$G$3:$G$8532=B2071,ROW($B$3:$B$8532)-ROW($B$3)+1),ROWS($C$3:C2071))),\"\")","v":0}]
[{"$f":"IFERROR(INDEX(اقساط!$AT$3:$AT$8532,SMALL(IF(اقساط!$G$3:$G$8532=B2072,ROW($AT$3:$AT$8532)-ROW($AT$3)+1),ROWS($A$3:A2072))),\"\")","v":0},null,{"$f":"IFERROR(INDEX(اقساط!$B$3:$B$8532,SMALL(IF(اقساط!$G$3:$G$8532=B2072,ROW($B$3:$B$8532)-ROW($B$3)+1),ROWS($C$3:C2072))),\"\")","v":0}]
[{"$f":"IFERROR(INDEX(اقساط!$AT$3:$AT$8532,SMALL(IF(اقساط!$G$3:$G$8532=B2073,ROW($AT$3:$AT$8532)-ROW($AT$3)+1),ROWS($A$3:A2073))),\"\")","v":0},null,{"$f":"IFERROR(INDEX(اقساط!$B$3:$B$8532,SMALL(IF(اقساط!$G$3:$G$8532=B2073,ROW($B$3:$B$8532)-ROW($B$3)+1),ROWS($C$3:C2073))),\"\")","v":0}]
[{"$f":"IFERROR(INDEX(اقساط!$AT$3:$AT$8532,SMALL(IF(اقساط!$G$3:$G$8532=B2074,ROW($AT$3:$AT$8532)-ROW($AT$3)+1),ROWS($A$3:A2074))),\"\")","v":0},null,{"$f":"IFERROR(INDEX(اقساط!$B$3:$B$8532,SMALL(IF(اقساط!$G$3:$G$8532=B2074,ROW($B$3:$B$8532)-ROW($B$3)+1),ROWS($C$3:C2074))),\"\")","v":0}]
[{"$f":"IFERROR(INDEX(اقساط!$AT$3:$AT$8532,SMALL(IF(اقساط!$G$3:$G$8532=B2075,ROW($AT$3:$AT$8532)-ROW($AT$3)+1),ROWS($A$3:A2075))),\"\")","v":0},null,{"$f":"IFERROR(INDEX(اقساط!$B$3:$B$8532,SMALL(IF(اقساط!$G$3:$G$8532=B2075,ROW($B$3:$B$8532)-ROW($B$3)+1),ROWS($C$3:C2075))),\"\")","v":0}]
[{"$f":"IFERROR(INDEX(اقساط!$AT$3:$AT$8532,SMALL(IF(اقساط!$G$3:$G$8532=B2076,ROW($AT$3:$AT$8532)-ROW($AT$3)+1),ROWS($A$3:A2076))),\"\")","v":0},null,{"$f":"IFERROR(INDEX(اقساط!$B$3:$B$8532,SMALL(IF(اقساط!$G$3:$G$8532=B2076,ROW($B$3:$B$8532)-ROW($B$3)+1),ROWS($C$3:C2076))),\"\")","v":0}]
[{"$f":"IFERROR(INDEX(اقساط!$AT$3:$AT$8532,SMALL(IF(اقساط!$G$3:$G$8532=B2077,ROW($AT$3:$AT$8532)-ROW($AT$3)+1),ROWS($A$3:A2077))),\"\")","v":0},null,{"$f":"IFERROR(INDEX(اقساط!$B$3:$B$8532,SMALL(IF(اقساط!$G$3:$G$8532=B2077,ROW($B$3:$B$8532)-ROW($B$3)+1),ROWS($C$3:C2077))),\"\")","v":0}]
[{"$f":"IFERROR(INDEX(اقساط!$AT$3:$AT$8532,SMALL(IF(اقساط!$G$3:$G$8532=B2078,ROW($AT$3:$AT$8532)-ROW($AT$3)+1),ROWS($A$3:A2078))),\"\")","v":0},null,{"$f":"IFERROR(INDEX(اقساط!$B$3:$B$8532,SMALL(IF(اقساط!$G$3:$G$8532=B2078,ROW($B$3:$B$8532)-ROW($B$3)+1),ROWS($C$3:C2078))),\"\")","v":0}]
[{"$f":"IFERROR(INDEX(اقساط!$AT$3:$AT$8532,SMALL(IF(اقساط!$G$3:$G$8532=B2079,ROW($AT$3:$AT$8532)-ROW($AT$3)+1),ROWS($A$3:A2079))),\"\")","v":0},null,{"$f":"IFERROR(INDEX(اقساط!$B$3:$B$8532,SMALL(IF(اقساط!$G$3:$G$8532=B2079,ROW($B$3:$B$8532)-ROW($B$3)+1),ROWS($C$3:C2079))),\"\")","v":0}]
[{"$f":"IFERROR(INDEX(اقساط!$AT$3:$AT$8532,SMALL(IF(اقساط!$G$3:$G$8532=B2080,ROW($AT$3:$AT$8532)-ROW($AT$3)+1),ROWS($A$3:A2080))),\"\")","v":0},null,{"$f":"IFERROR(INDEX(اقساط!$B$3:$B$8532,SMALL(IF(اقساط!$G$3:$G$8532=B2080,ROW($B$3:$B$8532)-ROW($B$3)+1),ROWS($C$3:C2080))),\"\")","v":0}]
[{"$f":"IFERROR(INDEX(اقساط!$AT$3:$AT$8532,SMALL(IF(اقساط!$G$3:$G$8532=B2081,ROW($AT$3:$AT$8532)-ROW($AT$3)+1),ROWS($A$3:A2081))),\"\")","v":0},null,{"$f":"IFERROR(INDEX(اقساط!$B$3:$B$8532,SMALL(IF(اقساط!$G$3:$G$8532=B2081,ROW($B$3:$B$8532)-ROW($B$3)+1),ROWS($C$3:C2081))),\"\")","v":0}]
[{"$f":"IFERROR(INDEX(اقساط!$AT$3:$AT$8532,SMALL(IF(اقساط!$G$3:$G$8532=B2082,ROW($AT$3:$AT$8532)-ROW($AT$3)+1),ROWS($A$3:A2082))),\"\")","v":0},null,{"$f":"IFERROR(INDEX(اقساط!$B$3:$B$8532,SMALL(IF(اقساط!$G$3:$G$8532=B2082,ROW($B$3:$B$8532)-ROW($B$3)+1),ROWS($C$3:C2082))),\"\")","v":0}]
[{"$f":"IFERROR(INDEX(اقساط!$AT$3:$AT$8532,SMALL(IF(اقساط!$G$3:$G$8532=B2083,ROW($AT$3:$AT$8532)-ROW($AT$3)+1),ROWS($A$3:A2083))),\"\")","v":0},null,{"$f":"IFERROR(INDEX(اقساط!$B$3:$B$8532,SMALL(IF(اقساط!$G$3:$G$8532=B2083,ROW($B$3:$B$8532)-ROW($B$3)+1),ROWS($C$3:C2083))),\"\")","v":0}]
[{"$f":"IFERROR(INDEX(اقساط!$AT$3:$AT$8532,SMALL(IF(اقساط!$G$3:$G$8532=B2084,ROW($AT$3:$AT$8532)-ROW($AT$3)+1),ROWS($A$3:A2084))),\"\")","v":0},null,{"$f":"IFERROR(INDEX(اقساط!$B$3:$B$8532,SMALL(IF(اقساط!$G$3:$G$8532=B2084,ROW($B$3:$B$8532)-ROW($B$3)+1),ROWS($C$3:C2084))),\"\")","v":0}]
[{"$f":"IFERROR(INDEX(اقساط!$AT$3:$AT$8532,SMALL(IF(اقساط!$G$3:$G$8532=B2085,ROW($AT$3:$AT$8532)-ROW($AT$3)+1),ROWS($A$3:A2085))),\"\")","v":0},null,{"$f":"IFERROR(INDEX(اقساط!$B$3:$B$8532,SMALL(IF(اقساط!$G$3:$G$8532=B2085,ROW($B$3:$B$8532)-ROW($B$3)+1),ROWS($C$3:C2085))),\"\")","v":0}]
[{"$f":"IFERROR(INDEX(اقساط!$AT$3:$AT$8532,SMALL(IF(اقساط!$G$3:$G$8532=B2086,ROW($AT$3:$AT$8532)-ROW($AT$3)+1),ROWS($A$3:A2086))),\"\")","v":0},null,{"$f":"IFERROR(INDEX(اقساط!$B$3:$B$8532,SMALL(IF(اقساط!$G$3:$G$8532=B2086,ROW($B$3:$B$8532)-ROW($B$3)+1),ROWS($C$3:C2086))),\"\")","v":0}]
[{"$f":"IFERROR(INDEX(اقساط!$AT$3:$AT$8532,SMALL(IF(اقساط!$G$3:$G$8532=B2087,ROW($AT$3:$AT$8532)-ROW($AT$3)+1),ROWS($A$3:A2087))),\"\")","v":0},null,{"$f":"IFERROR(INDEX(اقساط!$B$3:$B$8532,SMALL(IF(اقساط!$G$3:$G$8532=B2087,ROW($B$3:$B$8532)-ROW($B$3)+1),ROWS($C$3:C2087))),\"\")","v":0}]
[{"$f":"IFERROR(INDEX(اقساط!$AT$3:$AT$8532,SMALL(IF(اقساط!$G$3:$G$8532=B2088,ROW($AT$3:$AT$8532)-ROW($AT$3)+1),ROWS($A$3:A2088))),\"\")","v":0},null,{"$f":"IFERROR(INDEX(اقساط!$B$3:$B$8532,SMALL(IF(اقساط!$G$3:$G$8532=B2088,ROW($B$3:$B$8532)-ROW($B$3)+1),ROWS($C$3:C2088))),\"\")","v":0}]
[{"$f":"IFERROR(INDEX(اقساط!$AT$3:$AT$8532,SMALL(IF(اقساط!$G$3:$G$8532=B2089,ROW($AT$3:$AT$8532)-ROW($AT$3)+1),ROWS($A$3:A2089))),\"\")","v":0},null,{"$f":"IFERROR(INDEX(اقساط!$B$3:$B$8532,SMALL(IF(اقساط!$G$3:$G$8532=B2089,ROW($B$3:$B$8532)-ROW($B$3)+1),ROWS($C$3:C2089))),\"\")","v":0}]
[{"$f":"IFERROR(INDEX(اقساط!$AT$3:$AT$8532,SMALL(IF(اقساط!$G$3:$G$8532=B2090,ROW($AT$3:$AT$8532)-ROW($AT$3)+1),ROWS($A$3:A2090))),\"\")","v":0},null,{"$f":"IFERROR(INDEX(اقساط!$B$3:$B$8532,SMALL(IF(اقساط!$G$3:$G$8532=B2090,ROW($B$3:$B$8532)-ROW($B$3)+1),ROWS($C$3:C2090))),\"\")","v":0}]
[{"$f":"IFERROR(INDEX(اقساط!$AT$3:$AT$8532,SMALL(IF(اقساط!$G$3:$G$8532=B2091,ROW($AT$3:$AT$8532)-ROW($AT$3)+1),ROWS($A$3:A2091))),\"\")","v":0},null,{"$f":"IFERROR(INDEX(اقساط!$B$3:$B$8532,SMALL(IF(اقساط!$G$3:$G$8532=B2091,ROW($B$3:$B$8532)-ROW($B$3)+1),ROWS($C$3:C2091))),\"\")","v":0}]
[{"$f":"IFERROR(INDEX(اقساط!$AT$3:$AT$8532,SMALL(IF(اقساط!$G$3:$G$8532=B2092,ROW($AT$3:$AT$8532)-ROW($AT$3)+1),ROWS($A$3:A2092))),\"\")","v":0},null,{"$f":"IFERROR(INDEX(اقساط!$B$3:$B$8532,SMALL(IF(اقساط!$G$3:$G$8532=B2092,ROW($B$3:$B$8532)-ROW($B$3)+1),ROWS($C$3:C2092))),\"\")","v":0}]
[{"$f":"IFERROR(INDEX(اقساط!$AT$3:$AT$8532,SMALL(IF(اقساط!$G$3:$G$8532=B2093,ROW($AT$3:$AT$8532)-ROW($AT$3)+1),ROWS($A$3:A2093))),\"\")","v":0},null,{"$f":"IFERROR(INDEX(اقساط!$B$3:$B$8532,SMALL(IF(اقساط!$G$3:$G$8532=B2093,ROW($B$3:$B$8532)-ROW($B$3)+1),ROWS($C$3:C2093))),\"\")","v":0}]
[{"$f":"IFERROR(INDEX(اقساط!$AT$3:$AT$8532,SMALL(IF(اقساط!$G$3:$G$8532=B2094,ROW($AT$3:$AT$8532)-ROW($AT$3)+1),ROWS($A$3:A2094))),\"\")","v":0},null,{"$f":"IFERROR(INDEX(اقساط!$B$3:$B$8532,SMALL(IF(اقساط!$G$3:$G$8532=B2094,ROW($B$3:$B$8532)-ROW($B$3)+1),ROWS($C$3:C2094))),\"\")","v":0}]
[{"$f":"IFERROR(INDEX(اقساط!$AT$3:$AT$8532,SMALL(IF(اقساط!$G$3:$G$8532=B2095,ROW($AT$3:$AT$8532)-ROW($AT$3)+1),ROWS($A$3:A2095))),\"\")","v":0},null,{"$f":"IFERROR(INDEX(اقساط!$B$3:$B$8532,SMALL(IF(اقساط!$G$3:$G$8532=B2095,ROW($B$3:$B$8532)-ROW($B$3)+1),ROWS($C$3:C2095))),\"\")","v":0}]
[{"$f":"IFERROR(INDEX(اقساط!$AT$3:$AT$8532,SMALL(IF(اقساط!$G$3:$G$8532=B2096,ROW($AT$3:$AT$8532)-ROW($AT$3)+1),ROWS($A$3:A2096))),\"\")","v":0},null,{"$f":"IFERROR(INDEX(اقساط!$B$3:$B$8532,SMALL(IF(اقساط!$G$3:$G$8532=B2096,ROW($B$3:$B$8532)-ROW($B$3)+1),ROWS($C$3:C2096))),\"\")","v":0}]
[{"$f":"IFERROR(INDEX(اقساط!$AT$3:$AT$8532,SMALL(IF(اقساط!$G$3:$G$8532=B2097,ROW($AT$3:$AT$8532)-ROW($AT$3)+1),ROWS($A$3:A2097))),\"\")","v":0},null,{"$f":"IFERROR(INDEX(اقساط!$B$3:$B$8532,SMALL(IF(اقساط!$G$3:$G$8532=B2097,ROW($B$3:$B$8532)-ROW($B$3)+1),ROWS($C$3:C2097))),\"\")","v":0}]
[{"$f":"IFERROR(INDEX(اقساط!$AT$3:$AT$8532,SMALL(IF(اقساط!$G$3:$G$8532=B2098,ROW($AT$3:$AT$8532)-ROW($AT$3)+1),ROWS($A$3:A2098))),\"\")","v":0},null,{"$f":"IFERROR(INDEX(اقساط!$B$3:$B$8532,SMALL(IF(اقساط!$G$3:$G$8532=B2098,ROW($B$3:$B$8532)-ROW($B$3)+1),ROWS($C$3:C2098))),\"\")","v":0}]
[{"$f":"IFERROR(INDEX(اقساط!$AT$3:$AT$8532,SMALL(IF(اقساط!$G$3:$G$8532=B2099,ROW($AT$3:$AT$8532)-ROW($AT$3)+1),ROWS($A$3:A2099))),\"\")","v":0},null,{"$f":"IFERROR(INDEX(اقساط!$B$3:$B$8532,SMALL(IF(اقساط!$G$3:$G$8532=B2099,ROW($B$3:$B$8532)-ROW($B$3)+1),ROWS($C$3:C2099))),\"\")","v":0}]
[{"$f":"IFERROR(INDEX(اقساط!$AT$3:$AT$8532,SMALL(IF(اقساط!$G$3:$G$8532=B2100,ROW($AT$3:$AT$8532)-ROW($AT$3)+1),ROWS($A$3:A2100))),\"\")","v":0},null,{"$f":"IFERROR(INDEX(اقساط!$B$3:$B$8532,SMALL(IF(اقساط!$G$3:$G$8532=B2100,ROW($B$3:$B$8532)-ROW($B$3)+1),ROWS($C$3:C2100))),\"\")","v":0}]
[{"$f":"IFERROR(INDEX(اقساط!$AT$3:$AT$8532,SMALL(IF(اقساط!$G$3:$G$8532=B2101,ROW($AT$3:$AT$8532)-ROW($AT$3)+1),ROWS($A$3:A2101))),\"\")","v":0},null,{"$f":"IFERROR(INDEX(اقساط!$B$3:$B$8532,SMALL(IF(اقساط!$G$3:$G$8532=B2101,ROW($B$3:$B$8532)-ROW($B$3)+1),ROWS($C$3:C2101))),\"\")","v":0}]
[{"$f":"IFERROR(INDEX(اقساط!$AT$3:$AT$8532,SMALL(IF(اقساط!$G$3:$G$8532=B2102,ROW($AT$3:$AT$8532)-ROW($AT$3)+1),ROWS($A$3:A2102))),\"\")","v":0},null,{"$f":"IFERROR(INDEX(اقساط!$B$3:$B$8532,SMALL(IF(اقساط!$G$3:$G$8532=B2102,ROW($B$3:$B$8532)-ROW($B$3)+1),ROWS($C$3:C2102))),\"\")","v":0}]
[{"$f":"IFERROR(INDEX(اقساط!$AT$3:$AT$8532,SMALL(IF(اقساط!$G$3:$G$8532=B2103,ROW($AT$3:$AT$8532)-ROW($AT$3)+1),ROWS($A$3:A2103))),\"\")","v":0},null,{"$f":"IFERROR(INDEX(اقساط!$B$3:$B$8532,SMALL(IF(اقساط!$G$3:$G$8532=B2103,ROW($B$3:$B$8532)-ROW($B$3)+1),ROWS($C$3:C2103))),\"\")","v":0}]
[{"$f":"IFERROR(INDEX(اقساط!$AT$3:$AT$8532,SMALL(IF(اقساط!$G$3:$G$8532=B2104,ROW($AT$3:$AT$8532)-ROW($AT$3)+1),ROWS($A$3:A2104))),\"\")","v":0},null,{"$f":"IFERROR(INDEX(اقساط!$B$3:$B$8532,SMALL(IF(اقساط!$G$3:$G$8532=B2104,ROW($B$3:$B$8532)-ROW($B$3)+1),ROWS($C$3:C2104))),\"\")","v":0}]
[{"$f":"IFERROR(INDEX(اقساط!$AT$3:$AT$8532,SMALL(IF(اقساط!$G$3:$G$8532=B2105,ROW($AT$3:$AT$8532)-ROW($AT$3)+1),ROWS($A$3:A2105))),\"\")","v":0},null,{"$f":"IFERROR(INDEX(اقساط!$B$3:$B$8532,SMALL(IF(اقساط!$G$3:$G$8532=B2105,ROW($B$3:$B$8532)-ROW($B$3)+1),ROWS($C$3:C2105))),\"\")","v":0}]
[{"$f":"IFERROR(INDEX(اقساط!$AT$3:$AT$8532,SMALL(IF(اقساط!$G$3:$G$8532=B2106,ROW($AT$3:$AT$8532)-ROW($AT$3)+1),ROWS($A$3:A2106))),\"\")","v":0},null,{"$f":"IFERROR(INDEX(اقساط!$B$3:$B$8532,SMALL(IF(اقساط!$G$3:$G$8532=B2106,ROW($B$3:$B$8532)-ROW($B$3)+1),ROWS($C$3:C2106))),\"\")","v":0}]
[{"$f":"IFERROR(INDEX(اقساط!$AT$3:$AT$8532,SMALL(IF(اقساط!$G$3:$G$8532=B2107,ROW($AT$3:$AT$8532)-ROW($AT$3)+1),ROWS($A$3:A2107))),\"\")","v":0},null,{"$f":"IFERROR(INDEX(اقساط!$B$3:$B$8532,SMALL(IF(اقساط!$G$3:$G$8532=B2107,ROW($B$3:$B$8532)-ROW($B$3)+1),ROWS($C$3:C2107))),\"\")","v":0}]
[{"$f":"IFERROR(INDEX(اقساط!$AT$3:$AT$8532,SMALL(IF(اقساط!$G$3:$G$8532=B2108,ROW($AT$3:$AT$8532)-ROW($AT$3)+1),ROWS($A$3:A2108))),\"\")","v":0},null,{"$f":"IFERROR(INDEX(اقساط!$B$3:$B$8532,SMALL(IF(اقساط!$G$3:$G$8532=B2108,ROW($B$3:$B$8532)-ROW($B$3)+1),ROWS($C$3:C2108))),\"\")","v":0}]
[{"$f":"IFERROR(INDEX(اقساط!$AT$3:$AT$8532,SMALL(IF(اقساط!$G$3:$G$8532=B2109,ROW($AT$3:$AT$8532)-ROW($AT$3)+1),ROWS($A$3:A2109))),\"\")","v":0},null,{"$f":"IFERROR(INDEX(اقساط!$B$3:$B$8532,SMALL(IF(اقساط!$G$3:$G$8532=B2109,ROW($B$3:$B$8532)-ROW($B$3)+1),ROWS($C$3:C2109))),\"\")","v":0}]
[{"$f":"IFERROR(INDEX(اقساط!$AT$3:$AT$8532,SMALL(IF(اقساط!$G$3:$G$8532=B2110,ROW($AT$3:$AT$8532)-ROW($AT$3)+1),ROWS($A$3:A2110))),\"\")","v":0},null,{"$f":"IFERROR(INDEX(اقساط!$B$3:$B$8532,SMALL(IF(اقساط!$G$3:$G$8532=B2110,ROW($B$3:$B$8532)-ROW($B$3)+1),ROWS($C$3:C2110))),\"\")","v":0}]
[{"$f":"IFERROR(INDEX(اقساط!$AT$3:$AT$8532,SMALL(IF(اقساط!$G$3:$G$8532=B2111,ROW($AT$3:$AT$8532)-ROW($AT$3)+1),ROWS($A$3:A2111))),\"\")","v":0},null,{"$f":"IFERROR(INDEX(اقساط!$B$3:$B$8532,SMALL(IF(اقساط!$G$3:$G$8532=B2111,ROW($B$3:$B$8532)-ROW($B$3)+1),ROWS($C$3:C2111))),\"\")","v":0}]
[{"$f":"IFERROR(INDEX(اقساط!$AT$3:$AT$8532,SMALL(IF(اقساط!$G$3:$G$8532=B2112,ROW($AT$3:$AT$8532)-ROW($AT$3)+1),ROWS($A$3:A2112))),\"\")","v":0},null,{"$f":"IFERROR(INDEX(اقساط!$B$3:$B$8532,SMALL(IF(اقساط!$G$3:$G$8532=B2112,ROW($B$3:$B$8532)-ROW($B$3)+1),ROWS($C$3:C2112))),\"\")","v":0}]
[{"$f":"IFERROR(INDEX(اقساط!$AT$3:$AT$8532,SMALL(IF(اقساط!$G$3:$G$8532=B2113,ROW($AT$3:$AT$8532)-ROW($AT$3)+1),ROWS($A$3:A2113))),\"\")","v":0},null,{"$f":"IFERROR(INDEX(اقساط!$B$3:$B$8532,SMALL(IF(اقساط!$G$3:$G$8532=B2113,ROW($B$3:$B$8532)-ROW($B$3)+1),ROWS($C$3:C2113))),\"\")","v":0}]
[{"$f":"IFERROR(INDEX(اقساط!$AT$3:$AT$8532,SMALL(IF(اقساط!$G$3:$G$8532=B2114,ROW($AT$3:$AT$8532)-ROW($AT$3)+1),ROWS($A$3:A2114))),\"\")","v":0},null,{"$f":"IFERROR(INDEX(اقساط!$B$3:$B$8532,SMALL(IF(اقساط!$G$3:$G$8532=B2114,ROW($B$3:$B$8532)-ROW($B$3)+1),ROWS($C$3:C2114))),\"\")","v":0}]
[{"$f":"IFERROR(INDEX(اقساط!$AT$3:$AT$8532,SMALL(IF(اقساط!$G$3:$G$8532=B2115,ROW($AT$3:$AT$8532)-ROW($AT$3)+1),ROWS($A$3:A2115))),\"\")","v":0},null,{"$f":"IFERROR(INDEX(اقساط!$B$3:$B$8532,SMALL(IF(اقساط!$G$3:$G$8532=B2115,ROW($B$3:$B$8532)-ROW($B$3)+1),ROWS($C$3:C2115))),\"\")","v":0}]
[{"$f":"IFERROR(INDEX(اقساط!$AT$3:$AT$8532,SMALL(IF(اقساط!$G$3:$G$8532=B2116,ROW($AT$3:$AT$8532)-ROW($AT$3)+1),ROWS($A$3:A2116))),\"\")","v":0},null,{"$f":"IFERROR(INDEX(اقساط!$B$3:$B$8532,SMALL(IF(اقساط!$G$3:$G$8532=B2116,ROW($B$3:$B$8532)-ROW($B$3)+1),ROWS($C$3:C2116))),\"\")","v":0}]
[{"$f":"IFERROR(INDEX(اقساط!$AT$3:$AT$8532,SMALL(IF(اقساط!$G$3:$G$8532=B2117,ROW($AT$3:$AT$8532)-ROW($AT$3)+1),ROWS($A$3:A2117))),\"\")","v":0},null,{"$f":"IFERROR(INDEX(اقساط!$B$3:$B$8532,SMALL(IF(اقساط!$G$3:$G$8532=B2117,ROW($B$3:$B$8532)-ROW($B$3)+1),ROWS($C$3:C2117))),\"\")","v":0}]
[{"$f":"IFERROR(INDEX(اقساط!$AT$3:$AT$8532,SMALL(IF(اقساط!$G$3:$G$8532=B2118,ROW($AT$3:$AT$8532)-ROW($AT$3)+1),ROWS($A$3:A2118))),\"\")","v":0},null,{"$f":"IFERROR(INDEX(اقساط!$B$3:$B$8532,SMALL(IF(اقساط!$G$3:$G$8532=B2118,ROW($B$3:$B$8532)-ROW($B$3)+1),ROWS($C$3:C2118))),\"\")","v":0}]
[{"$f":"IFERROR(INDEX(اقساط!$AT$3:$AT$8532,SMALL(IF(اقساط!$G$3:$G$8532=B2119,ROW($AT$3:$AT$8532)-ROW($AT$3)+1),ROWS($A$3:A2119))),\"\")","v":0},null,{"$f":"IFERROR(INDEX(اقساط!$B$3:$B$8532,SMALL(IF(اقساط!$G$3:$G$8532=B2119,ROW($B$3:$B$8532)-ROW($B$3)+1),ROWS($C$3:C2119))),\"\")","v":0}]
[{"$f":"IFERROR(INDEX(اقساط!$AT$3:$AT$8532,SMALL(IF(اقساط!$G$3:$G$8532=B2120,ROW($AT$3:$AT$8532)-ROW($AT$3)+1),ROWS($A$3:A2120))),\"\")","v":0},null,{"$f":"IFERROR(INDEX(اقساط!$B$3:$B$8532,SMALL(IF(اقساط!$G$3:$G$8532=B2120,ROW($B$3:$B$8532)-ROW($B$3)+1),ROWS($C$3:C2120))),\"\")","v":0}]
[{"$f":"IFERROR(INDEX(اقساط!$AT$3:$AT$8532,SMALL(IF(اقساط!$G$3:$G$8532=B2121,ROW($AT$3:$AT$8532)-ROW($AT$3)+1),ROWS($A$3:A2121))),\"\")","v":0},null,{"$f":"IFERROR(INDEX(اقساط!$B$3:$B$8532,SMALL(IF(اقساط!$G$3:$G$8532=B2121,ROW($B$3:$B$8532)-ROW($B$3)+1),ROWS($C$3:C2121))),\"\")","v":0}]
[{"$f":"IFERROR(INDEX(اقساط!$AT$3:$AT$8532,SMALL(IF(اقساط!$G$3:$G$8532=B2122,ROW($AT$3:$AT$8532)-ROW($AT$3)+1),ROWS($A$3:A2122))),\"\")","v":0},null,{"$f":"IFERROR(INDEX(اقساط!$B$3:$B$8532,SMALL(IF(اقساط!$G$3:$G$8532=B2122,ROW($B$3:$B$8532)-ROW($B$3)+1),ROWS($C$3:C2122))),\"\")","v":0}]
[{"$f":"IFERROR(INDEX(اقساط!$AT$3:$AT$8532,SMALL(IF(اقساط!$G$3:$G$8532=B2123,ROW($AT$3:$AT$8532)-ROW($AT$3)+1),ROWS($A$3:A2123))),\"\")","v":0},null,{"$f":"IFERROR(INDEX(اقساط!$B$3:$B$8532,SMALL(IF(اقساط!$G$3:$G$8532=B2123,ROW($B$3:$B$8532)-ROW($B$3)+1),ROWS($C$3:C2123))),\"\")","v":0}]
[{"$f":"IFERROR(INDEX(اقساط!$AT$3:$AT$8532,SMALL(IF(اقساط!$G$3:$G$8532=B2124,ROW($AT$3:$AT$8532)-ROW($AT$3)+1),ROWS($A$3:A2124))),\"\")","v":0},null,{"$f":"IFERROR(INDEX(اقساط!$B$3:$B$8532,SMALL(IF(اقساط!$G$3:$G$8532=B2124,ROW($B$3:$B$8532)-ROW($B$3)+1),ROWS($C$3:C2124))),\"\")","v":0}]
[{"$f":"IFERROR(INDEX(اقساط!$AT$3:$AT$8532,SMALL(IF(اقساط!$G$3:$G$8532=B2125,ROW($AT$3:$AT$8532)-ROW($AT$3)+1),ROWS($A$3:A2125))),\"\")","v":0},null,{"$f":"IFERROR(INDEX(اقساط!$B$3:$B$8532,SMALL(IF(اقساط!$G$3:$G$8532=B2125,ROW($B$3:$B$8532)-ROW($B$3)+1),ROWS($C$3:C2125))),\"\")","v":0}]
[{"$f":"IFERROR(INDEX(اقساط!$AT$3:$AT$8532,SMALL(IF(اقساط!$G$3:$G$8532=B2126,ROW($AT$3:$AT$8532)-ROW($AT$3)+1),ROWS($A$3:A2126))),\"\")","v":0},null,{"$f":"IFERROR(INDEX(اقساط!$B$3:$B$8532,SMALL(IF(اقساط!$G$3:$G$8532=B2126,ROW($B$3:$B$8532)-ROW($B$3)+1),ROWS($C$3:C2126))),\"\")","v":0}]
[{"$f":"IFERROR(INDEX(اقساط!$AT$3:$AT$8532,SMALL(IF(اقساط!$G$3:$G$8532=B2127,ROW($AT$3:$AT$8532)-ROW($AT$3)+1),ROWS($A$3:A2127))),\"\")","v":0},null,{"$f":"IFERROR(INDEX(اقساط!$B$3:$B$8532,SMALL(IF(اقساط!$G$3:$G$8532=B2127,ROW($B$3:$B$8532)-ROW($B$3)+1),ROWS($C$3:C2127))),\"\")","v":0}]
[{"$f":"IFERROR(INDEX(اقساط!$AT$3:$AT$8532,SMALL(IF(اقساط!$G$3:$G$8532=B2128,ROW($AT$3:$AT$8532)-ROW($AT$3)+1),ROWS($A$3:A2128))),\"\")","v":0},null,{"$f":"IFERROR(INDEX(اقساط!$B$3:$B$8532,SMALL(IF(اقساط!$G$3:$G$8532=B2128,ROW($B$3:$B$8532)-ROW($B$3)+1),ROWS($C$3:C2128))),\"\")","v":0}]
[{"$f":"IFERROR(INDEX(اقساط!$AT$3:$AT$8532,SMALL(IF(اقساط!$G$3:$G$8532=B2129,ROW($AT$3:$AT$8532)-ROW($AT$3)+1),ROWS($A$3:A2129))),\"\")","v":0},null,{"$f":"IFERROR(INDEX(اقساط!$B$3:$B$8532,SMALL(IF(اقساط!$G$3:$G$8532=B2129,ROW($B$3:$B$8532)-ROW($B$3)+1),ROWS($C$3:C2129))),\"\")","v":0}]
[{"$f":"IFERROR(INDEX(اقساط!$AT$3:$AT$8532,SMALL(IF(اقساط!$G$3:$G$8532=B2130,ROW($AT$3:$AT$8532)-ROW($AT$3)+1),ROWS($A$3:A2130))),\"\")","v":0},null,{"$f":"IFERROR(INDEX(اقساط!$B$3:$B$8532,SMALL(IF(اقساط!$G$3:$G$8532=B2130,ROW($B$3:$B$8532)-ROW($B$3)+1),ROWS($C$3:C2130))),\"\")","v":0}]
[{"$f":"IFERROR(INDEX(اقساط!$AT$3:$AT$8532,SMALL(IF(اقساط!$G$3:$G$8532=B2131,ROW($AT$3:$AT$8532)-ROW($AT$3)+1),ROWS($A$3:A2131))),\"\")","v":0},null,{"$f":"IFERROR(INDEX(اقساط!$B$3:$B$8532,SMALL(IF(اقساط!$G$3:$G$8532=B2131,ROW($B$3:$B$8532)-ROW($B$3)+1),ROWS($C$3:C2131))),\"\")","v":0}]
[{"$f":"IFERROR(INDEX(اقساط!$AT$3:$AT$8532,SMALL(IF(اقساط!$G$3:$G$8532=B2132,ROW($AT$3:$AT$8532)-ROW($AT$3)+1),ROWS($A$3:A2132))),\"\")","v":0},null,{"$f":"IFERROR(INDEX(اقساط!$B$3:$B$8532,SMALL(IF(اقساط!$G$3:$G$8532=B2132,ROW($B$3:$B$8532)-ROW($B$3)+1),ROWS($C$3:C2132))),\"\")","v":0}]
[{"$f":"IFERROR(INDEX(اقساط!$AT$3:$AT$8532,SMALL(IF(اقساط!$G$3:$G$8532=B2133,ROW($AT$3:$AT$8532)-ROW($AT$3)+1),ROWS($A$3:A2133))),\"\")","v":0},null,{"$f":"IFERROR(INDEX(اقساط!$B$3:$B$8532,SMALL(IF(اقساط!$G$3:$G$8532=B2133,ROW($B$3:$B$8532)-ROW($B$3)+1),ROWS($C$3:C2133))),\"\")","v":0}]
[{"$f":"IFERROR(INDEX(اقساط!$AT$3:$AT$8532,SMALL(IF(اقساط!$G$3:$G$8532=B2134,ROW($AT$3:$AT$8532)-ROW($AT$3)+1),ROWS($A$3:A2134))),\"\")","v":0},null,{"$f":"IFERROR(INDEX(اقساط!$B$3:$B$8532,SMALL(IF(اقساط!$G$3:$G$8532=B2134,ROW($B$3:$B$8532)-ROW($B$3)+1),ROWS($C$3:C2134))),\"\")","v":0}]
[{"$f":"IFERROR(INDEX(اقساط!$AT$3:$AT$8532,SMALL(IF(اقساط!$G$3:$G$8532=B2135,ROW($AT$3:$AT$8532)-ROW($AT$3)+1),ROWS($A$3:A2135))),\"\")","v":0},null,{"$f":"IFERROR(INDEX(اقساط!$B$3:$B$8532,SMALL(IF(اقساط!$G$3:$G$8532=B2135,ROW($B$3:$B$8532)-ROW($B$3)+1),ROWS($C$3:C2135))),\"\")","v":0}]
[{"$f":"IFERROR(INDEX(اقساط!$AT$3:$AT$8532,SMALL(IF(اقساط!$G$3:$G$8532=B2136,ROW($AT$3:$AT$8532)-ROW($AT$3)+1),ROWS($A$3:A2136))),\"\")","v":0},null,{"$f":"IFERROR(INDEX(اقساط!$B$3:$B$8532,SMALL(IF(اقساط!$G$3:$G$8532=B2136,ROW($B$3:$B$8532)-ROW($B$3)+1),ROWS($C$3:C2136))),\"\")","v":0}]
[{"$f":"IFERROR(INDEX(اقساط!$AT$3:$AT$8532,SMALL(IF(اقساط!$G$3:$G$8532=B2137,ROW($AT$3:$AT$8532)-ROW($AT$3)+1),ROWS($A$3:A2137))),\"\")","v":0},null,{"$f":"IFERROR(INDEX(اقساط!$B$3:$B$8532,SMALL(IF(اقساط!$G$3:$G$8532=B2137,ROW($B$3:$B$8532)-ROW($B$3)+1),ROWS($C$3:C2137))),\"\")","v":0}]
[{"$f":"IFERROR(INDEX(اقساط!$AT$3:$AT$8532,SMALL(IF(اقساط!$G$3:$G$8532=B2138,ROW($AT$3:$AT$8532)-ROW($AT$3)+1),ROWS($A$3:A2138))),\"\")","v":0},null,{"$f":"IFERROR(INDEX(اقساط!$B$3:$B$8532,SMALL(IF(اقساط!$G$3:$G$8532=B2138,ROW($B$3:$B$8532)-ROW($B$3)+1),ROWS($C$3:C2138))),\"\")","v":0}]
[{"$f":"IFERROR(INDEX(اقساط!$AT$3:$AT$8532,SMALL(IF(اقساط!$G$3:$G$8532=B2139,ROW($AT$3:$AT$8532)-ROW($AT$3)+1),ROWS($A$3:A2139))),\"\")","v":0},null,{"$f":"IFERROR(INDEX(اقساط!$B$3:$B$8532,SMALL(IF(اقساط!$G$3:$G$8532=B2139,ROW($B$3:$B$8532)-ROW($B$3)+1),ROWS($C$3:C2139))),\"\")","v":0}]
[{"$f":"IFERROR(INDEX(اقساط!$AT$3:$AT$8532,SMALL(IF(اقساط!$G$3:$G$8532=B2140,ROW($AT$3:$AT$8532)-ROW($AT$3)+1),ROWS($A$3:A2140))),\"\")","v":0},null,{"$f":"IFERROR(INDEX(اقساط!$B$3:$B$8532,SMALL(IF(اقساط!$G$3:$G$8532=B2140,ROW($B$3:$B$8532)-ROW($B$3)+1),ROWS($C$3:C2140))),\"\")","v":0}]
[{"$f":"IFERROR(INDEX(اقساط!$AT$3:$AT$8532,SMALL(IF(اقساط!$G$3:$G$8532=B2141,ROW($AT$3:$AT$8532)-ROW($AT$3)+1),ROWS($A$3:A2141))),\"\")","v":0},null,{"$f":"IFERROR(INDEX(اقساط!$B$3:$B$8532,SMALL(IF(اقساط!$G$3:$G$8532=B2141,ROW($B$3:$B$8532)-ROW($B$3)+1),ROWS($C$3:C2141))),\"\")","v":0}]
[{"$f":"IFERROR(INDEX(اقساط!$AT$3:$AT$8532,SMALL(IF(اقساط!$G$3:$G$8532=B2142,ROW($AT$3:$AT$8532)-ROW($AT$3)+1),ROWS($A$3:A2142))),\"\")","v":0},null,{"$f":"IFERROR(INDEX(اقساط!$B$3:$B$8532,SMALL(IF(اقساط!$G$3:$G$8532=B2142,ROW($B$3:$B$8532)-ROW($B$3)+1),ROWS($C$3:C2142))),\"\")","v":0}]
[{"$f":"IFERROR(INDEX(اقساط!$AT$3:$AT$8532,SMALL(IF(اقساط!$G$3:$G$8532=B2143,ROW($AT$3:$AT$8532)-ROW($AT$3)+1),ROWS($A$3:A2143))),\"\")","v":0},null,{"$f":"IFERROR(INDEX(اقساط!$B$3:$B$8532,SMALL(IF(اقساط!$G$3:$G$8532=B2143,ROW($B$3:$B$8532)-ROW($B$3)+1),ROWS($C$3:C2143))),\"\")","v":0}]
[{"$f":"IFERROR(INDEX(اقساط!$AT$3:$AT$8532,SMALL(IF(اقساط!$G$3:$G$8532=B2144,ROW($AT$3:$AT$8532)-ROW($AT$3)+1),ROWS($A$3:A2144))),\"\")","v":0},null,{"$f":"IFERROR(INDEX(اقساط!$B$3:$B$8532,SMALL(IF(اقساط!$G$3:$G$8532=B2144,ROW($B$3:$B$8532)-ROW($B$3)+1),ROWS($C$3:C2144))),\"\")","v":0}]
[{"$f":"IFERROR(INDEX(اقساط!$AT$3:$AT$8532,SMALL(IF(اقساط!$G$3:$G$8532=B2145,ROW($AT$3:$AT$8532)-ROW($AT$3)+1),ROWS($A$3:A2145))),\"\")","v":0},null,{"$f":"IFERROR(INDEX(اقساط!$B$3:$B$8532,SMALL(IF(اقساط!$G$3:$G$8532=B2145,ROW($B$3:$B$8532)-ROW($B$3)+1),ROWS($C$3:C2145))),\"\")","v":0}]
[{"$f":"IFERROR(INDEX(اقساط!$AT$3:$AT$8532,SMALL(IF(اقساط!$G$3:$G$8532=B2146,ROW($AT$3:$AT$8532)-ROW($AT$3)+1),ROWS($A$3:A2146))),\"\")","v":0},null,{"$f":"IFERROR(INDEX(اقساط!$B$3:$B$8532,SMALL(IF(اقساط!$G$3:$G$8532=B2146,ROW($B$3:$B$8532)-ROW($B$3)+1),ROWS($C$3:C2146))),\"\")","v":0}]
[{"$f":"IFERROR(INDEX(اقساط!$AT$3:$AT$8532,SMALL(IF(اقساط!$G$3:$G$8532=B2147,ROW($AT$3:$AT$8532)-ROW($AT$3)+1),ROWS($A$3:A2147))),\"\")","v":0},null,{"$f":"IFERROR(INDEX(اقساط!$B$3:$B$8532,SMALL(IF(اقساط!$G$3:$G$8532=B2147,ROW($B$3:$B$8532)-ROW($B$3)+1),ROWS($C$3:C2147))),\"\")","v":0}]
[{"$f":"IFERROR(INDEX(اقساط!$AT$3:$AT$8532,SMALL(IF(اقساط!$G$3:$G$8532=B2148,ROW($AT$3:$AT$8532)-ROW($AT$3)+1),ROWS($A$3:A2148))),\"\")","v":0},null,{"$f":"IFERROR(INDEX(اقساط!$B$3:$B$8532,SMALL(IF(اقساط!$G$3:$G$8532=B2148,ROW($B$3:$B$8532)-ROW($B$3)+1),ROWS($C$3:C2148))),\"\")","v":0}]
[{"$f":"IFERROR(INDEX(اقساط!$AT$3:$AT$8532,SMALL(IF(اقساط!$G$3:$G$8532=B2149,ROW($AT$3:$AT$8532)-ROW($AT$3)+1),ROWS($A$3:A2149))),\"\")","v":0},null,{"$f":"IFERROR(INDEX(اقساط!$B$3:$B$8532,SMALL(IF(اقساط!$G$3:$G$8532=B2149,ROW($B$3:$B$8532)-ROW($B$3)+1),ROWS($C$3:C2149))),\"\")","v":0}]
[{"$f":"IFERROR(INDEX(اقساط!$AT$3:$AT$8532,SMALL(IF(اقساط!$G$3:$G$8532=B2150,ROW($AT$3:$AT$8532)-ROW($AT$3)+1),ROWS($A$3:A2150))),\"\")","v":0},null,{"$f":"IFERROR(INDEX(اقساط!$B$3:$B$8532,SMALL(IF(اقساط!$G$3:$G$8532=B2150,ROW($B$3:$B$8532)-ROW($B$3)+1),ROWS($C$3:C2150))),\"\")","v":0}]
[{"$f":"IFERROR(INDEX(اقساط!$AT$3:$AT$8532,SMALL(IF(اقساط!$G$3:$G$8532=B2151,ROW($AT$3:$AT$8532)-ROW($AT$3)+1),ROWS($A$3:A2151))),\"\")","v":0},null,{"$f":"IFERROR(INDEX(اقساط!$B$3:$B$8532,SMALL(IF(اقساط!$G$3:$G$8532=B2151,ROW($B$3:$B$8532)-ROW($B$3)+1),ROWS($C$3:C2151))),\"\")","v":0}]
[{"$f":"IFERROR(INDEX(اقساط!$AT$3:$AT$8532,SMALL(IF(اقساط!$G$3:$G$8532=B2152,ROW($AT$3:$AT$8532)-ROW($AT$3)+1),ROWS($A$3:A2152))),\"\")","v":0},null,{"$f":"IFERROR(INDEX(اقساط!$B$3:$B$8532,SMALL(IF(اقساط!$G$3:$G$8532=B2152,ROW($B$3:$B$8532)-ROW($B$3)+1),ROWS($C$3:C2152))),\"\")","v":0}]
[{"$f":"IFERROR(INDEX(اقساط!$AT$3:$AT$8532,SMALL(IF(اقساط!$G$3:$G$8532=B2153,ROW($AT$3:$AT$8532)-ROW($AT$3)+1),ROWS($A$3:A2153))),\"\")","v":0},null,{"$f":"IFERROR(INDEX(اقساط!$B$3:$B$8532,SMALL(IF(اقساط!$G$3:$G$8532=B2153,ROW($B$3:$B$8532)-ROW($B$3)+1),ROWS($C$3:C2153))),\"\")","v":0}]
[{"$f":"IFERROR(INDEX(اقساط!$AT$3:$AT$8532,SMALL(IF(اقساط!$G$3:$G$8532=B2154,ROW($AT$3:$AT$8532)-ROW($AT$3)+1),ROWS($A$3:A2154))),\"\")","v":0},null,{"$f":"IFERROR(INDEX(اقساط!$B$3:$B$8532,SMALL(IF(اقساط!$G$3:$G$8532=B2154,ROW($B$3:$B$8532)-ROW($B$3)+1),ROWS($C$3:C2154))),\"\")","v":0}]
[{"$f":"IFERROR(INDEX(اقساط!$AT$3:$AT$8532,SMALL(IF(اقساط!$G$3:$G$8532=B2155,ROW($AT$3:$AT$8532)-ROW($AT$3)+1),ROWS($A$3:A2155))),\"\")","v":0},null,{"$f":"IFERROR(INDEX(اقساط!$B$3:$B$8532,SMALL(IF(اقساط!$G$3:$G$8532=B2155,ROW($B$3:$B$8532)-ROW($B$3)+1),ROWS($C$3:C2155))),\"\")","v":0}]
[{"$f":"IFERROR(INDEX(اقساط!$AT$3:$AT$8532,SMALL(IF(اقساط!$G$3:$G$8532=B2156,ROW($AT$3:$AT$8532)-ROW($AT$3)+1),ROWS($A$3:A2156))),\"\")","v":0},null,{"$f":"IFERROR(INDEX(اقساط!$B$3:$B$8532,SMALL(IF(اقساط!$G$3:$G$8532=B2156,ROW($B$3:$B$8532)-ROW($B$3)+1),ROWS($C$3:C2156))),\"\")","v":0}]
[{"$f":"IFERROR(INDEX(اقساط!$AT$3:$AT$8532,SMALL(IF(اقساط!$G$3:$G$8532=B2157,ROW($AT$3:$AT$8532)-ROW($AT$3)+1),ROWS($A$3:A2157))),\"\")","v":0},null,{"$f":"IFERROR(INDEX(اقساط!$B$3:$B$8532,SMALL(IF(اقساط!$G$3:$G$8532=B2157,ROW($B$3:$B$8532)-ROW($B$3)+1),ROWS($C$3:C2157))),\"\")","v":0}]
[{"$f":"IFERROR(INDEX(اقساط!$AT$3:$AT$8532,SMALL(IF(اقساط!$G$3:$G$8532=B2158,ROW($AT$3:$AT$8532)-ROW($AT$3)+1),ROWS($A$3:A2158))),\"\")","v":0},null,{"$f":"IFERROR(INDEX(اقساط!$B$3:$B$8532,SMALL(IF(اقساط!$G$3:$G$8532=B2158,ROW($B$3:$B$8532)-ROW($B$3)+1),ROWS($C$3:C2158))),\"\")","v":0}]
[{"$f":"IFERROR(INDEX(اقساط!$AT$3:$AT$8532,SMALL(IF(اقساط!$G$3:$G$8532=B2159,ROW($AT$3:$AT$8532)-ROW($AT$3)+1),ROWS($A$3:A2159))),\"\")","v":0},null,{"$f":"IFERROR(INDEX(اقساط!$B$3:$B$8532,SMALL(IF(اقساط!$G$3:$G$8532=B2159,ROW($B$3:$B$8532)-ROW($B$3)+1),ROWS($C$3:C2159))),\"\")","v":0}]
[{"$f":"IFERROR(INDEX(اقساط!$AT$3:$AT$8532,SMALL(IF(اقساط!$G$3:$G$8532=B2160,ROW($AT$3:$AT$8532)-ROW($AT$3)+1),ROWS($A$3:A2160))),\"\")","v":0},null,{"$f":"IFERROR(INDEX(اقساط!$B$3:$B$8532,SMALL(IF(اقساط!$G$3:$G$8532=B2160,ROW($B$3:$B$8532)-ROW($B$3)+1),ROWS($C$3:C2160))),\"\")","v":0}]
[{"$f":"IFERROR(INDEX(اقساط!$AT$3:$AT$8532,SMALL(IF(اقساط!$G$3:$G$8532=B2161,ROW($AT$3:$AT$8532)-ROW($AT$3)+1),ROWS($A$3:A2161))),\"\")","v":0},null,{"$f":"IFERROR(INDEX(اقساط!$B$3:$B$8532,SMALL(IF(اقساط!$G$3:$G$8532=B2161,ROW($B$3:$B$8532)-ROW($B$3)+1),ROWS($C$3:C2161))),\"\")","v":0}]
[{"$f":"IFERROR(INDEX(اقساط!$AT$3:$AT$8532,SMALL(IF(اقساط!$G$3:$G$8532=B2162,ROW($AT$3:$AT$8532)-ROW($AT$3)+1),ROWS($A$3:A2162))),\"\")","v":0},null,{"$f":"IFERROR(INDEX(اقساط!$B$3:$B$8532,SMALL(IF(اقساط!$G$3:$G$8532=B2162,ROW($B$3:$B$8532)-ROW($B$3)+1),ROWS($C$3:C2162))),\"\")","v":0}]
[{"$f":"IFERROR(INDEX(اقساط!$AT$3:$AT$8532,SMALL(IF(اقساط!$G$3:$G$8532=B2163,ROW($AT$3:$AT$8532)-ROW($AT$3)+1),ROWS($A$3:A2163))),\"\")","v":0},null,{"$f":"IFERROR(INDEX(اقساط!$B$3:$B$8532,SMALL(IF(اقساط!$G$3:$G$8532=B2163,ROW($B$3:$B$8532)-ROW($B$3)+1),ROWS($C$3:C2163))),\"\")","v":0}]
[{"$f":"IFERROR(INDEX(اقساط!$AT$3:$AT$8532,SMALL(IF(اقساط!$G$3:$G$8532=B2164,ROW($AT$3:$AT$8532)-ROW($AT$3)+1),ROWS($A$3:A2164))),\"\")","v":0},null,{"$f":"IFERROR(INDEX(اقساط!$B$3:$B$8532,SMALL(IF(اقساط!$G$3:$G$8532=B2164,ROW($B$3:$B$8532)-ROW($B$3)+1),ROWS($C$3:C2164))),\"\")","v":0}]
[{"$f":"IFERROR(INDEX(اقساط!$AT$3:$AT$8532,SMALL(IF(اقساط!$G$3:$G$8532=B2165,ROW($AT$3:$AT$8532)-ROW($AT$3)+1),ROWS($A$3:A2165))),\"\")","v":0},null,{"$f":"IFERROR(INDEX(اقساط!$B$3:$B$8532,SMALL(IF(اقساط!$G$3:$G$8532=B2165,ROW($B$3:$B$8532)-ROW($B$3)+1),ROWS($C$3:C2165))),\"\")","v":0}]
[{"$f":"IFERROR(INDEX(اقساط!$AT$3:$AT$8532,SMALL(IF(اقساط!$G$3:$G$8532=B2166,ROW($AT$3:$AT$8532)-ROW($AT$3)+1),ROWS($A$3:A2166))),\"\")","v":0},null,{"$f":"IFERROR(INDEX(اقساط!$B$3:$B$8532,SMALL(IF(اقساط!$G$3:$G$8532=B2166,ROW($B$3:$B$8532)-ROW($B$3)+1),ROWS($C$3:C2166))),\"\")","v":0}]
[{"$f":"IFERROR(INDEX(اقساط!$AT$3:$AT$8532,SMALL(IF(اقساط!$G$3:$G$8532=B2167,ROW($AT$3:$AT$8532)-ROW($AT$3)+1),ROWS($A$3:A2167))),\"\")","v":0},null,{"$f":"IFERROR(INDEX(اقساط!$B$3:$B$8532,SMALL(IF(اقساط!$G$3:$G$8532=B2167,ROW($B$3:$B$8532)-ROW($B$3)+1),ROWS($C$3:C2167))),\"\")","v":0}]
[{"$f":"IFERROR(INDEX(اقساط!$AT$3:$AT$8532,SMALL(IF(اقساط!$G$3:$G$8532=B2168,ROW($AT$3:$AT$8532)-ROW($AT$3)+1),ROWS($A$3:A2168))),\"\")","v":0},null,{"$f":"IFERROR(INDEX(اقساط!$B$3:$B$8532,SMALL(IF(اقساط!$G$3:$G$8532=B2168,ROW($B$3:$B$8532)-ROW($B$3)+1),ROWS($C$3:C2168))),\"\")","v":0}]
[{"$f":"IFERROR(INDEX(اقساط!$AT$3:$AT$8532,SMALL(IF(اقساط!$G$3:$G$8532=B2169,ROW($AT$3:$AT$8532)-ROW($AT$3)+1),ROWS($A$3:A2169))),\"\")","v":0},null,{"$f":"IFERROR(INDEX(اقساط!$B$3:$B$8532,SMALL(IF(اقساط!$G$3:$G$8532=B2169,ROW($B$3:$B$8532)-ROW($B$3)+1),ROWS($C$3:C2169))),\"\")","v":0}]
[{"$f":"IFERROR(INDEX(اقساط!$AT$3:$AT$8532,SMALL(IF(اقساط!$G$3:$G$8532=B2170,ROW($AT$3:$AT$8532)-ROW($AT$3)+1),ROWS($A$3:A2170))),\"\")","v":0},null,{"$f":"IFERROR(INDEX(اقساط!$B$3:$B$8532,SMALL(IF(اقساط!$G$3:$G$8532=B2170,ROW($B$3:$B$8532)-ROW($B$3)+1),ROWS($C$3:C2170))),\"\")","v":0}]
[{"$f":"IFERROR(INDEX(اقساط!$AT$3:$AT$8532,SMALL(IF(اقساط!$G$3:$G$8532=B2171,ROW($AT$3:$AT$8532)-ROW($AT$3)+1),ROWS($A$3:A2171))),\"\")","v":0},null,{"$f":"IFERROR(INDEX(اقساط!$B$3:$B$8532,SMALL(IF(اقساط!$G$3:$G$8532=B2171,ROW($B$3:$B$8532)-ROW($B$3)+1),ROWS($C$3:C2171))),\"\")","v":0}]
[{"$f":"IFERROR(INDEX(اقساط!$AT$3:$AT$8532,SMALL(IF(اقساط!$G$3:$G$8532=B2172,ROW($AT$3:$AT$8532)-ROW($AT$3)+1),ROWS($A$3:A2172))),\"\")","v":0},null,{"$f":"IFERROR(INDEX(اقساط!$B$3:$B$8532,SMALL(IF(اقساط!$G$3:$G$8532=B2172,ROW($B$3:$B$8532)-ROW($B$3)+1),ROWS($C$3:C2172))),\"\")","v":0}]
[{"$f":"IFERROR(INDEX(اقساط!$AT$3:$AT$8532,SMALL(IF(اقساط!$G$3:$G$8532=B2173,ROW($AT$3:$AT$8532)-ROW($AT$3)+1),ROWS($A$3:A2173))),\"\")","v":0},null,{"$f":"IFERROR(INDEX(اقساط!$B$3:$B$8532,SMALL(IF(اقساط!$G$3:$G$8532=B2173,ROW($B$3:$B$8532)-ROW($B$3)+1),ROWS($C$3:C2173))),\"\")","v":0}]
[{"$f":"IFERROR(INDEX(اقساط!$AT$3:$AT$8532,SMALL(IF(اقساط!$G$3:$G$8532=B2174,ROW($AT$3:$AT$8532)-ROW($AT$3)+1),ROWS($A$3:A2174))),\"\")","v":0},null,{"$f":"IFERROR(INDEX(اقساط!$B$3:$B$8532,SMALL(IF(اقساط!$G$3:$G$8532=B2174,ROW($B$3:$B$8532)-ROW($B$3)+1),ROWS($C$3:C2174))),\"\")","v":0}]
[{"$f":"IFERROR(INDEX(اقساط!$AT$3:$AT$8532,SMALL(IF(اقساط!$G$3:$G$8532=B2175,ROW($AT$3:$AT$8532)-ROW($AT$3)+1),ROWS($A$3:A2175))),\"\")","v":0},null,{"$f":"IFERROR(INDEX(اقساط!$B$3:$B$8532,SMALL(IF(اقساط!$G$3:$G$8532=B2175,ROW($B$3:$B$8532)-ROW($B$3)+1),ROWS($C$3:C2175))),\"\")","v":0}]
[{"$f":"IFERROR(INDEX(اقساط!$AT$3:$AT$8532,SMALL(IF(اقساط!$G$3:$G$8532=B2176,ROW($AT$3:$AT$8532)-ROW($AT$3)+1),ROWS($A$3:A2176))),\"\")","v":0},null,{"$f":"IFERROR(INDEX(اقساط!$B$3:$B$8532,SMALL(IF(اقساط!$G$3:$G$8532=B2176,ROW($B$3:$B$8532)-ROW($B$3)+1),ROWS($C$3:C2176))),\"\")","v":0}]
[{"$f":"IFERROR(INDEX(اقساط!$AT$3:$AT$8532,SMALL(IF(اقساط!$G$3:$G$8532=B2177,ROW($AT$3:$AT$8532)-ROW($AT$3)+1),ROWS($A$3:A2177))),\"\")","v":0},null,{"$f":"IFERROR(INDEX(اقساط!$B$3:$B$8532,SMALL(IF(اقساط!$G$3:$G$8532=B2177,ROW($B$3:$B$8532)-ROW($B$3)+1),ROWS($C$3:C2177))),\"\")","v":0}]
[{"$f":"IFERROR(INDEX(اقساط!$AT$3:$AT$8532,SMALL(IF(اقساط!$G$3:$G$8532=B2178,ROW($AT$3:$AT$8532)-ROW($AT$3)+1),ROWS($A$3:A2178))),\"\")","v":0},null,{"$f":"IFERROR(INDEX(اقساط!$B$3:$B$8532,SMALL(IF(اقساط!$G$3:$G$8532=B2178,ROW($B$3:$B$8532)-ROW($B$3)+1),ROWS($C$3:C2178))),\"\")","v":0}]
[{"$f":"IFERROR(INDEX(اقساط!$AT$3:$AT$8532,SMALL(IF(اقساط!$G$3:$G$8532=B2179,ROW($AT$3:$AT$8532)-ROW($AT$3)+1),ROWS($A$3:A2179))),\"\")","v":0},null,{"$f":"IFERROR(INDEX(اقساط!$B$3:$B$8532,SMALL(IF(اقساط!$G$3:$G$8532=B2179,ROW($B$3:$B$8532)-ROW($B$3)+1),ROWS($C$3:C2179))),\"\")","v":0}]
[{"$f":"IFERROR(INDEX(اقساط!$AT$3:$AT$8532,SMALL(IF(اقساط!$G$3:$G$8532=B2180,ROW($AT$3:$AT$8532)-ROW($AT$3)+1),ROWS($A$3:A2180))),\"\")","v":0},null,{"$f":"IFERROR(INDEX(اقساط!$B$3:$B$8532,SMALL(IF(اقساط!$G$3:$G$8532=B2180,ROW($B$3:$B$8532)-ROW($B$3)+1),ROWS($C$3:C2180))),\"\")","v":0}]
[{"$f":"IFERROR(INDEX(اقساط!$AT$3:$AT$8532,SMALL(IF(اقساط!$G$3:$G$8532=B2181,ROW($AT$3:$AT$8532)-ROW($AT$3)+1),ROWS($A$3:A2181))),\"\")","v":0},null,{"$f":"IFERROR(INDEX(اقساط!$B$3:$B$8532,SMALL(IF(اقساط!$G$3:$G$8532=B2181,ROW($B$3:$B$8532)-ROW($B$3)+1),ROWS($C$3:C2181))),\"\")","v":0}]
[{"$f":"IFERROR(INDEX(اقساط!$AT$3:$AT$8532,SMALL(IF(اقساط!$G$3:$G$8532=B2182,ROW($AT$3:$AT$8532)-ROW($AT$3)+1),ROWS($A$3:A2182))),\"\")","v":0},null,{"$f":"IFERROR(INDEX(اقساط!$B$3:$B$8532,SMALL(IF(اقساط!$G$3:$G$8532=B2182,ROW($B$3:$B$8532)-ROW($B$3)+1),ROWS($C$3:C2182))),\"\")","v":0}]
[{"$f":"IFERROR(INDEX(اقساط!$AT$3:$AT$8532,SMALL(IF(اقساط!$G$3:$G$8532=B2183,ROW($AT$3:$AT$8532)-ROW($AT$3)+1),ROWS($A$3:A2183))),\"\")","v":0},null,{"$f":"IFERROR(INDEX(اقساط!$B$3:$B$8532,SMALL(IF(اقساط!$G$3:$G$8532=B2183,ROW($B$3:$B$8532)-ROW($B$3)+1),ROWS($C$3:C2183))),\"\")","v":0}]
[{"$f":"IFERROR(INDEX(اقساط!$AT$3:$AT$8532,SMALL(IF(اقساط!$G$3:$G$8532=B2184,ROW($AT$3:$AT$8532)-ROW($AT$3)+1),ROWS($A$3:A2184))),\"\")","v":0},null,{"$f":"IFERROR(INDEX(اقساط!$B$3:$B$8532,SMALL(IF(اقساط!$G$3:$G$8532=B2184,ROW($B$3:$B$8532)-ROW($B$3)+1),ROWS($C$3:C2184))),\"\")","v":0}]
[{"$f":"IFERROR(INDEX(اقساط!$AT$3:$AT$8532,SMALL(IF(اقساط!$G$3:$G$8532=B2185,ROW($AT$3:$AT$8532)-ROW($AT$3)+1),ROWS($A$3:A2185))),\"\")","v":0},null,{"$f":"IFERROR(INDEX(اقساط!$B$3:$B$8532,SMALL(IF(اقساط!$G$3:$G$8532=B2185,ROW($B$3:$B$8532)-ROW($B$3)+1),ROWS($C$3:C2185))),\"\")","v":0}]
[{"$f":"IFERROR(INDEX(اقساط!$AT$3:$AT$8532,SMALL(IF(اقساط!$G$3:$G$8532=B2186,ROW($AT$3:$AT$8532)-ROW($AT$3)+1),ROWS($A$3:A2186))),\"\")","v":0},null,{"$f":"IFERROR(INDEX(اقساط!$B$3:$B$8532,SMALL(IF(اقساط!$G$3:$G$8532=B2186,ROW($B$3:$B$8532)-ROW($B$3)+1),ROWS($C$3:C2186))),\"\")","v":0}]
[{"$f":"IFERROR(INDEX(اقساط!$AT$3:$AT$8532,SMALL(IF(اقساط!$G$3:$G$8532=B2187,ROW($AT$3:$AT$8532)-ROW($AT$3)+1),ROWS($A$3:A2187))),\"\")","v":0},null,{"$f":"IFERROR(INDEX(اقساط!$B$3:$B$8532,SMALL(IF(اقساط!$G$3:$G$8532=B2187,ROW($B$3:$B$8532)-ROW($B$3)+1),ROWS($C$3:C2187))),\"\")","v":0}]
[{"$f":"IFERROR(INDEX(اقساط!$AT$3:$AT$8532,SMALL(IF(اقساط!$G$3:$G$8532=B2188,ROW($AT$3:$AT$8532)-ROW($AT$3)+1),ROWS($A$3:A2188))),\"\")","v":0},null,{"$f":"IFERROR(INDEX(اقساط!$B$3:$B$8532,SMALL(IF(اقساط!$G$3:$G$8532=B2188,ROW($B$3:$B$8532)-ROW($B$3)+1),ROWS($C$3:C2188))),\"\")","v":0}]
[{"$f":"IFERROR(INDEX(اقساط!$AT$3:$AT$8532,SMALL(IF(اقساط!$G$3:$G$8532=B2189,ROW($AT$3:$AT$8532)-ROW($AT$3)+1),ROWS($A$3:A2189))),\"\")","v":0},null,{"$f":"IFERROR(INDEX(اقساط!$B$3:$B$8532,SMALL(IF(اقساط!$G$3:$G$8532=B2189,ROW($B$3:$B$8532)-ROW($B$3)+1),ROWS($C$3:C2189))),\"\")","v":0}]
[{"$f":"IFERROR(INDEX(اقساط!$AT$3:$AT$8532,SMALL(IF(اقساط!$G$3:$G$8532=B2190,ROW($AT$3:$AT$8532)-ROW($AT$3)+1),ROWS($A$3:A2190))),\"\")","v":0},null,{"$f":"IFERROR(INDEX(اقساط!$B$3:$B$8532,SMALL(IF(اقساط!$G$3:$G$8532=B2190,ROW($B$3:$B$8532)-ROW($B$3)+1),ROWS($C$3:C2190))),\"\")","v":0}]
[{"$f":"IFERROR(INDEX(اقساط!$AT$3:$AT$8532,SMALL(IF(اقساط!$G$3:$G$8532=B2191,ROW($AT$3:$AT$8532)-ROW($AT$3)+1),ROWS($A$3:A2191))),\"\")","v":0},null,{"$f":"IFERROR(INDEX(اقساط!$B$3:$B$8532,SMALL(IF(اقساط!$G$3:$G$8532=B2191,ROW($B$3:$B$8532)-ROW($B$3)+1),ROWS($C$3:C2191))),\"\")","v":0}]
[{"$f":"IFERROR(INDEX(اقساط!$AT$3:$AT$8532,SMALL(IF(اقساط!$G$3:$G$8532=B2192,ROW($AT$3:$AT$8532)-ROW($AT$3)+1),ROWS($A$3:A2192))),\"\")","v":0},null,{"$f":"IFERROR(INDEX(اقساط!$B$3:$B$8532,SMALL(IF(اقساط!$G$3:$G$8532=B2192,ROW($B$3:$B$8532)-ROW($B$3)+1),ROWS($C$3:C2192))),\"\")","v":0}]
[{"$f":"IFERROR(INDEX(اقساط!$AT$3:$AT$8532,SMALL(IF(اقساط!$G$3:$G$8532=B2193,ROW($AT$3:$AT$8532)-ROW($AT$3)+1),ROWS($A$3:A2193))),\"\")","v":0},null,{"$f":"IFERROR(INDEX(اقساط!$B$3:$B$8532,SMALL(IF(اقساط!$G$3:$G$8532=B2193,ROW($B$3:$B$8532)-ROW($B$3)+1),ROWS($C$3:C2193))),\"\")","v":0}]
[{"$f":"IFERROR(INDEX(اقساط!$AT$3:$AT$8532,SMALL(IF(اقساط!$G$3:$G$8532=B2194,ROW($AT$3:$AT$8532)-ROW($AT$3)+1),ROWS($A$3:A2194))),\"\")","v":0},null,{"$f":"IFERROR(INDEX(اقساط!$B$3:$B$8532,SMALL(IF(اقساط!$G$3:$G$8532=B2194,ROW($B$3:$B$8532)-ROW($B$3)+1),ROWS($C$3:C2194))),\"\")","v":0}]
[{"$f":"IFERROR(INDEX(اقساط!$AT$3:$AT$8532,SMALL(IF(اقساط!$G$3:$G$8532=B2195,ROW($AT$3:$AT$8532)-ROW($AT$3)+1),ROWS($A$3:A2195))),\"\")","v":0},null,{"$f":"IFERROR(INDEX(اقساط!$B$3:$B$8532,SMALL(IF(اقساط!$G$3:$G$8532=B2195,ROW($B$3:$B$8532)-ROW($B$3)+1),ROWS($C$3:C2195))),\"\")","v":0}]
[{"$f":"IFERROR(INDEX(اقساط!$AT$3:$AT$8532,SMALL(IF(اقساط!$G$3:$G$8532=B2196,ROW($AT$3:$AT$8532)-ROW($AT$3)+1),ROWS($A$3:A2196))),\"\")","v":0},null,{"$f":"IFERROR(INDEX(اقساط!$B$3:$B$8532,SMALL(IF(اقساط!$G$3:$G$8532=B2196,ROW($B$3:$B$8532)-ROW($B$3)+1),ROWS($C$3:C2196))),\"\")","v":0}]
[{"$f":"IFERROR(INDEX(اقساط!$AT$3:$AT$8532,SMALL(IF(اقساط!$G$3:$G$8532=B2197,ROW($AT$3:$AT$8532)-ROW($AT$3)+1),ROWS($A$3:A2197))),\"\")","v":0},null,{"$f":"IFERROR(INDEX(اقساط!$B$3:$B$8532,SMALL(IF(اقساط!$G$3:$G$8532=B2197,ROW($B$3:$B$8532)-ROW($B$3)+1),ROWS($C$3:C2197))),\"\")","v":0}]
[{"$f":"IFERROR(INDEX(اقساط!$AT$3:$AT$8532,SMALL(IF(اقساط!$G$3:$G$8532=B2198,ROW($AT$3:$AT$8532)-ROW($AT$3)+1),ROWS($A$3:A2198))),\"\")","v":0},null,{"$f":"IFERROR(INDEX(اقساط!$B$3:$B$8532,SMALL(IF(اقساط!$G$3:$G$8532=B2198,ROW($B$3:$B$8532)-ROW($B$3)+1),ROWS($C$3:C2198))),\"\")","v":0}]
[{"$f":"IFERROR(INDEX(اقساط!$AT$3:$AT$8532,SMALL(IF(اقساط!$G$3:$G$8532=B2199,ROW($AT$3:$AT$8532)-ROW($AT$3)+1),ROWS($A$3:A2199))),\"\")","v":0},null,{"$f":"IFERROR(INDEX(اقساط!$B$3:$B$8532,SMALL(IF(اقساط!$G$3:$G$8532=B2199,ROW($B$3:$B$8532)-ROW($B$3)+1),ROWS($C$3:C2199))),\"\")","v":0}]
[{"$f":"IFERROR(INDEX(اقساط!$AT$3:$AT$8532,SMALL(IF(اقساط!$G$3:$G$8532=B2200,ROW($AT$3:$AT$8532)-ROW($AT$3)+1),ROWS($A$3:A2200))),\"\")","v":0},null,{"$f":"IFERROR(INDEX(اقساط!$B$3:$B$8532,SMALL(IF(اقساط!$G$3:$G$8532=B2200,ROW($B$3:$B$8532)-ROW($B$3)+1),ROWS($C$3:C2200))),\"\")","v":0}]
[{"$f":"IFERROR(INDEX(اقساط!$AT$3:$AT$8532,SMALL(IF(اقساط!$G$3:$G$8532=B2201,ROW($AT$3:$AT$8532)-ROW($AT$3)+1),ROWS($A$3:A2201))),\"\")","v":0},null,{"$f":"IFERROR(INDEX(اقساط!$B$3:$B$8532,SMALL(IF(اقساط!$G$3:$G$8532=B2201,ROW($B$3:$B$8532)-ROW($B$3)+1),ROWS($C$3:C2201))),\"\")","v":0}]
[{"$f":"IFERROR(INDEX(اقساط!$AT$3:$AT$8532,SMALL(IF(اقساط!$G$3:$G$8532=B2202,ROW($AT$3:$AT$8532)-ROW($AT$3)+1),ROWS($A$3:A2202))),\"\")","v":0},null,{"$f":"IFERROR(INDEX(اقساط!$B$3:$B$8532,SMALL(IF(اقساط!$G$3:$G$8532=B2202,ROW($B$3:$B$8532)-ROW($B$3)+1),ROWS($C$3:C2202))),\"\")","v":0}]
[{"$f":"IFERROR(INDEX(اقساط!$AT$3:$AT$8532,SMALL(IF(اقساط!$G$3:$G$8532=B2203,ROW($AT$3:$AT$8532)-ROW($AT$3)+1),ROWS($A$3:A2203))),\"\")","v":0},null,{"$f":"IFERROR(INDEX(اقساط!$B$3:$B$8532,SMALL(IF(اقساط!$G$3:$G$8532=B2203,ROW($B$3:$B$8532)-ROW($B$3)+1),ROWS($C$3:C2203))),\"\")","v":0}]
[{"$f":"IFERROR(INDEX(اقساط!$AT$3:$AT$8532,SMALL(IF(اقساط!$G$3:$G$8532=B2204,ROW($AT$3:$AT$8532)-ROW($AT$3)+1),ROWS($A$3:A2204))),\"\")","v":0},null,{"$f":"IFERROR(INDEX(اقساط!$B$3:$B$8532,SMALL(IF(اقساط!$G$3:$G$8532=B2204,ROW($B$3:$B$8532)-ROW($B$3)+1),ROWS($C$3:C2204))),\"\")","v":0}]
[{"$f":"IFERROR(INDEX(اقساط!$AT$3:$AT$8532,SMALL(IF(اقساط!$G$3:$G$8532=B2205,ROW($AT$3:$AT$8532)-ROW($AT$3)+1),ROWS($A$3:A2205))),\"\")","v":0},null,{"$f":"IFERROR(INDEX(اقساط!$B$3:$B$8532,SMALL(IF(اقساط!$G$3:$G$8532=B2205,ROW($B$3:$B$8532)-ROW($B$3)+1),ROWS($C$3:C2205))),\"\")","v":0}]
[{"$f":"IFERROR(INDEX(اقساط!$AT$3:$AT$8532,SMALL(IF(اقساط!$G$3:$G$8532=B2206,ROW($AT$3:$AT$8532)-ROW($AT$3)+1),ROWS($A$3:A2206))),\"\")","v":0},null,{"$f":"IFERROR(INDEX(اقساط!$B$3:$B$8532,SMALL(IF(اقساط!$G$3:$G$8532=B2206,ROW($B$3:$B$8532)-ROW($B$3)+1),ROWS($C$3:C2206))),\"\")","v":0}]
[{"$f":"IFERROR(INDEX(اقساط!$AT$3:$AT$8532,SMALL(IF(اقساط!$G$3:$G$8532=B2207,ROW($AT$3:$AT$8532)-ROW($AT$3)+1),ROWS($A$3:A2207))),\"\")","v":0},null,{"$f":"IFERROR(INDEX(اقساط!$B$3:$B$8532,SMALL(IF(اقساط!$G$3:$G$8532=B2207,ROW($B$3:$B$8532)-ROW($B$3)+1),ROWS($C$3:C2207))),\"\")","v":0}]
[{"$f":"IFERROR(INDEX(اقساط!$AT$3:$AT$8532,SMALL(IF(اقساط!$G$3:$G$8532=B2208,ROW($AT$3:$AT$8532)-ROW($AT$3)+1),ROWS($A$3:A2208))),\"\")","v":0},null,{"$f":"IFERROR(INDEX(اقساط!$B$3:$B$8532,SMALL(IF(اقساط!$G$3:$G$8532=B2208,ROW($B$3:$B$8532)-ROW($B$3)+1),ROWS($C$3:C2208))),\"\")","v":0}]
[{"$f":"IFERROR(INDEX(اقساط!$AT$3:$AT$8532,SMALL(IF(اقساط!$G$3:$G$8532=B2209,ROW($AT$3:$AT$8532)-ROW($AT$3)+1),ROWS($A$3:A2209))),\"\")","v":0},null,{"$f":"IFERROR(INDEX(اقساط!$B$3:$B$8532,SMALL(IF(اقساط!$G$3:$G$8532=B2209,ROW($B$3:$B$8532)-ROW($B$3)+1),ROWS($C$3:C2209))),\"\")","v":0}]
[{"$f":"IFERROR(INDEX(اقساط!$AT$3:$AT$8532,SMALL(IF(اقساط!$G$3:$G$8532=B2210,ROW($AT$3:$AT$8532)-ROW($AT$3)+1),ROWS($A$3:A2210))),\"\")","v":0},null,{"$f":"IFERROR(INDEX(اقساط!$B$3:$B$8532,SMALL(IF(اقساط!$G$3:$G$8532=B2210,ROW($B$3:$B$8532)-ROW($B$3)+1),ROWS($C$3:C2210))),\"\")","v":0}]
[{"$f":"IFERROR(INDEX(اقساط!$AT$3:$AT$8532,SMALL(IF(اقساط!$G$3:$G$8532=B2211,ROW($AT$3:$AT$8532)-ROW($AT$3)+1),ROWS($A$3:A2211))),\"\")","v":0},null,{"$f":"IFERROR(INDEX(اقساط!$B$3:$B$8532,SMALL(IF(اقساط!$G$3:$G$8532=B2211,ROW($B$3:$B$8532)-ROW($B$3)+1),ROWS($C$3:C2211))),\"\")","v":0}]
[{"$f":"IFERROR(INDEX(اقساط!$AT$3:$AT$8532,SMALL(IF(اقساط!$G$3:$G$8532=B2212,ROW($AT$3:$AT$8532)-ROW($AT$3)+1),ROWS($A$3:A2212))),\"\")","v":0},null,{"$f":"IFERROR(INDEX(اقساط!$B$3:$B$8532,SMALL(IF(اقساط!$G$3:$G$8532=B2212,ROW($B$3:$B$8532)-ROW($B$3)+1),ROWS($C$3:C2212))),\"\")","v":0}]
[{"$f":"IFERROR(INDEX(اقساط!$AT$3:$AT$8532,SMALL(IF(اقساط!$G$3:$G$8532=B2213,ROW($AT$3:$AT$8532)-ROW($AT$3)+1),ROWS($A$3:A2213))),\"\")","v":0},null,{"$f":"IFERROR(INDEX(اقساط!$B$3:$B$8532,SMALL(IF(اقساط!$G$3:$G$8532=B2213,ROW($B$3:$B$8532)-ROW($B$3)+1),ROWS($C$3:C2213))),\"\")","v":0}]
[{"$f":"IFERROR(INDEX(اقساط!$AT$3:$AT$8532,SMALL(IF(اقساط!$G$3:$G$8532=B2214,ROW($AT$3:$AT$8532)-ROW($AT$3)+1),ROWS($A$3:A2214))),\"\")","v":0},null,{"$f":"IFERROR(INDEX(اقساط!$B$3:$B$8532,SMALL(IF(اقساط!$G$3:$G$8532=B2214,ROW($B$3:$B$8532)-ROW($B$3)+1),ROWS($C$3:C2214))),\"\")","v":0}]
[{"$f":"IFERROR(INDEX(اقساط!$AT$3:$AT$8532,SMALL(IF(اقساط!$G$3:$G$8532=B2215,ROW($AT$3:$AT$8532)-ROW($AT$3)+1),ROWS($A$3:A2215))),\"\")","v":0},null,{"$f":"IFERROR(INDEX(اقساط!$B$3:$B$8532,SMALL(IF(اقساط!$G$3:$G$8532=B2215,ROW($B$3:$B$8532)-ROW($B$3)+1),ROWS($C$3:C2215))),\"\")","v":0}]
[{"$f":"IFERROR(INDEX(اقساط!$AT$3:$AT$8532,SMALL(IF(اقساط!$G$3:$G$8532=B2216,ROW($AT$3:$AT$8532)-ROW($AT$3)+1),ROWS($A$3:A2216))),\"\")","v":0},null,{"$f":"IFERROR(INDEX(اقساط!$B$3:$B$8532,SMALL(IF(اقساط!$G$3:$G$8532=B2216,ROW($B$3:$B$8532)-ROW($B$3)+1),ROWS($C$3:C2216))),\"\")","v":0}]
[{"$f":"IFERROR(INDEX(اقساط!$AT$3:$AT$8532,SMALL(IF(اقساط!$G$3:$G$8532=B2217,ROW($AT$3:$AT$8532)-ROW($AT$3)+1),ROWS($A$3:A2217))),\"\")","v":0},null,{"$f":"IFERROR(INDEX(اقساط!$B$3:$B$8532,SMALL(IF(اقساط!$G$3:$G$8532=B2217,ROW($B$3:$B$8532)-ROW($B$3)+1),ROWS($C$3:C2217))),\"\")","v":0}]
[{"$f":"IFERROR(INDEX(اقساط!$AT$3:$AT$8532,SMALL(IF(اقساط!$G$3:$G$8532=B2218,ROW($AT$3:$AT$8532)-ROW($AT$3)+1),ROWS($A$3:A2218))),\"\")","v":0},null,{"$f":"IFERROR(INDEX(اقساط!$B$3:$B$8532,SMALL(IF(اقساط!$G$3:$G$8532=B2218,ROW($B$3:$B$8532)-ROW($B$3)+1),ROWS($C$3:C2218))),\"\")","v":0}]
[{"$f":"IFERROR(INDEX(اقساط!$AT$3:$AT$8532,SMALL(IF(اقساط!$G$3:$G$8532=B2219,ROW($AT$3:$AT$8532)-ROW($AT$3)+1),ROWS($A$3:A2219))),\"\")","v":0},null,{"$f":"IFERROR(INDEX(اقساط!$B$3:$B$8532,SMALL(IF(اقساط!$G$3:$G$8532=B2219,ROW($B$3:$B$8532)-ROW($B$3)+1),ROWS($C$3:C2219))),\"\")","v":0}]
[{"$f":"IFERROR(INDEX(اقساط!$AT$3:$AT$8532,SMALL(IF(اقساط!$G$3:$G$8532=B2220,ROW($AT$3:$AT$8532)-ROW($AT$3)+1),ROWS($A$3:A2220))),\"\")","v":0},null,{"$f":"IFERROR(INDEX(اقساط!$B$3:$B$8532,SMALL(IF(اقساط!$G$3:$G$8532=B2220,ROW($B$3:$B$8532)-ROW($B$3)+1),ROWS($C$3:C2220))),\"\")","v":0}]
[{"$f":"IFERROR(INDEX(اقساط!$AT$3:$AT$8532,SMALL(IF(اقساط!$G$3:$G$8532=B2221,ROW($AT$3:$AT$8532)-ROW($AT$3)+1),ROWS($A$3:A2221))),\"\")","v":0},null,{"$f":"IFERROR(INDEX(اقساط!$B$3:$B$8532,SMALL(IF(اقساط!$G$3:$G$8532=B2221,ROW($B$3:$B$8532)-ROW($B$3)+1),ROWS($C$3:C2221))),\"\")","v":0}]
[{"$f":"IFERROR(INDEX(اقساط!$AT$3:$AT$8532,SMALL(IF(اقساط!$G$3:$G$8532=B2222,ROW($AT$3:$AT$8532)-ROW($AT$3)+1),ROWS($A$3:A2222))),\"\")","v":0},null,{"$f":"IFERROR(INDEX(اقساط!$B$3:$B$8532,SMALL(IF(اقساط!$G$3:$G$8532=B2222,ROW($B$3:$B$8532)-ROW($B$3)+1),ROWS($C$3:C2222))),\"\")","v":0}]
[{"$f":"IFERROR(INDEX(اقساط!$AT$3:$AT$8532,SMALL(IF(اقساط!$G$3:$G$8532=B2223,ROW($AT$3:$AT$8532)-ROW($AT$3)+1),ROWS($A$3:A2223))),\"\")","v":0},null,{"$f":"IFERROR(INDEX(اقساط!$B$3:$B$8532,SMALL(IF(اقساط!$G$3:$G$8532=B2223,ROW($B$3:$B$8532)-ROW($B$3)+1),ROWS($C$3:C2223))),\"\")","v":0}]
[{"$f":"IFERROR(INDEX(اقساط!$AT$3:$AT$8532,SMALL(IF(اقساط!$G$3:$G$8532=B2224,ROW($AT$3:$AT$8532)-ROW($AT$3)+1),ROWS($A$3:A2224))),\"\")","v":0},null,{"$f":"IFERROR(INDEX(اقساط!$B$3:$B$8532,SMALL(IF(اقساط!$G$3:$G$8532=B2224,ROW($B$3:$B$8532)-ROW($B$3)+1),ROWS($C$3:C2224))),\"\")","v":0}]
[{"$f":"IFERROR(INDEX(اقساط!$AT$3:$AT$8532,SMALL(IF(اقساط!$G$3:$G$8532=B2225,ROW($AT$3:$AT$8532)-ROW($AT$3)+1),ROWS($A$3:A2225))),\"\")","v":0},null,{"$f":"IFERROR(INDEX(اقساط!$B$3:$B$8532,SMALL(IF(اقساط!$G$3:$G$8532=B2225,ROW($B$3:$B$8532)-ROW($B$3)+1),ROWS($C$3:C2225))),\"\")","v":0}]
[{"$f":"IFERROR(INDEX(اقساط!$AT$3:$AT$8532,SMALL(IF(اقساط!$G$3:$G$8532=B2226,ROW($AT$3:$AT$8532)-ROW($AT$3)+1),ROWS($A$3:A2226))),\"\")","v":0},null,{"$f":"IFERROR(INDEX(اقساط!$B$3:$B$8532,SMALL(IF(اقساط!$G$3:$G$8532=B2226,ROW($B$3:$B$8532)-ROW($B$3)+1),ROWS($C$3:C2226))),\"\")","v":0}]
[{"$f":"IFERROR(INDEX(اقساط!$AT$3:$AT$8532,SMALL(IF(اقساط!$G$3:$G$8532=B2227,ROW($AT$3:$AT$8532)-ROW($AT$3)+1),ROWS($A$3:A2227))),\"\")","v":0},null,{"$f":"IFERROR(INDEX(اقساط!$B$3:$B$8532,SMALL(IF(اقساط!$G$3:$G$8532=B2227,ROW($B$3:$B$8532)-ROW($B$3)+1),ROWS($C$3:C2227))),\"\")","v":0}]
[{"$f":"IFERROR(INDEX(اقساط!$AT$3:$AT$8532,SMALL(IF(اقساط!$G$3:$G$8532=B2228,ROW($AT$3:$AT$8532)-ROW($AT$3)+1),ROWS($A$3:A2228))),\"\")","v":0},null,{"$f":"IFERROR(INDEX(اقساط!$B$3:$B$8532,SMALL(IF(اقساط!$G$3:$G$8532=B2228,ROW($B$3:$B$8532)-ROW($B$3)+1),ROWS($C$3:C2228))),\"\")","v":0}]
[{"$f":"IFERROR(INDEX(اقساط!$AT$3:$AT$8532,SMALL(IF(اقساط!$G$3:$G$8532=B2229,ROW($AT$3:$AT$8532)-ROW($AT$3)+1),ROWS($A$3:A2229))),\"\")","v":0},null,{"$f":"IFERROR(INDEX(اقساط!$B$3:$B$8532,SMALL(IF(اقساط!$G$3:$G$8532=B2229,ROW($B$3:$B$8532)-ROW($B$3)+1),ROWS($C$3:C2229))),\"\")","v":0}]
[{"$f":"IFERROR(INDEX(اقساط!$AT$3:$AT$8532,SMALL(IF(اقساط!$G$3:$G$8532=B2230,ROW($AT$3:$AT$8532)-ROW($AT$3)+1),ROWS($A$3:A2230))),\"\")","v":0},null,{"$f":"IFERROR(INDEX(اقساط!$B$3:$B$8532,SMALL(IF(اقساط!$G$3:$G$8532=B2230,ROW($B$3:$B$8532)-ROW($B$3)+1),ROWS($C$3:C2230))),\"\")","v":0}]
[{"$f":"IFERROR(INDEX(اقساط!$AT$3:$AT$8532,SMALL(IF(اقساط!$G$3:$G$8532=B2231,ROW($AT$3:$AT$8532)-ROW($AT$3)+1),ROWS($A$3:A2231))),\"\")","v":0},null,{"$f":"IFERROR(INDEX(اقساط!$B$3:$B$8532,SMALL(IF(اقساط!$G$3:$G$8532=B2231,ROW($B$3:$B$8532)-ROW($B$3)+1),ROWS($C$3:C2231))),\"\")","v":0}]
[{"$f":"IFERROR(INDEX(اقساط!$AT$3:$AT$8532,SMALL(IF(اقساط!$G$3:$G$8532=B2232,ROW($AT$3:$AT$8532)-ROW($AT$3)+1),ROWS($A$3:A2232))),\"\")","v":0},null,{"$f":"IFERROR(INDEX(اقساط!$B$3:$B$8532,SMALL(IF(اقساط!$G$3:$G$8532=B2232,ROW($B$3:$B$8532)-ROW($B$3)+1),ROWS($C$3:C2232))),\"\")","v":0}]
[{"$f":"IFERROR(INDEX(اقساط!$AT$3:$AT$8532,SMALL(IF(اقساط!$G$3:$G$8532=B2233,ROW($AT$3:$AT$8532)-ROW($AT$3)+1),ROWS($A$3:A2233))),\"\")","v":0},null,{"$f":"IFERROR(INDEX(اقساط!$B$3:$B$8532,SMALL(IF(اقساط!$G$3:$G$8532=B2233,ROW($B$3:$B$8532)-ROW($B$3)+1),ROWS($C$3:C2233))),\"\")","v":0}]
[{"$f":"IFERROR(INDEX(اقساط!$AT$3:$AT$8532,SMALL(IF(اقساط!$G$3:$G$8532=B2234,ROW($AT$3:$AT$8532)-ROW($AT$3)+1),ROWS($A$3:A2234))),\"\")","v":0},null,{"$f":"IFERROR(INDEX(اقساط!$B$3:$B$8532,SMALL(IF(اقساط!$G$3:$G$8532=B2234,ROW($B$3:$B$8532)-ROW($B$3)+1),ROWS($C$3:C2234))),\"\")","v":0}]
[{"$f":"IFERROR(INDEX(اقساط!$AT$3:$AT$8532,SMALL(IF(اقساط!$G$3:$G$8532=B2235,ROW($AT$3:$AT$8532)-ROW($AT$3)+1),ROWS($A$3:A2235))),\"\")","v":0},null,{"$f":"IFERROR(INDEX(اقساط!$B$3:$B$8532,SMALL(IF(اقساط!$G$3:$G$8532=B2235,ROW($B$3:$B$8532)-ROW($B$3)+1),ROWS($C$3:C2235))),\"\")","v":0}]
[{"$f":"IFERROR(INDEX(اقساط!$AT$3:$AT$8532,SMALL(IF(اقساط!$G$3:$G$8532=B2236,ROW($AT$3:$AT$8532)-ROW($AT$3)+1),ROWS($A$3:A2236))),\"\")","v":0},null,{"$f":"IFERROR(INDEX(اقساط!$B$3:$B$8532,SMALL(IF(اقساط!$G$3:$G$8532=B2236,ROW($B$3:$B$8532)-ROW($B$3)+1),ROWS($C$3:C2236))),\"\")","v":0}]
[{"$f":"IFERROR(INDEX(اقساط!$AT$3:$AT$8532,SMALL(IF(اقساط!$G$3:$G$8532=B2237,ROW($AT$3:$AT$8532)-ROW($AT$3)+1),ROWS($A$3:A2237))),\"\")","v":0},null,{"$f":"IFERROR(INDEX(اقساط!$B$3:$B$8532,SMALL(IF(اقساط!$G$3:$G$8532=B2237,ROW($B$3:$B$8532)-ROW($B$3)+1),ROWS($C$3:C2237))),\"\")","v":0}]
[{"$f":"IFERROR(INDEX(اقساط!$AT$3:$AT$8532,SMALL(IF(اقساط!$G$3:$G$8532=B2238,ROW($AT$3:$AT$8532)-ROW($AT$3)+1),ROWS($A$3:A2238))),\"\")","v":0},null,{"$f":"IFERROR(INDEX(اقساط!$B$3:$B$8532,SMALL(IF(اقساط!$G$3:$G$8532=B2238,ROW($B$3:$B$8532)-ROW($B$3)+1),ROWS($C$3:C2238))),\"\")","v":0}]
[{"$f":"IFERROR(INDEX(اقساط!$AT$3:$AT$8532,SMALL(IF(اقساط!$G$3:$G$8532=B2239,ROW($AT$3:$AT$8532)-ROW($AT$3)+1),ROWS($A$3:A2239))),\"\")","v":0},null,{"$f":"IFERROR(INDEX(اقساط!$B$3:$B$8532,SMALL(IF(اقساط!$G$3:$G$8532=B2239,ROW($B$3:$B$8532)-ROW($B$3)+1),ROWS($C$3:C2239))),\"\")","v":0}]
[{"$f":"IFERROR(INDEX(اقساط!$AT$3:$AT$8532,SMALL(IF(اقساط!$G$3:$G$8532=B2240,ROW($AT$3:$AT$8532)-ROW($AT$3)+1),ROWS($A$3:A2240))),\"\")","v":0},null,{"$f":"IFERROR(INDEX(اقساط!$B$3:$B$8532,SMALL(IF(اقساط!$G$3:$G$8532=B2240,ROW($B$3:$B$8532)-ROW($B$3)+1),ROWS($C$3:C2240))),\"\")","v":0}]
[{"$f":"IFERROR(INDEX(اقساط!$AT$3:$AT$8532,SMALL(IF(اقساط!$G$3:$G$8532=B2241,ROW($AT$3:$AT$8532)-ROW($AT$3)+1),ROWS($A$3:A2241))),\"\")","v":0},null,{"$f":"IFERROR(INDEX(اقساط!$B$3:$B$8532,SMALL(IF(اقساط!$G$3:$G$8532=B2241,ROW($B$3:$B$8532)-ROW($B$3)+1),ROWS($C$3:C2241))),\"\")","v":0}]
[{"$f":"IFERROR(INDEX(اقساط!$AT$3:$AT$8532,SMALL(IF(اقساط!$G$3:$G$8532=B2242,ROW($AT$3:$AT$8532)-ROW($AT$3)+1),ROWS($A$3:A2242))),\"\")","v":0},null,{"$f":"IFERROR(INDEX(اقساط!$B$3:$B$8532,SMALL(IF(اقساط!$G$3:$G$8532=B2242,ROW($B$3:$B$8532)-ROW($B$3)+1),ROWS($C$3:C2242))),\"\")","v":0}]
[{"$f":"IFERROR(INDEX(اقساط!$AT$3:$AT$8532,SMALL(IF(اقساط!$G$3:$G$8532=B2243,ROW($AT$3:$AT$8532)-ROW($AT$3)+1),ROWS($A$3:A2243))),\"\")","v":0},null,{"$f":"IFERROR(INDEX(اقساط!$B$3:$B$8532,SMALL(IF(اقساط!$G$3:$G$8532=B2243,ROW($B$3:$B$8532)-ROW($B$3)+1),ROWS($C$3:C2243))),\"\")","v":0}]
[{"$f":"IFERROR(INDEX(اقساط!$AT$3:$AT$8532,SMALL(IF(اقساط!$G$3:$G$8532=B2244,ROW($AT$3:$AT$8532)-ROW($AT$3)+1),ROWS($A$3:A2244))),\"\")","v":0},null,{"$f":"IFERROR(INDEX(اقساط!$B$3:$B$8532,SMALL(IF(اقساط!$G$3:$G$8532=B2244,ROW($B$3:$B$8532)-ROW($B$3)+1),ROWS($C$3:C2244))),\"\")","v":0}]
[{"$f":"IFERROR(INDEX(اقساط!$AT$3:$AT$8532,SMALL(IF(اقساط!$G$3:$G$8532=B2245,ROW($AT$3:$AT$8532)-ROW($AT$3)+1),ROWS($A$3:A2245))),\"\")","v":0},null,{"$f":"IFERROR(INDEX(اقساط!$B$3:$B$8532,SMALL(IF(اقساط!$G$3:$G$8532=B2245,ROW($B$3:$B$8532)-ROW($B$3)+1),ROWS($C$3:C2245))),\"\")","v":0}]
[{"$f":"IFERROR(INDEX(اقساط!$AT$3:$AT$8532,SMALL(IF(اقساط!$G$3:$G$8532=B2246,ROW($AT$3:$AT$8532)-ROW($AT$3)+1),ROWS($A$3:A2246))),\"\")","v":0},null,{"$f":"IFERROR(INDEX(اقساط!$B$3:$B$8532,SMALL(IF(اقساط!$G$3:$G$8532=B2246,ROW($B$3:$B$8532)-ROW($B$3)+1),ROWS($C$3:C2246))),\"\")","v":0}]
[{"$f":"IFERROR(INDEX(اقساط!$AT$3:$AT$8532,SMALL(IF(اقساط!$G$3:$G$8532=B2247,ROW($AT$3:$AT$8532)-ROW($AT$3)+1),ROWS($A$3:A2247))),\"\")","v":0},null,{"$f":"IFERROR(INDEX(اقساط!$B$3:$B$8532,SMALL(IF(اقساط!$G$3:$G$8532=B2247,ROW($B$3:$B$8532)-ROW($B$3)+1),ROWS($C$3:C2247))),\"\")","v":0}]
[{"$f":"IFERROR(INDEX(اقساط!$AT$3:$AT$8532,SMALL(IF(اقساط!$G$3:$G$8532=B2248,ROW($AT$3:$AT$8532)-ROW($AT$3)+1),ROWS($A$3:A2248))),\"\")","v":0},null,{"$f":"IFERROR(INDEX(اقساط!$B$3:$B$8532,SMALL(IF(اقساط!$G$3:$G$8532=B2248,ROW($B$3:$B$8532)-ROW($B$3)+1),ROWS($C$3:C2248))),\"\")","v":0}]
[{"$f":"IFERROR(INDEX(اقساط!$AT$3:$AT$8532,SMALL(IF(اقساط!$G$3:$G$8532=B2249,ROW($AT$3:$AT$8532)-ROW($AT$3)+1),ROWS($A$3:A2249))),\"\")","v":0},null,{"$f":"IFERROR(INDEX(اقساط!$B$3:$B$8532,SMALL(IF(اقساط!$G$3:$G$8532=B2249,ROW($B$3:$B$8532)-ROW($B$3)+1),ROWS($C$3:C2249))),\"\")","v":0}]
[{"$f":"IFERROR(INDEX(اقساط!$AT$3:$AT$8532,SMALL(IF(اقساط!$G$3:$G$8532=B2250,ROW($AT$3:$AT$8532)-ROW($AT$3)+1),ROWS($A$3:A2250))),\"\")","v":0},null,{"$f":"IFERROR(INDEX(اقساط!$B$3:$B$8532,SMALL(IF(اقساط!$G$3:$G$8532=B2250,ROW($B$3:$B$8532)-ROW($B$3)+1),ROWS($C$3:C2250))),\"\")","v":0}]
[{"$f":"IFERROR(INDEX(اقساط!$AT$3:$AT$8532,SMALL(IF(اقساط!$G$3:$G$8532=B2251,ROW($AT$3:$AT$8532)-ROW($AT$3)+1),ROWS($A$3:A2251))),\"\")","v":0},null,{"$f":"IFERROR(INDEX(اقساط!$B$3:$B$8532,SMALL(IF(اقساط!$G$3:$G$8532=B2251,ROW($B$3:$B$8532)-ROW($B$3)+1),ROWS($C$3:C2251))),\"\")","v":0}]
[{"$f":"IFERROR(INDEX(اقساط!$AT$3:$AT$8532,SMALL(IF(اقساط!$G$3:$G$8532=B2252,ROW($AT$3:$AT$8532)-ROW($AT$3)+1),ROWS($A$3:A2252))),\"\")","v":0},null,{"$f":"IFERROR(INDEX(اقساط!$B$3:$B$8532,SMALL(IF(اقساط!$G$3:$G$8532=B2252,ROW($B$3:$B$8532)-ROW($B$3)+1),ROWS($C$3:C2252))),\"\")","v":0}]
[{"$f":"IFERROR(INDEX(اقساط!$AT$3:$AT$8532,SMALL(IF(اقساط!$G$3:$G$8532=B2253,ROW($AT$3:$AT$8532)-ROW($AT$3)+1),ROWS($A$3:A2253))),\"\")","v":0},null,{"$f":"IFERROR(INDEX(اقساط!$B$3:$B$8532,SMALL(IF(اقساط!$G$3:$G$8532=B2253,ROW($B$3:$B$8532)-ROW($B$3)+1),ROWS($C$3:C2253))),\"\")","v":0}]
[{"$f":"IFERROR(INDEX(اقساط!$AT$3:$AT$8532,SMALL(IF(اقساط!$G$3:$G$8532=B2254,ROW($AT$3:$AT$8532)-ROW($AT$3)+1),ROWS($A$3:A2254))),\"\")","v":0},null,{"$f":"IFERROR(INDEX(اقساط!$B$3:$B$8532,SMALL(IF(اقساط!$G$3:$G$8532=B2254,ROW($B$3:$B$8532)-ROW($B$3)+1),ROWS($C$3:C2254))),\"\")","v":0}]
[{"$f":"IFERROR(INDEX(اقساط!$AT$3:$AT$8532,SMALL(IF(اقساط!$G$3:$G$8532=B2255,ROW($AT$3:$AT$8532)-ROW($AT$3)+1),ROWS($A$3:A2255))),\"\")","v":0},null,{"$f":"IFERROR(INDEX(اقساط!$B$3:$B$8532,SMALL(IF(اقساط!$G$3:$G$8532=B2255,ROW($B$3:$B$8532)-ROW($B$3)+1),ROWS($C$3:C2255))),\"\")","v":0}]
[{"$f":"IFERROR(INDEX(اقساط!$AT$3:$AT$8532,SMALL(IF(اقساط!$G$3:$G$8532=B2256,ROW($AT$3:$AT$8532)-ROW($AT$3)+1),ROWS($A$3:A2256))),\"\")","v":0},null,{"$f":"IFERROR(INDEX(اقساط!$B$3:$B$8532,SMALL(IF(اقساط!$G$3:$G$8532=B2256,ROW($B$3:$B$8532)-ROW($B$3)+1),ROWS($C$3:C2256))),\"\")","v":0}]
[{"$f":"IFERROR(INDEX(اقساط!$AT$3:$AT$8532,SMALL(IF(اقساط!$G$3:$G$8532=B2257,ROW($AT$3:$AT$8532)-ROW($AT$3)+1),ROWS($A$3:A2257))),\"\")","v":0},null,{"$f":"IFERROR(INDEX(اقساط!$B$3:$B$8532,SMALL(IF(اقساط!$G$3:$G$8532=B2257,ROW($B$3:$B$8532)-ROW($B$3)+1),ROWS($C$3:C2257))),\"\")","v":0}]
[{"$f":"IFERROR(INDEX(اقساط!$AT$3:$AT$8532,SMALL(IF(اقساط!$G$3:$G$8532=B2258,ROW($AT$3:$AT$8532)-ROW($AT$3)+1),ROWS($A$3:A2258))),\"\")","v":0},null,{"$f":"IFERROR(INDEX(اقساط!$B$3:$B$8532,SMALL(IF(اقساط!$G$3:$G$8532=B2258,ROW($B$3:$B$8532)-ROW($B$3)+1),ROWS($C$3:C2258))),\"\")","v":0}]
[{"$f":"IFERROR(INDEX(اقساط!$AT$3:$AT$8532,SMALL(IF(اقساط!$G$3:$G$8532=B2259,ROW($AT$3:$AT$8532)-ROW($AT$3)+1),ROWS($A$3:A2259))),\"\")","v":0},null,{"$f":"IFERROR(INDEX(اقساط!$B$3:$B$8532,SMALL(IF(اقساط!$G$3:$G$8532=B2259,ROW($B$3:$B$8532)-ROW($B$3)+1),ROWS($C$3:C2259))),\"\")","v":0}]
[{"$f":"IFERROR(INDEX(اقساط!$AT$3:$AT$8532,SMALL(IF(اقساط!$G$3:$G$8532=B2260,ROW($AT$3:$AT$8532)-ROW($AT$3)+1),ROWS($A$3:A2260))),\"\")","v":0},null,{"$f":"IFERROR(INDEX(اقساط!$B$3:$B$8532,SMALL(IF(اقساط!$G$3:$G$8532=B2260,ROW($B$3:$B$8532)-ROW($B$3)+1),ROWS($C$3:C2260))),\"\")","v":0}]
[{"$f":"IFERROR(INDEX(اقساط!$AT$3:$AT$8532,SMALL(IF(اقساط!$G$3:$G$8532=B2261,ROW($AT$3:$AT$8532)-ROW($AT$3)+1),ROWS($A$3:A2261))),\"\")","v":0},null,{"$f":"IFERROR(INDEX(اقساط!$B$3:$B$8532,SMALL(IF(اقساط!$G$3:$G$8532=B2261,ROW($B$3:$B$8532)-ROW($B$3)+1),ROWS($C$3:C2261))),\"\")","v":0}]
[{"$f":"IFERROR(INDEX(اقساط!$AT$3:$AT$8532,SMALL(IF(اقساط!$G$3:$G$8532=B2262,ROW($AT$3:$AT$8532)-ROW($AT$3)+1),ROWS($A$3:A2262))),\"\")","v":0},null,{"$f":"IFERROR(INDEX(اقساط!$B$3:$B$8532,SMALL(IF(اقساط!$G$3:$G$8532=B2262,ROW($B$3:$B$8532)-ROW($B$3)+1),ROWS($C$3:C2262))),\"\")","v":0}]
[{"$f":"IFERROR(INDEX(اقساط!$AT$3:$AT$8532,SMALL(IF(اقساط!$G$3:$G$8532=B2263,ROW($AT$3:$AT$8532)-ROW($AT$3)+1),ROWS($A$3:A2263))),\"\")","v":0},null,{"$f":"IFERROR(INDEX(اقساط!$B$3:$B$8532,SMALL(IF(اقساط!$G$3:$G$8532=B2263,ROW($B$3:$B$8532)-ROW($B$3)+1),ROWS($C$3:C2263))),\"\")","v":0}]
[{"$f":"IFERROR(INDEX(اقساط!$AT$3:$AT$8532,SMALL(IF(اقساط!$G$3:$G$8532=B2264,ROW($AT$3:$AT$8532)-ROW($AT$3)+1),ROWS($A$3:A2264))),\"\")","v":0},null,{"$f":"IFERROR(INDEX(اقساط!$B$3:$B$8532,SMALL(IF(اقساط!$G$3:$G$8532=B2264,ROW($B$3:$B$8532)-ROW($B$3)+1),ROWS($C$3:C2264))),\"\")","v":0}]
[{"$f":"IFERROR(INDEX(اقساط!$AT$3:$AT$8532,SMALL(IF(اقساط!$G$3:$G$8532=B2265,ROW($AT$3:$AT$8532)-ROW($AT$3)+1),ROWS($A$3:A2265))),\"\")","v":0},null,{"$f":"IFERROR(INDEX(اقساط!$B$3:$B$8532,SMALL(IF(اقساط!$G$3:$G$8532=B2265,ROW($B$3:$B$8532)-ROW($B$3)+1),ROWS($C$3:C2265))),\"\")","v":0}]
[{"$f":"IFERROR(INDEX(اقساط!$AT$3:$AT$8532,SMALL(IF(اقساط!$G$3:$G$8532=B2266,ROW($AT$3:$AT$8532)-ROW($AT$3)+1),ROWS($A$3:A2266))),\"\")","v":0},null,{"$f":"IFERROR(INDEX(اقساط!$B$3:$B$8532,SMALL(IF(اقساط!$G$3:$G$8532=B2266,ROW($B$3:$B$8532)-ROW($B$3)+1),ROWS($C$3:C2266))),\"\")","v":0}]
[{"$f":"IFERROR(INDEX(اقساط!$AT$3:$AT$8532,SMALL(IF(اقساط!$G$3:$G$8532=B2267,ROW($AT$3:$AT$8532)-ROW($AT$3)+1),ROWS($A$3:A2267))),\"\")","v":0},null,{"$f":"IFERROR(INDEX(اقساط!$B$3:$B$8532,SMALL(IF(اقساط!$G$3:$G$8532=B2267,ROW($B$3:$B$8532)-ROW($B$3)+1),ROWS($C$3:C2267))),\"\")","v":0}]
[{"$f":"IFERROR(INDEX(اقساط!$AT$3:$AT$8532,SMALL(IF(اقساط!$G$3:$G$8532=B2268,ROW($AT$3:$AT$8532)-ROW($AT$3)+1),ROWS($A$3:A2268))),\"\")","v":0},null,{"$f":"IFERROR(INDEX(اقساط!$B$3:$B$8532,SMALL(IF(اقساط!$G$3:$G$8532=B2268,ROW($B$3:$B$8532)-ROW($B$3)+1),ROWS($C$3:C2268))),\"\")","v":0}]
[{"$f":"IFERROR(INDEX(اقساط!$AT$3:$AT$8532,SMALL(IF(اقساط!$G$3:$G$8532=B2269,ROW($AT$3:$AT$8532)-ROW($AT$3)+1),ROWS($A$3:A2269))),\"\")","v":0},null,{"$f":"IFERROR(INDEX(اقساط!$B$3:$B$8532,SMALL(IF(اقساط!$G$3:$G$8532=B2269,ROW($B$3:$B$8532)-ROW($B$3)+1),ROWS($C$3:C2269))),\"\")","v":0}]
[{"$f":"IFERROR(INDEX(اقساط!$AT$3:$AT$8532,SMALL(IF(اقساط!$G$3:$G$8532=B2270,ROW($AT$3:$AT$8532)-ROW($AT$3)+1),ROWS($A$3:A2270))),\"\")","v":0},null,{"$f":"IFERROR(INDEX(اقساط!$B$3:$B$8532,SMALL(IF(اقساط!$G$3:$G$8532=B2270,ROW($B$3:$B$8532)-ROW($B$3)+1),ROWS($C$3:C2270))),\"\")","v":0}]
[{"$f":"IFERROR(INDEX(اقساط!$AT$3:$AT$8532,SMALL(IF(اقساط!$G$3:$G$8532=B2271,ROW($AT$3:$AT$8532)-ROW($AT$3)+1),ROWS($A$3:A2271))),\"\")","v":0},null,{"$f":"IFERROR(INDEX(اقساط!$B$3:$B$8532,SMALL(IF(اقساط!$G$3:$G$8532=B2271,ROW($B$3:$B$8532)-ROW($B$3)+1),ROWS($C$3:C2271))),\"\")","v":0}]
[{"$f":"IFERROR(INDEX(اقساط!$AT$3:$AT$8532,SMALL(IF(اقساط!$G$3:$G$8532=B2272,ROW($AT$3:$AT$8532)-ROW($AT$3)+1),ROWS($A$3:A2272))),\"\")","v":0},null,{"$f":"IFERROR(INDEX(اقساط!$B$3:$B$8532,SMALL(IF(اقساط!$G$3:$G$8532=B2272,ROW($B$3:$B$8532)-ROW($B$3)+1),ROWS($C$3:C2272))),\"\")","v":0}]
[{"$f":"IFERROR(INDEX(اقساط!$AT$3:$AT$8532,SMALL(IF(اقساط!$G$3:$G$8532=B2273,ROW($AT$3:$AT$8532)-ROW($AT$3)+1),ROWS($A$3:A2273))),\"\")","v":0},null,{"$f":"IFERROR(INDEX(اقساط!$B$3:$B$8532,SMALL(IF(اقساط!$G$3:$G$8532=B2273,ROW($B$3:$B$8532)-ROW($B$3)+1),ROWS($C$3:C2273))),\"\")","v":0}]
[{"$f":"IFERROR(INDEX(اقساط!$AT$3:$AT$8532,SMALL(IF(اقساط!$G$3:$G$8532=B2274,ROW($AT$3:$AT$8532)-ROW($AT$3)+1),ROWS($A$3:A2274))),\"\")","v":0},null,{"$f":"IFERROR(INDEX(اقساط!$B$3:$B$8532,SMALL(IF(اقساط!$G$3:$G$8532=B2274,ROW($B$3:$B$8532)-ROW($B$3)+1),ROWS($C$3:C2274))),\"\")","v":0}]
[{"$f":"IFERROR(INDEX(اقساط!$AT$3:$AT$8532,SMALL(IF(اقساط!$G$3:$G$8532=B2275,ROW($AT$3:$AT$8532)-ROW($AT$3)+1),ROWS($A$3:A2275))),\"\")","v":0},null,{"$f":"IFERROR(INDEX(اقساط!$B$3:$B$8532,SMALL(IF(اقساط!$G$3:$G$8532=B2275,ROW($B$3:$B$8532)-ROW($B$3)+1),ROWS($C$3:C2275))),\"\")","v":0}]
[{"$f":"IFERROR(INDEX(اقساط!$AT$3:$AT$8532,SMALL(IF(اقساط!$G$3:$G$8532=B2276,ROW($AT$3:$AT$8532)-ROW($AT$3)+1),ROWS($A$3:A2276))),\"\")","v":0},null,{"$f":"IFERROR(INDEX(اقساط!$B$3:$B$8532,SMALL(IF(اقساط!$G$3:$G$8532=B2276,ROW($B$3:$B$8532)-ROW($B$3)+1),ROWS($C$3:C2276))),\"\")","v":0}]
[{"$f":"IFERROR(INDEX(اقساط!$AT$3:$AT$8532,SMALL(IF(اقساط!$G$3:$G$8532=B2277,ROW($AT$3:$AT$8532)-ROW($AT$3)+1),ROWS($A$3:A2277))),\"\")","v":0},null,{"$f":"IFERROR(INDEX(اقساط!$B$3:$B$8532,SMALL(IF(اقساط!$G$3:$G$8532=B2277,ROW($B$3:$B$8532)-ROW($B$3)+1),ROWS($C$3:C2277))),\"\")","v":0}]
[{"$f":"IFERROR(INDEX(اقساط!$AT$3:$AT$8532,SMALL(IF(اقساط!$G$3:$G$8532=B2278,ROW($AT$3:$AT$8532)-ROW($AT$3)+1),ROWS($A$3:A2278))),\"\")","v":0},null,{"$f":"IFERROR(INDEX(اقساط!$B$3:$B$8532,SMALL(IF(اقساط!$G$3:$G$8532=B2278,ROW($B$3:$B$8532)-ROW($B$3)+1),ROWS($C$3:C2278))),\"\")","v":0}]
[{"$f":"IFERROR(INDEX(اقساط!$AT$3:$AT$8532,SMALL(IF(اقساط!$G$3:$G$8532=B2279,ROW($AT$3:$AT$8532)-ROW($AT$3)+1),ROWS($A$3:A2279))),\"\")","v":0},null,{"$f":"IFERROR(INDEX(اقساط!$B$3:$B$8532,SMALL(IF(اقساط!$G$3:$G$8532=B2279,ROW($B$3:$B$8532)-ROW($B$3)+1),ROWS($C$3:C2279))),\"\")","v":0}]
[{"$f":"IFERROR(INDEX(اقساط!$AT$3:$AT$8532,SMALL(IF(اقساط!$G$3:$G$8532=B2280,ROW($AT$3:$AT$8532)-ROW($AT$3)+1),ROWS($A$3:A2280))),\"\")","v":0},null,{"$f":"IFERROR(INDEX(اقساط!$B$3:$B$8532,SMALL(IF(اقساط!$G$3:$G$8532=B2280,ROW($B$3:$B$8532)-ROW($B$3)+1),ROWS($C$3:C2280))),\"\")","v":0}]
[{"$f":"IFERROR(INDEX(اقساط!$AT$3:$AT$8532,SMALL(IF(اقساط!$G$3:$G$8532=B2281,ROW($AT$3:$AT$8532)-ROW($AT$3)+1),ROWS($A$3:A2281))),\"\")","v":0},null,{"$f":"IFERROR(INDEX(اقساط!$B$3:$B$8532,SMALL(IF(اقساط!$G$3:$G$8532=B2281,ROW($B$3:$B$8532)-ROW($B$3)+1),ROWS($C$3:C2281))),\"\")","v":0}]
[{"$f":"IFERROR(INDEX(اقساط!$AT$3:$AT$8532,SMALL(IF(اقساط!$G$3:$G$8532=B2282,ROW($AT$3:$AT$8532)-ROW($AT$3)+1),ROWS($A$3:A2282))),\"\")","v":0},null,{"$f":"IFERROR(INDEX(اقساط!$B$3:$B$8532,SMALL(IF(اقساط!$G$3:$G$8532=B2282,ROW($B$3:$B$8532)-ROW($B$3)+1),ROWS($C$3:C2282))),\"\")","v":0}]
[{"$f":"IFERROR(INDEX(اقساط!$AT$3:$AT$8532,SMALL(IF(اقساط!$G$3:$G$8532=B2283,ROW($AT$3:$AT$8532)-ROW($AT$3)+1),ROWS($A$3:A2283))),\"\")","v":0},null,{"$f":"IFERROR(INDEX(اقساط!$B$3:$B$8532,SMALL(IF(اقساط!$G$3:$G$8532=B2283,ROW($B$3:$B$8532)-ROW($B$3)+1),ROWS($C$3:C2283))),\"\")","v":0}]
[{"$f":"IFERROR(INDEX(اقساط!$AT$3:$AT$8532,SMALL(IF(اقساط!$G$3:$G$8532=B2284,ROW($AT$3:$AT$8532)-ROW($AT$3)+1),ROWS($A$3:A2284))),\"\")","v":0},null,{"$f":"IFERROR(INDEX(اقساط!$B$3:$B$8532,SMALL(IF(اقساط!$G$3:$G$8532=B2284,ROW($B$3:$B$8532)-ROW($B$3)+1),ROWS($C$3:C2284))),\"\")","v":0}]
[{"$f":"IFERROR(INDEX(اقساط!$AT$3:$AT$8532,SMALL(IF(اقساط!$G$3:$G$8532=B2285,ROW($AT$3:$AT$8532)-ROW($AT$3)+1),ROWS($A$3:A2285))),\"\")","v":0},null,{"$f":"IFERROR(INDEX(اقساط!$B$3:$B$8532,SMALL(IF(اقساط!$G$3:$G$8532=B2285,ROW($B$3:$B$8532)-ROW($B$3)+1),ROWS($C$3:C2285))),\"\")","v":0}]
[{"$f":"IFERROR(INDEX(اقساط!$AT$3:$AT$8532,SMALL(IF(اقساط!$G$3:$G$8532=B2286,ROW($AT$3:$AT$8532)-ROW($AT$3)+1),ROWS($A$3:A2286))),\"\")","v":0},null,{"$f":"IFERROR(INDEX(اقساط!$B$3:$B$8532,SMALL(IF(اقساط!$G$3:$G$8532=B2286,ROW($B$3:$B$8532)-ROW($B$3)+1),ROWS($C$3:C2286))),\"\")","v":0}]
[{"$f":"IFERROR(INDEX(اقساط!$AT$3:$AT$8532,SMALL(IF(اقساط!$G$3:$G$8532=B2287,ROW($AT$3:$AT$8532)-ROW($AT$3)+1),ROWS($A$3:A2287))),\"\")","v":0},null,{"$f":"IFERROR(INDEX(اقساط!$B$3:$B$8532,SMALL(IF(اقساط!$G$3:$G$8532=B2287,ROW($B$3:$B$8532)-ROW($B$3)+1),ROWS($C$3:C2287))),\"\")","v":0}]
[{"$f":"IFERROR(INDEX(اقساط!$AT$3:$AT$8532,SMALL(IF(اقساط!$G$3:$G$8532=B2288,ROW($AT$3:$AT$8532)-ROW($AT$3)+1),ROWS($A$3:A2288))),\"\")","v":0},null,{"$f":"IFERROR(INDEX(اقساط!$B$3:$B$8532,SMALL(IF(اقساط!$G$3:$G$8532=B2288,ROW($B$3:$B$8532)-ROW($B$3)+1),ROWS($C$3:C2288))),\"\")","v":0}]
[{"$f":"IFERROR(INDEX(اقساط!$AT$3:$AT$8532,SMALL(IF(اقساط!$G$3:$G$8532=B2289,ROW($AT$3:$AT$8532)-ROW($AT$3)+1),ROWS($A$3:A2289))),\"\")","v":0},null,{"$f":"IFERROR(INDEX(اقساط!$B$3:$B$8532,SMALL(IF(اقساط!$G$3:$G$8532=B2289,ROW($B$3:$B$8532)-ROW($B$3)+1),ROWS($C$3:C2289))),\"\")","v":0}]
[{"$f":"IFERROR(INDEX(اقساط!$AT$3:$AT$8532,SMALL(IF(اقساط!$G$3:$G$8532=B2290,ROW($AT$3:$AT$8532)-ROW($AT$3)+1),ROWS($A$3:A2290))),\"\")","v":0},null,{"$f":"IFERROR(INDEX(اقساط!$B$3:$B$8532,SMALL(IF(اقساط!$G$3:$G$8532=B2290,ROW($B$3:$B$8532)-ROW($B$3)+1),ROWS($C$3:C2290))),\"\")","v":0}]
[{"$f":"IFERROR(INDEX(اقساط!$AT$3:$AT$8532,SMALL(IF(اقساط!$G$3:$G$8532=B2291,ROW($AT$3:$AT$8532)-ROW($AT$3)+1),ROWS($A$3:A2291))),\"\")","v":0},null,{"$f":"IFERROR(INDEX(اقساط!$B$3:$B$8532,SMALL(IF(اقساط!$G$3:$G$8532=B2291,ROW($B$3:$B$8532)-ROW($B$3)+1),ROWS($C$3:C2291))),\"\")","v":0}]
[{"$f":"IFERROR(INDEX(اقساط!$AT$3:$AT$8532,SMALL(IF(اقساط!$G$3:$G$8532=B2292,ROW($AT$3:$AT$8532)-ROW($AT$3)+1),ROWS($A$3:A2292))),\"\")","v":0},null,{"$f":"IFERROR(INDEX(اقساط!$B$3:$B$8532,SMALL(IF(اقساط!$G$3:$G$8532=B2292,ROW($B$3:$B$8532)-ROW($B$3)+1),ROWS($C$3:C2292))),\"\")","v":0}]
[{"$f":"IFERROR(INDEX(اقساط!$AT$3:$AT$8532,SMALL(IF(اقساط!$G$3:$G$8532=B2293,ROW($AT$3:$AT$8532)-ROW($AT$3)+1),ROWS($A$3:A2293))),\"\")","v":0},null,{"$f":"IFERROR(INDEX(اقساط!$B$3:$B$8532,SMALL(IF(اقساط!$G$3:$G$8532=B2293,ROW($B$3:$B$8532)-ROW($B$3)+1),ROWS($C$3:C2293))),\"\")","v":0}]
[{"$f":"IFERROR(INDEX(اقساط!$AT$3:$AT$8532,SMALL(IF(اقساط!$G$3:$G$8532=B2294,ROW($AT$3:$AT$8532)-ROW($AT$3)+1),ROWS($A$3:A2294))),\"\")","v":0},null,{"$f":"IFERROR(INDEX(اقساط!$B$3:$B$8532,SMALL(IF(اقساط!$G$3:$G$8532=B2294,ROW($B$3:$B$8532)-ROW($B$3)+1),ROWS($C$3:C2294))),\"\")","v":0}]
[{"$f":"IFERROR(INDEX(اقساط!$AT$3:$AT$8532,SMALL(IF(اقساط!$G$3:$G$8532=B2295,ROW($AT$3:$AT$8532)-ROW($AT$3)+1),ROWS($A$3:A2295))),\"\")","v":0},null,{"$f":"IFERROR(INDEX(اقساط!$B$3:$B$8532,SMALL(IF(اقساط!$G$3:$G$8532=B2295,ROW($B$3:$B$8532)-ROW($B$3)+1),ROWS($C$3:C2295))),\"\")","v":0}]
[{"$f":"IFERROR(INDEX(اقساط!$AT$3:$AT$8532,SMALL(IF(اقساط!$G$3:$G$8532=B2296,ROW($AT$3:$AT$8532)-ROW($AT$3)+1),ROWS($A$3:A2296))),\"\")","v":0},null,{"$f":"IFERROR(INDEX(اقساط!$B$3:$B$8532,SMALL(IF(اقساط!$G$3:$G$8532=B2296,ROW($B$3:$B$8532)-ROW($B$3)+1),ROWS($C$3:C2296))),\"\")","v":0}]
[{"$f":"IFERROR(INDEX(اقساط!$AT$3:$AT$8532,SMALL(IF(اقساط!$G$3:$G$8532=B2297,ROW($AT$3:$AT$8532)-ROW($AT$3)+1),ROWS($A$3:A2297))),\"\")","v":0},null,{"$f":"IFERROR(INDEX(اقساط!$B$3:$B$8532,SMALL(IF(اقساط!$G$3:$G$8532=B2297,ROW($B$3:$B$8532)-ROW($B$3)+1),ROWS($C$3:C2297))),\"\")","v":0}]
[{"$f":"IFERROR(INDEX(اقساط!$AT$3:$AT$8532,SMALL(IF(اقساط!$G$3:$G$8532=B2298,ROW($AT$3:$AT$8532)-ROW($AT$3)+1),ROWS($A$3:A2298))),\"\")","v":0},null,{"$f":"IFERROR(INDEX(اقساط!$B$3:$B$8532,SMALL(IF(اقساط!$G$3:$G$8532=B2298,ROW($B$3:$B$8532)-ROW($B$3)+1),ROWS($C$3:C2298))),\"\")","v":0}]
[{"$f":"IFERROR(INDEX(اقساط!$AT$3:$AT$8532,SMALL(IF(اقساط!$G$3:$G$8532=B2299,ROW($AT$3:$AT$8532)-ROW($AT$3)+1),ROWS($A$3:A2299))),\"\")","v":0},null,{"$f":"IFERROR(INDEX(اقساط!$B$3:$B$8532,SMALL(IF(اقساط!$G$3:$G$8532=B2299,ROW($B$3:$B$8532)-ROW($B$3)+1),ROWS($C$3:C2299))),\"\")","v":0}]
[{"$f":"IFERROR(INDEX(اقساط!$AT$3:$AT$8532,SMALL(IF(اقساط!$G$3:$G$8532=B2300,ROW($AT$3:$AT$8532)-ROW($AT$3)+1),ROWS($A$3:A2300))),\"\")","v":0},null,{"$f":"IFERROR(INDEX(اقساط!$B$3:$B$8532,SMALL(IF(اقساط!$G$3:$G$8532=B2300,ROW($B$3:$B$8532)-ROW($B$3)+1),ROWS($C$3:C2300))),\"\")","v":0}]
[{"$f":"IFERROR(INDEX(اقساط!$AT$3:$AT$8532,SMALL(IF(اقساط!$G$3:$G$8532=B2301,ROW($AT$3:$AT$8532)-ROW($AT$3)+1),ROWS($A$3:A2301))),\"\")","v":0},null,{"$f":"IFERROR(INDEX(اقساط!$B$3:$B$8532,SMALL(IF(اقساط!$G$3:$G$8532=B2301,ROW($B$3:$B$8532)-ROW($B$3)+1),ROWS($C$3:C2301))),\"\")","v":0}]
[{"$f":"IFERROR(INDEX(اقساط!$AT$3:$AT$8532,SMALL(IF(اقساط!$G$3:$G$8532=B2302,ROW($AT$3:$AT$8532)-ROW($AT$3)+1),ROWS($A$3:A2302))),\"\")","v":0},null,{"$f":"IFERROR(INDEX(اقساط!$B$3:$B$8532,SMALL(IF(اقساط!$G$3:$G$8532=B2302,ROW($B$3:$B$8532)-ROW($B$3)+1),ROWS($C$3:C2302))),\"\")","v":0}]
[{"$f":"IFERROR(INDEX(اقساط!$AT$3:$AT$8532,SMALL(IF(اقساط!$G$3:$G$8532=B2303,ROW($AT$3:$AT$8532)-ROW($AT$3)+1),ROWS($A$3:A2303))),\"\")","v":0},null,{"$f":"IFERROR(INDEX(اقساط!$B$3:$B$8532,SMALL(IF(اقساط!$G$3:$G$8532=B2303,ROW($B$3:$B$8532)-ROW($B$3)+1),ROWS($C$3:C2303))),\"\")","v":0}]
[{"$f":"IFERROR(INDEX(اقساط!$AT$3:$AT$8532,SMALL(IF(اقساط!$G$3:$G$8532=B2304,ROW($AT$3:$AT$8532)-ROW($AT$3)+1),ROWS($A$3:A2304))),\"\")","v":0},null,{"$f":"IFERROR(INDEX(اقساط!$B$3:$B$8532,SMALL(IF(اقساط!$G$3:$G$8532=B2304,ROW($B$3:$B$8532)-ROW($B$3)+1),ROWS($C$3:C2304))),\"\")","v":0}]
[{"$f":"IFERROR(INDEX(اقساط!$AT$3:$AT$8532,SMALL(IF(اقساط!$G$3:$G$8532=B2305,ROW($AT$3:$AT$8532)-ROW($AT$3)+1),ROWS($A$3:A2305))),\"\")","v":0},null,{"$f":"IFERROR(INDEX(اقساط!$B$3:$B$8532,SMALL(IF(اقساط!$G$3:$G$8532=B2305,ROW($B$3:$B$8532)-ROW($B$3)+1),ROWS($C$3:C2305))),\"\")","v":0}]
[{"$f":"IFERROR(INDEX(اقساط!$AT$3:$AT$8532,SMALL(IF(اقساط!$G$3:$G$8532=B2306,ROW($AT$3:$AT$8532)-ROW($AT$3)+1),ROWS($A$3:A2306))),\"\")","v":0},null,{"$f":"IFERROR(INDEX(اقساط!$B$3:$B$8532,SMALL(IF(اقساط!$G$3:$G$8532=B2306,ROW($B$3:$B$8532)-ROW($B$3)+1),ROWS($C$3:C2306))),\"\")","v":0}]
[{"$f":"IFERROR(INDEX(اقساط!$AT$3:$AT$8532,SMALL(IF(اقساط!$G$3:$G$8532=B2307,ROW($AT$3:$AT$8532)-ROW($AT$3)+1),ROWS($A$3:A2307))),\"\")","v":0},null,{"$f":"IFERROR(INDEX(اقساط!$B$3:$B$8532,SMALL(IF(اقساط!$G$3:$G$8532=B2307,ROW($B$3:$B$8532)-ROW($B$3)+1),ROWS($C$3:C2307))),\"\")","v":0}]
[{"$f":"IFERROR(INDEX(اقساط!$AT$3:$AT$8532,SMALL(IF(اقساط!$G$3:$G$8532=B2308,ROW($AT$3:$AT$8532)-ROW($AT$3)+1),ROWS($A$3:A2308))),\"\")","v":0},null,{"$f":"IFERROR(INDEX(اقساط!$B$3:$B$8532,SMALL(IF(اقساط!$G$3:$G$8532=B2308,ROW($B$3:$B$8532)-ROW($B$3)+1),ROWS($C$3:C2308))),\"\")","v":0}]
[{"$f":"IFERROR(INDEX(اقساط!$AT$3:$AT$8532,SMALL(IF(اقساط!$G$3:$G$8532=B2309,ROW($AT$3:$AT$8532)-ROW($AT$3)+1),ROWS($A$3:A2309))),\"\")","v":0},null,{"$f":"IFERROR(INDEX(اقساط!$B$3:$B$8532,SMALL(IF(اقساط!$G$3:$G$8532=B2309,ROW($B$3:$B$8532)-ROW($B$3)+1),ROWS($C$3:C2309))),\"\")","v":0}]
[{"$f":"IFERROR(INDEX(اقساط!$AT$3:$AT$8532,SMALL(IF(اقساط!$G$3:$G$8532=B2310,ROW($AT$3:$AT$8532)-ROW($AT$3)+1),ROWS($A$3:A2310))),\"\")","v":0},null,{"$f":"IFERROR(INDEX(اقساط!$B$3:$B$8532,SMALL(IF(اقساط!$G$3:$G$8532=B2310,ROW($B$3:$B$8532)-ROW($B$3)+1),ROWS($C$3:C2310))),\"\")","v":0}]
[{"$f":"IFERROR(INDEX(اقساط!$AT$3:$AT$8532,SMALL(IF(اقساط!$G$3:$G$8532=B2311,ROW($AT$3:$AT$8532)-ROW($AT$3)+1),ROWS($A$3:A2311))),\"\")","v":0},null,{"$f":"IFERROR(INDEX(اقساط!$B$3:$B$8532,SMALL(IF(اقساط!$G$3:$G$8532=B2311,ROW($B$3:$B$8532)-ROW($B$3)+1),ROWS($C$3:C2311))),\"\")","v":0}]
[{"$f":"IFERROR(INDEX(اقساط!$AT$3:$AT$8532,SMALL(IF(اقساط!$G$3:$G$8532=B2312,ROW($AT$3:$AT$8532)-ROW($AT$3)+1),ROWS($A$3:A2312))),\"\")","v":0},null,{"$f":"IFERROR(INDEX(اقساط!$B$3:$B$8532,SMALL(IF(اقساط!$G$3:$G$8532=B2312,ROW($B$3:$B$8532)-ROW($B$3)+1),ROWS($C$3:C2312))),\"\")","v":0}]
[{"$f":"IFERROR(INDEX(اقساط!$AT$3:$AT$8532,SMALL(IF(اقساط!$G$3:$G$8532=B2313,ROW($AT$3:$AT$8532)-ROW($AT$3)+1),ROWS($A$3:A2313))),\"\")","v":0},null,{"$f":"IFERROR(INDEX(اقساط!$B$3:$B$8532,SMALL(IF(اقساط!$G$3:$G$8532=B2313,ROW($B$3:$B$8532)-ROW($B$3)+1),ROWS($C$3:C2313))),\"\")","v":0}]
[{"$f":"IFERROR(INDEX(اقساط!$AT$3:$AT$8532,SMALL(IF(اقساط!$G$3:$G$8532=B2314,ROW($AT$3:$AT$8532)-ROW($AT$3)+1),ROWS($A$3:A2314))),\"\")","v":0},null,{"$f":"IFERROR(INDEX(اقساط!$B$3:$B$8532,SMALL(IF(اقساط!$G$3:$G$8532=B2314,ROW($B$3:$B$8532)-ROW($B$3)+1),ROWS($C$3:C2314))),\"\")","v":0}]
[{"$f":"IFERROR(INDEX(اقساط!$AT$3:$AT$8532,SMALL(IF(اقساط!$G$3:$G$8532=B2315,ROW($AT$3:$AT$8532)-ROW($AT$3)+1),ROWS($A$3:A2315))),\"\")","v":0},null,{"$f":"IFERROR(INDEX(اقساط!$B$3:$B$8532,SMALL(IF(اقساط!$G$3:$G$8532=B2315,ROW($B$3:$B$8532)-ROW($B$3)+1),ROWS($C$3:C2315))),\"\")","v":0}]
[{"$f":"IFERROR(INDEX(اقساط!$AT$3:$AT$8532,SMALL(IF(اقساط!$G$3:$G$8532=B2316,ROW($AT$3:$AT$8532)-ROW($AT$3)+1),ROWS($A$3:A2316))),\"\")","v":0},null,{"$f":"IFERROR(INDEX(اقساط!$B$3:$B$8532,SMALL(IF(اقساط!$G$3:$G$8532=B2316,ROW($B$3:$B$8532)-ROW($B$3)+1),ROWS($C$3:C2316))),\"\")","v":0}]
[{"$f":"IFERROR(INDEX(اقساط!$AT$3:$AT$8532,SMALL(IF(اقساط!$G$3:$G$8532=B2317,ROW($AT$3:$AT$8532)-ROW($AT$3)+1),ROWS($A$3:A2317))),\"\")","v":0},null,{"$f":"IFERROR(INDEX(اقساط!$B$3:$B$8532,SMALL(IF(اقساط!$G$3:$G$8532=B2317,ROW($B$3:$B$8532)-ROW($B$3)+1),ROWS($C$3:C2317))),\"\")","v":0}]
[{"$f":"IFERROR(INDEX(اقساط!$AT$3:$AT$8532,SMALL(IF(اقساط!$G$3:$G$8532=B2318,ROW($AT$3:$AT$8532)-ROW($AT$3)+1),ROWS($A$3:A2318))),\"\")","v":0},null,{"$f":"IFERROR(INDEX(اقساط!$B$3:$B$8532,SMALL(IF(اقساط!$G$3:$G$8532=B2318,ROW($B$3:$B$8532)-ROW($B$3)+1),ROWS($C$3:C2318))),\"\")","v":0}]
[{"$f":"IFERROR(INDEX(اقساط!$AT$3:$AT$8532,SMALL(IF(اقساط!$G$3:$G$8532=B2319,ROW($AT$3:$AT$8532)-ROW($AT$3)+1),ROWS($A$3:A2319))),\"\")","v":0},null,{"$f":"IFERROR(INDEX(اقساط!$B$3:$B$8532,SMALL(IF(اقساط!$G$3:$G$8532=B2319,ROW($B$3:$B$8532)-ROW($B$3)+1),ROWS($C$3:C2319))),\"\")","v":0}]
[{"$f":"IFERROR(INDEX(اقساط!$AT$3:$AT$8532,SMALL(IF(اقساط!$G$3:$G$8532=B2320,ROW($AT$3:$AT$8532)-ROW($AT$3)+1),ROWS($A$3:A2320))),\"\")","v":0},null,{"$f":"IFERROR(INDEX(اقساط!$B$3:$B$8532,SMALL(IF(اقساط!$G$3:$G$8532=B2320,ROW($B$3:$B$8532)-ROW($B$3)+1),ROWS($C$3:C2320))),\"\")","v":0}]
[{"$f":"IFERROR(INDEX(اقساط!$AT$3:$AT$8532,SMALL(IF(اقساط!$G$3:$G$8532=B2321,ROW($AT$3:$AT$8532)-ROW($AT$3)+1),ROWS($A$3:A2321))),\"\")","v":0},null,{"$f":"IFERROR(INDEX(اقساط!$B$3:$B$8532,SMALL(IF(اقساط!$G$3:$G$8532=B2321,ROW($B$3:$B$8532)-ROW($B$3)+1),ROWS($C$3:C2321))),\"\")","v":0}]
[{"$f":"IFERROR(INDEX(اقساط!$AT$3:$AT$8532,SMALL(IF(اقساط!$G$3:$G$8532=B2322,ROW($AT$3:$AT$8532)-ROW($AT$3)+1),ROWS($A$3:A2322))),\"\")","v":0},null,{"$f":"IFERROR(INDEX(اقساط!$B$3:$B$8532,SMALL(IF(اقساط!$G$3:$G$8532=B2322,ROW($B$3:$B$8532)-ROW($B$3)+1),ROWS($C$3:C2322))),\"\")","v":0}]
[{"$f":"IFERROR(INDEX(اقساط!$AT$3:$AT$8532,SMALL(IF(اقساط!$G$3:$G$8532=B2323,ROW($AT$3:$AT$8532)-ROW($AT$3)+1),ROWS($A$3:A2323))),\"\")","v":0},null,{"$f":"IFERROR(INDEX(اقساط!$B$3:$B$8532,SMALL(IF(اقساط!$G$3:$G$8532=B2323,ROW($B$3:$B$8532)-ROW($B$3)+1),ROWS($C$3:C2323))),\"\")","v":0}]
[{"$f":"IFERROR(INDEX(اقساط!$AT$3:$AT$8532,SMALL(IF(اقساط!$G$3:$G$8532=B2324,ROW($AT$3:$AT$8532)-ROW($AT$3)+1),ROWS($A$3:A2324))),\"\")","v":0},null,{"$f":"IFERROR(INDEX(اقساط!$B$3:$B$8532,SMALL(IF(اقساط!$G$3:$G$8532=B2324,ROW($B$3:$B$8532)-ROW($B$3)+1),ROWS($C$3:C2324))),\"\")","v":0}]
[{"$f":"IFERROR(INDEX(اقساط!$AT$3:$AT$8532,SMALL(IF(اقساط!$G$3:$G$8532=B2325,ROW($AT$3:$AT$8532)-ROW($AT$3)+1),ROWS($A$3:A2325))),\"\")","v":0},null,{"$f":"IFERROR(INDEX(اقساط!$B$3:$B$8532,SMALL(IF(اقساط!$G$3:$G$8532=B2325,ROW($B$3:$B$8532)-ROW($B$3)+1),ROWS($C$3:C2325))),\"\")","v":0}]
[{"$f":"IFERROR(INDEX(اقساط!$AT$3:$AT$8532,SMALL(IF(اقساط!$G$3:$G$8532=B2326,ROW($AT$3:$AT$8532)-ROW($AT$3)+1),ROWS($A$3:A2326))),\"\")","v":0},null,{"$f":"IFERROR(INDEX(اقساط!$B$3:$B$8532,SMALL(IF(اقساط!$G$3:$G$8532=B2326,ROW($B$3:$B$8532)-ROW($B$3)+1),ROWS($C$3:C2326))),\"\")","v":0}]
[{"$f":"IFERROR(INDEX(اقساط!$AT$3:$AT$8532,SMALL(IF(اقساط!$G$3:$G$8532=B2327,ROW($AT$3:$AT$8532)-ROW($AT$3)+1),ROWS($A$3:A2327))),\"\")","v":0},null,{"$f":"IFERROR(INDEX(اقساط!$B$3:$B$8532,SMALL(IF(اقساط!$G$3:$G$8532=B2327,ROW($B$3:$B$8532)-ROW($B$3)+1),ROWS($C$3:C2327))),\"\")","v":0}]
[{"$f":"IFERROR(INDEX(اقساط!$AT$3:$AT$8532,SMALL(IF(اقساط!$G$3:$G$8532=B2328,ROW($AT$3:$AT$8532)-ROW($AT$3)+1),ROWS($A$3:A2328))),\"\")","v":0},null,{"$f":"IFERROR(INDEX(اقساط!$B$3:$B$8532,SMALL(IF(اقساط!$G$3:$G$8532=B2328,ROW($B$3:$B$8532)-ROW($B$3)+1),ROWS($C$3:C2328))),\"\")","v":0}]
[{"$f":"IFERROR(INDEX(اقساط!$AT$3:$AT$8532,SMALL(IF(اقساط!$G$3:$G$8532=B2329,ROW($AT$3:$AT$8532)-ROW($AT$3)+1),ROWS($A$3:A2329))),\"\")","v":0},null,{"$f":"IFERROR(INDEX(اقساط!$B$3:$B$8532,SMALL(IF(اقساط!$G$3:$G$8532=B2329,ROW($B$3:$B$8532)-ROW($B$3)+1),ROWS($C$3:C2329))),\"\")","v":0}]
[{"$f":"IFERROR(INDEX(اقساط!$AT$3:$AT$8532,SMALL(IF(اقساط!$G$3:$G$8532=B2330,ROW($AT$3:$AT$8532)-ROW($AT$3)+1),ROWS($A$3:A2330))),\"\")","v":0},null,{"$f":"IFERROR(INDEX(اقساط!$B$3:$B$8532,SMALL(IF(اقساط!$G$3:$G$8532=B2330,ROW($B$3:$B$8532)-ROW($B$3)+1),ROWS($C$3:C2330))),\"\")","v":0}]
[{"$f":"IFERROR(INDEX(اقساط!$AT$3:$AT$8532,SMALL(IF(اقساط!$G$3:$G$8532=B2331,ROW($AT$3:$AT$8532)-ROW($AT$3)+1),ROWS($A$3:A2331))),\"\")","v":0},null,{"$f":"IFERROR(INDEX(اقساط!$B$3:$B$8532,SMALL(IF(اقساط!$G$3:$G$8532=B2331,ROW($B$3:$B$8532)-ROW($B$3)+1),ROWS($C$3:C2331))),\"\")","v":0}]
[{"$f":"IFERROR(INDEX(اقساط!$AT$3:$AT$8532,SMALL(IF(اقساط!$G$3:$G$8532=B2332,ROW($AT$3:$AT$8532)-ROW($AT$3)+1),ROWS($A$3:A2332))),\"\")","v":0},null,{"$f":"IFERROR(INDEX(اقساط!$B$3:$B$8532,SMALL(IF(اقساط!$G$3:$G$8532=B2332,ROW($B$3:$B$8532)-ROW($B$3)+1),ROWS($C$3:C2332))),\"\")","v":0}]
[{"$f":"IFERROR(INDEX(اقساط!$AT$3:$AT$8532,SMALL(IF(اقساط!$G$3:$G$8532=B2333,ROW($AT$3:$AT$8532)-ROW($AT$3)+1),ROWS($A$3:A2333))),\"\")","v":0},null,{"$f":"IFERROR(INDEX(اقساط!$B$3:$B$8532,SMALL(IF(اقساط!$G$3:$G$8532=B2333,ROW($B$3:$B$8532)-ROW($B$3)+1),ROWS($C$3:C2333))),\"\")","v":0}]
[{"$f":"IFERROR(INDEX(اقساط!$AT$3:$AT$8532,SMALL(IF(اقساط!$G$3:$G$8532=B2334,ROW($AT$3:$AT$8532)-ROW($AT$3)+1),ROWS($A$3:A2334))),\"\")","v":0},null,{"$f":"IFERROR(INDEX(اقساط!$B$3:$B$8532,SMALL(IF(اقساط!$G$3:$G$8532=B2334,ROW($B$3:$B$8532)-ROW($B$3)+1),ROWS($C$3:C2334))),\"\")","v":0}]
[{"$f":"IFERROR(INDEX(اقساط!$AT$3:$AT$8532,SMALL(IF(اقساط!$G$3:$G$8532=B2335,ROW($AT$3:$AT$8532)-ROW($AT$3)+1),ROWS($A$3:A2335))),\"\")","v":0},null,{"$f":"IFERROR(INDEX(اقساط!$B$3:$B$8532,SMALL(IF(اقساط!$G$3:$G$8532=B2335,ROW($B$3:$B$8532)-ROW($B$3)+1),ROWS($C$3:C2335))),\"\")","v":0}]
[{"$f":"IFERROR(INDEX(اقساط!$AT$3:$AT$8532,SMALL(IF(اقساط!$G$3:$G$8532=B2336,ROW($AT$3:$AT$8532)-ROW($AT$3)+1),ROWS($A$3:A2336))),\"\")","v":0},null,{"$f":"IFERROR(INDEX(اقساط!$B$3:$B$8532,SMALL(IF(اقساط!$G$3:$G$8532=B2336,ROW($B$3:$B$8532)-ROW($B$3)+1),ROWS($C$3:C2336))),\"\")","v":0}]
[{"$f":"IFERROR(INDEX(اقساط!$AT$3:$AT$8532,SMALL(IF(اقساط!$G$3:$G$8532=B2337,ROW($AT$3:$AT$8532)-ROW($AT$3)+1),ROWS($A$3:A2337))),\"\")","v":0},null,{"$f":"IFERROR(INDEX(اقساط!$B$3:$B$8532,SMALL(IF(اقساط!$G$3:$G$8532=B2337,ROW($B$3:$B$8532)-ROW($B$3)+1),ROWS($C$3:C2337))),\"\")","v":0}]
[{"$f":"IFERROR(INDEX(اقساط!$AT$3:$AT$8532,SMALL(IF(اقساط!$G$3:$G$8532=B2338,ROW($AT$3:$AT$8532)-ROW($AT$3)+1),ROWS($A$3:A2338))),\"\")","v":0},null,{"$f":"IFERROR(INDEX(اقساط!$B$3:$B$8532,SMALL(IF(اقساط!$G$3:$G$8532=B2338,ROW($B$3:$B$8532)-ROW($B$3)+1),ROWS($C$3:C2338))),\"\")","v":0}]
[{"$f":"IFERROR(INDEX(اقساط!$AT$3:$AT$8532,SMALL(IF(اقساط!$G$3:$G$8532=B2339,ROW($AT$3:$AT$8532)-ROW($AT$3)+1),ROWS($A$3:A2339))),\"\")","v":0},null,{"$f":"IFERROR(INDEX(اقساط!$B$3:$B$8532,SMALL(IF(اقساط!$G$3:$G$8532=B2339,ROW($B$3:$B$8532)-ROW($B$3)+1),ROWS($C$3:C2339))),\"\")","v":0}]
[{"$f":"IFERROR(INDEX(اقساط!$AT$3:$AT$8532,SMALL(IF(اقساط!$G$3:$G$8532=B2340,ROW($AT$3:$AT$8532)-ROW($AT$3)+1),ROWS($A$3:A2340))),\"\")","v":0},null,{"$f":"IFERROR(INDEX(اقساط!$B$3:$B$8532,SMALL(IF(اقساط!$G$3:$G$8532=B2340,ROW($B$3:$B$8532)-ROW($B$3)+1),ROWS($C$3:C2340))),\"\")","v":0}]
[{"$f":"IFERROR(INDEX(اقساط!$AT$3:$AT$8532,SMALL(IF(اقساط!$G$3:$G$8532=B2341,ROW($AT$3:$AT$8532)-ROW($AT$3)+1),ROWS($A$3:A2341))),\"\")","v":0},null,{"$f":"IFERROR(INDEX(اقساط!$B$3:$B$8532,SMALL(IF(اقساط!$G$3:$G$8532=B2341,ROW($B$3:$B$8532)-ROW($B$3)+1),ROWS($C$3:C2341))),\"\")","v":0}]
[{"$f":"IFERROR(INDEX(اقساط!$AT$3:$AT$8532,SMALL(IF(اقساط!$G$3:$G$8532=B2342,ROW($AT$3:$AT$8532)-ROW($AT$3)+1),ROWS($A$3:A2342))),\"\")","v":0},null,{"$f":"IFERROR(INDEX(اقساط!$B$3:$B$8532,SMALL(IF(اقساط!$G$3:$G$8532=B2342,ROW($B$3:$B$8532)-ROW($B$3)+1),ROWS($C$3:C2342))),\"\")","v":0}]
[{"$f":"IFERROR(INDEX(اقساط!$AT$3:$AT$8532,SMALL(IF(اقساط!$G$3:$G$8532=B2343,ROW($AT$3:$AT$8532)-ROW($AT$3)+1),ROWS($A$3:A2343))),\"\")","v":0},null,{"$f":"IFERROR(INDEX(اقساط!$B$3:$B$8532,SMALL(IF(اقساط!$G$3:$G$8532=B2343,ROW($B$3:$B$8532)-ROW($B$3)+1),ROWS($C$3:C2343))),\"\")","v":0}]
[{"$f":"IFERROR(INDEX(اقساط!$AT$3:$AT$8532,SMALL(IF(اقساط!$G$3:$G$8532=B2344,ROW($AT$3:$AT$8532)-ROW($AT$3)+1),ROWS($A$3:A2344))),\"\")","v":0},null,{"$f":"IFERROR(INDEX(اقساط!$B$3:$B$8532,SMALL(IF(اقساط!$G$3:$G$8532=B2344,ROW($B$3:$B$8532)-ROW($B$3)+1),ROWS($C$3:C2344))),\"\")","v":0}]
[{"$f":"IFERROR(INDEX(اقساط!$AT$3:$AT$8532,SMALL(IF(اقساط!$G$3:$G$8532=B2345,ROW($AT$3:$AT$8532)-ROW($AT$3)+1),ROWS($A$3:A2345))),\"\")","v":0},null,{"$f":"IFERROR(INDEX(اقساط!$B$3:$B$8532,SMALL(IF(اقساط!$G$3:$G$8532=B2345,ROW($B$3:$B$8532)-ROW($B$3)+1),ROWS($C$3:C2345))),\"\")","v":0}]
[{"$f":"IFERROR(INDEX(اقساط!$AT$3:$AT$8532,SMALL(IF(اقساط!$G$3:$G$8532=B2346,ROW($AT$3:$AT$8532)-ROW($AT$3)+1),ROWS($A$3:A2346))),\"\")","v":0},null,{"$f":"IFERROR(INDEX(اقساط!$B$3:$B$8532,SMALL(IF(اقساط!$G$3:$G$8532=B2346,ROW($B$3:$B$8532)-ROW($B$3)+1),ROWS($C$3:C2346))),\"\")","v":0}]
[{"$f":"IFERROR(INDEX(اقساط!$AT$3:$AT$8532,SMALL(IF(اقساط!$G$3:$G$8532=B2347,ROW($AT$3:$AT$8532)-ROW($AT$3)+1),ROWS($A$3:A2347))),\"\")","v":0},null,{"$f":"IFERROR(INDEX(اقساط!$B$3:$B$8532,SMALL(IF(اقساط!$G$3:$G$8532=B2347,ROW($B$3:$B$8532)-ROW($B$3)+1),ROWS($C$3:C2347))),\"\")","v":0}]
[{"$f":"IFERROR(INDEX(اقساط!$AT$3:$AT$8532,SMALL(IF(اقساط!$G$3:$G$8532=B2348,ROW($AT$3:$AT$8532)-ROW($AT$3)+1),ROWS($A$3:A2348))),\"\")","v":0},null,{"$f":"IFERROR(INDEX(اقساط!$B$3:$B$8532,SMALL(IF(اقساط!$G$3:$G$8532=B2348,ROW($B$3:$B$8532)-ROW($B$3)+1),ROWS($C$3:C2348))),\"\")","v":0}]
[{"$f":"IFERROR(INDEX(اقساط!$AT$3:$AT$8532,SMALL(IF(اقساط!$G$3:$G$8532=B2349,ROW($AT$3:$AT$8532)-ROW($AT$3)+1),ROWS($A$3:A2349))),\"\")","v":0},null,{"$f":"IFERROR(INDEX(اقساط!$B$3:$B$8532,SMALL(IF(اقساط!$G$3:$G$8532=B2349,ROW($B$3:$B$8532)-ROW($B$3)+1),ROWS($C$3:C2349))),\"\")","v":0}]
[{"$f":"IFERROR(INDEX(اقساط!$AT$3:$AT$8532,SMALL(IF(اقساط!$G$3:$G$8532=B2350,ROW($AT$3:$AT$8532)-ROW($AT$3)+1),ROWS($A$3:A2350))),\"\")","v":0},null,{"$f":"IFERROR(INDEX(اقساط!$B$3:$B$8532,SMALL(IF(اقساط!$G$3:$G$8532=B2350,ROW($B$3:$B$8532)-ROW($B$3)+1),ROWS($C$3:C2350))),\"\")","v":0}]
[{"$f":"IFERROR(INDEX(اقساط!$AT$3:$AT$8532,SMALL(IF(اقساط!$G$3:$G$8532=B2351,ROW($AT$3:$AT$8532)-ROW($AT$3)+1),ROWS($A$3:A2351))),\"\")","v":0},null,{"$f":"IFERROR(INDEX(اقساط!$B$3:$B$8532,SMALL(IF(اقساط!$G$3:$G$8532=B2351,ROW($B$3:$B$8532)-ROW($B$3)+1),ROWS($C$3:C2351))),\"\")","v":0}]
[{"$f":"IFERROR(INDEX(اقساط!$AT$3:$AT$8532,SMALL(IF(اقساط!$G$3:$G$8532=B2352,ROW($AT$3:$AT$8532)-ROW($AT$3)+1),ROWS($A$3:A2352))),\"\")","v":0},null,{"$f":"IFERROR(INDEX(اقساط!$B$3:$B$8532,SMALL(IF(اقساط!$G$3:$G$8532=B2352,ROW($B$3:$B$8532)-ROW($B$3)+1),ROWS($C$3:C2352))),\"\")","v":0}]
[{"$f":"IFERROR(INDEX(اقساط!$AT$3:$AT$8532,SMALL(IF(اقساط!$G$3:$G$8532=B2353,ROW($AT$3:$AT$8532)-ROW($AT$3)+1),ROWS($A$3:A2353))),\"\")","v":0},null,{"$f":"IFERROR(INDEX(اقساط!$B$3:$B$8532,SMALL(IF(اقساط!$G$3:$G$8532=B2353,ROW($B$3:$B$8532)-ROW($B$3)+1),ROWS($C$3:C2353))),\"\")","v":0}]
[{"$f":"IFERROR(INDEX(اقساط!$AT$3:$AT$8532,SMALL(IF(اقساط!$G$3:$G$8532=B2354,ROW($AT$3:$AT$8532)-ROW($AT$3)+1),ROWS($A$3:A2354))),\"\")","v":0},null,{"$f":"IFERROR(INDEX(اقساط!$B$3:$B$8532,SMALL(IF(اقساط!$G$3:$G$8532=B2354,ROW($B$3:$B$8532)-ROW($B$3)+1),ROWS($C$3:C2354))),\"\")","v":0}]
[{"$f":"IFERROR(INDEX(اقساط!$AT$3:$AT$8532,SMALL(IF(اقساط!$G$3:$G$8532=B2355,ROW($AT$3:$AT$8532)-ROW($AT$3)+1),ROWS($A$3:A2355))),\"\")","v":0},null,{"$f":"IFERROR(INDEX(اقساط!$B$3:$B$8532,SMALL(IF(اقساط!$G$3:$G$8532=B2355,ROW($B$3:$B$8532)-ROW($B$3)+1),ROWS($C$3:C2355))),\"\")","v":0}]
[{"$f":"IFERROR(INDEX(اقساط!$AT$3:$AT$8532,SMALL(IF(اقساط!$G$3:$G$8532=B2356,ROW($AT$3:$AT$8532)-ROW($AT$3)+1),ROWS($A$3:A2356))),\"\")","v":0},null,{"$f":"IFERROR(INDEX(اقساط!$B$3:$B$8532,SMALL(IF(اقساط!$G$3:$G$8532=B2356,ROW($B$3:$B$8532)-ROW($B$3)+1),ROWS($C$3:C2356))),\"\")","v":0}]
[{"$f":"IFERROR(INDEX(اقساط!$AT$3:$AT$8532,SMALL(IF(اقساط!$G$3:$G$8532=B2357,ROW($AT$3:$AT$8532)-ROW($AT$3)+1),ROWS($A$3:A2357))),\"\")","v":0},null,{"$f":"IFERROR(INDEX(اقساط!$B$3:$B$8532,SMALL(IF(اقساط!$G$3:$G$8532=B2357,ROW($B$3:$B$8532)-ROW($B$3)+1),ROWS($C$3:C2357))),\"\")","v":0}]
[{"$f":"IFERROR(INDEX(اقساط!$AT$3:$AT$8532,SMALL(IF(اقساط!$G$3:$G$8532=B2358,ROW($AT$3:$AT$8532)-ROW($AT$3)+1),ROWS($A$3:A2358))),\"\")","v":0},null,{"$f":"IFERROR(INDEX(اقساط!$B$3:$B$8532,SMALL(IF(اقساط!$G$3:$G$8532=B2358,ROW($B$3:$B$8532)-ROW($B$3)+1),ROWS($C$3:C2358))),\"\")","v":0}]
[{"$f":"IFERROR(INDEX(اقساط!$AT$3:$AT$8532,SMALL(IF(اقساط!$G$3:$G$8532=B2359,ROW($AT$3:$AT$8532)-ROW($AT$3)+1),ROWS($A$3:A2359))),\"\")","v":0},null,{"$f":"IFERROR(INDEX(اقساط!$B$3:$B$8532,SMALL(IF(اقساط!$G$3:$G$8532=B2359,ROW($B$3:$B$8532)-ROW($B$3)+1),ROWS($C$3:C2359))),\"\")","v":0}]
[{"$f":"IFERROR(INDEX(اقساط!$AT$3:$AT$8532,SMALL(IF(اقساط!$G$3:$G$8532=B2360,ROW($AT$3:$AT$8532)-ROW($AT$3)+1),ROWS($A$3:A2360))),\"\")","v":0},null,{"$f":"IFERROR(INDEX(اقساط!$B$3:$B$8532,SMALL(IF(اقساط!$G$3:$G$8532=B2360,ROW($B$3:$B$8532)-ROW($B$3)+1),ROWS($C$3:C2360))),\"\")","v":0}]
[{"$f":"IFERROR(INDEX(اقساط!$AT$3:$AT$8532,SMALL(IF(اقساط!$G$3:$G$8532=B2361,ROW($AT$3:$AT$8532)-ROW($AT$3)+1),ROWS($A$3:A2361))),\"\")","v":0},null,{"$f":"IFERROR(INDEX(اقساط!$B$3:$B$8532,SMALL(IF(اقساط!$G$3:$G$8532=B2361,ROW($B$3:$B$8532)-ROW($B$3)+1),ROWS($C$3:C2361))),\"\")","v":0}]
[{"$f":"IFERROR(INDEX(اقساط!$AT$3:$AT$8532,SMALL(IF(اقساط!$G$3:$G$8532=B2362,ROW($AT$3:$AT$8532)-ROW($AT$3)+1),ROWS($A$3:A2362))),\"\")","v":0},null,{"$f":"IFERROR(INDEX(اقساط!$B$3:$B$8532,SMALL(IF(اقساط!$G$3:$G$8532=B2362,ROW($B$3:$B$8532)-ROW($B$3)+1),ROWS($C$3:C2362))),\"\")","v":0}]
[{"$f":"IFERROR(INDEX(اقساط!$AT$3:$AT$8532,SMALL(IF(اقساط!$G$3:$G$8532=B2363,ROW($AT$3:$AT$8532)-ROW($AT$3)+1),ROWS($A$3:A2363))),\"\")","v":0},null,{"$f":"IFERROR(INDEX(اقساط!$B$3:$B$8532,SMALL(IF(اقساط!$G$3:$G$8532=B2363,ROW($B$3:$B$8532)-ROW($B$3)+1),ROWS($C$3:C2363))),\"\")","v":0}]
[{"$f":"IFERROR(INDEX(اقساط!$AT$3:$AT$8532,SMALL(IF(اقساط!$G$3:$G$8532=B2364,ROW($AT$3:$AT$8532)-ROW($AT$3)+1),ROWS($A$3:A2364))),\"\")","v":0},null,{"$f":"IFERROR(INDEX(اقساط!$B$3:$B$8532,SMALL(IF(اقساط!$G$3:$G$8532=B2364,ROW($B$3:$B$8532)-ROW($B$3)+1),ROWS($C$3:C2364))),\"\")","v":0}]
[{"$f":"IFERROR(INDEX(اقساط!$AT$3:$AT$8532,SMALL(IF(اقساط!$G$3:$G$8532=B2365,ROW($AT$3:$AT$8532)-ROW($AT$3)+1),ROWS($A$3:A2365))),\"\")","v":0},null,{"$f":"IFERROR(INDEX(اقساط!$B$3:$B$8532,SMALL(IF(اقساط!$G$3:$G$8532=B2365,ROW($B$3:$B$8532)-ROW($B$3)+1),ROWS($C$3:C2365))),\"\")","v":0}]
[{"$f":"IFERROR(INDEX(اقساط!$AT$3:$AT$8532,SMALL(IF(اقساط!$G$3:$G$8532=B2366,ROW($AT$3:$AT$8532)-ROW($AT$3)+1),ROWS($A$3:A2366))),\"\")","v":0},null,{"$f":"IFERROR(INDEX(اقساط!$B$3:$B$8532,SMALL(IF(اقساط!$G$3:$G$8532=B2366,ROW($B$3:$B$8532)-ROW($B$3)+1),ROWS($C$3:C2366))),\"\")","v":0}]
[{"$f":"IFERROR(INDEX(اقساط!$AT$3:$AT$8532,SMALL(IF(اقساط!$G$3:$G$8532=B2367,ROW($AT$3:$AT$8532)-ROW($AT$3)+1),ROWS($A$3:A2367))),\"\")","v":0},null,{"$f":"IFERROR(INDEX(اقساط!$B$3:$B$8532,SMALL(IF(اقساط!$G$3:$G$8532=B2367,ROW($B$3:$B$8532)-ROW($B$3)+1),ROWS($C$3:C2367))),\"\")","v":0}]
[{"$f":"IFERROR(INDEX(اقساط!$AT$3:$AT$8532,SMALL(IF(اقساط!$G$3:$G$8532=B2368,ROW($AT$3:$AT$8532)-ROW($AT$3)+1),ROWS($A$3:A2368))),\"\")","v":0},null,{"$f":"IFERROR(INDEX(اقساط!$B$3:$B$8532,SMALL(IF(اقساط!$G$3:$G$8532=B2368,ROW($B$3:$B$8532)-ROW($B$3)+1),ROWS($C$3:C2368))),\"\")","v":0}]
[{"$f":"IFERROR(INDEX(اقساط!$AT$3:$AT$8532,SMALL(IF(اقساط!$G$3:$G$8532=B2369,ROW($AT$3:$AT$8532)-ROW($AT$3)+1),ROWS($A$3:A2369))),\"\")","v":0},null,{"$f":"IFERROR(INDEX(اقساط!$B$3:$B$8532,SMALL(IF(اقساط!$G$3:$G$8532=B2369,ROW($B$3:$B$8532)-ROW($B$3)+1),ROWS($C$3:C2369))),\"\")","v":0}]
[{"$f":"IFERROR(INDEX(اقساط!$AT$3:$AT$8532,SMALL(IF(اقساط!$G$3:$G$8532=B2370,ROW($AT$3:$AT$8532)-ROW($AT$3)+1),ROWS($A$3:A2370))),\"\")","v":0},null,{"$f":"IFERROR(INDEX(اقساط!$B$3:$B$8532,SMALL(IF(اقساط!$G$3:$G$8532=B2370,ROW($B$3:$B$8532)-ROW($B$3)+1),ROWS($C$3:C2370))),\"\")","v":0}]
[{"$f":"IFERROR(INDEX(اقساط!$AT$3:$AT$8532,SMALL(IF(اقساط!$G$3:$G$8532=B2371,ROW($AT$3:$AT$8532)-ROW($AT$3)+1),ROWS($A$3:A2371))),\"\")","v":0},null,{"$f":"IFERROR(INDEX(اقساط!$B$3:$B$8532,SMALL(IF(اقساط!$G$3:$G$8532=B2371,ROW($B$3:$B$8532)-ROW($B$3)+1),ROWS($C$3:C2371))),\"\")","v":0}]
[{"$f":"IFERROR(INDEX(اقساط!$AT$3:$AT$8532,SMALL(IF(اقساط!$G$3:$G$8532=B2372,ROW($AT$3:$AT$8532)-ROW($AT$3)+1),ROWS($A$3:A2372))),\"\")","v":0},null,{"$f":"IFERROR(INDEX(اقساط!$B$3:$B$8532,SMALL(IF(اقساط!$G$3:$G$8532=B2372,ROW($B$3:$B$8532)-ROW($B$3)+1),ROWS($C$3:C2372))),\"\")","v":0}]
[{"$f":"IFERROR(INDEX(اقساط!$AT$3:$AT$8532,SMALL(IF(اقساط!$G$3:$G$8532=B2373,ROW($AT$3:$AT$8532)-ROW($AT$3)+1),ROWS($A$3:A2373))),\"\")","v":0},null,{"$f":"IFERROR(INDEX(اقساط!$B$3:$B$8532,SMALL(IF(اقساط!$G$3:$G$8532=B2373,ROW($B$3:$B$8532)-ROW($B$3)+1),ROWS($C$3:C2373))),\"\")","v":0}]
[{"$f":"IFERROR(INDEX(اقساط!$AT$3:$AT$8532,SMALL(IF(اقساط!$G$3:$G$8532=B2374,ROW($AT$3:$AT$8532)-ROW($AT$3)+1),ROWS($A$3:A2374))),\"\")","v":0},null,{"$f":"IFERROR(INDEX(اقساط!$B$3:$B$8532,SMALL(IF(اقساط!$G$3:$G$8532=B2374,ROW($B$3:$B$8532)-ROW($B$3)+1),ROWS($C$3:C2374))),\"\")","v":0}]
[{"$f":"IFERROR(INDEX(اقساط!$AT$3:$AT$8532,SMALL(IF(اقساط!$G$3:$G$8532=B2375,ROW($AT$3:$AT$8532)-ROW($AT$3)+1),ROWS($A$3:A2375))),\"\")","v":0},null,{"$f":"IFERROR(INDEX(اقساط!$B$3:$B$8532,SMALL(IF(اقساط!$G$3:$G$8532=B2375,ROW($B$3:$B$8532)-ROW($B$3)+1),ROWS($C$3:C2375))),\"\")","v":0}]
[{"$f":"IFERROR(INDEX(اقساط!$AT$3:$AT$8532,SMALL(IF(اقساط!$G$3:$G$8532=B2376,ROW($AT$3:$AT$8532)-ROW($AT$3)+1),ROWS($A$3:A2376))),\"\")","v":0},null,{"$f":"IFERROR(INDEX(اقساط!$B$3:$B$8532,SMALL(IF(اقساط!$G$3:$G$8532=B2376,ROW($B$3:$B$8532)-ROW($B$3)+1),ROWS($C$3:C2376))),\"\")","v":0}]
[{"$f":"IFERROR(INDEX(اقساط!$AT$3:$AT$8532,SMALL(IF(اقساط!$G$3:$G$8532=B2377,ROW($AT$3:$AT$8532)-ROW($AT$3)+1),ROWS($A$3:A2377))),\"\")","v":0},null,{"$f":"IFERROR(INDEX(اقساط!$B$3:$B$8532,SMALL(IF(اقساط!$G$3:$G$8532=B2377,ROW($B$3:$B$8532)-ROW($B$3)+1),ROWS($C$3:C2377))),\"\")","v":0}]
[{"$f":"IFERROR(INDEX(اقساط!$AT$3:$AT$8532,SMALL(IF(اقساط!$G$3:$G$8532=B2378,ROW($AT$3:$AT$8532)-ROW($AT$3)+1),ROWS($A$3:A2378))),\"\")","v":0},null,{"$f":"IFERROR(INDEX(اقساط!$B$3:$B$8532,SMALL(IF(اقساط!$G$3:$G$8532=B2378,ROW($B$3:$B$8532)-ROW($B$3)+1),ROWS($C$3:C2378))),\"\")","v":0}]
[{"$f":"IFERROR(INDEX(اقساط!$AT$3:$AT$8532,SMALL(IF(اقساط!$G$3:$G$8532=B2379,ROW($AT$3:$AT$8532)-ROW($AT$3)+1),ROWS($A$3:A2379))),\"\")","v":0},null,{"$f":"IFERROR(INDEX(اقساط!$B$3:$B$8532,SMALL(IF(اقساط!$G$3:$G$8532=B2379,ROW($B$3:$B$8532)-ROW($B$3)+1),ROWS($C$3:C2379))),\"\")","v":0}]
[{"$f":"IFERROR(INDEX(اقساط!$AT$3:$AT$8532,SMALL(IF(اقساط!$G$3:$G$8532=B2380,ROW($AT$3:$AT$8532)-ROW($AT$3)+1),ROWS($A$3:A2380))),\"\")","v":0},null,{"$f":"IFERROR(INDEX(اقساط!$B$3:$B$8532,SMALL(IF(اقساط!$G$3:$G$8532=B2380,ROW($B$3:$B$8532)-ROW($B$3)+1),ROWS($C$3:C2380))),\"\")","v":0}]
[{"$f":"IFERROR(INDEX(اقساط!$AT$3:$AT$8532,SMALL(IF(اقساط!$G$3:$G$8532=B2381,ROW($AT$3:$AT$8532)-ROW($AT$3)+1),ROWS($A$3:A2381))),\"\")","v":0},null,{"$f":"IFERROR(INDEX(اقساط!$B$3:$B$8532,SMALL(IF(اقساط!$G$3:$G$8532=B2381,ROW($B$3:$B$8532)-ROW($B$3)+1),ROWS($C$3:C2381))),\"\")","v":0}]
[{"$f":"IFERROR(INDEX(اقساط!$AT$3:$AT$8532,SMALL(IF(اقساط!$G$3:$G$8532=B2382,ROW($AT$3:$AT$8532)-ROW($AT$3)+1),ROWS($A$3:A2382))),\"\")","v":0},null,{"$f":"IFERROR(INDEX(اقساط!$B$3:$B$8532,SMALL(IF(اقساط!$G$3:$G$8532=B2382,ROW($B$3:$B$8532)-ROW($B$3)+1),ROWS($C$3:C2382))),\"\")","v":0}]
[{"$f":"IFERROR(INDEX(اقساط!$AT$3:$AT$8532,SMALL(IF(اقساط!$G$3:$G$8532=B2383,ROW($AT$3:$AT$8532)-ROW($AT$3)+1),ROWS($A$3:A2383))),\"\")","v":0},null,{"$f":"IFERROR(INDEX(اقساط!$B$3:$B$8532,SMALL(IF(اقساط!$G$3:$G$8532=B2383,ROW($B$3:$B$8532)-ROW($B$3)+1),ROWS($C$3:C2383))),\"\")","v":0}]
[{"$f":"IFERROR(INDEX(اقساط!$AT$3:$AT$8532,SMALL(IF(اقساط!$G$3:$G$8532=B2384,ROW($AT$3:$AT$8532)-ROW($AT$3)+1),ROWS($A$3:A2384))),\"\")","v":0},null,{"$f":"IFERROR(INDEX(اقساط!$B$3:$B$8532,SMALL(IF(اقساط!$G$3:$G$8532=B2384,ROW($B$3:$B$8532)-ROW($B$3)+1),ROWS($C$3:C2384))),\"\")","v":0}]
[{"$f":"IFERROR(INDEX(اقساط!$AT$3:$AT$8532,SMALL(IF(اقساط!$G$3:$G$8532=B2385,ROW($AT$3:$AT$8532)-ROW($AT$3)+1),ROWS($A$3:A2385))),\"\")","v":0},null,{"$f":"IFERROR(INDEX(اقساط!$B$3:$B$8532,SMALL(IF(اقساط!$G$3:$G$8532=B2385,ROW($B$3:$B$8532)-ROW($B$3)+1),ROWS($C$3:C2385))),\"\")","v":0}]
[{"$f":"IFERROR(INDEX(اقساط!$AT$3:$AT$8532,SMALL(IF(اقساط!$G$3:$G$8532=B2386,ROW($AT$3:$AT$8532)-ROW($AT$3)+1),ROWS($A$3:A2386))),\"\")","v":0},null,{"$f":"IFERROR(INDEX(اقساط!$B$3:$B$8532,SMALL(IF(اقساط!$G$3:$G$8532=B2386,ROW($B$3:$B$8532)-ROW($B$3)+1),ROWS($C$3:C2386))),\"\")","v":0}]
[{"$f":"IFERROR(INDEX(اقساط!$AT$3:$AT$8532,SMALL(IF(اقساط!$G$3:$G$8532=B2387,ROW($AT$3:$AT$8532)-ROW($AT$3)+1),ROWS($A$3:A2387))),\"\")","v":0},null,{"$f":"IFERROR(INDEX(اقساط!$B$3:$B$8532,SMALL(IF(اقساط!$G$3:$G$8532=B2387,ROW($B$3:$B$8532)-ROW($B$3)+1),ROWS($C$3:C2387))),\"\")","v":0}]
[{"$f":"IFERROR(INDEX(اقساط!$AT$3:$AT$8532,SMALL(IF(اقساط!$G$3:$G$8532=B2388,ROW($AT$3:$AT$8532)-ROW($AT$3)+1),ROWS($A$3:A2388))),\"\")","v":0},null,{"$f":"IFERROR(INDEX(اقساط!$B$3:$B$8532,SMALL(IF(اقساط!$G$3:$G$8532=B2388,ROW($B$3:$B$8532)-ROW($B$3)+1),ROWS($C$3:C2388))),\"\")","v":0}]
[{"$f":"IFERROR(INDEX(اقساط!$AT$3:$AT$8532,SMALL(IF(اقساط!$G$3:$G$8532=B2389,ROW($AT$3:$AT$8532)-ROW($AT$3)+1),ROWS($A$3:A2389))),\"\")","v":0},null,{"$f":"IFERROR(INDEX(اقساط!$B$3:$B$8532,SMALL(IF(اقساط!$G$3:$G$8532=B2389,ROW($B$3:$B$8532)-ROW($B$3)+1),ROWS($C$3:C2389))),\"\")","v":0}]
[{"$f":"IFERROR(INDEX(اقساط!$AT$3:$AT$8532,SMALL(IF(اقساط!$G$3:$G$8532=B2390,ROW($AT$3:$AT$8532)-ROW($AT$3)+1),ROWS($A$3:A2390))),\"\")","v":0},null,{"$f":"IFERROR(INDEX(اقساط!$B$3:$B$8532,SMALL(IF(اقساط!$G$3:$G$8532=B2390,ROW($B$3:$B$8532)-ROW($B$3)+1),ROWS($C$3:C2390))),\"\")","v":0}]
[{"$f":"IFERROR(INDEX(اقساط!$AT$3:$AT$8532,SMALL(IF(اقساط!$G$3:$G$8532=B2391,ROW($AT$3:$AT$8532)-ROW($AT$3)+1),ROWS($A$3:A2391))),\"\")","v":0},null,{"$f":"IFERROR(INDEX(اقساط!$B$3:$B$8532,SMALL(IF(اقساط!$G$3:$G$8532=B2391,ROW($B$3:$B$8532)-ROW($B$3)+1),ROWS($C$3:C2391))),\"\")","v":0}]
[{"$f":"IFERROR(INDEX(اقساط!$AT$3:$AT$8532,SMALL(IF(اقساط!$G$3:$G$8532=B2392,ROW($AT$3:$AT$8532)-ROW($AT$3)+1),ROWS($A$3:A2392))),\"\")","v":0},null,{"$f":"IFERROR(INDEX(اقساط!$B$3:$B$8532,SMALL(IF(اقساط!$G$3:$G$8532=B2392,ROW($B$3:$B$8532)-ROW($B$3)+1),ROWS($C$3:C2392))),\"\")","v":0}]
[{"$f":"IFERROR(INDEX(اقساط!$AT$3:$AT$8532,SMALL(IF(اقساط!$G$3:$G$8532=B2393,ROW($AT$3:$AT$8532)-ROW($AT$3)+1),ROWS($A$3:A2393))),\"\")","v":0},null,{"$f":"IFERROR(INDEX(اقساط!$B$3:$B$8532,SMALL(IF(اقساط!$G$3:$G$8532=B2393,ROW($B$3:$B$8532)-ROW($B$3)+1),ROWS($C$3:C2393))),\"\")","v":0}]
[{"$f":"IFERROR(INDEX(اقساط!$AT$3:$AT$8532,SMALL(IF(اقساط!$G$3:$G$8532=B2394,ROW($AT$3:$AT$8532)-ROW($AT$3)+1),ROWS($A$3:A2394))),\"\")","v":0},null,{"$f":"IFERROR(INDEX(اقساط!$B$3:$B$8532,SMALL(IF(اقساط!$G$3:$G$8532=B2394,ROW($B$3:$B$8532)-ROW($B$3)+1),ROWS($C$3:C2394))),\"\")","v":0}]
[{"$f":"IFERROR(INDEX(اقساط!$AT$3:$AT$8532,SMALL(IF(اقساط!$G$3:$G$8532=B2395,ROW($AT$3:$AT$8532)-ROW($AT$3)+1),ROWS($A$3:A2395))),\"\")","v":0},null,{"$f":"IFERROR(INDEX(اقساط!$B$3:$B$8532,SMALL(IF(اقساط!$G$3:$G$8532=B2395,ROW($B$3:$B$8532)-ROW($B$3)+1),ROWS($C$3:C2395))),\"\")","v":0}]
[{"$f":"IFERROR(INDEX(اقساط!$AT$3:$AT$8532,SMALL(IF(اقساط!$G$3:$G$8532=B2396,ROW($AT$3:$AT$8532)-ROW($AT$3)+1),ROWS($A$3:A2396))),\"\")","v":0},null,{"$f":"IFERROR(INDEX(اقساط!$B$3:$B$8532,SMALL(IF(اقساط!$G$3:$G$8532=B2396,ROW($B$3:$B$8532)-ROW($B$3)+1),ROWS($C$3:C2396))),\"\")","v":0}]
[{"$f":"IFERROR(INDEX(اقساط!$AT$3:$AT$8532,SMALL(IF(اقساط!$G$3:$G$8532=B2397,ROW($AT$3:$AT$8532)-ROW($AT$3)+1),ROWS($A$3:A2397))),\"\")","v":0},null,{"$f":"IFERROR(INDEX(اقساط!$B$3:$B$8532,SMALL(IF(اقساط!$G$3:$G$8532=B2397,ROW($B$3:$B$8532)-ROW($B$3)+1),ROWS($C$3:C2397))),\"\")","v":0}]
[{"$f":"IFERROR(INDEX(اقساط!$AT$3:$AT$8532,SMALL(IF(اقساط!$G$3:$G$8532=B2398,ROW($AT$3:$AT$8532)-ROW($AT$3)+1),ROWS($A$3:A2398))),\"\")","v":0},null,{"$f":"IFERROR(INDEX(اقساط!$B$3:$B$8532,SMALL(IF(اقساط!$G$3:$G$8532=B2398,ROW($B$3:$B$8532)-ROW($B$3)+1),ROWS($C$3:C2398))),\"\")","v":0}]
[{"$f":"IFERROR(INDEX(اقساط!$AT$3:$AT$8532,SMALL(IF(اقساط!$G$3:$G$8532=B2399,ROW($AT$3:$AT$8532)-ROW($AT$3)+1),ROWS($A$3:A2399))),\"\")","v":0},null,{"$f":"IFERROR(INDEX(اقساط!$B$3:$B$8532,SMALL(IF(اقساط!$G$3:$G$8532=B2399,ROW($B$3:$B$8532)-ROW($B$3)+1),ROWS($C$3:C2399))),\"\")","v":0}]
[{"$f":"IFERROR(INDEX(اقساط!$AT$3:$AT$8532,SMALL(IF(اقساط!$G$3:$G$8532=B2400,ROW($AT$3:$AT$8532)-ROW($AT$3)+1),ROWS($A$3:A2400))),\"\")","v":0},null,{"$f":"IFERROR(INDEX(اقساط!$B$3:$B$8532,SMALL(IF(اقساط!$G$3:$G$8532=B2400,ROW($B$3:$B$8532)-ROW($B$3)+1),ROWS($C$3:C2400))),\"\")","v":0}]
[{"$f":"IFERROR(INDEX(اقساط!$AT$3:$AT$8532,SMALL(IF(اقساط!$G$3:$G$8532=B2401,ROW($AT$3:$AT$8532)-ROW($AT$3)+1),ROWS($A$3:A2401))),\"\")","v":0},null,{"$f":"IFERROR(INDEX(اقساط!$B$3:$B$8532,SMALL(IF(اقساط!$G$3:$G$8532=B2401,ROW($B$3:$B$8532)-ROW($B$3)+1),ROWS($C$3:C2401))),\"\")","v":0}]
[{"$f":"IFERROR(INDEX(اقساط!$AT$3:$AT$8532,SMALL(IF(اقساط!$G$3:$G$8532=B2402,ROW($AT$3:$AT$8532)-ROW($AT$3)+1),ROWS($A$3:A2402))),\"\")","v":0},null,{"$f":"IFERROR(INDEX(اقساط!$B$3:$B$8532,SMALL(IF(اقساط!$G$3:$G$8532=B2402,ROW($B$3:$B$8532)-ROW($B$3)+1),ROWS($C$3:C2402))),\"\")","v":0}]
[{"$f":"IFERROR(INDEX(اقساط!$AT$3:$AT$8532,SMALL(IF(اقساط!$G$3:$G$8532=B2403,ROW($AT$3:$AT$8532)-ROW($AT$3)+1),ROWS($A$3:A2403))),\"\")","v":0},null,{"$f":"IFERROR(INDEX(اقساط!$B$3:$B$8532,SMALL(IF(اقساط!$G$3:$G$8532=B2403,ROW($B$3:$B$8532)-ROW($B$3)+1),ROWS($C$3:C2403))),\"\")","v":0}]
[{"$f":"IFERROR(INDEX(اقساط!$AT$3:$AT$8532,SMALL(IF(اقساط!$G$3:$G$8532=B2404,ROW($AT$3:$AT$8532)-ROW($AT$3)+1),ROWS($A$3:A2404))),\"\")","v":0},null,{"$f":"IFERROR(INDEX(اقساط!$B$3:$B$8532,SMALL(IF(اقساط!$G$3:$G$8532=B2404,ROW($B$3:$B$8532)-ROW($B$3)+1),ROWS($C$3:C2404))),\"\")","v":0}]
[{"$f":"IFERROR(INDEX(اقساط!$AT$3:$AT$8532,SMALL(IF(اقساط!$G$3:$G$8532=B2405,ROW($AT$3:$AT$8532)-ROW($AT$3)+1),ROWS($A$3:A2405))),\"\")","v":0},null,{"$f":"IFERROR(INDEX(اقساط!$B$3:$B$8532,SMALL(IF(اقساط!$G$3:$G$8532=B2405,ROW($B$3:$B$8532)-ROW($B$3)+1),ROWS($C$3:C2405))),\"\")","v":0}]
[{"$f":"IFERROR(INDEX(اقساط!$AT$3:$AT$8532,SMALL(IF(اقساط!$G$3:$G$8532=B2406,ROW($AT$3:$AT$8532)-ROW($AT$3)+1),ROWS($A$3:A2406))),\"\")","v":0},null,{"$f":"IFERROR(INDEX(اقساط!$B$3:$B$8532,SMALL(IF(اقساط!$G$3:$G$8532=B2406,ROW($B$3:$B$8532)-ROW($B$3)+1),ROWS($C$3:C2406))),\"\")","v":0}]
[{"$f":"IFERROR(INDEX(اقساط!$AT$3:$AT$8532,SMALL(IF(اقساط!$G$3:$G$8532=B2407,ROW($AT$3:$AT$8532)-ROW($AT$3)+1),ROWS($A$3:A2407))),\"\")","v":0},null,{"$f":"IFERROR(INDEX(اقساط!$B$3:$B$8532,SMALL(IF(اقساط!$G$3:$G$8532=B2407,ROW($B$3:$B$8532)-ROW($B$3)+1),ROWS($C$3:C2407))),\"\")","v":0}]
[{"$f":"IFERROR(INDEX(اقساط!$AT$3:$AT$8532,SMALL(IF(اقساط!$G$3:$G$8532=B2408,ROW($AT$3:$AT$8532)-ROW($AT$3)+1),ROWS($A$3:A2408))),\"\")","v":0},null,{"$f":"IFERROR(INDEX(اقساط!$B$3:$B$8532,SMALL(IF(اقساط!$G$3:$G$8532=B2408,ROW($B$3:$B$8532)-ROW($B$3)+1),ROWS($C$3:C2408))),\"\")","v":0}]
[{"$f":"IFERROR(INDEX(اقساط!$AT$3:$AT$8532,SMALL(IF(اقساط!$G$3:$G$8532=B2409,ROW($AT$3:$AT$8532)-ROW($AT$3)+1),ROWS($A$3:A2409))),\"\")","v":0},null,{"$f":"IFERROR(INDEX(اقساط!$B$3:$B$8532,SMALL(IF(اقساط!$G$3:$G$8532=B2409,ROW($B$3:$B$8532)-ROW($B$3)+1),ROWS($C$3:C2409))),\"\")","v":0}]
[{"$f":"IFERROR(INDEX(اقساط!$AT$3:$AT$8532,SMALL(IF(اقساط!$G$3:$G$8532=B2410,ROW($AT$3:$AT$8532)-ROW($AT$3)+1),ROWS($A$3:A2410))),\"\")","v":0},null,{"$f":"IFERROR(INDEX(اقساط!$B$3:$B$8532,SMALL(IF(اقساط!$G$3:$G$8532=B2410,ROW($B$3:$B$8532)-ROW($B$3)+1),ROWS($C$3:C2410))),\"\")","v":0}]
[{"$f":"IFERROR(INDEX(اقساط!$AT$3:$AT$8532,SMALL(IF(اقساط!$G$3:$G$8532=B2411,ROW($AT$3:$AT$8532)-ROW($AT$3)+1),ROWS($A$3:A2411))),\"\")","v":0},null,{"$f":"IFERROR(INDEX(اقساط!$B$3:$B$8532,SMALL(IF(اقساط!$G$3:$G$8532=B2411,ROW($B$3:$B$8532)-ROW($B$3)+1),ROWS($C$3:C2411))),\"\")","v":0}]
[{"$f":"IFERROR(INDEX(اقساط!$AT$3:$AT$8532,SMALL(IF(اقساط!$G$3:$G$8532=B2412,ROW($AT$3:$AT$8532)-ROW($AT$3)+1),ROWS($A$3:A2412))),\"\")","v":0},null,{"$f":"IFERROR(INDEX(اقساط!$B$3:$B$8532,SMALL(IF(اقساط!$G$3:$G$8532=B2412,ROW($B$3:$B$8532)-ROW($B$3)+1),ROWS($C$3:C2412))),\"\")","v":0}]
[{"$f":"IFERROR(INDEX(اقساط!$AT$3:$AT$8532,SMALL(IF(اقساط!$G$3:$G$8532=B2413,ROW($AT$3:$AT$8532)-ROW($AT$3)+1),ROWS($A$3:A2413))),\"\")","v":0},null,{"$f":"IFERROR(INDEX(اقساط!$B$3:$B$8532,SMALL(IF(اقساط!$G$3:$G$8532=B2413,ROW($B$3:$B$8532)-ROW($B$3)+1),ROWS($C$3:C2413))),\"\")","v":0}]
[{"$f":"IFERROR(INDEX(اقساط!$AT$3:$AT$8532,SMALL(IF(اقساط!$G$3:$G$8532=B2414,ROW($AT$3:$AT$8532)-ROW($AT$3)+1),ROWS($A$3:A2414))),\"\")","v":0},null,{"$f":"IFERROR(INDEX(اقساط!$B$3:$B$8532,SMALL(IF(اقساط!$G$3:$G$8532=B2414,ROW($B$3:$B$8532)-ROW($B$3)+1),ROWS($C$3:C2414))),\"\")","v":0}]
[{"$f":"IFERROR(INDEX(اقساط!$AT$3:$AT$8532,SMALL(IF(اقساط!$G$3:$G$8532=B2415,ROW($AT$3:$AT$8532)-ROW($AT$3)+1),ROWS($A$3:A2415))),\"\")","v":0},null,{"$f":"IFERROR(INDEX(اقساط!$B$3:$B$8532,SMALL(IF(اقساط!$G$3:$G$8532=B2415,ROW($B$3:$B$8532)-ROW($B$3)+1),ROWS($C$3:C2415))),\"\")","v":0}]
[{"$f":"IFERROR(INDEX(اقساط!$AT$3:$AT$8532,SMALL(IF(اقساط!$G$3:$G$8532=B2416,ROW($AT$3:$AT$8532)-ROW($AT$3)+1),ROWS($A$3:A2416))),\"\")","v":0},null,{"$f":"IFERROR(INDEX(اقساط!$B$3:$B$8532,SMALL(IF(اقساط!$G$3:$G$8532=B2416,ROW($B$3:$B$8532)-ROW($B$3)+1),ROWS($C$3:C2416))),\"\")","v":0}]
[{"$f":"IFERROR(INDEX(اقساط!$AT$3:$AT$8532,SMALL(IF(اقساط!$G$3:$G$8532=B2417,ROW($AT$3:$AT$8532)-ROW($AT$3)+1),ROWS($A$3:A2417))),\"\")","v":0},null,{"$f":"IFERROR(INDEX(اقساط!$B$3:$B$8532,SMALL(IF(اقساط!$G$3:$G$8532=B2417,ROW($B$3:$B$8532)-ROW($B$3)+1),ROWS($C$3:C2417))),\"\")","v":0}]
[{"$f":"IFERROR(INDEX(اقساط!$AT$3:$AT$8532,SMALL(IF(اقساط!$G$3:$G$8532=B2418,ROW($AT$3:$AT$8532)-ROW($AT$3)+1),ROWS($A$3:A2418))),\"\")","v":0},null,{"$f":"IFERROR(INDEX(اقساط!$B$3:$B$8532,SMALL(IF(اقساط!$G$3:$G$8532=B2418,ROW($B$3:$B$8532)-ROW($B$3)+1),ROWS($C$3:C2418))),\"\")","v":0}]
[{"$f":"IFERROR(INDEX(اقساط!$AT$3:$AT$8532,SMALL(IF(اقساط!$G$3:$G$8532=B2419,ROW($AT$3:$AT$8532)-ROW($AT$3)+1),ROWS($A$3:A2419))),\"\")","v":0},null,{"$f":"IFERROR(INDEX(اقساط!$B$3:$B$8532,SMALL(IF(اقساط!$G$3:$G$8532=B2419,ROW($B$3:$B$8532)-ROW($B$3)+1),ROWS($C$3:C2419))),\"\")","v":0}]
[{"$f":"IFERROR(INDEX(اقساط!$AT$3:$AT$8532,SMALL(IF(اقساط!$G$3:$G$8532=B2420,ROW($AT$3:$AT$8532)-ROW($AT$3)+1),ROWS($A$3:A2420))),\"\")","v":0},null,{"$f":"IFERROR(INDEX(اقساط!$B$3:$B$8532,SMALL(IF(اقساط!$G$3:$G$8532=B2420,ROW($B$3:$B$8532)-ROW($B$3)+1),ROWS($C$3:C2420))),\"\")","v":0}]
[{"$f":"IFERROR(INDEX(اقساط!$AT$3:$AT$8532,SMALL(IF(اقساط!$G$3:$G$8532=B2421,ROW($AT$3:$AT$8532)-ROW($AT$3)+1),ROWS($A$3:A2421))),\"\")","v":0},null,{"$f":"IFERROR(INDEX(اقساط!$B$3:$B$8532,SMALL(IF(اقساط!$G$3:$G$8532=B2421,ROW($B$3:$B$8532)-ROW($B$3)+1),ROWS($C$3:C2421))),\"\")","v":0}]
[{"$f":"IFERROR(INDEX(اقساط!$AT$3:$AT$8532,SMALL(IF(اقساط!$G$3:$G$8532=B2422,ROW($AT$3:$AT$8532)-ROW($AT$3)+1),ROWS($A$3:A2422))),\"\")","v":0},null,{"$f":"IFERROR(INDEX(اقساط!$B$3:$B$8532,SMALL(IF(اقساط!$G$3:$G$8532=B2422,ROW($B$3:$B$8532)-ROW($B$3)+1),ROWS($C$3:C2422))),\"\")","v":0}]
[{"$f":"IFERROR(INDEX(اقساط!$AT$3:$AT$8532,SMALL(IF(اقساط!$G$3:$G$8532=B2423,ROW($AT$3:$AT$8532)-ROW($AT$3)+1),ROWS($A$3:A2423))),\"\")","v":0},null,{"$f":"IFERROR(INDEX(اقساط!$B$3:$B$8532,SMALL(IF(اقساط!$G$3:$G$8532=B2423,ROW($B$3:$B$8532)-ROW($B$3)+1),ROWS($C$3:C2423))),\"\")","v":0}]
[{"$f":"IFERROR(INDEX(اقساط!$AT$3:$AT$8532,SMALL(IF(اقساط!$G$3:$G$8532=B2424,ROW($AT$3:$AT$8532)-ROW($AT$3)+1),ROWS($A$3:A2424))),\"\")","v":0},null,{"$f":"IFERROR(INDEX(اقساط!$B$3:$B$8532,SMALL(IF(اقساط!$G$3:$G$8532=B2424,ROW($B$3:$B$8532)-ROW($B$3)+1),ROWS($C$3:C2424))),\"\")","v":0}]
[{"$f":"IFERROR(INDEX(اقساط!$AT$3:$AT$8532,SMALL(IF(اقساط!$G$3:$G$8532=B2425,ROW($AT$3:$AT$8532)-ROW($AT$3)+1),ROWS($A$3:A2425))),\"\")","v":0},null,{"$f":"IFERROR(INDEX(اقساط!$B$3:$B$8532,SMALL(IF(اقساط!$G$3:$G$8532=B2425,ROW($B$3:$B$8532)-ROW($B$3)+1),ROWS($C$3:C2425))),\"\")","v":0}]
[{"$f":"IFERROR(INDEX(اقساط!$AT$3:$AT$8532,SMALL(IF(اقساط!$G$3:$G$8532=B2426,ROW($AT$3:$AT$8532)-ROW($AT$3)+1),ROWS($A$3:A2426))),\"\")","v":0},null,{"$f":"IFERROR(INDEX(اقساط!$B$3:$B$8532,SMALL(IF(اقساط!$G$3:$G$8532=B2426,ROW($B$3:$B$8532)-ROW($B$3)+1),ROWS($C$3:C2426))),\"\")","v":0}]
[{"$f":"IFERROR(INDEX(اقساط!$AT$3:$AT$8532,SMALL(IF(اقساط!$G$3:$G$8532=B2427,ROW($AT$3:$AT$8532)-ROW($AT$3)+1),ROWS($A$3:A2427))),\"\")","v":0},null,{"$f":"IFERROR(INDEX(اقساط!$B$3:$B$8532,SMALL(IF(اقساط!$G$3:$G$8532=B2427,ROW($B$3:$B$8532)-ROW($B$3)+1),ROWS($C$3:C2427))),\"\")","v":0}]
[{"$f":"IFERROR(INDEX(اقساط!$AT$3:$AT$8532,SMALL(IF(اقساط!$G$3:$G$8532=B2428,ROW($AT$3:$AT$8532)-ROW($AT$3)+1),ROWS($A$3:A2428))),\"\")","v":0},null,{"$f":"IFERROR(INDEX(اقساط!$B$3:$B$8532,SMALL(IF(اقساط!$G$3:$G$8532=B2428,ROW($B$3:$B$8532)-ROW($B$3)+1),ROWS($C$3:C2428))),\"\")","v":0}]
[{"$f":"IFERROR(INDEX(اقساط!$AT$3:$AT$8532,SMALL(IF(اقساط!$G$3:$G$8532=B2429,ROW($AT$3:$AT$8532)-ROW($AT$3)+1),ROWS($A$3:A2429))),\"\")","v":0},null,{"$f":"IFERROR(INDEX(اقساط!$B$3:$B$8532,SMALL(IF(اقساط!$G$3:$G$8532=B2429,ROW($B$3:$B$8532)-ROW($B$3)+1),ROWS($C$3:C2429))),\"\")","v":0}]
[{"$f":"IFERROR(INDEX(اقساط!$AT$3:$AT$8532,SMALL(IF(اقساط!$G$3:$G$8532=B2430,ROW($AT$3:$AT$8532)-ROW($AT$3)+1),ROWS($A$3:A2430))),\"\")","v":0},null,{"$f":"IFERROR(INDEX(اقساط!$B$3:$B$8532,SMALL(IF(اقساط!$G$3:$G$8532=B2430,ROW($B$3:$B$8532)-ROW($B$3)+1),ROWS($C$3:C2430))),\"\")","v":0}]
[{"$f":"IFERROR(INDEX(اقساط!$AT$3:$AT$8532,SMALL(IF(اقساط!$G$3:$G$8532=B2431,ROW($AT$3:$AT$8532)-ROW($AT$3)+1),ROWS($A$3:A2431))),\"\")","v":0},null,{"$f":"IFERROR(INDEX(اقساط!$B$3:$B$8532,SMALL(IF(اقساط!$G$3:$G$8532=B2431,ROW($B$3:$B$8532)-ROW($B$3)+1),ROWS($C$3:C2431))),\"\")","v":0}]
[{"$f":"IFERROR(INDEX(اقساط!$AT$3:$AT$8532,SMALL(IF(اقساط!$G$3:$G$8532=B2432,ROW($AT$3:$AT$8532)-ROW($AT$3)+1),ROWS($A$3:A2432))),\"\")","v":0},null,{"$f":"IFERROR(INDEX(اقساط!$B$3:$B$8532,SMALL(IF(اقساط!$G$3:$G$8532=B2432,ROW($B$3:$B$8532)-ROW($B$3)+1),ROWS($C$3:C2432))),\"\")","v":0}]
[{"$f":"IFERROR(INDEX(اقساط!$AT$3:$AT$8532,SMALL(IF(اقساط!$G$3:$G$8532=B2433,ROW($AT$3:$AT$8532)-ROW($AT$3)+1),ROWS($A$3:A2433))),\"\")","v":0},null,{"$f":"IFERROR(INDEX(اقساط!$B$3:$B$8532,SMALL(IF(اقساط!$G$3:$G$8532=B2433,ROW($B$3:$B$8532)-ROW($B$3)+1),ROWS($C$3:C2433))),\"\")","v":0}]
[{"$f":"IFERROR(INDEX(اقساط!$AT$3:$AT$8532,SMALL(IF(اقساط!$G$3:$G$8532=B2434,ROW($AT$3:$AT$8532)-ROW($AT$3)+1),ROWS($A$3:A2434))),\"\")","v":0},null,{"$f":"IFERROR(INDEX(اقساط!$B$3:$B$8532,SMALL(IF(اقساط!$G$3:$G$8532=B2434,ROW($B$3:$B$8532)-ROW($B$3)+1),ROWS($C$3:C2434))),\"\")","v":0}]
[{"$f":"IFERROR(INDEX(اقساط!$AT$3:$AT$8532,SMALL(IF(اقساط!$G$3:$G$8532=B2435,ROW($AT$3:$AT$8532)-ROW($AT$3)+1),ROWS($A$3:A2435))),\"\")","v":0},null,{"$f":"IFERROR(INDEX(اقساط!$B$3:$B$8532,SMALL(IF(اقساط!$G$3:$G$8532=B2435,ROW($B$3:$B$8532)-ROW($B$3)+1),ROWS($C$3:C2435))),\"\")","v":0}]
[{"$f":"IFERROR(INDEX(اقساط!$AT$3:$AT$8532,SMALL(IF(اقساط!$G$3:$G$8532=B2436,ROW($AT$3:$AT$8532)-ROW($AT$3)+1),ROWS($A$3:A2436))),\"\")","v":0},null,{"$f":"IFERROR(INDEX(اقساط!$B$3:$B$8532,SMALL(IF(اقساط!$G$3:$G$8532=B2436,ROW($B$3:$B$8532)-ROW($B$3)+1),ROWS($C$3:C2436))),\"\")","v":0}]
[{"$f":"IFERROR(INDEX(اقساط!$AT$3:$AT$8532,SMALL(IF(اقساط!$G$3:$G$8532=B2437,ROW($AT$3:$AT$8532)-ROW($AT$3)+1),ROWS($A$3:A2437))),\"\")","v":0},null,{"$f":"IFERROR(INDEX(اقساط!$B$3:$B$8532,SMALL(IF(اقساط!$G$3:$G$8532=B2437,ROW($B$3:$B$8532)-ROW($B$3)+1),ROWS($C$3:C2437))),\"\")","v":0}]
[{"$f":"IFERROR(INDEX(اقساط!$AT$3:$AT$8532,SMALL(IF(اقساط!$G$3:$G$8532=B2438,ROW($AT$3:$AT$8532)-ROW($AT$3)+1),ROWS($A$3:A2438))),\"\")","v":0},null,{"$f":"IFERROR(INDEX(اقساط!$B$3:$B$8532,SMALL(IF(اقساط!$G$3:$G$8532=B2438,ROW($B$3:$B$8532)-ROW($B$3)+1),ROWS($C$3:C2438))),\"\")","v":0}]
[{"$f":"IFERROR(INDEX(اقساط!$AT$3:$AT$8532,SMALL(IF(اقساط!$G$3:$G$8532=B2439,ROW($AT$3:$AT$8532)-ROW($AT$3)+1),ROWS($A$3:A2439))),\"\")","v":0},null,{"$f":"IFERROR(INDEX(اقساط!$B$3:$B$8532,SMALL(IF(اقساط!$G$3:$G$8532=B2439,ROW($B$3:$B$8532)-ROW($B$3)+1),ROWS($C$3:C2439))),\"\")","v":0}]
[{"$f":"IFERROR(INDEX(اقساط!$AT$3:$AT$8532,SMALL(IF(اقساط!$G$3:$G$8532=B2440,ROW($AT$3:$AT$8532)-ROW($AT$3)+1),ROWS($A$3:A2440))),\"\")","v":0},null,{"$f":"IFERROR(INDEX(اقساط!$B$3:$B$8532,SMALL(IF(اقساط!$G$3:$G$8532=B2440,ROW($B$3:$B$8532)-ROW($B$3)+1),ROWS($C$3:C2440))),\"\")","v":0}]
[{"$f":"IFERROR(INDEX(اقساط!$AT$3:$AT$8532,SMALL(IF(اقساط!$G$3:$G$8532=B2441,ROW($AT$3:$AT$8532)-ROW($AT$3)+1),ROWS($A$3:A2441))),\"\")","v":0},null,{"$f":"IFERROR(INDEX(اقساط!$B$3:$B$8532,SMALL(IF(اقساط!$G$3:$G$8532=B2441,ROW($B$3:$B$8532)-ROW($B$3)+1),ROWS($C$3:C2441))),\"\")","v":0}]
[{"$f":"IFERROR(INDEX(اقساط!$AT$3:$AT$8532,SMALL(IF(اقساط!$G$3:$G$8532=B2442,ROW($AT$3:$AT$8532)-ROW($AT$3)+1),ROWS($A$3:A2442))),\"\")","v":0},null,{"$f":"IFERROR(INDEX(اقساط!$B$3:$B$8532,SMALL(IF(اقساط!$G$3:$G$8532=B2442,ROW($B$3:$B$8532)-ROW($B$3)+1),ROWS($C$3:C2442))),\"\")","v":0}]
[{"$f":"IFERROR(INDEX(اقساط!$AT$3:$AT$8532,SMALL(IF(اقساط!$G$3:$G$8532=B2443,ROW($AT$3:$AT$8532)-ROW($AT$3)+1),ROWS($A$3:A2443))),\"\")","v":0},null,{"$f":"IFERROR(INDEX(اقساط!$B$3:$B$8532,SMALL(IF(اقساط!$G$3:$G$8532=B2443,ROW($B$3:$B$8532)-ROW($B$3)+1),ROWS($C$3:C2443))),\"\")","v":0}]
[{"$f":"IFERROR(INDEX(اقساط!$AT$3:$AT$8532,SMALL(IF(اقساط!$G$3:$G$8532=B2444,ROW($AT$3:$AT$8532)-ROW($AT$3)+1),ROWS($A$3:A2444))),\"\")","v":0},null,{"$f":"IFERROR(INDEX(اقساط!$B$3:$B$8532,SMALL(IF(اقساط!$G$3:$G$8532=B2444,ROW($B$3:$B$8532)-ROW($B$3)+1),ROWS($C$3:C2444))),\"\")","v":0}]
[{"$f":"IFERROR(INDEX(اقساط!$AT$3:$AT$8532,SMALL(IF(اقساط!$G$3:$G$8532=B2445,ROW($AT$3:$AT$8532)-ROW($AT$3)+1),ROWS($A$3:A2445))),\"\")","v":0},null,{"$f":"IFERROR(INDEX(اقساط!$B$3:$B$8532,SMALL(IF(اقساط!$G$3:$G$8532=B2445,ROW($B$3:$B$8532)-ROW($B$3)+1),ROWS($C$3:C2445))),\"\")","v":0}]
[{"$f":"IFERROR(INDEX(اقساط!$AT$3:$AT$8532,SMALL(IF(اقساط!$G$3:$G$8532=B2446,ROW($AT$3:$AT$8532)-ROW($AT$3)+1),ROWS($A$3:A2446))),\"\")","v":0},null,{"$f":"IFERROR(INDEX(اقساط!$B$3:$B$8532,SMALL(IF(اقساط!$G$3:$G$8532=B2446,ROW($B$3:$B$8532)-ROW($B$3)+1),ROWS($C$3:C2446))),\"\")","v":0}]
[{"$f":"IFERROR(INDEX(اقساط!$AT$3:$AT$8532,SMALL(IF(اقساط!$G$3:$G$8532=B2447,ROW($AT$3:$AT$8532)-ROW($AT$3)+1),ROWS($A$3:A2447))),\"\")","v":0},null,{"$f":"IFERROR(INDEX(اقساط!$B$3:$B$8532,SMALL(IF(اقساط!$G$3:$G$8532=B2447,ROW($B$3:$B$8532)-ROW($B$3)+1),ROWS($C$3:C2447))),\"\")","v":0}]
[{"$f":"IFERROR(INDEX(اقساط!$AT$3:$AT$8532,SMALL(IF(اقساط!$G$3:$G$8532=B2448,ROW($AT$3:$AT$8532)-ROW($AT$3)+1),ROWS($A$3:A2448))),\"\")","v":0},null,{"$f":"IFERROR(INDEX(اقساط!$B$3:$B$8532,SMALL(IF(اقساط!$G$3:$G$8532=B2448,ROW($B$3:$B$8532)-ROW($B$3)+1),ROWS($C$3:C2448))),\"\")","v":0}]
[{"$f":"IFERROR(INDEX(اقساط!$AT$3:$AT$8532,SMALL(IF(اقساط!$G$3:$G$8532=B2449,ROW($AT$3:$AT$8532)-ROW($AT$3)+1),ROWS($A$3:A2449))),\"\")","v":0},null,{"$f":"IFERROR(INDEX(اقساط!$B$3:$B$8532,SMALL(IF(اقساط!$G$3:$G$8532=B2449,ROW($B$3:$B$8532)-ROW($B$3)+1),ROWS($C$3:C2449))),\"\")","v":0}]
[{"$f":"IFERROR(INDEX(اقساط!$AT$3:$AT$8532,SMALL(IF(اقساط!$G$3:$G$8532=B2450,ROW($AT$3:$AT$8532)-ROW($AT$3)+1),ROWS($A$3:A2450))),\"\")","v":0},null,{"$f":"IFERROR(INDEX(اقساط!$B$3:$B$8532,SMALL(IF(اقساط!$G$3:$G$8532=B2450,ROW($B$3:$B$8532)-ROW($B$3)+1),ROWS($C$3:C2450))),\"\")","v":0}]
[{"$f":"IFERROR(INDEX(اقساط!$AT$3:$AT$8532,SMALL(IF(اقساط!$G$3:$G$8532=B2451,ROW($AT$3:$AT$8532)-ROW($AT$3)+1),ROWS($A$3:A2451))),\"\")","v":0},null,{"$f":"IFERROR(INDEX(اقساط!$B$3:$B$8532,SMALL(IF(اقساط!$G$3:$G$8532=B2451,ROW($B$3:$B$8532)-ROW($B$3)+1),ROWS($C$3:C2451))),\"\")","v":0}]
[{"$f":"IFERROR(INDEX(اقساط!$AT$3:$AT$8532,SMALL(IF(اقساط!$G$3:$G$8532=B2452,ROW($AT$3:$AT$8532)-ROW($AT$3)+1),ROWS($A$3:A2452))),\"\")","v":0},null,{"$f":"IFERROR(INDEX(اقساط!$B$3:$B$8532,SMALL(IF(اقساط!$G$3:$G$8532=B2452,ROW($B$3:$B$8532)-ROW($B$3)+1),ROWS($C$3:C2452))),\"\")","v":0}]
[{"$f":"IFERROR(INDEX(اقساط!$AT$3:$AT$8532,SMALL(IF(اقساط!$G$3:$G$8532=B2453,ROW($AT$3:$AT$8532)-ROW($AT$3)+1),ROWS($A$3:A2453))),\"\")","v":0},null,{"$f":"IFERROR(INDEX(اقساط!$B$3:$B$8532,SMALL(IF(اقساط!$G$3:$G$8532=B2453,ROW($B$3:$B$8532)-ROW($B$3)+1),ROWS($C$3:C2453))),\"\")","v":0}]
[{"$f":"IFERROR(INDEX(اقساط!$AT$3:$AT$8532,SMALL(IF(اقساط!$G$3:$G$8532=B2454,ROW($AT$3:$AT$8532)-ROW($AT$3)+1),ROWS($A$3:A2454))),\"\")","v":0},null,{"$f":"IFERROR(INDEX(اقساط!$B$3:$B$8532,SMALL(IF(اقساط!$G$3:$G$8532=B2454,ROW($B$3:$B$8532)-ROW($B$3)+1),ROWS($C$3:C2454))),\"\")","v":0}]
[{"$f":"IFERROR(INDEX(اقساط!$AT$3:$AT$8532,SMALL(IF(اقساط!$G$3:$G$8532=B2455,ROW($AT$3:$AT$8532)-ROW($AT$3)+1),ROWS($A$3:A2455))),\"\")","v":0},null,{"$f":"IFERROR(INDEX(اقساط!$B$3:$B$8532,SMALL(IF(اقساط!$G$3:$G$8532=B2455,ROW($B$3:$B$8532)-ROW($B$3)+1),ROWS($C$3:C2455))),\"\")","v":0}]
[{"$f":"IFERROR(INDEX(اقساط!$AT$3:$AT$8532,SMALL(IF(اقساط!$G$3:$G$8532=B2456,ROW($AT$3:$AT$8532)-ROW($AT$3)+1),ROWS($A$3:A2456))),\"\")","v":0},null,{"$f":"IFERROR(INDEX(اقساط!$B$3:$B$8532,SMALL(IF(اقساط!$G$3:$G$8532=B2456,ROW($B$3:$B$8532)-ROW($B$3)+1),ROWS($C$3:C2456))),\"\")","v":0}]
[{"$f":"IFERROR(INDEX(اقساط!$AT$3:$AT$8532,SMALL(IF(اقساط!$G$3:$G$8532=B2457,ROW($AT$3:$AT$8532)-ROW($AT$3)+1),ROWS($A$3:A2457))),\"\")","v":0},null,{"$f":"IFERROR(INDEX(اقساط!$B$3:$B$8532,SMALL(IF(اقساط!$G$3:$G$8532=B2457,ROW($B$3:$B$8532)-ROW($B$3)+1),ROWS($C$3:C2457))),\"\")","v":0}]
[{"$f":"IFERROR(INDEX(اقساط!$AT$3:$AT$8532,SMALL(IF(اقساط!$G$3:$G$8532=B2458,ROW($AT$3:$AT$8532)-ROW($AT$3)+1),ROWS($A$3:A2458))),\"\")","v":0},null,{"$f":"IFERROR(INDEX(اقساط!$B$3:$B$8532,SMALL(IF(اقساط!$G$3:$G$8532=B2458,ROW($B$3:$B$8532)-ROW($B$3)+1),ROWS($C$3:C2458))),\"\")","v":0}]
[{"$f":"IFERROR(INDEX(اقساط!$AT$3:$AT$8532,SMALL(IF(اقساط!$G$3:$G$8532=B2459,ROW($AT$3:$AT$8532)-ROW($AT$3)+1),ROWS($A$3:A2459))),\"\")","v":0},null,{"$f":"IFERROR(INDEX(اقساط!$B$3:$B$8532,SMALL(IF(اقساط!$G$3:$G$8532=B2459,ROW($B$3:$B$8532)-ROW($B$3)+1),ROWS($C$3:C2459))),\"\")","v":0}]
[{"$f":"IFERROR(INDEX(اقساط!$AT$3:$AT$8532,SMALL(IF(اقساط!$G$3:$G$8532=B2460,ROW($AT$3:$AT$8532)-ROW($AT$3)+1),ROWS($A$3:A2460))),\"\")","v":0},null,{"$f":"IFERROR(INDEX(اقساط!$B$3:$B$8532,SMALL(IF(اقساط!$G$3:$G$8532=B2460,ROW($B$3:$B$8532)-ROW($B$3)+1),ROWS($C$3:C2460))),\"\")","v":0}]
[{"$f":"IFERROR(INDEX(اقساط!$AT$3:$AT$8532,SMALL(IF(اقساط!$G$3:$G$8532=B2461,ROW($AT$3:$AT$8532)-ROW($AT$3)+1),ROWS($A$3:A2461))),\"\")","v":0},null,{"$f":"IFERROR(INDEX(اقساط!$B$3:$B$8532,SMALL(IF(اقساط!$G$3:$G$8532=B2461,ROW($B$3:$B$8532)-ROW($B$3)+1),ROWS($C$3:C2461))),\"\")","v":0}]
[{"$f":"IFERROR(INDEX(اقساط!$AT$3:$AT$8532,SMALL(IF(اقساط!$G$3:$G$8532=B2462,ROW($AT$3:$AT$8532)-ROW($AT$3)+1),ROWS($A$3:A2462))),\"\")","v":0},null,{"$f":"IFERROR(INDEX(اقساط!$B$3:$B$8532,SMALL(IF(اقساط!$G$3:$G$8532=B2462,ROW($B$3:$B$8532)-ROW($B$3)+1),ROWS($C$3:C2462))),\"\")","v":0}]
[{"$f":"IFERROR(INDEX(اقساط!$AT$3:$AT$8532,SMALL(IF(اقساط!$G$3:$G$8532=B2463,ROW($AT$3:$AT$8532)-ROW($AT$3)+1),ROWS($A$3:A2463))),\"\")","v":0},null,{"$f":"IFERROR(INDEX(اقساط!$B$3:$B$8532,SMALL(IF(اقساط!$G$3:$G$8532=B2463,ROW($B$3:$B$8532)-ROW($B$3)+1),ROWS($C$3:C2463))),\"\")","v":0}]
[{"$f":"IFERROR(INDEX(اقساط!$AT$3:$AT$8532,SMALL(IF(اقساط!$G$3:$G$8532=B2464,ROW($AT$3:$AT$8532)-ROW($AT$3)+1),ROWS($A$3:A2464))),\"\")","v":0},null,{"$f":"IFERROR(INDEX(اقساط!$B$3:$B$8532,SMALL(IF(اقساط!$G$3:$G$8532=B2464,ROW($B$3:$B$8532)-ROW($B$3)+1),ROWS($C$3:C2464))),\"\")","v":0}]
[{"$f":"IFERROR(INDEX(اقساط!$AT$3:$AT$8532,SMALL(IF(اقساط!$G$3:$G$8532=B2465,ROW($AT$3:$AT$8532)-ROW($AT$3)+1),ROWS($A$3:A2465))),\"\")","v":0},null,{"$f":"IFERROR(INDEX(اقساط!$B$3:$B$8532,SMALL(IF(اقساط!$G$3:$G$8532=B2465,ROW($B$3:$B$8532)-ROW($B$3)+1),ROWS($C$3:C2465))),\"\")","v":0}]
[{"$f":"IFERROR(INDEX(اقساط!$AT$3:$AT$8532,SMALL(IF(اقساط!$G$3:$G$8532=B2466,ROW($AT$3:$AT$8532)-ROW($AT$3)+1),ROWS($A$3:A2466))),\"\")","v":0},null,{"$f":"IFERROR(INDEX(اقساط!$B$3:$B$8532,SMALL(IF(اقساط!$G$3:$G$8532=B2466,ROW($B$3:$B$8532)-ROW($B$3)+1),ROWS($C$3:C2466))),\"\")","v":0}]
[{"$f":"IFERROR(INDEX(اقساط!$AT$3:$AT$8532,SMALL(IF(اقساط!$G$3:$G$8532=B2467,ROW($AT$3:$AT$8532)-ROW($AT$3)+1),ROWS($A$3:A2467))),\"\")","v":0},null,{"$f":"IFERROR(INDEX(اقساط!$B$3:$B$8532,SMALL(IF(اقساط!$G$3:$G$8532=B2467,ROW($B$3:$B$8532)-ROW($B$3)+1),ROWS($C$3:C2467))),\"\")","v":0}]
[{"$f":"IFERROR(INDEX(اقساط!$AT$3:$AT$8532,SMALL(IF(اقساط!$G$3:$G$8532=B2468,ROW($AT$3:$AT$8532)-ROW($AT$3)+1),ROWS($A$3:A2468))),\"\")","v":0},null,{"$f":"IFERROR(INDEX(اقساط!$B$3:$B$8532,SMALL(IF(اقساط!$G$3:$G$8532=B2468,ROW($B$3:$B$8532)-ROW($B$3)+1),ROWS($C$3:C2468))),\"\")","v":0}]
[{"$f":"IFERROR(INDEX(اقساط!$AT$3:$AT$8532,SMALL(IF(اقساط!$G$3:$G$8532=B2469,ROW($AT$3:$AT$8532)-ROW($AT$3)+1),ROWS($A$3:A2469))),\"\")","v":0},null,{"$f":"IFERROR(INDEX(اقساط!$B$3:$B$8532,SMALL(IF(اقساط!$G$3:$G$8532=B2469,ROW($B$3:$B$8532)-ROW($B$3)+1),ROWS($C$3:C2469))),\"\")","v":0}]
[{"$f":"IFERROR(INDEX(اقساط!$AT$3:$AT$8532,SMALL(IF(اقساط!$G$3:$G$8532=B2470,ROW($AT$3:$AT$8532)-ROW($AT$3)+1),ROWS($A$3:A2470))),\"\")","v":0},null,{"$f":"IFERROR(INDEX(اقساط!$B$3:$B$8532,SMALL(IF(اقساط!$G$3:$G$8532=B2470,ROW($B$3:$B$8532)-ROW($B$3)+1),ROWS($C$3:C2470))),\"\")","v":0}]
[{"$f":"IFERROR(INDEX(اقساط!$AT$3:$AT$8532,SMALL(IF(اقساط!$G$3:$G$8532=B2471,ROW($AT$3:$AT$8532)-ROW($AT$3)+1),ROWS($A$3:A2471))),\"\")","v":0},null,{"$f":"IFERROR(INDEX(اقساط!$B$3:$B$8532,SMALL(IF(اقساط!$G$3:$G$8532=B2471,ROW($B$3:$B$8532)-ROW($B$3)+1),ROWS($C$3:C2471))),\"\")","v":0}]
[{"$f":"IFERROR(INDEX(اقساط!$AT$3:$AT$8532,SMALL(IF(اقساط!$G$3:$G$8532=B2472,ROW($AT$3:$AT$8532)-ROW($AT$3)+1),ROWS($A$3:A2472))),\"\")","v":0},null,{"$f":"IFERROR(INDEX(اقساط!$B$3:$B$8532,SMALL(IF(اقساط!$G$3:$G$8532=B2472,ROW($B$3:$B$8532)-ROW($B$3)+1),ROWS($C$3:C2472))),\"\")","v":0}]
[{"$f":"IFERROR(INDEX(اقساط!$AT$3:$AT$8532,SMALL(IF(اقساط!$G$3:$G$8532=B2473,ROW($AT$3:$AT$8532)-ROW($AT$3)+1),ROWS($A$3:A2473))),\"\")","v":0},null,{"$f":"IFERROR(INDEX(اقساط!$B$3:$B$8532,SMALL(IF(اقساط!$G$3:$G$8532=B2473,ROW($B$3:$B$8532)-ROW($B$3)+1),ROWS($C$3:C2473))),\"\")","v":0}]
[{"$f":"IFERROR(INDEX(اقساط!$AT$3:$AT$8532,SMALL(IF(اقساط!$G$3:$G$8532=B2474,ROW($AT$3:$AT$8532)-ROW($AT$3)+1),ROWS($A$3:A2474))),\"\")","v":0},null,{"$f":"IFERROR(INDEX(اقساط!$B$3:$B$8532,SMALL(IF(اقساط!$G$3:$G$8532=B2474,ROW($B$3:$B$8532)-ROW($B$3)+1),ROWS($C$3:C2474))),\"\")","v":0}]
[{"$f":"IFERROR(INDEX(اقساط!$AT$3:$AT$8532,SMALL(IF(اقساط!$G$3:$G$8532=B2475,ROW($AT$3:$AT$8532)-ROW($AT$3)+1),ROWS($A$3:A2475))),\"\")","v":0},null,{"$f":"IFERROR(INDEX(اقساط!$B$3:$B$8532,SMALL(IF(اقساط!$G$3:$G$8532=B2475,ROW($B$3:$B$8532)-ROW($B$3)+1),ROWS($C$3:C2475))),\"\")","v":0}]
[{"$f":"IFERROR(INDEX(اقساط!$AT$3:$AT$8532,SMALL(IF(اقساط!$G$3:$G$8532=B2476,ROW($AT$3:$AT$8532)-ROW($AT$3)+1),ROWS($A$3:A2476))),\"\")","v":0},null,{"$f":"IFERROR(INDEX(اقساط!$B$3:$B$8532,SMALL(IF(اقساط!$G$3:$G$8532=B2476,ROW($B$3:$B$8532)-ROW($B$3)+1),ROWS($C$3:C2476))),\"\")","v":0}]
[{"$f":"IFERROR(INDEX(اقساط!$AT$3:$AT$8532,SMALL(IF(اقساط!$G$3:$G$8532=B2477,ROW($AT$3:$AT$8532)-ROW($AT$3)+1),ROWS($A$3:A2477))),\"\")","v":0},null,{"$f":"IFERROR(INDEX(اقساط!$B$3:$B$8532,SMALL(IF(اقساط!$G$3:$G$8532=B2477,ROW($B$3:$B$8532)-ROW($B$3)+1),ROWS($C$3:C2477))),\"\")","v":0}]
[{"$f":"IFERROR(INDEX(اقساط!$AT$3:$AT$8532,SMALL(IF(اقساط!$G$3:$G$8532=B2478,ROW($AT$3:$AT$8532)-ROW($AT$3)+1),ROWS($A$3:A2478))),\"\")","v":0},null,{"$f":"IFERROR(INDEX(اقساط!$B$3:$B$8532,SMALL(IF(اقساط!$G$3:$G$8532=B2478,ROW($B$3:$B$8532)-ROW($B$3)+1),ROWS($C$3:C2478))),\"\")","v":0}]
[{"$f":"IFERROR(INDEX(اقساط!$AT$3:$AT$8532,SMALL(IF(اقساط!$G$3:$G$8532=B2479,ROW($AT$3:$AT$8532)-ROW($AT$3)+1),ROWS($A$3:A2479))),\"\")","v":0},null,{"$f":"IFERROR(INDEX(اقساط!$B$3:$B$8532,SMALL(IF(اقساط!$G$3:$G$8532=B2479,ROW($B$3:$B$8532)-ROW($B$3)+1),ROWS($C$3:C2479))),\"\")","v":0}]
[{"$f":"IFERROR(INDEX(اقساط!$AT$3:$AT$8532,SMALL(IF(اقساط!$G$3:$G$8532=B2480,ROW($AT$3:$AT$8532)-ROW($AT$3)+1),ROWS($A$3:A2480))),\"\")","v":0},null,{"$f":"IFERROR(INDEX(اقساط!$B$3:$B$8532,SMALL(IF(اقساط!$G$3:$G$8532=B2480,ROW($B$3:$B$8532)-ROW($B$3)+1),ROWS($C$3:C2480))),\"\")","v":0}]
[{"$f":"IFERROR(INDEX(اقساط!$AT$3:$AT$8532,SMALL(IF(اقساط!$G$3:$G$8532=B2481,ROW($AT$3:$AT$8532)-ROW($AT$3)+1),ROWS($A$3:A2481))),\"\")","v":0},null,{"$f":"IFERROR(INDEX(اقساط!$B$3:$B$8532,SMALL(IF(اقساط!$G$3:$G$8532=B2481,ROW($B$3:$B$8532)-ROW($B$3)+1),ROWS($C$3:C2481))),\"\")","v":0}]
[{"$f":"IFERROR(INDEX(اقساط!$AT$3:$AT$8532,SMALL(IF(اقساط!$G$3:$G$8532=B2482,ROW($AT$3:$AT$8532)-ROW($AT$3)+1),ROWS($A$3:A2482))),\"\")","v":0},null,{"$f":"IFERROR(INDEX(اقساط!$B$3:$B$8532,SMALL(IF(اقساط!$G$3:$G$8532=B2482,ROW($B$3:$B$8532)-ROW($B$3)+1),ROWS($C$3:C2482))),\"\")","v":0}]
[{"$f":"IFERROR(INDEX(اقساط!$AT$3:$AT$8532,SMALL(IF(اقساط!$G$3:$G$8532=B2483,ROW($AT$3:$AT$8532)-ROW($AT$3)+1),ROWS($A$3:A2483))),\"\")","v":0},null,{"$f":"IFERROR(INDEX(اقساط!$B$3:$B$8532,SMALL(IF(اقساط!$G$3:$G$8532=B2483,ROW($B$3:$B$8532)-ROW($B$3)+1),ROWS($C$3:C2483))),\"\")","v":0}]
[{"$f":"IFERROR(INDEX(اقساط!$AT$3:$AT$8532,SMALL(IF(اقساط!$G$3:$G$8532=B2484,ROW($AT$3:$AT$8532)-ROW($AT$3)+1),ROWS($A$3:A2484))),\"\")","v":0},null,{"$f":"IFERROR(INDEX(اقساط!$B$3:$B$8532,SMALL(IF(اقساط!$G$3:$G$8532=B2484,ROW($B$3:$B$8532)-ROW($B$3)+1),ROWS($C$3:C2484))),\"\")","v":0}]
[{"$f":"IFERROR(INDEX(اقساط!$AT$3:$AT$8532,SMALL(IF(اقساط!$G$3:$G$8532=B2485,ROW($AT$3:$AT$8532)-ROW($AT$3)+1),ROWS($A$3:A2485))),\"\")","v":0},null,{"$f":"IFERROR(INDEX(اقساط!$B$3:$B$8532,SMALL(IF(اقساط!$G$3:$G$8532=B2485,ROW($B$3:$B$8532)-ROW($B$3)+1),ROWS($C$3:C2485))),\"\")","v":0}]
[{"$f":"IFERROR(INDEX(اقساط!$AT$3:$AT$8532,SMALL(IF(اقساط!$G$3:$G$8532=B2486,ROW($AT$3:$AT$8532)-ROW($AT$3)+1),ROWS($A$3:A2486))),\"\")","v":0},null,{"$f":"IFERROR(INDEX(اقساط!$B$3:$B$8532,SMALL(IF(اقساط!$G$3:$G$8532=B2486,ROW($B$3:$B$8532)-ROW($B$3)+1),ROWS($C$3:C2486))),\"\")","v":0}]
[{"$f":"IFERROR(INDEX(اقساط!$AT$3:$AT$8532,SMALL(IF(اقساط!$G$3:$G$8532=B2487,ROW($AT$3:$AT$8532)-ROW($AT$3)+1),ROWS($A$3:A2487))),\"\")","v":0},null,{"$f":"IFERROR(INDEX(اقساط!$B$3:$B$8532,SMALL(IF(اقساط!$G$3:$G$8532=B2487,ROW($B$3:$B$8532)-ROW($B$3)+1),ROWS($C$3:C2487))),\"\")","v":0}]
[{"$f":"IFERROR(INDEX(اقساط!$AT$3:$AT$8532,SMALL(IF(اقساط!$G$3:$G$8532=B2488,ROW($AT$3:$AT$8532)-ROW($AT$3)+1),ROWS($A$3:A2488))),\"\")","v":0},null,{"$f":"IFERROR(INDEX(اقساط!$B$3:$B$8532,SMALL(IF(اقساط!$G$3:$G$8532=B2488,ROW($B$3:$B$8532)-ROW($B$3)+1),ROWS($C$3:C2488))),\"\")","v":0}]
[{"$f":"IFERROR(INDEX(اقساط!$AT$3:$AT$8532,SMALL(IF(اقساط!$G$3:$G$8532=B2489,ROW($AT$3:$AT$8532)-ROW($AT$3)+1),ROWS($A$3:A2489))),\"\")","v":0},null,{"$f":"IFERROR(INDEX(اقساط!$B$3:$B$8532,SMALL(IF(اقساط!$G$3:$G$8532=B2489,ROW($B$3:$B$8532)-ROW($B$3)+1),ROWS($C$3:C2489))),\"\")","v":0}]
[{"$f":"IFERROR(INDEX(اقساط!$AT$3:$AT$8532,SMALL(IF(اقساط!$G$3:$G$8532=B2490,ROW($AT$3:$AT$8532)-ROW($AT$3)+1),ROWS($A$3:A2490))),\"\")","v":0},null,{"$f":"IFERROR(INDEX(اقساط!$B$3:$B$8532,SMALL(IF(اقساط!$G$3:$G$8532=B2490,ROW($B$3:$B$8532)-ROW($B$3)+1),ROWS($C$3:C2490))),\"\")","v":0}]
[{"$f":"IFERROR(INDEX(اقساط!$AT$3:$AT$8532,SMALL(IF(اقساط!$G$3:$G$8532=B2491,ROW($AT$3:$AT$8532)-ROW($AT$3)+1),ROWS($A$3:A2491))),\"\")","v":0},null,{"$f":"IFERROR(INDEX(اقساط!$B$3:$B$8532,SMALL(IF(اقساط!$G$3:$G$8532=B2491,ROW($B$3:$B$8532)-ROW($B$3)+1),ROWS($C$3:C2491))),\"\")","v":0}]
[{"$f":"IFERROR(INDEX(اقساط!$AT$3:$AT$8532,SMALL(IF(اقساط!$G$3:$G$8532=B2492,ROW($AT$3:$AT$8532)-ROW($AT$3)+1),ROWS($A$3:A2492))),\"\")","v":0},null,{"$f":"IFERROR(INDEX(اقساط!$B$3:$B$8532,SMALL(IF(اقساط!$G$3:$G$8532=B2492,ROW($B$3:$B$8532)-ROW($B$3)+1),ROWS($C$3:C2492))),\"\")","v":0}]
[{"$f":"IFERROR(INDEX(اقساط!$AT$3:$AT$8532,SMALL(IF(اقساط!$G$3:$G$8532=B2493,ROW($AT$3:$AT$8532)-ROW($AT$3)+1),ROWS($A$3:A2493))),\"\")","v":0},null,{"$f":"IFERROR(INDEX(اقساط!$B$3:$B$8532,SMALL(IF(اقساط!$G$3:$G$8532=B2493,ROW($B$3:$B$8532)-ROW($B$3)+1),ROWS($C$3:C2493))),\"\")","v":0}]
[{"$f":"IFERROR(INDEX(اقساط!$AT$3:$AT$8532,SMALL(IF(اقساط!$G$3:$G$8532=B2494,ROW($AT$3:$AT$8532)-ROW($AT$3)+1),ROWS($A$3:A2494))),\"\")","v":0},null,{"$f":"IFERROR(INDEX(اقساط!$B$3:$B$8532,SMALL(IF(اقساط!$G$3:$G$8532=B2494,ROW($B$3:$B$8532)-ROW($B$3)+1),ROWS($C$3:C2494))),\"\")","v":0}]
[{"$f":"IFERROR(INDEX(اقساط!$AT$3:$AT$8532,SMALL(IF(اقساط!$G$3:$G$8532=B2495,ROW($AT$3:$AT$8532)-ROW($AT$3)+1),ROWS($A$3:A2495))),\"\")","v":0},null,{"$f":"IFERROR(INDEX(اقساط!$B$3:$B$8532,SMALL(IF(اقساط!$G$3:$G$8532=B2495,ROW($B$3:$B$8532)-ROW($B$3)+1),ROWS($C$3:C2495))),\"\")","v":0}]
[{"$f":"IFERROR(INDEX(اقساط!$AT$3:$AT$8532,SMALL(IF(اقساط!$G$3:$G$8532=B2496,ROW($AT$3:$AT$8532)-ROW($AT$3)+1),ROWS($A$3:A2496))),\"\")","v":0},null,{"$f":"IFERROR(INDEX(اقساط!$B$3:$B$8532,SMALL(IF(اقساط!$G$3:$G$8532=B2496,ROW($B$3:$B$8532)-ROW($B$3)+1),ROWS($C$3:C2496))),\"\")","v":0}]
[{"$f":"IFERROR(INDEX(اقساط!$AT$3:$AT$8532,SMALL(IF(اقساط!$G$3:$G$8532=B2497,ROW($AT$3:$AT$8532)-ROW($AT$3)+1),ROWS($A$3:A2497))),\"\")","v":0},null,{"$f":"IFERROR(INDEX(اقساط!$B$3:$B$8532,SMALL(IF(اقساط!$G$3:$G$8532=B2497,ROW($B$3:$B$8532)-ROW($B$3)+1),ROWS($C$3:C2497))),\"\")","v":0}]
[{"$f":"IFERROR(INDEX(اقساط!$AT$3:$AT$8532,SMALL(IF(اقساط!$G$3:$G$8532=B2498,ROW($AT$3:$AT$8532)-ROW($AT$3)+1),ROWS($A$3:A2498))),\"\")","v":0},null,{"$f":"IFERROR(INDEX(اقساط!$B$3:$B$8532,SMALL(IF(اقساط!$G$3:$G$8532=B2498,ROW($B$3:$B$8532)-ROW($B$3)+1),ROWS($C$3:C2498))),\"\")","v":0}]
[{"$f":"IFERROR(INDEX(اقساط!$AT$3:$AT$8532,SMALL(IF(اقساط!$G$3:$G$8532=B2499,ROW($AT$3:$AT$8532)-ROW($AT$3)+1),ROWS($A$3:A2499))),\"\")","v":0},null,{"$f":"IFERROR(INDEX(اقساط!$B$3:$B$8532,SMALL(IF(اقساط!$G$3:$G$8532=B2499,ROW($B$3:$B$8532)-ROW($B$3)+1),ROWS($C$3:C2499))),\"\")","v":0}]
[{"$f":"IFERROR(INDEX(اقساط!$AT$3:$AT$8532,SMALL(IF(اقساط!$G$3:$G$8532=B2500,ROW($AT$3:$AT$8532)-ROW($AT$3)+1),ROWS($A$3:A2500))),\"\")","v":0},null,{"$f":"IFERROR(INDEX(اقساط!$B$3:$B$8532,SMALL(IF(اقساط!$G$3:$G$8532=B2500,ROW($B$3:$B$8532)-ROW($B$3)+1),ROWS($C$3:C2500))),\"\")","v":0}]
[{"$f":"IFERROR(INDEX(اقساط!$AT$3:$AT$8532,SMALL(IF(اقساط!$G$3:$G$8532=B2501,ROW($AT$3:$AT$8532)-ROW($AT$3)+1),ROWS($A$3:A2501))),\"\")","v":0},null,{"$f":"IFERROR(INDEX(اقساط!$B$3:$B$8532,SMALL(IF(اقساط!$G$3:$G$8532=B2501,ROW($B$3:$B$8532)-ROW($B$3)+1),ROWS($C$3:C2501))),\"\")","v":0}]
[{"$f":"IFERROR(INDEX(اقساط!$AT$3:$AT$8532,SMALL(IF(اقساط!$G$3:$G$8532=B2502,ROW($AT$3:$AT$8532)-ROW($AT$3)+1),ROWS($A$3:A2502))),\"\")","v":0},null,{"$f":"IFERROR(INDEX(اقساط!$B$3:$B$8532,SMALL(IF(اقساط!$G$3:$G$8532=B2502,ROW($B$3:$B$8532)-ROW($B$3)+1),ROWS($C$3:C2502))),\"\")","v":0}]
[{"$f":"IFERROR(INDEX(اقساط!$AT$3:$AT$8532,SMALL(IF(اقساط!$G$3:$G$8532=B2503,ROW($AT$3:$AT$8532)-ROW($AT$3)+1),ROWS($A$3:A2503))),\"\")","v":0},null,{"$f":"IFERROR(INDEX(اقساط!$B$3:$B$8532,SMALL(IF(اقساط!$G$3:$G$8532=B2503,ROW($B$3:$B$8532)-ROW($B$3)+1),ROWS($C$3:C2503))),\"\")","v":0}]
[{"$f":"IFERROR(INDEX(اقساط!$AT$3:$AT$8532,SMALL(IF(اقساط!$G$3:$G$8532=B2504,ROW($AT$3:$AT$8532)-ROW($AT$3)+1),ROWS($A$3:A2504))),\"\")","v":0},null,{"$f":"IFERROR(INDEX(اقساط!$B$3:$B$8532,SMALL(IF(اقساط!$G$3:$G$8532=B2504,ROW($B$3:$B$8532)-ROW($B$3)+1),ROWS($C$3:C2504))),\"\")","v":0}]
[{"$f":"IFERROR(INDEX(اقساط!$AT$3:$AT$8532,SMALL(IF(اقساط!$G$3:$G$8532=B2505,ROW($AT$3:$AT$8532)-ROW($AT$3)+1),ROWS($A$3:A2505))),\"\")","v":0},null,{"$f":"IFERROR(INDEX(اقساط!$B$3:$B$8532,SMALL(IF(اقساط!$G$3:$G$8532=B2505,ROW($B$3:$B$8532)-ROW($B$3)+1),ROWS($C$3:C2505))),\"\")","v":0}]
[{"$f":"IFERROR(INDEX(اقساط!$AT$3:$AT$8532,SMALL(IF(اقساط!$G$3:$G$8532=B2506,ROW($AT$3:$AT$8532)-ROW($AT$3)+1),ROWS($A$3:A2506))),\"\")","v":0},null,{"$f":"IFERROR(INDEX(اقساط!$B$3:$B$8532,SMALL(IF(اقساط!$G$3:$G$8532=B2506,ROW($B$3:$B$8532)-ROW($B$3)+1),ROWS($C$3:C2506))),\"\")","v":0}]
[{"$f":"IFERROR(INDEX(اقساط!$AT$3:$AT$8532,SMALL(IF(اقساط!$G$3:$G$8532=B2507,ROW($AT$3:$AT$8532)-ROW($AT$3)+1),ROWS($A$3:A2507))),\"\")","v":0},null,{"$f":"IFERROR(INDEX(اقساط!$B$3:$B$8532,SMALL(IF(اقساط!$G$3:$G$8532=B2507,ROW($B$3:$B$8532)-ROW($B$3)+1),ROWS($C$3:C2507))),\"\")","v":0}]
[{"$f":"IFERROR(INDEX(اقساط!$AT$3:$AT$8532,SMALL(IF(اقساط!$G$3:$G$8532=B2508,ROW($AT$3:$AT$8532)-ROW($AT$3)+1),ROWS($A$3:A2508))),\"\")","v":0},null,{"$f":"IFERROR(INDEX(اقساط!$B$3:$B$8532,SMALL(IF(اقساط!$G$3:$G$8532=B2508,ROW($B$3:$B$8532)-ROW($B$3)+1),ROWS($C$3:C2508))),\"\")","v":0}]
[{"$f":"IFERROR(INDEX(اقساط!$AT$3:$AT$8532,SMALL(IF(اقساط!$G$3:$G$8532=B2509,ROW($AT$3:$AT$8532)-ROW($AT$3)+1),ROWS($A$3:A2509))),\"\")","v":0},null,{"$f":"IFERROR(INDEX(اقساط!$B$3:$B$8532,SMALL(IF(اقساط!$G$3:$G$8532=B2509,ROW($B$3:$B$8532)-ROW($B$3)+1),ROWS($C$3:C2509))),\"\")","v":0}]
[{"$f":"IFERROR(INDEX(اقساط!$AT$3:$AT$8532,SMALL(IF(اقساط!$G$3:$G$8532=B2510,ROW($AT$3:$AT$8532)-ROW($AT$3)+1),ROWS($A$3:A2510))),\"\")","v":0},null,{"$f":"IFERROR(INDEX(اقساط!$B$3:$B$8532,SMALL(IF(اقساط!$G$3:$G$8532=B2510,ROW($B$3:$B$8532)-ROW($B$3)+1),ROWS($C$3:C2510))),\"\")","v":0}]
[{"$f":"IFERROR(INDEX(اقساط!$AT$3:$AT$8532,SMALL(IF(اقساط!$G$3:$G$8532=B2511,ROW($AT$3:$AT$8532)-ROW($AT$3)+1),ROWS($A$3:A2511))),\"\")","v":0},null,{"$f":"IFERROR(INDEX(اقساط!$B$3:$B$8532,SMALL(IF(اقساط!$G$3:$G$8532=B2511,ROW($B$3:$B$8532)-ROW($B$3)+1),ROWS($C$3:C2511))),\"\")","v":0}]
[{"$f":"IFERROR(INDEX(اقساط!$AT$3:$AT$8532,SMALL(IF(اقساط!$G$3:$G$8532=B2512,ROW($AT$3:$AT$8532)-ROW($AT$3)+1),ROWS($A$3:A2512))),\"\")","v":0},null,{"$f":"IFERROR(INDEX(اقساط!$B$3:$B$8532,SMALL(IF(اقساط!$G$3:$G$8532=B2512,ROW($B$3:$B$8532)-ROW($B$3)+1),ROWS($C$3:C2512))),\"\")","v":0}]
[{"$f":"IFERROR(INDEX(اقساط!$AT$3:$AT$8532,SMALL(IF(اقساط!$G$3:$G$8532=B2513,ROW($AT$3:$AT$8532)-ROW($AT$3)+1),ROWS($A$3:A2513))),\"\")","v":0},null,{"$f":"IFERROR(INDEX(اقساط!$B$3:$B$8532,SMALL(IF(اقساط!$G$3:$G$8532=B2513,ROW($B$3:$B$8532)-ROW($B$3)+1),ROWS($C$3:C2513))),\"\")","v":0}]
[{"$f":"IFERROR(INDEX(اقساط!$AT$3:$AT$8532,SMALL(IF(اقساط!$G$3:$G$8532=B2514,ROW($AT$3:$AT$8532)-ROW($AT$3)+1),ROWS($A$3:A2514))),\"\")","v":0},null,{"$f":"IFERROR(INDEX(اقساط!$B$3:$B$8532,SMALL(IF(اقساط!$G$3:$G$8532=B2514,ROW($B$3:$B$8532)-ROW($B$3)+1),ROWS($C$3:C2514))),\"\")","v":0}]
[{"$f":"IFERROR(INDEX(اقساط!$AT$3:$AT$8532,SMALL(IF(اقساط!$G$3:$G$8532=B2515,ROW($AT$3:$AT$8532)-ROW($AT$3)+1),ROWS($A$3:A2515))),\"\")","v":0},null,{"$f":"IFERROR(INDEX(اقساط!$B$3:$B$8532,SMALL(IF(اقساط!$G$3:$G$8532=B2515,ROW($B$3:$B$8532)-ROW($B$3)+1),ROWS($C$3:C2515))),\"\")","v":0}]
[{"$f":"IFERROR(INDEX(اقساط!$AT$3:$AT$8532,SMALL(IF(اقساط!$G$3:$G$8532=B2516,ROW($AT$3:$AT$8532)-ROW($AT$3)+1),ROWS($A$3:A2516))),\"\")","v":0},null,{"$f":"IFERROR(INDEX(اقساط!$B$3:$B$8532,SMALL(IF(اقساط!$G$3:$G$8532=B2516,ROW($B$3:$B$8532)-ROW($B$3)+1),ROWS($C$3:C2516))),\"\")","v":0}]
[{"$f":"IFERROR(INDEX(اقساط!$AT$3:$AT$8532,SMALL(IF(اقساط!$G$3:$G$8532=B2517,ROW($AT$3:$AT$8532)-ROW($AT$3)+1),ROWS($A$3:A2517))),\"\")","v":0},null,{"$f":"IFERROR(INDEX(اقساط!$B$3:$B$8532,SMALL(IF(اقساط!$G$3:$G$8532=B2517,ROW($B$3:$B$8532)-ROW($B$3)+1),ROWS($C$3:C2517))),\"\")","v":0}]
[{"$f":"IFERROR(INDEX(اقساط!$AT$3:$AT$8532,SMALL(IF(اقساط!$G$3:$G$8532=B2518,ROW($AT$3:$AT$8532)-ROW($AT$3)+1),ROWS($A$3:A2518))),\"\")","v":0},null,{"$f":"IFERROR(INDEX(اقساط!$B$3:$B$8532,SMALL(IF(اقساط!$G$3:$G$8532=B2518,ROW($B$3:$B$8532)-ROW($B$3)+1),ROWS($C$3:C2518))),\"\")","v":0}]
[{"$f":"IFERROR(INDEX(اقساط!$AT$3:$AT$8532,SMALL(IF(اقساط!$G$3:$G$8532=B2519,ROW($AT$3:$AT$8532)-ROW($AT$3)+1),ROWS($A$3:A2519))),\"\")","v":0},null,{"$f":"IFERROR(INDEX(اقساط!$B$3:$B$8532,SMALL(IF(اقساط!$G$3:$G$8532=B2519,ROW($B$3:$B$8532)-ROW($B$3)+1),ROWS($C$3:C2519))),\"\")","v":0}]
[{"$f":"IFERROR(INDEX(اقساط!$AT$3:$AT$8532,SMALL(IF(اقساط!$G$3:$G$8532=B2520,ROW($AT$3:$AT$8532)-ROW($AT$3)+1),ROWS($A$3:A2520))),\"\")","v":0},null,{"$f":"IFERROR(INDEX(اقساط!$B$3:$B$8532,SMALL(IF(اقساط!$G$3:$G$8532=B2520,ROW($B$3:$B$8532)-ROW($B$3)+1),ROWS($C$3:C2520))),\"\")","v":0}]
[{"$f":"IFERROR(INDEX(اقساط!$AT$3:$AT$8532,SMALL(IF(اقساط!$G$3:$G$8532=B2521,ROW($AT$3:$AT$8532)-ROW($AT$3)+1),ROWS($A$3:A2521))),\"\")","v":0},null,{"$f":"IFERROR(INDEX(اقساط!$B$3:$B$8532,SMALL(IF(اقساط!$G$3:$G$8532=B2521,ROW($B$3:$B$8532)-ROW($B$3)+1),ROWS($C$3:C2521))),\"\")","v":0}]
[{"$f":"IFERROR(INDEX(اقساط!$AT$3:$AT$8532,SMALL(IF(اقساط!$G$3:$G$8532=B2522,ROW($AT$3:$AT$8532)-ROW($AT$3)+1),ROWS($A$3:A2522))),\"\")","v":0},null,{"$f":"IFERROR(INDEX(اقساط!$B$3:$B$8532,SMALL(IF(اقساط!$G$3:$G$8532=B2522,ROW($B$3:$B$8532)-ROW($B$3)+1),ROWS($C$3:C2522))),\"\")","v":0}]
[{"$f":"IFERROR(INDEX(اقساط!$AT$3:$AT$8532,SMALL(IF(اقساط!$G$3:$G$8532=B2523,ROW($AT$3:$AT$8532)-ROW($AT$3)+1),ROWS($A$3:A2523))),\"\")","v":0},null,{"$f":"IFERROR(INDEX(اقساط!$B$3:$B$8532,SMALL(IF(اقساط!$G$3:$G$8532=B2523,ROW($B$3:$B$8532)-ROW($B$3)+1),ROWS($C$3:C2523))),\"\")","v":0}]
[{"$f":"IFERROR(INDEX(اقساط!$AT$3:$AT$8532,SMALL(IF(اقساط!$G$3:$G$8532=B2524,ROW($AT$3:$AT$8532)-ROW($AT$3)+1),ROWS($A$3:A2524))),\"\")","v":0},null,{"$f":"IFERROR(INDEX(اقساط!$B$3:$B$8532,SMALL(IF(اقساط!$G$3:$G$8532=B2524,ROW($B$3:$B$8532)-ROW($B$3)+1),ROWS($C$3:C2524))),\"\")","v":0}]
[{"$f":"IFERROR(INDEX(اقساط!$AT$3:$AT$8532,SMALL(IF(اقساط!$G$3:$G$8532=B2525,ROW($AT$3:$AT$8532)-ROW($AT$3)+1),ROWS($A$3:A2525))),\"\")","v":0},null,{"$f":"IFERROR(INDEX(اقساط!$B$3:$B$8532,SMALL(IF(اقساط!$G$3:$G$8532=B2525,ROW($B$3:$B$8532)-ROW($B$3)+1),ROWS($C$3:C2525))),\"\")","v":0}]
[{"$f":"IFERROR(INDEX(اقساط!$AT$3:$AT$8532,SMALL(IF(اقساط!$G$3:$G$8532=B2526,ROW($AT$3:$AT$8532)-ROW($AT$3)+1),ROWS($A$3:A2526))),\"\")","v":0},null,{"$f":"IFERROR(INDEX(اقساط!$B$3:$B$8532,SMALL(IF(اقساط!$G$3:$G$8532=B2526,ROW($B$3:$B$8532)-ROW($B$3)+1),ROWS($C$3:C2526))),\"\")","v":0}]
[{"$f":"IFERROR(INDEX(اقساط!$AT$3:$AT$8532,SMALL(IF(اقساط!$G$3:$G$8532=B2527,ROW($AT$3:$AT$8532)-ROW($AT$3)+1),ROWS($A$3:A2527))),\"\")","v":0},null,{"$f":"IFERROR(INDEX(اقساط!$B$3:$B$8532,SMALL(IF(اقساط!$G$3:$G$8532=B2527,ROW($B$3:$B$8532)-ROW($B$3)+1),ROWS($C$3:C2527))),\"\")","v":0}]
[{"$f":"IFERROR(INDEX(اقساط!$AT$3:$AT$8532,SMALL(IF(اقساط!$G$3:$G$8532=B2528,ROW($AT$3:$AT$8532)-ROW($AT$3)+1),ROWS($A$3:A2528))),\"\")","v":0},null,{"$f":"IFERROR(INDEX(اقساط!$B$3:$B$8532,SMALL(IF(اقساط!$G$3:$G$8532=B2528,ROW($B$3:$B$8532)-ROW($B$3)+1),ROWS($C$3:C2528))),\"\")","v":0}]
[{"$f":"IFERROR(INDEX(اقساط!$AT$3:$AT$8532,SMALL(IF(اقساط!$G$3:$G$8532=B2529,ROW($AT$3:$AT$8532)-ROW($AT$3)+1),ROWS($A$3:A2529))),\"\")","v":0},null,{"$f":"IFERROR(INDEX(اقساط!$B$3:$B$8532,SMALL(IF(اقساط!$G$3:$G$8532=B2529,ROW($B$3:$B$8532)-ROW($B$3)+1),ROWS($C$3:C2529))),\"\")","v":0}]
[{"$f":"IFERROR(INDEX(اقساط!$AT$3:$AT$8532,SMALL(IF(اقساط!$G$3:$G$8532=B2530,ROW($AT$3:$AT$8532)-ROW($AT$3)+1),ROWS($A$3:A2530))),\"\")","v":0},null,{"$f":"IFERROR(INDEX(اقساط!$B$3:$B$8532,SMALL(IF(اقساط!$G$3:$G$8532=B2530,ROW($B$3:$B$8532)-ROW($B$3)+1),ROWS($C$3:C2530))),\"\")","v":0}]
[{"$f":"IFERROR(INDEX(اقساط!$AT$3:$AT$8532,SMALL(IF(اقساط!$G$3:$G$8532=B2531,ROW($AT$3:$AT$8532)-ROW($AT$3)+1),ROWS($A$3:A2531))),\"\")","v":0},null,{"$f":"IFERROR(INDEX(اقساط!$B$3:$B$8532,SMALL(IF(اقساط!$G$3:$G$8532=B2531,ROW($B$3:$B$8532)-ROW($B$3)+1),ROWS($C$3:C2531))),\"\")","v":0}]
[{"$f":"IFERROR(INDEX(اقساط!$AT$3:$AT$8532,SMALL(IF(اقساط!$G$3:$G$8532=B2532,ROW($AT$3:$AT$8532)-ROW($AT$3)+1),ROWS($A$3:A2532))),\"\")","v":0},null,{"$f":"IFERROR(INDEX(اقساط!$B$3:$B$8532,SMALL(IF(اقساط!$G$3:$G$8532=B2532,ROW($B$3:$B$8532)-ROW($B$3)+1),ROWS($C$3:C2532))),\"\")","v":0}]
[{"$f":"IFERROR(INDEX(اقساط!$AT$3:$AT$8532,SMALL(IF(اقساط!$G$3:$G$8532=B2533,ROW($AT$3:$AT$8532)-ROW($AT$3)+1),ROWS($A$3:A2533))),\"\")","v":0},null,{"$f":"IFERROR(INDEX(اقساط!$B$3:$B$8532,SMALL(IF(اقساط!$G$3:$G$8532=B2533,ROW($B$3:$B$8532)-ROW($B$3)+1),ROWS($C$3:C2533))),\"\")","v":0}]
[{"$f":"IFERROR(INDEX(اقساط!$AT$3:$AT$8532,SMALL(IF(اقساط!$G$3:$G$8532=B2534,ROW($AT$3:$AT$8532)-ROW($AT$3)+1),ROWS($A$3:A2534))),\"\")","v":0},null,{"$f":"IFERROR(INDEX(اقساط!$B$3:$B$8532,SMALL(IF(اقساط!$G$3:$G$8532=B2534,ROW($B$3:$B$8532)-ROW($B$3)+1),ROWS($C$3:C2534))),\"\")","v":0}]
[{"$f":"IFERROR(INDEX(اقساط!$AT$3:$AT$8532,SMALL(IF(اقساط!$G$3:$G$8532=B2535,ROW($AT$3:$AT$8532)-ROW($AT$3)+1),ROWS($A$3:A2535))),\"\")","v":0},null,{"$f":"IFERROR(INDEX(اقساط!$B$3:$B$8532,SMALL(IF(اقساط!$G$3:$G$8532=B2535,ROW($B$3:$B$8532)-ROW($B$3)+1),ROWS($C$3:C2535))),\"\")","v":0}]
[{"$f":"IFERROR(INDEX(اقساط!$AT$3:$AT$8532,SMALL(IF(اقساط!$G$3:$G$8532=B2536,ROW($AT$3:$AT$8532)-ROW($AT$3)+1),ROWS($A$3:A2536))),\"\")","v":0},null,{"$f":"IFERROR(INDEX(اقساط!$B$3:$B$8532,SMALL(IF(اقساط!$G$3:$G$8532=B2536,ROW($B$3:$B$8532)-ROW($B$3)+1),ROWS($C$3:C2536))),\"\")","v":0}]
[{"$f":"IFERROR(INDEX(اقساط!$AT$3:$AT$8532,SMALL(IF(اقساط!$G$3:$G$8532=B2537,ROW($AT$3:$AT$8532)-ROW($AT$3)+1),ROWS($A$3:A2537))),\"\")","v":0},null,{"$f":"IFERROR(INDEX(اقساط!$B$3:$B$8532,SMALL(IF(اقساط!$G$3:$G$8532=B2537,ROW($B$3:$B$8532)-ROW($B$3)+1),ROWS($C$3:C2537))),\"\")","v":0}]
[{"$f":"IFERROR(INDEX(اقساط!$AT$3:$AT$8532,SMALL(IF(اقساط!$G$3:$G$8532=B2538,ROW($AT$3:$AT$8532)-ROW($AT$3)+1),ROWS($A$3:A2538))),\"\")","v":0},null,{"$f":"IFERROR(INDEX(اقساط!$B$3:$B$8532,SMALL(IF(اقساط!$G$3:$G$8532=B2538,ROW($B$3:$B$8532)-ROW($B$3)+1),ROWS($C$3:C2538))),\"\")","v":0}]
[{"$f":"IFERROR(INDEX(اقساط!$AT$3:$AT$8532,SMALL(IF(اقساط!$G$3:$G$8532=B2539,ROW($AT$3:$AT$8532)-ROW($AT$3)+1),ROWS($A$3:A2539))),\"\")","v":0},null,{"$f":"IFERROR(INDEX(اقساط!$B$3:$B$8532,SMALL(IF(اقساط!$G$3:$G$8532=B2539,ROW($B$3:$B$8532)-ROW($B$3)+1),ROWS($C$3:C2539))),\"\")","v":0}]
[{"$f":"IFERROR(INDEX(اقساط!$AT$3:$AT$8532,SMALL(IF(اقساط!$G$3:$G$8532=B2540,ROW($AT$3:$AT$8532)-ROW($AT$3)+1),ROWS($A$3:A2540))),\"\")","v":0},null,{"$f":"IFERROR(INDEX(اقساط!$B$3:$B$8532,SMALL(IF(اقساط!$G$3:$G$8532=B2540,ROW($B$3:$B$8532)-ROW($B$3)+1),ROWS($C$3:C2540))),\"\")","v":0}]
[{"$f":"IFERROR(INDEX(اقساط!$AT$3:$AT$8532,SMALL(IF(اقساط!$G$3:$G$8532=B2541,ROW($AT$3:$AT$8532)-ROW($AT$3)+1),ROWS($A$3:A2541))),\"\")","v":0},null,{"$f":"IFERROR(INDEX(اقساط!$B$3:$B$8532,SMALL(IF(اقساط!$G$3:$G$8532=B2541,ROW($B$3:$B$8532)-ROW($B$3)+1),ROWS($C$3:C2541))),\"\")","v":0}]
[{"$f":"IFERROR(INDEX(اقساط!$AT$3:$AT$8532,SMALL(IF(اقساط!$G$3:$G$8532=B2542,ROW($AT$3:$AT$8532)-ROW($AT$3)+1),ROWS($A$3:A2542))),\"\")","v":0},null,{"$f":"IFERROR(INDEX(اقساط!$B$3:$B$8532,SMALL(IF(اقساط!$G$3:$G$8532=B2542,ROW($B$3:$B$8532)-ROW($B$3)+1),ROWS($C$3:C2542))),\"\")","v":0}]
[{"$f":"IFERROR(INDEX(اقساط!$AT$3:$AT$8532,SMALL(IF(اقساط!$G$3:$G$8532=B2543,ROW($AT$3:$AT$8532)-ROW($AT$3)+1),ROWS($A$3:A2543))),\"\")","v":0},null,{"$f":"IFERROR(INDEX(اقساط!$B$3:$B$8532,SMALL(IF(اقساط!$G$3:$G$8532=B2543,ROW($B$3:$B$8532)-ROW($B$3)+1),ROWS($C$3:C2543))),\"\")","v":0}]
[{"$f":"IFERROR(INDEX(اقساط!$AT$3:$AT$8532,SMALL(IF(اقساط!$G$3:$G$8532=B2544,ROW($AT$3:$AT$8532)-ROW($AT$3)+1),ROWS($A$3:A2544))),\"\")","v":0},null,{"$f":"IFERROR(INDEX(اقساط!$B$3:$B$8532,SMALL(IF(اقساط!$G$3:$G$8532=B2544,ROW($B$3:$B$8532)-ROW($B$3)+1),ROWS($C$3:C2544))),\"\")","v":0}]
[{"$f":"IFERROR(INDEX(اقساط!$AT$3:$AT$8532,SMALL(IF(اقساط!$G$3:$G$8532=B2545,ROW($AT$3:$AT$8532)-ROW($AT$3)+1),ROWS($A$3:A2545))),\"\")","v":0},null,{"$f":"IFERROR(INDEX(اقساط!$B$3:$B$8532,SMALL(IF(اقساط!$G$3:$G$8532=B2545,ROW($B$3:$B$8532)-ROW($B$3)+1),ROWS($C$3:C2545))),\"\")","v":0}]
[{"$f":"IFERROR(INDEX(اقساط!$AT$3:$AT$8532,SMALL(IF(اقساط!$G$3:$G$8532=B2546,ROW($AT$3:$AT$8532)-ROW($AT$3)+1),ROWS($A$3:A2546))),\"\")","v":0},null,{"$f":"IFERROR(INDEX(اقساط!$B$3:$B$8532,SMALL(IF(اقساط!$G$3:$G$8532=B2546,ROW($B$3:$B$8532)-ROW($B$3)+1),ROWS($C$3:C2546))),\"\")","v":0}]
[{"$f":"IFERROR(INDEX(اقساط!$AT$3:$AT$8532,SMALL(IF(اقساط!$G$3:$G$8532=B2547,ROW($AT$3:$AT$8532)-ROW($AT$3)+1),ROWS($A$3:A2547))),\"\")","v":0},null,{"$f":"IFERROR(INDEX(اقساط!$B$3:$B$8532,SMALL(IF(اقساط!$G$3:$G$8532=B2547,ROW($B$3:$B$8532)-ROW($B$3)+1),ROWS($C$3:C2547))),\"\")","v":0}]
[{"$f":"IFERROR(INDEX(اقساط!$AT$3:$AT$8532,SMALL(IF(اقساط!$G$3:$G$8532=B2548,ROW($AT$3:$AT$8532)-ROW($AT$3)+1),ROWS($A$3:A2548))),\"\")","v":0},null,{"$f":"IFERROR(INDEX(اقساط!$B$3:$B$8532,SMALL(IF(اقساط!$G$3:$G$8532=B2548,ROW($B$3:$B$8532)-ROW($B$3)+1),ROWS($C$3:C2548))),\"\")","v":0}]
[{"$f":"IFERROR(INDEX(اقساط!$AT$3:$AT$8532,SMALL(IF(اقساط!$G$3:$G$8532=B2549,ROW($AT$3:$AT$8532)-ROW($AT$3)+1),ROWS($A$3:A2549))),\"\")","v":0},null,{"$f":"IFERROR(INDEX(اقساط!$B$3:$B$8532,SMALL(IF(اقساط!$G$3:$G$8532=B2549,ROW($B$3:$B$8532)-ROW($B$3)+1),ROWS($C$3:C2549))),\"\")","v":0}]
[{"$f":"IFERROR(INDEX(اقساط!$AT$3:$AT$8532,SMALL(IF(اقساط!$G$3:$G$8532=B2550,ROW($AT$3:$AT$8532)-ROW($AT$3)+1),ROWS($A$3:A2550))),\"\")","v":0},null,{"$f":"IFERROR(INDEX(اقساط!$B$3:$B$8532,SMALL(IF(اقساط!$G$3:$G$8532=B2550,ROW($B$3:$B$8532)-ROW($B$3)+1),ROWS($C$3:C2550))),\"\")","v":0}]
[{"$f":"IFERROR(INDEX(اقساط!$AT$3:$AT$8532,SMALL(IF(اقساط!$G$3:$G$8532=B2551,ROW($AT$3:$AT$8532)-ROW($AT$3)+1),ROWS($A$3:A2551))),\"\")","v":0},null,{"$f":"IFERROR(INDEX(اقساط!$B$3:$B$8532,SMALL(IF(اقساط!$G$3:$G$8532=B2551,ROW($B$3:$B$8532)-ROW($B$3)+1),ROWS($C$3:C2551))),\"\")","v":0}]
[{"$f":"IFERROR(INDEX(اقساط!$AT$3:$AT$8532,SMALL(IF(اقساط!$G$3:$G$8532=B2552,ROW($AT$3:$AT$8532)-ROW($AT$3)+1),ROWS($A$3:A2552))),\"\")","v":0},null,{"$f":"IFERROR(INDEX(اقساط!$B$3:$B$8532,SMALL(IF(اقساط!$G$3:$G$8532=B2552,ROW($B$3:$B$8532)-ROW($B$3)+1),ROWS($C$3:C2552))),\"\")","v":0}]
[{"$f":"IFERROR(INDEX(اقساط!$AT$3:$AT$8532,SMALL(IF(اقساط!$G$3:$G$8532=B2553,ROW($AT$3:$AT$8532)-ROW($AT$3)+1),ROWS($A$3:A2553))),\"\")","v":0},null,{"$f":"IFERROR(INDEX(اقساط!$B$3:$B$8532,SMALL(IF(اقساط!$G$3:$G$8532=B2553,ROW($B$3:$B$8532)-ROW($B$3)+1),ROWS($C$3:C2553))),\"\")","v":0}]
[{"$f":"IFERROR(INDEX(اقساط!$AT$3:$AT$8532,SMALL(IF(اقساط!$G$3:$G$8532=B2554,ROW($AT$3:$AT$8532)-ROW($AT$3)+1),ROWS($A$3:A2554))),\"\")","v":0},null,{"$f":"IFERROR(INDEX(اقساط!$B$3:$B$8532,SMALL(IF(اقساط!$G$3:$G$8532=B2554,ROW($B$3:$B$8532)-ROW($B$3)+1),ROWS($C$3:C2554))),\"\")","v":0}]
[{"$f":"IFERROR(INDEX(اقساط!$AT$3:$AT$8532,SMALL(IF(اقساط!$G$3:$G$8532=B2555,ROW($AT$3:$AT$8532)-ROW($AT$3)+1),ROWS($A$3:A2555))),\"\")","v":0},null,{"$f":"IFERROR(INDEX(اقساط!$B$3:$B$8532,SMALL(IF(اقساط!$G$3:$G$8532=B2555,ROW($B$3:$B$8532)-ROW($B$3)+1),ROWS($C$3:C2555))),\"\")","v":0}]
[{"$f":"IFERROR(INDEX(اقساط!$AT$3:$AT$8532,SMALL(IF(اقساط!$G$3:$G$8532=B2556,ROW($AT$3:$AT$8532)-ROW($AT$3)+1),ROWS($A$3:A2556))),\"\")","v":0},null,{"$f":"IFERROR(INDEX(اقساط!$B$3:$B$8532,SMALL(IF(اقساط!$G$3:$G$8532=B2556,ROW($B$3:$B$8532)-ROW($B$3)+1),ROWS($C$3:C2556))),\"\")","v":0}]
[{"$f":"IFERROR(INDEX(اقساط!$AT$3:$AT$8532,SMALL(IF(اقساط!$G$3:$G$8532=B2557,ROW($AT$3:$AT$8532)-ROW($AT$3)+1),ROWS($A$3:A2557))),\"\")","v":0},null,{"$f":"IFERROR(INDEX(اقساط!$B$3:$B$8532,SMALL(IF(اقساط!$G$3:$G$8532=B2557,ROW($B$3:$B$8532)-ROW($B$3)+1),ROWS($C$3:C2557))),\"\")","v":0}]
[{"$f":"IFERROR(INDEX(اقساط!$AT$3:$AT$8532,SMALL(IF(اقساط!$G$3:$G$8532=B2558,ROW($AT$3:$AT$8532)-ROW($AT$3)+1),ROWS($A$3:A2558))),\"\")","v":0},null,{"$f":"IFERROR(INDEX(اقساط!$B$3:$B$8532,SMALL(IF(اقساط!$G$3:$G$8532=B2558,ROW($B$3:$B$8532)-ROW($B$3)+1),ROWS($C$3:C2558))),\"\")","v":0}]
[{"$f":"IFERROR(INDEX(اقساط!$AT$3:$AT$8532,SMALL(IF(اقساط!$G$3:$G$8532=B2559,ROW($AT$3:$AT$8532)-ROW($AT$3)+1),ROWS($A$3:A2559))),\"\")","v":0},null,{"$f":"IFERROR(INDEX(اقساط!$B$3:$B$8532,SMALL(IF(اقساط!$G$3:$G$8532=B2559,ROW($B$3:$B$8532)-ROW($B$3)+1),ROWS($C$3:C2559))),\"\")","v":0}]
[{"$f":"IFERROR(INDEX(اقساط!$AT$3:$AT$8532,SMALL(IF(اقساط!$G$3:$G$8532=B2560,ROW($AT$3:$AT$8532)-ROW($AT$3)+1),ROWS($A$3:A2560))),\"\")","v":0},null,{"$f":"IFERROR(INDEX(اقساط!$B$3:$B$8532,SMALL(IF(اقساط!$G$3:$G$8532=B2560,ROW($B$3:$B$8532)-ROW($B$3)+1),ROWS($C$3:C2560))),\"\")","v":0}]
[{"$f":"IFERROR(INDEX(اقساط!$AT$3:$AT$8532,SMALL(IF(اقساط!$G$3:$G$8532=B2561,ROW($AT$3:$AT$8532)-ROW($AT$3)+1),ROWS($A$3:A2561))),\"\")","v":0},null,{"$f":"IFERROR(INDEX(اقساط!$B$3:$B$8532,SMALL(IF(اقساط!$G$3:$G$8532=B2561,ROW($B$3:$B$8532)-ROW($B$3)+1),ROWS($C$3:C2561))),\"\")","v":0}]
[{"$f":"IFERROR(INDEX(اقساط!$AT$3:$AT$8532,SMALL(IF(اقساط!$G$3:$G$8532=B2562,ROW($AT$3:$AT$8532)-ROW($AT$3)+1),ROWS($A$3:A2562))),\"\")","v":0},null,{"$f":"IFERROR(INDEX(اقساط!$B$3:$B$8532,SMALL(IF(اقساط!$G$3:$G$8532=B2562,ROW($B$3:$B$8532)-ROW($B$3)+1),ROWS($C$3:C2562))),\"\")","v":0}]
[{"$f":"IFERROR(INDEX(اقساط!$AT$3:$AT$8532,SMALL(IF(اقساط!$G$3:$G$8532=B2563,ROW($AT$3:$AT$8532)-ROW($AT$3)+1),ROWS($A$3:A2563))),\"\")","v":0},null,{"$f":"IFERROR(INDEX(اقساط!$B$3:$B$8532,SMALL(IF(اقساط!$G$3:$G$8532=B2563,ROW($B$3:$B$8532)-ROW($B$3)+1),ROWS($C$3:C2563))),\"\")","v":0}]
[{"$f":"IFERROR(INDEX(اقساط!$AT$3:$AT$8532,SMALL(IF(اقساط!$G$3:$G$8532=B2564,ROW($AT$3:$AT$8532)-ROW($AT$3)+1),ROWS($A$3:A2564))),\"\")","v":0},null,{"$f":"IFERROR(INDEX(اقساط!$B$3:$B$8532,SMALL(IF(اقساط!$G$3:$G$8532=B2564,ROW($B$3:$B$8532)-ROW($B$3)+1),ROWS($C$3:C2564))),\"\")","v":0}]
[{"$f":"IFERROR(INDEX(اقساط!$AT$3:$AT$8532,SMALL(IF(اقساط!$G$3:$G$8532=B2565,ROW($AT$3:$AT$8532)-ROW($AT$3)+1),ROWS($A$3:A2565))),\"\")","v":0},null,{"$f":"IFERROR(INDEX(اقساط!$B$3:$B$8532,SMALL(IF(اقساط!$G$3:$G$8532=B2565,ROW($B$3:$B$8532)-ROW($B$3)+1),ROWS($C$3:C2565))),\"\")","v":0}]
[{"$f":"IFERROR(INDEX(اقساط!$AT$3:$AT$8532,SMALL(IF(اقساط!$G$3:$G$8532=B2566,ROW($AT$3:$AT$8532)-ROW($AT$3)+1),ROWS($A$3:A2566))),\"\")","v":0},null,{"$f":"IFERROR(INDEX(اقساط!$B$3:$B$8532,SMALL(IF(اقساط!$G$3:$G$8532=B2566,ROW($B$3:$B$8532)-ROW($B$3)+1),ROWS($C$3:C2566))),\"\")","v":0}]
[{"$f":"IFERROR(INDEX(اقساط!$AT$3:$AT$8532,SMALL(IF(اقساط!$G$3:$G$8532=B2567,ROW($AT$3:$AT$8532)-ROW($AT$3)+1),ROWS($A$3:A2567))),\"\")","v":0},null,{"$f":"IFERROR(INDEX(اقساط!$B$3:$B$8532,SMALL(IF(اقساط!$G$3:$G$8532=B2567,ROW($B$3:$B$8532)-ROW($B$3)+1),ROWS($C$3:C2567))),\"\")","v":0}]
[{"$f":"IFERROR(INDEX(اقساط!$AT$3:$AT$8532,SMALL(IF(اقساط!$G$3:$G$8532=B2568,ROW($AT$3:$AT$8532)-ROW($AT$3)+1),ROWS($A$3:A2568))),\"\")","v":0},null,{"$f":"IFERROR(INDEX(اقساط!$B$3:$B$8532,SMALL(IF(اقساط!$G$3:$G$8532=B2568,ROW($B$3:$B$8532)-ROW($B$3)+1),ROWS($C$3:C2568))),\"\")","v":0}]
[{"$f":"IFERROR(INDEX(اقساط!$AT$3:$AT$8532,SMALL(IF(اقساط!$G$3:$G$8532=B2569,ROW($AT$3:$AT$8532)-ROW($AT$3)+1),ROWS($A$3:A2569))),\"\")","v":0},null,{"$f":"IFERROR(INDEX(اقساط!$B$3:$B$8532,SMALL(IF(اقساط!$G$3:$G$8532=B2569,ROW($B$3:$B$8532)-ROW($B$3)+1),ROWS($C$3:C2569))),\"\")","v":0}]
[{"$f":"IFERROR(INDEX(اقساط!$AT$3:$AT$8532,SMALL(IF(اقساط!$G$3:$G$8532=B2570,ROW($AT$3:$AT$8532)-ROW($AT$3)+1),ROWS($A$3:A2570))),\"\")","v":0},null,{"$f":"IFERROR(INDEX(اقساط!$B$3:$B$8532,SMALL(IF(اقساط!$G$3:$G$8532=B2570,ROW($B$3:$B$8532)-ROW($B$3)+1),ROWS($C$3:C2570))),\"\")","v":0}]
[{"$f":"IFERROR(INDEX(اقساط!$AT$3:$AT$8532,SMALL(IF(اقساط!$G$3:$G$8532=B2571,ROW($AT$3:$AT$8532)-ROW($AT$3)+1),ROWS($A$3:A2571))),\"\")","v":0},null,{"$f":"IFERROR(INDEX(اقساط!$B$3:$B$8532,SMALL(IF(اقساط!$G$3:$G$8532=B2571,ROW($B$3:$B$8532)-ROW($B$3)+1),ROWS($C$3:C2571))),\"\")","v":0}]
[{"$f":"IFERROR(INDEX(اقساط!$AT$3:$AT$8532,SMALL(IF(اقساط!$G$3:$G$8532=B2572,ROW($AT$3:$AT$8532)-ROW($AT$3)+1),ROWS($A$3:A2572))),\"\")","v":0},null,{"$f":"IFERROR(INDEX(اقساط!$B$3:$B$8532,SMALL(IF(اقساط!$G$3:$G$8532=B2572,ROW($B$3:$B$8532)-ROW($B$3)+1),ROWS($C$3:C2572))),\"\")","v":0}]
[{"$f":"IFERROR(INDEX(اقساط!$AT$3:$AT$8532,SMALL(IF(اقساط!$G$3:$G$8532=B2573,ROW($AT$3:$AT$8532)-ROW($AT$3)+1),ROWS($A$3:A2573))),\"\")","v":0},null,{"$f":"IFERROR(INDEX(اقساط!$B$3:$B$8532,SMALL(IF(اقساط!$G$3:$G$8532=B2573,ROW($B$3:$B$8532)-ROW($B$3)+1),ROWS($C$3:C2573))),\"\")","v":0}]
[{"$f":"IFERROR(INDEX(اقساط!$AT$3:$AT$8532,SMALL(IF(اقساط!$G$3:$G$8532=B2574,ROW($AT$3:$AT$8532)-ROW($AT$3)+1),ROWS($A$3:A2574))),\"\")","v":0},null,{"$f":"IFERROR(INDEX(اقساط!$B$3:$B$8532,SMALL(IF(اقساط!$G$3:$G$8532=B2574,ROW($B$3:$B$8532)-ROW($B$3)+1),ROWS($C$3:C2574))),\"\")","v":0}]
[{"$f":"IFERROR(INDEX(اقساط!$AT$3:$AT$8532,SMALL(IF(اقساط!$G$3:$G$8532=B2575,ROW($AT$3:$AT$8532)-ROW($AT$3)+1),ROWS($A$3:A2575))),\"\")","v":0},null,{"$f":"IFERROR(INDEX(اقساط!$B$3:$B$8532,SMALL(IF(اقساط!$G$3:$G$8532=B2575,ROW($B$3:$B$8532)-ROW($B$3)+1),ROWS($C$3:C2575))),\"\")","v":0}]
[{"$f":"IFERROR(INDEX(اقساط!$AT$3:$AT$8532,SMALL(IF(اقساط!$G$3:$G$8532=B2576,ROW($AT$3:$AT$8532)-ROW($AT$3)+1),ROWS($A$3:A2576))),\"\")","v":0},null,{"$f":"IFERROR(INDEX(اقساط!$B$3:$B$8532,SMALL(IF(اقساط!$G$3:$G$8532=B2576,ROW($B$3:$B$8532)-ROW($B$3)+1),ROWS($C$3:C2576))),\"\")","v":0}]
[{"$f":"IFERROR(INDEX(اقساط!$AT$3:$AT$8532,SMALL(IF(اقساط!$G$3:$G$8532=B2577,ROW($AT$3:$AT$8532)-ROW($AT$3)+1),ROWS($A$3:A2577))),\"\")","v":0},null,{"$f":"IFERROR(INDEX(اقساط!$B$3:$B$8532,SMALL(IF(اقساط!$G$3:$G$8532=B2577,ROW($B$3:$B$8532)-ROW($B$3)+1),ROWS($C$3:C2577))),\"\")","v":0}]
[{"$f":"IFERROR(INDEX(اقساط!$AT$3:$AT$8532,SMALL(IF(اقساط!$G$3:$G$8532=B2578,ROW($AT$3:$AT$8532)-ROW($AT$3)+1),ROWS($A$3:A2578))),\"\")","v":0},null,{"$f":"IFERROR(INDEX(اقساط!$B$3:$B$8532,SMALL(IF(اقساط!$G$3:$G$8532=B2578,ROW($B$3:$B$8532)-ROW($B$3)+1),ROWS($C$3:C2578))),\"\")","v":0}]
[{"$f":"IFERROR(INDEX(اقساط!$AT$3:$AT$8532,SMALL(IF(اقساط!$G$3:$G$8532=B2579,ROW($AT$3:$AT$8532)-ROW($AT$3)+1),ROWS($A$3:A2579))),\"\")","v":0},null,{"$f":"IFERROR(INDEX(اقساط!$B$3:$B$8532,SMALL(IF(اقساط!$G$3:$G$8532=B2579,ROW($B$3:$B$8532)-ROW($B$3)+1),ROWS($C$3:C2579))),\"\")","v":0}]
[{"$f":"IFERROR(INDEX(اقساط!$AT$3:$AT$8532,SMALL(IF(اقساط!$G$3:$G$8532=B2580,ROW($AT$3:$AT$8532)-ROW($AT$3)+1),ROWS($A$3:A2580))),\"\")","v":0},null,{"$f":"IFERROR(INDEX(اقساط!$B$3:$B$8532,SMALL(IF(اقساط!$G$3:$G$8532=B2580,ROW($B$3:$B$8532)-ROW($B$3)+1),ROWS($C$3:C2580))),\"\")","v":0}]
[{"$f":"IFERROR(INDEX(اقساط!$AT$3:$AT$8532,SMALL(IF(اقساط!$G$3:$G$8532=B2581,ROW($AT$3:$AT$8532)-ROW($AT$3)+1),ROWS($A$3:A2581))),\"\")","v":0},null,{"$f":"IFERROR(INDEX(اقساط!$B$3:$B$8532,SMALL(IF(اقساط!$G$3:$G$8532=B2581,ROW($B$3:$B$8532)-ROW($B$3)+1),ROWS($C$3:C2581))),\"\")","v":0}]
[{"$f":"IFERROR(INDEX(اقساط!$AT$3:$AT$8532,SMALL(IF(اقساط!$G$3:$G$8532=B2582,ROW($AT$3:$AT$8532)-ROW($AT$3)+1),ROWS($A$3:A2582))),\"\")","v":0},null,{"$f":"IFERROR(INDEX(اقساط!$B$3:$B$8532,SMALL(IF(اقساط!$G$3:$G$8532=B2582,ROW($B$3:$B$8532)-ROW($B$3)+1),ROWS($C$3:C2582))),\"\")","v":0}]
[{"$f":"IFERROR(INDEX(اقساط!$AT$3:$AT$8532,SMALL(IF(اقساط!$G$3:$G$8532=B2583,ROW($AT$3:$AT$8532)-ROW($AT$3)+1),ROWS($A$3:A2583))),\"\")","v":0},null,{"$f":"IFERROR(INDEX(اقساط!$B$3:$B$8532,SMALL(IF(اقساط!$G$3:$G$8532=B2583,ROW($B$3:$B$8532)-ROW($B$3)+1),ROWS($C$3:C2583))),\"\")","v":0}]
[{"$f":"IFERROR(INDEX(اقساط!$AT$3:$AT$8532,SMALL(IF(اقساط!$G$3:$G$8532=B2584,ROW($AT$3:$AT$8532)-ROW($AT$3)+1),ROWS($A$3:A2584))),\"\")","v":0},null,{"$f":"IFERROR(INDEX(اقساط!$B$3:$B$8532,SMALL(IF(اقساط!$G$3:$G$8532=B2584,ROW($B$3:$B$8532)-ROW($B$3)+1),ROWS($C$3:C2584))),\"\")","v":0}]
[{"$f":"IFERROR(INDEX(اقساط!$AT$3:$AT$8532,SMALL(IF(اقساط!$G$3:$G$8532=B2585,ROW($AT$3:$AT$8532)-ROW($AT$3)+1),ROWS($A$3:A2585))),\"\")","v":0},null,{"$f":"IFERROR(INDEX(اقساط!$B$3:$B$8532,SMALL(IF(اقساط!$G$3:$G$8532=B2585,ROW($B$3:$B$8532)-ROW($B$3)+1),ROWS($C$3:C2585))),\"\")","v":0}]
[{"$f":"IFERROR(INDEX(اقساط!$AT$3:$AT$8532,SMALL(IF(اقساط!$G$3:$G$8532=B2586,ROW($AT$3:$AT$8532)-ROW($AT$3)+1),ROWS($A$3:A2586))),\"\")","v":0},null,{"$f":"IFERROR(INDEX(اقساط!$B$3:$B$8532,SMALL(IF(اقساط!$G$3:$G$8532=B2586,ROW($B$3:$B$8532)-ROW($B$3)+1),ROWS($C$3:C2586))),\"\")","v":0}]
[{"$f":"IFERROR(INDEX(اقساط!$AT$3:$AT$8532,SMALL(IF(اقساط!$G$3:$G$8532=B2587,ROW($AT$3:$AT$8532)-ROW($AT$3)+1),ROWS($A$3:A2587))),\"\")","v":0},null,{"$f":"IFERROR(INDEX(اقساط!$B$3:$B$8532,SMALL(IF(اقساط!$G$3:$G$8532=B2587,ROW($B$3:$B$8532)-ROW($B$3)+1),ROWS($C$3:C2587))),\"\")","v":0}]
[{"$f":"IFERROR(INDEX(اقساط!$AT$3:$AT$8532,SMALL(IF(اقساط!$G$3:$G$8532=B2588,ROW($AT$3:$AT$8532)-ROW($AT$3)+1),ROWS($A$3:A2588))),\"\")","v":0},null,{"$f":"IFERROR(INDEX(اقساط!$B$3:$B$8532,SMALL(IF(اقساط!$G$3:$G$8532=B2588,ROW($B$3:$B$8532)-ROW($B$3)+1),ROWS($C$3:C2588))),\"\")","v":0}]
[{"$f":"IFERROR(INDEX(اقساط!$AT$3:$AT$8532,SMALL(IF(اقساط!$G$3:$G$8532=B2589,ROW($AT$3:$AT$8532)-ROW($AT$3)+1),ROWS($A$3:A2589))),\"\")","v":0},null,{"$f":"IFERROR(INDEX(اقساط!$B$3:$B$8532,SMALL(IF(اقساط!$G$3:$G$8532=B2589,ROW($B$3:$B$8532)-ROW($B$3)+1),ROWS($C$3:C2589))),\"\")","v":0}]
[{"$f":"IFERROR(INDEX(اقساط!$AT$3:$AT$8532,SMALL(IF(اقساط!$G$3:$G$8532=B2590,ROW($AT$3:$AT$8532)-ROW($AT$3)+1),ROWS($A$3:A2590))),\"\")","v":0},null,{"$f":"IFERROR(INDEX(اقساط!$B$3:$B$8532,SMALL(IF(اقساط!$G$3:$G$8532=B2590,ROW($B$3:$B$8532)-ROW($B$3)+1),ROWS($C$3:C2590))),\"\")","v":0}]
[{"$f":"IFERROR(INDEX(اقساط!$AT$3:$AT$8532,SMALL(IF(اقساط!$G$3:$G$8532=B2591,ROW($AT$3:$AT$8532)-ROW($AT$3)+1),ROWS($A$3:A2591))),\"\")","v":0},null,{"$f":"IFERROR(INDEX(اقساط!$B$3:$B$8532,SMALL(IF(اقساط!$G$3:$G$8532=B2591,ROW($B$3:$B$8532)-ROW($B$3)+1),ROWS($C$3:C2591))),\"\")","v":0}]
[{"$f":"IFERROR(INDEX(اقساط!$AT$3:$AT$8532,SMALL(IF(اقساط!$G$3:$G$8532=B2592,ROW($AT$3:$AT$8532)-ROW($AT$3)+1),ROWS($A$3:A2592))),\"\")","v":0},null,{"$f":"IFERROR(INDEX(اقساط!$B$3:$B$8532,SMALL(IF(اقساط!$G$3:$G$8532=B2592,ROW($B$3:$B$8532)-ROW($B$3)+1),ROWS($C$3:C2592))),\"\")","v":0}]
[{"$f":"IFERROR(INDEX(اقساط!$AT$3:$AT$8532,SMALL(IF(اقساط!$G$3:$G$8532=B2593,ROW($AT$3:$AT$8532)-ROW($AT$3)+1),ROWS($A$3:A2593))),\"\")","v":0},null,{"$f":"IFERROR(INDEX(اقساط!$B$3:$B$8532,SMALL(IF(اقساط!$G$3:$G$8532=B2593,ROW($B$3:$B$8532)-ROW($B$3)+1),ROWS($C$3:C2593))),\"\")","v":0}]
[{"$f":"IFERROR(INDEX(اقساط!$AT$3:$AT$8532,SMALL(IF(اقساط!$G$3:$G$8532=B2594,ROW($AT$3:$AT$8532)-ROW($AT$3)+1),ROWS($A$3:A2594))),\"\")","v":0},null,{"$f":"IFERROR(INDEX(اقساط!$B$3:$B$8532,SMALL(IF(اقساط!$G$3:$G$8532=B2594,ROW($B$3:$B$8532)-ROW($B$3)+1),ROWS($C$3:C2594))),\"\")","v":0}]
[{"$f":"IFERROR(INDEX(اقساط!$AT$3:$AT$8532,SMALL(IF(اقساط!$G$3:$G$8532=B2595,ROW($AT$3:$AT$8532)-ROW($AT$3)+1),ROWS($A$3:A2595))),\"\")","v":0},null,{"$f":"IFERROR(INDEX(اقساط!$B$3:$B$8532,SMALL(IF(اقساط!$G$3:$G$8532=B2595,ROW($B$3:$B$8532)-ROW($B$3)+1),ROWS($C$3:C2595))),\"\")","v":0}]
[{"$f":"IFERROR(INDEX(اقساط!$AT$3:$AT$8532,SMALL(IF(اقساط!$G$3:$G$8532=B2596,ROW($AT$3:$AT$8532)-ROW($AT$3)+1),ROWS($A$3:A2596))),\"\")","v":0},null,{"$f":"IFERROR(INDEX(اقساط!$B$3:$B$8532,SMALL(IF(اقساط!$G$3:$G$8532=B2596,ROW($B$3:$B$8532)-ROW($B$3)+1),ROWS($C$3:C2596))),\"\")","v":0}]
[{"$f":"IFERROR(INDEX(اقساط!$AT$3:$AT$8532,SMALL(IF(اقساط!$G$3:$G$8532=B2597,ROW($AT$3:$AT$8532)-ROW($AT$3)+1),ROWS($A$3:A2597))),\"\")","v":0},null,{"$f":"IFERROR(INDEX(اقساط!$B$3:$B$8532,SMALL(IF(اقساط!$G$3:$G$8532=B2597,ROW($B$3:$B$8532)-ROW($B$3)+1),ROWS($C$3:C2597))),\"\")","v":0}]
[{"$f":"IFERROR(INDEX(اقساط!$AT$3:$AT$8532,SMALL(IF(اقساط!$G$3:$G$8532=B2598,ROW($AT$3:$AT$8532)-ROW($AT$3)+1),ROWS($A$3:A2598))),\"\")","v":0},null,{"$f":"IFERROR(INDEX(اقساط!$B$3:$B$8532,SMALL(IF(اقساط!$G$3:$G$8532=B2598,ROW($B$3:$B$8532)-ROW($B$3)+1),ROWS($C$3:C2598))),\"\")","v":0}]
[{"$f":"IFERROR(INDEX(اقساط!$AT$3:$AT$8532,SMALL(IF(اقساط!$G$3:$G$8532=B2599,ROW($AT$3:$AT$8532)-ROW($AT$3)+1),ROWS($A$3:A2599))),\"\")","v":0},null,{"$f":"IFERROR(INDEX(اقساط!$B$3:$B$8532,SMALL(IF(اقساط!$G$3:$G$8532=B2599,ROW($B$3:$B$8532)-ROW($B$3)+1),ROWS($C$3:C2599))),\"\")","v":0}]
[{"$f":"IFERROR(INDEX(اقساط!$AT$3:$AT$8532,SMALL(IF(اقساط!$G$3:$G$8532=B2600,ROW($AT$3:$AT$8532)-ROW($AT$3)+1),ROWS($A$3:A2600))),\"\")","v":0},null,{"$f":"IFERROR(INDEX(اقساط!$B$3:$B$8532,SMALL(IF(اقساط!$G$3:$G$8532=B2600,ROW($B$3:$B$8532)-ROW($B$3)+1),ROWS($C$3:C2600))),\"\")","v":0}]
[{"$f":"IFERROR(INDEX(اقساط!$AT$3:$AT$8532,SMALL(IF(اقساط!$G$3:$G$8532=B2601,ROW($AT$3:$AT$8532)-ROW($AT$3)+1),ROWS($A$3:A2601))),\"\")","v":0},null,{"$f":"IFERROR(INDEX(اقساط!$B$3:$B$8532,SMALL(IF(اقساط!$G$3:$G$8532=B2601,ROW($B$3:$B$8532)-ROW($B$3)+1),ROWS($C$3:C2601))),\"\")","v":0}]
[{"$f":"IFERROR(INDEX(اقساط!$AT$3:$AT$8532,SMALL(IF(اقساط!$G$3:$G$8532=B2602,ROW($AT$3:$AT$8532)-ROW($AT$3)+1),ROWS($A$3:A2602))),\"\")","v":0},null,{"$f":"IFERROR(INDEX(اقساط!$B$3:$B$8532,SMALL(IF(اقساط!$G$3:$G$8532=B2602,ROW($B$3:$B$8532)-ROW($B$3)+1),ROWS($C$3:C2602))),\"\")","v":0}]
[{"$f":"IFERROR(INDEX(اقساط!$AT$3:$AT$8532,SMALL(IF(اقساط!$G$3:$G$8532=B2603,ROW($AT$3:$AT$8532)-ROW($AT$3)+1),ROWS($A$3:A2603))),\"\")","v":0},null,{"$f":"IFERROR(INDEX(اقساط!$B$3:$B$8532,SMALL(IF(اقساط!$G$3:$G$8532=B2603,ROW($B$3:$B$8532)-ROW($B$3)+1),ROWS($C$3:C2603))),\"\")","v":0}]
[{"$f":"IFERROR(INDEX(اقساط!$AT$3:$AT$8532,SMALL(IF(اقساط!$G$3:$G$8532=B2604,ROW($AT$3:$AT$8532)-ROW($AT$3)+1),ROWS($A$3:A2604))),\"\")","v":0},null,{"$f":"IFERROR(INDEX(اقساط!$B$3:$B$8532,SMALL(IF(اقساط!$G$3:$G$8532=B2604,ROW($B$3:$B$8532)-ROW($B$3)+1),ROWS($C$3:C2604))),\"\")","v":0}]
[{"$f":"IFERROR(INDEX(اقساط!$AT$3:$AT$8532,SMALL(IF(اقساط!$G$3:$G$8532=B2605,ROW($AT$3:$AT$8532)-ROW($AT$3)+1),ROWS($A$3:A2605))),\"\")","v":0},null,{"$f":"IFERROR(INDEX(اقساط!$B$3:$B$8532,SMALL(IF(اقساط!$G$3:$G$8532=B2605,ROW($B$3:$B$8532)-ROW($B$3)+1),ROWS($C$3:C2605))),\"\")","v":0}]
[{"$f":"IFERROR(INDEX(اقساط!$AT$3:$AT$8532,SMALL(IF(اقساط!$G$3:$G$8532=B2606,ROW($AT$3:$AT$8532)-ROW($AT$3)+1),ROWS($A$3:A2606))),\"\")","v":0},null,{"$f":"IFERROR(INDEX(اقساط!$B$3:$B$8532,SMALL(IF(اقساط!$G$3:$G$8532=B2606,ROW($B$3:$B$8532)-ROW($B$3)+1),ROWS($C$3:C2606))),\"\")","v":0}]
[{"$f":"IFERROR(INDEX(اقساط!$AT$3:$AT$8532,SMALL(IF(اقساط!$G$3:$G$8532=B2607,ROW($AT$3:$AT$8532)-ROW($AT$3)+1),ROWS($A$3:A2607))),\"\")","v":0},null,{"$f":"IFERROR(INDEX(اقساط!$B$3:$B$8532,SMALL(IF(اقساط!$G$3:$G$8532=B2607,ROW($B$3:$B$8532)-ROW($B$3)+1),ROWS($C$3:C2607))),\"\")","v":0}]
[{"$f":"IFERROR(INDEX(اقساط!$AT$3:$AT$8532,SMALL(IF(اقساط!$G$3:$G$8532=B2608,ROW($AT$3:$AT$8532)-ROW($AT$3)+1),ROWS($A$3:A2608))),\"\")","v":0},null,{"$f":"IFERROR(INDEX(اقساط!$B$3:$B$8532,SMALL(IF(اقساط!$G$3:$G$8532=B2608,ROW($B$3:$B$8532)-ROW($B$3)+1),ROWS($C$3:C2608))),\"\")","v":0}]
[{"$f":"IFERROR(INDEX(اقساط!$AT$3:$AT$8532,SMALL(IF(اقساط!$G$3:$G$8532=B2609,ROW($AT$3:$AT$8532)-ROW($AT$3)+1),ROWS($A$3:A2609))),\"\")","v":0},null,{"$f":"IFERROR(INDEX(اقساط!$B$3:$B$8532,SMALL(IF(اقساط!$G$3:$G$8532=B2609,ROW($B$3:$B$8532)-ROW($B$3)+1),ROWS($C$3:C2609))),\"\")","v":0}]
[{"$f":"IFERROR(INDEX(اقساط!$AT$3:$AT$8532,SMALL(IF(اقساط!$G$3:$G$8532=B2610,ROW($AT$3:$AT$8532)-ROW($AT$3)+1),ROWS($A$3:A2610))),\"\")","v":0},null,{"$f":"IFERROR(INDEX(اقساط!$B$3:$B$8532,SMALL(IF(اقساط!$G$3:$G$8532=B2610,ROW($B$3:$B$8532)-ROW($B$3)+1),ROWS($C$3:C2610))),\"\")","v":0}]
[{"$f":"IFERROR(INDEX(اقساط!$AT$3:$AT$8532,SMALL(IF(اقساط!$G$3:$G$8532=B2611,ROW($AT$3:$AT$8532)-ROW($AT$3)+1),ROWS($A$3:A2611))),\"\")","v":0},null,{"$f":"IFERROR(INDEX(اقساط!$B$3:$B$8532,SMALL(IF(اقساط!$G$3:$G$8532=B2611,ROW($B$3:$B$8532)-ROW($B$3)+1),ROWS($C$3:C2611))),\"\")","v":0}]
[{"$f":"IFERROR(INDEX(اقساط!$AT$3:$AT$8532,SMALL(IF(اقساط!$G$3:$G$8532=B2612,ROW($AT$3:$AT$8532)-ROW($AT$3)+1),ROWS($A$3:A2612))),\"\")","v":0},null,{"$f":"IFERROR(INDEX(اقساط!$B$3:$B$8532,SMALL(IF(اقساط!$G$3:$G$8532=B2612,ROW($B$3:$B$8532)-ROW($B$3)+1),ROWS($C$3:C2612))),\"\")","v":0}]
[{"$f":"IFERROR(INDEX(اقساط!$AT$3:$AT$8532,SMALL(IF(اقساط!$G$3:$G$8532=B2613,ROW($AT$3:$AT$8532)-ROW($AT$3)+1),ROWS($A$3:A2613))),\"\")","v":0},null,{"$f":"IFERROR(INDEX(اقساط!$B$3:$B$8532,SMALL(IF(اقساط!$G$3:$G$8532=B2613,ROW($B$3:$B$8532)-ROW($B$3)+1),ROWS($C$3:C2613))),\"\")","v":0}]
[{"$f":"IFERROR(INDEX(اقساط!$AT$3:$AT$8532,SMALL(IF(اقساط!$G$3:$G$8532=B2614,ROW($AT$3:$AT$8532)-ROW($AT$3)+1),ROWS($A$3:A2614))),\"\")","v":0},null,{"$f":"IFERROR(INDEX(اقساط!$B$3:$B$8532,SMALL(IF(اقساط!$G$3:$G$8532=B2614,ROW($B$3:$B$8532)-ROW($B$3)+1),ROWS($C$3:C2614))),\"\")","v":0}]
[{"$f":"IFERROR(INDEX(اقساط!$AT$3:$AT$8532,SMALL(IF(اقساط!$G$3:$G$8532=B2615,ROW($AT$3:$AT$8532)-ROW($AT$3)+1),ROWS($A$3:A2615))),\"\")","v":0},null,{"$f":"IFERROR(INDEX(اقساط!$B$3:$B$8532,SMALL(IF(اقساط!$G$3:$G$8532=B2615,ROW($B$3:$B$8532)-ROW($B$3)+1),ROWS($C$3:C2615))),\"\")","v":0}]
[{"$f":"IFERROR(INDEX(اقساط!$AT$3:$AT$8532,SMALL(IF(اقساط!$G$3:$G$8532=B2616,ROW($AT$3:$AT$8532)-ROW($AT$3)+1),ROWS($A$3:A2616))),\"\")","v":0},null,{"$f":"IFERROR(INDEX(اقساط!$B$3:$B$8532,SMALL(IF(اقساط!$G$3:$G$8532=B2616,ROW($B$3:$B$8532)-ROW($B$3)+1),ROWS($C$3:C2616))),\"\")","v":0}]
[{"$f":"IFERROR(INDEX(اقساط!$AT$3:$AT$8532,SMALL(IF(اقساط!$G$3:$G$8532=B2617,ROW($AT$3:$AT$8532)-ROW($AT$3)+1),ROWS($A$3:A2617))),\"\")","v":0},null,{"$f":"IFERROR(INDEX(اقساط!$B$3:$B$8532,SMALL(IF(اقساط!$G$3:$G$8532=B2617,ROW($B$3:$B$8532)-ROW($B$3)+1),ROWS($C$3:C2617))),\"\")","v":0}]
[{"$f":"IFERROR(INDEX(اقساط!$AT$3:$AT$8532,SMALL(IF(اقساط!$G$3:$G$8532=B2618,ROW($AT$3:$AT$8532)-ROW($AT$3)+1),ROWS($A$3:A2618))),\"\")","v":0},null,{"$f":"IFERROR(INDEX(اقساط!$B$3:$B$8532,SMALL(IF(اقساط!$G$3:$G$8532=B2618,ROW($B$3:$B$8532)-ROW($B$3)+1),ROWS($C$3:C2618))),\"\")","v":0}]
[{"$f":"IFERROR(INDEX(اقساط!$AT$3:$AT$8532,SMALL(IF(اقساط!$G$3:$G$8532=B2619,ROW($AT$3:$AT$8532)-ROW($AT$3)+1),ROWS($A$3:A2619))),\"\")","v":0},null,{"$f":"IFERROR(INDEX(اقساط!$B$3:$B$8532,SMALL(IF(اقساط!$G$3:$G$8532=B2619,ROW($B$3:$B$8532)-ROW($B$3)+1),ROWS($C$3:C2619))),\"\")","v":0}]
[{"$f":"IFERROR(INDEX(اقساط!$AT$3:$AT$8532,SMALL(IF(اقساط!$G$3:$G$8532=B2620,ROW($AT$3:$AT$8532)-ROW($AT$3)+1),ROWS($A$3:A2620))),\"\")","v":0},null,{"$f":"IFERROR(INDEX(اقساط!$B$3:$B$8532,SMALL(IF(اقساط!$G$3:$G$8532=B2620,ROW($B$3:$B$8532)-ROW($B$3)+1),ROWS($C$3:C2620))),\"\")","v":0}]
[{"$f":"IFERROR(INDEX(اقساط!$AT$3:$AT$8532,SMALL(IF(اقساط!$G$3:$G$8532=B2621,ROW($AT$3:$AT$8532)-ROW($AT$3)+1),ROWS($A$3:A2621))),\"\")","v":0},null,{"$f":"IFERROR(INDEX(اقساط!$B$3:$B$8532,SMALL(IF(اقساط!$G$3:$G$8532=B2621,ROW($B$3:$B$8532)-ROW($B$3)+1),ROWS($C$3:C2621))),\"\")","v":0}]
[{"$f":"IFERROR(INDEX(اقساط!$AT$3:$AT$8532,SMALL(IF(اقساط!$G$3:$G$8532=B2622,ROW($AT$3:$AT$8532)-ROW($AT$3)+1),ROWS($A$3:A2622))),\"\")","v":0},null,{"$f":"IFERROR(INDEX(اقساط!$B$3:$B$8532,SMALL(IF(اقساط!$G$3:$G$8532=B2622,ROW($B$3:$B$8532)-ROW($B$3)+1),ROWS($C$3:C2622))),\"\")","v":0}]
[{"$f":"IFERROR(INDEX(اقساط!$AT$3:$AT$8532,SMALL(IF(اقساط!$G$3:$G$8532=B2623,ROW($AT$3:$AT$8532)-ROW($AT$3)+1),ROWS($A$3:A2623))),\"\")","v":0},null,{"$f":"IFERROR(INDEX(اقساط!$B$3:$B$8532,SMALL(IF(اقساط!$G$3:$G$8532=B2623,ROW($B$3:$B$8532)-ROW($B$3)+1),ROWS($C$3:C2623))),\"\")","v":0}]
[{"$f":"IFERROR(INDEX(اقساط!$AT$3:$AT$8532,SMALL(IF(اقساط!$G$3:$G$8532=B2624,ROW($AT$3:$AT$8532)-ROW($AT$3)+1),ROWS($A$3:A2624))),\"\")","v":0},null,{"$f":"IFERROR(INDEX(اقساط!$B$3:$B$8532,SMALL(IF(اقساط!$G$3:$G$8532=B2624,ROW($B$3:$B$8532)-ROW($B$3)+1),ROWS($C$3:C2624))),\"\")","v":0}]
[{"$f":"IFERROR(INDEX(اقساط!$AT$3:$AT$8532,SMALL(IF(اقساط!$G$3:$G$8532=B2625,ROW($AT$3:$AT$8532)-ROW($AT$3)+1),ROWS($A$3:A2625))),\"\")","v":0},null,{"$f":"IFERROR(INDEX(اقساط!$B$3:$B$8532,SMALL(IF(اقساط!$G$3:$G$8532=B2625,ROW($B$3:$B$8532)-ROW($B$3)+1),ROWS($C$3:C2625))),\"\")","v":0}]
[{"$f":"IFERROR(INDEX(اقساط!$AT$3:$AT$8532,SMALL(IF(اقساط!$G$3:$G$8532=B2626,ROW($AT$3:$AT$8532)-ROW($AT$3)+1),ROWS($A$3:A2626))),\"\")","v":0},null,{"$f":"IFERROR(INDEX(اقساط!$B$3:$B$8532,SMALL(IF(اقساط!$G$3:$G$8532=B2626,ROW($B$3:$B$8532)-ROW($B$3)+1),ROWS($C$3:C2626))),\"\")","v":0}]
[{"$f":"IFERROR(INDEX(اقساط!$AT$3:$AT$8532,SMALL(IF(اقساط!$G$3:$G$8532=B2627,ROW($AT$3:$AT$8532)-ROW($AT$3)+1),ROWS($A$3:A2627))),\"\")","v":0},null,{"$f":"IFERROR(INDEX(اقساط!$B$3:$B$8532,SMALL(IF(اقساط!$G$3:$G$8532=B2627,ROW($B$3:$B$8532)-ROW($B$3)+1),ROWS($C$3:C2627))),\"\")","v":0}]
[{"$f":"IFERROR(INDEX(اقساط!$AT$3:$AT$8532,SMALL(IF(اقساط!$G$3:$G$8532=B2628,ROW($AT$3:$AT$8532)-ROW($AT$3)+1),ROWS($A$3:A2628))),\"\")","v":0},null,{"$f":"IFERROR(INDEX(اقساط!$B$3:$B$8532,SMALL(IF(اقساط!$G$3:$G$8532=B2628,ROW($B$3:$B$8532)-ROW($B$3)+1),ROWS($C$3:C2628))),\"\")","v":0}]
[{"$f":"IFERROR(INDEX(اقساط!$AT$3:$AT$8532,SMALL(IF(اقساط!$G$3:$G$8532=B2629,ROW($AT$3:$AT$8532)-ROW($AT$3)+1),ROWS($A$3:A2629))),\"\")","v":0},null,{"$f":"IFERROR(INDEX(اقساط!$B$3:$B$8532,SMALL(IF(اقساط!$G$3:$G$8532=B2629,ROW($B$3:$B$8532)-ROW($B$3)+1),ROWS($C$3:C2629))),\"\")","v":0}]
[{"$f":"IFERROR(INDEX(اقساط!$AT$3:$AT$8532,SMALL(IF(اقساط!$G$3:$G$8532=B2630,ROW($AT$3:$AT$8532)-ROW($AT$3)+1),ROWS($A$3:A2630))),\"\")","v":0},null,{"$f":"IFERROR(INDEX(اقساط!$B$3:$B$8532,SMALL(IF(اقساط!$G$3:$G$8532=B2630,ROW($B$3:$B$8532)-ROW($B$3)+1),ROWS($C$3:C2630))),\"\")","v":0}]
[{"$f":"IFERROR(INDEX(اقساط!$AT$3:$AT$8532,SMALL(IF(اقساط!$G$3:$G$8532=B2631,ROW($AT$3:$AT$8532)-ROW($AT$3)+1),ROWS($A$3:A2631))),\"\")","v":0},null,{"$f":"IFERROR(INDEX(اقساط!$B$3:$B$8532,SMALL(IF(اقساط!$G$3:$G$8532=B2631,ROW($B$3:$B$8532)-ROW($B$3)+1),ROWS($C$3:C2631))),\"\")","v":0}]
[{"$f":"IFERROR(INDEX(اقساط!$AT$3:$AT$8532,SMALL(IF(اقساط!$G$3:$G$8532=B2632,ROW($AT$3:$AT$8532)-ROW($AT$3)+1),ROWS($A$3:A2632))),\"\")","v":0},null,{"$f":"IFERROR(INDEX(اقساط!$B$3:$B$8532,SMALL(IF(اقساط!$G$3:$G$8532=B2632,ROW($B$3:$B$8532)-ROW($B$3)+1),ROWS($C$3:C2632))),\"\")","v":0}]
[{"$f":"IFERROR(INDEX(اقساط!$AT$3:$AT$8532,SMALL(IF(اقساط!$G$3:$G$8532=B2633,ROW($AT$3:$AT$8532)-ROW($AT$3)+1),ROWS($A$3:A2633))),\"\")","v":0},null,{"$f":"IFERROR(INDEX(اقساط!$B$3:$B$8532,SMALL(IF(اقساط!$G$3:$G$8532=B2633,ROW($B$3:$B$8532)-ROW($B$3)+1),ROWS($C$3:C2633))),\"\")","v":0}]
[{"$f":"IFERROR(INDEX(اقساط!$AT$3:$AT$8532,SMALL(IF(اقساط!$G$3:$G$8532=B2634,ROW($AT$3:$AT$8532)-ROW($AT$3)+1),ROWS($A$3:A2634))),\"\")","v":0},null,{"$f":"IFERROR(INDEX(اقساط!$B$3:$B$8532,SMALL(IF(اقساط!$G$3:$G$8532=B2634,ROW($B$3:$B$8532)-ROW($B$3)+1),ROWS($C$3:C2634))),\"\")","v":0}]
[{"$f":"IFERROR(INDEX(اقساط!$AT$3:$AT$8532,SMALL(IF(اقساط!$G$3:$G$8532=B2635,ROW($AT$3:$AT$8532)-ROW($AT$3)+1),ROWS($A$3:A2635))),\"\")","v":0},null,{"$f":"IFERROR(INDEX(اقساط!$B$3:$B$8532,SMALL(IF(اقساط!$G$3:$G$8532=B2635,ROW($B$3:$B$8532)-ROW($B$3)+1),ROWS($C$3:C2635))),\"\")","v":0}]
[{"$f":"IFERROR(INDEX(اقساط!$AT$3:$AT$8532,SMALL(IF(اقساط!$G$3:$G$8532=B2636,ROW($AT$3:$AT$8532)-ROW($AT$3)+1),ROWS($A$3:A2636))),\"\")","v":0},null,{"$f":"IFERROR(INDEX(اقساط!$B$3:$B$8532,SMALL(IF(اقساط!$G$3:$G$8532=B2636,ROW($B$3:$B$8532)-ROW($B$3)+1),ROWS($C$3:C2636))),\"\")","v":0}]
[{"$f":"IFERROR(INDEX(اقساط!$AT$3:$AT$8532,SMALL(IF(اقساط!$G$3:$G$8532=B2637,ROW($AT$3:$AT$8532)-ROW($AT$3)+1),ROWS($A$3:A2637))),\"\")","v":0},null,{"$f":"IFERROR(INDEX(اقساط!$B$3:$B$8532,SMALL(IF(اقساط!$G$3:$G$8532=B2637,ROW($B$3:$B$8532)-ROW($B$3)+1),ROWS($C$3:C2637))),\"\")","v":0}]
[{"$f":"IFERROR(INDEX(اقساط!$AT$3:$AT$8532,SMALL(IF(اقساط!$G$3:$G$8532=B2638,ROW($AT$3:$AT$8532)-ROW($AT$3)+1),ROWS($A$3:A2638))),\"\")","v":0},null,{"$f":"IFERROR(INDEX(اقساط!$B$3:$B$8532,SMALL(IF(اقساط!$G$3:$G$8532=B2638,ROW($B$3:$B$8532)-ROW($B$3)+1),ROWS($C$3:C2638))),\"\")","v":0}]
[{"$f":"IFERROR(INDEX(اقساط!$AT$3:$AT$8532,SMALL(IF(اقساط!$G$3:$G$8532=B2639,ROW($AT$3:$AT$8532)-ROW($AT$3)+1),ROWS($A$3:A2639))),\"\")","v":0},null,{"$f":"IFERROR(INDEX(اقساط!$B$3:$B$8532,SMALL(IF(اقساط!$G$3:$G$8532=B2639,ROW($B$3:$B$8532)-ROW($B$3)+1),ROWS($C$3:C2639))),\"\")","v":0}]
[{"$f":"IFERROR(INDEX(اقساط!$AT$3:$AT$8532,SMALL(IF(اقساط!$G$3:$G$8532=B2640,ROW($AT$3:$AT$8532)-ROW($AT$3)+1),ROWS($A$3:A2640))),\"\")","v":0},null,{"$f":"IFERROR(INDEX(اقساط!$B$3:$B$8532,SMALL(IF(اقساط!$G$3:$G$8532=B2640,ROW($B$3:$B$8532)-ROW($B$3)+1),ROWS($C$3:C2640))),\"\")","v":0}]
[{"$f":"IFERROR(INDEX(اقساط!$AT$3:$AT$8532,SMALL(IF(اقساط!$G$3:$G$8532=B2641,ROW($AT$3:$AT$8532)-ROW($AT$3)+1),ROWS($A$3:A2641))),\"\")","v":0},null,{"$f":"IFERROR(INDEX(اقساط!$B$3:$B$8532,SMALL(IF(اقساط!$G$3:$G$8532=B2641,ROW($B$3:$B$8532)-ROW($B$3)+1),ROWS($C$3:C2641))),\"\")","v":0}]
[{"$f":"IFERROR(INDEX(اقساط!$AT$3:$AT$8532,SMALL(IF(اقساط!$G$3:$G$8532=B2642,ROW($AT$3:$AT$8532)-ROW($AT$3)+1),ROWS($A$3:A2642))),\"\")","v":0},null,{"$f":"IFERROR(INDEX(اقساط!$B$3:$B$8532,SMALL(IF(اقساط!$G$3:$G$8532=B2642,ROW($B$3:$B$8532)-ROW($B$3)+1),ROWS($C$3:C2642))),\"\")","v":0}]
[{"$f":"IFERROR(INDEX(اقساط!$AT$3:$AT$8532,SMALL(IF(اقساط!$G$3:$G$8532=B2643,ROW($AT$3:$AT$8532)-ROW($AT$3)+1),ROWS($A$3:A2643))),\"\")","v":0},null,{"$f":"IFERROR(INDEX(اقساط!$B$3:$B$8532,SMALL(IF(اقساط!$G$3:$G$8532=B2643,ROW($B$3:$B$8532)-ROW($B$3)+1),ROWS($C$3:C2643))),\"\")","v":0}]
[{"$f":"IFERROR(INDEX(اقساط!$AT$3:$AT$8532,SMALL(IF(اقساط!$G$3:$G$8532=B2644,ROW($AT$3:$AT$8532)-ROW($AT$3)+1),ROWS($A$3:A2644))),\"\")","v":0},null,{"$f":"IFERROR(INDEX(اقساط!$B$3:$B$8532,SMALL(IF(اقساط!$G$3:$G$8532=B2644,ROW($B$3:$B$8532)-ROW($B$3)+1),ROWS($C$3:C2644))),\"\")","v":0}]
[{"$f":"IFERROR(INDEX(اقساط!$AT$3:$AT$8532,SMALL(IF(اقساط!$G$3:$G$8532=B2645,ROW($AT$3:$AT$8532)-ROW($AT$3)+1),ROWS($A$3:A2645))),\"\")","v":0},null,{"$f":"IFERROR(INDEX(اقساط!$B$3:$B$8532,SMALL(IF(اقساط!$G$3:$G$8532=B2645,ROW($B$3:$B$8532)-ROW($B$3)+1),ROWS($C$3:C2645))),\"\")","v":0}]
[{"$f":"IFERROR(INDEX(اقساط!$AT$3:$AT$8532,SMALL(IF(اقساط!$G$3:$G$8532=B2646,ROW($AT$3:$AT$8532)-ROW($AT$3)+1),ROWS($A$3:A2646))),\"\")","v":0},null,{"$f":"IFERROR(INDEX(اقساط!$B$3:$B$8532,SMALL(IF(اقساط!$G$3:$G$8532=B2646,ROW($B$3:$B$8532)-ROW($B$3)+1),ROWS($C$3:C2646))),\"\")","v":0}]
[{"$f":"IFERROR(INDEX(اقساط!$AT$3:$AT$8532,SMALL(IF(اقساط!$G$3:$G$8532=B2647,ROW($AT$3:$AT$8532)-ROW($AT$3)+1),ROWS($A$3:A2647))),\"\")","v":0},null,{"$f":"IFERROR(INDEX(اقساط!$B$3:$B$8532,SMALL(IF(اقساط!$G$3:$G$8532=B2647,ROW($B$3:$B$8532)-ROW($B$3)+1),ROWS($C$3:C2647))),\"\")","v":0}]
[{"$f":"IFERROR(INDEX(اقساط!$AT$3:$AT$8532,SMALL(IF(اقساط!$G$3:$G$8532=B2648,ROW($AT$3:$AT$8532)-ROW($AT$3)+1),ROWS($A$3:A2648))),\"\")","v":0},null,{"$f":"IFERROR(INDEX(اقساط!$B$3:$B$8532,SMALL(IF(اقساط!$G$3:$G$8532=B2648,ROW($B$3:$B$8532)-ROW($B$3)+1),ROWS($C$3:C2648))),\"\")","v":0}]
[{"$f":"IFERROR(INDEX(اقساط!$AT$3:$AT$8532,SMALL(IF(اقساط!$G$3:$G$8532=B2649,ROW($AT$3:$AT$8532)-ROW($AT$3)+1),ROWS($A$3:A2649))),\"\")","v":0},null,{"$f":"IFERROR(INDEX(اقساط!$B$3:$B$8532,SMALL(IF(اقساط!$G$3:$G$8532=B2649,ROW($B$3:$B$8532)-ROW($B$3)+1),ROWS($C$3:C2649))),\"\")","v":0}]
[{"$f":"IFERROR(INDEX(اقساط!$AT$3:$AT$8532,SMALL(IF(اقساط!$G$3:$G$8532=B2650,ROW($AT$3:$AT$8532)-ROW($AT$3)+1),ROWS($A$3:A2650))),\"\")","v":0},null,{"$f":"IFERROR(INDEX(اقساط!$B$3:$B$8532,SMALL(IF(اقساط!$G$3:$G$8532=B2650,ROW($B$3:$B$8532)-ROW($B$3)+1),ROWS($C$3:C2650))),\"\")","v":0}]
[{"$f":"IFERROR(INDEX(اقساط!$AT$3:$AT$8532,SMALL(IF(اقساط!$G$3:$G$8532=B2651,ROW($AT$3:$AT$8532)-ROW($AT$3)+1),ROWS($A$3:A2651))),\"\")","v":0},null,{"$f":"IFERROR(INDEX(اقساط!$B$3:$B$8532,SMALL(IF(اقساط!$G$3:$G$8532=B2651,ROW($B$3:$B$8532)-ROW($B$3)+1),ROWS($C$3:C2651))),\"\")","v":0}]
[{"$f":"IFERROR(INDEX(اقساط!$AT$3:$AT$8532,SMALL(IF(اقساط!$G$3:$G$8532=B2652,ROW($AT$3:$AT$8532)-ROW($AT$3)+1),ROWS($A$3:A2652))),\"\")","v":0},null,{"$f":"IFERROR(INDEX(اقساط!$B$3:$B$8532,SMALL(IF(اقساط!$G$3:$G$8532=B2652,ROW($B$3:$B$8532)-ROW($B$3)+1),ROWS($C$3:C2652))),\"\")","v":0}]
[{"$f":"IFERROR(INDEX(اقساط!$AT$3:$AT$8532,SMALL(IF(اقساط!$G$3:$G$8532=B2653,ROW($AT$3:$AT$8532)-ROW($AT$3)+1),ROWS($A$3:A2653))),\"\")","v":0},null,{"$f":"IFERROR(INDEX(اقساط!$B$3:$B$8532,SMALL(IF(اقساط!$G$3:$G$8532=B2653,ROW($B$3:$B$8532)-ROW($B$3)+1),ROWS($C$3:C2653))),\"\")","v":0}]
[{"$f":"IFERROR(INDEX(اقساط!$AT$3:$AT$8532,SMALL(IF(اقساط!$G$3:$G$8532=B2654,ROW($AT$3:$AT$8532)-ROW($AT$3)+1),ROWS($A$3:A2654))),\"\")","v":0},null,{"$f":"IFERROR(INDEX(اقساط!$B$3:$B$8532,SMALL(IF(اقساط!$G$3:$G$8532=B2654,ROW($B$3:$B$8532)-ROW($B$3)+1),ROWS($C$3:C2654))),\"\")","v":0}]
[{"$f":"IFERROR(INDEX(اقساط!$AT$3:$AT$8532,SMALL(IF(اقساط!$G$3:$G$8532=B2655,ROW($AT$3:$AT$8532)-ROW($AT$3)+1),ROWS($A$3:A2655))),\"\")","v":0},null,{"$f":"IFERROR(INDEX(اقساط!$B$3:$B$8532,SMALL(IF(اقساط!$G$3:$G$8532=B2655,ROW($B$3:$B$8532)-ROW($B$3)+1),ROWS($C$3:C2655))),\"\")","v":0}]
[{"$f":"IFERROR(INDEX(اقساط!$AT$3:$AT$8532,SMALL(IF(اقساط!$G$3:$G$8532=B2656,ROW($AT$3:$AT$8532)-ROW($AT$3)+1),ROWS($A$3:A2656))),\"\")","v":0},null,{"$f":"IFERROR(INDEX(اقساط!$B$3:$B$8532,SMALL(IF(اقساط!$G$3:$G$8532=B2656,ROW($B$3:$B$8532)-ROW($B$3)+1),ROWS($C$3:C2656))),\"\")","v":0}]
[{"$f":"IFERROR(INDEX(اقساط!$AT$3:$AT$8532,SMALL(IF(اقساط!$G$3:$G$8532=B2657,ROW($AT$3:$AT$8532)-ROW($AT$3)+1),ROWS($A$3:A2657))),\"\")","v":0},null,{"$f":"IFERROR(INDEX(اقساط!$B$3:$B$8532,SMALL(IF(اقساط!$G$3:$G$8532=B2657,ROW($B$3:$B$8532)-ROW($B$3)+1),ROWS($C$3:C2657))),\"\")","v":0}]
[{"$f":"IFERROR(INDEX(اقساط!$AT$3:$AT$8532,SMALL(IF(اقساط!$G$3:$G$8532=B2658,ROW($AT$3:$AT$8532)-ROW($AT$3)+1),ROWS($A$3:A2658))),\"\")","v":0},null,{"$f":"IFERROR(INDEX(اقساط!$B$3:$B$8532,SMALL(IF(اقساط!$G$3:$G$8532=B2658,ROW($B$3:$B$8532)-ROW($B$3)+1),ROWS($C$3:C2658))),\"\")","v":0}]
[{"$f":"IFERROR(INDEX(اقساط!$AT$3:$AT$8532,SMALL(IF(اقساط!$G$3:$G$8532=B2659,ROW($AT$3:$AT$8532)-ROW($AT$3)+1),ROWS($A$3:A2659))),\"\")","v":0},null,{"$f":"IFERROR(INDEX(اقساط!$B$3:$B$8532,SMALL(IF(اقساط!$G$3:$G$8532=B2659,ROW($B$3:$B$8532)-ROW($B$3)+1),ROWS($C$3:C2659))),\"\")","v":0}]
[{"$f":"IFERROR(INDEX(اقساط!$AT$3:$AT$8532,SMALL(IF(اقساط!$G$3:$G$8532=B2660,ROW($AT$3:$AT$8532)-ROW($AT$3)+1),ROWS($A$3:A2660))),\"\")","v":0},null,{"$f":"IFERROR(INDEX(اقساط!$B$3:$B$8532,SMALL(IF(اقساط!$G$3:$G$8532=B2660,ROW($B$3:$B$8532)-ROW($B$3)+1),ROWS($C$3:C2660))),\"\")","v":0}]
[{"$f":"IFERROR(INDEX(اقساط!$AT$3:$AT$8532,SMALL(IF(اقساط!$G$3:$G$8532=B2661,ROW($AT$3:$AT$8532)-ROW($AT$3)+1),ROWS($A$3:A2661))),\"\")","v":0},null,{"$f":"IFERROR(INDEX(اقساط!$B$3:$B$8532,SMALL(IF(اقساط!$G$3:$G$8532=B2661,ROW($B$3:$B$8532)-ROW($B$3)+1),ROWS($C$3:C2661))),\"\")","v":0}]
[{"$f":"IFERROR(INDEX(اقساط!$AT$3:$AT$8532,SMALL(IF(اقساط!$G$3:$G$8532=B2662,ROW($AT$3:$AT$8532)-ROW($AT$3)+1),ROWS($A$3:A2662))),\"\")","v":0},null,{"$f":"IFERROR(INDEX(اقساط!$B$3:$B$8532,SMALL(IF(اقساط!$G$3:$G$8532=B2662,ROW($B$3:$B$8532)-ROW($B$3)+1),ROWS($C$3:C2662))),\"\")","v":0}]
[{"$f":"IFERROR(INDEX(اقساط!$AT$3:$AT$8532,SMALL(IF(اقساط!$G$3:$G$8532=B2663,ROW($AT$3:$AT$8532)-ROW($AT$3)+1),ROWS($A$3:A2663))),\"\")","v":0},null,{"$f":"IFERROR(INDEX(اقساط!$B$3:$B$8532,SMALL(IF(اقساط!$G$3:$G$8532=B2663,ROW($B$3:$B$8532)-ROW($B$3)+1),ROWS($C$3:C2663))),\"\")","v":0}]
[{"$f":"IFERROR(INDEX(اقساط!$AT$3:$AT$8532,SMALL(IF(اقساط!$G$3:$G$8532=B2664,ROW($AT$3:$AT$8532)-ROW($AT$3)+1),ROWS($A$3:A2664))),\"\")","v":0},null,{"$f":"IFERROR(INDEX(اقساط!$B$3:$B$8532,SMALL(IF(اقساط!$G$3:$G$8532=B2664,ROW($B$3:$B$8532)-ROW($B$3)+1),ROWS($C$3:C2664))),\"\")","v":0}]
[{"$f":"IFERROR(INDEX(اقساط!$AT$3:$AT$8532,SMALL(IF(اقساط!$G$3:$G$8532=B2665,ROW($AT$3:$AT$8532)-ROW($AT$3)+1),ROWS($A$3:A2665))),\"\")","v":0},null,{"$f":"IFERROR(INDEX(اقساط!$B$3:$B$8532,SMALL(IF(اقساط!$G$3:$G$8532=B2665,ROW($B$3:$B$8532)-ROW($B$3)+1),ROWS($C$3:C2665))),\"\")","v":0}]
[{"$f":"IFERROR(INDEX(اقساط!$AT$3:$AT$8532,SMALL(IF(اقساط!$G$3:$G$8532=B2666,ROW($AT$3:$AT$8532)-ROW($AT$3)+1),ROWS($A$3:A2666))),\"\")","v":0},null,{"$f":"IFERROR(INDEX(اقساط!$B$3:$B$8532,SMALL(IF(اقساط!$G$3:$G$8532=B2666,ROW($B$3:$B$8532)-ROW($B$3)+1),ROWS($C$3:C2666))),\"\")","v":0}]
[{"$f":"IFERROR(INDEX(اقساط!$AT$3:$AT$8532,SMALL(IF(اقساط!$G$3:$G$8532=B2667,ROW($AT$3:$AT$8532)-ROW($AT$3)+1),ROWS($A$3:A2667))),\"\")","v":0},null,{"$f":"IFERROR(INDEX(اقساط!$B$3:$B$8532,SMALL(IF(اقساط!$G$3:$G$8532=B2667,ROW($B$3:$B$8532)-ROW($B$3)+1),ROWS($C$3:C2667))),\"\")","v":0}]
[{"$f":"IFERROR(INDEX(اقساط!$AT$3:$AT$8532,SMALL(IF(اقساط!$G$3:$G$8532=B2668,ROW($AT$3:$AT$8532)-ROW($AT$3)+1),ROWS($A$3:A2668))),\"\")","v":0},null,{"$f":"IFERROR(INDEX(اقساط!$B$3:$B$8532,SMALL(IF(اقساط!$G$3:$G$8532=B2668,ROW($B$3:$B$8532)-ROW($B$3)+1),ROWS($C$3:C2668))),\"\")","v":0}]
[{"$f":"IFERROR(INDEX(اقساط!$AT$3:$AT$8532,SMALL(IF(اقساط!$G$3:$G$8532=B2669,ROW($AT$3:$AT$8532)-ROW($AT$3)+1),ROWS($A$3:A2669))),\"\")","v":0},null,{"$f":"IFERROR(INDEX(اقساط!$B$3:$B$8532,SMALL(IF(اقساط!$G$3:$G$8532=B2669,ROW($B$3:$B$8532)-ROW($B$3)+1),ROWS($C$3:C2669))),\"\")","v":0}]
[{"$f":"IFERROR(INDEX(اقساط!$AT$3:$AT$8532,SMALL(IF(اقساط!$G$3:$G$8532=B2670,ROW($AT$3:$AT$8532)-ROW($AT$3)+1),ROWS($A$3:A2670))),\"\")","v":0},null,{"$f":"IFERROR(INDEX(اقساط!$B$3:$B$8532,SMALL(IF(اقساط!$G$3:$G$8532=B2670,ROW($B$3:$B$8532)-ROW($B$3)+1),ROWS($C$3:C2670))),\"\")","v":0}]
[{"$f":"IFERROR(INDEX(اقساط!$AT$3:$AT$8532,SMALL(IF(اقساط!$G$3:$G$8532=B2671,ROW($AT$3:$AT$8532)-ROW($AT$3)+1),ROWS($A$3:A2671))),\"\")","v":0},null,{"$f":"IFERROR(INDEX(اقساط!$B$3:$B$8532,SMALL(IF(اقساط!$G$3:$G$8532=B2671,ROW($B$3:$B$8532)-ROW($B$3)+1),ROWS($C$3:C2671))),\"\")","v":0}]
[{"$f":"IFERROR(INDEX(اقساط!$AT$3:$AT$8532,SMALL(IF(اقساط!$G$3:$G$8532=B2672,ROW($AT$3:$AT$8532)-ROW($AT$3)+1),ROWS($A$3:A2672))),\"\")","v":0},null,{"$f":"IFERROR(INDEX(اقساط!$B$3:$B$8532,SMALL(IF(اقساط!$G$3:$G$8532=B2672,ROW($B$3:$B$8532)-ROW($B$3)+1),ROWS($C$3:C2672))),\"\")","v":0}]
[{"$f":"IFERROR(INDEX(اقساط!$AT$3:$AT$8532,SMALL(IF(اقساط!$G$3:$G$8532=B2673,ROW($AT$3:$AT$8532)-ROW($AT$3)+1),ROWS($A$3:A2673))),\"\")","v":0},null,{"$f":"IFERROR(INDEX(اقساط!$B$3:$B$8532,SMALL(IF(اقساط!$G$3:$G$8532=B2673,ROW($B$3:$B$8532)-ROW($B$3)+1),ROWS($C$3:C2673))),\"\")","v":0}]
[{"$f":"IFERROR(INDEX(اقساط!$AT$3:$AT$8532,SMALL(IF(اقساط!$G$3:$G$8532=B2674,ROW($AT$3:$AT$8532)-ROW($AT$3)+1),ROWS($A$3:A2674))),\"\")","v":0},null,{"$f":"IFERROR(INDEX(اقساط!$B$3:$B$8532,SMALL(IF(اقساط!$G$3:$G$8532=B2674,ROW($B$3:$B$8532)-ROW($B$3)+1),ROWS($C$3:C2674))),\"\")","v":0}]
[{"$f":"IFERROR(INDEX(اقساط!$AT$3:$AT$8532,SMALL(IF(اقساط!$G$3:$G$8532=B2675,ROW($AT$3:$AT$8532)-ROW($AT$3)+1),ROWS($A$3:A2675))),\"\")","v":0},null,{"$f":"IFERROR(INDEX(اقساط!$B$3:$B$8532,SMALL(IF(اقساط!$G$3:$G$8532=B2675,ROW($B$3:$B$8532)-ROW($B$3)+1),ROWS($C$3:C2675))),\"\")","v":0}]
[{"$f":"IFERROR(INDEX(اقساط!$AT$3:$AT$8532,SMALL(IF(اقساط!$G$3:$G$8532=B2676,ROW($AT$3:$AT$8532)-ROW($AT$3)+1),ROWS($A$3:A2676))),\"\")","v":0},null,{"$f":"IFERROR(INDEX(اقساط!$B$3:$B$8532,SMALL(IF(اقساط!$G$3:$G$8532=B2676,ROW($B$3:$B$8532)-ROW($B$3)+1),ROWS($C$3:C2676))),\"\")","v":0}]
[{"$f":"IFERROR(INDEX(اقساط!$AT$3:$AT$8532,SMALL(IF(اقساط!$G$3:$G$8532=B2677,ROW($AT$3:$AT$8532)-ROW($AT$3)+1),ROWS($A$3:A2677))),\"\")","v":0},null,{"$f":"IFERROR(INDEX(اقساط!$B$3:$B$8532,SMALL(IF(اقساط!$G$3:$G$8532=B2677,ROW($B$3:$B$8532)-ROW($B$3)+1),ROWS($C$3:C2677))),\"\")","v":0}]
[{"$f":"IFERROR(INDEX(اقساط!$AT$3:$AT$8532,SMALL(IF(اقساط!$G$3:$G$8532=B2678,ROW($AT$3:$AT$8532)-ROW($AT$3)+1),ROWS($A$3:A2678))),\"\")","v":0},null,{"$f":"IFERROR(INDEX(اقساط!$B$3:$B$8532,SMALL(IF(اقساط!$G$3:$G$8532=B2678,ROW($B$3:$B$8532)-ROW($B$3)+1),ROWS($C$3:C2678))),\"\")","v":0}]
[{"$f":"IFERROR(INDEX(اقساط!$AT$3:$AT$8532,SMALL(IF(اقساط!$G$3:$G$8532=B2679,ROW($AT$3:$AT$8532)-ROW($AT$3)+1),ROWS($A$3:A2679))),\"\")","v":0},null,{"$f":"IFERROR(INDEX(اقساط!$B$3:$B$8532,SMALL(IF(اقساط!$G$3:$G$8532=B2679,ROW($B$3:$B$8532)-ROW($B$3)+1),ROWS($C$3:C2679))),\"\")","v":0}]
[{"$f":"IFERROR(INDEX(اقساط!$AT$3:$AT$8532,SMALL(IF(اقساط!$G$3:$G$8532=B2680,ROW($AT$3:$AT$8532)-ROW($AT$3)+1),ROWS($A$3:A2680))),\"\")","v":0},null,{"$f":"IFERROR(INDEX(اقساط!$B$3:$B$8532,SMALL(IF(اقساط!$G$3:$G$8532=B2680,ROW($B$3:$B$8532)-ROW($B$3)+1),ROWS($C$3:C2680))),\"\")","v":0}]
[{"$f":"IFERROR(INDEX(اقساط!$AT$3:$AT$8532,SMALL(IF(اقساط!$G$3:$G$8532=B2681,ROW($AT$3:$AT$8532)-ROW($AT$3)+1),ROWS($A$3:A2681))),\"\")","v":0},null,{"$f":"IFERROR(INDEX(اقساط!$B$3:$B$8532,SMALL(IF(اقساط!$G$3:$G$8532=B2681,ROW($B$3:$B$8532)-ROW($B$3)+1),ROWS($C$3:C2681))),\"\")","v":0}]
[{"$f":"IFERROR(INDEX(اقساط!$AT$3:$AT$8532,SMALL(IF(اقساط!$G$3:$G$8532=B2682,ROW($AT$3:$AT$8532)-ROW($AT$3)+1),ROWS($A$3:A2682))),\"\")","v":0},null,{"$f":"IFERROR(INDEX(اقساط!$B$3:$B$8532,SMALL(IF(اقساط!$G$3:$G$8532=B2682,ROW($B$3:$B$8532)-ROW($B$3)+1),ROWS($C$3:C2682))),\"\")","v":0}]
[{"$f":"IFERROR(INDEX(اقساط!$AT$3:$AT$8532,SMALL(IF(اقساط!$G$3:$G$8532=B2683,ROW($AT$3:$AT$8532)-ROW($AT$3)+1),ROWS($A$3:A2683))),\"\")","v":0},null,{"$f":"IFERROR(INDEX(اقساط!$B$3:$B$8532,SMALL(IF(اقساط!$G$3:$G$8532=B2683,ROW($B$3:$B$8532)-ROW($B$3)+1),ROWS($C$3:C2683))),\"\")","v":0}]
[{"$f":"IFERROR(INDEX(اقساط!$AT$3:$AT$8532,SMALL(IF(اقساط!$G$3:$G$8532=B2684,ROW($AT$3:$AT$8532)-ROW($AT$3)+1),ROWS($A$3:A2684))),\"\")","v":0},null,{"$f":"IFERROR(INDEX(اقساط!$B$3:$B$8532,SMALL(IF(اقساط!$G$3:$G$8532=B2684,ROW($B$3:$B$8532)-ROW($B$3)+1),ROWS($C$3:C2684))),\"\")","v":0}]
[{"$f":"IFERROR(INDEX(اقساط!$AT$3:$AT$8532,SMALL(IF(اقساط!$G$3:$G$8532=B2685,ROW($AT$3:$AT$8532)-ROW($AT$3)+1),ROWS($A$3:A2685))),\"\")","v":0},null,{"$f":"IFERROR(INDEX(اقساط!$B$3:$B$8532,SMALL(IF(اقساط!$G$3:$G$8532=B2685,ROW($B$3:$B$8532)-ROW($B$3)+1),ROWS($C$3:C2685))),\"\")","v":0}]
[{"$f":"IFERROR(INDEX(اقساط!$AT$3:$AT$8532,SMALL(IF(اقساط!$G$3:$G$8532=B2686,ROW($AT$3:$AT$8532)-ROW($AT$3)+1),ROWS($A$3:A2686))),\"\")","v":0},null,{"$f":"IFERROR(INDEX(اقساط!$B$3:$B$8532,SMALL(IF(اقساط!$G$3:$G$8532=B2686,ROW($B$3:$B$8532)-ROW($B$3)+1),ROWS($C$3:C2686))),\"\")","v":0}]
[{"$f":"IFERROR(INDEX(اقساط!$AT$3:$AT$8532,SMALL(IF(اقساط!$G$3:$G$8532=B2687,ROW($AT$3:$AT$8532)-ROW($AT$3)+1),ROWS($A$3:A2687))),\"\")","v":0},null,{"$f":"IFERROR(INDEX(اقساط!$B$3:$B$8532,SMALL(IF(اقساط!$G$3:$G$8532=B2687,ROW($B$3:$B$8532)-ROW($B$3)+1),ROWS($C$3:C2687))),\"\")","v":0}]
[{"$f":"IFERROR(INDEX(اقساط!$AT$3:$AT$8532,SMALL(IF(اقساط!$G$3:$G$8532=B2688,ROW($AT$3:$AT$8532)-ROW($AT$3)+1),ROWS($A$3:A2688))),\"\")","v":0},null,{"$f":"IFERROR(INDEX(اقساط!$B$3:$B$8532,SMALL(IF(اقساط!$G$3:$G$8532=B2688,ROW($B$3:$B$8532)-ROW($B$3)+1),ROWS($C$3:C2688))),\"\")","v":0}]
[{"$f":"IFERROR(INDEX(اقساط!$AT$3:$AT$8532,SMALL(IF(اقساط!$G$3:$G$8532=B2689,ROW($AT$3:$AT$8532)-ROW($AT$3)+1),ROWS($A$3:A2689))),\"\")","v":0},null,{"$f":"IFERROR(INDEX(اقساط!$B$3:$B$8532,SMALL(IF(اقساط!$G$3:$G$8532=B2689,ROW($B$3:$B$8532)-ROW($B$3)+1),ROWS($C$3:C2689))),\"\")","v":0}]
[{"$f":"IFERROR(INDEX(اقساط!$AT$3:$AT$8532,SMALL(IF(اقساط!$G$3:$G$8532=B2690,ROW($AT$3:$AT$8532)-ROW($AT$3)+1),ROWS($A$3:A2690))),\"\")","v":0},null,{"$f":"IFERROR(INDEX(اقساط!$B$3:$B$8532,SMALL(IF(اقساط!$G$3:$G$8532=B2690,ROW($B$3:$B$8532)-ROW($B$3)+1),ROWS($C$3:C2690))),\"\")","v":0}]
[{"$f":"IFERROR(INDEX(اقساط!$AT$3:$AT$8532,SMALL(IF(اقساط!$G$3:$G$8532=B2691,ROW($AT$3:$AT$8532)-ROW($AT$3)+1),ROWS($A$3:A2691))),\"\")","v":0},null,{"$f":"IFERROR(INDEX(اقساط!$B$3:$B$8532,SMALL(IF(اقساط!$G$3:$G$8532=B2691,ROW($B$3:$B$8532)-ROW($B$3)+1),ROWS($C$3:C2691))),\"\")","v":0}]
[{"$f":"IFERROR(INDEX(اقساط!$AT$3:$AT$8532,SMALL(IF(اقساط!$G$3:$G$8532=B2692,ROW($AT$3:$AT$8532)-ROW($AT$3)+1),ROWS($A$3:A2692))),\"\")","v":0},null,{"$f":"IFERROR(INDEX(اقساط!$B$3:$B$8532,SMALL(IF(اقساط!$G$3:$G$8532=B2692,ROW($B$3:$B$8532)-ROW($B$3)+1),ROWS($C$3:C2692))),\"\")","v":0}]
[{"$f":"IFERROR(INDEX(اقساط!$AT$3:$AT$8532,SMALL(IF(اقساط!$G$3:$G$8532=B2693,ROW($AT$3:$AT$8532)-ROW($AT$3)+1),ROWS($A$3:A2693))),\"\")","v":0},null,{"$f":"IFERROR(INDEX(اقساط!$B$3:$B$8532,SMALL(IF(اقساط!$G$3:$G$8532=B2693,ROW($B$3:$B$8532)-ROW($B$3)+1),ROWS($C$3:C2693))),\"\")","v":0}]
[{"$f":"IFERROR(INDEX(اقساط!$AT$3:$AT$8532,SMALL(IF(اقساط!$G$3:$G$8532=B2694,ROW($AT$3:$AT$8532)-ROW($AT$3)+1),ROWS($A$3:A2694))),\"\")","v":0},null,{"$f":"IFERROR(INDEX(اقساط!$B$3:$B$8532,SMALL(IF(اقساط!$G$3:$G$8532=B2694,ROW($B$3:$B$8532)-ROW($B$3)+1),ROWS($C$3:C2694))),\"\")","v":0}]
[{"$f":"IFERROR(INDEX(اقساط!$AT$3:$AT$8532,SMALL(IF(اقساط!$G$3:$G$8532=B2695,ROW($AT$3:$AT$8532)-ROW($AT$3)+1),ROWS($A$3:A2695))),\"\")","v":0},null,{"$f":"IFERROR(INDEX(اقساط!$B$3:$B$8532,SMALL(IF(اقساط!$G$3:$G$8532=B2695,ROW($B$3:$B$8532)-ROW($B$3)+1),ROWS($C$3:C2695))),\"\")","v":0}]
[{"$f":"IFERROR(INDEX(اقساط!$AT$3:$AT$8532,SMALL(IF(اقساط!$G$3:$G$8532=B2696,ROW($AT$3:$AT$8532)-ROW($AT$3)+1),ROWS($A$3:A2696))),\"\")","v":0},null,{"$f":"IFERROR(INDEX(اقساط!$B$3:$B$8532,SMALL(IF(اقساط!$G$3:$G$8532=B2696,ROW($B$3:$B$8532)-ROW($B$3)+1),ROWS($C$3:C2696))),\"\")","v":0}]
[{"$f":"IFERROR(INDEX(اقساط!$AT$3:$AT$8532,SMALL(IF(اقساط!$G$3:$G$8532=B2697,ROW($AT$3:$AT$8532)-ROW($AT$3)+1),ROWS($A$3:A2697))),\"\")","v":0},null,{"$f":"IFERROR(INDEX(اقساط!$B$3:$B$8532,SMALL(IF(اقساط!$G$3:$G$8532=B2697,ROW($B$3:$B$8532)-ROW($B$3)+1),ROWS($C$3:C2697))),\"\")","v":0}]
[{"$f":"IFERROR(INDEX(اقساط!$AT$3:$AT$8532,SMALL(IF(اقساط!$G$3:$G$8532=B2698,ROW($AT$3:$AT$8532)-ROW($AT$3)+1),ROWS($A$3:A2698))),\"\")","v":0},null,{"$f":"IFERROR(INDEX(اقساط!$B$3:$B$8532,SMALL(IF(اقساط!$G$3:$G$8532=B2698,ROW($B$3:$B$8532)-ROW($B$3)+1),ROWS($C$3:C2698))),\"\")","v":0}]
[{"$f":"IFERROR(INDEX(اقساط!$AT$3:$AT$8532,SMALL(IF(اقساط!$G$3:$G$8532=B2699,ROW($AT$3:$AT$8532)-ROW($AT$3)+1),ROWS($A$3:A2699))),\"\")","v":0},null,{"$f":"IFERROR(INDEX(اقساط!$B$3:$B$8532,SMALL(IF(اقساط!$G$3:$G$8532=B2699,ROW($B$3:$B$8532)-ROW($B$3)+1),ROWS($C$3:C2699))),\"\")","v":0}]
[{"$f":"IFERROR(INDEX(اقساط!$AT$3:$AT$8532,SMALL(IF(اقساط!$G$3:$G$8532=B2700,ROW($AT$3:$AT$8532)-ROW($AT$3)+1),ROWS($A$3:A2700))),\"\")","v":0},null,{"$f":"IFERROR(INDEX(اقساط!$B$3:$B$8532,SMALL(IF(اقساط!$G$3:$G$8532=B2700,ROW($B$3:$B$8532)-ROW($B$3)+1),ROWS($C$3:C2700))),\"\")","v":0}]
[{"$f":"IFERROR(INDEX(اقساط!$AT$3:$AT$8532,SMALL(IF(اقساط!$G$3:$G$8532=B2701,ROW($AT$3:$AT$8532)-ROW($AT$3)+1),ROWS($A$3:A2701))),\"\")","v":0},null,{"$f":"IFERROR(INDEX(اقساط!$B$3:$B$8532,SMALL(IF(اقساط!$G$3:$G$8532=B2701,ROW($B$3:$B$8532)-ROW($B$3)+1),ROWS($C$3:C2701))),\"\")","v":0}]
[{"$f":"IFERROR(INDEX(اقساط!$AT$3:$AT$8532,SMALL(IF(اقساط!$G$3:$G$8532=B2702,ROW($AT$3:$AT$8532)-ROW($AT$3)+1),ROWS($A$3:A2702))),\"\")","v":0},null,{"$f":"IFERROR(INDEX(اقساط!$B$3:$B$8532,SMALL(IF(اقساط!$G$3:$G$8532=B2702,ROW($B$3:$B$8532)-ROW($B$3)+1),ROWS($C$3:C2702))),\"\")","v":0}]
[{"$f":"IFERROR(INDEX(اقساط!$AT$3:$AT$8532,SMALL(IF(اقساط!$G$3:$G$8532=B2703,ROW($AT$3:$AT$8532)-ROW($AT$3)+1),ROWS($A$3:A2703))),\"\")","v":0},null,{"$f":"IFERROR(INDEX(اقساط!$B$3:$B$8532,SMALL(IF(اقساط!$G$3:$G$8532=B2703,ROW($B$3:$B$8532)-ROW($B$3)+1),ROWS($C$3:C2703))),\"\")","v":0}]
[{"$f":"IFERROR(INDEX(اقساط!$AT$3:$AT$8532,SMALL(IF(اقساط!$G$3:$G$8532=B2704,ROW($AT$3:$AT$8532)-ROW($AT$3)+1),ROWS($A$3:A2704))),\"\")","v":0},null,{"$f":"IFERROR(INDEX(اقساط!$B$3:$B$8532,SMALL(IF(اقساط!$G$3:$G$8532=B2704,ROW($B$3:$B$8532)-ROW($B$3)+1),ROWS($C$3:C2704))),\"\")","v":0}]
[{"$f":"IFERROR(INDEX(اقساط!$AT$3:$AT$8532,SMALL(IF(اقساط!$G$3:$G$8532=B2705,ROW($AT$3:$AT$8532)-ROW($AT$3)+1),ROWS($A$3:A2705))),\"\")","v":0},null,{"$f":"IFERROR(INDEX(اقساط!$B$3:$B$8532,SMALL(IF(اقساط!$G$3:$G$8532=B2705,ROW($B$3:$B$8532)-ROW($B$3)+1),ROWS($C$3:C2705))),\"\")","v":0}]
[{"$f":"IFERROR(INDEX(اقساط!$AT$3:$AT$8532,SMALL(IF(اقساط!$G$3:$G$8532=B2706,ROW($AT$3:$AT$8532)-ROW($AT$3)+1),ROWS($A$3:A2706))),\"\")","v":0},null,{"$f":"IFERROR(INDEX(اقساط!$B$3:$B$8532,SMALL(IF(اقساط!$G$3:$G$8532=B2706,ROW($B$3:$B$8532)-ROW($B$3)+1),ROWS($C$3:C2706))),\"\")","v":0}]
[{"$f":"IFERROR(INDEX(اقساط!$AT$3:$AT$8532,SMALL(IF(اقساط!$G$3:$G$8532=B2707,ROW($AT$3:$AT$8532)-ROW($AT$3)+1),ROWS($A$3:A2707))),\"\")","v":0},null,{"$f":"IFERROR(INDEX(اقساط!$B$3:$B$8532,SMALL(IF(اقساط!$G$3:$G$8532=B2707,ROW($B$3:$B$8532)-ROW($B$3)+1),ROWS($C$3:C2707))),\"\")","v":0}]
[{"$f":"IFERROR(INDEX(اقساط!$AT$3:$AT$8532,SMALL(IF(اقساط!$G$3:$G$8532=B2708,ROW($AT$3:$AT$8532)-ROW($AT$3)+1),ROWS($A$3:A2708))),\"\")","v":0},null,{"$f":"IFERROR(INDEX(اقساط!$B$3:$B$8532,SMALL(IF(اقساط!$G$3:$G$8532=B2708,ROW($B$3:$B$8532)-ROW($B$3)+1),ROWS($C$3:C2708))),\"\")","v":0}]
[{"$f":"IFERROR(INDEX(اقساط!$AT$3:$AT$8532,SMALL(IF(اقساط!$G$3:$G$8532=B2709,ROW($AT$3:$AT$8532)-ROW($AT$3)+1),ROWS($A$3:A2709))),\"\")","v":0},null,{"$f":"IFERROR(INDEX(اقساط!$B$3:$B$8532,SMALL(IF(اقساط!$G$3:$G$8532=B2709,ROW($B$3:$B$8532)-ROW($B$3)+1),ROWS($C$3:C2709))),\"\")","v":0}]
[{"$f":"IFERROR(INDEX(اقساط!$AT$3:$AT$8532,SMALL(IF(اقساط!$G$3:$G$8532=B2710,ROW($AT$3:$AT$8532)-ROW($AT$3)+1),ROWS($A$3:A2710))),\"\")","v":0},null,{"$f":"IFERROR(INDEX(اقساط!$B$3:$B$8532,SMALL(IF(اقساط!$G$3:$G$8532=B2710,ROW($B$3:$B$8532)-ROW($B$3)+1),ROWS($C$3:C2710))),\"\")","v":0}]
[{"$f":"IFERROR(INDEX(اقساط!$AT$3:$AT$8532,SMALL(IF(اقساط!$G$3:$G$8532=B2711,ROW($AT$3:$AT$8532)-ROW($AT$3)+1),ROWS($A$3:A2711))),\"\")","v":0},null,{"$f":"IFERROR(INDEX(اقساط!$B$3:$B$8532,SMALL(IF(اقساط!$G$3:$G$8532=B2711,ROW($B$3:$B$8532)-ROW($B$3)+1),ROWS($C$3:C2711))),\"\")","v":0}]
[{"$f":"IFERROR(INDEX(اقساط!$AT$3:$AT$8532,SMALL(IF(اقساط!$G$3:$G$8532=B2712,ROW($AT$3:$AT$8532)-ROW($AT$3)+1),ROWS($A$3:A2712))),\"\")","v":0},null,{"$f":"IFERROR(INDEX(اقساط!$B$3:$B$8532,SMALL(IF(اقساط!$G$3:$G$8532=B2712,ROW($B$3:$B$8532)-ROW($B$3)+1),ROWS($C$3:C2712))),\"\")","v":0}]
[{"$f":"IFERROR(INDEX(اقساط!$AT$3:$AT$8532,SMALL(IF(اقساط!$G$3:$G$8532=B2713,ROW($AT$3:$AT$8532)-ROW($AT$3)+1),ROWS($A$3:A2713))),\"\")","v":0},null,{"$f":"IFERROR(INDEX(اقساط!$B$3:$B$8532,SMALL(IF(اقساط!$G$3:$G$8532=B2713,ROW($B$3:$B$8532)-ROW($B$3)+1),ROWS($C$3:C2713))),\"\")","v":0}]
[{"$f":"IFERROR(INDEX(اقساط!$AT$3:$AT$8532,SMALL(IF(اقساط!$G$3:$G$8532=B2714,ROW($AT$3:$AT$8532)-ROW($AT$3)+1),ROWS($A$3:A2714))),\"\")","v":0},null,{"$f":"IFERROR(INDEX(اقساط!$B$3:$B$8532,SMALL(IF(اقساط!$G$3:$G$8532=B2714,ROW($B$3:$B$8532)-ROW($B$3)+1),ROWS($C$3:C2714))),\"\")","v":0}]
[{"$f":"IFERROR(INDEX(اقساط!$AT$3:$AT$8532,SMALL(IF(اقساط!$G$3:$G$8532=B2715,ROW($AT$3:$AT$8532)-ROW($AT$3)+1),ROWS($A$3:A2715))),\"\")","v":0},null,{"$f":"IFERROR(INDEX(اقساط!$B$3:$B$8532,SMALL(IF(اقساط!$G$3:$G$8532=B2715,ROW($B$3:$B$8532)-ROW($B$3)+1),ROWS($C$3:C2715))),\"\")","v":0}]
[{"$f":"IFERROR(INDEX(اقساط!$AT$3:$AT$8532,SMALL(IF(اقساط!$G$3:$G$8532=B2716,ROW($AT$3:$AT$8532)-ROW($AT$3)+1),ROWS($A$3:A2716))),\"\")","v":0},null,{"$f":"IFERROR(INDEX(اقساط!$B$3:$B$8532,SMALL(IF(اقساط!$G$3:$G$8532=B2716,ROW($B$3:$B$8532)-ROW($B$3)+1),ROWS($C$3:C2716))),\"\")","v":0}]
[{"$f":"IFERROR(INDEX(اقساط!$AT$3:$AT$8532,SMALL(IF(اقساط!$G$3:$G$8532=B2717,ROW($AT$3:$AT$8532)-ROW($AT$3)+1),ROWS($A$3:A2717))),\"\")","v":0},null,{"$f":"IFERROR(INDEX(اقساط!$B$3:$B$8532,SMALL(IF(اقساط!$G$3:$G$8532=B2717,ROW($B$3:$B$8532)-ROW($B$3)+1),ROWS($C$3:C2717))),\"\")","v":0}]
[{"$f":"IFERROR(INDEX(اقساط!$AT$3:$AT$8532,SMALL(IF(اقساط!$G$3:$G$8532=B2718,ROW($AT$3:$AT$8532)-ROW($AT$3)+1),ROWS($A$3:A2718))),\"\")","v":0},null,{"$f":"IFERROR(INDEX(اقساط!$B$3:$B$8532,SMALL(IF(اقساط!$G$3:$G$8532=B2718,ROW($B$3:$B$8532)-ROW($B$3)+1),ROWS($C$3:C2718))),\"\")","v":0}]
[{"$f":"IFERROR(INDEX(اقساط!$AT$3:$AT$8532,SMALL(IF(اقساط!$G$3:$G$8532=B2719,ROW($AT$3:$AT$8532)-ROW($AT$3)+1),ROWS($A$3:A2719))),\"\")","v":0},null,{"$f":"IFERROR(INDEX(اقساط!$B$3:$B$8532,SMALL(IF(اقساط!$G$3:$G$8532=B2719,ROW($B$3:$B$8532)-ROW($B$3)+1),ROWS($C$3:C2719))),\"\")","v":0}]
[{"$f":"IFERROR(INDEX(اقساط!$AT$3:$AT$8532,SMALL(IF(اقساط!$G$3:$G$8532=B2720,ROW($AT$3:$AT$8532)-ROW($AT$3)+1),ROWS($A$3:A2720))),\"\")","v":0},null,{"$f":"IFERROR(INDEX(اقساط!$B$3:$B$8532,SMALL(IF(اقساط!$G$3:$G$8532=B2720,ROW($B$3:$B$8532)-ROW($B$3)+1),ROWS($C$3:C2720))),\"\")","v":0}]
[{"$f":"IFERROR(INDEX(اقساط!$AT$3:$AT$8532,SMALL(IF(اقساط!$G$3:$G$8532=B2721,ROW($AT$3:$AT$8532)-ROW($AT$3)+1),ROWS($A$3:A2721))),\"\")","v":0},null,{"$f":"IFERROR(INDEX(اقساط!$B$3:$B$8532,SMALL(IF(اقساط!$G$3:$G$8532=B2721,ROW($B$3:$B$8532)-ROW($B$3)+1),ROWS($C$3:C2721))),\"\")","v":0}]
[{"$f":"IFERROR(INDEX(اقساط!$AT$3:$AT$8532,SMALL(IF(اقساط!$G$3:$G$8532=B2722,ROW($AT$3:$AT$8532)-ROW($AT$3)+1),ROWS($A$3:A2722))),\"\")","v":0},null,{"$f":"IFERROR(INDEX(اقساط!$B$3:$B$8532,SMALL(IF(اقساط!$G$3:$G$8532=B2722,ROW($B$3:$B$8532)-ROW($B$3)+1),ROWS($C$3:C2722))),\"\")","v":0}]
[{"$f":"IFERROR(INDEX(اقساط!$AT$3:$AT$8532,SMALL(IF(اقساط!$G$3:$G$8532=B2723,ROW($AT$3:$AT$8532)-ROW($AT$3)+1),ROWS($A$3:A2723))),\"\")","v":0},null,{"$f":"IFERROR(INDEX(اقساط!$B$3:$B$8532,SMALL(IF(اقساط!$G$3:$G$8532=B2723,ROW($B$3:$B$8532)-ROW($B$3)+1),ROWS($C$3:C2723))),\"\")","v":0}]
[{"$f":"IFERROR(INDEX(اقساط!$AT$3:$AT$8532,SMALL(IF(اقساط!$G$3:$G$8532=B2724,ROW($AT$3:$AT$8532)-ROW($AT$3)+1),ROWS($A$3:A2724))),\"\")","v":0},null,{"$f":"IFERROR(INDEX(اقساط!$B$3:$B$8532,SMALL(IF(اقساط!$G$3:$G$8532=B2724,ROW($B$3:$B$8532)-ROW($B$3)+1),ROWS($C$3:C2724))),\"\")","v":0}]
[{"$f":"IFERROR(INDEX(اقساط!$AT$3:$AT$8532,SMALL(IF(اقساط!$G$3:$G$8532=B2725,ROW($AT$3:$AT$8532)-ROW($AT$3)+1),ROWS($A$3:A2725))),\"\")","v":0},null,{"$f":"IFERROR(INDEX(اقساط!$B$3:$B$8532,SMALL(IF(اقساط!$G$3:$G$8532=B2725,ROW($B$3:$B$8532)-ROW($B$3)+1),ROWS($C$3:C2725))),\"\")","v":0}]
[{"$f":"IFERROR(INDEX(اقساط!$AT$3:$AT$8532,SMALL(IF(اقساط!$G$3:$G$8532=B2726,ROW($AT$3:$AT$8532)-ROW($AT$3)+1),ROWS($A$3:A2726))),\"\")","v":0},null,{"$f":"IFERROR(INDEX(اقساط!$B$3:$B$8532,SMALL(IF(اقساط!$G$3:$G$8532=B2726,ROW($B$3:$B$8532)-ROW($B$3)+1),ROWS($C$3:C2726))),\"\")","v":0}]
[{"$f":"IFERROR(INDEX(اقساط!$AT$3:$AT$8532,SMALL(IF(اقساط!$G$3:$G$8532=B2727,ROW($AT$3:$AT$8532)-ROW($AT$3)+1),ROWS($A$3:A2727))),\"\")","v":0},null,{"$f":"IFERROR(INDEX(اقساط!$B$3:$B$8532,SMALL(IF(اقساط!$G$3:$G$8532=B2727,ROW($B$3:$B$8532)-ROW($B$3)+1),ROWS($C$3:C2727))),\"\")","v":0}]
[{"$f":"IFERROR(INDEX(اقساط!$AT$3:$AT$8532,SMALL(IF(اقساط!$G$3:$G$8532=B2728,ROW($AT$3:$AT$8532)-ROW($AT$3)+1),ROWS($A$3:A2728))),\"\")","v":0},null,{"$f":"IFERROR(INDEX(اقساط!$B$3:$B$8532,SMALL(IF(اقساط!$G$3:$G$8532=B2728,ROW($B$3:$B$8532)-ROW($B$3)+1),ROWS($C$3:C2728))),\"\")","v":0}]
[{"$f":"IFERROR(INDEX(اقساط!$AT$3:$AT$8532,SMALL(IF(اقساط!$G$3:$G$8532=B2729,ROW($AT$3:$AT$8532)-ROW($AT$3)+1),ROWS($A$3:A2729))),\"\")","v":0},null,{"$f":"IFERROR(INDEX(اقساط!$B$3:$B$8532,SMALL(IF(اقساط!$G$3:$G$8532=B2729,ROW($B$3:$B$8532)-ROW($B$3)+1),ROWS($C$3:C2729))),\"\")","v":0}]
[{"$f":"IFERROR(INDEX(اقساط!$AT$3:$AT$8532,SMALL(IF(اقساط!$G$3:$G$8532=B2730,ROW($AT$3:$AT$8532)-ROW($AT$3)+1),ROWS($A$3:A2730))),\"\")","v":0},null,{"$f":"IFERROR(INDEX(اقساط!$B$3:$B$8532,SMALL(IF(اقساط!$G$3:$G$8532=B2730,ROW($B$3:$B$8532)-ROW($B$3)+1),ROWS($C$3:C2730))),\"\")","v":0}]
[{"$f":"IFERROR(INDEX(اقساط!$AT$3:$AT$8532,SMALL(IF(اقساط!$G$3:$G$8532=B2731,ROW($AT$3:$AT$8532)-ROW($AT$3)+1),ROWS($A$3:A2731))),\"\")","v":0},null,{"$f":"IFERROR(INDEX(اقساط!$B$3:$B$8532,SMALL(IF(اقساط!$G$3:$G$8532=B2731,ROW($B$3:$B$8532)-ROW($B$3)+1),ROWS($C$3:C2731))),\"\")","v":0}]
[{"$f":"IFERROR(INDEX(اقساط!$AT$3:$AT$8532,SMALL(IF(اقساط!$G$3:$G$8532=B2732,ROW($AT$3:$AT$8532)-ROW($AT$3)+1),ROWS($A$3:A2732))),\"\")","v":0},null,{"$f":"IFERROR(INDEX(اقساط!$B$3:$B$8532,SMALL(IF(اقساط!$G$3:$G$8532=B2732,ROW($B$3:$B$8532)-ROW($B$3)+1),ROWS($C$3:C2732))),\"\")","v":0}]
[{"$f":"IFERROR(INDEX(اقساط!$AT$3:$AT$8532,SMALL(IF(اقساط!$G$3:$G$8532=B2733,ROW($AT$3:$AT$8532)-ROW($AT$3)+1),ROWS($A$3:A2733))),\"\")","v":0},null,{"$f":"IFERROR(INDEX(اقساط!$B$3:$B$8532,SMALL(IF(اقساط!$G$3:$G$8532=B2733,ROW($B$3:$B$8532)-ROW($B$3)+1),ROWS($C$3:C2733))),\"\")","v":0}]
[{"$f":"IFERROR(INDEX(اقساط!$AT$3:$AT$8532,SMALL(IF(اقساط!$G$3:$G$8532=B2734,ROW($AT$3:$AT$8532)-ROW($AT$3)+1),ROWS($A$3:A2734))),\"\")","v":0},null,{"$f":"IFERROR(INDEX(اقساط!$B$3:$B$8532,SMALL(IF(اقساط!$G$3:$G$8532=B2734,ROW($B$3:$B$8532)-ROW($B$3)+1),ROWS($C$3:C2734))),\"\")","v":0}]
[{"$f":"IFERROR(INDEX(اقساط!$AT$3:$AT$8532,SMALL(IF(اقساط!$G$3:$G$8532=B2735,ROW($AT$3:$AT$8532)-ROW($AT$3)+1),ROWS($A$3:A2735))),\"\")","v":0},null,{"$f":"IFERROR(INDEX(اقساط!$B$3:$B$8532,SMALL(IF(اقساط!$G$3:$G$8532=B2735,ROW($B$3:$B$8532)-ROW($B$3)+1),ROWS($C$3:C2735))),\"\")","v":0}]
[{"$f":"IFERROR(INDEX(اقساط!$AT$3:$AT$8532,SMALL(IF(اقساط!$G$3:$G$8532=B2736,ROW($AT$3:$AT$8532)-ROW($AT$3)+1),ROWS($A$3:A2736))),\"\")","v":0},null,{"$f":"IFERROR(INDEX(اقساط!$B$3:$B$8532,SMALL(IF(اقساط!$G$3:$G$8532=B2736,ROW($B$3:$B$8532)-ROW($B$3)+1),ROWS($C$3:C2736))),\"\")","v":0}]
[{"$f":"IFERROR(INDEX(اقساط!$AT$3:$AT$8532,SMALL(IF(اقساط!$G$3:$G$8532=B2737,ROW($AT$3:$AT$8532)-ROW($AT$3)+1),ROWS($A$3:A2737))),\"\")","v":0},null,{"$f":"IFERROR(INDEX(اقساط!$B$3:$B$8532,SMALL(IF(اقساط!$G$3:$G$8532=B2737,ROW($B$3:$B$8532)-ROW($B$3)+1),ROWS($C$3:C2737))),\"\")","v":0}]
[{"$f":"IFERROR(INDEX(اقساط!$AT$3:$AT$8532,SMALL(IF(اقساط!$G$3:$G$8532=B2738,ROW($AT$3:$AT$8532)-ROW($AT$3)+1),ROWS($A$3:A2738))),\"\")","v":0},null,{"$f":"IFERROR(INDEX(اقساط!$B$3:$B$8532,SMALL(IF(اقساط!$G$3:$G$8532=B2738,ROW($B$3:$B$8532)-ROW($B$3)+1),ROWS($C$3:C2738))),\"\")","v":0}]
[{"$f":"IFERROR(INDEX(اقساط!$AT$3:$AT$8532,SMALL(IF(اقساط!$G$3:$G$8532=B2739,ROW($AT$3:$AT$8532)-ROW($AT$3)+1),ROWS($A$3:A2739))),\"\")","v":0},null,{"$f":"IFERROR(INDEX(اقساط!$B$3:$B$8532,SMALL(IF(اقساط!$G$3:$G$8532=B2739,ROW($B$3:$B$8532)-ROW($B$3)+1),ROWS($C$3:C2739))),\"\")","v":0}]
[{"$f":"IFERROR(INDEX(اقساط!$AT$3:$AT$8532,SMALL(IF(اقساط!$G$3:$G$8532=B2740,ROW($AT$3:$AT$8532)-ROW($AT$3)+1),ROWS($A$3:A2740))),\"\")","v":0},null,{"$f":"IFERROR(INDEX(اقساط!$B$3:$B$8532,SMALL(IF(اقساط!$G$3:$G$8532=B2740,ROW($B$3:$B$8532)-ROW($B$3)+1),ROWS($C$3:C2740))),\"\")","v":0}]
[{"$f":"IFERROR(INDEX(اقساط!$AT$3:$AT$8532,SMALL(IF(اقساط!$G$3:$G$8532=B2741,ROW($AT$3:$AT$8532)-ROW($AT$3)+1),ROWS($A$3:A2741))),\"\")","v":0},null,{"$f":"IFERROR(INDEX(اقساط!$B$3:$B$8532,SMALL(IF(اقساط!$G$3:$G$8532=B2741,ROW($B$3:$B$8532)-ROW($B$3)+1),ROWS($C$3:C2741))),\"\")","v":0}]
[{"$f":"IFERROR(INDEX(اقساط!$AT$3:$AT$8532,SMALL(IF(اقساط!$G$3:$G$8532=B2742,ROW($AT$3:$AT$8532)-ROW($AT$3)+1),ROWS($A$3:A2742))),\"\")","v":0},null,{"$f":"IFERROR(INDEX(اقساط!$B$3:$B$8532,SMALL(IF(اقساط!$G$3:$G$8532=B2742,ROW($B$3:$B$8532)-ROW($B$3)+1),ROWS($C$3:C2742))),\"\")","v":0}]
[{"$f":"IFERROR(INDEX(اقساط!$AT$3:$AT$8532,SMALL(IF(اقساط!$G$3:$G$8532=B2743,ROW($AT$3:$AT$8532)-ROW($AT$3)+1),ROWS($A$3:A2743))),\"\")","v":0},null,{"$f":"IFERROR(INDEX(اقساط!$B$3:$B$8532,SMALL(IF(اقساط!$G$3:$G$8532=B2743,ROW($B$3:$B$8532)-ROW($B$3)+1),ROWS($C$3:C2743))),\"\")","v":0}]
[{"$f":"IFERROR(INDEX(اقساط!$AT$3:$AT$8532,SMALL(IF(اقساط!$G$3:$G$8532=B2744,ROW($AT$3:$AT$8532)-ROW($AT$3)+1),ROWS($A$3:A2744))),\"\")","v":0},null,{"$f":"IFERROR(INDEX(اقساط!$B$3:$B$8532,SMALL(IF(اقساط!$G$3:$G$8532=B2744,ROW($B$3:$B$8532)-ROW($B$3)+1),ROWS($C$3:C2744))),\"\")","v":0}]
[{"$f":"IFERROR(INDEX(اقساط!$AT$3:$AT$8532,SMALL(IF(اقساط!$G$3:$G$8532=B2745,ROW($AT$3:$AT$8532)-ROW($AT$3)+1),ROWS($A$3:A2745))),\"\")","v":0},null,{"$f":"IFERROR(INDEX(اقساط!$B$3:$B$8532,SMALL(IF(اقساط!$G$3:$G$8532=B2745,ROW($B$3:$B$8532)-ROW($B$3)+1),ROWS($C$3:C2745))),\"\")","v":0}]
[{"$f":"IFERROR(INDEX(اقساط!$AT$3:$AT$8532,SMALL(IF(اقساط!$G$3:$G$8532=B2746,ROW($AT$3:$AT$8532)-ROW($AT$3)+1),ROWS($A$3:A2746))),\"\")","v":0},null,{"$f":"IFERROR(INDEX(اقساط!$B$3:$B$8532,SMALL(IF(اقساط!$G$3:$G$8532=B2746,ROW($B$3:$B$8532)-ROW($B$3)+1),ROWS($C$3:C2746))),\"\")","v":0}]
[{"$f":"IFERROR(INDEX(اقساط!$AT$3:$AT$8532,SMALL(IF(اقساط!$G$3:$G$8532=B2747,ROW($AT$3:$AT$8532)-ROW($AT$3)+1),ROWS($A$3:A2747))),\"\")","v":0},null,{"$f":"IFERROR(INDEX(اقساط!$B$3:$B$8532,SMALL(IF(اقساط!$G$3:$G$8532=B2747,ROW($B$3:$B$8532)-ROW($B$3)+1),ROWS($C$3:C2747))),\"\")","v":0}]
[{"$f":"IFERROR(INDEX(اقساط!$AT$3:$AT$8532,SMALL(IF(اقساط!$G$3:$G$8532=B2748,ROW($AT$3:$AT$8532)-ROW($AT$3)+1),ROWS($A$3:A2748))),\"\")","v":0},null,{"$f":"IFERROR(INDEX(اقساط!$B$3:$B$8532,SMALL(IF(اقساط!$G$3:$G$8532=B2748,ROW($B$3:$B$8532)-ROW($B$3)+1),ROWS($C$3:C2748))),\"\")","v":0}]
[{"$f":"IFERROR(INDEX(اقساط!$AT$3:$AT$8532,SMALL(IF(اقساط!$G$3:$G$8532=B2749,ROW($AT$3:$AT$8532)-ROW($AT$3)+1),ROWS($A$3:A2749))),\"\")","v":0},null,{"$f":"IFERROR(INDEX(اقساط!$B$3:$B$8532,SMALL(IF(اقساط!$G$3:$G$8532=B2749,ROW($B$3:$B$8532)-ROW($B$3)+1),ROWS($C$3:C2749))),\"\")","v":0}]
[{"$f":"IFERROR(INDEX(اقساط!$AT$3:$AT$8532,SMALL(IF(اقساط!$G$3:$G$8532=B2750,ROW($AT$3:$AT$8532)-ROW($AT$3)+1),ROWS($A$3:A2750))),\"\")","v":0},null,{"$f":"IFERROR(INDEX(اقساط!$B$3:$B$8532,SMALL(IF(اقساط!$G$3:$G$8532=B2750,ROW($B$3:$B$8532)-ROW($B$3)+1),ROWS($C$3:C2750))),\"\")","v":0}]
[{"$f":"IFERROR(INDEX(اقساط!$AT$3:$AT$8532,SMALL(IF(اقساط!$G$3:$G$8532=B2751,ROW($AT$3:$AT$8532)-ROW($AT$3)+1),ROWS($A$3:A2751))),\"\")","v":0},null,{"$f":"IFERROR(INDEX(اقساط!$B$3:$B$8532,SMALL(IF(اقساط!$G$3:$G$8532=B2751,ROW($B$3:$B$8532)-ROW($B$3)+1),ROWS($C$3:C2751))),\"\")","v":0}]
[{"$f":"IFERROR(INDEX(اقساط!$AT$3:$AT$8532,SMALL(IF(اقساط!$G$3:$G$8532=B2752,ROW($AT$3:$AT$8532)-ROW($AT$3)+1),ROWS($A$3:A2752))),\"\")","v":0},null,{"$f":"IFERROR(INDEX(اقساط!$B$3:$B$8532,SMALL(IF(اقساط!$G$3:$G$8532=B2752,ROW($B$3:$B$8532)-ROW($B$3)+1),ROWS($C$3:C2752))),\"\")","v":0}]
[{"$f":"IFERROR(INDEX(اقساط!$AT$3:$AT$8532,SMALL(IF(اقساط!$G$3:$G$8532=B2753,ROW($AT$3:$AT$8532)-ROW($AT$3)+1),ROWS($A$3:A2753))),\"\")","v":0},null,{"$f":"IFERROR(INDEX(اقساط!$B$3:$B$8532,SMALL(IF(اقساط!$G$3:$G$8532=B2753,ROW($B$3:$B$8532)-ROW($B$3)+1),ROWS($C$3:C2753))),\"\")","v":0}]
[{"$f":"IFERROR(INDEX(اقساط!$AT$3:$AT$8532,SMALL(IF(اقساط!$G$3:$G$8532=B2754,ROW($AT$3:$AT$8532)-ROW($AT$3)+1),ROWS($A$3:A2754))),\"\")","v":0},null,{"$f":"IFERROR(INDEX(اقساط!$B$3:$B$8532,SMALL(IF(اقساط!$G$3:$G$8532=B2754,ROW($B$3:$B$8532)-ROW($B$3)+1),ROWS($C$3:C2754))),\"\")","v":0}]
[{"$f":"IFERROR(INDEX(اقساط!$AT$3:$AT$8532,SMALL(IF(اقساط!$G$3:$G$8532=B2755,ROW($AT$3:$AT$8532)-ROW($AT$3)+1),ROWS($A$3:A2755))),\"\")","v":0},null,{"$f":"IFERROR(INDEX(اقساط!$B$3:$B$8532,SMALL(IF(اقساط!$G$3:$G$8532=B2755,ROW($B$3:$B$8532)-ROW($B$3)+1),ROWS($C$3:C2755))),\"\")","v":0}]
[{"$f":"IFERROR(INDEX(اقساط!$AT$3:$AT$8532,SMALL(IF(اقساط!$G$3:$G$8532=B2756,ROW($AT$3:$AT$8532)-ROW($AT$3)+1),ROWS($A$3:A2756))),\"\")","v":0},null,{"$f":"IFERROR(INDEX(اقساط!$B$3:$B$8532,SMALL(IF(اقساط!$G$3:$G$8532=B2756,ROW($B$3:$B$8532)-ROW($B$3)+1),ROWS($C$3:C2756))),\"\")","v":0}]
[{"$f":"IFERROR(INDEX(اقساط!$AT$3:$AT$8532,SMALL(IF(اقساط!$G$3:$G$8532=B2757,ROW($AT$3:$AT$8532)-ROW($AT$3)+1),ROWS($A$3:A2757))),\"\")","v":0},null,{"$f":"IFERROR(INDEX(اقساط!$B$3:$B$8532,SMALL(IF(اقساط!$G$3:$G$8532=B2757,ROW($B$3:$B$8532)-ROW($B$3)+1),ROWS($C$3:C2757))),\"\")","v":0}]
[{"$f":"IFERROR(INDEX(اقساط!$AT$3:$AT$8532,SMALL(IF(اقساط!$G$3:$G$8532=B2758,ROW($AT$3:$AT$8532)-ROW($AT$3)+1),ROWS($A$3:A2758))),\"\")","v":0},null,{"$f":"IFERROR(INDEX(اقساط!$B$3:$B$8532,SMALL(IF(اقساط!$G$3:$G$8532=B2758,ROW($B$3:$B$8532)-ROW($B$3)+1),ROWS($C$3:C2758))),\"\")","v":0}]
[{"$f":"IFERROR(INDEX(اقساط!$AT$3:$AT$8532,SMALL(IF(اقساط!$G$3:$G$8532=B2759,ROW($AT$3:$AT$8532)-ROW($AT$3)+1),ROWS($A$3:A2759))),\"\")","v":0},null,{"$f":"IFERROR(INDEX(اقساط!$B$3:$B$8532,SMALL(IF(اقساط!$G$3:$G$8532=B2759,ROW($B$3:$B$8532)-ROW($B$3)+1),ROWS($C$3:C2759))),\"\")","v":0}]
[{"$f":"IFERROR(INDEX(اقساط!$AT$3:$AT$8532,SMALL(IF(اقساط!$G$3:$G$8532=B2760,ROW($AT$3:$AT$8532)-ROW($AT$3)+1),ROWS($A$3:A2760))),\"\")","v":0},null,{"$f":"IFERROR(INDEX(اقساط!$B$3:$B$8532,SMALL(IF(اقساط!$G$3:$G$8532=B2760,ROW($B$3:$B$8532)-ROW($B$3)+1),ROWS($C$3:C2760))),\"\")","v":0}]
[{"$f":"IFERROR(INDEX(اقساط!$AT$3:$AT$8532,SMALL(IF(اقساط!$G$3:$G$8532=B2761,ROW($AT$3:$AT$8532)-ROW($AT$3)+1),ROWS($A$3:A2761))),\"\")","v":0},null,{"$f":"IFERROR(INDEX(اقساط!$B$3:$B$8532,SMALL(IF(اقساط!$G$3:$G$8532=B2761,ROW($B$3:$B$8532)-ROW($B$3)+1),ROWS($C$3:C2761))),\"\")","v":0}]
[{"$f":"IFERROR(INDEX(اقساط!$AT$3:$AT$8532,SMALL(IF(اقساط!$G$3:$G$8532=B2762,ROW($AT$3:$AT$8532)-ROW($AT$3)+1),ROWS($A$3:A2762))),\"\")","v":0},null,{"$f":"IFERROR(INDEX(اقساط!$B$3:$B$8532,SMALL(IF(اقساط!$G$3:$G$8532=B2762,ROW($B$3:$B$8532)-ROW($B$3)+1),ROWS($C$3:C2762))),\"\")","v":0}]
[{"$f":"IFERROR(INDEX(اقساط!$AT$3:$AT$8532,SMALL(IF(اقساط!$G$3:$G$8532=B2763,ROW($AT$3:$AT$8532)-ROW($AT$3)+1),ROWS($A$3:A2763))),\"\")","v":0},null,{"$f":"IFERROR(INDEX(اقساط!$B$3:$B$8532,SMALL(IF(اقساط!$G$3:$G$8532=B2763,ROW($B$3:$B$8532)-ROW($B$3)+1),ROWS($C$3:C2763))),\"\")","v":0}]
[{"$f":"IFERROR(INDEX(اقساط!$AT$3:$AT$8532,SMALL(IF(اقساط!$G$3:$G$8532=B2764,ROW($AT$3:$AT$8532)-ROW($AT$3)+1),ROWS($A$3:A2764))),\"\")","v":0},null,{"$f":"IFERROR(INDEX(اقساط!$B$3:$B$8532,SMALL(IF(اقساط!$G$3:$G$8532=B2764,ROW($B$3:$B$8532)-ROW($B$3)+1),ROWS($C$3:C2764))),\"\")","v":0}]
[{"$f":"IFERROR(INDEX(اقساط!$AT$3:$AT$8532,SMALL(IF(اقساط!$G$3:$G$8532=B2765,ROW($AT$3:$AT$8532)-ROW($AT$3)+1),ROWS($A$3:A2765))),\"\")","v":0},null,{"$f":"IFERROR(INDEX(اقساط!$B$3:$B$8532,SMALL(IF(اقساط!$G$3:$G$8532=B2765,ROW($B$3:$B$8532)-ROW($B$3)+1),ROWS($C$3:C2765))),\"\")","v":0}]
[{"$f":"IFERROR(INDEX(اقساط!$AT$3:$AT$8532,SMALL(IF(اقساط!$G$3:$G$8532=B2766,ROW($AT$3:$AT$8532)-ROW($AT$3)+1),ROWS($A$3:A2766))),\"\")","v":0},null,{"$f":"IFERROR(INDEX(اقساط!$B$3:$B$8532,SMALL(IF(اقساط!$G$3:$G$8532=B2766,ROW($B$3:$B$8532)-ROW($B$3)+1),ROWS($C$3:C2766))),\"\")","v":0}]
[{"$f":"IFERROR(INDEX(اقساط!$AT$3:$AT$8532,SMALL(IF(اقساط!$G$3:$G$8532=B2767,ROW($AT$3:$AT$8532)-ROW($AT$3)+1),ROWS($A$3:A2767))),\"\")","v":0},null,{"$f":"IFERROR(INDEX(اقساط!$B$3:$B$8532,SMALL(IF(اقساط!$G$3:$G$8532=B2767,ROW($B$3:$B$8532)-ROW($B$3)+1),ROWS($C$3:C2767))),\"\")","v":0}]
[{"$f":"IFERROR(INDEX(اقساط!$AT$3:$AT$8532,SMALL(IF(اقساط!$G$3:$G$8532=B2768,ROW($AT$3:$AT$8532)-ROW($AT$3)+1),ROWS($A$3:A2768))),\"\")","v":0},null,{"$f":"IFERROR(INDEX(اقساط!$B$3:$B$8532,SMALL(IF(اقساط!$G$3:$G$8532=B2768,ROW($B$3:$B$8532)-ROW($B$3)+1),ROWS($C$3:C2768))),\"\")","v":0}]
[{"$f":"IFERROR(INDEX(اقساط!$AT$3:$AT$8532,SMALL(IF(اقساط!$G$3:$G$8532=B2769,ROW($AT$3:$AT$8532)-ROW($AT$3)+1),ROWS($A$3:A2769))),\"\")","v":0},null,{"$f":"IFERROR(INDEX(اقساط!$B$3:$B$8532,SMALL(IF(اقساط!$G$3:$G$8532=B2769,ROW($B$3:$B$8532)-ROW($B$3)+1),ROWS($C$3:C2769))),\"\")","v":0}]
[{"$f":"IFERROR(INDEX(اقساط!$AT$3:$AT$8532,SMALL(IF(اقساط!$G$3:$G$8532=B2770,ROW($AT$3:$AT$8532)-ROW($AT$3)+1),ROWS($A$3:A2770))),\"\")","v":0},null,{"$f":"IFERROR(INDEX(اقساط!$B$3:$B$8532,SMALL(IF(اقساط!$G$3:$G$8532=B2770,ROW($B$3:$B$8532)-ROW($B$3)+1),ROWS($C$3:C2770))),\"\")","v":0}]
[{"$f":"IFERROR(INDEX(اقساط!$AT$3:$AT$8532,SMALL(IF(اقساط!$G$3:$G$8532=B2771,ROW($AT$3:$AT$8532)-ROW($AT$3)+1),ROWS($A$3:A2771))),\"\")","v":0},null,{"$f":"IFERROR(INDEX(اقساط!$B$3:$B$8532,SMALL(IF(اقساط!$G$3:$G$8532=B2771,ROW($B$3:$B$8532)-ROW($B$3)+1),ROWS($C$3:C2771))),\"\")","v":0}]
[{"$f":"IFERROR(INDEX(اقساط!$AT$3:$AT$8532,SMALL(IF(اقساط!$G$3:$G$8532=B2772,ROW($AT$3:$AT$8532)-ROW($AT$3)+1),ROWS($A$3:A2772))),\"\")","v":0},null,{"$f":"IFERROR(INDEX(اقساط!$B$3:$B$8532,SMALL(IF(اقساط!$G$3:$G$8532=B2772,ROW($B$3:$B$8532)-ROW($B$3)+1),ROWS($C$3:C2772))),\"\")","v":0}]
[{"$f":"IFERROR(INDEX(اقساط!$AT$3:$AT$8532,SMALL(IF(اقساط!$G$3:$G$8532=B2773,ROW($AT$3:$AT$8532)-ROW($AT$3)+1),ROWS($A$3:A2773))),\"\")","v":0},null,{"$f":"IFERROR(INDEX(اقساط!$B$3:$B$8532,SMALL(IF(اقساط!$G$3:$G$8532=B2773,ROW($B$3:$B$8532)-ROW($B$3)+1),ROWS($C$3:C2773))),\"\")","v":0}]
[{"$f":"IFERROR(INDEX(اقساط!$AT$3:$AT$8532,SMALL(IF(اقساط!$G$3:$G$8532=B2774,ROW($AT$3:$AT$8532)-ROW($AT$3)+1),ROWS($A$3:A2774))),\"\")","v":0},null,{"$f":"IFERROR(INDEX(اقساط!$B$3:$B$8532,SMALL(IF(اقساط!$G$3:$G$8532=B2774,ROW($B$3:$B$8532)-ROW($B$3)+1),ROWS($C$3:C2774))),\"\")","v":0}]
[{"$f":"IFERROR(INDEX(اقساط!$AT$3:$AT$8532,SMALL(IF(اقساط!$G$3:$G$8532=B2775,ROW($AT$3:$AT$8532)-ROW($AT$3)+1),ROWS($A$3:A2775))),\"\")","v":0},null,{"$f":"IFERROR(INDEX(اقساط!$B$3:$B$8532,SMALL(IF(اقساط!$G$3:$G$8532=B2775,ROW($B$3:$B$8532)-ROW($B$3)+1),ROWS($C$3:C2775))),\"\")","v":0}]
[{"$f":"IFERROR(INDEX(اقساط!$AT$3:$AT$8532,SMALL(IF(اقساط!$G$3:$G$8532=B2776,ROW($AT$3:$AT$8532)-ROW($AT$3)+1),ROWS($A$3:A2776))),\"\")","v":0},null,{"$f":"IFERROR(INDEX(اقساط!$B$3:$B$8532,SMALL(IF(اقساط!$G$3:$G$8532=B2776,ROW($B$3:$B$8532)-ROW($B$3)+1),ROWS($C$3:C2776))),\"\")","v":0}]
[{"$f":"IFERROR(INDEX(اقساط!$AT$3:$AT$8532,SMALL(IF(اقساط!$G$3:$G$8532=B2777,ROW($AT$3:$AT$8532)-ROW($AT$3)+1),ROWS($A$3:A2777))),\"\")","v":0},null,{"$f":"IFERROR(INDEX(اقساط!$B$3:$B$8532,SMALL(IF(اقساط!$G$3:$G$8532=B2777,ROW($B$3:$B$8532)-ROW($B$3)+1),ROWS($C$3:C2777))),\"\")","v":0}]
[{"$f":"IFERROR(INDEX(اقساط!$AT$3:$AT$8532,SMALL(IF(اقساط!$G$3:$G$8532=B2778,ROW($AT$3:$AT$8532)-ROW($AT$3)+1),ROWS($A$3:A2778))),\"\")","v":0},null,{"$f":"IFERROR(INDEX(اقساط!$B$3:$B$8532,SMALL(IF(اقساط!$G$3:$G$8532=B2778,ROW($B$3:$B$8532)-ROW($B$3)+1),ROWS($C$3:C2778))),\"\")","v":0}]
[{"$f":"IFERROR(INDEX(اقساط!$AT$3:$AT$8532,SMALL(IF(اقساط!$G$3:$G$8532=B2779,ROW($AT$3:$AT$8532)-ROW($AT$3)+1),ROWS($A$3:A2779))),\"\")","v":0},null,{"$f":"IFERROR(INDEX(اقساط!$B$3:$B$8532,SMALL(IF(اقساط!$G$3:$G$8532=B2779,ROW($B$3:$B$8532)-ROW($B$3)+1),ROWS($C$3:C2779))),\"\")","v":0}]
[{"$f":"IFERROR(INDEX(اقساط!$AT$3:$AT$8532,SMALL(IF(اقساط!$G$3:$G$8532=B2780,ROW($AT$3:$AT$8532)-ROW($AT$3)+1),ROWS($A$3:A2780))),\"\")","v":0},null,{"$f":"IFERROR(INDEX(اقساط!$B$3:$B$8532,SMALL(IF(اقساط!$G$3:$G$8532=B2780,ROW($B$3:$B$8532)-ROW($B$3)+1),ROWS($C$3:C2780))),\"\")","v":0}]
[{"$f":"IFERROR(INDEX(اقساط!$AT$3:$AT$8532,SMALL(IF(اقساط!$G$3:$G$8532=B2781,ROW($AT$3:$AT$8532)-ROW($AT$3)+1),ROWS($A$3:A2781))),\"\")","v":0},null,{"$f":"IFERROR(INDEX(اقساط!$B$3:$B$8532,SMALL(IF(اقساط!$G$3:$G$8532=B2781,ROW($B$3:$B$8532)-ROW($B$3)+1),ROWS($C$3:C2781))),\"\")","v":0}]
[{"$f":"IFERROR(INDEX(اقساط!$AT$3:$AT$8532,SMALL(IF(اقساط!$G$3:$G$8532=B2782,ROW($AT$3:$AT$8532)-ROW($AT$3)+1),ROWS($A$3:A2782))),\"\")","v":0},null,{"$f":"IFERROR(INDEX(اقساط!$B$3:$B$8532,SMALL(IF(اقساط!$G$3:$G$8532=B2782,ROW($B$3:$B$8532)-ROW($B$3)+1),ROWS($C$3:C2782))),\"\")","v":0}]
[{"$f":"IFERROR(INDEX(اقساط!$AT$3:$AT$8532,SMALL(IF(اقساط!$G$3:$G$8532=B2783,ROW($AT$3:$AT$8532)-ROW($AT$3)+1),ROWS($A$3:A2783))),\"\")","v":0},null,{"$f":"IFERROR(INDEX(اقساط!$B$3:$B$8532,SMALL(IF(اقساط!$G$3:$G$8532=B2783,ROW($B$3:$B$8532)-ROW($B$3)+1),ROWS($C$3:C2783))),\"\")","v":0}]
[{"$f":"IFERROR(INDEX(اقساط!$AT$3:$AT$8532,SMALL(IF(اقساط!$G$3:$G$8532=B2784,ROW($AT$3:$AT$8532)-ROW($AT$3)+1),ROWS($A$3:A2784))),\"\")","v":0},null,{"$f":"IFERROR(INDEX(اقساط!$B$3:$B$8532,SMALL(IF(اقساط!$G$3:$G$8532=B2784,ROW($B$3:$B$8532)-ROW($B$3)+1),ROWS($C$3:C2784))),\"\")","v":0}]
[{"$f":"IFERROR(INDEX(اقساط!$AT$3:$AT$8532,SMALL(IF(اقساط!$G$3:$G$8532=B2785,ROW($AT$3:$AT$8532)-ROW($AT$3)+1),ROWS($A$3:A2785))),\"\")","v":0},null,{"$f":"IFERROR(INDEX(اقساط!$B$3:$B$8532,SMALL(IF(اقساط!$G$3:$G$8532=B2785,ROW($B$3:$B$8532)-ROW($B$3)+1),ROWS($C$3:C2785))),\"\")","v":0}]
[{"$f":"IFERROR(INDEX(اقساط!$AT$3:$AT$8532,SMALL(IF(اقساط!$G$3:$G$8532=B2786,ROW($AT$3:$AT$8532)-ROW($AT$3)+1),ROWS($A$3:A2786))),\"\")","v":0},null,{"$f":"IFERROR(INDEX(اقساط!$B$3:$B$8532,SMALL(IF(اقساط!$G$3:$G$8532=B2786,ROW($B$3:$B$8532)-ROW($B$3)+1),ROWS($C$3:C2786))),\"\")","v":0}]
[{"$f":"IFERROR(INDEX(اقساط!$AT$3:$AT$8532,SMALL(IF(اقساط!$G$3:$G$8532=B2787,ROW($AT$3:$AT$8532)-ROW($AT$3)+1),ROWS($A$3:A2787))),\"\")","v":0},null,{"$f":"IFERROR(INDEX(اقساط!$B$3:$B$8532,SMALL(IF(اقساط!$G$3:$G$8532=B2787,ROW($B$3:$B$8532)-ROW($B$3)+1),ROWS($C$3:C2787))),\"\")","v":0}]
[{"$f":"IFERROR(INDEX(اقساط!$AT$3:$AT$8532,SMALL(IF(اقساط!$G$3:$G$8532=B2788,ROW($AT$3:$AT$8532)-ROW($AT$3)+1),ROWS($A$3:A2788))),\"\")","v":0},null,{"$f":"IFERROR(INDEX(اقساط!$B$3:$B$8532,SMALL(IF(اقساط!$G$3:$G$8532=B2788,ROW($B$3:$B$8532)-ROW($B$3)+1),ROWS($C$3:C2788))),\"\")","v":0}]
[{"$f":"IFERROR(INDEX(اقساط!$AT$3:$AT$8532,SMALL(IF(اقساط!$G$3:$G$8532=B2789,ROW($AT$3:$AT$8532)-ROW($AT$3)+1),ROWS($A$3:A2789))),\"\")","v":0},null,{"$f":"IFERROR(INDEX(اقساط!$B$3:$B$8532,SMALL(IF(اقساط!$G$3:$G$8532=B2789,ROW($B$3:$B$8532)-ROW($B$3)+1),ROWS($C$3:C2789))),\"\")","v":0}]
[{"$f":"IFERROR(INDEX(اقساط!$AT$3:$AT$8532,SMALL(IF(اقساط!$G$3:$G$8532=B2790,ROW($AT$3:$AT$8532)-ROW($AT$3)+1),ROWS($A$3:A2790))),\"\")","v":0},null,{"$f":"IFERROR(INDEX(اقساط!$B$3:$B$8532,SMALL(IF(اقساط!$G$3:$G$8532=B2790,ROW($B$3:$B$8532)-ROW($B$3)+1),ROWS($C$3:C2790))),\"\")","v":0}]
[{"$f":"IFERROR(INDEX(اقساط!$AT$3:$AT$8532,SMALL(IF(اقساط!$G$3:$G$8532=B2791,ROW($AT$3:$AT$8532)-ROW($AT$3)+1),ROWS($A$3:A2791))),\"\")","v":0},null,{"$f":"IFERROR(INDEX(اقساط!$B$3:$B$8532,SMALL(IF(اقساط!$G$3:$G$8532=B2791,ROW($B$3:$B$8532)-ROW($B$3)+1),ROWS($C$3:C2791))),\"\")","v":0}]
[{"$f":"IFERROR(INDEX(اقساط!$AT$3:$AT$8532,SMALL(IF(اقساط!$G$3:$G$8532=B2792,ROW($AT$3:$AT$8532)-ROW($AT$3)+1),ROWS($A$3:A2792))),\"\")","v":0},null,{"$f":"IFERROR(INDEX(اقساط!$B$3:$B$8532,SMALL(IF(اقساط!$G$3:$G$8532=B2792,ROW($B$3:$B$8532)-ROW($B$3)+1),ROWS($C$3:C2792))),\"\")","v":0}]
[{"$f":"IFERROR(INDEX(اقساط!$AT$3:$AT$8532,SMALL(IF(اقساط!$G$3:$G$8532=B2793,ROW($AT$3:$AT$8532)-ROW($AT$3)+1),ROWS($A$3:A2793))),\"\")","v":0},null,{"$f":"IFERROR(INDEX(اقساط!$B$3:$B$8532,SMALL(IF(اقساط!$G$3:$G$8532=B2793,ROW($B$3:$B$8532)-ROW($B$3)+1),ROWS($C$3:C2793))),\"\")","v":0}]
[{"$f":"IFERROR(INDEX(اقساط!$AT$3:$AT$8532,SMALL(IF(اقساط!$G$3:$G$8532=B2794,ROW($AT$3:$AT$8532)-ROW($AT$3)+1),ROWS($A$3:A2794))),\"\")","v":0},null,{"$f":"IFERROR(INDEX(اقساط!$B$3:$B$8532,SMALL(IF(اقساط!$G$3:$G$8532=B2794,ROW($B$3:$B$8532)-ROW($B$3)+1),ROWS($C$3:C2794))),\"\")","v":0}]
[{"$f":"IFERROR(INDEX(اقساط!$AT$3:$AT$8532,SMALL(IF(اقساط!$G$3:$G$8532=B2795,ROW($AT$3:$AT$8532)-ROW($AT$3)+1),ROWS($A$3:A2795))),\"\")","v":0},null,{"$f":"IFERROR(INDEX(اقساط!$B$3:$B$8532,SMALL(IF(اقساط!$G$3:$G$8532=B2795,ROW($B$3:$B$8532)-ROW($B$3)+1),ROWS($C$3:C2795))),\"\")","v":0}]
[{"$f":"IFERROR(INDEX(اقساط!$AT$3:$AT$8532,SMALL(IF(اقساط!$G$3:$G$8532=B2796,ROW($AT$3:$AT$8532)-ROW($AT$3)+1),ROWS($A$3:A2796))),\"\")","v":0},null,{"$f":"IFERROR(INDEX(اقساط!$B$3:$B$8532,SMALL(IF(اقساط!$G$3:$G$8532=B2796,ROW($B$3:$B$8532)-ROW($B$3)+1),ROWS($C$3:C2796))),\"\")","v":0}]
[{"$f":"IFERROR(INDEX(اقساط!$AT$3:$AT$8532,SMALL(IF(اقساط!$G$3:$G$8532=B2797,ROW($AT$3:$AT$8532)-ROW($AT$3)+1),ROWS($A$3:A2797))),\"\")","v":0},null,{"$f":"IFERROR(INDEX(اقساط!$B$3:$B$8532,SMALL(IF(اقساط!$G$3:$G$8532=B2797,ROW($B$3:$B$8532)-ROW($B$3)+1),ROWS($C$3:C2797))),\"\")","v":0}]
[{"$f":"IFERROR(INDEX(اقساط!$AT$3:$AT$8532,SMALL(IF(اقساط!$G$3:$G$8532=B2798,ROW($AT$3:$AT$8532)-ROW($AT$3)+1),ROWS($A$3:A2798))),\"\")","v":0},null,{"$f":"IFERROR(INDEX(اقساط!$B$3:$B$8532,SMALL(IF(اقساط!$G$3:$G$8532=B2798,ROW($B$3:$B$8532)-ROW($B$3)+1),ROWS($C$3:C2798))),\"\")","v":0}]
[{"$f":"IFERROR(INDEX(اقساط!$AT$3:$AT$8532,SMALL(IF(اقساط!$G$3:$G$8532=B2799,ROW($AT$3:$AT$8532)-ROW($AT$3)+1),ROWS($A$3:A2799))),\"\")","v":0},null,{"$f":"IFERROR(INDEX(اقساط!$B$3:$B$8532,SMALL(IF(اقساط!$G$3:$G$8532=B2799,ROW($B$3:$B$8532)-ROW($B$3)+1),ROWS($C$3:C2799))),\"\")","v":0}]
[{"$f":"IFERROR(INDEX(اقساط!$AT$3:$AT$8532,SMALL(IF(اقساط!$G$3:$G$8532=B2800,ROW($AT$3:$AT$8532)-ROW($AT$3)+1),ROWS($A$3:A2800))),\"\")","v":0},null,{"$f":"IFERROR(INDEX(اقساط!$B$3:$B$8532,SMALL(IF(اقساط!$G$3:$G$8532=B2800,ROW($B$3:$B$8532)-ROW($B$3)+1),ROWS($C$3:C2800))),\"\")","v":0}]
[{"$f":"IFERROR(INDEX(اقساط!$AT$3:$AT$8532,SMALL(IF(اقساط!$G$3:$G$8532=B2801,ROW($AT$3:$AT$8532)-ROW($AT$3)+1),ROWS($A$3:A2801))),\"\")","v":0},null,{"$f":"IFERROR(INDEX(اقساط!$B$3:$B$8532,SMALL(IF(اقساط!$G$3:$G$8532=B2801,ROW($B$3:$B$8532)-ROW($B$3)+1),ROWS($C$3:C2801))),\"\")","v":0}]
[{"$f":"IFERROR(INDEX(اقساط!$AT$3:$AT$8532,SMALL(IF(اقساط!$G$3:$G$8532=B2802,ROW($AT$3:$AT$8532)-ROW($AT$3)+1),ROWS($A$3:A2802))),\"\")","v":0},null,{"$f":"IFERROR(INDEX(اقساط!$B$3:$B$8532,SMALL(IF(اقساط!$G$3:$G$8532=B2802,ROW($B$3:$B$8532)-ROW($B$3)+1),ROWS($C$3:C2802))),\"\")","v":0}]
[{"$f":"IFERROR(INDEX(اقساط!$AT$3:$AT$8532,SMALL(IF(اقساط!$G$3:$G$8532=B2803,ROW($AT$3:$AT$8532)-ROW($AT$3)+1),ROWS($A$3:A2803))),\"\")","v":0},null,{"$f":"IFERROR(INDEX(اقساط!$B$3:$B$8532,SMALL(IF(اقساط!$G$3:$G$8532=B2803,ROW($B$3:$B$8532)-ROW($B$3)+1),ROWS($C$3:C2803))),\"\")","v":0}]
[{"$f":"IFERROR(INDEX(اقساط!$AT$3:$AT$8532,SMALL(IF(اقساط!$G$3:$G$8532=B2804,ROW($AT$3:$AT$8532)-ROW($AT$3)+1),ROWS($A$3:A2804))),\"\")","v":0},null,{"$f":"IFERROR(INDEX(اقساط!$B$3:$B$8532,SMALL(IF(اقساط!$G$3:$G$8532=B2804,ROW($B$3:$B$8532)-ROW($B$3)+1),ROWS($C$3:C2804))),\"\")","v":0}]
[{"$f":"IFERROR(INDEX(اقساط!$AT$3:$AT$8532,SMALL(IF(اقساط!$G$3:$G$8532=B2805,ROW($AT$3:$AT$8532)-ROW($AT$3)+1),ROWS($A$3:A2805))),\"\")","v":0},null,{"$f":"IFERROR(INDEX(اقساط!$B$3:$B$8532,SMALL(IF(اقساط!$G$3:$G$8532=B2805,ROW($B$3:$B$8532)-ROW($B$3)+1),ROWS($C$3:C2805))),\"\")","v":0}]
[{"$f":"IFERROR(INDEX(اقساط!$AT$3:$AT$8532,SMALL(IF(اقساط!$G$3:$G$8532=B2806,ROW($AT$3:$AT$8532)-ROW($AT$3)+1),ROWS($A$3:A2806))),\"\")","v":0},null,{"$f":"IFERROR(INDEX(اقساط!$B$3:$B$8532,SMALL(IF(اقساط!$G$3:$G$8532=B2806,ROW($B$3:$B$8532)-ROW($B$3)+1),ROWS($C$3:C2806))),\"\")","v":0}]
[{"$f":"IFERROR(INDEX(اقساط!$AT$3:$AT$8532,SMALL(IF(اقساط!$G$3:$G$8532=B2807,ROW($AT$3:$AT$8532)-ROW($AT$3)+1),ROWS($A$3:A2807))),\"\")","v":0},null,{"$f":"IFERROR(INDEX(اقساط!$B$3:$B$8532,SMALL(IF(اقساط!$G$3:$G$8532=B2807,ROW($B$3:$B$8532)-ROW($B$3)+1),ROWS($C$3:C2807))),\"\")","v":0}]
[{"$f":"IFERROR(INDEX(اقساط!$AT$3:$AT$8532,SMALL(IF(اقساط!$G$3:$G$8532=B2808,ROW($AT$3:$AT$8532)-ROW($AT$3)+1),ROWS($A$3:A2808))),\"\")","v":0},null,{"$f":"IFERROR(INDEX(اقساط!$B$3:$B$8532,SMALL(IF(اقساط!$G$3:$G$8532=B2808,ROW($B$3:$B$8532)-ROW($B$3)+1),ROWS($C$3:C2808))),\"\")","v":0}]
[{"$f":"IFERROR(INDEX(اقساط!$AT$3:$AT$8532,SMALL(IF(اقساط!$G$3:$G$8532=B2809,ROW($AT$3:$AT$8532)-ROW($AT$3)+1),ROWS($A$3:A2809))),\"\")","v":0},null,{"$f":"IFERROR(INDEX(اقساط!$B$3:$B$8532,SMALL(IF(اقساط!$G$3:$G$8532=B2809,ROW($B$3:$B$8532)-ROW($B$3)+1),ROWS($C$3:C2809))),\"\")","v":0}]
[{"$f":"IFERROR(INDEX(اقساط!$AT$3:$AT$8532,SMALL(IF(اقساط!$G$3:$G$8532=B2810,ROW($AT$3:$AT$8532)-ROW($AT$3)+1),ROWS($A$3:A2810))),\"\")","v":0},null,{"$f":"IFERROR(INDEX(اقساط!$B$3:$B$8532,SMALL(IF(اقساط!$G$3:$G$8532=B2810,ROW($B$3:$B$8532)-ROW($B$3)+1),ROWS($C$3:C2810))),\"\")","v":0}]
[{"$f":"IFERROR(INDEX(اقساط!$AT$3:$AT$8532,SMALL(IF(اقساط!$G$3:$G$8532=B2811,ROW($AT$3:$AT$8532)-ROW($AT$3)+1),ROWS($A$3:A2811))),\"\")","v":0},null,{"$f":"IFERROR(INDEX(اقساط!$B$3:$B$8532,SMALL(IF(اقساط!$G$3:$G$8532=B2811,ROW($B$3:$B$8532)-ROW($B$3)+1),ROWS($C$3:C2811))),\"\")","v":0}]
[{"$f":"IFERROR(INDEX(اقساط!$AT$3:$AT$8532,SMALL(IF(اقساط!$G$3:$G$8532=B2812,ROW($AT$3:$AT$8532)-ROW($AT$3)+1),ROWS($A$3:A2812))),\"\")","v":0},null,{"$f":"IFERROR(INDEX(اقساط!$B$3:$B$8532,SMALL(IF(اقساط!$G$3:$G$8532=B2812,ROW($B$3:$B$8532)-ROW($B$3)+1),ROWS($C$3:C2812))),\"\")","v":0}]
[{"$f":"IFERROR(INDEX(اقساط!$AT$3:$AT$8532,SMALL(IF(اقساط!$G$3:$G$8532=B2813,ROW($AT$3:$AT$8532)-ROW($AT$3)+1),ROWS($A$3:A2813))),\"\")","v":0},null,{"$f":"IFERROR(INDEX(اقساط!$B$3:$B$8532,SMALL(IF(اقساط!$G$3:$G$8532=B2813,ROW($B$3:$B$8532)-ROW($B$3)+1),ROWS($C$3:C2813))),\"\")","v":0}]
[{"$f":"IFERROR(INDEX(اقساط!$AT$3:$AT$8532,SMALL(IF(اقساط!$G$3:$G$8532=B2814,ROW($AT$3:$AT$8532)-ROW($AT$3)+1),ROWS($A$3:A2814))),\"\")","v":0},null,{"$f":"IFERROR(INDEX(اقساط!$B$3:$B$8532,SMALL(IF(اقساط!$G$3:$G$8532=B2814,ROW($B$3:$B$8532)-ROW($B$3)+1),ROWS($C$3:C2814))),\"\")","v":0}]
[{"$f":"IFERROR(INDEX(اقساط!$AT$3:$AT$8532,SMALL(IF(اقساط!$G$3:$G$8532=B2815,ROW($AT$3:$AT$8532)-ROW($AT$3)+1),ROWS($A$3:A2815))),\"\")","v":0},null,{"$f":"IFERROR(INDEX(اقساط!$B$3:$B$8532,SMALL(IF(اقساط!$G$3:$G$8532=B2815,ROW($B$3:$B$8532)-ROW($B$3)+1),ROWS($C$3:C2815))),\"\")","v":0}]
[{"$f":"IFERROR(INDEX(اقساط!$AT$3:$AT$8532,SMALL(IF(اقساط!$G$3:$G$8532=B2816,ROW($AT$3:$AT$8532)-ROW($AT$3)+1),ROWS($A$3:A2816))),\"\")","v":0},null,{"$f":"IFERROR(INDEX(اقساط!$B$3:$B$8532,SMALL(IF(اقساط!$G$3:$G$8532=B2816,ROW($B$3:$B$8532)-ROW($B$3)+1),ROWS($C$3:C2816))),\"\")","v":0}]
[{"$f":"IFERROR(INDEX(اقساط!$AT$3:$AT$8532,SMALL(IF(اقساط!$G$3:$G$8532=B2817,ROW($AT$3:$AT$8532)-ROW($AT$3)+1),ROWS($A$3:A2817))),\"\")","v":0},null,{"$f":"IFERROR(INDEX(اقساط!$B$3:$B$8532,SMALL(IF(اقساط!$G$3:$G$8532=B2817,ROW($B$3:$B$8532)-ROW($B$3)+1),ROWS($C$3:C2817))),\"\")","v":0}]
[{"$f":"IFERROR(INDEX(اقساط!$AT$3:$AT$8532,SMALL(IF(اقساط!$G$3:$G$8532=B2818,ROW($AT$3:$AT$8532)-ROW($AT$3)+1),ROWS($A$3:A2818))),\"\")","v":0},null,{"$f":"IFERROR(INDEX(اقساط!$B$3:$B$8532,SMALL(IF(اقساط!$G$3:$G$8532=B2818,ROW($B$3:$B$8532)-ROW($B$3)+1),ROWS($C$3:C2818))),\"\")","v":0}]
[{"$f":"IFERROR(INDEX(اقساط!$AT$3:$AT$8532,SMALL(IF(اقساط!$G$3:$G$8532=B2819,ROW($AT$3:$AT$8532)-ROW($AT$3)+1),ROWS($A$3:A2819))),\"\")","v":0},null,{"$f":"IFERROR(INDEX(اقساط!$B$3:$B$8532,SMALL(IF(اقساط!$G$3:$G$8532=B2819,ROW($B$3:$B$8532)-ROW($B$3)+1),ROWS($C$3:C2819))),\"\")","v":0}]
[{"$f":"IFERROR(INDEX(اقساط!$AT$3:$AT$8532,SMALL(IF(اقساط!$G$3:$G$8532=B2820,ROW($AT$3:$AT$8532)-ROW($AT$3)+1),ROWS($A$3:A2820))),\"\")","v":0},null,{"$f":"IFERROR(INDEX(اقساط!$B$3:$B$8532,SMALL(IF(اقساط!$G$3:$G$8532=B2820,ROW($B$3:$B$8532)-ROW($B$3)+1),ROWS($C$3:C2820))),\"\")","v":0}]
[{"$f":"IFERROR(INDEX(اقساط!$AT$3:$AT$8532,SMALL(IF(اقساط!$G$3:$G$8532=B2821,ROW($AT$3:$AT$8532)-ROW($AT$3)+1),ROWS($A$3:A2821))),\"\")","v":0},null,{"$f":"IFERROR(INDEX(اقساط!$B$3:$B$8532,SMALL(IF(اقساط!$G$3:$G$8532=B2821,ROW($B$3:$B$8532)-ROW($B$3)+1),ROWS($C$3:C2821))),\"\")","v":0}]
[{"$f":"IFERROR(INDEX(اقساط!$AT$3:$AT$8532,SMALL(IF(اقساط!$G$3:$G$8532=B2822,ROW($AT$3:$AT$8532)-ROW($AT$3)+1),ROWS($A$3:A2822))),\"\")","v":0},null,{"$f":"IFERROR(INDEX(اقساط!$B$3:$B$8532,SMALL(IF(اقساط!$G$3:$G$8532=B2822,ROW($B$3:$B$8532)-ROW($B$3)+1),ROWS($C$3:C2822))),\"\")","v":0}]
[{"$f":"IFERROR(INDEX(اقساط!$AT$3:$AT$8532,SMALL(IF(اقساط!$G$3:$G$8532=B2823,ROW($AT$3:$AT$8532)-ROW($AT$3)+1),ROWS($A$3:A2823))),\"\")","v":0},null,{"$f":"IFERROR(INDEX(اقساط!$B$3:$B$8532,SMALL(IF(اقساط!$G$3:$G$8532=B2823,ROW($B$3:$B$8532)-ROW($B$3)+1),ROWS($C$3:C2823))),\"\")","v":0}]
[{"$f":"IFERROR(INDEX(اقساط!$AT$3:$AT$8532,SMALL(IF(اقساط!$G$3:$G$8532=B2824,ROW($AT$3:$AT$8532)-ROW($AT$3)+1),ROWS($A$3:A2824))),\"\")","v":0},null,{"$f":"IFERROR(INDEX(اقساط!$B$3:$B$8532,SMALL(IF(اقساط!$G$3:$G$8532=B2824,ROW($B$3:$B$8532)-ROW($B$3)+1),ROWS($C$3:C2824))),\"\")","v":0}]
[{"$f":"IFERROR(INDEX(اقساط!$AT$3:$AT$8532,SMALL(IF(اقساط!$G$3:$G$8532=B2825,ROW($AT$3:$AT$8532)-ROW($AT$3)+1),ROWS($A$3:A2825))),\"\")","v":0},null,{"$f":"IFERROR(INDEX(اقساط!$B$3:$B$8532,SMALL(IF(اقساط!$G$3:$G$8532=B2825,ROW($B$3:$B$8532)-ROW($B$3)+1),ROWS($C$3:C2825))),\"\")","v":0}]
[{"$f":"IFERROR(INDEX(اقساط!$AT$3:$AT$8532,SMALL(IF(اقساط!$G$3:$G$8532=B2826,ROW($AT$3:$AT$8532)-ROW($AT$3)+1),ROWS($A$3:A2826))),\"\")","v":0},null,{"$f":"IFERROR(INDEX(اقساط!$B$3:$B$8532,SMALL(IF(اقساط!$G$3:$G$8532=B2826,ROW($B$3:$B$8532)-ROW($B$3)+1),ROWS($C$3:C2826))),\"\")","v":0}]
[{"$f":"IFERROR(INDEX(اقساط!$AT$3:$AT$8532,SMALL(IF(اقساط!$G$3:$G$8532=B2827,ROW($AT$3:$AT$8532)-ROW($AT$3)+1),ROWS($A$3:A2827))),\"\")","v":0},null,{"$f":"IFERROR(INDEX(اقساط!$B$3:$B$8532,SMALL(IF(اقساط!$G$3:$G$8532=B2827,ROW($B$3:$B$8532)-ROW($B$3)+1),ROWS($C$3:C2827))),\"\")","v":0}]
[{"$f":"IFERROR(INDEX(اقساط!$AT$3:$AT$8532,SMALL(IF(اقساط!$G$3:$G$8532=B2828,ROW($AT$3:$AT$8532)-ROW($AT$3)+1),ROWS($A$3:A2828))),\"\")","v":0},null,{"$f":"IFERROR(INDEX(اقساط!$B$3:$B$8532,SMALL(IF(اقساط!$G$3:$G$8532=B2828,ROW($B$3:$B$8532)-ROW($B$3)+1),ROWS($C$3:C2828))),\"\")","v":0}]
[{"$f":"IFERROR(INDEX(اقساط!$AT$3:$AT$8532,SMALL(IF(اقساط!$G$3:$G$8532=B2829,ROW($AT$3:$AT$8532)-ROW($AT$3)+1),ROWS($A$3:A2829))),\"\")","v":0},null,{"$f":"IFERROR(INDEX(اقساط!$B$3:$B$8532,SMALL(IF(اقساط!$G$3:$G$8532=B2829,ROW($B$3:$B$8532)-ROW($B$3)+1),ROWS($C$3:C2829))),\"\")","v":0}]
[{"$f":"IFERROR(INDEX(اقساط!$AT$3:$AT$8532,SMALL(IF(اقساط!$G$3:$G$8532=B2830,ROW($AT$3:$AT$8532)-ROW($AT$3)+1),ROWS($A$3:A2830))),\"\")","v":0},null,{"$f":"IFERROR(INDEX(اقساط!$B$3:$B$8532,SMALL(IF(اقساط!$G$3:$G$8532=B2830,ROW($B$3:$B$8532)-ROW($B$3)+1),ROWS($C$3:C2830))),\"\")","v":0}]
[{"$f":"IFERROR(INDEX(اقساط!$AT$3:$AT$8532,SMALL(IF(اقساط!$G$3:$G$8532=B2831,ROW($AT$3:$AT$8532)-ROW($AT$3)+1),ROWS($A$3:A2831))),\"\")","v":0},null,{"$f":"IFERROR(INDEX(اقساط!$B$3:$B$8532,SMALL(IF(اقساط!$G$3:$G$8532=B2831,ROW($B$3:$B$8532)-ROW($B$3)+1),ROWS($C$3:C2831))),\"\")","v":0}]
[{"$f":"IFERROR(INDEX(اقساط!$AT$3:$AT$8532,SMALL(IF(اقساط!$G$3:$G$8532=B2832,ROW($AT$3:$AT$8532)-ROW($AT$3)+1),ROWS($A$3:A2832))),\"\")","v":0},null,{"$f":"IFERROR(INDEX(اقساط!$B$3:$B$8532,SMALL(IF(اقساط!$G$3:$G$8532=B2832,ROW($B$3:$B$8532)-ROW($B$3)+1),ROWS($C$3:C2832))),\"\")","v":0}]
[{"$f":"IFERROR(INDEX(اقساط!$AT$3:$AT$8532,SMALL(IF(اقساط!$G$3:$G$8532=B2833,ROW($AT$3:$AT$8532)-ROW($AT$3)+1),ROWS($A$3:A2833))),\"\")","v":0},null,{"$f":"IFERROR(INDEX(اقساط!$B$3:$B$8532,SMALL(IF(اقساط!$G$3:$G$8532=B2833,ROW($B$3:$B$8532)-ROW($B$3)+1),ROWS($C$3:C2833))),\"\")","v":0}]
[{"$f":"IFERROR(INDEX(اقساط!$AT$3:$AT$8532,SMALL(IF(اقساط!$G$3:$G$8532=B2834,ROW($AT$3:$AT$8532)-ROW($AT$3)+1),ROWS($A$3:A2834))),\"\")","v":0},null,{"$f":"IFERROR(INDEX(اقساط!$B$3:$B$8532,SMALL(IF(اقساط!$G$3:$G$8532=B2834,ROW($B$3:$B$8532)-ROW($B$3)+1),ROWS($C$3:C2834))),\"\")","v":0}]
[{"$f":"IFERROR(INDEX(اقساط!$AT$3:$AT$8532,SMALL(IF(اقساط!$G$3:$G$8532=B2835,ROW($AT$3:$AT$8532)-ROW($AT$3)+1),ROWS($A$3:A2835))),\"\")","v":0},null,{"$f":"IFERROR(INDEX(اقساط!$B$3:$B$8532,SMALL(IF(اقساط!$G$3:$G$8532=B2835,ROW($B$3:$B$8532)-ROW($B$3)+1),ROWS($C$3:C2835))),\"\")","v":0}]
[{"$f":"IFERROR(INDEX(اقساط!$AT$3:$AT$8532,SMALL(IF(اقساط!$G$3:$G$8532=B2836,ROW($AT$3:$AT$8532)-ROW($AT$3)+1),ROWS($A$3:A2836))),\"\")","v":0},null,{"$f":"IFERROR(INDEX(اقساط!$B$3:$B$8532,SMALL(IF(اقساط!$G$3:$G$8532=B2836,ROW($B$3:$B$8532)-ROW($B$3)+1),ROWS($C$3:C2836))),\"\")","v":0}]
[{"$f":"IFERROR(INDEX(اقساط!$AT$3:$AT$8532,SMALL(IF(اقساط!$G$3:$G$8532=B2837,ROW($AT$3:$AT$8532)-ROW($AT$3)+1),ROWS($A$3:A2837))),\"\")","v":0},null,{"$f":"IFERROR(INDEX(اقساط!$B$3:$B$8532,SMALL(IF(اقساط!$G$3:$G$8532=B2837,ROW($B$3:$B$8532)-ROW($B$3)+1),ROWS($C$3:C2837))),\"\")","v":0}]
[{"$f":"IFERROR(INDEX(اقساط!$AT$3:$AT$8532,SMALL(IF(اقساط!$G$3:$G$8532=B2838,ROW($AT$3:$AT$8532)-ROW($AT$3)+1),ROWS($A$3:A2838))),\"\")","v":0},null,{"$f":"IFERROR(INDEX(اقساط!$B$3:$B$8532,SMALL(IF(اقساط!$G$3:$G$8532=B2838,ROW($B$3:$B$8532)-ROW($B$3)+1),ROWS($C$3:C2838))),\"\")","v":0}]
[{"$f":"IFERROR(INDEX(اقساط!$AT$3:$AT$8532,SMALL(IF(اقساط!$G$3:$G$8532=B2839,ROW($AT$3:$AT$8532)-ROW($AT$3)+1),ROWS($A$3:A2839))),\"\")","v":0},null,{"$f":"IFERROR(INDEX(اقساط!$B$3:$B$8532,SMALL(IF(اقساط!$G$3:$G$8532=B2839,ROW($B$3:$B$8532)-ROW($B$3)+1),ROWS($C$3:C2839))),\"\")","v":0}]
[{"$f":"IFERROR(INDEX(اقساط!$AT$3:$AT$8532,SMALL(IF(اقساط!$G$3:$G$8532=B2840,ROW($AT$3:$AT$8532)-ROW($AT$3)+1),ROWS($A$3:A2840))),\"\")","v":0},null,{"$f":"IFERROR(INDEX(اقساط!$B$3:$B$8532,SMALL(IF(اقساط!$G$3:$G$8532=B2840,ROW($B$3:$B$8532)-ROW($B$3)+1),ROWS($C$3:C2840))),\"\")","v":0}]
[{"$f":"IFERROR(INDEX(اقساط!$AT$3:$AT$8532,SMALL(IF(اقساط!$G$3:$G$8532=B2841,ROW($AT$3:$AT$8532)-ROW($AT$3)+1),ROWS($A$3:A2841))),\"\")","v":0},null,{"$f":"IFERROR(INDEX(اقساط!$B$3:$B$8532,SMALL(IF(اقساط!$G$3:$G$8532=B2841,ROW($B$3:$B$8532)-ROW($B$3)+1),ROWS($C$3:C2841))),\"\")","v":0}]
[{"$f":"IFERROR(INDEX(اقساط!$AT$3:$AT$8532,SMALL(IF(اقساط!$G$3:$G$8532=B2842,ROW($AT$3:$AT$8532)-ROW($AT$3)+1),ROWS($A$3:A2842))),\"\")","v":0},null,{"$f":"IFERROR(INDEX(اقساط!$B$3:$B$8532,SMALL(IF(اقساط!$G$3:$G$8532=B2842,ROW($B$3:$B$8532)-ROW($B$3)+1),ROWS($C$3:C2842))),\"\")","v":0}]
[{"$f":"IFERROR(INDEX(اقساط!$AT$3:$AT$8532,SMALL(IF(اقساط!$G$3:$G$8532=B2843,ROW($AT$3:$AT$8532)-ROW($AT$3)+1),ROWS($A$3:A2843))),\"\")","v":0},null,{"$f":"IFERROR(INDEX(اقساط!$B$3:$B$8532,SMALL(IF(اقساط!$G$3:$G$8532=B2843,ROW($B$3:$B$8532)-ROW($B$3)+1),ROWS($C$3:C2843))),\"\")","v":0}]
[{"$f":"IFERROR(INDEX(اقساط!$AT$3:$AT$8532,SMALL(IF(اقساط!$G$3:$G$8532=B2844,ROW($AT$3:$AT$8532)-ROW($AT$3)+1),ROWS($A$3:A2844))),\"\")","v":0},null,{"$f":"IFERROR(INDEX(اقساط!$B$3:$B$8532,SMALL(IF(اقساط!$G$3:$G$8532=B2844,ROW($B$3:$B$8532)-ROW($B$3)+1),ROWS($C$3:C2844))),\"\")","v":0}]
[{"$f":"IFERROR(INDEX(اقساط!$AT$3:$AT$8532,SMALL(IF(اقساط!$G$3:$G$8532=B2845,ROW($AT$3:$AT$8532)-ROW($AT$3)+1),ROWS($A$3:A2845))),\"\")","v":0},null,{"$f":"IFERROR(INDEX(اقساط!$B$3:$B$8532,SMALL(IF(اقساط!$G$3:$G$8532=B2845,ROW($B$3:$B$8532)-ROW($B$3)+1),ROWS($C$3:C2845))),\"\")","v":0}]
[{"$f":"IFERROR(INDEX(اقساط!$AT$3:$AT$8532,SMALL(IF(اقساط!$G$3:$G$8532=B2846,ROW($AT$3:$AT$8532)-ROW($AT$3)+1),ROWS($A$3:A2846))),\"\")","v":0},null,{"$f":"IFERROR(INDEX(اقساط!$B$3:$B$8532,SMALL(IF(اقساط!$G$3:$G$8532=B2846,ROW($B$3:$B$8532)-ROW($B$3)+1),ROWS($C$3:C2846))),\"\")","v":0}]
[{"$f":"IFERROR(INDEX(اقساط!$AT$3:$AT$8532,SMALL(IF(اقساط!$G$3:$G$8532=B2847,ROW($AT$3:$AT$8532)-ROW($AT$3)+1),ROWS($A$3:A2847))),\"\")","v":0},null,{"$f":"IFERROR(INDEX(اقساط!$B$3:$B$8532,SMALL(IF(اقساط!$G$3:$G$8532=B2847,ROW($B$3:$B$8532)-ROW($B$3)+1),ROWS($C$3:C2847))),\"\")","v":0}]
[{"$f":"IFERROR(INDEX(اقساط!$AT$3:$AT$8532,SMALL(IF(اقساط!$G$3:$G$8532=B2848,ROW($AT$3:$AT$8532)-ROW($AT$3)+1),ROWS($A$3:A2848))),\"\")","v":0},null,{"$f":"IFERROR(INDEX(اقساط!$B$3:$B$8532,SMALL(IF(اقساط!$G$3:$G$8532=B2848,ROW($B$3:$B$8532)-ROW($B$3)+1),ROWS($C$3:C2848))),\"\")","v":0}]
[{"$f":"IFERROR(INDEX(اقساط!$AT$3:$AT$8532,SMALL(IF(اقساط!$G$3:$G$8532=B2849,ROW($AT$3:$AT$8532)-ROW($AT$3)+1),ROWS($A$3:A2849))),\"\")","v":0},null,{"$f":"IFERROR(INDEX(اقساط!$B$3:$B$8532,SMALL(IF(اقساط!$G$3:$G$8532=B2849,ROW($B$3:$B$8532)-ROW($B$3)+1),ROWS($C$3:C2849))),\"\")","v":0}]
[{"$f":"IFERROR(INDEX(اقساط!$AT$3:$AT$8532,SMALL(IF(اقساط!$G$3:$G$8532=B2850,ROW($AT$3:$AT$8532)-ROW($AT$3)+1),ROWS($A$3:A2850))),\"\")","v":0},null,{"$f":"IFERROR(INDEX(اقساط!$B$3:$B$8532,SMALL(IF(اقساط!$G$3:$G$8532=B2850,ROW($B$3:$B$8532)-ROW($B$3)+1),ROWS($C$3:C2850))),\"\")","v":0}]
[{"$f":"IFERROR(INDEX(اقساط!$AT$3:$AT$8532,SMALL(IF(اقساط!$G$3:$G$8532=B2851,ROW($AT$3:$AT$8532)-ROW($AT$3)+1),ROWS($A$3:A2851))),\"\")","v":0},null,{"$f":"IFERROR(INDEX(اقساط!$B$3:$B$8532,SMALL(IF(اقساط!$G$3:$G$8532=B2851,ROW($B$3:$B$8532)-ROW($B$3)+1),ROWS($C$3:C2851))),\"\")","v":0}]
[{"$f":"IFERROR(INDEX(اقساط!$AT$3:$AT$8532,SMALL(IF(اقساط!$G$3:$G$8532=B2852,ROW($AT$3:$AT$8532)-ROW($AT$3)+1),ROWS($A$3:A2852))),\"\")","v":0},null,{"$f":"IFERROR(INDEX(اقساط!$B$3:$B$8532,SMALL(IF(اقساط!$G$3:$G$8532=B2852,ROW($B$3:$B$8532)-ROW($B$3)+1),ROWS($C$3:C2852))),\"\")","v":0}]
[{"$f":"IFERROR(INDEX(اقساط!$AT$3:$AT$8532,SMALL(IF(اقساط!$G$3:$G$8532=B2853,ROW($AT$3:$AT$8532)-ROW($AT$3)+1),ROWS($A$3:A2853))),\"\")","v":0},null,{"$f":"IFERROR(INDEX(اقساط!$B$3:$B$8532,SMALL(IF(اقساط!$G$3:$G$8532=B2853,ROW($B$3:$B$8532)-ROW($B$3)+1),ROWS($C$3:C2853))),\"\")","v":0}]
[{"$f":"IFERROR(INDEX(اقساط!$AT$3:$AT$8532,SMALL(IF(اقساط!$G$3:$G$8532=B2854,ROW($AT$3:$AT$8532)-ROW($AT$3)+1),ROWS($A$3:A2854))),\"\")","v":0},null,{"$f":"IFERROR(INDEX(اقساط!$B$3:$B$8532,SMALL(IF(اقساط!$G$3:$G$8532=B2854,ROW($B$3:$B$8532)-ROW($B$3)+1),ROWS($C$3:C2854))),\"\")","v":0}]
[{"$f":"IFERROR(INDEX(اقساط!$AT$3:$AT$8532,SMALL(IF(اقساط!$G$3:$G$8532=B2855,ROW($AT$3:$AT$8532)-ROW($AT$3)+1),ROWS($A$3:A2855))),\"\")","v":0},null,{"$f":"IFERROR(INDEX(اقساط!$B$3:$B$8532,SMALL(IF(اقساط!$G$3:$G$8532=B2855,ROW($B$3:$B$8532)-ROW($B$3)+1),ROWS($C$3:C2855))),\"\")","v":0}]
[{"$f":"IFERROR(INDEX(اقساط!$AT$3:$AT$8532,SMALL(IF(اقساط!$G$3:$G$8532=B2856,ROW($AT$3:$AT$8532)-ROW($AT$3)+1),ROWS($A$3:A2856))),\"\")","v":0},null,{"$f":"IFERROR(INDEX(اقساط!$B$3:$B$8532,SMALL(IF(اقساط!$G$3:$G$8532=B2856,ROW($B$3:$B$8532)-ROW($B$3)+1),ROWS($C$3:C2856))),\"\")","v":0}]
[{"$f":"IFERROR(INDEX(اقساط!$AT$3:$AT$8532,SMALL(IF(اقساط!$G$3:$G$8532=B2857,ROW($AT$3:$AT$8532)-ROW($AT$3)+1),ROWS($A$3:A2857))),\"\")","v":0},null,{"$f":"IFERROR(INDEX(اقساط!$B$3:$B$8532,SMALL(IF(اقساط!$G$3:$G$8532=B2857,ROW($B$3:$B$8532)-ROW($B$3)+1),ROWS($C$3:C2857))),\"\")","v":0}]
[{"$f":"IFERROR(INDEX(اقساط!$AT$3:$AT$8532,SMALL(IF(اقساط!$G$3:$G$8532=B2858,ROW($AT$3:$AT$8532)-ROW($AT$3)+1),ROWS($A$3:A2858))),\"\")","v":0},null,{"$f":"IFERROR(INDEX(اقساط!$B$3:$B$8532,SMALL(IF(اقساط!$G$3:$G$8532=B2858,ROW($B$3:$B$8532)-ROW($B$3)+1),ROWS($C$3:C2858))),\"\")","v":0}]
[{"$f":"IFERROR(INDEX(اقساط!$AT$3:$AT$8532,SMALL(IF(اقساط!$G$3:$G$8532=B2859,ROW($AT$3:$AT$8532)-ROW($AT$3)+1),ROWS($A$3:A2859))),\"\")","v":0},null,{"$f":"IFERROR(INDEX(اقساط!$B$3:$B$8532,SMALL(IF(اقساط!$G$3:$G$8532=B2859,ROW($B$3:$B$8532)-ROW($B$3)+1),ROWS($C$3:C2859))),\"\")","v":0}]
[{"$f":"IFERROR(INDEX(اقساط!$AT$3:$AT$8532,SMALL(IF(اقساط!$G$3:$G$8532=B2860,ROW($AT$3:$AT$8532)-ROW($AT$3)+1),ROWS($A$3:A2860))),\"\")","v":0},null,{"$f":"IFERROR(INDEX(اقساط!$B$3:$B$8532,SMALL(IF(اقساط!$G$3:$G$8532=B2860,ROW($B$3:$B$8532)-ROW($B$3)+1),ROWS($C$3:C2860))),\"\")","v":0}]
[{"$f":"IFERROR(INDEX(اقساط!$AT$3:$AT$8532,SMALL(IF(اقساط!$G$3:$G$8532=B2861,ROW($AT$3:$AT$8532)-ROW($AT$3)+1),ROWS($A$3:A2861))),\"\")","v":0},null,{"$f":"IFERROR(INDEX(اقساط!$B$3:$B$8532,SMALL(IF(اقساط!$G$3:$G$8532=B2861,ROW($B$3:$B$8532)-ROW($B$3)+1),ROWS($C$3:C2861))),\"\")","v":0}]
[{"$f":"IFERROR(INDEX(اقساط!$AT$3:$AT$8532,SMALL(IF(اقساط!$G$3:$G$8532=B2862,ROW($AT$3:$AT$8532)-ROW($AT$3)+1),ROWS($A$3:A2862))),\"\")","v":0},null,{"$f":"IFERROR(INDEX(اقساط!$B$3:$B$8532,SMALL(IF(اقساط!$G$3:$G$8532=B2862,ROW($B$3:$B$8532)-ROW($B$3)+1),ROWS($C$3:C2862))),\"\")","v":0}]
[{"$f":"IFERROR(INDEX(اقساط!$AT$3:$AT$8532,SMALL(IF(اقساط!$G$3:$G$8532=B2863,ROW($AT$3:$AT$8532)-ROW($AT$3)+1),ROWS($A$3:A2863))),\"\")","v":0},null,{"$f":"IFERROR(INDEX(اقساط!$B$3:$B$8532,SMALL(IF(اقساط!$G$3:$G$8532=B2863,ROW($B$3:$B$8532)-ROW($B$3)+1),ROWS($C$3:C2863))),\"\")","v":0}]
[{"$f":"IFERROR(INDEX(اقساط!$AT$3:$AT$8532,SMALL(IF(اقساط!$G$3:$G$8532=B2864,ROW($AT$3:$AT$8532)-ROW($AT$3)+1),ROWS($A$3:A2864))),\"\")","v":0},null,{"$f":"IFERROR(INDEX(اقساط!$B$3:$B$8532,SMALL(IF(اقساط!$G$3:$G$8532=B2864,ROW($B$3:$B$8532)-ROW($B$3)+1),ROWS($C$3:C2864))),\"\")","v":0}]
[{"$f":"IFERROR(INDEX(اقساط!$AT$3:$AT$8532,SMALL(IF(اقساط!$G$3:$G$8532=B2865,ROW($AT$3:$AT$8532)-ROW($AT$3)+1),ROWS($A$3:A2865))),\"\")","v":0},null,{"$f":"IFERROR(INDEX(اقساط!$B$3:$B$8532,SMALL(IF(اقساط!$G$3:$G$8532=B2865,ROW($B$3:$B$8532)-ROW($B$3)+1),ROWS($C$3:C2865))),\"\")","v":0}]
[{"$f":"IFERROR(INDEX(اقساط!$AT$3:$AT$8532,SMALL(IF(اقساط!$G$3:$G$8532=B2866,ROW($AT$3:$AT$8532)-ROW($AT$3)+1),ROWS($A$3:A2866))),\"\")","v":0},null,{"$f":"IFERROR(INDEX(اقساط!$B$3:$B$8532,SMALL(IF(اقساط!$G$3:$G$8532=B2866,ROW($B$3:$B$8532)-ROW($B$3)+1),ROWS($C$3:C2866))),\"\")","v":0}]
[{"$f":"IFERROR(INDEX(اقساط!$AT$3:$AT$8532,SMALL(IF(اقساط!$G$3:$G$8532=B2867,ROW($AT$3:$AT$8532)-ROW($AT$3)+1),ROWS($A$3:A2867))),\"\")","v":0},null,{"$f":"IFERROR(INDEX(اقساط!$B$3:$B$8532,SMALL(IF(اقساط!$G$3:$G$8532=B2867,ROW($B$3:$B$8532)-ROW($B$3)+1),ROWS($C$3:C2867))),\"\")","v":0}]
[{"$f":"IFERROR(INDEX(اقساط!$AT$3:$AT$8532,SMALL(IF(اقساط!$G$3:$G$8532=B2868,ROW($AT$3:$AT$8532)-ROW($AT$3)+1),ROWS($A$3:A2868))),\"\")","v":0},null,{"$f":"IFERROR(INDEX(اقساط!$B$3:$B$8532,SMALL(IF(اقساط!$G$3:$G$8532=B2868,ROW($B$3:$B$8532)-ROW($B$3)+1),ROWS($C$3:C2868))),\"\")","v":0}]
[{"$f":"IFERROR(INDEX(اقساط!$AT$3:$AT$8532,SMALL(IF(اقساط!$G$3:$G$8532=B2869,ROW($AT$3:$AT$8532)-ROW($AT$3)+1),ROWS($A$3:A2869))),\"\")","v":0},null,{"$f":"IFERROR(INDEX(اقساط!$B$3:$B$8532,SMALL(IF(اقساط!$G$3:$G$8532=B2869,ROW($B$3:$B$8532)-ROW($B$3)+1),ROWS($C$3:C2869))),\"\")","v":0}]
[{"$f":"IFERROR(INDEX(اقساط!$AT$3:$AT$8532,SMALL(IF(اقساط!$G$3:$G$8532=B2870,ROW($AT$3:$AT$8532)-ROW($AT$3)+1),ROWS($A$3:A2870))),\"\")","v":0},null,{"$f":"IFERROR(INDEX(اقساط!$B$3:$B$8532,SMALL(IF(اقساط!$G$3:$G$8532=B2870,ROW($B$3:$B$8532)-ROW($B$3)+1),ROWS($C$3:C2870))),\"\")","v":0}]
[{"$f":"IFERROR(INDEX(اقساط!$AT$3:$AT$8532,SMALL(IF(اقساط!$G$3:$G$8532=B2871,ROW($AT$3:$AT$8532)-ROW($AT$3)+1),ROWS($A$3:A2871))),\"\")","v":0},null,{"$f":"IFERROR(INDEX(اقساط!$B$3:$B$8532,SMALL(IF(اقساط!$G$3:$G$8532=B2871,ROW($B$3:$B$8532)-ROW($B$3)+1),ROWS($C$3:C2871))),\"\")","v":0}]
[{"$f":"IFERROR(INDEX(اقساط!$AT$3:$AT$8532,SMALL(IF(اقساط!$G$3:$G$8532=B2872,ROW($AT$3:$AT$8532)-ROW($AT$3)+1),ROWS($A$3:A2872))),\"\")","v":0},null,{"$f":"IFERROR(INDEX(اقساط!$B$3:$B$8532,SMALL(IF(اقساط!$G$3:$G$8532=B2872,ROW($B$3:$B$8532)-ROW($B$3)+1),ROWS($C$3:C2872))),\"\")","v":0}]
[{"$f":"IFERROR(INDEX(اقساط!$AT$3:$AT$8532,SMALL(IF(اقساط!$G$3:$G$8532=B2873,ROW($AT$3:$AT$8532)-ROW($AT$3)+1),ROWS($A$3:A2873))),\"\")","v":0},null,{"$f":"IFERROR(INDEX(اقساط!$B$3:$B$8532,SMALL(IF(اقساط!$G$3:$G$8532=B2873,ROW($B$3:$B$8532)-ROW($B$3)+1),ROWS($C$3:C2873))),\"\")","v":0}]
[{"$f":"IFERROR(INDEX(اقساط!$AT$3:$AT$8532,SMALL(IF(اقساط!$G$3:$G$8532=B2874,ROW($AT$3:$AT$8532)-ROW($AT$3)+1),ROWS($A$3:A2874))),\"\")","v":0},null,{"$f":"IFERROR(INDEX(اقساط!$B$3:$B$8532,SMALL(IF(اقساط!$G$3:$G$8532=B2874,ROW($B$3:$B$8532)-ROW($B$3)+1),ROWS($C$3:C2874))),\"\")","v":0}]
[{"$f":"IFERROR(INDEX(اقساط!$AT$3:$AT$8532,SMALL(IF(اقساط!$G$3:$G$8532=B2875,ROW($AT$3:$AT$8532)-ROW($AT$3)+1),ROWS($A$3:A2875))),\"\")","v":0},null,{"$f":"IFERROR(INDEX(اقساط!$B$3:$B$8532,SMALL(IF(اقساط!$G$3:$G$8532=B2875,ROW($B$3:$B$8532)-ROW($B$3)+1),ROWS($C$3:C2875))),\"\")","v":0}]
[{"$f":"IFERROR(INDEX(اقساط!$AT$3:$AT$8532,SMALL(IF(اقساط!$G$3:$G$8532=B2876,ROW($AT$3:$AT$8532)-ROW($AT$3)+1),ROWS($A$3:A2876))),\"\")","v":0},null,{"$f":"IFERROR(INDEX(اقساط!$B$3:$B$8532,SMALL(IF(اقساط!$G$3:$G$8532=B2876,ROW($B$3:$B$8532)-ROW($B$3)+1),ROWS($C$3:C2876))),\"\")","v":0}]
[{"$f":"IFERROR(INDEX(اقساط!$AT$3:$AT$8532,SMALL(IF(اقساط!$G$3:$G$8532=B2877,ROW($AT$3:$AT$8532)-ROW($AT$3)+1),ROWS($A$3:A2877))),\"\")","v":0},null,{"$f":"IFERROR(INDEX(اقساط!$B$3:$B$8532,SMALL(IF(اقساط!$G$3:$G$8532=B2877,ROW($B$3:$B$8532)-ROW($B$3)+1),ROWS($C$3:C2877))),\"\")","v":0}]
[{"$f":"IFERROR(INDEX(اقساط!$AT$3:$AT$8532,SMALL(IF(اقساط!$G$3:$G$8532=B2878,ROW($AT$3:$AT$8532)-ROW($AT$3)+1),ROWS($A$3:A2878))),\"\")","v":0},null,{"$f":"IFERROR(INDEX(اقساط!$B$3:$B$8532,SMALL(IF(اقساط!$G$3:$G$8532=B2878,ROW($B$3:$B$8532)-ROW($B$3)+1),ROWS($C$3:C2878))),\"\")","v":0}]
[{"$f":"IFERROR(INDEX(اقساط!$AT$3:$AT$8532,SMALL(IF(اقساط!$G$3:$G$8532=B2879,ROW($AT$3:$AT$8532)-ROW($AT$3)+1),ROWS($A$3:A2879))),\"\")","v":0},null,{"$f":"IFERROR(INDEX(اقساط!$B$3:$B$8532,SMALL(IF(اقساط!$G$3:$G$8532=B2879,ROW($B$3:$B$8532)-ROW($B$3)+1),ROWS($C$3:C2879))),\"\")","v":0}]
[{"$f":"IFERROR(INDEX(اقساط!$AT$3:$AT$8532,SMALL(IF(اقساط!$G$3:$G$8532=B2880,ROW($AT$3:$AT$8532)-ROW($AT$3)+1),ROWS($A$3:A2880))),\"\")","v":0},null,{"$f":"IFERROR(INDEX(اقساط!$B$3:$B$8532,SMALL(IF(اقساط!$G$3:$G$8532=B2880,ROW($B$3:$B$8532)-ROW($B$3)+1),ROWS($C$3:C2880))),\"\")","v":0}]
[{"$f":"IFERROR(INDEX(اقساط!$AT$3:$AT$8532,SMALL(IF(اقساط!$G$3:$G$8532=B2881,ROW($AT$3:$AT$8532)-ROW($AT$3)+1),ROWS($A$3:A2881))),\"\")","v":0},null,{"$f":"IFERROR(INDEX(اقساط!$B$3:$B$8532,SMALL(IF(اقساط!$G$3:$G$8532=B2881,ROW($B$3:$B$8532)-ROW($B$3)+1),ROWS($C$3:C2881))),\"\")","v":0}]
[{"$f":"IFERROR(INDEX(اقساط!$AT$3:$AT$8532,SMALL(IF(اقساط!$G$3:$G$8532=B2882,ROW($AT$3:$AT$8532)-ROW($AT$3)+1),ROWS($A$3:A2882))),\"\")","v":0},null,{"$f":"IFERROR(INDEX(اقساط!$B$3:$B$8532,SMALL(IF(اقساط!$G$3:$G$8532=B2882,ROW($B$3:$B$8532)-ROW($B$3)+1),ROWS($C$3:C2882))),\"\")","v":0}]
[{"$f":"IFERROR(INDEX(اقساط!$AT$3:$AT$8532,SMALL(IF(اقساط!$G$3:$G$8532=B2883,ROW($AT$3:$AT$8532)-ROW($AT$3)+1),ROWS($A$3:A2883))),\"\")","v":0},null,{"$f":"IFERROR(INDEX(اقساط!$B$3:$B$8532,SMALL(IF(اقساط!$G$3:$G$8532=B2883,ROW($B$3:$B$8532)-ROW($B$3)+1),ROWS($C$3:C2883))),\"\")","v":0}]
[{"$f":"IFERROR(INDEX(اقساط!$AT$3:$AT$8532,SMALL(IF(اقساط!$G$3:$G$8532=B2884,ROW($AT$3:$AT$8532)-ROW($AT$3)+1),ROWS($A$3:A2884))),\"\")","v":0},null,{"$f":"IFERROR(INDEX(اقساط!$B$3:$B$8532,SMALL(IF(اقساط!$G$3:$G$8532=B2884,ROW($B$3:$B$8532)-ROW($B$3)+1),ROWS($C$3:C2884))),\"\")","v":0}]
[{"$f":"IFERROR(INDEX(اقساط!$AT$3:$AT$8532,SMALL(IF(اقساط!$G$3:$G$8532=B2885,ROW($AT$3:$AT$8532)-ROW($AT$3)+1),ROWS($A$3:A2885))),\"\")","v":0},null,{"$f":"IFERROR(INDEX(اقساط!$B$3:$B$8532,SMALL(IF(اقساط!$G$3:$G$8532=B2885,ROW($B$3:$B$8532)-ROW($B$3)+1),ROWS($C$3:C2885))),\"\")","v":0}]
[{"$f":"IFERROR(INDEX(اقساط!$AT$3:$AT$8532,SMALL(IF(اقساط!$G$3:$G$8532=B2886,ROW($AT$3:$AT$8532)-ROW($AT$3)+1),ROWS($A$3:A2886))),\"\")","v":0},null,{"$f":"IFERROR(INDEX(اقساط!$B$3:$B$8532,SMALL(IF(اقساط!$G$3:$G$8532=B2886,ROW($B$3:$B$8532)-ROW($B$3)+1),ROWS($C$3:C2886))),\"\")","v":0}]
[{"$f":"IFERROR(INDEX(اقساط!$AT$3:$AT$8532,SMALL(IF(اقساط!$G$3:$G$8532=B2887,ROW($AT$3:$AT$8532)-ROW($AT$3)+1),ROWS($A$3:A2887))),\"\")","v":0},null,{"$f":"IFERROR(INDEX(اقساط!$B$3:$B$8532,SMALL(IF(اقساط!$G$3:$G$8532=B2887,ROW($B$3:$B$8532)-ROW($B$3)+1),ROWS($C$3:C2887))),\"\")","v":0}]
[{"$f":"IFERROR(INDEX(اقساط!$AT$3:$AT$8532,SMALL(IF(اقساط!$G$3:$G$8532=B2888,ROW($AT$3:$AT$8532)-ROW($AT$3)+1),ROWS($A$3:A2888))),\"\")","v":0},null,{"$f":"IFERROR(INDEX(اقساط!$B$3:$B$8532,SMALL(IF(اقساط!$G$3:$G$8532=B2888,ROW($B$3:$B$8532)-ROW($B$3)+1),ROWS($C$3:C2888))),\"\")","v":0}]
[{"$f":"IFERROR(INDEX(اقساط!$AT$3:$AT$8532,SMALL(IF(اقساط!$G$3:$G$8532=B2889,ROW($AT$3:$AT$8532)-ROW($AT$3)+1),ROWS($A$3:A2889))),\"\")","v":0},null,{"$f":"IFERROR(INDEX(اقساط!$B$3:$B$8532,SMALL(IF(اقساط!$G$3:$G$8532=B2889,ROW($B$3:$B$8532)-ROW($B$3)+1),ROWS($C$3:C2889))),\"\")","v":0}]
[{"$f":"IFERROR(INDEX(اقساط!$AT$3:$AT$8532,SMALL(IF(اقساط!$G$3:$G$8532=B2890,ROW($AT$3:$AT$8532)-ROW($AT$3)+1),ROWS($A$3:A2890))),\"\")","v":0},null,{"$f":"IFERROR(INDEX(اقساط!$B$3:$B$8532,SMALL(IF(اقساط!$G$3:$G$8532=B2890,ROW($B$3:$B$8532)-ROW($B$3)+1),ROWS($C$3:C2890))),\"\")","v":0}]
[{"$f":"IFERROR(INDEX(اقساط!$AT$3:$AT$8532,SMALL(IF(اقساط!$G$3:$G$8532=B2891,ROW($AT$3:$AT$8532)-ROW($AT$3)+1),ROWS($A$3:A2891))),\"\")","v":0},null,{"$f":"IFERROR(INDEX(اقساط!$B$3:$B$8532,SMALL(IF(اقساط!$G$3:$G$8532=B2891,ROW($B$3:$B$8532)-ROW($B$3)+1),ROWS($C$3:C2891))),\"\")","v":0}]
[{"$f":"IFERROR(INDEX(اقساط!$AT$3:$AT$8532,SMALL(IF(اقساط!$G$3:$G$8532=B2892,ROW($AT$3:$AT$8532)-ROW($AT$3)+1),ROWS($A$3:A2892))),\"\")","v":0},null,{"$f":"IFERROR(INDEX(اقساط!$B$3:$B$8532,SMALL(IF(اقساط!$G$3:$G$8532=B2892,ROW($B$3:$B$8532)-ROW($B$3)+1),ROWS($C$3:C2892))),\"\")","v":0}]
[{"$f":"IFERROR(INDEX(اقساط!$AT$3:$AT$8532,SMALL(IF(اقساط!$G$3:$G$8532=B2893,ROW($AT$3:$AT$8532)-ROW($AT$3)+1),ROWS($A$3:A2893))),\"\")","v":0},null,{"$f":"IFERROR(INDEX(اقساط!$B$3:$B$8532,SMALL(IF(اقساط!$G$3:$G$8532=B2893,ROW($B$3:$B$8532)-ROW($B$3)+1),ROWS($C$3:C2893))),\"\")","v":0}]
[{"$f":"IFERROR(INDEX(اقساط!$AT$3:$AT$8532,SMALL(IF(اقساط!$G$3:$G$8532=B2894,ROW($AT$3:$AT$8532)-ROW($AT$3)+1),ROWS($A$3:A2894))),\"\")","v":0},null,{"$f":"IFERROR(INDEX(اقساط!$B$3:$B$8532,SMALL(IF(اقساط!$G$3:$G$8532=B2894,ROW($B$3:$B$8532)-ROW($B$3)+1),ROWS($C$3:C2894))),\"\")","v":0}]
[{"$f":"IFERROR(INDEX(اقساط!$AT$3:$AT$8532,SMALL(IF(اقساط!$G$3:$G$8532=B2895,ROW($AT$3:$AT$8532)-ROW($AT$3)+1),ROWS($A$3:A2895))),\"\")","v":0},null,{"$f":"IFERROR(INDEX(اقساط!$B$3:$B$8532,SMALL(IF(اقساط!$G$3:$G$8532=B2895,ROW($B$3:$B$8532)-ROW($B$3)+1),ROWS($C$3:C2895))),\"\")","v":0}]
[{"$f":"IFERROR(INDEX(اقساط!$AT$3:$AT$8532,SMALL(IF(اقساط!$G$3:$G$8532=B2896,ROW($AT$3:$AT$8532)-ROW($AT$3)+1),ROWS($A$3:A2896))),\"\")","v":0},null,{"$f":"IFERROR(INDEX(اقساط!$B$3:$B$8532,SMALL(IF(اقساط!$G$3:$G$8532=B2896,ROW($B$3:$B$8532)-ROW($B$3)+1),ROWS($C$3:C2896))),\"\")","v":0}]
[{"$f":"IFERROR(INDEX(اقساط!$AT$3:$AT$8532,SMALL(IF(اقساط!$G$3:$G$8532=B2897,ROW($AT$3:$AT$8532)-ROW($AT$3)+1),ROWS($A$3:A2897))),\"\")","v":0},null,{"$f":"IFERROR(INDEX(اقساط!$B$3:$B$8532,SMALL(IF(اقساط!$G$3:$G$8532=B2897,ROW($B$3:$B$8532)-ROW($B$3)+1),ROWS($C$3:C2897))),\"\")","v":0}]
[{"$f":"IFERROR(INDEX(اقساط!$AT$3:$AT$8532,SMALL(IF(اقساط!$G$3:$G$8532=B2898,ROW($AT$3:$AT$8532)-ROW($AT$3)+1),ROWS($A$3:A2898))),\"\")","v":0},null,{"$f":"IFERROR(INDEX(اقساط!$B$3:$B$8532,SMALL(IF(اقساط!$G$3:$G$8532=B2898,ROW($B$3:$B$8532)-ROW($B$3)+1),ROWS($C$3:C2898))),\"\")","v":0}]
[{"$f":"IFERROR(INDEX(اقساط!$AT$3:$AT$8532,SMALL(IF(اقساط!$G$3:$G$8532=B2899,ROW($AT$3:$AT$8532)-ROW($AT$3)+1),ROWS($A$3:A2899))),\"\")","v":0},null,{"$f":"IFERROR(INDEX(اقساط!$B$3:$B$8532,SMALL(IF(اقساط!$G$3:$G$8532=B2899,ROW($B$3:$B$8532)-ROW($B$3)+1),ROWS($C$3:C2899))),\"\")","v":0}]
[{"$f":"IFERROR(INDEX(اقساط!$AT$3:$AT$8532,SMALL(IF(اقساط!$G$3:$G$8532=B2900,ROW($AT$3:$AT$8532)-ROW($AT$3)+1),ROWS($A$3:A2900))),\"\")","v":0},null,{"$f":"IFERROR(INDEX(اقساط!$B$3:$B$8532,SMALL(IF(اقساط!$G$3:$G$8532=B2900,ROW($B$3:$B$8532)-ROW($B$3)+1),ROWS($C$3:C2900))),\"\")","v":0}]
[{"$f":"IFERROR(INDEX(اقساط!$AT$3:$AT$8532,SMALL(IF(اقساط!$G$3:$G$8532=B2901,ROW($AT$3:$AT$8532)-ROW($AT$3)+1),ROWS($A$3:A2901))),\"\")","v":0},null,{"$f":"IFERROR(INDEX(اقساط!$B$3:$B$8532,SMALL(IF(اقساط!$G$3:$G$8532=B2901,ROW($B$3:$B$8532)-ROW($B$3)+1),ROWS($C$3:C2901))),\"\")","v":0}]
[{"$f":"IFERROR(INDEX(اقساط!$AT$3:$AT$8532,SMALL(IF(اقساط!$G$3:$G$8532=B2902,ROW($AT$3:$AT$8532)-ROW($AT$3)+1),ROWS($A$3:A2902))),\"\")","v":0},null,{"$f":"IFERROR(INDEX(اقساط!$B$3:$B$8532,SMALL(IF(اقساط!$G$3:$G$8532=B2902,ROW($B$3:$B$8532)-ROW($B$3)+1),ROWS($C$3:C2902))),\"\")","v":0}]
[{"$f":"IFERROR(INDEX(اقساط!$AT$3:$AT$8532,SMALL(IF(اقساط!$G$3:$G$8532=B2903,ROW($AT$3:$AT$8532)-ROW($AT$3)+1),ROWS($A$3:A2903))),\"\")","v":0},null,{"$f":"IFERROR(INDEX(اقساط!$B$3:$B$8532,SMALL(IF(اقساط!$G$3:$G$8532=B2903,ROW($B$3:$B$8532)-ROW($B$3)+1),ROWS($C$3:C2903))),\"\")","v":0}]
[{"$f":"IFERROR(INDEX(اقساط!$AT$3:$AT$8532,SMALL(IF(اقساط!$G$3:$G$8532=B2904,ROW($AT$3:$AT$8532)-ROW($AT$3)+1),ROWS($A$3:A2904))),\"\")","v":0},null,{"$f":"IFERROR(INDEX(اقساط!$B$3:$B$8532,SMALL(IF(اقساط!$G$3:$G$8532=B2904,ROW($B$3:$B$8532)-ROW($B$3)+1),ROWS($C$3:C2904))),\"\")","v":0}]
[{"$f":"IFERROR(INDEX(اقساط!$AT$3:$AT$8532,SMALL(IF(اقساط!$G$3:$G$8532=B2905,ROW($AT$3:$AT$8532)-ROW($AT$3)+1),ROWS($A$3:A2905))),\"\")","v":0},null,{"$f":"IFERROR(INDEX(اقساط!$B$3:$B$8532,SMALL(IF(اقساط!$G$3:$G$8532=B2905,ROW($B$3:$B$8532)-ROW($B$3)+1),ROWS($C$3:C2905))),\"\")","v":0}]
[{"$f":"IFERROR(INDEX(اقساط!$AT$3:$AT$8532,SMALL(IF(اقساط!$G$3:$G$8532=B2906,ROW($AT$3:$AT$8532)-ROW($AT$3)+1),ROWS($A$3:A2906))),\"\")","v":0},null,{"$f":"IFERROR(INDEX(اقساط!$B$3:$B$8532,SMALL(IF(اقساط!$G$3:$G$8532=B2906,ROW($B$3:$B$8532)-ROW($B$3)+1),ROWS($C$3:C2906))),\"\")","v":0}]
[{"$f":"IFERROR(INDEX(اقساط!$AT$3:$AT$8532,SMALL(IF(اقساط!$G$3:$G$8532=B2907,ROW($AT$3:$AT$8532)-ROW($AT$3)+1),ROWS($A$3:A2907))),\"\")","v":0},null,{"$f":"IFERROR(INDEX(اقساط!$B$3:$B$8532,SMALL(IF(اقساط!$G$3:$G$8532=B2907,ROW($B$3:$B$8532)-ROW($B$3)+1),ROWS($C$3:C2907))),\"\")","v":0}]
[{"$f":"IFERROR(INDEX(اقساط!$AT$3:$AT$8532,SMALL(IF(اقساط!$G$3:$G$8532=B2908,ROW($AT$3:$AT$8532)-ROW($AT$3)+1),ROWS($A$3:A2908))),\"\")","v":0},null,{"$f":"IFERROR(INDEX(اقساط!$B$3:$B$8532,SMALL(IF(اقساط!$G$3:$G$8532=B2908,ROW($B$3:$B$8532)-ROW($B$3)+1),ROWS($C$3:C2908))),\"\")","v":0}]
[{"$f":"IFERROR(INDEX(اقساط!$AT$3:$AT$8532,SMALL(IF(اقساط!$G$3:$G$8532=B2909,ROW($AT$3:$AT$8532)-ROW($AT$3)+1),ROWS($A$3:A2909))),\"\")","v":0},null,{"$f":"IFERROR(INDEX(اقساط!$B$3:$B$8532,SMALL(IF(اقساط!$G$3:$G$8532=B2909,ROW($B$3:$B$8532)-ROW($B$3)+1),ROWS($C$3:C2909))),\"\")","v":0}]
[{"$f":"IFERROR(INDEX(اقساط!$AT$3:$AT$8532,SMALL(IF(اقساط!$G$3:$G$8532=B2910,ROW($AT$3:$AT$8532)-ROW($AT$3)+1),ROWS($A$3:A2910))),\"\")","v":0},null,{"$f":"IFERROR(INDEX(اقساط!$B$3:$B$8532,SMALL(IF(اقساط!$G$3:$G$8532=B2910,ROW($B$3:$B$8532)-ROW($B$3)+1),ROWS($C$3:C2910))),\"\")","v":0}]
[{"$f":"IFERROR(INDEX(اقساط!$AT$3:$AT$8532,SMALL(IF(اقساط!$G$3:$G$8532=B2911,ROW($AT$3:$AT$8532)-ROW($AT$3)+1),ROWS($A$3:A2911))),\"\")","v":0},null,{"$f":"IFERROR(INDEX(اقساط!$B$3:$B$8532,SMALL(IF(اقساط!$G$3:$G$8532=B2911,ROW($B$3:$B$8532)-ROW($B$3)+1),ROWS($C$3:C2911))),\"\")","v":0}]
[{"$f":"IFERROR(INDEX(اقساط!$AT$3:$AT$8532,SMALL(IF(اقساط!$G$3:$G$8532=B2912,ROW($AT$3:$AT$8532)-ROW($AT$3)+1),ROWS($A$3:A2912))),\"\")","v":0},null,{"$f":"IFERROR(INDEX(اقساط!$B$3:$B$8532,SMALL(IF(اقساط!$G$3:$G$8532=B2912,ROW($B$3:$B$8532)-ROW($B$3)+1),ROWS($C$3:C2912))),\"\")","v":0}]
[{"$f":"IFERROR(INDEX(اقساط!$AT$3:$AT$8532,SMALL(IF(اقساط!$G$3:$G$8532=B2913,ROW($AT$3:$AT$8532)-ROW($AT$3)+1),ROWS($A$3:A2913))),\"\")","v":0},null,{"$f":"IFERROR(INDEX(اقساط!$B$3:$B$8532,SMALL(IF(اقساط!$G$3:$G$8532=B2913,ROW($B$3:$B$8532)-ROW($B$3)+1),ROWS($C$3:C2913))),\"\")","v":0}]
[{"$f":"IFERROR(INDEX(اقساط!$AT$3:$AT$8532,SMALL(IF(اقساط!$G$3:$G$8532=B2914,ROW($AT$3:$AT$8532)-ROW($AT$3)+1),ROWS($A$3:A2914))),\"\")","v":0},null,{"$f":"IFERROR(INDEX(اقساط!$B$3:$B$8532,SMALL(IF(اقساط!$G$3:$G$8532=B2914,ROW($B$3:$B$8532)-ROW($B$3)+1),ROWS($C$3:C2914))),\"\")","v":0}]
[{"$f":"IFERROR(INDEX(اقساط!$AT$3:$AT$8532,SMALL(IF(اقساط!$G$3:$G$8532=B2915,ROW($AT$3:$AT$8532)-ROW($AT$3)+1),ROWS($A$3:A2915))),\"\")","v":0},null,{"$f":"IFERROR(INDEX(اقساط!$B$3:$B$8532,SMALL(IF(اقساط!$G$3:$G$8532=B2915,ROW($B$3:$B$8532)-ROW($B$3)+1),ROWS($C$3:C2915))),\"\")","v":0}]
[{"$f":"IFERROR(INDEX(اقساط!$AT$3:$AT$8532,SMALL(IF(اقساط!$G$3:$G$8532=B2916,ROW($AT$3:$AT$8532)-ROW($AT$3)+1),ROWS($A$3:A2916))),\"\")","v":0},null,{"$f":"IFERROR(INDEX(اقساط!$B$3:$B$8532,SMALL(IF(اقساط!$G$3:$G$8532=B2916,ROW($B$3:$B$8532)-ROW($B$3)+1),ROWS($C$3:C2916))),\"\")","v":0}]
[{"$f":"IFERROR(INDEX(اقساط!$AT$3:$AT$8532,SMALL(IF(اقساط!$G$3:$G$8532=B2917,ROW($AT$3:$AT$8532)-ROW($AT$3)+1),ROWS($A$3:A2917))),\"\")","v":0},null,{"$f":"IFERROR(INDEX(اقساط!$B$3:$B$8532,SMALL(IF(اقساط!$G$3:$G$8532=B2917,ROW($B$3:$B$8532)-ROW($B$3)+1),ROWS($C$3:C2917))),\"\")","v":0}]
[{"$f":"IFERROR(INDEX(اقساط!$AT$3:$AT$8532,SMALL(IF(اقساط!$G$3:$G$8532=B2918,ROW($AT$3:$AT$8532)-ROW($AT$3)+1),ROWS($A$3:A2918))),\"\")","v":0},null,{"$f":"IFERROR(INDEX(اقساط!$B$3:$B$8532,SMALL(IF(اقساط!$G$3:$G$8532=B2918,ROW($B$3:$B$8532)-ROW($B$3)+1),ROWS($C$3:C2918))),\"\")","v":0}]
[{"$f":"IFERROR(INDEX(اقساط!$AT$3:$AT$8532,SMALL(IF(اقساط!$G$3:$G$8532=B2919,ROW($AT$3:$AT$8532)-ROW($AT$3)+1),ROWS($A$3:A2919))),\"\")","v":0},null,{"$f":"IFERROR(INDEX(اقساط!$B$3:$B$8532,SMALL(IF(اقساط!$G$3:$G$8532=B2919,ROW($B$3:$B$8532)-ROW($B$3)+1),ROWS($C$3:C2919))),\"\")","v":0}]
[{"$f":"IFERROR(INDEX(اقساط!$AT$3:$AT$8532,SMALL(IF(اقساط!$G$3:$G$8532=B2920,ROW($AT$3:$AT$8532)-ROW($AT$3)+1),ROWS($A$3:A2920))),\"\")","v":0},null,{"$f":"IFERROR(INDEX(اقساط!$B$3:$B$8532,SMALL(IF(اقساط!$G$3:$G$8532=B2920,ROW($B$3:$B$8532)-ROW($B$3)+1),ROWS($C$3:C2920))),\"\")","v":0}]
[{"$f":"IFERROR(INDEX(اقساط!$AT$3:$AT$8532,SMALL(IF(اقساط!$G$3:$G$8532=B2921,ROW($AT$3:$AT$8532)-ROW($AT$3)+1),ROWS($A$3:A2921))),\"\")","v":0},null,{"$f":"IFERROR(INDEX(اقساط!$B$3:$B$8532,SMALL(IF(اقساط!$G$3:$G$8532=B2921,ROW($B$3:$B$8532)-ROW($B$3)+1),ROWS($C$3:C2921))),\"\")","v":0}]
[{"$f":"IFERROR(INDEX(اقساط!$AT$3:$AT$8532,SMALL(IF(اقساط!$G$3:$G$8532=B2922,ROW($AT$3:$AT$8532)-ROW($AT$3)+1),ROWS($A$3:A2922))),\"\")","v":0},null,{"$f":"IFERROR(INDEX(اقساط!$B$3:$B$8532,SMALL(IF(اقساط!$G$3:$G$8532=B2922,ROW($B$3:$B$8532)-ROW($B$3)+1),ROWS($C$3:C2922))),\"\")","v":0}]
[{"$f":"IFERROR(INDEX(اقساط!$AT$3:$AT$8532,SMALL(IF(اقساط!$G$3:$G$8532=B2923,ROW($AT$3:$AT$8532)-ROW($AT$3)+1),ROWS($A$3:A2923))),\"\")","v":0},null,{"$f":"IFERROR(INDEX(اقساط!$B$3:$B$8532,SMALL(IF(اقساط!$G$3:$G$8532=B2923,ROW($B$3:$B$8532)-ROW($B$3)+1),ROWS($C$3:C2923))),\"\")","v":0}]
[{"$f":"IFERROR(INDEX(اقساط!$AT$3:$AT$8532,SMALL(IF(اقساط!$G$3:$G$8532=B2924,ROW($AT$3:$AT$8532)-ROW($AT$3)+1),ROWS($A$3:A2924))),\"\")","v":0},null,{"$f":"IFERROR(INDEX(اقساط!$B$3:$B$8532,SMALL(IF(اقساط!$G$3:$G$8532=B2924,ROW($B$3:$B$8532)-ROW($B$3)+1),ROWS($C$3:C2924))),\"\")","v":0}]
[{"$f":"IFERROR(INDEX(اقساط!$AT$3:$AT$8532,SMALL(IF(اقساط!$G$3:$G$8532=B2925,ROW($AT$3:$AT$8532)-ROW($AT$3)+1),ROWS($A$3:A2925))),\"\")","v":0},null,{"$f":"IFERROR(INDEX(اقساط!$B$3:$B$8532,SMALL(IF(اقساط!$G$3:$G$8532=B2925,ROW($B$3:$B$8532)-ROW($B$3)+1),ROWS($C$3:C2925))),\"\")","v":0}]
[{"$f":"IFERROR(INDEX(اقساط!$AT$3:$AT$8532,SMALL(IF(اقساط!$G$3:$G$8532=B2926,ROW($AT$3:$AT$8532)-ROW($AT$3)+1),ROWS($A$3:A2926))),\"\")","v":0},null,{"$f":"IFERROR(INDEX(اقساط!$B$3:$B$8532,SMALL(IF(اقساط!$G$3:$G$8532=B2926,ROW($B$3:$B$8532)-ROW($B$3)+1),ROWS($C$3:C2926))),\"\")","v":0}]
[{"$f":"IFERROR(INDEX(اقساط!$AT$3:$AT$8532,SMALL(IF(اقساط!$G$3:$G$8532=B2927,ROW($AT$3:$AT$8532)-ROW($AT$3)+1),ROWS($A$3:A2927))),\"\")","v":0},null,{"$f":"IFERROR(INDEX(اقساط!$B$3:$B$8532,SMALL(IF(اقساط!$G$3:$G$8532=B2927,ROW($B$3:$B$8532)-ROW($B$3)+1),ROWS($C$3:C2927))),\"\")","v":0}]
[{"$f":"IFERROR(INDEX(اقساط!$AT$3:$AT$8532,SMALL(IF(اقساط!$G$3:$G$8532=B2928,ROW($AT$3:$AT$8532)-ROW($AT$3)+1),ROWS($A$3:A2928))),\"\")","v":0},null,{"$f":"IFERROR(INDEX(اقساط!$B$3:$B$8532,SMALL(IF(اقساط!$G$3:$G$8532=B2928,ROW($B$3:$B$8532)-ROW($B$3)+1),ROWS($C$3:C2928))),\"\")","v":0}]
[{"$f":"IFERROR(INDEX(اقساط!$AT$3:$AT$8532,SMALL(IF(اقساط!$G$3:$G$8532=B2929,ROW($AT$3:$AT$8532)-ROW($AT$3)+1),ROWS($A$3:A2929))),\"\")","v":0},null,{"$f":"IFERROR(INDEX(اقساط!$B$3:$B$8532,SMALL(IF(اقساط!$G$3:$G$8532=B2929,ROW($B$3:$B$8532)-ROW($B$3)+1),ROWS($C$3:C2929))),\"\")","v":0}]
[{"$f":"IFERROR(INDEX(اقساط!$AT$3:$AT$8532,SMALL(IF(اقساط!$G$3:$G$8532=B2930,ROW($AT$3:$AT$8532)-ROW($AT$3)+1),ROWS($A$3:A2930))),\"\")","v":0},null,{"$f":"IFERROR(INDEX(اقساط!$B$3:$B$8532,SMALL(IF(اقساط!$G$3:$G$8532=B2930,ROW($B$3:$B$8532)-ROW($B$3)+1),ROWS($C$3:C2930))),\"\")","v":0}]
[{"$f":"IFERROR(INDEX(اقساط!$AT$3:$AT$8532,SMALL(IF(اقساط!$G$3:$G$8532=B2931,ROW($AT$3:$AT$8532)-ROW($AT$3)+1),ROWS($A$3:A2931))),\"\")","v":0},null,{"$f":"IFERROR(INDEX(اقساط!$B$3:$B$8532,SMALL(IF(اقساط!$G$3:$G$8532=B2931,ROW($B$3:$B$8532)-ROW($B$3)+1),ROWS($C$3:C2931))),\"\")","v":0}]
[{"$f":"IFERROR(INDEX(اقساط!$AT$3:$AT$8532,SMALL(IF(اقساط!$G$3:$G$8532=B2932,ROW($AT$3:$AT$8532)-ROW($AT$3)+1),ROWS($A$3:A2932))),\"\")","v":0},null,{"$f":"IFERROR(INDEX(اقساط!$B$3:$B$8532,SMALL(IF(اقساط!$G$3:$G$8532=B2932,ROW($B$3:$B$8532)-ROW($B$3)+1),ROWS($C$3:C2932))),\"\")","v":0}]
[{"$f":"IFERROR(INDEX(اقساط!$AT$3:$AT$8532,SMALL(IF(اقساط!$G$3:$G$8532=B2933,ROW($AT$3:$AT$8532)-ROW($AT$3)+1),ROWS($A$3:A2933))),\"\")","v":0},null,{"$f":"IFERROR(INDEX(اقساط!$B$3:$B$8532,SMALL(IF(اقساط!$G$3:$G$8532=B2933,ROW($B$3:$B$8532)-ROW($B$3)+1),ROWS($C$3:C2933))),\"\")","v":0}]
[{"$f":"IFERROR(INDEX(اقساط!$AT$3:$AT$8532,SMALL(IF(اقساط!$G$3:$G$8532=B2934,ROW($AT$3:$AT$8532)-ROW($AT$3)+1),ROWS($A$3:A2934))),\"\")","v":0},null,{"$f":"IFERROR(INDEX(اقساط!$B$3:$B$8532,SMALL(IF(اقساط!$G$3:$G$8532=B2934,ROW($B$3:$B$8532)-ROW($B$3)+1),ROWS($C$3:C2934))),\"\")","v":0}]
[{"$f":"IFERROR(INDEX(اقساط!$AT$3:$AT$8532,SMALL(IF(اقساط!$G$3:$G$8532=B2935,ROW($AT$3:$AT$8532)-ROW($AT$3)+1),ROWS($A$3:A2935))),\"\")","v":0},null,{"$f":"IFERROR(INDEX(اقساط!$B$3:$B$8532,SMALL(IF(اقساط!$G$3:$G$8532=B2935,ROW($B$3:$B$8532)-ROW($B$3)+1),ROWS($C$3:C2935))),\"\")","v":0}]
[{"$f":"IFERROR(INDEX(اقساط!$AT$3:$AT$8532,SMALL(IF(اقساط!$G$3:$G$8532=B2936,ROW($AT$3:$AT$8532)-ROW($AT$3)+1),ROWS($A$3:A2936))),\"\")","v":0},null,{"$f":"IFERROR(INDEX(اقساط!$B$3:$B$8532,SMALL(IF(اقساط!$G$3:$G$8532=B2936,ROW($B$3:$B$8532)-ROW($B$3)+1),ROWS($C$3:C2936))),\"\")","v":0}]
[{"$f":"IFERROR(INDEX(اقساط!$AT$3:$AT$8532,SMALL(IF(اقساط!$G$3:$G$8532=B2937,ROW($AT$3:$AT$8532)-ROW($AT$3)+1),ROWS($A$3:A2937))),\"\")","v":0},null,{"$f":"IFERROR(INDEX(اقساط!$B$3:$B$8532,SMALL(IF(اقساط!$G$3:$G$8532=B2937,ROW($B$3:$B$8532)-ROW($B$3)+1),ROWS($C$3:C2937))),\"\")","v":0}]
[{"$f":"IFERROR(INDEX(اقساط!$AT$3:$AT$8532,SMALL(IF(اقساط!$G$3:$G$8532=B2938,ROW($AT$3:$AT$8532)-ROW($AT$3)+1),ROWS($A$3:A2938))),\"\")","v":0},null,{"$f":"IFERROR(INDEX(اقساط!$B$3:$B$8532,SMALL(IF(اقساط!$G$3:$G$8532=B2938,ROW($B$3:$B$8532)-ROW($B$3)+1),ROWS($C$3:C2938))),\"\")","v":0}]
[{"$f":"IFERROR(INDEX(اقساط!$AT$3:$AT$8532,SMALL(IF(اقساط!$G$3:$G$8532=B2939,ROW($AT$3:$AT$8532)-ROW($AT$3)+1),ROWS($A$3:A2939))),\"\")","v":0},null,{"$f":"IFERROR(INDEX(اقساط!$B$3:$B$8532,SMALL(IF(اقساط!$G$3:$G$8532=B2939,ROW($B$3:$B$8532)-ROW($B$3)+1),ROWS($C$3:C2939))),\"\")","v":0}]
[{"$f":"IFERROR(INDEX(اقساط!$AT$3:$AT$8532,SMALL(IF(اقساط!$G$3:$G$8532=B2940,ROW($AT$3:$AT$8532)-ROW($AT$3)+1),ROWS($A$3:A2940))),\"\")","v":0},null,{"$f":"IFERROR(INDEX(اقساط!$B$3:$B$8532,SMALL(IF(اقساط!$G$3:$G$8532=B2940,ROW($B$3:$B$8532)-ROW($B$3)+1),ROWS($C$3:C2940))),\"\")","v":0}]
[{"$f":"IFERROR(INDEX(اقساط!$AT$3:$AT$8532,SMALL(IF(اقساط!$G$3:$G$8532=B2941,ROW($AT$3:$AT$8532)-ROW($AT$3)+1),ROWS($A$3:A2941))),\"\")","v":0},null,{"$f":"IFERROR(INDEX(اقساط!$B$3:$B$8532,SMALL(IF(اقساط!$G$3:$G$8532=B2941,ROW($B$3:$B$8532)-ROW($B$3)+1),ROWS($C$3:C2941))),\"\")","v":0}]
[{"$f":"IFERROR(INDEX(اقساط!$AT$3:$AT$8532,SMALL(IF(اقساط!$G$3:$G$8532=B2942,ROW($AT$3:$AT$8532)-ROW($AT$3)+1),ROWS($A$3:A2942))),\"\")","v":0},null,{"$f":"IFERROR(INDEX(اقساط!$B$3:$B$8532,SMALL(IF(اقساط!$G$3:$G$8532=B2942,ROW($B$3:$B$8532)-ROW($B$3)+1),ROWS($C$3:C2942))),\"\")","v":0}]
[{"$f":"IFERROR(INDEX(اقساط!$AT$3:$AT$8532,SMALL(IF(اقساط!$G$3:$G$8532=B2943,ROW($AT$3:$AT$8532)-ROW($AT$3)+1),ROWS($A$3:A2943))),\"\")","v":0},null,{"$f":"IFERROR(INDEX(اقساط!$B$3:$B$8532,SMALL(IF(اقساط!$G$3:$G$8532=B2943,ROW($B$3:$B$8532)-ROW($B$3)+1),ROWS($C$3:C2943))),\"\")","v":0}]
[{"$f":"IFERROR(INDEX(اقساط!$AT$3:$AT$8532,SMALL(IF(اقساط!$G$3:$G$8532=B2944,ROW($AT$3:$AT$8532)-ROW($AT$3)+1),ROWS($A$3:A2944))),\"\")","v":0},null,{"$f":"IFERROR(INDEX(اقساط!$B$3:$B$8532,SMALL(IF(اقساط!$G$3:$G$8532=B2944,ROW($B$3:$B$8532)-ROW($B$3)+1),ROWS($C$3:C2944))),\"\")","v":0}]
[{"$f":"IFERROR(INDEX(اقساط!$AT$3:$AT$8532,SMALL(IF(اقساط!$G$3:$G$8532=B2945,ROW($AT$3:$AT$8532)-ROW($AT$3)+1),ROWS($A$3:A2945))),\"\")","v":0},null,{"$f":"IFERROR(INDEX(اقساط!$B$3:$B$8532,SMALL(IF(اقساط!$G$3:$G$8532=B2945,ROW($B$3:$B$8532)-ROW($B$3)+1),ROWS($C$3:C2945))),\"\")","v":0}]
[{"$f":"IFERROR(INDEX(اقساط!$AT$3:$AT$8532,SMALL(IF(اقساط!$G$3:$G$8532=B2946,ROW($AT$3:$AT$8532)-ROW($AT$3)+1),ROWS($A$3:A2946))),\"\")","v":0},null,{"$f":"IFERROR(INDEX(اقساط!$B$3:$B$8532,SMALL(IF(اقساط!$G$3:$G$8532=B2946,ROW($B$3:$B$8532)-ROW($B$3)+1),ROWS($C$3:C2946))),\"\")","v":0}]
[{"$f":"IFERROR(INDEX(اقساط!$AT$3:$AT$8532,SMALL(IF(اقساط!$G$3:$G$8532=B2947,ROW($AT$3:$AT$8532)-ROW($AT$3)+1),ROWS($A$3:A2947))),\"\")","v":0},null,{"$f":"IFERROR(INDEX(اقساط!$B$3:$B$8532,SMALL(IF(اقساط!$G$3:$G$8532=B2947,ROW($B$3:$B$8532)-ROW($B$3)+1),ROWS($C$3:C2947))),\"\")","v":0}]
[{"$f":"IFERROR(INDEX(اقساط!$AT$3:$AT$8532,SMALL(IF(اقساط!$G$3:$G$8532=B2948,ROW($AT$3:$AT$8532)-ROW($AT$3)+1),ROWS($A$3:A2948))),\"\")","v":0},null,{"$f":"IFERROR(INDEX(اقساط!$B$3:$B$8532,SMALL(IF(اقساط!$G$3:$G$8532=B2948,ROW($B$3:$B$8532)-ROW($B$3)+1),ROWS($C$3:C2948))),\"\")","v":0}]
[{"$f":"IFERROR(INDEX(اقساط!$AT$3:$AT$8532,SMALL(IF(اقساط!$G$3:$G$8532=B2949,ROW($AT$3:$AT$8532)-ROW($AT$3)+1),ROWS($A$3:A2949))),\"\")","v":0},null,{"$f":"IFERROR(INDEX(اقساط!$B$3:$B$8532,SMALL(IF(اقساط!$G$3:$G$8532=B2949,ROW($B$3:$B$8532)-ROW($B$3)+1),ROWS($C$3:C2949))),\"\")","v":0}]
[{"$f":"IFERROR(INDEX(اقساط!$AT$3:$AT$8532,SMALL(IF(اقساط!$G$3:$G$8532=B2950,ROW($AT$3:$AT$8532)-ROW($AT$3)+1),ROWS($A$3:A2950))),\"\")","v":0},null,{"$f":"IFERROR(INDEX(اقساط!$B$3:$B$8532,SMALL(IF(اقساط!$G$3:$G$8532=B2950,ROW($B$3:$B$8532)-ROW($B$3)+1),ROWS($C$3:C2950))),\"\")","v":0}]
[{"$f":"IFERROR(INDEX(اقساط!$AT$3:$AT$8532,SMALL(IF(اقساط!$G$3:$G$8532=B2951,ROW($AT$3:$AT$8532)-ROW($AT$3)+1),ROWS($A$3:A2951))),\"\")","v":0},null,{"$f":"IFERROR(INDEX(اقساط!$B$3:$B$8532,SMALL(IF(اقساط!$G$3:$G$8532=B2951,ROW($B$3:$B$8532)-ROW($B$3)+1),ROWS($C$3:C2951))),\"\")","v":0}]
[{"$f":"IFERROR(INDEX(اقساط!$AT$3:$AT$8532,SMALL(IF(اقساط!$G$3:$G$8532=B2952,ROW($AT$3:$AT$8532)-ROW($AT$3)+1),ROWS($A$3:A2952))),\"\")","v":0},null,{"$f":"IFERROR(INDEX(اقساط!$B$3:$B$8532,SMALL(IF(اقساط!$G$3:$G$8532=B2952,ROW($B$3:$B$8532)-ROW($B$3)+1),ROWS($C$3:C2952))),\"\")","v":0}]
[{"$f":"IFERROR(INDEX(اقساط!$AT$3:$AT$8532,SMALL(IF(اقساط!$G$3:$G$8532=B2953,ROW($AT$3:$AT$8532)-ROW($AT$3)+1),ROWS($A$3:A2953))),\"\")","v":0},null,{"$f":"IFERROR(INDEX(اقساط!$B$3:$B$8532,SMALL(IF(اقساط!$G$3:$G$8532=B2953,ROW($B$3:$B$8532)-ROW($B$3)+1),ROWS($C$3:C2953))),\"\")","v":0}]
[{"$f":"IFERROR(INDEX(اقساط!$AT$3:$AT$8532,SMALL(IF(اقساط!$G$3:$G$8532=B2954,ROW($AT$3:$AT$8532)-ROW($AT$3)+1),ROWS($A$3:A2954))),\"\")","v":0},null,{"$f":"IFERROR(INDEX(اقساط!$B$3:$B$8532,SMALL(IF(اقساط!$G$3:$G$8532=B2954,ROW($B$3:$B$8532)-ROW($B$3)+1),ROWS($C$3:C2954))),\"\")","v":0}]
[{"$f":"IFERROR(INDEX(اقساط!$AT$3:$AT$8532,SMALL(IF(اقساط!$G$3:$G$8532=B2955,ROW($AT$3:$AT$8532)-ROW($AT$3)+1),ROWS($A$3:A2955))),\"\")","v":0},null,{"$f":"IFERROR(INDEX(اقساط!$B$3:$B$8532,SMALL(IF(اقساط!$G$3:$G$8532=B2955,ROW($B$3:$B$8532)-ROW($B$3)+1),ROWS($C$3:C2955))),\"\")","v":0}]
[{"$f":"IFERROR(INDEX(اقساط!$AT$3:$AT$8532,SMALL(IF(اقساط!$G$3:$G$8532=B2956,ROW($AT$3:$AT$8532)-ROW($AT$3)+1),ROWS($A$3:A2956))),\"\")","v":0},null,{"$f":"IFERROR(INDEX(اقساط!$B$3:$B$8532,SMALL(IF(اقساط!$G$3:$G$8532=B2956,ROW($B$3:$B$8532)-ROW($B$3)+1),ROWS($C$3:C2956))),\"\")","v":0}]
[{"$f":"IFERROR(INDEX(اقساط!$AT$3:$AT$8532,SMALL(IF(اقساط!$G$3:$G$8532=B2957,ROW($AT$3:$AT$8532)-ROW($AT$3)+1),ROWS($A$3:A2957))),\"\")","v":0},null,{"$f":"IFERROR(INDEX(اقساط!$B$3:$B$8532,SMALL(IF(اقساط!$G$3:$G$8532=B2957,ROW($B$3:$B$8532)-ROW($B$3)+1),ROWS($C$3:C2957))),\"\")","v":0}]
[{"$f":"IFERROR(INDEX(اقساط!$AT$3:$AT$8532,SMALL(IF(اقساط!$G$3:$G$8532=B2958,ROW($AT$3:$AT$8532)-ROW($AT$3)+1),ROWS($A$3:A2958))),\"\")","v":0},null,{"$f":"IFERROR(INDEX(اقساط!$B$3:$B$8532,SMALL(IF(اقساط!$G$3:$G$8532=B2958,ROW($B$3:$B$8532)-ROW($B$3)+1),ROWS($C$3:C2958))),\"\")","v":0}]
[{"$f":"IFERROR(INDEX(اقساط!$AT$3:$AT$8532,SMALL(IF(اقساط!$G$3:$G$8532=B2959,ROW($AT$3:$AT$8532)-ROW($AT$3)+1),ROWS($A$3:A2959))),\"\")","v":0},null,{"$f":"IFERROR(INDEX(اقساط!$B$3:$B$8532,SMALL(IF(اقساط!$G$3:$G$8532=B2959,ROW($B$3:$B$8532)-ROW($B$3)+1),ROWS($C$3:C2959))),\"\")","v":0}]
[{"$f":"IFERROR(INDEX(اقساط!$AT$3:$AT$8532,SMALL(IF(اقساط!$G$3:$G$8532=B2960,ROW($AT$3:$AT$8532)-ROW($AT$3)+1),ROWS($A$3:A2960))),\"\")","v":0},null,{"$f":"IFERROR(INDEX(اقساط!$B$3:$B$8532,SMALL(IF(اقساط!$G$3:$G$8532=B2960,ROW($B$3:$B$8532)-ROW($B$3)+1),ROWS($C$3:C2960))),\"\")","v":0}]
[{"$f":"IFERROR(INDEX(اقساط!$AT$3:$AT$8532,SMALL(IF(اقساط!$G$3:$G$8532=B2961,ROW($AT$3:$AT$8532)-ROW($AT$3)+1),ROWS($A$3:A2961))),\"\")","v":0},null,{"$f":"IFERROR(INDEX(اقساط!$B$3:$B$8532,SMALL(IF(اقساط!$G$3:$G$8532=B2961,ROW($B$3:$B$8532)-ROW($B$3)+1),ROWS($C$3:C2961))),\"\")","v":0}]
[{"$f":"IFERROR(INDEX(اقساط!$AT$3:$AT$8532,SMALL(IF(اقساط!$G$3:$G$8532=B2962,ROW($AT$3:$AT$8532)-ROW($AT$3)+1),ROWS($A$3:A2962))),\"\")","v":0},null,{"$f":"IFERROR(INDEX(اقساط!$B$3:$B$8532,SMALL(IF(اقساط!$G$3:$G$8532=B2962,ROW($B$3:$B$8532)-ROW($B$3)+1),ROWS($C$3:C2962))),\"\")","v":0}]
[{"$f":"IFERROR(INDEX(اقساط!$AT$3:$AT$8532,SMALL(IF(اقساط!$G$3:$G$8532=B2963,ROW($AT$3:$AT$8532)-ROW($AT$3)+1),ROWS($A$3:A2963))),\"\")","v":0},null,{"$f":"IFERROR(INDEX(اقساط!$B$3:$B$8532,SMALL(IF(اقساط!$G$3:$G$8532=B2963,ROW($B$3:$B$8532)-ROW($B$3)+1),ROWS($C$3:C2963))),\"\")","v":0}]
[{"$f":"IFERROR(INDEX(اقساط!$AT$3:$AT$8532,SMALL(IF(اقساط!$G$3:$G$8532=B2964,ROW($AT$3:$AT$8532)-ROW($AT$3)+1),ROWS($A$3:A2964))),\"\")","v":0},null,{"$f":"IFERROR(INDEX(اقساط!$B$3:$B$8532,SMALL(IF(اقساط!$G$3:$G$8532=B2964,ROW($B$3:$B$8532)-ROW($B$3)+1),ROWS($C$3:C2964))),\"\")","v":0}]
[{"$f":"IFERROR(INDEX(اقساط!$AT$3:$AT$8532,SMALL(IF(اقساط!$G$3:$G$8532=B2965,ROW($AT$3:$AT$8532)-ROW($AT$3)+1),ROWS($A$3:A2965))),\"\")","v":0},null,{"$f":"IFERROR(INDEX(اقساط!$B$3:$B$8532,SMALL(IF(اقساط!$G$3:$G$8532=B2965,ROW($B$3:$B$8532)-ROW($B$3)+1),ROWS($C$3:C2965))),\"\")","v":0}]
[{"$f":"IFERROR(INDEX(اقساط!$AT$3:$AT$8532,SMALL(IF(اقساط!$G$3:$G$8532=B2966,ROW($AT$3:$AT$8532)-ROW($AT$3)+1),ROWS($A$3:A2966))),\"\")","v":0},null,{"$f":"IFERROR(INDEX(اقساط!$B$3:$B$8532,SMALL(IF(اقساط!$G$3:$G$8532=B2966,ROW($B$3:$B$8532)-ROW($B$3)+1),ROWS($C$3:C2966))),\"\")","v":0}]
[{"$f":"IFERROR(INDEX(اقساط!$AT$3:$AT$8532,SMALL(IF(اقساط!$G$3:$G$8532=B2967,ROW($AT$3:$AT$8532)-ROW($AT$3)+1),ROWS($A$3:A2967))),\"\")","v":0},null,{"$f":"IFERROR(INDEX(اقساط!$B$3:$B$8532,SMALL(IF(اقساط!$G$3:$G$8532=B2967,ROW($B$3:$B$8532)-ROW($B$3)+1),ROWS($C$3:C2967))),\"\")","v":0}]
[{"$f":"IFERROR(INDEX(اقساط!$AT$3:$AT$8532,SMALL(IF(اقساط!$G$3:$G$8532=B2968,ROW($AT$3:$AT$8532)-ROW($AT$3)+1),ROWS($A$3:A2968))),\"\")","v":0},null,{"$f":"IFERROR(INDEX(اقساط!$B$3:$B$8532,SMALL(IF(اقساط!$G$3:$G$8532=B2968,ROW($B$3:$B$8532)-ROW($B$3)+1),ROWS($C$3:C2968))),\"\")","v":0}]
[{"$f":"IFERROR(INDEX(اقساط!$AT$3:$AT$8532,SMALL(IF(اقساط!$G$3:$G$8532=B2969,ROW($AT$3:$AT$8532)-ROW($AT$3)+1),ROWS($A$3:A2969))),\"\")","v":0},null,{"$f":"IFERROR(INDEX(اقساط!$B$3:$B$8532,SMALL(IF(اقساط!$G$3:$G$8532=B2969,ROW($B$3:$B$8532)-ROW($B$3)+1),ROWS($C$3:C2969))),\"\")","v":0}]
[{"$f":"IFERROR(INDEX(اقساط!$AT$3:$AT$8532,SMALL(IF(اقساط!$G$3:$G$8532=B2970,ROW($AT$3:$AT$8532)-ROW($AT$3)+1),ROWS($A$3:A2970))),\"\")","v":0},null,{"$f":"IFERROR(INDEX(اقساط!$B$3:$B$8532,SMALL(IF(اقساط!$G$3:$G$8532=B2970,ROW($B$3:$B$8532)-ROW($B$3)+1),ROWS($C$3:C2970))),\"\")","v":0}]
[{"$f":"IFERROR(INDEX(اقساط!$AT$3:$AT$8532,SMALL(IF(اقساط!$G$3:$G$8532=B2971,ROW($AT$3:$AT$8532)-ROW($AT$3)+1),ROWS($A$3:A2971))),\"\")","v":0},null,{"$f":"IFERROR(INDEX(اقساط!$B$3:$B$8532,SMALL(IF(اقساط!$G$3:$G$8532=B2971,ROW($B$3:$B$8532)-ROW($B$3)+1),ROWS($C$3:C2971))),\"\")","v":0}]
[{"$f":"IFERROR(INDEX(اقساط!$AT$3:$AT$8532,SMALL(IF(اقساط!$G$3:$G$8532=B2972,ROW($AT$3:$AT$8532)-ROW($AT$3)+1),ROWS($A$3:A2972))),\"\")","v":0},null,{"$f":"IFERROR(INDEX(اقساط!$B$3:$B$8532,SMALL(IF(اقساط!$G$3:$G$8532=B2972,ROW($B$3:$B$8532)-ROW($B$3)+1),ROWS($C$3:C2972))),\"\")","v":0}]
[{"$f":"IFERROR(INDEX(اقساط!$AT$3:$AT$8532,SMALL(IF(اقساط!$G$3:$G$8532=B2973,ROW($AT$3:$AT$8532)-ROW($AT$3)+1),ROWS($A$3:A2973))),\"\")","v":0},null,{"$f":"IFERROR(INDEX(اقساط!$B$3:$B$8532,SMALL(IF(اقساط!$G$3:$G$8532=B2973,ROW($B$3:$B$8532)-ROW($B$3)+1),ROWS($C$3:C2973))),\"\")","v":0}]
[{"$f":"IFERROR(INDEX(اقساط!$AT$3:$AT$8532,SMALL(IF(اقساط!$G$3:$G$8532=B2974,ROW($AT$3:$AT$8532)-ROW($AT$3)+1),ROWS($A$3:A2974))),\"\")","v":0},null,{"$f":"IFERROR(INDEX(اقساط!$B$3:$B$8532,SMALL(IF(اقساط!$G$3:$G$8532=B2974,ROW($B$3:$B$8532)-ROW($B$3)+1),ROWS($C$3:C2974))),\"\")","v":0}]
[{"$f":"IFERROR(INDEX(اقساط!$AT$3:$AT$8532,SMALL(IF(اقساط!$G$3:$G$8532=B2975,ROW($AT$3:$AT$8532)-ROW($AT$3)+1),ROWS($A$3:A2975))),\"\")","v":0},null,{"$f":"IFERROR(INDEX(اقساط!$B$3:$B$8532,SMALL(IF(اقساط!$G$3:$G$8532=B2975,ROW($B$3:$B$8532)-ROW($B$3)+1),ROWS($C$3:C2975))),\"\")","v":0}]
[{"$f":"IFERROR(INDEX(اقساط!$AT$3:$AT$8532,SMALL(IF(اقساط!$G$3:$G$8532=B2976,ROW($AT$3:$AT$8532)-ROW($AT$3)+1),ROWS($A$3:A2976))),\"\")","v":0},null,{"$f":"IFERROR(INDEX(اقساط!$B$3:$B$8532,SMALL(IF(اقساط!$G$3:$G$8532=B2976,ROW($B$3:$B$8532)-ROW($B$3)+1),ROWS($C$3:C2976))),\"\")","v":0}]
[{"$f":"IFERROR(INDEX(اقساط!$AT$3:$AT$8532,SMALL(IF(اقساط!$G$3:$G$8532=B2977,ROW($AT$3:$AT$8532)-ROW($AT$3)+1),ROWS($A$3:A2977))),\"\")","v":0},null,{"$f":"IFERROR(INDEX(اقساط!$B$3:$B$8532,SMALL(IF(اقساط!$G$3:$G$8532=B2977,ROW($B$3:$B$8532)-ROW($B$3)+1),ROWS($C$3:C2977))),\"\")","v":0}]
[{"$f":"IFERROR(INDEX(اقساط!$AT$3:$AT$8532,SMALL(IF(اقساط!$G$3:$G$8532=B2978,ROW($AT$3:$AT$8532)-ROW($AT$3)+1),ROWS($A$3:A2978))),\"\")","v":0},null,{"$f":"IFERROR(INDEX(اقساط!$B$3:$B$8532,SMALL(IF(اقساط!$G$3:$G$8532=B2978,ROW($B$3:$B$8532)-ROW($B$3)+1),ROWS($C$3:C2978))),\"\")","v":0}]
[{"$f":"IFERROR(INDEX(اقساط!$AT$3:$AT$8532,SMALL(IF(اقساط!$G$3:$G$8532=B2979,ROW($AT$3:$AT$8532)-ROW($AT$3)+1),ROWS($A$3:A2979))),\"\")","v":0},null,{"$f":"IFERROR(INDEX(اقساط!$B$3:$B$8532,SMALL(IF(اقساط!$G$3:$G$8532=B2979,ROW($B$3:$B$8532)-ROW($B$3)+1),ROWS($C$3:C2979))),\"\")","v":0}]
[{"$f":"IFERROR(INDEX(اقساط!$AT$3:$AT$8532,SMALL(IF(اقساط!$G$3:$G$8532=B2980,ROW($AT$3:$AT$8532)-ROW($AT$3)+1),ROWS($A$3:A2980))),\"\")","v":0},null,{"$f":"IFERROR(INDEX(اقساط!$B$3:$B$8532,SMALL(IF(اقساط!$G$3:$G$8532=B2980,ROW($B$3:$B$8532)-ROW($B$3)+1),ROWS($C$3:C2980))),\"\")","v":0}]
[{"$f":"IFERROR(INDEX(اقساط!$AT$3:$AT$8532,SMALL(IF(اقساط!$G$3:$G$8532=B2981,ROW($AT$3:$AT$8532)-ROW($AT$3)+1),ROWS($A$3:A2981))),\"\")","v":0},null,{"$f":"IFERROR(INDEX(اقساط!$B$3:$B$8532,SMALL(IF(اقساط!$G$3:$G$8532=B2981,ROW($B$3:$B$8532)-ROW($B$3)+1),ROWS($C$3:C2981))),\"\")","v":0}]
[{"$f":"IFERROR(INDEX(اقساط!$AT$3:$AT$8532,SMALL(IF(اقساط!$G$3:$G$8532=B2982,ROW($AT$3:$AT$8532)-ROW($AT$3)+1),ROWS($A$3:A2982))),\"\")","v":0},null,{"$f":"IFERROR(INDEX(اقساط!$B$3:$B$8532,SMALL(IF(اقساط!$G$3:$G$8532=B2982,ROW($B$3:$B$8532)-ROW($B$3)+1),ROWS($C$3:C2982))),\"\")","v":0}]
[{"$f":"IFERROR(INDEX(اقساط!$AT$3:$AT$8532,SMALL(IF(اقساط!$G$3:$G$8532=B2983,ROW($AT$3:$AT$8532)-ROW($AT$3)+1),ROWS($A$3:A2983))),\"\")","v":0},null,{"$f":"IFERROR(INDEX(اقساط!$B$3:$B$8532,SMALL(IF(اقساط!$G$3:$G$8532=B2983,ROW($B$3:$B$8532)-ROW($B$3)+1),ROWS($C$3:C2983))),\"\")","v":0}]
[{"$f":"IFERROR(INDEX(اقساط!$AT$3:$AT$8532,SMALL(IF(اقساط!$G$3:$G$8532=B2984,ROW($AT$3:$AT$8532)-ROW($AT$3)+1),ROWS($A$3:A2984))),\"\")","v":0},null,{"$f":"IFERROR(INDEX(اقساط!$B$3:$B$8532,SMALL(IF(اقساط!$G$3:$G$8532=B2984,ROW($B$3:$B$8532)-ROW($B$3)+1),ROWS($C$3:C2984))),\"\")","v":0}]
[{"$f":"IFERROR(INDEX(اقساط!$AT$3:$AT$8532,SMALL(IF(اقساط!$G$3:$G$8532=B2985,ROW($AT$3:$AT$8532)-ROW($AT$3)+1),ROWS($A$3:A2985))),\"\")","v":0},null,{"$f":"IFERROR(INDEX(اقساط!$B$3:$B$8532,SMALL(IF(اقساط!$G$3:$G$8532=B2985,ROW($B$3:$B$8532)-ROW($B$3)+1),ROWS($C$3:C2985))),\"\")","v":0}]
[{"$f":"IFERROR(INDEX(اقساط!$AT$3:$AT$8532,SMALL(IF(اقساط!$G$3:$G$8532=B2986,ROW($AT$3:$AT$8532)-ROW($AT$3)+1),ROWS($A$3:A2986))),\"\")","v":0},null,{"$f":"IFERROR(INDEX(اقساط!$B$3:$B$8532,SMALL(IF(اقساط!$G$3:$G$8532=B2986,ROW($B$3:$B$8532)-ROW($B$3)+1),ROWS($C$3:C2986))),\"\")","v":0}]
[{"$f":"IFERROR(INDEX(اقساط!$AT$3:$AT$8532,SMALL(IF(اقساط!$G$3:$G$8532=B2987,ROW($AT$3:$AT$8532)-ROW($AT$3)+1),ROWS($A$3:A2987))),\"\")","v":0},null,{"$f":"IFERROR(INDEX(اقساط!$B$3:$B$8532,SMALL(IF(اقساط!$G$3:$G$8532=B2987,ROW($B$3:$B$8532)-ROW($B$3)+1),ROWS($C$3:C2987))),\"\")","v":0}]
[{"$f":"IFERROR(INDEX(اقساط!$AT$3:$AT$8532,SMALL(IF(اقساط!$G$3:$G$8532=B2988,ROW($AT$3:$AT$8532)-ROW($AT$3)+1),ROWS($A$3:A2988))),\"\")","v":0},null,{"$f":"IFERROR(INDEX(اقساط!$B$3:$B$8532,SMALL(IF(اقساط!$G$3:$G$8532=B2988,ROW($B$3:$B$8532)-ROW($B$3)+1),ROWS($C$3:C2988))),\"\")","v":0}]
[{"$f":"IFERROR(INDEX(اقساط!$AT$3:$AT$8532,SMALL(IF(اقساط!$G$3:$G$8532=B2989,ROW($AT$3:$AT$8532)-ROW($AT$3)+1),ROWS($A$3:A2989))),\"\")","v":0},null,{"$f":"IFERROR(INDEX(اقساط!$B$3:$B$8532,SMALL(IF(اقساط!$G$3:$G$8532=B2989,ROW($B$3:$B$8532)-ROW($B$3)+1),ROWS($C$3:C2989))),\"\")","v":0}]
[{"$f":"IFERROR(INDEX(اقساط!$AT$3:$AT$8532,SMALL(IF(اقساط!$G$3:$G$8532=B2990,ROW($AT$3:$AT$8532)-ROW($AT$3)+1),ROWS($A$3:A2990))),\"\")","v":0},null,{"$f":"IFERROR(INDEX(اقساط!$B$3:$B$8532,SMALL(IF(اقساط!$G$3:$G$8532=B2990,ROW($B$3:$B$8532)-ROW($B$3)+1),ROWS($C$3:C2990))),\"\")","v":0}]
[{"$f":"IFERROR(INDEX(اقساط!$AT$3:$AT$8532,SMALL(IF(اقساط!$G$3:$G$8532=B2991,ROW($AT$3:$AT$8532)-ROW($AT$3)+1),ROWS($A$3:A2991))),\"\")","v":0},null,{"$f":"IFERROR(INDEX(اقساط!$B$3:$B$8532,SMALL(IF(اقساط!$G$3:$G$8532=B2991,ROW($B$3:$B$8532)-ROW($B$3)+1),ROWS($C$3:C2991))),\"\")","v":0}]
[{"$f":"IFERROR(INDEX(اقساط!$AT$3:$AT$8532,SMALL(IF(اقساط!$G$3:$G$8532=B2992,ROW($AT$3:$AT$8532)-ROW($AT$3)+1),ROWS($A$3:A2992))),\"\")","v":0},null,{"$f":"IFERROR(INDEX(اقساط!$B$3:$B$8532,SMALL(IF(اقساط!$G$3:$G$8532=B2992,ROW($B$3:$B$8532)-ROW($B$3)+1),ROWS($C$3:C2992))),\"\")","v":0}]
[{"$f":"IFERROR(INDEX(اقساط!$AT$3:$AT$8532,SMALL(IF(اقساط!$G$3:$G$8532=B2993,ROW($AT$3:$AT$8532)-ROW($AT$3)+1),ROWS($A$3:A2993))),\"\")","v":0},null,{"$f":"IFERROR(INDEX(اقساط!$B$3:$B$8532,SMALL(IF(اقساط!$G$3:$G$8532=B2993,ROW($B$3:$B$8532)-ROW($B$3)+1),ROWS($C$3:C2993))),\"\")","v":0}]
[{"$f":"IFERROR(INDEX(اقساط!$AT$3:$AT$8532,SMALL(IF(اقساط!$G$3:$G$8532=B2994,ROW($AT$3:$AT$8532)-ROW($AT$3)+1),ROWS($A$3:A2994))),\"\")","v":0},null,{"$f":"IFERROR(INDEX(اقساط!$B$3:$B$8532,SMALL(IF(اقساط!$G$3:$G$8532=B2994,ROW($B$3:$B$8532)-ROW($B$3)+1),ROWS($C$3:C2994))),\"\")","v":0}]
[{"$f":"IFERROR(INDEX(اقساط!$AT$3:$AT$8532,SMALL(IF(اقساط!$G$3:$G$8532=B2995,ROW($AT$3:$AT$8532)-ROW($AT$3)+1),ROWS($A$3:A2995))),\"\")","v":0},null,{"$f":"IFERROR(INDEX(اقساط!$B$3:$B$8532,SMALL(IF(اقساط!$G$3:$G$8532=B2995,ROW($B$3:$B$8532)-ROW($B$3)+1),ROWS($C$3:C2995))),\"\")","v":0}]
[{"$f":"IFERROR(INDEX(اقساط!$AT$3:$AT$8532,SMALL(IF(اقساط!$G$3:$G$8532=B2996,ROW($AT$3:$AT$8532)-ROW($AT$3)+1),ROWS($A$3:A2996))),\"\")","v":0},null,{"$f":"IFERROR(INDEX(اقساط!$B$3:$B$8532,SMALL(IF(اقساط!$G$3:$G$8532=B2996,ROW($B$3:$B$8532)-ROW($B$3)+1),ROWS($C$3:C2996))),\"\")","v":0}]
[{"$f":"IFERROR(INDEX(اقساط!$AT$3:$AT$8532,SMALL(IF(اقساط!$G$3:$G$8532=B2997,ROW($AT$3:$AT$8532)-ROW($AT$3)+1),ROWS($A$3:A2997))),\"\")","v":0},null,{"$f":"IFERROR(INDEX(اقساط!$B$3:$B$8532,SMALL(IF(اقساط!$G$3:$G$8532=B2997,ROW($B$3:$B$8532)-ROW($B$3)+1),ROWS($C$3:C2997))),\"\")","v":0}]
[{"$f":"IFERROR(INDEX(اقساط!$AT$3:$AT$8532,SMALL(IF(اقساط!$G$3:$G$8532=B2998,ROW($AT$3:$AT$8532)-ROW($AT$3)+1),ROWS($A$3:A2998))),\"\")","v":0},null,{"$f":"IFERROR(INDEX(اقساط!$B$3:$B$8532,SMALL(IF(اقساط!$G$3:$G$8532=B2998,ROW($B$3:$B$8532)-ROW($B$3)+1),ROWS($C$3:C2998))),\"\")","v":0}]
[{"$f":"IFERROR(INDEX(اقساط!$AT$3:$AT$8532,SMALL(IF(اقساط!$G$3:$G$8532=B2999,ROW($AT$3:$AT$8532)-ROW($AT$3)+1),ROWS($A$3:A2999))),\"\")","v":0},null,{"$f":"IFERROR(INDEX(اقساط!$B$3:$B$8532,SMALL(IF(اقساط!$G$3:$G$8532=B2999,ROW($B$3:$B$8532)-ROW($B$3)+1),ROWS($C$3:C2999))),\"\")","v":0}]
[{"$f":"IFERROR(INDEX(اقساط!$AT$3:$AT$8532,SMALL(IF(اقساط!$G$3:$G$8532=B3000,ROW($AT$3:$AT$8532)-ROW($AT$3)+1),ROWS($A$3:A3000))),\"\")","v":0},null,{"$f":"IFERROR(INDEX(اقساط!$B$3:$B$8532,SMALL(IF(اقساط!$G$3:$G$8532=B3000,ROW($B$3:$B$8532)-ROW($B$3)+1),ROWS($C$3:C3000))),\"\")","v":0}]
[{"$f":"IFERROR(INDEX(اقساط!$AT$3:$AT$8532,SMALL(IF(اقساط!$G$3:$G$8532=B3001,ROW($AT$3:$AT$8532)-ROW($AT$3)+1),ROWS($A$3:A3001))),\"\")","v":0},null,{"$f":"IFERROR(INDEX(اقساط!$B$3:$B$8532,SMALL(IF(اقساط!$G$3:$G$8532=B3001,ROW($B$3:$B$8532)-ROW($B$3)+1),ROWS($C$3:C3001))),\"\")","v":0}]
[{"$f":"IFERROR(INDEX(اقساط!$AT$3:$AT$8532,SMALL(IF(اقساط!$G$3:$G$8532=B3002,ROW($AT$3:$AT$8532)-ROW($AT$3)+1),ROWS($A$3:A3002))),\"\")","v":0},null,{"$f":"IFERROR(INDEX(اقساط!$B$3:$B$8532,SMALL(IF(اقساط!$G$3:$G$8532=B3002,ROW($B$3:$B$8532)-ROW($B$3)+1),ROWS($C$3:C3002))),\"\")","v":0}]
[{"$f":"IFERROR(INDEX(اقساط!$AT$3:$AT$8532,SMALL(IF(اقساط!$G$3:$G$8532=B3003,ROW($AT$3:$AT$8532)-ROW($AT$3)+1),ROWS($A$3:A3003))),\"\")","v":0},null,{"$f":"IFERROR(INDEX(اقساط!$B$3:$B$8532,SMALL(IF(اقساط!$G$3:$G$8532=B3003,ROW($B$3:$B$8532)-ROW($B$3)+1),ROWS($C$3:C3003))),\"\")","v":0}]
[{"$f":"IFERROR(INDEX(اقساط!$AT$3:$AT$8532,SMALL(IF(اقساط!$G$3:$G$8532=B3004,ROW($AT$3:$AT$8532)-ROW($AT$3)+1),ROWS($A$3:A3004))),\"\")","v":0},null,{"$f":"IFERROR(INDEX(اقساط!$B$3:$B$8532,SMALL(IF(اقساط!$G$3:$G$8532=B3004,ROW($B$3:$B$8532)-ROW($B$3)+1),ROWS($C$3:C3004))),\"\")","v":0}]
[{"$f":"IFERROR(INDEX(اقساط!$AT$3:$AT$8532,SMALL(IF(اقساط!$G$3:$G$8532=B3005,ROW($AT$3:$AT$8532)-ROW($AT$3)+1),ROWS($A$3:A3005))),\"\")","v":0},null,{"$f":"IFERROR(INDEX(اقساط!$B$3:$B$8532,SMALL(IF(اقساط!$G$3:$G$8532=B3005,ROW($B$3:$B$8532)-ROW($B$3)+1),ROWS($C$3:C3005))),\"\")","v":0}]
[{"$f":"IFERROR(INDEX(اقساط!$AT$3:$AT$8532,SMALL(IF(اقساط!$G$3:$G$8532=B3006,ROW($AT$3:$AT$8532)-ROW($AT$3)+1),ROWS($A$3:A3006))),\"\")","v":0},null,{"$f":"IFERROR(INDEX(اقساط!$B$3:$B$8532,SMALL(IF(اقساط!$G$3:$G$8532=B3006,ROW($B$3:$B$8532)-ROW($B$3)+1),ROWS($C$3:C3006))),\"\")","v":0}]
[{"$f":"IFERROR(INDEX(اقساط!$AT$3:$AT$8532,SMALL(IF(اقساط!$G$3:$G$8532=B3007,ROW($AT$3:$AT$8532)-ROW($AT$3)+1),ROWS($A$3:A3007))),\"\")","v":0},null,{"$f":"IFERROR(INDEX(اقساط!$B$3:$B$8532,SMALL(IF(اقساط!$G$3:$G$8532=B3007,ROW($B$3:$B$8532)-ROW($B$3)+1),ROWS($C$3:C3007))),\"\")","v":0}]
[{"$f":"IFERROR(INDEX(اقساط!$AT$3:$AT$8532,SMALL(IF(اقساط!$G$3:$G$8532=B3008,ROW($AT$3:$AT$8532)-ROW($AT$3)+1),ROWS($A$3:A3008))),\"\")","v":0},null,{"$f":"IFERROR(INDEX(اقساط!$B$3:$B$8532,SMALL(IF(اقساط!$G$3:$G$8532=B3008,ROW($B$3:$B$8532)-ROW($B$3)+1),ROWS($C$3:C3008))),\"\")","v":0}]
[{"$f":"IFERROR(INDEX(اقساط!$AT$3:$AT$8532,SMALL(IF(اقساط!$G$3:$G$8532=B3009,ROW($AT$3:$AT$8532)-ROW($AT$3)+1),ROWS($A$3:A3009))),\"\")","v":0},null,{"$f":"IFERROR(INDEX(اقساط!$B$3:$B$8532,SMALL(IF(اقساط!$G$3:$G$8532=B3009,ROW($B$3:$B$8532)-ROW($B$3)+1),ROWS($C$3:C3009))),\"\")","v":0}]
[{"$f":"IFERROR(INDEX(اقساط!$AT$3:$AT$8532,SMALL(IF(اقساط!$G$3:$G$8532=B3010,ROW($AT$3:$AT$8532)-ROW($AT$3)+1),ROWS($A$3:A3010))),\"\")","v":0},null,{"$f":"IFERROR(INDEX(اقساط!$B$3:$B$8532,SMALL(IF(اقساط!$G$3:$G$8532=B3010,ROW($B$3:$B$8532)-ROW($B$3)+1),ROWS($C$3:C3010))),\"\")","v":0}]
[{"$f":"IFERROR(INDEX(اقساط!$AT$3:$AT$8532,SMALL(IF(اقساط!$G$3:$G$8532=B3011,ROW($AT$3:$AT$8532)-ROW($AT$3)+1),ROWS($A$3:A3011))),\"\")","v":0},null,{"$f":"IFERROR(INDEX(اقساط!$B$3:$B$8532,SMALL(IF(اقساط!$G$3:$G$8532=B3011,ROW($B$3:$B$8532)-ROW($B$3)+1),ROWS($C$3:C3011))),\"\")","v":0}]
[{"$f":"IFERROR(INDEX(اقساط!$AT$3:$AT$8532,SMALL(IF(اقساط!$G$3:$G$8532=B3012,ROW($AT$3:$AT$8532)-ROW($AT$3)+1),ROWS($A$3:A3012))),\"\")","v":0},null,{"$f":"IFERROR(INDEX(اقساط!$B$3:$B$8532,SMALL(IF(اقساط!$G$3:$G$8532=B3012,ROW($B$3:$B$8532)-ROW($B$3)+1),ROWS($C$3:C3012))),\"\")","v":0}]
[{"$f":"IFERROR(INDEX(اقساط!$AT$3:$AT$8532,SMALL(IF(اقساط!$G$3:$G$8532=B3013,ROW($AT$3:$AT$8532)-ROW($AT$3)+1),ROWS($A$3:A3013))),\"\")","v":0},null,{"$f":"IFERROR(INDEX(اقساط!$B$3:$B$8532,SMALL(IF(اقساط!$G$3:$G$8532=B3013,ROW($B$3:$B$8532)-ROW($B$3)+1),ROWS($C$3:C3013))),\"\")","v":0}]
[{"$f":"IFERROR(INDEX(اقساط!$AT$3:$AT$8532,SMALL(IF(اقساط!$G$3:$G$8532=B3014,ROW($AT$3:$AT$8532)-ROW($AT$3)+1),ROWS($A$3:A3014))),\"\")","v":0},null,{"$f":"IFERROR(INDEX(اقساط!$B$3:$B$8532,SMALL(IF(اقساط!$G$3:$G$8532=B3014,ROW($B$3:$B$8532)-ROW($B$3)+1),ROWS($C$3:C3014))),\"\")","v":0}]
[{"$f":"IFERROR(INDEX(اقساط!$AT$3:$AT$8532,SMALL(IF(اقساط!$G$3:$G$8532=B3015,ROW($AT$3:$AT$8532)-ROW($AT$3)+1),ROWS($A$3:A3015))),\"\")","v":0},null,{"$f":"IFERROR(INDEX(اقساط!$B$3:$B$8532,SMALL(IF(اقساط!$G$3:$G$8532=B3015,ROW($B$3:$B$8532)-ROW($B$3)+1),ROWS($C$3:C3015))),\"\")","v":0}]
[{"$f":"IFERROR(INDEX(اقساط!$AT$3:$AT$8532,SMALL(IF(اقساط!$G$3:$G$8532=B3016,ROW($AT$3:$AT$8532)-ROW($AT$3)+1),ROWS($A$3:A3016))),\"\")","v":0},null,{"$f":"IFERROR(INDEX(اقساط!$B$3:$B$8532,SMALL(IF(اقساط!$G$3:$G$8532=B3016,ROW($B$3:$B$8532)-ROW($B$3)+1),ROWS($C$3:C3016))),\"\")","v":0}]
[{"$f":"IFERROR(INDEX(اقساط!$AT$3:$AT$8532,SMALL(IF(اقساط!$G$3:$G$8532=B3017,ROW($AT$3:$AT$8532)-ROW($AT$3)+1),ROWS($A$3:A3017))),\"\")","v":0},null,{"$f":"IFERROR(INDEX(اقساط!$B$3:$B$8532,SMALL(IF(اقساط!$G$3:$G$8532=B3017,ROW($B$3:$B$8532)-ROW($B$3)+1),ROWS($C$3:C3017))),\"\")","v":0}]
[{"$f":"IFERROR(INDEX(اقساط!$AT$3:$AT$8532,SMALL(IF(اقساط!$G$3:$G$8532=B3018,ROW($AT$3:$AT$8532)-ROW($AT$3)+1),ROWS($A$3:A3018))),\"\")","v":0},null,{"$f":"IFERROR(INDEX(اقساط!$B$3:$B$8532,SMALL(IF(اقساط!$G$3:$G$8532=B3018,ROW($B$3:$B$8532)-ROW($B$3)+1),ROWS($C$3:C3018))),\"\")","v":0}]
[{"$f":"IFERROR(INDEX(اقساط!$AT$3:$AT$8532,SMALL(IF(اقساط!$G$3:$G$8532=B3019,ROW($AT$3:$AT$8532)-ROW($AT$3)+1),ROWS($A$3:A3019))),\"\")","v":0},null,{"$f":"IFERROR(INDEX(اقساط!$B$3:$B$8532,SMALL(IF(اقساط!$G$3:$G$8532=B3019,ROW($B$3:$B$8532)-ROW($B$3)+1),ROWS($C$3:C3019))),\"\")","v":0}]
[{"$f":"IFERROR(INDEX(اقساط!$AT$3:$AT$8532,SMALL(IF(اقساط!$G$3:$G$8532=B3020,ROW($AT$3:$AT$8532)-ROW($AT$3)+1),ROWS($A$3:A3020))),\"\")","v":0},null,{"$f":"IFERROR(INDEX(اقساط!$B$3:$B$8532,SMALL(IF(اقساط!$G$3:$G$8532=B3020,ROW($B$3:$B$8532)-ROW($B$3)+1),ROWS($C$3:C3020))),\"\")","v":0}]
[{"$f":"IFERROR(INDEX(اقساط!$AT$3:$AT$8532,SMALL(IF(اقساط!$G$3:$G$8532=B3021,ROW($AT$3:$AT$8532)-ROW($AT$3)+1),ROWS($A$3:A3021))),\"\")","v":0},null,{"$f":"IFERROR(INDEX(اقساط!$B$3:$B$8532,SMALL(IF(اقساط!$G$3:$G$8532=B3021,ROW($B$3:$B$8532)-ROW($B$3)+1),ROWS($C$3:C3021))),\"\")","v":0}]
[{"$f":"IFERROR(INDEX(اقساط!$AT$3:$AT$8532,SMALL(IF(اقساط!$G$3:$G$8532=B3022,ROW($AT$3:$AT$8532)-ROW($AT$3)+1),ROWS($A$3:A3022))),\"\")","v":0},null,{"$f":"IFERROR(INDEX(اقساط!$B$3:$B$8532,SMALL(IF(اقساط!$G$3:$G$8532=B3022,ROW($B$3:$B$8532)-ROW($B$3)+1),ROWS($C$3:C3022))),\"\")","v":0}]
[{"$f":"IFERROR(INDEX(اقساط!$AT$3:$AT$8532,SMALL(IF(اقساط!$G$3:$G$8532=B3023,ROW($AT$3:$AT$8532)-ROW($AT$3)+1),ROWS($A$3:A3023))),\"\")","v":0},null,{"$f":"IFERROR(INDEX(اقساط!$B$3:$B$8532,SMALL(IF(اقساط!$G$3:$G$8532=B3023,ROW($B$3:$B$8532)-ROW($B$3)+1),ROWS($C$3:C3023))),\"\")","v":0}]
[{"$f":"IFERROR(INDEX(اقساط!$AT$3:$AT$8532,SMALL(IF(اقساط!$G$3:$G$8532=B3024,ROW($AT$3:$AT$8532)-ROW($AT$3)+1),ROWS($A$3:A3024))),\"\")","v":0},null,{"$f":"IFERROR(INDEX(اقساط!$B$3:$B$8532,SMALL(IF(اقساط!$G$3:$G$8532=B3024,ROW($B$3:$B$8532)-ROW($B$3)+1),ROWS($C$3:C3024))),\"\")","v":0}]
[{"$f":"IFERROR(INDEX(اقساط!$AT$3:$AT$8532,SMALL(IF(اقساط!$G$3:$G$8532=B3025,ROW($AT$3:$AT$8532)-ROW($AT$3)+1),ROWS($A$3:A3025))),\"\")","v":0},null,{"$f":"IFERROR(INDEX(اقساط!$B$3:$B$8532,SMALL(IF(اقساط!$G$3:$G$8532=B3025,ROW($B$3:$B$8532)-ROW($B$3)+1),ROWS($C$3:C3025))),\"\")","v":0}]
[{"$f":"IFERROR(INDEX(اقساط!$AT$3:$AT$8532,SMALL(IF(اقساط!$G$3:$G$8532=B3026,ROW($AT$3:$AT$8532)-ROW($AT$3)+1),ROWS($A$3:A3026))),\"\")","v":0},null,{"$f":"IFERROR(INDEX(اقساط!$B$3:$B$8532,SMALL(IF(اقساط!$G$3:$G$8532=B3026,ROW($B$3:$B$8532)-ROW($B$3)+1),ROWS($C$3:C3026))),\"\")","v":0}]
[{"$f":"IFERROR(INDEX(اقساط!$AT$3:$AT$8532,SMALL(IF(اقساط!$G$3:$G$8532=B3027,ROW($AT$3:$AT$8532)-ROW($AT$3)+1),ROWS($A$3:A3027))),\"\")","v":0},null,{"$f":"IFERROR(INDEX(اقساط!$B$3:$B$8532,SMALL(IF(اقساط!$G$3:$G$8532=B3027,ROW($B$3:$B$8532)-ROW($B$3)+1),ROWS($C$3:C3027))),\"\")","v":0}]
[{"$f":"IFERROR(INDEX(اقساط!$AT$3:$AT$8532,SMALL(IF(اقساط!$G$3:$G$8532=B3028,ROW($AT$3:$AT$8532)-ROW($AT$3)+1),ROWS($A$3:A3028))),\"\")","v":0},null,{"$f":"IFERROR(INDEX(اقساط!$B$3:$B$8532,SMALL(IF(اقساط!$G$3:$G$8532=B3028,ROW($B$3:$B$8532)-ROW($B$3)+1),ROWS($C$3:C3028))),\"\")","v":0}]
[{"$f":"IFERROR(INDEX(اقساط!$AT$3:$AT$8532,SMALL(IF(اقساط!$G$3:$G$8532=B3029,ROW($AT$3:$AT$8532)-ROW($AT$3)+1),ROWS($A$3:A3029))),\"\")","v":0},null,{"$f":"IFERROR(INDEX(اقساط!$B$3:$B$8532,SMALL(IF(اقساط!$G$3:$G$8532=B3029,ROW($B$3:$B$8532)-ROW($B$3)+1),ROWS($C$3:C3029))),\"\")","v":0}]
[{"$f":"IFERROR(INDEX(اقساط!$AT$3:$AT$8532,SMALL(IF(اقساط!$G$3:$G$8532=B3030,ROW($AT$3:$AT$8532)-ROW($AT$3)+1),ROWS($A$3:A3030))),\"\")","v":0},null,{"$f":"IFERROR(INDEX(اقساط!$B$3:$B$8532,SMALL(IF(اقساط!$G$3:$G$8532=B3030,ROW($B$3:$B$8532)-ROW($B$3)+1),ROWS($C$3:C3030))),\"\")","v":0}]
[{"$f":"IFERROR(INDEX(اقساط!$AT$3:$AT$8532,SMALL(IF(اقساط!$G$3:$G$8532=B3031,ROW($AT$3:$AT$8532)-ROW($AT$3)+1),ROWS($A$3:A3031))),\"\")","v":0},null,{"$f":"IFERROR(INDEX(اقساط!$B$3:$B$8532,SMALL(IF(اقساط!$G$3:$G$8532=B3031,ROW($B$3:$B$8532)-ROW($B$3)+1),ROWS($C$3:C3031))),\"\")","v":0}]
[{"$f":"IFERROR(INDEX(اقساط!$AT$3:$AT$8532,SMALL(IF(اقساط!$G$3:$G$8532=B3032,ROW($AT$3:$AT$8532)-ROW($AT$3)+1),ROWS($A$3:A3032))),\"\")","v":0},null,{"$f":"IFERROR(INDEX(اقساط!$B$3:$B$8532,SMALL(IF(اقساط!$G$3:$G$8532=B3032,ROW($B$3:$B$8532)-ROW($B$3)+1),ROWS($C$3:C3032))),\"\")","v":0}]
[{"$f":"IFERROR(INDEX(اقساط!$AT$3:$AT$8532,SMALL(IF(اقساط!$G$3:$G$8532=B3033,ROW($AT$3:$AT$8532)-ROW($AT$3)+1),ROWS($A$3:A3033))),\"\")","v":0},null,{"$f":"IFERROR(INDEX(اقساط!$B$3:$B$8532,SMALL(IF(اقساط!$G$3:$G$8532=B3033,ROW($B$3:$B$8532)-ROW($B$3)+1),ROWS($C$3:C3033))),\"\")","v":0}]
[{"$f":"IFERROR(INDEX(اقساط!$AT$3:$AT$8532,SMALL(IF(اقساط!$G$3:$G$8532=B3034,ROW($AT$3:$AT$8532)-ROW($AT$3)+1),ROWS($A$3:A3034))),\"\")","v":0},null,{"$f":"IFERROR(INDEX(اقساط!$B$3:$B$8532,SMALL(IF(اقساط!$G$3:$G$8532=B3034,ROW($B$3:$B$8532)-ROW($B$3)+1),ROWS($C$3:C3034))),\"\")","v":0}]
[{"$f":"IFERROR(INDEX(اقساط!$AT$3:$AT$8532,SMALL(IF(اقساط!$G$3:$G$8532=B3035,ROW($AT$3:$AT$8532)-ROW($AT$3)+1),ROWS($A$3:A3035))),\"\")","v":0},null,{"$f":"IFERROR(INDEX(اقساط!$B$3:$B$8532,SMALL(IF(اقساط!$G$3:$G$8532=B3035,ROW($B$3:$B$8532)-ROW($B$3)+1),ROWS($C$3:C3035))),\"\")","v":0}]
[{"$f":"IFERROR(INDEX(اقساط!$AT$3:$AT$8532,SMALL(IF(اقساط!$G$3:$G$8532=B3036,ROW($AT$3:$AT$8532)-ROW($AT$3)+1),ROWS($A$3:A3036))),\"\")","v":0},null,{"$f":"IFERROR(INDEX(اقساط!$B$3:$B$8532,SMALL(IF(اقساط!$G$3:$G$8532=B3036,ROW($B$3:$B$8532)-ROW($B$3)+1),ROWS($C$3:C3036))),\"\")","v":0}]
[{"$f":"IFERROR(INDEX(اقساط!$AT$3:$AT$8532,SMALL(IF(اقساط!$G$3:$G$8532=B3037,ROW($AT$3:$AT$8532)-ROW($AT$3)+1),ROWS($A$3:A3037))),\"\")","v":0},null,{"$f":"IFERROR(INDEX(اقساط!$B$3:$B$8532,SMALL(IF(اقساط!$G$3:$G$8532=B3037,ROW($B$3:$B$8532)-ROW($B$3)+1),ROWS($C$3:C3037))),\"\")","v":0}]
[{"$f":"IFERROR(INDEX(اقساط!$AT$3:$AT$8532,SMALL(IF(اقساط!$G$3:$G$8532=B3038,ROW($AT$3:$AT$8532)-ROW($AT$3)+1),ROWS($A$3:A3038))),\"\")","v":0},null,{"$f":"IFERROR(INDEX(اقساط!$B$3:$B$8532,SMALL(IF(اقساط!$G$3:$G$8532=B3038,ROW($B$3:$B$8532)-ROW($B$3)+1),ROWS($C$3:C3038))),\"\")","v":0}]
[{"$f":"IFERROR(INDEX(اقساط!$AT$3:$AT$8532,SMALL(IF(اقساط!$G$3:$G$8532=B3039,ROW($AT$3:$AT$8532)-ROW($AT$3)+1),ROWS($A$3:A3039))),\"\")","v":0},null,{"$f":"IFERROR(INDEX(اقساط!$B$3:$B$8532,SMALL(IF(اقساط!$G$3:$G$8532=B3039,ROW($B$3:$B$8532)-ROW($B$3)+1),ROWS($C$3:C3039))),\"\")","v":0}]
[{"$f":"IFERROR(INDEX(اقساط!$AT$3:$AT$8532,SMALL(IF(اقساط!$G$3:$G$8532=B3040,ROW($AT$3:$AT$8532)-ROW($AT$3)+1),ROWS($A$3:A3040))),\"\")","v":0},null,{"$f":"IFERROR(INDEX(اقساط!$B$3:$B$8532,SMALL(IF(اقساط!$G$3:$G$8532=B3040,ROW($B$3:$B$8532)-ROW($B$3)+1),ROWS($C$3:C3040))),\"\")","v":0}]
[{"$f":"IFERROR(INDEX(اقساط!$AT$3:$AT$8532,SMALL(IF(اقساط!$G$3:$G$8532=B3041,ROW($AT$3:$AT$8532)-ROW($AT$3)+1),ROWS($A$3:A3041))),\"\")","v":0},null,{"$f":"IFERROR(INDEX(اقساط!$B$3:$B$8532,SMALL(IF(اقساط!$G$3:$G$8532=B3041,ROW($B$3:$B$8532)-ROW($B$3)+1),ROWS($C$3:C3041))),\"\")","v":0}]
[{"$f":"IFERROR(INDEX(اقساط!$AT$3:$AT$8532,SMALL(IF(اقساط!$G$3:$G$8532=B3042,ROW($AT$3:$AT$8532)-ROW($AT$3)+1),ROWS($A$3:A3042))),\"\")","v":0},null,{"$f":"IFERROR(INDEX(اقساط!$B$3:$B$8532,SMALL(IF(اقساط!$G$3:$G$8532=B3042,ROW($B$3:$B$8532)-ROW($B$3)+1),ROWS($C$3:C3042))),\"\")","v":0}]
[{"$f":"IFERROR(INDEX(اقساط!$AT$3:$AT$8532,SMALL(IF(اقساط!$G$3:$G$8532=B3043,ROW($AT$3:$AT$8532)-ROW($AT$3)+1),ROWS($A$3:A3043))),\"\")","v":0},null,{"$f":"IFERROR(INDEX(اقساط!$B$3:$B$8532,SMALL(IF(اقساط!$G$3:$G$8532=B3043,ROW($B$3:$B$8532)-ROW($B$3)+1),ROWS($C$3:C3043))),\"\")","v":0}]
[{"$f":"IFERROR(INDEX(اقساط!$AT$3:$AT$8532,SMALL(IF(اقساط!$G$3:$G$8532=B3044,ROW($AT$3:$AT$8532)-ROW($AT$3)+1),ROWS($A$3:A3044))),\"\")","v":0},null,{"$f":"IFERROR(INDEX(اقساط!$B$3:$B$8532,SMALL(IF(اقساط!$G$3:$G$8532=B3044,ROW($B$3:$B$8532)-ROW($B$3)+1),ROWS($C$3:C3044))),\"\")","v":0}]
[{"$f":"IFERROR(INDEX(اقساط!$AT$3:$AT$8532,SMALL(IF(اقساط!$G$3:$G$8532=B3045,ROW($AT$3:$AT$8532)-ROW($AT$3)+1),ROWS($A$3:A3045))),\"\")","v":0},null,{"$f":"IFERROR(INDEX(اقساط!$B$3:$B$8532,SMALL(IF(اقساط!$G$3:$G$8532=B3045,ROW($B$3:$B$8532)-ROW($B$3)+1),ROWS($C$3:C3045))),\"\")","v":0}]
[{"$f":"IFERROR(INDEX(اقساط!$AT$3:$AT$8532,SMALL(IF(اقساط!$G$3:$G$8532=B3046,ROW($AT$3:$AT$8532)-ROW($AT$3)+1),ROWS($A$3:A3046))),\"\")","v":0},null,{"$f":"IFERROR(INDEX(اقساط!$B$3:$B$8532,SMALL(IF(اقساط!$G$3:$G$8532=B3046,ROW($B$3:$B$8532)-ROW($B$3)+1),ROWS($C$3:C3046))),\"\")","v":0}]
[{"$f":"IFERROR(INDEX(اقساط!$AT$3:$AT$8532,SMALL(IF(اقساط!$G$3:$G$8532=B3047,ROW($AT$3:$AT$8532)-ROW($AT$3)+1),ROWS($A$3:A3047))),\"\")","v":0},null,{"$f":"IFERROR(INDEX(اقساط!$B$3:$B$8532,SMALL(IF(اقساط!$G$3:$G$8532=B3047,ROW($B$3:$B$8532)-ROW($B$3)+1),ROWS($C$3:C3047))),\"\")","v":0}]
[{"$f":"IFERROR(INDEX(اقساط!$AT$3:$AT$8532,SMALL(IF(اقساط!$G$3:$G$8532=B3048,ROW($AT$3:$AT$8532)-ROW($AT$3)+1),ROWS($A$3:A3048))),\"\")","v":0},null,{"$f":"IFERROR(INDEX(اقساط!$B$3:$B$8532,SMALL(IF(اقساط!$G$3:$G$8532=B3048,ROW($B$3:$B$8532)-ROW($B$3)+1),ROWS($C$3:C3048))),\"\")","v":0}]
[{"$f":"IFERROR(INDEX(اقساط!$AT$3:$AT$8532,SMALL(IF(اقساط!$G$3:$G$8532=B3049,ROW($AT$3:$AT$8532)-ROW($AT$3)+1),ROWS($A$3:A3049))),\"\")","v":0},null,{"$f":"IFERROR(INDEX(اقساط!$B$3:$B$8532,SMALL(IF(اقساط!$G$3:$G$8532=B3049,ROW($B$3:$B$8532)-ROW($B$3)+1),ROWS($C$3:C3049))),\"\")","v":0}]
[{"$f":"IFERROR(INDEX(اقساط!$AT$3:$AT$8532,SMALL(IF(اقساط!$G$3:$G$8532=B3050,ROW($AT$3:$AT$8532)-ROW($AT$3)+1),ROWS($A$3:A3050))),\"\")","v":0},null,{"$f":"IFERROR(INDEX(اقساط!$B$3:$B$8532,SMALL(IF(اقساط!$G$3:$G$8532=B3050,ROW($B$3:$B$8532)-ROW($B$3)+1),ROWS($C$3:C3050))),\"\")","v":0}]
[{"$f":"IFERROR(INDEX(اقساط!$AT$3:$AT$8532,SMALL(IF(اقساط!$G$3:$G$8532=B3051,ROW($AT$3:$AT$8532)-ROW($AT$3)+1),ROWS($A$3:A3051))),\"\")","v":0},null,{"$f":"IFERROR(INDEX(اقساط!$B$3:$B$8532,SMALL(IF(اقساط!$G$3:$G$8532=B3051,ROW($B$3:$B$8532)-ROW($B$3)+1),ROWS($C$3:C3051))),\"\")","v":0}]
[{"$f":"IFERROR(INDEX(اقساط!$AT$3:$AT$8532,SMALL(IF(اقساط!$G$3:$G$8532=B3052,ROW($AT$3:$AT$8532)-ROW($AT$3)+1),ROWS($A$3:A3052))),\"\")","v":0},null,{"$f":"IFERROR(INDEX(اقساط!$B$3:$B$8532,SMALL(IF(اقساط!$G$3:$G$8532=B3052,ROW($B$3:$B$8532)-ROW($B$3)+1),ROWS($C$3:C3052))),\"\")","v":0}]
[{"$f":"IFERROR(INDEX(اقساط!$AT$3:$AT$8532,SMALL(IF(اقساط!$G$3:$G$8532=B3053,ROW($AT$3:$AT$8532)-ROW($AT$3)+1),ROWS($A$3:A3053))),\"\")","v":0},null,{"$f":"IFERROR(INDEX(اقساط!$B$3:$B$8532,SMALL(IF(اقساط!$G$3:$G$8532=B3053,ROW($B$3:$B$8532)-ROW($B$3)+1),ROWS($C$3:C3053))),\"\")","v":0}]
[{"$f":"IFERROR(INDEX(اقساط!$AT$3:$AT$8532,SMALL(IF(اقساط!$G$3:$G$8532=B3054,ROW($AT$3:$AT$8532)-ROW($AT$3)+1),ROWS($A$3:A3054))),\"\")","v":0},null,{"$f":"IFERROR(INDEX(اقساط!$B$3:$B$8532,SMALL(IF(اقساط!$G$3:$G$8532=B3054,ROW($B$3:$B$8532)-ROW($B$3)+1),ROWS($C$3:C3054))),\"\")","v":0}]
[{"$f":"IFERROR(INDEX(اقساط!$AT$3:$AT$8532,SMALL(IF(اقساط!$G$3:$G$8532=B3055,ROW($AT$3:$AT$8532)-ROW($AT$3)+1),ROWS($A$3:A3055))),\"\")","v":0},null,{"$f":"IFERROR(INDEX(اقساط!$B$3:$B$8532,SMALL(IF(اقساط!$G$3:$G$8532=B3055,ROW($B$3:$B$8532)-ROW($B$3)+1),ROWS($C$3:C3055))),\"\")","v":0}]
[{"$f":"IFERROR(INDEX(اقساط!$AT$3:$AT$8532,SMALL(IF(اقساط!$G$3:$G$8532=B3056,ROW($AT$3:$AT$8532)-ROW($AT$3)+1),ROWS($A$3:A3056))),\"\")","v":0},null,{"$f":"IFERROR(INDEX(اقساط!$B$3:$B$8532,SMALL(IF(اقساط!$G$3:$G$8532=B3056,ROW($B$3:$B$8532)-ROW($B$3)+1),ROWS($C$3:C3056))),\"\")","v":0}]
[{"$f":"IFERROR(INDEX(اقساط!$AT$3:$AT$8532,SMALL(IF(اقساط!$G$3:$G$8532=B3057,ROW($AT$3:$AT$8532)-ROW($AT$3)+1),ROWS($A$3:A3057))),\"\")","v":0},null,{"$f":"IFERROR(INDEX(اقساط!$B$3:$B$8532,SMALL(IF(اقساط!$G$3:$G$8532=B3057,ROW($B$3:$B$8532)-ROW($B$3)+1),ROWS($C$3:C3057))),\"\")","v":0}]
[{"$f":"IFERROR(INDEX(اقساط!$AT$3:$AT$8532,SMALL(IF(اقساط!$G$3:$G$8532=B3058,ROW($AT$3:$AT$8532)-ROW($AT$3)+1),ROWS($A$3:A3058))),\"\")","v":0},null,{"$f":"IFERROR(INDEX(اقساط!$B$3:$B$8532,SMALL(IF(اقساط!$G$3:$G$8532=B3058,ROW($B$3:$B$8532)-ROW($B$3)+1),ROWS($C$3:C3058))),\"\")","v":0}]
[{"$f":"IFERROR(INDEX(اقساط!$AT$3:$AT$8532,SMALL(IF(اقساط!$G$3:$G$8532=B3059,ROW($AT$3:$AT$8532)-ROW($AT$3)+1),ROWS($A$3:A3059))),\"\")","v":0},null,{"$f":"IFERROR(INDEX(اقساط!$B$3:$B$8532,SMALL(IF(اقساط!$G$3:$G$8532=B3059,ROW($B$3:$B$8532)-ROW($B$3)+1),ROWS($C$3:C3059))),\"\")","v":0}]
[{"$f":"IFERROR(INDEX(اقساط!$AT$3:$AT$8532,SMALL(IF(اقساط!$G$3:$G$8532=B3060,ROW($AT$3:$AT$8532)-ROW($AT$3)+1),ROWS($A$3:A3060))),\"\")","v":0},null,{"$f":"IFERROR(INDEX(اقساط!$B$3:$B$8532,SMALL(IF(اقساط!$G$3:$G$8532=B3060,ROW($B$3:$B$8532)-ROW($B$3)+1),ROWS($C$3:C3060))),\"\")","v":0}]
[{"$f":"IFERROR(INDEX(اقساط!$AT$3:$AT$8532,SMALL(IF(اقساط!$G$3:$G$8532=B3061,ROW($AT$3:$AT$8532)-ROW($AT$3)+1),ROWS($A$3:A3061))),\"\")","v":0},null,{"$f":"IFERROR(INDEX(اقساط!$B$3:$B$8532,SMALL(IF(اقساط!$G$3:$G$8532=B3061,ROW($B$3:$B$8532)-ROW($B$3)+1),ROWS($C$3:C3061))),\"\")","v":0}]
[{"$f":"IFERROR(INDEX(اقساط!$AT$3:$AT$8532,SMALL(IF(اقساط!$G$3:$G$8532=B3062,ROW($AT$3:$AT$8532)-ROW($AT$3)+1),ROWS($A$3:A3062))),\"\")","v":0},null,{"$f":"IFERROR(INDEX(اقساط!$B$3:$B$8532,SMALL(IF(اقساط!$G$3:$G$8532=B3062,ROW($B$3:$B$8532)-ROW($B$3)+1),ROWS($C$3:C3062))),\"\")","v":0}]
[{"$f":"IFERROR(INDEX(اقساط!$AT$3:$AT$8532,SMALL(IF(اقساط!$G$3:$G$8532=B3063,ROW($AT$3:$AT$8532)-ROW($AT$3)+1),ROWS($A$3:A3063))),\"\")","v":0},null,{"$f":"IFERROR(INDEX(اقساط!$B$3:$B$8532,SMALL(IF(اقساط!$G$3:$G$8532=B3063,ROW($B$3:$B$8532)-ROW($B$3)+1),ROWS($C$3:C3063))),\"\")","v":0}]
[{"$f":"IFERROR(INDEX(اقساط!$AT$3:$AT$8532,SMALL(IF(اقساط!$G$3:$G$8532=B3064,ROW($AT$3:$AT$8532)-ROW($AT$3)+1),ROWS($A$3:A3064))),\"\")","v":0},null,{"$f":"IFERROR(INDEX(اقساط!$B$3:$B$8532,SMALL(IF(اقساط!$G$3:$G$8532=B3064,ROW($B$3:$B$8532)-ROW($B$3)+1),ROWS($C$3:C3064))),\"\")","v":0}]
[{"$f":"IFERROR(INDEX(اقساط!$AT$3:$AT$8532,SMALL(IF(اقساط!$G$3:$G$8532=B3065,ROW($AT$3:$AT$8532)-ROW($AT$3)+1),ROWS($A$3:A3065))),\"\")","v":0},null,{"$f":"IFERROR(INDEX(اقساط!$B$3:$B$8532,SMALL(IF(اقساط!$G$3:$G$8532=B3065,ROW($B$3:$B$8532)-ROW($B$3)+1),ROWS($C$3:C3065))),\"\")","v":0}]
[{"$f":"IFERROR(INDEX(اقساط!$AT$3:$AT$8532,SMALL(IF(اقساط!$G$3:$G$8532=B3066,ROW($AT$3:$AT$8532)-ROW($AT$3)+1),ROWS($A$3:A3066))),\"\")","v":0},null,{"$f":"IFERROR(INDEX(اقساط!$B$3:$B$8532,SMALL(IF(اقساط!$G$3:$G$8532=B3066,ROW($B$3:$B$8532)-ROW($B$3)+1),ROWS($C$3:C3066))),\"\")","v":0}]
[{"$f":"IFERROR(INDEX(اقساط!$AT$3:$AT$8532,SMALL(IF(اقساط!$G$3:$G$8532=B3067,ROW($AT$3:$AT$8532)-ROW($AT$3)+1),ROWS($A$3:A3067))),\"\")","v":0},null,{"$f":"IFERROR(INDEX(اقساط!$B$3:$B$8532,SMALL(IF(اقساط!$G$3:$G$8532=B3067,ROW($B$3:$B$8532)-ROW($B$3)+1),ROWS($C$3:C3067))),\"\")","v":0}]
[{"$f":"IFERROR(INDEX(اقساط!$AT$3:$AT$8532,SMALL(IF(اقساط!$G$3:$G$8532=B3068,ROW($AT$3:$AT$8532)-ROW($AT$3)+1),ROWS($A$3:A3068))),\"\")","v":0},null,{"$f":"IFERROR(INDEX(اقساط!$B$3:$B$8532,SMALL(IF(اقساط!$G$3:$G$8532=B3068,ROW($B$3:$B$8532)-ROW($B$3)+1),ROWS($C$3:C3068))),\"\")","v":0}]
[{"$f":"IFERROR(INDEX(اقساط!$AT$3:$AT$8532,SMALL(IF(اقساط!$G$3:$G$8532=B3069,ROW($AT$3:$AT$8532)-ROW($AT$3)+1),ROWS($A$3:A3069))),\"\")","v":0},null,{"$f":"IFERROR(INDEX(اقساط!$B$3:$B$8532,SMALL(IF(اقساط!$G$3:$G$8532=B3069,ROW($B$3:$B$8532)-ROW($B$3)+1),ROWS($C$3:C3069))),\"\")","v":0}]
[{"$f":"IFERROR(INDEX(اقساط!$AT$3:$AT$8532,SMALL(IF(اقساط!$G$3:$G$8532=B3070,ROW($AT$3:$AT$8532)-ROW($AT$3)+1),ROWS($A$3:A3070))),\"\")","v":0},null,{"$f":"IFERROR(INDEX(اقساط!$B$3:$B$8532,SMALL(IF(اقساط!$G$3:$G$8532=B3070,ROW($B$3:$B$8532)-ROW($B$3)+1),ROWS($C$3:C3070))),\"\")","v":0}]
[{"$f":"IFERROR(INDEX(اقساط!$AT$3:$AT$8532,SMALL(IF(اقساط!$G$3:$G$8532=B3071,ROW($AT$3:$AT$8532)-ROW($AT$3)+1),ROWS($A$3:A3071))),\"\")","v":0},null,{"$f":"IFERROR(INDEX(اقساط!$B$3:$B$8532,SMALL(IF(اقساط!$G$3:$G$8532=B3071,ROW($B$3:$B$8532)-ROW($B$3)+1),ROWS($C$3:C3071))),\"\")","v":0}]
[{"$f":"IFERROR(INDEX(اقساط!$AT$3:$AT$8532,SMALL(IF(اقساط!$G$3:$G$8532=B3072,ROW($AT$3:$AT$8532)-ROW($AT$3)+1),ROWS($A$3:A3072))),\"\")","v":0},null,{"$f":"IFERROR(INDEX(اقساط!$B$3:$B$8532,SMALL(IF(اقساط!$G$3:$G$8532=B3072,ROW($B$3:$B$8532)-ROW($B$3)+1),ROWS($C$3:C3072))),\"\")","v":0}]
[{"$f":"IFERROR(INDEX(اقساط!$AT$3:$AT$8532,SMALL(IF(اقساط!$G$3:$G$8532=B3073,ROW($AT$3:$AT$8532)-ROW($AT$3)+1),ROWS($A$3:A3073))),\"\")","v":0},null,{"$f":"IFERROR(INDEX(اقساط!$B$3:$B$8532,SMALL(IF(اقساط!$G$3:$G$8532=B3073,ROW($B$3:$B$8532)-ROW($B$3)+1),ROWS($C$3:C3073))),\"\")","v":0}]
[{"$f":"IFERROR(INDEX(اقساط!$AT$3:$AT$8532,SMALL(IF(اقساط!$G$3:$G$8532=B3074,ROW($AT$3:$AT$8532)-ROW($AT$3)+1),ROWS($A$3:A3074))),\"\")","v":0},null,{"$f":"IFERROR(INDEX(اقساط!$B$3:$B$8532,SMALL(IF(اقساط!$G$3:$G$8532=B3074,ROW($B$3:$B$8532)-ROW($B$3)+1),ROWS($C$3:C3074))),\"\")","v":0}]
[{"$f":"IFERROR(INDEX(اقساط!$AT$3:$AT$8532,SMALL(IF(اقساط!$G$3:$G$8532=B3075,ROW($AT$3:$AT$8532)-ROW($AT$3)+1),ROWS($A$3:A3075))),\"\")","v":0},null,{"$f":"IFERROR(INDEX(اقساط!$B$3:$B$8532,SMALL(IF(اقساط!$G$3:$G$8532=B3075,ROW($B$3:$B$8532)-ROW($B$3)+1),ROWS($C$3:C3075))),\"\")","v":0}]
[{"$f":"IFERROR(INDEX(اقساط!$AT$3:$AT$8532,SMALL(IF(اقساط!$G$3:$G$8532=B3076,ROW($AT$3:$AT$8532)-ROW($AT$3)+1),ROWS($A$3:A3076))),\"\")","v":0},null,{"$f":"IFERROR(INDEX(اقساط!$B$3:$B$8532,SMALL(IF(اقساط!$G$3:$G$8532=B3076,ROW($B$3:$B$8532)-ROW($B$3)+1),ROWS($C$3:C3076))),\"\")","v":0}]
[{"$f":"IFERROR(INDEX(اقساط!$AT$3:$AT$8532,SMALL(IF(اقساط!$G$3:$G$8532=B3077,ROW($AT$3:$AT$8532)-ROW($AT$3)+1),ROWS($A$3:A3077))),\"\")","v":0},null,{"$f":"IFERROR(INDEX(اقساط!$B$3:$B$8532,SMALL(IF(اقساط!$G$3:$G$8532=B3077,ROW($B$3:$B$8532)-ROW($B$3)+1),ROWS($C$3:C3077))),\"\")","v":0}]
[{"$f":"IFERROR(INDEX(اقساط!$AT$3:$AT$8532,SMALL(IF(اقساط!$G$3:$G$8532=B3078,ROW($AT$3:$AT$8532)-ROW($AT$3)+1),ROWS($A$3:A3078))),\"\")","v":0},null,{"$f":"IFERROR(INDEX(اقساط!$B$3:$B$8532,SMALL(IF(اقساط!$G$3:$G$8532=B3078,ROW($B$3:$B$8532)-ROW($B$3)+1),ROWS($C$3:C3078))),\"\")","v":0}]
[{"$f":"IFERROR(INDEX(اقساط!$AT$3:$AT$8532,SMALL(IF(اقساط!$G$3:$G$8532=B3079,ROW($AT$3:$AT$8532)-ROW($AT$3)+1),ROWS($A$3:A3079))),\"\")","v":0},null,{"$f":"IFERROR(INDEX(اقساط!$B$3:$B$8532,SMALL(IF(اقساط!$G$3:$G$8532=B3079,ROW($B$3:$B$8532)-ROW($B$3)+1),ROWS($C$3:C3079))),\"\")","v":0}]
[{"$f":"IFERROR(INDEX(اقساط!$AT$3:$AT$8532,SMALL(IF(اقساط!$G$3:$G$8532=B3080,ROW($AT$3:$AT$8532)-ROW($AT$3)+1),ROWS($A$3:A3080))),\"\")","v":0},null,{"$f":"IFERROR(INDEX(اقساط!$B$3:$B$8532,SMALL(IF(اقساط!$G$3:$G$8532=B3080,ROW($B$3:$B$8532)-ROW($B$3)+1),ROWS($C$3:C3080))),\"\")","v":0}]
[{"$f":"IFERROR(INDEX(اقساط!$AT$3:$AT$8532,SMALL(IF(اقساط!$G$3:$G$8532=B3081,ROW($AT$3:$AT$8532)-ROW($AT$3)+1),ROWS($A$3:A3081))),\"\")","v":0},null,{"$f":"IFERROR(INDEX(اقساط!$B$3:$B$8532,SMALL(IF(اقساط!$G$3:$G$8532=B3081,ROW($B$3:$B$8532)-ROW($B$3)+1),ROWS($C$3:C3081))),\"\")","v":0}]
[{"$f":"IFERROR(INDEX(اقساط!$AT$3:$AT$8532,SMALL(IF(اقساط!$G$3:$G$8532=B3082,ROW($AT$3:$AT$8532)-ROW($AT$3)+1),ROWS($A$3:A3082))),\"\")","v":0},null,{"$f":"IFERROR(INDEX(اقساط!$B$3:$B$8532,SMALL(IF(اقساط!$G$3:$G$8532=B3082,ROW($B$3:$B$8532)-ROW($B$3)+1),ROWS($C$3:C3082))),\"\")","v":0}]
[{"$f":"IFERROR(INDEX(اقساط!$AT$3:$AT$8532,SMALL(IF(اقساط!$G$3:$G$8532=B3083,ROW($AT$3:$AT$8532)-ROW($AT$3)+1),ROWS($A$3:A3083))),\"\")","v":0},null,{"$f":"IFERROR(INDEX(اقساط!$B$3:$B$8532,SMALL(IF(اقساط!$G$3:$G$8532=B3083,ROW($B$3:$B$8532)-ROW($B$3)+1),ROWS($C$3:C3083))),\"\")","v":0}]
[{"$f":"IFERROR(INDEX(اقساط!$AT$3:$AT$8532,SMALL(IF(اقساط!$G$3:$G$8532=B3084,ROW($AT$3:$AT$8532)-ROW($AT$3)+1),ROWS($A$3:A3084))),\"\")","v":0},null,{"$f":"IFERROR(INDEX(اقساط!$B$3:$B$8532,SMALL(IF(اقساط!$G$3:$G$8532=B3084,ROW($B$3:$B$8532)-ROW($B$3)+1),ROWS($C$3:C3084))),\"\")","v":0}]
[{"$f":"IFERROR(INDEX(اقساط!$AT$3:$AT$8532,SMALL(IF(اقساط!$G$3:$G$8532=B3085,ROW($AT$3:$AT$8532)-ROW($AT$3)+1),ROWS($A$3:A3085))),\"\")","v":0},null,{"$f":"IFERROR(INDEX(اقساط!$B$3:$B$8532,SMALL(IF(اقساط!$G$3:$G$8532=B3085,ROW($B$3:$B$8532)-ROW($B$3)+1),ROWS($C$3:C3085))),\"\")","v":0}]
[{"$f":"IFERROR(INDEX(اقساط!$AT$3:$AT$8532,SMALL(IF(اقساط!$G$3:$G$8532=B3086,ROW($AT$3:$AT$8532)-ROW($AT$3)+1),ROWS($A$3:A3086))),\"\")","v":0},null,{"$f":"IFERROR(INDEX(اقساط!$B$3:$B$8532,SMALL(IF(اقساط!$G$3:$G$8532=B3086,ROW($B$3:$B$8532)-ROW($B$3)+1),ROWS($C$3:C3086))),\"\")","v":0}]
[{"$f":"IFERROR(INDEX(اقساط!$AT$3:$AT$8532,SMALL(IF(اقساط!$G$3:$G$8532=B3087,ROW($AT$3:$AT$8532)-ROW($AT$3)+1),ROWS($A$3:A3087))),\"\")","v":0},null,{"$f":"IFERROR(INDEX(اقساط!$B$3:$B$8532,SMALL(IF(اقساط!$G$3:$G$8532=B3087,ROW($B$3:$B$8532)-ROW($B$3)+1),ROWS($C$3:C3087))),\"\")","v":0}]
[{"$f":"IFERROR(INDEX(اقساط!$AT$3:$AT$8532,SMALL(IF(اقساط!$G$3:$G$8532=B3088,ROW($AT$3:$AT$8532)-ROW($AT$3)+1),ROWS($A$3:A3088))),\"\")","v":0},null,{"$f":"IFERROR(INDEX(اقساط!$B$3:$B$8532,SMALL(IF(اقساط!$G$3:$G$8532=B3088,ROW($B$3:$B$8532)-ROW($B$3)+1),ROWS($C$3:C3088))),\"\")","v":0}]
[{"$f":"IFERROR(INDEX(اقساط!$AT$3:$AT$8532,SMALL(IF(اقساط!$G$3:$G$8532=B3089,ROW($AT$3:$AT$8532)-ROW($AT$3)+1),ROWS($A$3:A3089))),\"\")","v":0},null,{"$f":"IFERROR(INDEX(اقساط!$B$3:$B$8532,SMALL(IF(اقساط!$G$3:$G$8532=B3089,ROW($B$3:$B$8532)-ROW($B$3)+1),ROWS($C$3:C3089))),\"\")","v":0}]
[{"$f":"IFERROR(INDEX(اقساط!$AT$3:$AT$8532,SMALL(IF(اقساط!$G$3:$G$8532=B3090,ROW($AT$3:$AT$8532)-ROW($AT$3)+1),ROWS($A$3:A3090))),\"\")","v":0},null,{"$f":"IFERROR(INDEX(اقساط!$B$3:$B$8532,SMALL(IF(اقساط!$G$3:$G$8532=B3090,ROW($B$3:$B$8532)-ROW($B$3)+1),ROWS($C$3:C3090))),\"\")","v":0}]
[{"$f":"IFERROR(INDEX(اقساط!$AT$3:$AT$8532,SMALL(IF(اقساط!$G$3:$G$8532=B3091,ROW($AT$3:$AT$8532)-ROW($AT$3)+1),ROWS($A$3:A3091))),\"\")","v":0},null,{"$f":"IFERROR(INDEX(اقساط!$B$3:$B$8532,SMALL(IF(اقساط!$G$3:$G$8532=B3091,ROW($B$3:$B$8532)-ROW($B$3)+1),ROWS($C$3:C3091))),\"\")","v":0}]
[{"$f":"IFERROR(INDEX(اقساط!$AT$3:$AT$8532,SMALL(IF(اقساط!$G$3:$G$8532=B3092,ROW($AT$3:$AT$8532)-ROW($AT$3)+1),ROWS($A$3:A3092))),\"\")","v":0},null,{"$f":"IFERROR(INDEX(اقساط!$B$3:$B$8532,SMALL(IF(اقساط!$G$3:$G$8532=B3092,ROW($B$3:$B$8532)-ROW($B$3)+1),ROWS($C$3:C3092))),\"\")","v":0}]
[{"$f":"IFERROR(INDEX(اقساط!$AT$3:$AT$8532,SMALL(IF(اقساط!$G$3:$G$8532=B3093,ROW($AT$3:$AT$8532)-ROW($AT$3)+1),ROWS($A$3:A3093))),\"\")","v":0},null,{"$f":"IFERROR(INDEX(اقساط!$B$3:$B$8532,SMALL(IF(اقساط!$G$3:$G$8532=B3093,ROW($B$3:$B$8532)-ROW($B$3)+1),ROWS($C$3:C3093))),\"\")","v":0}]
[{"$f":"IFERROR(INDEX(اقساط!$AT$3:$AT$8532,SMALL(IF(اقساط!$G$3:$G$8532=B3094,ROW($AT$3:$AT$8532)-ROW($AT$3)+1),ROWS($A$3:A3094))),\"\")","v":0},null,{"$f":"IFERROR(INDEX(اقساط!$B$3:$B$8532,SMALL(IF(اقساط!$G$3:$G$8532=B3094,ROW($B$3:$B$8532)-ROW($B$3)+1),ROWS($C$3:C3094))),\"\")","v":0}]
[{"$f":"IFERROR(INDEX(اقساط!$AT$3:$AT$8532,SMALL(IF(اقساط!$G$3:$G$8532=B3095,ROW($AT$3:$AT$8532)-ROW($AT$3)+1),ROWS($A$3:A3095))),\"\")","v":0},null,{"$f":"IFERROR(INDEX(اقساط!$B$3:$B$8532,SMALL(IF(اقساط!$G$3:$G$8532=B3095,ROW($B$3:$B$8532)-ROW($B$3)+1),ROWS($C$3:C3095))),\"\")","v":0}]
[{"$f":"IFERROR(INDEX(اقساط!$AT$3:$AT$8532,SMALL(IF(اقساط!$G$3:$G$8532=B3096,ROW($AT$3:$AT$8532)-ROW($AT$3)+1),ROWS($A$3:A3096))),\"\")","v":0},null,{"$f":"IFERROR(INDEX(اقساط!$B$3:$B$8532,SMALL(IF(اقساط!$G$3:$G$8532=B3096,ROW($B$3:$B$8532)-ROW($B$3)+1),ROWS($C$3:C3096))),\"\")","v":0}]
[{"$f":"IFERROR(INDEX(اقساط!$AT$3:$AT$8532,SMALL(IF(اقساط!$G$3:$G$8532=B3097,ROW($AT$3:$AT$8532)-ROW($AT$3)+1),ROWS($A$3:A3097))),\"\")","v":0},null,{"$f":"IFERROR(INDEX(اقساط!$B$3:$B$8532,SMALL(IF(اقساط!$G$3:$G$8532=B3097,ROW($B$3:$B$8532)-ROW($B$3)+1),ROWS($C$3:C3097))),\"\")","v":0}]
[{"$f":"IFERROR(INDEX(اقساط!$AT$3:$AT$8532,SMALL(IF(اقساط!$G$3:$G$8532=B3098,ROW($AT$3:$AT$8532)-ROW($AT$3)+1),ROWS($A$3:A3098))),\"\")","v":0},null,{"$f":"IFERROR(INDEX(اقساط!$B$3:$B$8532,SMALL(IF(اقساط!$G$3:$G$8532=B3098,ROW($B$3:$B$8532)-ROW($B$3)+1),ROWS($C$3:C3098))),\"\")","v":0}]
[{"$f":"IFERROR(INDEX(اقساط!$AT$3:$AT$8532,SMALL(IF(اقساط!$G$3:$G$8532=B3099,ROW($AT$3:$AT$8532)-ROW($AT$3)+1),ROWS($A$3:A3099))),\"\")","v":0},null,{"$f":"IFERROR(INDEX(اقساط!$B$3:$B$8532,SMALL(IF(اقساط!$G$3:$G$8532=B3099,ROW($B$3:$B$8532)-ROW($B$3)+1),ROWS($C$3:C3099))),\"\")","v":0}]
[{"$f":"IFERROR(INDEX(اقساط!$AT$3:$AT$8532,SMALL(IF(اقساط!$G$3:$G$8532=B3100,ROW($AT$3:$AT$8532)-ROW($AT$3)+1),ROWS($A$3:A3100))),\"\")","v":0},null,{"$f":"IFERROR(INDEX(اقساط!$B$3:$B$8532,SMALL(IF(اقساط!$G$3:$G$8532=B3100,ROW($B$3:$B$8532)-ROW($B$3)+1),ROWS($C$3:C3100))),\"\")","v":0}]
[{"$f":"IFERROR(INDEX(اقساط!$AT$3:$AT$8532,SMALL(IF(اقساط!$G$3:$G$8532=B3101,ROW($AT$3:$AT$8532)-ROW($AT$3)+1),ROWS($A$3:A3101))),\"\")","v":0},null,{"$f":"IFERROR(INDEX(اقساط!$B$3:$B$8532,SMALL(IF(اقساط!$G$3:$G$8532=B3101,ROW($B$3:$B$8532)-ROW($B$3)+1),ROWS($C$3:C3101))),\"\")","v":0}]
[{"$f":"IFERROR(INDEX(اقساط!$AT$3:$AT$8532,SMALL(IF(اقساط!$G$3:$G$8532=B3102,ROW($AT$3:$AT$8532)-ROW($AT$3)+1),ROWS($A$3:A3102))),\"\")","v":0},null,{"$f":"IFERROR(INDEX(اقساط!$B$3:$B$8532,SMALL(IF(اقساط!$G$3:$G$8532=B3102,ROW($B$3:$B$8532)-ROW($B$3)+1),ROWS($C$3:C3102))),\"\")","v":0}]
[{"$f":"IFERROR(INDEX(اقساط!$AT$3:$AT$8532,SMALL(IF(اقساط!$G$3:$G$8532=B3103,ROW($AT$3:$AT$8532)-ROW($AT$3)+1),ROWS($A$3:A3103))),\"\")","v":0},null,{"$f":"IFERROR(INDEX(اقساط!$B$3:$B$8532,SMALL(IF(اقساط!$G$3:$G$8532=B3103,ROW($B$3:$B$8532)-ROW($B$3)+1),ROWS($C$3:C3103))),\"\")","v":0}]
[{"$f":"IFERROR(INDEX(اقساط!$AT$3:$AT$8532,SMALL(IF(اقساط!$G$3:$G$8532=B3104,ROW($AT$3:$AT$8532)-ROW($AT$3)+1),ROWS($A$3:A3104))),\"\")","v":0},null,{"$f":"IFERROR(INDEX(اقساط!$B$3:$B$8532,SMALL(IF(اقساط!$G$3:$G$8532=B3104,ROW($B$3:$B$8532)-ROW($B$3)+1),ROWS($C$3:C3104))),\"\")","v":0}]
[{"$f":"IFERROR(INDEX(اقساط!$AT$3:$AT$8532,SMALL(IF(اقساط!$G$3:$G$8532=B3105,ROW($AT$3:$AT$8532)-ROW($AT$3)+1),ROWS($A$3:A3105))),\"\")","v":0},null,{"$f":"IFERROR(INDEX(اقساط!$B$3:$B$8532,SMALL(IF(اقساط!$G$3:$G$8532=B3105,ROW($B$3:$B$8532)-ROW($B$3)+1),ROWS($C$3:C3105))),\"\")","v":0}]
[{"$f":"IFERROR(INDEX(اقساط!$AT$3:$AT$8532,SMALL(IF(اقساط!$G$3:$G$8532=B3106,ROW($AT$3:$AT$8532)-ROW($AT$3)+1),ROWS($A$3:A3106))),\"\")","v":0},null,{"$f":"IFERROR(INDEX(اقساط!$B$3:$B$8532,SMALL(IF(اقساط!$G$3:$G$8532=B3106,ROW($B$3:$B$8532)-ROW($B$3)+1),ROWS($C$3:C3106))),\"\")","v":0}]
[{"$f":"IFERROR(INDEX(اقساط!$AT$3:$AT$8532,SMALL(IF(اقساط!$G$3:$G$8532=B3107,ROW($AT$3:$AT$8532)-ROW($AT$3)+1),ROWS($A$3:A3107))),\"\")","v":0},null,{"$f":"IFERROR(INDEX(اقساط!$B$3:$B$8532,SMALL(IF(اقساط!$G$3:$G$8532=B3107,ROW($B$3:$B$8532)-ROW($B$3)+1),ROWS($C$3:C3107))),\"\")","v":0}]
[{"$f":"IFERROR(INDEX(اقساط!$AT$3:$AT$8532,SMALL(IF(اقساط!$G$3:$G$8532=B3108,ROW($AT$3:$AT$8532)-ROW($AT$3)+1),ROWS($A$3:A3108))),\"\")","v":0},null,{"$f":"IFERROR(INDEX(اقساط!$B$3:$B$8532,SMALL(IF(اقساط!$G$3:$G$8532=B3108,ROW($B$3:$B$8532)-ROW($B$3)+1),ROWS($C$3:C3108))),\"\")","v":0}]
[{"$f":"IFERROR(INDEX(اقساط!$AT$3:$AT$8532,SMALL(IF(اقساط!$G$3:$G$8532=B3109,ROW($AT$3:$AT$8532)-ROW($AT$3)+1),ROWS($A$3:A3109))),\"\")","v":0},null,{"$f":"IFERROR(INDEX(اقساط!$B$3:$B$8532,SMALL(IF(اقساط!$G$3:$G$8532=B3109,ROW($B$3:$B$8532)-ROW($B$3)+1),ROWS($C$3:C3109))),\"\")","v":0}]
[{"$f":"IFERROR(INDEX(اقساط!$AT$3:$AT$8532,SMALL(IF(اقساط!$G$3:$G$8532=B3110,ROW($AT$3:$AT$8532)-ROW($AT$3)+1),ROWS($A$3:A3110))),\"\")","v":0},null,{"$f":"IFERROR(INDEX(اقساط!$B$3:$B$8532,SMALL(IF(اقساط!$G$3:$G$8532=B3110,ROW($B$3:$B$8532)-ROW($B$3)+1),ROWS($C$3:C3110))),\"\")","v":0}]
[{"$f":"IFERROR(INDEX(اقساط!$AT$3:$AT$8532,SMALL(IF(اقساط!$G$3:$G$8532=B3111,ROW($AT$3:$AT$8532)-ROW($AT$3)+1),ROWS($A$3:A3111))),\"\")","v":0},null,{"$f":"IFERROR(INDEX(اقساط!$B$3:$B$8532,SMALL(IF(اقساط!$G$3:$G$8532=B3111,ROW($B$3:$B$8532)-ROW($B$3)+1),ROWS($C$3:C3111))),\"\")","v":0}]
[{"$f":"IFERROR(INDEX(اقساط!$AT$3:$AT$8532,SMALL(IF(اقساط!$G$3:$G$8532=B3112,ROW($AT$3:$AT$8532)-ROW($AT$3)+1),ROWS($A$3:A3112))),\"\")","v":0},null,{"$f":"IFERROR(INDEX(اقساط!$B$3:$B$8532,SMALL(IF(اقساط!$G$3:$G$8532=B3112,ROW($B$3:$B$8532)-ROW($B$3)+1),ROWS($C$3:C3112))),\"\")","v":0}]
[{"$f":"IFERROR(INDEX(اقساط!$AT$3:$AT$8532,SMALL(IF(اقساط!$G$3:$G$8532=B3113,ROW($AT$3:$AT$8532)-ROW($AT$3)+1),ROWS($A$3:A3113))),\"\")","v":0},null,{"$f":"IFERROR(INDEX(اقساط!$B$3:$B$8532,SMALL(IF(اقساط!$G$3:$G$8532=B3113,ROW($B$3:$B$8532)-ROW($B$3)+1),ROWS($C$3:C3113))),\"\")","v":0}]
[{"$f":"IFERROR(INDEX(اقساط!$AT$3:$AT$8532,SMALL(IF(اقساط!$G$3:$G$8532=B3114,ROW($AT$3:$AT$8532)-ROW($AT$3)+1),ROWS($A$3:A3114))),\"\")","v":0},null,{"$f":"IFERROR(INDEX(اقساط!$B$3:$B$8532,SMALL(IF(اقساط!$G$3:$G$8532=B3114,ROW($B$3:$B$8532)-ROW($B$3)+1),ROWS($C$3:C3114))),\"\")","v":0}]
[{"$f":"IFERROR(INDEX(اقساط!$AT$3:$AT$8532,SMALL(IF(اقساط!$G$3:$G$8532=B3115,ROW($AT$3:$AT$8532)-ROW($AT$3)+1),ROWS($A$3:A3115))),\"\")","v":0},null,{"$f":"IFERROR(INDEX(اقساط!$B$3:$B$8532,SMALL(IF(اقساط!$G$3:$G$8532=B3115,ROW($B$3:$B$8532)-ROW($B$3)+1),ROWS($C$3:C3115))),\"\")","v":0}]
[{"$f":"IFERROR(INDEX(اقساط!$AT$3:$AT$8532,SMALL(IF(اقساط!$G$3:$G$8532=B3116,ROW($AT$3:$AT$8532)-ROW($AT$3)+1),ROWS($A$3:A3116))),\"\")","v":0},null,{"$f":"IFERROR(INDEX(اقساط!$B$3:$B$8532,SMALL(IF(اقساط!$G$3:$G$8532=B3116,ROW($B$3:$B$8532)-ROW($B$3)+1),ROWS($C$3:C3116))),\"\")","v":0}]
[{"$f":"IFERROR(INDEX(اقساط!$AT$3:$AT$8532,SMALL(IF(اقساط!$G$3:$G$8532=B3117,ROW($AT$3:$AT$8532)-ROW($AT$3)+1),ROWS($A$3:A3117))),\"\")","v":0},null,{"$f":"IFERROR(INDEX(اقساط!$B$3:$B$8532,SMALL(IF(اقساط!$G$3:$G$8532=B3117,ROW($B$3:$B$8532)-ROW($B$3)+1),ROWS($C$3:C3117))),\"\")","v":0}]
[{"$f":"IFERROR(INDEX(اقساط!$AT$3:$AT$8532,SMALL(IF(اقساط!$G$3:$G$8532=B3118,ROW($AT$3:$AT$8532)-ROW($AT$3)+1),ROWS($A$3:A3118))),\"\")","v":0},null,{"$f":"IFERROR(INDEX(اقساط!$B$3:$B$8532,SMALL(IF(اقساط!$G$3:$G$8532=B3118,ROW($B$3:$B$8532)-ROW($B$3)+1),ROWS($C$3:C3118))),\"\")","v":0}]
[{"$f":"IFERROR(INDEX(اقساط!$AT$3:$AT$8532,SMALL(IF(اقساط!$G$3:$G$8532=B3119,ROW($AT$3:$AT$8532)-ROW($AT$3)+1),ROWS($A$3:A3119))),\"\")","v":0},null,{"$f":"IFERROR(INDEX(اقساط!$B$3:$B$8532,SMALL(IF(اقساط!$G$3:$G$8532=B3119,ROW($B$3:$B$8532)-ROW($B$3)+1),ROWS($C$3:C3119))),\"\")","v":0}]
[{"$f":"IFERROR(INDEX(اقساط!$AT$3:$AT$8532,SMALL(IF(اقساط!$G$3:$G$8532=B3120,ROW($AT$3:$AT$8532)-ROW($AT$3)+1),ROWS($A$3:A3120))),\"\")","v":0},null,{"$f":"IFERROR(INDEX(اقساط!$B$3:$B$8532,SMALL(IF(اقساط!$G$3:$G$8532=B3120,ROW($B$3:$B$8532)-ROW($B$3)+1),ROWS($C$3:C3120))),\"\")","v":0}]
[{"$f":"IFERROR(INDEX(اقساط!$AT$3:$AT$8532,SMALL(IF(اقساط!$G$3:$G$8532=B3121,ROW($AT$3:$AT$8532)-ROW($AT$3)+1),ROWS($A$3:A3121))),\"\")","v":0},null,{"$f":"IFERROR(INDEX(اقساط!$B$3:$B$8532,SMALL(IF(اقساط!$G$3:$G$8532=B3121,ROW($B$3:$B$8532)-ROW($B$3)+1),ROWS($C$3:C3121))),\"\")","v":0}]
[{"$f":"IFERROR(INDEX(اقساط!$AT$3:$AT$8532,SMALL(IF(اقساط!$G$3:$G$8532=B3122,ROW($AT$3:$AT$8532)-ROW($AT$3)+1),ROWS($A$3:A3122))),\"\")","v":0},null,{"$f":"IFERROR(INDEX(اقساط!$B$3:$B$8532,SMALL(IF(اقساط!$G$3:$G$8532=B3122,ROW($B$3:$B$8532)-ROW($B$3)+1),ROWS($C$3:C3122))),\"\")","v":0}]
[{"$f":"IFERROR(INDEX(اقساط!$AT$3:$AT$8532,SMALL(IF(اقساط!$G$3:$G$8532=B3123,ROW($AT$3:$AT$8532)-ROW($AT$3)+1),ROWS($A$3:A3123))),\"\")","v":0},null,{"$f":"IFERROR(INDEX(اقساط!$B$3:$B$8532,SMALL(IF(اقساط!$G$3:$G$8532=B3123,ROW($B$3:$B$8532)-ROW($B$3)+1),ROWS($C$3:C3123))),\"\")","v":0}]
[{"$f":"IFERROR(INDEX(اقساط!$AT$3:$AT$8532,SMALL(IF(اقساط!$G$3:$G$8532=B3124,ROW($AT$3:$AT$8532)-ROW($AT$3)+1),ROWS($A$3:A3124))),\"\")","v":0},null,{"$f":"IFERROR(INDEX(اقساط!$B$3:$B$8532,SMALL(IF(اقساط!$G$3:$G$8532=B3124,ROW($B$3:$B$8532)-ROW($B$3)+1),ROWS($C$3:C3124))),\"\")","v":0}]
[{"$f":"IFERROR(INDEX(اقساط!$AT$3:$AT$8532,SMALL(IF(اقساط!$G$3:$G$8532=B3125,ROW($AT$3:$AT$8532)-ROW($AT$3)+1),ROWS($A$3:A3125))),\"\")","v":0},null,{"$f":"IFERROR(INDEX(اقساط!$B$3:$B$8532,SMALL(IF(اقساط!$G$3:$G$8532=B3125,ROW($B$3:$B$8532)-ROW($B$3)+1),ROWS($C$3:C3125))),\"\")","v":0}]
[{"$f":"IFERROR(INDEX(اقساط!$AT$3:$AT$8532,SMALL(IF(اقساط!$G$3:$G$8532=B3126,ROW($AT$3:$AT$8532)-ROW($AT$3)+1),ROWS($A$3:A3126))),\"\")","v":0},null,{"$f":"IFERROR(INDEX(اقساط!$B$3:$B$8532,SMALL(IF(اقساط!$G$3:$G$8532=B3126,ROW($B$3:$B$8532)-ROW($B$3)+1),ROWS($C$3:C3126))),\"\")","v":0}]
[{"$f":"IFERROR(INDEX(اقساط!$AT$3:$AT$8532,SMALL(IF(اقساط!$G$3:$G$8532=B3127,ROW($AT$3:$AT$8532)-ROW($AT$3)+1),ROWS($A$3:A3127))),\"\")","v":0},null,{"$f":"IFERROR(INDEX(اقساط!$B$3:$B$8532,SMALL(IF(اقساط!$G$3:$G$8532=B3127,ROW($B$3:$B$8532)-ROW($B$3)+1),ROWS($C$3:C3127))),\"\")","v":0}]
[{"$f":"IFERROR(INDEX(اقساط!$AT$3:$AT$8532,SMALL(IF(اقساط!$G$3:$G$8532=B3128,ROW($AT$3:$AT$8532)-ROW($AT$3)+1),ROWS($A$3:A3128))),\"\")","v":0},null,{"$f":"IFERROR(INDEX(اقساط!$B$3:$B$8532,SMALL(IF(اقساط!$G$3:$G$8532=B3128,ROW($B$3:$B$8532)-ROW($B$3)+1),ROWS($C$3:C3128))),\"\")","v":0}]
[{"$f":"IFERROR(INDEX(اقساط!$AT$3:$AT$8532,SMALL(IF(اقساط!$G$3:$G$8532=B3129,ROW($AT$3:$AT$8532)-ROW($AT$3)+1),ROWS($A$3:A3129))),\"\")","v":0},null,{"$f":"IFERROR(INDEX(اقساط!$B$3:$B$8532,SMALL(IF(اقساط!$G$3:$G$8532=B3129,ROW($B$3:$B$8532)-ROW($B$3)+1),ROWS($C$3:C3129))),\"\")","v":0}]
[{"$f":"IFERROR(INDEX(اقساط!$AT$3:$AT$8532,SMALL(IF(اقساط!$G$3:$G$8532=B3130,ROW($AT$3:$AT$8532)-ROW($AT$3)+1),ROWS($A$3:A3130))),\"\")","v":0},null,{"$f":"IFERROR(INDEX(اقساط!$B$3:$B$8532,SMALL(IF(اقساط!$G$3:$G$8532=B3130,ROW($B$3:$B$8532)-ROW($B$3)+1),ROWS($C$3:C3130))),\"\")","v":0}]
[{"$f":"IFERROR(INDEX(اقساط!$AT$3:$AT$8532,SMALL(IF(اقساط!$G$3:$G$8532=B3131,ROW($AT$3:$AT$8532)-ROW($AT$3)+1),ROWS($A$3:A3131))),\"\")","v":0},null,{"$f":"IFERROR(INDEX(اقساط!$B$3:$B$8532,SMALL(IF(اقساط!$G$3:$G$8532=B3131,ROW($B$3:$B$8532)-ROW($B$3)+1),ROWS($C$3:C3131))),\"\")","v":0}]
[{"$f":"IFERROR(INDEX(اقساط!$AT$3:$AT$8532,SMALL(IF(اقساط!$G$3:$G$8532=B3132,ROW($AT$3:$AT$8532)-ROW($AT$3)+1),ROWS($A$3:A3132))),\"\")","v":0},null,{"$f":"IFERROR(INDEX(اقساط!$B$3:$B$8532,SMALL(IF(اقساط!$G$3:$G$8532=B3132,ROW($B$3:$B$8532)-ROW($B$3)+1),ROWS($C$3:C3132))),\"\")","v":0}]
[{"$f":"IFERROR(INDEX(اقساط!$AT$3:$AT$8532,SMALL(IF(اقساط!$G$3:$G$8532=B3133,ROW($AT$3:$AT$8532)-ROW($AT$3)+1),ROWS($A$3:A3133))),\"\")","v":0},null,{"$f":"IFERROR(INDEX(اقساط!$B$3:$B$8532,SMALL(IF(اقساط!$G$3:$G$8532=B3133,ROW($B$3:$B$8532)-ROW($B$3)+1),ROWS($C$3:C3133))),\"\")","v":0}]
[{"$f":"IFERROR(INDEX(اقساط!$AT$3:$AT$8532,SMALL(IF(اقساط!$G$3:$G$8532=B3134,ROW($AT$3:$AT$8532)-ROW($AT$3)+1),ROWS($A$3:A3134))),\"\")","v":0},null,{"$f":"IFERROR(INDEX(اقساط!$B$3:$B$8532,SMALL(IF(اقساط!$G$3:$G$8532=B3134,ROW($B$3:$B$8532)-ROW($B$3)+1),ROWS($C$3:C3134))),\"\")","v":0}]
[{"$f":"IFERROR(INDEX(اقساط!$AT$3:$AT$8532,SMALL(IF(اقساط!$G$3:$G$8532=B3135,ROW($AT$3:$AT$8532)-ROW($AT$3)+1),ROWS($A$3:A3135))),\"\")","v":0},null,{"$f":"IFERROR(INDEX(اقساط!$B$3:$B$8532,SMALL(IF(اقساط!$G$3:$G$8532=B3135,ROW($B$3:$B$8532)-ROW($B$3)+1),ROWS($C$3:C3135))),\"\")","v":0}]
[{"$f":"IFERROR(INDEX(اقساط!$AT$3:$AT$8532,SMALL(IF(اقساط!$G$3:$G$8532=B3136,ROW($AT$3:$AT$8532)-ROW($AT$3)+1),ROWS($A$3:A3136))),\"\")","v":0},null,{"$f":"IFERROR(INDEX(اقساط!$B$3:$B$8532,SMALL(IF(اقساط!$G$3:$G$8532=B3136,ROW($B$3:$B$8532)-ROW($B$3)+1),ROWS($C$3:C3136))),\"\")","v":0}]
[{"$f":"IFERROR(INDEX(اقساط!$AT$3:$AT$8532,SMALL(IF(اقساط!$G$3:$G$8532=B3137,ROW($AT$3:$AT$8532)-ROW($AT$3)+1),ROWS($A$3:A3137))),\"\")","v":0},null,{"$f":"IFERROR(INDEX(اقساط!$B$3:$B$8532,SMALL(IF(اقساط!$G$3:$G$8532=B3137,ROW($B$3:$B$8532)-ROW($B$3)+1),ROWS($C$3:C3137))),\"\")","v":0}]
[{"$f":"IFERROR(INDEX(اقساط!$AT$3:$AT$8532,SMALL(IF(اقساط!$G$3:$G$8532=B3138,ROW($AT$3:$AT$8532)-ROW($AT$3)+1),ROWS($A$3:A3138))),\"\")","v":0},null,{"$f":"IFERROR(INDEX(اقساط!$B$3:$B$8532,SMALL(IF(اقساط!$G$3:$G$8532=B3138,ROW($B$3:$B$8532)-ROW($B$3)+1),ROWS($C$3:C3138))),\"\")","v":0}]
[{"$f":"IFERROR(INDEX(اقساط!$AT$3:$AT$8532,SMALL(IF(اقساط!$G$3:$G$8532=B3139,ROW($AT$3:$AT$8532)-ROW($AT$3)+1),ROWS($A$3:A3139))),\"\")","v":0},null,{"$f":"IFERROR(INDEX(اقساط!$B$3:$B$8532,SMALL(IF(اقساط!$G$3:$G$8532=B3139,ROW($B$3:$B$8532)-ROW($B$3)+1),ROWS($C$3:C3139))),\"\")","v":0}]
[{"$f":"IFERROR(INDEX(اقساط!$AT$3:$AT$8532,SMALL(IF(اقساط!$G$3:$G$8532=B3140,ROW($AT$3:$AT$8532)-ROW($AT$3)+1),ROWS($A$3:A3140))),\"\")","v":0},null,{"$f":"IFERROR(INDEX(اقساط!$B$3:$B$8532,SMALL(IF(اقساط!$G$3:$G$8532=B3140,ROW($B$3:$B$8532)-ROW($B$3)+1),ROWS($C$3:C3140))),\"\")","v":0}]
[{"$f":"IFERROR(INDEX(اقساط!$AT$3:$AT$8532,SMALL(IF(اقساط!$G$3:$G$8532=B3141,ROW($AT$3:$AT$8532)-ROW($AT$3)+1),ROWS($A$3:A3141))),\"\")","v":0},null,{"$f":"IFERROR(INDEX(اقساط!$B$3:$B$8532,SMALL(IF(اقساط!$G$3:$G$8532=B3141,ROW($B$3:$B$8532)-ROW($B$3)+1),ROWS($C$3:C3141))),\"\")","v":0}]
[{"$f":"IFERROR(INDEX(اقساط!$AT$3:$AT$8532,SMALL(IF(اقساط!$G$3:$G$8532=B3142,ROW($AT$3:$AT$8532)-ROW($AT$3)+1),ROWS($A$3:A3142))),\"\")","v":0},null,{"$f":"IFERROR(INDEX(اقساط!$B$3:$B$8532,SMALL(IF(اقساط!$G$3:$G$8532=B3142,ROW($B$3:$B$8532)-ROW($B$3)+1),ROWS($C$3:C3142))),\"\")","v":0}]
[{"$f":"IFERROR(INDEX(اقساط!$AT$3:$AT$8532,SMALL(IF(اقساط!$G$3:$G$8532=B3143,ROW($AT$3:$AT$8532)-ROW($AT$3)+1),ROWS($A$3:A3143))),\"\")","v":0},null,{"$f":"IFERROR(INDEX(اقساط!$B$3:$B$8532,SMALL(IF(اقساط!$G$3:$G$8532=B3143,ROW($B$3:$B$8532)-ROW($B$3)+1),ROWS($C$3:C3143))),\"\")","v":0}]
[{"$f":"IFERROR(INDEX(اقساط!$AT$3:$AT$8532,SMALL(IF(اقساط!$G$3:$G$8532=B3144,ROW($AT$3:$AT$8532)-ROW($AT$3)+1),ROWS($A$3:A3144))),\"\")","v":0},null,{"$f":"IFERROR(INDEX(اقساط!$B$3:$B$8532,SMALL(IF(اقساط!$G$3:$G$8532=B3144,ROW($B$3:$B$8532)-ROW($B$3)+1),ROWS($C$3:C3144))),\"\")","v":0}]
[{"$f":"IFERROR(INDEX(اقساط!$AT$3:$AT$8532,SMALL(IF(اقساط!$G$3:$G$8532=B3145,ROW($AT$3:$AT$8532)-ROW($AT$3)+1),ROWS($A$3:A3145))),\"\")","v":0},null,{"$f":"IFERROR(INDEX(اقساط!$B$3:$B$8532,SMALL(IF(اقساط!$G$3:$G$8532=B3145,ROW($B$3:$B$8532)-ROW($B$3)+1),ROWS($C$3:C3145))),\"\")","v":0}]
[{"$f":"IFERROR(INDEX(اقساط!$AT$3:$AT$8532,SMALL(IF(اقساط!$G$3:$G$8532=B3146,ROW($AT$3:$AT$8532)-ROW($AT$3)+1),ROWS($A$3:A3146))),\"\")","v":0},null,{"$f":"IFERROR(INDEX(اقساط!$B$3:$B$8532,SMALL(IF(اقساط!$G$3:$G$8532=B3146,ROW($B$3:$B$8532)-ROW($B$3)+1),ROWS($C$3:C3146))),\"\")","v":0}]
[{"$f":"IFERROR(INDEX(اقساط!$AT$3:$AT$8532,SMALL(IF(اقساط!$G$3:$G$8532=B3147,ROW($AT$3:$AT$8532)-ROW($AT$3)+1),ROWS($A$3:A3147))),\"\")","v":0},null,{"$f":"IFERROR(INDEX(اقساط!$B$3:$B$8532,SMALL(IF(اقساط!$G$3:$G$8532=B3147,ROW($B$3:$B$8532)-ROW($B$3)+1),ROWS($C$3:C3147))),\"\")","v":0}]
[{"$f":"IFERROR(INDEX(اقساط!$AT$3:$AT$8532,SMALL(IF(اقساط!$G$3:$G$8532=B3148,ROW($AT$3:$AT$8532)-ROW($AT$3)+1),ROWS($A$3:A3148))),\"\")","v":0},null,{"$f":"IFERROR(INDEX(اقساط!$B$3:$B$8532,SMALL(IF(اقساط!$G$3:$G$8532=B3148,ROW($B$3:$B$8532)-ROW($B$3)+1),ROWS($C$3:C3148))),\"\")","v":0}]
[{"$f":"IFERROR(INDEX(اقساط!$AT$3:$AT$8532,SMALL(IF(اقساط!$G$3:$G$8532=B3149,ROW($AT$3:$AT$8532)-ROW($AT$3)+1),ROWS($A$3:A3149))),\"\")","v":0},null,{"$f":"IFERROR(INDEX(اقساط!$B$3:$B$8532,SMALL(IF(اقساط!$G$3:$G$8532=B3149,ROW($B$3:$B$8532)-ROW($B$3)+1),ROWS($C$3:C3149))),\"\")","v":0}]
[{"$f":"IFERROR(INDEX(اقساط!$AT$3:$AT$8532,SMALL(IF(اقساط!$G$3:$G$8532=B3150,ROW($AT$3:$AT$8532)-ROW($AT$3)+1),ROWS($A$3:A3150))),\"\")","v":0},null,{"$f":"IFERROR(INDEX(اقساط!$B$3:$B$8532,SMALL(IF(اقساط!$G$3:$G$8532=B3150,ROW($B$3:$B$8532)-ROW($B$3)+1),ROWS($C$3:C3150))),\"\")","v":0}]
[{"$f":"IFERROR(INDEX(اقساط!$AT$3:$AT$8532,SMALL(IF(اقساط!$G$3:$G$8532=B3151,ROW($AT$3:$AT$8532)-ROW($AT$3)+1),ROWS($A$3:A3151))),\"\")","v":0},null,{"$f":"IFERROR(INDEX(اقساط!$B$3:$B$8532,SMALL(IF(اقساط!$G$3:$G$8532=B3151,ROW($B$3:$B$8532)-ROW($B$3)+1),ROWS($C$3:C3151))),\"\")","v":0}]
[{"$f":"IFERROR(INDEX(اقساط!$AT$3:$AT$8532,SMALL(IF(اقساط!$G$3:$G$8532=B3152,ROW($AT$3:$AT$8532)-ROW($AT$3)+1),ROWS($A$3:A3152))),\"\")","v":0},null,{"$f":"IFERROR(INDEX(اقساط!$B$3:$B$8532,SMALL(IF(اقساط!$G$3:$G$8532=B3152,ROW($B$3:$B$8532)-ROW($B$3)+1),ROWS($C$3:C3152))),\"\")","v":0}]
[{"$f":"IFERROR(INDEX(اقساط!$AT$3:$AT$8532,SMALL(IF(اقساط!$G$3:$G$8532=B3153,ROW($AT$3:$AT$8532)-ROW($AT$3)+1),ROWS($A$3:A3153))),\"\")","v":0},null,{"$f":"IFERROR(INDEX(اقساط!$B$3:$B$8532,SMALL(IF(اقساط!$G$3:$G$8532=B3153,ROW($B$3:$B$8532)-ROW($B$3)+1),ROWS($C$3:C3153))),\"\")","v":0}]
[{"$f":"IFERROR(INDEX(اقساط!$AT$3:$AT$8532,SMALL(IF(اقساط!$G$3:$G$8532=B3154,ROW($AT$3:$AT$8532)-ROW($AT$3)+1),ROWS($A$3:A3154))),\"\")","v":0},null,{"$f":"IFERROR(INDEX(اقساط!$B$3:$B$8532,SMALL(IF(اقساط!$G$3:$G$8532=B3154,ROW($B$3:$B$8532)-ROW($B$3)+1),ROWS($C$3:C3154))),\"\")","v":0}]
[{"$f":"IFERROR(INDEX(اقساط!$AT$3:$AT$8532,SMALL(IF(اقساط!$G$3:$G$8532=B3155,ROW($AT$3:$AT$8532)-ROW($AT$3)+1),ROWS($A$3:A3155))),\"\")","v":0},null,{"$f":"IFERROR(INDEX(اقساط!$B$3:$B$8532,SMALL(IF(اقساط!$G$3:$G$8532=B3155,ROW($B$3:$B$8532)-ROW($B$3)+1),ROWS($C$3:C3155))),\"\")","v":0}]
[{"$f":"IFERROR(INDEX(اقساط!$AT$3:$AT$8532,SMALL(IF(اقساط!$G$3:$G$8532=B3156,ROW($AT$3:$AT$8532)-ROW($AT$3)+1),ROWS($A$3:A3156))),\"\")","v":0},null,{"$f":"IFERROR(INDEX(اقساط!$B$3:$B$8532,SMALL(IF(اقساط!$G$3:$G$8532=B3156,ROW($B$3:$B$8532)-ROW($B$3)+1),ROWS($C$3:C3156))),\"\")","v":0}]
[{"$f":"IFERROR(INDEX(اقساط!$AT$3:$AT$8532,SMALL(IF(اقساط!$G$3:$G$8532=B3157,ROW($AT$3:$AT$8532)-ROW($AT$3)+1),ROWS($A$3:A3157))),\"\")","v":0},null,{"$f":"IFERROR(INDEX(اقساط!$B$3:$B$8532,SMALL(IF(اقساط!$G$3:$G$8532=B3157,ROW($B$3:$B$8532)-ROW($B$3)+1),ROWS($C$3:C3157))),\"\")","v":0}]
[{"$f":"IFERROR(INDEX(اقساط!$AT$3:$AT$8532,SMALL(IF(اقساط!$G$3:$G$8532=B3158,ROW($AT$3:$AT$8532)-ROW($AT$3)+1),ROWS($A$3:A3158))),\"\")","v":0},null,{"$f":"IFERROR(INDEX(اقساط!$B$3:$B$8532,SMALL(IF(اقساط!$G$3:$G$8532=B3158,ROW($B$3:$B$8532)-ROW($B$3)+1),ROWS($C$3:C3158))),\"\")","v":0}]
[{"$f":"IFERROR(INDEX(اقساط!$AT$3:$AT$8532,SMALL(IF(اقساط!$G$3:$G$8532=B3159,ROW($AT$3:$AT$8532)-ROW($AT$3)+1),ROWS($A$3:A3159))),\"\")","v":0},null,{"$f":"IFERROR(INDEX(اقساط!$B$3:$B$8532,SMALL(IF(اقساط!$G$3:$G$8532=B3159,ROW($B$3:$B$8532)-ROW($B$3)+1),ROWS($C$3:C3159))),\"\")","v":0}]
[{"$f":"IFERROR(INDEX(اقساط!$AT$3:$AT$8532,SMALL(IF(اقساط!$G$3:$G$8532=B3160,ROW($AT$3:$AT$8532)-ROW($AT$3)+1),ROWS($A$3:A3160))),\"\")","v":0},null,{"$f":"IFERROR(INDEX(اقساط!$B$3:$B$8532,SMALL(IF(اقساط!$G$3:$G$8532=B3160,ROW($B$3:$B$8532)-ROW($B$3)+1),ROWS($C$3:C3160))),\"\")","v":0}]
[{"$f":"IFERROR(INDEX(اقساط!$AT$3:$AT$8532,SMALL(IF(اقساط!$G$3:$G$8532=B3161,ROW($AT$3:$AT$8532)-ROW($AT$3)+1),ROWS($A$3:A3161))),\"\")","v":0},null,{"$f":"IFERROR(INDEX(اقساط!$B$3:$B$8532,SMALL(IF(اقساط!$G$3:$G$8532=B3161,ROW($B$3:$B$8532)-ROW($B$3)+1),ROWS($C$3:C3161))),\"\")","v":0}]
[{"$f":"IFERROR(INDEX(اقساط!$AT$3:$AT$8532,SMALL(IF(اقساط!$G$3:$G$8532=B3162,ROW($AT$3:$AT$8532)-ROW($AT$3)+1),ROWS($A$3:A3162))),\"\")","v":0},null,{"$f":"IFERROR(INDEX(اقساط!$B$3:$B$8532,SMALL(IF(اقساط!$G$3:$G$8532=B3162,ROW($B$3:$B$8532)-ROW($B$3)+1),ROWS($C$3:C3162))),\"\")","v":0}]
[{"$f":"IFERROR(INDEX(اقساط!$AT$3:$AT$8532,SMALL(IF(اقساط!$G$3:$G$8532=B3163,ROW($AT$3:$AT$8532)-ROW($AT$3)+1),ROWS($A$3:A3163))),\"\")","v":0},null,{"$f":"IFERROR(INDEX(اقساط!$B$3:$B$8532,SMALL(IF(اقساط!$G$3:$G$8532=B3163,ROW($B$3:$B$8532)-ROW($B$3)+1),ROWS($C$3:C3163))),\"\")","v":0}]
[{"$f":"IFERROR(INDEX(اقساط!$AT$3:$AT$8532,SMALL(IF(اقساط!$G$3:$G$8532=B3164,ROW($AT$3:$AT$8532)-ROW($AT$3)+1),ROWS($A$3:A3164))),\"\")","v":0},null,{"$f":"IFERROR(INDEX(اقساط!$B$3:$B$8532,SMALL(IF(اقساط!$G$3:$G$8532=B3164,ROW($B$3:$B$8532)-ROW($B$3)+1),ROWS($C$3:C3164))),\"\")","v":0}]
[{"$f":"IFERROR(INDEX(اقساط!$AT$3:$AT$8532,SMALL(IF(اقساط!$G$3:$G$8532=B3165,ROW($AT$3:$AT$8532)-ROW($AT$3)+1),ROWS($A$3:A3165))),\"\")","v":0},null,{"$f":"IFERROR(INDEX(اقساط!$B$3:$B$8532,SMALL(IF(اقساط!$G$3:$G$8532=B3165,ROW($B$3:$B$8532)-ROW($B$3)+1),ROWS($C$3:C3165))),\"\")","v":0}]
[{"$f":"IFERROR(INDEX(اقساط!$AT$3:$AT$8532,SMALL(IF(اقساط!$G$3:$G$8532=B3166,ROW($AT$3:$AT$8532)-ROW($AT$3)+1),ROWS($A$3:A3166))),\"\")","v":0},null,{"$f":"IFERROR(INDEX(اقساط!$B$3:$B$8532,SMALL(IF(اقساط!$G$3:$G$8532=B3166,ROW($B$3:$B$8532)-ROW($B$3)+1),ROWS($C$3:C3166))),\"\")","v":0}]
[{"$f":"IFERROR(INDEX(اقساط!$AT$3:$AT$8532,SMALL(IF(اقساط!$G$3:$G$8532=B3167,ROW($AT$3:$AT$8532)-ROW($AT$3)+1),ROWS($A$3:A3167))),\"\")","v":0},null,{"$f":"IFERROR(INDEX(اقساط!$B$3:$B$8532,SMALL(IF(اقساط!$G$3:$G$8532=B3167,ROW($B$3:$B$8532)-ROW($B$3)+1),ROWS($C$3:C3167))),\"\")","v":0}]
[{"$f":"IFERROR(INDEX(اقساط!$AT$3:$AT$8532,SMALL(IF(اقساط!$G$3:$G$8532=B3168,ROW($AT$3:$AT$8532)-ROW($AT$3)+1),ROWS($A$3:A3168))),\"\")","v":0},null,{"$f":"IFERROR(INDEX(اقساط!$B$3:$B$8532,SMALL(IF(اقساط!$G$3:$G$8532=B3168,ROW($B$3:$B$8532)-ROW($B$3)+1),ROWS($C$3:C3168))),\"\")","v":0}]
[{"$f":"IFERROR(INDEX(اقساط!$AT$3:$AT$8532,SMALL(IF(اقساط!$G$3:$G$8532=B3169,ROW($AT$3:$AT$8532)-ROW($AT$3)+1),ROWS($A$3:A3169))),\"\")","v":0},null,{"$f":"IFERROR(INDEX(اقساط!$B$3:$B$8532,SMALL(IF(اقساط!$G$3:$G$8532=B3169,ROW($B$3:$B$8532)-ROW($B$3)+1),ROWS($C$3:C3169))),\"\")","v":0}]
[{"$f":"IFERROR(INDEX(اقساط!$AT$3:$AT$8532,SMALL(IF(اقساط!$G$3:$G$8532=B3170,ROW($AT$3:$AT$8532)-ROW($AT$3)+1),ROWS($A$3:A3170))),\"\")","v":0},null,{"$f":"IFERROR(INDEX(اقساط!$B$3:$B$8532,SMALL(IF(اقساط!$G$3:$G$8532=B3170,ROW($B$3:$B$8532)-ROW($B$3)+1),ROWS($C$3:C3170))),\"\")","v":0}]
[{"$f":"IFERROR(INDEX(اقساط!$AT$3:$AT$8532,SMALL(IF(اقساط!$G$3:$G$8532=B3171,ROW($AT$3:$AT$8532)-ROW($AT$3)+1),ROWS($A$3:A3171))),\"\")","v":0},null,{"$f":"IFERROR(INDEX(اقساط!$B$3:$B$8532,SMALL(IF(اقساط!$G$3:$G$8532=B3171,ROW($B$3:$B$8532)-ROW($B$3)+1),ROWS($C$3:C3171))),\"\")","v":0}]
[{"$f":"IFERROR(INDEX(اقساط!$AT$3:$AT$8532,SMALL(IF(اقساط!$G$3:$G$8532=B3172,ROW($AT$3:$AT$8532)-ROW($AT$3)+1),ROWS($A$3:A3172))),\"\")","v":0},null,{"$f":"IFERROR(INDEX(اقساط!$B$3:$B$8532,SMALL(IF(اقساط!$G$3:$G$8532=B3172,ROW($B$3:$B$8532)-ROW($B$3)+1),ROWS($C$3:C3172))),\"\")","v":0}]
[{"$f":"IFERROR(INDEX(اقساط!$AT$3:$AT$8532,SMALL(IF(اقساط!$G$3:$G$8532=B3173,ROW($AT$3:$AT$8532)-ROW($AT$3)+1),ROWS($A$3:A3173))),\"\")","v":0},null,{"$f":"IFERROR(INDEX(اقساط!$B$3:$B$8532,SMALL(IF(اقساط!$G$3:$G$8532=B3173,ROW($B$3:$B$8532)-ROW($B$3)+1),ROWS($C$3:C3173))),\"\")","v":0}]
[{"$f":"IFERROR(INDEX(اقساط!$AT$3:$AT$8532,SMALL(IF(اقساط!$G$3:$G$8532=B3174,ROW($AT$3:$AT$8532)-ROW($AT$3)+1),ROWS($A$3:A3174))),\"\")","v":0},null,{"$f":"IFERROR(INDEX(اقساط!$B$3:$B$8532,SMALL(IF(اقساط!$G$3:$G$8532=B3174,ROW($B$3:$B$8532)-ROW($B$3)+1),ROWS($C$3:C3174))),\"\")","v":0}]
[{"$f":"IFERROR(INDEX(اقساط!$AT$3:$AT$8532,SMALL(IF(اقساط!$G$3:$G$8532=B3175,ROW($AT$3:$AT$8532)-ROW($AT$3)+1),ROWS($A$3:A3175))),\"\")","v":0},null,{"$f":"IFERROR(INDEX(اقساط!$B$3:$B$8532,SMALL(IF(اقساط!$G$3:$G$8532=B3175,ROW($B$3:$B$8532)-ROW($B$3)+1),ROWS($C$3:C3175))),\"\")","v":0}]
[{"$f":"IFERROR(INDEX(اقساط!$AT$3:$AT$8532,SMALL(IF(اقساط!$G$3:$G$8532=B3176,ROW($AT$3:$AT$8532)-ROW($AT$3)+1),ROWS($A$3:A3176))),\"\")","v":0},null,{"$f":"IFERROR(INDEX(اقساط!$B$3:$B$8532,SMALL(IF(اقساط!$G$3:$G$8532=B3176,ROW($B$3:$B$8532)-ROW($B$3)+1),ROWS($C$3:C3176))),\"\")","v":0}]
[{"$f":"IFERROR(INDEX(اقساط!$AT$3:$AT$8532,SMALL(IF(اقساط!$G$3:$G$8532=B3177,ROW($AT$3:$AT$8532)-ROW($AT$3)+1),ROWS($A$3:A3177))),\"\")","v":0},null,{"$f":"IFERROR(INDEX(اقساط!$B$3:$B$8532,SMALL(IF(اقساط!$G$3:$G$8532=B3177,ROW($B$3:$B$8532)-ROW($B$3)+1),ROWS($C$3:C3177))),\"\")","v":0}]
[null,null,{"$f":"IFERROR(INDEX(اقساط!$B$3:$B$8532,SMALL(IF(اقساط!$G$3:$G$8532=B3178,ROW($B$3:$B$8532)-ROW($B$3)+1),ROWS($C$3:C3178))),\"\")","v":0}]
[null,null,{"$f":"IFERROR(INDEX(اقساط!$B$3:$B$8532,SMALL(IF(اقساط!$G$3:$G$8532=B3179,ROW($B$3:$B$8532)-ROW($B$3)+1),ROWS($C$3:C3179))),\"\")","v":0}]
[null,null,{"$f":"IFERROR(INDEX(اقساط!$B$3:$B$8532,SMALL(IF(اقساط!$G$3:$G$8532=B3180,ROW($B$3:$B$8532)-ROW($B$3)+1),ROWS($C$3:C3180))),\"\")","v":0}]
[null,null,{"$f":"IFERROR(INDEX(اقساط!$B$3:$B$8532,SMALL(IF(اقساط!$G$3:$G$8532=B3181,ROW($B$3:$B$8532)-ROW($B$3)+1),ROWS($C$3:C3181))),\"\")","v":0}]
[null,null,{"$f":"IFERROR(INDEX(اقساط!$B$3:$B$8532,SMALL(IF(اقساط!$G$3:$G$8532=B3182,ROW($B$3:$B$8532)-ROW($B$3)+1),ROWS($C$3:C3182))),\"\")","v":0}]
[null,null,{"$f":"IFERROR(INDEX(اقساط!$B$3:$B$8532,SMALL(IF(اقساط!$G$3:$G$8532=B3183,ROW($B$3:$B$8532)-ROW($B$3)+1),ROWS($C$3:C3183))),\"\")","v":0}]
[null,null,{"$f":"IFERROR(INDEX(اقساط!$B$3:$B$8532,SMALL(IF(اقساط!$G$3:$G$8532=B3184,ROW($B$3:$B$8532)-ROW($B$3)+1),ROWS($C$3:C3184))),\"\")","v":0}]
[null,null,{"$f":"IFERROR(INDEX(اقساط!$B$3:$B$8532,SMALL(IF(اقساط!$G$3:$G$8532=B3185,ROW($B$3:$B$8532)-ROW($B$3)+1),ROWS($C$3:C3185))),\"\")","v":0}]
[null,null,{"$f":"IFERROR(INDEX(اقساط!$B$3:$B$8532,SMALL(IF(اقساط!$G$3:$G$8532=B3186,ROW($B$3:$B$8532)-ROW($B$3)+1),ROWS($C$3:C3186))),\"\")","v":0}]
[null,null,{"$f":"IFERROR(INDEX(اقساط!$B$3:$B$8532,SMALL(IF(اقساط!$G$3:$G$8532=B3187,ROW($B$3:$B$8532)-ROW($B$3)+1),ROWS($C$3:C3187))),\"\")","v":0}]
[null,null,{"$f":"IFERROR(INDEX(اقساط!$B$3:$B$8532,SMALL(IF(اقساط!$G$3:$G$8532=B3188,ROW($B$3:$B$8532)-ROW($B$3)+1),ROWS($C$3:C3188))),\"\")","v":0}]
[null,null,{"$f":"IFERROR(INDEX(اقساط!$B$3:$B$8532,SMALL(IF(اقساط!$G$3:$G$8532=B3189,ROW($B$3:$B$8532)-ROW($B$3)+1),ROWS($C$3:C3189))),\"\")","v":0}]
[null,null,{"$f":"IFERROR(INDEX(اقساط!$B$3:$B$8532,SMALL(IF(اقساط!$G$3:$G$8532=B3190,ROW($B$3:$B$8532)-ROW($B$3)+1),ROWS($C$3:C3190))),\"\")","v":0}]
[null,null,{"$f":"IFERROR(INDEX(اقساط!$B$3:$B$8532,SMALL(IF(اقساط!$G$3:$G$8532=B3191,ROW($B$3:$B$8532)-ROW($B$3)+1),ROWS($C$3:C3191))),\"\")","v":0}]
[null,null,{"$f":"IFERROR(INDEX(اقساط!$B$3:$B$8532,SMALL(IF(اقساط!$G$3:$G$8532=B3192,ROW($B$3:$B$8532)-ROW($B$3)+1),ROWS($C$3:C3192))),\"\")","v":0}]
[null,null,{"$f":"IFERROR(INDEX(اقساط!$B$3:$B$8532,SMALL(IF(اقساط!$G$3:$G$8532=B3193,ROW($B$3:$B$8532)-ROW($B$3)+1),ROWS($C$3:C3193))),\"\")","v":0}]
[null,null,{"$f":"IFERROR(INDEX(اقساط!$B$3:$B$8532,SMALL(IF(اقساط!$G$3:$G$8532=B3194,ROW($B$3:$B$8532)-ROW($B$3)+1),ROWS($C$3:C3194))),\"\")","v":0}]
[null,null,{"$f":"IFERROR(INDEX(اقساط!$B$3:$B$8532,SMALL(IF(اقساط!$G$3:$G$8532=B3195,ROW($B$3:$B$8532)-ROW($B$3)+1),ROWS($C$3:C3195))),\"\")","v":0}]
[null,null,{"$f":"IFERROR(INDEX(اقساط!$B$3:$B$8532,SMALL(IF(اقساط!$G$3:$G$8532=B3196,ROW($B$3:$B$8532)-ROW($B$3)+1),ROWS($C$3:C3196))),\"\")","v":0}]
[null,null,{"$f":"IFERROR(INDEX(اقساط!$B$3:$B$8532,SMALL(IF(اقساط!$G$3:$G$8532=B3197,ROW($B$3:$B$8532)-ROW($B$3)+1),ROWS($C$3:C3197))),\"\")","v":0}]
[null,null,{"$f":"IFERROR(INDEX(اقساط!$B$3:$B$8532,SMALL(IF(اقساط!$G$3:$G$8532=B3198,ROW($B$3:$B$8532)-ROW($B$3)+1),ROWS($C$3:C3198))),\"\")","v":0}]
[null,null,{"$f":"IFERROR(INDEX(اقساط!$B$3:$B$8532,SMALL(IF(اقساط!$G$3:$G$8532=B3199,ROW($B$3:$B$8532)-ROW($B$3)+1),ROWS($C$3:C3199))),\"\")","v":0}]
[null,null,{"$f":"IFERROR(INDEX(اقساط!$B$3:$B$8532,SMALL(IF(اقساط!$G$3:$G$8532=B3200,ROW($B$3:$B$8532)-ROW($B$3)+1),ROWS($C$3:C3200))),\"\")","v":0}]
[null,null,{"$f":"IFERROR(INDEX(اقساط!$B$3:$B$8532,SMALL(IF(اقساط!$G$3:$G$8532=B3201,ROW($B$3:$B$8532)-ROW($B$3)+1),ROWS($C$3:C3201))),\"\")","v":0}]
[null,null,{"$f":"IFERROR(INDEX(اقساط!$B$3:$B$8532,SMALL(IF(اقساط!$G$3:$G$8532=B3202,ROW($B$3:$B$8532)-ROW($B$3)+1),ROWS($C$3:C3202))),\"\")","v":0}]
[null,null,{"$f":"IFERROR(INDEX(اقساط!$B$3:$B$8532,SMALL(IF(اقساط!$G$3:$G$8532=B3203,ROW($B$3:$B$8532)-ROW($B$3)+1),ROWS($C$3:C3203))),\"\")","v":0}]
[null,null,{"$f":"IFERROR(INDEX(اقساط!$B$3:$B$8532,SMALL(IF(اقساط!$G$3:$G$8532=B3204,ROW($B$3:$B$8532)-ROW($B$3)+1),ROWS($C$3:C3204))),\"\")","v":0}]
[null,null,{"$f":"IFERROR(INDEX(اقساط!$B$3:$B$8532,SMALL(IF(اقساط!$G$3:$G$8532=B3205,ROW($B$3:$B$8532)-ROW($B$3)+1),ROWS($C$3:C3205))),\"\")","v":0}]
[null,null,{"$f":"IFERROR(INDEX(اقساط!$B$3:$B$8532,SMALL(IF(اقساط!$G$3:$G$8532=B3206,ROW($B$3:$B$8532)-ROW($B$3)+1),ROWS($C$3:C3206))),\"\")","v":0}]
[null,null,{"$f":"IFERROR(INDEX(اقساط!$B$3:$B$8532,SMALL(IF(اقساط!$G$3:$G$8532=B3207,ROW($B$3:$B$8532)-ROW($B$3)+1),ROWS($C$3:C3207))),\"\")","v":0}]
[null,null,{"$f":"IFERROR(INDEX(اقساط!$B$3:$B$8532,SMALL(IF(اقساط!$G$3:$G$8532=B3208,ROW($B$3:$B$8532)-ROW($B$3)+1),ROWS($C$3:C3208))),\"\")","v":0}]
[null,null,{"$f":"IFERROR(INDEX(اقساط!$B$3:$B$8532,SMALL(IF(اقساط!$G$3:$G$8532=B3209,ROW($B$3:$B$8532)-ROW($B$3)+1),ROWS($C$3:C3209))),\"\")","v":0}]
[null,null,{"$f":"IFERROR(INDEX(اقساط!$B$3:$B$8532,SMALL(IF(اقساط!$G$3:$G$8532=B3210,ROW($B$3:$B$8532)-ROW($B$3)+1),ROWS($C$3:C3210))),\"\")","v":0}]
[null,null,{"$f":"IFERROR(INDEX(اقساط!$B$3:$B$8532,SMALL(IF(اقساط!$G$3:$G$8532=B3211,ROW($B$3:$B$8532)-ROW($B$3)+1),ROWS($C$3:C3211))),\"\")","v":0}]
[null,null,{"$f":"IFERROR(INDEX(اقساط!$B$3:$B$8532,SMALL(IF(اقساط!$G$3:$G$8532=B3212,ROW($B$3:$B$8532)-ROW($B$3)+1),ROWS($C$3:C3212))),\"\")","v":0}]
[null,null,{"$f":"IFERROR(INDEX(اقساط!$B$3:$B$8532,SMALL(IF(اقساط!$G$3:$G$8532=B3213,ROW($B$3:$B$8532)-ROW($B$3)+1),ROWS($C$3:C3213))),\"\")","v":0}]
[null,null,{"$f":"IFERROR(INDEX(اقساط!$B$3:$B$8532,SMALL(IF(اقساط!$G$3:$G$8532=B3214,ROW($B$3:$B$8532)-ROW($B$3)+1),ROWS($C$3:C3214))),\"\")","v":0}]
[null,null,{"$f":"IFERROR(INDEX(اقساط!$B$3:$B$8532,SMALL(IF(اقساط!$G$3:$G$8532=B3215,ROW($B$3:$B$8532)-ROW($B$3)+1),ROWS($C$3:C3215))),\"\")","v":0}]
[null,null,{"$f":"IFERROR(INDEX(اقساط!$B$3:$B$8532,SMALL(IF(اقساط!$G$3:$G$8532=B3216,ROW($B$3:$B$8532)-ROW($B$3)+1),ROWS($C$3:C3216))),\"\")","v":0}]
[null,null,{"$f":"IFERROR(INDEX(اقساط!$B$3:$B$8532,SMALL(IF(اقساط!$G$3:$G$8532=B3217,ROW($B$3:$B$8532)-ROW($B$3)+1),ROWS($C$3:C3217))),\"\")","v":0}]
[null,null,{"$f":"IFERROR(INDEX(اقساط!$B$3:$B$8532,SMALL(IF(اقساط!$G$3:$G$8532=B3218,ROW($B$3:$B$8532)-ROW($B$3)+1),ROWS($C$3:C3218))),\"\")","v":0}]
[null,null,{"$f":"IFERROR(INDEX(اقساط!$B$3:$B$8532,SMALL(IF(اقساط!$G$3:$G$8532=B3219,ROW($B$3:$B$8532)-ROW($B$3)+1),ROWS($C$3:C3219))),\"\")","v":0}]
[null,null,{"$f":"IFERROR(INDEX(اقساط!$B$3:$B$8532,SMALL(IF(اقساط!$G$3:$G$8532=B3220,ROW($B$3:$B$8532)-ROW($B$3)+1),ROWS($C$3:C3220))),\"\")","v":0}]
[null,null,{"$f":"IFERROR(INDEX(اقساط!$B$3:$B$8532,SMALL(IF(اقساط!$G$3:$G$8532=B3221,ROW($B$3:$B$8532)-ROW($B$3)+1),ROWS($C$3:C3221))),\"\")","v":0}]
[null,null,{"$f":"IFERROR(INDEX(اقساط!$B$3:$B$8532,SMALL(IF(اقساط!$G$3:$G$8532=B3222,ROW($B$3:$B$8532)-ROW($B$3)+1),ROWS($C$3:C3222))),\"\")","v":0}]
[null,null,{"$f":"IFERROR(INDEX(اقساط!$B$3:$B$8532,SMALL(IF(اقساط!$G$3:$G$8532=B3223,ROW($B$3:$B$8532)-ROW($B$3)+1),ROWS($C$3:C3223))),\"\")","v":0}]
[null,null,{"$f":"IFERROR(INDEX(اقساط!$B$3:$B$8532,SMALL(IF(اقساط!$G$3:$G$8532=B3224,ROW($B$3:$B$8532)-ROW($B$3)+1),ROWS($C$3:C3224))),\"\")","v":0}]
[null,null,{"$f":"IFERROR(INDEX(اقساط!$B$3:$B$8532,SMALL(IF(اقساط!$G$3:$G$8532=B3225,ROW($B$3:$B$8532)-ROW($B$3)+1),ROWS($C$3:C3225))),\"\")","v":0}]
[null,null,{"$f":"IFERROR(INDEX(اقساط!$B$3:$B$8532,SMALL(IF(اقساط!$G$3:$G$8532=B3226,ROW($B$3:$B$8532)-ROW($B$3)+1),ROWS($C$3:C3226))),\"\")","v":0}]
[null,null,{"$f":"IFERROR(INDEX(اقساط!$B$3:$B$8532,SMALL(IF(اقساط!$G$3:$G$8532=B3227,ROW($B$3:$B$8532)-ROW($B$3)+1),ROWS($C$3:C3227))),\"\")","v":0}]
[null,null,{"$f":"IFERROR(INDEX(اقساط!$B$3:$B$8532,SMALL(IF(اقساط!$G$3:$G$8532=B3228,ROW($B$3:$B$8532)-ROW($B$3)+1),ROWS($C$3:C3228))),\"\")","v":0}]
[null,null,{"$f":"IFERROR(INDEX(اقساط!$B$3:$B$8532,SMALL(IF(اقساط!$G$3:$G$8532=B3229,ROW($B$3:$B$8532)-ROW($B$3)+1),ROWS($C$3:C3229))),\"\")","v":0}]
[null,null,{"$f":"IFERROR(INDEX(اقساط!$B$3:$B$8532,SMALL(IF(اقساط!$G$3:$G$8532=B3230,ROW($B$3:$B$8532)-ROW($B$3)+1),ROWS($C$3:C3230))),\"\")","v":0}]
[null,null,{"$f":"IFERROR(INDEX(اقساط!$B$3:$B$8532,SMALL(IF(اقساط!$G$3:$G$8532=B3231,ROW($B$3:$B$8532)-ROW($B$3)+1),ROWS($C$3:C3231))),\"\")","v":0}]
[null,null,{"$f":"IFERROR(INDEX(اقساط!$B$3:$B$8532,SMALL(IF(اقساط!$G$3:$G$8532=B3232,ROW($B$3:$B$8532)-ROW($B$3)+1),ROWS($C$3:C3232))),\"\")","v":0}]
[null,null,{"$f":"IFERROR(INDEX(اقساط!$B$3:$B$8532,SMALL(IF(اقساط!$G$3:$G$8532=B3233,ROW($B$3:$B$8532)-ROW($B$3)+1),ROWS($C$3:C3233))),\"\")","v":0}]
[null,null,{"$f":"IFERROR(INDEX(اقساط!$B$3:$B$8532,SMALL(IF(اقساط!$G$3:$G$8532=B3234,ROW($B$3:$B$8532)-ROW($B$3)+1),ROWS($C$3:C3234))),\"\")","v":0}]
[null,null,{"$f":"IFERROR(INDEX(اقساط!$B$3:$B$8532,SMALL(IF(اقساط!$G$3:$G$8532=B3235,ROW($B$3:$B$8532)-ROW($B$3)+1),ROWS($C$3:C3235))),\"\")","v":0}]
[null,null,{"$f":"IFERROR(INDEX(اقساط!$B$3:$B$8532,SMALL(IF(اقساط!$G$3:$G$8532=B3236,ROW($B$3:$B$8532)-ROW($B$3)+1),ROWS($C$3:C3236))),\"\")","v":0}]
[null,null,{"$f":"IFERROR(INDEX(اقساط!$B$3:$B$8532,SMALL(IF(اقساط!$G$3:$G$8532=B3237,ROW($B$3:$B$8532)-ROW($B$3)+1),ROWS($C$3:C3237))),\"\")","v":0}]
[null,null,{"$f":"IFERROR(INDEX(اقساط!$B$3:$B$8532,SMALL(IF(اقساط!$G$3:$G$8532=B3238,ROW($B$3:$B$8532)-ROW($B$3)+1),ROWS($C$3:C3238))),\"\")","v":0}]
[null,null,{"$f":"IFERROR(INDEX(اقساط!$B$3:$B$8532,SMALL(IF(اقساط!$G$3:$G$8532=B3239,ROW($B$3:$B$8532)-ROW($B$3)+1),ROWS($C$3:C3239))),\"\")","v":0}]
[null,null,{"$f":"IFERROR(INDEX(اقساط!$B$3:$B$8532,SMALL(IF(اقساط!$G$3:$G$8532=B3240,ROW($B$3:$B$8532)-ROW($B$3)+1),ROWS($C$3:C3240))),\"\")","v":0}]
[null,null,{"$f":"IFERROR(INDEX(اقساط!$B$3:$B$8532,SMALL(IF(اقساط!$G$3:$G$8532=B3241,ROW($B$3:$B$8532)-ROW($B$3)+1),ROWS($C$3:C3241))),\"\")","v":0}]
[null,null,{"$f":"IFERROR(INDEX(اقساط!$B$3:$B$8532,SMALL(IF(اقساط!$G$3:$G$8532=B3242,ROW($B$3:$B$8532)-ROW($B$3)+1),ROWS($C$3:C3242))),\"\")","v":0}]
[null,null,{"$f":"IFERROR(INDEX(اقساط!$B$3:$B$8532,SMALL(IF(اقساط!$G$3:$G$8532=B3243,ROW($B$3:$B$8532)-ROW($B$3)+1),ROWS($C$3:C3243))),\"\")","v":0}]
[null,null,{"$f":"IFERROR(INDEX(اقساط!$B$3:$B$8532,SMALL(IF(اقساط!$G$3:$G$8532=B3244,ROW($B$3:$B$8532)-ROW($B$3)+1),ROWS($C$3:C3244))),\"\")","v":0}]
[null,null,{"$f":"IFERROR(INDEX(اقساط!$B$3:$B$8532,SMALL(IF(اقساط!$G$3:$G$8532=B3245,ROW($B$3:$B$8532)-ROW($B$3)+1),ROWS($C$3:C3245))),\"\")","v":0}]
[null,null,{"$f":"IFERROR(INDEX(اقساط!$B$3:$B$8532,SMALL(IF(اقساط!$G$3:$G$8532=B3246,ROW($B$3:$B$8532)-ROW($B$3)+1),ROWS($C$3:C3246))),\"\")","v":0}]
[null,null,{"$f":"IFERROR(INDEX(اقساط!$B$3:$B$8532,SMALL(IF(اقساط!$G$3:$G$8532=B3247,ROW($B$3:$B$8532)-ROW($B$3)+1),ROWS($C$3:C3247))),\"\")","v":0}]
[null,null,{"$f":"IFERROR(INDEX(اقساط!$B$3:$B$8532,SMALL(IF(اقساط!$G$3:$G$8532=B3248,ROW($B$3:$B$8532)-ROW($B$3)+1),ROWS($C$3:C3248))),\"\")","v":0}]
[null,null,{"$f":"IFERROR(INDEX(اقساط!$B$3:$B$8532,SMALL(IF(اقساط!$G$3:$G$8532=B3249,ROW($B$3:$B$8532)-ROW($B$3)+1),ROWS($C$3:C3249))),\"\")","v":0}]
[null,null,{"$f":"IFERROR(INDEX(اقساط!$B$3:$B$8532,SMALL(IF(اقساط!$G$3:$G$8532=B3250,ROW($B$3:$B$8532)-ROW($B$3)+1),ROWS($C$3:C3250))),\"\")","v":0}]
[null,null,{"$f":"IFERROR(INDEX(اقساط!$B$3:$B$8532,SMALL(IF(اقساط!$G$3:$G$8532=B3251,ROW($B$3:$B$8532)-ROW($B$3)+1),ROWS($C$3:C3251))),\"\")","v":0}]
[null,null,{"$f":"IFERROR(INDEX(اقساط!$B$3:$B$8532,SMALL(IF(اقساط!$G$3:$G$8532=B3252,ROW($B$3:$B$8532)-ROW($B$3)+1),ROWS($C$3:C3252))),\"\")","v":0}]
[null,null,{"$f":"IFERROR(INDEX(اقساط!$B$3:$B$8532,SMALL(IF(اقساط!$G$3:$G$8532=B3253,ROW($B$3:$B$8532)-ROW($B$3)+1),ROWS($C$3:C3253))),\"\")","v":0}]
[null,null,{"$f":"IFERROR(INDEX(اقساط!$B$3:$B$8532,SMALL(IF(اقساط!$G$3:$G$8532=B3254,ROW($B$3:$B$8532)-ROW($B$3)+1),ROWS($C$3:C3254))),\"\")","v":0}]
[null,null,{"$f":"IFERROR(INDEX(اقساط!$B$3:$B$8532,SMALL(IF(اقساط!$G$3:$G$8532=B3255,ROW($B$3:$B$8532)-ROW($B$3)+1),ROWS($C$3:C3255))),\"\")","v":0}]
[null,null,{"$f":"IFERROR(INDEX(اقساط!$B$3:$B$8532,SMALL(IF(اقساط!$G$3:$G$8532=B3256,ROW($B$3:$B$8532)-ROW($B$3)+1),ROWS($C$3:C3256))),\"\")","v":0}]
[null,null,{"$f":"IFERROR(INDEX(اقساط!$B$3:$B$8532,SMALL(IF(اقساط!$G$3:$G$8532=B3257,ROW($B$3:$B$8532)-ROW($B$3)+1),ROWS($C$3:C3257))),\"\")","v":0}]
[null,null,{"$f":"IFERROR(INDEX(اقساط!$B$3:$B$8532,SMALL(IF(اقساط!$G$3:$G$8532=B3258,ROW($B$3:$B$8532)-ROW($B$3)+1),ROWS($C$3:C3258))),\"\")","v":0}]
[null,null,{"$f":"IFERROR(INDEX(اقساط!$B$3:$B$8532,SMALL(IF(اقساط!$G$3:$G$8532=B3259,ROW($B$3:$B$8532)-ROW($B$3)+1),ROWS($C$3:C3259))),\"\")","v":0}]
[null,null,{"$f":"IFERROR(INDEX(اقساط!$B$3:$B$8532,SMALL(IF(اقساط!$G$3:$G$8532=B3260,ROW($B$3:$B$8532)-ROW($B$3)+1),ROWS($C$3:C3260))),\"\")","v":0}]
[null,null,{"$f":"IFERROR(INDEX(اقساط!$B$3:$B$8532,SMALL(IF(اقساط!$G$3:$G$8532=B3261,ROW($B$3:$B$8532)-ROW($B$3)+1),ROWS($C$3:C3261))),\"\")","v":0}]
[null,null,{"$f":"IFERROR(INDEX(اقساط!$B$3:$B$8532,SMALL(IF(اقساط!$G$3:$G$8532=B3262,ROW($B$3:$B$8532)-ROW($B$3)+1),ROWS($C$3:C3262))),\"\")","v":0}]
[null,null,{"$f":"IFERROR(INDEX(اقساط!$B$3:$B$8532,SMALL(IF(اقساط!$G$3:$G$8532=B3263,ROW($B$3:$B$8532)-ROW($B$3)+1),ROWS($C$3:C3263))),\"\")","v":0}]
[null,null,{"$f":"IFERROR(INDEX(اقساط!$B$3:$B$8532,SMALL(IF(اقساط!$G$3:$G$8532=B3264,ROW($B$3:$B$8532)-ROW($B$3)+1),ROWS($C$3:C3264))),\"\")","v":0}]
[null,null,{"$f":"IFERROR(INDEX(اقساط!$B$3:$B$8532,SMALL(IF(اقساط!$G$3:$G$8532=B3265,ROW($B$3:$B$8532)-ROW($B$3)+1),ROWS($C$3:C3265))),\"\")","v":0}]
[null,null,{"$f":"IFERROR(INDEX(اقساط!$B$3:$B$8532,SMALL(IF(اقساط!$G$3:$G$8532=B3266,ROW($B$3:$B$8532)-ROW($B$3)+1),ROWS($C$3:C3266))),\"\")","v":0}]
[null,null,{"$f":"IFERROR(INDEX(اقساط!$B$3:$B$8532,SMALL(IF(اقساط!$G$3:$G$8532=B3267,ROW($B$3:$B$8532)-ROW($B$3)+1),ROWS($C$3:C3267))),\"\")","v":0}]
[null,null,{"$f":"IFERROR(INDEX(اقساط!$B$3:$B$8532,SMALL(IF(اقساط!$G$3:$G$8532=B3268,ROW($B$3:$B$8532)-ROW($B$3)+1),ROWS($C$3:C3268))),\"\")","v":0}]
[null,null,{"$f":"IFERROR(INDEX(اقساط!$B$3:$B$8532,SMALL(IF(اقساط!$G$3:$G$8532=B3269,ROW($B$3:$B$8532)-ROW($B$3)+1),ROWS($C$3:C3269))),\"\")","v":0}]
[null,null,{"$f":"IFERROR(INDEX(اقساط!$B$3:$B$8532,SMALL(IF(اقساط!$G$3:$G$8532=B3270,ROW($B$3:$B$8532)-ROW($B$3)+1),ROWS($C$3:C3270))),\"\")","v":0}]
[null,null,{"$f":"IFERROR(INDEX(اقساط!$B$3:$B$8532,SMALL(IF(اقساط!$G$3:$G$8532=B3271,ROW($B$3:$B$8532)-ROW($B$3)+1),ROWS($C$3:C3271))),\"\")","v":0}]
[null,null,{"$f":"IFERROR(INDEX(اقساط!$B$3:$B$8532,SMALL(IF(اقساط!$G$3:$G$8532=B3272,ROW($B$3:$B$8532)-ROW($B$3)+1),ROWS($C$3:C3272))),\"\")","v":0}]
[null,null,{"$f":"IFERROR(INDEX(اقساط!$B$3:$B$8532,SMALL(IF(اقساط!$G$3:$G$8532=B3273,ROW($B$3:$B$8532)-ROW($B$3)+1),ROWS($C$3:C3273))),\"\")","v":0}]
[null,null,{"$f":"IFERROR(INDEX(اقساط!$B$3:$B$8532,SMALL(IF(اقساط!$G$3:$G$8532=B3274,ROW($B$3:$B$8532)-ROW($B$3)+1),ROWS($C$3:C3274))),\"\")","v":0}]
[null,null,{"$f":"IFERROR(INDEX(اقساط!$B$3:$B$8532,SMALL(IF(اقساط!$G$3:$G$8532=B3275,ROW($B$3:$B$8532)-ROW($B$3)+1),ROWS($C$3:C3275))),\"\")","v":0}]
[null,null,{"$f":"IFERROR(INDEX(اقساط!$B$3:$B$8532,SMALL(IF(اقساط!$G$3:$G$8532=B3276,ROW($B$3:$B$8532)-ROW($B$3)+1),ROWS($C$3:C3276))),\"\")","v":0}]
[null,null,{"$f":"IFERROR(INDEX(اقساط!$B$3:$B$8532,SMALL(IF(اقساط!$G$3:$G$8532=B3277,ROW($B$3:$B$8532)-ROW($B$3)+1),ROWS($C$3:C3277))),\"\")","v":0}]
[null,null,{"$f":"IFERROR(INDEX(اقساط!$B$3:$B$8532,SMALL(IF(اقساط!$G$3:$G$8532=B3278,ROW($B$3:$B$8532)-ROW($B$3)+1),ROWS($C$3:C3278))),\"\")","v":0}]
[null,null,{"$f":"IFERROR(INDEX(اقساط!$B$3:$B$8532,SMALL(IF(اقساط!$G$3:$G$8532=B3279,ROW($B$3:$B$8532)-ROW($B$3)+1),ROWS($C$3:C3279))),\"\")","v":0}]
[null,null,{"$f":"IFERROR(INDEX(اقساط!$B$3:$B$8532,SMALL(IF(اقساط!$G$3:$G$8532=B3280,ROW($B$3:$B$8532)-ROW($B$3)+1),ROWS($C$3:C3280))),\"\")","v":0}]
[null,null,{"$f":"IFERROR(INDEX(اقساط!$B$3:$B$8532,SMALL(IF(اقساط!$G$3:$G$8532=B3281,ROW($B$3:$B$8532)-ROW($B$3)+1),ROWS($C$3:C3281))),\"\")","v":0}]
[null,null,{"$f":"IFERROR(INDEX(اقساط!$B$3:$B$8532,SMALL(IF(اقساط!$G$3:$G$8532=B3282,ROW($B$3:$B$8532)-ROW($B$3)+1),ROWS($C$3:C3282))),\"\")","v":0}]
[null,null,{"$f":"IFERROR(INDEX(اقساط!$B$3:$B$8532,SMALL(IF(اقساط!$G$3:$G$8532=B3283,ROW($B$3:$B$8532)-ROW($B$3)+1),ROWS($C$3:C3283))),\"\")","v":0}]
[null,null,{"$f":"IFERROR(INDEX(اقساط!$B$3:$B$8532,SMALL(IF(اقساط!$G$3:$G$8532=B3284,ROW($B$3:$B$8532)-ROW($B$3)+1),ROWS($C$3:C3284))),\"\")","v":0}]
[null,null,{"$f":"IFERROR(INDEX(اقساط!$B$3:$B$8532,SMALL(IF(اقساط!$G$3:$G$8532=B3285,ROW($B$3:$B$8532)-ROW($B$3)+1),ROWS($C$3:C3285))),\"\")","v":0}]
[null,null,{"$f":"IFERROR(INDEX(اقساط!$B$3:$B$8532,SMALL(IF(اقساط!$G$3:$G$8532=B3286,ROW($B$3:$B$8532)-ROW($B$3)+1),ROWS($C$3:C3286))),\"\")","v":0}]
[null,null,{"$f":"IFERROR(INDEX(اقساط!$B$3:$B$8532,SMALL(IF(اقساط!$G$3:$G$8532=B3287,ROW($B$3:$B$8532)-ROW($B$3)+1),ROWS($C$3:C3287))),\"\")","v":0}]
[null,null,{"$f":"IFERROR(INDEX(اقساط!$B$3:$B$8532,SMALL(IF(اقساط!$G$3:$G$8532=B3288,ROW($B$3:$B$8532)-ROW($B$3)+1),ROWS($C$3:C3288))),\"\")","v":0}]
[null,null,{"$f":"IFERROR(INDEX(اقساط!$B$3:$B$8532,SMALL(IF(اقساط!$G$3:$G$8532=B3289,ROW($B$3:$B$8532)-ROW($B$3)+1),ROWS($C$3:C3289))),\"\")","v":0}]
[null,null,{"$f":"IFERROR(INDEX(اقساط!$B$3:$B$8532,SMALL(IF(اقساط!$G$3:$G$8532=B3290,ROW($B$3:$B$8532)-ROW($B$3)+1),ROWS($C$3:C3290))),\"\")","v":0}]
[null,null,{"$f":"IFERROR(INDEX(اقساط!$B$3:$B$8532,SMALL(IF(اقساط!$G$3:$G$8532=B3291,ROW($B$3:$B$8532)-ROW($B$3)+1),ROWS($C$3:C3291))),\"\")","v":0}]
[null,null,{"$f":"IFERROR(INDEX(اقساط!$B$3:$B$8532,SMALL(IF(اقساط!$G$3:$G$8532=B3292,ROW($B$3:$B$8532)-ROW($B$3)+1),ROWS($C$3:C3292))),\"\")","v":0}]
[null,null,{"$f":"IFERROR(INDEX(اقساط!$B$3:$B$8532,SMALL(IF(اقساط!$G$3:$G$8532=B3293,ROW($B$3:$B$8532)-ROW($B$3)+1),ROWS($C$3:C3293))),\"\")","v":0}]
[null,null,{"$f":"IFERROR(INDEX(اقساط!$B$3:$B$8532,SMALL(IF(اقساط!$G$3:$G$8532=B3294,ROW($B$3:$B$8532)-ROW($B$3)+1),ROWS($C$3:C3294))),\"\")","v":0}]
[null,null,{"$f":"IFERROR(INDEX(اقساط!$B$3:$B$8532,SMALL(IF(اقساط!$G$3:$G$8532=B3295,ROW($B$3:$B$8532)-ROW($B$3)+1),ROWS($C$3:C3295))),\"\")","v":0}]
[null,null,{"$f":"IFERROR(INDEX(اقساط!$B$3:$B$8532,SMALL(IF(اقساط!$G$3:$G$8532=B3296,ROW($B$3:$B$8532)-ROW($B$3)+1),ROWS($C$3:C3296))),\"\")","v":0}]
[null,null,{"$f":"IFERROR(INDEX(اقساط!$B$3:$B$8532,SMALL(IF(اقساط!$G$3:$G$8532=B3297,ROW($B$3:$B$8532)-ROW($B$3)+1),ROWS($C$3:C3297))),\"\")","v":0}]
[null,null,{"$f":"IFERROR(INDEX(اقساط!$B$3:$B$8532,SMALL(IF(اقساط!$G$3:$G$8532=B3298,ROW($B$3:$B$8532)-ROW($B$3)+1),ROWS($C$3:C3298))),\"\")","v":0}]
[null,null,{"$f":"IFERROR(INDEX(اقساط!$B$3:$B$8532,SMALL(IF(اقساط!$G$3:$G$8532=B3299,ROW($B$3:$B$8532)-ROW($B$3)+1),ROWS($C$3:C3299))),\"\")","v":0}]
[null,null,{"$f":"IFERROR(INDEX(اقساط!$B$3:$B$8532,SMALL(IF(اقساط!$G$3:$G$8532=B3300,ROW($B$3:$B$8532)-ROW($B$3)+1),ROWS($C$3:C3300))),\"\")","v":0}]
[null,null,{"$f":"IFERROR(INDEX(اقساط!$B$3:$B$8532,SMALL(IF(اقساط!$G$3:$G$8532=B3301,ROW($B$3:$B$8532)-ROW($B$3)+1),ROWS($C$3:C3301))),\"\")","v":0}]
[null,null,{"$f":"IFERROR(INDEX(اقساط!$B$3:$B$8532,SMALL(IF(اقساط!$G$3:$G$8532=B3302,ROW($B$3:$B$8532)-ROW($B$3)+1),ROWS($C$3:C3302))),\"\")","v":0}]
[null,null,{"$f":"IFERROR(INDEX(اقساط!$B$3:$B$8532,SMALL(IF(اقساط!$G$3:$G$8532=B3303,ROW($B$3:$B$8532)-ROW($B$3)+1),ROWS($C$3:C3303))),\"\")","v":0}]
[null,null,{"$f":"IFERROR(INDEX(اقساط!$B$3:$B$8532,SMALL(IF(اقساط!$G$3:$G$8532=B3304,ROW($B$3:$B$8532)-ROW($B$3)+1),ROWS($C$3:C3304))),\"\")","v":0}]
[null,null,{"$f":"IFERROR(INDEX(اقساط!$B$3:$B$8532,SMALL(IF(اقساط!$G$3:$G$8532=B3305,ROW($B$3:$B$8532)-ROW($B$3)+1),ROWS($C$3:C3305))),\"\")","v":0}]
[null,null,{"$f":"IFERROR(INDEX(اقساط!$B$3:$B$8532,SMALL(IF(اقساط!$G$3:$G$8532=B3306,ROW($B$3:$B$8532)-ROW($B$3)+1),ROWS($C$3:C3306))),\"\")","v":0}]
[null,null,{"$f":"IFERROR(INDEX(اقساط!$B$3:$B$8532,SMALL(IF(اقساط!$G$3:$G$8532=B3307,ROW($B$3:$B$8532)-ROW($B$3)+1),ROWS($C$3:C3307))),\"\")","v":0}]
[null,null,{"$f":"IFERROR(INDEX(اقساط!$B$3:$B$8532,SMALL(IF(اقساط!$G$3:$G$8532=B3308,ROW($B$3:$B$8532)-ROW($B$3)+1),ROWS($C$3:C3308))),\"\")","v":0}]
[null,null,{"$f":"IFERROR(INDEX(اقساط!$B$3:$B$8532,SMALL(IF(اقساط!$G$3:$G$8532=B3309,ROW($B$3:$B$8532)-ROW($B$3)+1),ROWS($C$3:C3309))),\"\")","v":0}]
[null,null,{"$f":"IFERROR(INDEX(اقساط!$B$3:$B$8532,SMALL(IF(اقساط!$G$3:$G$8532=B3310,ROW($B$3:$B$8532)-ROW($B$3)+1),ROWS($C$3:C3310))),\"\")","v":0}]
[null,null,{"$f":"IFERROR(INDEX(اقساط!$B$3:$B$8532,SMALL(IF(اقساط!$G$3:$G$8532=B3311,ROW($B$3:$B$8532)-ROW($B$3)+1),ROWS($C$3:C3311))),\"\")","v":0}]
[null,null,{"$f":"IFERROR(INDEX(اقساط!$B$3:$B$8532,SMALL(IF(اقساط!$G$3:$G$8532=B3312,ROW($B$3:$B$8532)-ROW($B$3)+1),ROWS($C$3:C3312))),\"\")","v":0}]
[null,null,{"$f":"IFERROR(INDEX(اقساط!$B$3:$B$8532,SMALL(IF(اقساط!$G$3:$G$8532=B3313,ROW($B$3:$B$8532)-ROW($B$3)+1),ROWS($C$3:C3313))),\"\")","v":0}]
[null,null,{"$f":"IFERROR(INDEX(اقساط!$B$3:$B$8532,SMALL(IF(اقساط!$G$3:$G$8532=B3314,ROW($B$3:$B$8532)-ROW($B$3)+1),ROWS($C$3:C3314))),\"\")","v":0}]
[null,null,{"$f":"IFERROR(INDEX(اقساط!$B$3:$B$8532,SMALL(IF(اقساط!$G$3:$G$8532=B3315,ROW($B$3:$B$8532)-ROW($B$3)+1),ROWS($C$3:C3315))),\"\")","v":0}]
[null,null,{"$f":"IFERROR(INDEX(اقساط!$B$3:$B$8532,SMALL(IF(اقساط!$G$3:$G$8532=B3316,ROW($B$3:$B$8532)-ROW($B$3)+1),ROWS($C$3:C3316))),\"\")","v":0}]
[null,null,{"$f":"IFERROR(INDEX(اقساط!$B$3:$B$8532,SMALL(IF(اقساط!$G$3:$G$8532=B3317,ROW($B$3:$B$8532)-ROW($B$3)+1),ROWS($C$3:C3317))),\"\")","v":0}]
[null,null,{"$f":"IFERROR(INDEX(اقساط!$B$3:$B$8532,SMALL(IF(اقساط!$G$3:$G$8532=B3318,ROW($B$3:$B$8532)-ROW($B$3)+1),ROWS($C$3:C3318))),\"\")","v":0}]
[null,null,{"$f":"IFERROR(INDEX(اقساط!$B$3:$B$8532,SMALL(IF(اقساط!$G$3:$G$8532=B3319,ROW($B$3:$B$8532)-ROW($B$3)+1),ROWS($C$3:C3319))),\"\")","v":0}]
[null,null,{"$f":"IFERROR(INDEX(اقساط!$B$3:$B$8532,SMALL(IF(اقساط!$G$3:$G$8532=B3320,ROW($B$3:$B$8532)-ROW($B$3)+1),ROWS($C$3:C3320))),\"\")","v":0}]
[null,null,{"$f":"IFERROR(INDEX(اقساط!$B$3:$B$8532,SMALL(IF(اقساط!$G$3:$G$8532=B3321,ROW($B$3:$B$8532)-ROW($B$3)+1),ROWS($C$3:C3321))),\"\")","v":0}]
[null,null,{"$f":"IFERROR(INDEX(اقساط!$B$3:$B$8532,SMALL(IF(اقساط!$G$3:$G$8532=B3322,ROW($B$3:$B$8532)-ROW($B$3)+1),ROWS($C$3:C3322))),\"\")","v":0}]
[null,null,{"$f":"IFERROR(INDEX(اقساط!$B$3:$B$8532,SMALL(IF(اقساط!$G$3:$G$8532=B3323,ROW($B$3:$B$8532)-ROW($B$3)+1),ROWS($C$3:C3323))),\"\")","v":0}]
[null,null,{"$f":"IFERROR(INDEX(اقساط!$B$3:$B$8532,SMALL(IF(اقساط!$G$3:$G$8532=B3324,ROW($B$3:$B$8532)-ROW($B$3)+1),ROWS($C$3:C3324))),\"\")","v":0}]
[null,null,{"$f":"IFERROR(INDEX(اقساط!$B$3:$B$8532,SMALL(IF(اقساط!$G$3:$G$8532=B3325,ROW($B$3:$B$8532)-ROW($B$3)+1),ROWS($C$3:C3325))),\"\")","v":0}]
[null,null,{"$f":"IFERROR(INDEX(اقساط!$B$3:$B$8532,SMALL(IF(اقساط!$G$3:$G$8532=B3326,ROW($B$3:$B$8532)-ROW($B$3)+1),ROWS($C$3:C3326))),\"\")","v":0}]
[null,null,{"$f":"IFERROR(INDEX(اقساط!$B$3:$B$8532,SMALL(IF(اقساط!$G$3:$G$8532=B3327,ROW($B$3:$B$8532)-ROW($B$3)+1),ROWS($C$3:C3327))),\"\")","v":0}]
[null,null,{"$f":"IFERROR(INDEX(اقساط!$B$3:$B$8532,SMALL(IF(اقساط!$G$3:$G$8532=B3328,ROW($B$3:$B$8532)-ROW($B$3)+1),ROWS($C$3:C3328))),\"\")","v":0}]
[null,null,{"$f":"IFERROR(INDEX(اقساط!$B$3:$B$8532,SMALL(IF(اقساط!$G$3:$G$8532=B3329,ROW($B$3:$B$8532)-ROW($B$3)+1),ROWS($C$3:C3329))),\"\")","v":0}]
[null,null,{"$f":"IFERROR(INDEX(اقساط!$B$3:$B$8532,SMALL(IF(اقساط!$G$3:$G$8532=B3330,ROW($B$3:$B$8532)-ROW($B$3)+1),ROWS($C$3:C3330))),\"\")","v":0}]
[null,null,{"$f":"IFERROR(INDEX(اقساط!$B$3:$B$8532,SMALL(IF(اقساط!$G$3:$G$8532=B3331,ROW($B$3:$B$8532)-ROW($B$3)+1),ROWS($C$3:C3331))),\"\")","v":0}]
[null,null,{"$f":"IFERROR(INDEX(اقساط!$B$3:$B$8532,SMALL(IF(اقساط!$G$3:$G$8532=B3332,ROW($B$3:$B$8532)-ROW($B$3)+1),ROWS($C$3:C3332))),\"\")","v":0}]
[null,null,{"$f":"IFERROR(INDEX(اقساط!$B$3:$B$8532,SMALL(IF(اقساط!$G$3:$G$8532=B3333,ROW($B$3:$B$8532)-ROW($B$3)+1),ROWS($C$3:C3333))),\"\")","v":0}]
[null,null,{"$f":"IFERROR(INDEX(اقساط!$B$3:$B$8532,SMALL(IF(اقساط!$G$3:$G$8532=B3334,ROW($B$3:$B$8532)-ROW($B$3)+1),ROWS($C$3:C3334))),\"\")","v":0}]
[null,null,{"$f":"IFERROR(INDEX(اقساط!$B$3:$B$8532,SMALL(IF(اقساط!$G$3:$G$8532=B3335,ROW($B$3:$B$8532)-ROW($B$3)+1),ROWS($C$3:C3335))),\"\")","v":0}]
[null,null,{"$f":"IFERROR(INDEX(اقساط!$B$3:$B$8532,SMALL(IF(اقساط!$G$3:$G$8532=B3336,ROW($B$3:$B$8532)-ROW($B$3)+1),ROWS($C$3:C3336))),\"\")","v":0}]
[null,null,{"$f":"IFERROR(INDEX(اقساط!$B$3:$B$8532,SMALL(IF(اقساط!$G$3:$G$8532=B3337,ROW($B$3:$B$8532)-ROW($B$3)+1),ROWS($C$3:C3337))),\"\")","v":0}]
[null,null,{"$f":"IFERROR(INDEX(اقساط!$B$3:$B$8532,SMALL(IF(اقساط!$G$3:$G$8532=B3338,ROW($B$3:$B$8532)-ROW($B$3)+1),ROWS($C$3:C3338))),\"\")","v":0}]
[null,null,{"$f":"IFERROR(INDEX(اقساط!$B$3:$B$8532,SMALL(IF(اقساط!$G$3:$G$8532=B3339,ROW($B$3:$B$8532)-ROW($B$3)+1),ROWS($C$3:C3339))),\"\")","v":0}]
[null,null,{"$f":"IFERROR(INDEX(اقساط!$B$3:$B$8532,SMALL(IF(اقساط!$G$3:$G$8532=B3340,ROW($B$3:$B$8532)-ROW($B$3)+1),ROWS($C$3:C3340))),\"\")","v":0}]
[null,null,{"$f":"IFERROR(INDEX(اقساط!$B$3:$B$8532,SMALL(IF(اقساط!$G$3:$G$8532=B3341,ROW($B$3:$B$8532)-ROW($B$3)+1),ROWS($C$3:C3341))),\"\")","v":0}]
[null,null,{"$f":"IFERROR(INDEX(اقساط!$B$3:$B$8532,SMALL(IF(اقساط!$G$3:$G$8532=B3342,ROW($B$3:$B$8532)-ROW($B$3)+1),ROWS($C$3:C3342))),\"\")","v":0}]
[null,null,{"$f":"IFERROR(INDEX(اقساط!$B$3:$B$8532,SMALL(IF(اقساط!$G$3:$G$8532=B3343,ROW($B$3:$B$8532)-ROW($B$3)+1),ROWS($C$3:C3343))),\"\")","v":0}]
[null,null,{"$f":"IFERROR(INDEX(اقساط!$B$3:$B$8532,SMALL(IF(اقساط!$G$3:$G$8532=B3344,ROW($B$3:$B$8532)-ROW($B$3)+1),ROWS($C$3:C3344))),\"\")","v":0}]
[null,null,{"$f":"IFERROR(INDEX(اقساط!$B$3:$B$8532,SMALL(IF(اقساط!$G$3:$G$8532=B3345,ROW($B$3:$B$8532)-ROW($B$3)+1),ROWS($C$3:C3345))),\"\")","v":0}]
[null,null,{"$f":"IFERROR(INDEX(اقساط!$B$3:$B$8532,SMALL(IF(اقساط!$G$3:$G$8532=B3346,ROW($B$3:$B$8532)-ROW($B$3)+1),ROWS($C$3:C3346))),\"\")","v":0}]
[null,null,{"$f":"IFERROR(INDEX(اقساط!$B$3:$B$8532,SMALL(IF(اقساط!$G$3:$G$8532=B3347,ROW($B$3:$B$8532)-ROW($B$3)+1),ROWS($C$3:C3347))),\"\")","v":0}]
[null,null,{"$f":"IFERROR(INDEX(اقساط!$B$3:$B$8532,SMALL(IF(اقساط!$G$3:$G$8532=B3348,ROW($B$3:$B$8532)-ROW($B$3)+1),ROWS($C$3:C3348))),\"\")","v":0}]
[null,null,{"$f":"IFERROR(INDEX(اقساط!$B$3:$B$8532,SMALL(IF(اقساط!$G$3:$G$8532=B3349,ROW($B$3:$B$8532)-ROW($B$3)+1),ROWS($C$3:C3349))),\"\")","v":0}]
[null,null,{"$f":"IFERROR(INDEX(اقساط!$B$3:$B$8532,SMALL(IF(اقساط!$G$3:$G$8532=B3350,ROW($B$3:$B$8532)-ROW($B$3)+1),ROWS($C$3:C3350))),\"\")","v":0}]
[null,null,{"$f":"IFERROR(INDEX(اقساط!$B$3:$B$8532,SMALL(IF(اقساط!$G$3:$G$8532=B3351,ROW($B$3:$B$8532)-ROW($B$3)+1),ROWS($C$3:C3351))),\"\")","v":0}]
[null,null,{"$f":"IFERROR(INDEX(اقساط!$B$3:$B$8532,SMALL(IF(اقساط!$G$3:$G$8532=B3352,ROW($B$3:$B$8532)-ROW($B$3)+1),ROWS($C$3:C3352))),\"\")","v":0}]
[null,null,{"$f":"IFERROR(INDEX(اقساط!$B$3:$B$8532,SMALL(IF(اقساط!$G$3:$G$8532=B3353,ROW($B$3:$B$8532)-ROW($B$3)+1),ROWS($C$3:C3353))),\"\")","v":0}]
[null,null,{"$f":"IFERROR(INDEX(اقساط!$B$3:$B$8532,SMALL(IF(اقساط!$G$3:$G$8532=B3354,ROW($B$3:$B$8532)-ROW($B$3)+1),ROWS($C$3:C3354))),\"\")","v":0}]
[null,null,{"$f":"IFERROR(INDEX(اقساط!$B$3:$B$8532,SMALL(IF(اقساط!$G$3:$G$8532=B3355,ROW($B$3:$B$8532)-ROW($B$3)+1),ROWS($C$3:C3355))),\"\")","v":0}]
[null,null,{"$f":"IFERROR(INDEX(اقساط!$B$3:$B$8532,SMALL(IF(اقساط!$G$3:$G$8532=B3356,ROW($B$3:$B$8532)-ROW($B$3)+1),ROWS($C$3:C3356))),\"\")","v":0}]
[null,null,{"$f":"IFERROR(INDEX(اقساط!$B$3:$B$8532,SMALL(IF(اقساط!$G$3:$G$8532=B3357,ROW($B$3:$B$8532)-ROW($B$3)+1),ROWS($C$3:C3357))),\"\")","v":0}]
[null,null,{"$f":"IFERROR(INDEX(اقساط!$B$3:$B$8532,SMALL(IF(اقساط!$G$3:$G$8532=B3358,ROW($B$3:$B$8532)-ROW($B$3)+1),ROWS($C$3:C3358))),\"\")","v":0}]
[null,null,{"$f":"IFERROR(INDEX(اقساط!$B$3:$B$8532,SMALL(IF(اقساط!$G$3:$G$8532=B3359,ROW($B$3:$B$8532)-ROW($B$3)+1),ROWS($C$3:C3359))),\"\")","v":0}]
[null,null,{"$f":"IFERROR(INDEX(اقساط!$B$3:$B$8532,SMALL(IF(اقساط!$G$3:$G$8532=B3360,ROW($B$3:$B$8532)-ROW($B$3)+1),ROWS($C$3:C3360))),\"\")","v":0}]
[null,null,{"$f":"IFERROR(INDEX(اقساط!$B$3:$B$8532,SMALL(IF(اقساط!$G$3:$G$8532=B3361,ROW($B$3:$B$8532)-ROW($B$3)+1),ROWS($C$3:C3361))),\"\")","v":0}]
[null,null,{"$f":"IFERROR(INDEX(اقساط!$B$3:$B$8532,SMALL(IF(اقساط!$G$3:$G$8532=B3362,ROW($B$3:$B$8532)-ROW($B$3)+1),ROWS($C$3:C3362))),\"\")","v":0}]
[null,null,{"$f":"IFERROR(INDEX(اقساط!$B$3:$B$8532,SMALL(IF(اقساط!$G$3:$G$8532=B3363,ROW($B$3:$B$8532)-ROW($B$3)+1),ROWS($C$3:C3363))),\"\")","v":0}]
[null,null,{"$f":"IFERROR(INDEX(اقساط!$B$3:$B$8532,SMALL(IF(اقساط!$G$3:$G$8532=B3364,ROW($B$3:$B$8532)-ROW($B$3)+1),ROWS($C$3:C3364))),\"\")","v":0}]
[null,null,{"$f":"IFERROR(INDEX(اقساط!$B$3:$B$8532,SMALL(IF(اقساط!$G$3:$G$8532=B3365,ROW($B$3:$B$8532)-ROW($B$3)+1),ROWS($C$3:C3365))),\"\")","v":0}]
[null,null,{"$f":"IFERROR(INDEX(اقساط!$B$3:$B$8532,SMALL(IF(اقساط!$G$3:$G$8532=B3366,ROW($B$3:$B$8532)-ROW($B$3)+1),ROWS($C$3:C3366))),\"\")","v":0}]
[null,null,{"$f":"IFERROR(INDEX(اقساط!$B$3:$B$8532,SMALL(IF(اقساط!$G$3:$G$8532=B3367,ROW($B$3:$B$8532)-ROW($B$3)+1),ROWS($C$3:C3367))),\"\")","v":0}]
[null,null,{"$f":"IFERROR(INDEX(اقساط!$B$3:$B$8532,SMALL(IF(اقساط!$G$3:$G$8532=B3368,ROW($B$3:$B$8532)-ROW($B$3)+1),ROWS($C$3:C3368))),\"\")","v":0}]
[null,null,{"$f":"IFERROR(INDEX(اقساط!$B$3:$B$8532,SMALL(IF(اقساط!$G$3:$G$8532=B3369,ROW($B$3:$B$8532)-ROW($B$3)+1),ROWS($C$3:C3369))),\"\")","v":0}]
[null,null,{"$f":"IFERROR(INDEX(اقساط!$B$3:$B$8532,SMALL(IF(اقساط!$G$3:$G$8532=B3370,ROW($B$3:$B$8532)-ROW($B$3)+1),ROWS($C$3:C3370))),\"\")","v":0}]
[null,null,{"$f":"IFERROR(INDEX(اقساط!$B$3:$B$8532,SMALL(IF(اقساط!$G$3:$G$8532=B3371,ROW($B$3:$B$8532)-ROW($B$3)+1),ROWS($C$3:C3371))),\"\")","v":0}]
[null,null,{"$f":"IFERROR(INDEX(اقساط!$B$3:$B$8532,SMALL(IF(اقساط!$G$3:$G$8532=B3372,ROW($B$3:$B$8532)-ROW($B$3)+1),ROWS($C$3:C3372))),\"\")","v":0}]
[null,null,{"$f":"IFERROR(INDEX(اقساط!$B$3:$B$8532,SMALL(IF(اقساط!$G$3:$G$8532=B3373,ROW($B$3:$B$8532)-ROW($B$3)+1),ROWS($C$3:C3373))),\"\")","v":0}]
[null,null,{"$f":"IFERROR(INDEX(اقساط!$B$3:$B$8532,SMALL(IF(اقساط!$G$3:$G$8532=B3374,ROW($B$3:$B$8532)-ROW($B$3)+1),ROWS($C$3:C3374))),\"\")","v":0}]
[null,null,{"$f":"IFERROR(INDEX(اقساط!$B$3:$B$8532,SMALL(IF(اقساط!$G$3:$G$8532=B3375,ROW($B$3:$B$8532)-ROW($B$3)+1),ROWS($C$3:C3375))),\"\")","v":0}]
[null,null,{"$f":"IFERROR(INDEX(اقساط!$B$3:$B$8532,SMALL(IF(اقساط!$G$3:$G$8532=B3376,ROW($B$3:$B$8532)-ROW($B$3)+1),ROWS($C$3:C3376))),\"\")","v":0}]
[null,null,{"$f":"IFERROR(INDEX(اقساط!$B$3:$B$8532,SMALL(IF(اقساط!$G$3:$G$8532=B3377,ROW($B$3:$B$8532)-ROW($B$3)+1),ROWS($C$3:C3377))),\"\")","v":0}]
[null,null,{"$f":"IFERROR(INDEX(اقساط!$B$3:$B$8532,SMALL(IF(اقساط!$G$3:$G$8532=B3378,ROW($B$3:$B$8532)-ROW($B$3)+1),ROWS($C$3:C3378))),\"\")","v":0}]
[null,null,{"$f":"IFERROR(INDEX(اقساط!$B$3:$B$8532,SMALL(IF(اقساط!$G$3:$G$8532=B3379,ROW($B$3:$B$8532)-ROW($B$3)+1),ROWS($C$3:C3379))),\"\")","v":0}]
[null,null,{"$f":"IFERROR(INDEX(اقساط!$B$3:$B$8532,SMALL(IF(اقساط!$G$3:$G$8532=B3380,ROW($B$3:$B$8532)-ROW($B$3)+1),ROWS($C$3:C3380))),\"\")","v":0}]
[null,null,{"$f":"IFERROR(INDEX(اقساط!$B$3:$B$8532,SMALL(IF(اقساط!$G$3:$G$8532=B3381,ROW($B$3:$B$8532)-ROW($B$3)+1),ROWS($C$3:C3381))),\"\")","v":0}]
[null,null,{"$f":"IFERROR(INDEX(اقساط!$B$3:$B$8532,SMALL(IF(اقساط!$G$3:$G$8532=B3382,ROW($B$3:$B$8532)-ROW($B$3)+1),ROWS($C$3:C3382))),\"\")","v":0}]
[null,null,{"$f":"IFERROR(INDEX(اقساط!$B$3:$B$8532,SMALL(IF(اقساط!$G$3:$G$8532=B3383,ROW($B$3:$B$8532)-ROW($B$3)+1),ROWS($C$3:C3383))),\"\")","v":0}]
[null,null,{"$f":"IFERROR(INDEX(اقساط!$B$3:$B$8532,SMALL(IF(اقساط!$G$3:$G$8532=B3384,ROW($B$3:$B$8532)-ROW($B$3)+1),ROWS($C$3:C3384))),\"\")","v":0}]
[null,null,{"$f":"IFERROR(INDEX(اقساط!$B$3:$B$8532,SMALL(IF(اقساط!$G$3:$G$8532=B3385,ROW($B$3:$B$8532)-ROW($B$3)+1),ROWS($C$3:C3385))),\"\")","v":0}]
[null,null,{"$f":"IFERROR(INDEX(اقساط!$B$3:$B$8532,SMALL(IF(اقساط!$G$3:$G$8532=B3386,ROW($B$3:$B$8532)-ROW($B$3)+1),ROWS($C$3:C3386))),\"\")","v":0}]
[null,null,{"$f":"IFERROR(INDEX(اقساط!$B$3:$B$8532,SMALL(IF(اقساط!$G$3:$G$8532=B3387,ROW($B$3:$B$8532)-ROW($B$3)+1),ROWS($C$3:C3387))),\"\")","v":0}]
[null,null,{"$f":"IFERROR(INDEX(اقساط!$B$3:$B$8532,SMALL(IF(اقساط!$G$3:$G$8532=B3388,ROW($B$3:$B$8532)-ROW($B$3)+1),ROWS($C$3:C3388))),\"\")","v":0}]
[null,null,{"$f":"IFERROR(INDEX(اقساط!$B$3:$B$8532,SMALL(IF(اقساط!$G$3:$G$8532=B3389,ROW($B$3:$B$8532)-ROW($B$3)+1),ROWS($C$3:C3389))),\"\")","v":0}]
[null,null,{"$f":"IFERROR(INDEX(اقساط!$B$3:$B$8532,SMALL(IF(اقساط!$G$3:$G$8532=B3390,ROW($B$3:$B$8532)-ROW($B$3)+1),ROWS($C$3:C3390))),\"\")","v":0}]
[null,null,{"$f":"IFERROR(INDEX(اقساط!$B$3:$B$8532,SMALL(IF(اقساط!$G$3:$G$8532=B3391,ROW($B$3:$B$8532)-ROW($B$3)+1),ROWS($C$3:C3391))),\"\")","v":0}]
[null,null,{"$f":"IFERROR(INDEX(اقساط!$B$3:$B$8532,SMALL(IF(اقساط!$G$3:$G$8532=B3392,ROW($B$3:$B$8532)-ROW($B$3)+1),ROWS($C$3:C3392))),\"\")","v":0}]
[null,null,{"$f":"IFERROR(INDEX(اقساط!$B$3:$B$8532,SMALL(IF(اقساط!$G$3:$G$8532=B3393,ROW($B$3:$B$8532)-ROW($B$3)+1),ROWS($C$3:C3393))),\"\")","v":0}]
[null,null,{"$f":"IFERROR(INDEX(اقساط!$B$3:$B$8532,SMALL(IF(اقساط!$G$3:$G$8532=B3394,ROW($B$3:$B$8532)-ROW($B$3)+1),ROWS($C$3:C3394))),\"\")","v":0}]
[null,null,{"$f":"IFERROR(INDEX(اقساط!$B$3:$B$8532,SMALL(IF(اقساط!$G$3:$G$8532=B3395,ROW($B$3:$B$8532)-ROW($B$3)+1),ROWS($C$3:C3395))),\"\")","v":0}]
[null,null,{"$f":"IFERROR(INDEX(اقساط!$B$3:$B$8532,SMALL(IF(اقساط!$G$3:$G$8532=B3396,ROW($B$3:$B$8532)-ROW($B$3)+1),ROWS($C$3:C3396))),\"\")","v":0}]
[null,null,{"$f":"IFERROR(INDEX(اقساط!$B$3:$B$8532,SMALL(IF(اقساط!$G$3:$G$8532=B3397,ROW($B$3:$B$8532)-ROW($B$3)+1),ROWS($C$3:C3397))),\"\")","v":0}]
[null,null,{"$f":"IFERROR(INDEX(اقساط!$B$3:$B$8532,SMALL(IF(اقساط!$G$3:$G$8532=B3398,ROW($B$3:$B$8532)-ROW($B$3)+1),ROWS($C$3:C3398))),\"\")","v":0}]
[null,null,{"$f":"IFERROR(INDEX(اقساط!$B$3:$B$8532,SMALL(IF(اقساط!$G$3:$G$8532=B3399,ROW($B$3:$B$8532)-ROW($B$3)+1),ROWS($C$3:C3399))),\"\")","v":0}]
[null,null,{"$f":"IFERROR(INDEX(اقساط!$B$3:$B$8532,SMALL(IF(اقساط!$G$3:$G$8532=B3400,ROW($B$3:$B$8532)-ROW($B$3)+1),ROWS($C$3:C3400))),\"\")","v":0}]
[null,null,{"$f":"IFERROR(INDEX(اقساط!$B$3:$B$8532,SMALL(IF(اقساط!$G$3:$G$8532=B3401,ROW($B$3:$B$8532)-ROW($B$3)+1),ROWS($C$3:C3401))),\"\")","v":0}]
[null,null,{"$f":"IFERROR(INDEX(اقساط!$B$3:$B$8532,SMALL(IF(اقساط!$G$3:$G$8532=B3402,ROW($B$3:$B$8532)-ROW($B$3)+1),ROWS($C$3:C3402))),\"\")","v":0}]
[null,null,{"$f":"IFERROR(INDEX(اقساط!$B$3:$B$8532,SMALL(IF(اقساط!$G$3:$G$8532=B3403,ROW($B$3:$B$8532)-ROW($B$3)+1),ROWS($C$3:C3403))),\"\")","v":0}]
[null,null,{"$f":"IFERROR(INDEX(اقساط!$B$3:$B$8532,SMALL(IF(اقساط!$G$3:$G$8532=B3404,ROW($B$3:$B$8532)-ROW($B$3)+1),ROWS($C$3:C3404))),\"\")","v":0}]
[null,null,{"$f":"IFERROR(INDEX(اقساط!$B$3:$B$8532,SMALL(IF(اقساط!$G$3:$G$8532=B3405,ROW($B$3:$B$8532)-ROW($B$3)+1),ROWS($C$3:C3405))),\"\")","v":0}]
[null,null,{"$f":"IFERROR(INDEX(اقساط!$B$3:$B$8532,SMALL(IF(اقساط!$G$3:$G$8532=B3406,ROW($B$3:$B$8532)-ROW($B$3)+1),ROWS($C$3:C3406))),\"\")","v":0}]
[null,null,{"$f":"IFERROR(INDEX(اقساط!$B$3:$B$8532,SMALL(IF(اقساط!$G$3:$G$8532=B3407,ROW($B$3:$B$8532)-ROW($B$3)+1),ROWS($C$3:C3407))),\"\")","v":0}]
[null,null,{"$f":"IFERROR(INDEX(اقساط!$B$3:$B$8532,SMALL(IF(اقساط!$G$3:$G$8532=B3408,ROW($B$3:$B$8532)-ROW($B$3)+1),ROWS($C$3:C3408))),\"\")","v":0}]
[null,null,{"$f":"IFERROR(INDEX(اقساط!$B$3:$B$8532,SMALL(IF(اقساط!$G$3:$G$8532=B3409,ROW($B$3:$B$8532)-ROW($B$3)+1),ROWS($C$3:C3409))),\"\")","v":0}]
[null,null,{"$f":"IFERROR(INDEX(اقساط!$B$3:$B$8532,SMALL(IF(اقساط!$G$3:$G$8532=B3410,ROW($B$3:$B$8532)-ROW($B$3)+1),ROWS($C$3:C3410))),\"\")","v":0}]
[null,null,{"$f":"IFERROR(INDEX(اقساط!$B$3:$B$8532,SMALL(IF(اقساط!$G$3:$G$8532=B3411,ROW($B$3:$B$8532)-ROW($B$3)+1),ROWS($C$3:C3411))),\"\")","v":0}]
[null,null,{"$f":"IFERROR(INDEX(اقساط!$B$3:$B$8532,SMALL(IF(اقساط!$G$3:$G$8532=B3412,ROW($B$3:$B$8532)-ROW($B$3)+1),ROWS($C$3:C3412))),\"\")","v":0}]
[null,null,{"$f":"IFERROR(INDEX(اقساط!$B$3:$B$8532,SMALL(IF(اقساط!$G$3:$G$8532=B3413,ROW($B$3:$B$8532)-ROW($B$3)+1),ROWS($C$3:C3413))),\"\")","v":0}]
[null,null,{"$f":"IFERROR(INDEX(اقساط!$B$3:$B$8532,SMALL(IF(اقساط!$G$3:$G$8532=B3414,ROW($B$3:$B$8532)-ROW($B$3)+1),ROWS($C$3:C3414))),\"\")","v":0}]
[null,null,{"$f":"IFERROR(INDEX(اقساط!$B$3:$B$8532,SMALL(IF(اقساط!$G$3:$G$8532=B3415,ROW($B$3:$B$8532)-ROW($B$3)+1),ROWS($C$3:C3415))),\"\")","v":0}]
[null,null,{"$f":"IFERROR(INDEX(اقساط!$B$3:$B$8532,SMALL(IF(اقساط!$G$3:$G$8532=B3416,ROW($B$3:$B$8532)-ROW($B$3)+1),ROWS($C$3:C3416))),\"\")","v":0}]
[null,null,{"$f":"IFERROR(INDEX(اقساط!$B$3:$B$8532,SMALL(IF(اقساط!$G$3:$G$8532=B3417,ROW($B$3:$B$8532)-ROW($B$3)+1),ROWS($C$3:C3417))),\"\")","v":0}]
[null,null,{"$f":"IFERROR(INDEX(اقساط!$B$3:$B$8532,SMALL(IF(اقساط!$G$3:$G$8532=B3418,ROW($B$3:$B$8532)-ROW($B$3)+1),ROWS($C$3:C3418))),\"\")","v":0}]
[null,null,{"$f":"IFERROR(INDEX(اقساط!$B$3:$B$8532,SMALL(IF(اقساط!$G$3:$G$8532=B3419,ROW($B$3:$B$8532)-ROW($B$3)+1),ROWS($C$3:C3419))),\"\")","v":0}]
[null,null,{"$f":"IFERROR(INDEX(اقساط!$B$3:$B$8532,SMALL(IF(اقساط!$G$3:$G$8532=B3420,ROW($B$3:$B$8532)-ROW($B$3)+1),ROWS($C$3:C3420))),\"\")","v":0}]
[null,null,{"$f":"IFERROR(INDEX(اقساط!$B$3:$B$8532,SMALL(IF(اقساط!$G$3:$G$8532=B3421,ROW($B$3:$B$8532)-ROW($B$3)+1),ROWS($C$3:C3421))),\"\")","v":0}]
[null,null,{"$f":"IFERROR(INDEX(اقساط!$B$3:$B$8532,SMALL(IF(اقساط!$G$3:$G$8532=B3422,ROW($B$3:$B$8532)-ROW($B$3)+1),ROWS($C$3:C3422))),\"\")","v":0}]
[null,null,{"$f":"IFERROR(INDEX(اقساط!$B$3:$B$8532,SMALL(IF(اقساط!$G$3:$G$8532=B3423,ROW($B$3:$B$8532)-ROW($B$3)+1),ROWS($C$3:C3423))),\"\")","v":0}]
[null,null,{"$f":"IFERROR(INDEX(اقساط!$B$3:$B$8532,SMALL(IF(اقساط!$G$3:$G$8532=B3424,ROW($B$3:$B$8532)-ROW($B$3)+1),ROWS($C$3:C3424))),\"\")","v":0}]
[null,null,{"$f":"IFERROR(INDEX(اقساط!$B$3:$B$8532,SMALL(IF(اقساط!$G$3:$G$8532=B3425,ROW($B$3:$B$8532)-ROW($B$3)+1),ROWS($C$3:C3425))),\"\")","v":0}]
[null,null,{"$f":"IFERROR(INDEX(اقساط!$B$3:$B$8532,SMALL(IF(اقساط!$G$3:$G$8532=B3426,ROW($B$3:$B$8532)-ROW($B$3)+1),ROWS($C$3:C3426))),\"\")","v":0}]
[null,null,{"$f":"IFERROR(INDEX(اقساط!$B$3:$B$8532,SMALL(IF(اقساط!$G$3:$G$8532=B3427,ROW($B$3:$B$8532)-ROW($B$3)+1),ROWS($C$3:C3427))),\"\")","v":0}]
[null,null,{"$f":"IFERROR(INDEX(اقساط!$B$3:$B$8532,SMALL(IF(اقساط!$G$3:$G$8532=B3428,ROW($B$3:$B$8532)-ROW($B$3)+1),ROWS($C$3:C3428))),\"\")","v":0}]
[null,null,{"$f":"IFERROR(INDEX(اقساط!$B$3:$B$8532,SMALL(IF(اقساط!$G$3:$G$8532=B3429,ROW($B$3:$B$8532)-ROW($B$3)+1),ROWS($C$3:C3429))),\"\")","v":0}]
[null,null,{"$f":"IFERROR(INDEX(اقساط!$B$3:$B$8532,SMALL(IF(اقساط!$G$3:$G$8532=B3430,ROW($B$3:$B$8532)-ROW($B$3)+1),ROWS($C$3:C3430))),\"\")","v":0}]
[null,null,{"$f":"IFERROR(INDEX(اقساط!$B$3:$B$8532,SMALL(IF(اقساط!$G$3:$G$8532=B3431,ROW($B$3:$B$8532)-ROW($B$3)+1),ROWS($C$3:C3431))),\"\")","v":0}]
[null,null,{"$f":"IFERROR(INDEX(اقساط!$B$3:$B$8532,SMALL(IF(اقساط!$G$3:$G$8532=B3432,ROW($B$3:$B$8532)-ROW($B$3)+1),ROWS($C$3:C3432))),\"\")","v":0}]
[null,null,{"$f":"IFERROR(INDEX(اقساط!$B$3:$B$8532,SMALL(IF(اقساط!$G$3:$G$8532=B3433,ROW($B$3:$B$8532)-ROW($B$3)+1),ROWS($C$3:C3433))),\"\")","v":0}]
[null,null,{"$f":"IFERROR(INDEX(اقساط!$B$3:$B$8532,SMALL(IF(اقساط!$G$3:$G$8532=B3434,ROW($B$3:$B$8532)-ROW($B$3)+1),ROWS($C$3:C3434))),\"\")","v":0}]
[null,null,{"$f":"IFERROR(INDEX(اقساط!$B$3:$B$8532,SMALL(IF(اقساط!$G$3:$G$8532=B3435,ROW($B$3:$B$8532)-ROW($B$3)+1),ROWS($C$3:C3435))),\"\")","v":0}]
[null,null,{"$f":"IFERROR(INDEX(اقساط!$B$3:$B$8532,SMALL(IF(اقساط!$G$3:$G$8532=B3436,ROW($B$3:$B$8532)-ROW($B$3)+1),ROWS($C$3:C3436))),\"\")","v":0}]
[null,null,{"$f":"IFERROR(INDEX(اقساط!$B$3:$B$8532,SMALL(IF(اقساط!$G$3:$G$8532=B3437,ROW($B$3:$B$8532)-ROW($B$3)+1),ROWS($C$3:C3437))),\"\")","v":0}]
[null,null,{"$f":"IFERROR(INDEX(اقساط!$B$3:$B$8532,SMALL(IF(اقساط!$G$3:$G$8532=B3438,ROW($B$3:$B$8532)-ROW($B$3)+1),ROWS($C$3:C3438))),\"\")","v":0}]
[null,null,{"$f":"IFERROR(INDEX(اقساط!$B$3:$B$8532,SMALL(IF(اقساط!$G$3:$G$8532=B3439,ROW($B$3:$B$8532)-ROW($B$3)+1),ROWS($C$3:C3439))),\"\")","v":0}]
[null,null,{"$f":"IFERROR(INDEX(اقساط!$B$3:$B$8532,SMALL(IF(اقساط!$G$3:$G$8532=B3440,ROW($B$3:$B$8532)-ROW($B$3)+1),ROWS($C$3:C3440))),\"\")","v":0}]
[null,null,{"$f":"IFERROR(INDEX(اقساط!$B$3:$B$8532,SMALL(IF(اقساط!$G$3:$G$8532=B3441,ROW($B$3:$B$8532)-ROW($B$3)+1),ROWS($C$3:C3441))),\"\")","v":0}]
[null,null,{"$f":"IFERROR(INDEX(اقساط!$B$3:$B$8532,SMALL(IF(اقساط!$G$3:$G$8532=B3442,ROW($B$3:$B$8532)-ROW($B$3)+1),ROWS($C$3:C3442))),\"\")","v":0}]
[null,null,{"$f":"IFERROR(INDEX(اقساط!$B$3:$B$8532,SMALL(IF(اقساط!$G$3:$G$8532=B3443,ROW($B$3:$B$8532)-ROW($B$3)+1),ROWS($C$3:C3443))),\"\")","v":0}]
[null,null,{"$f":"IFERROR(INDEX(اقساط!$B$3:$B$8532,SMALL(IF(اقساط!$G$3:$G$8532=B3444,ROW($B$3:$B$8532)-ROW($B$3)+1),ROWS($C$3:C3444))),\"\")","v":0}]
[null,null,{"$f":"IFERROR(INDEX(اقساط!$B$3:$B$8532,SMALL(IF(اقساط!$G$3:$G$8532=B3445,ROW($B$3:$B$8532)-ROW($B$3)+1),ROWS($C$3:C3445))),\"\")","v":0}]
[null,null,{"$f":"IFERROR(INDEX(اقساط!$B$3:$B$8532,SMALL(IF(اقساط!$G$3:$G$8532=B3446,ROW($B$3:$B$8532)-ROW($B$3)+1),ROWS($C$3:C3446))),\"\")","v":0}]
[null,null,{"$f":"IFERROR(INDEX(اقساط!$B$3:$B$8532,SMALL(IF(اقساط!$G$3:$G$8532=B3447,ROW($B$3:$B$8532)-ROW($B$3)+1),ROWS($C$3:C3447))),\"\")","v":0}]
[null,null,{"$f":"IFERROR(INDEX(اقساط!$B$3:$B$8532,SMALL(IF(اقساط!$G$3:$G$8532=B3448,ROW($B$3:$B$8532)-ROW($B$3)+1),ROWS($C$3:C3448))),\"\")","v":0}]
[null,null,{"$f":"IFERROR(INDEX(اقساط!$B$3:$B$8532,SMALL(IF(اقساط!$G$3:$G$8532=B3449,ROW($B$3:$B$8532)-ROW($B$3)+1),ROWS($C$3:C3449))),\"\")","v":0}]
[null,null,{"$f":"IFERROR(INDEX(اقساط!$B$3:$B$8532,SMALL(IF(اقساط!$G$3:$G$8532=B3450,ROW($B$3:$B$8532)-ROW($B$3)+1),ROWS($C$3:C3450))),\"\")","v":0}]
[null,null,{"$f":"IFERROR(INDEX(اقساط!$B$3:$B$8532,SMALL(IF(اقساط!$G$3:$G$8532=B3451,ROW($B$3:$B$8532)-ROW($B$3)+1),ROWS($C$3:C3451))),\"\")","v":0}]
[null,null,{"$f":"IFERROR(INDEX(اقساط!$B$3:$B$8532,SMALL(IF(اقساط!$G$3:$G$8532=B3452,ROW($B$3:$B$8532)-ROW($B$3)+1),ROWS($C$3:C3452))),\"\")","v":0}]
[null,null,{"$f":"IFERROR(INDEX(اقساط!$B$3:$B$8532,SMALL(IF(اقساط!$G$3:$G$8532=B3453,ROW($B$3:$B$8532)-ROW($B$3)+1),ROWS($C$3:C3453))),\"\")","v":0}]
[null,null,{"$f":"IFERROR(INDEX(اقساط!$B$3:$B$8532,SMALL(IF(اقساط!$G$3:$G$8532=B3454,ROW($B$3:$B$8532)-ROW($B$3)+1),ROWS($C$3:C3454))),\"\")","v":0}]
[null,null,{"$f":"IFERROR(INDEX(اقساط!$B$3:$B$8532,SMALL(IF(اقساط!$G$3:$G$8532=B3455,ROW($B$3:$B$8532)-ROW($B$3)+1),ROWS($C$3:C3455))),\"\")","v":0}]
[null,null,{"$f":"IFERROR(INDEX(اقساط!$B$3:$B$8532,SMALL(IF(اقساط!$G$3:$G$8532=B3456,ROW($B$3:$B$8532)-ROW($B$3)+1),ROWS($C$3:C3456))),\"\")","v":0}]
[null,null,{"$f":"IFERROR(INDEX(اقساط!$B$3:$B$8532,SMALL(IF(اقساط!$G$3:$G$8532=B3457,ROW($B$3:$B$8532)-ROW($B$3)+1),ROWS($C$3:C3457))),\"\")","v":0}]
[null,null,{"$f":"IFERROR(INDEX(اقساط!$B$3:$B$8532,SMALL(IF(اقساط!$G$3:$G$8532=B3458,ROW($B$3:$B$8532)-ROW($B$3)+1),ROWS($C$3:C3458))),\"\")","v":0}]
[null,null,{"$f":"IFERROR(INDEX(اقساط!$B$3:$B$8532,SMALL(IF(اقساط!$G$3:$G$8532=B3459,ROW($B$3:$B$8532)-ROW($B$3)+1),ROWS($C$3:C3459))),\"\")","v":0}]
[null,null,{"$f":"IFERROR(INDEX(اقساط!$B$3:$B$8532,SMALL(IF(اقساط!$G$3:$G$8532=B3460,ROW($B$3:$B$8532)-ROW($B$3)+1),ROWS($C$3:C3460))),\"\")","v":0}]
[null,null,{"$f":"IFERROR(INDEX(اقساط!$B$3:$B$8532,SMALL(IF(اقساط!$G$3:$G$8532=B3461,ROW($B$3:$B$8532)-ROW($B$3)+1),ROWS($C$3:C3461))),\"\")","v":0}]
[null,null,{"$f":"IFERROR(INDEX(اقساط!$B$3:$B$8532,SMALL(IF(اقساط!$G$3:$G$8532=B3462,ROW($B$3:$B$8532)-ROW($B$3)+1),ROWS($C$3:C3462))),\"\")","v":0}]
[null,null,{"$f":"IFERROR(INDEX(اقساط!$B$3:$B$8532,SMALL(IF(اقساط!$G$3:$G$8532=B3463,ROW($B$3:$B$8532)-ROW($B$3)+1),ROWS($C$3:C3463))),\"\")","v":0}]
[null,null,{"$f":"IFERROR(INDEX(اقساط!$B$3:$B$8532,SMALL(IF(اقساط!$G$3:$G$8532=B3464,ROW($B$3:$B$8532)-ROW($B$3)+1),ROWS($C$3:C3464))),\"\")","v":0}]
[null,null,{"$f":"IFERROR(INDEX(اقساط!$B$3:$B$8532,SMALL(IF(اقساط!$G$3:$G$8532=B3465,ROW($B$3:$B$8532)-ROW($B$3)+1),ROWS($C$3:C3465))),\"\")","v":0}]
[null,null,{"$f":"IFERROR(INDEX(اقساط!$B$3:$B$8532,SMALL(IF(اقساط!$G$3:$G$8532=B3466,ROW($B$3:$B$8532)-ROW($B$3)+1),ROWS($C$3:C3466))),\"\")","v":0}]
[null,null,{"$f":"IFERROR(INDEX(اقساط!$B$3:$B$8532,SMALL(IF(اقساط!$G$3:$G$8532=B3467,ROW($B$3:$B$8532)-ROW($B$3)+1),ROWS($C$3:C3467))),\"\")","v":0}]
[null,null,{"$f":"IFERROR(INDEX(اقساط!$B$3:$B$8532,SMALL(IF(اقساط!$G$3:$G$8532=B3468,ROW($B$3:$B$8532)-ROW($B$3)+1),ROWS($C$3:C3468))),\"\")","v":0}]
[null,null,{"$f":"IFERROR(INDEX(اقساط!$B$3:$B$8532,SMALL(IF(اقساط!$G$3:$G$8532=B3469,ROW($B$3:$B$8532)-ROW($B$3)+1),ROWS($C$3:C3469))),\"\")","v":0}]
[null,null,{"$f":"IFERROR(INDEX(اقساط!$B$3:$B$8532,SMALL(IF(اقساط!$G$3:$G$8532=B3470,ROW($B$3:$B$8532)-ROW($B$3)+1),ROWS($C$3:C3470))),\"\")","v":0}]
[null,null,{"$f":"IFERROR(INDEX(اقساط!$B$3:$B$8532,SMALL(IF(اقساط!$G$3:$G$8532=B3471,ROW($B$3:$B$8532)-ROW($B$3)+1),ROWS($C$3:C3471))),\"\")","v":0}]
[null,null,{"$f":"IFERROR(INDEX(اقساط!$B$3:$B$8532,SMALL(IF(اقساط!$G$3:$G$8532=B3472,ROW($B$3:$B$8532)-ROW($B$3)+1),ROWS($C$3:C3472))),\"\")","v":0}]
[null,null,{"$f":"IFERROR(INDEX(اقساط!$B$3:$B$8532,SMALL(IF(اقساط!$G$3:$G$8532=B3473,ROW($B$3:$B$8532)-ROW($B$3)+1),ROWS($C$3:C3473))),\"\")","v":0}]
[null,null,{"$f":"IFERROR(INDEX(اقساط!$B$3:$B$8532,SMALL(IF(اقساط!$G$3:$G$8532=B3474,ROW($B$3:$B$8532)-ROW($B$3)+1),ROWS($C$3:C3474))),\"\")","v":0}]
[null,null,{"$f":"IFERROR(INDEX(اقساط!$B$3:$B$8532,SMALL(IF(اقساط!$G$3:$G$8532=B3475,ROW($B$3:$B$8532)-ROW($B$3)+1),ROWS($C$3:C3475))),\"\")","v":0}]
[null,null,{"$f":"IFERROR(INDEX(اقساط!$B$3:$B$8532,SMALL(IF(اقساط!$G$3:$G$8532=B3476,ROW($B$3:$B$8532)-ROW($B$3)+1),ROWS($C$3:C3476))),\"\")","v":0}]
[null,null,{"$f":"IFERROR(INDEX(اقساط!$B$3:$B$8532,SMALL(IF(اقساط!$G$3:$G$8532=B3477,ROW($B$3:$B$8532)-ROW($B$3)+1),ROWS($C$3:C3477))),\"\")","v":0}]
[null,null,{"$f":"IFERROR(INDEX(اقساط!$B$3:$B$8532,SMALL(IF(اقساط!$G$3:$G$8532=B3478,ROW($B$3:$B$8532)-ROW($B$3)+1),ROWS($C$3:C3478))),\"\")","v":0}]
[null,null,{"$f":"IFERROR(INDEX(اقساط!$B$3:$B$8532,SMALL(IF(اقساط!$G$3:$G$8532=B3479,ROW($B$3:$B$8532)-ROW($B$3)+1),ROWS($C$3:C3479))),\"\")","v":0}]
[null,null,{"$f":"IFERROR(INDEX(اقساط!$B$3:$B$8532,SMALL(IF(اقساط!$G$3:$G$8532=B3480,ROW($B$3:$B$8532)-ROW($B$3)+1),ROWS($C$3:C3480))),\"\")","v":0}]
[null,null,{"$f":"IFERROR(INDEX(اقساط!$B$3:$B$8532,SMALL(IF(اقساط!$G$3:$G$8532=B3481,ROW($B$3:$B$8532)-ROW($B$3)+1),ROWS($C$3:C3481))),\"\")","v":0}]
[null,null,{"$f":"IFERROR(INDEX(اقساط!$B$3:$B$8532,SMALL(IF(اقساط!$G$3:$G$8532=B3482,ROW($B$3:$B$8532)-ROW($B$3)+1),ROWS($C$3:C3482))),\"\")","v":0}]
[null,null,{"$f":"IFERROR(INDEX(اقساط!$B$3:$B$8532,SMALL(IF(اقساط!$G$3:$G$8532=B3483,ROW($B$3:$B$8532)-ROW($B$3)+1),ROWS($C$3:C3483))),\"\")","v":0}]
[null,null,{"$f":"IFERROR(INDEX(اقساط!$B$3:$B$8532,SMALL(IF(اقساط!$G$3:$G$8532=B3484,ROW($B$3:$B$8532)-ROW($B$3)+1),ROWS($C$3:C3484))),\"\")","v":0}]
[null,null,{"$f":"IFERROR(INDEX(اقساط!$B$3:$B$8532,SMALL(IF(اقساط!$G$3:$G$8532=B3485,ROW($B$3:$B$8532)-ROW($B$3)+1),ROWS($C$3:C3485))),\"\")","v":0}]
[null,null,{"$f":"IFERROR(INDEX(اقساط!$B$3:$B$8532,SMALL(IF(اقساط!$G$3:$G$8532=B3486,ROW($B$3:$B$8532)-ROW($B$3)+1),ROWS($C$3:C3486))),\"\")","v":0}]
[null,null,{"$f":"IFERROR(INDEX(اقساط!$B$3:$B$8532,SMALL(IF(اقساط!$G$3:$G$8532=B3487,ROW($B$3:$B$8532)-ROW($B$3)+1),ROWS($C$3:C3487))),\"\")","v":0}]
[null,null,{"$f":"IFERROR(INDEX(اقساط!$B$3:$B$8532,SMALL(IF(اقساط!$G$3:$G$8532=B3488,ROW($B$3:$B$8532)-ROW($B$3)+1),ROWS($C$3:C3488))),\"\")","v":0}]
[null,null,{"$f":"IFERROR(INDEX(اقساط!$B$3:$B$8532,SMALL(IF(اقساط!$G$3:$G$8532=B3489,ROW($B$3:$B$8532)-ROW($B$3)+1),ROWS($C$3:C3489))),\"\")","v":0}]
[null,null,{"$f":"IFERROR(INDEX(اقساط!$B$3:$B$8532,SMALL(IF(اقساط!$G$3:$G$8532=B3490,ROW($B$3:$B$8532)-ROW($B$3)+1),ROWS($C$3:C3490))),\"\")","v":0}]
[null,null,{"$f":"IFERROR(INDEX(اقساط!$B$3:$B$8532,SMALL(IF(اقساط!$G$3:$G$8532=B3491,ROW($B$3:$B$8532)-ROW($B$3)+1),ROWS($C$3:C3491))),\"\")","v":0}]
[null,null,{"$f":"IFERROR(INDEX(اقساط!$B$3:$B$8532,SMALL(IF(اقساط!$G$3:$G$8532=B3492,ROW($B$3:$B$8532)-ROW($B$3)+1),ROWS($C$3:C3492))),\"\")","v":0}]
[null,null,{"$f":"IFERROR(INDEX(اقساط!$B$3:$B$8532,SMALL(IF(اقساط!$G$3:$G$8532=B3493,ROW($B$3:$B$8532)-ROW($B$3)+1),ROWS($C$3:C3493))),\"\")","v":0}]
[null,null,{"$f":"IFERROR(INDEX(اقساط!$B$3:$B$8532,SMALL(IF(اقساط!$G$3:$G$8532=B3494,ROW($B$3:$B$8532)-ROW($B$3)+1),ROWS($C$3:C3494))),\"\")","v":0}]
[null,null,{"$f":"IFERROR(INDEX(اقساط!$B$3:$B$8532,SMALL(IF(اقساط!$G$3:$G$8532=B3495,ROW($B$3:$B$8532)-ROW($B$3)+1),ROWS($C$3:C3495))),\"\")","v":0}]
[null,null,{"$f":"IFERROR(INDEX(اقساط!$B$3:$B$8532,SMALL(IF(اقساط!$G$3:$G$8532=B3496,ROW($B$3:$B$8532)-ROW($B$3)+1),ROWS($C$3:C3496))),\"\")","v":0}]
[null,null,{"$f":"IFERROR(INDEX(اقساط!$B$3:$B$8532,SMALL(IF(اقساط!$G$3:$G$8532=B3497,ROW($B$3:$B$8532)-ROW($B$3)+1),ROWS($C$3:C3497))),\"\")","v":0}]
[null,null,{"$f":"IFERROR(INDEX(اقساط!$B$3:$B$8532,SMALL(IF(اقساط!$G$3:$G$8532=B3498,ROW($B$3:$B$8532)-ROW($B$3)+1),ROWS($C$3:C3498))),\"\")","v":0}]
[null,null,{"$f":"IFERROR(INDEX(اقساط!$B$3:$B$8532,SMALL(IF(اقساط!$G$3:$G$8532=B3499,ROW($B$3:$B$8532)-ROW($B$3)+1),ROWS($C$3:C3499))),\"\")","v":0}]
[null,null,{"$f":"IFERROR(INDEX(اقساط!$B$3:$B$8532,SMALL(IF(اقساط!$G$3:$G$8532=B3500,ROW($B$3:$B$8532)-ROW($B$3)+1),ROWS($C$3:C3500))),\"\")","v":0}]
[null,null,{"$f":"IFERROR(INDEX(اقساط!$B$3:$B$8532,SMALL(IF(اقساط!$G$3:$G$8532=B3501,ROW($B$3:$B$8532)-ROW($B$3)+1),ROWS($C$3:C3501))),\"\")","v":0}]
[null,null,{"$f":"IFERROR(INDEX(اقساط!$B$3:$B$8532,SMALL(IF(اقساط!$G$3:$G$8532=B3502,ROW($B$3:$B$8532)-ROW($B$3)+1),ROWS($C$3:C3502))),\"\")","v":0}]
[null,null,{"$f":"IFERROR(INDEX(اقساط!$B$3:$B$8532,SMALL(IF(اقساط!$G$3:$G$8532=B3503,ROW($B$3:$B$8532)-ROW($B$3)+1),ROWS($C$3:C3503))),\"\")","v":0}]
[null,null,{"$f":"IFERROR(INDEX(اقساط!$B$3:$B$8532,SMALL(IF(اقساط!$G$3:$G$8532=B3504,ROW($B$3:$B$8532)-ROW($B$3)+1),ROWS($C$3:C3504))),\"\")","v":0}]
[null,null,{"$f":"IFERROR(INDEX(اقساط!$B$3:$B$8532,SMALL(IF(اقساط!$G$3:$G$8532=B3505,ROW($B$3:$B$8532)-ROW($B$3)+1),ROWS($C$3:C3505))),\"\")","v":0}]
[null,null,{"$f":"IFERROR(INDEX(اقساط!$B$3:$B$8532,SMALL(IF(اقساط!$G$3:$G$8532=B3506,ROW($B$3:$B$8532)-ROW($B$3)+1),ROWS($C$3:C3506))),\"\")","v":0}]
[null,null,{"$f":"IFERROR(INDEX(اقساط!$B$3:$B$8532,SMALL(IF(اقساط!$G$3:$G$8532=B3507,ROW($B$3:$B$8532)-ROW($B$3)+1),ROWS($C$3:C3507))),\"\")","v":0}]
[null,null,{"$f":"IFERROR(INDEX(اقساط!$B$3:$B$8532,SMALL(IF(اقساط!$G$3:$G$8532=B3508,ROW($B$3:$B$8532)-ROW($B$3)+1),ROWS($C$3:C3508))),\"\")","v":0}]
[null,null,{"$f":"IFERROR(INDEX(اقساط!$B$3:$B$8532,SMALL(IF(اقساط!$G$3:$G$8532=B3509,ROW($B$3:$B$8532)-ROW($B$3)+1),ROWS($C$3:C3509))),\"\")","v":0}]
[null,null,{"$f":"IFERROR(INDEX(اقساط!$B$3:$B$8532,SMALL(IF(اقساط!$G$3:$G$8532=B3510,ROW($B$3:$B$8532)-ROW($B$3)+1),ROWS($C$3:C3510))),\"\")","v":0}]
[null,null,{"$f":"IFERROR(INDEX(اقساط!$B$3:$B$8532,SMALL(IF(اقساط!$G$3:$G$8532=B3511,ROW($B$3:$B$8532)-ROW($B$3)+1),ROWS($C$3:C3511))),\"\")","v":0}]
[null,null,{"$f":"IFERROR(INDEX(اقساط!$B$3:$B$8532,SMALL(IF(اقساط!$G$3:$G$8532=B3512,ROW($B$3:$B$8532)-ROW($B$3)+1),ROWS($C$3:C3512))),\"\")","v":0}]
[null,null,{"$f":"IFERROR(INDEX(اقساط!$B$3:$B$8532,SMALL(IF(اقساط!$G$3:$G$8532=B3513,ROW($B$3:$B$8532)-ROW($B$3)+1),ROWS($C$3:C3513))),\"\")","v":0}]
[null,null,{"$f":"IFERROR(INDEX(اقساط!$B$3:$B$8532,SMALL(IF(اقساط!$G$3:$G$8532=B3514,ROW($B$3:$B$8532)-ROW($B$3)+1),ROWS($C$3:C3514))),\"\")","v":0}]
[null,null,{"$f":"IFERROR(INDEX(اقساط!$B$3:$B$8532,SMALL(IF(اقساط!$G$3:$G$8532=B3515,ROW($B$3:$B$8532)-ROW($B$3)+1),ROWS($C$3:C3515))),\"\")","v":0}]
[null,null,{"$f":"IFERROR(INDEX(اقساط!$B$3:$B$8532,SMALL(IF(اقساط!$G$3:$G$8532=B3516,ROW($B$3:$B$8532)-ROW($B$3)+1),ROWS($C$3:C3516))),\"\")","v":0}]
[null,null,{"$f":"IFERROR(INDEX(اقساط!$B$3:$B$8532,SMALL(IF(اقساط!$G$3:$G$8532=B3517,ROW($B$3:$B$8532)-ROW($B$3)+1),ROWS($C$3:C3517))),\"\")","v":0}]
[null,null,{"$f":"IFERROR(INDEX(اقساط!$B$3:$B$8532,SMALL(IF(اقساط!$G$3:$G$8532=B3518,ROW($B$3:$B$8532)-ROW($B$3)+1),ROWS($C$3:C3518))),\"\")","v":0}]
[null,null,{"$f":"IFERROR(INDEX(اقساط!$B$3:$B$8532,SMALL(IF(اقساط!$G$3:$G$8532=B3519,ROW($B$3:$B$8532)-ROW($B$3)+1),ROWS($C$3:C3519))),\"\")","v":0}]
[null,null,{"$f":"IFERROR(INDEX(اقساط!$B$3:$B$8532,SMALL(IF(اقساط!$G$3:$G$8532=B3520,ROW($B$3:$B$8532)-ROW($B$3)+1),ROWS($C$3:C3520))),\"\")","v":0}]
[null,null,{"$f":"IFERROR(INDEX(اقساط!$B$3:$B$8532,SMALL(IF(اقساط!$G$3:$G$8532=B3521,ROW($B$3:$B$8532)-ROW($B$3)+1),ROWS($C$3:C3521))),\"\")","v":0}]
[null,null,{"$f":"IFERROR(INDEX(اقساط!$B$3:$B$8532,SMALL(IF(اقساط!$G$3:$G$8532=B3522,ROW($B$3:$B$8532)-ROW($B$3)+1),ROWS($C$3:C3522))),\"\")","v":0}]
[null,null,{"$f":"IFERROR(INDEX(اقساط!$B$3:$B$8532,SMALL(IF(اقساط!$G$3:$G$8532=B3523,ROW($B$3:$B$8532)-ROW($B$3)+1),ROWS($C$3:C3523))),\"\")","v":0}]