{"text_format":"1","workbook":"xlsx","n_sheets":2,"sheets":["بيانات التلاميذ","خرائط جلوس"],"not_rendered":{"charts":0,"images":0,"macros":0,"external_links":0,"defined_names":1,"comments":0,"pivot_tables":0},"unopened":[],"bounds":{"document_bytes":16777216,"sheet_cells":100000,"rows_first":2000,"rows_last":500,"rows_between":2000,"halvings":0,"cell_chars":16384,"cell_head_chars":4096},"cells_cut":0,"cells_raw":0,"read":"whole","date_system":"1900"}

{"sheet":"بيانات التلاميذ","index":0,"n_rows":658,"n_cols":22,"rows_kept":658,"cut":false,"hidden":false,"merged":[]}
[]
[]
[]
[]
[null,null,null,null,null,null,null,null,null,null,null,null,null,null,null,null,null,null,null,"الاول - أ"]
[null,null,null,null,null,null,null,null,null,null,null,null,null,null,null,null,null,null,null,"الاول - ب"]
[null,null,null,null,null,null,null,null,null,null,null,null,null,null,null,null,null,null,null,"الاول - ج"]
[null,null,null,null,null,null,null,null,null,null,null,null,null,null,null,null,null,null,null,"الاول - د"]
[null,null,null,null,null,null,null,null,null,null,null,null,null,null,null,null,null,null,null,"الثاني - أ"]
[null,null,null,null,null,null,null,null,null,null,null,null,null,null,null,null,null,null,null,"الثاني - ب"]
[null,null,null,null,null,null,null,null,null,null,null,null,null,null,null,null,null,null,null,"الثاني - ج","الاول","ناجح"]
[null,null,null,null,null,null,null,null,null,null,null,null,null,null,null,null,null,null,null,"الثاني - د","الثاني","راسب"]
[null,null,null,null,null,null,null,null,null,null,null,null,null,null,null,null,null,null,null,"الثالث - أ","الثالث","مكمل"]
[null,null,null,null,null,null,null,null,null,null,null,null,null,null,null,null,null,null,null,"الثالث - ب","الرابع"]
["التسلسل العام","ت","القيد","التولد","الاسم","الصف والشعبة","الجنس","الصف","يوم","شهر","سنة",null,null,null,null,null,null,null,null,"الثالث - ج"]
[{"$f":"IF(E16=\"\",\"\",SUBTOTAL(3,$E$16:E16))","v":1},{"$f":"COUNTIF($F$16:F16,F16)","v":1},"83/5","2011/6/6","احمد سعيد حسين خضر","الاول - أ","ذكر",{"$f":"IF(OR(F16=$T$5,F16=$T$6,F16=$T$7,F16=$T$8),\"الاول\",IF(OR(F16=$T$9,F16=$T$10,F16=$T$11,F16=$T$12),\"الثاني\",IF(OR(F16=$T$13,F16=$T$14,F16=$T$15,F16=$T$16),\"الثالث\",IF(OR(F16=$T$17,F16=$T$18,F16=$T$19,F16=$T$20),\"الرابع\",IF(OR(F16=$T$21,F16=$T$22,F16=$T$32,F16=$T$24),\"الخامس\",IF(OR(F16=$T$25,F16=$T$26,F16=$T$27,F16=$T$28),\"السادس\",\"\"))))))","v":"الاول"},{"$f":"DATEDIF($D16,$M$16,\"md\")","v":2},{"$f":"DATEDIF($D16,$M$16,\"ym\")","v":1},{"$f":"DATEDIF($D16,$M$16,\"y\")","v":7},null,"2018-07-08","اختيار",null,null,null,null,{"$f":"IF(F16=$T$5,1,IF(F16=$T$6,2,IF(F16=$T$7,3,IF(F16=$T$8,4,IF(F16=$T$9,5,IF(F16=$T$10,6,IF(F16=$T$11,7,IF(F16=$T$12,8,IF(F16=$T$13,9,IF(F16=$T$14,10,IF(F16=$T$15,11,IF(F16=$T$16,12,IF(F16=$T$17,13,IF(F16=$T$18,14,IF(F16=$T$19,15,IF(F16=$T$20,16,IF(F16=$T$21,17,IF(F16=$T$22,18,IF(F16=$T$23,19,IF(F16=$T$24,20,IF(F16=$T$25,21,IF(F16=$T$26,22,IF(F16=$T$27,23,IF(F16=$T$28,24,\"\"))))))))))))))))))))))))","v":1},"الثالث - د"]
[{"$f":"IF(E17=\"\",\"\",SUBTOTAL(3,$E$16:E17))","v":2},{"$f":"COUNTIF($F$16:F17,F17)","v":2},"84/5","2011/9/21","أسامه شهيد مايح شاني","الاول - أ","ذكر","الاول",17,9,6,null,"2017-10-01","بداية الدوام",null,null,null,null,1,"الرابع - أ"]
[{"$f":"IF(E18=\"\",\"\",SUBTOTAL(3,$E$16:E18))","v":3},{"$f":"COUNTIF($F$16:F18,F18)","v":3},"85/5","2011/3/21","باقر محمد حسن جعفر","الاول - أ","ذكر","الاول",17,3,7,null,"2018-07-08","تاريخ اليوم",null,null,null,null,1,"الرابع - ب"]
[{"$f":"IF(E19=\"\",\"\",SUBTOTAL(3,$E$16:E19))","v":4},{"$f":"COUNTIF($F$16:F19,F19)","v":4},"86/5","2011/5/31","باقر وسام كريم جهادي","الاول - أ","ذكر","الاول",7,1,7,null,null,null,null,null,null,null,1,"الرابع - ج"]
[{"$f":"IF(E20=\"\",\"\",SUBTOTAL(3,$E$16:E20))","v":5},{"$f":"COUNTIF($F$16:F20,F20)","v":5},"87/5","2011/3/18","حسن باسم كاظم جهادي","الاول - أ","ذكر","الاول",20,3,7,null,null,null,null,null,null,null,1,"الرابع - د"]
[{"$f":"IF(E21=\"\",\"\",SUBTOTAL(3,$E$16:E21))","v":6},{"$f":"COUNTIF($F$16:F21,F21)","v":6},"88/5","2011/11/25","حسن سامي حنون نجم","الاول - أ","ذكر","الاول",13,7,6,null,null,null,null,null,null,null,1,"الخامس - أ"]
[{"$f":"IF(E22=\"\",\"\",SUBTOTAL(3,$E$16:E22))","v":7},{"$f":"COUNTIF($F$16:F22,F22)","v":7},"89/5","2011/9/2","حسين احمد يحيى عليوي","الاول - أ","ذكر","الاول",6,10,6,null,null,null,null,null,null,null,1,"الخامس - ب"]
[{"$f":"IF(E23=\"\",\"\",SUBTOTAL(3,$E$16:E23))","v":8},{"$f":"COUNTIF($F$16:F23,F23)","v":8},"90/5","2011/6/18","حسين باسم كريم عطشان","الاول - أ","ذكر","الاول",20,0,7,null,null,null,null,null,null,null,1,"الخامس - ج"]
[{"$f":"IF(E24=\"\",\"\",SUBTOTAL(3,$E$16:E24))","v":9},{"$f":"COUNTIF($F$16:F24,F24)","v":9},"91/5","2010/6/6","حسين شهاب شهد عبود","الاول - أ","ذكر","الاول",2,1,8,null,null,null,null,null,null,null,1,"الخامس - د"]
[{"$f":"IF(E25=\"\",\"\",SUBTOTAL(3,$E$16:E25))","v":10},{"$f":"COUNTIF($F$16:F25,F25)","v":10},"92/5","2009/4/23","حيدر جياد أبو اللوح شنان","الاول - أ","ذكر","الاول",15,2,9,null,null,null,null,null,null,null,1,"السادس - أ"]
[{"$f":"IF(E26=\"\",\"\",SUBTOTAL(3,$E$16:E26))","v":11},{"$f":"COUNTIF($F$16:F26,F26)","v":11},"93/5","2011/8/19","حيدر علي داود سلمان راجوج","الاول - أ","ذكر","الاول",19,10,6,null,null,null,null,null,null,null,1,"السادس - ب"]
[{"$f":"IF(E27=\"\",\"\",SUBTOTAL(3,$E$16:E27))","v":12},{"$f":"COUNTIF($F$16:F27,F27)","v":12},"46/5","2010/2/8","رسول خالد نعمه عبيد ","الاول - أ","ذكر","الاول",0,5,8,null,null,null,null,null,null,null,1,"السادس - ج"]
[{"$f":"IF(E28=\"\",\"\",SUBTOTAL(3,$E$16:E28))","v":13},{"$f":"COUNTIF($F$16:F28,F28)","v":13},"94/5","2011/2/2","رضا عباس ناجي عيسى","الاول - أ","ذكر","الاول",6,5,7,null,null,null,null,null,null,null,1,"السادس - د"]
[{"$f":"IF(E29=\"\",\"\",SUBTOTAL(3,$E$16:E29))","v":14},{"$f":"COUNTIF($F$16:F29,F29)","v":14},"74/5","2010-10-19","ضياء ناجح مايح شاني","الاول - أ","ذكر","الاول",19,8,7,null,null,null,null,null,null,null,1]
[{"$f":"IF(E30=\"\",\"\",SUBTOTAL(3,$E$16:E30))","v":15},{"$f":"COUNTIF($F$16:F30,F30)","v":15},"41/5","2010/9/30","عباس تكليف جهادي عبد","الاول - أ","ذكر","الاول",8,9,7,null,null,null,null,null,null,null,1]
[{"$f":"IF(E31=\"\",\"\",SUBTOTAL(3,$E$16:E31))","v":16},{"$f":"COUNTIF($F$16:F31,F31)","v":16},"96/5","2011/2/20","علي سعد عناد ساجت","الاول - أ","ذكر","الاول",18,4,7,null,null,null,null,null,null,null,1]
[{"$f":"IF(E32=\"\",\"\",SUBTOTAL(3,$E$16:E32))","v":17},{"$f":"COUNTIF($F$16:F32,F32)","v":17},"97/5","2011/7/16","علي ماجد عطشان كاطع","الاول - أ","ذكر","الاول",22,11,6,null,null,null,null,null,null,null,1]
[{"$f":"IF(E33=\"\",\"\",SUBTOTAL(3,$E$16:E33))","v":18},{"$f":"COUNTIF($F$16:F33,F33)","v":18},"98/5","2011/7/11","علي محمد سلطان كريم","الاول - أ","ذكر","الاول",27,11,6,null,null,null,null,null,null,null,1]
[{"$f":"IF(E34=\"\",\"\",SUBTOTAL(3,$E$16:E34))","v":19},{"$f":"COUNTIF($F$16:F34,F34)","v":19},"9/5","2010/4/9","كاظم مشعل خنجر كمين ","الاول - أ","ذكر","الاول",29,2,8,null,null,null,null,null,null,null,1]
[{"$f":"IF(E35=\"\",\"\",SUBTOTAL(3,$E$16:E35))","v":20},{"$f":"COUNTIF($F$16:F35,F35)","v":20},"100/5","2011/2/24","كرار جبار عبد الحسين عواد","الاول - أ","ذكر","الاول",14,4,7,null,null,null,null,null,null,null,1]
[{"$f":"IF(E36=\"\",\"\",SUBTOTAL(3,$E$16:E36))","v":21},{"$f":"COUNTIF($F$16:F36,F36)","v":21},"101/5","2011/2/8","كرار عدنان حسين خضر","الاول - أ","ذكر","الاول",0,5,7,null,null,null,null,null,null,null,1]
[{"$f":"IF(E37=\"\",\"\",SUBTOTAL(3,$E$16:E37))","v":22},{"$f":"COUNTIF($F$16:F37,F37)","v":22},"355/4","2009/8/8","كريم عدنان كريم عطشان","الاول - أ","ذكر","الاول",0,11,8,null,null,null,null,null,null,null,1]
[{"$f":"IF(E38=\"\",\"\",SUBTOTAL(3,$E$16:E38))","v":23},{"$f":"COUNTIF($F$16:F38,F38)","v":23},"102/5","2011/10/16","محمد رائد عصيب علي","الاول - أ","ذكر","الاول",22,8,6,null,null,null,null,null,null,null,1]
[{"$f":"IF(E39=\"\",\"\",SUBTOTAL(3,$E$16:E39))","v":24},{"$f":"COUNTIF($F$16:F39,F39)","v":24},"103/5","2012/1/20","محمد مهران علي ساجت","الاول - أ","ذكر","الاول",18,5,6,null,null,null,null,null,null,null,1]
[{"$f":"IF(E40=\"\",\"\",SUBTOTAL(3,$E$16:E40))","v":25},{"$f":"COUNTIF($F$16:F40,F40)","v":25},"354/4","2010/4/4","يوسف حامد ارحيم كريم","الاول - أ","ذكر","الاول",4,3,8,null,null,null,null,null,null,null,1]
[{"$f":"IF(E41=\"\",\"\",SUBTOTAL(3,$E$16:E41))","v":26},{"$f":"COUNTIF($F$16:F41,F41)","v":26},"104/5","2011/11/8","اسراء علي خشان سفاح","الاول - أ","انثى","الاول",0,8,6,null,null,null,null,null,null,null,1]
[{"$f":"IF(E42=\"\",\"\",SUBTOTAL(3,$E$16:E42))","v":27},{"$f":"COUNTIF($F$16:F42,F42)","v":27},"105/5","2011/3/17","بتول ناطق هاشم دويج","الاول - أ","انثى","الاول",21,3,7,null,null,null,null,null,null,null,1]
[{"$f":"IF(E43=\"\",\"\",SUBTOTAL(3,$E$16:E43))","v":28},{"$f":"COUNTIF($F$16:F43,F43)","v":28},"30/5","2010-10-21","بنين مالك زروك علوان","الاول - أ","انثى","الاول",17,8,7,null,null,null,null,null,null,null,1]
[{"$f":"IF(E44=\"\",\"\",SUBTOTAL(3,$E$16:E44))","v":29},{"$f":"COUNTIF($F$16:F44,F44)","v":29},"106/5","2009/10/25","بيداء سعد عناد ساجت","الاول - أ","انثى","الاول",13,8,8,null,null,null,null,null,null,null,1]
[{"$f":"IF(E45=\"\",\"\",SUBTOTAL(3,$E$16:E45))","v":30},{"$f":"COUNTIF($F$16:F45,F45)","v":30},"107/5","2011/8/13","تبارك مالك عطيه كاظم","الاول - أ","انثى","الاول",25,10,6,null,null,null,null,null,null,null,1]
[{"$f":"IF(E46=\"\",\"\",SUBTOTAL(3,$E$16:E46))","v":31},{"$f":"COUNTIF($F$16:F46,F46)","v":31},"367/4","2010/12/30","حوراء علي كامل جاسم","الاول - أ","انثى","الاول",8,6,7,null,null,null,null,null,null,null,1]
[{"$f":"IF(E47=\"\",\"\",SUBTOTAL(3,$E$16:E47))","v":32},{"$f":"COUNTIF($F$16:F47,F47)","v":32},"108/5","2011/2/9","رسل رضا محمد عبد الرضا","الاول - أ","انثى","الاول",29,4,7,null,null,null,null,null,null,null,1]
[{"$f":"IF(E48=\"\",\"\",SUBTOTAL(3,$E$16:E48))","v":33},{"$f":"COUNTIF($F$16:F48,F48)","v":33},"109/5","2010/10/24","رقيه علي كاظم حمد","الاول - أ","انثى","الاول",14,8,7,null,null,null,null,null,null,null,1]
[{"$f":"IF(E49=\"\",\"\",SUBTOTAL(3,$E$16:E49))","v":34},{"$f":"COUNTIF($F$16:F49,F49)","v":34},"110/5","2010/10/12","رقيه لطيف كاظم عبيد","الاول - أ","انثى","الاول",26,8,7,null,null,null,null,null,null,null,1]
[{"$f":"IF(E50=\"\",\"\",SUBTOTAL(3,$E$16:E50))","v":35},{"$f":"COUNTIF($F$16:F50,F50)","v":35},"111/5","2010/12/22","رقيه محمد كريم عطشان","الاول - أ","انثى","الاول",16,6,7,null,null,null,null,null,null,null,1]
[{"$f":"IF(E51=\"\",\"\",SUBTOTAL(3,$E$16:E51))","v":36},{"$f":"COUNTIF($F$16:F51,F51)","v":36},"112/5","2010/12/26","زهراء باسم غالي عجه","الاول - أ","انثى","الاول",12,6,7,null,null,null,null,null,null,null,1]
[{"$f":"IF(E52=\"\",\"\",SUBTOTAL(3,$E$16:E52))","v":37},{"$f":"COUNTIF($F$16:F52,F52)","v":37},"113/5","2011/12/23","زهراء بدر نعيم صالح","الاول - أ","انثى","الاول",15,6,6,null,null,null,null,null,null,null,1]
[{"$f":"IF(E53=\"\",\"\",SUBTOTAL(3,$E$16:E53))","v":38},{"$f":"COUNTIF($F$16:F53,F53)","v":38},"114/5","2011/4/12","زهراء جاسم محمد عبد الرضا","الاول - أ","انثى","الاول",26,2,7,null,null,null,null,null,null,null,1]
[{"$f":"IF(E54=\"\",\"\",SUBTOTAL(3,$E$16:E54))","v":39},{"$f":"COUNTIF($F$16:F54,F54)","v":39},"115/5","2011/12/2","زهراء حسن نجم عبد","الاول - أ","انثى","الاول",6,7,6,null,null,null,null,null,null,null,1]
[{"$f":"IF(E55=\"\",\"\",SUBTOTAL(3,$E$16:E55))","v":40},{"$f":"COUNTIF($F$16:F55,F55)","v":40},"116/5","2011/6/13","زينب حيدر جميل كريم","الاول - أ","انثى","الاول",25,0,7,null,null,null,null,null,null,null,1]
[{"$f":"IF(E56=\"\",\"\",SUBTOTAL(3,$E$16:E56))","v":41},{"$f":"COUNTIF($F$16:F56,F56)","v":41},"117/5","2011/1/3","عهد كدر وعد حبيت","الاول - أ","انثى","الاول",5,6,7,null,null,null,null,null,null,null,1]
[{"$f":"IF(E57=\"\",\"\",SUBTOTAL(3,$E$16:E57))","v":42},{"$f":"COUNTIF($F$16:F57,F57)","v":42},"118/5","2011-03-24","فاطمه فالح شهاب حمد","الاول - أ","انثى","الاول",14,3,7,null,null,null,null,null,null,null,1]
[{"$f":"IF(E58=\"\",\"\",SUBTOTAL(3,$E$16:E58))","v":43},{"$f":"COUNTIF($F$16:F58,F58)","v":43},"119/5","2011/5/21","فاطمه محمد خشان سفاح","الاول - أ","انثى","الاول",17,1,7,null,null,null,null,null,null,null,1]
[{"$f":"IF(E59=\"\",\"\",SUBTOTAL(3,$E$16:E59))","v":44},{"$f":"COUNTIF($F$16:F59,F59)","v":44},"121/5","2011/6/9","نور الهدى ثامر شنين جبار","الاول - أ","انثى","الاول",29,0,7,null,null,null,null,null,null,null,1]
[{"$f":"IF(E60=\"\",\"\",SUBTOTAL(3,$E$16:E60))","v":45},{"$f":"COUNTIF($F$16:F60,F60)","v":45},"120/5","2012/1/29","هاجر رعد رحيم كاظم","الاول - أ","انثى","الاول",9,5,6,null,null,null,null,null,null,null,1]
[{"$f":"IF(E61=\"\",\"\",SUBTOTAL(3,$E$16:E61))","v":46},{"$f":"COUNTIF($F$16:F61,F61)","v":1},"122/5","2010/10/19","ابراهيم سلمان نعيم صالح","الاول - ب","ذكر","الاول",19,8,7,null,null,null,null,null,null,null,2]
[{"$f":"IF(E62=\"\",\"\",SUBTOTAL(3,$E$16:E62))","v":47},{"$f":"COUNTIF($F$16:F62,F62)","v":2},"188/5","2008-12-27","ايوب داخل عطيه عويز","الاول - ب","ذكر","الاول",11,6,9,null,null,null,null,null,null,null,2]
[{"$f":"IF(E63=\"\",\"\",SUBTOTAL(3,$E$16:E63))","v":48},{"$f":"COUNTIF($F$16:F63,F63)","v":3},"8/5","2010-10-15","جاسم سلمان مزهر جابر","الاول - ب","ذكر","الاول",23,8,7,null,null,null,null,null,null,null,2]
[{"$f":"IF(E64=\"\",\"\",SUBTOTAL(3,$E$16:E64))","v":49},{"$f":"COUNTIF($F$16:F64,F64)","v":4},"123/5","2011/7/27","حسن حيدر خشان سفاح","الاول - ب","ذكر","الاول",11,11,6,null,null,null,null,null,null,null,2]
[{"$f":"IF(E65=\"\",\"\",SUBTOTAL(3,$E$16:E65))","v":50},{"$f":"COUNTIF($F$16:F65,F65)","v":5},"356/4","2010/4/7","حسن سلمان حسين منيخر","الاول - ب","ذكر","الاول",1,3,8,null,null,null,null,null,null,null,2]
[{"$f":"IF(E66=\"\",\"\",SUBTOTAL(3,$E$16:E66))","v":51},{"$f":"COUNTIF($F$16:F66,F66)","v":6},"124/5","2011/7/31","حسن سلمان عواد غريب","الاول - ب","ذكر","الاول",7,11,6,null,null,null,null,null,null,null,2]
[{"$f":"IF(E67=\"\",\"\",SUBTOTAL(3,$E$16:E67))","v":52},{"$f":"COUNTIF($F$16:F67,F67)","v":7},"125/5","2011/2/23","حسن يعقوب يوسف هاشم","الاول - ب","ذكر","الاول",15,4,7,null,null,null,null,null,null,null,2]
[{"$f":"IF(E68=\"\",\"\",SUBTOTAL(3,$E$16:E68))","v":53},{"$f":"COUNTIF($F$16:F68,F68)","v":8},"126/5","2011/8/15","حسين رائد كاظم عبيد","الاول - ب","ذكر","الاول",23,10,6,null,null,null,null,null,null,null,2]
[{"$f":"IF(E69=\"\",\"\",SUBTOTAL(3,$E$16:E69))","v":54},{"$f":"COUNTIF($F$16:F69,F69)","v":9},"127/5","2011/11/8","حمزه علي خشان سفاح","الاول - ب","ذكر","الاول",0,8,6,null,null,null,null,null,null,null,2]
[{"$f":"IF(E70=\"\",\"\",SUBTOTAL(3,$E$16:E70))","v":55},{"$f":"COUNTIF($F$16:F70,F70)","v":10},"128/5","2011/12/16","حيدر خير الله كامل جعمول","الاول - ب","ذكر","الاول",22,6,6,null,null,null,null,null,null,null,2]
[{"$f":"IF(E71=\"\",\"\",SUBTOTAL(3,$E$16:E71))","v":56},{"$f":"COUNTIF($F$16:F71,F71)","v":11},"26/5","2010/4/2","رحمن ناجح نعيم صالح","الاول - ب","ذكر","الاول",6,3,8,null,null,null,null,null,null,null,2]
[{"$f":"IF(E72=\"\",\"\",SUBTOTAL(3,$E$16:E72))","v":57},{"$f":"COUNTIF($F$16:F72,F72)","v":12},"7/5","2011/1/22","سجاد جابر شلاكه مرزوك","الاول - ب","ذكر","الاول",16,5,7,null,null,null,null,null,null,null,2]
[{"$f":"IF(E73=\"\",\"\",SUBTOTAL(3,$E$16:E73))","v":58},{"$f":"COUNTIF($F$16:F73,F73)","v":13},"129/5","2011/7/10","سجاد سلمان حسين منيخر","الاول - ب","ذكر","الاول",28,11,6,null,null,null,null,null,null,null,2]
[{"$f":"IF(E74=\"\",\"\",SUBTOTAL(3,$E$16:E74))","v":59},{"$f":"COUNTIF($F$16:F74,F74)","v":14},"130/5","2011/8/23","سجاد نبراس عبد الخضر لعيبي","الاول - ب","ذكر","الاول",15,10,6,null,null,null,null,null,null,null,2]
[{"$f":"IF(E75=\"\",\"\",SUBTOTAL(3,$E$16:E75))","v":60},{"$f":"COUNTIF($F$16:F75,F75)","v":15},"131/5","2011/5/14","صادق فاضل عباس حسين","الاول - ب","ذكر","الاول",24,1,7,null,null,null,null,null,null,null,2]
[{"$f":"IF(E76=\"\",\"\",SUBTOTAL(3,$E$16:E76))","v":61},{"$f":"COUNTIF($F$16:F76,F76)","v":16},"133/5","2011/2/7","عباس حمود موسى هادي","الاول - ب","ذكر","الاول",1,5,7,null,null,null,null,null,null,null,2]
[{"$f":"IF(E77=\"\",\"\",SUBTOTAL(3,$E$16:E77))","v":62},{"$f":"COUNTIF($F$16:F77,F77)","v":17},"358/4","2010/11/4","عباس صاحب عباس حسين","الاول - ب","ذكر","الاول",4,8,7,null,null,null,null,null,null,null,2]
[{"$f":"IF(E78=\"\",\"\",SUBTOTAL(3,$E$16:E78))","v":63},{"$f":"COUNTIF($F$16:F78,F78)","v":18},"134/5","2011/5/26","عباس منصور نعيم صالح ","الاول - ب","ذكر","الاول",12,1,7,null,null,null,null,null,null,null,2]
[{"$f":"IF(E79=\"\",\"\",SUBTOTAL(3,$E$16:E79))","v":64},{"$f":"COUNTIF($F$16:F79,F79)","v":19},"135/5","2011/6/29","عباس ناهي عواد غريب","الاول - ب","ذكر","الاول",9,0,7,null,null,null,null,null,null,null,2]
[{"$f":"IF(E80=\"\",\"\",SUBTOTAL(3,$E$16:E80))","v":65},{"$f":"COUNTIF($F$16:F80,F80)","v":20},"136/5","2010/9/14","عبد الرحمن رزاق عجه طشاش","الاول - ب","ذكر",{"$f":"IF(OR(F80=$T$5,F80=$T$6,F80=$T$7,F80=$T$8),\"الاول\",IF(OR(F80=$T$9,F80=$T$10,F80=$T$11,F80=$T$12),\"الثاني\",IF(OR(F80=$T$13,F80=$T$14,F80=$T$15,F80=$T$16),\"الثالث\",IF(OR(F80=$T$17,F80=$T$18,F80=$T$19,F80=$T$20),\"الرابع\",IF(OR(F80=$T$21,F80=$T$22,F80=$T$32,F80=$T$24),\"الخامس\",IF(OR(F80=$T$25,F80=$T$26,F80=$T$27,F80=$T$28),\"السادس\",\"\"))))))","v":"الاول"},{"$f":"DATEDIF($D80,$M$16,\"md\")","v":24},{"$f":"DATEDIF($D80,$M$16,\"ym\")","v":9},{"$f":"DATEDIF($D80,$M$16,\"y\")","v":7},null,null,null,null,null,null,null,{"$f":"IF(F80=$T$5,1,IF(F80=$T$6,2,IF(F80=$T$7,3,IF(F80=$T$8,4,IF(F80=$T$9,5,IF(F80=$T$10,6,IF(F80=$T$11,7,IF(F80=$T$12,8,IF(F80=$T$13,9,IF(F80=$T$14,10,IF(F80=$T$15,11,IF(F80=$T$16,12,IF(F80=$T$17,13,IF(F80=$T$18,14,IF(F80=$T$19,15,IF(F80=$T$20,16,IF(F80=$T$21,17,IF(F80=$T$22,18,IF(F80=$T$23,19,IF(F80=$T$24,20,IF(F80=$T$25,21,IF(F80=$T$26,22,IF(F80=$T$27,23,IF(F80=$T$28,24,\"\"))))))))))))))))))))))))","v":2}]
[{"$f":"IF(E81=\"\",\"\",SUBTOTAL(3,$E$16:E81))","v":66},{"$f":"COUNTIF($F$16:F81,F81)","v":21},"137/5","2011/10/7","علي بهلول خنجر كمين","الاول - ب","ذكر","الاول",1,9,6,null,null,null,null,null,null,null,2]
[{"$f":"IF(E82=\"\",\"\",SUBTOTAL(3,$E$16:E82))","v":67},{"$f":"COUNTIF($F$16:F82,F82)","v":22},"138/5","2011/10/27","علي حسن علوان عبد","الاول - ب","ذكر","الاول",11,8,6,null,null,null,null,null,null,null,2]
[{"$f":"IF(E83=\"\",\"\",SUBTOTAL(3,$E$16:E83))","v":68},{"$f":"COUNTIF($F$16:F83,F83)","v":23},"139/5","2011/5/14","علي فاضل عباس حسين","الاول - ب","ذكر","الاول",24,1,7,null,null,null,null,null,null,null,2]
[{"$f":"IF(E84=\"\",\"\",SUBTOTAL(3,$E$16:E84))","v":69},{"$f":"COUNTIF($F$16:F84,F84)","v":24},"14/5","2011/1/21","علي فريق علي صليبي","الاول - ب","ذكر","الاول",17,5,7,null,null,null,null,null,null,null,2]
[{"$f":"IF(E85=\"\",\"\",SUBTOTAL(3,$E$16:E85))","v":70},{"$f":"COUNTIF($F$16:F85,F85)","v":25},"140/5","2011/7/21","محمد المهدي ناطق سامي حنون","الاول - ب","ذكر","الاول",17,11,6,null,null,null,null,null,null,null,2]
[{"$f":"IF(E86=\"\",\"\",SUBTOTAL(3,$E$16:E86))","v":71},{"$f":"COUNTIF($F$16:F86,F86)","v":26},"141/5","2011/11/4","محمد فاضل حاجي فارس","الاول - ب","ذكر","الاول",4,8,6,null,null,null,null,null,null,null,2]
[{"$f":"IF(E87=\"\",\"\",SUBTOTAL(3,$E$16:E87))","v":72},{"$f":"COUNTIF($F$16:F87,F87)","v":27},"5/5","2010/6/1","يوسف ثامر جبر شلاكه","الاول - ب","ذكر","الاول",7,1,8,null,null,null,null,null,null,null,2]
[{"$f":"IF(E88=\"\",\"\",SUBTOTAL(3,$E$16:E88))","v":73},{"$f":"COUNTIF($F$16:F88,F88)","v":28},"371/4","2011/1/9","يوسف حسن خضير عجه","الاول - ب","ذكر","الاول",29,5,7,null,null,null,null,null,null,null,2]
[{"$f":"IF(E89=\"\",\"\",SUBTOTAL(3,$E$16:E89))","v":74},{"$f":"COUNTIF($F$16:F89,F89)","v":29},"49/5","2008/12/14","ايات خالد نعمه عبيد","الاول - ب","انثى","الاول",24,6,9,null,null,null,null,null,null,null,2]
[{"$f":"IF(E90=\"\",\"\",SUBTOTAL(3,$E$16:E90))","v":75},{"$f":"COUNTIF($F$16:F90,F90)","v":30},"142/5","2011/3/3","ايمان عدي هداد حنون","الاول - ب","انثى","الاول",5,4,7,null,null,null,null,null,null,null,2]
[{"$f":"IF(E91=\"\",\"\",SUBTOTAL(3,$E$16:E91))","v":76},{"$f":"COUNTIF($F$16:F91,F91)","v":31},"143/5","2011-06-27","حوراء ضياء سهيل عبد","الاول - ب","انثى","الاول",11,0,7,null,null,null,null,null,null,null,2]
[{"$f":"IF(E92=\"\",\"\",SUBTOTAL(3,$E$16:E92))","v":77},{"$f":"COUNTIF($F$16:F92,F92)","v":32},"144/5","2011/1/26","رقيه جياد أبو اللوح شنان","الاول - ب","انثى","الاول",12,5,7,null,null,null,null,null,null,null,2]
[{"$f":"IF(E93=\"\",\"\",SUBTOTAL(3,$E$16:E93))","v":78},{"$f":"COUNTIF($F$16:F93,F93)","v":33},"145/5","2011/3/2","رقيه عقيل يوسف هاشم","الاول - ب","انثى","الاول",6,4,7,null,null,null,null,null,null,null,2]
[{"$f":"IF(E94=\"\",\"\",SUBTOTAL(3,$E$16:E94))","v":79},{"$f":"COUNTIF($F$16:F94,F94)","v":34},"146/5","2012/1/15","رمله مالك عطيه عويز","الاول - ب","انثى","الاول",23,5,6,null,null,null,null,null,null,null,2]
[{"$f":"IF(E95=\"\",\"\",SUBTOTAL(3,$E$16:E95))","v":80},{"$f":"COUNTIF($F$16:F95,F95)","v":35},"147/5","2010/1/1","زهراء حمزه ظاهر مرزوك","الاول - ب","انثى","الاول",7,6,8,null,null,null,null,null,null,null,2]
[{"$f":"IF(E96=\"\",\"\",SUBTOTAL(3,$E$16:E96))","v":81},{"$f":"COUNTIF($F$16:F96,F96)","v":36},"148/5","2011/8/4","زهراء علي هداد حنون","الاول - ب","انثى","الاول",4,11,6,null,null,null,null,null,null,null,2]
[{"$f":"IF(E97=\"\",\"\",SUBTOTAL(3,$E$16:E97))","v":82},{"$f":"COUNTIF($F$16:F97,F97)","v":37},"149/5","2012/1/21","زهراء فريق علي صليبي","الاول - ب","انثى","الاول",17,5,6,null,null,null,null,null,null,null,2]
[{"$f":"IF(E98=\"\",\"\",SUBTOTAL(3,$E$16:E98))","v":83},{"$f":"COUNTIF($F$16:F98,F98)","v":38},"150/5","2011/3/30","زهراء كريم مزهر جابر","الاول - ب","انثى","الاول",8,3,7,null,null,null,null,null,null,null,2]
[{"$f":"IF(E99=\"\",\"\",SUBTOTAL(3,$E$16:E99))","v":84},{"$f":"COUNTIF($F$16:F99,F99)","v":39},"151/5","2011/6/3","زينب ناصر مظلوم جعمول","الاول - ب","انثى","الاول",5,1,7,null,null,null,null,null,null,null,2]
[{"$f":"IF(E100=\"\",\"\",SUBTOTAL(3,$E$16:E100))","v":85},{"$f":"COUNTIF($F$16:F100,F100)","v":40},"152/5","2011/4/10","ساره حسن هادي عبيد","الاول - ب","انثى","الاول",28,2,7,null,null,null,null,null,null,null,2]
[{"$f":"IF(E101=\"\",\"\",SUBTOTAL(3,$E$16:E101))","v":86},{"$f":"COUNTIF($F$16:F101,F101)","v":41},"153/5","2011/8/29","سوزان علي شاكر جعمول","الاول - ب","انثى","الاول",9,10,6,null,null,null,null,null,null,null,2]
[{"$f":"IF(E102=\"\",\"\",SUBTOTAL(3,$E$16:E102))","v":87},{"$f":"COUNTIF($F$16:F102,F102)","v":42},"154/5","2011/4/19","طفوف عادل غازي صالح","الاول - ب","انثى","الاول",19,2,7,null,null,null,null,null,null,null,2]
[{"$f":"IF(E103=\"\",\"\",SUBTOTAL(3,$E$16:E103))","v":88},{"$f":"COUNTIF($F$16:F103,F103)","v":43},"155/5","2009/11/2","طيبه رحيم خماط كمين","الاول - ب","انثى","الاول",6,8,8,null,null,null,null,null,null,null,2]
[{"$f":"IF(E104=\"\",\"\",SUBTOTAL(3,$E$16:E104))","v":89},{"$f":"COUNTIF($F$16:F104,F104)","v":44},"158/5","2011/4/7","طيبه رزاق حسين خضر","الاول - ب","انثى","الاول",1,3,7,null,null,null,null,null,null,null,2]
[{"$f":"IF(E105=\"\",\"\",SUBTOTAL(3,$E$16:E105))","v":90},{"$f":"COUNTIF($F$16:F105,F105)","v":45},"156/5","2011/7/24","طيبه رعد فليح كريم","الاول - ب","انثى","الاول",14,11,6,null,null,null,null,null,null,null,2]
[{"$f":"IF(E106=\"\",\"\",SUBTOTAL(3,$E$16:E106))","v":91},{"$f":"COUNTIF($F$16:F106,F106)","v":46},"157/5","2011/10/19","طيبه صباح دايخ حبيت","الاول - ب","انثى","الاول",19,8,6,null,null,null,null,null,null,null,2]
[{"$f":"IF(E107=\"\",\"\",SUBTOTAL(3,$E$16:E107))","v":92},{"$f":"COUNTIF($F$16:F107,F107)","v":47},"159/5","2011/3/21","فاطمه مشتاق جواد معيوف ","الاول - ب","انثى","الاول",17,3,7,null,null,null,null,null,null,null,2]
[{"$f":"IF(E108=\"\",\"\",SUBTOTAL(3,$E$16:E108))","v":93},{"$f":"COUNTIF($F$16:F108,F108)","v":1},"160/5","2008-01-01","انوار حسين علي عبيد","الاول - ج","ذكر","الاول",7,6,10,null,null,null,null,null,null,null,3]
[{"$f":"IF(E109=\"\",\"\",SUBTOTAL(3,$E$16:E109))","v":94},{"$f":"COUNTIF($F$16:F109,F109)","v":2},"161/5","2010/10/3","جعفر عادل خضير عباس","الاول - ج","ذكر","الاول",5,9,7,null,null,null,null,null,null,null,3]
[{"$f":"IF(E110=\"\",\"\",SUBTOTAL(3,$E$16:E110))","v":95},{"$f":"COUNTIF($F$16:F110,F110)","v":3},"162/5","2011/7/31","حسين كاطع مسعد حبيت","الاول - ج","ذكر","الاول",7,11,6,null,null,null,null,null,null,null,3]
[{"$f":"IF(E111=\"\",\"\",SUBTOTAL(3,$E$16:E111))","v":96},{"$f":"COUNTIF($F$16:F111,F111)","v":4},"164/5","2011/4/1","عزيز سعد عزيز عبد الحسن","الاول - ج","ذكر","الاول",7,3,7,null,null,null,null,null,null,null,3]
[{"$f":"IF(E112=\"\",\"\",SUBTOTAL(3,$E$16:E112))","v":97},{"$f":"COUNTIF($F$16:F112,F112)","v":5},"165/5","2011/10/8","علي رعد عزيز عبد الحسن","الاول - ج","ذكر","الاول",0,9,6,null,null,null,null,null,null,null,3]
[{"$f":"IF(E113=\"\",\"\",SUBTOTAL(3,$E$16:E113))","v":98},{"$f":"COUNTIF($F$16:F113,F113)","v":6},"166/5","2011/12/18","علي سمير حسين كامل","الاول - ج","ذكر","الاول",20,6,6,null,null,null,null,null,null,null,3]
[{"$f":"IF(E114=\"\",\"\",SUBTOTAL(3,$E$16:E114))","v":99},{"$f":"COUNTIF($F$16:F114,F114)","v":7},"167/5","2012/1/10","علي صباح حسن عبد الرضا","الاول - ج","ذكر","الاول",28,5,6,null,null,null,null,null,null,null,3]
[{"$f":"IF(E115=\"\",\"\",SUBTOTAL(3,$E$16:E115))","v":100},{"$f":"COUNTIF($F$16:F115,F115)","v":8},"168/5","2011/5/5","علي عقيل مهلهل شعلان","الاول - ج","ذكر","الاول",3,2,7,null,null,null,null,null,null,null,3]
[{"$f":"IF(E116=\"\",\"\",SUBTOTAL(3,$E$16:E116))","v":101},{"$f":"COUNTIF($F$16:F116,F116)","v":9},"169/5","2011/10/27","علي منصور فليح كريم","الاول - ج","ذكر","الاول",11,8,6,null,null,null,null,null,null,null,3]
[{"$f":"IF(E117=\"\",\"\",SUBTOTAL(3,$E$16:E117))","v":102},{"$f":"COUNTIF($F$16:F117,F117)","v":10},"23/5","2011/2/3","محمد علاء رحيم عجه","الاول - ج","ذكر","الاول",5,5,7,null,null,null,null,null,null,null,3]
[{"$f":"IF(E118=\"\",\"\",SUBTOTAL(3,$E$16:E118))","v":103},{"$f":"COUNTIF($F$16:F118,F118)","v":11},"170/5","2010/1/30","محمد مالك عناد غالي","الاول - ج","ذكر","الاول",8,5,8,null,null,null,null,null,null,null,3]
[{"$f":"IF(E119=\"\",\"\",SUBTOTAL(3,$E$16:E119))","v":104},{"$f":"COUNTIF($F$16:F119,F119)","v":12},"171/5","2011/4/23","منتظر مجيد كريم جياد","الاول - ج","ذكر","الاول",15,2,7,null,null,null,null,null,null,null,3]
[{"$f":"IF(E120=\"\",\"\",SUBTOTAL(3,$E$16:E120))","v":105},{"$f":"COUNTIF($F$16:F120,F120)","v":13},"172/5","2011/4/28","هيثم عيسى جبير محسن","الاول - ج","ذكر","الاول",10,2,7,null,null,null,null,null,null,null,3]
[{"$f":"IF(E121=\"\",\"\",SUBTOTAL(3,$E$16:E121))","v":106},{"$f":"COUNTIF($F$16:F121,F121)","v":14},"173/5","2011/7/24","اسراء سالم عينون جبل","الاول - ج","انثى","الاول",14,11,6,null,null,null,null,null,null,null,3]
[{"$f":"IF(E122=\"\",\"\",SUBTOTAL(3,$E$16:E122))","v":107},{"$f":"COUNTIF($F$16:F122,F122)","v":15},"43/5","2011/2/11","الاء عايد جابر عبيد","الاول - ج","انثى","الاول",27,4,7,null,null,null,null,null,null,null,3]
[{"$f":"IF(E123=\"\",\"\",SUBTOTAL(3,$E$16:E123))","v":108},{"$f":"COUNTIF($F$16:F123,F123)","v":16},"175/5","2010/10/16","ريم سجاد عناد غالي","الاول - ج","انثى","الاول",22,8,7,null,null,null,null,null,null,null,3]
[{"$f":"IF(E124=\"\",\"\",SUBTOTAL(3,$E$16:E124))","v":109},{"$f":"COUNTIF($F$16:F124,F124)","v":17},"279/4","2011/5/29","زهراء وناس جاسم تعبات","الاول - ج","انثى","الاول",9,1,7,null,null,null,null,null,null,null,3]
[{"$f":"IF(E125=\"\",\"\",SUBTOTAL(3,$E$16:E125))","v":110},{"$f":"COUNTIF($F$16:F125,F125)","v":18},"339/4","2009-12-15","زينب علاء جابر كاظم","الاول - ج","انثى","الاول",23,6,8,null,null,null,null,null,null,null,3]
[{"$f":"IF(E126=\"\",\"\",SUBTOTAL(3,$E$16:E126))","v":111},{"$f":"COUNTIF($F$16:F126,F126)","v":19},"176/5","2010/9/10","زينب كارون رحيم عجه","الاول - ج","انثى","الاول",28,9,7,null,null,null,null,null,null,null,3]
[{"$f":"IF(E127=\"\",\"\",SUBTOTAL(3,$E$16:E127))","v":112},{"$f":"COUNTIF($F$16:F127,F127)","v":20},"177/5","2011/3/1","سكينه جعفر محمد كاطع","الاول - ج","انثى","الاول",7,4,7,null,null,null,null,null,null,null,3]
[{"$f":"IF(E128=\"\",\"\",SUBTOTAL(3,$E$16:E128))","v":113},{"$f":"COUNTIF($F$16:F128,F128)","v":21},"178/5","2010/12/21","سلمى عامر جابر عبيد","الاول - ج","انثى","الاول",17,6,7,null,null,null,null,null,null,null,3]
[{"$f":"IF(E129=\"\",\"\",SUBTOTAL(3,$E$16:E129))","v":114},{"$f":"COUNTIF($F$16:F129,F129)","v":22},"179/5","2011/4/6","غدير باسم دايخ حبيت","الاول - ج","انثى","الاول",2,3,7,null,null,null,null,null,null,null,3]
[{"$f":"IF(E130=\"\",\"\",SUBTOTAL(3,$E$16:E130))","v":115},{"$f":"COUNTIF($F$16:F130,F130)","v":23},"180/5","2011/5/9","غدير محسن كامل جعمول","الاول - ج","انثى","الاول",29,1,7,null,null,null,null,null,null,null,3]
[{"$f":"IF(E131=\"\",\"\",SUBTOTAL(3,$E$16:E131))","v":116},{"$f":"COUNTIF($F$16:F131,F131)","v":24},"181/5","2010/4/13","فاطمه حاجم عبد الحسين مظلوم","الاول - ج","انثى","الاول",25,2,8,null,null,null,null,null,null,null,3]
[{"$f":"IF(E132=\"\",\"\",SUBTOTAL(3,$E$16:E132))","v":117},{"$f":"COUNTIF($F$16:F132,F132)","v":25},"182/5","2011/12/9","فاطمه رعد عزيز عبد الحسن","الاول - ج","انثى","الاول",29,6,6,null,null,null,null,null,null,null,3]
[{"$f":"IF(E133=\"\",\"\",SUBTOTAL(3,$E$16:E133))","v":118},{"$f":"COUNTIF($F$16:F133,F133)","v":26},"59/5","2011/12/18","فاطمه عايد جابر عبيد","الاول - ج","انثى","الاول",20,6,6,null,null,null,null,null,null,null,3]
[{"$f":"IF(E134=\"\",\"\",SUBTOTAL(3,$E$16:E134))","v":119},{"$f":"COUNTIF($F$16:F134,F134)","v":27},"183/5","2007/11/21","قطر الندى كريم دايخ حبيت","الاول - ج","انثى","الاول",17,7,10,null,null,null,null,null,null,null,3]
[{"$f":"IF(E135=\"\",\"\",SUBTOTAL(3,$E$16:E135))","v":120},{"$f":"COUNTIF($F$16:F135,F135)","v":28},"184/5","2011/2/2","ملاك نعيم دايخ حبيت","الاول - ج","انثى","الاول",6,5,7,null,null,null,null,null,null,null,3]
[{"$f":"IF(E136=\"\",\"\",SUBTOTAL(3,$E$16:E136))","v":121},{"$f":"COUNTIF($F$16:F136,F136)","v":29},"185/5","2011/10/19","ميعاد حاكم نجم عبد","الاول - ج","انثى","الاول",19,8,6,null,null,null,null,null,null,null,3]
[{"$f":"IF(E137=\"\",\"\",SUBTOTAL(3,$E$16:E137))","v":122},{"$f":"COUNTIF($F$16:F137,F137)","v":30},"186/5","2011/5/29","نرجس حاكم شاكر جعمول","الاول - ج","انثى","الاول",9,1,7,null,null,null,null,null,null,null,3]
[{"$f":"IF(E138=\"\",\"\",SUBTOTAL(3,$E$16:E138))","v":123},{"$f":"COUNTIF($F$16:F138,F138)","v":31},"187/5","2011/7/1","نور الهدى حيدر فرج مشاري","الاول - ج","انثى","الاول",7,0,7,null,null,null,null,null,null,null,3]
[{"$f":"IF(E139=\"\",\"\",SUBTOTAL(3,$E$16:E139))","v":124},{"$f":"COUNTIF($F$16:F139,F139)","v":32},"189/5","2011/4/7","ياسمين سامي عناد غالي","الاول - ج","انثى","الاول",1,3,7,null,null,null,null,null,null,null,3]
[{"$f":"IF(E140=\"\",\"\",SUBTOTAL(3,$E$16:E140))","v":125},{"$f":"COUNTIF($F$16:F140,F140)","v":1},"81/5","2011/2/9","احمد رياض صالح معيوف ","الثاني - أ","ذكر","الثاني",29,4,7,null,null,null,null,null,null,null,5]
[{"$f":"IF(E141=\"\",\"\",SUBTOTAL(3,$E$16:E141))","v":126},{"$f":"COUNTIF($F$16:F141,F141)","v":2},"245/4","2010-09-17","ادريس ناصر حسين جابر","الثاني - أ","ذكر","الثاني",21,9,7,null,null,null,null,null,null,null,5]
[{"$f":"IF(E142=\"\",\"\",SUBTOTAL(3,$E$16:E142))","v":127},{"$f":"COUNTIF($F$16:F142,F142)","v":3},"278/4","2009-07-20","اكرم باسم غالي عجه","الثاني - أ","ذكر","الثاني",18,11,8,null,null,null,null,null,null,null,5]
[{"$f":"IF(E143=\"\",\"\",SUBTOTAL(3,$E$16:E143))","v":128},{"$f":"COUNTIF($F$16:F143,F143)","v":4},"321/4","2008-02-03","باقر ضياء سهيل عبد","الثاني - أ","ذكر","الثاني",5,5,10,null,null,null,null,null,null,null,5]
[{"$f":"IF(E144=\"\",\"\",SUBTOTAL(3,$E$16:E144))","v":129},{"$f":"COUNTIF($F$16:F144,F144)","v":5},"52/5","2010/4/3","باقر هاشم عطيه صالح","الثاني - أ","ذكر",{"$f":"IF(OR(F144=$T$5,F144=$T$6,F144=$T$7,F144=$T$8),\"الاول\",IF(OR(F144=$T$9,F144=$T$10,F144=$T$11,F144=$T$12),\"الثاني\",IF(OR(F144=$T$13,F144=$T$14,F144=$T$15,F144=$T$16),\"الثالث\",IF(OR(F144=$T$17,F144=$T$18,F144=$T$19,F144=$T$20),\"الرابع\",IF(OR(F144=$T$21,F144=$T$22,F144=$T$32,F144=$T$24),\"الخامس\",IF(OR(F144=$T$25,F144=$T$26,F144=$T$27,F144=$T$28),\"السادس\",\"\"))))))","v":"الثاني"},{"$f":"DATEDIF($D144,$M$16,\"md\")","v":5},{"$f":"DATEDIF($D144,$M$16,\"ym\")","v":3},{"$f":"DATEDIF($D144,$M$16,\"y\")","v":8},null,null,null,null,null,null,null,{"$f":"IF(F144=$T$5,1,IF(F144=$T$6,2,IF(F144=$T$7,3,IF(F144=$T$8,4,IF(F144=$T$9,5,IF(F144=$T$10,6,IF(F144=$T$11,7,IF(F144=$T$12,8,IF(F144=$T$13,9,IF(F144=$T$14,10,IF(F144=$T$15,11,IF(F144=$T$16,12,IF(F144=$T$17,13,IF(F144=$T$18,14,IF(F144=$T$19,15,IF(F144=$T$20,16,IF(F144=$T$21,17,IF(F144=$T$22,18,IF(F144=$T$23,19,IF(F144=$T$24,20,IF(F144=$T$25,21,IF(F144=$T$26,22,IF(F144=$T$27,23,IF(F144=$T$28,24,\"\"))))))))))))))))))))))))","v":5}]
[{"$f":"IF(E145=\"\",\"\",SUBTOTAL(3,$E$16:E145))","v":130},{"$f":"COUNTIF($F$16:F145,F145)","v":6},"323/4","2009-08-02","جاسم محمد خشان سفاح","الثاني - أ","ذكر","الثاني",6,11,8,null,null,null,null,null,null,null,5]
[{"$f":"IF(E146=\"\",\"\",SUBTOTAL(3,$E$16:E146))","v":131},{"$f":"COUNTIF($F$16:F146,F146)","v":7},"1/5","2009-10-03","جعفر عدي حاتم راجوج","الثاني - أ","ذكر","الثاني",5,9,8,null,null,null,null,null,null,null,5]
[{"$f":"IF(E147=\"\",\"\",SUBTOTAL(3,$E$16:E147))","v":132},{"$f":"COUNTIF($F$16:F147,F147)","v":8},"368/4","2010/10/19","حسن علي حسين جابر","الثاني - أ","ذكر","الثاني",19,8,7,null,null,null,null,null,null,null,5]
[{"$f":"IF(E148=\"\",\"\",SUBTOTAL(3,$E$16:E148))","v":133},{"$f":"COUNTIF($F$16:F148,F148)","v":9},"66/4","2008-12-11","حسن فالح شهاب حمد","الثاني - أ","ذكر","الثاني",27,6,9,null,null,null,null,null,null,null,5]
[{"$f":"IF(E149=\"\",\"\",SUBTOTAL(3,$E$16:E149))","v":134},{"$f":"COUNTIF($F$16:F149,F149)","v":10},"349/4","2010/10/10","حسن فليح كريم عطشان","الثاني - أ","ذكر","الثاني",28,8,7,null,null,null,null,null,null,null,5]
[{"$f":"IF(E150=\"\",\"\",SUBTOTAL(3,$E$16:E150))","v":135},{"$f":"COUNTIF($F$16:F150,F150)","v":11},"130/4","2009-12-16","حسن مشعل خنجر كمين","الثاني - أ","ذكر","الثاني",22,6,8,null,null,null,null,null,null,null,5]
[{"$f":"IF(E151=\"\",\"\",SUBTOTAL(3,$E$16:E151))","v":136},{"$f":"COUNTIF($F$16:F151,F151)","v":12},"268/4","2011/1/15","حسن منصور نعيم صالح","الثاني - أ","ذكر","الثاني",23,5,7,null,null,null,null,null,null,null,5]
[{"$f":"IF(E152=\"\",\"\",SUBTOTAL(3,$E$16:E152))","v":137},{"$f":"COUNTIF($F$16:F152,F152)","v":13},"377/4","2008-04-15","حسن ياس خضير عباس","الثاني - أ","ذكر","الثاني",23,2,10,null,null,null,null,null,null,null,5]
[{"$f":"IF(E153=\"\",\"\",SUBTOTAL(3,$E$16:E153))","v":138},{"$f":"COUNTIF($F$16:F153,F153)","v":14},"341/4","2009-06-03","حسن ياسر دويج عبد","الثاني - أ","ذكر","الثاني",5,1,9,null,null,null,null,null,null,null,5]
[{"$f":"IF(E154=\"\",\"\",SUBTOTAL(3,$E$16:E154))","v":139},{"$f":"COUNTIF($F$16:F154,F154)","v":15},"252/4","2010/4/8","حسين جابر شلاكه مرزوك","الثاني - أ","ذكر","الثاني",0,3,8,null,null,null,null,null,null,null,5]
[{"$f":"IF(E155=\"\",\"\",SUBTOTAL(3,$E$16:E155))","v":140},{"$f":"COUNTIF($F$16:F155,F155)","v":16},"340/4","2009/2/24","حسين جليل دويج عبد","الثاني - أ","ذكر","الثاني",14,4,9,null,null,null,null,null,null,null,5]
[{"$f":"IF(E156=\"\",\"\",SUBTOTAL(3,$E$16:E156))","v":141},{"$f":"COUNTIF($F$16:F156,F156)","v":17},"370/4","2009-04-04","حسين حسن محمد حربي","الثاني - أ","ذكر","الثاني",4,3,9,null,null,null,null,null,null,null,5]
[{"$f":"IF(E157=\"\",\"\",SUBTOTAL(3,$E$16:E157))","v":142},{"$f":"COUNTIF($F$16:F157,F157)","v":18},"72/5","2009/12/1","حسين داخل كاظم عطيه","الثاني - أ","ذكر","الثاني",7,7,8,null,null,null,null,null,null,null,5]
[{"$f":"IF(E158=\"\",\"\",SUBTOTAL(3,$E$16:E158))","v":143},{"$f":"COUNTIF($F$16:F158,F158)","v":19},"193/4","2010/5/7","حسين سلمان حسين منيخر","الثاني - أ","ذكر","الثاني",1,2,8,null,null,null,null,null,null,null,5]
[{"$f":"IF(E159=\"\",\"\",SUBTOTAL(3,$E$16:E159))","v":144},{"$f":"COUNTIF($F$16:F159,F159)","v":20},"29/5","2009/6/6","حسين علاء حسن عبد","الثاني - أ","ذكر","الثاني",2,1,9,null,null,null,null,null,null,null,5]
[{"$f":"IF(E160=\"\",\"\",SUBTOTAL(3,$E$16:E160))","v":145},{"$f":"COUNTIF($F$16:F160,F160)","v":21},"353/4","2008-02-05","حسين ناظم شاكر جعمول","الثاني - أ","ذكر","الثاني",3,5,10,null,null,null,null,null,null,null,5]
[{"$f":"IF(E161=\"\",\"\",SUBTOTAL(3,$E$16:E161))","v":146},{"$f":"COUNTIF($F$16:F161,F161)","v":22},"335/4","2011/1/15","حسين نعيم كريم عطشان","الثاني - أ","ذكر","الثاني",23,5,7,null,null,null,null,null,null,null,5]
[{"$f":"IF(E162=\"\",\"\",SUBTOTAL(3,$E$16:E162))","v":147},{"$f":"COUNTIF($F$16:F162,F162)","v":23},"315/4","2009/12/30","حسين يحيى جاسم كدوش","الثاني - أ","ذكر","الثاني",8,6,8,null,null,null,null,null,null,null,5]
[{"$f":"IF(E163=\"\",\"\",SUBTOTAL(3,$E$16:E163))","v":148},{"$f":"COUNTIF($F$16:F163,F163)","v":24},"62/5","2008/8/9","حمزه مرتضى عزيز حمد","الثاني - أ","ذكر","الثاني",29,10,9,null,null,null,null,null,null,null,5]
[{"$f":"IF(E164=\"\",\"\",SUBTOTAL(3,$E$16:E164))","v":149},{"$f":"COUNTIF($F$16:F164,F164)","v":25},"285/4","2010-03-02","حميد خالد كامل جعمول","الثاني - أ","ذكر","الثاني",6,4,8,null,null,null,null,null,null,null,5]
[{"$f":"IF(E165=\"\",\"\",SUBTOTAL(3,$E$16:E165))","v":150},{"$f":"COUNTIF($F$16:F165,F165)","v":26},"24/5","2010/7/4","حيدر جبار كاظم ساجت","الثاني - أ","ذكر","الثاني",4,0,8,null,null,null,null,null,null,null,5]
[{"$f":"IF(E166=\"\",\"\",SUBTOTAL(3,$E$16:E166))","v":151},{"$f":"COUNTIF($F$16:F166,F166)","v":27},"139/4","2009-08-02","حيدر عيسى جاسم تعبان","الثاني - أ","ذكر","الثاني",6,11,8,null,null,null,null,null,null,null,5]
[{"$f":"IF(E167=\"\",\"\",SUBTOTAL(3,$E$16:E167))","v":152},{"$f":"COUNTIF($F$16:F167,F167)","v":28},"344/4","2010/5/21","ذو الفقار ثائر رحيم كاظم","الثاني - أ","ذكر","الثاني",17,1,8,null,null,null,null,null,null,null,5]
[{"$f":"IF(E168=\"\",\"\",SUBTOTAL(3,$E$16:E168))","v":153},{"$f":"COUNTIF($F$16:F168,F168)","v":29},"274/4","2008-12-15","رضا محمد مندوب حرجان","الثاني - أ","ذكر","الثاني",23,6,9,null,null,null,null,null,null,null,5]
[{"$f":"IF(E169=\"\",\"\",SUBTOTAL(3,$E$16:E169))","v":154},{"$f":"COUNTIF($F$16:F169,F169)","v":30},"22/5","2010/8/5","زين العابدين سعود عباس حسين","الثاني - أ","ذكر","الثاني",3,11,7,null,null,null,null,null,null,null,5]
[{"$f":"IF(E170=\"\",\"\",SUBTOTAL(3,$E$16:E170))","v":155},{"$f":"COUNTIF($F$16:F170,F170)","v":31},"50/5","2009-05-03","سبطين سلام فاضل نايف","الثاني - أ","ذكر","الثاني",5,2,9,null,null,null,null,null,null,null,5]
[{"$f":"IF(E171=\"\",\"\",SUBTOTAL(3,$E$16:E171))","v":156},{"$f":"COUNTIF($F$16:F171,F171)","v":32},"58/5","2010/11/11","صادق حسين كريم صالح","الثاني - أ","ذكر","الثاني",27,7,7,null,null,null,null,null,null,null,5]
[{"$f":"IF(E172=\"\",\"\",SUBTOTAL(3,$E$16:E172))","v":157},{"$f":"COUNTIF($F$16:F172,F172)","v":33},"12/5","2008/12/9","طه هاتف كريم كاظم","الثاني - أ","ذكر","الثاني",29,6,9,null,null,null,null,null,null,null,5]
[{"$f":"IF(E173=\"\",\"\",SUBTOTAL(3,$E$16:E173))","v":158},{"$f":"COUNTIF($F$16:F173,F173)","v":34},"300/4","2010/3/8","عباس ستار حسين كامل","الثاني - أ","ذكر","الثاني",0,4,8,null,null,null,null,null,null,null,5]
[{"$f":"IF(E174=\"\",\"\",SUBTOTAL(3,$E$16:E174))","v":159},{"$f":"COUNTIF($F$16:F174,F174)","v":35},"4/5","2010/6/3","عباس سجاد جابر كاظم","الثاني - أ","ذكر","الثاني",5,1,8,null,null,null,null,null,null,null,5]
[{"$f":"IF(E175=\"\",\"\",SUBTOTAL(3,$E$16:E175))","v":160},{"$f":"COUNTIF($F$16:F175,F175)","v":36},"40/5","2009-12-18","عباس سعدون هادي عبيد","الثاني - أ","ذكر","الثاني",20,6,8,null,null,null,null,null,null,null,5]
[{"$f":"IF(E176=\"\",\"\",SUBTOTAL(3,$E$16:E176))","v":161},{"$f":"COUNTIF($F$16:F176,F176)","v":37},"337/4","2010/6/19","عبد الرحمن شعلان جاسم راجوج","الثاني - أ","ذكر","الثاني",19,0,8,null,null,null,null,null,null,null,5]
[{"$f":"IF(E177=\"\",\"\",SUBTOTAL(3,$E$16:E177))","v":162},{"$f":"COUNTIF($F$16:F177,F177)","v":38},"65/5","2010/3/16","علي احمد جمعه مري","الثاني - أ","ذكر","الثاني",22,3,8,null,null,null,null,null,null,null,5]
[{"$f":"IF(E178=\"\",\"\",SUBTOTAL(3,$E$16:E178))","v":163},{"$f":"COUNTIF($F$16:F178,F178)","v":39},"10/5","2010/5/3","علي الأكبر كريم حنون نجم","الثاني - أ","ذكر","الثاني",5,2,8,null,null,null,null,null,null,null,5]
[{"$f":"IF(E179=\"\",\"\",SUBTOTAL(3,$E$16:E179))","v":164},{"$f":"COUNTIF($F$16:F179,F179)","v":40},"35/5","2010/3/4","علي امجد كريم عطيه","الثاني - أ","ذكر","الثاني",4,4,8,null,null,null,null,null,null,null,5]
[{"$f":"IF(E180=\"\",\"\",SUBTOTAL(3,$E$16:E180))","v":165},{"$f":"COUNTIF($F$16:F180,F180)","v":41},"34/5","2010/4/14","علي حسن فليح ابو شنه","الثاني - أ","ذكر","الثاني",24,2,8,null,null,null,null,null,null,null,5]
[{"$f":"IF(E181=\"\",\"\",SUBTOTAL(3,$E$16:E181))","v":166},{"$f":"COUNTIF($F$16:F181,F181)","v":42},"51/5","2010/11/25","علي حسن هادي عبد","الثاني - أ","ذكر","الثاني",13,7,7,null,null,null,null,null,null,null,5]
[{"$f":"IF(E182=\"\",\"\",SUBTOTAL(3,$E$16:E182))","v":167},{"$f":"COUNTIF($F$16:F182,F182)","v":43},"66/5","2010/9/3","علي رائد كاظم عبيد","الثاني - أ","ذكر","الثاني",5,10,7,null,null,null,null,null,null,null,5]
[{"$f":"IF(E183=\"\",\"\",SUBTOTAL(3,$E$16:E183))","v":168},{"$f":"COUNTIF($F$16:F183,F183)","v":44},"343/4","2010/10/8","علي سامي صالح معيوف","الثاني - أ","ذكر","الثاني",0,9,7,null,null,null,null,null,null,null,5]
[{"$f":"IF(E184=\"\",\"\",SUBTOTAL(3,$E$16:E184))","v":169},{"$f":"COUNTIF($F$16:F184,F184)","v":45},"255/4","2010/2/20","علي سلطان بلبول جبل","الثاني - أ","ذكر","الثاني",18,4,8,null,null,null,null,null,null,null,5]
[{"$f":"IF(E185=\"\",\"\",SUBTOTAL(3,$E$16:E185))","v":170},{"$f":"COUNTIF($F$16:F185,F185)","v":46},"38/5","2010/3/23","علي صادق عبد الخضر عبد النبي","الثاني - أ","ذكر","الثاني",15,3,8,null,null,null,null,null,null,null,5]
[{"$f":"IF(E186=\"\",\"\",SUBTOTAL(3,$E$16:E186))","v":171},{"$f":"COUNTIF($F$16:F186,F186)","v":47},"351/4","2009-06-03","علي فيصل تكليف شاكر","الثاني - أ","ذكر","الثاني",5,1,9,null,null,null,null,null,null,null,5]
[{"$f":"IF(E187=\"\",\"\",SUBTOTAL(3,$E$16:E187))","v":172},{"$f":"COUNTIF($F$16:F187,F187)","v":48},"47/5","2010/3/16","علي كامل جبار عجه","الثاني - أ","ذكر","الثاني",22,3,8,null,null,null,null,null,null,null,5]
[{"$f":"IF(E188=\"\",\"\",SUBTOTAL(3,$E$16:E188))","v":173},{"$f":"COUNTIF($F$16:F188,F188)","v":49},"298/4","2010/11/11","كرار حسن علوان عبد","الثاني - أ","ذكر","الثاني",27,7,7,null,null,null,null,null,null,null,5]
[{"$f":"IF(E189=\"\",\"\",SUBTOTAL(3,$E$16:E189))","v":174},{"$f":"COUNTIF($F$16:F189,F189)","v":50},"320/4","2010/11/11","كرار شهاب شهد عبود","الثاني - أ","ذكر","الثاني",27,7,7,null,null,null,null,null,null,null,5]
[{"$f":"IF(E190=\"\",\"\",SUBTOTAL(3,$E$16:E190))","v":175},{"$f":"COUNTIF($F$16:F190,F190)","v":51},"295/4","2009-06-02","كرار ياسر ظاهر مرزوك","الثاني - أ","ذكر","الثاني",6,1,9,null,null,null,null,null,null,null,5]
[{"$f":"IF(E191=\"\",\"\",SUBTOTAL(3,$E$16:E191))","v":176},{"$f":"COUNTIF($F$16:F191,F191)","v":52},"68/5","2008-11-22","مالك جمال سهيل عبد","الثاني - أ","ذكر","الثاني",16,7,9,null,null,null,null,null,null,null,5]
[{"$f":"IF(E192=\"\",\"\",SUBTOTAL(3,$E$16:E192))","v":177},{"$f":"COUNTIF($F$16:F192,F192)","v":53},"33/5","2009-04-05","محمد صادق احمد حسن عوض","الثاني - أ","ذكر","الثاني",3,3,9,null,null,null,null,null,null,null,5]
[{"$f":"IF(E193=\"\",\"\",SUBTOTAL(3,$E$16:E193))","v":178},{"$f":"COUNTIF($F$16:F193,F193)","v":54},"73/5","2010/7/16","محمد غازي حيدر حسن","الثاني - أ","ذكر","الثاني",22,11,7,null,null,null,null,null,null,null,5]
[{"$f":"IF(E194=\"\",\"\",SUBTOTAL(3,$E$16:E194))","v":179},{"$f":"COUNTIF($F$16:F194,F194)","v":55},"71/5","2010/10/7","مصطفى احمد جميل كريم","الثاني - أ","ذكر","الثاني",1,9,7,null,null,null,null,null,null,null,5]
[{"$f":"IF(E195=\"\",\"\",SUBTOTAL(3,$E$16:E195))","v":180},{"$f":"COUNTIF($F$16:F195,F195)","v":1},"373/5","2010/3/20","محمد علي صالح غاوي","الثاني - ب","ذكر","الثاني",18,3,8,null,null,null,null,null,null,null,6]
[{"$f":"IF(E196=\"\",\"\",SUBTOTAL(3,$E$16:E196))","v":181},{"$f":"COUNTIF($F$16:F196,F196)","v":2},"364/4","2010/10/2","محمد ناصر خماط كمين","الثاني - ب","ذكر","الثاني",6,9,7,null,null,null,null,null,null,null,6]
[{"$f":"IF(E197=\"\",\"\",SUBTOTAL(3,$E$16:E197))","v":182},{"$f":"COUNTIF($F$16:F197,F197)","v":3},"36/5","2010/8/17","مصطفى كمال فليح ابو شنه","الثاني - ب","ذكر","الثاني",21,10,7,null,null,null,null,null,null,null,6]
[{"$f":"IF(E198=\"\",\"\",SUBTOTAL(3,$E$16:E198))","v":183},{"$f":"COUNTIF($F$16:F198,F198)","v":4},"357/4","2011/1/15","منتظر علي حسين منيخر","الثاني - ب","ذكر","الثاني",23,5,7,null,null,null,null,null,null,null,6]
[{"$f":"IF(E199=\"\",\"\",SUBTOTAL(3,$E$16:E199))","v":184},{"$f":"COUNTIF($F$16:F199,F199)","v":5},"31/5","2010/3/1","منتظر مالك عطيه  كاظم ","الثاني - ب","ذكر","الثاني",7,4,8,null,null,null,null,null,null,null,6]
[{"$f":"IF(E200=\"\",\"\",SUBTOTAL(3,$E$16:E200))","v":185},{"$f":"COUNTIF($F$16:F200,F200)","v":6},"288/4","2010/8/29","منتظر محمد جمعه مري","الثاني - ب","ذكر","الثاني",9,10,7,null,null,null,null,null,null,null,6]
[{"$f":"IF(E201=\"\",\"\",SUBTOTAL(3,$E$16:E201))","v":186},{"$f":"COUNTIF($F$16:F201,F201)","v":7},"277/4","2010/8/20","مهدي حسن فليح وعد","الثاني - ب","ذكر","الثاني",18,10,7,null,null,null,null,null,null,null,6]
[{"$f":"IF(E202=\"\",\"\",SUBTOTAL(3,$E$16:E202))","v":187},{"$f":"COUNTIF($F$16:F202,F202)","v":8},"80/5","2009-08-18","ناطق وسام كريم جهادي","الثاني - ب","ذكر","الثاني",20,10,8,null,null,null,null,null,null,null,6]
[{"$f":"IF(E203=\"\",\"\",SUBTOTAL(3,$E$16:E203))","v":188},{"$f":"COUNTIF($F$16:F203,F203)","v":9},"146/4","2008-02-01","وليد ثائر فيصل خماط","الثاني - ب","ذكر","الثاني",7,5,10,null,null,null,null,null,null,null,6]
[{"$f":"IF(E204=\"\",\"\",SUBTOTAL(3,$E$16:E204))","v":189},{"$f":"COUNTIF($F$16:F204,F204)","v":10},"211/4","2008-08-06","احلام ياسر ظاهر مرزوك","الثاني - ب","انثى","الثاني",2,11,9,null,null,null,null,null,null,null,6]
[{"$f":"IF(E205=\"\",\"\",SUBTOTAL(3,$E$16:E205))","v":190},{"$f":"COUNTIF($F$16:F205,F205)","v":11},"37/5","2009-12-03","اسيل عباس حلو شلاكه","الثاني - ب","انثى","الثاني",5,7,8,null,null,null,null,null,null,null,6]
[{"$f":"IF(E206=\"\",\"\",SUBTOTAL(3,$E$16:E206))","v":191},{"$f":"COUNTIF($F$16:F206,F206)","v":12},"11/5","2008-02-01","اطياف حاكم نجم عبد","الثاني - ب","انثى","الثاني",7,5,10,null,null,null,null,null,null,null,6]
[{"$f":"IF(E207=\"\",\"\",SUBTOTAL(3,$E$16:E207))","v":192},{"$f":"COUNTIF($F$16:F207,F207)","v":13},"297/4","2010/5/5","الاء اياد حسين كامل","الثاني - ب","انثى","الثاني",3,2,8,null,null,null,null,null,null,null,6]
[{"$f":"IF(E208=\"\",\"\",SUBTOTAL(3,$E$16:E208))","v":193},{"$f":"COUNTIF($F$16:F208,F208)","v":14},"79/5","2009/6/27","الطاف عمار علوان عبد","الثاني - ب","انثى",{"$f":"IF(OR(F208=$T$5,F208=$T$6,F208=$T$7,F208=$T$8),\"الاول\",IF(OR(F208=$T$9,F208=$T$10,F208=$T$11,F208=$T$12),\"الثاني\",IF(OR(F208=$T$13,F208=$T$14,F208=$T$15,F208=$T$16),\"الثالث\",IF(OR(F208=$T$17,F208=$T$18,F208=$T$19,F208=$T$20),\"الرابع\",IF(OR(F208=$T$21,F208=$T$22,F208=$T$32,F208=$T$24),\"الخامس\",IF(OR(F208=$T$25,F208=$T$26,F208=$T$27,F208=$T$28),\"السادس\",\"\"))))))","v":"الثاني"},{"$f":"DATEDIF($D208,$M$16,\"md\")","v":11},{"$f":"DATEDIF($D208,$M$16,\"ym\")","v":0},{"$f":"DATEDIF($D208,$M$16,\"y\")","v":9},null,null,null,null,null,null,null,{"$f":"IF(F208=$T$5,1,IF(F208=$T$6,2,IF(F208=$T$7,3,IF(F208=$T$8,4,IF(F208=$T$9,5,IF(F208=$T$10,6,IF(F208=$T$11,7,IF(F208=$T$12,8,IF(F208=$T$13,9,IF(F208=$T$14,10,IF(F208=$T$15,11,IF(F208=$T$16,12,IF(F208=$T$17,13,IF(F208=$T$18,14,IF(F208=$T$19,15,IF(F208=$T$20,16,IF(F208=$T$21,17,IF(F208=$T$22,18,IF(F208=$T$23,19,IF(F208=$T$24,20,IF(F208=$T$25,21,IF(F208=$T$26,22,IF(F208=$T$27,23,IF(F208=$T$28,24,\"\"))))))))))))))))))))))))","v":6}]
[{"$f":"IF(E209=\"\",\"\",SUBTOTAL(3,$E$16:E209))","v":194},{"$f":"COUNTIF($F$16:F209,F209)","v":15},"21/5","2010-01-02","امامه مفتن غازي صالح","الثاني - ب","انثى","الثاني",6,6,8,null,null,null,null,null,null,null,6]
[{"$f":"IF(E210=\"\",\"\",SUBTOTAL(3,$E$16:E210))","v":195},{"$f":"COUNTIF($F$16:F210,F210)","v":16},"292/4","2010-09-22","انوار احمد ظاهر مرزوك","الثاني - ب","انثى","الثاني",16,9,7,null,null,null,null,null,null,null,6]
[{"$f":"IF(E211=\"\",\"\",SUBTOTAL(3,$E$16:E211))","v":196},{"$f":"COUNTIF($F$16:F211,F211)","v":17},"338/4","2010/6/21","ايات عائد كاظم عبيد","الثاني - ب","انثى","الثاني",17,0,8,null,null,null,null,null,null,null,6]
[{"$f":"IF(E212=\"\",\"\",SUBTOTAL(3,$E$16:E212))","v":197},{"$f":"COUNTIF($F$16:F212,F212)","v":18},"372/4","2009-03-02","ايه احمد صالح غاوي ","الثاني - ب","انثى","الثاني",6,4,9,null,null,null,null,null,null,null,6]
[{"$f":"IF(E213=\"\",\"\",SUBTOTAL(3,$E$16:E213))","v":198},{"$f":"COUNTIF($F$16:F213,F213)","v":19},"266/4","2010/10/8","ايه تركي خنجر كمين","الثاني - ب","انثى","الثاني",0,9,7,null,null,null,null,null,null,null,6]
[{"$f":"IF(E214=\"\",\"\",SUBTOTAL(3,$E$16:E214))","v":199},{"$f":"COUNTIF($F$16:F214,F214)","v":20},"348/4","2010/9/14","ايه رائد جميل كاتي","الثاني - ب","انثى","الثاني",24,9,7,null,null,null,null,null,null,null,6]
[{"$f":"IF(E215=\"\",\"\",SUBTOTAL(3,$E$16:E215))","v":200},{"$f":"COUNTIF($F$16:F215,F215)","v":21},"63/5","2009/11/9","آيات يوسف حواس مرزوك","الثاني - ب","انثى","الثاني",29,7,8,null,null,null,null,null,null,null,6]
[{"$f":"IF(E216=\"\",\"\",SUBTOTAL(3,$E$16:E216))","v":201},{"$f":"COUNTIF($F$16:F216,F216)","v":22},"2/5","2007-10-13","بتول احمد سلطان كريم","الثاني - ب","انثى","الثاني",25,8,10,null,null,null,null,null,null,null,6]
[{"$f":"IF(E217=\"\",\"\",SUBTOTAL(3,$E$16:E217))","v":202},{"$f":"COUNTIF($F$16:F217,F217)","v":23},"363/4","2010/7/2","بنين حسين كامل جاسم","الثاني - ب","انثى","الثاني",6,0,8,null,null,null,null,null,null,null,6]
[{"$f":"IF(E218=\"\",\"\",SUBTOTAL(3,$E$16:E218))","v":203},{"$f":"COUNTIF($F$16:F218,F218)","v":24},"69/5","2010/11/17","بنين علي كزار حمد","الثاني - ب","انثى","الثاني",21,7,7,null,null,null,null,null,null,null,6]
[{"$f":"IF(E219=\"\",\"\",SUBTOTAL(3,$E$16:E219))","v":204},{"$f":"COUNTIF($F$16:F219,F219)","v":25},"13/5","2010/7/4","بيداء وليد جواد صليبي","الثاني - ب","انثى","الثاني",4,0,8,null,null,null,null,null,null,null,6]
[{"$f":"IF(E220=\"\",\"\",SUBTOTAL(3,$E$16:E220))","v":205},{"$f":"COUNTIF($F$16:F220,F220)","v":26},"6/5","2009/9/21","تبارك عامر جبر شلاكه","الثاني - ب","انثى","الثاني",17,9,8,null,null,null,null,null,null,null,6]
[{"$f":"IF(E221=\"\",\"\",SUBTOTAL(3,$E$16:E221))","v":206},{"$f":"COUNTIF($F$16:F221,F221)","v":27},"39/5","2011/1/26","حميده حسن غازي صالح","الثاني - ب","انثى","الثاني",12,5,7,null,null,null,null,null,null,null,6]
[{"$f":"IF(E222=\"\",\"\",SUBTOTAL(3,$E$16:E222))","v":207},{"$f":"COUNTIF($F$16:F222,F222)","v":28},"346/4","2010/8/13","حميده محمد جابر ناصر","الثاني - ب","انثى","الثاني",25,10,7,null,null,null,null,null,null,null,6]
[{"$f":"IF(E223=\"\",\"\",SUBTOTAL(3,$E$16:E223))","v":208},{"$f":"COUNTIF($F$16:F223,F223)","v":29},"28/5","2009/9/17","حوراء كاظم مظلوم جعمول","الثاني - ب","انثى","الثاني",21,9,8,null,null,null,null,null,null,null,6]
[{"$f":"IF(E224=\"\",\"\",SUBTOTAL(3,$E$16:E224))","v":209},{"$f":"COUNTIF($F$16:F224,F224)","v":30},"138/4","2010/6/25","دعاء علي خماط كمين","الثاني - ب","انثى","الثاني",13,0,8,null,null,null,null,null,null,null,6]
[{"$f":"IF(E225=\"\",\"\",SUBTOTAL(3,$E$16:E225))","v":210},{"$f":"COUNTIF($F$16:F225,F225)","v":31},"294/4","2010/3/25","دعاء كارون رحيم عجه","الثاني - ب","انثى","الثاني",13,3,8,null,null,null,null,null,null,null,6]
[{"$f":"IF(E226=\"\",\"\",SUBTOTAL(3,$E$16:E226))","v":211},{"$f":"COUNTIF($F$16:F226,F226)","v":32},"57/5","2008-05-11","رقيه امر عبد معيوف","الثاني - ب","انثى","الثاني",27,1,10,null,null,null,null,null,null,null,6]
[{"$f":"IF(E227=\"\",\"\",SUBTOTAL(3,$E$16:E227))","v":212},{"$f":"COUNTIF($F$16:F227,F227)","v":33},"345/4","2009-05-05","رقيه رافد جميل كاتي","الثاني - ب","انثى","الثاني",3,2,9,null,null,null,null,null,null,null,6]
[{"$f":"IF(E228=\"\",\"\",SUBTOTAL(3,$E$16:E228))","v":213},{"$f":"COUNTIF($F$16:F228,F228)","v":34},"369/4","2010/8/31","رقيه نعيم دايخ حبيت","الثاني - ب","انثى","الثاني",7,10,7,null,null,null,null,null,null,null,6]
[{"$f":"IF(E229=\"\",\"\",SUBTOTAL(3,$E$16:E229))","v":214},{"$f":"COUNTIF($F$16:F229,F229)","v":35},"376/4","2009/6/20","رقيه ياس خضير عباس","الثاني - ب","انثى","الثاني",18,0,9,null,null,null,null,null,null,null,6]
[{"$f":"IF(E230=\"\",\"\",SUBTOTAL(3,$E$16:E230))","v":215},{"$f":"COUNTIF($F$16:F230,F230)","v":36},"3/5","2010/2/24","زهراء احمد دريح علوان","الثاني - ب","انثى","الثاني",14,4,8,null,null,null,null,null,null,null,6]
[{"$f":"IF(E231=\"\",\"\",SUBTOTAL(3,$E$16:E231))","v":216},{"$f":"COUNTIF($F$16:F231,F231)","v":37},"67/5","2009/2/24","زهراء جاسم دايخ حبيت","الثاني - ب","انثى","الثاني",14,4,9,null,null,null,null,null,null,null,6]
[{"$f":"IF(E232=\"\",\"\",SUBTOTAL(3,$E$16:E232))","v":217},{"$f":"COUNTIF($F$16:F232,F232)","v":38},"240/4","2010/2/24","زهراء حاتم سعد عبود","الثاني - ب","انثى","الثاني",14,4,8,null,null,null,null,null,null,null,6]
[{"$f":"IF(E233=\"\",\"\",SUBTOTAL(3,$E$16:E233))","v":218},{"$f":"COUNTIF($F$16:F233,F233)","v":39},"342/4","2010/11/10","زهراء حاجم عبد الحسين مظلوم","الثاني - ب","انثى","الثاني",28,7,7,null,null,null,null,null,null,null,6]
[{"$f":"IF(E234=\"\",\"\",SUBTOTAL(3,$E$16:E234))","v":219},{"$f":"COUNTIF($F$16:F234,F234)","v":40},"221/4","2009-08-04","زهراء سعد عناد ساجت","الثاني - ب","انثى","الثاني",4,11,8,null,null,null,null,null,null,null,6]
[{"$f":"IF(E235=\"\",\"\",SUBTOTAL(3,$E$16:E235))","v":220},{"$f":"COUNTIF($F$16:F235,F235)","v":41},"336/4","2010/9/20","زهراء عبد القادر كريم عطشان","الثاني - ب","انثى","الثاني",18,9,7,null,null,null,null,null,null,null,6]
[{"$f":"IF(E236=\"\",\"\",SUBTOTAL(3,$E$16:E236))","v":221},{"$f":"COUNTIF($F$16:F236,F236)","v":42},"32/5","2008-06-05","زهراء علي شاكر جعمول","الثاني - ب","انثى","الثاني",3,1,10,null,null,null,null,null,null,null,6]
[{"$f":"IF(E237=\"\",\"\",SUBTOTAL(3,$E$16:E237))","v":222},{"$f":"COUNTIF($F$16:F237,F237)","v":43},"20/5","2010/8/7","زهراء فارس ناظم حمود","الثاني - ب","انثى","الثاني",1,11,7,null,null,null,null,null,null,null,6]
[{"$f":"IF(E238=\"\",\"\",SUBTOTAL(3,$E$16:E238))","v":223},{"$f":"COUNTIF($F$16:F238,F238)","v":44},"374/4","2010/2/18","زهراء وسام داخل كريم","الثاني - ب","انثى","الثاني",20,4,8,null,null,null,null,null,null,null,6]
[{"$f":"IF(E239=\"\",\"\",SUBTOTAL(3,$E$16:E239))","v":224},{"$f":"COUNTIF($F$16:F239,F239)","v":45},"81/4","2010/7/13","زينب ارحيم كريم عطشان ","الثاني - ب","انثى","الثاني",25,11,7,null,null,null,null,null,null,null,6]
[{"$f":"IF(E240=\"\",\"\",SUBTOTAL(3,$E$16:E240))","v":225},{"$f":"COUNTIF($F$16:F240,F240)","v":46},"18/5","2009/11/24","زينب جاسم محمد كاطع","الثاني - ب","انثى","الثاني",14,7,8,null,null,null,null,null,null,null,6]
[{"$f":"IF(E241=\"\",\"\",SUBTOTAL(3,$E$16:E241))","v":226},{"$f":"COUNTIF($F$16:F241,F241)","v":47},"44/5","8/3/2007","زينب علي حسين مهدي ","الثاني - ب","انثى","الثاني",0,4,11,null,null,null,null,null,null,null,6]
[{"$f":"IF(E242=\"\",\"\",SUBTOTAL(3,$E$16:E242))","v":227},{"$f":"COUNTIF($F$16:F242,F242)","v":48},"253/4","2010/5/19","زينب كاظم دويج عبد","الثاني - ب","انثى","الثاني",19,1,8,null,null,null,null,null,null,null,6]
[{"$f":"IF(E243=\"\",\"\",SUBTOTAL(3,$E$16:E243))","v":228},{"$f":"COUNTIF($F$16:F243,F243)","v":49},"366/4","2010/2/2","سجى فهد عزيز عبد الحسن","الثاني - ب","انثى","الثاني",6,5,8,null,null,null,null,null,null,null,6]
[{"$f":"IF(E244=\"\",\"\",SUBTOTAL(3,$E$16:E244))","v":229},{"$f":"COUNTIF($F$16:F244,F244)","v":50},"25/5","2009-11-05","سوسن سالم رحيم عجه","الثاني - ب","انثى","الثاني",3,8,8,null,null,null,null,null,null,null,6]
[{"$f":"IF(E245=\"\",\"\",SUBTOTAL(3,$E$16:E245))","v":230},{"$f":"COUNTIF($F$16:F245,F245)","v":1},"375/4","2010/7/18","شهد عادل خضير عباس","الثاني - ج","انثى","الثاني",20,11,7,null,null,null,null,null,null,null,7]
[{"$f":"IF(E246=\"\",\"\",SUBTOTAL(3,$E$16:E246))","v":231},{"$f":"COUNTIF($F$16:F246,F246)","v":2},"19/5","2009/12/28","طوعه علي ظاهر مرزوك","الثاني - ج","انثى","الثاني",10,6,8,null,null,null,null,null,null,null,7]
[{"$f":"IF(E247=\"\",\"\",SUBTOTAL(3,$E$16:E247))","v":232},{"$f":"COUNTIF($F$16:F247,F247)","v":3},"75/5","2009/9/25","غدير جميل عبد الله جبار","الثاني - ج","انثى","الثاني",13,9,8,null,null,null,null,null,null,null,7]
[{"$f":"IF(E248=\"\",\"\",SUBTOTAL(3,$E$16:E248))","v":233},{"$f":"COUNTIF($F$16:F248,F248)","v":4},"48/5","2009/9/7","فاطمه بدر نعيم صالح","الثاني - ج","انثى","الثاني",1,10,8,null,null,null,null,null,null,null,7]
[{"$f":"IF(E249=\"\",\"\",SUBTOTAL(3,$E$16:E249))","v":234},{"$f":"COUNTIF($F$16:F249,F249)","v":5},"15/5","2010/12/11","فاطمه جمعه ظاهر مرزوك","الثاني - ج","انثى","الثاني",27,6,7,null,null,null,null,null,null,null,7]
[{"$f":"IF(E250=\"\",\"\",SUBTOTAL(3,$E$16:E250))","v":235},{"$f":"COUNTIF($F$16:F250,F250)","v":6},"70/5","2010/2/15","فاطمه حاكم شاكر جعمول","الثاني - ج","انثى","الثاني",23,4,8,null,null,null,null,null,null,null,7]
[{"$f":"IF(E251=\"\",\"\",SUBTOTAL(3,$E$16:E251))","v":236},{"$f":"COUNTIF($F$16:F251,F251)","v":7},"27/5","2010/5/29","فاطمه حسن فليح وعد","الثاني - ج","انثى","الثاني",9,1,8,null,null,null,null,null,null,null,7]
[{"$f":"IF(E252=\"\",\"\",SUBTOTAL(3,$E$16:E252))","v":237},{"$f":"COUNTIF($F$16:F252,F252)","v":8},"359/5","2009/12/15","فاطمه حمود خماط كمين","الثاني - ج","انثى","الثاني",23,6,8,null,null,null,null,null,null,null,7]
[{"$f":"IF(E253=\"\",\"\",SUBTOTAL(3,$E$16:E253))","v":238},{"$f":"COUNTIF($F$16:F253,F253)","v":9},"78/5","2010/11/3","فاطمه داود سلمان راجوج","الثاني - ج","انثى","الثاني",5,8,7,null,null,null,null,null,null,null,7]
[{"$f":"IF(E254=\"\",\"\",SUBTOTAL(3,$E$16:E254))","v":239},{"$f":"COUNTIF($F$16:F254,F254)","v":10},"55/5","2010/6/2","فاطمه رائد عصيب علي","الثاني - ج","انثى","الثاني",6,1,8,null,null,null,null,null,null,null,7]
[{"$f":"IF(E255=\"\",\"\",SUBTOTAL(3,$E$16:E255))","v":240},{"$f":"COUNTIF($F$16:F255,F255)","v":11},"293/4","2010-02-08","فاطمه علاء رحيم عجه","الثاني - ج","انثى","الثاني",0,5,8,null,null,null,null,null,null,null,7]
[{"$f":"IF(E256=\"\",\"\",SUBTOTAL(3,$E$16:E256))","v":241},{"$f":"COUNTIF($F$16:F256,F256)","v":12},"196/4","2010/9/23","فاطمه علي حسين منيخر","الثاني - ج","انثى","الثاني",15,9,7,null,null,null,null,null,null,null,7]
[{"$f":"IF(E257=\"\",\"\",SUBTOTAL(3,$E$16:E257))","v":242},{"$f":"COUNTIF($F$16:F257,F257)","v":13},"347/5","2009-07-20","فاطمه علي شلاكه مرزوك","الثاني - ج","انثى","الثاني",18,11,8,null,null,null,null,null,null,null,7]
[{"$f":"IF(E258=\"\",\"\",SUBTOTAL(3,$E$16:E258))","v":243},{"$f":"COUNTIF($F$16:F258,F258)","v":14},"77/5","2008-12-21","فاطمه محمد سلطان كريم","الثاني - ج","انثى","الثاني",17,6,9,null,null,null,null,null,null,null,7]
[{"$f":"IF(E259=\"\",\"\",SUBTOTAL(3,$E$16:E259))","v":244},{"$f":"COUNTIF($F$16:F259,F259)","v":15},"53/5","2010/11/30","فاطمه نعيم مزهر جابر","الثاني - ج","انثى","الثاني",8,7,7,null,null,null,null,null,null,null,7]
[{"$f":"IF(E260=\"\",\"\",SUBTOTAL(3,$E$16:E260))","v":245},{"$f":"COUNTIF($F$16:F260,F260)","v":16},"60/5","2010/5/25","مروه بشير نعمه عبيد","الثاني - ج","انثى","الثاني",13,1,8,null,null,null,null,null,null,null,7]
[{"$f":"IF(E261=\"\",\"\",SUBTOTAL(3,$E$16:E261))","v":246},{"$f":"COUNTIF($F$16:F261,F261)","v":17},"17/5","2010/9/8","معصومه ابراهيم كريم زغير","الثاني - ج","انثى","الثاني",0,10,7,null,null,null,null,null,null,null,7]
[{"$f":"IF(E262=\"\",\"\",SUBTOTAL(3,$E$16:E262))","v":247},{"$f":"COUNTIF($F$16:F262,F262)","v":18},"365/4","2010/8/17","منار علي عزيز عبد الحسن","الثاني - ج","انثى","الثاني",21,10,7,null,null,null,null,null,null,null,7]
[{"$f":"IF(E263=\"\",\"\",SUBTOTAL(3,$E$16:E263))","v":248},{"$f":"COUNTIF($F$16:F263,F263)","v":19},"174/4","2010/6/19","نرجس احمد دريح علوان","الثاني - ج","انثى","الثاني",19,0,8,null,null,null,null,null,null,null,7]
[{"$f":"IF(E264=\"\",\"\",SUBTOTAL(3,$E$16:E264))","v":249},{"$f":"COUNTIF($F$16:F264,F264)","v":20},"334/4","2010/7/4","نرجس بشير فيصل خماط","الثاني - ج","انثى","الثاني",4,0,8,null,null,null,null,null,null,null,7]
[{"$f":"IF(E265=\"\",\"\",SUBTOTAL(3,$E$16:E265))","v":250},{"$f":"COUNTIF($F$16:F265,F265)","v":21},"144/4","2008-03-05","نرجس حامد ارحيم كريم","الثاني - ج","انثى","الثاني",3,4,10,null,null,null,null,null,null,null,7]
[{"$f":"IF(E266=\"\",\"\",SUBTOTAL(3,$E$16:E266))","v":251},{"$f":"COUNTIF($F$16:F266,F266)","v":22},"16/5","2009/10/1","نرجس مسلم محمد كاطع","الثاني - ج","انثى","الثاني",7,9,8,null,null,null,null,null,null,null,7]
[{"$f":"IF(E267=\"\",\"\",SUBTOTAL(3,$E$16:E267))","v":252},{"$f":"COUNTIF($F$16:F267,F267)","v":23},"45/5","2008-09-01","نوره مسافر عطيه عويز","الثاني - ج","انثى","الثاني",7,10,9,null,null,null,null,null,null,null,7]
[{"$f":"IF(E268=\"\",\"\",SUBTOTAL(3,$E$16:E268))","v":253},{"$f":"COUNTIF($F$16:F268,F268)","v":24},"56/5","2010/10/26","هبه علي ظاهر مرزوك","الثاني - ج","انثى","الثاني",12,8,7,null,null,null,null,null,null,null,7]
[{"$f":"IF(E269=\"\",\"\",SUBTOTAL(3,$E$16:E269))","v":254},{"$f":"COUNTIF($F$16:F269,F269)","v":25},"352/4","2010/6/4","هجران شهيد موسى هادي","الثاني - ج","انثى","الثاني",4,1,8,null,null,null,null,null,null,null,7]
[{"$f":"IF(E270=\"\",\"\",SUBTOTAL(3,$E$16:E270))","v":255},{"$f":"COUNTIF($F$16:F270,F270)","v":26},"42/5","2010/7/5","هدى رعد ظاهر مرزوك","الثاني - ج","انثى","الثاني",3,0,8,null,null,null,null,null,null,null,7]
[{"$f":"IF(E271=\"\",\"\",SUBTOTAL(3,$E$16:E271))","v":256},{"$f":"COUNTIF($F$16:F271,F271)","v":1},"98/4","2010/3/23","ابراهيم غانم جاسم محمد","الثالث - أ","ذكر","الثالث",15,3,8,null,null,null,null,null,null,null,9]
[{"$f":"IF(E272=\"\",\"\",SUBTOTAL(3,$E$16:E272))","v":257},{"$f":"COUNTIF($F$16:F272,F272)","v":2},"319/4","2009/11/25","احمد هاتف كريم كاظم","الثالث - أ","ذكر",{"$f":"IF(OR(F272=$T$5,F272=$T$6,F272=$T$7,F272=$T$8),\"الاول\",IF(OR(F272=$T$9,F272=$T$10,F272=$T$11,F272=$T$12),\"الثاني\",IF(OR(F272=$T$13,F272=$T$14,F272=$T$15,F272=$T$16),\"الثالث\",IF(OR(F272=$T$17,F272=$T$18,F272=$T$19,F272=$T$20),\"الرابع\",IF(OR(F272=$T$21,F272=$T$22,F272=$T$32,F272=$T$24),\"الخامس\",IF(OR(F272=$T$25,F272=$T$26,F272=$T$27,F272=$T$28),\"السادس\",\"\"))))))","v":"الثالث"},{"$f":"DATEDIF($D272,$M$16,\"md\")","v":13},{"$f":"DATEDIF($D272,$M$16,\"ym\")","v":7},{"$f":"DATEDIF($D272,$M$16,\"y\")","v":8},null,null,null,null,null,null,null,{"$f":"IF(F272=$T$5,1,IF(F272=$T$6,2,IF(F272=$T$7,3,IF(F272=$T$8,4,IF(F272=$T$9,5,IF(F272=$T$10,6,IF(F272=$T$11,7,IF(F272=$T$12,8,IF(F272=$T$13,9,IF(F272=$T$14,10,IF(F272=$T$15,11,IF(F272=$T$16,12,IF(F272=$T$17,13,IF(F272=$T$18,14,IF(F272=$T$19,15,IF(F272=$T$20,16,IF(F272=$T$21,17,IF(F272=$T$22,18,IF(F272=$T$23,19,IF(F272=$T$24,20,IF(F272=$T$25,21,IF(F272=$T$26,22,IF(F272=$T$27,23,IF(F272=$T$28,24,\"\"))))))))))))))))))))))))","v":9}]
[{"$f":"IF(E273=\"\",\"\",SUBTOTAL(3,$E$16:E273))","v":258},{"$f":"COUNTIF($F$16:F273,F273)","v":3},"53/4","2005-10-06","ازهر باسم غالي عجه","الثالث - أ","ذكر","الثالث",2,9,12,null,null,null,null,null,null,null,9]
[{"$f":"IF(E274=\"\",\"\",SUBTOTAL(3,$E$16:E274))","v":259},{"$f":"COUNTIF($F$16:F274,F274)","v":4},"54/4","2009-03-01","امير جاسم محمد عطيه","الثالث - أ","ذكر","الثالث",7,4,9,null,null,null,null,null,null,null,9]
[{"$f":"IF(E275=\"\",\"\",SUBTOTAL(3,$E$16:E275))","v":260},{"$f":"COUNTIF($F$16:F275,F275)","v":5},"82/5","2007-03-01","جعفر سعيد كاظم عليوي","الثالث - أ","ذكر","الثالث",7,4,11,null,null,null,null,null,null,null,9]
[{"$f":"IF(E276=\"\",\"\",SUBTOTAL(3,$E$16:E276))","v":261},{"$f":"COUNTIF($F$16:F276,F276)","v":6},"301/4","2007-11-30","حسن باسم دايخ حبيت","الثالث - أ","ذكر","الثالث",8,7,10,null,null,null,null,null,null,null,9]
[{"$f":"IF(E277=\"\",\"\",SUBTOTAL(3,$E$16:E277))","v":262},{"$f":"COUNTIF($F$16:F277,F277)","v":7},"254/4","2009-08-10","حسن باسم كريم عطشان","الثالث - أ","ذكر","الثالث",28,10,8,null,null,null,null,null,null,null,9]
[{"$f":"IF(E278=\"\",\"\",SUBTOTAL(3,$E$16:E278))","v":263},{"$f":"COUNTIF($F$16:F278,F278)","v":8},"320/3","2009-08-29","حسن علاء جابر كاظم","الثالث - أ","ذكر","الثالث",9,10,8,null,null,null,null,null,null,null,9]
[{"$f":"IF(E279=\"\",\"\",SUBTOTAL(3,$E$16:E279))","v":264},{"$f":"COUNTIF($F$16:F279,F279)","v":9},"250/4","2008-12-22","حسن كريم طالب تعبان","الثالث - أ","ذكر","الثالث",16,6,9,null,null,null,null,null,null,null,9]
[{"$f":"IF(E280=\"\",\"\",SUBTOTAL(3,$E$16:E280))","v":265},{"$f":"COUNTIF($F$16:F280,F280)","v":10},"148/4","2006-11-09","حسن ناصر عطيه صالح","الثالث - أ","ذكر","الثالث",29,7,11,null,null,null,null,null,null,null,9]
[{"$f":"IF(E281=\"\",\"\",SUBTOTAL(3,$E$16:E281))","v":266},{"$f":"COUNTIF($F$16:F281,F281)","v":11},"265/4","2009-07-30","حسين سامي حنون نجم","الثالث - أ","ذكر","الثالث",8,11,8,null,null,null,null,null,null,null,9]
[{"$f":"IF(E282=\"\",\"\",SUBTOTAL(3,$E$16:E282))","v":267},{"$f":"COUNTIF($F$16:F282,F282)","v":12},"321/3","2009-01-16","حسين علاء جابر كاظم","الثالث - أ","ذكر","الثالث",22,5,9,null,null,null,null,null,null,null,9]
[{"$f":"IF(E283=\"\",\"\",SUBTOTAL(3,$E$16:E283))","v":268},{"$f":"COUNTIF($F$16:F283,F283)","v":13},"86/4","2009-07-16","حسين علي شاكر جعمول","الثالث - أ","ذكر","الثالث",22,11,8,null,null,null,null,null,null,null,9]
[{"$f":"IF(E284=\"\",\"\",SUBTOTAL(3,$E$16:E284))","v":269},{"$f":"COUNTIF($F$16:F284,F284)","v":14},"280/4","2005-11-09","حسين علي شلاكه مرزوك","الثالث - أ","ذكر","الثالث",29,7,12,null,null,null,null,null,null,null,9]
[{"$f":"IF(E285=\"\",\"\",SUBTOTAL(3,$E$16:E285))","v":270},{"$f":"COUNTIF($F$16:F285,F285)","v":15},"318/4","2007-10-04","حسين كدر وعد حبيت","الثالث - أ","ذكر","الثالث",4,9,10,null,null,null,null,null,null,null,9]
[{"$f":"IF(E286=\"\",\"\",SUBTOTAL(3,$E$16:E286))","v":271},{"$f":"COUNTIF($F$16:F286,F286)","v":16},"308/4","2009-02-23","حسين كريم دايخ حبيت","الثالث - أ","ذكر","الثالث",15,4,9,null,null,null,null,null,null,null,9]
[{"$f":"IF(E287=\"\",\"\",SUBTOTAL(3,$E$16:E287))","v":272},{"$f":"COUNTIF($F$16:F287,F287)","v":17},"58/4","2009-02-20","حسين منصور نعيم صالح","الثالث - أ","ذكر","الثالث",18,4,9,null,null,null,null,null,null,null,9]
[{"$f":"IF(E288=\"\",\"\",SUBTOTAL(3,$E$16:E288))","v":273},{"$f":"COUNTIF($F$16:F288,F288)","v":18},"242/4","2009-02-16","حسين نبيل يوسف هاشم","الثالث - أ","ذكر","الثالث",22,4,9,null,null,null,null,null,null,null,9]
[{"$f":"IF(E289=\"\",\"\",SUBTOTAL(3,$E$16:E289))","v":274},{"$f":"COUNTIF($F$16:F289,F289)","v":19},"262/4","2007-02-16","حسين نعمه منشد عويز","الثالث - أ","ذكر","الثالث",22,4,11,null,null,null,null,null,null,null,9]
[{"$f":"IF(E290=\"\",\"\",SUBTOTAL(3,$E$16:E290))","v":275},{"$f":"COUNTIF($F$16:F290,F290)","v":20},"126/4","2009-11-05","حسين يعقوب يوسف هاشم","الثالث - أ","ذكر","الثالث",3,8,8,null,null,null,null,null,null,null,9]
[{"$f":"IF(E291=\"\",\"\",SUBTOTAL(3,$E$16:E291))","v":276},{"$f":"COUNTIF($F$16:F291,F291)","v":21},"286/4","2009-01-23","حيدر حسين علي عبيد","الثالث - أ","ذكر","الثالث",15,5,9,null,null,null,null,null,null,null,9]
[{"$f":"IF(E292=\"\",\"\",SUBTOTAL(3,$E$16:E292))","v":277},{"$f":"COUNTIF($F$16:F292,F292)","v":22},"125/4","2009-01-20","حيدر شهيد موسى هادي","الثالث - أ","ذكر","الثالث",18,5,9,null,null,null,null,null,null,null,9]
[{"$f":"IF(E293=\"\",\"\",SUBTOTAL(3,$E$16:E293))","v":278},{"$f":"COUNTIF($F$16:F293,F293)","v":23},"263/4","2008-12-08","حيدر مازي عناد ساجت","الثالث - أ","ذكر","الثالث",0,7,9,null,null,null,null,null,null,null,9]
[{"$f":"IF(E294=\"\",\"\",SUBTOTAL(3,$E$16:E294))","v":279},{"$f":"COUNTIF($F$16:F294,F294)","v":24},"102/4","2008-06-22","رضا كريم خماط كمين","الثالث - أ","ذكر","الثالث",16,0,10,null,null,null,null,null,null,null,9]
[{"$f":"IF(E295=\"\",\"\",SUBTOTAL(3,$E$16:E295))","v":280},{"$f":"COUNTIF($F$16:F295,F295)","v":25},"310/4","2008-04-25","زين العابدين عامر عبد معيوف","الثالث - أ","ذكر","الثالث",13,2,10,null,null,null,null,null,null,null,9]
[{"$f":"IF(E296=\"\",\"\",SUBTOTAL(3,$E$16:E296))","v":281},{"$f":"COUNTIF($F$16:F296,F296)","v":26},"134/4","2007-12-10","سجاد حسن خضيرعجه","الثالث - أ","ذكر","الثالث",28,6,10,null,null,null,null,null,null,null,9]
[{"$f":"IF(E297=\"\",\"\",SUBTOTAL(3,$E$16:E297))","v":282},{"$f":"COUNTIF($F$16:F297,F297)","v":27},"165/4","2009-08-03","سجاد حسين كامل جاسم","الثالث - أ","ذكر","الثالث",5,11,8,null,null,null,null,null,null,null,9]
[{"$f":"IF(E298=\"\",\"\",SUBTOTAL(3,$E$16:E298))","v":283},{"$f":"COUNTIF($F$16:F298,F298)","v":28},"167/4","2008-12-01","سجاد حمود موسى هادي","الثالث - أ","ذكر","الثالث",7,7,9,null,null,null,null,null,null,null,9]
[{"$f":"IF(E299=\"\",\"\",SUBTOTAL(3,$E$16:E299))","v":284},{"$f":"COUNTIF($F$16:F299,F299)","v":29},"249/4","2008-03-02","سجاد عدنان هداد حنون","الثالث - أ","ذكر","الثالث",6,4,10,null,null,null,null,null,null,null,9]
[{"$f":"IF(E300=\"\",\"\",SUBTOTAL(3,$E$16:E300))","v":285},{"$f":"COUNTIF($F$16:F300,F300)","v":30},"11/4","2009-01-22","سيف جابر شلاكه مرزوك","الثالث - أ","ذكر","الثالث",16,5,9,null,null,null,null,null,null,null,9]
[{"$f":"IF(E301=\"\",\"\",SUBTOTAL(3,$E$16:E301))","v":286},{"$f":"COUNTIF($F$16:F301,F301)","v":31},"243/4","2009-08-10","صادق عدي حاتم راجوج","الثالث - أ","ذكر","الثالث",28,10,8,null,null,null,null,null,null,null,9]
[{"$f":"IF(E302=\"\",\"\",SUBTOTAL(3,$E$16:E302))","v":287},{"$f":"COUNTIF($F$16:F302,F302)","v":32},"235/4","2006-10-04","صادق محمد حسن جعفر ","الثالث - أ","ذكر","الثالث",4,9,11,null,null,null,null,null,null,null,9]
[{"$f":"IF(E303=\"\",\"\",SUBTOTAL(3,$E$16:E303))","v":288},{"$f":"COUNTIF($F$16:F303,F303)","v":33},null,"2009-01-28","عباس راجوج هادي كاظم","الثالث - أ","ذكر","الثالث",10,5,9,null,null,null,null,null,null,null,9]
[{"$f":"IF(E304=\"\",\"\",SUBTOTAL(3,$E$16:E304))","v":289},{"$f":"COUNTIF($F$16:F304,F304)","v":34},"303/4","2009-04-16","عباس ستار جبير شنيور","الثالث - أ","ذكر","الثالث",22,2,9,null,null,null,null,null,null,null,9]
[{"$f":"IF(E305=\"\",\"\",SUBTOTAL(3,$E$16:E305))","v":290},{"$f":"COUNTIF($F$16:F305,F305)","v":35},"200/4","2009-04-17","عباس سلام فاضل نايف","الثالث - أ","ذكر","الثالث",21,2,9,null,null,null,null,null,null,null,9]
[{"$f":"IF(E306=\"\",\"\",SUBTOTAL(3,$E$16:E306))","v":291},{"$f":"COUNTIF($F$16:F306,F306)","v":36},"332/3","2010-01-29","عباس سلمان عواد غريب","الثالث - أ","ذكر","الثالث",9,5,8,null,null,null,null,null,null,null,9]
[{"$f":"IF(E307=\"\",\"\",SUBTOTAL(3,$E$16:E307))","v":292},{"$f":"COUNTIF($F$16:F307,F307)","v":37},"251/4","2007-04-19","عباس ناصر خماط كمين","الثالث - أ","ذكر","الثالث",19,2,11,null,null,null,null,null,null,null,9]
[{"$f":"IF(E308=\"\",\"\",SUBTOTAL(3,$E$16:E308))","v":293},{"$f":"COUNTIF($F$16:F308,F308)","v":38},"135/4","2006-04-03","عباس يحيى جاسم كدوش","الثالث - أ","ذكر","الثالث",5,3,12,null,null,null,null,null,null,null,9]
[{"$f":"IF(E309=\"\",\"\",SUBTOTAL(3,$E$16:E309))","v":294},{"$f":"COUNTIF($F$16:F309,F309)","v":39},"271/4","2009-02-02","عبد الله عباس كريم صالح","الثالث - أ","ذكر","الثالث",6,5,9,null,null,null,null,null,null,null,9]
[{"$f":"IF(E310=\"\",\"\",SUBTOTAL(3,$E$16:E310))","v":295},{"$f":"COUNTIF($F$16:F310,F310)","v":40},"309/4","2008-12-23","علاء باسم كاظم جهادي","الثالث - أ","ذكر","الثالث",15,6,9,null,null,null,null,null,null,null,9]
[{"$f":"IF(E311=\"\",\"\",SUBTOTAL(3,$E$16:E311))","v":296},{"$f":"COUNTIF($F$16:F311,F311)","v":41},"177/4","2009-09-17","علاء رائد جميل كاتي","الثالث - أ","ذكر","الثالث",21,9,8,null,null,null,null,null,null,null,9]
[{"$f":"IF(E312=\"\",\"\",SUBTOTAL(3,$E$16:E312))","v":297},{"$f":"COUNTIF($F$16:F312,F312)","v":42},"256/4","2009-05-26","علي حسين رحيم جهادي","الثالث - أ","ذكر","الثالث",12,1,9,null,null,null,null,null,null,null,9]
[{"$f":"IF(E313=\"\",\"\",SUBTOTAL(3,$E$16:E313))","v":298},{"$f":"COUNTIF($F$16:F313,F313)","v":43},"140/4","2007-12-01","علي سلمان عواد غريب","الثالث - أ","ذكر","الثالث",7,7,10,null,null,null,null,null,null,null,9]
[{"$f":"IF(E314=\"\",\"\",SUBTOTAL(3,$E$16:E314))","v":299},{"$f":"COUNTIF($F$16:F314,F314)","v":44},"312/4","2009-02-28","علي شهيد حسين خضر","الثالث - أ","ذكر","الثالث",10,4,9,null,null,null,null,null,null,null,9]
[{"$f":"IF(E315=\"\",\"\",SUBTOTAL(3,$E$16:E315))","v":300},{"$f":"COUNTIF($F$16:F315,F315)","v":45},"183/4","2008-01-27","علي نعيم مزهر جابر","الثالث - أ","ذكر","الثالث",11,5,10,null,null,null,null,null,null,null,9]
[{"$f":"IF(E316=\"\",\"\",SUBTOTAL(3,$E$16:E316))","v":301},{"$f":"COUNTIF($F$16:F316,F316)","v":46},"307/3","2009-02-17","عمار ياسر دويج عبد","الثالث - أ","ذكر","الثالث",21,4,9,null,null,null,null,null,null,null,9]
[{"$f":"IF(E317=\"\",\"\",SUBTOTAL(3,$E$16:E317))","v":302},{"$f":"COUNTIF($F$16:F317,F317)","v":47},"276/4","2008-01-01","غيث فرحان كريم صالح","الثالث - أ","ذكر","الثالث",7,6,10,null,null,null,null,null,null,null,9]
[{"$f":"IF(E318=\"\",\"\",SUBTOTAL(3,$E$16:E318))","v":303},{"$f":"COUNTIF($F$16:F318,F318)","v":48},"284/4","2007-01-12","كاظم حسين كامل جعمول","الثالث - أ","ذكر","الثالث",26,5,11,null,null,null,null,null,null,null,9]
[{"$f":"IF(E319=\"\",\"\",SUBTOTAL(3,$E$16:E319))","v":304},{"$f":"COUNTIF($F$16:F319,F319)","v":49},"65/4","2009-02-02","كاظم حمود خماط كمين","الثالث - أ","ذكر","الثالث",6,5,9,null,null,null,null,null,null,null,9]
[{"$f":"IF(E320=\"\",\"\",SUBTOTAL(3,$E$16:E320))","v":305},{"$f":"COUNTIF($F$16:F320,F320)","v":50},"258/4","2009-07-17","كرار فاضل مهلهل شعلان","الثالث - أ","ذكر","الثالث",21,11,8,null,null,null,null,null,null,null,9]
[{"$f":"IF(E321=\"\",\"\",SUBTOTAL(3,$E$16:E321))","v":306},{"$f":"COUNTIF($F$16:F321,F321)","v":51},"296/4","2007-06-07","محمد علي فيصل خماط","الثالث - أ","ذكر","الثالث",1,1,11,null,null,null,null,null,null,null,9]
[{"$f":"IF(E322=\"\",\"\",SUBTOTAL(3,$E$16:E322))","v":307},{"$f":"COUNTIF($F$16:F322,F322)","v":1},"270/4","2009-05-01","محمد ماجد عطشان كاطع","الثالث - ب","ذكر","الثالث",7,2,9,null,null,null,null,null,null,null,10]
[{"$f":"IF(E323=\"\",\"\",SUBTOTAL(3,$E$16:E323))","v":308},{"$f":"COUNTIF($F$16:F323,F323)","v":2},"10/4","2009-05-16","محمود بهلول خنجر كمين","الثالث - ب","ذكر","الثالث",22,1,9,null,null,null,null,null,null,null,10]
[{"$f":"IF(E324=\"\",\"\",SUBTOTAL(3,$E$16:E324))","v":309},{"$f":"COUNTIF($F$16:F324,F324)","v":3},"244/4","2009-08-22","مرتضى عدنان حسين خضر","الثالث - ب","ذكر","الثالث",16,10,8,null,null,null,null,null,null,null,10]
[{"$f":"IF(E325=\"\",\"\",SUBTOTAL(3,$E$16:E325))","v":310},{"$f":"COUNTIF($F$16:F325,F325)","v":4},"246/4","2006-07-01","مرتضى فلاح حسن عبد الرضا","الثالث - ب","ذكر","الثالث",7,0,12,null,null,null,null,null,null,null,10]
[{"$f":"IF(E326=\"\",\"\",SUBTOTAL(3,$E$16:E326))","v":311},{"$f":"COUNTIF($F$16:F326,F326)","v":5},"171/4","2009-09-15","مرتضى هادي بلبول جبل","الثالث - ب","ذكر","الثالث",23,9,8,null,null,null,null,null,null,null,10]
[{"$f":"IF(E327=\"\",\"\",SUBTOTAL(3,$E$16:E327))","v":312},{"$f":"COUNTIF($F$16:F327,F327)","v":6},"290/4","2009-05-06","مصطفى سعيد حسين خضر","الثالث - ب","ذكر","الثالث",2,2,9,null,null,null,null,null,null,null,10]
[{"$f":"IF(E328=\"\",\"\",SUBTOTAL(3,$E$16:E328))","v":313},{"$f":"COUNTIF($F$16:F328,F328)","v":7},"304/4","2008-07-21","مصطفى عادل غازي ونان","الثالث - ب","ذكر","الثالث",17,11,9,null,null,null,null,null,null,null,10]
[{"$f":"IF(E329=\"\",\"\",SUBTOTAL(3,$E$16:E329))","v":314},{"$f":"COUNTIF($F$16:F329,F329)","v":8},"260/4","2009-09-24","مصطفى علي راضي عبد النبي","الثالث - ب","ذكر","الثالث",14,9,8,null,null,null,null,null,null,null,10]
[{"$f":"IF(E330=\"\",\"\",SUBTOTAL(3,$E$16:E330))","v":315},{"$f":"COUNTIF($F$16:F330,F330)","v":9},"289/4","2009-07-26","منتظر محمد حسين خضر","الثالث - ب","ذكر","الثالث",12,11,8,null,null,null,null,null,null,null,10]
[{"$f":"IF(E331=\"\",\"\",SUBTOTAL(3,$E$16:E331))","v":316},{"$f":"COUNTIF($F$16:F331,F331)","v":10},"214/4","2009-06-21","مهدي أحمد رحيم قند","الثالث - ب","ذكر","الثالث",17,0,9,null,null,null,null,null,null,null,10]
[{"$f":"IF(E332=\"\",\"\",SUBTOTAL(3,$E$16:E332))","v":317},{"$f":"COUNTIF($F$16:F332,F332)","v":11},"90/4","2009-08-03","مهدي علي حسين منيخر","الثالث - ب","ذكر","الثالث",5,11,8,null,null,null,null,null,null,null,10]
[{"$f":"IF(E333=\"\",\"\",SUBTOTAL(3,$E$16:E333))","v":318},{"$f":"COUNTIF($F$16:F333,F333)","v":12},"160/4","2008-09-02","مهدي علي كامل جاسم","الثالث - ب","ذكر","الثالث",6,10,9,null,null,null,null,null,null,null,10]
[{"$f":"IF(E334=\"\",\"\",SUBTOTAL(3,$E$16:E334))","v":319},{"$f":"COUNTIF($F$16:F334,F334)","v":13},"155/4","2007-02-08","مهدي كارون رحيم عجه","الثالث - ب","ذكر","الثالث",0,5,11,null,null,null,null,null,null,null,10]
[{"$f":"IF(E335=\"\",\"\",SUBTOTAL(3,$E$16:E335))","v":320},{"$f":"COUNTIF($F$16:F335,F335)","v":14},"156/4","2008-04-12","مؤمل محمد هادي عبد","الثالث - ب","ذكر","الثالث",26,2,10,null,null,null,null,null,null,null,10]
[{"$f":"IF(E336=\"\",\"\",SUBTOTAL(3,$E$16:E336))","v":321},{"$f":"COUNTIF($F$16:F336,F336)","v":15},"316/4","2008-10-09","ايمان محمد عبد الخضر لعيبي","الثالث - ب","انثى",{"$f":"IF(OR(F336=$T$5,F336=$T$6,F336=$T$7,F336=$T$8),\"الاول\",IF(OR(F336=$T$9,F336=$T$10,F336=$T$11,F336=$T$12),\"الثاني\",IF(OR(F336=$T$13,F336=$T$14,F336=$T$15,F336=$T$16),\"الثالث\",IF(OR(F336=$T$17,F336=$T$18,F336=$T$19,F336=$T$20),\"الرابع\",IF(OR(F336=$T$21,F336=$T$22,F336=$T$32,F336=$T$24),\"الخامس\",IF(OR(F336=$T$25,F336=$T$26,F336=$T$27,F336=$T$28),\"السادس\",\"\"))))))","v":"الثالث"},{"$f":"DATEDIF($D336,$M$16,\"md\")","v":29},{"$f":"DATEDIF($D336,$M$16,\"ym\")","v":8},{"$f":"DATEDIF($D336,$M$16,\"y\")","v":9},null,null,null,null,null,null,null,{"$f":"IF(F336=$T$5,1,IF(F336=$T$6,2,IF(F336=$T$7,3,IF(F336=$T$8,4,IF(F336=$T$9,5,IF(F336=$T$10,6,IF(F336=$T$11,7,IF(F336=$T$12,8,IF(F336=$T$13,9,IF(F336=$T$14,10,IF(F336=$T$15,11,IF(F336=$T$16,12,IF(F336=$T$17,13,IF(F336=$T$18,14,IF(F336=$T$19,15,IF(F336=$T$20,16,IF(F336=$T$21,17,IF(F336=$T$22,18,IF(F336=$T$23,19,IF(F336=$T$24,20,IF(F336=$T$25,21,IF(F336=$T$26,22,IF(F336=$T$27,23,IF(F336=$T$28,24,\"\"))))))))))))))))))))))))","v":10}]
[{"$f":"IF(E337=\"\",\"\",SUBTOTAL(3,$E$16:E337))","v":322},{"$f":"COUNTIF($F$16:F337,F337)","v":16},"21/4","2008-01-15","ايناس عدي هداد حنون","الثالث - ب","انثى","الثالث",23,5,10,null,null,null,null,null,null,null,10]
[{"$f":"IF(E338=\"\",\"\",SUBTOTAL(3,$E$16:E338))","v":323},{"$f":"COUNTIF($F$16:F338,F338)","v":17},"248/4","2010-01-02","ايه ياسر كاظم جهادي","الثالث - ب","انثى","الثالث",6,6,8,null,null,null,null,null,null,null,10]
[{"$f":"IF(E339=\"\",\"\",SUBTOTAL(3,$E$16:E339))","v":324},{"$f":"COUNTIF($F$16:F339,F339)","v":18},"76/4","2007-11-04","بتول علي كزار حمد","الثالث - ب","انثى","الثالث",4,8,10,null,null,null,null,null,null,null,10]
[{"$f":"IF(E340=\"\",\"\",SUBTOTAL(3,$E$16:E340))","v":325},{"$f":"COUNTIF($F$16:F340,F340)","v":19},"313/4","2009-01-29","بتول كاظم شاكر جعمول","الثالث - ب","انثى","الثالث",9,5,9,null,null,null,null,null,null,null,10]
[{"$f":"IF(E341=\"\",\"\",SUBTOTAL(3,$E$16:E341))","v":326},{"$f":"COUNTIF($F$16:F341,F341)","v":20},"272/4","2007-09-15","جنات فريق علي صليبي","الثالث - ب","انثى","الثالث",23,9,10,null,null,null,null,null,null,null,10]
[{"$f":"IF(E342=\"\",\"\",SUBTOTAL(3,$E$16:E342))","v":327},{"$f":"COUNTIF($F$16:F342,F342)","v":21},"182/4","2009-05-31","حنان حيدر فرحان كريم","الثالث - ب","انثى","الثالث",7,1,9,null,null,null,null,null,null,null,10]
[{"$f":"IF(E343=\"\",\"\",SUBTOTAL(3,$E$16:E343))","v":328},{"$f":"COUNTIF($F$16:F343,F343)","v":22},"331/4","2009-01-21","حنين عيسى جبير محسن","الثالث - ب","انثى","الثالث",17,5,9,null,null,null,null,null,null,null,10]
[{"$f":"IF(E344=\"\",\"\",SUBTOTAL(3,$E$16:E344))","v":329},{"$f":"COUNTIF($F$16:F344,F344)","v":23},"152/4","2008-12-01","حوراء جبار كاظم ساجت","الثالث - ب","انثى","الثالث",7,7,9,null,null,null,null,null,null,null,10]
[{"$f":"IF(E345=\"\",\"\",SUBTOTAL(3,$E$16:E345))","v":330},{"$f":"COUNTIF($F$16:F345,F345)","v":24},"326/4","2009-12-29","حوراء سالم رحيم عجه","الثالث - ب","انثى","الثالث",9,6,8,null,null,null,null,null,null,null,10]
[{"$f":"IF(E346=\"\",\"\",SUBTOTAL(3,$E$16:E346))","v":331},{"$f":"COUNTIF($F$16:F346,F346)","v":25},"291/4","2007-12-20","حوراء ياسر عطيه صالح","الثالث - ب","انثى","الثالث",18,6,10,null,null,null,null,null,null,null,10]
[{"$f":"IF(E347=\"\",\"\",SUBTOTAL(3,$E$16:E347))","v":332},{"$f":"COUNTIF($F$16:F347,F347)","v":26},"107/4","2008-11-20","دعاء جابر شلاكه مرزوك","الثالث - ب","انثى","الثالث",18,7,9,null,null,null,null,null,null,null,10]
[{"$f":"IF(E348=\"\",\"\",SUBTOTAL(3,$E$16:E348))","v":333},{"$f":"COUNTIF($F$16:F348,F348)","v":27},"226/4","2009-04-14","دعاء سعد عناد ساجت","الثالث - ب","انثى","الثالث",24,2,9,null,null,null,null,null,null,null,10]
[{"$f":"IF(E349=\"\",\"\",SUBTOTAL(3,$E$16:E349))","v":334},{"$f":"COUNTIF($F$16:F349,F349)","v":28},"324/4","2007-12-17","دعاء عائد كاظم عبيد","الثالث - ب","انثى","الثالث",21,6,10,null,null,null,null,null,null,null,10]
[{"$f":"IF(E350=\"\",\"\",SUBTOTAL(3,$E$16:E350))","v":335},{"$f":"COUNTIF($F$16:F350,F350)","v":29},"302/4","2007-04-09","دنيا ناظم شاكر جعمول","الثالث - ب","انثى","الثالث",29,2,11,null,null,null,null,null,null,null,10]
[{"$f":"IF(E351=\"\",\"\",SUBTOTAL(3,$E$16:E351))","v":336},{"$f":"COUNTIF($F$16:F351,F351)","v":30},"307/4","2009-03-15","رقيه حسن عبد الله جبار","الثالث - ب","انثى","الثالث",23,3,9,null,null,null,null,null,null,null,10]
[{"$f":"IF(E352=\"\",\"\",SUBTOTAL(3,$E$16:E352))","v":337},{"$f":"COUNTIF($F$16:F352,F352)","v":31},"264/4","2008-06-24","رقيه حسين جاسم راجوج","الثالث - ب","انثى","الثالث",14,0,10,null,null,null,null,null,null,null,10]
[{"$f":"IF(E353=\"\",\"\",SUBTOTAL(3,$E$16:E353))","v":338},{"$f":"COUNTIF($F$16:F353,F353)","v":32},"311/4","2009-11-29","رمله كريم هادي صليبي","الثالث - ب","انثى","الثالث",9,7,8,null,null,null,null,null,null,null,10]
[{"$f":"IF(E354=\"\",\"\",SUBTOTAL(3,$E$16:E354))","v":339},{"$f":"COUNTIF($F$16:F354,F354)","v":33},"154/4","2009-09-21","زهراء علاء رحيم عجه","الثالث - ب","انثى","الثالث",17,9,8,null,null,null,null,null,null,null,10]
[{"$f":"IF(E355=\"\",\"\",SUBTOTAL(3,$E$16:E355))","v":340},{"$f":"COUNTIF($F$16:F355,F355)","v":34},"241/4","2008-11-20","زينب رعد فليح كريم","الثالث - ب","انثى","الثالث",18,7,9,null,null,null,null,null,null,null,10]
[{"$f":"IF(E356=\"\",\"\",SUBTOTAL(3,$E$16:E356))","v":341},{"$f":"COUNTIF($F$16:F356,F356)","v":35},"118/4","11/7/2008","زينب رياض صالح معيوف","الثالث - ب","انثى","الثالث",27,11,9,null,null,null,null,null,null,null,10]
[{"$f":"IF(E357=\"\",\"\",SUBTOTAL(3,$E$16:E357))","v":342},{"$f":"COUNTIF($F$16:F357,F357)","v":36},"267/4","2009-02-02","زينب علاء حسن عبد","الثالث - ب","انثى","الثالث",6,5,9,null,null,null,null,null,null,null,10]
[{"$f":"IF(E358=\"\",\"\",SUBTOTAL(3,$E$16:E358))","v":343},{"$f":"COUNTIF($F$16:F358,F358)","v":37},"273/4","2008-09-17","سكينه علي محمد كاطع","الثالث - ب","انثى","الثالث",21,9,9,null,null,null,null,null,null,null,10]
[{"$f":"IF(E359=\"\",\"\",SUBTOTAL(3,$E$16:E359))","v":344},{"$f":"COUNTIF($F$16:F359,F359)","v":38},"299/4","2009-04-28","شريفه موسى دويج عبد","الثالث - ب","انثى","الثالث",10,2,9,null,null,null,null,null,null,null,10]
[{"$f":"IF(E360=\"\",\"\",SUBTOTAL(3,$E$16:E360))","v":345},{"$f":"COUNTIF($F$16:F360,F360)","v":39},"281/4","2009-04-01","غدير رائد عناد غالي","الثالث - ب","انثى","الثالث",7,3,9,null,null,null,null,null,null,null,10]
[{"$f":"IF(E361=\"\",\"\",SUBTOTAL(3,$E$16:E361))","v":346},{"$f":"COUNTIF($F$16:F361,F361)","v":40},"287/4","2009-10-05","غزلان وليد جواد صليبي","الثالث - ب","انثى","الثالث",3,9,8,null,null,null,null,null,null,null,10]
[{"$f":"IF(E362=\"\",\"\",SUBTOTAL(3,$E$16:E362))","v":347},{"$f":"COUNTIF($F$16:F362,F362)","v":41},"259/4","2009-07-19","فاطمه جابر منشد عويز","الثالث - ب","انثى","الثالث",19,11,8,null,null,null,null,null,null,null,10]
[{"$f":"IF(E363=\"\",\"\",SUBTOTAL(3,$E$16:E363))","v":348},{"$f":"COUNTIF($F$16:F363,F363)","v":42},"143/4","2009-09-10","فاطمه سيف خماط كمين","الثالث - ب","انثى","الثالث",28,9,8,null,null,null,null,null,null,null,10]
[{"$f":"IF(E364=\"\",\"\",SUBTOTAL(3,$E$16:E364))","v":349},{"$f":"COUNTIF($F$16:F364,F364)","v":43},"257/4","2008-12-26","فاطمه كمال جاسم راجوج","الثالث - ب","انثى","الثالث",12,6,9,null,null,null,null,null,null,null,10]
[{"$f":"IF(E365=\"\",\"\",SUBTOTAL(3,$E$16:E365))","v":350},{"$f":"COUNTIF($F$16:F365,F365)","v":44},"314/4","3/4/2008","فاطمه مالك عطيه كاظم","الثالث - ب","انثى","الثالث",5,3,10,null,null,null,null,null,null,null,10]
[{"$f":"IF(E366=\"\",\"\",SUBTOTAL(3,$E$16:E366))","v":351},{"$f":"COUNTIF($F$16:F366,F366)","v":45},"261/4","2009-09-14","فاطمه محمد جابر ناصر","الثالث - ب","انثى","الثالث",24,9,8,null,null,null,null,null,null,null,10]
[{"$f":"IF(E367=\"\",\"\",SUBTOTAL(3,$E$16:E367))","v":352},{"$f":"COUNTIF($F$16:F367,F367)","v":46},"269/4","2009-09-05","مريم عدنان محمد عبد الرضا","الثالث - ب","انثى","الثالث",3,10,8,null,null,null,null,null,null,null,10]
[{"$f":"IF(E368=\"\",\"\",SUBTOTAL(3,$E$16:E368))","v":353},{"$f":"COUNTIF($F$16:F368,F368)","v":47},"317/4","2009-06-08","مريم نبراس عبد الخضر لعيبي","الثالث - ب","انثى","الثالث",0,1,9,null,null,null,null,null,null,null,10]
[{"$f":"IF(E369=\"\",\"\",SUBTOTAL(3,$E$16:E369))","v":354},{"$f":"COUNTIF($F$16:F369,F369)","v":48},"275/4","2009-11-27","معصومه جاسم محمد عبد الرضا","الثالث - ب","انثى","الثالث",11,7,8,null,null,null,null,null,null,null,10]
[{"$f":"IF(E370=\"\",\"\",SUBTOTAL(3,$E$16:E370))","v":355},{"$f":"COUNTIF($F$16:F370,F370)","v":49},"247/4","2009-05-01","نور صباح حسن عبد الرضا","الثالث - ب","انثى","الثالث",7,2,9,null,null,null,null,null,null,null,10]
[{"$f":"IF(E371=\"\",\"\",SUBTOTAL(3,$E$16:E371))","v":356},{"$f":"COUNTIF($F$16:F371,F371)","v":50},"305/4","2009-02-08","نوره كامل جبار عجه","الثالث - ب","انثى","الثالث",0,5,9,null,null,null,null,null,null,null,10]
[{"$f":"IF(E372=\"\",\"\",SUBTOTAL(3,$E$16:E372))","v":357},{"$f":"COUNTIF($F$16:F372,F372)","v":51},"327/4","2009-06-21","هدى رعد عزيز عبد الحسن","الثالث - ب","انثى","الثالث",17,0,9,null,null,null,null,null,null,null,10]
[{"$f":"IF(E373=\"\",\"\",SUBTOTAL(3,$E$16:E373))","v":358},{"$f":"COUNTIF($F$16:F373,F373)","v":52},"113/4","2009-05-05","هديل حسن خضير عجه","الثالث - ب","انثى","الثالث",3,2,9,null,null,null,null,null,null,null,10]
[{"$f":"IF(E374=\"\",\"\",SUBTOTAL(3,$E$16:E374))","v":359},{"$f":"COUNTIF($F$16:F374,F374)","v":1},"163/4","2009-02-10","ابراهيم عبد القادر كريم عطشان","الرابع - أ","ذكر","الرابع",28,4,9,null,null,null,null,null,null,null,13]
[{"$f":"IF(E375=\"\",\"\",SUBTOTAL(3,$E$16:E375))","v":360},{"$f":"COUNTIF($F$16:F375,F375)","v":2},"43/4","29/7/2007","احسان فيصل غازي صالح","الرابع - أ","ذكر","الرابع",9,11,10,null,null,null,null,null,null,null,13]
[{"$f":"IF(E376=\"\",\"\",SUBTOTAL(3,$E$16:E376))","v":361},{"$f":"COUNTIF($F$16:F376,F376)","v":3},"124/3","2008-10-02","احمد حسين منيخر مرزوك","الرابع - أ","ذكر","الرابع",6,9,9,null,null,null,null,null,null,null,13]
[{"$f":"IF(E377=\"\",\"\",SUBTOTAL(3,$E$16:E377))","v":362},{"$f":"COUNTIF($F$16:F377,F377)","v":4},"326/3","2007-07-24","احمد كامل جبار عجه","الرابع - أ","ذكر","الرابع",14,11,10,null,null,null,null,null,null,null,13]
[{"$f":"IF(E378=\"\",\"\",SUBTOTAL(3,$E$16:E378))","v":363},{"$f":"COUNTIF($F$16:F378,F378)","v":5},"185/4","2003-06-15","احمد لفته مسعد حبيت","الرابع - أ","ذكر","الرابع",23,0,15,null,null,null,null,null,null,null,13]
[{"$f":"IF(E379=\"\",\"\",SUBTOTAL(3,$E$16:E379))","v":364},{"$f":"COUNTIF($F$16:F379,F379)","v":6},"219/4","2007-01-20","احمد مسافر عطيه عويز","الرابع - أ","ذكر","الرابع",18,5,11,null,null,null,null,null,null,null,13]
[{"$f":"IF(E380=\"\",\"\",SUBTOTAL(3,$E$16:E380))","v":365},{"$f":"COUNTIF($F$16:F380,F380)","v":7},"180/4","2008-12-23","امير عباس رويس صالح","الرابع - أ","ذكر","الرابع",15,6,9,null,null,null,null,null,null,null,13]
[{"$f":"IF(E381=\"\",\"\",SUBTOTAL(3,$E$16:E381))","v":366},{"$f":"COUNTIF($F$16:F381,F381)","v":8},"194/4","2008-08-16","امين محمد عبد الخضر لعيبي","الرابع - أ","ذكر","الرابع",22,10,9,null,null,null,null,null,null,null,13]
[{"$f":"IF(E382=\"\",\"\",SUBTOTAL(3,$E$16:E382))","v":367},{"$f":"COUNTIF($F$16:F382,F382)","v":9},"176/4","2008-01-23","ايوب سلمان نعيم صالح","الرابع - أ","ذكر","الرابع",15,5,10,null,null,null,null,null,null,null,13]
[{"$f":"IF(E383=\"\",\"\",SUBTOTAL(3,$E$16:E383))","v":368},{"$f":"COUNTIF($F$16:F383,F383)","v":10},"187/4","2008-09-18","باقر هاتف عطيه ناصر","الرابع - أ","ذكر","الرابع",20,9,9,null,null,null,null,null,null,null,13]
[{"$f":"IF(E384=\"\",\"\",SUBTOTAL(3,$E$16:E384))","v":369},{"$f":"COUNTIF($F$16:F384,F384)","v":11},"335/3","2008-02-07","جاسم ابراهيم كاطع عبود","الرابع - أ","ذكر","الرابع",1,5,10,null,null,null,null,null,null,null,13]
[{"$f":"IF(E385=\"\",\"\",SUBTOTAL(3,$E$16:E385))","v":370},{"$f":"COUNTIF($F$16:F385,F385)","v":12},"164/4","2007-09-30","حسن حسين كامل جاسم","الرابع - أ","ذكر","الرابع",8,9,10,null,null,null,null,null,null,null,13]
[{"$f":"IF(E386=\"\",\"\",SUBTOTAL(3,$E$16:E386))","v":371},{"$f":"COUNTIF($F$16:F386,F386)","v":13},"213/4","2006-08-24","حسن شناوه بلبول جبل","الرابع - أ","ذكر","الرابع",14,10,11,null,null,null,null,null,null,null,13]
[{"$f":"IF(E387=\"\",\"\",SUBTOTAL(3,$E$16:E387))","v":372},{"$f":"COUNTIF($F$16:F387,F387)","v":14},"232/4","2008-03-02","حسن نعمه منشد عويز","الرابع - أ","ذكر","الرابع",6,4,10,null,null,null,null,null,null,null,13]
[{"$f":"IF(E388=\"\",\"\",SUBTOTAL(3,$E$16:E388))","v":373},{"$f":"COUNTIF($F$16:F388,F388)","v":15},"201/4","2008-02-22","حسين جمال ناظم حيدر","الرابع - أ","ذكر","الرابع",16,4,10,null,null,null,null,null,null,null,13]
[{"$f":"IF(E389=\"\",\"\",SUBTOTAL(3,$E$16:E389))","v":374},{"$f":"COUNTIF($F$16:F389,F389)","v":16},"189/4","2006-06-22","حسين حاكم نجم عبد","الرابع - أ","ذكر","الرابع",16,0,12,null,null,null,null,null,null,null,13]
[{"$f":"IF(E390=\"\",\"\",SUBTOTAL(3,$E$16:E390))","v":375},{"$f":"COUNTIF($F$16:F390,F390)","v":17},"225/4","2008-07-25","حسين شاكر عبد الله جبار","الرابع - أ","ذكر","الرابع",13,11,9,null,null,null,null,null,null,null,13]
[{"$f":"IF(E391=\"\",\"\",SUBTOTAL(3,$E$16:E391))","v":376},{"$f":"COUNTIF($F$16:F391,F391)","v":18},"212/4","2008-02-28","حسين عذاب جابر سوادي","الرابع - أ","ذكر","الرابع",10,4,10,null,null,null,null,null,null,null,13]
[{"$f":"IF(E392=\"\",\"\",SUBTOTAL(3,$E$16:E392))","v":377},{"$f":"COUNTIF($F$16:F392,F392)","v":19},"228/4","2008-03-28","حسين لطيف كاظم عبد","الرابع - أ","ذكر","الرابع",10,3,10,null,null,null,null,null,null,null,13]
[{"$f":"IF(E393=\"\",\"\",SUBTOTAL(3,$E$16:E393))","v":378},{"$f":"COUNTIF($F$16:F393,F393)","v":20},"25/4","2008-12-20","حسين ياس خضير عباس","الرابع - أ","ذكر","الرابع",18,6,9,null,null,null,null,null,null,null,13]
[{"$f":"IF(E394=\"\",\"\",SUBTOTAL(3,$E$16:E394))","v":379},{"$f":"COUNTIF($F$16:F394,F394)","v":21},"247/3","2008-01-20","حمزه مفتن غازي صالح","الرابع - أ","ذكر","الرابع",18,5,10,null,null,null,null,null,null,null,13]
[{"$f":"IF(E395=\"\",\"\",SUBTOTAL(3,$E$16:E395))","v":380},{"$f":"COUNTIF($F$16:F395,F395)","v":22},"50/4","2007-07-29","ذو الفقار عامر عبد معيوف","الرابع - أ","ذكر","الرابع",9,11,10,null,null,null,null,null,null,null,13]
[{"$f":"IF(E396=\"\",\"\",SUBTOTAL(3,$E$16:E396))","v":381},{"$f":"COUNTIF($F$16:F396,F396)","v":23},"190/4","2005-08-29","راسم سلمان مزهر جابر","الرابع - أ","ذكر","الرابع",9,10,12,null,null,null,null,null,null,null,13]
[{"$f":"IF(E397=\"\",\"\",SUBTOTAL(3,$E$16:E397))","v":382},{"$f":"COUNTIF($F$16:F397,F397)","v":24},"94/4","2007-02-08","رضا حسين كامل جاسم","الرابع - أ","ذكر","الرابع",0,5,11,null,null,null,null,null,null,null,13]
[{"$f":"IF(E398=\"\",\"\",SUBTOTAL(3,$E$16:E398))","v":383},{"$f":"COUNTIF($F$16:F398,F398)","v":25},"216/4","2008-04-20","رضا سامي عناد غالي","الرابع - أ","ذكر","الرابع",18,2,10,null,null,null,null,null,null,null,13]
[{"$f":"IF(E399=\"\",\"\",SUBTOTAL(3,$E$16:E399))","v":384},{"$f":"COUNTIF($F$16:F399,F399)","v":26},"197/4","2007-04-06","رضا سعود عباس حسين","الرابع - أ","ذكر","الرابع",2,3,11,null,null,null,null,null,null,null,13]
[{"$f":"IF(E400=\"\",\"\",SUBTOTAL(3,$E$16:E400))","v":385},{"$f":"COUNTIF($F$16:F400,F400)","v":27},"352/3","2008-09-03","رضا فيصل غازي صالح","الرابع - أ","ذكر",{"$f":"IF(OR(F400=$T$5,F400=$T$6,F400=$T$7,F400=$T$8),\"الاول\",IF(OR(F400=$T$9,F400=$T$10,F400=$T$11,F400=$T$12),\"الثاني\",IF(OR(F400=$T$13,F400=$T$14,F400=$T$15,F400=$T$16),\"الثالث\",IF(OR(F400=$T$17,F400=$T$18,F400=$T$19,F400=$T$20),\"الرابع\",IF(OR(F400=$T$21,F400=$T$22,F400=$T$32,F400=$T$24),\"الخامس\",IF(OR(F400=$T$25,F400=$T$26,F400=$T$27,F400=$T$28),\"السادس\",\"\"))))))","v":"الرابع"},{"$f":"DATEDIF($D400,$M$16,\"md\")","v":5},{"$f":"DATEDIF($D400,$M$16,\"ym\")","v":10},{"$f":"DATEDIF($D400,$M$16,\"y\")","v":9},null,null,null,null,null,null,null,{"$f":"IF(F400=$T$5,1,IF(F400=$T$6,2,IF(F400=$T$7,3,IF(F400=$T$8,4,IF(F400=$T$9,5,IF(F400=$T$10,6,IF(F400=$T$11,7,IF(F400=$T$12,8,IF(F400=$T$13,9,IF(F400=$T$14,10,IF(F400=$T$15,11,IF(F400=$T$16,12,IF(F400=$T$17,13,IF(F400=$T$18,14,IF(F400=$T$19,15,IF(F400=$T$20,16,IF(F400=$T$21,17,IF(F400=$T$22,18,IF(F400=$T$23,19,IF(F400=$T$24,20,IF(F400=$T$25,21,IF(F400=$T$26,22,IF(F400=$T$27,23,IF(F400=$T$28,24,\"\"))))))))))))))))))))))))","v":13}]
[{"$f":"IF(E401=\"\",\"\",SUBTOTAL(3,$E$16:E401))","v":386},{"$f":"COUNTIF($F$16:F401,F401)","v":28},"142/4","2008-10-09","زين العابدين رائد عصيب علي","الرابع - أ","ذكر","الرابع",29,8,9,null,null,null,null,null,null,null,13]
[{"$f":"IF(E402=\"\",\"\",SUBTOTAL(3,$E$16:E402))","v":387},{"$f":"COUNTIF($F$16:F402,F402)","v":29},"215/4","2006-03-24","سجاد ناطق سامي حنون ","الرابع - أ","ذكر","الرابع",14,3,12,null,null,null,null,null,null,null,13]
[{"$f":"IF(E403=\"\",\"\",SUBTOTAL(3,$E$16:E403))","v":388},{"$f":"COUNTIF($F$16:F403,F403)","v":30},null,"2009-01-22","شعلان راجوج هادي كاظم","الرابع - أ","ذكر","الرابع",16,5,9,null,null,null,null,null,null,null,13]
[{"$f":"IF(E404=\"\",\"\",SUBTOTAL(3,$E$16:E404))","v":389},{"$f":"COUNTIF($F$16:F404,F404)","v":31},"87/4","2008-08-08","صادق وسام كريم جهادي","الرابع - أ","ذكر","الرابع",0,11,9,null,null,null,null,null,null,null,13]
[{"$f":"IF(E405=\"\",\"\",SUBTOTAL(3,$E$16:E405))","v":390},{"$f":"COUNTIF($F$16:F405,F405)","v":32},"60/4","2008-08-09","عباس سالم رحيم عجه","الرابع - أ","ذكر","الرابع",29,10,9,null,null,null,null,null,null,null,13]
[{"$f":"IF(E406=\"\",\"\",SUBTOTAL(3,$E$16:E406))","v":391},{"$f":"COUNTIF($F$16:F406,F406)","v":33},"136/4","2007-11-05","عباس فليح كريم عطشان","الرابع - أ","ذكر","الرابع",3,8,10,null,null,null,null,null,null,null,13]
[{"$f":"IF(E407=\"\",\"\",SUBTOTAL(3,$E$16:E407))","v":392},{"$f":"COUNTIF($F$16:F407,F407)","v":34},"62/4","2007-08-13","عباس كاظم دويج عبد","الرابع - أ","ذكر","الرابع",25,10,10,null,null,null,null,null,null,null,13]
[{"$f":"IF(E408=\"\",\"\",SUBTOTAL(3,$E$16:E408))","v":393},{"$f":"COUNTIF($F$16:F408,F408)","v":35},"168/3","2008-09-25","عباس ناظم حمود عبد الحسن","الرابع - أ","ذكر","الرابع",13,9,9,null,null,null,null,null,null,null,13]
[{"$f":"IF(E409=\"\",\"\",SUBTOTAL(3,$E$16:E409))","v":394},{"$f":"COUNTIF($F$16:F409,F409)","v":36},"158/4","2007-03-07","علاء جمال سهيل عبد","الرابع - أ","ذكر","الرابع",1,4,11,null,null,null,null,null,null,null,13]
[{"$f":"IF(E410=\"\",\"\",SUBTOTAL(3,$E$16:E410))","v":395},{"$f":"COUNTIF($F$16:F410,F410)","v":37},"205/4","2004-05-12","علي حامد حنون نجم","الرابع - أ","ذكر","الرابع",26,1,14,null,null,null,null,null,null,null,13]
[{"$f":"IF(E411=\"\",\"\",SUBTOTAL(3,$E$16:E411))","v":396},{"$f":"COUNTIF($F$16:F411,F411)","v":38},"179/4","2008-07-28","علي عادل غازي صالح","الرابع - أ","ذكر","الرابع",10,11,9,null,null,null,null,null,null,null,13]
[{"$f":"IF(E412=\"\",\"\",SUBTOTAL(3,$E$16:E412))","v":397},{"$f":"COUNTIF($F$16:F412,F412)","v":39},"282/4","2008-02-08","علي فلاح حسن نعمه","الرابع - أ","ذكر","الرابع",0,5,10,null,null,null,null,null,null,null,13]
[{"$f":"IF(E413=\"\",\"\",SUBTOTAL(3,$E$16:E413))","v":398},{"$f":"COUNTIF($F$16:F413,F413)","v":40},"157/4","2008-09-20","علي كاطع مسعد حبيت","الرابع - أ","ذكر","الرابع",18,9,9,null,null,null,null,null,null,null,13]
[{"$f":"IF(E414=\"\",\"\",SUBTOTAL(3,$E$16:E414))","v":399},{"$f":"COUNTIF($F$16:F414,F414)","v":41},"241/3","2005-07-21","علي كريم خماط كمين","الرابع - أ","ذكر","الرابع",17,11,12,null,null,null,null,null,null,null,13]
[{"$f":"IF(E415=\"\",\"\",SUBTOTAL(3,$E$16:E415))","v":400},{"$f":"COUNTIF($F$16:F415,F415)","v":42},"210/4","2008-09-23","علي مرتضى عزيز حمد","الرابع - أ","ذكر","الرابع",15,9,9,null,null,null,null,null,null,null,13]
[{"$f":"IF(E416=\"\",\"\",SUBTOTAL(3,$E$16:E416))","v":401},{"$f":"COUNTIF($F$16:F416,F416)","v":43},"173/4","2008-12-18","علي ناجح مايح شاني","الرابع - أ","ذكر","الرابع",20,6,9,null,null,null,null,null,null,null,13]
[{"$f":"IF(E417=\"\",\"\",SUBTOTAL(3,$E$16:E417))","v":402},{"$f":"COUNTIF($F$16:F417,F417)","v":44},"159/4","2008-05-20","عماد حيدر خشان سفاح","الرابع - أ","ذكر","الرابع",18,1,10,null,null,null,null,null,null,null,13]
[{"$f":"IF(E418=\"\",\"\",SUBTOTAL(3,$E$16:E418))","v":403},{"$f":"COUNTIF($F$16:F418,F418)","v":45},"315/3","2006-12-21","عمار فاضل مهلهل شعلان","الرابع - أ","ذكر","الرابع",17,6,11,null,null,null,null,null,null,null,13]
[{"$f":"IF(E419=\"\",\"\",SUBTOTAL(3,$E$16:E419))","v":404},{"$f":"COUNTIF($F$16:F419,F419)","v":46},"217/4","2007-11-25","لؤي داخل عطيه عويز","الرابع - أ","ذكر","الرابع",13,7,10,null,null,null,null,null,null,null,13]
[{"$f":"IF(E420=\"\",\"\",SUBTOTAL(3,$E$16:E420))","v":405},{"$f":"COUNTIF($F$16:F420,F420)","v":47},"129/4","2009-01-23","مجتبى سمير حسين كامل","الرابع - أ","ذكر","الرابع",15,5,9,null,null,null,null,null,null,null,13]
[{"$f":"IF(E421=\"\",\"\",SUBTOTAL(3,$E$16:E421))","v":406},{"$f":"COUNTIF($F$16:F421,F421)","v":48},"93/4","2007-06-21","محمد جبار خشان سفاح","الرابع - أ","ذكر","الرابع",17,0,11,null,null,null,null,null,null,null,13]
[{"$f":"IF(E422=\"\",\"\",SUBTOTAL(3,$E$16:E422))","v":407},{"$f":"COUNTIF($F$16:F422,F422)","v":49},"289/3","2006-01-28","محمد سيف خماط كمين","الرابع - أ","ذكر","الرابع",10,5,12,null,null,null,null,null,null,null,13]
[{"$f":"IF(E423=\"\",\"\",SUBTOTAL(3,$E$16:E423))","v":408},{"$f":"COUNTIF($F$16:F423,F423)","v":50},"191/4","2009-01-26","محمد صادق محمد سلطان كريم","الرابع - أ","ذكر","الرابع",12,5,9,null,null,null,null,null,null,null,13]
[{"$f":"IF(E424=\"\",\"\",SUBTOTAL(3,$E$16:E424))","v":409},{"$f":"COUNTIF($F$16:F424,F424)","v":51},"18/4","2006-10-29","مرتضى عقيل يوسف هاشم","الرابع - أ","ذكر","الرابع",9,8,11,null,null,null,null,null,null,null,13]
[{"$f":"IF(E425=\"\",\"\",SUBTOTAL(3,$E$16:E425))","v":410},{"$f":"COUNTIF($F$16:F425,F425)","v":52},"69/4","2007-10-16","مصطفى احمد ارحيم كريم","الرابع - أ","ذكر","الرابع",22,8,10,null,null,null,null,null,null,null,13]
[{"$f":"IF(E426=\"\",\"\",SUBTOTAL(3,$E$16:E426))","v":411},{"$f":"COUNTIF($F$16:F426,F426)","v":53},"198/4","2008-03-26","مصطفى بدر نعيم صالح","الرابع - أ","ذكر","الرابع",12,3,10,null,null,null,null,null,null,null,13]
[{"$f":"IF(E427=\"\",\"\",SUBTOTAL(3,$E$16:E427))","v":412},{"$f":"COUNTIF($F$16:F427,F427)","v":1},"227/4","2008-02-15","منتظر سالم عينون جبل","الرابع - ب","ذكر","الرابع",23,4,10,null,null,null,null,null,null,null,14]
[{"$f":"IF(E428=\"\",\"\",SUBTOTAL(3,$E$16:E428))","v":413},{"$f":"COUNTIF($F$16:F428,F428)","v":2},"137/4","2007-09-24","مهدي أحمد ساهي عواد","الرابع - ب","ذكر","الرابع",14,9,10,null,null,null,null,null,null,null,14]
[{"$f":"IF(E429=\"\",\"\",SUBTOTAL(3,$E$16:E429))","v":414},{"$f":"COUNTIF($F$16:F429,F429)","v":3},"188/4","2009-01-29","مهدي صباح دايخ حبيت","الرابع - ب","ذكر","الرابع",9,5,9,null,null,null,null,null,null,null,14]
[{"$f":"IF(E430=\"\",\"\",SUBTOTAL(3,$E$16:E430))","v":415},{"$f":"COUNTIF($F$16:F430,F430)","v":4},"131/4","2008-12-26","مؤمل احمد حسن عوض","الرابع - ب","ذكر","الرابع",12,6,9,null,null,null,null,null,null,null,14]
[{"$f":"IF(E431=\"\",\"\",SUBTOTAL(3,$E$16:E431))","v":416},{"$f":"COUNTIF($F$16:F431,F431)","v":5},"234/3","2005-12-03","مؤمل رزاق عجه طشاش","الرابع - ب","ذكر","الرابع",5,7,12,null,null,null,null,null,null,null,14]
[{"$f":"IF(E432=\"\",\"\",SUBTOTAL(3,$E$16:E432))","v":417},{"$f":"COUNTIF($F$16:F432,F432)","v":6},"218/4","2008-08-28","ياسر فارس ناظم حمود","الرابع - ب","ذكر","الرابع",10,10,9,null,null,null,null,null,null,null,14]
[{"$f":"IF(E433=\"\",\"\",SUBTOTAL(3,$E$16:E433))","v":418},{"$f":"COUNTIF($F$16:F433,F433)","v":7},"230/4","2008-01-25","اسراء مالك عناد غالي","الرابع - ب","انثى","الرابع",13,5,10,null,null,null,null,null,null,null,14]
[{"$f":"IF(E434=\"\",\"\",SUBTOTAL(3,$E$16:E434))","v":419},{"$f":"COUNTIF($F$16:F434,F434)","v":8},"128/4","2008-04-26","اسيا محمد دريح علوان","الرابع - ب","انثى","الرابع",12,2,10,null,null,null,null,null,null,null,14]
[{"$f":"IF(E435=\"\",\"\",SUBTOTAL(3,$E$16:E435))","v":420},{"$f":"COUNTIF($F$16:F435,F435)","v":9},"195/4","2008-07-10","امنه عدنان محمد عبد الرضا","الرابع - ب","انثى","الرابع",28,11,9,null,null,null,null,null,null,null,14]
[{"$f":"IF(E436=\"\",\"\",SUBTOTAL(3,$E$16:E436))","v":421},{"$f":"COUNTIF($F$16:F436,F436)","v":10},"202/4","2008-04-30","امنه غازي حيدر حسن","الرابع - ب","انثى","الرابع",8,2,10,null,null,null,null,null,null,null,14]
[{"$f":"IF(E437=\"\",\"\",SUBTOTAL(3,$E$16:E437))","v":422},{"$f":"COUNTIF($F$16:F437,F437)","v":11},"299/3","2006-04-11","اميمه علي كاظم حمد","الرابع - ب","انثى","الرابع",27,2,12,null,null,null,null,null,null,null,14]
[{"$f":"IF(E438=\"\",\"\",SUBTOTAL(3,$E$16:E438))","v":423},{"$f":"COUNTIF($F$16:F438,F438)","v":12},"238/4","2008-10-22","ايات مجيد كريم جياد","الرابع - ب","انثى","الرابع",16,8,9,null,null,null,null,null,null,null,14]
[{"$f":"IF(E439=\"\",\"\",SUBTOTAL(3,$E$16:E439))","v":424},{"$f":"COUNTIF($F$16:F439,F439)","v":13},"199/4","2008-06-21","آيه صاحب عباس حسين","الرابع - ب","انثى","الرابع",17,0,10,null,null,null,null,null,null,null,14]
[{"$f":"IF(E440=\"\",\"\",SUBTOTAL(3,$E$16:E440))","v":425},{"$f":"COUNTIF($F$16:F440,F440)","v":14},"122/4","2007-08-30","بنين ضياء رحيم كريم","الرابع - ب","انثى","الرابع",8,10,10,null,null,null,null,null,null,null,14]
[{"$f":"IF(E441=\"\",\"\",SUBTOTAL(3,$E$16:E441))","v":426},{"$f":"COUNTIF($F$16:F441,F441)","v":15},"149/4","2008-12-10","حنين غني جابر طعمه","الرابع - ب","انثى","الرابع",28,6,9,null,null,null,null,null,null,null,14]
[{"$f":"IF(E442=\"\",\"\",SUBTOTAL(3,$E$16:E442))","v":427},{"$f":"COUNTIF($F$16:F442,F442)","v":16},"133/4","2008-04-26","خديجه فاضل مهلهل شعلان","الرابع - ب","انثى","الرابع",12,2,10,null,null,null,null,null,null,null,14]
[{"$f":"IF(E443=\"\",\"\",SUBTOTAL(3,$E$16:E443))","v":428},{"$f":"COUNTIF($F$16:F443,F443)","v":17},"222/4","2009-01-02","خديجه يوسف جاسم تعبان","الرابع - ب","انثى","الرابع",6,6,9,null,null,null,null,null,null,null,14]
[{"$f":"IF(E444=\"\",\"\",SUBTOTAL(3,$E$16:E444))","v":429},{"$f":"COUNTIF($F$16:F444,F444)","v":18},"207/4","2008-01-15","دعاء ثامر شنين جبار","الرابع - ب","انثى","الرابع",23,5,10,null,null,null,null,null,null,null,14]
[{"$f":"IF(E445=\"\",\"\",SUBTOTAL(3,$E$16:E445))","v":430},{"$f":"COUNTIF($F$16:F445,F445)","v":19},"178/4","2008-08-21","رقيه صبار خشان سفاح","الرابع - ب","انثى","الرابع",17,10,9,null,null,null,null,null,null,null,14]
[{"$f":"IF(E446=\"\",\"\",SUBTOTAL(3,$E$16:E446))","v":431},{"$f":"COUNTIF($F$16:F446,F446)","v":20},"175/4","2008-09-28","رقيه مشتاق جواد معيوف","الرابع - ب","انثى","الرابع",10,9,9,null,null,null,null,null,null,null,14]
[{"$f":"IF(E447=\"\",\"\",SUBTOTAL(3,$E$16:E447))","v":432},{"$f":"COUNTIF($F$16:F447,F447)","v":21},"80/4","2007-03-20","رمله وحيد عاوي نجم","الرابع - ب","انثى","الرابع",18,3,11,null,null,null,null,null,null,null,14]
[{"$f":"IF(E448=\"\",\"\",SUBTOTAL(3,$E$16:E448))","v":433},{"$f":"COUNTIF($F$16:F448,F448)","v":22},"220/4","25/12/2007","زهراء احمد جمعه مري","الرابع - ب","انثى","الرابع",13,6,10,null,null,null,null,null,null,null,14]
[{"$f":"IF(E449=\"\",\"\",SUBTOTAL(3,$E$16:E449))","v":434},{"$f":"COUNTIF($F$16:F449,F449)","v":23},"192/4","27/2/2008","زهراء احمد محمد كاطع","الرابع - ب","انثى","الرابع",11,4,10,null,null,null,null,null,null,null,14]
[{"$f":"IF(E450=\"\",\"\",SUBTOTAL(3,$E$16:E450))","v":435},{"$f":"COUNTIF($F$16:F450,F450)","v":24},"161/4","30/7/2008","زهراء أحمد سلطان كريم","الرابع - ب","انثى","الرابع",8,11,9,null,null,null,null,null,null,null,14]
[{"$f":"IF(E451=\"\",\"\",SUBTOTAL(3,$E$16:E451))","v":436},{"$f":"COUNTIF($F$16:F451,F451)","v":25},"186/4","13/8/2008","زهراء حسون كاظم حمد","الرابع - ب","انثى","الرابع",25,10,9,null,null,null,null,null,null,null,14]
[{"$f":"IF(E452=\"\",\"\",SUBTOTAL(3,$E$16:E452))","v":437},{"$f":"COUNTIF($F$16:F452,F452)","v":26},"203/4","6/12/2008","زهراء داود سلمان راجوج","الرابع - ب","انثى","الرابع",2,7,9,null,null,null,null,null,null,null,14]
[{"$f":"IF(E453=\"\",\"\",SUBTOTAL(3,$E$16:E453))","v":438},{"$f":"COUNTIF($F$16:F453,F453)","v":27},"184/4","17/2/2008","زهراء رحيم جهادي عبد","الرابع - ب","انثى","الرابع",21,4,10,null,null,null,null,null,null,null,14]
[{"$f":"IF(E454=\"\",\"\",SUBTOTAL(3,$E$16:E454))","v":439},{"$f":"COUNTIF($F$16:F454,F454)","v":28},"71/4","2007-08-14","زينب جميل جبار عجه","الرابع - ب","انثى","الرابع",24,10,10,null,null,null,null,null,null,null,14]
[{"$f":"IF(E455=\"\",\"\",SUBTOTAL(3,$E$16:E455))","v":440},{"$f":"COUNTIF($F$16:F455,F455)","v":29},"206/4","26/11/2008","زينب سعد عزيز عبد الحسن","الرابع - ب","انثى","الرابع",12,7,9,null,null,null,null,null,null,null,14]
[{"$f":"IF(E456=\"\",\"\",SUBTOTAL(3,$E$16:E456))","v":441},{"$f":"COUNTIF($F$16:F456,F456)","v":30},"119/4","11/11/2007","زينب سعدون هادي عبيد","الرابع - ب","انثى","الرابع",27,7,10,null,null,null,null,null,null,null,14]
[{"$f":"IF(E457=\"\",\"\",SUBTOTAL(3,$E$16:E457))","v":442},{"$f":"COUNTIF($F$16:F457,F457)","v":31},"223/4","25/12/2007","زينب علي جمعه مري","الرابع - ب","انثى","الرابع",13,6,10,null,null,null,null,null,null,null,14]
[{"$f":"IF(E458=\"\",\"\",SUBTOTAL(3,$E$16:E458))","v":443},{"$f":"COUNTIF($F$16:F458,F458)","v":32},"336/3","2006-08-01","زينب مشعل خنجر كمين","الرابع - ب","انثى","الرابع",7,11,11,null,null,null,null,null,null,null,14]
[{"$f":"IF(E459=\"\",\"\",SUBTOTAL(3,$E$16:E459))","v":444},{"$f":"COUNTIF($F$16:F459,F459)","v":33},"384/3","2006-11-11","زينب نعيم مزهر جابر","الرابع - ب","انثى","الرابع",27,7,11,null,null,null,null,null,null,null,14]
[{"$f":"IF(E460=\"\",\"\",SUBTOTAL(3,$E$16:E460))","v":445},{"$f":"COUNTIF($F$16:F460,F460)","v":34},"127/4","5/9/2007","ساره عادل خضير عباس","الرابع - ب","انثى","الرابع",3,10,10,null,null,null,null,null,null,null,14]
[{"$f":"IF(E461=\"\",\"\",SUBTOTAL(3,$E$16:E461))","v":446},{"$f":"COUNTIF($F$16:F461,F461)","v":35},"101/4","1/4/2007","سكينه فيصل خماط كمين","الرابع - ب","انثى","الرابع",7,3,11,null,null,null,null,null,null,null,14]
[{"$f":"IF(E462=\"\",\"\",SUBTOTAL(3,$E$16:E462))","v":447},{"$f":"COUNTIF($F$16:F462,F462)","v":36},"224/4","19/9/2008","طيبه ابراهيم كريم زغير","الرابع - ب","انثى","الرابع",19,9,9,null,null,null,null,null,null,null,14]
[{"$f":"IF(E463=\"\",\"\",SUBTOTAL(3,$E$16:E463))","v":448},{"$f":"COUNTIF($F$16:F463,F463)","v":37},"170/4","2/10/2007","طيبه جمعه ظاهر مرزوك","الرابع - ب","انثى","الرابع",6,9,10,null,null,null,null,null,null,null,14]
[{"$f":"IF(E464=\"\",\"\",SUBTOTAL(3,$E$16:E464))","v":449},{"$f":"COUNTIF($F$16:F464,F464)","v":38},"208/4","23/11/2008","طيبه ستار جبير شنيور","الرابع - ب","انثى",{"$f":"IF(OR(F464=$T$5,F464=$T$6,F464=$T$7,F464=$T$8),\"الاول\",IF(OR(F464=$T$9,F464=$T$10,F464=$T$11,F464=$T$12),\"الثاني\",IF(OR(F464=$T$13,F464=$T$14,F464=$T$15,F464=$T$16),\"الثالث\",IF(OR(F464=$T$17,F464=$T$18,F464=$T$19,F464=$T$20),\"الرابع\",IF(OR(F464=$T$21,F464=$T$22,F464=$T$32,F464=$T$24),\"الخامس\",IF(OR(F464=$T$25,F464=$T$26,F464=$T$27,F464=$T$28),\"السادس\",\"\"))))))","v":"الرابع"},{"$f":"DATEDIF($D464,$M$16,\"md\")","v":15},{"$f":"DATEDIF($D464,$M$16,\"ym\")","v":7},{"$f":"DATEDIF($D464,$M$16,\"y\")","v":9},null,null,null,null,null,null,null,{"$f":"IF(F464=$T$5,1,IF(F464=$T$6,2,IF(F464=$T$7,3,IF(F464=$T$8,4,IF(F464=$T$9,5,IF(F464=$T$10,6,IF(F464=$T$11,7,IF(F464=$T$12,8,IF(F464=$T$13,9,IF(F464=$T$14,10,IF(F464=$T$15,11,IF(F464=$T$16,12,IF(F464=$T$17,13,IF(F464=$T$18,14,IF(F464=$T$19,15,IF(F464=$T$20,16,IF(F464=$T$21,17,IF(F464=$T$22,18,IF(F464=$T$23,19,IF(F464=$T$24,20,IF(F464=$T$25,21,IF(F464=$T$26,22,IF(F464=$T$27,23,IF(F464=$T$28,24,\"\"))))))))))))))))))))))))","v":14}]
[{"$f":"IF(E465=\"\",\"\",SUBTOTAL(3,$E$16:E465))","v":450},{"$f":"COUNTIF($F$16:F465,F465)","v":39},"181/4","25/6/2008","فاطمه جعفر محمد كاطع","الرابع - ب","انثى","الرابع",13,0,10,null,null,null,null,null,null,null,14]
[{"$f":"IF(E466=\"\",\"\",SUBTOTAL(3,$E$16:E466))","v":451},{"$f":"COUNTIF($F$16:F466,F466)","v":40},"147/4","17/10/2007","فاطمه صادق عبد الخضر عبد النبي","الرابع - ب","انثى","الرابع",21,8,10,null,null,null,null,null,null,null,14]
[{"$f":"IF(E467=\"\",\"\",SUBTOTAL(3,$E$16:E467))","v":452},{"$f":"COUNTIF($F$16:F467,F467)","v":41},"145/4","23/10/2007","فاطمه منصور فليح كريم","الرابع - ب","انثى","الرابع",15,8,10,null,null,null,null,null,null,null,14]
[{"$f":"IF(E468=\"\",\"\",SUBTOTAL(3,$E$16:E468))","v":453},{"$f":"COUNTIF($F$16:F468,F468)","v":42},"75/4","3/11/2007","فاطمه ناظم حمود عبد الحسن","الرابع - ب","انثى","الرابع",5,8,10,null,null,null,null,null,null,null,14]
[{"$f":"IF(E469=\"\",\"\",SUBTOTAL(3,$E$16:E469))","v":454},{"$f":"COUNTIF($F$16:F469,F469)","v":43},"204/4","17/1/2009","فواطم امر عبد معيوف","الرابع - ب","انثى","الرابع",21,5,9,null,null,null,null,null,null,null,14]
[{"$f":"IF(E470=\"\",\"\",SUBTOTAL(3,$E$16:E470))","v":455},{"$f":"COUNTIF($F$16:F470,F470)","v":44},"229/4","11/3/2008","كوثر فلاح حسن عبد الرضا","الرابع - ب","انثى","الرابع",27,3,10,null,null,null,null,null,null,null,14]
[{"$f":"IF(E471=\"\",\"\",SUBTOTAL(3,$E$16:E471))","v":456},{"$f":"COUNTIF($F$16:F471,F471)","v":45},"162/4","26/1/2009","كوثر ناطق هاشم دويج","الرابع - ب","انثى","الرابع",12,5,9,null,null,null,null,null,null,null,14]
[{"$f":"IF(E472=\"\",\"\",SUBTOTAL(3,$E$16:E472))","v":457},{"$f":"COUNTIF($F$16:F472,F472)","v":46},"169/4","10/4/2008","مروه هاشم عطيه صالح","الرابع - ب","انثى","الرابع",28,2,10,null,null,null,null,null,null,null,14]
[{"$f":"IF(E473=\"\",\"\",SUBTOTAL(3,$E$16:E473))","v":458},{"$f":"COUNTIF($F$16:F473,F473)","v":47},"172/4","16/8/2008","نور الهدى احمد جميل كريم","الرابع - ب","انثى","الرابع",22,10,9,null,null,null,null,null,null,null,14]
[{"$f":"IF(E474=\"\",\"\",SUBTOTAL(3,$E$16:E474))","v":459},{"$f":"COUNTIF($F$16:F474,F474)","v":48},"239/4","2007-05-08","هبه مجيد كريم جياد","الرابع - ب","انثى","الرابع",0,2,11,null,null,null,null,null,null,null,14]
[{"$f":"IF(E475=\"\",\"\",SUBTOTAL(3,$E$16:E475))","v":460},{"$f":"COUNTIF($F$16:F475,F475)","v":49},"104/4","10/1/2008","وفاء محمد كريم عطشان","الرابع - ب","انثى","الرابع",28,5,10,null,null,null,null,null,null,null,14]
[{"$f":"IF(E476=\"\",\"\",SUBTOTAL(3,$E$16:E476))","v":461},{"$f":"COUNTIF($F$16:F476,F476)","v":1},"29/4","2008-01-01","احمد ثائر رحيم كاظم","الخامس - أ","ذكر","الخامس",7,6,10,null,null,null,null,null,null,null,17]
[{"$f":"IF(E477=\"\",\"\",SUBTOTAL(3,$E$16:E477))","v":462},{"$f":"COUNTIF($F$16:F477,F477)","v":2},"52/4","2007-08-16","احمد عباس كريم صالح","الخامس - أ","ذكر","الخامس",22,10,10,null,null,null,null,null,null,null,17]
[{"$f":"IF(E478=\"\",\"\",SUBTOTAL(3,$E$16:E478))","v":463},{"$f":"COUNTIF($F$16:F478,F478)","v":3},"233/4","2006-08-20","احمد عبد الأمير حواس بجاي","الخامس - أ","ذكر","الخامس",18,10,11,null,null,null,null,null,null,null,17]
[{"$f":"IF(E479=\"\",\"\",SUBTOTAL(3,$E$16:E479))","v":464},{"$f":"COUNTIF($F$16:F479,F479)","v":4},"283/4","2005-01-01","احمد فلاح حسن نعمه","الخامس - أ","ذكر","الخامس",7,6,13,null,null,null,null,null,null,null,17]
[{"$f":"IF(E480=\"\",\"\",SUBTOTAL(3,$E$16:E480))","v":465},{"$f":"COUNTIF($F$16:F480,F480)","v":5},"351/3","2006-09-04","اركان عدنان هداد حنون","الخامس - أ","ذكر","الخامس",4,10,11,null,null,null,null,null,null,null,17]
[{"$f":"IF(E481=\"\",\"\",SUBTOTAL(3,$E$16:E481))","v":466},{"$f":"COUNTIF($F$16:F481,F481)","v":6},"34/4","2007-12-18","امير علي هداد حنون ","الخامس - أ","ذكر","الخامس",20,6,10,null,null,null,null,null,null,null,17]
[{"$f":"IF(E482=\"\",\"\",SUBTOTAL(3,$E$16:E482))","v":467},{"$f":"COUNTIF($F$16:F482,F482)","v":7},"56/4","2008-01-10","حسام شريف حنون نجم","الخامس - أ","ذكر","الخامس",28,5,10,null,null,null,null,null,null,null,17]
[{"$f":"IF(E483=\"\",\"\",SUBTOTAL(3,$E$16:E483))","v":468},{"$f":"COUNTIF($F$16:F483,F483)","v":8},"97/4","2007-01-01","حسن علي فيصل خماط","الخامس - أ","ذكر","الخامس",7,6,11,null,null,null,null,null,null,null,17]
[{"$f":"IF(E484=\"\",\"\",SUBTOTAL(3,$E$16:E484))","v":469},{"$f":"COUNTIF($F$16:F484,F484)","v":9},"32/4","2007-09-05","حسين رعد رحيم كاظم ","الخامس - أ","ذكر","الخامس",3,10,10,null,null,null,null,null,null,null,17]
[{"$f":"IF(E485=\"\",\"\",SUBTOTAL(3,$E$16:E485))","v":470},{"$f":"COUNTIF($F$16:F485,F485)","v":10},"100/4","2007-08-25","حسين شهيد حسين خضر","الخامس - أ","ذكر","الخامس",13,10,10,null,null,null,null,null,null,null,17]
[{"$f":"IF(E486=\"\",\"\",SUBTOTAL(3,$E$16:E486))","v":471},{"$f":"COUNTIF($F$16:F486,F486)","v":11},"249/3","2005-06-11","حسين علاء رحيم عجه","الخامس - أ","ذكر","الخامس",27,0,13,null,null,null,null,null,null,null,17]
[{"$f":"IF(E487=\"\",\"\",SUBTOTAL(3,$E$16:E487))","v":472},{"$f":"COUNTIF($F$16:F487,F487)","v":12},"24/4","2008-01-07","حسين علي كاظم حمد","الخامس - أ","ذكر","الخامس",1,6,10,null,null,null,null,null,null,null,17]
[{"$f":"IF(E488=\"\",\"\",SUBTOTAL(3,$E$16:E488))","v":473},{"$f":"COUNTIF($F$16:F488,F488)","v":13},"57/4","2007-04-01","حسين فليح كريم عطشان","الخامس - أ","ذكر","الخامس",7,3,11,null,null,null,null,null,null,null,17]
[{"$f":"IF(E489=\"\",\"\",SUBTOTAL(3,$E$16:E489))","v":474},{"$f":"COUNTIF($F$16:F489,F489)","v":14},"313/3","2006-07-07","حسين مازي عناد ساجت","الخامس - أ","ذكر","الخامس",1,0,12,null,null,null,null,null,null,null,17]
[{"$f":"IF(E490=\"\",\"\",SUBTOTAL(3,$E$16:E490))","v":475},{"$f":"COUNTIF($F$16:F490,F490)","v":15},"233/3","2004-07-15","حسين مشعل خنجر كمين","الخامس - أ","ذكر","الخامس",23,11,13,null,null,null,null,null,null,null,17]
[{"$f":"IF(E491=\"\",\"\",SUBTOTAL(3,$E$16:E491))","v":476},{"$f":"COUNTIF($F$16:F491,F491)","v":16},"341/3","2006-04-06","رضا احمد ظاهر مرزوك","الخامس - أ","ذكر","الخامس",2,3,12,null,null,null,null,null,null,null,17]
[{"$f":"IF(E492=\"\",\"\",SUBTOTAL(3,$E$16:E492))","v":477},{"$f":"COUNTIF($F$16:F492,F492)","v":17},"329/3","2006-08-11","رضا ناظم شاكر جعمول","الخامس - أ","ذكر","الخامس",27,10,11,null,null,null,null,null,null,null,17]
[{"$f":"IF(E493=\"\",\"\",SUBTOTAL(3,$E$16:E493))","v":478},{"$f":"COUNTIF($F$16:F493,F493)","v":18},"85/4","2007-11-05","رضا نبراس عبد الخضر لعيبي","الخامس - أ","ذكر","الخامس",3,8,10,null,null,null,null,null,null,null,17]
[{"$f":"IF(E494=\"\",\"\",SUBTOTAL(3,$E$16:E494))","v":479},{"$f":"COUNTIF($F$16:F494,F494)","v":19},"36/4","2007-04-22","سجاد جاسم راجوج شعلان","الخامس - أ","ذكر","الخامس",16,2,11,null,null,null,null,null,null,null,17]
[{"$f":"IF(E495=\"\",\"\",SUBTOTAL(3,$E$16:E495))","v":480},{"$f":"COUNTIF($F$16:F495,F495)","v":20},"89/4","2007-11-07","شاكر كاظم شاكر جعمول","الخامس - أ","ذكر","الخامس",1,8,10,null,null,null,null,null,null,null,17]
[{"$f":"IF(E496=\"\",\"\",SUBTOTAL(3,$E$16:E496))","v":481},{"$f":"COUNTIF($F$16:F496,F496)","v":21},"59/4","2007-10-08","صالح ناجح نعيم صالح","الخامس - أ","ذكر","الخامس",0,9,10,null,null,null,null,null,null,null,17]
[{"$f":"IF(E497=\"\",\"\",SUBTOTAL(3,$E$16:E497))","v":482},{"$f":"COUNTIF($F$16:F497,F497)","v":22},"95/4","2007-08-09","ضياء رياض صبحي وعد","الخامس - أ","ذكر","الخامس",29,10,10,null,null,null,null,null,null,null,17]
[{"$f":"IF(E498=\"\",\"\",SUBTOTAL(3,$E$16:E498))","v":483},{"$f":"COUNTIF($F$16:F498,F498)","v":23},"91/4","2007-05-09","عباس احمد دريح علوان","الخامس - أ","ذكر","الخامس",29,1,11,null,null,null,null,null,null,null,17]
[{"$f":"IF(E499=\"\",\"\",SUBTOTAL(3,$E$16:E499))","v":484},{"$f":"COUNTIF($F$16:F499,F499)","v":24},"23/4","2007-08-11","عباس حسن مالك محمود","الخامس - أ","ذكر","الخامس",27,10,10,null,null,null,null,null,null,null,17]
[{"$f":"IF(E500=\"\",\"\",SUBTOTAL(3,$E$16:E500))","v":485},{"$f":"COUNTIF($F$16:F500,F500)","v":25},"61/4","2007-09-16","عباس قائد كاظم عبيد","الخامس - أ","ذكر","الخامس",22,9,10,null,null,null,null,null,null,null,17]
[{"$f":"IF(E501=\"\",\"\",SUBTOTAL(3,$E$16:E501))","v":486},{"$f":"COUNTIF($F$16:F501,F501)","v":26},"328/3","2006-12-28","عباس كارون رحيم عجه","الخامس - أ","ذكر","الخامس",10,6,11,null,null,null,null,null,null,null,17]
[{"$f":"IF(E502=\"\",\"\",SUBTOTAL(3,$E$16:E502))","v":487},{"$f":"COUNTIF($F$16:F502,F502)","v":27},"88/4","2007-08-15","عباس محمد رحيم قند","الخامس - أ","ذكر","الخامس",23,10,10,null,null,null,null,null,null,null,17]
[{"$f":"IF(E503=\"\",\"\",SUBTOTAL(3,$E$16:E503))","v":488},{"$f":"COUNTIF($F$16:F503,F503)","v":28},"254/3","2006-01-19","عقيل صبار خشان سفاح","الخامس - أ","ذكر","الخامس",19,5,12,null,null,null,null,null,null,null,17]
[{"$f":"IF(E504=\"\",\"\",SUBTOTAL(3,$E$16:E504))","v":489},{"$f":"COUNTIF($F$16:F504,F504)","v":29},"63/4","2007-08-09","علي حسين كامل جعمول","الخامس - أ","ذكر","الخامس",29,10,10,null,null,null,null,null,null,null,17]
[{"$f":"IF(E505=\"\",\"\",SUBTOTAL(3,$E$16:E505))","v":490},{"$f":"COUNTIF($F$16:F505,F505)","v":30},"33/4","2008-01-01","علي رياض حسين كامل","الخامس - أ","ذكر","الخامس",7,6,10,null,null,null,null,null,null,null,17]
[{"$f":"IF(E506=\"\",\"\",SUBTOTAL(3,$E$16:E506))","v":491},{"$f":"COUNTIF($F$16:F506,F506)","v":31},"64/4","2006-12-19","علي عذاب جابر سوادي","الخامس - أ","ذكر","الخامس",19,6,11,null,null,null,null,null,null,null,17]
[{"$f":"IF(E507=\"\",\"\",SUBTOTAL(3,$E$16:E507))","v":492},{"$f":"COUNTIF($F$16:F507,F507)","v":32},"349/3","2006-07-05","علي عيسى جاسم تعبان","الخامس - أ","ذكر","الخامس",3,0,12,null,null,null,null,null,null,null,17]
[{"$f":"IF(E508=\"\",\"\",SUBTOTAL(3,$E$16:E508))","v":493},{"$f":"COUNTIF($F$16:F508,F508)","v":33},"96/4","2006-12-10","علي هادي بلبول جبل","الخامس - أ","ذكر","الخامس",28,6,11,null,null,null,null,null,null,null,17]
[{"$f":"IF(E509=\"\",\"\",SUBTOTAL(3,$E$16:E509))","v":494},{"$f":"COUNTIF($F$16:F509,F509)","v":34},"99/4","2007-02-21","علي وسام داخل كريم","الخامس - أ","ذكر","الخامس",17,4,11,null,null,null,null,null,null,null,17]
[{"$f":"IF(E510=\"\",\"\",SUBTOTAL(3,$E$16:E510))","v":495},{"$f":"COUNTIF($F$16:F510,F510)","v":35},"14/4","2006-11-29","كاظم علي شلاكه مرزوك","الخامس - أ","ذكر","الخامس",9,7,11,null,null,null,null,null,null,null,17]
[{"$f":"IF(E511=\"\",\"\",SUBTOTAL(3,$E$16:E511))","v":496},{"$f":"COUNTIF($F$16:F511,F511)","v":36},"192/3","2004-05-15","كرار محمد شاكر جعمول","الخامس - أ","ذكر","الخامس",23,1,14,null,null,null,null,null,null,null,17]
[{"$f":"IF(E512=\"\",\"\",SUBTOTAL(3,$E$16:E512))","v":497},{"$f":"COUNTIF($F$16:F512,F512)","v":37},"67/4","2007-09-12","كرار محمد موسى هادي","الخامس - أ","ذكر","الخامس",26,9,10,null,null,null,null,null,null,null,17]
[{"$f":"IF(E513=\"\",\"\",SUBTOTAL(3,$E$16:E513))","v":498},{"$f":"COUNTIF($F$16:F513,F513)","v":38},"40/4","2007-05-15","مجتبى كمال جاسم راجوج","الخامس - أ","ذكر","الخامس",23,1,11,null,null,null,null,null,null,null,17]
[{"$f":"IF(E514=\"\",\"\",SUBTOTAL(3,$E$16:E514))","v":499},{"$f":"COUNTIF($F$16:F514,F514)","v":39},"354/3","2006-09-24","محسن علي محمد كاطع","الخامس - أ","ذكر","الخامس",14,9,11,null,null,null,null,null,null,null,17]
[{"$f":"IF(E515=\"\",\"\",SUBTOTAL(3,$E$16:E515))","v":500},{"$f":"COUNTIF($F$16:F515,F515)","v":40},"68/4","2007-12-12","محسن موسى دويج عبد","الخامس - أ","ذكر","الخامس",26,6,10,null,null,null,null,null,null,null,17]
[{"$f":"IF(E516=\"\",\"\",SUBTOTAL(3,$E$16:E516))","v":501},{"$f":"COUNTIF($F$16:F516,F516)","v":41},"9/4","2006-08-28","محمد جميل عبد الواحد كريم","الخامس - أ","ذكر","الخامس",10,10,11,null,null,null,null,null,null,null,17]
[{"$f":"IF(E517=\"\",\"\",SUBTOTAL(3,$E$16:E517))","v":502},{"$f":"COUNTIF($F$16:F517,F517)","v":42},"26/4","2008-01-01","محمد رياض حسين كامل","الخامس - أ","ذكر","الخامس",7,6,10,null,null,null,null,null,null,null,17]
[{"$f":"IF(E518=\"\",\"\",SUBTOTAL(3,$E$16:E518))","v":503},{"$f":"COUNTIF($F$16:F518,F518)","v":43},"51/4","2006-06-09","محمد شاكر عبد الله جبار","الخامس - أ","ذكر","الخامس",29,0,12,null,null,null,null,null,null,null,17]
[{"$f":"IF(E519=\"\",\"\",SUBTOTAL(3,$E$16:E519))","v":504},{"$f":"COUNTIF($F$16:F519,F519)","v":44},"314/3","2006-12-09","محمد عباس رويس صالح","الخامس - أ","ذكر","الخامس",29,6,11,null,null,null,null,null,null,null,17]
[{"$f":"IF(E520=\"\",\"\",SUBTOTAL(3,$E$16:E520))","v":505},{"$f":"COUNTIF($F$16:F520,F520)","v":45},"44/4","2008-01-05","محمد عقيل مهلهل شعلان","الخامس - أ","ذكر","الخامس",3,6,10,null,null,null,null,null,null,null,17]
[{"$f":"IF(E521=\"\",\"\",SUBTOTAL(3,$E$16:E521))","v":506},{"$f":"COUNTIF($F$16:F521,F521)","v":46},"45/4","2007-03-11","محمد قاسم دايخ حبيت","الخامس - أ","ذكر","الخامس",27,3,11,null,null,null,null,null,null,null,17]
[{"$f":"IF(E522=\"\",\"\",SUBTOTAL(3,$E$16:E522))","v":507},{"$f":"COUNTIF($F$16:F522,F522)","v":47},"333/3","2006-06-01","محمد كريم مزهر جابر","الخامس - أ","ذكر","الخامس",7,1,12,null,null,null,null,null,null,null,17]
[{"$f":"IF(E523=\"\",\"\",SUBTOTAL(3,$E$16:E523))","v":508},{"$f":"COUNTIF($F$16:F523,F523)","v":48},"30/4","2007-03-22","مرتضى جبار حسين كامل","الخامس - أ","ذكر","الخامس",16,3,11,null,null,null,null,null,null,null,17]
[{"$f":"IF(E524=\"\",\"\",SUBTOTAL(3,$E$16:E524))","v":509},{"$f":"COUNTIF($F$16:F524,F524)","v":49},"286/3","2005-02-16","مصطفى كدر وعد حبيت","الخامس - أ","ذكر","الخامس",22,4,13,null,null,null,null,null,null,null,17]
[{"$f":"IF(E525=\"\",\"\",SUBTOTAL(3,$E$16:E525))","v":510},{"$f":"COUNTIF($F$16:F525,F525)","v":50},"347/3","2005-06-27","مقتدى جليل دويج عبد","الخامس - أ","ذكر","الخامس",11,0,13,null,null,null,null,null,null,null,17]
[{"$f":"IF(E526=\"\",\"\",SUBTOTAL(3,$E$16:E526))","v":511},{"$f":"COUNTIF($F$16:F526,F526)","v":51},"194/3","2004-03-01","مقتدى رزاق عجه طشاش","الخامس - أ","ذكر","الخامس",7,4,14,null,null,null,null,null,null,null,17]
[{"$f":"IF(E527=\"\",\"\",SUBTOTAL(3,$E$16:E527))","v":512},{"$f":"COUNTIF($F$16:F527,F527)","v":52},"381/3","2006-04-21","منتظر فاضل عباس حسين","الخامس - أ","ذكر","الخامس",17,2,12,null,null,null,null,null,null,null,17]
[{"$f":"IF(E528=\"\",\"\",SUBTOTAL(3,$E$16:E528))","v":513},{"$f":"COUNTIF($F$16:F528,F528)","v":53},"42/4","2007-12-06","منتظر هادي داخل غالي","الخامس - أ","ذكر",{"$f":"IF(OR(F528=$T$5,F528=$T$6,F528=$T$7,F528=$T$8),\"الاول\",IF(OR(F528=$T$9,F528=$T$10,F528=$T$11,F528=$T$12),\"الثاني\",IF(OR(F528=$T$13,F528=$T$14,F528=$T$15,F528=$T$16),\"الثالث\",IF(OR(F528=$T$17,F528=$T$18,F528=$T$19,F528=$T$20),\"الرابع\",IF(OR(F528=$T$21,F528=$T$22,F528=$T$32,F528=$T$24),\"الخامس\",IF(OR(F528=$T$25,F528=$T$26,F528=$T$27,F528=$T$28),\"السادس\",\"\"))))))","v":"الخامس"},{"$f":"DATEDIF($D528,$M$16,\"md\")","v":2},{"$f":"DATEDIF($D528,$M$16,\"ym\")","v":7},{"$f":"DATEDIF($D528,$M$16,\"y\")","v":10},null,null,null,null,null,null,null,{"$f":"IF(F528=$T$5,1,IF(F528=$T$6,2,IF(F528=$T$7,3,IF(F528=$T$8,4,IF(F528=$T$9,5,IF(F528=$T$10,6,IF(F528=$T$11,7,IF(F528=$T$12,8,IF(F528=$T$13,9,IF(F528=$T$14,10,IF(F528=$T$15,11,IF(F528=$T$16,12,IF(F528=$T$17,13,IF(F528=$T$18,14,IF(F528=$T$19,15,IF(F528=$T$20,16,IF(F528=$T$21,17,IF(F528=$T$22,18,IF(F528=$T$23,19,IF(F528=$T$24,20,IF(F528=$T$25,21,IF(F528=$T$26,22,IF(F528=$T$27,23,IF(F528=$T$28,24,\"\"))))))))))))))))))))))))","v":17}]
[{"$f":"IF(E529=\"\",\"\",SUBTOTAL(3,$E$16:E529))","v":514},{"$f":"COUNTIF($F$16:F529,F529)","v":54},"92/4","2007-09-02","منذر نعيم دايخ حبيت","الخامس - أ","ذكر","الخامس",6,10,10,null,null,null,null,null,null,null,17]
[{"$f":"IF(E530=\"\",\"\",SUBTOTAL(3,$E$16:E530))","v":515},{"$f":"COUNTIF($F$16:F530,F530)","v":55},"22/4","2007-07-22","مهدي حمزه ظاهر مرزوك","الخامس - أ","ذكر","الخامس",16,11,10,null,null,null,null,null,null,null,17]
[{"$f":"IF(E531=\"\",\"\",SUBTOTAL(3,$E$16:E531))","v":516},{"$f":"COUNTIF($F$16:F531,F531)","v":56},"359/3","2006-09-22","مهدي رافد جميل كاتي","الخامس - أ","ذكر","الخامس",16,9,11,null,null,null,null,null,null,null,17]
[{"$f":"IF(E532=\"\",\"\",SUBTOTAL(3,$E$16:E532))","v":517},{"$f":"COUNTIF($F$16:F532,F532)","v":1},"345/3","2006-07-02","مهدي سعد عزيز عبد الحسن","الخامس - ب","ذكر","الخامس",6,0,12,null,null,null,null,null,null,null,18]
[{"$f":"IF(E533=\"\",\"\",SUBTOTAL(3,$E$16:E533))","v":518},{"$f":"COUNTIF($F$16:F533,F533)","v":2},"101/3","2003-08-08","ميثاق فليح سعد عبود  ","الخامس - ب","ذكر","الخامس",0,11,14,null,null,null,null,null,null,null,18]
[{"$f":"IF(E534=\"\",\"\",SUBTOTAL(3,$E$16:E534))","v":519},{"$f":"COUNTIF($F$16:F534,F534)","v":3},"196/3","2004-02-28","ميثم عادل غازي صالح","الخامس - ب","ذكر","الخامس",10,4,14,null,null,null,null,null,null,null,18]
[{"$f":"IF(E535=\"\",\"\",SUBTOTAL(3,$E$16:E535))","v":520},{"$f":"COUNTIF($F$16:F535,F535)","v":4},"325/3","2006-09-20","نصر الله سلطان بلبول جبل","الخامس - ب","ذكر","الخامس",18,9,11,null,null,null,null,null,null,null,18]
[{"$f":"IF(E536=\"\",\"\",SUBTOTAL(3,$E$16:E536))","v":521},{"$f":"COUNTIF($F$16:F536,F536)","v":5},"143/3","2004-01-19","وليد خالد نعمه عبيد","الخامس - ب","ذكر","الخامس",19,5,14,null,null,null,null,null,null,null,18]
[{"$f":"IF(E537=\"\",\"\",SUBTOTAL(3,$E$16:E537))","v":522},{"$f":"COUNTIF($F$16:F537,F537)","v":6},"382/3","2006-08-20","وهب علي ظاهر مرزوك","الخامس - ب","ذكر","الخامس",18,10,11,null,null,null,null,null,null,null,18]
[{"$f":"IF(E538=\"\",\"\",SUBTOTAL(3,$E$16:E538))","v":523},{"$f":"COUNTIF($F$16:F538,F538)","v":7},"261/3","2005-05-10","احلام منصور نعيم صالح","الخامس - ب","أنثى","الخامس",28,1,13,null,null,null,null,null,null,null,18]
[{"$f":"IF(E539=\"\",\"\",SUBTOTAL(3,$E$16:E539))","v":524},{"$f":"COUNTIF($F$16:F539,F539)","v":8},"70/4","2007-04-12","اسماء سامي حنون نجم ","الخامس - ب","أنثى","الخامس",26,2,11,null,null,null,null,null,null,null,18]
[{"$f":"IF(E540=\"\",\"\",SUBTOTAL(3,$E$16:E540))","v":525},{"$f":"COUNTIF($F$16:F540,F540)","v":9},"343/3","2005-04-26","افراح حسين علي عبيد","الخامس - ب","أنثى","الخامس",12,2,13,null,null,null,null,null,null,null,18]
[{"$f":"IF(E541=\"\",\"\",SUBTOTAL(3,$E$16:E541))","v":526},{"$f":"COUNTIF($F$16:F541,F541)","v":10},"15/4","2006-08-01","امل باسم كريم عطشان","الخامس - ب","أنثى","الخامس",7,11,11,null,null,null,null,null,null,null,18]
[{"$f":"IF(E542=\"\",\"\",SUBTOTAL(3,$E$16:E542))","v":527},{"$f":"COUNTIF($F$16:F542,F542)","v":11},"111/4","2008-01-07","ايمان محمد حسين خضر","الخامس - ب","أنثى","الخامس",1,6,10,null,null,null,null,null,null,null,18]
[{"$f":"IF(E543=\"\",\"\",SUBTOTAL(3,$E$16:E543))","v":528},{"$f":"COUNTIF($F$16:F543,F543)","v":12},"115/4","2007-02-15","ايه خالد نعمه عبيد","الخامس - ب","أنثى","الخامس",23,4,11,null,null,null,null,null,null,null,18]
[{"$f":"IF(E544=\"\",\"\",SUBTOTAL(3,$E$16:E544))","v":529},{"$f":"COUNTIF($F$16:F544,F544)","v":13},"27/4","2007-03-19","ايه يوسف جاسم تعبان","الخامس - ب","أنثى","الخامس",19,3,11,null,null,null,null,null,null,null,18]
[{"$f":"IF(E545=\"\",\"\",SUBTOTAL(3,$E$16:E545))","v":530},{"$f":"COUNTIF($F$16:F545,F545)","v":14},"331/3","2006-02-02","أميره بشير نعمه عبيد","الخامس - ب","أنثى","الخامس",6,5,12,null,null,null,null,null,null,null,18]
[{"$f":"IF(E546=\"\",\"\",SUBTOTAL(3,$E$16:E546))","v":531},{"$f":"COUNTIF($F$16:F546,F546)","v":15},"278/3","2005-12-01","بنين جاسم حمود عبد الحسن","الخامس - ب","أنثى","الخامس",7,7,12,null,null,null,null,null,null,null,18]
[{"$f":"IF(E547=\"\",\"\",SUBTOTAL(3,$E$16:E547))","v":532},{"$f":"COUNTIF($F$16:F547,F547)","v":16},"117/4","2006-10-09","بنين عادل غازي ونان ","الخامس - ب","أنثى","الخامس",29,8,11,null,null,null,null,null,null,null,18]
[{"$f":"IF(E548=\"\",\"\",SUBTOTAL(3,$E$16:E548))","v":533},{"$f":"COUNTIF($F$16:F548,F548)","v":17},"304/3","2006-06-01","بيداء سعود كاظم عبيد","الخامس - ب","أنثى","الخامس",7,1,12,null,null,null,null,null,null,null,18]
[{"$f":"IF(E549=\"\",\"\",SUBTOTAL(3,$E$16:E549))","v":534},{"$f":"COUNTIF($F$16:F549,F549)","v":18},"41/4","2007-05-03","حوراء وناس جاسم تعبان","الخامس - ب","أنثى","الخامس",5,2,11,null,null,null,null,null,null,null,18]
[{"$f":"IF(E550=\"\",\"\",SUBTOTAL(3,$E$16:E550))","v":535},{"$f":"COUNTIF($F$16:F550,F550)","v":19},"375/3","2006-06-14","دعاء عقيل مهلهل شعلان","الخامس - ب","أنثى","الخامس",24,0,12,null,null,null,null,null,null,null,18]
[{"$f":"IF(E551=\"\",\"\",SUBTOTAL(3,$E$16:E551))","v":536},{"$f":"COUNTIF($F$16:F551,F551)","v":20},"78/4","2006-07-01","رقيه رعد ظاهر مرزوك","الخامس - ب","أنثى","الخامس",7,0,12,null,null,null,null,null,null,null,18]
[{"$f":"IF(E552=\"\",\"\",SUBTOTAL(3,$E$16:E552))","v":537},{"$f":"COUNTIF($F$16:F552,F552)","v":21},"79/4","2007-02-07","رقيه فهد عزيز عبد الحسن","الخامس - ب","أنثى","الخامس",1,5,11,null,null,null,null,null,null,null,18]
[{"$f":"IF(E553=\"\",\"\",SUBTOTAL(3,$E$16:E553))","v":538},{"$f":"COUNTIF($F$16:F553,F553)","v":22},"48/4","2007-07-17","رمله حاتم سعد عبود","الخامس - ب","أنثى","الخامس",21,11,10,null,null,null,null,null,null,null,18]
[{"$f":"IF(E554=\"\",\"\",SUBTOTAL(3,$E$16:E554))","v":539},{"$f":"COUNTIF($F$16:F554,F554)","v":23},"38/4","2007-12-06","زهراء حسن داخل غالي","الخامس - ب","أنثى","الخامس",2,7,10,null,null,null,null,null,null,null,18]
[{"$f":"IF(E555=\"\",\"\",SUBTOTAL(3,$E$16:E555))","v":540},{"$f":"COUNTIF($F$16:F555,F555)","v":24},"49/4","2007-02-22","زهراء حسن عبد الله جبار","الخامس - ب","أنثى","الخامس",16,4,11,null,null,null,null,null,null,null,18]
[{"$f":"IF(E556=\"\",\"\",SUBTOTAL(3,$E$16:E556))","v":541},{"$f":"COUNTIF($F$16:F556,F556)","v":25},"82/4","2008-01-22","زهراء رعد عزيز عبد الحسن","الخامس - ب","أنثى","الخامس",16,5,10,null,null,null,null,null,null,null,18]
[{"$f":"IF(E557=\"\",\"\",SUBTOTAL(3,$E$16:E557))","v":542},{"$f":"COUNTIF($F$16:F557,F557)","v":26},"234/4","2007-01-01","زهراء محمد حسن جعفر","الخامس - ب","أنثى","الخامس",7,6,11,null,null,null,null,null,null,null,18]
[{"$f":"IF(E558=\"\",\"\",SUBTOTAL(3,$E$16:E558))","v":543},{"$f":"COUNTIF($F$16:F558,F558)","v":27},"83/4","2006-12-10","زهراء يوسف عطيه صالح","الخامس - ب","أنثى","الخامس",28,6,11,null,null,null,null,null,null,null,18]
[{"$f":"IF(E559=\"\",\"\",SUBTOTAL(3,$E$16:E559))","v":544},{"$f":"COUNTIF($F$16:F559,F559)","v":28},"337/3","2006-05-09","زينب ثائر رحيم كاظم","الخامس - ب","أنثى","الخامس",29,1,12,null,null,null,null,null,null,null,18]
[{"$f":"IF(E560=\"\",\"\",SUBTOTAL(3,$E$16:E560))","v":545},{"$f":"COUNTIF($F$16:F560,F560)","v":29},"387/3","2006-11-07","زينب جاسم دويج عبد","الخامس - ب","أنثى","الخامس",1,8,11,null,null,null,null,null,null,null,18]
[{"$f":"IF(E561=\"\",\"\",SUBTOTAL(3,$E$16:E561))","v":546},{"$f":"COUNTIF($F$16:F561,F561)","v":30},"108/4","2007-02-26","زينب حسين علي عبيد","الخامس - ب","أنثى","الخامس",12,4,11,null,null,null,null,null,null,null,18]
[{"$f":"IF(E562=\"\",\"\",SUBTOTAL(3,$E$16:E562))","v":547},{"$f":"COUNTIF($F$16:F562,F562)","v":31},"47/4","2007-03-20","زينب زايد جابر طعمه","الخامس - ب","أنثى","الخامس",18,3,11,null,null,null,null,null,null,null,18]
[{"$f":"IF(E563=\"\",\"\",SUBTOTAL(3,$E$16:E563))","v":548},{"$f":"COUNTIF($F$16:F563,F563)","v":32},"362/3","2006-02-18","زينب سالم رحيم عجه","الخامس - ب","أنثى","الخامس",20,4,12,null,null,null,null,null,null,null,18]
[{"$f":"IF(E564=\"\",\"\",SUBTOTAL(3,$E$16:E564))","v":549},{"$f":"COUNTIF($F$16:F564,F564)","v":33},"376/3","2006-03-05","زينب عادل غازي صالح","الخامس - ب","أنثى","الخامس",3,4,12,null,null,null,null,null,null,null,18]
[{"$f":"IF(E565=\"\",\"\",SUBTOTAL(3,$E$16:E565))","v":550},{"$f":"COUNTIF($F$16:F565,F565)","v":34},"112/4","2007-09-02","زينب محمد مندوب حرجان","الخامس - ب","أنثى","الخامس",6,10,10,null,null,null,null,null,null,null,18]
[{"$f":"IF(E566=\"\",\"\",SUBTOTAL(3,$E$16:E566))","v":551},{"$f":"COUNTIF($F$16:F566,F566)","v":35},"73/4","2007-10-10","سكينه حسين جاسم راجوج","الخامس - ب","أنثى","الخامس",28,8,10,null,null,null,null,null,null,null,18]
[{"$f":"IF(E567=\"\",\"\",SUBTOTAL(3,$E$16:E567))","v":552},{"$f":"COUNTIF($F$16:F567,F567)","v":36},"385/3","2006-02-27","شيماء محمد رحيم جهادي","الخامس - ب","أنثى","الخامس",11,4,12,null,null,null,null,null,null,null,18]
[{"$f":"IF(E568=\"\",\"\",SUBTOTAL(3,$E$16:E568))","v":553},{"$f":"COUNTIF($F$16:F568,F568)","v":37},"105/4","2007-12-12","صبا سعيد حسين خضر","الخامس - ب","أنثى","الخامس",26,6,10,null,null,null,null,null,null,null,18]
[{"$f":"IF(E569=\"\",\"\",SUBTOTAL(3,$E$16:E569))","v":554},{"$f":"COUNTIF($F$16:F569,F569)","v":38},"74/4","2007-02-24","غدير جاسم محمد عطيه","الخامس - ب","أنثى","الخامس",14,4,11,null,null,null,null,null,null,null,18]
[{"$f":"IF(E570=\"\",\"\",SUBTOTAL(3,$E$16:E570))","v":555},{"$f":"COUNTIF($F$16:F570,F570)","v":39},"46/4","2007-04-24","غدير ماجد عطشان كاطع","الخامس - ب","أنثى","الخامس",14,2,11,null,null,null,null,null,null,null,18]
[{"$f":"IF(E571=\"\",\"\",SUBTOTAL(3,$E$16:E571))","v":556},{"$f":"COUNTIF($F$16:F571,F571)","v":40},"103/4","2007-03-23","فاطمه جليل دويج عبد ","الخامس - ب","أنثى","الخامس",15,3,11,null,null,null,null,null,null,null,18]
[{"$f":"IF(E572=\"\",\"\",SUBTOTAL(3,$E$16:E572))","v":557},{"$f":"COUNTIF($F$16:F572,F572)","v":41},"332/4","2006-07-06","فاطمه داخل كاظم عطيه","الخامس - ب","أنثى","الخامس",2,0,12,null,null,null,null,null,null,null,18]
[{"$f":"IF(E573=\"\",\"\",SUBTOTAL(3,$E$16:E573))","v":558},{"$f":"COUNTIF($F$16:F573,F573)","v":42},"306/3","2006-01-20","فاطمه سلمان مزهر جابر","الخامس - ب","أنثى","الخامس",18,5,12,null,null,null,null,null,null,null,18]
[{"$f":"IF(E574=\"\",\"\",SUBTOTAL(3,$E$16:E574))","v":559},{"$f":"COUNTIF($F$16:F574,F574)","v":43},"28/4","2007-02-09","فاطمه عدنان حسين خضر","الخامس - ب","أنثى","الخامس",29,4,11,null,null,null,null,null,null,null,18]
[{"$f":"IF(E575=\"\",\"\",SUBTOTAL(3,$E$16:E575))","v":560},{"$f":"COUNTIF($F$16:F575,F575)","v":44},"84/4","2004-11-08","فاطمه يوسف عطيه صالح","الخامس - ب","أنثى","الخامس",0,8,13,null,null,null,null,null,null,null,18]
[{"$f":"IF(E576=\"\",\"\",SUBTOTAL(3,$E$16:E576))","v":561},{"$f":"COUNTIF($F$16:F576,F576)","v":45},"37/4","2007-11-11","مريم رائد عصيب علي","الخامس - ب","أنثى","الخامس",27,7,10,null,null,null,null,null,null,null,18]
[{"$f":"IF(E577=\"\",\"\",SUBTOTAL(3,$E$16:E577))","v":562},{"$f":"COUNTIF($F$16:F577,F577)","v":46},"297/3","2006-06-16","نجلاء عايد جابر عبيد","الخامس - ب","أنثى","الخامس",22,0,12,null,null,null,null,null,null,null,18]
[{"$f":"IF(E578=\"\",\"\",SUBTOTAL(3,$E$16:E578))","v":563},{"$f":"COUNTIF($F$16:F578,F578)","v":47},"110/4","2007-03-20","نرجس باسم دايخ حبيت","الخامس - ب","أنثى","الخامس",18,3,11,null,null,null,null,null,null,null,18]
[{"$f":"IF(E579=\"\",\"\",SUBTOTAL(3,$E$16:E579))","v":564},{"$f":"COUNTIF($F$16:F579,F579)","v":48},"374/3","2006-09-04","نرجس ستار حسين كامل","الخامس - ب","أنثى","الخامس",4,10,11,null,null,null,null,null,null,null,18]
[{"$f":"IF(E580=\"\",\"\",SUBTOTAL(3,$E$16:E580))","v":565},{"$f":"COUNTIF($F$16:F580,F580)","v":49},"368/3","2005-08-12","نوره جمعه ظاهرمرزوك","الخامس - ب","أنثى","الخامس",26,10,12,null,null,null,null,null,null,null,18]
[{"$f":"IF(E581=\"\",\"\",SUBTOTAL(3,$E$16:E581))","v":566},{"$f":"COUNTIF($F$16:F581,F581)","v":50},"106/4","2007-05-11","نوره صباح دايخ حبيت","الخامس - ب","أنثى","الخامس",27,1,11,null,null,null,null,null,null,null,18]
[{"$f":"IF(E582=\"\",\"\",SUBTOTAL(3,$E$16:E582))","v":567},{"$f":"COUNTIF($F$16:F582,F582)","v":51},"77/4","2008-01-16","هديل رعد ظاهر مرزوك","الخامس - ب","أنثى","الخامس",22,5,10,null,null,null,null,null,null,null,18]
[{"$f":"IF(E583=\"\",\"\",SUBTOTAL(3,$E$16:E583))","v":568},{"$f":"COUNTIF($F$16:F583,F583)","v":52},"323/3","2006-07-26","هديل محسن كامل جعمول","الخامس - ب","أنثى","الخامس",12,11,11,null,null,null,null,null,null,null,18]
[{"$f":"IF(E584=\"\",\"\",SUBTOTAL(3,$E$16:E584))","v":569},{"$f":"COUNTIF($F$16:F584,F584)","v":53},"319/3","2007-01-04","ياسمين ثائر فيصل خماط","الخامس - ب","أنثى","الخامس",4,6,11,null,null,null,null,null,null,null,18]
[{"$f":"IF(E585=\"\",\"\",SUBTOTAL(3,$E$16:E585))","v":570},{"$f":"COUNTIF($F$16:F585,F585)","v":1},"367/3","2006-04-14","ابراهيم جميل مهلهل شعلان","السادس - أ","ذكر","السادس",24,2,12,null,null,null,null,null,null,null,21]
[{"$f":"IF(E586=\"\",\"\",SUBTOTAL(3,$E$16:E586))","v":571},{"$f":"COUNTIF($F$16:F586,F586)","v":2},"366/3","2006-05-24","احمد حميد سوادي عبد","السادس - أ","ذكر","السادس",14,1,12,null,null,null,null,null,null,null,21]
[{"$f":"IF(E587=\"\",\"\",SUBTOTAL(3,$E$16:E587))","v":572},{"$f":"COUNTIF($F$16:F587,F587)","v":3},"237/3","2005-12-31","احمد علي كامل جاسم","السادس - أ","ذكر","السادس",7,6,12,null,null,null,null,null,null,null,21]
[{"$f":"IF(E588=\"\",\"\",SUBTOTAL(3,$E$16:E588))","v":573},{"$f":"COUNTIF($F$16:F588,F588)","v":4},"310/3","2006-06-04","ازهر سالم عينون جبل","السادس - أ","ذكر","السادس",4,1,12,null,null,null,null,null,null,null,21]
[{"$f":"IF(E589=\"\",\"\",SUBTOTAL(3,$E$16:E589))","v":574},{"$f":"COUNTIF($F$16:F589,F589)","v":5},"344/3","2006-03-19","امين عزيز مايح شاني","السادس - أ","ذكر","السادس",19,3,12,null,null,null,null,null,null,null,21]
[{"$f":"IF(E590=\"\",\"\",SUBTOTAL(3,$E$16:E590))","v":575},{"$f":"COUNTIF($F$16:F590,F590)","v":6},"330/4","2006-03-06","ايمن عيسى جبير محسن","السادس - أ","ذكر","السادس",2,4,12,null,null,null,null,null,null,null,21]
[{"$f":"IF(E591=\"\",\"\",SUBTOTAL(3,$E$16:E591))","v":576},{"$f":"COUNTIF($F$16:F591,F591)","v":7},"251/3","2006-10-19","جعفر نزار شاكر محمود","السادس - أ","ذكر","السادس",19,8,11,null,null,null,null,null,null,null,21]
[{"$f":"IF(E592=\"\",\"\",SUBTOTAL(3,$E$16:E592))","v":577},{"$f":"COUNTIF($F$16:F592,F592)","v":8},"355/3","2006-03-18","حسن جبار حسين كامل","السادس - أ","ذكر",{"$f":"IF(OR(F592=$T$5,F592=$T$6,F592=$T$7,F592=$T$8),\"الاول\",IF(OR(F592=$T$9,F592=$T$10,F592=$T$11,F592=$T$12),\"الثاني\",IF(OR(F592=$T$13,F592=$T$14,F592=$T$15,F592=$T$16),\"الثالث\",IF(OR(F592=$T$17,F592=$T$18,F592=$T$19,F592=$T$20),\"الرابع\",IF(OR(F592=$T$21,F592=$T$22,F592=$T$32,F592=$T$24),\"الخامس\",IF(OR(F592=$T$25,F592=$T$26,F592=$T$27,F592=$T$28),\"السادس\",\"\"))))))","v":"السادس"},{"$f":"DATEDIF($D592,$M$16,\"md\")","v":20},{"$f":"DATEDIF($D592,$M$16,\"ym\")","v":3},{"$f":"DATEDIF($D592,$M$16,\"y\")","v":12},null,null,null,null,null,null,null,{"$f":"IF(F592=$T$5,1,IF(F592=$T$6,2,IF(F592=$T$7,3,IF(F592=$T$8,4,IF(F592=$T$9,5,IF(F592=$T$10,6,IF(F592=$T$11,7,IF(F592=$T$12,8,IF(F592=$T$13,9,IF(F592=$T$14,10,IF(F592=$T$15,11,IF(F592=$T$16,12,IF(F592=$T$17,13,IF(F592=$T$18,14,IF(F592=$T$19,15,IF(F592=$T$20,16,IF(F592=$T$21,17,IF(F592=$T$22,18,IF(F592=$T$23,19,IF(F592=$T$24,20,IF(F592=$T$25,21,IF(F592=$T$26,22,IF(F592=$T$27,23,IF(F592=$T$28,24,\"\"))))))))))))))))))))))))","v":21}]
[{"$f":"IF(E593=\"\",\"\",SUBTOTAL(3,$E$16:E593))","v":578},{"$f":"COUNTIF($F$16:F593,F593)","v":9},"379/3","2006-12-03","حسن علي هداد حنون","السادس - أ","ذكر","السادس",5,7,11,null,null,null,null,null,null,null,21]
[{"$f":"IF(E594=\"\",\"\",SUBTOTAL(3,$E$16:E594))","v":579},{"$f":"COUNTIF($F$16:F594,F594)","v":10},"256/3","2005-10-12","حسين تكليف جهادي عبد","السادس - أ","ذكر","السادس",26,8,12,null,null,null,null,null,null,null,21]
[{"$f":"IF(E595=\"\",\"\",SUBTOTAL(3,$E$16:E595))","v":580},{"$f":"COUNTIF($F$16:F595,F595)","v":11},"305/3","2006-04-12","حسين علي راضي عبد النبي","السادس - أ","ذكر","السادس",26,2,12,null,null,null,null,null,null,null,21]
[{"$f":"IF(E596=\"\",\"\",SUBTOTAL(3,$E$16:E596))","v":581},{"$f":"COUNTIF($F$16:F596,F596)","v":12},"383/3","2006-09-01","حسين فرحان كريم عطشان","السادس - أ","ذكر","السادس",7,10,11,null,null,null,null,null,null,null,21]
[{"$f":"IF(E597=\"\",\"\",SUBTOTAL(3,$E$16:E597))","v":582},{"$f":"COUNTIF($F$16:F597,F597)","v":13},"184/3","2004-04-10","حيدر صاحب عباس حسين","السادس - أ","ذكر","السادس",28,2,14,null,null,null,null,null,null,null,21]
[{"$f":"IF(E598=\"\",\"\",SUBTOTAL(3,$E$16:E598))","v":583},{"$f":"COUNTIF($F$16:F598,F598)","v":14},"370/3","2006-03-07","حيدر يوسف حواس مرزوك","السادس - أ","ذكر","السادس",1,4,12,null,null,null,null,null,null,null,21]
[{"$f":"IF(E599=\"\",\"\",SUBTOTAL(3,$E$16:E599))","v":584},{"$f":"COUNTIF($F$16:F599,F599)","v":15},"357/3","2006-09-20","داود سلمان نعيم صالح","السادس - أ","ذكر","السادس",18,9,11,null,null,null,null,null,null,null,21]
[{"$f":"IF(E600=\"\",\"\",SUBTOTAL(3,$E$16:E600))","v":585},{"$f":"COUNTIF($F$16:F600,F600)","v":16},"235/3","2005-10-11","رسول حسن نجم عبد","السادس - أ","ذكر","السادس",27,8,12,null,null,null,null,null,null,null,21]
[{"$f":"IF(E601=\"\",\"\",SUBTOTAL(3,$E$16:E601))","v":586},{"$f":"COUNTIF($F$16:F601,F601)","v":17},"186/3","2004-04-07","سالم هادي عبد جياد","السادس - أ","ذكر","السادس",1,3,14,null,null,null,null,null,null,null,21]
[{"$f":"IF(E602=\"\",\"\",SUBTOTAL(3,$E$16:E602))","v":587},{"$f":"COUNTIF($F$16:F602,F602)","v":18},"302/3","2006-11-29","سجاد غني جابر طعمه","السادس - أ","ذكر","السادس",9,7,11,null,null,null,null,null,null,null,21]
[{"$f":"IF(E603=\"\",\"\",SUBTOTAL(3,$E$16:E603))","v":588},{"$f":"COUNTIF($F$16:F603,F603)","v":19},"348/3","2006-11-10","سجاد كريم هادي صليبي","السادس - أ","ذكر","السادس",28,7,11,null,null,null,null,null,null,null,21]
[{"$f":"IF(E604=\"\",\"\",SUBTOTAL(3,$E$16:E604))","v":589},{"$f":"COUNTIF($F$16:F604,F604)","v":20},"12/4","2006-09-05","شعبان ناصر خماط كمين","السادس - أ","ذكر","السادس",3,10,11,null,null,null,null,null,null,null,21]
[{"$f":"IF(E605=\"\",\"\",SUBTOTAL(3,$E$16:E605))","v":590},{"$f":"COUNTIF($F$16:F605,F605)","v":21},"13/4","2006-06-24","صادق محمد عبد الخضر لعيبي","السادس - أ","ذكر","السادس",14,0,12,null,null,null,null,null,null,null,21]
[{"$f":"IF(E606=\"\",\"\",SUBTOTAL(3,$E$16:E606))","v":591},{"$f":"COUNTIF($F$16:F606,F606)","v":22},"242/3","2005-04-20","ضياء باسم كاظم جهادي","السادس - أ","ذكر","السادس",18,2,13,null,null,null,null,null,null,null,21]
[{"$f":"IF(E607=\"\",\"\",SUBTOTAL(3,$E$16:E607))","v":592},{"$f":"COUNTIF($F$16:F607,F607)","v":23},"252/3","2006-01-04","عباس علي خشان سفاح","السادس - أ","ذكر","السادس",4,6,12,null,null,null,null,null,null,null,21]
[{"$f":"IF(E608=\"\",\"\",SUBTOTAL(3,$E$16:E608))","v":593},{"$f":"COUNTIF($F$16:F608,F608)","v":24},"340/3","2007-01-30","عباس ياس عبد الخضر لعيبي","السادس - أ","ذكر","السادس",8,5,11,null,null,null,null,null,null,null,21]
[{"$f":"IF(E609=\"\",\"\",SUBTOTAL(3,$E$16:E609))","v":594},{"$f":"COUNTIF($F$16:F609,F609)","v":25},"380/3","2006-09-04","عبد الله كريم عطيه كاظم","السادس - أ","ذكر","السادس",4,10,11,null,null,null,null,null,null,null,21]
[{"$f":"IF(E610=\"\",\"\",SUBTOTAL(3,$E$16:E610))","v":595},{"$f":"COUNTIF($F$16:F610,F610)","v":26},"257/3","2006-01-19","عبد الله يونس محسن عبيد","السادس - أ","ذكر","السادس",19,5,12,null,null,null,null,null,null,null,21]
[{"$f":"IF(E611=\"\",\"\",SUBTOTAL(3,$E$16:E611))","v":596},{"$f":"COUNTIF($F$16:F611,F611)","v":27},"365/3","2006-10-15","عزيز جاسم محمد كاطع","السادس - أ","ذكر","السادس",23,8,11,null,null,null,null,null,null,null,21]
[{"$f":"IF(E612=\"\",\"\",SUBTOTAL(3,$E$16:E612))","v":597},{"$f":"COUNTIF($F$16:F612,F612)","v":28},"350/3","2006-11-29","عقيل رعد فليح كريم","السادس - أ","ذكر","السادس",9,7,11,null,null,null,null,null,null,null,21]
[{"$f":"IF(E613=\"\",\"\",SUBTOTAL(3,$E$16:E613))","v":598},{"$f":"COUNTIF($F$16:F613,F613)","v":29},"132/3","2003-02-05","علاء ارحيم كريم عطشان","السادس - أ","ذكر","السادس",3,5,15,null,null,null,null,null,null,null,21]
[{"$f":"IF(E614=\"\",\"\",SUBTOTAL(3,$E$16:E614))","v":599},{"$f":"COUNTIF($F$16:F614,F614)","v":30},"358/3","2006-07-19","علي محمد حسين خضر","السادس - أ","ذكر","السادس",19,11,11,null,null,null,null,null,null,null,21]
[{"$f":"IF(E615=\"\",\"\",SUBTOTAL(3,$E$16:E615))","v":600},{"$f":"COUNTIF($F$16:F615,F615)","v":31},"236/3","2005-02-03","عمار ياسر كاظم جهادي","السادس - أ","ذكر","السادس",5,5,13,null,null,null,null,null,null,null,21]
[{"$f":"IF(E616=\"\",\"\",SUBTOTAL(3,$E$16:E616))","v":601},{"$f":"COUNTIF($F$16:F616,F616)","v":32},"191/3","2004-11-16","كرار جاسم دايخ حبيت","السادس - أ","ذكر","السادس",22,7,13,null,null,null,null,null,null,null,21]
[{"$f":"IF(E617=\"\",\"\",SUBTOTAL(3,$E$16:E617))","v":602},{"$f":"COUNTIF($F$16:F617,F617)","v":33},"360/3","2007-01-07","كرار حيدر خشان سفاح","السادس - أ","ذكر","السادس",1,6,11,null,null,null,null,null,null,null,21]
[{"$f":"IF(E618=\"\",\"\",SUBTOTAL(3,$E$16:E618))","v":603},{"$f":"COUNTIF($F$16:F618,F618)","v":34},"338/3","2006-02-15","كرار كمال فليح ابوشنه ","السادس - أ","ذكر","السادس",23,4,12,null,null,null,null,null,null,null,21]
[{"$f":"IF(E619=\"\",\"\",SUBTOTAL(3,$E$16:E619))","v":604},{"$f":"COUNTIF($F$16:F619,F619)","v":35},"301/3","2006-09-01","محمد حسين جابر طعمه","السادس - أ","ذكر","السادس",7,10,11,null,null,null,null,null,null,null,21]
[{"$f":"IF(E620=\"\",\"\",SUBTOTAL(3,$E$16:E620))","v":605},{"$f":"COUNTIF($F$16:F620,F620)","v":36},"346/3","2006-03-28","محمد صالح عبد المهدي عبد النبي","السادس - أ","ذكر","السادس",10,3,12,null,null,null,null,null,null,null,21]
[{"$f":"IF(E621=\"\",\"\",SUBTOTAL(3,$E$16:E621))","v":606},{"$f":"COUNTIF($F$16:F621,F621)","v":37},"292/3","2005-08-11","محمود هاشم محمود علي","السادس - أ","ذكر","السادس",27,10,12,null,null,null,null,null,null,null,21]
[{"$f":"IF(E622=\"\",\"\",SUBTOTAL(3,$E$16:E622))","v":607},{"$f":"COUNTIF($F$16:F622,F622)","v":38},"334/3","2006-12-07","مرتضى رائد عناد غالي","السادس - أ","ذكر","السادس",1,7,11,null,null,null,null,null,null,null,21]
[{"$f":"IF(E623=\"\",\"\",SUBTOTAL(3,$E$16:E623))","v":608},{"$f":"COUNTIF($F$16:F623,F623)","v":1},"296/3","2006-07-13","مصطفى سمير حسين كامل","السادس - ب","ذكر","السادس",25,11,11,null,null,null,null,null,null,null,22]
[{"$f":"IF(E624=\"\",\"\",SUBTOTAL(3,$E$16:E624))","v":609},{"$f":"COUNTIF($F$16:F624,F624)","v":2},"253/3","2005-02-22","مقتدى جبار خشان سفاح","السادس - ب","ذكر","السادس",16,4,13,null,null,null,null,null,null,null,22]
[{"$f":"IF(E625=\"\",\"\",SUBTOTAL(3,$E$16:E625))","v":610},{"$f":"COUNTIF($F$16:F625,F625)","v":3},"316/3","2006-05-09","مقتدى رعد رحيم كاظم","السادس - ب","ذكر","السادس",29,1,12,null,null,null,null,null,null,null,22]
[{"$f":"IF(E626=\"\",\"\",SUBTOTAL(3,$E$16:E626))","v":611},{"$f":"COUNTIF($F$16:F626,F626)","v":4},"356/3","2006-09-11","مهدي ناجح نعيم صالح","السادس - ب","ذكر","السادس",27,9,11,null,null,null,null,null,null,null,22]
[{"$f":"IF(E627=\"\",\"\",SUBTOTAL(3,$E$16:E627))","v":612},{"$f":"COUNTIF($F$16:F627,F627)","v":5},"364/3","2006-09-07","مؤمل رائد عصيب علي","السادس - ب","ذكر","السادس",1,10,11,null,null,null,null,null,null,null,22]
[{"$f":"IF(E628=\"\",\"\",SUBTOTAL(3,$E$16:E628))","v":613},{"$f":"COUNTIF($F$16:F628,F628)","v":6},"330/3","2006-03-06","مؤمل رياض جبيرشنيور","السادس - ب","ذكر","السادس",2,4,12,null,null,null,null,null,null,null,22]
[{"$f":"IF(E629=\"\",\"\",SUBTOTAL(3,$E$16:E629))","v":614},{"$f":"COUNTIF($F$16:F629,F629)","v":7},"240/3","2005-04-08","مؤيد حاتم سعد عبود","السادس - ب","ذكر","السادس",0,3,13,null,null,null,null,null,null,null,22]
[{"$f":"IF(E630=\"\",\"\",SUBTOTAL(3,$E$16:E630))","v":615},{"$f":"COUNTIF($F$16:F630,F630)","v":8},"3/4","2006-01-19","ابتسام ياسر ظاهر مرزوك","السادس - ب","انثى","السادس",19,5,12,null,null,null,null,null,null,null,22]
[{"$f":"IF(E631=\"\",\"\",SUBTOTAL(3,$E$16:E631))","v":616},{"$f":"COUNTIF($F$16:F631,F631)","v":9},"312/3","2006-09-07","الاء ثامر شنين جبار ","السادس - ب","انثى","السادس",1,10,11,null,null,null,null,null,null,null,22]
[{"$f":"IF(E632=\"\",\"\",SUBTOTAL(3,$E$16:E632))","v":617},{"$f":"COUNTIF($F$16:F632,F632)","v":10},"7/4","2006-09-15","ايات محمد سلطان كريم","السادس - ب","انثى","السادس",23,9,11,null,null,null,null,null,null,null,22]
[{"$f":"IF(E633=\"\",\"\",SUBTOTAL(3,$E$16:E633))","v":618},{"$f":"COUNTIF($F$16:F633,F633)","v":11},"327/3","2006-11-08","بنت الهدى غازي حيدر حسن","السادس - ب","انثى","السادس",0,8,11,null,null,null,null,null,null,null,22]
[{"$f":"IF(E634=\"\",\"\",SUBTOTAL(3,$E$16:E634))","v":619},{"$f":"COUNTIF($F$16:F634,F634)","v":12},"264/3","2005-09-03","بنين ناظم شاكر جعمول","السادس - ب","انثى","السادس",5,10,12,null,null,null,null,null,null,null,22]
[{"$f":"IF(E635=\"\",\"\",SUBTOTAL(3,$E$16:E635))","v":620},{"$f":"COUNTIF($F$16:F635,F635)","v":13},"322/3","2006-10-15","تبارك حسين كريم صالح","السادس - ب","انثى","السادس",23,8,11,null,null,null,null,null,null,null,22]
[{"$f":"IF(E636=\"\",\"\",SUBTOTAL(3,$E$16:E636))","v":621},{"$f":"COUNTIF($F$16:F636,F636)","v":14},"309/3","2006-08-29","تبارك علي صليبي شنان","السادس - ب","انثى","السادس",9,10,11,null,null,null,null,null,null,null,22]
[{"$f":"IF(E637=\"\",\"\",SUBTOTAL(3,$E$16:E637))","v":622},{"$f":"COUNTIF($F$16:F637,F637)","v":15},"280/3","2005-08-27","حميده عباس كريم صالح","السادس - ب","انثى","السادس",11,10,12,null,null,null,null,null,null,null,22]
[{"$f":"IF(E638=\"\",\"\",SUBTOTAL(3,$E$16:E638))","v":623},{"$f":"COUNTIF($F$16:F638,F638)","v":16},"1/4","2006-09-05","ختام محمد رحيم قند","السادس - ب","انثى","السادس",3,10,11,null,null,null,null,null,null,null,22]
[{"$f":"IF(E639=\"\",\"\",SUBTOTAL(3,$E$16:E639))","v":624},{"$f":"COUNTIF($F$16:F639,F639)","v":17},"386/3","2006-02-20","خلود لطيف كاظم عبيد","السادس - ب","انثى","السادس",18,4,12,null,null,null,null,null,null,null,22]
[{"$f":"IF(E640=\"\",\"\",SUBTOTAL(3,$E$16:E640))","v":625},{"$f":"COUNTIF($F$16:F640,F640)","v":18},"2/4","2007-01-01","رقيه عبد القادر كريم عطشان","السادس - ب","انثى","السادس",7,6,11,null,null,null,null,null,null,null,22]
[{"$f":"IF(E641=\"\",\"\",SUBTOTAL(3,$E$16:E641))","v":626},{"$f":"COUNTIF($F$16:F641,F641)","v":19},"311/3","2007-01-21","زهراء فالح شهاب حمد","السادس - ب","انثى","السادس",17,5,11,null,null,null,null,null,null,null,22]
[{"$f":"IF(E642=\"\",\"\",SUBTOTAL(3,$E$16:E642))","v":627},{"$f":"COUNTIF($F$16:F642,F642)","v":20},"361/3","2006-07-03","زهراء مالك عناد غالي","السادس - ب","انثى","السادس",5,0,12,null,null,null,null,null,null,null,22]
[{"$f":"IF(E643=\"\",\"\",SUBTOTAL(3,$E$16:E643))","v":628},{"$f":"COUNTIF($F$16:F643,F643)","v":21},"378/3","2006-05-11","ساره احمد رحيم قند","السادس - ب","انثى","السادس",27,1,12,null,null,null,null,null,null,null,22]
[{"$f":"IF(E644=\"\",\"\",SUBTOTAL(3,$E$16:E644))","v":629},{"$f":"COUNTIF($F$16:F644,F644)","v":22},"298/3","2006-09-09","ساره عامر جابر عبيد","السادس - ب","انثى","السادس",29,9,11,null,null,null,null,null,null,null,22]
[{"$f":"IF(E645=\"\",\"\",SUBTOTAL(3,$E$16:E645))","v":630},{"$f":"COUNTIF($F$16:F645,F645)","v":23},"318/3","2006-02-28","طيبه بدر نعيم صالح","السادس - ب","انثى","السادس",10,4,12,null,null,null,null,null,null,null,22]
[{"$f":"IF(E646=\"\",\"\",SUBTOTAL(3,$E$16:E646))","v":631},{"$f":"COUNTIF($F$16:F646,F646)","v":24},"295/3","2006-07-25","غدير حسن خضير عجة","السادس - ب","انثى","السادس",13,11,11,null,null,null,null,null,null,null,22]
[{"$f":"IF(E647=\"\",\"\",SUBTOTAL(3,$E$16:E647))","v":632},{"$f":"COUNTIF($F$16:F647,F647)","v":25},"267/3","2006-01-02","فاطمه احمد جمعه مري","السادس - ب","انثى","السادس",6,6,12,null,null,null,null,null,null,null,22]
[{"$f":"IF(E648=\"\",\"\",SUBTOTAL(3,$E$16:E648))","v":633},{"$f":"COUNTIF($F$16:F648,F648)","v":26},"342/3","2006-05-26","فاطمه احمد سلطان كريم","السادس - ب","انثى","السادس",12,1,12,null,null,null,null,null,null,null,22]
[{"$f":"IF(E649=\"\",\"\",SUBTOTAL(3,$E$16:E649))","v":634},{"$f":"COUNTIF($F$16:F649,F649)","v":27},"293/3","2006-06-21","فاطمه جاسم محمد عبد الرضا","السادس - ب","انثى","السادس",17,0,12,null,null,null,null,null,null,null,22]
[{"$f":"IF(E650=\"\",\"\",SUBTOTAL(3,$E$16:E650))","v":635},{"$f":"COUNTIF($F$16:F650,F650)","v":28},"373/3","2005-10-26","فاطمه ياس خضير عباس","السادس - ب","انثى","السادس",12,8,12,null,null,null,null,null,null,null,22]
[{"$f":"IF(E651=\"\",\"\",SUBTOTAL(3,$E$16:E651))","v":636},{"$f":"COUNTIF($F$16:F651,F651)","v":29},"210/3","2004-05-15","كوثر ابراهيم كاطع عبود","السادس - ب","انثى","السادس",23,1,14,null,null,null,null,null,null,null,22]
[{"$f":"IF(E652=\"\",\"\",SUBTOTAL(3,$E$16:E652))","v":637},{"$f":"COUNTIF($F$16:F652,F652)","v":30},"353/3","2005-02-26","نبأ فاضل عباس حسين","السادس - ب","انثى","السادس",12,4,13,null,null,null,null,null,null,null,22]
[{"$f":"IF(E653=\"\",\"\",SUBTOTAL(3,$E$16:E653))","v":638},{"$f":"COUNTIF($F$16:F653,F653)","v":31},"5/4","2006-06-21","نبأ فرحان كريم صالح","السادس - ب","انثى","السادس",17,0,12,null,null,null,null,null,null,null,22]
[{"$f":"IF(E654=\"\",\"\",SUBTOTAL(3,$E$16:E654))","v":639},{"$f":"COUNTIF($F$16:F654,F654)","v":32},"369/3","2006-11-18","نرجس علي صالح غاوي","السادس - ب","انثى","السادس",20,7,11,null,null,null,null,null,null,null,22]
[{"$f":"IF(E655=\"\",\"\",SUBTOTAL(3,$E$16:E655))","v":640},{"$f":"COUNTIF($F$16:F655,F655)","v":33},"16/4","2006-07-16","نرجس ناصر عطيه صالح","السادس - ب","انثى","السادس",22,11,11,null,null,null,null,null,null,null,22]
[{"$f":"IF(E656=\"\",\"\",SUBTOTAL(3,$E$16:E656))","v":641},{"$f":"COUNTIF($F$16:F656,F656)","v":34},"308/3","2006-07-01","نوره علي جمعه مري","السادس - ب","انثى","السادس",7,0,12,null,null,null,null,null,null,null,22]
[{"$f":"IF(E657=\"\",\"\",SUBTOTAL(3,$E$16:E657))","v":642},{"$f":"COUNTIF($F$16:F657,F657)","v":35},"6/4","2006-04-26","هدى عدي حاتم راجوج","السادس - ب","انثى","السادس",12,2,12,null,null,null,null,null,null,null,22]
[{"$f":"IF(E658=\"\",\"\",SUBTOTAL(3,$E$16:E658))","v":643},{"$f":"COUNTIF($F$16:F658,F658)","v":36},"230/3","2004-07-04","هناء نعيم مزهر جابر","السادس - ب","انثى","السادس",4,0,14,null,null,null,null,null,null,null,22]

{"sheet":"خرائط جلوس","index":1,"n_rows":28,"n_cols":13,"rows_kept":28,"cut":false,"hidden":false,"merged":[]}
[]
[]
[]
[null,null,"ت","الرابع","ت","الخامس","ت","السادس","ت","الرابع",null,null,"الرابع"]
[null,null,359,{"$f":"IFERROR(INDEX('بيانات التلاميذ'!$E$16:$E$658,SMALL(IF('بيانات التلاميذ'!$H$16:$H$658=$D$4,IF('بيانات التلاميذ'!$A$16:$A$658=$C5,ROW($H$16:$H$658)-ROW($H$16)+1)),ROWS($D$5:D5))),\"\")","v":"ابراهيم عبد القادر كريم عطشان"},490,{"$f":"IFERROR(INDEX('بيانات التلاميذ'!$E$16:$E$658,SMALL(IF('بيانات التلاميذ'!$H$16:$H$658=$F$4,IF('بيانات التلاميذ'!$A$16:$A$658=$E5,ROW($H$16:$H$658)-ROW($H$16)+1)),ROWS($D$5:F5))),\"\")","v":"علي رياض حسين كامل"},639,{"$f":"IFERROR(INDEX('بيانات التلاميذ'!$E$16:$E$658,SMALL(IF('بيانات التلاميذ'!$H$16:$H$658=$H$4,IF('بيانات التلاميذ'!$A$16:$A$658=$G5,ROW($H$16:$H$658)-ROW($H$16)+1)),ROWS($D$5:H5))),\"\")","v":"نرجس علي صالح غاوي"},371,{"$f":"IFERROR(INDEX('بيانات التلاميذ'!$E$16:$E$658,SMALL(IF('بيانات التلاميذ'!$H$16:$H$658=$J$4,IF('بيانات التلاميذ'!$A$16:$A$658=$I5,ROW($H$16:$H$658)-ROW($H$16)+1)),ROWS($D$5:J5))),\"\")","v":"حسن شناوه بلبول جبل"},null,null,"الخامس"]
[null,null,null,{"$f":"IFERROR(INDEX('بيانات التلاميذ'!$E$16:$E$658,SMALL(IF('بيانات التلاميذ'!$H$16:$H$658=$D$4,IF('بيانات التلاميذ'!$A$16:$A$658=$C6,ROW($H$16:$H$658)-ROW($H$16)+1)),ROWS($D$5:D6))),\"\")","v":""},null,{"$f":"IFERROR(INDEX('بيانات التلاميذ'!$E$16:$E$658,SMALL(IF('بيانات التلاميذ'!$H$16:$H$658=$F$4,IF('بيانات التلاميذ'!$A$16:$A$658=$E6,ROW($H$16:$H$658)-ROW($H$16)+1)),ROWS($D$5:F6))),\"\")","v":""},null,{"$f":"IFERROR(INDEX('بيانات التلاميذ'!$E$16:$E$658,SMALL(IF('بيانات التلاميذ'!$H$16:$H$658=$H$4,IF('بيانات التلاميذ'!$A$16:$A$658=$G6,ROW($H$16:$H$658)-ROW($H$16)+1)),ROWS($D$5:H6))),\"\")","v":""},null,{"$f":"IFERROR(INDEX('بيانات التلاميذ'!$E$16:$E$658,SMALL(IF('بيانات التلاميذ'!$H$16:$H$658=$J$4,IF('بيانات التلاميذ'!$A$16:$A$658=$I6,ROW($H$16:$H$658)-ROW($H$16)+1)),ROWS($D$5:J6))),\"\")","v":""},null,null,"السادس"]
[null,null,null,{"$f":"IFERROR(INDEX('بيانات التلاميذ'!$E$16:$E$658,SMALL(IF('بيانات التلاميذ'!$H$16:$H$658=$D$4,IF('بيانات التلاميذ'!$A$16:$A$658=$C7,ROW($H$16:$H$658)-ROW($H$16)+1)),ROWS($D$5:D7))),\"\")","v":""},null,{"$f":"IFERROR(INDEX('بيانات التلاميذ'!$E$16:$E$658,SMALL(IF('بيانات التلاميذ'!$H$16:$H$658=$F$4,IF('بيانات التلاميذ'!$A$16:$A$658=$E7,ROW($H$16:$H$658)-ROW($H$16)+1)),ROWS($D$5:F7))),\"\")","v":""},null,{"$f":"IFERROR(INDEX('بيانات التلاميذ'!$E$16:$E$658,SMALL(IF('بيانات التلاميذ'!$H$16:$H$658=$H$4,IF('بيانات التلاميذ'!$A$16:$A$658=$G7,ROW($H$16:$H$658)-ROW($H$16)+1)),ROWS($D$5:H7))),\"\")","v":""},null,{"$f":"IFERROR(INDEX('بيانات التلاميذ'!$E$16:$E$658,SMALL(IF('بيانات التلاميذ'!$H$16:$H$658=$J$4,IF('بيانات التلاميذ'!$A$16:$A$658=$I7,ROW($H$16:$H$658)-ROW($H$16)+1)),ROWS($D$5:J7))),\"\")","v":""}]
[null,null,null,{"$f":"IFERROR(INDEX('بيانات التلاميذ'!$E$16:$E$658,SMALL(IF('بيانات التلاميذ'!$H$16:$H$658=$D$4,IF('بيانات التلاميذ'!$A$16:$A$658=$C8,ROW($H$16:$H$658)-ROW($H$16)+1)),ROWS($D$5:D8))),\"\")","v":""},null,{"$f":"IFERROR(INDEX('بيانات التلاميذ'!$E$16:$E$658,SMALL(IF('بيانات التلاميذ'!$H$16:$H$658=$F$4,IF('بيانات التلاميذ'!$A$16:$A$658=$E8,ROW($H$16:$H$658)-ROW($H$16)+1)),ROWS($D$5:F8))),\"\")","v":""},null,{"$f":"IFERROR(INDEX('بيانات التلاميذ'!$E$16:$E$658,SMALL(IF('بيانات التلاميذ'!$H$16:$H$658=$H$4,IF('بيانات التلاميذ'!$A$16:$A$658=$G8,ROW($H$16:$H$658)-ROW($H$16)+1)),ROWS($D$5:H8))),\"\")","v":""},null,{"$f":"IFERROR(INDEX('بيانات التلاميذ'!$E$16:$E$658,SMALL(IF('بيانات التلاميذ'!$H$16:$H$658=$J$4,IF('بيانات التلاميذ'!$A$16:$A$658=$I8,ROW($H$16:$H$658)-ROW($H$16)+1)),ROWS($D$5:J8))),\"\")","v":""}]
[null,null,null,{"$f":"IFERROR(INDEX('بيانات التلاميذ'!$E$16:$E$658,SMALL(IF('بيانات التلاميذ'!$H$16:$H$658=$D$4,IF('بيانات التلاميذ'!$A$16:$A$658=$C9,ROW($H$16:$H$658)-ROW($H$16)+1)),ROWS($D$5:D9))),\"\")","v":""},null,{"$f":"IFERROR(INDEX('بيانات التلاميذ'!$E$16:$E$658,SMALL(IF('بيانات التلاميذ'!$H$16:$H$658=$F$4,IF('بيانات التلاميذ'!$A$16:$A$658=$E9,ROW($H$16:$H$658)-ROW($H$16)+1)),ROWS($D$5:F9))),\"\")","v":""},null,{"$f":"IFERROR(INDEX('بيانات التلاميذ'!$E$16:$E$658,SMALL(IF('بيانات التلاميذ'!$H$16:$H$658=$H$4,IF('بيانات التلاميذ'!$A$16:$A$658=$G9,ROW($H$16:$H$658)-ROW($H$16)+1)),ROWS($D$5:H9))),\"\")","v":""},null,{"$f":"IFERROR(INDEX('بيانات التلاميذ'!$E$16:$E$658,SMALL(IF('بيانات التلاميذ'!$H$16:$H$658=$J$4,IF('بيانات التلاميذ'!$A$16:$A$658=$I9,ROW($H$16:$H$658)-ROW($H$16)+1)),ROWS($D$5:J9))),\"\")","v":""}]
[null,null,null,{"$f":"IFERROR(INDEX('بيانات التلاميذ'!$E$16:$E$658,SMALL(IF('بيانات التلاميذ'!$H$16:$H$658=$D$4,IF('بيانات التلاميذ'!$A$16:$A$658=$C10,ROW($H$16:$H$658)-ROW($H$16)+1)),ROWS($D$5:D10))),\"\")","v":""},null,{"$f":"IFERROR(INDEX('بيانات التلاميذ'!$E$16:$E$658,SMALL(IF('بيانات التلاميذ'!$H$16:$H$658=$F$4,IF('بيانات التلاميذ'!$A$16:$A$658=$E10,ROW($H$16:$H$658)-ROW($H$16)+1)),ROWS($D$5:F10))),\"\")","v":""},null,{"$f":"IFERROR(INDEX('بيانات التلاميذ'!$E$16:$E$658,SMALL(IF('بيانات التلاميذ'!$H$16:$H$658=$H$4,IF('بيانات التلاميذ'!$A$16:$A$658=$G10,ROW($H$16:$H$658)-ROW($H$16)+1)),ROWS($D$5:H10))),\"\")","v":""},null,{"$f":"IFERROR(INDEX('بيانات التلاميذ'!$E$16:$E$658,SMALL(IF('بيانات التلاميذ'!$H$16:$H$658=$J$4,IF('بيانات التلاميذ'!$A$16:$A$658=$I10,ROW($H$16:$H$658)-ROW($H$16)+1)),ROWS($D$5:J10))),\"\")","v":""}]
[null,null,null,{"$f":"IFERROR(INDEX('بيانات التلاميذ'!$E$16:$E$658,SMALL(IF('بيانات التلاميذ'!$H$16:$H$658=$D$4,IF('بيانات التلاميذ'!$A$16:$A$658=$C11,ROW($H$16:$H$658)-ROW($H$16)+1)),ROWS($D$5:D11))),\"\")","v":""},null,{"$f":"IFERROR(INDEX('بيانات التلاميذ'!$E$16:$E$658,SMALL(IF('بيانات التلاميذ'!$H$16:$H$658=$F$4,IF('بيانات التلاميذ'!$A$16:$A$658=$E11,ROW($H$16:$H$658)-ROW($H$16)+1)),ROWS($D$5:F11))),\"\")","v":""},null,{"$f":"IFERROR(INDEX('بيانات التلاميذ'!$E$16:$E$658,SMALL(IF('بيانات التلاميذ'!$H$16:$H$658=$H$4,IF('بيانات التلاميذ'!$A$16:$A$658=$G11,ROW($H$16:$H$658)-ROW($H$16)+1)),ROWS($D$5:H11))),\"\")","v":""},null,{"$f":"IFERROR(INDEX('بيانات التلاميذ'!$E$16:$E$658,SMALL(IF('بيانات التلاميذ'!$H$16:$H$658=$J$4,IF('بيانات التلاميذ'!$A$16:$A$658=$I11,ROW($H$16:$H$658)-ROW($H$16)+1)),ROWS($D$5:J11))),\"\")","v":""}]
[null,null,null,{"$f":"IFERROR(INDEX('بيانات التلاميذ'!$E$16:$E$658,SMALL(IF('بيانات التلاميذ'!$H$16:$H$658=$D$4,IF('بيانات التلاميذ'!$A$16:$A$658=$C12,ROW($H$16:$H$658)-ROW($H$16)+1)),ROWS($D$5:D12))),\"\")","v":""},null,{"$f":"IFERROR(INDEX('بيانات التلاميذ'!$E$16:$E$658,SMALL(IF('بيانات التلاميذ'!$H$16:$H$658=$F$4,IF('بيانات التلاميذ'!$A$16:$A$658=$E12,ROW($H$16:$H$658)-ROW($H$16)+1)),ROWS($D$5:F12))),\"\")","v":""},null,{"$f":"IFERROR(INDEX('بيانات التلاميذ'!$E$16:$E$658,SMALL(IF('بيانات التلاميذ'!$H$16:$H$658=$H$4,IF('بيانات التلاميذ'!$A$16:$A$658=$G12,ROW($H$16:$H$658)-ROW($H$16)+1)),ROWS($D$5:H12))),\"\")","v":""},null,{"$f":"IFERROR(INDEX('بيانات التلاميذ'!$E$16:$E$658,SMALL(IF('بيانات التلاميذ'!$H$16:$H$658=$J$4,IF('بيانات التلاميذ'!$A$16:$A$658=$I12,ROW($H$16:$H$658)-ROW($H$16)+1)),ROWS($D$5:J12))),\"\")","v":""}]
[null,null,null,{"$f":"IFERROR(INDEX('بيانات التلاميذ'!$E$16:$E$658,SMALL(IF('بيانات التلاميذ'!$H$16:$H$658=$D$4,IF('بيانات التلاميذ'!$A$16:$A$658=$C13,ROW($H$16:$H$658)-ROW($H$16)+1)),ROWS($D$5:D13))),\"\")","v":""},null,{"$f":"IFERROR(INDEX('بيانات التلاميذ'!$E$16:$E$658,SMALL(IF('بيانات التلاميذ'!$H$16:$H$658=$F$4,IF('بيانات التلاميذ'!$A$16:$A$658=$E13,ROW($H$16:$H$658)-ROW($H$16)+1)),ROWS($D$5:F13))),\"\")","v":""},null,{"$f":"IFERROR(INDEX('بيانات التلاميذ'!$E$16:$E$658,SMALL(IF('بيانات التلاميذ'!$H$16:$H$658=$H$4,IF('بيانات التلاميذ'!$A$16:$A$658=$G13,ROW($H$16:$H$658)-ROW($H$16)+1)),ROWS($D$5:H13))),\"\")","v":""},null,{"$f":"IFERROR(INDEX('بيانات التلاميذ'!$E$16:$E$658,SMALL(IF('بيانات التلاميذ'!$H$16:$H$658=$J$4,IF('بيانات التلاميذ'!$A$16:$A$658=$I13,ROW($H$16:$H$658)-ROW($H$16)+1)),ROWS($D$5:J13))),\"\")","v":""}]
[null,null,null,{"$f":"IFERROR(INDEX('بيانات التلاميذ'!$E$16:$E$658,SMALL(IF('بيانات التلاميذ'!$H$16:$H$658=$D$4,IF('بيانات التلاميذ'!$A$16:$A$658=$C14,ROW($H$16:$H$658)-ROW($H$16)+1)),ROWS($D$5:D14))),\"\")","v":""},null,{"$f":"IFERROR(INDEX('بيانات التلاميذ'!$E$16:$E$658,SMALL(IF('بيانات التلاميذ'!$H$16:$H$658=$F$4,IF('بيانات التلاميذ'!$A$16:$A$658=$E14,ROW($H$16:$H$658)-ROW($H$16)+1)),ROWS($D$5:F14))),\"\")","v":""},null,{"$f":"IFERROR(INDEX('بيانات التلاميذ'!$E$16:$E$658,SMALL(IF('بيانات التلاميذ'!$H$16:$H$658=$H$4,IF('بيانات التلاميذ'!$A$16:$A$658=$G14,ROW($H$16:$H$658)-ROW($H$16)+1)),ROWS($D$5:H14))),\"\")","v":""},null,{"$f":"IFERROR(INDEX('بيانات التلاميذ'!$E$16:$E$658,SMALL(IF('بيانات التلاميذ'!$H$16:$H$658=$J$4,IF('بيانات التلاميذ'!$A$16:$A$658=$I14,ROW($H$16:$H$658)-ROW($H$16)+1)),ROWS($D$5:J14))),\"\")","v":""}]
[null,null,null,null,null,{"$f":"IFERROR(INDEX('بيانات التلاميذ'!$E$16:$E$658,SMALL(IF('بيانات التلاميذ'!$H$16:$H$658=$F$4,IF('بيانات التلاميذ'!$A$16:$A$658=$E15,ROW($H$16:$H$658)-ROW($H$16)+1)),ROWS($D$5:F15))),\"\")","v":""},null,{"$f":"IFERROR(INDEX('بيانات التلاميذ'!$E$16:$E$658,SMALL(IF('بيانات التلاميذ'!$H$16:$H$658=$H$4,IF('بيانات التلاميذ'!$A$16:$A$658=$G15,ROW($H$16:$H$658)-ROW($H$16)+1)),ROWS($D$5:H15))),\"\")","v":""},null,{"$f":"IFERROR(INDEX('بيانات التلاميذ'!$E$16:$E$658,SMALL(IF('بيانات التلاميذ'!$H$16:$H$658=$J$4,IF('بيانات التلاميذ'!$A$16:$A$658=$I15,ROW($H$16:$H$658)-ROW($H$16)+1)),ROWS($D$5:J15))),\"\")","v":""}]
[null,null,null,null,null,{"$f":"IFERROR(INDEX('بيانات التلاميذ'!$E$16:$E$658,SMALL(IF('بيانات التلاميذ'!$H$16:$H$658=$F$4,IF('بيانات التلاميذ'!$A$16:$A$658=$E16,ROW($H$16:$H$658)-ROW($H$16)+1)),ROWS($D$5:F16))),\"\")","v":""},null,{"$f":"IFERROR(INDEX('بيانات التلاميذ'!$E$16:$E$658,SMALL(IF('بيانات التلاميذ'!$H$16:$H$658=$H$4,IF('بيانات التلاميذ'!$A$16:$A$658=$G16,ROW($H$16:$H$658)-ROW($H$16)+1)),ROWS($D$5:H16))),\"\")","v":""},null,{"$f":"IFERROR(INDEX('بيانات التلاميذ'!$E$16:$E$658,SMALL(IF('بيانات التلاميذ'!$H$16:$H$658=$J$4,IF('بيانات التلاميذ'!$A$16:$A$658=$I16,ROW($H$16:$H$658)-ROW($H$16)+1)),ROWS($D$5:J16))),\"\")","v":""}]
[null,null,null,null,null,{"$f":"IFERROR(INDEX('بيانات التلاميذ'!$E$16:$E$658,SMALL(IF('بيانات التلاميذ'!$H$16:$H$658=$F$4,IF('بيانات التلاميذ'!$A$16:$A$658=$E17,ROW($H$16:$H$658)-ROW($H$16)+1)),ROWS($D$5:F17))),\"\")","v":""},null,{"$f":"IFERROR(INDEX('بيانات التلاميذ'!$E$16:$E$658,SMALL(IF('بيانات التلاميذ'!$H$16:$H$658=$H$4,IF('بيانات التلاميذ'!$A$16:$A$658=$G17,ROW($H$16:$H$658)-ROW($H$16)+1)),ROWS($D$5:H17))),\"\")","v":""},null,{"$f":"IFERROR(INDEX('بيانات التلاميذ'!$E$16:$E$658,SMALL(IF('بيانات التلاميذ'!$H$16:$H$658=$J$4,IF('بيانات التلاميذ'!$A$16:$A$658=$I17,ROW($H$16:$H$658)-ROW($H$16)+1)),ROWS($D$5:J17))),\"\")","v":""}]
[null,null,null,null,null,{"$f":"IFERROR(INDEX('بيانات التلاميذ'!$E$16:$E$658,SMALL(IF('بيانات التلاميذ'!$H$16:$H$658=$F$4,IF('بيانات التلاميذ'!$A$16:$A$658=$E18,ROW($H$16:$H$658)-ROW($H$16)+1)),ROWS($D$5:F18))),\"\")","v":""},null,{"$f":"IFERROR(INDEX('بيانات التلاميذ'!$E$16:$E$658,SMALL(IF('بيانات التلاميذ'!$H$16:$H$658=$H$4,IF('بيانات التلاميذ'!$A$16:$A$658=$G18,ROW($H$16:$H$658)-ROW($H$16)+1)),ROWS($D$5:H18))),\"\")","v":""},null,{"$f":"IFERROR(INDEX('بيانات التلاميذ'!$E$16:$E$658,SMALL(IF('بيانات التلاميذ'!$H$16:$H$658=$J$4,IF('بيانات التلاميذ'!$A$16:$A$658=$I18,ROW($H$16:$H$658)-ROW($H$16)+1)),ROWS($D$5:J18))),\"\")","v":""}]
[null,null,null,null,null,{"$f":"IFERROR(INDEX('بيانات التلاميذ'!$E$16:$E$658,SMALL(IF('بيانات التلاميذ'!$H$16:$H$658=$F$4,IF('بيانات التلاميذ'!$A$16:$A$658=$E19,ROW($H$16:$H$658)-ROW($H$16)+1)),ROWS($D$5:F19))),\"\")","v":""},null,{"$f":"IFERROR(INDEX('بيانات التلاميذ'!$E$16:$E$658,SMALL(IF('بيانات التلاميذ'!$H$16:$H$658=$H$4,IF('بيانات التلاميذ'!$A$16:$A$658=$G19,ROW($H$16:$H$658)-ROW($H$16)+1)),ROWS($D$5:H19))),\"\")","v":""},null,{"$f":"IFERROR(INDEX('بيانات التلاميذ'!$E$16:$E$658,SMALL(IF('بيانات التلاميذ'!$H$16:$H$658=$J$4,IF('بيانات التلاميذ'!$A$16:$A$658=$I19,ROW($H$16:$H$658)-ROW($H$16)+1)),ROWS($D$5:J19))),\"\")","v":""}]
[null,null,null,null,null,{"$f":"IFERROR(INDEX('بيانات التلاميذ'!$E$16:$E$658,SMALL(IF('بيانات التلاميذ'!$H$16:$H$658=$F$4,IF('بيانات التلاميذ'!$A$16:$A$658=$E20,ROW($H$16:$H$658)-ROW($H$16)+1)),ROWS($D$5:F20))),\"\")","v":""},null,null,null,{"$f":"IFERROR(INDEX('بيانات التلاميذ'!$E$16:$E$658,SMALL(IF('بيانات التلاميذ'!$H$16:$H$658=$J$4,IF('بيانات التلاميذ'!$A$16:$A$658=$I20,ROW($H$16:$H$658)-ROW($H$16)+1)),ROWS($D$5:J20))),\"\")","v":""}]
[null,null,null,null,null,{"$f":"IFERROR(INDEX('بيانات التلاميذ'!$E$16:$E$658,SMALL(IF('بيانات التلاميذ'!$H$16:$H$658=$F$4,IF('بيانات التلاميذ'!$A$16:$A$658=$E21,ROW($H$16:$H$658)-ROW($H$16)+1)),ROWS($D$5:F21))),\"\")","v":""},null,null,null,{"$f":"IFERROR(INDEX('بيانات التلاميذ'!$E$16:$E$658,SMALL(IF('بيانات التلاميذ'!$H$16:$H$658=$J$4,IF('بيانات التلاميذ'!$A$16:$A$658=$I21,ROW($H$16:$H$658)-ROW($H$16)+1)),ROWS($D$5:J21))),\"\")","v":""}]
[null,null,null,null,null,{"$f":"IFERROR(INDEX('بيانات التلاميذ'!$E$16:$E$658,SMALL(IF('بيانات التلاميذ'!$H$16:$H$658=$F$4,IF('بيانات التلاميذ'!$A$16:$A$658=$E22,ROW($H$16:$H$658)-ROW($H$16)+1)),ROWS($D$5:F22))),\"\")","v":""},null,null,null,{"$f":"IFERROR(INDEX('بيانات التلاميذ'!$E$16:$E$658,SMALL(IF('بيانات التلاميذ'!$H$16:$H$658=$J$4,IF('بيانات التلاميذ'!$A$16:$A$658=$I22,ROW($H$16:$H$658)-ROW($H$16)+1)),ROWS($D$5:J22))),\"\")","v":""}]
[null,null,null,null,null,{"$f":"IFERROR(INDEX('بيانات التلاميذ'!$E$16:$E$658,SMALL(IF('بيانات التلاميذ'!$H$16:$H$658=$F$4,IF('بيانات التلاميذ'!$A$16:$A$658=$E23,ROW($H$16:$H$658)-ROW($H$16)+1)),ROWS($D$5:F23))),\"\")","v":""},null,null,null,{"$f":"IFERROR(INDEX('بيانات التلاميذ'!$E$16:$E$658,SMALL(IF('بيانات التلاميذ'!$H$16:$H$658=$J$4,IF('بيانات التلاميذ'!$A$16:$A$658=$I23,ROW($H$16:$H$658)-ROW($H$16)+1)),ROWS($D$5:J23))),\"\")","v":""}]
[null,null,null,null,null,{"$f":"IFERROR(INDEX('بيانات التلاميذ'!$E$16:$E$658,SMALL(IF('بيانات التلاميذ'!$H$16:$H$658=$F$4,IF('بيانات التلاميذ'!$A$16:$A$658=$E24,ROW($H$16:$H$658)-ROW($H$16)+1)),ROWS($D$5:F24))),\"\")","v":""},null,null,null,{"$f":"IFERROR(INDEX('بيانات التلاميذ'!$E$16:$E$658,SMALL(IF('بيانات التلاميذ'!$H$16:$H$658=$J$4,IF('بيانات التلاميذ'!$A$16:$A$658=$I24,ROW($H$16:$H$658)-ROW($H$16)+1)),ROWS($D$5:J24))),\"\")","v":""}]
[null,null,null,null,null,{"$f":"IFERROR(INDEX('بيانات التلاميذ'!$E$16:$E$658,SMALL(IF('بيانات التلاميذ'!$H$16:$H$658=$F$4,IF('بيانات التلاميذ'!$A$16:$A$658=$E25,ROW($H$16:$H$658)-ROW($H$16)+1)),ROWS($D$5:F25))),\"\")","v":""},null,null,null,{"$f":"IFERROR(INDEX('بيانات التلاميذ'!$E$16:$E$658,SMALL(IF('بيانات التلاميذ'!$H$16:$H$658=$J$4,IF('بيانات التلاميذ'!$A$16:$A$658=$I25,ROW($H$16:$H$658)-ROW($H$16)+1)),ROWS($D$5:J25))),\"\")","v":""}]
[null,null,null,null,null,{"$f":"IFERROR(INDEX('بيانات التلاميذ'!$E$16:$E$658,SMALL(IF('بيانات التلاميذ'!$H$16:$H$658=$F$4,IF('بيانات التلاميذ'!$A$16:$A$658=$E26,ROW($H$16:$H$658)-ROW($H$16)+1)),ROWS($D$5:F26))),\"\")","v":""},null,null,null,{"$f":"IFERROR(INDEX('بيانات التلاميذ'!$E$16:$E$658,SMALL(IF('بيانات التلاميذ'!$H$16:$H$658=$J$4,IF('بيانات التلاميذ'!$A$16:$A$658=$I26,ROW($H$16:$H$658)-ROW($H$16)+1)),ROWS($D$5:J26))),\"\")","v":""}]
[null,null,null,null,null,{"$f":"IFERROR(INDEX('بيانات التلاميذ'!$E$16:$E$658,SMALL(IF('بيانات التلاميذ'!$H$16:$H$658=$F$4,IF('بيانات التلاميذ'!$A$16:$A$658=$E27,ROW($H$16:$H$658)-ROW($H$16)+1)),ROWS($D$5:F27))),\"\")","v":""},null,null,null,{"$f":"IFERROR(INDEX('بيانات التلاميذ'!$E$16:$E$658,SMALL(IF('بيانات التلاميذ'!$H$16:$H$658=$J$4,IF('بيانات التلاميذ'!$A$16:$A$658=$I27,ROW($H$16:$H$658)-ROW($H$16)+1)),ROWS($D$5:J27))),\"\")","v":""}]
[null,null,null,null,null,null,null,null,null,{"$f":"IFERROR(INDEX('بيانات التلاميذ'!$E$16:$E$658,SMALL(IF('بيانات التلاميذ'!$H$16:$H$658=$J$4,IF('بيانات التلاميذ'!$A$16:$A$658=$I28,ROW($H$16:$H$658)-ROW($H$16)+1)),ROWS($D$5:J28))),\"\")","v":""}]