{"text_format":"1","workbook":"xlsx","n_sheets":17,"sheets":["الواجهة","الإشعارات","التقرير اليومي","غيابات التلاميذ","تعداد  التلاميذ","ALL","Single","الإشعار الأول","الإشعار الثاني","الإعذار","الشطب","إستدعاء","تعهد ولي التلميذ","تعهد تلميذ","اليومية","ورقة20","Salim"],"not_rendered":{"charts":0,"images":3,"macros":1,"external_links":2,"defined_names":24,"comments":1,"pivot_tables":0},"unopened":[],"bounds":{"document_bytes":16777216,"sheet_cells":100000,"rows_first":2000,"rows_last":500,"rows_between":2000,"halvings":0,"cell_chars":16384,"cell_head_chars":4096},"cells_cut":0,"cells_raw":0,"read":"whole","date_system":"1900"}

{"sheet":"الواجهة","index":0,"n_rows":519,"n_cols":148,"rows_kept":519,"cut":false,"hidden":false,"merged":[[71,0,71,1],[73,0,73,1],[74,0,74,1],[76,3,76,5],[7,6,7,7],[9,6,9,7],[15,6,15,7],[58,0,58,5],[63,0,63,1],[63,2,63,3],[65,1,65,2],[67,0,67,2],[69,0,69,1],[19,3,19,5],[49,0,49,3],[56,0,56,1],[56,3,56,5],[21,3,21,5],[22,3,22,5],[6,6,6,7],[1,1,1,6],[2,1,2,2],[2,6,2,8],[3,1,3,2],[4,1,4,2],[5,1,5,2]]}
[]
[]
[null,"المديريـة  ",null,"مديريـة التربيـة لولاية ",null,null,null,null,null,null,null,null,null,null,null,null,null,null,null,null,null,null,null,null,null,null,null,null,null,null,null,null,null,null,null,null,null,null,null,null,null,null,null,106]
[null,"المؤسســــــــــــة",null,"ثانويـــة الوادي",null,null,null,null,null,null,null,null,null,null,null,null,null,411]
[null,"البلديـــــــــــــــة",null,"الوادي"]
[null,"السنـــــة الدراسيـــــــــة",null,"2018/2017/"]
[null,null,null,null,"رقم التسجيل","الإسم واللقب","تاريخ الميلاد",null,"الجنـــس"]
[null,null,null,null,13,{"$f":"IFERROR(VLOOKUP($E8,school2,3,FALSE)&\"  \"&VLOOKUP($E8,school2,4,FALSE),\"\")","v":"مراد 13  فريدة13"},{"$f":"VLOOKUP($E$8,school2,9,FALSE)","v":"12/2/2012"},null,{"$f":"VLOOKUP($E$8,school2,11,FALSE)","v":"ذ"},null,null,null,null,null,null,null,null,null,null,null,null,null,null,null,null,null,null,null,null,null,null,null,null,null,null,null,null,null,null,null,null,null,null,null,null,null,null,null,null,null,null,null,null,null,null,null,null,null,null,null,null,null,null,null,null,null,null,null,null,null,null,null,null,null,null,null,null,null,null,null,null,null,null,null,null,null,null,null,null,null,null,null,null,null,null,null,null,null,null,null,null,null,null,null,null,null,null,null,null,null,null,null,null,null,null,null,null,null,null,null,null,null,null,null,null,null,null,null,null,null,null,null,null,null,null,null,null,null,null,null,null,null,null,null,null,null,null,141]
[]
[null,null,null,null,"مستشار التربية","الناظــــــر","المديـــــر"]
[]
[]
[]
[]
[]
[]
[]
[]
[]
[]
[]
[null,null,null,"أنجز هذا العمل المتواضع من طرف: حفوضة الصادق مشرف التربية بثانوية مفدي زكرياء - البياضة"]
[null,null,null,"SADOKHAFOUDA@YAHOO.FR"]
[]
[]
[]
[]
[]
[]
[]
[]
[]
[]
[]
[]
[]
[]
[]
[]
[]
[]
[]
[]
[]
[]
[]
[]
[]
[]
[]
[]
[]
[]
[]
[]
[]
[]
[]
[]
[]
[]
[]
[]
[]
[]
[]
[]
[]
[]
[]
[]
[]
[]
[]
[]
[]
[]
[]
[]
[]
[]
[]
[]
[]
[]
[]
[]
[]
[]
[]
[]
[]
[]
[]
[]
[]
[]
[]
[]
[]
[]
[]
[]
[]
[]
[]
[]
[]
[]
[]
[]
[]
[]
[]
[]
[]
[]
[]
[]
[]
[]
[]
[]
[]
[]
[]
[]
[]
[]
[]
[]
[]
[]
[]
[]
[]
[]
[]
[]
[]
[]
[]
[]
[]
[]
[]
[]
[]
[]
[]
[]
[]
[]
[]
[]
[]
[]
[]
[]
[]
[]
[]
[]
[]
[]
[]
[]
[]
[]
[]
[]
[]
[]
[]
[]
[]
[]
[]
[]
[]
[]
[]
[]
[]
[]
[]
[]
[]
[]
[]
[]
[]
[]
[]
[]
[]
[]
[]
[]
[]
[]
[]
[]
[]
[]
[]
[]
[]
[]
[]
[]
[]
[]
[]
[]
[]
[]
[]
[]
[]
[]
[]
[]
[]
[]
[]
[]
[]
[]
[]
[]
[]
[]
[]
[]
[]
[]
[]
[]
[]
[]
[]
[]
[]
[]
[]
[]
[]
[]
[]
[]
[]
[]
[]
[]
[]
[]
[]
[]
[]
[]
[]
[]
[]
[]
[]
[]
[]
[]
[]
[]
[]
[]
[]
[]
[]
[]
[]
[]
[]
[]
[]
[]
[]
[]
[]
[]
[]
[]
[]
[]
[]
[]
[]
[]
[]
[]
[]
[]
[]
[]
[]
[]
[]
[]
[]
[]
[]
[]
[]
[]
[]
[]
[]
[]
[]
[]
[]
[]
[]
[]
[]
[]
[]
[]
[]
[]
[]
[]
[]
[]
[]
[]
[]
[]
[]
[]
[]
[]
[]
[]
[]
[]
[]
[]
[]
[]
[]
[]
[]
[]
[]
[]
[]
[]
[]
[]
[]
[]
[]
[]
[]
[]
[]
[]
[]
[]
[]
[]
[]
[]
[]
[]
[]
[]
[]
[]
[]
[]
[]
[]
[]
[]
[]
[]
[]
[]
[]
[]
[]
[]
[]
[]
[]
[]
[]
[]
[]
[]
[]
[]
[]
[]
[]
[]
[]
[]
[]
[]
[]
[]
[]
[]
[]
[]
[]
[]
[]
[]
[]
[]
[]
[]
[]
[]
[]
[]
[]
[]
[]
[]
[]
[]
[]
[]
[]
[]
[]
[]
[]
[]
[]
[]
[]
[]
[]
[]
[]
[]
[]
[]
[]
[]
[]
[]
[]
[]
[]
[]
[]
[]
[]
[]
[]
[]
[]
[]
[]
[]
[]
[]
[]
[]
[]
[]
[]
[]
[]
[]
[]
[]
[]
[]
[]
[]
[]
[]
[]
[]
[]
[]
[]
[]
[]
[]
[]
[]
[]
[]
[]
[]
[]
[]
[]
[]
[]
[]
[]
[]
[]
[]
[]
[]
[]
[]
[]
[]
[]
[null,null,null,null,null,null,null,null,2]

{"sheet":"الإشعارات","index":1,"n_rows":0,"n_cols":0,"rows_kept":0,"cut":false,"hidden":false,"merged":[]}

{"sheet":"التقرير اليومي","index":2,"n_rows":56,"n_cols":35,"rows_kept":56,"cut":false,"hidden":false,"merged":[[2,2,2,5],[18,2,18,3],[4,2,4,5],[8,2,8,5],[15,2,15,3],[3,2,3,5],[55,1,55,17],[37,2,37,5],[46,2,46,6],[47,2,47,6],[17,2,17,3],[39,10,39,11],[42,4,42,5],[42,2,42,3],[41,14,41,16],[42,14,42,16],[41,10,41,11],[40,4,40,5],[41,4,41,5],[39,2,39,3],[39,4,39,5],[41,2,41,3],[0,19,0,26],[4,14,4,15],[5,23,5,24],[9,2,9,8],[15,13,15,15],[9,10,9,15],[14,13,14,15],[13,2,13,3],[14,2,14,3],[1,14,1,15],[3,18,5,19],[7,18,8,19],[0,1,0,17],[1,5,1,11],[12,2,12,3],[5,5,7,11],[10,13,10,15],[16,2,16,3],[3,12,3,13],[10,2,10,3],[3,14,3,15],[16,13,16,15],[13,13,13,15],[5,14,5,15],[6,14,6,15],[44,2,44,5],[45,2,45,6],[43,2,43,3],[43,4,43,5],[19,2,19,15],[20,2,20,3],[37,7,37,15],[22,2,22,4],[21,2,21,15],[27,2,29,3],[35,4,35,15],[36,2,36,15],[35,0,35,3],[31,11,33,14],[31,2,33,3],[23,2,25,3],[39,12,39,13],[40,12,40,13],[23,11,25,14],[38,2,38,3],[11,2,11,3],[38,4,38,5],[40,2,40,3],[20,4,20,15],[27,12,29,14],[39,14,39,16],[11,13,11,15],[12,13,12,15],[17,13,17,15],[18,13,18,15],[46,8,46,16],[40,10,40,11],[40,8,40,9],[41,8,41,9],[42,8,42,9],[44,7,44,14],[41,12,41,13],[40,14,40,16],[45,8,45,16],[42,12,42,13],[42,10,42,11],[47,8,47,16],[48,8,48,16],[49,8,49,16],[48,2,48,6],[49,2,49,6]]}
[null,"الجمهورية الجزائرية الديمقراطية الشعبية"]
[null,null,null,null,null,"وزارة التربية الوطنية",null,null,null,null,null,null,null,"الرقـــم:",200,null,null,null,null,null,null,null,null,null,null,null,null,"ســبب الغيــاب","الاقسام","ايام الاسبوع","المواد",null,"الاستاذ","المساعدين"]
[null,null,{"$f":"الواجهة!D3","v":"مديريـة التربيـة لولاية "},null,null,null,null,null,null,null,null,null,null,"                                     ",null,null,null,null,null,null,1]
[null,null,{"$f":"الواجهة!D4","v":"ثانويـــة الوادي"},null,null,null,null,null,null,null,null,null,"السنة الدراسية:",null,{"$f":"الواجهة!D6","v":"2018/2017/"},null,null,null,null,null,2,null,null,null,null,null,null,"غياب غير مبرر","1ع1","الاحد","فلسفة",{"$f":"IF(AG4<>\"\",1,\"\")","v":1},"دبابسية منية","صالح1",{"$f":"IF(AH4<>\"\",1,\"\")","v":1}]
[null,null,{"$f":"الواجهة!D5","v":"الوادي"},null,null,null,null,null,null,null,null,null," اليـوم: ",{"$f":"O5","v":"2018-07-01"},"2018-07-01",null,null,null,null,null,3,null,null,null,null,null,null,"عطلة مرضية","1ع2","الاثنين","عربية ",{"$f":"IF(AG5<>\"\",1,\"\")","v":1},"ذياب","صالح2",{"$f":"IF(AH5<>\"\",1,\"\")","v":1}]
[null,null,null,null,null,null,null,null,null,null,null,null,null,null,null,null,null,null,null,null,4,null,null,null,null,null,null,"عطلة امومة","1ع3","الثلاثاء","فيزياء",1,"جديد نوال","صالح3",1]
[null,null,null,null,null,null,null,null,null,null,null,null,null,null,null,null,null,null,{"$f":"TODAY()","v":"2018-07-21"},null,5,null,null,null,null,null,null,"عطلة ابوه","1ع4","الاربعاء","رياضيات",1,"هقي","صالح4",1]
[null,null,null,null,null,null,null,null,null,null,null,null,null,null,null,null,null,null,null,null,6,null,null,null,null,null,null,"عطلة زفاف","1آ1","الخميس ","إجتماعيات",1,"العائبي حنان","صالح5",1]
[null,"1-    الدراســـة :1-1 – دروس لم تقدم:","1- الدراســـة :1-1 – دروس لم تقدم:",null,null,null,null,null,null,null,null,null,null,null,null,null,null,null,null,null,7,null,null,null,null,null,null,"عطلة ختان","1آ2","الجمعة ","فرنسية",1,"قادي","صالح6",1]
[null,null,"الفترة الصباحيــة",null,null,null,null,null,null,null,"الفترة المسائية",null,null,null,null,null,null,null,null,null,8,null,null,null,null,null,null,"عمـــرة ","2ريا","السبت","أنجليزيــــــة",1,"مقيرحي","صالح7",1]
[null,null,"الأستــــاذ",null,"المادة"," 8 ـ 9 "," 9 ـ 10 "," 10 ـ 11 "," 11 ـ 12 ",null," 14 ـ 15 "," 15 ـ 16 "," 16 ـ 17 ","ملاحظات",null,null,null,null,null,null,9,null,null,null,null,null,null,"الحــــج","2هط",null,"تربية إسلامية",1,"ربوح خيرة","صالح8",1]
[null,{"$f":"IF(C12<>\"\",1,\"\")","v":1},"قابوسة",null,"فرنسية","1ع3",null,null,null,null,null,null,null,"عمـــرة ",null,null,null,null,null,null,10,null,null,null,null,null,null,"نــــدوة","2تق",null,"تكنولوجيا",1,"سلاطنة إيمان"]
[null,{"$f":"IF(C13<>\"\",1,\"\")","v":1},"دبابسة",null,"كيميـــــاء",null,null,null,null,null,null,null,null,null,null,null,null,null,null,null,11,null,null,null,null,null,null,"إضراب","2ع1",null,"تربية بدنية",1,"دبابسة"]
[null,1,"دبابسية منية",null,null,null,null,"1ع4",null,null,null,null,null,null,null,null,null,null,null,null,12,null,null,null,null,null,null,"غياب بعــذر","2ع2",null,"علوم طبيعية",1,"بالهادي محمد"]
[null,1,"هقي",null,null,"2ريا",null,null,null,null,null,"2تق",null,"عمـــرة ",null,null,null,null,null,null,13,null,null,null,null,null,null,"رخصة غياب","2ع3",null,"كيميـــــاء",1,"عروة"]
[null,1,"بوراس",null,null,"1ع2",null,null,"1آ1",null,null,null,null,"إضراب",null,null,null,null,null,null,14,null,null,null,null,null,null,"إزدياد مولود","2آف",null,null,1,"كرداس"]
[null,1,"بن عمر",null,null,"1آ1",null,null,null,null,null,"2هط",null,"الحــــج",null,null,null,null,null,null,15,null,null,null,null,null,null,null,"3آف",null,null,1,"نايلي"]
[null,1,"سبوعي",null,null,null,null,null,null,null,null,null,null,null,null,null,null,null,null,null,16,null,null,null,null,null,null,null,"3ع1",null,null,1,"عبيد نفيسة"]
[null,1,"حميداتو",null,null,null,null,null,null,null,null,null,null,null,null,null,null,null,null,null,17,null,null,null,null,null,null,null,"3ع2",null,null,1,"بن عائشة فتيحة"]
[null,null,null,null,null,null,null,null,null,null,null,null,null,null,null,null,null,null,null,null,null,null,null,null,null,null,null,null,"3هط",null,null,1,"لطوفة"]
[null,null,"2 ـ اجراءات متخذة :",null,"..........................................................................................................................................................................................................................................................................................................................",null,null,null,null,null,null,null,null,null,null,null,null,null,null,null,null,null,null,null,null,null,null,null,"3ريا",null,null,1,"شعباني"]
[null,null,"...............................................................................................................................................................................................................................................................................................................................................................................",null,null,null,null,null,null,null,null,null,null,null,null,null,null,null,null,null,null,null,null,null,null,null,null,null,"3تق",null,null,1,"بن خليفة عبد الباقي"]
[null,null,"2 - 1 – غيابات التلاميــــذ",null,null,null,null,null,null,null,null,null,null,null,null,null,null,null,null,null,null,null,null,null,null,null,null,null,null,null,null,1,"ظريف"]
[null,null,"الثالثة",null,"الأقسام","3ر","3هط","3تق","3ع1","3ع2","3أف",null,null,null,null,"Σ",null,null,null,null,null,null,null,null,null,null,null,null,null,null,null,1,"قيطة"]
[null,null,null,null,"التعـداد",17,15,34,32,32,21,null,null,null,null,{"$f":"SUM(F25:K25)","v":151},null,null,null,null,null,null,null,null,null,null,null,null,null,null,null,1,"دودي عبد الستار"]
[null,null,null,null,"الغائبون",null,null,6,null,null,null,null,null,null,null,{"$f":"SUM(F26:K26)","v":6},null,null,null,null,null,null,null,null,null,null,null,null,null,null,null,1,"منصر"]
[null,null,null,null,null,null,null,null,null,null,null,null,null,null,null,null,null,null,null,null,null,null,null,null,null,null,null,null,null,null,null,1,"قادي"]
[null,null,"الثانية",null,"الأقسام","2ر","2هط","2تق","2ع1","2ع2","2ع3","2آف",null,null,null,"Σ",null,null,null,null,null,null,null,null,null,null,null,null,null,null,null,1,"صحراوي كريمة"]
[null,null,null,null,"التعـداد",13,29,29,28,29,33,24,null,null,null,{"$f":"SUM(F29:L29)","v":185},null,null,null,null,null,null,null,null,null,null,null,null,null,null,null,1,"لطرش عبد الوهاب"]
[null,null,null,null,"الغائبون",null,null,null,null,null,5,null,null,null,null,{"$f":"IFERROR((SUM(F30:L30)),\"\")","v":5},null,null,null,null,null,null,null,null,null,null,null,null,null,null,null,1,"حاج عمارة"]
[null,null,null,null,null,null,null,null,null,null,null,null,null,null,null,null,null,null,null,null,null,null,null,null,null,null,null,null,null,null,null,1,"جبالي"]
[null,null,"الأولى",null,"الأقسام","1ع1","1ع2","1ع3","1ع4","1 آ1","1 آ2",null,null,null,null,"Σ",null,null,null,null,null,null,null,null,null,null,null,null,null,null,null,1,"نوري"]
[null,null,null,null,"التعـداد",38,41,37,36,30,27,null,null,null,null,{"$f":"SUM(F33:K33)","v":209},null,null,null,null,null,null,null,null,null,null,null,null,null,null,null,1,"حريز عبد القادر"]
[null,null,null,null,"الغائبون",null,null,null,3,null,null,null,null,null,null,{"$f":"SUM(F34:K34)","v":3},null,null,null,null,null,null,null,null,null,null,null,null,null,null,null,1,"مصباحي"]
[null,null,null,null,null,null,null,null,null,null,null,null,null,null,null,null,null,null,null,null,null,null,null,null,null,null,null,null,null,null,null,1,"نيد"]
["2-2- ملاحظات: ",null,null,null,"......................................................................................................................................................................................................................................................................................................................",null,null,null,null,null,null,null,null,null,null,null,null,null,null,null,null,null,null,null,null,null,null,null,null,null,null,1,"صحراوي"]
[null,null,"..............................................................................................................................................................................................................................................................................................................................................................................",null,null,null,null,null,null,null,null,null,null,null,null,null,null,null,null,null,null,null,null,null,null,null,null,null,null,null,null,1,"نسيب"]
[null,null,"3 - تغيبات وتخلفات المساعدين التربويين",null,null,null,null,"ـ  4 ــ الخلاصــــــــــــــة",null,null,null,null,null,null,null,null,null,null,null,null,null,null,null,null,null,null,null,null,null,null,null,1,"خليل"]
[null,null,"صباحا",null,"مساء",null,"ملاحظات",null,null,null,null,null,null,null,null,null,null,null,null,null,null,null,null,null,null,null,null,null,null,null,null,1,"عازب الشيخ"]
[null,{"$f":"IF(C40<>\"\",1,\"\")","v":""},null,null,"صالح2",null,"نــــدوة",null,null,null,"التلاميذ",null,"الأساتذة",null,"المساعدين ",null,null,null,null,null,null,null,null,null,null,null,null,null,null,null,null,1,"جديد"]
[null,{"$f":"IF(C41<>\"\",1,\"\")","v":1},"صالح6",null,null,null,"رخصة غياب",null,"المجموع",null,{"$f":"P33+P29+P25","v":545},null,{"$f":"SUM(AF4:AF53)","v":50},null,{"$f":"SUM(AI4:AI8)","v":5},null,null,null,null,null,null,null,null,null,null,null,null,null,null,null,null,1,"مريقة"]
[null,{"$f":"IF(C42<>\"\",1,\"\")","v":1},"صالح6",null,null,null,"إزدياد مولود",null,"الغائبون",null,{"$f":"(P34+P30+P26)","v":14},null,{"$f":"COUNTA(C12:C19)","v":8},null,{"$f":"COUNTA(C40:C44)","v":3},null,null,null,null,null,null,null,null,null,null,null,null,null,null,null,null,1,"قابوسة"]
[null,{"$f":"IF(C43<>\"\",1,\"\")","v":""},null,null,null,null,"عطلة زفاف",null,"الحاضرون",null,{"$f":"K41-K42","v":531},null,{"$f":"M41-M42","v":42},null,{"$f":"O41-O42","v":2},null,null,null,null,null,null,null,null,null,null,null,null,null,null,null,null,1,"تومي"]
[null,{"$f":"IF(C44<>\"\",1,\"\")","v":1},"صالح4",null,null,null,"عمـــرة ",null,null,null,null,null,null,null,null,null,null,null,null,null,null,null,null,null,null,null,null,null,null,null,null,1,"سبوعي"]
[null,null,"ـ  5 ــ ملاحظــــــات مختلفـــــة",null,null,null,null,"ـ  6 ــ ملاحظـــــــات الناظــــــــــــــر",null,null,null,null,null,null,null,null,null,null,null,null,null,null,null,null,null,null,null,null,null,null,null,1,"قعري"]
[null,null,null,null,null,null,null,null,null,null,null,null,null,null,null,null,null,null,null,null,null,null,null,null,null,null,null,null,null,null,null,1,"بن حضري"]
[null,null,null,null,null,null,null,null,null,null,null,null,null,null,null,null,null,null,null,null,null,null,null,null,null,null,null,null,null,null,null,1,"خضير"]
[null,null,null,null,null,null,null,null,null,null,null,null,null,null,null,null,null,null,null,null,null,null,null,null,null,null,null,null,null,null,null,1,"حميداتو"]
[null,null,null,null,null,null,null,null,null,null,null,null,null,null,null,null,null,null,null,null,null,null,null,null,null,null,null,null,null,null,null,1,"باسي"]
[null,null,null,null,null,null,null,null,null,null,null,null,null,null,null,null,null,null,null,null,null,null,null,null,null,null,null,null,null,null,null,1,"قابوسة"]
[null,null,null,null,null,null,null,null,null,null,null,null,null,null,null,null,null,null,null,null,null,null,null,null,null,null,null,null,null,null,null,{"$f":"IF(AG51<>\"\",1,\"\")","v":1},"بن عمر"]
[null,null,null,null,null,null,null,null,null,null,null,null,null,null,null,null,null,null,null,null,null,null,null,null,null,null,null,null,null,null,null,1,"حميدي"]
[null,null,null,null,null,null,null,null,null,null,null,null,null,null,null,null,null,null,null,null,null,null,null,null,null,null,null,null,null,null,null,1,"بوراس"]
[null,null,null,null,null,null,null,null,null,null,null,null,null,null,null,null,null,null,null,null,null,null,null,null,null,null,null,null,null,null,null,{"$f":"SUM(AF4:AF53)","v":50}]
[]
[null,".... / ...."]

{"sheet":"غيابات التلاميذ","index":3,"n_rows":44,"n_cols":23,"rows_kept":44,"cut":false,"hidden":false,"merged":[[1,13,2,13],[5,13,6,13],[34,9,34,10],[35,9,35,10],[36,9,36,10],[43,4,44,7],[43,1,44,2],[43,9,44,10],[37,5,37,7],[38,0,38,4],[37,0,37,2],[42,4,42,7],[42,9,42,10],[42,1,42,2],[39,0,39,10],[40,0,40,10],[41,0,41,10],[37,3,37,4],[0,0,0,10],[33,3,33,4],[33,5,33,7],[33,0,33,2],[33,9,33,10],[32,0,32,4],[36,0,36,2],[37,9,37,10],[35,0,35,2],[7,15,8,15],[10,18,11,19],[34,0,34,2],[35,3,35,4],[36,3,36,4],[35,5,35,7],[36,5,36,7],[34,3,34,4],[34,5,34,7],[13,17,15,18],[5,19,6,19],[5,20,6,20],[2,15,4,15],[5,16,6,17],[5,14,6,14],[5,15,6,15],[5,18,6,18]]}
["7ـ غيـابــات التلاميـــذ حسـب الأقســـــام"]
["الرقم","ر.ت","لقب و اسم التلميذ","القسم","الغياب",null,"الرقم","ر.ت","لقب و اسم التلميذ","القسم","الغياب",null,null,null,null,null,null,null,null,null,null,null,"مدة الغياب"]
[{"$f":"IFERROR(IF(B3<>\"\",1,\"\"),\"\")","v":""},null,{"$f":"IFERROR(VLOOKUP($B3,school2,3,FALSE)&\"  \"&VLOOKUP($B3,school2,4,FALSE),\"\")","v":""},{"$f":"IFERROR(VLOOKUP($B3,school2,8,FALSE),\"\")","v":""},null,null,{"$f":"IFERROR(IF(H3<>\"\",A32+1,\"\"),\"\")","v":""},null,{"$f":"IFERROR(VLOOKUP($H3,school2,3,FALSE)&\"  \"&VLOOKUP($H3,school2,4,FALSE),\"\")","v":""},{"$f":"IFERROR(VLOOKUP($H3,school2,8,FALSE),\"\")","v":""}]
[{"$f":"IFERROR(IF(B4<>\"\",A3+1,\"\"),\"\")","v":""},null,"","","حصتين",null,{"$f":"IFERROR(IF(H4<>\"\",G3+1,\"\"),\"\")","v":""},null,"","","مساءا",null,null,null,null,null,null,null,null,null,null,null,"حصــــة"]
[{"$f":"IFERROR(IF(B5<>\"\",A4+1,\"\"),\"\")","v":""},null,"","",null,null,{"$f":"IFERROR(IF(H5<>\"\",G4+1,\"\"),\"\")","v":""},null,"","",null,null,null,null,null,null,null,null,null,null,null,null,"حصتين"]
["",null,"","",null,null,"",null,"","",null,null,null,null,null,49,{"$f":"IFERROR(VLOOKUP($P6,school2,2,FALSE)&\"  \"&VLOOKUP($P6,school2,3,FALSE),\"\")","v":"49  مراد 49"},null,{"$f":"IFERROR(VLOOKUP($P6,school2,8,FALSE),\"\")","v":"1آف2"},{"$f":"IFERROR(VLOOKUP($P6,school2,7,FALSE),\"\")","v":2},{"$f":"IFERROR(VLOOKUP($P6,school2,10,FALSE),\"\")","v":"البياضة"},null,"ثلاث حصص"]
["",null,"","",null,null,"",null,"","",null,null,null,null,null,null,null,null,null,null,null,null,"صباحا"]
["",null,"","",null,null,"",null,"","",null,null,null,null,null,null,null,null,null,null,null,null,"مساءا"]
["",null,"","",null,null,"",null,"","",null,null,null,null,null,null,null,null,null,null,null,null,"يوم كامل"]
["",null,"","",null,null,"",null,"",""]
["",null,"","",null,null,"",null,"","","يوم كامل"]
["",null,"","",null,null,"",null,"",""]
["",null,"","",null,null,"",null,"",""]
["",null,"","",null,null,"",null,"",""]
["",null,"","",null,null,"",null,"",""]
["",null,"","",null,null,"",null,"",""]
["",null,"","",null,null,"",null,"",""]
["",null,"","",null,null,"",null,"",""]
["",null,"","",null,null,"",null,"",""]
["",null,"","",null,null,"",null,"",""]
["",null,"","",null,null,"",null,"",""]
["",null,"","",null,null,"",null,"",""]
["",null,"","",null,null,"",null,"",""]
["",null,"","",null,null,"",null,"",""]
["",null,"","",null,null,"",null,"",""]
["",null,"","",null,null,"",null,"",""]
["",null,"","",null,null,"",null,"",""]
["",null,"","",null,null,"",null,"",""]
["",null,"","",null,null,"",null,"",""]
["",null,"","",null,null,"",null,"",""]
["",null,"","",null,null,{"$f":"IFERROR(IF(H31<>\"\",G30+1,\"\"),\"\")","v":""},null,"",""]
[{"$f":"IFERROR(IF(B32<>\"\",A31+1,\"\"),\"\")","v":""},null,"","",null,null,"",null,"",""]
[]
["المستـــــــــــــــــــــــــــوى",null,null,"1 ثانوي",null,"2 ثانوي",null,null,"3 ثانوي","المجموع"]
["المسجلون في اليوم السابق",null,null,209,null,185,null,null,151,{"$f":"SUM(D35:I35)","v":545}]
["دخــــــول اليـــــــــــــــــوم",null,null,null,null,null,null,null,0]
["خـــــــروج اليـــــــــــــــوم",null,null,null,null,null,null,null,0]
["عـــــــــدد التـلاميــــــــــــذ",null,null,{"$f":"D35+(D36)-(D37)","v":209},null,{"$f":"F35+(F36)-(F37)","v":185},null,null,{"$f":"I35+(I36)-(I37)","v":151},{"$f":"J35+(J36)-(J37)","v":545}]
["9ـ ملاحظات مدير المؤسسة"]
["........................................................................................................................................................................................."]
["........................................................................................................................................................................................."]
["........................................................................................................................................................................................."]
["                                                                                                                       "," مستشارالتربية ",null,null,"الناظـــــــر",null,null,null,null,"المديـــــــــر"]
[null,{"$f":"الواجهة!E16","v":0},null,null,{"$f":"الواجهة!F16","v":0},null,null,null,null,{"$f":"الواجهة!G16","v":0}]

{"sheet":"تعداد  التلاميذ","index":4,"n_rows":20,"n_cols":4,"rows_kept":20,"cut":false,"hidden":false,"merged":[]}
["القسم","عمود2","عدد التلاميذ","عمود1"]
[{"$f":"IFERROR(VLOOKUP($D2,school2,5,FALSE)&\"  \"&(VLOOKUP($D2,school2,6,FALSE)&\"  \"&(VLOOKUP($D2,school2,7,FALSE))),\"\")","v":"أولى  جدع مشترك آداب  1"},{"$f":"IFERROR(VLOOKUP($D2,school2,8,FALSE),\"\")","v":"1آف1"},{"$f":"COUNTIF(ALL!$H$6:$H$1005,\"1آف1\")","v":29},1]
[{"$f":"IFERROR(VLOOKUP($D3,school2,5,FALSE)&\"  \"&(VLOOKUP($D3,school2,6,FALSE)&\"  \"&(VLOOKUP($D3,school2,7,FALSE))),\"\")","v":"أولى  جدع مشترك آداب  2"},{"$f":"IFERROR(VLOOKUP($D3,school2,8,FALSE),\"\")","v":"1آف2"},{"$f":"COUNTIF(ALL!$H$6:$H$1005,\"1آف2\")","v":27},30]
["أولى  جذع مشترك علوم وتكنولوجيا  1",{"$f":"IFERROR(VLOOKUP($D4,school2,8,FALSE),\"\")","v":"1ع1"},{"$f":"COUNTIF(ALL!$H$6:$H$1005,\"1ع1\")","v":39},80]
["أولى  جذع مشترك علوم وتكنولوجيا  2","1ع2",{"$f":"COUNTIF(ALL!$H$6:$H$1005,\"1ع2\")","v":41},113]
["أولى  جذع مشترك علوم وتكنولوجيا  3","1ع3",{"$f":"COUNTIF(ALL!$H$6:$H$1005,\"1ع3\")","v":37},140]
["أولى  جذع مشترك علوم وتكنولوجيا  4","1ع4",{"$f":"COUNTIF(ALL!$H$6:$H$1005,\"1ع4\")","v":36},180]
["ثانية  آداب وفلسفة  1","2آف1",{"$f":"COUNTIF(ALL!$H$6:$H$1005,\"2أف1\")","v":23},220]
["ثانية  علوم تجريبية  1","2ع1",{"$f":"COUNTIF(ALL!$H$6:$H$1005,\"2ع1\")","v":28},235]
["ثانية  علوم تجريبية  2","2ع2",{"$f":"COUNTIF(ALL!$H$6:$H$1005,\"2ع2\")","v":29},270]
["ثانية  علوم تجريبية  3","2ع3",{"$f":"COUNTIF(ALL!$H$6:$H$1005,\"2ع3\")","v":33},300]
["ثانية  تسيير واقتصاد  1","2تق1",{"$f":"COUNTIF(ALL!$H$6:$H$1005,\"2تق1\")","v":30},330]
["ثانية  رياضيات  1","2ريا1",{"$f":"COUNTIF(ALL!$H$6:$H$1005,\"2ريا1\")","v":12},360]
["ثانية  تقني رياضي  1","2هط1",{"$f":"COUNTIF(ALL!$H$6:$H$1005,\"2هط1\")","v":28},390]
["ثالثة  آداب وفلسفة  1","3آف1",{"$f":"COUNTIF(ALL!$H$6:$H$1005,\"3آف1\")","v":21},400]
["ثالثة  علوم تجريبية  1","3ع1",{"$f":"COUNTIF(ALL!$H$6:$H$1005,\"3ع1\")","v":32},420]
["ثالثة  علوم تجريبية  2","3ع2",{"$f":"COUNTIF(ALL!$H$6:$H$1005,\"3ع2\")","v":32},450]
["ثالثة  تسيير واقتصاد  1","3تق1",{"$f":"COUNTIF(ALL!$H$6:$H$1005,\"3تق1\")","v":34},500]
["ثالثة  رياضيات  1","3ريا1",{"$f":"COUNTIF(ALL!$H$6:$H$1005,\"3ريا1\")","v":17},520]
["ثالثة  تقني رياضي  1","3هط1",{"$f":"COUNTIF(ALL!$H$6:$H$1005,\"3هط1\")","v":15},540]

{"sheet":"ALL","index":5,"n_rows":605,"n_cols":36,"rows_kept":605,"cut":false,"hidden":false,"merged":[[1,23,1,28],[1,21,1,22],[2,3,2,5],[1,3,1,6],[1,8,1,10],[1,11,1,13]]}
[1,2,3,4,5,6,7,8,9,10,11,12,13,14,15,16,17,18,19,20,21,22,23,24,25,26,27,28,29,30,31,32,33,34,35,36]
[null,null,null,"قائمة التلاميذ -- حالة أول أكتوبر",null,null,null,null,"البحث عن إسم",null,null,"الوادي"]
[null,null,null,"عـــــدد التلاميـــــذ",null,null,{"$f":"COUNTA(D6:D2001)","v":600},null,null,null,null,{"$f":"IFERROR(IF($L$2=\"\",\"\",SEARCH($L$2,$A6&\" \"&$C6&\" \"&$D6&\" \"&$E6&\" \"&$F6&\" \"&$G6&\" \"&$H6&\" \"&$I6&\" \"&$J6&\" \"&$K6&\" \"&$L6&\" \"&$M6&\" \"&$N6&\" \"&$O6&\" \"&$P6&\" \"&$Q6&\" \"&$R6&\" \"&$S6&\" \"&$T6&\" \"&$U6&\" \"&$V6&\" \"&$W6&\" \"&$X6)),\"\")","v":""}]
[]
["رقم التسجيل","الرقم التسلسلي","الإسم ","اللقب","السنة","الشعبة","القسم","القسم مختصر","تاريخ الميلاد","مكان الميلاد","الجنس","إسم الأب","العنوان","أول يوم غياب","إشعار1","رقمــه","إشعار2","رقمــه","إعـــــذار","رقمـــه","الشطـــب","حركة التلاميذ","تاريخ الدخول","تاريخ الحروج","أ"]
[1,{"$f":"IF(C6=\"\",\"\",MAX($B$5:B5)+1)","v":1},"مراد 1","فريدة1","أولى","جدع مشترك آداب",1,"1آف1","12/2/2000","البياضة","ذ","محمد علي1","حي الإزدهار - البياضة","2018-04-12","2018-02-12",1,"2018-03-12",5,"2019-01-06",8,null,"دخـــول","2018-01-12",null,"ذ",{"$f":"IF($V$2=\"\",\"\",SEARCH($V$2,$A6&\"\"&#REF!&\"\"&$D6&\"\"&$F6&\"\"&$I6&\"\"&$J6&\"\"&$K6))","v":""},{"$f":"IF($X$2=\"\",\"\",SEARCH($X$2,$A6&\" \"&#REF!&\" \"&$D6&\" \"&$F6&\" \"&$I6&\" \"&$J6&\" \"&$K6&\" \"&$O6&\" \"&$Q6&\" \"&#REF!&\" \"&$U6&\" \"&$V6&\" \"&$W6&\" \"&$X6))","v":""},{"$f":"IF($L$2=\"\",\"\",SEARCH($L$2,$A6&\" \"&$D6&\" \"&$E6&\" \"&$F6&\" \"&$G6&\" \"&$H6&\" \"&$I6&\" \"&$J6&\" \"&$K6&\" \"&$L6&\" \"&$N6&\" \"&$O6&\" \"&$P6&\" \"&$Q6&\" \"&$R6&\" \"&$S6&\" \"&$T6&\" \"&$U6&\" \"&$V6&\" \"&$W6&\" \"&$X6))","v":{"$error":"#VALUE!"}}]
[2,{"$f":"IF(C7=\"\",\"\",MAX($B$5:B6)+1)","v":2},"مراد 2","فريدة2","أولى","جدع مشترك آداب",1,"1آف1","12/2/2001","البياضة","ذ","محمد علي2","حي السلام -البياضة","2018-04-13","2018-02-13",2,"2018-03-13",6,"2019-01-07",9,"2018-02-02","خـــروج",null,"2018-01-13",null,{"$f":"IF($V$2=\"\",\"\",SEARCH($V$2,$A7&\"\"&#REF!&\"\"&$D7&\"\"&$F7&\"\"&$I7&\"\"&$J7&\"\"&$K7))","v":""},{"$f":"IF($X$2=\"\",\"\",SEARCH($X$2,$A7&\" \"&#REF!&\" \"&$D7&\" \"&$F7&\" \"&$I7&\" \"&$J7&\" \"&$K7&\" \"&$O7&\" \"&$Q7&\" \"&$S6&\" \"&$U7&\" \"&$V7&\" \"&$W7&\" \"&$X7))","v":""},{"$f":"IF($L$2=\"\",\"\",SEARCH($L$2,$A7&\" \"&$D7&\" \"&$E7&\" \"&$F7&\" \"&$G7&\" \"&$H7&\" \"&$I7&\" \"&$J7&\" \"&$K7&\" \"&$L7&\" \"&$N7&\" \"&$O7&\" \"&$P7&\" \"&$Q7&\" \"&$R7&\" \"&$S7&\" \"&$T7&\" \"&$U7&\" \"&$V7&\" \"&$W7&\" \"&$X7))","v":{"$error":"#VALUE!"}}]
[3,{"$f":"IF(C8=\"\",\"\",MAX($B$5:B7)+1)","v":3},"مراد 3","فريدة3","أولى","جدع مشترك آداب",1,"1آف1","12/2/2002","البياضة","ذ","محمد علي3","حي الإزدهار - البياضة","2018-04-14","2018-02-14",3,"2018-03-14",7,"2019-01-08",10,null,null,null,null,"دخـــول",{"$f":"IF($V$2=\"\",\"\",SEARCH($V$2,$A8&\"\"&#REF!&\"\"&$D8&\"\"&$F8&\"\"&$I8&\"\"&$J8&\"\"&$K8))","v":""},{"$f":"IF($X$2=\"\",\"\",SEARCH($X$2,$A8&\" \"&#REF!&\" \"&$D8&\" \"&$F8&\" \"&$I8&\" \"&$J8&\" \"&$K8&\" \"&$O8&\" \"&$Q8&\" \"&$S8&\" \"&$U8&\" \"&$V8&\" \"&$W8&\" \"&$X8))","v":""},{"$error":"#VALUE!"}]
[4,{"$f":"IF(C9=\"\",\"\",MAX($B$5:B8)+1)","v":4},"مراد 4","فريدة4","أولى","جدع مشترك آداب",1,"1آف1","12/2/2003","البياضة","أ","محمد علي4","حي السلام -البياضة","2018-04-15","2018-02-15",4,"2018-03-15",8,"2019-01-09",11,null,null,null,null,"خـــروج",{"$f":"IF($V$2=\"\",\"\",SEARCH($V$2,$A9&\"\"&#REF!&\"\"&$D9&\"\"&$F9&\"\"&$I9&\"\"&$J9&\"\"&$K9))","v":""},{"$f":"IF($X$2=\"\",\"\",SEARCH($X$2,$A9&\" \"&#REF!&\" \"&$D9&\" \"&$F9&\" \"&$I9&\" \"&$J9&\" \"&$K9&\" \"&$O9&\" \"&$Q9&\" \"&$S9&\" \"&$U9&\" \"&$V9&\" \"&$W9&\" \"&$X9))","v":""},{"$error":"#VALUE!"}]
[5,{"$f":"IF(C10=\"\",\"\",MAX($B$5:B9)+1)","v":5},"مراد 5","فريدة5","أولى","جدع مشترك آداب",1,"1آف1","12/2/2004","البياضة","ذ","محمد علي5","حي الإزدهار - البياضة","2018-04-16","2018-02-16",5,"2018-03-16",9,"2019-01-10",12,null,null,null,null,null,{"$f":"IF($V$2=\"\",\"\",SEARCH($V$2,$A10&\"\"&#REF!&\"\"&$D10&\"\"&$F10&\"\"&$I10&\"\"&$J10&\"\"&$K10))","v":""},{"$f":"IF($X$2=\"\",\"\",SEARCH($X$2,$A10&\" \"&#REF!&\" \"&$D10&\" \"&$F10&\" \"&$I10&\" \"&$J10&\" \"&$K10&\" \"&$O10&\" \"&$Q10&\" \"&$S10&\" \"&$U10&\" \"&$V10&\" \"&$W10&\" \"&$X10))","v":""},{"$error":"#VALUE!"}]
[6,{"$f":"IF(C11=\"\",\"\",MAX($B$5:B10)+1)","v":6},"مراد 6","فريدة6","أولى","جدع مشترك آداب",1,"1آف1","12/2/2005","البياضة","أ","محمد علي6","حي السلام -البياضة","2018-04-17","2018-02-17",6,"2018-03-17",10,"2019-01-11",13,null,null,null,null,null,{"$f":"IF($V$2=\"\",\"\",SEARCH($V$2,$A11&\"\"&#REF!&\"\"&$D11&\"\"&$F11&\"\"&$I11&\"\"&$J11&\"\"&$K11))","v":""},{"$f":"IF($X$2=\"\",\"\",SEARCH($X$2,$A11&\" \"&#REF!&\" \"&$D11&\" \"&$F11&\" \"&$I11&\" \"&$J11&\" \"&$K11&\" \"&$O11&\" \"&$Q11&\" \"&$S11&\" \"&$U11&\" \"&$V11&\" \"&$W11&\" \"&$X11))","v":""},{"$error":"#VALUE!"}]
[7,{"$f":"IF(C12=\"\",\"\",MAX($B$5:B11)+1)","v":7},"مراد 7","فريدة7","أولى","جدع مشترك آداب",1,"1آف1","12/2/2006","البياضة","ذ","محمد علي7","حي الإزدهار - البياضة","2018-04-18","2018-02-18",7,"2018-03-18",11,"2019-01-12",14,null,null,null,null,null,{"$f":"IF($V$2=\"\",\"\",SEARCH($V$2,$A12&\"\"&#REF!&\"\"&$D12&\"\"&$F12&\"\"&$I12&\"\"&$J12&\"\"&$K12))","v":""},{"$f":"IF($X$2=\"\",\"\",SEARCH($X$2,$A12&\" \"&#REF!&\" \"&$D12&\" \"&$F12&\" \"&$I12&\" \"&$J12&\" \"&$K12&\" \"&$O12&\" \"&$Q12&\" \"&$S12&\" \"&$U12&\" \"&$V12&\" \"&$W12&\" \"&$X12))","v":""},{"$error":"#VALUE!"}]
[8,{"$f":"IF(C13=\"\",\"\",MAX($B$5:B12)+1)","v":8},"مراد 8","فريدة8","أولى","جدع مشترك آداب",1,"1آف1","12/2/2007","البياضة","ذ","محمد علي8","حي السلام -البياضة","2018-04-19","2018-02-19",8,"2018-03-19",12,"2019-01-13",15,null,null,null,null,null,{"$f":"IF($V$2=\"\",\"\",SEARCH($V$2,$A13&\"\"&#REF!&\"\"&$D13&\"\"&$F13&\"\"&$I13&\"\"&$J13&\"\"&$K13))","v":""},{"$f":"IF($X$2=\"\",\"\",SEARCH($X$2,$A13&\" \"&#REF!&\" \"&$D13&\" \"&$F13&\" \"&$I13&\" \"&$J13&\" \"&$K13&\" \"&$O13&\" \"&$Q13&\" \"&$S13&\" \"&$U13&\" \"&$V13&\" \"&$W13&\" \"&$X13))","v":""},{"$error":"#VALUE!"}]
[9,{"$f":"IF(C14=\"\",\"\",MAX($B$5:B13)+1)","v":9},"مراد 9","فريدة9","أولى","جدع مشترك آداب",1,"1آف1","12/2/2008","البياضة","ذ","محمد علي9","حي الإزدهار - البياضة","2018-04-20","2018-02-20",9,"2018-03-20",13,"2019-01-14",16,null,"دخـــول",null,null,null,{"$f":"IF($V$2=\"\",\"\",SEARCH($V$2,$A14&\"\"&#REF!&\"\"&$D14&\"\"&$F14&\"\"&$I14&\"\"&$J14&\"\"&$K14))","v":""},{"$f":"IF($X$2=\"\",\"\",SEARCH($X$2,$A14&\" \"&#REF!&\" \"&$D14&\" \"&$F14&\" \"&$I14&\" \"&$J14&\" \"&$K14&\" \"&$O14&\" \"&$Q14&\" \"&$S14&\" \"&$U14&\" \"&$V14&\" \"&$W14&\" \"&$X14))","v":""},{"$error":"#VALUE!"}]
[10,{"$f":"IF(C15=\"\",\"\",MAX($B$5:B14)+1)","v":10},"مراد 10","فريدة10","أولى","جدع مشترك آداب",1,"1آف1","12/2/2009","البياضة","ذ","محمد علي10","حي السلام -البياضة","2018-04-21","2018-02-21",10,"2018-03-21",14,"2019-01-15",17,null,null,null,null,null,{"$f":"IF($V$2=\"\",\"\",SEARCH($V$2,$A15&\"\"&#REF!&\"\"&$D15&\"\"&$F15&\"\"&$I15&\"\"&$J15&\"\"&$K15))","v":""},{"$f":"IF($X$2=\"\",\"\",SEARCH($X$2,$A15&\" \"&#REF!&\" \"&$D15&\" \"&$F15&\" \"&$I15&\" \"&$J15&\" \"&$K15&\" \"&$O15&\" \"&$Q15&\" \"&$S15&\" \"&$U15&\" \"&$V15&\" \"&$W15&\" \"&$X15))","v":""},{"$error":"#VALUE!"}]
[11,{"$f":"IF(C16=\"\",\"\",MAX($B$5:B15)+1)","v":11},"مراد 11","فريدة11","أولى","جدع مشترك آداب",1,"1آف1","12/2/2010","البياضة","ذ","محمد علي11","حي الإزدهار - البياضة","2018-04-22","2018-02-22",11,"2018-03-22",15,"2019-01-16",18,null,null,null,null,null,{"$f":"IF($V$2=\"\",\"\",SEARCH($V$2,$A16&\"\"&#REF!&\"\"&$D16&\"\"&$F16&\"\"&$I16&\"\"&$J16&\"\"&$K16))","v":""},{"$f":"IF($X$2=\"\",\"\",SEARCH($X$2,$A16&\" \"&#REF!&\" \"&$D16&\" \"&$F16&\" \"&$I16&\" \"&$J16&\" \"&$K16&\" \"&$O16&\" \"&$Q16&\" \"&$S16&\" \"&$U16&\" \"&$V16&\" \"&$W16&\" \"&$X16))","v":""},{"$error":"#VALUE!"}]
[12,{"$f":"IF(C17=\"\",\"\",MAX($B$5:B16)+1)","v":12},"مراد 12","فريدة12","أولى","جدع مشترك آداب",1,"1آف1","12/2/2011","البياضة","ذ","محمد علي12","حي السلام -البياضة","2018-04-23","2018-02-23",12,"2018-03-23",16,"2019-01-17",19,null,null,null,null,null,{"$f":"IF($V$2=\"\",\"\",SEARCH($V$2,$A17&\"\"&#REF!&\"\"&$D17&\"\"&$F17&\"\"&$I17&\"\"&$J17&\"\"&$K17))","v":""},{"$f":"IF($X$2=\"\",\"\",SEARCH($X$2,$A17&\" \"&#REF!&\" \"&$D17&\" \"&$F17&\" \"&$I17&\" \"&$J17&\" \"&$K17&\" \"&$O17&\" \"&$Q17&\" \"&$S17&\" \"&$U17&\" \"&$V17&\" \"&$W17&\" \"&$X17))","v":""},{"$error":"#VALUE!"}]
[13,{"$f":"IF(C18=\"\",\"\",MAX($B$5:B17)+1)","v":13},"مراد 13","فريدة13","أولى","جدع مشترك آداب",1,"1آف1","12/2/2012","البياضة","ذ","محمد علي13","حي الإزدهار - البياضة","2018-04-24","2018-02-24",13,"2018-03-24",17,"2019-01-18",20,null,null,null,null,null,{"$f":"IF($V$2=\"\",\"\",SEARCH($V$2,$A18&\"\"&#REF!&\"\"&$D18&\"\"&$F18&\"\"&$I18&\"\"&$J18&\"\"&$K18))","v":""},{"$f":"IF($X$2=\"\",\"\",SEARCH($X$2,$A18&\" \"&#REF!&\" \"&$D18&\" \"&$F18&\" \"&$I18&\" \"&$J18&\" \"&$K18&\" \"&$O18&\" \"&$Q18&\" \"&$S18&\" \"&$U18&\" \"&$V18&\" \"&$W18&\" \"&$X18))","v":""},{"$error":"#VALUE!"}]
[14,{"$f":"IF(C19=\"\",\"\",MAX($B$5:B18)+1)","v":14},"مراد 14","فريدة14","أولى","جدع مشترك آداب",1,"1آف1","12/2/2013","البياضة","ذ","محمد علي14","حي السلام -البياضة","2018-04-25","2018-02-25",14,"2018-03-25",18,"2019-01-19",21,null,null,null,null,null,{"$f":"IF($V$2=\"\",\"\",SEARCH($V$2,$A19&\"\"&#REF!&\"\"&$D19&\"\"&$F19&\"\"&$I19&\"\"&$J19&\"\"&$K19))","v":""},{"$f":"IF($X$2=\"\",\"\",SEARCH($X$2,$A19&\" \"&#REF!&\" \"&$D19&\" \"&$F19&\" \"&$I19&\" \"&$J19&\" \"&$K19&\" \"&$O19&\" \"&$Q19&\" \"&$S19&\" \"&$U19&\" \"&$V19&\" \"&$W19&\" \"&$X19))","v":""},{"$error":"#VALUE!"}]
[15,{"$f":"IF(C20=\"\",\"\",MAX($B$5:B19)+1)","v":15},"مراد 15","فريدة15","أولى","جدع مشترك آداب",1,"1آف1","12/2/2014","الدبيلة","ذ","محمد علي15","حي الإزدهار - البياضة","2018-04-26","2018-02-26",15,"2018-03-26",19,"2019-01-20",22,null,null,null,null,null,{"$f":"IF($V$2=\"\",\"\",SEARCH($V$2,$A20&\"\"&#REF!&\"\"&$D20&\"\"&$F20&\"\"&$I20&\"\"&$J20&\"\"&$K20))","v":""},{"$f":"IF($X$2=\"\",\"\",SEARCH($X$2,$A20&\" \"&#REF!&\" \"&$D20&\" \"&$F20&\" \"&$I20&\" \"&$J20&\" \"&$K20&\" \"&$O20&\" \"&$Q20&\" \"&$S20&\" \"&$U20&\" \"&$V20&\" \"&$W20&\" \"&$X20))","v":""},{"$error":"#VALUE!"}]
[16,{"$f":"IF(C21=\"\",\"\",MAX($B$5:B20)+1)","v":16},"مراد 16","فريدة16","أولى","جدع مشترك آداب",1,"1آف1","12/2/2015","البياضة","ذ","محمد علي16","حي السلام -البياضة","2018-04-27","2018-02-27",16,"2018-03-27",20,"2019-01-21",23,null,null,null,null,null,{"$f":"IF($V$2=\"\",\"\",SEARCH($V$2,$A21&\"\"&#REF!&\"\"&$D21&\"\"&$F21&\"\"&$I21&\"\"&$J21&\"\"&$K21))","v":""},{"$f":"IF($X$2=\"\",\"\",SEARCH($X$2,$A21&\" \"&#REF!&\" \"&$D21&\" \"&$F21&\" \"&$I21&\" \"&$J21&\" \"&$K21&\" \"&$O21&\" \"&$Q21&\" \"&$S21&\" \"&$U21&\" \"&$V21&\" \"&$W21&\" \"&$X21))","v":""},{"$error":"#VALUE!"}]
[17,{"$f":"IF(C22=\"\",\"\",MAX($B$5:B21)+1)","v":17},"مراد 17","فريدة17","أولى","جدع مشترك آداب",1,"1آف1","12/2/2016","البياضة","ذ","محمد علي17","حي الإزدهار - البياضة","2018-04-28","2018-02-28",17,"2018-03-28",21,"2019-01-22",24,null,null,null,null,null,{"$f":"IF($V$2=\"\",\"\",SEARCH($V$2,$A22&\"\"&#REF!&\"\"&$D22&\"\"&$F22&\"\"&$I22&\"\"&$J22&\"\"&$K22))","v":""},{"$f":"IF($X$2=\"\",\"\",SEARCH($X$2,$A22&\" \"&#REF!&\" \"&$D22&\" \"&$F22&\" \"&$I22&\" \"&$J22&\" \"&$K22&\" \"&$O22&\" \"&$Q22&\" \"&$S22&\" \"&$U22&\" \"&$V22&\" \"&$W22&\" \"&$X22))","v":""},{"$error":"#VALUE!"}]
[18,{"$f":"IF(C23=\"\",\"\",MAX($B$5:B22)+1)","v":18},"مراد 18","فريدة18","أولى","جدع مشترك آداب",1,"1آف1","12/2/2017","البياضة","ذ","محمد علي18","حي السلام -البياضة","2018-04-29","2018-03-01",18,"2018-03-29",22,"2019-01-23",25,null,null,null,null,null,{"$f":"IF($V$2=\"\",\"\",SEARCH($V$2,$A23&\"\"&#REF!&\"\"&$D23&\"\"&$F23&\"\"&$I23&\"\"&$J23&\"\"&$K23))","v":""},{"$f":"IF($X$2=\"\",\"\",SEARCH($X$2,$A23&\" \"&#REF!&\" \"&$D23&\" \"&$F23&\" \"&$I23&\" \"&$J23&\" \"&$K23&\" \"&$O23&\" \"&$Q23&\" \"&$S23&\" \"&$U23&\" \"&$V23&\" \"&$W23&\" \"&$X23))","v":""},{"$error":"#VALUE!"}]
[19,{"$f":"IF(C24=\"\",\"\",MAX($B$5:B23)+1)","v":19},"مراد 19","فريدة19","أولى","جدع مشترك آداب",1,"1آف1","12/2/2018","البياضة","ذ","محمد علي19","حي الإزدهار - البياضة","2018-04-30","2018-03-02",19,"2018-03-30",23,"2019-01-24",26,null,null,null,null,null,{"$f":"IF($V$2=\"\",\"\",SEARCH($V$2,$A24&\"\"&#REF!&\"\"&$D24&\"\"&$F24&\"\"&$I24&\"\"&$J24&\"\"&$K24))","v":""},{"$f":"IF($X$2=\"\",\"\",SEARCH($X$2,$A24&\" \"&#REF!&\" \"&$D24&\" \"&$F24&\" \"&$I24&\" \"&$J24&\" \"&$K24&\" \"&$O24&\" \"&$Q24&\" \"&$S24&\" \"&$U24&\" \"&$V24&\" \"&$W24&\" \"&$X24))","v":""},{"$error":"#VALUE!"}]
[20,{"$f":"IF(C25=\"\",\"\",MAX($B$5:B24)+1)","v":20},"مراد 20","فريدة20","أولى","جدع مشترك آداب",1,"1آف1","12/2/2019","البياضة","ذ","محمد علي20","حي السلام -البياضة","2018-05-01","2018-03-03",20,"2018-03-31",24,"2019-01-25",27,null,null,null,null,null,{"$f":"IF($V$2=\"\",\"\",SEARCH($V$2,$A25&\"\"&#REF!&\"\"&$D25&\"\"&$F25&\"\"&$I25&\"\"&$J25&\"\"&$K25))","v":""},{"$f":"IF($X$2=\"\",\"\",SEARCH($X$2,$A25&\" \"&#REF!&\" \"&$D25&\" \"&$F25&\" \"&$I25&\" \"&$J25&\" \"&$K25&\" \"&$O25&\" \"&$Q25&\" \"&$S25&\" \"&$U25&\" \"&$V25&\" \"&$W25&\" \"&$X25))","v":""},{"$error":"#VALUE!"}]
[21,{"$f":"IF(C26=\"\",\"\",MAX($B$5:B25)+1)","v":21},"مراد 21","فريدة21","أولى","جدع مشترك آداب",1,"1آف1","12/2/2020","بن ناصر","ذ","محمد علي21","حي الإزدهار - البياضة","2018-05-02","2018-03-04",21,"2018-04-01",25,"2019-01-26",28,null,null,null,null,null,{"$f":"IF($V$2=\"\",\"\",SEARCH($V$2,$A26&\"\"&#REF!&\"\"&$D26&\"\"&$F26&\"\"&$I26&\"\"&$J26&\"\"&$K26))","v":""},{"$f":"IF($X$2=\"\",\"\",SEARCH($X$2,$A26&\" \"&#REF!&\" \"&$D26&\" \"&$F26&\" \"&$I26&\" \"&$J26&\" \"&$K26&\" \"&$O26&\" \"&$Q26&\" \"&$S26&\" \"&$U26&\" \"&$V26&\" \"&$W26&\" \"&$X26))","v":""},{"$error":"#VALUE!"}]
[22,{"$f":"IF(C27=\"\",\"\",MAX($B$5:B26)+1)","v":22},"مراد 22","فريدة22","أولى","جدع مشترك آداب",1,"1آف1","12/2/2021","المقارين","ذ","محمد علي22","حي السلام -البياضة","2018-05-03","2018-03-05",22,"2018-04-02",26,"2019-01-27",29,null,null,null,null,null,{"$f":"IF($V$2=\"\",\"\",SEARCH($V$2,$A27&\"\"&#REF!&\"\"&$D27&\"\"&$F27&\"\"&$I27&\"\"&$J27&\"\"&$K27))","v":""},{"$f":"IF($X$2=\"\",\"\",SEARCH($X$2,$A27&\" \"&#REF!&\" \"&$D27&\" \"&$F27&\" \"&$I27&\" \"&$J27&\" \"&$K27&\" \"&$O27&\" \"&$Q27&\" \"&$S27&\" \"&$U27&\" \"&$V27&\" \"&$W27&\" \"&$X27))","v":""},{"$error":"#VALUE!"}]
[23,{"$f":"IF(C28=\"\",\"\",MAX($B$5:B27)+1)","v":23},"مراد 23","فريدة23","أولى","جدع مشترك آداب",1,"1آف1","12/2/2022","الوادي","ذ","محمد علي23","حي الإزدهار - البياضة","2018-05-04","2018-03-06",23,"2018-04-03",27,"2019-01-28",30,null,null,null,null,null,{"$f":"IF($V$2=\"\",\"\",SEARCH($V$2,$A28&\"\"&#REF!&\"\"&$D28&\"\"&$F28&\"\"&$I28&\"\"&$J28&\"\"&$K28))","v":""},{"$f":"IF($X$2=\"\",\"\",SEARCH($X$2,$A28&\" \"&#REF!&\" \"&$D28&\" \"&$F28&\" \"&$I28&\" \"&$J28&\" \"&$K28&\" \"&$O28&\" \"&$Q28&\" \"&$S28&\" \"&$U28&\" \"&$V28&\" \"&$W28&\" \"&$X28))","v":""},49]
[24,{"$f":"IF(C29=\"\",\"\",MAX($B$5:B28)+1)","v":24},"مراد 24","فريدة24","أولى","جدع مشترك آداب",1,"1آف1","12/2/2023","البياضة","ذ","محمد علي24","حي السلام -البياضة","2018-05-05","2018-03-07",24,"2018-04-04",28,"2019-01-29",31,null,null,null,null,null,{"$f":"IF($V$2=\"\",\"\",SEARCH($V$2,$A29&\"\"&#REF!&\"\"&$D29&\"\"&$F29&\"\"&$I29&\"\"&$J29&\"\"&$K29))","v":""},{"$f":"IF($X$2=\"\",\"\",SEARCH($X$2,$A29&\" \"&#REF!&\" \"&$D29&\" \"&$F29&\" \"&$I29&\" \"&$J29&\" \"&$K29&\" \"&$O29&\" \"&$Q29&\" \"&$S29&\" \"&$U29&\" \"&$V29&\" \"&$W29&\" \"&$X29))","v":""},{"$error":"#VALUE!"}]
[25,{"$f":"IF(C30=\"\",\"\",MAX($B$5:B29)+1)","v":25},"مراد 25","فريدة25","أولى","جدع مشترك آداب",1,"1آف1","12/2/2024","البياضة","ذ","محمد علي25","حي الإزدهار - البياضة","2018-05-06","2018-03-08",25,"2018-04-05",29,"2019-01-30",32,null,null,null,null,null,{"$f":"IF($V$2=\"\",\"\",SEARCH($V$2,$A30&\"\"&#REF!&\"\"&$D30&\"\"&$F30&\"\"&$I30&\"\"&$J30&\"\"&$K30))","v":""},{"$f":"IF($X$2=\"\",\"\",SEARCH($X$2,$A30&\" \"&#REF!&\" \"&$D30&\" \"&$F30&\" \"&$I30&\" \"&$J30&\" \"&$K30&\" \"&$O30&\" \"&$Q30&\" \"&$S30&\" \"&$U30&\" \"&$V30&\" \"&$W30&\" \"&$X30))","v":""},{"$error":"#VALUE!"}]
[26,{"$f":"IF(C31=\"\",\"\",MAX($B$5:B30)+1)","v":26},"مراد 26","فريدة26","أولى","جدع مشترك آداب",1,"1آف1","12/2/2025","البياضة","ذ","محمد علي26","حي السلام -البياضة","2018-05-07","2018-03-09",26,"2018-04-06",30,"2019-01-31",33,null,null,null,null,null,{"$f":"IF($V$2=\"\",\"\",SEARCH($V$2,$A31&\"\"&#REF!&\"\"&$D31&\"\"&$F31&\"\"&$I31&\"\"&$J31&\"\"&$K31))","v":""},{"$f":"IF($X$2=\"\",\"\",SEARCH($X$2,$A31&\" \"&#REF!&\" \"&$D31&\" \"&$F31&\" \"&$I31&\" \"&$J31&\" \"&$K31&\" \"&$O31&\" \"&$Q31&\" \"&$S31&\" \"&$U31&\" \"&$V31&\" \"&$W31&\" \"&$X31))","v":""},{"$error":"#VALUE!"}]
[27,{"$f":"IF(C32=\"\",\"\",MAX($B$5:B31)+1)","v":27},"مراد 27","فريدة27","أولى","جدع مشترك آداب",1,"1آف1","12/2/2026","البياضة","ذ","محمد علي27","حي الإزدهار - البياضة","2018-05-08","2018-03-10",27,"2018-04-07",31,"2019-02-01",34,null,null,null,null,null,{"$f":"IF($V$2=\"\",\"\",SEARCH($V$2,$A32&\"\"&#REF!&\"\"&$D32&\"\"&$F32&\"\"&$I32&\"\"&$J32&\"\"&$K32))","v":""},{"$f":"IF($X$2=\"\",\"\",SEARCH($X$2,$A32&\" \"&#REF!&\" \"&$D32&\" \"&$F32&\" \"&$I32&\" \"&$J32&\" \"&$K32&\" \"&$O32&\" \"&$Q32&\" \"&$S32&\" \"&$U32&\" \"&$V32&\" \"&$W32&\" \"&$X32))","v":""},{"$error":"#VALUE!"}]
[28,{"$f":"IF(C33=\"\",\"\",MAX($B$5:B32)+1)","v":28},"مراد 28","فريدة28","أولى","جدع مشترك آداب",1,"1آف1","12/2/2027","البياضة","ذ","محمد علي28","حي السلام -البياضة","2018-05-09","2018-03-11",28,"2018-04-08",32,"2019-02-02",35,null,null,null,null,null,{"$f":"IF($V$2=\"\",\"\",SEARCH($V$2,$A33&\"\"&#REF!&\"\"&$D33&\"\"&$F33&\"\"&$I33&\"\"&$J33&\"\"&$K33))","v":""},{"$f":"IF($X$2=\"\",\"\",SEARCH($X$2,$A33&\" \"&#REF!&\" \"&$D33&\" \"&$F33&\" \"&$I33&\" \"&$J33&\" \"&$K33&\" \"&$O33&\" \"&$Q33&\" \"&$S33&\" \"&$U33&\" \"&$V33&\" \"&$W33&\" \"&$X33))","v":""},{"$error":"#VALUE!"}]
[29,{"$f":"IF(C34=\"\",\"\",MAX($B$5:B33)+1)","v":29},"مراد 29","فريدة29","أولى","جدع مشترك آداب",1,"1آف1","12/2/2028","البياضة","ذ","محمد علي29","حي الإزدهار - البياضة","2018-05-10","2018-03-12",29,"2018-04-09",33,"2019-02-03",36,null,null,null,null,null,{"$f":"IF($V$2=\"\",\"\",SEARCH($V$2,$A34&\"\"&#REF!&\"\"&$D34&\"\"&$F34&\"\"&$I34&\"\"&$J34&\"\"&$K34))","v":""},{"$f":"IF($X$2=\"\",\"\",SEARCH($X$2,$A34&\" \"&#REF!&\" \"&$D34&\" \"&$F34&\" \"&$I34&\" \"&$J34&\" \"&$K34&\" \"&$O34&\" \"&$Q34&\" \"&$S34&\" \"&$U34&\" \"&$V34&\" \"&$W34&\" \"&$X34))","v":""},{"$error":"#VALUE!"}]
[30,{"$f":"IF(C35=\"\",\"\",MAX($B$5:B34)+1)","v":30},"مراد 30","فريدة30","أولى","جدع مشترك آداب",2,"1آف2","12/2/2029","البياضة","ذ","محمد علي30","حي السلام -البياضة","2018-05-11","2018-03-13",30,"2018-04-10",34,"2019-02-04",37,null,null,null,null,null,{"$f":"IF($V$2=\"\",\"\",SEARCH($V$2,$A35&\"\"&#REF!&\"\"&$D35&\"\"&$F35&\"\"&$I35&\"\"&$J35&\"\"&$K35))","v":""},{"$f":"IF($X$2=\"\",\"\",SEARCH($X$2,$A35&\" \"&#REF!&\" \"&$D35&\" \"&$F35&\" \"&$I35&\" \"&$J35&\" \"&$K35&\" \"&$O35&\" \"&$Q35&\" \"&$S35&\" \"&$U35&\" \"&$V35&\" \"&$W35&\" \"&$X35))","v":""},{"$error":"#VALUE!"}]
[31,{"$f":"IF(C36=\"\",\"\",MAX($B$5:B35)+1)","v":31},"مراد 31","فريدة31","أولى","جدع مشترك آداب",2,"1آف2","12/2/2030","تبسة","ذ","محمد علي31","حي الإزدهار - البياضة","2018-05-12","2018-03-14",31,"2018-04-11",35,"2019-02-05",38,null,null,null,null,null,{"$f":"IF($V$2=\"\",\"\",SEARCH($V$2,$A36&\"\"&#REF!&\"\"&$D36&\"\"&$F36&\"\"&$I36&\"\"&$J36&\"\"&$K36))","v":""},{"$f":"IF($X$2=\"\",\"\",SEARCH($X$2,$A36&\" \"&#REF!&\" \"&$D36&\" \"&$F36&\" \"&$I36&\" \"&$J36&\" \"&$K36&\" \"&$O36&\" \"&$Q36&\" \"&$S36&\" \"&$U36&\" \"&$V36&\" \"&$W36&\" \"&$X36))","v":""},{"$error":"#VALUE!"}]
[32,{"$f":"IF(C37=\"\",\"\",MAX($B$5:B36)+1)","v":32},"مراد 32","فريدة32","أولى","جدع مشترك آداب",2,"1آف2","12/2/2031","البياضه","ذ","محمد علي32","حي السلام -البياضة","2018-05-13","2018-03-15",32,"2018-04-12",36,"2019-02-06",39,null,null,null,null,null,{"$f":"IF($V$2=\"\",\"\",SEARCH($V$2,$A37&\"\"&#REF!&\"\"&$D37&\"\"&$F37&\"\"&$I37&\"\"&$J37&\"\"&$K37))","v":""},{"$f":"IF($X$2=\"\",\"\",SEARCH($X$2,$A37&\" \"&#REF!&\" \"&$D37&\" \"&$F37&\" \"&$I37&\" \"&$J37&\" \"&$K37&\" \"&$O37&\" \"&$Q37&\" \"&$S37&\" \"&$U37&\" \"&$V37&\" \"&$W37&\" \"&$X37))","v":""},{"$error":"#VALUE!"}]
[33,{"$f":"IF(C38=\"\",\"\",MAX($B$5:B37)+1)","v":33},"مراد 33","فريدة33","أولى","جدع مشترك آداب",2,"1آف2","12/2/2032","البياضة","ذ","محمد علي33","حي الإزدهار - البياضة","2018-05-14","2018-03-16",33,"2018-04-13",37,"2019-02-07",40,null,null,null,null,null,{"$f":"IF($V$2=\"\",\"\",SEARCH($V$2,$A38&\"\"&#REF!&\"\"&$D38&\"\"&$F38&\"\"&$I38&\"\"&$J38&\"\"&$K38))","v":""},{"$f":"IF($X$2=\"\",\"\",SEARCH($X$2,$A38&\" \"&#REF!&\" \"&$D38&\" \"&$F38&\" \"&$I38&\" \"&$J38&\" \"&$K38&\" \"&$O38&\" \"&$Q38&\" \"&$S38&\" \"&$U38&\" \"&$V38&\" \"&$W38&\" \"&$X38))","v":""},{"$error":"#VALUE!"}]
[34,{"$f":"IF(C39=\"\",\"\",MAX($B$5:B38)+1)","v":34},"مراد 34","فريدة34","أولى","جدع مشترك آداب",2,"1آف2","12/2/2033","البياضة","ذ","محمد علي34","حي السلام -البياضة","2018-05-15","2018-03-17",34,"2018-04-14",38,"2019-02-08",41,null,null,null,null,null,{"$f":"IF($V$2=\"\",\"\",SEARCH($V$2,$A39&\"\"&#REF!&\"\"&$D39&\"\"&$F39&\"\"&$I39&\"\"&$J39&\"\"&$K39))","v":""},{"$f":"IF($X$2=\"\",\"\",SEARCH($X$2,$A39&\" \"&#REF!&\" \"&$D39&\" \"&$F39&\" \"&$I39&\" \"&$J39&\" \"&$K39&\" \"&$O39&\" \"&$Q39&\" \"&$S39&\" \"&$U39&\" \"&$V39&\" \"&$W39&\" \"&$X39))","v":""},{"$error":"#VALUE!"}]
[35,{"$f":"IF(C40=\"\",\"\",MAX($B$5:B39)+1)","v":35},"مراد 35","فريدة35","أولى","جدع مشترك آداب",2,"1آف2","12/2/2034","الوادي","ذ","محمد علي35","حي الإزدهار - البياضة","2018-05-16","2018-03-18",35,"2018-04-15",39,"2019-02-09",42,null,null,null,null,null,{"$f":"IF($V$2=\"\",\"\",SEARCH($V$2,$A40&\"\"&#REF!&\"\"&$D40&\"\"&$F40&\"\"&$I40&\"\"&$J40&\"\"&$K40))","v":""},{"$f":"IF($X$2=\"\",\"\",SEARCH($X$2,$A40&\" \"&#REF!&\" \"&$D40&\" \"&$F40&\" \"&$I40&\" \"&$J40&\" \"&$K40&\" \"&$O40&\" \"&$Q40&\" \"&$S40&\" \"&$U40&\" \"&$V40&\" \"&$W40&\" \"&$X40))","v":""},49]
[36,{"$f":"IF(C41=\"\",\"\",MAX($B$5:B40)+1)","v":36},"مراد 36","فريدة36","أولى","جدع مشترك آداب",2,"1آف2","12/2/2035","الرقيبة","ذ","محمد علي36","حي السلام -البياضة","2018-05-17","2018-03-19",36,"2018-04-16",40,"2019-02-10",43,null,null,null,null,null,{"$f":"IF($V$2=\"\",\"\",SEARCH($V$2,$A41&\"\"&#REF!&\"\"&$D41&\"\"&$F41&\"\"&$I41&\"\"&$J41&\"\"&$K41))","v":""},{"$f":"IF($X$2=\"\",\"\",SEARCH($X$2,$A41&\" \"&#REF!&\" \"&$D41&\" \"&$F41&\" \"&$I41&\" \"&$J41&\" \"&$K41&\" \"&$O41&\" \"&$Q41&\" \"&$S41&\" \"&$U41&\" \"&$V41&\" \"&$W41&\" \"&$X41))","v":""},{"$error":"#VALUE!"}]
[37,{"$f":"IF(C42=\"\",\"\",MAX($B$5:B41)+1)","v":37},"مراد 37","فريدة37","أولى","جدع مشترك آداب",2,"1آف2","12/2/2036","البياضة","ذ","محمد علي37","حي الإزدهار - البياضة","2018-05-18","2018-03-20",37,"2018-04-17",41,"2019-02-11",44,null,null,null,null,null,{"$f":"IF($V$2=\"\",\"\",SEARCH($V$2,$A42&\"\"&#REF!&\"\"&$D42&\"\"&$F42&\"\"&$I42&\"\"&$J42&\"\"&$K42))","v":""},{"$f":"IF($X$2=\"\",\"\",SEARCH($X$2,$A42&\" \"&#REF!&\" \"&$D42&\" \"&$F42&\" \"&$I42&\" \"&$J42&\" \"&$K42&\" \"&$O42&\" \"&$Q42&\" \"&$S42&\" \"&$U42&\" \"&$V42&\" \"&$W42&\" \"&$X42))","v":""},{"$error":"#VALUE!"}]
[38,{"$f":"IF(C43=\"\",\"\",MAX($B$5:B42)+1)","v":38},"مراد 38","فريدة38","أولى","جدع مشترك آداب",2,"1آف2","12/2/2037","الوادي","ذ","محمد علي38","حي السلام -البياضة","2018-05-19","2018-03-21",38,"2018-04-18",42,"2019-02-12",45,null,null,null,null,null,{"$f":"IF($V$2=\"\",\"\",SEARCH($V$2,$A43&\"\"&#REF!&\"\"&$D43&\"\"&$F43&\"\"&$I43&\"\"&$J43&\"\"&$K43))","v":""},{"$f":"IF($X$2=\"\",\"\",SEARCH($X$2,$A43&\" \"&#REF!&\" \"&$D43&\" \"&$F43&\" \"&$I43&\" \"&$J43&\" \"&$K43&\" \"&$O43&\" \"&$Q43&\" \"&$S43&\" \"&$U43&\" \"&$V43&\" \"&$W43&\" \"&$X43))","v":""},49]
[39,{"$f":"IF(C44=\"\",\"\",MAX($B$5:B43)+1)","v":39},"مراد 39","فريدة39","أولى","جدع مشترك آداب",2,"1آف2","12/2/2038","البياضة","ذ","محمد علي39","حي الإزدهار - البياضة","2018-05-20","2018-03-22",39,"2018-04-19",43,"2019-02-13",46,null,null,null,null,null,{"$f":"IF($V$2=\"\",\"\",SEARCH($V$2,$A44&\"\"&#REF!&\"\"&$D44&\"\"&$F44&\"\"&$I44&\"\"&$J44&\"\"&$K44))","v":""},{"$f":"IF($X$2=\"\",\"\",SEARCH($X$2,$A44&\" \"&#REF!&\" \"&$D44&\" \"&$F44&\" \"&$I44&\" \"&$J44&\" \"&$K44&\" \"&$O44&\" \"&$Q44&\" \"&$S44&\" \"&$U44&\" \"&$V44&\" \"&$W44&\" \"&$X44))","v":""},{"$error":"#VALUE!"}]
[40,{"$f":"IF(C45=\"\",\"\",MAX($B$5:B44)+1)","v":40},"مراد 40","فريدة40","أولى","جدع مشترك آداب",2,"1آف2","12/2/2039","البياضة","ذ","محمد علي40","حي السلام -البياضة","2018-05-21","2018-03-23",40,"2018-04-20",44,"2019-02-14",47,null,null,null,null,null,{"$f":"IF($V$2=\"\",\"\",SEARCH($V$2,$A45&\"\"&#REF!&\"\"&$D45&\"\"&$F45&\"\"&$I45&\"\"&$J45&\"\"&$K45))","v":""},{"$f":"IF($X$2=\"\",\"\",SEARCH($X$2,$A45&\" \"&#REF!&\" \"&$D45&\" \"&$F45&\" \"&$I45&\" \"&$J45&\" \"&$K45&\" \"&$O45&\" \"&$Q45&\" \"&$S45&\" \"&$U45&\" \"&$V45&\" \"&$W45&\" \"&$X45))","v":""},{"$error":"#VALUE!"}]
[41,{"$f":"IF(C46=\"\",\"\",MAX($B$5:B45)+1)","v":41},"مراد 41","فريدة41","أولى","جدع مشترك آداب",2,"1آف2","12/2/2040","البياضة","ذ","محمد علي41","حي الإزدهار - البياضة","2018-05-22","2018-03-24",41,"2018-04-21",45,"2019-02-15",48,null,null,null,null,null,{"$f":"IF($V$2=\"\",\"\",SEARCH($V$2,$A46&\"\"&#REF!&\"\"&$D46&\"\"&$F46&\"\"&$I46&\"\"&$J46&\"\"&$K46))","v":""},{"$f":"IF($X$2=\"\",\"\",SEARCH($X$2,$A46&\" \"&#REF!&\" \"&$D46&\" \"&$F46&\" \"&$I46&\" \"&$J46&\" \"&$K46&\" \"&$O46&\" \"&$Q46&\" \"&$S46&\" \"&$U46&\" \"&$V46&\" \"&$W46&\" \"&$X46))","v":""},{"$error":"#VALUE!"}]
[42,{"$f":"IF(C47=\"\",\"\",MAX($B$5:B46)+1)","v":42},"مراد 42","فريدة42","أولى","جدع مشترك آداب",2,"1آف2","12/2/2041","البياضة","ذ","محمد علي42","حي السلام -البياضة","2018-05-23","2018-03-25",42,"2018-04-22",46,"2019-02-16",49,null,null,null,null,null,{"$f":"IF($V$2=\"\",\"\",SEARCH($V$2,$A47&\"\"&#REF!&\"\"&$D47&\"\"&$F47&\"\"&$I47&\"\"&$J47&\"\"&$K47))","v":""},{"$f":"IF($X$2=\"\",\"\",SEARCH($X$2,$A47&\" \"&#REF!&\" \"&$D47&\" \"&$F47&\" \"&$I47&\" \"&$J47&\" \"&$K47&\" \"&$O47&\" \"&$Q47&\" \"&$S47&\" \"&$U47&\" \"&$V47&\" \"&$W47&\" \"&$X47))","v":""},{"$error":"#VALUE!"}]
[43,{"$f":"IF(C48=\"\",\"\",MAX($B$5:B47)+1)","v":43},"مراد 43","فريدة43","أولى","جدع مشترك آداب",2,"1آف2","12/2/2042","البياضة","ذ","محمد علي43","حي الإزدهار - البياضة","2018-05-24","2018-03-26",43,"2018-04-23",47,"2019-02-17",50,null,null,null,null,null,{"$f":"IF($V$2=\"\",\"\",SEARCH($V$2,$A48&\"\"&#REF!&\"\"&$D48&\"\"&$F48&\"\"&$I48&\"\"&$J48&\"\"&$K48))","v":""},{"$f":"IF($X$2=\"\",\"\",SEARCH($X$2,$A48&\" \"&#REF!&\" \"&$D48&\" \"&$F48&\" \"&$I48&\" \"&$J48&\" \"&$K48&\" \"&$O48&\" \"&$Q48&\" \"&$S48&\" \"&$U48&\" \"&$V48&\" \"&$W48&\" \"&$X48))","v":""},{"$error":"#VALUE!"}]
[44,{"$f":"IF(C49=\"\",\"\",MAX($B$5:B48)+1)","v":44},"مراد 44","فريدة44","أولى","جدع مشترك آداب",2,"1آف2","12/2/2043","الوادي","ذ","محمد علي44","حي السلام -البياضة","2018-05-25","2018-03-27",44,"2018-04-24",48,"2019-02-18",51,null,null,null,null,null,{"$f":"IF($V$2=\"\",\"\",SEARCH($V$2,$A49&\"\"&#REF!&\"\"&$D49&\"\"&$F49&\"\"&$I49&\"\"&$J49&\"\"&$K49))","v":""},{"$f":"IF($X$2=\"\",\"\",SEARCH($X$2,$A49&\" \"&#REF!&\" \"&$D49&\" \"&$F49&\" \"&$I49&\" \"&$J49&\" \"&$K49&\" \"&$O49&\" \"&$Q49&\" \"&$S49&\" \"&$U49&\" \"&$V49&\" \"&$W49&\" \"&$X49))","v":""},49]
[45,{"$f":"IF(C50=\"\",\"\",MAX($B$5:B49)+1)","v":45},"مراد 45","فريدة45","أولى","جدع مشترك آداب",2,"1آف2","12/2/2044","البياضة","ذ","محمد علي45","حي الإزدهار - البياضة","2018-05-26","2018-03-28",45,"2018-04-25",49,"2019-02-19",52,null,null,null,null,null,{"$f":"IF($V$2=\"\",\"\",SEARCH($V$2,$A50&\"\"&#REF!&\"\"&$D50&\"\"&$F50&\"\"&$I50&\"\"&$J50&\"\"&$K50))","v":""},{"$f":"IF($X$2=\"\",\"\",SEARCH($X$2,$A50&\" \"&#REF!&\" \"&$D50&\" \"&$F50&\" \"&$I50&\" \"&$J50&\" \"&$K50&\" \"&$O50&\" \"&$Q50&\" \"&$S50&\" \"&$U50&\" \"&$V50&\" \"&$W50&\" \"&$X50))","v":""},{"$error":"#VALUE!"}]
[46,{"$f":"IF(C51=\"\",\"\",MAX($B$5:B50)+1)","v":46},"مراد 46","فريدة46","أولى","جدع مشترك آداب",2,"1آف2","12/2/2045","البياضة","ذ","محمد علي46","حي السلام -البياضة","2018-05-27","2018-03-29",46,"2018-04-26",50,"2019-02-20",53,null,null,null,null,null,{"$f":"IF($V$2=\"\",\"\",SEARCH($V$2,$A51&\"\"&#REF!&\"\"&$D51&\"\"&$F51&\"\"&$I51&\"\"&$J51&\"\"&$K51))","v":""},{"$f":"IF($X$2=\"\",\"\",SEARCH($X$2,$A51&\" \"&#REF!&\" \"&$D51&\" \"&$F51&\" \"&$I51&\" \"&$J51&\" \"&$K51&\" \"&$O51&\" \"&$Q51&\" \"&$S51&\" \"&$U51&\" \"&$V51&\" \"&$W51&\" \"&$X51))","v":""},{"$error":"#VALUE!"}]
[47,{"$f":"IF(C52=\"\",\"\",MAX($B$5:B51)+1)","v":47},"مراد 47","فريدة47","أولى","جدع مشترك آداب",2,"1آف2","12/2/2046","البياضة","ذ","محمد علي47","حي الإزدهار - البياضة","2018-05-28","2018-03-30",47,"2018-04-27",51,"2019-02-21",54,null,null,null,null,null,{"$f":"IF($V$2=\"\",\"\",SEARCH($V$2,$A52&\"\"&#REF!&\"\"&$D52&\"\"&$F52&\"\"&$I52&\"\"&$J52&\"\"&$K52))","v":""},{"$f":"IF($X$2=\"\",\"\",SEARCH($X$2,$A52&\" \"&#REF!&\" \"&$D52&\" \"&$F52&\" \"&$I52&\" \"&$J52&\" \"&$K52&\" \"&$O52&\" \"&$Q52&\" \"&$S52&\" \"&$U52&\" \"&$V52&\" \"&$W52&\" \"&$X52))","v":""},{"$error":"#VALUE!"}]
[48,{"$f":"IF(C53=\"\",\"\",MAX($B$5:B52)+1)","v":48},"مراد 48","فريدة48","أولى","جدع مشترك آداب",2,"1آف2","12/2/2047","البياضة","ذ","محمد علي48","حي السلام -البياضة","2018-05-29","2018-03-31",48,"2018-04-28",52,"2019-02-22",55,null,null,null,null,null,{"$f":"IF($V$2=\"\",\"\",SEARCH($V$2,$A53&\"\"&#REF!&\"\"&$D53&\"\"&$F53&\"\"&$I53&\"\"&$J53&\"\"&$K53))","v":""},{"$f":"IF($X$2=\"\",\"\",SEARCH($X$2,$A53&\" \"&#REF!&\" \"&$D53&\" \"&$F53&\" \"&$I53&\" \"&$J53&\" \"&$K53&\" \"&$O53&\" \"&$Q53&\" \"&$S53&\" \"&$U53&\" \"&$V53&\" \"&$W53&\" \"&$X53))","v":""},{"$error":"#VALUE!"}]
[49,{"$f":"IF(C54=\"\",\"\",MAX($B$5:B53)+1)","v":49},"مراد 49","فريدة49","أولى","جدع مشترك آداب",2,"1آف2","12/2/2048","البياضة","ذ","محمد علي49","حي الإزدهار - البياضة","2018-05-30","2018-04-01",49,"2018-04-29",53,"2019-02-23",56,null,null,null,null,null,{"$f":"IF($V$2=\"\",\"\",SEARCH($V$2,$A54&\"\"&#REF!&\"\"&$D54&\"\"&$F54&\"\"&$I54&\"\"&$J54&\"\"&$K54))","v":""},{"$f":"IF($X$2=\"\",\"\",SEARCH($X$2,$A54&\" \"&#REF!&\" \"&$D54&\" \"&$F54&\" \"&$I54&\" \"&$J54&\" \"&$K54&\" \"&$O54&\" \"&$Q54&\" \"&$S54&\" \"&$U54&\" \"&$V54&\" \"&$W54&\" \"&$X54))","v":""},{"$error":"#VALUE!"}]
[50,{"$f":"IF(C55=\"\",\"\",MAX($B$5:B54)+1)","v":50},"مراد 50","فريدة50","أولى","جدع مشترك آداب",2,"1آف2","12/2/2049","البياضة","ذ","محمد علي50","حي السلام -البياضة","2018-05-31","2018-04-02",50,"2018-04-30",54,"2019-02-24",57,null,null,null,null,null,{"$f":"IF($V$2=\"\",\"\",SEARCH($V$2,$A55&\"\"&#REF!&\"\"&$D55&\"\"&$F55&\"\"&$I55&\"\"&$J55&\"\"&$K55))","v":""},{"$f":"IF($X$2=\"\",\"\",SEARCH($X$2,$A55&\" \"&#REF!&\" \"&$D55&\" \"&$F55&\" \"&$I55&\" \"&$J55&\" \"&$K55&\" \"&$O55&\" \"&$Q55&\" \"&$S55&\" \"&$U55&\" \"&$V55&\" \"&$W55&\" \"&$X55))","v":""},{"$error":"#VALUE!"}]
[51,{"$f":"IF(C56=\"\",\"\",MAX($B$5:B55)+1)","v":51},"مراد 51","فريدة51","أولى","جدع مشترك آداب",2,"1آف2","12/2/2050","الوادي","ذ","محمد علي51","حي الإزدهار - البياضة","2018-06-01","2018-04-03",51,"2018-05-01",55,"2019-02-25",58,null,null,null,null,null,{"$f":"IF($V$2=\"\",\"\",SEARCH($V$2,$A56&\"\"&#REF!&\"\"&$D56&\"\"&$F56&\"\"&$I56&\"\"&$J56&\"\"&$K56))","v":""},{"$f":"IF($X$2=\"\",\"\",SEARCH($X$2,$A56&\" \"&#REF!&\" \"&$D56&\" \"&$F56&\" \"&$I56&\" \"&$J56&\" \"&$K56&\" \"&$O56&\" \"&$Q56&\" \"&$S56&\" \"&$U56&\" \"&$V56&\" \"&$W56&\" \"&$X56))","v":""},49]
[52,{"$f":"IF(C57=\"\",\"\",MAX($B$5:B56)+1)","v":52},"مراد 52","فريدة52","أولى","جدع مشترك آداب",2,"1آف2","12/2/2051","الوادي","ذ","محمد علي52","حي السلام -البياضة","2018-06-02","2018-04-04",52,"2018-05-02",56,"2019-02-26",59,null,null,null,null,null,{"$f":"IF($V$2=\"\",\"\",SEARCH($V$2,$A57&\"\"&#REF!&\"\"&$D57&\"\"&$F57&\"\"&$I57&\"\"&$J57&\"\"&$K57))","v":""},{"$f":"IF($X$2=\"\",\"\",SEARCH($X$2,$A57&\" \"&#REF!&\" \"&$D57&\" \"&$F57&\" \"&$I57&\" \"&$J57&\" \"&$K57&\" \"&$O57&\" \"&$Q57&\" \"&$S57&\" \"&$U57&\" \"&$V57&\" \"&$W57&\" \"&$X57))","v":""},49]
[53,{"$f":"IF(C58=\"\",\"\",MAX($B$5:B57)+1)","v":53},"مراد 53","فريدة53","أولى","جدع مشترك آداب",2,"1آف2","12/2/2052","البياضة","ذ","محمد علي53","حي الإزدهار - البياضة","2018-06-03","2018-04-05",53,"2018-05-03",57,"2019-02-27",60,null,null,null,null,null,{"$f":"IF($V$2=\"\",\"\",SEARCH($V$2,$A58&\"\"&#REF!&\"\"&$D58&\"\"&$F58&\"\"&$I58&\"\"&$J58&\"\"&$K58))","v":""},{"$f":"IF($X$2=\"\",\"\",SEARCH($X$2,$A58&\" \"&#REF!&\" \"&$D58&\" \"&$F58&\" \"&$I58&\" \"&$J58&\" \"&$K58&\" \"&$O58&\" \"&$Q58&\" \"&$S58&\" \"&$U58&\" \"&$V58&\" \"&$W58&\" \"&$X58))","v":""},{"$error":"#VALUE!"}]
[54,{"$f":"IF(C59=\"\",\"\",MAX($B$5:B58)+1)","v":54},"مراد 54","فريدة54","أولى","جدع مشترك آداب",2,"1آف2","12/2/2053","البياضة","ذ","محمد علي54","حي السلام -البياضة","2018-06-04","2018-04-06",54,"2018-05-04",58,"2019-02-28",61,null,null,null,null,null,{"$f":"IF($V$2=\"\",\"\",SEARCH($V$2,$A59&\"\"&#REF!&\"\"&$D59&\"\"&$F59&\"\"&$I59&\"\"&$J59&\"\"&$K59))","v":""},{"$f":"IF($X$2=\"\",\"\",SEARCH($X$2,$A59&\" \"&#REF!&\" \"&$D59&\" \"&$F59&\" \"&$I59&\" \"&$J59&\" \"&$K59&\" \"&$O59&\" \"&$Q59&\" \"&$S59&\" \"&$U59&\" \"&$V59&\" \"&$W59&\" \"&$X59))","v":""},{"$error":"#VALUE!"}]
[55,{"$f":"IF(C60=\"\",\"\",MAX($B$5:B59)+1)","v":55},"مراد 55","فريدة55","أولى","جدع مشترك آداب",2,"1آف2","12/2/2054","البياضة","ذ","محمد علي55","حي الإزدهار - البياضة","2018-06-05","2018-04-07",55,"2018-05-05",59,"2019-03-01",62,null,null,null,null,null,{"$f":"IF($V$2=\"\",\"\",SEARCH($V$2,$A60&\"\"&#REF!&\"\"&$D60&\"\"&$F60&\"\"&$I60&\"\"&$J60&\"\"&$K60))","v":""},{"$f":"IF($X$2=\"\",\"\",SEARCH($X$2,$A60&\" \"&#REF!&\" \"&$D60&\" \"&$F60&\" \"&$I60&\" \"&$J60&\" \"&$K60&\" \"&$O60&\" \"&$Q60&\" \"&$S60&\" \"&$U60&\" \"&$V60&\" \"&$W60&\" \"&$X60))","v":""},{"$error":"#VALUE!"}]
[56,{"$f":"IF(C61=\"\",\"\",MAX($B$5:B60)+1)","v":56},"مراد 56","فريدة56","أولى","جدع مشترك آداب",2,"1آف2","12/2/2055","البياضة","ذ","محمد علي56","حي السلام -البياضة","2018-06-06","2018-04-08",56,"2018-05-06",60,"2019-03-02",63,null,null,null,null,null,{"$f":"IF($V$2=\"\",\"\",SEARCH($V$2,$A61&\"\"&#REF!&\"\"&$D61&\"\"&$F61&\"\"&$I61&\"\"&$J61&\"\"&$K61))","v":""},{"$f":"IF($X$2=\"\",\"\",SEARCH($X$2,$A61&\" \"&#REF!&\" \"&$D61&\" \"&$F61&\" \"&$I61&\" \"&$J61&\" \"&$K61&\" \"&$O61&\" \"&$Q61&\" \"&$S61&\" \"&$U61&\" \"&$V61&\" \"&$W61&\" \"&$X61))","v":""},{"$error":"#VALUE!"}]
[57,{"$f":"IF(C62=\"\",\"\",MAX($B$5:B61)+1)","v":57},"مراد 57","فريدة57","أولى","جذع مشترك علوم وتكنولوجيا",1,"1ع1","12/2/2056","البياضة","ذ","محمد علي57","حي الإزدهار - البياضة","2018-06-07","2018-04-09",57,"2018-05-07",61,"2019-03-03",64,null,null,null,null,null,{"$f":"IF($V$2=\"\",\"\",SEARCH($V$2,$A62&\"\"&#REF!&\"\"&$D62&\"\"&$F62&\"\"&$I62&\"\"&$J62&\"\"&$K62))","v":""},{"$f":"IF($X$2=\"\",\"\",SEARCH($X$2,$A62&\" \"&#REF!&\" \"&$D62&\" \"&$F62&\" \"&$I62&\" \"&$J62&\" \"&$K62&\" \"&$O62&\" \"&$Q62&\" \"&$S62&\" \"&$U62&\" \"&$V62&\" \"&$W62&\" \"&$X62))","v":""},{"$error":"#VALUE!"}]
[58,{"$f":"IF(C63=\"\",\"\",MAX($B$5:B62)+1)","v":58},"مراد 58","فريدة58","أولى","جذع مشترك علوم وتكنولوجيا",1,"1ع1","12/2/2057","البياضة","ذ","محمد علي58","حي السلام -البياضة","2018-06-08","2018-04-10",58,"2018-05-08",62,"2019-03-04",65,null,null,null,null,null,{"$f":"IF($V$2=\"\",\"\",SEARCH($V$2,$A63&\"\"&#REF!&\"\"&$D63&\"\"&$F63&\"\"&$I63&\"\"&$J63&\"\"&$K63))","v":""},{"$f":"IF($X$2=\"\",\"\",SEARCH($X$2,$A63&\" \"&#REF!&\" \"&$D63&\" \"&$F63&\" \"&$I63&\" \"&$J63&\" \"&$K63&\" \"&$O63&\" \"&$Q63&\" \"&$S63&\" \"&$U63&\" \"&$V63&\" \"&$W63&\" \"&$X63))","v":""},{"$error":"#VALUE!"}]
[59,{"$f":"IF(C64=\"\",\"\",MAX($B$5:B63)+1)","v":59},"مراد 59","فريدة59","أولى","جذع مشترك علوم وتكنولوجيا",1,"1ع1","12/2/2058","البياضة","ذ","محمد علي59","حي الإزدهار - البياضة","2018-06-09","2018-04-11",59,"2018-05-09",63,"2019-03-05",66,null,null,null,null,null,{"$f":"IF($V$2=\"\",\"\",SEARCH($V$2,$A64&\"\"&#REF!&\"\"&$D64&\"\"&$F64&\"\"&$I64&\"\"&$J64&\"\"&$K64))","v":""},{"$f":"IF($X$2=\"\",\"\",SEARCH($X$2,$A64&\" \"&#REF!&\" \"&$D64&\" \"&$F64&\" \"&$I64&\" \"&$J64&\" \"&$K64&\" \"&$O64&\" \"&$Q64&\" \"&$S64&\" \"&$U64&\" \"&$V64&\" \"&$W64&\" \"&$X64))","v":""},{"$error":"#VALUE!"}]
[60,{"$f":"IF(C65=\"\",\"\",MAX($B$5:B64)+1)","v":60},"مراد 60","فريدة60","أولى","جذع مشترك علوم وتكنولوجيا",1,"1ع1","12/2/2059","الرباح","ذ","محمد علي60","حي السلام -البياضة","2018-06-10","2018-04-12",60,"2018-05-10",64,"2019-03-06",67,null,null,null,null,null,{"$f":"IF($V$2=\"\",\"\",SEARCH($V$2,$A65&\"\"&#REF!&\"\"&$D65&\"\"&$F65&\"\"&$I65&\"\"&$J65&\"\"&$K65))","v":""},{"$f":"IF($X$2=\"\",\"\",SEARCH($X$2,$A65&\" \"&#REF!&\" \"&$D65&\" \"&$F65&\" \"&$I65&\" \"&$J65&\" \"&$K65&\" \"&$O65&\" \"&$Q65&\" \"&$S65&\" \"&$U65&\" \"&$V65&\" \"&$W65&\" \"&$X65))","v":""},{"$error":"#VALUE!"}]
[61,{"$f":"IF(C66=\"\",\"\",MAX($B$5:B65)+1)","v":61},"مراد 61","فريدة61","أولى","جذع مشترك علوم وتكنولوجيا",1,"1ع1","12/2/2060","بوثلجة","ذ","محمد علي61","حي الإزدهار - البياضة","2018-06-11","2018-04-13",61,"2018-05-11",65,"2019-03-07",68,null,null,null,null,null,{"$f":"IF($V$2=\"\",\"\",SEARCH($V$2,$A66&\"\"&#REF!&\"\"&$D66&\"\"&$F66&\"\"&$I66&\"\"&$J66&\"\"&$K66))","v":""},{"$f":"IF($X$2=\"\",\"\",SEARCH($X$2,$A66&\" \"&#REF!&\" \"&$D66&\" \"&$F66&\" \"&$I66&\" \"&$J66&\" \"&$K66&\" \"&$O66&\" \"&$Q66&\" \"&$S66&\" \"&$U66&\" \"&$V66&\" \"&$W66&\" \"&$X66))","v":""},{"$error":"#VALUE!"}]
[62,{"$f":"IF(C67=\"\",\"\",MAX($B$5:B66)+1)","v":62},"مراد 62","فريدة62","أولى","جذع مشترك علوم وتكنولوجيا",1,"1ع1","12/2/2061","البياضة","ذ","محمد علي62","حي السلام -البياضة","2018-06-12","2018-04-14",62,"2018-05-12",66,"2019-03-08",69,null,null,null,null,null,{"$f":"IF($V$2=\"\",\"\",SEARCH($V$2,$A67&\"\"&#REF!&\"\"&$D67&\"\"&$F67&\"\"&$I67&\"\"&$J67&\"\"&$K67))","v":""},{"$f":"IF($X$2=\"\",\"\",SEARCH($X$2,$A67&\" \"&#REF!&\" \"&$D67&\" \"&$F67&\" \"&$I67&\" \"&$J67&\" \"&$K67&\" \"&$O67&\" \"&$Q67&\" \"&$S67&\" \"&$U67&\" \"&$V67&\" \"&$W67&\" \"&$X67))","v":""},{"$error":"#VALUE!"}]
[63,{"$f":"IF(C68=\"\",\"\",MAX($B$5:B67)+1)","v":63},"مراد 63","فريدة63","أولى","جذع مشترك علوم وتكنولوجيا",1,"1ع1","12/2/2062","الوادي","ذ","محمد علي63","حي الإزدهار - البياضة","2018-06-13","2018-04-15",63,"2018-05-13",67,"2019-03-09",70,null,null,null,null,null,{"$f":"IF($V$2=\"\",\"\",SEARCH($V$2,$A68&\"\"&#REF!&\"\"&$D68&\"\"&$F68&\"\"&$I68&\"\"&$J68&\"\"&$K68))","v":""},{"$f":"IF($X$2=\"\",\"\",SEARCH($X$2,$A68&\" \"&#REF!&\" \"&$D68&\" \"&$F68&\" \"&$I68&\" \"&$J68&\" \"&$K68&\" \"&$O68&\" \"&$Q68&\" \"&$S68&\" \"&$U68&\" \"&$V68&\" \"&$W68&\" \"&$X68))","v":""},59]
[64,{"$f":"IF(C69=\"\",\"\",MAX($B$5:B68)+1)","v":64},"مراد 64","فريدة64","أولى","جذع مشترك علوم وتكنولوجيا",1,"1ع1","12/2/2063","البياضة","ذ","محمد علي64","حي السلام -البياضة","2018-06-14","2018-04-16",64,"2018-05-14",68,"2019-03-10",71,null,null,null,null,null,{"$f":"IF($V$2=\"\",\"\",SEARCH($V$2,$A69&\"\"&#REF!&\"\"&$D69&\"\"&$F69&\"\"&$I69&\"\"&$J69&\"\"&$K69))","v":""},{"$f":"IF($X$2=\"\",\"\",SEARCH($X$2,$A69&\" \"&#REF!&\" \"&$D69&\" \"&$F69&\" \"&$I69&\" \"&$J69&\" \"&$K69&\" \"&$O69&\" \"&$Q69&\" \"&$S69&\" \"&$U69&\" \"&$V69&\" \"&$W69&\" \"&$X69))","v":""},{"$error":"#VALUE!"}]
[65,{"$f":"IF(C70=\"\",\"\",MAX($B$5:B69)+1)","v":65},"مراد 65","فريدة65","أولى","جذع مشترك علوم وتكنولوجيا",1,"1ع1","12/2/2064","البياضة","ذ","محمد علي65","حي الإزدهار - البياضة","2018-06-15","2018-04-17",65,"2018-05-15",69,"2019-03-11",72,null,null,null,null,null,{"$f":"IF($V$2=\"\",\"\",SEARCH($V$2,$A70&\"\"&#REF!&\"\"&$D70&\"\"&$F70&\"\"&$I70&\"\"&$J70&\"\"&$K70))","v":""},{"$f":"IF($X$2=\"\",\"\",SEARCH($X$2,$A70&\" \"&#REF!&\" \"&$D70&\" \"&$F70&\" \"&$I70&\" \"&$J70&\" \"&$K70&\" \"&$O70&\" \"&$Q70&\" \"&$S70&\" \"&$U70&\" \"&$V70&\" \"&$W70&\" \"&$X70))","v":""},{"$error":"#VALUE!"}]
[66,{"$f":"IF(C71=\"\",\"\",MAX($B$5:B70)+1)","v":66},"مراد 66","فريدة66","أولى","جذع مشترك علوم وتكنولوجيا",1,"1ع1","12/2/2065","البياضة","ذ","محمد علي66","حي السلام -البياضة","2018-06-16","2018-04-18",66,"2018-05-16",70,"2019-03-12",73,null,null,null,null,null,{"$f":"IF($V$2=\"\",\"\",SEARCH($V$2,$A71&\"\"&#REF!&\"\"&$D71&\"\"&$F71&\"\"&$I71&\"\"&$J71&\"\"&$K71))","v":""},{"$f":"IF($X$2=\"\",\"\",SEARCH($X$2,$A71&\" \"&#REF!&\" \"&$D71&\" \"&$F71&\" \"&$I71&\" \"&$J71&\" \"&$K71&\" \"&$O71&\" \"&$Q71&\" \"&$S71&\" \"&$U71&\" \"&$V71&\" \"&$W71&\" \"&$X71))","v":""},{"$f":"IF($L$2=\"\",\"\",SEARCH($L$2,$A71&\" \"&$D71&\" \"&$E71&\" \"&$F71&\" \"&$G71&\" \"&$H71&\" \"&$I71&\" \"&$J71&\" \"&$K71&\" \"&$L71&\" \"&$N71&\" \"&$O71&\" \"&$P71&\" \"&$Q71&\" \"&$R71&\" \"&$S71&\" \"&$T71&\" \"&$U71&\" \"&$V71&\" \"&$W71&\" \"&$X71))","v":{"$error":"#VALUE!"}}]
[67,{"$f":"IF(C72=\"\",\"\",MAX($B$5:B71)+1)","v":67},"مراد 67","فريدة67","أولى","جذع مشترك علوم وتكنولوجيا",1,"1ع1","12/2/2066","البياضة","ذ","محمد علي67","حي الإزدهار - البياضة","2018-06-17","2018-04-19",67,"2018-05-17",71,"2019-03-13",74,null,null,null,null,null,{"$f":"IF($V$2=\"\",\"\",SEARCH($V$2,$A72&\"\"&#REF!&\"\"&$D72&\"\"&$F72&\"\"&$I72&\"\"&$J72&\"\"&$K72))","v":""},{"$f":"IF($X$2=\"\",\"\",SEARCH($X$2,$A72&\" \"&#REF!&\" \"&$D72&\" \"&$F72&\" \"&$I72&\" \"&$J72&\" \"&$K72&\" \"&$O72&\" \"&$Q72&\" \"&$S72&\" \"&$U72&\" \"&$V72&\" \"&$W72&\" \"&$X72))","v":""},{"$error":"#VALUE!"}]
[68,{"$f":"IF(C73=\"\",\"\",MAX($B$5:B72)+1)","v":68},"مراد 68","فريدة68","أولى","جذع مشترك علوم وتكنولوجيا",1,"1ع1","12/2/2067","الوادي","ذ","محمد علي68","حي السلام -البياضة","2018-06-18","2018-04-20",68,"2018-05-18",72,"2019-03-14",75,null,null,null,null,null,{"$f":"IF($V$2=\"\",\"\",SEARCH($V$2,$A73&\"\"&#REF!&\"\"&$D73&\"\"&$F73&\"\"&$I73&\"\"&$J73&\"\"&$K73))","v":""},{"$f":"IF($X$2=\"\",\"\",SEARCH($X$2,$A73&\" \"&#REF!&\" \"&$D73&\" \"&$F73&\" \"&$I73&\" \"&$J73&\" \"&$K73&\" \"&$O73&\" \"&$Q73&\" \"&$S73&\" \"&$U73&\" \"&$V73&\" \"&$W73&\" \"&$X73))","v":""},59]
[69,{"$f":"IF(C74=\"\",\"\",MAX($B$5:B73)+1)","v":69},"مراد 69","فريدة69","أولى","جذع مشترك علوم وتكنولوجيا",1,"1ع1","12/2/2068","البياضة","ذ","محمد علي69","حي الإزدهار - البياضة","2018-06-19","2018-04-21",69,"2018-05-19",73,"2019-03-15",76,null,null,null,null,null,{"$f":"IF($V$2=\"\",\"\",SEARCH($V$2,$A74&\"\"&#REF!&\"\"&$D74&\"\"&$F74&\"\"&$I74&\"\"&$J74&\"\"&$K74))","v":""},{"$f":"IF($X$2=\"\",\"\",SEARCH($X$2,$A74&\" \"&#REF!&\" \"&$D74&\" \"&$F74&\" \"&$I74&\" \"&$J74&\" \"&$K74&\" \"&$O74&\" \"&$Q74&\" \"&$S74&\" \"&$U74&\" \"&$V74&\" \"&$W74&\" \"&$X74))","v":""},{"$error":"#VALUE!"}]
[70,{"$f":"IF(C75=\"\",\"\",MAX($B$5:B74)+1)","v":70},"مراد 70","فريدة70","أولى","جذع مشترك علوم وتكنولوجيا",1,"1ع1","12/2/2069","البياضة","ذ","محمد علي70","حي السلام -البياضة","2018-06-20","2018-04-22",70,"2018-05-20",74,"2019-03-16",77,null,null,null,null,null,{"$f":"IF($V$2=\"\",\"\",SEARCH($V$2,$A75&\"\"&#REF!&\"\"&$D75&\"\"&$F75&\"\"&$I75&\"\"&$J75&\"\"&$K75))","v":""},{"$f":"IF($X$2=\"\",\"\",SEARCH($X$2,$A75&\" \"&#REF!&\" \"&$D75&\" \"&$F75&\" \"&$I75&\" \"&$J75&\" \"&$K75&\" \"&$O75&\" \"&$Q75&\" \"&$S75&\" \"&$U75&\" \"&$V75&\" \"&$W75&\" \"&$X75))","v":""},{"$error":"#VALUE!"}]
[71,{"$f":"IF(C76=\"\",\"\",MAX($B$5:B75)+1)","v":71},"مراد 71","فريدة71","أولى","جذع مشترك علوم وتكنولوجيا",1,"1ع1","12/2/2070","البياضة","ذ","محمد علي71","حي الإزدهار - البياضة","2018-06-21","2018-04-23",71,"2018-05-21",75,"2019-03-17",78,null,null,null,null,null,{"$f":"IF($V$2=\"\",\"\",SEARCH($V$2,$A76&\"\"&#REF!&\"\"&$D76&\"\"&$F76&\"\"&$I76&\"\"&$J76&\"\"&$K76))","v":""},{"$f":"IF($X$2=\"\",\"\",SEARCH($X$2,$A76&\" \"&#REF!&\" \"&$D76&\" \"&$F76&\" \"&$I76&\" \"&$J76&\" \"&$K76&\" \"&$O76&\" \"&$Q76&\" \"&$S76&\" \"&$U76&\" \"&$V76&\" \"&$W76&\" \"&$X76))","v":""},{"$error":"#VALUE!"}]
[72,{"$f":"IF(C77=\"\",\"\",MAX($B$5:B76)+1)","v":72},"مراد 72","فريدة72","أولى","جذع مشترك علوم وتكنولوجيا",1,"1ع1","12/2/2071","البياضة","ذ","محمد علي72","حي السلام -البياضة","2018-06-22","2018-04-24",72,"2018-05-22",76,"2019-03-18",79,null,null,null,null,null,{"$f":"IF($V$2=\"\",\"\",SEARCH($V$2,$A77&\"\"&#REF!&\"\"&$D77&\"\"&$F77&\"\"&$I77&\"\"&$J77&\"\"&$K77))","v":""},{"$f":"IF($X$2=\"\",\"\",SEARCH($X$2,$A77&\" \"&#REF!&\" \"&$D77&\" \"&$F77&\" \"&$I77&\" \"&$J77&\" \"&$K77&\" \"&$O77&\" \"&$Q77&\" \"&$S77&\" \"&$U77&\" \"&$V77&\" \"&$W77&\" \"&$X77))","v":""},{"$error":"#VALUE!"}]
[73,{"$f":"IF(C78=\"\",\"\",MAX($B$5:B77)+1)","v":73},"مراد 73","فريدة73","أولى","جذع مشترك علوم وتكنولوجيا",1,"1ع1","12/2/2072","البياضة","ذ","محمد علي73","حي الإزدهار - البياضة",null,"2018-04-25",73,"2018-05-23",77,"2019-03-19",80,null,null,null,null,null,{"$f":"IF($V$2=\"\",\"\",SEARCH($V$2,$A78&\"\"&#REF!&\"\"&$D78&\"\"&$F78&\"\"&$I78&\"\"&$J78&\"\"&$K78))","v":""},{"$f":"IF($X$2=\"\",\"\",SEARCH($X$2,$A78&\" \"&#REF!&\" \"&$D78&\" \"&$F78&\" \"&$I78&\" \"&$J78&\" \"&$K78&\" \"&$O78&\" \"&$Q78&\" \"&$S78&\" \"&$U78&\" \"&$V78&\" \"&$W78&\" \"&$X78))","v":""},{"$error":"#VALUE!"}]
[74,{"$f":"IF(C79=\"\",\"\",MAX($B$5:B78)+1)","v":74},"مراد 74","فريدة74","أولى","جذع مشترك علوم وتكنولوجيا",1,"1ع1","12/2/2073","البياضة","ذ","محمد علي74","حي السلام -البياضة",null,"2018-04-26",74,"2018-05-24",78,"2019-03-20",81,null,null,null,null,null,{"$f":"IF($V$2=\"\",\"\",SEARCH($V$2,$A79&\"\"&#REF!&\"\"&$D79&\"\"&$F79&\"\"&$I79&\"\"&$J79&\"\"&$K79))","v":""},{"$f":"IF($X$2=\"\",\"\",SEARCH($X$2,$A79&\" \"&#REF!&\" \"&$D79&\" \"&$F79&\" \"&$I79&\" \"&$J79&\" \"&$K79&\" \"&$O79&\" \"&$Q79&\" \"&$S79&\" \"&$U79&\" \"&$V79&\" \"&$W79&\" \"&$X79))","v":""},{"$error":"#VALUE!"}]
[75,{"$f":"IF(C80=\"\",\"\",MAX($B$5:B79)+1)","v":75},"مراد 75","فريدة75","أولى","جذع مشترك علوم وتكنولوجيا",1,"1ع1","12/2/2074","الرباح","ذ","محمد علي75","حي الإزدهار - البياضة",null,"2018-04-27",75,"2018-05-25",79,"2019-03-21",82,null,null,null,null,null,{"$f":"IF($V$2=\"\",\"\",SEARCH($V$2,$A80&\"\"&#REF!&\"\"&$D80&\"\"&$F80&\"\"&$I80&\"\"&$J80&\"\"&$K80))","v":""},{"$f":"IF($X$2=\"\",\"\",SEARCH($X$2,$A80&\" \"&#REF!&\" \"&$D80&\" \"&$F80&\" \"&$I80&\" \"&$J80&\" \"&$K80&\" \"&$O80&\" \"&$Q80&\" \"&$S80&\" \"&$U80&\" \"&$V80&\" \"&$W80&\" \"&$X80))","v":""},{"$error":"#VALUE!"}]
[76,{"$f":"IF(C81=\"\",\"\",MAX($B$5:B80)+1)","v":76},"مراد 76","فريدة76","أولى","جذع مشترك علوم وتكنولوجيا",1,"1ع1","12/2/2075","البياضة","ذ","محمد علي76","حي السلام -البياضة",null,"2018-04-28",76,"2018-05-26",80,"2019-03-22",83,null,null,null,null,null,{"$f":"IF($V$2=\"\",\"\",SEARCH($V$2,$A81&\"\"&#REF!&\"\"&$D81&\"\"&$F81&\"\"&$I81&\"\"&$J81&\"\"&$K81))","v":""},{"$f":"IF($X$2=\"\",\"\",SEARCH($X$2,$A81&\" \"&#REF!&\" \"&$D81&\" \"&$F81&\" \"&$I81&\" \"&$J81&\" \"&$K81&\" \"&$O81&\" \"&$Q81&\" \"&$S81&\" \"&$U81&\" \"&$V81&\" \"&$W81&\" \"&$X81))","v":""},{"$error":"#VALUE!"}]
[77,{"$f":"IF(C82=\"\",\"\",MAX($B$5:B81)+1)","v":77},"مراد 77","فريدة77","أولى","جذع مشترك علوم وتكنولوجيا",1,"1ع1","12/2/2076","الرباح","ذ","محمد علي77","حي الإزدهار - البياضة",null,"2018-04-29",77,"2018-05-27",81,"2019-03-23",84,null,null,null,null,null,{"$f":"IF($V$2=\"\",\"\",SEARCH($V$2,$A82&\"\"&#REF!&\"\"&$D82&\"\"&$F82&\"\"&$I82&\"\"&$J82&\"\"&$K82))","v":""},{"$f":"IF($X$2=\"\",\"\",SEARCH($X$2,$A82&\" \"&#REF!&\" \"&$D82&\" \"&$F82&\" \"&$I82&\" \"&$J82&\" \"&$K82&\" \"&$O82&\" \"&$Q82&\" \"&$S82&\" \"&$U82&\" \"&$V82&\" \"&$W82&\" \"&$X82))","v":""},{"$error":"#VALUE!"}]
[78,{"$f":"IF(C83=\"\",\"\",MAX($B$5:B82)+1)","v":78},"مراد 78","فريدة78","أولى","جذع مشترك علوم وتكنولوجيا",1,"1ع1","12/2/2077","الرباح","ذ","محمد علي78","حي السلام -البياضة",null,"2018-04-30",78,"2018-05-28",82,"2019-03-24",85,null,null,null,null,null,{"$f":"IF($V$2=\"\",\"\",SEARCH($V$2,$A83&\"\"&#REF!&\"\"&$D83&\"\"&$F83&\"\"&$I83&\"\"&$J83&\"\"&$K83))","v":""},{"$f":"IF($X$2=\"\",\"\",SEARCH($X$2,$A83&\" \"&#REF!&\" \"&$D83&\" \"&$F83&\" \"&$I83&\" \"&$J83&\" \"&$K83&\" \"&$O83&\" \"&$Q83&\" \"&$S83&\" \"&$U83&\" \"&$V83&\" \"&$W83&\" \"&$X83))","v":""},{"$error":"#VALUE!"}]
[79,{"$f":"IF(C84=\"\",\"\",MAX($B$5:B83)+1)","v":79},"مراد 79","فريدة79","أولى","جذع مشترك علوم وتكنولوجيا",1,"1ع1","12/2/2078","الوادي","ذ","محمد علي79","حي الإزدهار - البياضة",null,"2018-05-01",79,"2018-05-29",83,"2019-03-25",86,null,null,null,null,null,{"$f":"IF($V$2=\"\",\"\",SEARCH($V$2,$A84&\"\"&#REF!&\"\"&$D84&\"\"&$F84&\"\"&$I84&\"\"&$J84&\"\"&$K84))","v":""},{"$f":"IF($X$2=\"\",\"\",SEARCH($X$2,$A84&\" \"&#REF!&\" \"&$D84&\" \"&$F84&\" \"&$I84&\" \"&$J84&\" \"&$K84&\" \"&$O84&\" \"&$Q84&\" \"&$S84&\" \"&$U84&\" \"&$V84&\" \"&$W84&\" \"&$X84))","v":""},59]
[80,{"$f":"IF(C85=\"\",\"\",MAX($B$5:B84)+1)","v":80},"مراد 80","فريدة80","أولى","جذع مشترك علوم وتكنولوجيا",1,"1ع1","12/2/2079","الوادي","ذ","محمد علي80","حي السلام -البياضة",null,"2018-05-02",80,"2018-05-30",84,"2019-03-26",87,null,null,null,null,null,{"$f":"IF($V$2=\"\",\"\",SEARCH($V$2,$A85&\"\"&#REF!&\"\"&$D85&\"\"&$F85&\"\"&$I85&\"\"&$J85&\"\"&$K85))","v":""},{"$f":"IF($X$2=\"\",\"\",SEARCH($X$2,$A85&\" \"&#REF!&\" \"&$D85&\" \"&$F85&\" \"&$I85&\" \"&$J85&\" \"&$K85&\" \"&$O85&\" \"&$Q85&\" \"&$S85&\" \"&$U85&\" \"&$V85&\" \"&$W85&\" \"&$X85))","v":""},59]
[81,{"$f":"IF(C86=\"\",\"\",MAX($B$5:B85)+1)","v":81},"مراد 81","فريدة81","أولى","جذع مشترك علوم وتكنولوجيا",1,"1ع1","12/2/2080","البياضة","ذ","محمد علي81","حي الإزدهار - البياضة",null,"2018-05-03",81,"2018-05-31",85,"2019-03-27",88,null,null,null,null,null,{"$f":"IF($V$2=\"\",\"\",SEARCH($V$2,$A86&\"\"&#REF!&\"\"&$D86&\"\"&$F86&\"\"&$I86&\"\"&$J86&\"\"&$K86))","v":""},{"$f":"IF($X$2=\"\",\"\",SEARCH($X$2,$A86&\" \"&#REF!&\" \"&$D86&\" \"&$F86&\" \"&$I86&\" \"&$J86&\" \"&$K86&\" \"&$O86&\" \"&$Q86&\" \"&$S86&\" \"&$U86&\" \"&$V86&\" \"&$W86&\" \"&$X86))","v":""},{"$error":"#VALUE!"}]
[82,{"$f":"IF(C87=\"\",\"\",MAX($B$5:B86)+1)","v":82},"مراد 82","فريدة82","أولى","جذع مشترك علوم وتكنولوجيا",1,"1ع1","12/2/2081","الوادي","ذ","محمد علي82","حي السلام -البياضة",null,"2018-05-04",82,"2018-06-01",86,"2019-03-28",89,null,null,null,null,null,{"$f":"IF($V$2=\"\",\"\",SEARCH($V$2,$A87&\"\"&#REF!&\"\"&$D87&\"\"&$F87&\"\"&$I87&\"\"&$J87&\"\"&$K87))","v":""},{"$f":"IF($X$2=\"\",\"\",SEARCH($X$2,$A87&\" \"&#REF!&\" \"&$D87&\" \"&$F87&\" \"&$I87&\" \"&$J87&\" \"&$K87&\" \"&$O87&\" \"&$Q87&\" \"&$S87&\" \"&$U87&\" \"&$V87&\" \"&$W87&\" \"&$X87))","v":""},59]
[83,{"$f":"IF(C88=\"\",\"\",MAX($B$5:B87)+1)","v":83},"مراد 83","فريدة83","أولى","جذع مشترك علوم وتكنولوجيا",1,"1ع1","12/2/2082","الوادي","ذ","محمد علي83","حي الإزدهار - البياضة",null,"2018-05-05",83,"2018-06-02",87,"2019-03-29",90,null,null,null,null,null,{"$f":"IF($V$2=\"\",\"\",SEARCH($V$2,$A88&\"\"&#REF!&\"\"&$D88&\"\"&$F88&\"\"&$I88&\"\"&$J88&\"\"&$K88))","v":""},{"$f":"IF($X$2=\"\",\"\",SEARCH($X$2,$A88&\" \"&#REF!&\" \"&$D88&\" \"&$F88&\" \"&$I88&\" \"&$J88&\" \"&$K88&\" \"&$O88&\" \"&$Q88&\" \"&$S88&\" \"&$U88&\" \"&$V88&\" \"&$W88&\" \"&$X88))","v":""},59]
[84,{"$f":"IF(C89=\"\",\"\",MAX($B$5:B88)+1)","v":84},"مراد 84","فريدة84","أولى","جذع مشترك علوم وتكنولوجيا",1,"1ع1","12/2/2083","الوادي","ذ","محمد علي84","حي السلام -البياضة",null,"2018-05-06",84,"2018-06-03",88,"2019-03-30",91,null,null,null,null,null,{"$f":"IF($V$2=\"\",\"\",SEARCH($V$2,$A89&\"\"&#REF!&\"\"&$D89&\"\"&$F89&\"\"&$I89&\"\"&$J89&\"\"&$K89))","v":""},{"$f":"IF($X$2=\"\",\"\",SEARCH($X$2,$A89&\" \"&#REF!&\" \"&$D89&\" \"&$F89&\" \"&$I89&\" \"&$J89&\" \"&$K89&\" \"&$O89&\" \"&$Q89&\" \"&$S89&\" \"&$U89&\" \"&$V89&\" \"&$W89&\" \"&$X89))","v":""},59]
[85,{"$f":"IF(C90=\"\",\"\",MAX($B$5:B89)+1)","v":85},"مراد 85","فريدة85","أولى","جذع مشترك علوم وتكنولوجيا",1,"1ع1","12/2/2084","الوادي","ذ","محمد علي85","حي الإزدهار - البياضة",null,"2018-05-07",85,"2018-06-04",89,"2019-03-31",92,null,null,null,null,null,{"$f":"IF($V$2=\"\",\"\",SEARCH($V$2,$A90&\"\"&#REF!&\"\"&$D90&\"\"&$F90&\"\"&$I90&\"\"&$J90&\"\"&$K90))","v":""},{"$f":"IF($X$2=\"\",\"\",SEARCH($X$2,$A90&\" \"&#REF!&\" \"&$D90&\" \"&$F90&\" \"&$I90&\" \"&$J90&\" \"&$K90&\" \"&$O90&\" \"&$Q90&\" \"&$S90&\" \"&$U90&\" \"&$V90&\" \"&$W90&\" \"&$X90))","v":""},59]
[86,{"$f":"IF(C91=\"\",\"\",MAX($B$5:B90)+1)","v":86},"مراد 86","فريدة86","أولى","جذع مشترك علوم وتكنولوجيا",1,"1ع1","12/2/2085","البياضة","ذ","محمد علي86","حي السلام -البياضة",null,"2018-05-08",86,"2018-06-05",90,"2019-04-01",93,null,null,null,null,null,{"$f":"IF($V$2=\"\",\"\",SEARCH($V$2,$A91&\"\"&#REF!&\"\"&$D91&\"\"&$F91&\"\"&$I91&\"\"&$J91&\"\"&$K91))","v":""},{"$f":"IF($X$2=\"\",\"\",SEARCH($X$2,$A91&\" \"&#REF!&\" \"&$D91&\" \"&$F91&\" \"&$I91&\" \"&$J91&\" \"&$K91&\" \"&$O91&\" \"&$Q91&\" \"&$S91&\" \"&$U91&\" \"&$V91&\" \"&$W91&\" \"&$X91))","v":""},{"$error":"#VALUE!"}]
[87,{"$f":"IF(C92=\"\",\"\",MAX($B$5:B91)+1)","v":87},"مراد 87","فريدة87","أولى","جذع مشترك علوم وتكنولوجيا",1,"1ع1","12/2/2086","البياضة","ذ","محمد علي87","حي الإزدهار - البياضة",null,"2018-05-09",87,"2018-06-06",91,"2019-04-02",94,null,null,null,null,null,{"$f":"IF($V$2=\"\",\"\",SEARCH($V$2,$A92&\"\"&#REF!&\"\"&$D92&\"\"&$F92&\"\"&$I92&\"\"&$J92&\"\"&$K92))","v":""},{"$f":"IF($X$2=\"\",\"\",SEARCH($X$2,$A92&\" \"&#REF!&\" \"&$D92&\" \"&$F92&\" \"&$I92&\" \"&$J92&\" \"&$K92&\" \"&$O92&\" \"&$Q92&\" \"&$S92&\" \"&$U92&\" \"&$V92&\" \"&$W92&\" \"&$X92))","v":""},{"$error":"#VALUE!"}]
[88,{"$f":"IF(C93=\"\",\"\",MAX($B$5:B92)+1)","v":88},"مراد 88","فريدة88","أولى","جذع مشترك علوم وتكنولوجيا",1,"1ع1","12/2/2087","البياضة","ذ","محمد علي88","حي السلام -البياضة",null,"2018-05-10",88,"2018-06-07",92,"2019-04-03",95,null,null,null,null,null,{"$f":"IF($V$2=\"\",\"\",SEARCH($V$2,$A93&\"\"&#REF!&\"\"&$D93&\"\"&$F93&\"\"&$I93&\"\"&$J93&\"\"&$K93))","v":""},{"$f":"IF($X$2=\"\",\"\",SEARCH($X$2,$A93&\" \"&#REF!&\" \"&$D93&\" \"&$F93&\" \"&$I93&\" \"&$J93&\" \"&$K93&\" \"&$O93&\" \"&$Q93&\" \"&$S93&\" \"&$U93&\" \"&$V93&\" \"&$W93&\" \"&$X93))","v":""},{"$error":"#VALUE!"}]
[89,{"$f":"IF(C94=\"\",\"\",MAX($B$5:B93)+1)","v":89},"مراد 89","فريدة89","أولى","جذع مشترك علوم وتكنولوجيا",1,"1ع1","12/2/2088","البياضة","ذ","محمد علي89","حي الإزدهار - البياضة",null,"2018-05-11",89,"2018-06-08",93,"2019-04-04",96,null,null,null,null,null,{"$f":"IF($V$2=\"\",\"\",SEARCH($V$2,$A94&\"\"&#REF!&\"\"&$D94&\"\"&$F94&\"\"&$I94&\"\"&$J94&\"\"&$K94))","v":""},{"$f":"IF($X$2=\"\",\"\",SEARCH($X$2,$A94&\" \"&#REF!&\" \"&$D94&\" \"&$F94&\" \"&$I94&\" \"&$J94&\" \"&$K94&\" \"&$O94&\" \"&$Q94&\" \"&$S94&\" \"&$U94&\" \"&$V94&\" \"&$W94&\" \"&$X94))","v":""},{"$error":"#VALUE!"}]
[90,{"$f":"IF(C95=\"\",\"\",MAX($B$5:B94)+1)","v":90},"مراد 90","فريدة90","أولى","جذع مشترك علوم وتكنولوجيا",1,"1ع1","12/2/2089","البياضة","ذ","محمد علي90","حي السلام -البياضة",null,"2018-05-12",90,"2018-06-09",94,"2019-04-05",97,null,null,null,null,null,{"$f":"IF($V$2=\"\",\"\",SEARCH($V$2,$A95&\"\"&#REF!&\"\"&$D95&\"\"&$F95&\"\"&$I95&\"\"&$J95&\"\"&$K95))","v":""},{"$f":"IF($X$2=\"\",\"\",SEARCH($X$2,$A95&\" \"&#REF!&\" \"&$D95&\" \"&$F95&\" \"&$I95&\" \"&$J95&\" \"&$K95&\" \"&$O95&\" \"&$Q95&\" \"&$S95&\" \"&$U95&\" \"&$V95&\" \"&$W95&\" \"&$X95))","v":""},{"$error":"#VALUE!"}]
[91,{"$f":"IF(C96=\"\",\"\",MAX($B$5:B95)+1)","v":91},"مراد 91","فريدة91","أولى","جذع مشترك علوم وتكنولوجيا",1,"1ع1","12/2/2090","البياضة","ذ","محمد علي91","حي الإزدهار - البياضة",null,"2018-05-13",91,"2018-06-10",95,"2019-04-06",98,null,null,null,null,null,{"$f":"IF($V$2=\"\",\"\",SEARCH($V$2,$A96&\"\"&#REF!&\"\"&$D96&\"\"&$F96&\"\"&$I96&\"\"&$J96&\"\"&$K96))","v":""},{"$f":"IF($X$2=\"\",\"\",SEARCH($X$2,$A96&\" \"&#REF!&\" \"&$D96&\" \"&$F96&\" \"&$I96&\" \"&$J96&\" \"&$K96&\" \"&$O96&\" \"&$Q96&\" \"&$S96&\" \"&$U96&\" \"&$V96&\" \"&$W96&\" \"&$X96))","v":""},{"$error":"#VALUE!"}]
[92,{"$f":"IF(C97=\"\",\"\",MAX($B$5:B96)+1)","v":92},"مراد 92","فريدة92","أولى","جذع مشترك علوم وتكنولوجيا",1,"1ع1","12/2/2091","البياضة","ذ","محمد علي92","حي السلام -البياضة",null,"2018-05-14",92,"2018-06-11",96,"2019-04-07",99,null,null,null,null,null,{"$f":"IF($V$2=\"\",\"\",SEARCH($V$2,$A97&\"\"&#REF!&\"\"&$D97&\"\"&$F97&\"\"&$I97&\"\"&$J97&\"\"&$K97))","v":""},{"$f":"IF($X$2=\"\",\"\",SEARCH($X$2,$A97&\" \"&#REF!&\" \"&$D97&\" \"&$F97&\" \"&$I97&\" \"&$J97&\" \"&$K97&\" \"&$O97&\" \"&$Q97&\" \"&$S97&\" \"&$U97&\" \"&$V97&\" \"&$W97&\" \"&$X97))","v":""},{"$error":"#VALUE!"}]
[93,{"$f":"IF(C98=\"\",\"\",MAX($B$5:B97)+1)","v":93},"مراد 93","فريدة93","أولى","جذع مشترك علوم وتكنولوجيا",1,"1ع1","12/2/2092","البياضة","ذ","محمد علي93","حي الإزدهار - البياضة",null,"2018-05-15",93,"2018-06-12",97,"2019-04-08",100,null,null,null,null,null,{"$f":"IF($V$2=\"\",\"\",SEARCH($V$2,$A98&\"\"&#REF!&\"\"&$D98&\"\"&$F98&\"\"&$I98&\"\"&$J98&\"\"&$K98))","v":""},{"$f":"IF($X$2=\"\",\"\",SEARCH($X$2,$A98&\" \"&#REF!&\" \"&$D98&\" \"&$F98&\" \"&$I98&\" \"&$J98&\" \"&$K98&\" \"&$O98&\" \"&$Q98&\" \"&$S98&\" \"&$U98&\" \"&$V98&\" \"&$W98&\" \"&$X98))","v":""},{"$error":"#VALUE!"}]
[94,{"$f":"IF(C99=\"\",\"\",MAX($B$5:B98)+1)","v":94},"مراد 94","فريدة94","أولى","جذع مشترك علوم وتكنولوجيا",1,"1ع1","12/2/2093","أن مناس","ذ","محمد علي94","حي السلام -البياضة",null,"2018-05-16",94,"2018-06-13",98,"2019-04-09",101,null,null,null,null,null,{"$f":"IF($V$2=\"\",\"\",SEARCH($V$2,$A99&\"\"&#REF!&\"\"&$D99&\"\"&$F99&\"\"&$I99&\"\"&$J99&\"\"&$K99))","v":""},{"$f":"IF($X$2=\"\",\"\",SEARCH($X$2,$A99&\" \"&#REF!&\" \"&$D99&\" \"&$F99&\" \"&$I99&\" \"&$J99&\" \"&$K99&\" \"&$O99&\" \"&$Q99&\" \"&$S99&\" \"&$U99&\" \"&$V99&\" \"&$W99&\" \"&$X99))","v":""},{"$error":"#VALUE!"}]
[95,{"$f":"IF(C100=\"\",\"\",MAX($B$5:B99)+1)","v":95},"مراد 95","فريدة95","أولى","جذع مشترك علوم وتكنولوجيا",1,"1ع1","12/2/2094","البياضة","ذ","محمد علي95","حي الإزدهار - البياضة",null,"2018-05-17",95,"2018-06-14",99,"2019-04-10",102,null,null,null,null,null,{"$f":"IF($V$2=\"\",\"\",SEARCH($V$2,$A100&\"\"&#REF!&\"\"&$D100&\"\"&$F100&\"\"&$I100&\"\"&$J100&\"\"&$K100))","v":""},{"$f":"IF($X$2=\"\",\"\",SEARCH($X$2,$A100&\" \"&#REF!&\" \"&$D100&\" \"&$F100&\" \"&$I100&\" \"&$J100&\" \"&$K100&\" \"&$O100&\" \"&$Q100&\" \"&$S100&\" \"&$U100&\" \"&$V100&\" \"&$W100&\" \"&$X100))","v":""},{"$error":"#VALUE!"}]
[96,{"$f":"IF(C101=\"\",\"\",MAX($B$5:B100)+1)","v":96},"مراد 96","فريدة96","أولى","جذع مشترك علوم وتكنولوجيا",2,"1ع2","12/2/2095","البياضة","ذ","محمد علي96","حي السلام -البياضة",null,"2018-05-18",96,"2018-06-15",100,"2019-04-11",103,null,null,null,null,null,{"$f":"IF($V$2=\"\",\"\",SEARCH($V$2,$A101&\"\"&#REF!&\"\"&$D101&\"\"&$F101&\"\"&$I101&\"\"&$J101&\"\"&$K101))","v":""},{"$f":"IF($X$2=\"\",\"\",SEARCH($X$2,$A101&\" \"&#REF!&\" \"&$D101&\" \"&$F101&\" \"&$I101&\" \"&$J101&\" \"&$K101&\" \"&$O101&\" \"&$Q101&\" \"&$S101&\" \"&$U101&\" \"&$V101&\" \"&$W101&\" \"&$X101))","v":""},{"$error":"#VALUE!"}]
[97,{"$f":"IF(C102=\"\",\"\",MAX($B$5:B101)+1)","v":97},"مراد 97","فريدة97","أولى","جذع مشترك علوم وتكنولوجيا",2,"1ع2","12/2/2096","البياضة","ذ","محمد علي97","حي الإزدهار - البياضة",null,"2018-05-19",97,"2018-06-16",101,"2019-04-12",104,null,null,null,null,null,{"$f":"IF($V$2=\"\",\"\",SEARCH($V$2,$A102&\"\"&#REF!&\"\"&$D102&\"\"&$F102&\"\"&$I102&\"\"&$J102&\"\"&$K102))","v":""},{"$f":"IF($X$2=\"\",\"\",SEARCH($X$2,$A102&\" \"&#REF!&\" \"&$D102&\" \"&$F102&\" \"&$I102&\" \"&$J102&\" \"&$K102&\" \"&$O102&\" \"&$Q102&\" \"&$S102&\" \"&$U102&\" \"&$V102&\" \"&$W102&\" \"&$X102))","v":""},{"$error":"#VALUE!"}]
[98,{"$f":"IF(C103=\"\",\"\",MAX($B$5:B102)+1)","v":98},"مراد 98","فريدة98","أولى","جذع مشترك علوم وتكنولوجيا",2,"1ع2","12/2/2097","بسكرة","ذ","محمد علي98","حي السلام -البياضة",null,"2018-05-20",98,"2018-06-17",102,"2019-04-13",105,null,null,null,null,null,{"$f":"IF($V$2=\"\",\"\",SEARCH($V$2,$A103&\"\"&#REF!&\"\"&$D103&\"\"&$F103&\"\"&$I103&\"\"&$J103&\"\"&$K103))","v":""},{"$f":"IF($X$2=\"\",\"\",SEARCH($X$2,$A103&\" \"&#REF!&\" \"&$D103&\" \"&$F103&\" \"&$I103&\" \"&$J103&\" \"&$K103&\" \"&$O103&\" \"&$Q103&\" \"&$S103&\" \"&$U103&\" \"&$V103&\" \"&$W103&\" \"&$X103))","v":""},{"$error":"#VALUE!"}]
[99,{"$f":"IF(C104=\"\",\"\",MAX($B$5:B103)+1)","v":99},"مراد 99","فريدة99","أولى","جذع مشترك علوم وتكنولوجيا",2,"1ع2","12/2/2098","البياضة","ذ","محمد علي99","حي الإزدهار - البياضة",null,"2018-05-21",99,"2018-06-18",103,"2019-04-14",106,null,null,null,null,null,{"$f":"IF($V$2=\"\",\"\",SEARCH($V$2,$A104&\"\"&#REF!&\"\"&$D104&\"\"&$F104&\"\"&$I104&\"\"&$J104&\"\"&$K104))","v":""},{"$f":"IF($X$2=\"\",\"\",SEARCH($X$2,$A104&\" \"&#REF!&\" \"&$D104&\" \"&$F104&\" \"&$I104&\" \"&$J104&\" \"&$K104&\" \"&$O104&\" \"&$Q104&\" \"&$S104&\" \"&$U104&\" \"&$V104&\" \"&$W104&\" \"&$X104))","v":""},{"$error":"#VALUE!"}]
[100,{"$f":"IF(C105=\"\",\"\",MAX($B$5:B104)+1)","v":100},"مراد 100","فريدة100","أولى","جذع مشترك علوم وتكنولوجيا",2,"1ع2","12/2/2099","البياضة","ذ","محمد علي100","حي السلام -البياضة",null,"2018-05-22",100,"2018-06-19",104,"2019-04-15",107,null,null,null,null,null,{"$f":"IF($V$2=\"\",\"\",SEARCH($V$2,$A105&\"\"&#REF!&\"\"&$D105&\"\"&$F105&\"\"&$I105&\"\"&$J105&\"\"&$K105))","v":""},{"$f":"IF($X$2=\"\",\"\",SEARCH($X$2,$A105&\" \"&#REF!&\" \"&$D105&\" \"&$F105&\" \"&$I105&\" \"&$J105&\" \"&$K105&\" \"&$O105&\" \"&$Q105&\" \"&$S105&\" \"&$U105&\" \"&$V105&\" \"&$W105&\" \"&$X105))","v":""},{"$error":"#VALUE!"}]
[101,{"$f":"IF(C106=\"\",\"\",MAX($B$5:B105)+1)","v":101},"مراد 101","فريدة101","أولى","جذع مشترك علوم وتكنولوجيا",2,"1ع2","12/2/2100","البياضة","ذ","محمد علي101","حي الإزدهار - البياضة",null,"2018-05-23",101,"2018-06-20",105,"2019-04-16",108,null,null,null,null,null,{"$f":"IF($V$2=\"\",\"\",SEARCH($V$2,$A106&\"\"&#REF!&\"\"&$D106&\"\"&$F106&\"\"&$I106&\"\"&$J106&\"\"&$K106))","v":""},{"$f":"IF($X$2=\"\",\"\",SEARCH($X$2,$A106&\" \"&#REF!&\" \"&$D106&\" \"&$F106&\" \"&$I106&\" \"&$J106&\" \"&$K106&\" \"&$O106&\" \"&$Q106&\" \"&$S106&\" \"&$U106&\" \"&$V106&\" \"&$W106&\" \"&$X106))","v":""},{"$error":"#VALUE!"}]
[102,{"$f":"IF(C107=\"\",\"\",MAX($B$5:B106)+1)","v":102},"مراد 102","فريدة102","أولى","جذع مشترك علوم وتكنولوجيا",2,"1ع2","12/2/2101","البياضة","ذ","محمد علي102","حي السلام -البياضة",null,"2018-05-24",102,"2018-06-21",106,"2019-04-17",109,null,null,null,null,null,{"$f":"IF($V$2=\"\",\"\",SEARCH($V$2,$A107&\"\"&#REF!&\"\"&$D107&\"\"&$F107&\"\"&$I107&\"\"&$J107&\"\"&$K107))","v":""},{"$f":"IF($X$2=\"\",\"\",SEARCH($X$2,$A107&\" \"&#REF!&\" \"&$D107&\" \"&$F107&\" \"&$I107&\" \"&$J107&\" \"&$K107&\" \"&$O107&\" \"&$Q107&\" \"&$S107&\" \"&$U107&\" \"&$V107&\" \"&$W107&\" \"&$X107))","v":""},{"$error":"#VALUE!"}]
[103,{"$f":"IF(C108=\"\",\"\",MAX($B$5:B107)+1)","v":103},"مراد 103","فريدة103","أولى","جذع مشترك علوم وتكنولوجيا",2,"1ع2","12/2/2102","الوادي","ذ","محمد علي103","حي الإزدهار - البياضة",null,"2018-05-25",103,"2018-06-22",107,"2019-04-18",110,null,null,null,null,null,{"$f":"IF($V$2=\"\",\"\",SEARCH($V$2,$A108&\"\"&#REF!&\"\"&$D108&\"\"&$F108&\"\"&$I108&\"\"&$J108&\"\"&$K108))","v":""},{"$f":"IF($X$2=\"\",\"\",SEARCH($X$2,$A108&\" \"&#REF!&\" \"&$D108&\" \"&$F108&\" \"&$I108&\" \"&$J108&\" \"&$K108&\" \"&$O108&\" \"&$Q108&\" \"&$S108&\" \"&$U108&\" \"&$V108&\" \"&$W108&\" \"&$X108))","v":""},61]
[104,{"$f":"IF(C109=\"\",\"\",MAX($B$5:B108)+1)","v":104},"مراد 104","فريدة104","أولى","جذع مشترك علوم وتكنولوجيا",2,"1ع2","12/2/2103","الوادي","ذ","محمد علي104","حي السلام -البياضة",null,"2018-05-26",104,"2018-06-23",108,"2019-04-19",111,null,null,null,null,null,{"$f":"IF($V$2=\"\",\"\",SEARCH($V$2,$A109&\"\"&#REF!&\"\"&$D109&\"\"&$F109&\"\"&$I109&\"\"&$J109&\"\"&$K109))","v":""},{"$f":"IF($X$2=\"\",\"\",SEARCH($X$2,$A109&\" \"&#REF!&\" \"&$D109&\" \"&$F109&\" \"&$I109&\" \"&$J109&\" \"&$K109&\" \"&$O109&\" \"&$Q109&\" \"&$S109&\" \"&$U109&\" \"&$V109&\" \"&$W109&\" \"&$X109))","v":""},61]
[105,{"$f":"IF(C110=\"\",\"\",MAX($B$5:B109)+1)","v":105},"مراد 105","فريدة105","أولى","جذع مشترك علوم وتكنولوجيا",2,"1ع2","12/2/2104","البياضة","ذ","محمد علي105","حي الإزدهار - البياضة",null,"2018-05-27",105,"2018-06-24",109,"2019-04-20",112,null,null,null,null,null,{"$f":"IF($V$2=\"\",\"\",SEARCH($V$2,$A110&\"\"&#REF!&\"\"&$D110&\"\"&$F110&\"\"&$I110&\"\"&$J110&\"\"&$K110))","v":""},{"$f":"IF($X$2=\"\",\"\",SEARCH($X$2,$A110&\" \"&#REF!&\" \"&$D110&\" \"&$F110&\" \"&$I110&\" \"&$J110&\" \"&$K110&\" \"&$O110&\" \"&$Q110&\" \"&$S110&\" \"&$U110&\" \"&$V110&\" \"&$W110&\" \"&$X110))","v":""},{"$error":"#VALUE!"}]
[106,{"$f":"IF(C111=\"\",\"\",MAX($B$5:B110)+1)","v":106},"مراد 106","فريدة106","أولى","جذع مشترك علوم وتكنولوجيا",2,"1ع2","12/2/2105","البياضة","ذ","محمد علي106","حي السلام -البياضة",null,"2018-05-28",106,"2018-06-25",110,"2019-04-21",113,null,null,null,null,null,{"$f":"IF($V$2=\"\",\"\",SEARCH($V$2,$A111&\"\"&#REF!&\"\"&$D111&\"\"&$F111&\"\"&$I111&\"\"&$J111&\"\"&$K111))","v":""},{"$f":"IF($X$2=\"\",\"\",SEARCH($X$2,$A111&\" \"&#REF!&\" \"&$D111&\" \"&$F111&\" \"&$I111&\" \"&$J111&\" \"&$K111&\" \"&$O111&\" \"&$Q111&\" \"&$S111&\" \"&$U111&\" \"&$V111&\" \"&$W111&\" \"&$X111))","v":""},{"$error":"#VALUE!"}]
[107,{"$f":"IF(C112=\"\",\"\",MAX($B$5:B111)+1)","v":107},"مراد 107","فريدة107","أولى","جذع مشترك علوم وتكنولوجيا",2,"1ع2","12/2/2106","البياضة","ذ","محمد علي107","حي الإزدهار - البياضة",null,"2018-05-29",107,"2018-06-26",111,"2019-04-22",114,null,null,null,null,null,{"$f":"IF($V$2=\"\",\"\",SEARCH($V$2,$A112&\"\"&#REF!&\"\"&$D112&\"\"&$F112&\"\"&$I112&\"\"&$J112&\"\"&$K112))","v":""},{"$f":"IF($X$2=\"\",\"\",SEARCH($X$2,$A112&\" \"&#REF!&\" \"&$D112&\" \"&$F112&\" \"&$I112&\" \"&$J112&\" \"&$K112&\" \"&$O112&\" \"&$Q112&\" \"&$S112&\" \"&$U112&\" \"&$V112&\" \"&$W112&\" \"&$X112))","v":""},{"$error":"#VALUE!"}]
[108,{"$f":"IF(C113=\"\",\"\",MAX($B$5:B112)+1)","v":108},"مراد 108","فريدة108","أولى","جذع مشترك علوم وتكنولوجيا",2,"1ع2","12/2/2107","البياضة","ذ","محمد علي108","حي السلام -البياضة",null,"2018-05-30",108,"2018-06-27",112,"2019-04-23",115,null,null,null,null,null,{"$f":"IF($V$2=\"\",\"\",SEARCH($V$2,$A113&\"\"&#REF!&\"\"&$D113&\"\"&$F113&\"\"&$I113&\"\"&$J113&\"\"&$K113))","v":""},{"$f":"IF($X$2=\"\",\"\",SEARCH($X$2,$A113&\" \"&#REF!&\" \"&$D113&\" \"&$F113&\" \"&$I113&\" \"&$J113&\" \"&$K113&\" \"&$O113&\" \"&$Q113&\" \"&$S113&\" \"&$U113&\" \"&$V113&\" \"&$W113&\" \"&$X113))","v":""},{"$error":"#VALUE!"}]
[109,{"$f":"IF(C114=\"\",\"\",MAX($B$5:B113)+1)","v":109},"مراد 109","فريدة109","أولى","جذع مشترك علوم وتكنولوجيا",2,"1ع2","12/2/2108","البياضة","ذ","محمد علي109","حي الإزدهار - البياضة",null,"2018-05-31",109,"2018-06-28",113,"2019-04-24",116,null,null,null,null,null,{"$f":"IF($V$2=\"\",\"\",SEARCH($V$2,$A114&\"\"&#REF!&\"\"&$D114&\"\"&$F114&\"\"&$I114&\"\"&$J114&\"\"&$K114))","v":""},{"$f":"IF($X$2=\"\",\"\",SEARCH($X$2,$A114&\" \"&#REF!&\" \"&$D114&\" \"&$F114&\" \"&$I114&\" \"&$J114&\" \"&$K114&\" \"&$O114&\" \"&$Q114&\" \"&$S114&\" \"&$U114&\" \"&$V114&\" \"&$W114&\" \"&$X114))","v":""},{"$error":"#VALUE!"}]
[110,{"$f":"IF(C115=\"\",\"\",MAX($B$5:B114)+1)","v":110},"مراد 110","فريدة110","أولى","جذع مشترك علوم وتكنولوجيا",2,"1ع2","12/2/2109","الوادي","ذ","محمد علي110","حي السلام -البياضة",null,"2018-06-01",110,"2018-06-29",114,"2019-04-25",117,null,null,null,null,null,{"$f":"IF($V$2=\"\",\"\",SEARCH($V$2,$A115&\"\"&#REF!&\"\"&$D115&\"\"&$F115&\"\"&$I115&\"\"&$J115&\"\"&$K115))","v":""},{"$f":"IF($X$2=\"\",\"\",SEARCH($X$2,$A115&\" \"&#REF!&\" \"&$D115&\" \"&$F115&\" \"&$I115&\" \"&$J115&\" \"&$K115&\" \"&$O115&\" \"&$Q115&\" \"&$S115&\" \"&$U115&\" \"&$V115&\" \"&$W115&\" \"&$X115))","v":""},61]
[111,{"$f":"IF(C116=\"\",\"\",MAX($B$5:B115)+1)","v":111},"مراد 111","فريدة111","أولى","جذع مشترك علوم وتكنولوجيا",2,"1ع2","12/2/2110","الواد","ذ","محمد علي111","حي الإزدهار - البياضة",null,"2018-06-02",111,"2018-06-30",115,"2019-04-26",118,null,null,null,null,null,{"$f":"IF($V$2=\"\",\"\",SEARCH($V$2,$A116&\"\"&#REF!&\"\"&$D116&\"\"&$F116&\"\"&$I116&\"\"&$J116&\"\"&$K116))","v":""},{"$f":"IF($X$2=\"\",\"\",SEARCH($X$2,$A116&\" \"&#REF!&\" \"&$D116&\" \"&$F116&\" \"&$I116&\" \"&$J116&\" \"&$K116&\" \"&$O116&\" \"&$Q116&\" \"&$S116&\" \"&$U116&\" \"&$V116&\" \"&$W116&\" \"&$X116))","v":""},{"$error":"#VALUE!"}]
[112,{"$f":"IF(C117=\"\",\"\",MAX($B$5:B116)+1)","v":112},"مراد 112","فريدة112","أولى","جذع مشترك علوم وتكنولوجيا",2,"1ع2","12/2/2111","البياضة","ذ","محمد علي112","حي السلام -البياضة",null,"2018-06-03",112,"2018-07-01",116,"2019-04-27",119,null,null,null,null,null,{"$f":"IF($V$2=\"\",\"\",SEARCH($V$2,$A117&\"\"&#REF!&\"\"&$D117&\"\"&$F117&\"\"&$I117&\"\"&$J117&\"\"&$K117))","v":""},{"$f":"IF($X$2=\"\",\"\",SEARCH($X$2,$A117&\" \"&#REF!&\" \"&$D117&\" \"&$F117&\" \"&$I117&\" \"&$J117&\" \"&$K117&\" \"&$O117&\" \"&$Q117&\" \"&$S117&\" \"&$U117&\" \"&$V117&\" \"&$W117&\" \"&$X117))","v":""},{"$error":"#VALUE!"}]
[113,{"$f":"IF(C118=\"\",\"\",MAX($B$5:B117)+1)","v":113},"مراد 113","فريدة113","أولى","جذع مشترك علوم وتكنولوجيا",2,"1ع2","12/2/2112","البياضة","ذ","محمد علي113","حي الإزدهار - البياضة",null,"2018-06-04",113,"2018-07-02",117,"2019-04-28",120,null,null,null,null,null,{"$f":"IF($V$2=\"\",\"\",SEARCH($V$2,$A118&\"\"&#REF!&\"\"&$D118&\"\"&$F118&\"\"&$I118&\"\"&$J118&\"\"&$K118))","v":""},{"$f":"IF($X$2=\"\",\"\",SEARCH($X$2,$A118&\" \"&#REF!&\" \"&$D118&\" \"&$F118&\" \"&$I118&\" \"&$J118&\" \"&$K118&\" \"&$O118&\" \"&$Q118&\" \"&$S118&\" \"&$U118&\" \"&$V118&\" \"&$W118&\" \"&$X118))","v":""},{"$error":"#VALUE!"}]
[114,{"$f":"IF(C119=\"\",\"\",MAX($B$5:B118)+1)","v":114},"مراد 114","فريدة114","أولى","جذع مشترك علوم وتكنولوجيا",2,"1ع2","12/2/2113","البياضة","ذ","محمد علي114","حي السلام -البياضة",null,"2018-06-05",114,"2018-07-03",118,"2019-04-29",121,null,null,null,null,null,{"$f":"IF($V$2=\"\",\"\",SEARCH($V$2,$A119&\"\"&#REF!&\"\"&$D119&\"\"&$F119&\"\"&$I119&\"\"&$J119&\"\"&$K119))","v":""},{"$f":"IF($X$2=\"\",\"\",SEARCH($X$2,$A119&\" \"&#REF!&\" \"&$D119&\" \"&$F119&\" \"&$I119&\" \"&$J119&\" \"&$K119&\" \"&$O119&\" \"&$Q119&\" \"&$S119&\" \"&$U119&\" \"&$V119&\" \"&$W119&\" \"&$X119))","v":""},{"$error":"#VALUE!"}]
[115,{"$f":"IF(C120=\"\",\"\",MAX($B$5:B119)+1)","v":115},"مراد 115","فريدة115","أولى","جذع مشترك علوم وتكنولوجيا",2,"1ع2","12/2/2114","البياضة","ذ","محمد علي115","حي الإزدهار - البياضة",null,"2018-06-06",115,"2018-07-04",119,"2019-04-30",122,null,null,null,null,null,{"$f":"IF($V$2=\"\",\"\",SEARCH($V$2,$A120&\"\"&#REF!&\"\"&$D120&\"\"&$F120&\"\"&$I120&\"\"&$J120&\"\"&$K120))","v":""},{"$f":"IF($X$2=\"\",\"\",SEARCH($X$2,$A120&\" \"&#REF!&\" \"&$D120&\" \"&$F120&\" \"&$I120&\" \"&$J120&\" \"&$K120&\" \"&$O120&\" \"&$Q120&\" \"&$S120&\" \"&$U120&\" \"&$V120&\" \"&$W120&\" \"&$X120))","v":""},{"$error":"#VALUE!"}]
[116,{"$f":"IF(C121=\"\",\"\",MAX($B$5:B120)+1)","v":116},"مراد 116","فريدة116","أولى","جذع مشترك علوم وتكنولوجيا",2,"1ع2","12/2/2115","البياضة","ذ","محمد علي116","حي السلام -البياضة",null,"2018-06-07",116,"2018-07-05",120,"2019-05-01",123,null,null,null,null,null,{"$f":"IF($V$2=\"\",\"\",SEARCH($V$2,$A121&\"\"&#REF!&\"\"&$D121&\"\"&$F121&\"\"&$I121&\"\"&$J121&\"\"&$K121))","v":""},{"$f":"IF($X$2=\"\",\"\",SEARCH($X$2,$A121&\" \"&#REF!&\" \"&$D121&\" \"&$F121&\" \"&$I121&\" \"&$J121&\" \"&$K121&\" \"&$O121&\" \"&$Q121&\" \"&$S121&\" \"&$U121&\" \"&$V121&\" \"&$W121&\" \"&$X121))","v":""},{"$error":"#VALUE!"}]
[117,{"$f":"IF(C122=\"\",\"\",MAX($B$5:B121)+1)","v":117},"مراد 117","فريدة117","أولى","جذع مشترك علوم وتكنولوجيا",2,"1ع2","12/2/2116","البياضة","ذ","محمد علي117","حي الإزدهار - البياضة",null,"2018-06-08",117,"2018-07-06",121,"2019-05-02",124,null,null,null,null,null,{"$f":"IF($V$2=\"\",\"\",SEARCH($V$2,$A122&\"\"&#REF!&\"\"&$D122&\"\"&$F122&\"\"&$I122&\"\"&$J122&\"\"&$K122))","v":""},{"$f":"IF($X$2=\"\",\"\",SEARCH($X$2,$A122&\" \"&#REF!&\" \"&$D122&\" \"&$F122&\" \"&$I122&\" \"&$J122&\" \"&$K122&\" \"&$O122&\" \"&$Q122&\" \"&$S122&\" \"&$U122&\" \"&$V122&\" \"&$W122&\" \"&$X122))","v":""},{"$error":"#VALUE!"}]
[118,{"$f":"IF(C123=\"\",\"\",MAX($B$5:B122)+1)","v":118},"مراد 118","فريدة118","أولى","جذع مشترك علوم وتكنولوجيا",2,"1ع2","12/2/2117","البياضة","ذ","محمد علي118","حي السلام -البياضة",null,"2018-06-09",118,"2018-07-07",122,"2019-05-03",125,null,null,null,null,null,{"$f":"IF($V$2=\"\",\"\",SEARCH($V$2,$A123&\"\"&#REF!&\"\"&$D123&\"\"&$F123&\"\"&$I123&\"\"&$J123&\"\"&$K123))","v":""},{"$f":"IF($X$2=\"\",\"\",SEARCH($X$2,$A123&\" \"&#REF!&\" \"&$D123&\" \"&$F123&\" \"&$I123&\" \"&$J123&\" \"&$K123&\" \"&$O123&\" \"&$Q123&\" \"&$S123&\" \"&$U123&\" \"&$V123&\" \"&$W123&\" \"&$X123))","v":""},{"$error":"#VALUE!"}]
[119,{"$f":"IF(C124=\"\",\"\",MAX($B$5:B123)+1)","v":119},"مراد 119","فريدة119","أولى","جذع مشترك علوم وتكنولوجيا",2,"1ع2","12/2/2118","البياضة","ذ","محمد علي119","حي الإزدهار - البياضة",null,"2018-06-10",119,"2018-07-08",123,"2019-05-04",126,null,null,null,null,null,{"$f":"IF($V$2=\"\",\"\",SEARCH($V$2,$A124&\"\"&#REF!&\"\"&$D124&\"\"&$F124&\"\"&$I124&\"\"&$J124&\"\"&$K124))","v":""},{"$f":"IF($X$2=\"\",\"\",SEARCH($X$2,$A124&\" \"&#REF!&\" \"&$D124&\" \"&$F124&\" \"&$I124&\" \"&$J124&\" \"&$K124&\" \"&$O124&\" \"&$Q124&\" \"&$S124&\" \"&$U124&\" \"&$V124&\" \"&$W124&\" \"&$X124))","v":""},{"$error":"#VALUE!"}]
[120,{"$f":"IF(C125=\"\",\"\",MAX($B$5:B124)+1)","v":120},"مراد 120","فريدة120","أولى","جذع مشترك علوم وتكنولوجيا",2,"1ع2","12/2/2119","البياضة","ذ","محمد علي120","حي السلام -البياضة",null,"2018-06-11",120,"2018-07-09",124,"2019-05-05",127,null,null,null,null,null,{"$f":"IF($V$2=\"\",\"\",SEARCH($V$2,$A125&\"\"&#REF!&\"\"&$D125&\"\"&$F125&\"\"&$I125&\"\"&$J125&\"\"&$K125))","v":""},{"$f":"IF($X$2=\"\",\"\",SEARCH($X$2,$A125&\" \"&#REF!&\" \"&$D125&\" \"&$F125&\" \"&$I125&\" \"&$J125&\" \"&$K125&\" \"&$O125&\" \"&$Q125&\" \"&$S125&\" \"&$U125&\" \"&$V125&\" \"&$W125&\" \"&$X125))","v":""},{"$error":"#VALUE!"}]
[121,{"$f":"IF(C126=\"\",\"\",MAX($B$5:B125)+1)","v":121},"مراد 121","فريدة121","أولى","جذع مشترك علوم وتكنولوجيا",2,"1ع2","12/2/2120","البياضة","ذ","محمد علي121","حي الإزدهار - البياضة",null,"2018-06-12",121,"2018-07-10",125,"2019-05-06",128,null,null,null,null,null,{"$f":"IF($V$2=\"\",\"\",SEARCH($V$2,$A126&\"\"&#REF!&\"\"&$D126&\"\"&$F126&\"\"&$I126&\"\"&$J126&\"\"&$K126))","v":""},{"$f":"IF($X$2=\"\",\"\",SEARCH($X$2,$A126&\" \"&#REF!&\" \"&$D126&\" \"&$F126&\" \"&$I126&\" \"&$J126&\" \"&$K126&\" \"&$O126&\" \"&$Q126&\" \"&$S126&\" \"&$U126&\" \"&$V126&\" \"&$W126&\" \"&$X126))","v":""},{"$error":"#VALUE!"}]
[122,{"$f":"IF(C127=\"\",\"\",MAX($B$5:B126)+1)","v":122},"مراد 122","فريدة122","أولى","جذع مشترك علوم وتكنولوجيا",2,"1ع2","12/2/2121","البياضة","ذ","محمد علي122","حي السلام -البياضة",null,"2018-06-13",122,"2018-07-11",126,"2019-05-07",129,null,null,null,null,null,{"$f":"IF($V$2=\"\",\"\",SEARCH($V$2,$A127&\"\"&#REF!&\"\"&$D127&\"\"&$F127&\"\"&$I127&\"\"&$J127&\"\"&$K127))","v":""},{"$f":"IF($X$2=\"\",\"\",SEARCH($X$2,$A127&\" \"&#REF!&\" \"&$D127&\" \"&$F127&\" \"&$I127&\" \"&$J127&\" \"&$K127&\" \"&$O127&\" \"&$Q127&\" \"&$S127&\" \"&$U127&\" \"&$V127&\" \"&$W127&\" \"&$X127))","v":""},{"$error":"#VALUE!"}]
[123,{"$f":"IF(C128=\"\",\"\",MAX($B$5:B127)+1)","v":123},"مراد 123","فريدة123","أولى","جذع مشترك علوم وتكنولوجيا",2,"1ع2","12/2/2122","الوادي","ذ","محمد علي123","حي الإزدهار - البياضة",null,"2018-06-14",123,"2018-07-12",127,"2019-05-08",130,null,null,null,null,null,{"$f":"IF($V$2=\"\",\"\",SEARCH($V$2,$A128&\"\"&#REF!&\"\"&$D128&\"\"&$F128&\"\"&$I128&\"\"&$J128&\"\"&$K128))","v":""},{"$f":"IF($X$2=\"\",\"\",SEARCH($X$2,$A128&\" \"&#REF!&\" \"&$D128&\" \"&$F128&\" \"&$I128&\" \"&$J128&\" \"&$K128&\" \"&$O128&\" \"&$Q128&\" \"&$S128&\" \"&$U128&\" \"&$V128&\" \"&$W128&\" \"&$X128))","v":""},61]
[124,{"$f":"IF(C129=\"\",\"\",MAX($B$5:B128)+1)","v":124},"مراد 124","فريدة124","أولى","جذع مشترك علوم وتكنولوجيا",2,"1ع2","12/2/2123","البياضة","ذ","محمد علي124","حي السلام -البياضة",null,"2018-06-15",124,"2018-07-13",128,"2019-05-09",131,null,null,null,null,null,{"$f":"IF($V$2=\"\",\"\",SEARCH($V$2,$A129&\"\"&#REF!&\"\"&$D129&\"\"&$F129&\"\"&$I129&\"\"&$J129&\"\"&$K129))","v":""},{"$f":"IF($X$2=\"\",\"\",SEARCH($X$2,$A129&\" \"&#REF!&\" \"&$D129&\" \"&$F129&\" \"&$I129&\" \"&$J129&\" \"&$K129&\" \"&$O129&\" \"&$Q129&\" \"&$S129&\" \"&$U129&\" \"&$V129&\" \"&$W129&\" \"&$X129))","v":""},{"$error":"#VALUE!"}]
[125,{"$f":"IF(C130=\"\",\"\",MAX($B$5:B129)+1)","v":125},"مراد 125","فريدة125","أولى","جذع مشترك علوم وتكنولوجيا",2,"1ع2","12/2/2124","البياضة","ذ","محمد علي125","حي الإزدهار - البياضة",null,"2018-06-16",125,"2018-07-14",129,"2019-05-10",132,null,null,null,null,null,{"$f":"IF($V$2=\"\",\"\",SEARCH($V$2,$A130&\"\"&#REF!&\"\"&$D130&\"\"&$F130&\"\"&$I130&\"\"&$J130&\"\"&$K130))","v":""},{"$f":"IF($X$2=\"\",\"\",SEARCH($X$2,$A130&\" \"&#REF!&\" \"&$D130&\" \"&$F130&\" \"&$I130&\" \"&$J130&\" \"&$K130&\" \"&$O130&\" \"&$Q130&\" \"&$S130&\" \"&$U130&\" \"&$V130&\" \"&$W130&\" \"&$X130))","v":""},{"$error":"#VALUE!"}]
[126,{"$f":"IF(C131=\"\",\"\",MAX($B$5:B130)+1)","v":126},"مراد 126","فريدة126","أولى","جذع مشترك علوم وتكنولوجيا",2,"1ع2","12/2/2125","البياضة","ذ","محمد علي126","حي السلام -البياضة",null,"2018-06-17",126,"2018-07-15",130,"2019-05-11",133,null,null,null,null,null,{"$f":"IF($V$2=\"\",\"\",SEARCH($V$2,$A131&\"\"&#REF!&\"\"&$D131&\"\"&$F131&\"\"&$I131&\"\"&$J131&\"\"&$K131))","v":""},{"$f":"IF($X$2=\"\",\"\",SEARCH($X$2,$A131&\" \"&#REF!&\" \"&$D131&\" \"&$F131&\" \"&$I131&\" \"&$J131&\" \"&$K131&\" \"&$O131&\" \"&$Q131&\" \"&$S131&\" \"&$U131&\" \"&$V131&\" \"&$W131&\" \"&$X131))","v":""},{"$error":"#VALUE!"}]
[127,{"$f":"IF(C132=\"\",\"\",MAX($B$5:B131)+1)","v":127},"مراد 127","فريدة127","أولى","جذع مشترك علوم وتكنولوجيا",2,"1ع2","12/2/2126","البياضة","ذ","محمد علي127","حي الإزدهار - البياضة",null,"2018-06-18",127,"2018-07-16",131,"2019-05-12",134,null,null,null,null,null,{"$f":"IF($V$2=\"\",\"\",SEARCH($V$2,$A132&\"\"&#REF!&\"\"&$D132&\"\"&$F132&\"\"&$I132&\"\"&$J132&\"\"&$K132))","v":""},{"$f":"IF($X$2=\"\",\"\",SEARCH($X$2,$A132&\" \"&#REF!&\" \"&$D132&\" \"&$F132&\" \"&$I132&\" \"&$J132&\" \"&$K132&\" \"&$O132&\" \"&$Q132&\" \"&$S132&\" \"&$U132&\" \"&$V132&\" \"&$W132&\" \"&$X132))","v":""},{"$error":"#VALUE!"}]
[128,{"$f":"IF(C133=\"\",\"\",MAX($B$5:B132)+1)","v":128},"مراد 128","فريدة128","أولى","جذع مشترك علوم وتكنولوجيا",2,"1ع2","12/2/2127","البياضة","ذ","محمد علي128","حي السلام -البياضة",null,"2018-06-19",128,"2018-07-17",132,"2019-05-13",135,null,null,null,null,null,{"$f":"IF($V$2=\"\",\"\",SEARCH($V$2,$A133&\"\"&#REF!&\"\"&$D133&\"\"&$F133&\"\"&$I133&\"\"&$J133&\"\"&$K133))","v":""},{"$f":"IF($X$2=\"\",\"\",SEARCH($X$2,$A133&\" \"&#REF!&\" \"&$D133&\" \"&$F133&\" \"&$I133&\" \"&$J133&\" \"&$K133&\" \"&$O133&\" \"&$Q133&\" \"&$S133&\" \"&$U133&\" \"&$V133&\" \"&$W133&\" \"&$X133))","v":""},{"$error":"#VALUE!"}]
[129,{"$f":"IF(C134=\"\",\"\",MAX($B$5:B133)+1)","v":129},"مراد 129","فريدة129","أولى","جذع مشترك علوم وتكنولوجيا",2,"1ع2","12/2/2128","البياضة","ذ","محمد علي129","حي الإزدهار - البياضة",null,"2018-06-20",129,"2018-07-18",133,"2019-05-14",136,null,null,null,null,null,{"$f":"IF($V$2=\"\",\"\",SEARCH($V$2,$A134&\"\"&#REF!&\"\"&$D134&\"\"&$F134&\"\"&$I134&\"\"&$J134&\"\"&$K134))","v":""},{"$f":"IF($X$2=\"\",\"\",SEARCH($X$2,$A134&\" \"&#REF!&\" \"&$D134&\" \"&$F134&\" \"&$I134&\" \"&$J134&\" \"&$K134&\" \"&$O134&\" \"&$Q134&\" \"&$S134&\" \"&$U134&\" \"&$V134&\" \"&$W134&\" \"&$X134))","v":""},{"$error":"#VALUE!"}]
[130,{"$f":"IF(C135=\"\",\"\",MAX($B$5:B134)+1)","v":130},"مراد 130","فريدة130","أولى","جذع مشترك علوم وتكنولوجيا",2,"1ع2","12/2/2129","البياضة","ذ","محمد علي130","حي السلام -البياضة",null,"2018-06-21",130,"2018-07-19",134,"2019-05-15",137,null,null,null,null,null,{"$f":"IF($V$2=\"\",\"\",SEARCH($V$2,$A135&\"\"&#REF!&\"\"&$D135&\"\"&$F135&\"\"&$I135&\"\"&$J135&\"\"&$K135))","v":""},{"$f":"IF($X$2=\"\",\"\",SEARCH($X$2,$A135&\" \"&#REF!&\" \"&$D135&\" \"&$F135&\" \"&$I135&\" \"&$J135&\" \"&$K135&\" \"&$O135&\" \"&$Q135&\" \"&$S135&\" \"&$U135&\" \"&$V135&\" \"&$W135&\" \"&$X135))","v":""},{"$f":"IF($L$2=\"\",\"\",SEARCH($L$2,$A135&\" \"&$D135&\" \"&$E135&\" \"&$F135&\" \"&$G135&\" \"&$H135&\" \"&$I135&\" \"&$J135&\" \"&$K135&\" \"&$L135&\" \"&$N135&\" \"&$O135&\" \"&$P135&\" \"&$Q135&\" \"&$R135&\" \"&$S135&\" \"&$T135&\" \"&$U135&\" \"&$V135&\" \"&$W135&\" \"&$X135))","v":{"$error":"#VALUE!"}}]
[131,{"$f":"IF(C136=\"\",\"\",MAX($B$5:B135)+1)","v":131},"مراد 131","فريدة131","أولى","جذع مشترك علوم وتكنولوجيا",2,"1ع2","12/2/2130","البياضة","ذ","محمد علي131","حي الإزدهار - البياضة",null,"2018-06-22",131,"2018-07-20",135,"2019-05-16",138,null,null,null,null,null,{"$f":"IF($V$2=\"\",\"\",SEARCH($V$2,$A136&\"\"&#REF!&\"\"&$D136&\"\"&$F136&\"\"&$I136&\"\"&$J136&\"\"&$K136))","v":""},{"$f":"IF($X$2=\"\",\"\",SEARCH($X$2,$A136&\" \"&#REF!&\" \"&$D136&\" \"&$F136&\" \"&$I136&\" \"&$J136&\" \"&$K136&\" \"&$O136&\" \"&$Q136&\" \"&$S136&\" \"&$U136&\" \"&$V136&\" \"&$W136&\" \"&$X136))","v":""},{"$error":"#VALUE!"}]
[132,{"$f":"IF(C137=\"\",\"\",MAX($B$5:B136)+1)","v":132},"مراد 132","فريدة132","أولى","جذع مشترك علوم وتكنولوجيا",2,"1ع2","12/2/2131","البياضة","ذ","محمد علي132","حي السلام -البياضة",null,"2018-06-23",132,"2018-07-21",136,"2019-05-17",139,null,null,null,null,null,{"$f":"IF($V$2=\"\",\"\",SEARCH($V$2,$A137&\"\"&#REF!&\"\"&$D137&\"\"&$F137&\"\"&$I137&\"\"&$J137&\"\"&$K137))","v":""},{"$f":"IF($X$2=\"\",\"\",SEARCH($X$2,$A137&\" \"&#REF!&\" \"&$D137&\" \"&$F137&\" \"&$I137&\" \"&$J137&\" \"&$K137&\" \"&$O137&\" \"&$Q137&\" \"&$S137&\" \"&$U137&\" \"&$V137&\" \"&$W137&\" \"&$X137))","v":""},{"$error":"#VALUE!"}]
[133,{"$f":"IF(C138=\"\",\"\",MAX($B$5:B137)+1)","v":133},"مراد 133","فريدة133","أولى","جذع مشترك علوم وتكنولوجيا",2,"1ع2","12/2/2132","البياضة","ذ","محمد علي133","حي الإزدهار - البياضة",null,"2018-06-24",133,"2018-07-22",137,"2019-05-18",140,null,null,null,null,null,{"$f":"IF($V$2=\"\",\"\",SEARCH($V$2,$A138&\"\"&#REF!&\"\"&$D138&\"\"&$F138&\"\"&$I138&\"\"&$J138&\"\"&$K138))","v":""},{"$f":"IF($X$2=\"\",\"\",SEARCH($X$2,$A138&\" \"&#REF!&\" \"&$D138&\" \"&$F138&\" \"&$I138&\" \"&$J138&\" \"&$K138&\" \"&$O138&\" \"&$Q138&\" \"&$S138&\" \"&$U138&\" \"&$V138&\" \"&$W138&\" \"&$X138))","v":""},{"$error":"#VALUE!"}]
[134,{"$f":"IF(C139=\"\",\"\",MAX($B$5:B138)+1)","v":134},"مراد 134","فريدة134","أولى","جذع مشترك علوم وتكنولوجيا",2,"1ع2","12/2/2133","الواد","ذ","محمد علي134","حي السلام -البياضة",null,"2018-06-25",134,"2018-07-23",138,"2019-05-19",141,null,null,null,null,null,{"$f":"IF($V$2=\"\",\"\",SEARCH($V$2,$A139&\"\"&#REF!&\"\"&$D139&\"\"&$F139&\"\"&$I139&\"\"&$J139&\"\"&$K139))","v":""},{"$f":"IF($X$2=\"\",\"\",SEARCH($X$2,$A139&\" \"&#REF!&\" \"&$D139&\" \"&$F139&\" \"&$I139&\" \"&$J139&\" \"&$K139&\" \"&$O139&\" \"&$Q139&\" \"&$S139&\" \"&$U139&\" \"&$V139&\" \"&$W139&\" \"&$X139))","v":""},{"$error":"#VALUE!"}]
[135,{"$f":"IF(C140=\"\",\"\",MAX($B$5:B139)+1)","v":135},"مراد 135","فريدة135","أولى","جذع مشترك علوم وتكنولوجيا",2,"1ع2","12/2/2134","البياضة","ذ","محمد علي135","حي الإزدهار - البياضة",null,"2018-06-26",135,"2018-07-24",139,"2019-05-20",142,null,null,null,null,null,{"$f":"IF($V$2=\"\",\"\",SEARCH($V$2,$A140&\"\"&#REF!&\"\"&$D140&\"\"&$F140&\"\"&$I140&\"\"&$J140&\"\"&$K140))","v":""},{"$f":"IF($X$2=\"\",\"\",SEARCH($X$2,$A140&\" \"&#REF!&\" \"&$D140&\" \"&$F140&\" \"&$I140&\" \"&$J140&\" \"&$K140&\" \"&$O140&\" \"&$Q140&\" \"&$S140&\" \"&$U140&\" \"&$V140&\" \"&$W140&\" \"&$X140))","v":""},{"$error":"#VALUE!"}]
[136,{"$f":"IF(C141=\"\",\"\",MAX($B$5:B140)+1)","v":136},"مراد 136","فريدة136","أولى","جذع مشترك علوم وتكنولوجيا",2,"1ع2","12/2/2135","ورقلة","ذ","محمد علي136","حي السلام -البياضة",null,"2018-06-27",136,"2018-07-25",140,"2019-05-21",143,null,null,null,null,null,{"$f":"IF($V$2=\"\",\"\",SEARCH($V$2,$A141&\"\"&#REF!&\"\"&$D141&\"\"&$F141&\"\"&$I141&\"\"&$J141&\"\"&$K141))","v":""},{"$f":"IF($X$2=\"\",\"\",SEARCH($X$2,$A141&\" \"&#REF!&\" \"&$D141&\" \"&$F141&\" \"&$I141&\" \"&$J141&\" \"&$K141&\" \"&$O141&\" \"&$Q141&\" \"&$S141&\" \"&$U141&\" \"&$V141&\" \"&$W141&\" \"&$X141))","v":""},{"$error":"#VALUE!"}]
[137,{"$f":"IF(C142=\"\",\"\",MAX($B$5:B141)+1)","v":137},"مراد 137","فريدة137","أولى","جذع مشترك علوم وتكنولوجيا",3,"1ع3","12/2/2136","البياضة","ذ","محمد علي137","حي الإزدهار - البياضة",null,"2018-06-28",137,"2018-07-26",141,"2019-05-22",144,null,null,null,null,null,{"$f":"IF($V$2=\"\",\"\",SEARCH($V$2,$A142&\"\"&#REF!&\"\"&$D142&\"\"&$F142&\"\"&$I142&\"\"&$J142&\"\"&$K142))","v":""},{"$f":"IF($X$2=\"\",\"\",SEARCH($X$2,$A142&\" \"&#REF!&\" \"&$D142&\" \"&$F142&\" \"&$I142&\" \"&$J142&\" \"&$K142&\" \"&$O142&\" \"&$Q142&\" \"&$S142&\" \"&$U142&\" \"&$V142&\" \"&$W142&\" \"&$X142))","v":""},{"$error":"#VALUE!"}]
[138,{"$f":"IF(C143=\"\",\"\",MAX($B$5:B142)+1)","v":138},"مراد 138","فريدة138","أولى","جذع مشترك علوم وتكنولوجيا",3,"1ع3","12/2/2137","البياضة","ذ","محمد علي138","حي السلام -البياضة",null,"2018-06-29",138,"2018-07-27",142,"2019-05-23",145,null,null,null,null,null,{"$f":"IF($V$2=\"\",\"\",SEARCH($V$2,$A143&\"\"&#REF!&\"\"&$D143&\"\"&$F143&\"\"&$I143&\"\"&$J143&\"\"&$K143))","v":""},{"$f":"IF($X$2=\"\",\"\",SEARCH($X$2,$A143&\" \"&#REF!&\" \"&$D143&\" \"&$F143&\" \"&$I143&\" \"&$J143&\" \"&$K143&\" \"&$O143&\" \"&$Q143&\" \"&$S143&\" \"&$U143&\" \"&$V143&\" \"&$W143&\" \"&$X143))","v":""},{"$error":"#VALUE!"}]
[139,{"$f":"IF(C144=\"\",\"\",MAX($B$5:B143)+1)","v":139},"مراد 139","فريدة139","أولى","جذع مشترك علوم وتكنولوجيا",3,"1ع3","12/2/2138","الوادي","ذ","محمد علي139","حي الإزدهار - البياضة",null,"2018-06-30",139,"2018-07-28",143,"2019-05-24",146,null,null,null,null,null,{"$f":"IF($V$2=\"\",\"\",SEARCH($V$2,$A144&\"\"&#REF!&\"\"&$D144&\"\"&$F144&\"\"&$I144&\"\"&$J144&\"\"&$K144))","v":""},{"$f":"IF($X$2=\"\",\"\",SEARCH($X$2,$A144&\" \"&#REF!&\" \"&$D144&\" \"&$F144&\" \"&$I144&\" \"&$J144&\" \"&$K144&\" \"&$O144&\" \"&$Q144&\" \"&$S144&\" \"&$U144&\" \"&$V144&\" \"&$W144&\" \"&$X144))","v":""},61]
[140,{"$f":"IF(C145=\"\",\"\",MAX($B$5:B144)+1)","v":140},"مراد 140","فريدة140","أولى","جذع مشترك علوم وتكنولوجيا",3,"1ع3","12/2/2139","الوادي","ذ","محمد علي140","حي السلام -البياضة",null,"2018-07-01",140,"2018-07-29",144,"2019-05-25",147,null,null,null,null,null,{"$f":"IF($V$2=\"\",\"\",SEARCH($V$2,$A145&\"\"&#REF!&\"\"&$D145&\"\"&$F145&\"\"&$I145&\"\"&$J145&\"\"&$K145))","v":""},{"$f":"IF($X$2=\"\",\"\",SEARCH($X$2,$A145&\" \"&#REF!&\" \"&$D145&\" \"&$F145&\" \"&$I145&\" \"&$J145&\" \"&$K145&\" \"&$O145&\" \"&$Q145&\" \"&$S145&\" \"&$U145&\" \"&$V145&\" \"&$W145&\" \"&$X145))","v":""},61]
[141,{"$f":"IF(C146=\"\",\"\",MAX($B$5:B145)+1)","v":141},"مراد 141","فريدة141","أولى","جذع مشترك علوم وتكنولوجيا",3,"1ع3","12/2/2140","البياضة","ذ","محمد علي141","حي الإزدهار - البياضة",null,"2018-07-02",141,"2018-07-30",145,"2019-05-26",148,null,null,null,null,null,{"$f":"IF($V$2=\"\",\"\",SEARCH($V$2,$A146&\"\"&#REF!&\"\"&$D146&\"\"&$F146&\"\"&$I146&\"\"&$J146&\"\"&$K146))","v":""},{"$f":"IF($X$2=\"\",\"\",SEARCH($X$2,$A146&\" \"&#REF!&\" \"&$D146&\" \"&$F146&\" \"&$I146&\" \"&$J146&\" \"&$K146&\" \"&$O146&\" \"&$Q146&\" \"&$S146&\" \"&$U146&\" \"&$V146&\" \"&$W146&\" \"&$X146))","v":""},{"$error":"#VALUE!"}]
[142,{"$f":"IF(C147=\"\",\"\",MAX($B$5:B146)+1)","v":142},"مراد 142","فريدة142","أولى","جذع مشترك علوم وتكنولوجيا",3,"1ع3","12/2/2141","البياضة","ذ","محمد علي142","حي السلام -البياضة",null,"2018-07-03",142,"2018-07-31",146,"2019-05-27",149,null,null,null,null,null,{"$f":"IF($V$2=\"\",\"\",SEARCH($V$2,$A147&\"\"&#REF!&\"\"&$D147&\"\"&$F147&\"\"&$I147&\"\"&$J147&\"\"&$K147))","v":""},{"$f":"IF($X$2=\"\",\"\",SEARCH($X$2,$A147&\" \"&#REF!&\" \"&$D147&\" \"&$F147&\" \"&$I147&\" \"&$J147&\" \"&$K147&\" \"&$O147&\" \"&$Q147&\" \"&$S147&\" \"&$U147&\" \"&$V147&\" \"&$W147&\" \"&$X147))","v":""},{"$error":"#VALUE!"}]
[143,{"$f":"IF(C148=\"\",\"\",MAX($B$5:B147)+1)","v":143},"مراد 143","فريدة143","أولى","جذع مشترك علوم وتكنولوجيا",3,"1ع3","12/2/2142","البياضة","ذ","محمد علي143","حي الإزدهار - البياضة",null,"2018-07-04",143,"2018-08-01",147,"2019-05-28",150,null,null,null,null,null,{"$f":"IF($V$2=\"\",\"\",SEARCH($V$2,$A148&\"\"&#REF!&\"\"&$D148&\"\"&$F148&\"\"&$I148&\"\"&$J148&\"\"&$K148))","v":""},{"$f":"IF($X$2=\"\",\"\",SEARCH($X$2,$A148&\" \"&#REF!&\" \"&$D148&\" \"&$F148&\" \"&$I148&\" \"&$J148&\" \"&$K148&\" \"&$O148&\" \"&$Q148&\" \"&$S148&\" \"&$U148&\" \"&$V148&\" \"&$W148&\" \"&$X148))","v":""},{"$error":"#VALUE!"}]
[144,{"$f":"IF(C149=\"\",\"\",MAX($B$5:B148)+1)","v":144},"مراد 144","فريدة144","أولى","جذع مشترك علوم وتكنولوجيا",3,"1ع3","12/2/2143","البياضة","ذ","محمد علي144","حي السلام -البياضة",null,"2018-07-05",144,"2018-08-02",148,"2019-05-29",151,null,null,null,null,null,{"$f":"IF($V$2=\"\",\"\",SEARCH($V$2,$A149&\"\"&#REF!&\"\"&$D149&\"\"&$F149&\"\"&$I149&\"\"&$J149&\"\"&$K149))","v":""},{"$f":"IF($X$2=\"\",\"\",SEARCH($X$2,$A149&\" \"&#REF!&\" \"&$D149&\" \"&$F149&\" \"&$I149&\" \"&$J149&\" \"&$K149&\" \"&$O149&\" \"&$Q149&\" \"&$S149&\" \"&$U149&\" \"&$V149&\" \"&$W149&\" \"&$X149))","v":""},{"$error":"#VALUE!"}]
[145,{"$f":"IF(C150=\"\",\"\",MAX($B$5:B149)+1)","v":145},"مراد 145","فريدة145","أولى","جذع مشترك علوم وتكنولوجيا",3,"1ع3","12/2/2144","البياضة","ذ","محمد علي145","حي الإزدهار - البياضة",null,"2018-07-06",145,"2018-08-03",149,"2019-05-30",152,null,null,null,null,null,{"$f":"IF($V$2=\"\",\"\",SEARCH($V$2,$A150&\"\"&#REF!&\"\"&$D150&\"\"&$F150&\"\"&$I150&\"\"&$J150&\"\"&$K150))","v":""},{"$f":"IF($X$2=\"\",\"\",SEARCH($X$2,$A150&\" \"&#REF!&\" \"&$D150&\" \"&$F150&\" \"&$I150&\" \"&$J150&\" \"&$K150&\" \"&$O150&\" \"&$Q150&\" \"&$S150&\" \"&$U150&\" \"&$V150&\" \"&$W150&\" \"&$X150))","v":""},{"$error":"#VALUE!"}]
[146,{"$f":"IF(C151=\"\",\"\",MAX($B$5:B150)+1)","v":146},"مراد 146","فريدة146","أولى","جذع مشترك علوم وتكنولوجيا",3,"1ع3","12/2/2145","البياضة","ذ","محمد علي146","حي السلام -البياضة",null,"2018-07-07",146,"2018-08-04",150,"2019-05-31",153,null,null,null,null,null,{"$f":"IF($V$2=\"\",\"\",SEARCH($V$2,$A151&\"\"&#REF!&\"\"&$D151&\"\"&$F151&\"\"&$I151&\"\"&$J151&\"\"&$K151))","v":""},{"$f":"IF($X$2=\"\",\"\",SEARCH($X$2,$A151&\" \"&#REF!&\" \"&$D151&\" \"&$F151&\" \"&$I151&\" \"&$J151&\" \"&$K151&\" \"&$O151&\" \"&$Q151&\" \"&$S151&\" \"&$U151&\" \"&$V151&\" \"&$W151&\" \"&$X151))","v":""},{"$error":"#VALUE!"}]
[147,{"$f":"IF(C152=\"\",\"\",MAX($B$5:B151)+1)","v":147},"مراد 147","فريدة147","أولى","جذع مشترك علوم وتكنولوجيا",3,"1ع3","12/2/2146","جامعة","ذ","محمد علي147","حي الإزدهار - البياضة",null,"2018-07-08",147,"2018-08-05",151,"2019-06-01",154,null,null,null,null,null,{"$f":"IF($V$2=\"\",\"\",SEARCH($V$2,$A152&\"\"&#REF!&\"\"&$D152&\"\"&$F152&\"\"&$I152&\"\"&$J152&\"\"&$K152))","v":""},{"$f":"IF($X$2=\"\",\"\",SEARCH($X$2,$A152&\" \"&#REF!&\" \"&$D152&\" \"&$F152&\" \"&$I152&\" \"&$J152&\" \"&$K152&\" \"&$O152&\" \"&$Q152&\" \"&$S152&\" \"&$U152&\" \"&$V152&\" \"&$W152&\" \"&$X152))","v":""},{"$error":"#VALUE!"}]
[148,{"$f":"IF(C153=\"\",\"\",MAX($B$5:B152)+1)","v":148},"مراد 148","فريدة148","أولى","جذع مشترك علوم وتكنولوجيا",3,"1ع3","12/2/2147","الوادي","ذ","محمد علي148","حي السلام -البياضة",null,"2018-07-09",148,"2018-08-06",152,"2019-06-02",155,null,null,null,null,null,{"$f":"IF($V$2=\"\",\"\",SEARCH($V$2,$A153&\"\"&#REF!&\"\"&$D153&\"\"&$F153&\"\"&$I153&\"\"&$J153&\"\"&$K153))","v":""},{"$f":"IF($X$2=\"\",\"\",SEARCH($X$2,$A153&\" \"&#REF!&\" \"&$D153&\" \"&$F153&\" \"&$I153&\" \"&$J153&\" \"&$K153&\" \"&$O153&\" \"&$Q153&\" \"&$S153&\" \"&$U153&\" \"&$V153&\" \"&$W153&\" \"&$X153))","v":""},61]
[149,{"$f":"IF(C154=\"\",\"\",MAX($B$5:B153)+1)","v":149},"مراد 149","فريدة149","أولى","جذع مشترك علوم وتكنولوجيا",3,"1ع3","12/2/2148","البياضة","ذ","محمد علي149","حي الإزدهار - البياضة",null,"2018-07-10",149,"2018-08-07",153,"2019-06-03",156,null,null,null,null,null,{"$f":"IF($V$2=\"\",\"\",SEARCH($V$2,$A154&\"\"&#REF!&\"\"&$D154&\"\"&$F154&\"\"&$I154&\"\"&$J154&\"\"&$K154))","v":""},{"$f":"IF($X$2=\"\",\"\",SEARCH($X$2,$A154&\" \"&#REF!&\" \"&$D154&\" \"&$F154&\" \"&$I154&\" \"&$J154&\" \"&$K154&\" \"&$O154&\" \"&$Q154&\" \"&$S154&\" \"&$U154&\" \"&$V154&\" \"&$W154&\" \"&$X154))","v":""},{"$error":"#VALUE!"}]
[150,{"$f":"IF(C155=\"\",\"\",MAX($B$5:B154)+1)","v":150},"مراد 150","فريدة150","أولى","جذع مشترك علوم وتكنولوجيا",3,"1ع3","12/2/2149","البياضة","ذ","محمد علي150","حي السلام -البياضة",null,"2018-07-11",150,"2018-08-08",154,"2019-06-04",157,null,null,null,null,null,{"$f":"IF($V$2=\"\",\"\",SEARCH($V$2,$A155&\"\"&#REF!&\"\"&$D155&\"\"&$F155&\"\"&$I155&\"\"&$J155&\"\"&$K155))","v":""},{"$f":"IF($X$2=\"\",\"\",SEARCH($X$2,$A155&\" \"&#REF!&\" \"&$D155&\" \"&$F155&\" \"&$I155&\" \"&$J155&\" \"&$K155&\" \"&$O155&\" \"&$Q155&\" \"&$S155&\" \"&$U155&\" \"&$V155&\" \"&$W155&\" \"&$X155))","v":""},{"$error":"#VALUE!"}]
[151,{"$f":"IF(C156=\"\",\"\",MAX($B$5:B155)+1)","v":151},"مراد 151","فريدة151","أولى","جذع مشترك علوم وتكنولوجيا",3,"1ع3","12/2/2150","البياضة","ذ","محمد علي151","حي الإزدهار - البياضة",null,"2018-07-12",151,"2018-08-09",155,"2019-06-05",158,null,null,null,null,null,{"$f":"IF($V$2=\"\",\"\",SEARCH($V$2,$A156&\"\"&#REF!&\"\"&$D156&\"\"&$F156&\"\"&$I156&\"\"&$J156&\"\"&$K156))","v":""},{"$f":"IF($X$2=\"\",\"\",SEARCH($X$2,$A156&\" \"&#REF!&\" \"&$D156&\" \"&$F156&\" \"&$I156&\" \"&$J156&\" \"&$K156&\" \"&$O156&\" \"&$Q156&\" \"&$S156&\" \"&$U156&\" \"&$V156&\" \"&$W156&\" \"&$X156))","v":""},{"$error":"#VALUE!"}]
[152,{"$f":"IF(C157=\"\",\"\",MAX($B$5:B156)+1)","v":152},"مراد 152","فريدة152","أولى","جذع مشترك علوم وتكنولوجيا",3,"1ع3","12/2/2151","الوادي","ذ","محمد علي152","حي السلام -البياضة",null,"2018-07-13",152,"2018-08-10",156,"2019-06-06",159,null,null,null,null,null,{"$f":"IF($V$2=\"\",\"\",SEARCH($V$2,$A157&\"\"&#REF!&\"\"&$D157&\"\"&$F157&\"\"&$I157&\"\"&$J157&\"\"&$K157))","v":""},{"$f":"IF($X$2=\"\",\"\",SEARCH($X$2,$A157&\" \"&#REF!&\" \"&$D157&\" \"&$F157&\" \"&$I157&\" \"&$J157&\" \"&$K157&\" \"&$O157&\" \"&$Q157&\" \"&$S157&\" \"&$U157&\" \"&$V157&\" \"&$W157&\" \"&$X157))","v":""},61]
[153,{"$f":"IF(C158=\"\",\"\",MAX($B$5:B157)+1)","v":153},"مراد 153","فريدة153","أولى","جذع مشترك علوم وتكنولوجيا",3,"1ع3","12/2/2152","البياضة","ذ","محمد علي153","حي الإزدهار - البياضة",null,"2018-07-14",153,"2018-08-11",157,"2019-06-07",160,null,null,null,null,null,{"$f":"IF($V$2=\"\",\"\",SEARCH($V$2,$A158&\"\"&#REF!&\"\"&$D158&\"\"&$F158&\"\"&$I158&\"\"&$J158&\"\"&$K158))","v":""},{"$f":"IF($X$2=\"\",\"\",SEARCH($X$2,$A158&\" \"&#REF!&\" \"&$D158&\" \"&$F158&\" \"&$I158&\" \"&$J158&\" \"&$K158&\" \"&$O158&\" \"&$Q158&\" \"&$S158&\" \"&$U158&\" \"&$V158&\" \"&$W158&\" \"&$X158))","v":""},{"$error":"#VALUE!"}]
[154,{"$f":"IF(C159=\"\",\"\",MAX($B$5:B158)+1)","v":154},"مراد 154","فريدة154","أولى","جذع مشترك علوم وتكنولوجيا",3,"1ع3","12/2/2153","البياضة","ذ","محمد علي154","حي السلام -البياضة",null,"2018-07-15",154,"2018-08-12",158,"2019-06-08",161,null,null,null,null,null,{"$f":"IF($V$2=\"\",\"\",SEARCH($V$2,$A159&\"\"&#REF!&\"\"&$D159&\"\"&$F159&\"\"&$I159&\"\"&$J159&\"\"&$K159))","v":""},{"$f":"IF($X$2=\"\",\"\",SEARCH($X$2,$A159&\" \"&#REF!&\" \"&$D159&\" \"&$F159&\" \"&$I159&\" \"&$J159&\" \"&$K159&\" \"&$O159&\" \"&$Q159&\" \"&$S159&\" \"&$U159&\" \"&$V159&\" \"&$W159&\" \"&$X159))","v":""},{"$error":"#VALUE!"}]
[155,{"$f":"IF(C160=\"\",\"\",MAX($B$5:B159)+1)","v":155},"مراد 155","فريدة155","أولى","جذع مشترك علوم وتكنولوجيا",3,"1ع3","12/2/2154","الوادي","ذ","محمد علي155","حي الإزدهار - البياضة",null,"2018-07-16",155,"2018-08-13",159,"2019-06-09",162,null,null,null,null,null,{"$f":"IF($V$2=\"\",\"\",SEARCH($V$2,$A160&\"\"&#REF!&\"\"&$D160&\"\"&$F160&\"\"&$I160&\"\"&$J160&\"\"&$K160))","v":""},{"$f":"IF($X$2=\"\",\"\",SEARCH($X$2,$A160&\" \"&#REF!&\" \"&$D160&\" \"&$F160&\" \"&$I160&\" \"&$J160&\" \"&$K160&\" \"&$O160&\" \"&$Q160&\" \"&$S160&\" \"&$U160&\" \"&$V160&\" \"&$W160&\" \"&$X160))","v":""},61]
[156,{"$f":"IF(C161=\"\",\"\",MAX($B$5:B160)+1)","v":156},"مراد 156","فريدة156","أولى","جذع مشترك علوم وتكنولوجيا",3,"1ع3","12/2/2155","البياضة","ذ","محمد علي156","حي السلام -البياضة",null,"2018-07-17",156,"2018-08-14",160,"2019-06-10",163,null,null,null,null,null,{"$f":"IF($V$2=\"\",\"\",SEARCH($V$2,$A161&\"\"&#REF!&\"\"&$D161&\"\"&$F161&\"\"&$I161&\"\"&$J161&\"\"&$K161))","v":""},{"$f":"IF($X$2=\"\",\"\",SEARCH($X$2,$A161&\" \"&#REF!&\" \"&$D161&\" \"&$F161&\" \"&$I161&\" \"&$J161&\" \"&$K161&\" \"&$O161&\" \"&$Q161&\" \"&$S161&\" \"&$U161&\" \"&$V161&\" \"&$W161&\" \"&$X161))","v":""},{"$error":"#VALUE!"}]
[157,{"$f":"IF(C162=\"\",\"\",MAX($B$5:B161)+1)","v":157},"مراد 157","فريدة157","أولى","جذع مشترك علوم وتكنولوجيا",3,"1ع3","12/2/2156","البياضة","ذ","محمد علي157","حي الإزدهار - البياضة",null,"2018-07-18",157,"2018-08-15",161,"2019-06-11",164,null,null,null,null,null,{"$f":"IF($V$2=\"\",\"\",SEARCH($V$2,$A162&\"\"&#REF!&\"\"&$D162&\"\"&$F162&\"\"&$I162&\"\"&$J162&\"\"&$K162))","v":""},{"$f":"IF($X$2=\"\",\"\",SEARCH($X$2,$A162&\" \"&#REF!&\" \"&$D162&\" \"&$F162&\" \"&$I162&\" \"&$J162&\" \"&$K162&\" \"&$O162&\" \"&$Q162&\" \"&$S162&\" \"&$U162&\" \"&$V162&\" \"&$W162&\" \"&$X162))","v":""},{"$error":"#VALUE!"}]
[158,{"$f":"IF(C163=\"\",\"\",MAX($B$5:B162)+1)","v":158},"مراد 158","فريدة158","أولى","جذع مشترك علوم وتكنولوجيا",3,"1ع3","12/2/2157","البياضة","ذ","محمد علي158","حي السلام -البياضة",null,"2018-07-19",158,"2018-08-16",162,"2019-06-12",165,null,null,null,null,null,{"$f":"IF($V$2=\"\",\"\",SEARCH($V$2,$A163&\"\"&#REF!&\"\"&$D163&\"\"&$F163&\"\"&$I163&\"\"&$J163&\"\"&$K163))","v":""},{"$f":"IF($X$2=\"\",\"\",SEARCH($X$2,$A163&\" \"&#REF!&\" \"&$D163&\" \"&$F163&\" \"&$I163&\" \"&$J163&\" \"&$K163&\" \"&$O163&\" \"&$Q163&\" \"&$S163&\" \"&$U163&\" \"&$V163&\" \"&$W163&\" \"&$X163))","v":""},{"$error":"#VALUE!"}]
[159,{"$f":"IF(C164=\"\",\"\",MAX($B$5:B163)+1)","v":159},"مراد 159","فريدة159","أولى","جذع مشترك علوم وتكنولوجيا",3,"1ع3","12/2/2158","البياضة","ذ","محمد علي159","حي الإزدهار - البياضة",null,"2018-07-20",159,"2018-08-17",163,"2019-06-13",166,null,null,null,null,null,{"$f":"IF($V$2=\"\",\"\",SEARCH($V$2,$A164&\"\"&#REF!&\"\"&$D164&\"\"&$F164&\"\"&$I164&\"\"&$J164&\"\"&$K164))","v":""},{"$f":"IF($X$2=\"\",\"\",SEARCH($X$2,$A164&\" \"&#REF!&\" \"&$D164&\" \"&$F164&\" \"&$I164&\" \"&$J164&\" \"&$K164&\" \"&$O164&\" \"&$Q164&\" \"&$S164&\" \"&$U164&\" \"&$V164&\" \"&$W164&\" \"&$X164))","v":""},{"$error":"#VALUE!"}]
[160,{"$f":"IF(C165=\"\",\"\",MAX($B$5:B164)+1)","v":160},"مراد 160","فريدة160","أولى","جذع مشترك علوم وتكنولوجيا",3,"1ع3","12/2/2159","البياضة","ذ","محمد علي160","حي السلام -البياضة",null,"2018-07-21",160,"2018-08-18",164,"2019-06-14",167,null,null,null,null,null,{"$f":"IF($V$2=\"\",\"\",SEARCH($V$2,$A165&\"\"&#REF!&\"\"&$D165&\"\"&$F165&\"\"&$I165&\"\"&$J165&\"\"&$K165))","v":""},{"$f":"IF($X$2=\"\",\"\",SEARCH($X$2,$A165&\" \"&#REF!&\" \"&$D165&\" \"&$F165&\" \"&$I165&\" \"&$J165&\" \"&$K165&\" \"&$O165&\" \"&$Q165&\" \"&$S165&\" \"&$U165&\" \"&$V165&\" \"&$W165&\" \"&$X165))","v":""},{"$error":"#VALUE!"}]
[161,{"$f":"IF(C166=\"\",\"\",MAX($B$5:B165)+1)","v":161},"مراد 161","فريدة161","أولى","جذع مشترك علوم وتكنولوجيا",3,"1ع3","12/2/2160","البياضة","ذ","محمد علي161","حي الإزدهار - البياضة",null,"2018-07-22",161,"2018-08-19",165,"2019-06-15",168,null,null,null,null,null,{"$f":"IF($V$2=\"\",\"\",SEARCH($V$2,$A166&\"\"&#REF!&\"\"&$D166&\"\"&$F166&\"\"&$I166&\"\"&$J166&\"\"&$K166))","v":""},{"$f":"IF($X$2=\"\",\"\",SEARCH($X$2,$A166&\" \"&#REF!&\" \"&$D166&\" \"&$F166&\" \"&$I166&\" \"&$J166&\" \"&$K166&\" \"&$O166&\" \"&$Q166&\" \"&$S166&\" \"&$U166&\" \"&$V166&\" \"&$W166&\" \"&$X166))","v":""},{"$error":"#VALUE!"}]
[162,{"$f":"IF(C167=\"\",\"\",MAX($B$5:B166)+1)","v":162},"مراد 162","فريدة162","أولى","جذع مشترك علوم وتكنولوجيا",3,"1ع3","12/2/2161","البياضة","ذ","محمد علي162","حي السلام -البياضة",null,"2018-07-23",162,"2018-08-20",166,"2019-06-16",169,null,null,null,null,null,{"$f":"IF($V$2=\"\",\"\",SEARCH($V$2,$A167&\"\"&#REF!&\"\"&$D167&\"\"&$F167&\"\"&$I167&\"\"&$J167&\"\"&$K167))","v":""},{"$f":"IF($X$2=\"\",\"\",SEARCH($X$2,$A167&\" \"&#REF!&\" \"&$D167&\" \"&$F167&\" \"&$I167&\" \"&$J167&\" \"&$K167&\" \"&$O167&\" \"&$Q167&\" \"&$S167&\" \"&$U167&\" \"&$V167&\" \"&$W167&\" \"&$X167))","v":""},{"$error":"#VALUE!"}]
[163,{"$f":"IF(C168=\"\",\"\",MAX($B$5:B167)+1)","v":163},"مراد 163","فريدة163","أولى","جذع مشترك علوم وتكنولوجيا",3,"1ع3","12/2/2162","البياضة","ذ","محمد علي163","حي الإزدهار - البياضة",null,"2018-07-24",163,"2018-08-21",167,"2019-06-17",170,null,null,null,null,null,{"$f":"IF($V$2=\"\",\"\",SEARCH($V$2,$A168&\"\"&#REF!&\"\"&$D168&\"\"&$F168&\"\"&$I168&\"\"&$J168&\"\"&$K168))","v":""},{"$f":"IF($X$2=\"\",\"\",SEARCH($X$2,$A168&\" \"&#REF!&\" \"&$D168&\" \"&$F168&\" \"&$I168&\" \"&$J168&\" \"&$K168&\" \"&$O168&\" \"&$Q168&\" \"&$S168&\" \"&$U168&\" \"&$V168&\" \"&$W168&\" \"&$X168))","v":""},{"$error":"#VALUE!"}]
[164,{"$f":"IF(C169=\"\",\"\",MAX($B$5:B168)+1)","v":164},"مراد 164","فريدة164","أولى","جذع مشترك علوم وتكنولوجيا",3,"1ع3","12/2/2163","البياضة","ذ","محمد علي164","حي السلام -البياضة",null,"2018-07-25",164,"2018-08-22",168,"2019-06-18",171,null,null,null,null,null,{"$f":"IF($V$2=\"\",\"\",SEARCH($V$2,$A169&\"\"&#REF!&\"\"&$D169&\"\"&$F169&\"\"&$I169&\"\"&$J169&\"\"&$K169))","v":""},{"$f":"IF($X$2=\"\",\"\",SEARCH($X$2,$A169&\" \"&#REF!&\" \"&$D169&\" \"&$F169&\" \"&$I169&\" \"&$J169&\" \"&$K169&\" \"&$O169&\" \"&$Q169&\" \"&$S169&\" \"&$U169&\" \"&$V169&\" \"&$W169&\" \"&$X169))","v":""},{"$error":"#VALUE!"}]
[165,{"$f":"IF(C170=\"\",\"\",MAX($B$5:B169)+1)","v":165},"مراد 165","فريدة165","أولى","جذع مشترك علوم وتكنولوجيا",3,"1ع3","12/2/2164","البياضة","ذ","محمد علي165","حي الإزدهار - البياضة",null,"2018-07-26",165,"2018-08-23",169,"2019-06-19",172,null,null,null,null,null,{"$f":"IF($V$2=\"\",\"\",SEARCH($V$2,$A170&\"\"&#REF!&\"\"&$D170&\"\"&$F170&\"\"&$I170&\"\"&$J170&\"\"&$K170))","v":""},{"$f":"IF($X$2=\"\",\"\",SEARCH($X$2,$A170&\" \"&#REF!&\" \"&$D170&\" \"&$F170&\" \"&$I170&\" \"&$J170&\" \"&$K170&\" \"&$O170&\" \"&$Q170&\" \"&$S170&\" \"&$U170&\" \"&$V170&\" \"&$W170&\" \"&$X170))","v":""},{"$error":"#VALUE!"}]
[166,{"$f":"IF(C171=\"\",\"\",MAX($B$5:B170)+1)","v":166},"مراد 166","فريدة166","أولى","جذع مشترك علوم وتكنولوجيا",3,"1ع3","12/2/2165","البياضة","ذ","محمد علي166","حي السلام -البياضة",null,"2018-07-27",166,"2018-08-24",170,"2019-06-20",173,null,null,null,null,null,{"$f":"IF($V$2=\"\",\"\",SEARCH($V$2,$A171&\"\"&#REF!&\"\"&$D171&\"\"&$F171&\"\"&$I171&\"\"&$J171&\"\"&$K171))","v":""},{"$f":"IF($X$2=\"\",\"\",SEARCH($X$2,$A171&\" \"&#REF!&\" \"&$D171&\" \"&$F171&\" \"&$I171&\" \"&$J171&\" \"&$K171&\" \"&$O171&\" \"&$Q171&\" \"&$S171&\" \"&$U171&\" \"&$V171&\" \"&$W171&\" \"&$X171))","v":""},{"$error":"#VALUE!"}]
[167,{"$f":"IF(C172=\"\",\"\",MAX($B$5:B171)+1)","v":167},"مراد 167","فريدة167","أولى","جذع مشترك علوم وتكنولوجيا",3,"1ع3","12/2/2166","البياضة","ذ","محمد علي167","حي الإزدهار - البياضة",null,"2018-07-28",167,"2018-08-25",171,"2019-06-21",174,null,null,null,null,null,{"$f":"IF($V$2=\"\",\"\",SEARCH($V$2,$A172&\"\"&#REF!&\"\"&$D172&\"\"&$F172&\"\"&$I172&\"\"&$J172&\"\"&$K172))","v":""},{"$f":"IF($X$2=\"\",\"\",SEARCH($X$2,$A172&\" \"&#REF!&\" \"&$D172&\" \"&$F172&\" \"&$I172&\" \"&$J172&\" \"&$K172&\" \"&$O172&\" \"&$Q172&\" \"&$S172&\" \"&$U172&\" \"&$V172&\" \"&$W172&\" \"&$X172))","v":""},{"$error":"#VALUE!"}]
[168,{"$f":"IF(C173=\"\",\"\",MAX($B$5:B172)+1)","v":168},"مراد 168","فريدة168","أولى","جذع مشترك علوم وتكنولوجيا",3,"1ع3","12/2/2167","البياضة","ذ","محمد علي168","حي السلام -البياضة",null,"2018-07-29",168,"2018-08-26",172,"2019-06-22",175,null,null,null,null,null,{"$f":"IF($V$2=\"\",\"\",SEARCH($V$2,$A173&\"\"&#REF!&\"\"&$D173&\"\"&$F173&\"\"&$I173&\"\"&$J173&\"\"&$K173))","v":""},{"$f":"IF($X$2=\"\",\"\",SEARCH($X$2,$A173&\" \"&#REF!&\" \"&$D173&\" \"&$F173&\" \"&$I173&\" \"&$J173&\" \"&$K173&\" \"&$O173&\" \"&$Q173&\" \"&$S173&\" \"&$U173&\" \"&$V173&\" \"&$W173&\" \"&$X173))","v":""},{"$error":"#VALUE!"}]
[169,{"$f":"IF(C174=\"\",\"\",MAX($B$5:B173)+1)","v":169},"مراد 169","فريدة169","أولى","جذع مشترك علوم وتكنولوجيا",3,"1ع3","12/2/2168","البياضة","ذ","محمد علي169","حي الإزدهار - البياضة",null,"2018-07-30",169,"2018-08-27",173,"2019-06-23",176,null,null,null,null,null,{"$f":"IF($V$2=\"\",\"\",SEARCH($V$2,$A174&\"\"&#REF!&\"\"&$D174&\"\"&$F174&\"\"&$I174&\"\"&$J174&\"\"&$K174))","v":""},{"$f":"IF($X$2=\"\",\"\",SEARCH($X$2,$A174&\" \"&#REF!&\" \"&$D174&\" \"&$F174&\" \"&$I174&\" \"&$J174&\" \"&$K174&\" \"&$O174&\" \"&$Q174&\" \"&$S174&\" \"&$U174&\" \"&$V174&\" \"&$W174&\" \"&$X174))","v":""},{"$error":"#VALUE!"}]
[170,{"$f":"IF(C175=\"\",\"\",MAX($B$5:B174)+1)","v":170},"مراد 170","فريدة170","أولى","جذع مشترك علوم وتكنولوجيا",3,"1ع3","12/2/2169","البياضة","ذ","محمد علي170","حي السلام -البياضة",null,"2018-07-31",170,"2018-08-28",174,"2019-06-24",177,null,null,null,null,null,{"$f":"IF($V$2=\"\",\"\",SEARCH($V$2,$A175&\"\"&#REF!&\"\"&$D175&\"\"&$F175&\"\"&$I175&\"\"&$J175&\"\"&$K175))","v":""},{"$f":"IF($X$2=\"\",\"\",SEARCH($X$2,$A175&\" \"&#REF!&\" \"&$D175&\" \"&$F175&\" \"&$I175&\" \"&$J175&\" \"&$K175&\" \"&$O175&\" \"&$Q175&\" \"&$S175&\" \"&$U175&\" \"&$V175&\" \"&$W175&\" \"&$X175))","v":""},{"$error":"#VALUE!"}]
[171,{"$f":"IF(C176=\"\",\"\",MAX($B$5:B175)+1)","v":171},"مراد 171","فريدة171","أولى","جذع مشترك علوم وتكنولوجيا",3,"1ع3","12/2/2170","البياضة","ذ","محمد علي171","حي الإزدهار - البياضة",null,"2018-08-01",171,"2018-08-29",175,"2019-06-25",178,null,null,null,null,null,{"$f":"IF($V$2=\"\",\"\",SEARCH($V$2,$A176&\"\"&#REF!&\"\"&$D176&\"\"&$F176&\"\"&$I176&\"\"&$J176&\"\"&$K176))","v":""},{"$f":"IF($X$2=\"\",\"\",SEARCH($X$2,$A176&\" \"&#REF!&\" \"&$D176&\" \"&$F176&\" \"&$I176&\" \"&$J176&\" \"&$K176&\" \"&$O176&\" \"&$Q176&\" \"&$S176&\" \"&$U176&\" \"&$V176&\" \"&$W176&\" \"&$X176))","v":""},{"$error":"#VALUE!"}]
[172,{"$f":"IF(C177=\"\",\"\",MAX($B$5:B176)+1)","v":172},"مراد 172","فريدة172","أولى","جذع مشترك علوم وتكنولوجيا",3,"1ع3","12/2/2171","البياضة","ذ","محمد علي172","حي السلام -البياضة",null,"2018-08-02",172,"2018-08-30",176,"2019-06-26",179,null,null,null,null,null,{"$f":"IF($V$2=\"\",\"\",SEARCH($V$2,$A177&\"\"&#REF!&\"\"&$D177&\"\"&$F177&\"\"&$I177&\"\"&$J177&\"\"&$K177))","v":""},{"$f":"IF($X$2=\"\",\"\",SEARCH($X$2,$A177&\" \"&#REF!&\" \"&$D177&\" \"&$F177&\" \"&$I177&\" \"&$J177&\" \"&$K177&\" \"&$O177&\" \"&$Q177&\" \"&$S177&\" \"&$U177&\" \"&$V177&\" \"&$W177&\" \"&$X177))","v":""},{"$error":"#VALUE!"}]
[173,{"$f":"IF(C178=\"\",\"\",MAX($B$5:B177)+1)","v":173},"مراد 173","فريدة173","أولى","جذع مشترك علوم وتكنولوجيا",3,"1ع3","12/2/2172","البياضة","ذ","محمد علي173","حي الإزدهار - البياضة",null,"2018-08-03",173,"2018-08-31",177,"2019-06-27",180,null,null,null,null,null,{"$f":"IF($V$2=\"\",\"\",SEARCH($V$2,$A178&\"\"&#REF!&\"\"&$D178&\"\"&$F178&\"\"&$I178&\"\"&$J178&\"\"&$K178))","v":""},{"$f":"IF($X$2=\"\",\"\",SEARCH($X$2,$A178&\" \"&#REF!&\" \"&$D178&\" \"&$F178&\" \"&$I178&\" \"&$J178&\" \"&$K178&\" \"&$O178&\" \"&$Q178&\" \"&$S178&\" \"&$U178&\" \"&$V178&\" \"&$W178&\" \"&$X178))","v":""},{"$error":"#VALUE!"}]
[174,{"$f":"IF(C179=\"\",\"\",MAX($B$5:B178)+1)","v":174},"مراد 174","فريدة174","أولى","جذع مشترك علوم وتكنولوجيا",4,"1ع4","12/2/2173","الوادي","ذ","محمد علي174","حي السلام -البياضة",null,"2018-08-04",174,"2018-09-01",178,"2019-06-28",181,null,null,null,null,null,{"$f":"IF($V$2=\"\",\"\",SEARCH($V$2,$A179&\"\"&#REF!&\"\"&$D179&\"\"&$F179&\"\"&$I179&\"\"&$J179&\"\"&$K179))","v":""},{"$f":"IF($X$2=\"\",\"\",SEARCH($X$2,$A179&\" \"&#REF!&\" \"&$D179&\" \"&$F179&\" \"&$I179&\" \"&$J179&\" \"&$K179&\" \"&$O179&\" \"&$Q179&\" \"&$S179&\" \"&$U179&\" \"&$V179&\" \"&$W179&\" \"&$X179))","v":""},61]
[175,{"$f":"IF(C180=\"\",\"\",MAX($B$5:B179)+1)","v":175},"مراد 175","فريدة175","أولى","جذع مشترك علوم وتكنولوجيا",4,"1ع4","12/2/2174","البياضة","ذ","محمد علي175","حي الإزدهار - البياضة",null,"2018-08-05",175,"2018-09-02",179,"2019-06-29",182,null,null,null,null,null,{"$f":"IF($V$2=\"\",\"\",SEARCH($V$2,$A180&\"\"&#REF!&\"\"&$D180&\"\"&$F180&\"\"&$I180&\"\"&$J180&\"\"&$K180))","v":""},{"$f":"IF($X$2=\"\",\"\",SEARCH($X$2,$A180&\" \"&#REF!&\" \"&$D180&\" \"&$F180&\" \"&$I180&\" \"&$J180&\" \"&$K180&\" \"&$O180&\" \"&$Q180&\" \"&$S180&\" \"&$U180&\" \"&$V180&\" \"&$W180&\" \"&$X180))","v":""},{"$error":"#VALUE!"}]
[176,{"$f":"IF(C181=\"\",\"\",MAX($B$5:B180)+1)","v":176},"مراد 176","فريدة176","أولى","جذع مشترك علوم وتكنولوجيا",4,"1ع4","12/2/2175","البياضة","ذ","محمد علي176","حي السلام -البياضة",null,"2018-08-06",176,"2018-09-03",180,"2019-06-30",183,null,null,null,null,null,{"$f":"IF($V$2=\"\",\"\",SEARCH($V$2,$A181&\"\"&#REF!&\"\"&$D181&\"\"&$F181&\"\"&$I181&\"\"&$J181&\"\"&$K181))","v":""},{"$f":"IF($X$2=\"\",\"\",SEARCH($X$2,$A181&\" \"&#REF!&\" \"&$D181&\" \"&$F181&\" \"&$I181&\" \"&$J181&\" \"&$K181&\" \"&$O181&\" \"&$Q181&\" \"&$S181&\" \"&$U181&\" \"&$V181&\" \"&$W181&\" \"&$X181))","v":""},{"$error":"#VALUE!"}]
[177,{"$f":"IF(C182=\"\",\"\",MAX($B$5:B181)+1)","v":177},"مراد 177","فريدة177","أولى","جذع مشترك علوم وتكنولوجيا",4,"1ع4","12/2/2176","البياضة","ذ","محمد علي177","حي الإزدهار - البياضة",null,"2018-08-07",177,"2018-09-04",181,"2019-07-01",184,null,null,null,null,null,{"$f":"IF($V$2=\"\",\"\",SEARCH($V$2,$A182&\"\"&#REF!&\"\"&$D182&\"\"&$F182&\"\"&$I182&\"\"&$J182&\"\"&$K182))","v":""},{"$f":"IF($X$2=\"\",\"\",SEARCH($X$2,$A182&\" \"&#REF!&\" \"&$D182&\" \"&$F182&\" \"&$I182&\" \"&$J182&\" \"&$K182&\" \"&$O182&\" \"&$Q182&\" \"&$S182&\" \"&$U182&\" \"&$V182&\" \"&$W182&\" \"&$X182))","v":""},{"$error":"#VALUE!"}]
[178,{"$f":"IF(C183=\"\",\"\",MAX($B$5:B182)+1)","v":178},"مراد 178","فريدة178","أولى","جذع مشترك علوم وتكنولوجيا",4,"1ع4","12/2/2177","البياضة","ذ","محمد علي178","حي السلام -البياضة",null,"2018-08-08",178,"2018-09-05",182,"2019-07-02",185,null,null,null,null,null,{"$f":"IF($V$2=\"\",\"\",SEARCH($V$2,$A183&\"\"&#REF!&\"\"&$D183&\"\"&$F183&\"\"&$I183&\"\"&$J183&\"\"&$K183))","v":""},{"$f":"IF($X$2=\"\",\"\",SEARCH($X$2,$A183&\" \"&#REF!&\" \"&$D183&\" \"&$F183&\" \"&$I183&\" \"&$J183&\" \"&$K183&\" \"&$O183&\" \"&$Q183&\" \"&$S183&\" \"&$U183&\" \"&$V183&\" \"&$W183&\" \"&$X183))","v":""},{"$error":"#VALUE!"}]
[179,{"$f":"IF(C184=\"\",\"\",MAX($B$5:B183)+1)","v":179},"مراد 179","فريدة179","أولى","جذع مشترك علوم وتكنولوجيا",4,"1ع4","12/2/2178","تقرت","ذ","محمد علي179","حي الإزدهار - البياضة",null,"2018-08-09",179,"2018-09-06",183,"2019-07-03",186,null,null,null,null,null,{"$f":"IF($V$2=\"\",\"\",SEARCH($V$2,$A184&\"\"&#REF!&\"\"&$D184&\"\"&$F184&\"\"&$I184&\"\"&$J184&\"\"&$K184))","v":""},{"$f":"IF($X$2=\"\",\"\",SEARCH($X$2,$A184&\" \"&#REF!&\" \"&$D184&\" \"&$F184&\" \"&$I184&\" \"&$J184&\" \"&$K184&\" \"&$O184&\" \"&$Q184&\" \"&$S184&\" \"&$U184&\" \"&$V184&\" \"&$W184&\" \"&$X184))","v":""},{"$error":"#VALUE!"}]
[180,{"$f":"IF(C185=\"\",\"\",MAX($B$5:B184)+1)","v":180},"مراد 180","فريدة180","أولى","جذع مشترك علوم وتكنولوجيا",4,"1ع4","12/2/2179","الوادي","ذ","محمد علي180","حي السلام -البياضة",null,"2018-08-10",180,"2018-09-07",184,"2019-07-04",187,null,null,null,null,null,{"$f":"IF($V$2=\"\",\"\",SEARCH($V$2,$A185&\"\"&#REF!&\"\"&$D185&\"\"&$F185&\"\"&$I185&\"\"&$J185&\"\"&$K185))","v":""},{"$f":"IF($X$2=\"\",\"\",SEARCH($X$2,$A185&\" \"&#REF!&\" \"&$D185&\" \"&$F185&\" \"&$I185&\" \"&$J185&\" \"&$K185&\" \"&$O185&\" \"&$Q185&\" \"&$S185&\" \"&$U185&\" \"&$V185&\" \"&$W185&\" \"&$X185))","v":""},61]
[181,{"$f":"IF(C186=\"\",\"\",MAX($B$5:B185)+1)","v":181},"مراد 181","فريدة181","أولى","جذع مشترك علوم وتكنولوجيا",4,"1ع4","12/2/2180","البياضة","ذ","محمد علي181","حي الإزدهار - البياضة",null,"2018-08-11",181,"2018-09-08",185,"2019-07-05",188,null,null,null,null,null,{"$f":"IF($V$2=\"\",\"\",SEARCH($V$2,$A186&\"\"&#REF!&\"\"&$D186&\"\"&$F186&\"\"&$I186&\"\"&$J186&\"\"&$K186))","v":""},{"$f":"IF($X$2=\"\",\"\",SEARCH($X$2,$A186&\" \"&#REF!&\" \"&$D186&\" \"&$F186&\" \"&$I186&\" \"&$J186&\" \"&$K186&\" \"&$O186&\" \"&$Q186&\" \"&$S186&\" \"&$U186&\" \"&$V186&\" \"&$W186&\" \"&$X186))","v":""},{"$error":"#VALUE!"}]
[182,{"$f":"IF(C187=\"\",\"\",MAX($B$5:B186)+1)","v":182},"مراد 182","فريدة182","أولى","جذع مشترك علوم وتكنولوجيا",4,"1ع4","12/2/2181","البياضة","ذ","محمد علي182","حي السلام -البياضة",null,"2018-08-12",182,"2018-09-09",186,"2019-07-06",189,null,null,null,null,null,{"$f":"IF($V$2=\"\",\"\",SEARCH($V$2,$A187&\"\"&#REF!&\"\"&$D187&\"\"&$F187&\"\"&$I187&\"\"&$J187&\"\"&$K187))","v":""},{"$f":"IF($X$2=\"\",\"\",SEARCH($X$2,$A187&\" \"&#REF!&\" \"&$D187&\" \"&$F187&\" \"&$I187&\" \"&$J187&\" \"&$K187&\" \"&$O187&\" \"&$Q187&\" \"&$S187&\" \"&$U187&\" \"&$V187&\" \"&$W187&\" \"&$X187))","v":""},{"$error":"#VALUE!"}]
[183,{"$f":"IF(C188=\"\",\"\",MAX($B$5:B187)+1)","v":183},"مراد 183","فريدة183","أولى","جذع مشترك علوم وتكنولوجيا",4,"1ع4","12/2/2182","البياضة","ذ","محمد علي183","حي الإزدهار - البياضة",null,"2018-08-13",183,"2018-09-10",187,"2019-07-07",190,null,null,null,null,null,{"$f":"IF($V$2=\"\",\"\",SEARCH($V$2,$A188&\"\"&#REF!&\"\"&$D188&\"\"&$F188&\"\"&$I188&\"\"&$J188&\"\"&$K188))","v":""},{"$f":"IF($X$2=\"\",\"\",SEARCH($X$2,$A188&\" \"&#REF!&\" \"&$D188&\" \"&$F188&\" \"&$I188&\" \"&$J188&\" \"&$K188&\" \"&$O188&\" \"&$Q188&\" \"&$S188&\" \"&$U188&\" \"&$V188&\" \"&$W188&\" \"&$X188))","v":""},{"$error":"#VALUE!"}]
[184,{"$f":"IF(C189=\"\",\"\",MAX($B$5:B188)+1)","v":184},"مراد 184","فريدة184","أولى","جذع مشترك علوم وتكنولوجيا",4,"1ع4","12/2/2183","البياضة","ذ","محمد علي184","حي السلام -البياضة",null,"2018-08-14",184,"2018-09-11",188,"2019-07-08",191,null,null,null,null,null,{"$f":"IF($V$2=\"\",\"\",SEARCH($V$2,$A189&\"\"&#REF!&\"\"&$D189&\"\"&$F189&\"\"&$I189&\"\"&$J189&\"\"&$K189))","v":""},{"$f":"IF($X$2=\"\",\"\",SEARCH($X$2,$A189&\" \"&#REF!&\" \"&$D189&\" \"&$F189&\" \"&$I189&\" \"&$J189&\" \"&$K189&\" \"&$O189&\" \"&$Q189&\" \"&$S189&\" \"&$U189&\" \"&$V189&\" \"&$W189&\" \"&$X189))","v":""},{"$error":"#VALUE!"}]
[185,{"$f":"IF(C190=\"\",\"\",MAX($B$5:B189)+1)","v":185},"مراد 185","فريدة185","أولى","جذع مشترك علوم وتكنولوجيا",4,"1ع4","12/2/2184","الوادي","ذ","محمد علي185","حي الإزدهار - البياضة",null,"2018-08-15",185,"2018-09-12",189,"2019-07-09",192,null,null,null,null,null,{"$f":"IF($V$2=\"\",\"\",SEARCH($V$2,$A190&\"\"&#REF!&\"\"&$D190&\"\"&$F190&\"\"&$I190&\"\"&$J190&\"\"&$K190))","v":""},{"$f":"IF($X$2=\"\",\"\",SEARCH($X$2,$A190&\" \"&#REF!&\" \"&$D190&\" \"&$F190&\" \"&$I190&\" \"&$J190&\" \"&$K190&\" \"&$O190&\" \"&$Q190&\" \"&$S190&\" \"&$U190&\" \"&$V190&\" \"&$W190&\" \"&$X190))","v":""},61]
[186,{"$f":"IF(C191=\"\",\"\",MAX($B$5:B190)+1)","v":186},"مراد 186","فريدة186","أولى","جذع مشترك علوم وتكنولوجيا",4,"1ع4","12/2/2185","الوادي","ذ","محمد علي186","حي السلام -البياضة",null,"2018-08-16",186,"2018-09-13",190,"2019-07-10",193,null,null,null,null,null,{"$f":"IF($V$2=\"\",\"\",SEARCH($V$2,$A191&\"\"&#REF!&\"\"&$D191&\"\"&$F191&\"\"&$I191&\"\"&$J191&\"\"&$K191))","v":""},{"$f":"IF($X$2=\"\",\"\",SEARCH($X$2,$A191&\" \"&#REF!&\" \"&$D191&\" \"&$F191&\" \"&$I191&\" \"&$J191&\" \"&$K191&\" \"&$O191&\" \"&$Q191&\" \"&$S191&\" \"&$U191&\" \"&$V191&\" \"&$W191&\" \"&$X191))","v":""},61]
[187,{"$f":"IF(C192=\"\",\"\",MAX($B$5:B191)+1)","v":187},"مراد 187","فريدة187","أولى","جذع مشترك علوم وتكنولوجيا",4,"1ع4","12/2/2186","الوادي","ذ","محمد علي187","حي الإزدهار - البياضة",null,"2018-08-17",187,"2018-09-14",191,"2019-07-11",194,null,null,null,null,null,{"$f":"IF($V$2=\"\",\"\",SEARCH($V$2,$A192&\"\"&#REF!&\"\"&$D192&\"\"&$F192&\"\"&$I192&\"\"&$J192&\"\"&$K192))","v":""},{"$f":"IF($X$2=\"\",\"\",SEARCH($X$2,$A192&\" \"&#REF!&\" \"&$D192&\" \"&$F192&\" \"&$I192&\" \"&$J192&\" \"&$K192&\" \"&$O192&\" \"&$Q192&\" \"&$S192&\" \"&$U192&\" \"&$V192&\" \"&$W192&\" \"&$X192))","v":""},61]
[188,{"$f":"IF(C193=\"\",\"\",MAX($B$5:B192)+1)","v":188},"مراد 188","فريدة188","أولى","جذع مشترك علوم وتكنولوجيا",4,"1ع4","12/2/2187","البياضة","ذ","محمد علي188","حي السلام -البياضة",null,"2018-08-18",188,"2018-09-15",192,"2019-07-12",195,null,null,null,null,null,{"$f":"IF($V$2=\"\",\"\",SEARCH($V$2,$A193&\"\"&#REF!&\"\"&$D193&\"\"&$F193&\"\"&$I193&\"\"&$J193&\"\"&$K193))","v":""},{"$f":"IF($X$2=\"\",\"\",SEARCH($X$2,$A193&\" \"&#REF!&\" \"&$D193&\" \"&$F193&\" \"&$I193&\" \"&$J193&\" \"&$K193&\" \"&$O193&\" \"&$Q193&\" \"&$S193&\" \"&$U193&\" \"&$V193&\" \"&$W193&\" \"&$X193))","v":""},{"$error":"#VALUE!"}]
[189,{"$f":"IF(C194=\"\",\"\",MAX($B$5:B193)+1)","v":189},"مراد 189","فريدة189","أولى","جذع مشترك علوم وتكنولوجيا",4,"1ع4","12/2/2188","البياضة","ذ","محمد علي189","حي الإزدهار - البياضة",null,"2018-08-19",189,"2018-09-16",193,"2019-07-13",196,null,null,null,null,null,{"$f":"IF($V$2=\"\",\"\",SEARCH($V$2,$A194&\"\"&#REF!&\"\"&$D194&\"\"&$F194&\"\"&$I194&\"\"&$J194&\"\"&$K194))","v":""},{"$f":"IF($X$2=\"\",\"\",SEARCH($X$2,$A194&\" \"&#REF!&\" \"&$D194&\" \"&$F194&\" \"&$I194&\" \"&$J194&\" \"&$K194&\" \"&$O194&\" \"&$Q194&\" \"&$S194&\" \"&$U194&\" \"&$V194&\" \"&$W194&\" \"&$X194))","v":""},{"$error":"#VALUE!"}]
[190,{"$f":"IF(C195=\"\",\"\",MAX($B$5:B194)+1)","v":190},"مراد 190","فريدة190","أولى","جذع مشترك علوم وتكنولوجيا",4,"1ع4","12/2/2189","البياضة","ذ","محمد علي190","حي السلام -البياضة",null,"2018-08-20",190,"2018-09-17",194,"2019-07-14",197,null,null,null,null,null,{"$f":"IF($V$2=\"\",\"\",SEARCH($V$2,$A195&\"\"&#REF!&\"\"&$D195&\"\"&$F195&\"\"&$I195&\"\"&$J195&\"\"&$K195))","v":""},{"$f":"IF($X$2=\"\",\"\",SEARCH($X$2,$A195&\" \"&#REF!&\" \"&$D195&\" \"&$F195&\" \"&$I195&\" \"&$J195&\" \"&$K195&\" \"&$O195&\" \"&$Q195&\" \"&$S195&\" \"&$U195&\" \"&$V195&\" \"&$W195&\" \"&$X195))","v":""},{"$error":"#VALUE!"}]
[191,{"$f":"IF(C196=\"\",\"\",MAX($B$5:B195)+1)","v":191},"مراد 191","فريدة191","أولى","جذع مشترك علوم وتكنولوجيا",4,"1ع4","12/2/2190","البياضة","ذ","محمد علي191","حي الإزدهار - البياضة",null,"2018-08-21",191,"2018-09-18",195,"2019-07-15",198,null,null,null,null,null,{"$f":"IF($V$2=\"\",\"\",SEARCH($V$2,$A196&\"\"&#REF!&\"\"&$D196&\"\"&$F196&\"\"&$I196&\"\"&$J196&\"\"&$K196))","v":""},{"$f":"IF($X$2=\"\",\"\",SEARCH($X$2,$A196&\" \"&#REF!&\" \"&$D196&\" \"&$F196&\" \"&$I196&\" \"&$J196&\" \"&$K196&\" \"&$O196&\" \"&$Q196&\" \"&$S196&\" \"&$U196&\" \"&$V196&\" \"&$W196&\" \"&$X196))","v":""},{"$error":"#VALUE!"}]
[192,{"$f":"IF(C197=\"\",\"\",MAX($B$5:B196)+1)","v":192},"مراد 192","فريدة192","أولى","جذع مشترك علوم وتكنولوجيا",4,"1ع4","12/2/2191","البياضة","ذ","محمد علي192","حي السلام -البياضة",null,"2018-08-22",192,"2018-09-19",196,"2019-07-16",199,null,null,null,null,null,{"$f":"IF($V$2=\"\",\"\",SEARCH($V$2,$A197&\"\"&#REF!&\"\"&$D197&\"\"&$F197&\"\"&$I197&\"\"&$J197&\"\"&$K197))","v":""},{"$f":"IF($X$2=\"\",\"\",SEARCH($X$2,$A197&\" \"&#REF!&\" \"&$D197&\" \"&$F197&\" \"&$I197&\" \"&$J197&\" \"&$K197&\" \"&$O197&\" \"&$Q197&\" \"&$S197&\" \"&$U197&\" \"&$V197&\" \"&$W197&\" \"&$X197))","v":""},{"$error":"#VALUE!"}]
[193,{"$f":"IF(C198=\"\",\"\",MAX($B$5:B197)+1)","v":193},"مراد 193","فريدة193","أولى","جذع مشترك علوم وتكنولوجيا",4,"1ع4","12/2/2192","البياضة","ذ","محمد علي193","حي الإزدهار - البياضة",null,"2018-08-23",193,"2018-09-20",197,"2019-07-17",200,null,null,null,null,null,{"$f":"IF($V$2=\"\",\"\",SEARCH($V$2,$A198&\"\"&#REF!&\"\"&$D198&\"\"&$F198&\"\"&$I198&\"\"&$J198&\"\"&$K198))","v":""},{"$f":"IF($X$2=\"\",\"\",SEARCH($X$2,$A198&\" \"&#REF!&\" \"&$D198&\" \"&$F198&\" \"&$I198&\" \"&$J198&\" \"&$K198&\" \"&$O198&\" \"&$Q198&\" \"&$S198&\" \"&$U198&\" \"&$V198&\" \"&$W198&\" \"&$X198))","v":""},{"$error":"#VALUE!"}]
[194,{"$f":"IF(C199=\"\",\"\",MAX($B$5:B198)+1)","v":194},"مراد 194","فريدة194","أولى","جذع مشترك علوم وتكنولوجيا",4,"1ع4","12/2/2193","الوادي","ذ","محمد علي194","حي السلام -البياضة",null,"2018-08-24",194,"2018-09-21",198,"2019-07-18",201,null,null,null,null,null,{"$f":"IF($V$2=\"\",\"\",SEARCH($V$2,$A199&\"\"&#REF!&\"\"&$D199&\"\"&$F199&\"\"&$I199&\"\"&$J199&\"\"&$K199))","v":""},{"$f":"IF($X$2=\"\",\"\",SEARCH($X$2,$A199&\" \"&#REF!&\" \"&$D199&\" \"&$F199&\" \"&$I199&\" \"&$J199&\" \"&$K199&\" \"&$O199&\" \"&$Q199&\" \"&$S199&\" \"&$U199&\" \"&$V199&\" \"&$W199&\" \"&$X199))","v":""},{"$f":"IF($L$2=\"\",\"\",SEARCH($L$2,$A199&\" \"&$D199&\" \"&$E199&\" \"&$F199&\" \"&$G199&\" \"&$H199&\" \"&$I199&\" \"&$J199&\" \"&$K199&\" \"&$L199&\" \"&$N199&\" \"&$O199&\" \"&$P199&\" \"&$Q199&\" \"&$R199&\" \"&$S199&\" \"&$T199&\" \"&$U199&\" \"&$V199&\" \"&$W199&\" \"&$X199))","v":61}]
[195,{"$f":"IF(C200=\"\",\"\",MAX($B$5:B199)+1)","v":195},"مراد 195","فريدة195","أولى","جذع مشترك علوم وتكنولوجيا",4,"1ع4","12/2/2194","ورقلة","ذ","محمد علي195","حي الإزدهار - البياضة",null,"2018-08-25",195,"2018-09-22",199,"2019-07-19",202,null,null,null,null,null,{"$f":"IF($V$2=\"\",\"\",SEARCH($V$2,$A200&\"\"&#REF!&\"\"&$D200&\"\"&$F200&\"\"&$I200&\"\"&$J200&\"\"&$K200))","v":""},{"$f":"IF($X$2=\"\",\"\",SEARCH($X$2,$A200&\" \"&#REF!&\" \"&$D200&\" \"&$F200&\" \"&$I200&\" \"&$J200&\" \"&$K200&\" \"&$O200&\" \"&$Q200&\" \"&$S200&\" \"&$U200&\" \"&$V200&\" \"&$W200&\" \"&$X200))","v":""},{"$error":"#VALUE!"}]
[196,{"$f":"IF(C201=\"\",\"\",MAX($B$5:B200)+1)","v":196},"مراد 196","فريدة196","أولى","جذع مشترك علوم وتكنولوجيا",4,"1ع4","12/2/2195","البياضة","ذ","محمد علي196","حي السلام -البياضة",null,"2018-08-26",196,"2018-09-23",200,"2019-07-20",203,null,null,null,null,null,{"$f":"IF($V$2=\"\",\"\",SEARCH($V$2,$A201&\"\"&#REF!&\"\"&$D201&\"\"&$F201&\"\"&$I201&\"\"&$J201&\"\"&$K201))","v":""},{"$f":"IF($X$2=\"\",\"\",SEARCH($X$2,$A201&\" \"&#REF!&\" \"&$D201&\" \"&$F201&\" \"&$I201&\" \"&$J201&\" \"&$K201&\" \"&$O201&\" \"&$Q201&\" \"&$S201&\" \"&$U201&\" \"&$V201&\" \"&$W201&\" \"&$X201))","v":""},{"$error":"#VALUE!"}]
[197,{"$f":"IF(C202=\"\",\"\",MAX($B$5:B201)+1)","v":197},"مراد 197","فريدة197","أولى","جذع مشترك علوم وتكنولوجيا",4,"1ع4","12/2/2196","الوادي","ذ","محمد علي197","حي الإزدهار - البياضة",null,"2018-08-27",197,"2018-09-24",201,"2019-07-21",204,null,null,null,null,null,{"$f":"IF($V$2=\"\",\"\",SEARCH($V$2,$A202&\"\"&#REF!&\"\"&$D202&\"\"&$F202&\"\"&$I202&\"\"&$J202&\"\"&$K202))","v":""},{"$f":"IF($X$2=\"\",\"\",SEARCH($X$2,$A202&\" \"&#REF!&\" \"&$D202&\" \"&$F202&\" \"&$I202&\" \"&$J202&\" \"&$K202&\" \"&$O202&\" \"&$Q202&\" \"&$S202&\" \"&$U202&\" \"&$V202&\" \"&$W202&\" \"&$X202))","v":""},61]
[198,{"$f":"IF(C203=\"\",\"\",MAX($B$5:B202)+1)","v":198},"مراد 198","فريدة198","أولى","جذع مشترك علوم وتكنولوجيا",4,"1ع4","12/2/2197","الوادي","ذ","محمد علي198","حي السلام -البياضة",null,"2018-08-28",198,"2018-09-25",202,"2019-07-22",205,null,null,null,null,null,{"$f":"IF($V$2=\"\",\"\",SEARCH($V$2,$A203&\"\"&#REF!&\"\"&$D203&\"\"&$F203&\"\"&$I203&\"\"&$J203&\"\"&$K203))","v":""},{"$f":"IF($X$2=\"\",\"\",SEARCH($X$2,$A203&\" \"&#REF!&\" \"&$D203&\" \"&$F203&\" \"&$I203&\" \"&$J203&\" \"&$K203&\" \"&$O203&\" \"&$Q203&\" \"&$S203&\" \"&$U203&\" \"&$V203&\" \"&$W203&\" \"&$X203))","v":""},61]
[199,{"$f":"IF(C204=\"\",\"\",MAX($B$5:B203)+1)","v":199},"مراد 199","فريدة199","أولى","جذع مشترك علوم وتكنولوجيا",4,"1ع4","12/2/2198","البياضة","ذ","محمد علي199","حي الإزدهار - البياضة",null,"2018-08-29",199,"2018-09-26",203,"2019-07-23",206,null,null,null,null,null,{"$f":"IF($V$2=\"\",\"\",SEARCH($V$2,$A204&\"\"&#REF!&\"\"&$D204&\"\"&$F204&\"\"&$I204&\"\"&$J204&\"\"&$K204))","v":""},{"$f":"IF($X$2=\"\",\"\",SEARCH($X$2,$A204&\" \"&#REF!&\" \"&$D204&\" \"&$F204&\" \"&$I204&\" \"&$J204&\" \"&$K204&\" \"&$O204&\" \"&$Q204&\" \"&$S204&\" \"&$U204&\" \"&$V204&\" \"&$W204&\" \"&$X204))","v":""},{"$error":"#VALUE!"}]
[200,{"$f":"IF(C205=\"\",\"\",MAX($B$5:B204)+1)","v":200},"مراد 200","فريدة200","أولى","جذع مشترك علوم وتكنولوجيا",4,"1ع4","12/2/2199","الوادي","ذ","محمد علي200","حي السلام -البياضة",null,"2018-08-30",200,"2018-09-27",204,"2019-07-24",207,null,null,null,null,null,{"$f":"IF($V$2=\"\",\"\",SEARCH($V$2,$A205&\"\"&#REF!&\"\"&$D205&\"\"&$F205&\"\"&$I205&\"\"&$J205&\"\"&$K205))","v":""},{"$f":"IF($X$2=\"\",\"\",SEARCH($X$2,$A205&\" \"&#REF!&\" \"&$D205&\" \"&$F205&\" \"&$I205&\" \"&$J205&\" \"&$K205&\" \"&$O205&\" \"&$Q205&\" \"&$S205&\" \"&$U205&\" \"&$V205&\" \"&$W205&\" \"&$X205))","v":""},61]
[201,{"$f":"IF(C206=\"\",\"\",MAX($B$5:B205)+1)","v":201},"مراد 201","فريدة201","أولى","جذع مشترك علوم وتكنولوجيا",4,"1ع4","12/2/2200","البياضة","ذ","محمد علي201","حي الإزدهار - البياضة",null,"2018-08-31",201,"2018-09-28",205,"2019-07-25",208,null,null,null,null,null,{"$f":"IF($V$2=\"\",\"\",SEARCH($V$2,$A206&\"\"&#REF!&\"\"&$D206&\"\"&$F206&\"\"&$I206&\"\"&$J206&\"\"&$K206))","v":""},{"$f":"IF($X$2=\"\",\"\",SEARCH($X$2,$A206&\" \"&#REF!&\" \"&$D206&\" \"&$F206&\" \"&$I206&\" \"&$J206&\" \"&$K206&\" \"&$O206&\" \"&$Q206&\" \"&$S206&\" \"&$U206&\" \"&$V206&\" \"&$W206&\" \"&$X206))","v":""},{"$error":"#VALUE!"}]
[202,{"$f":"IF(C207=\"\",\"\",MAX($B$5:B206)+1)","v":202},"مراد 202","فريدة202","أولى","جذع مشترك علوم وتكنولوجيا",4,"1ع4","12/2/2201","البياضة","ذ","محمد علي202","حي السلام -البياضة",null,"2018-09-01",202,"2018-09-29",206,"2019-07-26",209,null,null,null,null,null,{"$f":"IF($V$2=\"\",\"\",SEARCH($V$2,$A207&\"\"&#REF!&\"\"&$D207&\"\"&$F207&\"\"&$I207&\"\"&$J207&\"\"&$K207))","v":""},{"$f":"IF($X$2=\"\",\"\",SEARCH($X$2,$A207&\" \"&#REF!&\" \"&$D207&\" \"&$F207&\" \"&$I207&\" \"&$J207&\" \"&$K207&\" \"&$O207&\" \"&$Q207&\" \"&$S207&\" \"&$U207&\" \"&$V207&\" \"&$W207&\" \"&$X207))","v":""},{"$error":"#VALUE!"}]
[203,{"$f":"IF(C208=\"\",\"\",MAX($B$5:B207)+1)","v":203},"مراد 203","فريدة203","أولى","جذع مشترك علوم وتكنولوجيا",4,"1ع4","12/2/2202","الوادي","ذ","محمد علي203","حي الإزدهار - البياضة",null,"2018-09-02",203,"2018-09-30",207,"2019-07-27",210,null,null,null,null,null,{"$f":"IF($V$2=\"\",\"\",SEARCH($V$2,$A208&\"\"&#REF!&\"\"&$D208&\"\"&$F208&\"\"&$I208&\"\"&$J208&\"\"&$K208))","v":""},{"$f":"IF($X$2=\"\",\"\",SEARCH($X$2,$A208&\" \"&#REF!&\" \"&$D208&\" \"&$F208&\" \"&$I208&\" \"&$J208&\" \"&$K208&\" \"&$O208&\" \"&$Q208&\" \"&$S208&\" \"&$U208&\" \"&$V208&\" \"&$W208&\" \"&$X208))","v":""},61]
[204,{"$f":"IF(C209=\"\",\"\",MAX($B$5:B208)+1)","v":204},"مراد 204","فريدة204","أولى","جذع مشترك علوم وتكنولوجيا",4,"1ع4","12/2/2203","البياضة","ذ","محمد علي204","حي السلام -البياضة",null,"2018-09-03",204,"2018-10-01",208,"2019-07-28",211,null,null,null,null,null,{"$f":"IF($V$2=\"\",\"\",SEARCH($V$2,$A209&\"\"&#REF!&\"\"&$D209&\"\"&$F209&\"\"&$I209&\"\"&$J209&\"\"&$K209))","v":""},{"$f":"IF($X$2=\"\",\"\",SEARCH($X$2,$A209&\" \"&#REF!&\" \"&$D209&\" \"&$F209&\" \"&$I209&\" \"&$J209&\" \"&$K209&\" \"&$O209&\" \"&$Q209&\" \"&$S209&\" \"&$U209&\" \"&$V209&\" \"&$W209&\" \"&$X209))","v":""},{"$error":"#VALUE!"}]
[205,{"$f":"IF(C210=\"\",\"\",MAX($B$5:B209)+1)","v":205},"مراد 205","فريدة205","أولى","جذع مشترك علوم وتكنولوجيا",4,"1ع4","12/2/2204","البياضة","ذ","محمد علي205","حي الإزدهار - البياضة",null,"2018-09-04",205,"2018-10-02",209,"2019-07-29",212,null,null,null,null,null,{"$f":"IF($V$2=\"\",\"\",SEARCH($V$2,$A210&\"\"&#REF!&\"\"&$D210&\"\"&$F210&\"\"&$I210&\"\"&$J210&\"\"&$K210))","v":""},{"$f":"IF($X$2=\"\",\"\",SEARCH($X$2,$A210&\" \"&#REF!&\" \"&$D210&\" \"&$F210&\" \"&$I210&\" \"&$J210&\" \"&$K210&\" \"&$O210&\" \"&$Q210&\" \"&$S210&\" \"&$U210&\" \"&$V210&\" \"&$W210&\" \"&$X210))","v":""},{"$error":"#VALUE!"}]
[206,{"$f":"IF(C211=\"\",\"\",MAX($B$5:B210)+1)","v":206},"مراد 206","فريدة206","أولى","جذع مشترك علوم وتكنولوجيا",4,"1ع4","12/2/2205","البياضة","ذ","محمد علي206","حي السلام -البياضة",null,"2018-09-05",206,"2018-10-03",210,"2019-07-30",213,null,null,null,null,null,{"$f":"IF($V$2=\"\",\"\",SEARCH($V$2,$A211&\"\"&#REF!&\"\"&$D211&\"\"&$F211&\"\"&$I211&\"\"&$J211&\"\"&$K211))","v":""},{"$f":"IF($X$2=\"\",\"\",SEARCH($X$2,$A211&\" \"&#REF!&\" \"&$D211&\" \"&$F211&\" \"&$I211&\" \"&$J211&\" \"&$K211&\" \"&$O211&\" \"&$Q211&\" \"&$S211&\" \"&$U211&\" \"&$V211&\" \"&$W211&\" \"&$X211))","v":""},{"$error":"#VALUE!"}]
[207,{"$f":"IF(C212=\"\",\"\",MAX($B$5:B211)+1)","v":207},"مراد 207","فريدة207","أولى","جذع مشترك علوم وتكنولوجيا",4,"1ع4","12/2/2206","البياضة","ذ","محمد علي207","حي الإزدهار - البياضة",null,"2018-09-06",207,"2018-10-04",211,"2019-07-31",214,null,null,null,null,null,{"$f":"IF($V$2=\"\",\"\",SEARCH($V$2,$A212&\"\"&#REF!&\"\"&$D212&\"\"&$F212&\"\"&$I212&\"\"&$J212&\"\"&$K212))","v":""},{"$f":"IF($X$2=\"\",\"\",SEARCH($X$2,$A212&\" \"&#REF!&\" \"&$D212&\" \"&$F212&\" \"&$I212&\" \"&$J212&\" \"&$K212&\" \"&$O212&\" \"&$Q212&\" \"&$S212&\" \"&$U212&\" \"&$V212&\" \"&$W212&\" \"&$X212))","v":""},{"$error":"#VALUE!"}]
[208,{"$f":"IF(C213=\"\",\"\",MAX($B$5:B212)+1)","v":208},"مراد 208","فريدة208","أولى","جذع مشترك علوم وتكنولوجيا",4,"1ع4","12/2/2207","البياضة","ذ","محمد علي208","حي السلام -البياضة",null,"2018-09-07",208,"2018-10-05",212,"2019-08-01",215,null,null,null,null,null,{"$f":"IF($V$2=\"\",\"\",SEARCH($V$2,$A213&\"\"&#REF!&\"\"&$D213&\"\"&$F213&\"\"&$I213&\"\"&$J213&\"\"&$K213))","v":""},{"$f":"IF($X$2=\"\",\"\",SEARCH($X$2,$A213&\" \"&#REF!&\" \"&$D213&\" \"&$F213&\" \"&$I213&\" \"&$J213&\" \"&$K213&\" \"&$O213&\" \"&$Q213&\" \"&$S213&\" \"&$U213&\" \"&$V213&\" \"&$W213&\" \"&$X213))","v":""},{"$error":"#VALUE!"}]
[209,{"$f":"IF(C214=\"\",\"\",MAX($B$5:B213)+1)","v":209},"مراد 209","فريدة209","أولى","جذع مشترك علوم وتكنولوجيا",4,"1ع4","12/2/2208","البياضة","ذ","محمد علي209","حي الإزدهار - البياضة",null,"2018-09-08",209,"2018-10-06",213,"2019-08-02",216,null,null,null,null,null,{"$f":"IF($V$2=\"\",\"\",SEARCH($V$2,$A214&\"\"&#REF!&\"\"&$D214&\"\"&$F214&\"\"&$I214&\"\"&$J214&\"\"&$K214))","v":""},{"$f":"IF($X$2=\"\",\"\",SEARCH($X$2,$A214&\" \"&#REF!&\" \"&$D214&\" \"&$F214&\" \"&$I214&\" \"&$J214&\" \"&$K214&\" \"&$O214&\" \"&$Q214&\" \"&$S214&\" \"&$U214&\" \"&$V214&\" \"&$W214&\" \"&$X214))","v":""},{"$error":"#VALUE!"}]
[210,{"$f":"IF(C215=\"\",\"\",MAX($B$5:B214)+1)","v":210},"مراد 210","فريدة210","ثانية","آداب وفلسفة",1,"2آف1","12/2/2209","البياضة","ذ","محمد علي210","حي السلام -البياضة",null,"2018-09-09",210,"2018-10-07",214,"2019-08-03",217,null,null,null,null,null,{"$f":"IF($V$2=\"\",\"\",SEARCH($V$2,$A215&\"\"&#REF!&\"\"&$D215&\"\"&$F215&\"\"&$I215&\"\"&$J215&\"\"&$K215))","v":""},{"$f":"IF($X$2=\"\",\"\",SEARCH($X$2,$A215&\" \"&#REF!&\" \"&$D215&\" \"&$F215&\" \"&$I215&\" \"&$J215&\" \"&$K215&\" \"&$O215&\" \"&$Q215&\" \"&$S215&\" \"&$U215&\" \"&$V215&\" \"&$W215&\" \"&$X215))","v":""},{"$error":"#VALUE!"}]
[211,{"$f":"IF(C216=\"\",\"\",MAX($B$5:B215)+1)","v":211},"مراد 211","فريدة211","ثانية","آداب وفلسفة",1,"2آف1","12/2/2210","البياضة","ذ","محمد علي211","حي الإزدهار - البياضة",null,"2018-09-10",211,"2018-10-08",215,"2019-08-04",218,null,null,null,null,null,{"$f":"IF($V$2=\"\",\"\",SEARCH($V$2,$A216&\"\"&#REF!&\"\"&$D216&\"\"&$F216&\"\"&$I216&\"\"&$J216&\"\"&$K216))","v":""},{"$f":"IF($X$2=\"\",\"\",SEARCH($X$2,$A216&\" \"&#REF!&\" \"&$D216&\" \"&$F216&\" \"&$I216&\" \"&$J216&\" \"&$K216&\" \"&$O216&\" \"&$Q216&\" \"&$S216&\" \"&$U216&\" \"&$V216&\" \"&$W216&\" \"&$X216))","v":""},{"$error":"#VALUE!"}]
[212,{"$f":"IF(C217=\"\",\"\",MAX($B$5:B216)+1)","v":212},"مراد 212","فريدة212","ثانية","آداب وفلسفة",1,"2آف1","12/2/2211","الوادي","ذ","محمد علي212","حي السلام -البياضة",null,"2018-09-11",212,"2018-10-09",216,"2019-08-05",219,null,null,null,null,null,{"$f":"IF($V$2=\"\",\"\",SEARCH($V$2,$A217&\"\"&#REF!&\"\"&$D217&\"\"&$F217&\"\"&$I217&\"\"&$J217&\"\"&$K217))","v":""},{"$f":"IF($X$2=\"\",\"\",SEARCH($X$2,$A217&\" \"&#REF!&\" \"&$D217&\" \"&$F217&\" \"&$I217&\" \"&$J217&\" \"&$K217&\" \"&$O217&\" \"&$Q217&\" \"&$S217&\" \"&$U217&\" \"&$V217&\" \"&$W217&\" \"&$X217))","v":""},49]
[213,{"$f":"IF(C218=\"\",\"\",MAX($B$5:B217)+1)","v":213},"مراد 213","فريدة213","ثانية","آداب وفلسفة",1,"2آف1","12/2/2212","الوادي","ذ","محمد علي213","حي الإزدهار - البياضة",null,"2018-09-12",213,"2018-10-10",217,"2019-08-06",220,null,null,null,null,null,{"$f":"IF($V$2=\"\",\"\",SEARCH($V$2,$A218&\"\"&#REF!&\"\"&$D218&\"\"&$F218&\"\"&$I218&\"\"&$J218&\"\"&$K218))","v":""},{"$f":"IF($X$2=\"\",\"\",SEARCH($X$2,$A218&\" \"&#REF!&\" \"&$D218&\" \"&$F218&\" \"&$I218&\" \"&$J218&\" \"&$K218&\" \"&$O218&\" \"&$Q218&\" \"&$S218&\" \"&$U218&\" \"&$V218&\" \"&$W218&\" \"&$X218))","v":""},49]
[214,{"$f":"IF(C219=\"\",\"\",MAX($B$5:B218)+1)","v":214},"مراد 214","فريدة214","ثانية","آداب وفلسفة",1,"2آف1","12/2/2213","البياضة","ذ","محمد علي214","حي السلام -البياضة",null,"2018-09-13",214,"2018-10-11",218,"2019-08-07",221,null,null,null,null,null,{"$f":"IF($V$2=\"\",\"\",SEARCH($V$2,$A219&\"\"&#REF!&\"\"&$D219&\"\"&$F219&\"\"&$I219&\"\"&$J219&\"\"&$K219))","v":""},{"$f":"IF($X$2=\"\",\"\",SEARCH($X$2,$A219&\" \"&#REF!&\" \"&$D219&\" \"&$F219&\" \"&$I219&\" \"&$J219&\" \"&$K219&\" \"&$O219&\" \"&$Q219&\" \"&$S219&\" \"&$U219&\" \"&$V219&\" \"&$W219&\" \"&$X219))","v":""},{"$error":"#VALUE!"}]
[215,{"$f":"IF(C220=\"\",\"\",MAX($B$5:B219)+1)","v":215},"مراد 215","فريدة215","ثانية","آداب وفلسفة",1,"2آف1","12/2/2214","البياضة","ذ","محمد علي215","حي الإزدهار - البياضة",null,"2018-09-14",215,"2018-10-12",219,"2019-08-08",222,null,null,null,null,null,{"$f":"IF($V$2=\"\",\"\",SEARCH($V$2,$A220&\"\"&#REF!&\"\"&$D220&\"\"&$F220&\"\"&$I220&\"\"&$J220&\"\"&$K220))","v":""},{"$f":"IF($X$2=\"\",\"\",SEARCH($X$2,$A220&\" \"&#REF!&\" \"&$D220&\" \"&$F220&\" \"&$I220&\" \"&$J220&\" \"&$K220&\" \"&$O220&\" \"&$Q220&\" \"&$S220&\" \"&$U220&\" \"&$V220&\" \"&$W220&\" \"&$X220))","v":""},{"$error":"#VALUE!"}]
[216,{"$f":"IF(C221=\"\",\"\",MAX($B$5:B220)+1)","v":216},"مراد 216","فريدة216","ثانية","آداب وفلسفة",1,"2آف1","12/2/2215","البياضة","ذ","محمد علي216","حي السلام -البياضة",null,"2018-09-15",216,"2018-10-13",220,"2019-08-09",223,null,null,null,null,null,{"$f":"IF($V$2=\"\",\"\",SEARCH($V$2,$A221&\"\"&#REF!&\"\"&$D221&\"\"&$F221&\"\"&$I221&\"\"&$J221&\"\"&$K221))","v":""},{"$f":"IF($X$2=\"\",\"\",SEARCH($X$2,$A221&\" \"&#REF!&\" \"&$D221&\" \"&$F221&\" \"&$I221&\" \"&$J221&\" \"&$K221&\" \"&$O221&\" \"&$Q221&\" \"&$S221&\" \"&$U221&\" \"&$V221&\" \"&$W221&\" \"&$X221))","v":""},{"$error":"#VALUE!"}]
[217,{"$f":"IF(C222=\"\",\"\",MAX($B$5:B221)+1)","v":217},"مراد 217","فريدة217","ثانية","آداب وفلسفة",1,"2آف1","12/2/2216","البياضة","ذ","محمد علي217","حي الإزدهار - البياضة",null,"2018-09-16",217,"2018-10-14",221,"2019-08-10",224,null,null,null,null,null,{"$f":"IF($V$2=\"\",\"\",SEARCH($V$2,$A222&\"\"&#REF!&\"\"&$D222&\"\"&$F222&\"\"&$I222&\"\"&$J222&\"\"&$K222))","v":""},{"$f":"IF($X$2=\"\",\"\",SEARCH($X$2,$A222&\" \"&#REF!&\" \"&$D222&\" \"&$F222&\" \"&$I222&\" \"&$J222&\" \"&$K222&\" \"&$O222&\" \"&$Q222&\" \"&$S222&\" \"&$U222&\" \"&$V222&\" \"&$W222&\" \"&$X222))","v":""},{"$error":"#VALUE!"}]
[218,{"$f":"IF(C223=\"\",\"\",MAX($B$5:B222)+1)","v":218},"مراد 218","فريدة218","ثانية","آداب وفلسفة",1,"2آف1","12/2/2217","الوادي","ذ","محمد علي218","حي السلام -البياضة",null,"2018-09-17",218,"2018-10-15",222,"2019-08-11",225,null,null,null,null,null,{"$f":"IF($V$2=\"\",\"\",SEARCH($V$2,$A223&\"\"&#REF!&\"\"&$D223&\"\"&$F223&\"\"&$I223&\"\"&$J223&\"\"&$K223))","v":""},{"$f":"IF($X$2=\"\",\"\",SEARCH($X$2,$A223&\" \"&#REF!&\" \"&$D223&\" \"&$F223&\" \"&$I223&\" \"&$J223&\" \"&$K223&\" \"&$O223&\" \"&$Q223&\" \"&$S223&\" \"&$U223&\" \"&$V223&\" \"&$W223&\" \"&$X223))","v":""},49]
[219,{"$f":"IF(C224=\"\",\"\",MAX($B$5:B223)+1)","v":219},"مراد 219","فريدة219","ثانية","آداب وفلسفة",1,"2آف1","12/2/2218","الوادي","ذ","محمد علي219","حي الإزدهار - البياضة",null,"2018-09-18",219,"2018-10-16",223,"2019-08-12",226,null,null,null,null,null,{"$f":"IF($V$2=\"\",\"\",SEARCH($V$2,$A224&\"\"&#REF!&\"\"&$D224&\"\"&$F224&\"\"&$I224&\"\"&$J224&\"\"&$K224))","v":""},{"$f":"IF($X$2=\"\",\"\",SEARCH($X$2,$A224&\" \"&#REF!&\" \"&$D224&\" \"&$F224&\" \"&$I224&\" \"&$J224&\" \"&$K224&\" \"&$O224&\" \"&$Q224&\" \"&$S224&\" \"&$U224&\" \"&$V224&\" \"&$W224&\" \"&$X224))","v":""},49]
[220,{"$f":"IF(C225=\"\",\"\",MAX($B$5:B224)+1)","v":220},"مراد 220","فريدة220","ثانية","آداب وفلسفة",1,"2آف1","12/2/2219","البياضة","ذ","محمد علي220","حي السلام -البياضة",null,"2018-09-19",220,"2018-10-17",224,"2019-08-13",227,null,null,null,null,null,{"$f":"IF($V$2=\"\",\"\",SEARCH($V$2,$A225&\"\"&#REF!&\"\"&$D225&\"\"&$F225&\"\"&$I225&\"\"&$J225&\"\"&$K225))","v":""},{"$f":"IF($X$2=\"\",\"\",SEARCH($X$2,$A225&\" \"&#REF!&\" \"&$D225&\" \"&$F225&\" \"&$I225&\" \"&$J225&\" \"&$K225&\" \"&$O225&\" \"&$Q225&\" \"&$S225&\" \"&$U225&\" \"&$V225&\" \"&$W225&\" \"&$X225))","v":""},{"$error":"#VALUE!"}]
[221,{"$f":"IF(C226=\"\",\"\",MAX($B$5:B225)+1)","v":221},"مراد 221","فريدة221","ثانية","آداب وفلسفة",1,"2آف1","12/2/2220","البياضة","ذ","محمد علي221","حي الإزدهار - البياضة",null,"2018-09-20",221,"2018-10-18",225,"2019-08-14",228,null,null,null,null,null,{"$f":"IF($V$2=\"\",\"\",SEARCH($V$2,$A226&\"\"&#REF!&\"\"&$D226&\"\"&$F226&\"\"&$I226&\"\"&$J226&\"\"&$K226))","v":""},{"$f":"IF($X$2=\"\",\"\",SEARCH($X$2,$A226&\" \"&#REF!&\" \"&$D226&\" \"&$F226&\" \"&$I226&\" \"&$J226&\" \"&$K226&\" \"&$O226&\" \"&$Q226&\" \"&$S226&\" \"&$U226&\" \"&$V226&\" \"&$W226&\" \"&$X226))","v":""},{"$error":"#VALUE!"}]
[222,{"$f":"IF(C227=\"\",\"\",MAX($B$5:B226)+1)","v":222},"مراد 222","فريدة222","ثانية","آداب وفلسفة",1,"2آف1","12/2/2221","البياضة","ذ","محمد علي222","حي السلام -البياضة",null,"2018-09-21",222,"2018-10-19",226,"2019-08-15",229,null,null,null,null,null,{"$f":"IF($V$2=\"\",\"\",SEARCH($V$2,$A227&\"\"&#REF!&\"\"&$D227&\"\"&$F227&\"\"&$I227&\"\"&$J227&\"\"&$K227))","v":""},{"$f":"IF($X$2=\"\",\"\",SEARCH($X$2,$A227&\" \"&#REF!&\" \"&$D227&\" \"&$F227&\" \"&$I227&\" \"&$J227&\" \"&$K227&\" \"&$O227&\" \"&$Q227&\" \"&$S227&\" \"&$U227&\" \"&$V227&\" \"&$W227&\" \"&$X227))","v":""},{"$error":"#VALUE!"}]
[223,{"$f":"IF(C228=\"\",\"\",MAX($B$5:B227)+1)","v":223},"مراد 223","فريدة223","ثانية","آداب وفلسفة",1,"2آف1","12/2/2222","البياضة","ذ","محمد علي223","حي الإزدهار - البياضة",null,"2018-09-22",223,"2018-10-20",227,"2019-08-16",230,null,null,null,null,null,{"$f":"IF($V$2=\"\",\"\",SEARCH($V$2,$A228&\"\"&#REF!&\"\"&$D228&\"\"&$F228&\"\"&$I228&\"\"&$J228&\"\"&$K228))","v":""},{"$f":"IF($X$2=\"\",\"\",SEARCH($X$2,$A228&\" \"&#REF!&\" \"&$D228&\" \"&$F228&\" \"&$I228&\" \"&$J228&\" \"&$K228&\" \"&$O228&\" \"&$Q228&\" \"&$S228&\" \"&$U228&\" \"&$V228&\" \"&$W228&\" \"&$X228))","v":""},{"$error":"#VALUE!"}]
[224,{"$f":"IF(C229=\"\",\"\",MAX($B$5:B228)+1)","v":224},"مراد 224","فريدة224","ثانية","آداب وفلسفة",1,"2آف1","12/2/2223","البياضة","ذ","محمد علي224","حي السلام -البياضة",null,"2018-09-23",224,"2018-10-21",228,"2019-08-17",231,null,null,null,null,null,{"$f":"IF($V$2=\"\",\"\",SEARCH($V$2,$A229&\"\"&#REF!&\"\"&$D229&\"\"&$F229&\"\"&$I229&\"\"&$J229&\"\"&$K229))","v":""},{"$f":"IF($X$2=\"\",\"\",SEARCH($X$2,$A229&\" \"&#REF!&\" \"&$D229&\" \"&$F229&\" \"&$I229&\" \"&$J229&\" \"&$K229&\" \"&$O229&\" \"&$Q229&\" \"&$S229&\" \"&$U229&\" \"&$V229&\" \"&$W229&\" \"&$X229))","v":""},{"$error":"#VALUE!"}]
[225,{"$f":"IF(C230=\"\",\"\",MAX($B$5:B229)+1)","v":225},"مراد 225","فريدة225","ثانية","آداب وفلسفة",1,"2آف1","12/2/2224","الوادي","ذ","محمد علي225","حي الإزدهار - البياضة",null,"2018-09-24",225,"2018-10-22",229,"2019-08-18",232,null,null,null,null,null,{"$f":"IF($V$2=\"\",\"\",SEARCH($V$2,$A230&\"\"&#REF!&\"\"&$D230&\"\"&$F230&\"\"&$I230&\"\"&$J230&\"\"&$K230))","v":""},{"$f":"IF($X$2=\"\",\"\",SEARCH($X$2,$A230&\" \"&#REF!&\" \"&$D230&\" \"&$F230&\" \"&$I230&\" \"&$J230&\" \"&$K230&\" \"&$O230&\" \"&$Q230&\" \"&$S230&\" \"&$U230&\" \"&$V230&\" \"&$W230&\" \"&$X230))","v":""},49]
[226,{"$f":"IF(C231=\"\",\"\",MAX($B$5:B230)+1)","v":226},"مراد 226","فريدة226","ثانية","آداب وفلسفة",1,"2آف1","12/2/2225","البياضة","ذ","محمد علي226","حي السلام -البياضة",null,"2018-09-25",226,"2018-10-23",230,"2019-08-19",233,null,null,null,null,null,{"$f":"IF($V$2=\"\",\"\",SEARCH($V$2,$A231&\"\"&#REF!&\"\"&$D231&\"\"&$F231&\"\"&$I231&\"\"&$J231&\"\"&$K231))","v":""},{"$f":"IF($X$2=\"\",\"\",SEARCH($X$2,$A231&\" \"&#REF!&\" \"&$D231&\" \"&$F231&\" \"&$I231&\" \"&$J231&\" \"&$K231&\" \"&$O231&\" \"&$Q231&\" \"&$S231&\" \"&$U231&\" \"&$V231&\" \"&$W231&\" \"&$X231))","v":""},{"$error":"#VALUE!"}]
[227,{"$f":"IF(C232=\"\",\"\",MAX($B$5:B231)+1)","v":227},"مراد 227","فريدة227","ثانية","آداب وفلسفة",1,"2آف1","12/2/2226","البياضة","ذ","محمد علي227","حي الإزدهار - البياضة",null,"2018-09-26",227,"2018-10-24",231,"2019-08-20",234,null,null,null,null,null,{"$f":"IF($V$2=\"\",\"\",SEARCH($V$2,$A232&\"\"&#REF!&\"\"&$D232&\"\"&$F232&\"\"&$I232&\"\"&$J232&\"\"&$K232))","v":""},{"$f":"IF($X$2=\"\",\"\",SEARCH($X$2,$A232&\" \"&#REF!&\" \"&$D232&\" \"&$F232&\" \"&$I232&\" \"&$J232&\" \"&$K232&\" \"&$O232&\" \"&$Q232&\" \"&$S232&\" \"&$U232&\" \"&$V232&\" \"&$W232&\" \"&$X232))","v":""},{"$error":"#VALUE!"}]
[228,{"$f":"IF(C233=\"\",\"\",MAX($B$5:B232)+1)","v":228},"مراد 228","فريدة228","ثانية","آداب وفلسفة",1,"2آف1","12/2/2227","البياضة","ذ","محمد علي228","حي السلام -البياضة",null,"2018-09-27",228,"2018-10-25",232,"2019-08-21",235,null,null,null,null,null,{"$f":"IF($V$2=\"\",\"\",SEARCH($V$2,$A233&\"\"&#REF!&\"\"&$D233&\"\"&$F233&\"\"&$I233&\"\"&$J233&\"\"&$K233))","v":""},{"$f":"IF($X$2=\"\",\"\",SEARCH($X$2,$A233&\" \"&#REF!&\" \"&$D233&\" \"&$F233&\" \"&$I233&\" \"&$J233&\" \"&$K233&\" \"&$O233&\" \"&$Q233&\" \"&$S233&\" \"&$U233&\" \"&$V233&\" \"&$W233&\" \"&$X233))","v":""},{"$error":"#VALUE!"}]
[229,{"$f":"IF(C234=\"\",\"\",MAX($B$5:B233)+1)","v":229},"مراد 229","فريدة229","ثانية","آداب وفلسفة",1,"2آف1","12/2/2228","البياضة","ذ","محمد علي229","حي الإزدهار - البياضة",null,"2018-09-28",229,"2018-10-26",233,"2019-08-22",236,null,null,null,null,null,{"$f":"IF($V$2=\"\",\"\",SEARCH($V$2,$A234&\"\"&#REF!&\"\"&$D234&\"\"&$F234&\"\"&$I234&\"\"&$J234&\"\"&$K234))","v":""},{"$f":"IF($X$2=\"\",\"\",SEARCH($X$2,$A234&\" \"&#REF!&\" \"&$D234&\" \"&$F234&\" \"&$I234&\" \"&$J234&\" \"&$K234&\" \"&$O234&\" \"&$Q234&\" \"&$S234&\" \"&$U234&\" \"&$V234&\" \"&$W234&\" \"&$X234))","v":""},{"$error":"#VALUE!"}]
[230,{"$f":"IF(C235=\"\",\"\",MAX($B$5:B234)+1)","v":230},"مراد 230","فريدة230","ثانية","آداب وفلسفة",1,"2آف1","12/2/2229","الوادي","ذ","محمد علي230","حي السلام -البياضة",null,"2018-09-29",230,"2018-10-27",234,"2019-08-23",237,null,null,null,null,null,{"$f":"IF($V$2=\"\",\"\",SEARCH($V$2,$A235&\"\"&#REF!&\"\"&$D235&\"\"&$F235&\"\"&$I235&\"\"&$J235&\"\"&$K235))","v":""},{"$f":"IF($X$2=\"\",\"\",SEARCH($X$2,$A235&\" \"&#REF!&\" \"&$D235&\" \"&$F235&\" \"&$I235&\" \"&$J235&\" \"&$K235&\" \"&$O235&\" \"&$Q235&\" \"&$S235&\" \"&$U235&\" \"&$V235&\" \"&$W235&\" \"&$X235))","v":""},49]
[231,{"$f":"IF(C236=\"\",\"\",MAX($B$5:B235)+1)","v":231},"مراد 231","فريدة231","ثانية","آداب وفلسفة",1,"2آف1","12/2/2230","البياضة","ذ","محمد علي231","حي الإزدهار - البياضة",null,"2018-09-30",231,"2018-10-28",235,"2019-08-24",238,null,null,null,null,null,{"$f":"IF($V$2=\"\",\"\",SEARCH($V$2,$A236&\"\"&#REF!&\"\"&$D236&\"\"&$F236&\"\"&$I236&\"\"&$J236&\"\"&$K236))","v":""},{"$f":"IF($X$2=\"\",\"\",SEARCH($X$2,$A236&\" \"&#REF!&\" \"&$D236&\" \"&$F236&\" \"&$I236&\" \"&$J236&\" \"&$K236&\" \"&$O236&\" \"&$Q236&\" \"&$S236&\" \"&$U236&\" \"&$V236&\" \"&$W236&\" \"&$X236))","v":""},{"$error":"#VALUE!"}]
[232,{"$f":"IF(C237=\"\",\"\",MAX($B$5:B236)+1)","v":232},"مراد 232","فريدة232","ثانية","آداب وفلسفة",1,"2آف1","12/2/2231","البياضة","ذ","محمد علي232","حي السلام -البياضة",null,"2018-10-01",232,"2018-10-29",236,"2019-08-25",239,null,null,null,null,null,{"$f":"IF($V$2=\"\",\"\",SEARCH($V$2,$A237&\"\"&#REF!&\"\"&$D237&\"\"&$F237&\"\"&$I237&\"\"&$J237&\"\"&$K237))","v":""},{"$f":"IF($X$2=\"\",\"\",SEARCH($X$2,$A237&\" \"&#REF!&\" \"&$D237&\" \"&$F237&\" \"&$I237&\" \"&$J237&\" \"&$K237&\" \"&$O237&\" \"&$Q237&\" \"&$S237&\" \"&$U237&\" \"&$V237&\" \"&$W237&\" \"&$X237))","v":""},{"$error":"#VALUE!"}]
[233,{"$f":"IF(C238=\"\",\"\",MAX($B$5:B237)+1)","v":233},"مراد 233","فريدة233","ثانية","علوم تجريبية",1,"2ع1","12/2/2232","البياضة","ذ","محمد علي233","حي الإزدهار - البياضة",null,"2018-10-02",233,"2018-10-30",237,"2019-08-26",240,null,null,null,null,null,{"$f":"IF($V$2=\"\",\"\",SEARCH($V$2,$A238&\"\"&#REF!&\"\"&$D238&\"\"&$F238&\"\"&$I238&\"\"&$J238&\"\"&$K238))","v":""},{"$f":"IF($X$2=\"\",\"\",SEARCH($X$2,$A238&\" \"&#REF!&\" \"&$D238&\" \"&$F238&\" \"&$I238&\" \"&$J238&\" \"&$K238&\" \"&$O238&\" \"&$Q238&\" \"&$S238&\" \"&$U238&\" \"&$V238&\" \"&$W238&\" \"&$X238))","v":""},{"$error":"#VALUE!"}]
[234,{"$f":"IF(C239=\"\",\"\",MAX($B$5:B238)+1)","v":234},"مراد 234","فريدة234","ثانية","علوم تجريبية",1,"2ع1","12/2/2233","البياضة","ذ","محمد علي234","حي السلام -البياضة",null,"2018-10-03",234,"2018-10-31",238,"2019-08-27",241,null,null,null,null,null,{"$f":"IF($V$2=\"\",\"\",SEARCH($V$2,$A239&\"\"&#REF!&\"\"&$D239&\"\"&$F239&\"\"&$I239&\"\"&$J239&\"\"&$K239))","v":""},{"$f":"IF($X$2=\"\",\"\",SEARCH($X$2,$A239&\" \"&#REF!&\" \"&$D239&\" \"&$F239&\" \"&$I239&\" \"&$J239&\" \"&$K239&\" \"&$O239&\" \"&$Q239&\" \"&$S239&\" \"&$U239&\" \"&$V239&\" \"&$W239&\" \"&$X239))","v":""},{"$error":"#VALUE!"}]
[235,{"$f":"IF(C240=\"\",\"\",MAX($B$5:B239)+1)","v":235},"مراد 235","فريدة235","ثانية","علوم تجريبية",1,"2ع1","12/2/2234","ورقلة","ذ","محمد علي235","حي الإزدهار - البياضة",null,"2018-10-04",235,"2018-11-01",239,"2019-08-28",242,null,null,null,null,null,{"$f":"IF($V$2=\"\",\"\",SEARCH($V$2,$A240&\"\"&#REF!&\"\"&$D240&\"\"&$F240&\"\"&$I240&\"\"&$J240&\"\"&$K240))","v":""},{"$f":"IF($X$2=\"\",\"\",SEARCH($X$2,$A240&\" \"&#REF!&\" \"&$D240&\" \"&$F240&\" \"&$I240&\" \"&$J240&\" \"&$K240&\" \"&$O240&\" \"&$Q240&\" \"&$S240&\" \"&$U240&\" \"&$V240&\" \"&$W240&\" \"&$X240))","v":""},{"$error":"#VALUE!"}]
[236,{"$f":"IF(C241=\"\",\"\",MAX($B$5:B240)+1)","v":236},"مراد 236","فريدة236","ثانية","علوم تجريبية",1,"2ع1","12/2/2235","البياضة","ذ","محمد علي236","حي السلام -البياضة",null,"2018-10-05",236,"2018-11-02",240,"2019-08-29",243,null,null,null,null,null,{"$f":"IF($V$2=\"\",\"\",SEARCH($V$2,$A241&\"\"&#REF!&\"\"&$D241&\"\"&$F241&\"\"&$I241&\"\"&$J241&\"\"&$K241))","v":""},{"$f":"IF($X$2=\"\",\"\",SEARCH($X$2,$A241&\" \"&#REF!&\" \"&$D241&\" \"&$F241&\" \"&$I241&\" \"&$J241&\" \"&$K241&\" \"&$O241&\" \"&$Q241&\" \"&$S241&\" \"&$U241&\" \"&$V241&\" \"&$W241&\" \"&$X241))","v":""},{"$error":"#VALUE!"}]
[237,{"$f":"IF(C242=\"\",\"\",MAX($B$5:B241)+1)","v":237},"مراد 237","فريدة237","ثانية","علوم تجريبية",1,"2ع1","12/2/2236","الوادي","ذ","محمد علي237","حي الإزدهار - البياضة",null,"2018-10-06",237,"2018-11-03",241,"2019-08-30",244,null,null,null,null,null,{"$f":"IF($V$2=\"\",\"\",SEARCH($V$2,$A242&\"\"&#REF!&\"\"&$D242&\"\"&$F242&\"\"&$I242&\"\"&$J242&\"\"&$K242))","v":""},{"$f":"IF($X$2=\"\",\"\",SEARCH($X$2,$A242&\" \"&#REF!&\" \"&$D242&\" \"&$F242&\" \"&$I242&\" \"&$J242&\" \"&$K242&\" \"&$O242&\" \"&$Q242&\" \"&$S242&\" \"&$U242&\" \"&$V242&\" \"&$W242&\" \"&$X242))","v":""},49]
[238,{"$f":"IF(C243=\"\",\"\",MAX($B$5:B242)+1)","v":238},"مراد 238","فريدة238","ثانية","علوم تجريبية",1,"2ع1","12/2/2237","سكيكدة","ذ","محمد علي238","حي السلام -البياضة",null,"2018-10-07",238,"2018-11-04",242,"2019-08-31",245,null,null,null,null,null,{"$f":"IF($V$2=\"\",\"\",SEARCH($V$2,$A243&\"\"&#REF!&\"\"&$D243&\"\"&$F243&\"\"&$I243&\"\"&$J243&\"\"&$K243))","v":""},{"$f":"IF($X$2=\"\",\"\",SEARCH($X$2,$A243&\" \"&#REF!&\" \"&$D243&\" \"&$F243&\" \"&$I243&\" \"&$J243&\" \"&$K243&\" \"&$O243&\" \"&$Q243&\" \"&$S243&\" \"&$U243&\" \"&$V243&\" \"&$W243&\" \"&$X243))","v":""},{"$error":"#VALUE!"}]
[239,{"$f":"IF(C244=\"\",\"\",MAX($B$5:B243)+1)","v":239},"مراد 239","فريدة239","ثانية","علوم تجريبية",1,"2ع1","12/2/2238","البياضة","ذ","محمد علي239","حي الإزدهار - البياضة",null,"2018-10-08",239,"2018-11-05",243,"2019-09-01",246,null,null,null,null,null,{"$f":"IF($V$2=\"\",\"\",SEARCH($V$2,$A244&\"\"&#REF!&\"\"&$D244&\"\"&$F244&\"\"&$I244&\"\"&$J244&\"\"&$K244))","v":""},{"$f":"IF($X$2=\"\",\"\",SEARCH($X$2,$A244&\" \"&#REF!&\" \"&$D244&\" \"&$F244&\" \"&$I244&\" \"&$J244&\" \"&$K244&\" \"&$O244&\" \"&$Q244&\" \"&$S244&\" \"&$U244&\" \"&$V244&\" \"&$W244&\" \"&$X244))","v":""},{"$error":"#VALUE!"}]
[240,{"$f":"IF(C245=\"\",\"\",MAX($B$5:B244)+1)","v":240},"مراد 240","فريدة240","ثانية","علوم تجريبية",1,"2ع1","12/2/2239","البياضة","ذ","محمد علي240","حي السلام -البياضة",null,"2018-10-09",240,"2018-11-06",244,"2019-09-02",247,null,null,null,null,null,{"$f":"IF($V$2=\"\",\"\",SEARCH($V$2,$A245&\"\"&#REF!&\"\"&$D245&\"\"&$F245&\"\"&$I245&\"\"&$J245&\"\"&$K245))","v":""},{"$f":"IF($X$2=\"\",\"\",SEARCH($X$2,$A245&\" \"&#REF!&\" \"&$D245&\" \"&$F245&\" \"&$I245&\" \"&$J245&\" \"&$K245&\" \"&$O245&\" \"&$Q245&\" \"&$S245&\" \"&$U245&\" \"&$V245&\" \"&$W245&\" \"&$X245))","v":""},{"$error":"#VALUE!"}]
[241,{"$f":"IF(C246=\"\",\"\",MAX($B$5:B245)+1)","v":241},"مراد 241","فريدة241","ثانية","علوم تجريبية",1,"2ع1","12/2/2240","البياضة","ذ","محمد علي241","حي الإزدهار - البياضة",null,"2018-10-10",241,"2018-11-07",245,"2019-09-03",248,null,null,null,null,null,{"$f":"IF($V$2=\"\",\"\",SEARCH($V$2,$A246&\"\"&#REF!&\"\"&$D246&\"\"&$F246&\"\"&$I246&\"\"&$J246&\"\"&$K246))","v":""},{"$f":"IF($X$2=\"\",\"\",SEARCH($X$2,$A246&\" \"&#REF!&\" \"&$D246&\" \"&$F246&\" \"&$I246&\" \"&$J246&\" \"&$K246&\" \"&$O246&\" \"&$Q246&\" \"&$S246&\" \"&$U246&\" \"&$V246&\" \"&$W246&\" \"&$X246))","v":""},{"$error":"#VALUE!"}]
[242,{"$f":"IF(C247=\"\",\"\",MAX($B$5:B246)+1)","v":242},"مراد 242","فريدة242","ثانية","علوم تجريبية",1,"2ع1","12/2/2241","البياضة","ذ","محمد علي242","حي السلام -البياضة",null,"2018-10-11",242,"2018-11-08",246,"2019-09-04",249,null,null,null,null,null,{"$f":"IF($V$2=\"\",\"\",SEARCH($V$2,$A247&\"\"&#REF!&\"\"&$D247&\"\"&$F247&\"\"&$I247&\"\"&$J247&\"\"&$K247))","v":""},{"$f":"IF($X$2=\"\",\"\",SEARCH($X$2,$A247&\" \"&#REF!&\" \"&$D247&\" \"&$F247&\" \"&$I247&\" \"&$J247&\" \"&$K247&\" \"&$O247&\" \"&$Q247&\" \"&$S247&\" \"&$U247&\" \"&$V247&\" \"&$W247&\" \"&$X247))","v":""},{"$error":"#VALUE!"}]
[243,{"$f":"IF(C248=\"\",\"\",MAX($B$5:B247)+1)","v":243},"مراد 243","فريدة243","ثانية","علوم تجريبية",1,"2ع1","12/2/2242","الوادي","ذ","محمد علي243","حي الإزدهار - البياضة",null,"2018-10-12",243,"2018-11-09",247,"2019-09-05",250,null,null,null,null,null,{"$f":"IF($V$2=\"\",\"\",SEARCH($V$2,$A248&\"\"&#REF!&\"\"&$D248&\"\"&$F248&\"\"&$I248&\"\"&$J248&\"\"&$K248))","v":""},{"$f":"IF($X$2=\"\",\"\",SEARCH($X$2,$A248&\" \"&#REF!&\" \"&$D248&\" \"&$F248&\" \"&$I248&\" \"&$J248&\" \"&$K248&\" \"&$O248&\" \"&$Q248&\" \"&$S248&\" \"&$U248&\" \"&$V248&\" \"&$W248&\" \"&$X248))","v":""},49]
[244,{"$f":"IF(C249=\"\",\"\",MAX($B$5:B248)+1)","v":244},"مراد 244","فريدة244","ثانية","علوم تجريبية",1,"2ع1","12/2/2243","الوادي","ذ","محمد علي244","حي السلام -البياضة",null,"2018-10-13",244,"2018-11-10",248,"2019-09-06",251,null,null,null,null,null,{"$f":"IF($V$2=\"\",\"\",SEARCH($V$2,$A249&\"\"&#REF!&\"\"&$D249&\"\"&$F249&\"\"&$I249&\"\"&$J249&\"\"&$K249))","v":""},{"$f":"IF($X$2=\"\",\"\",SEARCH($X$2,$A249&\" \"&#REF!&\" \"&$D249&\" \"&$F249&\" \"&$I249&\" \"&$J249&\" \"&$K249&\" \"&$O249&\" \"&$Q249&\" \"&$S249&\" \"&$U249&\" \"&$V249&\" \"&$W249&\" \"&$X249))","v":""},49]
[245,{"$f":"IF(C250=\"\",\"\",MAX($B$5:B249)+1)","v":245},"مراد 245","فريدة245","ثانية","علوم تجريبية",1,"2ع1","12/2/2244","البياضة","ذ","محمد علي245","حي الإزدهار - البياضة",null,"2018-10-14",245,"2018-11-11",249,"2019-09-07",252,null,null,null,null,null,{"$f":"IF($V$2=\"\",\"\",SEARCH($V$2,$A250&\"\"&#REF!&\"\"&$D250&\"\"&$F250&\"\"&$I250&\"\"&$J250&\"\"&$K250))","v":""},{"$f":"IF($X$2=\"\",\"\",SEARCH($X$2,$A250&\" \"&#REF!&\" \"&$D250&\" \"&$F250&\" \"&$I250&\" \"&$J250&\" \"&$K250&\" \"&$O250&\" \"&$Q250&\" \"&$S250&\" \"&$U250&\" \"&$V250&\" \"&$W250&\" \"&$X250))","v":""},{"$error":"#VALUE!"}]
[246,{"$f":"IF(C251=\"\",\"\",MAX($B$5:B250)+1)","v":246},"مراد 246","فريدة246","ثانية","علوم تجريبية",1,"2ع1","12/2/2245","البياضة","ذ","محمد علي246","حي السلام -البياضة",null,"2018-10-15",246,"2018-11-12",250,"2019-09-08",253,null,null,null,null,null,{"$f":"IF($V$2=\"\",\"\",SEARCH($V$2,$A251&\"\"&#REF!&\"\"&$D251&\"\"&$F251&\"\"&$I251&\"\"&$J251&\"\"&$K251))","v":""},{"$f":"IF($X$2=\"\",\"\",SEARCH($X$2,$A251&\" \"&#REF!&\" \"&$D251&\" \"&$F251&\" \"&$I251&\" \"&$J251&\" \"&$K251&\" \"&$O251&\" \"&$Q251&\" \"&$S251&\" \"&$U251&\" \"&$V251&\" \"&$W251&\" \"&$X251))","v":""},{"$error":"#VALUE!"}]
[247,{"$f":"IF(C252=\"\",\"\",MAX($B$5:B251)+1)","v":247},"مراد 247","فريدة247","ثانية","علوم تجريبية",1,"2ع1","12/2/2246","البياضة","ذ","محمد علي247","حي الإزدهار - البياضة",null,"2018-10-16",247,"2018-11-13",251,"2019-09-09",254,null,null,null,null,null,{"$f":"IF($V$2=\"\",\"\",SEARCH($V$2,$A252&\"\"&#REF!&\"\"&$D252&\"\"&$F252&\"\"&$I252&\"\"&$J252&\"\"&$K252))","v":""},{"$f":"IF($X$2=\"\",\"\",SEARCH($X$2,$A252&\" \"&#REF!&\" \"&$D252&\" \"&$F252&\" \"&$I252&\" \"&$J252&\" \"&$K252&\" \"&$O252&\" \"&$Q252&\" \"&$S252&\" \"&$U252&\" \"&$V252&\" \"&$W252&\" \"&$X252))","v":""},{"$error":"#VALUE!"}]
[248,{"$f":"IF(C253=\"\",\"\",MAX($B$5:B252)+1)","v":248},"مراد 248","فريدة248","ثانية","علوم تجريبية",1,"2ع1","12/2/2247","البياضة","ذ","محمد علي248","حي السلام -البياضة",null,"2018-10-17",248,"2018-11-14",252,"2019-09-10",255,null,null,null,null,null,{"$f":"IF($V$2=\"\",\"\",SEARCH($V$2,$A253&\"\"&#REF!&\"\"&$D253&\"\"&$F253&\"\"&$I253&\"\"&$J253&\"\"&$K253))","v":""},{"$f":"IF($X$2=\"\",\"\",SEARCH($X$2,$A253&\" \"&#REF!&\" \"&$D253&\" \"&$F253&\" \"&$I253&\" \"&$J253&\" \"&$K253&\" \"&$O253&\" \"&$Q253&\" \"&$S253&\" \"&$U253&\" \"&$V253&\" \"&$W253&\" \"&$X253))","v":""},{"$error":"#VALUE!"}]
[249,{"$f":"IF(C254=\"\",\"\",MAX($B$5:B253)+1)","v":249},"مراد 249","فريدة249","ثانية","علوم تجريبية",1,"2ع1","12/2/2248","البياضة","ذ","محمد علي249","حي الإزدهار - البياضة",null,"2018-10-18",249,"2018-11-15",253,"2019-09-11",256,null,null,null,null,null,{"$f":"IF($V$2=\"\",\"\",SEARCH($V$2,$A254&\"\"&#REF!&\"\"&$D254&\"\"&$F254&\"\"&$I254&\"\"&$J254&\"\"&$K254))","v":""},{"$f":"IF($X$2=\"\",\"\",SEARCH($X$2,$A254&\" \"&#REF!&\" \"&$D254&\" \"&$F254&\" \"&$I254&\" \"&$J254&\" \"&$K254&\" \"&$O254&\" \"&$Q254&\" \"&$S254&\" \"&$U254&\" \"&$V254&\" \"&$W254&\" \"&$X254))","v":""},{"$error":"#VALUE!"}]
[250,{"$f":"IF(C255=\"\",\"\",MAX($B$5:B254)+1)","v":250},"مراد 250","فريدة250","ثانية","علوم تجريبية",1,"2ع1","12/2/2249","البياضة","ذ","محمد علي250","حي السلام -البياضة",null,"2018-10-19",250,"2018-11-16",254,"2019-09-12",257,null,null,null,null,null,{"$f":"IF($V$2=\"\",\"\",SEARCH($V$2,$A255&\"\"&#REF!&\"\"&$D255&\"\"&$F255&\"\"&$I255&\"\"&$J255&\"\"&$K255))","v":""},{"$f":"IF($X$2=\"\",\"\",SEARCH($X$2,$A255&\" \"&#REF!&\" \"&$D255&\" \"&$F255&\" \"&$I255&\" \"&$J255&\" \"&$K255&\" \"&$O255&\" \"&$Q255&\" \"&$S255&\" \"&$U255&\" \"&$V255&\" \"&$W255&\" \"&$X255))","v":""},{"$error":"#VALUE!"}]
[251,{"$f":"IF(C256=\"\",\"\",MAX($B$5:B255)+1)","v":251},"مراد 251","فريدة251","ثانية","علوم تجريبية",1,"2ع1","12/2/2250","الوادي","ذ","محمد علي251","حي الإزدهار - البياضة",null,"2018-10-20",251,"2018-11-17",255,"2019-09-13",258,null,null,null,null,null,{"$f":"IF($V$2=\"\",\"\",SEARCH($V$2,$A256&\"\"&#REF!&\"\"&$D256&\"\"&$F256&\"\"&$I256&\"\"&$J256&\"\"&$K256))","v":""},{"$f":"IF($X$2=\"\",\"\",SEARCH($X$2,$A256&\" \"&#REF!&\" \"&$D256&\" \"&$F256&\" \"&$I256&\" \"&$J256&\" \"&$K256&\" \"&$O256&\" \"&$Q256&\" \"&$S256&\" \"&$U256&\" \"&$V256&\" \"&$W256&\" \"&$X256))","v":""},49]
[252,{"$f":"IF(C257=\"\",\"\",MAX($B$5:B256)+1)","v":252},"مراد 252","فريدة252","ثانية","علوم تجريبية",1,"2ع1","12/2/2251","البياضة","ذ","محمد علي252","حي السلام -البياضة",null,"2018-10-21",252,"2018-11-18",256,"2019-09-14",259,null,null,null,null,null,{"$f":"IF($V$2=\"\",\"\",SEARCH($V$2,$A257&\"\"&#REF!&\"\"&$D257&\"\"&$F257&\"\"&$I257&\"\"&$J257&\"\"&$K257))","v":""},{"$f":"IF($X$2=\"\",\"\",SEARCH($X$2,$A257&\" \"&#REF!&\" \"&$D257&\" \"&$F257&\" \"&$I257&\" \"&$J257&\" \"&$K257&\" \"&$O257&\" \"&$Q257&\" \"&$S257&\" \"&$U257&\" \"&$V257&\" \"&$W257&\" \"&$X257))","v":""},{"$error":"#VALUE!"}]
[253,{"$f":"IF(C258=\"\",\"\",MAX($B$5:B257)+1)","v":253},"مراد 253","فريدة253","ثانية","علوم تجريبية",1,"2ع1","12/2/2252","الوادي","ذ","محمد علي253","حي الإزدهار - البياضة",null,"2018-10-22",253,"2018-11-19",257,"2019-09-15",260,null,null,null,null,null,{"$f":"IF($V$2=\"\",\"\",SEARCH($V$2,$A258&\"\"&#REF!&\"\"&$D258&\"\"&$F258&\"\"&$I258&\"\"&$J258&\"\"&$K258))","v":""},{"$f":"IF($X$2=\"\",\"\",SEARCH($X$2,$A258&\" \"&#REF!&\" \"&$D258&\" \"&$F258&\" \"&$I258&\" \"&$J258&\" \"&$K258&\" \"&$O258&\" \"&$Q258&\" \"&$S258&\" \"&$U258&\" \"&$V258&\" \"&$W258&\" \"&$X258))","v":""},49]
[254,{"$f":"IF(C259=\"\",\"\",MAX($B$5:B258)+1)","v":254},"مراد 254","فريدة254","ثانية","علوم تجريبية",1,"2ع1","12/2/2253","البياضة","ذ","محمد علي254","حي السلام -البياضة",null,"2018-10-23",254,"2018-11-20",258,"2019-09-16",261,null,null,null,null,null,{"$f":"IF($V$2=\"\",\"\",SEARCH($V$2,$A259&\"\"&#REF!&\"\"&$D259&\"\"&$F259&\"\"&$I259&\"\"&$J259&\"\"&$K259))","v":""},{"$f":"IF($X$2=\"\",\"\",SEARCH($X$2,$A259&\" \"&#REF!&\" \"&$D259&\" \"&$F259&\" \"&$I259&\" \"&$J259&\" \"&$K259&\" \"&$O259&\" \"&$Q259&\" \"&$S259&\" \"&$U259&\" \"&$V259&\" \"&$W259&\" \"&$X259))","v":""},{"$error":"#VALUE!"}]
[255,{"$f":"IF(C260=\"\",\"\",MAX($B$5:B259)+1)","v":255},"مراد 255","فريدة255","ثانية","علوم تجريبية",1,"2ع1","12/2/2254","الوادي","ذ","محمد علي255","حي الإزدهار - البياضة",null,"2018-10-24",255,"2018-11-21",259,"2019-09-17",262,null,null,null,null,null,{"$f":"IF($V$2=\"\",\"\",SEARCH($V$2,$A260&\"\"&#REF!&\"\"&$D260&\"\"&$F260&\"\"&$I260&\"\"&$J260&\"\"&$K260))","v":""},{"$f":"IF($X$2=\"\",\"\",SEARCH($X$2,$A260&\" \"&#REF!&\" \"&$D260&\" \"&$F260&\" \"&$I260&\" \"&$J260&\" \"&$K260&\" \"&$O260&\" \"&$Q260&\" \"&$S260&\" \"&$U260&\" \"&$V260&\" \"&$W260&\" \"&$X260))","v":""},49]
[256,{"$f":"IF(C261=\"\",\"\",MAX($B$5:B260)+1)","v":256},"مراد 256","فريدة256","ثانية","علوم تجريبية",1,"2ع1","12/2/2255","الوادي","ذ","محمد علي256","حي السلام -البياضة",null,"2018-10-25",256,"2018-11-22",260,"2019-09-18",263,null,null,null,null,null,{"$f":"IF($V$2=\"\",\"\",SEARCH($V$2,$A261&\"\"&#REF!&\"\"&$D261&\"\"&$F261&\"\"&$I261&\"\"&$J261&\"\"&$K261))","v":""},{"$f":"IF($X$2=\"\",\"\",SEARCH($X$2,$A261&\" \"&#REF!&\" \"&$D261&\" \"&$F261&\" \"&$I261&\" \"&$J261&\" \"&$K261&\" \"&$O261&\" \"&$Q261&\" \"&$S261&\" \"&$U261&\" \"&$V261&\" \"&$W261&\" \"&$X261))","v":""},49]
[257,{"$f":"IF(C262=\"\",\"\",MAX($B$5:B261)+1)","v":257},"مراد 257","فريدة257","ثانية","علوم تجريبية",1,"2ع1","12/2/2256","البياضة","ذ","محمد علي257","حي الإزدهار - البياضة",null,"2018-10-26",257,"2018-11-23",261,"2019-09-19",264,null,null,null,null,null,{"$f":"IF($V$2=\"\",\"\",SEARCH($V$2,$A262&\"\"&#REF!&\"\"&$D262&\"\"&$F262&\"\"&$I262&\"\"&$J262&\"\"&$K262))","v":""},{"$f":"IF($X$2=\"\",\"\",SEARCH($X$2,$A262&\" \"&#REF!&\" \"&$D262&\" \"&$F262&\" \"&$I262&\" \"&$J262&\" \"&$K262&\" \"&$O262&\" \"&$Q262&\" \"&$S262&\" \"&$U262&\" \"&$V262&\" \"&$W262&\" \"&$X262))","v":""},{"$error":"#VALUE!"}]
[258,{"$f":"IF(C263=\"\",\"\",MAX($B$5:B262)+1)","v":258},"مراد 258","فريدة258","ثانية","علوم تجريبية",1,"2ع1","12/2/2257","توقرت","ذ","محمد علي258","حي السلام -البياضة",null,"2018-10-27",258,"2018-11-24",262,"2019-09-20",265,null,null,null,null,null,{"$f":"IF($V$2=\"\",\"\",SEARCH($V$2,$A263&\"\"&#REF!&\"\"&$D263&\"\"&$F263&\"\"&$I263&\"\"&$J263&\"\"&$K263))","v":""},{"$f":"IF($X$2=\"\",\"\",SEARCH($X$2,$A263&\" \"&#REF!&\" \"&$D263&\" \"&$F263&\" \"&$I263&\" \"&$J263&\" \"&$K263&\" \"&$O263&\" \"&$Q263&\" \"&$S263&\" \"&$U263&\" \"&$V263&\" \"&$W263&\" \"&$X263))","v":""},{"$f":"IF($L$2=\"\",\"\",SEARCH($L$2,$A263&\" \"&$D263&\" \"&$E263&\" \"&$F263&\" \"&$G263&\" \"&$H263&\" \"&$I263&\" \"&$J263&\" \"&$K263&\" \"&$L263&\" \"&$N263&\" \"&$O263&\" \"&$P263&\" \"&$Q263&\" \"&$R263&\" \"&$S263&\" \"&$T263&\" \"&$U263&\" \"&$V263&\" \"&$W263&\" \"&$X263))","v":{"$error":"#VALUE!"}}]
[259,{"$f":"IF(C264=\"\",\"\",MAX($B$5:B263)+1)","v":259},"مراد 259","فريدة259","ثانية","علوم تجريبية",1,"2ع1","12/2/2258","البياضة","ذ","محمد علي259","حي الإزدهار - البياضة",null,"2018-10-28",259,"2018-11-25",263,"2019-09-21",266,null,null,null,null,null,{"$f":"IF($V$2=\"\",\"\",SEARCH($V$2,$A264&\"\"&#REF!&\"\"&$D264&\"\"&$F264&\"\"&$I264&\"\"&$J264&\"\"&$K264))","v":""},{"$f":"IF($X$2=\"\",\"\",SEARCH($X$2,$A264&\" \"&#REF!&\" \"&$D264&\" \"&$F264&\" \"&$I264&\" \"&$J264&\" \"&$K264&\" \"&$O264&\" \"&$Q264&\" \"&$S264&\" \"&$U264&\" \"&$V264&\" \"&$W264&\" \"&$X264))","v":""},{"$error":"#VALUE!"}]
[260,{"$f":"IF(C265=\"\",\"\",MAX($B$5:B264)+1)","v":260},"مراد 260","فريدة260","ثانية","علوم تجريبية",1,"2ع1","12/2/2259","البياضة","ذ","محمد علي260","حي السلام -البياضة",null,"2018-10-29",260,"2018-11-26",264,"2019-09-22",267,null,null,null,null,null,{"$f":"IF($V$2=\"\",\"\",SEARCH($V$2,$A265&\"\"&#REF!&\"\"&$D265&\"\"&$F265&\"\"&$I265&\"\"&$J265&\"\"&$K265))","v":""},{"$f":"IF($X$2=\"\",\"\",SEARCH($X$2,$A265&\" \"&#REF!&\" \"&$D265&\" \"&$F265&\" \"&$I265&\" \"&$J265&\" \"&$K265&\" \"&$O265&\" \"&$Q265&\" \"&$S265&\" \"&$U265&\" \"&$V265&\" \"&$W265&\" \"&$X265))","v":""},{"$error":"#VALUE!"}]
[261,{"$f":"IF(C266=\"\",\"\",MAX($B$5:B265)+1)","v":261},"مراد 261","فريدة261","ثانية","علوم تجريبية",2,"2ع2","12/2/2260","الوادي","ذ","محمد علي261","حي الإزدهار - البياضة",null,"2018-10-30",261,"2018-11-27",265,"2019-09-23",268,null,null,null,null,null,{"$f":"IF($V$2=\"\",\"\",SEARCH($V$2,$A266&\"\"&#REF!&\"\"&$D266&\"\"&$F266&\"\"&$I266&\"\"&$J266&\"\"&$K266))","v":""},{"$f":"IF($X$2=\"\",\"\",SEARCH($X$2,$A266&\" \"&#REF!&\" \"&$D266&\" \"&$F266&\" \"&$I266&\" \"&$J266&\" \"&$K266&\" \"&$O266&\" \"&$Q266&\" \"&$S266&\" \"&$U266&\" \"&$V266&\" \"&$W266&\" \"&$X266))","v":""},49]
[262,{"$f":"IF(C267=\"\",\"\",MAX($B$5:B266)+1)","v":262},"مراد 262","فريدة262","ثانية","علوم تجريبية",2,"2ع2","12/2/2261","البياضة","ذ","محمد علي262","حي السلام -البياضة",null,"2018-10-31",262,"2018-11-28",266,"2019-09-24",269,null,null,null,null,null,{"$f":"IF($V$2=\"\",\"\",SEARCH($V$2,$A267&\"\"&#REF!&\"\"&$D267&\"\"&$F267&\"\"&$I267&\"\"&$J267&\"\"&$K267))","v":""},{"$f":"IF($X$2=\"\",\"\",SEARCH($X$2,$A267&\" \"&#REF!&\" \"&$D267&\" \"&$F267&\" \"&$I267&\" \"&$J267&\" \"&$K267&\" \"&$O267&\" \"&$Q267&\" \"&$S267&\" \"&$U267&\" \"&$V267&\" \"&$W267&\" \"&$X267))","v":""},{"$error":"#VALUE!"}]
[263,{"$f":"IF(C268=\"\",\"\",MAX($B$5:B267)+1)","v":263},"مراد 263","فريدة263","ثانية","علوم تجريبية",2,"2ع2","12/2/2262","الوادي","ذ","محمد علي263","حي الإزدهار - البياضة",null,"2018-11-01",263,"2018-11-29",267,"2019-09-25",270,null,null,null,null,null,{"$f":"IF($V$2=\"\",\"\",SEARCH($V$2,$A268&\"\"&#REF!&\"\"&$D268&\"\"&$F268&\"\"&$I268&\"\"&$J268&\"\"&$K268))","v":""},{"$f":"IF($X$2=\"\",\"\",SEARCH($X$2,$A268&\" \"&#REF!&\" \"&$D268&\" \"&$F268&\" \"&$I268&\" \"&$J268&\" \"&$K268&\" \"&$O268&\" \"&$Q268&\" \"&$S268&\" \"&$U268&\" \"&$V268&\" \"&$W268&\" \"&$X268))","v":""},49]
[264,{"$f":"IF(C269=\"\",\"\",MAX($B$5:B268)+1)","v":264},"مراد 264","فريدة264","ثانية","علوم تجريبية",2,"2ع2","12/2/2263","البياضة","ذ","محمد علي264","حي السلام -البياضة",null,"2018-11-02",264,"2018-11-30",268,"2019-09-26",271,null,null,null,null,null,{"$f":"IF($V$2=\"\",\"\",SEARCH($V$2,$A269&\"\"&#REF!&\"\"&$D269&\"\"&$F269&\"\"&$I269&\"\"&$J269&\"\"&$K269))","v":""},{"$f":"IF($X$2=\"\",\"\",SEARCH($X$2,$A269&\" \"&#REF!&\" \"&$D269&\" \"&$F269&\" \"&$I269&\" \"&$J269&\" \"&$K269&\" \"&$O269&\" \"&$Q269&\" \"&$S269&\" \"&$U269&\" \"&$V269&\" \"&$W269&\" \"&$X269))","v":""},{"$error":"#VALUE!"}]
[265,{"$f":"IF(C270=\"\",\"\",MAX($B$5:B269)+1)","v":265},"مراد 265","فريدة265","ثانية","علوم تجريبية",2,"2ع2","12/2/2264","البياضة","ذ","محمد علي265","حي الإزدهار - البياضة",null,"2018-11-03",265,"2018-12-01",269,"2019-09-27",272,null,null,null,null,null,{"$f":"IF($V$2=\"\",\"\",SEARCH($V$2,$A270&\"\"&#REF!&\"\"&$D270&\"\"&$F270&\"\"&$I270&\"\"&$J270&\"\"&$K270))","v":""},{"$f":"IF($X$2=\"\",\"\",SEARCH($X$2,$A270&\" \"&#REF!&\" \"&$D270&\" \"&$F270&\" \"&$I270&\" \"&$J270&\" \"&$K270&\" \"&$O270&\" \"&$Q270&\" \"&$S270&\" \"&$U270&\" \"&$V270&\" \"&$W270&\" \"&$X270))","v":""},{"$error":"#VALUE!"}]
[266,{"$f":"IF(C271=\"\",\"\",MAX($B$5:B270)+1)","v":266},"مراد 266","فريدة266","ثانية","علوم تجريبية",2,"2ع2","12/2/2265","البياضة","ذ","محمد علي266","حي السلام -البياضة",null,"2018-11-04",266,"2018-12-02",270,"2019-09-28",273,null,null,null,null,null,{"$f":"IF($V$2=\"\",\"\",SEARCH($V$2,$A271&\"\"&#REF!&\"\"&$D271&\"\"&$F271&\"\"&$I271&\"\"&$J271&\"\"&$K271))","v":""},{"$f":"IF($X$2=\"\",\"\",SEARCH($X$2,$A271&\" \"&#REF!&\" \"&$D271&\" \"&$F271&\" \"&$I271&\" \"&$J271&\" \"&$K271&\" \"&$O271&\" \"&$Q271&\" \"&$S271&\" \"&$U271&\" \"&$V271&\" \"&$W271&\" \"&$X271))","v":""},{"$error":"#VALUE!"}]
[267,{"$f":"IF(C272=\"\",\"\",MAX($B$5:B271)+1)","v":267},"مراد 267","فريدة267","ثانية","علوم تجريبية",2,"2ع2","12/2/2266","البياضة","ذ","محمد علي267","حي الإزدهار - البياضة",null,"2018-11-05",267,"2018-12-03",271,"2019-09-29",274,null,null,null,null,null,{"$f":"IF($V$2=\"\",\"\",SEARCH($V$2,$A272&\"\"&#REF!&\"\"&$D272&\"\"&$F272&\"\"&$I272&\"\"&$J272&\"\"&$K272))","v":""},{"$f":"IF($X$2=\"\",\"\",SEARCH($X$2,$A272&\" \"&#REF!&\" \"&$D272&\" \"&$F272&\" \"&$I272&\" \"&$J272&\" \"&$K272&\" \"&$O272&\" \"&$Q272&\" \"&$S272&\" \"&$U272&\" \"&$V272&\" \"&$W272&\" \"&$X272))","v":""},{"$error":"#VALUE!"}]
[268,{"$f":"IF(C273=\"\",\"\",MAX($B$5:B272)+1)","v":268},"مراد 268","فريدة268","ثانية","علوم تجريبية",2,"2ع2","12/2/2267","البياضة","ذ","محمد علي268","حي السلام -البياضة",null,"2018-11-06",268,"2018-12-04",272,"2019-09-30",275,null,null,null,null,null,{"$f":"IF($V$2=\"\",\"\",SEARCH($V$2,$A273&\"\"&#REF!&\"\"&$D273&\"\"&$F273&\"\"&$I273&\"\"&$J273&\"\"&$K273))","v":""},{"$f":"IF($X$2=\"\",\"\",SEARCH($X$2,$A273&\" \"&#REF!&\" \"&$D273&\" \"&$F273&\" \"&$I273&\" \"&$J273&\" \"&$K273&\" \"&$O273&\" \"&$Q273&\" \"&$S273&\" \"&$U273&\" \"&$V273&\" \"&$W273&\" \"&$X273))","v":""},{"$error":"#VALUE!"}]
[269,{"$f":"IF(C274=\"\",\"\",MAX($B$5:B273)+1)","v":269},"مراد 269","فريدة269","ثانية","علوم تجريبية",2,"2ع2","12/2/2268","الوادي","ذ","محمد علي269","حي الإزدهار - البياضة",null,"2018-11-07",269,"2018-12-05",273,"2019-10-01",276,null,null,null,null,null,{"$f":"IF($V$2=\"\",\"\",SEARCH($V$2,$A274&\"\"&#REF!&\"\"&$D274&\"\"&$F274&\"\"&$I274&\"\"&$J274&\"\"&$K274))","v":""},{"$f":"IF($X$2=\"\",\"\",SEARCH($X$2,$A274&\" \"&#REF!&\" \"&$D274&\" \"&$F274&\" \"&$I274&\" \"&$J274&\" \"&$K274&\" \"&$O274&\" \"&$Q274&\" \"&$S274&\" \"&$U274&\" \"&$V274&\" \"&$W274&\" \"&$X274))","v":""},49]
[270,{"$f":"IF(C275=\"\",\"\",MAX($B$5:B274)+1)","v":270},"مراد 270","فريدة270","ثانية","علوم تجريبية",2,"2ع2","12/2/2269","حاسي مسعود","ذ","محمد علي270","حي السلام -البياضة",null,"2018-11-08",270,"2018-12-06",274,"2019-10-02",277,null,null,null,null,null,{"$f":"IF($V$2=\"\",\"\",SEARCH($V$2,$A275&\"\"&#REF!&\"\"&$D275&\"\"&$F275&\"\"&$I275&\"\"&$J275&\"\"&$K275))","v":""},{"$f":"IF($X$2=\"\",\"\",SEARCH($X$2,$A275&\" \"&#REF!&\" \"&$D275&\" \"&$F275&\" \"&$I275&\" \"&$J275&\" \"&$K275&\" \"&$O275&\" \"&$Q275&\" \"&$S275&\" \"&$U275&\" \"&$V275&\" \"&$W275&\" \"&$X275))","v":""},{"$error":"#VALUE!"}]
[271,{"$f":"IF(C276=\"\",\"\",MAX($B$5:B275)+1)","v":271},"مراد 271","فريدة271","ثانية","علوم تجريبية",2,"2ع2","12/2/2270","الوادي","ذ","محمد علي271","حي الإزدهار - البياضة",null,"2018-11-09",271,"2018-12-07",275,"2019-10-03",278,null,null,null,null,null,{"$f":"IF($V$2=\"\",\"\",SEARCH($V$2,$A276&\"\"&#REF!&\"\"&$D276&\"\"&$F276&\"\"&$I276&\"\"&$J276&\"\"&$K276))","v":""},{"$f":"IF($X$2=\"\",\"\",SEARCH($X$2,$A276&\" \"&#REF!&\" \"&$D276&\" \"&$F276&\" \"&$I276&\" \"&$J276&\" \"&$K276&\" \"&$O276&\" \"&$Q276&\" \"&$S276&\" \"&$U276&\" \"&$V276&\" \"&$W276&\" \"&$X276))","v":""},49]
[272,{"$f":"IF(C277=\"\",\"\",MAX($B$5:B276)+1)","v":272},"مراد 272","فريدة272","ثانية","علوم تجريبية",2,"2ع2","12/2/2271","البياضة","ذ","محمد علي272","حي السلام -البياضة",null,"2018-11-10",272,"2018-12-08",276,"2019-10-04",279,null,null,null,null,null,{"$f":"IF($V$2=\"\",\"\",SEARCH($V$2,$A277&\"\"&#REF!&\"\"&$D277&\"\"&$F277&\"\"&$I277&\"\"&$J277&\"\"&$K277))","v":""},{"$f":"IF($X$2=\"\",\"\",SEARCH($X$2,$A277&\" \"&#REF!&\" \"&$D277&\" \"&$F277&\" \"&$I277&\" \"&$J277&\" \"&$K277&\" \"&$O277&\" \"&$Q277&\" \"&$S277&\" \"&$U277&\" \"&$V277&\" \"&$W277&\" \"&$X277))","v":""},{"$error":"#VALUE!"}]
[273,{"$f":"IF(C278=\"\",\"\",MAX($B$5:B277)+1)","v":273},"مراد 273","فريدة273","ثانية","علوم تجريبية",2,"2ع2","12/2/2272","الوادي","ذ","محمد علي273","حي الإزدهار - البياضة",null,"2018-11-11",273,"2018-12-09",277,"2019-10-05",280,null,null,null,null,null,{"$f":"IF($V$2=\"\",\"\",SEARCH($V$2,$A278&\"\"&#REF!&\"\"&$D278&\"\"&$F278&\"\"&$I278&\"\"&$J278&\"\"&$K278))","v":""},{"$f":"IF($X$2=\"\",\"\",SEARCH($X$2,$A278&\" \"&#REF!&\" \"&$D278&\" \"&$F278&\" \"&$I278&\" \"&$J278&\" \"&$K278&\" \"&$O278&\" \"&$Q278&\" \"&$S278&\" \"&$U278&\" \"&$V278&\" \"&$W278&\" \"&$X278))","v":""},49]
[274,{"$f":"IF(C279=\"\",\"\",MAX($B$5:B278)+1)","v":274},"مراد 274","فريدة274","ثانية","علوم تجريبية",2,"2ع2","12/2/2273","الوادي","ذ","محمد علي274","حي السلام -البياضة",null,"2018-11-12",274,"2018-12-10",278,"2019-10-06",281,null,null,null,null,null,{"$f":"IF($V$2=\"\",\"\",SEARCH($V$2,$A279&\"\"&#REF!&\"\"&$D279&\"\"&$F279&\"\"&$I279&\"\"&$J279&\"\"&$K279))","v":""},{"$f":"IF($X$2=\"\",\"\",SEARCH($X$2,$A279&\" \"&#REF!&\" \"&$D279&\" \"&$F279&\" \"&$I279&\" \"&$J279&\" \"&$K279&\" \"&$O279&\" \"&$Q279&\" \"&$S279&\" \"&$U279&\" \"&$V279&\" \"&$W279&\" \"&$X279))","v":""},49]
[275,{"$f":"IF(C280=\"\",\"\",MAX($B$5:B279)+1)","v":275},"مراد 275","فريدة275","ثانية","علوم تجريبية",2,"2ع2","12/2/2274","سارت روفيل","ذ","محمد علي275","حي الإزدهار - البياضة",null,"2018-11-13",275,"2018-12-11",279,"2019-10-07",282,null,null,null,null,null,{"$f":"IF($V$2=\"\",\"\",SEARCH($V$2,$A280&\"\"&#REF!&\"\"&$D280&\"\"&$F280&\"\"&$I280&\"\"&$J280&\"\"&$K280))","v":""},{"$f":"IF($X$2=\"\",\"\",SEARCH($X$2,$A280&\" \"&#REF!&\" \"&$D280&\" \"&$F280&\" \"&$I280&\" \"&$J280&\" \"&$K280&\" \"&$O280&\" \"&$Q280&\" \"&$S280&\" \"&$U280&\" \"&$V280&\" \"&$W280&\" \"&$X280))","v":""},{"$error":"#VALUE!"}]
[276,{"$f":"IF(C281=\"\",\"\",MAX($B$5:B280)+1)","v":276},"مراد 276","فريدة276","ثانية","علوم تجريبية",2,"2ع2","12/2/2275","البياضة","ذ","محمد علي276","حي السلام -البياضة",null,"2018-11-14",276,"2018-12-12",280,"2019-10-08",283,null,null,null,null,null,{"$f":"IF($V$2=\"\",\"\",SEARCH($V$2,$A281&\"\"&#REF!&\"\"&$D281&\"\"&$F281&\"\"&$I281&\"\"&$J281&\"\"&$K281))","v":""},{"$f":"IF($X$2=\"\",\"\",SEARCH($X$2,$A281&\" \"&#REF!&\" \"&$D281&\" \"&$F281&\" \"&$I281&\" \"&$J281&\" \"&$K281&\" \"&$O281&\" \"&$Q281&\" \"&$S281&\" \"&$U281&\" \"&$V281&\" \"&$W281&\" \"&$X281))","v":""},{"$error":"#VALUE!"}]
[277,{"$f":"IF(C282=\"\",\"\",MAX($B$5:B281)+1)","v":277},"مراد 277","فريدة277","ثانية","علوم تجريبية",2,"2ع2","12/2/2276","البياضة","ذ","محمد علي277","حي الإزدهار - البياضة",null,"2018-11-15",277,"2018-12-13",281,"2019-10-09",284,null,null,null,null,null,{"$f":"IF($V$2=\"\",\"\",SEARCH($V$2,$A282&\"\"&#REF!&\"\"&$D282&\"\"&$F282&\"\"&$I282&\"\"&$J282&\"\"&$K282))","v":""},{"$f":"IF($X$2=\"\",\"\",SEARCH($X$2,$A282&\" \"&#REF!&\" \"&$D282&\" \"&$F282&\" \"&$I282&\" \"&$J282&\" \"&$K282&\" \"&$O282&\" \"&$Q282&\" \"&$S282&\" \"&$U282&\" \"&$V282&\" \"&$W282&\" \"&$X282))","v":""},{"$error":"#VALUE!"}]
[278,{"$f":"IF(C283=\"\",\"\",MAX($B$5:B282)+1)","v":278},"مراد 278","فريدة278","ثانية","علوم تجريبية",2,"2ع2","12/2/2277","الوادي","ذ","محمد علي278","حي السلام -البياضة",null,"2018-11-16",278,"2018-12-14",282,"2019-10-10",285,null,null,null,null,null,{"$f":"IF($V$2=\"\",\"\",SEARCH($V$2,$A283&\"\"&#REF!&\"\"&$D283&\"\"&$F283&\"\"&$I283&\"\"&$J283&\"\"&$K283))","v":""},{"$f":"IF($X$2=\"\",\"\",SEARCH($X$2,$A283&\" \"&#REF!&\" \"&$D283&\" \"&$F283&\" \"&$I283&\" \"&$J283&\" \"&$K283&\" \"&$O283&\" \"&$Q283&\" \"&$S283&\" \"&$U283&\" \"&$V283&\" \"&$W283&\" \"&$X283))","v":""},49]
[279,{"$f":"IF(C284=\"\",\"\",MAX($B$5:B283)+1)","v":279},"مراد 279","فريدة279","ثانية","علوم تجريبية",2,"2ع2","12/2/2278","الوادي","ذ","محمد علي279","حي الإزدهار - البياضة",null,"2018-11-17",279,"2018-12-15",283,"2019-10-11",286,null,null,null,null,null,{"$f":"IF($V$2=\"\",\"\",SEARCH($V$2,$A284&\"\"&#REF!&\"\"&$D284&\"\"&$F284&\"\"&$I284&\"\"&$J284&\"\"&$K284))","v":""},{"$f":"IF($X$2=\"\",\"\",SEARCH($X$2,$A284&\" \"&#REF!&\" \"&$D284&\" \"&$F284&\" \"&$I284&\" \"&$J284&\" \"&$K284&\" \"&$O284&\" \"&$Q284&\" \"&$S284&\" \"&$U284&\" \"&$V284&\" \"&$W284&\" \"&$X284))","v":""},49]
[280,{"$f":"IF(C285=\"\",\"\",MAX($B$5:B284)+1)","v":280},"مراد 280","فريدة280","ثانية","علوم تجريبية",2,"2ع2","12/2/2279","الوادي","ذ","محمد علي280","حي السلام -البياضة",null,"2018-11-18",280,"2018-12-16",284,"2019-10-12",287,null,null,null,null,null,{"$f":"IF($V$2=\"\",\"\",SEARCH($V$2,$A285&\"\"&#REF!&\"\"&$D285&\"\"&$F285&\"\"&$I285&\"\"&$J285&\"\"&$K285))","v":""},{"$f":"IF($X$2=\"\",\"\",SEARCH($X$2,$A285&\" \"&#REF!&\" \"&$D285&\" \"&$F285&\" \"&$I285&\" \"&$J285&\" \"&$K285&\" \"&$O285&\" \"&$Q285&\" \"&$S285&\" \"&$U285&\" \"&$V285&\" \"&$W285&\" \"&$X285))","v":""},49]
[281,{"$f":"IF(C286=\"\",\"\",MAX($B$5:B285)+1)","v":281},"مراد 281","فريدة281","ثانية","علوم تجريبية",2,"2ع2","12/2/2280","البياضة","ذ","محمد علي281","حي الإزدهار - البياضة",null,"2018-11-19",281,"2018-12-17",285,"2019-10-13",288,null,null,null,null,null,{"$f":"IF($V$2=\"\",\"\",SEARCH($V$2,$A286&\"\"&#REF!&\"\"&$D286&\"\"&$F286&\"\"&$I286&\"\"&$J286&\"\"&$K286))","v":""},{"$f":"IF($X$2=\"\",\"\",SEARCH($X$2,$A286&\" \"&#REF!&\" \"&$D286&\" \"&$F286&\" \"&$I286&\" \"&$J286&\" \"&$K286&\" \"&$O286&\" \"&$Q286&\" \"&$S286&\" \"&$U286&\" \"&$V286&\" \"&$W286&\" \"&$X286))","v":""},{"$error":"#VALUE!"}]
[282,{"$f":"IF(C287=\"\",\"\",MAX($B$5:B286)+1)","v":282},"مراد 282","فريدة282","ثانية","علوم تجريبية",2,"2ع2","12/2/2281","البياضة","ذ","محمد علي282","حي السلام -البياضة",null,"2018-11-20",282,"2018-12-18",286,"2019-10-14",289,null,null,null,null,null,{"$f":"IF($V$2=\"\",\"\",SEARCH($V$2,$A287&\"\"&#REF!&\"\"&$D287&\"\"&$F287&\"\"&$I287&\"\"&$J287&\"\"&$K287))","v":""},{"$f":"IF($X$2=\"\",\"\",SEARCH($X$2,$A287&\" \"&#REF!&\" \"&$D287&\" \"&$F287&\" \"&$I287&\" \"&$J287&\" \"&$K287&\" \"&$O287&\" \"&$Q287&\" \"&$S287&\" \"&$U287&\" \"&$V287&\" \"&$W287&\" \"&$X287))","v":""},{"$error":"#VALUE!"}]
[283,{"$f":"IF(C288=\"\",\"\",MAX($B$5:B287)+1)","v":283},"مراد 283","فريدة283","ثانية","علوم تجريبية",2,"2ع2","12/2/2282","البياضة","ذ","محمد علي283","حي الإزدهار - البياضة",null,"2018-11-21",283,"2018-12-19",287,"2019-10-15",290,null,null,null,null,null,{"$f":"IF($V$2=\"\",\"\",SEARCH($V$2,$A288&\"\"&#REF!&\"\"&$D288&\"\"&$F288&\"\"&$I288&\"\"&$J288&\"\"&$K288))","v":""},{"$f":"IF($X$2=\"\",\"\",SEARCH($X$2,$A288&\" \"&#REF!&\" \"&$D288&\" \"&$F288&\" \"&$I288&\" \"&$J288&\" \"&$K288&\" \"&$O288&\" \"&$Q288&\" \"&$S288&\" \"&$U288&\" \"&$V288&\" \"&$W288&\" \"&$X288))","v":""},{"$error":"#VALUE!"}]
[284,{"$f":"IF(C289=\"\",\"\",MAX($B$5:B288)+1)","v":284},"مراد 284","فريدة284","ثانية","علوم تجريبية",2,"2ع2","12/2/2283","البياضة","ذ","محمد علي284","حي السلام -البياضة",null,"2018-11-22",284,"2018-12-20",288,"2019-10-16",291,null,null,null,null,null,{"$f":"IF($V$2=\"\",\"\",SEARCH($V$2,$A289&\"\"&#REF!&\"\"&$D289&\"\"&$F289&\"\"&$I289&\"\"&$J289&\"\"&$K289))","v":""},{"$f":"IF($X$2=\"\",\"\",SEARCH($X$2,$A289&\" \"&#REF!&\" \"&$D289&\" \"&$F289&\" \"&$I289&\" \"&$J289&\" \"&$K289&\" \"&$O289&\" \"&$Q289&\" \"&$S289&\" \"&$U289&\" \"&$V289&\" \"&$W289&\" \"&$X289))","v":""},{"$error":"#VALUE!"}]
[285,{"$f":"IF(C290=\"\",\"\",MAX($B$5:B289)+1)","v":285},"مراد 285","فريدة285","ثانية","علوم تجريبية",2,"2ع2","12/2/2284","الوادي","ذ","محمد علي285","حي الإزدهار - البياضة",null,"2018-11-23",285,"2018-12-21",289,"2019-10-17",292,null,null,null,null,null,{"$f":"IF($V$2=\"\",\"\",SEARCH($V$2,$A290&\"\"&#REF!&\"\"&$D290&\"\"&$F290&\"\"&$I290&\"\"&$J290&\"\"&$K290))","v":""},{"$f":"IF($X$2=\"\",\"\",SEARCH($X$2,$A290&\" \"&#REF!&\" \"&$D290&\" \"&$F290&\" \"&$I290&\" \"&$J290&\" \"&$K290&\" \"&$O290&\" \"&$Q290&\" \"&$S290&\" \"&$U290&\" \"&$V290&\" \"&$W290&\" \"&$X290))","v":""},49]
[286,{"$f":"IF(C291=\"\",\"\",MAX($B$5:B290)+1)","v":286},"مراد 286","فريدة286","ثانية","علوم تجريبية",2,"2ع2","12/2/2285","الوادي","ذ","محمد علي286","حي السلام -البياضة",null,"2018-11-24",286,"2018-12-22",290,"2019-10-18",293,null,null,null,null,null,{"$f":"IF($V$2=\"\",\"\",SEARCH($V$2,$A291&\"\"&#REF!&\"\"&$D291&\"\"&$F291&\"\"&$I291&\"\"&$J291&\"\"&$K291))","v":""},{"$f":"IF($X$2=\"\",\"\",SEARCH($X$2,$A291&\" \"&#REF!&\" \"&$D291&\" \"&$F291&\" \"&$I291&\" \"&$J291&\" \"&$K291&\" \"&$O291&\" \"&$Q291&\" \"&$S291&\" \"&$U291&\" \"&$V291&\" \"&$W291&\" \"&$X291))","v":""},49]
[287,{"$f":"IF(C292=\"\",\"\",MAX($B$5:B291)+1)","v":287},"مراد 287","فريدة287","ثانية","علوم تجريبية",2,"2ع2","12/2/2286","البياضة","ذ","محمد علي287","حي الإزدهار - البياضة",null,"2018-11-25",287,"2018-12-23",291,"2019-10-19",294,null,null,null,null,null,{"$f":"IF($V$2=\"\",\"\",SEARCH($V$2,$A292&\"\"&#REF!&\"\"&$D292&\"\"&$F292&\"\"&$I292&\"\"&$J292&\"\"&$K292))","v":""},{"$f":"IF($X$2=\"\",\"\",SEARCH($X$2,$A292&\" \"&#REF!&\" \"&$D292&\" \"&$F292&\" \"&$I292&\" \"&$J292&\" \"&$K292&\" \"&$O292&\" \"&$Q292&\" \"&$S292&\" \"&$U292&\" \"&$V292&\" \"&$W292&\" \"&$X292))","v":""},{"$error":"#VALUE!"}]
[288,{"$f":"IF(C293=\"\",\"\",MAX($B$5:B292)+1)","v":288},"مراد 288","فريدة288","ثانية","علوم تجريبية",2,"2ع2","12/2/2287","البياضة","ذ","محمد علي288","حي السلام -البياضة",null,"2018-11-26",288,"2018-12-24",292,"2019-10-20",295,null,null,null,null,null,{"$f":"IF($V$2=\"\",\"\",SEARCH($V$2,$A293&\"\"&#REF!&\"\"&$D293&\"\"&$F293&\"\"&$I293&\"\"&$J293&\"\"&$K293))","v":""},{"$f":"IF($X$2=\"\",\"\",SEARCH($X$2,$A293&\" \"&#REF!&\" \"&$D293&\" \"&$F293&\" \"&$I293&\" \"&$J293&\" \"&$K293&\" \"&$O293&\" \"&$Q293&\" \"&$S293&\" \"&$U293&\" \"&$V293&\" \"&$W293&\" \"&$X293))","v":""},{"$error":"#VALUE!"}]
[289,{"$f":"IF(C294=\"\",\"\",MAX($B$5:B293)+1)","v":289},"مراد 289","فريدة289","ثانية","علوم تجريبية",2,"2ع2","12/2/2288","البياضة","ذ","محمد علي289","حي الإزدهار - البياضة",null,"2018-11-27",289,"2018-12-25",293,"2019-10-21",296,null,null,null,null,null,{"$f":"IF($V$2=\"\",\"\",SEARCH($V$2,$A294&\"\"&#REF!&\"\"&$D294&\"\"&$F294&\"\"&$I294&\"\"&$J294&\"\"&$K294))","v":""},{"$f":"IF($X$2=\"\",\"\",SEARCH($X$2,$A294&\" \"&#REF!&\" \"&$D294&\" \"&$F294&\" \"&$I294&\" \"&$J294&\" \"&$K294&\" \"&$O294&\" \"&$Q294&\" \"&$S294&\" \"&$U294&\" \"&$V294&\" \"&$W294&\" \"&$X294))","v":""},{"$error":"#VALUE!"}]
[290,{"$f":"IF(C295=\"\",\"\",MAX($B$5:B294)+1)","v":290},"مراد 290","فريدة290","ثانية","علوم تجريبية",3,"2ع3","12/2/2289","البياضة","ذ","محمد علي290","حي السلام -البياضة",null,"2018-11-28",290,"2018-12-26",294,"2019-10-22",297,null,null,null,null,null,{"$f":"IF($V$2=\"\",\"\",SEARCH($V$2,$A295&\"\"&#REF!&\"\"&$D295&\"\"&$F295&\"\"&$I295&\"\"&$J295&\"\"&$K295))","v":""},{"$f":"IF($X$2=\"\",\"\",SEARCH($X$2,$A295&\" \"&#REF!&\" \"&$D295&\" \"&$F295&\" \"&$I295&\" \"&$J295&\" \"&$K295&\" \"&$O295&\" \"&$Q295&\" \"&$S295&\" \"&$U295&\" \"&$V295&\" \"&$W295&\" \"&$X295))","v":""},{"$error":"#VALUE!"}]
[291,{"$f":"IF(C296=\"\",\"\",MAX($B$5:B295)+1)","v":291},"مراد 291","فريدة291","ثانية","علوم تجريبية",3,"2ع3","12/2/2290","البياضة","ذ","محمد علي291","حي الإزدهار - البياضة",null,"2018-11-29",291,"2018-12-27",295,"2019-10-23",298,null,null,null,null,null,{"$f":"IF($V$2=\"\",\"\",SEARCH($V$2,$A296&\"\"&#REF!&\"\"&$D296&\"\"&$F296&\"\"&$I296&\"\"&$J296&\"\"&$K296))","v":""},{"$f":"IF($X$2=\"\",\"\",SEARCH($X$2,$A296&\" \"&#REF!&\" \"&$D296&\" \"&$F296&\" \"&$I296&\" \"&$J296&\" \"&$K296&\" \"&$O296&\" \"&$Q296&\" \"&$S296&\" \"&$U296&\" \"&$V296&\" \"&$W296&\" \"&$X296))","v":""},{"$error":"#VALUE!"}]
[292,{"$f":"IF(C297=\"\",\"\",MAX($B$5:B296)+1)","v":292},"مراد 292","فريدة292","ثانية","علوم تجريبية",3,"2ع3","12/2/2291","الوادي","ذ","محمد علي292","حي السلام -البياضة",null,"2018-11-30",292,"2018-12-28",296,"2019-10-24",299,null,null,null,null,null,{"$f":"IF($V$2=\"\",\"\",SEARCH($V$2,$A297&\"\"&#REF!&\"\"&$D297&\"\"&$F297&\"\"&$I297&\"\"&$J297&\"\"&$K297))","v":""},{"$f":"IF($X$2=\"\",\"\",SEARCH($X$2,$A297&\" \"&#REF!&\" \"&$D297&\" \"&$F297&\" \"&$I297&\" \"&$J297&\" \"&$K297&\" \"&$O297&\" \"&$Q297&\" \"&$S297&\" \"&$U297&\" \"&$V297&\" \"&$W297&\" \"&$X297))","v":""},49]
[293,{"$f":"IF(C298=\"\",\"\",MAX($B$5:B297)+1)","v":293},"مراد 293","فريدة293","ثانية","علوم تجريبية",3,"2ع3","12/2/2292","البياضة","ذ","محمد علي293","حي الإزدهار - البياضة",null,"2018-12-01",293,"2018-12-29",297,"2019-10-25",300,null,null,null,null,null,{"$f":"IF($V$2=\"\",\"\",SEARCH($V$2,$A298&\"\"&#REF!&\"\"&$D298&\"\"&$F298&\"\"&$I298&\"\"&$J298&\"\"&$K298))","v":""},{"$f":"IF($X$2=\"\",\"\",SEARCH($X$2,$A298&\" \"&#REF!&\" \"&$D298&\" \"&$F298&\" \"&$I298&\" \"&$J298&\" \"&$K298&\" \"&$O298&\" \"&$Q298&\" \"&$S298&\" \"&$U298&\" \"&$V298&\" \"&$W298&\" \"&$X298))","v":""},{"$error":"#VALUE!"}]
[294,{"$f":"IF(C299=\"\",\"\",MAX($B$5:B298)+1)","v":294},"مراد 294","فريدة294","ثانية","علوم تجريبية",3,"2ع3","12/2/2293","العلمة","ذ","محمد علي294","حي السلام -البياضة",null,"2018-12-02",294,"2018-12-30",298,"2019-10-26",301,null,null,null,null,null,{"$f":"IF($V$2=\"\",\"\",SEARCH($V$2,$A299&\"\"&#REF!&\"\"&$D299&\"\"&$F299&\"\"&$I299&\"\"&$J299&\"\"&$K299))","v":""},{"$f":"IF($X$2=\"\",\"\",SEARCH($X$2,$A299&\" \"&#REF!&\" \"&$D299&\" \"&$F299&\" \"&$I299&\" \"&$J299&\" \"&$K299&\" \"&$O299&\" \"&$Q299&\" \"&$S299&\" \"&$U299&\" \"&$V299&\" \"&$W299&\" \"&$X299))","v":""},{"$error":"#VALUE!"}]
[295,{"$f":"IF(C300=\"\",\"\",MAX($B$5:B299)+1)","v":295},"مراد 295","فريدة295","ثانية","علوم تجريبية",3,"2ع3","12/2/2294","البياضة","ذ","محمد علي295","حي الإزدهار - البياضة",null,"2018-12-03",295,"2018-12-31",299,"2019-10-27",302,null,null,null,null,null,{"$f":"IF($V$2=\"\",\"\",SEARCH($V$2,$A300&\"\"&#REF!&\"\"&$D300&\"\"&$F300&\"\"&$I300&\"\"&$J300&\"\"&$K300))","v":""},{"$f":"IF($X$2=\"\",\"\",SEARCH($X$2,$A300&\" \"&#REF!&\" \"&$D300&\" \"&$F300&\" \"&$I300&\" \"&$J300&\" \"&$K300&\" \"&$O300&\" \"&$Q300&\" \"&$S300&\" \"&$U300&\" \"&$V300&\" \"&$W300&\" \"&$X300))","v":""},{"$error":"#VALUE!"}]
[296,{"$f":"IF(C301=\"\",\"\",MAX($B$5:B300)+1)","v":296},"مراد 296","فريدة296","ثانية","علوم تجريبية",3,"2ع3","12/2/2295","الوادي","ذ","محمد علي296","حي السلام -البياضة",null,"2018-12-04",296,"2019-01-01",300,"2019-10-28",303,null,null,null,null,null,{"$f":"IF($V$2=\"\",\"\",SEARCH($V$2,$A301&\"\"&#REF!&\"\"&$D301&\"\"&$F301&\"\"&$I301&\"\"&$J301&\"\"&$K301))","v":""},{"$f":"IF($X$2=\"\",\"\",SEARCH($X$2,$A301&\" \"&#REF!&\" \"&$D301&\" \"&$F301&\" \"&$I301&\" \"&$J301&\" \"&$K301&\" \"&$O301&\" \"&$Q301&\" \"&$S301&\" \"&$U301&\" \"&$V301&\" \"&$W301&\" \"&$X301))","v":""},49]
[297,{"$f":"IF(C302=\"\",\"\",MAX($B$5:B301)+1)","v":297},"مراد 297","فريدة297","ثانية","علوم تجريبية",3,"2ع3","12/2/2296","البياضة","ذ","محمد علي297","حي الإزدهار - البياضة",null,"2018-12-05",297,"2019-01-02",301,"2019-10-29",304,null,null,null,null,null,{"$f":"IF($V$2=\"\",\"\",SEARCH($V$2,$A302&\"\"&#REF!&\"\"&$D302&\"\"&$F302&\"\"&$I302&\"\"&$J302&\"\"&$K302))","v":""},{"$f":"IF($X$2=\"\",\"\",SEARCH($X$2,$A302&\" \"&#REF!&\" \"&$D302&\" \"&$F302&\" \"&$I302&\" \"&$J302&\" \"&$K302&\" \"&$O302&\" \"&$Q302&\" \"&$S302&\" \"&$U302&\" \"&$V302&\" \"&$W302&\" \"&$X302))","v":""},{"$error":"#VALUE!"}]
[298,{"$f":"IF(C303=\"\",\"\",MAX($B$5:B302)+1)","v":298},"مراد 298","فريدة298","ثانية","علوم تجريبية",3,"2ع3","12/2/2297","البياضة","ذ","محمد علي298","حي السلام -البياضة",null,"2018-12-06",298,"2019-01-03",302,"2019-10-30",305,null,null,null,null,null,{"$f":"IF($V$2=\"\",\"\",SEARCH($V$2,$A303&\"\"&#REF!&\"\"&$D303&\"\"&$F303&\"\"&$I303&\"\"&$J303&\"\"&$K303))","v":""},{"$f":"IF($X$2=\"\",\"\",SEARCH($X$2,$A303&\" \"&#REF!&\" \"&$D303&\" \"&$F303&\" \"&$I303&\" \"&$J303&\" \"&$K303&\" \"&$O303&\" \"&$Q303&\" \"&$S303&\" \"&$U303&\" \"&$V303&\" \"&$W303&\" \"&$X303))","v":""},{"$error":"#VALUE!"}]
[299,{"$f":"IF(C304=\"\",\"\",MAX($B$5:B303)+1)","v":299},"مراد 299","فريدة299","ثانية","علوم تجريبية",3,"2ع3","12/2/2298","الرباح","ذ","محمد علي299","حي الإزدهار - البياضة",null,"2018-12-07",299,"2019-01-04",303,"2019-10-31",306,null,null,null,null,null,{"$f":"IF($V$2=\"\",\"\",SEARCH($V$2,$A304&\"\"&#REF!&\"\"&$D304&\"\"&$F304&\"\"&$I304&\"\"&$J304&\"\"&$K304))","v":""},{"$f":"IF($X$2=\"\",\"\",SEARCH($X$2,$A304&\" \"&#REF!&\" \"&$D304&\" \"&$F304&\" \"&$I304&\" \"&$J304&\" \"&$K304&\" \"&$O304&\" \"&$Q304&\" \"&$S304&\" \"&$U304&\" \"&$V304&\" \"&$W304&\" \"&$X304))","v":""},{"$error":"#VALUE!"}]
[300,{"$f":"IF(C305=\"\",\"\",MAX($B$5:B304)+1)","v":300},"مراد 300","فريدة300","ثانية","علوم تجريبية",3,"2ع3","12/2/2299","البياضة","ذ","محمد علي300","حي السلام -البياضة",null,"2018-12-08",300,"2019-01-05",304,"2019-11-01",307,null,null,null,null,null,{"$f":"IF($V$2=\"\",\"\",SEARCH($V$2,$A305&\"\"&#REF!&\"\"&$D305&\"\"&$F305&\"\"&$I305&\"\"&$J305&\"\"&$K305))","v":""},{"$f":"IF($X$2=\"\",\"\",SEARCH($X$2,$A305&\" \"&#REF!&\" \"&$D305&\" \"&$F305&\" \"&$I305&\" \"&$J305&\" \"&$K305&\" \"&$O305&\" \"&$Q305&\" \"&$S305&\" \"&$U305&\" \"&$V305&\" \"&$W305&\" \"&$X305))","v":""},{"$error":"#VALUE!"}]
[301,{"$f":"IF(C306=\"\",\"\",MAX($B$5:B305)+1)","v":301},"مراد 301","فريدة301","ثانية","علوم تجريبية",3,"2ع3","12/2/2300","البياضة","ذ","محمد علي301","حي الإزدهار - البياضة",null,"2018-12-09",301,"2019-01-06",305,"2019-11-02",308,null,null,null,null,null,{"$f":"IF($V$2=\"\",\"\",SEARCH($V$2,$A306&\"\"&#REF!&\"\"&$D306&\"\"&$F306&\"\"&$I306&\"\"&$J306&\"\"&$K306))","v":""},{"$f":"IF($X$2=\"\",\"\",SEARCH($X$2,$A306&\" \"&#REF!&\" \"&$D306&\" \"&$F306&\" \"&$I306&\" \"&$J306&\" \"&$K306&\" \"&$O306&\" \"&$Q306&\" \"&$S306&\" \"&$U306&\" \"&$V306&\" \"&$W306&\" \"&$X306))","v":""},{"$error":"#VALUE!"}]
[302,{"$f":"IF(C307=\"\",\"\",MAX($B$5:B306)+1)","v":302},"مراد 302","فريدة302","ثانية","علوم تجريبية",3,"2ع3","12/2/2301","البياضة","ذ","محمد علي302","حي السلام -البياضة",null,"2018-12-10",302,"2019-01-07",306,"2019-11-03",309,null,null,null,null,null,{"$f":"IF($V$2=\"\",\"\",SEARCH($V$2,$A307&\"\"&#REF!&\"\"&$D307&\"\"&$F307&\"\"&$I307&\"\"&$J307&\"\"&$K307))","v":""},{"$f":"IF($X$2=\"\",\"\",SEARCH($X$2,$A307&\" \"&#REF!&\" \"&$D307&\" \"&$F307&\" \"&$I307&\" \"&$J307&\" \"&$K307&\" \"&$O307&\" \"&$Q307&\" \"&$S307&\" \"&$U307&\" \"&$V307&\" \"&$W307&\" \"&$X307))","v":""},{"$error":"#VALUE!"}]
[303,{"$f":"IF(C308=\"\",\"\",MAX($B$5:B307)+1)","v":303},"مراد 303","فريدة303","ثانية","علوم تجريبية",3,"2ع3","12/2/2302","الوادي","ذ","محمد علي303","حي الإزدهار - البياضة",null,"2018-12-11",303,"2019-01-08",307,"2019-11-04",310,null,null,null,null,null,{"$f":"IF($V$2=\"\",\"\",SEARCH($V$2,$A308&\"\"&#REF!&\"\"&$D308&\"\"&$F308&\"\"&$I308&\"\"&$J308&\"\"&$K308))","v":""},{"$f":"IF($X$2=\"\",\"\",SEARCH($X$2,$A308&\" \"&#REF!&\" \"&$D308&\" \"&$F308&\" \"&$I308&\" \"&$J308&\" \"&$K308&\" \"&$O308&\" \"&$Q308&\" \"&$S308&\" \"&$U308&\" \"&$V308&\" \"&$W308&\" \"&$X308))","v":""},49]
[304,{"$f":"IF(C309=\"\",\"\",MAX($B$5:B308)+1)","v":304},"مراد 304","فريدة304","ثانية","علوم تجريبية",3,"2ع3","12/2/2303","الرقيبة","ذ","محمد علي304","حي السلام -البياضة",null,"2018-12-12",304,"2019-01-09",308,"2019-11-05",311,null,null,null,null,null,{"$f":"IF($V$2=\"\",\"\",SEARCH($V$2,$A309&\"\"&#REF!&\"\"&$D309&\"\"&$F309&\"\"&$I309&\"\"&$J309&\"\"&$K309))","v":""},{"$f":"IF($X$2=\"\",\"\",SEARCH($X$2,$A309&\" \"&#REF!&\" \"&$D309&\" \"&$F309&\" \"&$I309&\" \"&$J309&\" \"&$K309&\" \"&$O309&\" \"&$Q309&\" \"&$S309&\" \"&$U309&\" \"&$V309&\" \"&$W309&\" \"&$X309))","v":""},{"$error":"#VALUE!"}]
[305,{"$f":"IF(C310=\"\",\"\",MAX($B$5:B309)+1)","v":305},"مراد 305","فريدة305","ثانية","علوم تجريبية",3,"2ع3","12/2/2304","الوادي","ذ","محمد علي305","حي الإزدهار - البياضة",null,"2018-12-13",305,"2019-01-10",309,"2019-11-06",312,null,null,null,null,null,{"$f":"IF($V$2=\"\",\"\",SEARCH($V$2,$A310&\"\"&#REF!&\"\"&$D310&\"\"&$F310&\"\"&$I310&\"\"&$J310&\"\"&$K310))","v":""},{"$f":"IF($X$2=\"\",\"\",SEARCH($X$2,$A310&\" \"&#REF!&\" \"&$D310&\" \"&$F310&\" \"&$I310&\" \"&$J310&\" \"&$K310&\" \"&$O310&\" \"&$Q310&\" \"&$S310&\" \"&$U310&\" \"&$V310&\" \"&$W310&\" \"&$X310))","v":""},49]
[306,{"$f":"IF(C311=\"\",\"\",MAX($B$5:B310)+1)","v":306},"مراد 306","فريدة306","ثانية","علوم تجريبية",3,"2ع3","12/2/2305","البياضة","ذ","محمد علي306","حي السلام -البياضة",null,"2018-12-14",306,"2019-01-11",310,"2019-11-07",313,null,null,null,null,null,{"$f":"IF($V$2=\"\",\"\",SEARCH($V$2,$A311&\"\"&#REF!&\"\"&$D311&\"\"&$F311&\"\"&$I311&\"\"&$J311&\"\"&$K311))","v":""},{"$f":"IF($X$2=\"\",\"\",SEARCH($X$2,$A311&\" \"&#REF!&\" \"&$D311&\" \"&$F311&\" \"&$I311&\" \"&$J311&\" \"&$K311&\" \"&$O311&\" \"&$Q311&\" \"&$S311&\" \"&$U311&\" \"&$V311&\" \"&$W311&\" \"&$X311))","v":""},{"$error":"#VALUE!"}]
[307,{"$f":"IF(C312=\"\",\"\",MAX($B$5:B311)+1)","v":307},"مراد 307","فريدة307","ثانية","علوم تجريبية",3,"2ع3","12/2/2306","الوادي","ذ","محمد علي307","حي الإزدهار - البياضة",null,"2018-12-15",307,"2019-01-12",311,"2019-11-08",314,null,null,null,null,null,{"$f":"IF($V$2=\"\",\"\",SEARCH($V$2,$A312&\"\"&#REF!&\"\"&$D312&\"\"&$F312&\"\"&$I312&\"\"&$J312&\"\"&$K312))","v":""},{"$f":"IF($X$2=\"\",\"\",SEARCH($X$2,$A312&\" \"&#REF!&\" \"&$D312&\" \"&$F312&\" \"&$I312&\" \"&$J312&\" \"&$K312&\" \"&$O312&\" \"&$Q312&\" \"&$S312&\" \"&$U312&\" \"&$V312&\" \"&$W312&\" \"&$X312))","v":""},49]
[308,{"$f":"IF(C313=\"\",\"\",MAX($B$5:B312)+1)","v":308},"مراد 308","فريدة308","ثانية","علوم تجريبية",3,"2ع3","12/2/2307","البياضة","ذ","محمد علي308","حي السلام -البياضة",null,"2018-12-16",308,"2019-01-13",312,"2019-11-09",315,null,null,null,null,null,{"$f":"IF($V$2=\"\",\"\",SEARCH($V$2,$A313&\"\"&#REF!&\"\"&$D313&\"\"&$F313&\"\"&$I313&\"\"&$J313&\"\"&$K313))","v":""},{"$f":"IF($X$2=\"\",\"\",SEARCH($X$2,$A313&\" \"&#REF!&\" \"&$D313&\" \"&$F313&\" \"&$I313&\" \"&$J313&\" \"&$K313&\" \"&$O313&\" \"&$Q313&\" \"&$S313&\" \"&$U313&\" \"&$V313&\" \"&$W313&\" \"&$X313))","v":""},{"$error":"#VALUE!"}]
[309,{"$f":"IF(C314=\"\",\"\",MAX($B$5:B313)+1)","v":309},"مراد 309","فريدة309","ثانية","علوم تجريبية",3,"2ع3","12/2/2308","البياضة","ذ","محمد علي309","حي الإزدهار - البياضة",null,"2018-12-17",309,"2019-01-14",313,"2019-11-10",316,null,null,null,null,null,{"$f":"IF($V$2=\"\",\"\",SEARCH($V$2,$A314&\"\"&#REF!&\"\"&$D314&\"\"&$F314&\"\"&$I314&\"\"&$J314&\"\"&$K314))","v":""},{"$f":"IF($X$2=\"\",\"\",SEARCH($X$2,$A314&\" \"&#REF!&\" \"&$D314&\" \"&$F314&\" \"&$I314&\" \"&$J314&\" \"&$K314&\" \"&$O314&\" \"&$Q314&\" \"&$S314&\" \"&$U314&\" \"&$V314&\" \"&$W314&\" \"&$X314))","v":""},{"$error":"#VALUE!"}]
[310,{"$f":"IF(C315=\"\",\"\",MAX($B$5:B314)+1)","v":310},"مراد 310","فريدة310","ثانية","علوم تجريبية",3,"2ع3","12/2/2309","البياضة","ذ","محمد علي310","حي السلام -البياضة",null,"2018-12-18",310,"2019-01-15",314,"2019-11-11",317,null,null,null,null,null,{"$f":"IF($V$2=\"\",\"\",SEARCH($V$2,$A315&\"\"&#REF!&\"\"&$D315&\"\"&$F315&\"\"&$I315&\"\"&$J315&\"\"&$K315))","v":""},{"$f":"IF($X$2=\"\",\"\",SEARCH($X$2,$A315&\" \"&#REF!&\" \"&$D315&\" \"&$F315&\" \"&$I315&\" \"&$J315&\" \"&$K315&\" \"&$O315&\" \"&$Q315&\" \"&$S315&\" \"&$U315&\" \"&$V315&\" \"&$W315&\" \"&$X315))","v":""},{"$error":"#VALUE!"}]
[311,{"$f":"IF(C316=\"\",\"\",MAX($B$5:B315)+1)","v":311},"مراد 311","فريدة311","ثانية","علوم تجريبية",3,"2ع3","12/2/2310","البياضة","ذ","محمد علي311","حي الإزدهار - البياضة",null,"2018-12-19",311,"2019-01-16",315,"2019-11-12",318,null,null,null,null,null,{"$f":"IF($V$2=\"\",\"\",SEARCH($V$2,$A316&\"\"&#REF!&\"\"&$D316&\"\"&$F316&\"\"&$I316&\"\"&$J316&\"\"&$K316))","v":""},{"$f":"IF($X$2=\"\",\"\",SEARCH($X$2,$A316&\" \"&#REF!&\" \"&$D316&\" \"&$F316&\" \"&$I316&\" \"&$J316&\" \"&$K316&\" \"&$O316&\" \"&$Q316&\" \"&$S316&\" \"&$U316&\" \"&$V316&\" \"&$W316&\" \"&$X316))","v":""},{"$error":"#VALUE!"}]
[312,{"$f":"IF(C317=\"\",\"\",MAX($B$5:B316)+1)","v":312},"مراد 312","فريدة312","ثانية","علوم تجريبية",3,"2ع3","12/2/2311","البياضة","ذ","محمد علي312","حي السلام -البياضة",null,"2018-12-20",312,"2019-01-17",316,"2019-11-13",319,null,null,null,null,null,{"$f":"IF($V$2=\"\",\"\",SEARCH($V$2,$A317&\"\"&#REF!&\"\"&$D317&\"\"&$F317&\"\"&$I317&\"\"&$J317&\"\"&$K317))","v":""},{"$f":"IF($X$2=\"\",\"\",SEARCH($X$2,$A317&\" \"&#REF!&\" \"&$D317&\" \"&$F317&\" \"&$I317&\" \"&$J317&\" \"&$K317&\" \"&$O317&\" \"&$Q317&\" \"&$S317&\" \"&$U317&\" \"&$V317&\" \"&$W317&\" \"&$X317))","v":""},{"$error":"#VALUE!"}]
[313,{"$f":"IF(C318=\"\",\"\",MAX($B$5:B317)+1)","v":313},"مراد 313","فريدة313","ثانية","علوم تجريبية",3,"2ع3","12/2/2312","البياضة","ذ","محمد علي313","حي الإزدهار - البياضة",null,"2018-12-21",313,"2019-01-18",317,"2019-11-14",320,null,null,null,null,null,{"$f":"IF($V$2=\"\",\"\",SEARCH($V$2,$A318&\"\"&#REF!&\"\"&$D318&\"\"&$F318&\"\"&$I318&\"\"&$J318&\"\"&$K318))","v":""},{"$f":"IF($X$2=\"\",\"\",SEARCH($X$2,$A318&\" \"&#REF!&\" \"&$D318&\" \"&$F318&\" \"&$I318&\" \"&$J318&\" \"&$K318&\" \"&$O318&\" \"&$Q318&\" \"&$S318&\" \"&$U318&\" \"&$V318&\" \"&$W318&\" \"&$X318))","v":""},{"$error":"#VALUE!"}]
[314,{"$f":"IF(C319=\"\",\"\",MAX($B$5:B318)+1)","v":314},"مراد 314","فريدة314","ثانية","علوم تجريبية",3,"2ع3","12/2/2313","البياضة","ذ","محمد علي314","حي السلام -البياضة",null,"2018-12-22",314,"2019-01-19",318,"2019-11-15",321,null,null,null,null,null,{"$f":"IF($V$2=\"\",\"\",SEARCH($V$2,$A319&\"\"&#REF!&\"\"&$D319&\"\"&$F319&\"\"&$I319&\"\"&$J319&\"\"&$K319))","v":""},{"$f":"IF($X$2=\"\",\"\",SEARCH($X$2,$A319&\" \"&#REF!&\" \"&$D319&\" \"&$F319&\" \"&$I319&\" \"&$J319&\" \"&$K319&\" \"&$O319&\" \"&$Q319&\" \"&$S319&\" \"&$U319&\" \"&$V319&\" \"&$W319&\" \"&$X319))","v":""},{"$error":"#VALUE!"}]
[315,{"$f":"IF(C320=\"\",\"\",MAX($B$5:B319)+1)","v":315},"مراد 315","فريدة315","ثانية","علوم تجريبية",3,"2ع3","12/2/2314","البياضة","ذ","محمد علي315","حي الإزدهار - البياضة",null,"2018-12-23",315,"2019-01-20",319,"2019-11-16",322,null,null,null,null,null,{"$f":"IF($V$2=\"\",\"\",SEARCH($V$2,$A320&\"\"&#REF!&\"\"&$D320&\"\"&$F320&\"\"&$I320&\"\"&$J320&\"\"&$K320))","v":""},{"$f":"IF($X$2=\"\",\"\",SEARCH($X$2,$A320&\" \"&#REF!&\" \"&$D320&\" \"&$F320&\" \"&$I320&\" \"&$J320&\" \"&$K320&\" \"&$O320&\" \"&$Q320&\" \"&$S320&\" \"&$U320&\" \"&$V320&\" \"&$W320&\" \"&$X320))","v":""},{"$error":"#VALUE!"}]
[316,{"$f":"IF(C321=\"\",\"\",MAX($B$5:B320)+1)","v":316},"مراد 316","فريدة316","ثانية","علوم تجريبية",3,"2ع3","12/2/2315","البياضة","ذ","محمد علي316","حي السلام -البياضة",null,"2018-12-24",316,"2019-01-21",320,"2019-11-17",323,null,null,null,null,null,{"$f":"IF($V$2=\"\",\"\",SEARCH($V$2,$A321&\"\"&#REF!&\"\"&$D321&\"\"&$F321&\"\"&$I321&\"\"&$J321&\"\"&$K321))","v":""},{"$f":"IF($X$2=\"\",\"\",SEARCH($X$2,$A321&\" \"&#REF!&\" \"&$D321&\" \"&$F321&\" \"&$I321&\" \"&$J321&\" \"&$K321&\" \"&$O321&\" \"&$Q321&\" \"&$S321&\" \"&$U321&\" \"&$V321&\" \"&$W321&\" \"&$X321))","v":""},{"$error":"#VALUE!"}]
[317,{"$f":"IF(C322=\"\",\"\",MAX($B$5:B321)+1)","v":317},"مراد 317","فريدة317","ثانية","علوم تجريبية",3,"2ع3","12/2/2316","الوادي","ذ","محمد علي317","حي الإزدهار - البياضة",null,"2018-12-25",317,"2019-01-22",321,"2019-11-18",324,null,null,null,null,null,{"$f":"IF($V$2=\"\",\"\",SEARCH($V$2,$A322&\"\"&#REF!&\"\"&$D322&\"\"&$F322&\"\"&$I322&\"\"&$J322&\"\"&$K322))","v":""},{"$f":"IF($X$2=\"\",\"\",SEARCH($X$2,$A322&\" \"&#REF!&\" \"&$D322&\" \"&$F322&\" \"&$I322&\" \"&$J322&\" \"&$K322&\" \"&$O322&\" \"&$Q322&\" \"&$S322&\" \"&$U322&\" \"&$V322&\" \"&$W322&\" \"&$X322))","v":""},49]
[318,{"$f":"IF(C323=\"\",\"\",MAX($B$5:B322)+1)","v":318},"مراد 318","فريدة318","ثانية","علوم تجريبية",3,"2ع3","12/2/2317","البياضة","ذ","محمد علي318","حي السلام -البياضة",null,"2018-12-26",318,"2019-01-23",322,"2019-11-19",325,null,null,null,null,null,{"$f":"IF($V$2=\"\",\"\",SEARCH($V$2,$A323&\"\"&#REF!&\"\"&$D323&\"\"&$F323&\"\"&$I323&\"\"&$J323&\"\"&$K323))","v":""},{"$f":"IF($X$2=\"\",\"\",SEARCH($X$2,$A323&\" \"&#REF!&\" \"&$D323&\" \"&$F323&\" \"&$I323&\" \"&$J323&\" \"&$K323&\" \"&$O323&\" \"&$Q323&\" \"&$S323&\" \"&$U323&\" \"&$V323&\" \"&$W323&\" \"&$X323))","v":""},{"$error":"#VALUE!"}]
[319,{"$f":"IF(C324=\"\",\"\",MAX($B$5:B323)+1)","v":319},"مراد 319","فريدة319","ثانية","علوم تجريبية",3,"2ع3","12/2/2318","البياضة","ذ","محمد علي319","حي الإزدهار - البياضة",null,"2018-12-27",319,"2019-01-24",323,"2019-11-20",326,null,null,null,null,null,{"$f":"IF($V$2=\"\",\"\",SEARCH($V$2,$A324&\"\"&#REF!&\"\"&$D324&\"\"&$F324&\"\"&$I324&\"\"&$J324&\"\"&$K324))","v":""},{"$f":"IF($X$2=\"\",\"\",SEARCH($X$2,$A324&\" \"&#REF!&\" \"&$D324&\" \"&$F324&\" \"&$I324&\" \"&$J324&\" \"&$K324&\" \"&$O324&\" \"&$Q324&\" \"&$S324&\" \"&$U324&\" \"&$V324&\" \"&$W324&\" \"&$X324))","v":""},{"$error":"#VALUE!"}]
[320,{"$f":"IF(C325=\"\",\"\",MAX($B$5:B324)+1)","v":320},"مراد 320","فريدة320","ثانية","علوم تجريبية",3,"2ع3","12/2/2319","البياضة","ذ","محمد علي320","حي السلام -البياضة",null,"2018-12-28",320,"2019-01-25",324,"2019-11-21",327,null,null,null,null,null,{"$f":"IF($V$2=\"\",\"\",SEARCH($V$2,$A325&\"\"&#REF!&\"\"&$D325&\"\"&$F325&\"\"&$I325&\"\"&$J325&\"\"&$K325))","v":""},{"$f":"IF($X$2=\"\",\"\",SEARCH($X$2,$A325&\" \"&#REF!&\" \"&$D325&\" \"&$F325&\" \"&$I325&\" \"&$J325&\" \"&$K325&\" \"&$O325&\" \"&$Q325&\" \"&$S325&\" \"&$U325&\" \"&$V325&\" \"&$W325&\" \"&$X325))","v":""},{"$error":"#VALUE!"}]
[321,{"$f":"IF(C326=\"\",\"\",MAX($B$5:B325)+1)","v":321},"مراد 321","فريدة321","ثانية","علوم تجريبية",3,"2ع3","12/2/2320","البياضة","ذ","محمد علي321","حي الإزدهار - البياضة",null,"2018-12-29",321,"2019-01-26",325,"2019-11-22",328,null,null,null,null,null,{"$f":"IF($V$2=\"\",\"\",SEARCH($V$2,$A326&\"\"&#REF!&\"\"&$D326&\"\"&$F326&\"\"&$I326&\"\"&$J326&\"\"&$K326))","v":""},{"$f":"IF($X$2=\"\",\"\",SEARCH($X$2,$A326&\" \"&#REF!&\" \"&$D326&\" \"&$F326&\" \"&$I326&\" \"&$J326&\" \"&$K326&\" \"&$O326&\" \"&$Q326&\" \"&$S326&\" \"&$U326&\" \"&$V326&\" \"&$W326&\" \"&$X326))","v":""},{"$error":"#VALUE!"}]
[322,{"$f":"IF(C327=\"\",\"\",MAX($B$5:B326)+1)","v":322},"مراد 322","فريدة322","ثانية","علوم تجريبية",3,"2ع3","12/2/2321","البياضة","ذ","محمد علي322","حي السلام -البياضة",null,"2018-12-30",322,"2019-01-27",326,"2019-11-23",329,null,null,null,null,null,{"$f":"IF($V$2=\"\",\"\",SEARCH($V$2,$A327&\"\"&#REF!&\"\"&$D327&\"\"&$F327&\"\"&$I327&\"\"&$J327&\"\"&$K327))","v":""},{"$f":"IF($X$2=\"\",\"\",SEARCH($X$2,$A327&\" \"&#REF!&\" \"&$D327&\" \"&$F327&\" \"&$I327&\" \"&$J327&\" \"&$K327&\" \"&$O327&\" \"&$Q327&\" \"&$S327&\" \"&$U327&\" \"&$V327&\" \"&$W327&\" \"&$X327))","v":""},{"$f":"IF($L$2=\"\",\"\",SEARCH($L$2,$A327&\" \"&$D327&\" \"&$E327&\" \"&$F327&\" \"&$G327&\" \"&$H327&\" \"&$I327&\" \"&$J327&\" \"&$K327&\" \"&$L327&\" \"&$N327&\" \"&$O327&\" \"&$P327&\" \"&$Q327&\" \"&$R327&\" \"&$S327&\" \"&$T327&\" \"&$U327&\" \"&$V327&\" \"&$W327&\" \"&$X327))","v":{"$error":"#VALUE!"}}]
[323,{"$f":"IF(C328=\"\",\"\",MAX($B$5:B327)+1)","v":323},"مراد 323","فريدة323","ثانية","تسيير واقتصاد",1,"2تق1","12/2/2322","البياضة","ذ","محمد علي323","حي الإزدهار - البياضة",null,"2018-12-31",323,"2019-01-28",327,"2019-11-24",330,null,null,null,null,null,{"$f":"IF($V$2=\"\",\"\",SEARCH($V$2,$A328&\"\"&#REF!&\"\"&$D328&\"\"&$F328&\"\"&$I328&\"\"&$J328&\"\"&$K328))","v":""},{"$f":"IF($X$2=\"\",\"\",SEARCH($X$2,$A328&\" \"&#REF!&\" \"&$D328&\" \"&$F328&\" \"&$I328&\" \"&$J328&\" \"&$K328&\" \"&$O328&\" \"&$Q328&\" \"&$S328&\" \"&$U328&\" \"&$V328&\" \"&$W328&\" \"&$X328))","v":""},{"$error":"#VALUE!"}]
[324,{"$f":"IF(C329=\"\",\"\",MAX($B$5:B328)+1)","v":324},"مراد 324","فريدة324","ثانية","تسيير واقتصاد",1,"2تق1","12/2/2323","البياضة","ذ","محمد علي324","حي السلام -البياضة",null,"2019-01-01",324,"2019-01-29",328,"2019-11-25",331,null,null,null,null,null,{"$f":"IF($V$2=\"\",\"\",SEARCH($V$2,$A329&\"\"&#REF!&\"\"&$D329&\"\"&$F329&\"\"&$I329&\"\"&$J329&\"\"&$K329))","v":""},{"$f":"IF($X$2=\"\",\"\",SEARCH($X$2,$A329&\" \"&#REF!&\" \"&$D329&\" \"&$F329&\" \"&$I329&\" \"&$J329&\" \"&$K329&\" \"&$O329&\" \"&$Q329&\" \"&$S329&\" \"&$U329&\" \"&$V329&\" \"&$W329&\" \"&$X329))","v":""},{"$error":"#VALUE!"}]
[325,{"$f":"IF(C330=\"\",\"\",MAX($B$5:B329)+1)","v":325},"مراد 325","فريدة325","ثانية","تسيير واقتصاد",1,"2تق1","12/2/2324","البياضة","ذ","محمد علي325","حي الإزدهار - البياضة",null,"2019-01-02",325,"2019-01-30",329,"2019-11-26",332,null,null,null,null,null,{"$f":"IF($V$2=\"\",\"\",SEARCH($V$2,$A330&\"\"&#REF!&\"\"&$D330&\"\"&$F330&\"\"&$I330&\"\"&$J330&\"\"&$K330))","v":""},{"$f":"IF($X$2=\"\",\"\",SEARCH($X$2,$A330&\" \"&#REF!&\" \"&$D330&\" \"&$F330&\" \"&$I330&\" \"&$J330&\" \"&$K330&\" \"&$O330&\" \"&$Q330&\" \"&$S330&\" \"&$U330&\" \"&$V330&\" \"&$W330&\" \"&$X330))","v":""},{"$error":"#VALUE!"}]
[326,{"$f":"IF(C331=\"\",\"\",MAX($B$5:B330)+1)","v":326},"مراد 326","فريدة326","ثانية","تسيير واقتصاد",1,"2تق1","12/2/2325","البياضة","ذ","محمد علي326","حي السلام -البياضة",null,"2019-01-03",326,"2019-01-31",330,"2019-11-27",333,null,null,null,null,null,{"$f":"IF($V$2=\"\",\"\",SEARCH($V$2,$A331&\"\"&#REF!&\"\"&$D331&\"\"&$F331&\"\"&$I331&\"\"&$J331&\"\"&$K331))","v":""},{"$f":"IF($X$2=\"\",\"\",SEARCH($X$2,$A331&\" \"&#REF!&\" \"&$D331&\" \"&$F331&\" \"&$I331&\" \"&$J331&\" \"&$K331&\" \"&$O331&\" \"&$Q331&\" \"&$S331&\" \"&$U331&\" \"&$V331&\" \"&$W331&\" \"&$X331))","v":""},{"$error":"#VALUE!"}]
[327,{"$f":"IF(C332=\"\",\"\",MAX($B$5:B331)+1)","v":327},"مراد 327","فريدة327","ثانية","تسيير واقتصاد",1,"2تق1","12/2/2326","البياضة","ذ","محمد علي327","حي الإزدهار - البياضة",null,"2019-01-04",327,"2019-02-01",331,"2019-11-28",334,null,null,null,null,null,{"$f":"IF($V$2=\"\",\"\",SEARCH($V$2,$A332&\"\"&#REF!&\"\"&$D332&\"\"&$F332&\"\"&$I332&\"\"&$J332&\"\"&$K332))","v":""},{"$f":"IF($X$2=\"\",\"\",SEARCH($X$2,$A332&\" \"&#REF!&\" \"&$D332&\" \"&$F332&\" \"&$I332&\" \"&$J332&\" \"&$K332&\" \"&$O332&\" \"&$Q332&\" \"&$S332&\" \"&$U332&\" \"&$V332&\" \"&$W332&\" \"&$X332))","v":""},{"$error":"#VALUE!"}]
[328,{"$f":"IF(C333=\"\",\"\",MAX($B$5:B332)+1)","v":328},"مراد 328","فريدة328","ثانية","تسيير واقتصاد",1,"2تق1","12/2/2327","الوادي","ذ","محمد علي328","حي السلام -البياضة",null,"2019-01-05",328,"2019-02-02",332,"2019-11-29",335,null,null,null,null,null,{"$f":"IF($V$2=\"\",\"\",SEARCH($V$2,$A333&\"\"&#REF!&\"\"&$D333&\"\"&$F333&\"\"&$I333&\"\"&$J333&\"\"&$K333))","v":""},{"$f":"IF($X$2=\"\",\"\",SEARCH($X$2,$A333&\" \"&#REF!&\" \"&$D333&\" \"&$F333&\" \"&$I333&\" \"&$J333&\" \"&$K333&\" \"&$O333&\" \"&$Q333&\" \"&$S333&\" \"&$U333&\" \"&$V333&\" \"&$W333&\" \"&$X333))","v":""},51]
[329,{"$f":"IF(C334=\"\",\"\",MAX($B$5:B333)+1)","v":329},"مراد 329","فريدة329","ثانية","تسيير واقتصاد",1,"2تق1","12/2/2328","البياضة","ذ","محمد علي329","حي الإزدهار - البياضة",null,"2019-01-06",329,"2019-02-03",333,"2019-11-30",336,null,null,null,null,null,{"$f":"IF($V$2=\"\",\"\",SEARCH($V$2,$A334&\"\"&#REF!&\"\"&$D334&\"\"&$F334&\"\"&$I334&\"\"&$J334&\"\"&$K334))","v":""},{"$f":"IF($X$2=\"\",\"\",SEARCH($X$2,$A334&\" \"&#REF!&\" \"&$D334&\" \"&$F334&\" \"&$I334&\" \"&$J334&\" \"&$K334&\" \"&$O334&\" \"&$Q334&\" \"&$S334&\" \"&$U334&\" \"&$V334&\" \"&$W334&\" \"&$X334))","v":""},{"$error":"#VALUE!"}]
[330,{"$f":"IF(C335=\"\",\"\",MAX($B$5:B334)+1)","v":330},"مراد 330","فريدة330","ثانية","تسيير واقتصاد",1,"2تق1","12/2/2329","الرباح","ذ","محمد علي330","حي السلام -البياضة",null,"2019-01-07",330,"2019-02-04",334,"2019-12-01",337,null,null,null,null,null,{"$f":"IF($V$2=\"\",\"\",SEARCH($V$2,$A335&\"\"&#REF!&\"\"&$D335&\"\"&$F335&\"\"&$I335&\"\"&$J335&\"\"&$K335))","v":""},{"$f":"IF($X$2=\"\",\"\",SEARCH($X$2,$A335&\" \"&#REF!&\" \"&$D335&\" \"&$F335&\" \"&$I335&\" \"&$J335&\" \"&$K335&\" \"&$O335&\" \"&$Q335&\" \"&$S335&\" \"&$U335&\" \"&$V335&\" \"&$W335&\" \"&$X335))","v":""},{"$error":"#VALUE!"}]
[331,{"$f":"IF(C336=\"\",\"\",MAX($B$5:B335)+1)","v":331},"مراد 331","فريدة331","ثانية","تسيير واقتصاد",1,"2تق1","12/2/2330","البياضة","ذ","محمد علي331","حي الإزدهار - البياضة",null,"2019-01-08",331,"2019-02-05",335,"2019-12-02",338,null,null,null,null,null,{"$f":"IF($V$2=\"\",\"\",SEARCH($V$2,$A336&\"\"&#REF!&\"\"&$D336&\"\"&$F336&\"\"&$I336&\"\"&$J336&\"\"&$K336))","v":""},{"$f":"IF($X$2=\"\",\"\",SEARCH($X$2,$A336&\" \"&#REF!&\" \"&$D336&\" \"&$F336&\" \"&$I336&\" \"&$J336&\" \"&$K336&\" \"&$O336&\" \"&$Q336&\" \"&$S336&\" \"&$U336&\" \"&$V336&\" \"&$W336&\" \"&$X336))","v":""},{"$error":"#VALUE!"}]
[332,{"$f":"IF(C337=\"\",\"\",MAX($B$5:B336)+1)","v":332},"مراد 332","فريدة332","ثانية","تسيير واقتصاد",1,"2تق1","12/2/2331","البياضة","ذ","محمد علي332","حي السلام -البياضة",null,"2019-01-09",332,"2019-02-06",336,"2019-12-03",339,null,null,null,null,null,{"$f":"IF($V$2=\"\",\"\",SEARCH($V$2,$A337&\"\"&#REF!&\"\"&$D337&\"\"&$F337&\"\"&$I337&\"\"&$J337&\"\"&$K337))","v":""},{"$f":"IF($X$2=\"\",\"\",SEARCH($X$2,$A337&\" \"&#REF!&\" \"&$D337&\" \"&$F337&\" \"&$I337&\" \"&$J337&\" \"&$K337&\" \"&$O337&\" \"&$Q337&\" \"&$S337&\" \"&$U337&\" \"&$V337&\" \"&$W337&\" \"&$X337))","v":""},{"$error":"#VALUE!"}]
[333,{"$f":"IF(C338=\"\",\"\",MAX($B$5:B337)+1)","v":333},"مراد 333","فريدة333","ثانية","تسيير واقتصاد",1,"2تق1","12/2/2332","الوادي","ذ","محمد علي333","حي الإزدهار - البياضة",null,"2019-01-10",333,"2019-02-07",337,"2019-12-04",340,null,null,null,null,null,{"$f":"IF($V$2=\"\",\"\",SEARCH($V$2,$A338&\"\"&#REF!&\"\"&$D338&\"\"&$F338&\"\"&$I338&\"\"&$J338&\"\"&$K338))","v":""},{"$f":"IF($X$2=\"\",\"\",SEARCH($X$2,$A338&\" \"&#REF!&\" \"&$D338&\" \"&$F338&\" \"&$I338&\" \"&$J338&\" \"&$K338&\" \"&$O338&\" \"&$Q338&\" \"&$S338&\" \"&$U338&\" \"&$V338&\" \"&$W338&\" \"&$X338))","v":""},51]
[334,{"$f":"IF(C339=\"\",\"\",MAX($B$5:B338)+1)","v":334},"مراد 334","فريدة334","ثانية","تسيير واقتصاد",1,"2تق1","12/2/2333","البياضة","ذ","محمد علي334","حي السلام -البياضة",null,"2019-01-11",334,"2019-02-08",338,"2019-12-05",341,null,null,null,null,null,{"$f":"IF($V$2=\"\",\"\",SEARCH($V$2,$A339&\"\"&#REF!&\"\"&$D339&\"\"&$F339&\"\"&$I339&\"\"&$J339&\"\"&$K339))","v":""},{"$f":"IF($X$2=\"\",\"\",SEARCH($X$2,$A339&\" \"&#REF!&\" \"&$D339&\" \"&$F339&\" \"&$I339&\" \"&$J339&\" \"&$K339&\" \"&$O339&\" \"&$Q339&\" \"&$S339&\" \"&$U339&\" \"&$V339&\" \"&$W339&\" \"&$X339))","v":""},{"$error":"#VALUE!"}]
[335,{"$f":"IF(C340=\"\",\"\",MAX($B$5:B339)+1)","v":335},"مراد 335","فريدة335","ثانية","تسيير واقتصاد",1,"2تق1","12/2/2334","الوادي","ذ","محمد علي335","حي الإزدهار - البياضة",null,"2019-01-12",335,"2019-02-09",339,"2019-12-06",342,null,null,null,null,null,{"$f":"IF($V$2=\"\",\"\",SEARCH($V$2,$A340&\"\"&#REF!&\"\"&$D340&\"\"&$F340&\"\"&$I340&\"\"&$J340&\"\"&$K340))","v":""},{"$f":"IF($X$2=\"\",\"\",SEARCH($X$2,$A340&\" \"&#REF!&\" \"&$D340&\" \"&$F340&\" \"&$I340&\" \"&$J340&\" \"&$K340&\" \"&$O340&\" \"&$Q340&\" \"&$S340&\" \"&$U340&\" \"&$V340&\" \"&$W340&\" \"&$X340))","v":""},51]
[336,{"$f":"IF(C341=\"\",\"\",MAX($B$5:B340)+1)","v":336},"مراد 336","فريدة336","ثانية","تسيير واقتصاد",1,"2تق1","12/2/2335","الرباح","ذ","محمد علي336","حي السلام -البياضة",null,"2019-01-13",336,"2019-02-10",340,"2019-12-07",343,null,null,null,null,null,{"$f":"IF($V$2=\"\",\"\",SEARCH($V$2,$A341&\"\"&#REF!&\"\"&$D341&\"\"&$F341&\"\"&$I341&\"\"&$J341&\"\"&$K341))","v":""},{"$f":"IF($X$2=\"\",\"\",SEARCH($X$2,$A341&\" \"&#REF!&\" \"&$D341&\" \"&$F341&\" \"&$I341&\" \"&$J341&\" \"&$K341&\" \"&$O341&\" \"&$Q341&\" \"&$S341&\" \"&$U341&\" \"&$V341&\" \"&$W341&\" \"&$X341))","v":""},{"$error":"#VALUE!"}]
[337,{"$f":"IF(C342=\"\",\"\",MAX($B$5:B341)+1)","v":337},"مراد 337","فريدة337","ثانية","تسيير واقتصاد",1,"2تق1","12/2/2336","البياضة","ذ","محمد علي337","حي الإزدهار - البياضة",null,"2019-01-14",337,"2019-02-11",341,"2019-12-08",344,null,null,null,null,null,{"$f":"IF($V$2=\"\",\"\",SEARCH($V$2,$A342&\"\"&#REF!&\"\"&$D342&\"\"&$F342&\"\"&$I342&\"\"&$J342&\"\"&$K342))","v":""},{"$f":"IF($X$2=\"\",\"\",SEARCH($X$2,$A342&\" \"&#REF!&\" \"&$D342&\" \"&$F342&\" \"&$I342&\" \"&$J342&\" \"&$K342&\" \"&$O342&\" \"&$Q342&\" \"&$S342&\" \"&$U342&\" \"&$V342&\" \"&$W342&\" \"&$X342))","v":""},{"$error":"#VALUE!"}]
[338,{"$f":"IF(C343=\"\",\"\",MAX($B$5:B342)+1)","v":338},"مراد 338","فريدة338","ثانية","تسيير واقتصاد",1,"2تق1","12/2/2337","البياضة","ذ","محمد علي338","حي السلام -البياضة",null,"2019-01-15",338,"2019-02-12",342,"2019-12-09",345,null,null,null,null,null,{"$f":"IF($V$2=\"\",\"\",SEARCH($V$2,$A343&\"\"&#REF!&\"\"&$D343&\"\"&$F343&\"\"&$I343&\"\"&$J343&\"\"&$K343))","v":""},{"$f":"IF($X$2=\"\",\"\",SEARCH($X$2,$A343&\" \"&#REF!&\" \"&$D343&\" \"&$F343&\" \"&$I343&\" \"&$J343&\" \"&$K343&\" \"&$O343&\" \"&$Q343&\" \"&$S343&\" \"&$U343&\" \"&$V343&\" \"&$W343&\" \"&$X343))","v":""},{"$error":"#VALUE!"}]
[339,{"$f":"IF(C344=\"\",\"\",MAX($B$5:B343)+1)","v":339},"مراد 339","فريدة339","ثانية","تسيير واقتصاد",1,"2تق1","12/2/2338","البياضة","ذ","محمد علي339","حي الإزدهار - البياضة",null,"2019-01-16",339,"2019-02-13",343,"2019-12-10",346,null,null,null,null,null,{"$f":"IF($V$2=\"\",\"\",SEARCH($V$2,$A344&\"\"&#REF!&\"\"&$D344&\"\"&$F344&\"\"&$I344&\"\"&$J344&\"\"&$K344))","v":""},{"$f":"IF($X$2=\"\",\"\",SEARCH($X$2,$A344&\" \"&#REF!&\" \"&$D344&\" \"&$F344&\" \"&$I344&\" \"&$J344&\" \"&$K344&\" \"&$O344&\" \"&$Q344&\" \"&$S344&\" \"&$U344&\" \"&$V344&\" \"&$W344&\" \"&$X344))","v":""},{"$error":"#VALUE!"}]
[340,{"$f":"IF(C345=\"\",\"\",MAX($B$5:B344)+1)","v":340},"مراد 340","فريدة340","ثانية","تسيير واقتصاد",1,"2تق1","12/2/2339","الوادي","ذ","محمد علي340","حي السلام -البياضة",null,"2019-01-17",340,"2019-02-14",344,"2019-12-11",347,null,null,null,null,null,{"$f":"IF($V$2=\"\",\"\",SEARCH($V$2,$A345&\"\"&#REF!&\"\"&$D345&\"\"&$F345&\"\"&$I345&\"\"&$J345&\"\"&$K345))","v":""},{"$f":"IF($X$2=\"\",\"\",SEARCH($X$2,$A345&\" \"&#REF!&\" \"&$D345&\" \"&$F345&\" \"&$I345&\" \"&$J345&\" \"&$K345&\" \"&$O345&\" \"&$Q345&\" \"&$S345&\" \"&$U345&\" \"&$V345&\" \"&$W345&\" \"&$X345))","v":""},51]
[341,{"$f":"IF(C346=\"\",\"\",MAX($B$5:B345)+1)","v":341},"مراد 341","فريدة341","ثانية","تسيير واقتصاد",1,"2تق1","12/2/2340","البياضة","ذ","محمد علي341","حي الإزدهار - البياضة",null,"2019-01-18",341,"2019-02-15",345,"2019-12-12",348,null,null,null,null,null,{"$f":"IF($V$2=\"\",\"\",SEARCH($V$2,$A346&\"\"&#REF!&\"\"&$D346&\"\"&$F346&\"\"&$I346&\"\"&$J346&\"\"&$K346))","v":""},{"$f":"IF($X$2=\"\",\"\",SEARCH($X$2,$A346&\" \"&#REF!&\" \"&$D346&\" \"&$F346&\" \"&$I346&\" \"&$J346&\" \"&$K346&\" \"&$O346&\" \"&$Q346&\" \"&$S346&\" \"&$U346&\" \"&$V346&\" \"&$W346&\" \"&$X346))","v":""},{"$error":"#VALUE!"}]
[342,{"$f":"IF(C347=\"\",\"\",MAX($B$5:B346)+1)","v":342},"مراد 342","فريدة342","ثانية","تسيير واقتصاد",1,"2تق1","12/2/2341","البياضة","ذ","محمد علي342","حي السلام -البياضة",null,"2019-01-19",342,"2019-02-16",346,"2019-12-13",349,null,null,null,null,null,{"$f":"IF($V$2=\"\",\"\",SEARCH($V$2,$A347&\"\"&#REF!&\"\"&$D347&\"\"&$F347&\"\"&$I347&\"\"&$J347&\"\"&$K347))","v":""},{"$f":"IF($X$2=\"\",\"\",SEARCH($X$2,$A347&\" \"&#REF!&\" \"&$D347&\" \"&$F347&\" \"&$I347&\" \"&$J347&\" \"&$K347&\" \"&$O347&\" \"&$Q347&\" \"&$S347&\" \"&$U347&\" \"&$V347&\" \"&$W347&\" \"&$X347))","v":""},{"$error":"#VALUE!"}]
[343,{"$f":"IF(C348=\"\",\"\",MAX($B$5:B347)+1)","v":343},"مراد 343","فريدة343","ثانية","تسيير واقتصاد",1,"2تق1","12/2/2342","تونس","ذ","محمد علي343","حي الإزدهار - البياضة",null,"2019-01-20",343,"2019-02-17",347,"2019-12-14",350,null,null,null,null,null,{"$f":"IF($V$2=\"\",\"\",SEARCH($V$2,$A348&\"\"&#REF!&\"\"&$D348&\"\"&$F348&\"\"&$I348&\"\"&$J348&\"\"&$K348))","v":""},{"$f":"IF($X$2=\"\",\"\",SEARCH($X$2,$A348&\" \"&#REF!&\" \"&$D348&\" \"&$F348&\" \"&$I348&\" \"&$J348&\" \"&$K348&\" \"&$O348&\" \"&$Q348&\" \"&$S348&\" \"&$U348&\" \"&$V348&\" \"&$W348&\" \"&$X348))","v":""},{"$error":"#VALUE!"}]
[344,{"$f":"IF(C349=\"\",\"\",MAX($B$5:B348)+1)","v":344},"مراد 344","فريدة344","ثانية","تسيير واقتصاد",1,"2تق1","12/2/2343","البياضة","ذ","محمد علي344","حي السلام -البياضة",null,"2019-01-21",344,"2019-02-18",348,"2019-12-15",351,null,null,null,null,null,{"$f":"IF($V$2=\"\",\"\",SEARCH($V$2,$A349&\"\"&#REF!&\"\"&$D349&\"\"&$F349&\"\"&$I349&\"\"&$J349&\"\"&$K349))","v":""},{"$f":"IF($X$2=\"\",\"\",SEARCH($X$2,$A349&\" \"&#REF!&\" \"&$D349&\" \"&$F349&\" \"&$I349&\" \"&$J349&\" \"&$K349&\" \"&$O349&\" \"&$Q349&\" \"&$S349&\" \"&$U349&\" \"&$V349&\" \"&$W349&\" \"&$X349))","v":""},{"$error":"#VALUE!"}]
[345,{"$f":"IF(C350=\"\",\"\",MAX($B$5:B349)+1)","v":345},"مراد 345","فريدة345","ثانية","تسيير واقتصاد",1,"2تق1","12/2/2344","البياضة","ذ","محمد علي345","حي الإزدهار - البياضة",null,"2019-01-22",345,"2019-02-19",349,"2019-12-16",352,null,null,null,null,null,{"$f":"IF($V$2=\"\",\"\",SEARCH($V$2,$A350&\"\"&#REF!&\"\"&$D350&\"\"&$F350&\"\"&$I350&\"\"&$J350&\"\"&$K350))","v":""},{"$f":"IF($X$2=\"\",\"\",SEARCH($X$2,$A350&\" \"&#REF!&\" \"&$D350&\" \"&$F350&\" \"&$I350&\" \"&$J350&\" \"&$K350&\" \"&$O350&\" \"&$Q350&\" \"&$S350&\" \"&$U350&\" \"&$V350&\" \"&$W350&\" \"&$X350))","v":""},{"$error":"#VALUE!"}]
[346,{"$f":"IF(C351=\"\",\"\",MAX($B$5:B350)+1)","v":346},"مراد 346","فريدة346","ثانية","تسيير واقتصاد",1,"2تق1","12/2/2345","البياضة","ذ","محمد علي346","حي السلام -البياضة",null,"2019-01-23",346,"2019-02-20",350,"2019-12-17",353,null,null,null,null,null,{"$f":"IF($V$2=\"\",\"\",SEARCH($V$2,$A351&\"\"&#REF!&\"\"&$D351&\"\"&$F351&\"\"&$I351&\"\"&$J351&\"\"&$K351))","v":""},{"$f":"IF($X$2=\"\",\"\",SEARCH($X$2,$A351&\" \"&#REF!&\" \"&$D351&\" \"&$F351&\" \"&$I351&\" \"&$J351&\" \"&$K351&\" \"&$O351&\" \"&$Q351&\" \"&$S351&\" \"&$U351&\" \"&$V351&\" \"&$W351&\" \"&$X351))","v":""},{"$error":"#VALUE!"}]
[347,{"$f":"IF(C352=\"\",\"\",MAX($B$5:B351)+1)","v":347},"مراد 347","فريدة347","ثانية","تسيير واقتصاد",1,"2تق1","12/2/2346","البياضة","ذ","محمد علي347","حي الإزدهار - البياضة",null,"2019-01-24",347,"2019-02-21",351,"2019-12-18",354,null,null,null,null,null,{"$f":"IF($V$2=\"\",\"\",SEARCH($V$2,$A352&\"\"&#REF!&\"\"&$D352&\"\"&$F352&\"\"&$I352&\"\"&$J352&\"\"&$K352))","v":""},{"$f":"IF($X$2=\"\",\"\",SEARCH($X$2,$A352&\" \"&#REF!&\" \"&$D352&\" \"&$F352&\" \"&$I352&\" \"&$J352&\" \"&$K352&\" \"&$O352&\" \"&$Q352&\" \"&$S352&\" \"&$U352&\" \"&$V352&\" \"&$W352&\" \"&$X352))","v":""},{"$error":"#VALUE!"}]
[348,{"$f":"IF(C353=\"\",\"\",MAX($B$5:B352)+1)","v":348},"مراد 348","فريدة348","ثانية","تسيير واقتصاد",1,"2تق1","12/2/2347","البياضة","ذ","محمد علي348","حي السلام -البياضة",null,"2019-01-25",348,"2019-02-22",352,"2019-12-19",355,null,null,null,null,null,{"$f":"IF($V$2=\"\",\"\",SEARCH($V$2,$A353&\"\"&#REF!&\"\"&$D353&\"\"&$F353&\"\"&$I353&\"\"&$J353&\"\"&$K353))","v":""},{"$f":"IF($X$2=\"\",\"\",SEARCH($X$2,$A353&\" \"&#REF!&\" \"&$D353&\" \"&$F353&\" \"&$I353&\" \"&$J353&\" \"&$K353&\" \"&$O353&\" \"&$Q353&\" \"&$S353&\" \"&$U353&\" \"&$V353&\" \"&$W353&\" \"&$X353))","v":""},{"$error":"#VALUE!"}]
[349,{"$f":"IF(C354=\"\",\"\",MAX($B$5:B353)+1)","v":349},"مراد 349","فريدة349","ثانية","تسيير واقتصاد",1,"2تق1","12/2/2348","البياضة","ذ","محمد علي349","حي الإزدهار - البياضة",null,"2019-01-26",349,"2019-02-23",353,"2019-12-20",356,null,null,null,null,null,{"$f":"IF($V$2=\"\",\"\",SEARCH($V$2,$A354&\"\"&#REF!&\"\"&$D354&\"\"&$F354&\"\"&$I354&\"\"&$J354&\"\"&$K354))","v":""},{"$f":"IF($X$2=\"\",\"\",SEARCH($X$2,$A354&\" \"&#REF!&\" \"&$D354&\" \"&$F354&\" \"&$I354&\" \"&$J354&\" \"&$K354&\" \"&$O354&\" \"&$Q354&\" \"&$S354&\" \"&$U354&\" \"&$V354&\" \"&$W354&\" \"&$X354))","v":""},{"$error":"#VALUE!"}]
[350,{"$f":"IF(C355=\"\",\"\",MAX($B$5:B354)+1)","v":350},"مراد 350","فريدة350","ثانية","تسيير واقتصاد",1,"2تق1","12/2/2349","البياضة","ذ","محمد علي350","حي السلام -البياضة",null,"2019-01-27",350,"2019-02-24",354,"2019-12-21",357,null,null,null,null,null,{"$f":"IF($V$2=\"\",\"\",SEARCH($V$2,$A355&\"\"&#REF!&\"\"&$D355&\"\"&$F355&\"\"&$I355&\"\"&$J355&\"\"&$K355))","v":""},{"$f":"IF($X$2=\"\",\"\",SEARCH($X$2,$A355&\" \"&#REF!&\" \"&$D355&\" \"&$F355&\" \"&$I355&\" \"&$J355&\" \"&$K355&\" \"&$O355&\" \"&$Q355&\" \"&$S355&\" \"&$U355&\" \"&$V355&\" \"&$W355&\" \"&$X355))","v":""},{"$error":"#VALUE!"}]
[351,{"$f":"IF(C356=\"\",\"\",MAX($B$5:B355)+1)","v":351},"مراد 351","فريدة351","ثانية","تسيير واقتصاد",1,"2تق1","12/2/2350","البياضة","ذ","محمد علي351","حي الإزدهار - البياضة",null,"2019-01-28",351,"2019-02-25",355,"2019-12-22",358,null,null,null,null,null,{"$f":"IF($V$2=\"\",\"\",SEARCH($V$2,$A356&\"\"&#REF!&\"\"&$D356&\"\"&$F356&\"\"&$I356&\"\"&$J356&\"\"&$K356))","v":""},{"$f":"IF($X$2=\"\",\"\",SEARCH($X$2,$A356&\" \"&#REF!&\" \"&$D356&\" \"&$F356&\" \"&$I356&\" \"&$J356&\" \"&$K356&\" \"&$O356&\" \"&$Q356&\" \"&$S356&\" \"&$U356&\" \"&$V356&\" \"&$W356&\" \"&$X356))","v":""},{"$error":"#VALUE!"}]
[352,{"$f":"IF(C357=\"\",\"\",MAX($B$5:B356)+1)","v":352},"مراد 352","فريدة352","ثانية","تسيير واقتصاد",1,"2تق1","12/2/2351","البياضة","ذ","محمد علي352","حي السلام -البياضة",null,"2019-01-29",352,"2019-02-26",356,"2019-12-23",359,null,null,null,null,null,{"$f":"IF($V$2=\"\",\"\",SEARCH($V$2,$A357&\"\"&#REF!&\"\"&$D357&\"\"&$F357&\"\"&$I357&\"\"&$J357&\"\"&$K357))","v":""},{"$f":"IF($X$2=\"\",\"\",SEARCH($X$2,$A357&\" \"&#REF!&\" \"&$D357&\" \"&$F357&\" \"&$I357&\" \"&$J357&\" \"&$K357&\" \"&$O357&\" \"&$Q357&\" \"&$S357&\" \"&$U357&\" \"&$V357&\" \"&$W357&\" \"&$X357))","v":""},{"$error":"#VALUE!"}]
[353,{"$f":"IF(C358=\"\",\"\",MAX($B$5:B357)+1)","v":353},"مراد 353","فريدة353","ثانية","رياضيات",1,"2ريا1","12/2/2352","الوادي","ذ","محمد علي353","حي الإزدهار - البياضة",null,"2019-01-30",353,"2019-02-27",357,"2019-12-24",360,null,null,null,null,null,{"$f":"IF($V$2=\"\",\"\",SEARCH($V$2,$A358&\"\"&#REF!&\"\"&$D358&\"\"&$F358&\"\"&$I358&\"\"&$J358&\"\"&$K358))","v":""},{"$f":"IF($X$2=\"\",\"\",SEARCH($X$2,$A358&\" \"&#REF!&\" \"&$D358&\" \"&$F358&\" \"&$I358&\" \"&$J358&\" \"&$K358&\" \"&$O358&\" \"&$Q358&\" \"&$S358&\" \"&$U358&\" \"&$V358&\" \"&$W358&\" \"&$X358))","v":""},46]
[354,{"$f":"IF(C359=\"\",\"\",MAX($B$5:B358)+1)","v":354},"مراد 354","فريدة354","ثانية","رياضيات",1,"2ريا1","12/2/2353","الوادي","ذ","محمد علي354","حي السلام -البياضة",null,"2019-01-31",354,"2019-02-28",358,"2019-12-25",361,null,null,null,null,null,{"$f":"IF($V$2=\"\",\"\",SEARCH($V$2,$A359&\"\"&#REF!&\"\"&$D359&\"\"&$F359&\"\"&$I359&\"\"&$J359&\"\"&$K359))","v":""},{"$f":"IF($X$2=\"\",\"\",SEARCH($X$2,$A359&\" \"&#REF!&\" \"&$D359&\" \"&$F359&\" \"&$I359&\" \"&$J359&\" \"&$K359&\" \"&$O359&\" \"&$Q359&\" \"&$S359&\" \"&$U359&\" \"&$V359&\" \"&$W359&\" \"&$X359))","v":""},46]
[355,{"$f":"IF(C360=\"\",\"\",MAX($B$5:B359)+1)","v":355},"مراد 355","فريدة355","ثانية","رياضيات",1,"2ريا1","12/2/2354","الوادي","ذ","محمد علي355","حي الإزدهار - البياضة",null,"2019-02-01",355,"2019-03-01",359,"2019-12-26",362,null,null,null,null,null,{"$f":"IF($V$2=\"\",\"\",SEARCH($V$2,$A360&\"\"&#REF!&\"\"&$D360&\"\"&$F360&\"\"&$I360&\"\"&$J360&\"\"&$K360))","v":""},{"$f":"IF($X$2=\"\",\"\",SEARCH($X$2,$A360&\" \"&#REF!&\" \"&$D360&\" \"&$F360&\" \"&$I360&\" \"&$J360&\" \"&$K360&\" \"&$O360&\" \"&$Q360&\" \"&$S360&\" \"&$U360&\" \"&$V360&\" \"&$W360&\" \"&$X360))","v":""},46]
[356,{"$f":"IF(C361=\"\",\"\",MAX($B$5:B360)+1)","v":356},"مراد 356","فريدة356","ثانية","رياضيات",1,"2ريا1","12/2/2355","البياضة","ذ","محمد علي356","حي السلام -البياضة",null,"2019-02-02",356,"2019-03-02",360,"2019-12-27",363,null,null,null,null,null,{"$f":"IF($V$2=\"\",\"\",SEARCH($V$2,$A361&\"\"&#REF!&\"\"&$D361&\"\"&$F361&\"\"&$I361&\"\"&$J361&\"\"&$K361))","v":""},{"$f":"IF($X$2=\"\",\"\",SEARCH($X$2,$A361&\" \"&#REF!&\" \"&$D361&\" \"&$F361&\" \"&$I361&\" \"&$J361&\" \"&$K361&\" \"&$O361&\" \"&$Q361&\" \"&$S361&\" \"&$U361&\" \"&$V361&\" \"&$W361&\" \"&$X361))","v":""},{"$error":"#VALUE!"}]
[357,{"$f":"IF(C362=\"\",\"\",MAX($B$5:B361)+1)","v":357},"مراد 357","فريدة357","ثانية","رياضيات",1,"2ريا1","12/2/2356","البياضة","ذ","محمد علي357","حي الإزدهار - البياضة",null,"2019-02-03",357,"2019-03-03",361,"2019-12-28",364,null,null,null,null,null,{"$f":"IF($V$2=\"\",\"\",SEARCH($V$2,$A362&\"\"&#REF!&\"\"&$D362&\"\"&$F362&\"\"&$I362&\"\"&$J362&\"\"&$K362))","v":""},{"$f":"IF($X$2=\"\",\"\",SEARCH($X$2,$A362&\" \"&#REF!&\" \"&$D362&\" \"&$F362&\" \"&$I362&\" \"&$J362&\" \"&$K362&\" \"&$O362&\" \"&$Q362&\" \"&$S362&\" \"&$U362&\" \"&$V362&\" \"&$W362&\" \"&$X362))","v":""},{"$error":"#VALUE!"}]
[358,{"$f":"IF(C363=\"\",\"\",MAX($B$5:B362)+1)","v":358},"مراد 358","فريدة358","ثانية","رياضيات",1,"2ريا1","12/2/2357","البياضة","ذ","محمد علي358","حي السلام -البياضة",null,"2019-02-04",358,"2019-03-04",362,"2019-12-29",365,null,null,null,null,null,{"$f":"IF($V$2=\"\",\"\",SEARCH($V$2,$A363&\"\"&#REF!&\"\"&$D363&\"\"&$F363&\"\"&$I363&\"\"&$J363&\"\"&$K363))","v":""},{"$f":"IF($X$2=\"\",\"\",SEARCH($X$2,$A363&\" \"&#REF!&\" \"&$D363&\" \"&$F363&\" \"&$I363&\" \"&$J363&\" \"&$K363&\" \"&$O363&\" \"&$Q363&\" \"&$S363&\" \"&$U363&\" \"&$V363&\" \"&$W363&\" \"&$X363))","v":""},{"$error":"#VALUE!"}]
[359,{"$f":"IF(C364=\"\",\"\",MAX($B$5:B363)+1)","v":359},"مراد 359","فريدة359","ثانية","رياضيات",1,"2ريا1","12/2/2358","البياضة","ذ","محمد علي359","حي الإزدهار - البياضة",null,"2019-02-05",359,"2019-03-05",363,"2019-12-30",366,null,null,null,null,null,{"$f":"IF($V$2=\"\",\"\",SEARCH($V$2,$A364&\"\"&#REF!&\"\"&$D364&\"\"&$F364&\"\"&$I364&\"\"&$J364&\"\"&$K364))","v":""},{"$f":"IF($X$2=\"\",\"\",SEARCH($X$2,$A364&\" \"&#REF!&\" \"&$D364&\" \"&$F364&\" \"&$I364&\" \"&$J364&\" \"&$K364&\" \"&$O364&\" \"&$Q364&\" \"&$S364&\" \"&$U364&\" \"&$V364&\" \"&$W364&\" \"&$X364))","v":""},{"$error":"#VALUE!"}]
[360,{"$f":"IF(C365=\"\",\"\",MAX($B$5:B364)+1)","v":360},"مراد 360","فريدة360","ثانية","رياضيات",1,"2ريا1","12/2/2359","البياضة","ذ","محمد علي360","حي السلام -البياضة",null,"2019-02-06",360,"2019-03-06",364,"2019-12-31",367,null,null,null,null,null,{"$f":"IF($V$2=\"\",\"\",SEARCH($V$2,$A365&\"\"&#REF!&\"\"&$D365&\"\"&$F365&\"\"&$I365&\"\"&$J365&\"\"&$K365))","v":""},{"$f":"IF($X$2=\"\",\"\",SEARCH($X$2,$A365&\" \"&#REF!&\" \"&$D365&\" \"&$F365&\" \"&$I365&\" \"&$J365&\" \"&$K365&\" \"&$O365&\" \"&$Q365&\" \"&$S365&\" \"&$U365&\" \"&$V365&\" \"&$W365&\" \"&$X365))","v":""},{"$error":"#VALUE!"}]
[361,{"$f":"IF(C366=\"\",\"\",MAX($B$5:B365)+1)","v":361},"مراد 361","فريدة361","ثانية","رياضيات",1,"2ريا1","12/2/2360","البياضة","ذ","محمد علي361","حي الإزدهار - البياضة",null,"2019-02-07",361,"2019-03-07",365,"2020-01-01",368,null,null,null,null,null,{"$f":"IF($V$2=\"\",\"\",SEARCH($V$2,$A366&\"\"&#REF!&\"\"&$D366&\"\"&$F366&\"\"&$I366&\"\"&$J366&\"\"&$K366))","v":""},{"$f":"IF($X$2=\"\",\"\",SEARCH($X$2,$A366&\" \"&#REF!&\" \"&$D366&\" \"&$F366&\" \"&$I366&\" \"&$J366&\" \"&$K366&\" \"&$O366&\" \"&$Q366&\" \"&$S366&\" \"&$U366&\" \"&$V366&\" \"&$W366&\" \"&$X366))","v":""},{"$error":"#VALUE!"}]
[362,{"$f":"IF(C367=\"\",\"\",MAX($B$5:B366)+1)","v":362},"مراد 362","فريدة362","ثانية","رياضيات",1,"2ريا1","12/2/2361","الوادي","ذ","محمد علي362","حي السلام -البياضة",null,"2019-02-08",362,"2019-03-08",366,"2020-01-02",369,null,null,null,null,null,{"$f":"IF($V$2=\"\",\"\",SEARCH($V$2,$A367&\"\"&#REF!&\"\"&$D367&\"\"&$F367&\"\"&$I367&\"\"&$J367&\"\"&$K367))","v":""},{"$f":"IF($X$2=\"\",\"\",SEARCH($X$2,$A367&\" \"&#REF!&\" \"&$D367&\" \"&$F367&\" \"&$I367&\" \"&$J367&\" \"&$K367&\" \"&$O367&\" \"&$Q367&\" \"&$S367&\" \"&$U367&\" \"&$V367&\" \"&$W367&\" \"&$X367))","v":""},46]
[363,{"$f":"IF(C368=\"\",\"\",MAX($B$5:B367)+1)","v":363},"مراد 363","فريدة363","ثانية","رياضيات",1,"2ريا1","12/2/2362","البياضة","ذ","محمد علي363","حي الإزدهار - البياضة",null,"2019-02-09",363,"2019-03-09",367,"2020-01-03",370,null,null,null,null,null,{"$f":"IF($V$2=\"\",\"\",SEARCH($V$2,$A368&\"\"&#REF!&\"\"&$D368&\"\"&$F368&\"\"&$I368&\"\"&$J368&\"\"&$K368))","v":""},{"$f":"IF($X$2=\"\",\"\",SEARCH($X$2,$A368&\" \"&#REF!&\" \"&$D368&\" \"&$F368&\" \"&$I368&\" \"&$J368&\" \"&$K368&\" \"&$O368&\" \"&$Q368&\" \"&$S368&\" \"&$U368&\" \"&$V368&\" \"&$W368&\" \"&$X368))","v":""},{"$error":"#VALUE!"}]
[364,{"$f":"IF(C369=\"\",\"\",MAX($B$5:B368)+1)","v":364},"مراد 364","فريدة364","ثانية","رياضيات",1,"2ريا1","12/2/2363","البياضة","ذ","محمد علي364","حي السلام -البياضة",null,"2019-02-10",364,"2019-03-10",368,"2020-01-04",371,null,null,null,null,null,{"$f":"IF($V$2=\"\",\"\",SEARCH($V$2,$A369&\"\"&#REF!&\"\"&$D369&\"\"&$F369&\"\"&$I369&\"\"&$J369&\"\"&$K369))","v":""},{"$f":"IF($X$2=\"\",\"\",SEARCH($X$2,$A369&\" \"&#REF!&\" \"&$D369&\" \"&$F369&\" \"&$I369&\" \"&$J369&\" \"&$K369&\" \"&$O369&\" \"&$Q369&\" \"&$S369&\" \"&$U369&\" \"&$V369&\" \"&$W369&\" \"&$X369))","v":""},{"$error":"#VALUE!"}]
[365,{"$f":"IF(C370=\"\",\"\",MAX($B$5:B369)+1)","v":365},"مراد 365","فريدة365","ثانية","تقني رياضي",1,"2هط1","12/2/2364","البياضة","ذ","محمد علي365","حي الإزدهار - البياضة",null,"2019-02-11",365,"2019-03-11",369,"2020-01-05",372,null,null,null,null,null,{"$f":"IF($V$2=\"\",\"\",SEARCH($V$2,$A370&\"\"&#REF!&\"\"&$D370&\"\"&$F370&\"\"&$I370&\"\"&$J370&\"\"&$K370))","v":""},{"$f":"IF($X$2=\"\",\"\",SEARCH($X$2,$A370&\" \"&#REF!&\" \"&$D370&\" \"&$F370&\" \"&$I370&\" \"&$J370&\" \"&$K370&\" \"&$O370&\" \"&$Q370&\" \"&$S370&\" \"&$U370&\" \"&$V370&\" \"&$W370&\" \"&$X370))","v":""},{"$error":"#VALUE!"}]
[366,{"$f":"IF(C371=\"\",\"\",MAX($B$5:B370)+1)","v":366},"مراد 366","فريدة366","ثانية","تقني رياضي",1,"2هط1","12/2/2365","البياضة","ذ","محمد علي366","حي السلام -البياضة",null,"2019-02-12",366,"2019-03-12",370,"2020-01-06",373,null,null,null,null,null,{"$f":"IF($V$2=\"\",\"\",SEARCH($V$2,$A371&\"\"&#REF!&\"\"&$D371&\"\"&$F371&\"\"&$I371&\"\"&$J371&\"\"&$K371))","v":""},{"$f":"IF($X$2=\"\",\"\",SEARCH($X$2,$A371&\" \"&#REF!&\" \"&$D371&\" \"&$F371&\" \"&$I371&\" \"&$J371&\" \"&$K371&\" \"&$O371&\" \"&$Q371&\" \"&$S371&\" \"&$U371&\" \"&$V371&\" \"&$W371&\" \"&$X371))","v":""},{"$error":"#VALUE!"}]
[367,{"$f":"IF(C372=\"\",\"\",MAX($B$5:B371)+1)","v":367},"مراد 367","فريدة367","ثانية","تقني رياضي",1,"2هط1","12/2/2366","البياضة","ذ","محمد علي367","حي الإزدهار - البياضة",null,"2019-02-13",367,"2019-03-13",371,"2020-01-07",374,null,null,null,null,null,{"$f":"IF($V$2=\"\",\"\",SEARCH($V$2,$A372&\"\"&#REF!&\"\"&$D372&\"\"&$F372&\"\"&$I372&\"\"&$J372&\"\"&$K372))","v":""},{"$f":"IF($X$2=\"\",\"\",SEARCH($X$2,$A372&\" \"&#REF!&\" \"&$D372&\" \"&$F372&\" \"&$I372&\" \"&$J372&\" \"&$K372&\" \"&$O372&\" \"&$Q372&\" \"&$S372&\" \"&$U372&\" \"&$V372&\" \"&$W372&\" \"&$X372))","v":""},{"$error":"#VALUE!"}]
[368,{"$f":"IF(C373=\"\",\"\",MAX($B$5:B372)+1)","v":368},"مراد 368","فريدة368","ثانية","تقني رياضي",1,"2هط1","12/2/2367","البياضة","ذ","محمد علي368","حي السلام -البياضة",null,"2019-02-14",368,"2019-03-14",372,"2020-01-08",375,null,null,null,null,null,{"$f":"IF($V$2=\"\",\"\",SEARCH($V$2,$A373&\"\"&#REF!&\"\"&$D373&\"\"&$F373&\"\"&$I373&\"\"&$J373&\"\"&$K373))","v":""},{"$f":"IF($X$2=\"\",\"\",SEARCH($X$2,$A373&\" \"&#REF!&\" \"&$D373&\" \"&$F373&\" \"&$I373&\" \"&$J373&\" \"&$K373&\" \"&$O373&\" \"&$Q373&\" \"&$S373&\" \"&$U373&\" \"&$V373&\" \"&$W373&\" \"&$X373))","v":""},{"$error":"#VALUE!"}]
[369,{"$f":"IF(C374=\"\",\"\",MAX($B$5:B373)+1)","v":369},"مراد 369","فريدة369","ثانية","تقني رياضي",1,"2هط1","12/2/2368","البياضة","ذ","محمد علي369","حي الإزدهار - البياضة",null,"2019-02-15",369,"2019-03-15",373,"2020-01-09",376,null,null,null,null,null,{"$f":"IF($V$2=\"\",\"\",SEARCH($V$2,$A374&\"\"&#REF!&\"\"&$D374&\"\"&$F374&\"\"&$I374&\"\"&$J374&\"\"&$K374))","v":""},{"$f":"IF($X$2=\"\",\"\",SEARCH($X$2,$A374&\" \"&#REF!&\" \"&$D374&\" \"&$F374&\" \"&$I374&\" \"&$J374&\" \"&$K374&\" \"&$O374&\" \"&$Q374&\" \"&$S374&\" \"&$U374&\" \"&$V374&\" \"&$W374&\" \"&$X374))","v":""},{"$error":"#VALUE!"}]
[370,{"$f":"IF(C375=\"\",\"\",MAX($B$5:B374)+1)","v":370},"مراد 370","فريدة370","ثانية","تقني رياضي",1,"2هط1","12/2/2369","الوادي","ذ","محمد علي370","حي السلام -البياضة",null,"2019-02-16",370,"2019-03-16",374,"2020-01-10",377,null,null,null,null,null,{"$f":"IF($V$2=\"\",\"\",SEARCH($V$2,$A375&\"\"&#REF!&\"\"&$D375&\"\"&$F375&\"\"&$I375&\"\"&$J375&\"\"&$K375))","v":""},{"$f":"IF($X$2=\"\",\"\",SEARCH($X$2,$A375&\" \"&#REF!&\" \"&$D375&\" \"&$F375&\" \"&$I375&\" \"&$J375&\" \"&$K375&\" \"&$O375&\" \"&$Q375&\" \"&$S375&\" \"&$U375&\" \"&$V375&\" \"&$W375&\" \"&$X375))","v":""},48]
[371,{"$f":"IF(C376=\"\",\"\",MAX($B$5:B375)+1)","v":371},"مراد 371","فريدة371","ثانية","تقني رياضي",1,"2هط1","12/2/2370","البياضة","ذ","محمد علي371","حي الإزدهار - البياضة",null,"2019-02-17",371,"2019-03-17",375,"2020-01-11",378,null,null,null,null,null,{"$f":"IF($V$2=\"\",\"\",SEARCH($V$2,$A376&\"\"&#REF!&\"\"&$D376&\"\"&$F376&\"\"&$I376&\"\"&$J376&\"\"&$K376))","v":""},{"$f":"IF($X$2=\"\",\"\",SEARCH($X$2,$A376&\" \"&#REF!&\" \"&$D376&\" \"&$F376&\" \"&$I376&\" \"&$J376&\" \"&$K376&\" \"&$O376&\" \"&$Q376&\" \"&$S376&\" \"&$U376&\" \"&$V376&\" \"&$W376&\" \"&$X376))","v":""},{"$error":"#VALUE!"}]
[372,{"$f":"IF(C377=\"\",\"\",MAX($B$5:B376)+1)","v":372},"مراد 372","فريدة372","ثانية","تقني رياضي",1,"2هط1","12/2/2371","البياضة","ذ","محمد علي372","حي السلام -البياضة",null,"2019-02-18",372,"2019-03-18",376,"2020-01-12",379,null,null,null,null,null,{"$f":"IF($V$2=\"\",\"\",SEARCH($V$2,$A377&\"\"&#REF!&\"\"&$D377&\"\"&$F377&\"\"&$I377&\"\"&$J377&\"\"&$K377))","v":""},{"$f":"IF($X$2=\"\",\"\",SEARCH($X$2,$A377&\" \"&#REF!&\" \"&$D377&\" \"&$F377&\" \"&$I377&\" \"&$J377&\" \"&$K377&\" \"&$O377&\" \"&$Q377&\" \"&$S377&\" \"&$U377&\" \"&$V377&\" \"&$W377&\" \"&$X377))","v":""},{"$error":"#VALUE!"}]
[373,{"$f":"IF(C378=\"\",\"\",MAX($B$5:B377)+1)","v":373},"مراد 373","فريدة373","ثانية","تقني رياضي",1,"2هط1","12/2/2372","البياضة","ذ","محمد علي373","حي الإزدهار - البياضة",null,"2019-02-19",373,"2019-03-19",377,"2020-01-13",380,null,null,null,null,null,{"$f":"IF($V$2=\"\",\"\",SEARCH($V$2,$A378&\"\"&#REF!&\"\"&$D378&\"\"&$F378&\"\"&$I378&\"\"&$J378&\"\"&$K378))","v":""},{"$f":"IF($X$2=\"\",\"\",SEARCH($X$2,$A378&\" \"&#REF!&\" \"&$D378&\" \"&$F378&\" \"&$I378&\" \"&$J378&\" \"&$K378&\" \"&$O378&\" \"&$Q378&\" \"&$S378&\" \"&$U378&\" \"&$V378&\" \"&$W378&\" \"&$X378))","v":""},{"$error":"#VALUE!"}]
[374,{"$f":"IF(C379=\"\",\"\",MAX($B$5:B378)+1)","v":374},"مراد 374","فريدة374","ثانية","تقني رياضي",1,"2هط1","12/2/2373","البياضة","ذ","محمد علي374","حي السلام -البياضة",null,"2019-02-20",374,"2019-03-20",378,"2020-01-14",381,null,null,null,null,null,{"$f":"IF($V$2=\"\",\"\",SEARCH($V$2,$A379&\"\"&#REF!&\"\"&$D379&\"\"&$F379&\"\"&$I379&\"\"&$J379&\"\"&$K379))","v":""},{"$f":"IF($X$2=\"\",\"\",SEARCH($X$2,$A379&\" \"&#REF!&\" \"&$D379&\" \"&$F379&\" \"&$I379&\" \"&$J379&\" \"&$K379&\" \"&$O379&\" \"&$Q379&\" \"&$S379&\" \"&$U379&\" \"&$V379&\" \"&$W379&\" \"&$X379))","v":""},{"$error":"#VALUE!"}]
[375,{"$f":"IF(C380=\"\",\"\",MAX($B$5:B379)+1)","v":375},"مراد 375","فريدة375","ثانية","تقني رياضي",1,"2هط1","12/2/2374","الوادي","ذ","محمد علي375","حي الإزدهار - البياضة",null,"2019-02-21",375,"2019-03-21",379,"2020-01-15",382,null,null,null,null,null,{"$f":"IF($V$2=\"\",\"\",SEARCH($V$2,$A380&\"\"&#REF!&\"\"&$D380&\"\"&$F380&\"\"&$I380&\"\"&$J380&\"\"&$K380))","v":""},{"$f":"IF($X$2=\"\",\"\",SEARCH($X$2,$A380&\" \"&#REF!&\" \"&$D380&\" \"&$F380&\" \"&$I380&\" \"&$J380&\" \"&$K380&\" \"&$O380&\" \"&$Q380&\" \"&$S380&\" \"&$U380&\" \"&$V380&\" \"&$W380&\" \"&$X380))","v":""},48]
[376,{"$f":"IF(C381=\"\",\"\",MAX($B$5:B380)+1)","v":376},"مراد 376","فريدة376","ثانية","تقني رياضي",1,"2هط1","12/2/2375","البياضة","ذ","محمد علي376","حي السلام -البياضة",null,"2019-02-22",376,"2019-03-22",380,"2020-01-16",383,null,null,null,null,null,{"$f":"IF($V$2=\"\",\"\",SEARCH($V$2,$A381&\"\"&#REF!&\"\"&$D381&\"\"&$F381&\"\"&$I381&\"\"&$J381&\"\"&$K381))","v":""},{"$f":"IF($X$2=\"\",\"\",SEARCH($X$2,$A381&\" \"&#REF!&\" \"&$D381&\" \"&$F381&\" \"&$I381&\" \"&$J381&\" \"&$K381&\" \"&$O381&\" \"&$Q381&\" \"&$S381&\" \"&$U381&\" \"&$V381&\" \"&$W381&\" \"&$X381))","v":""},{"$error":"#VALUE!"}]
[377,{"$f":"IF(C382=\"\",\"\",MAX($B$5:B381)+1)","v":377},"مراد 377","فريدة377","ثانية","تقني رياضي",1,"2هط1","12/2/2376","الوادي","ذ","محمد علي377","حي الإزدهار - البياضة",null,"2019-02-23",377,"2019-03-23",381,"2020-01-17",384,null,null,null,null,null,{"$f":"IF($V$2=\"\",\"\",SEARCH($V$2,$A382&\"\"&#REF!&\"\"&$D382&\"\"&$F382&\"\"&$I382&\"\"&$J382&\"\"&$K382))","v":""},{"$f":"IF($X$2=\"\",\"\",SEARCH($X$2,$A382&\" \"&#REF!&\" \"&$D382&\" \"&$F382&\" \"&$I382&\" \"&$J382&\" \"&$K382&\" \"&$O382&\" \"&$Q382&\" \"&$S382&\" \"&$U382&\" \"&$V382&\" \"&$W382&\" \"&$X382))","v":""},48]
[378,{"$f":"IF(C383=\"\",\"\",MAX($B$5:B382)+1)","v":378},"مراد 378","فريدة378","ثانية","تقني رياضي",1,"2هط1","12/2/2377","البياضة","ذ","محمد علي378","حي السلام -البياضة",null,"2019-02-24",378,"2019-03-24",382,"2020-01-18",385,null,null,null,null,null,{"$f":"IF($V$2=\"\",\"\",SEARCH($V$2,$A383&\"\"&#REF!&\"\"&$D383&\"\"&$F383&\"\"&$I383&\"\"&$J383&\"\"&$K383))","v":""},{"$f":"IF($X$2=\"\",\"\",SEARCH($X$2,$A383&\" \"&#REF!&\" \"&$D383&\" \"&$F383&\" \"&$I383&\" \"&$J383&\" \"&$K383&\" \"&$O383&\" \"&$Q383&\" \"&$S383&\" \"&$U383&\" \"&$V383&\" \"&$W383&\" \"&$X383))","v":""},{"$error":"#VALUE!"}]
[379,{"$f":"IF(C384=\"\",\"\",MAX($B$5:B383)+1)","v":379},"مراد 379","فريدة379","ثانية","تقني رياضي",1,"2هط1","12/2/2378","البياضة","ذ","محمد علي379","حي الإزدهار - البياضة",null,"2019-02-25",379,"2019-03-25",383,"2020-01-19",386,null,null,null,null,null,{"$f":"IF($V$2=\"\",\"\",SEARCH($V$2,$A384&\"\"&#REF!&\"\"&$D384&\"\"&$F384&\"\"&$I384&\"\"&$J384&\"\"&$K384))","v":""},{"$f":"IF($X$2=\"\",\"\",SEARCH($X$2,$A384&\" \"&#REF!&\" \"&$D384&\" \"&$F384&\" \"&$I384&\" \"&$J384&\" \"&$K384&\" \"&$O384&\" \"&$Q384&\" \"&$S384&\" \"&$U384&\" \"&$V384&\" \"&$W384&\" \"&$X384))","v":""},{"$error":"#VALUE!"}]
[380,{"$f":"IF(C385=\"\",\"\",MAX($B$5:B384)+1)","v":380},"مراد 380","فريدة380","ثانية","تقني رياضي",1,"2هط1","12/2/2379","الوادي","ذ","محمد علي380","حي السلام -البياضة",null,"2019-02-26",380,"2019-03-26",384,"2020-01-20",387,null,null,null,null,null,{"$f":"IF($V$2=\"\",\"\",SEARCH($V$2,$A385&\"\"&#REF!&\"\"&$D385&\"\"&$F385&\"\"&$I385&\"\"&$J385&\"\"&$K385))","v":""},{"$f":"IF($X$2=\"\",\"\",SEARCH($X$2,$A385&\" \"&#REF!&\" \"&$D385&\" \"&$F385&\" \"&$I385&\" \"&$J385&\" \"&$K385&\" \"&$O385&\" \"&$Q385&\" \"&$S385&\" \"&$U385&\" \"&$V385&\" \"&$W385&\" \"&$X385))","v":""},48]
[381,{"$f":"IF(C386=\"\",\"\",MAX($B$5:B385)+1)","v":381},"مراد 381","فريدة381","ثانية","تقني رياضي",1,"2هط1","12/2/2380","البياضة","ذ","محمد علي381","حي الإزدهار - البياضة",null,"2019-02-27",381,"2019-03-27",385,"2020-01-21",388,null,null,null,null,null,{"$f":"IF($V$2=\"\",\"\",SEARCH($V$2,$A386&\"\"&#REF!&\"\"&$D386&\"\"&$F386&\"\"&$I386&\"\"&$J386&\"\"&$K386))","v":""},{"$f":"IF($X$2=\"\",\"\",SEARCH($X$2,$A386&\" \"&#REF!&\" \"&$D386&\" \"&$F386&\" \"&$I386&\" \"&$J386&\" \"&$K386&\" \"&$O386&\" \"&$Q386&\" \"&$S386&\" \"&$U386&\" \"&$V386&\" \"&$W386&\" \"&$X386))","v":""},{"$error":"#VALUE!"}]
[382,{"$f":"IF(C387=\"\",\"\",MAX($B$5:B386)+1)","v":382},"مراد 382","فريدة382","ثانية","تقني رياضي",1,"2هط1","12/2/2381","البياضة","ذ","محمد علي382","حي السلام -البياضة",null,"2019-02-28",382,"2019-03-28",386,"2020-01-22",389,null,null,null,null,null,{"$f":"IF($V$2=\"\",\"\",SEARCH($V$2,$A387&\"\"&#REF!&\"\"&$D387&\"\"&$F387&\"\"&$I387&\"\"&$J387&\"\"&$K387))","v":""},{"$f":"IF($X$2=\"\",\"\",SEARCH($X$2,$A387&\" \"&#REF!&\" \"&$D387&\" \"&$F387&\" \"&$I387&\" \"&$J387&\" \"&$K387&\" \"&$O387&\" \"&$Q387&\" \"&$S387&\" \"&$U387&\" \"&$V387&\" \"&$W387&\" \"&$X387))","v":""},{"$error":"#VALUE!"}]
[383,{"$f":"IF(C388=\"\",\"\",MAX($B$5:B387)+1)","v":383},"مراد 383","فريدة383","ثانية","تقني رياضي",1,"2هط1","12/2/2382","البياضة","ذ","محمد علي383","حي الإزدهار - البياضة",null,"2019-03-01",383,"2019-03-29",387,"2020-01-23",390,null,null,null,null,null,{"$f":"IF($V$2=\"\",\"\",SEARCH($V$2,$A388&\"\"&#REF!&\"\"&$D388&\"\"&$F388&\"\"&$I388&\"\"&$J388&\"\"&$K388))","v":""},{"$f":"IF($X$2=\"\",\"\",SEARCH($X$2,$A388&\" \"&#REF!&\" \"&$D388&\" \"&$F388&\" \"&$I388&\" \"&$J388&\" \"&$K388&\" \"&$O388&\" \"&$Q388&\" \"&$S388&\" \"&$U388&\" \"&$V388&\" \"&$W388&\" \"&$X388))","v":""},{"$error":"#VALUE!"}]
[384,{"$f":"IF(C389=\"\",\"\",MAX($B$5:B388)+1)","v":384},"مراد 384","فريدة384","ثانية","تقني رياضي",1,"2هط1","12/2/2383","البياضة","ذ","محمد علي384","حي السلام -البياضة",null,"2019-03-02",384,"2019-03-30",388,"2020-01-24",391,null,null,null,null,null,{"$f":"IF($V$2=\"\",\"\",SEARCH($V$2,$A389&\"\"&#REF!&\"\"&$D389&\"\"&$F389&\"\"&$I389&\"\"&$J389&\"\"&$K389))","v":""},{"$f":"IF($X$2=\"\",\"\",SEARCH($X$2,$A389&\" \"&#REF!&\" \"&$D389&\" \"&$F389&\" \"&$I389&\" \"&$J389&\" \"&$K389&\" \"&$O389&\" \"&$Q389&\" \"&$S389&\" \"&$U389&\" \"&$V389&\" \"&$W389&\" \"&$X389))","v":""},{"$error":"#VALUE!"}]
[385,{"$f":"IF(C390=\"\",\"\",MAX($B$5:B389)+1)","v":385},"مراد 385","فريدة385","ثانية","تقني رياضي",1,"2هط1","12/2/2384","البياضة","ذ","محمد علي385","حي الإزدهار - البياضة",null,"2019-03-03",385,"2019-03-31",389,"2020-01-25",392,null,null,null,null,null,{"$f":"IF($V$2=\"\",\"\",SEARCH($V$2,$A390&\"\"&#REF!&\"\"&$D390&\"\"&$F390&\"\"&$I390&\"\"&$J390&\"\"&$K390))","v":""},{"$f":"IF($X$2=\"\",\"\",SEARCH($X$2,$A390&\" \"&#REF!&\" \"&$D390&\" \"&$F390&\" \"&$I390&\" \"&$J390&\" \"&$K390&\" \"&$O390&\" \"&$Q390&\" \"&$S390&\" \"&$U390&\" \"&$V390&\" \"&$W390&\" \"&$X390))","v":""},{"$error":"#VALUE!"}]
[386,{"$f":"IF(C391=\"\",\"\",MAX($B$5:B390)+1)","v":386},"مراد 386","فريدة386","ثانية","تقني رياضي",1,"2هط1","12/2/2385","الوادي","ذ","محمد علي386","حي السلام -البياضة",null,"2019-03-04",386,"2019-04-01",390,"2020-01-26",393,null,null,null,null,null,{"$f":"IF($V$2=\"\",\"\",SEARCH($V$2,$A391&\"\"&#REF!&\"\"&$D391&\"\"&$F391&\"\"&$I391&\"\"&$J391&\"\"&$K391))","v":""},{"$f":"IF($X$2=\"\",\"\",SEARCH($X$2,$A391&\" \"&#REF!&\" \"&$D391&\" \"&$F391&\" \"&$I391&\" \"&$J391&\" \"&$K391&\" \"&$O391&\" \"&$Q391&\" \"&$S391&\" \"&$U391&\" \"&$V391&\" \"&$W391&\" \"&$X391))","v":""},{"$f":"IF($L$2=\"\",\"\",SEARCH($L$2,$A391&\" \"&$D391&\" \"&$E391&\" \"&$F391&\" \"&$G391&\" \"&$H391&\" \"&$I391&\" \"&$J391&\" \"&$K391&\" \"&$L391&\" \"&$N391&\" \"&$O391&\" \"&$P391&\" \"&$Q391&\" \"&$R391&\" \"&$S391&\" \"&$T391&\" \"&$U391&\" \"&$V391&\" \"&$W391&\" \"&$X391))","v":48}]
[387,{"$f":"IF(C392=\"\",\"\",MAX($B$5:B391)+1)","v":387},"مراد 387","فريدة387","ثانية","تقني رياضي",1,"2هط1","12/2/2386","البياضة","ذ","محمد علي387","حي الإزدهار - البياضة",null,"2019-03-05",387,"2019-04-02",391,"2020-01-27",394,null,null,null,null,null,{"$f":"IF($V$2=\"\",\"\",SEARCH($V$2,$A392&\"\"&#REF!&\"\"&$D392&\"\"&$F392&\"\"&$I392&\"\"&$J392&\"\"&$K392))","v":""},{"$f":"IF($X$2=\"\",\"\",SEARCH($X$2,$A392&\" \"&#REF!&\" \"&$D392&\" \"&$F392&\" \"&$I392&\" \"&$J392&\" \"&$K392&\" \"&$O392&\" \"&$Q392&\" \"&$S392&\" \"&$U392&\" \"&$V392&\" \"&$W392&\" \"&$X392))","v":""},{"$error":"#VALUE!"}]
[388,{"$f":"IF(C393=\"\",\"\",MAX($B$5:B392)+1)","v":388},"مراد 388","فريدة388","ثانية","تقني رياضي",1,"2هط1","12/2/2387","البياضة","ذ","محمد علي388","حي السلام -البياضة",null,"2019-03-06",388,"2019-04-03",392,"2020-01-28",395,null,null,null,null,null,{"$f":"IF($V$2=\"\",\"\",SEARCH($V$2,$A393&\"\"&#REF!&\"\"&$D393&\"\"&$F393&\"\"&$I393&\"\"&$J393&\"\"&$K393))","v":""},{"$f":"IF($X$2=\"\",\"\",SEARCH($X$2,$A393&\" \"&#REF!&\" \"&$D393&\" \"&$F393&\" \"&$I393&\" \"&$J393&\" \"&$K393&\" \"&$O393&\" \"&$Q393&\" \"&$S393&\" \"&$U393&\" \"&$V393&\" \"&$W393&\" \"&$X393))","v":""},{"$error":"#VALUE!"}]
[389,{"$f":"IF(C394=\"\",\"\",MAX($B$5:B393)+1)","v":389},"مراد 389","فريدة389","ثانية","تقني رياضي",1,"2هط1","12/2/2388","البياضة","ذ","محمد علي389","حي الإزدهار - البياضة",null,"2019-03-07",389,"2019-04-04",393,"2020-01-29",396,null,null,null,null,null,{"$f":"IF($V$2=\"\",\"\",SEARCH($V$2,$A394&\"\"&#REF!&\"\"&$D394&\"\"&$F394&\"\"&$I394&\"\"&$J394&\"\"&$K394))","v":""},{"$f":"IF($X$2=\"\",\"\",SEARCH($X$2,$A394&\" \"&#REF!&\" \"&$D394&\" \"&$F394&\" \"&$I394&\" \"&$J394&\" \"&$K394&\" \"&$O394&\" \"&$Q394&\" \"&$S394&\" \"&$U394&\" \"&$V394&\" \"&$W394&\" \"&$X394))","v":""},{"$error":"#VALUE!"}]
[390,{"$f":"IF(C395=\"\",\"\",MAX($B$5:B394)+1)","v":390},"مراد 390","فريدة390","ثانية","تقني رياضي",1,"2هط1","12/2/2389","الوادي","ذ","محمد علي390","حي السلام -البياضة",null,"2019-03-08",390,"2019-04-05",394,"2020-01-30",397,null,null,null,null,null,{"$f":"IF($V$2=\"\",\"\",SEARCH($V$2,$A395&\"\"&#REF!&\"\"&$D395&\"\"&$F395&\"\"&$I395&\"\"&$J395&\"\"&$K395))","v":""},{"$f":"IF($X$2=\"\",\"\",SEARCH($X$2,$A395&\" \"&#REF!&\" \"&$D395&\" \"&$F395&\" \"&$I395&\" \"&$J395&\" \"&$K395&\" \"&$O395&\" \"&$Q395&\" \"&$S395&\" \"&$U395&\" \"&$V395&\" \"&$W395&\" \"&$X395))","v":""},48]
[391,{"$f":"IF(C396=\"\",\"\",MAX($B$5:B395)+1)","v":391},"مراد 391","فريدة391","ثانية","تقني رياضي",1,"2هط1","12/2/2390","سارت فيل","ذ","محمد علي391","حي الإزدهار - البياضة",null,"2019-03-09",391,"2019-04-06",395,"2020-01-31",398,null,null,null,null,null,{"$f":"IF($V$2=\"\",\"\",SEARCH($V$2,$A396&\"\"&#REF!&\"\"&$D396&\"\"&$F396&\"\"&$I396&\"\"&$J396&\"\"&$K396))","v":""},{"$f":"IF($X$2=\"\",\"\",SEARCH($X$2,$A396&\" \"&#REF!&\" \"&$D396&\" \"&$F396&\" \"&$I396&\" \"&$J396&\" \"&$K396&\" \"&$O396&\" \"&$Q396&\" \"&$S396&\" \"&$U396&\" \"&$V396&\" \"&$W396&\" \"&$X396))","v":""},{"$error":"#VALUE!"}]
[392,{"$f":"IF(C397=\"\",\"\",MAX($B$5:B396)+1)","v":392},"مراد 392","فريدة392","ثانية","تقني رياضي",1,"2هط1","12/2/2391","البياضة","ذ","محمد علي392","حي السلام -البياضة",null,"2019-03-10",392,"2019-04-07",396,"2020-02-01",399,null,null,null,null,null,{"$f":"IF($V$2=\"\",\"\",SEARCH($V$2,$A397&\"\"&#REF!&\"\"&$D397&\"\"&$F397&\"\"&$I397&\"\"&$J397&\"\"&$K397))","v":""},{"$f":"IF($X$2=\"\",\"\",SEARCH($X$2,$A397&\" \"&#REF!&\" \"&$D397&\" \"&$F397&\" \"&$I397&\" \"&$J397&\" \"&$K397&\" \"&$O397&\" \"&$Q397&\" \"&$S397&\" \"&$U397&\" \"&$V397&\" \"&$W397&\" \"&$X397))","v":""},{"$error":"#VALUE!"}]
[393,{"$f":"IF(C398=\"\",\"\",MAX($B$5:B397)+1)","v":393},"مراد 393","فريدة393","ثالثة","آداب وفلسفة",1,"3آف1","12/2/2392","الوادي","ذ","محمد علي393","حي الإزدهار - البياضة",null,"2019-03-11",393,"2019-04-08",397,"2020-02-02",400,null,null,null,null,null,{"$f":"IF($V$2=\"\",\"\",SEARCH($V$2,$A398&\"\"&#REF!&\"\"&$D398&\"\"&$F398&\"\"&$I398&\"\"&$J398&\"\"&$K398))","v":""},{"$f":"IF($X$2=\"\",\"\",SEARCH($X$2,$A398&\" \"&#REF!&\" \"&$D398&\" \"&$F398&\" \"&$I398&\" \"&$J398&\" \"&$K398&\" \"&$O398&\" \"&$Q398&\" \"&$S398&\" \"&$U398&\" \"&$V398&\" \"&$W398&\" \"&$X398))","v":""},49]
[394,{"$f":"IF(C399=\"\",\"\",MAX($B$5:B398)+1)","v":394},"مراد 394","فريدة394","ثالثة","آداب وفلسفة",1,"3آف1","12/2/2393","البياضة","ذ","محمد علي394","حي السلام -البياضة",null,"2019-03-12",394,"2019-04-09",398,"2020-02-03",401,null,null,null,null,null,{"$f":"IF($V$2=\"\",\"\",SEARCH($V$2,$A399&\"\"&#REF!&\"\"&$D399&\"\"&$F399&\"\"&$I399&\"\"&$J399&\"\"&$K399))","v":""},{"$f":"IF($X$2=\"\",\"\",SEARCH($X$2,$A399&\" \"&#REF!&\" \"&$D399&\" \"&$F399&\" \"&$I399&\" \"&$J399&\" \"&$K399&\" \"&$O399&\" \"&$Q399&\" \"&$S399&\" \"&$U399&\" \"&$V399&\" \"&$W399&\" \"&$X399))","v":""},{"$error":"#VALUE!"}]
[395,{"$f":"IF(C400=\"\",\"\",MAX($B$5:B399)+1)","v":395},"مراد 395","فريدة395","ثالثة","آداب وفلسفة",1,"3آف1","12/2/2394","البياضة","ذ","محمد علي395","حي الإزدهار - البياضة",null,"2019-03-13",395,"2019-04-10",399,"2020-02-04",402,null,null,null,null,null,{"$f":"IF($V$2=\"\",\"\",SEARCH($V$2,$A400&\"\"&#REF!&\"\"&$D400&\"\"&$F400&\"\"&$I400&\"\"&$J400&\"\"&$K400))","v":""},{"$f":"IF($X$2=\"\",\"\",SEARCH($X$2,$A400&\" \"&#REF!&\" \"&$D400&\" \"&$F400&\" \"&$I400&\" \"&$J400&\" \"&$K400&\" \"&$O400&\" \"&$Q400&\" \"&$S400&\" \"&$U400&\" \"&$V400&\" \"&$W400&\" \"&$X400))","v":""},{"$error":"#VALUE!"}]
[396,{"$f":"IF(C401=\"\",\"\",MAX($B$5:B400)+1)","v":396},"مراد 396","فريدة396","ثالثة","آداب وفلسفة",1,"3آف1","12/2/2395","الوادي","ذ","محمد علي396","حي السلام -البياضة",null,"2019-03-14",396,"2019-04-11",400,"2020-02-05",403,null,null,null,null,null,{"$f":"IF($V$2=\"\",\"\",SEARCH($V$2,$A401&\"\"&#REF!&\"\"&$D401&\"\"&$F401&\"\"&$I401&\"\"&$J401&\"\"&$K401))","v":""},{"$f":"IF($X$2=\"\",\"\",SEARCH($X$2,$A401&\" \"&#REF!&\" \"&$D401&\" \"&$F401&\" \"&$I401&\" \"&$J401&\" \"&$K401&\" \"&$O401&\" \"&$Q401&\" \"&$S401&\" \"&$U401&\" \"&$V401&\" \"&$W401&\" \"&$X401))","v":""},49]
[397,{"$f":"IF(C402=\"\",\"\",MAX($B$5:B401)+1)","v":397},"مراد 397","فريدة397","ثالثة","آداب وفلسفة",1,"3آف1","12/2/2396","البياضة","ذ","محمد علي397","حي الإزدهار - البياضة",null,"2019-03-15",397,"2019-04-12",401,"2020-02-06",404,null,null,null,null,null,{"$f":"IF($V$2=\"\",\"\",SEARCH($V$2,$A402&\"\"&#REF!&\"\"&$D402&\"\"&$F402&\"\"&$I402&\"\"&$J402&\"\"&$K402))","v":""},{"$f":"IF($X$2=\"\",\"\",SEARCH($X$2,$A402&\" \"&#REF!&\" \"&$D402&\" \"&$F402&\" \"&$I402&\" \"&$J402&\" \"&$K402&\" \"&$O402&\" \"&$Q402&\" \"&$S402&\" \"&$U402&\" \"&$V402&\" \"&$W402&\" \"&$X402))","v":""},{"$error":"#VALUE!"}]
[398,{"$f":"IF(C403=\"\",\"\",MAX($B$5:B402)+1)","v":398},"مراد 398","فريدة398","ثالثة","آداب وفلسفة",1,"3آف1","12/2/2397","البياضة","ذ","محمد علي398","حي السلام -البياضة",null,"2019-03-16",398,"2019-04-13",402,"2020-02-07",405,null,null,null,null,null,{"$f":"IF($V$2=\"\",\"\",SEARCH($V$2,$A403&\"\"&#REF!&\"\"&$D403&\"\"&$F403&\"\"&$I403&\"\"&$J403&\"\"&$K403))","v":""},{"$f":"IF($X$2=\"\",\"\",SEARCH($X$2,$A403&\" \"&#REF!&\" \"&$D403&\" \"&$F403&\" \"&$I403&\" \"&$J403&\" \"&$K403&\" \"&$O403&\" \"&$Q403&\" \"&$S403&\" \"&$U403&\" \"&$V403&\" \"&$W403&\" \"&$X403))","v":""},{"$error":"#VALUE!"}]
[399,{"$f":"IF(C404=\"\",\"\",MAX($B$5:B403)+1)","v":399},"مراد 399","فريدة399","ثالثة","آداب وفلسفة",1,"3آف1","12/2/2398","الوادي","ذ","محمد علي399","حي الإزدهار - البياضة",null,"2019-03-17",399,"2019-04-14",403,"2020-02-08",406,null,null,null,null,null,{"$f":"IF($V$2=\"\",\"\",SEARCH($V$2,$A404&\"\"&#REF!&\"\"&$D404&\"\"&$F404&\"\"&$I404&\"\"&$J404&\"\"&$K404))","v":""},{"$f":"IF($X$2=\"\",\"\",SEARCH($X$2,$A404&\" \"&#REF!&\" \"&$D404&\" \"&$F404&\" \"&$I404&\" \"&$J404&\" \"&$K404&\" \"&$O404&\" \"&$Q404&\" \"&$S404&\" \"&$U404&\" \"&$V404&\" \"&$W404&\" \"&$X404))","v":""},49]
[400,{"$f":"IF(C405=\"\",\"\",MAX($B$5:B404)+1)","v":400},"مراد 400","فريدة400","ثالثة","آداب وفلسفة",1,"3آف1","12/2/2399","البياضة","ذ","محمد علي400","حي السلام -البياضة",null,"2019-03-18",400,"2019-04-15",404,"2020-02-09",407,null,null,null,null,null,{"$f":"IF($V$2=\"\",\"\",SEARCH($V$2,$A405&\"\"&#REF!&\"\"&$D405&\"\"&$F405&\"\"&$I405&\"\"&$J405&\"\"&$K405))","v":""},{"$f":"IF($X$2=\"\",\"\",SEARCH($X$2,$A405&\" \"&#REF!&\" \"&$D405&\" \"&$F405&\" \"&$I405&\" \"&$J405&\" \"&$K405&\" \"&$O405&\" \"&$Q405&\" \"&$S405&\" \"&$U405&\" \"&$V405&\" \"&$W405&\" \"&$X405))","v":""},{"$error":"#VALUE!"}]
[401,{"$f":"IF(C406=\"\",\"\",MAX($B$5:B405)+1)","v":401},"مراد 401","فريدة401","ثالثة","آداب وفلسفة",1,"3آف1","12/2/2400","البياضة","ذ","محمد علي401","حي الإزدهار - البياضة",null,"2019-03-19",401,"2019-04-16",405,"2020-02-10",408,null,null,null,null,null,{"$f":"IF($V$2=\"\",\"\",SEARCH($V$2,$A406&\"\"&#REF!&\"\"&$D406&\"\"&$F406&\"\"&$I406&\"\"&$J406&\"\"&$K406))","v":""},{"$f":"IF($X$2=\"\",\"\",SEARCH($X$2,$A406&\" \"&#REF!&\" \"&$D406&\" \"&$F406&\" \"&$I406&\" \"&$J406&\" \"&$K406&\" \"&$O406&\" \"&$Q406&\" \"&$S406&\" \"&$U406&\" \"&$V406&\" \"&$W406&\" \"&$X406))","v":""},{"$error":"#VALUE!"}]
[402,{"$f":"IF(C407=\"\",\"\",MAX($B$5:B406)+1)","v":402},"مراد 402","فريدة402","ثالثة","آداب وفلسفة",1,"3آف1","12/2/2401","البياضة","ذ","محمد علي402","حي السلام -البياضة",null,"2019-03-20",402,"2019-04-17",406,"2020-02-11",409,null,null,null,null,null,{"$f":"IF($V$2=\"\",\"\",SEARCH($V$2,$A407&\"\"&#REF!&\"\"&$D407&\"\"&$F407&\"\"&$I407&\"\"&$J407&\"\"&$K407))","v":""},{"$f":"IF($X$2=\"\",\"\",SEARCH($X$2,$A407&\" \"&#REF!&\" \"&$D407&\" \"&$F407&\" \"&$I407&\" \"&$J407&\" \"&$K407&\" \"&$O407&\" \"&$Q407&\" \"&$S407&\" \"&$U407&\" \"&$V407&\" \"&$W407&\" \"&$X407))","v":""},{"$error":"#VALUE!"}]
[403,{"$f":"IF(C408=\"\",\"\",MAX($B$5:B407)+1)","v":403},"مراد 403","فريدة403","ثالثة","آداب وفلسفة",1,"3آف1","12/2/2402","الوادي","ذ","محمد علي403","حي الإزدهار - البياضة",null,"2019-03-21",403,"2019-04-18",407,"2020-02-12",410,null,null,null,null,null,{"$f":"IF($V$2=\"\",\"\",SEARCH($V$2,$A408&\"\"&#REF!&\"\"&$D408&\"\"&$F408&\"\"&$I408&\"\"&$J408&\"\"&$K408))","v":""},{"$f":"IF($X$2=\"\",\"\",SEARCH($X$2,$A408&\" \"&#REF!&\" \"&$D408&\" \"&$F408&\" \"&$I408&\" \"&$J408&\" \"&$K408&\" \"&$O408&\" \"&$Q408&\" \"&$S408&\" \"&$U408&\" \"&$V408&\" \"&$W408&\" \"&$X408))","v":""},49]
[404,{"$f":"IF(C409=\"\",\"\",MAX($B$5:B408)+1)","v":404},"مراد 404","فريدة404","ثالثة","آداب وفلسفة",1,"3آف1","12/2/2403","البياضة","ذ","محمد علي404","حي السلام -البياضة",null,"2019-03-22",404,"2019-04-19",408,"2020-02-13",411,null,null,null,null,null,{"$f":"IF($V$2=\"\",\"\",SEARCH($V$2,$A409&\"\"&#REF!&\"\"&$D409&\"\"&$F409&\"\"&$I409&\"\"&$J409&\"\"&$K409))","v":""},{"$f":"IF($X$2=\"\",\"\",SEARCH($X$2,$A409&\" \"&#REF!&\" \"&$D409&\" \"&$F409&\" \"&$I409&\" \"&$J409&\" \"&$K409&\" \"&$O409&\" \"&$Q409&\" \"&$S409&\" \"&$U409&\" \"&$V409&\" \"&$W409&\" \"&$X409))","v":""},{"$error":"#VALUE!"}]
[405,{"$f":"IF(C410=\"\",\"\",MAX($B$5:B409)+1)","v":405},"مراد 405","فريدة405","ثالثة","آداب وفلسفة",1,"3آف1","12/2/2404","الوادي","ذ","محمد علي405","حي الإزدهار - البياضة",null,"2019-03-23",405,"2019-04-20",409,"2020-02-14",412,null,null,null,null,null,{"$f":"IF($V$2=\"\",\"\",SEARCH($V$2,$A410&\"\"&#REF!&\"\"&$D410&\"\"&$F410&\"\"&$I410&\"\"&$J410&\"\"&$K410))","v":""},{"$f":"IF($X$2=\"\",\"\",SEARCH($X$2,$A410&\" \"&#REF!&\" \"&$D410&\" \"&$F410&\" \"&$I410&\" \"&$J410&\" \"&$K410&\" \"&$O410&\" \"&$Q410&\" \"&$S410&\" \"&$U410&\" \"&$V410&\" \"&$W410&\" \"&$X410))","v":""},49]
[406,{"$f":"IF(C411=\"\",\"\",MAX($B$5:B410)+1)","v":406},"مراد 406","فريدة406","ثالثة","آداب وفلسفة",1,"3آف1","12/2/2405","الوادي","ذ","محمد علي406","حي السلام -البياضة",null,"2019-03-24",406,"2019-04-21",410,"2020-02-15",413,null,null,null,null,null,{"$f":"IF($V$2=\"\",\"\",SEARCH($V$2,$A411&\"\"&#REF!&\"\"&$D411&\"\"&$F411&\"\"&$I411&\"\"&$J411&\"\"&$K411))","v":""},{"$f":"IF($X$2=\"\",\"\",SEARCH($X$2,$A411&\" \"&#REF!&\" \"&$D411&\" \"&$F411&\" \"&$I411&\" \"&$J411&\" \"&$K411&\" \"&$O411&\" \"&$Q411&\" \"&$S411&\" \"&$U411&\" \"&$V411&\" \"&$W411&\" \"&$X411))","v":""},49]
[407,{"$f":"IF(C412=\"\",\"\",MAX($B$5:B411)+1)","v":407},"مراد 407","فريدة407","ثالثة","آداب وفلسفة",1,"3آف1","12/2/2406","البياضة","ذ","محمد علي407","حي الإزدهار - البياضة",null,"2019-03-25",407,"2019-04-22",411,"2020-02-16",414,null,null,null,null,null,{"$f":"IF($V$2=\"\",\"\",SEARCH($V$2,$A412&\"\"&#REF!&\"\"&$D412&\"\"&$F412&\"\"&$I412&\"\"&$J412&\"\"&$K412))","v":""},{"$f":"IF($X$2=\"\",\"\",SEARCH($X$2,$A412&\" \"&#REF!&\" \"&$D412&\" \"&$F412&\" \"&$I412&\" \"&$J412&\" \"&$K412&\" \"&$O412&\" \"&$Q412&\" \"&$S412&\" \"&$U412&\" \"&$V412&\" \"&$W412&\" \"&$X412))","v":""},{"$error":"#VALUE!"}]
[408,{"$f":"IF(C413=\"\",\"\",MAX($B$5:B412)+1)","v":408},"مراد 408","فريدة408","ثالثة","آداب وفلسفة",1,"3آف1","12/2/2407","عين العربي","ذ","محمد علي408","حي السلام -البياضة",null,"2019-03-26",408,"2019-04-23",412,"2020-02-17",415,null,null,null,null,null,{"$f":"IF($V$2=\"\",\"\",SEARCH($V$2,$A413&\"\"&#REF!&\"\"&$D413&\"\"&$F413&\"\"&$I413&\"\"&$J413&\"\"&$K413))","v":""},{"$f":"IF($X$2=\"\",\"\",SEARCH($X$2,$A413&\" \"&#REF!&\" \"&$D413&\" \"&$F413&\" \"&$I413&\" \"&$J413&\" \"&$K413&\" \"&$O413&\" \"&$Q413&\" \"&$S413&\" \"&$U413&\" \"&$V413&\" \"&$W413&\" \"&$X413))","v":""},{"$error":"#VALUE!"}]
[409,{"$f":"IF(C414=\"\",\"\",MAX($B$5:B413)+1)","v":409},"مراد 409","فريدة409","ثالثة","آداب وفلسفة",1,"3آف1","12/2/2408","البياضة","ذ","محمد علي409","حي الإزدهار - البياضة",null,"2019-03-27",409,"2019-04-24",413,"2020-02-18",416,null,null,null,null,null,{"$f":"IF($V$2=\"\",\"\",SEARCH($V$2,$A414&\"\"&#REF!&\"\"&$D414&\"\"&$F414&\"\"&$I414&\"\"&$J414&\"\"&$K414))","v":""},{"$f":"IF($X$2=\"\",\"\",SEARCH($X$2,$A414&\" \"&#REF!&\" \"&$D414&\" \"&$F414&\" \"&$I414&\" \"&$J414&\" \"&$K414&\" \"&$O414&\" \"&$Q414&\" \"&$S414&\" \"&$U414&\" \"&$V414&\" \"&$W414&\" \"&$X414))","v":""},{"$error":"#VALUE!"}]
[410,{"$f":"IF(C415=\"\",\"\",MAX($B$5:B414)+1)","v":410},"مراد 410","فريدة410","ثالثة","آداب وفلسفة",1,"3آف1","12/2/2409","الوادي","ذ","محمد علي410","حي السلام -البياضة",null,"2019-03-28",410,"2019-04-25",414,"2020-02-19",417,null,null,null,null,null,{"$f":"IF($V$2=\"\",\"\",SEARCH($V$2,$A415&\"\"&#REF!&\"\"&$D415&\"\"&$F415&\"\"&$I415&\"\"&$J415&\"\"&$K415))","v":""},{"$f":"IF($X$2=\"\",\"\",SEARCH($X$2,$A415&\" \"&#REF!&\" \"&$D415&\" \"&$F415&\" \"&$I415&\" \"&$J415&\" \"&$K415&\" \"&$O415&\" \"&$Q415&\" \"&$S415&\" \"&$U415&\" \"&$V415&\" \"&$W415&\" \"&$X415))","v":""},49]
[411,{"$f":"IF(C416=\"\",\"\",MAX($B$5:B415)+1)","v":411},"مراد 411","فريدة411","ثالثة","آداب وفلسفة",1,"3آف1","12/2/2410","البياضة","ذ","محمد علي411","حي الإزدهار - البياضة",null,"2019-03-29",411,"2019-04-26",415,"2020-02-20",418,null,null,null,null,null,{"$f":"IF($V$2=\"\",\"\",SEARCH($V$2,$A416&\"\"&#REF!&\"\"&$D416&\"\"&$F416&\"\"&$I416&\"\"&$J416&\"\"&$K416))","v":""},{"$f":"IF($X$2=\"\",\"\",SEARCH($X$2,$A416&\" \"&#REF!&\" \"&$D416&\" \"&$F416&\" \"&$I416&\" \"&$J416&\" \"&$K416&\" \"&$O416&\" \"&$Q416&\" \"&$S416&\" \"&$U416&\" \"&$V416&\" \"&$W416&\" \"&$X416))","v":""},{"$error":"#VALUE!"}]
[412,{"$f":"IF(C417=\"\",\"\",MAX($B$5:B416)+1)","v":412},"مراد 412","فريدة412","ثالثة","آداب وفلسفة",1,"3آف1","12/2/2411","الرباح","ذ","محمد علي412","حي السلام -البياضة",null,"2019-03-30",412,"2019-04-27",416,"2020-02-21",419,null,null,null,null,null,{"$f":"IF($V$2=\"\",\"\",SEARCH($V$2,$A417&\"\"&#REF!&\"\"&$D417&\"\"&$F417&\"\"&$I417&\"\"&$J417&\"\"&$K417))","v":""},{"$f":"IF($X$2=\"\",\"\",SEARCH($X$2,$A417&\" \"&#REF!&\" \"&$D417&\" \"&$F417&\" \"&$I417&\" \"&$J417&\" \"&$K417&\" \"&$O417&\" \"&$Q417&\" \"&$S417&\" \"&$U417&\" \"&$V417&\" \"&$W417&\" \"&$X417))","v":""},{"$error":"#VALUE!"}]
[413,{"$f":"IF(C418=\"\",\"\",MAX($B$5:B417)+1)","v":413},"مراد 413","فريدة413","ثالثة","آداب وفلسفة",1,"3آف1","12/2/2412","البياضة","ذ","محمد علي413","حي الإزدهار - البياضة",null,"2019-03-31",413,"2019-04-28",417,"2020-02-22",420,null,null,null,null,null,{"$f":"IF($V$2=\"\",\"\",SEARCH($V$2,$A418&\"\"&#REF!&\"\"&$D418&\"\"&$F418&\"\"&$I418&\"\"&$J418&\"\"&$K418))","v":""},{"$f":"IF($X$2=\"\",\"\",SEARCH($X$2,$A418&\" \"&#REF!&\" \"&$D418&\" \"&$F418&\" \"&$I418&\" \"&$J418&\" \"&$K418&\" \"&$O418&\" \"&$Q418&\" \"&$S418&\" \"&$U418&\" \"&$V418&\" \"&$W418&\" \"&$X418))","v":""},{"$error":"#VALUE!"}]
[414,{"$f":"IF(C419=\"\",\"\",MAX($B$5:B418)+1)","v":414},"مراد 414","فريدة414","ثالثة","علوم تجريبية",1,"3ع1","12/2/2413","البياضة","ذ","محمد علي414","حي السلام -البياضة",null,"2019-04-01",414,"2019-04-29",418,"2020-02-23",421,null,null,null,null,null,{"$f":"IF($V$2=\"\",\"\",SEARCH($V$2,$A419&\"\"&#REF!&\"\"&$D419&\"\"&$F419&\"\"&$I419&\"\"&$J419&\"\"&$K419))","v":""},{"$f":"IF($X$2=\"\",\"\",SEARCH($X$2,$A419&\" \"&#REF!&\" \"&$D419&\" \"&$F419&\" \"&$I419&\" \"&$J419&\" \"&$K419&\" \"&$O419&\" \"&$Q419&\" \"&$S419&\" \"&$U419&\" \"&$V419&\" \"&$W419&\" \"&$X419))","v":""},{"$error":"#VALUE!"}]
[415,{"$f":"IF(C420=\"\",\"\",MAX($B$5:B419)+1)","v":415},"مراد 415","فريدة415","ثالثة","علوم تجريبية",1,"3ع1","12/2/2414","البياضة","ذ","محمد علي415","حي الإزدهار - البياضة",null,"2019-04-02",415,"2019-04-30",419,"2020-02-24",422,null,null,null,null,null,{"$f":"IF($V$2=\"\",\"\",SEARCH($V$2,$A420&\"\"&#REF!&\"\"&$D420&\"\"&$F420&\"\"&$I420&\"\"&$J420&\"\"&$K420))","v":""},{"$f":"IF($X$2=\"\",\"\",SEARCH($X$2,$A420&\" \"&#REF!&\" \"&$D420&\" \"&$F420&\" \"&$I420&\" \"&$J420&\" \"&$K420&\" \"&$O420&\" \"&$Q420&\" \"&$S420&\" \"&$U420&\" \"&$V420&\" \"&$W420&\" \"&$X420))","v":""},{"$error":"#VALUE!"}]
[416,{"$f":"IF(C421=\"\",\"\",MAX($B$5:B420)+1)","v":416},"مراد 416","فريدة416","ثالثة","علوم تجريبية",1,"3ع1","12/2/2415","البياضة","ذ","محمد علي416","حي السلام -البياضة",null,"2019-04-03",416,"2019-05-01",420,"2020-02-25",423,null,null,null,null,null,{"$f":"IF($V$2=\"\",\"\",SEARCH($V$2,$A421&\"\"&#REF!&\"\"&$D421&\"\"&$F421&\"\"&$I421&\"\"&$J421&\"\"&$K421))","v":""},{"$f":"IF($X$2=\"\",\"\",SEARCH($X$2,$A421&\" \"&#REF!&\" \"&$D421&\" \"&$F421&\" \"&$I421&\" \"&$J421&\" \"&$K421&\" \"&$O421&\" \"&$Q421&\" \"&$S421&\" \"&$U421&\" \"&$V421&\" \"&$W421&\" \"&$X421))","v":""},{"$error":"#VALUE!"}]
[417,{"$f":"IF(C422=\"\",\"\",MAX($B$5:B421)+1)","v":417},"مراد 417","فريدة417","ثالثة","علوم تجريبية",1,"3ع1","12/2/2416","البياضة","ذ","محمد علي417","حي الإزدهار - البياضة",null,"2019-04-04",417,"2019-05-02",421,"2020-02-26",424,null,null,null,null,null,{"$f":"IF($V$2=\"\",\"\",SEARCH($V$2,$A422&\"\"&#REF!&\"\"&$D422&\"\"&$F422&\"\"&$I422&\"\"&$J422&\"\"&$K422))","v":""},{"$f":"IF($X$2=\"\",\"\",SEARCH($X$2,$A422&\" \"&#REF!&\" \"&$D422&\" \"&$F422&\" \"&$I422&\" \"&$J422&\" \"&$K422&\" \"&$O422&\" \"&$Q422&\" \"&$S422&\" \"&$U422&\" \"&$V422&\" \"&$W422&\" \"&$X422))","v":""},{"$error":"#VALUE!"}]
[418,{"$f":"IF(C423=\"\",\"\",MAX($B$5:B422)+1)","v":418},"مراد 418","فريدة418","ثالثة","علوم تجريبية",1,"3ع1","12/2/2417","البياضة","ذ","محمد علي418","حي السلام -البياضة",null,"2019-04-05",418,"2019-05-03",422,"2020-02-27",425,null,null,null,null,null,{"$f":"IF($V$2=\"\",\"\",SEARCH($V$2,$A423&\"\"&#REF!&\"\"&$D423&\"\"&$F423&\"\"&$I423&\"\"&$J423&\"\"&$K423))","v":""},{"$f":"IF($X$2=\"\",\"\",SEARCH($X$2,$A423&\" \"&#REF!&\" \"&$D423&\" \"&$F423&\" \"&$I423&\" \"&$J423&\" \"&$K423&\" \"&$O423&\" \"&$Q423&\" \"&$S423&\" \"&$U423&\" \"&$V423&\" \"&$W423&\" \"&$X423))","v":""},{"$error":"#VALUE!"}]
[419,{"$f":"IF(C424=\"\",\"\",MAX($B$5:B423)+1)","v":419},"مراد 419","فريدة419","ثالثة","علوم تجريبية",1,"3ع1","12/2/2418","الوادي","ذ","محمد علي419","حي الإزدهار - البياضة",null,"2019-04-06",419,"2019-05-04",423,"2020-02-28",426,null,null,null,null,null,{"$f":"IF($V$2=\"\",\"\",SEARCH($V$2,$A424&\"\"&#REF!&\"\"&$D424&\"\"&$F424&\"\"&$I424&\"\"&$J424&\"\"&$K424))","v":""},{"$f":"IF($X$2=\"\",\"\",SEARCH($X$2,$A424&\" \"&#REF!&\" \"&$D424&\" \"&$F424&\" \"&$I424&\" \"&$J424&\" \"&$K424&\" \"&$O424&\" \"&$Q424&\" \"&$S424&\" \"&$U424&\" \"&$V424&\" \"&$W424&\" \"&$X424))","v":""},49]
[420,{"$f":"IF(C425=\"\",\"\",MAX($B$5:B424)+1)","v":420},"مراد 420","فريدة420","ثالثة","علوم تجريبية",1,"3ع1","12/2/2419","البياضة","ذ","محمد علي420","حي السلام -البياضة",null,"2019-04-07",420,"2019-05-05",424,"2020-02-29",427,null,null,null,null,null,{"$f":"IF($V$2=\"\",\"\",SEARCH($V$2,$A425&\"\"&#REF!&\"\"&$D425&\"\"&$F425&\"\"&$I425&\"\"&$J425&\"\"&$K425))","v":""},{"$f":"IF($X$2=\"\",\"\",SEARCH($X$2,$A425&\" \"&#REF!&\" \"&$D425&\" \"&$F425&\" \"&$I425&\" \"&$J425&\" \"&$K425&\" \"&$O425&\" \"&$Q425&\" \"&$S425&\" \"&$U425&\" \"&$V425&\" \"&$W425&\" \"&$X425))","v":""},{"$error":"#VALUE!"}]
[421,{"$f":"IF(C426=\"\",\"\",MAX($B$5:B425)+1)","v":421},"مراد 421","فريدة421","ثالثة","علوم تجريبية",1,"3ع1","12/2/2420","البياضة","ذ","محمد علي421","حي الإزدهار - البياضة",null,"2019-04-08",421,"2019-05-06",425,"2020-03-01",428,null,null,null,null,null,{"$f":"IF($V$2=\"\",\"\",SEARCH($V$2,$A426&\"\"&#REF!&\"\"&$D426&\"\"&$F426&\"\"&$I426&\"\"&$J426&\"\"&$K426))","v":""},{"$f":"IF($X$2=\"\",\"\",SEARCH($X$2,$A426&\" \"&#REF!&\" \"&$D426&\" \"&$F426&\" \"&$I426&\" \"&$J426&\" \"&$K426&\" \"&$O426&\" \"&$Q426&\" \"&$S426&\" \"&$U426&\" \"&$V426&\" \"&$W426&\" \"&$X426))","v":""},{"$error":"#VALUE!"}]
[422,{"$f":"IF(C427=\"\",\"\",MAX($B$5:B426)+1)","v":422},"مراد 422","فريدة422","ثالثة","علوم تجريبية",1,"3ع1","12/2/2421","الرباح","ذ","محمد علي422","حي السلام -البياضة",null,"2019-04-09",422,"2019-05-07",426,"2020-03-02",429,null,null,null,null,null,{"$f":"IF($V$2=\"\",\"\",SEARCH($V$2,$A427&\"\"&#REF!&\"\"&$D427&\"\"&$F427&\"\"&$I427&\"\"&$J427&\"\"&$K427))","v":""},{"$f":"IF($X$2=\"\",\"\",SEARCH($X$2,$A427&\" \"&#REF!&\" \"&$D427&\" \"&$F427&\" \"&$I427&\" \"&$J427&\" \"&$K427&\" \"&$O427&\" \"&$Q427&\" \"&$S427&\" \"&$U427&\" \"&$V427&\" \"&$W427&\" \"&$X427))","v":""},{"$error":"#VALUE!"}]
[423,{"$f":"IF(C428=\"\",\"\",MAX($B$5:B427)+1)","v":423},"مراد 423","فريدة423","ثالثة","علوم تجريبية",1,"3ع1","12/2/2422","الوادي","ذ","محمد علي423","حي الإزدهار - البياضة",null,"2019-04-10",423,"2019-05-08",427,"2020-03-03",430,null,null,null,null,null,{"$f":"IF($V$2=\"\",\"\",SEARCH($V$2,$A428&\"\"&#REF!&\"\"&$D428&\"\"&$F428&\"\"&$I428&\"\"&$J428&\"\"&$K428))","v":""},{"$f":"IF($X$2=\"\",\"\",SEARCH($X$2,$A428&\" \"&#REF!&\" \"&$D428&\" \"&$F428&\" \"&$I428&\" \"&$J428&\" \"&$K428&\" \"&$O428&\" \"&$Q428&\" \"&$S428&\" \"&$U428&\" \"&$V428&\" \"&$W428&\" \"&$X428))","v":""},49]
[424,{"$f":"IF(C429=\"\",\"\",MAX($B$5:B428)+1)","v":424},"مراد 424","فريدة424","ثالثة","علوم تجريبية",1,"3ع1","12/2/2423","البياضة","ذ","محمد علي424","حي السلام -البياضة",null,"2019-04-11",424,"2019-05-09",428,"2020-03-04",431,null,null,null,null,null,{"$f":"IF($V$2=\"\",\"\",SEARCH($V$2,$A429&\"\"&#REF!&\"\"&$D429&\"\"&$F429&\"\"&$I429&\"\"&$J429&\"\"&$K429))","v":""},{"$f":"IF($X$2=\"\",\"\",SEARCH($X$2,$A429&\" \"&#REF!&\" \"&$D429&\" \"&$F429&\" \"&$I429&\" \"&$J429&\" \"&$K429&\" \"&$O429&\" \"&$Q429&\" \"&$S429&\" \"&$U429&\" \"&$V429&\" \"&$W429&\" \"&$X429))","v":""},{"$error":"#VALUE!"}]
[425,{"$f":"IF(C430=\"\",\"\",MAX($B$5:B429)+1)","v":425},"مراد 425","فريدة425","ثالثة","علوم تجريبية",1,"3ع1","12/2/2424","الوادي","ذ","محمد علي425","حي الإزدهار - البياضة",null,"2019-04-12",425,"2019-05-10",429,"2020-03-05",432,null,null,null,null,null,{"$f":"IF($V$2=\"\",\"\",SEARCH($V$2,$A430&\"\"&#REF!&\"\"&$D430&\"\"&$F430&\"\"&$I430&\"\"&$J430&\"\"&$K430))","v":""},{"$f":"IF($X$2=\"\",\"\",SEARCH($X$2,$A430&\" \"&#REF!&\" \"&$D430&\" \"&$F430&\" \"&$I430&\" \"&$J430&\" \"&$K430&\" \"&$O430&\" \"&$Q430&\" \"&$S430&\" \"&$U430&\" \"&$V430&\" \"&$W430&\" \"&$X430))","v":""},49]
[426,{"$f":"IF(C431=\"\",\"\",MAX($B$5:B430)+1)","v":426},"مراد 426","فريدة426","ثالثة","علوم تجريبية",1,"3ع1","12/2/2425","الحروش","ذ","محمد علي426","حي السلام -البياضة",null,"2019-04-13",426,"2019-05-11",430,"2020-03-06",433,null,null,null,null,null,{"$f":"IF($V$2=\"\",\"\",SEARCH($V$2,$A431&\"\"&#REF!&\"\"&$D431&\"\"&$F431&\"\"&$I431&\"\"&$J431&\"\"&$K431))","v":""},{"$f":"IF($X$2=\"\",\"\",SEARCH($X$2,$A431&\" \"&#REF!&\" \"&$D431&\" \"&$F431&\" \"&$I431&\" \"&$J431&\" \"&$K431&\" \"&$O431&\" \"&$Q431&\" \"&$S431&\" \"&$U431&\" \"&$V431&\" \"&$W431&\" \"&$X431))","v":""},{"$error":"#VALUE!"}]
[427,{"$f":"IF(C432=\"\",\"\",MAX($B$5:B431)+1)","v":427},"مراد 427","فريدة427","ثالثة","علوم تجريبية",1,"3ع1","12/2/2426","الوادي","ذ","محمد علي427","حي الإزدهار - البياضة",null,"2019-04-14",427,"2019-05-12",431,"2020-03-07",434,null,null,null,null,null,{"$f":"IF($V$2=\"\",\"\",SEARCH($V$2,$A432&\"\"&#REF!&\"\"&$D432&\"\"&$F432&\"\"&$I432&\"\"&$J432&\"\"&$K432))","v":""},{"$f":"IF($X$2=\"\",\"\",SEARCH($X$2,$A432&\" \"&#REF!&\" \"&$D432&\" \"&$F432&\" \"&$I432&\" \"&$J432&\" \"&$K432&\" \"&$O432&\" \"&$Q432&\" \"&$S432&\" \"&$U432&\" \"&$V432&\" \"&$W432&\" \"&$X432))","v":""},49]
[428,{"$f":"IF(C433=\"\",\"\",MAX($B$5:B432)+1)","v":428},"مراد 428","فريدة428","ثالثة","علوم تجريبية",1,"3ع1","12/2/2427","البياضة","ذ","محمد علي428","حي السلام -البياضة",null,"2019-04-15",428,"2019-05-13",432,"2020-03-08",435,null,null,null,null,null,{"$f":"IF($V$2=\"\",\"\",SEARCH($V$2,$A433&\"\"&#REF!&\"\"&$D433&\"\"&$F433&\"\"&$I433&\"\"&$J433&\"\"&$K433))","v":""},{"$f":"IF($X$2=\"\",\"\",SEARCH($X$2,$A433&\" \"&#REF!&\" \"&$D433&\" \"&$F433&\" \"&$I433&\" \"&$J433&\" \"&$K433&\" \"&$O433&\" \"&$Q433&\" \"&$S433&\" \"&$U433&\" \"&$V433&\" \"&$W433&\" \"&$X433))","v":""},{"$error":"#VALUE!"}]
[429,{"$f":"IF(C434=\"\",\"\",MAX($B$5:B433)+1)","v":429},"مراد 429","فريدة429","ثالثة","علوم تجريبية",1,"3ع1","12/2/2428","البياضة","ذ","محمد علي429","حي الإزدهار - البياضة",null,"2019-04-16",429,"2019-05-14",433,"2020-03-09",436,null,null,null,null,null,{"$f":"IF($V$2=\"\",\"\",SEARCH($V$2,$A434&\"\"&#REF!&\"\"&$D434&\"\"&$F434&\"\"&$I434&\"\"&$J434&\"\"&$K434))","v":""},{"$f":"IF($X$2=\"\",\"\",SEARCH($X$2,$A434&\" \"&#REF!&\" \"&$D434&\" \"&$F434&\" \"&$I434&\" \"&$J434&\" \"&$K434&\" \"&$O434&\" \"&$Q434&\" \"&$S434&\" \"&$U434&\" \"&$V434&\" \"&$W434&\" \"&$X434))","v":""},{"$error":"#VALUE!"}]
[430,{"$f":"IF(C435=\"\",\"\",MAX($B$5:B434)+1)","v":430},"مراد 430","فريدة430","ثالثة","علوم تجريبية",1,"3ع1","12/2/2429","البياضة","ذ","محمد علي430","حي السلام -البياضة",null,"2019-04-17",430,"2019-05-15",434,"2020-03-10",437,null,null,null,null,null,{"$f":"IF($V$2=\"\",\"\",SEARCH($V$2,$A435&\"\"&#REF!&\"\"&$D435&\"\"&$F435&\"\"&$I435&\"\"&$J435&\"\"&$K435))","v":""},{"$f":"IF($X$2=\"\",\"\",SEARCH($X$2,$A435&\" \"&#REF!&\" \"&$D435&\" \"&$F435&\" \"&$I435&\" \"&$J435&\" \"&$K435&\" \"&$O435&\" \"&$Q435&\" \"&$S435&\" \"&$U435&\" \"&$V435&\" \"&$W435&\" \"&$X435))","v":""},{"$error":"#VALUE!"}]
[431,{"$f":"IF(C436=\"\",\"\",MAX($B$5:B435)+1)","v":431},"مراد 431","فريدة431","ثالثة","علوم تجريبية",1,"3ع1","12/2/2430","البياضة","ذ","محمد علي431","حي الإزدهار - البياضة",null,"2019-04-18",431,"2019-05-16",435,"2020-03-11",438,null,null,null,null,null,{"$f":"IF($V$2=\"\",\"\",SEARCH($V$2,$A436&\"\"&#REF!&\"\"&$D436&\"\"&$F436&\"\"&$I436&\"\"&$J436&\"\"&$K436))","v":""},{"$f":"IF($X$2=\"\",\"\",SEARCH($X$2,$A436&\" \"&#REF!&\" \"&$D436&\" \"&$F436&\" \"&$I436&\" \"&$J436&\" \"&$K436&\" \"&$O436&\" \"&$Q436&\" \"&$S436&\" \"&$U436&\" \"&$V436&\" \"&$W436&\" \"&$X436))","v":""},{"$error":"#VALUE!"}]
[432,{"$f":"IF(C437=\"\",\"\",MAX($B$5:B436)+1)","v":432},"مراد 432","فريدة432","ثالثة","علوم تجريبية",1,"3ع1","12/2/2431","البياضة","ذ","محمد علي432","حي السلام -البياضة",null,"2019-04-19",432,"2019-05-17",436,"2020-03-12",439,null,null,null,null,null,{"$f":"IF($V$2=\"\",\"\",SEARCH($V$2,$A437&\"\"&#REF!&\"\"&$D437&\"\"&$F437&\"\"&$I437&\"\"&$J437&\"\"&$K437))","v":""},{"$f":"IF($X$2=\"\",\"\",SEARCH($X$2,$A437&\" \"&#REF!&\" \"&$D437&\" \"&$F437&\" \"&$I437&\" \"&$J437&\" \"&$K437&\" \"&$O437&\" \"&$Q437&\" \"&$S437&\" \"&$U437&\" \"&$V437&\" \"&$W437&\" \"&$X437))","v":""},{"$error":"#VALUE!"}]
[433,{"$f":"IF(C438=\"\",\"\",MAX($B$5:B437)+1)","v":433},"مراد 433","فريدة433","ثالثة","علوم تجريبية",1,"3ع1","12/2/2432","الدبيلة","ذ","محمد علي433","حي الإزدهار - البياضة",null,"2019-04-20",433,"2019-05-18",437,"2020-03-13",440,null,null,null,null,null,{"$f":"IF($V$2=\"\",\"\",SEARCH($V$2,$A438&\"\"&#REF!&\"\"&$D438&\"\"&$F438&\"\"&$I438&\"\"&$J438&\"\"&$K438))","v":""},{"$f":"IF($X$2=\"\",\"\",SEARCH($X$2,$A438&\" \"&#REF!&\" \"&$D438&\" \"&$F438&\" \"&$I438&\" \"&$J438&\" \"&$K438&\" \"&$O438&\" \"&$Q438&\" \"&$S438&\" \"&$U438&\" \"&$V438&\" \"&$W438&\" \"&$X438))","v":""},{"$error":"#VALUE!"}]
[434,{"$f":"IF(C439=\"\",\"\",MAX($B$5:B438)+1)","v":434},"مراد 434","فريدة434","ثالثة","علوم تجريبية",1,"3ع1","12/2/2433","البياضة","ذ","محمد علي434","حي السلام -البياضة",null,"2019-04-21",434,"2019-05-19",438,"2020-03-14",441,null,null,null,null,null,{"$f":"IF($V$2=\"\",\"\",SEARCH($V$2,$A439&\"\"&#REF!&\"\"&$D439&\"\"&$F439&\"\"&$I439&\"\"&$J439&\"\"&$K439))","v":""},{"$f":"IF($X$2=\"\",\"\",SEARCH($X$2,$A439&\" \"&#REF!&\" \"&$D439&\" \"&$F439&\" \"&$I439&\" \"&$J439&\" \"&$K439&\" \"&$O439&\" \"&$Q439&\" \"&$S439&\" \"&$U439&\" \"&$V439&\" \"&$W439&\" \"&$X439))","v":""},{"$error":"#VALUE!"}]
[435,{"$f":"IF(C440=\"\",\"\",MAX($B$5:B439)+1)","v":435},"مراد 435","فريدة435","ثالثة","علوم تجريبية",1,"3ع1","12/2/2434","البياضة","ذ","محمد علي435","حي الإزدهار - البياضة",null,"2019-04-22",435,"2019-05-20",439,"2020-03-15",442,null,null,null,null,null,{"$f":"IF($V$2=\"\",\"\",SEARCH($V$2,$A440&\"\"&#REF!&\"\"&$D440&\"\"&$F440&\"\"&$I440&\"\"&$J440&\"\"&$K440))","v":""},{"$f":"IF($X$2=\"\",\"\",SEARCH($X$2,$A440&\" \"&#REF!&\" \"&$D440&\" \"&$F440&\" \"&$I440&\" \"&$J440&\" \"&$K440&\" \"&$O440&\" \"&$Q440&\" \"&$S440&\" \"&$U440&\" \"&$V440&\" \"&$W440&\" \"&$X440))","v":""},{"$error":"#VALUE!"}]
[436,{"$f":"IF(C441=\"\",\"\",MAX($B$5:B440)+1)","v":436},"مراد 436","فريدة436","ثالثة","علوم تجريبية",1,"3ع1","12/2/2435","الوادي","ذ","محمد علي436","حي السلام -البياضة",null,"2019-04-23",436,"2019-05-21",440,"2020-03-16",443,null,null,null,null,null,{"$f":"IF($V$2=\"\",\"\",SEARCH($V$2,$A441&\"\"&#REF!&\"\"&$D441&\"\"&$F441&\"\"&$I441&\"\"&$J441&\"\"&$K441))","v":""},{"$f":"IF($X$2=\"\",\"\",SEARCH($X$2,$A441&\" \"&#REF!&\" \"&$D441&\" \"&$F441&\" \"&$I441&\" \"&$J441&\" \"&$K441&\" \"&$O441&\" \"&$Q441&\" \"&$S441&\" \"&$U441&\" \"&$V441&\" \"&$W441&\" \"&$X441))","v":""},49]
[437,{"$f":"IF(C442=\"\",\"\",MAX($B$5:B441)+1)","v":437},"مراد 437","فريدة437","ثالثة","علوم تجريبية",1,"3ع1","12/2/2436","الوادي","ذ","محمد علي437","حي الإزدهار - البياضة",null,"2019-04-24",437,"2019-05-22",441,"2020-03-17",444,null,null,null,null,null,{"$f":"IF($V$2=\"\",\"\",SEARCH($V$2,$A442&\"\"&#REF!&\"\"&$D442&\"\"&$F442&\"\"&$I442&\"\"&$J442&\"\"&$K442))","v":""},{"$f":"IF($X$2=\"\",\"\",SEARCH($X$2,$A442&\" \"&#REF!&\" \"&$D442&\" \"&$F442&\" \"&$I442&\" \"&$J442&\" \"&$K442&\" \"&$O442&\" \"&$Q442&\" \"&$S442&\" \"&$U442&\" \"&$V442&\" \"&$W442&\" \"&$X442))","v":""},49]
[438,{"$f":"IF(C443=\"\",\"\",MAX($B$5:B442)+1)","v":438},"مراد 438","فريدة438","ثالثة","علوم تجريبية",1,"3ع1","12/2/2437","البياضة","ذ","محمد علي438","حي السلام -البياضة",null,"2019-04-25",438,"2019-05-23",442,"2020-03-18",445,null,null,null,null,null,{"$f":"IF($V$2=\"\",\"\",SEARCH($V$2,$A443&\"\"&#REF!&\"\"&$D443&\"\"&$F443&\"\"&$I443&\"\"&$J443&\"\"&$K443))","v":""},{"$f":"IF($X$2=\"\",\"\",SEARCH($X$2,$A443&\" \"&#REF!&\" \"&$D443&\" \"&$F443&\" \"&$I443&\" \"&$J443&\" \"&$K443&\" \"&$O443&\" \"&$Q443&\" \"&$S443&\" \"&$U443&\" \"&$V443&\" \"&$W443&\" \"&$X443))","v":""},{"$error":"#VALUE!"}]
[439,{"$f":"IF(C444=\"\",\"\",MAX($B$5:B443)+1)","v":439},"مراد 439","فريدة439","ثالثة","علوم تجريبية",1,"3ع1","12/2/2438","البياضة","ذ","محمد علي439","حي الإزدهار - البياضة",null,"2019-04-26",439,"2019-05-24",443,"2020-03-19",446,null,null,null,null,null,{"$f":"IF($V$2=\"\",\"\",SEARCH($V$2,$A444&\"\"&#REF!&\"\"&$D444&\"\"&$F444&\"\"&$I444&\"\"&$J444&\"\"&$K444))","v":""},{"$f":"IF($X$2=\"\",\"\",SEARCH($X$2,$A444&\" \"&#REF!&\" \"&$D444&\" \"&$F444&\" \"&$I444&\" \"&$J444&\" \"&$K444&\" \"&$O444&\" \"&$Q444&\" \"&$S444&\" \"&$U444&\" \"&$V444&\" \"&$W444&\" \"&$X444))","v":""},{"$error":"#VALUE!"}]
[440,{"$f":"IF(C445=\"\",\"\",MAX($B$5:B444)+1)","v":440},"مراد 440","فريدة440","ثالثة","علوم تجريبية",1,"3ع1","12/2/2439","البياضة","ذ","محمد علي440","حي السلام -البياضة",null,"2019-04-27",440,"2019-05-25",444,"2020-03-20",447,null,null,null,null,null,{"$f":"IF($V$2=\"\",\"\",SEARCH($V$2,$A445&\"\"&#REF!&\"\"&$D445&\"\"&$F445&\"\"&$I445&\"\"&$J445&\"\"&$K445))","v":""},{"$f":"IF($X$2=\"\",\"\",SEARCH($X$2,$A445&\" \"&#REF!&\" \"&$D445&\" \"&$F445&\" \"&$I445&\" \"&$J445&\" \"&$K445&\" \"&$O445&\" \"&$Q445&\" \"&$S445&\" \"&$U445&\" \"&$V445&\" \"&$W445&\" \"&$X445))","v":""},{"$error":"#VALUE!"}]
[441,{"$f":"IF(C446=\"\",\"\",MAX($B$5:B445)+1)","v":441},"مراد 441","فريدة441","ثالثة","علوم تجريبية",1,"3ع1","12/2/2440","البياضة","ذ","محمد علي441","حي الإزدهار - البياضة",null,"2019-04-28",441,"2019-05-26",445,"2020-03-21",448,null,null,null,null,null,{"$f":"IF($V$2=\"\",\"\",SEARCH($V$2,$A446&\"\"&#REF!&\"\"&$D446&\"\"&$F446&\"\"&$I446&\"\"&$J446&\"\"&$K446))","v":""},{"$f":"IF($X$2=\"\",\"\",SEARCH($X$2,$A446&\" \"&#REF!&\" \"&$D446&\" \"&$F446&\" \"&$I446&\" \"&$J446&\" \"&$K446&\" \"&$O446&\" \"&$Q446&\" \"&$S446&\" \"&$U446&\" \"&$V446&\" \"&$W446&\" \"&$X446))","v":""},{"$error":"#VALUE!"}]
[442,{"$f":"IF(C447=\"\",\"\",MAX($B$5:B446)+1)","v":442},"مراد 442","فريدة442","ثالثة","علوم تجريبية",1,"3ع1","12/2/2441","البياضة","ذ","محمد علي442","حي السلام -البياضة",null,"2019-04-29",442,"2019-05-27",446,"2020-03-22",449,null,null,null,null,null,{"$f":"IF($V$2=\"\",\"\",SEARCH($V$2,$A447&\"\"&#REF!&\"\"&$D447&\"\"&$F447&\"\"&$I447&\"\"&$J447&\"\"&$K447))","v":""},{"$f":"IF($X$2=\"\",\"\",SEARCH($X$2,$A447&\" \"&#REF!&\" \"&$D447&\" \"&$F447&\" \"&$I447&\" \"&$J447&\" \"&$K447&\" \"&$O447&\" \"&$Q447&\" \"&$S447&\" \"&$U447&\" \"&$V447&\" \"&$W447&\" \"&$X447))","v":""},{"$error":"#VALUE!"}]
[443,{"$f":"IF(C448=\"\",\"\",MAX($B$5:B447)+1)","v":443},"مراد 443","فريدة443","ثالثة","علوم تجريبية",1,"3ع1","12/2/2442","البياضة","ذ","محمد علي443","حي الإزدهار - البياضة",null,"2019-04-30",443,"2019-05-28",447,"2020-03-23",450,null,null,null,null,null,{"$f":"IF($V$2=\"\",\"\",SEARCH($V$2,$A448&\"\"&#REF!&\"\"&$D448&\"\"&$F448&\"\"&$I448&\"\"&$J448&\"\"&$K448))","v":""},{"$f":"IF($X$2=\"\",\"\",SEARCH($X$2,$A448&\" \"&#REF!&\" \"&$D448&\" \"&$F448&\" \"&$I448&\" \"&$J448&\" \"&$K448&\" \"&$O448&\" \"&$Q448&\" \"&$S448&\" \"&$U448&\" \"&$V448&\" \"&$W448&\" \"&$X448))","v":""},{"$error":"#VALUE!"}]
[444,{"$f":"IF(C449=\"\",\"\",MAX($B$5:B448)+1)","v":444},"مراد 444","فريدة444","ثالثة","علوم تجريبية",1,"3ع1","12/2/2443","البياضة","ذ","محمد علي444","حي السلام -البياضة",null,"2019-05-01",444,"2019-05-29",448,"2020-03-24",451,null,null,null,null,null,{"$f":"IF($V$2=\"\",\"\",SEARCH($V$2,$A449&\"\"&#REF!&\"\"&$D449&\"\"&$F449&\"\"&$I449&\"\"&$J449&\"\"&$K449))","v":""},{"$f":"IF($X$2=\"\",\"\",SEARCH($X$2,$A449&\" \"&#REF!&\" \"&$D449&\" \"&$F449&\" \"&$I449&\" \"&$J449&\" \"&$K449&\" \"&$O449&\" \"&$Q449&\" \"&$S449&\" \"&$U449&\" \"&$V449&\" \"&$W449&\" \"&$X449))","v":""},{"$error":"#VALUE!"}]
[445,{"$f":"IF(C450=\"\",\"\",MAX($B$5:B449)+1)","v":445},"مراد 445","فريدة445","ثالثة","علوم تجريبية",1,"3ع1","12/2/2444","البياضة","ذ","محمد علي445","حي الإزدهار - البياضة",null,"2019-05-02",445,"2019-05-30",449,"2020-03-25",452,null,null,null,null,null,{"$f":"IF($V$2=\"\",\"\",SEARCH($V$2,$A450&\"\"&#REF!&\"\"&$D450&\"\"&$F450&\"\"&$I450&\"\"&$J450&\"\"&$K450))","v":""},{"$f":"IF($X$2=\"\",\"\",SEARCH($X$2,$A450&\" \"&#REF!&\" \"&$D450&\" \"&$F450&\" \"&$I450&\" \"&$J450&\" \"&$K450&\" \"&$O450&\" \"&$Q450&\" \"&$S450&\" \"&$U450&\" \"&$V450&\" \"&$W450&\" \"&$X450))","v":""},{"$error":"#VALUE!"}]
[446,{"$f":"IF(C451=\"\",\"\",MAX($B$5:B450)+1)","v":446},"مراد 446","فريدة446","ثالثة","علوم تجريبية",2,"3ع2","12/2/2445","الوادي","ذ","محمد علي446","حي السلام -البياضة",null,"2019-05-03",446,"2019-05-31",450,"2020-03-26",453,null,null,null,null,null,{"$f":"IF($V$2=\"\",\"\",SEARCH($V$2,$A451&\"\"&#REF!&\"\"&$D451&\"\"&$F451&\"\"&$I451&\"\"&$J451&\"\"&$K451))","v":""},{"$f":"IF($X$2=\"\",\"\",SEARCH($X$2,$A451&\" \"&#REF!&\" \"&$D451&\" \"&$F451&\" \"&$I451&\" \"&$J451&\" \"&$K451&\" \"&$O451&\" \"&$Q451&\" \"&$S451&\" \"&$U451&\" \"&$V451&\" \"&$W451&\" \"&$X451))","v":""},49]
[447,{"$f":"IF(C452=\"\",\"\",MAX($B$5:B451)+1)","v":447},"مراد 447","فريدة447","ثالثة","علوم تجريبية",2,"3ع2","12/2/2446","الرباح","ذ","محمد علي447","حي الإزدهار - البياضة",null,"2019-05-04",447,"2019-06-01",451,"2020-03-27",454,null,null,null,null,null,{"$f":"IF($V$2=\"\",\"\",SEARCH($V$2,$A452&\"\"&#REF!&\"\"&$D452&\"\"&$F452&\"\"&$I452&\"\"&$J452&\"\"&$K452))","v":""},{"$f":"IF($X$2=\"\",\"\",SEARCH($X$2,$A452&\" \"&#REF!&\" \"&$D452&\" \"&$F452&\" \"&$I452&\" \"&$J452&\" \"&$K452&\" \"&$O452&\" \"&$Q452&\" \"&$S452&\" \"&$U452&\" \"&$V452&\" \"&$W452&\" \"&$X452))","v":""},{"$error":"#VALUE!"}]
[448,{"$f":"IF(C453=\"\",\"\",MAX($B$5:B452)+1)","v":448},"مراد 448","فريدة448","ثالثة","علوم تجريبية",2,"3ع2","12/2/2447","الواد","ذ","محمد علي448","حي السلام -البياضة",null,"2019-05-05",448,"2019-06-02",452,"2020-03-28",455,null,null,null,null,null,{"$f":"IF($V$2=\"\",\"\",SEARCH($V$2,$A453&\"\"&#REF!&\"\"&$D453&\"\"&$F453&\"\"&$I453&\"\"&$J453&\"\"&$K453))","v":""},{"$f":"IF($X$2=\"\",\"\",SEARCH($X$2,$A453&\" \"&#REF!&\" \"&$D453&\" \"&$F453&\" \"&$I453&\" \"&$J453&\" \"&$K453&\" \"&$O453&\" \"&$Q453&\" \"&$S453&\" \"&$U453&\" \"&$V453&\" \"&$W453&\" \"&$X453))","v":""},{"$error":"#VALUE!"}]
[449,{"$f":"IF(C454=\"\",\"\",MAX($B$5:B453)+1)","v":449},"مراد 449","فريدة449","ثالثة","علوم تجريبية",2,"3ع2","12/2/2448","البياضة","ذ","محمد علي449","حي الإزدهار - البياضة",null,"2019-05-06",449,"2019-06-03",453,"2020-03-29",456,null,null,null,null,null,{"$f":"IF($V$2=\"\",\"\",SEARCH($V$2,$A454&\"\"&#REF!&\"\"&$D454&\"\"&$F454&\"\"&$I454&\"\"&$J454&\"\"&$K454))","v":""},{"$f":"IF($X$2=\"\",\"\",SEARCH($X$2,$A454&\" \"&#REF!&\" \"&$D454&\" \"&$F454&\" \"&$I454&\" \"&$J454&\" \"&$K454&\" \"&$O454&\" \"&$Q454&\" \"&$S454&\" \"&$U454&\" \"&$V454&\" \"&$W454&\" \"&$X454))","v":""},{"$error":"#VALUE!"}]
[450,{"$f":"IF(C455=\"\",\"\",MAX($B$5:B454)+1)","v":450},"مراد 450","فريدة450","ثالثة","علوم تجريبية",2,"3ع2","12/2/2449","الرباح","ذ","محمد علي450","حي السلام -البياضة",null,"2019-05-07",450,"2019-06-04",454,"2020-03-30",457,null,null,null,null,null,{"$f":"IF($V$2=\"\",\"\",SEARCH($V$2,$A455&\"\"&#REF!&\"\"&$D455&\"\"&$F455&\"\"&$I455&\"\"&$J455&\"\"&$K455))","v":""},{"$f":"IF($X$2=\"\",\"\",SEARCH($X$2,$A455&\" \"&#REF!&\" \"&$D455&\" \"&$F455&\" \"&$I455&\" \"&$J455&\" \"&$K455&\" \"&$O455&\" \"&$Q455&\" \"&$S455&\" \"&$U455&\" \"&$V455&\" \"&$W455&\" \"&$X455))","v":""},{"$f":"IF($L$2=\"\",\"\",SEARCH($L$2,$A455&\" \"&$D455&\" \"&$E455&\" \"&$F455&\" \"&$G455&\" \"&$H455&\" \"&$I455&\" \"&$J455&\" \"&$K455&\" \"&$L455&\" \"&$N455&\" \"&$O455&\" \"&$P455&\" \"&$Q455&\" \"&$R455&\" \"&$S455&\" \"&$T455&\" \"&$U455&\" \"&$V455&\" \"&$W455&\" \"&$X455))","v":{"$error":"#VALUE!"}}]
[451,{"$f":"IF(C456=\"\",\"\",MAX($B$5:B455)+1)","v":451},"مراد 451","فريدة451","ثالثة","علوم تجريبية",2,"3ع2","12/2/2450","الرباح","ذ","محمد علي451","حي الإزدهار - البياضة",null,"2019-05-08",451,"2019-06-05",455,"2020-03-31",458,null,null,null,null,null,{"$f":"IF($V$2=\"\",\"\",SEARCH($V$2,$A456&\"\"&#REF!&\"\"&$D456&\"\"&$F456&\"\"&$I456&\"\"&$J456&\"\"&$K456))","v":""},{"$f":"IF($X$2=\"\",\"\",SEARCH($X$2,$A456&\" \"&#REF!&\" \"&$D456&\" \"&$F456&\" \"&$I456&\" \"&$J456&\" \"&$K456&\" \"&$O456&\" \"&$Q456&\" \"&$S456&\" \"&$U456&\" \"&$V456&\" \"&$W456&\" \"&$X456))","v":""},{"$error":"#VALUE!"}]
[452,{"$f":"IF(C457=\"\",\"\",MAX($B$5:B456)+1)","v":452},"مراد 452","فريدة452","ثالثة","علوم تجريبية",2,"3ع2","12/2/2451","البياضة","ذ","محمد علي452","حي السلام -البياضة",null,"2019-05-09",452,"2019-06-06",456,"2020-04-01",459,null,null,null,null,null,{"$f":"IF($V$2=\"\",\"\",SEARCH($V$2,$A457&\"\"&#REF!&\"\"&$D457&\"\"&$F457&\"\"&$I457&\"\"&$J457&\"\"&$K457))","v":""},{"$f":"IF($X$2=\"\",\"\",SEARCH($X$2,$A457&\" \"&#REF!&\" \"&$D457&\" \"&$F457&\" \"&$I457&\" \"&$J457&\" \"&$K457&\" \"&$O457&\" \"&$Q457&\" \"&$S457&\" \"&$U457&\" \"&$V457&\" \"&$W457&\" \"&$X457))","v":""},{"$error":"#VALUE!"}]
[453,{"$f":"IF(C458=\"\",\"\",MAX($B$5:B457)+1)","v":453},"مراد 453","فريدة453","ثالثة","علوم تجريبية",2,"3ع2","12/2/2452","البياضة","ذ","محمد علي453","حي الإزدهار - البياضة",null,"2019-05-10",453,"2019-06-07",457,"2020-04-02",460,null,null,null,null,null,{"$f":"IF($V$2=\"\",\"\",SEARCH($V$2,$A458&\"\"&#REF!&\"\"&$D458&\"\"&$F458&\"\"&$I458&\"\"&$J458&\"\"&$K458))","v":""},{"$f":"IF($X$2=\"\",\"\",SEARCH($X$2,$A458&\" \"&#REF!&\" \"&$D458&\" \"&$F458&\" \"&$I458&\" \"&$J458&\" \"&$K458&\" \"&$O458&\" \"&$Q458&\" \"&$S458&\" \"&$U458&\" \"&$V458&\" \"&$W458&\" \"&$X458))","v":""},{"$error":"#VALUE!"}]
[454,{"$f":"IF(C459=\"\",\"\",MAX($B$5:B458)+1)","v":454},"مراد 454","فريدة454","ثالثة","علوم تجريبية",2,"3ع2","12/2/2453","البياضة","ذ","محمد علي454","حي السلام -البياضة",null,"2019-05-11",454,"2019-06-08",458,"2020-04-03",461,null,null,null,null,null,{"$f":"IF($V$2=\"\",\"\",SEARCH($V$2,$A459&\"\"&#REF!&\"\"&$D459&\"\"&$F459&\"\"&$I459&\"\"&$J459&\"\"&$K459))","v":""},{"$f":"IF($X$2=\"\",\"\",SEARCH($X$2,$A459&\" \"&#REF!&\" \"&$D459&\" \"&$F459&\" \"&$I459&\" \"&$J459&\" \"&$K459&\" \"&$O459&\" \"&$Q459&\" \"&$S459&\" \"&$U459&\" \"&$V459&\" \"&$W459&\" \"&$X459))","v":""},{"$error":"#VALUE!"}]
[455,{"$f":"IF(C460=\"\",\"\",MAX($B$5:B459)+1)","v":455},"مراد 455","فريدة455","ثالثة","علوم تجريبية",2,"3ع2","12/2/2454","البياضة","ذ","محمد علي455","حي الإزدهار - البياضة",null,"2019-05-12",455,"2019-06-09",459,"2020-04-04",462,null,null,null,null,null,{"$f":"IF($V$2=\"\",\"\",SEARCH($V$2,$A460&\"\"&#REF!&\"\"&$D460&\"\"&$F460&\"\"&$I460&\"\"&$J460&\"\"&$K460))","v":""},{"$f":"IF($X$2=\"\",\"\",SEARCH($X$2,$A460&\" \"&#REF!&\" \"&$D460&\" \"&$F460&\" \"&$I460&\" \"&$J460&\" \"&$K460&\" \"&$O460&\" \"&$Q460&\" \"&$S460&\" \"&$U460&\" \"&$V460&\" \"&$W460&\" \"&$X460))","v":""},{"$error":"#VALUE!"}]
[456,{"$f":"IF(C461=\"\",\"\",MAX($B$5:B460)+1)","v":456},"مراد 456","فريدة456","ثالثة","علوم تجريبية",2,"3ع2","12/2/2455","البياضة","ذ","محمد علي456","حي السلام -البياضة",null,"2019-05-13",456,"2019-06-10",460,"2020-04-05",463,null,null,null,null,null,{"$f":"IF($V$2=\"\",\"\",SEARCH($V$2,$A461&\"\"&#REF!&\"\"&$D461&\"\"&$F461&\"\"&$I461&\"\"&$J461&\"\"&$K461))","v":""},{"$f":"IF($X$2=\"\",\"\",SEARCH($X$2,$A461&\" \"&#REF!&\" \"&$D461&\" \"&$F461&\" \"&$I461&\" \"&$J461&\" \"&$K461&\" \"&$O461&\" \"&$Q461&\" \"&$S461&\" \"&$U461&\" \"&$V461&\" \"&$W461&\" \"&$X461))","v":""},{"$error":"#VALUE!"}]
[457,{"$f":"IF(C462=\"\",\"\",MAX($B$5:B461)+1)","v":457},"مراد 457","فريدة457","ثالثة","علوم تجريبية",2,"3ع2","12/2/2456","البياضة","ذ","محمد علي457","حي الإزدهار - البياضة",null,"2019-05-14",457,"2019-06-11",461,"2020-04-06",464,null,null,null,null,null,{"$f":"IF($V$2=\"\",\"\",SEARCH($V$2,$A462&\"\"&#REF!&\"\"&$D462&\"\"&$F462&\"\"&$I462&\"\"&$J462&\"\"&$K462))","v":""},{"$f":"IF($X$2=\"\",\"\",SEARCH($X$2,$A462&\" \"&#REF!&\" \"&$D462&\" \"&$F462&\" \"&$I462&\" \"&$J462&\" \"&$K462&\" \"&$O462&\" \"&$Q462&\" \"&$S462&\" \"&$U462&\" \"&$V462&\" \"&$W462&\" \"&$X462))","v":""},{"$error":"#VALUE!"}]
[458,{"$f":"IF(C463=\"\",\"\",MAX($B$5:B462)+1)","v":458},"مراد 458","فريدة458","ثالثة","علوم تجريبية",2,"3ع2","12/2/2457","البياضة","ذ","محمد علي458","حي السلام -البياضة",null,"2019-05-15",458,"2019-06-12",462,"2020-04-07",465,null,null,null,null,null,{"$f":"IF($V$2=\"\",\"\",SEARCH($V$2,$A463&\"\"&#REF!&\"\"&$D463&\"\"&$F463&\"\"&$I463&\"\"&$J463&\"\"&$K463))","v":""},{"$f":"IF($X$2=\"\",\"\",SEARCH($X$2,$A463&\" \"&#REF!&\" \"&$D463&\" \"&$F463&\" \"&$I463&\" \"&$J463&\" \"&$K463&\" \"&$O463&\" \"&$Q463&\" \"&$S463&\" \"&$U463&\" \"&$V463&\" \"&$W463&\" \"&$X463))","v":""},{"$error":"#VALUE!"}]
[459,{"$f":"IF(C464=\"\",\"\",MAX($B$5:B463)+1)","v":459},"مراد 459","فريدة459","ثالثة","علوم تجريبية",2,"3ع2","12/2/2458","البياضة","ذ","محمد علي459","حي الإزدهار - البياضة",null,"2019-05-16",459,"2019-06-13",463,"2020-04-08",466,null,null,null,null,null,{"$f":"IF($V$2=\"\",\"\",SEARCH($V$2,$A464&\"\"&#REF!&\"\"&$D464&\"\"&$F464&\"\"&$I464&\"\"&$J464&\"\"&$K464))","v":""},{"$f":"IF($X$2=\"\",\"\",SEARCH($X$2,$A464&\" \"&#REF!&\" \"&$D464&\" \"&$F464&\" \"&$I464&\" \"&$J464&\" \"&$K464&\" \"&$O464&\" \"&$Q464&\" \"&$S464&\" \"&$U464&\" \"&$V464&\" \"&$W464&\" \"&$X464))","v":""},{"$error":"#VALUE!"}]
[460,{"$f":"IF(C465=\"\",\"\",MAX($B$5:B464)+1)","v":460},"مراد 460","فريدة460","ثالثة","علوم تجريبية",2,"3ع2","12/2/2459","البياضة","ذ","محمد علي460","حي السلام -البياضة",null,"2019-05-17",460,"2019-06-14",464,"2020-04-09",467,null,null,null,null,null,{"$f":"IF($V$2=\"\",\"\",SEARCH($V$2,$A465&\"\"&#REF!&\"\"&$D465&\"\"&$F465&\"\"&$I465&\"\"&$J465&\"\"&$K465))","v":""},{"$f":"IF($X$2=\"\",\"\",SEARCH($X$2,$A465&\" \"&#REF!&\" \"&$D465&\" \"&$F465&\" \"&$I465&\" \"&$J465&\" \"&$K465&\" \"&$O465&\" \"&$Q465&\" \"&$S465&\" \"&$U465&\" \"&$V465&\" \"&$W465&\" \"&$X465))","v":""},{"$error":"#VALUE!"}]
[461,{"$f":"IF(C466=\"\",\"\",MAX($B$5:B465)+1)","v":461},"مراد 461","فريدة461","ثالثة","علوم تجريبية",2,"3ع2","12/2/2460","البياضة","ذ","محمد علي461","حي الإزدهار - البياضة",null,"2019-05-18",461,"2019-06-15",465,"2020-04-10",468,null,null,null,null,null,{"$f":"IF($V$2=\"\",\"\",SEARCH($V$2,$A466&\"\"&#REF!&\"\"&$D466&\"\"&$F466&\"\"&$I466&\"\"&$J466&\"\"&$K466))","v":""},{"$f":"IF($X$2=\"\",\"\",SEARCH($X$2,$A466&\" \"&#REF!&\" \"&$D466&\" \"&$F466&\" \"&$I466&\" \"&$J466&\" \"&$K466&\" \"&$O466&\" \"&$Q466&\" \"&$S466&\" \"&$U466&\" \"&$V466&\" \"&$W466&\" \"&$X466))","v":""},{"$error":"#VALUE!"}]
[462,{"$f":"IF(C467=\"\",\"\",MAX($B$5:B466)+1)","v":462},"مراد 462","فريدة462","ثالثة","علوم تجريبية",2,"3ع2","12/2/2461","البياضة","ذ","محمد علي462","حي السلام -البياضة",null,"2019-05-19",462,"2019-06-16",466,"2020-04-11",469,null,null,null,null,null,{"$f":"IF($V$2=\"\",\"\",SEARCH($V$2,$A467&\"\"&#REF!&\"\"&$D467&\"\"&$F467&\"\"&$I467&\"\"&$J467&\"\"&$K467))","v":""},{"$f":"IF($X$2=\"\",\"\",SEARCH($X$2,$A467&\" \"&#REF!&\" \"&$D467&\" \"&$F467&\" \"&$I467&\" \"&$J467&\" \"&$K467&\" \"&$O467&\" \"&$Q467&\" \"&$S467&\" \"&$U467&\" \"&$V467&\" \"&$W467&\" \"&$X467))","v":""},{"$error":"#VALUE!"}]
[463,{"$f":"IF(C468=\"\",\"\",MAX($B$5:B467)+1)","v":463},"مراد 463","فريدة463","ثالثة","علوم تجريبية",2,"3ع2","12/2/2462","الدبيلة","ذ","محمد علي463","حي الإزدهار - البياضة",null,"2019-05-20",463,"2019-06-17",467,"2020-04-12",470,null,null,null,null,null,{"$f":"IF($V$2=\"\",\"\",SEARCH($V$2,$A468&\"\"&#REF!&\"\"&$D468&\"\"&$F468&\"\"&$I468&\"\"&$J468&\"\"&$K468))","v":""},{"$f":"IF($X$2=\"\",\"\",SEARCH($X$2,$A468&\" \"&#REF!&\" \"&$D468&\" \"&$F468&\" \"&$I468&\" \"&$J468&\" \"&$K468&\" \"&$O468&\" \"&$Q468&\" \"&$S468&\" \"&$U468&\" \"&$V468&\" \"&$W468&\" \"&$X468))","v":""},{"$error":"#VALUE!"}]
[464,{"$f":"IF(C469=\"\",\"\",MAX($B$5:B468)+1)","v":464},"مراد 464","فريدة464","ثالثة","علوم تجريبية",2,"3ع2","12/2/2463","البياضة","ذ","محمد علي464","حي السلام -البياضة",null,"2019-05-21",464,"2019-06-18",468,"2020-04-13",471,null,null,null,null,null,{"$f":"IF($V$2=\"\",\"\",SEARCH($V$2,$A469&\"\"&#REF!&\"\"&$D469&\"\"&$F469&\"\"&$I469&\"\"&$J469&\"\"&$K469))","v":""},{"$f":"IF($X$2=\"\",\"\",SEARCH($X$2,$A469&\" \"&#REF!&\" \"&$D469&\" \"&$F469&\" \"&$I469&\" \"&$J469&\" \"&$K469&\" \"&$O469&\" \"&$Q469&\" \"&$S469&\" \"&$U469&\" \"&$V469&\" \"&$W469&\" \"&$X469))","v":""},{"$error":"#VALUE!"}]
[465,{"$f":"IF(C470=\"\",\"\",MAX($B$5:B469)+1)","v":465},"مراد 465","فريدة465","ثالثة","علوم تجريبية",2,"3ع2","12/2/2464","قسنطينة","ذ","محمد علي465","حي الإزدهار - البياضة",null,"2019-05-22",465,"2019-06-19",469,"2020-04-14",472,null,null,null,null,null,{"$f":"IF($V$2=\"\",\"\",SEARCH($V$2,$A470&\"\"&#REF!&\"\"&$D470&\"\"&$F470&\"\"&$I470&\"\"&$J470&\"\"&$K470))","v":""},{"$f":"IF($X$2=\"\",\"\",SEARCH($X$2,$A470&\" \"&#REF!&\" \"&$D470&\" \"&$F470&\" \"&$I470&\" \"&$J470&\" \"&$K470&\" \"&$O470&\" \"&$Q470&\" \"&$S470&\" \"&$U470&\" \"&$V470&\" \"&$W470&\" \"&$X470))","v":""},{"$error":"#VALUE!"}]
[466,{"$f":"IF(C471=\"\",\"\",MAX($B$5:B470)+1)","v":466},"مراد 466","فريدة466","ثالثة","علوم تجريبية",2,"3ع2","12/2/2465","البياضة","ذ","محمد علي466","حي السلام -البياضة",null,"2019-05-23",466,"2019-06-20",470,"2020-04-15",473,null,null,null,null,null,{"$f":"IF($V$2=\"\",\"\",SEARCH($V$2,$A471&\"\"&#REF!&\"\"&$D471&\"\"&$F471&\"\"&$I471&\"\"&$J471&\"\"&$K471))","v":""},{"$f":"IF($X$2=\"\",\"\",SEARCH($X$2,$A471&\" \"&#REF!&\" \"&$D471&\" \"&$F471&\" \"&$I471&\" \"&$J471&\" \"&$K471&\" \"&$O471&\" \"&$Q471&\" \"&$S471&\" \"&$U471&\" \"&$V471&\" \"&$W471&\" \"&$X471))","v":""},{"$error":"#VALUE!"}]
[467,{"$f":"IF(C472=\"\",\"\",MAX($B$5:B471)+1)","v":467},"مراد 467","فريدة467","ثالثة","علوم تجريبية",2,"3ع2","12/2/2466","جامعة","ذ","محمد علي467","حي الإزدهار - البياضة",null,"2019-05-24",467,"2019-06-21",471,"2020-04-16",474,null,null,null,null,null,{"$f":"IF($V$2=\"\",\"\",SEARCH($V$2,$A472&\"\"&#REF!&\"\"&$D472&\"\"&$F472&\"\"&$I472&\"\"&$J472&\"\"&$K472))","v":""},{"$f":"IF($X$2=\"\",\"\",SEARCH($X$2,$A472&\" \"&#REF!&\" \"&$D472&\" \"&$F472&\" \"&$I472&\" \"&$J472&\" \"&$K472&\" \"&$O472&\" \"&$Q472&\" \"&$S472&\" \"&$U472&\" \"&$V472&\" \"&$W472&\" \"&$X472))","v":""},{"$error":"#VALUE!"}]
[468,{"$f":"IF(C473=\"\",\"\",MAX($B$5:B472)+1)","v":468},"مراد 468","فريدة468","ثالثة","علوم تجريبية",2,"3ع2","12/2/2467","الوادي","ذ","محمد علي468","حي السلام -البياضة",null,"2019-05-25",468,"2019-06-22",472,"2020-04-17",475,null,null,null,null,null,{"$f":"IF($V$2=\"\",\"\",SEARCH($V$2,$A473&\"\"&#REF!&\"\"&$D473&\"\"&$F473&\"\"&$I473&\"\"&$J473&\"\"&$K473))","v":""},{"$f":"IF($X$2=\"\",\"\",SEARCH($X$2,$A473&\" \"&#REF!&\" \"&$D473&\" \"&$F473&\" \"&$I473&\" \"&$J473&\" \"&$K473&\" \"&$O473&\" \"&$Q473&\" \"&$S473&\" \"&$U473&\" \"&$V473&\" \"&$W473&\" \"&$X473))","v":""},49]
[469,{"$f":"IF(C474=\"\",\"\",MAX($B$5:B473)+1)","v":469},"مراد 469","فريدة469","ثالثة","علوم تجريبية",2,"3ع2","12/2/2468","الوادي","ذ","محمد علي469","حي الإزدهار - البياضة",null,"2019-05-26",469,"2019-06-23",473,"2020-04-18",476,null,null,null,null,null,{"$f":"IF($V$2=\"\",\"\",SEARCH($V$2,$A474&\"\"&#REF!&\"\"&$D474&\"\"&$F474&\"\"&$I474&\"\"&$J474&\"\"&$K474))","v":""},{"$f":"IF($X$2=\"\",\"\",SEARCH($X$2,$A474&\" \"&#REF!&\" \"&$D474&\" \"&$F474&\" \"&$I474&\" \"&$J474&\" \"&$K474&\" \"&$O474&\" \"&$Q474&\" \"&$S474&\" \"&$U474&\" \"&$V474&\" \"&$W474&\" \"&$X474))","v":""},49]
[470,{"$f":"IF(C475=\"\",\"\",MAX($B$5:B474)+1)","v":470},"مراد 470","فريدة470","ثالثة","علوم تجريبية",2,"3ع2","12/2/2469","البياضة","ذ","محمد علي470","حي السلام -البياضة",null,"2019-05-27",470,"2019-06-24",474,"2020-04-19",477,null,null,null,null,null,{"$f":"IF($V$2=\"\",\"\",SEARCH($V$2,$A475&\"\"&#REF!&\"\"&$D475&\"\"&$F475&\"\"&$I475&\"\"&$J475&\"\"&$K475))","v":""},{"$f":"IF($X$2=\"\",\"\",SEARCH($X$2,$A475&\" \"&#REF!&\" \"&$D475&\" \"&$F475&\" \"&$I475&\" \"&$J475&\" \"&$K475&\" \"&$O475&\" \"&$Q475&\" \"&$S475&\" \"&$U475&\" \"&$V475&\" \"&$W475&\" \"&$X475))","v":""},{"$error":"#VALUE!"}]
[471,{"$f":"IF(C476=\"\",\"\",MAX($B$5:B475)+1)","v":471},"مراد 471","فريدة471","ثالثة","علوم تجريبية",2,"3ع2","12/2/2470","الوادي","ذ","محمد علي471","حي الإزدهار - البياضة",null,"2019-05-28",471,"2019-06-25",475,"2020-04-20",478,null,null,null,null,null,{"$f":"IF($V$2=\"\",\"\",SEARCH($V$2,$A476&\"\"&#REF!&\"\"&$D476&\"\"&$F476&\"\"&$I476&\"\"&$J476&\"\"&$K476))","v":""},{"$f":"IF($X$2=\"\",\"\",SEARCH($X$2,$A476&\" \"&#REF!&\" \"&$D476&\" \"&$F476&\" \"&$I476&\" \"&$J476&\" \"&$K476&\" \"&$O476&\" \"&$Q476&\" \"&$S476&\" \"&$U476&\" \"&$V476&\" \"&$W476&\" \"&$X476))","v":""},49]
[472,{"$f":"IF(C477=\"\",\"\",MAX($B$5:B476)+1)","v":472},"مراد 472","فريدة472","ثالثة","علوم تجريبية",2,"3ع2","12/2/2471","البياضة","ذ","محمد علي472","حي السلام -البياضة",null,"2019-05-29",472,"2019-06-26",476,"2020-04-21",479,null,null,null,null,null,{"$f":"IF($V$2=\"\",\"\",SEARCH($V$2,$A477&\"\"&#REF!&\"\"&$D477&\"\"&$F477&\"\"&$I477&\"\"&$J477&\"\"&$K477))","v":""},{"$f":"IF($X$2=\"\",\"\",SEARCH($X$2,$A477&\" \"&#REF!&\" \"&$D477&\" \"&$F477&\" \"&$I477&\" \"&$J477&\" \"&$K477&\" \"&$O477&\" \"&$Q477&\" \"&$S477&\" \"&$U477&\" \"&$V477&\" \"&$W477&\" \"&$X477))","v":""},{"$error":"#VALUE!"}]
[473,{"$f":"IF(C478=\"\",\"\",MAX($B$5:B477)+1)","v":473},"مراد 473","فريدة473","ثالثة","علوم تجريبية",2,"3ع2","12/2/2472","البياضة","ذ","محمد علي473","حي الإزدهار - البياضة",null,"2019-05-30",473,"2019-06-27",477,"2020-04-22",480,null,null,null,null,null,{"$f":"IF($V$2=\"\",\"\",SEARCH($V$2,$A478&\"\"&#REF!&\"\"&$D478&\"\"&$F478&\"\"&$I478&\"\"&$J478&\"\"&$K478))","v":""},{"$f":"IF($X$2=\"\",\"\",SEARCH($X$2,$A478&\" \"&#REF!&\" \"&$D478&\" \"&$F478&\" \"&$I478&\" \"&$J478&\" \"&$K478&\" \"&$O478&\" \"&$Q478&\" \"&$S478&\" \"&$U478&\" \"&$V478&\" \"&$W478&\" \"&$X478))","v":""},{"$error":"#VALUE!"}]
[474,{"$f":"IF(C479=\"\",\"\",MAX($B$5:B478)+1)","v":474},"مراد 474","فريدة474","ثالثة","علوم تجريبية",2,"3ع2","12/2/2473","البياضة","ذ","محمد علي474","حي السلام -البياضة",null,"2019-05-31",474,"2019-06-28",478,"2020-04-23",481,null,null,null,null,null,{"$f":"IF($V$2=\"\",\"\",SEARCH($V$2,$A479&\"\"&#REF!&\"\"&$D479&\"\"&$F479&\"\"&$I479&\"\"&$J479&\"\"&$K479))","v":""},{"$f":"IF($X$2=\"\",\"\",SEARCH($X$2,$A479&\" \"&#REF!&\" \"&$D479&\" \"&$F479&\" \"&$I479&\" \"&$J479&\" \"&$K479&\" \"&$O479&\" \"&$Q479&\" \"&$S479&\" \"&$U479&\" \"&$V479&\" \"&$W479&\" \"&$X479))","v":""},{"$error":"#VALUE!"}]
[475,{"$f":"IF(C480=\"\",\"\",MAX($B$5:B479)+1)","v":475},"مراد 475","فريدة475","ثالثة","علوم تجريبية",2,"3ع2","12/2/2474","الوادي","ذ","محمد علي475","حي الإزدهار - البياضة",null,"2019-06-01",475,"2019-06-29",479,"2020-04-24",482,null,null,null,null,null,{"$f":"IF($V$2=\"\",\"\",SEARCH($V$2,$A480&\"\"&#REF!&\"\"&$D480&\"\"&$F480&\"\"&$I480&\"\"&$J480&\"\"&$K480))","v":""},{"$f":"IF($X$2=\"\",\"\",SEARCH($X$2,$A480&\" \"&#REF!&\" \"&$D480&\" \"&$F480&\" \"&$I480&\" \"&$J480&\" \"&$K480&\" \"&$O480&\" \"&$Q480&\" \"&$S480&\" \"&$U480&\" \"&$V480&\" \"&$W480&\" \"&$X480))","v":""},49]
[476,{"$f":"IF(C481=\"\",\"\",MAX($B$5:B480)+1)","v":476},"مراد 476","فريدة476","ثالثة","علوم تجريبية",2,"3ع2","12/2/2475","الوادي","ذ","محمد علي476","حي السلام -البياضة",null,"2019-06-02",476,"2019-06-30",480,"2020-04-25",483,null,null,null,null,null,{"$f":"IF($V$2=\"\",\"\",SEARCH($V$2,$A481&\"\"&#REF!&\"\"&$D481&\"\"&$F481&\"\"&$I481&\"\"&$J481&\"\"&$K481))","v":""},{"$f":"IF($X$2=\"\",\"\",SEARCH($X$2,$A481&\" \"&#REF!&\" \"&$D481&\" \"&$F481&\" \"&$I481&\" \"&$J481&\" \"&$K481&\" \"&$O481&\" \"&$Q481&\" \"&$S481&\" \"&$U481&\" \"&$V481&\" \"&$W481&\" \"&$X481))","v":""},49]
[477,{"$f":"IF(C482=\"\",\"\",MAX($B$5:B481)+1)","v":477},"مراد 477","فريدة477","ثالثة","علوم تجريبية",2,"3ع2","12/2/2476","البياضة","ذ","محمد علي477","حي الإزدهار - البياضة",null,"2019-06-03",477,"2019-07-01",481,"2020-04-26",484,null,null,null,null,null,{"$f":"IF($V$2=\"\",\"\",SEARCH($V$2,$A482&\"\"&#REF!&\"\"&$D482&\"\"&$F482&\"\"&$I482&\"\"&$J482&\"\"&$K482))","v":""},{"$f":"IF($X$2=\"\",\"\",SEARCH($X$2,$A482&\" \"&#REF!&\" \"&$D482&\" \"&$F482&\" \"&$I482&\" \"&$J482&\" \"&$K482&\" \"&$O482&\" \"&$Q482&\" \"&$S482&\" \"&$U482&\" \"&$V482&\" \"&$W482&\" \"&$X482))","v":""},{"$error":"#VALUE!"}]
[478,{"$f":"IF(C483=\"\",\"\",MAX($B$5:B482)+1)","v":478},"مراد 478","فريدة478","ثالثة","تسيير واقتصاد",1,"3تق1","12/2/2477","البياضة","ذ","محمد علي478","حي السلام -البياضة",null,"2019-06-04",478,"2019-07-02",482,"2020-04-27",485,null,null,null,null,null,{"$f":"IF($V$2=\"\",\"\",SEARCH($V$2,$A483&\"\"&#REF!&\"\"&$D483&\"\"&$F483&\"\"&$I483&\"\"&$J483&\"\"&$K483))","v":""},{"$f":"IF($X$2=\"\",\"\",SEARCH($X$2,$A483&\" \"&#REF!&\" \"&$D483&\" \"&$F483&\" \"&$I483&\" \"&$J483&\" \"&$K483&\" \"&$O483&\" \"&$Q483&\" \"&$S483&\" \"&$U483&\" \"&$V483&\" \"&$W483&\" \"&$X483))","v":""},{"$error":"#VALUE!"}]
[479,{"$f":"IF(C484=\"\",\"\",MAX($B$5:B483)+1)","v":479},"مراد 479","فريدة479","ثالثة","تسيير واقتصاد",1,"3تق1","12/2/2478","البياضة","ذ","محمد علي479","حي الإزدهار - البياضة",null,"2019-06-05",479,"2019-07-03",483,"2020-04-28",486,null,null,null,null,null,{"$f":"IF($V$2=\"\",\"\",SEARCH($V$2,$A484&\"\"&#REF!&\"\"&$D484&\"\"&$F484&\"\"&$I484&\"\"&$J484&\"\"&$K484))","v":""},{"$f":"IF($X$2=\"\",\"\",SEARCH($X$2,$A484&\" \"&#REF!&\" \"&$D484&\" \"&$F484&\" \"&$I484&\" \"&$J484&\" \"&$K484&\" \"&$O484&\" \"&$Q484&\" \"&$S484&\" \"&$U484&\" \"&$V484&\" \"&$W484&\" \"&$X484))","v":""},{"$error":"#VALUE!"}]
[480,{"$f":"IF(C485=\"\",\"\",MAX($B$5:B484)+1)","v":480},"مراد 480","فريدة480","ثالثة","تسيير واقتصاد",1,"3تق1","12/2/2479","الوادي","ذ","محمد علي480","حي السلام -البياضة",null,"2019-06-06",480,"2019-07-04",484,"2020-04-29",487,null,null,null,null,null,{"$f":"IF($V$2=\"\",\"\",SEARCH($V$2,$A485&\"\"&#REF!&\"\"&$D485&\"\"&$F485&\"\"&$I485&\"\"&$J485&\"\"&$K485))","v":""},{"$f":"IF($X$2=\"\",\"\",SEARCH($X$2,$A485&\" \"&#REF!&\" \"&$D485&\" \"&$F485&\" \"&$I485&\" \"&$J485&\" \"&$K485&\" \"&$O485&\" \"&$Q485&\" \"&$S485&\" \"&$U485&\" \"&$V485&\" \"&$W485&\" \"&$X485))","v":""},51]
[481,{"$f":"IF(C486=\"\",\"\",MAX($B$5:B485)+1)","v":481},"مراد 481","فريدة481","ثالثة","تسيير واقتصاد",1,"3تق1","12/2/2480","النخلة","ذ","محمد علي481","حي الإزدهار - البياضة",null,"2019-06-07",481,"2019-07-05",485,"2020-04-30",488,null,null,null,null,null,{"$f":"IF($V$2=\"\",\"\",SEARCH($V$2,$A486&\"\"&#REF!&\"\"&$D486&\"\"&$F486&\"\"&$I486&\"\"&$J486&\"\"&$K486))","v":""},{"$f":"IF($X$2=\"\",\"\",SEARCH($X$2,$A486&\" \"&#REF!&\" \"&$D486&\" \"&$F486&\" \"&$I486&\" \"&$J486&\" \"&$K486&\" \"&$O486&\" \"&$Q486&\" \"&$S486&\" \"&$U486&\" \"&$V486&\" \"&$W486&\" \"&$X486))","v":""},{"$error":"#VALUE!"}]
[482,{"$f":"IF(C487=\"\",\"\",MAX($B$5:B486)+1)","v":482},"مراد 482","فريدة482","ثالثة","تسيير واقتصاد",1,"3تق1","12/2/2481","البياضة","ذ","محمد علي482","حي السلام -البياضة",null,"2019-06-08",482,"2019-07-06",486,"2020-05-01",489,null,null,null,null,null,{"$f":"IF($V$2=\"\",\"\",SEARCH($V$2,$A487&\"\"&#REF!&\"\"&$D487&\"\"&$F487&\"\"&$I487&\"\"&$J487&\"\"&$K487))","v":""},{"$f":"IF($X$2=\"\",\"\",SEARCH($X$2,$A487&\" \"&#REF!&\" \"&$D487&\" \"&$F487&\" \"&$I487&\" \"&$J487&\" \"&$K487&\" \"&$O487&\" \"&$Q487&\" \"&$S487&\" \"&$U487&\" \"&$V487&\" \"&$W487&\" \"&$X487))","v":""},{"$error":"#VALUE!"}]
[483,{"$f":"IF(C488=\"\",\"\",MAX($B$5:B487)+1)","v":483},"مراد 483","فريدة483","ثالثة","تسيير واقتصاد",1,"3تق1","12/2/2482","البياضة","ذ","محمد علي483","حي الإزدهار - البياضة",null,"2019-06-09",483,"2019-07-07",487,"2020-05-02",490,null,null,null,null,null,{"$f":"IF($V$2=\"\",\"\",SEARCH($V$2,$A488&\"\"&#REF!&\"\"&$D488&\"\"&$F488&\"\"&$I488&\"\"&$J488&\"\"&$K488))","v":""},{"$f":"IF($X$2=\"\",\"\",SEARCH($X$2,$A488&\" \"&#REF!&\" \"&$D488&\" \"&$F488&\" \"&$I488&\" \"&$J488&\" \"&$K488&\" \"&$O488&\" \"&$Q488&\" \"&$S488&\" \"&$U488&\" \"&$V488&\" \"&$W488&\" \"&$X488))","v":""},{"$error":"#VALUE!"}]
[484,{"$f":"IF(C489=\"\",\"\",MAX($B$5:B488)+1)","v":484},"مراد 484","فريدة484","ثالثة","تسيير واقتصاد",1,"3تق1","12/2/2483","البياضة","ذ","محمد علي484","حي السلام -البياضة",null,"2019-06-10",484,"2019-07-08",488,"2020-05-03",491,null,null,null,null,null,{"$f":"IF($V$2=\"\",\"\",SEARCH($V$2,$A489&\"\"&#REF!&\"\"&$D489&\"\"&$F489&\"\"&$I489&\"\"&$J489&\"\"&$K489))","v":""},{"$f":"IF($X$2=\"\",\"\",SEARCH($X$2,$A489&\" \"&#REF!&\" \"&$D489&\" \"&$F489&\" \"&$I489&\" \"&$J489&\" \"&$K489&\" \"&$O489&\" \"&$Q489&\" \"&$S489&\" \"&$U489&\" \"&$V489&\" \"&$W489&\" \"&$X489))","v":""},{"$error":"#VALUE!"}]
[485,{"$f":"IF(C490=\"\",\"\",MAX($B$5:B489)+1)","v":485},"مراد 485","فريدة485","ثالثة","تسيير واقتصاد",1,"3تق1","12/2/2484","البياضة","ذ","محمد علي485","حي الإزدهار - البياضة",null,"2019-06-11",485,"2019-07-09",489,"2020-05-04",492,null,null,null,null,null,{"$f":"IF($V$2=\"\",\"\",SEARCH($V$2,$A490&\"\"&#REF!&\"\"&$D490&\"\"&$F490&\"\"&$I490&\"\"&$J490&\"\"&$K490))","v":""},{"$f":"IF($X$2=\"\",\"\",SEARCH($X$2,$A490&\" \"&#REF!&\" \"&$D490&\" \"&$F490&\" \"&$I490&\" \"&$J490&\" \"&$K490&\" \"&$O490&\" \"&$Q490&\" \"&$S490&\" \"&$U490&\" \"&$V490&\" \"&$W490&\" \"&$X490))","v":""},{"$error":"#VALUE!"}]
[486,{"$f":"IF(C491=\"\",\"\",MAX($B$5:B490)+1)","v":486},"مراد 486","فريدة486","ثالثة","تسيير واقتصاد",1,"3تق1","12/2/2485","البياضة","ذ","محمد علي486","حي السلام -البياضة",null,"2019-06-12",486,"2019-07-10",490,"2020-05-05",493,null,null,null,null,null,{"$f":"IF($V$2=\"\",\"\",SEARCH($V$2,$A491&\"\"&#REF!&\"\"&$D491&\"\"&$F491&\"\"&$I491&\"\"&$J491&\"\"&$K491))","v":""},{"$f":"IF($X$2=\"\",\"\",SEARCH($X$2,$A491&\" \"&#REF!&\" \"&$D491&\" \"&$F491&\" \"&$I491&\" \"&$J491&\" \"&$K491&\" \"&$O491&\" \"&$Q491&\" \"&$S491&\" \"&$U491&\" \"&$V491&\" \"&$W491&\" \"&$X491))","v":""},{"$error":"#VALUE!"}]
[487,{"$f":"IF(C492=\"\",\"\",MAX($B$5:B491)+1)","v":487},"مراد 487","فريدة487","ثالثة","تسيير واقتصاد",1,"3تق1","12/2/2486","البياضة","ذ","محمد علي487","حي الإزدهار - البياضة",null,"2019-06-13",487,"2019-07-11",491,"2020-05-06",494,null,null,null,null,null,{"$f":"IF($V$2=\"\",\"\",SEARCH($V$2,$A492&\"\"&#REF!&\"\"&$D492&\"\"&$F492&\"\"&$I492&\"\"&$J492&\"\"&$K492))","v":""},{"$f":"IF($X$2=\"\",\"\",SEARCH($X$2,$A492&\" \"&#REF!&\" \"&$D492&\" \"&$F492&\" \"&$I492&\" \"&$J492&\" \"&$K492&\" \"&$O492&\" \"&$Q492&\" \"&$S492&\" \"&$U492&\" \"&$V492&\" \"&$W492&\" \"&$X492))","v":""},{"$error":"#VALUE!"}]
[488,{"$f":"IF(C493=\"\",\"\",MAX($B$5:B492)+1)","v":488},"مراد 488","فريدة488","ثالثة","تسيير واقتصاد",1,"3تق1","12/2/2487","البياضة","ذ","محمد علي488","حي السلام -البياضة",null,"2019-06-14",488,"2019-07-12",492,"2020-05-07",495,null,null,null,null,null,{"$f":"IF($V$2=\"\",\"\",SEARCH($V$2,$A493&\"\"&#REF!&\"\"&$D493&\"\"&$F493&\"\"&$I493&\"\"&$J493&\"\"&$K493))","v":""},{"$f":"IF($X$2=\"\",\"\",SEARCH($X$2,$A493&\" \"&#REF!&\" \"&$D493&\" \"&$F493&\" \"&$I493&\" \"&$J493&\" \"&$K493&\" \"&$O493&\" \"&$Q493&\" \"&$S493&\" \"&$U493&\" \"&$V493&\" \"&$W493&\" \"&$X493))","v":""},{"$error":"#VALUE!"}]
[489,{"$f":"IF(C494=\"\",\"\",MAX($B$5:B493)+1)","v":489},"مراد 489","فريدة489","ثالثة","تسيير واقتصاد",1,"3تق1","12/2/2488","البياضة","ذ","محمد علي489","حي الإزدهار - البياضة",null,"2019-06-15",489,"2019-07-13",493,"2020-05-08",496,null,null,null,null,null,{"$f":"IF($V$2=\"\",\"\",SEARCH($V$2,$A494&\"\"&#REF!&\"\"&$D494&\"\"&$F494&\"\"&$I494&\"\"&$J494&\"\"&$K494))","v":""},{"$f":"IF($X$2=\"\",\"\",SEARCH($X$2,$A494&\" \"&#REF!&\" \"&$D494&\" \"&$F494&\" \"&$I494&\" \"&$J494&\" \"&$K494&\" \"&$O494&\" \"&$Q494&\" \"&$S494&\" \"&$U494&\" \"&$V494&\" \"&$W494&\" \"&$X494))","v":""},{"$error":"#VALUE!"}]
[490,{"$f":"IF(C495=\"\",\"\",MAX($B$5:B494)+1)","v":490},"مراد 490","فريدة490","ثالثة","تسيير واقتصاد",1,"3تق1","12/2/2489","بالبياضة","ذ","محمد علي490","حي السلام -البياضة",null,"2019-06-16",490,"2019-07-14",494,"2020-05-09",497,null,null,null,null,null,{"$f":"IF($V$2=\"\",\"\",SEARCH($V$2,$A495&\"\"&#REF!&\"\"&$D495&\"\"&$F495&\"\"&$I495&\"\"&$J495&\"\"&$K495))","v":""},{"$f":"IF($X$2=\"\",\"\",SEARCH($X$2,$A495&\" \"&#REF!&\" \"&$D495&\" \"&$F495&\" \"&$I495&\" \"&$J495&\" \"&$K495&\" \"&$O495&\" \"&$Q495&\" \"&$S495&\" \"&$U495&\" \"&$V495&\" \"&$W495&\" \"&$X495))","v":""},{"$error":"#VALUE!"}]
[491,{"$f":"IF(C496=\"\",\"\",MAX($B$5:B495)+1)","v":491},"مراد 491","فريدة491","ثالثة","تسيير واقتصاد",1,"3تق1","12/2/2490","البياضة","ذ","محمد علي491","حي الإزدهار - البياضة",null,"2019-06-17",491,"2019-07-15",495,"2020-05-10",498,null,null,null,null,null,{"$f":"IF($V$2=\"\",\"\",SEARCH($V$2,$A496&\"\"&#REF!&\"\"&$D496&\"\"&$F496&\"\"&$I496&\"\"&$J496&\"\"&$K496))","v":""},{"$f":"IF($X$2=\"\",\"\",SEARCH($X$2,$A496&\" \"&#REF!&\" \"&$D496&\" \"&$F496&\" \"&$I496&\" \"&$J496&\" \"&$K496&\" \"&$O496&\" \"&$Q496&\" \"&$S496&\" \"&$U496&\" \"&$V496&\" \"&$W496&\" \"&$X496))","v":""},{"$error":"#VALUE!"}]
[492,{"$f":"IF(C497=\"\",\"\",MAX($B$5:B496)+1)","v":492},"مراد 492","فريدة492","ثالثة","تسيير واقتصاد",1,"3تق1","12/2/2491","البياضة","ذ","محمد علي492","حي السلام -البياضة",null,"2019-06-18",492,"2019-07-16",496,"2020-05-11",499,null,null,null,null,null,{"$f":"IF($V$2=\"\",\"\",SEARCH($V$2,$A497&\"\"&#REF!&\"\"&$D497&\"\"&$F497&\"\"&$I497&\"\"&$J497&\"\"&$K497))","v":""},{"$f":"IF($X$2=\"\",\"\",SEARCH($X$2,$A497&\" \"&#REF!&\" \"&$D497&\" \"&$F497&\" \"&$I497&\" \"&$J497&\" \"&$K497&\" \"&$O497&\" \"&$Q497&\" \"&$S497&\" \"&$U497&\" \"&$V497&\" \"&$W497&\" \"&$X497))","v":""},{"$error":"#VALUE!"}]
[493,{"$f":"IF(C498=\"\",\"\",MAX($B$5:B497)+1)","v":493},"مراد 493","فريدة493","ثالثة","تسيير واقتصاد",1,"3تق1","12/2/2492","البياضة","ذ","محمد علي493","حي الإزدهار - البياضة",null,"2019-06-19",493,"2019-07-17",497,"2020-05-12",500,null,null,null,null,null,{"$f":"IF($V$2=\"\",\"\",SEARCH($V$2,$A498&\"\"&#REF!&\"\"&$D498&\"\"&$F498&\"\"&$I498&\"\"&$J498&\"\"&$K498))","v":""},{"$f":"IF($X$2=\"\",\"\",SEARCH($X$2,$A498&\" \"&#REF!&\" \"&$D498&\" \"&$F498&\" \"&$I498&\" \"&$J498&\" \"&$K498&\" \"&$O498&\" \"&$Q498&\" \"&$S498&\" \"&$U498&\" \"&$V498&\" \"&$W498&\" \"&$X498))","v":""},{"$error":"#VALUE!"}]
[494,{"$f":"IF(C499=\"\",\"\",MAX($B$5:B498)+1)","v":494},"مراد 494","فريدة494","ثالثة","تسيير واقتصاد",1,"3تق1","12/2/2493","البياضة","ذ","محمد علي494","حي السلام -البياضة",null,"2019-06-20",494,"2019-07-18",498,"2020-05-13",501,null,null,null,null,null,{"$f":"IF($V$2=\"\",\"\",SEARCH($V$2,$A499&\"\"&#REF!&\"\"&$D499&\"\"&$F499&\"\"&$I499&\"\"&$J499&\"\"&$K499))","v":""},{"$f":"IF($X$2=\"\",\"\",SEARCH($X$2,$A499&\" \"&#REF!&\" \"&$D499&\" \"&$F499&\" \"&$I499&\" \"&$J499&\" \"&$K499&\" \"&$O499&\" \"&$Q499&\" \"&$S499&\" \"&$U499&\" \"&$V499&\" \"&$W499&\" \"&$X499))","v":""},{"$error":"#VALUE!"}]
[495,{"$f":"IF(C500=\"\",\"\",MAX($B$5:B499)+1)","v":495},"مراد 495","فريدة495","ثالثة","تسيير واقتصاد",1,"3تق1","12/2/2494","البياضة","ذ","محمد علي495","حي الإزدهار - البياضة",null,"2019-06-21",495,"2019-07-19",499,"2020-05-14",502,null,null,null,null,null,{"$f":"IF($V$2=\"\",\"\",SEARCH($V$2,$A500&\"\"&#REF!&\"\"&$D500&\"\"&$F500&\"\"&$I500&\"\"&$J500&\"\"&$K500))","v":""},{"$f":"IF($X$2=\"\",\"\",SEARCH($X$2,$A500&\" \"&#REF!&\" \"&$D500&\" \"&$F500&\" \"&$I500&\" \"&$J500&\" \"&$K500&\" \"&$O500&\" \"&$Q500&\" \"&$S500&\" \"&$U500&\" \"&$V500&\" \"&$W500&\" \"&$X500))","v":""},{"$error":"#VALUE!"}]
[496,{"$f":"IF(C501=\"\",\"\",MAX($B$5:B500)+1)","v":496},"مراد 496","فريدة496","ثالثة","تسيير واقتصاد",1,"3تق1","12/2/2495","البياضة","ذ","محمد علي496","حي السلام -البياضة",null,"2019-06-22",496,"2019-07-20",500,"2020-05-15",503,null,null,null,null,null,{"$f":"IF($V$2=\"\",\"\",SEARCH($V$2,$A501&\"\"&#REF!&\"\"&$D501&\"\"&$F501&\"\"&$I501&\"\"&$J501&\"\"&$K501))","v":""},{"$f":"IF($X$2=\"\",\"\",SEARCH($X$2,$A501&\" \"&#REF!&\" \"&$D501&\" \"&$F501&\" \"&$I501&\" \"&$J501&\" \"&$K501&\" \"&$O501&\" \"&$Q501&\" \"&$S501&\" \"&$U501&\" \"&$V501&\" \"&$W501&\" \"&$X501))","v":""},{"$error":"#VALUE!"}]
[497,{"$f":"IF(C502=\"\",\"\",MAX($B$5:B501)+1)","v":497},"مراد 497","فريدة497","ثالثة","تسيير واقتصاد",1,"3تق1","12/2/2496","تبسة","ذ","محمد علي497","حي الإزدهار - البياضة",null,"2019-06-23",497,"2019-07-21",501,"2020-05-16",504,null,null,null,null,null,{"$f":"IF($V$2=\"\",\"\",SEARCH($V$2,$A502&\"\"&#REF!&\"\"&$D502&\"\"&$F502&\"\"&$I502&\"\"&$J502&\"\"&$K502))","v":""},{"$f":"IF($X$2=\"\",\"\",SEARCH($X$2,$A502&\" \"&#REF!&\" \"&$D502&\" \"&$F502&\" \"&$I502&\" \"&$J502&\" \"&$K502&\" \"&$O502&\" \"&$Q502&\" \"&$S502&\" \"&$U502&\" \"&$V502&\" \"&$W502&\" \"&$X502))","v":""},{"$error":"#VALUE!"}]
[498,{"$f":"IF(C503=\"\",\"\",MAX($B$5:B502)+1)","v":498},"مراد 498","فريدة498","ثالثة","تسيير واقتصاد",1,"3تق1","12/2/2497","البياضة","ذ","محمد علي498","حي السلام -البياضة",null,"2019-06-24",498,"2019-07-22",502,"2020-05-17",505,null,null,null,null,null,{"$f":"IF($V$2=\"\",\"\",SEARCH($V$2,$A503&\"\"&#REF!&\"\"&$D503&\"\"&$F503&\"\"&$I503&\"\"&$J503&\"\"&$K503))","v":""},{"$f":"IF($X$2=\"\",\"\",SEARCH($X$2,$A503&\" \"&#REF!&\" \"&$D503&\" \"&$F503&\" \"&$I503&\" \"&$J503&\" \"&$K503&\" \"&$O503&\" \"&$Q503&\" \"&$S503&\" \"&$U503&\" \"&$V503&\" \"&$W503&\" \"&$X503))","v":""},{"$error":"#VALUE!"}]
[499,{"$f":"IF(C504=\"\",\"\",MAX($B$5:B503)+1)","v":499},"مراد 499","فريدة499","ثالثة","تسيير واقتصاد",1,"3تق1","12/2/2498","البياضة","ذ","محمد علي499","حي الإزدهار - البياضة",null,"2019-06-25",499,"2019-07-23",503,"2020-05-18",506,null,null,null,null,null,{"$f":"IF($V$2=\"\",\"\",SEARCH($V$2,$A504&\"\"&#REF!&\"\"&$D504&\"\"&$F504&\"\"&$I504&\"\"&$J504&\"\"&$K504))","v":""},{"$f":"IF($X$2=\"\",\"\",SEARCH($X$2,$A504&\" \"&#REF!&\" \"&$D504&\" \"&$F504&\" \"&$I504&\" \"&$J504&\" \"&$K504&\" \"&$O504&\" \"&$Q504&\" \"&$S504&\" \"&$U504&\" \"&$V504&\" \"&$W504&\" \"&$X504))","v":""},{"$error":"#VALUE!"}]
[500,{"$f":"IF(C505=\"\",\"\",MAX($B$5:B504)+1)","v":500},"مراد 500","فريدة500","ثالثة","تسيير واقتصاد",1,"3تق1","12/2/2499","الوادي","ذ","محمد علي500","حي السلام -البياضة",null,"2019-06-26",500,"2019-07-24",504,"2020-05-19",507,null,null,null,null,null,{"$f":"IF($V$2=\"\",\"\",SEARCH($V$2,$A505&\"\"&#REF!&\"\"&$D505&\"\"&$F505&\"\"&$I505&\"\"&$J505&\"\"&$K505))","v":""},{"$f":"IF($X$2=\"\",\"\",SEARCH($X$2,$A505&\" \"&#REF!&\" \"&$D505&\" \"&$F505&\" \"&$I505&\" \"&$J505&\" \"&$K505&\" \"&$O505&\" \"&$Q505&\" \"&$S505&\" \"&$U505&\" \"&$V505&\" \"&$W505&\" \"&$X505))","v":""},51]
[501,{"$f":"IF(C506=\"\",\"\",MAX($B$5:B505)+1)","v":501},"مراد 501","فريدة501","ثالثة","تسيير واقتصاد",1,"3تق1","12/2/2500","الوادي","ذ","محمد علي501","حي الإزدهار - البياضة",null,"2019-06-27",501,"2019-07-25",505,"2020-05-20",508,null,null,null,null,null,{"$f":"IF($V$2=\"\",\"\",SEARCH($V$2,$A506&\"\"&#REF!&\"\"&$D506&\"\"&$F506&\"\"&$I506&\"\"&$J506&\"\"&$K506))","v":""},{"$f":"IF($X$2=\"\",\"\",SEARCH($X$2,$A506&\" \"&#REF!&\" \"&$D506&\" \"&$F506&\" \"&$I506&\" \"&$J506&\" \"&$K506&\" \"&$O506&\" \"&$Q506&\" \"&$S506&\" \"&$U506&\" \"&$V506&\" \"&$W506&\" \"&$X506))","v":""},51]
[502,{"$f":"IF(C507=\"\",\"\",MAX($B$5:B506)+1)","v":502},"مراد 502","فريدة502","ثالثة","تسيير واقتصاد",1,"3تق1","12/2/2501","البياضة","ذ","محمد علي502","حي السلام -البياضة",null,"2019-06-28",502,"2019-07-26",506,"2020-05-21",509,null,null,null,null,null,{"$f":"IF($V$2=\"\",\"\",SEARCH($V$2,$A507&\"\"&#REF!&\"\"&$D507&\"\"&$F507&\"\"&$I507&\"\"&$J507&\"\"&$K507))","v":""},{"$f":"IF($X$2=\"\",\"\",SEARCH($X$2,$A507&\" \"&#REF!&\" \"&$D507&\" \"&$F507&\" \"&$I507&\" \"&$J507&\" \"&$K507&\" \"&$O507&\" \"&$Q507&\" \"&$S507&\" \"&$U507&\" \"&$V507&\" \"&$W507&\" \"&$X507))","v":""},{"$error":"#VALUE!"}]
[503,{"$f":"IF(C508=\"\",\"\",MAX($B$5:B507)+1)","v":503},"مراد 503","فريدة503","ثالثة","تسيير واقتصاد",1,"3تق1","12/2/2502","ام الطيور","ذ","محمد علي503","حي الإزدهار - البياضة",null,"2019-06-29",503,"2019-07-27",507,"2020-05-22",510,null,null,null,null,null,{"$f":"IF($V$2=\"\",\"\",SEARCH($V$2,$A508&\"\"&#REF!&\"\"&$D508&\"\"&$F508&\"\"&$I508&\"\"&$J508&\"\"&$K508))","v":""},{"$f":"IF($X$2=\"\",\"\",SEARCH($X$2,$A508&\" \"&#REF!&\" \"&$D508&\" \"&$F508&\" \"&$I508&\" \"&$J508&\" \"&$K508&\" \"&$O508&\" \"&$Q508&\" \"&$S508&\" \"&$U508&\" \"&$V508&\" \"&$W508&\" \"&$X508))","v":""},{"$error":"#VALUE!"}]
[504,{"$f":"IF(C509=\"\",\"\",MAX($B$5:B508)+1)","v":504},"مراد 504","فريدة504","ثالثة","تسيير واقتصاد",1,"3تق1","12/2/2503","الوادي","ذ","محمد علي504","حي السلام -البياضة",null,"2019-06-30",504,"2019-07-28",508,"2020-05-23",511,null,null,null,null,null,{"$f":"IF($V$2=\"\",\"\",SEARCH($V$2,$A509&\"\"&#REF!&\"\"&$D509&\"\"&$F509&\"\"&$I509&\"\"&$J509&\"\"&$K509))","v":""},{"$f":"IF($X$2=\"\",\"\",SEARCH($X$2,$A509&\" \"&#REF!&\" \"&$D509&\" \"&$F509&\" \"&$I509&\" \"&$J509&\" \"&$K509&\" \"&$O509&\" \"&$Q509&\" \"&$S509&\" \"&$U509&\" \"&$V509&\" \"&$W509&\" \"&$X509))","v":""},51]
[505,{"$f":"IF(C510=\"\",\"\",MAX($B$5:B509)+1)","v":505},"مراد 505","فريدة505","ثالثة","تسيير واقتصاد",1,"3تق1","12/2/2504","الرباح","ذ","محمد علي505","حي الإزدهار - البياضة",null,"2019-07-01",505,"2019-07-29",509,"2020-05-24",512,null,null,null,null,null,{"$f":"IF($V$2=\"\",\"\",SEARCH($V$2,$A510&\"\"&#REF!&\"\"&$D510&\"\"&$F510&\"\"&$I510&\"\"&$J510&\"\"&$K510))","v":""},{"$f":"IF($X$2=\"\",\"\",SEARCH($X$2,$A510&\" \"&#REF!&\" \"&$D510&\" \"&$F510&\" \"&$I510&\" \"&$J510&\" \"&$K510&\" \"&$O510&\" \"&$Q510&\" \"&$S510&\" \"&$U510&\" \"&$V510&\" \"&$W510&\" \"&$X510))","v":""},{"$error":"#VALUE!"}]
[506,{"$f":"IF(C511=\"\",\"\",MAX($B$5:B510)+1)","v":506},"مراد 506","فريدة506","ثالثة","تسيير واقتصاد",1,"3تق1","12/2/2505","الرباح","ذ","محمد علي506","حي السلام -البياضة",null,"2019-07-02",506,"2019-07-30",510,"2020-05-25",513,null,null,null,null,null,{"$f":"IF($V$2=\"\",\"\",SEARCH($V$2,$A511&\"\"&#REF!&\"\"&$D511&\"\"&$F511&\"\"&$I511&\"\"&$J511&\"\"&$K511))","v":""},{"$f":"IF($X$2=\"\",\"\",SEARCH($X$2,$A511&\" \"&#REF!&\" \"&$D511&\" \"&$F511&\" \"&$I511&\" \"&$J511&\" \"&$K511&\" \"&$O511&\" \"&$Q511&\" \"&$S511&\" \"&$U511&\" \"&$V511&\" \"&$W511&\" \"&$X511))","v":""},{"$error":"#VALUE!"}]
[507,{"$f":"IF(C512=\"\",\"\",MAX($B$5:B511)+1)","v":507},"مراد 507","فريدة507","ثالثة","تسيير واقتصاد",1,"3تق1","12/2/2506","البياضة","ذ","محمد علي507","حي الإزدهار - البياضة",null,"2019-07-03",507,"2019-07-31",511,"2020-05-26",514,null,null,null,null,null,{"$f":"IF($V$2=\"\",\"\",SEARCH($V$2,$A512&\"\"&#REF!&\"\"&$D512&\"\"&$F512&\"\"&$I512&\"\"&$J512&\"\"&$K512))","v":""},{"$f":"IF($X$2=\"\",\"\",SEARCH($X$2,$A512&\" \"&#REF!&\" \"&$D512&\" \"&$F512&\" \"&$I512&\" \"&$J512&\" \"&$K512&\" \"&$O512&\" \"&$Q512&\" \"&$S512&\" \"&$U512&\" \"&$V512&\" \"&$W512&\" \"&$X512))","v":""},{"$error":"#VALUE!"}]
[508,{"$f":"IF(C513=\"\",\"\",MAX($B$5:B512)+1)","v":508},"مراد 508","فريدة508","ثالثة","تسيير واقتصاد",1,"3تق1","12/2/2507","البياضة","ذ","محمد علي508","حي السلام -البياضة",null,"2019-07-04",508,"2019-08-01",512,"2020-05-27",515,null,null,null,null,null,{"$f":"IF($V$2=\"\",\"\",SEARCH($V$2,$A513&\"\"&#REF!&\"\"&$D513&\"\"&$F513&\"\"&$I513&\"\"&$J513&\"\"&$K513))","v":""},{"$f":"IF($X$2=\"\",\"\",SEARCH($X$2,$A513&\" \"&#REF!&\" \"&$D513&\" \"&$F513&\" \"&$I513&\" \"&$J513&\" \"&$K513&\" \"&$O513&\" \"&$Q513&\" \"&$S513&\" \"&$U513&\" \"&$V513&\" \"&$W513&\" \"&$X513))","v":""},{"$error":"#VALUE!"}]
[509,{"$f":"IF(C514=\"\",\"\",MAX($B$5:B513)+1)","v":509},"مراد 509","فريدة509","ثالثة","تسيير واقتصاد",1,"3تق1","12/2/2508","البياضة","ذ","محمد علي509","حي الإزدهار - البياضة",null,"2019-07-05",509,"2019-08-02",513,"2020-05-28",516,null,null,null,null,null,{"$f":"IF($V$2=\"\",\"\",SEARCH($V$2,$A514&\"\"&#REF!&\"\"&$D514&\"\"&$F514&\"\"&$I514&\"\"&$J514&\"\"&$K514))","v":""},{"$f":"IF($X$2=\"\",\"\",SEARCH($X$2,$A514&\" \"&#REF!&\" \"&$D514&\" \"&$F514&\" \"&$I514&\" \"&$J514&\" \"&$K514&\" \"&$O514&\" \"&$Q514&\" \"&$S514&\" \"&$U514&\" \"&$V514&\" \"&$W514&\" \"&$X514))","v":""},{"$error":"#VALUE!"}]
[510,{"$f":"IF(C515=\"\",\"\",MAX($B$5:B514)+1)","v":510},"مراد 510","فريدة510","ثالثة","تسيير واقتصاد",1,"3تق1","12/2/2509","الوادي","ذ","محمد علي510","حي السلام -البياضة",null,"2019-07-06",510,"2019-08-03",514,"2020-05-29",517,null,null,null,null,null,{"$f":"IF($V$2=\"\",\"\",SEARCH($V$2,$A515&\"\"&#REF!&\"\"&$D515&\"\"&$F515&\"\"&$I515&\"\"&$J515&\"\"&$K515))","v":""},{"$f":"IF($X$2=\"\",\"\",SEARCH($X$2,$A515&\" \"&#REF!&\" \"&$D515&\" \"&$F515&\" \"&$I515&\" \"&$J515&\" \"&$K515&\" \"&$O515&\" \"&$Q515&\" \"&$S515&\" \"&$U515&\" \"&$V515&\" \"&$W515&\" \"&$X515))","v":""},51]
[511,{"$f":"IF(C516=\"\",\"\",MAX($B$5:B515)+1)","v":511},"مراد 511","فريدة511","ثالثة","تسيير واقتصاد",1,"3تق1","12/2/2510","البياضة","ذ","محمد علي511","حي الإزدهار - البياضة",null,"2019-07-07",511,"2019-08-04",515,"2020-05-30",518,null,null,null,null,null,{"$f":"IF($V$2=\"\",\"\",SEARCH($V$2,$A516&\"\"&#REF!&\"\"&$D516&\"\"&$F516&\"\"&$I516&\"\"&$J516&\"\"&$K516))","v":""},{"$f":"IF($X$2=\"\",\"\",SEARCH($X$2,$A516&\" \"&#REF!&\" \"&$D516&\" \"&$F516&\" \"&$I516&\" \"&$J516&\" \"&$K516&\" \"&$O516&\" \"&$Q516&\" \"&$S516&\" \"&$U516&\" \"&$V516&\" \"&$W516&\" \"&$X516))","v":""},{"$error":"#VALUE!"}]
[512,{"$f":"IF(C517=\"\",\"\",MAX($B$5:B516)+1)","v":512},"مراد 512","فريدة512","ثالثة","رياضيات",1,"3ريا1","12/2/2511","الوادي","ذ","محمد علي512","حي السلام -البياضة",null,"2019-07-08",512,"2019-08-05",516,"2020-05-31",519,null,null,null,null,null,{"$f":"IF($V$2=\"\",\"\",SEARCH($V$2,$A517&\"\"&#REF!&\"\"&$D517&\"\"&$F517&\"\"&$I517&\"\"&$J517&\"\"&$K517))","v":""},{"$f":"IF($X$2=\"\",\"\",SEARCH($X$2,$A517&\" \"&#REF!&\" \"&$D517&\" \"&$F517&\" \"&$I517&\" \"&$J517&\" \"&$K517&\" \"&$O517&\" \"&$Q517&\" \"&$S517&\" \"&$U517&\" \"&$V517&\" \"&$W517&\" \"&$X517))","v":""},46]
[513,{"$f":"IF(C518=\"\",\"\",MAX($B$5:B517)+1)","v":513},"مراد 513","فريدة513","ثالثة","رياضيات",1,"3ريا1","12/2/2512","البياضة","ذ","محمد علي513","حي الإزدهار - البياضة",null,"2019-07-09",513,"2019-08-06",517,"2020-06-01",520,null,null,null,null,null,{"$f":"IF($V$2=\"\",\"\",SEARCH($V$2,$A518&\"\"&#REF!&\"\"&$D518&\"\"&$F518&\"\"&$I518&\"\"&$J518&\"\"&$K518))","v":""},{"$f":"IF($X$2=\"\",\"\",SEARCH($X$2,$A518&\" \"&#REF!&\" \"&$D518&\" \"&$F518&\" \"&$I518&\" \"&$J518&\" \"&$K518&\" \"&$O518&\" \"&$Q518&\" \"&$S518&\" \"&$U518&\" \"&$V518&\" \"&$W518&\" \"&$X518))","v":""},{"$error":"#VALUE!"}]
[514,{"$f":"IF(C519=\"\",\"\",MAX($B$5:B518)+1)","v":514},"مراد 514","فريدة514","ثالثة","رياضيات",1,"3ريا1","12/2/2513","البياضة","ذ","محمد علي514","حي السلام -البياضة",null,"2019-07-10",514,"2019-08-07",518,"2020-06-02",521,null,null,null,null,null,{"$f":"IF($V$2=\"\",\"\",SEARCH($V$2,$A519&\"\"&#REF!&\"\"&$D519&\"\"&$F519&\"\"&$I519&\"\"&$J519&\"\"&$K519))","v":""},{"$f":"IF($X$2=\"\",\"\",SEARCH($X$2,$A519&\" \"&#REF!&\" \"&$D519&\" \"&$F519&\" \"&$I519&\" \"&$J519&\" \"&$K519&\" \"&$O519&\" \"&$Q519&\" \"&$S519&\" \"&$U519&\" \"&$V519&\" \"&$W519&\" \"&$X519))","v":""},{"$f":"IF($L$2=\"\",\"\",SEARCH($L$2,$A519&\" \"&$D519&\" \"&$E519&\" \"&$F519&\" \"&$G519&\" \"&$H519&\" \"&$I519&\" \"&$J519&\" \"&$K519&\" \"&$L519&\" \"&$N519&\" \"&$O519&\" \"&$P519&\" \"&$Q519&\" \"&$R519&\" \"&$S519&\" \"&$T519&\" \"&$U519&\" \"&$V519&\" \"&$W519&\" \"&$X519))","v":{"$error":"#VALUE!"}}]
[515,{"$f":"IF(C520=\"\",\"\",MAX($B$5:B519)+1)","v":515},"مراد 515","فريدة515","ثالثة","رياضيات",1,"3ريا1","12/2/2514","البياضة","ذ","محمد علي515","حي الإزدهار - البياضة",null,"2019-07-11",515,"2019-08-08",519,"2020-06-03",522,null,null,null,null,null,{"$f":"IF($V$2=\"\",\"\",SEARCH($V$2,$A520&\"\"&#REF!&\"\"&$D520&\"\"&$F520&\"\"&$I520&\"\"&$J520&\"\"&$K520))","v":""},{"$f":"IF($X$2=\"\",\"\",SEARCH($X$2,$A520&\" \"&#REF!&\" \"&$D520&\" \"&$F520&\" \"&$I520&\" \"&$J520&\" \"&$K520&\" \"&$O520&\" \"&$Q520&\" \"&$S520&\" \"&$U520&\" \"&$V520&\" \"&$W520&\" \"&$X520))","v":""},{"$error":"#VALUE!"}]
[516,{"$f":"IF(C521=\"\",\"\",MAX($B$5:B520)+1)","v":516},"مراد 516","فريدة516","ثالثة","رياضيات",1,"3ريا1","12/2/2515","الوادي","ذ","محمد علي516","حي السلام -البياضة",null,"2019-07-12",516,"2019-08-09",520,"2020-06-04",523,null,null,null,null,null,{"$f":"IF($V$2=\"\",\"\",SEARCH($V$2,$A521&\"\"&#REF!&\"\"&$D521&\"\"&$F521&\"\"&$I521&\"\"&$J521&\"\"&$K521))","v":""},{"$f":"IF($X$2=\"\",\"\",SEARCH($X$2,$A521&\" \"&#REF!&\" \"&$D521&\" \"&$F521&\" \"&$I521&\" \"&$J521&\" \"&$K521&\" \"&$O521&\" \"&$Q521&\" \"&$S521&\" \"&$U521&\" \"&$V521&\" \"&$W521&\" \"&$X521))","v":""},46]
[517,{"$f":"IF(C522=\"\",\"\",MAX($B$5:B521)+1)","v":517},"مراد 517","فريدة517","ثالثة","رياضيات",1,"3ريا1","12/2/2516","البياضة","ذ","محمد علي517","حي الإزدهار - البياضة",null,"2019-07-13",517,"2019-08-10",521,"2020-06-05",524,null,null,null,null,null,{"$f":"IF($V$2=\"\",\"\",SEARCH($V$2,$A522&\"\"&#REF!&\"\"&$D522&\"\"&$F522&\"\"&$I522&\"\"&$J522&\"\"&$K522))","v":""},{"$f":"IF($X$2=\"\",\"\",SEARCH($X$2,$A522&\" \"&#REF!&\" \"&$D522&\" \"&$F522&\" \"&$I522&\" \"&$J522&\" \"&$K522&\" \"&$O522&\" \"&$Q522&\" \"&$S522&\" \"&$U522&\" \"&$V522&\" \"&$W522&\" \"&$X522))","v":""},{"$error":"#VALUE!"}]
[518,{"$f":"IF(C523=\"\",\"\",MAX($B$5:B522)+1)","v":518},"مراد 518","فريدة518","ثالثة","رياضيات",1,"3ريا1","12/2/2517","البياضة","ذ","محمد علي518","حي السلام -البياضة",null,"2019-07-14",518,"2019-08-11",522,"2020-06-06",525,null,null,null,null,null,{"$f":"IF($V$2=\"\",\"\",SEARCH($V$2,$A523&\"\"&#REF!&\"\"&$D523&\"\"&$F523&\"\"&$I523&\"\"&$J523&\"\"&$K523))","v":""},{"$f":"IF($X$2=\"\",\"\",SEARCH($X$2,$A523&\" \"&#REF!&\" \"&$D523&\" \"&$F523&\" \"&$I523&\" \"&$J523&\" \"&$K523&\" \"&$O523&\" \"&$Q523&\" \"&$S523&\" \"&$U523&\" \"&$V523&\" \"&$W523&\" \"&$X523))","v":""},{"$error":"#VALUE!"}]
[519,{"$f":"IF(C524=\"\",\"\",MAX($B$5:B523)+1)","v":519},"مراد 519","فريدة519","ثالثة","رياضيات",1,"3ريا1","12/2/2518","البياضة","ذ","محمد علي519","حي الإزدهار - البياضة",null,"2019-07-15",519,"2019-08-12",523,"2020-06-07",526,null,null,null,null,null,{"$f":"IF($V$2=\"\",\"\",SEARCH($V$2,$A524&\"\"&#REF!&\"\"&$D524&\"\"&$F524&\"\"&$I524&\"\"&$J524&\"\"&$K524))","v":""},{"$f":"IF($X$2=\"\",\"\",SEARCH($X$2,$A524&\" \"&#REF!&\" \"&$D524&\" \"&$F524&\" \"&$I524&\" \"&$J524&\" \"&$K524&\" \"&$O524&\" \"&$Q524&\" \"&$S524&\" \"&$U524&\" \"&$V524&\" \"&$W524&\" \"&$X524))","v":""},{"$error":"#VALUE!"}]
[520,{"$f":"IF(C525=\"\",\"\",MAX($B$5:B524)+1)","v":520},"مراد 520","فريدة520","ثالثة","رياضيات",1,"3ريا1","12/2/2519","البياضة","ذ","محمد علي520","حي السلام -البياضة",null,"2019-07-16",520,"2019-08-13",524,"2020-06-08",527,null,null,null,null,null,{"$f":"IF($V$2=\"\",\"\",SEARCH($V$2,$A525&\"\"&#REF!&\"\"&$D525&\"\"&$F525&\"\"&$I525&\"\"&$J525&\"\"&$K525))","v":""},{"$f":"IF($X$2=\"\",\"\",SEARCH($X$2,$A525&\" \"&#REF!&\" \"&$D525&\" \"&$F525&\" \"&$I525&\" \"&$J525&\" \"&$K525&\" \"&$O525&\" \"&$Q525&\" \"&$S525&\" \"&$U525&\" \"&$V525&\" \"&$W525&\" \"&$X525))","v":""},{"$error":"#VALUE!"}]
[521,{"$f":"IF(C526=\"\",\"\",MAX($B$5:B525)+1)","v":521},"مراد 521","فريدة521","ثالثة","رياضيات",1,"3ريا1","12/2/2520","البياضة","ذ","محمد علي521","حي الإزدهار - البياضة",null,"2019-07-17",521,"2019-08-14",525,"2020-06-09",528,null,null,null,null,null,{"$f":"IF($V$2=\"\",\"\",SEARCH($V$2,$A526&\"\"&#REF!&\"\"&$D526&\"\"&$F526&\"\"&$I526&\"\"&$J526&\"\"&$K526))","v":""},{"$f":"IF($X$2=\"\",\"\",SEARCH($X$2,$A526&\" \"&#REF!&\" \"&$D526&\" \"&$F526&\" \"&$I526&\" \"&$J526&\" \"&$K526&\" \"&$O526&\" \"&$Q526&\" \"&$S526&\" \"&$U526&\" \"&$V526&\" \"&$W526&\" \"&$X526))","v":""},{"$error":"#VALUE!"}]
[522,{"$f":"IF(C527=\"\",\"\",MAX($B$5:B526)+1)","v":522},"مراد 522","فريدة522","ثالثة","رياضيات",1,"3ريا1","12/2/2521","البياضة","ذ","محمد علي522","حي السلام -البياضة",null,"2019-07-18",522,"2019-08-15",526,"2020-06-10",529,null,null,null,null,null,{"$f":"IF($V$2=\"\",\"\",SEARCH($V$2,$A527&\"\"&#REF!&\"\"&$D527&\"\"&$F527&\"\"&$I527&\"\"&$J527&\"\"&$K527))","v":""},{"$f":"IF($X$2=\"\",\"\",SEARCH($X$2,$A527&\" \"&#REF!&\" \"&$D527&\" \"&$F527&\" \"&$I527&\" \"&$J527&\" \"&$K527&\" \"&$O527&\" \"&$Q527&\" \"&$S527&\" \"&$U527&\" \"&$V527&\" \"&$W527&\" \"&$X527))","v":""},{"$error":"#VALUE!"}]
[523,{"$f":"IF(C528=\"\",\"\",MAX($B$5:B527)+1)","v":523},"مراد 523","فريدة523","ثالثة","رياضيات",1,"3ريا1","12/2/2522","الوادي","ذ","محمد علي523","حي الإزدهار - البياضة",null,"2019-07-19",523,"2019-08-16",527,"2020-06-11",530,null,null,null,null,null,{"$f":"IF($V$2=\"\",\"\",SEARCH($V$2,$A528&\"\"&#REF!&\"\"&$D528&\"\"&$F528&\"\"&$I528&\"\"&$J528&\"\"&$K528))","v":""},{"$f":"IF($X$2=\"\",\"\",SEARCH($X$2,$A528&\" \"&#REF!&\" \"&$D528&\" \"&$F528&\" \"&$I528&\" \"&$J528&\" \"&$K528&\" \"&$O528&\" \"&$Q528&\" \"&$S528&\" \"&$U528&\" \"&$V528&\" \"&$W528&\" \"&$X528))","v":""},46]
[524,{"$f":"IF(C529=\"\",\"\",MAX($B$5:B528)+1)","v":524},"مراد 524","فريدة524","ثالثة","رياضيات",1,"3ريا1","12/2/2523","البياضة","ذ","محمد علي524","حي السلام -البياضة",null,"2019-07-20",524,"2019-08-17",528,"2020-06-12",531,null,null,null,null,null,{"$f":"IF($V$2=\"\",\"\",SEARCH($V$2,$A529&\"\"&#REF!&\"\"&$D529&\"\"&$F529&\"\"&$I529&\"\"&$J529&\"\"&$K529))","v":""},{"$f":"IF($X$2=\"\",\"\",SEARCH($X$2,$A529&\" \"&#REF!&\" \"&$D529&\" \"&$F529&\" \"&$I529&\" \"&$J529&\" \"&$K529&\" \"&$O529&\" \"&$Q529&\" \"&$S529&\" \"&$U529&\" \"&$V529&\" \"&$W529&\" \"&$X529))","v":""},{"$error":"#VALUE!"}]
[525,{"$f":"IF(C530=\"\",\"\",MAX($B$5:B529)+1)","v":525},"مراد 525","فريدة525","ثالثة","رياضيات",1,"3ريا1","12/2/2524","الوادي","ذ","محمد علي525","حي الإزدهار - البياضة",null,"2019-07-21",525,"2019-08-18",529,"2020-06-13",532,null,null,null,null,null,{"$f":"IF($V$2=\"\",\"\",SEARCH($V$2,$A530&\"\"&#REF!&\"\"&$D530&\"\"&$F530&\"\"&$I530&\"\"&$J530&\"\"&$K530))","v":""},{"$f":"IF($X$2=\"\",\"\",SEARCH($X$2,$A530&\" \"&#REF!&\" \"&$D530&\" \"&$F530&\" \"&$I530&\" \"&$J530&\" \"&$K530&\" \"&$O530&\" \"&$Q530&\" \"&$S530&\" \"&$U530&\" \"&$V530&\" \"&$W530&\" \"&$X530))","v":""},46]
[526,{"$f":"IF(C531=\"\",\"\",MAX($B$5:B530)+1)","v":526},"مراد 526","فريدة526","ثالثة","رياضيات",1,"3ريا1","12/2/2525","الوادي","ذ","محمد علي526","حي السلام -البياضة",null,"2019-07-22",526,"2019-08-19",530,"2020-06-14",533,null,null,null,null,null,{"$f":"IF($V$2=\"\",\"\",SEARCH($V$2,$A531&\"\"&#REF!&\"\"&$D531&\"\"&$F531&\"\"&$I531&\"\"&$J531&\"\"&$K531))","v":""},{"$f":"IF($X$2=\"\",\"\",SEARCH($X$2,$A531&\" \"&#REF!&\" \"&$D531&\" \"&$F531&\" \"&$I531&\" \"&$J531&\" \"&$K531&\" \"&$O531&\" \"&$Q531&\" \"&$S531&\" \"&$U531&\" \"&$V531&\" \"&$W531&\" \"&$X531))","v":""},46]
[527,{"$f":"IF(C532=\"\",\"\",MAX($B$5:B531)+1)","v":527},"مراد 527","فريدة527","ثالثة","رياضيات",1,"3ريا1","12/2/2526","البياضة","ذ","محمد علي527","حي الإزدهار - البياضة",null,"2019-07-23",527,"2019-08-20",531,"2020-06-15",534,null,null,null,null,null,{"$f":"IF($V$2=\"\",\"\",SEARCH($V$2,$A532&\"\"&#REF!&\"\"&$D532&\"\"&$F532&\"\"&$I532&\"\"&$J532&\"\"&$K532))","v":""},{"$f":"IF($X$2=\"\",\"\",SEARCH($X$2,$A532&\" \"&#REF!&\" \"&$D532&\" \"&$F532&\" \"&$I532&\" \"&$J532&\" \"&$K532&\" \"&$O532&\" \"&$Q532&\" \"&$S532&\" \"&$U532&\" \"&$V532&\" \"&$W532&\" \"&$X532))","v":""},{"$error":"#VALUE!"}]
[528,{"$f":"IF(C533=\"\",\"\",MAX($B$5:B532)+1)","v":528},"مراد 528","فريدة528","ثالثة","رياضيات",1,"3ريا1","12/2/2527","البياضة","ذ","محمد علي528","حي السلام -البياضة",null,"2019-07-24",528,"2019-08-21",532,"2020-06-16",535,null,null,null,null,null,{"$f":"IF($V$2=\"\",\"\",SEARCH($V$2,$A533&\"\"&#REF!&\"\"&$D533&\"\"&$F533&\"\"&$I533&\"\"&$J533&\"\"&$K533))","v":""},{"$f":"IF($X$2=\"\",\"\",SEARCH($X$2,$A533&\" \"&#REF!&\" \"&$D533&\" \"&$F533&\" \"&$I533&\" \"&$J533&\" \"&$K533&\" \"&$O533&\" \"&$Q533&\" \"&$S533&\" \"&$U533&\" \"&$V533&\" \"&$W533&\" \"&$X533))","v":""},{"$error":"#VALUE!"}]
[529,{"$f":"IF(C534=\"\",\"\",MAX($B$5:B533)+1)","v":529},"مراد 529","فريدة529","ثالثة","تقني رياضي",1,"3هط1","12/2/2528","البياضة","ذ","محمد علي529","حي الإزدهار - البياضة",null,"2019-07-25",529,"2019-08-22",533,"2020-06-17",536,null,null,null,null,null,{"$f":"IF($V$2=\"\",\"\",SEARCH($V$2,$A534&\"\"&#REF!&\"\"&$D534&\"\"&$F534&\"\"&$I534&\"\"&$J534&\"\"&$K534))","v":""},{"$f":"IF($X$2=\"\",\"\",SEARCH($X$2,$A534&\" \"&#REF!&\" \"&$D534&\" \"&$F534&\" \"&$I534&\" \"&$J534&\" \"&$K534&\" \"&$O534&\" \"&$Q534&\" \"&$S534&\" \"&$U534&\" \"&$V534&\" \"&$W534&\" \"&$X534))","v":""},{"$error":"#VALUE!"}]
[530,{"$f":"IF(C535=\"\",\"\",MAX($B$5:B534)+1)","v":530},"مراد 530","فريدة530","ثالثة","تقني رياضي",1,"3هط1","12/2/2529","البياضة","ذ","محمد علي530","حي السلام -البياضة",null,"2019-07-26",530,"2019-08-23",534,"2020-06-18",537,null,null,null,null,null,{"$f":"IF($V$2=\"\",\"\",SEARCH($V$2,$A535&\"\"&#REF!&\"\"&$D535&\"\"&$F535&\"\"&$I535&\"\"&$J535&\"\"&$K535))","v":""},{"$f":"IF($X$2=\"\",\"\",SEARCH($X$2,$A535&\" \"&#REF!&\" \"&$D535&\" \"&$F535&\" \"&$I535&\" \"&$J535&\" \"&$K535&\" \"&$O535&\" \"&$Q535&\" \"&$S535&\" \"&$U535&\" \"&$V535&\" \"&$W535&\" \"&$X535))","v":""},{"$error":"#VALUE!"}]
[531,{"$f":"IF(C536=\"\",\"\",MAX($B$5:B535)+1)","v":531},"مراد 531","فريدة531","ثالثة","تقني رياضي",1,"3هط1","12/2/2530","البياضة","ذ","محمد علي531","حي الإزدهار - البياضة",null,"2019-07-27",531,"2019-08-24",535,"2020-06-19",538,null,null,null,null,null,{"$f":"IF($V$2=\"\",\"\",SEARCH($V$2,$A536&\"\"&#REF!&\"\"&$D536&\"\"&$F536&\"\"&$I536&\"\"&$J536&\"\"&$K536))","v":""},{"$f":"IF($X$2=\"\",\"\",SEARCH($X$2,$A536&\" \"&#REF!&\" \"&$D536&\" \"&$F536&\" \"&$I536&\" \"&$J536&\" \"&$K536&\" \"&$O536&\" \"&$Q536&\" \"&$S536&\" \"&$U536&\" \"&$V536&\" \"&$W536&\" \"&$X536))","v":""},{"$error":"#VALUE!"}]
[532,{"$f":"IF(C537=\"\",\"\",MAX($B$5:B536)+1)","v":532},"مراد 532","فريدة532","ثالثة","تقني رياضي",1,"3هط1","12/2/2531","الوادي","ذ","محمد علي532","حي السلام -البياضة",null,"2019-07-28",532,"2019-08-25",536,"2020-06-20",539,null,null,null,null,null,{"$f":"IF($V$2=\"\",\"\",SEARCH($V$2,$A537&\"\"&#REF!&\"\"&$D537&\"\"&$F537&\"\"&$I537&\"\"&$J537&\"\"&$K537))","v":""},{"$f":"IF($X$2=\"\",\"\",SEARCH($X$2,$A537&\" \"&#REF!&\" \"&$D537&\" \"&$F537&\" \"&$I537&\" \"&$J537&\" \"&$K537&\" \"&$O537&\" \"&$Q537&\" \"&$S537&\" \"&$U537&\" \"&$V537&\" \"&$W537&\" \"&$X537))","v":""},48]
[533,{"$f":"IF(C538=\"\",\"\",MAX($B$5:B537)+1)","v":533},"مراد 533","فريدة533","ثالثة","تقني رياضي",1,"3هط1","12/2/2532","الوادي","ذ","محمد علي533","حي الإزدهار - البياضة",null,"2019-07-29",533,"2019-08-26",537,"2020-06-21",540,null,null,null,null,null,{"$f":"IF($V$2=\"\",\"\",SEARCH($V$2,$A538&\"\"&#REF!&\"\"&$D538&\"\"&$F538&\"\"&$I538&\"\"&$J538&\"\"&$K538))","v":""},{"$f":"IF($X$2=\"\",\"\",SEARCH($X$2,$A538&\" \"&#REF!&\" \"&$D538&\" \"&$F538&\" \"&$I538&\" \"&$J538&\" \"&$K538&\" \"&$O538&\" \"&$Q538&\" \"&$S538&\" \"&$U538&\" \"&$V538&\" \"&$W538&\" \"&$X538))","v":""},48]
[534,{"$f":"IF(C539=\"\",\"\",MAX($B$5:B538)+1)","v":534},"مراد 534","فريدة534","ثالثة","تقني رياضي",1,"3هط1","12/2/2533","البياضة","ذ","محمد علي534","حي السلام -البياضة",null,"2019-07-30",534,"2019-08-27",538,"2020-06-22",541,null,null,null,null,null,{"$f":"IF($V$2=\"\",\"\",SEARCH($V$2,$A539&\"\"&#REF!&\"\"&$D539&\"\"&$F539&\"\"&$I539&\"\"&$J539&\"\"&$K539))","v":""},{"$f":"IF($X$2=\"\",\"\",SEARCH($X$2,$A539&\" \"&#REF!&\" \"&$D539&\" \"&$F539&\" \"&$I539&\" \"&$J539&\" \"&$K539&\" \"&$O539&\" \"&$Q539&\" \"&$S539&\" \"&$U539&\" \"&$V539&\" \"&$W539&\" \"&$X539))","v":""},{"$error":"#VALUE!"}]
[535,{"$f":"IF(C540=\"\",\"\",MAX($B$5:B539)+1)","v":535},"مراد 535","فريدة535","ثالثة","تقني رياضي",1,"3هط1","12/2/2534","البياضة","ذ","محمد علي535","حي الإزدهار - البياضة",null,"2019-07-31",535,"2019-08-28",539,"2020-06-23",542,null,null,null,null,null,{"$f":"IF($V$2=\"\",\"\",SEARCH($V$2,$A540&\"\"&#REF!&\"\"&$D540&\"\"&$F540&\"\"&$I540&\"\"&$J540&\"\"&$K540))","v":""},{"$f":"IF($X$2=\"\",\"\",SEARCH($X$2,$A540&\" \"&#REF!&\" \"&$D540&\" \"&$F540&\" \"&$I540&\" \"&$J540&\" \"&$K540&\" \"&$O540&\" \"&$Q540&\" \"&$S540&\" \"&$U540&\" \"&$V540&\" \"&$W540&\" \"&$X540))","v":""},{"$error":"#VALUE!"}]
[536,{"$f":"IF(C541=\"\",\"\",MAX($B$5:B540)+1)","v":536},"مراد 536","فريدة536","ثالثة","تقني رياضي",1,"3هط1","12/2/2535","البياضة","ذ","محمد علي536","حي السلام -البياضة",null,"2019-08-01",536,"2019-08-29",540,"2020-06-24",543,null,null,null,null,null,{"$f":"IF($V$2=\"\",\"\",SEARCH($V$2,$A541&\"\"&#REF!&\"\"&$D541&\"\"&$F541&\"\"&$I541&\"\"&$J541&\"\"&$K541))","v":""},{"$f":"IF($X$2=\"\",\"\",SEARCH($X$2,$A541&\" \"&#REF!&\" \"&$D541&\" \"&$F541&\" \"&$I541&\" \"&$J541&\" \"&$K541&\" \"&$O541&\" \"&$Q541&\" \"&$S541&\" \"&$U541&\" \"&$V541&\" \"&$W541&\" \"&$X541))","v":""},{"$error":"#VALUE!"}]
[537,{"$f":"IF(C542=\"\",\"\",MAX($B$5:B541)+1)","v":537},"مراد 537","فريدة537","ثالثة","تقني رياضي",1,"3هط1","12/2/2536","البياضة","ذ","محمد علي537","حي الإزدهار - البياضة",null,"2019-08-02",537,"2019-08-30",541,"2020-06-25",544,null,null,null,null,null,{"$f":"IF($V$2=\"\",\"\",SEARCH($V$2,$A542&\"\"&#REF!&\"\"&$D542&\"\"&$F542&\"\"&$I542&\"\"&$J542&\"\"&$K542))","v":""},{"$f":"IF($X$2=\"\",\"\",SEARCH($X$2,$A542&\" \"&#REF!&\" \"&$D542&\" \"&$F542&\" \"&$I542&\" \"&$J542&\" \"&$K542&\" \"&$O542&\" \"&$Q542&\" \"&$S542&\" \"&$U542&\" \"&$V542&\" \"&$W542&\" \"&$X542))","v":""},{"$error":"#VALUE!"}]
[538,{"$f":"IF(C543=\"\",\"\",MAX($B$5:B542)+1)","v":538},"مراد 538","فريدة538","ثالثة","تقني رياضي",1,"3هط1","12/2/2537","البياضة","ذ","محمد علي538","حي السلام -البياضة",null,"2019-08-03",538,"2019-08-31",542,"2020-06-26",545,null,null,null,null,null,{"$f":"IF($V$2=\"\",\"\",SEARCH($V$2,$A543&\"\"&#REF!&\"\"&$D543&\"\"&$F543&\"\"&$I543&\"\"&$J543&\"\"&$K543))","v":""},{"$f":"IF($X$2=\"\",\"\",SEARCH($X$2,$A543&\" \"&#REF!&\" \"&$D543&\" \"&$F543&\" \"&$I543&\" \"&$J543&\" \"&$K543&\" \"&$O543&\" \"&$Q543&\" \"&$S543&\" \"&$U543&\" \"&$V543&\" \"&$W543&\" \"&$X543))","v":""},{"$error":"#VALUE!"}]
[539,{"$f":"IF(C544=\"\",\"\",MAX($B$5:B543)+1)","v":539},"مراد 539","فريدة539","ثالثة","تقني رياضي",1,"3هط1","12/2/2538","البياضة","ذ","محمد علي539","حي الإزدهار - البياضة",null,"2019-08-04",539,"2019-09-01",543,"2020-06-27",546,null,null,null,null,null,{"$f":"IF($V$2=\"\",\"\",SEARCH($V$2,$A544&\"\"&#REF!&\"\"&$D544&\"\"&$F544&\"\"&$I544&\"\"&$J544&\"\"&$K544))","v":""},{"$f":"IF($X$2=\"\",\"\",SEARCH($X$2,$A544&\" \"&#REF!&\" \"&$D544&\" \"&$F544&\" \"&$I544&\" \"&$J544&\" \"&$K544&\" \"&$O544&\" \"&$Q544&\" \"&$S544&\" \"&$U544&\" \"&$V544&\" \"&$W544&\" \"&$X544))","v":""},{"$error":"#VALUE!"}]
[540,{"$f":"IF(C545=\"\",\"\",MAX($B$5:B544)+1)","v":540},"مراد 540","فريدة540","ثالثة","تقني رياضي",1,"3هط1","12/2/2539","البياضة","ذ","محمد علي540","حي السلام -البياضة",null,"2019-08-05",540,"2019-09-02",544,"2020-06-28",547,null,null,null,null,null,{"$f":"IF($V$2=\"\",\"\",SEARCH($V$2,$A545&\"\"&#REF!&\"\"&$D545&\"\"&$F545&\"\"&$I545&\"\"&$J545&\"\"&$K545))","v":""},{"$f":"IF($X$2=\"\",\"\",SEARCH($X$2,$A545&\" \"&#REF!&\" \"&$D545&\" \"&$F545&\" \"&$I545&\" \"&$J545&\" \"&$K545&\" \"&$O545&\" \"&$Q545&\" \"&$S545&\" \"&$U545&\" \"&$V545&\" \"&$W545&\" \"&$X545))","v":""},{"$error":"#VALUE!"}]
[541,{"$f":"IF(C546=\"\",\"\",MAX($B$5:B545)+1)","v":541},"مراد 541","فريدة541","ثالثة","تقني رياضي",1,"3هط1","12/2/2540","الوادي","ذ","محمد علي541","حي الإزدهار - البياضة",null,"2019-08-06",541,"2019-09-03",545,"2020-06-29",548,null,null,null,null,null,{"$f":"IF($V$2=\"\",\"\",SEARCH($V$2,$A546&\"\"&#REF!&\"\"&$D546&\"\"&$F546&\"\"&$I546&\"\"&$J546&\"\"&$K546))","v":""},{"$f":"IF($X$2=\"\",\"\",SEARCH($X$2,$A546&\" \"&#REF!&\" \"&$D546&\" \"&$F546&\" \"&$I546&\" \"&$J546&\" \"&$K546&\" \"&$O546&\" \"&$Q546&\" \"&$S546&\" \"&$U546&\" \"&$V546&\" \"&$W546&\" \"&$X546))","v":""},48]
[542,{"$f":"IF(C547=\"\",\"\",MAX($B$5:B546)+1)","v":542},"مراد 542","فريدة542","ثالثة","تقني رياضي",1,"3هط1","12/2/2541","البياضة","ذ","محمد علي542","حي السلام -البياضة",null,"2019-08-07",542,"2019-09-04",546,"2020-06-30",549,null,null,null,null,null,{"$f":"IF($V$2=\"\",\"\",SEARCH($V$2,$A547&\"\"&#REF!&\"\"&$D547&\"\"&$F547&\"\"&$I547&\"\"&$J547&\"\"&$K547))","v":""},{"$f":"IF($X$2=\"\",\"\",SEARCH($X$2,$A547&\" \"&#REF!&\" \"&$D547&\" \"&$F547&\" \"&$I547&\" \"&$J547&\" \"&$K547&\" \"&$O547&\" \"&$Q547&\" \"&$S547&\" \"&$U547&\" \"&$V547&\" \"&$W547&\" \"&$X547))","v":""},{"$error":"#VALUE!"}]
[543,{"$f":"IF(C548=\"\",\"\",MAX($B$5:B547)+1)","v":543},"مراد 543","فريدة543","ثالثة","تقني رياضي",1,"3هط1","12/2/2542","الوادي","ذ","محمد علي543","حي الإزدهار - البياضة",null,"2019-08-08",543,"2019-09-05",547,"2020-07-01",550,null,null,null,null,null,{"$f":"IF($V$2=\"\",\"\",SEARCH($V$2,$A548&\"\"&#REF!&\"\"&$D548&\"\"&$F548&\"\"&$I548&\"\"&$J548&\"\"&$K548))","v":""},{"$f":"IF($X$2=\"\",\"\",SEARCH($X$2,$A548&\" \"&#REF!&\" \"&$D548&\" \"&$F548&\" \"&$I548&\" \"&$J548&\" \"&$K548&\" \"&$O548&\" \"&$Q548&\" \"&$S548&\" \"&$U548&\" \"&$V548&\" \"&$W548&\" \"&$X548))","v":""},48]
[544,{"$f":"IF(C549=\"\",\"\",MAX($B$5:B548)+1)","v":544},"مراد 544","فريدة544",null,null,null,null,null,null,"ذ",null,"حي السلام -البياضة",null,null,null,"2019-09-06",null,null,null,null,null,null,null,null,null,null,{"$error":"#VALUE!"}]
[545,{"$f":"IF(C550=\"\",\"\",MAX($B$5:B549)+1)","v":545},"مراد 545","فريدة545",null,null,null,null,null,null,"ذ",null,"حي الإزدهار - البياضة",null,null,null,"2019-09-07",null,null,null,null,null,null,null,null,null,null,{"$error":"#VALUE!"}]
[546,{"$f":"IF(C551=\"\",\"\",MAX($B$5:B550)+1)","v":546},"مراد 546","فريدة546",null,null,null,null,null,null,"ذ",null,"حي السلام -البياضة",null,null,null,"2019-09-08",null,null,null,null,null,null,null,null,null,null,{"$error":"#VALUE!"}]
[547,{"$f":"IF(C552=\"\",\"\",MAX($B$5:B551)+1)","v":547},"مراد 547","فريدة547",null,null,null,null,null,null,"ذ",null,"حي الإزدهار - البياضة",null,null,null,"2019-09-09",null,null,null,null,null,null,null,null,null,null,{"$error":"#VALUE!"}]
[548,{"$f":"IF(C553=\"\",\"\",MAX($B$5:B552)+1)","v":548},"مراد 548","فريدة548",null,null,null,null,null,null,"ذ",null,"حي السلام -البياضة",null,null,null,"2019-09-10",null,null,null,null,null,null,null,null,null,null,{"$error":"#VALUE!"}]
[549,{"$f":"IF(C554=\"\",\"\",MAX($B$5:B553)+1)","v":549},"مراد 549","فريدة549",null,null,null,null,null,null,"ذ",null,"حي الإزدهار - البياضة",null,null,null,"2019-09-11",null,null,null,null,null,null,null,null,null,null,{"$error":"#VALUE!"}]
[550,{"$f":"IF(C555=\"\",\"\",MAX($B$5:B554)+1)","v":550},"مراد 550","فريدة550",null,null,null,null,null,null,"ذ",null,"حي السلام -البياضة",null,null,null,"2019-09-12",null,null,null,null,null,null,null,null,null,null,{"$error":"#VALUE!"}]
[551,{"$f":"IF(C556=\"\",\"\",MAX($B$5:B555)+1)","v":551},"مراد 551","فريدة551",null,null,null,null,null,null,"ذ",null,"حي الإزدهار - البياضة",null,null,null,"2019-09-13",null,null,null,null,null,null,null,null,null,null,{"$error":"#VALUE!"}]
[552,{"$f":"IF(C557=\"\",\"\",MAX($B$5:B556)+1)","v":552},"مراد 552","فريدة552",null,null,null,null,null,null,"ذ",null,"حي السلام -البياضة",null,null,null,"2019-09-14",null,null,null,null,null,null,null,null,null,null,{"$error":"#VALUE!"}]
[553,{"$f":"IF(C558=\"\",\"\",MAX($B$5:B557)+1)","v":553},"مراد 553","فريدة553",null,null,null,null,null,null,"ذ",null,"حي الإزدهار - البياضة",null,null,null,"2019-09-15",null,null,null,null,null,null,null,null,null,null,{"$error":"#VALUE!"}]
[554,{"$f":"IF(C559=\"\",\"\",MAX($B$5:B558)+1)","v":554},"مراد 554","فريدة554",null,null,null,null,null,null,"ذ",null,"حي السلام -البياضة",null,null,null,"2019-09-16",null,null,null,null,null,null,null,null,null,null,{"$error":"#VALUE!"}]
[555,{"$f":"IF(C560=\"\",\"\",MAX($B$5:B559)+1)","v":555},"مراد 555","فريدة555",null,null,null,null,null,null,"ذ",null,"حي الإزدهار - البياضة",null,null,null,"2019-09-17",null,null,null,null,null,null,null,null,null,null,{"$error":"#VALUE!"}]
[556,{"$f":"IF(C561=\"\",\"\",MAX($B$5:B560)+1)","v":556},"مراد 556","فريدة556",null,null,null,null,null,null,"ذ",null,"حي السلام -البياضة",null,null,null,"2019-09-18",null,null,null,null,null,null,null,null,null,null,{"$error":"#VALUE!"}]
[557,{"$f":"IF(C562=\"\",\"\",MAX($B$5:B561)+1)","v":557},"مراد 557","فريدة557",null,null,null,null,null,null,"ذ",null,"حي الإزدهار - البياضة",null,null,null,"2019-09-19",null,null,null,null,null,null,null,null,null,null,{"$error":"#VALUE!"}]
[558,{"$f":"IF(C563=\"\",\"\",MAX($B$5:B562)+1)","v":558},"مراد 558","فريدة558",null,null,null,null,null,null,"ذ",null,"حي السلام -البياضة",null,null,null,"2019-09-20",null,null,null,null,null,null,null,null,null,null,{"$error":"#VALUE!"}]
[559,{"$f":"IF(C564=\"\",\"\",MAX($B$5:B563)+1)","v":559},"مراد 559","فريدة559",null,null,null,null,null,null,"ذ",null,"حي الإزدهار - البياضة",null,null,null,"2019-09-21",null,null,null,null,null,null,null,null,null,null,{"$error":"#VALUE!"}]
[560,{"$f":"IF(C565=\"\",\"\",MAX($B$5:B564)+1)","v":560},"مراد 560","فريدة560",null,null,null,null,null,null,"ذ",null,"حي السلام -البياضة",null,null,null,"2019-09-22",null,null,null,null,null,null,null,null,null,null,{"$error":"#VALUE!"}]
[561,{"$f":"IF(C566=\"\",\"\",MAX($B$5:B565)+1)","v":561},"مراد 561","فريدة561",null,null,null,null,null,null,"ذ",null,"حي الإزدهار - البياضة",null,null,null,"2019-09-23",null,null,null,null,null,null,null,null,null,null,{"$error":"#VALUE!"}]
[562,{"$f":"IF(C567=\"\",\"\",MAX($B$5:B566)+1)","v":562},"مراد 562","فريدة562",null,null,null,null,null,null,"ذ",null,"حي السلام -البياضة",null,null,null,"2019-09-24",null,null,null,null,null,null,null,null,null,null,{"$error":"#VALUE!"}]
[563,{"$f":"IF(C568=\"\",\"\",MAX($B$5:B567)+1)","v":563},"مراد 563","فريدة563",null,null,null,null,null,null,"ذ",null,"حي الإزدهار - البياضة",null,null,null,"2019-09-25",null,null,null,null,null,null,null,null,null,null,{"$error":"#VALUE!"}]
[564,{"$f":"IF(C569=\"\",\"\",MAX($B$5:B568)+1)","v":564},"مراد 564","فريدة564",null,null,null,null,null,null,"ذ",null,"حي السلام -البياضة",null,null,null,"2019-09-26",null,null,null,null,null,null,null,null,null,null,{"$error":"#VALUE!"}]
[565,{"$f":"IF(C570=\"\",\"\",MAX($B$5:B569)+1)","v":565},"مراد 565","فريدة565",null,null,null,null,null,null,"ذ",null,"حي الإزدهار - البياضة",null,null,null,"2019-09-27",null,null,null,null,null,null,null,null,null,null,{"$error":"#VALUE!"}]
[566,{"$f":"IF(C571=\"\",\"\",MAX($B$5:B570)+1)","v":566},"مراد 566","فريدة566",null,null,null,null,null,null,"ذ",null,"حي السلام -البياضة",null,null,null,"2019-09-28",null,null,null,null,null,null,null,null,null,null,{"$error":"#VALUE!"}]
[567,{"$f":"IF(C572=\"\",\"\",MAX($B$5:B571)+1)","v":567},"مراد 567","فريدة567",null,null,null,null,null,null,"ذ",null,"حي الإزدهار - البياضة",null,null,null,"2019-09-29",null,null,null,null,null,null,null,null,null,null,{"$error":"#VALUE!"}]
[568,{"$f":"IF(C573=\"\",\"\",MAX($B$5:B572)+1)","v":568},"مراد 568","فريدة568",null,null,null,null,null,null,"ذ",null,"حي السلام -البياضة",null,null,null,"2019-09-30",null,null,null,null,null,null,null,null,null,null,{"$error":"#VALUE!"}]
[569,{"$f":"IF(C574=\"\",\"\",MAX($B$5:B573)+1)","v":569},"مراد 569","فريدة569",null,null,null,null,null,null,"ذ",null,"حي الإزدهار - البياضة",null,null,null,"2019-10-01",null,null,null,null,null,null,null,null,null,null,{"$error":"#VALUE!"}]
[570,{"$f":"IF(C575=\"\",\"\",MAX($B$5:B574)+1)","v":570},"مراد 570","فريدة570",null,null,null,null,null,null,"ذ",null,"حي السلام -البياضة",null,null,null,"2019-10-02",null,null,null,null,null,null,null,null,null,null,{"$error":"#VALUE!"}]
[571,{"$f":"IF(C576=\"\",\"\",MAX($B$5:B575)+1)","v":571},"مراد 571","فريدة571",null,null,null,null,null,null,"ذ",null,"حي الإزدهار - البياضة",null,null,null,"2019-10-03",null,null,null,null,null,null,null,null,null,null,{"$error":"#VALUE!"}]
[572,{"$f":"IF(C577=\"\",\"\",MAX($B$5:B576)+1)","v":572},"مراد 572","فريدة572",null,null,null,null,null,null,"ذ",null,"حي السلام -البياضة",null,null,null,"2019-10-04",null,null,null,null,null,null,null,null,null,null,{"$error":"#VALUE!"}]
[573,{"$f":"IF(C578=\"\",\"\",MAX($B$5:B577)+1)","v":573},"مراد 573","فريدة573",null,null,null,null,null,null,"ذ",null,"حي الإزدهار - البياضة",null,null,null,"2019-10-05",null,null,null,null,null,null,null,null,null,null,{"$error":"#VALUE!"}]
[574,{"$f":"IF(C579=\"\",\"\",MAX($B$5:B578)+1)","v":574},"مراد 574","فريدة574",null,null,null,null,null,null,"ذ",null,"حي السلام -البياضة",null,null,null,"2019-10-06",null,null,null,null,null,null,null,null,null,null,{"$error":"#VALUE!"}]
[575,{"$f":"IF(C580=\"\",\"\",MAX($B$5:B579)+1)","v":575},"مراد 575","فريدة575",null,null,null,null,null,null,"ذ",null,"حي الإزدهار - البياضة",null,null,null,"2019-10-07",null,null,null,null,null,null,null,null,null,null,{"$error":"#VALUE!"}]
[576,{"$f":"IF(C581=\"\",\"\",MAX($B$5:B580)+1)","v":576},"مراد 576","فريدة576",null,null,null,null,null,null,"ذ",null,"حي السلام -البياضة",null,null,null,"2019-10-08",null,null,null,null,null,null,null,null,null,null,{"$error":"#VALUE!"}]
[577,{"$f":"IF(C582=\"\",\"\",MAX($B$5:B581)+1)","v":577},"مراد 577","فريدة577",null,null,null,null,null,null,"ذ",null,"حي الإزدهار - البياضة",null,null,null,"2019-10-09",null,null,null,null,null,null,null,null,null,null,{"$error":"#VALUE!"}]
[578,{"$f":"IF(C583=\"\",\"\",MAX($B$5:B582)+1)","v":578},"مراد 578","فريدة578",null,null,null,null,null,null,"ذ",null,"حي السلام -البياضة",null,null,null,"2019-10-10",null,null,null,null,null,null,null,null,null,null,{"$f":"IF($L$2=\"\",\"\",SEARCH($L$2,$A583&\" \"&$D583&\" \"&$E583&\" \"&$F583&\" \"&$G583&\" \"&$H583&\" \"&$I583&\" \"&$J583&\" \"&$K583&\" \"&$L583&\" \"&$N583&\" \"&$O583&\" \"&$P583&\" \"&$Q583&\" \"&$R583&\" \"&$S583&\" \"&$T583&\" \"&$U583&\" \"&$V583&\" \"&$W583&\" \"&$X583))","v":{"$error":"#VALUE!"}}]
[579,{"$f":"IF(C584=\"\",\"\",MAX($B$5:B583)+1)","v":579},"مراد 579","فريدة579",null,null,null,null,null,null,"ذ",null,"حي الإزدهار - البياضة",null,null,null,"2019-10-11",null,null,null,null,null,null,null,null,null,null,{"$error":"#VALUE!"}]
[580,{"$f":"IF(C585=\"\",\"\",MAX($B$5:B584)+1)","v":580},"مراد 580","فريدة580",null,null,null,null,null,null,"ذ",null,"حي السلام -البياضة",null,null,null,"2019-10-12",null,null,null,null,null,null,null,null,null,null,{"$error":"#VALUE!"}]
[581,{"$f":"IF(C586=\"\",\"\",MAX($B$5:B585)+1)","v":581},"مراد 581","فريدة581",null,null,null,null,null,null,"ذ",null,"حي الإزدهار - البياضة",null,null,null,"2019-10-13",null,null,null,null,null,null,null,null,null,null,{"$error":"#VALUE!"}]
[582,{"$f":"IF(C587=\"\",\"\",MAX($B$5:B586)+1)","v":582},"مراد 582","فريدة582",null,null,null,null,null,null,"ذ",null,"حي السلام -البياضة",null,null,null,"2019-10-14",null,null,null,null,null,null,null,null,null,null,{"$error":"#VALUE!"}]
[583,{"$f":"IF(C588=\"\",\"\",MAX($B$5:B587)+1)","v":583},"مراد 583","فريدة583",null,null,null,null,null,null,"ذ",null,"حي الإزدهار - البياضة",null,null,null,"2019-10-15",null,null,null,null,null,null,null,null,null,null,{"$error":"#VALUE!"}]
[584,{"$f":"IF(C589=\"\",\"\",MAX($B$5:B588)+1)","v":584},"مراد 584","فريدة584",null,null,null,null,null,null,"ذ",null,"حي السلام -البياضة",null,null,null,"2019-10-16",null,null,null,null,null,null,null,null,null,null,{"$error":"#VALUE!"}]
[585,{"$f":"IF(C590=\"\",\"\",MAX($B$5:B589)+1)","v":585},"مراد 585","فريدة585",null,null,null,null,null,null,"ذ",null,"حي الإزدهار - البياضة",null,null,null,"2019-10-17",null,null,null,null,null,null,null,null,null,null,{"$error":"#VALUE!"}]
[586,{"$f":"IF(C591=\"\",\"\",MAX($B$5:B590)+1)","v":586},"مراد 586","فريدة586",null,null,null,null,null,null,"ذ",null,"حي السلام -البياضة",null,null,null,"2019-10-18",null,null,null,null,null,null,null,null,null,null,{"$error":"#VALUE!"}]
[587,{"$f":"IF(C592=\"\",\"\",MAX($B$5:B591)+1)","v":587},"مراد 587","فريدة587",null,null,null,null,null,null,"ذ",null,"حي الإزدهار - البياضة",null,null,null,"2019-10-19",null,null,null,null,null,null,null,null,null,null,{"$error":"#VALUE!"}]
[588,{"$f":"IF(C593=\"\",\"\",MAX($B$5:B592)+1)","v":588},"مراد 588","فريدة588",null,null,null,null,null,null,"ذ",null,"حي السلام -البياضة",null,null,null,"2019-10-20",null,null,null,null,null,null,null,null,null,null,{"$error":"#VALUE!"}]
[589,{"$f":"IF(C594=\"\",\"\",MAX($B$5:B593)+1)","v":589},"مراد 589","فريدة589",null,null,null,null,null,null,"ذ",null,"حي الإزدهار - البياضة",null,null,null,"2019-10-21",null,null,null,null,null,null,null,null,null,null,{"$error":"#VALUE!"}]
[590,{"$f":"IF(C595=\"\",\"\",MAX($B$5:B594)+1)","v":590},"مراد 590","فريدة590",null,null,null,null,null,null,"ذ",null,"حي السلام -البياضة",null,null,null,"2019-10-22",null,null,null,null,null,null,null,null,null,null,{"$error":"#VALUE!"}]
[591,{"$f":"IF(C596=\"\",\"\",MAX($B$5:B595)+1)","v":591},"مراد 591","فريدة591",null,null,null,null,null,null,"ذ",null,"حي الإزدهار - البياضة",null,null,null,"2019-10-23",null,null,null,null,null,null,null,null,null,null,{"$error":"#VALUE!"}]
[592,{"$f":"IF(C597=\"\",\"\",MAX($B$5:B596)+1)","v":592},"مراد 592","فريدة592",null,null,null,null,null,null,"ذ",null,"حي السلام -البياضة",null,null,null,"2019-10-24",null,null,null,null,null,null,null,null,null,null,{"$error":"#VALUE!"}]
[593,{"$f":"IF(C598=\"\",\"\",MAX($B$5:B597)+1)","v":593},"مراد 593","فريدة593",null,null,null,null,null,null,"ذ",null,"حي الإزدهار - البياضة",null,null,null,"2019-10-25",null,null,null,null,null,null,null,null,null,null,{"$error":"#VALUE!"}]
[594,{"$f":"IF(C599=\"\",\"\",MAX($B$5:B598)+1)","v":594},"مراد 594","فريدة594",null,null,null,null,null,null,"ذ",null,"حي السلام -البياضة",null,null,null,"2019-10-26",null,null,null,null,null,null,null,null,null,null,{"$error":"#VALUE!"}]
[595,{"$f":"IF(C600=\"\",\"\",MAX($B$5:B599)+1)","v":595},"مراد 595","فريدة595",null,null,null,null,null,null,"ذ",null,"حي الإزدهار - البياضة",null,null,null,"2019-10-27",null,null,null,null,null,null,null,null,null,null,{"$error":"#VALUE!"}]
[596,{"$f":"IF(C601=\"\",\"\",MAX($B$5:B600)+1)","v":596},"مراد 596","فريدة596",null,null,null,null,null,null,"ذ",null,"حي السلام -البياضة",null,null,null,"2019-10-28",null,null,null,null,null,null,null,null,null,null,{"$error":"#VALUE!"}]
[597,{"$f":"IF(C602=\"\",\"\",MAX($B$5:B601)+1)","v":597},"مراد 597","فريدة597",null,null,null,null,null,null,"ذ",null,"حي الإزدهار - البياضة",null,null,null,"2019-10-29",null,null,null,null,null,null,null,null,null,null,{"$error":"#VALUE!"}]
[598,{"$f":"IF(C603=\"\",\"\",MAX($B$5:B602)+1)","v":598},"مراد 598","فريدة598",null,null,null,null,null,null,"ذ",null,"حي السلام -البياضة",null,null,null,"2019-10-30",null,null,null,null,null,null,null,null,null,null,{"$error":"#VALUE!"}]
[599,{"$f":"IF(C604=\"\",\"\",MAX($B$5:B603)+1)","v":599},"مراد 599","فريدة599",null,null,null,null,null,null,"ذ",null,"حي الإزدهار - البياضة",null,null,null,"2019-10-31",null,null,null,null,null,null,null,null,null,null,{"$error":"#VALUE!"}]
[600,{"$f":"IF(C605=\"\",\"\",MAX($B$5:B604)+1)","v":600},"مراد 600","فريدة600",null,null,null,null,null,null,"ذ",null,"حي السلام -البياضة",null,null,null,"2019-11-01",null,null,null,null,null,null,null,null,null,null,{"$error":"#VALUE!"}]

{"sheet":"Single","index":6,"n_rows":27,"n_cols":40,"rows_kept":27,"cut":false,"hidden":false,"merged":[[0,0,0,5],[1,0,1,5],[6,0,6,1],[7,0,7,1]]}
["الجمهورية الجزائرية الديمقراطية الشعبية"]
["وزارة التربية الوطنية"]
[]
[null,null,"مديرية التربية لولاية",null,null,"ثانوية الوادي الجديدة"]
[null,null,null,null,null,"الجزائر"]
[]
["عدد التلاميذ",null,{"$f":"COUNTA(B:B)-1","v":15},null,"التاريخ:",null,null,null,null,null,null,null,null,null,null,null,null,null,null,null,null,null,null,null,null,null,null,null,null,null,null,null,null,null,null,null,null,null,null,"1آف1"]
["القاعة",null,12,"الشعبة","القسم","3هط1",null,null,null,null,null,null,null,null,null,null,null,null,null,null,null,null,null,null,null,null,null,null,null,null,null,null,null,null,null,null,null,null,null,"1آف1"]
[null,null,null,null,null,null,null,null,null,null,null,null,null,null,null,null,null,null,null,null,null,null,null,null,null,null,null,null,null,null,null,null,null,null,null,null,null,null,null,"1آف2"]
["رقم ","رقم /ت","الإسم","اللقب ","تاريخ الميلاد","القسم",null,null,null,null,null,null,null,null,null,null,null,null,null,null,null,null,null,null,null,null,null,null,null,null,null,null,null,null,null,null,null,null,null,"1ع1"]
[529,529,"مراد 529","فريدة529","2528-12-02","ثالثة تقني رياضي",null,null,null,null,null,null,null,null,null,null,null,null,null,null,null,null,null,null,null,null,null,null,null,null,null,null,null,null,null,null,null,null,null,"1ع2"]
[530,530,"مراد 530","فريدة530","2529-12-02","ثالثة تقني رياضي",null,null,null,null,null,null,null,null,null,null,null,null,null,null,null,null,null,null,null,null,null,null,null,null,null,null,null,null,null,null,null,null,null,"1ع3"]
[531,531,"مراد 531","فريدة531","2530-12-02","ثالثة تقني رياضي",null,null,null,null,null,null,null,null,null,null,null,null,null,null,null,null,null,null,null,null,null,null,null,null,null,null,null,null,null,null,null,null,null,"1ع4"]
[532,532,"مراد 532","فريدة532","2531-12-02","ثالثة تقني رياضي",null,null,null,null,null,null,null,null,null,null,null,null,null,null,null,null,null,null,null,null,null,null,null,null,null,null,null,null,null,null,null,null,null,"2آف1"]
[533,533,"مراد 533","فريدة533","2532-12-02","ثالثة تقني رياضي",null,null,null,null,null,null,null,null,null,null,null,null,null,null,null,null,null,null,null,null,null,null,null,null,null,null,null,null,null,null,null,null,null,"2ع1"]
[534,534,"مراد 534","فريدة534","2533-12-02","ثالثة تقني رياضي",null,null,null,null,null,null,null,null,null,null,null,null,null,null,null,null,null,null,null,null,null,null,null,null,null,null,null,null,null,null,null,null,null,"2ع2"]
[535,535,"مراد 535","فريدة535","2534-12-02","ثالثة تقني رياضي",null,null,null,null,null,null,null,null,null,null,null,null,null,null,null,null,null,null,null,null,null,null,null,null,null,null,null,null,null,null,null,null,null,"2ع3"]
[536,536,"مراد 536","فريدة536","2535-12-02","ثالثة تقني رياضي",null,null,null,null,null,null,null,null,null,null,null,null,null,null,null,null,null,null,null,null,null,null,null,null,null,null,null,null,null,null,null,null,null,"2تق1"]
[537,537,"مراد 537","فريدة537","2536-12-02","ثالثة تقني رياضي",null,null,null,null,null,null,null,null,null,null,null,null,null,null,null,null,null,null,null,null,null,null,null,null,null,null,null,null,null,null,null,null,null,"2ريا1"]
[538,538,"مراد 538","فريدة538","2537-12-02","ثالثة تقني رياضي",null,null,null,null,null,null,null,null,null,null,null,null,null,null,null,null,null,null,null,null,null,null,null,null,null,null,null,null,null,null,null,null,null,"2هط1"]
[539,539,"مراد 539","فريدة539","2538-12-02","ثالثة تقني رياضي",null,null,null,null,null,null,null,null,null,null,null,null,null,null,null,null,null,null,null,null,null,null,null,null,null,null,null,null,null,null,null,null,null,"3آف1"]
[540,540,"مراد 540","فريدة540","2539-12-02","ثالثة تقني رياضي",null,null,null,null,null,null,null,null,null,null,null,null,null,null,null,null,null,null,null,null,null,null,null,null,null,null,null,null,null,null,null,null,null,"3ع1"]
[541,541,"مراد 541","فريدة541","2540-12-02","ثالثة تقني رياضي",null,null,null,null,null,null,null,null,null,null,null,null,null,null,null,null,null,null,null,null,null,null,null,null,null,null,null,null,null,null,null,null,null,"3ع2"]
[542,542,"مراد 542","فريدة542","2541-12-02","ثالثة تقني رياضي",null,null,null,null,null,null,null,null,null,null,null,null,null,null,null,null,null,null,null,null,null,null,null,null,null,null,null,null,null,null,null,null,null,"3تق1"]
[543,543,"مراد 543","فريدة543","2542-12-02","ثالثة تقني رياضي",null,null,null,null,null,null,null,null,null,null,null,null,null,null,null,null,null,null,null,null,null,null,null,null,null,null,null,null,null,null,null,null,null,"3ريا1"]
[null,null,null,null,null,null,null,null,null,null,null,null,null,null,null,null,null,null,null,null,null,null,null,null,null,null,null,null,null,null,null,null,null,null,null,null,null,null,null,"3هط1"]
[null,null,null,null," المدير ","21/7/2018"]

{"sheet":"الإشعار الأول","index":7,"n_rows":38,"n_cols":13,"rows_kept":38,"cut":false,"hidden":false,"merged":[[37,0,37,5],[24,6,24,7],[33,0,33,5],[35,0,35,5],[19,0,19,2],[19,3,19,4],[19,5,19,6],[19,7,19,8],[20,0,20,1],[20,2,20,4],[21,0,21,2],[21,3,21,5],[24,9,24,10],[29,7,29,9],[29,1,29,4],[31,0,31,5],[27,7,27,9],[0,0,0,10],[1,0,1,10],[2,0,2,5],[2,7,2,8],[22,1,22,9],[6,2,6,3],[10,2,12,8],[21,7,21,8],[7,7,7,9],[4,7,4,10],[5,7,5,10],[6,7,6,10],[13,2,13,8],[15,2,15,8],[16,2,16,8],[19,9,19,10]]}
["الجمهورية الجزائرية الديمقراطية الشعبية"]
["وزارة التربية الوطنية"]
[{"$f":"الواجهة!D3","v":"مديريـة التربيـة لولاية "},null,null,null,null,null,null,{"$f":"الواجهة!D4","v":"ثانويـــة الوادي"},null,{"$f":"الواجهة!D5","v":"الوادي"}]
[null,null,null,null,null,null,null,null,null,null,null,null,16]
[null,null,null,null,null,null,"السيـــــــــــــد :",{"$f":"IFERROR(VLOOKUP($M4,school1,12,FALSE),\"\")","v":"محمد علي16"}]
[null,null,null,null,null,null,"العنـــــــــــــوان:",{"$f":"IFERROR(VLOOKUP($M4,school1,13,FALSE),\"\")","v":"حي السلام -البياضة"}]
["الرقــــــــم",{"$f":"IFERROR(VLOOKUP($M4,school1,16,FALSE),\"\")","v":16},{"$f":"الواجهة!D6","v":"2018/2017/"},null,null,null,"ولي التلميذ:",{"$f":"IFERROR(VLOOKUP($M4,school2,3,FALSE)&\"  \"&VLOOKUP($M4,school2,4,FALSE),\"\")","v":"مراد 16  فريدة16"}]
[null,null,null,null,null,null,"من قســــــــم:",{"$f":"IFERROR(VLOOKUP($M4,school2,5,FALSE)&\"  \"&(VLOOKUP($M4,school2,6,FALSE)&\"  \"&(VLOOKUP($M4,school2,7,FALSE))),\"\")","v":"أولى  جدع مشترك آداب  1"},null,null,{"$f":"IFERROR(VLOOKUP($M4,school2,8,FALSE),\"\")","v":"1آف1"}]
[]
[]
[null,null,"الإشعار الأول بالغياب"]
[]
[]
[null,null,"المرجع / الفصل الثالث  من القرار رقم 778 المتعلق بنظام الجماعة التربوية"]
[]
[" ",null,"بمقتضى القرار الوزاري رقم: 833 المؤرخ في 1991.11.13 والذي يهدف إلى ضبط الكيفيات"]
[null,null,"والإجراءات المتعلقة  بمتابعة مواظبة التلاميذ في المؤسسات التعليمية ."]
[]
[]
["يؤسفني أن أشعركم أن ابنكم-ابنتكم:",null,null,{"$f":"IFERROR(VLOOKUP(M4,school2,3,FALSE)&\"  \"&VLOOKUP(M4,school2,4,FALSE),\"\")","v":"مراد 16  فريدة16"},null,"المولود(ة) بتاريخ ",null,{"$f":"IFERROR(VLOOKUP(M4,school2,9,FALSE),\"\")","v":"12/2/2015"},null,{"$f":"IFERROR(VLOOKUP(M4,school2,10,FALSE),\"\")","v":"البياضة"}]
["من القسم: ",null,{"$f":"IFERROR(VLOOKUP(M4,school2,5,FALSE)&\"  \"&(VLOOKUP(M4,school2,6,FALSE)&\"  \"&(VLOOKUP(M4,school2,7,FALSE))),\"\")","v":"أولى  جدع مشترك آداب  1"},null,null,{"$f":"IFERROR(VLOOKUP(M4,school2,8,FALSE),\"\")","v":"1آف1"}]
[" قد تغيب (ت) عن الدراسة منذ",null,null,{"$f":"IFERROR(VLOOKUP($M4,school1,14,FALSE),\"\")","v":"2018-04-27"},null,null,null,"إلى يومنا هذا."]
[null,"وعليه فإنكم مطالبون بالحضور إلى المؤسسة قصد تبرير غيابه."]
[]
[null,null,null,null,null,"بــــــــ",{"$f":"الواجهة!D5","v":"الوادي"},null,"في",{"$f":"TODAY()","v":"2018-07-21"}]
[]
[]
[null,null,null,null,null,null,null,"مستشار التربية"]
[]
[null,"تبرير سبب الغياب",null,null,null,null,null,{"$f":"الواجهة!E16","v":0}]
[]
["........................................................................................."]
[]
["........................................................................................."]
[]
["........................................................................................."]
[]
["........................................................................................."]

{"sheet":"الإشعار الثاني","index":8,"n_rows":38,"n_cols":12,"rows_kept":38,"cut":false,"hidden":false,"merged":[[18,0,18,1],[18,2,18,4],[19,0,19,2],[19,3,19,5],[19,7,19,8],[17,0,17,2],[17,3,17,4],[17,5,17,6],[17,7,17,8],[17,9,17,10],[37,0,37,5],[22,1,22,9],[24,9,24,10],[24,1,24,4],[29,6,29,7],[29,9,29,10],[27,6,27,7],[27,9,27,10],[0,0,0,10],[1,0,1,10],[20,0,20,3],[20,4,20,6],[20,7,20,10],[6,2,6,3],[10,2,12,8],[15,0,15,9],[16,0,16,6],[6,7,6,10],[2,0,2,5],[2,7,2,8],[4,7,4,10],[5,7,5,10],[7,7,7,9],[13,2,13,8]]}
["الجمهورية الجزائرية الديمقراطية الشعبية"]
["وزارة التربيـــــــــة الوطنيـــــــــة"]
[{"$f":"الواجهة!D3","v":"مديريـة التربيـة لولاية "},null,null,null,null,null,null,{"$f":"الواجهة!D4","v":"ثانويـــة الوادي"},null,{"$f":"الواجهة!D5","v":"الوادي"}]
[null,null,null,null,null,null,null,null,null,null,null,210]
[null,null,null,null,null,null,"السيـــــــــــــد :",{"$f":"IFERROR(VLOOKUP($L4,school2,12,FALSE),\"\")","v":"محمد علي210"}]
[null,null,null,null,null,null,"العنـــــــــــــوان:",{"$f":"IFERROR(VLOOKUP($L4,school2,13,FALSE),\"\")","v":"حي السلام -البياضة"}]
["الرقــــــــم",{"$f":"IFERROR(VLOOKUP($L4,school2,18,FALSE),\"\")","v":214},{"$f":"الواجهة!D6","v":"2018/2017/"},null,null,null,"ولي التلميذ:",{"$f":"IFERROR(VLOOKUP($L4,school2,3,FALSE)&\"  \"&VLOOKUP($L4,school2,4,FALSE),\"\")","v":"مراد 210  فريدة210"}]
[null,null,null,null,null,null,"من قســــــــم:",{"$f":"IFERROR(VLOOKUP($L4,school2,5,FALSE)&\"  \"&(VLOOKUP($L4,school2,6,FALSE)&\"  \"&(VLOOKUP($L4,school2,7,FALSE))),\"\")","v":"ثانية  آداب وفلسفة  1"},null,null,{"$f":"IFERROR(VLOOKUP($L4,school2,8,FALSE),\"\")","v":"2آف1"}]
[]
[]
[null,null,"الإشعار الثاني بالغياب"]
[]
[]
[null,null,"المرجع / الفصل الثالث  من القرار رقم 778 المتعلق بنظام الجماعة التربوية"]
[]
["بمقتضى القرار الوزاري رقم: 833 المؤرخ في 1991.11.13 والذي يهدف إلى ضبط الكيفيات "]
["والإجراءات المتعلقة  بمتابعة مواظبة التلاميذ في المؤسسات التعليمية ."]
["يؤسفني أن أشعركم أن ابنكم-ابنتكم:",null,null,{"$f":"IFERROR(VLOOKUP(L4,school2,3,FALSE)&\"  \"&VLOOKUP(L4,school2,4,FALSE),\"\")","v":"مراد 210  فريدة210"},null,"المولود(ة) بتاريخ ",null,{"$f":"IFERROR(VLOOKUP(L4,school2,9,FALSE),\"\")","v":"12/2/2209"},null,{"$f":"IFERROR(VLOOKUP(L4,school2,10,FALSE),\"\")","v":"البياضة"}]
["من القسم: ",null,{"$f":"IFERROR(VLOOKUP(L4,school2,5,FALSE)&\"  \"&(VLOOKUP(L4,school2,6,FALSE)&\"  \"&(VLOOKUP(L4,school2,7,FALSE))),\"\")","v":"ثانية  آداب وفلسفة  1"},null,null,{"$f":"IFERROR(VLOOKUP(L4,school2,8,FALSE),\"\")","v":"2آف1"}]
[" قد تغيب (ت) عن الدراسة منذ",null,null,{"$f":"IFERROR(VLOOKUP($L4,school1,14,FALSE),\"\")+3","v":"1900-01-03"},null,null,null,"إلى يومنا هذا."]
["ولقد تم ارسال الإشعار الأول بتاريخ ",null,null,null,{"$f":"IFERROR(VLOOKUP($L4,school2,15,FALSE),\"\")","v":"2018-09-09"},null,null,"دون استجابة منكم."]
[]
[null,"وعليه فإنكم مطالبون بالحضور إلى المؤسسة قصد تبرير غيابه."]
[]
[null,"تبرير سبب الغياب",null,null,null,null,"بـــــــ",{"$f":"الواجهة!D5","v":"الوادي"},"فــــــي",{"$f":"TODAY()","v":"2018-07-21"}]
[]
[]
[null,null,null,null,null,null,"مستشار التربية",null,null,"الناظــــــــــر"]
[]
[null,null,null,null,null,null,{"$f":"الواجهة!E16","v":0},null,null,{"$f":"الواجهة!F16","v":0}]
[]
[]
[]
[]
[]
[]
[]
["........................................................................................."]

{"sheet":"الإعذار","index":9,"n_rows":31,"n_cols":12,"rows_kept":31,"cut":false,"hidden":false,"merged":[[3,5,3,6],[26,9,26,10],[28,6,28,8],[30,6,30,8],[19,0,19,3],[17,0,17,3],[6,2,6,3],[4,7,4,10],[6,7,6,10],[9,2,11,8],[4,5,4,6],[6,5,6,6],[25,0,25,2],[13,0,13,10],[0,0,0,10],[1,0,1,10],[24,0,24,2],[2,0,2,5],[2,7,2,8],[12,2,12,8],[21,0,21,7],[22,0,22,2],[23,0,23,5],[7,5,7,6],[7,7,7,9],[15,0,15,6],[15,7,15,8],[15,9,15,10],[17,4,17,5],[19,4,19,5]]}
["الجمهورية الجزائرية الديمقراطية الشعبية"]
["وزارة التربية الوطنية"]
[{"$f":"الواجهة!D3","v":"مديريـة التربيـة لولاية "},null,null,null,null,null,null,{"$f":"الواجهة!D4","v":"ثانويـــة الوادي"},null,{"$f":"الواجهة!D5","v":"الوادي"}]
[null,null,null,null,null,"إلى السيد:",null,{"$f":"IFERROR(VLOOKUP($L4,school2,12,FALSE),\"\")","v":"محمد علي91"},null,null,null,91]
[null,null,null,null,null,"العنـــــوان:",null,{"$f":"IFERROR(VLOOKUP($L4,school2,13,FALSE),\"\")","v":"حي الإزدهار - البياضة"}]
[]
["الرقــــــــم:",{"$f":"IFERROR(VLOOKUP($L4,school2,20,FALSE),\"\")","v":98},{"$f":"الواجهة!D6","v":"2018/2017/"},null,null,"ولي التلميذ:",null,{"$f":"IFERROR(VLOOKUP($L4,school2,3,FALSE)&\"  \"&VLOOKUP($L4,school2,4,FALSE),\"\")","v":"مراد 91  فريدة91"}]
[null,null,null,null,null,"من قسم:",null,{"$f":"IFERROR(VLOOKUP($L4,school2,5,FALSE)&\"  \"&(VLOOKUP($L4,school2,6,FALSE)&\"  \"&(VLOOKUP($L4,school2,7,FALSE))),\"\")","v":"أولى  جذع مشترك علوم وتكنولوجيا  1"},null,null,{"$f":"IFERROR(VLOOKUP($L4,school2,8,FALSE),\"\")","v":"1ع1"}]
[]
[null,null,"إعــــــــــــــذار"]
[]
[]
[null,null,"المرجع / الفصل الثالث  من القرار رقم 778 المتعلق بنظام الجماعة التربوية"]
[]
[]
["      المادة الأولى : أشعركم بأن ابنكم- ابنتكم تغيب(ت) عن الدراسة من يوم:",null,null,null,null,null,null,{"$f":"IFERROR(VLOOKUP($L4,school2,14,FALSE),\"\")","v":"00:00:00"},null,"إلى يومنا هذا"]
[]
["     ولقد تم ارسال الإشعار الأول بتاريخ:",null,null,null,{"$f":"IFERROR(VLOOKUP($L4,school2,15,FALSE),\"\")","v":"2018-05-13"},null,"رقـــــــــــــــم /",{"$f":"IFERROR(VLOOKUP($L4,school2,16,FALSE),\"\")","v":91}]
[]
["والاشعـــــــار الثانـــــي بتاريــــــــــــــــــــخ:",null,null,null,{"$f":"IFERROR(VLOOKUP($L4,school2,17,FALSE),\"\")","v":"2018-06-10"},null,"رقـــــــــــــــم /",{"$f":"IFERROR(VLOOKUP($L4,school2,18,FALSE),\"\")","v":95}]
["      المادة الثانية : في حالة عدم التحاق ابنكم – ابنتكم بالمؤسسة وتبرير  غياباته (ها)"]
["                    فإنكم تتحملون مسؤولياتكم القانونية .                   "]
["*نسخة موجهة إلى :"]
["             – مديرية التربية ( مصلحة التمدرس و الامتحانات )"]
["             – ملف التلميذ "]
["             – أرشيف المؤسسة"]
[null,null,null,null,null,null,"بـــــــ",{"$f":"الواجهة!D5","v":"الوادي"},"فــــــــي",{"$f":"TODAY()","v":"2018-07-21"}]
[]
[null,null,null,null,null,null,"المديــــــر"]
[]
[null,null,null,null,null,null,{"$f":"الواجهة!F16","v":0}]

{"sheet":"الشطب","index":10,"n_rows":33,"n_cols":13,"rows_kept":33,"cut":false,"hidden":false,"merged":[[16,1,16,4],[3,12,3,13],[7,2,7,8],[19,3,19,4],[20,3,20,4],[15,0,15,1],[17,2,17,3],[15,2,15,4],[14,3,14,5],[5,7,5,10],[4,2,4,3],[6,7,6,10],[9,2,10,8],[11,0,11,9],[21,3,21,4],[18,0,18,5],[19,6,19,7],[20,6,20,7],[21,6,21,7],[30,6,30,8],[32,6,32,8],[3,7,3,9],[8,3,8,7],[24,0,24,2],[25,0,25,5],[26,0,26,2],[27,0,27,2],[28,9,28,10],[23,0,23,9],[12,0,12,10],[14,7,14,8],[14,9,14,10],[15,6,15,8],[15,9,15,10],[14,0,14,2],[0,0,0,10],[1,0,1,10],[2,0,2,5],[2,7,2,8],[4,7,4,10]]}
["الجمهورية الجزائرية الديمقراطية الشعبية",null,null,null,null,null,null,null,null,null,null,4]
["وزارة التربية الوطنية"]
[{"$f":"الواجهة!D3","v":"مديريـة التربيـة لولاية "},null,null,null,null,null,null,{"$f":"الواجهة!D4","v":"ثانويـــة الوادي"},null,{"$f":"الواجهة!D5","v":"الوادي"}]
[null,null,null,null,null,null,null,"السيد: مدير المؤسسة",null,null,null,null,434]
["الرقــــــــم",null,{"$f":"الواجهة!D6","v":"2018/2017/"},null,null,null,"إلى السيد",{"$f":"IFERROR(VLOOKUP($M4,school2,12,FALSE),\"\")","v":"محمد علي434"}]
[null,null,null,null,null,null,"العنـــــوان:",{"$f":"IFERROR(VLOOKUP($M4,school2,13,FALSE),\"\")","v":"حي السلام -البياضة"}]
[]
[null,null,"قرار الشطــــب"]
[null,null,null,"المرجع / الفصل الثالث  من القرار رقم 778 المتعلق بنظام الجماعة التربوية"]
[]
[]
["      بناء على :       – قانون رقم 08- 04 بتاريخ 23 يناير سنة 2008 والمتضمن القانون التوجيهي للتربية "]
["وبناء على المادة 21 من القرار رقم : 833 المؤرخ في 13 نوفمبر 1991 المتعلق بمواظبة التلاميذ في المؤسسة التعليمية "]
[]
["يؤسفني جدا بأن أخبركم بما يلي: ",null,null,"................................."]
["إبنكم ، إبنتكم /",null,{"$f":"IFERROR(VLOOKUP($M4,school2,3,FALSE)&\"  \"&VLOOKUP($M4,school2,4,FALSE),\"\")","v":"مراد 434  فريدة434"}]
["من القسم ",{"$f":"IFERROR(VLOOKUP($M4,school2,5,FALSE)&\"  \"&(VLOOKUP($M4,school2,6,FALSE)&\"  \"&(VLOOKUP($M4,school2,7,FALSE))),\"\")","v":"ثالثة  علوم تجريبية  1"},null,null,null,{"$f":"IFERROR(VLOOKUP($M4,school2,7,FALSE),\"\")","v":1}]
["وقد تغيب (ت) منذ  /",null,{"$f":"IFERROR(VLOOKUP($M4,school2,14,FALSE),\"\")","v":"00:00:00"}]
["وهــــــذا بـــــدون مبــــــرر رغـــــــم الإشعـــــــــــارات الموجهـــــــــة إليكـــــــم "]
["الإشعـار الأول بتاريخ / ",null,null,{"$f":"IFERROR(VLOOKUP($M4,school2,15,FALSE),\"\")","v":"2019-04-21"},null,"رقـــــــــــــــم /",{"$f":"IFERROR(VLOOKUP($M4,school2,16,FALSE),\"\")","v":434}]
["الإشعـار الثاني بتاريخ / ",null,null,{"$f":"IFERROR(VLOOKUP($M4,school2,17,FALSE),\"\")","v":"2019-05-19"},null,"رقـــــــــــــــم /",{"$f":"IFERROR(VLOOKUP($M4,school2,18,FALSE),\"\")","v":438}]
["والإعــــــــــذار بتاريـــــــــــــخ / ",null,null,{"$f":"IFERROR(VLOOKUP($M4,school2,19,FALSE),\"\")","v":"2020-03-14"},null,"رقـــــــــــــــم /",{"$f":"IFERROR(VLOOKUP($M4,school2,20,FALSE),\"\")","v":441}]
[]
["ولكن دون جدوى ، وبناء عليه وطبقا للقانون المدرسي فإن إبنكم ، إبنتكم قد شطب  (ت) نهائيا من سجلات المؤسسة"]
["*نسخــــــــــــة موجهـــــــــة إلــــــى :"]
["– مديرية التربية ( مصلحة التمدرس و الامتحانات )"]
["– ملف التلميذ"]
["– أرشيف المؤسسة"]
[null,null,null,null,null,null,"بـــــــ",{"$f":"الواجهة!D5","v":"الوادي"},"فــــــــي",{"$f":"TODAY()","v":"2018-07-21"}]
[]
[null,null,null,null,null,null,"المديــــــر"]
[]
[null,null,null,null,null,null,{"$f":"الواجهة!G16","v":0}]

{"sheet":"إستدعاء","index":11,"n_rows":43,"n_cols":13,"rows_kept":43,"cut":false,"hidden":false,"merged":[[14,2,14,3],[14,4,14,5],[3,12,3,13],[0,0,0,10],[1,0,1,10],[2,0,2,5],[2,7,2,8],[3,7,3,9],[9,2,10,8],[11,0,11,9],[4,2,4,3],[4,7,4,10],[5,7,5,10],[6,7,6,10],[7,2,7,8],[8,2,8,8],[29,6,29,9],[38,6,38,8],[40,6,40,8],[12,0,12,10],[13,0,13,10],[14,6,14,9],[36,9,36,10],[29,0,29,3],[31,0,31,11],[17,0,17,3],[21,0,21,3],[14,0,14,1],[17,6,17,9],[32,1,32,11],[33,1,33,11],[19,0,19,3],[19,6,19,9],[23,0,23,3],[25,0,25,3],[27,0,27,3],[21,6,21,9],[23,6,23,9],[25,6,25,9],[27,6,27,9]]}
["الجمهورية الجزائرية الديمقراطية الشعبية"]
["وزارة التربية الوطنية"]
[{"$f":"الواجهة!D3","v":"مديريـة التربيـة لولاية "},null,null,null,null,null,null,{"$f":"الواجهة!D4","v":"ثانويـــة الوادي"},null,{"$f":"الواجهة!D5","v":"الوادي"}]
[null,null,null,null,null,null,null,"السيد: مدير المؤسسة",null,null,null,null,116]
["الرقــــــــم",null,{"$f":"الواجهة!D6","v":"2018/2017/"},null,null,null,"إلى السيد",{"$f":"IFERROR(VLOOKUP($M4,school2,12,FALSE),\"\")","v":"محمد علي116"}]
[null,null,null,null,null,null,"العنـــــوان:",{"$f":"IFERROR(VLOOKUP($M4,school2,13,FALSE),\"\")","v":"حي السلام -البياضة"}]
[]
[null,null,"إستدعـــــاء"]
[null,null,"المرجع / الفصل الثالث  من القرار رقم 778 المتعلق بنظام الجماعة التربوية"]
[]
[]
[]
["المطلـــوب منكــــم الحضــــــور إلى مكتــب السيــد مستشــار التربيـــة يـــــوم : ............................................."]
["على الساعـــــــة : ...............................    وهــــذا للأسبــاب المذكـــــورة أسفلــــه و التــي تهـــــم  "]
["إبنكم ، إبنتكم /",null,{"$f":"IFERROR(VLOOKUP($M4,school2,3,FALSE)&\"  \"&VLOOKUP($M4,school2,4,FALSE),\"\")","v":"مراد 116  فريدة116"},null,"من القسم: ",null,{"$f":"IFERROR(VLOOKUP($M4,school2,5,FALSE)&\"  \"&(VLOOKUP($M4,school2,6,FALSE)&\"  \"&(VLOOKUP($M4,school2,7,FALSE))),\"\")","v":"أولى  جذع مشترك علوم وتكنولوجيا  2"},null,null,null,{"$f":"IFERROR(VLOOKUP($M4,school2,8,FALSE),\"\")","v":"1ع2"}]
[]
[]
["تأخـــــــر متكـــــــــــــرر   ",null,null,null,null,null,"عدم القيام بالواجبات و التحضيرات المنزلية "]
[]
["غيـــــاب غيــر مبـــــــــــــرر",null,null,null,null,null,"الشجــار و حــــمل أشيـاء ممنوعـــــة "]
[]
["تصـــــرف غيــر مقبـــــــــــول ",null,null,null,null,null,"تخـــــريب ممتلكـــات المؤسســــــة "]
[]
["مخــــالفـة النظــام الداخلي للمؤسســـــة",null,null,null,null,null,"عـدم إحضار الأدوات المدرسية (كتب وكراريس...الخ)"]
[]
["الخــــروج مــن القـســم بــــدون إذن ",null,null,null,null,null,"عدم احترام الأستاذ و التشويش فـي القســـــم "]
[]
["الخــــروج من المؤسســـة بــــدون إذن ",null,null,null,null,null,"إستعمال المفرقعات داخل المؤسسة "]
[]
["التدخيــن و التهريــج أثناء فترات الراحــــة ",null,null,null,null,null,"مقــــابلـــة الأستـــــــــــــاذ "]
[]
["أسباب أخرى:................................................................................................................................"]
[null,"................................................................................................................................"]
[null,"................................................................................................................................"]
[]
[]
[null,null,null,null,null,null,"بـــــــ",{"$f":"الواجهة!D5","v":"الوادي"},"فــــــــي",{"$f":"TODAY()","v":"2018-07-21"}]
[]
[null,null,null,null,null,null,{"$f":"الواجهة!E10","v":"مستشار التربية"}]
[]
[null,null,null,null,null,null,{"$f":"الواجهة!E16","v":0}]
[]
[null,null,null,null,null,null,null,null,null,"x"]

{"sheet":"تعهد ولي التلميذ","index":12,"n_rows":40,"n_cols":10,"rows_kept":40,"cut":false,"hidden":false,"merged":[[0,0,0,10],[1,0,1,10],[2,0,2,5],[2,7,2,8],[8,2,9,8],[7,2,7,8],[2,9,2,10],[3,12,3,13],[4,2,4,3],[4,7,4,10],[5,7,5,10],[6,2,6,8],[3,7,3,10],[35,9,35,10],[37,6,37,8],[39,6,39,8],[31,0,31,11],[26,0,26,10],[28,0,28,10],[33,0,33,2],[30,0,30,11],[11,0,11,10],[22,0,22,10],[24,0,24,10],[18,0,18,10],[12,0,12,10],[13,0,13,10],[14,0,14,10],[16,0,16,10],[20,0,20,3],[20,4,20,6]]}
["الجمهورية الجزائرية الديمقراطية الشعبية"]
["وزارة التربية الوطنية"]
[{"$f":"الواجهة!D3","v":"مديريـة التربيـة لولاية "},null,null,null,null,null,null,{"$f":"الواجهة!D4","v":"ثانويـــة الوادي"},null,{"$f":"الواجهة!D5","v":"الوادي"}]
[null,null,null,null,null,null,null,{"$f":"الواجهة!B6","v":"السنـــــة الدراسيـــــــــة"}]
[null,null,null,null,null,null,null,{"$f":"الواجهة!D6","v":"2018/2017/"}]
[]
[null,null,"تعهد ولي التلميذ(ة)"]
[null,null,"المرجع / المادة 40 من القرار رقم 778 المتعلق بنظام الجماعة التربوية"]
[]
[]
["أنا الممضي أسفله السيد(ة) ............................................................................................"]
["المولودة بتاريخ : ......................................................................................................"]
["صاحب(ة) بطاقة التعريف الوطنيـــة ـ رخصـة السياقــة  : رقم : .............................................................. "]
["الصادرة بتاريخ :............................................  عن ولاية : ................................................"]
["الساكن(ة) بـ :.........................................................................................................."]
[]
["أب ـ أم ـ وصي التلميذ(ة) .............................................  المولود(ة) بتاريخ:.............................."]
[]
["مسجل(ة) بالقسم : ...........................  تحت رقم ................... خلال السنة الدراسية ........ /  .........."]
[]
["أعترف أنني حضرت إلى المؤسسة يوم : ",null,null,null,{"$f":"TODAY()","v":"2018-07-21"}]
[]
["واطلعت على : ........................................................................................................ \n\n"]
[]
["........................................................................................................................"]
[]
["........................................................................................................................"]
[]
["........................................................................................................................"]
[]
[" وأتعهد من جهتي على إلزام  إبني ـ إبنتي على احترام القانون الداخلي للمؤسسة ( القرار رقم 778 المؤرخ في 26 أكتوبر 1991 )"]
[" و من جهة أتقبل أي قرار يتخذ ضده ( ـا ) في إطـــــار القوانين  السارية المفعول في حالة تكرار المخالفة"]
[]
[" إمضاء الولــي"]
[]
[null,null,null,null,null,null,"بـــــــ",{"$f":"الواجهة!D5","v":"الوادي"},"فــــــــي",{"$f":"TODAY()","v":"2018-07-21"}]
[]
[null,null,null,null,null,null,{"$f":"الواجهة!F10","v":"الناظــــــر"}]
[]
[null,null,null,null,null,null,{"$f":"الواجهة!F16","v":0}]

{"sheet":"تعهد تلميذ","index":13,"n_rows":32,"n_cols":14,"rows_kept":32,"cut":false,"hidden":false,"merged":[[0,0,0,10],[1,0,1,10],[2,0,2,5],[2,7,2,8],[10,0,10,2],[10,7,10,8],[10,9,10,10],[3,0,3,1],[27,6,27,8],[29,6,29,8],[27,0,27,1],[25,8,25,10],[15,0,15,3],[18,4,18,5],[18,6,18,8],[20,0,20,9],[21,0,21,9],[18,1,18,2],[15,4,15,10],[2,13,3,13],[9,3,9,5],[9,6,9,8],[16,0,16,10],[17,0,17,10],[7,2,8,8],[11,0,11,10],[9,0,9,2],[3,2,3,3],[4,7,4,10],[5,2,5,8],[6,2,6,8],[12,2,12,4],[12,0,12,1],[10,3,10,4],[10,5,10,6]]}
["الجمهورية الجزائرية الديمقراطية الشعبية"]
["وزارة التربية الوطنية"]
[{"$f":"الواجهة!D3","v":"مديريـة التربيـة لولاية "},null,null,null,null,null,null,{"$f":"الواجهة!D4","v":"ثانويـــة الوادي"},null,{"$f":"الواجهة!D5","v":"الوادي"},null,null,null,379]
["السنة الدراسية",null,{"$f":"الواجهة!D6","v":"2018/2017/"}]
[]
[null,null,"وثيقـة إعتـراف و التزام التلميـذ(ة)"]
[]
[]
[]
[]
["أنـا الممضــي أسفلــه التلميـــــذ(ة) ",null,null,{"$f":"IFERROR(VLOOKUP(N3,school2,3,FALSE)&\"  \"&VLOOKUP(N3,school2,4,FALSE),\"\")","v":"مراد 379  فريدة379"},null,"المولود(ة) بتاريخ ",null,{"$f":"IFERROR(VLOOKUP(N3,school2,9,FALSE),\"\")","v":"12/2/2378"},null,{"$f":"IFERROR(VLOOKUP(N3,school2,10,FALSE),\"\")","v":"البياضة"}]
[]
["من القسم: ",null,{"$f":"IFERROR(VLOOKUP(N3,school2,5,FALSE)&\"  \"&(VLOOKUP(N3,school2,6,FALSE)&\"  \"&(VLOOKUP(N3,school2,7,FALSE))),\"\")","v":"ثانية  تقني رياضي  1"},null,null,{"$f":"IFERROR(VLOOKUP(N3,school2,8,FALSE),\"\")","v":"2هط1"}]
[]
[]
["أعترف بأنني أقدمت على إقتراف المخالفة التالية :",null,null,null,"…..………………………...................................................………………"]
["……………………………………………………………………..……………………………………………….…………………….."]
["……………………………………………………………………..……………………………………………….…………………….."]
["يوم:","………………………",null,null,"عل الساعة:",null,"…………….....................…………"]
[]
["وألتــزم بقبـــــــول أي قـرار يتخـذ ضــدي في إطـار القانـــون الجـاري به العمــــــل "]
["وهـــــذا في حالــة التكـــرار وأتعهـــد على أن لا يصـــدر منــي مثـــل هـــذا التصـرف مستقبلا . "]
[]
[]
[]
[null,null,null,null,null,null,{"$f":"الواجهة!D5","v":"الوادي"},"فــــــــي:",{"$f":"TODAY()","v":"2018-07-21"}]
[]
["إمضاء التلميذ",null,null,null,null,null,{"$f":"الواجهة!E10","v":"مستشار التربية"}]
[]
[null,null,null,null,null,null,{"$f":"الواجهة!E16","v":0}]
[]
[null,null,null,null,null,null,null,null,null,"x"]

{"sheet":"اليومية","index":14,"n_rows":42,"n_cols":27,"rows_kept":42,"cut":false,"hidden":false,"merged":[[34,1,34,8],[34,10,34,17],[34,19,34,26],[26,1,26,8],[26,10,26,17],[26,19,26,26],[6,0,6,27],[7,12,7,15],[9,10,9,14],[18,1,18,8],[18,10,18,17],[18,19,18,26],[7,8,7,10],[9,15,9,16],[10,1,10,8],[8,8,8,15],[10,10,10,17],[10,19,10,26]]}
[null,null,"Jan","Apr","Jul","Oct",null,null,null,null,null,null,"Feb","May","Aug","Nov",null,null,null,null,"Mar","Jun","Sep","Dec"]
[null,null,{"$f":"\"1/1/\" &I8","v":"1/1/2018"},{"$f":"U2+31","v":"2018-04-01"},{"$f":"V2+30","v":"2018-07-01"},{"$f":"W2+30","v":"2018-10-01"},null,null,null,null,null,{"$f":"IF(OR((AND(MOD(YEAR(C2),4)=0,MOD(YEAR(C2),100)<>0)), (MOD(YEAR(C2),400)=0)), 29,28)","v":28},{"$f":"C2+31","v":"2018-02-01"},{"$f":"D2+30","v":"2018-05-01"},{"$f":"E2+31","v":"2018-08-01"},{"$f":"F2+31","v":"2018-11-01"},null,null,null,null,{"$f":"M2+L2","v":"2018-03-01"},{"$f":"N2+31","v":"2018-06-01"},{"$f":"O2+31","v":"2018-09-01"},{"$f":"P2+30","v":"2018-12-01"}]
["Jan",null,{"$f":"IF(WEEKDAY($C$2)=1,1,0)","v":0},{"$f":"IF(WEEKDAY($C$2)=2,1,0)","v":1},{"$f":"IF(WEEKDAY($C$2)=3,1,0)","v":0},{"$f":"IF(WEEKDAY($C$2)=4,1,0)","v":0},{"$f":"IF(WEEKDAY($C$2)=5,1,0)","v":0},{"$f":"IF(WEEKDAY($C$2)=6,1,0)","v":0},{"$f":"IF(WEEKDAY($C$2)=7,1,0)","v":0},"Feb",null,{"$f":"IF(WEEKDAY($M$2)=1,1,0)","v":0},{"$f":"IF(WEEKDAY($M$2)=2,1,0)","v":0},{"$f":"IF(WEEKDAY($M$2)=3,1,0)","v":0},{"$f":"IF(WEEKDAY($M$2)=4,1,0)","v":0},{"$f":"IF(WEEKDAY($M$2)=5,1,0)","v":1},{"$f":"IF(WEEKDAY($M$2)=6,1,0)","v":0},{"$f":"IF(WEEKDAY($M$2)=7,1,0)","v":0},"Mar",null,{"$f":"IF(WEEKDAY($U$2)=1,1,0)","v":0},{"$f":"IF(WEEKDAY($U$2)=2,1,0)","v":0},{"$f":"IF(WEEKDAY($U$2)=3,1,0)","v":0},{"$f":"IF(WEEKDAY($U$2)=4,1,0)","v":0},{"$f":"IF(WEEKDAY($U$2)=5,1,0)","v":1},{"$f":"IF(WEEKDAY($U$2)=6,1,0)","v":0},{"$f":"IF(WEEKDAY($U$2)=7,1,0)","v":0}]
["Apr",null,{"$f":"IF(WEEKDAY($D$2)=1,1,0)","v":1},{"$f":"IF(WEEKDAY($D$2)=2,1,0)","v":0},{"$f":"IF(WEEKDAY($D$2)=3,1,0)","v":0},{"$f":"IF(WEEKDAY($D$2)=4,1,0)","v":0},{"$f":"IF(WEEKDAY($D$2)=5,1,0)","v":0},{"$f":"IF(WEEKDAY($D$2)=6,1,0)","v":0},{"$f":"IF(WEEKDAY($D$2)=7,1,0)","v":0},"May",null,{"$f":"IF(WEEKDAY($N$2)=1,1,0)","v":0},{"$f":"IF(WEEKDAY($N$2)=2,1,0)","v":0},{"$f":"IF(WEEKDAY($N$2)=3,1,0)","v":1},{"$f":"IF(WEEKDAY($N$2)=4,1,0)","v":0},{"$f":"IF(WEEKDAY($N$2)=5,1,0)","v":0},{"$f":"IF(WEEKDAY($N$2)=6,1,0)","v":0},{"$f":"IF(WEEKDAY($N$2)=7,1,0)","v":0},"Jun",null,{"$f":"IF(WEEKDAY($V$2)=1,1,0)","v":0},{"$f":"IF(WEEKDAY($V$2)=2,1,0)","v":0},{"$f":"IF(WEEKDAY($V$2)=3,1,0)","v":0},{"$f":"IF(WEEKDAY($V$2)=4,1,0)","v":0},{"$f":"IF(WEEKDAY($V$2)=5,1,0)","v":0},{"$f":"IF(WEEKDAY($V$2)=6,1,0)","v":1},{"$f":"IF(WEEKDAY($V$2)=7,1,0)","v":0}]
["Jul",null,{"$f":"IF(WEEKDAY($E$2)=1,1,0)","v":1},{"$f":"IF(WEEKDAY($E$2)=2,1,0)","v":0},{"$f":"IF(WEEKDAY($E$2)=3,1,0)","v":0},{"$f":"IF(WEEKDAY($E$2)=4,1,0)","v":0},{"$f":"IF(WEEKDAY($E$2)=5,1,0)","v":0},{"$f":"IF(WEEKDAY($E$2)=6,1,0)","v":0},{"$f":"IF(WEEKDAY($E$2)=7,1,0)","v":0},"Aug",null,{"$f":"IF(WEEKDAY($O$2)=1,1,0)","v":0},{"$f":"IF(WEEKDAY($O$2)=2,1,0)","v":0},{"$f":"IF(WEEKDAY($O$2)=3,1,0)","v":0},{"$f":"IF(WEEKDAY($O$2)=4,1,0)","v":1},{"$f":"IF(WEEKDAY($O$2)=5,1,0)","v":0},{"$f":"IF(WEEKDAY($O$2)=6,1,0)","v":0},{"$f":"IF(WEEKDAY($O$2)=7,1,0)","v":0},"Sep",null,{"$f":"IF(WEEKDAY($W$2)=1,1,0)","v":0},{"$f":"IF(WEEKDAY($W$2)=2,1,0)","v":0},{"$f":"IF(WEEKDAY($W$2)=3,1,0)","v":0},{"$f":"IF(WEEKDAY($W$2)=4,1,0)","v":0},{"$f":"IF(WEEKDAY($W$2)=5,1,0)","v":0},{"$f":"IF(WEEKDAY($W$2)=6,1,0)","v":0},{"$f":"IF(WEEKDAY($W$2)=7,1,0)","v":1}]
["Oct",null,{"$f":"IF(WEEKDAY($F$2)=1,1,0)","v":0},{"$f":"IF(WEEKDAY($F$2)=2,1,0)","v":1},{"$f":"IF(WEEKDAY($F$2)=3,1,0)","v":0},{"$f":"IF(WEEKDAY($F$2)=4,1,0)","v":0},{"$f":"IF(WEEKDAY($F$2)=5,1,0)","v":0},{"$f":"IF(WEEKDAY($F$2)=6,1,0)","v":0},{"$f":"IF(WEEKDAY($F$2)=7,1,0)","v":0},"Nov",null,{"$f":"IF(WEEKDAY($P$2)=1,1,0)","v":0},{"$f":"IF(WEEKDAY($P$2)=2,1,0)","v":0},{"$f":"IF(WEEKDAY($P$2)=3,1,0)","v":0},{"$f":"IF(WEEKDAY($P$2)=4,1,0)","v":0},{"$f":"IF(WEEKDAY($P$2)=5,1,0)","v":1},{"$f":"IF(WEEKDAY($P$2)=6,1,0)","v":0},{"$f":"IF(WEEKDAY($P$2)=7,1,0)","v":0},"Dec",null,{"$f":"IF(WEEKDAY($X$2)=1,1,0)","v":0},{"$f":"IF(WEEKDAY($X$2)=2,1,0)","v":0},{"$f":"IF(WEEKDAY($X$2)=3,1,0)","v":0},{"$f":"IF(WEEKDAY($X$2)=4,1,0)","v":0},{"$f":"IF(WEEKDAY($X$2)=5,1,0)","v":0},{"$f":"IF(WEEKDAY($X$2)=6,1,0)","v":0},{"$f":"IF(WEEKDAY($X$2)=7,1,0)","v":1}]
[]
[null,null,null,null,null,null,null,null,2018,null,null,null,"أكتب السنة الجديدة"]
[null,null,null,null,null,null,null,null,"(1900  -  2078)"]
[null,null,null,null,null,null,null,null,null,null,"يوميــة خاصـــة بــــــ:",null,null,null,null,{"$f":"I8","v":2018}]
[null,"جانفي",null,null,null,null,null,null,null,null,"فيفري",null,null,null,null,null,null,null,null,"مارس"]
[null,"الأسابع","الأحد","الإثنين","الثلاثاء","الإربعاء","الخميس","الجمعة","السبت",null,"الأسابع","الأحد","الإثنين","الثلاثاء","الإربعاء","الخميس","الجمعة","السبت",null,"الأسابع","الأحد","الإثنين","الثلاثاء","الإربعاء","الخميس","الجمعة","السبت"]
[null,1,{"$f":"IF($C$3=1,1,0)","v":0},{"$f":"IF($D$3=1,1, IF(C13>0,C13+1, 0))","v":1},{"$f":"IF($E$3=1,1, IF(D13>0,D13+1, 0))","v":2},{"$f":"IF($F$3=1,1, IF(E13>0,E13+1, 0))","v":3},{"$f":"IF($G$3=1,1, IF(F13>0,F13+1, 0))","v":4},{"$f":"IF($H$3=1,1, IF(G13>0,G13+1, 0))","v":5},{"$f":"IF($I$3=1,1, IF(H13>0,H13+1, 0))","v":6},null,{"$f":"IF(B18>0,B17+1,B17)","v":5},{"$f":"IF($L$3=1,1,0)","v":0},{"$f":"IF($M$3=1,1, IF(L13>0,L13+1, 0))","v":0},{"$f":"IF($N$3=1,1, IF(M13>0,M13+1, 0))","v":0},{"$f":"IF($O$3=1,1, IF(N13>0,N13+1, 0))","v":0},{"$f":"IF($P$3=1,1, IF(O13>0,O13+1, 0))","v":1},{"$f":"IF($Q$3=1,1, IF(P13>0,P13+1, 0))","v":2},{"$f":"IF($R$3=1,1, IF(Q13>0,Q13+1, 0))","v":3},null,{"$f":"IF(K18>0,K17+1,K17)","v":9},{"$f":"IF($U$3=1,1,0)","v":0},{"$f":"IF($V$3=1,1, IF(U13>0,U13+1, 0))","v":0},{"$f":"IF($W$3=1,1, IF(V13>0,V13+1, 0))","v":0},{"$f":"IF($X$3=1,1, IF(W13>0,W13+1, 0))","v":0},{"$f":"IF($Y$3=1,1, IF(X13>0,X13+1, 0))","v":1},{"$f":"IF($Z$3=1,1, IF(Y13>0,Y13+1, 0))","v":2},{"$f":"IF($AA$3=1,1, IF(Z13>0,Z13+1, 0))","v":3}]
[null,{"$f":"B13+1","v":2},{"$f":"IF(AND(I13>0,I13<31),I13+1,0)","v":7},{"$f":"IF(AND(C14>0,C14<31),C14+1,0)","v":8},9,10,11,12,13,null,{"$f":"K13+1","v":6},{"$f":"IF(AND(R13>0,R13<$L$2),R13+1,0)","v":4},{"$f":"IF(AND(L14>0,L14<$L$2),L14+1,0)","v":5},{"$f":"IF(AND(M14>0,M14<$L$2),M14+1,0)","v":6},7,8,9,10,null,{"$f":"T13+1","v":10},{"$f":"IF(AND(AA13>0,AA13<31),AA13+1,0)","v":4},{"$f":"IF(AND(U14>0,U14<31),U14+1,0)","v":5},6,7,8,9,10]
[null,{"$f":"B14+1","v":3},{"$f":"IF(AND(I14>0,I14<31),I14+1,0)","v":14},15,16,17,18,19,20,null,{"$f":"K14+1","v":7},{"$f":"IF(AND(R14>0,R14<$L$2),R14+1,0)","v":11},12,13,14,15,16,17,null,{"$f":"T14+1","v":11},{"$f":"IF(AND(AA14>0,AA14<31),AA14+1,0)","v":11},12,13,14,15,16,17]
[null,{"$f":"B15+1","v":4},{"$f":"IF(AND(I15>0,I15<31),I15+1,0)","v":21},22,23,24,25,26,27,null,{"$f":"K15+1","v":8},{"$f":"IF(AND(R15>0,R15<$L$2),R15+1,0)","v":18},19,20,21,22,23,24,null,{"$f":"T15+1","v":12},{"$f":"IF(AND(AA15>0,AA15<31),AA15+1,0)","v":18},19,20,21,22,23,24]
[null,{"$f":"B16+1","v":5},{"$f":"IF(AND(I16>0,I16<31),I16+1,0)","v":28},29,30,31,0,0,0,null,{"$f":"K16+1","v":9},{"$f":"IF(AND(R16>0,R16<$L$2),R16+1,0)","v":25},26,27,28,0,0,0,null,{"$f":"T16+1","v":13},{"$f":"IF(AND(AA16>0,AA16<31),AA16+1,0)","v":25},26,27,28,29,30,31]
[null,{"$f":"IF(C18=0,0,B17+1)","v":0},{"$f":"IF(AND(I17>0,I17<31),I17+1,0)","v":0},0,0,0,0,0,0,null,{"$f":"IF(L18=0,0,K17+1)","v":0},{"$f":"IF(AND(R17>0,R17<$L$2),R17+1,0)","v":0},0,0,0,0,0,0,null,{"$f":"IF(U18=0,0,T17+1)","v":0},{"$f":"IF(AND(AA17>0,AA17<31),AA17+1,0)","v":0},0,0,0,0,0,0]
[null,"أفريل",null,null,null,null,null,null,null,null,"ماي",null,null,null,null,null,null,null,null,"جوان"]
[null,"الأسابع","الأحد","الإثنين","الثلاثاء","الإربعاء","الخميس","الجمعة","السبت",null,"الأسابع","الأحد","الإثنين","الثلاثاء","الإربعاء","الخميس","الجمعة","السبت",null,"الأسابع","الأحد","الإثنين","الثلاثاء","الإربعاء","الخميس","الجمعة","السبت"]
[null,{"$f":"IF(T18>0,T18,T17+1)","v":14},{"$f":"IF($C$4=1,1,0)","v":1},{"$f":"IF($D$4=1,1, IF(C21>0,C21+1, 0))","v":2},{"$f":"IF($E$4=1,1, IF(D21>0,D21+1, 0))","v":3},{"$f":"IF($F$4=1,1, IF(E21>0,E21+1, 0))","v":4},{"$f":"IF($G$4=1,1, IF(F21>0,F21+1, 0))","v":5},{"$f":"IF($H$4=1,1, IF(G21>0,G21+1, 0))","v":6},{"$f":"IF($I$4=1,1, IF(H21>0,H21+1, 0))","v":7},null,{"$f":"IF(B26>0,B25+1,B25)","v":18},{"$f":"IF($L$4=1,1,0)","v":0},{"$f":"IF($M$4=1,1, IF(L21>0,L21+1, 0))","v":0},{"$f":"IF($N$4=1,1, IF(M21>0,M21+1, 0))","v":1},{"$f":"IF($O$4=1,1, IF(N21>0,N21+1, 0))","v":2},{"$f":"IF($P$4=1,1, IF(O21>0,O21+1, 0))","v":3},{"$f":"IF($Q$4=1,1, IF(P21>0,P21+1, 0))","v":4},{"$f":"IF($R$4=1,1, IF(Q21>0,Q21+1, 0))","v":5},null,{"$f":"IF(K26>0,K25+1,K25)","v":22},{"$f":"IF($U$4=1,1,0)","v":0},{"$f":"IF($V$4=1,1, IF(U21>0,U21+1, 0))","v":0},{"$f":"IF($W$4=1,1, IF(V21>0,V21+1, 0))","v":0},{"$f":"IF($X$4=1,1, IF(W21>0,W21+1, 0))","v":0},{"$f":"IF($Y$4=1,1, IF(X21>0,X21+1, 0))","v":0},{"$f":"IF($Z$4=1,1, IF(Y21>0,Y21+1, 0))","v":1},{"$f":"IF($AA$4=1,1, IF(Z21>0,Z21+1, 0))","v":2}]
[null,{"$f":"B21+1","v":15},{"$f":"IF(AND(I21>0,I21<30),I21+1,0)","v":8},{"$f":"IF(AND(C22>0,C22<30),C22+1,0)","v":9},10,11,12,13,14,null,{"$f":"K21+1","v":19},{"$f":"IF(AND(R21>0,R21<31),R21+1,0)","v":6},{"$f":"IF(AND(L22>0,L22<31),L22+1,0)","v":7},8,9,10,11,12,null,{"$f":"T21+1","v":23},{"$f":"IF(AND(AA21>0,AA21<30),AA21+1,0)","v":3},{"$f":"IF(AND(U22>0,U22<30),U22+1,0)","v":4},5,6,7,8,9]
[null,{"$f":"B22+1","v":16},{"$f":"IF(AND(I22>0,I22<30),I22+1,0)","v":15},16,17,18,19,20,21,null,{"$f":"K22+1","v":20},{"$f":"IF(AND(R22>0,R22<31),R22+1,0)","v":13},14,15,16,17,18,19,null,{"$f":"T22+1","v":24},{"$f":"IF(AND(AA22>0,AA22<30),AA22+1,0)","v":10},11,12,13,14,15,16]
[null,{"$f":"B23+1","v":17},{"$f":"IF(AND(I23>0,I23<30),I23+1,0)","v":22},23,24,25,26,27,28,null,{"$f":"K23+1","v":21},{"$f":"IF(AND(R23>0,R23<31),R23+1,0)","v":20},21,22,23,24,25,26,null,{"$f":"T23+1","v":25},{"$f":"IF(AND(AA23>0,AA23<30),AA23+1,0)","v":17},18,19,20,21,22,23]
[null,{"$f":"B24+1","v":18},{"$f":"IF(AND(I24>0,I24<30),I24+1,0)","v":29},30,0,0,0,0,0,null,{"$f":"K24+1","v":22},{"$f":"IF(AND(R24>0,R24<31),R24+1,0)","v":27},28,29,30,31,0,0,null,{"$f":"T24+1","v":26},{"$f":"IF(AND(AA24>0,AA24<30),AA24+1,0)","v":24},25,26,27,28,29,30]
[null,{"$f":"IF(C26=0,0,B25+1)","v":0},{"$f":"IF(AND(I25>0,I25<30),I25+1,0)","v":0},0,0,0,0,0,0,null,{"$f":"IF(L26=0,0,K25+1)","v":0},{"$f":"IF(AND(R25>0,R25<31),R25+1,0)","v":0},0,0,0,0,0,0,null,{"$f":"IF(U26=0,0,T25+1)","v":0},{"$f":"IF(AND(AA25>0,AA25<30),AA25+1,0)","v":0},0,0,0,0,0,0]
[null,"جويلية",null,null,null,null,null,null,null,null,"أوت",null,null,null,null,null,null,null,null,"سبتمبر"]
[null,"الأسابع","الأحد","الإثنين","الثلاثاء","الإربعاء","الخميس","الجمعة","السبت",null,"WK","الأحد","الإثنين","الثلاثاء","الإربعاء","الخميس","الجمعة","السبت",null,"الأسابع","الأحد","الإثنين","الثلاثاء","الإربعاء","الخميس","الجمعة","السبت"]
[null,{"$f":"IF(T26>0,T26,T25+1)","v":27},{"$f":"IF($C$5=1,1,0)","v":1},{"$f":"IF($D$5=1,1, IF(C29>0,C29+1, 0))","v":2},{"$f":"IF($E$5=1,1, IF(D29>0,D29+1, 0))","v":3},{"$f":"IF($F$5=1,1, IF(E29>0,E29+1, 0))","v":4},{"$f":"IF($G$5=1,1, IF(F29>0,F29+1, 0))","v":5},{"$f":"IF($H$5=1,1, IF(G29>0,G29+1, 0))","v":6},{"$f":"IF($I$5=1,1, IF(H29>0,H29+1, 0))","v":7},null,{"$f":"IF(B34>0,B33+1,B33)","v":31},{"$f":"IF($L$5=1,1,0)","v":0},{"$f":"IF($M$5=1,1, IF(L29>0,L29+1, 0))","v":0},{"$f":"IF($N$5=1,1, IF(M29>0,M29+1, 0))","v":0},{"$f":"IF($O$5=1,1, IF(N29>0,N29+1, 0))","v":1},{"$f":"IF($P$5=1,1, IF(O29>0,O29+1, 0))","v":2},{"$f":"IF($Q$5=1,1, IF(P29>0,P29+1, 0))","v":3},{"$f":"IF($R$5=1,1, IF(Q29>0,Q29+1, 0))","v":4},null,{"$f":"IF(K34>0,K33+1,K33)","v":35},{"$f":"IF($U$5=1,1,0)","v":0},{"$f":"IF($V$5=1,1, IF(U29>0,U29+1, 0))","v":0},{"$f":"IF($W$5=1,1, IF(V29>0,V29+1, 0))","v":0},{"$f":"IF($X$5=1,1, IF(W29>0,W29+1, 0))","v":0},{"$f":"IF($Y$5=1,1, IF(X29>0,X29+1, 0))","v":0},{"$f":"IF($Z$5=1,1, IF(Y29>0,Y29+1, 0))","v":0},{"$f":"IF($AA$5=1,1, IF(Z29>0,Z29+1, 0))","v":1}]
[null,{"$f":"B29+1","v":28},{"$f":"IF(AND(I29>0,I29<31),I29+1,0)","v":8},{"$f":"IF(AND(C30>0,C30<31),C30+1,0)","v":9},10,11,12,13,14,null,{"$f":"K29+1","v":32},{"$f":"IF(AND(R29>0,R29<31),R29+1,0)","v":5},{"$f":"IF(AND(L30>0,L30<31),L30+1,0)","v":6},7,8,9,10,11,null,{"$f":"T29+1","v":36},{"$f":"IF(AND(AA29>0,AA29<30),AA29+1,0)","v":2},{"$f":"IF(AND(U30>0,U30<30),U30+1,0)","v":3},4,5,6,7,8]
[null,{"$f":"B30+1","v":29},{"$f":"IF(AND(I30>0,I30<31),I30+1,0)","v":15},16,17,18,19,20,21,null,{"$f":"K30+1","v":33},{"$f":"IF(AND(R30>0,R30<31),R30+1,0)","v":12},13,14,15,16,17,18,null,{"$f":"T30+1","v":37},{"$f":"IF(AND(AA30>0,AA30<30),AA30+1,0)","v":9},10,11,12,13,14,15]
[null,{"$f":"B31+1","v":30},{"$f":"IF(AND(I31>0,I31<31),I31+1,0)","v":22},23,24,25,26,27,28,null,{"$f":"K31+1","v":34},{"$f":"IF(AND(R31>0,R31<31),R31+1,0)","v":19},20,21,22,23,24,25,null,{"$f":"T31+1","v":38},{"$f":"IF(AND(AA31>0,AA31<30),AA31+1,0)","v":16},17,18,19,20,21,22]
[null,{"$f":"B32+1","v":31},{"$f":"IF(AND(I32>0,I32<31),I32+1,0)","v":29},30,31,0,0,0,0,null,{"$f":"K32+1","v":35},{"$f":"IF(AND(R32>0,R32<31),R32+1,0)","v":26},27,28,29,30,31,0,null,{"$f":"T32+1","v":39},{"$f":"IF(AND(AA32>0,AA32<30),AA32+1,0)","v":23},24,25,26,27,28,29]
[null,{"$f":"IF(C34=0,0,B33+1)","v":0},{"$f":"IF(AND(I33>0,I33<31),I33+1,0)","v":0},0,0,0,0,0,0,null,{"$f":"IF(L34=0,0,K33+1)","v":0},{"$f":"IF(AND(R33>0,R33<31),R33+1,0)","v":0},0,0,0,0,0,0,null,{"$f":"IF(U34=0,0,T33+1)","v":40},{"$f":"IF(AND(AA33>0,AA33<30),AA33+1,0)","v":30},0,0,0,0,0,0]
[null,"أكتوبر",null,null,null,null,null,null,null,null,"نوفمبر",null,null,null,null,null,null,null,null,"ديسمبر"]
[null,"الأسابع","الأحد","الإثنين","الثلاثاء","الإربعاء","الخميس","الجمعة","السبت",null,"الأسابع","الأحد","الإثنين","الثلاثاء","الإربعاء","الخميس","الجمعة","السبت",null,"الأسابع","الأحد","الإثنين","الثلاثاء","الإربعاء","الخميس","الجمعة","السبت"]
[null,{"$f":"IF(T34>0,T34,T33+1)","v":40},{"$f":"IF($C$6=1,1,0)","v":0},{"$f":"IF($D$6=1,1, IF(C37>0,C37+1, 0))","v":1},{"$f":"IF($E$6=1,1, IF(D37>0,D37+1, 0))","v":2},{"$f":"IF($F$6=1,1, IF(E37>0,E37+1, 0))","v":3},{"$f":"IF($G$6=1,1, IF(F37>0,F37+1, 0))","v":4},{"$f":"IF($H$6=1,1, IF(G37>0,G37+1, 0))","v":5},{"$f":"IF($I$6=1,1, IF(H37>0,H37+1, 0))","v":6},null,{"$f":"IF(B42>0,B41+1,B41)","v":44},{"$f":"IF($L$6=1,1,0)","v":0},{"$f":"IF($M$6=1,1, IF(L37>0,L37+1, 0))","v":0},{"$f":"IF($N$6=1,1, IF(M37>0,M37+1, 0))","v":0},{"$f":"IF($O$6=1,1, IF(N37>0,N37+1, 0))","v":0},{"$f":"IF($P$6=1,1, IF(O37>0,O37+1, 0))","v":1},{"$f":"IF($Q$6=1,1, IF(P37>0,P37+1, 0))","v":2},{"$f":"IF($R$6=1,1, IF(Q37>0,Q37+1, 0))","v":3},null,{"$f":"IF(K42>0,K41+1,K41)","v":48},{"$f":"IF($U$6=1,1,0)","v":0},{"$f":"IF($V$6=1,1, IF(U37>0,U37+1, 0))","v":0},{"$f":"IF($W$6=1,1, IF(V37>0,V37+1, 0))","v":0},{"$f":"IF($X$6=1,1, IF(W37>0,W37+1, 0))","v":0},{"$f":"IF($Y$6=1,1, IF(X37>0,X37+1, 0))","v":0},{"$f":"IF($Z$6=1,1, IF(Y37>0,Y37+1, 0))","v":0},{"$f":"IF($AA$6=1,1, IF(Z37>0,Z37+1, 0))","v":1}]
[null,{"$f":"B37+1","v":41},{"$f":"IF(AND(I37>0,I37<31),I37+1,0)","v":7},{"$f":"IF(AND(C38>0,C38<31),C38+1,0)","v":8},9,10,11,12,13,null,{"$f":"K37+1","v":45},{"$f":"IF(AND(R37>0,R37<30),R37+1,0)","v":4},{"$f":"IF(AND(L38>0,L38<30),L38+1,0)","v":5},6,7,8,9,10,null,{"$f":"T37+1","v":49},{"$f":"IF(AND(AA37>0,AA37<31),AA37+1,0)","v":2},{"$f":"IF(AND(U38>0,U38<31),U38+1,0)","v":3},4,5,6,7,8]
[null,{"$f":"B38+1","v":42},{"$f":"IF(AND(I38>0,I38<31),I38+1,0)","v":14},15,16,17,18,19,20,null,{"$f":"K38+1","v":46},{"$f":"IF(AND(R38>0,R38<30),R38+1,0)","v":11},12,13,14,15,16,17,null,{"$f":"T38+1","v":50},{"$f":"IF(AND(AA38>0,AA38<31),AA38+1,0)","v":9},10,11,12,13,14,15]
[null,{"$f":"B39+1","v":43},{"$f":"IF(AND(I39>0,I39<31),I39+1,0)","v":21},22,23,24,25,26,27,null,{"$f":"K39+1","v":47},{"$f":"IF(AND(R39>0,R39<30),R39+1,0)","v":18},19,20,21,22,23,24,null,{"$f":"T39+1","v":51},{"$f":"IF(AND(AA39>0,AA39<31),AA39+1,0)","v":16},17,18,19,20,21,22]
[null,{"$f":"B40+1","v":44},{"$f":"IF(AND(I40>0,I40<31),I40+1,0)","v":28},29,30,31,0,0,0,null,{"$f":"K40+1","v":48},{"$f":"IF(AND(R40>0,R40<30),R40+1,0)","v":25},26,27,28,29,30,0,null,{"$f":"T40+1","v":52},{"$f":"IF(AND(AA40>0,AA40<31),AA40+1,0)","v":23},24,25,26,27,28,29]
[null,{"$f":"IF(C42=0,0,B41+1)","v":0},{"$f":"IF(AND(I41>0,I41<31),I41+1,0)","v":0},0,0,0,0,0,0,null,{"$f":"IF(L42=0,0,K41+1)","v":0},{"$f":"IF(AND(R41>0,R41<30),R41+1,0)","v":0},0,0,0,0,0,0,null,{"$f":"IF(U42=0,0,T41+1)","v":53},{"$f":"IF(AND(AA41>0,AA41<31),AA41+1,0)","v":30},31,0,0,0,0,0]

{"sheet":"ورقة20","index":15,"n_rows":164,"n_cols":21,"rows_kept":164,"cut":false,"hidden":false,"merged":[[51,13,51,14],[51,10,51,11],[3,10,5,13],[1,18,1,21],[10,4,10,5],[10,7,10,8],[10,10,10,11],[10,13,10,14],[10,16,10,17],[10,19,10,20],[51,7,51,8],[51,4,51,5],[11,4,11,5],[11,19,11,20],[11,16,11,17],[11,7,11,8],[50,4,50,5],[50,7,50,8],[50,10,50,11],[50,13,50,14],[50,16,50,17],[50,19,50,20],[51,19,51,20],[11,13,11,14],[11,10,11,11],[51,16,51,17]]}
[]
[]
[]
[null,null,null,null,null,null,null,null,null,null,2001]
[]
[]
[]
[]
[]
[]
[null,null,null,null,{"$f":"DATE(K4,1,1)","v":"2001-01-01"},null,null,{"$f":"DATE(K4,2,1)","v":"2001-02-01"},null,null,{"$f":"DATE(K4,3,1)","v":"2001-03-01"},null,null,{"$f":"DATE(K4,4,1)","v":"2001-04-01"},null,null,{"$f":"DATE(K4,5,1)","v":"2001-05-01"},null,null,{"$f":"DATE(K4,6,1)","v":"2001-06-01"}]
[null,null,null,null,"المواعيد والمناسبات",null,null,"المواعيد والمناسبات",null,null,"المواعيد والمناسبات",null,null,"المواعيد والمناسبات",null,null,"المواعيد والمناسبات",null,null,"المواعيد والمناسبات"]
[]
[null,null,null,{"$f":"DATE(K4,1,1)","v":"2001-01-01"},null,null,{"$f":"DATE(K4,2,1)","v":"2001-02-01"},null,null,{"$f":"DATE(K4,3,1)","v":"2001-03-01"},null,null,{"$f":"DATE(K4,4,1)","v":"2001-04-01"},null,null,{"$f":"DATE(K4,5,1)","v":"2001-05-01"},null,null,{"$f":"DATE(K4,6,1)","v":"2001-06-01"}]
[null,null,null,{"$f":"D14+1","v":"2001-01-02"},null,null,{"$f":"G14+1","v":"2001-02-02"},null,null,{"$f":"J14+1","v":"2001-03-02"},null,null,{"$f":"M14+1","v":"2001-04-02"},null,null,{"$f":"P14+1","v":"2001-05-02"},null,null,{"$f":"S14+1","v":"2001-06-02"}]
[null,null,null,{"$f":"D15+1","v":"2001-01-03"},null,null,{"$f":"G15+1","v":"2001-02-03"},null,null,"2001-03-03",null,null,{"$f":"M15+1","v":"2001-04-03"},null,null,{"$f":"P15+1","v":"2001-05-03"},null,null,{"$f":"S15+1","v":"2001-06-03"}]
[null,null,null,{"$f":"D16+1","v":"2001-01-04"},null,null,"2001-02-04",null,null,"2001-03-04",null,null,"2001-04-04",null,null,"2001-05-04",null,null,"2001-06-04"]
[null,null,null,"2001-01-05",null,null,"2001-02-05",null,null,"2001-03-05",null,null,"2001-04-05",null,null,"2001-05-05",null,null,"2001-06-05"]
[null,null,null,"2001-01-06",null,null,"2001-02-06",null,null,"2001-03-06",null,null,"2001-04-06",null,null,"2001-05-06",null,null,"2001-06-06"]
[null,null,null,"2001-01-07",null,null,"2001-02-07",null,null,"2001-03-07",null,null,"2001-04-07",null,null,"2001-05-07",null,null,"2001-06-07"]
[null,null,null,"2001-01-08",null,null,"2001-02-08",null,null,"2001-03-08",null,null,"2001-04-08",null,null,"2001-05-08",null,null,"2001-06-08"]
[null,null,null,"2001-01-09",null,null,"2001-02-09",null,null,"2001-03-09",null,null,"2001-04-09",null,null,"2001-05-09",null,null,"2001-06-09"]
[null,null,null,"2001-01-10",null,null,"2001-02-10",null,null,"2001-03-10",null,null,"2001-04-10",null,null,"2001-05-10",null,null,"2001-06-10"]
[null,null,null,"2001-01-11",null,null,"2001-02-11",null,null,"2001-03-11",null,null,"2001-04-11",null,null,"2001-05-11",null,null,"2001-06-11"]
[null,null,null,"2001-01-12",null,null,"2001-02-12",null,null,"2001-03-12",null,null,"2001-04-12",null,null,"2001-05-12",null,null,"2001-06-12"]
[null,null,null,"2001-01-13",null,null,"2001-02-13",null,null,"2001-03-13",null,null,"2001-04-13",null,null,"2001-05-13",null,null,"2001-06-13"]
[null,null,null,"2001-01-14",null,null,"2001-02-14",null,null,"2001-03-14",null,null,"2001-04-14",null,null,"2001-05-14",null,null,"2001-06-14"]
[null,null,null,"2001-01-15",null,null,"2001-02-15",null,null,"2001-03-15",null,null,"2001-04-15",null,null,"2001-05-15",null,null,"2001-06-15"]
[null,null,null,"2001-01-16",null,null,"2001-02-16",null,null,"2001-03-16",null,null,"2001-04-16",null,null,"2001-05-16",null,null,"2001-06-16"]
[null,null,null,"2001-01-17",null,null,"2001-02-17",null,null,"2001-03-17",null,null,"2001-04-17",null,null,"2001-05-17",null,null,"2001-06-17"]
[null,null,null,"2001-01-18",null,null,"2001-02-18",null,null,"2001-03-18",null,null,"2001-04-18",null,null,"2001-05-18",null,null,"2001-06-18"]
[null,null,null,"2001-01-19",null,null,"2001-02-19",null,null,"2001-03-19",null,null,"2001-04-19",null,null,"2001-05-19",null,null,"2001-06-19"]
[null,null,null,"2001-01-20",null,null,"2001-02-20",null,null,"2001-03-20",null,null,"2001-04-20",null,null,"2001-05-20",null,null,"2001-06-20"]
[null,null,null,"2001-01-21",null,null,"2001-02-21",null,null,"2001-03-21",null,null,"2001-04-21",null,null,"2001-05-21",null,null,"2001-06-21"]
[null,null,null,"2001-01-22",null,null,"2001-02-22",null,null,"2001-03-22",null,null,"2001-04-22",null,null,"2001-05-22",null,null,"2001-06-22"]
[null,null,null,"2001-01-23",null,null,"2001-02-23",null,null,"2001-03-23",null,null,"2001-04-23",null,null,"2001-05-23",null,null,"2001-06-23"]
[null,null,null,"2001-01-24",null,null,"2001-02-24",null,null,"2001-03-24",null,null,"2001-04-24",null,null,"2001-05-24",null,null,"2001-06-24"]
[null,null,null,"2001-01-25",null,null,"2001-02-25",null,null,"2001-03-25",null,null,"2001-04-25",null,null,"2001-05-25",null,null,"2001-06-25"]
[null,null,null,"2001-01-26",null,null,"2001-02-26",null,null,"2001-03-26",null,null,"2001-04-26",null,null,"2001-05-26",null,null,"2001-06-26"]
[null,null,null,"2001-01-27",null,null,"2001-02-27",null,null,"2001-03-27",null,null,"2001-04-27",null,null,"2001-05-27",null,null,"2001-06-27"]
[null,null,null,"2001-01-28",null,null,"2001-02-28",null,null,"2001-03-28",null,null,"2001-04-28",null,null,"2001-05-28",null,null,"2001-06-28"]
[null,null,null,"2001-01-29",null,null,{"$f":"IF(DAY(G41+1)=29,G14+28,\"\")","v":""},null,null,"2001-03-29",null,null,"2001-04-29",null,null,"2001-05-29",null,null,"2001-06-29"]
[null,null,null,"2001-01-30",null,null,null,null,null,"2001-03-30",null,null,"2001-04-30",null,null,"2001-05-30",null,null,"2001-06-30"]
[null,null,null,"2001-01-31",null,null,null,null,null,"2001-03-31",null,null," ",null,null,"2001-05-31",null,null," "]
[]
[]
[]
[]
[]
[]
[null,null,null,null,{"$f":"DATE(K4,7,1)","v":"2001-07-01"},null,null,{"$f":"DATE(K4,8,1)","v":"2001-08-01"},null,null,{"$f":"DATE(K4,9,1)","v":"2001-09-01"},null,null,{"$f":"DATE(K4,10,1)","v":"2001-10-01"},null,null,{"$f":"DATE(K4,11,1)","v":"2001-11-01"},null,null,{"$f":"DATE(K4,12,1)","v":"2001-12-01"}]
[null,null,null,null,"المواعيد والمناسبات",null,null,"المواعيد والمناسبات",null,null,"المواعيد والمناسبات",null,null,"المواعيد والمناسبات",null,null,"المواعيد والمناسبات",null,null,"المواعيد والمناسبات"]
[]
[null,null,null,{"$f":"DATE(K4,7,1)","v":"2001-07-01"},null,null,{"$f":"DATE(K4,8,1)","v":"2001-08-01"},null,null,{"$f":"DATE(K4,9,1)","v":"2001-09-01"},null,null,{"$f":"DATE(K4,10,1)","v":"2001-10-01"},null,null,{"$f":"DATE(K4,11,1)","v":"2001-11-01"},null,null,{"$f":"DATE(K4,12,1)","v":"2001-12-01"}]
[null,null,null,{"$f":"D54+1","v":"2001-07-02"},null,null,{"$f":"G54+1","v":"2001-08-02"},null,null,{"$f":"J54+1","v":"2001-09-02"},null,null,{"$f":"M54+1","v":"2001-10-02"},null,null,{"$f":"P54+1","v":"2001-11-02"},null,null,{"$f":"S54+1","v":"2001-12-02"}]
[null,null,null,{"$f":"D55+1","v":"2001-07-03"},null,null,{"$f":"G55+1","v":"2001-08-03"},null,null,{"$f":"J55+1","v":"2001-09-03"},null,null,{"$f":"M55+1","v":"2001-10-03"},null,null,{"$f":"P55+1","v":"2001-11-03"},null,null,{"$f":"S55+1","v":"2001-12-03"}]
[null,null,null,"2001-07-04",null,null,"2001-08-04",null,null,"2001-09-04",null,null,"2001-10-04",null,null,"2001-11-04",null,null,"2001-12-04"]
[null,null,null,"2001-07-05",null,null,"2001-08-05",null,null,"2001-09-05",null,null,"2001-10-05",null,null,"2001-11-05",null,null,"2001-12-05"]
[null,null,null,"2001-07-06",null,null,"2001-08-06",null,null,"2001-09-06",null,null,"2001-10-06",null,null,"2001-11-06",null,null,"2001-12-06"]
[null,null,null,"2001-07-07",null,null,"2001-08-07",null,null,"2001-09-07",null,null,"2001-10-07",null,null,"2001-11-07",null,null,"2001-12-07"]
[null,null,null,"2001-07-08",null,null,"2001-08-08",null,null,"2001-09-08",null,null,"2001-10-08",null,null,"2001-11-08",null,null,"2001-12-08"]
[null,null,null,"2001-07-09",null,null,"2001-08-09",null,null,"2001-09-09",null,null,"2001-10-09",null,null,"2001-11-09",null,null,"2001-12-09"]
[null,null,null,"2001-07-10",null,null,"2001-08-10",null,null,"2001-09-10",null,null,"2001-10-10",null,null,"2001-11-10",null,null,"2001-12-10"]
[null,null,null,"2001-07-11",null,null,"2001-08-11",null,null,"2001-09-11",null,null,"2001-10-11",null,null,"2001-11-11",null,null,"2001-12-11"]
[null,null,null,"2001-07-12",null,null,"2001-08-12",null,null,"2001-09-12",null,null,"2001-10-12",null,null,"2001-11-12",null,null,"2001-12-12"]
[null,null,null,"2001-07-13",null,null,"2001-08-13",null,null,"2001-09-13",null,null,"2001-10-13",null,null,"2001-11-13",null,null,"2001-12-13"]
[null,null,null,"2001-07-14",null,null,"2001-08-14",null,null,"2001-09-14",null,null,"2001-10-14",null,null,"2001-11-14",null,null,"2001-12-14"]
[null,null,null,"2001-07-15",null,null,"2001-08-15",null,null,"2001-09-15",null,null,"2001-10-15",null,null,"2001-11-15",null,null,"2001-12-15"]
[null,null,null,"2001-07-16",null,null,"2001-08-16",null,null,"2001-09-16",null,null,"2001-10-16",null,null,"2001-11-16",null,null,"2001-12-16"]
[null,null,null,"2001-07-17",null,null,"2001-08-17",null,null,"2001-09-17",null,null,"2001-10-17",null,null,"2001-11-17",null,null,"2001-12-17"]
[null,null,null,"2001-07-18",null,null,"2001-08-18",null,null,"2001-09-18",null,null,"2001-10-18",null,null,"2001-11-18",null,null,"2001-12-18"]
[null,null,null,"2001-07-19",null,null,"2001-08-19",null,null,"2001-09-19",null,null,"2001-10-19",null,null,"2001-11-19",null,null,"2001-12-19"]
[null,null,null,"2001-07-20",null,null,"2001-08-20",null,null,"2001-09-20",null,null,"2001-10-20",null,null,"2001-11-20",null,null,"2001-12-20"]
[null,null,null,"2001-07-21",null,null,"2001-08-21",null,null,"2001-09-21",null,null,"2001-10-21",null,null,"2001-11-21",null,null,"2001-12-21"]
[null,null,null,"2001-07-22",null,null,"2001-08-22",null,null,"2001-09-22",null,null,"2001-10-22",null,null,"2001-11-22",null,null,"2001-12-22"]
[null,null,null,"2001-07-23",null,null,"2001-08-23",null,null,"2001-09-23",null,null,"2001-10-23",null,null,"2001-11-23",null,null,"2001-12-23"]
[null,null,null,"2001-07-24",null,null,"2001-08-24",null,null,"2001-09-24",null,null,"2001-10-24",null,null,"2001-11-24",null,null,"2001-12-24"]
[null,null,null,"2001-07-25",null,null,"2001-08-25",null,null,"2001-09-25",null,null,"2001-10-25",null,null,"2001-11-25",null,null,"2001-12-25"]
[null,null,null,"2001-07-26",null,null,"2001-08-26",null,null,"2001-09-26",null,null,"2001-10-26",null,null,"2001-11-26",null,null,"2001-12-26"]
[null,null,null,"2001-07-27",null,null,"2001-08-27",null,null,"2001-09-27",null,null,"2001-10-27",null,null,"2001-11-27",null,null,"2001-12-27"]
[null,null,null,"2001-07-28",null,null,"2001-08-28",null,null,"2001-09-28",null,null,"2001-10-28",null,null,"2001-11-28",null,null,"2001-12-28"]
[null,null,null,"2001-07-29",null,null,"2001-08-29",null,null,"2001-09-29",null,null,"2001-10-29",null,null,"2001-11-29",null,null,"2001-12-29"]
[null,null,null,"2001-07-30",null,null,"2001-08-30",null,null,"2001-09-30",null,null,"2001-10-30",null,null,"2001-11-30",null,null,"2001-12-30"]
[null,null,null,"2001-07-31",null,null,"2001-08-31",null,null," ",null,null,"2001-10-31",null,null," ",null,null,"2001-12-31"]
[]
[null,null,null,null,{"$f":"SUM(E54:E84)","v":0},{"$f":"SUM(F54:F84)","v":0},null,{"$f":"SUM(H54:H84)","v":0},{"$f":"SUM(I54:I84)","v":0},null,{"$f":"SUM(K54:K83)","v":0},{"$f":"SUM(L54:L83)","v":0},null,{"$f":"SUM(N54:N84)","v":0},{"$f":"SUM(O54:O84)","v":0},null,{"$f":"SUM(Q54:Q83)","v":0},{"$f":"SUM(R54:R83)","v":0},null,{"$f":"SUM(T54:T84)","v":0},{"$f":"SUM(U54:U84)","v":0}]
[]
[null,null,null," "]
[]
[]
[]
[]
[]
[]
[]
[]
[]
[]
[]
[]
[]
[]
[]
[]
[]
[]
[]
[]
[]
[]
[]
[]
[]
[]
[]
[]
[]
[]
[]
[]
[]
[]
[]
[]
[]
[]
[]
[]
[]
[]
[]
[]
[]
[]
[]
[]
[]
[]
[]
[]
[]
[]
[]
[]
[]
[]
[]
[]
[]
[]
[]
[]
[]
[]
[]
[]
[]
[]
[]
[]
[]
[]
[]
[null,null,null,"    "]

{"sheet":"Salim","index":16,"n_rows":19,"n_cols":30,"rows_kept":19,"cut":false,"hidden":true,"merged":[]}
[null,null,null,null,null,null,null,null,null,null,null,null,null,null,null,null,null,null,null,null,null,null,null,null,null,"القسم مختصر"]
[null,null,null,null,null,null,null,null,null,null,null,null,null,null,null,null,null,null,null,null,null,null,null,null,null,"3هط1"]
[]
["رقم التسجيل","الرقم التسلسلي","الإسم ","اللقب","السنة","الشعبة","القسم","القسم مختصر","تاريخ الميلاد","مكان الميلاد","الجنس","إسم الأب","العنوان","أول يوم غياب","إشعار1","رقمــه","إشعار2","رقمــه","إعـــــذار","رقمـــه","الشطـــب","حركة التلاميذ","تاريخ الدخول","تاريخ الحروج"]
[529,529,"مراد 529","فريدة529","ثالثة","تقني رياضي",1,"3هط1","12/2/2528","البياضة","ذ","محمد علي529","حي الإزدهار - البياضة",null,"2019-07-25",529,"2019-08-22",529,"2020-06-17",529,null,null,null,null,null,null,null,null,null,{"$f":"INDEX(ALL!$E$6:$E$1500,MATCH(H5,ALL!$H$6:$H$13500,0))&\" \"&INDEX(ALL!$F$6:$F$1500,MATCH(H5,ALL!$H$6:$H$1500,0))","v":"ثالثة تقني رياضي"}]
[530,530,"مراد 530","فريدة530","ثالثة","تقني رياضي",1,"3هط1","12/2/2529","البياضة","ذ","محمد علي530","حي السلام -البياضة",null,"2019-07-26",530,"2019-08-23",530,"2020-06-18",530]
[531,531,"مراد 531","فريدة531","ثالثة","تقني رياضي",1,"3هط1","12/2/2530","البياضة","ذ","محمد علي531","حي الإزدهار - البياضة",null,"2019-07-27",531,"2019-08-24",531,"2020-06-19",531]
[532,532,"مراد 532","فريدة532","ثالثة","تقني رياضي",1,"3هط1","12/2/2531","الوادي","ذ","محمد علي532","حي السلام -البياضة",null,"2019-07-28",532,"2019-08-25",532,"2020-06-20",532]
[533,533,"مراد 533","فريدة533","ثالثة","تقني رياضي",1,"3هط1","12/2/2532","الوادي","ذ","محمد علي533","حي الإزدهار - البياضة",null,"2019-07-29",533,"2019-08-26",533,"2020-06-21",533]
[534,534,"مراد 534","فريدة534","ثالثة","تقني رياضي",1,"3هط1","12/2/2533","البياضة","ذ","محمد علي534","حي السلام -البياضة",null,"2019-07-30",534,"2019-08-27",534,"2020-06-22",534]
[535,535,"مراد 535","فريدة535","ثالثة","تقني رياضي",1,"3هط1","12/2/2534","البياضة","ذ","محمد علي535","حي الإزدهار - البياضة",null,"2019-07-31",535,"2019-08-28",535,"2020-06-23",535]
[536,536,"مراد 536","فريدة536","ثالثة","تقني رياضي",1,"3هط1","12/2/2535","البياضة","ذ","محمد علي536","حي السلام -البياضة",null,"2019-08-01",536,"2019-08-29",536,"2020-06-24",536]
[537,537,"مراد 537","فريدة537","ثالثة","تقني رياضي",1,"3هط1","12/2/2536","البياضة","ذ","محمد علي537","حي الإزدهار - البياضة",null,"2019-08-02",537,"2019-08-30",537,"2020-06-25",537]
[538,538,"مراد 538","فريدة538","ثالثة","تقني رياضي",1,"3هط1","12/2/2537","البياضة","ذ","محمد علي538","حي السلام -البياضة",null,"2019-08-03",538,"2019-08-31",538,"2020-06-26",538]
[539,539,"مراد 539","فريدة539","ثالثة","تقني رياضي",1,"3هط1","12/2/2538","البياضة","ذ","محمد علي539","حي الإزدهار - البياضة",null,"2019-08-04",539,"2019-09-01",539,"2020-06-27",539]
[540,540,"مراد 540","فريدة540","ثالثة","تقني رياضي",1,"3هط1","12/2/2539","البياضة","ذ","محمد علي540","حي السلام -البياضة",null,"2019-08-05",540,"2019-09-02",540,"2020-06-28",540]
[541,541,"مراد 541","فريدة541","ثالثة","تقني رياضي",1,"3هط1","12/2/2540","الوادي","ذ","محمد علي541","حي الإزدهار - البياضة",null,"2019-08-06",541,"2019-09-03",541,"2020-06-29",541]
[542,542,"مراد 542","فريدة542","ثالثة","تقني رياضي",1,"3هط1","12/2/2541","البياضة","ذ","محمد علي542","حي السلام -البياضة",null,"2019-08-07",542,"2019-09-04",542,"2020-06-30",542]
[543,543,"مراد 543","فريدة543","ثالثة","تقني رياضي",1,"3هط1","12/2/2542","الوادي","ذ","محمد علي543","حي الإزدهار - البياضة",null,"2019-08-08",543,"2019-09-05",543,"2020-07-01",543]