{"text_format":"1","workbook":"xlsx","n_sheets":6,"sheets":["MENU","الالتزام","الحوالة باديس","هام جدا","Four","BG"],"not_rendered":{"charts":0,"images":0,"macros":1,"external_links":14,"defined_names":309,"comments":0,"pivot_tables":0},"unopened":[],"bounds":{"document_bytes":16777216,"sheet_cells":100000,"rows_first":2000,"rows_last":500,"rows_between":2000,"halvings":0,"cell_chars":16384,"cell_head_chars":4096},"cells_cut":0,"cells_raw":0,"read":"whole","date_system":"1900"}

{"sheet":"MENU","index":0,"n_rows":8,"n_cols":11,"rows_kept":8,"cut":false,"hidden":false,"merged":[[0,1,15,1]]}
[null,null,null,null,null,null,null,null,null,null,5]
[null,null,null,null,null,null,"السنة المالية :",2018]
[]
[]
[]
[]
[]
[null,null,null,null,"003006930049403000 92"]

{"sheet":"الالتزام","index":1,"n_rows":2749,"n_cols":130,"rows_kept":1125,"cut":true,"hidden":false,"merged":[[0,31,0,34],[0,7,0,10],[0,11,0,14],[0,15,0,18],[0,19,0,22],[0,23,0,26],[0,27,0,30]],"bounds":{"rows_first":500,"rows_last":125,"rows_between":500,"halvings":2}}
[null,"الواجهة",null,null,null,null,null,"فاتـــــــــــــورة  رقم 01",null,null,null,"فاتـــــــــــــورة رقم 02",null,null,null,"فاتـــــــــــــورة رقم 03",null,null,null,"فاتـــــــــــــورة رقم 04",null,null,null,"فاتـــــــــــــورة رقم 05",null,null,null,"فاتـــــــــــــورة رقم 06",null,null,null,null,null,null,null,null,null,null,null,"وثائق اخرى",null,"وثائق اخرى"]
["رقم الحوالة","رمــز البند","اسم الباب","اسم المادة","الجهة المستفيدة","موضوع النفقة","مبلغ الالتزام","الرقم","التــاريـــخ","المبــلغ","العــــدد","الرقم","التــاريـــخ","المبــلغ","العــــدد","الرقم","التــاريـــخ","المبــلغ","العــــدد","الرقم","التــاريـــخ","المبــلغ","العــــدد","الرقم","التــاريـــخ","المبــلغ","العــــدد","الرقم","التــاريـــخ","المبــلغ","العــــدد","الرقم","التــاريـــخ","المبــلغ","العــــدد"," وصل طلب","عددها"," وصل تسليم","عددها","وثائق اخرى","عددها","وثائق اخرى","عددها","الرصيد المتبقي","رقم حساب الممون","طريقة التسديد","رقم الصك","مبلغ الصك","تاريخ الصك",null,"إسم البنك",null,"تاريخ الحوالة ","معلومات اخرى","تحقق من رقم الحساب البريدي","تحقق من رقم الحساب البنكي",null,"code","nom","ism",null,"الرمز","المادة","الباب",null,null,null,null,null,null,null,null,null,null,null,null,null,null,null,null,null,null,null,null,null,null,null,null,null,null,null,null,null,null,null,null,null,null,null,null,null,null,null,null,null,null,null,"تسديد المصاريف","التكاليف الملحقة","اللوازم","الأدوات و الأثاث","اللوازم البيداغوجية","نفقات الإطعام","الألبسة","التأمين","مصاريف التكوين ","حظيرة السيارات","نفقات تسيير وحدات الكشف و المتابعة (UDS)","المكتبة المدرسية ","النفقات المتعلقة بالنشاط الثقافي والرياضي","صيانة و تصليح المباني البيداغوجية والإدارية ","المصاريف القضائية والتعويضات المستخقة على عاتق الدولة ","نفقات تسيير أقسام الرياضة والدراسة ","منحة التمدرس الخاصة لفائدة التلاميذ المعوزين","المنح المدرسية","نفقات الكتاب المدرسي","نفقات النشاط التربوي الإستثنائي","نفقات اعادة الادراج","نفقات في انتظار التعيين","نفقات اجتماعية لخدمة التلاميذ"]
[1,{"$f":"IF(D3=\"\",\"\",INDEX(BG!A$3:$A$65,MATCH(D3,البند,0)))","v":"51-2"},"نفقات في انتظار التعيين","نفقات في انتظار التعيين","أمين خزينة ولاية سطيف","دفع فوائض 2017",{"$f":"J3+N3+R3+V3+Z3+AD3","v":606774.55000000005},null,null,606774.55000000005,null,null,null,null,null,null,null,null,null,null,null,null,null,null,null,null,null,null,null,null,null,null,null,null,null,null,null,null,null,null,null,null,null,{"$f":"IF(B3=\"\",0,LOOKUP(B3,[4]BG!$A$3:$A$65,[4]BG!$H$3:$H$65))-SUMIF($B$3:B3,B3,$G$3:G3)","v":20537.660000000033},{"$f":"IF(E3=\"\",\"\",INDEX(Four!A:G,MATCH(الالتزام!E3,ممون,0),4))","v":"   201007السطر10-07"},"خزينة",2348844,{"$f":"SUMIF(AU:AU,AU3,G:G)","v":606774.55000000005},"2018-05-31",{"$f":"LEFT(AS3,3)","v":"   "},{"$f":"IFERROR(LOOKUP(LEFT(AS3,3),$BF$3:$BF$33,$BH$3:$BH$33),\"\")","v":""},{"$f":"IFERROR(LOOKUP(LEFT(AS3,3),$BF$3:$BF$33,$BG$3:$BG$33),\"\")","v":""},"2018-06-30",{"$f":"MATCH(BC3,AS:AS)","v":237},"007999990000331260 94","005003284002299150 96","ب و ج","001","B-N-A","ب و ج",null,{"$f":"IF(D3=\"\",\"\",INDEX([4]BG!$A$3:$B$65,MATCH(D3,البند,0),1))","v":"51-2"},{"$f":"RIGHT(BJ3,1)","v":"2"},{"$f":"IF(BJ3=\"\",\"\",LEFT(RIGHT(BJ3,4),2))","v":"51"},null,null,null,null,null,null,null,null,null,null,null,null,null,null,null,null,null,null,null,null,null,null,null,null,null,null,null,null,null,null,null,null,null,null,null,null,null,null,null,null,null,null,null,"مصاريف المهام و التنقلات والاستقبالات داخل التراب الوطني و الخرجات البيداغوجية","الماء، الكهرباء و الغاز، الوقود، والطاقة الشمسية","اقتناء لوازم المكتب","تجديد وصيانة أدوات وأثاث المكاتب والعتاد المدرسي","لوازم  التجارب","إطعام التلاميذ","ملابس العمال المهنيين","تأمين التلاميذ أثناء الخرجات البيداغوجية","مصاريف التكوين والتحسين المستمرللمستوى المنظم على المستوى الولائي","اقتناء وتجديد السيارات","نفقات تسيير وحدات الكشف والمتابعة (UDS)","شراء كتب ومجلات تربوية","النفقات المتعلقة بالنشاط الثقافي ","صيانة وتصليح المباني البيدغوجية والإدارية ","المصاريف القضائية والتعويضات المستحقة على عاتق الدولة ","مصاريف الإطعام","منحة التمدرس الخاصة لفائدة التلاميذ المعوزين","منحة التجهيز لفائدة التلاميذ","تعويض النفقات المرتبطة بمجانية الكتاب المدرسي لفائدة التلاميذ المعوزين","الإطعام","نفقات اعادة الادراج","نفقات في انتظار التعيين","نفقات اجتماعية لخدمة التلاميذ"]
[2,{"$f":"IF(D4=\"\",\"\",INDEX(BG!A$3:$A$65,MATCH(D4,البند,0)))","v":"1-02-1"},"التكاليف الملحقة","الماء، الكهرباء و الغاز، الوقود، والطاقة الشمسية","شركة توزيع الكهرباء شرق ","تسديد فواتير الكهرباء و الغاز",{"$f":"J4+N4+R4+V4+Z4+AD4","v":227470.16999999998},"01/001068","2018-02-18",22513.22,2,"02/001076","2018-03-10",22410.09,2,"03/001069","2018-04-05",17455.419999999998,2,"04/001080","2018-05-07",22309.54,2,"05/001077","2018-06-05",16375.77,2,"01/000344","2018-02-12",126406.13,2,null,null,null,null,null,null,null,null,null,null,null,null,{"$f":"IF(B4=\"\",0,LOOKUP(B4,[4]BG!$A$3:$A$65,[4]BG!$H$3:$H$65))-SUMIF($B$3:B4,B4,$G$3:G4)","v":222529.83000000002},{"$f":"IF(E4=\"\",\"\",INDEX(Four!A:G,MATCH(الالتزام!E4,ممون,0),4))","v":"007999990000380676 62"},"خزينة",2348845,{"$f":"SUMIF(AU:AU,AU4,G:G)","v":227470.16999999998},"2018-06-30",{"$f":"LEFT(AS4,3)","v":"007"},"ح ج ب",{"$f":"IFERROR(LOOKUP(LEFT(AS4,3),$BF$3:$BF$33,$BG$3:$BG$33),\"\")","v":"CCP"},"2018-06-30",{"$f":"MATCH(BD3,AS:AS)+1","v":238},{"$f":"RIGHT(BC3,13)","v":"0000331260 94"},{"$f":"+MID(BD3,4,15)","v":"003284002299150"},"ب خ ج","002","B-E-A","ب خ ج",null,{"$f":"IF(D4=\"\",\"\",INDEX([4]BG!$A$3:$B$65,MATCH(D4,البند,0),1))","v":"1-02-1"},{"$f":"RIGHT(BJ4,1)","v":"1"},{"$f":"IF(BJ4=\"\",\"\",LEFT(RIGHT(BJ4,4),2))","v":"02"},null,null,null,null,null,null,null,null,null,null,null,null,null,null,null,null,null,null,null,null,null,null,null,null,null,null,null,null,null,null,null,null,null,null,null,null,null,null,null,null,null,null,null,"مصاريف الدراسة، الخبرة، المحامون والمحضرون القضائيون","مصاريف البريد والمواصلات ( اتاوات الهاتف، التلكس، الانترنيت والرسوم المختلفة )","مستهلكات وبرامج الإعلام الآلي","اقتناء و صيانة أجهزة الإعلام الآلي","مواد التجارب والكواشف ومواد المخابر","إطعام المستخدمين = العددx المدة x سعر الوجبة",null,null,"نفقات التكوين ما قبل الترقية","الوقود والزيوت",null,"الإشتراك في المجلات والدوريات البيداغوجية","النفقات المتعلقة بالنشاط الرياضي","اقتناء مواد البناء، الترصيص، الخردوات، كهرباء، التدفئة التكييف وأدوات الصيانة الصغيرة",null,"نقل وتأمين التلاميذ",null,null,"تسديد مستحقات الديوان الوطني للمطبوعات المدرسية من بيع الكتاب المدرسي","مصاريف الإقامة و التمدرس"]
[3,{"$f":"IF(D5=\"\",\"\",INDEX(BG!A$3:$A$65,MATCH(D5,البند,0)))","v":"1-06-1"},"نفقات الإطعام","إطعام التلاميذ","التونسي سعيدي","تسديد فواتير تموين المؤسسة بالخبز",{"$f":"J5+N5+R5+V5+Z5+AD5","v":147007.5},"01/2018","2018-01-31",40035,2,"02/2018","2018-02-28",37315,2,"03/2018","2018-03-31",13345,2,"04/2018","2018-04-30",34170,2,"05/2018","2018-05-24",9435,2,"06/2018","2018-06-26",12707.5,2,null,null,null,null,"1/5/9/13/17/19/23/27/31/35/36/40/52/48/44/60/61/66/70/","19","1/2/3/4/5/6/7/8/9/10/11/12/13/14/15/16/17/18/19/20/21/22/23/24/25/","20","1","2","3","4",{"$f":"IF(B5=\"\",0,LOOKUP(B5,[4]BG!$A$3:$A$65,[4]BG!$H$3:$H$65))-SUMIF($B$3:B5,B5,$G$3:G5)","v":4604992.5},{"$f":"IF(E5=\"\",\"\",INDEX(Four!A:G,MATCH(الالتزام!E5,ممون,0),4))","v":"00300699001265300077"},"خزينة",2348846,{"$f":"SUMIF(AU:AU,AU5,G:G)","v":1366235.5},"2018-06-30","003","ب ف ت ر","B-A-D-R","2018-06-30",null,{"$f":"LEFT(BC4,10)","v":"0000331260"},{"$f":"BD4*100","v":328400229915000},"ب ف ت ر","003","B-A-D-R","ب ف ت ر",null,{"$f":"IF(D5=\"\",\"\",INDEX([4]BG!$A$3:$B$65,MATCH(D5,البند,0),1))","v":"1-06-1"},{"$f":"RIGHT(BJ5,1)","v":"1"},{"$f":"IF(BJ5=\"\",\"\",LEFT(RIGHT(BJ5,4),2))","v":"06"},null,null,null,null,null,null,null,null,null,null,null,null,null,null,null,null,null,null,null,null,null,null,null,null,null,null,null,null,null,null,null,null,null,null,null,null,null,null,null,null,null,null,null,null,"مصاريف الإعلان في الصحف","مصاريف النسخ والطبع","اقتناء وصيانة أدوات الوقاية والأمن","الإستنساخ ، الطباشير ، الأقلام ، الطلاسات وغيرها","إطعام المدعوين و آخرون= العددx المدة x سعر الوجبة",null,null,"نفقات الامتحانات و المسابقات المهنية","صيانة وتصليح و شحن السيارات وشراء قطع الغيار",null,null,null,"صيانة المساحات الخضراء والمسالك",null,"إقتناء الأدوات واللوازم الرياضية والبياغوجية "]
[4,{"$f":"IF(D6=\"\",\"\",INDEX(BG!A$3:$A$65,MATCH(D6,البند,0)))","v":"1-06-1"},"نفقات الإطعام","إطعام التلاميذ","نبيل بلقيدوم","تسديد فواتير تموين المؤسسة بمواد الغذائية",{"$f":"J6+N6+R6+V6+Z6+AD6","v":398560},"01/2018","2018-01-31",73930,2,"02/2018","2018-02-28",52220,2,"03/2018","2018-03-31",31200,2,"04/2018","2018-04-30",178750,2,"05/2018","2018-05-22",2800,2,"06/2018","2018-06-26",59660,2,null,null,null,null,"2/6/10/14/32/24/20/37/41/45/49/53/57/67/71","15","1/2/3/4/5/6/7/8/9/10/11/12/13/14/15/16/17/18/19/20","25",null,null,null,null,{"$f":"IF(B6=\"\",0,LOOKUP(B6,[4]BG!$A$3:$A$65,[4]BG!$H$3:$H$65))-SUMIF($B$3:B6,B6,$G$3:G6)","v":4206432.5},{"$f":"IF(E6=\"\",\"\",INDEX(Four!A:G,MATCH(الالتزام!E6,ممون,0),4))","v":"00300699010082300056"},"خزينة",2348846,{"$f":"SUMIF(AU:AU,AU7,G:G)","v":1366235.5},"2018-06-30","003","ب ف ت ر","B-A-D-R","2018-06-30",null,{"$f":"BC5*100","v":33126000},{"$f":"+BD5/97","v":3385569380567.0103},"ث ش ج","004","C-P-A","ق ش ج",null,{"$f":"IF(D6=\"\",\"\",INDEX([4]BG!$A$3:$B$65,MATCH(D6,البند,0),1))","v":"1-06-1"},"1",{"$f":"IF(BJ6=\"\",\"\",LEFT(RIGHT(BJ6,4),2))","v":"06"},null,null,null,null,null,null,null,null,null,null,null,null,null,null,null,null,null,null,null,null,null,null,null,null,null,null,null,null,null,null,null,null,null,null,null,null,null,null,null,null,null,null,null,null,"تعويض مصاريف الاستهلاك المنزلي للكهرباء و الغاز بنسبة 50% للجنوب","البياضة","تجديد و صيانة لوازم ومستلزمات المطعم",null,null,null,null,"تشجيع التكوين أثناء الخدمة و عن بعد لمعلمي التعليم الإبتدائي","اقتناء العجلات"]
[5,{"$f":"IF(D7=\"\",\"\",INDEX(BG!A$3:$A$65,MATCH(D7,البند,0)))","v":"1-06-1"},"نفقات الإطعام","إطعام التلاميذ","فريد خلفاوي","تسديد فواتير تموين المؤسسة بالخضر و الفواكه",744770,"01/2018","2018-01-31",287405,2,"02/2018","2018-02-28",194070,2,"03/2018","2018-03-31",20610,2,"04/2018","2018-04-30",117230,2,"05/2018","2018-05-22",15725,2,"06/2018","2018-06-26",109730,2,null,null,null,null,"4/8/12/16/22/26/30/34/39/43/47/51/55/59/64/69/73","17","1/2/3/4/5/6/7/8/9/10/11/12/13/14/15/16/17/18","18",null,null,null,null,{"$f":"IF(B7=\"\",0,LOOKUP(B7,[4]BG!$A$3:$A$65,[4]BG!$H$3:$H$65))-SUMIF($B$3:B7,B7,$G$3:G7)","v":3461662.5},{"$f":"IF(E7=\"\",\"\",INDEX(Four!A:G,MATCH(الالتزام!E7,ممون,0),4))","v":"00400357400000891020"},"خزينة",2348846,{"$f":"SUMIF(AU:AU,AU7,G:G)","v":1366235.5},"2018-06-30","004","ق ش ج","C-P-A","2018-06-30",null,{"$f":"+MOD(BC6,97)","v":15},{"$f":"+INT(BD6)","v":3385569380567},"ب ت م","005","B-D-L","ب ت م",null,{"$f":"IF(D7=\"\",\"\",INDEX([4]BG!$A$3:$B$65,MATCH(D7,البند,0),1))","v":"1-06-1"},"1","06",null,null,null,null,null,null,null,null,null,null,null,null,null,null,null,null,null,null,null,null,null,null,null,null,null,null,null,null,null,null,null,null,null,null,null,null,null,null,null,null,null,null,null,null,"اقتناء و تركيب لواحق الهاتف والربط بالأنترنيت","المواد الصيدلانية","اقتناء الستائر و الأعلام و لوازم الداخلية",null,null,null,null,null,"مصاريف الترقيم والتعريف"]
[6,{"$f":"IF(D8=\"\",\"\",INDEX(BG!A$3:$A$65,MATCH(D8,البند,0)))","v":"1-06-1"},"نفقات الإطعام","إطعام التلاميذ","بعداش أحمد","تسديد فواتير تموين المؤسسة باللحم و البيض",1265750,"01/2018","2018-01-31",416500,2,"02/2018","2018-02-28",377800,2,"03/2018","2018-03-31",98350,2,"04/2018","2018-04-30",319350,2,"05/2018","2018-05-22",53750,2,null,null,null,null,null,null,null,null,"3/7/11/15/18/20/25/29/33/38/42/46/50/54/58/63/65/68","19","1/2/3/4/5/6/7/8/9/10/11/12/13/14/15/16/17/18/19/20/21/22/23/24/25/226/27/28/29/30/31/32/33/34/35/36/37/38/39/40/41","42",null,null,null,null,{"$f":"IF(B8=\"\",0,LOOKUP(B8,[4]BG!$A$3:$A$65,[4]BG!$H$3:$H$65))-SUMIF($B$3:B8,B8,$G$3:G8)","v":2195912.5},{"$f":"IF(E8=\"\",\"\",INDEX(Four!A:G,MATCH(الالتزام!E8,ممون,0),4))","v":"00200036036220004616"},"خزينة",2348847,{"$f":"SUMIF(AU:AU,AU8,G:G)","v":1265750},"2018-06-30","002","ب خ ج","B-E-A","2018-06-30",null,85,{"$f":"+BD7*97","v":328400229914999},"بركة","006","BARAKA","براكة",null,{"$f":"IF(D8=\"\",\"\",INDEX([4]BG!$A$3:$B$65,MATCH(D8,البند,0),1))","v":"1-06-1"},"1","06",null,null,null,null,null,null,null,null,null,null,null,null,null,null,null,null,null,null,null,null,null,null,null,null,null,null,null,null,null,null,null,null,null,null,null,null,null,null,null,null,null,null,null,null,"تأمين المباني","مواد التنظيف",null,null,null,null,null,null,"تأمين السيارات"]
[7,{"$f":"IF(D9=\"\",\"\",INDEX(BG!A$3:$A$65,MATCH(D9,البند,0)))","v":"3-02-1"},"المنح المدرسية","منحة التجهيز لفائدة التلاميذ","ليتيم فارس","تسديد فاتورة صرف منح التجهيز لفائدة تلاميذ التقني",30000,"01/2018","2018-05-15",30000,2,null,null,null,null,null,null,null,null,null,null,null,null,null,null,null,null,null,null,null,null,null,null,null,null,"1","1","1","1",null,null,null,null,{"$f":"IF(B9=\"\",0,LOOKUP(B9,[4]BG!$A$3:$A$65,[4]BG!$H$3:$H$65))-SUMIF($B$3:B9,B9,$G$3:G9)","v":30000},{"$f":"IF(E9=\"\",\"\",INDEX(Four!A:G,MATCH(الالتزام!E9,ممون,0),4))","v":"00799999001880424164"},"خزينة",2348846,{"$f":"SUMIF(AU:AU,AU9,G:G)","v":1366235.5},"2018-06-30","007","ح ج ب","CCP","2018-06-30",null,{"$f":"IF(BC8+BC7>97,BC8+BC7-97,BC8+BC7)","v":3},{"$f":"BD5-BD8","v":1},"ح ج ب","007","CCP","ح ج ب",null,{"$f":"IF(D9=\"\",\"\",INDEX([4]BG!$A$3:$B$65,MATCH(D9,البند,0),1))","v":"3-02-1"},"1","02",null,null,null,null,null,null,null,null,null,null,null,null,null,null,null,null,null,null,null,null,null,null,null,null,null,null,null,null,null,null,null,null,null,null,null,null,null,null,null,null,null,null,null,null,null,null,null,null,null,null,null,null,"مصاريف اقتناء قسيمة السيارات"]
[8,{"$f":"IF(D10=\"\",\"\",INDEX(BG!A$3:$A$65,MATCH(D10,البند,0)))","v":"1-03-2"},"اللوازم","مستهلكات وبرامج الإعلام الآلي","ش ذ م م ميتاغروب","تسديد فاتورة متابعة و تحين برنامج ميتاسكول",5541,"041/2018","2018-02-02",5541,null,null,null,null,null,null,null,null,null,null,null,null,null,null,null,null,null,null,null,null,null,null,null,null,null,null,null,null,null,null,null,null,null,{"$f":"IF(B10=\"\",0,LOOKUP(B10,[4]BG!$A$3:$A$65,[4]BG!$H$3:$H$65))-SUMIF($B$3:B10,B10,$G$3:G10)","v":7459},{"$f":"IF(E10=\"\",\"\",INDEX(Four!A:G,MATCH(الالتزام!E10,ممون,0),4))","v":"00500374400242805066"},"خزينة",2348846,1366235.5,"2018-06-30","005","ب ت م","B-D-L","2018-06-30",null,{"$f":"97-BC9","v":94},{"$f":"IF((97-BD9)<10,0&(97-BD9),97-BD9)","v":96},"خزينة","008","TP","خزينة الولاية",null,{"$f":"IF(D10=\"\",\"\",INDEX([4]BG!$A$3:$B$65,MATCH(D10,البند,0),1))","v":"1-03-2"},"2","03"]
[9,{"$f":"IF(D11=\"\",\"\",INDEX(BG!A$3:$A$65,MATCH(D11,البند,0)))","v":"1-03-2"},"اللوازم","مستهلكات وبرامج الإعلام الآلي","ميكرولوجيسيال","تسديد فاتورة متابعة و تحين برنامج الرواتب و المخزون",3510,null,null,3510,null,null,null,null,null,null,null,null,null,null,null,null,null,null,null,null,null,null,null,null,null,null,null,null,null,null,null,null,null,null,null,null,null,{"$f":"IF(B11=\"\",0,LOOKUP(B11,[4]BG!$A$3:$A$65,[4]BG!$H$3:$H$65))-SUMIF($B$3:B11,B11,$G$3:G11)","v":3949},{"$f":"IF(E11=\"\",\"\",INDEX(Four!A:G,MATCH(الالتزام!E11,ممون,0),4))","v":"00100711030000060236"},"خزينة",2348846,1366235.5,"2018-06-30","001","ب و ج","B-N-A","2018-06-30",null,{"$f":"IF(BC10<10,\"0\"&BC10,BC10)","v":94},{"$f":"RIGHT(BD3,2)","v":"96"},"ب ج ت","009","BAD","ب ج ت",null,{"$f":"IF(D11=\"\",\"\",INDEX([4]BG!$A$3:$B$65,MATCH(D11,البند,0),1))","v":"1-03-2"},"2","03"]
[10,{"$f":"IF(D12=\"\",\"\",INDEX(BG!A$3:$A$65,MATCH(D12,البند,0)))","v":"1-04-3"},"الأدوات و الأثاث","اقتناء وصيانة أدوات الوقاية والأمن","عباس عبد العزيز","تعبئة و مراقبة قارورات الإطفاء",13447,null,null,13447,null,null,null,null,null,null,null,null,null,null,null,null,null,null,null,null,null,null,null,null,null,null,null,null,null,null,null,null,null,null,null,null,null,{"$f":"IF(B12=\"\",0,LOOKUP(B12,[4]BG!$A$3:$A$65,[4]BG!$H$3:$H$65))-SUMIF($B$3:B12,B12,$G$3:G12)","v":14553},{"$f":"IF(E12=\"\",\"\",INDEX(Four!A:G,MATCH(الالتزام!E12,ممون,0),4))","v":"00200036360456201113"},"خزينة",2348846,1366235.5,"2018-06-30","002","ب خ ج","B-E-A","2018-06-30",null,{"$f":"RIGHT(BC3,2)","v":"94"},{"$f":"RIGHT(BD3,2)","v":"96"},null,"010","CNMA","ص و ت ف",null,{"$f":"IF(D12=\"\",\"\",INDEX([4]BG!$A$3:$B$65,MATCH(D12,البند,0),1))","v":"1-04-3"},"3","04"]
[11,{"$f":"IF(D13=\"\",\"\",INDEX(BG!A$3:$A$65,MATCH(D13,البند,0)))","v":"1-04-1"},"الأدوات و الأثاث","تجديد وصيانة أدوات وأثاث المكاتب والعتاد المدرسي","فليفلة حدة","تسديد فاتورة وسائل علمية",23400,null,null,23400,null,null,null,null,null,null,null,null,null,null,null,null,null,null,null,null,null,null,null,null,null,null,null,null,null,null,null,null,null,null,null,null,null,{"$f":"IF(B13=\"\",0,LOOKUP(B13,[4]BG!$A$3:$A$65,[4]BG!$H$3:$H$65))-SUMIF($B$3:B13,B13,$G$3:G13)","v":36600},{"$f":"IF(E13=\"\",\"\",INDEX(Four!A:G,MATCH(الالتزام!E13,ممون,0),4))","v":"00400351400000640478"},"خزينة",2348846,1366235.5,"2018-06-30","004","ق ش ج","C-P-A","2018-06-30",null,{"$f":"LEN(BC3)","v":21},{"$f":"LEN(BD3)","v":21},"ص و ت ا","011","CNEP","ص و ت ا",null,{"$f":"IF(D13=\"\",\"\",INDEX([4]BG!$A$3:$B$65,MATCH(D13,البند,0),1))","v":"1-04-1"},"1","04"]
[12,{"$f":"IF(D14=\"\",\"\",INDEX(BG!A$3:$A$65,MATCH(D14,البند,0)))","v":""},null,null,null,null,0,null,null,null,null,null,null,null,null,null,null,null,null,null,null,null,null,null,null,null,null,null,null,null,null,null,null,null,null,null,null,null,null,null,null,null,null,{"$f":"IF(B14=\"\",0,LOOKUP(B14,[4]BG!$A$3:$A$65,[4]BG!$H$3:$H$65))-SUMIF($B$3:B14,B14,$G$3:G14)","v":0},{"$f":"IF(E14=\"\",\"\",INDEX(Four!A:G,MATCH(الالتزام!E14,ممون,0),4))","v":""},null,null,0,null,"","","",null,null,{"$f":"IF(BC13=21,\"ممتاز\",\"خطأ في عدد الارقام\")","v":"ممتاز"},{"$f":"IF(BD13=21,\"ممتاز\",\"خطأ في عدد الارقام\")","v":"ممتاز"},null,"012","CITY_BANK","سيتي بنك",null,{"$f":"IF(D14=\"\",\"\",INDEX([4]BG!$A$3:$B$65,MATCH(D14,البند,0),1))","v":""},"",""]
[13,{"$f":"IF(D15=\"\",\"\",INDEX(BG!A$3:$A$65,MATCH(D15,البند,0)))","v":""},null,null,null,null,0,null,null,null,null,null,null,null,null,null,null,null,null,null,null,null,null,null,null,null,null,null,null,null,null,null,null,null,null,null,null,null,null,null,null,null,null,{"$f":"IF(B15=\"\",0,LOOKUP(B15,[4]BG!$A$3:$A$65,[4]BG!$H$3:$H$65))-SUMIF($B$3:B15,B15,$G$3:G15)","v":0},{"$f":"IF(E15=\"\",\"\",INDEX(Four!A:G,MATCH(الالتزام!E15,ممون,0),4))","v":""},null,null,0,null,"","","",null,null,{"$f":"IF(BC11-BC12=0,\"صحيح\",\"خطا في مفتاح الحساب\")","v":"صحيح"},{"$f":"IF(BD11-BD12=0,\"صحيح\",\"خطا في مفتاح الحساب\")","v":"صحيح"},"ج ب ","014","ABC_CORP","ابيسي كورب",null,{"$f":"IF(D15=\"\",\"\",INDEX([4]BG!$A$3:$B$65,MATCH(D15,البند,0),1))","v":""},"",""]
[14,{"$f":"IF(D16=\"\",\"\",INDEX(BG!A$3:$A$65,MATCH(D16,البند,0)))","v":""},null,null,null,null,0,null,null,null,null,null,null,null,null,null,null,null,null,null,null,null,null,null,null,null,null,null,null,null,null,null,null,null,null,null,null,null,null,null,null,null,null,{"$f":"IF(B16=\"\",0,LOOKUP(B16,[4]BG!$A$3:$A$65,[4]BG!$H$3:$H$65))-SUMIF($B$3:B16,B16,$G$3:G16)","v":0},{"$f":"IF(E16=\"\",\"\",INDEX(Four!A:G,MATCH(الالتزام!E16,ممون,0),4))","v":""},null,null,0,null,"","","",null,null,null,null,null,"020","NATEXIS","ناتكسيس",null,{"$f":"IF(D16=\"\",\"\",INDEX([4]BG!$A$3:$B$65,MATCH(D16,البند,0),1))","v":""},"",""]
[15,{"$f":"IF(D17=\"\",\"\",INDEX(BG!A$3:$A$65,MATCH(D17,البند,0)))","v":""},null,null,null,null,0,null,null,null,null,null,null,null,null,null,null,null,null,null,null,null,null,null,null,null,null,null,null,null,null,null,null,null,null,null,null,null,null,null,null,null,null,{"$f":"IF(B17=\"\",0,LOOKUP(B17,[4]BG!$A$3:$A$65,[4]BG!$H$3:$H$65))-SUMIF($B$3:B17,B17,$G$3:G17)","v":0},{"$f":"IF(E17=\"\",\"\",INDEX(Four!A:G,MATCH(الالتزام!E17,ممون,0),4))","v":""},null,null,0,null,"","","",null,null,null,null,"سوسيتي جنرال","021","SOCIETE-G","سوسيتي جنرال",null,{"$f":"IF(D17=\"\",\"\",INDEX([4]BG!$A$3:$B$65,MATCH(D17,البند,0),1))","v":""},"",""]
[16,{"$f":"IF(D18=\"\",\"\",INDEX(BG!A$3:$A$65,MATCH(D18,البند,0)))","v":""},null,null,null,null,0,null,null,null,null,null,null,null,null,null,null,null,null,null,null,null,null,null,null,null,null,null,null,null,null,null,null,null,null,null,null,null,null,null,null,null,null,{"$f":"IF(B18=\"\",0,LOOKUP(B18,[4]BG!$A$3:$A$65,[4]BG!$H$3:$H$65))-SUMIF($B$3:B18,B18,$G$3:G18)","v":0},{"$f":"IF(E18=\"\",\"\",INDEX(Four!A:G,MATCH(الالتزام!E18,ممون,0),4))","v":""},null,null,0,null,"","","",null,null,"يكتب رقم الحساب : 18 رقم الاولى ثم فراغ ثم الرقمين الاخيرين",null,null,"026","ARAB_BANK_PLC","بنك العرب",null,{"$f":"IF(D18=\"\",\"\",INDEX([4]BG!$A$3:$B$65,MATCH(D18,البند,0),1))","v":""},"",""]
[17,{"$f":"IF(D19=\"\",\"\",INDEX(BG!A$3:$A$65,MATCH(D19,البند,0)))","v":""},null,null,null,null,0,null,null,null,null,null,null,null,null,null,null,null,null,null,null,null,null,null,null,null,null,null,null,null,null,null,null,null,null,null,null,null,null,null,null,null,null,{"$f":"IF(B19=\"\",0,LOOKUP(B19,[4]BG!$A$3:$A$65,[4]BG!$H$3:$H$65))-SUMIF($B$3:B19,B19,$G$3:G19)","v":0},{"$f":"IF(E19=\"\",\"\",INDEX(Four!A:G,MATCH(الالتزام!E19,ممون,0),4))","v":""},null,null,0,null,"","","",null,null,null,null,"بي سي يا","027","BNP","بي ان بي",null,{"$f":"IF(D19=\"\",\"\",INDEX([4]BG!$A$3:$B$65,MATCH(D19,البند,0),1))","v":""},"",""]
[18,{"$f":"IF(D20=\"\",\"\",INDEX(BG!A$3:$A$65,MATCH(D20,البند,0)))","v":""},null,null,null,null,0,null,null,null,null,null,null,null,null,null,null,null,null,null,null,null,null,null,null,null,null,null,null,null,null,null,null,null,null,null,null,null,null,null,null,null,null,{"$f":"IF(B20=\"\",0,LOOKUP(B20,[4]BG!$A$3:$A$65,[4]BG!$H$3:$H$65))-SUMIF($B$3:B20,B20,$G$3:G20)","v":0},{"$f":"IF(E20=\"\",\"\",INDEX(Four!A:G,MATCH(الالتزام!E20,ممون,0),4))","v":""},null,null,0,null,"","","",null,null,null,null,null,"029","TRUST_BANK","تروست بنك",null,{"$f":"IF(D20=\"\",\"\",INDEX([4]BG!$A$3:$B$65,MATCH(D20,البند,0),1))","v":""},"",""]
[19,{"$f":"IF(D21=\"\",\"\",INDEX(BG!A$3:$A$65,MATCH(D21,البند,0)))","v":""},null,null,null,null,0,null,null,null,null,null,null,null,null,null,null,null,null,null,null,null,null,null,null,null,null,null,null,null,null,null,null,null,null,null,null,null,null,null,null,null,null,{"$f":"IF(B21=\"\",0,LOOKUP(B21,[4]BG!$A$3:$A$65,[4]BG!$H$3:$H$65))-SUMIF($B$3:B21,B21,$G$3:G21)","v":0},{"$f":"IF(E21=\"\",\"\",INDEX(Four!A:G,MATCH(الالتزام!E21,ممون,0),4))","v":""},null,null,0,null,"","","",null,null,null,null,null,"031","HOUSING_BANK_AG","هوستيك بنك",null,{"$f":"IF(D21=\"\",\"\",INDEX([4]BG!$A$3:$B$65,MATCH(D21,البند,0),1))","v":""},"",""]
[20,{"$f":"IF(D22=\"\",\"\",INDEX(BG!A$3:$A$65,MATCH(D22,البند,0)))","v":""},null,null,null,null,0,null,null,null,null,null,null,null,null,null,null,null,null,null,null,null,null,null,null,null,null,null,null,null,null,null,null,null,null,null,null,null,null,null,null,null,null,{"$f":"IF(B22=\"\",0,LOOKUP(B22,[4]BG!$A$3:$A$65,[4]BG!$H$3:$H$65))-SUMIF($B$3:B22,B22,$G$3:G22)","v":0},{"$f":"IF(E22=\"\",\"\",INDEX(Four!A:G,MATCH(الالتزام!E22,ممون,0),4))","v":""},null,null,0,null,"","","",null,null,null,null,null,"032","ALGERIA_GULF_BANK","بنك الخليج الجزائري",null,{"$f":"IF(D22=\"\",\"\",INDEX([4]BG!$A$3:$B$65,MATCH(D22,البند,0),1))","v":""},"",""]
[21,{"$f":"IF(D23=\"\",\"\",INDEX(BG!A$3:$A$65,MATCH(D23,البند,0)))","v":""},null,null,null,null,0,null,null,null,null,null,null,null,null,null,null,null,null,null,null,null,null,null,null,null,null,null,null,null,null,null,null,null,null,null,null,null,null,null,null,null,null,{"$f":"IF(B23=\"\",0,LOOKUP(B23,[4]BG!$A$3:$A$65,[4]BG!$H$3:$H$65))-SUMIF($B$3:B23,B23,$G$3:G23)","v":0},{"$f":"IF(E23=\"\",\"\",INDEX(Four!A:G,MATCH(الالتزام!E23,ممون,0),4))","v":""},null,null,0,null,"","","",null,null,null,null,null,"035","FRANSABANK","فرنس بنك",null,{"$f":"IF(D23=\"\",\"\",INDEX([4]BG!$A$3:$B$65,MATCH(D23,البند,0),1))","v":""},"",""]
[22,{"$f":"IF(D24=\"\",\"\",INDEX(BG!A$3:$A$65,MATCH(D24,البند,0)))","v":""},null,null,null,null,0,null,null,null,null,null,null,null,null,null,null,null,null,null,null,null,null,null,null,null,null,null,null,null,null,null,null,null,null,null,null,null,null,null,null,null,null,{"$f":"IF(B24=\"\",0,LOOKUP(B24,[4]BG!$A$3:$A$65,[4]BG!$H$3:$H$65))-SUMIF($B$3:B24,B24,$G$3:G24)","v":0},{"$f":"IF(E24=\"\",\"\",INDEX(Four!A:G,MATCH(الالتزام!E24,ممون,0),4))","v":""},null,null,0,null,"","","",null,null,null,null,null,"036","CALYON","كاليون",null,{"$f":"IF(D24=\"\",\"\",INDEX([4]BG!$A$3:$B$65,MATCH(D24,البند,0),1))","v":""},"",""]
[23,{"$f":"IF(D25=\"\",\"\",INDEX(BG!A$3:$A$65,MATCH(D25,البند,0)))","v":""},null,null,null,null,0,null,null,null,null,null,null,null,null,null,null,null,null,null,null,null,null,null,null,null,null,null,null,null,null,null,null,null,null,null,null,null,null,null,null,null,null,{"$f":"IF(B25=\"\",0,LOOKUP(B25,[4]BG!$A$3:$A$65,[4]BG!$H$3:$H$65))-SUMIF($B$3:B25,B25,$G$3:G25)","v":0},{"$f":"IF(E25=\"\",\"\",INDEX(Four!A:G,MATCH(الالتزام!E25,ممون,0),4))","v":""},null,null,0,null,"","","",null,null,null,null,null,"037","HSBC ALGERIA","اش اس بي سي ",null,{"$f":"IF(D25=\"\",\"\",INDEX([4]BG!$A$3:$B$65,MATCH(D25,البند,0),1))","v":""},"",""]
[24,{"$f":"IF(D26=\"\",\"\",INDEX(BG!A$3:$A$65,MATCH(D26,البند,0)))","v":""},null,null,null,null,0,null,null,null,null,null,null,null,null,null,null,null,null,null,null,null,null,null,null,null,null,null,null,null,null,null,null,null,null,null,null,null,null,null,null,null,null,{"$f":"IF(B26=\"\",0,LOOKUP(B26,[4]BG!$A$3:$A$65,[4]BG!$H$3:$H$65))-SUMIF($B$3:B26,B26,$G$3:G26)","v":0},{"$f":"IF(E26=\"\",\"\",INDEX(Four!A:G,MATCH(الالتزام!E26,ممون,0),4))","v":""},null,null,0,null,"","","",null,null,null,null,null,"038","AL_SALAM_BANK_ALGERIA","السلام بنك",null,{"$f":"IF(D26=\"\",\"\",INDEX([4]BG!$A$3:$B$65,MATCH(D26,البند,0),1))","v":""},"",""]
[25,{"$f":"IF(D27=\"\",\"\",INDEX(BG!A$3:$A$65,MATCH(D27,البند,0)))","v":""},null,null,null,null,0,null,null,null,null,null,null,null,null,null,null,null,null,null,null,null,null,null,null,null,null,null,null,null,null,null,null,null,null,null,null,null,null,null,null,null,null,{"$f":"IF(B27=\"\",0,LOOKUP(B27,[4]BG!$A$3:$A$65,[4]BG!$H$3:$H$65))-SUMIF($B$3:B27,B27,$G$3:G27)","v":0},{"$f":"IF(E27=\"\",\"\",INDEX(Four!A:G,MATCH(الالتزام!E27,ممون,0),4))","v":""},null,null,0,null,"","","",null,null,null,null,null,null,null,null,null,{"$f":"IF(D27=\"\",\"\",INDEX([4]BG!$A$3:$B$65,MATCH(D27,البند,0),1))","v":""},"",""]
[26,{"$f":"IF(D28=\"\",\"\",INDEX(BG!A$3:$A$65,MATCH(D28,البند,0)))","v":""},null,null,null,null,0,null,null,null,null,null,null,null,null,null,null,null,null,null,null,null,null,null,null,null,null,null,null,null,null,null,null,null,null,null,null,null,null,null,null,null,null,{"$f":"IF(B28=\"\",0,LOOKUP(B28,[4]BG!$A$3:$A$65,[4]BG!$H$3:$H$65))-SUMIF($B$3:B28,B28,$G$3:G28)","v":0},{"$f":"IF(E28=\"\",\"\",INDEX(Four!A:G,MATCH(الالتزام!E28,ممون,0),4))","v":""},null,null,0,null,"","","",null,null,null,null,null,null,null,null,null,{"$f":"IF(D28=\"\",\"\",INDEX([4]BG!$A$3:$B$65,MATCH(D28,البند,0),1))","v":""},"",""]
[27,{"$f":"IF(D29=\"\",\"\",INDEX(BG!A$3:$A$65,MATCH(D29,البند,0)))","v":""},null,null,null,null,0,null,null,null,null,null,null,null,null,null,null,null,null,null,null,null,null,null,null,null,null,null,null,null,null,null,null,null,null,null,null,null,null,null,null,null,null,{"$f":"IF(B29=\"\",0,LOOKUP(B29,[4]BG!$A$3:$A$65,[4]BG!$H$3:$H$65))-SUMIF($B$3:B29,B29,$G$3:G29)","v":0},{"$f":"IF(E29=\"\",\"\",INDEX(Four!A:G,MATCH(الالتزام!E29,ممون,0),4))","v":""},null,null,0,null,"","","",null,null,null,null,null,null,null,null,null,{"$f":"IF(D29=\"\",\"\",INDEX([4]BG!$A$3:$B$65,MATCH(D29,البند,0),1))","v":""},"",""]
[28,{"$f":"IF(D30=\"\",\"\",INDEX(BG!A$3:$A$65,MATCH(D30,البند,0)))","v":""},null,null,null,null,0,null,null,null,null,null,null,null,null,null,null,null,null,null,null,null,null,null,null,null,null,null,null,null,null,null,null,null,null,null,null,null,null,null,null,null,null,{"$f":"IF(B30=\"\",0,LOOKUP(B30,[4]BG!$A$3:$A$65,[4]BG!$H$3:$H$65))-SUMIF($B$3:B30,B30,$G$3:G30)","v":0},{"$f":"IF(E30=\"\",\"\",INDEX(Four!A:G,MATCH(الالتزام!E30,ممون,0),4))","v":""},null,null,0,null,"","","",null,null,null,null,null,null,null,null,null,{"$f":"IF(D30=\"\",\"\",INDEX([4]BG!$A$3:$B$65,MATCH(D30,البند,0),1))","v":""},"",""]
[29,{"$f":"IF(D31=\"\",\"\",INDEX(BG!A$3:$A$65,MATCH(D31,البند,0)))","v":""},null,null,null,null,0,null,null,null,null,null,null,null,null,null,null,null,null,null,null,null,null,null,null,null,null,null,null,null,null,null,null,null,null,null,null,null,null,null,null,null,null,{"$f":"IF(B31=\"\",0,LOOKUP(B31,[4]BG!$A$3:$A$65,[4]BG!$H$3:$H$65))-SUMIF($B$3:B31,B31,$G$3:G31)","v":0},{"$f":"IF(E31=\"\",\"\",INDEX(Four!A:G,MATCH(الالتزام!E31,ممون,0),4))","v":""},null,null,0,null,"","","",null,null,null,null,null,null,null,null,null,{"$f":"IF(D31=\"\",\"\",INDEX([4]BG!$A$3:$B$65,MATCH(D31,البند,0),1))","v":""},"",""]
[30,{"$f":"IF(D32=\"\",\"\",INDEX(BG!A$3:$A$65,MATCH(D32,البند,0)))","v":""},null,null,null,null,0,null,null,null,null,null,null,null,null,null,null,null,null,null,null,null,null,null,null,null,null,null,null,null,null,null,null,null,null,null,null,null,null,null,null,null,null,{"$f":"IF(B32=\"\",0,LOOKUP(B32,[4]BG!$A$3:$A$65,[4]BG!$H$3:$H$65))-SUMIF($B$3:B32,B32,$G$3:G32)","v":0},{"$f":"IF(E32=\"\",\"\",INDEX(Four!A:G,MATCH(الالتزام!E32,ممون,0),4))","v":""},null,null,0,null,"","","",null,null,null,null,null,null,null,null,null,{"$f":"IF(D32=\"\",\"\",INDEX([4]BG!$A$3:$B$65,MATCH(D32,البند,0),1))","v":""},"",""]
[31,{"$f":"IF(D33=\"\",\"\",INDEX(BG!A$3:$A$65,MATCH(D33,البند,0)))","v":""},null,null,null,null,0,null,null,null,null,null,null,null,null,null,null,null,null,null,null,null,null,null,null,null,null,null,null,null,null,null,null,null,null,null,null,null,null,null,null,null,null,{"$f":"IF(B33=\"\",0,LOOKUP(B33,[4]BG!$A$3:$A$65,[4]BG!$H$3:$H$65))-SUMIF($B$3:B33,B33,$G$3:G33)","v":0},{"$f":"IF(E33=\"\",\"\",INDEX(Four!A:G,MATCH(الالتزام!E33,ممون,0),4))","v":""},null,null,0,null,"","","",null,null,null,null,null,null,null,null,null,{"$f":"IF(D33=\"\",\"\",INDEX([4]BG!$A$3:$B$65,MATCH(D33,البند,0),1))","v":""},"",""]
[32,{"$f":"IF(D34=\"\",\"\",INDEX(BG!A$3:$A$65,MATCH(D34,البند,0)))","v":""},null,null,null,null,0,null,null,null,null,null,null,null,null,null,null,null,null,null,null,null,null,null,null,null,null,null,null,null,null,null,null,null,null,null,null,null,null,null,null,null,null,{"$f":"IF(B34=\"\",0,LOOKUP(B34,[4]BG!$A$3:$A$65,[4]BG!$H$3:$H$65))-SUMIF($B$3:B34,B34,$G$3:G34)","v":0},{"$f":"IF(E34=\"\",\"\",INDEX(Four!A:G,MATCH(الالتزام!E34,ممون,0),4))","v":""},null,null,0,null,"","","",null,null,null,null,null,null,null,null,null,{"$f":"IF(D34=\"\",\"\",INDEX([4]BG!$A$3:$B$65,MATCH(D34,البند,0),1))","v":""},"",""]
[33,{"$f":"IF(D35=\"\",\"\",INDEX(BG!A$3:$A$65,MATCH(D35,البند,0)))","v":""},null,null,null,null,0,null,null,null,null,null,null,null,null,null,null,null,null,null,null,null,null,null,null,null,null,null,null,null,null,null,null,null,null,null,null,null,null,null,null,null,null,{"$f":"IF(B35=\"\",0,LOOKUP(B35,[4]BG!$A$3:$A$65,[4]BG!$H$3:$H$65))-SUMIF($B$3:B35,B35,$G$3:G35)","v":0},{"$f":"IF(E35=\"\",\"\",INDEX(Four!A:G,MATCH(الالتزام!E35,ممون,0),4))","v":""},null,null,0,null,"","","",null,null,null,null,null,null,null,null,null,{"$f":"IF(D35=\"\",\"\",INDEX([4]BG!$A$3:$B$65,MATCH(D35,البند,0),1))","v":""},"",""]
[34,{"$f":"IF(D36=\"\",\"\",INDEX(BG!A$3:$A$65,MATCH(D36,البند,0)))","v":""},null,null,null,null,0,null,null,null,null,null,null,null,null,null,null,null,null,null,null,null,null,null,null,null,null,null,null,null,null,null,null,null,null,null,null,null,null,null,null,null,null,{"$f":"IF(B36=\"\",0,LOOKUP(B36,[4]BG!$A$3:$A$65,[4]BG!$H$3:$H$65))-SUMIF($B$3:B36,B36,$G$3:G36)","v":0},{"$f":"IF(E36=\"\",\"\",INDEX(Four!A:G,MATCH(الالتزام!E36,ممون,0),4))","v":""},null,null,0,null,"","","",null,null,null,null,null,null,null,null,null,{"$f":"IF(D36=\"\",\"\",INDEX([4]BG!$A$3:$B$65,MATCH(D36,البند,0),1))","v":""},"",""]
[35,{"$f":"IF(D37=\"\",\"\",INDEX(BG!A$3:$A$65,MATCH(D37,البند,0)))","v":""},null,null,null,null,0,null,null,null,null,null,null,null,null,null,null,null,null,null,null,null,null,null,null,null,null,null,null,null,null,null,null,null,null,null,null,null,null,null,null,null,null,{"$f":"IF(B37=\"\",0,LOOKUP(B37,[4]BG!$A$3:$A$65,[4]BG!$H$3:$H$65))-SUMIF($B$3:B37,B37,$G$3:G37)","v":0},{"$f":"IF(E37=\"\",\"\",INDEX(Four!A:G,MATCH(الالتزام!E37,ممون,0),4))","v":""},null,null,0,null,"","","",null,null,null,null,null,null,null,null,null,{"$f":"IF(D37=\"\",\"\",INDEX([4]BG!$A$3:$B$65,MATCH(D37,البند,0),1))","v":""},"",""]
[36,{"$f":"IF(D38=\"\",\"\",INDEX(BG!A$3:$A$65,MATCH(D38,البند,0)))","v":""},null,null,null,null,0,null,null,null,null,null,null,null,null,null,null,null,null,null,null,null,null,null,null,null,null,null,null,null,null,null,null,null,null,null,null,null,null,null,null,null,null,{"$f":"IF(B38=\"\",0,LOOKUP(B38,[4]BG!$A$3:$A$65,[4]BG!$H$3:$H$65))-SUMIF($B$3:B38,B38,$G$3:G38)","v":0},{"$f":"IF(E38=\"\",\"\",INDEX(Four!A:G,MATCH(الالتزام!E38,ممون,0),4))","v":""},null,null,0,null,"","","",null,null,null,null,null,null,null,null,null,{"$f":"IF(D38=\"\",\"\",INDEX([4]BG!$A$3:$B$65,MATCH(D38,البند,0),1))","v":""},"",""]
[37,{"$f":"IF(D39=\"\",\"\",INDEX(BG!A$3:$A$65,MATCH(D39,البند,0)))","v":""},null,null,null,null,0,null,null,null,null,null,null,null,null,null,null,null,null,null,null,null,null,null,null,null,null,null,null,null,null,null,null,null,null,null,null,null,null,null,null,null,null,{"$f":"IF(B39=\"\",0,LOOKUP(B39,[4]BG!$A$3:$A$65,[4]BG!$H$3:$H$65))-SUMIF($B$3:B39,B39,$G$3:G39)","v":0},{"$f":"IF(E39=\"\",\"\",INDEX(Four!A:G,MATCH(الالتزام!E39,ممون,0),4))","v":""},null,null,0,null,"","","",null,null,null,null,null,null,null,null,null,{"$f":"IF(D39=\"\",\"\",INDEX([4]BG!$A$3:$B$65,MATCH(D39,البند,0),1))","v":""},"",""]
[38,{"$f":"IF(D40=\"\",\"\",INDEX(BG!A$3:$A$65,MATCH(D40,البند,0)))","v":""},null,null,null,null,0,null,null,null,null,null,null,null,null,null,null,null,null,null,null,null,null,null,null,null,null,null,null,null,null,null,null,null,null,null,null,null,null,null,null,null,null,{"$f":"IF(B40=\"\",0,LOOKUP(B40,[4]BG!$A$3:$A$65,[4]BG!$H$3:$H$65))-SUMIF($B$3:B40,B40,$G$3:G40)","v":0},{"$f":"IF(E40=\"\",\"\",INDEX(Four!A:G,MATCH(الالتزام!E40,ممون,0),4))","v":""},null,null,0,null,"","","",null,null,null,null,null,null,null,null,null,{"$f":"IF(D40=\"\",\"\",INDEX([4]BG!$A$3:$B$65,MATCH(D40,البند,0),1))","v":""},"",""]
[39,{"$f":"IF(D41=\"\",\"\",INDEX(BG!A$3:$A$65,MATCH(D41,البند,0)))","v":""},null,null,null,null,0,null,null,null,null,null,null,null,null,null,null,null,null,null,null,null,null,null,null,null,null,null,null,null,null,null,null,null,null,null,null,null,null,null,null,null,null,{"$f":"IF(B41=\"\",0,LOOKUP(B41,[4]BG!$A$3:$A$65,[4]BG!$H$3:$H$65))-SUMIF($B$3:B41,B41,$G$3:G41)","v":0},{"$f":"IF(E41=\"\",\"\",INDEX(Four!A:G,MATCH(الالتزام!E41,ممون,0),4))","v":""},null,null,0,null,"","","",null,null,null,null,null,null,null,null,null,{"$f":"IF(D41=\"\",\"\",INDEX([4]BG!$A$3:$B$65,MATCH(D41,البند,0),1))","v":""},"",""]
[40,{"$f":"IF(D42=\"\",\"\",INDEX(BG!A$3:$A$65,MATCH(D42,البند,0)))","v":""},null,null,null,null,0,null,null,null,null,null,null,null,null,null,null,null,null,null,null,null,null,null,null,null,null,null,null,null,null,null,null,null,null,null,null,null,null,null,null,null,null,{"$f":"IF(B42=\"\",0,LOOKUP(B42,[4]BG!$A$3:$A$65,[4]BG!$H$3:$H$65))-SUMIF($B$3:B42,B42,$G$3:G42)","v":0},{"$f":"IF(E42=\"\",\"\",INDEX(Four!A:G,MATCH(الالتزام!E42,ممون,0),4))","v":""},null,null,0,null,"","","",null,null,null,null,null,null,null,null,null,{"$f":"IF(D42=\"\",\"\",INDEX([4]BG!$A$3:$B$65,MATCH(D42,البند,0),1))","v":""},"",""]
[41,{"$f":"IF(D43=\"\",\"\",INDEX(BG!A$3:$A$65,MATCH(D43,البند,0)))","v":""},null,null,null,null,0,null,null,null,null,null,null,null,null,null,null,null,null,null,null,null,null,null,null,null,null,null,null,null,null,null,null,null,null,null,null,null,null,null,null,null,null,{"$f":"IF(B43=\"\",0,LOOKUP(B43,[4]BG!$A$3:$A$65,[4]BG!$H$3:$H$65))-SUMIF($B$3:B43,B43,$G$3:G43)","v":0},{"$f":"IF(E43=\"\",\"\",INDEX(Four!A:G,MATCH(الالتزام!E43,ممون,0),4))","v":""},null,null,0,null,"","","",null,null,null,null,null,null,null,null,null,{"$f":"IF(D43=\"\",\"\",INDEX([4]BG!$A$3:$B$65,MATCH(D43,البند,0),1))","v":""},"",""]
[42,{"$f":"IF(D44=\"\",\"\",INDEX(BG!A$3:$A$65,MATCH(D44,البند,0)))","v":""},null,null,null,null,0,null,null,null,null,null,null,null,null,null,null,null,null,null,null,null,null,null,null,null,null,null,null,null,null,null,null,null,null,null,null,null,null,null,null,null,null,{"$f":"IF(B44=\"\",0,LOOKUP(B44,[4]BG!$A$3:$A$65,[4]BG!$H$3:$H$65))-SUMIF($B$3:B44,B44,$G$3:G44)","v":0},{"$f":"IF(E44=\"\",\"\",INDEX(Four!A:G,MATCH(الالتزام!E44,ممون,0),4))","v":""},null,null,0,null,"","","",null,null,null,null,null,null,null,null,null,{"$f":"IF(D44=\"\",\"\",INDEX([4]BG!$A$3:$B$65,MATCH(D44,البند,0),1))","v":""},"",""]
[43,{"$f":"IF(D45=\"\",\"\",INDEX(BG!A$3:$A$65,MATCH(D45,البند,0)))","v":""},null,null,null,null,0,null,null,null,null,null,null,null,null,null,null,null,null,null,null,null,null,null,null,null,null,null,null,null,null,null,null,null,null,null,null,null,null,null,null,null,null,{"$f":"IF(B45=\"\",0,LOOKUP(B45,[4]BG!$A$3:$A$65,[4]BG!$H$3:$H$65))-SUMIF($B$3:B45,B45,$G$3:G45)","v":0},{"$f":"IF(E45=\"\",\"\",INDEX(Four!A:G,MATCH(الالتزام!E45,ممون,0),4))","v":""},null,null,0,null,"","","",null,null,null,null,null,null,null,null,null,{"$f":"IF(D45=\"\",\"\",INDEX([4]BG!$A$3:$B$65,MATCH(D45,البند,0),1))","v":""},"",""]
[44,{"$f":"IF(D46=\"\",\"\",INDEX(BG!A$3:$A$65,MATCH(D46,البند,0)))","v":""},null,null,null,null,0,null,null,null,null,null,null,null,null,null,null,null,null,null,null,null,null,null,null,null,null,null,null,null,null,null,null,null,null,null,null,null,null,null,null,null,null,{"$f":"IF(B46=\"\",0,LOOKUP(B46,[4]BG!$A$3:$A$65,[4]BG!$H$3:$H$65))-SUMIF($B$3:B46,B46,$G$3:G46)","v":0},{"$f":"IF(E46=\"\",\"\",INDEX(Four!A:G,MATCH(الالتزام!E46,ممون,0),4))","v":""},null,null,0,null,"","","",null,null,null,null,null,null,null,null,null,{"$f":"IF(D46=\"\",\"\",INDEX([4]BG!$A$3:$B$65,MATCH(D46,البند,0),1))","v":""},"",""]
[45,{"$f":"IF(D47=\"\",\"\",INDEX(BG!A$3:$A$65,MATCH(D47,البند,0)))","v":""},null,null,null,null,0,null,null,null,null,null,null,null,null,null,null,null,null,null,null,null,null,null,null,null,null,null,null,null,null,null,null,null,null,null,null,null,null,null,null,null,null,{"$f":"IF(B47=\"\",0,LOOKUP(B47,[4]BG!$A$3:$A$65,[4]BG!$H$3:$H$65))-SUMIF($B$3:B47,B47,$G$3:G47)","v":0},{"$f":"IF(E47=\"\",\"\",INDEX(Four!A:G,MATCH(الالتزام!E47,ممون,0),4))","v":""},null,null,0,null,"","","",null,null,null,null,null,null,null,null,null,{"$f":"IF(D47=\"\",\"\",INDEX([4]BG!$A$3:$B$65,MATCH(D47,البند,0),1))","v":""},"",""]
[46,{"$f":"IF(D48=\"\",\"\",INDEX(BG!A$3:$A$65,MATCH(D48,البند,0)))","v":""},null,null,null,null,0,null,null,null,null,null,null,null,null,null,null,null,null,null,null,null,null,null,null,null,null,null,null,null,null,null,null,null,null,null,null,null,null,null,null,null,null,{"$f":"IF(B48=\"\",0,LOOKUP(B48,[4]BG!$A$3:$A$65,[4]BG!$H$3:$H$65))-SUMIF($B$3:B48,B48,$G$3:G48)","v":0},{"$f":"IF(E48=\"\",\"\",INDEX(Four!A:G,MATCH(الالتزام!E48,ممون,0),4))","v":""},null,null,0,null,"","","",null,null,null,null,null,null,null,null,null,{"$f":"IF(D48=\"\",\"\",INDEX([4]BG!$A$3:$B$65,MATCH(D48,البند,0),1))","v":""},"",""]
[47,{"$f":"IF(D49=\"\",\"\",INDEX(BG!A$3:$A$65,MATCH(D49,البند,0)))","v":""},null,null,null,null,0,null,null,null,null,null,null,null,null,null,null,null,null,null,null,null,null,null,null,null,null,null,null,null,null,null,null,null,null,null,null,null,null,null,null,null,null,{"$f":"IF(B49=\"\",0,LOOKUP(B49,[4]BG!$A$3:$A$65,[4]BG!$H$3:$H$65))-SUMIF($B$3:B49,B49,$G$3:G49)","v":0},{"$f":"IF(E49=\"\",\"\",INDEX(Four!A:G,MATCH(الالتزام!E49,ممون,0),4))","v":""},null,null,0,null,"","","",null,null,null,null,null,null,null,null,null,{"$f":"IF(D49=\"\",\"\",INDEX([4]BG!$A$3:$B$65,MATCH(D49,البند,0),1))","v":""},"",""]
[48,{"$f":"IF(D50=\"\",\"\",INDEX(BG!A$3:$A$65,MATCH(D50,البند,0)))","v":""},null,null,null,null,0,null,null,null,null,null,null,null,null,null,null,null,null,null,null,null,null,null,null,null,null,null,null,null,null,null,null,null,null,null,null,null,null,null,null,null,null,{"$f":"IF(B50=\"\",0,LOOKUP(B50,[4]BG!$A$3:$A$65,[4]BG!$H$3:$H$65))-SUMIF($B$3:B50,B50,$G$3:G50)","v":0},{"$f":"IF(E50=\"\",\"\",INDEX(Four!A:G,MATCH(الالتزام!E50,ممون,0),4))","v":""},null,null,0,null,"","","",null,null,null,null,null,null,null,null,null,{"$f":"IF(D50=\"\",\"\",INDEX([4]BG!$A$3:$B$65,MATCH(D50,البند,0),1))","v":""},"",""]
[49,{"$f":"IF(D51=\"\",\"\",INDEX(BG!A$3:$A$65,MATCH(D51,البند,0)))","v":""},null,null,null,null,0,null,null,null,null,null,null,null,null,null,null,null,null,null,null,null,null,null,null,null,null,null,null,null,null,null,null,null,null,null,null,null,null,null,null,null,null,{"$f":"IF(B51=\"\",0,LOOKUP(B51,[4]BG!$A$3:$A$65,[4]BG!$H$3:$H$65))-SUMIF($B$3:B51,B51,$G$3:G51)","v":0},{"$f":"IF(E51=\"\",\"\",INDEX(Four!A:G,MATCH(الالتزام!E51,ممون,0),4))","v":""},null,null,0,null,"","","",null,null,null,null,null,null,null,null,null,{"$f":"IF(D51=\"\",\"\",INDEX([4]BG!$A$3:$B$65,MATCH(D51,البند,0),1))","v":""},"",""]
[50,{"$f":"IF(D52=\"\",\"\",INDEX(BG!A$3:$A$65,MATCH(D52,البند,0)))","v":""},null,null,null,null,0,null,null,null,null,null,null,null,null,null,null,null,null,null,null,null,null,null,null,null,null,null,null,null,null,null,null,null,null,null,null,null,null,null,null,null,null,{"$f":"IF(B52=\"\",0,LOOKUP(B52,[4]BG!$A$3:$A$65,[4]BG!$H$3:$H$65))-SUMIF($B$3:B52,B52,$G$3:G52)","v":0},{"$f":"IF(E52=\"\",\"\",INDEX(Four!A:G,MATCH(الالتزام!E52,ممون,0),4))","v":""},null,null,0,null,"","","",null,null,null,null,null,null,null,null,null,{"$f":"IF(D52=\"\",\"\",INDEX([4]BG!$A$3:$B$65,MATCH(D52,البند,0),1))","v":""},"",""]
[51,{"$f":"IF(D53=\"\",\"\",INDEX(BG!A$3:$A$65,MATCH(D53,البند,0)))","v":""},null,null,null,null,0,null,null,null,null,null,null,null,null,null,null,null,null,null,null,null,null,null,null,null,null,null,null,null,null,null,null,null,null,null,null,null,null,null,null,null,null,{"$f":"IF(B53=\"\",0,LOOKUP(B53,[4]BG!$A$3:$A$65,[4]BG!$H$3:$H$65))-SUMIF($B$3:B53,B53,$G$3:G53)","v":0},{"$f":"IF(E53=\"\",\"\",INDEX(Four!A:G,MATCH(الالتزام!E53,ممون,0),4))","v":""},null,null,0,null,"","","",null,null,null,null,null,null,null,null,null,{"$f":"IF(D53=\"\",\"\",INDEX([4]BG!$A$3:$B$65,MATCH(D53,البند,0),1))","v":""},"",""]
[52,{"$f":"IF(D54=\"\",\"\",INDEX(BG!A$3:$A$65,MATCH(D54,البند,0)))","v":""},null,null,null,null,0,null,null,null,null,null,null,null,null,null,null,null,null,null,null,null,null,null,null,null,null,null,null,null,null,null,null,null,null,null,null,null,null,null,null,null,null,{"$f":"IF(B54=\"\",0,LOOKUP(B54,[4]BG!$A$3:$A$65,[4]BG!$H$3:$H$65))-SUMIF($B$3:B54,B54,$G$3:G54)","v":0},{"$f":"IF(E54=\"\",\"\",INDEX(Four!A:G,MATCH(الالتزام!E54,ممون,0),4))","v":""},null,null,0,null,"","","",null,null,null,null,null,null,null,null,null,{"$f":"IF(D54=\"\",\"\",INDEX([4]BG!$A$3:$B$65,MATCH(D54,البند,0),1))","v":""},"",""]
[53,{"$f":"IF(D55=\"\",\"\",INDEX(BG!A$3:$A$65,MATCH(D55,البند,0)))","v":""},null,null,null,null,0,null,null,null,null,null,null,null,null,null,null,null,null,null,null,null,null,null,null,null,null,null,null,null,null,null,null,null,null,null,null,null,null,null,null,null,null,{"$f":"IF(B55=\"\",0,LOOKUP(B55,[4]BG!$A$3:$A$65,[4]BG!$H$3:$H$65))-SUMIF($B$3:B55,B55,$G$3:G55)","v":0},{"$f":"IF(E55=\"\",\"\",INDEX(Four!A:G,MATCH(الالتزام!E55,ممون,0),4))","v":""},null,null,0,null,"","","",null,null,null,null,null,null,null,null,null,{"$f":"IF(D55=\"\",\"\",INDEX([4]BG!$A$3:$B$65,MATCH(D55,البند,0),1))","v":""},"",""]
[54,{"$f":"IF(D56=\"\",\"\",INDEX(BG!A$3:$A$65,MATCH(D56,البند,0)))","v":""},null,null,null,null,0,null,null,null,null,null,null,null,null,null,null,null,null,null,null,null,null,null,null,null,null,null,null,null,null,null,null,null,null,null,null,null,null,null,null,null,null,{"$f":"IF(B56=\"\",0,LOOKUP(B56,[4]BG!$A$3:$A$65,[4]BG!$H$3:$H$65))-SUMIF($B$3:B56,B56,$G$3:G56)","v":0},{"$f":"IF(E56=\"\",\"\",INDEX(Four!A:G,MATCH(الالتزام!E56,ممون,0),4))","v":""},null,null,0,null,"","","",null,null,null,null,null,null,null,null,null,{"$f":"IF(D56=\"\",\"\",INDEX([4]BG!$A$3:$B$65,MATCH(D56,البند,0),1))","v":""},"",""]
[55,{"$f":"IF(D57=\"\",\"\",INDEX(BG!A$3:$A$65,MATCH(D57,البند,0)))","v":""},null,null,null,null,0,null,null,null,null,null,null,null,null,null,null,null,null,null,null,null,null,null,null,null,null,null,null,null,null,null,null,null,null,null,null,null,null,null,null,null,null,{"$f":"IF(B57=\"\",0,LOOKUP(B57,[4]BG!$A$3:$A$65,[4]BG!$H$3:$H$65))-SUMIF($B$3:B57,B57,$G$3:G57)","v":0},{"$f":"IF(E57=\"\",\"\",INDEX(Four!A:G,MATCH(الالتزام!E57,ممون,0),4))","v":""},null,null,0,null,"","","",null,null,null,null,null,null,null,null,null,{"$f":"IF(D57=\"\",\"\",INDEX([4]BG!$A$3:$B$65,MATCH(D57,البند,0),1))","v":""},"",""]
[56,{"$f":"IF(D58=\"\",\"\",INDEX(BG!A$3:$A$65,MATCH(D58,البند,0)))","v":""},null,null,null,null,0,null,null,null,null,null,null,null,null,null,null,null,null,null,null,null,null,null,null,null,null,null,null,null,null,null,null,null,null,null,null,null,null,null,null,null,null,{"$f":"IF(B58=\"\",0,LOOKUP(B58,[4]BG!$A$3:$A$65,[4]BG!$H$3:$H$65))-SUMIF($B$3:B58,B58,$G$3:G58)","v":0},{"$f":"IF(E58=\"\",\"\",INDEX(Four!A:G,MATCH(الالتزام!E58,ممون,0),4))","v":""},null,null,0,null,"","","",null,null,null,null,null,null,null,null,null,{"$f":"IF(D58=\"\",\"\",INDEX([4]BG!$A$3:$B$65,MATCH(D58,البند,0),1))","v":""},"",""]
[57,{"$f":"IF(D59=\"\",\"\",INDEX(BG!A$3:$A$65,MATCH(D59,البند,0)))","v":""},null,null,null,null,0,null,null,null,null,null,null,null,null,null,null,null,null,null,null,null,null,null,null,null,null,null,null,null,null,null,null,null,null,null,null,null,null,null,null,null,null,{"$f":"IF(B59=\"\",0,LOOKUP(B59,[4]BG!$A$3:$A$65,[4]BG!$H$3:$H$65))-SUMIF($B$3:B59,B59,$G$3:G59)","v":0},{"$f":"IF(E59=\"\",\"\",INDEX(Four!A:G,MATCH(الالتزام!E59,ممون,0),4))","v":""},null,null,0,null,"","","",null,null,null,null,null,null,null,null,null,{"$f":"IF(D59=\"\",\"\",INDEX([4]BG!$A$3:$B$65,MATCH(D59,البند,0),1))","v":""},"",""]
[58,{"$f":"IF(D60=\"\",\"\",INDEX(BG!A$3:$A$65,MATCH(D60,البند,0)))","v":""},null,null,null,null,0,null,null,null,null,null,null,null,null,null,null,null,null,null,null,null,null,null,null,null,null,null,null,null,null,null,null,null,null,null,null,null,null,null,null,null,null,{"$f":"IF(B60=\"\",0,LOOKUP(B60,[4]BG!$A$3:$A$65,[4]BG!$H$3:$H$65))-SUMIF($B$3:B60,B60,$G$3:G60)","v":0},{"$f":"IF(E60=\"\",\"\",INDEX(Four!A:G,MATCH(الالتزام!E60,ممون,0),4))","v":""},null,null,0,null,"","","",null,null,null,null,null,null,null,null,null,{"$f":"IF(D60=\"\",\"\",INDEX([4]BG!$A$3:$B$65,MATCH(D60,البند,0),1))","v":""},"",""]
[59,{"$f":"IF(D61=\"\",\"\",INDEX(BG!A$3:$A$65,MATCH(D61,البند,0)))","v":""},null,null,null,null,0,null,null,null,null,null,null,null,null,null,null,null,null,null,null,null,null,null,null,null,null,null,null,null,null,null,null,null,null,null,null,null,null,null,null,null,null,{"$f":"IF(B61=\"\",0,LOOKUP(B61,[4]BG!$A$3:$A$65,[4]BG!$H$3:$H$65))-SUMIF($B$3:B61,B61,$G$3:G61)","v":0},{"$f":"IF(E61=\"\",\"\",INDEX(Four!A:G,MATCH(الالتزام!E61,ممون,0),4))","v":""},null,null,0,null,"","","",null,null,null,null,null,null,null,null,null,{"$f":"IF(D61=\"\",\"\",INDEX([4]BG!$A$3:$B$65,MATCH(D61,البند,0),1))","v":""},"",""]
[60,{"$f":"IF(D62=\"\",\"\",INDEX(BG!A$3:$A$65,MATCH(D62,البند,0)))","v":""},null,null,null,null,0,null,null,null,null,null,null,null,null,null,null,null,null,null,null,null,null,null,null,null,null,null,null,null,null,null,null,null,null,null,null,null,null,null,null,null,null,{"$f":"IF(B62=\"\",0,LOOKUP(B62,[4]BG!$A$3:$A$65,[4]BG!$H$3:$H$65))-SUMIF($B$3:B62,B62,$G$3:G62)","v":0},{"$f":"IF(E62=\"\",\"\",INDEX(Four!A:G,MATCH(الالتزام!E62,ممون,0),4))","v":""},null,null,0,null,"","","",null,null,null,null,null,null,null,null,null,{"$f":"IF(D62=\"\",\"\",INDEX([4]BG!$A$3:$B$65,MATCH(D62,البند,0),1))","v":""},"",""]
[61,{"$f":"IF(D63=\"\",\"\",INDEX(BG!A$3:$A$65,MATCH(D63,البند,0)))","v":""},null,null,null,null,0,null,null,null,null,null,null,null,null,null,null,null,null,null,null,null,null,null,null,null,null,null,null,null,null,null,null,null,null,null,null,null,null,null,null,null,null,{"$f":"IF(B63=\"\",0,LOOKUP(B63,[4]BG!$A$3:$A$65,[4]BG!$H$3:$H$65))-SUMIF($B$3:B63,B63,$G$3:G63)","v":0},{"$f":"IF(E63=\"\",\"\",INDEX(Four!A:G,MATCH(الالتزام!E63,ممون,0),4))","v":""},null,null,0,null,"","","",null,null,null,null,null,null,null,null,null,{"$f":"IF(D63=\"\",\"\",INDEX([4]BG!$A$3:$B$65,MATCH(D63,البند,0),1))","v":""},"",""]
[62,{"$f":"IF(D64=\"\",\"\",INDEX(BG!A$3:$A$65,MATCH(D64,البند,0)))","v":""},null,null,null,null,0,null,null,null,null,null,null,null,null,null,null,null,null,null,null,null,null,null,null,null,null,null,null,null,null,null,null,null,null,null,null,null,null,null,null,null,null,{"$f":"IF(B64=\"\",0,LOOKUP(B64,[4]BG!$A$3:$A$65,[4]BG!$H$3:$H$65))-SUMIF($B$3:B64,B64,$G$3:G64)","v":0},{"$f":"IF(E64=\"\",\"\",INDEX(Four!A:G,MATCH(الالتزام!E64,ممون,0),4))","v":""},null,null,0,null,"","","",null,null,null,null,null,null,null,null,null,{"$f":"IF(D64=\"\",\"\",INDEX([4]BG!$A$3:$B$65,MATCH(D64,البند,0),1))","v":""},"",""]
[63,{"$f":"IF(D65=\"\",\"\",INDEX(BG!A$3:$A$65,MATCH(D65,البند,0)))","v":""},null,null,null,null,0,null,null,null,null,null,null,null,null,null,null,null,null,null,null,null,null,null,null,null,null,null,null,null,null,null,null,null,null,null,null,null,null,null,null,null,null,{"$f":"IF(B65=\"\",0,LOOKUP(B65,[4]BG!$A$3:$A$65,[4]BG!$H$3:$H$65))-SUMIF($B$3:B65,B65,$G$3:G65)","v":0},{"$f":"IF(E65=\"\",\"\",INDEX(Four!A:G,MATCH(الالتزام!E65,ممون,0),4))","v":""},null,null,0,null,"","","",null,null,null,null,null,null,null,null,null,{"$f":"IF(D65=\"\",\"\",INDEX([4]BG!$A$3:$B$65,MATCH(D65,البند,0),1))","v":""},"",""]
[64,{"$f":"IF(D66=\"\",\"\",INDEX(BG!A$3:$A$65,MATCH(D66,البند,0)))","v":""},null,null,null,null,0,null,null,null,null,null,null,null,null,null,null,null,null,null,null,null,null,null,null,null,null,null,null,null,null,null,null,null,null,null,null,null,null,null,null,null,null,{"$f":"IF(B66=\"\",0,LOOKUP(B66,[4]BG!$A$3:$A$65,[4]BG!$H$3:$H$65))-SUMIF($B$3:B66,B66,$G$3:G66)","v":0},{"$f":"IF(E66=\"\",\"\",INDEX(Four!A:G,MATCH(الالتزام!E66,ممون,0),4))","v":""},null,null,0,null,"","","",null,null,null,null,null,null,null,null,null,{"$f":"IF(D66=\"\",\"\",INDEX([4]BG!$A$3:$B$65,MATCH(D66,البند,0),1))","v":""},"",""]
[65,{"$f":"IF(D67=\"\",\"\",INDEX(BG!A$3:$A$65,MATCH(D67,البند,0)))","v":""},null,null,null,null,0,null,null,null,null,null,null,null,null,null,null,null,null,null,null,null,null,null,null,null,null,null,null,null,null,null,null,null,null,null,null,null,null,null,null,null,null,{"$f":"IF(B67=\"\",0,LOOKUP(B67,[4]BG!$A$3:$A$65,[4]BG!$H$3:$H$65))-SUMIF($B$3:B67,B67,$G$3:G67)","v":0},{"$f":"IF(E67=\"\",\"\",INDEX(Four!A:G,MATCH(الالتزام!E67,ممون,0),4))","v":""},null,null,0,null,"",{"$f":"IFERROR(LOOKUP(LEFT(AS67,3),$BF$3:$BF$33,$BH$3:$BH$33),\"\")","v":""},"",null,null,null,null,null,null,null,null,null,{"$f":"IF(D67=\"\",\"\",INDEX([4]BG!$A$3:$B$65,MATCH(D67,البند,0),1))","v":""},"",""]
[66,{"$f":"IF(D68=\"\",\"\",INDEX(BG!A$3:$A$65,MATCH(D68,البند,0)))","v":""},null,null,null,null,0,null,null,null,null,null,null,null,null,null,null,null,null,null,null,null,null,null,null,null,null,null,null,null,null,null,null,null,null,null,null,null,null,null,null,null,null,{"$f":"IF(B68=\"\",0,LOOKUP(B68,[4]BG!$A$3:$A$65,[4]BG!$H$3:$H$65))-SUMIF($B$3:B68,B68,$G$3:G68)","v":0},{"$f":"IF(E68=\"\",\"\",INDEX(Four!A:G,MATCH(الالتزام!E68,ممون,0),4))","v":""},null,null,0,null,{"$f":"LEFT(AS68,3)","v":""},"",{"$f":"IFERROR(LOOKUP(LEFT(AS68,3),$BF$3:$BF$33,$BG$3:$BG$33),\"\")","v":""},null,null,null,null,null,null,null,null,null,{"$f":"IF(D68=\"\",\"\",INDEX([4]BG!$A$3:$B$65,MATCH(D68,البند,0),1))","v":""},"",""]
[67,{"$f":"IF(D69=\"\",\"\",INDEX(BG!A$3:$A$65,MATCH(D69,البند,0)))","v":""},null,null,null,null,0,null,null,null,null,null,null,null,null,null,null,null,null,null,null,null,null,null,null,null,null,null,null,null,null,null,null,null,null,null,null,null,null,null,null,null,null,{"$f":"IF(B69=\"\",0,LOOKUP(B69,[4]BG!$A$3:$A$65,[4]BG!$H$3:$H$65))-SUMIF($B$3:B69,B69,$G$3:G69)","v":0},{"$f":"IF(E69=\"\",\"\",INDEX(Four!A:G,MATCH(الالتزام!E69,ممون,0),4))","v":""},null,null,0,null,"","","",null,null,null,null,null,null,null,null,null,{"$f":"IF(D69=\"\",\"\",INDEX([4]BG!$A$3:$B$65,MATCH(D69,البند,0),1))","v":""},{"$f":"RIGHT(BJ69,1)","v":""},""]
[68,{"$f":"IF(D70=\"\",\"\",INDEX(BG!A$3:$A$65,MATCH(D70,البند,0)))","v":""},null,null,null,null,{"$f":"J70+N70+R70+V70+Z70+AD70","v":0},null,null,null,null,null,null,null,null,null,null,null,null,null,null,null,null,null,null,null,null,null,null,null,null,null,null,null,null,null,null,null,null,null,null,null,null,{"$f":"IF(B70=\"\",0,LOOKUP(B70,[4]BG!$A$3:$A$65,[4]BG!$H$3:$H$65))-SUMIF($B$3:B70,B70,$G$3:G70)","v":0},{"$f":"IF(E70=\"\",\"\",INDEX(Four!A:G,MATCH(الالتزام!E70,ممون,0),4))","v":""},null,null,0,null,"","","",null,null,null,null,null,null,null,null,null,{"$f":"IF(D70=\"\",\"\",INDEX([4]BG!$A$3:$B$65,MATCH(D70,البند,0),1))","v":""},"",{"$f":"IF(BJ70=\"\",\"\",LEFT(RIGHT(BJ70,4),2))","v":""}]
[69,{"$f":"IF(D71=\"\",\"\",INDEX(BG!A$3:$A$65,MATCH(D71,البند,0)))","v":""},null,null,null,null,0,null,null,null,null,null,null,null,null,null,null,null,null,null,null,null,null,null,null,null,null,null,null,null,null,null,null,null,null,null,null,null,null,null,null,null,null,{"$f":"IF(B71=\"\",0,LOOKUP(B71,[4]BG!$A$3:$A$65,[4]BG!$H$3:$H$65))-SUMIF($B$3:B71,B71,$G$3:G71)","v":0},{"$f":"IF(E71=\"\",\"\",INDEX(Four!A:G,MATCH(الالتزام!E71,ممون,0),4))","v":""},null,null,0,null,"","","",null,null,null,null,null,null,null,null,null,{"$f":"IF(D71=\"\",\"\",INDEX([4]BG!$A$3:$B$65,MATCH(D71,البند,0),1))","v":""},"",""]
[70,{"$f":"IF(D72=\"\",\"\",INDEX(BG!A$3:$A$65,MATCH(D72,البند,0)))","v":""},null,null,null,null,0,null,null,null,null,null,null,null,null,null,null,null,null,null,null,null,null,null,null,null,null,null,null,null,null,null,null,null,null,null,null,null,null,null,null,null,null,{"$f":"IF(B72=\"\",0,LOOKUP(B72,[4]BG!$A$3:$A$65,[4]BG!$H$3:$H$65))-SUMIF($B$3:B72,B72,$G$3:G72)","v":0},{"$f":"IF(E72=\"\",\"\",INDEX(Four!A:G,MATCH(الالتزام!E72,ممون,0),4))","v":""},null,null,0,null,"","","",null,null,null,null,null,null,null,null,null,{"$f":"IF(D72=\"\",\"\",INDEX([4]BG!$A$3:$B$65,MATCH(D72,البند,0),1))","v":""},"",""]
[71,{"$f":"IF(D73=\"\",\"\",INDEX(BG!A$3:$A$65,MATCH(D73,البند,0)))","v":""},null,null,null,null,0,null,null,null,null,null,null,null,null,null,null,null,null,null,null,null,null,null,null,null,null,null,null,null,null,null,null,null,null,null,null,null,null,null,null,null,null,{"$f":"IF(B73=\"\",0,LOOKUP(B73,[4]BG!$A$3:$A$65,[4]BG!$H$3:$H$65))-SUMIF($B$3:B73,B73,$G$3:G73)","v":0},{"$f":"IF(E73=\"\",\"\",INDEX(Four!A:G,MATCH(الالتزام!E73,ممون,0),4))","v":""},null,null,{"$f":"SUMIF(AU:AU,AU73,G:G)","v":0},null,"","","",null,null,null,null,null,null,null,null,null,{"$f":"IF(D73=\"\",\"\",INDEX([4]BG!$A$3:$B$65,MATCH(D73,البند,0),1))","v":""},"",""]
[72,{"$f":"IF(D74=\"\",\"\",INDEX(BG!A$3:$A$65,MATCH(D74,البند,0)))","v":""},null,null,null,null,0,null,null,null,null,null,null,null,null,null,null,null,null,null,null,null,null,null,null,null,null,null,null,null,null,null,null,null,null,null,null,null,null,null,null,null,null,{"$f":"IF(B74=\"\",0,LOOKUP(B74,[4]BG!$A$3:$A$65,[4]BG!$H$3:$H$65))-SUMIF($B$3:B74,B74,$G$3:G74)","v":0},{"$f":"IF(E74=\"\",\"\",INDEX(Four!A:G,MATCH(الالتزام!E74,ممون,0),4))","v":""},null,null,0,null,"","","",null,null,null,null,null,null,null,null,null,{"$f":"IF(D74=\"\",\"\",INDEX([4]BG!$A$3:$B$65,MATCH(D74,البند,0),1))","v":""},"",""]
[73,{"$f":"IF(D75=\"\",\"\",INDEX(BG!A$3:$A$65,MATCH(D75,البند,0)))","v":""},null,null,null,null,0,null,null,null,null,null,null,null,null,null,null,null,null,null,null,null,null,null,null,null,null,null,null,null,null,null,null,null,null,null,null,null,null,null,null,null,null,{"$f":"IF(B75=\"\",0,LOOKUP(B75,[4]BG!$A$3:$A$65,[4]BG!$H$3:$H$65))-SUMIF($B$3:B75,B75,$G$3:G75)","v":0},{"$f":"IF(E75=\"\",\"\",INDEX(Four!A:G,MATCH(الالتزام!E75,ممون,0),4))","v":""},null,null,0,null,"","","",null,null,null,null,null,null,null,null,null,{"$f":"IF(D75=\"\",\"\",INDEX([4]BG!$A$3:$B$65,MATCH(D75,البند,0),1))","v":""},"",""]
[74,{"$f":"IF(D76=\"\",\"\",INDEX(BG!A$3:$A$65,MATCH(D76,البند,0)))","v":""},null,null,null,null,0,null,null,null,null,null,null,null,null,null,null,null,null,null,null,null,null,null,null,null,null,null,null,null,null,null,null,null,null,null,null,null,null,null,null,null,null,{"$f":"IF(B76=\"\",0,LOOKUP(B76,[4]BG!$A$3:$A$65,[4]BG!$H$3:$H$65))-SUMIF($B$3:B76,B76,$G$3:G76)","v":0},{"$f":"IF(E76=\"\",\"\",INDEX(Four!A:G,MATCH(الالتزام!E76,ممون,0),4))","v":""},null,null,0,null,"","","",null,null,null,null,null,null,null,null,null,{"$f":"IF(D76=\"\",\"\",INDEX([4]BG!$A$3:$B$65,MATCH(D76,البند,0),1))","v":""},"",""]
[75,{"$f":"IF(D77=\"\",\"\",INDEX(BG!A$3:$A$65,MATCH(D77,البند,0)))","v":""},null,null,null,null,0,null,null,null,null,null,null,null,null,null,null,null,null,null,null,null,null,null,null,null,null,null,null,null,null,null,null,null,null,null,null,null,null,null,null,null,null,{"$f":"IF(B77=\"\",0,LOOKUP(B77,[4]BG!$A$3:$A$65,[4]BG!$H$3:$H$65))-SUMIF($B$3:B77,B77,$G$3:G77)","v":0},{"$f":"IF(E77=\"\",\"\",INDEX(Four!A:G,MATCH(الالتزام!E77,ممون,0),4))","v":""},null,null,0,null,"","","",null,null,null,null,null,null,null,null,null,{"$f":"IF(D77=\"\",\"\",INDEX([4]BG!$A$3:$B$65,MATCH(D77,البند,0),1))","v":""},"",""]
[76,{"$f":"IF(D78=\"\",\"\",INDEX(BG!A$3:$A$65,MATCH(D78,البند,0)))","v":""},null,null,null,null,0,null,null,null,null,null,null,null,null,null,null,null,null,null,null,null,null,null,null,null,null,null,null,null,null,null,null,null,null,null,null,null,null,null,null,null,null,{"$f":"IF(B78=\"\",0,LOOKUP(B78,[4]BG!$A$3:$A$65,[4]BG!$H$3:$H$65))-SUMIF($B$3:B78,B78,$G$3:G78)","v":0},{"$f":"IF(E78=\"\",\"\",INDEX(Four!A:G,MATCH(الالتزام!E78,ممون,0),4))","v":""},null,null,0,null,"","","",null,null,null,null,null,null,null,null,null,{"$f":"IF(D78=\"\",\"\",INDEX([4]BG!$A$3:$B$65,MATCH(D78,البند,0),1))","v":""},"",""]
[77,{"$f":"IF(D79=\"\",\"\",INDEX(BG!A$3:$A$65,MATCH(D79,البند,0)))","v":""},null,null,null,null,0,null,null,null,null,null,null,null,null,null,null,null,null,null,null,null,null,null,null,null,null,null,null,null,null,null,null,null,null,null,null,null,null,null,null,null,null,{"$f":"IF(B79=\"\",0,LOOKUP(B79,[4]BG!$A$3:$A$65,[4]BG!$H$3:$H$65))-SUMIF($B$3:B79,B79,$G$3:G79)","v":0},{"$f":"IF(E79=\"\",\"\",INDEX(Four!A:G,MATCH(الالتزام!E79,ممون,0),4))","v":""},null,null,0,null,"","","",null,null,null,null,null,null,null,null,null,{"$f":"IF(D79=\"\",\"\",INDEX([4]BG!$A$3:$B$65,MATCH(D79,البند,0),1))","v":""},"",""]
[78,{"$f":"IF(D80=\"\",\"\",INDEX(BG!A$3:$A$65,MATCH(D80,البند,0)))","v":""},null,null,null,null,0,null,null,null,null,null,null,null,null,null,null,null,null,null,null,null,null,null,null,null,null,null,null,null,null,null,null,null,null,null,null,null,null,null,null,null,null,{"$f":"IF(B80=\"\",0,LOOKUP(B80,[4]BG!$A$3:$A$65,[4]BG!$H$3:$H$65))-SUMIF($B$3:B80,B80,$G$3:G80)","v":0},{"$f":"IF(E80=\"\",\"\",INDEX(Four!A:G,MATCH(الالتزام!E80,ممون,0),4))","v":""},null,null,0,null,"","","",null,null,null,null,null,null,null,null,null,{"$f":"IF(D80=\"\",\"\",INDEX([4]BG!$A$3:$B$65,MATCH(D80,البند,0),1))","v":""},"",""]
[79,{"$f":"IF(D81=\"\",\"\",INDEX(BG!A$3:$A$65,MATCH(D81,البند,0)))","v":""},null,null,null,null,0,null,null,null,null,null,null,null,null,null,null,null,null,null,null,null,null,null,null,null,null,null,null,null,null,null,null,null,null,null,null,null,null,null,null,null,null,{"$f":"IF(B81=\"\",0,LOOKUP(B81,[4]BG!$A$3:$A$65,[4]BG!$H$3:$H$65))-SUMIF($B$3:B81,B81,$G$3:G81)","v":0},{"$f":"IF(E81=\"\",\"\",INDEX(Four!A:G,MATCH(الالتزام!E81,ممون,0),4))","v":""},null,null,0,null,"","","",null,null,null,null,null,null,null,null,null,{"$f":"IF(D81=\"\",\"\",INDEX([4]BG!$A$3:$B$65,MATCH(D81,البند,0),1))","v":""},"",""]
[80,{"$f":"IF(D82=\"\",\"\",INDEX(BG!A$3:$A$65,MATCH(D82,البند,0)))","v":""},null,null,null,null,0,null,null,null,null,null,null,null,null,null,null,null,null,null,null,null,null,null,null,null,null,null,null,null,null,null,null,null,null,null,null,null,null,null,null,null,null,{"$f":"IF(B82=\"\",0,LOOKUP(B82,[4]BG!$A$3:$A$65,[4]BG!$H$3:$H$65))-SUMIF($B$3:B82,B82,$G$3:G82)","v":0},{"$f":"IF(E82=\"\",\"\",INDEX(Four!A:G,MATCH(الالتزام!E82,ممون,0),4))","v":""},null,null,0,null,"","","",null,null,null,null,null,null,null,null,null,{"$f":"IF(D82=\"\",\"\",INDEX([4]BG!$A$3:$B$65,MATCH(D82,البند,0),1))","v":""},"",""]
[81,{"$f":"IF(D83=\"\",\"\",INDEX(BG!A$3:$A$65,MATCH(D83,البند,0)))","v":""},null,null,null,null,0,null,null,null,null,null,null,null,null,null,null,null,null,null,null,null,null,null,null,null,null,null,null,null,null,null,null,null,null,null,null,null,null,null,null,null,null,{"$f":"IF(B83=\"\",0,LOOKUP(B83,[4]BG!$A$3:$A$65,[4]BG!$H$3:$H$65))-SUMIF($B$3:B83,B83,$G$3:G83)","v":0},{"$f":"IF(E83=\"\",\"\",INDEX(Four!A:G,MATCH(الالتزام!E83,ممون,0),4))","v":""},null,null,0,null,"","","",null,null,null,null,null,null,null,null,null,{"$f":"IF(D83=\"\",\"\",INDEX([4]BG!$A$3:$B$65,MATCH(D83,البند,0),1))","v":""},"",""]
[82,{"$f":"IF(D84=\"\",\"\",INDEX(BG!A$3:$A$65,MATCH(D84,البند,0)))","v":""},null,null,null,null,0,null,null,null,null,null,null,null,null,null,null,null,null,null,null,null,null,null,null,null,null,null,null,null,null,null,null,null,null,null,null,null,null,null,null,null,null,{"$f":"IF(B84=\"\",0,LOOKUP(B84,[4]BG!$A$3:$A$65,[4]BG!$H$3:$H$65))-SUMIF($B$3:B84,B84,$G$3:G84)","v":0},{"$f":"IF(E84=\"\",\"\",INDEX(Four!A:G,MATCH(الالتزام!E84,ممون,0),4))","v":""},null,null,0,null,"","","",null,null,null,null,null,null,null,null,null,{"$f":"IF(D84=\"\",\"\",INDEX([4]BG!$A$3:$B$65,MATCH(D84,البند,0),1))","v":""},"",""]
[83,{"$f":"IF(D85=\"\",\"\",INDEX(BG!A$3:$A$65,MATCH(D85,البند,0)))","v":""},null,null,null,null,0,null,null,null,null,null,null,null,null,null,null,null,null,null,null,null,null,null,null,null,null,null,null,null,null,null,null,null,null,null,null,null,null,null,null,null,null,{"$f":"IF(B85=\"\",0,LOOKUP(B85,[4]BG!$A$3:$A$65,[4]BG!$H$3:$H$65))-SUMIF($B$3:B85,B85,$G$3:G85)","v":0},{"$f":"IF(E85=\"\",\"\",INDEX(Four!A:G,MATCH(الالتزام!E85,ممون,0),4))","v":""},null,null,0,null,"","","",null,null,null,null,null,null,null,null,null,{"$f":"IF(D85=\"\",\"\",INDEX([4]BG!$A$3:$B$65,MATCH(D85,البند,0),1))","v":""},"",""]
[84,{"$f":"IF(D86=\"\",\"\",INDEX(BG!A$3:$A$65,MATCH(D86,البند,0)))","v":""},null,null,null,null,0,null,null,null,null,null,null,null,null,null,null,null,null,null,null,null,null,null,null,null,null,null,null,null,null,null,null,null,null,null,null,null,null,null,null,null,null,{"$f":"IF(B86=\"\",0,LOOKUP(B86,[4]BG!$A$3:$A$65,[4]BG!$H$3:$H$65))-SUMIF($B$3:B86,B86,$G$3:G86)","v":0},{"$f":"IF(E86=\"\",\"\",INDEX(Four!A:G,MATCH(الالتزام!E86,ممون,0),4))","v":""},null,null,0,null,"","","",null,null,null,null,null,null,null,null,null,{"$f":"IF(D86=\"\",\"\",INDEX([4]BG!$A$3:$B$65,MATCH(D86,البند,0),1))","v":""},"",""]
[85,{"$f":"IF(D87=\"\",\"\",INDEX(BG!A$3:$A$65,MATCH(D87,البند,0)))","v":""},null,null,null,null,0,null,null,null,null,null,null,null,null,null,null,null,null,null,null,null,null,null,null,null,null,null,null,null,null,null,null,null,null,null,null,null,null,null,null,null,null,{"$f":"IF(B87=\"\",0,LOOKUP(B87,[4]BG!$A$3:$A$65,[4]BG!$H$3:$H$65))-SUMIF($B$3:B87,B87,$G$3:G87)","v":0},{"$f":"IF(E87=\"\",\"\",INDEX(Four!A:G,MATCH(الالتزام!E87,ممون,0),4))","v":""},null,null,0,null,"","","",null,null,null,null,null,null,null,null,null,{"$f":"IF(D87=\"\",\"\",INDEX([4]BG!$A$3:$B$65,MATCH(D87,البند,0),1))","v":""},"",""]
[86,{"$f":"IF(D88=\"\",\"\",INDEX(BG!A$3:$A$65,MATCH(D88,البند,0)))","v":""},null,null,null,null,0,null,null,null,null,null,null,null,null,null,null,null,null,null,null,null,null,null,null,null,null,null,null,null,null,null,null,null,null,null,null,null,null,null,null,null,null,{"$f":"IF(B88=\"\",0,LOOKUP(B88,[4]BG!$A$3:$A$65,[4]BG!$H$3:$H$65))-SUMIF($B$3:B88,B88,$G$3:G88)","v":0},{"$f":"IF(E88=\"\",\"\",INDEX(Four!A:G,MATCH(الالتزام!E88,ممون,0),4))","v":""},null,null,0,null,"","","",null,null,null,null,null,null,null,null,null,{"$f":"IF(D88=\"\",\"\",INDEX([4]BG!$A$3:$B$65,MATCH(D88,البند,0),1))","v":""},"",""]
[87,{"$f":"IF(D89=\"\",\"\",INDEX(BG!A$3:$A$65,MATCH(D89,البند,0)))","v":""},null,null,null,null,0,null,null,null,null,null,null,null,null,null,null,null,null,null,null,null,null,null,null,null,null,null,null,null,null,null,null,null,null,null,null,null,null,null,null,null,null,{"$f":"IF(B89=\"\",0,LOOKUP(B89,[4]BG!$A$3:$A$65,[4]BG!$H$3:$H$65))-SUMIF($B$3:B89,B89,$G$3:G89)","v":0},{"$f":"IF(E89=\"\",\"\",INDEX(Four!A:G,MATCH(الالتزام!E89,ممون,0),4))","v":""},null,null,0,null,"","","",null,null,null,null,null,null,null,null,null,{"$f":"IF(D89=\"\",\"\",INDEX([4]BG!$A$3:$B$65,MATCH(D89,البند,0),1))","v":""},"",""]
[88,{"$f":"IF(D90=\"\",\"\",INDEX([4]BG!A$3:$A$65,MATCH(D90,البند,0)))","v":""},null,null,null,null,0,null,null,null,null,null,null,null,null,null,null,null,null,null,null,null,null,null,null,null,null,null,null,null,null,null,null,null,null,null,null,null,null,null,null,null,null,{"$f":"IF(B90=\"\",0,LOOKUP(B90,[4]BG!$A$3:$A$65,[4]BG!$H$3:$H$65))-SUMIF($B$3:B90,B90,$G$3:G90)","v":0},{"$f":"IF(E90=\"\",\"\",INDEX(Four!A:G,MATCH(الالتزام!E90,ممون,0),4))","v":""},null,null,0,null,"","","",null,null,null,null,null,null,null,null,null,{"$f":"IF(D90=\"\",\"\",INDEX([4]BG!$A$3:$B$65,MATCH(D90,البند,0),1))","v":""},"",""]
[89,{"$f":"IF(D91=\"\",\"\",INDEX([4]BG!A$3:$A$65,MATCH(D91,البند,0)))","v":""},null,null,null,null,0,null,null,null,null,null,null,null,null,null,null,null,null,null,null,null,null,null,null,null,null,null,null,null,null,null,null,null,null,null,null,null,null,null,null,null,null,{"$f":"IF(B91=\"\",0,LOOKUP(B91,[4]BG!$A$3:$A$65,[4]BG!$H$3:$H$65))-SUMIF($B$3:B91,B91,$G$3:G91)","v":0},{"$f":"IF(E91=\"\",\"\",INDEX(Four!A:G,MATCH(الالتزام!E91,ممون,0),4))","v":""},null,null,0,null,"","","",null,null,null,null,null,null,null,null,null,{"$f":"IF(D91=\"\",\"\",INDEX([4]BG!$A$3:$B$65,MATCH(D91,البند,0),1))","v":""},"",""]
[90,{"$f":"IF(D92=\"\",\"\",INDEX([4]BG!A$3:$A$65,MATCH(D92,البند,0)))","v":""},null,null,null,null,0,null,null,null,null,null,null,null,null,null,null,null,null,null,null,null,null,null,null,null,null,null,null,null,null,null,null,null,null,null,null,null,null,null,null,null,null,{"$f":"IF(B92=\"\",0,LOOKUP(B92,[4]BG!$A$3:$A$65,[4]BG!$H$3:$H$65))-SUMIF($B$3:B92,B92,$G$3:G92)","v":0},{"$f":"IF(E92=\"\",\"\",INDEX(Four!A:G,MATCH(الالتزام!E92,ممون,0),4))","v":""},null,null,0,null,"","","",null,null,null,null,null,null,null,null,null,{"$f":"IF(D92=\"\",\"\",INDEX([4]BG!$A$3:$B$65,MATCH(D92,البند,0),1))","v":""},"",""]
[91,{"$f":"IF(D93=\"\",\"\",INDEX([4]BG!A$3:$A$65,MATCH(D93,البند,0)))","v":""},null,null,null,null,0,null,null,null,null,null,null,null,null,null,null,null,null,null,null,null,null,null,null,null,null,null,null,null,null,null,null,null,null,null,null,null,null,null,null,null,null,{"$f":"IF(B93=\"\",0,LOOKUP(B93,[4]BG!$A$3:$A$65,[4]BG!$H$3:$H$65))-SUMIF($B$3:B93,B93,$G$3:G93)","v":0},{"$f":"IF(E93=\"\",\"\",INDEX(Four!A:G,MATCH(الالتزام!E93,ممون,0),4))","v":""},null,null,0,null,"","","",null,null,null,null,null,null,null,null,null,{"$f":"IF(D93=\"\",\"\",INDEX([4]BG!$A$3:$B$65,MATCH(D93,البند,0),1))","v":""},"",""]
[92,{"$f":"IF(D94=\"\",\"\",INDEX([4]BG!A$3:$A$65,MATCH(D94,البند,0)))","v":""},null,null,null,null,0,null,null,null,null,null,null,null,null,null,null,null,null,null,null,null,null,null,null,null,null,null,null,null,null,null,null,null,null,null,null,null,null,null,null,null,null,{"$f":"IF(B94=\"\",0,LOOKUP(B94,[4]BG!$A$3:$A$65,[4]BG!$H$3:$H$65))-SUMIF($B$3:B94,B94,$G$3:G94)","v":0},{"$f":"IF(E94=\"\",\"\",INDEX(Four!A:G,MATCH(الالتزام!E94,ممون,0),4))","v":""},null,null,0,null,"","","",null,null,null,null,null,null,null,null,null,{"$f":"IF(D94=\"\",\"\",INDEX([4]BG!$A$3:$B$65,MATCH(D94,البند,0),1))","v":""},"",""]
[93,{"$f":"IF(D95=\"\",\"\",INDEX([4]BG!A$3:$A$65,MATCH(D95,البند,0)))","v":""},null,null,null,null,0,null,null,null,null,null,null,null,null,null,null,null,null,null,null,null,null,null,null,null,null,null,null,null,null,null,null,null,null,null,null,null,null,null,null,null,null,{"$f":"IF(B95=\"\",0,LOOKUP(B95,[4]BG!$A$3:$A$65,[4]BG!$H$3:$H$65))-SUMIF($B$3:B95,B95,$G$3:G95)","v":0},{"$f":"IF(E95=\"\",\"\",INDEX(Four!A:G,MATCH(الالتزام!E95,ممون,0),4))","v":""},null,null,0,null,"","","",null,null,null,null,null,null,null,null,null,{"$f":"IF(D95=\"\",\"\",INDEX([4]BG!$A$3:$B$65,MATCH(D95,البند,0),1))","v":""},"",""]
[94,{"$f":"IF(D96=\"\",\"\",INDEX([4]BG!A$3:$A$65,MATCH(D96,البند,0)))","v":""},null,null,null,null,0,null,null,null,null,null,null,null,null,null,null,null,null,null,null,null,null,null,null,null,null,null,null,null,null,null,null,null,null,null,null,null,null,null,null,null,null,{"$f":"IF(B96=\"\",0,LOOKUP(B96,[4]BG!$A$3:$A$65,[4]BG!$H$3:$H$65))-SUMIF($B$3:B96,B96,$G$3:G96)","v":0},{"$f":"IF(E96=\"\",\"\",INDEX(Four!A:G,MATCH(الالتزام!E96,ممون,0),4))","v":""},null,null,0,null,"","","",null,null,null,null,null,null,null,null,null,{"$f":"IF(D96=\"\",\"\",INDEX([4]BG!$A$3:$B$65,MATCH(D96,البند,0),1))","v":""},"",""]
[95,{"$f":"IF(D97=\"\",\"\",INDEX([4]BG!A$3:$A$65,MATCH(D97,البند,0)))","v":""},null,null,null,null,0,null,null,null,null,null,null,null,null,null,null,null,null,null,null,null,null,null,null,null,null,null,null,null,null,null,null,null,null,null,null,null,null,null,null,null,null,{"$f":"IF(B97=\"\",0,LOOKUP(B97,[4]BG!$A$3:$A$65,[4]BG!$H$3:$H$65))-SUMIF($B$3:B97,B97,$G$3:G97)","v":0},{"$f":"IF(E97=\"\",\"\",INDEX(Four!A:G,MATCH(الالتزام!E97,ممون,0),4))","v":""},null,null,0,null,"","","",null,null,null,null,null,null,null,null,null,{"$f":"IF(D97=\"\",\"\",INDEX([4]BG!$A$3:$B$65,MATCH(D97,البند,0),1))","v":""},"",""]
[96,{"$f":"IF(D98=\"\",\"\",INDEX([4]BG!A$3:$A$65,MATCH(D98,البند,0)))","v":""},null,null,null,null,0,null,null,null,null,null,null,null,null,null,null,null,null,null,null,null,null,null,null,null,null,null,null,null,null,null,null,null,null,null,null,null,null,null,null,null,null,{"$f":"IF(B98=\"\",0,LOOKUP(B98,[4]BG!$A$3:$A$65,[4]BG!$H$3:$H$65))-SUMIF($B$3:B98,B98,$G$3:G98)","v":0},{"$f":"IF(E98=\"\",\"\",INDEX(Four!A:G,MATCH(الالتزام!E98,ممون,0),4))","v":""},null,null,0,null,"","","",null,null,null,null,null,null,null,null,null,{"$f":"IF(D98=\"\",\"\",INDEX([4]BG!$A$3:$B$65,MATCH(D98,البند,0),1))","v":""},"",""]
[97,{"$f":"IF(D99=\"\",\"\",INDEX([4]BG!A$3:$A$65,MATCH(D99,البند,0)))","v":""},null,null,null,null,0,null,null,null,null,null,null,null,null,null,null,null,null,null,null,null,null,null,null,null,null,null,null,null,null,null,null,null,null,null,null,null,null,null,null,null,null,{"$f":"IF(B99=\"\",0,LOOKUP(B99,[4]BG!$A$3:$A$65,[4]BG!$H$3:$H$65))-SUMIF($B$3:B99,B99,$G$3:G99)","v":0},{"$f":"IF(E99=\"\",\"\",INDEX(Four!A:G,MATCH(الالتزام!E99,ممون,0),4))","v":""},null,null,0,null,"","","",null,null,null,null,null,null,null,null,null,{"$f":"IF(D99=\"\",\"\",INDEX([4]BG!$A$3:$B$65,MATCH(D99,البند,0),1))","v":""},"",""]
[98,{"$f":"IF(D100=\"\",\"\",INDEX([4]BG!A$3:$A$65,MATCH(D100,البند,0)))","v":""},null,null,null,null,0,null,null,null,null,null,null,null,null,null,null,null,null,null,null,null,null,null,null,null,null,null,null,null,null,null,null,null,null,null,null,null,null,null,null,null,null,{"$f":"IF(B100=\"\",0,LOOKUP(B100,[4]BG!$A$3:$A$65,[4]BG!$H$3:$H$65))-SUMIF($B$3:B100,B100,$G$3:G100)","v":0},{"$f":"IF(E100=\"\",\"\",INDEX(Four!A:G,MATCH(الالتزام!E100,ممون,0),4))","v":""},null,null,0,null,"","","",null,null,null,null,null,null,null,null,null,{"$f":"IF(D100=\"\",\"\",INDEX([4]BG!$A$3:$B$65,MATCH(D100,البند,0),1))","v":""},"",""]
[99,{"$f":"IF(D101=\"\",\"\",INDEX([4]BG!A$3:$A$65,MATCH(D101,البند,0)))","v":""},null,null,null,null,0,null,null,null,null,null,null,null,null,null,null,null,null,null,null,null,null,null,null,null,null,null,null,null,null,null,null,null,null,null,null,null,null,null,null,null,null,{"$f":"IF(B101=\"\",0,LOOKUP(B101,[4]BG!$A$3:$A$65,[4]BG!$H$3:$H$65))-SUMIF($B$3:B101,B101,$G$3:G101)","v":0},{"$f":"IF(E101=\"\",\"\",INDEX(Four!A:G,MATCH(الالتزام!E101,ممون,0),4))","v":""},null,null,0,null,"","","",null,null,null,null,null,null,null,null,null,{"$f":"IF(D101=\"\",\"\",INDEX([4]BG!$A$3:$B$65,MATCH(D101,البند,0),1))","v":""},"",""]
[100,{"$f":"IF(D102=\"\",\"\",INDEX([4]BG!A$3:$A$65,MATCH(D102,البند,0)))","v":""},null,null,null,null,0,null,null,null,null,null,null,null,null,null,null,null,null,null,null,null,null,null,null,null,null,null,null,null,null,null,null,null,null,null,null,null,null,null,null,null,null,{"$f":"IF(B102=\"\",0,LOOKUP(B102,[4]BG!$A$3:$A$65,[4]BG!$H$3:$H$65))-SUMIF($B$3:B102,B102,$G$3:G102)","v":0},{"$f":"IF(E102=\"\",\"\",INDEX(Four!A:G,MATCH(الالتزام!E102,ممون,0),4))","v":""},null,null,0,null,"","","",null,null,null,null,null,null,null,null,null,{"$f":"IF(D102=\"\",\"\",INDEX([4]BG!$A$3:$B$65,MATCH(D102,البند,0),1))","v":""},"",""]
[101,{"$f":"IF(D103=\"\",\"\",INDEX([4]BG!A$3:$A$65,MATCH(D103,البند,0)))","v":""},null,null,null,null,0,null,null,null,null,null,null,null,null,null,null,null,null,null,null,null,null,null,null,null,null,null,null,null,null,null,null,null,null,null,null,null,null,null,null,null,null,{"$f":"IF(B103=\"\",0,LOOKUP(B103,[4]BG!$A$3:$A$65,[4]BG!$H$3:$H$65))-SUMIF($B$3:B103,B103,$G$3:G103)","v":0},{"$f":"IF(E103=\"\",\"\",INDEX(Four!A:G,MATCH(الالتزام!E103,ممون,0),4))","v":""},null,null,0,null,"","","",null,null,null,null,null,null,null,null,null,{"$f":"IF(D103=\"\",\"\",INDEX([4]BG!$A$3:$B$65,MATCH(D103,البند,0),1))","v":""},"",""]
[102,{"$f":"IF(D104=\"\",\"\",INDEX([4]BG!A$3:$A$65,MATCH(D104,البند,0)))","v":""},null,null,null,null,0,null,null,null,null,null,null,null,null,null,null,null,null,null,null,null,null,null,null,null,null,null,null,null,null,null,null,null,null,null,null,null,null,null,null,null,null,{"$f":"IF(B104=\"\",0,LOOKUP(B104,[4]BG!$A$3:$A$65,[4]BG!$H$3:$H$65))-SUMIF($B$3:B104,B104,$G$3:G104)","v":0},{"$f":"IF(E104=\"\",\"\",INDEX(Four!A:G,MATCH(الالتزام!E104,ممون,0),4))","v":""},null,null,0,null,"","","",null,null,null,null,null,null,null,null,null,{"$f":"IF(D104=\"\",\"\",INDEX([4]BG!$A$3:$B$65,MATCH(D104,البند,0),1))","v":""},"",""]
[103,{"$f":"IF(D105=\"\",\"\",INDEX([4]BG!A$3:$A$65,MATCH(D105,البند,0)))","v":""},null,null,null,null,0,null,null,null,null,null,null,null,null,null,null,null,null,null,null,null,null,null,null,null,null,null,null,null,null,null,null,null,null,null,null,null,null,null,null,null,null,{"$f":"IF(B105=\"\",0,LOOKUP(B105,[4]BG!$A$3:$A$65,[4]BG!$H$3:$H$65))-SUMIF($B$3:B105,B105,$G$3:G105)","v":0},{"$f":"IF(E105=\"\",\"\",INDEX(Four!A:G,MATCH(الالتزام!E105,ممون,0),4))","v":""},null,null,0,null,"","","",null,null,null,null,null,null,null,null,null,{"$f":"IF(D105=\"\",\"\",INDEX([4]BG!$A$3:$B$65,MATCH(D105,البند,0),1))","v":""},"",""]
[104,{"$f":"IF(D106=\"\",\"\",INDEX([4]BG!A$3:$A$65,MATCH(D106,البند,0)))","v":""},null,null,null,null,0,null,null,null,null,null,null,null,null,null,null,null,null,null,null,null,null,null,null,null,null,null,null,null,null,null,null,null,null,null,null,null,null,null,null,null,null,{"$f":"IF(B106=\"\",0,LOOKUP(B106,[4]BG!$A$3:$A$65,[4]BG!$H$3:$H$65))-SUMIF($B$3:B106,B106,$G$3:G106)","v":0},{"$f":"IF(E106=\"\",\"\",INDEX(Four!A:G,MATCH(الالتزام!E106,ممون,0),4))","v":""},null,null,0,null,"","","",null,null,null,null,null,null,null,null,null,{"$f":"IF(D106=\"\",\"\",INDEX([4]BG!$A$3:$B$65,MATCH(D106,البند,0),1))","v":""},"",""]
[105,{"$f":"IF(D107=\"\",\"\",INDEX([4]BG!A$3:$A$65,MATCH(D107,البند,0)))","v":""},null,null,null,null,0,null,null,null,null,null,null,null,null,null,null,null,null,null,null,null,null,null,null,null,null,null,null,null,null,null,null,null,null,null,null,null,null,null,null,null,null,{"$f":"IF(B107=\"\",0,LOOKUP(B107,[4]BG!$A$3:$A$65,[4]BG!$H$3:$H$65))-SUMIF($B$3:B107,B107,$G$3:G107)","v":0},{"$f":"IF(E107=\"\",\"\",INDEX(Four!A:G,MATCH(الالتزام!E107,ممون,0),4))","v":""},null,null,0,null,"","","",null,null,null,null,null,null,null,null,null,{"$f":"IF(D107=\"\",\"\",INDEX([4]BG!$A$3:$B$65,MATCH(D107,البند,0),1))","v":""},"",""]
[106,{"$f":"IF(D108=\"\",\"\",INDEX([4]BG!A$3:$A$65,MATCH(D108,البند,0)))","v":""},null,null,null,null,0,null,null,null,null,null,null,null,null,null,null,null,null,null,null,null,null,null,null,null,null,null,null,null,null,null,null,null,null,null,null,null,null,null,null,null,null,{"$f":"IF(B108=\"\",0,LOOKUP(B108,[4]BG!$A$3:$A$65,[4]BG!$H$3:$H$65))-SUMIF($B$3:B108,B108,$G$3:G108)","v":0},{"$f":"IF(E108=\"\",\"\",INDEX(Four!A:G,MATCH(الالتزام!E108,ممون,0),4))","v":""},null,null,0,null,"","","",null,null,null,null,null,null,null,null,null,{"$f":"IF(D108=\"\",\"\",INDEX([4]BG!$A$3:$B$65,MATCH(D108,البند,0),1))","v":""},"",""]
[107,{"$f":"IF(D109=\"\",\"\",INDEX([4]BG!A$3:$A$65,MATCH(D109,البند,0)))","v":""},null,null,null,null,0,null,null,null,null,null,null,null,null,null,null,null,null,null,null,null,null,null,null,null,null,null,null,null,null,null,null,null,null,null,null,null,null,null,null,null,null,{"$f":"IF(B109=\"\",0,LOOKUP(B109,[4]BG!$A$3:$A$65,[4]BG!$H$3:$H$65))-SUMIF($B$3:B109,B109,$G$3:G109)","v":0},{"$f":"IF(E109=\"\",\"\",INDEX(Four!A:G,MATCH(الالتزام!E109,ممون,0),4))","v":""},null,null,0,null,"","","",null,null,null,null,null,null,null,null,null,{"$f":"IF(D109=\"\",\"\",INDEX([4]BG!$A$3:$B$65,MATCH(D109,البند,0),1))","v":""},"",""]
[108,{"$f":"IF(D110=\"\",\"\",INDEX([4]BG!A$3:$A$65,MATCH(D110,البند,0)))","v":""},null,null,null,null,0,null,null,null,null,null,null,null,null,null,null,null,null,null,null,null,null,null,null,null,null,null,null,null,null,null,null,null,null,null,null,null,null,null,null,null,null,{"$f":"IF(B110=\"\",0,LOOKUP(B110,[4]BG!$A$3:$A$65,[4]BG!$H$3:$H$65))-SUMIF($B$3:B110,B110,$G$3:G110)","v":0},{"$f":"IF(E110=\"\",\"\",INDEX(Four!A:G,MATCH(الالتزام!E110,ممون,0),4))","v":""},null,null,0,null,"","","",null,null,null,null,null,null,null,null,null,{"$f":"IF(D110=\"\",\"\",INDEX([4]BG!$A$3:$B$65,MATCH(D110,البند,0),1))","v":""},"",""]
[109,{"$f":"IF(D111=\"\",\"\",INDEX([4]BG!A$3:$A$65,MATCH(D111,البند,0)))","v":""},null,null,null,null,0,null,null,null,null,null,null,null,null,null,null,null,null,null,null,null,null,null,null,null,null,null,null,null,null,null,null,null,null,null,null,null,null,null,null,null,null,{"$f":"IF(B111=\"\",0,LOOKUP(B111,[4]BG!$A$3:$A$65,[4]BG!$H$3:$H$65))-SUMIF($B$3:B111,B111,$G$3:G111)","v":0},{"$f":"IF(E111=\"\",\"\",INDEX(Four!A:G,MATCH(الالتزام!E111,ممون,0),4))","v":""},null,null,0,null,"","","",null,null,null,null,null,null,null,null,null,{"$f":"IF(D111=\"\",\"\",INDEX([4]BG!$A$3:$B$65,MATCH(D111,البند,0),1))","v":""},"",""]
[110,{"$f":"IF(D112=\"\",\"\",INDEX([4]BG!A$3:$A$65,MATCH(D112,البند,0)))","v":""},null,null,null,null,0,null,null,null,null,null,null,null,null,null,null,null,null,null,null,null,null,null,null,null,null,null,null,null,null,null,null,null,null,null,null,null,null,null,null,null,null,{"$f":"IF(B112=\"\",0,LOOKUP(B112,[4]BG!$A$3:$A$65,[4]BG!$H$3:$H$65))-SUMIF($B$3:B112,B112,$G$3:G112)","v":0},{"$f":"IF(E112=\"\",\"\",INDEX(Four!A:G,MATCH(الالتزام!E112,ممون,0),4))","v":""},null,null,0,null,"","","",null,null,null,null,null,null,null,null,null,{"$f":"IF(D112=\"\",\"\",INDEX([4]BG!$A$3:$B$65,MATCH(D112,البند,0),1))","v":""},"",""]
[111,{"$f":"IF(D113=\"\",\"\",INDEX([4]BG!A$3:$A$65,MATCH(D113,البند,0)))","v":""},null,null,null,null,0,null,null,null,null,null,null,null,null,null,null,null,null,null,null,null,null,null,null,null,null,null,null,null,null,null,null,null,null,null,null,null,null,null,null,null,null,{"$f":"IF(B113=\"\",0,LOOKUP(B113,[4]BG!$A$3:$A$65,[4]BG!$H$3:$H$65))-SUMIF($B$3:B113,B113,$G$3:G113)","v":0},{"$f":"IF(E113=\"\",\"\",INDEX(Four!A:G,MATCH(الالتزام!E113,ممون,0),4))","v":""},null,null,0,null,"","","",null,null,null,null,null,null,null,null,null,{"$f":"IF(D113=\"\",\"\",INDEX([4]BG!$A$3:$B$65,MATCH(D113,البند,0),1))","v":""},"",""]
[112,{"$f":"IF(D114=\"\",\"\",INDEX([4]BG!A$3:$A$65,MATCH(D114,البند,0)))","v":""},null,null,null,null,0,null,null,null,null,null,null,null,null,null,null,null,null,null,null,null,null,null,null,null,null,null,null,null,null,null,null,null,null,null,null,null,null,null,null,null,null,{"$f":"IF(B114=\"\",0,LOOKUP(B114,[4]BG!$A$3:$A$65,[4]BG!$H$3:$H$65))-SUMIF($B$3:B114,B114,$G$3:G114)","v":0},{"$f":"IF(E114=\"\",\"\",INDEX(Four!A:G,MATCH(الالتزام!E114,ممون,0),4))","v":""},null,null,0,null,"","","",null,null,null,null,null,null,null,null,null,{"$f":"IF(D114=\"\",\"\",INDEX([4]BG!$A$3:$B$65,MATCH(D114,البند,0),1))","v":""},"",""]
[113,{"$f":"IF(D115=\"\",\"\",INDEX([4]BG!A$3:$A$65,MATCH(D115,البند,0)))","v":""},null,null,null,null,0,null,null,null,null,null,null,null,null,null,null,null,null,null,null,null,null,null,null,null,null,null,null,null,null,null,null,null,null,null,null,null,null,null,null,null,null,{"$f":"IF(B115=\"\",0,LOOKUP(B115,[4]BG!$A$3:$A$65,[4]BG!$H$3:$H$65))-SUMIF($B$3:B115,B115,$G$3:G115)","v":0},{"$f":"IF(E115=\"\",\"\",INDEX(Four!A:G,MATCH(الالتزام!E115,ممون,0),4))","v":""},null,null,0,null,"","","",null,null,null,null,null,null,null,null,null,{"$f":"IF(D115=\"\",\"\",INDEX([4]BG!$A$3:$B$65,MATCH(D115,البند,0),1))","v":""},"",""]
[114,{"$f":"IF(D116=\"\",\"\",INDEX([4]BG!A$3:$A$65,MATCH(D116,البند,0)))","v":""},null,null,null,null,0,null,null,null,null,null,null,null,null,null,null,null,null,null,null,null,null,null,null,null,null,null,null,null,null,null,null,null,null,null,null,null,null,null,null,null,null,{"$f":"IF(B116=\"\",0,LOOKUP(B116,[4]BG!$A$3:$A$65,[4]BG!$H$3:$H$65))-SUMIF($B$3:B116,B116,$G$3:G116)","v":0},{"$f":"IF(E116=\"\",\"\",INDEX(Four!A:G,MATCH(الالتزام!E116,ممون,0),4))","v":""},null,null,0,null,"","","",null,null,null,null,null,null,null,null,null,{"$f":"IF(D116=\"\",\"\",INDEX([4]BG!$A$3:$B$65,MATCH(D116,البند,0),1))","v":""},"",""]
[null,{"$f":"IF(D117=\"\",\"\",INDEX([4]BG!A$3:$A$65,MATCH(D117,البند,0)))","v":""},null,null,null,null,0,null,null,null,null,null,null,null,null,null,null,null,null,null,null,null,null,null,null,null,null,null,null,null,null,null,null,null,null,null,null,null,null,null,null,null,null,{"$f":"IF(B117=\"\",0,LOOKUP(B117,[4]BG!$A$3:$A$65,[4]BG!$H$3:$H$65))-SUMIF($B$3:B117,B117,$G$3:G117)","v":0},{"$f":"IF(E117=\"\",\"\",INDEX(Four!A:G,MATCH(الالتزام!E117,ممون,0),4))","v":""},null,null,0,null,"","","",null,null,null,null,null,null,null,null,null,{"$f":"IF(D117=\"\",\"\",INDEX([4]BG!$A$3:$B$65,MATCH(D117,البند,0),1))","v":""},"",""]
[null,{"$f":"IF(D118=\"\",\"\",INDEX([4]BG!A$3:$A$65,MATCH(D118,البند,0)))","v":""},null,null,null,null,0,null,null,null,null,null,null,null,null,null,null,null,null,null,null,null,null,null,null,null,null,null,null,null,null,null,null,null,null,null,null,null,null,null,null,null,null,{"$f":"IF(B118=\"\",0,LOOKUP(B118,[4]BG!$A$3:$A$65,[4]BG!$H$3:$H$65))-SUMIF($B$3:B118,B118,$G$3:G118)","v":0},{"$f":"IF(E118=\"\",\"\",INDEX(Four!A:G,MATCH(الالتزام!E118,ممون,0),4))","v":""},null,null,0,null,"","","",null,null,null,null,null,null,null,null,null,{"$f":"IF(D118=\"\",\"\",INDEX([4]BG!$A$3:$B$65,MATCH(D118,البند,0),1))","v":""},"",""]
[null,{"$f":"IF(D119=\"\",\"\",INDEX([4]BG!A$3:$A$65,MATCH(D119,البند,0)))","v":""},null,null,null,null,0,null,null,null,null,null,null,null,null,null,null,null,null,null,null,null,null,null,null,null,null,null,null,null,null,null,null,null,null,null,null,null,null,null,null,null,null,{"$f":"IF(B119=\"\",0,LOOKUP(B119,[4]BG!$A$3:$A$65,[4]BG!$H$3:$H$65))-SUMIF($B$3:B119,B119,$G$3:G119)","v":0},{"$f":"IF(E119=\"\",\"\",INDEX(Four!A:G,MATCH(الالتزام!E119,ممون,0),4))","v":""},null,null,0,null,"","","",null,null,null,null,null,null,null,null,null,{"$f":"IF(D119=\"\",\"\",INDEX([4]BG!$A$3:$B$65,MATCH(D119,البند,0),1))","v":""},"",""]
[null,{"$f":"IF(D120=\"\",\"\",INDEX([4]BG!A$3:$A$65,MATCH(D120,البند,0)))","v":""},null,null,null,null,0,null,null,null,null,null,null,null,null,null,null,null,null,null,null,null,null,null,null,null,null,null,null,null,null,null,null,null,null,null,null,null,null,null,null,null,null,{"$f":"IF(B120=\"\",0,LOOKUP(B120,[4]BG!$A$3:$A$65,[4]BG!$H$3:$H$65))-SUMIF($B$3:B120,B120,$G$3:G120)","v":0},{"$f":"IF(E120=\"\",\"\",INDEX(Four!A:G,MATCH(الالتزام!E120,ممون,0),4))","v":""},null,null,0,null,"","","",null,null,null,null,null,null,null,null,null,{"$f":"IF(D120=\"\",\"\",INDEX([4]BG!$A$3:$B$65,MATCH(D120,البند,0),1))","v":""},"",""]
[null,{"$f":"IF(D121=\"\",\"\",INDEX([4]BG!A$3:$A$65,MATCH(D121,البند,0)))","v":""},null,null,null,null,0,null,null,null,null,null,null,null,null,null,null,null,null,null,null,null,null,null,null,null,null,null,null,null,null,null,null,null,null,null,null,null,null,null,null,null,null,{"$f":"IF(B121=\"\",0,LOOKUP(B121,[4]BG!$A$3:$A$65,[4]BG!$H$3:$H$65))-SUMIF($B$3:B121,B121,$G$3:G121)","v":0},{"$f":"IF(E121=\"\",\"\",INDEX(Four!A:G,MATCH(الالتزام!E121,ممون,0),4))","v":""},null,null,0,null,"","","",null,null,null,null,null,null,null,null,null,{"$f":"IF(D121=\"\",\"\",INDEX([4]BG!$A$3:$B$65,MATCH(D121,البند,0),1))","v":""},"",""]
[null,{"$f":"IF(D122=\"\",\"\",INDEX([4]BG!A$3:$A$65,MATCH(D122,البند,0)))","v":""},null,null,null,null,0,null,null,null,null,null,null,null,null,null,null,null,null,null,null,null,null,null,null,null,null,null,null,null,null,null,null,null,null,null,null,null,null,null,null,null,null,{"$f":"IF(B122=\"\",0,LOOKUP(B122,[4]BG!$A$3:$A$65,[4]BG!$H$3:$H$65))-SUMIF($B$3:B122,B122,$G$3:G122)","v":0},{"$f":"IF(E122=\"\",\"\",INDEX(Four!A:G,MATCH(الالتزام!E122,ممون,0),4))","v":""},null,null,0,null,"","","",null,null,null,null,null,null,null,null,null,{"$f":"IF(D122=\"\",\"\",INDEX([4]BG!$A$3:$B$65,MATCH(D122,البند,0),1))","v":""},"",""]
[null,{"$f":"IF(D123=\"\",\"\",INDEX([4]BG!A$3:$A$65,MATCH(D123,البند,0)))","v":""},null,null,null,null,0,null,null,null,null,null,null,null,null,null,null,null,null,null,null,null,null,null,null,null,null,null,null,null,null,null,null,null,null,null,null,null,null,null,null,null,null,{"$f":"IF(B123=\"\",0,LOOKUP(B123,[4]BG!$A$3:$A$65,[4]BG!$H$3:$H$65))-SUMIF($B$3:B123,B123,$G$3:G123)","v":0},{"$f":"IF(E123=\"\",\"\",INDEX(Four!A:G,MATCH(الالتزام!E123,ممون,0),4))","v":""},null,null,0,null,"","","",null,null,null,null,null,null,null,null,null,{"$f":"IF(D123=\"\",\"\",INDEX([4]BG!$A$3:$B$65,MATCH(D123,البند,0),1))","v":""},"",""]
[null,{"$f":"IF(D124=\"\",\"\",INDEX([4]BG!A$3:$A$65,MATCH(D124,البند,0)))","v":""},null,null,null,null,0,null,null,null,null,null,null,null,null,null,null,null,null,null,null,null,null,null,null,null,null,null,null,null,null,null,null,null,null,null,null,null,null,null,null,null,null,{"$f":"IF(B124=\"\",0,LOOKUP(B124,[4]BG!$A$3:$A$65,[4]BG!$H$3:$H$65))-SUMIF($B$3:B124,B124,$G$3:G124)","v":0},{"$f":"IF(E124=\"\",\"\",INDEX(Four!A:G,MATCH(الالتزام!E124,ممون,0),4))","v":""},null,null,0,null,"","","",null,null,null,null,null,null,null,null,null,{"$f":"IF(D124=\"\",\"\",INDEX([4]BG!$A$3:$B$65,MATCH(D124,البند,0),1))","v":""},"",""]
[null,{"$f":"IF(D125=\"\",\"\",INDEX([4]BG!A$3:$A$65,MATCH(D125,البند,0)))","v":""},null,null,null,null,0,null,null,null,null,null,null,null,null,null,null,null,null,null,null,null,null,null,null,null,null,null,null,null,null,null,null,null,null,null,null,null,null,null,null,null,null,{"$f":"IF(B125=\"\",0,LOOKUP(B125,[4]BG!$A$3:$A$65,[4]BG!$H$3:$H$65))-SUMIF($B$3:B125,B125,$G$3:G125)","v":0},{"$f":"IF(E125=\"\",\"\",INDEX(Four!A:G,MATCH(الالتزام!E125,ممون,0),4))","v":""},null,null,0,null,"","","",null,null,null,null,null,null,null,null,null,{"$f":"IF(D125=\"\",\"\",INDEX([4]BG!$A$3:$B$65,MATCH(D125,البند,0),1))","v":""},"",""]
[null,{"$f":"IF(D126=\"\",\"\",INDEX([4]BG!A$3:$A$65,MATCH(D126,البند,0)))","v":""},null,null,null,null,0,null,null,null,null,null,null,null,null,null,null,null,null,null,null,null,null,null,null,null,null,null,null,null,null,null,null,null,null,null,null,null,null,null,null,null,null,{"$f":"IF(B126=\"\",0,LOOKUP(B126,[4]BG!$A$3:$A$65,[4]BG!$H$3:$H$65))-SUMIF($B$3:B126,B126,$G$3:G126)","v":0},{"$f":"IF(E126=\"\",\"\",INDEX(Four!A:G,MATCH(الالتزام!E126,ممون,0),4))","v":""},null,null,0,null,"","","",null,null,null,null,null,null,null,null,null,{"$f":"IF(D126=\"\",\"\",INDEX([4]BG!$A$3:$B$65,MATCH(D126,البند,0),1))","v":""},"",""]
[null,{"$f":"IF(D127=\"\",\"\",INDEX([4]BG!A$3:$A$65,MATCH(D127,البند,0)))","v":""},null,null,null,null,0,null,null,null,null,null,null,null,null,null,null,null,null,null,null,null,null,null,null,null,null,null,null,null,null,null,null,null,null,null,null,null,null,null,null,null,null,{"$f":"IF(B127=\"\",0,LOOKUP(B127,[4]BG!$A$3:$A$65,[4]BG!$H$3:$H$65))-SUMIF($B$3:B127,B127,$G$3:G127)","v":0},{"$f":"IF(E127=\"\",\"\",INDEX(Four!A:G,MATCH(الالتزام!E127,ممون,0),4))","v":""},null,null,0,null,"","","",null,null,null,null,null,null,null,null,null,{"$f":"IF(D127=\"\",\"\",INDEX([4]BG!$A$3:$B$65,MATCH(D127,البند,0),1))","v":""},"",""]
[null,{"$f":"IF(D128=\"\",\"\",INDEX([4]BG!A$3:$A$65,MATCH(D128,البند,0)))","v":""},null,null,null,null,0,null,null,null,null,null,null,null,null,null,null,null,null,null,null,null,null,null,null,null,null,null,null,null,null,null,null,null,null,null,null,null,null,null,null,null,null,{"$f":"IF(B128=\"\",0,LOOKUP(B128,[4]BG!$A$3:$A$65,[4]BG!$H$3:$H$65))-SUMIF($B$3:B128,B128,$G$3:G128)","v":0},{"$f":"IF(E128=\"\",\"\",INDEX(Four!A:G,MATCH(الالتزام!E128,ممون,0),4))","v":""},null,null,0,null,"","","",null,null,null,null,null,null,null,null,null,{"$f":"IF(D128=\"\",\"\",INDEX([4]BG!$A$3:$B$65,MATCH(D128,البند,0),1))","v":""},"",""]
[null,{"$f":"IF(D129=\"\",\"\",INDEX([4]BG!A$3:$A$65,MATCH(D129,البند,0)))","v":""},null,null,null,null,0,null,null,null,null,null,null,null,null,null,null,null,null,null,null,null,null,null,null,null,null,null,null,null,null,null,null,null,null,null,null,null,null,null,null,null,null,{"$f":"IF(B129=\"\",0,LOOKUP(B129,[4]BG!$A$3:$A$65,[4]BG!$H$3:$H$65))-SUMIF($B$3:B129,B129,$G$3:G129)","v":0},{"$f":"IF(E129=\"\",\"\",INDEX(Four!A:G,MATCH(الالتزام!E129,ممون,0),4))","v":""},null,null,0,null,"","","",null,null,null,null,null,null,null,null,null,{"$f":"IF(D129=\"\",\"\",INDEX([4]BG!$A$3:$B$65,MATCH(D129,البند,0),1))","v":""},"",""]
[null,{"$f":"IF(D130=\"\",\"\",INDEX([4]BG!A$3:$A$65,MATCH(D130,البند,0)))","v":""},null,null,null,null,0,null,null,null,null,null,null,null,null,null,null,null,null,null,null,null,null,null,null,null,null,null,null,null,null,null,null,null,null,null,null,null,null,null,null,null,null,{"$f":"IF(B130=\"\",0,LOOKUP(B130,[4]BG!$A$3:$A$65,[4]BG!$H$3:$H$65))-SUMIF($B$3:B130,B130,$G$3:G130)","v":0},{"$f":"IF(E130=\"\",\"\",INDEX(Four!A:G,MATCH(الالتزام!E130,ممون,0),4))","v":""},null,null,0,null,"","","",null,null,null,null,null,null,null,null,null,{"$f":"IF(D130=\"\",\"\",INDEX([4]BG!$A$3:$B$65,MATCH(D130,البند,0),1))","v":""},"",""]
[null,{"$f":"IF(D131=\"\",\"\",INDEX([4]BG!A$3:$A$65,MATCH(D131,البند,0)))","v":""},null,null,null,null,0,null,null,null,null,null,null,null,null,null,null,null,null,null,null,null,null,null,null,null,null,null,null,null,null,null,null,null,null,null,null,null,null,null,null,null,null,{"$f":"IF(B131=\"\",0,LOOKUP(B131,[4]BG!$A$3:$A$65,[4]BG!$H$3:$H$65))-SUMIF($B$3:B131,B131,$G$3:G131)","v":0},{"$f":"IF(E131=\"\",\"\",INDEX(Four!A:G,MATCH(الالتزام!E131,ممون,0),4))","v":""},null,null,0,null,"",{"$f":"IFERROR(LOOKUP(LEFT(AS131,3),$BF$3:$BF$33,$BH$3:$BH$33),\"\")","v":""},"",null,null,null,null,null,null,null,null,null,{"$f":"IF(D131=\"\",\"\",INDEX([4]BG!$A$3:$B$65,MATCH(D131,البند,0),1))","v":""},"",""]
[null,{"$f":"IF(D132=\"\",\"\",INDEX([4]BG!A$3:$A$65,MATCH(D132,البند,0)))","v":""},null,null,null,null,0,null,null,null,null,null,null,null,null,null,null,null,null,null,null,null,null,null,null,null,null,null,null,null,null,null,null,null,null,null,null,null,null,null,null,null,null,{"$f":"IF(B132=\"\",0,LOOKUP(B132,[4]BG!$A$3:$A$65,[4]BG!$H$3:$H$65))-SUMIF($B$3:B132,B132,$G$3:G132)","v":0},{"$f":"IF(E132=\"\",\"\",INDEX(Four!A:G,MATCH(الالتزام!E132,ممون,0),4))","v":""},null,null,0,null,{"$f":"LEFT(AS132,3)","v":""},"",{"$f":"IFERROR(LOOKUP(LEFT(AS132,3),$BF$3:$BF$33,$BG$3:$BG$33),\"\")","v":""},null,null,null,null,null,null,null,null,null,{"$f":"IF(D132=\"\",\"\",INDEX([4]BG!$A$3:$B$65,MATCH(D132,البند,0),1))","v":""},"",""]
[null,{"$f":"IF(D133=\"\",\"\",INDEX([4]BG!A$3:$A$65,MATCH(D133,البند,0)))","v":""},null,null,null,null,0,null,null,null,null,null,null,null,null,null,null,null,null,null,null,null,null,null,null,null,null,null,null,null,null,null,null,null,null,null,null,null,null,null,null,null,null,{"$f":"IF(B133=\"\",0,LOOKUP(B133,[4]BG!$A$3:$A$65,[4]BG!$H$3:$H$65))-SUMIF($B$3:B133,B133,$G$3:G133)","v":0},{"$f":"IF(E133=\"\",\"\",INDEX(Four!A:G,MATCH(الالتزام!E133,ممون,0),4))","v":""},null,null,0,null,"","","",null,null,null,null,null,null,null,null,null,{"$f":"IF(D133=\"\",\"\",INDEX([4]BG!$A$3:$B$65,MATCH(D133,البند,0),1))","v":""},{"$f":"RIGHT(BJ133,1)","v":""},""]
[null,{"$f":"IF(D134=\"\",\"\",INDEX([4]BG!A$3:$A$65,MATCH(D134,البند,0)))","v":""},null,null,null,null,{"$f":"J134+N134+R134+V134+Z134+AD134","v":0},null,null,null,null,null,null,null,null,null,null,null,null,null,null,null,null,null,null,null,null,null,null,null,null,null,null,null,null,null,null,null,null,null,null,null,null,{"$f":"IF(B134=\"\",0,LOOKUP(B134,[4]BG!$A$3:$A$65,[4]BG!$H$3:$H$65))-SUMIF($B$3:B134,B134,$G$3:G134)","v":0},{"$f":"IF(E134=\"\",\"\",INDEX(Four!A:G,MATCH(الالتزام!E134,ممون,0),4))","v":""},null,null,0,null,"","","",null,null,null,null,null,null,null,null,null,{"$f":"IF(D134=\"\",\"\",INDEX([4]BG!$A$3:$B$65,MATCH(D134,البند,0),1))","v":""},"",{"$f":"IF(BJ134=\"\",\"\",LEFT(RIGHT(BJ134,4),2))","v":""}]
[null,{"$f":"IF(D135=\"\",\"\",INDEX([4]BG!A$3:$A$65,MATCH(D135,البند,0)))","v":""},null,null,null,null,0,null,null,null,null,null,null,null,null,null,null,null,null,null,null,null,null,null,null,null,null,null,null,null,null,null,null,null,null,null,null,null,null,null,null,null,null,{"$f":"IF(B135=\"\",0,LOOKUP(B135,[4]BG!$A$3:$A$65,[4]BG!$H$3:$H$65))-SUMIF($B$3:B135,B135,$G$3:G135)","v":0},{"$f":"IF(E135=\"\",\"\",INDEX(Four!A:G,MATCH(الالتزام!E135,ممون,0),4))","v":""},null,null,0,null,"","","",null,null,null,null,null,null,null,null,null,{"$f":"IF(D135=\"\",\"\",INDEX([4]BG!$A$3:$B$65,MATCH(D135,البند,0),1))","v":""},"",""]
[null,{"$f":"IF(D136=\"\",\"\",INDEX([4]BG!A$3:$A$65,MATCH(D136,البند,0)))","v":""},null,null,null,null,0,null,null,null,null,null,null,null,null,null,null,null,null,null,null,null,null,null,null,null,null,null,null,null,null,null,null,null,null,null,null,null,null,null,null,null,null,{"$f":"IF(B136=\"\",0,LOOKUP(B136,[4]BG!$A$3:$A$65,[4]BG!$H$3:$H$65))-SUMIF($B$3:B136,B136,$G$3:G136)","v":0},{"$f":"IF(E136=\"\",\"\",INDEX(Four!A:G,MATCH(الالتزام!E136,ممون,0),4))","v":""},null,null,0,null,"","","",null,null,null,null,null,null,null,null,null,{"$f":"IF(D136=\"\",\"\",INDEX([4]BG!$A$3:$B$65,MATCH(D136,البند,0),1))","v":""},"",""]
[null,{"$f":"IF(D137=\"\",\"\",INDEX([4]BG!A$3:$A$65,MATCH(D137,البند,0)))","v":""},null,null,null,null,0,null,null,null,null,null,null,null,null,null,null,null,null,null,null,null,null,null,null,null,null,null,null,null,null,null,null,null,null,null,null,null,null,null,null,null,null,{"$f":"IF(B137=\"\",0,LOOKUP(B137,[4]BG!$A$3:$A$65,[4]BG!$H$3:$H$65))-SUMIF($B$3:B137,B137,$G$3:G137)","v":0},{"$f":"IF(E137=\"\",\"\",INDEX(Four!A:G,MATCH(الالتزام!E137,ممون,0),4))","v":""},null,null,{"$f":"SUMIF(AU:AU,AU137,G:G)","v":0},null,"","","",null,null,null,null,null,null,null,null,null,{"$f":"IF(D137=\"\",\"\",INDEX([4]BG!$A$3:$B$65,MATCH(D137,البند,0),1))","v":""},"",""]
[null,{"$f":"IF(D138=\"\",\"\",INDEX([4]BG!A$3:$A$65,MATCH(D138,البند,0)))","v":""},null,null,null,null,0,null,null,null,null,null,null,null,null,null,null,null,null,null,null,null,null,null,null,null,null,null,null,null,null,null,null,null,null,null,null,null,null,null,null,null,null,{"$f":"IF(B138=\"\",0,LOOKUP(B138,[4]BG!$A$3:$A$65,[4]BG!$H$3:$H$65))-SUMIF($B$3:B138,B138,$G$3:G138)","v":0},{"$f":"IF(E138=\"\",\"\",INDEX(Four!A:G,MATCH(الالتزام!E138,ممون,0),4))","v":""},null,null,0,null,"","","",null,null,null,null,null,null,null,null,null,{"$f":"IF(D138=\"\",\"\",INDEX([4]BG!$A$3:$B$65,MATCH(D138,البند,0),1))","v":""},"",""]
[null,{"$f":"IF(D139=\"\",\"\",INDEX([4]BG!A$3:$A$65,MATCH(D139,البند,0)))","v":""},null,null,null,null,0,null,null,null,null,null,null,null,null,null,null,null,null,null,null,null,null,null,null,null,null,null,null,null,null,null,null,null,null,null,null,null,null,null,null,null,null,{"$f":"IF(B139=\"\",0,LOOKUP(B139,[4]BG!$A$3:$A$65,[4]BG!$H$3:$H$65))-SUMIF($B$3:B139,B139,$G$3:G139)","v":0},{"$f":"IF(E139=\"\",\"\",INDEX(Four!A:G,MATCH(الالتزام!E139,ممون,0),4))","v":""},null,null,0,null,"","","",null,null,null,null,null,null,null,null,null,{"$f":"IF(D139=\"\",\"\",INDEX([4]BG!$A$3:$B$65,MATCH(D139,البند,0),1))","v":""},"",""]
[null,{"$f":"IF(D140=\"\",\"\",INDEX([4]BG!A$3:$A$65,MATCH(D140,البند,0)))","v":""},null,null,null,null,0,null,null,null,null,null,null,null,null,null,null,null,null,null,null,null,null,null,null,null,null,null,null,null,null,null,null,null,null,null,null,null,null,null,null,null,null,{"$f":"IF(B140=\"\",0,LOOKUP(B140,[4]BG!$A$3:$A$65,[4]BG!$H$3:$H$65))-SUMIF($B$3:B140,B140,$G$3:G140)","v":0},{"$f":"IF(E140=\"\",\"\",INDEX(Four!A:G,MATCH(الالتزام!E140,ممون,0),4))","v":""},null,null,0,null,"","","",null,null,null,null,null,null,null,null,null,{"$f":"IF(D140=\"\",\"\",INDEX([4]BG!$A$3:$B$65,MATCH(D140,البند,0),1))","v":""},"",""]
[null,{"$f":"IF(D141=\"\",\"\",INDEX([4]BG!A$3:$A$65,MATCH(D141,البند,0)))","v":""},null,null,null,null,0,null,null,null,null,null,null,null,null,null,null,null,null,null,null,null,null,null,null,null,null,null,null,null,null,null,null,null,null,null,null,null,null,null,null,null,null,{"$f":"IF(B141=\"\",0,LOOKUP(B141,[4]BG!$A$3:$A$65,[4]BG!$H$3:$H$65))-SUMIF($B$3:B141,B141,$G$3:G141)","v":0},{"$f":"IF(E141=\"\",\"\",INDEX(Four!A:G,MATCH(الالتزام!E141,ممون,0),4))","v":""},null,null,0,null,"","","",null,null,null,null,null,null,null,null,null,{"$f":"IF(D141=\"\",\"\",INDEX([4]BG!$A$3:$B$65,MATCH(D141,البند,0),1))","v":""},"",""]
[null,{"$f":"IF(D142=\"\",\"\",INDEX([4]BG!A$3:$A$65,MATCH(D142,البند,0)))","v":""},null,null,null,null,0,null,null,null,null,null,null,null,null,null,null,null,null,null,null,null,null,null,null,null,null,null,null,null,null,null,null,null,null,null,null,null,null,null,null,null,null,{"$f":"IF(B142=\"\",0,LOOKUP(B142,[4]BG!$A$3:$A$65,[4]BG!$H$3:$H$65))-SUMIF($B$3:B142,B142,$G$3:G142)","v":0},{"$f":"IF(E142=\"\",\"\",INDEX(Four!A:G,MATCH(الالتزام!E142,ممون,0),4))","v":""},null,null,0,null,"","","",null,null,null,null,null,null,null,null,null,{"$f":"IF(D142=\"\",\"\",INDEX([4]BG!$A$3:$B$65,MATCH(D142,البند,0),1))","v":""},"",""]
[null,{"$f":"IF(D143=\"\",\"\",INDEX([4]BG!A$3:$A$65,MATCH(D143,البند,0)))","v":""},null,null,null,null,0,null,null,null,null,null,null,null,null,null,null,null,null,null,null,null,null,null,null,null,null,null,null,null,null,null,null,null,null,null,null,null,null,null,null,null,null,{"$f":"IF(B143=\"\",0,LOOKUP(B143,[4]BG!$A$3:$A$65,[4]BG!$H$3:$H$65))-SUMIF($B$3:B143,B143,$G$3:G143)","v":0},{"$f":"IF(E143=\"\",\"\",INDEX(Four!A:G,MATCH(الالتزام!E143,ممون,0),4))","v":""},null,null,0,null,"","","",null,null,null,null,null,null,null,null,null,{"$f":"IF(D143=\"\",\"\",INDEX([4]BG!$A$3:$B$65,MATCH(D143,البند,0),1))","v":""},"",""]
[null,{"$f":"IF(D144=\"\",\"\",INDEX([4]BG!A$3:$A$65,MATCH(D144,البند,0)))","v":""},null,null,null,null,0,null,null,null,null,null,null,null,null,null,null,null,null,null,null,null,null,null,null,null,null,null,null,null,null,null,null,null,null,null,null,null,null,null,null,null,null,{"$f":"IF(B144=\"\",0,LOOKUP(B144,[4]BG!$A$3:$A$65,[4]BG!$H$3:$H$65))-SUMIF($B$3:B144,B144,$G$3:G144)","v":0},{"$f":"IF(E144=\"\",\"\",INDEX(Four!A:G,MATCH(الالتزام!E144,ممون,0),4))","v":""},null,null,0,null,"","","",null,null,null,null,null,null,null,null,null,{"$f":"IF(D144=\"\",\"\",INDEX([4]BG!$A$3:$B$65,MATCH(D144,البند,0),1))","v":""},"",""]
[null,{"$f":"IF(D145=\"\",\"\",INDEX([4]BG!A$3:$A$65,MATCH(D145,البند,0)))","v":""},null,null,null,null,0,null,null,null,null,null,null,null,null,null,null,null,null,null,null,null,null,null,null,null,null,null,null,null,null,null,null,null,null,null,null,null,null,null,null,null,null,{"$f":"IF(B145=\"\",0,LOOKUP(B145,[4]BG!$A$3:$A$65,[4]BG!$H$3:$H$65))-SUMIF($B$3:B145,B145,$G$3:G145)","v":0},{"$f":"IF(E145=\"\",\"\",INDEX(Four!A:G,MATCH(الالتزام!E145,ممون,0),4))","v":""},null,null,0,null,"","","",null,null,null,null,null,null,null,null,null,{"$f":"IF(D145=\"\",\"\",INDEX([4]BG!$A$3:$B$65,MATCH(D145,البند,0),1))","v":""},"",""]
[null,{"$f":"IF(D146=\"\",\"\",INDEX([4]BG!A$3:$A$65,MATCH(D146,البند,0)))","v":""},null,null,null,null,0,null,null,null,null,null,null,null,null,null,null,null,null,null,null,null,null,null,null,null,null,null,null,null,null,null,null,null,null,null,null,null,null,null,null,null,null,{"$f":"IF(B146=\"\",0,LOOKUP(B146,[4]BG!$A$3:$A$65,[4]BG!$H$3:$H$65))-SUMIF($B$3:B146,B146,$G$3:G146)","v":0},{"$f":"IF(E146=\"\",\"\",INDEX(Four!A:G,MATCH(الالتزام!E146,ممون,0),4))","v":""},null,null,0,null,"","","",null,null,null,null,null,null,null,null,null,{"$f":"IF(D146=\"\",\"\",INDEX([4]BG!$A$3:$B$65,MATCH(D146,البند,0),1))","v":""},"",""]
[null,{"$f":"IF(D147=\"\",\"\",INDEX([4]BG!A$3:$A$65,MATCH(D147,البند,0)))","v":""},null,null,null,null,0,null,null,null,null,null,null,null,null,null,null,null,null,null,null,null,null,null,null,null,null,null,null,null,null,null,null,null,null,null,null,null,null,null,null,null,null,{"$f":"IF(B147=\"\",0,LOOKUP(B147,[4]BG!$A$3:$A$65,[4]BG!$H$3:$H$65))-SUMIF($B$3:B147,B147,$G$3:G147)","v":0},{"$f":"IF(E147=\"\",\"\",INDEX(Four!A:G,MATCH(الالتزام!E147,ممون,0),4))","v":""},null,null,0,null,"","","",null,null,null,null,null,null,null,null,null,{"$f":"IF(D147=\"\",\"\",INDEX([4]BG!$A$3:$B$65,MATCH(D147,البند,0),1))","v":""},"",""]
[null,{"$f":"IF(D148=\"\",\"\",INDEX([4]BG!A$3:$A$65,MATCH(D148,البند,0)))","v":""},null,null,null,null,0,null,null,null,null,null,null,null,null,null,null,null,null,null,null,null,null,null,null,null,null,null,null,null,null,null,null,null,null,null,null,null,null,null,null,null,null,{"$f":"IF(B148=\"\",0,LOOKUP(B148,[4]BG!$A$3:$A$65,[4]BG!$H$3:$H$65))-SUMIF($B$3:B148,B148,$G$3:G148)","v":0},{"$f":"IF(E148=\"\",\"\",INDEX(Four!A:G,MATCH(الالتزام!E148,ممون,0),4))","v":""},null,null,0,null,"","","",null,null,null,null,null,null,null,null,null,{"$f":"IF(D148=\"\",\"\",INDEX([4]BG!$A$3:$B$65,MATCH(D148,البند,0),1))","v":""},"",""]
[null,{"$f":"IF(D149=\"\",\"\",INDEX([4]BG!A$3:$A$65,MATCH(D149,البند,0)))","v":""},null,null,null,null,0,null,null,null,null,null,null,null,null,null,null,null,null,null,null,null,null,null,null,null,null,null,null,null,null,null,null,null,null,null,null,null,null,null,null,null,null,{"$f":"IF(B149=\"\",0,LOOKUP(B149,[4]BG!$A$3:$A$65,[4]BG!$H$3:$H$65))-SUMIF($B$3:B149,B149,$G$3:G149)","v":0},{"$f":"IF(E149=\"\",\"\",INDEX(Four!A:G,MATCH(الالتزام!E149,ممون,0),4))","v":""},null,null,0,null,"","","",null,null,null,null,null,null,null,null,null,{"$f":"IF(D149=\"\",\"\",INDEX([4]BG!$A$3:$B$65,MATCH(D149,البند,0),1))","v":""},"",""]
[null,{"$f":"IF(D150=\"\",\"\",INDEX([4]BG!A$3:$A$65,MATCH(D150,البند,0)))","v":""},null,null,null,null,0,null,null,null,null,null,null,null,null,null,null,null,null,null,null,null,null,null,null,null,null,null,null,null,null,null,null,null,null,null,null,null,null,null,null,null,null,{"$f":"IF(B150=\"\",0,LOOKUP(B150,[4]BG!$A$3:$A$65,[4]BG!$H$3:$H$65))-SUMIF($B$3:B150,B150,$G$3:G150)","v":0},{"$f":"IF(E150=\"\",\"\",INDEX(Four!A:G,MATCH(الالتزام!E150,ممون,0),4))","v":""},null,null,0,null,"","","",null,null,null,null,null,null,null,null,null,{"$f":"IF(D150=\"\",\"\",INDEX([4]BG!$A$3:$B$65,MATCH(D150,البند,0),1))","v":""},"",""]
[null,{"$f":"IF(D151=\"\",\"\",INDEX([4]BG!A$3:$A$65,MATCH(D151,البند,0)))","v":""},null,null,null,null,0,null,null,null,null,null,null,null,null,null,null,null,null,null,null,null,null,null,null,null,null,null,null,null,null,null,null,null,null,null,null,null,null,null,null,null,null,{"$f":"IF(B151=\"\",0,LOOKUP(B151,[4]BG!$A$3:$A$65,[4]BG!$H$3:$H$65))-SUMIF($B$3:B151,B151,$G$3:G151)","v":0},{"$f":"IF(E151=\"\",\"\",INDEX(Four!A:G,MATCH(الالتزام!E151,ممون,0),4))","v":""},null,null,0,null,"","","",null,null,null,null,null,null,null,null,null,{"$f":"IF(D151=\"\",\"\",INDEX([4]BG!$A$3:$B$65,MATCH(D151,البند,0),1))","v":""},"",""]
[null,{"$f":"IF(D152=\"\",\"\",INDEX([4]BG!A$3:$A$65,MATCH(D152,البند,0)))","v":""},null,null,null,null,0,null,null,null,null,null,null,null,null,null,null,null,null,null,null,null,null,null,null,null,null,null,null,null,null,null,null,null,null,null,null,null,null,null,null,null,null,{"$f":"IF(B152=\"\",0,LOOKUP(B152,[4]BG!$A$3:$A$65,[4]BG!$H$3:$H$65))-SUMIF($B$3:B152,B152,$G$3:G152)","v":0},{"$f":"IF(E152=\"\",\"\",INDEX(Four!A:G,MATCH(الالتزام!E152,ممون,0),4))","v":""},null,null,0,null,"","","",null,null,null,null,null,null,null,null,null,{"$f":"IF(D152=\"\",\"\",INDEX([4]BG!$A$3:$B$65,MATCH(D152,البند,0),1))","v":""},"",""]
[null,{"$f":"IF(D153=\"\",\"\",INDEX([4]BG!A$3:$A$65,MATCH(D153,البند,0)))","v":""},null,null,null,null,0,null,null,null,null,null,null,null,null,null,null,null,null,null,null,null,null,null,null,null,null,null,null,null,null,null,null,null,null,null,null,null,null,null,null,null,null,{"$f":"IF(B153=\"\",0,LOOKUP(B153,[4]BG!$A$3:$A$65,[4]BG!$H$3:$H$65))-SUMIF($B$3:B153,B153,$G$3:G153)","v":0},{"$f":"IF(E153=\"\",\"\",INDEX(Four!A:G,MATCH(الالتزام!E153,ممون,0),4))","v":""},null,null,0,null,"","","",null,null,null,null,null,null,null,null,null,{"$f":"IF(D153=\"\",\"\",INDEX([4]BG!$A$3:$B$65,MATCH(D153,البند,0),1))","v":""},"",""]
[null,{"$f":"IF(D154=\"\",\"\",INDEX([4]BG!A$3:$A$65,MATCH(D154,البند,0)))","v":""},null,null,null,null,0,null,null,null,null,null,null,null,null,null,null,null,null,null,null,null,null,null,null,null,null,null,null,null,null,null,null,null,null,null,null,null,null,null,null,null,null,{"$f":"IF(B154=\"\",0,LOOKUP(B154,[4]BG!$A$3:$A$65,[4]BG!$H$3:$H$65))-SUMIF($B$3:B154,B154,$G$3:G154)","v":0},{"$f":"IF(E154=\"\",\"\",INDEX(Four!A:G,MATCH(الالتزام!E154,ممون,0),4))","v":""},null,null,0,null,"","","",null,null,null,null,null,null,null,null,null,{"$f":"IF(D154=\"\",\"\",INDEX([4]BG!$A$3:$B$65,MATCH(D154,البند,0),1))","v":""},"",""]
[null,{"$f":"IF(D155=\"\",\"\",INDEX([4]BG!A$3:$A$65,MATCH(D155,البند,0)))","v":""},null,null,null,null,0,null,null,null,null,null,null,null,null,null,null,null,null,null,null,null,null,null,null,null,null,null,null,null,null,null,null,null,null,null,null,null,null,null,null,null,null,{"$f":"IF(B155=\"\",0,LOOKUP(B155,[4]BG!$A$3:$A$65,[4]BG!$H$3:$H$65))-SUMIF($B$3:B155,B155,$G$3:G155)","v":0},{"$f":"IF(E155=\"\",\"\",INDEX(Four!A:G,MATCH(الالتزام!E155,ممون,0),4))","v":""},null,null,0,null,"","","",null,null,null,null,null,null,null,null,null,{"$f":"IF(D155=\"\",\"\",INDEX([4]BG!$A$3:$B$65,MATCH(D155,البند,0),1))","v":""},"",""]
[null,{"$f":"IF(D156=\"\",\"\",INDEX([4]BG!A$3:$A$65,MATCH(D156,البند,0)))","v":""},null,null,null,null,0,null,null,null,null,null,null,null,null,null,null,null,null,null,null,null,null,null,null,null,null,null,null,null,null,null,null,null,null,null,null,null,null,null,null,null,null,{"$f":"IF(B156=\"\",0,LOOKUP(B156,[4]BG!$A$3:$A$65,[4]BG!$H$3:$H$65))-SUMIF($B$3:B156,B156,$G$3:G156)","v":0},{"$f":"IF(E156=\"\",\"\",INDEX(Four!A:G,MATCH(الالتزام!E156,ممون,0),4))","v":""},null,null,0,null,"","","",null,null,null,null,null,null,null,null,null,{"$f":"IF(D156=\"\",\"\",INDEX([4]BG!$A$3:$B$65,MATCH(D156,البند,0),1))","v":""},"",""]
[null,{"$f":"IF(D157=\"\",\"\",INDEX([4]BG!A$3:$A$65,MATCH(D157,البند,0)))","v":""},null,null,null,null,0,null,null,null,null,null,null,null,null,null,null,null,null,null,null,null,null,null,null,null,null,null,null,null,null,null,null,null,null,null,null,null,null,null,null,null,null,{"$f":"IF(B157=\"\",0,LOOKUP(B157,[4]BG!$A$3:$A$65,[4]BG!$H$3:$H$65))-SUMIF($B$3:B157,B157,$G$3:G157)","v":0},{"$f":"IF(E157=\"\",\"\",INDEX(Four!A:G,MATCH(الالتزام!E157,ممون,0),4))","v":""},null,null,0,null,"",null,"",null,null,null,null,null,null,null,null,null,{"$f":"IF(D157=\"\",\"\",INDEX([4]BG!$A$3:$B$65,MATCH(D157,البند,0),1))","v":""},"",""]
[null,{"$f":"IF(D158=\"\",\"\",INDEX([4]BG!A$3:$A$65,MATCH(D158,البند,0)))","v":""},null,null,null,null,0,null,null,null,null,null,null,null,null,null,null,null,null,null,null,null,null,null,null,null,null,null,null,null,null,null,null,null,null,null,null,null,null,null,null,null,null,{"$f":"IF(B158=\"\",0,LOOKUP(B158,[4]BG!$A$3:$A$65,[4]BG!$H$3:$H$65))-SUMIF($B$3:B158,B158,$G$3:G158)","v":0},{"$f":"IF(E158=\"\",\"\",INDEX(Four!A:G,MATCH(الالتزام!E158,ممون,0),4))","v":""},null,null,0,null,"",null,"",null,null,null,null,null,null,null,null,null,{"$f":"IF(D158=\"\",\"\",INDEX([4]BG!$A$3:$B$65,MATCH(D158,البند,0),1))","v":""},"",""]
[null,{"$f":"IF(D159=\"\",\"\",INDEX([4]BG!A$3:$A$65,MATCH(D159,البند,0)))","v":""},null,null,null,null,0,null,null,null,null,null,null,null,null,null,null,null,null,null,null,null,null,null,null,null,null,null,null,null,null,null,null,null,null,null,null,null,null,null,null,null,null,{"$f":"IF(B159=\"\",0,LOOKUP(B159,[4]BG!$A$3:$A$65,[4]BG!$H$3:$H$65))-SUMIF($B$3:B159,B159,$G$3:G159)","v":0},{"$f":"IF(E159=\"\",\"\",INDEX(Four!A:G,MATCH(الالتزام!E159,ممون,0),4))","v":""},null,null,0,null,"",null,"",null,null,null,null,null,null,null,null,null,{"$f":"IF(D159=\"\",\"\",INDEX([4]BG!$A$3:$B$65,MATCH(D159,البند,0),1))","v":""},"",""]
[null,{"$f":"IF(D160=\"\",\"\",INDEX([4]BG!A$3:$A$65,MATCH(D160,البند,0)))","v":""},null,null,null,null,0,null,null,null,null,null,null,null,null,null,null,null,null,null,null,null,null,null,null,null,null,null,null,null,null,null,null,null,null,null,null,null,null,null,null,null,null,{"$f":"IF(B160=\"\",0,LOOKUP(B160,[4]BG!$A$3:$A$65,[4]BG!$H$3:$H$65))-SUMIF($B$3:B160,B160,$G$3:G160)","v":0},{"$f":"IF(E160=\"\",\"\",INDEX(Four!A:G,MATCH(الالتزام!E160,ممون,0),4))","v":""},null,null,0,null,"",null,"",null,null,null,null,null,null,null,null,null,{"$f":"IF(D160=\"\",\"\",INDEX([4]BG!$A$3:$B$65,MATCH(D160,البند,0),1))","v":""},"",""]
[null,{"$f":"IF(D161=\"\",\"\",INDEX([4]BG!A$3:$A$65,MATCH(D161,البند,0)))","v":""},null,null,null,null,0,null,null,null,null,null,null,null,null,null,null,null,null,null,null,null,null,null,null,null,null,null,null,null,null,null,null,null,null,null,null,null,null,null,null,null,null,{"$f":"IF(B161=\"\",0,LOOKUP(B161,[4]BG!$A$3:$A$65,[4]BG!$H$3:$H$65))-SUMIF($B$3:B161,B161,$G$3:G161)","v":0},{"$f":"IF(E161=\"\",\"\",INDEX(Four!A:G,MATCH(الالتزام!E161,ممون,0),4))","v":""},null,null,0,null,"",null,"",null,null,null,null,null,null,null,null,null,{"$f":"IF(D161=\"\",\"\",INDEX([4]BG!$A$3:$B$65,MATCH(D161,البند,0),1))","v":""},"",""]
[null,{"$f":"IF(D162=\"\",\"\",INDEX([4]BG!A$3:$A$65,MATCH(D162,البند,0)))","v":""},null,null,null,null,0,null,null,null,null,null,null,null,null,null,null,null,null,null,null,null,null,null,null,null,null,null,null,null,null,null,null,null,null,null,null,null,null,null,null,null,null,{"$f":"IF(B162=\"\",0,LOOKUP(B162,[4]BG!$A$3:$A$65,[4]BG!$H$3:$H$65))-SUMIF($B$3:B162,B162,$G$3:G162)","v":0},{"$f":"IF(E162=\"\",\"\",INDEX(Four!A:G,MATCH(الالتزام!E162,ممون,0),4))","v":""},null,null,0,null,"",null,"",null,null,null,null,null,null,null,null,null,{"$f":"IF(D162=\"\",\"\",INDEX([4]BG!$A$3:$B$65,MATCH(D162,البند,0),1))","v":""},"",""]
[null,{"$f":"IF(D163=\"\",\"\",INDEX([4]BG!A$3:$A$65,MATCH(D163,البند,0)))","v":""},null,null,null,null,0,null,null,null,null,null,null,null,null,null,null,null,null,null,null,null,null,null,null,null,null,null,null,null,null,null,null,null,null,null,null,null,null,null,null,null,null,{"$f":"IF(B163=\"\",0,LOOKUP(B163,[4]BG!$A$3:$A$65,[4]BG!$H$3:$H$65))-SUMIF($B$3:B163,B163,$G$3:G163)","v":0},{"$f":"IF(E163=\"\",\"\",INDEX(Four!A:G,MATCH(الالتزام!E163,ممون,0),4))","v":""},null,null,0,null,"",null,"",null,null,null,null,null,null,null,null,null,{"$f":"IF(D163=\"\",\"\",INDEX([4]BG!$A$3:$B$65,MATCH(D163,البند,0),1))","v":""},"",""]
[null,{"$f":"IF(D164=\"\",\"\",INDEX([4]BG!A$3:$A$65,MATCH(D164,البند,0)))","v":""},null,null,null,null,0,null,null,null,null,null,null,null,null,null,null,null,null,null,null,null,null,null,null,null,null,null,null,null,null,null,null,null,null,null,null,null,null,null,null,null,null,{"$f":"IF(B164=\"\",0,LOOKUP(B164,[4]BG!$A$3:$A$65,[4]BG!$H$3:$H$65))-SUMIF($B$3:B164,B164,$G$3:G164)","v":0},{"$f":"IF(E164=\"\",\"\",INDEX(Four!A:G,MATCH(الالتزام!E164,ممون,0),4))","v":""},null,null,0,null,"",null,"",null,null,null,null,null,null,null,null,null,{"$f":"IF(D164=\"\",\"\",INDEX([4]BG!$A$3:$B$65,MATCH(D164,البند,0),1))","v":""},"",""]
[null,{"$f":"IF(D165=\"\",\"\",INDEX([4]BG!A$3:$A$65,MATCH(D165,البند,0)))","v":""},null,null,null,null,0,null,null,null,null,null,null,null,null,null,null,null,null,null,null,null,null,null,null,null,null,null,null,null,null,null,null,null,null,null,null,null,null,null,null,null,null,{"$f":"IF(B165=\"\",0,LOOKUP(B165,[4]BG!$A$3:$A$65,[4]BG!$H$3:$H$65))-SUMIF($B$3:B165,B165,$G$3:G165)","v":0},{"$f":"IF(E165=\"\",\"\",INDEX(Four!A:G,MATCH(الالتزام!E165,ممون,0),4))","v":""},null,null,0,null,"",null,"",null,null,null,null,null,null,null,null,null,{"$f":"IF(D165=\"\",\"\",INDEX([4]BG!$A$3:$B$65,MATCH(D165,البند,0),1))","v":""},"",""]
[null,{"$f":"IF(D166=\"\",\"\",INDEX([4]BG!A$3:$A$65,MATCH(D166,البند,0)))","v":""},null,null,null,null,0,null,null,null,null,null,null,null,null,null,null,null,null,null,null,null,null,null,null,null,null,null,null,null,null,null,null,null,null,null,null,null,null,null,null,null,null,{"$f":"IF(B166=\"\",0,LOOKUP(B166,[4]BG!$A$3:$A$65,[4]BG!$H$3:$H$65))-SUMIF($B$3:B166,B166,$G$3:G166)","v":0},{"$f":"IF(E166=\"\",\"\",INDEX(Four!A:G,MATCH(الالتزام!E166,ممون,0),4))","v":""},null,null,0,null,"",null,"",null,null,null,null,null,null,null,null,null,{"$f":"IF(D166=\"\",\"\",INDEX([4]BG!$A$3:$B$65,MATCH(D166,البند,0),1))","v":""},"",""]
[null,{"$f":"IF(D167=\"\",\"\",INDEX([4]BG!A$3:$A$65,MATCH(D167,البند,0)))","v":""},null,null,null,null,0,null,null,null,null,null,null,null,null,null,null,null,null,null,null,null,null,null,null,null,null,null,null,null,null,null,null,null,null,null,null,null,null,null,null,null,null,{"$f":"IF(B167=\"\",0,LOOKUP(B167,[4]BG!$A$3:$A$65,[4]BG!$H$3:$H$65))-SUMIF($B$3:B167,B167,$G$3:G167)","v":0},{"$f":"IF(E167=\"\",\"\",INDEX(Four!A:G,MATCH(الالتزام!E167,ممون,0),4))","v":""},null,null,0,null,"",null,"",null,null,null,null,null,null,null,null,null,{"$f":"IF(D167=\"\",\"\",INDEX([4]BG!$A$3:$B$65,MATCH(D167,البند,0),1))","v":""},"",""]
[null,{"$f":"IF(D168=\"\",\"\",INDEX([4]BG!A$3:$A$65,MATCH(D168,البند,0)))","v":""},null,null,null,null,0,null,null,null,null,null,null,null,null,null,null,null,null,null,null,null,null,null,null,null,null,null,null,null,null,null,null,null,null,null,null,null,null,null,null,null,null,{"$f":"IF(B168=\"\",0,LOOKUP(B168,[4]BG!$A$3:$A$65,[4]BG!$H$3:$H$65))-SUMIF($B$3:B168,B168,$G$3:G168)","v":0},{"$f":"IF(E168=\"\",\"\",INDEX(Four!A:G,MATCH(الالتزام!E168,ممون,0),4))","v":""},null,null,0,null,"",null,"",null,null,null,null,null,null,null,null,null,{"$f":"IF(D168=\"\",\"\",INDEX([4]BG!$A$3:$B$65,MATCH(D168,البند,0),1))","v":""},"",""]
[null,{"$f":"IF(D169=\"\",\"\",INDEX([4]BG!A$3:$A$65,MATCH(D169,البند,0)))","v":""},null,null,null,null,0,null,null,null,null,null,null,null,null,null,null,null,null,null,null,null,null,null,null,null,null,null,null,null,null,null,null,null,null,null,null,null,null,null,null,null,null,{"$f":"IF(B169=\"\",0,LOOKUP(B169,[4]BG!$A$3:$A$65,[4]BG!$H$3:$H$65))-SUMIF($B$3:B169,B169,$G$3:G169)","v":0},{"$f":"IF(E169=\"\",\"\",INDEX(Four!A:G,MATCH(الالتزام!E169,ممون,0),4))","v":""},null,null,0,null,"",null,"",null,null,null,null,null,null,null,null,null,{"$f":"IF(D169=\"\",\"\",INDEX([4]BG!$A$3:$B$65,MATCH(D169,البند,0),1))","v":""},"",""]
[null,{"$f":"IF(D170=\"\",\"\",INDEX([4]BG!A$3:$A$65,MATCH(D170,البند,0)))","v":""},null,null,null,null,0,null,null,null,null,null,null,null,null,null,null,null,null,null,null,null,null,null,null,null,null,null,null,null,null,null,null,null,null,null,null,null,null,null,null,null,null,{"$f":"IF(B170=\"\",0,LOOKUP(B170,[4]BG!$A$3:$A$65,[4]BG!$H$3:$H$65))-SUMIF($B$3:B170,B170,$G$3:G170)","v":0},{"$f":"IF(E170=\"\",\"\",INDEX(Four!A:G,MATCH(الالتزام!E170,ممون,0),4))","v":""},null,null,0,null,"",null,"",null,null,null,null,null,null,null,null,null,{"$f":"IF(D170=\"\",\"\",INDEX([4]BG!$A$3:$B$65,MATCH(D170,البند,0),1))","v":""},"",""]
[null,{"$f":"IF(D171=\"\",\"\",INDEX([4]BG!A$3:$A$65,MATCH(D171,البند,0)))","v":""},null,null,null,null,0,null,null,null,null,null,null,null,null,null,null,null,null,null,null,null,null,null,null,null,null,null,null,null,null,null,null,null,null,null,null,null,null,null,null,null,null,{"$f":"IF(B171=\"\",0,LOOKUP(B171,[4]BG!$A$3:$A$65,[4]BG!$H$3:$H$65))-SUMIF($B$3:B171,B171,$G$3:G171)","v":0},{"$f":"IF(E171=\"\",\"\",INDEX(Four!A:G,MATCH(الالتزام!E171,ممون,0),4))","v":""},null,null,0,null,"",null,"",null,null,null,null,null,null,null,null,null,{"$f":"IF(D171=\"\",\"\",INDEX([4]BG!$A$3:$B$65,MATCH(D171,البند,0),1))","v":""},"",""]
[null,{"$f":"IF(D172=\"\",\"\",INDEX([4]BG!A$3:$A$65,MATCH(D172,البند,0)))","v":""},null,null,null,null,0,null,null,null,null,null,null,null,null,null,null,null,null,null,null,null,null,null,null,null,null,null,null,null,null,null,null,null,null,null,null,null,null,null,null,null,null,{"$f":"IF(B172=\"\",0,LOOKUP(B172,[4]BG!$A$3:$A$65,[4]BG!$H$3:$H$65))-SUMIF($B$3:B172,B172,$G$3:G172)","v":0},{"$f":"IF(E172=\"\",\"\",INDEX(Four!A:G,MATCH(الالتزام!E172,ممون,0),4))","v":""},null,null,0,null,"",null,"",null,null,null,null,null,null,null,null,null,{"$f":"IF(D172=\"\",\"\",INDEX([4]BG!$A$3:$B$65,MATCH(D172,البند,0),1))","v":""},"",""]
[null,{"$f":"IF(D173=\"\",\"\",INDEX([4]BG!A$3:$A$65,MATCH(D173,البند,0)))","v":""},null,null,null,null,0,null,null,null,null,null,null,null,null,null,null,null,null,null,null,null,null,null,null,null,null,null,null,null,null,null,null,null,null,null,null,null,null,null,null,null,null,{"$f":"IF(B173=\"\",0,LOOKUP(B173,[4]BG!$A$3:$A$65,[4]BG!$H$3:$H$65))-SUMIF($B$3:B173,B173,$G$3:G173)","v":0},{"$f":"IF(E173=\"\",\"\",INDEX(Four!A:G,MATCH(الالتزام!E173,ممون,0),4))","v":""},null,null,0,null,"",null,"",null,null,null,null,null,null,null,null,null,{"$f":"IF(D173=\"\",\"\",INDEX([4]BG!$A$3:$B$65,MATCH(D173,البند,0),1))","v":""},"",""]
[null,{"$f":"IF(D174=\"\",\"\",INDEX([4]BG!A$3:$A$65,MATCH(D174,البند,0)))","v":""},null,null,null,null,0,null,null,null,null,null,null,null,null,null,null,null,null,null,null,null,null,null,null,null,null,null,null,null,null,null,null,null,null,null,null,null,null,null,null,null,null,{"$f":"IF(B174=\"\",0,LOOKUP(B174,[4]BG!$A$3:$A$65,[4]BG!$H$3:$H$65))-SUMIF($B$3:B174,B174,$G$3:G174)","v":0},{"$f":"IF(E174=\"\",\"\",INDEX(Four!A:G,MATCH(الالتزام!E174,ممون,0),4))","v":""},null,null,0,null,"",null,"",null,null,null,null,null,null,null,null,null,{"$f":"IF(D174=\"\",\"\",INDEX([4]BG!$A$3:$B$65,MATCH(D174,البند,0),1))","v":""},"",""]
[null,{"$f":"IF(D175=\"\",\"\",INDEX([4]BG!A$3:$A$65,MATCH(D175,البند,0)))","v":""},null,null,null,null,0,null,null,null,null,null,null,null,null,null,null,null,null,null,null,null,null,null,null,null,null,null,null,null,null,null,null,null,null,null,null,null,null,null,null,null,null,{"$f":"IF(B175=\"\",0,LOOKUP(B175,[4]BG!$A$3:$A$65,[4]BG!$H$3:$H$65))-SUMIF($B$3:B175,B175,$G$3:G175)","v":0},{"$f":"IF(E175=\"\",\"\",INDEX(Four!A:G,MATCH(الالتزام!E175,ممون,0),4))","v":""},null,null,0,null,"",null,"",null,null,null,null,null,null,null,null,null,{"$f":"IF(D175=\"\",\"\",INDEX([4]BG!$A$3:$B$65,MATCH(D175,البند,0),1))","v":""},"",""]
[null,{"$f":"IF(D176=\"\",\"\",INDEX([4]BG!A$3:$A$65,MATCH(D176,البند,0)))","v":""},null,null,null,null,0,null,null,null,null,null,null,null,null,null,null,null,null,null,null,null,null,null,null,null,null,null,null,null,null,null,null,null,null,null,null,null,null,null,null,null,null,{"$f":"IF(B176=\"\",0,LOOKUP(B176,[4]BG!$A$3:$A$65,[4]BG!$H$3:$H$65))-SUMIF($B$3:B176,B176,$G$3:G176)","v":0},{"$f":"IF(E176=\"\",\"\",INDEX(Four!A:G,MATCH(الالتزام!E176,ممون,0),4))","v":""},null,null,0,null,"",null,"",null,null,null,null,null,null,null,null,null,{"$f":"IF(D176=\"\",\"\",INDEX([4]BG!$A$3:$B$65,MATCH(D176,البند,0),1))","v":""},"",""]
[null,{"$f":"IF(D177=\"\",\"\",INDEX([4]BG!A$3:$A$65,MATCH(D177,البند,0)))","v":""},null,null,null,null,0,null,null,null,null,null,null,null,null,null,null,null,null,null,null,null,null,null,null,null,null,null,null,null,null,null,null,null,null,null,null,null,null,null,null,null,null,{"$f":"IF(B177=\"\",0,LOOKUP(B177,[4]BG!$A$3:$A$65,[4]BG!$H$3:$H$65))-SUMIF($B$3:B177,B177,$G$3:G177)","v":0},{"$f":"IF(E177=\"\",\"\",INDEX(Four!A:G,MATCH(الالتزام!E177,ممون,0),4))","v":""},null,null,0,null,"",null,"",null,null,null,null,null,null,null,null,null,{"$f":"IF(D177=\"\",\"\",INDEX([4]BG!$A$3:$B$65,MATCH(D177,البند,0),1))","v":""},"",""]
[null,{"$f":"IF(D178=\"\",\"\",INDEX([4]BG!A$3:$A$65,MATCH(D178,البند,0)))","v":""},null,null,null,null,0,null,null,null,null,null,null,null,null,null,null,null,null,null,null,null,null,null,null,null,null,null,null,null,null,null,null,null,null,null,null,null,null,null,null,null,null,{"$f":"IF(B178=\"\",0,LOOKUP(B178,[4]BG!$A$3:$A$65,[4]BG!$H$3:$H$65))-SUMIF($B$3:B178,B178,$G$3:G178)","v":0},{"$f":"IF(E178=\"\",\"\",INDEX(Four!A:G,MATCH(الالتزام!E178,ممون,0),4))","v":""},null,null,0,null,"",null,"",null,null,null,null,null,null,null,null,null,{"$f":"IF(D178=\"\",\"\",INDEX([4]BG!$A$3:$B$65,MATCH(D178,البند,0),1))","v":""},"",""]
[null,{"$f":"IF(D179=\"\",\"\",INDEX([4]BG!A$3:$A$65,MATCH(D179,البند,0)))","v":""},null,null,null,null,0,null,null,null,null,null,null,null,null,null,null,null,null,null,null,null,null,null,null,null,null,null,null,null,null,null,null,null,null,null,null,null,null,null,null,null,null,{"$f":"IF(B179=\"\",0,LOOKUP(B179,[4]BG!$A$3:$A$65,[4]BG!$H$3:$H$65))-SUMIF($B$3:B179,B179,$G$3:G179)","v":0},{"$f":"IF(E179=\"\",\"\",INDEX(Four!A:G,MATCH(الالتزام!E179,ممون,0),4))","v":""},null,null,0,null,"",null,"",null,null,null,null,null,null,null,null,null,{"$f":"IF(D179=\"\",\"\",INDEX([4]BG!$A$3:$B$65,MATCH(D179,البند,0),1))","v":""},"",""]
[null,{"$f":"IF(D180=\"\",\"\",INDEX([4]BG!A$3:$A$65,MATCH(D180,البند,0)))","v":""},null,null,null,null,0,null,null,null,null,null,null,null,null,null,null,null,null,null,null,null,null,null,null,null,null,null,null,null,null,null,null,null,null,null,null,null,null,null,null,null,null,{"$f":"IF(B180=\"\",0,LOOKUP(B180,[4]BG!$A$3:$A$65,[4]BG!$H$3:$H$65))-SUMIF($B$3:B180,B180,$G$3:G180)","v":0},{"$f":"IF(E180=\"\",\"\",INDEX(Four!A:G,MATCH(الالتزام!E180,ممون,0),4))","v":""},null,null,0,null,"",null,"",null,null,null,null,null,null,null,null,null,{"$f":"IF(D180=\"\",\"\",INDEX([4]BG!$A$3:$B$65,MATCH(D180,البند,0),1))","v":""},"",""]
[null,{"$f":"IF(D181=\"\",\"\",INDEX([4]BG!A$3:$A$65,MATCH(D181,البند,0)))","v":""},null,null,null,null,0,null,null,null,null,null,null,null,null,null,null,null,null,null,null,null,null,null,null,null,null,null,null,null,null,null,null,null,null,null,null,null,null,null,null,null,null,{"$f":"IF(B181=\"\",0,LOOKUP(B181,[4]BG!$A$3:$A$65,[4]BG!$H$3:$H$65))-SUMIF($B$3:B181,B181,$G$3:G181)","v":0},{"$f":"IF(E181=\"\",\"\",INDEX(Four!A:G,MATCH(الالتزام!E181,ممون,0),4))","v":""},null,null,0,null,"",null,"",null,null,null,null,null,null,null,null,null,{"$f":"IF(D181=\"\",\"\",INDEX([4]BG!$A$3:$B$65,MATCH(D181,البند,0),1))","v":""},"",""]
[null,{"$f":"IF(D182=\"\",\"\",INDEX([4]BG!A$3:$A$65,MATCH(D182,البند,0)))","v":""},null,null,null,null,0,null,null,null,null,null,null,null,null,null,null,null,null,null,null,null,null,null,null,null,null,null,null,null,null,null,null,null,null,null,null,null,null,null,null,null,null,{"$f":"IF(B182=\"\",0,LOOKUP(B182,[4]BG!$A$3:$A$65,[4]BG!$H$3:$H$65))-SUMIF($B$3:B182,B182,$G$3:G182)","v":0},{"$f":"IF(E182=\"\",\"\",INDEX(Four!A:G,MATCH(الالتزام!E182,ممون,0),4))","v":""},null,null,0,null,"",null,"",null,null,null,null,null,null,null,null,null,{"$f":"IF(D182=\"\",\"\",INDEX([4]BG!$A$3:$B$65,MATCH(D182,البند,0),1))","v":""},"",""]
[null,{"$f":"IF(D183=\"\",\"\",INDEX([4]BG!A$3:$A$65,MATCH(D183,البند,0)))","v":""},null,null,null,null,0,null,null,null,null,null,null,null,null,null,null,null,null,null,null,null,null,null,null,null,null,null,null,null,null,null,null,null,null,null,null,null,null,null,null,null,null,{"$f":"IF(B183=\"\",0,LOOKUP(B183,[4]BG!$A$3:$A$65,[4]BG!$H$3:$H$65))-SUMIF($B$3:B183,B183,$G$3:G183)","v":0},{"$f":"IF(E183=\"\",\"\",INDEX(Four!A:G,MATCH(الالتزام!E183,ممون,0),4))","v":""},null,null,0,null,"",null,"",null,null,null,null,null,null,null,null,null,{"$f":"IF(D183=\"\",\"\",INDEX([4]BG!$A$3:$B$65,MATCH(D183,البند,0),1))","v":""},"",""]
[null,{"$f":"IF(D184=\"\",\"\",INDEX([4]BG!A$3:$A$65,MATCH(D184,البند,0)))","v":""},null,null,null,null,0,null,null,null,null,null,null,null,null,null,null,null,null,null,null,null,null,null,null,null,null,null,null,null,null,null,null,null,null,null,null,null,null,null,null,null,null,{"$f":"IF(B184=\"\",0,LOOKUP(B184,[4]BG!$A$3:$A$65,[4]BG!$H$3:$H$65))-SUMIF($B$3:B184,B184,$G$3:G184)","v":0},{"$f":"IF(E184=\"\",\"\",INDEX(Four!A:G,MATCH(الالتزام!E184,ممون,0),4))","v":""},null,null,0,null,"",null,"",null,null,null,null,null,null,null,null,null,{"$f":"IF(D184=\"\",\"\",INDEX([4]BG!$A$3:$B$65,MATCH(D184,البند,0),1))","v":""},"",""]
[null,{"$f":"IF(D185=\"\",\"\",INDEX([4]BG!A$3:$A$65,MATCH(D185,البند,0)))","v":""},null,null,null,null,0,null,null,null,null,null,null,null,null,null,null,null,null,null,null,null,null,null,null,null,null,null,null,null,null,null,null,null,null,null,null,null,null,null,null,null,null,{"$f":"IF(B185=\"\",0,LOOKUP(B185,[4]BG!$A$3:$A$65,[4]BG!$H$3:$H$65))-SUMIF($B$3:B185,B185,$G$3:G185)","v":0},{"$f":"IF(E185=\"\",\"\",INDEX(Four!A:G,MATCH(الالتزام!E185,ممون,0),4))","v":""},null,null,0,null,"",null,"",null,null,null,null,null,null,null,null,null,{"$f":"IF(D185=\"\",\"\",INDEX([4]BG!$A$3:$B$65,MATCH(D185,البند,0),1))","v":""},"",""]
[null,{"$f":"IF(D186=\"\",\"\",INDEX([4]BG!A$3:$A$65,MATCH(D186,البند,0)))","v":""},null,null,null,null,0,null,null,null,null,null,null,null,null,null,null,null,null,null,null,null,null,null,null,null,null,null,null,null,null,null,null,null,null,null,null,null,null,null,null,null,null,{"$f":"IF(B186=\"\",0,LOOKUP(B186,[4]BG!$A$3:$A$65,[4]BG!$H$3:$H$65))-SUMIF($B$3:B186,B186,$G$3:G186)","v":0},{"$f":"IF(E186=\"\",\"\",INDEX(Four!A:G,MATCH(الالتزام!E186,ممون,0),4))","v":""},null,null,0,null,"",null,"",null,null,null,null,null,null,null,null,null,{"$f":"IF(D186=\"\",\"\",INDEX([4]BG!$A$3:$B$65,MATCH(D186,البند,0),1))","v":""},"",""]
[null,{"$f":"IF(D187=\"\",\"\",INDEX([4]BG!A$3:$A$65,MATCH(D187,البند,0)))","v":""},null,null,null,null,0,null,null,null,null,null,null,null,null,null,null,null,null,null,null,null,null,null,null,null,null,null,null,null,null,null,null,null,null,null,null,null,null,null,null,null,null,{"$f":"IF(B187=\"\",0,LOOKUP(B187,[4]BG!$A$3:$A$65,[4]BG!$H$3:$H$65))-SUMIF($B$3:B187,B187,$G$3:G187)","v":0},{"$f":"IF(E187=\"\",\"\",INDEX(Four!A:G,MATCH(الالتزام!E187,ممون,0),4))","v":""},null,null,0,null,"",null,"",null,null,null,null,null,null,null,null,null,{"$f":"IF(D187=\"\",\"\",INDEX([4]BG!$A$3:$B$65,MATCH(D187,البند,0),1))","v":""},"",""]
[null,{"$f":"IF(D188=\"\",\"\",INDEX([4]BG!A$3:$A$65,MATCH(D188,البند,0)))","v":""},null,null,null,null,0,null,null,null,null,null,null,null,null,null,null,null,null,null,null,null,null,null,null,null,null,null,null,null,null,null,null,null,null,null,null,null,null,null,null,null,null,{"$f":"IF(B188=\"\",0,LOOKUP(B188,[4]BG!$A$3:$A$65,[4]BG!$H$3:$H$65))-SUMIF($B$3:B188,B188,$G$3:G188)","v":0},{"$f":"IF(E188=\"\",\"\",INDEX(Four!A:G,MATCH(الالتزام!E188,ممون,0),4))","v":""},null,null,0,null,"",null,"",null,null,null,null,null,null,null,null,null,{"$f":"IF(D188=\"\",\"\",INDEX([4]BG!$A$3:$B$65,MATCH(D188,البند,0),1))","v":""},"",""]
[null,{"$f":"IF(D189=\"\",\"\",INDEX([4]BG!A$3:$A$65,MATCH(D189,البند,0)))","v":""},null,null,null,null,0,null,null,null,null,null,null,null,null,null,null,null,null,null,null,null,null,null,null,null,null,null,null,null,null,null,null,null,null,null,null,null,null,null,null,null,null,{"$f":"IF(B189=\"\",0,LOOKUP(B189,[4]BG!$A$3:$A$65,[4]BG!$H$3:$H$65))-SUMIF($B$3:B189,B189,$G$3:G189)","v":0},{"$f":"IF(E189=\"\",\"\",INDEX(Four!A:G,MATCH(الالتزام!E189,ممون,0),4))","v":""},null,null,0,null,"",null,"",null,null,null,null,null,null,null,null,null,{"$f":"IF(D189=\"\",\"\",INDEX([4]BG!$A$3:$B$65,MATCH(D189,البند,0),1))","v":""},"",""]
[null,{"$f":"IF(D190=\"\",\"\",INDEX([4]BG!A$3:$A$65,MATCH(D190,البند,0)))","v":""},null,null,null,null,0,null,null,null,null,null,null,null,null,null,null,null,null,null,null,null,null,null,null,null,null,null,null,null,null,null,null,null,null,null,null,null,null,null,null,null,null,{"$f":"IF(B190=\"\",0,LOOKUP(B190,[4]BG!$A$3:$A$65,[4]BG!$H$3:$H$65))-SUMIF($B$3:B190,B190,$G$3:G190)","v":0},{"$f":"IF(E190=\"\",\"\",INDEX(Four!A:G,MATCH(الالتزام!E190,ممون,0),4))","v":""},null,null,0,null,"",null,"",null,null,null,null,null,null,null,null,null,{"$f":"IF(D190=\"\",\"\",INDEX([4]BG!$A$3:$B$65,MATCH(D190,البند,0),1))","v":""},"",""]
[null,{"$f":"IF(D191=\"\",\"\",INDEX([4]BG!A$3:$A$65,MATCH(D191,البند,0)))","v":""},null,null,null,null,0,null,null,null,null,null,null,null,null,null,null,null,null,null,null,null,null,null,null,null,null,null,null,null,null,null,null,null,null,null,null,null,null,null,null,null,null,{"$f":"IF(B191=\"\",0,LOOKUP(B191,[4]BG!$A$3:$A$65,[4]BG!$H$3:$H$65))-SUMIF($B$3:B191,B191,$G$3:G191)","v":0},{"$f":"IF(E191=\"\",\"\",INDEX(Four!A:G,MATCH(الالتزام!E191,ممون,0),4))","v":""},null,null,0,null,"",null,"",null,null,null,null,null,null,null,null,null,{"$f":"IF(D191=\"\",\"\",INDEX([4]BG!$A$3:$B$65,MATCH(D191,البند,0),1))","v":""},"",""]
[null,{"$f":"IF(D192=\"\",\"\",INDEX([4]BG!A$3:$A$65,MATCH(D192,البند,0)))","v":""},null,null,null,null,0,null,null,null,null,null,null,null,null,null,null,null,null,null,null,null,null,null,null,null,null,null,null,null,null,null,null,null,null,null,null,null,null,null,null,null,null,{"$f":"IF(B192=\"\",0,LOOKUP(B192,[4]BG!$A$3:$A$65,[4]BG!$H$3:$H$65))-SUMIF($B$3:B192,B192,$G$3:G192)","v":0},{"$f":"IF(E192=\"\",\"\",INDEX(Four!A:G,MATCH(الالتزام!E192,ممون,0),4))","v":""},null,null,0,null,"",null,"",null,null,null,null,null,null,null,null,null,{"$f":"IF(D192=\"\",\"\",INDEX([4]BG!$A$3:$B$65,MATCH(D192,البند,0),1))","v":""},"",""]
[null,{"$f":"IF(D193=\"\",\"\",INDEX([4]BG!A$3:$A$65,MATCH(D193,البند,0)))","v":""},null,null,null,null,0,null,null,null,null,null,null,null,null,null,null,null,null,null,null,null,null,null,null,null,null,null,null,null,null,null,null,null,null,null,null,null,null,null,null,null,null,{"$f":"IF(B193=\"\",0,LOOKUP(B193,[4]BG!$A$3:$A$65,[4]BG!$H$3:$H$65))-SUMIF($B$3:B193,B193,$G$3:G193)","v":0},{"$f":"IF(E193=\"\",\"\",INDEX(Four!A:G,MATCH(الالتزام!E193,ممون,0),4))","v":""},null,null,0,null,"",null,"",null,null,null,null,null,null,null,null,null,{"$f":"IF(D193=\"\",\"\",INDEX([4]BG!$A$3:$B$65,MATCH(D193,البند,0),1))","v":""},"",""]
[null,{"$f":"IF(D194=\"\",\"\",INDEX([4]BG!A$3:$A$65,MATCH(D194,البند,0)))","v":""},null,null,null,null,0,null,null,null,null,null,null,null,null,null,null,null,null,null,null,null,null,null,null,null,null,null,null,null,null,null,null,null,null,null,null,null,null,null,null,null,null,{"$f":"IF(B194=\"\",0,LOOKUP(B194,[4]BG!$A$3:$A$65,[4]BG!$H$3:$H$65))-SUMIF($B$3:B194,B194,$G$3:G194)","v":0},{"$f":"IF(E194=\"\",\"\",INDEX(Four!A:G,MATCH(الالتزام!E194,ممون,0),4))","v":""},null,null,0,null,"",null,"",null,null,null,null,null,null,null,null,null,{"$f":"IF(D194=\"\",\"\",INDEX([4]BG!$A$3:$B$65,MATCH(D194,البند,0),1))","v":""},"",""]
[null,{"$f":"IF(D195=\"\",\"\",INDEX([4]BG!A$3:$A$65,MATCH(D195,البند,0)))","v":""},null,null,null,null,0,null,null,null,null,null,null,null,null,null,null,null,null,null,null,null,null,null,null,null,null,null,null,null,null,null,null,null,null,null,null,null,null,null,null,null,null,{"$f":"IF(B195=\"\",0,LOOKUP(B195,[4]BG!$A$3:$A$65,[4]BG!$H$3:$H$65))-SUMIF($B$3:B195,B195,$G$3:G195)","v":0},{"$f":"IF(E195=\"\",\"\",INDEX(Four!A:G,MATCH(الالتزام!E195,ممون,0),4))","v":""},null,null,0,null,"",null,"",null,null,null,null,null,null,null,null,null,{"$f":"IF(D195=\"\",\"\",INDEX([4]BG!$A$3:$B$65,MATCH(D195,البند,0),1))","v":""},"",""]
[null,{"$f":"IF(D196=\"\",\"\",INDEX([4]BG!A$3:$A$65,MATCH(D196,البند,0)))","v":""},null,null,null,null,0,null,null,null,null,null,null,null,null,null,null,null,null,null,null,null,null,null,null,null,null,null,null,null,null,null,null,null,null,null,null,null,null,null,null,null,null,{"$f":"IF(B196=\"\",0,LOOKUP(B196,[4]BG!$A$3:$A$65,[4]BG!$H$3:$H$65))-SUMIF($B$3:B196,B196,$G$3:G196)","v":0},{"$f":"IF(E196=\"\",\"\",INDEX(Four!A:G,MATCH(الالتزام!E196,ممون,0),4))","v":""},null,null,0,null,{"$f":"LEFT(AS196,3)","v":""},null,{"$f":"IFERROR(LOOKUP(LEFT(AS196,3),$BF$3:$BF$33,$BG$3:$BG$33),\"\")","v":""},null,null,null,null,null,null,null,null,null,{"$f":"IF(D196=\"\",\"\",INDEX([4]BG!$A$3:$B$65,MATCH(D196,البند,0),1))","v":""},"",""]
[null,{"$f":"IF(D197=\"\",\"\",INDEX([4]BG!A$3:$A$65,MATCH(D197,البند,0)))","v":""},null,null,null,null,0,null,null,null,null,null,null,null,null,null,null,null,null,null,null,null,null,null,null,null,null,null,null,null,null,null,null,null,null,null,null,null,null,null,null,null,null,{"$f":"IF(B197=\"\",0,LOOKUP(B197,[4]BG!$A$3:$A$65,[4]BG!$H$3:$H$65))-SUMIF($B$3:B197,B197,$G$3:G197)","v":0},{"$f":"IF(E197=\"\",\"\",INDEX(Four!A:G,MATCH(الالتزام!E197,ممون,0),4))","v":""},null,null,0,null,{"$f":"LEFT(AS197,3)","v":""},null,null,null,null,null,null,null,null,null,null,null,{"$f":"IF(D197=\"\",\"\",INDEX([4]BG!$A$3:$B$65,MATCH(D197,البند,0),1))","v":""},{"$f":"RIGHT(BJ197,1)","v":""},""]
[null,{"$f":"IF(D198=\"\",\"\",INDEX([4]BG!A$3:$A$65,MATCH(D198,البند,0)))","v":""},null,null,null,null,{"$f":"J198+N198+R198+V198+Z198+AD198","v":0},null,null,null,null,null,null,null,null,null,null,null,null,null,null,null,null,null,null,null,null,null,null,null,null,null,null,null,null,null,null,null,null,null,null,null,null,{"$f":"IF(B198=\"\",0,LOOKUP(B198,[4]BG!$A$3:$A$65,[4]BG!$H$3:$H$65))-SUMIF($B$3:B198,B198,$G$3:G198)","v":0},{"$f":"IF(E198=\"\",\"\",INDEX(Four!A:G,MATCH(الالتزام!E198,ممون,0),4))","v":""},null,null,0,null,null,null,null,null,null,null,null,null,null,null,null,null,{"$f":"IF(D198=\"\",\"\",INDEX([4]BG!$A$3:$B$65,MATCH(D198,البند,0),1))","v":""},"",{"$f":"IF(BJ198=\"\",\"\",LEFT(RIGHT(BJ198,4),2))","v":""}]
[null,{"$f":"IF(D199=\"\",\"\",INDEX([4]BG!A$3:$A$65,MATCH(D199,البند,0)))","v":""},null,null,null,null,0,null,null,null,null,null,null,null,null,null,null,null,null,null,null,null,null,null,null,null,null,null,null,null,null,null,null,null,null,null,null,null,null,null,null,null,null,{"$f":"IF(B199=\"\",0,LOOKUP(B199,[4]BG!$A$3:$A$65,[4]BG!$H$3:$H$65))-SUMIF($B$3:B199,B199,$G$3:G199)","v":0},{"$f":"IF(E199=\"\",\"\",INDEX(Four!A:G,MATCH(الالتزام!E199,ممون,0),4))","v":""},null,null,0,null,null,null,null,null,null,null,null,null,null,null,null,null,{"$f":"IF(D199=\"\",\"\",INDEX([4]BG!$A$3:$B$65,MATCH(D199,البند,0),1))","v":""},"",""]
[null,{"$f":"IF(D200=\"\",\"\",INDEX([4]BG!A$3:$A$65,MATCH(D200,البند,0)))","v":""},null,null,null,null,0,null,null,null,null,null,null,null,null,null,null,null,null,null,null,null,null,null,null,null,null,null,null,null,null,null,null,null,null,null,null,null,null,null,null,null,null,{"$f":"IF(B200=\"\",0,LOOKUP(B200,[4]BG!$A$3:$A$65,[4]BG!$H$3:$H$65))-SUMIF($B$3:B200,B200,$G$3:G200)","v":0},{"$f":"IF(E200=\"\",\"\",INDEX(Four!A:G,MATCH(الالتزام!E200,ممون,0),4))","v":""},null,null,0,null,null,null,null,null,null,null,null,null,null,null,null,null,{"$f":"IF(D200=\"\",\"\",INDEX([4]BG!$A$3:$B$65,MATCH(D200,البند,0),1))","v":""},"",""]
[null,{"$f":"IF(D201=\"\",\"\",INDEX([4]BG!A$3:$A$65,MATCH(D201,البند,0)))","v":""},null,null,null,null,0,null,null,null,null,null,null,null,null,null,null,null,null,null,null,null,null,null,null,null,null,null,null,null,null,null,null,null,null,null,null,null,null,null,null,null,null,{"$f":"IF(B201=\"\",0,LOOKUP(B201,[4]BG!$A$3:$A$65,[4]BG!$H$3:$H$65))-SUMIF($B$3:B201,B201,$G$3:G201)","v":0},{"$f":"IF(E201=\"\",\"\",INDEX(Four!A:G,MATCH(الالتزام!E201,ممون,0),4))","v":""},null,null,{"$f":"SUMIF(AU:AU,AU201,G:G)","v":0},null,null,null,null,null,null,null,null,null,null,null,null,null,{"$f":"IF(D201=\"\",\"\",INDEX([4]BG!$A$3:$B$65,MATCH(D201,البند,0),1))","v":""},"",""]
[null,{"$f":"IF(D202=\"\",\"\",INDEX([4]BG!A$3:$A$65,MATCH(D202,البند,0)))","v":""},null,null,null,null,null,null,null,null,null,null,null,null,null,null,null,null,null,null,null,null,null,null,null,null,null,null,null,null,null,null,null,null,null,null,null,null,null,null,null,null,null,{"$f":"IF(B202=\"\",0,LOOKUP(B202,[4]BG!$A$3:$A$65,[4]BG!$H$3:$H$65))-SUMIF($B$3:B202,B202,$G$3:G202)","v":0},{"$f":"IF(E202=\"\",\"\",INDEX(Four!A:G,MATCH(الالتزام!E202,ممون,0),4))","v":""},null,null,null,null,null,null,null,null,null,null,null,null,null,null,null,null,{"$f":"IF(D202=\"\",\"\",INDEX([4]BG!$A$3:$B$65,MATCH(D202,البند,0),1))","v":""},"",""]
[null,{"$f":"IF(D203=\"\",\"\",INDEX([4]BG!A$3:$A$65,MATCH(D203,البند,0)))","v":""},null,null,null,null,null,null,null,null,null,null,null,null,null,null,null,null,null,null,null,null,null,null,null,null,null,null,null,null,null,null,null,null,null,null,null,null,null,null,null,null,null,{"$f":"IF(B203=\"\",0,LOOKUP(B203,[4]BG!$A$3:$A$65,[4]BG!$H$3:$H$65))-SUMIF($B$3:B203,B203,$G$3:G203)","v":0},{"$f":"IF(E203=\"\",\"\",INDEX(Four!A:G,MATCH(الالتزام!E203,ممون,0),4))","v":""},null,null,null,null,null,null,null,null,null,null,null,null,null,null,null,null,{"$f":"IF(D203=\"\",\"\",INDEX([4]BG!$A$3:$B$65,MATCH(D203,البند,0),1))","v":""},"",""]
[null,{"$f":"IF(D204=\"\",\"\",INDEX([4]BG!A$3:$A$65,MATCH(D204,البند,0)))","v":""},null,null,null,null,null,null,null,null,null,null,null,null,null,null,null,null,null,null,null,null,null,null,null,null,null,null,null,null,null,null,null,null,null,null,null,null,null,null,null,null,null,{"$f":"IF(B204=\"\",0,LOOKUP(B204,[4]BG!$A$3:$A$65,[4]BG!$H$3:$H$65))-SUMIF($B$3:B204,B204,$G$3:G204)","v":0},{"$f":"IF(E204=\"\",\"\",INDEX(Four!A:G,MATCH(الالتزام!E204,ممون,0),4))","v":""},null,null,null,null,null,null,null,null,null,null,null,null,null,null,null,null,{"$f":"IF(D204=\"\",\"\",INDEX([4]BG!$A$3:$B$65,MATCH(D204,البند,0),1))","v":""},"",""]
[null,{"$f":"IF(D205=\"\",\"\",INDEX([4]BG!A$3:$A$65,MATCH(D205,البند,0)))","v":""},null,null,null,null,null,null,null,null,null,null,null,null,null,null,null,null,null,null,null,null,null,null,null,null,null,null,null,null,null,null,null,null,null,null,null,null,null,null,null,null,null,{"$f":"IF(B205=\"\",0,LOOKUP(B205,[4]BG!$A$3:$A$65,[4]BG!$H$3:$H$65))-SUMIF($B$3:B205,B205,$G$3:G205)","v":0},{"$f":"IF(E205=\"\",\"\",INDEX(Four!A:G,MATCH(الالتزام!E205,ممون,0),4))","v":""},null,null,null,null,null,null,null,null,null,null,null,null,null,null,null,null,{"$f":"IF(D205=\"\",\"\",INDEX([4]BG!$A$3:$B$65,MATCH(D205,البند,0),1))","v":""},"",""]
[null,{"$f":"IF(D206=\"\",\"\",INDEX([4]BG!A$3:$A$65,MATCH(D206,البند,0)))","v":""},null,null,null,null,null,null,null,null,null,null,null,null,null,null,null,null,null,null,null,null,null,null,null,null,null,null,null,null,null,null,null,null,null,null,null,null,null,null,null,null,null,{"$f":"IF(B206=\"\",0,LOOKUP(B206,[4]BG!$A$3:$A$65,[4]BG!$H$3:$H$65))-SUMIF($B$3:B206,B206,$G$3:G206)","v":0},{"$f":"IF(E206=\"\",\"\",INDEX(Four!A:G,MATCH(الالتزام!E206,ممون,0),4))","v":""},null,null,null,null,null,null,null,null,null,null,null,null,null,null,null,null,{"$f":"IF(D206=\"\",\"\",INDEX([4]BG!$A$3:$B$65,MATCH(D206,البند,0),1))","v":""},"",""]
[null,{"$f":"IF(D207=\"\",\"\",INDEX([4]BG!A$3:$A$65,MATCH(D207,البند,0)))","v":""},null,null,null,null,null,null,null,null,null,null,null,null,null,null,null,null,null,null,null,null,null,null,null,null,null,null,null,null,null,null,null,null,null,null,null,null,null,null,null,null,null,{"$f":"IF(B207=\"\",0,LOOKUP(B207,[4]BG!$A$3:$A$65,[4]BG!$H$3:$H$65))-SUMIF($B$3:B207,B207,$G$3:G207)","v":0},{"$f":"IF(E207=\"\",\"\",INDEX(Four!A:G,MATCH(الالتزام!E207,ممون,0),4))","v":""},null,null,null,null,null,null,null,null,null,null,null,null,null,null,null,null,{"$f":"IF(D207=\"\",\"\",INDEX([4]BG!$A$3:$B$65,MATCH(D207,البند,0),1))","v":""},"",""]
[null,{"$f":"IF(D208=\"\",\"\",INDEX([4]BG!A$3:$A$65,MATCH(D208,البند,0)))","v":""},null,null,null,null,null,null,null,null,null,null,null,null,null,null,null,null,null,null,null,null,null,null,null,null,null,null,null,null,null,null,null,null,null,null,null,null,null,null,null,null,null,{"$f":"IF(B208=\"\",0,LOOKUP(B208,[4]BG!$A$3:$A$65,[4]BG!$H$3:$H$65))-SUMIF($B$3:B208,B208,$G$3:G208)","v":0},{"$f":"IF(E208=\"\",\"\",INDEX(Four!A:G,MATCH(الالتزام!E208,ممون,0),4))","v":""},null,null,null,null,null,null,null,null,null,null,null,null,null,null,null,null,{"$f":"IF(D208=\"\",\"\",INDEX([4]BG!$A$3:$B$65,MATCH(D208,البند,0),1))","v":""},"",""]
[null,{"$f":"IF(D209=\"\",\"\",INDEX([4]BG!A$3:$A$65,MATCH(D209,البند,0)))","v":""},null,null,null,null,null,null,null,null,null,null,null,null,null,null,null,null,null,null,null,null,null,null,null,null,null,null,null,null,null,null,null,null,null,null,null,null,null,null,null,null,null,{"$f":"IF(B209=\"\",0,LOOKUP(B209,[4]BG!$A$3:$A$65,[4]BG!$H$3:$H$65))-SUMIF($B$3:B209,B209,$G$3:G209)","v":0},{"$f":"IF(E209=\"\",\"\",INDEX(Four!A:G,MATCH(الالتزام!E209,ممون,0),4))","v":""},null,null,null,null,null,null,null,null,null,null,null,null,null,null,null,null,{"$f":"IF(D209=\"\",\"\",INDEX([4]BG!$A$3:$B$65,MATCH(D209,البند,0),1))","v":""},"",""]
[null,{"$f":"IF(D210=\"\",\"\",INDEX([4]BG!A$3:$A$65,MATCH(D210,البند,0)))","v":""},null,null,null,null,null,null,null,null,null,null,null,null,null,null,null,null,null,null,null,null,null,null,null,null,null,null,null,null,null,null,null,null,null,null,null,null,null,null,null,null,null,{"$f":"IF(B210=\"\",0,LOOKUP(B210,[4]BG!$A$3:$A$65,[4]BG!$H$3:$H$65))-SUMIF($B$3:B210,B210,$G$3:G210)","v":0},{"$f":"IF(E210=\"\",\"\",INDEX(Four!A:G,MATCH(الالتزام!E210,ممون,0),4))","v":""},null,null,null,null,null,null,null,null,null,null,null,null,null,null,null,null,{"$f":"IF(D210=\"\",\"\",INDEX([4]BG!$A$3:$B$65,MATCH(D210,البند,0),1))","v":""},"",""]
[null,{"$f":"IF(D211=\"\",\"\",INDEX([4]BG!A$3:$A$65,MATCH(D211,البند,0)))","v":""},null,null,null,null,null,null,null,null,null,null,null,null,null,null,null,null,null,null,null,null,null,null,null,null,null,null,null,null,null,null,null,null,null,null,null,null,null,null,null,null,null,{"$f":"IF(B211=\"\",0,LOOKUP(B211,[4]BG!$A$3:$A$65,[4]BG!$H$3:$H$65))-SUMIF($B$3:B211,B211,$G$3:G211)","v":0},{"$f":"IF(E211=\"\",\"\",INDEX(Four!A:G,MATCH(الالتزام!E211,ممون,0),4))","v":""},null,null,null,null,null,null,null,null,null,null,null,null,null,null,null,null,{"$f":"IF(D211=\"\",\"\",INDEX([4]BG!$A$3:$B$65,MATCH(D211,البند,0),1))","v":""},"",""]
[null,{"$f":"IF(D212=\"\",\"\",INDEX([4]BG!A$3:$A$65,MATCH(D212,البند,0)))","v":""},null,null,null,null,null,null,null,null,null,null,null,null,null,null,null,null,null,null,null,null,null,null,null,null,null,null,null,null,null,null,null,null,null,null,null,null,null,null,null,null,null,{"$f":"IF(B212=\"\",0,LOOKUP(B212,[4]BG!$A$3:$A$65,[4]BG!$H$3:$H$65))-SUMIF($B$3:B212,B212,$G$3:G212)","v":0},{"$f":"IF(E212=\"\",\"\",INDEX(Four!A:G,MATCH(الالتزام!E212,ممون,0),4))","v":""},null,null,null,null,null,null,null,null,null,null,null,null,null,null,null,null,{"$f":"IF(D212=\"\",\"\",INDEX([4]BG!$A$3:$B$65,MATCH(D212,البند,0),1))","v":""},"",""]
[null,{"$f":"IF(D213=\"\",\"\",INDEX([4]BG!A$3:$A$65,MATCH(D213,البند,0)))","v":""},null,null,null,null,null,null,null,null,null,null,null,null,null,null,null,null,null,null,null,null,null,null,null,null,null,null,null,null,null,null,null,null,null,null,null,null,null,null,null,null,null,{"$f":"IF(B213=\"\",0,LOOKUP(B213,[4]BG!$A$3:$A$65,[4]BG!$H$3:$H$65))-SUMIF($B$3:B213,B213,$G$3:G213)","v":0},{"$f":"IF(E213=\"\",\"\",INDEX(Four!A:G,MATCH(الالتزام!E213,ممون,0),4))","v":""},null,null,null,null,null,null,null,null,null,null,null,null,null,null,null,null,{"$f":"IF(D213=\"\",\"\",INDEX([4]BG!$A$3:$B$65,MATCH(D213,البند,0),1))","v":""},"",""]
[null,{"$f":"IF(D214=\"\",\"\",INDEX([4]BG!A$3:$A$65,MATCH(D214,البند,0)))","v":""},null,null,null,null,null,null,null,null,null,null,null,null,null,null,null,null,null,null,null,null,null,null,null,null,null,null,null,null,null,null,null,null,null,null,null,null,null,null,null,null,null,{"$f":"IF(B214=\"\",0,LOOKUP(B214,[4]BG!$A$3:$A$65,[4]BG!$H$3:$H$65))-SUMIF($B$3:B214,B214,$G$3:G214)","v":0},{"$f":"IF(E214=\"\",\"\",INDEX(Four!A:G,MATCH(الالتزام!E214,ممون,0),4))","v":""},null,null,null,null,null,null,null,null,null,null,null,null,null,null,null,null,{"$f":"IF(D214=\"\",\"\",INDEX([4]BG!$A$3:$B$65,MATCH(D214,البند,0),1))","v":""},"",""]
[null,{"$f":"IF(D215=\"\",\"\",INDEX([4]BG!A$3:$A$65,MATCH(D215,البند,0)))","v":""},null,null,null,null,null,null,null,null,null,null,null,null,null,null,null,null,null,null,null,null,null,null,null,null,null,null,null,null,null,null,null,null,null,null,null,null,null,null,null,null,null,{"$f":"IF(B215=\"\",0,LOOKUP(B215,[4]BG!$A$3:$A$65,[4]BG!$H$3:$H$65))-SUMIF($B$3:B215,B215,$G$3:G215)","v":0},{"$f":"IF(E215=\"\",\"\",INDEX(Four!A:G,MATCH(الالتزام!E215,ممون,0),4))","v":""},null,null,null,null,null,null,null,null,null,null,null,null,null,null,null,null,{"$f":"IF(D215=\"\",\"\",INDEX([4]BG!$A$3:$B$65,MATCH(D215,البند,0),1))","v":""},"",""]
[null,{"$f":"IF(D216=\"\",\"\",INDEX([4]BG!A$3:$A$65,MATCH(D216,البند,0)))","v":""},null,null,null,null,null,null,null,null,null,null,null,null,null,null,null,null,null,null,null,null,null,null,null,null,null,null,null,null,null,null,null,null,null,null,null,null,null,null,null,null,null,{"$f":"IF(B216=\"\",0,LOOKUP(B216,[4]BG!$A$3:$A$65,[4]BG!$H$3:$H$65))-SUMIF($B$3:B216,B216,$G$3:G216)","v":0},{"$f":"IF(E216=\"\",\"\",INDEX(Four!A:G,MATCH(الالتزام!E216,ممون,0),4))","v":""},null,null,null,null,null,null,null,null,null,null,null,null,null,null,null,null,{"$f":"IF(D216=\"\",\"\",INDEX([4]BG!$A$3:$B$65,MATCH(D216,البند,0),1))","v":""},"",""]
[null,{"$f":"IF(D217=\"\",\"\",INDEX([4]BG!A$3:$A$65,MATCH(D217,البند,0)))","v":""},null,null,null,null,null,null,null,null,null,null,null,null,null,null,null,null,null,null,null,null,null,null,null,null,null,null,null,null,null,null,null,null,null,null,null,null,null,null,null,null,null,{"$f":"IF(B217=\"\",0,LOOKUP(B217,[4]BG!$A$3:$A$65,[4]BG!$H$3:$H$65))-SUMIF($B$3:B217,B217,$G$3:G217)","v":0},{"$f":"IF(E217=\"\",\"\",INDEX(Four!A:G,MATCH(الالتزام!E217,ممون,0),4))","v":""},null,null,null,null,null,null,null,null,null,null,null,null,null,null,null,null,{"$f":"IF(D217=\"\",\"\",INDEX([4]BG!$A$3:$B$65,MATCH(D217,البند,0),1))","v":""},"",""]
[null,{"$f":"IF(D218=\"\",\"\",INDEX([4]BG!A$3:$A$65,MATCH(D218,البند,0)))","v":""},null,null,null,null,null,null,null,null,null,null,null,null,null,null,null,null,null,null,null,null,null,null,null,null,null,null,null,null,null,null,null,null,null,null,null,null,null,null,null,null,null,{"$f":"IF(B218=\"\",0,LOOKUP(B218,[4]BG!$A$3:$A$65,[4]BG!$H$3:$H$65))-SUMIF($B$3:B218,B218,$G$3:G218)","v":0},{"$f":"IF(E218=\"\",\"\",INDEX(Four!A:G,MATCH(الالتزام!E218,ممون,0),4))","v":""},null,null,null,null,null,null,null,null,null,null,null,null,null,null,null,null,{"$f":"IF(D218=\"\",\"\",INDEX([4]BG!$A$3:$B$65,MATCH(D218,البند,0),1))","v":""},"",""]
[null,{"$f":"IF(D219=\"\",\"\",INDEX([4]BG!A$3:$A$65,MATCH(D219,البند,0)))","v":""},null,null,null,null,null,null,null,null,null,null,null,null,null,null,null,null,null,null,null,null,null,null,null,null,null,null,null,null,null,null,null,null,null,null,null,null,null,null,null,null,null,{"$f":"IF(B219=\"\",0,LOOKUP(B219,[4]BG!$A$3:$A$65,[4]BG!$H$3:$H$65))-SUMIF($B$3:B219,B219,$G$3:G219)","v":0},{"$f":"IF(E219=\"\",\"\",INDEX(Four!A:G,MATCH(الالتزام!E219,ممون,0),4))","v":""},null,null,null,null,null,null,null,null,null,null,null,null,null,null,null,null,{"$f":"IF(D219=\"\",\"\",INDEX([4]BG!$A$3:$B$65,MATCH(D219,البند,0),1))","v":""},"",""]
[null,{"$f":"IF(D220=\"\",\"\",INDEX([4]BG!A$3:$A$65,MATCH(D220,البند,0)))","v":""},null,null,null,null,null,null,null,null,null,null,null,null,null,null,null,null,null,null,null,null,null,null,null,null,null,null,null,null,null,null,null,null,null,null,null,null,null,null,null,null,null,{"$f":"IF(B220=\"\",0,LOOKUP(B220,[4]BG!$A$3:$A$65,[4]BG!$H$3:$H$65))-SUMIF($B$3:B220,B220,$G$3:G220)","v":0},{"$f":"IF(E220=\"\",\"\",INDEX(Four!A:G,MATCH(الالتزام!E220,ممون,0),4))","v":""},null,null,null,null,null,null,null,null,null,null,null,null,null,null,null,null,{"$f":"IF(D220=\"\",\"\",INDEX([4]BG!$A$3:$B$65,MATCH(D220,البند,0),1))","v":""},"",""]
[null,{"$f":"IF(D221=\"\",\"\",INDEX([4]BG!A$3:$A$65,MATCH(D221,البند,0)))","v":""},null,null,null,null,null,null,null,null,null,null,null,null,null,null,null,null,null,null,null,null,null,null,null,null,null,null,null,null,null,null,null,null,null,null,null,null,null,null,null,null,null,{"$f":"IF(B221=\"\",0,LOOKUP(B221,[4]BG!$A$3:$A$65,[4]BG!$H$3:$H$65))-SUMIF($B$3:B221,B221,$G$3:G221)","v":0},{"$f":"IF(E221=\"\",\"\",INDEX(Four!A:G,MATCH(الالتزام!E221,ممون,0),4))","v":""},null,null,null,null,null,null,null,null,null,null,null,null,null,null,null,null,{"$f":"IF(D221=\"\",\"\",INDEX([4]BG!$A$3:$B$65,MATCH(D221,البند,0),1))","v":""},"",""]
[null,{"$f":"IF(D222=\"\",\"\",INDEX([4]BG!A$3:$A$65,MATCH(D222,البند,0)))","v":""},null,null,null,null,null,null,null,null,null,null,null,null,null,null,null,null,null,null,null,null,null,null,null,null,null,null,null,null,null,null,null,null,null,null,null,null,null,null,null,null,null,{"$f":"IF(B222=\"\",0,LOOKUP(B222,[4]BG!$A$3:$A$65,[4]BG!$H$3:$H$65))-SUMIF($B$3:B222,B222,$G$3:G222)","v":0},{"$f":"IF(E222=\"\",\"\",INDEX(Four!A:G,MATCH(الالتزام!E222,ممون,0),4))","v":""},null,null,null,null,null,null,null,null,null,null,null,null,null,null,null,null,{"$f":"IF(D222=\"\",\"\",INDEX([4]BG!$A$3:$B$65,MATCH(D222,البند,0),1))","v":""},"",""]
[null,{"$f":"IF(D223=\"\",\"\",INDEX([4]BG!A$3:$A$65,MATCH(D223,البند,0)))","v":""},null,null,null,null,null,null,null,null,null,null,null,null,null,null,null,null,null,null,null,null,null,null,null,null,null,null,null,null,null,null,null,null,null,null,null,null,null,null,null,null,null,{"$f":"IF(B223=\"\",0,LOOKUP(B223,[4]BG!$A$3:$A$65,[4]BG!$H$3:$H$65))-SUMIF($B$3:B223,B223,$G$3:G223)","v":0},{"$f":"IF(E223=\"\",\"\",INDEX(Four!A:G,MATCH(الالتزام!E223,ممون,0),4))","v":""},null,null,null,null,null,null,null,null,null,null,null,null,null,null,null,null,{"$f":"IF(D223=\"\",\"\",INDEX([4]BG!$A$3:$B$65,MATCH(D223,البند,0),1))","v":""},"",""]
[null,{"$f":"IF(D224=\"\",\"\",INDEX([4]BG!A$3:$A$65,MATCH(D224,البند,0)))","v":""},null,null,null,null,null,null,null,null,null,null,null,null,null,null,null,null,null,null,null,null,null,null,null,null,null,null,null,null,null,null,null,null,null,null,null,null,null,null,null,null,null,{"$f":"IF(B224=\"\",0,LOOKUP(B224,[4]BG!$A$3:$A$65,[4]BG!$H$3:$H$65))-SUMIF($B$3:B224,B224,$G$3:G224)","v":0},{"$f":"IF(E224=\"\",\"\",INDEX(Four!A:G,MATCH(الالتزام!E224,ممون,0),4))","v":""},null,null,null,null,null,null,null,null,null,null,null,null,null,null,null,null,{"$f":"IF(D224=\"\",\"\",INDEX([4]BG!$A$3:$B$65,MATCH(D224,البند,0),1))","v":""},"",""]
[null,{"$f":"IF(D225=\"\",\"\",INDEX([4]BG!A$3:$A$65,MATCH(D225,البند,0)))","v":""},null,null,null,null,null,null,null,null,null,null,null,null,null,null,null,null,null,null,null,null,null,null,null,null,null,null,null,null,null,null,null,null,null,null,null,null,null,null,null,null,null,{"$f":"IF(B225=\"\",0,LOOKUP(B225,[4]BG!$A$3:$A$65,[4]BG!$H$3:$H$65))-SUMIF($B$3:B225,B225,$G$3:G225)","v":0},{"$f":"IF(E225=\"\",\"\",INDEX(Four!A:G,MATCH(الالتزام!E225,ممون,0),4))","v":""},null,null,null,null,null,null,null,null,null,null,null,null,null,null,null,null,{"$f":"IF(D225=\"\",\"\",INDEX([4]BG!$A$3:$B$65,MATCH(D225,البند,0),1))","v":""},"",""]
[null,{"$f":"IF(D226=\"\",\"\",INDEX([4]BG!A$3:$A$65,MATCH(D226,البند,0)))","v":""},null,null,null,null,null,null,null,null,null,null,null,null,null,null,null,null,null,null,null,null,null,null,null,null,null,null,null,null,null,null,null,null,null,null,null,null,null,null,null,null,null,{"$f":"IF(B226=\"\",0,LOOKUP(B226,[4]BG!$A$3:$A$65,[4]BG!$H$3:$H$65))-SUMIF($B$3:B226,B226,$G$3:G226)","v":0},{"$f":"IF(E226=\"\",\"\",INDEX(Four!A:G,MATCH(الالتزام!E226,ممون,0),4))","v":""},null,null,null,null,null,null,null,null,null,null,null,null,null,null,null,null,{"$f":"IF(D226=\"\",\"\",INDEX([4]BG!$A$3:$B$65,MATCH(D226,البند,0),1))","v":""},"",""]
[null,{"$f":"IF(D227=\"\",\"\",INDEX([4]BG!A$3:$A$65,MATCH(D227,البند,0)))","v":""},null,null,null,null,null,null,null,null,null,null,null,null,null,null,null,null,null,null,null,null,null,null,null,null,null,null,null,null,null,null,null,null,null,null,null,null,null,null,null,null,null,{"$f":"IF(B227=\"\",0,LOOKUP(B227,[4]BG!$A$3:$A$65,[4]BG!$H$3:$H$65))-SUMIF($B$3:B227,B227,$G$3:G227)","v":0},{"$f":"IF(E227=\"\",\"\",INDEX(Four!A:G,MATCH(الالتزام!E227,ممون,0),4))","v":""},null,null,null,null,null,null,null,null,null,null,null,null,null,null,null,null,{"$f":"IF(D227=\"\",\"\",INDEX([4]BG!$A$3:$B$65,MATCH(D227,البند,0),1))","v":""},"",""]
[null,{"$f":"IF(D228=\"\",\"\",INDEX([4]BG!A$3:$A$65,MATCH(D228,البند,0)))","v":""},null,null,null,null,null,null,null,null,null,null,null,null,null,null,null,null,null,null,null,null,null,null,null,null,null,null,null,null,null,null,null,null,null,null,null,null,null,null,null,null,null,{"$f":"IF(B228=\"\",0,LOOKUP(B228,[4]BG!$A$3:$A$65,[4]BG!$H$3:$H$65))-SUMIF($B$3:B228,B228,$G$3:G228)","v":0},{"$f":"IF(E228=\"\",\"\",INDEX(Four!A:G,MATCH(الالتزام!E228,ممون,0),4))","v":""},null,null,null,null,null,null,null,null,null,null,null,null,null,null,null,null,{"$f":"IF(D228=\"\",\"\",INDEX([4]BG!$A$3:$B$65,MATCH(D228,البند,0),1))","v":""},"",""]
[null,{"$f":"IF(D229=\"\",\"\",INDEX([4]BG!A$3:$A$65,MATCH(D229,البند,0)))","v":""},null,null,null,null,null,null,null,null,null,null,null,null,null,null,null,null,null,null,null,null,null,null,null,null,null,null,null,null,null,null,null,null,null,null,null,null,null,null,null,null,null,{"$f":"IF(B229=\"\",0,LOOKUP(B229,[4]BG!$A$3:$A$65,[4]BG!$H$3:$H$65))-SUMIF($B$3:B229,B229,$G$3:G229)","v":0},{"$f":"IF(E229=\"\",\"\",INDEX(Four!A:G,MATCH(الالتزام!E229,ممون,0),4))","v":""},null,null,null,null,null,null,null,null,null,null,null,null,null,null,null,null,{"$f":"IF(D229=\"\",\"\",INDEX([4]BG!$A$3:$B$65,MATCH(D229,البند,0),1))","v":""},"",""]
[null,{"$f":"IF(D230=\"\",\"\",INDEX([4]BG!A$3:$A$65,MATCH(D230,البند,0)))","v":""},null,null,null,null,null,null,null,null,null,null,null,null,null,null,null,null,null,null,null,null,null,null,null,null,null,null,null,null,null,null,null,null,null,null,null,null,null,null,null,null,null,{"$f":"IF(B230=\"\",0,LOOKUP(B230,[4]BG!$A$3:$A$65,[4]BG!$H$3:$H$65))-SUMIF($B$3:B230,B230,$G$3:G230)","v":0},{"$f":"IF(E230=\"\",\"\",INDEX(Four!A:G,MATCH(الالتزام!E230,ممون,0),4))","v":""},null,null,null,null,null,null,null,null,null,null,null,null,null,null,null,null,{"$f":"IF(D230=\"\",\"\",INDEX([4]BG!$A$3:$B$65,MATCH(D230,البند,0),1))","v":""},"",""]
[null,{"$f":"IF(D231=\"\",\"\",INDEX([4]BG!A$3:$A$65,MATCH(D231,البند,0)))","v":""},null,null,null,null,null,null,null,null,null,null,null,null,null,null,null,null,null,null,null,null,null,null,null,null,null,null,null,null,null,null,null,null,null,null,null,null,null,null,null,null,null,{"$f":"IF(B231=\"\",0,LOOKUP(B231,[4]BG!$A$3:$A$65,[4]BG!$H$3:$H$65))-SUMIF($B$3:B231,B231,$G$3:G231)","v":0},{"$f":"IF(E231=\"\",\"\",INDEX(Four!A:G,MATCH(الالتزام!E231,ممون,0),4))","v":""},null,null,null,null,null,null,null,null,null,null,null,null,null,null,null,null,{"$f":"IF(D231=\"\",\"\",INDEX([4]BG!$A$3:$B$65,MATCH(D231,البند,0),1))","v":""},"",""]
[null,{"$f":"IF(D232=\"\",\"\",INDEX([4]BG!A$3:$A$65,MATCH(D232,البند,0)))","v":""},null,null,null,null,null,null,null,null,null,null,null,null,null,null,null,null,null,null,null,null,null,null,null,null,null,null,null,null,null,null,null,null,null,null,null,null,null,null,null,null,null,{"$f":"IF(B232=\"\",0,LOOKUP(B232,[4]BG!$A$3:$A$65,[4]BG!$H$3:$H$65))-SUMIF($B$3:B232,B232,$G$3:G232)","v":0},{"$f":"IF(E232=\"\",\"\",INDEX(Four!A:G,MATCH(الالتزام!E232,ممون,0),4))","v":""},null,null,null,null,null,null,null,null,null,null,null,null,null,null,null,null,{"$f":"IF(D232=\"\",\"\",INDEX([4]BG!$A$3:$B$65,MATCH(D232,البند,0),1))","v":""},"",""]
[null,{"$f":"IF(D233=\"\",\"\",INDEX([4]BG!A$3:$A$65,MATCH(D233,البند,0)))","v":""},null,null,null,null,null,null,null,null,null,null,null,null,null,null,null,null,null,null,null,null,null,null,null,null,null,null,null,null,null,null,null,null,null,null,null,null,null,null,null,null,null,{"$f":"IF(B233=\"\",0,LOOKUP(B233,[4]BG!$A$3:$A$65,[4]BG!$H$3:$H$65))-SUMIF($B$3:B233,B233,$G$3:G233)","v":0},{"$f":"IF(E233=\"\",\"\",INDEX(Four!A:G,MATCH(الالتزام!E233,ممون,0),4))","v":""},null,null,null,null,null,null,null,null,null,null,null,null,null,null,null,null,{"$f":"IF(D233=\"\",\"\",INDEX([4]BG!$A$3:$B$65,MATCH(D233,البند,0),1))","v":""},"",""]
[null,{"$f":"IF(D234=\"\",\"\",INDEX([4]BG!A$3:$A$65,MATCH(D234,البند,0)))","v":""},null,null,null,null,null,null,null,null,null,null,null,null,null,null,null,null,null,null,null,null,null,null,null,null,null,null,null,null,null,null,null,null,null,null,null,null,null,null,null,null,null,{"$f":"IF(B234=\"\",0,LOOKUP(B234,[4]BG!$A$3:$A$65,[4]BG!$H$3:$H$65))-SUMIF($B$3:B234,B234,$G$3:G234)","v":0},{"$f":"IF(E234=\"\",\"\",INDEX(Four!A:G,MATCH(الالتزام!E234,ممون,0),4))","v":""},null,null,null,null,null,null,null,null,null,null,null,null,null,null,null,null,{"$f":"IF(D234=\"\",\"\",INDEX([4]BG!$A$3:$B$65,MATCH(D234,البند,0),1))","v":""},"",""]
[null,{"$f":"IF(D235=\"\",\"\",INDEX([4]BG!A$3:$A$65,MATCH(D235,البند,0)))","v":""},null,null,null,null,null,null,null,null,null,null,null,null,null,null,null,null,null,null,null,null,null,null,null,null,null,null,null,null,null,null,null,null,null,null,null,null,null,null,null,null,null,{"$f":"IF(B235=\"\",0,LOOKUP(B235,[4]BG!$A$3:$A$65,[4]BG!$H$3:$H$65))-SUMIF($B$3:B235,B235,$G$3:G235)","v":0},{"$f":"IF(E235=\"\",\"\",INDEX(Four!A:G,MATCH(الالتزام!E235,ممون,0),4))","v":""},null,null,null,null,null,null,null,null,null,null,null,null,null,null,null,null,{"$f":"IF(D235=\"\",\"\",INDEX([4]BG!$A$3:$B$65,MATCH(D235,البند,0),1))","v":""},"",""]
[null,{"$f":"IF(D236=\"\",\"\",INDEX([4]BG!A$3:$A$65,MATCH(D236,البند,0)))","v":""},null,null,null,null,null,null,null,null,null,null,null,null,null,null,null,null,null,null,null,null,null,null,null,null,null,null,null,null,null,null,null,null,null,null,null,null,null,null,null,null,null,{"$f":"IF(B236=\"\",0,LOOKUP(B236,[4]BG!$A$3:$A$65,[4]BG!$H$3:$H$65))-SUMIF($B$3:B236,B236,$G$3:G236)","v":0},{"$f":"IF(E236=\"\",\"\",INDEX(Four!A:G,MATCH(الالتزام!E236,ممون,0),4))","v":""},null,null,null,null,null,null,null,null,null,null,null,null,null,null,null,null,{"$f":"IF(D236=\"\",\"\",INDEX([4]BG!$A$3:$B$65,MATCH(D236,البند,0),1))","v":""},"",""]
[null,{"$f":"IF(D237=\"\",\"\",INDEX([4]BG!A$3:$A$65,MATCH(D237,البند,0)))","v":""},null,null,null,null,null,null,null,null,null,null,null,null,null,null,null,null,null,null,null,null,null,null,null,null,null,null,null,null,null,null,null,null,null,null,null,null,null,null,null,null,null,{"$f":"IF(B237=\"\",0,LOOKUP(B237,[4]BG!$A$3:$A$65,[4]BG!$H$3:$H$65))-SUMIF($B$3:B237,B237,$G$3:G237)","v":0},{"$f":"IF(E237=\"\",\"\",INDEX(Four!A:G,MATCH(الالتزام!E237,ممون,0),4))","v":""},null,null,null,null,null,null,null,null,null,null,null,null,null,null,null,null,{"$f":"IF(D237=\"\",\"\",INDEX([4]BG!$A$3:$B$65,MATCH(D237,البند,0),1))","v":""},"",""]
[null,{"$f":"IF(D238=\"\",\"\",INDEX([4]BG!A$3:$A$65,MATCH(D238,البند,0)))","v":""},null,null,null,null,null,null,null,null,null,null,null,null,null,null,null,null,null,null,null,null,null,null,null,null,null,null,null,null,null,null,null,null,null,null,null,null,null,null,null,null,null,{"$f":"IF(B238=\"\",0,LOOKUP(B238,[4]BG!$A$3:$A$65,[4]BG!$H$3:$H$65))-SUMIF($B$3:B238,B238,$G$3:G238)","v":0},null,null,null,null,null,null,null,null,null,null,null,null,null,null,null,null,null,{"$f":"IF(D238=\"\",\"\",INDEX([4]BG!$A$3:$B$65,MATCH(D238,البند,0),1))","v":""},"",""]
[null,{"$f":"IF(D239=\"\",\"\",INDEX([4]BG!A$3:$A$65,MATCH(D239,البند,0)))","v":""},null,null,null,null,null,null,null,null,null,null,null,null,null,null,null,null,null,null,null,null,null,null,null,null,null,null,null,null,null,null,null,null,null,null,null,null,null,null,null,null,null,{"$f":"IF(B239=\"\",0,LOOKUP(B239,[4]BG!$A$3:$A$65,[4]BG!$H$3:$H$65))-SUMIF($B$3:B239,B239,$G$3:G239)","v":0},null,null,null,null,null,null,null,null,null,null,null,null,null,null,null,null,null,{"$f":"IF(D239=\"\",\"\",INDEX([4]BG!$A$3:$B$65,MATCH(D239,البند,0),1))","v":""},"",""]
[null,{"$f":"IF(D240=\"\",\"\",INDEX([4]BG!A$3:$A$65,MATCH(D240,البند,0)))","v":""},null,null,null,null,null,null,null,null,null,null,null,null,null,null,null,null,null,null,null,null,null,null,null,null,null,null,null,null,null,null,null,null,null,null,null,null,null,null,null,null,null,{"$f":"IF(B240=\"\",0,LOOKUP(B240,[4]BG!$A$3:$A$65,[4]BG!$H$3:$H$65))-SUMIF($B$3:B240,B240,$G$3:G240)","v":0},null,null,null,null,null,null,null,null,null,null,null,null,null,null,null,null,null,{"$f":"IF(D240=\"\",\"\",INDEX([4]BG!$A$3:$B$65,MATCH(D240,البند,0),1))","v":""},"",""]
[null,{"$f":"IF(D241=\"\",\"\",INDEX([4]BG!A$3:$A$65,MATCH(D241,البند,0)))","v":""},null,null,null,null,null,null,null,null,null,null,null,null,null,null,null,null,null,null,null,null,null,null,null,null,null,null,null,null,null,null,null,null,null,null,null,null,null,null,null,null,null,{"$f":"IF(B241=\"\",0,LOOKUP(B241,[4]BG!$A$3:$A$65,[4]BG!$H$3:$H$65))-SUMIF($B$3:B241,B241,$G$3:G241)","v":0},null,null,null,null,null,null,null,null,null,null,null,null,null,null,null,null,null,{"$f":"IF(D241=\"\",\"\",INDEX([4]BG!$A$3:$B$65,MATCH(D241,البند,0),1))","v":""},"",""]
[null,{"$f":"IF(D242=\"\",\"\",INDEX([4]BG!A$3:$A$65,MATCH(D242,البند,0)))","v":""},null,null,null,null,null,null,null,null,null,null,null,null,null,null,null,null,null,null,null,null,null,null,null,null,null,null,null,null,null,null,null,null,null,null,null,null,null,null,null,null,null,{"$f":"IF(B242=\"\",0,LOOKUP(B242,[4]BG!$A$3:$A$65,[4]BG!$H$3:$H$65))-SUMIF($B$3:B242,B242,$G$3:G242)","v":0},null,null,null,null,null,null,null,null,null,null,null,null,null,null,null,null,null,{"$f":"IF(D242=\"\",\"\",INDEX([4]BG!$A$3:$B$65,MATCH(D242,البند,0),1))","v":""},"",""]
[null,{"$f":"IF(D243=\"\",\"\",INDEX([4]BG!A$3:$A$65,MATCH(D243,البند,0)))","v":""},null,null,null,null,null,null,null,null,null,null,null,null,null,null,null,null,null,null,null,null,null,null,null,null,null,null,null,null,null,null,null,null,null,null,null,null,null,null,null,null,null,{"$f":"IF(B243=\"\",0,LOOKUP(B243,[4]BG!$A$3:$A$65,[4]BG!$H$3:$H$65))-SUMIF($B$3:B243,B243,$G$3:G243)","v":0},null,null,null,null,null,null,null,null,null,null,null,null,null,null,null,null,null,{"$f":"IF(D243=\"\",\"\",INDEX([4]BG!$A$3:$B$65,MATCH(D243,البند,0),1))","v":""},"",""]
[null,{"$f":"IF(D244=\"\",\"\",INDEX([4]BG!A$3:$A$65,MATCH(D244,البند,0)))","v":""},null,null,null,null,null,null,null,null,null,null,null,null,null,null,null,null,null,null,null,null,null,null,null,null,null,null,null,null,null,null,null,null,null,null,null,null,null,null,null,null,null,{"$f":"IF(B244=\"\",0,LOOKUP(B244,[4]BG!$A$3:$A$65,[4]BG!$H$3:$H$65))-SUMIF($B$3:B244,B244,$G$3:G244)","v":0},null,null,null,null,null,null,null,null,null,null,null,null,null,null,null,null,null,{"$f":"IF(D244=\"\",\"\",INDEX([4]BG!$A$3:$B$65,MATCH(D244,البند,0),1))","v":""},"",""]
[null,{"$f":"IF(D245=\"\",\"\",INDEX([4]BG!A$3:$A$65,MATCH(D245,البند,0)))","v":""},null,null,null,null,null,null,null,null,null,null,null,null,null,null,null,null,null,null,null,null,null,null,null,null,null,null,null,null,null,null,null,null,null,null,null,null,null,null,null,null,null,{"$f":"IF(B245=\"\",0,LOOKUP(B245,[4]BG!$A$3:$A$65,[4]BG!$H$3:$H$65))-SUMIF($B$3:B245,B245,$G$3:G245)","v":0},null,null,null,null,null,null,null,null,{"$f":"IFERROR(LOOKUP(LEFT(AT245,3),$BF$3:$BF$33,$BG$3:$BG$33),\"\")","v":""},null,null,null,null,null,null,null,null,{"$f":"IF(D245=\"\",\"\",INDEX([4]BG!$A$3:$B$65,MATCH(D245,البند,0),1))","v":""},"",""]
[null,{"$f":"IF(D246=\"\",\"\",INDEX([4]BG!A$3:$A$65,MATCH(D246,البند,0)))","v":""},null,null,null,null,null,null,null,null,null,null,null,null,null,null,null,null,null,null,null,null,null,null,null,null,null,null,null,null,null,null,null,null,null,null,null,null,null,null,null,null,null,{"$f":"IF(B246=\"\",0,LOOKUP(B246,[4]BG!$A$3:$A$65,[4]BG!$H$3:$H$65))-SUMIF($B$3:B246,B246,$G$3:G246)","v":0},null,null,null,null,null,null,null,null,"",null,null,null,null,null,null,null,null,{"$f":"IF(D246=\"\",\"\",INDEX([4]BG!$A$3:$B$65,MATCH(D246,البند,0),1))","v":""},"",""]
[null,{"$f":"IF(D247=\"\",\"\",INDEX([4]BG!A$3:$A$65,MATCH(D247,البند,0)))","v":""},null,null,null,null,null,null,null,null,null,null,null,null,null,null,null,null,null,null,null,null,null,null,null,null,null,null,null,null,null,null,null,null,null,null,null,null,null,null,null,null,null,{"$f":"IF(B247=\"\",0,LOOKUP(B247,[4]BG!$A$3:$A$65,[4]BG!$H$3:$H$65))-SUMIF($B$3:B247,B247,$G$3:G247)","v":0},null,null,null,null,null,null,null,null,"",null,null,null,null,null,null,null,null,{"$f":"IF(D247=\"\",\"\",INDEX([4]BG!$A$3:$B$65,MATCH(D247,البند,0),1))","v":""},"",""]
[null,{"$f":"IF(D248=\"\",\"\",INDEX([4]BG!A$3:$A$65,MATCH(D248,البند,0)))","v":""},null,null,null,null,null,null,null,null,null,null,null,null,null,null,null,null,null,null,null,null,null,null,null,null,null,null,null,null,null,null,null,null,null,null,null,null,null,null,null,null,null,{"$f":"IF(B248=\"\",0,LOOKUP(B248,[4]BG!$A$3:$A$65,[4]BG!$H$3:$H$65))-SUMIF($B$3:B248,B248,$G$3:G248)","v":0},null,null,null,null,null,null,null,null,"",null,null,null,null,null,null,null,null,{"$f":"IF(D248=\"\",\"\",INDEX([4]BG!$A$3:$B$65,MATCH(D248,البند,0),1))","v":""},"",""]
[null,{"$f":"IF(D249=\"\",\"\",INDEX([4]BG!A$3:$A$65,MATCH(D249,البند,0)))","v":""},null,null,null,null,null,null,null,null,null,null,null,null,null,null,null,null,null,null,null,null,null,null,null,null,null,null,null,null,null,null,null,null,null,null,null,null,null,null,null,null,null,{"$f":"IF(B249=\"\",0,LOOKUP(B249,[4]BG!$A$3:$A$65,[4]BG!$H$3:$H$65))-SUMIF($B$3:B249,B249,$G$3:G249)","v":0},null,null,null,null,null,null,null,null,"",null,null,null,null,null,null,null,null,{"$f":"IF(D249=\"\",\"\",INDEX([4]BG!$A$3:$B$65,MATCH(D249,البند,0),1))","v":""},"",""]
[null,{"$f":"IF(D250=\"\",\"\",INDEX([4]BG!A$3:$A$65,MATCH(D250,البند,0)))","v":""},null,null,null,null,null,null,null,null,null,null,null,null,null,null,null,null,null,null,null,null,null,null,null,null,null,null,null,null,null,null,null,null,null,null,null,null,null,null,null,null,null,{"$f":"IF(B250=\"\",0,LOOKUP(B250,[4]BG!$A$3:$A$65,[4]BG!$H$3:$H$65))-SUMIF($B$3:B250,B250,$G$3:G250)","v":0},null,null,null,null,null,null,null,null,"",null,null,null,null,null,null,null,null,{"$f":"IF(D250=\"\",\"\",INDEX([4]BG!$A$3:$B$65,MATCH(D250,البند,0),1))","v":""},"",""]
[null,{"$f":"IF(D251=\"\",\"\",INDEX([4]BG!A$3:$A$65,MATCH(D251,البند,0)))","v":""},null,null,null,null,null,null,null,null,null,null,null,null,null,null,null,null,null,null,null,null,null,null,null,null,null,null,null,null,null,null,null,null,null,null,null,null,null,null,null,null,null,{"$f":"IF(B251=\"\",0,LOOKUP(B251,[4]BG!$A$3:$A$65,[4]BG!$H$3:$H$65))-SUMIF($B$3:B251,B251,$G$3:G251)","v":0},null,null,null,null,null,null,null,null,"",null,null,null,null,null,null,null,null,{"$f":"IF(D251=\"\",\"\",INDEX([4]BG!$A$3:$B$65,MATCH(D251,البند,0),1))","v":""},"",""]
[null,{"$f":"IF(D252=\"\",\"\",INDEX([4]BG!A$3:$A$65,MATCH(D252,البند,0)))","v":""},null,null,null,null,null,null,null,null,null,null,null,null,null,null,null,null,null,null,null,null,null,null,null,null,null,null,null,null,null,null,null,null,null,null,null,null,null,null,null,null,null,{"$f":"IF(B252=\"\",0,LOOKUP(B252,[4]BG!$A$3:$A$65,[4]BG!$H$3:$H$65))-SUMIF($B$3:B252,B252,$G$3:G252)","v":0},null,null,null,null,null,null,null,null,"",null,null,null,null,null,null,null,null,{"$f":"IF(D252=\"\",\"\",INDEX([4]BG!$A$3:$B$65,MATCH(D252,البند,0),1))","v":""},"",""]
[null,{"$f":"IF(D253=\"\",\"\",INDEX([4]BG!A$3:$A$65,MATCH(D253,البند,0)))","v":""},null,null,null,null,null,null,null,null,null,null,null,null,null,null,null,null,null,null,null,null,null,null,null,null,null,null,null,null,null,null,null,null,null,null,null,null,null,null,null,null,null,{"$f":"IF(B253=\"\",0,LOOKUP(B253,[4]BG!$A$3:$A$65,[4]BG!$H$3:$H$65))-SUMIF($B$3:B253,B253,$G$3:G253)","v":0},null,null,null,null,null,null,null,null,"",null,null,null,null,null,null,null,null,{"$f":"IF(D253=\"\",\"\",INDEX([4]BG!$A$3:$B$65,MATCH(D253,البند,0),1))","v":""},"",""]
[null,{"$f":"IF(D254=\"\",\"\",INDEX([4]BG!A$3:$A$65,MATCH(D254,البند,0)))","v":""},null,null,null,null,null,null,null,null,null,null,null,null,null,null,null,null,null,null,null,null,null,null,null,null,null,null,null,null,null,null,null,null,null,null,null,null,null,null,null,null,null,{"$f":"IF(B254=\"\",0,LOOKUP(B254,[4]BG!$A$3:$A$65,[4]BG!$H$3:$H$65))-SUMIF($B$3:B254,B254,$G$3:G254)","v":0},null,null,null,null,null,null,null,null,"",null,null,null,null,null,null,null,null,{"$f":"IF(D254=\"\",\"\",INDEX([4]BG!$A$3:$B$65,MATCH(D254,البند,0),1))","v":""},"",""]
[null,{"$f":"IF(D255=\"\",\"\",INDEX([4]BG!A$3:$A$65,MATCH(D255,البند,0)))","v":""},null,null,null,null,null,null,null,null,null,null,null,null,null,null,null,null,null,null,null,null,null,null,null,null,null,null,null,null,null,null,null,null,null,null,null,null,null,null,null,null,null,{"$f":"IF(B255=\"\",0,LOOKUP(B255,[4]BG!$A$3:$A$65,[4]BG!$H$3:$H$65))-SUMIF($B$3:B255,B255,$G$3:G255)","v":0},null,null,null,null,null,null,null,null,"",null,null,null,null,null,null,null,null,{"$f":"IF(D255=\"\",\"\",INDEX([4]BG!$A$3:$B$65,MATCH(D255,البند,0),1))","v":""},"",""]
[null,{"$f":"IF(D256=\"\",\"\",INDEX([4]BG!A$3:$A$65,MATCH(D256,البند,0)))","v":""},null,null,null,null,null,null,null,null,null,null,null,null,null,null,null,null,null,null,null,null,null,null,null,null,null,null,null,null,null,null,null,null,null,null,null,null,null,null,null,null,null,{"$f":"IF(B256=\"\",0,LOOKUP(B256,[4]BG!$A$3:$A$65,[4]BG!$H$3:$H$65))-SUMIF($B$3:B256,B256,$G$3:G256)","v":0},null,null,null,null,null,null,null,null,"",null,null,null,null,null,null,null,null,{"$f":"IF(D256=\"\",\"\",INDEX([4]BG!$A$3:$B$65,MATCH(D256,البند,0),1))","v":""},"",""]
[null,{"$f":"IF(D257=\"\",\"\",INDEX([4]BG!A$3:$A$65,MATCH(D257,البند,0)))","v":""},null,null,null,null,null,null,null,null,null,null,null,null,null,null,null,null,null,null,null,null,null,null,null,null,null,null,null,null,null,null,null,null,null,null,null,null,null,null,null,null,null,{"$f":"IF(B257=\"\",0,LOOKUP(B257,[4]BG!$A$3:$A$65,[4]BG!$H$3:$H$65))-SUMIF($B$3:B257,B257,$G$3:G257)","v":0},null,null,null,null,null,null,null,null,"",null,null,null,null,null,null,null,null,{"$f":"IF(D257=\"\",\"\",INDEX([4]BG!$A$3:$B$65,MATCH(D257,البند,0),1))","v":""},"",""]
[null,{"$f":"IF(D258=\"\",\"\",INDEX([4]BG!A$3:$A$65,MATCH(D258,البند,0)))","v":""},null,null,null,null,null,null,null,null,null,null,null,null,null,null,null,null,null,null,null,null,null,null,null,null,null,null,null,null,null,null,null,null,null,null,null,null,null,null,null,null,null,{"$f":"IF(B258=\"\",0,LOOKUP(B258,[4]BG!$A$3:$A$65,[4]BG!$H$3:$H$65))-SUMIF($B$3:B258,B258,$G$3:G258)","v":0},null,null,null,null,null,null,null,null,"",null,null,null,null,null,null,null,null,{"$f":"IF(D258=\"\",\"\",INDEX([4]BG!$A$3:$B$65,MATCH(D258,البند,0),1))","v":""},"",""]
[null,{"$f":"IF(D259=\"\",\"\",INDEX([4]BG!A$3:$A$65,MATCH(D259,البند,0)))","v":""},null,null,null,null,null,null,null,null,null,null,null,null,null,null,null,null,null,null,null,null,null,null,null,null,null,null,null,null,null,null,null,null,null,null,null,null,null,null,null,null,null,{"$f":"IF(B259=\"\",0,LOOKUP(B259,[4]BG!$A$3:$A$65,[4]BG!$H$3:$H$65))-SUMIF($B$3:B259,B259,$G$3:G259)","v":0},null,null,null,null,null,null,null,null,"",null,null,null,null,null,null,null,null,{"$f":"IF(D259=\"\",\"\",INDEX([4]BG!$A$3:$B$65,MATCH(D259,البند,0),1))","v":""},"",""]
[null,{"$f":"IF(D260=\"\",\"\",INDEX([4]BG!A$3:$A$65,MATCH(D260,البند,0)))","v":""},null,null,null,null,null,null,null,null,null,null,null,null,null,null,null,null,null,null,null,null,null,null,null,null,null,null,null,null,null,null,null,null,null,null,null,null,null,null,null,null,null,{"$f":"IF(B260=\"\",0,LOOKUP(B260,[4]BG!$A$3:$A$65,[4]BG!$H$3:$H$65))-SUMIF($B$3:B260,B260,$G$3:G260)","v":0},null,null,null,null,null,null,null,null,"",null,null,null,null,null,null,null,null,{"$f":"IF(D260=\"\",\"\",INDEX([4]BG!$A$3:$B$65,MATCH(D260,البند,0),1))","v":""},"",""]
[null,{"$f":"IF(D261=\"\",\"\",INDEX([4]BG!A$3:$A$65,MATCH(D261,البند,0)))","v":""},null,null,null,null,null,null,null,null,null,null,null,null,null,null,null,null,null,null,null,null,null,null,null,null,null,null,null,null,null,null,null,null,null,null,null,null,null,null,null,null,null,{"$f":"IF(B261=\"\",0,LOOKUP(B261,[4]BG!$A$3:$A$65,[4]BG!$H$3:$H$65))-SUMIF($B$3:B261,B261,$G$3:G261)","v":0},null,null,null,null,null,null,null,null,"",null,null,null,null,null,null,null,null,{"$f":"IF(D261=\"\",\"\",INDEX([4]BG!$A$3:$B$65,MATCH(D261,البند,0),1))","v":""},{"$f":"RIGHT(BJ261,1)","v":""},""]
[null,{"$f":"IF(D262=\"\",\"\",INDEX([4]BG!A$3:$A$65,MATCH(D262,البند,0)))","v":""},null,null,null,null,null,null,null,null,null,null,null,null,null,null,null,null,null,null,null,null,null,null,null,null,null,null,null,null,null,null,null,null,null,null,null,null,null,null,null,null,null,{"$f":"IF(B262=\"\",0,LOOKUP(B262,[4]BG!$A$3:$A$65,[4]BG!$H$3:$H$65))-SUMIF($B$3:B262,B262,$G$3:G262)","v":0},null,null,null,null,null,null,null,null,"",null,null,null,null,null,null,null,null,{"$f":"IF(D262=\"\",\"\",INDEX([4]BG!$A$3:$B$65,MATCH(D262,البند,0),1))","v":""},"",{"$f":"IF(BJ262=\"\",\"\",LEFT(RIGHT(BJ262,4),2))","v":""}]
[null,{"$f":"IF(D263=\"\",\"\",INDEX([4]BG!A$3:$A$65,MATCH(D263,البند,0)))","v":""},null,null,null,null,null,null,null,null,null,null,null,null,null,null,null,null,null,null,null,null,null,null,null,null,null,null,null,null,null,null,null,null,null,null,null,null,null,null,null,null,null,{"$f":"IF(B263=\"\",0,LOOKUP(B263,[4]BG!$A$3:$A$65,[4]BG!$H$3:$H$65))-SUMIF($B$3:B263,B263,$G$3:G263)","v":0},null,null,null,null,null,null,null,null,"",null,null,null,null,null,null,null,null,{"$f":"IF(D263=\"\",\"\",INDEX([4]BG!$A$3:$B$65,MATCH(D263,البند,0),1))","v":""},"",""]
[null,{"$f":"IF(D264=\"\",\"\",INDEX([4]BG!A$3:$A$65,MATCH(D264,البند,0)))","v":""},null,null,null,null,null,null,null,null,null,null,null,null,null,null,null,null,null,null,null,null,null,null,null,null,null,null,null,null,null,null,null,null,null,null,null,null,null,null,null,null,null,{"$f":"IF(B264=\"\",0,LOOKUP(B264,[4]BG!$A$3:$A$65,[4]BG!$H$3:$H$65))-SUMIF($B$3:B264,B264,$G$3:G264)","v":0},null,null,null,null,null,null,null,null,"",null,null,null,null,null,null,null,null,{"$f":"IF(D264=\"\",\"\",INDEX([4]BG!$A$3:$B$65,MATCH(D264,البند,0),1))","v":""},"",""]
[null,{"$f":"IF(D265=\"\",\"\",INDEX([4]BG!A$3:$A$65,MATCH(D265,البند,0)))","v":""},null,null,null,null,null,null,null,null,null,null,null,null,null,null,null,null,null,null,null,null,null,null,null,null,null,null,null,null,null,null,null,null,null,null,null,null,null,null,null,null,null,{"$f":"IF(B265=\"\",0,LOOKUP(B265,[4]BG!$A$3:$A$65,[4]BG!$H$3:$H$65))-SUMIF($B$3:B265,B265,$G$3:G265)","v":0},null,null,null,null,null,null,null,null,"",null,null,null,null,null,null,null,null,{"$f":"IF(D265=\"\",\"\",INDEX([4]BG!$A$3:$B$65,MATCH(D265,البند,0),1))","v":""},"",""]
[null,{"$f":"IF(D266=\"\",\"\",INDEX([4]BG!A$3:$A$65,MATCH(D266,البند,0)))","v":""},null,null,null,null,null,null,null,null,null,null,null,null,null,null,null,null,null,null,null,null,null,null,null,null,null,null,null,null,null,null,null,null,null,null,null,null,null,null,null,null,null,{"$f":"IF(B266=\"\",0,LOOKUP(B266,[4]BG!$A$3:$A$65,[4]BG!$H$3:$H$65))-SUMIF($B$3:B266,B266,$G$3:G266)","v":0},null,null,null,null,null,null,null,null,"",null,null,null,null,null,null,null,null,{"$f":"IF(D266=\"\",\"\",INDEX([4]BG!$A$3:$B$65,MATCH(D266,البند,0),1))","v":""},"",""]
[null,{"$f":"IF(D267=\"\",\"\",INDEX([4]BG!A$3:$A$65,MATCH(D267,البند,0)))","v":""},null,null,null,null,null,null,null,null,null,null,null,null,null,null,null,null,null,null,null,null,null,null,null,null,null,null,null,null,null,null,null,null,null,null,null,null,null,null,null,null,null,{"$f":"IF(B267=\"\",0,LOOKUP(B267,[4]BG!$A$3:$A$65,[4]BG!$H$3:$H$65))-SUMIF($B$3:B267,B267,$G$3:G267)","v":0},null,null,null,null,null,null,null,null,"",null,null,null,null,null,null,null,null,{"$f":"IF(D267=\"\",\"\",INDEX([4]BG!$A$3:$B$65,MATCH(D267,البند,0),1))","v":""},"",""]
[null,{"$f":"IF(D268=\"\",\"\",INDEX([4]BG!A$3:$A$65,MATCH(D268,البند,0)))","v":""},null,null,null,null,null,null,null,null,null,null,null,null,null,null,null,null,null,null,null,null,null,null,null,null,null,null,null,null,null,null,null,null,null,null,null,null,null,null,null,null,null,{"$f":"IF(B268=\"\",0,LOOKUP(B268,[4]BG!$A$3:$A$65,[4]BG!$H$3:$H$65))-SUMIF($B$3:B268,B268,$G$3:G268)","v":0},null,null,null,null,null,null,null,null,"",null,null,null,null,null,null,null,null,{"$f":"IF(D268=\"\",\"\",INDEX([4]BG!$A$3:$B$65,MATCH(D268,البند,0),1))","v":""},"",""]
[null,{"$f":"IF(D269=\"\",\"\",INDEX([4]BG!A$3:$A$65,MATCH(D269,البند,0)))","v":""},null,null,null,null,null,null,null,null,null,null,null,null,null,null,null,null,null,null,null,null,null,null,null,null,null,null,null,null,null,null,null,null,null,null,null,null,null,null,null,null,null,{"$f":"IF(B269=\"\",0,LOOKUP(B269,[4]BG!$A$3:$A$65,[4]BG!$H$3:$H$65))-SUMIF($B$3:B269,B269,$G$3:G269)","v":0},null,null,null,null,null,null,null,null,"",null,null,null,null,null,null,null,null,{"$f":"IF(D269=\"\",\"\",INDEX([4]BG!$A$3:$B$65,MATCH(D269,البند,0),1))","v":""},"",""]
[null,{"$f":"IF(D270=\"\",\"\",INDEX([4]BG!A$3:$A$65,MATCH(D270,البند,0)))","v":""},null,null,null,null,null,null,null,null,null,null,null,null,null,null,null,null,null,null,null,null,null,null,null,null,null,null,null,null,null,null,null,null,null,null,null,null,null,null,null,null,null,{"$f":"IF(B270=\"\",0,LOOKUP(B270,[4]BG!$A$3:$A$65,[4]BG!$H$3:$H$65))-SUMIF($B$3:B270,B270,$G$3:G270)","v":0},null,null,null,null,null,null,null,null,"",null,null,null,null,null,null,null,null,{"$f":"IF(D270=\"\",\"\",INDEX([4]BG!$A$3:$B$65,MATCH(D270,البند,0),1))","v":""},"",""]
[null,{"$f":"IF(D271=\"\",\"\",INDEX([4]BG!A$3:$A$65,MATCH(D271,البند,0)))","v":""},null,null,null,null,null,null,null,null,null,null,null,null,null,null,null,null,null,null,null,null,null,null,null,null,null,null,null,null,null,null,null,null,null,null,null,null,null,null,null,null,null,{"$f":"IF(B271=\"\",0,LOOKUP(B271,[4]BG!$A$3:$A$65,[4]BG!$H$3:$H$65))-SUMIF($B$3:B271,B271,$G$3:G271)","v":0},null,null,null,null,null,null,null,null,"",null,null,null,null,null,null,null,null,{"$f":"IF(D271=\"\",\"\",INDEX([4]BG!$A$3:$B$65,MATCH(D271,البند,0),1))","v":""},"",""]
[null,{"$f":"IF(D272=\"\",\"\",INDEX([4]BG!A$3:$A$65,MATCH(D272,البند,0)))","v":""},null,null,null,null,null,null,null,null,null,null,null,null,null,null,null,null,null,null,null,null,null,null,null,null,null,null,null,null,null,null,null,null,null,null,null,null,null,null,null,null,null,{"$f":"IF(B272=\"\",0,LOOKUP(B272,[4]BG!$A$3:$A$65,[4]BG!$H$3:$H$65))-SUMIF($B$3:B272,B272,$G$3:G272)","v":0},null,null,null,null,null,null,null,null,"",null,null,null,null,null,null,null,null,{"$f":"IF(D272=\"\",\"\",INDEX([4]BG!$A$3:$B$65,MATCH(D272,البند,0),1))","v":""},"",""]
[null,{"$f":"IF(D273=\"\",\"\",INDEX([4]BG!A$3:$A$65,MATCH(D273,البند,0)))","v":""},null,null,null,null,null,null,null,null,null,null,null,null,null,null,null,null,null,null,null,null,null,null,null,null,null,null,null,null,null,null,null,null,null,null,null,null,null,null,null,null,null,{"$f":"IF(B273=\"\",0,LOOKUP(B273,[4]BG!$A$3:$A$65,[4]BG!$H$3:$H$65))-SUMIF($B$3:B273,B273,$G$3:G273)","v":0},null,null,null,null,null,null,null,null,"",null,null,null,null,null,null,null,null,{"$f":"IF(D273=\"\",\"\",INDEX([4]BG!$A$3:$B$65,MATCH(D273,البند,0),1))","v":""},"",""]
[null,{"$f":"IF(D274=\"\",\"\",INDEX([4]BG!A$3:$A$65,MATCH(D274,البند,0)))","v":""},null,null,null,null,null,null,null,null,null,null,null,null,null,null,null,null,null,null,null,null,null,null,null,null,null,null,null,null,null,null,null,null,null,null,null,null,null,null,null,null,null,{"$f":"IF(B274=\"\",0,LOOKUP(B274,[4]BG!$A$3:$A$65,[4]BG!$H$3:$H$65))-SUMIF($B$3:B274,B274,$G$3:G274)","v":0},null,null,null,null,null,null,null,null,"",null,null,null,null,null,null,null,null,{"$f":"IF(D274=\"\",\"\",INDEX([4]BG!$A$3:$B$65,MATCH(D274,البند,0),1))","v":""},"",""]
[null,{"$f":"IF(D275=\"\",\"\",INDEX([4]BG!A$3:$A$65,MATCH(D275,البند,0)))","v":""},null,null,null,null,null,null,null,null,null,null,null,null,null,null,null,null,null,null,null,null,null,null,null,null,null,null,null,null,null,null,null,null,null,null,null,null,null,null,null,null,null,{"$f":"IF(B275=\"\",0,LOOKUP(B275,[4]BG!$A$3:$A$65,[4]BG!$H$3:$H$65))-SUMIF($B$3:B275,B275,$G$3:G275)","v":0},null,null,null,null,null,null,null,null,"",null,null,null,null,null,null,null,null,{"$f":"IF(D275=\"\",\"\",INDEX([4]BG!$A$3:$B$65,MATCH(D275,البند,0),1))","v":""},"",""]
[null,{"$f":"IF(D276=\"\",\"\",INDEX([4]BG!A$3:$A$65,MATCH(D276,البند,0)))","v":""},null,null,null,null,null,null,null,null,null,null,null,null,null,null,null,null,null,null,null,null,null,null,null,null,null,null,null,null,null,null,null,null,null,null,null,null,null,null,null,null,null,{"$f":"IF(B276=\"\",0,LOOKUP(B276,[4]BG!$A$3:$A$65,[4]BG!$H$3:$H$65))-SUMIF($B$3:B276,B276,$G$3:G276)","v":0},null,null,null,null,null,null,null,null,"",null,null,null,null,null,null,null,null,{"$f":"IF(D276=\"\",\"\",INDEX([4]BG!$A$3:$B$65,MATCH(D276,البند,0),1))","v":""},"",""]
[null,{"$f":"IF(D277=\"\",\"\",INDEX([4]BG!A$3:$A$65,MATCH(D277,البند,0)))","v":""},null,null,null,null,null,null,null,null,null,null,null,null,null,null,null,null,null,null,null,null,null,null,null,null,null,null,null,null,null,null,null,null,null,null,null,null,null,null,null,null,null,{"$f":"IF(B277=\"\",0,LOOKUP(B277,[4]BG!$A$3:$A$65,[4]BG!$H$3:$H$65))-SUMIF($B$3:B277,B277,$G$3:G277)","v":0},null,null,null,null,null,null,null,null,"",null,null,null,null,null,null,null,null,{"$f":"IF(D277=\"\",\"\",INDEX([4]BG!$A$3:$B$65,MATCH(D277,البند,0),1))","v":""},"",""]
[null,{"$f":"IF(D278=\"\",\"\",INDEX([4]BG!A$3:$A$65,MATCH(D278,البند,0)))","v":""},null,null,null,null,null,null,null,null,null,null,null,null,null,null,null,null,null,null,null,null,null,null,null,null,null,null,null,null,null,null,null,null,null,null,null,null,null,null,null,null,null,{"$f":"IF(B278=\"\",0,LOOKUP(B278,[4]BG!$A$3:$A$65,[4]BG!$H$3:$H$65))-SUMIF($B$3:B278,B278,$G$3:G278)","v":0},null,null,null,null,null,null,null,null,"",null,null,null,null,null,null,null,null,{"$f":"IF(D278=\"\",\"\",INDEX([4]BG!$A$3:$B$65,MATCH(D278,البند,0),1))","v":""},"",""]
[null,{"$f":"IF(D279=\"\",\"\",INDEX([4]BG!A$3:$A$65,MATCH(D279,البند,0)))","v":""},null,null,null,null,null,null,null,null,null,null,null,null,null,null,null,null,null,null,null,null,null,null,null,null,null,null,null,null,null,null,null,null,null,null,null,null,null,null,null,null,null,{"$f":"IF(B279=\"\",0,LOOKUP(B279,[4]BG!$A$3:$A$65,[4]BG!$H$3:$H$65))-SUMIF($B$3:B279,B279,$G$3:G279)","v":0},null,null,null,null,null,null,null,null,"",null,null,null,null,null,null,null,null,{"$f":"IF(D279=\"\",\"\",INDEX([4]BG!$A$3:$B$65,MATCH(D279,البند,0),1))","v":""},"",""]
[null,{"$f":"IF(D280=\"\",\"\",INDEX([4]BG!A$3:$A$65,MATCH(D280,البند,0)))","v":""},null,null,null,null,null,null,null,null,null,null,null,null,null,null,null,null,null,null,null,null,null,null,null,null,null,null,null,null,null,null,null,null,null,null,null,null,null,null,null,null,null,{"$f":"IF(B280=\"\",0,LOOKUP(B280,[4]BG!$A$3:$A$65,[4]BG!$H$3:$H$65))-SUMIF($B$3:B280,B280,$G$3:G280)","v":0},null,null,null,null,null,null,null,null,"",null,null,null,null,null,null,null,null,{"$f":"IF(D280=\"\",\"\",INDEX([4]BG!$A$3:$B$65,MATCH(D280,البند,0),1))","v":""},"",""]
[null,{"$f":"IF(D281=\"\",\"\",INDEX([4]BG!A$3:$A$65,MATCH(D281,البند,0)))","v":""},null,null,null,null,null,null,null,null,null,null,null,null,null,null,null,null,null,null,null,null,null,null,null,null,null,null,null,null,null,null,null,null,null,null,null,null,null,null,null,null,null,{"$f":"IF(B281=\"\",0,LOOKUP(B281,[4]BG!$A$3:$A$65,[4]BG!$H$3:$H$65))-SUMIF($B$3:B281,B281,$G$3:G281)","v":0},null,null,null,null,null,null,null,null,"",null,null,null,null,null,null,null,null,{"$f":"IF(D281=\"\",\"\",INDEX([4]BG!$A$3:$B$65,MATCH(D281,البند,0),1))","v":""},"",""]
[null,{"$f":"IF(D282=\"\",\"\",INDEX([4]BG!A$3:$A$65,MATCH(D282,البند,0)))","v":""},null,null,null,null,null,null,null,null,null,null,null,null,null,null,null,null,null,null,null,null,null,null,null,null,null,null,null,null,null,null,null,null,null,null,null,null,null,null,null,null,null,{"$f":"IF(B282=\"\",0,LOOKUP(B282,[4]BG!$A$3:$A$65,[4]BG!$H$3:$H$65))-SUMIF($B$3:B282,B282,$G$3:G282)","v":0},null,null,null,null,null,null,null,null,"",null,null,null,null,null,null,null,null,{"$f":"IF(D282=\"\",\"\",INDEX([4]BG!$A$3:$B$65,MATCH(D282,البند,0),1))","v":""},"",""]
[null,{"$f":"IF(D283=\"\",\"\",INDEX([4]BG!A$3:$A$65,MATCH(D283,البند,0)))","v":""},null,null,null,null,null,null,null,null,null,null,null,null,null,null,null,null,null,null,null,null,null,null,null,null,null,null,null,null,null,null,null,null,null,null,null,null,null,null,null,null,null,{"$f":"IF(B283=\"\",0,LOOKUP(B283,[4]BG!$A$3:$A$65,[4]BG!$H$3:$H$65))-SUMIF($B$3:B283,B283,$G$3:G283)","v":0},null,null,null,null,null,null,null,null,"",null,null,null,null,null,null,null,null,{"$f":"IF(D283=\"\",\"\",INDEX([4]BG!$A$3:$B$65,MATCH(D283,البند,0),1))","v":""},"",""]
[null,{"$f":"IF(D284=\"\",\"\",INDEX([4]BG!A$3:$A$65,MATCH(D284,البند,0)))","v":""},null,null,null,null,null,null,null,null,null,null,null,null,null,null,null,null,null,null,null,null,null,null,null,null,null,null,null,null,null,null,null,null,null,null,null,null,null,null,null,null,null,{"$f":"IF(B284=\"\",0,LOOKUP(B284,[4]BG!$A$3:$A$65,[4]BG!$H$3:$H$65))-SUMIF($B$3:B284,B284,$G$3:G284)","v":0},null,null,null,null,null,null,null,null,"",null,null,null,null,null,null,null,null,{"$f":"IF(D284=\"\",\"\",INDEX([4]BG!$A$3:$B$65,MATCH(D284,البند,0),1))","v":""},"",""]
[null,{"$f":"IF(D285=\"\",\"\",INDEX([4]BG!A$3:$A$65,MATCH(D285,البند,0)))","v":""},null,null,null,null,null,null,null,null,null,null,null,null,null,null,null,null,null,null,null,null,null,null,null,null,null,null,null,null,null,null,null,null,null,null,null,null,null,null,null,null,null,{"$f":"IF(B285=\"\",0,LOOKUP(B285,[4]BG!$A$3:$A$65,[4]BG!$H$3:$H$65))-SUMIF($B$3:B285,B285,$G$3:G285)","v":0},null,null,null,null,null,null,null,null,"",null,null,null,null,null,null,null,null,{"$f":"IF(D285=\"\",\"\",INDEX([4]BG!$A$3:$B$65,MATCH(D285,البند,0),1))","v":""},"",""]
[null,{"$f":"IF(D286=\"\",\"\",INDEX([4]BG!A$3:$A$65,MATCH(D286,البند,0)))","v":""},null,null,null,null,null,null,null,null,null,null,null,null,null,null,null,null,null,null,null,null,null,null,null,null,null,null,null,null,null,null,null,null,null,null,null,null,null,null,null,null,null,{"$f":"IF(B286=\"\",0,LOOKUP(B286,[4]BG!$A$3:$A$65,[4]BG!$H$3:$H$65))-SUMIF($B$3:B286,B286,$G$3:G286)","v":0},null,null,null,null,null,null,null,null,"",null,null,null,null,null,null,null,null,{"$f":"IF(D286=\"\",\"\",INDEX([4]BG!$A$3:$B$65,MATCH(D286,البند,0),1))","v":""},"",""]
[null,{"$f":"IF(D287=\"\",\"\",INDEX([4]BG!A$3:$A$65,MATCH(D287,البند,0)))","v":""},null,null,null,null,null,null,null,null,null,null,null,null,null,null,null,null,null,null,null,null,null,null,null,null,null,null,null,null,null,null,null,null,null,null,null,null,null,null,null,null,null,{"$f":"IF(B287=\"\",0,LOOKUP(B287,[4]BG!$A$3:$A$65,[4]BG!$H$3:$H$65))-SUMIF($B$3:B287,B287,$G$3:G287)","v":0},null,null,null,null,null,null,null,null,"",null,null,null,null,null,null,null,null,{"$f":"IF(D287=\"\",\"\",INDEX([4]BG!$A$3:$B$65,MATCH(D287,البند,0),1))","v":""},"",""]
[null,{"$f":"IF(D288=\"\",\"\",INDEX([4]BG!A$3:$A$65,MATCH(D288,البند,0)))","v":""},null,null,null,null,null,null,null,null,null,null,null,null,null,null,null,null,null,null,null,null,null,null,null,null,null,null,null,null,null,null,null,null,null,null,null,null,null,null,null,null,null,{"$f":"IF(B288=\"\",0,LOOKUP(B288,[4]BG!$A$3:$A$65,[4]BG!$H$3:$H$65))-SUMIF($B$3:B288,B288,$G$3:G288)","v":0},null,null,null,null,null,null,null,null,"",null,null,null,null,null,null,null,null,{"$f":"IF(D288=\"\",\"\",INDEX([4]BG!$A$3:$B$65,MATCH(D288,البند,0),1))","v":""},"",""]
[null,{"$f":"IF(D289=\"\",\"\",INDEX([4]BG!A$3:$A$65,MATCH(D289,البند,0)))","v":""},null,null,null,null,null,null,null,null,null,null,null,null,null,null,null,null,null,null,null,null,null,null,null,null,null,null,null,null,null,null,null,null,null,null,null,null,null,null,null,null,null,{"$f":"IF(B289=\"\",0,LOOKUP(B289,[4]BG!$A$3:$A$65,[4]BG!$H$3:$H$65))-SUMIF($B$3:B289,B289,$G$3:G289)","v":0},null,null,null,null,null,null,null,null,"",null,null,null,null,null,null,null,null,{"$f":"IF(D289=\"\",\"\",INDEX([4]BG!$A$3:$B$65,MATCH(D289,البند,0),1))","v":""},"",""]
[null,{"$f":"IF(D290=\"\",\"\",INDEX([4]BG!A$3:$A$65,MATCH(D290,البند,0)))","v":""},null,null,null,null,null,null,null,null,null,null,null,null,null,null,null,null,null,null,null,null,null,null,null,null,null,null,null,null,null,null,null,null,null,null,null,null,null,null,null,null,null,{"$f":"IF(B290=\"\",0,LOOKUP(B290,[4]BG!$A$3:$A$65,[4]BG!$H$3:$H$65))-SUMIF($B$3:B290,B290,$G$3:G290)","v":0},null,null,null,null,null,null,null,null,"",null,null,null,null,null,null,null,null,{"$f":"IF(D290=\"\",\"\",INDEX([4]BG!$A$3:$B$65,MATCH(D290,البند,0),1))","v":""},"",""]
[null,{"$f":"IF(D291=\"\",\"\",INDEX([4]BG!A$3:$A$65,MATCH(D291,البند,0)))","v":""},null,null,null,null,null,null,null,null,null,null,null,null,null,null,null,null,null,null,null,null,null,null,null,null,null,null,null,null,null,null,null,null,null,null,null,null,null,null,null,null,null,{"$f":"IF(B291=\"\",0,LOOKUP(B291,[4]BG!$A$3:$A$65,[4]BG!$H$3:$H$65))-SUMIF($B$3:B291,B291,$G$3:G291)","v":0},null,null,null,null,null,null,null,null,"",null,null,null,null,null,null,null,null,{"$f":"IF(D291=\"\",\"\",INDEX([4]BG!$A$3:$B$65,MATCH(D291,البند,0),1))","v":""},"",""]
[null,{"$f":"IF(D292=\"\",\"\",INDEX([4]BG!A$3:$A$65,MATCH(D292,البند,0)))","v":""},null,null,null,null,null,null,null,null,null,null,null,null,null,null,null,null,null,null,null,null,null,null,null,null,null,null,null,null,null,null,null,null,null,null,null,null,null,null,null,null,null,{"$f":"IF(B292=\"\",0,LOOKUP(B292,[4]BG!$A$3:$A$65,[4]BG!$H$3:$H$65))-SUMIF($B$3:B292,B292,$G$3:G292)","v":0},null,null,null,null,null,null,null,null,"",null,null,null,null,null,null,null,null,{"$f":"IF(D292=\"\",\"\",INDEX([4]BG!$A$3:$B$65,MATCH(D292,البند,0),1))","v":""},"",""]
[null,{"$f":"IF(D293=\"\",\"\",INDEX([4]BG!A$3:$A$65,MATCH(D293,البند,0)))","v":""},null,null,null,null,null,null,null,null,null,null,null,null,null,null,null,null,null,null,null,null,null,null,null,null,null,null,null,null,null,null,null,null,null,null,null,null,null,null,null,null,null,{"$f":"IF(B293=\"\",0,LOOKUP(B293,[4]BG!$A$3:$A$65,[4]BG!$H$3:$H$65))-SUMIF($B$3:B293,B293,$G$3:G293)","v":0},null,null,null,null,null,null,null,null,"",null,null,null,null,null,null,null,null,{"$f":"IF(D293=\"\",\"\",INDEX([4]BG!$A$3:$B$65,MATCH(D293,البند,0),1))","v":""},"",""]
[null,{"$f":"IF(D294=\"\",\"\",INDEX([4]BG!A$3:$A$65,MATCH(D294,البند,0)))","v":""},null,null,null,null,null,null,null,null,null,null,null,null,null,null,null,null,null,null,null,null,null,null,null,null,null,null,null,null,null,null,null,null,null,null,null,null,null,null,null,null,null,{"$f":"IF(B294=\"\",0,LOOKUP(B294,[4]BG!$A$3:$A$65,[4]BG!$H$3:$H$65))-SUMIF($B$3:B294,B294,$G$3:G294)","v":0},null,null,null,null,null,null,null,null,"",null,null,null,null,null,null,null,null,{"$f":"IF(D294=\"\",\"\",INDEX([4]BG!$A$3:$B$65,MATCH(D294,البند,0),1))","v":""},"",""]
[null,{"$f":"IF(D295=\"\",\"\",INDEX([4]BG!A$3:$A$65,MATCH(D295,البند,0)))","v":""},null,null,null,null,null,null,null,null,null,null,null,null,null,null,null,null,null,null,null,null,null,null,null,null,null,null,null,null,null,null,null,null,null,null,null,null,null,null,null,null,null,{"$f":"IF(B295=\"\",0,LOOKUP(B295,[4]BG!$A$3:$A$65,[4]BG!$H$3:$H$65))-SUMIF($B$3:B295,B295,$G$3:G295)","v":0},null,null,null,null,null,null,null,null,"",null,null,null,null,null,null,null,null,{"$f":"IF(D295=\"\",\"\",INDEX([4]BG!$A$3:$B$65,MATCH(D295,البند,0),1))","v":""},"",""]
[null,{"$f":"IF(D296=\"\",\"\",INDEX([4]BG!A$3:$A$65,MATCH(D296,البند,0)))","v":""},null,null,null,null,null,null,null,null,null,null,null,null,null,null,null,null,null,null,null,null,null,null,null,null,null,null,null,null,null,null,null,null,null,null,null,null,null,null,null,null,null,{"$f":"IF(B296=\"\",0,LOOKUP(B296,[4]BG!$A$3:$A$65,[4]BG!$H$3:$H$65))-SUMIF($B$3:B296,B296,$G$3:G296)","v":0},null,null,null,null,null,null,null,null,"",null,null,null,null,null,null,null,null,{"$f":"IF(D296=\"\",\"\",INDEX([4]BG!$A$3:$B$65,MATCH(D296,البند,0),1))","v":""},"",""]
[null,{"$f":"IF(D297=\"\",\"\",INDEX([4]BG!A$3:$A$65,MATCH(D297,البند,0)))","v":""},null,null,null,null,null,null,null,null,null,null,null,null,null,null,null,null,null,null,null,null,null,null,null,null,null,null,null,null,null,null,null,null,null,null,null,null,null,null,null,null,null,{"$f":"IF(B297=\"\",0,LOOKUP(B297,[4]BG!$A$3:$A$65,[4]BG!$H$3:$H$65))-SUMIF($B$3:B297,B297,$G$3:G297)","v":0},null,null,null,null,null,null,null,null,"",null,null,null,null,null,null,null,null,{"$f":"IF(D297=\"\",\"\",INDEX([4]BG!$A$3:$B$65,MATCH(D297,البند,0),1))","v":""},"",""]
[null,{"$f":"IF(D298=\"\",\"\",INDEX([4]BG!A$3:$A$65,MATCH(D298,البند,0)))","v":""},null,null,null,null,null,null,null,null,null,null,null,null,null,null,null,null,null,null,null,null,null,null,null,null,null,null,null,null,null,null,null,null,null,null,null,null,null,null,null,null,null,{"$f":"IF(B298=\"\",0,LOOKUP(B298,[4]BG!$A$3:$A$65,[4]BG!$H$3:$H$65))-SUMIF($B$3:B298,B298,$G$3:G298)","v":0},null,null,null,null,null,null,null,null,"",null,null,null,null,null,null,null,null,{"$f":"IF(D298=\"\",\"\",INDEX([4]BG!$A$3:$B$65,MATCH(D298,البند,0),1))","v":""},"",""]
[null,{"$f":"IF(D299=\"\",\"\",INDEX([4]BG!A$3:$A$65,MATCH(D299,البند,0)))","v":""},null,null,null,null,null,null,null,null,null,null,null,null,null,null,null,null,null,null,null,null,null,null,null,null,null,null,null,null,null,null,null,null,null,null,null,null,null,null,null,null,null,{"$f":"IF(B299=\"\",0,LOOKUP(B299,[4]BG!$A$3:$A$65,[4]BG!$H$3:$H$65))-SUMIF($B$3:B299,B299,$G$3:G299)","v":0},null,null,null,null,null,null,null,null,"",null,null,null,null,null,null,null,null,{"$f":"IF(D299=\"\",\"\",INDEX([4]BG!$A$3:$B$65,MATCH(D299,البند,0),1))","v":""},"",""]
[null,{"$f":"IF(D300=\"\",\"\",INDEX([4]BG!A$3:$A$65,MATCH(D300,البند,0)))","v":""},null,null,null,null,null,null,null,null,null,null,null,null,null,null,null,null,null,null,null,null,null,null,null,null,null,null,null,null,null,null,null,null,null,null,null,null,null,null,null,null,null,{"$f":"IF(B300=\"\",0,LOOKUP(B300,[4]BG!$A$3:$A$65,[4]BG!$H$3:$H$65))-SUMIF($B$3:B300,B300,$G$3:G300)","v":0},null,null,null,null,null,null,null,null,"",null,null,null,null,null,null,null,null,{"$f":"IF(D300=\"\",\"\",INDEX([4]BG!$A$3:$B$65,MATCH(D300,البند,0),1))","v":""},"",""]
[null,{"$f":"IF(D301=\"\",\"\",INDEX([4]BG!A$3:$A$65,MATCH(D301,البند,0)))","v":""},null,null,null,null,null,null,null,null,null,null,null,null,null,null,null,null,null,null,null,null,null,null,null,null,null,null,null,null,null,null,null,null,null,null,null,null,null,null,null,null,null,{"$f":"IF(B301=\"\",0,LOOKUP(B301,[4]BG!$A$3:$A$65,[4]BG!$H$3:$H$65))-SUMIF($B$3:B301,B301,$G$3:G301)","v":0},null,null,null,null,null,null,null,null,"",null,null,null,null,null,null,null,null,{"$f":"IF(D301=\"\",\"\",INDEX([4]BG!$A$3:$B$65,MATCH(D301,البند,0),1))","v":""},"",""]
[null,{"$f":"IF(D302=\"\",\"\",INDEX([4]BG!A$3:$A$65,MATCH(D302,البند,0)))","v":""},null,null,null,null,null,null,null,null,null,null,null,null,null,null,null,null,null,null,null,null,null,null,null,null,null,null,null,null,null,null,null,null,null,null,null,null,null,null,null,null,null,{"$f":"IF(B302=\"\",0,LOOKUP(B302,[4]BG!$A$3:$A$65,[4]BG!$H$3:$H$65))-SUMIF($B$3:B302,B302,$G$3:G302)","v":0},null,null,null,null,null,null,null,null,"",null,null,null,null,null,null,null,null,{"$f":"IF(D302=\"\",\"\",INDEX([4]BG!$A$3:$B$65,MATCH(D302,البند,0),1))","v":""},"",""]
[null,{"$f":"IF(D303=\"\",\"\",INDEX([4]BG!A$3:$A$65,MATCH(D303,البند,0)))","v":""},null,null,null,null,null,null,null,null,null,null,null,null,null,null,null,null,null,null,null,null,null,null,null,null,null,null,null,null,null,null,null,null,null,null,null,null,null,null,null,null,null,{"$f":"IF(B303=\"\",0,LOOKUP(B303,[4]BG!$A$3:$A$65,[4]BG!$H$3:$H$65))-SUMIF($B$3:B303,B303,$G$3:G303)","v":0},null,null,null,null,null,null,null,null,"",null,null,null,null,null,null,null,null,{"$f":"IF(D303=\"\",\"\",INDEX([4]BG!$A$3:$B$65,MATCH(D303,البند,0),1))","v":""},"",""]
[null,{"$f":"IF(D304=\"\",\"\",INDEX([4]BG!A$3:$A$65,MATCH(D304,البند,0)))","v":""},null,null,null,null,null,null,null,null,null,null,null,null,null,null,null,null,null,null,null,null,null,null,null,null,null,null,null,null,null,null,null,null,null,null,null,null,null,null,null,null,null,{"$f":"IF(B304=\"\",0,LOOKUP(B304,[4]BG!$A$3:$A$65,[4]BG!$H$3:$H$65))-SUMIF($B$3:B304,B304,$G$3:G304)","v":0},null,null,null,null,null,null,null,null,"",null,null,null,null,null,null,null,null,{"$f":"IF(D304=\"\",\"\",INDEX([4]BG!$A$3:$B$65,MATCH(D304,البند,0),1))","v":""},"",""]
[null,{"$f":"IF(D305=\"\",\"\",INDEX([4]BG!A$3:$A$65,MATCH(D305,البند,0)))","v":""},null,null,null,null,null,null,null,null,null,null,null,null,null,null,null,null,null,null,null,null,null,null,null,null,null,null,null,null,null,null,null,null,null,null,null,null,null,null,null,null,null,{"$f":"IF(B305=\"\",0,LOOKUP(B305,[4]BG!$A$3:$A$65,[4]BG!$H$3:$H$65))-SUMIF($B$3:B305,B305,$G$3:G305)","v":0},null,null,null,null,null,null,null,null,"",null,null,null,null,null,null,null,null,{"$f":"IF(D305=\"\",\"\",INDEX([4]BG!$A$3:$B$65,MATCH(D305,البند,0),1))","v":""},"",""]
[null,{"$f":"IF(D306=\"\",\"\",INDEX([4]BG!A$3:$A$65,MATCH(D306,البند,0)))","v":""},null,null,null,null,null,null,null,null,null,null,null,null,null,null,null,null,null,null,null,null,null,null,null,null,null,null,null,null,null,null,null,null,null,null,null,null,null,null,null,null,null,{"$f":"IF(B306=\"\",0,LOOKUP(B306,[4]BG!$A$3:$A$65,[4]BG!$H$3:$H$65))-SUMIF($B$3:B306,B306,$G$3:G306)","v":0},null,null,null,null,null,null,null,null,"",null,null,null,null,null,null,null,null,{"$f":"IF(D306=\"\",\"\",INDEX([4]BG!$A$3:$B$65,MATCH(D306,البند,0),1))","v":""},"",""]
[null,{"$f":"IF(D307=\"\",\"\",INDEX([4]BG!A$3:$A$65,MATCH(D307,البند,0)))","v":""},null,null,null,null,null,null,null,null,null,null,null,null,null,null,null,null,null,null,null,null,null,null,null,null,null,null,null,null,null,null,null,null,null,null,null,null,null,null,null,null,null,{"$f":"IF(B307=\"\",0,LOOKUP(B307,[4]BG!$A$3:$A$65,[4]BG!$H$3:$H$65))-SUMIF($B$3:B307,B307,$G$3:G307)","v":0},null,null,null,null,null,null,null,null,"",null,null,null,null,null,null,null,null,{"$f":"IF(D307=\"\",\"\",INDEX([4]BG!$A$3:$B$65,MATCH(D307,البند,0),1))","v":""},"",""]
[null,{"$f":"IF(D308=\"\",\"\",INDEX([4]BG!A$3:$A$65,MATCH(D308,البند,0)))","v":""},null,null,null,null,null,null,null,null,null,null,null,null,null,null,null,null,null,null,null,null,null,null,null,null,null,null,null,null,null,null,null,null,null,null,null,null,null,null,null,null,null,{"$f":"IF(B308=\"\",0,LOOKUP(B308,[4]BG!$A$3:$A$65,[4]BG!$H$3:$H$65))-SUMIF($B$3:B308,B308,$G$3:G308)","v":0},null,null,null,null,null,null,null,null,"",null,null,null,null,null,null,null,null,{"$f":"IF(D308=\"\",\"\",INDEX([4]BG!$A$3:$B$65,MATCH(D308,البند,0),1))","v":""},"",""]
[null,{"$f":"IF(D309=\"\",\"\",INDEX([4]BG!A$3:$A$65,MATCH(D309,البند,0)))","v":""},null,null,null,null,null,null,null,null,null,null,null,null,null,null,null,null,null,null,null,null,null,null,null,null,null,null,null,null,null,null,null,null,null,null,null,null,null,null,null,null,null,{"$f":"IF(B309=\"\",0,LOOKUP(B309,[4]BG!$A$3:$A$65,[4]BG!$H$3:$H$65))-SUMIF($B$3:B309,B309,$G$3:G309)","v":0},null,null,null,null,null,null,null,null,{"$f":"IFERROR(LOOKUP(LEFT(AT309,3),$BF$3:$BF$33,$BG$3:$BG$33),\"\")","v":""},null,null,null,null,null,null,null,null,{"$f":"IF(D309=\"\",\"\",INDEX([4]BG!$A$3:$B$65,MATCH(D309,البند,0),1))","v":""},"",""]
[null,{"$f":"IF(D310=\"\",\"\",INDEX([4]BG!A$3:$A$65,MATCH(D310,البند,0)))","v":""},null,null,null,null,null,null,null,null,null,null,null,null,null,null,null,null,null,null,null,null,null,null,null,null,null,null,null,null,null,null,null,null,null,null,null,null,null,null,null,null,null,{"$f":"IF(B310=\"\",0,LOOKUP(B310,[4]BG!$A$3:$A$65,[4]BG!$H$3:$H$65))-SUMIF($B$3:B310,B310,$G$3:G310)","v":0},null,null,null,null,null,null,null,null,"",null,null,null,null,null,null,null,null,{"$f":"IF(D310=\"\",\"\",INDEX([4]BG!$A$3:$B$65,MATCH(D310,البند,0),1))","v":""},"",""]
[null,{"$f":"IF(D311=\"\",\"\",INDEX([4]BG!A$3:$A$65,MATCH(D311,البند,0)))","v":""},null,null,null,null,null,null,null,null,null,null,null,null,null,null,null,null,null,null,null,null,null,null,null,null,null,null,null,null,null,null,null,null,null,null,null,null,null,null,null,null,null,{"$f":"IF(B311=\"\",0,LOOKUP(B311,[4]BG!$A$3:$A$65,[4]BG!$H$3:$H$65))-SUMIF($B$3:B311,B311,$G$3:G311)","v":0},null,null,null,null,null,null,null,null,"",null,null,null,null,null,null,null,null,{"$f":"IF(D311=\"\",\"\",INDEX([4]BG!$A$3:$B$65,MATCH(D311,البند,0),1))","v":""},"",""]
[null,{"$f":"IF(D312=\"\",\"\",INDEX([4]BG!A$3:$A$65,MATCH(D312,البند,0)))","v":""},null,null,null,null,null,null,null,null,null,null,null,null,null,null,null,null,null,null,null,null,null,null,null,null,null,null,null,null,null,null,null,null,null,null,null,null,null,null,null,null,null,{"$f":"IF(B312=\"\",0,LOOKUP(B312,[4]BG!$A$3:$A$65,[4]BG!$H$3:$H$65))-SUMIF($B$3:B312,B312,$G$3:G312)","v":0},null,null,null,null,null,null,null,null,"",null,null,null,null,null,null,null,null,{"$f":"IF(D312=\"\",\"\",INDEX([4]BG!$A$3:$B$65,MATCH(D312,البند,0),1))","v":""},"",""]
[null,{"$f":"IF(D313=\"\",\"\",INDEX([4]BG!A$3:$A$65,MATCH(D313,البند,0)))","v":""},null,null,null,null,null,null,null,null,null,null,null,null,null,null,null,null,null,null,null,null,null,null,null,null,null,null,null,null,null,null,null,null,null,null,null,null,null,null,null,null,null,{"$f":"IF(B313=\"\",0,LOOKUP(B313,[4]BG!$A$3:$A$65,[4]BG!$H$3:$H$65))-SUMIF($B$3:B313,B313,$G$3:G313)","v":0},null,null,null,null,null,null,null,null,"",null,null,null,null,null,null,null,null,{"$f":"IF(D313=\"\",\"\",INDEX([4]BG!$A$3:$B$65,MATCH(D313,البند,0),1))","v":""},"",""]
[null,{"$f":"IF(D314=\"\",\"\",INDEX([4]BG!A$3:$A$65,MATCH(D314,البند,0)))","v":""},null,null,null,null,null,null,null,null,null,null,null,null,null,null,null,null,null,null,null,null,null,null,null,null,null,null,null,null,null,null,null,null,null,null,null,null,null,null,null,null,null,{"$f":"IF(B314=\"\",0,LOOKUP(B314,[4]BG!$A$3:$A$65,[4]BG!$H$3:$H$65))-SUMIF($B$3:B314,B314,$G$3:G314)","v":0},null,null,null,null,null,null,null,null,"",null,null,null,null,null,null,null,null,{"$f":"IF(D314=\"\",\"\",INDEX([4]BG!$A$3:$B$65,MATCH(D314,البند,0),1))","v":""},"",""]
[null,{"$f":"IF(D315=\"\",\"\",INDEX([4]BG!A$3:$A$65,MATCH(D315,البند,0)))","v":""},null,null,null,null,null,null,null,null,null,null,null,null,null,null,null,null,null,null,null,null,null,null,null,null,null,null,null,null,null,null,null,null,null,null,null,null,null,null,null,null,null,{"$f":"IF(B315=\"\",0,LOOKUP(B315,[4]BG!$A$3:$A$65,[4]BG!$H$3:$H$65))-SUMIF($B$3:B315,B315,$G$3:G315)","v":0},null,null,null,null,null,null,null,null,"",null,null,null,null,null,null,null,null,{"$f":"IF(D315=\"\",\"\",INDEX([4]BG!$A$3:$B$65,MATCH(D315,البند,0),1))","v":""},"",""]
[null,{"$f":"IF(D316=\"\",\"\",INDEX([4]BG!A$3:$A$65,MATCH(D316,البند,0)))","v":""},null,null,null,null,null,null,null,null,null,null,null,null,null,null,null,null,null,null,null,null,null,null,null,null,null,null,null,null,null,null,null,null,null,null,null,null,null,null,null,null,null,{"$f":"IF(B316=\"\",0,LOOKUP(B316,[4]BG!$A$3:$A$65,[4]BG!$H$3:$H$65))-SUMIF($B$3:B316,B316,$G$3:G316)","v":0},null,null,null,null,null,null,null,null,"",null,null,null,null,null,null,null,null,{"$f":"IF(D316=\"\",\"\",INDEX([4]BG!$A$3:$B$65,MATCH(D316,البند,0),1))","v":""},"",""]
[null,{"$f":"IF(D317=\"\",\"\",INDEX([4]BG!A$3:$A$65,MATCH(D317,البند,0)))","v":""},null,null,null,null,null,null,null,null,null,null,null,null,null,null,null,null,null,null,null,null,null,null,null,null,null,null,null,null,null,null,null,null,null,null,null,null,null,null,null,null,null,{"$f":"IF(B317=\"\",0,LOOKUP(B317,[4]BG!$A$3:$A$65,[4]BG!$H$3:$H$65))-SUMIF($B$3:B317,B317,$G$3:G317)","v":0},null,null,null,null,null,null,null,null,"",null,null,null,null,null,null,null,null,{"$f":"IF(D317=\"\",\"\",INDEX([4]BG!$A$3:$B$65,MATCH(D317,البند,0),1))","v":""},"",""]
[null,{"$f":"IF(D318=\"\",\"\",INDEX([4]BG!A$3:$A$65,MATCH(D318,البند,0)))","v":""},null,null,null,null,null,null,null,null,null,null,null,null,null,null,null,null,null,null,null,null,null,null,null,null,null,null,null,null,null,null,null,null,null,null,null,null,null,null,null,null,null,{"$f":"IF(B318=\"\",0,LOOKUP(B318,[4]BG!$A$3:$A$65,[4]BG!$H$3:$H$65))-SUMIF($B$3:B318,B318,$G$3:G318)","v":0},null,null,null,null,null,null,null,null,"",null,null,null,null,null,null,null,null,{"$f":"IF(D318=\"\",\"\",INDEX([4]BG!$A$3:$B$65,MATCH(D318,البند,0),1))","v":""},"",""]
[null,{"$f":"IF(D319=\"\",\"\",INDEX([4]BG!A$3:$A$65,MATCH(D319,البند,0)))","v":""},null,null,null,null,null,null,null,null,null,null,null,null,null,null,null,null,null,null,null,null,null,null,null,null,null,null,null,null,null,null,null,null,null,null,null,null,null,null,null,null,null,{"$f":"IF(B319=\"\",0,LOOKUP(B319,[4]BG!$A$3:$A$65,[4]BG!$H$3:$H$65))-SUMIF($B$3:B319,B319,$G$3:G319)","v":0},null,null,null,null,null,null,null,null,"",null,null,null,null,null,null,null,null,{"$f":"IF(D319=\"\",\"\",INDEX([4]BG!$A$3:$B$65,MATCH(D319,البند,0),1))","v":""},"",""]
[null,{"$f":"IF(D320=\"\",\"\",INDEX([4]BG!A$3:$A$65,MATCH(D320,البند,0)))","v":""},null,null,null,null,null,null,null,null,null,null,null,null,null,null,null,null,null,null,null,null,null,null,null,null,null,null,null,null,null,null,null,null,null,null,null,null,null,null,null,null,null,{"$f":"IF(B320=\"\",0,LOOKUP(B320,[4]BG!$A$3:$A$65,[4]BG!$H$3:$H$65))-SUMIF($B$3:B320,B320,$G$3:G320)","v":0},null,null,null,null,null,null,null,null,"",null,null,null,null,null,null,null,null,{"$f":"IF(D320=\"\",\"\",INDEX([4]BG!$A$3:$B$65,MATCH(D320,البند,0),1))","v":""},"",""]
[null,{"$f":"IF(D321=\"\",\"\",INDEX([4]BG!A$3:$A$65,MATCH(D321,البند,0)))","v":""},null,null,null,null,null,null,null,null,null,null,null,null,null,null,null,null,null,null,null,null,null,null,null,null,null,null,null,null,null,null,null,null,null,null,null,null,null,null,null,null,null,{"$f":"IF(B321=\"\",0,LOOKUP(B321,[4]BG!$A$3:$A$65,[4]BG!$H$3:$H$65))-SUMIF($B$3:B321,B321,$G$3:G321)","v":0},null,null,null,null,null,null,null,null,"",null,null,null,null,null,null,null,null,{"$f":"IF(D321=\"\",\"\",INDEX([4]BG!$A$3:$B$65,MATCH(D321,البند,0),1))","v":""},"",""]
[null,{"$f":"IF(D322=\"\",\"\",INDEX([4]BG!A$3:$A$65,MATCH(D322,البند,0)))","v":""},null,null,null,null,null,null,null,null,null,null,null,null,null,null,null,null,null,null,null,null,null,null,null,null,null,null,null,null,null,null,null,null,null,null,null,null,null,null,null,null,null,{"$f":"IF(B322=\"\",0,LOOKUP(B322,[4]BG!$A$3:$A$65,[4]BG!$H$3:$H$65))-SUMIF($B$3:B322,B322,$G$3:G322)","v":0},null,null,null,null,null,null,null,null,"",null,null,null,null,null,null,null,null,{"$f":"IF(D322=\"\",\"\",INDEX([4]BG!$A$3:$B$65,MATCH(D322,البند,0),1))","v":""},"",""]
[null,{"$f":"IF(D323=\"\",\"\",INDEX([4]BG!A$3:$A$65,MATCH(D323,البند,0)))","v":""},null,null,null,null,null,null,null,null,null,null,null,null,null,null,null,null,null,null,null,null,null,null,null,null,null,null,null,null,null,null,null,null,null,null,null,null,null,null,null,null,null,{"$f":"IF(B323=\"\",0,LOOKUP(B323,[4]BG!$A$3:$A$65,[4]BG!$H$3:$H$65))-SUMIF($B$3:B323,B323,$G$3:G323)","v":0},null,null,null,null,null,null,null,null,"",null,null,null,null,null,null,null,null,{"$f":"IF(D323=\"\",\"\",INDEX([4]BG!$A$3:$B$65,MATCH(D323,البند,0),1))","v":""},"",""]
[null,{"$f":"IF(D324=\"\",\"\",INDEX([4]BG!A$3:$A$65,MATCH(D324,البند,0)))","v":""},null,null,null,null,null,null,null,null,null,null,null,null,null,null,null,null,null,null,null,null,null,null,null,null,null,null,null,null,null,null,null,null,null,null,null,null,null,null,null,null,null,{"$f":"IF(B324=\"\",0,LOOKUP(B324,[4]BG!$A$3:$A$65,[4]BG!$H$3:$H$65))-SUMIF($B$3:B324,B324,$G$3:G324)","v":0},null,null,null,null,null,null,null,null,"",null,null,null,null,null,null,null,null,{"$f":"IF(D324=\"\",\"\",INDEX([4]BG!$A$3:$B$65,MATCH(D324,البند,0),1))","v":""},"",""]
[null,{"$f":"IF(D325=\"\",\"\",INDEX([4]BG!A$3:$A$65,MATCH(D325,البند,0)))","v":""},null,null,null,null,null,null,null,null,null,null,null,null,null,null,null,null,null,null,null,null,null,null,null,null,null,null,null,null,null,null,null,null,null,null,null,null,null,null,null,null,null,{"$f":"IF(B325=\"\",0,LOOKUP(B325,[4]BG!$A$3:$A$65,[4]BG!$H$3:$H$65))-SUMIF($B$3:B325,B325,$G$3:G325)","v":0},null,null,null,null,null,null,null,null,"",null,null,null,null,null,null,null,null,{"$f":"IF(D325=\"\",\"\",INDEX([4]BG!$A$3:$B$65,MATCH(D325,البند,0),1))","v":""},{"$f":"RIGHT(BJ325,1)","v":""},""]
[null,{"$f":"IF(D326=\"\",\"\",INDEX([4]BG!A$3:$A$65,MATCH(D326,البند,0)))","v":""},null,null,null,null,null,null,null,null,null,null,null,null,null,null,null,null,null,null,null,null,null,null,null,null,null,null,null,null,null,null,null,null,null,null,null,null,null,null,null,null,null,{"$f":"IF(B326=\"\",0,LOOKUP(B326,[4]BG!$A$3:$A$65,[4]BG!$H$3:$H$65))-SUMIF($B$3:B326,B326,$G$3:G326)","v":0},null,null,null,null,null,null,null,null,"",null,null,null,null,null,null,null,null,{"$f":"IF(D326=\"\",\"\",INDEX([4]BG!$A$3:$B$65,MATCH(D326,البند,0),1))","v":""},"",{"$f":"IF(BJ326=\"\",\"\",LEFT(RIGHT(BJ326,4),2))","v":""}]
[null,{"$f":"IF(D327=\"\",\"\",INDEX([4]BG!A$3:$A$65,MATCH(D327,البند,0)))","v":""},null,null,null,null,null,null,null,null,null,null,null,null,null,null,null,null,null,null,null,null,null,null,null,null,null,null,null,null,null,null,null,null,null,null,null,null,null,null,null,null,null,{"$f":"IF(B327=\"\",0,LOOKUP(B327,[4]BG!$A$3:$A$65,[4]BG!$H$3:$H$65))-SUMIF($B$3:B327,B327,$G$3:G327)","v":0},null,null,null,null,null,null,null,null,"",null,null,null,null,null,null,null,null,{"$f":"IF(D327=\"\",\"\",INDEX([4]BG!$A$3:$B$65,MATCH(D327,البند,0),1))","v":""},"",""]
[null,{"$f":"IF(D328=\"\",\"\",INDEX([4]BG!A$3:$A$65,MATCH(D328,البند,0)))","v":""},null,null,null,null,null,null,null,null,null,null,null,null,null,null,null,null,null,null,null,null,null,null,null,null,null,null,null,null,null,null,null,null,null,null,null,null,null,null,null,null,null,{"$f":"IF(B328=\"\",0,LOOKUP(B328,[4]BG!$A$3:$A$65,[4]BG!$H$3:$H$65))-SUMIF($B$3:B328,B328,$G$3:G328)","v":0},null,null,null,null,null,null,null,null,"",null,null,null,null,null,null,null,null,{"$f":"IF(D328=\"\",\"\",INDEX([4]BG!$A$3:$B$65,MATCH(D328,البند,0),1))","v":""},"",""]
[null,{"$f":"IF(D329=\"\",\"\",INDEX([4]BG!A$3:$A$65,MATCH(D329,البند,0)))","v":""},null,null,null,null,null,null,null,null,null,null,null,null,null,null,null,null,null,null,null,null,null,null,null,null,null,null,null,null,null,null,null,null,null,null,null,null,null,null,null,null,null,{"$f":"IF(B329=\"\",0,LOOKUP(B329,[4]BG!$A$3:$A$65,[4]BG!$H$3:$H$65))-SUMIF($B$3:B329,B329,$G$3:G329)","v":0},null,null,null,null,null,null,null,null,"",null,null,null,null,null,null,null,null,{"$f":"IF(D329=\"\",\"\",INDEX([4]BG!$A$3:$B$65,MATCH(D329,البند,0),1))","v":""},"",""]
[null,{"$f":"IF(D330=\"\",\"\",INDEX([4]BG!A$3:$A$65,MATCH(D330,البند,0)))","v":""},null,null,null,null,null,null,null,null,null,null,null,null,null,null,null,null,null,null,null,null,null,null,null,null,null,null,null,null,null,null,null,null,null,null,null,null,null,null,null,null,null,{"$f":"IF(B330=\"\",0,LOOKUP(B330,[4]BG!$A$3:$A$65,[4]BG!$H$3:$H$65))-SUMIF($B$3:B330,B330,$G$3:G330)","v":0},null,null,null,null,null,null,null,null,"",null,null,null,null,null,null,null,null,{"$f":"IF(D330=\"\",\"\",INDEX([4]BG!$A$3:$B$65,MATCH(D330,البند,0),1))","v":""},"",""]
[null,{"$f":"IF(D331=\"\",\"\",INDEX([4]BG!A$3:$A$65,MATCH(D331,البند,0)))","v":""},null,null,null,null,null,null,null,null,null,null,null,null,null,null,null,null,null,null,null,null,null,null,null,null,null,null,null,null,null,null,null,null,null,null,null,null,null,null,null,null,null,{"$f":"IF(B331=\"\",0,LOOKUP(B331,[4]BG!$A$3:$A$65,[4]BG!$H$3:$H$65))-SUMIF($B$3:B331,B331,$G$3:G331)","v":0},null,null,null,null,null,null,null,null,"",null,null,null,null,null,null,null,null,{"$f":"IF(D331=\"\",\"\",INDEX([4]BG!$A$3:$B$65,MATCH(D331,البند,0),1))","v":""},"",""]
[null,{"$f":"IF(D332=\"\",\"\",INDEX([4]BG!A$3:$A$65,MATCH(D332,البند,0)))","v":""},null,null,null,null,null,null,null,null,null,null,null,null,null,null,null,null,null,null,null,null,null,null,null,null,null,null,null,null,null,null,null,null,null,null,null,null,null,null,null,null,null,{"$f":"IF(B332=\"\",0,LOOKUP(B332,[4]BG!$A$3:$A$65,[4]BG!$H$3:$H$65))-SUMIF($B$3:B332,B332,$G$3:G332)","v":0},null,null,null,null,null,null,null,null,"",null,null,null,null,null,null,null,null,{"$f":"IF(D332=\"\",\"\",INDEX([4]BG!$A$3:$B$65,MATCH(D332,البند,0),1))","v":""},"",""]
[null,{"$f":"IF(D333=\"\",\"\",INDEX([4]BG!A$3:$A$65,MATCH(D333,البند,0)))","v":""},null,null,null,null,null,null,null,null,null,null,null,null,null,null,null,null,null,null,null,null,null,null,null,null,null,null,null,null,null,null,null,null,null,null,null,null,null,null,null,null,null,{"$f":"IF(B333=\"\",0,LOOKUP(B333,[4]BG!$A$3:$A$65,[4]BG!$H$3:$H$65))-SUMIF($B$3:B333,B333,$G$3:G333)","v":0},null,null,null,null,null,null,null,null,"",null,null,null,null,null,null,null,null,{"$f":"IF(D333=\"\",\"\",INDEX([4]BG!$A$3:$B$65,MATCH(D333,البند,0),1))","v":""},"",""]
[null,{"$f":"IF(D334=\"\",\"\",INDEX([4]BG!A$3:$A$65,MATCH(D334,البند,0)))","v":""},null,null,null,null,null,null,null,null,null,null,null,null,null,null,null,null,null,null,null,null,null,null,null,null,null,null,null,null,null,null,null,null,null,null,null,null,null,null,null,null,null,{"$f":"IF(B334=\"\",0,LOOKUP(B334,[4]BG!$A$3:$A$65,[4]BG!$H$3:$H$65))-SUMIF($B$3:B334,B334,$G$3:G334)","v":0},null,null,null,null,null,null,null,null,"",null,null,null,null,null,null,null,null,{"$f":"IF(D334=\"\",\"\",INDEX([4]BG!$A$3:$B$65,MATCH(D334,البند,0),1))","v":""},"",""]
[null,{"$f":"IF(D335=\"\",\"\",INDEX([4]BG!A$3:$A$65,MATCH(D335,البند,0)))","v":""},null,null,null,null,null,null,null,null,null,null,null,null,null,null,null,null,null,null,null,null,null,null,null,null,null,null,null,null,null,null,null,null,null,null,null,null,null,null,null,null,null,{"$f":"IF(B335=\"\",0,LOOKUP(B335,[4]BG!$A$3:$A$65,[4]BG!$H$3:$H$65))-SUMIF($B$3:B335,B335,$G$3:G335)","v":0},null,null,null,null,null,null,null,null,"",null,null,null,null,null,null,null,null,{"$f":"IF(D335=\"\",\"\",INDEX([4]BG!$A$3:$B$65,MATCH(D335,البند,0),1))","v":""},"",""]
[null,{"$f":"IF(D336=\"\",\"\",INDEX([4]BG!A$3:$A$65,MATCH(D336,البند,0)))","v":""},null,null,null,null,null,null,null,null,null,null,null,null,null,null,null,null,null,null,null,null,null,null,null,null,null,null,null,null,null,null,null,null,null,null,null,null,null,null,null,null,null,{"$f":"IF(B336=\"\",0,LOOKUP(B336,[4]BG!$A$3:$A$65,[4]BG!$H$3:$H$65))-SUMIF($B$3:B336,B336,$G$3:G336)","v":0},null,null,null,null,null,null,null,null,"",null,null,null,null,null,null,null,null,{"$f":"IF(D336=\"\",\"\",INDEX([4]BG!$A$3:$B$65,MATCH(D336,البند,0),1))","v":""},"",""]
[null,{"$f":"IF(D337=\"\",\"\",INDEX([4]BG!A$3:$A$65,MATCH(D337,البند,0)))","v":""},null,null,null,null,null,null,null,null,null,null,null,null,null,null,null,null,null,null,null,null,null,null,null,null,null,null,null,null,null,null,null,null,null,null,null,null,null,null,null,null,null,{"$f":"IF(B337=\"\",0,LOOKUP(B337,[4]BG!$A$3:$A$65,[4]BG!$H$3:$H$65))-SUMIF($B$3:B337,B337,$G$3:G337)","v":0},null,null,null,null,null,null,null,null,"",null,null,null,null,null,null,null,null,{"$f":"IF(D337=\"\",\"\",INDEX([4]BG!$A$3:$B$65,MATCH(D337,البند,0),1))","v":""},"",""]
[null,{"$f":"IF(D338=\"\",\"\",INDEX([4]BG!A$3:$A$65,MATCH(D338,البند,0)))","v":""},null,null,null,null,null,null,null,null,null,null,null,null,null,null,null,null,null,null,null,null,null,null,null,null,null,null,null,null,null,null,null,null,null,null,null,null,null,null,null,null,null,{"$f":"IF(B338=\"\",0,LOOKUP(B338,[4]BG!$A$3:$A$65,[4]BG!$H$3:$H$65))-SUMIF($B$3:B338,B338,$G$3:G338)","v":0},null,null,null,null,null,null,null,null,"",null,null,null,null,null,null,null,null,{"$f":"IF(D338=\"\",\"\",INDEX([4]BG!$A$3:$B$65,MATCH(D338,البند,0),1))","v":""},"",""]
[null,{"$f":"IF(D339=\"\",\"\",INDEX([4]BG!A$3:$A$65,MATCH(D339,البند,0)))","v":""},null,null,null,null,null,null,null,null,null,null,null,null,null,null,null,null,null,null,null,null,null,null,null,null,null,null,null,null,null,null,null,null,null,null,null,null,null,null,null,null,null,{"$f":"IF(B339=\"\",0,LOOKUP(B339,[4]BG!$A$3:$A$65,[4]BG!$H$3:$H$65))-SUMIF($B$3:B339,B339,$G$3:G339)","v":0},null,null,null,null,null,null,null,null,"",null,null,null,null,null,null,null,null,{"$f":"IF(D339=\"\",\"\",INDEX([4]BG!$A$3:$B$65,MATCH(D339,البند,0),1))","v":""},"",""]
[null,{"$f":"IF(D340=\"\",\"\",INDEX([4]BG!A$3:$A$65,MATCH(D340,البند,0)))","v":""},null,null,null,null,null,null,null,null,null,null,null,null,null,null,null,null,null,null,null,null,null,null,null,null,null,null,null,null,null,null,null,null,null,null,null,null,null,null,null,null,null,{"$f":"IF(B340=\"\",0,LOOKUP(B340,[4]BG!$A$3:$A$65,[4]BG!$H$3:$H$65))-SUMIF($B$3:B340,B340,$G$3:G340)","v":0},null,null,null,null,null,null,null,null,"",null,null,null,null,null,null,null,null,{"$f":"IF(D340=\"\",\"\",INDEX([4]BG!$A$3:$B$65,MATCH(D340,البند,0),1))","v":""},"",""]
[null,{"$f":"IF(D341=\"\",\"\",INDEX([4]BG!A$3:$A$65,MATCH(D341,البند,0)))","v":""},null,null,null,null,null,null,null,null,null,null,null,null,null,null,null,null,null,null,null,null,null,null,null,null,null,null,null,null,null,null,null,null,null,null,null,null,null,null,null,null,null,{"$f":"IF(B341=\"\",0,LOOKUP(B341,[4]BG!$A$3:$A$65,[4]BG!$H$3:$H$65))-SUMIF($B$3:B341,B341,$G$3:G341)","v":0},null,null,null,null,null,null,null,null,"",null,null,null,null,null,null,null,null,{"$f":"IF(D341=\"\",\"\",INDEX([4]BG!$A$3:$B$65,MATCH(D341,البند,0),1))","v":""},"",""]
[null,{"$f":"IF(D342=\"\",\"\",INDEX([4]BG!A$3:$A$65,MATCH(D342,البند,0)))","v":""},null,null,null,null,null,null,null,null,null,null,null,null,null,null,null,null,null,null,null,null,null,null,null,null,null,null,null,null,null,null,null,null,null,null,null,null,null,null,null,null,null,{"$f":"IF(B342=\"\",0,LOOKUP(B342,[4]BG!$A$3:$A$65,[4]BG!$H$3:$H$65))-SUMIF($B$3:B342,B342,$G$3:G342)","v":0},null,null,null,null,null,null,null,null,"",null,null,null,null,null,null,null,null,{"$f":"IF(D342=\"\",\"\",INDEX([4]BG!$A$3:$B$65,MATCH(D342,البند,0),1))","v":""},"",""]
[null,{"$f":"IF(D343=\"\",\"\",INDEX([4]BG!A$3:$A$65,MATCH(D343,البند,0)))","v":""},null,null,null,null,null,null,null,null,null,null,null,null,null,null,null,null,null,null,null,null,null,null,null,null,null,null,null,null,null,null,null,null,null,null,null,null,null,null,null,null,null,{"$f":"IF(B343=\"\",0,LOOKUP(B343,[4]BG!$A$3:$A$65,[4]BG!$H$3:$H$65))-SUMIF($B$3:B343,B343,$G$3:G343)","v":0},null,null,null,null,null,null,null,null,"",null,null,null,null,null,null,null,null,{"$f":"IF(D343=\"\",\"\",INDEX([4]BG!$A$3:$B$65,MATCH(D343,البند,0),1))","v":""},"",""]
[null,{"$f":"IF(D344=\"\",\"\",INDEX([4]BG!A$3:$A$65,MATCH(D344,البند,0)))","v":""},null,null,null,null,null,null,null,null,null,null,null,null,null,null,null,null,null,null,null,null,null,null,null,null,null,null,null,null,null,null,null,null,null,null,null,null,null,null,null,null,null,{"$f":"IF(B344=\"\",0,LOOKUP(B344,[4]BG!$A$3:$A$65,[4]BG!$H$3:$H$65))-SUMIF($B$3:B344,B344,$G$3:G344)","v":0},null,null,null,null,null,null,null,null,"",null,null,null,null,null,null,null,null,{"$f":"IF(D344=\"\",\"\",INDEX([4]BG!$A$3:$B$65,MATCH(D344,البند,0),1))","v":""},"",""]
[null,{"$f":"IF(D345=\"\",\"\",INDEX([4]BG!A$3:$A$65,MATCH(D345,البند,0)))","v":""},null,null,null,null,null,null,null,null,null,null,null,null,null,null,null,null,null,null,null,null,null,null,null,null,null,null,null,null,null,null,null,null,null,null,null,null,null,null,null,null,null,{"$f":"IF(B345=\"\",0,LOOKUP(B345,[4]BG!$A$3:$A$65,[4]BG!$H$3:$H$65))-SUMIF($B$3:B345,B345,$G$3:G345)","v":0},null,null,null,null,null,null,null,null,"",null,null,null,null,null,null,null,null,{"$f":"IF(D345=\"\",\"\",INDEX([4]BG!$A$3:$B$65,MATCH(D345,البند,0),1))","v":""},"",""]
[null,{"$f":"IF(D346=\"\",\"\",INDEX([4]BG!A$3:$A$65,MATCH(D346,البند,0)))","v":""},null,null,null,null,null,null,null,null,null,null,null,null,null,null,null,null,null,null,null,null,null,null,null,null,null,null,null,null,null,null,null,null,null,null,null,null,null,null,null,null,null,{"$f":"IF(B346=\"\",0,LOOKUP(B346,[4]BG!$A$3:$A$65,[4]BG!$H$3:$H$65))-SUMIF($B$3:B346,B346,$G$3:G346)","v":0},null,null,null,null,null,null,null,null,"",null,null,null,null,null,null,null,null,{"$f":"IF(D346=\"\",\"\",INDEX([4]BG!$A$3:$B$65,MATCH(D346,البند,0),1))","v":""},"",""]
[null,{"$f":"IF(D347=\"\",\"\",INDEX([4]BG!A$3:$A$65,MATCH(D347,البند,0)))","v":""},null,null,null,null,null,null,null,null,null,null,null,null,null,null,null,null,null,null,null,null,null,null,null,null,null,null,null,null,null,null,null,null,null,null,null,null,null,null,null,null,null,{"$f":"IF(B347=\"\",0,LOOKUP(B347,[4]BG!$A$3:$A$65,[4]BG!$H$3:$H$65))-SUMIF($B$3:B347,B347,$G$3:G347)","v":0},null,null,null,null,null,null,null,null,"",null,null,null,null,null,null,null,null,{"$f":"IF(D347=\"\",\"\",INDEX([4]BG!$A$3:$B$65,MATCH(D347,البند,0),1))","v":""},"",""]
[null,{"$f":"IF(D348=\"\",\"\",INDEX([4]BG!A$3:$A$65,MATCH(D348,البند,0)))","v":""},null,null,null,null,null,null,null,null,null,null,null,null,null,null,null,null,null,null,null,null,null,null,null,null,null,null,null,null,null,null,null,null,null,null,null,null,null,null,null,null,null,{"$f":"IF(B348=\"\",0,LOOKUP(B348,[4]BG!$A$3:$A$65,[4]BG!$H$3:$H$65))-SUMIF($B$3:B348,B348,$G$3:G348)","v":0},null,null,null,null,null,null,null,null,"",null,null,null,null,null,null,null,null,{"$f":"IF(D348=\"\",\"\",INDEX([4]BG!$A$3:$B$65,MATCH(D348,البند,0),1))","v":""},"",""]
[null,{"$f":"IF(D349=\"\",\"\",INDEX([4]BG!A$3:$A$65,MATCH(D349,البند,0)))","v":""},null,null,null,null,null,null,null,null,null,null,null,null,null,null,null,null,null,null,null,null,null,null,null,null,null,null,null,null,null,null,null,null,null,null,null,null,null,null,null,null,null,{"$f":"IF(B349=\"\",0,LOOKUP(B349,[4]BG!$A$3:$A$65,[4]BG!$H$3:$H$65))-SUMIF($B$3:B349,B349,$G$3:G349)","v":0},null,null,null,null,null,null,null,null,"",null,null,null,null,null,null,null,null,{"$f":"IF(D349=\"\",\"\",INDEX([4]BG!$A$3:$B$65,MATCH(D349,البند,0),1))","v":""},"",""]
[null,{"$f":"IF(D350=\"\",\"\",INDEX([4]BG!A$3:$A$65,MATCH(D350,البند,0)))","v":""},null,null,null,null,null,null,null,null,null,null,null,null,null,null,null,null,null,null,null,null,null,null,null,null,null,null,null,null,null,null,null,null,null,null,null,null,null,null,null,null,null,{"$f":"IF(B350=\"\",0,LOOKUP(B350,[4]BG!$A$3:$A$65,[4]BG!$H$3:$H$65))-SUMIF($B$3:B350,B350,$G$3:G350)","v":0},null,null,null,null,null,null,null,null,"",null,null,null,null,null,null,null,null,{"$f":"IF(D350=\"\",\"\",INDEX([4]BG!$A$3:$B$65,MATCH(D350,البند,0),1))","v":""},"",""]
[null,{"$f":"IF(D351=\"\",\"\",INDEX([4]BG!A$3:$A$65,MATCH(D351,البند,0)))","v":""},null,null,null,null,null,null,null,null,null,null,null,null,null,null,null,null,null,null,null,null,null,null,null,null,null,null,null,null,null,null,null,null,null,null,null,null,null,null,null,null,null,{"$f":"IF(B351=\"\",0,LOOKUP(B351,[4]BG!$A$3:$A$65,[4]BG!$H$3:$H$65))-SUMIF($B$3:B351,B351,$G$3:G351)","v":0},null,null,null,null,null,null,null,null,"",null,null,null,null,null,null,null,null,{"$f":"IF(D351=\"\",\"\",INDEX([4]BG!$A$3:$B$65,MATCH(D351,البند,0),1))","v":""},"",""]
[null,{"$f":"IF(D352=\"\",\"\",INDEX([4]BG!A$3:$A$65,MATCH(D352,البند,0)))","v":""},null,null,null,null,null,null,null,null,null,null,null,null,null,null,null,null,null,null,null,null,null,null,null,null,null,null,null,null,null,null,null,null,null,null,null,null,null,null,null,null,null,{"$f":"IF(B352=\"\",0,LOOKUP(B352,[4]BG!$A$3:$A$65,[4]BG!$H$3:$H$65))-SUMIF($B$3:B352,B352,$G$3:G352)","v":0},null,null,null,null,null,null,null,null,"",null,null,null,null,null,null,null,null,{"$f":"IF(D352=\"\",\"\",INDEX([4]BG!$A$3:$B$65,MATCH(D352,البند,0),1))","v":""},"",""]
[null,{"$f":"IF(D353=\"\",\"\",INDEX([4]BG!A$3:$A$65,MATCH(D353,البند,0)))","v":""},null,null,null,null,null,null,null,null,null,null,null,null,null,null,null,null,null,null,null,null,null,null,null,null,null,null,null,null,null,null,null,null,null,null,null,null,null,null,null,null,null,{"$f":"IF(B353=\"\",0,LOOKUP(B353,[4]BG!$A$3:$A$65,[4]BG!$H$3:$H$65))-SUMIF($B$3:B353,B353,$G$3:G353)","v":0},null,null,null,null,null,null,null,null,"",null,null,null,null,null,null,null,null,{"$f":"IF(D353=\"\",\"\",INDEX([4]BG!$A$3:$B$65,MATCH(D353,البند,0),1))","v":""},"",""]
[null,{"$f":"IF(D354=\"\",\"\",INDEX([4]BG!A$3:$A$65,MATCH(D354,البند,0)))","v":""},null,null,null,null,null,null,null,null,null,null,null,null,null,null,null,null,null,null,null,null,null,null,null,null,null,null,null,null,null,null,null,null,null,null,null,null,null,null,null,null,null,{"$f":"IF(B354=\"\",0,LOOKUP(B354,[4]BG!$A$3:$A$65,[4]BG!$H$3:$H$65))-SUMIF($B$3:B354,B354,$G$3:G354)","v":0},null,null,null,null,null,null,null,null,"",null,null,null,null,null,null,null,null,{"$f":"IF(D354=\"\",\"\",INDEX([4]BG!$A$3:$B$65,MATCH(D354,البند,0),1))","v":""},"",""]
[null,{"$f":"IF(D355=\"\",\"\",INDEX([4]BG!A$3:$A$65,MATCH(D355,البند,0)))","v":""},null,null,null,null,null,null,null,null,null,null,null,null,null,null,null,null,null,null,null,null,null,null,null,null,null,null,null,null,null,null,null,null,null,null,null,null,null,null,null,null,null,{"$f":"IF(B355=\"\",0,LOOKUP(B355,[4]BG!$A$3:$A$65,[4]BG!$H$3:$H$65))-SUMIF($B$3:B355,B355,$G$3:G355)","v":0},null,null,null,null,null,null,null,null,"",null,null,null,null,null,null,null,null,{"$f":"IF(D355=\"\",\"\",INDEX([4]BG!$A$3:$B$65,MATCH(D355,البند,0),1))","v":""},"",""]
[null,{"$f":"IF(D356=\"\",\"\",INDEX([4]BG!A$3:$A$65,MATCH(D356,البند,0)))","v":""},null,null,null,null,null,null,null,null,null,null,null,null,null,null,null,null,null,null,null,null,null,null,null,null,null,null,null,null,null,null,null,null,null,null,null,null,null,null,null,null,null,{"$f":"IF(B356=\"\",0,LOOKUP(B356,[4]BG!$A$3:$A$65,[4]BG!$H$3:$H$65))-SUMIF($B$3:B356,B356,$G$3:G356)","v":0},null,null,null,null,null,null,null,null,"",null,null,null,null,null,null,null,null,{"$f":"IF(D356=\"\",\"\",INDEX([4]BG!$A$3:$B$65,MATCH(D356,البند,0),1))","v":""},"",""]
[null,{"$f":"IF(D357=\"\",\"\",INDEX([4]BG!A$3:$A$65,MATCH(D357,البند,0)))","v":""},null,null,null,null,null,null,null,null,null,null,null,null,null,null,null,null,null,null,null,null,null,null,null,null,null,null,null,null,null,null,null,null,null,null,null,null,null,null,null,null,null,{"$f":"IF(B357=\"\",0,LOOKUP(B357,[4]BG!$A$3:$A$65,[4]BG!$H$3:$H$65))-SUMIF($B$3:B357,B357,$G$3:G357)","v":0},null,null,null,null,null,null,null,null,"",null,null,null,null,null,null,null,null,{"$f":"IF(D357=\"\",\"\",INDEX([4]BG!$A$3:$B$65,MATCH(D357,البند,0),1))","v":""},"",""]
[null,{"$f":"IF(D358=\"\",\"\",INDEX([4]BG!A$3:$A$65,MATCH(D358,البند,0)))","v":""},null,null,null,null,null,null,null,null,null,null,null,null,null,null,null,null,null,null,null,null,null,null,null,null,null,null,null,null,null,null,null,null,null,null,null,null,null,null,null,null,null,{"$f":"IF(B358=\"\",0,LOOKUP(B358,[4]BG!$A$3:$A$65,[4]BG!$H$3:$H$65))-SUMIF($B$3:B358,B358,$G$3:G358)","v":0},null,null,null,null,null,null,null,null,"",null,null,null,null,null,null,null,null,{"$f":"IF(D358=\"\",\"\",INDEX([4]BG!$A$3:$B$65,MATCH(D358,البند,0),1))","v":""},"",""]
[null,{"$f":"IF(D359=\"\",\"\",INDEX([4]BG!A$3:$A$65,MATCH(D359,البند,0)))","v":""},null,null,null,null,null,null,null,null,null,null,null,null,null,null,null,null,null,null,null,null,null,null,null,null,null,null,null,null,null,null,null,null,null,null,null,null,null,null,null,null,null,{"$f":"IF(B359=\"\",0,LOOKUP(B359,[4]BG!$A$3:$A$65,[4]BG!$H$3:$H$65))-SUMIF($B$3:B359,B359,$G$3:G359)","v":0},null,null,null,null,null,null,null,null,"",null,null,null,null,null,null,null,null,{"$f":"IF(D359=\"\",\"\",INDEX([4]BG!$A$3:$B$65,MATCH(D359,البند,0),1))","v":""},"",""]
[null,{"$f":"IF(D360=\"\",\"\",INDEX([4]BG!A$3:$A$65,MATCH(D360,البند,0)))","v":""},null,null,null,null,null,null,null,null,null,null,null,null,null,null,null,null,null,null,null,null,null,null,null,null,null,null,null,null,null,null,null,null,null,null,null,null,null,null,null,null,null,{"$f":"IF(B360=\"\",0,LOOKUP(B360,[4]BG!$A$3:$A$65,[4]BG!$H$3:$H$65))-SUMIF($B$3:B360,B360,$G$3:G360)","v":0},null,null,null,null,null,null,null,null,"",null,null,null,null,null,null,null,null,{"$f":"IF(D360=\"\",\"\",INDEX([4]BG!$A$3:$B$65,MATCH(D360,البند,0),1))","v":""},"",""]
[null,{"$f":"IF(D361=\"\",\"\",INDEX([4]BG!A$3:$A$65,MATCH(D361,البند,0)))","v":""},null,null,null,null,null,null,null,null,null,null,null,null,null,null,null,null,null,null,null,null,null,null,null,null,null,null,null,null,null,null,null,null,null,null,null,null,null,null,null,null,null,{"$f":"IF(B361=\"\",0,LOOKUP(B361,[4]BG!$A$3:$A$65,[4]BG!$H$3:$H$65))-SUMIF($B$3:B361,B361,$G$3:G361)","v":0},null,null,null,null,null,null,null,null,"",null,null,null,null,null,null,null,null,{"$f":"IF(D361=\"\",\"\",INDEX([4]BG!$A$3:$B$65,MATCH(D361,البند,0),1))","v":""},"",""]
[null,{"$f":"IF(D362=\"\",\"\",INDEX([4]BG!A$3:$A$65,MATCH(D362,البند,0)))","v":""},null,null,null,null,null,null,null,null,null,null,null,null,null,null,null,null,null,null,null,null,null,null,null,null,null,null,null,null,null,null,null,null,null,null,null,null,null,null,null,null,null,{"$f":"IF(B362=\"\",0,LOOKUP(B362,[4]BG!$A$3:$A$65,[4]BG!$H$3:$H$65))-SUMIF($B$3:B362,B362,$G$3:G362)","v":0},null,null,null,null,null,null,null,null,"",null,null,null,null,null,null,null,null,{"$f":"IF(D362=\"\",\"\",INDEX([4]BG!$A$3:$B$65,MATCH(D362,البند,0),1))","v":""},"",""]
[null,{"$f":"IF(D363=\"\",\"\",INDEX([4]BG!A$3:$A$65,MATCH(D363,البند,0)))","v":""},null,null,null,null,null,null,null,null,null,null,null,null,null,null,null,null,null,null,null,null,null,null,null,null,null,null,null,null,null,null,null,null,null,null,null,null,null,null,null,null,null,{"$f":"IF(B363=\"\",0,LOOKUP(B363,[4]BG!$A$3:$A$65,[4]BG!$H$3:$H$65))-SUMIF($B$3:B363,B363,$G$3:G363)","v":0},null,null,null,null,null,null,null,null,"",null,null,null,null,null,null,null,null,{"$f":"IF(D363=\"\",\"\",INDEX([4]BG!$A$3:$B$65,MATCH(D363,البند,0),1))","v":""},"",""]
[null,{"$f":"IF(D364=\"\",\"\",INDEX([4]BG!A$3:$A$65,MATCH(D364,البند,0)))","v":""},null,null,null,null,null,null,null,null,null,null,null,null,null,null,null,null,null,null,null,null,null,null,null,null,null,null,null,null,null,null,null,null,null,null,null,null,null,null,null,null,null,{"$f":"IF(B364=\"\",0,LOOKUP(B364,[4]BG!$A$3:$A$65,[4]BG!$H$3:$H$65))-SUMIF($B$3:B364,B364,$G$3:G364)","v":0},null,null,null,null,null,null,null,null,"",null,null,null,null,null,null,null,null,{"$f":"IF(D364=\"\",\"\",INDEX([4]BG!$A$3:$B$65,MATCH(D364,البند,0),1))","v":""},"",""]
[null,{"$f":"IF(D365=\"\",\"\",INDEX([4]BG!A$3:$A$65,MATCH(D365,البند,0)))","v":""},null,null,null,null,null,null,null,null,null,null,null,null,null,null,null,null,null,null,null,null,null,null,null,null,null,null,null,null,null,null,null,null,null,null,null,null,null,null,null,null,null,{"$f":"IF(B365=\"\",0,LOOKUP(B365,[4]BG!$A$3:$A$65,[4]BG!$H$3:$H$65))-SUMIF($B$3:B365,B365,$G$3:G365)","v":0},null,null,null,null,null,null,null,null,"",null,null,null,null,null,null,null,null,{"$f":"IF(D365=\"\",\"\",INDEX([4]BG!$A$3:$B$65,MATCH(D365,البند,0),1))","v":""},"",""]
[null,{"$f":"IF(D366=\"\",\"\",INDEX([4]BG!A$3:$A$65,MATCH(D366,البند,0)))","v":""},null,null,null,null,null,null,null,null,null,null,null,null,null,null,null,null,null,null,null,null,null,null,null,null,null,null,null,null,null,null,null,null,null,null,null,null,null,null,null,null,null,{"$f":"IF(B366=\"\",0,LOOKUP(B366,[4]BG!$A$3:$A$65,[4]BG!$H$3:$H$65))-SUMIF($B$3:B366,B366,$G$3:G366)","v":0},null,null,null,null,null,null,null,null,"",null,null,null,null,null,null,null,null,{"$f":"IF(D366=\"\",\"\",INDEX([4]BG!$A$3:$B$65,MATCH(D366,البند,0),1))","v":""},"",""]
[null,{"$f":"IF(D367=\"\",\"\",INDEX([4]BG!A$3:$A$65,MATCH(D367,البند,0)))","v":""},null,null,null,null,null,null,null,null,null,null,null,null,null,null,null,null,null,null,null,null,null,null,null,null,null,null,null,null,null,null,null,null,null,null,null,null,null,null,null,null,null,{"$f":"IF(B367=\"\",0,LOOKUP(B367,[4]BG!$A$3:$A$65,[4]BG!$H$3:$H$65))-SUMIF($B$3:B367,B367,$G$3:G367)","v":0},null,null,null,null,null,null,null,null,"",null,null,null,null,null,null,null,null,{"$f":"IF(D367=\"\",\"\",INDEX([4]BG!$A$3:$B$65,MATCH(D367,البند,0),1))","v":""},"",""]
[null,{"$f":"IF(D368=\"\",\"\",INDEX([4]BG!A$3:$A$65,MATCH(D368,البند,0)))","v":""},null,null,null,null,null,null,null,null,null,null,null,null,null,null,null,null,null,null,null,null,null,null,null,null,null,null,null,null,null,null,null,null,null,null,null,null,null,null,null,null,null,{"$f":"IF(B368=\"\",0,LOOKUP(B368,[4]BG!$A$3:$A$65,[4]BG!$H$3:$H$65))-SUMIF($B$3:B368,B368,$G$3:G368)","v":0},null,null,null,null,null,null,null,null,"",null,null,null,null,null,null,null,null,{"$f":"IF(D368=\"\",\"\",INDEX([4]BG!$A$3:$B$65,MATCH(D368,البند,0),1))","v":""},"",""]
[null,{"$f":"IF(D369=\"\",\"\",INDEX([4]BG!A$3:$A$65,MATCH(D369,البند,0)))","v":""},null,null,null,null,null,null,null,null,null,null,null,null,null,null,null,null,null,null,null,null,null,null,null,null,null,null,null,null,null,null,null,null,null,null,null,null,null,null,null,null,null,{"$f":"IF(B369=\"\",0,LOOKUP(B369,[4]BG!$A$3:$A$65,[4]BG!$H$3:$H$65))-SUMIF($B$3:B369,B369,$G$3:G369)","v":0},null,null,null,null,null,null,null,null,"",null,null,null,null,null,null,null,null,{"$f":"IF(D369=\"\",\"\",INDEX([4]BG!$A$3:$B$65,MATCH(D369,البند,0),1))","v":""},"",""]
[null,{"$f":"IF(D370=\"\",\"\",INDEX([4]BG!A$3:$A$65,MATCH(D370,البند,0)))","v":""},null,null,null,null,null,null,null,null,null,null,null,null,null,null,null,null,null,null,null,null,null,null,null,null,null,null,null,null,null,null,null,null,null,null,null,null,null,null,null,null,null,{"$f":"IF(B370=\"\",0,LOOKUP(B370,[4]BG!$A$3:$A$65,[4]BG!$H$3:$H$65))-SUMIF($B$3:B370,B370,$G$3:G370)","v":0},null,null,null,null,null,null,null,null,"",null,null,null,null,null,null,null,null,{"$f":"IF(D370=\"\",\"\",INDEX([4]BG!$A$3:$B$65,MATCH(D370,البند,0),1))","v":""},"",""]
[null,{"$f":"IF(D371=\"\",\"\",INDEX([4]BG!A$3:$A$65,MATCH(D371,البند,0)))","v":""},null,null,null,null,null,null,null,null,null,null,null,null,null,null,null,null,null,null,null,null,null,null,null,null,null,null,null,null,null,null,null,null,null,null,null,null,null,null,null,null,null,{"$f":"IF(B371=\"\",0,LOOKUP(B371,[4]BG!$A$3:$A$65,[4]BG!$H$3:$H$65))-SUMIF($B$3:B371,B371,$G$3:G371)","v":0},null,null,null,null,null,null,null,null,"",null,null,null,null,null,null,null,null,{"$f":"IF(D371=\"\",\"\",INDEX([4]BG!$A$3:$B$65,MATCH(D371,البند,0),1))","v":""},"",""]
[null,{"$f":"IF(D372=\"\",\"\",INDEX([4]BG!A$3:$A$65,MATCH(D372,البند,0)))","v":""},null,null,null,null,null,null,null,null,null,null,null,null,null,null,null,null,null,null,null,null,null,null,null,null,null,null,null,null,null,null,null,null,null,null,null,null,null,null,null,null,null,{"$f":"IF(B372=\"\",0,LOOKUP(B372,[4]BG!$A$3:$A$65,[4]BG!$H$3:$H$65))-SUMIF($B$3:B372,B372,$G$3:G372)","v":0},null,null,null,null,null,null,null,null,"",null,null,null,null,null,null,null,null,{"$f":"IF(D372=\"\",\"\",INDEX([4]BG!$A$3:$B$65,MATCH(D372,البند,0),1))","v":""},"",""]
[null,{"$f":"IF(D373=\"\",\"\",INDEX([4]BG!A$3:$A$65,MATCH(D373,البند,0)))","v":""},null,null,null,null,null,null,null,null,null,null,null,null,null,null,null,null,null,null,null,null,null,null,null,null,null,null,null,null,null,null,null,null,null,null,null,null,null,null,null,null,null,{"$f":"IF(B373=\"\",0,LOOKUP(B373,[4]BG!$A$3:$A$65,[4]BG!$H$3:$H$65))-SUMIF($B$3:B373,B373,$G$3:G373)","v":0},null,null,null,null,null,null,null,null,{"$f":"IFERROR(LOOKUP(LEFT(AT373,3),$BF$3:$BF$33,$BG$3:$BG$33),\"\")","v":""},null,null,null,null,null,null,null,null,{"$f":"IF(D373=\"\",\"\",INDEX([4]BG!$A$3:$B$65,MATCH(D373,البند,0),1))","v":""},"",""]
[null,{"$f":"IF(D374=\"\",\"\",INDEX([4]BG!A$3:$A$65,MATCH(D374,البند,0)))","v":""},null,null,null,null,null,null,null,null,null,null,null,null,null,null,null,null,null,null,null,null,null,null,null,null,null,null,null,null,null,null,null,null,null,null,null,null,null,null,null,null,null,{"$f":"IF(B374=\"\",0,LOOKUP(B374,[4]BG!$A$3:$A$65,[4]BG!$H$3:$H$65))-SUMIF($B$3:B374,B374,$G$3:G374)","v":0},null,null,null,null,null,null,null,null,"",null,null,null,null,null,null,null,null,{"$f":"IF(D374=\"\",\"\",INDEX([4]BG!$A$3:$B$65,MATCH(D374,البند,0),1))","v":""},"",""]
[null,{"$f":"IF(D375=\"\",\"\",INDEX([4]BG!A$3:$A$65,MATCH(D375,البند,0)))","v":""},null,null,null,null,null,null,null,null,null,null,null,null,null,null,null,null,null,null,null,null,null,null,null,null,null,null,null,null,null,null,null,null,null,null,null,null,null,null,null,null,null,{"$f":"IF(B375=\"\",0,LOOKUP(B375,[4]BG!$A$3:$A$65,[4]BG!$H$3:$H$65))-SUMIF($B$3:B375,B375,$G$3:G375)","v":0},null,null,null,null,null,null,null,null,"",null,null,null,null,null,null,null,null,{"$f":"IF(D375=\"\",\"\",INDEX([4]BG!$A$3:$B$65,MATCH(D375,البند,0),1))","v":""},"",""]
[null,{"$f":"IF(D376=\"\",\"\",INDEX([4]BG!A$3:$A$65,MATCH(D376,البند,0)))","v":""},null,null,null,null,null,null,null,null,null,null,null,null,null,null,null,null,null,null,null,null,null,null,null,null,null,null,null,null,null,null,null,null,null,null,null,null,null,null,null,null,null,{"$f":"IF(B376=\"\",0,LOOKUP(B376,[4]BG!$A$3:$A$65,[4]BG!$H$3:$H$65))-SUMIF($B$3:B376,B376,$G$3:G376)","v":0},null,null,null,null,null,null,null,null,"",null,null,null,null,null,null,null,null,{"$f":"IF(D376=\"\",\"\",INDEX([4]BG!$A$3:$B$65,MATCH(D376,البند,0),1))","v":""},"",""]
[null,{"$f":"IF(D377=\"\",\"\",INDEX([4]BG!A$3:$A$65,MATCH(D377,البند,0)))","v":""},null,null,null,null,null,null,null,null,null,null,null,null,null,null,null,null,null,null,null,null,null,null,null,null,null,null,null,null,null,null,null,null,null,null,null,null,null,null,null,null,null,{"$f":"IF(B377=\"\",0,LOOKUP(B377,[4]BG!$A$3:$A$65,[4]BG!$H$3:$H$65))-SUMIF($B$3:B377,B377,$G$3:G377)","v":0},null,null,null,null,null,null,null,null,"",null,null,null,null,null,null,null,null,{"$f":"IF(D377=\"\",\"\",INDEX([4]BG!$A$3:$B$65,MATCH(D377,البند,0),1))","v":""},"",""]
[null,{"$f":"IF(D378=\"\",\"\",INDEX([4]BG!A$3:$A$65,MATCH(D378,البند,0)))","v":""},null,null,null,null,null,null,null,null,null,null,null,null,null,null,null,null,null,null,null,null,null,null,null,null,null,null,null,null,null,null,null,null,null,null,null,null,null,null,null,null,null,{"$f":"IF(B378=\"\",0,LOOKUP(B378,[4]BG!$A$3:$A$65,[4]BG!$H$3:$H$65))-SUMIF($B$3:B378,B378,$G$3:G378)","v":0},null,null,null,null,null,null,null,null,"",null,null,null,null,null,null,null,null,{"$f":"IF(D378=\"\",\"\",INDEX([4]BG!$A$3:$B$65,MATCH(D378,البند,0),1))","v":""},"",""]
[null,{"$f":"IF(D379=\"\",\"\",INDEX([4]BG!A$3:$A$65,MATCH(D379,البند,0)))","v":""},null,null,null,null,null,null,null,null,null,null,null,null,null,null,null,null,null,null,null,null,null,null,null,null,null,null,null,null,null,null,null,null,null,null,null,null,null,null,null,null,null,{"$f":"IF(B379=\"\",0,LOOKUP(B379,[4]BG!$A$3:$A$65,[4]BG!$H$3:$H$65))-SUMIF($B$3:B379,B379,$G$3:G379)","v":0},null,null,null,null,null,null,null,null,"",null,null,null,null,null,null,null,null,{"$f":"IF(D379=\"\",\"\",INDEX([4]BG!$A$3:$B$65,MATCH(D379,البند,0),1))","v":""},"",""]
[null,{"$f":"IF(D380=\"\",\"\",INDEX([4]BG!A$3:$A$65,MATCH(D380,البند,0)))","v":""},null,null,null,null,null,null,null,null,null,null,null,null,null,null,null,null,null,null,null,null,null,null,null,null,null,null,null,null,null,null,null,null,null,null,null,null,null,null,null,null,null,{"$f":"IF(B380=\"\",0,LOOKUP(B380,[4]BG!$A$3:$A$65,[4]BG!$H$3:$H$65))-SUMIF($B$3:B380,B380,$G$3:G380)","v":0},null,null,null,null,null,null,null,null,"",null,null,null,null,null,null,null,null,{"$f":"IF(D380=\"\",\"\",INDEX([4]BG!$A$3:$B$65,MATCH(D380,البند,0),1))","v":""},"",""]
[null,{"$f":"IF(D381=\"\",\"\",INDEX([4]BG!A$3:$A$65,MATCH(D381,البند,0)))","v":""},null,null,null,null,null,null,null,null,null,null,null,null,null,null,null,null,null,null,null,null,null,null,null,null,null,null,null,null,null,null,null,null,null,null,null,null,null,null,null,null,null,{"$f":"IF(B381=\"\",0,LOOKUP(B381,[4]BG!$A$3:$A$65,[4]BG!$H$3:$H$65))-SUMIF($B$3:B381,B381,$G$3:G381)","v":0},null,null,null,null,null,null,null,null,"",null,null,null,null,null,null,null,null,{"$f":"IF(D381=\"\",\"\",INDEX([4]BG!$A$3:$B$65,MATCH(D381,البند,0),1))","v":""},"",""]
[null,{"$f":"IF(D382=\"\",\"\",INDEX([4]BG!A$3:$A$65,MATCH(D382,البند,0)))","v":""},null,null,null,null,null,null,null,null,null,null,null,null,null,null,null,null,null,null,null,null,null,null,null,null,null,null,null,null,null,null,null,null,null,null,null,null,null,null,null,null,null,{"$f":"IF(B382=\"\",0,LOOKUP(B382,[4]BG!$A$3:$A$65,[4]BG!$H$3:$H$65))-SUMIF($B$3:B382,B382,$G$3:G382)","v":0},null,null,null,null,null,null,null,null,"",null,null,null,null,null,null,null,null,{"$f":"IF(D382=\"\",\"\",INDEX([4]BG!$A$3:$B$65,MATCH(D382,البند,0),1))","v":""},"",""]
[null,{"$f":"IF(D383=\"\",\"\",INDEX([4]BG!A$3:$A$65,MATCH(D383,البند,0)))","v":""},null,null,null,null,null,null,null,null,null,null,null,null,null,null,null,null,null,null,null,null,null,null,null,null,null,null,null,null,null,null,null,null,null,null,null,null,null,null,null,null,null,{"$f":"IF(B383=\"\",0,LOOKUP(B383,[4]BG!$A$3:$A$65,[4]BG!$H$3:$H$65))-SUMIF($B$3:B383,B383,$G$3:G383)","v":0},null,null,null,null,null,null,null,null,"",null,null,null,null,null,null,null,null,{"$f":"IF(D383=\"\",\"\",INDEX([4]BG!$A$3:$B$65,MATCH(D383,البند,0),1))","v":""},"",""]
[null,{"$f":"IF(D384=\"\",\"\",INDEX([4]BG!A$3:$A$65,MATCH(D384,البند,0)))","v":""},null,null,null,null,null,null,null,null,null,null,null,null,null,null,null,null,null,null,null,null,null,null,null,null,null,null,null,null,null,null,null,null,null,null,null,null,null,null,null,null,null,{"$f":"IF(B384=\"\",0,LOOKUP(B384,[4]BG!$A$3:$A$65,[4]BG!$H$3:$H$65))-SUMIF($B$3:B384,B384,$G$3:G384)","v":0},null,null,null,null,null,null,null,null,"",null,null,null,null,null,null,null,null,{"$f":"IF(D384=\"\",\"\",INDEX([4]BG!$A$3:$B$65,MATCH(D384,البند,0),1))","v":""},"",""]
[null,{"$f":"IF(D385=\"\",\"\",INDEX([4]BG!A$3:$A$65,MATCH(D385,البند,0)))","v":""},null,null,null,null,null,null,null,null,null,null,null,null,null,null,null,null,null,null,null,null,null,null,null,null,null,null,null,null,null,null,null,null,null,null,null,null,null,null,null,null,null,{"$f":"IF(B385=\"\",0,LOOKUP(B385,[4]BG!$A$3:$A$65,[4]BG!$H$3:$H$65))-SUMIF($B$3:B385,B385,$G$3:G385)","v":0},null,null,null,null,null,null,null,null,"",null,null,null,null,null,null,null,null,{"$f":"IF(D385=\"\",\"\",INDEX([4]BG!$A$3:$B$65,MATCH(D385,البند,0),1))","v":""},"",""]
[null,{"$f":"IF(D386=\"\",\"\",INDEX([4]BG!A$3:$A$65,MATCH(D386,البند,0)))","v":""},null,null,null,null,null,null,null,null,null,null,null,null,null,null,null,null,null,null,null,null,null,null,null,null,null,null,null,null,null,null,null,null,null,null,null,null,null,null,null,null,null,{"$f":"IF(B386=\"\",0,LOOKUP(B386,[4]BG!$A$3:$A$65,[4]BG!$H$3:$H$65))-SUMIF($B$3:B386,B386,$G$3:G386)","v":0},null,null,null,null,null,null,null,null,"",null,null,null,null,null,null,null,null,{"$f":"IF(D386=\"\",\"\",INDEX([4]BG!$A$3:$B$65,MATCH(D386,البند,0),1))","v":""},"",""]
[null,{"$f":"IF(D387=\"\",\"\",INDEX([4]BG!A$3:$A$65,MATCH(D387,البند,0)))","v":""},null,null,null,null,null,null,null,null,null,null,null,null,null,null,null,null,null,null,null,null,null,null,null,null,null,null,null,null,null,null,null,null,null,null,null,null,null,null,null,null,null,{"$f":"IF(B387=\"\",0,LOOKUP(B387,[4]BG!$A$3:$A$65,[4]BG!$H$3:$H$65))-SUMIF($B$3:B387,B387,$G$3:G387)","v":0},null,null,null,null,null,null,null,null,"",null,null,null,null,null,null,null,null,{"$f":"IF(D387=\"\",\"\",INDEX([4]BG!$A$3:$B$65,MATCH(D387,البند,0),1))","v":""},"",""]
[null,{"$f":"IF(D388=\"\",\"\",INDEX([4]BG!A$3:$A$65,MATCH(D388,البند,0)))","v":""},null,null,null,null,null,null,null,null,null,null,null,null,null,null,null,null,null,null,null,null,null,null,null,null,null,null,null,null,null,null,null,null,null,null,null,null,null,null,null,null,null,{"$f":"IF(B388=\"\",0,LOOKUP(B388,[4]BG!$A$3:$A$65,[4]BG!$H$3:$H$65))-SUMIF($B$3:B388,B388,$G$3:G388)","v":0},null,null,null,null,null,null,null,null,"",null,null,null,null,null,null,null,null,{"$f":"IF(D388=\"\",\"\",INDEX([4]BG!$A$3:$B$65,MATCH(D388,البند,0),1))","v":""},"",""]
[null,{"$f":"IF(D389=\"\",\"\",INDEX([4]BG!A$3:$A$65,MATCH(D389,البند,0)))","v":""},null,null,null,null,null,null,null,null,null,null,null,null,null,null,null,null,null,null,null,null,null,null,null,null,null,null,null,null,null,null,null,null,null,null,null,null,null,null,null,null,null,{"$f":"IF(B389=\"\",0,LOOKUP(B389,[4]BG!$A$3:$A$65,[4]BG!$H$3:$H$65))-SUMIF($B$3:B389,B389,$G$3:G389)","v":0},null,null,null,null,null,null,null,null,"",null,null,null,null,null,null,null,null,{"$f":"IF(D389=\"\",\"\",INDEX([4]BG!$A$3:$B$65,MATCH(D389,البند,0),1))","v":""},{"$f":"RIGHT(BJ389,1)","v":""},""]
[null,{"$f":"IF(D390=\"\",\"\",INDEX([4]BG!A$3:$A$65,MATCH(D390,البند,0)))","v":""},null,null,null,null,null,null,null,null,null,null,null,null,null,null,null,null,null,null,null,null,null,null,null,null,null,null,null,null,null,null,null,null,null,null,null,null,null,null,null,null,null,{"$f":"IF(B390=\"\",0,LOOKUP(B390,[4]BG!$A$3:$A$65,[4]BG!$H$3:$H$65))-SUMIF($B$3:B390,B390,$G$3:G390)","v":0},null,null,null,null,null,null,null,null,"",null,null,null,null,null,null,null,null,{"$f":"IF(D390=\"\",\"\",INDEX([4]BG!$A$3:$B$65,MATCH(D390,البند,0),1))","v":""},"",{"$f":"IF(BJ390=\"\",\"\",LEFT(RIGHT(BJ390,4),2))","v":""}]
[null,{"$f":"IF(D391=\"\",\"\",INDEX([4]BG!A$3:$A$65,MATCH(D391,البند,0)))","v":""},null,null,null,null,null,null,null,null,null,null,null,null,null,null,null,null,null,null,null,null,null,null,null,null,null,null,null,null,null,null,null,null,null,null,null,null,null,null,null,null,null,{"$f":"IF(B391=\"\",0,LOOKUP(B391,[4]BG!$A$3:$A$65,[4]BG!$H$3:$H$65))-SUMIF($B$3:B391,B391,$G$3:G391)","v":0},null,null,null,null,null,null,null,null,"",null,null,null,null,null,null,null,null,{"$f":"IF(D391=\"\",\"\",INDEX([4]BG!$A$3:$B$65,MATCH(D391,البند,0),1))","v":""},"",""]
[null,{"$f":"IF(D392=\"\",\"\",INDEX([4]BG!A$3:$A$65,MATCH(D392,البند,0)))","v":""},null,null,null,null,null,null,null,null,null,null,null,null,null,null,null,null,null,null,null,null,null,null,null,null,null,null,null,null,null,null,null,null,null,null,null,null,null,null,null,null,null,{"$f":"IF(B392=\"\",0,LOOKUP(B392,[4]BG!$A$3:$A$65,[4]BG!$H$3:$H$65))-SUMIF($B$3:B392,B392,$G$3:G392)","v":0},null,null,null,null,null,null,null,null,"",null,null,null,null,null,null,null,null,{"$f":"IF(D392=\"\",\"\",INDEX([4]BG!$A$3:$B$65,MATCH(D392,البند,0),1))","v":""},"",""]
[null,{"$f":"IF(D393=\"\",\"\",INDEX([4]BG!A$3:$A$65,MATCH(D393,البند,0)))","v":""},null,null,null,null,null,null,null,null,null,null,null,null,null,null,null,null,null,null,null,null,null,null,null,null,null,null,null,null,null,null,null,null,null,null,null,null,null,null,null,null,null,{"$f":"IF(B393=\"\",0,LOOKUP(B393,[4]BG!$A$3:$A$65,[4]BG!$H$3:$H$65))-SUMIF($B$3:B393,B393,$G$3:G393)","v":0},null,null,null,null,null,null,null,null,"",null,null,null,null,null,null,null,null,{"$f":"IF(D393=\"\",\"\",INDEX([4]BG!$A$3:$B$65,MATCH(D393,البند,0),1))","v":""},"",""]
[null,{"$f":"IF(D394=\"\",\"\",INDEX([4]BG!A$3:$A$65,MATCH(D394,البند,0)))","v":""},null,null,null,null,null,null,null,null,null,null,null,null,null,null,null,null,null,null,null,null,null,null,null,null,null,null,null,null,null,null,null,null,null,null,null,null,null,null,null,null,null,{"$f":"IF(B394=\"\",0,LOOKUP(B394,[4]BG!$A$3:$A$65,[4]BG!$H$3:$H$65))-SUMIF($B$3:B394,B394,$G$3:G394)","v":0},null,null,null,null,null,null,null,null,"",null,null,null,null,null,null,null,null,{"$f":"IF(D394=\"\",\"\",INDEX([4]BG!$A$3:$B$65,MATCH(D394,البند,0),1))","v":""},"",""]
[null,{"$f":"IF(D395=\"\",\"\",INDEX([4]BG!A$3:$A$65,MATCH(D395,البند,0)))","v":""},null,null,null,null,null,null,null,null,null,null,null,null,null,null,null,null,null,null,null,null,null,null,null,null,null,null,null,null,null,null,null,null,null,null,null,null,null,null,null,null,null,{"$f":"IF(B395=\"\",0,LOOKUP(B395,[4]BG!$A$3:$A$65,[4]BG!$H$3:$H$65))-SUMIF($B$3:B395,B395,$G$3:G395)","v":0},null,null,null,null,null,null,null,null,"",null,null,null,null,null,null,null,null,{"$f":"IF(D395=\"\",\"\",INDEX([4]BG!$A$3:$B$65,MATCH(D395,البند,0),1))","v":""},"",""]
[null,{"$f":"IF(D396=\"\",\"\",INDEX([4]BG!A$3:$A$65,MATCH(D396,البند,0)))","v":""},null,null,null,null,null,null,null,null,null,null,null,null,null,null,null,null,null,null,null,null,null,null,null,null,null,null,null,null,null,null,null,null,null,null,null,null,null,null,null,null,null,{"$f":"IF(B396=\"\",0,LOOKUP(B396,[4]BG!$A$3:$A$65,[4]BG!$H$3:$H$65))-SUMIF($B$3:B396,B396,$G$3:G396)","v":0},null,null,null,null,null,null,null,null,"",null,null,null,null,null,null,null,null,{"$f":"IF(D396=\"\",\"\",INDEX([4]BG!$A$3:$B$65,MATCH(D396,البند,0),1))","v":""},"",""]
[null,{"$f":"IF(D397=\"\",\"\",INDEX([4]BG!A$3:$A$65,MATCH(D397,البند,0)))","v":""},null,null,null,null,null,null,null,null,null,null,null,null,null,null,null,null,null,null,null,null,null,null,null,null,null,null,null,null,null,null,null,null,null,null,null,null,null,null,null,null,null,{"$f":"IF(B397=\"\",0,LOOKUP(B397,[4]BG!$A$3:$A$65,[4]BG!$H$3:$H$65))-SUMIF($B$3:B397,B397,$G$3:G397)","v":0},null,null,null,null,null,null,null,null,"",null,null,null,null,null,null,null,null,{"$f":"IF(D397=\"\",\"\",INDEX([4]BG!$A$3:$B$65,MATCH(D397,البند,0),1))","v":""},"",""]
[null,{"$f":"IF(D398=\"\",\"\",INDEX([4]BG!A$3:$A$65,MATCH(D398,البند,0)))","v":""},null,null,null,null,null,null,null,null,null,null,null,null,null,null,null,null,null,null,null,null,null,null,null,null,null,null,null,null,null,null,null,null,null,null,null,null,null,null,null,null,null,{"$f":"IF(B398=\"\",0,LOOKUP(B398,[4]BG!$A$3:$A$65,[4]BG!$H$3:$H$65))-SUMIF($B$3:B398,B398,$G$3:G398)","v":0},null,null,null,null,null,null,null,null,"",null,null,null,null,null,null,null,null,{"$f":"IF(D398=\"\",\"\",INDEX([4]BG!$A$3:$B$65,MATCH(D398,البند,0),1))","v":""},"",""]
[null,{"$f":"IF(D399=\"\",\"\",INDEX([4]BG!A$3:$A$65,MATCH(D399,البند,0)))","v":""},null,null,null,null,null,null,null,null,null,null,null,null,null,null,null,null,null,null,null,null,null,null,null,null,null,null,null,null,null,null,null,null,null,null,null,null,null,null,null,null,null,{"$f":"IF(B399=\"\",0,LOOKUP(B399,[4]BG!$A$3:$A$65,[4]BG!$H$3:$H$65))-SUMIF($B$3:B399,B399,$G$3:G399)","v":0},null,null,null,null,null,null,null,null,"",null,null,null,null,null,null,null,null,{"$f":"IF(D399=\"\",\"\",INDEX([4]BG!$A$3:$B$65,MATCH(D399,البند,0),1))","v":""},"",""]
[null,{"$f":"IF(D400=\"\",\"\",INDEX([4]BG!A$3:$A$65,MATCH(D400,البند,0)))","v":""},null,null,null,null,null,null,null,null,null,null,null,null,null,null,null,null,null,null,null,null,null,null,null,null,null,null,null,null,null,null,null,null,null,null,null,null,null,null,null,null,null,{"$f":"IF(B400=\"\",0,LOOKUP(B400,[4]BG!$A$3:$A$65,[4]BG!$H$3:$H$65))-SUMIF($B$3:B400,B400,$G$3:G400)","v":0},null,null,null,null,null,null,null,null,"",null,null,null,null,null,null,null,null,{"$f":"IF(D400=\"\",\"\",INDEX([4]BG!$A$3:$B$65,MATCH(D400,البند,0),1))","v":""},"",""]
[null,{"$f":"IF(D401=\"\",\"\",INDEX([4]BG!A$3:$A$65,MATCH(D401,البند,0)))","v":""},null,null,null,null,null,null,null,null,null,null,null,null,null,null,null,null,null,null,null,null,null,null,null,null,null,null,null,null,null,null,null,null,null,null,null,null,null,null,null,null,null,{"$f":"IF(B401=\"\",0,LOOKUP(B401,[4]BG!$A$3:$A$65,[4]BG!$H$3:$H$65))-SUMIF($B$3:B401,B401,$G$3:G401)","v":0},null,null,null,null,null,null,null,null,"",null,null,null,null,null,null,null,null,{"$f":"IF(D401=\"\",\"\",INDEX([4]BG!$A$3:$B$65,MATCH(D401,البند,0),1))","v":""},"",""]
[null,{"$f":"IF(D402=\"\",\"\",INDEX([4]BG!A$3:$A$65,MATCH(D402,البند,0)))","v":""},null,null,null,null,null,null,null,null,null,null,null,null,null,null,null,null,null,null,null,null,null,null,null,null,null,null,null,null,null,null,null,null,null,null,null,null,null,null,null,null,null,{"$f":"IF(B402=\"\",0,LOOKUP(B402,[4]BG!$A$3:$A$65,[4]BG!$H$3:$H$65))-SUMIF($B$3:B402,B402,$G$3:G402)","v":0},null,null,null,null,null,null,null,null,"",null,null,null,null,null,null,null,null,{"$f":"IF(D402=\"\",\"\",INDEX([4]BG!$A$3:$B$65,MATCH(D402,البند,0),1))","v":""},"",""]
[null,{"$f":"IF(D403=\"\",\"\",INDEX([4]BG!A$3:$A$65,MATCH(D403,البند,0)))","v":""},null,null,null,null,null,null,null,null,null,null,null,null,null,null,null,null,null,null,null,null,null,null,null,null,null,null,null,null,null,null,null,null,null,null,null,null,null,null,null,null,null,{"$f":"IF(B403=\"\",0,LOOKUP(B403,[4]BG!$A$3:$A$65,[4]BG!$H$3:$H$65))-SUMIF($B$3:B403,B403,$G$3:G403)","v":0},null,null,null,null,null,null,null,null,"",null,null,null,null,null,null,null,null,{"$f":"IF(D403=\"\",\"\",INDEX([4]BG!$A$3:$B$65,MATCH(D403,البند,0),1))","v":""},"",""]
[null,{"$f":"IF(D404=\"\",\"\",INDEX([4]BG!A$3:$A$65,MATCH(D404,البند,0)))","v":""},null,null,null,null,null,null,null,null,null,null,null,null,null,null,null,null,null,null,null,null,null,null,null,null,null,null,null,null,null,null,null,null,null,null,null,null,null,null,null,null,null,{"$f":"IF(B404=\"\",0,LOOKUP(B404,[4]BG!$A$3:$A$65,[4]BG!$H$3:$H$65))-SUMIF($B$3:B404,B404,$G$3:G404)","v":0},null,null,null,null,null,null,null,null,"",null,null,null,null,null,null,null,null,{"$f":"IF(D404=\"\",\"\",INDEX([4]BG!$A$3:$B$65,MATCH(D404,البند,0),1))","v":""},"",""]
[null,{"$f":"IF(D405=\"\",\"\",INDEX([4]BG!A$3:$A$65,MATCH(D405,البند,0)))","v":""},null,null,null,null,null,null,null,null,null,null,null,null,null,null,null,null,null,null,null,null,null,null,null,null,null,null,null,null,null,null,null,null,null,null,null,null,null,null,null,null,null,{"$f":"IF(B405=\"\",0,LOOKUP(B405,[4]BG!$A$3:$A$65,[4]BG!$H$3:$H$65))-SUMIF($B$3:B405,B405,$G$3:G405)","v":0},null,null,null,null,null,null,null,null,"",null,null,null,null,null,null,null,null,{"$f":"IF(D405=\"\",\"\",INDEX([4]BG!$A$3:$B$65,MATCH(D405,البند,0),1))","v":""},"",""]
[null,{"$f":"IF(D406=\"\",\"\",INDEX([4]BG!A$3:$A$65,MATCH(D406,البند,0)))","v":""},null,null,null,null,null,null,null,null,null,null,null,null,null,null,null,null,null,null,null,null,null,null,null,null,null,null,null,null,null,null,null,null,null,null,null,null,null,null,null,null,null,{"$f":"IF(B406=\"\",0,LOOKUP(B406,[4]BG!$A$3:$A$65,[4]BG!$H$3:$H$65))-SUMIF($B$3:B406,B406,$G$3:G406)","v":0},null,null,null,null,null,null,null,null,"",null,null,null,null,null,null,null,null,{"$f":"IF(D406=\"\",\"\",INDEX([4]BG!$A$3:$B$65,MATCH(D406,البند,0),1))","v":""},"",""]
[null,{"$f":"IF(D407=\"\",\"\",INDEX([4]BG!A$3:$A$65,MATCH(D407,البند,0)))","v":""},null,null,null,null,null,null,null,null,null,null,null,null,null,null,null,null,null,null,null,null,null,null,null,null,null,null,null,null,null,null,null,null,null,null,null,null,null,null,null,null,null,{"$f":"IF(B407=\"\",0,LOOKUP(B407,[4]BG!$A$3:$A$65,[4]BG!$H$3:$H$65))-SUMIF($B$3:B407,B407,$G$3:G407)","v":0},null,null,null,null,null,null,null,null,"",null,null,null,null,null,null,null,null,{"$f":"IF(D407=\"\",\"\",INDEX([4]BG!$A$3:$B$65,MATCH(D407,البند,0),1))","v":""},"",""]
[null,{"$f":"IF(D408=\"\",\"\",INDEX([4]BG!A$3:$A$65,MATCH(D408,البند,0)))","v":""},null,null,null,null,null,null,null,null,null,null,null,null,null,null,null,null,null,null,null,null,null,null,null,null,null,null,null,null,null,null,null,null,null,null,null,null,null,null,null,null,null,{"$f":"IF(B408=\"\",0,LOOKUP(B408,[4]BG!$A$3:$A$65,[4]BG!$H$3:$H$65))-SUMIF($B$3:B408,B408,$G$3:G408)","v":0},null,null,null,null,null,null,null,null,"",null,null,null,null,null,null,null,null,{"$f":"IF(D408=\"\",\"\",INDEX([4]BG!$A$3:$B$65,MATCH(D408,البند,0),1))","v":""},"",""]
[null,{"$f":"IF(D409=\"\",\"\",INDEX([4]BG!A$3:$A$65,MATCH(D409,البند,0)))","v":""},null,null,null,null,null,null,null,null,null,null,null,null,null,null,null,null,null,null,null,null,null,null,null,null,null,null,null,null,null,null,null,null,null,null,null,null,null,null,null,null,null,{"$f":"IF(B409=\"\",0,LOOKUP(B409,[4]BG!$A$3:$A$65,[4]BG!$H$3:$H$65))-SUMIF($B$3:B409,B409,$G$3:G409)","v":0},null,null,null,null,null,null,null,null,"",null,null,null,null,null,null,null,null,{"$f":"IF(D409=\"\",\"\",INDEX([4]BG!$A$3:$B$65,MATCH(D409,البند,0),1))","v":""},"",""]
[null,{"$f":"IF(D410=\"\",\"\",INDEX([4]BG!A$3:$A$65,MATCH(D410,البند,0)))","v":""},null,null,null,null,null,null,null,null,null,null,null,null,null,null,null,null,null,null,null,null,null,null,null,null,null,null,null,null,null,null,null,null,null,null,null,null,null,null,null,null,null,{"$f":"IF(B410=\"\",0,LOOKUP(B410,[4]BG!$A$3:$A$65,[4]BG!$H$3:$H$65))-SUMIF($B$3:B410,B410,$G$3:G410)","v":0},null,null,null,null,null,null,null,null,"",null,null,null,null,null,null,null,null,{"$f":"IF(D410=\"\",\"\",INDEX([4]BG!$A$3:$B$65,MATCH(D410,البند,0),1))","v":""},"",""]
[null,{"$f":"IF(D411=\"\",\"\",INDEX([4]BG!A$3:$A$65,MATCH(D411,البند,0)))","v":""},null,null,null,null,null,null,null,null,null,null,null,null,null,null,null,null,null,null,null,null,null,null,null,null,null,null,null,null,null,null,null,null,null,null,null,null,null,null,null,null,null,{"$f":"IF(B411=\"\",0,LOOKUP(B411,[4]BG!$A$3:$A$65,[4]BG!$H$3:$H$65))-SUMIF($B$3:B411,B411,$G$3:G411)","v":0},null,null,null,null,null,null,null,null,"",null,null,null,null,null,null,null,null,{"$f":"IF(D411=\"\",\"\",INDEX([4]BG!$A$3:$B$65,MATCH(D411,البند,0),1))","v":""},"",""]
[null,{"$f":"IF(D412=\"\",\"\",INDEX([4]BG!A$3:$A$65,MATCH(D412,البند,0)))","v":""},null,null,null,null,null,null,null,null,null,null,null,null,null,null,null,null,null,null,null,null,null,null,null,null,null,null,null,null,null,null,null,null,null,null,null,null,null,null,null,null,null,{"$f":"IF(B412=\"\",0,LOOKUP(B412,[4]BG!$A$3:$A$65,[4]BG!$H$3:$H$65))-SUMIF($B$3:B412,B412,$G$3:G412)","v":0},null,null,null,null,null,null,null,null,"",null,null,null,null,null,null,null,null,{"$f":"IF(D412=\"\",\"\",INDEX([4]BG!$A$3:$B$65,MATCH(D412,البند,0),1))","v":""},"",""]
[null,{"$f":"IF(D413=\"\",\"\",INDEX([4]BG!A$3:$A$65,MATCH(D413,البند,0)))","v":""},null,null,null,null,null,null,null,null,null,null,null,null,null,null,null,null,null,null,null,null,null,null,null,null,null,null,null,null,null,null,null,null,null,null,null,null,null,null,null,null,null,{"$f":"IF(B413=\"\",0,LOOKUP(B413,[4]BG!$A$3:$A$65,[4]BG!$H$3:$H$65))-SUMIF($B$3:B413,B413,$G$3:G413)","v":0},null,null,null,null,null,null,null,null,"",null,null,null,null,null,null,null,null,{"$f":"IF(D413=\"\",\"\",INDEX([4]BG!$A$3:$B$65,MATCH(D413,البند,0),1))","v":""},"",""]
[null,{"$f":"IF(D414=\"\",\"\",INDEX([4]BG!A$3:$A$65,MATCH(D414,البند,0)))","v":""},null,null,null,null,null,null,null,null,null,null,null,null,null,null,null,null,null,null,null,null,null,null,null,null,null,null,null,null,null,null,null,null,null,null,null,null,null,null,null,null,null,{"$f":"IF(B414=\"\",0,LOOKUP(B414,[4]BG!$A$3:$A$65,[4]BG!$H$3:$H$65))-SUMIF($B$3:B414,B414,$G$3:G414)","v":0},null,null,null,null,null,null,null,null,"",null,null,null,null,null,null,null,null,{"$f":"IF(D414=\"\",\"\",INDEX([4]BG!$A$3:$B$65,MATCH(D414,البند,0),1))","v":""},"",""]
[null,{"$f":"IF(D415=\"\",\"\",INDEX([4]BG!A$3:$A$65,MATCH(D415,البند,0)))","v":""},null,null,null,null,null,null,null,null,null,null,null,null,null,null,null,null,null,null,null,null,null,null,null,null,null,null,null,null,null,null,null,null,null,null,null,null,null,null,null,null,null,{"$f":"IF(B415=\"\",0,LOOKUP(B415,[4]BG!$A$3:$A$65,[4]BG!$H$3:$H$65))-SUMIF($B$3:B415,B415,$G$3:G415)","v":0},null,null,null,null,null,null,null,null,"",null,null,null,null,null,null,null,null,{"$f":"IF(D415=\"\",\"\",INDEX([4]BG!$A$3:$B$65,MATCH(D415,البند,0),1))","v":""},"",""]
[null,{"$f":"IF(D416=\"\",\"\",INDEX([4]BG!A$3:$A$65,MATCH(D416,البند,0)))","v":""},null,null,null,null,null,null,null,null,null,null,null,null,null,null,null,null,null,null,null,null,null,null,null,null,null,null,null,null,null,null,null,null,null,null,null,null,null,null,null,null,null,{"$f":"IF(B416=\"\",0,LOOKUP(B416,[4]BG!$A$3:$A$65,[4]BG!$H$3:$H$65))-SUMIF($B$3:B416,B416,$G$3:G416)","v":0},null,null,null,null,null,null,null,null,"",null,null,null,null,null,null,null,null,{"$f":"IF(D416=\"\",\"\",INDEX([4]BG!$A$3:$B$65,MATCH(D416,البند,0),1))","v":""},"",""]
[null,{"$f":"IF(D417=\"\",\"\",INDEX([4]BG!A$3:$A$65,MATCH(D417,البند,0)))","v":""},null,null,null,null,null,null,null,null,null,null,null,null,null,null,null,null,null,null,null,null,null,null,null,null,null,null,null,null,null,null,null,null,null,null,null,null,null,null,null,null,null,{"$f":"IF(B417=\"\",0,LOOKUP(B417,[4]BG!$A$3:$A$65,[4]BG!$H$3:$H$65))-SUMIF($B$3:B417,B417,$G$3:G417)","v":0},null,null,null,null,null,null,null,null,"",null,null,null,null,null,null,null,null,{"$f":"IF(D417=\"\",\"\",INDEX([4]BG!$A$3:$B$65,MATCH(D417,البند,0),1))","v":""},"",""]
[null,{"$f":"IF(D418=\"\",\"\",INDEX([4]BG!A$3:$A$65,MATCH(D418,البند,0)))","v":""},null,null,null,null,null,null,null,null,null,null,null,null,null,null,null,null,null,null,null,null,null,null,null,null,null,null,null,null,null,null,null,null,null,null,null,null,null,null,null,null,null,{"$f":"IF(B418=\"\",0,LOOKUP(B418,[4]BG!$A$3:$A$65,[4]BG!$H$3:$H$65))-SUMIF($B$3:B418,B418,$G$3:G418)","v":0},null,null,null,null,null,null,null,null,"",null,null,null,null,null,null,null,null,{"$f":"IF(D418=\"\",\"\",INDEX([4]BG!$A$3:$B$65,MATCH(D418,البند,0),1))","v":""},"",""]
[null,{"$f":"IF(D419=\"\",\"\",INDEX([4]BG!A$3:$A$65,MATCH(D419,البند,0)))","v":""},null,null,null,null,null,null,null,null,null,null,null,null,null,null,null,null,null,null,null,null,null,null,null,null,null,null,null,null,null,null,null,null,null,null,null,null,null,null,null,null,null,{"$f":"IF(B419=\"\",0,LOOKUP(B419,[4]BG!$A$3:$A$65,[4]BG!$H$3:$H$65))-SUMIF($B$3:B419,B419,$G$3:G419)","v":0},null,null,null,null,null,null,null,null,"",null,null,null,null,null,null,null,null,{"$f":"IF(D419=\"\",\"\",INDEX([4]BG!$A$3:$B$65,MATCH(D419,البند,0),1))","v":""},"",""]
[null,{"$f":"IF(D420=\"\",\"\",INDEX([4]BG!A$3:$A$65,MATCH(D420,البند,0)))","v":""},null,null,null,null,null,null,null,null,null,null,null,null,null,null,null,null,null,null,null,null,null,null,null,null,null,null,null,null,null,null,null,null,null,null,null,null,null,null,null,null,null,{"$f":"IF(B420=\"\",0,LOOKUP(B420,[4]BG!$A$3:$A$65,[4]BG!$H$3:$H$65))-SUMIF($B$3:B420,B420,$G$3:G420)","v":0},null,null,null,null,null,null,null,null,"",null,null,null,null,null,null,null,null,{"$f":"IF(D420=\"\",\"\",INDEX([4]BG!$A$3:$B$65,MATCH(D420,البند,0),1))","v":""},"",""]
[null,{"$f":"IF(D421=\"\",\"\",INDEX([4]BG!A$3:$A$65,MATCH(D421,البند,0)))","v":""},null,null,null,null,null,null,null,null,null,null,null,null,null,null,null,null,null,null,null,null,null,null,null,null,null,null,null,null,null,null,null,null,null,null,null,null,null,null,null,null,null,{"$f":"IF(B421=\"\",0,LOOKUP(B421,[4]BG!$A$3:$A$65,[4]BG!$H$3:$H$65))-SUMIF($B$3:B421,B421,$G$3:G421)","v":0},null,null,null,null,null,null,null,null,"",null,null,null,null,null,null,null,null,{"$f":"IF(D421=\"\",\"\",INDEX([4]BG!$A$3:$B$65,MATCH(D421,البند,0),1))","v":""},"",""]
[null,{"$f":"IF(D422=\"\",\"\",INDEX([4]BG!A$3:$A$65,MATCH(D422,البند,0)))","v":""},null,null,null,null,null,null,null,null,null,null,null,null,null,null,null,null,null,null,null,null,null,null,null,null,null,null,null,null,null,null,null,null,null,null,null,null,null,null,null,null,null,{"$f":"IF(B422=\"\",0,LOOKUP(B422,[4]BG!$A$3:$A$65,[4]BG!$H$3:$H$65))-SUMIF($B$3:B422,B422,$G$3:G422)","v":0},null,null,null,null,null,null,null,null,"",null,null,null,null,null,null,null,null,{"$f":"IF(D422=\"\",\"\",INDEX([4]BG!$A$3:$B$65,MATCH(D422,البند,0),1))","v":""},"",""]
[null,{"$f":"IF(D423=\"\",\"\",INDEX([4]BG!A$3:$A$65,MATCH(D423,البند,0)))","v":""},null,null,null,null,null,null,null,null,null,null,null,null,null,null,null,null,null,null,null,null,null,null,null,null,null,null,null,null,null,null,null,null,null,null,null,null,null,null,null,null,null,{"$f":"IF(B423=\"\",0,LOOKUP(B423,[4]BG!$A$3:$A$65,[4]BG!$H$3:$H$65))-SUMIF($B$3:B423,B423,$G$3:G423)","v":0},null,null,null,null,null,null,null,null,"",null,null,null,null,null,null,null,null,{"$f":"IF(D423=\"\",\"\",INDEX([4]BG!$A$3:$B$65,MATCH(D423,البند,0),1))","v":""},"",""]
[null,{"$f":"IF(D424=\"\",\"\",INDEX([4]BG!A$3:$A$65,MATCH(D424,البند,0)))","v":""},null,null,null,null,null,null,null,null,null,null,null,null,null,null,null,null,null,null,null,null,null,null,null,null,null,null,null,null,null,null,null,null,null,null,null,null,null,null,null,null,null,{"$f":"IF(B424=\"\",0,LOOKUP(B424,[4]BG!$A$3:$A$65,[4]BG!$H$3:$H$65))-SUMIF($B$3:B424,B424,$G$3:G424)","v":0},null,null,null,null,null,null,null,null,"",null,null,null,null,null,null,null,null,{"$f":"IF(D424=\"\",\"\",INDEX([4]BG!$A$3:$B$65,MATCH(D424,البند,0),1))","v":""},"",""]
[null,{"$f":"IF(D425=\"\",\"\",INDEX([4]BG!A$3:$A$65,MATCH(D425,البند,0)))","v":""},null,null,null,null,null,null,null,null,null,null,null,null,null,null,null,null,null,null,null,null,null,null,null,null,null,null,null,null,null,null,null,null,null,null,null,null,null,null,null,null,null,{"$f":"IF(B425=\"\",0,LOOKUP(B425,[4]BG!$A$3:$A$65,[4]BG!$H$3:$H$65))-SUMIF($B$3:B425,B425,$G$3:G425)","v":0},null,null,null,null,null,null,null,null,"",null,null,null,null,null,null,null,null,{"$f":"IF(D425=\"\",\"\",INDEX([4]BG!$A$3:$B$65,MATCH(D425,البند,0),1))","v":""},"",""]
[null,{"$f":"IF(D426=\"\",\"\",INDEX([4]BG!A$3:$A$65,MATCH(D426,البند,0)))","v":""},null,null,null,null,null,null,null,null,null,null,null,null,null,null,null,null,null,null,null,null,null,null,null,null,null,null,null,null,null,null,null,null,null,null,null,null,null,null,null,null,null,{"$f":"IF(B426=\"\",0,LOOKUP(B426,[4]BG!$A$3:$A$65,[4]BG!$H$3:$H$65))-SUMIF($B$3:B426,B426,$G$3:G426)","v":0},null,null,null,null,null,null,null,null,"",null,null,null,null,null,null,null,null,{"$f":"IF(D426=\"\",\"\",INDEX([4]BG!$A$3:$B$65,MATCH(D426,البند,0),1))","v":""},"",""]
[null,{"$f":"IF(D427=\"\",\"\",INDEX([4]BG!A$3:$A$65,MATCH(D427,البند,0)))","v":""},null,null,null,null,null,null,null,null,null,null,null,null,null,null,null,null,null,null,null,null,null,null,null,null,null,null,null,null,null,null,null,null,null,null,null,null,null,null,null,null,null,{"$f":"IF(B427=\"\",0,LOOKUP(B427,[4]BG!$A$3:$A$65,[4]BG!$H$3:$H$65))-SUMIF($B$3:B427,B427,$G$3:G427)","v":0},null,null,null,null,null,null,null,null,"",null,null,null,null,null,null,null,null,{"$f":"IF(D427=\"\",\"\",INDEX([4]BG!$A$3:$B$65,MATCH(D427,البند,0),1))","v":""},"",""]
[null,{"$f":"IF(D428=\"\",\"\",INDEX([4]BG!A$3:$A$65,MATCH(D428,البند,0)))","v":""},null,null,null,null,null,null,null,null,null,null,null,null,null,null,null,null,null,null,null,null,null,null,null,null,null,null,null,null,null,null,null,null,null,null,null,null,null,null,null,null,null,{"$f":"IF(B428=\"\",0,LOOKUP(B428,[4]BG!$A$3:$A$65,[4]BG!$H$3:$H$65))-SUMIF($B$3:B428,B428,$G$3:G428)","v":0},null,null,null,null,null,null,null,null,"",null,null,null,null,null,null,null,null,{"$f":"IF(D428=\"\",\"\",INDEX([4]BG!$A$3:$B$65,MATCH(D428,البند,0),1))","v":""},"",""]
[null,{"$f":"IF(D429=\"\",\"\",INDEX([4]BG!A$3:$A$65,MATCH(D429,البند,0)))","v":""},null,null,null,null,null,null,null,null,null,null,null,null,null,null,null,null,null,null,null,null,null,null,null,null,null,null,null,null,null,null,null,null,null,null,null,null,null,null,null,null,null,{"$f":"IF(B429=\"\",0,LOOKUP(B429,[4]BG!$A$3:$A$65,[4]BG!$H$3:$H$65))-SUMIF($B$3:B429,B429,$G$3:G429)","v":0},null,null,null,null,null,null,null,null,"",null,null,null,null,null,null,null,null,{"$f":"IF(D429=\"\",\"\",INDEX([4]BG!$A$3:$B$65,MATCH(D429,البند,0),1))","v":""},"",""]
[null,{"$f":"IF(D430=\"\",\"\",INDEX([4]BG!A$3:$A$65,MATCH(D430,البند,0)))","v":""},null,null,null,null,null,null,null,null,null,null,null,null,null,null,null,null,null,null,null,null,null,null,null,null,null,null,null,null,null,null,null,null,null,null,null,null,null,null,null,null,null,{"$f":"IF(B430=\"\",0,LOOKUP(B430,[4]BG!$A$3:$A$65,[4]BG!$H$3:$H$65))-SUMIF($B$3:B430,B430,$G$3:G430)","v":0},null,null,null,null,null,null,null,null,"",null,null,null,null,null,null,null,null,{"$f":"IF(D430=\"\",\"\",INDEX([4]BG!$A$3:$B$65,MATCH(D430,البند,0),1))","v":""},"",""]
[null,{"$f":"IF(D431=\"\",\"\",INDEX([4]BG!A$3:$A$65,MATCH(D431,البند,0)))","v":""},null,null,null,null,null,null,null,null,null,null,null,null,null,null,null,null,null,null,null,null,null,null,null,null,null,null,null,null,null,null,null,null,null,null,null,null,null,null,null,null,null,{"$f":"IF(B431=\"\",0,LOOKUP(B431,[4]BG!$A$3:$A$65,[4]BG!$H$3:$H$65))-SUMIF($B$3:B431,B431,$G$3:G431)","v":0},null,null,null,null,null,null,null,null,"",null,null,null,null,null,null,null,null,{"$f":"IF(D431=\"\",\"\",INDEX([4]BG!$A$3:$B$65,MATCH(D431,البند,0),1))","v":""},"",""]
[null,{"$f":"IF(D432=\"\",\"\",INDEX([4]BG!A$3:$A$65,MATCH(D432,البند,0)))","v":""},null,null,null,null,null,null,null,null,null,null,null,null,null,null,null,null,null,null,null,null,null,null,null,null,null,null,null,null,null,null,null,null,null,null,null,null,null,null,null,null,null,{"$f":"IF(B432=\"\",0,LOOKUP(B432,[4]BG!$A$3:$A$65,[4]BG!$H$3:$H$65))-SUMIF($B$3:B432,B432,$G$3:G432)","v":0},null,null,null,null,null,null,null,null,"",null,null,null,null,null,null,null,null,{"$f":"IF(D432=\"\",\"\",INDEX([4]BG!$A$3:$B$65,MATCH(D432,البند,0),1))","v":""},"",""]
[null,{"$f":"IF(D433=\"\",\"\",INDEX([4]BG!A$3:$A$65,MATCH(D433,البند,0)))","v":""},null,null,null,null,null,null,null,null,null,null,null,null,null,null,null,null,null,null,null,null,null,null,null,null,null,null,null,null,null,null,null,null,null,null,null,null,null,null,null,null,null,{"$f":"IF(B433=\"\",0,LOOKUP(B433,[4]BG!$A$3:$A$65,[4]BG!$H$3:$H$65))-SUMIF($B$3:B433,B433,$G$3:G433)","v":0},null,null,null,null,null,null,null,null,"",null,null,null,null,null,null,null,null,{"$f":"IF(D433=\"\",\"\",INDEX([4]BG!$A$3:$B$65,MATCH(D433,البند,0),1))","v":""},"",""]
[null,{"$f":"IF(D434=\"\",\"\",INDEX([4]BG!A$3:$A$65,MATCH(D434,البند,0)))","v":""},null,null,null,null,null,null,null,null,null,null,null,null,null,null,null,null,null,null,null,null,null,null,null,null,null,null,null,null,null,null,null,null,null,null,null,null,null,null,null,null,null,{"$f":"IF(B434=\"\",0,LOOKUP(B434,[4]BG!$A$3:$A$65,[4]BG!$H$3:$H$65))-SUMIF($B$3:B434,B434,$G$3:G434)","v":0},null,null,null,null,null,null,null,null,"",null,null,null,null,null,null,null,null,{"$f":"IF(D434=\"\",\"\",INDEX([4]BG!$A$3:$B$65,MATCH(D434,البند,0),1))","v":""},"",""]
[null,{"$f":"IF(D435=\"\",\"\",INDEX([4]BG!A$3:$A$65,MATCH(D435,البند,0)))","v":""},null,null,null,null,null,null,null,null,null,null,null,null,null,null,null,null,null,null,null,null,null,null,null,null,null,null,null,null,null,null,null,null,null,null,null,null,null,null,null,null,null,{"$f":"IF(B435=\"\",0,LOOKUP(B435,[4]BG!$A$3:$A$65,[4]BG!$H$3:$H$65))-SUMIF($B$3:B435,B435,$G$3:G435)","v":0},null,null,null,null,null,null,null,null,"",null,null,null,null,null,null,null,null,{"$f":"IF(D435=\"\",\"\",INDEX([4]BG!$A$3:$B$65,MATCH(D435,البند,0),1))","v":""},"",""]
[null,{"$f":"IF(D436=\"\",\"\",INDEX([4]BG!A$3:$A$65,MATCH(D436,البند,0)))","v":""},null,null,null,null,null,null,null,null,null,null,null,null,null,null,null,null,null,null,null,null,null,null,null,null,null,null,null,null,null,null,null,null,null,null,null,null,null,null,null,null,null,{"$f":"IF(B436=\"\",0,LOOKUP(B436,[4]BG!$A$3:$A$65,[4]BG!$H$3:$H$65))-SUMIF($B$3:B436,B436,$G$3:G436)","v":0},null,null,null,null,null,null,null,null,"",null,null,null,null,null,null,null,null,{"$f":"IF(D436=\"\",\"\",INDEX([4]BG!$A$3:$B$65,MATCH(D436,البند,0),1))","v":""},"",""]
[null,{"$f":"IF(D437=\"\",\"\",INDEX([4]BG!A$3:$A$65,MATCH(D437,البند,0)))","v":""},null,null,null,null,null,null,null,null,null,null,null,null,null,null,null,null,null,null,null,null,null,null,null,null,null,null,null,null,null,null,null,null,null,null,null,null,null,null,null,null,null,{"$f":"IF(B437=\"\",0,LOOKUP(B437,[4]BG!$A$3:$A$65,[4]BG!$H$3:$H$65))-SUMIF($B$3:B437,B437,$G$3:G437)","v":0},null,null,null,null,null,null,null,null,{"$f":"IFERROR(LOOKUP(LEFT(AT437,3),$BF$3:$BF$33,$BG$3:$BG$33),\"\")","v":""},null,null,null,null,null,null,null,null,{"$f":"IF(D437=\"\",\"\",INDEX([4]BG!$A$3:$B$65,MATCH(D437,البند,0),1))","v":""},"",""]
[null,{"$f":"IF(D438=\"\",\"\",INDEX([4]BG!A$3:$A$65,MATCH(D438,البند,0)))","v":""},null,null,null,null,null,null,null,null,null,null,null,null,null,null,null,null,null,null,null,null,null,null,null,null,null,null,null,null,null,null,null,null,null,null,null,null,null,null,null,null,null,{"$f":"IF(B438=\"\",0,LOOKUP(B438,[4]BG!$A$3:$A$65,[4]BG!$H$3:$H$65))-SUMIF($B$3:B438,B438,$G$3:G438)","v":0},null,null,null,null,null,null,null,null,"",null,null,null,null,null,null,null,null,{"$f":"IF(D438=\"\",\"\",INDEX([4]BG!$A$3:$B$65,MATCH(D438,البند,0),1))","v":""},"",""]
[null,{"$f":"IF(D439=\"\",\"\",INDEX([4]BG!A$3:$A$65,MATCH(D439,البند,0)))","v":""},null,null,null,null,null,null,null,null,null,null,null,null,null,null,null,null,null,null,null,null,null,null,null,null,null,null,null,null,null,null,null,null,null,null,null,null,null,null,null,null,null,{"$f":"IF(B439=\"\",0,LOOKUP(B439,[4]BG!$A$3:$A$65,[4]BG!$H$3:$H$65))-SUMIF($B$3:B439,B439,$G$3:G439)","v":0},null,null,null,null,null,null,null,null,"",null,null,null,null,null,null,null,null,{"$f":"IF(D439=\"\",\"\",INDEX([4]BG!$A$3:$B$65,MATCH(D439,البند,0),1))","v":""},"",""]
[null,{"$f":"IF(D440=\"\",\"\",INDEX([4]BG!A$3:$A$65,MATCH(D440,البند,0)))","v":""},null,null,null,null,null,null,null,null,null,null,null,null,null,null,null,null,null,null,null,null,null,null,null,null,null,null,null,null,null,null,null,null,null,null,null,null,null,null,null,null,null,{"$f":"IF(B440=\"\",0,LOOKUP(B440,[4]BG!$A$3:$A$65,[4]BG!$H$3:$H$65))-SUMIF($B$3:B440,B440,$G$3:G440)","v":0},null,null,null,null,null,null,null,null,"",null,null,null,null,null,null,null,null,{"$f":"IF(D440=\"\",\"\",INDEX([4]BG!$A$3:$B$65,MATCH(D440,البند,0),1))","v":""},"",""]
[null,{"$f":"IF(D441=\"\",\"\",INDEX([4]BG!A$3:$A$65,MATCH(D441,البند,0)))","v":""},null,null,null,null,null,null,null,null,null,null,null,null,null,null,null,null,null,null,null,null,null,null,null,null,null,null,null,null,null,null,null,null,null,null,null,null,null,null,null,null,null,{"$f":"IF(B441=\"\",0,LOOKUP(B441,[4]BG!$A$3:$A$65,[4]BG!$H$3:$H$65))-SUMIF($B$3:B441,B441,$G$3:G441)","v":0},null,null,null,null,null,null,null,null,"",null,null,null,null,null,null,null,null,{"$f":"IF(D441=\"\",\"\",INDEX([4]BG!$A$3:$B$65,MATCH(D441,البند,0),1))","v":""},"",""]
[null,{"$f":"IF(D442=\"\",\"\",INDEX([4]BG!A$3:$A$65,MATCH(D442,البند,0)))","v":""},null,null,null,null,null,null,null,null,null,null,null,null,null,null,null,null,null,null,null,null,null,null,null,null,null,null,null,null,null,null,null,null,null,null,null,null,null,null,null,null,null,{"$f":"IF(B442=\"\",0,LOOKUP(B442,[4]BG!$A$3:$A$65,[4]BG!$H$3:$H$65))-SUMIF($B$3:B442,B442,$G$3:G442)","v":0},null,null,null,null,null,null,null,null,"",null,null,null,null,null,null,null,null,{"$f":"IF(D442=\"\",\"\",INDEX([4]BG!$A$3:$B$65,MATCH(D442,البند,0),1))","v":""},"",""]
[null,{"$f":"IF(D443=\"\",\"\",INDEX([4]BG!A$3:$A$65,MATCH(D443,البند,0)))","v":""},null,null,null,null,null,null,null,null,null,null,null,null,null,null,null,null,null,null,null,null,null,null,null,null,null,null,null,null,null,null,null,null,null,null,null,null,null,null,null,null,null,{"$f":"IF(B443=\"\",0,LOOKUP(B443,[4]BG!$A$3:$A$65,[4]BG!$H$3:$H$65))-SUMIF($B$3:B443,B443,$G$3:G443)","v":0},null,null,null,null,null,null,null,null,"",null,null,null,null,null,null,null,null,{"$f":"IF(D443=\"\",\"\",INDEX([4]BG!$A$3:$B$65,MATCH(D443,البند,0),1))","v":""},"",""]
[null,{"$f":"IF(D444=\"\",\"\",INDEX([4]BG!A$3:$A$65,MATCH(D444,البند,0)))","v":""},null,null,null,null,null,null,null,null,null,null,null,null,null,null,null,null,null,null,null,null,null,null,null,null,null,null,null,null,null,null,null,null,null,null,null,null,null,null,null,null,null,{"$f":"IF(B444=\"\",0,LOOKUP(B444,[4]BG!$A$3:$A$65,[4]BG!$H$3:$H$65))-SUMIF($B$3:B444,B444,$G$3:G444)","v":0},null,null,null,null,null,null,null,null,"",null,null,null,null,null,null,null,null,{"$f":"IF(D444=\"\",\"\",INDEX([4]BG!$A$3:$B$65,MATCH(D444,البند,0),1))","v":""},"",""]
[null,{"$f":"IF(D445=\"\",\"\",INDEX([4]BG!A$3:$A$65,MATCH(D445,البند,0)))","v":""},null,null,null,null,null,null,null,null,null,null,null,null,null,null,null,null,null,null,null,null,null,null,null,null,null,null,null,null,null,null,null,null,null,null,null,null,null,null,null,null,null,{"$f":"IF(B445=\"\",0,LOOKUP(B445,[4]BG!$A$3:$A$65,[4]BG!$H$3:$H$65))-SUMIF($B$3:B445,B445,$G$3:G445)","v":0},null,null,null,null,null,null,null,null,"",null,null,null,null,null,null,null,null,{"$f":"IF(D445=\"\",\"\",INDEX([4]BG!$A$3:$B$65,MATCH(D445,البند,0),1))","v":""},"",""]
[null,{"$f":"IF(D446=\"\",\"\",INDEX([4]BG!A$3:$A$65,MATCH(D446,البند,0)))","v":""},null,null,null,null,null,null,null,null,null,null,null,null,null,null,null,null,null,null,null,null,null,null,null,null,null,null,null,null,null,null,null,null,null,null,null,null,null,null,null,null,null,{"$f":"IF(B446=\"\",0,LOOKUP(B446,[4]BG!$A$3:$A$65,[4]BG!$H$3:$H$65))-SUMIF($B$3:B446,B446,$G$3:G446)","v":0},null,null,null,null,null,null,null,null,"",null,null,null,null,null,null,null,null,{"$f":"IF(D446=\"\",\"\",INDEX([4]BG!$A$3:$B$65,MATCH(D446,البند,0),1))","v":""},"",""]
[null,{"$f":"IF(D447=\"\",\"\",INDEX([4]BG!A$3:$A$65,MATCH(D447,البند,0)))","v":""},null,null,null,null,null,null,null,null,null,null,null,null,null,null,null,null,null,null,null,null,null,null,null,null,null,null,null,null,null,null,null,null,null,null,null,null,null,null,null,null,null,{"$f":"IF(B447=\"\",0,LOOKUP(B447,[4]BG!$A$3:$A$65,[4]BG!$H$3:$H$65))-SUMIF($B$3:B447,B447,$G$3:G447)","v":0},null,null,null,null,null,null,null,null,"",null,null,null,null,null,null,null,null,{"$f":"IF(D447=\"\",\"\",INDEX([4]BG!$A$3:$B$65,MATCH(D447,البند,0),1))","v":""},"",""]
[null,{"$f":"IF(D448=\"\",\"\",INDEX([4]BG!A$3:$A$65,MATCH(D448,البند,0)))","v":""},null,null,null,null,null,null,null,null,null,null,null,null,null,null,null,null,null,null,null,null,null,null,null,null,null,null,null,null,null,null,null,null,null,null,null,null,null,null,null,null,null,{"$f":"IF(B448=\"\",0,LOOKUP(B448,[4]BG!$A$3:$A$65,[4]BG!$H$3:$H$65))-SUMIF($B$3:B448,B448,$G$3:G448)","v":0},null,null,null,null,null,null,null,null,"",null,null,null,null,null,null,null,null,{"$f":"IF(D448=\"\",\"\",INDEX([4]BG!$A$3:$B$65,MATCH(D448,البند,0),1))","v":""},"",""]
[null,{"$f":"IF(D449=\"\",\"\",INDEX([4]BG!A$3:$A$65,MATCH(D449,البند,0)))","v":""},null,null,null,null,null,null,null,null,null,null,null,null,null,null,null,null,null,null,null,null,null,null,null,null,null,null,null,null,null,null,null,null,null,null,null,null,null,null,null,null,null,{"$f":"IF(B449=\"\",0,LOOKUP(B449,[4]BG!$A$3:$A$65,[4]BG!$H$3:$H$65))-SUMIF($B$3:B449,B449,$G$3:G449)","v":0},null,null,null,null,null,null,null,null,"",null,null,null,null,null,null,null,null,{"$f":"IF(D449=\"\",\"\",INDEX([4]BG!$A$3:$B$65,MATCH(D449,البند,0),1))","v":""},"",""]
[null,{"$f":"IF(D450=\"\",\"\",INDEX([4]BG!A$3:$A$65,MATCH(D450,البند,0)))","v":""},null,null,null,null,null,null,null,null,null,null,null,null,null,null,null,null,null,null,null,null,null,null,null,null,null,null,null,null,null,null,null,null,null,null,null,null,null,null,null,null,null,{"$f":"IF(B450=\"\",0,LOOKUP(B450,[4]BG!$A$3:$A$65,[4]BG!$H$3:$H$65))-SUMIF($B$3:B450,B450,$G$3:G450)","v":0},null,null,null,null,null,null,null,null,"",null,null,null,null,null,null,null,null,{"$f":"IF(D450=\"\",\"\",INDEX([4]BG!$A$3:$B$65,MATCH(D450,البند,0),1))","v":""},"",""]
[null,{"$f":"IF(D451=\"\",\"\",INDEX([4]BG!A$3:$A$65,MATCH(D451,البند,0)))","v":""},null,null,null,null,null,null,null,null,null,null,null,null,null,null,null,null,null,null,null,null,null,null,null,null,null,null,null,null,null,null,null,null,null,null,null,null,null,null,null,null,null,{"$f":"IF(B451=\"\",0,LOOKUP(B451,[4]BG!$A$3:$A$65,[4]BG!$H$3:$H$65))-SUMIF($B$3:B451,B451,$G$3:G451)","v":0},null,null,null,null,null,null,null,null,"",null,null,null,null,null,null,null,null,{"$f":"IF(D451=\"\",\"\",INDEX([4]BG!$A$3:$B$65,MATCH(D451,البند,0),1))","v":""},"",""]
[null,{"$f":"IF(D452=\"\",\"\",INDEX([4]BG!A$3:$A$65,MATCH(D452,البند,0)))","v":""},null,null,null,null,null,null,null,null,null,null,null,null,null,null,null,null,null,null,null,null,null,null,null,null,null,null,null,null,null,null,null,null,null,null,null,null,null,null,null,null,null,{"$f":"IF(B452=\"\",0,LOOKUP(B452,[4]BG!$A$3:$A$65,[4]BG!$H$3:$H$65))-SUMIF($B$3:B452,B452,$G$3:G452)","v":0},null,null,null,null,null,null,null,null,"",null,null,null,null,null,null,null,null,{"$f":"IF(D452=\"\",\"\",INDEX([4]BG!$A$3:$B$65,MATCH(D452,البند,0),1))","v":""},"",""]
[null,{"$f":"IF(D453=\"\",\"\",INDEX([4]BG!A$3:$A$65,MATCH(D453,البند,0)))","v":""},null,null,null,null,null,null,null,null,null,null,null,null,null,null,null,null,null,null,null,null,null,null,null,null,null,null,null,null,null,null,null,null,null,null,null,null,null,null,null,null,null,{"$f":"IF(B453=\"\",0,LOOKUP(B453,[4]BG!$A$3:$A$65,[4]BG!$H$3:$H$65))-SUMIF($B$3:B453,B453,$G$3:G453)","v":0},null,null,null,null,null,null,null,null,"",null,null,null,null,null,null,null,null,{"$f":"IF(D453=\"\",\"\",INDEX([4]BG!$A$3:$B$65,MATCH(D453,البند,0),1))","v":""},{"$f":"RIGHT(BJ453,1)","v":""},""]
[null,{"$f":"IF(D454=\"\",\"\",INDEX([4]BG!A$3:$A$65,MATCH(D454,البند,0)))","v":""},null,null,null,null,null,null,null,null,null,null,null,null,null,null,null,null,null,null,null,null,null,null,null,null,null,null,null,null,null,null,null,null,null,null,null,null,null,null,null,null,null,{"$f":"IF(B454=\"\",0,LOOKUP(B454,[4]BG!$A$3:$A$65,[4]BG!$H$3:$H$65))-SUMIF($B$3:B454,B454,$G$3:G454)","v":0},null,null,null,null,null,null,null,null,"",null,null,null,null,null,null,null,null,{"$f":"IF(D454=\"\",\"\",INDEX([4]BG!$A$3:$B$65,MATCH(D454,البند,0),1))","v":""},"",{"$f":"IF(BJ454=\"\",\"\",LEFT(RIGHT(BJ454,4),2))","v":""}]
[null,{"$f":"IF(D455=\"\",\"\",INDEX([4]BG!A$3:$A$65,MATCH(D455,البند,0)))","v":""},null,null,null,null,null,null,null,null,null,null,null,null,null,null,null,null,null,null,null,null,null,null,null,null,null,null,null,null,null,null,null,null,null,null,null,null,null,null,null,null,null,{"$f":"IF(B455=\"\",0,LOOKUP(B455,[4]BG!$A$3:$A$65,[4]BG!$H$3:$H$65))-SUMIF($B$3:B455,B455,$G$3:G455)","v":0},null,null,null,null,null,null,null,null,"",null,null,null,null,null,null,null,null,{"$f":"IF(D455=\"\",\"\",INDEX([4]BG!$A$3:$B$65,MATCH(D455,البند,0),1))","v":""},"",""]
[null,{"$f":"IF(D456=\"\",\"\",INDEX([4]BG!A$3:$A$65,MATCH(D456,البند,0)))","v":""},null,null,null,null,null,null,null,null,null,null,null,null,null,null,null,null,null,null,null,null,null,null,null,null,null,null,null,null,null,null,null,null,null,null,null,null,null,null,null,null,null,{"$f":"IF(B456=\"\",0,LOOKUP(B456,[4]BG!$A$3:$A$65,[4]BG!$H$3:$H$65))-SUMIF($B$3:B456,B456,$G$3:G456)","v":0},null,null,null,null,null,null,null,null,"",null,null,null,null,null,null,null,null,{"$f":"IF(D456=\"\",\"\",INDEX([4]BG!$A$3:$B$65,MATCH(D456,البند,0),1))","v":""},"",""]
[null,{"$f":"IF(D457=\"\",\"\",INDEX([4]BG!A$3:$A$65,MATCH(D457,البند,0)))","v":""},null,null,null,null,null,null,null,null,null,null,null,null,null,null,null,null,null,null,null,null,null,null,null,null,null,null,null,null,null,null,null,null,null,null,null,null,null,null,null,null,null,{"$f":"IF(B457=\"\",0,LOOKUP(B457,[4]BG!$A$3:$A$65,[4]BG!$H$3:$H$65))-SUMIF($B$3:B457,B457,$G$3:G457)","v":0},null,null,null,null,null,null,null,null,"",null,null,null,null,null,null,null,null,{"$f":"IF(D457=\"\",\"\",INDEX([4]BG!$A$3:$B$65,MATCH(D457,البند,0),1))","v":""},"",""]
[null,{"$f":"IF(D458=\"\",\"\",INDEX([4]BG!A$3:$A$65,MATCH(D458,البند,0)))","v":""},null,null,null,null,null,null,null,null,null,null,null,null,null,null,null,null,null,null,null,null,null,null,null,null,null,null,null,null,null,null,null,null,null,null,null,null,null,null,null,null,null,{"$f":"IF(B458=\"\",0,LOOKUP(B458,[4]BG!$A$3:$A$65,[4]BG!$H$3:$H$65))-SUMIF($B$3:B458,B458,$G$3:G458)","v":0},null,null,null,null,null,null,null,null,"",null,null,null,null,null,null,null,null,{"$f":"IF(D458=\"\",\"\",INDEX([4]BG!$A$3:$B$65,MATCH(D458,البند,0),1))","v":""},"",""]
[null,{"$f":"IF(D459=\"\",\"\",INDEX([4]BG!A$3:$A$65,MATCH(D459,البند,0)))","v":""},null,null,null,null,null,null,null,null,null,null,null,null,null,null,null,null,null,null,null,null,null,null,null,null,null,null,null,null,null,null,null,null,null,null,null,null,null,null,null,null,null,{"$f":"IF(B459=\"\",0,LOOKUP(B459,[4]BG!$A$3:$A$65,[4]BG!$H$3:$H$65))-SUMIF($B$3:B459,B459,$G$3:G459)","v":0},null,null,null,null,null,null,null,null,"",null,null,null,null,null,null,null,null,{"$f":"IF(D459=\"\",\"\",INDEX([4]BG!$A$3:$B$65,MATCH(D459,البند,0),1))","v":""},"",""]
[null,{"$f":"IF(D460=\"\",\"\",INDEX([4]BG!A$3:$A$65,MATCH(D460,البند,0)))","v":""},null,null,null,null,null,null,null,null,null,null,null,null,null,null,null,null,null,null,null,null,null,null,null,null,null,null,null,null,null,null,null,null,null,null,null,null,null,null,null,null,null,{"$f":"IF(B460=\"\",0,LOOKUP(B460,[4]BG!$A$3:$A$65,[4]BG!$H$3:$H$65))-SUMIF($B$3:B460,B460,$G$3:G460)","v":0},null,null,null,null,null,null,null,null,"",null,null,null,null,null,null,null,null,{"$f":"IF(D460=\"\",\"\",INDEX([4]BG!$A$3:$B$65,MATCH(D460,البند,0),1))","v":""},"",""]
[null,{"$f":"IF(D461=\"\",\"\",INDEX([4]BG!A$3:$A$65,MATCH(D461,البند,0)))","v":""},null,null,null,null,null,null,null,null,null,null,null,null,null,null,null,null,null,null,null,null,null,null,null,null,null,null,null,null,null,null,null,null,null,null,null,null,null,null,null,null,null,{"$f":"IF(B461=\"\",0,LOOKUP(B461,[4]BG!$A$3:$A$65,[4]BG!$H$3:$H$65))-SUMIF($B$3:B461,B461,$G$3:G461)","v":0},null,null,null,null,null,null,null,null,"",null,null,null,null,null,null,null,null,{"$f":"IF(D461=\"\",\"\",INDEX([4]BG!$A$3:$B$65,MATCH(D461,البند,0),1))","v":""},"",""]
[null,{"$f":"IF(D462=\"\",\"\",INDEX([4]BG!A$3:$A$65,MATCH(D462,البند,0)))","v":""},null,null,null,null,null,null,null,null,null,null,null,null,null,null,null,null,null,null,null,null,null,null,null,null,null,null,null,null,null,null,null,null,null,null,null,null,null,null,null,null,null,{"$f":"IF(B462=\"\",0,LOOKUP(B462,[4]BG!$A$3:$A$65,[4]BG!$H$3:$H$65))-SUMIF($B$3:B462,B462,$G$3:G462)","v":0},null,null,null,null,null,null,null,null,"",null,null,null,null,null,null,null,null,{"$f":"IF(D462=\"\",\"\",INDEX([4]BG!$A$3:$B$65,MATCH(D462,البند,0),1))","v":""},"",""]
[null,{"$f":"IF(D463=\"\",\"\",INDEX([4]BG!A$3:$A$65,MATCH(D463,البند,0)))","v":""},null,null,null,null,null,null,null,null,null,null,null,null,null,null,null,null,null,null,null,null,null,null,null,null,null,null,null,null,null,null,null,null,null,null,null,null,null,null,null,null,null,{"$f":"IF(B463=\"\",0,LOOKUP(B463,[4]BG!$A$3:$A$65,[4]BG!$H$3:$H$65))-SUMIF($B$3:B463,B463,$G$3:G463)","v":0},null,null,null,null,null,null,null,null,"",null,null,null,null,null,null,null,null,{"$f":"IF(D463=\"\",\"\",INDEX([4]BG!$A$3:$B$65,MATCH(D463,البند,0),1))","v":""},"",""]
[null,{"$f":"IF(D464=\"\",\"\",INDEX([4]BG!A$3:$A$65,MATCH(D464,البند,0)))","v":""},null,null,null,null,null,null,null,null,null,null,null,null,null,null,null,null,null,null,null,null,null,null,null,null,null,null,null,null,null,null,null,null,null,null,null,null,null,null,null,null,null,{"$f":"IF(B464=\"\",0,LOOKUP(B464,[4]BG!$A$3:$A$65,[4]BG!$H$3:$H$65))-SUMIF($B$3:B464,B464,$G$3:G464)","v":0},null,null,null,null,null,null,null,null,"",null,null,null,null,null,null,null,null,{"$f":"IF(D464=\"\",\"\",INDEX([4]BG!$A$3:$B$65,MATCH(D464,البند,0),1))","v":""},"",""]
[null,{"$f":"IF(D465=\"\",\"\",INDEX([4]BG!A$3:$A$65,MATCH(D465,البند,0)))","v":""},null,null,null,null,null,null,null,null,null,null,null,null,null,null,null,null,null,null,null,null,null,null,null,null,null,null,null,null,null,null,null,null,null,null,null,null,null,null,null,null,null,{"$f":"IF(B465=\"\",0,LOOKUP(B465,[4]BG!$A$3:$A$65,[4]BG!$H$3:$H$65))-SUMIF($B$3:B465,B465,$G$3:G465)","v":0},null,null,null,null,null,null,null,null,"",null,null,null,null,null,null,null,null,{"$f":"IF(D465=\"\",\"\",INDEX([4]BG!$A$3:$B$65,MATCH(D465,البند,0),1))","v":""},"",""]
[null,{"$f":"IF(D466=\"\",\"\",INDEX([4]BG!A$3:$A$65,MATCH(D466,البند,0)))","v":""},null,null,null,null,null,null,null,null,null,null,null,null,null,null,null,null,null,null,null,null,null,null,null,null,null,null,null,null,null,null,null,null,null,null,null,null,null,null,null,null,null,{"$f":"IF(B466=\"\",0,LOOKUP(B466,[4]BG!$A$3:$A$65,[4]BG!$H$3:$H$65))-SUMIF($B$3:B466,B466,$G$3:G466)","v":0},null,null,null,null,null,null,null,null,"",null,null,null,null,null,null,null,null,{"$f":"IF(D466=\"\",\"\",INDEX([4]BG!$A$3:$B$65,MATCH(D466,البند,0),1))","v":""},"",""]
[null,{"$f":"IF(D467=\"\",\"\",INDEX([4]BG!A$3:$A$65,MATCH(D467,البند,0)))","v":""},null,null,null,null,null,null,null,null,null,null,null,null,null,null,null,null,null,null,null,null,null,null,null,null,null,null,null,null,null,null,null,null,null,null,null,null,null,null,null,null,null,{"$f":"IF(B467=\"\",0,LOOKUP(B467,[4]BG!$A$3:$A$65,[4]BG!$H$3:$H$65))-SUMIF($B$3:B467,B467,$G$3:G467)","v":0},null,null,null,null,null,null,null,null,"",null,null,null,null,null,null,null,null,{"$f":"IF(D467=\"\",\"\",INDEX([4]BG!$A$3:$B$65,MATCH(D467,البند,0),1))","v":""},"",""]
[null,{"$f":"IF(D468=\"\",\"\",INDEX([4]BG!A$3:$A$65,MATCH(D468,البند,0)))","v":""},null,null,null,null,null,null,null,null,null,null,null,null,null,null,null,null,null,null,null,null,null,null,null,null,null,null,null,null,null,null,null,null,null,null,null,null,null,null,null,null,null,{"$f":"IF(B468=\"\",0,LOOKUP(B468,[4]BG!$A$3:$A$65,[4]BG!$H$3:$H$65))-SUMIF($B$3:B468,B468,$G$3:G468)","v":0},null,null,null,null,null,null,null,null,"",null,null,null,null,null,null,null,null,{"$f":"IF(D468=\"\",\"\",INDEX([4]BG!$A$3:$B$65,MATCH(D468,البند,0),1))","v":""},"",""]
[null,{"$f":"IF(D469=\"\",\"\",INDEX([4]BG!A$3:$A$65,MATCH(D469,البند,0)))","v":""},null,null,null,null,null,null,null,null,null,null,null,null,null,null,null,null,null,null,null,null,null,null,null,null,null,null,null,null,null,null,null,null,null,null,null,null,null,null,null,null,null,{"$f":"IF(B469=\"\",0,LOOKUP(B469,[4]BG!$A$3:$A$65,[4]BG!$H$3:$H$65))-SUMIF($B$3:B469,B469,$G$3:G469)","v":0},null,null,null,null,null,null,null,null,"",null,null,null,null,null,null,null,null,{"$f":"IF(D469=\"\",\"\",INDEX([4]BG!$A$3:$B$65,MATCH(D469,البند,0),1))","v":""},"",""]
[null,{"$f":"IF(D470=\"\",\"\",INDEX([4]BG!A$3:$A$65,MATCH(D470,البند,0)))","v":""},null,null,null,null,null,null,null,null,null,null,null,null,null,null,null,null,null,null,null,null,null,null,null,null,null,null,null,null,null,null,null,null,null,null,null,null,null,null,null,null,null,{"$f":"IF(B470=\"\",0,LOOKUP(B470,[4]BG!$A$3:$A$65,[4]BG!$H$3:$H$65))-SUMIF($B$3:B470,B470,$G$3:G470)","v":0},null,null,null,null,null,null,null,null,"",null,null,null,null,null,null,null,null,{"$f":"IF(D470=\"\",\"\",INDEX([4]BG!$A$3:$B$65,MATCH(D470,البند,0),1))","v":""},"",""]
[null,{"$f":"IF(D471=\"\",\"\",INDEX([4]BG!A$3:$A$65,MATCH(D471,البند,0)))","v":""},null,null,null,null,null,null,null,null,null,null,null,null,null,null,null,null,null,null,null,null,null,null,null,null,null,null,null,null,null,null,null,null,null,null,null,null,null,null,null,null,null,{"$f":"IF(B471=\"\",0,LOOKUP(B471,[4]BG!$A$3:$A$65,[4]BG!$H$3:$H$65))-SUMIF($B$3:B471,B471,$G$3:G471)","v":0},null,null,null,null,null,null,null,null,"",null,null,null,null,null,null,null,null,{"$f":"IF(D471=\"\",\"\",INDEX([4]BG!$A$3:$B$65,MATCH(D471,البند,0),1))","v":""},"",""]
[null,{"$f":"IF(D472=\"\",\"\",INDEX([4]BG!A$3:$A$65,MATCH(D472,البند,0)))","v":""},null,null,null,null,null,null,null,null,null,null,null,null,null,null,null,null,null,null,null,null,null,null,null,null,null,null,null,null,null,null,null,null,null,null,null,null,null,null,null,null,null,{"$f":"IF(B472=\"\",0,LOOKUP(B472,[4]BG!$A$3:$A$65,[4]BG!$H$3:$H$65))-SUMIF($B$3:B472,B472,$G$3:G472)","v":0},null,null,null,null,null,null,null,null,"",null,null,null,null,null,null,null,null,{"$f":"IF(D472=\"\",\"\",INDEX([4]BG!$A$3:$B$65,MATCH(D472,البند,0),1))","v":""},"",""]
[null,{"$f":"IF(D473=\"\",\"\",INDEX([4]BG!A$3:$A$65,MATCH(D473,البند,0)))","v":""},null,null,null,null,null,null,null,null,null,null,null,null,null,null,null,null,null,null,null,null,null,null,null,null,null,null,null,null,null,null,null,null,null,null,null,null,null,null,null,null,null,{"$f":"IF(B473=\"\",0,LOOKUP(B473,[4]BG!$A$3:$A$65,[4]BG!$H$3:$H$65))-SUMIF($B$3:B473,B473,$G$3:G473)","v":0},null,null,null,null,null,null,null,null,"",null,null,null,null,null,null,null,null,{"$f":"IF(D473=\"\",\"\",INDEX([4]BG!$A$3:$B$65,MATCH(D473,البند,0),1))","v":""},"",""]
[null,{"$f":"IF(D474=\"\",\"\",INDEX([4]BG!A$3:$A$65,MATCH(D474,البند,0)))","v":""},null,null,null,null,null,null,null,null,null,null,null,null,null,null,null,null,null,null,null,null,null,null,null,null,null,null,null,null,null,null,null,null,null,null,null,null,null,null,null,null,null,{"$f":"IF(B474=\"\",0,LOOKUP(B474,[4]BG!$A$3:$A$65,[4]BG!$H$3:$H$65))-SUMIF($B$3:B474,B474,$G$3:G474)","v":0},null,null,null,null,null,null,null,null,"",null,null,null,null,null,null,null,null,{"$f":"IF(D474=\"\",\"\",INDEX([4]BG!$A$3:$B$65,MATCH(D474,البند,0),1))","v":""},"",""]
[null,{"$f":"IF(D475=\"\",\"\",INDEX([4]BG!A$3:$A$65,MATCH(D475,البند,0)))","v":""},null,null,null,null,null,null,null,null,null,null,null,null,null,null,null,null,null,null,null,null,null,null,null,null,null,null,null,null,null,null,null,null,null,null,null,null,null,null,null,null,null,{"$f":"IF(B475=\"\",0,LOOKUP(B475,[4]BG!$A$3:$A$65,[4]BG!$H$3:$H$65))-SUMIF($B$3:B475,B475,$G$3:G475)","v":0},null,null,null,null,null,null,null,null,"",null,null,null,null,null,null,null,null,{"$f":"IF(D475=\"\",\"\",INDEX([4]BG!$A$3:$B$65,MATCH(D475,البند,0),1))","v":""},"",""]
[null,{"$f":"IF(D476=\"\",\"\",INDEX([4]BG!A$3:$A$65,MATCH(D476,البند,0)))","v":""},null,null,null,null,null,null,null,null,null,null,null,null,null,null,null,null,null,null,null,null,null,null,null,null,null,null,null,null,null,null,null,null,null,null,null,null,null,null,null,null,null,{"$f":"IF(B476=\"\",0,LOOKUP(B476,[4]BG!$A$3:$A$65,[4]BG!$H$3:$H$65))-SUMIF($B$3:B476,B476,$G$3:G476)","v":0},null,null,null,null,null,null,null,null,"",null,null,null,null,null,null,null,null,{"$f":"IF(D476=\"\",\"\",INDEX([4]BG!$A$3:$B$65,MATCH(D476,البند,0),1))","v":""},"",""]
[null,{"$f":"IF(D477=\"\",\"\",INDEX([4]BG!A$3:$A$65,MATCH(D477,البند,0)))","v":""},null,null,null,null,null,null,null,null,null,null,null,null,null,null,null,null,null,null,null,null,null,null,null,null,null,null,null,null,null,null,null,null,null,null,null,null,null,null,null,null,null,{"$f":"IF(B477=\"\",0,LOOKUP(B477,[4]BG!$A$3:$A$65,[4]BG!$H$3:$H$65))-SUMIF($B$3:B477,B477,$G$3:G477)","v":0},null,null,null,null,null,null,null,null,"",null,null,null,null,null,null,null,null,{"$f":"IF(D477=\"\",\"\",INDEX([4]BG!$A$3:$B$65,MATCH(D477,البند,0),1))","v":""},"",""]
[null,{"$f":"IF(D478=\"\",\"\",INDEX([4]BG!A$3:$A$65,MATCH(D478,البند,0)))","v":""},null,null,null,null,null,null,null,null,null,null,null,null,null,null,null,null,null,null,null,null,null,null,null,null,null,null,null,null,null,null,null,null,null,null,null,null,null,null,null,null,null,{"$f":"IF(B478=\"\",0,LOOKUP(B478,[4]BG!$A$3:$A$65,[4]BG!$H$3:$H$65))-SUMIF($B$3:B478,B478,$G$3:G478)","v":0},null,null,null,null,null,null,null,null,"",null,null,null,null,null,null,null,null,{"$f":"IF(D478=\"\",\"\",INDEX([4]BG!$A$3:$B$65,MATCH(D478,البند,0),1))","v":""},"",""]
[null,{"$f":"IF(D479=\"\",\"\",INDEX([4]BG!A$3:$A$65,MATCH(D479,البند,0)))","v":""},null,null,null,null,null,null,null,null,null,null,null,null,null,null,null,null,null,null,null,null,null,null,null,null,null,null,null,null,null,null,null,null,null,null,null,null,null,null,null,null,null,{"$f":"IF(B479=\"\",0,LOOKUP(B479,[4]BG!$A$3:$A$65,[4]BG!$H$3:$H$65))-SUMIF($B$3:B479,B479,$G$3:G479)","v":0},null,null,null,null,null,null,null,null,"",null,null,null,null,null,null,null,null,{"$f":"IF(D479=\"\",\"\",INDEX([4]BG!$A$3:$B$65,MATCH(D479,البند,0),1))","v":""},"",""]
[null,{"$f":"IF(D480=\"\",\"\",INDEX([4]BG!A$3:$A$65,MATCH(D480,البند,0)))","v":""},null,null,null,null,null,null,null,null,null,null,null,null,null,null,null,null,null,null,null,null,null,null,null,null,null,null,null,null,null,null,null,null,null,null,null,null,null,null,null,null,null,{"$f":"IF(B480=\"\",0,LOOKUP(B480,[4]BG!$A$3:$A$65,[4]BG!$H$3:$H$65))-SUMIF($B$3:B480,B480,$G$3:G480)","v":0},null,null,null,null,null,null,null,null,"",null,null,null,null,null,null,null,null,{"$f":"IF(D480=\"\",\"\",INDEX([4]BG!$A$3:$B$65,MATCH(D480,البند,0),1))","v":""},"",""]
[null,{"$f":"IF(D481=\"\",\"\",INDEX([4]BG!A$3:$A$65,MATCH(D481,البند,0)))","v":""},null,null,null,null,null,null,null,null,null,null,null,null,null,null,null,null,null,null,null,null,null,null,null,null,null,null,null,null,null,null,null,null,null,null,null,null,null,null,null,null,null,{"$f":"IF(B481=\"\",0,LOOKUP(B481,[4]BG!$A$3:$A$65,[4]BG!$H$3:$H$65))-SUMIF($B$3:B481,B481,$G$3:G481)","v":0},null,null,null,null,null,null,null,null,"",null,null,null,null,null,null,null,null,{"$f":"IF(D481=\"\",\"\",INDEX([4]BG!$A$3:$B$65,MATCH(D481,البند,0),1))","v":""},"",""]
[null,{"$f":"IF(D482=\"\",\"\",INDEX([4]BG!A$3:$A$65,MATCH(D482,البند,0)))","v":""},null,null,null,null,null,null,null,null,null,null,null,null,null,null,null,null,null,null,null,null,null,null,null,null,null,null,null,null,null,null,null,null,null,null,null,null,null,null,null,null,null,{"$f":"IF(B482=\"\",0,LOOKUP(B482,[4]BG!$A$3:$A$65,[4]BG!$H$3:$H$65))-SUMIF($B$3:B482,B482,$G$3:G482)","v":0},null,null,null,null,null,null,null,null,"",null,null,null,null,null,null,null,null,{"$f":"IF(D482=\"\",\"\",INDEX([4]BG!$A$3:$B$65,MATCH(D482,البند,0),1))","v":""},"",""]
[null,{"$f":"IF(D483=\"\",\"\",INDEX([4]BG!A$3:$A$65,MATCH(D483,البند,0)))","v":""},null,null,null,null,null,null,null,null,null,null,null,null,null,null,null,null,null,null,null,null,null,null,null,null,null,null,null,null,null,null,null,null,null,null,null,null,null,null,null,null,null,{"$f":"IF(B483=\"\",0,LOOKUP(B483,[4]BG!$A$3:$A$65,[4]BG!$H$3:$H$65))-SUMIF($B$3:B483,B483,$G$3:G483)","v":0},null,null,null,null,null,null,null,null,"",null,null,null,null,null,null,null,null,{"$f":"IF(D483=\"\",\"\",INDEX([4]BG!$A$3:$B$65,MATCH(D483,البند,0),1))","v":""},"",""]
[null,{"$f":"IF(D484=\"\",\"\",INDEX([4]BG!A$3:$A$65,MATCH(D484,البند,0)))","v":""},null,null,null,null,null,null,null,null,null,null,null,null,null,null,null,null,null,null,null,null,null,null,null,null,null,null,null,null,null,null,null,null,null,null,null,null,null,null,null,null,null,{"$f":"IF(B484=\"\",0,LOOKUP(B484,[4]BG!$A$3:$A$65,[4]BG!$H$3:$H$65))-SUMIF($B$3:B484,B484,$G$3:G484)","v":0},null,null,null,null,null,null,null,null,"",null,null,null,null,null,null,null,null,{"$f":"IF(D484=\"\",\"\",INDEX([4]BG!$A$3:$B$65,MATCH(D484,البند,0),1))","v":""},"",""]
[null,{"$f":"IF(D485=\"\",\"\",INDEX([4]BG!A$3:$A$65,MATCH(D485,البند,0)))","v":""},null,null,null,null,null,null,null,null,null,null,null,null,null,null,null,null,null,null,null,null,null,null,null,null,null,null,null,null,null,null,null,null,null,null,null,null,null,null,null,null,null,{"$f":"IF(B485=\"\",0,LOOKUP(B485,[4]BG!$A$3:$A$65,[4]BG!$H$3:$H$65))-SUMIF($B$3:B485,B485,$G$3:G485)","v":0},null,null,null,null,null,null,null,null,"",null,null,null,null,null,null,null,null,{"$f":"IF(D485=\"\",\"\",INDEX([4]BG!$A$3:$B$65,MATCH(D485,البند,0),1))","v":""},"",""]
[null,{"$f":"IF(D486=\"\",\"\",INDEX([4]BG!A$3:$A$65,MATCH(D486,البند,0)))","v":""},null,null,null,null,null,null,null,null,null,null,null,null,null,null,null,null,null,null,null,null,null,null,null,null,null,null,null,null,null,null,null,null,null,null,null,null,null,null,null,null,null,{"$f":"IF(B486=\"\",0,LOOKUP(B486,[4]BG!$A$3:$A$65,[4]BG!$H$3:$H$65))-SUMIF($B$3:B486,B486,$G$3:G486)","v":0},null,null,null,null,null,null,null,null,"",null,null,null,null,null,null,null,null,{"$f":"IF(D486=\"\",\"\",INDEX([4]BG!$A$3:$B$65,MATCH(D486,البند,0),1))","v":""},"",""]
[null,{"$f":"IF(D487=\"\",\"\",INDEX([4]BG!A$3:$A$65,MATCH(D487,البند,0)))","v":""},null,null,null,null,null,null,null,null,null,null,null,null,null,null,null,null,null,null,null,null,null,null,null,null,null,null,null,null,null,null,null,null,null,null,null,null,null,null,null,null,null,{"$f":"IF(B487=\"\",0,LOOKUP(B487,[4]BG!$A$3:$A$65,[4]BG!$H$3:$H$65))-SUMIF($B$3:B487,B487,$G$3:G487)","v":0},null,null,null,null,null,null,null,null,"",null,null,null,null,null,null,null,null,{"$f":"IF(D487=\"\",\"\",INDEX([4]BG!$A$3:$B$65,MATCH(D487,البند,0),1))","v":""},"",""]
[null,{"$f":"IF(D488=\"\",\"\",INDEX([4]BG!A$3:$A$65,MATCH(D488,البند,0)))","v":""},null,null,null,null,null,null,null,null,null,null,null,null,null,null,null,null,null,null,null,null,null,null,null,null,null,null,null,null,null,null,null,null,null,null,null,null,null,null,null,null,null,{"$f":"IF(B488=\"\",0,LOOKUP(B488,[4]BG!$A$3:$A$65,[4]BG!$H$3:$H$65))-SUMIF($B$3:B488,B488,$G$3:G488)","v":0},null,null,null,null,null,null,null,null,"",null,null,null,null,null,null,null,null,{"$f":"IF(D488=\"\",\"\",INDEX([4]BG!$A$3:$B$65,MATCH(D488,البند,0),1))","v":""},"",""]
[null,{"$f":"IF(D489=\"\",\"\",INDEX([4]BG!A$3:$A$65,MATCH(D489,البند,0)))","v":""},null,null,null,null,null,null,null,null,null,null,null,null,null,null,null,null,null,null,null,null,null,null,null,null,null,null,null,null,null,null,null,null,null,null,null,null,null,null,null,null,null,{"$f":"IF(B489=\"\",0,LOOKUP(B489,[4]BG!$A$3:$A$65,[4]BG!$H$3:$H$65))-SUMIF($B$3:B489,B489,$G$3:G489)","v":0},null,null,null,null,null,null,null,null,"",null,null,null,null,null,null,null,null,{"$f":"IF(D489=\"\",\"\",INDEX([4]BG!$A$3:$B$65,MATCH(D489,البند,0),1))","v":""},"",""]
[null,{"$f":"IF(D490=\"\",\"\",INDEX([4]BG!A$3:$A$65,MATCH(D490,البند,0)))","v":""},null,null,null,null,null,null,null,null,null,null,null,null,null,null,null,null,null,null,null,null,null,null,null,null,null,null,null,null,null,null,null,null,null,null,null,null,null,null,null,null,null,{"$f":"IF(B490=\"\",0,LOOKUP(B490,[4]BG!$A$3:$A$65,[4]BG!$H$3:$H$65))-SUMIF($B$3:B490,B490,$G$3:G490)","v":0},null,null,null,null,null,null,null,null,"",null,null,null,null,null,null,null,null,{"$f":"IF(D490=\"\",\"\",INDEX([4]BG!$A$3:$B$65,MATCH(D490,البند,0),1))","v":""},"",""]
[null,{"$f":"IF(D491=\"\",\"\",INDEX([4]BG!A$3:$A$65,MATCH(D491,البند,0)))","v":""},null,null,null,null,null,null,null,null,null,null,null,null,null,null,null,null,null,null,null,null,null,null,null,null,null,null,null,null,null,null,null,null,null,null,null,null,null,null,null,null,null,{"$f":"IF(B491=\"\",0,LOOKUP(B491,[4]BG!$A$3:$A$65,[4]BG!$H$3:$H$65))-SUMIF($B$3:B491,B491,$G$3:G491)","v":0},null,null,null,null,null,null,null,null,"",null,null,null,null,null,null,null,null,{"$f":"IF(D491=\"\",\"\",INDEX([4]BG!$A$3:$B$65,MATCH(D491,البند,0),1))","v":""},"",""]
[null,{"$f":"IF(D492=\"\",\"\",INDEX([4]BG!A$3:$A$65,MATCH(D492,البند,0)))","v":""},null,null,null,null,null,null,null,null,null,null,null,null,null,null,null,null,null,null,null,null,null,null,null,null,null,null,null,null,null,null,null,null,null,null,null,null,null,null,null,null,null,{"$f":"IF(B492=\"\",0,LOOKUP(B492,[4]BG!$A$3:$A$65,[4]BG!$H$3:$H$65))-SUMIF($B$3:B492,B492,$G$3:G492)","v":0},null,null,null,null,null,null,null,null,"",null,null,null,null,null,null,null,null,{"$f":"IF(D492=\"\",\"\",INDEX([4]BG!$A$3:$B$65,MATCH(D492,البند,0),1))","v":""},"",""]
[null,{"$f":"IF(D493=\"\",\"\",INDEX([4]BG!A$3:$A$65,MATCH(D493,البند,0)))","v":""},null,null,null,null,null,null,null,null,null,null,null,null,null,null,null,null,null,null,null,null,null,null,null,null,null,null,null,null,null,null,null,null,null,null,null,null,null,null,null,null,null,{"$f":"IF(B493=\"\",0,LOOKUP(B493,[4]BG!$A$3:$A$65,[4]BG!$H$3:$H$65))-SUMIF($B$3:B493,B493,$G$3:G493)","v":0},null,null,null,null,null,null,null,null,"",null,null,null,null,null,null,null,null,{"$f":"IF(D493=\"\",\"\",INDEX([4]BG!$A$3:$B$65,MATCH(D493,البند,0),1))","v":""},"",""]
[null,{"$f":"IF(D494=\"\",\"\",INDEX([4]BG!A$3:$A$65,MATCH(D494,البند,0)))","v":""},null,null,null,null,null,null,null,null,null,null,null,null,null,null,null,null,null,null,null,null,null,null,null,null,null,null,null,null,null,null,null,null,null,null,null,null,null,null,null,null,null,{"$f":"IF(B494=\"\",0,LOOKUP(B494,[4]BG!$A$3:$A$65,[4]BG!$H$3:$H$65))-SUMIF($B$3:B494,B494,$G$3:G494)","v":0},null,null,null,null,null,null,null,null,"",null,null,null,null,null,null,null,null,{"$f":"IF(D494=\"\",\"\",INDEX([4]BG!$A$3:$B$65,MATCH(D494,البند,0),1))","v":""},"",""]
[null,{"$f":"IF(D495=\"\",\"\",INDEX([4]BG!A$3:$A$65,MATCH(D495,البند,0)))","v":""},null,null,null,null,null,null,null,null,null,null,null,null,null,null,null,null,null,null,null,null,null,null,null,null,null,null,null,null,null,null,null,null,null,null,null,null,null,null,null,null,null,{"$f":"IF(B495=\"\",0,LOOKUP(B495,[4]BG!$A$3:$A$65,[4]BG!$H$3:$H$65))-SUMIF($B$3:B495,B495,$G$3:G495)","v":0},null,null,null,null,null,null,null,null,"",null,null,null,null,null,null,null,null,{"$f":"IF(D495=\"\",\"\",INDEX([4]BG!$A$3:$B$65,MATCH(D495,البند,0),1))","v":""},"",""]
[null,{"$f":"IF(D496=\"\",\"\",INDEX([4]BG!A$3:$A$65,MATCH(D496,البند,0)))","v":""},null,null,null,null,null,null,null,null,null,null,null,null,null,null,null,null,null,null,null,null,null,null,null,null,null,null,null,null,null,null,null,null,null,null,null,null,null,null,null,null,null,{"$f":"IF(B496=\"\",0,LOOKUP(B496,[4]BG!$A$3:$A$65,[4]BG!$H$3:$H$65))-SUMIF($B$3:B496,B496,$G$3:G496)","v":0},null,null,null,null,null,null,null,null,"",null,null,null,null,null,null,null,null,{"$f":"IF(D496=\"\",\"\",INDEX([4]BG!$A$3:$B$65,MATCH(D496,البند,0),1))","v":""},"",""]
[null,{"$f":"IF(D497=\"\",\"\",INDEX([4]BG!A$3:$A$65,MATCH(D497,البند,0)))","v":""},null,null,null,null,null,null,null,null,null,null,null,null,null,null,null,null,null,null,null,null,null,null,null,null,null,null,null,null,null,null,null,null,null,null,null,null,null,null,null,null,null,{"$f":"IF(B497=\"\",0,LOOKUP(B497,[4]BG!$A$3:$A$65,[4]BG!$H$3:$H$65))-SUMIF($B$3:B497,B497,$G$3:G497)","v":0},null,null,null,null,null,null,null,null,"",null,null,null,null,null,null,null,null,{"$f":"IF(D497=\"\",\"\",INDEX([4]BG!$A$3:$B$65,MATCH(D497,البند,0),1))","v":""},"",""]
[null,{"$f":"IF(D498=\"\",\"\",INDEX([4]BG!A$3:$A$65,MATCH(D498,البند,0)))","v":""},null,null,null,null,null,null,null,null,null,null,null,null,null,null,null,null,null,null,null,null,null,null,null,null,null,null,null,null,null,null,null,null,null,null,null,null,null,null,null,null,null,{"$f":"IF(B498=\"\",0,LOOKUP(B498,[4]BG!$A$3:$A$65,[4]BG!$H$3:$H$65))-SUMIF($B$3:B498,B498,$G$3:G498)","v":0},null,null,null,null,null,null,null,null,"",null,null,null,null,null,null,null,null,{"$f":"IF(D498=\"\",\"\",INDEX([4]BG!$A$3:$B$65,MATCH(D498,البند,0),1))","v":""},"",""]
[null,{"$f":"IF(D499=\"\",\"\",INDEX([4]BG!A$3:$A$65,MATCH(D499,البند,0)))","v":""},null,null,null,null,null,null,null,null,null,null,null,null,null,null,null,null,null,null,null,null,null,null,null,null,null,null,null,null,null,null,null,null,null,null,null,null,null,null,null,null,null,{"$f":"IF(B499=\"\",0,LOOKUP(B499,[4]BG!$A$3:$A$65,[4]BG!$H$3:$H$65))-SUMIF($B$3:B499,B499,$G$3:G499)","v":0},null,null,null,null,null,null,null,null,"",null,null,null,null,null,null,null,null,{"$f":"IF(D499=\"\",\"\",INDEX([4]BG!$A$3:$B$65,MATCH(D499,البند,0),1))","v":""},"",""]
[null,{"$f":"IF(D500=\"\",\"\",INDEX([4]BG!A$3:$A$65,MATCH(D500,البند,0)))","v":""},null,null,null,null,null,null,null,null,null,null,null,null,null,null,null,null,null,null,null,null,null,null,null,null,null,null,null,null,null,null,null,null,null,null,null,null,null,null,null,null,null,{"$f":"IF(B500=\"\",0,LOOKUP(B500,[4]BG!$A$3:$A$65,[4]BG!$H$3:$H$65))-SUMIF($B$3:B500,B500,$G$3:G500)","v":0},null,null,null,null,null,null,null,null,"",null,null,null,null,null,null,null,null,{"$f":"IF(D500=\"\",\"\",INDEX([4]BG!$A$3:$B$65,MATCH(D500,البند,0),1))","v":""},"",""]
[null,{"$f":"IF(D502=\"\",\"\",INDEX([4]BG!A$3:$A$65,MATCH(D502,البند,0)))","v":""},null,null,null,null,null,null,null,null,null,null,null,null,null,null,null,null,null,null,null,null,null,null,null,null,null,null,null,null,null,null,null,null,null,null,null,null,null,null,null,null,null,{"$f":"IF(B502=\"\",0,LOOKUP(B502,[4]BG!$A$3:$A$65,[4]BG!$H$3:$H$65))-SUMIF($B$3:B502,B502,$G$3:G502)","v":0},null,null,null,null,null,null,null,null,"",null,null,null,null,null,null,null,null,{"$f":"IF(D502=\"\",\"\",INDEX([4]BG!$A$3:$B$65,MATCH(D502,البند,0),1))","v":""},"",""]
[null,{"$f":"IF(D507=\"\",\"\",INDEX([4]BG!A$3:$A$65,MATCH(D507,البند,0)))","v":""},null,null,null,null,null,null,null,null,null,null,null,null,null,null,null,null,null,null,null,null,null,null,null,null,null,null,null,null,null,null,null,null,null,null,null,null,null,null,null,null,null,{"$f":"IF(B507=\"\",0,LOOKUP(B507,[4]BG!$A$3:$A$65,[4]BG!$H$3:$H$65))-SUMIF($B$3:B507,B507,$G$3:G507)","v":0},null,null,null,null,null,null,null,null,"",null,null,null,null,null,null,null,null,{"$f":"IF(D507=\"\",\"\",INDEX([4]BG!$A$3:$B$65,MATCH(D507,البند,0),1))","v":""},"",""]
[null,{"$f":"IF(D512=\"\",\"\",INDEX([4]BG!A$3:$A$65,MATCH(D512,البند,0)))","v":""},null,null,null,null,null,null,null,null,null,null,null,null,null,null,null,null,null,null,null,null,null,null,null,null,null,null,null,null,null,null,null,null,null,null,null,null,null,null,null,null,null,{"$f":"IF(B512=\"\",0,LOOKUP(B512,[4]BG!$A$3:$A$65,[4]BG!$H$3:$H$65))-SUMIF($B$3:B512,B512,$G$3:G512)","v":0},null,null,null,null,null,null,null,null,"",null,null,null,null,null,null,null,null,{"$f":"IF(D512=\"\",\"\",INDEX([4]BG!$A$3:$B$65,MATCH(D512,البند,0),1))","v":""},"",""]
[null,{"$f":"IF(D513=\"\",\"\",INDEX([4]BG!A$3:$A$65,MATCH(D513,البند,0)))","v":""},null,null,null,null,null,null,null,null,null,null,null,null,null,null,null,null,null,null,null,null,null,null,null,null,null,null,null,null,null,null,null,null,null,null,null,null,null,null,null,null,null,{"$f":"IF(B513=\"\",0,LOOKUP(B513,[4]BG!$A$3:$A$65,[4]BG!$H$3:$H$65))-SUMIF($B$3:B513,B513,$G$3:G513)","v":0},null,null,null,null,null,null,null,null,"",null,null,null,null,null,null,null,null,{"$f":"IF(D513=\"\",\"\",INDEX([4]BG!$A$3:$B$65,MATCH(D513,البند,0),1))","v":""},"",""]
[null,{"$f":"IF(D519=\"\",\"\",INDEX([4]BG!A$3:$A$65,MATCH(D519,البند,0)))","v":""},null,null,null,null,null,null,null,null,null,null,null,null,null,null,null,null,null,null,null,null,null,null,null,null,null,null,null,null,null,null,null,null,null,null,null,null,null,null,null,null,null,{"$f":"IF(B519=\"\",0,LOOKUP(B519,[4]BG!$A$3:$A$65,[4]BG!$H$3:$H$65))-SUMIF($B$3:B519,B519,$G$3:G519)","v":0},null,null,null,null,null,null,null,null,"",null,null,null,null,null,null,null,null,{"$f":"IF(D519=\"\",\"\",INDEX([4]BG!$A$3:$B$65,MATCH(D519,البند,0),1))","v":""},"",""]
[null,{"$f":"IF(D524=\"\",\"\",INDEX([4]BG!A$3:$A$65,MATCH(D524,البند,0)))","v":""},null,null,null,null,null,null,null,null,null,null,null,null,null,null,null,null,null,null,null,null,null,null,null,null,null,null,null,null,null,null,null,null,null,null,null,null,null,null,null,null,null,{"$f":"IF(B524=\"\",0,LOOKUP(B524,[4]BG!$A$3:$A$65,[4]BG!$H$3:$H$65))-SUMIF($B$3:B524,B524,$G$3:G524)","v":0},null,null,null,null,null,null,null,null,"",null,null,null,null,null,null,null,null,{"$f":"IF(D524=\"\",\"\",INDEX([4]BG!$A$3:$B$65,MATCH(D524,البند,0),1))","v":""},"",""]
[null,{"$f":"IF(D529=\"\",\"\",INDEX([4]BG!A$3:$A$65,MATCH(D529,البند,0)))","v":""},null,null,null,null,null,null,null,null,null,null,null,null,null,null,null,null,null,null,null,null,null,null,null,null,null,null,null,null,null,null,null,null,null,null,null,null,null,null,null,null,null,{"$f":"IF(B529=\"\",0,LOOKUP(B529,[4]BG!$A$3:$A$65,[4]BG!$H$3:$H$65))-SUMIF($B$3:B529,B529,$G$3:G529)","v":0},null,null,null,null,null,null,null,null,"",null,null,null,null,null,null,null,null,{"$f":"IF(D529=\"\",\"\",INDEX([4]BG!$A$3:$B$65,MATCH(D529,البند,0),1))","v":""},"",""]
[null,{"$f":"IF(D530=\"\",\"\",INDEX([4]BG!A$3:$A$65,MATCH(D530,البند,0)))","v":""},null,null,null,null,null,null,null,null,null,null,null,null,null,null,null,null,null,null,null,null,null,null,null,null,null,null,null,null,null,null,null,null,null,null,null,null,null,null,null,null,null,{"$f":"IF(B530=\"\",0,LOOKUP(B530,[4]BG!$A$3:$A$65,[4]BG!$H$3:$H$65))-SUMIF($B$3:B530,B530,$G$3:G530)","v":0},null,null,null,null,null,null,null,null,"",null,null,null,null,null,null,null,null,{"$f":"IF(D530=\"\",\"\",INDEX([4]BG!$A$3:$B$65,MATCH(D530,البند,0),1))","v":""},"",""]
[null,{"$f":"IF(D538=\"\",\"\",INDEX([4]BG!A$3:$A$65,MATCH(D538,البند,0)))","v":""},null,null,null,null,null,null,null,null,null,null,null,null,null,null,null,null,null,null,null,null,null,null,null,null,null,null,null,null,null,null,null,null,null,null,null,null,null,null,null,null,null,{"$f":"IF(B538=\"\",0,LOOKUP(B538,[4]BG!$A$3:$A$65,[4]BG!$H$3:$H$65))-SUMIF($B$3:B538,B538,$G$3:G538)","v":0},null,null,null,null,null,null,null,null,"",null,null,null,null,null,null,null,null,{"$f":"IF(D538=\"\",\"\",INDEX([4]BG!$A$3:$B$65,MATCH(D538,البند,0),1))","v":""},"",""]
[null,{"$f":"IF(D541=\"\",\"\",INDEX([4]BG!A$3:$A$65,MATCH(D541,البند,0)))","v":""},null,null,null,null,null,null,null,null,null,null,null,null,null,null,null,null,null,null,null,null,null,null,null,null,null,null,null,null,null,null,null,null,null,null,null,null,null,null,null,null,null,{"$f":"IF(B541=\"\",0,LOOKUP(B541,[4]BG!$A$3:$A$65,[4]BG!$H$3:$H$65))-SUMIF($B$3:B541,B541,$G$3:G541)","v":0},null,null,null,null,null,null,null,null,"",null,null,null,null,null,null,null,null,{"$f":"IF(D541=\"\",\"\",INDEX([4]BG!$A$3:$B$65,MATCH(D541,البند,0),1))","v":""},"",""]
[null,{"$f":"IF(D546=\"\",\"\",INDEX([4]BG!A$3:$A$65,MATCH(D546,البند,0)))","v":""},null,null,null,null,null,null,null,null,null,null,null,null,null,null,null,null,null,null,null,null,null,null,null,null,null,null,null,null,null,null,null,null,null,null,null,null,null,null,null,null,null,{"$f":"IF(B546=\"\",0,LOOKUP(B546,[4]BG!$A$3:$A$65,[4]BG!$H$3:$H$65))-SUMIF($B$3:B546,B546,$G$3:G546)","v":0},null,null,null,null,null,null,null,null,"",null,null,null,null,null,null,null,null,{"$f":"IF(D546=\"\",\"\",INDEX([4]BG!$A$3:$B$65,MATCH(D546,البند,0),1))","v":""},"",""]
[null,{"$f":"IF(D547=\"\",\"\",INDEX([4]BG!A$3:$A$65,MATCH(D547,البند,0)))","v":""},null,null,null,null,null,null,null,null,null,null,null,null,null,null,null,null,null,null,null,null,null,null,null,null,null,null,null,null,null,null,null,null,null,null,null,null,null,null,null,null,null,{"$f":"IF(B547=\"\",0,LOOKUP(B547,[4]BG!$A$3:$A$65,[4]BG!$H$3:$H$65))-SUMIF($B$3:B547,B547,$G$3:G547)","v":0},null,null,null,null,null,null,null,null,"",null,null,null,null,null,null,null,null,{"$f":"IF(D547=\"\",\"\",INDEX([4]BG!$A$3:$B$65,MATCH(D547,البند,0),1))","v":""},"",""]
[null,{"$f":"IF(D551=\"\",\"\",INDEX([4]BG!A$3:$A$65,MATCH(D551,البند,0)))","v":""},null,null,null,null,null,null,null,null,null,null,null,null,null,null,null,null,null,null,null,null,null,null,null,null,null,null,null,null,null,null,null,null,null,null,null,null,null,null,null,null,null,{"$f":"IF(B551=\"\",0,LOOKUP(B551,[4]BG!$A$3:$A$65,[4]BG!$H$3:$H$65))-SUMIF($B$3:B551,B551,$G$3:G551)","v":0},null,null,null,null,null,null,null,null,"",null,null,null,null,null,null,null,null,{"$f":"IF(D551=\"\",\"\",INDEX([4]BG!$A$3:$B$65,MATCH(D551,البند,0),1))","v":""},"",""]
[null,{"$f":"IF(D558=\"\",\"\",INDEX([4]BG!A$3:$A$65,MATCH(D558,البند,0)))","v":""},null,null,null,null,null,null,null,null,null,null,null,null,null,null,null,null,null,null,null,null,null,null,null,null,null,null,null,null,null,null,null,null,null,null,null,null,null,null,null,null,null,{"$f":"IF(B558=\"\",0,LOOKUP(B558,[4]BG!$A$3:$A$65,[4]BG!$H$3:$H$65))-SUMIF($B$3:B558,B558,$G$3:G558)","v":0},null,null,null,null,null,null,null,null,"",null,null,null,null,null,null,null,null,{"$f":"IF(D558=\"\",\"\",INDEX([4]BG!$A$3:$B$65,MATCH(D558,البند,0),1))","v":""},"",""]
[null,{"$f":"IF(D563=\"\",\"\",INDEX([4]BG!A$3:$A$65,MATCH(D563,البند,0)))","v":""},null,null,null,null,null,null,null,null,null,null,null,null,null,null,null,null,null,null,null,null,null,null,null,null,null,null,null,null,null,null,null,null,null,null,null,null,null,null,null,null,null,{"$f":"IF(B563=\"\",0,LOOKUP(B563,[4]BG!$A$3:$A$65,[4]BG!$H$3:$H$65))-SUMIF($B$3:B563,B563,$G$3:G563)","v":0},null,null,null,null,null,null,null,null,"",null,null,null,null,null,null,null,null,{"$f":"IF(D563=\"\",\"\",INDEX([4]BG!$A$3:$B$65,MATCH(D563,البند,0),1))","v":""},"",""]
[null,{"$f":"IF(D564=\"\",\"\",INDEX([4]BG!A$3:$A$65,MATCH(D564,البند,0)))","v":""},null,null,null,null,null,null,null,null,null,null,null,null,null,null,null,null,null,null,null,null,null,null,null,null,null,null,null,null,null,null,null,null,null,null,null,null,null,null,null,null,null,{"$f":"IF(B564=\"\",0,LOOKUP(B564,[4]BG!$A$3:$A$65,[4]BG!$H$3:$H$65))-SUMIF($B$3:B564,B564,$G$3:G564)","v":0},null,null,null,null,null,null,null,null,"",null,null,null,null,null,null,null,null,{"$f":"IF(D564=\"\",\"\",INDEX([4]BG!$A$3:$B$65,MATCH(D564,البند,0),1))","v":""},"",""]
[null,{"$f":"IF(D570=\"\",\"\",INDEX([4]BG!A$3:$A$65,MATCH(D570,البند,0)))","v":""},null,null,null,null,null,null,null,null,null,null,null,null,null,null,null,null,null,null,null,null,null,null,null,null,null,null,null,null,null,null,null,null,null,null,null,null,null,null,null,null,null,{"$f":"IF(B570=\"\",0,LOOKUP(B570,[4]BG!$A$3:$A$65,[4]BG!$H$3:$H$65))-SUMIF($B$3:B570,B570,$G$3:G570)","v":0},null,null,null,null,null,null,null,null,"",null,null,null,null,null,null,null,null,{"$f":"IF(D570=\"\",\"\",INDEX([4]BG!$A$3:$B$65,MATCH(D570,البند,0),1))","v":""},"",""]
[null,{"$f":"IF(D575=\"\",\"\",INDEX([4]BG!A$3:$A$65,MATCH(D575,البند,0)))","v":""},null,null,null,null,null,null,null,null,null,null,null,null,null,null,null,null,null,null,null,null,null,null,null,null,null,null,null,null,null,null,null,null,null,null,null,null,null,null,null,null,null,{"$f":"IF(B575=\"\",0,LOOKUP(B575,[4]BG!$A$3:$A$65,[4]BG!$H$3:$H$65))-SUMIF($B$3:B575,B575,$G$3:G575)","v":0},null,null,null,null,null,null,null,null,"",null,null,null,null,null,null,null,null,{"$f":"IF(D575=\"\",\"\",INDEX([4]BG!$A$3:$B$65,MATCH(D575,البند,0),1))","v":""},"",""]
[null,{"$f":"IF(D580=\"\",\"\",INDEX([4]BG!A$3:$A$65,MATCH(D580,البند,0)))","v":""},null,null,null,null,null,null,null,null,null,null,null,null,null,null,null,null,null,null,null,null,null,null,null,null,null,null,null,null,null,null,null,null,null,null,null,null,null,null,null,null,null,{"$f":"IF(B580=\"\",0,LOOKUP(B580,[4]BG!$A$3:$A$65,[4]BG!$H$3:$H$65))-SUMIF($B$3:B580,B580,$G$3:G580)","v":0},null,null,null,null,null,null,null,null,"",null,null,null,null,null,null,null,null,{"$f":"IF(D580=\"\",\"\",INDEX([4]BG!$A$3:$B$65,MATCH(D580,البند,0),1))","v":""},"",""]
[null,{"$f":"IF(D581=\"\",\"\",INDEX([4]BG!A$3:$A$65,MATCH(D581,البند,0)))","v":""},null,null,null,null,null,null,null,null,null,null,null,null,null,null,null,null,null,null,null,null,null,null,null,null,null,null,null,null,null,null,null,null,null,null,null,null,null,null,null,null,null,{"$f":"IF(B581=\"\",0,LOOKUP(B581,[4]BG!$A$3:$A$65,[4]BG!$H$3:$H$65))-SUMIF($B$3:B581,B581,$G$3:G581)","v":0},null,null,null,null,null,null,null,null,"",null,null,null,null,null,null,null,null,{"$f":"IF(D581=\"\",\"\",INDEX([4]BG!$A$3:$B$65,MATCH(D581,البند,0),1))","v":""},{"$f":"RIGHT(BJ581,1)","v":""},""]
[null,{"$f":"IF(D588=\"\",\"\",INDEX([4]BG!A$3:$A$65,MATCH(D588,البند,0)))","v":""},null,null,null,null,null,null,null,null,null,null,null,null,null,null,null,null,null,null,null,null,null,null,null,null,null,null,null,null,null,null,null,null,null,null,null,null,null,null,null,null,null,{"$f":"IF(B588=\"\",0,LOOKUP(B588,[4]BG!$A$3:$A$65,[4]BG!$H$3:$H$65))-SUMIF($B$3:B588,B588,$G$3:G588)","v":0},null,null,null,null,null,null,null,null,"",null,null,null,null,null,null,null,null,{"$f":"IF(D588=\"\",\"\",INDEX([4]BG!$A$3:$B$65,MATCH(D588,البند,0),1))","v":""},"",""]
[null,{"$f":"IF(D592=\"\",\"\",INDEX([4]BG!A$3:$A$65,MATCH(D592,البند,0)))","v":""},null,null,null,null,null,null,null,null,null,null,null,null,null,null,null,null,null,null,null,null,null,null,null,null,null,null,null,null,null,null,null,null,null,null,null,null,null,null,null,null,null,{"$f":"IF(B592=\"\",0,LOOKUP(B592,[4]BG!$A$3:$A$65,[4]BG!$H$3:$H$65))-SUMIF($B$3:B592,B592,$G$3:G592)","v":0},null,null,null,null,null,null,null,null,"",null,null,null,null,null,null,null,null,{"$f":"IF(D592=\"\",\"\",INDEX([4]BG!$A$3:$B$65,MATCH(D592,البند,0),1))","v":""},"",""]
[null,{"$f":"IF(D597=\"\",\"\",INDEX([4]BG!A$3:$A$65,MATCH(D597,البند,0)))","v":""},null,null,null,null,null,null,null,null,null,null,null,null,null,null,null,null,null,null,null,null,null,null,null,null,null,null,null,null,null,null,null,null,null,null,null,null,null,null,null,null,null,{"$f":"IF(B597=\"\",0,LOOKUP(B597,[4]BG!$A$3:$A$65,[4]BG!$H$3:$H$65))-SUMIF($B$3:B597,B597,$G$3:G597)","v":0},null,null,null,null,null,null,null,null,"",null,null,null,null,null,null,null,null,{"$f":"IF(D597=\"\",\"\",INDEX([4]BG!$A$3:$B$65,MATCH(D597,البند,0),1))","v":""},"",""]
[null,{"$f":"IF(D598=\"\",\"\",INDEX([4]BG!A$3:$A$65,MATCH(D598,البند,0)))","v":""},null,null,null,null,null,null,null,null,null,null,null,null,null,null,null,null,null,null,null,null,null,null,null,null,null,null,null,null,null,null,null,null,null,null,null,null,null,null,null,null,null,{"$f":"IF(B598=\"\",0,LOOKUP(B598,[4]BG!$A$3:$A$65,[4]BG!$H$3:$H$65))-SUMIF($B$3:B598,B598,$G$3:G598)","v":0},null,null,null,null,null,null,null,null,"",null,null,null,null,null,null,null,null,{"$f":"IF(D598=\"\",\"\",INDEX([4]BG!$A$3:$B$65,MATCH(D598,البند,0),1))","v":""},"",""]
[null,{"$f":"IF(D602=\"\",\"\",INDEX([4]BG!A$3:$A$65,MATCH(D602,البند,0)))","v":""},null,null,null,null,null,null,null,null,null,null,null,null,null,null,null,null,null,null,null,null,null,null,null,null,null,null,null,null,null,null,null,null,null,null,null,null,null,null,null,null,null,{"$f":"IF(B602=\"\",0,LOOKUP(B602,[4]BG!$A$3:$A$65,[4]BG!$H$3:$H$65))-SUMIF($B$3:B602,B602,$G$3:G602)","v":0},null,null,null,null,null,null,null,null,"",null,null,null,null,null,null,null,null,{"$f":"IF(D602=\"\",\"\",INDEX([4]BG!$A$3:$B$65,MATCH(D602,البند,0),1))","v":""},"",""]
[null,{"$f":"IF(D609=\"\",\"\",INDEX([4]BG!A$3:$A$65,MATCH(D609,البند,0)))","v":""},null,null,null,null,null,null,null,null,null,null,null,null,null,null,null,null,null,null,null,null,null,null,null,null,null,null,null,null,null,null,null,null,null,null,null,null,null,null,null,null,null,{"$f":"IF(B609=\"\",0,LOOKUP(B609,[4]BG!$A$3:$A$65,[4]BG!$H$3:$H$65))-SUMIF($B$3:B609,B609,$G$3:G609)","v":0},null,null,null,null,null,null,null,null,"",null,null,null,null,null,null,null,null,{"$f":"IF(D609=\"\",\"\",INDEX([4]BG!$A$3:$B$65,MATCH(D609,البند,0),1))","v":""},"",""]
[null,{"$f":"IF(D614=\"\",\"\",INDEX([4]BG!A$3:$A$65,MATCH(D614,البند,0)))","v":""},null,null,null,null,null,null,null,null,null,null,null,null,null,null,null,null,null,null,null,null,null,null,null,null,null,null,null,null,null,null,null,null,null,null,null,null,null,null,null,null,null,{"$f":"IF(B614=\"\",0,LOOKUP(B614,[4]BG!$A$3:$A$65,[4]BG!$H$3:$H$65))-SUMIF($B$3:B614,B614,$G$3:G614)","v":0},null,null,null,null,null,null,null,null,"",null,null,null,null,null,null,null,null,{"$f":"IF(D614=\"\",\"\",INDEX([4]BG!$A$3:$B$65,MATCH(D614,البند,0),1))","v":""},"",""]
[null,{"$f":"IF(D615=\"\",\"\",INDEX([4]BG!A$3:$A$65,MATCH(D615,البند,0)))","v":""},null,null,null,null,null,null,null,null,null,null,null,null,null,null,null,null,null,null,null,null,null,null,null,null,null,null,null,null,null,null,null,null,null,null,null,null,null,null,null,null,null,{"$f":"IF(B615=\"\",0,LOOKUP(B615,[4]BG!$A$3:$A$65,[4]BG!$H$3:$H$65))-SUMIF($B$3:B615,B615,$G$3:G615)","v":0},null,null,null,null,null,null,null,null,"",null,null,null,null,null,null,null,null,{"$f":"IF(D615=\"\",\"\",INDEX([4]BG!$A$3:$B$65,MATCH(D615,البند,0),1))","v":""},"",""]
[null,{"$f":"IF(D620=\"\",\"\",INDEX([4]BG!A$3:$A$65,MATCH(D620,البند,0)))","v":""},null,null,null,null,null,null,null,null,null,null,null,null,null,null,null,null,null,null,null,null,null,null,null,null,null,null,null,null,null,null,null,null,null,null,null,null,null,null,null,null,null,{"$f":"IF(B620=\"\",0,LOOKUP(B620,[4]BG!$A$3:$A$65,[4]BG!$H$3:$H$65))-SUMIF($B$3:B620,B620,$G$3:G620)","v":0},null,null,null,null,null,null,null,null,"",null,null,null,null,null,null,null,null,{"$f":"IF(D620=\"\",\"\",INDEX([4]BG!$A$3:$B$65,MATCH(D620,البند,0),1))","v":""},"",""]
[null,{"$f":"IF(D626=\"\",\"\",INDEX([4]BG!A$3:$A$65,MATCH(D626,البند,0)))","v":""},null,null,null,null,null,null,null,null,null,null,null,null,null,null,null,null,null,null,null,null,null,null,null,null,null,null,null,null,null,null,null,null,null,null,null,null,null,null,null,null,null,{"$f":"IF(B626=\"\",0,LOOKUP(B626,[4]BG!$A$3:$A$65,[4]BG!$H$3:$H$65))-SUMIF($B$3:B626,B626,$G$3:G626)","v":0},null,null,null,null,null,null,null,null,"",null,null,null,null,null,null,null,null,{"$f":"IF(D626=\"\",\"\",INDEX([4]BG!$A$3:$B$65,MATCH(D626,البند,0),1))","v":""},"",""]
[null,{"$f":"IF(D631=\"\",\"\",INDEX([4]BG!A$3:$A$65,MATCH(D631,البند,0)))","v":""},null,null,null,null,null,null,null,null,null,null,null,null,null,null,null,null,null,null,null,null,null,null,null,null,null,null,null,null,null,null,null,null,null,null,null,null,null,null,null,null,null,{"$f":"IF(B631=\"\",0,LOOKUP(B631,[4]BG!$A$3:$A$65,[4]BG!$H$3:$H$65))-SUMIF($B$3:B631,B631,$G$3:G631)","v":0},null,null,null,null,null,null,null,null,"",null,null,null,null,null,null,null,null,{"$f":"IF(D631=\"\",\"\",INDEX([4]BG!$A$3:$B$65,MATCH(D631,البند,0),1))","v":""},"",""]
[null,{"$f":"IF(D632=\"\",\"\",INDEX([4]BG!A$3:$A$65,MATCH(D632,البند,0)))","v":""},null,null,null,null,null,null,null,null,null,null,null,null,null,null,null,null,null,null,null,null,null,null,null,null,null,null,null,null,null,null,null,null,null,null,null,null,null,null,null,null,null,{"$f":"IF(B632=\"\",0,LOOKUP(B632,[4]BG!$A$3:$A$65,[4]BG!$H$3:$H$65))-SUMIF($B$3:B632,B632,$G$3:G632)","v":0},null,null,null,null,null,null,null,null,"",null,null,null,null,null,null,null,null,{"$f":"IF(D632=\"\",\"\",INDEX([4]BG!$A$3:$B$65,MATCH(D632,البند,0),1))","v":""},"",""]
[null,{"$f":"IF(D639=\"\",\"\",INDEX([4]BG!A$3:$A$65,MATCH(D639,البند,0)))","v":""},null,null,null,null,null,null,null,null,null,null,null,null,null,null,null,null,null,null,null,null,null,null,null,null,null,null,null,null,null,null,null,null,null,null,null,null,null,null,null,null,null,{"$f":"IF(B639=\"\",0,LOOKUP(B639,[4]BG!$A$3:$A$65,[4]BG!$H$3:$H$65))-SUMIF($B$3:B639,B639,$G$3:G639)","v":0},null,null,null,null,null,null,null,null,"",null,null,null,null,null,null,null,null,{"$f":"IF(D639=\"\",\"\",INDEX([4]BG!$A$3:$B$65,MATCH(D639,البند,0),1))","v":""},"",""]
[null,{"$f":"IF(D643=\"\",\"\",INDEX([4]BG!A$3:$A$65,MATCH(D643,البند,0)))","v":""},null,null,null,null,null,null,null,null,null,null,null,null,null,null,null,null,null,null,null,null,null,null,null,null,null,null,null,null,null,null,null,null,null,null,null,null,null,null,null,null,null,{"$f":"IF(B643=\"\",0,LOOKUP(B643,[4]BG!$A$3:$A$65,[4]BG!$H$3:$H$65))-SUMIF($B$3:B643,B643,$G$3:G643)","v":0},null,null,null,null,null,null,null,null,"",null,null,null,null,null,null,null,null,{"$f":"IF(D643=\"\",\"\",INDEX([4]BG!$A$3:$B$65,MATCH(D643,البند,0),1))","v":""},"",""]
[null,{"$f":"IF(D648=\"\",\"\",INDEX([4]BG!A$3:$A$65,MATCH(D648,البند,0)))","v":""},null,null,null,null,null,null,null,null,null,null,null,null,null,null,null,null,null,null,null,null,null,null,null,null,null,null,null,null,null,null,null,null,null,null,null,null,null,null,null,null,null,{"$f":"IF(B648=\"\",0,LOOKUP(B648,[4]BG!$A$3:$A$65,[4]BG!$H$3:$H$65))-SUMIF($B$3:B648,B648,$G$3:G648)","v":0},null,null,null,null,null,null,null,null,"",null,null,null,null,null,null,null,null,{"$f":"IF(D648=\"\",\"\",INDEX([4]BG!$A$3:$B$65,MATCH(D648,البند,0),1))","v":""},"",""]
[null,{"$f":"IF(D649=\"\",\"\",INDEX([4]BG!A$3:$A$65,MATCH(D649,البند,0)))","v":""},null,null,null,null,null,null,null,null,null,null,null,null,null,null,null,null,null,null,null,null,null,null,null,null,null,null,null,null,null,null,null,null,null,null,null,null,null,null,null,null,null,{"$f":"IF(B649=\"\",0,LOOKUP(B649,[4]BG!$A$3:$A$65,[4]BG!$H$3:$H$65))-SUMIF($B$3:B649,B649,$G$3:G649)","v":0},null,null,null,null,null,null,null,null,"",null,null,null,null,null,null,null,null,{"$f":"IF(D649=\"\",\"\",INDEX([4]BG!$A$3:$B$65,MATCH(D649,البند,0),1))","v":""},"",""]
[null,{"$f":"IF(D657=\"\",\"\",INDEX([4]BG!A$3:$A$65,MATCH(D657,البند,0)))","v":""},null,null,null,null,null,null,null,null,null,null,null,null,null,null,null,null,null,null,null,null,null,null,null,null,null,null,null,null,null,null,null,null,null,null,null,null,null,null,null,null,null,{"$f":"IF(B657=\"\",0,LOOKUP(B657,[4]BG!$A$3:$A$65,[4]BG!$H$3:$H$65))-SUMIF($B$3:B657,B657,$G$3:G657)","v":0},null,null,null,null,null,null,null,null,"",null,null,null,null,null,null,null,null,{"$f":"IF(D657=\"\",\"\",INDEX([4]BG!$A$3:$B$65,MATCH(D657,البند,0),1))","v":""},"",""]
[null,{"$f":"IF(D660=\"\",\"\",INDEX([4]BG!A$3:$A$65,MATCH(D660,البند,0)))","v":""},null,null,null,null,null,null,null,null,null,null,null,null,null,null,null,null,null,null,null,null,null,null,null,null,null,null,null,null,null,null,null,null,null,null,null,null,null,null,null,null,null,{"$f":"IF(B660=\"\",0,LOOKUP(B660,[4]BG!$A$3:$A$65,[4]BG!$H$3:$H$65))-SUMIF($B$3:B660,B660,$G$3:G660)","v":0},null,null,null,null,null,null,null,null,"",null,null,null,null,null,null,null,null,{"$f":"IF(D660=\"\",\"\",INDEX([4]BG!$A$3:$B$65,MATCH(D660,البند,0),1))","v":""},"",""]
[null,{"$f":"IF(D665=\"\",\"\",INDEX([4]BG!A$3:$A$65,MATCH(D665,البند,0)))","v":""},null,null,null,null,null,null,null,null,null,null,null,null,null,null,null,null,null,null,null,null,null,null,null,null,null,null,null,null,null,null,null,null,null,null,null,null,null,null,null,null,null,{"$f":"IF(B665=\"\",0,LOOKUP(B665,[4]BG!$A$3:$A$65,[4]BG!$H$3:$H$65))-SUMIF($B$3:B665,B665,$G$3:G665)","v":0},null,null,null,null,null,null,null,null,"",null,null,null,null,null,null,null,null,{"$f":"IF(D665=\"\",\"\",INDEX([4]BG!$A$3:$B$65,MATCH(D665,البند,0),1))","v":""},"",""]
[null,{"$f":"IF(D666=\"\",\"\",INDEX([4]BG!A$3:$A$65,MATCH(D666,البند,0)))","v":""},null,null,null,null,null,null,null,null,null,null,null,null,null,null,null,null,null,null,null,null,null,null,null,null,null,null,null,null,null,null,null,null,null,null,null,null,null,null,null,null,null,{"$f":"IF(B666=\"\",0,LOOKUP(B666,[4]BG!$A$3:$A$65,[4]BG!$H$3:$H$65))-SUMIF($B$3:B666,B666,$G$3:G666)","v":0},null,null,null,null,null,null,null,null,"",null,null,null,null,null,null,null,null,{"$f":"IF(D666=\"\",\"\",INDEX([4]BG!$A$3:$B$65,MATCH(D666,البند,0),1))","v":""},"",""]
[null,{"$f":"IF(D671=\"\",\"\",INDEX([4]BG!A$3:$A$65,MATCH(D671,البند,0)))","v":""},null,null,null,null,null,null,null,null,null,null,null,null,null,null,null,null,null,null,null,null,null,null,null,null,null,null,null,null,null,null,null,null,null,null,null,null,null,null,null,null,null,{"$f":"IF(B671=\"\",0,LOOKUP(B671,[4]BG!$A$3:$A$65,[4]BG!$H$3:$H$65))-SUMIF($B$3:B671,B671,$G$3:G671)","v":0},null,null,null,null,null,null,null,null,"",null,null,null,null,null,null,null,null,{"$f":"IF(D671=\"\",\"\",INDEX([4]BG!$A$3:$B$65,MATCH(D671,البند,0),1))","v":""},"",""]
[null,{"$f":"IF(D677=\"\",\"\",INDEX([4]BG!A$3:$A$65,MATCH(D677,البند,0)))","v":""},null,null,null,null,null,null,null,null,null,null,null,null,null,null,null,null,null,null,null,null,null,null,null,null,null,null,null,null,null,null,null,null,null,null,null,null,null,null,null,null,null,{"$f":"IF(B677=\"\",0,LOOKUP(B677,[4]BG!$A$3:$A$65,[4]BG!$H$3:$H$65))-SUMIF($B$3:B677,B677,$G$3:G677)","v":0},null,null,null,null,null,null,null,null,"",null,null,null,null,null,null,null,null,{"$f":"IF(D677=\"\",\"\",INDEX([4]BG!$A$3:$B$65,MATCH(D677,البند,0),1))","v":""},"",""]
[null,{"$f":"IF(D682=\"\",\"\",INDEX([4]BG!A$3:$A$65,MATCH(D682,البند,0)))","v":""},null,null,null,null,null,null,null,null,null,null,null,null,null,null,null,null,null,null,null,null,null,null,null,null,null,null,null,null,null,null,null,null,null,null,null,null,null,null,null,null,null,{"$f":"IF(B682=\"\",0,LOOKUP(B682,[4]BG!$A$3:$A$65,[4]BG!$H$3:$H$65))-SUMIF($B$3:B682,B682,$G$3:G682)","v":0},null,null,null,null,null,null,null,null,"",null,null,null,null,null,null,null,null,{"$f":"IF(D682=\"\",\"\",INDEX([4]BG!$A$3:$B$65,MATCH(D682,البند,0),1))","v":""},"",""]
[null,{"$f":"IF(D683=\"\",\"\",INDEX([4]BG!A$3:$A$65,MATCH(D683,البند,0)))","v":""},null,null,null,null,null,null,null,null,null,null,null,null,null,null,null,null,null,null,null,null,null,null,null,null,null,null,null,null,null,null,null,null,null,null,null,null,null,null,null,null,null,{"$f":"IF(B683=\"\",0,LOOKUP(B683,[4]BG!$A$3:$A$65,[4]BG!$H$3:$H$65))-SUMIF($B$3:B683,B683,$G$3:G683)","v":0},null,null,null,null,null,null,null,null,"",null,null,null,null,null,null,null,null,{"$f":"IF(D683=\"\",\"\",INDEX([4]BG!$A$3:$B$65,MATCH(D683,البند,0),1))","v":""},"",""]
[null,{"$f":"IF(D689=\"\",\"\",INDEX([4]BG!A$3:$A$65,MATCH(D689,البند,0)))","v":""},null,null,null,null,null,null,null,null,null,null,null,null,null,null,null,null,null,null,null,null,null,null,null,null,null,null,null,null,null,null,null,null,null,null,null,null,null,null,null,null,null,{"$f":"IF(B689=\"\",0,LOOKUP(B689,[4]BG!$A$3:$A$65,[4]BG!$H$3:$H$65))-SUMIF($B$3:B689,B689,$G$3:G689)","v":0},null,null,null,null,null,null,null,null,"",null,null,null,null,null,null,null,null,{"$f":"IF(D689=\"\",\"\",INDEX([4]BG!$A$3:$B$65,MATCH(D689,البند,0),1))","v":""},"",""]
[null,{"$f":"IF(D694=\"\",\"\",INDEX([4]BG!A$3:$A$65,MATCH(D694,البند,0)))","v":""},null,null,null,null,null,null,null,null,null,null,null,null,null,null,null,null,null,null,null,null,null,null,null,null,null,null,null,null,null,null,null,null,null,null,null,null,null,null,null,null,null,{"$f":"IF(B694=\"\",0,LOOKUP(B694,[4]BG!$A$3:$A$65,[4]BG!$H$3:$H$65))-SUMIF($B$3:B694,B694,$G$3:G694)","v":0},null,null,null,null,null,null,null,null,"",null,null,null,null,null,null,null,null,{"$f":"IF(D694=\"\",\"\",INDEX([4]BG!$A$3:$B$65,MATCH(D694,البند,0),1))","v":""},"",""]
[null,{"$f":"IF(D699=\"\",\"\",INDEX([4]BG!A$3:$A$65,MATCH(D699,البند,0)))","v":""},null,null,null,null,null,null,null,null,null,null,null,null,null,null,null,null,null,null,null,null,null,null,null,null,null,null,null,null,null,null,null,null,null,null,null,null,null,null,null,null,null,{"$f":"IF(B699=\"\",0,LOOKUP(B699,[4]BG!$A$3:$A$65,[4]BG!$H$3:$H$65))-SUMIF($B$3:B699,B699,$G$3:G699)","v":0},null,null,null,null,null,null,null,null,"",null,null,null,null,null,null,null,null,{"$f":"IF(D699=\"\",\"\",INDEX([4]BG!$A$3:$B$65,MATCH(D699,البند,0),1))","v":""},"",""]
[null,{"$f":"IF(D700=\"\",\"\",INDEX([4]BG!A$3:$A$65,MATCH(D700,البند,0)))","v":""},null,null,null,null,null,null,null,null,null,null,null,null,null,null,null,null,null,null,null,null,null,null,null,null,null,null,null,null,null,null,null,null,null,null,null,null,null,null,null,null,null,{"$f":"IF(B700=\"\",0,LOOKUP(B700,[4]BG!$A$3:$A$65,[4]BG!$H$3:$H$65))-SUMIF($B$3:B700,B700,$G$3:G700)","v":0},null,null,null,null,null,null,null,null,"",null,null,null,null,null,null,null,null,{"$f":"IF(D700=\"\",\"\",INDEX([4]BG!$A$3:$B$65,MATCH(D700,البند,0),1))","v":""},"",""]
[null,"",null,null,null,null,null,null,null,null,null,null,null,null,null,null,null,null,null,null,null,null,null,null,null,null,null,null,null,null,null,null,null,null,null,null,null,null,null,null,null,null,null,{"$f":"IF(B708=\"\",0,LOOKUP(B708,[4]BG!$A$3:$A$65,[4]BG!$H$3:$H$65))-SUMIF($B$3:B708,B708,$G$3:G708)","v":0},null,null,null,null,null,null,null,null,"",null,null,null,null,null,null,null,null,{"$f":"IF(D708=\"\",\"\",INDEX([4]BG!$A$3:$B$65,MATCH(D708,البند,0),1))","v":""},"",""]
[null,"",null,null,null,null,null,null,null,null,null,null,null,null,null,null,null,null,null,null,null,null,null,null,null,null,null,null,null,null,null,null,null,null,null,null,null,null,null,null,null,null,null,{"$f":"IF(B711=\"\",0,LOOKUP(B711,[4]BG!$A$3:$A$65,[4]BG!$H$3:$H$65))-SUMIF($B$3:B711,B711,$G$3:G711)","v":0},null,null,null,null,null,null,null,null,"",null,null,null,null,null,null,null,null,{"$f":"IF(D711=\"\",\"\",INDEX([4]BG!$A$3:$B$65,MATCH(D711,البند,0),1))","v":""},"",""]
[null,"",null,null,null,null,null,null,null,null,null,null,null,null,null,null,null,null,null,null,null,null,null,null,null,null,null,null,null,null,null,null,null,null,null,null,null,null,null,null,null,null,null,{"$f":"IF(B716=\"\",0,LOOKUP(B716,[4]BG!$A$3:$A$65,[4]BG!$H$3:$H$65))-SUMIF($B$3:B716,B716,$G$3:G716)","v":0},null,null,null,null,null,null,null,null,"",null,null,null,null,null,null,null,null,{"$f":"IF(D716=\"\",\"\",INDEX([4]BG!$A$3:$B$65,MATCH(D716,البند,0),1))","v":""},"",""]
[null,"",null,null,null,null,null,null,null,null,null,null,null,null,null,null,null,null,null,null,null,null,null,null,null,null,null,null,null,null,null,null,null,null,null,null,null,null,null,null,null,null,null,{"$f":"IF(B717=\"\",0,LOOKUP(B717,[4]BG!$A$3:$A$65,[4]BG!$H$3:$H$65))-SUMIF($B$3:B717,B717,$G$3:G717)","v":0},null,null,null,null,null,null,null,null,"",null,null,null,null,null,null,null,null,{"$f":"IF(D717=\"\",\"\",INDEX([4]BG!$A$3:$B$65,MATCH(D717,البند,0),1))","v":""},"",""]
[null,"",null,null,null,null,null,null,null,null,null,null,null,null,null,null,null,null,null,null,null,null,null,null,null,null,null,null,null,null,null,null,null,null,null,null,null,null,null,null,null,null,null,{"$f":"IF(B721=\"\",0,LOOKUP(B721,[4]BG!$A$3:$A$65,[4]BG!$H$3:$H$65))-SUMIF($B$3:B721,B721,$G$3:G721)","v":0},null,null,null,null,null,null,null,null,"",null,null,null,null,null,null,null,null,{"$f":"IF(D721=\"\",\"\",INDEX([4]BG!$A$3:$B$65,MATCH(D721,البند,0),1))","v":""},"",""]
[null,"",null,null,null,null,null,null,null,null,null,null,null,null,null,null,null,null,null,null,null,null,null,null,null,null,null,null,null,null,null,null,null,null,null,null,null,null,null,null,null,null,null,{"$f":"IF(B728=\"\",0,LOOKUP(B728,[4]BG!$A$3:$A$65,[4]BG!$H$3:$H$65))-SUMIF($B$3:B728,B728,$G$3:G728)","v":0},null,null,null,null,null,null,null,null,"",null,null,null,null,null,null,null,null,{"$f":"IF(D728=\"\",\"\",INDEX([4]BG!$A$3:$B$65,MATCH(D728,البند,0),1))","v":""},"",""]
[null,0,null,null,null,null,null,null,null,null,null,null,null,null,null,null,null,null,null,null,null,null,null,null,null,null,null,null,null,null,null,null,null,null,null,null,null,null,null,null,null,null,null,{"$f":"IF(B733=\"\",0,LOOKUP(B733,[4]BG!$A$3:$A$65,[4]BG!$H$3:$H$65))-SUMIF($B$3:B733,B733,$G$3:G733)","v":{"$error":"#N/A"}},null,null,null,null,null,null,null,null,""]
[null,0,null,null,null,null,null,null,null,null,null,null,null,null,null,null,null,null,null,null,null,null,null,null,null,null,null,null,null,null,null,null,null,null,null,null,null,null,null,null,null,null,null,{"$f":"IF(B734=\"\",0,LOOKUP(B734,[4]BG!$A$3:$A$65,[4]BG!$H$3:$H$65))-SUMIF($B$3:B734,B734,$G$3:G734)","v":{"$error":"#N/A"}},null,null,null,null,null,null,null,null,""]
[null,0,null,null,null,null,null,null,null,null,null,null,null,null,null,null,null,null,null,null,null,null,null,null,null,null,null,null,null,null,null,null,null,null,null,null,null,null,null,null,null,null,null,{"$f":"IF(B740=\"\",0,LOOKUP(B740,[4]BG!$A$3:$A$65,[4]BG!$H$3:$H$65))-SUMIF($B$3:B740,B740,$G$3:G740)","v":{"$error":"#N/A"}},null,null,null,null,null,null,null,null,""]
[null,0,null,null,null,null,null,null,null,null,null,null,null,null,null,null,null,null,null,null,null,null,null,null,null,null,null,null,null,null,null,null,null,null,null,null,null,null,null,null,null,null,null,{"$f":"IF(B745=\"\",0,LOOKUP(B745,[4]BG!$A$3:$A$65,[4]BG!$H$3:$H$65))-SUMIF($B$3:B745,B745,$G$3:G745)","v":{"$error":"#N/A"}},null,null,null,null,null,null,null,null,""]
[null,0,null,null,null,null,null,null,null,null,null,null,null,null,null,null,null,null,null,null,null,null,null,null,null,null,null,null,null,null,null,null,null,null,null,null,null,null,null,null,null,null,null,{"$f":"IF(B750=\"\",0,LOOKUP(B750,[4]BG!$A$3:$A$65,[4]BG!$H$3:$H$65))-SUMIF($B$3:B750,B750,$G$3:G750)","v":{"$error":"#N/A"}},null,null,null,null,null,null,null,null,""]
[null,0,null,null,null,null,null,null,null,null,null,null,null,null,null,null,null,null,null,null,null,null,null,null,null,null,null,null,null,null,null,null,null,null,null,null,null,null,null,null,null,null,null,{"$f":"IF(B751=\"\",0,LOOKUP(B751,[4]BG!$A$3:$A$65,[4]BG!$H$3:$H$65))-SUMIF($B$3:B751,B751,$G$3:G751)","v":{"$error":"#N/A"}},null,null,null,null,null,null,null,null,""]
[null,0,null,null,null,null,null,null,null,null,null,null,null,null,null,null,null,null,null,null,null,null,null,null,null,null,null,null,null,null,null,null,null,null,null,null,null,null,null,null,null,null,null,{"$f":"IF(B758=\"\",0,LOOKUP(B758,[4]BG!$A$3:$A$65,[4]BG!$H$3:$H$65))-SUMIF($B$3:B758,B758,$G$3:G758)","v":{"$error":"#N/A"}},null,null,null,null,null,null,null,null,""]
[null,0,null,null,null,null,null,null,null,null,null,null,null,null,null,null,null,null,null,null,null,null,null,null,null,null,null,null,null,null,null,null,null,null,null,null,null,null,null,null,null,null,null,{"$f":"IF(B762=\"\",0,LOOKUP(B762,[4]BG!$A$3:$A$65,[4]BG!$H$3:$H$65))-SUMIF($B$3:B762,B762,$G$3:G762)","v":{"$error":"#N/A"}},null,null,null,null,null,null,null,null,""]
[null,0,null,null,null,null,null,null,null,null,null,null,null,null,null,null,null,null,null,null,null,null,null,null,null,null,null,null,null,null,null,null,null,null,null,null,null,null,null,null,null,null,null,{"$f":"IF(B767=\"\",0,LOOKUP(B767,[4]BG!$A$3:$A$65,[4]BG!$H$3:$H$65))-SUMIF($B$3:B767,B767,$G$3:G767)","v":{"$error":"#N/A"}},null,null,null,null,null,null,null,null,""]
[null,0,null,null,null,null,null,null,null,null,null,null,null,null,null,null,null,null,null,null,null,null,null,null,null,null,null,null,null,null,null,null,null,null,null,null,null,null,null,null,null,null,null,{"$f":"IF(B768=\"\",0,LOOKUP(B768,[4]BG!$A$3:$A$65,[4]BG!$H$3:$H$65))-SUMIF($B$3:B768,B768,$G$3:G768)","v":{"$error":"#N/A"}},null,null,null,null,null,null,null,null,""]
[null,0,null,null,null,null,null,null,null,null,null,null,null,null,null,null,null,null,null,null,null,null,null,null,null,null,null,null,null,null,null,null,null,null,null,null,null,null,null,null,null,null,null,{"$f":"IF(B772=\"\",0,LOOKUP(B772,[4]BG!$A$3:$A$65,[4]BG!$H$3:$H$65))-SUMIF($B$3:B772,B772,$G$3:G772)","v":{"$error":"#N/A"}},null,null,null,null,null,null,null,null,""]
[null,0,null,null,null,null,null,null,null,null,null,null,null,null,null,null,null,null,null,null,null,null,null,null,null,null,null,null,null,null,null,null,null,null,null,null,null,null,null,null,null,null,null,{"$f":"IF(B779=\"\",0,LOOKUP(B779,[4]BG!$A$3:$A$65,[4]BG!$H$3:$H$65))-SUMIF($B$3:B779,B779,$G$3:G779)","v":{"$error":"#N/A"}},null,null,null,null,null,null,null,null,""]
[null,0,null,null,null,null,null,null,null,null,null,null,null,null,null,null,null,null,null,null,null,null,null,null,null,null,null,null,null,null,null,null,null,null,null,null,null,null,null,null,null,null,null,{"$f":"IF(B784=\"\",0,LOOKUP(B784,[4]BG!$A$3:$A$65,[4]BG!$H$3:$H$65))-SUMIF($B$3:B784,B784,$G$3:G784)","v":{"$error":"#N/A"}},null,null,null,null,null,null,null,null,""]
[null,0,null,null,null,null,null,null,null,null,null,null,null,null,null,null,null,null,null,null,null,null,null,null,null,null,null,null,null,null,null,null,null,null,null,null,null,null,null,null,null,null,null,{"$f":"IF(B785=\"\",0,LOOKUP(B785,[4]BG!$A$3:$A$65,[4]BG!$H$3:$H$65))-SUMIF($B$3:B785,B785,$G$3:G785)","v":{"$error":"#N/A"}},null,null,null,null,null,null,null,null,""]
[null,0,null,null,null,null,null,null,null,null,null,null,null,null,null,null,null,null,null,null,null,null,null,null,null,null,null,null,null,null,null,null,null,null,null,null,null,null,null,null,null,null,null,{"$f":"IF(B790=\"\",0,LOOKUP(B790,[4]BG!$A$3:$A$65,[4]BG!$H$3:$H$65))-SUMIF($B$3:B790,B790,$G$3:G790)","v":{"$error":"#N/A"}},null,null,null,null,null,null,null,null,""]
[null,0,null,null,null,null,null,null,null,null,null,null,null,null,null,null,null,null,null,null,null,null,null,null,null,null,null,null,null,null,null,null,null,null,null,null,null,null,null,null,null,null,null,{"$f":"IF(B796=\"\",0,LOOKUP(B796,[4]BG!$A$3:$A$65,[4]BG!$H$3:$H$65))-SUMIF($B$3:B796,B796,$G$3:G796)","v":{"$error":"#N/A"}},null,null,null,null,null,null,null,null,""]
[null,0,null,null,null,null,null,null,null,null,null,null,null,null,null,null,null,null,null,null,null,null,null,null,null,null,null,null,null,null,null,null,null,null,null,null,null,null,null,null,null,null,null,{"$f":"IF(B801=\"\",0,LOOKUP(B801,[4]BG!$A$3:$A$65,[4]BG!$H$3:$H$65))-SUMIF($B$3:B801,B801,$G$3:G801)","v":{"$error":"#N/A"}},null,null,null,null,null,null,null,null,""]
[null,0,null,null,null,null,null,null,null,null,null,null,null,null,null,null,null,null,null,null,null,null,null,null,null,null,null,null,null,null,null,null,null,null,null,null,null,null,null,null,null,null,null,{"$f":"IF(B802=\"\",0,LOOKUP(B802,[4]BG!$A$3:$A$65,[4]BG!$H$3:$H$65))-SUMIF($B$3:B802,B802,$G$3:G802)","v":{"$error":"#N/A"}},null,null,null,null,null,null,null,null,""]
[null,0,null,null,null,null,null,null,null,null,null,null,null,null,null,null,null,null,null,null,null,null,null,null,null,null,null,null,null,null,null,null,null,null,null,null,null,null,null,null,null,null,null,{"$f":"IF(B809=\"\",0,LOOKUP(B809,[4]BG!$A$3:$A$65,[4]BG!$H$3:$H$65))-SUMIF($B$3:B809,B809,$G$3:G809)","v":{"$error":"#N/A"}},null,null,null,null,null,null,null,null,""]
[null,0,null,null,null,null,null,null,null,null,null,null,null,null,null,null,null,null,null,null,null,null,null,null,null,null,null,null,null,null,null,null,null,null,null,null,null,null,null,null,null,null,null,{"$f":"IF(B813=\"\",0,LOOKUP(B813,[4]BG!$A$3:$A$65,[4]BG!$H$3:$H$65))-SUMIF($B$3:B813,B813,$G$3:G813)","v":{"$error":"#N/A"}},null,null,null,null,null,null,null,null,""]
[null,0,null,null,null,null,null,null,null,null,null,null,null,null,null,null,null,null,null,null,null,null,null,null,null,null,null,null,null,null,null,null,null,null,null,null,null,null,null,null,null,null,null,{"$f":"IF(B818=\"\",0,LOOKUP(B818,[4]BG!$A$3:$A$65,[4]BG!$H$3:$H$65))-SUMIF($B$3:B818,B818,$G$3:G818)","v":{"$error":"#N/A"}},null,null,null,null,null,null,null,null,""]
[null,0,null,null,null,null,null,null,null,null,null,null,null,null,null,null,null,null,null,null,null,null,null,null,null,null,null,null,null,null,null,null,null,null,null,null,null,null,null,null,null,null,null,{"$f":"IF(B819=\"\",0,LOOKUP(B819,[4]BG!$A$3:$A$65,[4]BG!$H$3:$H$65))-SUMIF($B$3:B819,B819,$G$3:G819)","v":{"$error":"#N/A"}},null,null,null,null,null,null,null,null,""]
[null,0,null,null,null,null,null,null,null,null,null,null,null,null,null,null,null,null,null,null,null,null,null,null,null,null,null,null,null,null,null,null,null,null,null,null,null,null,null,null,null,null,null,{"$f":"IF(B823=\"\",0,LOOKUP(B823,[4]BG!$A$3:$A$65,[4]BG!$H$3:$H$65))-SUMIF($B$3:B823,B823,$G$3:G823)","v":{"$error":"#N/A"}},null,null,null,null,null,null,null,null,""]
[null,0,null,null,null,null,null,null,null,null,null,null,null,null,null,null,null,null,null,null,null,null,null,null,null,null,null,null,null,null,null,null,null,null,null,null,null,null,null,null,null,null,null,{"$f":"IF(B830=\"\",0,LOOKUP(B830,[4]BG!$A$3:$A$65,[4]BG!$H$3:$H$65))-SUMIF($B$3:B830,B830,$G$3:G830)","v":{"$error":"#N/A"}},null,null,null,null,null,null,null,null,""]
[null,0,null,null,null,null,null,null,null,null,null,null,null,null,null,null,null,null,null,null,null,null,null,null,null,null,null,null,null,null,null,null,null,null,null,null,null,null,null,null,null,null,null,{"$f":"IF(B835=\"\",0,LOOKUP(B835,[4]BG!$A$3:$A$65,[4]BG!$H$3:$H$65))-SUMIF($B$3:B835,B835,$G$3:G835)","v":{"$error":"#N/A"}},null,null,null,null,null,null,null,null,""]
[null,0,null,null,null,null,null,null,null,null,null,null,null,null,null,null,null,null,null,null,null,null,null,null,null,null,null,null,null,null,null,null,null,null,null,null,null,null,null,null,null,null,null,{"$f":"IF(B836=\"\",0,LOOKUP(B836,[4]BG!$A$3:$A$65,[4]BG!$H$3:$H$65))-SUMIF($B$3:B836,B836,$G$3:G836)","v":{"$error":"#N/A"}},null,null,null,null,null,null,null,null,""]
[null,0,null,null,null,null,null,null,null,null,null,null,null,null,null,null,null,null,null,null,null,null,null,null,null,null,null,null,null,null,null,null,null,null,null,null,null,null,null,null,null,null,null,{"$f":"IF(B841=\"\",0,LOOKUP(B841,[4]BG!$A$3:$A$65,[4]BG!$H$3:$H$65))-SUMIF($B$3:B841,B841,$G$3:G841)","v":{"$error":"#N/A"}},null,null,null,null,null,null,null,null,""]
[null,0,null,null,null,null,null,null,null,null,null,null,null,null,null,null,null,null,null,null,null,null,null,null,null,null,null,null,null,null,null,null,null,null,null,null,null,null,null,null,null,null,null,{"$f":"IF(B847=\"\",0,LOOKUP(B847,[4]BG!$A$3:$A$65,[4]BG!$H$3:$H$65))-SUMIF($B$3:B847,B847,$G$3:G847)","v":{"$error":"#N/A"}},null,null,null,null,null,null,null,null,""]
[null,0,null,null,null,null,null,null,null,null,null,null,null,null,null,null,null,null,null,null,null,null,null,null,null,null,null,null,null,null,null,null,null,null,null,null,null,null,null,null,null,null,null,{"$f":"IF(B852=\"\",0,LOOKUP(B852,[4]BG!$A$3:$A$65,[4]BG!$H$3:$H$65))-SUMIF($B$3:B852,B852,$G$3:G852)","v":{"$error":"#N/A"}},null,null,null,null,null,null,null,null,""]
[null,0,null,null,null,null,null,null,null,null,null,null,null,null,null,null,null,null,null,null,null,null,null,null,null,null,null,null,null,null,null,null,null,null,null,null,null,null,null,null,null,null,null,{"$f":"IF(B853=\"\",0,LOOKUP(B853,[4]BG!$A$3:$A$65,[4]BG!$H$3:$H$65))-SUMIF($B$3:B853,B853,$G$3:G853)","v":{"$error":"#N/A"}},null,null,null,null,null,null,null,null,""]
[null,0,null,null,null,null,null,null,null,null,null,null,null,null,null,null,null,null,null,null,null,null,null,null,null,null,null,null,null,null,null,null,null,null,null,null,null,null,null,null,null,null,null,{"$f":"IF(B860=\"\",0,LOOKUP(B860,[4]BG!$A$3:$A$65,[4]BG!$H$3:$H$65))-SUMIF($B$3:B860,B860,$G$3:G860)","v":{"$error":"#N/A"}},null,null,null,null,null,null,null,null,""]
[null,0,null,null,null,null,null,null,null,null,null,null,null,null,null,null,null,null,null,null,null,null,null,null,null,null,null,null,null,null,null,null,null,null,null,null,null,null,null,null,null,null,null,{"$f":"IF(B864=\"\",0,LOOKUP(B864,[4]BG!$A$3:$A$65,[4]BG!$H$3:$H$65))-SUMIF($B$3:B864,B864,$G$3:G864)","v":{"$error":"#N/A"}},null,null,null,null,null,null,null,null,""]
[null,0,null,null,null,null,null,null,null,null,null,null,null,null,null,null,null,null,null,null,null,null,null,null,null,null,null,null,null,null,null,null,null,null,null,null,null,null,null,null,null,null,null,{"$f":"IF(B869=\"\",0,LOOKUP(B869,[4]BG!$A$3:$A$65,[4]BG!$H$3:$H$65))-SUMIF($B$3:B869,B869,$G$3:G869)","v":{"$error":"#N/A"}},null,null,null,null,null,null,null,null,""]
[null,0,null,null,null,null,null,null,null,null,null,null,null,null,null,null,null,null,null,null,null,null,null,null,null,null,null,null,null,null,null,null,null,null,null,null,null,null,null,null,null,null,null,{"$f":"IF(B870=\"\",0,LOOKUP(B870,[4]BG!$A$3:$A$65,[4]BG!$H$3:$H$65))-SUMIF($B$3:B870,B870,$G$3:G870)","v":{"$error":"#N/A"}},null,null,null,null,null,null,null,null,""]
[null,0,null,null,null,null,null,null,null,null,null,null,null,null,null,null,null,null,null,null,null,null,null,null,null,null,null,null,null,null,null,null,null,null,null,null,null,null,null,null,null,null,null,{"$f":"IF(B878=\"\",0,LOOKUP(B878,[4]BG!$A$3:$A$65,[4]BG!$H$3:$H$65))-SUMIF($B$3:B878,B878,$G$3:G878)","v":{"$error":"#N/A"}},null,null,null,null,null,null,null,null,""]
[null,0,null,null,null,null,null,null,null,null,null,null,null,null,null,null,null,null,null,null,null,null,null,null,null,null,null,null,null,null,null,null,null,null,null,null,null,null,null,null,null,null,null,{"$f":"IF(B881=\"\",0,LOOKUP(B881,[4]BG!$A$3:$A$65,[4]BG!$H$3:$H$65))-SUMIF($B$3:B881,B881,$G$3:G881)","v":{"$error":"#N/A"}},null,null,null,null,null,null,null,null,""]
[null,0,null,null,null,null,null,null,null,null,null,null,null,null,null,null,null,null,null,null,null,null,null,null,null,null,null,null,null,null,null,null,null,null,null,null,null,null,null,null,null,null,null,{"$f":"IF(B886=\"\",0,LOOKUP(B886,[4]BG!$A$3:$A$65,[4]BG!$H$3:$H$65))-SUMIF($B$3:B886,B886,$G$3:G886)","v":{"$error":"#N/A"}},null,null,null,null,null,null,null,null,""]
[null,0,null,null,null,null,null,null,null,null,null,null,null,null,null,null,null,null,null,null,null,null,null,null,null,null,null,null,null,null,null,null,null,null,null,null,null,null,null,null,null,null,null,{"$f":"IF(B887=\"\",0,LOOKUP(B887,[4]BG!$A$3:$A$65,[4]BG!$H$3:$H$65))-SUMIF($B$3:B887,B887,$G$3:G887)","v":{"$error":"#N/A"}},null,null,null,null,null,null,null,null,""]
[null,0,null,null,null,null,null,null,null,null,null,null,null,null,null,null,null,null,null,null,null,null,null,null,null,null,null,null,null,null,null,null,null,null,null,null,null,null,null,null,null,null,null,{"$f":"IF(B892=\"\",0,LOOKUP(B892,[4]BG!$A$3:$A$65,[4]BG!$H$3:$H$65))-SUMIF($B$3:B892,B892,$G$3:G892)","v":{"$error":"#N/A"}},null,null,null,null,null,null,null,null,""]
[null,0,null,null,null,null,null,null,null,null,null,null,null,null,null,null,null,null,null,null,null,null,null,null,null,null,null,null,null,null,null,null,null,null,null,null,null,null,null,null,null,null,null,{"$f":"IF(B898=\"\",0,LOOKUP(B898,[4]BG!$A$3:$A$65,[4]BG!$H$3:$H$65))-SUMIF($B$3:B898,B898,$G$3:G898)","v":{"$error":"#N/A"}},null,null,null,null,null,null,null,null,""]
[null,0,null,null,null,null,null,null,null,null,null,null,null,null,null,null,null,null,null,null,null,null,null,null,null,null,null,null,null,null,null,null,null,null,null,null,null,null,null,null,null,null,null,{"$f":"IF(B903=\"\",0,LOOKUP(B903,[4]BG!$A$3:$A$65,[4]BG!$H$3:$H$65))-SUMIF($B$3:B903,B903,$G$3:G903)","v":{"$error":"#N/A"}},null,null,null,null,null,null,null,null,""]
[null,0,null,null,null,null,null,null,null,null,null,null,null,null,null,null,null,null,null,null,null,null,null,null,null,null,null,null,null,null,null,null,null,null,null,null,null,null,null,null,null,null,null,{"$f":"IF(B904=\"\",0,LOOKUP(B904,[4]BG!$A$3:$A$65,[4]BG!$H$3:$H$65))-SUMIF($B$3:B904,B904,$G$3:G904)","v":{"$error":"#N/A"}},null,null,null,null,null,null,null,null,""]
[null,0,null,null,null,null,null,null,null,null,null,null,null,null,null,null,null,null,null,null,null,null,null,null,null,null,null,null,null,null,null,null,null,null,null,null,null,null,null,null,null,null,null,{"$f":"IF(B910=\"\",0,LOOKUP(B910,[4]BG!$A$3:$A$65,[4]BG!$H$3:$H$65))-SUMIF($B$3:B910,B910,$G$3:G910)","v":{"$error":"#N/A"}},null,null,null,null,null,null,null,null,""]
[null,0,null,null,null,null,null,null,null,null,null,null,null,null,null,null,null,null,null,null,null,null,null,null,null,null,null,null,null,null,null,null,null,null,null,null,null,null,null,null,null,null,null,{"$f":"IF(B915=\"\",0,LOOKUP(B915,[4]BG!$A$3:$A$65,[4]BG!$H$3:$H$65))-SUMIF($B$3:B915,B915,$G$3:G915)","v":{"$error":"#N/A"}},null,null,null,null,null,null,null,null,""]
[null,0,null,null,null,null,null,null,null,null,null,null,null,null,null,null,null,null,null,null,null,null,null,null,null,null,null,null,null,null,null,null,null,null,null,null,null,null,null,null,null,null,null,{"$f":"IF(B920=\"\",0,LOOKUP(B920,[4]BG!$A$3:$A$65,[4]BG!$H$3:$H$65))-SUMIF($B$3:B920,B920,$G$3:G920)","v":{"$error":"#N/A"}},null,null,null,null,null,null,null,null,""]
[null,0,null,null,null,null,null,null,null,null,null,null,null,null,null,null,null,null,null,null,null,null,null,null,null,null,null,null,null,null,null,null,null,null,null,null,null,null,null,null,null,null,null,{"$f":"IF(B921=\"\",0,LOOKUP(B921,[4]BG!$A$3:$A$65,[4]BG!$H$3:$H$65))-SUMIF($B$3:B921,B921,$G$3:G921)","v":{"$error":"#N/A"}},null,null,null,null,null,null,null,null,""]
[null,0,null,null,null,null,null,null,null,null,null,null,null,null,null,null,null,null,null,null,null,null,null,null,null,null,null,null,null,null,null,null,null,null,null,null,null,null,null,null,null,null,null,{"$f":"IF(B929=\"\",0,LOOKUP(B929,[4]BG!$A$3:$A$65,[4]BG!$H$3:$H$65))-SUMIF($B$3:B929,B929,$G$3:G929)","v":{"$error":"#N/A"}},null,null,null,null,null,null,null,null,""]
[null,0,null,null,null,null,null,null,null,null,null,null,null,null,null,null,null,null,null,null,null,null,null,null,null,null,null,null,null,null,null,null,null,null,null,null,null,null,null,null,null,null,null,{"$f":"IF(B932=\"\",0,LOOKUP(B932,[4]BG!$A$3:$A$65,[4]BG!$H$3:$H$65))-SUMIF($B$3:B932,B932,$G$3:G932)","v":{"$error":"#N/A"}},null,null,null,null,null,null,null,null,""]
[null,0,null,null,null,null,null,null,null,null,null,null,null,null,null,null,null,null,null,null,null,null,null,null,null,null,null,null,null,null,null,null,null,null,null,null,null,null,null,null,null,null,null,{"$f":"IF(B937=\"\",0,LOOKUP(B937,[4]BG!$A$3:$A$65,[4]BG!$H$3:$H$65))-SUMIF($B$3:B937,B937,$G$3:G937)","v":{"$error":"#N/A"}},null,null,null,null,null,null,null,null,""]
[null,0,null,null,null,null,null,null,null,null,null,null,null,null,null,null,null,null,null,null,null,null,null,null,null,null,null,null,null,null,null,null,null,null,null,null,null,null,null,null,null,null,null,{"$f":"IF(B938=\"\",0,LOOKUP(B938,[4]BG!$A$3:$A$65,[4]BG!$H$3:$H$65))-SUMIF($B$3:B938,B938,$G$3:G938)","v":{"$error":"#N/A"}},null,null,null,null,null,null,null,null,""]
[null,0,null,null,null,null,null,null,null,null,null,null,null,null,null,null,null,null,null,null,null,null,null,null,null,null,null,null,null,null,null,null,null,null,null,null,null,null,null,null,null,null,null,{"$f":"IF(B942=\"\",0,LOOKUP(B942,[4]BG!$A$3:$A$65,[4]BG!$H$3:$H$65))-SUMIF($B$3:B942,B942,$G$3:G942)","v":{"$error":"#N/A"}},null,null,null,null,null,null,null,null,""]
[null,0,null,null,null,null,null,null,null,null,null,null,null,null,null,null,null,null,null,null,null,null,null,null,null,null,null,null,null,null,null,null,null,null,null,null,null,null,null,null,null,null,null,{"$f":"IF(B949=\"\",0,LOOKUP(B949,[4]BG!$A$3:$A$65,[4]BG!$H$3:$H$65))-SUMIF($B$3:B949,B949,$G$3:G949)","v":{"$error":"#N/A"}},null,null,null,null,null,null,null,null,{"$f":"IFERROR(LOOKUP(LEFT(AT949,3),$BF$3:$BF$33,$BG$3:$BG$33),\"\")","v":""}]
[null,0,null,null,null,null,null,null,null,null,null,null,null,null,null,null,null,null,null,null,null,null,null,null,null,null,null,null,null,null,null,null,null,null,null,null,null,null,null,null,null,null,null,{"$f":"IF(B954=\"\",0,LOOKUP(B954,[4]BG!$A$3:$A$65,[4]BG!$H$3:$H$65))-SUMIF($B$3:B954,B954,$G$3:G954)","v":{"$error":"#N/A"}},null,null,null,null,null,null,null,null,""]
[null,0,null,null,null,null,null,null,null,null,null,null,null,null,null,null,null,null,null,null,null,null,null,null,null,null,null,null,null,null,null,null,null,null,null,null,null,null,null,null,null,null,null,{"$f":"IF(B955=\"\",0,LOOKUP(B955,[4]BG!$A$3:$A$65,[4]BG!$H$3:$H$65))-SUMIF($B$3:B955,B955,$G$3:G955)","v":{"$error":"#N/A"}},null,null,null,null,null,null,null,null,""]
[null,0,null,null,null,null,null,null,null,null,null,null,null,null,null,null,null,null,null,null,null,null,null,null,null,null,null,null,null,null,null,null,null,null,null,null,null,null,null,null,null,null,null,{"$f":"IF(B961=\"\",0,LOOKUP(B961,[4]BG!$A$3:$A$65,[4]BG!$H$3:$H$65))-SUMIF($B$3:B961,B961,$G$3:G961)","v":{"$error":"#N/A"}},null,null,null,null,null,null,null,null,""]
[null,0,null,null,null,null,null,null,null,null,null,null,null,null,null,null,null,null,null,null,null,null,null,null,null,null,null,null,null,null,null,null,null,null,null,null,null,null,null,null,null,null,null,{"$f":"IF(B966=\"\",0,LOOKUP(B966,[4]BG!$A$3:$A$65,[4]BG!$H$3:$H$65))-SUMIF($B$3:B966,B966,$G$3:G966)","v":{"$error":"#N/A"}},null,null,null,null,null,null,null,null,""]
[null,0,null,null,null,null,null,null,null,null,null,null,null,null,null,null,null,null,null,null,null,null,null,null,null,null,null,null,null,null,null,null,null,null,null,null,null,null,null,null,null,null,null,{"$f":"IF(B971=\"\",0,LOOKUP(B971,[4]BG!$A$3:$A$65,[4]BG!$H$3:$H$65))-SUMIF($B$3:B971,B971,$G$3:G971)","v":{"$error":"#N/A"}},null,null,null,null,null,null,null,null,""]
[null,0,null,null,null,null,null,null,null,null,null,null,null,null,null,null,null,null,null,null,null,null,null,null,null,null,null,null,null,null,null,null,null,null,null,null,null,null,null,null,null,null,null,{"$f":"IF(B972=\"\",0,LOOKUP(B972,[4]BG!$A$3:$A$65,[4]BG!$H$3:$H$65))-SUMIF($B$3:B972,B972,$G$3:G972)","v":{"$error":"#N/A"}},null,null,null,null,null,null,null,null,""]
[null,0,null,null,null,null,null,null,null,null,null,null,null,null,null,null,null,null,null,null,null,null,null,null,null,null,null,null,null,null,null,null,null,null,null,null,null,null,null,null,null,null,null,{"$f":"IF(B979=\"\",0,LOOKUP(B979,[4]BG!$A$3:$A$65,[4]BG!$H$3:$H$65))-SUMIF($B$3:B979,B979,$G$3:G979)","v":{"$error":"#N/A"}},null,null,null,null,null,null,null,null,""]
[null,0,null,null,null,null,null,null,null,null,null,null,null,null,null,null,null,null,null,null,null,null,null,null,null,null,null,null,null,null,null,null,null,null,null,null,null,null,null,null,null,null,null,{"$f":"IF(B983=\"\",0,LOOKUP(B983,[4]BG!$A$3:$A$65,[4]BG!$H$3:$H$65))-SUMIF($B$3:B983,B983,$G$3:G983)","v":{"$error":"#N/A"}},null,null,null,null,null,null,null,null,""]
[null,0,null,null,null,null,null,null,null,null,null,null,null,null,null,null,null,null,null,null,null,null,null,null,null,null,null,null,null,null,null,null,null,null,null,null,null,null,null,null,null,null,null,{"$f":"IF(B988=\"\",0,LOOKUP(B988,[4]BG!$A$3:$A$65,[4]BG!$H$3:$H$65))-SUMIF($B$3:B988,B988,$G$3:G988)","v":{"$error":"#N/A"}},null,null,null,null,null,null,null,null,""]
[null,0,null,null,null,null,null,null,null,null,null,null,null,null,null,null,null,null,null,null,null,null,null,null,null,null,null,null,null,null,null,null,null,null,null,null,null,null,null,null,null,null,null,{"$f":"IF(B989=\"\",0,LOOKUP(B989,[4]BG!$A$3:$A$65,[4]BG!$H$3:$H$65))-SUMIF($B$3:B989,B989,$G$3:G989)","v":{"$error":"#N/A"}},null,null,null,null,null,null,null,null,""]
[null,0,null,null,null,null,null,null,null,null,null,null,null,null,null,null,null,null,null,null,null,null,null,null,null,null,null,null,null,null,null,null,null,null,null,null,null,null,null,null,null,null,null,{"$f":"IF(B993=\"\",0,LOOKUP(B993,[4]BG!$A$3:$A$65,[4]BG!$H$3:$H$65))-SUMIF($B$3:B993,B993,$G$3:G993)","v":{"$error":"#N/A"}},null,null,null,null,null,null,null,null,""]
[null,0,null,null,null,null,null,null,null,null,null,null,null,null,null,null,null,null,null,null,null,null,null,null,null,null,null,null,null,null,null,null,null,null,null,null,null,null,null,null,null,null,null,{"$f":"IF(B1000=\"\",0,LOOKUP(B1000,[4]BG!$A$3:$A$65,[4]BG!$H$3:$H$65))-SUMIF($B$3:B1000,B1000,$G$3:G1000)","v":{"$error":"#N/A"}},null,null,null,null,null,null,null,null,""]
[null,0,null,null,null,null,null,null,null,null,null,null,null,null,null,null,null,null,null,null,null,null,null,null,null,null,null,null,null,null,null,null,null,null,null,null,null,null,null,null,null,null,null,{"$f":"IF(B1005=\"\",0,LOOKUP(B1005,[4]BG!$A$3:$A$65,[4]BG!$H$3:$H$65))-SUMIF($B$3:B1005,B1005,$G$3:G1005)","v":{"$error":"#N/A"}},null,null,null,null,null,null,null,null,""]
[null,0,null,null,null,null,null,null,null,null,null,null,null,null,null,null,null,null,null,null,null,null,null,null,null,null,null,null,null,null,null,null,null,null,null,null,null,null,null,null,null,null,null,{"$f":"IF(B1006=\"\",0,LOOKUP(B1006,[4]BG!$A$3:$A$65,[4]BG!$H$3:$H$65))-SUMIF($B$3:B1006,B1006,$G$3:G1006)","v":{"$error":"#N/A"}},null,null,null,null,null,null,null,null,""]
[null,0,null,null,null,null,null,null,null,null,null,null,null,null,null,null,null,null,null,null,null,null,null,null,null,null,null,null,null,null,null,null,null,null,null,null,null,null,null,null,null,null,null,{"$f":"IF(B1011=\"\",0,LOOKUP(B1011,[4]BG!$A$3:$A$65,[4]BG!$H$3:$H$65))-SUMIF($B$3:B1011,B1011,$G$3:G1011)","v":{"$error":"#N/A"}},null,null,null,null,null,null,null,null,""]
[null,0,null,null,null,null,null,null,null,null,null,null,null,null,null,null,null,null,null,null,null,null,null,null,null,null,null,null,null,null,null,null,null,null,null,null,null,null,null,null,null,null,null,{"$f":"IF(B1017=\"\",0,LOOKUP(B1017,[4]BG!$A$3:$A$65,[4]BG!$H$3:$H$65))-SUMIF($B$3:B1017,B1017,$G$3:G1017)","v":{"$error":"#N/A"}},null,null,null,null,null,null,null,null,""]
[null,0,null,null,null,null,null,null,null,null,null,null,null,null,null,null,null,null,null,null,null,null,null,null,null,null,null,null,null,null,null,null,null,null,null,null,null,null,null,null,null,null,null,{"$f":"IF(B1022=\"\",0,LOOKUP(B1022,[4]BG!$A$3:$A$65,[4]BG!$H$3:$H$65))-SUMIF($B$3:B1022,B1022,$G$3:G1022)","v":{"$error":"#N/A"}},null,null,null,null,null,null,null,null,""]
[null,0,null,null,null,null,null,null,null,null,null,null,null,null,null,null,null,null,null,null,null,null,null,null,null,null,null,null,null,null,null,null,null,null,null,null,null,null,null,null,null,null,null,{"$f":"IF(B1023=\"\",0,LOOKUP(B1023,[4]BG!$A$3:$A$65,[4]BG!$H$3:$H$65))-SUMIF($B$3:B1023,B1023,$G$3:G1023)","v":{"$error":"#N/A"}},null,null,null,null,null,null,null,null,""]
[null,0,null,null,null,null,null,null,null,null,null,null,null,null,null,null,null,null,null,null,null,null,null,null,null,null,null,null,null,null,null,null,null,null,null,null,null,null,null,null,null,null,null,{"$f":"IF(B1030=\"\",0,LOOKUP(B1030,[4]BG!$A$3:$A$65,[4]BG!$H$3:$H$65))-SUMIF($B$3:B1030,B1030,$G$3:G1030)","v":{"$error":"#N/A"}},null,null,null,null,null,null,null,null,""]
[null,0,null,null,null,null,null,null,null,null,null,null,null,null,null,null,null,null,null,null,null,null,null,null,null,null,null,null,null,null,null,null,null,null,null,null,null,null,null,null,null,null,null,{"$f":"IF(B1034=\"\",0,LOOKUP(B1034,[4]BG!$A$3:$A$65,[4]BG!$H$3:$H$65))-SUMIF($B$3:B1034,B1034,$G$3:G1034)","v":{"$error":"#N/A"}},null,null,null,null,null,null,null,null,""]
[null,0,null,null,null,null,null,null,null,null,null,null,null,null,null,null,null,null,null,null,null,null,null,null,null,null,null,null,null,null,null,null,null,null,null,null,null,null,null,null,null,null,null,{"$f":"IF(B1039=\"\",0,LOOKUP(B1039,[4]BG!$A$3:$A$65,[4]BG!$H$3:$H$65))-SUMIF($B$3:B1039,B1039,$G$3:G1039)","v":{"$error":"#N/A"}},null,null,null,null,null,null,null,null,""]
[null,0,null,null,null,null,null,null,null,null,null,null,null,null,null,null,null,null,null,null,null,null,null,null,null,null,null,null,null,null,null,null,null,null,null,null,null,null,null,null,null,null,null,{"$f":"IF(B1040=\"\",0,LOOKUP(B1040,[4]BG!$A$3:$A$65,[4]BG!$H$3:$H$65))-SUMIF($B$3:B1040,B1040,$G$3:G1040)","v":{"$error":"#N/A"}},null,null,null,null,null,null,null,null,""]
[null,0,null,null,null,null,null,null,null,null,null,null,null,null,null,null,null,null,null,null,null,null,null,null,null,null,null,null,null,null,null,null,null,null,null,null,null,null,null,null,null,null,null,{"$f":"IF(B1045=\"\",0,LOOKUP(B1045,[4]BG!$A$3:$A$65,[4]BG!$H$3:$H$65))-SUMIF($B$3:B1045,B1045,$G$3:G1045)","v":{"$error":"#N/A"}},null,null,null,null,null,null,null,null,""]
[null,0,null,null,null,null,null,null,null,null,null,null,null,null,null,null,null,null,null,null,null,null,null,null,null,null,null,null,null,null,null,null,null,null,null,null,null,null,null,null,null,null,null,{"$f":"IF(B1048=\"\",0,LOOKUP(B1048,[4]BG!$A$3:$A$65,[4]BG!$H$3:$H$65))-SUMIF($B$3:B1048,B1048,$G$3:G1048)","v":{"$error":"#N/A"}},null,null,null,null,null,null,null,null,""]
[null,0,null,null,null,null,null,null,null,null,null,null,null,null,null,null,null,null,null,null,null,null,null,null,null,null,null,null,null,null,null,null,null,null,null,null,null,null,null,null,null,null,null,{"$f":"IF(B1056=\"\",0,LOOKUP(B1056,[4]BG!$A$3:$A$65,[4]BG!$H$3:$H$65))-SUMIF($B$3:B1056,B1056,$G$3:G1056)","v":{"$error":"#N/A"}},null,null,null,null,null,null,null,null,""]
[null,0,null,null,null,null,null,null,null,null,null,null,null,null,null,null,null,null,null,null,null,null,null,null,null,null,null,null,null,null,null,null,null,null,null,null,null,null,null,null,null,null,null,{"$f":"IF(B1057=\"\",0,LOOKUP(B1057,[4]BG!$A$3:$A$65,[4]BG!$H$3:$H$65))-SUMIF($B$3:B1057,B1057,$G$3:G1057)","v":{"$error":"#N/A"}},null,null,null,null,null,null,null,null,""]
[null,0,null,null,null,null,null,null,null,null,null,null,null,null,null,null,null,null,null,null,null,null,null,null,null,null,null,null,null,null,null,null,null,null,null,null,null,null,null,null,null,null,null,{"$f":"IF(B1062=\"\",0,LOOKUP(B1062,[4]BG!$A$3:$A$65,[4]BG!$H$3:$H$65))-SUMIF($B$3:B1062,B1062,$G$3:G1062)","v":{"$error":"#N/A"}},null,null,null,null,null,null,null,null,""]
[null,0,null,null,null,null,null,null,null,null,null,null,null,null,null,null,null,null,null,null,null,null,null,null,null,null,null,null,null,null,null,null,null,null,null,null,null,null,null,null,null,null,null,{"$f":"IF(B1066=\"\",0,LOOKUP(B1066,[4]BG!$A$3:$A$65,[4]BG!$H$3:$H$65))-SUMIF($B$3:B1066,B1066,$G$3:G1066)","v":{"$error":"#N/A"}},null,null,null,null,null,null,null,null,""]
[null,0,null,null,null,null,null,null,null,null,null,null,null,null,null,null,null,null,null,null,null,null,null,null,null,null,null,null,null,null,null,null,null,null,null,null,null,null,null,null,null,null,null,{"$f":"IF(B1073=\"\",0,LOOKUP(B1073,[4]BG!$A$3:$A$65,[4]BG!$H$3:$H$65))-SUMIF($B$3:B1073,B1073,$G$3:G1073)","v":{"$error":"#N/A"}},null,null,null,null,null,null,null,null,""]
[null,0,null,null,null,null,null,null,null,null,null,null,null,null,null,null,null,null,null,null,null,null,null,null,null,null,null,null,null,null,null,null,null,null,null,null,null,null,null,null,null,null,null,{"$f":"IF(B1074=\"\",0,LOOKUP(B1074,[4]BG!$A$3:$A$65,[4]BG!$H$3:$H$65))-SUMIF($B$3:B1074,B1074,$G$3:G1074)","v":{"$error":"#N/A"}},null,null,null,null,null,null,null,null,""]
[null,0,null,null,null,null,null,null,null,null,null,null,null,null,null,null,null,null,null,null,null,null,null,null,null,null,null,null,null,null,null,null,null,null,null,null,null,null,null,null,null,null,null,{"$f":"IF(B1079=\"\",0,LOOKUP(B1079,[4]BG!$A$3:$A$65,[4]BG!$H$3:$H$65))-SUMIF($B$3:B1079,B1079,$G$3:G1079)","v":{"$error":"#N/A"}},null,null,null,null,null,null,null,null,""]
[null,{"$f":"BJ1085","v":0},null,null,null,null,null,null,null,null,null,null,null,null,null,null,null,null,null,null,null,null,null,null,null,null,null,null,null,null,null,null,null,null,null,null,null,null,null,null,null,null,null,{"$f":"IF(B1085=\"\",0,LOOKUP(B1085,[4]BG!$A$3:$A$65,[4]BG!$H$3:$H$65))-SUMIF($B$3:B1085,B1085,$G$3:G1085)","v":{"$error":"#N/A"}},null,null,null,null,null,null,null,null,""]
[null,0,null,null,null,null,null,null,null,null,null,null,null,null,null,null,null,null,null,null,null,null,null,null,null,null,null,null,null,null,null,null,null,null,null,null,null,null,null,null,null,null,null,{"$f":"IF(B1090=\"\",0,LOOKUP(B1090,[4]BG!$A$3:$A$65,[4]BG!$H$3:$H$65))-SUMIF($B$3:B1090,B1090,$G$3:G1090)","v":{"$error":"#N/A"}},null,null,null,null,null,null,null,null,""]
[null,0,null,null,null,null,null,null,null,null,null,null,null,null,null,null,null,null,null,null,null,null,null,null,null,null,null,null,null,null,null,null,null,null,null,null,null,null,null,null,null,null,null,{"$f":"IF(B1091=\"\",0,LOOKUP(B1091,[4]BG!$A$3:$A$65,[4]BG!$H$3:$H$65))-SUMIF($B$3:B1091,B1091,$G$3:G1091)","v":{"$error":"#N/A"}},null,null,null,null,null,null,null,null,""]
[null,0,null,null,null,null,null,null,null,null,null,null,null,null,null,null,null,null,null,null,null,null,null,null,null,null,null,null,null,null,null,null,null,null,null,null,null,null,null,null,null,null,null,{"$f":"IF(B1096=\"\",0,LOOKUP(B1096,[4]BG!$A$3:$A$65,[4]BG!$H$3:$H$65))-SUMIF($B$3:B1096,B1096,$G$3:G1096)","v":{"$error":"#N/A"}},null,null,null,null,null,null,null,null,""]
[null,0,null,null,null,null,null,null,null,null,null,null,null,null,null,null,null,null,null,null,null,null,null,null,null,null,null,null,null,null,null,null,null,null,null,null,null,null,null,null,null,null,null,{"$f":"IF(B1103=\"\",0,LOOKUP(B1103,[4]BG!$A$3:$A$65,[4]BG!$H$3:$H$65))-SUMIF($B$3:B1103,B1103,$G$3:G1103)","v":{"$error":"#N/A"}},null,null,null,null,null,null,null,null,""]
[null,0,null,null,null,null,null,null,null,null,null,null,null,null,null,null,null,null,null,null,null,null,null,null,null,null,null,null,null,null,null,null,null,null,null,null,null,null,null,null,null,null,null,{"$f":"IF(B1107=\"\",0,LOOKUP(B1107,[4]BG!$A$3:$A$65,[4]BG!$H$3:$H$65))-SUMIF($B$3:B1107,B1107,$G$3:G1107)","v":{"$error":"#N/A"}},null,null,null,null,null,null,null,null,""]
[null,0,null,null,null,null,null,null,null,null,null,null,null,null,null,null,null,null,null,null,null,null,null,null,null,null,null,null,null,null,null,null,null,null,null,null,null,null,null,null,null,null,null,{"$f":"IF(B1108=\"\",0,LOOKUP(B1108,[4]BG!$A$3:$A$65,[4]BG!$H$3:$H$65))-SUMIF($B$3:B1108,B1108,$G$3:G1108)","v":{"$error":"#N/A"}},null,null,null,null,null,null,null,null,""]
[null,0,null,null,null,null,null,null,null,null,null,null,null,null,null,null,null,null,null,null,null,null,null,null,null,null,null,null,null,null,null,null,null,null,null,null,null,null,null,null,null,null,null,{"$f":"IF(B1113=\"\",0,LOOKUP(B1113,[4]BG!$A$3:$A$65,[4]BG!$H$3:$H$65))-SUMIF($B$3:B1113,B1113,$G$3:G1113)","v":{"$error":"#N/A"}},null,null,null,null,null,null,null,null,""]
[null,0,null,null,null,null,null,null,null,null,null,null,null,null,null,null,null,null,null,null,null,null,null,null,null,null,null,null,null,null,null,null,null,null,null,null,null,null,null,null,null,null,null,{"$f":"IF(B1117=\"\",0,LOOKUP(B1117,[4]BG!$A$3:$A$65,[4]BG!$H$3:$H$65))-SUMIF($B$3:B1117,B1117,$G$3:G1117)","v":{"$error":"#N/A"}},null,null,null,null,null,null,null,null,""]
[null,0,null,null,null,null,null,null,null,null,null,null,null,null,null,null,null,null,null,null,null,null,null,null,null,null,null,null,null,null,null,null,null,null,null,null,null,null,null,null,null,null,null,{"$f":"IF(B1124=\"\",0,LOOKUP(B1124,[4]BG!$A$3:$A$65,[4]BG!$H$3:$H$65))-SUMIF($B$3:B1124,B1124,$G$3:G1124)","v":{"$error":"#N/A"}},null,null,null,null,null,null,null,null,""]
[null,0,null,null,null,null,null,null,null,null,null,null,null,null,null,null,null,null,null,null,null,null,null,null,null,null,null,null,null,null,null,null,null,null,null,null,null,null,null,null,null,null,null,{"$f":"IF(B1125=\"\",0,LOOKUP(B1125,[4]BG!$A$3:$A$65,[4]BG!$H$3:$H$65))-SUMIF($B$3:B1125,B1125,$G$3:G1125)","v":{"$error":"#N/A"}},null,null,null,null,null,null,null,null,""]
[null,0,null,null,null,null,null,null,null,null,null,null,null,null,null,null,null,null,null,null,null,null,null,null,null,null,null,null,null,null,null,null,null,null,null,null,null,null,null,null,null,null,null,{"$f":"IF(B1130=\"\",0,LOOKUP(B1130,[4]BG!$A$3:$A$65,[4]BG!$H$3:$H$65))-SUMIF($B$3:B1130,B1130,$G$3:G1130)","v":{"$error":"#N/A"}},null,null,null,null,null,null,null,null,""]
[null,0,null,null,null,null,null,null,null,null,null,null,null,null,null,null,null,null,null,null,null,null,null,null,null,null,null,null,null,null,null,null,null,null,null,null,null,null,null,null,null,null,null,{"$f":"IF(B1135=\"\",0,LOOKUP(B1135,[4]BG!$A$3:$A$65,[4]BG!$H$3:$H$65))-SUMIF($B$3:B1135,B1135,$G$3:G1135)","v":{"$error":"#N/A"}},null,null,null,null,null,null,null,null,""]
[null,0,null,null,null,null,null,null,null,null,null,null,null,null,null,null,null,null,null,null,null,null,null,null,null,null,null,null,null,null,null,null,null,null,null,null,null,null,null,null,null,null,null,{"$f":"IF(B1141=\"\",0,LOOKUP(B1141,[4]BG!$A$3:$A$65,[4]BG!$H$3:$H$65))-SUMIF($B$3:B1141,B1141,$G$3:G1141)","v":{"$error":"#N/A"}},null,null,null,null,null,null,null,null,{"$f":"IFERROR(LOOKUP(LEFT(AT1141,3),$BF$3:$BF$33,$BG$3:$BG$33),\"\")","v":""}]
[null,0,null,null,null,null,null,null,null,null,null,null,null,null,null,null,null,null,null,null,null,null,null,null,null,null,null,null,null,null,null,null,null,null,null,null,null,null,null,null,null,null,null,{"$f":"IF(B1142=\"\",0,LOOKUP(B1142,[4]BG!$A$3:$A$65,[4]BG!$H$3:$H$65))-SUMIF($B$3:B1142,B1142,$G$3:G1142)","v":{"$error":"#N/A"}},null,null,null,null,null,null,null,null,""]
[null,0,null,null,null,null,null,null,null,null,null,null,null,null,null,null,null,null,null,null,null,null,null,null,null,null,null,null,null,null,null,null,null,null,null,null,null,null,null,null,null,null,null,{"$f":"IF(B1147=\"\",0,LOOKUP(B1147,[4]BG!$A$3:$A$65,[4]BG!$H$3:$H$65))-SUMIF($B$3:B1147,B1147,$G$3:G1147)","v":{"$error":"#N/A"}},null,null,null,null,null,null,null,null,""]
[null,0,null,null,null,null,null,null,null,null,null,null,null,null,null,null,null,null,null,null,null,null,null,null,null,null,null,null,null,null,null,null,null,null,null,null,null,null,null,null,null,null,null,{"$f":"IF(B1154=\"\",0,LOOKUP(B1154,[4]BG!$A$3:$A$65,[4]BG!$H$3:$H$65))-SUMIF($B$3:B1154,B1154,$G$3:G1154)","v":{"$error":"#N/A"}},null,null,null,null,null,null,null,null,""]
[null,0,null,null,null,null,null,null,null,null,null,null,null,null,null,null,null,null,null,null,null,null,null,null,null,null,null,null,null,null,null,null,null,null,null,null,null,null,null,null,null,null,null,{"$f":"IF(B1158=\"\",0,LOOKUP(B1158,[4]BG!$A$3:$A$65,[4]BG!$H$3:$H$65))-SUMIF($B$3:B1158,B1158,$G$3:G1158)","v":{"$error":"#N/A"}},null,null,null,null,null,null,null,null,""]
[null,0,null,null,null,null,null,null,null,null,null,null,null,null,null,null,null,null,null,null,null,null,null,null,null,null,null,null,null,null,null,null,null,null,null,null,null,null,null,null,null,null,null,{"$f":"IF(B1159=\"\",0,LOOKUP(B1159,[4]BG!$A$3:$A$65,[4]BG!$H$3:$H$65))-SUMIF($B$3:B1159,B1159,$G$3:G1159)","v":{"$error":"#N/A"}},null,null,null,null,null,null,null,null,""]
[null,0,null,null,null,null,null,null,null,null,null,null,null,null,null,null,null,null,null,null,null,null,null,null,null,null,null,null,null,null,null,null,null,null,null,null,null,null,null,null,null,null,null,{"$f":"IF(B1164=\"\",0,LOOKUP(B1164,[4]BG!$A$3:$A$65,[4]BG!$H$3:$H$65))-SUMIF($B$3:B1164,B1164,$G$3:G1164)","v":{"$error":"#N/A"}},null,null,null,null,null,null,null,null,""]
[null,0,null,null,null,null,null,null,null,null,null,null,null,null,null,null,null,null,null,null,null,null,null,null,null,null,null,null,null,null,null,null,null,null,null,null,null,null,null,null,null,null,null,{"$f":"IF(B1167=\"\",0,LOOKUP(B1167,[4]BG!$A$3:$A$65,[4]BG!$H$3:$H$65))-SUMIF($B$3:B1167,B1167,$G$3:G1167)","v":{"$error":"#N/A"}},null,null,null,null,null,null,null,null,""]
[null,0,null,null,null,null,null,null,null,null,null,null,null,null,null,null,null,null,null,null,null,null,null,null,null,null,null,null,null,null,null,null,null,null,null,null,null,null,null,null,null,null,null,{"$f":"IF(B1175=\"\",0,LOOKUP(B1175,[4]BG!$A$3:$A$65,[4]BG!$H$3:$H$65))-SUMIF($B$3:B1175,B1175,$G$3:G1175)","v":{"$error":"#N/A"}},null,null,null,null,null,null,null,null,""]
[null,0,null,null,null,null,null,null,null,null,null,null,null,null,null,null,null,null,null,null,null,null,null,null,null,null,null,null,null,null,null,null,null,null,null,null,null,null,null,null,null,null,null,{"$f":"IF(B1176=\"\",0,LOOKUP(B1176,[4]BG!$A$3:$A$65,[4]BG!$H$3:$H$65))-SUMIF($B$3:B1176,B1176,$G$3:G1176)","v":{"$error":"#N/A"}},null,null,null,null,null,null,null,null,""]
[null,0,null,null,null,null,null,null,null,null,null,null,null,null,null,null,null,null,null,null,null,null,null,null,null,null,null,null,null,null,null,null,null,null,null,null,null,null,null,null,null,null,null,{"$f":"IF(B1181=\"\",0,LOOKUP(B1181,[4]BG!$A$3:$A$65,[4]BG!$H$3:$H$65))-SUMIF($B$3:B1181,B1181,$G$3:G1181)","v":{"$error":"#N/A"}},null,null,null,null,null,null,null,null,""]
[null,0,null,null,null,null,null,null,null,null,null,null,null,null,null,null,null,null,null,null,null,null,null,null,null,null,null,null,null,null,null,null,null,null,null,null,null,null,null,null,null,null,null,{"$f":"IF(B1186=\"\",0,LOOKUP(B1186,[4]BG!$A$3:$A$65,[4]BG!$H$3:$H$65))-SUMIF($B$3:B1186,B1186,$G$3:G1186)","v":{"$error":"#N/A"}},null,null,null,null,null,null,null,null,""]
[null,0,null,null,null,null,null,null,null,null,null,null,null,null,null,null,null,null,null,null,null,null,null,null,null,null,null,null,null,null,null,null,null,null,null,null,null,null,null,null,null,null,null,{"$f":"IF(B1192=\"\",0,LOOKUP(B1192,[4]BG!$A$3:$A$65,[4]BG!$H$3:$H$65))-SUMIF($B$3:B1192,B1192,$G$3:G1192)","v":{"$error":"#N/A"}},null,null,null,null,null,null,null,null,""]
[null,0,null,null,null,null,null,null,null,null,null,null,null,null,null,null,null,null,null,null,null,null,null,null,null,null,null,null,null,null,null,null,null,null,null,null,null,null,null,null,null,null,null,{"$f":"IF(B1193=\"\",0,LOOKUP(B1193,[4]BG!$A$3:$A$65,[4]BG!$H$3:$H$65))-SUMIF($B$3:B1193,B1193,$G$3:G1193)","v":{"$error":"#N/A"}},null,null,null,null,null,null,null,null,""]
[null,0,null,null,null,null,null,null,null,null,null,null,null,null,null,null,null,null,null,null,null,null,null,null,null,null,null,null,null,null,null,null,null,null,null,null,null,null,null,null,null,null,null,{"$f":"IF(B1198=\"\",0,LOOKUP(B1198,[4]BG!$A$3:$A$65,[4]BG!$H$3:$H$65))-SUMIF($B$3:B1198,B1198,$G$3:G1198)","v":{"$error":"#N/A"}},null,null,null,null,null,null,null,null,""]
[null,0,null,null,null,null,null,null,null,null,null,null,null,null,null,null,null,null,null,null,null,null,null,null,null,null,null,null,null,null,null,null,null,null,null,null,null,null,null,null,null,null,null,{"$f":"IF(B1205=\"\",0,LOOKUP(B1205,[4]BG!$A$3:$A$65,[4]BG!$H$3:$H$65))-SUMIF($B$3:B1205,B1205,$G$3:G1205)","v":{"$error":"#N/A"}},null,null,null,null,null,null,null,null,{"$f":"IFERROR(LOOKUP(LEFT(AT1205,3),$BF$3:$BF$33,$BG$3:$BG$33),\"\")","v":""}]
[null,0,null,null,null,null,null,null,null,null,null,null,null,null,null,null,null,null,null,null,null,null,null,null,null,null,null,null,null,null,null,null,null,null,null,null,null,null,null,null,null,null,null,{"$f":"IF(B1209=\"\",0,LOOKUP(B1209,[4]BG!$A$3:$A$65,[4]BG!$H$3:$H$65))-SUMIF($B$3:B1209,B1209,$G$3:G1209)","v":{"$error":"#N/A"}},null,null,null,null,null,null,null,null,""]
[null,0,null,null,null,null,null,null,null,null,null,null,null,null,null,null,null,null,null,null,null,null,null,null,null,null,null,null,null,null,null,null,null,null,null,null,null,null,null,null,null,null,null,{"$f":"IF(B1210=\"\",0,LOOKUP(B1210,[4]BG!$A$3:$A$65,[4]BG!$H$3:$H$65))-SUMIF($B$3:B1210,B1210,$G$3:G1210)","v":{"$error":"#N/A"}},null,null,null,null,null,null,null,null,""]
[null,0,null,null,null,null,null,null,null,null,null,null,null,null,null,null,null,null,null,null,null,null,null,null,null,null,null,null,null,null,null,null,null,null,null,null,null,null,null,null,null,null,null,{"$f":"IF(B1215=\"\",0,LOOKUP(B1215,[4]BG!$A$3:$A$65,[4]BG!$H$3:$H$65))-SUMIF($B$3:B1215,B1215,$G$3:G1215)","v":{"$error":"#N/A"}},null,null,null,null,null,null,null,null,""]
[null,0,null,null,null,null,null,null,null,null,null,null,null,null,null,null,null,null,null,null,null,null,null,null,null,null,null,null,null,null,null,null,null,null,null,null,null,null,null,null,null,null,null,{"$f":"IF(B1218=\"\",0,LOOKUP(B1218,[4]BG!$A$3:$A$65,[4]BG!$H$3:$H$65))-SUMIF($B$3:B1218,B1218,$G$3:G1218)","v":{"$error":"#N/A"}},null,null,null,null,null,null,null,null,""]
[null,0,null,null,null,null,null,null,null,null,null,null,null,null,null,null,null,null,null,null,null,null,null,null,null,null,null,null,null,null,null,null,null,null,null,null,null,null,null,null,null,null,null,{"$f":"IF(B1226=\"\",0,LOOKUP(B1226,[4]BG!$A$3:$A$65,[4]BG!$H$3:$H$65))-SUMIF($B$3:B1226,B1226,$G$3:G1226)","v":{"$error":"#N/A"}},null,null,null,null,null,null,null,null,""]
[null,0,null,null,null,null,null,null,null,null,null,null,null,null,null,null,null,null,null,null,null,null,null,null,null,null,null,null,null,null,null,null,null,null,null,null,null,null,null,null,null,null,null,{"$f":"IF(B1227=\"\",0,LOOKUP(B1227,[4]BG!$A$3:$A$65,[4]BG!$H$3:$H$65))-SUMIF($B$3:B1227,B1227,$G$3:G1227)","v":{"$error":"#N/A"}},null,null,null,null,null,null,null,null,""]
[null,0,null,null,null,null,null,null,null,null,null,null,null,null,null,null,null,null,null,null,null,null,null,null,null,null,null,null,null,null,null,null,null,null,null,null,null,null,null,null,null,null,null,{"$f":"IF(B1232=\"\",0,LOOKUP(B1232,[4]BG!$A$3:$A$65,[4]BG!$H$3:$H$65))-SUMIF($B$3:B1232,B1232,$G$3:G1232)","v":{"$error":"#N/A"}},null,null,null,null,null,null,null,null,""]
[null,0,null,null,null,null,null,null,null,null,null,null,null,null,null,null,null,null,null,null,null,null,null,null,null,null,null,null,null,null,null,null,null,null,null,null,null,null,null,null,null,null,null,{"$f":"IF(B1237=\"\",0,LOOKUP(B1237,[4]BG!$A$3:$A$65,[4]BG!$H$3:$H$65))-SUMIF($B$3:B1237,B1237,$G$3:G1237)","v":{"$error":"#N/A"}},null,null,null,null,null,null,null,null,""]
[null,0,null,null,null,null,null,null,null,null,null,null,null,null,null,null,null,null,null,null,null,null,null,null,null,null,null,null,null,null,null,null,null,null,null,null,null,null,null,null,null,null,null,{"$f":"IF(B1243=\"\",0,LOOKUP(B1243,[4]BG!$A$3:$A$65,[4]BG!$H$3:$H$65))-SUMIF($B$3:B1243,B1243,$G$3:G1243)","v":{"$error":"#N/A"}},null,null,null,null,null,null,null,null,""]
[null,0,null,null,null,null,null,null,null,null,null,null,null,null,null,null,null,null,null,null,null,null,null,null,null,null,null,null,null,null,null,null,null,null,null,null,null,null,null,null,null,null,null,{"$f":"IF(B1244=\"\",0,LOOKUP(B1244,[4]BG!$A$3:$A$65,[4]BG!$H$3:$H$65))-SUMIF($B$3:B1244,B1244,$G$3:G1244)","v":{"$error":"#N/A"}},null,null,null,null,null,null,null,null,""]
[null,0,null,null,null,null,null,null,null,null,null,null,null,null,null,null,null,null,null,null,null,null,null,null,null,null,null,null,null,null,null,null,null,null,null,null,null,null,null,null,null,null,null,{"$f":"IF(B1249=\"\",0,LOOKUP(B1249,[4]BG!$A$3:$A$65,[4]BG!$H$3:$H$65))-SUMIF($B$3:B1249,B1249,$G$3:G1249)","v":{"$error":"#N/A"}},null,null,null,null,null,null,null,null,""]
[null,0,null,null,null,null,null,null,null,null,null,null,null,null,null,null,null,null,null,null,null,null,null,null,null,null,null,null,null,null,null,null,null,null,null,null,null,null,null,null,null,null,null,{"$f":"IF(B1255=\"\",0,LOOKUP(B1255,[4]BG!$A$3:$A$65,[4]BG!$H$3:$H$65))-SUMIF($B$3:B1255,B1255,$G$3:G1255)","v":{"$error":"#N/A"}},null,null,null,null,null,null,null,null,""]
[null,0,null,null,null,null,null,null,null,null,null,null,null,null,null,null,null,null,null,null,null,null,null,null,null,null,null,null,null,null,null,null,null,null,null,null,null,null,null,null,null,null,null,{"$f":"IF(B1260=\"\",0,LOOKUP(B1260,[4]BG!$A$3:$A$65,[4]BG!$H$3:$H$65))-SUMIF($B$3:B1260,B1260,$G$3:G1260)","v":{"$error":"#N/A"}},null,null,null,null,null,null,null,null,""]
[null,0,null,null,null,null,null,null,null,null,null,null,null,null,null,null,null,null,null,null,null,null,null,null,null,null,null,null,null,null,null,null,null,null,null,null,null,null,null,null,null,null,null,{"$f":"IF(B1261=\"\",0,LOOKUP(B1261,[4]BG!$A$3:$A$65,[4]BG!$H$3:$H$65))-SUMIF($B$3:B1261,B1261,$G$3:G1261)","v":{"$error":"#N/A"}},null,null,null,null,null,null,null,null,""]
[null,0,null,null,null,null,null,null,null,null,null,null,null,null,null,null,null,null,null,null,null,null,null,null,null,null,null,null,null,null,null,null,null,null,null,null,null,null,null,null,null,null,null,{"$f":"IF(B1266=\"\",0,LOOKUP(B1266,[4]BG!$A$3:$A$65,[4]BG!$H$3:$H$65))-SUMIF($B$3:B1266,B1266,$G$3:G1266)","v":{"$error":"#N/A"}},null,null,null,null,null,null,null,null,""]
[null,0,null,null,null,null,null,null,null,null,null,null,null,null,null,null,null,null,null,null,null,null,null,null,null,null,null,null,null,null,null,null,null,null,null,null,null,null,null,null,null,null,null,{"$f":"IF(B1269=\"\",0,LOOKUP(B1269,[4]BG!$A$3:$A$65,[4]BG!$H$3:$H$65))-SUMIF($B$3:B1269,B1269,$G$3:G1269)","v":{"$error":"#N/A"}}]
[null,{"$f":"BJ1277","v":0},null,null,null,null,null,null,null,null,null,null,null,null,null,null,null,null,null,null,null,null,null,null,null,null,null,null,null,null,null,null,null,null,null,null,null,null,null,null,null,null,null,{"$f":"IF(B1277=\"\",0,LOOKUP(B1277,[4]BG!$A$3:$A$65,[4]BG!$H$3:$H$65))-SUMIF($B$3:B1277,B1277,$G$3:G1277)","v":{"$error":"#N/A"}}]
[null,0,null,null,null,null,null,null,null,null,null,null,null,null,null,null,null,null,null,null,null,null,null,null,null,null,null,null,null,null,null,null,null,null,null,null,null,null,null,null,null,null,null,{"$f":"IF(B1278=\"\",0,LOOKUP(B1278,[4]BG!$A$3:$A$65,[4]BG!$H$3:$H$65))-SUMIF($B$3:B1278,B1278,$G$3:G1278)","v":{"$error":"#N/A"}}]
[null,0,null,null,null,null,null,null,null,null,null,null,null,null,null,null,null,null,null,null,null,null,null,null,null,null,null,null,null,null,null,null,null,null,null,null,null,null,null,null,null,null,null,{"$f":"IF(B1283=\"\",0,LOOKUP(B1283,[4]BG!$A$3:$A$65,[4]BG!$H$3:$H$65))-SUMIF($B$3:B1283,B1283,$G$3:G1283)","v":{"$error":"#N/A"}}]
[null,0,null,null,null,null,null,null,null,null,null,null,null,null,null,null,null,null,null,null,null,null,null,null,null,null,null,null,null,null,null,null,null,null,null,null,null,null,null,null,null,null,null,{"$f":"IF(B1287=\"\",0,LOOKUP(B1287,[4]BG!$A$3:$A$65,[4]BG!$H$3:$H$65))-SUMIF($B$3:B1287,B1287,$G$3:G1287)","v":{"$error":"#N/A"}}]
[null,0,null,null,null,null,null,null,null,null,null,null,null,null,null,null,null,null,null,null,null,null,null,null,null,null,null,null,null,null,null,null,null,null,null,null,null,null,null,null,null,null,null,{"$f":"IF(B1294=\"\",0,LOOKUP(B1294,[4]BG!$A$3:$A$65,[4]BG!$H$3:$H$65))-SUMIF($B$3:B1294,B1294,$G$3:G1294)","v":{"$error":"#N/A"}}]
[null,0,null,null,null,null,null,null,null,null,null,null,null,null,null,null,null,null,null,null,null,null,null,null,null,null,null,null,null,null,null,null,null,null,null,null,null,null,null,null,null,null,null,{"$f":"IF(B1295=\"\",0,LOOKUP(B1295,[4]BG!$A$3:$A$65,[4]BG!$H$3:$H$65))-SUMIF($B$3:B1295,B1295,$G$3:G1295)","v":{"$error":"#N/A"}}]
[null,0,null,null,null,null,null,null,null,null,null,null,null,null,null,null,null,null,null,null,null,null,null,null,null,null,null,null,null,null,null,null,null,null,null,null,null,null,null,null,null,null,null,{"$f":"IF(B1300=\"\",0,LOOKUP(B1300,[4]BG!$A$3:$A$65,[4]BG!$H$3:$H$65))-SUMIF($B$3:B1300,B1300,$G$3:G1300)","v":{"$error":"#N/A"}}]
[null,0,null,null,null,null,null,null,null,null,null,null,null,null,null,null,null,null,null,null,null,null,null,null,null,null,null,null,null,null,null,null,null,null,null,null,null,null,null,null,null,null,null,{"$f":"IF(B1306=\"\",0,LOOKUP(B1306,[4]BG!$A$3:$A$65,[4]BG!$H$3:$H$65))-SUMIF($B$3:B1306,B1306,$G$3:G1306)","v":{"$error":"#N/A"}}]
[null,0,null,null,null,null,null,null,null,null,null,null,null,null,null,null,null,null,null,null,null,null,null,null,null,null,null,null,null,null,null,null,null,null,null,null,null,null,null,null,null,null,null,{"$f":"IF(B1311=\"\",0,LOOKUP(B1311,[4]BG!$A$3:$A$65,[4]BG!$H$3:$H$65))-SUMIF($B$3:B1311,B1311,$G$3:G1311)","v":{"$error":"#N/A"}}]
[null,0,null,null,null,null,null,null,null,null,null,null,null,null,null,null,null,null,null,null,null,null,null,null,null,null,null,null,null,null,null,null,null,null,null,null,null,null,null,null,null,null,null,{"$f":"IF(B1312=\"\",0,LOOKUP(B1312,[4]BG!$A$3:$A$65,[4]BG!$H$3:$H$65))-SUMIF($B$3:B1312,B1312,$G$3:G1312)","v":{"$error":"#N/A"}}]
[null,0,null,null,null,null,null,null,null,null,null,null,null,null,null,null,null,null,null,null,null,null,null,null,null,null,null,null,null,null,null,null,null,null,null,null,null,null,null,null,null,null,null,{"$f":"IF(B1317=\"\",0,LOOKUP(B1317,[4]BG!$A$3:$A$65,[4]BG!$H$3:$H$65))-SUMIF($B$3:B1317,B1317,$G$3:G1317)","v":{"$error":"#N/A"}}]
[null,0,null,null,null,null,null,null,null,null,null,null,null,null,null,null,null,null,null,null,null,null,null,null,null,null,null,null,null,null,null,null,null,null,null,null,null,null,null,null,null,null,null,{"$f":"IF(B1324=\"\",0,LOOKUP(B1324,[4]BG!$A$3:$A$65,[4]BG!$H$3:$H$65))-SUMIF($B$3:B1324,B1324,$G$3:G1324)","v":{"$error":"#N/A"}}]
[null,0,null,null,null,null,null,null,null,null,null,null,null,null,null,null,null,null,null,null,null,null,null,null,null,null,null,null,null,null,null,null,null,null,null,null,null,null,null,null,null,null,null,{"$f":"IF(B1328=\"\",0,LOOKUP(B1328,[4]BG!$A$3:$A$65,[4]BG!$H$3:$H$65))-SUMIF($B$3:B1328,B1328,$G$3:G1328)","v":{"$error":"#N/A"}}]
[null,0,null,null,null,null,null,null,null,null,null,null,null,null,null,null,null,null,null,null,null,null,null,null,null,null,null,null,null,null,null,null,null,null,null,null,null,null,null,null,null,null,null,{"$f":"IF(B1329=\"\",0,LOOKUP(B1329,[4]BG!$A$3:$A$65,[4]BG!$H$3:$H$65))-SUMIF($B$3:B1329,B1329,$G$3:G1329)","v":{"$error":"#N/A"}}]
[null,0,null,null,null,null,null,null,null,null,null,null,null,null,null,null,null,null,null,null,null,null,null,null,null,null,null,null,null,null,null,null,null,null,null,null,null,null,null,null,null,null,null,{"$f":"IF(B1334=\"\",0,LOOKUP(B1334,[4]BG!$A$3:$A$65,[4]BG!$H$3:$H$65))-SUMIF($B$3:B1334,B1334,$G$3:G1334)","v":{"$error":"#N/A"}}]
[null,0,null,null,null,null,null,null,null,null,null,null,null,null,null,null,null,null,null,null,null,null,null,null,null,null,null,null,null,null,null,null,null,null,null,null,null,null,null,null,null,null,null,{"$f":"IF(B1338=\"\",0,LOOKUP(B1338,[4]BG!$A$3:$A$65,[4]BG!$H$3:$H$65))-SUMIF($B$3:B1338,B1338,$G$3:G1338)","v":{"$error":"#N/A"}}]
[null,0,null,null,null,null,null,null,null,null,null,null,null,null,null,null,null,null,null,null,null,null,null,null,null,null,null,null,null,null,null,null,null,null,null,null,null,null,null,null,null,null,null,{"$f":"IF(B1345=\"\",0,LOOKUP(B1345,[4]BG!$A$3:$A$65,[4]BG!$H$3:$H$65))-SUMIF($B$3:B1345,B1345,$G$3:G1345)","v":{"$error":"#N/A"}}]
[null,0,null,null,null,null,null,null,null,null,null,null,null,null,null,null,null,null,null,null,null,null,null,null,null,null,null,null,null,null,null,null,null,null,null,null,null,null,null,null,null,null,null,{"$f":"IF(B1346=\"\",0,LOOKUP(B1346,[4]BG!$A$3:$A$65,[4]BG!$H$3:$H$65))-SUMIF($B$3:B1346,B1346,$G$3:G1346)","v":{"$error":"#N/A"}}]
[null,0,null,null,null,null,null,null,null,null,null,null,null,null,null,null,null,null,null,null,null,null,null,null,null,null,null,null,null,null,null,null,null,null,null,null,null,null,null,null,null,null,null,{"$f":"IF(B1351=\"\",0,LOOKUP(B1351,[4]BG!$A$3:$A$65,[4]BG!$H$3:$H$65))-SUMIF($B$3:B1351,B1351,$G$3:G1351)","v":{"$error":"#N/A"}}]
[null,0,null,null,null,null,null,null,null,null,null,null,null,null,null,null,null,null,null,null,null,null,null,null,null,null,null,null,null,null,null,null,null,null,null,null,null,null,null,null,null,null,null,{"$f":"IF(B1356=\"\",0,LOOKUP(B1356,[4]BG!$A$3:$A$65,[4]BG!$H$3:$H$65))-SUMIF($B$3:B1356,B1356,$G$3:G1356)","v":{"$error":"#N/A"}}]
[null,0,null,null,null,null,null,null,null,null,null,null,null,null,null,null,null,null,null,null,null,null,null,null,null,null,null,null,null,null,null,null,null,null,null,null,null,null,null,null,null,null,null,{"$f":"IF(B1362=\"\",0,LOOKUP(B1362,[4]BG!$A$3:$A$65,[4]BG!$H$3:$H$65))-SUMIF($B$3:B1362,B1362,$G$3:G1362)","v":{"$error":"#N/A"}}]
[null,0,null,null,null,null,null,null,null,null,null,null,null,null,null,null,null,null,null,null,null,null,null,null,null,null,null,null,null,null,null,null,null,null,null,null,null,null,null,null,null,null,null,{"$f":"IF(B1363=\"\",0,LOOKUP(B1363,[4]BG!$A$3:$A$65,[4]BG!$H$3:$H$65))-SUMIF($B$3:B1363,B1363,$G$3:G1363)","v":{"$error":"#N/A"}}]
[null,0,null,null,null,null,null,null,null,null,null,null,null,null,null,null,null,null,null,null,null,null,null,null,null,null,null,null,null,null,null,null,null,null,null,null,null,null,null,null,null,null,null,{"$f":"IF(B1368=\"\",0,LOOKUP(B1368,[4]BG!$A$3:$A$65,[4]BG!$H$3:$H$65))-SUMIF($B$3:B1368,B1368,$G$3:G1368)","v":{"$error":"#N/A"}}]
[null,0,null,null,null,null,null,null,null,null,null,null,null,null,null,null,null,null,null,null,null,null,null,null,null,null,null,null,null,null,null,null,null,null,null,null,null,null,null,null,null,null,null,{"$f":"IF(B1375=\"\",0,LOOKUP(B1375,[4]BG!$A$3:$A$65,[4]BG!$H$3:$H$65))-SUMIF($B$3:B1375,B1375,$G$3:G1375)","v":{"$error":"#N/A"}}]
[null,0,null,null,null,null,null,null,null,null,null,null,null,null,null,null,null,null,null,null,null,null,null,null,null,null,null,null,null,null,null,null,null,null,null,null,null,null,null,null,null,null,null,{"$f":"IF(B1379=\"\",0,LOOKUP(B1379,[4]BG!$A$3:$A$65,[4]BG!$H$3:$H$65))-SUMIF($B$3:B1379,B1379,$G$3:G1379)","v":{"$error":"#N/A"}}]
[null,0,null,null,null,null,null,null,null,null,null,null,null,null,null,null,null,null,null,null,null,null,null,null,null,null,null,null,null,null,null,null,null,null,null,null,null,null,null,null,null,null,null,{"$f":"IF(B1380=\"\",0,LOOKUP(B1380,[4]BG!$A$3:$A$65,[4]BG!$H$3:$H$65))-SUMIF($B$3:B1380,B1380,$G$3:G1380)","v":{"$error":"#N/A"}}]
[null,0,null,null,null,null,null,null,null,null,null,null,null,null,null,null,null,null,null,null,null,null,null,null,null,null,null,null,null,null,null,null,null,null,null,null,null,null,null,null,null,null,null,{"$f":"IF(B1385=\"\",0,LOOKUP(B1385,[4]BG!$A$3:$A$65,[4]BG!$H$3:$H$65))-SUMIF($B$3:B1385,B1385,$G$3:G1385)","v":{"$error":"#N/A"}}]
[null,0,null,null,null,null,null,null,null,null,null,null,null,null,null,null,null,null,null,null,null,null,null,null,null,null,null,null,null,null,null,null,null,null,null,null,null,null,null,null,null,null,null,{"$f":"IF(B1388=\"\",0,LOOKUP(B1388,[4]BG!$A$3:$A$65,[4]BG!$H$3:$H$65))-SUMIF($B$3:B1388,B1388,$G$3:G1388)","v":{"$error":"#N/A"}}]
[null,0,null,null,null,null,null,null,null,null,null,null,null,null,null,null,null,null,null,null,null,null,null,null,null,null,null,null,null,null,null,null,null,null,null,null,null,null,null,null,null,null,null,{"$f":"IF(B1396=\"\",0,LOOKUP(B1396,[4]BG!$A$3:$A$65,[4]BG!$H$3:$H$65))-SUMIF($B$3:B1396,B1396,$G$3:G1396)","v":{"$error":"#N/A"}}]
[null,0,null,null,null,null,null,null,null,null,null,null,null,null,null,null,null,null,null,null,null,null,null,null,null,null,null,null,null,null,null,null,null,null,null,null,null,null,null,null,null,null,null,{"$f":"IF(B1397=\"\",0,LOOKUP(B1397,[4]BG!$A$3:$A$65,[4]BG!$H$3:$H$65))-SUMIF($B$3:B1397,B1397,$G$3:G1397)","v":{"$error":"#N/A"}}]
[null,0,null,null,null,null,null,null,null,null,null,null,null,null,null,null,null,null,null,null,null,null,null,null,null,null,null,null,null,null,null,null,null,null,null,null,null,null,null,null,null,null,null,{"$f":"IF(B1402=\"\",0,LOOKUP(B1402,[4]BG!$A$3:$A$65,[4]BG!$H$3:$H$65))-SUMIF($B$3:B1402,B1402,$G$3:G1402)","v":{"$error":"#N/A"}}]
[null,0,null,null,null,null,null,null,null,null,null,null,null,null,null,null,null,null,null,null,null,null,null,null,null,null,null,null,null,null,null,null,null,null,null,null,null,null,null,null,null,null,null,{"$f":"IF(B1407=\"\",0,LOOKUP(B1407,[4]BG!$A$3:$A$65,[4]BG!$H$3:$H$65))-SUMIF($B$3:B1407,B1407,$G$3:G1407)","v":{"$error":"#N/A"}}]
[null,0,null,null,null,null,null,null,null,null,null,null,null,null,null,null,null,null,null,null,null,null,null,null,null,null,null,null,null,null,null,null,null,null,null,null,null,null,null,null,null,null,null,{"$f":"IF(B1413=\"\",0,LOOKUP(B1413,[4]BG!$A$3:$A$65,[4]BG!$H$3:$H$65))-SUMIF($B$3:B1413,B1413,$G$3:G1413)","v":{"$error":"#N/A"}}]
[null,0,null,null,null,null,null,null,null,null,null,null,null,null,null,null,null,null,null,null,null,null,null,null,null,null,null,null,null,null,null,null,null,null,null,null,null,null,null,null,null,null,null,{"$f":"IF(B1414=\"\",0,LOOKUP(B1414,[4]BG!$A$3:$A$65,[4]BG!$H$3:$H$65))-SUMIF($B$3:B1414,B1414,$G$3:G1414)","v":{"$error":"#N/A"}}]
[null,0,null,null,null,null,null,null,null,null,null,null,null,null,null,null,null,null,null,null,null,null,null,null,null,null,null,null,null,null,null,null,null,null,null,null,null,null,null,null,null,null,null,{"$f":"IF(B1419=\"\",0,LOOKUP(B1419,[4]BG!$A$3:$A$65,[4]BG!$H$3:$H$65))-SUMIF($B$3:B1419,B1419,$G$3:G1419)","v":{"$error":"#N/A"}}]
[null,0,null,null,null,null,null,null,null,null,null,null,null,null,null,null,null,null,null,null,null,null,null,null,null,null,null,null,null,null,null,null,null,null,null,null,null,null,null,null,null,null,null,{"$f":"IF(B1425=\"\",0,LOOKUP(B1425,[4]BG!$A$3:$A$65,[4]BG!$H$3:$H$65))-SUMIF($B$3:B1425,B1425,$G$3:G1425)","v":{"$error":"#N/A"}}]
[null,0,null,null,null,null,null,null,null,null,null,null,null,null,null,null,null,null,null,null,null,null,null,null,null,null,null,null,null,null,null,null,null,null,null,null,null,null,null,null,null,null,null,{"$f":"IF(B1430=\"\",0,LOOKUP(B1430,[4]BG!$A$3:$A$65,[4]BG!$H$3:$H$65))-SUMIF($B$3:B1430,B1430,$G$3:G1430)","v":{"$error":"#N/A"}}]
[null,0,null,null,null,null,null,null,null,null,null,null,null,null,null,null,null,null,null,null,null,null,null,null,null,null,null,null,null,null,null,null,null,null,null,null,null,null,null,null,null,null,null,{"$f":"IF(B1431=\"\",0,LOOKUP(B1431,[4]BG!$A$3:$A$65,[4]BG!$H$3:$H$65))-SUMIF($B$3:B1431,B1431,$G$3:G1431)","v":{"$error":"#N/A"}}]
[null,0,null,null,null,null,null,null,null,null,null,null,null,null,null,null,null,null,null,null,null,null,null,null,null,null,null,null,null,null,null,null,null,null,null,null,null,null,null,null,null,null,null,{"$f":"IF(B1436=\"\",0,LOOKUP(B1436,[4]BG!$A$3:$A$65,[4]BG!$H$3:$H$65))-SUMIF($B$3:B1436,B1436,$G$3:G1436)","v":{"$error":"#N/A"}}]
[null,0,null,null,null,null,null,null,null,null,null,null,null,null,null,null,null,null,null,null,null,null,null,null,null,null,null,null,null,null,null,null,null,null,null,null,null,null,null,null,null,null,null,{"$f":"IF(B1439=\"\",0,LOOKUP(B1439,[4]BG!$A$3:$A$65,[4]BG!$H$3:$H$65))-SUMIF($B$3:B1439,B1439,$G$3:G1439)","v":{"$error":"#N/A"}}]
[null,0,null,null,null,null,null,null,null,null,null,null,null,null,null,null,null,null,null,null,null,null,null,null,null,null,null,null,null,null,null,null,null,null,null,null,null,null,null,null,null,null,null,{"$f":"IF(B1447=\"\",0,LOOKUP(B1447,[4]BG!$A$3:$A$65,[4]BG!$H$3:$H$65))-SUMIF($B$3:B1447,B1447,$G$3:G1447)","v":{"$error":"#N/A"}}]
[null,0,null,null,null,null,null,null,null,null,null,null,null,null,null,null,null,null,null,null,null,null,null,null,null,null,null,null,null,null,null,null,null,null,null,null,null,null,null,null,null,null,null,{"$f":"IF(B1448=\"\",0,LOOKUP(B1448,[4]BG!$A$3:$A$65,[4]BG!$H$3:$H$65))-SUMIF($B$3:B1448,B1448,$G$3:G1448)","v":{"$error":"#N/A"}}]
[null,0,null,null,null,null,null,null,null,null,null,null,null,null,null,null,null,null,null,null,null,null,null,null,null,null,null,null,null,null,null,null,null,null,null,null,null,null,null,null,null,null,null,{"$f":"IF(B1453=\"\",0,LOOKUP(B1453,[4]BG!$A$3:$A$65,[4]BG!$H$3:$H$65))-SUMIF($B$3:B1453,B1453,$G$3:G1453)","v":{"$error":"#N/A"}}]
[null,0,null,null,null,null,null,null,null,null,null,null,null,null,null,null,null,null,null,null,null,null,null,null,null,null,null,null,null,null,null,null,null,null,null,null,null,null,null,null,null,null,null,{"$f":"IF(B1457=\"\",0,LOOKUP(B1457,[4]BG!$A$3:$A$65,[4]BG!$H$3:$H$65))-SUMIF($B$3:B1457,B1457,$G$3:G1457)","v":{"$error":"#N/A"}}]
[null,0,null,null,null,null,null,null,null,null,null,null,null,null,null,null,null,null,null,null,null,null,null,null,null,null,null,null,null,null,null,null,null,null,null,null,null,null,null,null,null,null,null,{"$f":"IF(B1464=\"\",0,LOOKUP(B1464,[4]BG!$A$3:$A$65,[4]BG!$H$3:$H$65))-SUMIF($B$3:B1464,B1464,$G$3:G1464)","v":{"$error":"#N/A"}}]
[null,0,null,null,null,null,null,null,null,null,null,null,null,null,null,null,null,null,null,null,null,null,null,null,null,null,null,null,null,null,null,null,null,null,null,null,null,null,null,null,null,null,null,{"$f":"IF(B1465=\"\",0,LOOKUP(B1465,[4]BG!$A$3:$A$65,[4]BG!$H$3:$H$65))-SUMIF($B$3:B1465,B1465,$G$3:G1465)","v":{"$error":"#N/A"}}]
[null,0,null,null,null,null,null,null,null,null,null,null,null,null,null,null,null,null,null,null,null,null,null,null,null,null,null,null,null,null,null,null,null,null,null,null,null,null,null,null,null,null,null,{"$f":"IF(B1470=\"\",0,LOOKUP(B1470,[4]BG!$A$3:$A$65,[4]BG!$H$3:$H$65))-SUMIF($B$3:B1470,B1470,$G$3:G1470)","v":{"$error":"#N/A"}}]
[null,0,null,null,null,null,null,null,null,null,null,null,null,null,null,null,null,null,null,null,null,null,null,null,null,null,null,null,null,null,null,null,null,null,null,null,null,null,null,null,null,null,null,{"$f":"IF(B1476=\"\",0,LOOKUP(B1476,[4]BG!$A$3:$A$65,[4]BG!$H$3:$H$65))-SUMIF($B$3:B1476,B1476,$G$3:G1476)","v":{"$error":"#N/A"}}]
[null,0,null,null,null,null,null,null,null,null,null,null,null,null,null,null,null,null,null,null,null,null,null,null,null,null,null,null,null,null,null,null,null,null,null,null,null,null,null,null,null,null,null,{"$f":"IF(B1481=\"\",0,LOOKUP(B1481,[4]BG!$A$3:$A$65,[4]BG!$H$3:$H$65))-SUMIF($B$3:B1481,B1481,$G$3:G1481)","v":{"$error":"#N/A"}}]
[null,0,null,null,null,null,null,null,null,null,null,null,null,null,null,null,null,null,null,null,null,null,null,null,null,null,null,null,null,null,null,null,null,null,null,null,null,null,null,null,null,null,null,{"$f":"IF(B1482=\"\",0,LOOKUP(B1482,[4]BG!$A$3:$A$65,[4]BG!$H$3:$H$65))-SUMIF($B$3:B1482,B1482,$G$3:G1482)","v":{"$error":"#N/A"}}]
[null,0,null,null,null,null,null,null,null,null,null,null,null,null,null,null,null,null,null,null,null,null,null,null,null,null,null,null,null,null,null,null,null,null,null,null,null,null,null,null,null,null,null,{"$f":"IF(B1487=\"\",0,LOOKUP(B1487,[4]BG!$A$3:$A$65,[4]BG!$H$3:$H$65))-SUMIF($B$3:B1487,B1487,$G$3:G1487)","v":{"$error":"#N/A"}}]
[null,0,null,null,null,null,null,null,null,null,null,null,null,null,null,null,null,null,null,null,null,null,null,null,null,null,null,null,null,null,null,null,null,null,null,null,null,null,null,null,null,null,null,{"$f":"IF(B1494=\"\",0,LOOKUP(B1494,[4]BG!$A$3:$A$65,[4]BG!$H$3:$H$65))-SUMIF($B$3:B1494,B1494,$G$3:G1494)","v":{"$error":"#N/A"}}]
[null,0,null,null,null,null,null,null,null,null,null,null,null,null,null,null,null,null,null,null,null,null,null,null,null,null,null,null,null,null,null,null,null,null,null,null,null,null,null,null,null,null,null,{"$f":"IF(B1498=\"\",0,LOOKUP(B1498,[4]BG!$A$3:$A$65,[4]BG!$H$3:$H$65))-SUMIF($B$3:B1498,B1498,$G$3:G1498)","v":{"$error":"#N/A"}}]
[null,0,null,null,null,null,null,null,null,null,null,null,null,null,null,null,null,null,null,null,null,null,null,null,null,null,null,null,null,null,null,null,null,null,null,null,null,null,null,null,null,null,null,{"$f":"IF(B1499=\"\",0,LOOKUP(B1499,[4]BG!$A$3:$A$65,[4]BG!$H$3:$H$65))-SUMIF($B$3:B1499,B1499,$G$3:G1499)","v":{"$error":"#N/A"}}]
[null,0,null,null,null,null,null,null,null,null,null,null,null,null,null,null,null,null,null,null,null,null,null,null,null,null,null,null,null,null,null,null,null,null,null,null,null,null,null,null,null,null,null,{"$f":"IF(B1504=\"\",0,LOOKUP(B1504,[4]BG!$A$3:$A$65,[4]BG!$H$3:$H$65))-SUMIF($B$3:B1504,B1504,$G$3:G1504)","v":{"$error":"#N/A"}}]
[null,0,null,null,null,null,null,null,null,null,null,null,null,null,null,null,null,null,null,null,null,null,null,null,null,null,null,null,null,null,null,null,null,null,null,null,null,null,null,null,null,null,null,{"$f":"IF(B1508=\"\",0,LOOKUP(B1508,[4]BG!$A$3:$A$65,[4]BG!$H$3:$H$65))-SUMIF($B$3:B1508,B1508,$G$3:G1508)","v":{"$error":"#N/A"}}]
[null,0,null,null,null,null,null,null,null,null,null,null,null,null,null,null,null,null,null,null,null,null,null,null,null,null,null,null,null,null,null,null,null,null,null,null,null,null,null,null,null,null,null,{"$f":"IF(B1515=\"\",0,LOOKUP(B1515,[4]BG!$A$3:$A$65,[4]BG!$H$3:$H$65))-SUMIF($B$3:B1515,B1515,$G$3:G1515)","v":{"$error":"#N/A"}}]
[null,0,null,null,null,null,null,null,null,null,null,null,null,null,null,null,null,null,null,null,null,null,null,null,null,null,null,null,null,null,null,null,null,null,null,null,null,null,null,null,null,null,null,{"$f":"IF(B1516=\"\",0,LOOKUP(B1516,[4]BG!$A$3:$A$65,[4]BG!$H$3:$H$65))-SUMIF($B$3:B1516,B1516,$G$3:G1516)","v":{"$error":"#N/A"}}]
[null,0,null,null,null,null,null,null,null,null,null,null,null,null,null,null,null,null,null,null,null,null,null,null,null,null,null,null,null,null,null,null,null,null,null,null,null,null,null,null,null,null,null,{"$f":"IF(B1521=\"\",0,LOOKUP(B1521,[4]BG!$A$3:$A$65,[4]BG!$H$3:$H$65))-SUMIF($B$3:B1521,B1521,$G$3:G1521)","v":{"$error":"#N/A"}}]
[null,0,null,null,null,null,null,null,null,null,null,null,null,null,null,null,null,null,null,null,null,null,null,null,null,null,null,null,null,null,null,null,null,null,null,null,null,null,null,null,null,null,null,{"$f":"IF(B1527=\"\",0,LOOKUP(B1527,[4]BG!$A$3:$A$65,[4]BG!$H$3:$H$65))-SUMIF($B$3:B1527,B1527,$G$3:G1527)","v":{"$error":"#N/A"}}]
[null,0,null,null,null,null,null,null,null,null,null,null,null,null,null,null,null,null,null,null,null,null,null,null,null,null,null,null,null,null,null,null,null,null,null,null,null,null,null,null,null,null,null,{"$f":"IF(B1532=\"\",0,LOOKUP(B1532,[4]BG!$A$3:$A$65,[4]BG!$H$3:$H$65))-SUMIF($B$3:B1532,B1532,$G$3:G1532)","v":{"$error":"#N/A"}}]
[null,{"$f":"BJ1533","v":0},null,null,null,null,null,null,null,null,null,null,null,null,null,null,null,null,null,null,null,null,null,null,null,null,null,null,null,null,null,null,null,null,null,null,null,null,null,null,null,null,null,{"$f":"IF(B1533=\"\",0,LOOKUP(B1533,[4]BG!$A$3:$A$65,[4]BG!$H$3:$H$65))-SUMIF($B$3:B1533,B1533,$G$3:G1533)","v":{"$error":"#N/A"}}]
[null,0,null,null,null,null,null,null,null,null,null,null,null,null,null,null,null,null,null,null,null,null,null,null,null,null,null,null,null,null,null,null,null,null,null,null,null,null,null,null,null,null,null,{"$f":"IF(B1538=\"\",0,LOOKUP(B1538,[4]BG!$A$3:$A$65,[4]BG!$H$3:$H$65))-SUMIF($B$3:B1538,B1538,$G$3:G1538)","v":{"$error":"#N/A"}}]
[null,0,null,null,null,null,null,null,null,null,null,null,null,null,null,null,null,null,null,null,null,null,null,null,null,null,null,null,null,null,null,null,null,null,null,null,null,null,null,null,null,null,null,{"$f":"IF(B1545=\"\",0,LOOKUP(B1545,[4]BG!$A$3:$A$65,[4]BG!$H$3:$H$65))-SUMIF($B$3:B1545,B1545,$G$3:G1545)","v":{"$error":"#N/A"}}]
[null,0,null,null,null,null,null,null,null,null,null,null,null,null,null,null,null,null,null,null,null,null,null,null,null,null,null,null,null,null,null,null,null,null,null,null,null,null,null,null,null,null,null,{"$f":"IF(B1549=\"\",0,LOOKUP(B1549,[4]BG!$A$3:$A$65,[4]BG!$H$3:$H$65))-SUMIF($B$3:B1549,B1549,$G$3:G1549)","v":{"$error":"#N/A"}}]
[null,0,null,null,null,null,null,null,null,null,null,null,null,null,null,null,null,null,null,null,null,null,null,null,null,null,null,null,null,null,null,null,null,null,null,null,null,null,null,null,null,null,null,{"$f":"IF(B1550=\"\",0,LOOKUP(B1550,[4]BG!$A$3:$A$65,[4]BG!$H$3:$H$65))-SUMIF($B$3:B1550,B1550,$G$3:G1550)","v":{"$error":"#N/A"}}]
[null,0,null,null,null,null,null,null,null,null,null,null,null,null,null,null,null,null,null,null,null,null,null,null,null,null,null,null,null,null,null,null,null,null,null,null,null,null,null,null,null,null,null,{"$f":"IF(B1555=\"\",0,LOOKUP(B1555,[4]BG!$A$3:$A$65,[4]BG!$H$3:$H$65))-SUMIF($B$3:B1555,B1555,$G$3:G1555)","v":{"$error":"#N/A"}}]
[null,0,null,null,null,null,null,null,null,null,null,null,null,null,null,null,null,null,null,null,null,null,null,null,null,null,null,null,null,null,null,null,null,null,null,null,null,null,null,null,null,null,null,{"$f":"IF(B1559=\"\",0,LOOKUP(B1559,[4]BG!$A$3:$A$65,[4]BG!$H$3:$H$65))-SUMIF($B$3:B1559,B1559,$G$3:G1559)","v":{"$error":"#N/A"}}]
[null,0,null,null,null,null,null,null,null,null,null,null,null,null,null,null,null,null,null,null,null,null,null,null,null,null,null,null,null,null,null,null,null,null,null,null,null,null,null,null,null,null,null,{"$f":"IF(B1566=\"\",0,LOOKUP(B1566,[4]BG!$A$3:$A$65,[4]BG!$H$3:$H$65))-SUMIF($B$3:B1566,B1566,$G$3:G1566)","v":{"$error":"#N/A"}}]
[null,0,null,null,null,null,null,null,null,null,null,null,null,null,null,null,null,null,null,null,null,null,null,null,null,null,null,null,null,null,null,null,null,null,null,null,null,null,null,null,null,null,null,{"$f":"IF(B1567=\"\",0,LOOKUP(B1567,[4]BG!$A$3:$A$65,[4]BG!$H$3:$H$65))-SUMIF($B$3:B1567,B1567,$G$3:G1567)","v":{"$error":"#N/A"}}]
[null,0,null,null,null,null,null,null,null,null,null,null,null,null,null,null,null,null,null,null,null,null,null,null,null,null,null,null,null,null,null,null,null,null,null,null,null,null,null,null,null,null,null,{"$f":"IF(B1572=\"\",0,LOOKUP(B1572,[4]BG!$A$3:$A$65,[4]BG!$H$3:$H$65))-SUMIF($B$3:B1572,B1572,$G$3:G1572)","v":{"$error":"#N/A"}}]
[null,0,null,null,null,null,null,null,null,null,null,null,null,null,null,null,null,null,null,null,null,null,null,null,null,null,null,null,null,null,null,null,null,null,null,null,null,null,null,null,null,null,null,{"$f":"IF(B1577=\"\",0,LOOKUP(B1577,[4]BG!$A$3:$A$65,[4]BG!$H$3:$H$65))-SUMIF($B$3:B1577,B1577,$G$3:G1577)","v":{"$error":"#N/A"}}]
[null,0,null,null,null,null,null,null,null,null,null,null,null,null,null,null,null,null,null,null,null,null,null,null,null,null,null,null,null,null,null,null,null,null,null,null,null,null,null,null,null,null,null,{"$f":"IF(B1582=\"\",0,LOOKUP(B1582,[4]BG!$A$3:$A$65,[4]BG!$H$3:$H$65))-SUMIF($B$3:B1582,B1582,$G$3:G1582)","v":{"$error":"#N/A"}}]
[null,0,null,null,null,null,null,null,null,null,null,null,null,null,null,null,null,null,null,null,null,null,null,null,null,null,null,null,null,null,null,null,null,null,null,null,null,null,null,null,null,null,null,{"$f":"IF(B1584=\"\",0,LOOKUP(B1584,[4]BG!$A$3:$A$65,[4]BG!$H$3:$H$65))-SUMIF($B$3:B1584,B1584,$G$3:G1584)","v":{"$error":"#N/A"}}]
[null,0,null,null,null,null,null,null,null,null,null,null,null,null,null,null,null,null,null,null,null,null,null,null,null,null,null,null,null,null,null,null,null,null,null,null,null,null,null,null,null,null,null,{"$f":"IF(B1589=\"\",0,LOOKUP(B1589,[4]BG!$A$3:$A$65,[4]BG!$H$3:$H$65))-SUMIF($B$3:B1589,B1589,$G$3:G1589)","v":{"$error":"#N/A"}}]
[null,0,null,null,null,null,null,null,null,null,null,null,null,null,null,null,null,null,null,null,null,null,null,null,null,null,null,null,null,null,null,null,null,null,null,null,null,null,null,null,null,null,null,{"$f":"IF(B1594=\"\",0,LOOKUP(B1594,[4]BG!$A$3:$A$65,[4]BG!$H$3:$H$65))-SUMIF($B$3:B1594,B1594,$G$3:G1594)","v":{"$error":"#N/A"}}]
[null,0,null,null,null,null,null,null,null,null,null,null,null,null,null,null,null,null,null,null,null,null,null,null,null,null,null,null,null,null,null,null,null,null,null,null,null,null,null,null,null,null,null,{"$f":"IF(B1600=\"\",0,LOOKUP(B1600,[4]BG!$A$3:$A$65,[4]BG!$H$3:$H$65))-SUMIF($B$3:B1600,B1600,$G$3:G1600)","v":{"$error":"#N/A"}}]
[null,0,null,null,null,null,null,null,null,null,null,null,null,null,null,null,null,null,null,null,null,null,null,null,null,null,null,null,null,null,null,null,null,null,null,null,null,null,null,null,null,null,null,{"$f":"IF(B1601=\"\",0,LOOKUP(B1601,[4]BG!$A$3:$A$65,[4]BG!$H$3:$H$65))-SUMIF($B$3:B1601,B1601,$G$3:G1601)","v":{"$error":"#N/A"}}]
[null,0,null,null,null,null,null,null,null,null,null,null,null,null,null,null,null,null,null,null,null,null,null,null,null,null,null,null,null,null,null,null,null,null,null,null,null,null,null,null,null,null,null,{"$f":"IF(B1606=\"\",0,LOOKUP(B1606,[4]BG!$A$3:$A$65,[4]BG!$H$3:$H$65))-SUMIF($B$3:B1606,B1606,$G$3:G1606)","v":{"$error":"#N/A"}}]
[null,0,null,null,null,null,null,null,null,null,null,null,null,null,null,null,null,null,null,null,null,null,null,null,null,null,null,null,null,null,null,null,null,null,null,null,null,null,null,null,null,null,null,{"$f":"IF(B1611=\"\",0,LOOKUP(B1611,[4]BG!$A$3:$A$65,[4]BG!$H$3:$H$65))-SUMIF($B$3:B1611,B1611,$G$3:G1611)","v":{"$error":"#N/A"}}]
[null,0,null,null,null,null,null,null,null,null,null,null,null,null,null,null,null,null,null,null,null,null,null,null,null,null,null,null,null,null,null,null,null,null,null,null,null,null,null,null,null,null,null,{"$f":"IF(B1614=\"\",0,LOOKUP(B1614,[4]BG!$A$3:$A$65,[4]BG!$H$3:$H$65))-SUMIF($B$3:B1614,B1614,$G$3:G1614)","v":{"$error":"#N/A"}}]
[null,0,null,null,null,null,null,null,null,null,null,null,null,null,null,null,null,null,null,null,null,null,null,null,null,null,null,null,null,null,null,null,null,null,null,null,null,null,null,null,null,null,null,{"$f":"IF(B1618=\"\",0,LOOKUP(B1618,[4]BG!$A$3:$A$65,[4]BG!$H$3:$H$65))-SUMIF($B$3:B1618,B1618,$G$3:G1618)","v":{"$error":"#N/A"}}]
[null,0,null,null,null,null,null,null,null,null,null,null,null,null,null,null,null,null,null,null,null,null,null,null,null,null,null,null,null,null,null,null,null,null,null,null,null,null,null,null,null,null,null,{"$f":"IF(B1623=\"\",0,LOOKUP(B1623,[4]BG!$A$3:$A$65,[4]BG!$H$3:$H$65))-SUMIF($B$3:B1623,B1623,$G$3:G1623)","v":{"$error":"#N/A"}}]
[null,0,null,null,null,null,null,null,null,null,null,null,null,null,null,null,null,null,null,null,null,null,null,null,null,null,null,null,null,null,null,null,null,null,null,null,null,null,null,null,null,null,null,{"$f":"IF(B1628=\"\",0,LOOKUP(B1628,[4]BG!$A$3:$A$65,[4]BG!$H$3:$H$65))-SUMIF($B$3:B1628,B1628,$G$3:G1628)","v":{"$error":"#N/A"}}]
[null,0,null,null,null,null,null,null,null,null,null,null,null,null,null,null,null,null,null,null,null,null,null,null,null,null,null,null,null,null,null,null,null,null,null,null,null,null,null,null,null,null,null,{"$f":"IF(B1632=\"\",0,LOOKUP(B1632,[4]BG!$A$3:$A$65,[4]BG!$H$3:$H$65))-SUMIF($B$3:B1632,B1632,$G$3:G1632)","v":{"$error":"#N/A"}}]
[null,0,null,null,null,null,null,null,null,null,null,null,null,null,null,null,null,null,null,null,null,null,null,null,null,null,null,null,null,null,null,null,null,null,null,null,null,null,null,null,null,null,null,{"$f":"IF(B1635=\"\",0,LOOKUP(B1635,[4]BG!$A$3:$A$65,[4]BG!$H$3:$H$65))-SUMIF($B$3:B1635,B1635,$G$3:G1635)","v":{"$error":"#N/A"}}]
[null,0,null,null,null,null,null,null,null,null,null,null,null,null,null,null,null,null,null,null,null,null,null,null,null,null,null,null,null,null,null,null,null,null,null,null,null,null,null,null,null,null,null,{"$f":"IF(B1640=\"\",0,LOOKUP(B1640,[4]BG!$A$3:$A$65,[4]BG!$H$3:$H$65))-SUMIF($B$3:B1640,B1640,$G$3:G1640)","v":{"$error":"#N/A"}}]
[null,0,null,null,null,null,null,null,null,null,null,null,null,null,null,null,null,null,null,null,null,null,null,null,null,null,null,null,null,null,null,null,null,null,null,null,null,null,null,null,null,null,null,{"$f":"IF(B1645=\"\",0,LOOKUP(B1645,[4]BG!$A$3:$A$65,[4]BG!$H$3:$H$65))-SUMIF($B$3:B1645,B1645,$G$3:G1645)","v":{"$error":"#N/A"}}]
[null,0,null,null,null,null,null,null,null,null,null,null,null,null,null,null,null,null,null,null,null,null,null,null,null,null,null,null,null,null,null,null,null,null,null,null,null,null,null,null,null,null,null,{"$f":"IF(B1651=\"\",0,LOOKUP(B1651,[4]BG!$A$3:$A$65,[4]BG!$H$3:$H$65))-SUMIF($B$3:B1651,B1651,$G$3:G1651)","v":{"$error":"#N/A"}}]
[null,0,null,null,null,null,null,null,null,null,null,null,null,null,null,null,null,null,null,null,null,null,null,null,null,null,null,null,null,null,null,null,null,null,null,null,null,null,null,null,null,null,null,{"$f":"IF(B1652=\"\",0,LOOKUP(B1652,[4]BG!$A$3:$A$65,[4]BG!$H$3:$H$65))-SUMIF($B$3:B1652,B1652,$G$3:G1652)","v":{"$error":"#N/A"}}]
[null,0,null,null,null,null,null,null,null,null,null,null,null,null,null,null,null,null,null,null,null,null,null,null,null,null,null,null,null,null,null,null,null,null,null,null,null,null,null,null,null,null,null,{"$f":"IF(B1657=\"\",0,LOOKUP(B1657,[4]BG!$A$3:$A$65,[4]BG!$H$3:$H$65))-SUMIF($B$3:B1657,B1657,$G$3:G1657)","v":{"$error":"#N/A"}}]
[null,0,null,null,null,null,null,null,null,null,null,null,null,null,null,null,null,null,null,null,null,null,null,null,null,null,null,null,null,null,null,null,null,null,null,null,null,null,null,null,null,null,null,{"$f":"IF(B1662=\"\",0,LOOKUP(B1662,[4]BG!$A$3:$A$65,[4]BG!$H$3:$H$65))-SUMIF($B$3:B1662,B1662,$G$3:G1662)","v":{"$error":"#N/A"}}]
[null,0,null,null,null,null,null,null,null,null,null,null,null,null,null,null,null,null,null,null,null,null,null,null,null,null,null,null,null,null,null,null,null,null,null,null,null,null,null,null,null,null,null,{"$f":"IF(B1664=\"\",0,LOOKUP(B1664,[4]BG!$A$3:$A$65,[4]BG!$H$3:$H$65))-SUMIF($B$3:B1664,B1664,$G$3:G1664)","v":{"$error":"#N/A"}}]
[null,0,null,null,null,null,null,null,null,null,null,null,null,null,null,null,null,null,null,null,null,null,null,null,null,null,null,null,null,null,null,null,null,null,null,null,null,null,null,null,null,null,null,{"$f":"IF(B1669=\"\",0,LOOKUP(B1669,[4]BG!$A$3:$A$65,[4]BG!$H$3:$H$65))-SUMIF($B$3:B1669,B1669,$G$3:G1669)","v":{"$error":"#N/A"}}]
[null,0,null,null,null,null,null,null,null,null,null,null,null,null,null,null,null,null,null,null,null,null,null,null,null,null,null,null,null,null,null,null,null,null,null,null,null,null,null,null,null,null,null,{"$f":"IF(B1674=\"\",0,LOOKUP(B1674,[4]BG!$A$3:$A$65,[4]BG!$H$3:$H$65))-SUMIF($B$3:B1674,B1674,$G$3:G1674)","v":{"$error":"#N/A"}}]
[null,0,null,null,null,null,null,null,null,null,null,null,null,null,null,null,null,null,null,null,null,null,null,null,null,null,null,null,null,null,null,null,null,null,null,null,null,null,null,null,null,null,null,{"$f":"IF(B1679=\"\",0,LOOKUP(B1679,[4]BG!$A$3:$A$65,[4]BG!$H$3:$H$65))-SUMIF($B$3:B1679,B1679,$G$3:G1679)","v":{"$error":"#N/A"}}]
[null,0,null,null,null,null,null,null,null,null,null,null,null,null,null,null,null,null,null,null,null,null,null,null,null,null,null,null,null,null,null,null,null,null,null,null,null,null,null,null,null,null,null,{"$f":"IF(B1683=\"\",0,LOOKUP(B1683,[4]BG!$A$3:$A$65,[4]BG!$H$3:$H$65))-SUMIF($B$3:B1683,B1683,$G$3:G1683)","v":{"$error":"#N/A"}}]
[null,0,null,null,null,null,null,null,null,null,null,null,null,null,null,null,null,null,null,null,null,null,null,null,null,null,null,null,null,null,null,null,null,null,null,null,null,null,null,null,null,null,null,{"$f":"IF(B1686=\"\",0,LOOKUP(B1686,[4]BG!$A$3:$A$65,[4]BG!$H$3:$H$65))-SUMIF($B$3:B1686,B1686,$G$3:G1686)","v":{"$error":"#N/A"}}]
[null,0,null,null,null,null,null,null,null,null,null,null,null,null,null,null,null,null,null,null,null,null,null,null,null,null,null,null,null,null,null,null,null,null,null,null,null,null,null,null,null,null,null,{"$f":"IF(B1691=\"\",0,LOOKUP(B1691,[4]BG!$A$3:$A$65,[4]BG!$H$3:$H$65))-SUMIF($B$3:B1691,B1691,$G$3:G1691)","v":{"$error":"#N/A"}}]
[null,0,null,null,null,null,null,null,null,null,null,null,null,null,null,null,null,null,null,null,null,null,null,null,null,null,null,null,null,null,null,null,null,null,null,null,null,null,null,null,null,null,null,{"$f":"IF(B1696=\"\",0,LOOKUP(B1696,[4]BG!$A$3:$A$65,[4]BG!$H$3:$H$65))-SUMIF($B$3:B1696,B1696,$G$3:G1696)","v":{"$error":"#N/A"}}]
[null,0,null,null,null,null,null,null,null,null,null,null,null,null,null,null,null,null,null,null,null,null,null,null,null,null,null,null,null,null,null,null,null,null,null,null,null,null,null,null,null,null,null,{"$f":"IF(B1701=\"\",0,LOOKUP(B1701,[4]BG!$A$3:$A$65,[4]BG!$H$3:$H$65))-SUMIF($B$3:B1701,B1701,$G$3:G1701)","v":{"$error":"#N/A"}}]
[null,0,null,null,null,null,null,null,null,null,null,null,null,null,null,null,null,null,null,null,null,null,null,null,null,null,null,null,null,null,null,null,null,null,null,null,null,null,null,null,null,null,null,{"$f":"IF(B1703=\"\",0,LOOKUP(B1703,[4]BG!$A$3:$A$65,[4]BG!$H$3:$H$65))-SUMIF($B$3:B1703,B1703,$G$3:G1703)","v":{"$error":"#N/A"}}]
[null,0,null,null,null,null,null,null,null,null,null,null,null,null,null,null,null,null,null,null,null,null,null,null,null,null,null,null,null,null,null,null,null,null,null,null,null,null,null,null,null,null,null,{"$f":"IF(B1708=\"\",0,LOOKUP(B1708,[4]BG!$A$3:$A$65,[4]BG!$H$3:$H$65))-SUMIF($B$3:B1708,B1708,$G$3:G1708)","v":{"$error":"#N/A"}}]
[null,0,null,null,null,null,null,null,null,null,null,null,null,null,null,null,null,null,null,null,null,null,null,null,null,null,null,null,null,null,null,null,null,null,null,null,null,null,null,null,null,null,null,{"$f":"IF(B1713=\"\",0,LOOKUP(B1713,[4]BG!$A$3:$A$65,[4]BG!$H$3:$H$65))-SUMIF($B$3:B1713,B1713,$G$3:G1713)","v":{"$error":"#N/A"}}]
[null,0,null,null,null,null,null,null,null,null,null,null,null,null,null,null,null,null,null,null,null,null,null,null,null,null,null,null,null,null,null,null,null,null,null,null,null,null,null,null,null,null,null,{"$f":"IF(B1715=\"\",0,LOOKUP(B1715,[4]BG!$A$3:$A$65,[4]BG!$H$3:$H$65))-SUMIF($B$3:B1715,B1715,$G$3:G1715)","v":{"$error":"#N/A"}}]
[null,0,null,null,null,null,null,null,null,null,null,null,null,null,null,null,null,null,null,null,null,null,null,null,null,null,null,null,null,null,null,null,null,null,null,null,null,null,null,null,null,null,null,{"$f":"IF(B1720=\"\",0,LOOKUP(B1720,[4]BG!$A$3:$A$65,[4]BG!$H$3:$H$65))-SUMIF($B$3:B1720,B1720,$G$3:G1720)","v":{"$error":"#N/A"}}]
[null,{"$f":"BJ1725","v":0},null,null,null,null,null,null,null,null,null,null,null,null,null,null,null,null,null,null,null,null,null,null,null,null,null,null,null,null,null,null,null,null,null,null,null,null,null,null,null,null,null,{"$f":"IF(B1725=\"\",0,LOOKUP(B1725,[4]BG!$A$3:$A$65,[4]BG!$H$3:$H$65))-SUMIF($B$3:B1725,B1725,$G$3:G1725)","v":{"$error":"#N/A"}}]
[null,0,null,null,null,null,null,null,null,null,null,null,null,null,null,null,null,null,null,null,null,null,null,null,null,null,null,null,null,null,null,null,null,null,null,null,null,null,null,null,null,null,null,{"$f":"IF(B1730=\"\",0,LOOKUP(B1730,[4]BG!$A$3:$A$65,[4]BG!$H$3:$H$65))-SUMIF($B$3:B1730,B1730,$G$3:G1730)","v":{"$error":"#N/A"}}]
[null,0,null,null,null,null,null,null,null,null,null,null,null,null,null,null,null,null,null,null,null,null,null,null,null,null,null,null,null,null,null,null,null,null,null,null,null,null,null,null,null,null,null,{"$f":"IF(B1733=\"\",0,LOOKUP(B1733,[4]BG!$A$3:$A$65,[4]BG!$H$3:$H$65))-SUMIF($B$3:B1733,B1733,$G$3:G1733)","v":{"$error":"#N/A"}}]
[null,0,null,null,null,null,null,null,null,null,null,null,null,null,null,null,null,null,null,null,null,null,null,null,null,null,null,null,null,null,null,null,null,null,null,null,null,null,null,null,null,null,null,{"$f":"IF(B1737=\"\",0,LOOKUP(B1737,[4]BG!$A$3:$A$65,[4]BG!$H$3:$H$65))-SUMIF($B$3:B1737,B1737,$G$3:G1737)","v":{"$error":"#N/A"}}]
[null,0,null,null,null,null,null,null,null,null,null,null,null,null,null,null,null,null,null,null,null,null,null,null,null,null,null,null,null,null,null,null,null,null,null,null,null,null,null,null,null,null,null,{"$f":"IF(B1742=\"\",0,LOOKUP(B1742,[4]BG!$A$3:$A$65,[4]BG!$H$3:$H$65))-SUMIF($B$3:B1742,B1742,$G$3:G1742)","v":{"$error":"#N/A"}}]
[null,0,null,null,null,null,null,null,null,null,null,null,null,null,null,null,null,null,null,null,null,null,null,null,null,null,null,null,null,null,null,null,null,null,null,null,null,null,null,null,null,null,null,{"$f":"IF(B1747=\"\",0,LOOKUP(B1747,[4]BG!$A$3:$A$65,[4]BG!$H$3:$H$65))-SUMIF($B$3:B1747,B1747,$G$3:G1747)","v":{"$error":"#N/A"}}]
[null,0,null,null,null,null,null,null,null,null,null,null,null,null,null,null,null,null,null,null,null,null,null,null,null,null,null,null,null,null,null,null,null,null,null,null,null,null,null,null,null,null,null,{"$f":"IF(B1752=\"\",0,LOOKUP(B1752,[4]BG!$A$3:$A$65,[4]BG!$H$3:$H$65))-SUMIF($B$3:B1752,B1752,$G$3:G1752)","v":{"$error":"#N/A"}}]
[null,0,null,null,null,null,null,null,null,null,null,null,null,null,null,null,null,null,null,null,null,null,null,null,null,null,null,null,null,null,null,null,null,null,null,null,null,null,null,null,null,null,null,{"$f":"IF(B1754=\"\",0,LOOKUP(B1754,[4]BG!$A$3:$A$65,[4]BG!$H$3:$H$65))-SUMIF($B$3:B1754,B1754,$G$3:G1754)","v":{"$error":"#N/A"}}]
[null,0,null,null,null,null,null,null,null,null,null,null,null,null,null,null,null,null,null,null,null,null,null,null,null,null,null,null,null,null,null,null,null,null,null,null,null,null,null,null,null,null,null,{"$f":"IF(B1759=\"\",0,LOOKUP(B1759,[4]BG!$A$3:$A$65,[4]BG!$H$3:$H$65))-SUMIF($B$3:B1759,B1759,$G$3:G1759)","v":{"$error":"#N/A"}}]
[null,0,null,null,null,null,null,null,null,null,null,null,null,null,null,null,null,null,null,null,null,null,null,null,null,null,null,null,null,null,null,null,null,null,null,null,null,null,null,null,null,null,null,{"$f":"IF(B1764=\"\",0,LOOKUP(B1764,[4]BG!$A$3:$A$65,[4]BG!$H$3:$H$65))-SUMIF($B$3:B1764,B1764,$G$3:G1764)","v":{"$error":"#N/A"}}]
[null,0,null,null,null,null,null,null,null,null,null,null,null,null,null,null,null,null,null,null,null,null,null,null,null,null,null,null,null,null,null,null,null,null,null,null,null,null,null,null,null,null,null,{"$f":"IF(B1770=\"\",0,LOOKUP(B1770,[4]BG!$A$3:$A$65,[4]BG!$H$3:$H$65))-SUMIF($B$3:B1770,B1770,$G$3:G1770)","v":{"$error":"#N/A"}}]
[null,0,null,null,null,null,null,null,null,null,null,null,null,null,null,null,null,null,null,null,null,null,null,null,null,null,null,null,null,null,null,null,null,null,null,null,null,null,null,null,null,null,null,{"$f":"IF(B1771=\"\",0,LOOKUP(B1771,[4]BG!$A$3:$A$65,[4]BG!$H$3:$H$65))-SUMIF($B$3:B1771,B1771,$G$3:G1771)","v":{"$error":"#N/A"}}]
[null,0,null,null,null,null,null,null,null,null,null,null,null,null,null,null,null,null,null,null,null,null,null,null,null,null,null,null,null,null,null,null,null,null,null,null,null,null,null,null,null,null,null,{"$f":"IF(B1776=\"\",0,LOOKUP(B1776,[4]BG!$A$3:$A$65,[4]BG!$H$3:$H$65))-SUMIF($B$3:B1776,B1776,$G$3:G1776)","v":{"$error":"#N/A"}}]
[null,0,null,null,null,null,null,null,null,null,null,null,null,null,null,null,null,null,null,null,null,null,null,null,null,null,null,null,null,null,null,null,null,null,null,null,null,null,null,null,null,null,null,{"$f":"IF(B1781=\"\",0,LOOKUP(B1781,[4]BG!$A$3:$A$65,[4]BG!$H$3:$H$65))-SUMIF($B$3:B1781,B1781,$G$3:G1781)","v":{"$error":"#N/A"}}]
[null,0,null,null,null,null,null,null,null,null,null,null,null,null,null,null,null,null,null,null,null,null,null,null,null,null,null,null,null,null,null,null,null,null,null,null,null,null,null,null,null,null,null,{"$f":"IF(B1784=\"\",0,LOOKUP(B1784,[4]BG!$A$3:$A$65,[4]BG!$H$3:$H$65))-SUMIF($B$3:B1784,B1784,$G$3:G1784)","v":{"$error":"#N/A"}}]
[null,0,null,null,null,null,null,null,null,null,null,null,null,null,null,null,null,null,null,null,null,null,null,null,null,null,null,null,null,null,null,null,null,null,null,null,null,null,null,null,null,null,null,{"$f":"IF(B1788=\"\",0,LOOKUP(B1788,[4]BG!$A$3:$A$65,[4]BG!$H$3:$H$65))-SUMIF($B$3:B1788,B1788,$G$3:G1788)","v":{"$error":"#N/A"}}]
[null,0,null,null,null,null,null,null,null,null,null,null,null,null,null,null,null,null,null,null,null,null,null,null,null,null,null,null,null,null,null,null,null,null,null,null,null,null,null,null,null,null,null,{"$f":"IF(B1793=\"\",0,LOOKUP(B1793,[4]BG!$A$3:$A$65,[4]BG!$H$3:$H$65))-SUMIF($B$3:B1793,B1793,$G$3:G1793)","v":{"$error":"#N/A"}}]
[null,0,null,null,null,null,null,null,null,null,null,null,null,null,null,null,null,null,null,null,null,null,null,null,null,null,null,null,null,null,null,null,null,null,null,null,null,null,null,null,null,null,null,{"$f":"IF(B1798=\"\",0,LOOKUP(B1798,[4]BG!$A$3:$A$65,[4]BG!$H$3:$H$65))-SUMIF($B$3:B1798,B1798,$G$3:G1798)","v":{"$error":"#N/A"}}]
[null,0,null,null,null,null,null,null,null,null,null,null,null,null,null,null,null,null,null,null,null,null,null,null,null,null,null,null,null,null,null,null,null,null,null,null,null,null,null,null,null,null,null,{"$f":"IF(B1802=\"\",0,LOOKUP(B1802,[4]BG!$A$3:$A$65,[4]BG!$H$3:$H$65))-SUMIF($B$3:B1802,B1802,$G$3:G1802)","v":{"$error":"#N/A"}}]
[null,0,null,null,null,null,null,null,null,null,null,null,null,null,null,null,null,null,null,null,null,null,null,null,null,null,null,null,null,null,null,null,null,null,null,null,null,null,null,null,null,null,null,{"$f":"IF(B1805=\"\",0,LOOKUP(B1805,[4]BG!$A$3:$A$65,[4]BG!$H$3:$H$65))-SUMIF($B$3:B1805,B1805,$G$3:G1805)","v":{"$error":"#N/A"}}]
[null,0,null,null,null,null,null,null,null,null,null,null,null,null,null,null,null,null,null,null,null,null,null,null,null,null,null,null,null,null,null,null,null,null,null,null,null,null,null,null,null,null,null,{"$f":"IF(B1810=\"\",0,LOOKUP(B1810,[4]BG!$A$3:$A$65,[4]BG!$H$3:$H$65))-SUMIF($B$3:B1810,B1810,$G$3:G1810)","v":{"$error":"#N/A"}}]
[null,0,null,null,null,null,null,null,null,null,null,null,null,null,null,null,null,null,null,null,null,null,null,null,null,null,null,null,null,null,null,null,null,null,null,null,null,null,null,null,null,null,null,{"$f":"IF(B1815=\"\",0,LOOKUP(B1815,[4]BG!$A$3:$A$65,[4]BG!$H$3:$H$65))-SUMIF($B$3:B1815,B1815,$G$3:G1815)","v":{"$error":"#N/A"}}]
[null,0,null,null,null,null,null,null,null,null,null,null,null,null,null,null,null,null,null,null,null,null,null,null,null,null,null,null,null,null,null,null,null,null,null,null,null,null,null,null,null,null,null,{"$f":"IF(B1821=\"\",0,LOOKUP(B1821,[4]BG!$A$3:$A$65,[4]BG!$H$3:$H$65))-SUMIF($B$3:B1821,B1821,$G$3:G1821)","v":{"$error":"#N/A"}}]
[null,0,null,null,null,null,null,null,null,null,null,null,null,null,null,null,null,null,null,null,null,null,null,null,null,null,null,null,null,null,null,null,null,null,null,null,null,null,null,null,null,null,null,{"$f":"IF(B1822=\"\",0,LOOKUP(B1822,[4]BG!$A$3:$A$65,[4]BG!$H$3:$H$65))-SUMIF($B$3:B1822,B1822,$G$3:G1822)","v":{"$error":"#N/A"}}]
[null,0,null,null,null,null,null,null,null,null,null,null,null,null,null,null,null,null,null,null,null,null,null,null,null,null,null,null,null,null,null,null,null,null,null,null,null,null,null,null,null,null,null,{"$f":"IF(B1827=\"\",0,LOOKUP(B1827,[4]BG!$A$3:$A$65,[4]BG!$H$3:$H$65))-SUMIF($B$3:B1827,B1827,$G$3:G1827)","v":{"$error":"#N/A"}}]
[null,0,null,null,null,null,null,null,null,null,null,null,null,null,null,null,null,null,null,null,null,null,null,null,null,null,null,null,null,null,null,null,null,null,null,null,null,null,null,null,null,null,null,{"$f":"IF(B1832=\"\",0,LOOKUP(B1832,[4]BG!$A$3:$A$65,[4]BG!$H$3:$H$65))-SUMIF($B$3:B1832,B1832,$G$3:G1832)","v":{"$error":"#N/A"}}]
[null,0,null,null,null,null,null,null,null,null,null,null,null,null,null,null,null,null,null,null,null,null,null,null,null,null,null,null,null,null,null,null,null,null,null,null,null,null,null,null,null,null,null,{"$f":"IF(B1834=\"\",0,LOOKUP(B1834,[4]BG!$A$3:$A$65,[4]BG!$H$3:$H$65))-SUMIF($B$3:B1834,B1834,$G$3:G1834)","v":{"$error":"#N/A"}}]
[null,0,null,null,null,null,null,null,null,null,null,null,null,null,null,null,null,null,null,null,null,null,null,null,null,null,null,null,null,null,null,null,null,null,null,null,null,null,null,null,null,null,null,{"$f":"IF(B1839=\"\",0,LOOKUP(B1839,[4]BG!$A$3:$A$65,[4]BG!$H$3:$H$65))-SUMIF($B$3:B1839,B1839,$G$3:G1839)","v":{"$error":"#N/A"}}]
[null,0,null,null,null,null,null,null,null,null,null,null,null,null,null,null,null,null,null,null,null,null,null,null,null,null,null,null,null,null,null,null,null,null,null,null,null,null,null,null,null,null,null,{"$f":"IF(B1844=\"\",0,LOOKUP(B1844,[4]BG!$A$3:$A$65,[4]BG!$H$3:$H$65))-SUMIF($B$3:B1844,B1844,$G$3:G1844)","v":{"$error":"#N/A"}}]
[null,0,null,null,null,null,null,null,null,null,null,null,null,null,null,null,null,null,null,null,null,null,null,null,null,null,null,null,null,null,null,null,null,null,null,null,null,null,null,null,null,null,null,{"$f":"IF(B1849=\"\",0,LOOKUP(B1849,[4]BG!$A$3:$A$65,[4]BG!$H$3:$H$65))-SUMIF($B$3:B1849,B1849,$G$3:G1849)","v":{"$error":"#N/A"}}]
[null,{"$f":"BJ1853","v":0},null,null,null,null,null,null,null,null,null,null,null,null,null,null,null,null,null,null,null,null,null,null,null,null,null,null,null,null,null,null,null,null,null,null,null,null,null,null,null,null,null,{"$f":"IF(B1853=\"\",0,LOOKUP(B1853,[4]BG!$A$3:$A$65,[4]BG!$H$3:$H$65))-SUMIF($B$3:B1853,B1853,$G$3:G1853)","v":{"$error":"#N/A"}}]
[null,0,null,null,null,null,null,null,null,null,null,null,null,null,null,null,null,null,null,null,null,null,null,null,null,null,null,null,null,null,null,null,null,null,null,null,null,null,null,null,null,null,null,{"$f":"IF(B1856=\"\",0,LOOKUP(B1856,[4]BG!$A$3:$A$65,[4]BG!$H$3:$H$65))-SUMIF($B$3:B1856,B1856,$G$3:G1856)","v":{"$error":"#N/A"}}]
[null,0,null,null,null,null,null,null,null,null,null,null,null,null,null,null,null,null,null,null,null,null,null,null,null,null,null,null,null,null,null,null,null,null,null,null,null,null,null,null,null,null,null,{"$f":"IF(B1861=\"\",0,LOOKUP(B1861,[4]BG!$A$3:$A$65,[4]BG!$H$3:$H$65))-SUMIF($B$3:B1861,B1861,$G$3:G1861)","v":{"$error":"#N/A"}}]
[null,0,null,null,null,null,null,null,null,null,null,null,null,null,null,null,null,null,null,null,null,null,null,null,null,null,null,null,null,null,null,null,null,null,null,null,null,null,null,null,null,null,null,{"$f":"IF(B1866=\"\",0,LOOKUP(B1866,[4]BG!$A$3:$A$65,[4]BG!$H$3:$H$65))-SUMIF($B$3:B1866,B1866,$G$3:G1866)","v":{"$error":"#N/A"}}]
[null,0,null,null,null,null,null,null,null,null,null,null,null,null,null,null,null,null,null,null,null,null,null,null,null,null,null,null,null,null,null,null,null,null,null,null,null,null,null,null,null,null,null,{"$f":"IF(B1871=\"\",0,LOOKUP(B1871,[4]BG!$A$3:$A$65,[4]BG!$H$3:$H$65))-SUMIF($B$3:B1871,B1871,$G$3:G1871)","v":{"$error":"#N/A"}}]
[null,0,null,null,null,null,null,null,null,null,null,null,null,null,null,null,null,null,null,null,null,null,null,null,null,null,null,null,null,null,null,null,null,null,null,null,null,null,null,null,null,null,null,{"$f":"IF(B1873=\"\",0,LOOKUP(B1873,[4]BG!$A$3:$A$65,[4]BG!$H$3:$H$65))-SUMIF($B$3:B1873,B1873,$G$3:G1873)","v":{"$error":"#N/A"}}]
[null,0,null,null,null,null,null,null,null,null,null,null,null,null,null,null,null,null,null,null,null,null,null,null,null,null,null,null,null,null,null,null,null,null,null,null,null,null,null,null,null,null,null,{"$f":"IF(B1878=\"\",0,LOOKUP(B1878,[4]BG!$A$3:$A$65,[4]BG!$H$3:$H$65))-SUMIF($B$3:B1878,B1878,$G$3:G1878)","v":{"$error":"#N/A"}}]
[null,0,null,null,null,null,null,null,null,null,null,null,null,null,null,null,null,null,null,null,null,null,null,null,null,null,null,null,null,null,null,null,null,null,null,null,null,null,null,null,null,null,null,{"$f":"IF(B1883=\"\",0,LOOKUP(B1883,[4]BG!$A$3:$A$65,[4]BG!$H$3:$H$65))-SUMIF($B$3:B1883,B1883,$G$3:G1883)","v":{"$error":"#N/A"}}]
[null,0,null,null,null,null,null,null,null,null,null,null,null,null,null,null,null,null,null,null,null,null,null,null,null,null,null,null,null,null,null,null,null,null,null,null,null,null,null,null,null,null,null,{"$f":"IF(B1885=\"\",0,LOOKUP(B1885,[4]BG!$A$3:$A$65,[4]BG!$H$3:$H$65))-SUMIF($B$3:B1885,B1885,$G$3:G1885)","v":{"$error":"#N/A"}}]
[null,0,null,null,null,null,null,null,null,null,null,null,null,null,null,null,null,null,null,null,null,null,null,null,null,null,null,null,null,null,null,null,null,null,null,null,null,null,null,null,null,null,null,{"$f":"IF(B1890=\"\",0,LOOKUP(B1890,[4]BG!$A$3:$A$65,[4]BG!$H$3:$H$65))-SUMIF($B$3:B1890,B1890,$G$3:G1890)","v":{"$error":"#N/A"}}]
[null,0,null,null,null,null,null,null,null,null,null,null,null,null,null,null,null,null,null,null,null,null,null,null,null,null,null,null,null,null,null,null,null,null,null,null,null,null,null,null,null,null,null,{"$f":"IF(B1895=\"\",0,LOOKUP(B1895,[4]BG!$A$3:$A$65,[4]BG!$H$3:$H$65))-SUMIF($B$3:B1895,B1895,$G$3:G1895)","v":{"$error":"#N/A"}}]
[null,0,null,null,null,null,null,null,null,null,null,null,null,null,null,null,null,null,null,null,null,null,null,null,null,null,null,null,null,null,null,null,null,null,null,null,null,null,null,null,null,null,null,{"$f":"IF(B1900=\"\",0,LOOKUP(B1900,[4]BG!$A$3:$A$65,[4]BG!$H$3:$H$65))-SUMIF($B$3:B1900,B1900,$G$3:G1900)","v":{"$error":"#N/A"}}]
[null,0,null,null,null,null,null,null,null,null,null,null,null,null,null,null,null,null,null,null,null,null,null,null,null,null,null,null,null,null,null,null,null,null,null,null,null,null,null,null,null,null,null,{"$f":"IF(B1904=\"\",0,LOOKUP(B1904,[4]BG!$A$3:$A$65,[4]BG!$H$3:$H$65))-SUMIF($B$3:B1904,B1904,$G$3:G1904)","v":{"$error":"#N/A"}}]
[null,null,null,null,null,null,null,null,null,null,null,null,null,null,null,null,null,null,null,null,null,null,null,null,null,null,null,null,null,null,null,null,null,null,null,null,null,null,null,null,null,null,null,{"$f":"IF(B1907=\"\",0,LOOKUP(B1907,[4]BG!$A$3:$A$65,[4]BG!$H$3:$H$65))-SUMIF($B$3:B1907,B1907,$G$3:G1907)","v":0}]
[null,null,null,null,null,null,null,null,null,null,null,null,null,null,null,null,null,null,null,null,null,null,null,null,null,null,null,null,null,null,null,null,null,null,null,null,null,null,null,null,null,null,null,{"$f":"IF(B1912=\"\",0,LOOKUP(B1912,[4]BG!$A$3:$A$65,[4]BG!$H$3:$H$65))-SUMIF($B$3:B1912,B1912,$G$3:G1912)","v":0}]
[null,null,null,null,null,null,null,null,null,null,null,null,null,null,null,null,null,null,null,null,null,null,null,null,null,null,null,null,null,null,null,null,null,null,null,null,null,null,null,null,null,null,null,{"$f":"IF(B1917=\"\",0,LOOKUP(B1917,[4]BG!$A$3:$A$65,[4]BG!$H$3:$H$65))-SUMIF($B$3:B1917,B1917,$G$3:G1917)","v":0}]
[null,null,null,null,null,null,null,null,null,null,null,null,null,null,null,null,null,null,null,null,null,null,null,null,null,null,null,null,null,null,null,null,null,null,null,null,null,null,null,null,null,null,null,{"$f":"IF(B1922=\"\",0,LOOKUP(B1922,[4]BG!$A$3:$A$65,[4]BG!$H$3:$H$65))-SUMIF($B$3:B1922,B1922,$G$3:G1922)","v":0}]
[null,null,null,null,null,null,null,null,null,null,null,null,null,null,null,null,null,null,null,null,null,null,null,null,null,null,null,null,null,null,null,null,null,null,null,null,null,null,null,null,null,null,null,{"$f":"IF(B1924=\"\",0,LOOKUP(B1924,[4]BG!$A$3:$A$65,[4]BG!$H$3:$H$65))-SUMIF($B$3:B1924,B1924,$G$3:G1924)","v":0}]
[null,null,null,null,null,null,null,null,null,null,null,null,null,null,null,null,null,null,null,null,null,null,null,null,null,null,null,null,null,null,null,null,null,null,null,null,null,null,null,null,null,null,null,{"$f":"IF(B1929=\"\",0,LOOKUP(B1929,[4]BG!$A$3:$A$65,[4]BG!$H$3:$H$65))-SUMIF($B$3:B1929,B1929,$G$3:G1929)","v":0}]
[null,null,null,null,null,null,null,null,null,null,null,null,null,null,null,null,null,null,null,null,null,null,null,null,null,null,null,null,null,null,null,null,null,null,null,null,null,null,null,null,null,null,null,{"$f":"IF(B1934=\"\",0,LOOKUP(B1934,[4]BG!$A$3:$A$65,[4]BG!$H$3:$H$65))-SUMIF($B$3:B1934,B1934,$G$3:G1934)","v":0}]
[null,null,null,null,null,null,null,null,null,null,null,null,null,null,null,null,null,null,null,null,null,null,null,null,null,null,null,null,null,null,null,null,null,null,null,null,null,null,null,null,null,null,null,{"$f":"IF(B1936=\"\",0,LOOKUP(B1936,[4]BG!$A$3:$A$65,[4]BG!$H$3:$H$65))-SUMIF($B$3:B1936,B1936,$G$3:G1936)","v":0}]
[null,null,null,null,null,null,null,null,null,null,null,null,null,null,null,null,null,null,null,null,null,null,null,null,null,null,null,null,null,null,null,null,null,null,null,null,null,null,null,null,null,null,null,{"$f":"IF(B1941=\"\",0,LOOKUP(B1941,[4]BG!$A$3:$A$65,[4]BG!$H$3:$H$65))-SUMIF($B$3:B1941,B1941,$G$3:G1941)","v":0}]
[null,null,null,null,null,null,null,null,null,null,null,null,null,null,null,null,null,null,null,null,null,null,null,null,null,null,null,null,null,null,null,null,null,null,null,null,null,null,null,null,null,null,null,{"$f":"IF(B1946=\"\",0,LOOKUP(B1946,[4]BG!$A$3:$A$65,[4]BG!$H$3:$H$65))-SUMIF($B$3:B1946,B1946,$G$3:G1946)","v":0}]
[null,null,null,null,null,null,null,null,null,null,null,null,null,null,null,null,null,null,null,null,null,null,null,null,null,null,null,null,null,null,null,null,null,null,null,null,null,null,null,null,null,null,null,{"$f":"IF(B1951=\"\",0,LOOKUP(B1951,[4]BG!$A$3:$A$65,[4]BG!$H$3:$H$65))-SUMIF($B$3:B1951,B1951,$G$3:G1951)","v":0}]
[null,null,null,null,null,null,null,null,null,null,null,null,null,null,null,null,null,null,null,null,null,null,null,null,null,null,null,null,null,null,null,null,null,null,null,null,null,null,null,null,null,null,null,{"$f":"IF(B1954=\"\",0,LOOKUP(B1954,[4]BG!$A$3:$A$65,[4]BG!$H$3:$H$65))-SUMIF($B$3:B1954,B1954,$G$3:G1954)","v":0}]
[null,null,null,null,null,null,null,null,null,null,null,null,null,null,null,null,null,null,null,null,null,null,null,null,null,null,null,null,null,null,null,null,null,null,null,null,null,null,null,null,null,null,null,{"$f":"IF(B1958=\"\",0,LOOKUP(B1958,[4]BG!$A$3:$A$65,[4]BG!$H$3:$H$65))-SUMIF($B$3:B1958,B1958,$G$3:G1958)","v":0}]
[null,null,null,null,null,null,null,null,null,null,null,null,null,null,null,null,null,null,null,null,null,null,null,null,null,null,null,null,null,null,null,null,null,null,null,null,null,null,null,null,null,null,null,{"$f":"IF(B1963=\"\",0,LOOKUP(B1963,[4]BG!$A$3:$A$65,[4]BG!$H$3:$H$65))-SUMIF($B$3:B1963,B1963,$G$3:G1963)","v":0}]
[null,null,null,null,null,null,null,null,null,null,null,null,null,null,null,null,null,null,null,null,null,null,null,null,null,null,null,null,null,null,null,null,null,null,null,null,null,null,null,null,null,null,null,{"$f":"IF(B1968=\"\",0,LOOKUP(B1968,[4]BG!$A$3:$A$65,[4]BG!$H$3:$H$65))-SUMIF($B$3:B1968,B1968,$G$3:G1968)","v":0}]
[null,null,null,null,null,null,null,null,null,null,null,null,null,null,null,null,null,null,null,null,null,null,null,null,null,null,null,null,null,null,null,null,null,null,null,null,null,null,null,null,null,null,null,{"$f":"IF(B1973=\"\",0,LOOKUP(B1973,[4]BG!$A$3:$A$65,[4]BG!$H$3:$H$65))-SUMIF($B$3:B1973,B1973,$G$3:G1973)","v":0}]
[null,null,null,null,null,null,null,null,null,null,null,null,null,null,null,null,null,null,null,null,null,null,null,null,null,null,null,null,null,null,null,null,null,null,null,null,null,null,null,null,null,null,null,{"$f":"IF(B1975=\"\",0,LOOKUP(B1975,[4]BG!$A$3:$A$65,[4]BG!$H$3:$H$65))-SUMIF($B$3:B1975,B1975,$G$3:G1975)","v":0}]
[null,null,null,null,null,null,null,null,null,null,null,null,null,null,null,null,null,null,null,null,null,null,null,null,null,null,null,null,null,null,null,null,null,null,null,null,null,null,null,null,null,null,null,{"$f":"IF(B1980=\"\",0,LOOKUP(B1980,[4]BG!$A$3:$A$65,[4]BG!$H$3:$H$65))-SUMIF($B$3:B1980,B1980,$G$3:G1980)","v":0}]
[null,null,null,null,null,null,null,null,null,null,null,null,null,null,null,null,null,null,null,null,null,null,null,null,null,null,null,null,null,null,null,null,null,null,null,null,null,null,null,null,null,null,null,{"$f":"IF(B1985=\"\",0,LOOKUP(B1985,[4]BG!$A$3:$A$65,[4]BG!$H$3:$H$65))-SUMIF($B$3:B1985,B1985,$G$3:G1985)","v":0}]
[null,null,null,null,null,null,null,null,null,null,null,null,null,null,null,null,null,null,null,null,null,null,null,null,null,null,null,null,null,null,null,null,null,null,null,null,null,null,null,null,null,null,null,{"$f":"IF(B1991=\"\",0,LOOKUP(B1991,[4]BG!$A$3:$A$65,[4]BG!$H$3:$H$65))-SUMIF($B$3:B1991,B1991,$G$3:G1991)","v":0}]
[null,null,null,null,null,null,null,null,null,null,null,null,null,null,null,null,null,null,null,null,null,null,null,null,null,null,null,null,null,null,null,null,null,null,null,null,null,null,null,null,null,null,null,{"$f":"IF(B1992=\"\",0,LOOKUP(B1992,[4]BG!$A$3:$A$65,[4]BG!$H$3:$H$65))-SUMIF($B$3:B1992,B1992,$G$3:G1992)","v":0}]
[null,null,null,null,null,null,null,null,null,null,null,null,null,null,null,null,null,null,null,null,null,null,null,null,null,null,null,null,null,null,null,null,null,null,null,null,null,null,null,null,null,null,null,{"$f":"IF(B1997=\"\",0,LOOKUP(B1997,[4]BG!$A$3:$A$65,[4]BG!$H$3:$H$65))-SUMIF($B$3:B1997,B1997,$G$3:G1997)","v":0}]
[null,null,null,null,null,null,null,null,null,null,null,null,null,null,null,null,null,null,null,null,null,null,null,null,null,null,null,null,null,null,null,null,null,null,null,null,null,null,null,null,null,null,null,{"$f":"IF(B2002=\"\",0,LOOKUP(B2002,[4]BG!$A$3:$A$65,[4]BG!$H$3:$H$65))-SUMIF($B$3:B2002,B2002,$G$3:G2002)","v":0}]
[null,null,null,null,null,null,null,null,null,null,null,null,null,null,null,null,null,null,null,null,null,null,null,null,null,null,null,null,null,null,null,null,null,null,null,null,null,null,null,null,null,null,null,{"$f":"IF(B2005=\"\",0,LOOKUP(B2005,[4]BG!$A$3:$A$65,[4]BG!$H$3:$H$65))-SUMIF($B$3:B2005,B2005,$G$3:G2005)","v":0}]
[null,null,null,null,null,null,null,null,null,null,null,null,null,null,null,null,null,null,null,null,null,null,null,null,null,null,null,null,null,null,null,null,null,null,null,null,null,null,null,null,null,null,null,{"$f":"IF(B2009=\"\",0,LOOKUP(B2009,[4]BG!$A$3:$A$65,[4]BG!$H$3:$H$65))-SUMIF($B$3:B2009,B2009,$G$3:G2009)","v":0}]
[null,null,null,null,null,null,null,null,null,null,null,null,null,null,null,null,null,null,null,null,null,null,null,null,null,null,null,null,null,null,null,null,null,null,null,null,null,null,null,null,null,null,null,{"$f":"IF(B2014=\"\",0,LOOKUP(B2014,[4]BG!$A$3:$A$65,[4]BG!$H$3:$H$65))-SUMIF($B$3:B2014,B2014,$G$3:G2014)","v":0}]
[null,null,null,null,null,null,null,null,null,null,null,null,null,null,null,null,null,null,null,null,null,null,null,null,null,null,null,null,null,null,null,null,null,null,null,null,null,null,null,null,null,null,null,{"$f":"IF(B2019=\"\",0,LOOKUP(B2019,[4]BG!$A$3:$A$65,[4]BG!$H$3:$H$65))-SUMIF($B$3:B2019,B2019,$G$3:G2019)","v":0}]
[null,null,null,null,null,null,null,null,null,null,null,null,null,null,null,null,null,null,null,null,null,null,null,null,null,null,null,null,null,null,null,null,null,null,null,null,null,null,null,null,null,null,null,{"$f":"IF(B2023=\"\",0,LOOKUP(B2023,[4]BG!$A$3:$A$65,[4]BG!$H$3:$H$65))-SUMIF($B$3:B2023,B2023,$G$3:G2023)","v":0}]
[null,null,null,null,null,null,null,null,null,null,null,null,null,null,null,null,null,null,null,null,null,null,null,null,null,null,null,null,null,null,null,null,null,null,null,null,null,null,null,null,null,null,null,{"$f":"IF(B2026=\"\",0,LOOKUP(B2026,[4]BG!$A$3:$A$65,[4]BG!$H$3:$H$65))-SUMIF($B$3:B2026,B2026,$G$3:G2026)","v":0}]
[null,null,null,null,null,null,null,null,null,null,null,null,null,null,null,null,null,null,null,null,null,null,null,null,null,null,null,null,null,null,null,null,null,null,null,null,null,null,null,null,null,null,null,{"$f":"IF(B2031=\"\",0,LOOKUP(B2031,[4]BG!$A$3:$A$65,[4]BG!$H$3:$H$65))-SUMIF($B$3:B2031,B2031,$G$3:G2031)","v":0}]
[null,null,null,null,null,null,null,null,null,null,null,null,null,null,null,null,null,null,null,null,null,null,null,null,null,null,null,null,null,null,null,null,null,null,null,null,null,null,null,null,null,null,null,{"$f":"IF(B2036=\"\",0,LOOKUP(B2036,[4]BG!$A$3:$A$65,[4]BG!$H$3:$H$65))-SUMIF($B$3:B2036,B2036,$G$3:G2036)","v":0}]
[null,null,null,null,null,null,null,null,null,null,null,null,null,null,null,null,null,null,null,null,null,null,null,null,null,null,null,null,null,null,null,null,null,null,null,null,null,null,null,null,null,null,null,{"$f":"IF(B2042=\"\",0,LOOKUP(B2042,[4]BG!$A$3:$A$65,[4]BG!$H$3:$H$65))-SUMIF($B$3:B2042,B2042,$G$3:G2042)","v":0}]
[null,null,null,null,null,null,null,null,null,null,null,null,null,null,null,null,null,null,null,null,null,null,null,null,null,null,null,null,null,null,null,null,null,null,null,null,null,null,null,null,null,null,null,{"$f":"IF(B2043=\"\",0,LOOKUP(B2043,[4]BG!$A$3:$A$65,[4]BG!$H$3:$H$65))-SUMIF($B$3:B2043,B2043,$G$3:G2043)","v":0}]
[null,null,null,null,null,null,null,null,null,null,null,null,null,null,null,null,null,null,null,null,null,null,null,null,null,null,null,null,null,null,null,null,null,null,null,null,null,null,null,null,null,null,null,{"$f":"IF(B2048=\"\",0,LOOKUP(B2048,[4]BG!$A$3:$A$65,[4]BG!$H$3:$H$65))-SUMIF($B$3:B2048,B2048,$G$3:G2048)","v":0}]
[null,null,null,null,null,null,null,null,null,null,null,null,null,null,null,null,null,null,null,null,null,null,null,null,null,null,null,null,null,null,null,null,null,null,null,null,null,null,null,null,null,null,null,{"$f":"IF(B2053=\"\",0,LOOKUP(B2053,[4]BG!$A$3:$A$65,[4]BG!$H$3:$H$65))-SUMIF($B$3:B2053,B2053,$G$3:G2053)","v":0}]
[null,null,null,null,null,null,null,null,null,null,null,null,null,null,null,null,null,null,null,null,null,null,null,null,null,null,null,null,null,null,null,null,null,null,null,null,null,null,null,null,null,null,null,{"$f":"IF(B2055=\"\",0,LOOKUP(B2055,[4]BG!$A$3:$A$65,[4]BG!$H$3:$H$65))-SUMIF($B$3:B2055,B2055,$G$3:G2055)","v":0}]
[null,null,null,null,null,null,null,null,null,null,null,null,null,null,null,null,null,null,null,null,null,null,null,null,null,null,null,null,null,null,null,null,null,null,null,null,null,null,null,null,null,null,null,{"$f":"IF(B2060=\"\",0,LOOKUP(B2060,[4]BG!$A$3:$A$65,[4]BG!$H$3:$H$65))-SUMIF($B$3:B2060,B2060,$G$3:G2060)","v":0}]
[null,null,null,null,null,null,null,null,null,null,null,null,null,null,null,null,null,null,null,null,null,null,null,null,null,null,null,null,null,null,null,null,null,null,null,null,null,null,null,null,null,null,null,{"$f":"IF(B2065=\"\",0,LOOKUP(B2065,[4]BG!$A$3:$A$65,[4]BG!$H$3:$H$65))-SUMIF($B$3:B2065,B2065,$G$3:G2065)","v":0}]
[null,null,null,null,null,null,null,null,null,null,null,null,null,null,null,null,null,null,null,null,null,null,null,null,null,null,null,null,null,null,null,null,null,null,null,null,null,null,null,null,null,null,null,{"$f":"IF(B2070=\"\",0,LOOKUP(B2070,[4]BG!$A$3:$A$65,[4]BG!$H$3:$H$65))-SUMIF($B$3:B2070,B2070,$G$3:G2070)","v":0}]
[null,null,null,null,null,null,null,null,null,null,null,null,null,null,null,null,null,null,null,null,null,null,null,null,null,null,null,null,null,null,null,null,null,null,null,null,null,null,null,null,null,null,null,{"$f":"IF(B2074=\"\",0,LOOKUP(B2074,[4]BG!$A$3:$A$65,[4]BG!$H$3:$H$65))-SUMIF($B$3:B2074,B2074,$G$3:G2074)","v":0}]
[null,null,null,null,null,null,null,null,null,null,null,null,null,null,null,null,null,null,null,null,null,null,null,null,null,null,null,null,null,null,null,null,null,null,null,null,null,null,null,null,null,null,null,{"$f":"IF(B2077=\"\",0,LOOKUP(B2077,[4]BG!$A$3:$A$65,[4]BG!$H$3:$H$65))-SUMIF($B$3:B2077,B2077,$G$3:G2077)","v":0}]
[null,null,null,null,null,null,null,null,null,null,null,null,null,null,null,null,null,null,null,null,null,null,null,null,null,null,null,null,null,null,null,null,null,null,null,null,null,null,null,null,null,null,null,{"$f":"IF(B2082=\"\",0,LOOKUP(B2082,[4]BG!$A$3:$A$65,[4]BG!$H$3:$H$65))-SUMIF($B$3:B2082,B2082,$G$3:G2082)","v":0}]
[null,null,null,null,null,null,null,null,null,null,null,null,null,null,null,null,null,null,null,null,null,null,null,null,null,null,null,null,null,null,null,null,null,null,null,null,null,null,null,null,null,null,null,{"$f":"IF(B2087=\"\",0,LOOKUP(B2087,[4]BG!$A$3:$A$65,[4]BG!$H$3:$H$65))-SUMIF($B$3:B2087,B2087,$G$3:G2087)","v":0}]
[null,null,null,null,null,null,null,null,null,null,null,null,null,null,null,null,null,null,null,null,null,null,null,null,null,null,null,null,null,null,null,null,null,null,null,null,null,null,null,null,null,null,null,{"$f":"IF(B2092=\"\",0,LOOKUP(B2092,[4]BG!$A$3:$A$65,[4]BG!$H$3:$H$65))-SUMIF($B$3:B2092,B2092,$G$3:G2092)","v":0}]
[null,null,null,null,null,null,null,null,null,null,null,null,null,null,null,null,null,null,null,null,null,null,null,null,null,null,null,null,null,null,null,null,null,null,null,null,null,null,null,null,null,null,null,{"$f":"IF(B2094=\"\",0,LOOKUP(B2094,[4]BG!$A$3:$A$65,[4]BG!$H$3:$H$65))-SUMIF($B$3:B2094,B2094,$G$3:G2094)","v":0}]
[null,null,null,null,null,null,null,null,null,null,null,null,null,null,null,null,null,null,null,null,null,null,null,null,null,null,null,null,null,null,null,null,null,null,null,null,null,null,null,null,null,null,null,{"$f":"IF(B2099=\"\",0,LOOKUP(B2099,[4]BG!$A$3:$A$65,[4]BG!$H$3:$H$65))-SUMIF($B$3:B2099,B2099,$G$3:G2099)","v":0}]
[null,null,null,null,null,null,null,null,null,null,null,null,null,null,null,null,null,null,null,null,null,null,null,null,null,null,null,null,null,null,null,null,null,null,null,null,null,null,null,null,null,null,null,{"$f":"IF(B2104=\"\",0,LOOKUP(B2104,[4]BG!$A$3:$A$65,[4]BG!$H$3:$H$65))-SUMIF($B$3:B2104,B2104,$G$3:G2104)","v":0}]
[null,null,null,null,null,null,null,null,null,null,null,null,null,null,null,null,null,null,null,null,null,null,null,null,null,null,null,null,null,null,null,null,null,null,null,null,null,null,null,null,null,null,null,{"$f":"IF(B2109=\"\",0,LOOKUP(B2109,[4]BG!$A$3:$A$65,[4]BG!$H$3:$H$65))-SUMIF($B$3:B2109,B2109,$G$3:G2109)","v":0}]
[null,null,null,null,null,null,null,null,null,null,null,null,null,null,null,null,null,null,null,null,null,null,null,null,null,null,null,null,null,null,null,null,null,null,null,null,null,null,null,null,null,null,null,{"$f":"IF(B2110=\"\",0,LOOKUP(B2110,[4]BG!$A$3:$A$65,[4]BG!$H$3:$H$65))-SUMIF($B$3:B2110,B2110,$G$3:G2110)","v":0}]
[null,null,null,null,null,null,null,null,null,null,null,null,null,null,null,null,null,null,null,null,null,null,null,null,null,null,null,null,null,null,null,null,null,null,null,null,null,null,null,null,null,null,null,{"$f":"IF(B2116=\"\",0,LOOKUP(B2116,[4]BG!$A$3:$A$65,[4]BG!$H$3:$H$65))-SUMIF($B$3:B2116,B2116,$G$3:G2116)","v":0}]
[null,null,null,null,null,null,null,null,null,null,null,null,null,null,null,null,null,null,null,null,null,null,null,null,null,null,null,null,null,null,null,null,null,null,null,null,null,null,null,null,null,null,null,{"$f":"IF(B2121=\"\",0,LOOKUP(B2121,[4]BG!$A$3:$A$65,[4]BG!$H$3:$H$65))-SUMIF($B$3:B2121,B2121,$G$3:G2121)","v":0}]
[null,null,null,null,null,null,null,null,null,null,null,null,null,null,null,null,null,null,null,null,null,null,null,null,null,null,null,null,null,null,null,null,null,null,null,null,null,null,null,null,null,null,null,{"$f":"IF(B2126=\"\",0,LOOKUP(B2126,[4]BG!$A$3:$A$65,[4]BG!$H$3:$H$65))-SUMIF($B$3:B2126,B2126,$G$3:G2126)","v":0}]
[null,null,null,null,null,null,null,null,null,null,null,null,null,null,null,null,null,null,null,null,null,null,null,null,null,null,null,null,null,null,null,null,null,null,null,null,null,null,null,null,null,null,null,{"$f":"IF(B2129=\"\",0,LOOKUP(B2129,[4]BG!$A$3:$A$65,[4]BG!$H$3:$H$65))-SUMIF($B$3:B2129,B2129,$G$3:G2129)","v":0}]
[null,null,null,null,null,null,null,null,null,null,null,null,null,null,null,null,null,null,null,null,null,null,null,null,null,null,null,null,null,null,null,null,null,null,null,null,null,null,null,null,null,null,null,{"$f":"IF(B2133=\"\",0,LOOKUP(B2133,[4]BG!$A$3:$A$65,[4]BG!$H$3:$H$65))-SUMIF($B$3:B2133,B2133,$G$3:G2133)","v":0}]
[null,null,null,null,null,null,null,null,null,null,null,null,null,null,null,null,null,null,null,null,null,null,null,null,null,null,null,null,null,null,null,null,null,null,null,null,null,null,null,null,null,null,null,{"$f":"IF(B2138=\"\",0,LOOKUP(B2138,[4]BG!$A$3:$A$65,[4]BG!$H$3:$H$65))-SUMIF($B$3:B2138,B2138,$G$3:G2138)","v":0}]
[null,null,null,null,null,null,null,null,null,null,null,null,null,null,null,null,null,null,null,null,null,null,null,null,null,null,null,null,null,null,null,null,null,null,null,null,null,null,null,null,null,null,null,{"$f":"IF(B2143=\"\",0,LOOKUP(B2143,[4]BG!$A$3:$A$65,[4]BG!$H$3:$H$65))-SUMIF($B$3:B2143,B2143,$G$3:G2143)","v":0}]
[null,null,null,null,null,null,null,null,null,null,null,null,null,null,null,null,null,null,null,null,null,null,null,null,null,null,null,null,null,null,null,null,null,null,null,null,null,null,null,null,null,null,null,{"$f":"IF(B2147=\"\",0,LOOKUP(B2147,[4]BG!$A$3:$A$65,[4]BG!$H$3:$H$65))-SUMIF($B$3:B2147,B2147,$G$3:G2147)","v":0}]
[null,null,null,null,null,null,null,null,null,null,null,null,null,null,null,null,null,null,null,null,null,null,null,null,null,null,null,null,null,null,null,null,null,null,null,null,null,null,null,null,null,null,null,{"$f":"IF(B2150=\"\",0,LOOKUP(B2150,[4]BG!$A$3:$A$65,[4]BG!$H$3:$H$65))-SUMIF($B$3:B2150,B2150,$G$3:G2150)","v":0}]
[null,null,null,null,null,null,null,null,null,null,null,null,null,null,null,null,null,null,null,null,null,null,null,null,null,null,null,null,null,null,null,null,null,null,null,null,null,null,null,null,null,null,null,{"$f":"IF(B2155=\"\",0,LOOKUP(B2155,[4]BG!$A$3:$A$65,[4]BG!$H$3:$H$65))-SUMIF($B$3:B2155,B2155,$G$3:G2155)","v":0}]
[null,null,null,null,null,null,null,null,null,null,null,null,null,null,null,null,null,null,null,null,null,null,null,null,null,null,null,null,null,null,null,null,null,null,null,null,null,null,null,null,null,null,null,{"$f":"IF(B2160=\"\",0,LOOKUP(B2160,[4]BG!$A$3:$A$65,[4]BG!$H$3:$H$65))-SUMIF($B$3:B2160,B2160,$G$3:G2160)","v":0}]
[null,null,null,null,null,null,null,null,null,null,null,null,null,null,null,null,null,null,null,null,null,null,null,null,null,null,null,null,null,null,null,null,null,null,null,null,null,null,null,null,null,null,null,{"$f":"IF(B2161=\"\",0,LOOKUP(B2161,[4]BG!$A$3:$A$65,[4]BG!$H$3:$H$65))-SUMIF($B$3:B2161,B2161,$G$3:G2161)","v":0}]
[null,null,null,null,null,null,null,null,null,null,null,null,null,null,null,null,null,null,null,null,null,null,null,null,null,null,null,null,null,null,null,null,null,null,null,null,null,null,null,null,null,null,null,{"$f":"IF(B2167=\"\",0,LOOKUP(B2167,[4]BG!$A$3:$A$65,[4]BG!$H$3:$H$65))-SUMIF($B$3:B2167,B2167,$G$3:G2167)","v":0}]
[null,null,null,null,null,null,null,null,null,null,null,null,null,null,null,null,null,null,null,null,null,null,null,null,null,null,null,null,null,null,null,null,null,null,null,null,null,null,null,null,null,null,null,{"$f":"IF(B2172=\"\",0,LOOKUP(B2172,[4]BG!$A$3:$A$65,[4]BG!$H$3:$H$65))-SUMIF($B$3:B2172,B2172,$G$3:G2172)","v":0}]
[null,null,null,null,null,null,null,null,null,null,null,null,null,null,null,null,null,null,null,null,null,null,null,null,null,null,null,null,null,null,null,null,null,null,null,null,null,null,null,null,null,null,null,{"$f":"IF(B2177=\"\",0,LOOKUP(B2177,[4]BG!$A$3:$A$65,[4]BG!$H$3:$H$65))-SUMIF($B$3:B2177,B2177,$G$3:G2177)","v":0}]
[null,null,null,null,null,null,null,null,null,null,null,null,null,null,null,null,null,null,null,null,null,null,null,null,null,null,null,null,null,null,null,null,null,null,null,null,null,null,null,null,null,null,null,{"$f":"IF(B2179=\"\",0,LOOKUP(B2179,[4]BG!$A$3:$A$65,[4]BG!$H$3:$H$65))-SUMIF($B$3:B2179,B2179,$G$3:G2179)","v":0}]
[null,null,null,null,null,null,null,null,null,null,null,null,null,null,null,null,null,null,null,null,null,null,null,null,null,null,null,null,null,null,null,null,null,null,null,null,null,null,null,null,null,null,null,{"$f":"IF(B2184=\"\",0,LOOKUP(B2184,[4]BG!$A$3:$A$65,[4]BG!$H$3:$H$65))-SUMIF($B$3:B2184,B2184,$G$3:G2184)","v":0}]
[null,null,null,null,null,null,null,null,null,null,null,null,null,null,null,null,null,null,null,null,null,null,null,null,null,null,null,null,null,null,null,null,null,null,null,null,null,null,null,null,null,null,null,{"$f":"IF(B2189=\"\",0,LOOKUP(B2189,[4]BG!$A$3:$A$65,[4]BG!$H$3:$H$65))-SUMIF($B$3:B2189,B2189,$G$3:G2189)","v":0}]
[null,null,null,null,null,null,null,null,null,null,null,null,null,null,null,null,null,null,null,null,null,null,null,null,null,null,null,null,null,null,null,null,null,null,null,null,null,null,null,null,null,null,null,{"$f":"IF(B2194=\"\",0,LOOKUP(B2194,[4]BG!$A$3:$A$65,[4]BG!$H$3:$H$65))-SUMIF($B$3:B2194,B2194,$G$3:G2194)","v":0}]
[null,null,null,null,null,null,null,null,null,null,null,null,null,null,null,null,null,null,null,null,null,null,null,null,null,null,null,null,null,null,null,null,null,null,null,null,null,null,null,null,null,null,null,{"$f":"IF(B2198=\"\",0,LOOKUP(B2198,[4]BG!$A$3:$A$65,[4]BG!$H$3:$H$65))-SUMIF($B$3:B2198,B2198,$G$3:G2198)","v":0}]
[null,null,null,null,null,null,null,null,null,null,null,null,null,null,null,null,null,null,null,null,null,null,null,null,null,null,null,null,null,null,null,null,null,null,null,null,null,null,null,null,null,null,null,{"$f":"IF(B2201=\"\",0,LOOKUP(B2201,[4]BG!$A$3:$A$65,[4]BG!$H$3:$H$65))-SUMIF($B$3:B2201,B2201,$G$3:G2201)","v":0}]
[null,null,null,null,null,null,null,null,null,null,null,null,null,null,null,null,null,null,null,null,null,null,null,null,null,null,null,null,null,null,null,null,null,null,null,null,null,null,null,null,null,null,null,{"$f":"IF(B2206=\"\",0,LOOKUP(B2206,[4]BG!$A$3:$A$65,[4]BG!$H$3:$H$65))-SUMIF($B$3:B2206,B2206,$G$3:G2206)","v":0}]
[null,null,null,null,null,null,null,null,null,null,null,null,null,null,null,null,null,null,null,null,null,null,null,null,null,null,null,null,null,null,null,null,null,null,null,null,null,null,null,null,null,null,null,{"$f":"IF(B2211=\"\",0,LOOKUP(B2211,[4]BG!$A$3:$A$65,[4]BG!$H$3:$H$65))-SUMIF($B$3:B2211,B2211,$G$3:G2211)","v":0}]
[null,null,null,null,null,null,null,null,null,null,null,null,null,null,null,null,null,null,null,null,null,null,null,null,null,null,null,null,null,null,null,null,null,null,null,null,null,null,null,null,null,null,null,{"$f":"IF(B2216=\"\",0,LOOKUP(B2216,[4]BG!$A$3:$A$65,[4]BG!$H$3:$H$65))-SUMIF($B$3:B2216,B2216,$G$3:G2216)","v":0}]
[null,null,null,null,null,null,null,null,null,null,null,null,null,null,null,null,null,null,null,null,null,null,null,null,null,null,null,null,null,null,null,null,null,null,null,null,null,null,null,null,null,null,null,{"$f":"IF(B2218=\"\",0,LOOKUP(B2218,[4]BG!$A$3:$A$65,[4]BG!$H$3:$H$65))-SUMIF($B$3:B2218,B2218,$G$3:G2218)","v":0}]
[null,null,null,null,null,null,null,null,null,null,null,null,null,null,null,null,null,null,null,null,null,null,null,null,null,null,null,null,null,null,null,null,null,null,null,null,null,null,null,null,null,null,null,{"$f":"IF(B2223=\"\",0,LOOKUP(B2223,[4]BG!$A$3:$A$65,[4]BG!$H$3:$H$65))-SUMIF($B$3:B2223,B2223,$G$3:G2223)","v":0}]
[null,null,null,null,null,null,null,null,null,null,null,null,null,null,null,null,null,null,null,null,null,null,null,null,null,null,null,null,null,null,null,null,null,null,null,null,null,null,null,null,null,null,null,{"$f":"IF(B2228=\"\",0,LOOKUP(B2228,[4]BG!$A$3:$A$65,[4]BG!$H$3:$H$65))-SUMIF($B$3:B2228,B2228,$G$3:G2228)","v":0}]
[null,null,null,null,null,null,null,null,null,null,null,null,null,null,null,null,null,null,null,null,null,null,null,null,null,null,null,null,null,null,null,null,null,null,null,null,null,null,null,null,null,null,null,{"$f":"IF(B2230=\"\",0,LOOKUP(B2230,[4]BG!$A$3:$A$65,[4]BG!$H$3:$H$65))-SUMIF($B$3:B2230,B2230,$G$3:G2230)","v":0}]
[null,null,null,null,null,null,null,null,null,null,null,null,null,null,null,null,null,null,null,null,null,null,null,null,null,null,null,null,null,null,null,null,null,null,null,null,null,null,null,null,null,null,null,{"$f":"IF(B2235=\"\",0,LOOKUP(B2235,[4]BG!$A$3:$A$65,[4]BG!$H$3:$H$65))-SUMIF($B$3:B2235,B2235,$G$3:G2235)","v":0}]
[null,null,null,null,null,null,null,null,null,null,null,null,null,null,null,null,null,null,null,null,null,null,null,null,null,null,null,null,null,null,null,null,null,null,null,null,null,null,null,null,null,null,null,{"$f":"IF(B2240=\"\",0,LOOKUP(B2240,[4]BG!$A$3:$A$65,[4]BG!$H$3:$H$65))-SUMIF($B$3:B2240,B2240,$G$3:G2240)","v":0}]
[null,null,null,null,null,null,null,null,null,null,null,null,null,null,null,null,null,null,null,null,null,null,null,null,null,null,null,null,null,null,null,null,null,null,null,null,null,null,null,null,null,null,null,{"$f":"IF(B2245=\"\",0,LOOKUP(B2245,[4]BG!$A$3:$A$65,[4]BG!$H$3:$H$65))-SUMIF($B$3:B2245,B2245,$G$3:G2245)","v":0}]
[null,null,null,null,null,null,null,null,null,null,null,null,null,null,null,null,null,null,null,null,null,null,null,null,null,null,null,null,null,null,null,null,null,null,null,null,null,null,null,null,null,null,null,{"$f":"IF(B2248=\"\",0,LOOKUP(B2248,[4]BG!$A$3:$A$65,[4]BG!$H$3:$H$65))-SUMIF($B$3:B2248,B2248,$G$3:G2248)","v":0}]
[null,null,null,null,null,null,null,null,null,null,null,null,null,null,null,null,null,null,null,null,null,null,null,null,null,null,null,null,null,null,null,null,null,null,null,null,null,null,null,null,null,null,null,{"$f":"IF(B2252=\"\",0,LOOKUP(B2252,[4]BG!$A$3:$A$65,[4]BG!$H$3:$H$65))-SUMIF($B$3:B2252,B2252,$G$3:G2252)","v":0}]
[null,null,null,null,null,null,null,null,null,null,null,null,null,null,null,null,null,null,null,null,null,null,null,null,null,null,null,null,null,null,null,null,null,null,null,null,null,null,null,null,null,null,null,{"$f":"IF(B2257=\"\",0,LOOKUP(B2257,[4]BG!$A$3:$A$65,[4]BG!$H$3:$H$65))-SUMIF($B$3:B2257,B2257,$G$3:G2257)","v":0}]
[null,null,null,null,null,null,null,null,null,null,null,null,null,null,null,null,null,null,null,null,null,null,null,null,null,null,null,null,null,null,null,null,null,null,null,null,null,null,null,null,null,null,null,{"$f":"IF(B2262=\"\",0,LOOKUP(B2262,[4]BG!$A$3:$A$65,[4]BG!$H$3:$H$65))-SUMIF($B$3:B2262,B2262,$G$3:G2262)","v":0}]
[null,null,null,null,null,null,null,null,null,null,null,null,null,null,null,null,null,null,null,null,null,null,null,null,null,null,null,null,null,null,null,null,null,null,null,null,null,null,null,null,null,null,null,{"$f":"IF(B2267=\"\",0,LOOKUP(B2267,[4]BG!$A$3:$A$65,[4]BG!$H$3:$H$65))-SUMIF($B$3:B2267,B2267,$G$3:G2267)","v":0}]
[null,null,null,null,null,null,null,null,null,null,null,null,null,null,null,null,null,null,null,null,null,null,null,null,null,null,null,null,null,null,null,null,null,null,null,null,null,null,null,null,null,null,null,{"$f":"IF(B2269=\"\",0,LOOKUP(B2269,[4]BG!$A$3:$A$65,[4]BG!$H$3:$H$65))-SUMIF($B$3:B2269,B2269,$G$3:G2269)","v":0}]
[null,null,null,null,null,null,null,null,null,null,null,null,null,null,null,null,null,null,null,null,null,null,null,null,null,null,null,null,null,null,null,null,null,null,null,null,null,null,null,null,null,null,null,{"$f":"IF(B2274=\"\",0,LOOKUP(B2274,[4]BG!$A$3:$A$65,[4]BG!$H$3:$H$65))-SUMIF($B$3:B2274,B2274,$G$3:G2274)","v":0}]
[null,null,null,null,null,null,null,null,null,null,null,null,null,null,null,null,null,null,null,null,null,null,null,null,null,null,null,null,null,null,null,null,null,null,null,null,null,null,null,null,null,null,null,{"$f":"IF(B2279=\"\",0,LOOKUP(B2279,[4]BG!$A$3:$A$65,[4]BG!$H$3:$H$65))-SUMIF($B$3:B2279,B2279,$G$3:G2279)","v":0}]
[null,null,null,null,null,null,null,null,null,null,null,null,null,null,null,null,null,null,null,null,null,null,null,null,null,null,null,null,null,null,null,null,null,null,null,null,null,null,null,null,null,null,null,{"$f":"IF(B2281=\"\",0,LOOKUP(B2281,[4]BG!$A$3:$A$65,[4]BG!$H$3:$H$65))-SUMIF($B$3:B2281,B2281,$G$3:G2281)","v":0}]
[null,null,null,null,null,null,null,null,null,null,null,null,null,null,null,null,null,null,null,null,null,null,null,null,null,null,null,null,null,null,null,null,null,null,null,null,null,null,null,null,null,null,null,{"$f":"IF(B2286=\"\",0,LOOKUP(B2286,[4]BG!$A$3:$A$65,[4]BG!$H$3:$H$65))-SUMIF($B$3:B2286,B2286,$G$3:G2286)","v":0}]
[null,null,null,null,null,null,null,null,null,null,null,null,null,null,null,null,null,null,null,null,null,null,null,null,null,null,null,null,null,null,null,null,null,null,null,null,null,null,null,null,null,null,null,{"$f":"IF(B2291=\"\",0,LOOKUP(B2291,[4]BG!$A$3:$A$65,[4]BG!$H$3:$H$65))-SUMIF($B$3:B2291,B2291,$G$3:G2291)","v":0}]
[null,null,null,null,null,null,null,null,null,null,null,null,null,null,null,null,null,null,null,null,null,null,null,null,null,null,null,null,null,null,null,null,null,null,null,null,null,null,null,null,null,null,null,{"$f":"IF(B2296=\"\",0,LOOKUP(B2296,[4]BG!$A$3:$A$65,[4]BG!$H$3:$H$65))-SUMIF($B$3:B2296,B2296,$G$3:G2296)","v":0}]
[null,null,null,null,null,null,null,null,null,null,null,null,null,null,null,null,null,null,null,null,null,null,null,null,null,null,null,null,null,null,null,null,null,null,null,null,null,null,null,null,null,null,null,{"$f":"IF(B2299=\"\",0,LOOKUP(B2299,[4]BG!$A$3:$A$65,[4]BG!$H$3:$H$65))-SUMIF($B$3:B2299,B2299,$G$3:G2299)","v":0}]
[null,null,null,null,null,null,null,null,null,null,null,null,null,null,null,null,null,null,null,null,null,null,null,null,null,null,null,null,null,null,null,null,null,null,null,null,null,null,null,null,null,null,null,{"$f":"IF(B2303=\"\",0,LOOKUP(B2303,[4]BG!$A$3:$A$65,[4]BG!$H$3:$H$65))-SUMIF($B$3:B2303,B2303,$G$3:G2303)","v":0}]
[null,null,null,null,null,null,null,null,null,null,null,null,null,null,null,null,null,null,null,null,null,null,null,null,null,null,null,null,null,null,null,null,null,null,null,null,null,null,null,null,null,null,null,{"$f":"IF(B2308=\"\",0,LOOKUP(B2308,[4]BG!$A$3:$A$65,[4]BG!$H$3:$H$65))-SUMIF($B$3:B2308,B2308,$G$3:G2308)","v":0}]
[null,null,null,null,null,null,null,null,null,null,null,null,null,null,null,null,null,null,null,null,null,null,null,null,null,null,null,null,null,null,null,null,null,null,null,null,null,null,null,null,null,null,null,{"$f":"IF(B2313=\"\",0,LOOKUP(B2313,[4]BG!$A$3:$A$65,[4]BG!$H$3:$H$65))-SUMIF($B$3:B2313,B2313,$G$3:G2313)","v":0}]
[null,null,null,null,null,null,null,null,null,null,null,null,null,null,null,null,null,null,null,null,null,null,null,null,null,null,null,null,null,null,null,null,null,null,null,null,null,null,null,null,null,null,null,{"$f":"IF(B2318=\"\",0,LOOKUP(B2318,[4]BG!$A$3:$A$65,[4]BG!$H$3:$H$65))-SUMIF($B$3:B2318,B2318,$G$3:G2318)","v":0}]
[null,null,null,null,null,null,null,null,null,null,null,null,null,null,null,null,null,null,null,null,null,null,null,null,null,null,null,null,null,null,null,null,null,null,null,null,null,null,null,null,null,null,null,{"$f":"IF(B2320=\"\",0,LOOKUP(B2320,[4]BG!$A$3:$A$65,[4]BG!$H$3:$H$65))-SUMIF($B$3:B2320,B2320,$G$3:G2320)","v":0}]
[null,null,null,null,null,null,null,null,null,null,null,null,null,null,null,null,null,null,null,null,null,null,null,null,null,null,null,null,null,null,null,null,null,null,null,null,null,null,null,null,null,null,null,{"$f":"IF(B2325=\"\",0,LOOKUP(B2325,[4]BG!$A$3:$A$65,[4]BG!$H$3:$H$65))-SUMIF($B$3:B2325,B2325,$G$3:G2325)","v":0}]
[null,null,null,null,null,null,null,null,null,null,null,null,null,null,null,null,null,null,null,null,null,null,null,null,null,null,null,null,null,null,null,null,null,null,null,null,null,null,null,null,null,null,null,{"$f":"IF(B2330=\"\",0,LOOKUP(B2330,[4]BG!$A$3:$A$65,[4]BG!$H$3:$H$65))-SUMIF($B$3:B2330,B2330,$G$3:G2330)","v":0}]
[null,null,null,null,null,null,null,null,null,null,null,null,null,null,null,null,null,null,null,null,null,null,null,null,null,null,null,null,null,null,null,null,null,null,null,null,null,null,null,null,null,null,null,{"$f":"IF(B2331=\"\",0,LOOKUP(B2331,[4]BG!$A$3:$A$65,[4]BG!$H$3:$H$65))-SUMIF($B$3:B2331,B2331,$G$3:G2331)","v":0}]
[null,null,null,null,null,null,null,null,null,null,null,null,null,null,null,null,null,null,null,null,null,null,null,null,null,null,null,null,null,null,null,null,null,null,null,null,null,null,null,null,null,null,null,{"$f":"IF(B2337=\"\",0,LOOKUP(B2337,[4]BG!$A$3:$A$65,[4]BG!$H$3:$H$65))-SUMIF($B$3:B2337,B2337,$G$3:G2337)","v":0}]
[null,null,null,null,null,null,null,null,null,null,null,null,null,null,null,null,null,null,null,null,null,null,null,null,null,null,null,null,null,null,null,null,null,null,null,null,null,null,null,null,null,null,null,{"$f":"IF(B2342=\"\",0,LOOKUP(B2342,[4]BG!$A$3:$A$65,[4]BG!$H$3:$H$65))-SUMIF($B$3:B2342,B2342,$G$3:G2342)","v":0}]
[null,null,null,null,null,null,null,null,null,null,null,null,null,null,null,null,null,null,null,null,null,null,null,null,null,null,null,null,null,null,null,null,null,null,null,null,null,null,null,null,null,null,null,{"$f":"IF(B2347=\"\",0,LOOKUP(B2347,[4]BG!$A$3:$A$65,[4]BG!$H$3:$H$65))-SUMIF($B$3:B2347,B2347,$G$3:G2347)","v":0}]
[null,null,null,null,null,null,null,null,null,null,null,null,null,null,null,null,null,null,null,null,null,null,null,null,null,null,null,null,null,null,null,null,null,null,null,null,null,null,null,null,null,null,null,{"$f":"IF(B2350=\"\",0,LOOKUP(B2350,[4]BG!$A$3:$A$65,[4]BG!$H$3:$H$65))-SUMIF($B$3:B2350,B2350,$G$3:G2350)","v":0}]
[null,null,null,null,null,null,null,null,null,null,null,null,null,null,null,null,null,null,null,null,null,null,null,null,null,null,null,null,null,null,null,null,null,null,null,null,null,null,null,null,null,null,null,{"$f":"IF(B2354=\"\",0,LOOKUP(B2354,[4]BG!$A$3:$A$65,[4]BG!$H$3:$H$65))-SUMIF($B$3:B2354,B2354,$G$3:G2354)","v":0}]
[null,null,null,null,null,null,null,null,null,null,null,null,null,null,null,null,null,null,null,null,null,null,null,null,null,null,null,null,null,null,null,null,null,null,null,null,null,null,null,null,null,null,null,{"$f":"IF(B2359=\"\",0,LOOKUP(B2359,[4]BG!$A$3:$A$65,[4]BG!$H$3:$H$65))-SUMIF($B$3:B2359,B2359,$G$3:G2359)","v":0}]
[null,null,null,null,null,null,null,null,null,null,null,null,null,null,null,null,null,null,null,null,null,null,null,null,null,null,null,null,null,null,null,null,null,null,null,null,null,null,null,null,null,null,null,{"$f":"IF(B2364=\"\",0,LOOKUP(B2364,[4]BG!$A$3:$A$65,[4]BG!$H$3:$H$65))-SUMIF($B$3:B2364,B2364,$G$3:G2364)","v":0}]
[null,null,null,null,null,null,null,null,null,null,null,null,null,null,null,null,null,null,null,null,null,null,null,null,null,null,null,null,null,null,null,null,null,null,null,null,null,null,null,null,null,null,null,{"$f":"IF(B2368=\"\",0,LOOKUP(B2368,[4]BG!$A$3:$A$65,[4]BG!$H$3:$H$65))-SUMIF($B$3:B2368,B2368,$G$3:G2368)","v":0}]
[null,null,null,null,null,null,null,null,null,null,null,null,null,null,null,null,null,null,null,null,null,null,null,null,null,null,null,null,null,null,null,null,null,null,null,null,null,null,null,null,null,null,null,{"$f":"IF(B2371=\"\",0,LOOKUP(B2371,[4]BG!$A$3:$A$65,[4]BG!$H$3:$H$65))-SUMIF($B$3:B2371,B2371,$G$3:G2371)","v":0}]
[null,null,null,null,null,null,null,null,null,null,null,null,null,null,null,null,null,null,null,null,null,null,null,null,null,null,null,null,null,null,null,null,null,null,null,null,null,null,null,null,null,null,null,{"$f":"IF(B2376=\"\",0,LOOKUP(B2376,[4]BG!$A$3:$A$65,[4]BG!$H$3:$H$65))-SUMIF($B$3:B2376,B2376,$G$3:G2376)","v":0}]
[null,null,null,null,null,null,null,null,null,null,null,null,null,null,null,null,null,null,null,null,null,null,null,null,null,null,null,null,null,null,null,null,null,null,null,null,null,null,null,null,null,null,null,{"$f":"IF(B2381=\"\",0,LOOKUP(B2381,[4]BG!$A$3:$A$65,[4]BG!$H$3:$H$65))-SUMIF($B$3:B2381,B2381,$G$3:G2381)","v":0}]
[null,null,null,null,null,null,null,null,null,null,null,null,null,null,null,null,null,null,null,null,null,null,null,null,null,null,null,null,null,null,null,null,null,null,null,null,null,null,null,null,null,null,null,{"$f":"IF(B2382=\"\",0,LOOKUP(B2382,[4]BG!$A$3:$A$65,[4]BG!$H$3:$H$65))-SUMIF($B$3:B2382,B2382,$G$3:G2382)","v":0}]
[null,null,null,null,null,null,null,null,null,null,null,null,null,null,null,null,null,null,null,null,null,null,null,null,null,null,null,null,null,null,null,null,null,null,null,null,null,null,null,null,null,null,null,{"$f":"IF(B2388=\"\",0,LOOKUP(B2388,[4]BG!$A$3:$A$65,[4]BG!$H$3:$H$65))-SUMIF($B$3:B2388,B2388,$G$3:G2388)","v":0}]
[null,null,null,null,null,null,null,null,null,null,null,null,null,null,null,null,null,null,null,null,null,null,null,null,null,null,null,null,null,null,null,null,null,null,null,null,null,null,null,null,null,null,null,{"$f":"IF(B2393=\"\",0,LOOKUP(B2393,[4]BG!$A$3:$A$65,[4]BG!$H$3:$H$65))-SUMIF($B$3:B2393,B2393,$G$3:G2393)","v":0}]
[null,null,null,null,null,null,null,null,null,null,null,null,null,null,null,null,null,null,null,null,null,null,null,null,null,null,null,null,null,null,null,null,null,null,null,null,null,null,null,null,null,null,null,{"$f":"IF(B2398=\"\",0,LOOKUP(B2398,[4]BG!$A$3:$A$65,[4]BG!$H$3:$H$65))-SUMIF($B$3:B2398,B2398,$G$3:G2398)","v":0}]
[null,null,null,null,null,null,null,null,null,null,null,null,null,null,null,null,null,null,null,null,null,null,null,null,null,null,null,null,null,null,null,null,null,null,null,null,null,null,null,null,null,null,null,{"$f":"IF(B2400=\"\",0,LOOKUP(B2400,[4]BG!$A$3:$A$65,[4]BG!$H$3:$H$65))-SUMIF($B$3:B2400,B2400,$G$3:G2400)","v":0}]
[null,null,null,null,null,null,null,null,null,null,null,null,null,null,null,null,null,null,null,null,null,null,null,null,null,null,null,null,null,null,null,null,null,null,null,null,null,null,null,null,null,null,null,{"$f":"IF(B2405=\"\",0,LOOKUP(B2405,[4]BG!$A$3:$A$65,[4]BG!$H$3:$H$65))-SUMIF($B$3:B2405,B2405,$G$3:G2405)","v":0}]
[null,null,null,null,null,null,null,null,null,null,null,null,null,null,null,null,null,null,null,null,null,null,null,null,null,null,null,null,null,null,null,null,null,null,null,null,null,null,null,null,null,null,null,{"$f":"IF(B2410=\"\",0,LOOKUP(B2410,[4]BG!$A$3:$A$65,[4]BG!$H$3:$H$65))-SUMIF($B$3:B2410,B2410,$G$3:G2410)","v":0}]
[null,null,null,null,null,null,null,null,null,null,null,null,null,null,null,null,null,null,null,null,null,null,null,null,null,null,null,null,null,null,null,null,null,null,null,null,null,null,null,null,null,null,null,{"$f":"IF(B2415=\"\",0,LOOKUP(B2415,[4]BG!$A$3:$A$65,[4]BG!$H$3:$H$65))-SUMIF($B$3:B2415,B2415,$G$3:G2415)","v":0}]
[null,null,null,null,null,null,null,null,null,null,null,null,null,null,null,null,null,null,null,null,null,null,null,null,null,null,null,null,null,null,null,null,null,null,null,null,null,null,null,null,null,null,null,{"$f":"IF(B2419=\"\",0,LOOKUP(B2419,[4]BG!$A$3:$A$65,[4]BG!$H$3:$H$65))-SUMIF($B$3:B2419,B2419,$G$3:G2419)","v":0}]
[null,null,null,null,null,null,null,null,null,null,null,null,null,null,null,null,null,null,null,null,null,null,null,null,null,null,null,null,null,null,null,null,null,null,null,null,null,null,null,null,null,null,null,{"$f":"IF(B2422=\"\",0,LOOKUP(B2422,[4]BG!$A$3:$A$65,[4]BG!$H$3:$H$65))-SUMIF($B$3:B2422,B2422,$G$3:G2422)","v":0}]
[null,null,null,null,null,null,null,null,null,null,null,null,null,null,null,null,null,null,null,null,null,null,null,null,null,null,null,null,null,null,null,null,null,null,null,null,null,null,null,null,null,null,null,{"$f":"IF(B2427=\"\",0,LOOKUP(B2427,[4]BG!$A$3:$A$65,[4]BG!$H$3:$H$65))-SUMIF($B$3:B2427,B2427,$G$3:G2427)","v":0}]
[null,null,null,null,null,null,null,null,null,null,null,null,null,null,null,null,null,null,null,null,null,null,null,null,null,null,null,null,null,null,null,null,null,null,null,null,null,null,null,null,null,null,null,{"$f":"IF(B2432=\"\",0,LOOKUP(B2432,[4]BG!$A$3:$A$65,[4]BG!$H$3:$H$65))-SUMIF($B$3:B2432,B2432,$G$3:G2432)","v":0}]
[null,null,null,null,null,null,null,null,null,null,null,null,null,null,null,null,null,null,null,null,null,null,null,null,null,null,null,null,null,null,null,null,null,null,null,null,null,null,null,null,null,null,null,{"$f":"IF(B2437=\"\",0,LOOKUP(B2437,[4]BG!$A$3:$A$65,[4]BG!$H$3:$H$65))-SUMIF($B$3:B2437,B2437,$G$3:G2437)","v":0}]
[null,null,null,null,null,null,null,null,null,null,null,null,null,null,null,null,null,null,null,null,null,null,null,null,null,null,null,null,null,null,null,null,null,null,null,null,null,null,null,null,null,null,null,{"$f":"IF(B2439=\"\",0,LOOKUP(B2439,[4]BG!$A$3:$A$65,[4]BG!$H$3:$H$65))-SUMIF($B$3:B2439,B2439,$G$3:G2439)","v":0}]
[null,null,null,null,null,null,null,null,null,null,null,null,null,null,null,null,null,null,null,null,null,null,null,null,null,null,null,null,null,null,null,null,null,null,null,null,null,null,null,null,null,null,null,{"$f":"IF(B2444=\"\",0,LOOKUP(B2444,[4]BG!$A$3:$A$65,[4]BG!$H$3:$H$65))-SUMIF($B$3:B2444,B2444,$G$3:G2444)","v":0}]
[null,null,null,null,null,null,null,null,null,null,null,null,null,null,null,null,null,null,null,null,null,null,null,null,null,null,null,null,null,null,null,null,null,null,null,null,null,null,null,null,null,null,null,{"$f":"IF(B2449=\"\",0,LOOKUP(B2449,[4]BG!$A$3:$A$65,[4]BG!$H$3:$H$65))-SUMIF($B$3:B2449,B2449,$G$3:G2449)","v":0}]
[null,null,null,null,null,null,null,null,null,null,null,null,null,null,null,null,null,null,null,null,null,null,null,null,null,null,null,null,null,null,null,null,null,null,null,null,null,null,null,null,null,null,null,{"$f":"IF(B2451=\"\",0,LOOKUP(B2451,[4]BG!$A$3:$A$65,[4]BG!$H$3:$H$65))-SUMIF($B$3:B2451,B2451,$G$3:G2451)","v":0}]
[null,null,null,null,null,null,null,null,null,null,null,null,null,null,null,null,null,null,null,null,null,null,null,null,null,null,null,null,null,null,null,null,null,null,null,null,null,null,null,null,null,null,null,{"$f":"IF(B2456=\"\",0,LOOKUP(B2456,[4]BG!$A$3:$A$65,[4]BG!$H$3:$H$65))-SUMIF($B$3:B2456,B2456,$G$3:G2456)","v":0}]
[null,null,null,null,null,null,null,null,null,null,null,null,null,null,null,null,null,null,null,null,null,null,null,null,null,null,null,null,null,null,null,null,null,null,null,null,null,null,null,null,null,null,null,{"$f":"IF(B2461=\"\",0,LOOKUP(B2461,[4]BG!$A$3:$A$65,[4]BG!$H$3:$H$65))-SUMIF($B$3:B2461,B2461,$G$3:G2461)","v":0}]
[null,null,null,null,null,null,null,null,null,null,null,null,null,null,null,null,null,null,null,null,null,null,null,null,null,null,null,null,null,null,null,null,null,null,null,null,null,null,null,null,null,null,null,{"$f":"IF(B2466=\"\",0,LOOKUP(B2466,[4]BG!$A$3:$A$65,[4]BG!$H$3:$H$65))-SUMIF($B$3:B2466,B2466,$G$3:G2466)","v":0}]
[null,null,null,null,null,null,null,null,null,null,null,null,null,null,null,null,null,null,null,null,null,null,null,null,null,null,null,null,null,null,null,null,null,null,null,null,null,null,null,null,null,null,null,{"$f":"IF(B2469=\"\",0,LOOKUP(B2469,[4]BG!$A$3:$A$65,[4]BG!$H$3:$H$65))-SUMIF($B$3:B2469,B2469,$G$3:G2469)","v":0}]
[null,null,null,null,null,null,null,null,null,null,null,null,null,null,null,null,null,null,null,null,null,null,null,null,null,null,null,null,null,null,null,null,null,null,null,null,null,null,null,null,null,null,null,{"$f":"IF(B2473=\"\",0,LOOKUP(B2473,[4]BG!$A$3:$A$65,[4]BG!$H$3:$H$65))-SUMIF($B$3:B2473,B2473,$G$3:G2473)","v":0}]
[null,null,null,null,null,null,null,null,null,null,null,null,null,null,null,null,null,null,null,null,null,null,null,null,null,null,null,null,null,null,null,null,null,null,null,null,null,null,null,null,null,null,null,{"$f":"IF(B2478=\"\",0,LOOKUP(B2478,[4]BG!$A$3:$A$65,[4]BG!$H$3:$H$65))-SUMIF($B$3:B2478,B2478,$G$3:G2478)","v":0}]
[null,null,null,null,null,null,null,null,null,null,null,null,null,null,null,null,null,null,null,null,null,null,null,null,null,null,null,null,null,null,null,null,null,null,null,null,null,null,null,null,null,null,null,{"$f":"IF(B2483=\"\",0,LOOKUP(B2483,[4]BG!$A$3:$A$65,[4]BG!$H$3:$H$65))-SUMIF($B$3:B2483,B2483,$G$3:G2483)","v":0}]
[null,null,null,null,null,null,null,null,null,null,null,null,null,null,null,null,null,null,null,null,null,null,null,null,null,null,null,null,null,null,null,null,null,null,null,null,null,null,null,null,null,null,null,{"$f":"IF(B2488=\"\",0,LOOKUP(B2488,[4]BG!$A$3:$A$65,[4]BG!$H$3:$H$65))-SUMIF($B$3:B2488,B2488,$G$3:G2488)","v":0}]
[null,null,null,null,null,null,null,null,null,null,null,null,null,null,null,null,null,null,null,null,null,null,null,null,null,null,null,null,null,null,null,null,null,null,null,null,null,null,null,null,null,null,null,{"$f":"IF(B2490=\"\",0,LOOKUP(B2490,[4]BG!$A$3:$A$65,[4]BG!$H$3:$H$65))-SUMIF($B$3:B2490,B2490,$G$3:G2490)","v":0}]
[null,null,null,null,null,null,null,null,null,null,null,null,null,null,null,null,null,null,null,null,null,null,null,null,null,null,null,null,null,null,null,null,null,null,null,null,null,null,null,null,null,null,null,{"$f":"IF(B2495=\"\",0,LOOKUP(B2495,[4]BG!$A$3:$A$65,[4]BG!$H$3:$H$65))-SUMIF($B$3:B2495,B2495,$G$3:G2495)","v":0}]
[null,null,null,null,null,null,null,null,null,null,null,null,null,null,null,null,null,null,null,null,null,null,null,null,null,null,null,null,null,null,null,null,null,null,null,null,null,null,null,null,null,null,null,{"$f":"IF(B2500=\"\",0,LOOKUP(B2500,[4]BG!$A$3:$A$65,[4]BG!$H$3:$H$65))-SUMIF($B$3:B2500,B2500,$G$3:G2500)","v":0}]
[null,null,null,null,null,null,null,null,null,null,null,null,null,null,null,null,null,null,null,null,null,null,null,null,null,null,null,null,null,null,null,null,null,null,null,null,null,null,null,null,null,null,null,{"$f":"IF(B2501=\"\",0,LOOKUP(B2501,[4]BG!$A$3:$A$65,[4]BG!$H$3:$H$65))-SUMIF($B$3:B2501,B2501,$G$3:G2501)","v":0}]
[null,null,null,null,null,null,null,null,null,null,null,null,null,null,null,null,null,null,null,null,null,null,null,null,null,null,null,null,null,null,null,null,null,null,null,null,null,null,null,null,null,null,null,{"$f":"IF(B2507=\"\",0,LOOKUP(B2507,[4]BG!$A$3:$A$65,[4]BG!$H$3:$H$65))-SUMIF($B$3:B2507,B2507,$G$3:G2507)","v":0}]
[null,null,null,null,null,null,null,null,null,null,null,null,null,null,null,null,null,null,null,null,null,null,null,null,null,null,null,null,null,null,null,null,null,null,null,null,null,null,null,null,null,null,null,{"$f":"IF(B2512=\"\",0,LOOKUP(B2512,[4]BG!$A$3:$A$65,[4]BG!$H$3:$H$65))-SUMIF($B$3:B2512,B2512,$G$3:G2512)","v":0}]
[null,null,null,null,null,null,null,null,null,null,null,null,null,null,null,null,null,null,null,null,null,null,null,null,null,null,null,null,null,null,null,null,null,null,null,null,null,null,null,null,null,null,null,{"$f":"IF(B2517=\"\",0,LOOKUP(B2517,[4]BG!$A$3:$A$65,[4]BG!$H$3:$H$65))-SUMIF($B$3:B2517,B2517,$G$3:G2517)","v":0}]
[null,null,null,null,null,null,null,null,null,null,null,null,null,null,null,null,null,null,null,null,null,null,null,null,null,null,null,null,null,null,null,null,null,null,null,null,null,null,null,null,null,null,null,{"$f":"IF(B2520=\"\",0,LOOKUP(B2520,[4]BG!$A$3:$A$65,[4]BG!$H$3:$H$65))-SUMIF($B$3:B2520,B2520,$G$3:G2520)","v":0}]
[null,null,null,null,null,null,null,null,null,null,null,null,null,null,null,null,null,null,null,null,null,null,null,null,null,null,null,null,null,null,null,null,null,null,null,null,null,null,null,null,null,null,null,{"$f":"IF(B2524=\"\",0,LOOKUP(B2524,[4]BG!$A$3:$A$65,[4]BG!$H$3:$H$65))-SUMIF($B$3:B2524,B2524,$G$3:G2524)","v":0}]
[null,null,null,null,null,null,null,null,null,null,null,null,null,null,null,null,null,null,null,null,null,null,null,null,null,null,null,null,null,null,null,null,null,null,null,null,null,null,null,null,null,null,null,{"$f":"IF(B2529=\"\",0,LOOKUP(B2529,[4]BG!$A$3:$A$65,[4]BG!$H$3:$H$65))-SUMIF($B$3:B2529,B2529,$G$3:G2529)","v":0}]
[null,null,null,null,null,null,null,null,null,null,null,null,null,null,null,null,null,null,null,null,null,null,null,null,null,null,null,null,null,null,null,null,null,null,null,null,null,null,null,null,null,null,null,{"$f":"IF(B2534=\"\",0,LOOKUP(B2534,[4]BG!$A$3:$A$65,[4]BG!$H$3:$H$65))-SUMIF($B$3:B2534,B2534,$G$3:G2534)","v":0}]
[null,null,null,null,null,null,null,null,null,null,null,null,null,null,null,null,null,null,null,null,null,null,null,null,null,null,null,null,null,null,null,null,null,null,null,null,null,null,null,null,null,null,null,{"$f":"IF(B2538=\"\",0,LOOKUP(B2538,[4]BG!$A$3:$A$65,[4]BG!$H$3:$H$65))-SUMIF($B$3:B2538,B2538,$G$3:G2538)","v":0}]
[null,null,null,null,null,null,null,null,null,null,null,null,null,null,null,null,null,null,null,null,null,null,null,null,null,null,null,null,null,null,null,null,null,null,null,null,null,null,null,null,null,null,null,{"$f":"IF(B2541=\"\",0,LOOKUP(B2541,[4]BG!$A$3:$A$65,[4]BG!$H$3:$H$65))-SUMIF($B$3:B2541,B2541,$G$3:G2541)","v":0}]
[null,null,null,null,null,null,null,null,null,null,null,null,null,null,null,null,null,null,null,null,null,null,null,null,null,null,null,null,null,null,null,null,null,null,null,null,null,null,null,null,null,null,null,{"$f":"IF(B2546=\"\",0,LOOKUP(B2546,[4]BG!$A$3:$A$65,[4]BG!$H$3:$H$65))-SUMIF($B$3:B2546,B2546,$G$3:G2546)","v":0}]
[null,null,null,null,null,null,null,null,null,null,null,null,null,null,null,null,null,null,null,null,null,null,null,null,null,null,null,null,null,null,null,null,null,null,null,null,null,null,null,null,null,null,null,{"$f":"IF(B2551=\"\",0,LOOKUP(B2551,[4]BG!$A$3:$A$65,[4]BG!$H$3:$H$65))-SUMIF($B$3:B2551,B2551,$G$3:G2551)","v":0}]
[null,null,null,null,null,null,null,null,null,null,null,null,null,null,null,null,null,null,null,null,null,null,null,null,null,null,null,null,null,null,null,null,null,null,null,null,null,null,null,null,null,null,null,{"$f":"IF(B2552=\"\",0,LOOKUP(B2552,[4]BG!$A$3:$A$65,[4]BG!$H$3:$H$65))-SUMIF($B$3:B2552,B2552,$G$3:G2552)","v":0}]
[null,null,null,null,null,null,null,null,null,null,null,null,null,null,null,null,null,null,null,null,null,null,null,null,null,null,null,null,null,null,null,null,null,null,null,null,null,null,null,null,null,null,null,{"$f":"IF(B2558=\"\",0,LOOKUP(B2558,[4]BG!$A$3:$A$65,[4]BG!$H$3:$H$65))-SUMIF($B$3:B2558,B2558,$G$3:G2558)","v":0}]
[null,null,null,null,null,null,null,null,null,null,null,null,null,null,null,null,null,null,null,null,null,null,null,null,null,null,null,null,null,null,null,null,null,null,null,null,null,null,null,null,null,null,null,{"$f":"IF(B2563=\"\",0,LOOKUP(B2563,[4]BG!$A$3:$A$65,[4]BG!$H$3:$H$65))-SUMIF($B$3:B2563,B2563,$G$3:G2563)","v":0}]
[null,null,null,null,null,null,null,null,null,null,null,null,null,null,null,null,null,null,null,null,null,null,null,null,null,null,null,null,null,null,null,null,null,null,null,null,null,null,null,null,null,null,null,{"$f":"IF(B2568=\"\",0,LOOKUP(B2568,[4]BG!$A$3:$A$65,[4]BG!$H$3:$H$65))-SUMIF($B$3:B2568,B2568,$G$3:G2568)","v":0}]
[null,null,null,null,null,null,null,null,null,null,null,null,null,null,null,null,null,null,null,null,null,null,null,null,null,null,null,null,null,null,null,null,null,null,null,null,null,null,null,null,null,null,null,{"$f":"IF(B2571=\"\",0,LOOKUP(B2571,[4]BG!$A$3:$A$65,[4]BG!$H$3:$H$65))-SUMIF($B$3:B2571,B2571,$G$3:G2571)","v":0}]
[null,null,null,null,null,null,null,null,null,null,null,null,null,null,null,null,null,null,null,null,null,null,null,null,null,null,null,null,null,null,null,null,null,null,null,null,null,null,null,null,null,null,null,{"$f":"IF(B2575=\"\",0,LOOKUP(B2575,[4]BG!$A$3:$A$65,[4]BG!$H$3:$H$65))-SUMIF($B$3:B2575,B2575,$G$3:G2575)","v":0}]
[null,null,null,null,null,null,null,null,null,null,null,null,null,null,null,null,null,null,null,null,null,null,null,null,null,null,null,null,null,null,null,null,null,null,null,null,null,null,null,null,null,null,null,{"$f":"IF(B2580=\"\",0,LOOKUP(B2580,[4]BG!$A$3:$A$65,[4]BG!$H$3:$H$65))-SUMIF($B$3:B2580,B2580,$G$3:G2580)","v":0}]
[null,null,null,null,null,null,null,null,null,null,null,null,null,null,null,null,null,null,null,null,null,null,null,null,null,null,null,null,null,null,null,null,null,null,null,null,null,null,null,null,null,null,null,{"$f":"IF(B2585=\"\",0,LOOKUP(B2585,[4]BG!$A$3:$A$65,[4]BG!$H$3:$H$65))-SUMIF($B$3:B2585,B2585,$G$3:G2585)","v":0}]
[null,null,null,null,null,null,null,null,null,null,null,null,null,null,null,null,null,null,null,null,null,null,null,null,null,null,null,null,null,null,null,null,null,null,null,null,null,null,null,null,null,null,null,{"$f":"IF(B2589=\"\",0,LOOKUP(B2589,[4]BG!$A$3:$A$65,[4]BG!$H$3:$H$65))-SUMIF($B$3:B2589,B2589,$G$3:G2589)","v":0}]
[null,null,null,null,null,null,null,null,null,null,null,null,null,null,null,null,null,null,null,null,null,null,null,null,null,null,null,null,null,null,null,null,null,null,null,null,null,null,null,null,null,null,null,{"$f":"IF(B2592=\"\",0,LOOKUP(B2592,[4]BG!$A$3:$A$65,[4]BG!$H$3:$H$65))-SUMIF($B$3:B2592,B2592,$G$3:G2592)","v":0}]
[null,null,null,null,null,null,null,null,null,null,null,null,null,null,null,null,null,null,null,null,null,null,null,null,null,null,null,null,null,null,null,null,null,null,null,null,null,null,null,null,null,null,null,{"$f":"IF(B2597=\"\",0,LOOKUP(B2597,[4]BG!$A$3:$A$65,[4]BG!$H$3:$H$65))-SUMIF($B$3:B2597,B2597,$G$3:G2597)","v":0}]
[null,null,null,null,null,null,null,null,null,null,null,null,null,null,null,null,null,null,null,null,null,null,null,null,null,null,null,null,null,null,null,null,null,null,null,null,null,null,null,null,null,null,null,{"$f":"IF(B2602=\"\",0,LOOKUP(B2602,[4]BG!$A$3:$A$65,[4]BG!$H$3:$H$65))-SUMIF($B$3:B2602,B2602,$G$3:G2602)","v":0}]
[null,null,null,null,null,null,null,null,null,null,null,null,null,null,null,null,null,null,null,null,null,null,null,null,null,null,null,null,null,null,null,null,null,null,null,null,null,null,null,null,null,null,null,{"$f":"IF(B2603=\"\",0,LOOKUP(B2603,[4]BG!$A$3:$A$65,[4]BG!$H$3:$H$65))-SUMIF($B$3:B2603,B2603,$G$3:G2603)","v":0}]
[null,null,null,null,null,null,null,null,null,null,null,null,null,null,null,null,null,null,null,null,null,null,null,null,null,null,null,null,null,null,null,null,null,null,null,null,null,null,null,null,null,null,null,{"$f":"IF(B2609=\"\",0,LOOKUP(B2609,[4]BG!$A$3:$A$65,[4]BG!$H$3:$H$65))-SUMIF($B$3:B2609,B2609,$G$3:G2609)","v":0}]
[null,null,null,null,null,null,null,null,null,null,null,null,null,null,null,null,null,null,null,null,null,null,null,null,null,null,null,null,null,null,null,null,null,null,null,null,null,null,null,null,null,null,null,{"$f":"IF(B2614=\"\",0,LOOKUP(B2614,[4]BG!$A$3:$A$65,[4]BG!$H$3:$H$65))-SUMIF($B$3:B2614,B2614,$G$3:G2614)","v":0}]
[null,null,null,null,null,null,null,null,null,null,null,null,null,null,null,null,null,null,null,null,null,null,null,null,null,null,null,null,null,null,null,null,null,null,null,null,null,null,null,null,null,null,null,{"$f":"IF(B2619=\"\",0,LOOKUP(B2619,[4]BG!$A$3:$A$65,[4]BG!$H$3:$H$65))-SUMIF($B$3:B2619,B2619,$G$3:G2619)","v":0}]
[null,null,null,null,null,null,null,null,null,null,null,null,null,null,null,null,null,null,null,null,null,null,null,null,null,null,null,null,null,null,null,null,null,null,null,null,null,null,null,null,null,null,null,{"$f":"IF(B2621=\"\",0,LOOKUP(B2621,[4]BG!$A$3:$A$65,[4]BG!$H$3:$H$65))-SUMIF($B$3:B2621,B2621,$G$3:G2621)","v":0}]
[null,null,null,null,null,null,null,null,null,null,null,null,null,null,null,null,null,null,null,null,null,null,null,null,null,null,null,null,null,null,null,null,null,null,null,null,null,null,null,null,null,null,null,{"$f":"IF(B2625=\"\",0,LOOKUP(B2625,[4]BG!$A$3:$A$65,[4]BG!$H$3:$H$65))-SUMIF($B$3:B2625,B2625,$G$3:G2625)","v":0}]
[null,null,null,null,null,null,null,null,null,null,null,null,null,null,null,null,null,null,null,null,null,null,null,null,null,null,null,null,null,null,null,null,null,null,null,null,null,null,null,null,null,null,null,{"$f":"IF(B2626=\"\",0,LOOKUP(B2626,[4]BG!$A$3:$A$65,[4]BG!$H$3:$H$65))-SUMIF($B$3:B2626,B2626,$G$3:G2626)","v":0}]
[null,null,null,null,null,null,null,null,null,null,null,null,null,null,null,null,null,null,null,null,null,null,null,null,null,null,null,null,null,null,null,null,null,null,null,null,null,null,null,null,null,null,null,{"$f":"IF(B2627=\"\",0,LOOKUP(B2627,[4]BG!$A$3:$A$65,[4]BG!$H$3:$H$65))-SUMIF($B$3:B2627,B2627,$G$3:G2627)","v":0}]
[null,null,null,null,null,null,null,null,null,null,null,null,null,null,null,null,null,null,null,null,null,null,null,null,null,null,null,null,null,null,null,null,null,null,null,null,null,null,null,null,null,null,null,{"$f":"IF(B2628=\"\",0,LOOKUP(B2628,[4]BG!$A$3:$A$65,[4]BG!$H$3:$H$65))-SUMIF($B$3:B2628,B2628,$G$3:G2628)","v":0}]
[null,null,null,null,null,null,null,null,null,null,null,null,null,null,null,null,null,null,null,null,null,null,null,null,null,null,null,null,null,null,null,null,null,null,null,null,null,null,null,null,null,null,null,{"$f":"IF(B2629=\"\",0,LOOKUP(B2629,[4]BG!$A$3:$A$65,[4]BG!$H$3:$H$65))-SUMIF($B$3:B2629,B2629,$G$3:G2629)","v":0}]
[null,null,null,null,null,null,null,null,null,null,null,null,null,null,null,null,null,null,null,null,null,null,null,null,null,null,null,null,null,null,null,null,null,null,null,null,null,null,null,null,null,null,null,{"$f":"IF(B2630=\"\",0,LOOKUP(B2630,[4]BG!$A$3:$A$65,[4]BG!$H$3:$H$65))-SUMIF($B$3:B2630,B2630,$G$3:G2630)","v":0}]
[null,null,null,null,null,null,null,null,null,null,null,null,null,null,null,null,null,null,null,null,null,null,null,null,null,null,null,null,null,null,null,null,null,null,null,null,null,null,null,null,null,null,null,{"$f":"IF(B2631=\"\",0,LOOKUP(B2631,[4]BG!$A$3:$A$65,[4]BG!$H$3:$H$65))-SUMIF($B$3:B2631,B2631,$G$3:G2631)","v":0}]
[null,null,null,null,null,null,null,null,null,null,null,null,null,null,null,null,null,null,null,null,null,null,null,null,null,null,null,null,null,null,null,null,null,null,null,null,null,null,null,null,null,null,null,{"$f":"IF(B2632=\"\",0,LOOKUP(B2632,[4]BG!$A$3:$A$65,[4]BG!$H$3:$H$65))-SUMIF($B$3:B2632,B2632,$G$3:G2632)","v":0}]
[null,null,null,null,null,null,null,null,null,null,null,null,null,null,null,null,null,null,null,null,null,null,null,null,null,null,null,null,null,null,null,null,null,null,null,null,null,null,null,null,null,null,null,{"$f":"IF(B2633=\"\",0,LOOKUP(B2633,[4]BG!$A$3:$A$65,[4]BG!$H$3:$H$65))-SUMIF($B$3:B2633,B2633,$G$3:G2633)","v":0}]
[null,null,null,null,null,null,null,null,null,null,null,null,null,null,null,null,null,null,null,null,null,null,null,null,null,null,null,null,null,null,null,null,null,null,null,null,null,null,null,null,null,null,null,{"$f":"IF(B2634=\"\",0,LOOKUP(B2634,[4]BG!$A$3:$A$65,[4]BG!$H$3:$H$65))-SUMIF($B$3:B2634,B2634,$G$3:G2634)","v":0}]
[null,null,null,null,null,null,null,null,null,null,null,null,null,null,null,null,null,null,null,null,null,null,null,null,null,null,null,null,null,null,null,null,null,null,null,null,null,null,null,null,null,null,null,{"$f":"IF(B2635=\"\",0,LOOKUP(B2635,[4]BG!$A$3:$A$65,[4]BG!$H$3:$H$65))-SUMIF($B$3:B2635,B2635,$G$3:G2635)","v":0}]
[null,null,null,null,null,null,null,null,null,null,null,null,null,null,null,null,null,null,null,null,null,null,null,null,null,null,null,null,null,null,null,null,null,null,null,null,null,null,null,null,null,null,null,{"$f":"IF(B2636=\"\",0,LOOKUP(B2636,[4]BG!$A$3:$A$65,[4]BG!$H$3:$H$65))-SUMIF($B$3:B2636,B2636,$G$3:G2636)","v":0}]
[null,null,null,null,null,null,null,null,null,null,null,null,null,null,null,null,null,null,null,null,null,null,null,null,null,null,null,null,null,null,null,null,null,null,null,null,null,null,null,null,null,null,null,{"$f":"IF(B2637=\"\",0,LOOKUP(B2637,[4]BG!$A$3:$A$65,[4]BG!$H$3:$H$65))-SUMIF($B$3:B2637,B2637,$G$3:G2637)","v":0}]
[null,null,null,null,null,null,null,null,null,null,null,null,null,null,null,null,null,null,null,null,null,null,null,null,null,null,null,null,null,null,null,null,null,null,null,null,null,null,null,null,null,null,null,{"$f":"IF(B2638=\"\",0,LOOKUP(B2638,[4]BG!$A$3:$A$65,[4]BG!$H$3:$H$65))-SUMIF($B$3:B2638,B2638,$G$3:G2638)","v":0}]
[null,null,null,null,null,null,null,null,null,null,null,null,null,null,null,null,null,null,null,null,null,null,null,null,null,null,null,null,null,null,null,null,null,null,null,null,null,null,null,null,null,null,null,{"$f":"IF(B2639=\"\",0,LOOKUP(B2639,[4]BG!$A$3:$A$65,[4]BG!$H$3:$H$65))-SUMIF($B$3:B2639,B2639,$G$3:G2639)","v":0}]
[null,null,null,null,null,null,null,null,null,null,null,null,null,null,null,null,null,null,null,null,null,null,null,null,null,null,null,null,null,null,null,null,null,null,null,null,null,null,null,null,null,null,null,{"$f":"IF(B2640=\"\",0,LOOKUP(B2640,[4]BG!$A$3:$A$65,[4]BG!$H$3:$H$65))-SUMIF($B$3:B2640,B2640,$G$3:G2640)","v":0}]
[null,null,null,null,null,null,null,null,null,null,null,null,null,null,null,null,null,null,null,null,null,null,null,null,null,null,null,null,null,null,null,null,null,null,null,null,null,null,null,null,null,null,null,{"$f":"IF(B2641=\"\",0,LOOKUP(B2641,[4]BG!$A$3:$A$65,[4]BG!$H$3:$H$65))-SUMIF($B$3:B2641,B2641,$G$3:G2641)","v":0}]
[null,null,null,null,null,null,null,null,null,null,null,null,null,null,null,null,null,null,null,null,null,null,null,null,null,null,null,null,null,null,null,null,null,null,null,null,null,null,null,null,null,null,null,{"$f":"IF(B2642=\"\",0,LOOKUP(B2642,[4]BG!$A$3:$A$65,[4]BG!$H$3:$H$65))-SUMIF($B$3:B2642,B2642,$G$3:G2642)","v":0}]
[null,null,null,null,null,null,null,null,null,null,null,null,null,null,null,null,null,null,null,null,null,null,null,null,null,null,null,null,null,null,null,null,null,null,null,null,null,null,null,null,null,null,null,{"$f":"IF(B2643=\"\",0,LOOKUP(B2643,[4]BG!$A$3:$A$65,[4]BG!$H$3:$H$65))-SUMIF($B$3:B2643,B2643,$G$3:G2643)","v":0}]
[null,null,null,null,null,null,null,null,null,null,null,null,null,null,null,null,null,null,null,null,null,null,null,null,null,null,null,null,null,null,null,null,null,null,null,null,null,null,null,null,null,null,null,{"$f":"IF(B2644=\"\",0,LOOKUP(B2644,[4]BG!$A$3:$A$65,[4]BG!$H$3:$H$65))-SUMIF($B$3:B2644,B2644,$G$3:G2644)","v":0}]
[null,null,null,null,null,null,null,null,null,null,null,null,null,null,null,null,null,null,null,null,null,null,null,null,null,null,null,null,null,null,null,null,null,null,null,null,null,null,null,null,null,null,null,{"$f":"IF(B2645=\"\",0,LOOKUP(B2645,[4]BG!$A$3:$A$65,[4]BG!$H$3:$H$65))-SUMIF($B$3:B2645,B2645,$G$3:G2645)","v":0}]
[null,null,null,null,null,null,null,null,null,null,null,null,null,null,null,null,null,null,null,null,null,null,null,null,null,null,null,null,null,null,null,null,null,null,null,null,null,null,null,null,null,null,null,{"$f":"IF(B2646=\"\",0,LOOKUP(B2646,[4]BG!$A$3:$A$65,[4]BG!$H$3:$H$65))-SUMIF($B$3:B2646,B2646,$G$3:G2646)","v":0}]
[null,null,null,null,null,null,null,null,null,null,null,null,null,null,null,null,null,null,null,null,null,null,null,null,null,null,null,null,null,null,null,null,null,null,null,null,null,null,null,null,null,null,null,{"$f":"IF(B2647=\"\",0,LOOKUP(B2647,[4]BG!$A$3:$A$65,[4]BG!$H$3:$H$65))-SUMIF($B$3:B2647,B2647,$G$3:G2647)","v":0}]
[null,null,null,null,null,null,null,null,null,null,null,null,null,null,null,null,null,null,null,null,null,null,null,null,null,null,null,null,null,null,null,null,null,null,null,null,null,null,null,null,null,null,null,{"$f":"IF(B2648=\"\",0,LOOKUP(B2648,[4]BG!$A$3:$A$65,[4]BG!$H$3:$H$65))-SUMIF($B$3:B2648,B2648,$G$3:G2648)","v":0}]
[null,null,null,null,null,null,null,null,null,null,null,null,null,null,null,null,null,null,null,null,null,null,null,null,null,null,null,null,null,null,null,null,null,null,null,null,null,null,null,null,null,null,null,{"$f":"IF(B2649=\"\",0,LOOKUP(B2649,[4]BG!$A$3:$A$65,[4]BG!$H$3:$H$65))-SUMIF($B$3:B2649,B2649,$G$3:G2649)","v":0}]
[null,null,null,null,null,null,null,null,null,null,null,null,null,null,null,null,null,null,null,null,null,null,null,null,null,null,null,null,null,null,null,null,null,null,null,null,null,null,null,null,null,null,null,{"$f":"IF(B2650=\"\",0,LOOKUP(B2650,[4]BG!$A$3:$A$65,[4]BG!$H$3:$H$65))-SUMIF($B$3:B2650,B2650,$G$3:G2650)","v":0}]
[null,null,null,null,null,null,null,null,null,null,null,null,null,null,null,null,null,null,null,null,null,null,null,null,null,null,null,null,null,null,null,null,null,null,null,null,null,null,null,null,null,null,null,{"$f":"IF(B2651=\"\",0,LOOKUP(B2651,[4]BG!$A$3:$A$65,[4]BG!$H$3:$H$65))-SUMIF($B$3:B2651,B2651,$G$3:G2651)","v":0}]
[null,null,null,null,null,null,null,null,null,null,null,null,null,null,null,null,null,null,null,null,null,null,null,null,null,null,null,null,null,null,null,null,null,null,null,null,null,null,null,null,null,null,null,{"$f":"IF(B2652=\"\",0,LOOKUP(B2652,[4]BG!$A$3:$A$65,[4]BG!$H$3:$H$65))-SUMIF($B$3:B2652,B2652,$G$3:G2652)","v":0}]
[null,null,null,null,null,null,null,null,null,null,null,null,null,null,null,null,null,null,null,null,null,null,null,null,null,null,null,null,null,null,null,null,null,null,null,null,null,null,null,null,null,null,null,{"$f":"IF(B2653=\"\",0,LOOKUP(B2653,[4]BG!$A$3:$A$65,[4]BG!$H$3:$H$65))-SUMIF($B$3:B2653,B2653,$G$3:G2653)","v":0}]
[null,null,null,null,null,null,null,null,null,null,null,null,null,null,null,null,null,null,null,null,null,null,null,null,null,null,null,null,null,null,null,null,null,null,null,null,null,null,null,null,null,null,null,{"$f":"IF(B2654=\"\",0,LOOKUP(B2654,[4]BG!$A$3:$A$65,[4]BG!$H$3:$H$65))-SUMIF($B$3:B2654,B2654,$G$3:G2654)","v":0}]
[null,null,null,null,null,null,null,null,null,null,null,null,null,null,null,null,null,null,null,null,null,null,null,null,null,null,null,null,null,null,null,null,null,null,null,null,null,null,null,null,null,null,null,{"$f":"IF(B2655=\"\",0,LOOKUP(B2655,[4]BG!$A$3:$A$65,[4]BG!$H$3:$H$65))-SUMIF($B$3:B2655,B2655,$G$3:G2655)","v":0}]
[null,null,null,null,null,null,null,null,null,null,null,null,null,null,null,null,null,null,null,null,null,null,null,null,null,null,null,null,null,null,null,null,null,null,null,null,null,null,null,null,null,null,null,{"$f":"IF(B2656=\"\",0,LOOKUP(B2656,[4]BG!$A$3:$A$65,[4]BG!$H$3:$H$65))-SUMIF($B$3:B2656,B2656,$G$3:G2656)","v":0}]
[null,null,null,null,null,null,null,null,null,null,null,null,null,null,null,null,null,null,null,null,null,null,null,null,null,null,null,null,null,null,null,null,null,null,null,null,null,null,null,null,null,null,null,{"$f":"IF(B2657=\"\",0,LOOKUP(B2657,[4]BG!$A$3:$A$65,[4]BG!$H$3:$H$65))-SUMIF($B$3:B2657,B2657,$G$3:G2657)","v":0}]
[null,null,null,null,null,null,null,null,null,null,null,null,null,null,null,null,null,null,null,null,null,null,null,null,null,null,null,null,null,null,null,null,null,null,null,null,null,null,null,null,null,null,null,{"$f":"IF(B2658=\"\",0,LOOKUP(B2658,[4]BG!$A$3:$A$65,[4]BG!$H$3:$H$65))-SUMIF($B$3:B2658,B2658,$G$3:G2658)","v":0}]
[null,null,null,null,null,null,null,null,null,null,null,null,null,null,null,null,null,null,null,null,null,null,null,null,null,null,null,null,null,null,null,null,null,null,null,null,null,null,null,null,null,null,null,{"$f":"IF(B2659=\"\",0,LOOKUP(B2659,[4]BG!$A$3:$A$65,[4]BG!$H$3:$H$65))-SUMIF($B$3:B2659,B2659,$G$3:G2659)","v":0}]
[null,null,null,null,null,null,null,null,null,null,null,null,null,null,null,null,null,null,null,null,null,null,null,null,null,null,null,null,null,null,null,null,null,null,null,null,null,null,null,null,null,null,null,{"$f":"IF(B2660=\"\",0,LOOKUP(B2660,[4]BG!$A$3:$A$65,[4]BG!$H$3:$H$65))-SUMIF($B$3:B2660,B2660,$G$3:G2660)","v":0}]
[null,null,null,null,null,null,null,null,null,null,null,null,null,null,null,null,null,null,null,null,null,null,null,null,null,null,null,null,null,null,null,null,null,null,null,null,null,null,null,null,null,null,null,{"$f":"IF(B2661=\"\",0,LOOKUP(B2661,[4]BG!$A$3:$A$65,[4]BG!$H$3:$H$65))-SUMIF($B$3:B2661,B2661,$G$3:G2661)","v":0}]
[null,null,null,null,null,null,null,null,null,null,null,null,null,null,null,null,null,null,null,null,null,null,null,null,null,null,null,null,null,null,null,null,null,null,null,null,null,null,null,null,null,null,null,{"$f":"IF(B2662=\"\",0,LOOKUP(B2662,[4]BG!$A$3:$A$65,[4]BG!$H$3:$H$65))-SUMIF($B$3:B2662,B2662,$G$3:G2662)","v":0}]
[null,null,null,null,null,null,null,null,null,null,null,null,null,null,null,null,null,null,null,null,null,null,null,null,null,null,null,null,null,null,null,null,null,null,null,null,null,null,null,null,null,null,null,{"$f":"IF(B2663=\"\",0,LOOKUP(B2663,[4]BG!$A$3:$A$65,[4]BG!$H$3:$H$65))-SUMIF($B$3:B2663,B2663,$G$3:G2663)","v":0}]
[null,null,null,null,null,null,null,null,null,null,null,null,null,null,null,null,null,null,null,null,null,null,null,null,null,null,null,null,null,null,null,null,null,null,null,null,null,null,null,null,null,null,null,{"$f":"IF(B2664=\"\",0,LOOKUP(B2664,[4]BG!$A$3:$A$65,[4]BG!$H$3:$H$65))-SUMIF($B$3:B2664,B2664,$G$3:G2664)","v":0}]
[null,null,null,null,null,null,null,null,null,null,null,null,null,null,null,null,null,null,null,null,null,null,null,null,null,null,null,null,null,null,null,null,null,null,null,null,null,null,null,null,null,null,null,{"$f":"IF(B2665=\"\",0,LOOKUP(B2665,[4]BG!$A$3:$A$65,[4]BG!$H$3:$H$65))-SUMIF($B$3:B2665,B2665,$G$3:G2665)","v":0}]
[null,null,null,null,null,null,null,null,null,null,null,null,null,null,null,null,null,null,null,null,null,null,null,null,null,null,null,null,null,null,null,null,null,null,null,null,null,null,null,null,null,null,null,{"$f":"IF(B2666=\"\",0,LOOKUP(B2666,[4]BG!$A$3:$A$65,[4]BG!$H$3:$H$65))-SUMIF($B$3:B2666,B2666,$G$3:G2666)","v":0}]
[null,null,null,null,null,null,null,null,null,null,null,null,null,null,null,null,null,null,null,null,null,null,null,null,null,null,null,null,null,null,null,null,null,null,null,null,null,null,null,null,null,null,null,{"$f":"IF(B2667=\"\",0,LOOKUP(B2667,[4]BG!$A$3:$A$65,[4]BG!$H$3:$H$65))-SUMIF($B$3:B2667,B2667,$G$3:G2667)","v":0}]
[null,null,null,null,null,null,null,null,null,null,null,null,null,null,null,null,null,null,null,null,null,null,null,null,null,null,null,null,null,null,null,null,null,null,null,null,null,null,null,null,null,null,null,{"$f":"IF(B2668=\"\",0,LOOKUP(B2668,[4]BG!$A$3:$A$65,[4]BG!$H$3:$H$65))-SUMIF($B$3:B2668,B2668,$G$3:G2668)","v":0}]
[null,null,null,null,null,null,null,null,null,null,null,null,null,null,null,null,null,null,null,null,null,null,null,null,null,null,null,null,null,null,null,null,null,null,null,null,null,null,null,null,null,null,null,{"$f":"IF(B2669=\"\",0,LOOKUP(B2669,[4]BG!$A$3:$A$65,[4]BG!$H$3:$H$65))-SUMIF($B$3:B2669,B2669,$G$3:G2669)","v":0}]
[null,null,null,null,null,null,null,null,null,null,null,null,null,null,null,null,null,null,null,null,null,null,null,null,null,null,null,null,null,null,null,null,null,null,null,null,null,null,null,null,null,null,null,{"$f":"IF(B2670=\"\",0,LOOKUP(B2670,[4]BG!$A$3:$A$65,[4]BG!$H$3:$H$65))-SUMIF($B$3:B2670,B2670,$G$3:G2670)","v":0}]
[null,null,null,null,null,null,null,null,null,null,null,null,null,null,null,null,null,null,null,null,null,null,null,null,null,null,null,null,null,null,null,null,null,null,null,null,null,null,null,null,null,null,null,{"$f":"IF(B2671=\"\",0,LOOKUP(B2671,[4]BG!$A$3:$A$65,[4]BG!$H$3:$H$65))-SUMIF($B$3:B2671,B2671,$G$3:G2671)","v":0}]
[null,null,null,null,null,null,null,null,null,null,null,null,null,null,null,null,null,null,null,null,null,null,null,null,null,null,null,null,null,null,null,null,null,null,null,null,null,null,null,null,null,null,null,{"$f":"IF(B2672=\"\",0,LOOKUP(B2672,[4]BG!$A$3:$A$65,[4]BG!$H$3:$H$65))-SUMIF($B$3:B2672,B2672,$G$3:G2672)","v":0}]
[null,null,null,null,null,null,null,null,null,null,null,null,null,null,null,null,null,null,null,null,null,null,null,null,null,null,null,null,null,null,null,null,null,null,null,null,null,null,null,null,null,null,null,{"$f":"IF(B2673=\"\",0,LOOKUP(B2673,[4]BG!$A$3:$A$65,[4]BG!$H$3:$H$65))-SUMIF($B$3:B2673,B2673,$G$3:G2673)","v":0}]
[null,null,null,null,null,null,null,null,null,null,null,null,null,null,null,null,null,null,null,null,null,null,null,null,null,null,null,null,null,null,null,null,null,null,null,null,null,null,null,null,null,null,null,{"$f":"IF(B2674=\"\",0,LOOKUP(B2674,[4]BG!$A$3:$A$65,[4]BG!$H$3:$H$65))-SUMIF($B$3:B2674,B2674,$G$3:G2674)","v":0}]
[null,null,null,null,null,null,null,null,null,null,null,null,null,null,null,null,null,null,null,null,null,null,null,null,null,null,null,null,null,null,null,null,null,null,null,null,null,null,null,null,null,null,null,{"$f":"IF(B2675=\"\",0,LOOKUP(B2675,[4]BG!$A$3:$A$65,[4]BG!$H$3:$H$65))-SUMIF($B$3:B2675,B2675,$G$3:G2675)","v":0}]
[null,null,null,null,null,null,null,null,null,null,null,null,null,null,null,null,null,null,null,null,null,null,null,null,null,null,null,null,null,null,null,null,null,null,null,null,null,null,null,null,null,null,null,{"$f":"IF(B2676=\"\",0,LOOKUP(B2676,[4]BG!$A$3:$A$65,[4]BG!$H$3:$H$65))-SUMIF($B$3:B2676,B2676,$G$3:G2676)","v":0}]
[null,null,null,null,null,null,null,null,null,null,null,null,null,null,null,null,null,null,null,null,null,null,null,null,null,null,null,null,null,null,null,null,null,null,null,null,null,null,null,null,null,null,null,{"$f":"IF(B2677=\"\",0,LOOKUP(B2677,[4]BG!$A$3:$A$65,[4]BG!$H$3:$H$65))-SUMIF($B$3:B2677,B2677,$G$3:G2677)","v":0}]
[null,null,null,null,null,null,null,null,null,null,null,null,null,null,null,null,null,null,null,null,null,null,null,null,null,null,null,null,null,null,null,null,null,null,null,null,null,null,null,null,null,null,null,{"$f":"IF(B2678=\"\",0,LOOKUP(B2678,[4]BG!$A$3:$A$65,[4]BG!$H$3:$H$65))-SUMIF($B$3:B2678,B2678,$G$3:G2678)","v":0}]
[null,null,null,null,null,null,null,null,null,null,null,null,null,null,null,null,null,null,null,null,null,null,null,null,null,null,null,null,null,null,null,null,null,null,null,null,null,null,null,null,null,null,null,{"$f":"IF(B2679=\"\",0,LOOKUP(B2679,[4]BG!$A$3:$A$65,[4]BG!$H$3:$H$65))-SUMIF($B$3:B2679,B2679,$G$3:G2679)","v":0}]
[null,null,null,null,null,null,null,null,null,null,null,null,null,null,null,null,null,null,null,null,null,null,null,null,null,null,null,null,null,null,null,null,null,null,null,null,null,null,null,null,null,null,null,{"$f":"IF(B2680=\"\",0,LOOKUP(B2680,[4]BG!$A$3:$A$65,[4]BG!$H$3:$H$65))-SUMIF($B$3:B2680,B2680,$G$3:G2680)","v":0}]
[null,null,null,null,null,null,null,null,null,null,null,null,null,null,null,null,null,null,null,null,null,null,null,null,null,null,null,null,null,null,null,null,null,null,null,null,null,null,null,null,null,null,null,{"$f":"IF(B2681=\"\",0,LOOKUP(B2681,[4]BG!$A$3:$A$65,[4]BG!$H$3:$H$65))-SUMIF($B$3:B2681,B2681,$G$3:G2681)","v":0}]
[null,null,null,null,null,null,null,null,null,null,null,null,null,null,null,null,null,null,null,null,null,null,null,null,null,null,null,null,null,null,null,null,null,null,null,null,null,null,null,null,null,null,null,{"$f":"IF(B2682=\"\",0,LOOKUP(B2682,[4]BG!$A$3:$A$65,[4]BG!$H$3:$H$65))-SUMIF($B$3:B2682,B2682,$G$3:G2682)","v":0}]
[null,null,null,null,null,null,null,null,null,null,null,null,null,null,null,null,null,null,null,null,null,null,null,null,null,null,null,null,null,null,null,null,null,null,null,null,null,null,null,null,null,null,null,{"$f":"IF(B2683=\"\",0,LOOKUP(B2683,[4]BG!$A$3:$A$65,[4]BG!$H$3:$H$65))-SUMIF($B$3:B2683,B2683,$G$3:G2683)","v":0}]
[null,null,null,null,null,null,null,null,null,null,null,null,null,null,null,null,null,null,null,null,null,null,null,null,null,null,null,null,null,null,null,null,null,null,null,null,null,null,null,null,null,null,null,{"$f":"IF(B2684=\"\",0,LOOKUP(B2684,[4]BG!$A$3:$A$65,[4]BG!$H$3:$H$65))-SUMIF($B$3:B2684,B2684,$G$3:G2684)","v":0}]
[null,null,null,null,null,null,null,null,null,null,null,null,null,null,null,null,null,null,null,null,null,null,null,null,null,null,null,null,null,null,null,null,null,null,null,null,null,null,null,null,null,null,null,{"$f":"IF(B2685=\"\",0,LOOKUP(B2685,[4]BG!$A$3:$A$65,[4]BG!$H$3:$H$65))-SUMIF($B$3:B2685,B2685,$G$3:G2685)","v":0}]
[null,null,null,null,null,null,null,null,null,null,null,null,null,null,null,null,null,null,null,null,null,null,null,null,null,null,null,null,null,null,null,null,null,null,null,null,null,null,null,null,null,null,null,{"$f":"IF(B2686=\"\",0,LOOKUP(B2686,[4]BG!$A$3:$A$65,[4]BG!$H$3:$H$65))-SUMIF($B$3:B2686,B2686,$G$3:G2686)","v":0}]
[null,null,null,null,null,null,null,null,null,null,null,null,null,null,null,null,null,null,null,null,null,null,null,null,null,null,null,null,null,null,null,null,null,null,null,null,null,null,null,null,null,null,null,{"$f":"IF(B2687=\"\",0,LOOKUP(B2687,[4]BG!$A$3:$A$65,[4]BG!$H$3:$H$65))-SUMIF($B$3:B2687,B2687,$G$3:G2687)","v":0}]
[null,null,null,null,null,null,null,null,null,null,null,null,null,null,null,null,null,null,null,null,null,null,null,null,null,null,null,null,null,null,null,null,null,null,null,null,null,null,null,null,null,null,null,{"$f":"IF(B2688=\"\",0,LOOKUP(B2688,[4]BG!$A$3:$A$65,[4]BG!$H$3:$H$65))-SUMIF($B$3:B2688,B2688,$G$3:G2688)","v":0}]
[null,null,null,null,null,null,null,null,null,null,null,null,null,null,null,null,null,null,null,null,null,null,null,null,null,null,null,null,null,null,null,null,null,null,null,null,null,null,null,null,null,null,null,{"$f":"IF(B2689=\"\",0,LOOKUP(B2689,[4]BG!$A$3:$A$65,[4]BG!$H$3:$H$65))-SUMIF($B$3:B2689,B2689,$G$3:G2689)","v":0}]
[null,null,null,null,null,null,null,null,null,null,null,null,null,null,null,null,null,null,null,null,null,null,null,null,null,null,null,null,null,null,null,null,null,null,null,null,null,null,null,null,null,null,null,{"$f":"IF(B2690=\"\",0,LOOKUP(B2690,[4]BG!$A$3:$A$65,[4]BG!$H$3:$H$65))-SUMIF($B$3:B2690,B2690,$G$3:G2690)","v":0}]
[null,null,null,null,null,null,null,null,null,null,null,null,null,null,null,null,null,null,null,null,null,null,null,null,null,null,null,null,null,null,null,null,null,null,null,null,null,null,null,null,null,null,null,{"$f":"IF(B2691=\"\",0,LOOKUP(B2691,[4]BG!$A$3:$A$65,[4]BG!$H$3:$H$65))-SUMIF($B$3:B2691,B2691,$G$3:G2691)","v":0}]
[null,null,null,null,null,null,null,null,null,null,null,null,null,null,null,null,null,null,null,null,null,null,null,null,null,null,null,null,null,null,null,null,null,null,null,null,null,null,null,null,null,null,null,{"$f":"IF(B2692=\"\",0,LOOKUP(B2692,[4]BG!$A$3:$A$65,[4]BG!$H$3:$H$65))-SUMIF($B$3:B2692,B2692,$G$3:G2692)","v":0}]
[null,null,null,null,null,null,null,null,null,null,null,null,null,null,null,null,null,null,null,null,null,null,null,null,null,null,null,null,null,null,null,null,null,null,null,null,null,null,null,null,null,null,null,{"$f":"IF(B2693=\"\",0,LOOKUP(B2693,[4]BG!$A$3:$A$65,[4]BG!$H$3:$H$65))-SUMIF($B$3:B2693,B2693,$G$3:G2693)","v":0}]
[null,null,null,null,null,null,null,null,null,null,null,null,null,null,null,null,null,null,null,null,null,null,null,null,null,null,null,null,null,null,null,null,null,null,null,null,null,null,null,null,null,null,null,{"$f":"IF(B2694=\"\",0,LOOKUP(B2694,[4]BG!$A$3:$A$65,[4]BG!$H$3:$H$65))-SUMIF($B$3:B2694,B2694,$G$3:G2694)","v":0}]
[null,null,null,null,null,null,null,null,null,null,null,null,null,null,null,null,null,null,null,null,null,null,null,null,null,null,null,null,null,null,null,null,null,null,null,null,null,null,null,null,null,null,null,{"$f":"IF(B2695=\"\",0,LOOKUP(B2695,[4]BG!$A$3:$A$65,[4]BG!$H$3:$H$65))-SUMIF($B$3:B2695,B2695,$G$3:G2695)","v":0}]
[null,null,null,null,null,null,null,null,null,null,null,null,null,null,null,null,null,null,null,null,null,null,null,null,null,null,null,null,null,null,null,null,null,null,null,null,null,null,null,null,null,null,null,{"$f":"IF(B2696=\"\",0,LOOKUP(B2696,[4]BG!$A$3:$A$65,[4]BG!$H$3:$H$65))-SUMIF($B$3:B2696,B2696,$G$3:G2696)","v":0}]
[null,null,null,null,null,null,null,null,null,null,null,null,null,null,null,null,null,null,null,null,null,null,null,null,null,null,null,null,null,null,null,null,null,null,null,null,null,null,null,null,null,null,null,{"$f":"IF(B2697=\"\",0,LOOKUP(B2697,[4]BG!$A$3:$A$65,[4]BG!$H$3:$H$65))-SUMIF($B$3:B2697,B2697,$G$3:G2697)","v":0}]
[null,null,null,null,null,null,null,null,null,null,null,null,null,null,null,null,null,null,null,null,null,null,null,null,null,null,null,null,null,null,null,null,null,null,null,null,null,null,null,null,null,null,null,{"$f":"IF(B2698=\"\",0,LOOKUP(B2698,[4]BG!$A$3:$A$65,[4]BG!$H$3:$H$65))-SUMIF($B$3:B2698,B2698,$G$3:G2698)","v":0}]
[null,null,null,null,null,null,null,null,null,null,null,null,null,null,null,null,null,null,null,null,null,null,null,null,null,null,null,null,null,null,null,null,null,null,null,null,null,null,null,null,null,null,null,{"$f":"IF(B2699=\"\",0,LOOKUP(B2699,[4]BG!$A$3:$A$65,[4]BG!$H$3:$H$65))-SUMIF($B$3:B2699,B2699,$G$3:G2699)","v":0}]
[null,null,null,null,null,null,null,null,null,null,null,null,null,null,null,null,null,null,null,null,null,null,null,null,null,null,null,null,null,null,null,null,null,null,null,null,null,null,null,null,null,null,null,{"$f":"IF(B2700=\"\",0,LOOKUP(B2700,[4]BG!$A$3:$A$65,[4]BG!$H$3:$H$65))-SUMIF($B$3:B2700,B2700,$G$3:G2700)","v":0}]
[null,null,null,null,null,null,null,null,null,null,null,null,null,null,null,null,null,null,null,null,null,null,null,null,null,null,null,null,null,null,null,null,null,null,null,null,null,null,null,null,null,null,null,{"$f":"IF(B2701=\"\",0,LOOKUP(B2701,[4]BG!$A$3:$A$65,[4]BG!$H$3:$H$65))-SUMIF($B$3:B2701,B2701,$G$3:G2701)","v":0}]
[null,null,null,null,null,null,null,null,null,null,null,null,null,null,null,null,null,null,null,null,null,null,null,null,null,null,null,null,null,null,null,null,null,null,null,null,null,null,null,null,null,null,null,{"$f":"IF(B2702=\"\",0,LOOKUP(B2702,[4]BG!$A$3:$A$65,[4]BG!$H$3:$H$65))-SUMIF($B$3:B2702,B2702,$G$3:G2702)","v":0}]
[null,null,null,null,null,null,null,null,null,null,null,null,null,null,null,null,null,null,null,null,null,null,null,null,null,null,null,null,null,null,null,null,null,null,null,null,null,null,null,null,null,null,null,{"$f":"IF(B2703=\"\",0,LOOKUP(B2703,[4]BG!$A$3:$A$65,[4]BG!$H$3:$H$65))-SUMIF($B$3:B2703,B2703,$G$3:G2703)","v":0}]
[null,null,null,null,null,null,null,null,null,null,null,null,null,null,null,null,null,null,null,null,null,null,null,null,null,null,null,null,null,null,null,null,null,null,null,null,null,null,null,null,null,null,null,{"$f":"IF(B2704=\"\",0,LOOKUP(B2704,[4]BG!$A$3:$A$65,[4]BG!$H$3:$H$65))-SUMIF($B$3:B2704,B2704,$G$3:G2704)","v":0}]
[null,null,null,null,null,null,null,null,null,null,null,null,null,null,null,null,null,null,null,null,null,null,null,null,null,null,null,null,null,null,null,null,null,null,null,null,null,null,null,null,null,null,null,{"$f":"IF(B2705=\"\",0,LOOKUP(B2705,[4]BG!$A$3:$A$65,[4]BG!$H$3:$H$65))-SUMIF($B$3:B2705,B2705,$G$3:G2705)","v":0}]
[null,null,null,null,null,null,null,null,null,null,null,null,null,null,null,null,null,null,null,null,null,null,null,null,null,null,null,null,null,null,null,null,null,null,null,null,null,null,null,null,null,null,null,{"$f":"IF(B2706=\"\",0,LOOKUP(B2706,[4]BG!$A$3:$A$65,[4]BG!$H$3:$H$65))-SUMIF($B$3:B2706,B2706,$G$3:G2706)","v":0}]
[null,null,null,null,null,null,null,null,null,null,null,null,null,null,null,null,null,null,null,null,null,null,null,null,null,null,null,null,null,null,null,null,null,null,null,null,null,null,null,null,null,null,null,{"$f":"IF(B2707=\"\",0,LOOKUP(B2707,[4]BG!$A$3:$A$65,[4]BG!$H$3:$H$65))-SUMIF($B$3:B2707,B2707,$G$3:G2707)","v":0}]
[null,null,null,null,null,null,null,null,null,null,null,null,null,null,null,null,null,null,null,null,null,null,null,null,null,null,null,null,null,null,null,null,null,null,null,null,null,null,null,null,null,null,null,{"$f":"IF(B2708=\"\",0,LOOKUP(B2708,[4]BG!$A$3:$A$65,[4]BG!$H$3:$H$65))-SUMIF($B$3:B2708,B2708,$G$3:G2708)","v":0}]
[null,null,null,null,null,null,null,null,null,null,null,null,null,null,null,null,null,null,null,null,null,null,null,null,null,null,null,null,null,null,null,null,null,null,null,null,null,null,null,null,null,null,null,{"$f":"IF(B2709=\"\",0,LOOKUP(B2709,[4]BG!$A$3:$A$65,[4]BG!$H$3:$H$65))-SUMIF($B$3:B2709,B2709,$G$3:G2709)","v":0}]
[null,null,null,null,null,null,null,null,null,null,null,null,null,null,null,null,null,null,null,null,null,null,null,null,null,null,null,null,null,null,null,null,null,null,null,null,null,null,null,null,null,null,null,{"$f":"IF(B2710=\"\",0,LOOKUP(B2710,[4]BG!$A$3:$A$65,[4]BG!$H$3:$H$65))-SUMIF($B$3:B2710,B2710,$G$3:G2710)","v":0}]
[null,null,null,null,null,null,null,null,null,null,null,null,null,null,null,null,null,null,null,null,null,null,null,null,null,null,null,null,null,null,null,null,null,null,null,null,null,null,null,null,null,null,null,{"$f":"IF(B2711=\"\",0,LOOKUP(B2711,[4]BG!$A$3:$A$65,[4]BG!$H$3:$H$65))-SUMIF($B$3:B2711,B2711,$G$3:G2711)","v":0}]
[null,null,null,null,null,null,null,null,null,null,null,null,null,null,null,null,null,null,null,null,null,null,null,null,null,null,null,null,null,null,null,null,null,null,null,null,null,null,null,null,null,null,null,{"$f":"IF(B2712=\"\",0,LOOKUP(B2712,[4]BG!$A$3:$A$65,[4]BG!$H$3:$H$65))-SUMIF($B$3:B2712,B2712,$G$3:G2712)","v":0}]
[null,null,null,null,null,null,null,null,null,null,null,null,null,null,null,null,null,null,null,null,null,null,null,null,null,null,null,null,null,null,null,null,null,null,null,null,null,null,null,null,null,null,null,{"$f":"IF(B2713=\"\",0,LOOKUP(B2713,[4]BG!$A$3:$A$65,[4]BG!$H$3:$H$65))-SUMIF($B$3:B2713,B2713,$G$3:G2713)","v":0}]
[null,null,null,null,null,null,null,null,null,null,null,null,null,null,null,null,null,null,null,null,null,null,null,null,null,null,null,null,null,null,null,null,null,null,null,null,null,null,null,null,null,null,null,{"$f":"IF(B2714=\"\",0,LOOKUP(B2714,[4]BG!$A$3:$A$65,[4]BG!$H$3:$H$65))-SUMIF($B$3:B2714,B2714,$G$3:G2714)","v":0}]
[null,null,null,null,null,null,null,null,null,null,null,null,null,null,null,null,null,null,null,null,null,null,null,null,null,null,null,null,null,null,null,null,null,null,null,null,null,null,null,null,null,null,null,{"$f":"IF(B2715=\"\",0,LOOKUP(B2715,[4]BG!$A$3:$A$65,[4]BG!$H$3:$H$65))-SUMIF($B$3:B2715,B2715,$G$3:G2715)","v":0}]
[null,null,null,null,null,null,null,null,null,null,null,null,null,null,null,null,null,null,null,null,null,null,null,null,null,null,null,null,null,null,null,null,null,null,null,null,null,null,null,null,null,null,null,{"$f":"IF(B2716=\"\",0,LOOKUP(B2716,[4]BG!$A$3:$A$65,[4]BG!$H$3:$H$65))-SUMIF($B$3:B2716,B2716,$G$3:G2716)","v":0}]
[null,null,null,null,null,null,null,null,null,null,null,null,null,null,null,null,null,null,null,null,null,null,null,null,null,null,null,null,null,null,null,null,null,null,null,null,null,null,null,null,null,null,null,{"$f":"IF(B2717=\"\",0,LOOKUP(B2717,[4]BG!$A$3:$A$65,[4]BG!$H$3:$H$65))-SUMIF($B$3:B2717,B2717,$G$3:G2717)","v":0}]
[null,null,null,null,null,null,null,null,null,null,null,null,null,null,null,null,null,null,null,null,null,null,null,null,null,null,null,null,null,null,null,null,null,null,null,null,null,null,null,null,null,null,null,{"$f":"IF(B2718=\"\",0,LOOKUP(B2718,[4]BG!$A$3:$A$65,[4]BG!$H$3:$H$65))-SUMIF($B$3:B2718,B2718,$G$3:G2718)","v":0}]
[null,null,null,null,null,null,null,null,null,null,null,null,null,null,null,null,null,null,null,null,null,null,null,null,null,null,null,null,null,null,null,null,null,null,null,null,null,null,null,null,null,null,null,{"$f":"IF(B2719=\"\",0,LOOKUP(B2719,[4]BG!$A$3:$A$65,[4]BG!$H$3:$H$65))-SUMIF($B$3:B2719,B2719,$G$3:G2719)","v":0}]
[null,null,null,null,null,null,null,null,null,null,null,null,null,null,null,null,null,null,null,null,null,null,null,null,null,null,null,null,null,null,null,null,null,null,null,null,null,null,null,null,null,null,null,{"$f":"IF(B2720=\"\",0,LOOKUP(B2720,[4]BG!$A$3:$A$65,[4]BG!$H$3:$H$65))-SUMIF($B$3:B2720,B2720,$G$3:G2720)","v":0}]
[null,null,null,null,null,null,null,null,null,null,null,null,null,null,null,null,null,null,null,null,null,null,null,null,null,null,null,null,null,null,null,null,null,null,null,null,null,null,null,null,null,null,null,{"$f":"IF(B2721=\"\",0,LOOKUP(B2721,[4]BG!$A$3:$A$65,[4]BG!$H$3:$H$65))-SUMIF($B$3:B2721,B2721,$G$3:G2721)","v":0}]
[null,null,null,null,null,null,null,null,null,null,null,null,null,null,null,null,null,null,null,null,null,null,null,null,null,null,null,null,null,null,null,null,null,null,null,null,null,null,null,null,null,null,null,{"$f":"IF(B2722=\"\",0,LOOKUP(B2722,[4]BG!$A$3:$A$65,[4]BG!$H$3:$H$65))-SUMIF($B$3:B2722,B2722,$G$3:G2722)","v":0}]
[null,null,null,null,null,null,null,null,null,null,null,null,null,null,null,null,null,null,null,null,null,null,null,null,null,null,null,null,null,null,null,null,null,null,null,null,null,null,null,null,null,null,null,{"$f":"IF(B2723=\"\",0,LOOKUP(B2723,[4]BG!$A$3:$A$65,[4]BG!$H$3:$H$65))-SUMIF($B$3:B2723,B2723,$G$3:G2723)","v":0}]
[null,null,null,null,null,null,null,null,null,null,null,null,null,null,null,null,null,null,null,null,null,null,null,null,null,null,null,null,null,null,null,null,null,null,null,null,null,null,null,null,null,null,null,{"$f":"IF(B2724=\"\",0,LOOKUP(B2724,[4]BG!$A$3:$A$65,[4]BG!$H$3:$H$65))-SUMIF($B$3:B2724,B2724,$G$3:G2724)","v":0}]
[null,null,null,null,null,null,null,null,null,null,null,null,null,null,null,null,null,null,null,null,null,null,null,null,null,null,null,null,null,null,null,null,null,null,null,null,null,null,null,null,null,null,null,{"$f":"IF(B2725=\"\",0,LOOKUP(B2725,[4]BG!$A$3:$A$65,[4]BG!$H$3:$H$65))-SUMIF($B$3:B2725,B2725,$G$3:G2725)","v":0}]
[null,null,null,null,null,null,null,null,null,null,null,null,null,null,null,null,null,null,null,null,null,null,null,null,null,null,null,null,null,null,null,null,null,null,null,null,null,null,null,null,null,null,null,{"$f":"IF(B2726=\"\",0,LOOKUP(B2726,[4]BG!$A$3:$A$65,[4]BG!$H$3:$H$65))-SUMIF($B$3:B2726,B2726,$G$3:G2726)","v":0}]
[null,null,null,null,null,null,null,null,null,null,null,null,null,null,null,null,null,null,null,null,null,null,null,null,null,null,null,null,null,null,null,null,null,null,null,null,null,null,null,null,null,null,null,{"$f":"IF(B2727=\"\",0,LOOKUP(B2727,[4]BG!$A$3:$A$65,[4]BG!$H$3:$H$65))-SUMIF($B$3:B2727,B2727,$G$3:G2727)","v":0}]
[null,null,null,null,null,null,null,null,null,null,null,null,null,null,null,null,null,null,null,null,null,null,null,null,null,null,null,null,null,null,null,null,null,null,null,null,null,null,null,null,null,null,null,{"$f":"IF(B2728=\"\",0,LOOKUP(B2728,[4]BG!$A$3:$A$65,[4]BG!$H$3:$H$65))-SUMIF($B$3:B2728,B2728,$G$3:G2728)","v":0}]
[null,null,null,null,null,null,null,null,null,null,null,null,null,null,null,null,null,null,null,null,null,null,null,null,null,null,null,null,null,null,null,null,null,null,null,null,null,null,null,null,null,null,null,{"$f":"IF(B2729=\"\",0,LOOKUP(B2729,[4]BG!$A$3:$A$65,[4]BG!$H$3:$H$65))-SUMIF($B$3:B2729,B2729,$G$3:G2729)","v":0}]
[null,null,null,null,null,null,null,null,null,null,null,null,null,null,null,null,null,null,null,null,null,null,null,null,null,null,null,null,null,null,null,null,null,null,null,null,null,null,null,null,null,null,null,{"$f":"IF(B2730=\"\",0,LOOKUP(B2730,[4]BG!$A$3:$A$65,[4]BG!$H$3:$H$65))-SUMIF($B$3:B2730,B2730,$G$3:G2730)","v":0}]
[null,null,null,null,null,null,null,null,null,null,null,null,null,null,null,null,null,null,null,null,null,null,null,null,null,null,null,null,null,null,null,null,null,null,null,null,null,null,null,null,null,null,null,{"$f":"IF(B2731=\"\",0,LOOKUP(B2731,[4]BG!$A$3:$A$65,[4]BG!$H$3:$H$65))-SUMIF($B$3:B2731,B2731,$G$3:G2731)","v":0}]
[null,null,null,null,null,null,null,null,null,null,null,null,null,null,null,null,null,null,null,null,null,null,null,null,null,null,null,null,null,null,null,null,null,null,null,null,null,null,null,null,null,null,null,{"$f":"IF(B2732=\"\",0,LOOKUP(B2732,[4]BG!$A$3:$A$65,[4]BG!$H$3:$H$65))-SUMIF($B$3:B2732,B2732,$G$3:G2732)","v":0}]
[null,null,null,null,null,null,null,null,null,null,null,null,null,null,null,null,null,null,null,null,null,null,null,null,null,null,null,null,null,null,null,null,null,null,null,null,null,null,null,null,null,null,null,{"$f":"IF(B2733=\"\",0,LOOKUP(B2733,[4]BG!$A$3:$A$65,[4]BG!$H$3:$H$65))-SUMIF($B$3:B2733,B2733,$G$3:G2733)","v":0}]
[null,null,null,null,null,null,null,null,null,null,null,null,null,null,null,null,null,null,null,null,null,null,null,null,null,null,null,null,null,null,null,null,null,null,null,null,null,null,null,null,null,null,null,{"$f":"IF(B2734=\"\",0,LOOKUP(B2734,[4]BG!$A$3:$A$65,[4]BG!$H$3:$H$65))-SUMIF($B$3:B2734,B2734,$G$3:G2734)","v":0}]
[null,null,null,null,null,null,null,null,null,null,null,null,null,null,null,null,null,null,null,null,null,null,null,null,null,null,null,null,null,null,null,null,null,null,null,null,null,null,null,null,null,null,null,{"$f":"IF(B2735=\"\",0,LOOKUP(B2735,[4]BG!$A$3:$A$65,[4]BG!$H$3:$H$65))-SUMIF($B$3:B2735,B2735,$G$3:G2735)","v":0}]
[null,null,null,null,null,null,null,null,null,null,null,null,null,null,null,null,null,null,null,null,null,null,null,null,null,null,null,null,null,null,null,null,null,null,null,null,null,null,null,null,null,null,null,{"$f":"IF(B2736=\"\",0,LOOKUP(B2736,[4]BG!$A$3:$A$65,[4]BG!$H$3:$H$65))-SUMIF($B$3:B2736,B2736,$G$3:G2736)","v":0}]
[null,null,null,null,null,null,null,null,null,null,null,null,null,null,null,null,null,null,null,null,null,null,null,null,null,null,null,null,null,null,null,null,null,null,null,null,null,null,null,null,null,null,null,{"$f":"IF(B2737=\"\",0,LOOKUP(B2737,[4]BG!$A$3:$A$65,[4]BG!$H$3:$H$65))-SUMIF($B$3:B2737,B2737,$G$3:G2737)","v":0}]
[null,null,null,null,null,null,null,null,null,null,null,null,null,null,null,null,null,null,null,null,null,null,null,null,null,null,null,null,null,null,null,null,null,null,null,null,null,null,null,null,null,null,null,{"$f":"IF(B2738=\"\",0,LOOKUP(B2738,[4]BG!$A$3:$A$65,[4]BG!$H$3:$H$65))-SUMIF($B$3:B2738,B2738,$G$3:G2738)","v":0}]
[null,null,null,null,null,null,null,null,null,null,null,null,null,null,null,null,null,null,null,null,null,null,null,null,null,null,null,null,null,null,null,null,null,null,null,null,null,null,null,null,null,null,null,{"$f":"IF(B2739=\"\",0,LOOKUP(B2739,[4]BG!$A$3:$A$65,[4]BG!$H$3:$H$65))-SUMIF($B$3:B2739,B2739,$G$3:G2739)","v":0}]
[null,null,null,null,null,null,null,null,null,null,null,null,null,null,null,null,null,null,null,null,null,null,null,null,null,null,null,null,null,null,null,null,null,null,null,null,null,null,null,null,null,null,null,{"$f":"IF(B2740=\"\",0,LOOKUP(B2740,[4]BG!$A$3:$A$65,[4]BG!$H$3:$H$65))-SUMIF($B$3:B2740,B2740,$G$3:G2740)","v":0}]
[null,null,null,null,null,null,null,null,null,null,null,null,null,null,null,null,null,null,null,null,null,null,null,null,null,null,null,null,null,null,null,null,null,null,null,null,null,null,null,null,null,null,null,{"$f":"IF(B2741=\"\",0,LOOKUP(B2741,[4]BG!$A$3:$A$65,[4]BG!$H$3:$H$65))-SUMIF($B$3:B2741,B2741,$G$3:G2741)","v":0}]
[null,null,null,null,null,null,null,null,null,null,null,null,null,null,null,null,null,null,null,null,null,null,null,null,null,null,null,null,null,null,null,null,null,null,null,null,null,null,null,null,null,null,null,{"$f":"IF(B2742=\"\",0,LOOKUP(B2742,[4]BG!$A$3:$A$65,[4]BG!$H$3:$H$65))-SUMIF($B$3:B2742,B2742,$G$3:G2742)","v":0}]
[null,null,null,null,null,null,null,null,null,null,null,null,null,null,null,null,null,null,null,null,null,null,null,null,null,null,null,null,null,null,null,null,null,null,null,null,null,null,null,null,null,null,null,{"$f":"IF(B2743=\"\",0,LOOKUP(B2743,[4]BG!$A$3:$A$65,[4]BG!$H$3:$H$65))-SUMIF($B$3:B2743,B2743,$G$3:G2743)","v":0}]
[null,null,null,null,null,null,null,null,null,null,null,null,null,null,null,null,null,null,null,null,null,null,null,null,null,null,null,null,null,null,null,null,null,null,null,null,null,null,null,null,null,null,null,{"$f":"IF(B2744=\"\",0,LOOKUP(B2744,[4]BG!$A$3:$A$65,[4]BG!$H$3:$H$65))-SUMIF($B$3:B2744,B2744,$G$3:G2744)","v":0}]
[null,null,null,null,null,null,null,null,null,null,null,null,null,null,null,null,null,null,null,null,null,null,null,null,null,null,null,null,null,null,null,null,null,null,null,null,null,null,null,null,null,null,null,{"$f":"IF(B2745=\"\",0,LOOKUP(B2745,[4]BG!$A$3:$A$65,[4]BG!$H$3:$H$65))-SUMIF($B$3:B2745,B2745,$G$3:G2745)","v":0}]
[null,null,null,null,null,null,null,null,null,null,null,null,null,null,null,null,null,null,null,null,null,null,null,null,null,null,null,null,null,null,null,null,null,null,null,null,null,null,null,null,null,null,null,{"$f":"IF(B2746=\"\",0,LOOKUP(B2746,[4]BG!$A$3:$A$65,[4]BG!$H$3:$H$65))-SUMIF($B$3:B2746,B2746,$G$3:G2746)","v":0}]
[null,null,null,null,null,null,null,null,null,null,null,null,null,null,null,null,null,null,null,null,null,null,null,null,null,null,null,null,null,null,null,null,null,null,null,null,null,null,null,null,null,null,null,{"$f":"IF(B2747=\"\",0,LOOKUP(B2747,[4]BG!$A$3:$A$65,[4]BG!$H$3:$H$65))-SUMIF($B$3:B2747,B2747,$G$3:G2747)","v":0}]
[null,null,null,null,null,null,null,null,null,null,null,null,null,null,null,null,null,null,null,null,null,null,null,null,null,null,null,null,null,null,null,null,null,null,null,null,null,null,null,null,null,null,null,{"$f":"IF(B2748=\"\",0,LOOKUP(B2748,[4]BG!$A$3:$A$65,[4]BG!$H$3:$H$65))-SUMIF($B$3:B2748,B2748,$G$3:G2748)","v":0}]
[null,null,null,null,null,null,null,null,null,null,null,null,null,null,null,null,null,null,null,null,null,null,null,null,null,null,null,null,null,null,null,null,null,null,null,null,null,null,null,null,null,null,null,{"$f":"IF(B2749=\"\",0,LOOKUP(B2749,[4]BG!$A$3:$A$65,[4]BG!$H$3:$H$65))-SUMIF($B$3:B2749,B2749,$G$3:G2749)","v":0}]

{"sheet":"الحوالة باديس","index":2,"n_rows":113,"n_cols":45,"rows_kept":113,"cut":false,"hidden":false,"merged":[[57,5,57,6],[57,8,57,9],[57,13,57,16],[58,11,58,17],[60,16,60,19],[84,23,86,27],[52,12,52,16],[53,2,53,6],[53,8,53,10],[53,12,53,16],[54,12,54,16],[56,3,56,5],[48,2,50,6],[48,8,50,10],[51,3,51,6],[51,8,51,10],[52,3,52,6],[52,8,52,10],[43,14,43,15],[43,16,43,17],[46,2,46,6],[46,8,46,10],[46,13,46,16],[47,8,47,10],[47,12,47,16],[38,2,43,4],[38,5,39,7],[38,11,38,13],[38,14,38,15],[38,16,38,17],[39,11,39,13],[39,14,39,15],[39,16,39,17],[40,14,40,15],[40,16,40,17],[41,11,41,13],[41,14,41,15],[41,16,41,17],[42,5,43,7],[42,11,42,13],[42,14,42,15],[42,16,42,17],[43,11,43,13],[40,5,41,7],[40,11,40,13],[33,15,33,16],[35,2,35,17],[36,2,37,4],[36,5,37,7],[36,8,36,9],[36,10,36,17],[37,11,37,13],[37,14,37,15],[37,16,37,17],[28,3,28,8],[31,2,31,5],[31,10,31,13],[31,15,31,16],[32,2,32,5],[32,10,32,13],[32,15,32,16],[25,3,25,5],[25,10,25,13],[25,15,26,16],[26,3,26,5],[26,10,26,13],[27,3,27,8],[14,15,14,16],[22,3,22,5],[22,15,22,16],[23,3,23,5],[23,10,23,13],[24,3,24,5],[24,10,24,13],[24,15,24,16],[19,34,21,38],[20,10,20,13],[20,15,20,16],[21,3,21,5],[21,10,21,13],[21,15,21,16],[9,25,9,26],[11,2,11,17],[12,2,12,9],[12,10,12,13],[12,15,12,16],[5,25,5,26],[6,2,6,3],[6,5,6,10],[6,25,6,26],[7,2,7,3],[7,5,7,10],[7,25,7,26],[0,0,0,19],[1,0,58,0],[2,2,2,3],[2,5,4,11],[2,13,2,17],[4,2,4,3],[5,2,5,3],[5,5,5,8],[5,9,5,10],[5,13,5,16],[8,2,8,3],[16,2,16,6],[16,10,16,17],[17,3,17,8],[17,10,17,13],[18,3,19,8],[18,10,18,13],[18,15,19,16],[19,10,19,13],[13,2,13,9],[13,10,13,13],[13,15,13,16],[14,2,14,9],[14,10,14,13]]}
[null,null,null,null,null,null,null,null,null,null,null,null,null,null,null,null,null,null,null,null,null,null,null,null,null,null,null,null,null,null,null,null,null,null,null,null,null,null,null,null,null,null,null,1,2]
[null,null,null,null,null,null,null,null,null,null,null,null,null,null,null,null,null,null,null,null,null,null,null,null,null,{"$f":"Z4&Z3","v":"03"},null,null,{"$f":"U5+2","v":10},null,null,null,null,null,"DA",null,null,null,null,null,null,null,null,1,"الفرع الأول :نفقات  التسيير"]
[null,null,"اســم المؤسســـة",null,null,"حوالـــة الدفــــع",null,null,null,null,null,null,null,null,null,null,null,null,null,null,null,null,null,null,null,{"$f":"LEFT(RIGHT(AC4,3),1)","v":"3"},{"$f":"RIGHT(AC4,1)","v":"2"},1,{"$f":"INDEX(الالتزام!A:BA,$AC$2,AB3)","v":8},"رقم الحوالة","رمــز البند",null,null,null,null,null,null,null,null,"DA",null,null,null,2,"الفرع الثاني: نفقات أقسام رياضة"]
[null,null,null,null,null,null,null,null,null,null,null,null,null,"المــــــــــادة",null,{"$f":"AC4","v":"1-03-2"},"حســـاب",null,null,null,null,null,null,null,null,{"$f":"LEFT(RIGHT(AC4,4),1)","v":"0"},{"$f":"LEFT(AC4,1)","v":"1"},2,{"$f":"INDEX(الالتزام!A:BA,$AC$2,AB4)","v":"1-03-2"},"رمــز البند","اسم البند",null,0,"Zero",{"$f":"#REF!","v":{"$error":"#REF!"}},null,null,null,null,null,null,null,null,3,"الفرع الثالث : نفقات ذات طابع خاص"]
[null,null,{"$f":"'[4]بطاقة المعلومات '!C3","v":"ثانوية البشير الإبراهيمي "},null,null,null,null,null,null,null,null,null,null,"الوثائق رقم",null,null,"حســـاب",null,null,null,8,null,null,null,null,null,null,3,{"$f":"INDEX(الالتزام!A:BA,$AC$2,AB5)","v":"اللوازم"},"اسم البند","الجهة المستفيدة",null,1,"Un",null,null,null,null,null,null,null,null,null,5,"حسابات خارج الميزانية"]
[null,null,"عيــن الحجــر",null,null,"  السنـــــــــــة الماليـــــــــــة :    ",null,null,null,{"$f":"'[4]مجـمع النـفقـات'!C4","v":2018},null,null,null,"حــوالة رقـــــــم",null,null,null,null,null,null,null,null,null,null,null,"باقي في البند",null,4,{"$f":"INDEX(الالتزام!A:BA,$AC$2,AB6)","v":"مستهلكات وبرامج الإعلام الآلي"},"الجهة المستفيدة","موضوع النفقة",null,2,"Deux","cent",{"$f":"INT($Q$53/100000000000)","v":0},{"$f":"AJ6*100000000000","v":0},{"$f":"IF(OR(AJ6=0,AJ6=1),\"\",LOOKUP(AJ6,AG4:AH113))","v":""},{"$f":"IF(AJ6>0,\"Cent\",\"\")","v":""},{"$f":"IF(AND(AL6=\"\",AM6=\"\"),\"\",CONCATENATE(AL6,\" \",AM6,\" \"))","v":""}]
[null,null,null,null,null,null,null,null,null,null,null,null,null,null,null,null,null,null,null,null,null,null,null,null,null,{"$f":"AC32","v":"00:00:00"},null,5,{"$f":"INDEX(الالتزام!A:BA,$AC$2,AB7)","v":"ش ذ م م ميتاغروب"},"موضوع النفقة","مبلغ الالتزام",null,3,"Trois","Milliard",{"$f":"INT((AI4-AK6)/1000000000)","v":{"$error":"#REF!"}},{"$f":"AJ7*1000000000","v":{"$error":"#REF!"}},{"$f":"IF(AJ7=0,\"\",LOOKUP(AJ7,AH4:AH114,AG4:AG114))","v":{"$error":"#REF!"}},{"$f":"IF(OR(AJ7>0,AJ6>0),\"Milliard\",\"\")","v":{"$error":"#REF!"}},{"$f":"IF(AND(AL7=\"\",AM7=\"\"),\"\",CONCATENATE(AL7,\" \",AM7,\" \"))","v":{"$error":"#REF!"}}]
[null,null,19022,null,null,{"$f":"LOOKUP(VALUE(P13),AR2:AR5,AS2:AS5)","v":"الفرع الأول :نفقات  التسيير"},null,null,null,null,null,null,null,null,null,{"$f":"U5","v":8},null,null,null,null,null,null,null,null,"طريقة التسديد",{"$f":"I40","v":0},null,6,{"$f":"INDEX(الالتزام!A:BA,$AC$2,AB8)","v":"تسديد فاتورة متابعة و تحين برنامج ميتاسكول"},"مبلغ الالتزام","الوثائق الثبوتية",null,4,"Quatre","cent",{"$f":"INT((AI4-SUM(AK6:AK$7))/100000000)","v":{"$error":"#REF!"}},{"$f":"AJ8*100000000","v":{"$error":"#REF!"}},{"$f":"IF(OR(AJ8=0,AJ8=1,),\"\",LOOKUP(AJ8,AG$26:AG113,AH$26:AH113))","v":{"$error":"#REF!"}},{"$f":"IF(AJ8>0,\"Cent\",\"\")","v":{"$error":"#REF!"}},{"$error":"#REF!"}]
[null,null,null,null,null,"البــاب :",{"$f":"Z2","v":"03"},null,null,"المـــــــادة :",{"$f":"AA3","v":"2"},null,null,null,null,null,null,null,null,null,null,null,null,null,{"$f":"AC49","v":"خزينة"},{"$f":"I17","v":0},null,7,{"$f":"INDEX(الالتزام!A:BA,$AC$2,AB9)","v":5541}]
[null,null,null,null,null,null,null,null,null,null,null,null,null,null,null,null,null,null,null,null,null,null,null,null,"التاريخ الامر",{"$f":"#REF!","v":{"$error":"#REF!"}},null,8,{"$f":"INDEX(الالتزام!A:BA,$AC$2,AB10)","v":"041/2018"},"الرقم"]
[null,null,null,null,null,null,null,null,null,null,null,null,null,null,null,null,null,null,null,null,null,null,null,null,null,null,null,9,{"$f":"INDEX(الالتزام!A:BA,$AC$2,AB11)","v":"2018-02-02"},"التــاريـــخ","عددها",null,5,"Cinq","million",{"$f":"INT((AI4-SUM(AK6:AK$8))/1000000)","v":{"$error":"#REF!"}},{"$f":"AJ11*1000000","v":{"$error":"#REF!"}},{"$f":"IF(AJ11=0,\"\",LOOKUP(AJ11,AG4:AG113,AH4:AH113))","v":{"$error":"#REF!"}},{"$f":"IF(OR(AJ11>0,AJ8>0),\"Million\",\"\")","v":{"$error":"#REF!"}},{"$error":"#REF!"}]
[null,null,"موضـــــــــــــوع المصاريــــــــــــف:",null,null,null,null,null,null,null,null,null,null,null,null,null,null,null,null,null,null,null,null,null,null,null,null,10,{"$f":"INDEX(الالتزام!A:BA,$AC$2,AB12)","v":5541},"المبــلغ","الوثائق الثبوتية",null,6,"Six","cent mille",{"$f":"INT((AI4-SUM(AK6:AK$11))/100000)","v":{"$error":"#REF!"}},{"$f":"AJ12*100000","v":{"$error":"#REF!"}},{"$f":"IF(OR(AJ12=0,AJ12=1),\"\",LOOKUP(AJ12,AG4:AG113,AH4:AH113))","v":{"$error":"#REF!"}},{"$f":"IF(AJ12>0,\"Cent\",\"\")","v":{"$error":"#REF!"}},{"$error":"#REF!"}]
[null,null,{"$f":"F8","v":"الفرع الأول :نفقات  التسيير"},null,null,null,null,null,null,null,"الــــفــــــــــــــــــــــــــــــرع :",null,null,null,null,{"$f":"AA4","v":"1"},null,null,null,null,null,null,null,null,null,null,null,11,{"$f":"INDEX(الالتزام!A:BA,$AC$2,AB13)","v":0},"العــــدد","عددها",null,7,"Sept","mille",{"$f":"INT((AI4-SUM(AK6:AK$12))/1000)","v":{"$error":"#REF!"}},{"$f":"AJ13*1000","v":{"$error":"#REF!"}},{"$f":"IF(OR(AJ13=0,AJ13=1),\"\",LOOKUP(AJ13,AG4:AG113,AH4:AH113))","v":{"$error":"#REF!"}},{"$f":"IF(OR(AJ13>0,AJ12>0),\"Mille\",\"\")","v":{"$error":"#REF!"}},{"$error":"#REF!"}]
[null,null,{"$f":"\"الباب\"&\" \"&L14&\":\"&AC6","v":"الباب :مستهلكات وبرامج الإعلام الآلي"},null,null,null,null,null,null,null,"البــــــــــــــــــــــــــــــــــاب :",null,null,null,null,{"$f":"G9","v":"03"},null,null,null,null,null,null,null,null,null,null,null,12,{"$f":"INDEX(الالتزام!A:BA,$AC$2,AB14)","v":0},"الرقم","الوثائق الثبوتية",null,8,"Huit","cent",{"$f":"INT((AI4-SUM(AK6:AK$13))/100)","v":{"$error":"#REF!"}},{"$f":"AJ14*100","v":{"$error":"#REF!"}},{"$f":"IF(OR(AJ14=0,AJ14=1),\"\",LOOKUP(AJ14,AG4:AG113,AH4:AH113))","v":{"$error":"#REF!"}},{"$f":"IF(AJ14>0,\"Cent\",\"\")","v":{"$error":"#REF!"}},{"$f":"IF(AND(AL14=\"\",AM14=\"\"),\"\",CONCATENATE(AL14,\" \",AM14,\" \"))","v":{"$error":"#REF!"}}]
[null,null,{"$f":"AC8","v":"تسديد فاتورة متابعة و تحين برنامج ميتاسكول"},null,null,null,null,null,null,null,"المـــــــــــــــــــــــــــــــــــادة: ",null,null,null,null,{"$f":"K9","v":"2"},null,null,null,null,null,null,null,null,null,null,null,13,{"$f":"INDEX(الالتزام!A:BA,$AC$2,AB15)","v":"00:00:00"},"التــاريـــخ","عددها",null,9,"Neuf","moins de cent",{"$f":"INT((AI4-SUM(AK6:AK$14)))","v":{"$error":"#REF!"}},{"$f":"AJ15","v":{"$error":"#REF!"}},{"$f":"IF(AJ15=0,\"\",LOOKUP(AJ15,AG4:AG113,AH4:AH113))","v":{"$error":"#REF!"}},null,{"$error":"#REF!"}]
[]
[null,null,"الوثائق التي تثبت المصاريف:",null,null,null,null,null,null,"العـــدد","المبـــــالغ",null,null,null,null,null,null,null,null,null,null,null,null,null,null,null,null,14,{"$f":"INDEX(الالتزام!A:BA,$AC$2,AB17)","v":0},"المبــلغ",null,null,10,"Dix",null,{"$f":"ROUND(100*(AI4-INT(AI4)),0)","v":{"$error":"#REF!"}},{"$f":"AJ17","v":{"$error":"#REF!"}},{"$f":"IF(AK17=0,\"\",LOOKUP(AK17,AG4:AG113,AH4:AH113))","v":{"$error":"#REF!"}},{"$f":"IF(AK17=0,\"\",\"Centimes\")","v":{"$error":"#REF!"}},{"$error":"#REF!"}]
[null,null,"أرقام سنـدات الطلب :",{"$f":"AC39","v":0},null,null,null,null,null,{"$f":"AC40","v":0},null,null,null,null,null,null,null,null,null,null,null,null,null,null,null,null,null,15,{"$f":"INDEX(الالتزام!A:BA,$AC$2,AB18)","v":0},"العــــدد",null,null,11,"Onze"]
[null,null,null,{"$f":"AC41","v":0},null,null,null,null,null,"العــــدد",null,null,null,null,null,{"$f":"AC9","v":5541},null,null,null,null,null,null,null,null,null,null,null,16,{"$f":"INDEX(الالتزام!A:BA,$AC$2,AB19)","v":0},"الرقم",null,null,12,"Douze"]
[null,null,"وصلات الإستلام  :",null,null,null,null,null,null,{"$f":"AC42","v":0},"المبلــــغ الإجمــــالي للحـــــــوالــة",null,null,null,null,null,null,null,null,null,null,null,null,null,null,null,null,17,{"$f":"INDEX(الالتزام!A:BA,$AC$2,AB20)","v":"00:00:00"},"التــاريـــخ",null,null,13,"Treize",{"$f":"CONCATENATE(AN6,AN7,AN8,AN11,AN12,AN13,AN14,AN15,AI2,\" \", AN17)","v":{"$error":"#REF!"}}]
[null,null,null,"الرقم",null,null,"المبــلغ",null,"التــاريـــخ","العــــدد",null,null,null,null,null,null,null,null,null,null,null,null,null,null,null,null,null,18,{"$f":"INDEX(الالتزام!A:BA,$AC$2,AB21)","v":0},"المبــلغ",null,null,14,"Quatorze"]
[null,null,{"$f":"الالتزام!H1","v":"فاتـــــــــــــورة  رقم 01"},{"$f":"AC10","v":"041/2018"},null,null,{"$f":"AC12","v":5541},null,{"$f":"AC11","v":"2018-02-02"},{"$f":"AC13","v":0},null,null,null,null,null,null,null,null,null,null,null,null,null,null,null,null,null,19,{"$f":"INDEX(الالتزام!A:BA,$AC$2,AB22)","v":0},"العــــدد",null,null,15,"Quinze"]
[null,null,{"$f":"الالتزام!L1","v":"فاتـــــــــــــورة رقم 02"},{"$f":"AC14","v":0},null,null,{"$f":"AC17","v":0},null,{"$f":"AC15","v":"00:00:00"},{"$f":"AC18","v":0},null,null,null,null,null,null,null,null,null,null,null,null,null,null,null,null,null,20,{"$f":"INDEX(الالتزام!A:BA,$AC$2,AB23)","v":0},"الرقم",null,null,16,"Seize"]
[null,null,{"$f":"الالتزام!P1","v":"فاتـــــــــــــورة رقم 03"},{"$f":"AC19","v":0},null,null,{"$f":"AC21","v":0},null,{"$f":"AC20","v":"00:00:00"},{"$f":"AC22","v":0},null,null,null,null,null,null,null,null,null,null,null,null,null,null,null,null,null,21,{"$f":"INDEX(الالتزام!A:BA,$AC$2,AB24)","v":"00:00:00"},"التــاريـــخ",null,null,17,"Dix- sept"]
[null,null,{"$f":"الالتزام!T1","v":"فاتـــــــــــــورة رقم 04"},{"$f":"AC23","v":0},null,null,{"$f":"AC25","v":0},null,{"$f":"AC24","v":"00:00:00"},{"$f":"AC26","v":0},null,null,null,null,null,null,null,null,null,null,null,null,null,null,null,null,null,22,{"$f":"INDEX(الالتزام!A:BA,$AC$2,AB25)","v":0},"المبــلغ",null,null,18,"Dix -huit"]
[null,null,{"$f":"الالتزام!X1","v":"فاتـــــــــــــورة رقم 05"},{"$f":"AC27","v":0},null,null,{"$f":"AC29","v":0},null,{"$f":"AC28","v":"00:00:00"},{"$f":"AC30","v":0},"المبلـــــــــــــغ المحســــــــــــــــوم",null,null,null,null,{"$f":"IF($Y$9=\"ع د\",$P$19,0)","v":0},null,null,null,null,null,null,null,null,null,null,null,23,{"$f":"INDEX(الالتزام!A:BA,$AC$2,AB26)","v":0},"العــــدد",null,null,19,"Dix- neuf"]
[null,null,{"$f":"الالتزام!AB1","v":"فاتـــــــــــــورة رقم 06"},{"$f":"AC31","v":0},null,null,{"$f":"AC33","v":0},null,{"$f":"AC32","v":"00:00:00"},{"$f":"AC34","v":0},null,null,null,null,null,null,null,null,null,null,null,null,null,null,null,null,null,24,{"$f":"INDEX(الالتزام!A:BA,$AC$2,AB27)","v":0},"الرقم"]
[null,null,{"$f":"الالتزام!AF1","v":0},{"$f":"AC43","v":"00:00:00"},null,null,null,null,null,{"$f":"AC44","v":0},null,null,null,null,null,null,null,null,null,null,null,null,null,null,null,null,null,25,{"$f":"INDEX(الالتزام!A:BA,$AC$2,AB28)","v":"00:00:00"},"التــاريـــخ"]
[null,null,{"$f":"الالتزام!AN1","v":"وثائق اخرى"},{"$f":"AC45","v":"00:00:00"},null,null,null,null,null,{"$f":"AC46","v":0},null,null,null,null,null,null,null,null,null,null,null,null,null,null,null,null,null,26,{"$f":"INDEX(الالتزام!A:BA,$AC$2,AB29)","v":0},"المبــلغ"]
[null,null,{"$f":"الالتزام!AP1","v":"وثائق اخرى"},null,null,null,null,null,null,null,null,null,null,null,null,null,null,null,null,null,null,null,null,null,null,null,null,27,{"$f":"INDEX(الالتزام!A:BA,$AC$2,AB30)","v":0},"العــــدد"]
[null,null,null,null,null,null,null,null,null,null,null,null,null,null,null,null,null,null,null,null,null,null,null,null,null,null,null,28,{"$f":"INDEX(الالتزام!A:BA,$AC$2,AB31)","v":0},"الرقم",null,null,20,"Vingt"]
[null,null,null,null,null,null,0,null,null,0,null,null,null,null,null,null,null,null,null,null,null,null,null,null,null,null,null,29,{"$f":"INDEX(الالتزام!A:BA,$AC$2,AB32)","v":"00:00:00"},"التــاريـــخ",null,null,21,"Vingt et un"]
[null,null,"عـــــدد الوثــــائـــــق :",null,null,null,null,null,{"$f":"J22+J23+J24+J25+J26+J27+J28+J29+J30+J31+J32+J18+J20","v":0},null,"المبلـــــــغ الصــــــافي للدفــــــــــع",null,null,null,null,{"$f":"P19-P26","v":5541},null,null,null,null,null,null,null,null,null,null,null,30,{"$f":"INDEX(الالتزام!A:BA,$AC$2,AB33)","v":0},"المبــلغ",null,null,22,"Vingt deux"]
[null,null,null,null,null,null,null,null,null,null,null,null,null,null,null,null,null,null,null,null,null,null,null,null,null,null,null,31,{"$f":"INDEX(الالتزام!A:BA,$AC$2,AB34)","v":0},"العــــدد",null,null,23,"Vingt trois"]
[null,null,null,null,null,null,null,null,null,null,null,null,null,null,null,null,null,null,null,null,null,null,null,null,null,null,null,32,{"$f":"INDEX(الالتزام!A:BA,$AC$2,AB35)","v":0},"فاتورة 06",null,null,24,"Vingt quatre"]
[null,null,"دفــع المصــــاريف",null,null,null,null,null,null,null,null,null,null,null,null,null,null,null,null,null,{"$f":"IF(P33=SUM(L39:N44),\"صحيح\",\"خطأ\")","v":"صحيح"},null,null,null,null,null,null,33,{"$f":"INDEX(الالتزام!A:BA,$AC$2,AB36)","v":0},"الوثائق الثبوتية فاتورة",null,null,25,"Vingt cinq"]
[null,null,"تعييــــن الدائــــــــــــــن",null,null,"رقم حســاب المستفيــــد",null,null,"الصك المدفوع",null,"المبالغ المسددة عن طريق",null,null,null,null,null,null,null,null,null,null,null,null,null,null,null,null,34,{"$f":"INDEX(الالتزام!A:BA,$AC$2,AB37)","v":0},"عددها",null,null,26,"Vingt six"]
[null,null,null,null,null,null,null,null,"رقم","التاريخ","حساب بريدي","حساب الخزينة",null,null,"نقدا",null,"م. داخلية",null,null,null,null,null,null,null,null,null,null,35,{"$f":"INDEX(الالتزام!A:BA,$AC$2,AB38)","v":0},"الوثائق الثبوتية وصل طب",null,null,27,"Vingt sept"]
[null,null,{"$f":"AC7","v":"ش ذ م م ميتاغروب"},null,null,{"$f":"AC48","v":"00500374400242805066"},null,null,{"$f":"'الحوالة باديس'!AC50","v":2348846},{"$f":"AC56","v":"2018-06-30"},null,{"$f":"IF($Y$9=\"خزينة\",VLOOKUP($U$5,الالتزام!$A$3:$AF$201,10,0),\"\")","v":5541},null,null,{"$f":"IF($Y$9=\"نقدي\",VLOOKUP($U$5,الالتزام!$A$3:$AF$201,10,0),\"\")","v":""},null,{"$f":"IF($Y$9=\"ع د\",VLOOKUP($U$5,الالتزام!$A$3:$AF$201,10,0),\"\")","v":""},null,null,null,null,null,null,null,null,null,null,36,{"$f":"INDEX(الالتزام!A:BA,$AC$2,AB39)","v":0},"عددها",null,null,28,"Vingt Huit"]
[null,null,null,null,null,null,null,null,null,null,null,{"$f":"IF($Y$9=\"خزينة\",VLOOKUP($U$5,الالتزام!$A$3:$AF$201,14,0),\"\")","v":0},null,null,{"$f":"IF($Y$9=\"نقدي\",VLOOKUP($U$5,الالتزام!$A$3:$AF$201,14,0),\"\")","v":""},null,{"$f":"IF($Y$9=\"ع د\",VLOOKUP($U$5,الالتزام!$A$3:$AF$201,14,0),\"\")","v":""},null,null,null,null,null,null,null,null,null,null,37,{"$f":"INDEX(الالتزام!A:BA,$AC$2,AB40)","v":0},"الوثائق الثبوتية وصل تسليم",null,null,29,"Vingt Neuf"]
[null,null,null,null,null,"لــــــــــــــــدى ",null,null,null,null,null,{"$f":"IF($Y$9=\"خزينة\",VLOOKUP($U$5,الالتزام!$A$3:$AF$201,18,0),\"\")","v":0},null,null,{"$f":"IF($Y$9=\"نقدي\",VLOOKUP($U$5,الالتزام!$A$3:$AF$201,18,0),\"\")","v":""},null,{"$f":"IF($Y$9=\"ع د\",VLOOKUP($U$5,الالتزام!$A$3:$AF$201,18,0),\"\")","v":""},null,null,null,null,null,null,null,null,null,null,38,{"$f":"INDEX(الالتزام!A:BA,$AC$2,AB41)","v":0},"عددها",null,null,30,"Trente"]
[null,null,null,null,null,null,null,null,null,null,null,{"$f":"IF($Y$9=\"خزينة\",VLOOKUP($U$5,الالتزام!$A$3:$AF$201,22,0),\"\")","v":0},null,null,{"$f":"IF($Y$9=\"نقدي\",VLOOKUP($U$5,الالتزام!$A$3:$AF$201,22,0),\"\")","v":""},null,{"$f":"IF($Y$9=\"ع د\",VLOOKUP($U$5,الالتزام!$A$3:$AF$201,22,0),\"\")","v":""},null,null,null,null,null,null,null,null,null,null,39,{"$f":"INDEX(الالتزام!A:BA,$AC$2,AB42)","v":0},"الوثائق الثبوتية محضر",null,null,31,"Trente et  Un"]
[null,null,null,null,null,{"$f":"'الحوالة باديس'!AC55","v":"B-D-L"},null,null,null,null,null,{"$f":"IF($Y$9=\"خزينة\",VLOOKUP($U$5,الالتزام!$A$3:$AF$201,26,0),\"\")","v":0},null,null,{"$f":"IF($Y$9=\"نقدي\",VLOOKUP($U$5,الالتزام!$A$3:$AF$201,26,0),\"\")","v":""},null,{"$f":"IF($Y$9=\"ع د\",VLOOKUP($U$5,الالتزام!$A$3:$AF$201,26,0),\"\")","v":""},null,null,null,null,null,null,null,null,null,null,40,{"$f":"INDEX(الالتزام!A:BA,$AC$2,AB43)","v":0},"عددها",null,null,32,"Trente deux"]
[null,null,null,null,null,null,null,null,null,null,null,{"$f":"IF($Y$9=\"خزينة\",VLOOKUP($U$5,الالتزام!$A$3:$AF$201,30,0),\"\")","v":0},null,null,{"$f":"IF($Y$9=\"نقدي\",VLOOKUP($U$5,الالتزام!$A$3:$AF$201,30,0),\"\")","v":""},null,{"$f":"IF($Y$9=\"ع د\",VLOOKUP($U$5,الالتزام!$A$3:$AF$201,30,0),\"\")","v":""},null,null,null,null,null,null,null,null,null,null,41,{"$f":"INDEX(الالتزام!A:BA,$AC$2,AB44)","v":0},"عددها",null,null,34,"Trente quatre"]
[null,null,null,null,null,null,null,null,null,null,null,null,null,null,null,null,null,null,null,null,null,null,null,null,null,null,null,42,{"$f":"INDEX(الالتزام!A:BA,$AC$2,AB45)","v":0},"الرصيد المتبقي",null,null,35,"Trente cinq"]
[null,null,null,null,null,null,null,null,null,null,null,null,null,null,null,null,null,null,null,null,null,null,null,null,null,null,null,43,{"$f":"INDEX(الالتزام!A:BA,$AC$2,AB46)","v":0},"رقم حساب الممون",null,null,36,"Trente six"]
[null,null,"الأمر بالصــرف",null,null,null,null,null,"الصــــرف",null,null,null,null,"التسديد نقـــدا",null,null,null,null,null,null,null,null,null,null,null,null,null,44,{"$f":"INDEX(الالتزام!A:BA,$AC$2,AB47)","v":7459},"رقم حساب الممون",null,null,37,"Trente Sept"]
[null,null,"  حددت هذه الحوالة بمبلغ قدره:",null,null,null,null,null,"    حوالة الدفع محددة بمبلغ صافي قدره :",null,null,null,"إسم ولقب المستفيد:.................................",null,null,null,null,null,null,null,null,null,null,null,null,null,null,45,{"$f":"INDEX(الالتزام!A:BA,$AC$2,AB48)","v":"00500374400242805066"},"طريقة التسديد",null,null,38,"Trente Huit"]
[null,null,{"$f":"I49","v":"خمسة آلاف وخمسمائة وواحد وأربعون دينار جزائري"},null,null,null,null,null,{"$f":"[13]!ar(P33)","v":"خمسة آلاف وخمسمائة وواحد وأربعون دينار جزائري"},null,null,null,"طبيعة الوثيقة الشخصية:...........................",null,null,null,null,null,null,null,null,null,null,null,null,null,null,46,{"$f":"INDEX(الالتزام!A:BA,$AC$2,AB49)","v":"خزينة"},"رقم الصك",null,null,39,"Trente Neuf"]
[null,null,null,null,null,null,null,null,null,null,null,null,"...............................................",null,null,null,null,null,null,null,null,null,null,null,null,null,null,47,{"$f":"INDEX(الالتزام!A:BA,$AC$2,AB50)","v":2348846},"مبلغ الصك",null,null,40,"Quarante"]
[null,null,null,null,null,null,null,null,null,null,null,null,"رقمها :............................................",null,null,null,null,null,null,null,null,null,null,null,null,null,null,48,{"$f":"INDEX(الالتزام!A:BA,$AC$2,AB51)","v":1366235.5},null,null,null,41,"Quarante et  Un"]
[null,null,"بــ:  ","عيــن الحجــر",null,null,null,null,"     تاريخ التسجيل في دفتر المصاريف :",null,null,null,"تاريخ صدورها:.......................................",null,null,null,null,null,null,null,null,null,null,null,null,null,null,49,{"$f":"INDEX(الالتزام!A:BA,$AC$2,AB52)","v":43281},"إسم البنك",null,null,42,"Quarante Deux"]
[null,null,"في:  ",{"$f":"AC56","v":"2018-06-30"},null,null,null,null,"...............................................",null,null,null,"بـ:....................................................",null,null,null,null,null,null,null,null,null,null,null,null,null,null,50,{"$f":"INDEX(الالتزام!A:BA,$AC$2,AB53)","v":"005"},null,null,null,43,"Quarante Trois"]
[null,null,"رئيس المؤسسة،",null,null,null,null,null,"المقتصــــد،",null,null,null,"لاستلام المبلغ المذكور أعلاه",null,null,null,null,null,null,null,null,null,null,null,null,null,null,51,{"$f":"INDEX(الالتزام!A:BA,$AC$2,AB54)","v":"ب ت م"},null,null,null,44,"Quarante Quatre"]
[null,null,null,null,null,null,null,null,null,null,null,null,"فــــــــي:.............................................",null,null,null,null,null,null,null,null,null,null,null,null,null,null,52,{"$f":"INDEX(الالتزام!A:BA,$AC$2,AB55)","v":"B-D-L"},null,null,null,45,"Quarante Cinq"]
[null,null,null,null,null,null,null,null,null,null,null,null,null,null,null,null,null,null,null,null,null,null,null,null,null,null,null,53,{"$f":"INDEX(الالتزام!A:BA,$AC$2,AB56)","v":43281},null,null,null,46,"Quarante Six"]
[null,null,"    الاسم و اللقب ",{"$f":"'[4]بطاقة المعلومات '!C12","v":"بوجليدة العيد"},null,null,null,null,"    الاسم و اللقب ",{"$f":"'[4]بطاقة المعلومات '!C7","v":"خيطاس عبد الكريم"},null,null,null,null,null,"توقيع الدائن،"]
[null,null,null,null,null,null,null,null,null,null,null,null,null,null,null,null,null,null,null,null,null,null,null,null,null,null,null,55,{"$f":"INDEX(الالتزام!A:BA,$AC$2,AB58)","v":{"$error":"#REF!"}},null,null,null,47,"Quarante Sept"]
[null,null,null,null,null,null,null,null,null,null,{"$f":"Horof_fr(P33)","v":{"$error":"#NAME?"}},"Arréter ce présent mandat à la somme de:",null,null,null,null,null,null,null,null,null,null,null,null,null,null,null,56,{"$f":"INDEX(الالتزام!A:BA,$AC$2,AB59)","v":{"$error":"#REF!"}}]
[null,null,null,null,null,null,null,null,null,null,null,null,null,null,null,null,null,null,null,null,null,null,null,null,null,null,null,57,{"$f":"INDEX(الالتزام!A:BA,$AC$2,AB60)","v":{"$error":"#REF!"}}]
[null,null,null,null,null,null,null,null,null,null,null,null,null,null,null,null,null,null,null,null,null,null,null,null,null,null,null,58,{"$f":"INDEX(الالتزام!A:BA,$AC$2,AB61)","v":{"$error":"#REF!"}}]
[null,null,null,null,null,null,null,null,null,null,null,null,null,null,null,null,null,null,null,null,null,null,null,null,null,null,null,59,{"$f":"INDEX(الالتزام!A:BA,$AC$2,AB62)","v":{"$error":"#REF!"}},null,null,null,48,"Quarante Huit"]
[null,null,null,null,null,null,null,null,null,null,null,null,null,null,null,null,null,null,null,null,null,null,null,null,null,null,null,60,{"$f":"INDEX(الالتزام!A:BA,$AC$2,AB63)","v":{"$error":"#REF!"}},null,null,null,49,"Quarante Neuf"]
[null,null,null,null,null,null,null,null,null,null,null,null,null,null,null,null,null,null,null,null,null,null,null,null,null,null,null,61,{"$f":"INDEX(الالتزام!A:BA,$AC$2,AB64)","v":{"$error":"#REF!"}},null,null,null,50,"Cinquante"]
[null,null,null,null,null,null,null,null,null,null,null,null,null,null,null,null,null,null,null,null,null,null,null,null,null,null,null,62,{"$f":"INDEX(الالتزام!A:BA,$AC$2,AB65)","v":{"$error":"#REF!"}},null,null,null,51,"Cinquante et  Un"]
[null,null,null,null,null,null,null,null,null,null,null,null,null,null,null,null,null,null,null,null,null,null,null,null,null,null,null,63,{"$f":"INDEX(الالتزام!A:BA,$AC$2,AB66)","v":{"$error":"#REF!"}},null,null,null,52,"Cinquante deux"]
[null,null,null,null,null,null,null,null,null,null,null,null,null,null,null,null,null,null,null,null,null,null,null,null,null,null,null,64,{"$f":"INDEX(الالتزام!A:BA,$AC$2,AB67)","v":{"$error":"#REF!"}},null,null,null,53,"Cinquante Trois"]
[null,null,null,null,null,null,null,null,null,null,null,null,null,null,null,null,null,null,null,null,null,null,null,null,null,null,null,65,{"$f":"INDEX(الالتزام!A:BA,$AC$2,AB68)","v":{"$error":"#REF!"}},null,null,null,54,"Cinquante Quatre"]
[null,null,null,null,null,null,null,null,null,null,null,null,null,null,null,null,null,null,null,null,null,null,null,null,null,null,null,65,{"$f":"INDEX(الالتزام!A:BA,$AC$2,AB69)","v":{"$error":"#REF!"}},null,null,null,55,"Cinquante Cinq"]
[null,null,null,null,null,null,null,null,null,null,null,null,null,null,null,null,null,null,null,null,null,null,null,null,null,null,null,59,{"$f":"INDEX(الالتزام!A:BA,$AC$2,AB70)","v":{"$error":"#REF!"}},null,null,null,56,"Cinquante six"]
[null,null,null,null,null,null,null,null,null,null,null,null,null,null,null,null,null,null,null,null,null,null,null,null,null,null,null,60,{"$f":"INDEX(الالتزام!A:BA,$AC$2,AB71)","v":{"$error":"#REF!"}},null,null,null,57,"Cinquante Sept"]
[null,null,null,null,null,null,null,null,null,null,null,null,null,null,null,null,null,null,null,null,null,null,null,null,null,null,null,61,{"$f":"INDEX(الالتزام!A:BA,$AC$2,AB72)","v":{"$error":"#REF!"}},null,null,null,58,"Cinquante Huit"]
[null,null,null,null,null,null,null,null,null,null,null,null,null,null,null,null,null,null,null,null,null,null,null,null,null,null,null,62,{"$f":"INDEX(الالتزام!A:BA,$AC$2,AB73)","v":{"$error":"#REF!"}},null,null,null,59,"Cinquante Neuf"]
[null,null,null,null,null,null,null,null,null,null,null,null,null,null,null,null,null,null,null,null,null,null,null,null,null,null,null,63,{"$f":"INDEX(الالتزام!A:BA,$AC$2,AB74)","v":{"$error":"#REF!"}},null,null,null,60,"Soixante"]
[null,null,null,null,null,null,null,null,null,null,null,null,null,null,null,null,null,null,null,null,null,null,null,null,null,null,null,64,{"$f":"INDEX(الالتزام!A:BA,$AC$2,AB75)","v":{"$error":"#REF!"}},null,null,null,61,"Soixante et  Un"]
[null,null,null,null,null,null,null,null,null,null,null,null,null,null,null,null,null,null,null,null,null,null,null,null,null,null,null,null,{"$f":"INDEX(الالتزام!A:BA,$AC$2,AB76)","v":0},null,null,null,62,"Soixante Deux"]
[null,null,null,null,null,null,null,null,null,null,null,null,null,null,null,null,null,null,null,null,null,null,null,null,null,null,null,null,{"$f":"INDEX(الالتزام!A:BA,$AC$2,AB77)","v":0},null,null,null,63,"Soixante Trois"]
[null,null,null,null,null,null,null,null,null,null,null,null,null,null,null,null,null,null,null,null,null,null,null,null,null,null,null,null,{"$f":"INDEX(الالتزام!G:AH,$AC$2,AB78)","v":0},null,null,null,64,"Soixante Quatre"]
[null,null,null,null,null,null,null,null,null,null,null,null,null,null,null,null,null,null,null,null,null,null,null,null,null,null,null,null,{"$f":"INDEX(الالتزام!G:AH,$AC$2,AB79)","v":0},null,null,null,65,"Soixante cinq"]
[null,null,null,null,null,null,null,null,null,null,null,null,null,null,null,null,null,null,null,null,null,null,null,null,null,null,null,null,{"$f":"INDEX(الالتزام!G:AH,$AC$2,AB80)","v":0},null,null,null,66,"Soixante Six"]
[null,null,null,null,null,null,null,null,null,null,null,null,null,null,null,null,null,null,null,null,null,null,null,null,null,null,null,null,{"$f":"INDEX(الالتزام!G:AH,$AC$2,AB81)","v":0},null,null,null,67,"Soixante Sept"]
[null,null,null,null,null,null,null,null,null,null,null,null,null,null,null,null,null,null,null,null,null,null,null,null,null,null,null,null,null,null,null,null,68,"Soixante huit"]
[null,null,null,null,null,null,null,null,null,null,null,null,null,null,null,null,null,null,null,null,null,null,null,null,null,null,null,null,null,null,null,null,69,"Soixante neuf"]
[null,null,null,null,null,null,null,null,null,null,null,null,null,null,null,null,null,null,null,null,null,null,null,null,null,null,null,null,null,null,null,null,70,"Soixante Dix"]
[null,null,null,null,null,null,null,null,null,null,null,null,null,null,null,null,null,null,null,null,null,null,null,null,null,null,null,null,null,null,null,null,71,"Soixante et Onze"]
[null,null,null,null,null,null,null,null,null,null,null,null,null,null,null,null,null,null,null,null,null,null,null,null,null,null,null,null,null,null,null,null,72,"Soixante Douze"]
[null,null,null,null,null,null,null,null,null,null,null,null,null,null,null,null,null,null,null,null,null,null,null,null,null,null,null,null,null,null,null,null,73,"Soixante Treize"]
[null,null,null,null,null,null,null,null,null,null,null,null,null,null,null,null,null,null,null,null,null,null,null,null,null,null,null,null,null,null,null,null,74,"Soixante Quatorze"]
[null,null,null,null,null,null,null,null,null,null,null,null,null,null,null,null,null,null,null,null,null,null,null,null,null,null,null,null,null,null,null,null,75,"Soixante Quinze"]
[null,null,null,null,null,null,null,null,null,null,null,null,null,null,null,null,null,null,null,null,null,null,null,null,null,null,null,null,null,null,null,null,76,"Soixante Seize"]
[null,null,null,null,null,null,null,null,null,null,null,null,null,null,null,null,null,null,null,null,null,null,null,null,null,null,null,null,null,null,null,null,77,"Soixante Dix-sept"]
[null,null,null,null,null,null,null,null,null,null,null,null,null,null,null,null,null,null,null,null,null,null,null,null,null,null,null,null,null,null,null,null,78,"Soixante Dix-huit"]
[null,null,null,null,null,null,null,null,null,null,null,null,null,null,null,null,null,null,null,null,null,null,null,null,null,null,null,null,null,null,null,null,79,"Soixante Dix-neuf"]
[null,null,null,null,null,null,null,null,null,null,null,null,null,null,null,null,null,null,null,null,null,null,null,null,null,null,null,null,null,null,null,null,80,"Quatre-vingt"]
[null,null,null,null,null,null,null,null,null,null,null,null,null,null,null,null,null,null,null,null,null,null,null,null,null,null,null,null,null,null,null,null,81,"Quatre-vingt et  Un"]
[null,null,null,null,null,null,null,null,null,null,null,null,null,null,null,null,null,null,null,null,null,null,null,null,null,null,null,null,null,null,null,null,82,"Quatre-vingt Deux"]
[null,null,null,null,null,null,null,null,null,null,null,null,null,null,null,null,null,null,null,null,null,null,null,null,null,null,null,null,null,null,null,null,83,"Quatre-vingt Trois"]
[null,null,null,null,null,null,null,null,null,null,null,null,null,null,null,null,null,null,null,null,null,null,null,null,null,null,null,null,null,null,null,null,84,"Quatre-vingt Quatre"]
[null,null,null,null,null,null,null,null,null,null,null,null,null,null,null,null,null,null,null,null,null,null,null,null,null,null,null,null,null,null,null,null,85,"Quatre-vingt Cinq"]
[null,null,null,null,null,null,null,null,null,null,null,null,null,null,null,null,null,null,null,null,null,null,null,null,null,null,null,null,null,null,null,null,86,"Quatre-vingt Six"]
[null,null,null,null,null,null,null,null,null,null,null,null,null,null,null,null,null,null,null,null,null,null,null,null,null,null,null,null,null,null,null,null,87,"Quatre-vingt Sept"]
[null,null,null,null,null,null,null,null,null,null,null,null,null,null,null,null,null,null,null,null,null,null,null,null,null,null,null,null,null,null,null,null,88,"Quatre-vingt Huit"]
[null,null,null,null,null,null,null,null,null,null,null,null,null,null,null,null,null,null,null,null,null,null,null,null,null,null,null,null,null,null,null,null,89,"Quatre vingt neuf"]
[null,null,null,null,null,null,null,null,null,null,null,null,null,null,null,null,null,null,null,null,null,null,null,null,null,null,null,null,null,null,null,null,90,"Quatre-vingt Dix"]
[null,null,null,null,null,null,null,null,null,null,null,null,null,null,null,null,null,null,null,null,null,null,null,null,null,null,null,null,null,null,null,null,91,"Quatre-vingt Onze"]
[null,null,null,null,null,null,null,null,null,null,null,null,null,null,null,null,null,null,null,null,null,null,null,null,null,null,null,null,null,null,null,null,92,"Quatre-vingt Douze"]
[null,null,null,null,null,null,null,null,null,null,null,null,null,null,null,null,null,null,null,null,null,null,null,null,null,null,null,null,null,null,null,null,93,"Quatre-vingt Treize"]
[null,null,null,null,null,null,null,null,null,null,null,null,null,null,null,null,null,null,null,null,null,null,null,null,null,null,null,null,null,null,null,null,94,"Quatre-vingt Quatorze"]
[null,null,null,null,null,null,null,null,null,null,null,null,null,null,null,null,null,null,null,null,null,null,null,null,null,null,null,null,null,null,null,null,95,"Quatre-vingt Quinze"]
[null,null,null,null,null,null,null,null,null,null,null,null,null,null,null,null,null,null,null,null,null,null,null,null,null,null,null,null,null,null,null,null,96,"Quatre-vingt Seize"]
[null,null,null,null,null,null,null,null,null,null,null,null,null,null,null,null,null,null,null,null,null,null,null,null,null,null,null,null,null,null,null,null,97,"Quatre-vingt Dix-sept"]
[null,null,null,null,null,null,null,null,null,null,null,null,null,null,null,null,null,null,null,null,null,null,null,null,null,null,null,null,null,null,null,null,98,"Quatre-vingt Dix-huit"]
[null,null,null,null,null,null,null,null,null,null,null,null,null,null,null,null,null,null,null,null,null,null,null,null,null,null,null,null,null,null,null,null,99,"Quatre-vingt Dix-neuf"]

{"sheet":"هام جدا","index":3,"n_rows":104,"n_cols":36,"rows_kept":104,"cut":false,"hidden":false,"merged":[]}
[null,null,null,"DECALER(تسديد_المصاريف;1;EQUIV(G2;المادة_01;0)-1);NBVAL(DECALER(تسديد_المصاريف;;EQUIV(G2;المادة_01;0)-1))-1",null,{"$f":"INDEX(J28:K50,MATCH(F2,K28:K50,0),1)","v":302},null,null,null,null,null,null,"Listes en cascade "]
[null,null,null,null,null,"المنح المدرسية","منحة التجهيز لفائدة التلاميذ",null,null,null,null,null,null,"DECALER(Choix2;1;EQUIV(D12;choix1;0)-1;NBVAL(DECALER(Choix2;;EQUIV(D12;choix1;0)-1))-1="]
[]
["تسديد المصاريف","التكاليف الملحقة","اللوازم","الأدوات و الأثاث","اللوازم البيداغوجية","نفقات الإطعام","الألبسة","التأمين","مصاريف التكوين ","حظيرة السيارات","نفقات تسيير وحدات الكشف و المتابعة (UDS)","المكتبة المدرسية ","النفقات المتعلقة بالنشاط الثقافي والرياضي","صيانة و تصليح المباني البيداغوجية والإدارية ","المصاريف القضائية والتعويضات المستخقة على عاتق الدولة ","نفقات تسيير أقسام الرياضة والدراسة ","منحة التمدرس الخاصة لفائدة التلاميذ المعوزين","المنح المدرسية","نفقات الكتاب المدرسي","نفقات النشاط التربوي الإستثنائي","نفقات اعادة الادراج","نفقات في انتظار التعيين","نفقات اجتماعية لخدمة التلاميذ",null,null,null,null,null,null,null,null,null,null,null,null,"نفقات اجتماعية لفائدة التلاميذ"]
["مصاريف المهام و التنقلات والاستقبالات داخل التراب الوطني و الخرجات البيداغوجية","الماء، الكهرباء و الغاز، الوقود، والطاقة الشمسية","اقتناء لوازم المكتب","تجديد وصيانة أدوات وأثاث المكاتب والعتاد المدرسي","لوازم  التجارب","إطعام التلاميذ","ملابس العمال المهنيين","تأمين التلاميذ أثناء الخرجات البيداغوجية","نفقات التكوين ما قبل الترقية","اقتناء وتجديد السيارات","نفقات تسيير وحدات الكشف والمتابعة (UDS)","شراء كتب ومجلات تربوية","النفقات المتعلقة بالنشاط الثقافي ","صيانة وتصليح المباني البيدغوجية والإدارية ","المصاريف القضائية والتعويضات المستحقة على عاتق الدولة ","مصاريف الإطعام","منحة التمدرس الخاصة لفائدة التلاميذ المعوزين","منحة التجهيز لفائدة التلاميذ","تعويض النفقات المرتبطة بمجانية الكتاب المدرسي لفائدة التلاميذ المعوزين","الإطعام","نفقات اعادة الادراج","نفقات في انتظار التعيين","نفقات اجتماعية لخدمة التلاميذ",null,null,null,null,null,null,null,null,null,null,null,null,"نفقات اجتماعية لفائدة التلاميذ"]
["مصاريف الدراسة، الخبرة، المحامون والمحضرون القضائيون","مصاريف البريد والمواصلات ( اتاوات الهاتف، التلكس، الانترنيت والرسوم المختلفة )","مستهلكات وبرامج الإعلام الآلي","اقتناء و صيانة أجهزة الإعلام الآلي","مواد التجارب والكواشف ومواد المخابر","إطعام المستخدمين = العددx المدة x سعر الوجبة",null,null,"نفقات الامتحانات و المسابقات المهنية","الوقود والزيوت",null,"الإشتراك في المجلات والدوريات البيداغوجية","النفقات المتعلقة بالنشاط الرياضي","اقتناء مواد البناء، الترصيص، الخردوات، كهرباء، التدفئة التكييف وأدوات الصيانة الصغيرة",null,"نقل وتأمين التلاميذ",null,null,"تسديد مستحقات الديوان الوطني للمطبوعات المدرسية من بيع الكتاب المدرسي","مصاريف الإقامة و التمدرس"]
[null,"مصاريف الإعلان في الصحف","مصاريف النسخ والطبع","اقتناء وصيانة أدوات الوقاية والأمن","الإستنساخ ، الطباشير ، الأقلام ، الطلاسات وغيرها","إطعام المدعوين و آخرون= العددx المدة x سعر الوجبة",null,null,"تشجيع التكوين أثناء الخدمة و عن بعد لمعلمي التعليم الإبتدائي","صيانة وتصليح و شحن السيارات وشراء قطع الغيار",null,null,null,"صيانة المساحات الخضراء والمسالك",null,"إقتناء الأدوات واللوازم الرياضية والبياغوجية "]
[null,"تعويض مصاريف الاستهلاك المنزلي للكهرباء و الغاز بنسبة 50% للجنوب","البياضة","تجديد و صيانة لوازم ومستلزمات المطعم",null,null,null,null,null,"اقتناء العجلات"]
[null,"اقتناء و تركيب لواحق الهاتف والربط بالأنترنيت","المواد الصيدلانية","اقتناء الستائر و الأعلام و لوازم الداخلية",null,null,null,null,null,"مصاريف الترقيم والتعريف"]
[null,"تأمين المباني","مواد التنظيف",null,null,null,null,null,null,"تأمين السيارات"]
[null,null,null,null,null,null,null,null,null,"مصاريف اقتناء قسيمة السيارات"]
[]
[]
[]
[]
[]
[]
[]
[]
[]
[]
[]
[]
[]
[]
[]
[]
[null,null,null,null,null,null,null,null,null,101,"تسديد المصاريف","تسديد المصاريف"]
[null,null,null,null,null,null,null,null,null,102,"التكاليف الملحقة","مصاريف المهام و التنقلات والاستقبالات داخل التراب الوطني و الخرجات البيداغوجية"]
[null,null,null,null,null,null,null,null,null,103,"اللوازم","مصاريف الدراسة، الخبرة، المحامون والمحضرون القضائيون"]
[null,null,null,null,null,null,null,null,null,104,"الأدوات و الأثاث","التكاليف الملحقة"]
[null,null,null,null,null,null,null,null,null,105,"اللوازم البيداغوجية","الماء، الكهرباء و الغاز، الوقود، والطاقة الشمسية"]
[null,null,null,null,null,null,null,null,null,106,"نفقات الإطعام","مصاريف البريد والمواصلات ( اتاوات الهاتف، التلكس، الانترنيت والرسوم المختلفة )"]
[null,null,null,null,null,null,null,null,null,107,"الألبسة","مصاريف الإعلان في الصحف"]
[null,null,null,null,null,null,null,null,null,108,"التأمين","تعويض مصاريف الاستهلاك المنزلي للكهرباء و الغاز بنسبة 50% للجنوب"]
[null,null,null,null,null,null,null,null,null,109,"مصاريف التكوين ","اقتناء و تركيب لواحق الهاتف والربط بالأنترنيت"]
[null,null,null,null,null,null,null,null,null,110,"حظيرة السيارات","تأمين المباني"]
[null,null,null,null,null,null,null,null,null,111,"نفقات تسيير وحدات الكشف و المتابعة (UDS)","اللوازم"]
[null,null,null,null,null,null,null,null,null,112,"المكتبة المدرسية ","اقتناء لوازم المكتب"]
[null,null,null,null,null,null,null,null,null,113,"النفقات المتعلقة بالنشاط الثقافي والرياضي","مستهلكات وبرامج الإعلام الآلي"]
[null,null,null,null,null,null,null,null,null,114,"صيانة و تصليح المباني البيداغوجية والإدارية ","مصاريف النسخ والطبع"]
[null,null,null,null,null,null,null,null,null,115,"المصاريف القضائية والتعويضات المستخقة على عاتق الدولة ","البياضة"]
[null,null,null,null,null,null,null,null,null,201,"نفقات تسيير أقسام الرياضة والدراسة ","المواد الصيدلانية"]
[null,null,null,null,null,null,null,null,null,301,"منحة التمدرس الخاصة لفائدة التلاميذ المعوزين","مواد التنظيف"]
[null,null,null,null,null,null,null,null,null,302,"المنح المدرسية","الأدوات و الأثاث"]
[null,null,null,null,null,null,null,null,null,303,"نفقات الكتاب المدرسي","تجديد وصيانة أدوات وأثاث المكاتب والعتاد المدرسي"]
[null,null,null,null,null,null,null,null,null,304,"نفقات النشاط التربوي الإستثنائي","اقتناء و صيانة أجهزة الإعلام الآلي"]
[null,null,null,null,null,null,null,null,null,511,"نفقات اعادة الادراج","اقتناء وصيانة أدوات الوقاية والأمن"]
[null,null,null,null,null,null,null,null,null,512,"نفقات في انتظار التحويل","تجديد و صيانة لوازم ومستلزمات المطعم"]
[null,null,null,null,null,null,null,null,null,513,"نفقات اجتماعية لفائدة التلاميذ","اقتناء الستائر و الأعلام و لوازم الداخلية"]
[null,null,null,null,null,null,null,null,null,null,null,"اللوازم البيداغوجية"]
[null,null,null,null,null,null,null,null,null,null,null,"لوازم  التجارب"]
[null,null,null,null,null,null,null,null,null,null,null,"مواد التجارب والكواشف ومواد المخابر"]
[null,null,null,null,null,null,null,null,null,null,null,"الإستنساخ ، الطباشير ، الأقلام ، الطلاسات وغيرها"]
[null,null,null,null,null,null,null,null,null,null,null,"إطعام التلاميذ"]
[null,null,null,null,null,null,null,null,null,null,null,"داخليين= العددx المدة x سعر الوجبة"]
[null,null,null,null,null,null,null,null,null,null,null,"نصف الداخليين= العددx المدة x سعر الوجبة"]
[null,null,null,null,null,null,null,null,null,null,null,"إطعام المستخدمين = العددx المدة x سعر الوجبة"]
[null,null,null,null,null,null,null,null,null,null,null,"إطعام المدعوين و آخرون= العددx المدة x سعر الوجبة"]
[null,null,null,null,null,null,null,null,null,null,null,"الألبسة"]
[null,null,null,null,null,null,null,null,null,null,null,"ملابس العمال المهنيين"]
[null,null,null,null,null,null,null,null,null,null,null,"تأمين التلاميذ أثناء الخرجات البيداغوجية"]
[null,null,null,null,null,null,null,null,null,null,null,"تأمين التلاميذ أثناء الخرجات البيداغوجية"]
[null,null,null,null,null,null,null,null,null,null,null,"مصاريف التكوين والتحسين المستمرللمستوى المنظم على المستوى الولائي"]
[null,null,null,null,null,null,null,null,null,null,null,"نفقات التكوين ما قبل الترقية"]
[null,null,null,null,null,null,null,null,null,null,null,"نفقات الامتحانات و المسابقات المهنية"]
[null,null,null,null,null,null,null,null,null,null,null,"تشجيع التكوين أثناء الخدمة و عن بعد لمعلمي التعليم الإبتدائي"]
[null,null,null,null,null,null,null,null,null,null,null,"حظيرة السيارات"]
[null,null,null,null,null,null,null,null,null,null,null,"اقتناء وتجديد السيارات"]
[null,null,null,null,null,null,null,null,null,null,null,"الوقود والزيوت"]
[null,null,null,null,null,null,null,null,null,null,null,"صيانة وتصليح و شحن السيارات وشراء قطع الغيار"]
[null,null,null,null,null,null,null,null,null,null,null,"اقتناء العجلات"]
[null,null,null,null,null,null,null,null,null,null,null,"مصاريف الترقيم والتعريف"]
[null,null,null,null,null,null,null,null,null,null,null,"تأمين السيارات"]
[null,null,null,null,null,null,null,null,null,null,null,"مصاريف اقتناء قسيمة السيارات"]
[null,null,null,null,null,null,null,null,null,null,null,"مصاريف المراقبة التقنية للسيارات"]
[null,null,null,null,null,null,null,null,null,null,null,"نفقات تسيير وحدات الكشف والمتابعة (UDS)"]
[null,null,null,null,null,null,null,null,null,null,null,"نفقات تسيير وحدات الكشف والمتابعة (UDS)"]
[null,null,null,null,null,null,null,null,null,null,null,"المكتبة المدرسية"]
[null,null,null,null,null,null,null,null,null,null,null,"شراء كتب ومجلات تربوية"]
[null,null,null,null,null,null,null,null,null,null,null,"الإشتراك في المجلات والدوريات البيداغوجية"]
[null,null,null,null,null,null,null,null,null,null,null,"النفقات المتعلقة بالنشاط الثقافي والرياضي"]
[null,null,null,null,null,null,null,null,null,null,null,"النفقات المتعلقة بالنشاط الثقافي "]
[null,null,null,null,null,null,null,null,null,null,null,"النفقات المتعلقة بالنشاط الرياضي"]
[null,null,null,null,null,null,null,null,null,null,null,"صيانة وتصليح المباني البيداغوجية والإدارية "]
[null,null,null,null,null,null,null,null,null,null,null,"صيانة وتصليح المباني البيدغوجية والإدارية "]
[null,null,null,null,null,null,null,null,null,null,null,"اقتناء مواد البناء، الترصيص، الخردوات، كهرباء، التدفئة التكييف وأدوات الصيانة الصغيرة"]
[null,null,null,null,null,null,null,null,null,null,null,"صيانة المساحات الخضراء والمسالك"]
[null,null,null,null,null,null,null,null,null,null,null,"المصاريف القضائية والتعويضات المستحقة على عاتق الدولة "]
[null,null,null,null,null,null,null,null,null,null,null,"المصاريف القضائية والتعويضات المستحقة على عاتق الدولة "]
[null,null,null,null,null,null,null,null,null,null,null,"نفقات تسيير أقسام الرياضة والدراسة"]
[null,null,null,null,null,null,null,null,null,null,null,"مصاريف الإطعام"]
[null,null,null,null,null,null,null,null,null,null,null,"نقل وتأمين التلاميذ"]
[null,null,null,null,null,null,null,null,null,null,null,"إقتناء الأدوات واللوازم الرياضية والبياغوجية "]
[null,null,null,null,null,null,null,null,null,null,null,"منحة التمدرس الخاصة لفائدة التلاميذ المعوزين"]
[null,null,null,null,null,null,null,null,null,null,null,"منحة التمدرس الخاصة لفائدة التلاميذ المعوزين"]
[null,null,null,null,null,null,null,null,null,null,null,"المنح المدرسية"]
[null,null,null,null,null,null,null,null,null,null,null,"منحة التجهيز لفائدة التلاميذ"]
[null,null,null,null,null,null,null,null,null,null,null,"نفقات الكتاب المدرسي"]
[null,null,null,null,null,null,null,null,null,null,null,"تعويض النفقات المرتبطة بمجانية الكتاب المدرسي لفائدة التلاميذ المعوزين"]
[null,null,null,null,null,null,null,null,null,null,null,"تسديد مستحقات الديوان الوطني للمطبوعات المدرسية من بيع الكتاب المدرسي"]
[null,null,null,null,null,null,null,null,null,null,null,"نفقات النشاط التربوي الإستثنائي"]
[null,null,null,null,null,null,null,null,null,null,null,"الإطعام"]
[null,null,null,null,null,null,null,null,null,null,null,"مصاريف الإقامة و التمدرس"]

{"sheet":"Four","index":4,"n_rows":57,"n_cols":16,"rows_kept":57,"cut":false,"hidden":false,"merged":[[16,10,18,11]]}
["الرمز","اسم ولقب الممون  ","المركز البنكي","رقم الحساب البنكي","اسم البنك","اسم البنك","العنوان",null,null,"معلومات اخرى","تحقق من رقم الحساب البريدي","تحقق من رقم الحساب البنكي",null,"code","nom","ism"]
[1,"إتصالات الجــــزائر","العلمة","/",{"$f":"LEFT(D2,3)","v":"/"},{"$f":"LOOKUP(LEFT(D2,3),$N$2:$N$25,$P$2:$P$25)","v":{"$error":"#N/A"}},"العلمة",null,null,{"$f":"MATCH(K2,D:D)","v":30},"007999990006470694 55","005003284002299150 96","ب و ج","001","B-N-A","ب و ج"]
[2,"شركة توزيع الكهرباء شرق ","ولاية سطيف","007999990000380676 62",{"$f":"LOOKUP(LEFT(D3,3),$N$2:$N$25,$O$2:$O$25)","v":"CCP"},{"$f":"LOOKUP(LEFT(D3,3),$N$2:$N$25,$P$2:$P$25)","v":"ح ج ب"},"ولاية سطيف",null,null,{"$f":"MATCH(L2,D:D)+1","v":31},{"$f":"RIGHT(K2,13)","v":"0006470694 55"},{"$f":"+MID(L2,4,15)","v":"003284002299150"},"ب خ ج","002","B-E-A","ب خ ج"]
[3,"الجـــــــزائريــــة للمــــــــياه","ولاية سطيف","/","...","..","ولاية سطيف",null,null,null,{"$f":"LEFT(K3,10)","v":"0006470694"},{"$f":"L3*100","v":328400229915000},"ب ف ت ر","003","B-A-D-R","ب ف ت ر"]
[4,"CRDDP ","سطيف","00819001119000448233","...","..","العلمة",null,null,null,{"$f":"K4*100","v":647069400},{"$f":"+L4/97","v":3385569380567.0103},"ث ش ج","004","C-P-A","ق ش ج"]
[5,"مقتصـــد المؤسســة","سطيف","00819001119000420103",{"$f":"LOOKUP(LEFT(D6,3),$N$2:$N$25,$O$2:$O$25)","v":"TP"},"خزينة الولاية","عين الحجر",null,null,null,{"$f":"+MOD(K5,97)","v":54},{"$f":"+INT(L5)","v":3385569380567},"ب ت م","005","B-D-L","ب ت م"]
[6,"اللجنة الولائية للتضامن المدرسي","سطيف","00819001119000448233","TP","خزينة الولاية","سطيف",null,null,null,85,{"$f":"+L6*97","v":328400229914999},"بركة","006","BARAKA","براكة"]
[7,"تعاضدية المساعدة المدرسية للشرق","قسنطينة","00300831010229200053","B-A-D-R","ب ف ت ر","قسنطينة",null,null,null,{"$f":"IF(K7+K6>97,K7+K6-97,K7+K6)","v":42},{"$f":"L4-L7","v":1},"ح ج ب","007","CCP","ح ج ب"]
[8,"الإتحادية الولائية للأعمال المكملة للمدرسة","سطيف","00819001119000210476","TP","خزينة الولاية","سطيف",null,null,null,{"$f":"97-K8","v":55},{"$f":"IF((97-L8)<10,0&(97-L8),97-L8)","v":96},"خزينة","008","TP","خزينة الولاية"]
[9,"الرابطة الولائية للرياضة المدرسية","سطيف","00819001119000162849","TP","خزينة الولاية","سطيف",null,null,null,{"$f":"IF(K9<10,\"0\"&K9,K9)","v":55},{"$f":"RIGHT(L2,2)","v":"96"},"ب ج ت","009","BAD","ب ج ت"]
[10,"المعنيون والمؤطرون","عين الحجر","/",{"$error":"#N/A"},{"$error":"#N/A"},"عين الحجر",null,null,null,{"$f":"RIGHT(K2,2)","v":"55"},{"$f":"RIGHT(L2,2)","v":"96"},null,"010","CNMA","ص و ت ف"]
[11,"شركة التضامن العايب وطويجن","عين الحجر","00799999000989501765","CCP","ح ج ب","عين الحجر",null,null,null,{"$f":"LEN(K2)","v":21},{"$f":"LEN(L2)","v":21},"ص و ت ا","011","CNEP","ص و ت ا"]
[12,"مؤسسة أشغال البناء والري والأشغال العمومية بارة عبد الحفيظ","العلمــة","00400327400000273757","C-P-A","ق ش ج","عين الحجر",null,null,null,{"$f":"IF(K12=21,\"ممتاز\",\"خطأ في عدد الارقام\")","v":"ممتاز"},{"$f":"IF(L12=21,\"ممتاز\",\"خطأ في عدد الارقام\")","v":"ممتاز"},null,"012","CITY_BANK","سيتي بنك"]
[13,"التونسي سعيدي","عين آزال","00300699001265300077","B-A-D-R","ب ف ت ر","عين الحجر",null,null,null,{"$f":"IF(K10-K11=0,\"صحيح\",\"خطا في مفتاح الحساب\")","v":"صحيح"},{"$f":"IF(L10-L11=0,\"صحيح\",\"خطا في مفتاح الحساب\")","v":"صحيح"},"ج ب ","014","ABC_CORP","ابيسي كورب"]
[14,null,null,null,{"$error":"#N/A"},{"$error":"#N/A"},null,null,null,null,null,null,null,"020","NATEXIS","ناتكسيس"]
[15,"منصور بروشي","عين آزال","00300699010254300068","B-A-D-R","ب ف ت ر","عين الحجر",null,null,null,null,null,"سوسيتي جنرال","021","SOCIETE-G","سوسيتي جنرال"]
[16,"نبيل بلقيدوم","عين آزال","00300699010082300056","B-A-D-R","ب ف ت ر","عين الحجر",null,null,null,"يكتب رقم الحساب : 18 رقم الاولى ثم فراغ ثم الرقمين الاخيرين",null,null,"026","ARAB_BANK_PLC","بنك العرب"]
[17,"فريد خلفاوي","عين آزال","00400357400000891020","C-P-A","ق ش ج","عين الحجر",null,null,null,null,null,"بي سي يا","027","BNP","بي ان بي"]
[18,"عباس عبد العزيز","سطيف","00200036360456201113","B-E-A","ب خ ج","سطيف",null,null,null,null,null,null,"029","TRUST_BANK","تروست بنك"]
[19,"فيصل شتيوي","عين آزال","01100357100000770367","CNEP","ص و ت ا","عين الحجر",null,null,null,null,null,null,"031","HOUSING_BANK_AG","هوستيك بنك"]
[20,"مختار بلعوط","سطيف","00400364400001051787","C-P-A","ق ش ج","سطيف",null,null,null,null,null,null,"032","ALGERIA_GULF_BANK","بنك الخليج الجزائري"]
[21,"كياس رضوان","عين آزال","00400357400067811126","C-P-A","ق ش ج","عين الحجر",null,null,null,null,null,null,"035","FRANSABANK","فرنس بنك"]
[22,"ش ذ م م ميتاغروب","سطيف","00500374400242805066","B-D-L","ب ت م","سطيف",null,null,null,null,null,null,"036","CALYON","كاليون"]
[23,"أولياء التلاميــذ","عين الحجر","/",{"$error":"#N/A"},{"$error":"#N/A"},"عين الحجر",null,null,null,null,null,null,"037","HSBC ALGERIA","اش اس بي سي "]
[24,"صلاح الدين بلقيدوم","عين آزال","00400357400080531124","C-P-A","ق ش ج","عين آزال",null,null,null,null,null,null,"038","AL_SALAM_BANK_ALGERIA","السلام بنك"]
[25,"حاج صحراوي بلال","العلمـة","00400327400001534369","C-P-A","ق ش ج","العلمـة"]
[26,"بلقيدوم فوزي","عين الحجر","00799999002003650442","CCP","ح ج ب","عين الحجر"]
[27,"فطيمة جبار","حمام السخنة","00300713002002300042","B-A-D-R","ب ف ت ر","حمام السخنة"]
[28,"فليفلة حدة","عين ولمان","00400351400000640478","C-P-A","ق ش ج","عين ولمان"]
[29,"المطبعة الرسمية","عميروش الجزائر","00300060000768300050","B-A-D-R","ب ف ت ر","عميروش الجزائر"]
[30,"موظفي المؤسســــة","الجــزائر","أرقام الحسابات الجارية للموظفين",{"$f":"LOOKUP(LEFT(D31,3),$N$2:$N$25,$O$2:$O$25)","v":"AL_SALAM_BANK_ALGERIA"},{"$f":"LOOKUP(LEFT(D31,3),$N$2:$N$25,$P$2:$P$25)","v":"السلام بنك"},"الجــزائر"]
[31,"العقون عبد الرحمان","عين الحجر","00799999001461386201","....","...","عين الحجر"]
[32,"ميكرولوجيسيال","سطيف","00100711030000060236","B-N-A","ب و ج","سطيف"]
[33,"مقيرش نعيم","عين آزال","00400357400001089773","C-P-A","ق ش ج","عين الحجر"]
[34,"عوابد علاوة","عين الحجر","007999990006470694 55","CCP","ح ج ب","عين الحجر"]
[35,"سترة العمرية","عين ولمان","00300700102155300048","B-A-D-R","ب ف ت ر","عين ولمان"]
[36,"بلقيدوم عبد العالي","عين الحجر",7.99999000937744E+17,"AL_SALAM_BANK_ALGERIA","السلام بنك","عين الحجر"]
[37,"ليتيم فارس","بيضاء البرج","00799999001880424164","CCP","ح ج ب","بيضاء البرج"]
[38,"أمين خزينة ولاية سطيف","سطيف","   201007السطر10-07",{"$f":"LOOKUP(LEFT(D39,3),$N$2:$N$25,$O$2:$O$25)","v":{"$error":"#N/A"}},{"$f":"LOOKUP(LEFT(D39,3),$N$2:$N$25,$P$2:$P$25)","v":{"$error":"#N/A"}},"سطيف"]
[39,"عبد الغاني بلة","وكالة 371 سطيف","01100371100000709721","CNEP","ص و ت ا","سطيف"]
[40,"بعداش أحمد","سطيف","00200036036220004616","B-E-A","ب خ ج","عين الحجر"]
[41,null,null,null,{"$error":"#N/A"},{"$error":"#N/A"},"الجزائر"]
[42,null,null,null,{"$error":"#N/A"},{"$error":"#N/A"},"الجزائر"]
[43,null,null,null,{"$error":"#N/A"},{"$error":"#N/A"},"الجزائر"]
[44,null,null,null,{"$error":"#N/A"},{"$error":"#N/A"},"الجزائر"]
[45,null,null,null,{"$error":"#N/A"},{"$error":"#N/A"},"الجزائر"]
[46,null,null,null,{"$error":"#N/A"},{"$error":"#N/A"},"الجزائر"]
[47,null,null,null,{"$error":"#N/A"},{"$error":"#N/A"},"الجزائر"]
[48,null,null,null,{"$error":"#N/A"},{"$error":"#N/A"},"الجزائر"]
[49,null,null,null,{"$error":"#N/A"},{"$error":"#N/A"},"الجزائر"]
[50,null,null,null,{"$error":"#N/A"},{"$error":"#N/A"}]
[51,null,null,null,{"$error":"#N/A"},{"$error":"#N/A"},"سطيف"]
[null,null,null,null,{"$error":"#N/A"},{"$error":"#N/A"},"سطيف"]
[null,null,"الجزائر","007999990002377839 69","CCP","ح ج ب","الجزائر"]
[null,null,"الجزائر","007999990000790568 55","CCP","ح ج ب","الجزائر"]
[null,null,"الجزائر","007999990010088670 39","CCP","ح ج ب","الجزائر"]
[null,null,"الجزائر","007999990009255349 21","CCP","ح ج ب","الجزائر"]

{"sheet":"BG","index":5,"n_rows":163,"n_cols":32,"rows_kept":163,"cut":false,"hidden":false,"merged":[[0,10,0,12],[0,16,0,19],[2,23,2,26],[2,28,2,31]]}
["الواجهة","ميزانية ",null,null,2017,null,null,null,null,null,"جانب النفقات",null,null,null,"ميزانية ",{"$f":"[4]MENU!J10","v":2018},"جانب الايرادات"]
["الرمز","اسم االمادة","اسم الباب","اسم الفرع","الاعتماد المفتوح","الاعتماد الإضافي","المجموع","الزيادة","النقصان","الاعتماد النهائي","النفقــــــات","نسبة تنفيذ الميزانية","الباقي","الرمز","اسم المادةالايرادات","الاعتماد المفتوح","الايرادات","باقي التحصيل","ناقص القيمة","زائد القيمة"]
["1-01-1","مصاريف المهام و التنقلات والاستقبالات داخل التراب الوطني و الخرجات البيداغوجية","تسديد المصاريف","نفقات التسيير",null,null,null,null,null,null,null,null,null,"0101","إعانة التسيير للتغذية ",null,null,null,null,null,{"$f":"LEFT(A3,4)","v":"1-01"},{"$f":"LEFT(N3,2)","v":"01"},null,"النفقات",null,null,null,null,"الإيرادات"]
["1-01-2","مصاريف الدراسة، الخبرة، المحامون والمحضرون القضائيون","تسديد المصاريف","نفقات التسيير",null,null,null,null,null,null,null,null,null,"0102","إعانة التسيير للمصالح المشتركة",null,null,null,null,null,{"$f":"LEFT(A4,4)","v":"1-01"},{"$f":"LEFT(N4,2)","v":"01"},null,null,"الباب","النفقات المتوقعة","النفقات الفعلية","الرصيد",null,"الباب","الإيرادت المتوقعة","الإيرادت المفعلية"]
["1-02-1","الماء، الكهرباء و الغاز، الوقود، والطاقة الشمسية","التكاليف الملحقة","نفقات التسيير",null,null,null,null,null,null,null,null,null,"0103","إعانات التسيير الإضافية المختلفة",null,null,null,null,null,{"$f":"LEFT(A5,4)","v":"1-02"},"01",null,"1-01","تسديد المصاريف",{"$f":"SUMIF($U$3:$U$65,X5,$G$3:$G$65)","v":0},{"$f":"SUMIF($U$3:$U$65,X5,$K$3:$K$65)","v":0},{"$f":"Z5-AA5","v":0},"01","إعانات التسيير الممنوحة من طرف الدولة",{"$f":"SUMIF($V$3:$V$47,AC5,$P$3:$P$65)","v":0},{"$f":"SUMIF($V$3:$V$47,AC5,$Q$3:$Q$65)","v":0}]
["1-02-2","مصاريف البريد والمواصلات ( اتاوات الهاتف، التلكس، الانترنيت والرسوم المختلفة )","التكاليف الملحقة","نفقات التسيير",null,null,null,null,null,null,null,null,null,"0104","إعانات تسيير أقسام رياضة ودراسة",null,null,null,null,null,"1-02","01",null,"1-02","التكاليف الملحقة",{"$f":"SUMIF($U$3:$U$65,X6,$G$3:$G$65)","v":0},{"$f":"SUMIF($U$3:$U$65,X6,$K$3:$K$65)","v":0},{"$f":"Z6-AA6","v":0},"02","الإعانات الممنوحة من الجماعات المحلية والمؤسسات والهيئات العمومية",{"$f":"SUMIF($V$3:$V$47,AC6,$P$3:$P$65)","v":0},{"$f":"SUMIF($V$3:$V$47,AC6,$Q$3:$Q$65)","v":0}]
["1-02-3","مصاريف الإعلان في الصحف","التكاليف الملحقة","نفقات التسيير",null,null,null,null,null,null,null,null,null,"0105","المنح (منح النظامين الداخلي ونصف الداخلي  )",null,null,null,null,null,"1-02","01",null,"1-03","اللوازم",0,0,0,"03","الهبات والوصايا",0,{"$f":"SUMIF($V$3:$V$47,AC7,$Q$3:$Q$65)","v":0}]
["1-02-4","تعويض مصاريف الاستهلاك المنزلي للكهرباء و الغاز بنسبة 50% للجنوب","التكاليف الملحقة","نفقات التسيير",null,null,null,null,null,null,null,null,null,"0106","منح التجهيز",null,null,null,null,null,"1-02","01",null,"1-04","الأدوات و الأثاث",0,0,0,"04","ايرادات مرتبطة بنشاط المؤسسة",0,0]
["1-02-5","اقتناء و تركيب لواحق الهاتف والربط بالأنترنيت","التكاليف الملحقة","نفقات التسيير",null,null,null,null,null,null,null,null,null,"0107","دعم الدولة للتلاميذ الممنوحين",null,null,null,null,null,"1-02","01",null,"1-05","اللوازم البيداغوجية",0,0,0,"05","ايرادات مختلفة",0,0]
["1-02-6","تأمين المباني","التكاليف الملحقة","نفقات التسيير",null,null,null,null,null,null,null,null,null,"0108","إعانات تسيير وحدة الكشف والمتابعة ",null,null,null,null,null,"1-02","01",null,"1-06","نفقات الإطعام",0,0,0,"06","ايرادات ناتجة عن تسديد حقوق التسجيل",0,0]
["1-03-1","اقتناء لوازم المكتب","اللوازم","نفقات التسيير",null,null,null,null,null,null,null,null,null,"0109","إعانات النشاط الثقافي والرياضي",null,null,null,null,null,"1-03","01",null,"1-07","الألبسة",0,0,0,"07","ايراداد الإطعام",0,0]
["1-03-2","مستهلكات وبرامج الإعلام الآلي","اللوازم","نفقات التسيير",null,null,null,null,null,null,null,null,null,"0110","إعانات دعم المكتبات المدرسية ",null,null,null,null,null,"1-03","01",null,"1-08","التأمين",0,0,0,"08","المنحة المدرسية الخاصة لفائدة التلاميذ المعوزين",0,0]
["1-03-3","مصاريف النسخ والطبع","اللوازم","نفقات التسيير",null,null,null,null,null,null,null,null,null,"0201","اعانات الاصلاحات الكبرى",null,null,null,null,null,"1-03","02",null,"1-09","مصاريف التكوين ",0,0,0,"09","مساهمة الدولة في مجانية الكتاب المدرسي لفائدة التلاميذ المعوزين",0,0]
["1-03-4","البياضة","اللوازم","نفقات التسيير",null,null,null,null,null,null,null,null,null,"0202","اعانات المؤسسات و الهيئات العمومية",null,null,null,null,null,"1-03","02",null,"1-10","حظيرة السيارات",0,0,0,"10","الإعانة الخاصة بالنشاط التربوي الإستثنائي  الواردة من الباب 42-12/ المادة 1",0,0]
["1-03-5","المواد الصيدلانية","اللوازم","نفقات التسيير",null,null,null,null,null,null,null,null,null,"0203","اعانة مراكز التجميع و التصحيح للامتحانات المدرسية السنوية",null,null,null,null,null,"1-03","02",null,"1-11","نفقات تسيير وحدات الكشف و المتابعة (UDS)",0,0,0,"11","ايرادات واردة من الباب 43-03 المعنون \"التحسين المستمر للمستوى المنظم على المستوى  الولائي  ، نفقات",0,0]
["1-03-6","مواد التنظيف","اللوازم","نفقات التسيير",null,null,null,null,null,null,null,null,null,"0204","اعانات اخرى على عاتق الدولة",null,null,null,null,null,"1-03","02",null,"1-12","المكتبة المدرسية ",0,0,0,"12","ايرادات واردة من الباب 43-60 المعنون \"تشجيع التكوين أثناء الخدمة وعن بعد لمعلمي التعليم الإبتدائي \"",0,0]
["1-04-1","تجديد وصيانة أدوات وأثاث المكاتب والعتاد المدرسي","الأدوات و الأثاث","نفقات التسيير",null,null,null,null,null,null,null,null,null,"0301","الهبات و الوصايا التي تتحصل عليها المؤسسة",null,null,null,null,null,"1-04","03",null,"1-13","النفقات المتعلقة بالنشاط الثقافي والرياضي",0,0,0,"13","نفقات اعادة الادراج",0,0]
["1-04-2","اقتناء و صيانة أجهزة الإعلام الآلي","الأدوات و الأثاث","نفقات التسيير",null,null,null,null,null,null,null,null,null,"0401","عائدات الايجار",null,null,null,null,null,"1-04","04",null,"1-14","صيانة و تصليح المباني البيداغوجية والإدارية ",0,0,0,"14","نفقات في انتظار التحويل",0,0]
["1-04-3","اقتناء وصيانة أدوات الوقاية والأمن","الأدوات و الأثاث","نفقات التسيير",null,null,null,null,null,null,null,null,null,"0402","ايرادات الايجار ( كهرباء غاز و ماء)",null,null,null,null,null,"1-04","04",null,"1-15","المصاريف القضائية والتعويضات المستخقة على عاتق الدولة ",0,0,0,"15","نفقات اجتماعية لفائدة التلاميذ",0,0]
["1-04-4","تجديد و صيانة لوازم ومستلزمات المطعم","الأدوات و الأثاث","نفقات التسيير",null,null,null,null,null,null,null,null,null,"0403","مستحقات المبيت",null,null,null,null,null,"1-04","04",null,"2-01","نفقات تسيير أقسام الرياضة والدراسة ",0,0,0]
["1-04-5","اقتناء الستائر و الأعلام و لوازم الداخلية","الأدوات و الأثاث","نفقات التسيير",null,null,null,null,null,null,null,null,null,"0404","ايرادات بقايا بيع الخبز و الشحوم و الخردوات",null,null,null,null,null,"1-04","04",null,"3-01","منحة التمدرس الخاصة لفائدة التلاميذ المعوزين",0,0,0]
["1-05-1","لوازم  التجارب","اللوازم البيداغوجية","نفقات التسيير",null,null,null,null,null,null,null,null,null,"0405","الاتلافات ",null,null,null,null,null,"1-05","04",null,"3-02","المنح المدرسية",0,0,0]
["1-05-2","مواد التجارب والكواشف ومواد المخابر","اللوازم البيداغوجية","نفقات التسيير",null,null,null,null,null,null,null,null,null,"0406","الايرادات الناتجة عن عملية الاسقاط",null,null,null,null,null,"1-05","04",null,"3-03","نفقات الكتاب المدرسي",0,0,0]
["1-05-3","الإستنساخ ، الطباشير ، الأقلام ، الطلاسات وغيرها","اللوازم البيداغوجية","نفقات التسيير",null,null,null,null,null,null,null,null,null,"0407","ايرادات بيع الاشياء مصنوعة و منتوج الحدائق",null,null,null,null,null,"1-05","04",null,"3-04","نفقات النشاط التربوي الإستثنائي",0,0,0]
["1-06-1","إطعام التلاميذ","نفقات الإطعام","نفقات التسيير",null,null,null,null,null,null,null,null,null,"0408","ايرادات بيع الكتاب المدرسي",null,null,null,null,null,"1-06","04",null,"51-1","نفقات اعادة الادراج",0,0,0]
["1-06-2","إطعام المستخدمين = العددx المدة x سعر الوجبة","نفقات الإطعام","نفقات التسيير",null,null,null,null,null,null,null,null,null,"0409","ايرادات شبه مدرسية ( دفتر الصحي دفتر المراسلة و اوراق الامتحانات",null,null,null,null,null,"1-06","04",null,"51-2","نفقات في انتظار التحويل",0,0,0]
["1-06-3","إطعام المدعوين و آخرون= العددx المدة x سعر الوجبة","نفقات الإطعام","نفقات التسيير",null,null,null,null,null,null,null,null,null,"0410","ايرادات مرتبطة بنشاط المؤسسة",null,null,null,null,null,"1-06","04",null,"51-3","نفقات اجتماعية لفائدة التلاميذ",0,0,0]
["1-07-1","ملابس العمال المهنيين","الألبسة","نفقات التسيير",null,null,null,null,null,null,null,null,null,"0501","تحصيل الدفع غير المستحق",null,null,null,null,null,"1-07","05"]
["1-08-1","تأمين التلاميذ أثناء الخرجات البيداغوجية","التأمين","نفقات التسيير",null,null,null,null,null,null,null,null,null,"0502","تعويصات التامينات و تعويضات اخرى",null,null,null,null,null,"1-08","05"]
["1-09-1","مصاريف التكوين والتحسين المستمرللمستوى المنظم على المستوى الولائي","نفقات التكوين ","نفقات التسيير",null,null,null,null,null,null,null,null,null,"0503","الباقي للتحصيل للسنوات السابقة",null,null,null,null,null,"1-09","05"]
["1-09-2","نفقات التكوين ما قبل الترقية","نفقات التكوين ","نفقات التسيير",null,null,null,null,null,null,null,null,null,"0504","تصفية حسابات خارج الميزانية",null,null,null,null,null,"1-09","05"]
["1-09-3","نفقات الامتحانات و المسابقات المهنية","نفقات التكوين ","نفقات التسيير",null,null,null,null,null,null,null,null,null,"0505","تعويض العجز في الميزانية",null,null,null,null,null,"1-09","05"]
["1-09-4","تشجيع التكوين أثناء الخدمة و عن بعد لمعلمي التعليم الإبتدائي","نفقات التكوين ","نفقات التسيير",null,null,null,null,null,null,null,null,null,"0601","حقوق التسجيل(حقوق المراسلة)",null,null,null,null,null,"1-09","06"]
["1-10-1","اقتناء وتجديد السيارات","حظيرة السيارات","نفقات التسيير",null,null,null,null,null,null,null,null,null,"0701","مساهمة عائلات التلاميذ غير ممنوحين في التغذية",null,null,null,null,null,"1-10","07"]
["1-10-2","الوقود والزيوت","حظيرة السيارات","نفقات التسيير",null,null,null,null,null,null,null,null,null,"0702","ايرادات اطعام مستخدمي القطاع و الاطعام في الملتقيات",null,null,null,null,null,"1-10","07"]
["1-10-3","صيانة وتصليح و شحن السيارات وشراء قطع الغيار","حظيرة السيارات","نفقات التسيير",null,null,null,null,null,null,null,null,null,"0703","ايرادات ناتجة عن اطعام المدعوين و اخرون",null,null,null,null,null,"1-10","07"]
["1-10-4","اقتناء العجلات","حظيرة السيارات","نفقات التسيير",null,null,null,null,null,null,null,null,null,"0801","المنحة المدرسية الخاصة لفائدة التلاميذ المعوزين",null,null,null,null,null,"1-10","08"]
["1-10-5","مصاريف الترقيم والتعريف","حظيرة السيارات","نفقات التسيير",null,null,null,null,null,null,null,null,null,"0901","اعتمادات المخصصة لتغطية تكاليف مجانية الكتاب المدرسي",null,null,null,null,null,"1-10","09"]
["1-10-6","تأمين السيارات","حظيرة السيارات","نفقات التسيير",null,null,null,null,null,null,null,null,null,1001,"اعتمادات خاصة بالتلاميذ الصحراويين",null,null,null,null,null,"1-10","10"]
["1-10-7","مصاريف اقتناء قسيمة السيارات","حظيرة السيارات","نفقات التسيير",null,null,null,null,null,null,null,null,null,1101,"ايرادات تغطية العملية التكوينية ولائيا",null,null,null,null,null,"1-10","11"]
["1-10-8","مصاريف المراقبة التقنية للسيارات","حظيرة السيارات","نفقات التسيير",null,null,null,null,null,null,null,null,null,1102,"ايرادات تغطية نفقات التكوين ماقبل الترقية",null,null,null,null,null,"1-10","11"]
["1-11-1","نفقات تسيير وحدات الكشف والمتابعة (UDS)","نفقات تسيير وحدات الكشف و المتابعة (UDS)","نفقات التسيير",null,null,null,null,null,null,null,null,null,1201,"ايرادات تغطية نفقات الامتحانات و المسابقات المهنية",null,null,null,null,null,"1-11","12"]
["1-12-1","شراء كتب ومجلات تربوية","المكتبة المدرسية ","نفقات التسيير",null,null,null,null,null,null,null,null,null,1202,"اعتماد تشجيع التكوين اثناء الخدمة و عن بعد لمعلمي الابتدائي",null,null,null,null,null,"1-12","12"]
["1-12-2","الإشتراك في المجلات والدوريات البيداغوجية","المكتبة المدرسية ","نفقات التسيير",null,null,null,null,null,null,null,null,null,null,null,null,null,null,null,null,"1-12",""]
["1-13-1","النفقات المتعلقة بالنشاط الثقافي ","النفقات المتعلقة بالنشاط الثقافي والرياضي","نفقات التسيير",null,null,null,null,null,null,null,null,null,"1311","نفقات اعادة الادراج",null,null,null,null,null,"1-13","13"]
["1-13-2","النفقات المتعلقة بالنشاط الرياضي","النفقات المتعلقة بالنشاط الثقافي والرياضي","نفقات التسيير",null,null,null,null,null,null,null,null,null,"1412","نفقات في انتظار التعيين",null,null,null,null,null,"1-13","14"]
["1-14-1","صيانة وتصليح المباني البيدغوجية والإدارية ","صيانة و تصليح المباني البيداغوجية والإدارية ","نفقات التسيير",null,null,null,null,null,null,null,null,null,"1513","نفقات اجتماعية لخدمة التلاميذ",null,null,null,null,null,"1-14","15"]
["1-14-2","اقتناء مواد البناء، الترصيص، الخردوات، كهرباء، التدفئة التكييف وأدوات الصيانة الصغيرة","صيانة و تصليح المباني البيداغوجية والإدارية ","نفقات التسيير",null,null,null,null,null,null,null,null,null,null,null,null,null,null,null,null,"1-14"]
["1-14-3","صيانة المساحات الخضراء والمسالك","صيانة و تصليح المباني البيداغوجية والإدارية ","نفقات التسيير",null,null,null,null,null,null,null,null,null,null,null,null,null,null,null,null,"1-14"]
["1-15-1","المصاريف القضائية والتعويضات المستحقة على عاتق الدولة ","المصاريف القضائية والتعويضات المستحقة على عاتق الدولة ","نفقات التسيير",null,null,null,null,null,null,null,null,null,null,null,null,null,null,null,null,"1-15",null,null,null,null,null,null,null,{"$f":"LEFT(N48,2)","v":""}]
["2-01-1","مصاريف الإطعام","نفقات تسيير أقسام الرياضة والدراسة ","نفقات تسيير أقسام الرياضة والدراسة ",null,null,null,null,null,null,null,null,null,null,null,null,null,null,null,null,"2-01",null,null,null,null,null,null,null,""]
["2-01-2","نقل وتأمين التلاميذ","نفقات تسيير أقسام الرياضة والدراسة ","نفقات تسيير أقسام الرياضة والدراسة ",null,null,null,null,null,null,null,null,null,null,null,null,null,null,null,null,"2-01",null,null,null,null,null,null,null,""]
["2-01-3","إقتناء الأدوات واللوازم الرياضية والبياغوجية ","نفقات تسيير أقسام الرياضة والدراسة ","نفقات تسيير أقسام الرياضة والدراسة ",null,null,null,null,null,null,null,null,null,null,null,null,null,null,null,null,"2-01",null,null,null,null,null,null,null,""]
["3-01-1","منحة التمدرس الخاصة لفائدة التلاميذ المعوزين","منحة التمدرس الخاصة لفائدة التلاميذ المعوزين","نفقات ذات طابع خاص",null,null,null,null,null,null,null,null,null,null,null,null,null,null,null,null,"3-01",null,null,null,null,null,null,null,""]
["3-02-1","منحة التجهيز لفائدة التلاميذ","المنح المدرسية","نفقات ذات طابع خاص",null,null,null,null,null,null,null,null,null,null,null,null,null,null,null,null,"3-02",null,null,null,null,null,null,null,""]
["3-03-1","تعويض النفقات المرتبطة بمجانية الكتاب المدرسي لفائدة التلاميذ المعوزين","نفقات الكتاب المدرسي","نفقات ذات طابع خاص",null,null,null,null,null,null,null,null,null,null,null,null,null,null,null,null,"3-03",null,null,null,null,null,null,null,""]
["3-03-2","تسديد مستحقات الديوان الوطني للمطبوعات المدرسية من بيع الكتاب المدرسي","نفقات الكتاب المدرسي","نفقات ذات طابع خاص",null,null,null,null,null,null,null,null,null,null,null,null,null,null,null,null,"3-03",null,null,null,null,null,null,null,""]
["3-04-2","الإطعام","نفقات النشاط التربوي الإستثنائي","نفقات ذات طابع خاص",null,null,null,null,null,null,null,null,null,null,"مجموع الميزانية",null,null,null,null,null,"3-04",null,null,null,null,null,null,null,""]
["3-04-2","مصاريف الإقامة و التمدرس","نفقات النشاط التربوي الإستثنائي","نفقات ذات طابع خاص",null,null,null,null,null,null,null,null,null,null,"المجموع العام ",null,null,null,null,null,"3-04",null,null,null,null,null,null,null,""]
[null,null,null,null,null,null,null,null,null,null,null,null,null,null,null,null,null,null,null,null,"",null,null,null,null,null,null,null,""]
[null,null,null,null,null,null,null,null,null,null,null,null,null,null,"القسم الاول",null,null,null,null,null,"",null,null,null,null,null,null,null,""]
[null,null,null,null,null,null,null,null,null,null,null,null,null,null,"القسم الثاني",null,null,null,null,null,"",null,null,null,null,null,null,null,""]
["51-1","نفقات اعادة الادراج","نفقات اعادة الادراج","نفقات اعادة الادراج",null,null,null,null,null,null,null,null,null,null,"القسم الثالث",null,null,null,null,null,"51-1",null,null,null,null,null,null,null,""]
["51-2","نفقات في انتظار التعيين","نفقات في انتظار التعيين","نفقات في انتظار التعيين",null,null,null,null,null,null,null,null,null,null,"القسم الرابع",null,null,null,null,null,{"$f":"LEFT(A64,4)","v":"51-2"},null,null,null,null,null,null,null,""]
["51-3","نفقات اجتماعية لخدمة التلاميذ","نفقات لخدمة التلاميذ","نفقات لخدمة التلاميذ",null,null,null,null,null,null,null,null,null,null,"المجموع العام ",null,null,null,null,null,"51-3",null,null,null,null,null,null,null,""]
[null,"مجموع الميزانية",null,null,{"$f":"SUM(E3:E58)","v":0},null,null,null,null,null,null,null,null,null,null,null,null,null,null,null,{"$f":"LEFT(A66,4)","v":""},null,null,null,null,null,null,null,""]
[null,"المجموع العام",null,null,{"$f":"SUM(E59:E65)","v":0},null,null,null,null,null,{"$f":"SUMIF([4]RD!D:D,BG!A67,[4]RD!K:K)","v":{"$error":"#VALUE!"}},{"$f":"IF(K67=0,\"\",K67/E67)","v":{"$error":"#VALUE!"}},{"$f":"SUM(M3:M65)","v":0},null,null,null,null,null,null,null,{"$f":"LEFT(A67,4)","v":""}]
[]
[]
[]
[]
[]
[]
[]
[]
[]
[]
[]
["الفقرة ","اسم الفقرة",null,null,"الاعتماد المفتوح",null,null,null,null,null,"التحويلات","الاعتماد النهائي","النفقات","الرصيد المتبقي"]
[1211,"منح نصف داخلي",null,null,329832,null,null,null,null,null,null,{"$f":"E80+K80","v":329832},null,{"$f":"L80-M80","v":329832}]
[1212,"منح مرجعة",null,null,0,null,null,null,null,null,null,0,null,{"$f":"L81-M81","v":0}]
[1221,"منح الحافظة",null,null,0,null,null,null,null,null,null,0,null,0]
[1222,"منح التجهيز التقني",null,null,0,null,null,null,null,null,null,0,null,0]
[1311,"تكوين اثناء الخدمة",null,null,0,null,null,null,null,null,null,0,null,0]
[1321,"الترميمات الكبرى اتيو",null,null,0,null,null,null,null,null,null,0,null,0]
[1331,"مساهمة الدولة",null,null,586368,null,null,null,null,null,null,586368,null,586368]
[2111,"التغذية",null,null,8134975,null,null,null,null,null,null,8134975,null,8134975]
[2211,"نسيج منزلي",null,null,0,null,null,null,null,null,null,0,null,0]
[2212,"ملابس العمال",null,null,25000,null,null,null,null,null,null,25000,null,25000]
[2221,"مواد صيدلانية",null,null,0,null,null,null,null,null,null,0,null,0]
[2222,"عتاد صغير للتمريض",null,null,0,null,null,null,null,null,null,0,null,0]
[2311,"الغاز",null,null,193825,null,null,null,null,null,null,193825,null,193825]
[2312,"الكهرباء",null,null,270000,null,null,null,null,null,null,270000,null,270000]
[2313,"القوة المحركة",null,null,0,null,null,null,null,null,null,0,null,0]
[2314,"محروقات مختلفة",null,null,0,null,null,null,null,null,null,0,null,0]
[2315,"الماء",null,null,120000,null,null,null,null,null,null,120000,null,120000]
[2321,"الهاتف",null,null,15000,null,null,null,null,null,null,15000,null,15000]
[2322,"رسوم و تخليصات",null,null,10000,null,null,null,null,null,null,10000,null,10000]
[2323,"انترنت",null,null,48000,null,null,null,null,null,null,48000,null,48000]
[2411,"عتاد صغير للتجارب",null,null,20000,null,null,null,null,null,null,20000,null,20000]
[2412,"مواد مخبرية",null,null,9000,null,null,null,null,null,null,9000,null,9000]
[2413,"تشغيل الوسائل السمعية و المرئية",null,null,0,null,null,null,null,null,null,0,null,0]
[2421,"النسخ",null,null,109200,null,null,null,null,null,null,109200,null,109200]
[2422,"طباشيرو الطلاسات",null,null,50000,null,null,null,null,null,null,50000,null,50000]
[2431,"مواد الاشغال",null,null,null,null,null,null,null,null,null,0,null,0]
[2432,"مواد الصيانة",null,null,null,null,null,null,null,null,null,0,null,0]
[2433,"مكتب لدراسات",null,null,null,null,null,null,null,null,null,0,null,0]
[2434,"رواتب و اعباء الاستغلال",null,null,null,null,null,null,null,null,null,0,null,0]
[2441,"الكتب و المؤلفات",null,null,0,null,null,null,null,null,null,0,null,0]
[2442,"الجرائد و المجلات",null,null,0,null,null,null,null,null,null,0,null,0]
[2443,"اشتراكات في المطبوعات المدرسية",null,null,21800,null,null,null,null,null,null,21800,null,21800]
[2451,"النشاط الثقافي",null,null,0,null,null,null,null,null,null,0,null,0]
[2452,"النشاط الرياضي",null,null,10000,null,null,null,null,null,null,10000,null,10000]
[2453,"الخرجات البيداغوجية",null,null,0,null,null,null,null,null,null,0,null,0]
[2511,"الاوراق",null,null,20000,null,null,null,null,null,null,20000,null,20000]
[2512,"المطبوعات و السجلات",null,null,35000,null,null,null,null,null,null,35000,null,35000]
[2513,"لوازم اخرى للمكتب",null,null,30000]
[2514,"لوازم الاعلام الآلي",null,null,15000,null,null,null,null,null,null,{"$f":"E118+K118","v":15000},null,15000]
[2611,"اعباء المهام و التنقل",null,null,15000,null,null,null,null,null,null,15000,null,15000]
[2612,"اعباء النقل",null,null,5000,null,null,null,null,null,null,5000,null,5000]
[2613,"اعباء الاستقبال",null,null,2000,null,null,null,null,null,null,2000,null,2000]
[2711,"مواد الصيانة و التنظيف",null,null,30000,null,null,null,null,null,null,30000,null,30000]
[2712,"عتاد صغير للصيانة",null,null,40000,null,null,null,null,null,null,40000,null,40000]
[2713,"صيانة و اصلاح",null,null,140000,null,null,null,null,null,null,140000,null,140000]
[2714,"عقود الصيانة",null,null,5000,null,null,null,null,null,null,5000,null,5000]
[2715,"صيانة اجهزة الاعلام الالي",null,null,40000,null,null,null,null,null,null,40000,null,40000]
[2721,"عتاد واثاث مكتبي",null,null,0,null,null,null,null,null,null,0,null,0]
[2722,"عتاد واثاث مدرسي",null,null,0,null,null,null,null,null,null,0,null,0]
[2723,"عتاد واثاث الداخلية",null,null,0,null,null,null,null,null,null,0,null,0]
[2724,"عتاد صغير للمطبخ",null,null,15000,null,null,null,null,null,null,15000,null,15000]
[2725,"عتاد واثاث المخابر",null,null,0,null,null,null,null,null,null,0,null,0]
[2726,"عتاد واثاث التعليم التقني",null,null,0,null,null,null,null,null,null,0,null,0]
[2727,"عتاد ورشة القيم",null,null,0,null,null,null,null,null,null,0,null,0]
[2728,"عتاد واثاث التعليم التكنولوجي",null,null,0,null,null,null,null,null,null,0,null,0]
[2811,"تجديد و تجهيز",null,null,0,null,null,null,null,null,null,0,null,0]
[2821,"وقود و الدهن",null,null,0,null,null,null,null,null,null,0,null,0]
[2822,"صيانة السيارة",null,null,0,null,null,null,null,null,null,0,null,0]
[2823,"العجلات",null,null,0,null,null,null,null,null,null,0,null,0]
[2824,"تامين السيارة",null,null,0,null,null,null,null,null,null,0,null,0]
[2825,"اعباء الترقيم",null,null,0,null,null,null,null,null,null,0,null,0]
[2911,"توزيع الجوائز",null,null,55000,null,null,null,null,null,null,55000,null,55000]
[3111,"الاصلاحات الكبرى ",null,null,null,null,null,null,null,null,null,0,null,0]
[3121,"منح ولائية",null,null,null,null,null,null,null,null,null,0,null,0]
[3122,"منح ولائية اخرى",null,null,null,null,null,null,null,null,null,0,null,0]
[4111,"مصاريف الكتب المدرسية",null,null,null,null,null,null,null,null,null,0,null,{"$f":"L145-M145","v":0}]
[4121,"قروض و تسديد السلفيات",null,null,null,null,null,null,null,null,null,0,null,0]
[4131,"تسديد المبالغ غير مستحقة",null,null,null,null,null,null,null,null,null,0,null,0]
[4141,"مصاريف التبرعات",null,null,null,null,null,null,null,null,null,0,null,0]
[4151,"نفقات خارج التكوين",null,null,null,null,null,null,null,null,null,0,null,0]
[4161,"نفقات باقي التحصيلاات السنوات السابقة",null,null,null,null,null,null,null,null,null,0,null,0]
[4171,"دفع فوائض السنوات السابقة",null,null,null,null,null,null,null,null,null,0,null,0]
[4181,"مصاريف على اعانة عجز السنوان السابقة",null,null,null,null,null,null,null,null,null,0,null,0]
[4191,"مصاريف استثنائية",null,null,null,null,null,null,null,null,null,0,null,0]
[4211,"نفقات تسيير الامتحنات الولائية و الوطنية",null,null,null,null,null,null,null,null,null,0,null,0]
[4221,"نفقات تسيير التكوين ",null,null,null,null,null,null,null,null,null,0,null,0]
[4231,"نفقات تسيير المطاعم المدرسية",null,null,null,null,null,null,null,null,null,0,null,0]
[4241,"نفقات منحة التمدرس الخاصة",null,null,null,null,null,null,null,null,null,0,null,0]
[4261,"نفقات ساعات الدعم",null,null,null,null,null,null,null,null,null,0,null,0]
[5111,"نفقات اعادة الادراج",null,null,{"$f":"[14]MENU!F66","v":0},null,null,null,null,null,null,0,null,0]
[5121,"نفقات في انتظار التعيين",null,null,{"$f":"[14]MENU!F67","v":0},null,null,null,null,null,null,0,null,0]
[5131,"نفقات لخدمة التلاميذ",null,null,{"$f":"[14]MENU!F68","v":0},null,null,null,null,null,null,0,null,0]
[null,"مجموع الميزنية",null,null,{"$f":"SUM(E80:E141)","v":10400000},null,null,null,null,null,{"$f":"SUM(K80:K161)","v":0},10400000,{"$f":"SUM(M80:M161)","v":0},10400000]
[null,"المجموع الكلي",null,null,{"$f":"SUM(E142:E161)+E162","v":10400000}]