{"text_format":"1","workbook":"xlsx","n_sheets":5,"sheets":["Sheet","برنامج السباق","احداثيات","معلومات السباق","ورقة1"],"not_rendered":{"charts":0,"images":2,"macros":1,"external_links":1,"defined_names":0,"comments":0,"pivot_tables":0},"unopened":[],"bounds":{"document_bytes":16777216,"sheet_cells":100000,"rows_first":2000,"rows_last":500,"rows_between":2000,"halvings":0,"cell_chars":16384,"cell_head_chars":4096},"cells_cut":0,"cells_raw":0,"read":"whole","date_system":"1900"}

{"sheet":"Sheet","index":0,"n_rows":11,"n_cols":13,"rows_kept":11,"cut":false,"hidden":false,"merged":[[0,5,3,5],[0,10,0,12],[4,5,4,6]]}
["2018-09-23T21:19:01",{"$f":"A1","v":43366.888206018521},null,null,null,{"$f":"NOW()","v":43370.682985879626},{"$f":"NOW()","v":"2018-09-27T16:23:29.980"},null,null,null,"2018-08-26T10:15:30"]
[null,null,null,null,null,null,{"$f":"NOW()","v":"2018-09-27T16:23:29.980"},null,null,null,0,"x","y"]
[null,null,null,null,null,null,{"$f":"NOW()","v":"2018-09-27T16:23:29.980"},null,null,null,"hours",{"$f":"0.5*SIN(RADIANS(30*HOUR(K1)+MINUTE(K1)/2+SECOND(K1)/120))","v":-0.39534478687192176},{"$f":"0.5*COS(RADIANS(30*HOUR(K1)+MINUTE(K1)/2+SECOND(K1)/120))","v":0.30610864001722449}]
[null,null,null,null,null,null,{"$f":"NOW()","v":43370.682985879626},null,null,null,"minutes",{"$f":"0.75*SIN(RADIANS(6*MINUTE(K1)+SECOND(K1)/10))","v":0.7489721510659304},{"$f":"0.75*COS(RADIANS(6*MINUTE(K1)+SECOND(K1)/10))","v":-3.9251967182207879E-2}]
[null,null,null,null,null,{"$f":"NOW()","v":"2018-09-27T16:23:29.980"},null,null,null,null,"secondes",{"$f":"1*SIN(RADIANS(6*SECOND(K1)))","v":1.22514845490862E-16},{"$f":"1*COS(RADIANS(6*SECOND(K1)))","v":-1}]
[]
[null,"الوقت الان",{"$f":"B1","v":43366.888206018521}]
[]
[null,"الوقت في الساعة","00:00:00"]
[]
[null,"وقت التسجيل",{"$f":"C7-C9","v":43366.888206018521}]

{"sheet":"برنامج السباق","index":1,"n_rows":51,"n_cols":9,"rows_kept":51,"cut":false,"hidden":false,"merged":[[0,0,0,1],[1,0,1,1],[0,7,0,8],[1,7,1,8]]}
["نادي الزعفرانية",null,null,null,null,null,null,"Al Zaafarania Club "]
["لسباق الحمام الزاجل",null,null,null,{"$f":"'معلومات السباق'!B2","v":"سباق الزبيدية"},null,null," To race pigeons "]
["عدد الهواة : ",{"$f":"'معلومات السباق'!B4:C4","v":20}]
["عدد الحمام : ",{"$f":"'معلومات السباق'!B5:C5","v":2000},null,null,null,null,"وقت وتاريخ السباق",{"$f":"'معلومات السباق'!B8","v":"06:10:00"},"2018-08-15"]
["الرياح : ",{"$f":"'معلومات السباق'!B6:C6","v":"شمالي غربي 12 كم/س"},null,null,null,null,"احداثيـــة السبـــــاق",{"$f":"'معلومات السباق'!B3","v":32.473379999999999},{"$f":"'معلومات السباق'!C3","v":45.100110000000001}]
[]
["ت","أسم المتسابق","رقم الحجل","وقت الوصول","زمن الرحلة","خط العرض","خط الطول","مسافة الرحلة كم","معدل السرعة"]
[1,"المتسابق 20","*******","06:15:50",{"$f":"IF(B8=\"\",\"\",D8-$H$4)","v":"00:05:50"},{"$f":"IF(B8=\"\",\"\",VLOOKUP(B8,احداثيات!A$2:B$100,2,0))","v":33.263402999999997},{"$f":"IF(B8=\"\",\"\",VLOOKUP(B8,احداثيات!C$2:D$100,2,0))","v":44.493412999999997},{"$f":"IF(B8=\"\",\"\",ACOS(SIN(RADIANS($H$5))*SIN(RADIANS(F8))+COS(RADIANS($H$5))*COS(RADIANS(F8))*COS(RADIANS($I$5-G8)))*6371)","v":104.53474289543234},{"$f":"IF(B8=\"\",\"\",H8/(HOUR(E8)+(MINUTE(E8)/60)+(SECOND(E8)/3600))*1000/60)","v":17920.241639216976}]
[2,"المتسابق 1","*******","06:33:11","00:23:11",{"$f":"IF(B9=\"\",\"\",VLOOKUP(B9,احداثيات!A$2:B$100,2,0))","v":33.270333000000001},{"$f":"IF(B9=\"\",\"\",VLOOKUP(B9,احداثيات!C$2:D$100,2,0))","v":44.461213000000001},106.83184673789241,{"$f":"IF(B9=\"\",\"\",H9/(HOUR(E9)+(MINUTE(E9)/60)+(SECOND(E9)/3600))*1000/60)","v":4608.1314193195858}]
[3,"المتسابق 7","*******","07:05:05","00:55:05",{"$f":"IF(B10=\"\",\"\",VLOOKUP(B10,احداثيات!A$2:B$100,2,0))","v":33.260002999999998},{"$f":"IF(B10=\"\",\"\",VLOOKUP(B10,احداثيات!C$2:D$100,2,0))","v":44.475012999999997},105.16203399373644,{"$f":"IF(B10=\"\",0,H10/(HOUR(E10)+(MINUTE(E10)/60)+(SECOND(E10)/3600))*1000/60)","v":1909.1443387667737}]
[4,"المتسابق 1","*******","07:12:12","01:02:12",{"$f":"IF(B11=\"\",\"\",VLOOKUP(B11,احداثيات!A$2:B$100,2,0))","v":33.270333000000001},{"$f":"IF(B11=\"\",\"\",VLOOKUP(B11,احداثيات!C$2:D$100,2,0))","v":44.461213000000001},106.83184673789241,{"$f":"IF(B11=\"\",\"\",H11/(HOUR(E11)+(MINUTE(E11)/60)+(SECOND(E11)/3600))*1000/60)","v":1717.5538060754404}]
[5,"المتسابق 1","*******","07:20:26","01:10:26",{"$f":"IF(B12=\"\",\"\",VLOOKUP(B12,احداثيات!A$2:B$100,2,0))","v":33.270333000000001},{"$f":"IF(B12=\"\",\"\",VLOOKUP(B12,احداثيات!C$2:D$100,2,0))","v":44.461213000000001},106.83184673789241,1516.779650798283]
[6,"المتسابق 5","*******","07:20:26","01:10:26",{"$f":"IF(B13=\"\",\"\",VLOOKUP(B13,احداثيات!A$2:B$100,2,0))","v":33.263402999999997},{"$f":"IF(B13=\"\",\"\",VLOOKUP(B13,احداثيات!C$2:D$100,2,0))","v":44.470413000000001},105.71445910683596,1500.9151789896255]
[7,"المتسابق 3","*******","07:33:20","01:23:20",{"$f":"IF(B14=\"\",\"\",VLOOKUP(B14,احداثيات!A$2:B$100,2,0))","v":33.266803000000003},{"$f":"IF(B14=\"\",\"\",VLOOKUP(B14,احداثيات!C$2:D$100,2,0))","v":44.465812999999997},106.26707581936202,1275.2049098323441]
[8,"المتسابق 5","*******","07:33:05","01:23:05",{"$f":"IF(B15=\"\",\"\",VLOOKUP(B15,احداثيات!A$2:B$100,2,0))","v":33.263402999999997},{"$f":"IF(B15=\"\",\"\",VLOOKUP(B15,احداثيات!C$2:D$100,2,0))","v":44.470413000000001},105.71445910683596,1272.3906813260096]
[9,"المتسابق 4","*******","07:33:23","01:23:23",{"$f":"IF(B16=\"\",\"\",VLOOKUP(B16,احداثيات!A$2:B$100,2,0))","v":33.265103000000003},{"$f":"IF(B16=\"\",\"\",VLOOKUP(B16,احداثيات!C$2:D$100,2,0))","v":44.468113000000002},105.9907437131921,1271.1262488090194]
[10,"المتسابق 7","*******","07:33:32","01:23:32",{"$f":"IF(B17=\"\",\"\",VLOOKUP(B17,احداثيات!A$2:B$100,2,0))","v":33.260002999999998},{"$f":"IF(B17=\"\",\"\",VLOOKUP(B17,احداثيات!C$2:D$100,2,0))","v":44.475012999999997},105.16203399373644,1258.9229927422559]
[11,"المتسابق 8","*******","07:33:35","01:23:35",{"$f":"IF(B18=\"\",\"\",VLOOKUP(B18,احداثيات!A$2:B$100,2,0))","v":33.258302999999998},{"$f":"IF(B18=\"\",\"\",VLOOKUP(B18,احداثيات!C$2:D$100,2,0))","v":44.477313000000002},104.88589429764473,1254.8661331722201]
[12,"المتسابق 19","*******","07:33:38","01:23:38",{"$f":"IF(B19=\"\",\"\",VLOOKUP(B19,احداثيات!A$2:B$100,2,0))","v":33.265103000000003},{"$f":"IF(B19=\"\",\"\",VLOOKUP(B19,احداثيات!C$2:D$100,2,0))","v":44.491112999999999},104.809757999317,1253.2055559902392]
[13,"المتسابق 9","*******","07:33:41","01:23:41",{"$f":"IF(B20=\"\",\"\",VLOOKUP(B20,احداثيات!A$2:B$100,2,0))","v":33.256602999999998},{"$f":"IF(B20=\"\",\"\",VLOOKUP(B20,احداثيات!C$2:D$100,2,0))","v":44.479613000000001},104.6098037223943,1250.0673617493844]
[14,"المتسابق 20","*******","07:33:44","01:23:44",{"$f":"IF(B21=\"\",\"\",VLOOKUP(B21,احداثيات!A$2:B$100,2,0))","v":33.263402999999997},{"$f":"IF(B21=\"\",\"\",VLOOKUP(B21,احداثيات!C$2:D$100,2,0))","v":44.493412999999997},104.53474289543234,1248.4244772543673]
[15,"المتسابق 23","*******","07:33:47","01:23:47",{"$f":"IF(B22=\"\",\"\",VLOOKUP(B22,احداثيات!A$2:B$100,2,0))","v":33.258302999999998},{"$f":"IF(B22=\"\",\"\",VLOOKUP(B22,احداثيات!C$2:D$100,2,0))","v":44.484212999999997},104.52988932658381,1247.6215157340419]
[16,"المتسابق 10","*******","07:33:50","01:23:50",{"$f":"IF(B23=\"\",\"\",VLOOKUP(B23,احداثيات!A$2:B$100,2,0))","v":33.254902999999999},{"$f":"IF(B23=\"\",\"\",VLOOKUP(B23,احداثيات!C$2:D$100,2,0))","v":44.481912999999999},104.33376268398875,1244.5379246599055]
[17,"المتسابق 21","*******","07:33:53","01:23:53",{"$f":"IF(B24=\"\",\"\",VLOOKUP(B24,احداثيات!A$2:B$100,2,0))","v":33.261702999999997},{"$f":"IF(B24=\"\",\"\",VLOOKUP(B24,احداثيات!C$2:D$100,2,0))","v":44.495713000000002},104.25978311691534,1242.9141639211048]
[18,"المتسابق 11","*******","07:33:56","01:23:56",{"$f":"IF(B25=\"\",\"\",VLOOKUP(B25,احداثيات!A$2:B$100,2,0))","v":33.253202999999999},{"$f":"IF(B25=\"\",\"\",VLOOKUP(B25,احداثيات!C$2:D$100,2,0))","v":44.484212999999997},104.05777160260769,1239.7669372828559]
[19,"المتسابق 12","*******","07:33:59","01:23:59",{"$f":"IF(B26=\"\",\"\",VLOOKUP(B26,احداثيات!A$2:B$100,2,0))","v":33.251503},{"$f":"IF(B26=\"\",\"\",VLOOKUP(B26,احداثيات!C$2:D$100,2,0))","v":44.486513000000002},103.78183090286991,1235.7431740766413]
[20,"المتسابق 13","*******","07:34:02","01:24:02",{"$f":"IF(B27=\"\",\"\",VLOOKUP(B27,احداثيات!A$2:B$100,2,0))","v":33.249803},{"$f":"IF(B27=\"\",\"\",VLOOKUP(B27,احداثيات!C$2:D$100,2,0))","v":44.488813},103.50594101368057,1231.7248038121447]
[21,"المتسابق 18","*******","07:34:05","01:24:05",{"$f":"IF(B28=\"\",\"\",VLOOKUP(B28,احداثيات!A$2:B$100,2,0))","v":33.244703000000001},{"$f":"IF(B28=\"\",\"\",VLOOKUP(B28,احداثيات!C$2:D$100,2,0))","v":44.484212999999997},103.27303239441463,1228.2223872477459]
[22,"المتسابق 15","*******","07:34:11","01:24:11",{"$f":"IF(B29=\"\",\"\",VLOOKUP(B29,احداثيات!A$2:B$100,2,0))","v":33.222222000000002},{"$f":"IF(B29=\"\",\"\",VLOOKUP(B29,احداثيات!C$2:D$100,2,0))","v":44.444443999999997},103.36776404689247,1227.8887037841118]
[23,"المتسابق 14","*******","07:34:08","01:24:08",{"$f":"IF(B30=\"\",\"\",VLOOKUP(B30,احداثيات!A$2:B$100,2,0))","v":33.248103},{"$f":"IF(B30=\"\",\"\",VLOOKUP(B30,احداثيات!C$2:D$100,2,0))","v":44.491112999999999},103.23010236880414,1226.9821993122523]
[24,"المتسابق 16","*******","07:34:14","01:24:14",{"$f":"IF(B31=\"\",\"\",VLOOKUP(B31,احداثيات!A$2:B$100,2,0))","v":33.244703000000001},{"$f":"IF(B31=\"\",\"\",VLOOKUP(B31,احداثيات!C$2:D$100,2,0))","v":44.495713000000002},102.67858056878818,1218.9780043781741]
[25,"المتسابق 22","*******","07:34:17","01:24:17",{"$f":"IF(B32=\"\",\"\",VLOOKUP(B32,احداثيات!A$2:B$100,2,0))","v":33.260002999999998},{"$f":"IF(B32=\"\",\"\",VLOOKUP(B32,احداثيات!C$2:D$100,2,0))","v":44.555554999999998},101.17971368366389,1200.471192608233]
[26,"المتسابق 1","*******","07:50:50","01:40:50",{"$f":"IF(B33=\"\",\"\",VLOOKUP(B33,احداثيات!A$2:B$100,2,0))","v":33.270333000000001},{"$f":"IF(B33=\"\",\"\",VLOOKUP(B33,احداثيات!C$2:D$100,2,0))","v":44.461213000000001},106.83184673789241,1059.4893891361232]
[27,"المتسابق 15","*******","07:50:50","01:40:50",{"$f":"IF(B34=\"\",\"\",VLOOKUP(B34,احداثيات!A$2:B$100,2,0))","v":33.222222000000002},{"$f":"IF(B34=\"\",\"\",VLOOKUP(B34,احداثيات!C$2:D$100,2,0))","v":44.444443999999997},103.36776404689247,1025.1348500518263]
[28,null,null,null,"",{"$f":"IF(B35=\"\",\"\",VLOOKUP(B35,احداثيات!A$2:B$100,2,0))","v":""},{"$f":"IF(B35=\"\",\"\",VLOOKUP(B35,احداثيات!C$2:D$100,2,0))","v":""},"",{"$f":"IF(B35=\"\",0,H35/(HOUR(E35)+(MINUTE(E35)/60)+(SECOND(E35)/3600))*1000/60)","v":0}]
[29,null,null,null,"",{"$f":"IF(B36=\"\",\"\",VLOOKUP(B36,احداثيات!A$2:B$100,2,0))","v":""},{"$f":"IF(B36=\"\",\"\",VLOOKUP(B36,احداثيات!C$2:D$100,2,0))","v":""},"",0]
[30,null,null,null,"",{"$f":"IF(B37=\"\",\"\",VLOOKUP(B37,احداثيات!A$2:B$100,2,0))","v":""},{"$f":"IF(B37=\"\",\"\",VLOOKUP(B37,احداثيات!C$2:D$100,2,0))","v":""},"",0]
[31,null,null,null,"",{"$f":"IF(B38=\"\",\"\",VLOOKUP(B38,احداثيات!A$2:B$100,2,0))","v":""},{"$f":"IF(B38=\"\",\"\",VLOOKUP(B38,احداثيات!C$2:D$100,2,0))","v":""},"",0]
[32,null,null,null,"",{"$f":"IF(B39=\"\",\"\",VLOOKUP(B39,احداثيات!A$2:B$100,2,0))","v":""},{"$f":"IF(B39=\"\",\"\",VLOOKUP(B39,احداثيات!C$2:D$100,2,0))","v":""},"",0]
[33,null,null,null,"",{"$f":"IF(B40=\"\",\"\",VLOOKUP(B40,احداثيات!A$2:B$100,2,0))","v":""},{"$f":"IF(B40=\"\",\"\",VLOOKUP(B40,احداثيات!C$2:D$100,2,0))","v":""},"",0]
[34,null,null,null,"",{"$f":"IF(B41=\"\",\"\",VLOOKUP(B41,احداثيات!A$2:B$100,2,0))","v":""},{"$f":"IF(B41=\"\",\"\",VLOOKUP(B41,احداثيات!C$2:D$100,2,0))","v":""},"",0]
[35,null,null,null,"",{"$f":"IF(B42=\"\",\"\",VLOOKUP(B42,احداثيات!A$2:B$100,2,0))","v":""},{"$f":"IF(B42=\"\",\"\",VLOOKUP(B42,احداثيات!C$2:D$100,2,0))","v":""},"",0]
[36,null,null,null,"",{"$f":"IF(B43=\"\",\"\",VLOOKUP(B43,احداثيات!A$2:B$100,2,0))","v":""},{"$f":"IF(B43=\"\",\"\",VLOOKUP(B43,احداثيات!C$2:D$100,2,0))","v":""},"",0]
[37,null,null,null,"",{"$f":"IF(B44=\"\",\"\",VLOOKUP(B44,احداثيات!A$2:B$100,2,0))","v":""},{"$f":"IF(B44=\"\",\"\",VLOOKUP(B44,احداثيات!C$2:D$100,2,0))","v":""},"",0]
[38,null,null,null,"",{"$f":"IF(B45=\"\",\"\",VLOOKUP(B45,احداثيات!A$2:B$100,2,0))","v":""},{"$f":"IF(B45=\"\",\"\",VLOOKUP(B45,احداثيات!C$2:D$100,2,0))","v":""},"",0]
[39,null,null,null,"",{"$f":"IF(B46=\"\",\"\",VLOOKUP(B46,احداثيات!A$2:B$100,2,0))","v":""},{"$f":"IF(B46=\"\",\"\",VLOOKUP(B46,احداثيات!C$2:D$100,2,0))","v":""},"",0]
[40,null,null,null,"",{"$f":"IF(B47=\"\",\"\",VLOOKUP(B47,احداثيات!A$2:B$100,2,0))","v":""},{"$f":"IF(B47=\"\",\"\",VLOOKUP(B47,احداثيات!C$2:D$100,2,0))","v":""},"",0]
[41,null,null,null,"",{"$f":"IF(B48=\"\",\"\",VLOOKUP(B48,احداثيات!A$2:B$100,2,0))","v":""},{"$f":"IF(B48=\"\",\"\",VLOOKUP(B48,احداثيات!C$2:D$100,2,0))","v":""},"",0]
[42,null,null,null,"",{"$f":"IF(B49=\"\",\"\",VLOOKUP(B49,احداثيات!A$2:B$100,2,0))","v":""},{"$f":"IF(B49=\"\",\"\",VLOOKUP(B49,احداثيات!C$2:D$100,2,0))","v":""},"",0]
[43,null,null,null,"",{"$f":"IF(B50=\"\",\"\",VLOOKUP(B50,احداثيات!A$2:B$100,2,0))","v":""},{"$f":"IF(B50=\"\",\"\",VLOOKUP(B50,احداثيات!C$2:D$100,2,0))","v":""},"",0]
[44,null,null,null,"",{"$f":"IF(B51=\"\",\"\",VLOOKUP(B51,احداثيات!A$2:B$100,2,0))","v":""},{"$f":"IF(B51=\"\",\"\",VLOOKUP(B51,احداثيات!C$2:D$100,2,0))","v":""},"",0]

{"sheet":"احداثيات","index":2,"n_rows":27,"n_cols":4,"rows_kept":27,"cut":false,"hidden":false,"merged":[]}
["الاسم","خط الطول",null,"خط العرض"]
["المتسابق 1",33.270333000000001,"المتسابق 1",44.461213000000001]
["المتسابق 2",33.268503000000003,"المتسابق 2",44.463512999999999]
["المتسابق 3",33.266803000000003,"المتسابق 3",44.465812999999997]
["المتسابق 4",33.265103000000003,"المتسابق 4",44.468113000000002]
["المتسابق 5",33.263402999999997,"المتسابق 5",44.470413000000001]
["المتسابق 6",33.261702999999997,"المتسابق 6",44.472712999999999]
["المتسابق 7",33.260002999999998,"المتسابق 7",44.475012999999997]
["المتسابق 8",33.258302999999998,"المتسابق 8",44.477313000000002]
["المتسابق 9",33.256602999999998,"المتسابق 9",44.479613000000001]
["المتسابق 10",33.254902999999999,"المتسابق 10",44.481912999999999]
["المتسابق 11",33.253202999999999,"المتسابق 11",44.484212999999997]
["المتسابق 12",33.251503,"المتسابق 12",44.486513000000002]
["المتسابق 13",33.249803,"المتسابق 13",44.488813]
["المتسابق 14",33.248103,"المتسابق 14",44.491112999999999]
["المتسابق 15",33.222222000000002,"المتسابق 15",44.444443999999997]
["المتسابق 16",33.244703000000001,"المتسابق 16",44.495713000000002]
["المتسابق 17",33.333333000000003,"المتسابق 17",44.555554999999998]
["المتسابق 18",33.244703000000001,"المتسابق 18",44.484212999999997]
["المتسابق 19",33.265103000000003,"المتسابق 19",44.491112999999999]
["المتسابق 20",33.263402999999997,"المتسابق 20",44.493412999999997]
["المتسابق 21",33.261702999999997,"المتسابق 21",44.495713000000002]
["المتسابق 22",33.260002999999998,"المتسابق 22",44.555554999999998]
["المتسابق 23",33.258302999999998,"المتسابق 23",44.484212999999997]
["المتسابق 24",33.256602999999998,"المتسابق 24",44.412871000000003]
["المتسابق 25",33.254902999999999,"المتسابق 25",44.341529000000001]
["المتسابق 26",33.253202999999999,"المتسابق 26",44.270187]

{"sheet":"معلومات السباق","index":3,"n_rows":8,"n_cols":3,"rows_kept":8,"cut":false,"hidden":false,"merged":[[5,1,5,2],[3,1,3,2],[4,1,4,2],[1,1,1,2],[6,1,6,2]]}
[]
["نقطة السبـــاق :","سباق الزبيدية"]
["احداثية السباق :",32.473379999999999,45.100110000000001]
["عـــــــدد الهواة : ",20]
["عــــــدد الحمام : ",2000]
["الريـــــــــــــاح : ","شمالي غربي 12 كم/س"]
["تاريخ السبـاق :","2018-09-25"]
["وقت السبـــاق :","06:10:00"]

{"sheet":"ورقة1","index":4,"n_rows":184,"n_cols":1,"rows_kept":184,"cut":false,"hidden":false,"merged":[]}
[1]
[2]
[3]
[4]
[5]
[6]
[7]
[8]
[9]
[10]
[11]
[12]
[13]
[14]
[15]
[16]
[17]
[18]
[19]
[20]
[21]
[22]
[23]
[24]
[25]
[26]
[27]
[28]
[29]
[30]
[31]
[32]
[33]
[34]
[35]
[36]
[37]
[38]
[39]
[40]
[41]
[42]
[43]
[44]
[45]
[46]
[47]
[48]
[49]
[50]
[51]
[52]
[53]
[54]
[55]
[56]
[57]
[58]
[59]
[60]
[61]
[62]
[63]
[64]
[65]
[66]
[67]
[68]
[69]
[70]
[71]
[72]
[73]
[74]
[75]
[76]
[77]
[78]
[79]
[80]
[81]
[82]
[83]
[84]
[85]
[86]
[87]
[88]
[89]
[90]
[91]
[92]
[93]
[94]
[95]
[96]
[97]
[98]
[99]
[100]
[101]
[102]
[103]
[104]
[105]
[106]
[107]
[108]
[109]
[110]
[111]
[112]
[113]
[114]
[115]
[116]
[117]
[118]
[119]
[120]
[121]
[122]
[123]
[124]
[125]
[126]
[127]
[128]
[129]
[130]
[131]
[132]
[133]
[134]
[135]
[136]
[137]
[138]
[139]
[140]
[141]
[142]
[143]
[144]
[145]
[146]
[147]
[148]
[149]
[150]
[151]
[152]
[153]
[154]
[155]
[156]
[157]
[158]
[159]
[160]
[161]
[162]
[163]
[164]
[165]
[166]
[167]
[168]
[169]
[170]
[171]
[172]
[173]
[174]
[175]
[176]
[177]
[178]
[179]
[180]
[181]
[182]
[183]
[184]