{"text_format":"1","workbook":"xlsx","n_sheets":22,"sheets":["1","عميل رقم 1","عميل رقم 2","عميل رقم 3","عميل رقم 4","عميل رقم 5","عميل رقم 6","عميل رقم 7","عميل رقم 8","عميل رقم 9","عميل رقم 10","عميل رقم 11","عميل رقم 12","عميل رقم 13","عميل رقم 14","عميل رقم 15","عميل رقم 16","عميل رقم 17","عميل رقم 18","عميل رقم 19","عميل رقم 20","Setting"],"not_rendered":{"charts":0,"images":0,"macros":1,"external_links":0,"defined_names":0,"comments":0,"pivot_tables":0},"unopened":[],"bounds":{"document_bytes":16777216,"sheet_cells":100000,"rows_first":2000,"rows_last":500,"rows_between":2000,"halvings":0,"cell_chars":16384,"cell_head_chars":4096},"cells_cut":0,"cells_raw":0,"read":"whole","date_system":"1900"}

{"sheet":"1","index":0,"n_rows":101,"n_cols":11,"rows_kept":101,"cut":false,"hidden":false,"merged":[[4,10,12,12]]}
["مسلسل","الوزن بالكيلو","الصنف","الاسم","السعر",{"$f":"SUM($F$2:$F$1000)","v":0},{"$f":"SUM($G$2:$G$1000)","v":0},{"$f":"SUM($H$2:$H$1000)","v":0},"التاريخ"]
[{"$f":"IF(C2=\"\",\"\",SUBTOTAL(3,$C$2:C2))","v":""},null,null,null,{"$f":"IFERROR(VLOOKUP(C2,Setting!$A$2:$B$33,2,0),\"\")","v":""},{"$f":"IFERROR(B2*E2,\"\")","v":""},null,{"$f":"IFERROR(F2-G2,\"\")","v":""},{"$f":"IF(D2=\"\",\"\",TODAY())","v":""}]
[{"$f":"IF(C3=\"\",\"\",SUBTOTAL(3,$C$2:C3))","v":""},null,null,null,{"$f":"IFERROR(VLOOKUP(C3,Setting!$A$2:$B$33,2,0),\"\")","v":""},{"$f":"IFERROR(B3*E3,\"\")","v":""},null,{"$f":"IFERROR(F3-G3,\"\")","v":""},{"$f":"IF(D3=\"\",\"\",TODAY())","v":""}]
[{"$f":"IF(C4=\"\",\"\",SUBTOTAL(3,$C$2:C4))","v":""},null,null,null,{"$f":"IFERROR(VLOOKUP(C4,Setting!$A$2:$B$33,2,0),\"\")","v":""},"",null,"",""]
[{"$f":"IF(C5=\"\",\"\",SUBTOTAL(3,$C$2:C5))","v":""},null,null,null,{"$f":"IFERROR(VLOOKUP(C5,Setting!$A$2:$B$33,2,0),\"\")","v":""},"",null,"","",null,"ملحوظة:\nلا يتم الكتابة الا فى العمود الثانى B\nوالعمود G\n- ولا يمكنك الكتابة فى الأعمدة الملونة\nاما بالنسبة للعمودان الثالث والرابع C & D\nيمكنك إختيار ما تريد من قائمة"]
[{"$f":"IF(C6=\"\",\"\",SUBTOTAL(3,$C$2:C6))","v":""},null,null,null,{"$f":"IFERROR(VLOOKUP(C6,Setting!$A$2:$B$33,2,0),\"\")","v":""},"",null,"",""]
[{"$f":"IF(C7=\"\",\"\",SUBTOTAL(3,$C$2:C7))","v":""},null,null,null,{"$f":"IFERROR(VLOOKUP(C7,Setting!$A$2:$B$33,2,0),\"\")","v":""},"",null,"",""]
[{"$f":"IF(C8=\"\",\"\",SUBTOTAL(3,$C$2:C8))","v":""},null,null,null,{"$f":"IFERROR(VLOOKUP(C8,Setting!$A$2:$B$33,2,0),\"\")","v":""},"",null,"",""]
[{"$f":"IF(C9=\"\",\"\",SUBTOTAL(3,$C$2:C9))","v":""},null,null,null,{"$f":"IFERROR(VLOOKUP(C9,Setting!$A$2:$B$33,2,0),\"\")","v":""},"",null,"",""]
[{"$f":"IF(C10=\"\",\"\",SUBTOTAL(3,$C$2:C10))","v":""},null,null,null,{"$f":"IFERROR(VLOOKUP(C10,Setting!$A$2:$B$33,2,0),\"\")","v":""},"",null,"",""]
[{"$f":"IF(C11=\"\",\"\",SUBTOTAL(3,$C$2:C11))","v":""},null,null,null,{"$f":"IFERROR(VLOOKUP(C11,Setting!$A$2:$B$33,2,0),\"\")","v":""},"",null,"",""]
[{"$f":"IF(C12=\"\",\"\",SUBTOTAL(3,$C$2:C12))","v":""},null,null,null,{"$f":"IFERROR(VLOOKUP(C12,Setting!$A$2:$B$33,2,0),\"\")","v":""},"",null,"",""]
[{"$f":"IF(C13=\"\",\"\",SUBTOTAL(3,$C$2:C13))","v":""},null,null,null,{"$f":"IFERROR(VLOOKUP(C13,Setting!$A$2:$B$33,2,0),\"\")","v":""},"",null,"",""]
[{"$f":"IF(C14=\"\",\"\",SUBTOTAL(3,$C$2:C14))","v":""},null,null,null,{"$f":"IFERROR(VLOOKUP(C14,Setting!$A$2:$B$33,2,0),\"\")","v":""},"",null,"",""]
[{"$f":"IF(C15=\"\",\"\",SUBTOTAL(3,$C$2:C15))","v":""},null,null,null,{"$f":"IFERROR(VLOOKUP(C15,Setting!$A$2:$B$33,2,0),\"\")","v":""},"",null,"",""]
[{"$f":"IF(C16=\"\",\"\",SUBTOTAL(3,$C$2:C16))","v":""},null,null,null,{"$f":"IFERROR(VLOOKUP(C16,Setting!$A$2:$B$33,2,0),\"\")","v":""},"",null,"",""]
[{"$f":"IF(C17=\"\",\"\",SUBTOTAL(3,$C$2:C17))","v":""},null,null,null,{"$f":"IFERROR(VLOOKUP(C17,Setting!$A$2:$B$33,2,0),\"\")","v":""},"",null,"",""]
[{"$f":"IF(C18=\"\",\"\",SUBTOTAL(3,$C$2:C18))","v":""},null,null,null,{"$f":"IFERROR(VLOOKUP(C18,Setting!$A$2:$B$33,2,0),\"\")","v":""},"",null,"",""]
[{"$f":"IF(C19=\"\",\"\",SUBTOTAL(3,$C$2:C19))","v":""},null,null,null,{"$f":"IFERROR(VLOOKUP(C19,Setting!$A$2:$B$33,2,0),\"\")","v":""},"",null,"",""]
[{"$f":"IF(C20=\"\",\"\",SUBTOTAL(3,$C$2:C20))","v":""},null,null,null,{"$f":"IFERROR(VLOOKUP(C20,Setting!$A$2:$B$33,2,0),\"\")","v":""},"",null,"",""]
[{"$f":"IF(C21=\"\",\"\",SUBTOTAL(3,$C$2:C21))","v":""},null,null,null,{"$f":"IFERROR(VLOOKUP(C21,Setting!$A$2:$B$33,2,0),\"\")","v":""},"",null,"",""]
[{"$f":"IF(C22=\"\",\"\",SUBTOTAL(3,$C$2:C22))","v":""},null,null,null,{"$f":"IFERROR(VLOOKUP(C22,Setting!$A$2:$B$33,2,0),\"\")","v":""},"",null,"",""]
[{"$f":"IF(C23=\"\",\"\",SUBTOTAL(3,$C$2:C23))","v":""},null,null,null,{"$f":"IFERROR(VLOOKUP(C23,Setting!$A$2:$B$33,2,0),\"\")","v":""},"",null,"",""]
[{"$f":"IF(C24=\"\",\"\",SUBTOTAL(3,$C$2:C24))","v":""},null,null,null,{"$f":"IFERROR(VLOOKUP(C24,Setting!$A$2:$B$33,2,0),\"\")","v":""},"",null,"",""]
[{"$f":"IF(C25=\"\",\"\",SUBTOTAL(3,$C$2:C25))","v":""},null,null,null,{"$f":"IFERROR(VLOOKUP(C25,Setting!$A$2:$B$33,2,0),\"\")","v":""},"",null,"",""]
[{"$f":"IF(C26=\"\",\"\",SUBTOTAL(3,$C$2:C26))","v":""},null,null,null,{"$f":"IFERROR(VLOOKUP(C26,Setting!$A$2:$B$33,2,0),\"\")","v":""},"",null,"",""]
[{"$f":"IF(C27=\"\",\"\",SUBTOTAL(3,$C$2:C27))","v":""},null,null,null,{"$f":"IFERROR(VLOOKUP(C27,Setting!$A$2:$B$33,2,0),\"\")","v":""},"",null,"",""]
[{"$f":"IF(C28=\"\",\"\",SUBTOTAL(3,$C$2:C28))","v":""},null,null,null,{"$f":"IFERROR(VLOOKUP(C28,Setting!$A$2:$B$33,2,0),\"\")","v":""},"",null,"",""]
[{"$f":"IF(C29=\"\",\"\",SUBTOTAL(3,$C$2:C29))","v":""},null,null,null,{"$f":"IFERROR(VLOOKUP(C29,Setting!$A$2:$B$33,2,0),\"\")","v":""},"",null,"",""]
[{"$f":"IF(C30=\"\",\"\",SUBTOTAL(3,$C$2:C30))","v":""},null,null,null,{"$f":"IFERROR(VLOOKUP(C30,Setting!$A$2:$B$33,2,0),\"\")","v":""},"",null,"",""]
[{"$f":"IF(C31=\"\",\"\",SUBTOTAL(3,$C$2:C31))","v":""},null,null,null,{"$f":"IFERROR(VLOOKUP(C31,Setting!$A$2:$B$33,2,0),\"\")","v":""},"",null,"",""]
[{"$f":"IF(C32=\"\",\"\",SUBTOTAL(3,$C$2:C32))","v":""},null,null,null,{"$f":"IFERROR(VLOOKUP(C32,Setting!$A$2:$B$33,2,0),\"\")","v":""},"",null,"",""]
[{"$f":"IF(C33=\"\",\"\",SUBTOTAL(3,$C$2:C33))","v":""},null,null,null,{"$f":"IFERROR(VLOOKUP(C33,Setting!$A$2:$B$33,2,0),\"\")","v":""},"",null,"",""]
[{"$f":"IF(C34=\"\",\"\",SUBTOTAL(3,$C$2:C34))","v":""},null,null,null,{"$f":"IFERROR(VLOOKUP(C34,Setting!$A$2:$B$33,2,0),\"\")","v":""},"",null,"",""]
[{"$f":"IF(C35=\"\",\"\",SUBTOTAL(3,$C$2:C35))","v":""},null,null,null,{"$f":"IFERROR(VLOOKUP(C35,Setting!$A$2:$B$33,2,0),\"\")","v":""},"",null,"",""]
[{"$f":"IF(C36=\"\",\"\",SUBTOTAL(3,$C$2:C36))","v":""},null,null,null,{"$f":"IFERROR(VLOOKUP(C36,Setting!$A$2:$B$33,2,0),\"\")","v":""},"",null,"",""]
[{"$f":"IF(C37=\"\",\"\",SUBTOTAL(3,$C$2:C37))","v":""},null,null,null,{"$f":"IFERROR(VLOOKUP(C37,Setting!$A$2:$B$33,2,0),\"\")","v":""},"",null,"",""]
[{"$f":"IF(C38=\"\",\"\",SUBTOTAL(3,$C$2:C38))","v":""},null,null,null,{"$f":"IFERROR(VLOOKUP(C38,Setting!$A$2:$B$33,2,0),\"\")","v":""},"",null,"",""]
[{"$f":"IF(C39=\"\",\"\",SUBTOTAL(3,$C$2:C39))","v":""},null,null,null,{"$f":"IFERROR(VLOOKUP(C39,Setting!$A$2:$B$33,2,0),\"\")","v":""},"",null,"",""]
[{"$f":"IF(C40=\"\",\"\",SUBTOTAL(3,$C$2:C40))","v":""},null,null,null,{"$f":"IFERROR(VLOOKUP(C40,Setting!$A$2:$B$33,2,0),\"\")","v":""},"",null,"",""]
[{"$f":"IF(C41=\"\",\"\",SUBTOTAL(3,$C$2:C41))","v":""},null,null,null,{"$f":"IFERROR(VLOOKUP(C41,Setting!$A$2:$B$33,2,0),\"\")","v":""},"",null,"",""]
[{"$f":"IF(C42=\"\",\"\",SUBTOTAL(3,$C$2:C42))","v":""},null,null,null,{"$f":"IFERROR(VLOOKUP(C42,Setting!$A$2:$B$33,2,0),\"\")","v":""},"",null,"",""]
[{"$f":"IF(C43=\"\",\"\",SUBTOTAL(3,$C$2:C43))","v":""},null,null,null,{"$f":"IFERROR(VLOOKUP(C43,Setting!$A$2:$B$33,2,0),\"\")","v":""},"",null,"",""]
[{"$f":"IF(C44=\"\",\"\",SUBTOTAL(3,$C$2:C44))","v":""},null,null,null,{"$f":"IFERROR(VLOOKUP(C44,Setting!$A$2:$B$33,2,0),\"\")","v":""},"",null,"",""]
[{"$f":"IF(C45=\"\",\"\",SUBTOTAL(3,$C$2:C45))","v":""},null,null,null,{"$f":"IFERROR(VLOOKUP(C45,Setting!$A$2:$B$33,2,0),\"\")","v":""},"",null,"",""]
[{"$f":"IF(C46=\"\",\"\",SUBTOTAL(3,$C$2:C46))","v":""},null,null,null,{"$f":"IFERROR(VLOOKUP(C46,Setting!$A$2:$B$33,2,0),\"\")","v":""},"",null,"",""]
[{"$f":"IF(C47=\"\",\"\",SUBTOTAL(3,$C$2:C47))","v":""},null,null,null,{"$f":"IFERROR(VLOOKUP(C47,Setting!$A$2:$B$33,2,0),\"\")","v":""},"",null,"",""]
[{"$f":"IF(C48=\"\",\"\",SUBTOTAL(3,$C$2:C48))","v":""},null,null,null,{"$f":"IFERROR(VLOOKUP(C48,Setting!$A$2:$B$33,2,0),\"\")","v":""},"",null,"",""]
[{"$f":"IF(C49=\"\",\"\",SUBTOTAL(3,$C$2:C49))","v":""},null,null,null,{"$f":"IFERROR(VLOOKUP(C49,Setting!$A$2:$B$33,2,0),\"\")","v":""},"",null,"",""]
[{"$f":"IF(C50=\"\",\"\",SUBTOTAL(3,$C$2:C50))","v":""},null,null,null,{"$f":"IFERROR(VLOOKUP(C50,Setting!$A$2:$B$33,2,0),\"\")","v":""},"",null,"",""]
[{"$f":"IF(C51=\"\",\"\",SUBTOTAL(3,$C$2:C51))","v":""},null,null,null,{"$f":"IFERROR(VLOOKUP(C51,Setting!$A$2:$B$33,2,0),\"\")","v":""},"",null,"",""]
[{"$f":"IF(C52=\"\",\"\",SUBTOTAL(3,$C$2:C52))","v":""},null,null,null,{"$f":"IFERROR(VLOOKUP(C52,Setting!$A$2:$B$33,2,0),\"\")","v":""},"",null,"",""]
[{"$f":"IF(C53=\"\",\"\",SUBTOTAL(3,$C$2:C53))","v":""},null,null,null,{"$f":"IFERROR(VLOOKUP(C53,Setting!$A$2:$B$33,2,0),\"\")","v":""},"",null,"",""]
[{"$f":"IF(C54=\"\",\"\",SUBTOTAL(3,$C$2:C54))","v":""},null,null,null,{"$f":"IFERROR(VLOOKUP(C54,Setting!$A$2:$B$33,2,0),\"\")","v":""},"",null,"",""]
[{"$f":"IF(C55=\"\",\"\",SUBTOTAL(3,$C$2:C55))","v":""},null,null,null,{"$f":"IFERROR(VLOOKUP(C55,Setting!$A$2:$B$33,2,0),\"\")","v":""},"",null,"",""]
[{"$f":"IF(C56=\"\",\"\",SUBTOTAL(3,$C$2:C56))","v":""},null,null,null,{"$f":"IFERROR(VLOOKUP(C56,Setting!$A$2:$B$33,2,0),\"\")","v":""},"",null,"",""]
[{"$f":"IF(C57=\"\",\"\",SUBTOTAL(3,$C$2:C57))","v":""},null,null,null,{"$f":"IFERROR(VLOOKUP(C57,Setting!$A$2:$B$33,2,0),\"\")","v":""},"",null,"",""]
[{"$f":"IF(C58=\"\",\"\",SUBTOTAL(3,$C$2:C58))","v":""},null,null,null,{"$f":"IFERROR(VLOOKUP(C58,Setting!$A$2:$B$33,2,0),\"\")","v":""},"",null,"",""]
[{"$f":"IF(C59=\"\",\"\",SUBTOTAL(3,$C$2:C59))","v":""},null,null,null,{"$f":"IFERROR(VLOOKUP(C59,Setting!$A$2:$B$33,2,0),\"\")","v":""},"",null,"",""]
[{"$f":"IF(C60=\"\",\"\",SUBTOTAL(3,$C$2:C60))","v":""},null,null,null,{"$f":"IFERROR(VLOOKUP(C60,Setting!$A$2:$B$33,2,0),\"\")","v":""},"",null,"",""]
[{"$f":"IF(C61=\"\",\"\",SUBTOTAL(3,$C$2:C61))","v":""},null,null,null,{"$f":"IFERROR(VLOOKUP(C61,Setting!$A$2:$B$33,2,0),\"\")","v":""},"",null,"",""]
[{"$f":"IF(C62=\"\",\"\",SUBTOTAL(3,$C$2:C62))","v":""},null,null,null,{"$f":"IFERROR(VLOOKUP(C62,Setting!$A$2:$B$33,2,0),\"\")","v":""},"",null,"",""]
[{"$f":"IF(C63=\"\",\"\",SUBTOTAL(3,$C$2:C63))","v":""},null,null,null,{"$f":"IFERROR(VLOOKUP(C63,Setting!$A$2:$B$33,2,0),\"\")","v":""},"",null,"",""]
[{"$f":"IF(C64=\"\",\"\",SUBTOTAL(3,$C$2:C64))","v":""},null,null,null,{"$f":"IFERROR(VLOOKUP(C64,Setting!$A$2:$B$33,2,0),\"\")","v":""},"",null,"",""]
[{"$f":"IF(C65=\"\",\"\",SUBTOTAL(3,$C$2:C65))","v":""},null,null,null,{"$f":"IFERROR(VLOOKUP(C65,Setting!$A$2:$B$33,2,0),\"\")","v":""},"",null,"",""]
[{"$f":"IF(C66=\"\",\"\",SUBTOTAL(3,$C$2:C66))","v":""},null,null,null,{"$f":"IFERROR(VLOOKUP(C66,Setting!$A$2:$B$33,2,0),\"\")","v":""},"",null,"",""]
[{"$f":"IF(C67=\"\",\"\",SUBTOTAL(3,$C$2:C67))","v":""},null,null,null,{"$f":"IFERROR(VLOOKUP(C67,Setting!$A$2:$B$33,2,0),\"\")","v":""},{"$f":"IFERROR(B67*E67,\"\")","v":""},null,{"$f":"IFERROR(F67-G67,\"\")","v":""},{"$f":"IF(D67=\"\",\"\",TODAY())","v":""}]
[{"$f":"IF(C68=\"\",\"\",SUBTOTAL(3,$C$2:C68))","v":""},null,null,null,{"$f":"IFERROR(VLOOKUP(C68,Setting!$A$2:$B$33,2,0),\"\")","v":""},"",null,"",""]
[{"$f":"IF(C69=\"\",\"\",SUBTOTAL(3,$C$2:C69))","v":""},null,null,null,{"$f":"IFERROR(VLOOKUP(C69,Setting!$A$2:$B$33,2,0),\"\")","v":""},"",null,"",""]
[{"$f":"IF(C70=\"\",\"\",SUBTOTAL(3,$C$2:C70))","v":""},null,null,null,{"$f":"IFERROR(VLOOKUP(C70,Setting!$A$2:$B$33,2,0),\"\")","v":""},"",null,"",""]
[{"$f":"IF(C71=\"\",\"\",SUBTOTAL(3,$C$2:C71))","v":""},null,null,null,{"$f":"IFERROR(VLOOKUP(C71,Setting!$A$2:$B$33,2,0),\"\")","v":""},"",null,"",""]
[{"$f":"IF(C72=\"\",\"\",SUBTOTAL(3,$C$2:C72))","v":""},null,null,null,{"$f":"IFERROR(VLOOKUP(C72,Setting!$A$2:$B$33,2,0),\"\")","v":""},"",null,"",""]
[{"$f":"IF(C73=\"\",\"\",SUBTOTAL(3,$C$2:C73))","v":""},null,null,null,{"$f":"IFERROR(VLOOKUP(C73,Setting!$A$2:$B$33,2,0),\"\")","v":""},"",null,"",""]
[{"$f":"IF(C74=\"\",\"\",SUBTOTAL(3,$C$2:C74))","v":""},null,null,null,{"$f":"IFERROR(VLOOKUP(C74,Setting!$A$2:$B$33,2,0),\"\")","v":""},"",null,"",""]
[{"$f":"IF(C75=\"\",\"\",SUBTOTAL(3,$C$2:C75))","v":""},null,null,null,{"$f":"IFERROR(VLOOKUP(C75,Setting!$A$2:$B$33,2,0),\"\")","v":""},"",null,"",""]
[{"$f":"IF(C76=\"\",\"\",SUBTOTAL(3,$C$2:C76))","v":""},null,null,null,{"$f":"IFERROR(VLOOKUP(C76,Setting!$A$2:$B$33,2,0),\"\")","v":""},"",null,"",""]
[{"$f":"IF(C77=\"\",\"\",SUBTOTAL(3,$C$2:C77))","v":""},null,null,null,{"$f":"IFERROR(VLOOKUP(C77,Setting!$A$2:$B$33,2,0),\"\")","v":""},"",null,"",""]
[{"$f":"IF(C78=\"\",\"\",SUBTOTAL(3,$C$2:C78))","v":""},null,null,null,{"$f":"IFERROR(VLOOKUP(C78,Setting!$A$2:$B$33,2,0),\"\")","v":""},"",null,"",""]
[{"$f":"IF(C79=\"\",\"\",SUBTOTAL(3,$C$2:C79))","v":""},null,null,null,{"$f":"IFERROR(VLOOKUP(C79,Setting!$A$2:$B$33,2,0),\"\")","v":""},"",null,"",""]
[{"$f":"IF(C80=\"\",\"\",SUBTOTAL(3,$C$2:C80))","v":""},null,null,null,{"$f":"IFERROR(VLOOKUP(C80,Setting!$A$2:$B$33,2,0),\"\")","v":""},"",null,"",""]
[{"$f":"IF(C81=\"\",\"\",SUBTOTAL(3,$C$2:C81))","v":""},null,null,null,{"$f":"IFERROR(VLOOKUP(C81,Setting!$A$2:$B$33,2,0),\"\")","v":""},"",null,"",""]
[{"$f":"IF(C82=\"\",\"\",SUBTOTAL(3,$C$2:C82))","v":""},null,null,null,{"$f":"IFERROR(VLOOKUP(C82,Setting!$A$2:$B$33,2,0),\"\")","v":""},"",null,"",""]
[{"$f":"IF(C83=\"\",\"\",SUBTOTAL(3,$C$2:C83))","v":""},null,null,null,{"$f":"IFERROR(VLOOKUP(C83,Setting!$A$2:$B$33,2,0),\"\")","v":""},"",null,"",""]
[{"$f":"IF(C84=\"\",\"\",SUBTOTAL(3,$C$2:C84))","v":""},null,null,null,{"$f":"IFERROR(VLOOKUP(C84,Setting!$A$2:$B$33,2,0),\"\")","v":""},"",null,"",""]
[{"$f":"IF(C85=\"\",\"\",SUBTOTAL(3,$C$2:C85))","v":""},null,null,null,{"$f":"IFERROR(VLOOKUP(C85,Setting!$A$2:$B$33,2,0),\"\")","v":""},"",null,"",""]
[{"$f":"IF(C86=\"\",\"\",SUBTOTAL(3,$C$2:C86))","v":""},null,null,null,{"$f":"IFERROR(VLOOKUP(C86,Setting!$A$2:$B$33,2,0),\"\")","v":""},"",null,"",""]
[{"$f":"IF(C87=\"\",\"\",SUBTOTAL(3,$C$2:C87))","v":""},null,null,null,{"$f":"IFERROR(VLOOKUP(C87,Setting!$A$2:$B$33,2,0),\"\")","v":""},"",null,"",""]
[{"$f":"IF(C88=\"\",\"\",SUBTOTAL(3,$C$2:C88))","v":""},null,null,null,{"$f":"IFERROR(VLOOKUP(C88,Setting!$A$2:$B$33,2,0),\"\")","v":""},"",null,"",""]
[{"$f":"IF(C89=\"\",\"\",SUBTOTAL(3,$C$2:C89))","v":""},null,null,null,{"$f":"IFERROR(VLOOKUP(C89,Setting!$A$2:$B$33,2,0),\"\")","v":""},"",null,"",""]
[{"$f":"IF(C90=\"\",\"\",SUBTOTAL(3,$C$2:C90))","v":""},null,null,null,{"$f":"IFERROR(VLOOKUP(C90,Setting!$A$2:$B$33,2,0),\"\")","v":""},"",null,"",""]
[{"$f":"IF(C91=\"\",\"\",SUBTOTAL(3,$C$2:C91))","v":""},null,null,null,{"$f":"IFERROR(VLOOKUP(C91,Setting!$A$2:$B$33,2,0),\"\")","v":""},"",null,"",""]
[{"$f":"IF(C92=\"\",\"\",SUBTOTAL(3,$C$2:C92))","v":""},null,null,null,{"$f":"IFERROR(VLOOKUP(C92,Setting!$A$2:$B$33,2,0),\"\")","v":""},"",null,"",""]
[{"$f":"IF(C93=\"\",\"\",SUBTOTAL(3,$C$2:C93))","v":""},null,null,null,{"$f":"IFERROR(VLOOKUP(C93,Setting!$A$2:$B$33,2,0),\"\")","v":""},"",null,"",""]
[{"$f":"IF(C94=\"\",\"\",SUBTOTAL(3,$C$2:C94))","v":""},null,null,null,{"$f":"IFERROR(VLOOKUP(C94,Setting!$A$2:$B$33,2,0),\"\")","v":""},"",null,"",""]
[{"$f":"IF(C95=\"\",\"\",SUBTOTAL(3,$C$2:C95))","v":""},null,null,null,{"$f":"IFERROR(VLOOKUP(C95,Setting!$A$2:$B$33,2,0),\"\")","v":""},"",null,"",""]
[{"$f":"IF(C96=\"\",\"\",SUBTOTAL(3,$C$2:C96))","v":""},null,null,null,{"$f":"IFERROR(VLOOKUP(C96,Setting!$A$2:$B$33,2,0),\"\")","v":""},"",null,"",""]
[{"$f":"IF(C97=\"\",\"\",SUBTOTAL(3,$C$2:C97))","v":""},null,null,null,{"$f":"IFERROR(VLOOKUP(C97,Setting!$A$2:$B$33,2,0),\"\")","v":""},"",null,"",""]
[{"$f":"IF(C98=\"\",\"\",SUBTOTAL(3,$C$2:C98))","v":""},null,null,null,{"$f":"IFERROR(VLOOKUP(C98,Setting!$A$2:$B$33,2,0),\"\")","v":""},"",null,"",""]
[{"$f":"IF(C99=\"\",\"\",SUBTOTAL(3,$C$2:C99))","v":""},null,null,null,{"$f":"IFERROR(VLOOKUP(C99,Setting!$A$2:$B$33,2,0),\"\")","v":""},"",null,"",""]
[{"$f":"IF(C100=\"\",\"\",SUBTOTAL(3,$C$2:C100))","v":""},null,null,null,{"$f":"IFERROR(VLOOKUP(C100,Setting!$A$2:$B$33,2,0),\"\")","v":""},"",null,"",""]
[{"$f":"IF(C101=\"\",\"\",SUBTOTAL(3,$C$2:C101))","v":""},null,null,null,{"$f":"IFERROR(VLOOKUP(C101,Setting!$A$2:$B$33,2,0),\"\")","v":""},"",null,"",""]

{"sheet":"عميل رقم 1","index":1,"n_rows":2,"n_cols":9,"rows_kept":2,"cut":false,"hidden":false,"merged":[]}
["مسلسل","الوزن بالكيلو","الصنف","الاسم","السعر",{"$f":"SUM($F$2:$F$1000)","v":5},{"$f":"SUM($G$2:$G$1000)","v":0},{"$f":"SUM($H$2:$H$1000)","v":5},"التاريخ"]
[1,2,"بلدى","عميل رقم 1",2.5,5,null,5,"2018-09-28"]

{"sheet":"عميل رقم 2","index":2,"n_rows":2,"n_cols":9,"rows_kept":2,"cut":false,"hidden":false,"merged":[]}
["مسلسل","الوزن بالكيلو","الصنف","الاسم","السعر",{"$f":"SUM($F$2:$F$1000)","v":12},{"$f":"SUM($G$2:$G$1000)","v":0},{"$f":"SUM($H$2:$H$1000)","v":12},"التاريخ"]
[2,4,"ساسو","عميل رقم 2",3,12,null,12,"2018-09-28"]

{"sheet":"عميل رقم 3","index":3,"n_rows":2,"n_cols":9,"rows_kept":2,"cut":false,"hidden":false,"merged":[]}
["مسلسل","الوزن بالكيلو","الصنف","الاسم","السعر",{"$f":"SUM($F$2:$F$1000)","v":21},{"$f":"SUM($G$2:$G$1000)","v":0},{"$f":"SUM($H$2:$H$1000)","v":21},"التاريخ"]
[3,6,"دقى","عميل رقم 3",3.5,21,null,21,"2018-09-28"]

{"sheet":"عميل رقم 4","index":4,"n_rows":2,"n_cols":9,"rows_kept":2,"cut":false,"hidden":false,"merged":[]}
["مسلسل","الوزن بالكيلو","الصنف","الاسم","السعر",{"$f":"SUM($F$2:$F$1000)","v":32},{"$f":"SUM($G$2:$G$1000)","v":0},{"$f":"SUM($H$2:$H$1000)","v":32},"التاريخ"]
[4,8,"فيومى","عميل رقم 4",4,32,null,32,"2018-09-28"]

{"sheet":"عميل رقم 5","index":5,"n_rows":2,"n_cols":9,"rows_kept":2,"cut":false,"hidden":false,"merged":[]}
["مسلسل","الوزن بالكيلو","الصنف","الاسم","السعر",{"$f":"SUM($F$2:$F$1000)","v":45},{"$f":"SUM($G$2:$G$1000)","v":0},{"$f":"SUM($H$2:$H$1000)","v":45},"التاريخ"]
[5,10,"دشيشة","عميل رقم 5",4.5,45,null,45,"2018-09-28"]

{"sheet":"عميل رقم 6","index":6,"n_rows":2,"n_cols":9,"rows_kept":2,"cut":false,"hidden":false,"merged":[]}
["مسلسل","الوزن بالكيلو","الصنف","الاسم","السعر",{"$f":"SUM($F$2:$F$1000)","v":54},{"$f":"SUM($G$2:$G$1000)","v":0},{"$f":"SUM($H$2:$H$1000)","v":54},"التاريخ"]
[6,12,"ردة","عميل رقم 6",4.5,54,null,54,"2018-09-28"]

{"sheet":"عميل رقم 7","index":7,"n_rows":2,"n_cols":9,"rows_kept":2,"cut":false,"hidden":false,"merged":[]}
["مسلسل","الوزن بالكيلو","الصنف","الاسم","السعر",{"$f":"SUM($F$2:$F$1000)","v":70},{"$f":"SUM($G$2:$G$1000)","v":0},{"$f":"SUM($H$2:$H$1000)","v":70},"التاريخ"]
[7,14,"علف بط","عميل رقم 7",5,70,null,70,"2018-09-28"]

{"sheet":"عميل رقم 8","index":8,"n_rows":2,"n_cols":9,"rows_kept":2,"cut":false,"hidden":false,"merged":[]}
["مسلسل","الوزن بالكيلو","الصنف","الاسم","السعر",{"$f":"SUM($F$2:$F$1000)","v":80},{"$f":"SUM($G$2:$G$1000)","v":0},{"$f":"SUM($H$2:$H$1000)","v":80},"التاريخ"]
[8,16,"بياض","عميل رقم 8",5,80,null,80,"2018-09-28"]

{"sheet":"عميل رقم 9","index":9,"n_rows":2,"n_cols":9,"rows_kept":2,"cut":false,"hidden":false,"merged":[]}
["مسلسل","الوزن بالكيلو","الصنف","الاسم","السعر",{"$f":"SUM($F$2:$F$1000)","v":117},{"$f":"SUM($G$2:$G$1000)","v":0},{"$f":"SUM($H$2:$H$1000)","v":117},"التاريخ"]
[9,18,"تسمين","عميل رقم 9",6.5,117,null,117,"2018-09-28"]

{"sheet":"عميل رقم 10","index":10,"n_rows":2,"n_cols":9,"rows_kept":2,"cut":false,"hidden":false,"merged":[]}
["مسلسل","الوزن بالكيلو","الصنف","الاسم","السعر",{"$f":"SUM($F$2:$F$1000)","v":140},{"$f":"SUM($G$2:$G$1000)","v":0},{"$f":"SUM($H$2:$H$1000)","v":140},"التاريخ"]
[10,20,"بادى نامى خشن","عميل رقم 10",7,140,null,140,"2018-09-28"]

{"sheet":"عميل رقم 11","index":11,"n_rows":2,"n_cols":9,"rows_kept":2,"cut":false,"hidden":false,"merged":[]}
["مسلسل","الوزن بالكيلو","الصنف","الاسم","السعر",{"$f":"SUM($F$2:$F$1000)","v":154},{"$f":"SUM($G$2:$G$1000)","v":0},{"$f":"SUM($H$2:$H$1000)","v":154},"التاريخ"]
[11,22,"بادى نامى ناعم","عميل رقم 11",7,154,null,154,"2018-09-28"]

{"sheet":"عميل رقم 12","index":12,"n_rows":2,"n_cols":9,"rows_kept":2,"cut":false,"hidden":false,"merged":[]}
["مسلسل","الوزن بالكيلو","الصنف","الاسم","السعر",{"$f":"SUM($F$2:$F$1000)","v":168},{"$f":"SUM($G$2:$G$1000)","v":0},{"$f":"SUM($H$2:$H$1000)","v":168},"التاريخ"]
[12,24,"نامى خشن","عميل رقم 12",7,168,null,168,"2018-09-28"]

{"sheet":"عميل رقم 13","index":13,"n_rows":2,"n_cols":9,"rows_kept":2,"cut":false,"hidden":false,"merged":[]}
["مسلسل","الوزن بالكيلو","الصنف","الاسم","السعر",{"$f":"SUM($F$2:$F$1000)","v":195},{"$f":"SUM($G$2:$G$1000)","v":0},{"$f":"SUM($H$2:$H$1000)","v":195},"التاريخ"]
[13,26,"بادى ناعم","عميل رقم 13",7.5,195,null,195,"2018-09-28"]

{"sheet":"عميل رقم 14","index":14,"n_rows":2,"n_cols":9,"rows_kept":2,"cut":false,"hidden":false,"merged":[]}
["مسلسل","الوزن بالكيلو","الصنف","الاسم","السعر",{"$f":"SUM($F$2:$F$1000)","v":420},{"$f":"SUM($G$2:$G$1000)","v":0},{"$f":"SUM($H$2:$H$1000)","v":420},"التاريخ"]
[14,28,"مولر","عميل رقم 14",15,420,null,420,"2018-09-28"]

{"sheet":"عميل رقم 15","index":15,"n_rows":2,"n_cols":9,"rows_kept":2,"cut":false,"hidden":false,"merged":[]}
["مسلسل","الوزن بالكيلو","الصنف","الاسم","السعر",{"$f":"SUM($F$2:$F$1000)","v":540},{"$f":"SUM($G$2:$G$1000)","v":0},{"$f":"SUM($H$2:$H$1000)","v":540},"التاريخ"]
[15,30,"موسكوفى","عميل رقم 15",18,540,null,540,"2018-09-28"]

{"sheet":"عميل رقم 16","index":16,"n_rows":2,"n_cols":9,"rows_kept":2,"cut":false,"hidden":false,"merged":[]}
["مسلسل","الوزن بالكيلو","الصنف","الاسم","السعر",{"$f":"SUM($F$2:$F$1000)","v":960},{"$f":"SUM($G$2:$G$1000)","v":0},{"$f":"SUM($H$2:$H$1000)","v":960},"التاريخ"]
[16,32,"رومى","عميل رقم 16",30,960,null,960,"2018-09-28"]

{"sheet":"عميل رقم 17","index":17,"n_rows":2,"n_cols":9,"rows_kept":2,"cut":false,"hidden":false,"merged":[]}
["مسلسل","الوزن بالكيلو","الصنف","الاسم","السعر",{"$f":"SUM($F$2:$F$1000)","v":85},{"$f":"SUM($G$2:$G$1000)","v":0},{"$f":"SUM($H$2:$H$1000)","v":85},"التاريخ"]
[17,34,"بلدى","عميل رقم 17",2.5,85,null,85,"2018-09-28"]

{"sheet":"عميل رقم 18","index":18,"n_rows":2,"n_cols":9,"rows_kept":2,"cut":false,"hidden":false,"merged":[]}
["مسلسل","الوزن بالكيلو","الصنف","الاسم","السعر",{"$f":"SUM($F$2:$F$1000)","v":108},{"$f":"SUM($G$2:$G$1000)","v":0},{"$f":"SUM($H$2:$H$1000)","v":108},"التاريخ"]
[18,36,"ساسو","عميل رقم 18",3,108,null,108,"2018-09-28"]

{"sheet":"عميل رقم 19","index":19,"n_rows":2,"n_cols":9,"rows_kept":2,"cut":false,"hidden":false,"merged":[]}
["مسلسل","الوزن بالكيلو","الصنف","الاسم","السعر",{"$f":"SUM($F$2:$F$1000)","v":133},{"$f":"SUM($G$2:$G$1000)","v":0},{"$f":"SUM($H$2:$H$1000)","v":133},"التاريخ"]
[19,38,"دقى","عميل رقم 19",3.5,133,null,133,"2018-09-28"]

{"sheet":"عميل رقم 20","index":20,"n_rows":2,"n_cols":9,"rows_kept":2,"cut":false,"hidden":false,"merged":[]}
["مسلسل","الوزن بالكيلو","الصنف","الاسم","السعر",{"$f":"SUM($F$2:$F$1000)","v":160},{"$f":"SUM($G$2:$G$1000)","v":0},{"$f":"SUM($H$2:$H$1000)","v":160},"التاريخ"]
[20,40,"فيومى","عميل رقم 20",4,160,null,160,"2018-09-28"]

{"sheet":"Setting","index":21,"n_rows":21,"n_cols":5,"rows_kept":21,"cut":false,"hidden":true,"merged":[]}
["اسماء الأصناف","سعر الكيلو",null,null,"أسماء العملاء"]
["بلدى",2.5,null,null,"عميل رقم 1"]
["ساسو",3,null,null,"عميل رقم 2"]
["دقى",3.5,null,null,"عميل رقم 3"]
["فيومى",4,null,null,"عميل رقم 4"]
["دشيشة",4.5,null,null,"عميل رقم 5"]
["ردة",4.5,null,null,"عميل رقم 6"]
["علف بط",5,null,null,"عميل رقم 7"]
["بياض",5,null,null,"عميل رقم 8"]
["تسمين",6.5,null,null,"عميل رقم 9"]
["بادى نامى خشن",7,null,null,"عميل رقم 10"]
["بادى نامى ناعم",7,null,null,"عميل رقم 11"]
["نامى خشن",7,null,null,"عميل رقم 12"]
["بادى ناعم",7.5,null,null,"عميل رقم 13"]
["مولر",15,null,null,"عميل رقم 14"]
["موسكوفى",18,null,null,"عميل رقم 15"]
["رومى",30,null,null,"عميل رقم 16"]
[null,null,null,null,"عميل رقم 17"]
[null,null,null,null,"عميل رقم 18"]
[null,null,null,null,"عميل رقم 19"]
[null,null,null,null,"عميل رقم 20"]