{"text_format":"1","workbook":"xlsx","n_sheets":8,"sheets":["فاتورة","Equation 1","AAA","CCC","SSS","PRIC","Themes","DATA"],"not_rendered":{"charts":0,"images":2,"macros":1,"external_links":1,"defined_names":3,"comments":3,"pivot_tables":0},"unopened":[],"bounds":{"document_bytes":16777216,"sheet_cells":100000,"rows_first":2000,"rows_last":500,"rows_between":2000,"halvings":0,"cell_chars":16384,"cell_head_chars":4096},"cells_cut":0,"cells_raw":0,"read":"whole","date_system":"1900"}

{"sheet":"فاتورة","index":0,"n_rows":357,"n_cols":9,"rows_kept":357,"cut":false,"hidden":false,"merged":[[0,0,0,8],[87,7,90,9],[84,2,84,8],[85,2,85,8],[79,2,79,8],[80,2,80,8],[81,2,81,8],[82,2,82,8],[83,2,83,8],[67,1,67,2],[68,1,68,2],[69,1,69,2],[77,1,77,2],[78,2,78,8],[75,1,75,8],[70,1,70,2],[59,1,59,2],[71,1,71,3],[73,3,73,8],[72,1,73,2],[72,3,72,8],[60,1,60,5],[62,1,62,5],[61,1,61,5],[64,1,64,2],[65,1,65,7],[52,2,52,3],[52,4,52,5],[53,2,53,3],[53,4,53,5],[54,2,54,3],[54,4,54,5],[55,2,55,3],[55,4,55,5],[56,2,56,3],[56,4,56,5],[39,2,39,3],[46,2,46,3],[51,4,51,5],[45,2,45,3],[40,2,40,3],[41,2,41,3],[42,2,42,3],[43,2,43,3],[44,2,44,3],[47,1,47,6],[51,1,51,3],[1,3,1,8],[2,3,2,8],[4,3,4,8],[5,3,5,8],[20,2,20,3],[5,1,5,2],[11,1,11,2],[12,1,12,2],[8,1,8,2],[9,1,9,2],[10,1,10,2],[6,3,6,8],[1,1,1,2],[13,1,13,2],[14,1,14,2],[15,2,15,3],[16,2,16,3],[17,2,17,3],[18,2,18,3],[19,2,19,3],[49,7,49,8],[49,1,49,6],[48,5,48,6],[48,7,48,8],[48,1,48,4],[47,7,47,8],[21,2,21,3],[30,2,30,3],[25,2,25,3],[26,2,26,3],[27,2,27,3],[28,2,28,3],[31,2,31,3],[32,2,32,3],[33,2,33,3],[29,2,29,3],[22,2,22,3],[23,2,23,3],[24,2,24,3],[34,2,34,3],[35,2,35,3],[36,2,36,3],[37,2,37,3],[38,2,38,3],[14,4,14,11],[15,4,15,11],[9,4,9,11],[10,4,10,11],[11,4,11,11],[12,4,12,11],[13,4,13,11],[2,1,2,2],[3,1,3,2],[4,1,4,2],[6,1,6,2]]}
[]
[null,"التاريخ"]
[null,"السيد /"]
[null,"رقم الفاتورة"]
[null,"موبيل"]
[null,"العنوان : "]
[null,"وصف المنتج"]
[]
[null,"المواصفات"]
[null,null,null,null,"يتم استدعاء الفورم و ترقيم الفاتورة تلقائي واختيار النموذج و ملئ (عرض-عمق-ارتفاع)"]
[null,null,null,null,"ثم ترحليهم الي ورقة PRIC  و استدعاء في التكست بوكس "]
[null,null,null,null,"و يتم الضغط علي زر اضافة للترحيل الي ورقة فاتورة"]
[null,null,null,null,"و ترحيل البينات الي ورقة العمل المناسبة (عدد 3 صفحات ) ثم تفرغ الحقول"]
[null,null,null,null,"و البدء من جديد و زر حفظ يتم حفظ الفاتورة ( و كذلك البينات في اوراق العمل )"]
[null,null,null,null,"زر تعديل و حذف يقرأ النماذج من الفاتورة في الكمبوبوكس"]
[null,null,null,null,"و يتم التعامل كما سبق"]
[null,"رقم الوجدة","الوصف",null,"عرض","عمق","ارتفاع",null,"السعر"]
[null,{"$f":"IF(C18=\"\",\"\",SUBTOTAL(3,$C$18:C18))","v":""},null,null,null,null,null,null,{"$f":"IFERROR(VLOOKUP(C18,PRIC!A10:CE30,83,FALSE),\"\")","v":""}]
[null,{"$f":"IF(C19=\"\",\"\",SUBTOTAL(3,$C$18:C19))","v":""}]
[null,{"$f":"IF(C20=\"\",\"\",SUBTOTAL(3,$C$18:C20))","v":""}]
[null,{"$f":"IF(C21=\"\",\"\",SUBTOTAL(3,$C$18:C21))","v":""}]
[null,{"$f":"IF(C22=\"\",\"\",SUBTOTAL(3,$C$18:C22))","v":""}]
[null,{"$f":"IF(C23=\"\",\"\",SUBTOTAL(3,$C$18:C23))","v":""}]
[null,{"$f":"IF(C24=\"\",\"\",SUBTOTAL(3,$C$18:C24))","v":""}]
[null,{"$f":"IF(C25=\"\",\"\",SUBTOTAL(3,$C$18:C25))","v":""}]
[null,{"$f":"IF(C26=\"\",\"\",SUBTOTAL(3,$C$18:C26))","v":""}]
[null,{"$f":"IF(C27=\"\",\"\",SUBTOTAL(3,$C$18:C27))","v":""}]
[null,{"$f":"IF(C28=\"\",\"\",SUBTOTAL(3,$C$18:C28))","v":""}]
[null,{"$f":"IF(C29=\"\",\"\",SUBTOTAL(3,$C$18:C29))","v":""}]
[null,{"$f":"IF(C30=\"\",\"\",SUBTOTAL(3,$C$18:C30))","v":""}]
[null,{"$f":"IF(C31=\"\",\"\",SUBTOTAL(3,$C$18:C31))","v":""}]
[null,{"$f":"IF(C32=\"\",\"\",SUBTOTAL(3,$C$18:C32))","v":""}]
[null,{"$f":"IF(C33=\"\",\"\",SUBTOTAL(3,$C$18:C33))","v":""}]
[null,{"$f":"IF(C34=\"\",\"\",SUBTOTAL(3,$C$18:C34))","v":""}]
[null,{"$f":"IF(C35=\"\",\"\",SUBTOTAL(3,$C$18:C35))","v":""}]
[null,{"$f":"IF(C36=\"\",\"\",SUBTOTAL(3,$C$18:C36))","v":""}]
[null,{"$f":"IF(C37=\"\",\"\",SUBTOTAL(3,$C$18:C37))","v":""}]
[null,{"$f":"IF(C38=\"\",\"\",SUBTOTAL(3,$C$18:C38))","v":""}]
[null,{"$f":"IF(C39=\"\",\"\",SUBTOTAL(3,$C$18:C39))","v":""}]
[null,{"$f":"IF(C40=\"\",\"\",SUBTOTAL(3,$C$18:C40))","v":""}]
[null,{"$f":"IF(C41=\"\",\"\",SUBTOTAL(3,$C$18:C41))","v":""}]
[null,{"$f":"IF(C42=\"\",\"\",SUBTOTAL(3,$C$18:C42))","v":""}]
[null,{"$f":"IF(C43=\"\",\"\",SUBTOTAL(3,$C$18:C43))","v":""}]
[null,{"$f":"IF(C44=\"\",\"\",SUBTOTAL(3,$C$18:C44))","v":""}]
[null,{"$f":"IF(C45=\"\",\"\",SUBTOTAL(3,$C$18:C45))","v":""}]
[null,{"$f":"IF(C46=\"\",\"\",SUBTOTAL(3,$C$18:C46))","v":""}]
[null,{"$f":"IF(C47=\"\",\"\",SUBTOTAL(3,$C$18:C47))","v":""}]
[null,"اجمالي الوحدات",null,null,null,null,null,{"$f":"SUM(I18:I47)","v":0}]
[null,"          الخصم",null,null,null,null,null,{"$f":"H48*-F49","v":0}]
[null,"        اجمالي الوحدات بعد الخصم",null,null,null,null,null,{"$f":"H49+H48","v":0}]
[]
[]
[]
[]
[]
[]
[]
[]
[]
[]
[]
[]
[]
[]
[]
[]
[]
[]
[]
[]
[]
[]
[]
[]
[]
[]
[]
[]
[]
[]
[]
[]
[]
[]
[]
[]
[]
[]
[]
[]
[]
[]
[]
[]
[]
[]
[]
[]
[]
[]
[]
[]
[]
[]
[]
[]
[]
[]
[]
[]
[]
[]
[]
[]
[]
[]
[]
[]
[]
[]
[]
[]
[]
[]
[]
[]
[]
[]
[]
[]
[]
[]
[]
[]
[]
[]
[]
[]
[]
[]
[]
[]
[]
[]
[]
[]
[]
[]
[]
[]
[]
[]
[]
[]
[]
[]
[]
[]
[]
[]
[]
[]
[]
[]
[]
[]
[]
[]
[]
[]
[]
[]
[]
[]
[]
[]
[]
[]
[]
[]
[]
[]
[]
[]
[]
[]
[]
[]
[]
[]
[]
[]
[]
[]
[]
[]
[]
[]
[]
[]
[]
[]
[]
[]
[]
[]
[]
[]
[]
[]
[]
[]
[]
[]
[]
[]
[]
[]
[]
[]
[]
[]
[]
[]
[]
[]
[]
[]
[]
[]
[]
[]
[]
[]
[]
[]
[]
[]
[]
[]
[]
[]
[]
[]
[]
[]
[]
[]
[]
[]
[]
[]
[]
[]
[]
[]
[]
[]
[]
[]
[]
[]
[]
[]
[]
[]
[]
[]
[]
[]
[]
[]
[]
[]
[]
[]
[]
[]
[]
[]
[]
[]
[]
[]
[]
[]
[]
[]
[]
[]
[]
[]
[]
[]
[]
[]
[]
[]
[]
[]
[]
[]
[]
[]
[]
[]
[]
[]
[]
[]
[]
[]
[]
[]
[]
[]
[]
[]
[]
[]
[]
[]
[]
[]
[]
[]
[]
[]
[]
[]
[]
[]
[]
[]
[]
[]
[]
[]
[]
[]
[]
[]
[]
[]
[]
[]
[]
[]
[]
[]
[]
[]
[]
[]
[]
[]
[null,null,{"$f":"فاتورة!E4","v":0}]

{"sheet":"Equation 1","index":1,"n_rows":37,"n_cols":25,"rows_kept":37,"cut":false,"hidden":true,"merged":[]}
[]
[null,{"$f":"(1-(ROUND(B4,0)-ROUND(B4,7)))","v":1},null,{"$f":"(1-(ROUND(D4,0)-ROUND(D4,1)))","v":1},null,{"$f":"(1-(ROUND(F4,0)-ROUND(F4,7)))","v":1},null,{"$f":"(1-(ROUND(H4,0)-ROUND(H4,7)))","v":1},null,{"$f":"(1-(ROUND(J4,0)-ROUND(J4,7)))","v":1},null,{"$f":"(1-(ROUND(L4,0)-ROUND(L4,7)))","v":1},null,{"$f":"(1-(ROUND(N4,0)-ROUND(N4,10)))","v":1},null,{"$f":"(1-(ROUND(P4,0)-ROUND(P4,10)))","v":1},null,{"$f":"(1-(ROUND(R4,0)-ROUND(R4,10)))","v":1},null,{"$f":"(1-(ROUND(T4,0)-ROUND(T4,10)))","v":1}]
[null,{"$f":"IF(B2<1,ROUND(B4-(1-(ROUND(B4,0)-ROUND(B4,1))),0),ROUND(B4,0))","v":0},null,{"$f":"IF(D2<1,ROUND(D4-(1-(ROUND(D4,0)-ROUND(D4,1))),0),ROUND(D4,0))","v":0},null,{"$f":"IF(F2<1,ROUND(F4-(1-(ROUND(F4,0)-ROUND(F4,1))),0),ROUND(F4,0))","v":0},null,{"$f":"IF(H2<1,ROUND(H4-(1-(ROUND(H4,0)-ROUND(H4,1))),0),ROUND(H4,0))","v":0},null,{"$f":"IF(J2<1,ROUND(J4-(1-(ROUND(J4,0)-ROUND(J4,1))),0),ROUND(J4,0))","v":0},null,{"$f":"IF(L2<1,ROUND(L4-(1-(ROUND(L4,0)-ROUND(L4,1))),0),ROUND(L4,0))","v":0},null,{"$f":"IF(N2<1,ROUND(N4-(1-(ROUND(N4,0)-ROUND(N4,1))),0),ROUND(N4,0))","v":0},null,{"$f":"IF(P2<1,ROUND(P4-(1-(ROUND(P4,0)-ROUND(P4,1))),0),ROUND(P4,0))","v":0},null,{"$f":"IF(R2<1,ROUND(R4-(1-(ROUND(R4,0)-ROUND(R4,1))),0),ROUND(R4,0))","v":0},null,{"$f":"IF(T2<1,ROUND(T4-(1-(ROUND(T4,0)-ROUND(T4,1))),0),ROUND(T4,0))","v":0},null,null,null,null,{"$f":"فاتورة!D73","v":0}]
[null,{"$f":"(H4-H3)*10","v":0},null,{"$f":"(B4-B3)*10","v":0},null,{"$f":"(J4-J3)*10","v":0},null,{"$f":"(F4-F3)*10","v":0},null,{"$f":"(N4-N3)*10","v":0},null,{"$f":"(P4-P3)*10","v":0},null,{"$f":"(L4-L3)*10","v":0},null,{"$f":"(T4-T3)*10","v":0},null,{"$f":"Y3/10000000","v":0},null,{"$f":"(R4-R3)*10","v":0},null,null,null,null,{"$f":"فاتورة!D73","v":0}]
[{"$f":"IF(SUM(B3:T3)<1,\"\",IF(B20<1,A6,IF(B20<3,A8,IF(B20>=11,A7,A9))))","v":""},{"$f":"IF(B3=C6,B6,IF(B3=C7,B7,IF(B3=C8,B8,IF(B3=C9,B9,IF(B3=C10,B10,B11)))))","v":""},{"$f":"IF(B5=B6,\"\",IF(D3=0,\"\",IF(B$3>0.99999999999,\"و\",\"\")))","v":""},{"$f":"IF(D3=E6,D6,IF(D3=E7,D7,IF(D3=E8,D8,IF(D3=E9,D9,IF(D3=E10,D10,D11)))))","v":""},{"$f":"IF(SUM(F3:T3)>0,E11,\"\")","v":""},{"$f":"IF(F3=G6,F6,IF(F3=G7,F7,IF(F3=G8,F8,IF(F3=G9,F9,IF(F3=G10,F10,F11)))))","v":""},{"$f":"IF(F5=F6,G11,IF(H3+J3+L3+N3+P3+R3+T3=0,\"\",IF(F$3>0.99999999999,\"و\",\"\")))","v":""},{"$f":"IF(H3=I6,H6,IF(H3=I7,H7,IF(H3=I8,H8,IF(H3=I9,H9,IF(H3=I10,H10,H11)))))","v":""},{"$f":"IF(J3+L3+N3+P3+R3+T3=0,\"\",IF(H$3>0.99999999999,\"و\",\"\"))","v":""},{"$f":"IF(J3=K6,J6,IF(J3=K7,J7,IF(J3=K8,J8,IF(J3=K9,J9,IF(J3=K10,J10,J11)))))","v":""},{"$f":"IF(L3+N3+P3+R3+T3=0,\"\",IF(J$3>0.99999999999,\"و\",\"\"))","v":""},{"$f":"IF(L3=M6,L6,IF(L3=M7,L7,IF(L3=M8,L8,IF(L3=M9,L9,IF(L3=M10,L10,L11)))))","v":""},{"$f":"IF(L5=L6,M11,IF(N3+P3+R3+T3+V3=0,\"\",IF(L$3>0.99999999999,\"و\",\"\")))","v":""},{"$f":"IF(N3=O6,N6,IF(N3=O7,N7,IF(N3=O8,N8,IF(N3=O9,N9,IF(N3=O10,N10,N11)))))","v":""},{"$f":"IF(P3+R3+T3=0,\"\",IF(N$3>0.99999999999,\"و\",\"\"))","v":""},{"$f":"IF(P3=Q6,P6,IF(P3=Q7,P7,IF(P3=Q8,P8,IF(P3=Q9,P9,IF(P3=Q10,P10,P11)))))","v":""},{"$f":"IF(R3+T3=0,\"\",IF(P$3>0.99999999999,\"و\",\"\"))","v":""},{"$f":"IF(R3=S6,R6,IF(R3=S7,R7,IF(R3=S8,R8,IF(R3=S9,R9,IF(R3=S10,R10,R11)))))","v":""},{"$f":"IF(R5=R6,\"\",IF(T3=0,\"\",IF(R$3>0.99999999999,\"و\",\"\")))","v":""},{"$f":"IF(T3=1,T6,IF(T3=U7,T7,IF(T3=U8,T8,IF(T3=U9,T9,IF(T3=U10,T10,T11)))))","v":""},null,{"$f":"IF(Y3>0,\" فقط  : \",\"\")","v":""}]
[{"$f":"IF(F4>1.09,A14,IF(F4<0.29,A14,A15))","v":"لاغير "},{"$f":"IF(D3>0.9,B17,B16)","v":"عشرة "},1,{"$f":"IF(B5=B6,D16,D18)","v":"واحد "},1,{"$f":"IF(H3>0.9,F17,F16)","v":"عشرة "},1,{"$f":"IF(F5=F6,H16,H18)","v":"واحد "},1,"مائة ",1,{"$f":"IF(N3>0.9,L17,L16)","v":"عشرة آلاف "},1,{"$f":"IF(L3>0.9999999,N16,N29)","v":"الف "},1,{"$f":"IF(L3>0.9999999,P16,P29)","v":"مائة الف "},1,{"$f":"IF(T3>0.9,R17,R16)","v":"عشرة ملايين "},1,{"$f":"IF(R3>0.9999999,T16,T29)","v":"مليون "},1,null,null,null,{"$f":"IF(Y3>0.0001,(V5&U5&T5&S5&R5&Q5&P5&O5&N5&M5&L5&K5&J5&I5&H5&G5&F5&E5&D5&C5&B5&A5),\"أيمن عصفور\")","v":"أيمن عصفور"}]
["قرشاً لاغير","عشرون ",2,{"$f":"IF(B5=B6,D17,D19)","v":"إثنين "},2,"عشرون ",2,{"$f":"IF(F5=F6,H17,H19)","v":"إثنين "},2,"مائتين ",2,{"$f":"IF(L$28=0,L20,K20)","v":"عشرون ألف "},2,{"$f":"IF(L3>0.9999999,N17,N30)","v":"ألفان "},2,{"$f":"IF(L3>0.9999999,P17,P30)","v":"مائتي الف "},2,"عشرين مليون ",2,{"$f":"IF(R3>0.9999999,T17,T30)","v":"مليونان "},2]
["لاغير ","ثلاثون ",3,"ثلاثة ",3,"ثلاثون ",3,"ثلاثة ",3,"ثلاثمائة ",3,{"$f":"IF(L$28=0,L21,K21)","v":"ثلاثون ألف "},3,{"$f":"IF(L3>0.9999999,N18,N31)","v":"ثلاثة آلاف "},3,{"$f":"IF(L3>0.9999999,P18,P31)","v":"ثلاثمائة الف "},3,"ثلاثون مليون ",3,{"$f":"IF(R3>0.9999999,T18,T31)","v":"ثلاثة ملايين "},3]
["قروش لاغير","أربعون ",4,"أربعة ",4,"أربعون ",4,"أربعة ",4,"أربعمائة ",4,{"$f":"IF(L$28=0,L22,K22)","v":"أربعون ألف "},4,{"$f":"IF(L3>0.9999999,N19,N32)","v":"أربعة آلاف "},4,{"$f":"IF(L3>0.9999999,P19,P32)","v":"أربعمائة الف "},4,"أربعون مليون ",4,{"$f":"IF(R3>0.9999999,T19,T32)","v":"أربعة ملايين "},4]
[null,"خمسون ",5,"خمسة ",5,"خمسون ",5,"خمسة ",5,"خمسمائة ",5,{"$f":"IF(L$28=0,L23,K23)","v":"خمسون ألف "},5,{"$f":"IF(L3>0.9999999,N20,N33)","v":"خمسة آلاف "},5,{"$f":"IF(L3>0.9999999,P20,P33)","v":"خمسمائة الف "},5,"خمسون مليون ",5,{"$f":"IF(R3>0.9999999,T20,T33)","v":"خمسة ملايين "},5]
[{"$f":"IF(F4>1.09,A13,IF(F4<0.3,A13,A12))","v":"و "},{"$f":"IF(B3=C12,B12,IF(B3=C13,B13,IF(B3=C14,B14,IF(B3=C15,B15,\"\"))))","v":""},null,{"$f":"IF(D3=E12,D12,IF(D3=E13,D13,IF(D3=E14,D14,IF(D3=E15,D15,\"\"))))","v":""},{"$f":"IF(B4>0.099,A11,\"\")","v":""},{"$f":"IF(F3=G12,F12,IF(F3=G13,F13,IF(F3=G14,F14,IF(F3=G15,F15,\"\"))))","v":""},{"$f":"IF((H3+J3+L3+N3+P3+R3+T3)<1,\"\",IF(H3>0.9,\"\",\"و\"))","v":""},{"$f":"IF(H3=I12,H12,IF(H3=I13,H13,IF(H3=I14,H14,IF(H3=I15,H15,\"\"))))","v":""},null,{"$f":"IF(J3=K12,J12,IF(J3=K13,J13,IF(J3=K14,J14,IF(J3=K15,J15,\"\"))))","v":""},null,{"$f":"IF(L3=M12,L12,IF(L3=M13,L13,IF(L3=M14,L14,IF(L3=M15,L15,\"\"))))","v":""},{"$f":"IF((N3+P3+R3+T3)<1,\"\",IF(N3>0.9,\"\",\"و\"))","v":""},{"$f":"IF(N3=O12,N12,IF(N3=O13,N13,IF(N3=O14,N14,IF(N3=O15,N15,\"\"))))","v":""},null,{"$f":"IF(P3=Q12,P12,IF(P3=Q13,P13,IF(P3=Q14,P14,IF(P3=Q15,P15,\"\"))))","v":""},null,{"$f":"IF(R3=S12,R12,IF(R3=S13,R13,IF(R3=S14,R14,IF(R3=S15,R15,\"\"))))","v":""},null,{"$f":"IF(T3=U12,T12,IF(T3=U13,T13,IF(T3=U14,T14,IF(T3=U15,T15,\"\"))))","v":""}]
["جنيهات و","ستون ",6,"ستة ",6,"ستون ",6,"ستة ",6,"ستمائة ",6,{"$f":"IF(L$28=0,L24,K24)","v":"ستون ألف "},6,{"$f":"IF(L3>0.9999999,N21,N34)","v":"ستة آلاف "},6,{"$f":"IF(L3>0.9999999,P21,P34)","v":"ستمائة الف "},6,"ستون مليون ",6,{"$f":"IF(R3>0.9999999,T21,T34)","v":"ستة ملايين "},6]
[{"$f":"IF(Y3<3,\"و \",A17)","v":"و "},"سبعون ",7,"سبعة ",7,"سبعون ",7,"سبعة ",7,"سبعمائة ",7,{"$f":"IF(L$28=0,L25,K25)","v":"سبعون ألف "},7,{"$f":"IF(L3>0.9999999,N22,N35)","v":"سبعة آلاف "},7,{"$f":"IF(L3>0.9999999,P22,P35)","v":"سبعمائة الف "},7,"سبعون مليون ",7,{"$f":"IF(R3>0.9999999,T22,T35)","v":"سبعة ملايين "},7]
[{"$f":"IF(Y3<3,A8,A16)","v":"لاغير "},"ثمانون ",8,"ثمانية ",8,"ثمانون ",8,"ثمانية ",8,"ثمانمائة ",8,{"$f":"IF(L$28=0,L26,K26)","v":"ثمانون ألف "},8,{"$f":"IF(L3>0.9999999,N23,N36)","v":"ثمانية آلاف "},8,{"$f":"IF(L3>0.9999999,P23,P36)","v":"ثمانمائة الف "},8,"ثمانون مليون ",8,{"$f":"IF(R3>0.9999999,T23,T36)","v":"ثمانية ملايين "},8]
["جنيهات لاغير ","تسعون ",9,"تسعة ",9,"تسعون ",9,"تسعة ",9,"تسعمائة ",9,{"$f":"IF(L$28=0,L27,K27)","v":"تسعون ألف "},9,{"$f":"IF(L3>0.9999999,N24,N37)","v":"تسعة آلاف "},9,{"$f":"IF(L3>0.9999999,P24,P37)","v":"تسعمائة الف "},9,"تسعون مليون ",9,{"$f":"IF(R3>0.9999999,T24,T37)","v":"تسعة ملايين "},9]
[{"$f":"IF(A20>0.00001,A18,A19)","v":"جنيه لاغير "},"عشرة ",null,"احدى ",null,"عشرة ",null,"احدى ",null,null,null,"عشرة آلاف ",null,{"$f":"IF(L5=L6,N25,N27)","v":"واحد "},null,"مائة ",null,"عشرة ملايين ",null,{"$f":"IF(R5=R6,T25,T27)","v":"واحد "}]
[{"$f":"IF(A20>0.00001,A21,A22)","v":"جنيه و"},"عشر ",null,"إثنا ",null,"عشر ",null,"إثنا ",null,null,null,{"$f":"IF(L28=0,K18,L18)","v":"عشر ألف "},null,{"$f":"IF(L5=L6,N26,N28)","v":"إثنين "},null,"مائتين ",null,"عشر مليون ",null,{"$f":"IF(R5=R6,T26,T28)","v":"إثنين "}]
[{"$f":"IF(L28=0,A19,B18)","v":"جنيه لاغير "},"جنيهاً لاغير ",null,{"$f":"IF(D3+B3=1,D22,D20)","v":"واحد "},null,null,null,{"$f":"IF(Y3=1,\"جنيهاً واحداً \",IF(Y3>1,IF(Y3<2,\"جنيهاً واحداً \",H20),H20))","v":"واحد "},null,null,"عشر ألف ","عشر ألفاً ",null,"ثلاثة ",null,"ثلاثمائة ",null,null,null,"ثلاثة "]
["جنيه لاغير ",{"$f":"(B3&D3)","v":"00"},null,{"$f":"IF(D3+B3=2,D23,D21)","v":"إثنين "},null,null,null,{"$f":"IF(Y3=2,\"جنيهان \",IF(Y3>2,IF(Y3<3,\"جنيهان \",H21),H21))","v":"إثنين "},null,null,null,"عشر ألف ",null,"أربعة ",null,"أربعمائة ",null,null,null,"أربعة "]
[{"$f":"L3+J3+H3+F3","v":0},{"$f":"B19/1","v":0},null,"واحد ",null,null,null,"واحد ",null,null,"عشرون ألفاً ","عشرون ألف ",null,"خمسة ",null,"خمسمائة ",null,null,null,"خمسة "]
["جنيهاً و",null,null,"إثنين ",null,null,null,"إثنين ",null,null,"ثلاثون ألفاً ","ثلاثون ألف ",null,"ستة ",null,"ستمائة ",null,null,null,"ستة "]
["جنيه و",null,null,"قرش واحد ",null,null,null,null,null,null,"أربعون ألفاً ","أربعون ألف ",null,"سبعة ",null,"سبعمائة ",null,null,null,"سبعة "]
[null,null,null,"قرشان ",null,null,null,null,null,null,"خمسون ألفاً ","خمسون ألف ",null,"ثمانية ",null,"ثمانمائة ",null,null,null,"ثمانية "]
[null,null,null,null,null,null,null,null,null,null,"ستون ألفاً ","ستون ألف ",null,"تسعة ",null,"تسعمائة ",null,null,null,"تسعة "]
[null,null,null,null,null,null,null,null,null,null,"سبعون ألفاً ","سبعون ألف ",null,"احد ",null,null,null,null,null,"احد "]
[null,null,null,null,null,null,null,null,null,null,"ثمانون ألفاً ","ثمانون ألف ",null,"إثنا",null,null,null,null,null,"إثنا "]
[null,null,null,null,null,null,null,null,null,null,"تسعون ألفاً ","تسعون ألف ",null,"واحد ",null,null,null,null,null,"واحد "]
[null,null,null,null,null,null,null,null,null,null,null,{"$f":"SUM(F3:J3)","v":0},null,"إثنين ",null,null,null,null,null,"إثنين "]
[null,null,null,null,null,null,null,null,null,null,null,null,null,"الف ",null,"مائة الف ",null,null,null,"مليون "]
[null,null,null,null,null,null,null,null,null,null,null,null,null,"ألفان ",null,"مائتي الف ",null,null,null,"مليونان "]
[null,null,null,null,null,null,null,null,null,null,null,null,null,"ثلاثة آلاف ",null,"ثلاثمائة الف ",null,null,null,"ثلاثة ملايين "]
[null,null,null,null,null,null,null,null,null,null,null,null,null,"أربعة آلاف ",null,"أربعمائة الف ",null,null,null,"أربعة ملايين "]
[null,null,null,null,null,null,null,null,null,null,null,null,null,"خمسة آلاف ",null,"خمسمائة الف ",null,null,null,"خمسة ملايين "]
[null,null,null,null,null,null,null,null,null,null,null,null,null,"ستة آلاف ",null,"ستمائة الف ",null,null,null,"ستة ملايين "]
[null,null,null,null,null,null,null,null,null,null,null,null,null,"سبعة آلاف ",null,"سبعمائة الف ",null,null,null,"سبعة ملايين "]
[null,null,null,null,null,null,null,null,null,null,null,null,null,"ثمانية آلاف ",null,"ثمانمائة الف ",null,null,null,"ثمانية ملايين "]
[null,null,null,null,null,null,null,null,null,null,null,null,null,"تسعة آلاف ",null,"تسعمائة الف ",null,null,null,"تسعة ملايين "]

{"sheet":"AAA","index":2,"n_rows":4,"n_cols":35,"rows_kept":4,"cut":false,"hidden":false,"merged":[[1,21,1,27],[1,28,1,34],[0,5,0,8],[0,9,0,12],[0,13,0,15],[0,16,0,18],[1,5,1,13],[1,14,1,20],[0,19,0,21],[0,22,0,24],[0,25,0,27],[0,28,0,30]]}
[]
[null,null,null,null,null,{"$f":"PRIC!E8","v":"قطاع 1"},null,null,null,null,null,null,null,null,{"$f":"PRIC!N8","v":"قطاع  2"},null,null,null,null,null,null,{"$f":"PRIC!U8","v":"قطاع  3"},null,null,null,null,null,null,{"$f":"PRIC!AB8","v":"قطاع  4"}]
["م","الوصف","عرض","عمق","ارتفاع",{"$f":"PRIC!E9","v":"عرض"},{"$f":"PRIC!F9","v":"عدد"},{"$f":"PRIC!G9","v":"عمق"},{"$f":"PRIC!H9","v":"عدد"},{"$f":"PRIC!I9","v":"ارتفاع"},{"$f":"PRIC!J9","v":"عدد"},{"$f":"PRIC!K9","v":"م-طولي"},{"$f":"PRIC!L9","v":"وزن"},{"$f":"PRIC!M9","v":"$"},{"$f":"PRIC!N9","v":"عرض"},{"$f":"PRIC!O9","v":"عدد"},{"$f":"PRIC!P9","v":"ارتفاع"},{"$f":"PRIC!Q9","v":"عدد"},{"$f":"PRIC!R9","v":"م-طولي"},{"$f":"PRIC!S9","v":"وزن"},{"$f":"PRIC!T9","v":"$"},{"$f":"PRIC!U9","v":"عرض"},{"$f":"PRIC!V9","v":"عدد"},{"$f":"PRIC!W9","v":"عمق"},{"$f":"PRIC!X9","v":"عدد"},{"$f":"PRIC!Y9","v":"م-طولي"},{"$f":"PRIC!Z9","v":"وزن"},{"$f":"PRIC!AA9","v":"$"},{"$f":"PRIC!AB9","v":"عرض"},{"$f":"PRIC!AC9","v":"عدد"},{"$f":"PRIC!AD9","v":"ارتفاع"},{"$f":"PRIC!AE9","v":"عدد"},{"$f":"PRIC!AF9","v":"م-طولي"},{"$f":"PRIC!AG9","v":"وزن"},{"$f":"PRIC!AH9","v":"$"}]
["B18","C18","E","F","G"]

{"sheet":"CCC","index":3,"n_rows":4,"n_cols":22,"rows_kept":4,"cut":false,"hidden":false,"merged":[[1,5,1,7],[1,8,1,10],[1,11,1,13],[1,14,1,16],[1,17,1,19]]}
[]
[null,null,null,null,null,{"$f":"PRIC!AI8","v":"خلفي"},null,null,{"$f":"PRIC!AL8","v":"جانبي"},null,null,{"$f":"PRIC!AO8","v":"سفلي + علوي"},null,null,{"$f":"PRIC!AR8","v":"ضلفة"},null,null,{"$f":"PRIC!AU8","v":"رف"},null,null,{"$f":"PRIC!AX8","v":"مساحة"}]
["م","الوصف","عرض","عمق","ارتفاع",{"$f":"PRIC!AI9","v":"عرض"},{"$f":"PRIC!AJ9","v":"ارتفاع"},{"$f":"PRIC!AK9","v":"عدد"},{"$f":"PRIC!AL9","v":"عرض"},{"$f":"PRIC!AM9","v":"ارتفاع"},{"$f":"PRIC!AN9","v":"عدد"},{"$f":"PRIC!AO9","v":"عرض"},{"$f":"PRIC!AP9","v":"ارتفاع"},{"$f":"PRIC!AQ9","v":"عدد"},{"$f":"PRIC!AR9","v":"عرض"},{"$f":"PRIC!AS9","v":"ارتفاع"},{"$f":"PRIC!AT9","v":"عدد"},{"$f":"PRIC!AU9","v":"عرض"},{"$f":"PRIC!AV9","v":"ارتفاع"},{"$f":"PRIC!AW9","v":"عدد"},{"$f":"PRIC!AX9","v":"م-مربع"},{"$f":"PRIC!AY9","v":"$"}]
["B18","C18","E","F","G"]

{"sheet":"SSS","index":4,"n_rows":4,"n_cols":35,"rows_kept":4,"cut":false,"hidden":false,"merged":[[1,23,1,25],[1,26,1,28],[1,29,1,31],[1,32,1,34],[1,5,1,7],[1,8,1,10],[1,11,1,13],[1,14,1,16],[1,17,1,19],[1,20,1,22]]}
[]
[null,null,null,null,null,{"$f":"PRIC!AZ8","v":1},null,null,{"$f":"PRIC!BC8","v":2},null,null,{"$f":"PRIC!BF8","v":3},null,null,{"$f":"PRIC!BI8","v":4},null,null,{"$f":"PRIC!BL8","v":5},null,null,{"$f":"PRIC!BO8","v":6},null,null,{"$f":"PRIC!BR8","v":7},null,null,{"$f":"PRIC!BU8","v":8},null,null,{"$f":"PRIC!BX8","v":9},null,null,{"$f":"PRIC!CA8","v":10}]
["م","الوصف","عرض","عمق","ارتفاع",{"$f":"PRIC!AZ9","v":"عدد"},{"$f":"PRIC!BA9","v":"سعر"},{"$f":"PRIC!BB9","v":"$"},{"$f":"PRIC!BC9","v":"عدد"},{"$f":"PRIC!BD9","v":"سعر"},{"$f":"PRIC!BE9","v":"$"},{"$f":"PRIC!BF9","v":"عدد"},{"$f":"PRIC!BG9","v":"سعر"},{"$f":"PRIC!BH9","v":"$"},{"$f":"PRIC!BI9","v":"عدد"},{"$f":"PRIC!BJ9","v":"سعر"},{"$f":"PRIC!BK9","v":"$"},{"$f":"PRIC!BL9","v":"عدد"},{"$f":"PRIC!BM9","v":"سعر"},{"$f":"PRIC!BN9","v":"$"},{"$f":"PRIC!BO9","v":"عدد"},{"$f":"PRIC!BP9","v":"سعر"},{"$f":"PRIC!BQ9","v":"$"},{"$f":"PRIC!BR9","v":"عدد"},{"$f":"PRIC!BS9","v":"سعر"},{"$f":"PRIC!BT9","v":"$"},{"$f":"PRIC!BU9","v":"عدد"},{"$f":"PRIC!BV9","v":"سعر"},{"$f":"PRIC!BW9","v":"$"},{"$f":"PRIC!BX9","v":"عدد"},{"$f":"PRIC!BY9","v":"سعر"},{"$f":"PRIC!BZ9","v":"$"},{"$f":"PRIC!CA9","v":"عدد"},{"$f":"PRIC!CB9","v":"سعر"},{"$f":"PRIC!CC9","v":"$"}]
["B18","C18","E","F","G","الموجود في مجموعة SSS"]

{"sheet":"PRIC","index":5,"n_rows":26,"n_cols":83,"rows_kept":26,"cut":false,"hidden":false,"merged":[[7,51,7,53],[7,54,7,56],[7,63,7,65],[7,75,7,77],[7,78,7,80],[7,66,7,68],[7,69,7,71],[7,72,7,74],[6,34,6,50],[6,4,6,33],[0,82,7,82],[7,37,7,39],[7,40,7,42],[7,43,7,45],[7,46,7,48],[7,49,7,50],[7,4,7,12],[7,13,7,19],[7,20,7,26],[7,27,7,33],[7,34,7,36],[6,51,6,80],[7,57,7,59],[7,60,7,62]]}
[null,null,null,null,null,null,null,null,null,null,null,null,null,null,null,null,null,null,null,null,null,null,null,null,null,null,null,null,null,null,null,null,null,null,null,null,null,null,null,null,null,null,null,null,null,null,null,null,null,null,null,null,null,null,null,null,null,null,null,null,null,null,null,null,null,null,null,null,null,null,null,null,null,null,null,null,null,null,null,null,null,null,"سعر"]
[]
[]
[]
[]
[]
[null,null,null,null,"AAA",null,null,null,null,null,null,null,null,null,null,null,null,null,null,null,null,null,null,null,null,null,null,null,null,null,null,null,null,null,"CCC",null,null,null,null,null,null,null,null,null,null,null,null,null,null,null,null,"SSS"]
[null,null,null,null,"قطاع 1",null,null,null,null,null,null,null,null,"قطاع  2",null,null,null,null,null,null,"قطاع  3",null,null,null,null,null,null,"قطاع  4",null,null,null,null,null,null,"خلفي",null,null,"جانبي",null,null,"سفلي + علوي",null,null,"ضلفة",null,null,"رف",null,null,"مساحة",null,1,null,null,2,null,null,3,null,null,4,null,null,5,null,null,6,null,null,7,null,null,8,null,null,9,null,null,10,null,null,"تكلفة"]
["TYPE","عرض ","عمق","ارتفاع","عرض","عدد","عمق","عدد","ارتفاع","عدد","م-طولي","وزن","$","عرض","عدد","ارتفاع","عدد","م-طولي","وزن","$","عرض","عدد","عمق","عدد","م-طولي","وزن","$","عرض","عدد","ارتفاع","عدد","م-طولي","وزن","$","عرض","ارتفاع","عدد","عرض","ارتفاع","عدد","عرض","ارتفاع","عدد","عرض","ارتفاع","عدد","عرض","ارتفاع","عدد","م-مربع","$","عدد","سعر","$","عدد","سعر","$","عدد","سعر","$","عدد","سعر","$","عدد","سعر","$","عدد","سعر","$","عدد","سعر","$","عدد","سعر","$","عدد","سعر","$","عدد","سعر","$",null,1.2]
["قاعدة 1",null,null,null,{"$f":"B10+Themes!$C$2","v":-5},4,{"$f":"C10+Themes!$C$3","v":-5},4,{"$f":"D10+Themes!$C$4","v":-15},4,{"$f":"((J10*I10)+(H10*G10)+(F10*E10))/100","v":-1},{"$f":"K10*Themes!$D$2","v":-0.4},{"$f":"L10*Themes!$F$2","v":-38},{"$f":"B10+Themes!$C$6","v":-1},2,{"$f":"D10+Themes!$C$8","v":-11},2,{"$f":"((Q10*P10)+(O10*N10))/100","v":-0.24},{"$f":"R10*Themes!$D$6","v":-0.108},{"$f":"S10*Themes!$F$2","v":-10.26},{"$f":"B10+Themes!$C$10","v":-4},2,{"$f":"C10+Themes!$C$11","v":-4},2,{"$f":"((X10*W10)+(V10*U10))/100","v":-0.16},{"$f":"Y10*Themes!$D$10","v":-7.2000000000000008E-2},{"$f":"Z10*Themes!$F$2","v":-6.8400000000000007},{"$f":"B10+Themes!$C$12","v":-3},2,{"$f":"D10+Themes!$C$13","v":-13},2,{"$f":"((AE10*AD10)+(AC10*AB10))/100","v":-0.32},{"$f":"AF10*Themes!$D$12","v":-3.8399999999999997E-2},{"$f":"AG10*Themes!$F$2","v":-3.6479999999999997},{"$f":"B10+Themes!$N$1","v":-1},{"$f":"D10+Themes!$N$2","v":-11},2,{"$f":"C10+Themes!$N$3","v":-1},{"$f":"D10+Themes!$N$4","v":-1},4,{"$f":"B10+Themes!$N$5","v":-1},{"$f":"C10+Themes!$N$6","v":-1},2,{"$f":"B10+Themes!$N$7","v":-2},{"$f":"D10+Themes!$N$8","v":-12},2,{"$f":"B10+Themes!$N$9","v":-5},{"$f":"C10+Themes!$N$10","v":-5},2,{"$f":"((AW10*AV10*AU10)+(AT10*AS10*AR10)+(AQ10*AP10*AO10)+(AN10*AM10*AL10)+(AK10*AJ10*AI10))/10000","v":1.26E-2},{"$f":"AX10*Themes!$F$3","v":1.8900000000000001},8,{"$f":"Themes!$F$4","v":7},{"$f":"BA10*AZ10","v":56},8,{"$f":"Themes!$F$5","v":3},{"$f":"BD10*BC10","v":24},4,{"$f":"Themes!$F$6","v":4},{"$f":"BG10*BF10","v":16},1,{"$f":"Themes!$F$7","v":40},{"$f":"BJ10*BI10","v":40},2,{"$f":"Themes!$F$8","v":20},{"$f":"BM10*BL10","v":40},{"$f":"B10*0.01","v":0},{"$f":"Themes!$F$9","v":80},{"$f":"BP10*BO10","v":0},0,{"$f":"Themes!$F$10","v":375},{"$f":"BS10*BR10","v":0},0,{"$f":"Themes!$F$11","v":40},{"$f":"BV10*BU10","v":0},0,{"$f":"Themes!$F$12","v":60},{"$f":"BY10*BX10","v":0},0,{"$f":"Themes!$F$13","v":70},{"$f":"CB10*CA10","v":0},{"$f":"(BW10+BT10+BQ10+BN10+BK10+BH10+BE10+BB10+AY10+AH10+AA10+T10+M10+BZ10+CC10)","v":119.142},{"$f":"CD10*$CE$9","v":142.97039999999998}]
["قاعدة 2",null,null,null,{"$f":"B11+Themes!$C$2","v":-5},4,{"$f":"C11+Themes!$C$3","v":-5},4,{"$f":"D11+Themes!$C$4","v":-15},4,-1,{"$f":"K11*Themes!$D$2","v":-0.4},{"$f":"L11*Themes!$F$2","v":-38},{"$f":"(B11+Themes!C7)/2","v":-0.75},4,{"$f":"D11+Themes!$C$8","v":-11},4,-0.47,{"$f":"R11*Themes!$D$6","v":-0.21149999999999999},{"$f":"S11*Themes!$F$2","v":-20.092500000000001},{"$f":"B11+Themes!$C$10","v":-4},2,{"$f":"C11+Themes!$C$11","v":-4},2,-0.16,{"$f":"Y11*Themes!$D$10","v":-7.2000000000000008E-2},{"$f":"Z11*Themes!$F$2","v":-6.8400000000000007},{"$f":"B11+Themes!$C$12","v":-3},2,{"$f":"D11+Themes!$C$13","v":-13},2,-0.32,{"$f":"AF11*Themes!$D$12","v":-3.8399999999999997E-2},{"$f":"AG11*Themes!$F$2","v":-3.6479999999999997},{"$f":"B11+Themes!$N$1","v":-1},{"$f":"D11+Themes!$N$2","v":-11},2,{"$f":"C11+Themes!$N$3","v":-1},{"$f":"D11+Themes!$N$4","v":-1},4,{"$f":"B11+Themes!$N$5","v":-1},{"$f":"C11+Themes!$N$6","v":-1},2,{"$f":"(B11+Themes!N11)/2","v":-1},{"$f":"D11+Themes!$N$8","v":-12},4,{"$f":"B11+Themes!$N$9","v":-5},{"$f":"C11+Themes!$N$10","v":-5},2,1.26E-2,{"$f":"AX11*Themes!$F$3","v":1.8900000000000001},8,{"$f":"Themes!$F$4","v":7},56,12,{"$f":"Themes!$F$5","v":3},36,4,{"$f":"Themes!$F$6","v":4},16,2,{"$f":"Themes!$F$7","v":40},80,4,{"$f":"Themes!$F$8","v":20},80,0,{"$f":"Themes!$F$9","v":80},0,0,{"$f":"Themes!$F$10","v":375},0,0,{"$f":"Themes!$F$11","v":40},0,0,{"$f":"Themes!$F$12","v":60},0,0,{"$f":"Themes!$F$13","v":70},0,{"$f":"(BW11+BT11+BQ11+BN11+BK11+BH11+BE11+BB11+AY11+AH11+AA11+T11+M11+BZ11+CC11)","v":201.30949999999999},241.57139999999998]
["قاعدة 3",null,null,null,{"$f":"B12+Themes!$C$2","v":-5},4,{"$f":"C12+Themes!$C$3","v":-5},4,{"$f":"D12+Themes!$C$4","v":-15},4,-1,{"$f":"K12*Themes!$D$2","v":-0.4},{"$f":"L12*Themes!$F$2","v":-38},{"$f":"(B12+Themes!C8)/2","v":-5.5},4,{"$f":"D12+Themes!$C$8","v":-11},4,-0.66,{"$f":"R12*Themes!$D$6","v":-0.29700000000000004},{"$f":"S12*Themes!$F$2","v":-28.215000000000003},{"$f":"B12+Themes!$C$10","v":-4},0,{"$f":"C12+Themes!$C$11","v":-4},0,0,{"$f":"Y12*Themes!$D$10","v":0},{"$f":"Z12*Themes!$F$2","v":0},{"$f":"B12+Themes!$C$12","v":-3},2,{"$f":"D12+Themes!$C$13","v":-13},2,-0.32,{"$f":"AF12*Themes!$D$12","v":-3.8399999999999997E-2},{"$f":"AG12*Themes!$F$2","v":-3.6479999999999997},{"$f":"B12+Themes!$N$1","v":-1},{"$f":"D12+Themes!$N$2","v":-11},2,{"$f":"C12+Themes!$N$3","v":-1},{"$f":"D12+Themes!$N$4","v":-1},4,{"$f":"B12+Themes!$N$5","v":-1},{"$f":"C12+Themes!$N$6","v":-1},2,{"$f":"(B12+Themes!C27)/2","v":0},{"$f":"D12+Themes!$N$8","v":-12},4,{"$f":"B12+Themes!$N$9","v":-5},{"$f":"C12+Themes!$N$10","v":-5},0,2.8E-3,{"$f":"AX12*Themes!$F$3","v":0.42},8,{"$f":"Themes!$F$4","v":7},56,8,{"$f":"Themes!$F$5","v":3},24,4,{"$f":"Themes!$F$6","v":4},16,2,{"$f":"Themes!$F$7","v":40},80,4,{"$f":"Themes!$F$8","v":20},80,0,{"$f":"Themes!$F$9","v":80},0,0,{"$f":"Themes!$F$10","v":375},0,0,{"$f":"Themes!$F$11","v":40},0,0,{"$f":"Themes!$F$12","v":60},0,0,{"$f":"Themes!$F$13","v":70},0,186.55700000000002,223.86840000000001]
["قاعدة 4",null,null,null,{"$f":"B13+Themes!$C$2","v":-5},4,{"$f":"C13+Themes!$C$3","v":-5},4,{"$f":"D13+Themes!$C$4","v":-15},4,-1,{"$f":"K13*Themes!$D$2","v":-0.4},{"$f":"L13*Themes!$F$2","v":-38},{"$f":"(B13+Themes!C9)-65","v":-66},2,{"$f":"D13+Themes!$C$8","v":-11},2,-1.54,{"$f":"R13*Themes!$D$6","v":-0.69300000000000006},{"$f":"S13*Themes!$F$2","v":-65.835000000000008},{"$f":"B13+Themes!$C$10","v":-4},2,{"$f":"C13+Themes!$C$11","v":-4},2,-0.16,{"$f":"Y13*Themes!$D$10","v":-7.2000000000000008E-2},{"$f":"Z13*Themes!$F$2","v":-6.8400000000000007},{"$f":"B13+Themes!$C$12","v":-3},2,{"$f":"D13+Themes!$C$13","v":-13},2,-0.32,{"$f":"AF13*Themes!$D$12","v":-3.8399999999999997E-2},{"$f":"AG13*Themes!$F$2","v":-3.6479999999999997},{"$f":"B13+Themes!$N$1","v":-1},{"$f":"D13+Themes!$N$2","v":-11},2,{"$f":"C13+Themes!$N$3","v":-1},{"$f":"D13+Themes!$N$4","v":-1},4,{"$f":"B13+Themes!$N$5","v":-1},{"$f":"C13+Themes!$N$6","v":-1},2,{"$f":"(B13+Themes!C28)","v":0},{"$f":"D13+Themes!$N$8","v":-12},2,{"$f":"B13+Themes!$N$9","v":-5},{"$f":"C13+Themes!$N$10","v":-5},2,7.7999999999999996E-3,{"$f":"AX13*Themes!$F$3","v":1.17},8,{"$f":"Themes!$F$4","v":7},56,8,{"$f":"Themes!$F$5","v":3},24,4,{"$f":"Themes!$F$6","v":4},16,1,{"$f":"Themes!$F$7","v":40},40,2,{"$f":"Themes!$F$8","v":20},40,0,{"$f":"Themes!$F$9","v":80},0,0,{"$f":"Themes!$F$10","v":375},0,0,{"$f":"Themes!$F$11","v":40},0,0,{"$f":"Themes!$F$12","v":60},0,0,{"$f":"Themes!$F$13","v":70},0,62.84699999999998,75.416399999999967]
["قاعدة 5",null,null,null,{"$f":"B14+Themes!$C$2","v":-5},4,{"$f":"C14+Themes!$C$3","v":-5},4,{"$f":"D14+Themes!$C$4","v":-15},4,-1,{"$f":"K14*Themes!$D$2","v":-0.4},{"$f":"L14*Themes!$F$2","v":-38},{"$f":"(B14+Themes!C10)-65","v":-69},2,{"$f":"D14+Themes!$C$8","v":-11},2,-1.6,{"$f":"R14*Themes!$D$6","v":-0.72000000000000008},{"$f":"S14*Themes!$F$2","v":-68.400000000000006},{"$f":"B14+Themes!$C$10","v":-4},0,{"$f":"C14+Themes!$C$11","v":-4},0,0,{"$f":"Y14*Themes!$D$10","v":0},{"$f":"Z14*Themes!$F$2","v":0},{"$f":"B14+Themes!$C$12","v":-3},2,{"$f":"D14+Themes!$C$13","v":-13},2,-0.32,{"$f":"AF14*Themes!$D$12","v":-3.8399999999999997E-2},{"$f":"AG14*Themes!$F$2","v":-3.6479999999999997},{"$f":"B14+Themes!$N$1","v":-1},{"$f":"D14+Themes!$N$2","v":-11},2,{"$f":"C14+Themes!$N$3","v":-1},{"$f":"D14+Themes!$N$4","v":-1},4,{"$f":"B14+Themes!$N$5","v":-1},{"$f":"C14+Themes!$N$6","v":-1},2,{"$f":"(B14+Themes!C29)","v":0},{"$f":"D14+Themes!$N$8","v":-12},2,{"$f":"B14+Themes!$N$9","v":-5},{"$f":"C14+Themes!$N$10","v":-5},0,2.8E-3,{"$f":"AX14*Themes!$F$3","v":0.42},8,{"$f":"Themes!$F$4","v":7},56,4,{"$f":"Themes!$F$5","v":3},12,4,{"$f":"Themes!$F$6","v":4},16,1,{"$f":"Themes!$F$7","v":40},40,2,{"$f":"Themes!$F$8","v":20},40,0,{"$f":"Themes!$F$9","v":80},0,0,{"$f":"Themes!$F$10","v":375},0,0,{"$f":"Themes!$F$11","v":40},0,0,{"$f":"Themes!$F$12","v":60},0,0,{"$f":"Themes!$F$13","v":70},0,54.371999999999986,65.24639999999998]
["قاعدة 6",null,null,null,{"$f":"B15+Themes!$C$2","v":-5},4,65,4,{"$f":"D15+Themes!$C$4","v":-15},5,1.65,{"$f":"K15*Themes!$D$2","v":0.66},{"$f":"L15*Themes!$F$2","v":62.7},45,2,{"$f":"D15+Themes!$C$8","v":-11},2,0.68,{"$f":"R15*Themes!$D$6","v":0.30600000000000005},{"$f":"S15*Themes!$F$2","v":29.070000000000004},{"$f":"B15+Themes!$C$10","v":-4},2,{"$f":"C15+Themes!$C$11","v":-4},2,-0.16,{"$f":"Y15*Themes!$D$10","v":-7.2000000000000008E-2},{"$f":"Z15*Themes!$F$2","v":-6.8400000000000007},45,2,{"$f":"D15+Themes!$C$13","v":-13},2,0.64,{"$f":"AF15*Themes!$D$12","v":7.6799999999999993E-2},{"$f":"AG15*Themes!$F$2","v":7.2959999999999994},{"$f":"B15+Themes!$N$1","v":-1},{"$f":"D15+Themes!$N$2","v":-11},2,{"$f":"C15+Themes!$N$3","v":-1},{"$f":"D15+Themes!$N$4","v":-1},4,{"$f":"B15+Themes!$N$5","v":-1},{"$f":"C15+Themes!$N$6","v":-1},2,45,{"$f":"D15+Themes!$N$8","v":-12},2,{"$f":"B15+Themes!$N$9","v":-5},{"$f":"C15+Themes!$N$10","v":-5},2,-0.1002,{"$f":"AX15*Themes!$F$3","v":-15.03},8,{"$f":"Themes!$F$4","v":7},56,8,{"$f":"Themes!$F$5","v":3},24,4,{"$f":"Themes!$F$6","v":4},16,1,{"$f":"Themes!$F$7","v":40},40,2,{"$f":"Themes!$F$8","v":20},40,0,{"$f":"Themes!$F$9","v":80},0,0,{"$f":"Themes!$F$10","v":375},0,0,{"$f":"Themes!$F$11","v":40},0,0,{"$f":"Themes!$F$12","v":60},0,0,{"$f":"Themes!$F$13","v":70},0,253.19599999999997,303.83519999999993]
["قاعدة 7",null,null,null,{"$f":"B16+Themes!$C$2","v":-5},4,65,4,{"$f":"D16+Themes!$C$4","v":-15},5,1.65,{"$f":"K16*Themes!$D$2","v":0.66},{"$f":"L16*Themes!$F$2","v":62.7},45,2,{"$f":"D16+Themes!$C$8","v":-11},2,0.68,{"$f":"R16*Themes!$D$6","v":0.30600000000000005},{"$f":"S16*Themes!$F$2","v":29.070000000000004},{"$f":"B16+Themes!$C$10","v":-4},0,{"$f":"C16+Themes!$C$11","v":-4},0,0,{"$f":"Y16*Themes!$D$10","v":0},{"$f":"Z16*Themes!$F$2","v":0},45,2,{"$f":"D16+Themes!$C$13","v":-13},2,0.64,{"$f":"AF16*Themes!$D$12","v":7.6799999999999993E-2},{"$f":"AG16*Themes!$F$2","v":7.2959999999999994},{"$f":"B16+Themes!$N$1","v":-1},{"$f":"D16+Themes!$N$2","v":-11},2,{"$f":"C16+Themes!$N$3","v":-1},{"$f":"D16+Themes!$N$4","v":-1},4,{"$f":"B16+Themes!$N$5","v":-1},{"$f":"C16+Themes!$N$6","v":-1},2,45,{"$f":"D16+Themes!$N$8","v":-12},2,{"$f":"B16+Themes!$N$9","v":-5},{"$f":"C16+Themes!$N$10","v":-5},0,-0.1052,{"$f":"AX16*Themes!$F$3","v":-15.780000000000001},8,{"$f":"Themes!$F$4","v":7},56,4,{"$f":"Themes!$F$5","v":3},12,4,{"$f":"Themes!$F$6","v":4},16,1,{"$f":"Themes!$F$7","v":40},40,2,{"$f":"Themes!$F$8","v":20},40,0,{"$f":"Themes!$F$9","v":80},0,0,{"$f":"Themes!$F$10","v":375},0,0,{"$f":"Themes!$F$11","v":40},0,0,{"$f":"Themes!$F$12","v":60},0,0,{"$f":"Themes!$F$13","v":70},0,247.286,296.7432]
["قاعدة 8",null,null,null,{"$f":"B17+Themes!$C$2","v":-5},4,65,4,{"$f":"D17+Themes!$C$4","v":-15},5,{"$f":"((J17*I17)+(H17*G17)+(F17*E17))/100","v":1.65},{"$f":"K17*Themes!$D$2","v":0.66},{"$f":"L17*Themes!$F$2","v":62.7},{"$f":"B17+Themes!$C$6","v":-1},6,{"$f":"(D17+Themes!$C$8)/3","v":-3.6666666666666665},6,{"$f":"((Q17*P17)+(O17*N17))/100","v":-0.28000000000000003},{"$f":"R17*Themes!$D$6","v":-0.12600000000000003},{"$f":"S17*Themes!$F$2","v":-11.970000000000002},{"$f":"B17+Themes!$C$10","v":-4},0,{"$f":"C17+Themes!$C$11","v":-4},0,{"$f":"((X17*W17)+(V17*U17))/100","v":0},{"$f":"Y17*Themes!$D$10","v":0},{"$f":"Z17*Themes!$F$2","v":0},{"$f":"B17+Themes!$C$12","v":-3},2,{"$f":"D17+Themes!$C$13","v":-13},2,{"$f":"((AE17*AD17)+(AC17*AB17))/100","v":-0.32},{"$f":"AF17*Themes!$D$12","v":-3.8399999999999997E-2},{"$f":"AG17*Themes!$F$2","v":-3.6479999999999997},{"$f":"B17+Themes!$N$1","v":-1},{"$f":"D17+Themes!$N$2","v":-11},2,{"$f":"C17+Themes!$N$3","v":-1},{"$f":"D17+Themes!$N$4","v":-1},4,{"$f":"B17+Themes!$N$5","v":-1},{"$f":"C17+Themes!$N$6","v":-1},2,{"$f":"B17+Themes!$N$7","v":-2},{"$f":"(D17+Themes!$N$8)/3","v":-4},6,{"$f":"B17+Themes!$N$9","v":-5},{"$f":"C17+Themes!$N$10","v":-5},3,{"$f":"((AW17*AV17*AU17)+(AT17*AS17*AR17)+(AQ17*AP17*AO17)+(AN17*AM17*AL17)+(AK17*AJ17*AI17))/10000","v":1.5100000000000001E-2},{"$f":"AX17*Themes!$F$3","v":2.2650000000000001},8,{"$f":"Themes!$F$4","v":7},{"$f":"BA17*AZ17","v":56},12,{"$f":"Themes!$F$5","v":3},{"$f":"BD17*BC17","v":36},4,{"$f":"Themes!$F$6","v":4},{"$f":"BG17*BF17","v":16},3,{"$f":"Themes!$F$7","v":40},{"$f":"BJ17*BI17","v":120},0,{"$f":"Themes!$F$8","v":20},{"$f":"BM17*BL17","v":0},{"$f":"B17*0.01","v":0},{"$f":"Themes!$F$9","v":80},{"$f":"BP17*BO17","v":0},3,{"$f":"Themes!$F$10","v":375},{"$f":"BS17*BR17","v":1125},0,{"$f":"Themes!$F$11","v":40},{"$f":"BV17*BU17","v":0},0,{"$f":"Themes!$F$12","v":60},0,0,{"$f":"Themes!$F$13","v":70},0,1402.3470000000002,1682.8164000000002]
["قاعدة 9",null,null,null,{"$f":"B18+Themes!$C$2","v":-5},4,65,4,{"$f":"D18+Themes!$C$4","v":-15},5,{"$f":"((J18*I18)+(H18*G18)+(F18*E18))/100","v":1.65},{"$f":"K18*Themes!$D$2","v":0.66},{"$f":"L18*Themes!$F$2","v":62.7},{"$f":"B18+Themes!$C$6","v":-1},4,{"$f":"(D18+Themes!$C$8)/2","v":-5.5},4,{"$f":"((Q18*P18)+(O18*N18))/100","v":-0.26},{"$f":"R18*Themes!$D$6","v":-0.11700000000000001},{"$f":"S18*Themes!$F$2","v":-11.115},{"$f":"B18+Themes!$C$10","v":-4},0,{"$f":"C18+Themes!$C$11","v":-4},0,{"$f":"((X18*W18)+(V18*U18))/100","v":0},{"$f":"Y18*Themes!$D$10","v":0},{"$f":"Z18*Themes!$F$2","v":0},{"$f":"B18+Themes!$C$12","v":-3},2,{"$f":"D18+Themes!$C$13","v":-13},2,{"$f":"((AE18*AD18)+(AC18*AB18))/100","v":-0.32},{"$f":"AF18*Themes!$D$12","v":-3.8399999999999997E-2},{"$f":"AG18*Themes!$F$2","v":-3.6479999999999997},{"$f":"B18+Themes!$N$1","v":-1},{"$f":"D18+Themes!$N$2","v":-11},2,{"$f":"C18+Themes!$N$3","v":-1},{"$f":"D18+Themes!$N$4","v":-1},4,{"$f":"B18+Themes!$N$5","v":-1},{"$f":"C18+Themes!$N$6","v":-1},2,{"$f":"B18+Themes!$N$7","v":-2},{"$f":"(D18+Themes!$N$8)/2","v":-6},4,{"$f":"B18+Themes!$N$9","v":-5},{"$f":"C18+Themes!$N$10","v":-5},3,{"$f":"((AW18*AV18*AU18)+(AT18*AS18*AR18)+(AQ18*AP18*AO18)+(AN18*AM18*AL18)+(AK18*AJ18*AI18))/10000","v":1.5100000000000001E-2},{"$f":"AX18*Themes!$F$3","v":2.2650000000000001},8,{"$f":"Themes!$F$4","v":7},{"$f":"BA18*AZ18","v":56},8,{"$f":"Themes!$F$5","v":3},{"$f":"BD18*BC18","v":24},4,{"$f":"Themes!$F$6","v":4},{"$f":"BG18*BF18","v":16},2,{"$f":"Themes!$F$7","v":40},{"$f":"BJ18*BI18","v":80},0,{"$f":"Themes!$F$8","v":20},{"$f":"BM18*BL18","v":0},{"$f":"B18*0.01","v":0},{"$f":"Themes!$F$9","v":80},{"$f":"BP18*BO18","v":0},2,{"$f":"Themes!$F$10","v":375},{"$f":"BS18*BR18","v":750},0,{"$f":"Themes!$F$11","v":40},{"$f":"BV18*BU18","v":0},0,{"$f":"Themes!$F$12","v":60},0,0,{"$f":"Themes!$F$13","v":70},0,976.202,1171.4423999999999]
["قاعدة 10",null,null,null,{"$f":"B19+Themes!$C$2","v":-5},4,65,4,{"$f":"D19+Themes!$C$4","v":-15},5,{"$f":"((J19*I19)+(H19*G19)+(F19*E19))/100","v":1.65},{"$f":"K19*Themes!$D$2","v":0.66},{"$f":"L19*Themes!$F$2","v":62.7},{"$f":"B19+Themes!$C$6","v":-1},6,{"$f":"C19+Themes!C8","v":-11},6,{"$f":"((Q19*P19)+(O19*N19))/100","v":-0.72},{"$f":"R19*Themes!$D$6","v":-0.32400000000000001},{"$f":"S19*Themes!$F$2","v":-30.78},{"$f":"B19+Themes!$C$10","v":-4},0,{"$f":"C19+Themes!$C$11","v":-4},0,{"$f":"((X19*W19)+(V19*U19))/100","v":0},{"$f":"Y19*Themes!$D$10","v":0},{"$f":"Z19*Themes!$F$2","v":0},{"$f":"B19+Themes!$C$12","v":-3},2,{"$f":"D19+Themes!$C$13","v":-13},2,{"$f":"((AE19*AD19)+(AC19*AB19))/100","v":-0.32},{"$f":"AF19*Themes!$D$12","v":-3.8399999999999997E-2},{"$f":"AG19*Themes!$F$2","v":-3.6479999999999997},{"$f":"B19+Themes!$N$1","v":-1},{"$f":"D19+Themes!$N$2","v":-11},2,{"$f":"C19+Themes!$N$3","v":-1},{"$f":"D19+Themes!$N$4","v":-1},4,{"$f":"B19+Themes!$N$5","v":-1},{"$f":"C19+Themes!$N$6","v":-1},2,{"$f":"B19+Themes!$N$7","v":-2},{"$f":"(D19+Themes!$N$8)/2","v":-6},0,{"$f":"B19+Themes!$N$9","v":-5},{"$f":"C19+Themes!$N$10","v":-5},0,{"$f":"((AW19*AV19*AU19)+(AT19*AS19*AR19)+(AQ19*AP19*AO19)+(AN19*AM19*AL19)+(AK19*AJ19*AI19))/10000","v":2.8E-3},{"$f":"AX19*Themes!$F$3","v":0.42},8,{"$f":"Themes!$F$4","v":7},{"$f":"BA19*AZ19","v":56},12,{"$f":"Themes!$F$5","v":3},{"$f":"BD19*BC19","v":36},4,{"$f":"Themes!$F$6","v":4},{"$f":"BG19*BF19","v":16},3,{"$f":"Themes!$F$7","v":40},{"$f":"BJ19*BI19","v":120},0,{"$f":"Themes!$F$8","v":20},{"$f":"BM19*BL19","v":0},{"$f":"B19*0.01","v":0},{"$f":"Themes!$F$9","v":80},{"$f":"BP19*BO19","v":0},0,{"$f":"Themes!$F$10","v":375},{"$f":"BS19*BR19","v":0},0,{"$f":"Themes!$F$11","v":40},{"$f":"BV19*BU19","v":0},3,{"$f":"Themes!$F$12","v":60},180,3,{"$f":"Themes!$F$13","v":70},210,646.69200000000001,776.03039999999999]
["قاعدة 11",null,null,null,{"$f":"B20+Themes!$C$2","v":-5},4,65,4,{"$f":"D20+Themes!$C$4","v":-15},5,{"$f":"((J20*I20)+(H20*G20)+(F20*E20))/100","v":1.65},{"$f":"K20*Themes!$D$2","v":0.66},{"$f":"L20*Themes!$F$2","v":62.7},{"$f":"B20+Themes!$C$6","v":-1},0,{"$f":"D20+Themes!$C$8","v":-11},0,{"$f":"((Q20*P20)+(O20*N20))/100","v":0},{"$f":"R20*Themes!$D$6","v":0},{"$f":"S20*Themes!$F$2","v":0},{"$f":"B20+Themes!$C$10","v":-4},4,{"$f":"C20+Themes!$C$11","v":-4},4,{"$f":"((X20*W20)+(V20*U20))/100","v":-0.32},{"$f":"Y20*Themes!$D$10","v":-0.14400000000000002},{"$f":"Z20*Themes!$F$2","v":-13.680000000000001},{"$f":"B20+Themes!$C$12","v":-3},2,{"$f":"D20+Themes!$C$13","v":-13},2,{"$f":"((AE20*AD20)+(AC20*AB20))/100","v":-0.32},{"$f":"AF20*Themes!$D$12","v":-3.8399999999999997E-2},{"$f":"AG20*Themes!$F$2","v":-3.6479999999999997},{"$f":"B20+Themes!$N$1","v":-1},{"$f":"D20+Themes!$N$2","v":-11},2,{"$f":"C20+Themes!$N$3","v":-1},{"$f":"D20+Themes!$N$4","v":-1},4,{"$f":"B20+Themes!$N$5","v":-1},{"$f":"C20+Themes!$N$6","v":-1},2,{"$f":"B20+Themes!$N$7","v":-2},{"$f":"(D20+Themes!$N$8)","v":-12},0,{"$f":"B20+Themes!$N$9","v":-5},{"$f":"C20+Themes!$N$10","v":-5},4,{"$f":"((AW20*AV20*AU20)+(AT20*AS20*AR20)+(AQ20*AP20*AO20)+(AN20*AM20*AL20)+(AK20*AJ20*AI20))/10000","v":1.2800000000000001E-2},{"$f":"AX20*Themes!$F$3","v":1.9200000000000002},8,{"$f":"Themes!$F$4","v":7},{"$f":"BA20*AZ20","v":56},8,{"$f":"Themes!$F$5","v":3},{"$f":"BD20*BC20","v":24},4,{"$f":"Themes!$F$6","v":4},{"$f":"BG20*BF20","v":16},0,{"$f":"Themes!$F$7","v":40},{"$f":"BJ20*BI20","v":0},0,{"$f":"Themes!$F$8","v":20},{"$f":"BM20*BL20","v":0},{"$f":"B20*0.01","v":0},{"$f":"Themes!$F$9","v":80},{"$f":"BP20*BO20","v":0},0,{"$f":"Themes!$F$10","v":375},{"$f":"BS20*BR20","v":0},0,{"$f":"Themes!$F$11","v":40},{"$f":"BV20*BU20","v":0},0,{"$f":"Themes!$F$12","v":60},{"$f":"BY20*BX20","v":0},0,{"$f":"Themes!$F$13","v":70},{"$f":"CB20*CA20","v":0},{"$f":"(BW20+BT20+BQ20+BN20+BK20+BH20+BE20+BB20+AY20+AH20+AA20+T20+M20+BZ20+CC20)","v":143.292},171.9504]
["قاعدة 12",null,null,null,{"$f":"B21+Themes!$C$2","v":-5},4,{"$f":"C21+Themes!$C$3","v":-5},4,{"$f":"D21+Themes!C5","v":-5},4,-0.6,{"$f":"K21*Themes!$D$2","v":-0.24},{"$f":"L21*Themes!$F$2","v":-22.8},{"$f":"B21+Themes!$C$6","v":-1},2,{"$f":"D21+Themes!C9","v":-1},2,-0.04,{"$f":"R21*Themes!$D$6","v":-1.8000000000000002E-2},{"$f":"S21*Themes!$F$2","v":-1.7100000000000002},{"$f":"B21+Themes!$C$10","v":-4},2,{"$f":"C21+Themes!$C$11","v":-4},2,-0.16,{"$f":"Y21*Themes!$D$10","v":-7.2000000000000008E-2},{"$f":"Z21*Themes!$F$2","v":-6.8400000000000007},{"$f":"B21+Themes!$C$12","v":-3},2,{"$f":"D21+Themes!$C$13","v":-13},2,-0.32,{"$f":"AF21*Themes!$D$12","v":-3.8399999999999997E-2},{"$f":"AG21*Themes!$F$2","v":-3.6479999999999997},{"$f":"B21+Themes!$N$1","v":-1},{"$f":"D21+Themes!N1","v":-1},2,{"$f":"C21+Themes!$N$3","v":-1},{"$f":"D21+Themes!$N$4","v":-1},4,{"$f":"B21+Themes!$N$5","v":-1},{"$f":"C21+Themes!$N$6","v":-1},4,{"$f":"B21+Themes!$N$7","v":-2},{"$f":"D21+Themes!N1","v":-1},2,{"$f":"B21+Themes!$N$9","v":-5},{"$f":"C21+Themes!$N$10","v":-5},2,6.4000000000000003E-3,{"$f":"AX21*Themes!$F$3","v":0.96000000000000008},8,{"$f":"Themes!$F$4","v":7},56,8,{"$f":"Themes!$F$5","v":3},24,0,{"$f":"Themes!$F$6","v":4},0,1,{"$f":"Themes!$F$7","v":40},40,2,{"$f":"Themes!$F$8","v":20},40,0,{"$f":"Themes!$F$9","v":80},0,0,{"$f":"Themes!$F$10","v":375},0,0,{"$f":"Themes!$F$11","v":40},0,0,{"$f":"Themes!$F$12","v":60},0,0,{"$f":"Themes!$F$13","v":70},0,{"$f":"(BW21+BT21+BQ21+BN21+BK21+BH21+BE21+BB21+AY21+AH21+AA21+T21+M21+BZ21+CC21)","v":125.962},151.15440000000001]
["قاعدة 13",null,null,null,{"$f":"B22+Themes!$C$2","v":-5},4,{"$f":"C22+Themes!$C$3","v":-5},4,{"$f":"D22+Themes!C6","v":-1},4,{"$f":"((J22*I22)+(H22*G22)+(F22*E22))/100","v":-0.44},{"$f":"K22*Themes!$D$2","v":-0.17600000000000002},{"$f":"L22*Themes!$F$2","v":-16.720000000000002},{"$f":"B22+Themes!$C$6","v":-1},2,{"$f":"D22+Themes!C10","v":-4},2,{"$f":"((Q22*P22)+(O22*N22))/100","v":-0.1},{"$f":"R22*Themes!$D$6","v":-4.5000000000000005E-2},{"$f":"S22*Themes!$F$2","v":-4.2750000000000004},{"$f":"B22+Themes!$C$10","v":-4},0,{"$f":"C22+Themes!$C$11","v":-4},0,{"$f":"((X22*W22)+(V22*U22))/100","v":0},{"$f":"Y22*Themes!$D$10","v":0},{"$f":"Z22*Themes!$F$2","v":0},{"$f":"B22+Themes!$C$12","v":-3},2,{"$f":"D22+Themes!$C$13","v":-13},2,{"$f":"((AE22*AD22)+(AC22*AB22))/100","v":-0.32},{"$f":"AF22*Themes!$D$12","v":-3.8399999999999997E-2},{"$f":"AG22*Themes!$F$2","v":-3.6479999999999997},{"$f":"B22+Themes!$N$1","v":-1},{"$f":"D22+Themes!N2","v":-11},2,{"$f":"C22+Themes!$N$3","v":-1},{"$f":"D22+Themes!$N$4","v":-1},4,{"$f":"B22+Themes!$N$5","v":-1},{"$f":"C22+Themes!$N$6","v":-1},4,{"$f":"B22+Themes!$N$7","v":-2},{"$f":"D22+Themes!N2","v":-11},2,{"$f":"B22+Themes!$N$9","v":-5},{"$f":"C22+Themes!$N$10","v":-5},0,{"$f":"((AW22*AV22*AU22)+(AT22*AS22*AR22)+(AQ22*AP22*AO22)+(AN22*AM22*AL22)+(AK22*AJ22*AI22))/10000","v":7.4000000000000003E-3},{"$f":"AX22*Themes!$F$3","v":1.1100000000000001},8,{"$f":"Themes!$F$4","v":7},{"$f":"BA22*AZ22","v":56},4,{"$f":"Themes!$F$5","v":3},{"$f":"BD22*BC22","v":12},0,{"$f":"Themes!$F$6","v":4},{"$f":"BG22*BF22","v":0},1,{"$f":"Themes!$F$7","v":40},{"$f":"BJ22*BI22","v":40},2,{"$f":"Themes!$F$8","v":20},{"$f":"BM22*BL22","v":40},0,{"$f":"Themes!$F$9","v":80},{"$f":"BP22*BO22","v":0},0,{"$f":"Themes!$F$10","v":375},{"$f":"BS22*BR22","v":0},0,{"$f":"Themes!$F$11","v":40},{"$f":"BV22*BU22","v":0},0,{"$f":"Themes!$F$12","v":60},{"$f":"BY22*BX22","v":0},0,{"$f":"Themes!$F$13","v":70},{"$f":"CB22*CA22","v":0},124.46700000000001,149.3604]
["قاعدة 14",null,null,null,{"$f":"B23+Themes!$C$2","v":-5},4,{"$f":"C23+Themes!$C$3","v":-5},4,{"$f":"D23+Themes!C7","v":-1.5},4,-0.46,{"$f":"K23*Themes!$D$2","v":-0.18400000000000002},{"$f":"L23*Themes!$F$2","v":-17.480000000000004},{"$f":"(B23+Themes!$C$6)/2","v":-0.5},4,{"$f":"D23+Themes!C11","v":-4},4,-0.18,{"$f":"R23*Themes!$D$6","v":-8.1000000000000003E-2},{"$f":"S23*Themes!$F$2","v":-7.6950000000000003},{"$f":"B23+Themes!$C$10","v":-4},2,{"$f":"C23+Themes!$C$11","v":-4},2,-0.16,{"$f":"Y23*Themes!$D$10","v":-7.2000000000000008E-2},{"$f":"Z23*Themes!$F$2","v":-6.8400000000000007},{"$f":"B23+Themes!$C$12","v":-3},2,{"$f":"D23+Themes!$C$13","v":-13},2,-0.32,{"$f":"AF23*Themes!$D$12","v":-3.8399999999999997E-2},{"$f":"AG23*Themes!$F$2","v":-3.6479999999999997},{"$f":"B23+Themes!$N$1","v":-1},{"$f":"D23+Themes!N3","v":-1},2,{"$f":"C23+Themes!$N$3","v":-1},{"$f":"D23+Themes!$N$4","v":-1},4,{"$f":"B23+Themes!$N$5","v":-1},{"$f":"C23+Themes!$N$6","v":-1},4,{"$f":"(B23+Themes!$N$7)/2","v":-1},{"$f":"D23+Themes!N3","v":-1},4,{"$f":"B23+Themes!$N$9","v":-5},{"$f":"C23+Themes!$N$10","v":-5},2,6.4000000000000003E-3,{"$f":"AX23*Themes!$F$3","v":0.96000000000000008},8,{"$f":"Themes!$F$4","v":7},56,12,{"$f":"Themes!$F$5","v":3},36,0,{"$f":"Themes!$F$6","v":4},0,2,{"$f":"Themes!$F$7","v":40},80,4,{"$f":"Themes!$F$8","v":20},80,0,{"$f":"Themes!$F$9","v":80},0,0,{"$f":"Themes!$F$10","v":375},0,0,{"$f":"Themes!$F$11","v":40},0,0,{"$f":"Themes!$F$12","v":60},0,0,{"$f":"Themes!$F$13","v":70},0,217.29700000000003,260.75640000000004]
["قاعدة 15",null,null,null,{"$f":"B24+Themes!$C$2","v":-5},4,{"$f":"C24+Themes!$C$3","v":-5},4,{"$f":"D24+Themes!C8","v":-11},4,{"$f":"((J24*I24)+(H24*G24)+(F24*E24))/100","v":-0.84},{"$f":"K24*Themes!$D$2","v":-0.33600000000000002},{"$f":"L24*Themes!$F$2","v":-31.92},{"$f":"(B24+Themes!$C$6)/2","v":-0.5},4,{"$f":"D24+Themes!C12","v":-3},4,{"$f":"((Q24*P24)+(O24*N24))/100","v":-0.14000000000000001},{"$f":"R24*Themes!$D$6","v":-6.3000000000000014E-2},{"$f":"S24*Themes!$F$2","v":-5.9850000000000012},{"$f":"B24+Themes!$C$10","v":-4},0,{"$f":"C24+Themes!$C$11","v":-4},0,{"$f":"((X24*W24)+(V24*U24))/100","v":0},{"$f":"Y24*Themes!$D$10","v":0},{"$f":"Z24*Themes!$F$2","v":0},{"$f":"B24+Themes!$C$12","v":-3},2,{"$f":"D24+Themes!$C$13","v":-13},2,{"$f":"((AE24*AD24)+(AC24*AB24))/100","v":-0.32},{"$f":"AF24*Themes!$D$12","v":-3.8399999999999997E-2},{"$f":"AG24*Themes!$F$2","v":-3.6479999999999997},{"$f":"B24+Themes!$N$1","v":-1},{"$f":"D24+Themes!N4","v":-1},2,{"$f":"C24+Themes!$N$3","v":-1},{"$f":"D24+Themes!$N$4","v":-1},4,{"$f":"B24+Themes!$N$5","v":-1},{"$f":"C24+Themes!$N$6","v":-1},4,{"$f":"(B24+Themes!$N$7)/2","v":-1},{"$f":"D24+Themes!N4","v":-1},4,{"$f":"B24+Themes!$N$9","v":-5},{"$f":"C24+Themes!$N$10","v":-5},0,{"$f":"((AW24*AV24*AU24)+(AT24*AS24*AR24)+(AQ24*AP24*AO24)+(AN24*AM24*AL24)+(AK24*AJ24*AI24))/10000","v":1.4E-3},{"$f":"AX24*Themes!$F$3","v":0.21},8,{"$f":"Themes!$F$4","v":7},{"$f":"BA24*AZ24","v":56},8,{"$f":"Themes!$F$5","v":3},{"$f":"BD24*BC24","v":24},0,{"$f":"Themes!$F$6","v":4},{"$f":"BG24*BF24","v":0},2,{"$f":"Themes!$F$7","v":40},{"$f":"BJ24*BI24","v":80},4,{"$f":"Themes!$F$8","v":20},{"$f":"BM24*BL24","v":80},0,{"$f":"Themes!$F$9","v":80},{"$f":"BP24*BO24","v":0},0,{"$f":"Themes!$F$10","v":375},{"$f":"BS24*BR24","v":0},0,{"$f":"Themes!$F$11","v":40},{"$f":"BV24*BU24","v":0},0,{"$f":"Themes!$F$12","v":60},{"$f":"BY24*BX24","v":0},0,{"$f":"Themes!$F$13","v":70},{"$f":"CB24*CA24","v":0},198.65699999999998,238.38839999999996]
["قاعدة 16",null,null,null,{"$f":"B25+Themes!$C$2","v":-5},4,{"$f":"C25+Themes!$C$3","v":-5},4,{"$f":"D25+Themes!C9","v":-1},4,-0.44,{"$f":"K25*Themes!$D$2","v":-0.17600000000000002},{"$f":"L25*Themes!$F$2","v":-16.720000000000002},{"$f":"B25+Themes!$C$6","v":-1},2,{"$f":"D25+Themes!C13","v":-13},2,-0.28000000000000003,{"$f":"R25*Themes!$D$6","v":-0.12600000000000003},{"$f":"S25*Themes!$F$2","v":-11.970000000000002},{"$f":"B25+Themes!$C$10","v":-4},0,{"$f":"C25+Themes!$C$11","v":-4},0,0,{"$f":"Y25*Themes!$D$10","v":0},{"$f":"Z25*Themes!$F$2","v":0},{"$f":"B25+Themes!$C$12","v":-3},2,{"$f":"D25+Themes!$C$13","v":-13},2,-0.32,{"$f":"AF25*Themes!$D$12","v":-3.8399999999999997E-2},{"$f":"AG25*Themes!$F$2","v":-3.6479999999999997},{"$f":"B25+Themes!$N$1","v":-1},{"$f":"D25+Themes!N5","v":-1},2,{"$f":"C25+Themes!$N$3","v":-1},{"$f":"D25+Themes!$N$4","v":-1},4,{"$f":"B25+Themes!$N$5","v":-1},{"$f":"C25+Themes!$N$6","v":-1},4,{"$f":"B25+Themes!$N$7","v":-2},{"$f":"D25+Themes!N5","v":-1},2,{"$f":"B25+Themes!$N$9","v":-5},{"$f":"C25+Themes!$N$10","v":-5},0,1.4E-3,{"$f":"AX25*Themes!$F$3","v":0.21},8,{"$f":"Themes!$F$4","v":7},56,4,{"$f":"Themes!$F$5","v":3},12,0,{"$f":"Themes!$F$6","v":4},0,1,{"$f":"Themes!$F$7","v":40},40,2,{"$f":"Themes!$F$8","v":20},40,0,{"$f":"Themes!$F$9","v":80},0,0,{"$f":"Themes!$F$10","v":375},0,2,{"$f":"Themes!$F$11","v":40},80,0,{"$f":"Themes!$F$12","v":60},0,0,{"$f":"Themes!$F$13","v":70},0,195.87200000000001,235.04640000000001]
["قاعدة 17",null,null,null,{"$f":"B26+Themes!$C$2","v":-5},4,{"$f":"C26+Themes!$C$3","v":-5},4,{"$f":"D26+Themes!C10","v":-4},4,-0.56000000000000005,{"$f":"K26*Themes!$D$2","v":-0.22400000000000003},{"$f":"L26*Themes!$F$2","v":-21.280000000000005},{"$f":"(B26+Themes!$C$6)/2","v":-0.5},4,{"$f":"D26+Themes!C14","v":-3},4,-0.14000000000000001,{"$f":"R26*Themes!$D$6","v":-6.3000000000000014E-2},{"$f":"S26*Themes!$F$2","v":-5.9850000000000012},{"$f":"B26+Themes!$C$10","v":-4},2,{"$f":"C26+Themes!$C$11","v":-4},2,-0.16,{"$f":"Y26*Themes!$D$10","v":-7.2000000000000008E-2},{"$f":"Z26*Themes!$F$2","v":-6.8400000000000007},{"$f":"B26+Themes!$C$12","v":-3},2,{"$f":"D26+Themes!$C$13","v":-13},2,-0.32,{"$f":"AF26*Themes!$D$12","v":-3.8399999999999997E-2},{"$f":"AG26*Themes!$F$2","v":-3.6479999999999997},{"$f":"B26+Themes!$N$1","v":-1},{"$f":"D26+Themes!N6","v":-1},2,{"$f":"C26+Themes!$N$3","v":-1},{"$f":"D26+Themes!$N$4","v":-1},4,{"$f":"B26+Themes!$N$5","v":-1},{"$f":"C26+Themes!$N$6","v":-1},4,{"$f":"(B26+Themes!$N$7)/2","v":-1},{"$f":"D26+Themes!N6","v":-1},4,{"$f":"B26+Themes!$N$9","v":-5},{"$f":"C26+Themes!$N$10","v":-5},2,6.4000000000000003E-3,{"$f":"AX26*Themes!$F$3","v":0.96000000000000008},8,{"$f":"Themes!$F$4","v":7},56,12,{"$f":"Themes!$F$5","v":3},36,0,{"$f":"Themes!$F$6","v":4},0,2,{"$f":"Themes!$F$7","v":40},80,4,{"$f":"Themes!$F$8","v":20},80,0,{"$f":"Themes!$F$9","v":80},0,0,{"$f":"Themes!$F$10","v":375},0,4,{"$f":"Themes!$F$11","v":40},160,0,{"$f":"Themes!$F$12","v":60},0,0,{"$f":"Themes!$F$13","v":70},0,375.20699999999994,450.24839999999989]

{"sheet":"Themes","index":6,"n_rows":14,"n_cols":14,"rows_kept":14,"cut":false,"hidden":true,"merged":[]}
[null,null,"الومنيوم","اوزان",null,"$","Column1",null,null,null,null,null,null,-1]
[null,null,-5,0.4,null,95,null,null,null,null,null,null,null,-11]
[null,null,-5,null,null,150,null,null,null,null,null,null,null,-1]
[null,null,-15,null,null,7,null,null,null,null,null,null,null,-1]
[null,null,-5,null,null,3,null,null,null,null,null,null,null,-1]
[null,null,-1,0.45,null,4,null,null,null,null,null,null,null,-1]
[null,null,-1.5,null,null,40,null,null,null,null,null,null,null,-2]
[null,null,-11,null,null,20,null,null,null,null,null,null,null,-12]
[null,null,-1,null,null,80,null,null,null,null,null,null,null,-5]
[null,null,-4,0.45,null,375,null,null,null,null,null,null,null,-5]
[null,null,-4,null,null,40,null,null,null,null,null,null,null,-2]
[null,null,-3,0.12,null,60]
[null,null,-13,null,null,70]
[null,null,-3]

{"sheet":"DATA","index":7,"n_rows":6,"n_cols":11,"rows_kept":6,"cut":false,"hidden":true,"merged":[]}
[null,null,null,null,null,null,null,null,"أحمر",null,"السيد /"]
[null,null,null,null,null,null,null,null,"أخضر",null,"السيدة / "]
[null,null,null,null,null,null,null,null,"أصفر"]
[null,null,null,null,null,null,null,null,"أسود أسواني"]
[null,null,null,null,null,null,null,null,"سلفر"]
[null,null,null,null,null,null,null,null,"بني"]