{"text_format":"1","workbook":"xlsx","n_sheets":1,"sheets":["نتيجة"],"not_rendered":{"charts":0,"images":0,"macros":1,"external_links":1,"defined_names":1,"comments":0,"pivot_tables":0},"unopened":[],"bounds":{"document_bytes":16777216,"sheet_cells":100000,"rows_first":2000,"rows_last":500,"rows_between":2000,"halvings":0,"cell_chars":16384,"cell_head_chars":4096},"cells_cut":0,"cells_raw":0,"read":"whole","date_system":"1900"}

{"sheet":"نتيجة","index":0,"n_rows":302,"n_cols":20,"rows_kept":302,"cut":false,"hidden":false,"merged":[[0,1,0,17],[1,2,2,2],[1,3,2,3],[1,4,2,4],[1,5,2,5],[1,0,4,0],[1,1,4,1],[1,12,2,12],[1,18,4,18],[1,17,2,17],[1,13,2,13],[1,14,2,14],[1,15,2,15],[1,16,2,16],[1,6,2,6],[1,7,2,7],[1,8,2,8],[1,9,2,9],[1,10,2,10],[1,11,2,11]]}
[null,"نتيجة 335-267-163-88-73"]
["م","الاسم","ماده 1","ماده 2","ماده 3","ماده 4","ماده 5","ماده 6","ماده 7","ماده 8","ماده 9","ماده 10","ماده 11","ماده 12","ماده 13","ماده 14","اجمالى العملى","الاجمالى","الترتيب بالحروف "]
[]
[null,null,20,20,20,20,20,{"$f":"SUM(C4:G4)","v":100},60,50,20,90,70,80,120,30,{"$f":"SUM(I4:P4)","v":520},{"$f":"Q4+H4","v":620}]
[null,null,10,10,10,10,10,{"$f":"SUM(C5:G5)","v":50},30,25,10,45,35,40,60,15,{"$f":"SUM(J5:P5)","v":230},{"$f":"Q5+H5","v":280}]
[null,null,null,null,null,null,null,null,null,null,null,null,null,null,null,null,null,null,"بدون تكرار المراتب","مع تكرار المراتب"]
[78,"طالب رقم 78",17,16,15,13,14,75,50,45,13,60,60,70,95,30,423,498,{"$f":"[1]!Order_Salim(RANK(R7,$R$7:$R$302)+COUNTIF($R$7:R7,R7)-1)","v":"الأوّل"},{"$f":"[1]!Order_Salim(RANK(R7,$R$7:$R$302))","v":"الأوّل"}]
[226,"طالب رقم 226",17,16,15,13,14,75,50,45,13,60,60,70,95,30,423,498,{"$f":"[1]!Order_Salim(RANK(R8,$R$7:$R$302)+COUNTIF($R$7:R8,R8)-1)","v":"الثّاني"},{"$f":"[1]!Order_Salim(RANK(R8,$R$7:$R$302))","v":"الأوّل"}]
[4,"طالب رقم 4",15,13,16,14,15,73,40,35,14,65,65,60,100,30,409,482,{"$f":"[1]!Order_Salim(RANK(R9,$R$7:$R$302)+COUNTIF($R$7:R9,R9)-1)","v":"الثّالث"},{"$f":"[1]!Order_Salim(RANK(R9,$R$7:$R$302))","v":"الثّالث"}]
[5,"طالب رقم 5",16,14,16,12,14,72,40,35,15,65,65,55,105,30,410,482,{"$f":"[1]!Order_Salim(RANK(R10,$R$7:$R$302)+COUNTIF($R$7:R10,R10)-1)","v":"الرّابع"},{"$f":"[1]!Order_Salim(RANK(R10,$R$7:$R$302))","v":"الثّالث"}]
[152,"طالب رقم 152",15,13,16,14,15,73,40,35,14,65,65,60,100,30,409,482,{"$f":"[1]!Order_Salim(RANK(R11,$R$7:$R$302)+COUNTIF($R$7:R11,R11)-1)","v":"الخامس"},{"$f":"[1]!Order_Salim(RANK(R11,$R$7:$R$302))","v":"الثّالث"}]
[153,"طالب رقم 153",16,14,16,12,14,72,40,35,15,65,65,55,105,30,410,482,{"$f":"[1]!Order_Salim(RANK(R12,$R$7:$R$302)+COUNTIF($R$7:R12,R12)-1)","v":"السّادس"},{"$f":"[1]!Order_Salim(RANK(R12,$R$7:$R$302))","v":"الثّالث"}]
[3,"طالب رقم 3",15,13,16,16,15,75,35,30,16,65,65,70,95,30,406,481,{"$f":"[1]!Order_Salim(RANK(R13,$R$7:$R$302)+COUNTIF($R$7:R13,R13)-1)","v":"السّابع"},{"$f":"[1]!Order_Salim(RANK(R13,$R$7:$R$302))","v":"السّابع"}]
[151,"طالب رقم 151",15,13,16,16,15,75,35,30,16,65,65,70,95,30,406,481,{"$f":"[1]!Order_Salim(RANK(R14,$R$7:$R$302)+COUNTIF($R$7:R14,R14)-1)","v":"الثّامن"},{"$f":"[1]!Order_Salim(RANK(R14,$R$7:$R$302))","v":"السّابع"}]
[79,"طالب رقم 79",16,19,14,14,14,77,40,35,12,60,65,55,95,30,392,469,{"$f":"[1]!Order_Salim(RANK(R15,$R$7:$R$302)+COUNTIF($R$7:R15,R15)-1)","v":"التّاسع"},{"$f":"[1]!Order_Salim(RANK(R15,$R$7:$R$302))","v":"التّاسع"}]
[227,"طالب رقم 227",16,19,14,14,14,77,40,35,12,60,65,55,95,30,392,469,{"$f":"[1]!Order_Salim(RANK(R16,$R$7:$R$302)+COUNTIF($R$7:R16,R16)-1)","v":"العاشر"},{"$f":"[1]!Order_Salim(RANK(R16,$R$7:$R$302))","v":"التّاسع"}]
[75,"طالب رقم 75",14,13,14,14,11,66,45,40,14,65,55,50,100,30,399,465,{"$f":"[1]!Order_Salim(RANK(R17,$R$7:$R$302)+COUNTIF($R$7:R17,R17)-1)","v":"الحادي عشر"},{"$f":"[1]!Order_Salim(RANK(R17,$R$7:$R$302))","v":"الحادي عشر"}]
[223,"طالب رقم 223",14,13,14,14,11,66,45,40,14,65,55,50,100,30,399,465,{"$f":"[1]!Order_Salim(RANK(R18,$R$7:$R$302)+COUNTIF($R$7:R18,R18)-1)","v":"الثّاني عشر"},{"$f":"[1]!Order_Salim(RANK(R18,$R$7:$R$302))","v":"الحادي عشر"}]
[6,"طالب رقم 6",15,14,15,15,17,76,45,40,13,45,60,55,100,30,388,464,{"$f":"[1]!Order_Salim(RANK(R19,$R$7:$R$302)+COUNTIF($R$7:R19,R19)-1)","v":"الثّالث عشر"},{"$f":"[1]!Order_Salim(RANK(R19,$R$7:$R$302))","v":"الثّالث عشر"}]
[154,"طالب رقم 154",15,14,15,15,17,76,45,40,13,45,60,55,100,30,388,464,{"$f":"[1]!Order_Salim(RANK(R20,$R$7:$R$302)+COUNTIF($R$7:R20,R20)-1)","v":"الرّابع عشر"},{"$f":"[1]!Order_Salim(RANK(R20,$R$7:$R$302))","v":"الثّالث عشر"}]
[12,"طالب رقم 12",11,10,13,16,14,64,45,40,13,65,50,60,95,30,398,462,{"$f":"[1]!Order_Salim(RANK(R21,$R$7:$R$302)+COUNTIF($R$7:R21,R21)-1)","v":"الخامس عشر"},{"$f":"[1]!Order_Salim(RANK(R21,$R$7:$R$302))","v":"الخامس عشر"}]
[87,"طالب رقم 87",17,16,15,16,13,77,40,35,15,50,50,65,100,30,385,462,{"$f":"[1]!Order_Salim(RANK(R22,$R$7:$R$302)+COUNTIF($R$7:R22,R22)-1)","v":"السّادس عشر"},{"$f":"[1]!Order_Salim(RANK(R22,$R$7:$R$302))","v":"الخامس عشر"}]
[160,"طالب رقم 160",11,10,13,16,14,64,45,40,13,65,50,60,95,30,398,462,{"$f":"[1]!Order_Salim(RANK(R23,$R$7:$R$302)+COUNTIF($R$7:R23,R23)-1)","v":"السّابع عشر"},{"$f":"[1]!Order_Salim(RANK(R23,$R$7:$R$302))","v":"الخامس عشر"}]
[235,"طالب رقم 235",17,16,15,16,13,77,40,35,15,50,50,65,100,30,385,462,{"$f":"[1]!Order_Salim(RANK(R24,$R$7:$R$302)+COUNTIF($R$7:R24,R24)-1)","v":"الثّامن عشر"},{"$f":"[1]!Order_Salim(RANK(R24,$R$7:$R$302))","v":"الخامس عشر"}]
[98,"طالب رقم 98",17,13,15,15,13,73,40,35,13,60,55,65,90,30,388,461,{"$f":"[1]!Order_Salim(RANK(R25,$R$7:$R$302)+COUNTIF($R$7:R25,R25)-1)","v":"التّاسع عشر"},{"$f":"[1]!Order_Salim(RANK(R25,$R$7:$R$302))","v":"التّاسع عشر"}]
[246,"طالب رقم 246",17,13,15,15,13,73,40,35,13,60,55,65,90,30,388,461,{"$f":"[1]!Order_Salim(RANK(R26,$R$7:$R$302)+COUNTIF($R$7:R26,R26)-1)","v":"العشرون"},{"$f":"[1]!Order_Salim(RANK(R26,$R$7:$R$302))","v":"التّاسع عشر"}]
[74,"طالب رقم 74",14,14,14,14,13,69,40,35,15,60,55,55,100,30,390,459,{"$f":"[1]!Order_Salim(RANK(R27,$R$7:$R$302)+COUNTIF($R$7:R27,R27)-1)","v":"الحادي والعشرون"},{"$f":"[1]!Order_Salim(RANK(R27,$R$7:$R$302))","v":"الحادي والعشرون"}]
[142,"طالب رقم 142",7,5,14,17,13,56,40,35,13,65,60,65,95,30,403,459,{"$f":"[1]!Order_Salim(RANK(R28,$R$7:$R$302)+COUNTIF($R$7:R28,R28)-1)","v":"الثّاني والعشرون"},{"$f":"[1]!Order_Salim(RANK(R28,$R$7:$R$302))","v":"الحادي والعشرون"}]
[222,"طالب رقم 222",14,14,14,14,13,69,40,35,15,60,55,55,100,30,390,459,{"$f":"[1]!Order_Salim(RANK(R29,$R$7:$R$302)+COUNTIF($R$7:R29,R29)-1)","v":"الثّالث والعشرون"},{"$f":"[1]!Order_Salim(RANK(R29,$R$7:$R$302))","v":"الحادي والعشرون"}]
[290,"طالب رقم 290",7,5,14,17,13,56,40,35,13,65,60,65,95,30,403,459,{"$f":"[1]!Order_Salim(RANK(R30,$R$7:$R$302)+COUNTIF($R$7:R30,R30)-1)","v":"الرّابع والعشرون"},{"$f":"[1]!Order_Salim(RANK(R30,$R$7:$R$302))","v":"الحادي والعشرون"}]
[11,"طالب رقم 11",13,10,12,16,13,64,40,35,14,65,60,55,95,30,394,458,{"$f":"[1]!Order_Salim(RANK(R31,$R$7:$R$302)+COUNTIF($R$7:R31,R31)-1)","v":"الخامس والعشرون"},{"$f":"[1]!Order_Salim(RANK(R31,$R$7:$R$302))","v":"الخامس والعشرون"}]
[62,"طالب رقم 62",15,16,14,15,14,74,40,35,14,65,45,55,100,30,384,458,{"$f":"[1]!Order_Salim(RANK(R32,$R$7:$R$302)+COUNTIF($R$7:R32,R32)-1)","v":"السّادس والعشرون"},{"$f":"[1]!Order_Salim(RANK(R32,$R$7:$R$302))","v":"الخامس والعشرون"}]
[159,"طالب رقم 159",13,10,12,16,13,64,40,35,14,65,60,55,95,30,394,458,{"$f":"[1]!Order_Salim(RANK(R33,$R$7:$R$302)+COUNTIF($R$7:R33,R33)-1)","v":"السّابع والعشرون"},{"$f":"[1]!Order_Salim(RANK(R33,$R$7:$R$302))","v":"الخامس والعشرون"}]
[210,"طالب رقم 210",15,16,14,15,14,74,40,35,14,65,45,55,100,30,384,458,{"$f":"[1]!Order_Salim(RANK(R34,$R$7:$R$302)+COUNTIF($R$7:R34,R34)-1)","v":"الثّامن والعشرون"},{"$f":"[1]!Order_Salim(RANK(R34,$R$7:$R$302))","v":"الخامس والعشرون"}]
[81,"طالب رقم 81",17,17,15,16,14,79,40,35,13,50,55,65,90,30,378,457,{"$f":"[1]!Order_Salim(RANK(R35,$R$7:$R$302)+COUNTIF($R$7:R35,R35)-1)","v":"التّاسع والعشرون"},{"$f":"[1]!Order_Salim(RANK(R35,$R$7:$R$302))","v":"التّاسع والعشرون"}]
[229,"طالب رقم 229",17,17,15,16,14,79,40,35,13,50,55,65,90,30,378,457,{"$f":"[1]!Order_Salim(RANK(R36,$R$7:$R$302)+COUNTIF($R$7:R36,R36)-1)","v":"الثّلاثون"},{"$f":"[1]!Order_Salim(RANK(R36,$R$7:$R$302))","v":"التّاسع والعشرون"}]
[26,"طالب رقم 26",14,16,14,15,14,73,50,45,13,50,50,45,100,30,383,456,{"$f":"[1]!Order_Salim(RANK(R37,$R$7:$R$302)+COUNTIF($R$7:R37,R37)-1)","v":"الحادي والثّلاثون"},{"$f":"[1]!Order_Salim(RANK(R37,$R$7:$R$302))","v":"الحادي والثّلاثون"}]
[88,"طالب رقم 88",14,15,15,17,12,73,35,30,13,60,55,60,100,30,383,456,{"$f":"[1]!Order_Salim(RANK(R38,$R$7:$R$302)+COUNTIF($R$7:R38,R38)-1)","v":"الثّاني والثّلاثون"},{"$f":"[1]!Order_Salim(RANK(R38,$R$7:$R$302))","v":"الحادي والثّلاثون"}]
[174,"طالب رقم 174",14,16,14,15,14,73,50,45,13,50,50,45,100,30,383,456,{"$f":"[1]!Order_Salim(RANK(R39,$R$7:$R$302)+COUNTIF($R$7:R39,R39)-1)","v":"الثّالث والثّلاثون"},{"$f":"[1]!Order_Salim(RANK(R39,$R$7:$R$302))","v":"الحادي والثّلاثون"}]
[236,"طالب رقم 236",14,15,15,17,12,73,35,30,13,60,55,60,100,30,383,456,{"$f":"[1]!Order_Salim(RANK(R40,$R$7:$R$302)+COUNTIF($R$7:R40,R40)-1)","v":"الرّابع والثّلاثون"},{"$f":"[1]!Order_Salim(RANK(R40,$R$7:$R$302))","v":"الحادي والثّلاثون"}]
[1,"طالب رقم 1",14,11,14,17,14,70,45,40,15,45,40,70,100,30,385,455,{"$f":"[1]!Order_Salim(RANK(R41,$R$7:$R$302)+COUNTIF($R$7:R41,R41)-1)","v":"الخامس والثّلاثون"},{"$f":"[1]!Order_Salim(RANK(R41,$R$7:$R$302))","v":"الخامس والثّلاثون"}]
[84,"طالب رقم 84",16,16,14,13,13,72,45,40,13,45,50,60,100,30,383,455,{"$f":"[1]!Order_Salim(RANK(R42,$R$7:$R$302)+COUNTIF($R$7:R42,R42)-1)","v":"السّادس والثّلاثون"},{"$f":"[1]!Order_Salim(RANK(R42,$R$7:$R$302))","v":"الخامس والثّلاثون"}]
[149,"طالب رقم 149",14,11,14,17,14,70,45,40,15,45,40,70,100,30,385,455,{"$f":"[1]!Order_Salim(RANK(R43,$R$7:$R$302)+COUNTIF($R$7:R43,R43)-1)","v":"السّابع والثّلاثون"},{"$f":"[1]!Order_Salim(RANK(R43,$R$7:$R$302))","v":"الخامس والثّلاثون"}]
[232,"طالب رقم 232",16,16,14,13,13,72,45,40,13,45,50,60,100,30,383,455,{"$f":"[1]!Order_Salim(RANK(R44,$R$7:$R$302)+COUNTIF($R$7:R44,R44)-1)","v":"الثّامن والثّلاثون"},{"$f":"[1]!Order_Salim(RANK(R44,$R$7:$R$302))","v":"الخامس والثّلاثون"}]
[82,"طالب رقم 82",17,13,14,17,15,76,40,35,14,50,50,65,95,28,377,453,{"$f":"[1]!Order_Salim(RANK(R45,$R$7:$R$302)+COUNTIF($R$7:R45,R45)-1)","v":"التّاسع والثّلاثون"},{"$f":"[1]!Order_Salim(RANK(R45,$R$7:$R$302))","v":"التّاسع والثّلاثون"}]
[230,"طالب رقم 230",17,13,14,17,15,76,40,35,14,50,50,65,95,28,377,453,{"$f":"[1]!Order_Salim(RANK(R46,$R$7:$R$302)+COUNTIF($R$7:R46,R46)-1)","v":"الأربعون"},{"$f":"[1]!Order_Salim(RANK(R46,$R$7:$R$302))","v":"التّاسع والثّلاثون"}]
[24,"طالب رقم 24",13,12,13,12,15,65,40,35,15,45,60,55,105,30,385,450,{"$f":"[1]!Order_Salim(RANK(R47,$R$7:$R$302)+COUNTIF($R$7:R47,R47)-1)","v":"الحادي والأربعون"},{"$f":"[1]!Order_Salim(RANK(R47,$R$7:$R$302))","v":"الحادي والأربعون"}]
[172,"طالب رقم 172",13,12,13,12,15,65,40,35,15,45,60,55,105,30,385,450,{"$f":"[1]!Order_Salim(RANK(R48,$R$7:$R$302)+COUNTIF($R$7:R48,R48)-1)","v":"الثّاني والأربعون"},{"$f":"[1]!Order_Salim(RANK(R48,$R$7:$R$302))","v":"الحادي والأربعون"}]
[2,"طالب رقم 2",14,12,15,12,13,66,40,35,14,65,55,50,95,29.5,383.5,449.5,{"$f":"[1]!Order_Salim(RANK(R49,$R$7:$R$302)+COUNTIF($R$7:R49,R49)-1)","v":"الثّالث والأربعون"},{"$f":"[1]!Order_Salim(RANK(R49,$R$7:$R$302))","v":"الثّالث والأربعون"}]
[150,"طالب رقم 150",14,12,15,12,13,66,40,35,14,65,55,50,95,29.5,383.5,449.5,{"$f":"[1]!Order_Salim(RANK(R50,$R$7:$R$302)+COUNTIF($R$7:R50,R50)-1)","v":"الرّابع والأربعون"},{"$f":"[1]!Order_Salim(RANK(R50,$R$7:$R$302))","v":"الثّالث والأربعون"}]
[94,"طالب رقم 94",12,12,14,17,14,69,35,30,15,65,55,60,90,30,380,449,{"$f":"[1]!Order_Salim(RANK(R51,$R$7:$R$302)+COUNTIF($R$7:R51,R51)-1)","v":"الخامس والأربعون"},{"$f":"[1]!Order_Salim(RANK(R51,$R$7:$R$302))","v":"الخامس والأربعون"}]
[99,"طالب رقم 99",16,16,16,14,14,76,40,35,13,50,50,60,95,30,373,449,{"$f":"[1]!Order_Salim(RANK(R52,$R$7:$R$302)+COUNTIF($R$7:R52,R52)-1)","v":"السّادس والأربعون"},{"$f":"[1]!Order_Salim(RANK(R52,$R$7:$R$302))","v":"الخامس والأربعون"}]
[147,"طالب رقم 147",5,5,16,15,13,54,45,40,15,55,45,65,100,30,395,449,{"$f":"[1]!Order_Salim(RANK(R53,$R$7:$R$302)+COUNTIF($R$7:R53,R53)-1)","v":"السّابع والأربعون"},{"$f":"[1]!Order_Salim(RANK(R53,$R$7:$R$302))","v":"الخامس والأربعون"}]
[242,"طالب رقم 242",12,12,14,17,14,69,35,30,15,65,55,60,90,30,380,449,{"$f":"[1]!Order_Salim(RANK(R54,$R$7:$R$302)+COUNTIF($R$7:R54,R54)-1)","v":"الثّامن والأربعون"},{"$f":"[1]!Order_Salim(RANK(R54,$R$7:$R$302))","v":"الخامس والأربعون"}]
[247,"طالب رقم 247",16,16,16,14,14,76,40,35,13,50,50,60,95,30,373,449,{"$f":"[1]!Order_Salim(RANK(R55,$R$7:$R$302)+COUNTIF($R$7:R55,R55)-1)","v":"التّاسع والأربعون"},{"$f":"[1]!Order_Salim(RANK(R55,$R$7:$R$302))","v":"الخامس والأربعون"}]
[295,"طالب رقم 295",5,5,16,15,13,54,45,40,15,55,45,65,100,30,395,449,{"$f":"[1]!Order_Salim(RANK(R56,$R$7:$R$302)+COUNTIF($R$7:R56,R56)-1)","v":"الخمسون"},{"$f":"[1]!Order_Salim(RANK(R56,$R$7:$R$302))","v":"الخامس والأربعون"}]
[23,"طالب رقم 23",15,16,15,12,15,73,45,40,15,45,45,55,100,30,375,448,{"$f":"[1]!Order_Salim(RANK(R57,$R$7:$R$302)+COUNTIF($R$7:R57,R57)-1)","v":"الحادي والخمسون"},{"$f":"[1]!Order_Salim(RANK(R57,$R$7:$R$302))","v":"الحادي والخمسون"}]
[51,"طالب رقم 51",15,16,12,14,13,70,40,35,13,60,50,50,100,30,378,448,{"$f":"[1]!Order_Salim(RANK(R58,$R$7:$R$302)+COUNTIF($R$7:R58,R58)-1)","v":"الثّاني والخمسون"},{"$f":"[1]!Order_Salim(RANK(R58,$R$7:$R$302))","v":"الحادي والخمسون"}]
[69,"طالب رقم 69",15,15,15,15,14,74,35,35,14,50,60,55,95,30,374,448,{"$f":"[1]!Order_Salim(RANK(R59,$R$7:$R$302)+COUNTIF($R$7:R59,R59)-1)","v":"الثّالث والخمسون"},{"$f":"[1]!Order_Salim(RANK(R59,$R$7:$R$302))","v":"الحادي والخمسون"}]
[171,"طالب رقم 171",15,16,15,12,15,73,45,40,15,45,45,55,100,30,375,448,{"$f":"[1]!Order_Salim(RANK(R60,$R$7:$R$302)+COUNTIF($R$7:R60,R60)-1)","v":"الرّابع والخمسون"},{"$f":"[1]!Order_Salim(RANK(R60,$R$7:$R$302))","v":"الحادي والخمسون"}]
[199,"طالب رقم 199",15,16,12,14,13,70,40,35,13,60,50,50,100,30,378,448,{"$f":"[1]!Order_Salim(RANK(R61,$R$7:$R$302)+COUNTIF($R$7:R61,R61)-1)","v":"الخامس والخمسون"},{"$f":"[1]!Order_Salim(RANK(R61,$R$7:$R$302))","v":"الحادي والخمسون"}]
[217,"طالب رقم 217",15,15,15,15,14,74,35,35,14,50,60,55,95,30,374,448,{"$f":"[1]!Order_Salim(RANK(R62,$R$7:$R$302)+COUNTIF($R$7:R62,R62)-1)","v":"السّادس والخمسون"},{"$f":"[1]!Order_Salim(RANK(R62,$R$7:$R$302))","v":"الحادي والخمسون"}]
[8,"طالب رقم 8",16,12,16,15,13,72,40,35,15,50,40,70,95,30,375,447,{"$f":"[1]!Order_Salim(RANK(R63,$R$7:$R$302)+COUNTIF($R$7:R63,R63)-1)","v":"السّابع والخمسون"},{"$f":"[1]!Order_Salim(RANK(R63,$R$7:$R$302))","v":"السّابع والخمسون"}]
[14,"طالب رقم 14",16,10,13,16,13,68,50,45,14,45,50,55,90,30,379,447,{"$f":"[1]!Order_Salim(RANK(R64,$R$7:$R$302)+COUNTIF($R$7:R64,R64)-1)","v":"الثّامن والخمسون"},{"$f":"[1]!Order_Salim(RANK(R64,$R$7:$R$302))","v":"السّابع والخمسون"}]
[80,"طالب رقم 80",17,13,14,14,14,72,40,35,14,45,60,60,95,26,375,447,{"$f":"[1]!Order_Salim(RANK(R65,$R$7:$R$302)+COUNTIF($R$7:R65,R65)-1)","v":"التّاسع والخمسون"},{"$f":"[1]!Order_Salim(RANK(R65,$R$7:$R$302))","v":"السّابع والخمسون"}]
[136,"طالب رقم 136",9,7,16,12,14,58,45,40,14,50,55,60,95,30,389,447,{"$f":"[1]!Order_Salim(RANK(R66,$R$7:$R$302)+COUNTIF($R$7:R66,R66)-1)","v":"الستون"},{"$f":"[1]!Order_Salim(RANK(R66,$R$7:$R$302))","v":"السّابع والخمسون"}]
[143,"طالب رقم 143",9,6,13,14,13,55,45,40,12,50,50,70,95,30,392,447,{"$f":"[1]!Order_Salim(RANK(R67,$R$7:$R$302)+COUNTIF($R$7:R67,R67)-1)","v":"الحادي والستون"},{"$f":"[1]!Order_Salim(RANK(R67,$R$7:$R$302))","v":"السّابع والخمسون"}]
[156,"طالب رقم 156",16,12,16,15,13,72,40,35,15,50,40,70,95,30,375,447,{"$f":"[1]!Order_Salim(RANK(R68,$R$7:$R$302)+COUNTIF($R$7:R68,R68)-1)","v":"الثّاني والستون"},{"$f":"[1]!Order_Salim(RANK(R68,$R$7:$R$302))","v":"السّابع والخمسون"}]
[162,"طالب رقم 162",16,10,13,16,13,68,50,45,14,45,50,55,90,30,379,447,{"$f":"[1]!Order_Salim(RANK(R69,$R$7:$R$302)+COUNTIF($R$7:R69,R69)-1)","v":"الثّالث والستون"},{"$f":"[1]!Order_Salim(RANK(R69,$R$7:$R$302))","v":"السّابع والخمسون"}]
[228,"طالب رقم 228",17,13,14,14,14,72,40,35,14,45,60,60,95,26,375,447,{"$f":"[1]!Order_Salim(RANK(R70,$R$7:$R$302)+COUNTIF($R$7:R70,R70)-1)","v":"الرّابع والستون"},{"$f":"[1]!Order_Salim(RANK(R70,$R$7:$R$302))","v":"السّابع والخمسون"}]
[284,"طالب رقم 284",9,7,16,12,14,58,45,40,14,50,55,60,95,30,389,447,{"$f":"[1]!Order_Salim(RANK(R71,$R$7:$R$302)+COUNTIF($R$7:R71,R71)-1)","v":"الخامس والستون"},{"$f":"[1]!Order_Salim(RANK(R71,$R$7:$R$302))","v":"السّابع والخمسون"}]
[291,"طالب رقم 291",9,6,13,14,13,55,45,40,12,50,50,70,95,30,392,447,{"$f":"[1]!Order_Salim(RANK(R72,$R$7:$R$302)+COUNTIF($R$7:R72,R72)-1)","v":"السّادس والستون"},{"$f":"[1]!Order_Salim(RANK(R72,$R$7:$R$302))","v":"السّابع والخمسون"}]
[89,"طالب رقم 89",15,14,14,18,11,72,40,35,15,50,50,60,95,29.5,374.5,446.5,{"$f":"[1]!Order_Salim(RANK(R73,$R$7:$R$302)+COUNTIF($R$7:R73,R73)-1)","v":"السّابع والستون"},{"$f":"[1]!Order_Salim(RANK(R73,$R$7:$R$302))","v":"السّابع والستون"}]
[237,"طالب رقم 237",15,14,14,18,11,72,40,35,15,50,50,60,95,29.5,374.5,446.5,{"$f":"[1]!Order_Salim(RANK(R74,$R$7:$R$302)+COUNTIF($R$7:R74,R74)-1)","v":"الثّامن والستون"},{"$f":"[1]!Order_Salim(RANK(R74,$R$7:$R$302))","v":"السّابع والستون"}]
[44,"طالب رقم 44",16,15,11,16,13,71,40,35,15,60,55,45,95,30,375,446,{"$f":"[1]!Order_Salim(RANK(R75,$R$7:$R$302)+COUNTIF($R$7:R75,R75)-1)","v":"التّاسع والستون"},{"$f":"[1]!Order_Salim(RANK(R75,$R$7:$R$302))","v":"التّاسع والستون"}]
[85,"طالب رقم 85",16,17,15,17,13,78,40,35,13,45,45,60,100,30,368,446,{"$f":"[1]!Order_Salim(RANK(R76,$R$7:$R$302)+COUNTIF($R$7:R76,R76)-1)","v":"السّبعون"},{"$f":"[1]!Order_Salim(RANK(R76,$R$7:$R$302))","v":"التّاسع والستون"}]
[192,"طالب رقم 192",16,15,11,16,13,71,40,35,15,60,55,45,95,30,375,446,{"$f":"[1]!Order_Salim(RANK(R77,$R$7:$R$302)+COUNTIF($R$7:R77,R77)-1)","v":"الحادي والسّبعون"},{"$f":"[1]!Order_Salim(RANK(R77,$R$7:$R$302))","v":"التّاسع والستون"}]
[233,"طالب رقم 233",16,17,15,17,13,78,40,35,13,45,45,60,100,30,368,446,{"$f":"[1]!Order_Salim(RANK(R78,$R$7:$R$302)+COUNTIF($R$7:R78,R78)-1)","v":"الثّاني والسّبعون"},{"$f":"[1]!Order_Salim(RANK(R78,$R$7:$R$302))","v":"التّاسع والستون"}]
[59,"طالب رقم 59",13,15,13,14,13,68,40,35,12,65,50,55,95,25,377,445,{"$f":"[1]!Order_Salim(RANK(R79,$R$7:$R$302)+COUNTIF($R$7:R79,R79)-1)","v":"الثّالث والسّبعون"},{"$f":"[1]!Order_Salim(RANK(R79,$R$7:$R$302))","v":"الثّالث والسّبعون"}]
[207,"طالب رقم 207",13,15,13,14,13,68,40,35,12,65,50,55,95,25,377,445,{"$f":"[1]!Order_Salim(RANK(R80,$R$7:$R$302)+COUNTIF($R$7:R80,R80)-1)","v":"الرّابع والسّبعون"},{"$f":"[1]!Order_Salim(RANK(R80,$R$7:$R$302))","v":"الثّالث والسّبعون"}]
[13,"طالب رقم 13",16,10,13,16,15,70,40,35,13,50,45,70,90,30,373,443,{"$f":"[1]!Order_Salim(RANK(R81,$R$7:$R$302)+COUNTIF($R$7:R81,R81)-1)","v":"الخامس والسّبعون"},{"$f":"[1]!Order_Salim(RANK(R81,$R$7:$R$302))","v":"الخامس والسّبعون"}]
[16,"طالب رقم 16",14,10,14,15,12,65,35,30,13,65,60,50,95,30,378,443,{"$f":"[1]!Order_Salim(RANK(R82,$R$7:$R$302)+COUNTIF($R$7:R82,R82)-1)","v":"السّادس والسّبعون"},{"$f":"[1]!Order_Salim(RANK(R82,$R$7:$R$302))","v":"الخامس والسّبعون"}]
[50,"طالب رقم 50",14,10,13,14,12,63,45,40,15,55,40,55,100,30,380,443,{"$f":"[1]!Order_Salim(RANK(R83,$R$7:$R$302)+COUNTIF($R$7:R83,R83)-1)","v":"السّابع والسّبعون"},{"$f":"[1]!Order_Salim(RANK(R83,$R$7:$R$302))","v":"الخامس والسّبعون"}]
[92,"طالب رقم 92",12,14,15,15,13,69,35,30,14,50,55,65,95,30,374,443,{"$f":"[1]!Order_Salim(RANK(R84,$R$7:$R$302)+COUNTIF($R$7:R84,R84)-1)","v":"الثّامن والسّبعون"},{"$f":"[1]!Order_Salim(RANK(R84,$R$7:$R$302))","v":"الخامس والسّبعون"}]
[124,"طالب رقم 124",5,5,15,14,15,54,45,40,14,55,40,70,95,30,389,443,{"$f":"[1]!Order_Salim(RANK(R85,$R$7:$R$302)+COUNTIF($R$7:R85,R85)-1)","v":"التّاسع والسّبعون"},{"$f":"[1]!Order_Salim(RANK(R85,$R$7:$R$302))","v":"الخامس والسّبعون"}]
[161,"طالب رقم 161",16,10,13,16,15,70,40,35,13,50,45,70,90,30,373,443,{"$f":"[1]!Order_Salim(RANK(R86,$R$7:$R$302)+COUNTIF($R$7:R86,R86)-1)","v":"الثّمانون"},{"$f":"[1]!Order_Salim(RANK(R86,$R$7:$R$302))","v":"الخامس والسّبعون"}]
[164,"طالب رقم 164",14,10,14,15,12,65,35,30,13,65,60,50,95,30,378,443,{"$f":"[1]!Order_Salim(RANK(R87,$R$7:$R$302)+COUNTIF($R$7:R87,R87)-1)","v":"الحادي والثّمانون"},{"$f":"[1]!Order_Salim(RANK(R87,$R$7:$R$302))","v":"الخامس والسّبعون"}]
[198,"طالب رقم 198",14,10,13,14,12,63,45,40,15,55,40,55,100,30,380,443,{"$f":"[1]!Order_Salim(RANK(R88,$R$7:$R$302)+COUNTIF($R$7:R88,R88)-1)","v":"الثّاني والثّمانون"},{"$f":"[1]!Order_Salim(RANK(R88,$R$7:$R$302))","v":"الخامس والسّبعون"}]
[240,"طالب رقم 240",12,14,15,15,13,69,35,30,14,50,55,65,95,30,374,443,{"$f":"[1]!Order_Salim(RANK(R89,$R$7:$R$302)+COUNTIF($R$7:R89,R89)-1)","v":"الثّالث والثّمانون"},{"$f":"[1]!Order_Salim(RANK(R89,$R$7:$R$302))","v":"الخامس والسّبعون"}]
[272,"طالب رقم 272",5,5,15,14,15,54,45,40,14,55,40,70,95,30,389,443,{"$f":"[1]!Order_Salim(RANK(R90,$R$7:$R$302)+COUNTIF($R$7:R90,R90)-1)","v":"الرّابع والثّمانون"},{"$f":"[1]!Order_Salim(RANK(R90,$R$7:$R$302))","v":"الخامس والسّبعون"}]
[46,"طالب رقم 46",13,14,11,16,15,69,40,35,13,65,40,50,100,30,373,442,{"$f":"[1]!Order_Salim(RANK(R91,$R$7:$R$302)+COUNTIF($R$7:R91,R91)-1)","v":"الخامس والثّمانون"},{"$f":"[1]!Order_Salim(RANK(R91,$R$7:$R$302))","v":"الخامس والثّمانون"}]
[91,"طالب رقم 91",15,12,15,15,12,69,40,35,13,50,50,60,95,30,373,442,{"$f":"[1]!Order_Salim(RANK(R92,$R$7:$R$302)+COUNTIF($R$7:R92,R92)-1)","v":"السّادس والثّمانون"},{"$f":"[1]!Order_Salim(RANK(R92,$R$7:$R$302))","v":"الخامس والثّمانون"}]
[133,"طالب رقم 133",5,8,12,14,15,54,45,40,13,65,45,55,95,30,388,442,{"$f":"[1]!Order_Salim(RANK(R93,$R$7:$R$302)+COUNTIF($R$7:R93,R93)-1)","v":"السّابع والثّمانون"},{"$f":"[1]!Order_Salim(RANK(R93,$R$7:$R$302))","v":"الخامس والثّمانون"}]
[148,"طالب رقم 148",7,5,16,15,15,58,40,35,14,60,60,50,95,30,384,442,{"$f":"[1]!Order_Salim(RANK(R94,$R$7:$R$302)+COUNTIF($R$7:R94,R94)-1)","v":"الثّامن والثّمانون"},{"$f":"[1]!Order_Salim(RANK(R94,$R$7:$R$302))","v":"الخامس والثّمانون"}]
[194,"طالب رقم 194",13,14,11,16,15,69,40,35,13,65,40,50,100,30,373,442,{"$f":"[1]!Order_Salim(RANK(R95,$R$7:$R$302)+COUNTIF($R$7:R95,R95)-1)","v":"التّاسع والثّمانون"},{"$f":"[1]!Order_Salim(RANK(R95,$R$7:$R$302))","v":"الخامس والثّمانون"}]
[239,"طالب رقم 239",15,12,15,15,12,69,40,35,13,50,50,60,95,30,373,442,{"$f":"[1]!Order_Salim(RANK(R96,$R$7:$R$302)+COUNTIF($R$7:R96,R96)-1)","v":"التّسعون"},{"$f":"[1]!Order_Salim(RANK(R96,$R$7:$R$302))","v":"الخامس والثّمانون"}]
[281,"طالب رقم 281",5,8,12,14,15,54,45,40,13,65,45,55,95,30,388,442,{"$f":"[1]!Order_Salim(RANK(R97,$R$7:$R$302)+COUNTIF($R$7:R97,R97)-1)","v":"الحادي والتّسعون"},{"$f":"[1]!Order_Salim(RANK(R97,$R$7:$R$302))","v":"الخامس والثّمانون"}]
[296,"طالب رقم 296",7,5,16,15,15,58,40,35,14,60,60,50,95,30,384,442,{"$f":"[1]!Order_Salim(RANK(R98,$R$7:$R$302)+COUNTIF($R$7:R98,R98)-1)","v":"الثّاني والتّسعون"},{"$f":"[1]!Order_Salim(RANK(R98,$R$7:$R$302))","v":"الخامس والثّمانون"}]
[57,"طالب رقم 57",11,14,13,14,11,63,40,35,13,60,60,50,90,30,378,441,{"$f":"[1]!Order_Salim(RANK(R99,$R$7:$R$302)+COUNTIF($R$7:R99,R99)-1)","v":"الثّالث والتّسعون"},{"$f":"[1]!Order_Salim(RANK(R99,$R$7:$R$302))","v":"الثّالث والتّسعون"}]
[60,"طالب رقم 60",12,14,14,15,13,68,35,30,13,55,55,55,100,30,373,441,{"$f":"[1]!Order_Salim(RANK(R100,$R$7:$R$302)+COUNTIF($R$7:R100,R100)-1)","v":"الرّابع والتّسعون"},{"$f":"[1]!Order_Salim(RANK(R100,$R$7:$R$302))","v":"الثّالث والتّسعون"}]
[77,"طالب رقم 77",17,17,14,13,13,74,40,35,12,55,50,50,95,30,367,441,{"$f":"[1]!Order_Salim(RANK(R101,$R$7:$R$302)+COUNTIF($R$7:R101,R101)-1)","v":"الخامس والتّسعون"},{"$f":"[1]!Order_Salim(RANK(R101,$R$7:$R$302))","v":"الثّالث والتّسعون"}]
[205,"طالب رقم 205",11,14,13,14,11,63,40,35,13,60,60,50,90,30,378,441,{"$f":"[1]!Order_Salim(RANK(R102,$R$7:$R$302)+COUNTIF($R$7:R102,R102)-1)","v":"السّادس والتّسعون"},{"$f":"[1]!Order_Salim(RANK(R102,$R$7:$R$302))","v":"الثّالث والتّسعون"}]
[208,"طالب رقم 208",12,14,14,15,13,68,35,30,13,55,55,55,100,30,373,441,{"$f":"[1]!Order_Salim(RANK(R103,$R$7:$R$302)+COUNTIF($R$7:R103,R103)-1)","v":"السّابع والتّسعون"},{"$f":"[1]!Order_Salim(RANK(R103,$R$7:$R$302))","v":"الثّالث والتّسعون"}]
[225,"طالب رقم 225",17,17,14,13,13,74,40,35,12,55,50,50,95,30,367,441,{"$f":"[1]!Order_Salim(RANK(R104,$R$7:$R$302)+COUNTIF($R$7:R104,R104)-1)","v":"الثّامن والتّسعون"},{"$f":"[1]!Order_Salim(RANK(R104,$R$7:$R$302))","v":"الثّالث والتّسعون"}]
[19,"طالب رقم 19",13,16,14,16,13,72,40,35,13,50,55,50,95,30,368,440,{"$f":"[1]!Order_Salim(RANK(R105,$R$7:$R$302)+COUNTIF($R$7:R105,R105)-1)","v":"التّاسع والتّسعون"},{"$f":"[1]!Order_Salim(RANK(R105,$R$7:$R$302))","v":"التّاسع والتّسعون"}]
[35,"طالب رقم 35",14,15,12,11,13,65,45,40,15,45,55,50,95,30,375,440,{"$f":"[1]!Order_Salim(RANK(R106,$R$7:$R$302)+COUNTIF($R$7:R106,R106)-1)","v":"المائة"},{"$f":"[1]!Order_Salim(RANK(R106,$R$7:$R$302))","v":"التّاسع والتّسعون"}]
[86,"طالب رقم 86",15,16,15,16,11,73,35,30,12,55,45,60,100,30,367,440,{"$f":"[1]!Order_Salim(RANK(R107,$R$7:$R$302)+COUNTIF($R$7:R107,R107)-1)","v":"too Big Number"},{"$f":"[1]!Order_Salim(RANK(R107,$R$7:$R$302))","v":"التّاسع والتّسعون"}]
[167,"طالب رقم 167",13,16,14,16,13,72,40,35,13,50,55,50,95,30,368,440,{"$f":"[1]!Order_Salim(RANK(R108,$R$7:$R$302)+COUNTIF($R$7:R108,R108)-1)","v":"too Big Number"},{"$f":"[1]!Order_Salim(RANK(R108,$R$7:$R$302))","v":"التّاسع والتّسعون"}]
[183,"طالب رقم 183",14,15,12,11,13,65,45,40,15,45,55,50,95,30,375,440,{"$f":"[1]!Order_Salim(RANK(R109,$R$7:$R$302)+COUNTIF($R$7:R109,R109)-1)","v":"too Big Number"},{"$f":"[1]!Order_Salim(RANK(R109,$R$7:$R$302))","v":"التّاسع والتّسعون"}]
[234,"طالب رقم 234",15,16,15,16,11,73,35,30,12,55,45,60,100,30,367,440,{"$f":"[1]!Order_Salim(RANK(R110,$R$7:$R$302)+COUNTIF($R$7:R110,R110)-1)","v":"too Big Number"},{"$f":"[1]!Order_Salim(RANK(R110,$R$7:$R$302))","v":"التّاسع والتّسعون"}]
[67,"طالب رقم 67",12,13,13,14,12,64,35,30,15,65,55,50,95,30,375,439,{"$f":"[1]!Order_Salim(RANK(R111,$R$7:$R$302)+COUNTIF($R$7:R111,R111)-1)","v":"too Big Number"},{"$f":"[1]!Order_Salim(RANK(R111,$R$7:$R$302))","v":"too Big Number"}]
[140,"طالب رقم 140",8,6,13,14,13,54,45,40,15,60,40,55,100,30,385,439,{"$f":"[1]!Order_Salim(RANK(R112,$R$7:$R$302)+COUNTIF($R$7:R112,R112)-1)","v":"too Big Number"},{"$f":"[1]!Order_Salim(RANK(R112,$R$7:$R$302))","v":"too Big Number"}]
[215,"طالب رقم 215",12,13,13,14,12,64,35,30,15,65,55,50,95,30,375,439,{"$f":"[1]!Order_Salim(RANK(R113,$R$7:$R$302)+COUNTIF($R$7:R113,R113)-1)","v":"too Big Number"},{"$f":"[1]!Order_Salim(RANK(R113,$R$7:$R$302))","v":"too Big Number"}]
[288,"طالب رقم 288",8,6,13,14,13,54,45,40,15,60,40,55,100,30,385,439,{"$f":"[1]!Order_Salim(RANK(R114,$R$7:$R$302)+COUNTIF($R$7:R114,R114)-1)","v":"too Big Number"},{"$f":"[1]!Order_Salim(RANK(R114,$R$7:$R$302))","v":"too Big Number"}]
[64,"طالب رقم 64",12,15,13,13,13,66,40,35,12,50,60,50,95,30,372,438,{"$f":"[1]!Order_Salim(RANK(R115,$R$7:$R$302)+COUNTIF($R$7:R115,R115)-1)","v":"too Big Number"},{"$f":"[1]!Order_Salim(RANK(R115,$R$7:$R$302))","v":"too Big Number"}]
[101,"طالب رقم 101",14,14,16,13,13,70,40,35,13,45,50,60,95,30,368,438,{"$f":"[1]!Order_Salim(RANK(R116,$R$7:$R$302)+COUNTIF($R$7:R116,R116)-1)","v":"too Big Number"},{"$f":"[1]!Order_Salim(RANK(R116,$R$7:$R$302))","v":"too Big Number"}]
[130,"طالب رقم 130",5,6,11,10,16,48,45,40,15,50,40,70,100,30,390,438,{"$f":"[1]!Order_Salim(RANK(R117,$R$7:$R$302)+COUNTIF($R$7:R117,R117)-1)","v":"too Big Number"},{"$f":"[1]!Order_Salim(RANK(R117,$R$7:$R$302))","v":"too Big Number"}]
[137,"طالب رقم 137",7,6,17,14,14,58,40,35,15,55,45,65,95,30,380,438,{"$f":"[1]!Order_Salim(RANK(R118,$R$7:$R$302)+COUNTIF($R$7:R118,R118)-1)","v":"too Big Number"},{"$f":"[1]!Order_Salim(RANK(R118,$R$7:$R$302))","v":"too Big Number"}]
[212,"طالب رقم 212",12,15,13,13,13,66,40,35,12,50,60,50,95,30,372,438,{"$f":"[1]!Order_Salim(RANK(R119,$R$7:$R$302)+COUNTIF($R$7:R119,R119)-1)","v":"too Big Number"},{"$f":"[1]!Order_Salim(RANK(R119,$R$7:$R$302))","v":"too Big Number"}]
[249,"طالب رقم 249",14,14,16,13,13,70,40,35,13,45,50,60,95,30,368,438,{"$f":"[1]!Order_Salim(RANK(R120,$R$7:$R$302)+COUNTIF($R$7:R120,R120)-1)","v":"too Big Number"},{"$f":"[1]!Order_Salim(RANK(R120,$R$7:$R$302))","v":"too Big Number"}]
[278,"طالب رقم 278",5,6,11,10,16,48,45,40,15,50,40,70,100,30,390,438,{"$f":"[1]!Order_Salim(RANK(R121,$R$7:$R$302)+COUNTIF($R$7:R121,R121)-1)","v":"too Big Number"},{"$f":"[1]!Order_Salim(RANK(R121,$R$7:$R$302))","v":"too Big Number"}]
[285,"طالب رقم 285",7,6,17,14,14,58,40,35,15,55,45,65,95,30,380,438,{"$f":"[1]!Order_Salim(RANK(R122,$R$7:$R$302)+COUNTIF($R$7:R122,R122)-1)","v":"too Big Number"},{"$f":"[1]!Order_Salim(RANK(R122,$R$7:$R$302))","v":"too Big Number"}]
[21,"طالب رقم 21",13,16,13,12,14,68,40,35,15,55,50,50,95,29.5,369.5,437.5,{"$f":"[1]!Order_Salim(RANK(R123,$R$7:$R$302)+COUNTIF($R$7:R123,R123)-1)","v":"too Big Number"},{"$f":"[1]!Order_Salim(RANK(R123,$R$7:$R$302))","v":"too Big Number"}]
[169,"طالب رقم 169",13,16,13,12,14,68,40,35,15,55,50,50,95,29.5,369.5,437.5,{"$f":"[1]!Order_Salim(RANK(R124,$R$7:$R$302)+COUNTIF($R$7:R124,R124)-1)","v":"too Big Number"},{"$f":"[1]!Order_Salim(RANK(R124,$R$7:$R$302))","v":"too Big Number"}]
[9,"طالب رقم 9",11,10,14,16,12,63,40,35,13,45,50,60,100,30,373,436,{"$f":"[1]!Order_Salim(RANK(R125,$R$7:$R$302)+COUNTIF($R$7:R125,R125)-1)","v":"too Big Number"},{"$f":"[1]!Order_Salim(RANK(R125,$R$7:$R$302))","v":"too Big Number"}]
[20,"طالب رقم 20",16,17,16,14,14,77,35,30,14,60,45,50,95,30,359,436,{"$f":"[1]!Order_Salim(RANK(R126,$R$7:$R$302)+COUNTIF($R$7:R126,R126)-1)","v":"too Big Number"},{"$f":"[1]!Order_Salim(RANK(R126,$R$7:$R$302))","v":"too Big Number"}]
[27,"طالب رقم 27",15,17,17,17,15,81,40,35,15,45,50,45,95,30,355,436,{"$f":"[1]!Order_Salim(RANK(R127,$R$7:$R$302)+COUNTIF($R$7:R127,R127)-1)","v":"too Big Number"},{"$f":"[1]!Order_Salim(RANK(R127,$R$7:$R$302))","v":"too Big Number"}]
[68,"طالب رقم 68",15,14,15,14,13,71,40,35,15,50,50,50,95,30,365,436,{"$f":"[1]!Order_Salim(RANK(R128,$R$7:$R$302)+COUNTIF($R$7:R128,R128)-1)","v":"too Big Number"},{"$f":"[1]!Order_Salim(RANK(R128,$R$7:$R$302))","v":"too Big Number"}]
[157,"طالب رقم 157",11,10,14,16,12,63,40,35,13,45,50,60,100,30,373,436,{"$f":"[1]!Order_Salim(RANK(R129,$R$7:$R$302)+COUNTIF($R$7:R129,R129)-1)","v":"too Big Number"},{"$f":"[1]!Order_Salim(RANK(R129,$R$7:$R$302))","v":"too Big Number"}]
[168,"طالب رقم 168",16,17,16,14,14,77,35,30,14,60,45,50,95,30,359,436,{"$f":"[1]!Order_Salim(RANK(R130,$R$7:$R$302)+COUNTIF($R$7:R130,R130)-1)","v":"too Big Number"},{"$f":"[1]!Order_Salim(RANK(R130,$R$7:$R$302))","v":"too Big Number"}]
[175,"طالب رقم 175",15,17,17,17,15,81,40,35,15,45,50,45,95,30,355,436,{"$f":"[1]!Order_Salim(RANK(R131,$R$7:$R$302)+COUNTIF($R$7:R131,R131)-1)","v":"too Big Number"},{"$f":"[1]!Order_Salim(RANK(R131,$R$7:$R$302))","v":"too Big Number"}]
[216,"طالب رقم 216",15,14,15,14,13,71,40,35,15,50,50,50,95,30,365,436,{"$f":"[1]!Order_Salim(RANK(R132,$R$7:$R$302)+COUNTIF($R$7:R132,R132)-1)","v":"too Big Number"},{"$f":"[1]!Order_Salim(RANK(R132,$R$7:$R$302))","v":"too Big Number"}]
[96,"طالب رقم 96",14,12,16,18,14,74,40,35,13,45,50,55,95,28,361,435,{"$f":"[1]!Order_Salim(RANK(R133,$R$7:$R$302)+COUNTIF($R$7:R133,R133)-1)","v":"too Big Number"},{"$f":"[1]!Order_Salim(RANK(R133,$R$7:$R$302))","v":"too Big Number"}]
[100,"طالب رقم 100",14,14,16,13,14,71,35,30,14,55,45,60,95,30,364,435,{"$f":"[1]!Order_Salim(RANK(R134,$R$7:$R$302)+COUNTIF($R$7:R134,R134)-1)","v":"too Big Number"},{"$f":"[1]!Order_Salim(RANK(R134,$R$7:$R$302))","v":"too Big Number"}]
[139,"طالب رقم 139",9,6,14,14,14,57,50,45,13,55,40,45,100,30,378,435,{"$f":"[1]!Order_Salim(RANK(R135,$R$7:$R$302)+COUNTIF($R$7:R135,R135)-1)","v":"too Big Number"},{"$f":"[1]!Order_Salim(RANK(R135,$R$7:$R$302))","v":"too Big Number"}]
[244,"طالب رقم 244",14,12,16,18,14,74,40,35,13,45,50,55,95,28,361,435,{"$f":"[1]!Order_Salim(RANK(R136,$R$7:$R$302)+COUNTIF($R$7:R136,R136)-1)","v":"too Big Number"},{"$f":"[1]!Order_Salim(RANK(R136,$R$7:$R$302))","v":"too Big Number"}]
[248,"طالب رقم 248",14,14,16,13,14,71,35,30,14,55,45,60,95,30,364,435,{"$f":"[1]!Order_Salim(RANK(R137,$R$7:$R$302)+COUNTIF($R$7:R137,R137)-1)","v":"too Big Number"},{"$f":"[1]!Order_Salim(RANK(R137,$R$7:$R$302))","v":"too Big Number"}]
[287,"طالب رقم 287",9,6,14,14,14,57,50,45,13,55,40,45,100,30,378,435,{"$f":"[1]!Order_Salim(RANK(R138,$R$7:$R$302)+COUNTIF($R$7:R138,R138)-1)","v":"too Big Number"},{"$f":"[1]!Order_Salim(RANK(R138,$R$7:$R$302))","v":"too Big Number"}]
[25,"طالب رقم 25",14,16,14,16,15,75,35,30,14,50,50,50,100,30,359,434,{"$f":"[1]!Order_Salim(RANK(R139,$R$7:$R$302)+COUNTIF($R$7:R139,R139)-1)","v":"too Big Number"},{"$f":"[1]!Order_Salim(RANK(R139,$R$7:$R$302))","v":"too Big Number"}]
[173,"طالب رقم 173",14,16,14,16,15,75,35,30,14,50,50,50,100,30,359,434,{"$f":"[1]!Order_Salim(RANK(R140,$R$7:$R$302)+COUNTIF($R$7:R140,R140)-1)","v":"too Big Number"},{"$f":"[1]!Order_Salim(RANK(R140,$R$7:$R$302))","v":"too Big Number"}]
[56,"طالب رقم 56",14,15,15,14,11,69,45,40,13,50,45,45,95,30,363,432,{"$f":"[1]!Order_Salim(RANK(R141,$R$7:$R$302)+COUNTIF($R$7:R141,R141)-1)","v":"too Big Number"},{"$f":"[1]!Order_Salim(RANK(R141,$R$7:$R$302))","v":"too Big Number"}]
[110,"طالب رقم 110",6,7,11,15,13,52,45,40,12,60,45,60,90,28,380,432,{"$f":"[1]!Order_Salim(RANK(R142,$R$7:$R$302)+COUNTIF($R$7:R142,R142)-1)","v":"too Big Number"},{"$f":"[1]!Order_Salim(RANK(R142,$R$7:$R$302))","v":"too Big Number"}]
[146,"طالب رقم 146",9,7,15,14,14,59,40,35,13,50,55,50,100,30,373,432,{"$f":"[1]!Order_Salim(RANK(R143,$R$7:$R$302)+COUNTIF($R$7:R143,R143)-1)","v":"too Big Number"},{"$f":"[1]!Order_Salim(RANK(R143,$R$7:$R$302))","v":"too Big Number"}]
[204,"طالب رقم 204",14,15,15,14,11,69,45,40,13,50,45,45,95,30,363,432,{"$f":"[1]!Order_Salim(RANK(R144,$R$7:$R$302)+COUNTIF($R$7:R144,R144)-1)","v":"too Big Number"},{"$f":"[1]!Order_Salim(RANK(R144,$R$7:$R$302))","v":"too Big Number"}]
[258,"طالب رقم 258",6,7,11,15,13,52,45,40,12,60,45,60,90,28,380,432,{"$f":"[1]!Order_Salim(RANK(R145,$R$7:$R$302)+COUNTIF($R$7:R145,R145)-1)","v":"too Big Number"},{"$f":"[1]!Order_Salim(RANK(R145,$R$7:$R$302))","v":"too Big Number"}]
[294,"طالب رقم 294",9,7,15,14,14,59,40,35,13,50,55,50,100,30,373,432,{"$f":"[1]!Order_Salim(RANK(R146,$R$7:$R$302)+COUNTIF($R$7:R146,R146)-1)","v":"too Big Number"},{"$f":"[1]!Order_Salim(RANK(R146,$R$7:$R$302))","v":"too Big Number"}]
[34,"طالب رقم 34",18,16,13,12,14,73,40,35,13,50,50,50,90,30,358,431,{"$f":"[1]!Order_Salim(RANK(R147,$R$7:$R$302)+COUNTIF($R$7:R147,R147)-1)","v":"too Big Number"},{"$f":"[1]!Order_Salim(RANK(R147,$R$7:$R$302))","v":"too Big Number"}]
[45,"طالب رقم 45",16,12,11,17,12,68,35,30,13,55,50,55,95,30,363,431,{"$f":"[1]!Order_Salim(RANK(R148,$R$7:$R$302)+COUNTIF($R$7:R148,R148)-1)","v":"too Big Number"},{"$f":"[1]!Order_Salim(RANK(R148,$R$7:$R$302))","v":"too Big Number"}]
[72,"طالب رقم 72",16,14,12,14,14,70,35,30,13,60,50,45,100,28,361,431,{"$f":"[1]!Order_Salim(RANK(R149,$R$7:$R$302)+COUNTIF($R$7:R149,R149)-1)","v":"too Big Number"},{"$f":"[1]!Order_Salim(RANK(R149,$R$7:$R$302))","v":"too Big Number"}]
[128,"طالب رقم 128",6,8,12,12,15,53,45,30,13,65,45,55,95,30,378,431,{"$f":"[1]!Order_Salim(RANK(R150,$R$7:$R$302)+COUNTIF($R$7:R150,R150)-1)","v":"too Big Number"},{"$f":"[1]!Order_Salim(RANK(R150,$R$7:$R$302))","v":"too Big Number"}]
[182,"طالب رقم 182",18,16,13,12,14,73,40,35,13,50,50,50,90,30,358,431,{"$f":"[1]!Order_Salim(RANK(R151,$R$7:$R$302)+COUNTIF($R$7:R151,R151)-1)","v":"too Big Number"},{"$f":"[1]!Order_Salim(RANK(R151,$R$7:$R$302))","v":"too Big Number"}]
[193,"طالب رقم 193",16,12,11,17,12,68,35,30,13,55,50,55,95,30,363,431,{"$f":"[1]!Order_Salim(RANK(R152,$R$7:$R$302)+COUNTIF($R$7:R152,R152)-1)","v":"too Big Number"},{"$f":"[1]!Order_Salim(RANK(R152,$R$7:$R$302))","v":"too Big Number"}]
[220,"طالب رقم 220",16,14,12,14,14,70,35,30,13,60,50,45,100,28,361,431,{"$f":"[1]!Order_Salim(RANK(R153,$R$7:$R$302)+COUNTIF($R$7:R153,R153)-1)","v":"too Big Number"},{"$f":"[1]!Order_Salim(RANK(R153,$R$7:$R$302))","v":"too Big Number"}]
[276,"طالب رقم 276",6,8,12,12,15,53,45,30,13,65,45,55,95,30,378,431,{"$f":"[1]!Order_Salim(RANK(R154,$R$7:$R$302)+COUNTIF($R$7:R154,R154)-1)","v":"too Big Number"},{"$f":"[1]!Order_Salim(RANK(R154,$R$7:$R$302))","v":"too Big Number"}]
[17,"طالب رقم 17",11,16,13,14,13,67,40,35,14,50,50,45,100,29.5,363.5,430.5,{"$f":"[1]!Order_Salim(RANK(R155,$R$7:$R$302)+COUNTIF($R$7:R155,R155)-1)","v":"too Big Number"},{"$f":"[1]!Order_Salim(RANK(R155,$R$7:$R$302))","v":"too Big Number"}]
[165,"طالب رقم 165",11,16,13,14,13,67,40,35,14,50,50,45,100,29.5,363.5,430.5,{"$f":"[1]!Order_Salim(RANK(R156,$R$7:$R$302)+COUNTIF($R$7:R156,R156)-1)","v":"too Big Number"},{"$f":"[1]!Order_Salim(RANK(R156,$R$7:$R$302))","v":"too Big Number"}]
[18,"طالب رقم 18",10,10,15,12,15,62,45,40,13,45,55,45,95,30,368,430,{"$f":"[1]!Order_Salim(RANK(R157,$R$7:$R$302)+COUNTIF($R$7:R157,R157)-1)","v":"too Big Number"},{"$f":"[1]!Order_Salim(RANK(R157,$R$7:$R$302))","v":"too Big Number"}]
[42,"طالب رقم 42",14,15,17,14,14,74,40,35,13,50,45,50,100,23,356,430,{"$f":"[1]!Order_Salim(RANK(R158,$R$7:$R$302)+COUNTIF($R$7:R158,R158)-1)","v":"too Big Number"},{"$f":"[1]!Order_Salim(RANK(R158,$R$7:$R$302))","v":"too Big Number"}]
[63,"طالب رقم 63",15,16,12,13,11,67,35,30,13,60,45,50,100,30,363,430,{"$f":"[1]!Order_Salim(RANK(R159,$R$7:$R$302)+COUNTIF($R$7:R159,R159)-1)","v":"too Big Number"},{"$f":"[1]!Order_Salim(RANK(R159,$R$7:$R$302))","v":"too Big Number"}]
[70,"طالب رقم 70",14,14,15,15,13,71,30,25,14,65,50,50,95,30,359,430,{"$f":"[1]!Order_Salim(RANK(R160,$R$7:$R$302)+COUNTIF($R$7:R160,R160)-1)","v":"too Big Number"},{"$f":"[1]!Order_Salim(RANK(R160,$R$7:$R$302))","v":"too Big Number"}]
[166,"طالب رقم 166",10,10,15,12,15,62,45,40,13,45,55,45,95,30,368,430,{"$f":"[1]!Order_Salim(RANK(R161,$R$7:$R$302)+COUNTIF($R$7:R161,R161)-1)","v":"too Big Number"},{"$f":"[1]!Order_Salim(RANK(R161,$R$7:$R$302))","v":"too Big Number"}]
[190,"طالب رقم 190",14,15,17,14,14,74,40,35,13,50,45,50,100,23,356,430,{"$f":"[1]!Order_Salim(RANK(R162,$R$7:$R$302)+COUNTIF($R$7:R162,R162)-1)","v":"too Big Number"},{"$f":"[1]!Order_Salim(RANK(R162,$R$7:$R$302))","v":"too Big Number"}]
[211,"طالب رقم 211",15,16,12,13,11,67,35,30,13,60,45,50,100,30,363,430,{"$f":"[1]!Order_Salim(RANK(R163,$R$7:$R$302)+COUNTIF($R$7:R163,R163)-1)","v":"too Big Number"},{"$f":"[1]!Order_Salim(RANK(R163,$R$7:$R$302))","v":"too Big Number"}]
[218,"طالب رقم 218",14,14,15,15,13,71,30,25,14,65,50,50,95,30,359,430,{"$f":"[1]!Order_Salim(RANK(R164,$R$7:$R$302)+COUNTIF($R$7:R164,R164)-1)","v":"too Big Number"},{"$f":"[1]!Order_Salim(RANK(R164,$R$7:$R$302))","v":"too Big Number"}]
[30,"طالب رقم 30",16,16,12,14,13,71,40,35,13,50,45,50,95,30,358,429,{"$f":"[1]!Order_Salim(RANK(R165,$R$7:$R$302)+COUNTIF($R$7:R165,R165)-1)","v":"too Big Number"},{"$f":"[1]!Order_Salim(RANK(R165,$R$7:$R$302))","v":"too Big Number"}]
[83,"طالب رقم 83",17,17,15,17,14,80,35,30,14,55,45,45,95,30,349,429,{"$f":"[1]!Order_Salim(RANK(R166,$R$7:$R$302)+COUNTIF($R$7:R166,R166)-1)","v":"too Big Number"},{"$f":"[1]!Order_Salim(RANK(R166,$R$7:$R$302))","v":"too Big Number"}]
[120,"طالب رقم 120",5,7,13,12,15,52,45,40,12,55,50,50,95,30,377,429,{"$f":"[1]!Order_Salim(RANK(R167,$R$7:$R$302)+COUNTIF($R$7:R167,R167)-1)","v":"too Big Number"},{"$f":"[1]!Order_Salim(RANK(R167,$R$7:$R$302))","v":"too Big Number"}]
[131,"طالب رقم 131",5,7,10,13,15,50,40,35,14,65,40,55,100,30,379,429,{"$f":"[1]!Order_Salim(RANK(R168,$R$7:$R$302)+COUNTIF($R$7:R168,R168)-1)","v":"too Big Number"},{"$f":"[1]!Order_Salim(RANK(R168,$R$7:$R$302))","v":"too Big Number"}]
[178,"طالب رقم 178",16,16,12,14,13,71,40,35,13,50,45,50,95,30,358,429,{"$f":"[1]!Order_Salim(RANK(R169,$R$7:$R$302)+COUNTIF($R$7:R169,R169)-1)","v":"too Big Number"},{"$f":"[1]!Order_Salim(RANK(R169,$R$7:$R$302))","v":"too Big Number"}]
[231,"طالب رقم 231",17,17,15,17,14,80,35,30,14,55,45,45,95,30,349,429,{"$f":"[1]!Order_Salim(RANK(R170,$R$7:$R$302)+COUNTIF($R$7:R170,R170)-1)","v":"too Big Number"},{"$f":"[1]!Order_Salim(RANK(R170,$R$7:$R$302))","v":"too Big Number"}]
[268,"طالب رقم 268",5,7,13,12,15,52,45,40,12,55,50,50,95,30,377,429,{"$f":"[1]!Order_Salim(RANK(R171,$R$7:$R$302)+COUNTIF($R$7:R171,R171)-1)","v":"too Big Number"},{"$f":"[1]!Order_Salim(RANK(R171,$R$7:$R$302))","v":"too Big Number"}]
[279,"طالب رقم 279",5,7,10,13,15,50,40,35,14,65,40,55,100,30,379,429,{"$f":"[1]!Order_Salim(RANK(R172,$R$7:$R$302)+COUNTIF($R$7:R172,R172)-1)","v":"too Big Number"},{"$f":"[1]!Order_Salim(RANK(R172,$R$7:$R$302))","v":"too Big Number"}]
[7,"طالب رقم 7",16,14,16,16,13,75,35,30,13,50,40,60,95,30,353,428,{"$f":"[1]!Order_Salim(RANK(R173,$R$7:$R$302)+COUNTIF($R$7:R173,R173)-1)","v":"too Big Number"},{"$f":"[1]!Order_Salim(RANK(R173,$R$7:$R$302))","v":"too Big Number"}]
[58,"طالب رقم 58",14,14,12,12,13,65,35,30,13,50,60,50,95,30,363,428,{"$f":"[1]!Order_Salim(RANK(R174,$R$7:$R$302)+COUNTIF($R$7:R174,R174)-1)","v":"too Big Number"},{"$f":"[1]!Order_Salim(RANK(R174,$R$7:$R$302))","v":"too Big Number"}]
[102,"طالب رقم 102",13,11,15,12,13,64,35,30,14,60,55,45,95,30,364,428,{"$f":"[1]!Order_Salim(RANK(R175,$R$7:$R$302)+COUNTIF($R$7:R175,R175)-1)","v":"too Big Number"},{"$f":"[1]!Order_Salim(RANK(R175,$R$7:$R$302))","v":"too Big Number"}]
[155,"طالب رقم 155",16,14,16,16,13,75,35,30,13,50,40,60,95,30,353,428,{"$f":"[1]!Order_Salim(RANK(R176,$R$7:$R$302)+COUNTIF($R$7:R176,R176)-1)","v":"too Big Number"},{"$f":"[1]!Order_Salim(RANK(R176,$R$7:$R$302))","v":"too Big Number"}]
[206,"طالب رقم 206",14,14,12,12,13,65,35,30,13,50,60,50,95,30,363,428,{"$f":"[1]!Order_Salim(RANK(R177,$R$7:$R$302)+COUNTIF($R$7:R177,R177)-1)","v":"too Big Number"},{"$f":"[1]!Order_Salim(RANK(R177,$R$7:$R$302))","v":"too Big Number"}]
[250,"طالب رقم 250",13,11,15,12,13,64,35,30,14,60,55,45,95,30,364,428,{"$f":"[1]!Order_Salim(RANK(R178,$R$7:$R$302)+COUNTIF($R$7:R178,R178)-1)","v":"too Big Number"},{"$f":"[1]!Order_Salim(RANK(R178,$R$7:$R$302))","v":"too Big Number"}]
[31,"طالب رقم 31",14,13,12,10,14,63,45,40,14,50,50,45,90,30,364,427,{"$f":"[1]!Order_Salim(RANK(R179,$R$7:$R$302)+COUNTIF($R$7:R179,R179)-1)","v":"too Big Number"},{"$f":"[1]!Order_Salim(RANK(R179,$R$7:$R$302))","v":"too Big Number"}]
[33,"طالب رقم 33",17,15,12,12,13,69,35,30,13,50,60,45,95,30,358,427,{"$f":"[1]!Order_Salim(RANK(R180,$R$7:$R$302)+COUNTIF($R$7:R180,R180)-1)","v":"too Big Number"},{"$f":"[1]!Order_Salim(RANK(R180,$R$7:$R$302))","v":"too Big Number"}]
[47,"طالب رقم 47",13,13,13,12,11,62,45,40,15,45,45,50,95,30,365,427,{"$f":"[1]!Order_Salim(RANK(R181,$R$7:$R$302)+COUNTIF($R$7:R181,R181)-1)","v":"too Big Number"},{"$f":"[1]!Order_Salim(RANK(R181,$R$7:$R$302))","v":"too Big Number"}]
[179,"طالب رقم 179",14,13,12,10,14,63,45,40,14,50,50,45,90,30,364,427,{"$f":"[1]!Order_Salim(RANK(R182,$R$7:$R$302)+COUNTIF($R$7:R182,R182)-1)","v":"too Big Number"},{"$f":"[1]!Order_Salim(RANK(R182,$R$7:$R$302))","v":"too Big Number"}]
[181,"طالب رقم 181",17,15,12,12,13,69,35,30,13,50,60,45,95,30,358,427,{"$f":"[1]!Order_Salim(RANK(R183,$R$7:$R$302)+COUNTIF($R$7:R183,R183)-1)","v":"too Big Number"},{"$f":"[1]!Order_Salim(RANK(R183,$R$7:$R$302))","v":"too Big Number"}]
[195,"طالب رقم 195",13,13,13,12,11,62,45,40,15,45,45,50,95,30,365,427,{"$f":"[1]!Order_Salim(RANK(R184,$R$7:$R$302)+COUNTIF($R$7:R184,R184)-1)","v":"too Big Number"},{"$f":"[1]!Order_Salim(RANK(R184,$R$7:$R$302))","v":"too Big Number"}]
[66,"طالب رقم 66",14,13,13,13,11,64,45,35,13,55,40,45,100,29.5,362.5,426.5,{"$f":"[1]!Order_Salim(RANK(R185,$R$7:$R$302)+COUNTIF($R$7:R185,R185)-1)","v":"too Big Number"},{"$f":"[1]!Order_Salim(RANK(R185,$R$7:$R$302))","v":"too Big Number"}]
[214,"طالب رقم 214",14,13,13,13,11,64,45,35,13,55,40,45,100,29.5,362.5,426.5,{"$f":"[1]!Order_Salim(RANK(R186,$R$7:$R$302)+COUNTIF($R$7:R186,R186)-1)","v":"too Big Number"},{"$f":"[1]!Order_Salim(RANK(R186,$R$7:$R$302))","v":"too Big Number"}]
[76,"طالب رقم 76",12,15,13,14,13,67,35,30,14,55,50,50,95,30,359,426,{"$f":"[1]!Order_Salim(RANK(R187,$R$7:$R$302)+COUNTIF($R$7:R187,R187)-1)","v":"too Big Number"},{"$f":"[1]!Order_Salim(RANK(R187,$R$7:$R$302))","v":"too Big Number"}]
[90,"طالب رقم 90",13,15,16,17,13,74,35,30,12,45,55,50,95,30,352,426,{"$f":"[1]!Order_Salim(RANK(R188,$R$7:$R$302)+COUNTIF($R$7:R188,R188)-1)","v":"too Big Number"},{"$f":"[1]!Order_Salim(RANK(R188,$R$7:$R$302))","v":"too Big Number"}]
[113,"طالب رقم 113",5,7,14,12,15,53,45,40,13,55,45,50,95,30,373,426,{"$f":"[1]!Order_Salim(RANK(R189,$R$7:$R$302)+COUNTIF($R$7:R189,R189)-1)","v":"too Big Number"},{"$f":"[1]!Order_Salim(RANK(R189,$R$7:$R$302))","v":"too Big Number"}]
[224,"طالب رقم 224",12,15,13,14,13,67,35,30,14,55,50,50,95,30,359,426,{"$f":"[1]!Order_Salim(RANK(R190,$R$7:$R$302)+COUNTIF($R$7:R190,R190)-1)","v":"too Big Number"},{"$f":"[1]!Order_Salim(RANK(R190,$R$7:$R$302))","v":"too Big Number"}]
[238,"طالب رقم 238",13,15,16,17,13,74,35,30,12,45,55,50,95,30,352,426,{"$f":"[1]!Order_Salim(RANK(R191,$R$7:$R$302)+COUNTIF($R$7:R191,R191)-1)","v":"too Big Number"},{"$f":"[1]!Order_Salim(RANK(R191,$R$7:$R$302))","v":"too Big Number"}]
[261,"طالب رقم 261",5,7,14,12,15,53,45,40,13,55,45,50,95,30,373,426,{"$f":"[1]!Order_Salim(RANK(R192,$R$7:$R$302)+COUNTIF($R$7:R192,R192)-1)","v":"too Big Number"},{"$f":"[1]!Order_Salim(RANK(R192,$R$7:$R$302))","v":"too Big Number"}]
[93,"طالب رقم 93",11,10,14,13,14,62,40,35,14,55,50,45,95,29.5,363.5,425.5,{"$f":"[1]!Order_Salim(RANK(R193,$R$7:$R$302)+COUNTIF($R$7:R193,R193)-1)","v":"too Big Number"},{"$f":"[1]!Order_Salim(RANK(R193,$R$7:$R$302))","v":"too Big Number"}]
[241,"طالب رقم 241",11,10,14,13,14,62,40,35,14,55,50,45,95,29.5,363.5,425.5,{"$f":"[1]!Order_Salim(RANK(R194,$R$7:$R$302)+COUNTIF($R$7:R194,R194)-1)","v":"too Big Number"},{"$f":"[1]!Order_Salim(RANK(R194,$R$7:$R$302))","v":"too Big Number"}]
[114,"طالب رقم 114",6,7,14,14,15,56,40,35,14,60,45,50,95,30,369,425,{"$f":"[1]!Order_Salim(RANK(R195,$R$7:$R$302)+COUNTIF($R$7:R195,R195)-1)","v":"too Big Number"},{"$f":"[1]!Order_Salim(RANK(R195,$R$7:$R$302))","v":"too Big Number"}]
[262,"طالب رقم 262",6,7,14,14,15,56,40,35,14,60,45,50,95,30,369,425,{"$f":"[1]!Order_Salim(RANK(R196,$R$7:$R$302)+COUNTIF($R$7:R196,R196)-1)","v":"too Big Number"},{"$f":"[1]!Order_Salim(RANK(R196,$R$7:$R$302))","v":"too Big Number"}]
[38,"طالب رقم 38",17,16,13,13,15,74,40,35,15,50,45,45,90,30,350,424,{"$f":"[1]!Order_Salim(RANK(R197,$R$7:$R$302)+COUNTIF($R$7:R197,R197)-1)","v":"too Big Number"},{"$f":"[1]!Order_Salim(RANK(R197,$R$7:$R$302))","v":"too Big Number"}]
[43,"طالب رقم 43",17,15,13,10,15,70,35,30,14,45,50,50,100,30,354,424,{"$f":"[1]!Order_Salim(RANK(R198,$R$7:$R$302)+COUNTIF($R$7:R198,R198)-1)","v":"too Big Number"},{"$f":"[1]!Order_Salim(RANK(R198,$R$7:$R$302))","v":"too Big Number"}]
[49,"طالب رقم 49",13,15,12,13,14,67,40,35,12,50,40,55,95,30,357,424,{"$f":"[1]!Order_Salim(RANK(R199,$R$7:$R$302)+COUNTIF($R$7:R199,R199)-1)","v":"too Big Number"},{"$f":"[1]!Order_Salim(RANK(R199,$R$7:$R$302))","v":"too Big Number"}]
[54,"طالب رقم 54",16,16,13,13,13,71,35,30,13,60,45,45,95,30,353,424,{"$f":"[1]!Order_Salim(RANK(R200,$R$7:$R$302)+COUNTIF($R$7:R200,R200)-1)","v":"too Big Number"},{"$f":"[1]!Order_Salim(RANK(R200,$R$7:$R$302))","v":"too Big Number"}]
[117,"طالب رقم 117",5,6,14,11,15,51,45,40,13,50,45,50,100,30,373,424,{"$f":"[1]!Order_Salim(RANK(R201,$R$7:$R$302)+COUNTIF($R$7:R201,R201)-1)","v":"too Big Number"},{"$f":"[1]!Order_Salim(RANK(R201,$R$7:$R$302))","v":"too Big Number"}]
[126,"طالب رقم 126",5,5,15,16,15,56,40,35,13,50,40,65,95,30,368,424,{"$f":"[1]!Order_Salim(RANK(R202,$R$7:$R$302)+COUNTIF($R$7:R202,R202)-1)","v":"too Big Number"},{"$f":"[1]!Order_Salim(RANK(R202,$R$7:$R$302))","v":"too Big Number"}]
[145,"طالب رقم 145",7,5,15,14,13,54,35,30,15,55,50,60,95,30,370,424,{"$f":"[1]!Order_Salim(RANK(R203,$R$7:$R$302)+COUNTIF($R$7:R203,R203)-1)","v":"too Big Number"},{"$f":"[1]!Order_Salim(RANK(R203,$R$7:$R$302))","v":"too Big Number"}]
[186,"طالب رقم 186",17,16,13,13,15,74,40,35,15,50,45,45,90,30,350,424,{"$f":"[1]!Order_Salim(RANK(R204,$R$7:$R$302)+COUNTIF($R$7:R204,R204)-1)","v":"too Big Number"},{"$f":"[1]!Order_Salim(RANK(R204,$R$7:$R$302))","v":"too Big Number"}]
[191,"طالب رقم 191",17,15,13,10,15,70,35,30,14,45,50,50,100,30,354,424,{"$f":"[1]!Order_Salim(RANK(R205,$R$7:$R$302)+COUNTIF($R$7:R205,R205)-1)","v":"too Big Number"},{"$f":"[1]!Order_Salim(RANK(R205,$R$7:$R$302))","v":"too Big Number"}]
[197,"طالب رقم 197",13,15,12,13,14,67,40,35,12,50,40,55,95,30,357,424,{"$f":"[1]!Order_Salim(RANK(R206,$R$7:$R$302)+COUNTIF($R$7:R206,R206)-1)","v":"too Big Number"},{"$f":"[1]!Order_Salim(RANK(R206,$R$7:$R$302))","v":"too Big Number"}]
[202,"طالب رقم 202",16,16,13,13,13,71,35,30,13,60,45,45,95,30,353,424,{"$f":"[1]!Order_Salim(RANK(R207,$R$7:$R$302)+COUNTIF($R$7:R207,R207)-1)","v":"too Big Number"},{"$f":"[1]!Order_Salim(RANK(R207,$R$7:$R$302))","v":"too Big Number"}]
[265,"طالب رقم 265",5,6,14,11,15,51,45,40,13,50,45,50,100,30,373,424,{"$f":"[1]!Order_Salim(RANK(R208,$R$7:$R$302)+COUNTIF($R$7:R208,R208)-1)","v":"too Big Number"},{"$f":"[1]!Order_Salim(RANK(R208,$R$7:$R$302))","v":"too Big Number"}]
[274,"طالب رقم 274",5,5,15,16,15,56,40,35,13,50,40,65,95,30,368,424,{"$f":"[1]!Order_Salim(RANK(R209,$R$7:$R$302)+COUNTIF($R$7:R209,R209)-1)","v":"too Big Number"},{"$f":"[1]!Order_Salim(RANK(R209,$R$7:$R$302))","v":"too Big Number"}]
[293,"طالب رقم 293",7,5,15,14,13,54,35,30,15,55,50,60,95,30,370,424,{"$f":"[1]!Order_Salim(RANK(R210,$R$7:$R$302)+COUNTIF($R$7:R210,R210)-1)","v":"too Big Number"},{"$f":"[1]!Order_Salim(RANK(R210,$R$7:$R$302))","v":"too Big Number"}]
[36,"طالب رقم 36",13,16,13,10,14,66,40,35,13,45,50,50,95,29.5,357.5,423.5,{"$f":"[1]!Order_Salim(RANK(R211,$R$7:$R$302)+COUNTIF($R$7:R211,R211)-1)","v":"too Big Number"},{"$f":"[1]!Order_Salim(RANK(R211,$R$7:$R$302))","v":"too Big Number"}]
[184,"طالب رقم 184",13,16,13,10,14,66,40,35,13,45,50,50,95,29.5,357.5,423.5,{"$f":"[1]!Order_Salim(RANK(R212,$R$7:$R$302)+COUNTIF($R$7:R212,R212)-1)","v":"too Big Number"},{"$f":"[1]!Order_Salim(RANK(R212,$R$7:$R$302))","v":"too Big Number"}]
[106,"طالب رقم 106",5,6,12,13,15,51,45,40,12,50,45,50,100,30,372,423,{"$f":"[1]!Order_Salim(RANK(R213,$R$7:$R$302)+COUNTIF($R$7:R213,R213)-1)","v":"too Big Number"},{"$f":"[1]!Order_Salim(RANK(R213,$R$7:$R$302))","v":"too Big Number"}]
[254,"طالب رقم 254",5,6,12,13,15,51,45,40,12,50,45,50,100,30,372,423,{"$f":"[1]!Order_Salim(RANK(R214,$R$7:$R$302)+COUNTIF($R$7:R214,R214)-1)","v":"too Big Number"},{"$f":"[1]!Order_Salim(RANK(R214,$R$7:$R$302))","v":"too Big Number"}]
[29,"طالب رقم 29",15,15,15,11,13,69,35,30,13,55,40,55,95,30,353,422,{"$f":"[1]!Order_Salim(RANK(R215,$R$7:$R$302)+COUNTIF($R$7:R215,R215)-1)","v":"too Big Number"},{"$f":"[1]!Order_Salim(RANK(R215,$R$7:$R$302))","v":"too Big Number"}]
[104,"طالب رقم 104",7,8,11,11,15,52,45,40,15,55,45,45,95,30,370,422,{"$f":"[1]!Order_Salim(RANK(R216,$R$7:$R$302)+COUNTIF($R$7:R216,R216)-1)","v":"too Big Number"},{"$f":"[1]!Order_Salim(RANK(R216,$R$7:$R$302))","v":"too Big Number"}]
[118,"طالب رقم 118",7,8,15,12,16,58,35,30,14,55,45,55,100,30,364,422,{"$f":"[1]!Order_Salim(RANK(R217,$R$7:$R$302)+COUNTIF($R$7:R217,R217)-1)","v":"too Big Number"},{"$f":"[1]!Order_Salim(RANK(R217,$R$7:$R$302))","v":"too Big Number"}]
[134,"طالب رقم 134",5,5,12,11,15,48,40,35,14,55,45,60,95,30,374,422,{"$f":"[1]!Order_Salim(RANK(R218,$R$7:$R$302)+COUNTIF($R$7:R218,R218)-1)","v":"too Big Number"},{"$f":"[1]!Order_Salim(RANK(R218,$R$7:$R$302))","v":"too Big Number"}]
[144,"طالب رقم 144",7,5,14,14,14,54,40,35,13,50,50,55,95,30,368,422,{"$f":"[1]!Order_Salim(RANK(R219,$R$7:$R$302)+COUNTIF($R$7:R219,R219)-1)","v":"too Big Number"},{"$f":"[1]!Order_Salim(RANK(R219,$R$7:$R$302))","v":"too Big Number"}]
[177,"طالب رقم 177",15,15,15,11,13,69,35,30,13,55,40,55,95,30,353,422,{"$f":"[1]!Order_Salim(RANK(R220,$R$7:$R$302)+COUNTIF($R$7:R220,R220)-1)","v":"too Big Number"},{"$f":"[1]!Order_Salim(RANK(R220,$R$7:$R$302))","v":"too Big Number"}]
[252,"طالب رقم 252",7,8,11,11,15,52,45,40,15,55,45,45,95,30,370,422,{"$f":"[1]!Order_Salim(RANK(R221,$R$7:$R$302)+COUNTIF($R$7:R221,R221)-1)","v":"too Big Number"},{"$f":"[1]!Order_Salim(RANK(R221,$R$7:$R$302))","v":"too Big Number"}]
[266,"طالب رقم 266",7,8,15,12,16,58,35,30,14,55,45,55,100,30,364,422,{"$f":"[1]!Order_Salim(RANK(R222,$R$7:$R$302)+COUNTIF($R$7:R222,R222)-1)","v":"too Big Number"},{"$f":"[1]!Order_Salim(RANK(R222,$R$7:$R$302))","v":"too Big Number"}]
[282,"طالب رقم 282",5,5,12,11,15,48,40,35,14,55,45,60,95,30,374,422,{"$f":"[1]!Order_Salim(RANK(R223,$R$7:$R$302)+COUNTIF($R$7:R223,R223)-1)","v":"too Big Number"},{"$f":"[1]!Order_Salim(RANK(R223,$R$7:$R$302))","v":"too Big Number"}]
[292,"طالب رقم 292",7,5,14,14,14,54,40,35,13,50,50,55,95,30,368,422,{"$f":"[1]!Order_Salim(RANK(R224,$R$7:$R$302)+COUNTIF($R$7:R224,R224)-1)","v":"too Big Number"},{"$f":"[1]!Order_Salim(RANK(R224,$R$7:$R$302))","v":"too Big Number"}]
[15,"طالب رقم 15",12,11,15,17,12,67,35,30,14,50,55,50,90,30,354,421,{"$f":"[1]!Order_Salim(RANK(R225,$R$7:$R$302)+COUNTIF($R$7:R225,R225)-1)","v":"too Big Number"},{"$f":"[1]!Order_Salim(RANK(R225,$R$7:$R$302))","v":"too Big Number"}]
[163,"طالب رقم 163",12,11,15,17,12,67,35,30,14,50,55,50,90,30,354,421,{"$f":"[1]!Order_Salim(RANK(R226,$R$7:$R$302)+COUNTIF($R$7:R226,R226)-1)","v":"too Big Number"},{"$f":"[1]!Order_Salim(RANK(R226,$R$7:$R$302))","v":"too Big Number"}]
[97,"طالب رقم 97",12,13,15,17,14,71,35,30,14,45,40,60,95,30,349,420,{"$f":"[1]!Order_Salim(RANK(R227,$R$7:$R$302)+COUNTIF($R$7:R227,R227)-1)","v":"too Big Number"},{"$f":"[1]!Order_Salim(RANK(R227,$R$7:$R$302))","v":"too Big Number"}]
[245,"طالب رقم 245",12,13,15,17,14,71,35,30,14,45,40,60,95,30,349,420,{"$f":"[1]!Order_Salim(RANK(R228,$R$7:$R$302)+COUNTIF($R$7:R228,R228)-1)","v":"too Big Number"},{"$f":"[1]!Order_Salim(RANK(R228,$R$7:$R$302))","v":"too Big Number"}]
[40,"طالب رقم 40",16,17,12,12,13,70,35,30,14,50,45,50,95,30,349,419,{"$f":"[1]!Order_Salim(RANK(R229,$R$7:$R$302)+COUNTIF($R$7:R229,R229)-1)","v":"too Big Number"},{"$f":"[1]!Order_Salim(RANK(R229,$R$7:$R$302))","v":"too Big Number"}]
[188,"طالب رقم 188",16,17,12,12,13,70,35,30,14,50,45,50,95,30,349,419,{"$f":"[1]!Order_Salim(RANK(R230,$R$7:$R$302)+COUNTIF($R$7:R230,R230)-1)","v":"too Big Number"},{"$f":"[1]!Order_Salim(RANK(R230,$R$7:$R$302))","v":"too Big Number"}]
[48,"طالب رقم 48",12,13,12,13,13,63,35,30,15,50,50,50,95,30,355,418,{"$f":"[1]!Order_Salim(RANK(R231,$R$7:$R$302)+COUNTIF($R$7:R231,R231)-1)","v":"too Big Number"},{"$f":"[1]!Order_Salim(RANK(R231,$R$7:$R$302))","v":"too Big Number"}]
[53,"طالب رقم 53",14,15,14,15,11,69,40,35,14,45,40,50,95,30,349,418,{"$f":"[1]!Order_Salim(RANK(R232,$R$7:$R$302)+COUNTIF($R$7:R232,R232)-1)","v":"too Big Number"},{"$f":"[1]!Order_Salim(RANK(R232,$R$7:$R$302))","v":"too Big Number"}]
[55,"طالب رقم 55",14,14,14,15,14,71,40,35,12,50,40,45,95,30,347,418,{"$f":"[1]!Order_Salim(RANK(R233,$R$7:$R$302)+COUNTIF($R$7:R233,R233)-1)","v":"too Big Number"},{"$f":"[1]!Order_Salim(RANK(R233,$R$7:$R$302))","v":"too Big Number"}]
[121,"طالب رقم 121",6,5,13,16,17,57,40,35,13,50,45,55,95,28,361,418,{"$f":"[1]!Order_Salim(RANK(R234,$R$7:$R$302)+COUNTIF($R$7:R234,R234)-1)","v":"too Big Number"},{"$f":"[1]!Order_Salim(RANK(R234,$R$7:$R$302))","v":"too Big Number"}]
[196,"طالب رقم 196",12,13,12,13,13,63,35,30,15,50,50,50,95,30,355,418,{"$f":"[1]!Order_Salim(RANK(R235,$R$7:$R$302)+COUNTIF($R$7:R235,R235)-1)","v":"too Big Number"},{"$f":"[1]!Order_Salim(RANK(R235,$R$7:$R$302))","v":"too Big Number"}]
[201,"طالب رقم 201",14,15,14,15,11,69,40,35,14,45,40,50,95,30,349,418,{"$f":"[1]!Order_Salim(RANK(R236,$R$7:$R$302)+COUNTIF($R$7:R236,R236)-1)","v":"too Big Number"},{"$f":"[1]!Order_Salim(RANK(R236,$R$7:$R$302))","v":"too Big Number"}]
[203,"طالب رقم 203",14,14,14,15,14,71,40,35,12,50,40,45,95,30,347,418,{"$f":"[1]!Order_Salim(RANK(R237,$R$7:$R$302)+COUNTIF($R$7:R237,R237)-1)","v":"too Big Number"},{"$f":"[1]!Order_Salim(RANK(R237,$R$7:$R$302))","v":"too Big Number"}]
[269,"طالب رقم 269",6,5,13,16,17,57,40,35,13,50,45,55,95,28,361,418,{"$f":"[1]!Order_Salim(RANK(R238,$R$7:$R$302)+COUNTIF($R$7:R238,R238)-1)","v":"too Big Number"},{"$f":"[1]!Order_Salim(RANK(R238,$R$7:$R$302))","v":"too Big Number"}]
[32,"طالب رقم 32",16,13,12,14,12,67,35,30,15,45,55,45,95,30,350,417,{"$f":"[1]!Order_Salim(RANK(R239,$R$7:$R$302)+COUNTIF($R$7:R239,R239)-1)","v":"too Big Number"},{"$f":"[1]!Order_Salim(RANK(R239,$R$7:$R$302))","v":"too Big Number"}]
[127,"طالب رقم 127",5,7,10,16,15,53,35,30,14,55,45,60,95,30,364,417,{"$f":"[1]!Order_Salim(RANK(R240,$R$7:$R$302)+COUNTIF($R$7:R240,R240)-1)","v":"too Big Number"},{"$f":"[1]!Order_Salim(RANK(R240,$R$7:$R$302))","v":"too Big Number"}]
[180,"طالب رقم 180",16,13,12,14,12,67,35,30,15,45,55,45,95,30,350,417,{"$f":"[1]!Order_Salim(RANK(R241,$R$7:$R$302)+COUNTIF($R$7:R241,R241)-1)","v":"too Big Number"},{"$f":"[1]!Order_Salim(RANK(R241,$R$7:$R$302))","v":"too Big Number"}]
[275,"طالب رقم 275",5,7,10,16,15,53,35,30,14,55,45,60,95,30,364,417,{"$f":"[1]!Order_Salim(RANK(R242,$R$7:$R$302)+COUNTIF($R$7:R242,R242)-1)","v":"too Big Number"},{"$f":"[1]!Order_Salim(RANK(R242,$R$7:$R$302))","v":"too Big Number"}]
[41,"طالب رقم 41",18,15,13,12,13,71,30,25,15,55,40,50,100,30,345,416,{"$f":"[1]!Order_Salim(RANK(R243,$R$7:$R$302)+COUNTIF($R$7:R243,R243)-1)","v":"too Big Number"},{"$f":"[1]!Order_Salim(RANK(R243,$R$7:$R$302))","v":"too Big Number"}]
[123,"طالب رقم 123",5,5,14,14,15,53,35,30,13,50,40,65,100,30,363,416,{"$f":"[1]!Order_Salim(RANK(R244,$R$7:$R$302)+COUNTIF($R$7:R244,R244)-1)","v":"too Big Number"},{"$f":"[1]!Order_Salim(RANK(R244,$R$7:$R$302))","v":"too Big Number"}]
[189,"طالب رقم 189",18,15,13,12,13,71,30,25,15,55,40,50,100,30,345,416,{"$f":"[1]!Order_Salim(RANK(R245,$R$7:$R$302)+COUNTIF($R$7:R245,R245)-1)","v":"too Big Number"},{"$f":"[1]!Order_Salim(RANK(R245,$R$7:$R$302))","v":"too Big Number"}]
[271,"طالب رقم 271",5,5,14,14,15,53,35,30,13,50,40,65,100,30,363,416,{"$f":"[1]!Order_Salim(RANK(R246,$R$7:$R$302)+COUNTIF($R$7:R246,R246)-1)","v":"too Big Number"},{"$f":"[1]!Order_Salim(RANK(R246,$R$7:$R$302))","v":"too Big Number"}]
[10,"طالب رقم 10",12,10,12,17,12,63,35,30,12,50,45,55,95,30,352,415,{"$f":"[1]!Order_Salim(RANK(R247,$R$7:$R$302)+COUNTIF($R$7:R247,R247)-1)","v":"too Big Number"},{"$f":"[1]!Order_Salim(RANK(R247,$R$7:$R$302))","v":"too Big Number"}]
[122,"طالب رقم 122",6,6,15,14,15,56,35,30,14,50,45,60,95,30,359,415,{"$f":"[1]!Order_Salim(RANK(R248,$R$7:$R$302)+COUNTIF($R$7:R248,R248)-1)","v":"too Big Number"},{"$f":"[1]!Order_Salim(RANK(R248,$R$7:$R$302))","v":"too Big Number"}]
[158,"طالب رقم 158",12,10,12,17,12,63,35,30,12,50,45,55,95,30,352,415,{"$f":"[1]!Order_Salim(RANK(R249,$R$7:$R$302)+COUNTIF($R$7:R249,R249)-1)","v":"too Big Number"},{"$f":"[1]!Order_Salim(RANK(R249,$R$7:$R$302))","v":"too Big Number"}]
[270,"طالب رقم 270",6,6,15,14,15,56,35,30,14,50,45,60,95,30,359,415,{"$f":"[1]!Order_Salim(RANK(R250,$R$7:$R$302)+COUNTIF($R$7:R250,R250)-1)","v":"too Big Number"},{"$f":"[1]!Order_Salim(RANK(R250,$R$7:$R$302))","v":"too Big Number"}]
[95,"طالب رقم 95",12,12,16,17,14,71,35,30,14,50,45,50,90,29.5,343.5,414.5,{"$f":"[1]!Order_Salim(RANK(R251,$R$7:$R$302)+COUNTIF($R$7:R251,R251)-1)","v":"too Big Number"},{"$f":"[1]!Order_Salim(RANK(R251,$R$7:$R$302))","v":"too Big Number"}]
[243,"طالب رقم 243",12,12,16,17,14,71,35,30,14,50,45,50,90,29.5,343.5,414.5,{"$f":"[1]!Order_Salim(RANK(R252,$R$7:$R$302)+COUNTIF($R$7:R252,R252)-1)","v":"too Big Number"},{"$f":"[1]!Order_Salim(RANK(R252,$R$7:$R$302))","v":"too Big Number"}]
[28,"طالب رقم 28",17,15,14,14,15,75,35,30,14,45,40,50,95,30,339,414,{"$f":"[1]!Order_Salim(RANK(R253,$R$7:$R$302)+COUNTIF($R$7:R253,R253)-1)","v":"too Big Number"},{"$f":"[1]!Order_Salim(RANK(R253,$R$7:$R$302))","v":"too Big Number"}]
[65,"طالب رقم 65",12,14,12,14,11,63,35,30,13,45,45,50,105,28,351,414,{"$f":"[1]!Order_Salim(RANK(R254,$R$7:$R$302)+COUNTIF($R$7:R254,R254)-1)","v":"too Big Number"},{"$f":"[1]!Order_Salim(RANK(R254,$R$7:$R$302))","v":"too Big Number"}]
[71,"طالب رقم 71",10,12,13,14,12,61,40,35,13,45,45,45,100,30,353,414,{"$f":"[1]!Order_Salim(RANK(R255,$R$7:$R$302)+COUNTIF($R$7:R255,R255)-1)","v":"too Big Number"},{"$f":"[1]!Order_Salim(RANK(R255,$R$7:$R$302))","v":"too Big Number"}]
[135,"طالب رقم 135",5,7,10,12,15,49,35,30,15,50,40,65,100,30,365,414,{"$f":"[1]!Order_Salim(RANK(R256,$R$7:$R$302)+COUNTIF($R$7:R256,R256)-1)","v":"too Big Number"},{"$f":"[1]!Order_Salim(RANK(R256,$R$7:$R$302))","v":"too Big Number"}]
[176,"طالب رقم 176",17,15,14,14,15,75,35,30,14,45,40,50,95,30,339,414,{"$f":"[1]!Order_Salim(RANK(R257,$R$7:$R$302)+COUNTIF($R$7:R257,R257)-1)","v":"too Big Number"},{"$f":"[1]!Order_Salim(RANK(R257,$R$7:$R$302))","v":"too Big Number"}]
[213,"طالب رقم 213",12,14,12,14,11,63,35,30,13,45,45,50,105,28,351,414,{"$f":"[1]!Order_Salim(RANK(R258,$R$7:$R$302)+COUNTIF($R$7:R258,R258)-1)","v":"too Big Number"},{"$f":"[1]!Order_Salim(RANK(R258,$R$7:$R$302))","v":"too Big Number"}]
[219,"طالب رقم 219",10,12,13,14,12,61,40,35,13,45,45,45,100,30,353,414,{"$f":"[1]!Order_Salim(RANK(R259,$R$7:$R$302)+COUNTIF($R$7:R259,R259)-1)","v":"too Big Number"},{"$f":"[1]!Order_Salim(RANK(R259,$R$7:$R$302))","v":"too Big Number"}]
[283,"طالب رقم 283",5,7,10,12,15,49,35,30,15,50,40,65,100,30,365,414,{"$f":"[1]!Order_Salim(RANK(R260,$R$7:$R$302)+COUNTIF($R$7:R260,R260)-1)","v":"too Big Number"},{"$f":"[1]!Order_Salim(RANK(R260,$R$7:$R$302))","v":"too Big Number"}]
[141,"طالب رقم 141",7,5,14,14,14,54,35,30,14,55,35,60,100,30,359,413,{"$f":"[1]!Order_Salim(RANK(R261,$R$7:$R$302)+COUNTIF($R$7:R261,R261)-1)","v":"too Big Number"},{"$f":"[1]!Order_Salim(RANK(R261,$R$7:$R$302))","v":"too Big Number"}]
[289,"طالب رقم 289",7,5,14,14,14,54,35,30,14,55,35,60,100,30,359,413,{"$f":"[1]!Order_Salim(RANK(R262,$R$7:$R$302)+COUNTIF($R$7:R262,R262)-1)","v":"too Big Number"},{"$f":"[1]!Order_Salim(RANK(R262,$R$7:$R$302))","v":"too Big Number"}]
[52,"طالب رقم 52",15,12,12,13,11,63,35,30,14,45,50,50,95,30,349,412,{"$f":"[1]!Order_Salim(RANK(R263,$R$7:$R$302)+COUNTIF($R$7:R263,R263)-1)","v":"too Big Number"},{"$f":"[1]!Order_Salim(RANK(R263,$R$7:$R$302))","v":"too Big Number"}]
[111,"طالب رقم 111",5,5,10,14,15,49,35,30,13,55,40,65,95,30,363,412,{"$f":"[1]!Order_Salim(RANK(R264,$R$7:$R$302)+COUNTIF($R$7:R264,R264)-1)","v":"too Big Number"},{"$f":"[1]!Order_Salim(RANK(R264,$R$7:$R$302))","v":"too Big Number"}]
[200,"طالب رقم 200",15,12,12,13,11,63,35,30,14,45,50,50,95,30,349,412,{"$f":"[1]!Order_Salim(RANK(R265,$R$7:$R$302)+COUNTIF($R$7:R265,R265)-1)","v":"too Big Number"},{"$f":"[1]!Order_Salim(RANK(R265,$R$7:$R$302))","v":"too Big Number"}]
[259,"طالب رقم 259",5,5,10,14,15,49,35,30,13,55,40,65,95,30,363,412,{"$f":"[1]!Order_Salim(RANK(R266,$R$7:$R$302)+COUNTIF($R$7:R266,R266)-1)","v":"too Big Number"},{"$f":"[1]!Order_Salim(RANK(R266,$R$7:$R$302))","v":"too Big Number"}]
[109,"طالب رقم 109",6,6,12,15,14,53,40,35,12,55,45,50,90,30,357,410,{"$f":"[1]!Order_Salim(RANK(R267,$R$7:$R$302)+COUNTIF($R$7:R267,R267)-1)","v":"too Big Number"},{"$f":"[1]!Order_Salim(RANK(R267,$R$7:$R$302))","v":"too Big Number"}]
[257,"طالب رقم 257",6,6,12,15,14,53,40,35,12,55,45,50,90,30,357,410,{"$f":"[1]!Order_Salim(RANK(R268,$R$7:$R$302)+COUNTIF($R$7:R268,R268)-1)","v":"too Big Number"},{"$f":"[1]!Order_Salim(RANK(R268,$R$7:$R$302))","v":"too Big Number"}]
[119,"طالب رقم 119",5,5,14,11,15,50,35,30,14,50,50,55,95,30,359,409,{"$f":"[1]!Order_Salim(RANK(R269,$R$7:$R$302)+COUNTIF($R$7:R269,R269)-1)","v":"too Big Number"},{"$f":"[1]!Order_Salim(RANK(R269,$R$7:$R$302))","v":"too Big Number"}]
[267,"طالب رقم 267",5,5,14,11,15,50,35,30,14,50,50,55,95,30,359,409,{"$f":"[1]!Order_Salim(RANK(R270,$R$7:$R$302)+COUNTIF($R$7:R270,R270)-1)","v":"too Big Number"},{"$f":"[1]!Order_Salim(RANK(R270,$R$7:$R$302))","v":"too Big Number"}]
[73,"طالب رقم 73",12,14,13,13,13,65,30,25,13,55,45,50,95,30,343,408,{"$f":"[1]!Order_Salim(RANK(R271,$R$7:$R$302)+COUNTIF($R$7:R271,R271)-1)","v":"too Big Number"},{"$f":"[1]!Order_Salim(RANK(R271,$R$7:$R$302))","v":"too Big Number"}]
[221,"طالب رقم 221",12,14,13,13,13,65,30,25,13,55,45,50,95,30,343,408,{"$f":"[1]!Order_Salim(RANK(R272,$R$7:$R$302)+COUNTIF($R$7:R272,R272)-1)","v":"too Big Number"},{"$f":"[1]!Order_Salim(RANK(R272,$R$7:$R$302))","v":"too Big Number"}]
[61,"طالب رقم 61",12,14,15,14,13,68,30,25,13,45,40,55,100,28,336,404,{"$f":"[1]!Order_Salim(RANK(R273,$R$7:$R$302)+COUNTIF($R$7:R273,R273)-1)","v":"too Big Number"},{"$f":"[1]!Order_Salim(RANK(R273,$R$7:$R$302))","v":"too Big Number"}]
[209,"طالب رقم 209",12,14,15,14,13,68,30,25,13,45,40,55,100,28,336,404,{"$f":"[1]!Order_Salim(RANK(R274,$R$7:$R$302)+COUNTIF($R$7:R274,R274)-1)","v":"too Big Number"},{"$f":"[1]!Order_Salim(RANK(R274,$R$7:$R$302))","v":"too Big Number"}]
[107,"طالب رقم 107",5,7,10,15,16,53,40,35,15,55,40,40,95,30,350,403,{"$f":"[1]!Order_Salim(RANK(R275,$R$7:$R$302)+COUNTIF($R$7:R275,R275)-1)","v":"too Big Number"},{"$f":"[1]!Order_Salim(RANK(R275,$R$7:$R$302))","v":"too Big Number"}]
[255,"طالب رقم 255",5,7,10,15,16,53,40,35,15,55,40,40,95,30,350,403,{"$f":"[1]!Order_Salim(RANK(R276,$R$7:$R$302)+COUNTIF($R$7:R276,R276)-1)","v":"too Big Number"},{"$f":"[1]!Order_Salim(RANK(R276,$R$7:$R$302))","v":"too Big Number"}]
[22,"طالب رقم 22",16,16,15,10,15,72,35,30,15,50,35,45,90,29.5,329.5,401.5,{"$f":"[1]!Order_Salim(RANK(R277,$R$7:$R$302)+COUNTIF($R$7:R277,R277)-1)","v":"too Big Number"},{"$f":"[1]!Order_Salim(RANK(R277,$R$7:$R$302))","v":"too Big Number"}]
[170,"طالب رقم 170",16,16,15,10,15,72,35,30,15,50,35,45,90,29.5,329.5,401.5,{"$f":"[1]!Order_Salim(RANK(R278,$R$7:$R$302)+COUNTIF($R$7:R278,R278)-1)","v":"too Big Number"},{"$f":"[1]!Order_Salim(RANK(R278,$R$7:$R$302))","v":"too Big Number"}]
[105,"طالب رقم 105",7,7,12,12,15,53,40,35,15,45,45,45,95,28,348,401,{"$f":"[1]!Order_Salim(RANK(R279,$R$7:$R$302)+COUNTIF($R$7:R279,R279)-1)","v":"too Big Number"},{"$f":"[1]!Order_Salim(RANK(R279,$R$7:$R$302))","v":"too Big Number"}]
[132,"طالب رقم 132",5,6,11,11,15,48,35,30,13,50,40,60,95,30,353,401,{"$f":"[1]!Order_Salim(RANK(R280,$R$7:$R$302)+COUNTIF($R$7:R280,R280)-1)","v":"too Big Number"},{"$f":"[1]!Order_Salim(RANK(R280,$R$7:$R$302))","v":"too Big Number"}]
[253,"طالب رقم 253",7,7,12,12,15,53,40,35,15,45,45,45,95,28,348,401,{"$f":"[1]!Order_Salim(RANK(R281,$R$7:$R$302)+COUNTIF($R$7:R281,R281)-1)","v":"too Big Number"},{"$f":"[1]!Order_Salim(RANK(R281,$R$7:$R$302))","v":"too Big Number"}]
[280,"طالب رقم 280",5,6,11,11,15,48,35,30,13,50,40,60,95,30,353,401,{"$f":"[1]!Order_Salim(RANK(R282,$R$7:$R$302)+COUNTIF($R$7:R282,R282)-1)","v":"too Big Number"},{"$f":"[1]!Order_Salim(RANK(R282,$R$7:$R$302))","v":"too Big Number"}]
[116,"طالب رقم 116",5,6,14,13,14,52,35,30,13,60,45,40,95,30,348,400,{"$f":"[1]!Order_Salim(RANK(R283,$R$7:$R$302)+COUNTIF($R$7:R283,R283)-1)","v":"too Big Number"},{"$f":"[1]!Order_Salim(RANK(R283,$R$7:$R$302))","v":"too Big Number"}]
[138,"طالب رقم 138",7,5,14,13,13,52,35,30,13,60,40,45,95,30,348,400,{"$f":"[1]!Order_Salim(RANK(R284,$R$7:$R$302)+COUNTIF($R$7:R284,R284)-1)","v":"too Big Number"},{"$f":"[1]!Order_Salim(RANK(R284,$R$7:$R$302))","v":"too Big Number"}]
[264,"طالب رقم 264",5,6,14,13,14,52,35,30,13,60,45,40,95,30,348,400,{"$f":"[1]!Order_Salim(RANK(R285,$R$7:$R$302)+COUNTIF($R$7:R285,R285)-1)","v":"too Big Number"},{"$f":"[1]!Order_Salim(RANK(R285,$R$7:$R$302))","v":"too Big Number"}]
[286,"طالب رقم 286",7,5,14,13,13,52,35,30,13,60,40,45,95,30,348,400,{"$f":"[1]!Order_Salim(RANK(R286,$R$7:$R$302)+COUNTIF($R$7:R286,R286)-1)","v":"too Big Number"},{"$f":"[1]!Order_Salim(RANK(R286,$R$7:$R$302))","v":"too Big Number"}]
[112,"طالب رقم 112",5,6,13,13,15,52,40,35,12,50,35,50,95,30,347,399,{"$f":"[1]!Order_Salim(RANK(R287,$R$7:$R$302)+COUNTIF($R$7:R287,R287)-1)","v":"too Big Number"},{"$f":"[1]!Order_Salim(RANK(R287,$R$7:$R$302))","v":"too Big Number"}]
[260,"طالب رقم 260",5,6,13,13,15,52,40,35,12,50,35,50,95,30,347,399,{"$f":"[1]!Order_Salim(RANK(R288,$R$7:$R$302)+COUNTIF($R$7:R288,R288)-1)","v":"too Big Number"},{"$f":"[1]!Order_Salim(RANK(R288,$R$7:$R$302))","v":"too Big Number"}]
[129,"طالب رقم 129",5,5,10,16,16,52,40,35,13,50,40,45,100,23,346,398,{"$f":"[1]!Order_Salim(RANK(R289,$R$7:$R$302)+COUNTIF($R$7:R289,R289)-1)","v":"too Big Number"},{"$f":"[1]!Order_Salim(RANK(R289,$R$7:$R$302))","v":"too Big Number"}]
[277,"طالب رقم 277",5,5,10,16,16,52,40,35,13,50,40,45,100,23,346,398,{"$f":"[1]!Order_Salim(RANK(R290,$R$7:$R$302)+COUNTIF($R$7:R290,R290)-1)","v":"too Big Number"},{"$f":"[1]!Order_Salim(RANK(R290,$R$7:$R$302))","v":"too Big Number"}]
[39,"طالب رقم 39",12,12,10,12,13,59,35,30,13,45,40,50,95,30,338,397,{"$f":"[1]!Order_Salim(RANK(R291,$R$7:$R$302)+COUNTIF($R$7:R291,R291)-1)","v":"too Big Number"},{"$f":"[1]!Order_Salim(RANK(R291,$R$7:$R$302))","v":"too Big Number"}]
[125,"طالب رقم 125",5,5,15,12,15,52,35,30,15,50,45,45,95,30,345,397,{"$f":"[1]!Order_Salim(RANK(R292,$R$7:$R$302)+COUNTIF($R$7:R292,R292)-1)","v":"too Big Number"},{"$f":"[1]!Order_Salim(RANK(R292,$R$7:$R$302))","v":"too Big Number"}]
[187,"طالب رقم 187",12,12,10,12,13,59,35,30,13,45,40,50,95,30,338,397,{"$f":"[1]!Order_Salim(RANK(R293,$R$7:$R$302)+COUNTIF($R$7:R293,R293)-1)","v":"too Big Number"},{"$f":"[1]!Order_Salim(RANK(R293,$R$7:$R$302))","v":"too Big Number"}]
[273,"طالب رقم 273",5,5,15,12,15,52,35,30,15,50,45,45,95,30,345,397,{"$f":"[1]!Order_Salim(RANK(R294,$R$7:$R$302)+COUNTIF($R$7:R294,R294)-1)","v":"too Big Number"},{"$f":"[1]!Order_Salim(RANK(R294,$R$7:$R$302))","v":"too Big Number"}]
[115,"طالب رقم 115",7,6,13,15,15,56,35,30,14,50,40,45,95,30,339,395,{"$f":"[1]!Order_Salim(RANK(R295,$R$7:$R$302)+COUNTIF($R$7:R295,R295)-1)","v":"too Big Number"},{"$f":"[1]!Order_Salim(RANK(R295,$R$7:$R$302))","v":"too Big Number"}]
[263,"طالب رقم 263",7,6,13,15,15,56,35,30,14,50,40,45,95,30,339,395,{"$f":"[1]!Order_Salim(RANK(R296,$R$7:$R$302)+COUNTIF($R$7:R296,R296)-1)","v":"too Big Number"},{"$f":"[1]!Order_Salim(RANK(R296,$R$7:$R$302))","v":"too Big Number"}]
[37,"طالب رقم 37",16,15,11,12,10,64,35,30,12,45,35,45,95,30,327,391,{"$f":"[1]!Order_Salim(RANK(R297,$R$7:$R$302)+COUNTIF($R$7:R297,R297)-1)","v":"too Big Number"},{"$f":"[1]!Order_Salim(RANK(R297,$R$7:$R$302))","v":"too Big Number"}]
[185,"طالب رقم 185",16,15,11,12,10,64,35,30,12,45,35,45,95,30,327,391,{"$f":"[1]!Order_Salim(RANK(R298,$R$7:$R$302)+COUNTIF($R$7:R298,R298)-1)","v":"too Big Number"},{"$f":"[1]!Order_Salim(RANK(R298,$R$7:$R$302))","v":"too Big Number"}]
[103,"طالب رقم 103",7,8,10,12,15,52,35,30,13,50,40,40,100,30,338,390,{"$f":"[1]!Order_Salim(RANK(R299,$R$7:$R$302)+COUNTIF($R$7:R299,R299)-1)","v":"too Big Number"},{"$f":"[1]!Order_Salim(RANK(R299,$R$7:$R$302))","v":"too Big Number"}]
[251,"طالب رقم 251",7,8,10,12,15,52,35,30,13,50,40,40,100,30,338,390,{"$f":"[1]!Order_Salim(RANK(R300,$R$7:$R$302)+COUNTIF($R$7:R300,R300)-1)","v":"too Big Number"},{"$f":"[1]!Order_Salim(RANK(R300,$R$7:$R$302))","v":"too Big Number"}]
[108,"طالب رقم 108",5,5,11,12,12,45,35,30,13,50,40,55,90,28,341,386,{"$f":"[1]!Order_Salim(RANK(R301,$R$7:$R$302)+COUNTIF($R$7:R301,R301)-1)","v":"too Big Number"},{"$f":"[1]!Order_Salim(RANK(R301,$R$7:$R$302))","v":"too Big Number"}]
[256,"طالب رقم 256",5,5,11,12,12,45,35,30,13,50,40,55,90,28,341,386,{"$f":"[1]!Order_Salim(RANK(R302,$R$7:$R$302)+COUNTIF($R$7:R302,R302)-1)","v":"too Big Number"},{"$f":"[1]!Order_Salim(RANK(R302,$R$7:$R$302))","v":"too Big Number"}]