{"text_format":"1","workbook":"xlsx","n_sheets":2,"sheets":["data","القائمة"],"not_rendered":{"charts":0,"images":0,"macros":1,"external_links":0,"defined_names":6,"comments":0,"pivot_tables":0},"unopened":[],"bounds":{"document_bytes":16777216,"sheet_cells":100000,"rows_first":2000,"rows_last":500,"rows_between":2000,"halvings":0,"cell_chars":16384,"cell_head_chars":4096},"cells_cut":0,"cells_raw":0,"read":"whole","date_system":"1900"}

{"sheet":"data","index":0,"n_rows":1094,"n_cols":8,"rows_kept":1094,"cut":false,"hidden":false,"merged":[]}
[null,null,null,null,null,null,null,"الذهاب"]
[null,null,null,null,null,null,null,"الاياب"]
[]
["رقم القيد","الاسم","اللقب","الواجهة","عدد الايام","التاريخ","الملاحظة"]
[14575,"احمد","علي","سطيف",21,"2018-11-13","الذهاب"]
[20050,"سمير","علولا","وهرن",35,"2018-11-14","الاياب"]
[null,{"$f":"+IFERROR(INDEX(#REF!,MATCH(A7,#REF!,0)),\"\")","v":""},{"$f":"+IFERROR(INDEX(#REF!,MATCH(A7,#REF!,0)),\"\")","v":""},{"$f":"IFERROR(INDEX(#REF!,MATCH(A7,#REF!,0)),\"\")","v":""},{"$f":"IFERROR(INDEX(#REF!,MATCH(A7,#REF!,0)),\"\")","v":""},null,"الاياب"]
[null,{"$f":"+IFERROR(INDEX(#REF!,MATCH(A8,#REF!,0)),\"\")","v":""},{"$f":"+IFERROR(INDEX(#REF!,MATCH(A8,#REF!,0)),\"\")","v":""},{"$f":"IFERROR(INDEX(#REF!,MATCH(A8,#REF!,0)),\"\")","v":""},{"$f":"IFERROR(INDEX(#REF!,MATCH(A8,#REF!,0)),\"\")","v":""},null,"الاياب"]
[null,{"$f":"+IFERROR(INDEX(#REF!,MATCH(A9,#REF!,0)),\"\")","v":""},{"$f":"+IFERROR(INDEX(#REF!,MATCH(A9,#REF!,0)),\"\")","v":""},{"$f":"IFERROR(INDEX(#REF!,MATCH(A9,#REF!,0)),\"\")","v":""},{"$f":"IFERROR(INDEX(#REF!,MATCH(A9,#REF!,0)),\"\")","v":""}]
[null,{"$f":"+IFERROR(INDEX(#REF!,MATCH(A10,#REF!,0)),\"\")","v":""},{"$f":"+IFERROR(INDEX(#REF!,MATCH(A10,#REF!,0)),\"\")","v":""},{"$f":"IFERROR(INDEX(#REF!,MATCH(A10,#REF!,0)),\"\")","v":""},{"$f":"IFERROR(INDEX(#REF!,MATCH(A10,#REF!,0)),\"\")","v":""}]
[null,{"$f":"+IFERROR(INDEX(#REF!,MATCH(A11,#REF!,0)),\"\")","v":""},{"$f":"+IFERROR(INDEX(#REF!,MATCH(A11,#REF!,0)),\"\")","v":""},{"$f":"IFERROR(INDEX(#REF!,MATCH(A11,#REF!,0)),\"\")","v":""},{"$f":"IFERROR(INDEX(#REF!,MATCH(A11,#REF!,0)),\"\")","v":""}]
[null,{"$f":"+IFERROR(INDEX(#REF!,MATCH(A12,#REF!,0)),\"\")","v":""},{"$f":"+IFERROR(INDEX(#REF!,MATCH(A12,#REF!,0)),\"\")","v":""},{"$f":"IFERROR(INDEX(#REF!,MATCH(A12,#REF!,0)),\"\")","v":""},{"$f":"IFERROR(INDEX(#REF!,MATCH(A12,#REF!,0)),\"\")","v":""}]
[null,{"$f":"+IFERROR(INDEX(#REF!,MATCH(A13,#REF!,0)),\"\")","v":""},{"$f":"+IFERROR(INDEX(#REF!,MATCH(A13,#REF!,0)),\"\")","v":""},{"$f":"IFERROR(INDEX(#REF!,MATCH(A13,#REF!,0)),\"\")","v":""},{"$f":"IFERROR(INDEX(#REF!,MATCH(A13,#REF!,0)),\"\")","v":""}]
[null,{"$f":"+IFERROR(INDEX(#REF!,MATCH(A14,#REF!,0)),\"\")","v":""},{"$f":"+IFERROR(INDEX(#REF!,MATCH(A14,#REF!,0)),\"\")","v":""},{"$f":"IFERROR(INDEX(#REF!,MATCH(A14,#REF!,0)),\"\")","v":""},{"$f":"IFERROR(INDEX(#REF!,MATCH(A14,#REF!,0)),\"\")","v":""}]
[null,{"$f":"+IFERROR(INDEX(#REF!,MATCH(A15,#REF!,0)),\"\")","v":""},{"$f":"+IFERROR(INDEX(#REF!,MATCH(A15,#REF!,0)),\"\")","v":""},{"$f":"IFERROR(INDEX(#REF!,MATCH(A15,#REF!,0)),\"\")","v":""},{"$f":"IFERROR(INDEX(#REF!,MATCH(A15,#REF!,0)),\"\")","v":""}]
[null,{"$f":"+IFERROR(INDEX(#REF!,MATCH(A16,#REF!,0)),\"\")","v":""},{"$f":"+IFERROR(INDEX(#REF!,MATCH(A16,#REF!,0)),\"\")","v":""},{"$f":"IFERROR(INDEX(#REF!,MATCH(A16,#REF!,0)),\"\")","v":""},{"$f":"IFERROR(INDEX(#REF!,MATCH(A16,#REF!,0)),\"\")","v":""}]
[null,{"$f":"+IFERROR(INDEX(#REF!,MATCH(A17,#REF!,0)),\"\")","v":""},{"$f":"+IFERROR(INDEX(#REF!,MATCH(A17,#REF!,0)),\"\")","v":""},{"$f":"IFERROR(INDEX(#REF!,MATCH(A17,#REF!,0)),\"\")","v":""},{"$f":"IFERROR(INDEX(#REF!,MATCH(A17,#REF!,0)),\"\")","v":""}]
[null,{"$f":"+IFERROR(INDEX(#REF!,MATCH(A18,#REF!,0)),\"\")","v":""},{"$f":"+IFERROR(INDEX(#REF!,MATCH(A18,#REF!,0)),\"\")","v":""},{"$f":"IFERROR(INDEX(#REF!,MATCH(A18,#REF!,0)),\"\")","v":""},{"$f":"IFERROR(INDEX(#REF!,MATCH(A18,#REF!,0)),\"\")","v":""}]
[null,{"$f":"+IFERROR(INDEX(#REF!,MATCH(A19,#REF!,0)),\"\")","v":""},{"$f":"+IFERROR(INDEX(#REF!,MATCH(A19,#REF!,0)),\"\")","v":""},{"$f":"IFERROR(INDEX(#REF!,MATCH(A19,#REF!,0)),\"\")","v":""},{"$f":"IFERROR(INDEX(#REF!,MATCH(A19,#REF!,0)),\"\")","v":""}]
[null,{"$f":"+IFERROR(INDEX(#REF!,MATCH(A20,#REF!,0)),\"\")","v":""},{"$f":"+IFERROR(INDEX(#REF!,MATCH(A20,#REF!,0)),\"\")","v":""},{"$f":"IFERROR(INDEX(#REF!,MATCH(A20,#REF!,0)),\"\")","v":""},{"$f":"IFERROR(INDEX(#REF!,MATCH(A20,#REF!,0)),\"\")","v":""}]
[null,{"$f":"+IFERROR(INDEX(#REF!,MATCH(A21,#REF!,0)),\"\")","v":""},{"$f":"+IFERROR(INDEX(#REF!,MATCH(A21,#REF!,0)),\"\")","v":""},{"$f":"IFERROR(INDEX(#REF!,MATCH(A21,#REF!,0)),\"\")","v":""},{"$f":"IFERROR(INDEX(#REF!,MATCH(A21,#REF!,0)),\"\")","v":""}]
[null,{"$f":"+IFERROR(INDEX(#REF!,MATCH(A22,#REF!,0)),\"\")","v":""},{"$f":"+IFERROR(INDEX(#REF!,MATCH(A22,#REF!,0)),\"\")","v":""},{"$f":"IFERROR(INDEX(#REF!,MATCH(A22,#REF!,0)),\"\")","v":""},{"$f":"IFERROR(INDEX(#REF!,MATCH(A22,#REF!,0)),\"\")","v":""}]
[null,{"$f":"+IFERROR(INDEX(#REF!,MATCH(A23,#REF!,0)),\"\")","v":""},{"$f":"+IFERROR(INDEX(#REF!,MATCH(A23,#REF!,0)),\"\")","v":""},{"$f":"IFERROR(INDEX(#REF!,MATCH(A23,#REF!,0)),\"\")","v":""},{"$f":"IFERROR(INDEX(#REF!,MATCH(A23,#REF!,0)),\"\")","v":""}]
[null,{"$f":"+IFERROR(INDEX(#REF!,MATCH(A24,#REF!,0)),\"\")","v":""},{"$f":"+IFERROR(INDEX(#REF!,MATCH(A24,#REF!,0)),\"\")","v":""},{"$f":"IFERROR(INDEX(#REF!,MATCH(A24,#REF!,0)),\"\")","v":""},{"$f":"IFERROR(INDEX(#REF!,MATCH(A24,#REF!,0)),\"\")","v":""}]
[null,{"$f":"+IFERROR(INDEX(#REF!,MATCH(A25,#REF!,0)),\"\")","v":""},{"$f":"+IFERROR(INDEX(#REF!,MATCH(A25,#REF!,0)),\"\")","v":""},{"$f":"IFERROR(INDEX(#REF!,MATCH(A25,#REF!,0)),\"\")","v":""},{"$f":"IFERROR(INDEX(#REF!,MATCH(A25,#REF!,0)),\"\")","v":""}]
[null,{"$f":"+IFERROR(INDEX(#REF!,MATCH(A26,#REF!,0)),\"\")","v":""},{"$f":"+IFERROR(INDEX(#REF!,MATCH(A26,#REF!,0)),\"\")","v":""},{"$f":"IFERROR(INDEX(#REF!,MATCH(A26,#REF!,0)),\"\")","v":""},{"$f":"IFERROR(INDEX(#REF!,MATCH(A26,#REF!,0)),\"\")","v":""}]
[null,{"$f":"+IFERROR(INDEX(#REF!,MATCH(A27,#REF!,0)),\"\")","v":""},{"$f":"+IFERROR(INDEX(#REF!,MATCH(A27,#REF!,0)),\"\")","v":""},{"$f":"IFERROR(INDEX(#REF!,MATCH(A27,#REF!,0)),\"\")","v":""},{"$f":"IFERROR(INDEX(#REF!,MATCH(A27,#REF!,0)),\"\")","v":""}]
[null,{"$f":"+IFERROR(INDEX(#REF!,MATCH(A28,#REF!,0)),\"\")","v":""},{"$f":"+IFERROR(INDEX(#REF!,MATCH(A28,#REF!,0)),\"\")","v":""},{"$f":"IFERROR(INDEX(#REF!,MATCH(A28,#REF!,0)),\"\")","v":""},{"$f":"IFERROR(INDEX(#REF!,MATCH(A28,#REF!,0)),\"\")","v":""}]
[null,{"$f":"+IFERROR(INDEX(#REF!,MATCH(A29,#REF!,0)),\"\")","v":""},{"$f":"+IFERROR(INDEX(#REF!,MATCH(A29,#REF!,0)),\"\")","v":""},{"$f":"IFERROR(INDEX(#REF!,MATCH(A29,#REF!,0)),\"\")","v":""},{"$f":"IFERROR(INDEX(#REF!,MATCH(A29,#REF!,0)),\"\")","v":""}]
[null,{"$f":"+IFERROR(INDEX(#REF!,MATCH(A30,#REF!,0)),\"\")","v":""},{"$f":"+IFERROR(INDEX(#REF!,MATCH(A30,#REF!,0)),\"\")","v":""},{"$f":"IFERROR(INDEX(#REF!,MATCH(A30,#REF!,0)),\"\")","v":""},{"$f":"IFERROR(INDEX(#REF!,MATCH(A30,#REF!,0)),\"\")","v":""}]
[null,{"$f":"+IFERROR(INDEX(#REF!,MATCH(A31,#REF!,0)),\"\")","v":""},{"$f":"+IFERROR(INDEX(#REF!,MATCH(A31,#REF!,0)),\"\")","v":""},{"$f":"IFERROR(INDEX(#REF!,MATCH(A31,#REF!,0)),\"\")","v":""},{"$f":"IFERROR(INDEX(#REF!,MATCH(A31,#REF!,0)),\"\")","v":""}]
[null,{"$f":"+IFERROR(INDEX(#REF!,MATCH(A32,#REF!,0)),\"\")","v":""},{"$f":"+IFERROR(INDEX(#REF!,MATCH(A32,#REF!,0)),\"\")","v":""},{"$f":"IFERROR(INDEX(#REF!,MATCH(A32,#REF!,0)),\"\")","v":""},{"$f":"IFERROR(INDEX(#REF!,MATCH(A32,#REF!,0)),\"\")","v":""}]
[null,{"$f":"+IFERROR(INDEX(#REF!,MATCH(A33,#REF!,0)),\"\")","v":""},{"$f":"+IFERROR(INDEX(#REF!,MATCH(A33,#REF!,0)),\"\")","v":""},{"$f":"IFERROR(INDEX(#REF!,MATCH(A33,#REF!,0)),\"\")","v":""},{"$f":"IFERROR(INDEX(#REF!,MATCH(A33,#REF!,0)),\"\")","v":""}]
[null,{"$f":"+IFERROR(INDEX(#REF!,MATCH(A34,#REF!,0)),\"\")","v":""},{"$f":"+IFERROR(INDEX(#REF!,MATCH(A34,#REF!,0)),\"\")","v":""},{"$f":"IFERROR(INDEX(#REF!,MATCH(A34,#REF!,0)),\"\")","v":""},{"$f":"IFERROR(INDEX(#REF!,MATCH(A34,#REF!,0)),\"\")","v":""}]
[null,{"$f":"+IFERROR(INDEX(#REF!,MATCH(A35,#REF!,0)),\"\")","v":""},{"$f":"+IFERROR(INDEX(#REF!,MATCH(A35,#REF!,0)),\"\")","v":""},{"$f":"IFERROR(INDEX(#REF!,MATCH(A35,#REF!,0)),\"\")","v":""},{"$f":"IFERROR(INDEX(#REF!,MATCH(A35,#REF!,0)),\"\")","v":""}]
[null,{"$f":"+IFERROR(INDEX(#REF!,MATCH(A36,#REF!,0)),\"\")","v":""},{"$f":"+IFERROR(INDEX(#REF!,MATCH(A36,#REF!,0)),\"\")","v":""},{"$f":"IFERROR(INDEX(#REF!,MATCH(A36,#REF!,0)),\"\")","v":""},{"$f":"IFERROR(INDEX(#REF!,MATCH(A36,#REF!,0)),\"\")","v":""}]
[null,{"$f":"+IFERROR(INDEX(#REF!,MATCH(A37,#REF!,0)),\"\")","v":""},{"$f":"+IFERROR(INDEX(#REF!,MATCH(A37,#REF!,0)),\"\")","v":""},{"$f":"IFERROR(INDEX(#REF!,MATCH(A37,#REF!,0)),\"\")","v":""},{"$f":"IFERROR(INDEX(#REF!,MATCH(A37,#REF!,0)),\"\")","v":""}]
[null,{"$f":"+IFERROR(INDEX(#REF!,MATCH(A38,#REF!,0)),\"\")","v":""},{"$f":"+IFERROR(INDEX(#REF!,MATCH(A38,#REF!,0)),\"\")","v":""},{"$f":"IFERROR(INDEX(#REF!,MATCH(A38,#REF!,0)),\"\")","v":""},{"$f":"IFERROR(INDEX(#REF!,MATCH(A38,#REF!,0)),\"\")","v":""}]
[null,{"$f":"+IFERROR(INDEX(#REF!,MATCH(A39,#REF!,0)),\"\")","v":""},{"$f":"+IFERROR(INDEX(#REF!,MATCH(A39,#REF!,0)),\"\")","v":""},{"$f":"IFERROR(INDEX(#REF!,MATCH(A39,#REF!,0)),\"\")","v":""},{"$f":"IFERROR(INDEX(#REF!,MATCH(A39,#REF!,0)),\"\")","v":""}]
[null,{"$f":"+IFERROR(INDEX(#REF!,MATCH(A40,#REF!,0)),\"\")","v":""},{"$f":"+IFERROR(INDEX(#REF!,MATCH(A40,#REF!,0)),\"\")","v":""},{"$f":"IFERROR(INDEX(#REF!,MATCH(A40,#REF!,0)),\"\")","v":""},{"$f":"IFERROR(INDEX(#REF!,MATCH(A40,#REF!,0)),\"\")","v":""}]
[null,{"$f":"+IFERROR(INDEX(#REF!,MATCH(A41,#REF!,0)),\"\")","v":""},{"$f":"+IFERROR(INDEX(#REF!,MATCH(A41,#REF!,0)),\"\")","v":""},{"$f":"IFERROR(INDEX(#REF!,MATCH(A41,#REF!,0)),\"\")","v":""},{"$f":"IFERROR(INDEX(#REF!,MATCH(A41,#REF!,0)),\"\")","v":""}]
[null,{"$f":"+IFERROR(INDEX(#REF!,MATCH(A42,#REF!,0)),\"\")","v":""},{"$f":"+IFERROR(INDEX(#REF!,MATCH(A42,#REF!,0)),\"\")","v":""},{"$f":"IFERROR(INDEX(#REF!,MATCH(A42,#REF!,0)),\"\")","v":""},{"$f":"IFERROR(INDEX(#REF!,MATCH(A42,#REF!,0)),\"\")","v":""}]
[null,{"$f":"+IFERROR(INDEX(#REF!,MATCH(A43,#REF!,0)),\"\")","v":""},{"$f":"+IFERROR(INDEX(#REF!,MATCH(A43,#REF!,0)),\"\")","v":""},{"$f":"IFERROR(INDEX(#REF!,MATCH(A43,#REF!,0)),\"\")","v":""},{"$f":"IFERROR(INDEX(#REF!,MATCH(A43,#REF!,0)),\"\")","v":""}]
[null,{"$f":"+IFERROR(INDEX(#REF!,MATCH(A44,#REF!,0)),\"\")","v":""},{"$f":"+IFERROR(INDEX(#REF!,MATCH(A44,#REF!,0)),\"\")","v":""},{"$f":"IFERROR(INDEX(#REF!,MATCH(A44,#REF!,0)),\"\")","v":""},{"$f":"IFERROR(INDEX(#REF!,MATCH(A44,#REF!,0)),\"\")","v":""}]
[null,{"$f":"+IFERROR(INDEX(#REF!,MATCH(A45,#REF!,0)),\"\")","v":""},{"$f":"+IFERROR(INDEX(#REF!,MATCH(A45,#REF!,0)),\"\")","v":""},{"$f":"IFERROR(INDEX(#REF!,MATCH(A45,#REF!,0)),\"\")","v":""},{"$f":"IFERROR(INDEX(#REF!,MATCH(A45,#REF!,0)),\"\")","v":""}]
[null,{"$f":"+IFERROR(INDEX(#REF!,MATCH(A46,#REF!,0)),\"\")","v":""},{"$f":"+IFERROR(INDEX(#REF!,MATCH(A46,#REF!,0)),\"\")","v":""},{"$f":"IFERROR(INDEX(#REF!,MATCH(A46,#REF!,0)),\"\")","v":""},{"$f":"IFERROR(INDEX(#REF!,MATCH(A46,#REF!,0)),\"\")","v":""}]
[{"$f":"IF(C47=\"\",\"\",SUBTOTAL(3,C$5:C47))","v":""},{"$f":"+IFERROR(INDEX(#REF!,MATCH(A47,#REF!,0)),\"\")","v":""},null,{"$f":"IFERROR(INDEX(#REF!,MATCH(A47,#REF!,0)),\"\")","v":""},{"$f":"IFERROR(INDEX(#REF!,MATCH(A47,#REF!,0)),\"\")","v":""}]
[{"$f":"IF(C48=\"\",\"\",SUBTOTAL(3,C$5:C48))","v":""},{"$f":"+IFERROR(INDEX(#REF!,MATCH(A48,#REF!,0)),\"\")","v":""},null,{"$f":"IFERROR(INDEX(#REF!,MATCH(A48,#REF!,0)),\"\")","v":""},{"$f":"IFERROR(INDEX(#REF!,MATCH(A48,#REF!,0)),\"\")","v":""}]
[{"$f":"IF(C49=\"\",\"\",SUBTOTAL(3,C$5:C49))","v":""},{"$f":"+IFERROR(INDEX(#REF!,MATCH(A49,#REF!,0)),\"\")","v":""},null,{"$f":"IFERROR(INDEX(#REF!,MATCH(A49,#REF!,0)),\"\")","v":""},{"$f":"IFERROR(INDEX(#REF!,MATCH(A49,#REF!,0)),\"\")","v":""}]
[{"$f":"IF(C50=\"\",\"\",SUBTOTAL(3,C$5:C50))","v":""},{"$f":"+IFERROR(INDEX(#REF!,MATCH(A50,#REF!,0)),\"\")","v":""},null,{"$f":"IFERROR(INDEX(#REF!,MATCH(A50,#REF!,0)),\"\")","v":""},{"$f":"IFERROR(INDEX(#REF!,MATCH(A50,#REF!,0)),\"\")","v":""}]
[{"$f":"IF(C51=\"\",\"\",SUBTOTAL(3,C$5:C51))","v":""},{"$f":"+IFERROR(INDEX(#REF!,MATCH(A51,#REF!,0)),\"\")","v":""},null,{"$f":"IFERROR(INDEX(#REF!,MATCH(A51,#REF!,0)),\"\")","v":""},{"$f":"IFERROR(INDEX(#REF!,MATCH(A51,#REF!,0)),\"\")","v":""}]
[{"$f":"IF(C52=\"\",\"\",SUBTOTAL(3,C$5:C52))","v":""},{"$f":"+IFERROR(INDEX(#REF!,MATCH(A52,#REF!,0)),\"\")","v":""},null,{"$f":"IFERROR(INDEX(#REF!,MATCH(A52,#REF!,0)),\"\")","v":""},{"$f":"IFERROR(INDEX(#REF!,MATCH(A52,#REF!,0)),\"\")","v":""}]
[{"$f":"IF(C53=\"\",\"\",SUBTOTAL(3,C$5:C53))","v":""},{"$f":"+IFERROR(INDEX(#REF!,MATCH(A53,#REF!,0)),\"\")","v":""},null,{"$f":"IFERROR(INDEX(#REF!,MATCH(A53,#REF!,0)),\"\")","v":""},{"$f":"IFERROR(INDEX(#REF!,MATCH(A53,#REF!,0)),\"\")","v":""}]
[{"$f":"IF(C54=\"\",\"\",SUBTOTAL(3,C$5:C54))","v":""},{"$f":"+IFERROR(INDEX(#REF!,MATCH(A54,#REF!,0)),\"\")","v":""},null,{"$f":"IFERROR(INDEX(#REF!,MATCH(A54,#REF!,0)),\"\")","v":""},{"$f":"IFERROR(INDEX(#REF!,MATCH(A54,#REF!,0)),\"\")","v":""}]
[{"$f":"IF(C55=\"\",\"\",SUBTOTAL(3,C$5:C55))","v":""},{"$f":"+IFERROR(INDEX(#REF!,MATCH(A55,#REF!,0)),\"\")","v":""},null,{"$f":"IFERROR(INDEX(#REF!,MATCH(A55,#REF!,0)),\"\")","v":""},{"$f":"IFERROR(INDEX(#REF!,MATCH(A55,#REF!,0)),\"\")","v":""}]
[{"$f":"IF(C56=\"\",\"\",SUBTOTAL(3,C$5:C56))","v":""},{"$f":"+IFERROR(INDEX(#REF!,MATCH(A56,#REF!,0)),\"\")","v":""},null,{"$f":"IFERROR(INDEX(#REF!,MATCH(A56,#REF!,0)),\"\")","v":""},{"$f":"IFERROR(INDEX(#REF!,MATCH(A56,#REF!,0)),\"\")","v":""}]
[{"$f":"IF(C57=\"\",\"\",SUBTOTAL(3,C$5:C57))","v":""},{"$f":"+IFERROR(INDEX(#REF!,MATCH(A57,#REF!,0)),\"\")","v":""},null,{"$f":"IFERROR(INDEX(#REF!,MATCH(A57,#REF!,0)),\"\")","v":""},{"$f":"IFERROR(INDEX(#REF!,MATCH(A57,#REF!,0)),\"\")","v":""}]
[{"$f":"IF(C58=\"\",\"\",SUBTOTAL(3,C$5:C58))","v":""},{"$f":"+IFERROR(INDEX(#REF!,MATCH(A58,#REF!,0)),\"\")","v":""},null,{"$f":"IFERROR(INDEX(#REF!,MATCH(A58,#REF!,0)),\"\")","v":""},{"$f":"IFERROR(INDEX(#REF!,MATCH(A58,#REF!,0)),\"\")","v":""}]
[{"$f":"IF(C59=\"\",\"\",SUBTOTAL(3,C$5:C59))","v":""},{"$f":"+IFERROR(INDEX(#REF!,MATCH(A59,#REF!,0)),\"\")","v":""},null,{"$f":"IFERROR(INDEX(#REF!,MATCH(A59,#REF!,0)),\"\")","v":""},{"$f":"IFERROR(INDEX(#REF!,MATCH(A59,#REF!,0)),\"\")","v":""}]
[{"$f":"IF(C60=\"\",\"\",SUBTOTAL(3,C$5:C60))","v":""},{"$f":"+IFERROR(INDEX(#REF!,MATCH(A60,#REF!,0)),\"\")","v":""},null,{"$f":"IFERROR(INDEX(#REF!,MATCH(A60,#REF!,0)),\"\")","v":""},{"$f":"IFERROR(INDEX(#REF!,MATCH(A60,#REF!,0)),\"\")","v":""}]
[{"$f":"IF(C61=\"\",\"\",SUBTOTAL(3,C$5:C61))","v":""},{"$f":"+IFERROR(INDEX(#REF!,MATCH(A61,#REF!,0)),\"\")","v":""},null,{"$f":"IFERROR(INDEX(#REF!,MATCH(A61,#REF!,0)),\"\")","v":""},{"$f":"IFERROR(INDEX(#REF!,MATCH(A61,#REF!,0)),\"\")","v":""}]
[{"$f":"IF(C62=\"\",\"\",SUBTOTAL(3,C$5:C62))","v":""},{"$f":"+IFERROR(INDEX(#REF!,MATCH(A62,#REF!,0)),\"\")","v":""},null,{"$f":"IFERROR(INDEX(#REF!,MATCH(A62,#REF!,0)),\"\")","v":""},{"$f":"IFERROR(INDEX(#REF!,MATCH(A62,#REF!,0)),\"\")","v":""}]
["SI(C63=\"\";\"\";SOUS.TOTAL(3;C$5:C63))",{"$f":"+IFERROR(INDEX(#REF!,MATCH(A63,#REF!,0)),\"\")","v":""},null,{"$f":"IFERROR(INDEX(#REF!,MATCH(A63,#REF!,0)),\"\")","v":""},{"$f":"IFERROR(INDEX(#REF!,MATCH(A63,#REF!,0)),\"\")","v":""}]
[{"$f":"IF(C64=\"\",\"\",SUBTOTAL(3,C$5:C64))","v":""},{"$f":"+IFERROR(INDEX(#REF!,MATCH(A64,#REF!,0)),\"\")","v":""},null,{"$f":"IFERROR(INDEX(#REF!,MATCH(A64,#REF!,0)),\"\")","v":""},{"$f":"IFERROR(INDEX(#REF!,MATCH(A64,#REF!,0)),\"\")","v":""}]
[{"$f":"IF(C65=\"\",\"\",SUBTOTAL(3,C$5:C65))","v":""},{"$f":"+IFERROR(INDEX(#REF!,MATCH(A65,#REF!,0)),\"\")","v":""},null,{"$f":"IFERROR(INDEX(#REF!,MATCH(A65,#REF!,0)),\"\")","v":""},{"$f":"IFERROR(INDEX(#REF!,MATCH(A65,#REF!,0)),\"\")","v":""}]
[{"$f":"IF(C66=\"\",\"\",SUBTOTAL(3,C$5:C66))","v":""},{"$f":"+IFERROR(INDEX(#REF!,MATCH(A66,#REF!,0)),\"\")","v":""},null,{"$f":"IFERROR(INDEX(#REF!,MATCH(A66,#REF!,0)),\"\")","v":""},{"$f":"IFERROR(INDEX(#REF!,MATCH(A66,#REF!,0)),\"\")","v":""}]
[{"$f":"IF(C67=\"\",\"\",SUBTOTAL(3,C$5:C67))","v":""},{"$f":"+IFERROR(INDEX(#REF!,MATCH(A67,#REF!,0)),\"\")","v":""},null,{"$f":"IFERROR(INDEX(#REF!,MATCH(A67,#REF!,0)),\"\")","v":""},{"$f":"IFERROR(INDEX(#REF!,MATCH(A67,#REF!,0)),\"\")","v":""}]
[{"$f":"IF(C68=\"\",\"\",SUBTOTAL(3,C$5:C68))","v":""},{"$f":"+IFERROR(INDEX(#REF!,MATCH(A68,#REF!,0)),\"\")","v":""},null,{"$f":"IFERROR(INDEX(#REF!,MATCH(A68,#REF!,0)),\"\")","v":""},{"$f":"IFERROR(INDEX(#REF!,MATCH(A68,#REF!,0)),\"\")","v":""}]
[{"$f":"IF(C69=\"\",\"\",SUBTOTAL(3,C$5:C69))","v":""},{"$f":"+IFERROR(INDEX(#REF!,MATCH(A69,#REF!,0)),\"\")","v":""},null,{"$f":"IFERROR(INDEX(#REF!,MATCH(A69,#REF!,0)),\"\")","v":""},{"$f":"IFERROR(INDEX(#REF!,MATCH(A69,#REF!,0)),\"\")","v":""}]
[{"$f":"IF(C70=\"\",\"\",SUBTOTAL(3,C$5:C70))","v":""},{"$f":"+IFERROR(INDEX(#REF!,MATCH(A70,#REF!,0)),\"\")","v":""},null,{"$f":"IFERROR(INDEX(#REF!,MATCH(A70,#REF!,0)),\"\")","v":""},{"$f":"IFERROR(INDEX(#REF!,MATCH(A70,#REF!,0)),\"\")","v":""}]
[{"$f":"IF(C71=\"\",\"\",SUBTOTAL(3,C$5:C71))","v":""},{"$f":"+IFERROR(INDEX(#REF!,MATCH(A71,#REF!,0)),\"\")","v":""},null,{"$f":"IFERROR(INDEX(#REF!,MATCH(A71,#REF!,0)),\"\")","v":""},{"$f":"IFERROR(INDEX(#REF!,MATCH(A71,#REF!,0)),\"\")","v":""}]
[{"$f":"IF(C72=\"\",\"\",SUBTOTAL(3,C$5:C72))","v":""},{"$f":"+IFERROR(INDEX(#REF!,MATCH(A72,#REF!,0)),\"\")","v":""},null,{"$f":"IFERROR(INDEX(#REF!,MATCH(A72,#REF!,0)),\"\")","v":""},{"$f":"IFERROR(INDEX(#REF!,MATCH(A72,#REF!,0)),\"\")","v":""}]
[{"$f":"IF(C73=\"\",\"\",SUBTOTAL(3,C$5:C73))","v":""},{"$f":"+IFERROR(INDEX(#REF!,MATCH(A73,#REF!,0)),\"\")","v":""},null,{"$f":"IFERROR(INDEX(#REF!,MATCH(A73,#REF!,0)),\"\")","v":""},{"$f":"IFERROR(INDEX(#REF!,MATCH(A73,#REF!,0)),\"\")","v":""}]
[{"$f":"IF(C74=\"\",\"\",SUBTOTAL(3,C$5:C74))","v":""},{"$f":"+IFERROR(INDEX(#REF!,MATCH(A74,#REF!,0)),\"\")","v":""},null,{"$f":"IFERROR(INDEX(#REF!,MATCH(A74,#REF!,0)),\"\")","v":""},{"$f":"IFERROR(INDEX(#REF!,MATCH(A74,#REF!,0)),\"\")","v":""}]
[{"$f":"IF(C75=\"\",\"\",SUBTOTAL(3,C$5:C75))","v":""},{"$f":"+IFERROR(INDEX(#REF!,MATCH(A75,#REF!,0)),\"\")","v":""},null,{"$f":"IFERROR(INDEX(#REF!,MATCH(A75,#REF!,0)),\"\")","v":""},{"$f":"IFERROR(INDEX(#REF!,MATCH(A75,#REF!,0)),\"\")","v":""}]
[{"$f":"IF(C76=\"\",\"\",SUBTOTAL(3,C$5:C76))","v":""},{"$f":"+IFERROR(INDEX(#REF!,MATCH(A76,#REF!,0)),\"\")","v":""},null,{"$f":"IFERROR(INDEX(#REF!,MATCH(A76,#REF!,0)),\"\")","v":""},{"$f":"IFERROR(INDEX(#REF!,MATCH(A76,#REF!,0)),\"\")","v":""}]
[{"$f":"IF(C77=\"\",\"\",SUBTOTAL(3,C$5:C77))","v":""},{"$f":"+IFERROR(INDEX(#REF!,MATCH(A77,#REF!,0)),\"\")","v":""},null,{"$f":"IFERROR(INDEX(#REF!,MATCH(A77,#REF!,0)),\"\")","v":""},{"$f":"IFERROR(INDEX(#REF!,MATCH(A77,#REF!,0)),\"\")","v":""}]
[{"$f":"IF(C78=\"\",\"\",SUBTOTAL(3,C$5:C78))","v":""},{"$f":"+IFERROR(INDEX(#REF!,MATCH(A78,#REF!,0)),\"\")","v":""},null,{"$f":"IFERROR(INDEX(#REF!,MATCH(A78,#REF!,0)),\"\")","v":""},{"$f":"IFERROR(INDEX(#REF!,MATCH(A78,#REF!,0)),\"\")","v":""}]
[{"$f":"IF(C79=\"\",\"\",SUBTOTAL(3,C$5:C79))","v":""},{"$f":"+IFERROR(INDEX(#REF!,MATCH(A79,#REF!,0)),\"\")","v":""},null,{"$f":"IFERROR(INDEX(#REF!,MATCH(A79,#REF!,0)),\"\")","v":""},{"$f":"IFERROR(INDEX(#REF!,MATCH(A79,#REF!,0)),\"\")","v":""}]
[{"$f":"IF(C80=\"\",\"\",SUBTOTAL(3,C$5:C80))","v":""},{"$f":"+IFERROR(INDEX(#REF!,MATCH(A80,#REF!,0)),\"\")","v":""},null,{"$f":"IFERROR(INDEX(#REF!,MATCH(A80,#REF!,0)),\"\")","v":""},{"$f":"IFERROR(INDEX(#REF!,MATCH(A80,#REF!,0)),\"\")","v":""}]
[{"$f":"IF(C81=\"\",\"\",SUBTOTAL(3,C$5:C81))","v":""},{"$f":"+IFERROR(INDEX(#REF!,MATCH(A81,#REF!,0)),\"\")","v":""},null,{"$f":"IFERROR(INDEX(#REF!,MATCH(A81,#REF!,0)),\"\")","v":""},{"$f":"IFERROR(INDEX(#REF!,MATCH(A81,#REF!,0)),\"\")","v":""}]
[{"$f":"IF(C82=\"\",\"\",SUBTOTAL(3,C$5:C82))","v":""},{"$f":"+IFERROR(INDEX(#REF!,MATCH(A82,#REF!,0)),\"\")","v":""},null,{"$f":"IFERROR(INDEX(#REF!,MATCH(A82,#REF!,0)),\"\")","v":""},{"$f":"IFERROR(INDEX(#REF!,MATCH(A82,#REF!,0)),\"\")","v":""}]
[{"$f":"IF(C83=\"\",\"\",SUBTOTAL(3,C$5:C83))","v":""},{"$f":"+IFERROR(INDEX(#REF!,MATCH(A83,#REF!,0)),\"\")","v":""},null,{"$f":"IFERROR(INDEX(#REF!,MATCH(A83,#REF!,0)),\"\")","v":""},{"$f":"IFERROR(INDEX(#REF!,MATCH(A83,#REF!,0)),\"\")","v":""}]
[{"$f":"IF(C84=\"\",\"\",SUBTOTAL(3,C$5:C84))","v":""},{"$f":"+IFERROR(INDEX(#REF!,MATCH(A84,#REF!,0)),\"\")","v":""},null,{"$f":"IFERROR(INDEX(#REF!,MATCH(A84,#REF!,0)),\"\")","v":""},{"$f":"IFERROR(INDEX(#REF!,MATCH(A84,#REF!,0)),\"\")","v":""}]
[{"$f":"IF(C85=\"\",\"\",SUBTOTAL(3,C$5:C85))","v":""},{"$f":"+IFERROR(INDEX(#REF!,MATCH(A85,#REF!,0)),\"\")","v":""},null,{"$f":"IFERROR(INDEX(#REF!,MATCH(A85,#REF!,0)),\"\")","v":""},{"$f":"IFERROR(INDEX(#REF!,MATCH(A85,#REF!,0)),\"\")","v":""}]
[{"$f":"IF(C86=\"\",\"\",SUBTOTAL(3,C$5:C86))","v":""},{"$f":"+IFERROR(INDEX(#REF!,MATCH(A86,#REF!,0)),\"\")","v":""},null,{"$f":"IFERROR(INDEX(#REF!,MATCH(A86,#REF!,0)),\"\")","v":""},{"$f":"IFERROR(INDEX(#REF!,MATCH(A86,#REF!,0)),\"\")","v":""}]
[{"$f":"IF(C87=\"\",\"\",SUBTOTAL(3,C$5:C87))","v":""},{"$f":"+IFERROR(INDEX(#REF!,MATCH(A87,#REF!,0)),\"\")","v":""},null,{"$f":"IFERROR(INDEX(#REF!,MATCH(A87,#REF!,0)),\"\")","v":""},{"$f":"IFERROR(INDEX(#REF!,MATCH(A87,#REF!,0)),\"\")","v":""}]
[{"$f":"IF(C88=\"\",\"\",SUBTOTAL(3,C$5:C88))","v":""},{"$f":"+IFERROR(INDEX(#REF!,MATCH(A88,#REF!,0)),\"\")","v":""},null,{"$f":"IFERROR(INDEX(#REF!,MATCH(A88,#REF!,0)),\"\")","v":""},{"$f":"IFERROR(INDEX(#REF!,MATCH(A88,#REF!,0)),\"\")","v":""}]
[{"$f":"IF(C89=\"\",\"\",SUBTOTAL(3,C$5:C89))","v":""},{"$f":"+IFERROR(INDEX(#REF!,MATCH(A89,#REF!,0)),\"\")","v":""},null,{"$f":"IFERROR(INDEX(#REF!,MATCH(A89,#REF!,0)),\"\")","v":""},{"$f":"IFERROR(INDEX(#REF!,MATCH(A89,#REF!,0)),\"\")","v":""}]
[{"$f":"IF(C90=\"\",\"\",SUBTOTAL(3,C$5:C90))","v":""},{"$f":"+IFERROR(INDEX(#REF!,MATCH(A90,#REF!,0)),\"\")","v":""},null,{"$f":"IFERROR(INDEX(#REF!,MATCH(A90,#REF!,0)),\"\")","v":""},{"$f":"IFERROR(INDEX(#REF!,MATCH(A90,#REF!,0)),\"\")","v":""}]
[{"$f":"IF(C91=\"\",\"\",SUBTOTAL(3,C$5:C91))","v":""},{"$f":"+IFERROR(INDEX(#REF!,MATCH(A91,#REF!,0)),\"\")","v":""},null,{"$f":"IFERROR(INDEX(#REF!,MATCH(A91,#REF!,0)),\"\")","v":""},{"$f":"IFERROR(INDEX(#REF!,MATCH(A91,#REF!,0)),\"\")","v":""}]
[{"$f":"IF(C92=\"\",\"\",SUBTOTAL(3,C$5:C92))","v":""},{"$f":"+IFERROR(INDEX(#REF!,MATCH(A92,#REF!,0)),\"\")","v":""},null,{"$f":"IFERROR(INDEX(#REF!,MATCH(A92,#REF!,0)),\"\")","v":""},{"$f":"IFERROR(INDEX(#REF!,MATCH(A92,#REF!,0)),\"\")","v":""}]
[{"$f":"IF(C93=\"\",\"\",SUBTOTAL(3,C$5:C93))","v":""},{"$f":"+IFERROR(INDEX(#REF!,MATCH(A93,#REF!,0)),\"\")","v":""},null,{"$f":"IFERROR(INDEX(#REF!,MATCH(A93,#REF!,0)),\"\")","v":""},{"$f":"IFERROR(INDEX(#REF!,MATCH(A93,#REF!,0)),\"\")","v":""}]
[{"$f":"IF(C94=\"\",\"\",SUBTOTAL(3,C$5:C94))","v":""},{"$f":"+IFERROR(INDEX(#REF!,MATCH(A94,#REF!,0)),\"\")","v":""},null,{"$f":"IFERROR(INDEX(#REF!,MATCH(A94,#REF!,0)),\"\")","v":""},{"$f":"IFERROR(INDEX(#REF!,MATCH(A94,#REF!,0)),\"\")","v":""}]
[{"$f":"IF(C95=\"\",\"\",SUBTOTAL(3,C$5:C95))","v":""},{"$f":"+IFERROR(INDEX(#REF!,MATCH(A95,#REF!,0)),\"\")","v":""},null,{"$f":"IFERROR(INDEX(#REF!,MATCH(A95,#REF!,0)),\"\")","v":""},{"$f":"IFERROR(INDEX(#REF!,MATCH(A95,#REF!,0)),\"\")","v":""}]
[{"$f":"IF(C96=\"\",\"\",SUBTOTAL(3,C$5:C96))","v":""},{"$f":"+IFERROR(INDEX(#REF!,MATCH(A96,#REF!,0)),\"\")","v":""},null,{"$f":"IFERROR(INDEX(#REF!,MATCH(A96,#REF!,0)),\"\")","v":""},{"$f":"IFERROR(INDEX(#REF!,MATCH(A96,#REF!,0)),\"\")","v":""}]
[{"$f":"IF(C97=\"\",\"\",SUBTOTAL(3,C$5:C97))","v":""},{"$f":"+IFERROR(INDEX(#REF!,MATCH(A97,#REF!,0)),\"\")","v":""},null,{"$f":"IFERROR(INDEX(#REF!,MATCH(A97,#REF!,0)),\"\")","v":""},{"$f":"IFERROR(INDEX(#REF!,MATCH(A97,#REF!,0)),\"\")","v":""}]
[{"$f":"IF(C98=\"\",\"\",SUBTOTAL(3,C$5:C98))","v":""},{"$f":"+IFERROR(INDEX(#REF!,MATCH(A98,#REF!,0)),\"\")","v":""},null,{"$f":"IFERROR(INDEX(#REF!,MATCH(A98,#REF!,0)),\"\")","v":""},{"$f":"IFERROR(INDEX(#REF!,MATCH(A98,#REF!,0)),\"\")","v":""}]
[{"$f":"IF(C99=\"\",\"\",SUBTOTAL(3,C$5:C99))","v":""},{"$f":"+IFERROR(INDEX(#REF!,MATCH(A99,#REF!,0)),\"\")","v":""},null,{"$f":"IFERROR(INDEX(#REF!,MATCH(A99,#REF!,0)),\"\")","v":""},{"$f":"IFERROR(INDEX(#REF!,MATCH(A99,#REF!,0)),\"\")","v":""}]
[{"$f":"IF(C100=\"\",\"\",SUBTOTAL(3,C$5:C100))","v":""},{"$f":"+IFERROR(INDEX(#REF!,MATCH(A100,#REF!,0)),\"\")","v":""},null,{"$f":"IFERROR(INDEX(#REF!,MATCH(A100,#REF!,0)),\"\")","v":""},{"$f":"IFERROR(INDEX(#REF!,MATCH(A100,#REF!,0)),\"\")","v":""}]
[{"$f":"IF(C101=\"\",\"\",SUBTOTAL(3,C$5:C101))","v":""},{"$f":"+IFERROR(INDEX(#REF!,MATCH(A101,#REF!,0)),\"\")","v":""},null,{"$f":"IFERROR(INDEX(#REF!,MATCH(A101,#REF!,0)),\"\")","v":""},{"$f":"IFERROR(INDEX(#REF!,MATCH(A101,#REF!,0)),\"\")","v":""}]
[{"$f":"IF(C102=\"\",\"\",SUBTOTAL(3,C$5:C102))","v":""},{"$f":"+IFERROR(INDEX(#REF!,MATCH(A102,#REF!,0)),\"\")","v":""},null,{"$f":"IFERROR(INDEX(#REF!,MATCH(A102,#REF!,0)),\"\")","v":""},{"$f":"IFERROR(INDEX(#REF!,MATCH(A102,#REF!,0)),\"\")","v":""}]
[{"$f":"IF(C103=\"\",\"\",SUBTOTAL(3,C$5:C103))","v":""},{"$f":"+IFERROR(INDEX(#REF!,MATCH(A103,#REF!,0)),\"\")","v":""},null,{"$f":"IFERROR(INDEX(#REF!,MATCH(A103,#REF!,0)),\"\")","v":""},{"$f":"IFERROR(INDEX(#REF!,MATCH(A103,#REF!,0)),\"\")","v":""}]
[{"$f":"IF(C104=\"\",\"\",SUBTOTAL(3,C$5:C104))","v":""},{"$f":"+IFERROR(INDEX(#REF!,MATCH(A104,#REF!,0)),\"\")","v":""},null,{"$f":"IFERROR(INDEX(#REF!,MATCH(A104,#REF!,0)),\"\")","v":""},{"$f":"IFERROR(INDEX(#REF!,MATCH(A104,#REF!,0)),\"\")","v":""}]
[{"$f":"IF(C105=\"\",\"\",SUBTOTAL(3,C$5:C105))","v":""},{"$f":"+IFERROR(INDEX(#REF!,MATCH(A105,#REF!,0)),\"\")","v":""},null,{"$f":"IFERROR(INDEX(#REF!,MATCH(A105,#REF!,0)),\"\")","v":""},{"$f":"IFERROR(INDEX(#REF!,MATCH(A105,#REF!,0)),\"\")","v":""}]
[{"$f":"IF(C106=\"\",\"\",SUBTOTAL(3,C$5:C106))","v":""},{"$f":"+IFERROR(INDEX(#REF!,MATCH(A106,#REF!,0)),\"\")","v":""},null,{"$f":"IFERROR(INDEX(#REF!,MATCH(A106,#REF!,0)),\"\")","v":""},{"$f":"IFERROR(INDEX(#REF!,MATCH(A106,#REF!,0)),\"\")","v":""}]
[{"$f":"IF(C107=\"\",\"\",SUBTOTAL(3,C$5:C107))","v":""},{"$f":"+IFERROR(INDEX(#REF!,MATCH(A107,#REF!,0)),\"\")","v":""},null,{"$f":"IFERROR(INDEX(#REF!,MATCH(A107,#REF!,0)),\"\")","v":""},{"$f":"IFERROR(INDEX(#REF!,MATCH(A107,#REF!,0)),\"\")","v":""}]
[{"$f":"IF(C108=\"\",\"\",SUBTOTAL(3,C$5:C108))","v":""},{"$f":"+IFERROR(INDEX(#REF!,MATCH(A108,#REF!,0)),\"\")","v":""},null,{"$f":"IFERROR(INDEX(#REF!,MATCH(A108,#REF!,0)),\"\")","v":""},{"$f":"IFERROR(INDEX(#REF!,MATCH(A108,#REF!,0)),\"\")","v":""}]
[{"$f":"IF(C109=\"\",\"\",SUBTOTAL(3,C$5:C109))","v":""},{"$f":"+IFERROR(INDEX(#REF!,MATCH(A109,#REF!,0)),\"\")","v":""},null,{"$f":"IFERROR(INDEX(#REF!,MATCH(A109,#REF!,0)),\"\")","v":""},{"$f":"IFERROR(INDEX(#REF!,MATCH(A109,#REF!,0)),\"\")","v":""}]
[{"$f":"IF(C110=\"\",\"\",SUBTOTAL(3,C$5:C110))","v":""},{"$f":"+IFERROR(INDEX(#REF!,MATCH(A110,#REF!,0)),\"\")","v":""},null,{"$f":"IFERROR(INDEX(#REF!,MATCH(A110,#REF!,0)),\"\")","v":""},{"$f":"IFERROR(INDEX(#REF!,MATCH(A110,#REF!,0)),\"\")","v":""}]
[{"$f":"IF(C111=\"\",\"\",SUBTOTAL(3,C$5:C111))","v":""},{"$f":"+IFERROR(INDEX(#REF!,MATCH(A111,#REF!,0)),\"\")","v":""},null,{"$f":"IFERROR(INDEX(#REF!,MATCH(A111,#REF!,0)),\"\")","v":""},{"$f":"IFERROR(INDEX(#REF!,MATCH(A111,#REF!,0)),\"\")","v":""}]
[{"$f":"IF(C112=\"\",\"\",SUBTOTAL(3,C$5:C112))","v":""},{"$f":"+IFERROR(INDEX(#REF!,MATCH(A112,#REF!,0)),\"\")","v":""},null,{"$f":"IFERROR(INDEX(#REF!,MATCH(A112,#REF!,0)),\"\")","v":""},{"$f":"IFERROR(INDEX(#REF!,MATCH(A112,#REF!,0)),\"\")","v":""}]
[{"$f":"IF(C113=\"\",\"\",SUBTOTAL(3,C$5:C113))","v":""},{"$f":"+IFERROR(INDEX(#REF!,MATCH(A113,#REF!,0)),\"\")","v":""},null,{"$f":"IFERROR(INDEX(#REF!,MATCH(A113,#REF!,0)),\"\")","v":""},{"$f":"IFERROR(INDEX(#REF!,MATCH(A113,#REF!,0)),\"\")","v":""}]
[{"$f":"IF(C114=\"\",\"\",SUBTOTAL(3,C$5:C114))","v":""},{"$f":"+IFERROR(INDEX(#REF!,MATCH(A114,#REF!,0)),\"\")","v":""},null,{"$f":"IFERROR(INDEX(#REF!,MATCH(A114,#REF!,0)),\"\")","v":""},{"$f":"IFERROR(INDEX(#REF!,MATCH(A114,#REF!,0)),\"\")","v":""}]
[{"$f":"IF(C115=\"\",\"\",SUBTOTAL(3,C$5:C115))","v":""},{"$f":"+IFERROR(INDEX(#REF!,MATCH(A115,#REF!,0)),\"\")","v":""},null,{"$f":"IFERROR(INDEX(#REF!,MATCH(A115,#REF!,0)),\"\")","v":""},{"$f":"IFERROR(INDEX(#REF!,MATCH(A115,#REF!,0)),\"\")","v":""}]
[{"$f":"IF(C116=\"\",\"\",SUBTOTAL(3,C$5:C116))","v":""},{"$f":"+IFERROR(INDEX(#REF!,MATCH(A116,#REF!,0)),\"\")","v":""},null,{"$f":"IFERROR(INDEX(#REF!,MATCH(A116,#REF!,0)),\"\")","v":""},{"$f":"IFERROR(INDEX(#REF!,MATCH(A116,#REF!,0)),\"\")","v":""}]
[{"$f":"IF(C117=\"\",\"\",SUBTOTAL(3,C$5:C117))","v":""},{"$f":"+IFERROR(INDEX(#REF!,MATCH(A117,#REF!,0)),\"\")","v":""},null,{"$f":"IFERROR(INDEX(#REF!,MATCH(A117,#REF!,0)),\"\")","v":""},{"$f":"IFERROR(INDEX(#REF!,MATCH(A117,#REF!,0)),\"\")","v":""}]
[{"$f":"IF(C118=\"\",\"\",SUBTOTAL(3,C$5:C118))","v":""},{"$f":"+IFERROR(INDEX(#REF!,MATCH(A118,#REF!,0)),\"\")","v":""},null,{"$f":"IFERROR(INDEX(#REF!,MATCH(A118,#REF!,0)),\"\")","v":""},{"$f":"IFERROR(INDEX(#REF!,MATCH(A118,#REF!,0)),\"\")","v":""}]
[{"$f":"IF(C119=\"\",\"\",SUBTOTAL(3,C$5:C119))","v":""},{"$f":"+IFERROR(INDEX(#REF!,MATCH(A119,#REF!,0)),\"\")","v":""},null,{"$f":"IFERROR(INDEX(#REF!,MATCH(A119,#REF!,0)),\"\")","v":""},{"$f":"IFERROR(INDEX(#REF!,MATCH(A119,#REF!,0)),\"\")","v":""}]
[{"$f":"IF(C120=\"\",\"\",SUBTOTAL(3,C$5:C120))","v":""},{"$f":"+IFERROR(INDEX(#REF!,MATCH(A120,#REF!,0)),\"\")","v":""},null,{"$f":"IFERROR(INDEX(#REF!,MATCH(A120,#REF!,0)),\"\")","v":""},{"$f":"IFERROR(INDEX(#REF!,MATCH(A120,#REF!,0)),\"\")","v":""}]
[{"$f":"IF(C121=\"\",\"\",SUBTOTAL(3,C$5:C121))","v":""},{"$f":"+IFERROR(INDEX(#REF!,MATCH(A121,#REF!,0)),\"\")","v":""},null,{"$f":"IFERROR(INDEX(#REF!,MATCH(A121,#REF!,0)),\"\")","v":""},{"$f":"IFERROR(INDEX(#REF!,MATCH(A121,#REF!,0)),\"\")","v":""}]
[{"$f":"IF(C122=\"\",\"\",SUBTOTAL(3,C$5:C122))","v":""},{"$f":"+IFERROR(INDEX(#REF!,MATCH(A122,#REF!,0)),\"\")","v":""},null,{"$f":"IFERROR(INDEX(#REF!,MATCH(A122,#REF!,0)),\"\")","v":""},{"$f":"IFERROR(INDEX(#REF!,MATCH(A122,#REF!,0)),\"\")","v":""}]
[{"$f":"IF(C123=\"\",\"\",SUBTOTAL(3,C$5:C123))","v":""},{"$f":"+IFERROR(INDEX(#REF!,MATCH(A123,#REF!,0)),\"\")","v":""},null,{"$f":"IFERROR(INDEX(#REF!,MATCH(A123,#REF!,0)),\"\")","v":""},{"$f":"IFERROR(INDEX(#REF!,MATCH(A123,#REF!,0)),\"\")","v":""}]
[{"$f":"IF(C124=\"\",\"\",SUBTOTAL(3,C$5:C124))","v":""},{"$f":"+IFERROR(INDEX(#REF!,MATCH(A124,#REF!,0)),\"\")","v":""},null,{"$f":"IFERROR(INDEX(#REF!,MATCH(A124,#REF!,0)),\"\")","v":""},{"$f":"IFERROR(INDEX(#REF!,MATCH(A124,#REF!,0)),\"\")","v":""}]
[{"$f":"IF(C125=\"\",\"\",SUBTOTAL(3,C$5:C125))","v":""},{"$f":"+IFERROR(INDEX(#REF!,MATCH(A125,#REF!,0)),\"\")","v":""},null,{"$f":"IFERROR(INDEX(#REF!,MATCH(A125,#REF!,0)),\"\")","v":""},{"$f":"IFERROR(INDEX(#REF!,MATCH(A125,#REF!,0)),\"\")","v":""}]
[{"$f":"IF(C126=\"\",\"\",SUBTOTAL(3,C$5:C126))","v":""},{"$f":"+IFERROR(INDEX(#REF!,MATCH(A126,#REF!,0)),\"\")","v":""},null,{"$f":"IFERROR(INDEX(#REF!,MATCH(A126,#REF!,0)),\"\")","v":""},{"$f":"IFERROR(INDEX(#REF!,MATCH(A126,#REF!,0)),\"\")","v":""}]
[{"$f":"IF(C127=\"\",\"\",SUBTOTAL(3,C$5:C127))","v":""},{"$f":"+IFERROR(INDEX(#REF!,MATCH(A127,#REF!,0)),\"\")","v":""},null,{"$f":"IFERROR(INDEX(#REF!,MATCH(A127,#REF!,0)),\"\")","v":""},{"$f":"IFERROR(INDEX(#REF!,MATCH(A127,#REF!,0)),\"\")","v":""}]
[{"$f":"IF(C128=\"\",\"\",SUBTOTAL(3,C$5:C128))","v":""},{"$f":"+IFERROR(INDEX(#REF!,MATCH(A128,#REF!,0)),\"\")","v":""},null,{"$f":"IFERROR(INDEX(#REF!,MATCH(A128,#REF!,0)),\"\")","v":""},{"$f":"IFERROR(INDEX(#REF!,MATCH(A128,#REF!,0)),\"\")","v":""}]
[{"$f":"IF(C129=\"\",\"\",SUBTOTAL(3,C$5:C129))","v":""},{"$f":"+IFERROR(INDEX(#REF!,MATCH(A129,#REF!,0)),\"\")","v":""},null,{"$f":"IFERROR(INDEX(#REF!,MATCH(A129,#REF!,0)),\"\")","v":""},{"$f":"IFERROR(INDEX(#REF!,MATCH(A129,#REF!,0)),\"\")","v":""}]
[{"$f":"IF(C130=\"\",\"\",SUBTOTAL(3,C$5:C130))","v":""},{"$f":"+IFERROR(INDEX(#REF!,MATCH(A130,#REF!,0)),\"\")","v":""},null,{"$f":"IFERROR(INDEX(#REF!,MATCH(A130,#REF!,0)),\"\")","v":""},{"$f":"IFERROR(INDEX(#REF!,MATCH(A130,#REF!,0)),\"\")","v":""}]
[{"$f":"IF(C131=\"\",\"\",SUBTOTAL(3,C$5:C131))","v":""},{"$f":"+IFERROR(INDEX(#REF!,MATCH(A131,#REF!,0)),\"\")","v":""},null,{"$f":"IFERROR(INDEX(#REF!,MATCH(A131,#REF!,0)),\"\")","v":""},{"$f":"IFERROR(INDEX(#REF!,MATCH(A131,#REF!,0)),\"\")","v":""}]
[{"$f":"IF(C132=\"\",\"\",SUBTOTAL(3,C$5:C132))","v":""},{"$f":"+IFERROR(INDEX(#REF!,MATCH(A132,#REF!,0)),\"\")","v":""},null,{"$f":"IFERROR(INDEX(#REF!,MATCH(A132,#REF!,0)),\"\")","v":""},{"$f":"IFERROR(INDEX(#REF!,MATCH(A132,#REF!,0)),\"\")","v":""}]
[{"$f":"IF(C133=\"\",\"\",SUBTOTAL(3,C$5:C133))","v":""},{"$f":"+IFERROR(INDEX(#REF!,MATCH(A133,#REF!,0)),\"\")","v":""},null,{"$f":"IFERROR(INDEX(#REF!,MATCH(A133,#REF!,0)),\"\")","v":""},{"$f":"IFERROR(INDEX(#REF!,MATCH(A133,#REF!,0)),\"\")","v":""}]
[{"$f":"IF(C134=\"\",\"\",SUBTOTAL(3,C$5:C134))","v":""},{"$f":"+IFERROR(INDEX(#REF!,MATCH(A134,#REF!,0)),\"\")","v":""},null,{"$f":"IFERROR(INDEX(#REF!,MATCH(A134,#REF!,0)),\"\")","v":""},{"$f":"IFERROR(INDEX(#REF!,MATCH(A134,#REF!,0)),\"\")","v":""}]
[{"$f":"IF(C135=\"\",\"\",SUBTOTAL(3,C$5:C135))","v":""},{"$f":"+IFERROR(INDEX(#REF!,MATCH(A135,#REF!,0)),\"\")","v":""},null,{"$f":"IFERROR(INDEX(#REF!,MATCH(A135,#REF!,0)),\"\")","v":""},{"$f":"IFERROR(INDEX(#REF!,MATCH(A135,#REF!,0)),\"\")","v":""}]
[{"$f":"IF(C136=\"\",\"\",SUBTOTAL(3,C$5:C136))","v":""},{"$f":"+IFERROR(INDEX(#REF!,MATCH(A136,#REF!,0)),\"\")","v":""},null,{"$f":"IFERROR(INDEX(#REF!,MATCH(A136,#REF!,0)),\"\")","v":""},{"$f":"IFERROR(INDEX(#REF!,MATCH(A136,#REF!,0)),\"\")","v":""}]
[{"$f":"IF(C137=\"\",\"\",SUBTOTAL(3,C$5:C137))","v":""},{"$f":"+IFERROR(INDEX(#REF!,MATCH(A137,#REF!,0)),\"\")","v":""},null,{"$f":"IFERROR(INDEX(#REF!,MATCH(A137,#REF!,0)),\"\")","v":""},{"$f":"IFERROR(INDEX(#REF!,MATCH(A137,#REF!,0)),\"\")","v":""}]
[{"$f":"IF(C138=\"\",\"\",SUBTOTAL(3,C$5:C138))","v":""},{"$f":"+IFERROR(INDEX(#REF!,MATCH(A138,#REF!,0)),\"\")","v":""},null,{"$f":"IFERROR(INDEX(#REF!,MATCH(A138,#REF!,0)),\"\")","v":""},{"$f":"IFERROR(INDEX(#REF!,MATCH(A138,#REF!,0)),\"\")","v":""}]
[{"$f":"IF(C139=\"\",\"\",SUBTOTAL(3,C$5:C139))","v":""},{"$f":"+IFERROR(INDEX(#REF!,MATCH(A139,#REF!,0)),\"\")","v":""},null,{"$f":"IFERROR(INDEX(#REF!,MATCH(A139,#REF!,0)),\"\")","v":""},{"$f":"IFERROR(INDEX(#REF!,MATCH(A139,#REF!,0)),\"\")","v":""}]
[{"$f":"IF(C140=\"\",\"\",SUBTOTAL(3,C$5:C140))","v":""},{"$f":"+IFERROR(INDEX(#REF!,MATCH(A140,#REF!,0)),\"\")","v":""},null,{"$f":"IFERROR(INDEX(#REF!,MATCH(A140,#REF!,0)),\"\")","v":""},{"$f":"IFERROR(INDEX(#REF!,MATCH(A140,#REF!,0)),\"\")","v":""}]
[{"$f":"IF(C141=\"\",\"\",SUBTOTAL(3,C$5:C141))","v":""},{"$f":"+IFERROR(INDEX(#REF!,MATCH(A141,#REF!,0)),\"\")","v":""},null,{"$f":"IFERROR(INDEX(#REF!,MATCH(A141,#REF!,0)),\"\")","v":""},{"$f":"IFERROR(INDEX(#REF!,MATCH(A141,#REF!,0)),\"\")","v":""}]
[{"$f":"IF(C142=\"\",\"\",SUBTOTAL(3,C$5:C142))","v":""},{"$f":"+IFERROR(INDEX(#REF!,MATCH(A142,#REF!,0)),\"\")","v":""},null,{"$f":"IFERROR(INDEX(#REF!,MATCH(A142,#REF!,0)),\"\")","v":""},{"$f":"IFERROR(INDEX(#REF!,MATCH(A142,#REF!,0)),\"\")","v":""}]
[{"$f":"IF(C143=\"\",\"\",SUBTOTAL(3,C$5:C143))","v":""},{"$f":"+IFERROR(INDEX(#REF!,MATCH(A143,#REF!,0)),\"\")","v":""},null,{"$f":"IFERROR(INDEX(#REF!,MATCH(A143,#REF!,0)),\"\")","v":""},{"$f":"IFERROR(INDEX(#REF!,MATCH(A143,#REF!,0)),\"\")","v":""}]
[{"$f":"IF(C144=\"\",\"\",SUBTOTAL(3,C$5:C144))","v":""},{"$f":"+IFERROR(INDEX(#REF!,MATCH(A144,#REF!,0)),\"\")","v":""},null,{"$f":"IFERROR(INDEX(#REF!,MATCH(A144,#REF!,0)),\"\")","v":""},{"$f":"IFERROR(INDEX(#REF!,MATCH(A144,#REF!,0)),\"\")","v":""}]
[{"$f":"IF(C145=\"\",\"\",SUBTOTAL(3,C$5:C145))","v":""},{"$f":"+IFERROR(INDEX(#REF!,MATCH(A145,#REF!,0)),\"\")","v":""},null,{"$f":"IFERROR(INDEX(#REF!,MATCH(A145,#REF!,0)),\"\")","v":""},{"$f":"IFERROR(INDEX(#REF!,MATCH(A145,#REF!,0)),\"\")","v":""}]
[{"$f":"IF(C146=\"\",\"\",SUBTOTAL(3,C$5:C146))","v":""},{"$f":"+IFERROR(INDEX(#REF!,MATCH(A146,#REF!,0)),\"\")","v":""},null,{"$f":"IFERROR(INDEX(#REF!,MATCH(A146,#REF!,0)),\"\")","v":""},{"$f":"IFERROR(INDEX(#REF!,MATCH(A146,#REF!,0)),\"\")","v":""}]
[{"$f":"IF(C147=\"\",\"\",SUBTOTAL(3,C$5:C147))","v":""},{"$f":"+IFERROR(INDEX(#REF!,MATCH(A147,#REF!,0)),\"\")","v":""},null,{"$f":"IFERROR(INDEX(#REF!,MATCH(A147,#REF!,0)),\"\")","v":""},{"$f":"IFERROR(INDEX(#REF!,MATCH(A147,#REF!,0)),\"\")","v":""}]
[{"$f":"IF(C148=\"\",\"\",SUBTOTAL(3,C$5:C148))","v":""},{"$f":"+IFERROR(INDEX(#REF!,MATCH(A148,#REF!,0)),\"\")","v":""},null,{"$f":"IFERROR(INDEX(#REF!,MATCH(A148,#REF!,0)),\"\")","v":""},{"$f":"IFERROR(INDEX(#REF!,MATCH(A148,#REF!,0)),\"\")","v":""}]
[{"$f":"IF(C149=\"\",\"\",SUBTOTAL(3,C$5:C149))","v":""},{"$f":"+IFERROR(INDEX(#REF!,MATCH(A149,#REF!,0)),\"\")","v":""},null,{"$f":"IFERROR(INDEX(#REF!,MATCH(A149,#REF!,0)),\"\")","v":""},{"$f":"IFERROR(INDEX(#REF!,MATCH(A149,#REF!,0)),\"\")","v":""}]
[{"$f":"IF(C150=\"\",\"\",SUBTOTAL(3,C$5:C150))","v":""},{"$f":"+IFERROR(INDEX(#REF!,MATCH(A150,#REF!,0)),\"\")","v":""},null,{"$f":"IFERROR(INDEX(#REF!,MATCH(A150,#REF!,0)),\"\")","v":""},{"$f":"IFERROR(INDEX(#REF!,MATCH(A150,#REF!,0)),\"\")","v":""}]
[{"$f":"IF(C151=\"\",\"\",SUBTOTAL(3,C$5:C151))","v":""},{"$f":"+IFERROR(INDEX(#REF!,MATCH(A151,#REF!,0)),\"\")","v":""},null,{"$f":"IFERROR(INDEX(#REF!,MATCH(A151,#REF!,0)),\"\")","v":""},{"$f":"IFERROR(INDEX(#REF!,MATCH(A151,#REF!,0)),\"\")","v":""}]
[{"$f":"IF(C152=\"\",\"\",SUBTOTAL(3,C$5:C152))","v":""},{"$f":"+IFERROR(INDEX(#REF!,MATCH(A152,#REF!,0)),\"\")","v":""},null,{"$f":"IFERROR(INDEX(#REF!,MATCH(A152,#REF!,0)),\"\")","v":""},{"$f":"IFERROR(INDEX(#REF!,MATCH(A152,#REF!,0)),\"\")","v":""}]
[{"$f":"IF(C153=\"\",\"\",SUBTOTAL(3,C$5:C153))","v":""},{"$f":"+IFERROR(INDEX(#REF!,MATCH(A153,#REF!,0)),\"\")","v":""},null,{"$f":"IFERROR(INDEX(#REF!,MATCH(A153,#REF!,0)),\"\")","v":""},{"$f":"IFERROR(INDEX(#REF!,MATCH(A153,#REF!,0)),\"\")","v":""}]
[{"$f":"IF(C154=\"\",\"\",SUBTOTAL(3,C$5:C154))","v":""},{"$f":"+IFERROR(INDEX(#REF!,MATCH(A154,#REF!,0)),\"\")","v":""},null,{"$f":"IFERROR(INDEX(#REF!,MATCH(A154,#REF!,0)),\"\")","v":""},{"$f":"IFERROR(INDEX(#REF!,MATCH(A154,#REF!,0)),\"\")","v":""}]
[{"$f":"IF(C155=\"\",\"\",SUBTOTAL(3,C$5:C155))","v":""},{"$f":"+IFERROR(INDEX(#REF!,MATCH(A155,#REF!,0)),\"\")","v":""},null,{"$f":"IFERROR(INDEX(#REF!,MATCH(A155,#REF!,0)),\"\")","v":""},{"$f":"IFERROR(INDEX(#REF!,MATCH(A155,#REF!,0)),\"\")","v":""}]
[{"$f":"IF(C156=\"\",\"\",SUBTOTAL(3,C$5:C156))","v":""},{"$f":"+IFERROR(INDEX(#REF!,MATCH(A156,#REF!,0)),\"\")","v":""},null,{"$f":"IFERROR(INDEX(#REF!,MATCH(A156,#REF!,0)),\"\")","v":""},{"$f":"IFERROR(INDEX(#REF!,MATCH(A156,#REF!,0)),\"\")","v":""}]
[{"$f":"IF(C157=\"\",\"\",SUBTOTAL(3,C$5:C157))","v":""},{"$f":"+IFERROR(INDEX(#REF!,MATCH(A157,#REF!,0)),\"\")","v":""},null,{"$f":"IFERROR(INDEX(#REF!,MATCH(A157,#REF!,0)),\"\")","v":""},{"$f":"IFERROR(INDEX(#REF!,MATCH(A157,#REF!,0)),\"\")","v":""}]
[{"$f":"IF(C158=\"\",\"\",SUBTOTAL(3,C$5:C158))","v":""},{"$f":"+IFERROR(INDEX(#REF!,MATCH(A158,#REF!,0)),\"\")","v":""},null,{"$f":"IFERROR(INDEX(#REF!,MATCH(A158,#REF!,0)),\"\")","v":""},{"$f":"IFERROR(INDEX(#REF!,MATCH(A158,#REF!,0)),\"\")","v":""}]
[{"$f":"IF(C159=\"\",\"\",SUBTOTAL(3,C$5:C159))","v":""},{"$f":"+IFERROR(INDEX(#REF!,MATCH(A159,#REF!,0)),\"\")","v":""},null,{"$f":"IFERROR(INDEX(#REF!,MATCH(A159,#REF!,0)),\"\")","v":""},{"$f":"IFERROR(INDEX(#REF!,MATCH(A159,#REF!,0)),\"\")","v":""}]
[{"$f":"IF(C160=\"\",\"\",SUBTOTAL(3,C$5:C160))","v":""},{"$f":"+IFERROR(INDEX(#REF!,MATCH(A160,#REF!,0)),\"\")","v":""},null,{"$f":"IFERROR(INDEX(#REF!,MATCH(A160,#REF!,0)),\"\")","v":""},{"$f":"IFERROR(INDEX(#REF!,MATCH(A160,#REF!,0)),\"\")","v":""}]
[{"$f":"IF(C161=\"\",\"\",SUBTOTAL(3,C$5:C161))","v":""},{"$f":"+IFERROR(INDEX(#REF!,MATCH(A161,#REF!,0)),\"\")","v":""},null,{"$f":"IFERROR(INDEX(#REF!,MATCH(A161,#REF!,0)),\"\")","v":""},{"$f":"IFERROR(INDEX(#REF!,MATCH(A161,#REF!,0)),\"\")","v":""}]
[{"$f":"IF(C162=\"\",\"\",SUBTOTAL(3,C$5:C162))","v":""},{"$f":"+IFERROR(INDEX(#REF!,MATCH(A162,#REF!,0)),\"\")","v":""},null,{"$f":"IFERROR(INDEX(#REF!,MATCH(A162,#REF!,0)),\"\")","v":""},{"$f":"IFERROR(INDEX(#REF!,MATCH(A162,#REF!,0)),\"\")","v":""}]
[{"$f":"IF(C163=\"\",\"\",SUBTOTAL(3,C$5:C163))","v":""},{"$f":"+IFERROR(INDEX(#REF!,MATCH(A163,#REF!,0)),\"\")","v":""},null,{"$f":"IFERROR(INDEX(#REF!,MATCH(A163,#REF!,0)),\"\")","v":""},{"$f":"IFERROR(INDEX(#REF!,MATCH(A163,#REF!,0)),\"\")","v":""}]
[{"$f":"IF(C164=\"\",\"\",SUBTOTAL(3,C$5:C164))","v":""},{"$f":"+IFERROR(INDEX(#REF!,MATCH(A164,#REF!,0)),\"\")","v":""},null,{"$f":"IFERROR(INDEX(#REF!,MATCH(A164,#REF!,0)),\"\")","v":""},{"$f":"IFERROR(INDEX(#REF!,MATCH(A164,#REF!,0)),\"\")","v":""}]
[{"$f":"IF(C165=\"\",\"\",SUBTOTAL(3,C$5:C165))","v":""},{"$f":"+IFERROR(INDEX(#REF!,MATCH(A165,#REF!,0)),\"\")","v":""},null,{"$f":"IFERROR(INDEX(#REF!,MATCH(A165,#REF!,0)),\"\")","v":""},{"$f":"IFERROR(INDEX(#REF!,MATCH(A165,#REF!,0)),\"\")","v":""}]
[{"$f":"IF(C166=\"\",\"\",SUBTOTAL(3,C$5:C166))","v":""},{"$f":"+IFERROR(INDEX(#REF!,MATCH(A166,#REF!,0)),\"\")","v":""},null,{"$f":"IFERROR(INDEX(#REF!,MATCH(A166,#REF!,0)),\"\")","v":""},{"$f":"IFERROR(INDEX(#REF!,MATCH(A166,#REF!,0)),\"\")","v":""}]
[{"$f":"IF(C167=\"\",\"\",SUBTOTAL(3,C$5:C167))","v":""},{"$f":"+IFERROR(INDEX(#REF!,MATCH(A167,#REF!,0)),\"\")","v":""},null,{"$f":"IFERROR(INDEX(#REF!,MATCH(A167,#REF!,0)),\"\")","v":""},{"$f":"IFERROR(INDEX(#REF!,MATCH(A167,#REF!,0)),\"\")","v":""}]
[{"$f":"IF(C168=\"\",\"\",SUBTOTAL(3,C$5:C168))","v":""},{"$f":"+IFERROR(INDEX(#REF!,MATCH(A168,#REF!,0)),\"\")","v":""},null,{"$f":"IFERROR(INDEX(#REF!,MATCH(A168,#REF!,0)),\"\")","v":""},{"$f":"IFERROR(INDEX(#REF!,MATCH(A168,#REF!,0)),\"\")","v":""}]
[{"$f":"IF(C169=\"\",\"\",SUBTOTAL(3,C$5:C169))","v":""},{"$f":"+IFERROR(INDEX(#REF!,MATCH(A169,#REF!,0)),\"\")","v":""},null,{"$f":"IFERROR(INDEX(#REF!,MATCH(A169,#REF!,0)),\"\")","v":""},{"$f":"IFERROR(INDEX(#REF!,MATCH(A169,#REF!,0)),\"\")","v":""}]
[{"$f":"IF(C170=\"\",\"\",SUBTOTAL(3,C$5:C170))","v":""},{"$f":"+IFERROR(INDEX(#REF!,MATCH(A170,#REF!,0)),\"\")","v":""},null,{"$f":"IFERROR(INDEX(#REF!,MATCH(A170,#REF!,0)),\"\")","v":""},{"$f":"IFERROR(INDEX(#REF!,MATCH(A170,#REF!,0)),\"\")","v":""}]
[{"$f":"IF(C171=\"\",\"\",SUBTOTAL(3,C$5:C171))","v":""},{"$f":"+IFERROR(INDEX(#REF!,MATCH(A171,#REF!,0)),\"\")","v":""},null,{"$f":"IFERROR(INDEX(#REF!,MATCH(A171,#REF!,0)),\"\")","v":""},{"$f":"IFERROR(INDEX(#REF!,MATCH(A171,#REF!,0)),\"\")","v":""}]
[{"$f":"IF(C172=\"\",\"\",SUBTOTAL(3,C$5:C172))","v":""},{"$f":"+IFERROR(INDEX(#REF!,MATCH(A172,#REF!,0)),\"\")","v":""},null,{"$f":"IFERROR(INDEX(#REF!,MATCH(A172,#REF!,0)),\"\")","v":""},{"$f":"IFERROR(INDEX(#REF!,MATCH(A172,#REF!,0)),\"\")","v":""}]
[{"$f":"IF(C173=\"\",\"\",SUBTOTAL(3,C$5:C173))","v":""},{"$f":"+IFERROR(INDEX(#REF!,MATCH(A173,#REF!,0)),\"\")","v":""},null,{"$f":"IFERROR(INDEX(#REF!,MATCH(A173,#REF!,0)),\"\")","v":""},{"$f":"IFERROR(INDEX(#REF!,MATCH(A173,#REF!,0)),\"\")","v":""}]
[{"$f":"IF(C174=\"\",\"\",SUBTOTAL(3,C$5:C174))","v":""},{"$f":"+IFERROR(INDEX(#REF!,MATCH(A174,#REF!,0)),\"\")","v":""},null,{"$f":"IFERROR(INDEX(#REF!,MATCH(A174,#REF!,0)),\"\")","v":""},{"$f":"IFERROR(INDEX(#REF!,MATCH(A174,#REF!,0)),\"\")","v":""}]
[{"$f":"IF(C175=\"\",\"\",SUBTOTAL(3,C$5:C175))","v":""},{"$f":"+IFERROR(INDEX(#REF!,MATCH(A175,#REF!,0)),\"\")","v":""},null,{"$f":"IFERROR(INDEX(#REF!,MATCH(A175,#REF!,0)),\"\")","v":""},{"$f":"IFERROR(INDEX(#REF!,MATCH(A175,#REF!,0)),\"\")","v":""}]
[{"$f":"IF(C176=\"\",\"\",SUBTOTAL(3,C$5:C176))","v":""},{"$f":"+IFERROR(INDEX(#REF!,MATCH(A176,#REF!,0)),\"\")","v":""},null,{"$f":"IFERROR(INDEX(#REF!,MATCH(A176,#REF!,0)),\"\")","v":""},{"$f":"IFERROR(INDEX(#REF!,MATCH(A176,#REF!,0)),\"\")","v":""}]
[{"$f":"IF(C177=\"\",\"\",SUBTOTAL(3,C$5:C177))","v":""},{"$f":"+IFERROR(INDEX(#REF!,MATCH(A177,#REF!,0)),\"\")","v":""},null,{"$f":"IFERROR(INDEX(#REF!,MATCH(A177,#REF!,0)),\"\")","v":""},{"$f":"IFERROR(INDEX(#REF!,MATCH(A177,#REF!,0)),\"\")","v":""}]
[{"$f":"IF(C178=\"\",\"\",SUBTOTAL(3,C$5:C178))","v":""},{"$f":"+IFERROR(INDEX(#REF!,MATCH(A178,#REF!,0)),\"\")","v":""},null,{"$f":"IFERROR(INDEX(#REF!,MATCH(A178,#REF!,0)),\"\")","v":""},{"$f":"IFERROR(INDEX(#REF!,MATCH(A178,#REF!,0)),\"\")","v":""}]
[{"$f":"IF(C179=\"\",\"\",SUBTOTAL(3,C$5:C179))","v":""},{"$f":"+IFERROR(INDEX(#REF!,MATCH(A179,#REF!,0)),\"\")","v":""},null,{"$f":"IFERROR(INDEX(#REF!,MATCH(A179,#REF!,0)),\"\")","v":""},{"$f":"IFERROR(INDEX(#REF!,MATCH(A179,#REF!,0)),\"\")","v":""}]
[{"$f":"IF(C180=\"\",\"\",SUBTOTAL(3,C$5:C180))","v":""},{"$f":"+IFERROR(INDEX(#REF!,MATCH(A180,#REF!,0)),\"\")","v":""},null,{"$f":"IFERROR(INDEX(#REF!,MATCH(A180,#REF!,0)),\"\")","v":""},{"$f":"IFERROR(INDEX(#REF!,MATCH(A180,#REF!,0)),\"\")","v":""}]
[{"$f":"IF(C181=\"\",\"\",SUBTOTAL(3,C$5:C181))","v":""},{"$f":"+IFERROR(INDEX(#REF!,MATCH(A181,#REF!,0)),\"\")","v":""},null,{"$f":"IFERROR(INDEX(#REF!,MATCH(A181,#REF!,0)),\"\")","v":""},{"$f":"IFERROR(INDEX(#REF!,MATCH(A181,#REF!,0)),\"\")","v":""}]
[{"$f":"IF(C182=\"\",\"\",SUBTOTAL(3,C$5:C182))","v":""},{"$f":"+IFERROR(INDEX(#REF!,MATCH(A182,#REF!,0)),\"\")","v":""},null,{"$f":"IFERROR(INDEX(#REF!,MATCH(A182,#REF!,0)),\"\")","v":""},{"$f":"IFERROR(INDEX(#REF!,MATCH(A182,#REF!,0)),\"\")","v":""}]
[{"$f":"IF(C183=\"\",\"\",SUBTOTAL(3,C$5:C183))","v":""},{"$f":"+IFERROR(INDEX(#REF!,MATCH(A183,#REF!,0)),\"\")","v":""},null,{"$f":"IFERROR(INDEX(#REF!,MATCH(A183,#REF!,0)),\"\")","v":""},{"$f":"IFERROR(INDEX(#REF!,MATCH(A183,#REF!,0)),\"\")","v":""}]
[{"$f":"IF(C184=\"\",\"\",SUBTOTAL(3,C$5:C184))","v":""},{"$f":"+IFERROR(INDEX(#REF!,MATCH(A184,#REF!,0)),\"\")","v":""},null,{"$f":"IFERROR(INDEX(#REF!,MATCH(A184,#REF!,0)),\"\")","v":""},{"$f":"IFERROR(INDEX(#REF!,MATCH(A184,#REF!,0)),\"\")","v":""}]
[{"$f":"IF(C185=\"\",\"\",SUBTOTAL(3,C$5:C185))","v":""},{"$f":"+IFERROR(INDEX(#REF!,MATCH(A185,#REF!,0)),\"\")","v":""},null,{"$f":"IFERROR(INDEX(#REF!,MATCH(A185,#REF!,0)),\"\")","v":""},{"$f":"IFERROR(INDEX(#REF!,MATCH(A185,#REF!,0)),\"\")","v":""}]
[{"$f":"IF(C186=\"\",\"\",SUBTOTAL(3,C$5:C186))","v":""},{"$f":"+IFERROR(INDEX(#REF!,MATCH(A186,#REF!,0)),\"\")","v":""},null,{"$f":"IFERROR(INDEX(#REF!,MATCH(A186,#REF!,0)),\"\")","v":""},{"$f":"IFERROR(INDEX(#REF!,MATCH(A186,#REF!,0)),\"\")","v":""}]
[{"$f":"IF(C187=\"\",\"\",SUBTOTAL(3,C$5:C187))","v":""},{"$f":"+IFERROR(INDEX(#REF!,MATCH(A187,#REF!,0)),\"\")","v":""},null,{"$f":"IFERROR(INDEX(#REF!,MATCH(A187,#REF!,0)),\"\")","v":""},{"$f":"IFERROR(INDEX(#REF!,MATCH(A187,#REF!,0)),\"\")","v":""}]
[{"$f":"IF(C188=\"\",\"\",SUBTOTAL(3,C$5:C188))","v":""},{"$f":"+IFERROR(INDEX(#REF!,MATCH(A188,#REF!,0)),\"\")","v":""},null,{"$f":"IFERROR(INDEX(#REF!,MATCH(A188,#REF!,0)),\"\")","v":""},{"$f":"IFERROR(INDEX(#REF!,MATCH(A188,#REF!,0)),\"\")","v":""}]
[{"$f":"IF(C189=\"\",\"\",SUBTOTAL(3,C$5:C189))","v":""},{"$f":"+IFERROR(INDEX(#REF!,MATCH(A189,#REF!,0)),\"\")","v":""},null,{"$f":"IFERROR(INDEX(#REF!,MATCH(A189,#REF!,0)),\"\")","v":""},{"$f":"IFERROR(INDEX(#REF!,MATCH(A189,#REF!,0)),\"\")","v":""}]
[{"$f":"IF(C190=\"\",\"\",SUBTOTAL(3,C$5:C190))","v":""},{"$f":"+IFERROR(INDEX(#REF!,MATCH(A190,#REF!,0)),\"\")","v":""},null,{"$f":"IFERROR(INDEX(#REF!,MATCH(A190,#REF!,0)),\"\")","v":""},{"$f":"IFERROR(INDEX(#REF!,MATCH(A190,#REF!,0)),\"\")","v":""}]
[{"$f":"IF(C191=\"\",\"\",SUBTOTAL(3,C$5:C191))","v":""},{"$f":"+IFERROR(INDEX(#REF!,MATCH(A191,#REF!,0)),\"\")","v":""},null,{"$f":"IFERROR(INDEX(#REF!,MATCH(A191,#REF!,0)),\"\")","v":""},{"$f":"IFERROR(INDEX(#REF!,MATCH(A191,#REF!,0)),\"\")","v":""}]
[{"$f":"IF(C192=\"\",\"\",SUBTOTAL(3,C$5:C192))","v":""},{"$f":"+IFERROR(INDEX(#REF!,MATCH(A192,#REF!,0)),\"\")","v":""},null,{"$f":"IFERROR(INDEX(#REF!,MATCH(A192,#REF!,0)),\"\")","v":""},{"$f":"IFERROR(INDEX(#REF!,MATCH(A192,#REF!,0)),\"\")","v":""}]
[{"$f":"IF(C193=\"\",\"\",SUBTOTAL(3,C$5:C193))","v":""},{"$f":"+IFERROR(INDEX(#REF!,MATCH(A193,#REF!,0)),\"\")","v":""},null,{"$f":"IFERROR(INDEX(#REF!,MATCH(A193,#REF!,0)),\"\")","v":""},{"$f":"IFERROR(INDEX(#REF!,MATCH(A193,#REF!,0)),\"\")","v":""}]
[{"$f":"IF(C194=\"\",\"\",SUBTOTAL(3,C$5:C194))","v":""},{"$f":"+IFERROR(INDEX(#REF!,MATCH(A194,#REF!,0)),\"\")","v":""},null,{"$f":"IFERROR(INDEX(#REF!,MATCH(A194,#REF!,0)),\"\")","v":""},{"$f":"IFERROR(INDEX(#REF!,MATCH(A194,#REF!,0)),\"\")","v":""}]
[{"$f":"IF(C195=\"\",\"\",SUBTOTAL(3,C$5:C195))","v":""},{"$f":"+IFERROR(INDEX(#REF!,MATCH(A195,#REF!,0)),\"\")","v":""},null,{"$f":"IFERROR(INDEX(#REF!,MATCH(A195,#REF!,0)),\"\")","v":""},{"$f":"IFERROR(INDEX(#REF!,MATCH(A195,#REF!,0)),\"\")","v":""}]
[{"$f":"IF(C196=\"\",\"\",SUBTOTAL(3,C$5:C196))","v":""},{"$f":"+IFERROR(INDEX(#REF!,MATCH(A196,#REF!,0)),\"\")","v":""},null,{"$f":"IFERROR(INDEX(#REF!,MATCH(A196,#REF!,0)),\"\")","v":""},{"$f":"IFERROR(INDEX(#REF!,MATCH(A196,#REF!,0)),\"\")","v":""}]
[{"$f":"IF(C197=\"\",\"\",SUBTOTAL(3,C$5:C197))","v":""},{"$f":"+IFERROR(INDEX(#REF!,MATCH(A197,#REF!,0)),\"\")","v":""},null,{"$f":"IFERROR(INDEX(#REF!,MATCH(A197,#REF!,0)),\"\")","v":""},{"$f":"IFERROR(INDEX(#REF!,MATCH(A197,#REF!,0)),\"\")","v":""}]
[{"$f":"IF(C198=\"\",\"\",SUBTOTAL(3,C$5:C198))","v":""},{"$f":"+IFERROR(INDEX(#REF!,MATCH(A198,#REF!,0)),\"\")","v":""},null,{"$f":"IFERROR(INDEX(#REF!,MATCH(A198,#REF!,0)),\"\")","v":""},{"$f":"IFERROR(INDEX(#REF!,MATCH(A198,#REF!,0)),\"\")","v":""}]
[{"$f":"IF(C199=\"\",\"\",SUBTOTAL(3,C$5:C199))","v":""},{"$f":"+IFERROR(INDEX(#REF!,MATCH(A199,#REF!,0)),\"\")","v":""},null,{"$f":"IFERROR(INDEX(#REF!,MATCH(A199,#REF!,0)),\"\")","v":""},{"$f":"IFERROR(INDEX(#REF!,MATCH(A199,#REF!,0)),\"\")","v":""}]
[{"$f":"IF(C200=\"\",\"\",SUBTOTAL(3,C$5:C200))","v":""},{"$f":"+IFERROR(INDEX(#REF!,MATCH(A200,#REF!,0)),\"\")","v":""},null,{"$f":"IFERROR(INDEX(#REF!,MATCH(A200,#REF!,0)),\"\")","v":""},{"$f":"IFERROR(INDEX(#REF!,MATCH(A200,#REF!,0)),\"\")","v":""}]
[{"$f":"IF(C201=\"\",\"\",SUBTOTAL(3,C$5:C201))","v":""},{"$f":"+IFERROR(INDEX(#REF!,MATCH(A201,#REF!,0)),\"\")","v":""},null,{"$f":"IFERROR(INDEX(#REF!,MATCH(A201,#REF!,0)),\"\")","v":""},{"$f":"IFERROR(INDEX(#REF!,MATCH(A201,#REF!,0)),\"\")","v":""}]
[{"$f":"IF(C202=\"\",\"\",SUBTOTAL(3,C$5:C202))","v":""},{"$f":"+IFERROR(INDEX(#REF!,MATCH(A202,#REF!,0)),\"\")","v":""},null,{"$f":"IFERROR(INDEX(#REF!,MATCH(A202,#REF!,0)),\"\")","v":""},{"$f":"IFERROR(INDEX(#REF!,MATCH(A202,#REF!,0)),\"\")","v":""}]
[{"$f":"IF(C203=\"\",\"\",SUBTOTAL(3,C$5:C203))","v":""},{"$f":"+IFERROR(INDEX(#REF!,MATCH(A203,#REF!,0)),\"\")","v":""},null,{"$f":"IFERROR(INDEX(#REF!,MATCH(A203,#REF!,0)),\"\")","v":""},{"$f":"IFERROR(INDEX(#REF!,MATCH(A203,#REF!,0)),\"\")","v":""}]
[{"$f":"IF(C204=\"\",\"\",SUBTOTAL(3,C$5:C204))","v":""},{"$f":"+IFERROR(INDEX(#REF!,MATCH(A204,#REF!,0)),\"\")","v":""},null,{"$f":"IFERROR(INDEX(#REF!,MATCH(A204,#REF!,0)),\"\")","v":""},{"$f":"IFERROR(INDEX(#REF!,MATCH(A204,#REF!,0)),\"\")","v":""}]
[{"$f":"IF(C205=\"\",\"\",SUBTOTAL(3,C$5:C205))","v":""},{"$f":"+IFERROR(INDEX(#REF!,MATCH(A205,#REF!,0)),\"\")","v":""},null,{"$f":"IFERROR(INDEX(#REF!,MATCH(A205,#REF!,0)),\"\")","v":""},{"$f":"IFERROR(INDEX(#REF!,MATCH(A205,#REF!,0)),\"\")","v":""}]
[{"$f":"IF(C206=\"\",\"\",SUBTOTAL(3,C$5:C206))","v":""},{"$f":"+IFERROR(INDEX(#REF!,MATCH(A206,#REF!,0)),\"\")","v":""},null,{"$f":"IFERROR(INDEX(#REF!,MATCH(A206,#REF!,0)),\"\")","v":""},{"$f":"IFERROR(INDEX(#REF!,MATCH(A206,#REF!,0)),\"\")","v":""}]
[{"$f":"IF(C207=\"\",\"\",SUBTOTAL(3,C$5:C207))","v":""},{"$f":"+IFERROR(INDEX(#REF!,MATCH(A207,#REF!,0)),\"\")","v":""},null,{"$f":"IFERROR(INDEX(#REF!,MATCH(A207,#REF!,0)),\"\")","v":""},{"$f":"IFERROR(INDEX(#REF!,MATCH(A207,#REF!,0)),\"\")","v":""}]
[{"$f":"IF(C208=\"\",\"\",SUBTOTAL(3,C$5:C208))","v":""},{"$f":"+IFERROR(INDEX(#REF!,MATCH(A208,#REF!,0)),\"\")","v":""},null,{"$f":"IFERROR(INDEX(#REF!,MATCH(A208,#REF!,0)),\"\")","v":""},{"$f":"IFERROR(INDEX(#REF!,MATCH(A208,#REF!,0)),\"\")","v":""}]
[{"$f":"IF(C209=\"\",\"\",SUBTOTAL(3,C$5:C209))","v":""},{"$f":"+IFERROR(INDEX(#REF!,MATCH(A209,#REF!,0)),\"\")","v":""},null,{"$f":"IFERROR(INDEX(#REF!,MATCH(A209,#REF!,0)),\"\")","v":""},{"$f":"IFERROR(INDEX(#REF!,MATCH(A209,#REF!,0)),\"\")","v":""}]
[{"$f":"IF(C210=\"\",\"\",SUBTOTAL(3,C$5:C210))","v":""},{"$f":"+IFERROR(INDEX(#REF!,MATCH(A210,#REF!,0)),\"\")","v":""},null,{"$f":"IFERROR(INDEX(#REF!,MATCH(A210,#REF!,0)),\"\")","v":""},{"$f":"IFERROR(INDEX(#REF!,MATCH(A210,#REF!,0)),\"\")","v":""}]
[{"$f":"IF(C211=\"\",\"\",SUBTOTAL(3,C$5:C211))","v":""},{"$f":"+IFERROR(INDEX(#REF!,MATCH(A211,#REF!,0)),\"\")","v":""},null,{"$f":"IFERROR(INDEX(#REF!,MATCH(A211,#REF!,0)),\"\")","v":""},{"$f":"IFERROR(INDEX(#REF!,MATCH(A211,#REF!,0)),\"\")","v":""}]
[{"$f":"IF(C212=\"\",\"\",SUBTOTAL(3,C$5:C212))","v":""},{"$f":"+IFERROR(INDEX(#REF!,MATCH(A212,#REF!,0)),\"\")","v":""},null,{"$f":"IFERROR(INDEX(#REF!,MATCH(A212,#REF!,0)),\"\")","v":""},{"$f":"IFERROR(INDEX(#REF!,MATCH(A212,#REF!,0)),\"\")","v":""}]
[{"$f":"IF(C213=\"\",\"\",SUBTOTAL(3,C$5:C213))","v":""},{"$f":"+IFERROR(INDEX(#REF!,MATCH(A213,#REF!,0)),\"\")","v":""},null,{"$f":"IFERROR(INDEX(#REF!,MATCH(A213,#REF!,0)),\"\")","v":""},{"$f":"IFERROR(INDEX(#REF!,MATCH(A213,#REF!,0)),\"\")","v":""}]
[{"$f":"IF(C214=\"\",\"\",SUBTOTAL(3,C$5:C214))","v":""},{"$f":"+IFERROR(INDEX(#REF!,MATCH(A214,#REF!,0)),\"\")","v":""},null,{"$f":"IFERROR(INDEX(#REF!,MATCH(A214,#REF!,0)),\"\")","v":""},{"$f":"IFERROR(INDEX(#REF!,MATCH(A214,#REF!,0)),\"\")","v":""}]
[{"$f":"IF(C215=\"\",\"\",SUBTOTAL(3,C$5:C215))","v":""},{"$f":"+IFERROR(INDEX(#REF!,MATCH(A215,#REF!,0)),\"\")","v":""},null,{"$f":"IFERROR(INDEX(#REF!,MATCH(A215,#REF!,0)),\"\")","v":""},{"$f":"IFERROR(INDEX(#REF!,MATCH(A215,#REF!,0)),\"\")","v":""}]
[{"$f":"IF(C216=\"\",\"\",SUBTOTAL(3,C$5:C216))","v":""},{"$f":"+IFERROR(INDEX(#REF!,MATCH(A216,#REF!,0)),\"\")","v":""},null,{"$f":"IFERROR(INDEX(#REF!,MATCH(A216,#REF!,0)),\"\")","v":""},{"$f":"IFERROR(INDEX(#REF!,MATCH(A216,#REF!,0)),\"\")","v":""}]
[{"$f":"IF(C217=\"\",\"\",SUBTOTAL(3,C$5:C217))","v":""},{"$f":"+IFERROR(INDEX(#REF!,MATCH(A217,#REF!,0)),\"\")","v":""},null,{"$f":"IFERROR(INDEX(#REF!,MATCH(A217,#REF!,0)),\"\")","v":""},{"$f":"IFERROR(INDEX(#REF!,MATCH(A217,#REF!,0)),\"\")","v":""}]
[{"$f":"IF(C218=\"\",\"\",SUBTOTAL(3,C$5:C218))","v":""},{"$f":"+IFERROR(INDEX(#REF!,MATCH(A218,#REF!,0)),\"\")","v":""},null,{"$f":"IFERROR(INDEX(#REF!,MATCH(A218,#REF!,0)),\"\")","v":""},{"$f":"IFERROR(INDEX(#REF!,MATCH(A218,#REF!,0)),\"\")","v":""}]
[{"$f":"IF(C219=\"\",\"\",SUBTOTAL(3,C$5:C219))","v":""},{"$f":"+IFERROR(INDEX(#REF!,MATCH(A219,#REF!,0)),\"\")","v":""},null,{"$f":"IFERROR(INDEX(#REF!,MATCH(A219,#REF!,0)),\"\")","v":""},{"$f":"IFERROR(INDEX(#REF!,MATCH(A219,#REF!,0)),\"\")","v":""}]
[{"$f":"IF(C220=\"\",\"\",SUBTOTAL(3,C$5:C220))","v":""},{"$f":"+IFERROR(INDEX(#REF!,MATCH(A220,#REF!,0)),\"\")","v":""},null,{"$f":"IFERROR(INDEX(#REF!,MATCH(A220,#REF!,0)),\"\")","v":""},{"$f":"IFERROR(INDEX(#REF!,MATCH(A220,#REF!,0)),\"\")","v":""}]
[{"$f":"IF(C221=\"\",\"\",SUBTOTAL(3,C$5:C221))","v":""},{"$f":"+IFERROR(INDEX(#REF!,MATCH(A221,#REF!,0)),\"\")","v":""},null,{"$f":"IFERROR(INDEX(#REF!,MATCH(A221,#REF!,0)),\"\")","v":""},{"$f":"IFERROR(INDEX(#REF!,MATCH(A221,#REF!,0)),\"\")","v":""}]
[{"$f":"IF(C222=\"\",\"\",SUBTOTAL(3,C$5:C222))","v":""},{"$f":"+IFERROR(INDEX(#REF!,MATCH(A222,#REF!,0)),\"\")","v":""},null,{"$f":"IFERROR(INDEX(#REF!,MATCH(A222,#REF!,0)),\"\")","v":""},{"$f":"IFERROR(INDEX(#REF!,MATCH(A222,#REF!,0)),\"\")","v":""}]
[{"$f":"IF(C223=\"\",\"\",SUBTOTAL(3,C$5:C223))","v":""},{"$f":"+IFERROR(INDEX(#REF!,MATCH(A223,#REF!,0)),\"\")","v":""},null,{"$f":"IFERROR(INDEX(#REF!,MATCH(A223,#REF!,0)),\"\")","v":""},{"$f":"IFERROR(INDEX(#REF!,MATCH(A223,#REF!,0)),\"\")","v":""}]
[{"$f":"IF(C224=\"\",\"\",SUBTOTAL(3,C$5:C224))","v":""},{"$f":"+IFERROR(INDEX(#REF!,MATCH(A224,#REF!,0)),\"\")","v":""},null,{"$f":"IFERROR(INDEX(#REF!,MATCH(A224,#REF!,0)),\"\")","v":""},{"$f":"IFERROR(INDEX(#REF!,MATCH(A224,#REF!,0)),\"\")","v":""}]
[{"$f":"IF(C225=\"\",\"\",SUBTOTAL(3,C$5:C225))","v":""},{"$f":"+IFERROR(INDEX(#REF!,MATCH(A225,#REF!,0)),\"\")","v":""},null,{"$f":"IFERROR(INDEX(#REF!,MATCH(A225,#REF!,0)),\"\")","v":""},{"$f":"IFERROR(INDEX(#REF!,MATCH(A225,#REF!,0)),\"\")","v":""}]
[{"$f":"IF(C226=\"\",\"\",SUBTOTAL(3,C$5:C226))","v":""},{"$f":"+IFERROR(INDEX(#REF!,MATCH(A226,#REF!,0)),\"\")","v":""},null,{"$f":"IFERROR(INDEX(#REF!,MATCH(A226,#REF!,0)),\"\")","v":""},{"$f":"IFERROR(INDEX(#REF!,MATCH(A226,#REF!,0)),\"\")","v":""}]
[{"$f":"IF(C227=\"\",\"\",SUBTOTAL(3,C$5:C227))","v":""},{"$f":"+IFERROR(INDEX(#REF!,MATCH(A227,#REF!,0)),\"\")","v":""},null,{"$f":"IFERROR(INDEX(#REF!,MATCH(A227,#REF!,0)),\"\")","v":""},{"$f":"IFERROR(INDEX(#REF!,MATCH(A227,#REF!,0)),\"\")","v":""}]
[{"$f":"IF(C228=\"\",\"\",SUBTOTAL(3,C$5:C228))","v":""},{"$f":"+IFERROR(INDEX(#REF!,MATCH(A228,#REF!,0)),\"\")","v":""},null,{"$f":"IFERROR(INDEX(#REF!,MATCH(A228,#REF!,0)),\"\")","v":""},{"$f":"IFERROR(INDEX(#REF!,MATCH(A228,#REF!,0)),\"\")","v":""}]
[{"$f":"IF(C229=\"\",\"\",SUBTOTAL(3,C$5:C229))","v":""},{"$f":"+IFERROR(INDEX(#REF!,MATCH(A229,#REF!,0)),\"\")","v":""},null,{"$f":"IFERROR(INDEX(#REF!,MATCH(A229,#REF!,0)),\"\")","v":""},{"$f":"IFERROR(INDEX(#REF!,MATCH(A229,#REF!,0)),\"\")","v":""}]
[{"$f":"IF(C230=\"\",\"\",SUBTOTAL(3,C$5:C230))","v":""},{"$f":"+IFERROR(INDEX(#REF!,MATCH(A230,#REF!,0)),\"\")","v":""},null,{"$f":"IFERROR(INDEX(#REF!,MATCH(A230,#REF!,0)),\"\")","v":""},{"$f":"IFERROR(INDEX(#REF!,MATCH(A230,#REF!,0)),\"\")","v":""}]
[{"$f":"IF(C231=\"\",\"\",SUBTOTAL(3,C$5:C231))","v":""},{"$f":"+IFERROR(INDEX(#REF!,MATCH(A231,#REF!,0)),\"\")","v":""},null,{"$f":"IFERROR(INDEX(#REF!,MATCH(A231,#REF!,0)),\"\")","v":""},{"$f":"IFERROR(INDEX(#REF!,MATCH(A231,#REF!,0)),\"\")","v":""}]
[{"$f":"IF(C232=\"\",\"\",SUBTOTAL(3,C$5:C232))","v":""},{"$f":"+IFERROR(INDEX(#REF!,MATCH(A232,#REF!,0)),\"\")","v":""},null,{"$f":"IFERROR(INDEX(#REF!,MATCH(A232,#REF!,0)),\"\")","v":""},{"$f":"IFERROR(INDEX(#REF!,MATCH(A232,#REF!,0)),\"\")","v":""}]
[{"$f":"IF(C233=\"\",\"\",SUBTOTAL(3,C$5:C233))","v":""},{"$f":"+IFERROR(INDEX(#REF!,MATCH(A233,#REF!,0)),\"\")","v":""},null,{"$f":"IFERROR(INDEX(#REF!,MATCH(A233,#REF!,0)),\"\")","v":""},{"$f":"IFERROR(INDEX(#REF!,MATCH(A233,#REF!,0)),\"\")","v":""}]
[{"$f":"IF(C234=\"\",\"\",SUBTOTAL(3,C$5:C234))","v":""},{"$f":"+IFERROR(INDEX(#REF!,MATCH(A234,#REF!,0)),\"\")","v":""},null,{"$f":"IFERROR(INDEX(#REF!,MATCH(A234,#REF!,0)),\"\")","v":""},{"$f":"IFERROR(INDEX(#REF!,MATCH(A234,#REF!,0)),\"\")","v":""}]
[{"$f":"IF(C235=\"\",\"\",SUBTOTAL(3,C$5:C235))","v":""},{"$f":"+IFERROR(INDEX(#REF!,MATCH(A235,#REF!,0)),\"\")","v":""},null,{"$f":"IFERROR(INDEX(#REF!,MATCH(A235,#REF!,0)),\"\")","v":""},{"$f":"IFERROR(INDEX(#REF!,MATCH(A235,#REF!,0)),\"\")","v":""}]
[{"$f":"IF(C236=\"\",\"\",SUBTOTAL(3,C$5:C236))","v":""},{"$f":"+IFERROR(INDEX(#REF!,MATCH(A236,#REF!,0)),\"\")","v":""},null,{"$f":"IFERROR(INDEX(#REF!,MATCH(A236,#REF!,0)),\"\")","v":""},{"$f":"IFERROR(INDEX(#REF!,MATCH(A236,#REF!,0)),\"\")","v":""}]
[{"$f":"IF(C237=\"\",\"\",SUBTOTAL(3,C$5:C237))","v":""},{"$f":"+IFERROR(INDEX(#REF!,MATCH(A237,#REF!,0)),\"\")","v":""},null,{"$f":"IFERROR(INDEX(#REF!,MATCH(A237,#REF!,0)),\"\")","v":""},{"$f":"IFERROR(INDEX(#REF!,MATCH(A237,#REF!,0)),\"\")","v":""}]
[{"$f":"IF(C238=\"\",\"\",SUBTOTAL(3,C$5:C238))","v":""},{"$f":"+IFERROR(INDEX(#REF!,MATCH(A238,#REF!,0)),\"\")","v":""},null,{"$f":"IFERROR(INDEX(#REF!,MATCH(A238,#REF!,0)),\"\")","v":""},{"$f":"IFERROR(INDEX(#REF!,MATCH(A238,#REF!,0)),\"\")","v":""}]
[{"$f":"IF(C239=\"\",\"\",SUBTOTAL(3,C$5:C239))","v":""},{"$f":"+IFERROR(INDEX(#REF!,MATCH(A239,#REF!,0)),\"\")","v":""},null,{"$f":"IFERROR(INDEX(#REF!,MATCH(A239,#REF!,0)),\"\")","v":""},{"$f":"IFERROR(INDEX(#REF!,MATCH(A239,#REF!,0)),\"\")","v":""}]
[{"$f":"IF(C240=\"\",\"\",SUBTOTAL(3,C$5:C240))","v":""},{"$f":"+IFERROR(INDEX(#REF!,MATCH(A240,#REF!,0)),\"\")","v":""},null,{"$f":"IFERROR(INDEX(#REF!,MATCH(A240,#REF!,0)),\"\")","v":""},{"$f":"IFERROR(INDEX(#REF!,MATCH(A240,#REF!,0)),\"\")","v":""}]
[{"$f":"IF(C241=\"\",\"\",SUBTOTAL(3,C$5:C241))","v":""},{"$f":"+IFERROR(INDEX(#REF!,MATCH(A241,#REF!,0)),\"\")","v":""},null,{"$f":"IFERROR(INDEX(#REF!,MATCH(A241,#REF!,0)),\"\")","v":""},{"$f":"IFERROR(INDEX(#REF!,MATCH(A241,#REF!,0)),\"\")","v":""}]
[{"$f":"IF(C242=\"\",\"\",SUBTOTAL(3,C$5:C242))","v":""},{"$f":"+IFERROR(INDEX(#REF!,MATCH(A242,#REF!,0)),\"\")","v":""},null,{"$f":"IFERROR(INDEX(#REF!,MATCH(A242,#REF!,0)),\"\")","v":""},{"$f":"IFERROR(INDEX(#REF!,MATCH(A242,#REF!,0)),\"\")","v":""}]
[{"$f":"IF(C243=\"\",\"\",SUBTOTAL(3,C$5:C243))","v":""},{"$f":"+IFERROR(INDEX(#REF!,MATCH(A243,#REF!,0)),\"\")","v":""},null,{"$f":"IFERROR(INDEX(#REF!,MATCH(A243,#REF!,0)),\"\")","v":""},{"$f":"IFERROR(INDEX(#REF!,MATCH(A243,#REF!,0)),\"\")","v":""}]
[{"$f":"IF(C244=\"\",\"\",SUBTOTAL(3,C$5:C244))","v":""},{"$f":"+IFERROR(INDEX(#REF!,MATCH(A244,#REF!,0)),\"\")","v":""},null,{"$f":"IFERROR(INDEX(#REF!,MATCH(A244,#REF!,0)),\"\")","v":""},{"$f":"IFERROR(INDEX(#REF!,MATCH(A244,#REF!,0)),\"\")","v":""}]
[{"$f":"IF(C245=\"\",\"\",SUBTOTAL(3,C$5:C245))","v":""},{"$f":"+IFERROR(INDEX(#REF!,MATCH(A245,#REF!,0)),\"\")","v":""},null,{"$f":"IFERROR(INDEX(#REF!,MATCH(A245,#REF!,0)),\"\")","v":""},{"$f":"IFERROR(INDEX(#REF!,MATCH(A245,#REF!,0)),\"\")","v":""}]
[{"$f":"IF(C246=\"\",\"\",SUBTOTAL(3,C$5:C246))","v":""},{"$f":"+IFERROR(INDEX(#REF!,MATCH(A246,#REF!,0)),\"\")","v":""},null,{"$f":"IFERROR(INDEX(#REF!,MATCH(A246,#REF!,0)),\"\")","v":""},{"$f":"IFERROR(INDEX(#REF!,MATCH(A246,#REF!,0)),\"\")","v":""}]
[{"$f":"IF(C247=\"\",\"\",SUBTOTAL(3,C$5:C247))","v":""},{"$f":"+IFERROR(INDEX(#REF!,MATCH(A247,#REF!,0)),\"\")","v":""},null,{"$f":"IFERROR(INDEX(#REF!,MATCH(A247,#REF!,0)),\"\")","v":""},{"$f":"IFERROR(INDEX(#REF!,MATCH(A247,#REF!,0)),\"\")","v":""}]
[{"$f":"IF(C248=\"\",\"\",SUBTOTAL(3,C$5:C248))","v":""},{"$f":"+IFERROR(INDEX(#REF!,MATCH(A248,#REF!,0)),\"\")","v":""},null,{"$f":"IFERROR(INDEX(#REF!,MATCH(A248,#REF!,0)),\"\")","v":""},{"$f":"IFERROR(INDEX(#REF!,MATCH(A248,#REF!,0)),\"\")","v":""}]
[{"$f":"IF(C249=\"\",\"\",SUBTOTAL(3,C$5:C249))","v":""},{"$f":"+IFERROR(INDEX(#REF!,MATCH(A249,#REF!,0)),\"\")","v":""},null,{"$f":"IFERROR(INDEX(#REF!,MATCH(A249,#REF!,0)),\"\")","v":""},{"$f":"IFERROR(INDEX(#REF!,MATCH(A249,#REF!,0)),\"\")","v":""}]
[{"$f":"IF(C250=\"\",\"\",SUBTOTAL(3,C$5:C250))","v":""},{"$f":"+IFERROR(INDEX(#REF!,MATCH(A250,#REF!,0)),\"\")","v":""},null,{"$f":"IFERROR(INDEX(#REF!,MATCH(A250,#REF!,0)),\"\")","v":""},{"$f":"IFERROR(INDEX(#REF!,MATCH(A250,#REF!,0)),\"\")","v":""}]
[{"$f":"IF(C251=\"\",\"\",SUBTOTAL(3,C$5:C251))","v":""},{"$f":"+IFERROR(INDEX(#REF!,MATCH(A251,#REF!,0)),\"\")","v":""},null,{"$f":"IFERROR(INDEX(#REF!,MATCH(A251,#REF!,0)),\"\")","v":""},{"$f":"IFERROR(INDEX(#REF!,MATCH(A251,#REF!,0)),\"\")","v":""}]
[{"$f":"IF(C252=\"\",\"\",SUBTOTAL(3,C$5:C252))","v":""},{"$f":"+IFERROR(INDEX(#REF!,MATCH(A252,#REF!,0)),\"\")","v":""},null,{"$f":"IFERROR(INDEX(#REF!,MATCH(A252,#REF!,0)),\"\")","v":""},{"$f":"IFERROR(INDEX(#REF!,MATCH(A252,#REF!,0)),\"\")","v":""}]
[{"$f":"IF(C253=\"\",\"\",SUBTOTAL(3,C$5:C253))","v":""},{"$f":"+IFERROR(INDEX(#REF!,MATCH(A253,#REF!,0)),\"\")","v":""},null,{"$f":"IFERROR(INDEX(#REF!,MATCH(A253,#REF!,0)),\"\")","v":""},{"$f":"IFERROR(INDEX(#REF!,MATCH(A253,#REF!,0)),\"\")","v":""}]
[{"$f":"IF(C254=\"\",\"\",SUBTOTAL(3,C$5:C254))","v":""},{"$f":"+IFERROR(INDEX(#REF!,MATCH(A254,#REF!,0)),\"\")","v":""},null,{"$f":"IFERROR(INDEX(#REF!,MATCH(A254,#REF!,0)),\"\")","v":""},{"$f":"IFERROR(INDEX(#REF!,MATCH(A254,#REF!,0)),\"\")","v":""}]
[{"$f":"IF(C255=\"\",\"\",SUBTOTAL(3,C$5:C255))","v":""},{"$f":"+IFERROR(INDEX(#REF!,MATCH(A255,#REF!,0)),\"\")","v":""},null,{"$f":"IFERROR(INDEX(#REF!,MATCH(A255,#REF!,0)),\"\")","v":""},{"$f":"IFERROR(INDEX(#REF!,MATCH(A255,#REF!,0)),\"\")","v":""}]
[{"$f":"IF(C256=\"\",\"\",SUBTOTAL(3,C$5:C256))","v":""},{"$f":"+IFERROR(INDEX(#REF!,MATCH(A256,#REF!,0)),\"\")","v":""},null,{"$f":"IFERROR(INDEX(#REF!,MATCH(A256,#REF!,0)),\"\")","v":""},{"$f":"IFERROR(INDEX(#REF!,MATCH(A256,#REF!,0)),\"\")","v":""}]
[{"$f":"IF(C257=\"\",\"\",SUBTOTAL(3,C$5:C257))","v":""},{"$f":"+IFERROR(INDEX(#REF!,MATCH(A257,#REF!,0)),\"\")","v":""},null,{"$f":"IFERROR(INDEX(#REF!,MATCH(A257,#REF!,0)),\"\")","v":""},{"$f":"IFERROR(INDEX(#REF!,MATCH(A257,#REF!,0)),\"\")","v":""}]
[{"$f":"IF(C258=\"\",\"\",SUBTOTAL(3,C$5:C258))","v":""},{"$f":"+IFERROR(INDEX(#REF!,MATCH(A258,#REF!,0)),\"\")","v":""},null,{"$f":"IFERROR(INDEX(#REF!,MATCH(A258,#REF!,0)),\"\")","v":""},{"$f":"IFERROR(INDEX(#REF!,MATCH(A258,#REF!,0)),\"\")","v":""}]
[{"$f":"IF(C259=\"\",\"\",SUBTOTAL(3,C$5:C259))","v":""},{"$f":"+IFERROR(INDEX(#REF!,MATCH(A259,#REF!,0)),\"\")","v":""},null,{"$f":"IFERROR(INDEX(#REF!,MATCH(A259,#REF!,0)),\"\")","v":""},{"$f":"IFERROR(INDEX(#REF!,MATCH(A259,#REF!,0)),\"\")","v":""}]
[{"$f":"IF(C260=\"\",\"\",SUBTOTAL(3,C$5:C260))","v":""},{"$f":"+IFERROR(INDEX(#REF!,MATCH(A260,#REF!,0)),\"\")","v":""},null,{"$f":"IFERROR(INDEX(#REF!,MATCH(A260,#REF!,0)),\"\")","v":""},{"$f":"IFERROR(INDEX(#REF!,MATCH(A260,#REF!,0)),\"\")","v":""}]
[{"$f":"IF(C261=\"\",\"\",SUBTOTAL(3,C$5:C261))","v":""},{"$f":"+IFERROR(INDEX(#REF!,MATCH(A261,#REF!,0)),\"\")","v":""},null,{"$f":"IFERROR(INDEX(#REF!,MATCH(A261,#REF!,0)),\"\")","v":""},{"$f":"IFERROR(INDEX(#REF!,MATCH(A261,#REF!,0)),\"\")","v":""}]
[{"$f":"IF(C262=\"\",\"\",SUBTOTAL(3,C$5:C262))","v":""},{"$f":"+IFERROR(INDEX(#REF!,MATCH(A262,#REF!,0)),\"\")","v":""},null,{"$f":"IFERROR(INDEX(#REF!,MATCH(A262,#REF!,0)),\"\")","v":""},{"$f":"IFERROR(INDEX(#REF!,MATCH(A262,#REF!,0)),\"\")","v":""}]
[{"$f":"IF(C263=\"\",\"\",SUBTOTAL(3,C$5:C263))","v":""},{"$f":"+IFERROR(INDEX(#REF!,MATCH(A263,#REF!,0)),\"\")","v":""},null,{"$f":"IFERROR(INDEX(#REF!,MATCH(A263,#REF!,0)),\"\")","v":""},{"$f":"IFERROR(INDEX(#REF!,MATCH(A263,#REF!,0)),\"\")","v":""}]
[{"$f":"IF(C264=\"\",\"\",SUBTOTAL(3,C$5:C264))","v":""},{"$f":"+IFERROR(INDEX(#REF!,MATCH(A264,#REF!,0)),\"\")","v":""},null,{"$f":"IFERROR(INDEX(#REF!,MATCH(A264,#REF!,0)),\"\")","v":""},{"$f":"IFERROR(INDEX(#REF!,MATCH(A264,#REF!,0)),\"\")","v":""}]
[{"$f":"IF(C265=\"\",\"\",SUBTOTAL(3,C$5:C265))","v":""},{"$f":"+IFERROR(INDEX(#REF!,MATCH(A265,#REF!,0)),\"\")","v":""},null,{"$f":"IFERROR(INDEX(#REF!,MATCH(A265,#REF!,0)),\"\")","v":""},{"$f":"IFERROR(INDEX(#REF!,MATCH(A265,#REF!,0)),\"\")","v":""}]
[{"$f":"IF(C266=\"\",\"\",SUBTOTAL(3,C$5:C266))","v":""},{"$f":"+IFERROR(INDEX(#REF!,MATCH(A266,#REF!,0)),\"\")","v":""},null,{"$f":"IFERROR(INDEX(#REF!,MATCH(A266,#REF!,0)),\"\")","v":""},{"$f":"IFERROR(INDEX(#REF!,MATCH(A266,#REF!,0)),\"\")","v":""}]
[{"$f":"IF(C267=\"\",\"\",SUBTOTAL(3,C$5:C267))","v":""},{"$f":"+IFERROR(INDEX(#REF!,MATCH(A267,#REF!,0)),\"\")","v":""},null,{"$f":"IFERROR(INDEX(#REF!,MATCH(A267,#REF!,0)),\"\")","v":""},{"$f":"IFERROR(INDEX(#REF!,MATCH(A267,#REF!,0)),\"\")","v":""}]
[{"$f":"IF(C268=\"\",\"\",SUBTOTAL(3,C$5:C268))","v":""},{"$f":"+IFERROR(INDEX(#REF!,MATCH(A268,#REF!,0)),\"\")","v":""},null,{"$f":"IFERROR(INDEX(#REF!,MATCH(A268,#REF!,0)),\"\")","v":""},{"$f":"IFERROR(INDEX(#REF!,MATCH(A268,#REF!,0)),\"\")","v":""}]
[{"$f":"IF(C269=\"\",\"\",SUBTOTAL(3,C$5:C269))","v":""},{"$f":"+IFERROR(INDEX(#REF!,MATCH(A269,#REF!,0)),\"\")","v":""},null,{"$f":"IFERROR(INDEX(#REF!,MATCH(A269,#REF!,0)),\"\")","v":""},{"$f":"IFERROR(INDEX(#REF!,MATCH(A269,#REF!,0)),\"\")","v":""}]
[{"$f":"IF(C270=\"\",\"\",SUBTOTAL(3,C$5:C270))","v":""},{"$f":"+IFERROR(INDEX(#REF!,MATCH(A270,#REF!,0)),\"\")","v":""},null,{"$f":"IFERROR(INDEX(#REF!,MATCH(A270,#REF!,0)),\"\")","v":""},{"$f":"IFERROR(INDEX(#REF!,MATCH(A270,#REF!,0)),\"\")","v":""}]
[{"$f":"IF(C271=\"\",\"\",SUBTOTAL(3,C$5:C271))","v":""},{"$f":"+IFERROR(INDEX(#REF!,MATCH(A271,#REF!,0)),\"\")","v":""},null,{"$f":"IFERROR(INDEX(#REF!,MATCH(A271,#REF!,0)),\"\")","v":""},{"$f":"IFERROR(INDEX(#REF!,MATCH(A271,#REF!,0)),\"\")","v":""}]
[{"$f":"IF(C272=\"\",\"\",SUBTOTAL(3,C$5:C272))","v":""},{"$f":"+IFERROR(INDEX(#REF!,MATCH(A272,#REF!,0)),\"\")","v":""},null,{"$f":"IFERROR(INDEX(#REF!,MATCH(A272,#REF!,0)),\"\")","v":""},{"$f":"IFERROR(INDEX(#REF!,MATCH(A272,#REF!,0)),\"\")","v":""}]
[{"$f":"IF(C273=\"\",\"\",SUBTOTAL(3,C$5:C273))","v":""},{"$f":"+IFERROR(INDEX(#REF!,MATCH(A273,#REF!,0)),\"\")","v":""},null,{"$f":"IFERROR(INDEX(#REF!,MATCH(A273,#REF!,0)),\"\")","v":""},{"$f":"IFERROR(INDEX(#REF!,MATCH(A273,#REF!,0)),\"\")","v":""}]
[{"$f":"IF(C274=\"\",\"\",SUBTOTAL(3,C$5:C274))","v":""},{"$f":"+IFERROR(INDEX(#REF!,MATCH(A274,#REF!,0)),\"\")","v":""},null,{"$f":"IFERROR(INDEX(#REF!,MATCH(A274,#REF!,0)),\"\")","v":""},{"$f":"IFERROR(INDEX(#REF!,MATCH(A274,#REF!,0)),\"\")","v":""}]
[{"$f":"IF(C275=\"\",\"\",SUBTOTAL(3,C$5:C275))","v":""},{"$f":"+IFERROR(INDEX(#REF!,MATCH(A275,#REF!,0)),\"\")","v":""},null,{"$f":"IFERROR(INDEX(#REF!,MATCH(A275,#REF!,0)),\"\")","v":""},{"$f":"IFERROR(INDEX(#REF!,MATCH(A275,#REF!,0)),\"\")","v":""}]
[{"$f":"IF(C276=\"\",\"\",SUBTOTAL(3,C$5:C276))","v":""},{"$f":"+IFERROR(INDEX(#REF!,MATCH(A276,#REF!,0)),\"\")","v":""},null,{"$f":"IFERROR(INDEX(#REF!,MATCH(A276,#REF!,0)),\"\")","v":""},{"$f":"IFERROR(INDEX(#REF!,MATCH(A276,#REF!,0)),\"\")","v":""}]
[{"$f":"IF(C277=\"\",\"\",SUBTOTAL(3,C$5:C277))","v":""},{"$f":"+IFERROR(INDEX(#REF!,MATCH(A277,#REF!,0)),\"\")","v":""},null,{"$f":"IFERROR(INDEX(#REF!,MATCH(A277,#REF!,0)),\"\")","v":""},{"$f":"IFERROR(INDEX(#REF!,MATCH(A277,#REF!,0)),\"\")","v":""}]
[{"$f":"IF(C278=\"\",\"\",SUBTOTAL(3,C$5:C278))","v":""},{"$f":"+IFERROR(INDEX(#REF!,MATCH(A278,#REF!,0)),\"\")","v":""},null,{"$f":"IFERROR(INDEX(#REF!,MATCH(A278,#REF!,0)),\"\")","v":""},{"$f":"IFERROR(INDEX(#REF!,MATCH(A278,#REF!,0)),\"\")","v":""}]
[{"$f":"IF(C279=\"\",\"\",SUBTOTAL(3,C$5:C279))","v":""},{"$f":"+IFERROR(INDEX(#REF!,MATCH(A279,#REF!,0)),\"\")","v":""},null,{"$f":"IFERROR(INDEX(#REF!,MATCH(A279,#REF!,0)),\"\")","v":""},{"$f":"IFERROR(INDEX(#REF!,MATCH(A279,#REF!,0)),\"\")","v":""}]
[{"$f":"IF(C280=\"\",\"\",SUBTOTAL(3,C$5:C280))","v":""},{"$f":"+IFERROR(INDEX(#REF!,MATCH(A280,#REF!,0)),\"\")","v":""},null,{"$f":"IFERROR(INDEX(#REF!,MATCH(A280,#REF!,0)),\"\")","v":""},{"$f":"IFERROR(INDEX(#REF!,MATCH(A280,#REF!,0)),\"\")","v":""}]
[{"$f":"IF(C281=\"\",\"\",SUBTOTAL(3,C$5:C281))","v":""},{"$f":"+IFERROR(INDEX(#REF!,MATCH(A281,#REF!,0)),\"\")","v":""},null,{"$f":"IFERROR(INDEX(#REF!,MATCH(A281,#REF!,0)),\"\")","v":""},{"$f":"IFERROR(INDEX(#REF!,MATCH(A281,#REF!,0)),\"\")","v":""}]
[{"$f":"IF(C282=\"\",\"\",SUBTOTAL(3,C$5:C282))","v":""},{"$f":"+IFERROR(INDEX(#REF!,MATCH(A282,#REF!,0)),\"\")","v":""},null,{"$f":"IFERROR(INDEX(#REF!,MATCH(A282,#REF!,0)),\"\")","v":""},{"$f":"IFERROR(INDEX(#REF!,MATCH(A282,#REF!,0)),\"\")","v":""}]
[{"$f":"IF(C283=\"\",\"\",SUBTOTAL(3,C$5:C283))","v":""},{"$f":"+IFERROR(INDEX(#REF!,MATCH(A283,#REF!,0)),\"\")","v":""},null,{"$f":"IFERROR(INDEX(#REF!,MATCH(A283,#REF!,0)),\"\")","v":""},{"$f":"IFERROR(INDEX(#REF!,MATCH(A283,#REF!,0)),\"\")","v":""}]
[{"$f":"IF(C284=\"\",\"\",SUBTOTAL(3,C$5:C284))","v":""},{"$f":"+IFERROR(INDEX(#REF!,MATCH(A284,#REF!,0)),\"\")","v":""},null,{"$f":"IFERROR(INDEX(#REF!,MATCH(A284,#REF!,0)),\"\")","v":""},{"$f":"IFERROR(INDEX(#REF!,MATCH(A284,#REF!,0)),\"\")","v":""}]
[{"$f":"IF(C285=\"\",\"\",SUBTOTAL(3,C$5:C285))","v":""},{"$f":"+IFERROR(INDEX(#REF!,MATCH(A285,#REF!,0)),\"\")","v":""},null,{"$f":"IFERROR(INDEX(#REF!,MATCH(A285,#REF!,0)),\"\")","v":""},{"$f":"IFERROR(INDEX(#REF!,MATCH(A285,#REF!,0)),\"\")","v":""}]
[{"$f":"IF(C286=\"\",\"\",SUBTOTAL(3,C$5:C286))","v":""},{"$f":"+IFERROR(INDEX(#REF!,MATCH(A286,#REF!,0)),\"\")","v":""},null,{"$f":"IFERROR(INDEX(#REF!,MATCH(A286,#REF!,0)),\"\")","v":""},{"$f":"IFERROR(INDEX(#REF!,MATCH(A286,#REF!,0)),\"\")","v":""}]
[{"$f":"IF(C287=\"\",\"\",SUBTOTAL(3,C$5:C287))","v":""},{"$f":"+IFERROR(INDEX(#REF!,MATCH(A287,#REF!,0)),\"\")","v":""},null,{"$f":"IFERROR(INDEX(#REF!,MATCH(A287,#REF!,0)),\"\")","v":""},{"$f":"IFERROR(INDEX(#REF!,MATCH(A287,#REF!,0)),\"\")","v":""}]
[{"$f":"IF(C288=\"\",\"\",SUBTOTAL(3,C$5:C288))","v":""},{"$f":"+IFERROR(INDEX(#REF!,MATCH(A288,#REF!,0)),\"\")","v":""},null,{"$f":"IFERROR(INDEX(#REF!,MATCH(A288,#REF!,0)),\"\")","v":""},{"$f":"IFERROR(INDEX(#REF!,MATCH(A288,#REF!,0)),\"\")","v":""}]
[{"$f":"IF(C289=\"\",\"\",SUBTOTAL(3,C$5:C289))","v":""},{"$f":"+IFERROR(INDEX(#REF!,MATCH(A289,#REF!,0)),\"\")","v":""},null,{"$f":"IFERROR(INDEX(#REF!,MATCH(A289,#REF!,0)),\"\")","v":""},{"$f":"IFERROR(INDEX(#REF!,MATCH(A289,#REF!,0)),\"\")","v":""}]
[{"$f":"IF(C290=\"\",\"\",SUBTOTAL(3,C$5:C290))","v":""},{"$f":"+IFERROR(INDEX(#REF!,MATCH(A290,#REF!,0)),\"\")","v":""},null,{"$f":"IFERROR(INDEX(#REF!,MATCH(A290,#REF!,0)),\"\")","v":""},{"$f":"IFERROR(INDEX(#REF!,MATCH(A290,#REF!,0)),\"\")","v":""}]
[{"$f":"IF(C291=\"\",\"\",SUBTOTAL(3,C$5:C291))","v":""},{"$f":"+IFERROR(INDEX(#REF!,MATCH(A291,#REF!,0)),\"\")","v":""},null,{"$f":"IFERROR(INDEX(#REF!,MATCH(A291,#REF!,0)),\"\")","v":""},{"$f":"IFERROR(INDEX(#REF!,MATCH(A291,#REF!,0)),\"\")","v":""}]
[{"$f":"IF(C292=\"\",\"\",SUBTOTAL(3,C$5:C292))","v":""},{"$f":"+IFERROR(INDEX(#REF!,MATCH(A292,#REF!,0)),\"\")","v":""},null,{"$f":"IFERROR(INDEX(#REF!,MATCH(A292,#REF!,0)),\"\")","v":""},{"$f":"IFERROR(INDEX(#REF!,MATCH(A292,#REF!,0)),\"\")","v":""}]
[{"$f":"IF(C293=\"\",\"\",SUBTOTAL(3,C$5:C293))","v":""},{"$f":"+IFERROR(INDEX(#REF!,MATCH(A293,#REF!,0)),\"\")","v":""},null,{"$f":"IFERROR(INDEX(#REF!,MATCH(A293,#REF!,0)),\"\")","v":""},{"$f":"IFERROR(INDEX(#REF!,MATCH(A293,#REF!,0)),\"\")","v":""}]
[{"$f":"IF(C294=\"\",\"\",SUBTOTAL(3,C$5:C294))","v":""},{"$f":"+IFERROR(INDEX(#REF!,MATCH(A294,#REF!,0)),\"\")","v":""},null,{"$f":"IFERROR(INDEX(#REF!,MATCH(A294,#REF!,0)),\"\")","v":""},{"$f":"IFERROR(INDEX(#REF!,MATCH(A294,#REF!,0)),\"\")","v":""}]
[{"$f":"IF(C295=\"\",\"\",SUBTOTAL(3,C$5:C295))","v":""},{"$f":"+IFERROR(INDEX(#REF!,MATCH(A295,#REF!,0)),\"\")","v":""},null,{"$f":"IFERROR(INDEX(#REF!,MATCH(A295,#REF!,0)),\"\")","v":""},{"$f":"IFERROR(INDEX(#REF!,MATCH(A295,#REF!,0)),\"\")","v":""}]
[{"$f":"IF(C296=\"\",\"\",SUBTOTAL(3,C$5:C296))","v":""},{"$f":"+IFERROR(INDEX(#REF!,MATCH(A296,#REF!,0)),\"\")","v":""},null,{"$f":"IFERROR(INDEX(#REF!,MATCH(A296,#REF!,0)),\"\")","v":""},{"$f":"IFERROR(INDEX(#REF!,MATCH(A296,#REF!,0)),\"\")","v":""}]
[{"$f":"IF(C297=\"\",\"\",SUBTOTAL(3,C$5:C297))","v":""},{"$f":"+IFERROR(INDEX(#REF!,MATCH(A297,#REF!,0)),\"\")","v":""},null,{"$f":"IFERROR(INDEX(#REF!,MATCH(A297,#REF!,0)),\"\")","v":""},{"$f":"IFERROR(INDEX(#REF!,MATCH(A297,#REF!,0)),\"\")","v":""}]
[{"$f":"IF(C298=\"\",\"\",SUBTOTAL(3,C$5:C298))","v":""},{"$f":"+IFERROR(INDEX(#REF!,MATCH(A298,#REF!,0)),\"\")","v":""},null,{"$f":"IFERROR(INDEX(#REF!,MATCH(A298,#REF!,0)),\"\")","v":""},{"$f":"IFERROR(INDEX(#REF!,MATCH(A298,#REF!,0)),\"\")","v":""}]
[{"$f":"IF(C299=\"\",\"\",SUBTOTAL(3,C$5:C299))","v":""},{"$f":"+IFERROR(INDEX(#REF!,MATCH(A299,#REF!,0)),\"\")","v":""},null,{"$f":"IFERROR(INDEX(#REF!,MATCH(A299,#REF!,0)),\"\")","v":""},{"$f":"IFERROR(INDEX(#REF!,MATCH(A299,#REF!,0)),\"\")","v":""}]
[{"$f":"IF(C300=\"\",\"\",SUBTOTAL(3,C$5:C300))","v":""},{"$f":"+IFERROR(INDEX(#REF!,MATCH(A300,#REF!,0)),\"\")","v":""},null,{"$f":"IFERROR(INDEX(#REF!,MATCH(A300,#REF!,0)),\"\")","v":""},{"$f":"IFERROR(INDEX(#REF!,MATCH(A300,#REF!,0)),\"\")","v":""}]
[{"$f":"IF(C301=\"\",\"\",SUBTOTAL(3,C$5:C301))","v":""},{"$f":"+IFERROR(INDEX(#REF!,MATCH(A301,#REF!,0)),\"\")","v":""},null,{"$f":"IFERROR(INDEX(#REF!,MATCH(A301,#REF!,0)),\"\")","v":""},{"$f":"IFERROR(INDEX(#REF!,MATCH(A301,#REF!,0)),\"\")","v":""}]
[{"$f":"IF(C302=\"\",\"\",SUBTOTAL(3,C$5:C302))","v":""},{"$f":"+IFERROR(INDEX(#REF!,MATCH(A302,#REF!,0)),\"\")","v":""},null,{"$f":"IFERROR(INDEX(#REF!,MATCH(A302,#REF!,0)),\"\")","v":""},{"$f":"IFERROR(INDEX(#REF!,MATCH(A302,#REF!,0)),\"\")","v":""}]
[{"$f":"IF(C303=\"\",\"\",SUBTOTAL(3,C$5:C303))","v":""},{"$f":"+IFERROR(INDEX(#REF!,MATCH(A303,#REF!,0)),\"\")","v":""},null,{"$f":"IFERROR(INDEX(#REF!,MATCH(A303,#REF!,0)),\"\")","v":""},{"$f":"IFERROR(INDEX(#REF!,MATCH(A303,#REF!,0)),\"\")","v":""}]
[{"$f":"IF(C304=\"\",\"\",SUBTOTAL(3,C$5:C304))","v":""},{"$f":"+IFERROR(INDEX(#REF!,MATCH(A304,#REF!,0)),\"\")","v":""},null,{"$f":"IFERROR(INDEX(#REF!,MATCH(A304,#REF!,0)),\"\")","v":""},{"$f":"IFERROR(INDEX(#REF!,MATCH(A304,#REF!,0)),\"\")","v":""}]
[{"$f":"IF(C305=\"\",\"\",SUBTOTAL(3,C$5:C305))","v":""},{"$f":"+IFERROR(INDEX(#REF!,MATCH(A305,#REF!,0)),\"\")","v":""},null,{"$f":"IFERROR(INDEX(#REF!,MATCH(A305,#REF!,0)),\"\")","v":""},{"$f":"IFERROR(INDEX(#REF!,MATCH(A305,#REF!,0)),\"\")","v":""}]
[{"$f":"IF(C306=\"\",\"\",SUBTOTAL(3,C$5:C306))","v":""},{"$f":"+IFERROR(INDEX(#REF!,MATCH(A306,#REF!,0)),\"\")","v":""},null,{"$f":"IFERROR(INDEX(#REF!,MATCH(A306,#REF!,0)),\"\")","v":""},{"$f":"IFERROR(INDEX(#REF!,MATCH(A306,#REF!,0)),\"\")","v":""}]
[{"$f":"IF(C307=\"\",\"\",SUBTOTAL(3,C$5:C307))","v":""},{"$f":"+IFERROR(INDEX(#REF!,MATCH(A307,#REF!,0)),\"\")","v":""},null,{"$f":"IFERROR(INDEX(#REF!,MATCH(A307,#REF!,0)),\"\")","v":""},{"$f":"IFERROR(INDEX(#REF!,MATCH(A307,#REF!,0)),\"\")","v":""}]
[{"$f":"IF(C308=\"\",\"\",SUBTOTAL(3,C$5:C308))","v":""},{"$f":"+IFERROR(INDEX(#REF!,MATCH(A308,#REF!,0)),\"\")","v":""},null,{"$f":"IFERROR(INDEX(#REF!,MATCH(A308,#REF!,0)),\"\")","v":""},{"$f":"IFERROR(INDEX(#REF!,MATCH(A308,#REF!,0)),\"\")","v":""}]
[{"$f":"IF(C309=\"\",\"\",SUBTOTAL(3,C$5:C309))","v":""},{"$f":"+IFERROR(INDEX(#REF!,MATCH(A309,#REF!,0)),\"\")","v":""},null,{"$f":"IFERROR(INDEX(#REF!,MATCH(A309,#REF!,0)),\"\")","v":""},{"$f":"IFERROR(INDEX(#REF!,MATCH(A309,#REF!,0)),\"\")","v":""}]
[{"$f":"IF(C310=\"\",\"\",SUBTOTAL(3,C$5:C310))","v":""},{"$f":"+IFERROR(INDEX(#REF!,MATCH(A310,#REF!,0)),\"\")","v":""},null,{"$f":"IFERROR(INDEX(#REF!,MATCH(A310,#REF!,0)),\"\")","v":""},{"$f":"IFERROR(INDEX(#REF!,MATCH(A310,#REF!,0)),\"\")","v":""}]
[{"$f":"IF(C311=\"\",\"\",SUBTOTAL(3,C$5:C311))","v":""},{"$f":"+IFERROR(INDEX(#REF!,MATCH(A311,#REF!,0)),\"\")","v":""},null,{"$f":"IFERROR(INDEX(#REF!,MATCH(A311,#REF!,0)),\"\")","v":""},{"$f":"IFERROR(INDEX(#REF!,MATCH(A311,#REF!,0)),\"\")","v":""}]
[{"$f":"IF(C312=\"\",\"\",SUBTOTAL(3,C$5:C312))","v":""},{"$f":"+IFERROR(INDEX(#REF!,MATCH(A312,#REF!,0)),\"\")","v":""},null,{"$f":"IFERROR(INDEX(#REF!,MATCH(A312,#REF!,0)),\"\")","v":""},{"$f":"IFERROR(INDEX(#REF!,MATCH(A312,#REF!,0)),\"\")","v":""}]
[{"$f":"IF(C313=\"\",\"\",SUBTOTAL(3,C$5:C313))","v":""},{"$f":"+IFERROR(INDEX(#REF!,MATCH(A313,#REF!,0)),\"\")","v":""},null,{"$f":"IFERROR(INDEX(#REF!,MATCH(A313,#REF!,0)),\"\")","v":""},{"$f":"IFERROR(INDEX(#REF!,MATCH(A313,#REF!,0)),\"\")","v":""}]
[{"$f":"IF(C314=\"\",\"\",SUBTOTAL(3,C$5:C314))","v":""},{"$f":"+IFERROR(INDEX(#REF!,MATCH(A314,#REF!,0)),\"\")","v":""},null,{"$f":"IFERROR(INDEX(#REF!,MATCH(A314,#REF!,0)),\"\")","v":""},{"$f":"IFERROR(INDEX(#REF!,MATCH(A314,#REF!,0)),\"\")","v":""}]
[{"$f":"IF(C315=\"\",\"\",SUBTOTAL(3,C$5:C315))","v":""},{"$f":"+IFERROR(INDEX(#REF!,MATCH(A315,#REF!,0)),\"\")","v":""},null,{"$f":"IFERROR(INDEX(#REF!,MATCH(A315,#REF!,0)),\"\")","v":""},{"$f":"IFERROR(INDEX(#REF!,MATCH(A315,#REF!,0)),\"\")","v":""}]
[{"$f":"IF(C316=\"\",\"\",SUBTOTAL(3,C$5:C316))","v":""},{"$f":"+IFERROR(INDEX(#REF!,MATCH(A316,#REF!,0)),\"\")","v":""},null,{"$f":"IFERROR(INDEX(#REF!,MATCH(A316,#REF!,0)),\"\")","v":""},{"$f":"IFERROR(INDEX(#REF!,MATCH(A316,#REF!,0)),\"\")","v":""}]
[{"$f":"IF(C317=\"\",\"\",SUBTOTAL(3,C$5:C317))","v":""},{"$f":"+IFERROR(INDEX(#REF!,MATCH(A317,#REF!,0)),\"\")","v":""},null,{"$f":"IFERROR(INDEX(#REF!,MATCH(A317,#REF!,0)),\"\")","v":""},{"$f":"IFERROR(INDEX(#REF!,MATCH(A317,#REF!,0)),\"\")","v":""}]
[{"$f":"IF(C318=\"\",\"\",SUBTOTAL(3,C$5:C318))","v":""},{"$f":"+IFERROR(INDEX(#REF!,MATCH(A318,#REF!,0)),\"\")","v":""},null,{"$f":"IFERROR(INDEX(#REF!,MATCH(A318,#REF!,0)),\"\")","v":""},{"$f":"IFERROR(INDEX(#REF!,MATCH(A318,#REF!,0)),\"\")","v":""}]
[{"$f":"IF(C319=\"\",\"\",SUBTOTAL(3,C$5:C319))","v":""},{"$f":"+IFERROR(INDEX(#REF!,MATCH(A319,#REF!,0)),\"\")","v":""},null,{"$f":"IFERROR(INDEX(#REF!,MATCH(A319,#REF!,0)),\"\")","v":""},{"$f":"IFERROR(INDEX(#REF!,MATCH(A319,#REF!,0)),\"\")","v":""}]
[{"$f":"IF(C320=\"\",\"\",SUBTOTAL(3,C$5:C320))","v":""},{"$f":"+IFERROR(INDEX(#REF!,MATCH(A320,#REF!,0)),\"\")","v":""},null,{"$f":"IFERROR(INDEX(#REF!,MATCH(A320,#REF!,0)),\"\")","v":""},{"$f":"IFERROR(INDEX(#REF!,MATCH(A320,#REF!,0)),\"\")","v":""}]
[{"$f":"IF(C321=\"\",\"\",SUBTOTAL(3,C$5:C321))","v":""},{"$f":"+IFERROR(INDEX(#REF!,MATCH(A321,#REF!,0)),\"\")","v":""},null,{"$f":"IFERROR(INDEX(#REF!,MATCH(A321,#REF!,0)),\"\")","v":""},{"$f":"IFERROR(INDEX(#REF!,MATCH(A321,#REF!,0)),\"\")","v":""}]
[{"$f":"IF(C322=\"\",\"\",SUBTOTAL(3,C$5:C322))","v":""},{"$f":"+IFERROR(INDEX(#REF!,MATCH(A322,#REF!,0)),\"\")","v":""},null,{"$f":"IFERROR(INDEX(#REF!,MATCH(A322,#REF!,0)),\"\")","v":""},{"$f":"IFERROR(INDEX(#REF!,MATCH(A322,#REF!,0)),\"\")","v":""}]
[{"$f":"IF(C323=\"\",\"\",SUBTOTAL(3,C$5:C323))","v":""},{"$f":"+IFERROR(INDEX(#REF!,MATCH(A323,#REF!,0)),\"\")","v":""},null,{"$f":"IFERROR(INDEX(#REF!,MATCH(A323,#REF!,0)),\"\")","v":""},{"$f":"IFERROR(INDEX(#REF!,MATCH(A323,#REF!,0)),\"\")","v":""}]
[{"$f":"IF(C324=\"\",\"\",SUBTOTAL(3,C$5:C324))","v":""},{"$f":"+IFERROR(INDEX(#REF!,MATCH(A324,#REF!,0)),\"\")","v":""},null,{"$f":"IFERROR(INDEX(#REF!,MATCH(A324,#REF!,0)),\"\")","v":""},{"$f":"IFERROR(INDEX(#REF!,MATCH(A324,#REF!,0)),\"\")","v":""}]
[{"$f":"IF(C325=\"\",\"\",SUBTOTAL(3,C$5:C325))","v":""},{"$f":"+IFERROR(INDEX(#REF!,MATCH(A325,#REF!,0)),\"\")","v":""},null,{"$f":"IFERROR(INDEX(#REF!,MATCH(A325,#REF!,0)),\"\")","v":""},{"$f":"IFERROR(INDEX(#REF!,MATCH(A325,#REF!,0)),\"\")","v":""}]
[{"$f":"IF(C326=\"\",\"\",SUBTOTAL(3,C$5:C326))","v":""},{"$f":"+IFERROR(INDEX(#REF!,MATCH(A326,#REF!,0)),\"\")","v":""},null,{"$f":"IFERROR(INDEX(#REF!,MATCH(A326,#REF!,0)),\"\")","v":""},{"$f":"IFERROR(INDEX(#REF!,MATCH(A326,#REF!,0)),\"\")","v":""}]
[{"$f":"IF(C327=\"\",\"\",SUBTOTAL(3,C$5:C327))","v":""},{"$f":"+IFERROR(INDEX(#REF!,MATCH(A327,#REF!,0)),\"\")","v":""},null,{"$f":"IFERROR(INDEX(#REF!,MATCH(A327,#REF!,0)),\"\")","v":""},{"$f":"IFERROR(INDEX(#REF!,MATCH(A327,#REF!,0)),\"\")","v":""}]
[{"$f":"IF(C328=\"\",\"\",SUBTOTAL(3,C$5:C328))","v":""},{"$f":"+IFERROR(INDEX(#REF!,MATCH(A328,#REF!,0)),\"\")","v":""},null,{"$f":"IFERROR(INDEX(#REF!,MATCH(A328,#REF!,0)),\"\")","v":""},{"$f":"IFERROR(INDEX(#REF!,MATCH(A328,#REF!,0)),\"\")","v":""}]
[{"$f":"IF(C329=\"\",\"\",SUBTOTAL(3,C$5:C329))","v":""},{"$f":"+IFERROR(INDEX(#REF!,MATCH(A329,#REF!,0)),\"\")","v":""},null,{"$f":"IFERROR(INDEX(#REF!,MATCH(A329,#REF!,0)),\"\")","v":""},{"$f":"IFERROR(INDEX(#REF!,MATCH(A329,#REF!,0)),\"\")","v":""}]
[{"$f":"IF(C330=\"\",\"\",SUBTOTAL(3,C$5:C330))","v":""},{"$f":"+IFERROR(INDEX(#REF!,MATCH(A330,#REF!,0)),\"\")","v":""},null,{"$f":"IFERROR(INDEX(#REF!,MATCH(A330,#REF!,0)),\"\")","v":""},{"$f":"IFERROR(INDEX(#REF!,MATCH(A330,#REF!,0)),\"\")","v":""}]
[{"$f":"IF(C331=\"\",\"\",SUBTOTAL(3,C$5:C331))","v":""},{"$f":"+IFERROR(INDEX(#REF!,MATCH(A331,#REF!,0)),\"\")","v":""},null,{"$f":"IFERROR(INDEX(#REF!,MATCH(A331,#REF!,0)),\"\")","v":""},{"$f":"IFERROR(INDEX(#REF!,MATCH(A331,#REF!,0)),\"\")","v":""}]
[{"$f":"IF(C332=\"\",\"\",SUBTOTAL(3,C$5:C332))","v":""},{"$f":"+IFERROR(INDEX(#REF!,MATCH(A332,#REF!,0)),\"\")","v":""},null,{"$f":"IFERROR(INDEX(#REF!,MATCH(A332,#REF!,0)),\"\")","v":""},{"$f":"IFERROR(INDEX(#REF!,MATCH(A332,#REF!,0)),\"\")","v":""}]
[{"$f":"IF(C333=\"\",\"\",SUBTOTAL(3,C$5:C333))","v":""},{"$f":"+IFERROR(INDEX(#REF!,MATCH(A333,#REF!,0)),\"\")","v":""},null,{"$f":"IFERROR(INDEX(#REF!,MATCH(A333,#REF!,0)),\"\")","v":""},{"$f":"IFERROR(INDEX(#REF!,MATCH(A333,#REF!,0)),\"\")","v":""}]
[{"$f":"IF(C334=\"\",\"\",SUBTOTAL(3,C$5:C334))","v":""},{"$f":"+IFERROR(INDEX(#REF!,MATCH(A334,#REF!,0)),\"\")","v":""},null,{"$f":"IFERROR(INDEX(#REF!,MATCH(A334,#REF!,0)),\"\")","v":""},{"$f":"IFERROR(INDEX(#REF!,MATCH(A334,#REF!,0)),\"\")","v":""}]
[{"$f":"IF(C335=\"\",\"\",SUBTOTAL(3,C$5:C335))","v":""},{"$f":"+IFERROR(INDEX(#REF!,MATCH(A335,#REF!,0)),\"\")","v":""},null,{"$f":"IFERROR(INDEX(#REF!,MATCH(A335,#REF!,0)),\"\")","v":""},{"$f":"IFERROR(INDEX(#REF!,MATCH(A335,#REF!,0)),\"\")","v":""}]
[{"$f":"IF(C336=\"\",\"\",SUBTOTAL(3,C$5:C336))","v":""},{"$f":"+IFERROR(INDEX(#REF!,MATCH(A336,#REF!,0)),\"\")","v":""},null,{"$f":"IFERROR(INDEX(#REF!,MATCH(A336,#REF!,0)),\"\")","v":""},{"$f":"IFERROR(INDEX(#REF!,MATCH(A336,#REF!,0)),\"\")","v":""}]
[{"$f":"IF(C337=\"\",\"\",SUBTOTAL(3,C$5:C337))","v":""},{"$f":"+IFERROR(INDEX(#REF!,MATCH(A337,#REF!,0)),\"\")","v":""},null,{"$f":"IFERROR(INDEX(#REF!,MATCH(A337,#REF!,0)),\"\")","v":""},{"$f":"IFERROR(INDEX(#REF!,MATCH(A337,#REF!,0)),\"\")","v":""}]
[{"$f":"IF(C338=\"\",\"\",SUBTOTAL(3,C$5:C338))","v":""},{"$f":"+IFERROR(INDEX(#REF!,MATCH(A338,#REF!,0)),\"\")","v":""},null,{"$f":"IFERROR(INDEX(#REF!,MATCH(A338,#REF!,0)),\"\")","v":""},{"$f":"IFERROR(INDEX(#REF!,MATCH(A338,#REF!,0)),\"\")","v":""}]
[{"$f":"IF(C339=\"\",\"\",SUBTOTAL(3,C$5:C339))","v":""},{"$f":"+IFERROR(INDEX(#REF!,MATCH(A339,#REF!,0)),\"\")","v":""},null,{"$f":"IFERROR(INDEX(#REF!,MATCH(A339,#REF!,0)),\"\")","v":""},{"$f":"IFERROR(INDEX(#REF!,MATCH(A339,#REF!,0)),\"\")","v":""}]
[{"$f":"IF(C340=\"\",\"\",SUBTOTAL(3,C$5:C340))","v":""},{"$f":"+IFERROR(INDEX(#REF!,MATCH(A340,#REF!,0)),\"\")","v":""},null,{"$f":"IFERROR(INDEX(#REF!,MATCH(A340,#REF!,0)),\"\")","v":""},{"$f":"IFERROR(INDEX(#REF!,MATCH(A340,#REF!,0)),\"\")","v":""}]
[{"$f":"IF(C341=\"\",\"\",SUBTOTAL(3,C$5:C341))","v":""},{"$f":"+IFERROR(INDEX(#REF!,MATCH(A341,#REF!,0)),\"\")","v":""},null,{"$f":"IFERROR(INDEX(#REF!,MATCH(A341,#REF!,0)),\"\")","v":""},{"$f":"IFERROR(INDEX(#REF!,MATCH(A341,#REF!,0)),\"\")","v":""}]
[{"$f":"IF(C342=\"\",\"\",SUBTOTAL(3,C$5:C342))","v":""},{"$f":"+IFERROR(INDEX(#REF!,MATCH(A342,#REF!,0)),\"\")","v":""},null,{"$f":"IFERROR(INDEX(#REF!,MATCH(A342,#REF!,0)),\"\")","v":""},{"$f":"IFERROR(INDEX(#REF!,MATCH(A342,#REF!,0)),\"\")","v":""}]
[{"$f":"IF(C343=\"\",\"\",SUBTOTAL(3,C$5:C343))","v":""},{"$f":"+IFERROR(INDEX(#REF!,MATCH(A343,#REF!,0)),\"\")","v":""},null,{"$f":"IFERROR(INDEX(#REF!,MATCH(A343,#REF!,0)),\"\")","v":""},{"$f":"IFERROR(INDEX(#REF!,MATCH(A343,#REF!,0)),\"\")","v":""}]
[{"$f":"IF(C344=\"\",\"\",SUBTOTAL(3,C$5:C344))","v":""},{"$f":"+IFERROR(INDEX(#REF!,MATCH(A344,#REF!,0)),\"\")","v":""},null,{"$f":"IFERROR(INDEX(#REF!,MATCH(A344,#REF!,0)),\"\")","v":""},{"$f":"IFERROR(INDEX(#REF!,MATCH(A344,#REF!,0)),\"\")","v":""}]
[{"$f":"IF(C345=\"\",\"\",SUBTOTAL(3,C$5:C345))","v":""},{"$f":"+IFERROR(INDEX(#REF!,MATCH(A345,#REF!,0)),\"\")","v":""},null,{"$f":"IFERROR(INDEX(#REF!,MATCH(A345,#REF!,0)),\"\")","v":""},{"$f":"IFERROR(INDEX(#REF!,MATCH(A345,#REF!,0)),\"\")","v":""}]
[{"$f":"IF(C346=\"\",\"\",SUBTOTAL(3,C$5:C346))","v":""},{"$f":"+IFERROR(INDEX(#REF!,MATCH(A346,#REF!,0)),\"\")","v":""},null,{"$f":"IFERROR(INDEX(#REF!,MATCH(A346,#REF!,0)),\"\")","v":""},{"$f":"IFERROR(INDEX(#REF!,MATCH(A346,#REF!,0)),\"\")","v":""}]
[{"$f":"IF(C347=\"\",\"\",SUBTOTAL(3,C$5:C347))","v":""},{"$f":"+IFERROR(INDEX(#REF!,MATCH(A347,#REF!,0)),\"\")","v":""},null,{"$f":"IFERROR(INDEX(#REF!,MATCH(A347,#REF!,0)),\"\")","v":""},{"$f":"IFERROR(INDEX(#REF!,MATCH(A347,#REF!,0)),\"\")","v":""}]
[{"$f":"IF(C348=\"\",\"\",SUBTOTAL(3,C$5:C348))","v":""},{"$f":"+IFERROR(INDEX(#REF!,MATCH(A348,#REF!,0)),\"\")","v":""},null,{"$f":"IFERROR(INDEX(#REF!,MATCH(A348,#REF!,0)),\"\")","v":""},{"$f":"IFERROR(INDEX(#REF!,MATCH(A348,#REF!,0)),\"\")","v":""}]
[{"$f":"IF(C349=\"\",\"\",SUBTOTAL(3,C$5:C349))","v":""},{"$f":"+IFERROR(INDEX(#REF!,MATCH(A349,#REF!,0)),\"\")","v":""},null,{"$f":"IFERROR(INDEX(#REF!,MATCH(A349,#REF!,0)),\"\")","v":""},{"$f":"IFERROR(INDEX(#REF!,MATCH(A349,#REF!,0)),\"\")","v":""}]
[{"$f":"IF(C350=\"\",\"\",SUBTOTAL(3,C$5:C350))","v":""},{"$f":"+IFERROR(INDEX(#REF!,MATCH(A350,#REF!,0)),\"\")","v":""},null,{"$f":"IFERROR(INDEX(#REF!,MATCH(A350,#REF!,0)),\"\")","v":""},{"$f":"IFERROR(INDEX(#REF!,MATCH(A350,#REF!,0)),\"\")","v":""}]
[{"$f":"IF(C351=\"\",\"\",SUBTOTAL(3,C$5:C351))","v":""},{"$f":"+IFERROR(INDEX(#REF!,MATCH(A351,#REF!,0)),\"\")","v":""},null,{"$f":"IFERROR(INDEX(#REF!,MATCH(A351,#REF!,0)),\"\")","v":""},{"$f":"IFERROR(INDEX(#REF!,MATCH(A351,#REF!,0)),\"\")","v":""}]
[{"$f":"IF(C352=\"\",\"\",SUBTOTAL(3,C$5:C352))","v":""},{"$f":"+IFERROR(INDEX(#REF!,MATCH(A352,#REF!,0)),\"\")","v":""},null,{"$f":"IFERROR(INDEX(#REF!,MATCH(A352,#REF!,0)),\"\")","v":""},{"$f":"IFERROR(INDEX(#REF!,MATCH(A352,#REF!,0)),\"\")","v":""}]
[{"$f":"IF(C353=\"\",\"\",SUBTOTAL(3,C$5:C353))","v":""},{"$f":"+IFERROR(INDEX(#REF!,MATCH(A353,#REF!,0)),\"\")","v":""},null,{"$f":"IFERROR(INDEX(#REF!,MATCH(A353,#REF!,0)),\"\")","v":""},{"$f":"IFERROR(INDEX(#REF!,MATCH(A353,#REF!,0)),\"\")","v":""}]
[{"$f":"IF(C354=\"\",\"\",SUBTOTAL(3,C$5:C354))","v":""},{"$f":"+IFERROR(INDEX(#REF!,MATCH(A354,#REF!,0)),\"\")","v":""},null,{"$f":"IFERROR(INDEX(#REF!,MATCH(A354,#REF!,0)),\"\")","v":""},{"$f":"IFERROR(INDEX(#REF!,MATCH(A354,#REF!,0)),\"\")","v":""}]
[{"$f":"IF(C355=\"\",\"\",SUBTOTAL(3,C$5:C355))","v":""},{"$f":"+IFERROR(INDEX(#REF!,MATCH(A355,#REF!,0)),\"\")","v":""},null,{"$f":"IFERROR(INDEX(#REF!,MATCH(A355,#REF!,0)),\"\")","v":""},{"$f":"IFERROR(INDEX(#REF!,MATCH(A355,#REF!,0)),\"\")","v":""}]
[{"$f":"IF(C356=\"\",\"\",SUBTOTAL(3,C$5:C356))","v":""},{"$f":"+IFERROR(INDEX(#REF!,MATCH(A356,#REF!,0)),\"\")","v":""},null,{"$f":"IFERROR(INDEX(#REF!,MATCH(A356,#REF!,0)),\"\")","v":""},{"$f":"IFERROR(INDEX(#REF!,MATCH(A356,#REF!,0)),\"\")","v":""}]
[{"$f":"IF(C357=\"\",\"\",SUBTOTAL(3,C$5:C357))","v":""},{"$f":"+IFERROR(INDEX(#REF!,MATCH(A357,#REF!,0)),\"\")","v":""},null,{"$f":"IFERROR(INDEX(#REF!,MATCH(A357,#REF!,0)),\"\")","v":""},{"$f":"IFERROR(INDEX(#REF!,MATCH(A357,#REF!,0)),\"\")","v":""}]
[{"$f":"IF(C358=\"\",\"\",SUBTOTAL(3,C$5:C358))","v":""},{"$f":"+IFERROR(INDEX(#REF!,MATCH(A358,#REF!,0)),\"\")","v":""},null,{"$f":"IFERROR(INDEX(#REF!,MATCH(A358,#REF!,0)),\"\")","v":""},{"$f":"IFERROR(INDEX(#REF!,MATCH(A358,#REF!,0)),\"\")","v":""}]
[{"$f":"IF(C359=\"\",\"\",SUBTOTAL(3,C$5:C359))","v":""},{"$f":"+IFERROR(INDEX(#REF!,MATCH(A359,#REF!,0)),\"\")","v":""},null,{"$f":"IFERROR(INDEX(#REF!,MATCH(A359,#REF!,0)),\"\")","v":""},{"$f":"IFERROR(INDEX(#REF!,MATCH(A359,#REF!,0)),\"\")","v":""}]
[{"$f":"IF(C360=\"\",\"\",SUBTOTAL(3,C$5:C360))","v":""},{"$f":"+IFERROR(INDEX(#REF!,MATCH(A360,#REF!,0)),\"\")","v":""},null,{"$f":"IFERROR(INDEX(#REF!,MATCH(A360,#REF!,0)),\"\")","v":""},{"$f":"IFERROR(INDEX(#REF!,MATCH(A360,#REF!,0)),\"\")","v":""}]
[{"$f":"IF(C361=\"\",\"\",SUBTOTAL(3,C$5:C361))","v":""},{"$f":"+IFERROR(INDEX(#REF!,MATCH(A361,#REF!,0)),\"\")","v":""},null,{"$f":"IFERROR(INDEX(#REF!,MATCH(A361,#REF!,0)),\"\")","v":""},{"$f":"IFERROR(INDEX(#REF!,MATCH(A361,#REF!,0)),\"\")","v":""}]
[{"$f":"IF(C362=\"\",\"\",SUBTOTAL(3,C$5:C362))","v":""},{"$f":"+IFERROR(INDEX(#REF!,MATCH(A362,#REF!,0)),\"\")","v":""},null,{"$f":"IFERROR(INDEX(#REF!,MATCH(A362,#REF!,0)),\"\")","v":""},{"$f":"IFERROR(INDEX(#REF!,MATCH(A362,#REF!,0)),\"\")","v":""}]
[{"$f":"IF(C363=\"\",\"\",SUBTOTAL(3,C$5:C363))","v":""},{"$f":"+IFERROR(INDEX(#REF!,MATCH(A363,#REF!,0)),\"\")","v":""},null,{"$f":"IFERROR(INDEX(#REF!,MATCH(A363,#REF!,0)),\"\")","v":""},{"$f":"IFERROR(INDEX(#REF!,MATCH(A363,#REF!,0)),\"\")","v":""}]
[{"$f":"IF(C364=\"\",\"\",SUBTOTAL(3,C$5:C364))","v":""},{"$f":"+IFERROR(INDEX(#REF!,MATCH(A364,#REF!,0)),\"\")","v":""},null,{"$f":"IFERROR(INDEX(#REF!,MATCH(A364,#REF!,0)),\"\")","v":""},{"$f":"IFERROR(INDEX(#REF!,MATCH(A364,#REF!,0)),\"\")","v":""}]
[{"$f":"IF(C365=\"\",\"\",SUBTOTAL(3,C$5:C365))","v":""},{"$f":"+IFERROR(INDEX(#REF!,MATCH(A365,#REF!,0)),\"\")","v":""},null,{"$f":"IFERROR(INDEX(#REF!,MATCH(A365,#REF!,0)),\"\")","v":""},{"$f":"IFERROR(INDEX(#REF!,MATCH(A365,#REF!,0)),\"\")","v":""}]
[{"$f":"IF(C366=\"\",\"\",SUBTOTAL(3,C$5:C366))","v":""},{"$f":"+IFERROR(INDEX(#REF!,MATCH(A366,#REF!,0)),\"\")","v":""},null,{"$f":"IFERROR(INDEX(#REF!,MATCH(A366,#REF!,0)),\"\")","v":""},{"$f":"IFERROR(INDEX(#REF!,MATCH(A366,#REF!,0)),\"\")","v":""}]
[{"$f":"IF(C367=\"\",\"\",SUBTOTAL(3,C$5:C367))","v":""},{"$f":"+IFERROR(INDEX(#REF!,MATCH(A367,#REF!,0)),\"\")","v":""},null,{"$f":"IFERROR(INDEX(#REF!,MATCH(A367,#REF!,0)),\"\")","v":""},{"$f":"IFERROR(INDEX(#REF!,MATCH(A367,#REF!,0)),\"\")","v":""}]
[{"$f":"IF(C368=\"\",\"\",SUBTOTAL(3,C$5:C368))","v":""},{"$f":"+IFERROR(INDEX(#REF!,MATCH(A368,#REF!,0)),\"\")","v":""},null,{"$f":"IFERROR(INDEX(#REF!,MATCH(A368,#REF!,0)),\"\")","v":""},{"$f":"IFERROR(INDEX(#REF!,MATCH(A368,#REF!,0)),\"\")","v":""}]
[{"$f":"IF(C369=\"\",\"\",SUBTOTAL(3,C$5:C369))","v":""},{"$f":"+IFERROR(INDEX(#REF!,MATCH(A369,#REF!,0)),\"\")","v":""},null,{"$f":"IFERROR(INDEX(#REF!,MATCH(A369,#REF!,0)),\"\")","v":""},{"$f":"IFERROR(INDEX(#REF!,MATCH(A369,#REF!,0)),\"\")","v":""}]
[{"$f":"IF(C370=\"\",\"\",SUBTOTAL(3,C$5:C370))","v":""},{"$f":"+IFERROR(INDEX(#REF!,MATCH(A370,#REF!,0)),\"\")","v":""},null,{"$f":"IFERROR(INDEX(#REF!,MATCH(A370,#REF!,0)),\"\")","v":""},{"$f":"IFERROR(INDEX(#REF!,MATCH(A370,#REF!,0)),\"\")","v":""}]
[{"$f":"IF(C371=\"\",\"\",SUBTOTAL(3,C$5:C371))","v":""},{"$f":"+IFERROR(INDEX(#REF!,MATCH(A371,#REF!,0)),\"\")","v":""},null,{"$f":"IFERROR(INDEX(#REF!,MATCH(A371,#REF!,0)),\"\")","v":""},{"$f":"IFERROR(INDEX(#REF!,MATCH(A371,#REF!,0)),\"\")","v":""}]
[{"$f":"IF(C372=\"\",\"\",SUBTOTAL(3,C$5:C372))","v":""},{"$f":"+IFERROR(INDEX(#REF!,MATCH(A372,#REF!,0)),\"\")","v":""},null,{"$f":"IFERROR(INDEX(#REF!,MATCH(A372,#REF!,0)),\"\")","v":""},{"$f":"IFERROR(INDEX(#REF!,MATCH(A372,#REF!,0)),\"\")","v":""}]
[{"$f":"IF(C373=\"\",\"\",SUBTOTAL(3,C$5:C373))","v":""},{"$f":"+IFERROR(INDEX(#REF!,MATCH(A373,#REF!,0)),\"\")","v":""},null,{"$f":"IFERROR(INDEX(#REF!,MATCH(A373,#REF!,0)),\"\")","v":""},{"$f":"IFERROR(INDEX(#REF!,MATCH(A373,#REF!,0)),\"\")","v":""}]
[{"$f":"IF(C374=\"\",\"\",SUBTOTAL(3,C$5:C374))","v":""},{"$f":"+IFERROR(INDEX(#REF!,MATCH(A374,#REF!,0)),\"\")","v":""},null,{"$f":"IFERROR(INDEX(#REF!,MATCH(A374,#REF!,0)),\"\")","v":""},{"$f":"IFERROR(INDEX(#REF!,MATCH(A374,#REF!,0)),\"\")","v":""}]
[{"$f":"IF(C375=\"\",\"\",SUBTOTAL(3,C$5:C375))","v":""},{"$f":"+IFERROR(INDEX(#REF!,MATCH(A375,#REF!,0)),\"\")","v":""},null,{"$f":"IFERROR(INDEX(#REF!,MATCH(A375,#REF!,0)),\"\")","v":""},{"$f":"IFERROR(INDEX(#REF!,MATCH(A375,#REF!,0)),\"\")","v":""}]
[{"$f":"IF(C376=\"\",\"\",SUBTOTAL(3,C$5:C376))","v":""},{"$f":"+IFERROR(INDEX(#REF!,MATCH(A376,#REF!,0)),\"\")","v":""},null,{"$f":"IFERROR(INDEX(#REF!,MATCH(A376,#REF!,0)),\"\")","v":""},{"$f":"IFERROR(INDEX(#REF!,MATCH(A376,#REF!,0)),\"\")","v":""}]
[{"$f":"IF(C377=\"\",\"\",SUBTOTAL(3,C$5:C377))","v":""},{"$f":"+IFERROR(INDEX(#REF!,MATCH(A377,#REF!,0)),\"\")","v":""},null,{"$f":"IFERROR(INDEX(#REF!,MATCH(A377,#REF!,0)),\"\")","v":""},{"$f":"IFERROR(INDEX(#REF!,MATCH(A377,#REF!,0)),\"\")","v":""}]
[{"$f":"IF(C378=\"\",\"\",SUBTOTAL(3,C$5:C378))","v":""},{"$f":"+IFERROR(INDEX(#REF!,MATCH(A378,#REF!,0)),\"\")","v":""},null,{"$f":"IFERROR(INDEX(#REF!,MATCH(A378,#REF!,0)),\"\")","v":""},{"$f":"IFERROR(INDEX(#REF!,MATCH(A378,#REF!,0)),\"\")","v":""}]
[{"$f":"IF(C379=\"\",\"\",SUBTOTAL(3,C$5:C379))","v":""},{"$f":"+IFERROR(INDEX(#REF!,MATCH(A379,#REF!,0)),\"\")","v":""},null,{"$f":"IFERROR(INDEX(#REF!,MATCH(A379,#REF!,0)),\"\")","v":""},{"$f":"IFERROR(INDEX(#REF!,MATCH(A379,#REF!,0)),\"\")","v":""}]
[{"$f":"IF(C380=\"\",\"\",SUBTOTAL(3,C$5:C380))","v":""},{"$f":"+IFERROR(INDEX(#REF!,MATCH(A380,#REF!,0)),\"\")","v":""},null,{"$f":"IFERROR(INDEX(#REF!,MATCH(A380,#REF!,0)),\"\")","v":""},{"$f":"IFERROR(INDEX(#REF!,MATCH(A380,#REF!,0)),\"\")","v":""}]
[{"$f":"IF(C381=\"\",\"\",SUBTOTAL(3,C$5:C381))","v":""},{"$f":"+IFERROR(INDEX(#REF!,MATCH(A381,#REF!,0)),\"\")","v":""},null,{"$f":"IFERROR(INDEX(#REF!,MATCH(A381,#REF!,0)),\"\")","v":""},{"$f":"IFERROR(INDEX(#REF!,MATCH(A381,#REF!,0)),\"\")","v":""}]
[{"$f":"IF(C382=\"\",\"\",SUBTOTAL(3,C$5:C382))","v":""},{"$f":"+IFERROR(INDEX(#REF!,MATCH(A382,#REF!,0)),\"\")","v":""},null,{"$f":"IFERROR(INDEX(#REF!,MATCH(A382,#REF!,0)),\"\")","v":""},{"$f":"IFERROR(INDEX(#REF!,MATCH(A382,#REF!,0)),\"\")","v":""}]
[{"$f":"IF(C383=\"\",\"\",SUBTOTAL(3,C$5:C383))","v":""},{"$f":"+IFERROR(INDEX(#REF!,MATCH(A383,#REF!,0)),\"\")","v":""},null,{"$f":"IFERROR(INDEX(#REF!,MATCH(A383,#REF!,0)),\"\")","v":""},{"$f":"IFERROR(INDEX(#REF!,MATCH(A383,#REF!,0)),\"\")","v":""}]
[{"$f":"IF(C384=\"\",\"\",SUBTOTAL(3,C$5:C384))","v":""},{"$f":"+IFERROR(INDEX(#REF!,MATCH(A384,#REF!,0)),\"\")","v":""},null,{"$f":"IFERROR(INDEX(#REF!,MATCH(A384,#REF!,0)),\"\")","v":""},{"$f":"IFERROR(INDEX(#REF!,MATCH(A384,#REF!,0)),\"\")","v":""}]
[{"$f":"IF(C385=\"\",\"\",SUBTOTAL(3,C$5:C385))","v":""},{"$f":"+IFERROR(INDEX(#REF!,MATCH(A385,#REF!,0)),\"\")","v":""},null,{"$f":"IFERROR(INDEX(#REF!,MATCH(A385,#REF!,0)),\"\")","v":""},{"$f":"IFERROR(INDEX(#REF!,MATCH(A385,#REF!,0)),\"\")","v":""}]
[{"$f":"IF(C386=\"\",\"\",SUBTOTAL(3,C$5:C386))","v":""},{"$f":"+IFERROR(INDEX(#REF!,MATCH(A386,#REF!,0)),\"\")","v":""},null,{"$f":"IFERROR(INDEX(#REF!,MATCH(A386,#REF!,0)),\"\")","v":""},{"$f":"IFERROR(INDEX(#REF!,MATCH(A386,#REF!,0)),\"\")","v":""}]
[{"$f":"IF(C387=\"\",\"\",SUBTOTAL(3,C$5:C387))","v":""},{"$f":"+IFERROR(INDEX(#REF!,MATCH(A387,#REF!,0)),\"\")","v":""},null,{"$f":"IFERROR(INDEX(#REF!,MATCH(A387,#REF!,0)),\"\")","v":""},{"$f":"IFERROR(INDEX(#REF!,MATCH(A387,#REF!,0)),\"\")","v":""}]
[{"$f":"IF(C388=\"\",\"\",SUBTOTAL(3,C$5:C388))","v":""},{"$f":"+IFERROR(INDEX(#REF!,MATCH(A388,#REF!,0)),\"\")","v":""},null,{"$f":"IFERROR(INDEX(#REF!,MATCH(A388,#REF!,0)),\"\")","v":""},{"$f":"IFERROR(INDEX(#REF!,MATCH(A388,#REF!,0)),\"\")","v":""}]
[{"$f":"IF(C389=\"\",\"\",SUBTOTAL(3,C$5:C389))","v":""},{"$f":"+IFERROR(INDEX(#REF!,MATCH(A389,#REF!,0)),\"\")","v":""},null,{"$f":"IFERROR(INDEX(#REF!,MATCH(A389,#REF!,0)),\"\")","v":""},{"$f":"IFERROR(INDEX(#REF!,MATCH(A389,#REF!,0)),\"\")","v":""}]
[{"$f":"IF(C390=\"\",\"\",SUBTOTAL(3,C$5:C390))","v":""},{"$f":"+IFERROR(INDEX(#REF!,MATCH(A390,#REF!,0)),\"\")","v":""},null,{"$f":"IFERROR(INDEX(#REF!,MATCH(A390,#REF!,0)),\"\")","v":""},{"$f":"IFERROR(INDEX(#REF!,MATCH(A390,#REF!,0)),\"\")","v":""}]
[{"$f":"IF(C391=\"\",\"\",SUBTOTAL(3,C$5:C391))","v":""},{"$f":"+IFERROR(INDEX(#REF!,MATCH(A391,#REF!,0)),\"\")","v":""},null,{"$f":"IFERROR(INDEX(#REF!,MATCH(A391,#REF!,0)),\"\")","v":""},{"$f":"IFERROR(INDEX(#REF!,MATCH(A391,#REF!,0)),\"\")","v":""}]
[{"$f":"IF(C392=\"\",\"\",SUBTOTAL(3,C$5:C392))","v":""},{"$f":"+IFERROR(INDEX(#REF!,MATCH(A392,#REF!,0)),\"\")","v":""},null,{"$f":"IFERROR(INDEX(#REF!,MATCH(A392,#REF!,0)),\"\")","v":""},{"$f":"IFERROR(INDEX(#REF!,MATCH(A392,#REF!,0)),\"\")","v":""}]
[{"$f":"IF(C393=\"\",\"\",SUBTOTAL(3,C$5:C393))","v":""},{"$f":"+IFERROR(INDEX(#REF!,MATCH(A393,#REF!,0)),\"\")","v":""},null,{"$f":"IFERROR(INDEX(#REF!,MATCH(A393,#REF!,0)),\"\")","v":""},{"$f":"IFERROR(INDEX(#REF!,MATCH(A393,#REF!,0)),\"\")","v":""}]
[{"$f":"IF(C394=\"\",\"\",SUBTOTAL(3,C$5:C394))","v":""},{"$f":"+IFERROR(INDEX(#REF!,MATCH(A394,#REF!,0)),\"\")","v":""},null,{"$f":"IFERROR(INDEX(#REF!,MATCH(A394,#REF!,0)),\"\")","v":""},{"$f":"IFERROR(INDEX(#REF!,MATCH(A394,#REF!,0)),\"\")","v":""}]
[{"$f":"IF(C395=\"\",\"\",SUBTOTAL(3,C$5:C395))","v":""},{"$f":"+IFERROR(INDEX(#REF!,MATCH(A395,#REF!,0)),\"\")","v":""},null,{"$f":"IFERROR(INDEX(#REF!,MATCH(A395,#REF!,0)),\"\")","v":""},{"$f":"IFERROR(INDEX(#REF!,MATCH(A395,#REF!,0)),\"\")","v":""}]
[{"$f":"IF(C396=\"\",\"\",SUBTOTAL(3,C$5:C396))","v":""},{"$f":"+IFERROR(INDEX(#REF!,MATCH(A396,#REF!,0)),\"\")","v":""},null,{"$f":"IFERROR(INDEX(#REF!,MATCH(A396,#REF!,0)),\"\")","v":""},{"$f":"IFERROR(INDEX(#REF!,MATCH(A396,#REF!,0)),\"\")","v":""}]
[{"$f":"IF(C397=\"\",\"\",SUBTOTAL(3,C$5:C397))","v":""},{"$f":"+IFERROR(INDEX(#REF!,MATCH(A397,#REF!,0)),\"\")","v":""},null,{"$f":"IFERROR(INDEX(#REF!,MATCH(A397,#REF!,0)),\"\")","v":""},{"$f":"IFERROR(INDEX(#REF!,MATCH(A397,#REF!,0)),\"\")","v":""}]
[{"$f":"IF(C398=\"\",\"\",SUBTOTAL(3,C$5:C398))","v":""},{"$f":"+IFERROR(INDEX(#REF!,MATCH(A398,#REF!,0)),\"\")","v":""},null,{"$f":"IFERROR(INDEX(#REF!,MATCH(A398,#REF!,0)),\"\")","v":""},{"$f":"IFERROR(INDEX(#REF!,MATCH(A398,#REF!,0)),\"\")","v":""}]
[{"$f":"IF(C399=\"\",\"\",SUBTOTAL(3,C$5:C399))","v":""},{"$f":"+IFERROR(INDEX(#REF!,MATCH(A399,#REF!,0)),\"\")","v":""},null,{"$f":"IFERROR(INDEX(#REF!,MATCH(A399,#REF!,0)),\"\")","v":""},{"$f":"IFERROR(INDEX(#REF!,MATCH(A399,#REF!,0)),\"\")","v":""}]
[{"$f":"IF(C400=\"\",\"\",SUBTOTAL(3,C$5:C400))","v":""},{"$f":"+IFERROR(INDEX(#REF!,MATCH(A400,#REF!,0)),\"\")","v":""},null,{"$f":"IFERROR(INDEX(#REF!,MATCH(A400,#REF!,0)),\"\")","v":""},{"$f":"IFERROR(INDEX(#REF!,MATCH(A400,#REF!,0)),\"\")","v":""}]
[{"$f":"IF(C401=\"\",\"\",SUBTOTAL(3,C$5:C401))","v":""},{"$f":"+IFERROR(INDEX(#REF!,MATCH(A401,#REF!,0)),\"\")","v":""},null,{"$f":"IFERROR(INDEX(#REF!,MATCH(A401,#REF!,0)),\"\")","v":""},{"$f":"IFERROR(INDEX(#REF!,MATCH(A401,#REF!,0)),\"\")","v":""}]
[{"$f":"IF(C402=\"\",\"\",SUBTOTAL(3,C$5:C402))","v":""},{"$f":"+IFERROR(INDEX(#REF!,MATCH(A402,#REF!,0)),\"\")","v":""},null,{"$f":"IFERROR(INDEX(#REF!,MATCH(A402,#REF!,0)),\"\")","v":""},{"$f":"IFERROR(INDEX(#REF!,MATCH(A402,#REF!,0)),\"\")","v":""}]
[{"$f":"IF(C403=\"\",\"\",SUBTOTAL(3,C$5:C403))","v":""},{"$f":"+IFERROR(INDEX(#REF!,MATCH(A403,#REF!,0)),\"\")","v":""},null,{"$f":"IFERROR(INDEX(#REF!,MATCH(A403,#REF!,0)),\"\")","v":""},{"$f":"IFERROR(INDEX(#REF!,MATCH(A403,#REF!,0)),\"\")","v":""}]
[{"$f":"IF(C404=\"\",\"\",SUBTOTAL(3,C$5:C404))","v":""},{"$f":"+IFERROR(INDEX(#REF!,MATCH(A404,#REF!,0)),\"\")","v":""},null,{"$f":"IFERROR(INDEX(#REF!,MATCH(A404,#REF!,0)),\"\")","v":""},{"$f":"IFERROR(INDEX(#REF!,MATCH(A404,#REF!,0)),\"\")","v":""}]
[{"$f":"IF(C405=\"\",\"\",SUBTOTAL(3,C$5:C405))","v":""},{"$f":"+IFERROR(INDEX(#REF!,MATCH(A405,#REF!,0)),\"\")","v":""},null,{"$f":"IFERROR(INDEX(#REF!,MATCH(A405,#REF!,0)),\"\")","v":""},{"$f":"IFERROR(INDEX(#REF!,MATCH(A405,#REF!,0)),\"\")","v":""}]
[{"$f":"IF(C406=\"\",\"\",SUBTOTAL(3,C$5:C406))","v":""},{"$f":"+IFERROR(INDEX(#REF!,MATCH(A406,#REF!,0)),\"\")","v":""},null,{"$f":"IFERROR(INDEX(#REF!,MATCH(A406,#REF!,0)),\"\")","v":""},{"$f":"IFERROR(INDEX(#REF!,MATCH(A406,#REF!,0)),\"\")","v":""}]
[{"$f":"IF(C407=\"\",\"\",SUBTOTAL(3,C$5:C407))","v":""},{"$f":"+IFERROR(INDEX(#REF!,MATCH(A407,#REF!,0)),\"\")","v":""},null,{"$f":"IFERROR(INDEX(#REF!,MATCH(A407,#REF!,0)),\"\")","v":""},{"$f":"IFERROR(INDEX(#REF!,MATCH(A407,#REF!,0)),\"\")","v":""}]
[{"$f":"IF(C408=\"\",\"\",SUBTOTAL(3,C$5:C408))","v":""},{"$f":"+IFERROR(INDEX(#REF!,MATCH(A408,#REF!,0)),\"\")","v":""},null,{"$f":"IFERROR(INDEX(#REF!,MATCH(A408,#REF!,0)),\"\")","v":""},{"$f":"IFERROR(INDEX(#REF!,MATCH(A408,#REF!,0)),\"\")","v":""}]
[{"$f":"IF(C409=\"\",\"\",SUBTOTAL(3,C$5:C409))","v":""},{"$f":"+IFERROR(INDEX(#REF!,MATCH(A409,#REF!,0)),\"\")","v":""},null,{"$f":"IFERROR(INDEX(#REF!,MATCH(A409,#REF!,0)),\"\")","v":""},{"$f":"IFERROR(INDEX(#REF!,MATCH(A409,#REF!,0)),\"\")","v":""}]
[{"$f":"IF(C410=\"\",\"\",SUBTOTAL(3,C$5:C410))","v":""},{"$f":"+IFERROR(INDEX(#REF!,MATCH(A410,#REF!,0)),\"\")","v":""},null,{"$f":"IFERROR(INDEX(#REF!,MATCH(A410,#REF!,0)),\"\")","v":""},{"$f":"IFERROR(INDEX(#REF!,MATCH(A410,#REF!,0)),\"\")","v":""}]
[{"$f":"IF(C411=\"\",\"\",SUBTOTAL(3,C$5:C411))","v":""},{"$f":"+IFERROR(INDEX(#REF!,MATCH(A411,#REF!,0)),\"\")","v":""},null,{"$f":"IFERROR(INDEX(#REF!,MATCH(A411,#REF!,0)),\"\")","v":""},{"$f":"IFERROR(INDEX(#REF!,MATCH(A411,#REF!,0)),\"\")","v":""}]
[{"$f":"IF(C412=\"\",\"\",SUBTOTAL(3,C$5:C412))","v":""},{"$f":"+IFERROR(INDEX(#REF!,MATCH(A412,#REF!,0)),\"\")","v":""},null,{"$f":"IFERROR(INDEX(#REF!,MATCH(A412,#REF!,0)),\"\")","v":""},{"$f":"IFERROR(INDEX(#REF!,MATCH(A412,#REF!,0)),\"\")","v":""}]
[{"$f":"IF(C413=\"\",\"\",SUBTOTAL(3,C$5:C413))","v":""},{"$f":"+IFERROR(INDEX(#REF!,MATCH(A413,#REF!,0)),\"\")","v":""},null,{"$f":"IFERROR(INDEX(#REF!,MATCH(A413,#REF!,0)),\"\")","v":""},{"$f":"IFERROR(INDEX(#REF!,MATCH(A413,#REF!,0)),\"\")","v":""}]
[{"$f":"IF(C414=\"\",\"\",SUBTOTAL(3,C$5:C414))","v":""},{"$f":"+IFERROR(INDEX(#REF!,MATCH(A414,#REF!,0)),\"\")","v":""},null,{"$f":"IFERROR(INDEX(#REF!,MATCH(A414,#REF!,0)),\"\")","v":""},{"$f":"IFERROR(INDEX(#REF!,MATCH(A414,#REF!,0)),\"\")","v":""}]
[{"$f":"IF(C415=\"\",\"\",SUBTOTAL(3,C$5:C415))","v":""},{"$f":"+IFERROR(INDEX(#REF!,MATCH(A415,#REF!,0)),\"\")","v":""},null,{"$f":"IFERROR(INDEX(#REF!,MATCH(A415,#REF!,0)),\"\")","v":""},{"$f":"IFERROR(INDEX(#REF!,MATCH(A415,#REF!,0)),\"\")","v":""}]
[{"$f":"IF(C416=\"\",\"\",SUBTOTAL(3,C$5:C416))","v":""},{"$f":"+IFERROR(INDEX(#REF!,MATCH(A416,#REF!,0)),\"\")","v":""},null,{"$f":"IFERROR(INDEX(#REF!,MATCH(A416,#REF!,0)),\"\")","v":""},{"$f":"IFERROR(INDEX(#REF!,MATCH(A416,#REF!,0)),\"\")","v":""}]
[{"$f":"IF(C417=\"\",\"\",SUBTOTAL(3,C$5:C417))","v":""},{"$f":"+IFERROR(INDEX(#REF!,MATCH(A417,#REF!,0)),\"\")","v":""},null,{"$f":"IFERROR(INDEX(#REF!,MATCH(A417,#REF!,0)),\"\")","v":""},{"$f":"IFERROR(INDEX(#REF!,MATCH(A417,#REF!,0)),\"\")","v":""}]
[{"$f":"IF(C418=\"\",\"\",SUBTOTAL(3,C$5:C418))","v":""},{"$f":"+IFERROR(INDEX(#REF!,MATCH(A418,#REF!,0)),\"\")","v":""},null,{"$f":"IFERROR(INDEX(#REF!,MATCH(A418,#REF!,0)),\"\")","v":""},{"$f":"IFERROR(INDEX(#REF!,MATCH(A418,#REF!,0)),\"\")","v":""}]
[{"$f":"IF(C419=\"\",\"\",SUBTOTAL(3,C$5:C419))","v":""},{"$f":"+IFERROR(INDEX(#REF!,MATCH(A419,#REF!,0)),\"\")","v":""},null,{"$f":"IFERROR(INDEX(#REF!,MATCH(A419,#REF!,0)),\"\")","v":""},{"$f":"IFERROR(INDEX(#REF!,MATCH(A419,#REF!,0)),\"\")","v":""}]
[{"$f":"IF(C420=\"\",\"\",SUBTOTAL(3,C$5:C420))","v":""},{"$f":"+IFERROR(INDEX(#REF!,MATCH(A420,#REF!,0)),\"\")","v":""},null,{"$f":"IFERROR(INDEX(#REF!,MATCH(A420,#REF!,0)),\"\")","v":""},{"$f":"IFERROR(INDEX(#REF!,MATCH(A420,#REF!,0)),\"\")","v":""}]
[{"$f":"IF(C421=\"\",\"\",SUBTOTAL(3,C$5:C421))","v":""},{"$f":"+IFERROR(INDEX(#REF!,MATCH(A421,#REF!,0)),\"\")","v":""},null,{"$f":"IFERROR(INDEX(#REF!,MATCH(A421,#REF!,0)),\"\")","v":""},{"$f":"IFERROR(INDEX(#REF!,MATCH(A421,#REF!,0)),\"\")","v":""}]
[{"$f":"IF(C422=\"\",\"\",SUBTOTAL(3,C$5:C422))","v":""},{"$f":"+IFERROR(INDEX(#REF!,MATCH(A422,#REF!,0)),\"\")","v":""},null,{"$f":"IFERROR(INDEX(#REF!,MATCH(A422,#REF!,0)),\"\")","v":""},{"$f":"IFERROR(INDEX(#REF!,MATCH(A422,#REF!,0)),\"\")","v":""}]
[{"$f":"IF(C423=\"\",\"\",SUBTOTAL(3,C$5:C423))","v":""},{"$f":"+IFERROR(INDEX(#REF!,MATCH(A423,#REF!,0)),\"\")","v":""},null,{"$f":"IFERROR(INDEX(#REF!,MATCH(A423,#REF!,0)),\"\")","v":""},{"$f":"IFERROR(INDEX(#REF!,MATCH(A423,#REF!,0)),\"\")","v":""}]
[{"$f":"IF(C424=\"\",\"\",SUBTOTAL(3,C$5:C424))","v":""},{"$f":"+IFERROR(INDEX(#REF!,MATCH(A424,#REF!,0)),\"\")","v":""},null,{"$f":"IFERROR(INDEX(#REF!,MATCH(A424,#REF!,0)),\"\")","v":""},{"$f":"IFERROR(INDEX(#REF!,MATCH(A424,#REF!,0)),\"\")","v":""}]
[{"$f":"IF(C425=\"\",\"\",SUBTOTAL(3,C$5:C425))","v":""},{"$f":"+IFERROR(INDEX(#REF!,MATCH(A425,#REF!,0)),\"\")","v":""},null,{"$f":"IFERROR(INDEX(#REF!,MATCH(A425,#REF!,0)),\"\")","v":""},{"$f":"IFERROR(INDEX(#REF!,MATCH(A425,#REF!,0)),\"\")","v":""}]
[{"$f":"IF(C426=\"\",\"\",SUBTOTAL(3,C$5:C426))","v":""},{"$f":"+IFERROR(INDEX(#REF!,MATCH(A426,#REF!,0)),\"\")","v":""},null,{"$f":"IFERROR(INDEX(#REF!,MATCH(A426,#REF!,0)),\"\")","v":""},{"$f":"IFERROR(INDEX(#REF!,MATCH(A426,#REF!,0)),\"\")","v":""}]
[{"$f":"IF(C427=\"\",\"\",SUBTOTAL(3,C$5:C427))","v":""},{"$f":"+IFERROR(INDEX(#REF!,MATCH(A427,#REF!,0)),\"\")","v":""},null,{"$f":"IFERROR(INDEX(#REF!,MATCH(A427,#REF!,0)),\"\")","v":""},{"$f":"IFERROR(INDEX(#REF!,MATCH(A427,#REF!,0)),\"\")","v":""}]
[{"$f":"IF(C428=\"\",\"\",SUBTOTAL(3,C$5:C428))","v":""},{"$f":"+IFERROR(INDEX(#REF!,MATCH(A428,#REF!,0)),\"\")","v":""},null,{"$f":"IFERROR(INDEX(#REF!,MATCH(A428,#REF!,0)),\"\")","v":""},{"$f":"IFERROR(INDEX(#REF!,MATCH(A428,#REF!,0)),\"\")","v":""}]
[{"$f":"IF(C429=\"\",\"\",SUBTOTAL(3,C$5:C429))","v":""},{"$f":"+IFERROR(INDEX(#REF!,MATCH(A429,#REF!,0)),\"\")","v":""},null,{"$f":"IFERROR(INDEX(#REF!,MATCH(A429,#REF!,0)),\"\")","v":""},{"$f":"IFERROR(INDEX(#REF!,MATCH(A429,#REF!,0)),\"\")","v":""}]
[{"$f":"IF(C430=\"\",\"\",SUBTOTAL(3,C$5:C430))","v":""},{"$f":"+IFERROR(INDEX(#REF!,MATCH(A430,#REF!,0)),\"\")","v":""},null,{"$f":"IFERROR(INDEX(#REF!,MATCH(A430,#REF!,0)),\"\")","v":""},{"$f":"IFERROR(INDEX(#REF!,MATCH(A430,#REF!,0)),\"\")","v":""}]
[{"$f":"IF(C431=\"\",\"\",SUBTOTAL(3,C$5:C431))","v":""},{"$f":"+IFERROR(INDEX(#REF!,MATCH(A431,#REF!,0)),\"\")","v":""},null,{"$f":"IFERROR(INDEX(#REF!,MATCH(A431,#REF!,0)),\"\")","v":""},{"$f":"IFERROR(INDEX(#REF!,MATCH(A431,#REF!,0)),\"\")","v":""}]
[{"$f":"IF(C432=\"\",\"\",SUBTOTAL(3,C$5:C432))","v":""},{"$f":"+IFERROR(INDEX(#REF!,MATCH(A432,#REF!,0)),\"\")","v":""},null,{"$f":"IFERROR(INDEX(#REF!,MATCH(A432,#REF!,0)),\"\")","v":""},{"$f":"IFERROR(INDEX(#REF!,MATCH(A432,#REF!,0)),\"\")","v":""}]
[{"$f":"IF(C433=\"\",\"\",SUBTOTAL(3,C$5:C433))","v":""},{"$f":"+IFERROR(INDEX(#REF!,MATCH(A433,#REF!,0)),\"\")","v":""},null,{"$f":"IFERROR(INDEX(#REF!,MATCH(A433,#REF!,0)),\"\")","v":""},{"$f":"IFERROR(INDEX(#REF!,MATCH(A433,#REF!,0)),\"\")","v":""}]
[{"$f":"IF(C434=\"\",\"\",SUBTOTAL(3,C$5:C434))","v":""},{"$f":"+IFERROR(INDEX(#REF!,MATCH(A434,#REF!,0)),\"\")","v":""},null,{"$f":"IFERROR(INDEX(#REF!,MATCH(A434,#REF!,0)),\"\")","v":""},{"$f":"IFERROR(INDEX(#REF!,MATCH(A434,#REF!,0)),\"\")","v":""}]
[{"$f":"IF(C435=\"\",\"\",SUBTOTAL(3,C$5:C435))","v":""},{"$f":"+IFERROR(INDEX(#REF!,MATCH(A435,#REF!,0)),\"\")","v":""},null,{"$f":"IFERROR(INDEX(#REF!,MATCH(A435,#REF!,0)),\"\")","v":""},{"$f":"IFERROR(INDEX(#REF!,MATCH(A435,#REF!,0)),\"\")","v":""}]
[{"$f":"IF(C436=\"\",\"\",SUBTOTAL(3,C$5:C436))","v":""},{"$f":"+IFERROR(INDEX(#REF!,MATCH(A436,#REF!,0)),\"\")","v":""},null,{"$f":"IFERROR(INDEX(#REF!,MATCH(A436,#REF!,0)),\"\")","v":""},{"$f":"IFERROR(INDEX(#REF!,MATCH(A436,#REF!,0)),\"\")","v":""}]
[{"$f":"IF(C437=\"\",\"\",SUBTOTAL(3,C$5:C437))","v":""},{"$f":"+IFERROR(INDEX(#REF!,MATCH(A437,#REF!,0)),\"\")","v":""},null,{"$f":"IFERROR(INDEX(#REF!,MATCH(A437,#REF!,0)),\"\")","v":""},{"$f":"IFERROR(INDEX(#REF!,MATCH(A437,#REF!,0)),\"\")","v":""}]
[{"$f":"IF(C438=\"\",\"\",SUBTOTAL(3,C$5:C438))","v":""},{"$f":"+IFERROR(INDEX(#REF!,MATCH(A438,#REF!,0)),\"\")","v":""},null,{"$f":"IFERROR(INDEX(#REF!,MATCH(A438,#REF!,0)),\"\")","v":""},{"$f":"IFERROR(INDEX(#REF!,MATCH(A438,#REF!,0)),\"\")","v":""}]
[{"$f":"IF(C439=\"\",\"\",SUBTOTAL(3,C$5:C439))","v":""},{"$f":"+IFERROR(INDEX(#REF!,MATCH(A439,#REF!,0)),\"\")","v":""},null,{"$f":"IFERROR(INDEX(#REF!,MATCH(A439,#REF!,0)),\"\")","v":""},{"$f":"IFERROR(INDEX(#REF!,MATCH(A439,#REF!,0)),\"\")","v":""}]
[{"$f":"IF(C440=\"\",\"\",SUBTOTAL(3,C$5:C440))","v":""},{"$f":"+IFERROR(INDEX(#REF!,MATCH(A440,#REF!,0)),\"\")","v":""},null,{"$f":"IFERROR(INDEX(#REF!,MATCH(A440,#REF!,0)),\"\")","v":""},{"$f":"IFERROR(INDEX(#REF!,MATCH(A440,#REF!,0)),\"\")","v":""}]
[{"$f":"IF(C441=\"\",\"\",SUBTOTAL(3,C$5:C441))","v":""},{"$f":"+IFERROR(INDEX(#REF!,MATCH(A441,#REF!,0)),\"\")","v":""},null,{"$f":"IFERROR(INDEX(#REF!,MATCH(A441,#REF!,0)),\"\")","v":""},{"$f":"IFERROR(INDEX(#REF!,MATCH(A441,#REF!,0)),\"\")","v":""}]
[{"$f":"IF(C442=\"\",\"\",SUBTOTAL(3,C$5:C442))","v":""},{"$f":"+IFERROR(INDEX(#REF!,MATCH(A442,#REF!,0)),\"\")","v":""},null,{"$f":"IFERROR(INDEX(#REF!,MATCH(A442,#REF!,0)),\"\")","v":""},{"$f":"IFERROR(INDEX(#REF!,MATCH(A442,#REF!,0)),\"\")","v":""}]
[{"$f":"IF(C443=\"\",\"\",SUBTOTAL(3,C$5:C443))","v":""},{"$f":"+IFERROR(INDEX(#REF!,MATCH(A443,#REF!,0)),\"\")","v":""},null,{"$f":"IFERROR(INDEX(#REF!,MATCH(A443,#REF!,0)),\"\")","v":""},{"$f":"IFERROR(INDEX(#REF!,MATCH(A443,#REF!,0)),\"\")","v":""}]
[{"$f":"IF(C444=\"\",\"\",SUBTOTAL(3,C$5:C444))","v":""},{"$f":"+IFERROR(INDEX(#REF!,MATCH(A444,#REF!,0)),\"\")","v":""},null,{"$f":"IFERROR(INDEX(#REF!,MATCH(A444,#REF!,0)),\"\")","v":""},{"$f":"IFERROR(INDEX(#REF!,MATCH(A444,#REF!,0)),\"\")","v":""}]
[{"$f":"IF(C445=\"\",\"\",SUBTOTAL(3,C$5:C445))","v":""},{"$f":"+IFERROR(INDEX(#REF!,MATCH(A445,#REF!,0)),\"\")","v":""},null,{"$f":"IFERROR(INDEX(#REF!,MATCH(A445,#REF!,0)),\"\")","v":""},{"$f":"IFERROR(INDEX(#REF!,MATCH(A445,#REF!,0)),\"\")","v":""}]
[{"$f":"IF(C446=\"\",\"\",SUBTOTAL(3,C$5:C446))","v":""},{"$f":"+IFERROR(INDEX(#REF!,MATCH(A446,#REF!,0)),\"\")","v":""},null,{"$f":"IFERROR(INDEX(#REF!,MATCH(A446,#REF!,0)),\"\")","v":""},{"$f":"IFERROR(INDEX(#REF!,MATCH(A446,#REF!,0)),\"\")","v":""}]
[{"$f":"IF(C447=\"\",\"\",SUBTOTAL(3,C$5:C447))","v":""},{"$f":"+IFERROR(INDEX(#REF!,MATCH(A447,#REF!,0)),\"\")","v":""},null,{"$f":"IFERROR(INDEX(#REF!,MATCH(A447,#REF!,0)),\"\")","v":""},{"$f":"IFERROR(INDEX(#REF!,MATCH(A447,#REF!,0)),\"\")","v":""}]
[{"$f":"IF(C448=\"\",\"\",SUBTOTAL(3,C$5:C448))","v":""},{"$f":"+IFERROR(INDEX(#REF!,MATCH(A448,#REF!,0)),\"\")","v":""},null,{"$f":"IFERROR(INDEX(#REF!,MATCH(A448,#REF!,0)),\"\")","v":""},{"$f":"IFERROR(INDEX(#REF!,MATCH(A448,#REF!,0)),\"\")","v":""}]
[{"$f":"IF(C449=\"\",\"\",SUBTOTAL(3,C$5:C449))","v":""},{"$f":"+IFERROR(INDEX(#REF!,MATCH(A449,#REF!,0)),\"\")","v":""},null,{"$f":"IFERROR(INDEX(#REF!,MATCH(A449,#REF!,0)),\"\")","v":""},{"$f":"IFERROR(INDEX(#REF!,MATCH(A449,#REF!,0)),\"\")","v":""}]
[{"$f":"IF(C450=\"\",\"\",SUBTOTAL(3,C$5:C450))","v":""},{"$f":"+IFERROR(INDEX(#REF!,MATCH(A450,#REF!,0)),\"\")","v":""},null,{"$f":"IFERROR(INDEX(#REF!,MATCH(A450,#REF!,0)),\"\")","v":""},{"$f":"IFERROR(INDEX(#REF!,MATCH(A450,#REF!,0)),\"\")","v":""}]
[{"$f":"IF(C451=\"\",\"\",SUBTOTAL(3,C$5:C451))","v":""},{"$f":"+IFERROR(INDEX(#REF!,MATCH(A451,#REF!,0)),\"\")","v":""},null,{"$f":"IFERROR(INDEX(#REF!,MATCH(A451,#REF!,0)),\"\")","v":""},{"$f":"IFERROR(INDEX(#REF!,MATCH(A451,#REF!,0)),\"\")","v":""}]
[{"$f":"IF(C452=\"\",\"\",SUBTOTAL(3,C$5:C452))","v":""},{"$f":"+IFERROR(INDEX(#REF!,MATCH(A452,#REF!,0)),\"\")","v":""},null,{"$f":"IFERROR(INDEX(#REF!,MATCH(A452,#REF!,0)),\"\")","v":""},{"$f":"IFERROR(INDEX(#REF!,MATCH(A452,#REF!,0)),\"\")","v":""}]
[{"$f":"IF(C453=\"\",\"\",SUBTOTAL(3,C$5:C453))","v":""},{"$f":"+IFERROR(INDEX(#REF!,MATCH(A453,#REF!,0)),\"\")","v":""},null,{"$f":"IFERROR(INDEX(#REF!,MATCH(A453,#REF!,0)),\"\")","v":""},{"$f":"IFERROR(INDEX(#REF!,MATCH(A453,#REF!,0)),\"\")","v":""}]
[{"$f":"IF(C454=\"\",\"\",SUBTOTAL(3,C$5:C454))","v":""},{"$f":"+IFERROR(INDEX(#REF!,MATCH(A454,#REF!,0)),\"\")","v":""},null,{"$f":"IFERROR(INDEX(#REF!,MATCH(A454,#REF!,0)),\"\")","v":""},{"$f":"IFERROR(INDEX(#REF!,MATCH(A454,#REF!,0)),\"\")","v":""}]
[{"$f":"IF(C455=\"\",\"\",SUBTOTAL(3,C$5:C455))","v":""},{"$f":"+IFERROR(INDEX(#REF!,MATCH(A455,#REF!,0)),\"\")","v":""},null,{"$f":"IFERROR(INDEX(#REF!,MATCH(A455,#REF!,0)),\"\")","v":""},{"$f":"IFERROR(INDEX(#REF!,MATCH(A455,#REF!,0)),\"\")","v":""}]
[{"$f":"IF(C456=\"\",\"\",SUBTOTAL(3,C$5:C456))","v":""},{"$f":"+IFERROR(INDEX(#REF!,MATCH(A456,#REF!,0)),\"\")","v":""},null,{"$f":"IFERROR(INDEX(#REF!,MATCH(A456,#REF!,0)),\"\")","v":""},{"$f":"IFERROR(INDEX(#REF!,MATCH(A456,#REF!,0)),\"\")","v":""}]
[{"$f":"IF(C457=\"\",\"\",SUBTOTAL(3,C$5:C457))","v":""},{"$f":"+IFERROR(INDEX(#REF!,MATCH(A457,#REF!,0)),\"\")","v":""},null,{"$f":"IFERROR(INDEX(#REF!,MATCH(A457,#REF!,0)),\"\")","v":""},{"$f":"IFERROR(INDEX(#REF!,MATCH(A457,#REF!,0)),\"\")","v":""}]
[{"$f":"IF(C458=\"\",\"\",SUBTOTAL(3,C$5:C458))","v":""},{"$f":"+IFERROR(INDEX(#REF!,MATCH(A458,#REF!,0)),\"\")","v":""},null,{"$f":"IFERROR(INDEX(#REF!,MATCH(A458,#REF!,0)),\"\")","v":""},{"$f":"IFERROR(INDEX(#REF!,MATCH(A458,#REF!,0)),\"\")","v":""}]
[{"$f":"IF(C459=\"\",\"\",SUBTOTAL(3,C$5:C459))","v":""},{"$f":"+IFERROR(INDEX(#REF!,MATCH(A459,#REF!,0)),\"\")","v":""},null,{"$f":"IFERROR(INDEX(#REF!,MATCH(A459,#REF!,0)),\"\")","v":""},{"$f":"IFERROR(INDEX(#REF!,MATCH(A459,#REF!,0)),\"\")","v":""}]
[{"$f":"IF(C460=\"\",\"\",SUBTOTAL(3,C$5:C460))","v":""},{"$f":"+IFERROR(INDEX(#REF!,MATCH(A460,#REF!,0)),\"\")","v":""},null,{"$f":"IFERROR(INDEX(#REF!,MATCH(A460,#REF!,0)),\"\")","v":""},{"$f":"IFERROR(INDEX(#REF!,MATCH(A460,#REF!,0)),\"\")","v":""}]
[{"$f":"IF(C461=\"\",\"\",SUBTOTAL(3,C$5:C461))","v":""},{"$f":"+IFERROR(INDEX(#REF!,MATCH(A461,#REF!,0)),\"\")","v":""},null,{"$f":"IFERROR(INDEX(#REF!,MATCH(A461,#REF!,0)),\"\")","v":""},{"$f":"IFERROR(INDEX(#REF!,MATCH(A461,#REF!,0)),\"\")","v":""}]
[{"$f":"IF(C462=\"\",\"\",SUBTOTAL(3,C$5:C462))","v":""},{"$f":"+IFERROR(INDEX(#REF!,MATCH(A462,#REF!,0)),\"\")","v":""},null,{"$f":"IFERROR(INDEX(#REF!,MATCH(A462,#REF!,0)),\"\")","v":""},{"$f":"IFERROR(INDEX(#REF!,MATCH(A462,#REF!,0)),\"\")","v":""}]
[{"$f":"IF(C463=\"\",\"\",SUBTOTAL(3,C$5:C463))","v":""},{"$f":"+IFERROR(INDEX(#REF!,MATCH(A463,#REF!,0)),\"\")","v":""},null,{"$f":"IFERROR(INDEX(#REF!,MATCH(A463,#REF!,0)),\"\")","v":""},{"$f":"IFERROR(INDEX(#REF!,MATCH(A463,#REF!,0)),\"\")","v":""}]
[{"$f":"IF(C464=\"\",\"\",SUBTOTAL(3,C$5:C464))","v":""},{"$f":"+IFERROR(INDEX(#REF!,MATCH(A464,#REF!,0)),\"\")","v":""},null,{"$f":"IFERROR(INDEX(#REF!,MATCH(A464,#REF!,0)),\"\")","v":""},{"$f":"IFERROR(INDEX(#REF!,MATCH(A464,#REF!,0)),\"\")","v":""}]
[{"$f":"IF(C465=\"\",\"\",SUBTOTAL(3,C$5:C465))","v":""},{"$f":"+IFERROR(INDEX(#REF!,MATCH(A465,#REF!,0)),\"\")","v":""},null,{"$f":"IFERROR(INDEX(#REF!,MATCH(A465,#REF!,0)),\"\")","v":""},{"$f":"IFERROR(INDEX(#REF!,MATCH(A465,#REF!,0)),\"\")","v":""}]
[{"$f":"IF(C466=\"\",\"\",SUBTOTAL(3,C$5:C466))","v":""},{"$f":"+IFERROR(INDEX(#REF!,MATCH(A466,#REF!,0)),\"\")","v":""},null,{"$f":"IFERROR(INDEX(#REF!,MATCH(A466,#REF!,0)),\"\")","v":""},{"$f":"IFERROR(INDEX(#REF!,MATCH(A466,#REF!,0)),\"\")","v":""}]
[{"$f":"IF(C467=\"\",\"\",SUBTOTAL(3,C$5:C467))","v":""},{"$f":"+IFERROR(INDEX(#REF!,MATCH(A467,#REF!,0)),\"\")","v":""},null,{"$f":"IFERROR(INDEX(#REF!,MATCH(A467,#REF!,0)),\"\")","v":""},{"$f":"IFERROR(INDEX(#REF!,MATCH(A467,#REF!,0)),\"\")","v":""}]
[{"$f":"IF(C468=\"\",\"\",SUBTOTAL(3,C$5:C468))","v":""},{"$f":"+IFERROR(INDEX(#REF!,MATCH(A468,#REF!,0)),\"\")","v":""},null,{"$f":"IFERROR(INDEX(#REF!,MATCH(A468,#REF!,0)),\"\")","v":""},{"$f":"IFERROR(INDEX(#REF!,MATCH(A468,#REF!,0)),\"\")","v":""}]
[{"$f":"IF(C469=\"\",\"\",SUBTOTAL(3,C$5:C469))","v":""},{"$f":"+IFERROR(INDEX(#REF!,MATCH(A469,#REF!,0)),\"\")","v":""},null,{"$f":"IFERROR(INDEX(#REF!,MATCH(A469,#REF!,0)),\"\")","v":""},{"$f":"IFERROR(INDEX(#REF!,MATCH(A469,#REF!,0)),\"\")","v":""}]
[{"$f":"IF(C470=\"\",\"\",SUBTOTAL(3,C$5:C470))","v":""},{"$f":"+IFERROR(INDEX(#REF!,MATCH(A470,#REF!,0)),\"\")","v":""},null,{"$f":"IFERROR(INDEX(#REF!,MATCH(A470,#REF!,0)),\"\")","v":""},{"$f":"IFERROR(INDEX(#REF!,MATCH(A470,#REF!,0)),\"\")","v":""}]
[{"$f":"IF(C471=\"\",\"\",SUBTOTAL(3,C$5:C471))","v":""},{"$f":"+IFERROR(INDEX(#REF!,MATCH(A471,#REF!,0)),\"\")","v":""},null,{"$f":"IFERROR(INDEX(#REF!,MATCH(A471,#REF!,0)),\"\")","v":""},{"$f":"IFERROR(INDEX(#REF!,MATCH(A471,#REF!,0)),\"\")","v":""}]
[{"$f":"IF(C472=\"\",\"\",SUBTOTAL(3,C$5:C472))","v":""},{"$f":"+IFERROR(INDEX(#REF!,MATCH(A472,#REF!,0)),\"\")","v":""},null,{"$f":"IFERROR(INDEX(#REF!,MATCH(A472,#REF!,0)),\"\")","v":""},{"$f":"IFERROR(INDEX(#REF!,MATCH(A472,#REF!,0)),\"\")","v":""}]
[{"$f":"IF(C473=\"\",\"\",SUBTOTAL(3,C$5:C473))","v":""},{"$f":"+IFERROR(INDEX(#REF!,MATCH(A473,#REF!,0)),\"\")","v":""},null,{"$f":"IFERROR(INDEX(#REF!,MATCH(A473,#REF!,0)),\"\")","v":""},{"$f":"IFERROR(INDEX(#REF!,MATCH(A473,#REF!,0)),\"\")","v":""}]
[{"$f":"IF(C474=\"\",\"\",SUBTOTAL(3,C$5:C474))","v":""},{"$f":"+IFERROR(INDEX(#REF!,MATCH(A474,#REF!,0)),\"\")","v":""},null,{"$f":"IFERROR(INDEX(#REF!,MATCH(A474,#REF!,0)),\"\")","v":""},{"$f":"IFERROR(INDEX(#REF!,MATCH(A474,#REF!,0)),\"\")","v":""}]
[{"$f":"IF(C475=\"\",\"\",SUBTOTAL(3,C$5:C475))","v":""},{"$f":"+IFERROR(INDEX(#REF!,MATCH(A475,#REF!,0)),\"\")","v":""},null,{"$f":"IFERROR(INDEX(#REF!,MATCH(A475,#REF!,0)),\"\")","v":""},{"$f":"IFERROR(INDEX(#REF!,MATCH(A475,#REF!,0)),\"\")","v":""}]
[{"$f":"IF(C476=\"\",\"\",SUBTOTAL(3,C$5:C476))","v":""},{"$f":"+IFERROR(INDEX(#REF!,MATCH(A476,#REF!,0)),\"\")","v":""},null,{"$f":"IFERROR(INDEX(#REF!,MATCH(A476,#REF!,0)),\"\")","v":""},{"$f":"IFERROR(INDEX(#REF!,MATCH(A476,#REF!,0)),\"\")","v":""}]
[{"$f":"IF(C477=\"\",\"\",SUBTOTAL(3,C$5:C477))","v":""},{"$f":"+IFERROR(INDEX(#REF!,MATCH(A477,#REF!,0)),\"\")","v":""},null,{"$f":"IFERROR(INDEX(#REF!,MATCH(A477,#REF!,0)),\"\")","v":""},{"$f":"IFERROR(INDEX(#REF!,MATCH(A477,#REF!,0)),\"\")","v":""}]
[{"$f":"IF(C478=\"\",\"\",SUBTOTAL(3,C$5:C478))","v":""},{"$f":"+IFERROR(INDEX(#REF!,MATCH(A478,#REF!,0)),\"\")","v":""},null,{"$f":"IFERROR(INDEX(#REF!,MATCH(A478,#REF!,0)),\"\")","v":""},{"$f":"IFERROR(INDEX(#REF!,MATCH(A478,#REF!,0)),\"\")","v":""}]
[{"$f":"IF(C479=\"\",\"\",SUBTOTAL(3,C$5:C479))","v":""},{"$f":"+IFERROR(INDEX(#REF!,MATCH(A479,#REF!,0)),\"\")","v":""},null,{"$f":"IFERROR(INDEX(#REF!,MATCH(A479,#REF!,0)),\"\")","v":""},{"$f":"IFERROR(INDEX(#REF!,MATCH(A479,#REF!,0)),\"\")","v":""}]
[{"$f":"IF(C480=\"\",\"\",SUBTOTAL(3,C$5:C480))","v":""},{"$f":"+IFERROR(INDEX(#REF!,MATCH(A480,#REF!,0)),\"\")","v":""},null,{"$f":"IFERROR(INDEX(#REF!,MATCH(A480,#REF!,0)),\"\")","v":""},{"$f":"IFERROR(INDEX(#REF!,MATCH(A480,#REF!,0)),\"\")","v":""}]
[{"$f":"IF(C481=\"\",\"\",SUBTOTAL(3,C$5:C481))","v":""},{"$f":"+IFERROR(INDEX(#REF!,MATCH(A481,#REF!,0)),\"\")","v":""},null,{"$f":"IFERROR(INDEX(#REF!,MATCH(A481,#REF!,0)),\"\")","v":""},{"$f":"IFERROR(INDEX(#REF!,MATCH(A481,#REF!,0)),\"\")","v":""}]
[{"$f":"IF(C482=\"\",\"\",SUBTOTAL(3,C$5:C482))","v":""},{"$f":"+IFERROR(INDEX(#REF!,MATCH(A482,#REF!,0)),\"\")","v":""},null,{"$f":"IFERROR(INDEX(#REF!,MATCH(A482,#REF!,0)),\"\")","v":""},{"$f":"IFERROR(INDEX(#REF!,MATCH(A482,#REF!,0)),\"\")","v":""}]
[{"$f":"IF(C483=\"\",\"\",SUBTOTAL(3,C$5:C483))","v":""},{"$f":"+IFERROR(INDEX(#REF!,MATCH(A483,#REF!,0)),\"\")","v":""},null,{"$f":"IFERROR(INDEX(#REF!,MATCH(A483,#REF!,0)),\"\")","v":""},{"$f":"IFERROR(INDEX(#REF!,MATCH(A483,#REF!,0)),\"\")","v":""}]
[{"$f":"IF(C484=\"\",\"\",SUBTOTAL(3,C$5:C484))","v":""},{"$f":"+IFERROR(INDEX(#REF!,MATCH(A484,#REF!,0)),\"\")","v":""},null,{"$f":"IFERROR(INDEX(#REF!,MATCH(A484,#REF!,0)),\"\")","v":""},{"$f":"IFERROR(INDEX(#REF!,MATCH(A484,#REF!,0)),\"\")","v":""}]
[{"$f":"IF(C485=\"\",\"\",SUBTOTAL(3,C$5:C485))","v":""},{"$f":"+IFERROR(INDEX(#REF!,MATCH(A485,#REF!,0)),\"\")","v":""},null,{"$f":"IFERROR(INDEX(#REF!,MATCH(A485,#REF!,0)),\"\")","v":""},{"$f":"IFERROR(INDEX(#REF!,MATCH(A485,#REF!,0)),\"\")","v":""}]
[{"$f":"IF(C486=\"\",\"\",SUBTOTAL(3,C$5:C486))","v":""},{"$f":"+IFERROR(INDEX(#REF!,MATCH(A486,#REF!,0)),\"\")","v":""},null,{"$f":"IFERROR(INDEX(#REF!,MATCH(A486,#REF!,0)),\"\")","v":""},{"$f":"IFERROR(INDEX(#REF!,MATCH(A486,#REF!,0)),\"\")","v":""}]
[{"$f":"IF(C487=\"\",\"\",SUBTOTAL(3,C$5:C487))","v":""},{"$f":"+IFERROR(INDEX(#REF!,MATCH(A487,#REF!,0)),\"\")","v":""},null,{"$f":"IFERROR(INDEX(#REF!,MATCH(A487,#REF!,0)),\"\")","v":""},{"$f":"IFERROR(INDEX(#REF!,MATCH(A487,#REF!,0)),\"\")","v":""}]
[{"$f":"IF(C488=\"\",\"\",SUBTOTAL(3,C$5:C488))","v":""},{"$f":"+IFERROR(INDEX(#REF!,MATCH(A488,#REF!,0)),\"\")","v":""},null,{"$f":"IFERROR(INDEX(#REF!,MATCH(A488,#REF!,0)),\"\")","v":""},{"$f":"IFERROR(INDEX(#REF!,MATCH(A488,#REF!,0)),\"\")","v":""}]
[{"$f":"IF(C489=\"\",\"\",SUBTOTAL(3,C$5:C489))","v":""},{"$f":"+IFERROR(INDEX(#REF!,MATCH(A489,#REF!,0)),\"\")","v":""},null,{"$f":"IFERROR(INDEX(#REF!,MATCH(A489,#REF!,0)),\"\")","v":""},{"$f":"IFERROR(INDEX(#REF!,MATCH(A489,#REF!,0)),\"\")","v":""}]
[{"$f":"IF(C490=\"\",\"\",SUBTOTAL(3,C$5:C490))","v":""},{"$f":"+IFERROR(INDEX(#REF!,MATCH(A490,#REF!,0)),\"\")","v":""},null,{"$f":"IFERROR(INDEX(#REF!,MATCH(A490,#REF!,0)),\"\")","v":""},{"$f":"IFERROR(INDEX(#REF!,MATCH(A490,#REF!,0)),\"\")","v":""}]
[{"$f":"IF(C491=\"\",\"\",SUBTOTAL(3,C$5:C491))","v":""},{"$f":"+IFERROR(INDEX(#REF!,MATCH(A491,#REF!,0)),\"\")","v":""},null,{"$f":"IFERROR(INDEX(#REF!,MATCH(A491,#REF!,0)),\"\")","v":""},{"$f":"IFERROR(INDEX(#REF!,MATCH(A491,#REF!,0)),\"\")","v":""}]
[{"$f":"IF(C492=\"\",\"\",SUBTOTAL(3,C$5:C492))","v":""},{"$f":"+IFERROR(INDEX(#REF!,MATCH(A492,#REF!,0)),\"\")","v":""},null,{"$f":"IFERROR(INDEX(#REF!,MATCH(A492,#REF!,0)),\"\")","v":""},{"$f":"IFERROR(INDEX(#REF!,MATCH(A492,#REF!,0)),\"\")","v":""}]
[{"$f":"IF(C493=\"\",\"\",SUBTOTAL(3,C$5:C493))","v":""},{"$f":"+IFERROR(INDEX(#REF!,MATCH(A493,#REF!,0)),\"\")","v":""},null,{"$f":"IFERROR(INDEX(#REF!,MATCH(A493,#REF!,0)),\"\")","v":""},{"$f":"IFERROR(INDEX(#REF!,MATCH(A493,#REF!,0)),\"\")","v":""}]
[{"$f":"IF(C494=\"\",\"\",SUBTOTAL(3,C$5:C494))","v":""},{"$f":"+IFERROR(INDEX(#REF!,MATCH(A494,#REF!,0)),\"\")","v":""},null,{"$f":"IFERROR(INDEX(#REF!,MATCH(A494,#REF!,0)),\"\")","v":""},{"$f":"IFERROR(INDEX(#REF!,MATCH(A494,#REF!,0)),\"\")","v":""}]
[{"$f":"IF(C495=\"\",\"\",SUBTOTAL(3,C$5:C495))","v":""},{"$f":"+IFERROR(INDEX(#REF!,MATCH(A495,#REF!,0)),\"\")","v":""},null,{"$f":"IFERROR(INDEX(#REF!,MATCH(A495,#REF!,0)),\"\")","v":""},{"$f":"IFERROR(INDEX(#REF!,MATCH(A495,#REF!,0)),\"\")","v":""}]
[{"$f":"IF(C496=\"\",\"\",SUBTOTAL(3,C$5:C496))","v":""},{"$f":"+IFERROR(INDEX(#REF!,MATCH(A496,#REF!,0)),\"\")","v":""},null,{"$f":"IFERROR(INDEX(#REF!,MATCH(A496,#REF!,0)),\"\")","v":""},{"$f":"IFERROR(INDEX(#REF!,MATCH(A496,#REF!,0)),\"\")","v":""}]
[{"$f":"IF(C497=\"\",\"\",SUBTOTAL(3,C$5:C497))","v":""},{"$f":"+IFERROR(INDEX(#REF!,MATCH(A497,#REF!,0)),\"\")","v":""},null,{"$f":"IFERROR(INDEX(#REF!,MATCH(A497,#REF!,0)),\"\")","v":""},{"$f":"IFERROR(INDEX(#REF!,MATCH(A497,#REF!,0)),\"\")","v":""}]
[{"$f":"IF(C498=\"\",\"\",SUBTOTAL(3,C$5:C498))","v":""},{"$f":"+IFERROR(INDEX(#REF!,MATCH(A498,#REF!,0)),\"\")","v":""},null,{"$f":"IFERROR(INDEX(#REF!,MATCH(A498,#REF!,0)),\"\")","v":""},{"$f":"IFERROR(INDEX(#REF!,MATCH(A498,#REF!,0)),\"\")","v":""}]
[{"$f":"IF(C499=\"\",\"\",SUBTOTAL(3,C$5:C499))","v":""},{"$f":"+IFERROR(INDEX(#REF!,MATCH(A499,#REF!,0)),\"\")","v":""},null,{"$f":"IFERROR(INDEX(#REF!,MATCH(A499,#REF!,0)),\"\")","v":""},{"$f":"IFERROR(INDEX(#REF!,MATCH(A499,#REF!,0)),\"\")","v":""}]
[{"$f":"IF(C500=\"\",\"\",SUBTOTAL(3,C$5:C500))","v":""},{"$f":"+IFERROR(INDEX(#REF!,MATCH(A500,#REF!,0)),\"\")","v":""},null,{"$f":"IFERROR(INDEX(#REF!,MATCH(A500,#REF!,0)),\"\")","v":""},{"$f":"IFERROR(INDEX(#REF!,MATCH(A500,#REF!,0)),\"\")","v":""}]
[{"$f":"IF(C501=\"\",\"\",SUBTOTAL(3,C$5:C501))","v":""},{"$f":"+IFERROR(INDEX(#REF!,MATCH(A501,#REF!,0)),\"\")","v":""},null,{"$f":"IFERROR(INDEX(#REF!,MATCH(A501,#REF!,0)),\"\")","v":""},{"$f":"IFERROR(INDEX(#REF!,MATCH(A501,#REF!,0)),\"\")","v":""}]
[{"$f":"IF(C502=\"\",\"\",SUBTOTAL(3,C$5:C502))","v":""},{"$f":"+IFERROR(INDEX(#REF!,MATCH(A502,#REF!,0)),\"\")","v":""},null,{"$f":"IFERROR(INDEX(#REF!,MATCH(A502,#REF!,0)),\"\")","v":""},{"$f":"IFERROR(INDEX(#REF!,MATCH(A502,#REF!,0)),\"\")","v":""}]
[{"$f":"IF(C503=\"\",\"\",SUBTOTAL(3,C$5:C503))","v":""},{"$f":"+IFERROR(INDEX(#REF!,MATCH(A503,#REF!,0)),\"\")","v":""},null,{"$f":"IFERROR(INDEX(#REF!,MATCH(A503,#REF!,0)),\"\")","v":""},{"$f":"IFERROR(INDEX(#REF!,MATCH(A503,#REF!,0)),\"\")","v":""}]
[{"$f":"IF(C504=\"\",\"\",SUBTOTAL(3,C$5:C504))","v":""},{"$f":"+IFERROR(INDEX(#REF!,MATCH(A504,#REF!,0)),\"\")","v":""},null,{"$f":"IFERROR(INDEX(#REF!,MATCH(A504,#REF!,0)),\"\")","v":""},{"$f":"IFERROR(INDEX(#REF!,MATCH(A504,#REF!,0)),\"\")","v":""}]
[{"$f":"IF(C505=\"\",\"\",SUBTOTAL(3,C$5:C505))","v":""},{"$f":"+IFERROR(INDEX(#REF!,MATCH(A505,#REF!,0)),\"\")","v":""},null,{"$f":"IFERROR(INDEX(#REF!,MATCH(A505,#REF!,0)),\"\")","v":""},{"$f":"IFERROR(INDEX(#REF!,MATCH(A505,#REF!,0)),\"\")","v":""}]
[{"$f":"IF(C506=\"\",\"\",SUBTOTAL(3,C$5:C506))","v":""},{"$f":"+IFERROR(INDEX(#REF!,MATCH(A506,#REF!,0)),\"\")","v":""},null,{"$f":"IFERROR(INDEX(#REF!,MATCH(A506,#REF!,0)),\"\")","v":""},{"$f":"IFERROR(INDEX(#REF!,MATCH(A506,#REF!,0)),\"\")","v":""}]
[{"$f":"IF(C507=\"\",\"\",SUBTOTAL(3,C$5:C507))","v":""},{"$f":"+IFERROR(INDEX(#REF!,MATCH(A507,#REF!,0)),\"\")","v":""},null,{"$f":"IFERROR(INDEX(#REF!,MATCH(A507,#REF!,0)),\"\")","v":""},{"$f":"IFERROR(INDEX(#REF!,MATCH(A507,#REF!,0)),\"\")","v":""}]
[{"$f":"IF(C508=\"\",\"\",SUBTOTAL(3,C$5:C508))","v":""},{"$f":"+IFERROR(INDEX(#REF!,MATCH(A508,#REF!,0)),\"\")","v":""},null,{"$f":"IFERROR(INDEX(#REF!,MATCH(A508,#REF!,0)),\"\")","v":""},{"$f":"IFERROR(INDEX(#REF!,MATCH(A508,#REF!,0)),\"\")","v":""}]
[{"$f":"IF(C509=\"\",\"\",SUBTOTAL(3,C$5:C509))","v":""},{"$f":"+IFERROR(INDEX(#REF!,MATCH(A509,#REF!,0)),\"\")","v":""},null,{"$f":"IFERROR(INDEX(#REF!,MATCH(A509,#REF!,0)),\"\")","v":""},{"$f":"IFERROR(INDEX(#REF!,MATCH(A509,#REF!,0)),\"\")","v":""}]
[{"$f":"IF(C510=\"\",\"\",SUBTOTAL(3,C$5:C510))","v":""},{"$f":"+IFERROR(INDEX(#REF!,MATCH(A510,#REF!,0)),\"\")","v":""},null,{"$f":"IFERROR(INDEX(#REF!,MATCH(A510,#REF!,0)),\"\")","v":""},{"$f":"IFERROR(INDEX(#REF!,MATCH(A510,#REF!,0)),\"\")","v":""}]
[{"$f":"IF(C511=\"\",\"\",SUBTOTAL(3,C$5:C511))","v":""},{"$f":"+IFERROR(INDEX(#REF!,MATCH(A511,#REF!,0)),\"\")","v":""},null,{"$f":"IFERROR(INDEX(#REF!,MATCH(A511,#REF!,0)),\"\")","v":""},{"$f":"IFERROR(INDEX(#REF!,MATCH(A511,#REF!,0)),\"\")","v":""}]
[{"$f":"IF(C512=\"\",\"\",SUBTOTAL(3,C$5:C512))","v":""},{"$f":"+IFERROR(INDEX(#REF!,MATCH(A512,#REF!,0)),\"\")","v":""},null,{"$f":"IFERROR(INDEX(#REF!,MATCH(A512,#REF!,0)),\"\")","v":""},{"$f":"IFERROR(INDEX(#REF!,MATCH(A512,#REF!,0)),\"\")","v":""}]
[{"$f":"IF(C513=\"\",\"\",SUBTOTAL(3,C$5:C513))","v":""},{"$f":"+IFERROR(INDEX(#REF!,MATCH(A513,#REF!,0)),\"\")","v":""},null,{"$f":"IFERROR(INDEX(#REF!,MATCH(A513,#REF!,0)),\"\")","v":""},{"$f":"IFERROR(INDEX(#REF!,MATCH(A513,#REF!,0)),\"\")","v":""}]
[{"$f":"IF(C514=\"\",\"\",SUBTOTAL(3,C$5:C514))","v":""},{"$f":"+IFERROR(INDEX(#REF!,MATCH(A514,#REF!,0)),\"\")","v":""},null,{"$f":"IFERROR(INDEX(#REF!,MATCH(A514,#REF!,0)),\"\")","v":""},{"$f":"IFERROR(INDEX(#REF!,MATCH(A514,#REF!,0)),\"\")","v":""}]
[{"$f":"IF(C515=\"\",\"\",SUBTOTAL(3,C$5:C515))","v":""},{"$f":"+IFERROR(INDEX(#REF!,MATCH(A515,#REF!,0)),\"\")","v":""},null,{"$f":"IFERROR(INDEX(#REF!,MATCH(A515,#REF!,0)),\"\")","v":""},{"$f":"IFERROR(INDEX(#REF!,MATCH(A515,#REF!,0)),\"\")","v":""}]
[{"$f":"IF(C516=\"\",\"\",SUBTOTAL(3,C$5:C516))","v":""},{"$f":"+IFERROR(INDEX(#REF!,MATCH(A516,#REF!,0)),\"\")","v":""},null,{"$f":"IFERROR(INDEX(#REF!,MATCH(A516,#REF!,0)),\"\")","v":""},{"$f":"IFERROR(INDEX(#REF!,MATCH(A516,#REF!,0)),\"\")","v":""}]
[{"$f":"IF(C517=\"\",\"\",SUBTOTAL(3,C$5:C517))","v":""},{"$f":"+IFERROR(INDEX(#REF!,MATCH(A517,#REF!,0)),\"\")","v":""},null,{"$f":"IFERROR(INDEX(#REF!,MATCH(A517,#REF!,0)),\"\")","v":""},{"$f":"IFERROR(INDEX(#REF!,MATCH(A517,#REF!,0)),\"\")","v":""}]
[{"$f":"IF(C518=\"\",\"\",SUBTOTAL(3,C$5:C518))","v":""},{"$f":"+IFERROR(INDEX(#REF!,MATCH(A518,#REF!,0)),\"\")","v":""},null,{"$f":"IFERROR(INDEX(#REF!,MATCH(A518,#REF!,0)),\"\")","v":""},{"$f":"IFERROR(INDEX(#REF!,MATCH(A518,#REF!,0)),\"\")","v":""}]
[{"$f":"IF(C519=\"\",\"\",SUBTOTAL(3,C$5:C519))","v":""},{"$f":"+IFERROR(INDEX(#REF!,MATCH(A519,#REF!,0)),\"\")","v":""},null,{"$f":"IFERROR(INDEX(#REF!,MATCH(A519,#REF!,0)),\"\")","v":""},{"$f":"IFERROR(INDEX(#REF!,MATCH(A519,#REF!,0)),\"\")","v":""}]
[{"$f":"IF(C520=\"\",\"\",SUBTOTAL(3,C$5:C520))","v":""},{"$f":"+IFERROR(INDEX(#REF!,MATCH(A520,#REF!,0)),\"\")","v":""},null,{"$f":"IFERROR(INDEX(#REF!,MATCH(A520,#REF!,0)),\"\")","v":""},{"$f":"IFERROR(INDEX(#REF!,MATCH(A520,#REF!,0)),\"\")","v":""}]
[{"$f":"IF(C521=\"\",\"\",SUBTOTAL(3,C$5:C521))","v":""},{"$f":"+IFERROR(INDEX(#REF!,MATCH(A521,#REF!,0)),\"\")","v":""},null,{"$f":"IFERROR(INDEX(#REF!,MATCH(A521,#REF!,0)),\"\")","v":""},{"$f":"IFERROR(INDEX(#REF!,MATCH(A521,#REF!,0)),\"\")","v":""}]
[{"$f":"IF(C522=\"\",\"\",SUBTOTAL(3,C$5:C522))","v":""},{"$f":"+IFERROR(INDEX(#REF!,MATCH(A522,#REF!,0)),\"\")","v":""},null,{"$f":"IFERROR(INDEX(#REF!,MATCH(A522,#REF!,0)),\"\")","v":""},{"$f":"IFERROR(INDEX(#REF!,MATCH(A522,#REF!,0)),\"\")","v":""}]
[{"$f":"IF(C523=\"\",\"\",SUBTOTAL(3,C$5:C523))","v":""},{"$f":"+IFERROR(INDEX(#REF!,MATCH(A523,#REF!,0)),\"\")","v":""},null,{"$f":"IFERROR(INDEX(#REF!,MATCH(A523,#REF!,0)),\"\")","v":""},{"$f":"IFERROR(INDEX(#REF!,MATCH(A523,#REF!,0)),\"\")","v":""}]
[{"$f":"IF(C524=\"\",\"\",SUBTOTAL(3,C$5:C524))","v":""},{"$f":"+IFERROR(INDEX(#REF!,MATCH(A524,#REF!,0)),\"\")","v":""},null,{"$f":"IFERROR(INDEX(#REF!,MATCH(A524,#REF!,0)),\"\")","v":""},{"$f":"IFERROR(INDEX(#REF!,MATCH(A524,#REF!,0)),\"\")","v":""}]
[{"$f":"IF(C525=\"\",\"\",SUBTOTAL(3,C$5:C525))","v":""},{"$f":"+IFERROR(INDEX(#REF!,MATCH(A525,#REF!,0)),\"\")","v":""},null,{"$f":"IFERROR(INDEX(#REF!,MATCH(A525,#REF!,0)),\"\")","v":""},{"$f":"IFERROR(INDEX(#REF!,MATCH(A525,#REF!,0)),\"\")","v":""}]
[{"$f":"IF(C526=\"\",\"\",SUBTOTAL(3,C$5:C526))","v":""},{"$f":"+IFERROR(INDEX(#REF!,MATCH(A526,#REF!,0)),\"\")","v":""},null,{"$f":"IFERROR(INDEX(#REF!,MATCH(A526,#REF!,0)),\"\")","v":""},{"$f":"IFERROR(INDEX(#REF!,MATCH(A526,#REF!,0)),\"\")","v":""}]
[{"$f":"IF(C527=\"\",\"\",SUBTOTAL(3,C$5:C527))","v":""},{"$f":"+IFERROR(INDEX(#REF!,MATCH(A527,#REF!,0)),\"\")","v":""},null,{"$f":"IFERROR(INDEX(#REF!,MATCH(A527,#REF!,0)),\"\")","v":""},{"$f":"IFERROR(INDEX(#REF!,MATCH(A527,#REF!,0)),\"\")","v":""}]
[{"$f":"IF(C528=\"\",\"\",SUBTOTAL(3,C$5:C528))","v":""},{"$f":"+IFERROR(INDEX(#REF!,MATCH(A528,#REF!,0)),\"\")","v":""},null,{"$f":"IFERROR(INDEX(#REF!,MATCH(A528,#REF!,0)),\"\")","v":""},{"$f":"IFERROR(INDEX(#REF!,MATCH(A528,#REF!,0)),\"\")","v":""}]
[{"$f":"IF(C529=\"\",\"\",SUBTOTAL(3,C$5:C529))","v":""},{"$f":"+IFERROR(INDEX(#REF!,MATCH(A529,#REF!,0)),\"\")","v":""},null,{"$f":"IFERROR(INDEX(#REF!,MATCH(A529,#REF!,0)),\"\")","v":""},{"$f":"IFERROR(INDEX(#REF!,MATCH(A529,#REF!,0)),\"\")","v":""}]
[{"$f":"IF(C530=\"\",\"\",SUBTOTAL(3,C$5:C530))","v":""},{"$f":"+IFERROR(INDEX(#REF!,MATCH(A530,#REF!,0)),\"\")","v":""},null,{"$f":"IFERROR(INDEX(#REF!,MATCH(A530,#REF!,0)),\"\")","v":""},{"$f":"IFERROR(INDEX(#REF!,MATCH(A530,#REF!,0)),\"\")","v":""}]
[{"$f":"IF(C531=\"\",\"\",SUBTOTAL(3,C$5:C531))","v":""},{"$f":"+IFERROR(INDEX(#REF!,MATCH(A531,#REF!,0)),\"\")","v":""},null,{"$f":"IFERROR(INDEX(#REF!,MATCH(A531,#REF!,0)),\"\")","v":""},{"$f":"IFERROR(INDEX(#REF!,MATCH(A531,#REF!,0)),\"\")","v":""}]
[{"$f":"IF(C532=\"\",\"\",SUBTOTAL(3,C$5:C532))","v":""},{"$f":"+IFERROR(INDEX(#REF!,MATCH(A532,#REF!,0)),\"\")","v":""},null,{"$f":"IFERROR(INDEX(#REF!,MATCH(A532,#REF!,0)),\"\")","v":""},{"$f":"IFERROR(INDEX(#REF!,MATCH(A532,#REF!,0)),\"\")","v":""}]
[{"$f":"IF(C533=\"\",\"\",SUBTOTAL(3,C$5:C533))","v":""},{"$f":"+IFERROR(INDEX(#REF!,MATCH(A533,#REF!,0)),\"\")","v":""},null,{"$f":"IFERROR(INDEX(#REF!,MATCH(A533,#REF!,0)),\"\")","v":""},{"$f":"IFERROR(INDEX(#REF!,MATCH(A533,#REF!,0)),\"\")","v":""}]
[{"$f":"IF(C534=\"\",\"\",SUBTOTAL(3,C$5:C534))","v":""},{"$f":"+IFERROR(INDEX(#REF!,MATCH(A534,#REF!,0)),\"\")","v":""},null,{"$f":"IFERROR(INDEX(#REF!,MATCH(A534,#REF!,0)),\"\")","v":""},{"$f":"IFERROR(INDEX(#REF!,MATCH(A534,#REF!,0)),\"\")","v":""}]
[{"$f":"IF(C535=\"\",\"\",SUBTOTAL(3,C$5:C535))","v":""},{"$f":"+IFERROR(INDEX(#REF!,MATCH(A535,#REF!,0)),\"\")","v":""},null,{"$f":"IFERROR(INDEX(#REF!,MATCH(A535,#REF!,0)),\"\")","v":""},{"$f":"IFERROR(INDEX(#REF!,MATCH(A535,#REF!,0)),\"\")","v":""}]
[{"$f":"IF(C536=\"\",\"\",SUBTOTAL(3,C$5:C536))","v":""},{"$f":"+IFERROR(INDEX(#REF!,MATCH(A536,#REF!,0)),\"\")","v":""},null,{"$f":"IFERROR(INDEX(#REF!,MATCH(A536,#REF!,0)),\"\")","v":""},{"$f":"IFERROR(INDEX(#REF!,MATCH(A536,#REF!,0)),\"\")","v":""}]
[{"$f":"IF(C537=\"\",\"\",SUBTOTAL(3,C$5:C537))","v":""},{"$f":"+IFERROR(INDEX(#REF!,MATCH(A537,#REF!,0)),\"\")","v":""},null,{"$f":"IFERROR(INDEX(#REF!,MATCH(A537,#REF!,0)),\"\")","v":""},{"$f":"IFERROR(INDEX(#REF!,MATCH(A537,#REF!,0)),\"\")","v":""}]
[{"$f":"IF(C538=\"\",\"\",SUBTOTAL(3,C$5:C538))","v":""},{"$f":"+IFERROR(INDEX(#REF!,MATCH(A538,#REF!,0)),\"\")","v":""},null,{"$f":"IFERROR(INDEX(#REF!,MATCH(A538,#REF!,0)),\"\")","v":""},{"$f":"IFERROR(INDEX(#REF!,MATCH(A538,#REF!,0)),\"\")","v":""}]
[{"$f":"IF(C539=\"\",\"\",SUBTOTAL(3,C$5:C539))","v":""},{"$f":"+IFERROR(INDEX(#REF!,MATCH(A539,#REF!,0)),\"\")","v":""},null,{"$f":"IFERROR(INDEX(#REF!,MATCH(A539,#REF!,0)),\"\")","v":""},{"$f":"IFERROR(INDEX(#REF!,MATCH(A539,#REF!,0)),\"\")","v":""}]
[{"$f":"IF(C540=\"\",\"\",SUBTOTAL(3,C$5:C540))","v":""},{"$f":"+IFERROR(INDEX(#REF!,MATCH(A540,#REF!,0)),\"\")","v":""},null,{"$f":"IFERROR(INDEX(#REF!,MATCH(A540,#REF!,0)),\"\")","v":""},{"$f":"IFERROR(INDEX(#REF!,MATCH(A540,#REF!,0)),\"\")","v":""}]
[{"$f":"IF(C541=\"\",\"\",SUBTOTAL(3,C$5:C541))","v":""},{"$f":"+IFERROR(INDEX(#REF!,MATCH(A541,#REF!,0)),\"\")","v":""},null,{"$f":"IFERROR(INDEX(#REF!,MATCH(A541,#REF!,0)),\"\")","v":""},{"$f":"IFERROR(INDEX(#REF!,MATCH(A541,#REF!,0)),\"\")","v":""}]
[{"$f":"IF(C542=\"\",\"\",SUBTOTAL(3,C$5:C542))","v":""},{"$f":"+IFERROR(INDEX(#REF!,MATCH(A542,#REF!,0)),\"\")","v":""},null,{"$f":"IFERROR(INDEX(#REF!,MATCH(A542,#REF!,0)),\"\")","v":""},{"$f":"IFERROR(INDEX(#REF!,MATCH(A542,#REF!,0)),\"\")","v":""}]
[{"$f":"IF(C543=\"\",\"\",SUBTOTAL(3,C$5:C543))","v":""},{"$f":"+IFERROR(INDEX(#REF!,MATCH(A543,#REF!,0)),\"\")","v":""},null,{"$f":"IFERROR(INDEX(#REF!,MATCH(A543,#REF!,0)),\"\")","v":""},{"$f":"IFERROR(INDEX(#REF!,MATCH(A543,#REF!,0)),\"\")","v":""}]
[{"$f":"IF(C544=\"\",\"\",SUBTOTAL(3,C$5:C544))","v":""},{"$f":"+IFERROR(INDEX(#REF!,MATCH(A544,#REF!,0)),\"\")","v":""},null,{"$f":"IFERROR(INDEX(#REF!,MATCH(A544,#REF!,0)),\"\")","v":""},{"$f":"IFERROR(INDEX(#REF!,MATCH(A544,#REF!,0)),\"\")","v":""}]
[{"$f":"IF(C545=\"\",\"\",SUBTOTAL(3,C$5:C545))","v":""},{"$f":"+IFERROR(INDEX(#REF!,MATCH(A545,#REF!,0)),\"\")","v":""},null,{"$f":"IFERROR(INDEX(#REF!,MATCH(A545,#REF!,0)),\"\")","v":""},{"$f":"IFERROR(INDEX(#REF!,MATCH(A545,#REF!,0)),\"\")","v":""}]
[{"$f":"IF(C546=\"\",\"\",SUBTOTAL(3,C$5:C546))","v":""},{"$f":"+IFERROR(INDEX(#REF!,MATCH(A546,#REF!,0)),\"\")","v":""},null,{"$f":"IFERROR(INDEX(#REF!,MATCH(A546,#REF!,0)),\"\")","v":""},{"$f":"IFERROR(INDEX(#REF!,MATCH(A546,#REF!,0)),\"\")","v":""}]
[{"$f":"IF(C547=\"\",\"\",SUBTOTAL(3,C$5:C547))","v":""},{"$f":"+IFERROR(INDEX(#REF!,MATCH(A547,#REF!,0)),\"\")","v":""},null,{"$f":"IFERROR(INDEX(#REF!,MATCH(A547,#REF!,0)),\"\")","v":""},{"$f":"IFERROR(INDEX(#REF!,MATCH(A547,#REF!,0)),\"\")","v":""}]
[{"$f":"IF(C548=\"\",\"\",SUBTOTAL(3,C$5:C548))","v":""},{"$f":"+IFERROR(INDEX(#REF!,MATCH(A548,#REF!,0)),\"\")","v":""},null,{"$f":"IFERROR(INDEX(#REF!,MATCH(A548,#REF!,0)),\"\")","v":""},{"$f":"IFERROR(INDEX(#REF!,MATCH(A548,#REF!,0)),\"\")","v":""}]
[{"$f":"IF(C549=\"\",\"\",SUBTOTAL(3,C$5:C549))","v":""},{"$f":"+IFERROR(INDEX(#REF!,MATCH(A549,#REF!,0)),\"\")","v":""},null,{"$f":"IFERROR(INDEX(#REF!,MATCH(A549,#REF!,0)),\"\")","v":""},{"$f":"IFERROR(INDEX(#REF!,MATCH(A549,#REF!,0)),\"\")","v":""}]
[{"$f":"IF(C550=\"\",\"\",SUBTOTAL(3,C$5:C550))","v":""},{"$f":"+IFERROR(INDEX(#REF!,MATCH(A550,#REF!,0)),\"\")","v":""},null,{"$f":"IFERROR(INDEX(#REF!,MATCH(A550,#REF!,0)),\"\")","v":""},{"$f":"IFERROR(INDEX(#REF!,MATCH(A550,#REF!,0)),\"\")","v":""}]
[{"$f":"IF(C551=\"\",\"\",SUBTOTAL(3,C$5:C551))","v":""},{"$f":"+IFERROR(INDEX(#REF!,MATCH(A551,#REF!,0)),\"\")","v":""},null,{"$f":"IFERROR(INDEX(#REF!,MATCH(A551,#REF!,0)),\"\")","v":""},{"$f":"IFERROR(INDEX(#REF!,MATCH(A551,#REF!,0)),\"\")","v":""}]
[{"$f":"IF(C552=\"\",\"\",SUBTOTAL(3,C$5:C552))","v":""},{"$f":"+IFERROR(INDEX(#REF!,MATCH(A552,#REF!,0)),\"\")","v":""},null,{"$f":"IFERROR(INDEX(#REF!,MATCH(A552,#REF!,0)),\"\")","v":""},{"$f":"IFERROR(INDEX(#REF!,MATCH(A552,#REF!,0)),\"\")","v":""}]
[{"$f":"IF(C553=\"\",\"\",SUBTOTAL(3,C$5:C553))","v":""},{"$f":"+IFERROR(INDEX(#REF!,MATCH(A553,#REF!,0)),\"\")","v":""},null,{"$f":"IFERROR(INDEX(#REF!,MATCH(A553,#REF!,0)),\"\")","v":""},{"$f":"IFERROR(INDEX(#REF!,MATCH(A553,#REF!,0)),\"\")","v":""}]
[{"$f":"IF(C554=\"\",\"\",SUBTOTAL(3,C$5:C554))","v":""},{"$f":"+IFERROR(INDEX(#REF!,MATCH(A554,#REF!,0)),\"\")","v":""},null,{"$f":"IFERROR(INDEX(#REF!,MATCH(A554,#REF!,0)),\"\")","v":""},{"$f":"IFERROR(INDEX(#REF!,MATCH(A554,#REF!,0)),\"\")","v":""}]
[{"$f":"IF(C555=\"\",\"\",SUBTOTAL(3,C$5:C555))","v":""},{"$f":"+IFERROR(INDEX(#REF!,MATCH(A555,#REF!,0)),\"\")","v":""},null,{"$f":"IFERROR(INDEX(#REF!,MATCH(A555,#REF!,0)),\"\")","v":""},{"$f":"IFERROR(INDEX(#REF!,MATCH(A555,#REF!,0)),\"\")","v":""}]
[{"$f":"IF(C556=\"\",\"\",SUBTOTAL(3,C$5:C556))","v":""},{"$f":"+IFERROR(INDEX(#REF!,MATCH(A556,#REF!,0)),\"\")","v":""},null,{"$f":"IFERROR(INDEX(#REF!,MATCH(A556,#REF!,0)),\"\")","v":""},{"$f":"IFERROR(INDEX(#REF!,MATCH(A556,#REF!,0)),\"\")","v":""}]
[{"$f":"IF(C557=\"\",\"\",SUBTOTAL(3,C$5:C557))","v":""},{"$f":"+IFERROR(INDEX(#REF!,MATCH(A557,#REF!,0)),\"\")","v":""},null,{"$f":"IFERROR(INDEX(#REF!,MATCH(A557,#REF!,0)),\"\")","v":""},{"$f":"IFERROR(INDEX(#REF!,MATCH(A557,#REF!,0)),\"\")","v":""}]
[{"$f":"IF(C558=\"\",\"\",SUBTOTAL(3,C$5:C558))","v":""},{"$f":"+IFERROR(INDEX(#REF!,MATCH(A558,#REF!,0)),\"\")","v":""},null,{"$f":"IFERROR(INDEX(#REF!,MATCH(A558,#REF!,0)),\"\")","v":""},{"$f":"IFERROR(INDEX(#REF!,MATCH(A558,#REF!,0)),\"\")","v":""}]
[{"$f":"IF(C559=\"\",\"\",SUBTOTAL(3,C$5:C559))","v":""},{"$f":"+IFERROR(INDEX(#REF!,MATCH(A559,#REF!,0)),\"\")","v":""},null,{"$f":"IFERROR(INDEX(#REF!,MATCH(A559,#REF!,0)),\"\")","v":""},{"$f":"IFERROR(INDEX(#REF!,MATCH(A559,#REF!,0)),\"\")","v":""}]
[{"$f":"IF(C560=\"\",\"\",SUBTOTAL(3,C$5:C560))","v":""},{"$f":"+IFERROR(INDEX(#REF!,MATCH(A560,#REF!,0)),\"\")","v":""},null,{"$f":"IFERROR(INDEX(#REF!,MATCH(A560,#REF!,0)),\"\")","v":""},{"$f":"IFERROR(INDEX(#REF!,MATCH(A560,#REF!,0)),\"\")","v":""}]
[{"$f":"IF(C561=\"\",\"\",SUBTOTAL(3,C$5:C561))","v":""},{"$f":"+IFERROR(INDEX(#REF!,MATCH(A561,#REF!,0)),\"\")","v":""},null,{"$f":"IFERROR(INDEX(#REF!,MATCH(A561,#REF!,0)),\"\")","v":""},{"$f":"IFERROR(INDEX(#REF!,MATCH(A561,#REF!,0)),\"\")","v":""}]
[{"$f":"IF(C562=\"\",\"\",SUBTOTAL(3,C$5:C562))","v":""},{"$f":"+IFERROR(INDEX(#REF!,MATCH(A562,#REF!,0)),\"\")","v":""},null,{"$f":"IFERROR(INDEX(#REF!,MATCH(A562,#REF!,0)),\"\")","v":""},{"$f":"IFERROR(INDEX(#REF!,MATCH(A562,#REF!,0)),\"\")","v":""}]
[{"$f":"IF(C563=\"\",\"\",SUBTOTAL(3,C$5:C563))","v":""},{"$f":"+IFERROR(INDEX(#REF!,MATCH(A563,#REF!,0)),\"\")","v":""},null,{"$f":"IFERROR(INDEX(#REF!,MATCH(A563,#REF!,0)),\"\")","v":""},{"$f":"IFERROR(INDEX(#REF!,MATCH(A563,#REF!,0)),\"\")","v":""}]
[{"$f":"IF(C564=\"\",\"\",SUBTOTAL(3,C$5:C564))","v":""},{"$f":"+IFERROR(INDEX(#REF!,MATCH(A564,#REF!,0)),\"\")","v":""},null,{"$f":"IFERROR(INDEX(#REF!,MATCH(A564,#REF!,0)),\"\")","v":""},{"$f":"IFERROR(INDEX(#REF!,MATCH(A564,#REF!,0)),\"\")","v":""}]
[{"$f":"IF(C565=\"\",\"\",SUBTOTAL(3,C$5:C565))","v":""},{"$f":"+IFERROR(INDEX(#REF!,MATCH(A565,#REF!,0)),\"\")","v":""},null,{"$f":"IFERROR(INDEX(#REF!,MATCH(A565,#REF!,0)),\"\")","v":""},{"$f":"IFERROR(INDEX(#REF!,MATCH(A565,#REF!,0)),\"\")","v":""}]
[{"$f":"IF(C566=\"\",\"\",SUBTOTAL(3,C$5:C566))","v":""},{"$f":"+IFERROR(INDEX(#REF!,MATCH(A566,#REF!,0)),\"\")","v":""},null,{"$f":"IFERROR(INDEX(#REF!,MATCH(A566,#REF!,0)),\"\")","v":""},{"$f":"IFERROR(INDEX(#REF!,MATCH(A566,#REF!,0)),\"\")","v":""}]
[{"$f":"IF(C567=\"\",\"\",SUBTOTAL(3,C$5:C567))","v":""},{"$f":"+IFERROR(INDEX(#REF!,MATCH(A567,#REF!,0)),\"\")","v":""},null,{"$f":"IFERROR(INDEX(#REF!,MATCH(A567,#REF!,0)),\"\")","v":""},{"$f":"IFERROR(INDEX(#REF!,MATCH(A567,#REF!,0)),\"\")","v":""}]
[{"$f":"IF(C568=\"\",\"\",SUBTOTAL(3,C$5:C568))","v":""},{"$f":"+IFERROR(INDEX(#REF!,MATCH(A568,#REF!,0)),\"\")","v":""},null,{"$f":"IFERROR(INDEX(#REF!,MATCH(A568,#REF!,0)),\"\")","v":""},{"$f":"IFERROR(INDEX(#REF!,MATCH(A568,#REF!,0)),\"\")","v":""}]
[{"$f":"IF(C569=\"\",\"\",SUBTOTAL(3,C$5:C569))","v":""},{"$f":"+IFERROR(INDEX(#REF!,MATCH(A569,#REF!,0)),\"\")","v":""},null,{"$f":"IFERROR(INDEX(#REF!,MATCH(A569,#REF!,0)),\"\")","v":""},{"$f":"IFERROR(INDEX(#REF!,MATCH(A569,#REF!,0)),\"\")","v":""}]
[{"$f":"IF(C570=\"\",\"\",SUBTOTAL(3,C$5:C570))","v":""},{"$f":"+IFERROR(INDEX(#REF!,MATCH(A570,#REF!,0)),\"\")","v":""},null,{"$f":"IFERROR(INDEX(#REF!,MATCH(A570,#REF!,0)),\"\")","v":""},{"$f":"IFERROR(INDEX(#REF!,MATCH(A570,#REF!,0)),\"\")","v":""}]
[{"$f":"IF(C571=\"\",\"\",SUBTOTAL(3,C$5:C571))","v":""},{"$f":"+IFERROR(INDEX(#REF!,MATCH(A571,#REF!,0)),\"\")","v":""},null,{"$f":"IFERROR(INDEX(#REF!,MATCH(A571,#REF!,0)),\"\")","v":""},{"$f":"IFERROR(INDEX(#REF!,MATCH(A571,#REF!,0)),\"\")","v":""}]
[{"$f":"IF(C572=\"\",\"\",SUBTOTAL(3,C$5:C572))","v":""},{"$f":"+IFERROR(INDEX(#REF!,MATCH(A572,#REF!,0)),\"\")","v":""},null,{"$f":"IFERROR(INDEX(#REF!,MATCH(A572,#REF!,0)),\"\")","v":""},{"$f":"IFERROR(INDEX(#REF!,MATCH(A572,#REF!,0)),\"\")","v":""}]
[{"$f":"IF(C573=\"\",\"\",SUBTOTAL(3,C$5:C573))","v":""},{"$f":"+IFERROR(INDEX(#REF!,MATCH(A573,#REF!,0)),\"\")","v":""},null,{"$f":"IFERROR(INDEX(#REF!,MATCH(A573,#REF!,0)),\"\")","v":""},{"$f":"IFERROR(INDEX(#REF!,MATCH(A573,#REF!,0)),\"\")","v":""}]
[{"$f":"IF(C574=\"\",\"\",SUBTOTAL(3,C$5:C574))","v":""},{"$f":"+IFERROR(INDEX(#REF!,MATCH(A574,#REF!,0)),\"\")","v":""},null,{"$f":"IFERROR(INDEX(#REF!,MATCH(A574,#REF!,0)),\"\")","v":""},{"$f":"IFERROR(INDEX(#REF!,MATCH(A574,#REF!,0)),\"\")","v":""}]
[{"$f":"IF(C575=\"\",\"\",SUBTOTAL(3,C$5:C575))","v":""},{"$f":"+IFERROR(INDEX(#REF!,MATCH(A575,#REF!,0)),\"\")","v":""},null,{"$f":"IFERROR(INDEX(#REF!,MATCH(A575,#REF!,0)),\"\")","v":""},{"$f":"IFERROR(INDEX(#REF!,MATCH(A575,#REF!,0)),\"\")","v":""}]
[{"$f":"IF(C576=\"\",\"\",SUBTOTAL(3,C$5:C576))","v":""},{"$f":"+IFERROR(INDEX(#REF!,MATCH(A576,#REF!,0)),\"\")","v":""},null,{"$f":"IFERROR(INDEX(#REF!,MATCH(A576,#REF!,0)),\"\")","v":""},{"$f":"IFERROR(INDEX(#REF!,MATCH(A576,#REF!,0)),\"\")","v":""}]
[{"$f":"IF(C577=\"\",\"\",SUBTOTAL(3,C$5:C577))","v":""},{"$f":"+IFERROR(INDEX(#REF!,MATCH(A577,#REF!,0)),\"\")","v":""},null,{"$f":"IFERROR(INDEX(#REF!,MATCH(A577,#REF!,0)),\"\")","v":""},{"$f":"IFERROR(INDEX(#REF!,MATCH(A577,#REF!,0)),\"\")","v":""}]
[{"$f":"IF(C578=\"\",\"\",SUBTOTAL(3,C$5:C578))","v":""},{"$f":"+IFERROR(INDEX(#REF!,MATCH(A578,#REF!,0)),\"\")","v":""},null,{"$f":"IFERROR(INDEX(#REF!,MATCH(A578,#REF!,0)),\"\")","v":""},{"$f":"IFERROR(INDEX(#REF!,MATCH(A578,#REF!,0)),\"\")","v":""}]
[{"$f":"IF(C579=\"\",\"\",SUBTOTAL(3,C$5:C579))","v":""},{"$f":"+IFERROR(INDEX(#REF!,MATCH(A579,#REF!,0)),\"\")","v":""},null,{"$f":"IFERROR(INDEX(#REF!,MATCH(A579,#REF!,0)),\"\")","v":""},{"$f":"IFERROR(INDEX(#REF!,MATCH(A579,#REF!,0)),\"\")","v":""}]
[{"$f":"IF(C580=\"\",\"\",SUBTOTAL(3,C$5:C580))","v":""},{"$f":"+IFERROR(INDEX(#REF!,MATCH(A580,#REF!,0)),\"\")","v":""},null,{"$f":"IFERROR(INDEX(#REF!,MATCH(A580,#REF!,0)),\"\")","v":""},{"$f":"IFERROR(INDEX(#REF!,MATCH(A580,#REF!,0)),\"\")","v":""}]
[{"$f":"IF(C581=\"\",\"\",SUBTOTAL(3,C$5:C581))","v":""},{"$f":"+IFERROR(INDEX(#REF!,MATCH(A581,#REF!,0)),\"\")","v":""},null,{"$f":"IFERROR(INDEX(#REF!,MATCH(A581,#REF!,0)),\"\")","v":""},{"$f":"IFERROR(INDEX(#REF!,MATCH(A581,#REF!,0)),\"\")","v":""}]
[{"$f":"IF(C582=\"\",\"\",SUBTOTAL(3,C$5:C582))","v":""},{"$f":"+IFERROR(INDEX(#REF!,MATCH(A582,#REF!,0)),\"\")","v":""},null,{"$f":"IFERROR(INDEX(#REF!,MATCH(A582,#REF!,0)),\"\")","v":""},{"$f":"IFERROR(INDEX(#REF!,MATCH(A582,#REF!,0)),\"\")","v":""}]
[{"$f":"IF(C583=\"\",\"\",SUBTOTAL(3,C$5:C583))","v":""},{"$f":"+IFERROR(INDEX(#REF!,MATCH(A583,#REF!,0)),\"\")","v":""},null,{"$f":"IFERROR(INDEX(#REF!,MATCH(A583,#REF!,0)),\"\")","v":""},{"$f":"IFERROR(INDEX(#REF!,MATCH(A583,#REF!,0)),\"\")","v":""}]
[{"$f":"IF(C584=\"\",\"\",SUBTOTAL(3,C$5:C584))","v":""},{"$f":"+IFERROR(INDEX(#REF!,MATCH(A584,#REF!,0)),\"\")","v":""},null,{"$f":"IFERROR(INDEX(#REF!,MATCH(A584,#REF!,0)),\"\")","v":""},{"$f":"IFERROR(INDEX(#REF!,MATCH(A584,#REF!,0)),\"\")","v":""}]
[{"$f":"IF(C585=\"\",\"\",SUBTOTAL(3,C$5:C585))","v":""},{"$f":"+IFERROR(INDEX(#REF!,MATCH(A585,#REF!,0)),\"\")","v":""},null,{"$f":"IFERROR(INDEX(#REF!,MATCH(A585,#REF!,0)),\"\")","v":""},{"$f":"IFERROR(INDEX(#REF!,MATCH(A585,#REF!,0)),\"\")","v":""}]
[{"$f":"IF(C586=\"\",\"\",SUBTOTAL(3,C$5:C586))","v":""},{"$f":"+IFERROR(INDEX(#REF!,MATCH(A586,#REF!,0)),\"\")","v":""},null,{"$f":"IFERROR(INDEX(#REF!,MATCH(A586,#REF!,0)),\"\")","v":""},{"$f":"IFERROR(INDEX(#REF!,MATCH(A586,#REF!,0)),\"\")","v":""}]
[{"$f":"IF(C587=\"\",\"\",SUBTOTAL(3,C$5:C587))","v":""},{"$f":"+IFERROR(INDEX(#REF!,MATCH(A587,#REF!,0)),\"\")","v":""},null,{"$f":"IFERROR(INDEX(#REF!,MATCH(A587,#REF!,0)),\"\")","v":""},{"$f":"IFERROR(INDEX(#REF!,MATCH(A587,#REF!,0)),\"\")","v":""}]
[{"$f":"IF(C588=\"\",\"\",SUBTOTAL(3,C$5:C588))","v":""},{"$f":"+IFERROR(INDEX(#REF!,MATCH(A588,#REF!,0)),\"\")","v":""},null,{"$f":"IFERROR(INDEX(#REF!,MATCH(A588,#REF!,0)),\"\")","v":""},{"$f":"IFERROR(INDEX(#REF!,MATCH(A588,#REF!,0)),\"\")","v":""}]
[{"$f":"IF(C589=\"\",\"\",SUBTOTAL(3,C$5:C589))","v":""},{"$f":"+IFERROR(INDEX(#REF!,MATCH(A589,#REF!,0)),\"\")","v":""},null,{"$f":"IFERROR(INDEX(#REF!,MATCH(A589,#REF!,0)),\"\")","v":""},{"$f":"IFERROR(INDEX(#REF!,MATCH(A589,#REF!,0)),\"\")","v":""}]
[{"$f":"IF(C590=\"\",\"\",SUBTOTAL(3,C$5:C590))","v":""},{"$f":"+IFERROR(INDEX(#REF!,MATCH(A590,#REF!,0)),\"\")","v":""},null,{"$f":"IFERROR(INDEX(#REF!,MATCH(A590,#REF!,0)),\"\")","v":""},{"$f":"IFERROR(INDEX(#REF!,MATCH(A590,#REF!,0)),\"\")","v":""}]
[{"$f":"IF(C591=\"\",\"\",SUBTOTAL(3,C$5:C591))","v":""},{"$f":"+IFERROR(INDEX(#REF!,MATCH(A591,#REF!,0)),\"\")","v":""},null,{"$f":"IFERROR(INDEX(#REF!,MATCH(A591,#REF!,0)),\"\")","v":""},{"$f":"IFERROR(INDEX(#REF!,MATCH(A591,#REF!,0)),\"\")","v":""}]
[{"$f":"IF(C592=\"\",\"\",SUBTOTAL(3,C$5:C592))","v":""},{"$f":"+IFERROR(INDEX(#REF!,MATCH(A592,#REF!,0)),\"\")","v":""},null,{"$f":"IFERROR(INDEX(#REF!,MATCH(A592,#REF!,0)),\"\")","v":""},{"$f":"IFERROR(INDEX(#REF!,MATCH(A592,#REF!,0)),\"\")","v":""}]
[{"$f":"IF(C593=\"\",\"\",SUBTOTAL(3,C$5:C593))","v":""},{"$f":"+IFERROR(INDEX(#REF!,MATCH(A593,#REF!,0)),\"\")","v":""},null,{"$f":"IFERROR(INDEX(#REF!,MATCH(A593,#REF!,0)),\"\")","v":""},{"$f":"IFERROR(INDEX(#REF!,MATCH(A593,#REF!,0)),\"\")","v":""}]
[{"$f":"IF(C594=\"\",\"\",SUBTOTAL(3,C$5:C594))","v":""},{"$f":"+IFERROR(INDEX(#REF!,MATCH(A594,#REF!,0)),\"\")","v":""},null,{"$f":"IFERROR(INDEX(#REF!,MATCH(A594,#REF!,0)),\"\")","v":""},{"$f":"IFERROR(INDEX(#REF!,MATCH(A594,#REF!,0)),\"\")","v":""}]
[{"$f":"IF(C595=\"\",\"\",SUBTOTAL(3,C$5:C595))","v":""},{"$f":"+IFERROR(INDEX(#REF!,MATCH(A595,#REF!,0)),\"\")","v":""},null,{"$f":"IFERROR(INDEX(#REF!,MATCH(A595,#REF!,0)),\"\")","v":""},{"$f":"IFERROR(INDEX(#REF!,MATCH(A595,#REF!,0)),\"\")","v":""}]
[{"$f":"IF(C596=\"\",\"\",SUBTOTAL(3,C$5:C596))","v":""},{"$f":"+IFERROR(INDEX(#REF!,MATCH(A596,#REF!,0)),\"\")","v":""},null,{"$f":"IFERROR(INDEX(#REF!,MATCH(A596,#REF!,0)),\"\")","v":""},{"$f":"IFERROR(INDEX(#REF!,MATCH(A596,#REF!,0)),\"\")","v":""}]
[{"$f":"IF(C597=\"\",\"\",SUBTOTAL(3,C$5:C597))","v":""},{"$f":"+IFERROR(INDEX(#REF!,MATCH(A597,#REF!,0)),\"\")","v":""},null,{"$f":"IFERROR(INDEX(#REF!,MATCH(A597,#REF!,0)),\"\")","v":""},{"$f":"IFERROR(INDEX(#REF!,MATCH(A597,#REF!,0)),\"\")","v":""}]
[{"$f":"IF(C598=\"\",\"\",SUBTOTAL(3,C$5:C598))","v":""},{"$f":"+IFERROR(INDEX(#REF!,MATCH(A598,#REF!,0)),\"\")","v":""},null,{"$f":"IFERROR(INDEX(#REF!,MATCH(A598,#REF!,0)),\"\")","v":""},{"$f":"IFERROR(INDEX(#REF!,MATCH(A598,#REF!,0)),\"\")","v":""}]
[{"$f":"IF(C599=\"\",\"\",SUBTOTAL(3,C$5:C599))","v":""},{"$f":"+IFERROR(INDEX(#REF!,MATCH(A599,#REF!,0)),\"\")","v":""},null,{"$f":"IFERROR(INDEX(#REF!,MATCH(A599,#REF!,0)),\"\")","v":""},{"$f":"IFERROR(INDEX(#REF!,MATCH(A599,#REF!,0)),\"\")","v":""}]
[{"$f":"IF(C600=\"\",\"\",SUBTOTAL(3,C$5:C600))","v":""},{"$f":"+IFERROR(INDEX(#REF!,MATCH(A600,#REF!,0)),\"\")","v":""},null,{"$f":"IFERROR(INDEX(#REF!,MATCH(A600,#REF!,0)),\"\")","v":""},{"$f":"IFERROR(INDEX(#REF!,MATCH(A600,#REF!,0)),\"\")","v":""}]
[{"$f":"IF(C601=\"\",\"\",SUBTOTAL(3,C$5:C601))","v":""},{"$f":"+IFERROR(INDEX(#REF!,MATCH(A601,#REF!,0)),\"\")","v":""},null,{"$f":"IFERROR(INDEX(#REF!,MATCH(A601,#REF!,0)),\"\")","v":""},{"$f":"IFERROR(INDEX(#REF!,MATCH(A601,#REF!,0)),\"\")","v":""}]
[{"$f":"IF(C602=\"\",\"\",SUBTOTAL(3,C$5:C602))","v":""},{"$f":"+IFERROR(INDEX(#REF!,MATCH(A602,#REF!,0)),\"\")","v":""},null,{"$f":"IFERROR(INDEX(#REF!,MATCH(A602,#REF!,0)),\"\")","v":""},{"$f":"IFERROR(INDEX(#REF!,MATCH(A602,#REF!,0)),\"\")","v":""}]
[{"$f":"IF(C603=\"\",\"\",SUBTOTAL(3,C$5:C603))","v":""},{"$f":"+IFERROR(INDEX(#REF!,MATCH(A603,#REF!,0)),\"\")","v":""},null,{"$f":"IFERROR(INDEX(#REF!,MATCH(A603,#REF!,0)),\"\")","v":""},{"$f":"IFERROR(INDEX(#REF!,MATCH(A603,#REF!,0)),\"\")","v":""}]
[{"$f":"IF(C604=\"\",\"\",SUBTOTAL(3,C$5:C604))","v":""},{"$f":"+IFERROR(INDEX(#REF!,MATCH(A604,#REF!,0)),\"\")","v":""},null,{"$f":"IFERROR(INDEX(#REF!,MATCH(A604,#REF!,0)),\"\")","v":""},{"$f":"IFERROR(INDEX(#REF!,MATCH(A604,#REF!,0)),\"\")","v":""}]
[{"$f":"IF(C605=\"\",\"\",SUBTOTAL(3,C$5:C605))","v":""},{"$f":"+IFERROR(INDEX(#REF!,MATCH(A605,#REF!,0)),\"\")","v":""},null,{"$f":"IFERROR(INDEX(#REF!,MATCH(A605,#REF!,0)),\"\")","v":""},{"$f":"IFERROR(INDEX(#REF!,MATCH(A605,#REF!,0)),\"\")","v":""}]
[{"$f":"IF(C606=\"\",\"\",SUBTOTAL(3,C$5:C606))","v":""},{"$f":"+IFERROR(INDEX(#REF!,MATCH(A606,#REF!,0)),\"\")","v":""},null,{"$f":"IFERROR(INDEX(#REF!,MATCH(A606,#REF!,0)),\"\")","v":""},{"$f":"IFERROR(INDEX(#REF!,MATCH(A606,#REF!,0)),\"\")","v":""}]
[{"$f":"IF(C607=\"\",\"\",SUBTOTAL(3,C$5:C607))","v":""},{"$f":"+IFERROR(INDEX(#REF!,MATCH(A607,#REF!,0)),\"\")","v":""},null,{"$f":"IFERROR(INDEX(#REF!,MATCH(A607,#REF!,0)),\"\")","v":""},{"$f":"IFERROR(INDEX(#REF!,MATCH(A607,#REF!,0)),\"\")","v":""}]
[{"$f":"IF(C608=\"\",\"\",SUBTOTAL(3,C$5:C608))","v":""},{"$f":"+IFERROR(INDEX(#REF!,MATCH(A608,#REF!,0)),\"\")","v":""},null,{"$f":"IFERROR(INDEX(#REF!,MATCH(A608,#REF!,0)),\"\")","v":""},{"$f":"IFERROR(INDEX(#REF!,MATCH(A608,#REF!,0)),\"\")","v":""}]
[{"$f":"IF(C609=\"\",\"\",SUBTOTAL(3,C$5:C609))","v":""},{"$f":"+IFERROR(INDEX(#REF!,MATCH(A609,#REF!,0)),\"\")","v":""},null,{"$f":"IFERROR(INDEX(#REF!,MATCH(A609,#REF!,0)),\"\")","v":""},{"$f":"IFERROR(INDEX(#REF!,MATCH(A609,#REF!,0)),\"\")","v":""}]
[{"$f":"IF(C610=\"\",\"\",SUBTOTAL(3,C$5:C610))","v":""},{"$f":"+IFERROR(INDEX(#REF!,MATCH(A610,#REF!,0)),\"\")","v":""},null,{"$f":"IFERROR(INDEX(#REF!,MATCH(A610,#REF!,0)),\"\")","v":""},{"$f":"IFERROR(INDEX(#REF!,MATCH(A610,#REF!,0)),\"\")","v":""}]
[{"$f":"IF(C611=\"\",\"\",SUBTOTAL(3,C$5:C611))","v":""},{"$f":"+IFERROR(INDEX(#REF!,MATCH(A611,#REF!,0)),\"\")","v":""},null,{"$f":"IFERROR(INDEX(#REF!,MATCH(A611,#REF!,0)),\"\")","v":""},{"$f":"IFERROR(INDEX(#REF!,MATCH(A611,#REF!,0)),\"\")","v":""}]
[{"$f":"IF(C612=\"\",\"\",SUBTOTAL(3,C$5:C612))","v":""},{"$f":"+IFERROR(INDEX(#REF!,MATCH(A612,#REF!,0)),\"\")","v":""},null,{"$f":"IFERROR(INDEX(#REF!,MATCH(A612,#REF!,0)),\"\")","v":""},{"$f":"IFERROR(INDEX(#REF!,MATCH(A612,#REF!,0)),\"\")","v":""}]
[{"$f":"IF(C613=\"\",\"\",SUBTOTAL(3,C$5:C613))","v":""},{"$f":"+IFERROR(INDEX(#REF!,MATCH(A613,#REF!,0)),\"\")","v":""},null,{"$f":"IFERROR(INDEX(#REF!,MATCH(A613,#REF!,0)),\"\")","v":""},{"$f":"IFERROR(INDEX(#REF!,MATCH(A613,#REF!,0)),\"\")","v":""}]
[{"$f":"IF(C614=\"\",\"\",SUBTOTAL(3,C$5:C614))","v":""},{"$f":"+IFERROR(INDEX(#REF!,MATCH(A614,#REF!,0)),\"\")","v":""},null,{"$f":"IFERROR(INDEX(#REF!,MATCH(A614,#REF!,0)),\"\")","v":""},{"$f":"IFERROR(INDEX(#REF!,MATCH(A614,#REF!,0)),\"\")","v":""}]
[{"$f":"IF(C615=\"\",\"\",SUBTOTAL(3,C$5:C615))","v":""},{"$f":"+IFERROR(INDEX(#REF!,MATCH(A615,#REF!,0)),\"\")","v":""},null,{"$f":"IFERROR(INDEX(#REF!,MATCH(A615,#REF!,0)),\"\")","v":""},{"$f":"IFERROR(INDEX(#REF!,MATCH(A615,#REF!,0)),\"\")","v":""}]
[{"$f":"IF(C616=\"\",\"\",SUBTOTAL(3,C$5:C616))","v":""},{"$f":"+IFERROR(INDEX(#REF!,MATCH(A616,#REF!,0)),\"\")","v":""},null,{"$f":"IFERROR(INDEX(#REF!,MATCH(A616,#REF!,0)),\"\")","v":""},{"$f":"IFERROR(INDEX(#REF!,MATCH(A616,#REF!,0)),\"\")","v":""}]
[{"$f":"IF(C617=\"\",\"\",SUBTOTAL(3,C$5:C617))","v":""},{"$f":"+IFERROR(INDEX(#REF!,MATCH(A617,#REF!,0)),\"\")","v":""},null,{"$f":"IFERROR(INDEX(#REF!,MATCH(A617,#REF!,0)),\"\")","v":""},{"$f":"IFERROR(INDEX(#REF!,MATCH(A617,#REF!,0)),\"\")","v":""}]
[{"$f":"IF(C618=\"\",\"\",SUBTOTAL(3,C$5:C618))","v":""},{"$f":"+IFERROR(INDEX(#REF!,MATCH(A618,#REF!,0)),\"\")","v":""},null,{"$f":"IFERROR(INDEX(#REF!,MATCH(A618,#REF!,0)),\"\")","v":""},{"$f":"IFERROR(INDEX(#REF!,MATCH(A618,#REF!,0)),\"\")","v":""}]
[{"$f":"IF(C619=\"\",\"\",SUBTOTAL(3,C$5:C619))","v":""},{"$f":"+IFERROR(INDEX(#REF!,MATCH(A619,#REF!,0)),\"\")","v":""},null,{"$f":"IFERROR(INDEX(#REF!,MATCH(A619,#REF!,0)),\"\")","v":""},{"$f":"IFERROR(INDEX(#REF!,MATCH(A619,#REF!,0)),\"\")","v":""}]
[{"$f":"IF(C620=\"\",\"\",SUBTOTAL(3,C$5:C620))","v":""},{"$f":"+IFERROR(INDEX(#REF!,MATCH(A620,#REF!,0)),\"\")","v":""},null,{"$f":"IFERROR(INDEX(#REF!,MATCH(A620,#REF!,0)),\"\")","v":""},{"$f":"IFERROR(INDEX(#REF!,MATCH(A620,#REF!,0)),\"\")","v":""}]
[{"$f":"IF(C621=\"\",\"\",SUBTOTAL(3,C$5:C621))","v":""},{"$f":"+IFERROR(INDEX(#REF!,MATCH(A621,#REF!,0)),\"\")","v":""},null,{"$f":"IFERROR(INDEX(#REF!,MATCH(A621,#REF!,0)),\"\")","v":""},{"$f":"IFERROR(INDEX(#REF!,MATCH(A621,#REF!,0)),\"\")","v":""}]
[{"$f":"IF(C622=\"\",\"\",SUBTOTAL(3,C$5:C622))","v":""},{"$f":"+IFERROR(INDEX(#REF!,MATCH(A622,#REF!,0)),\"\")","v":""},null,{"$f":"IFERROR(INDEX(#REF!,MATCH(A622,#REF!,0)),\"\")","v":""},{"$f":"IFERROR(INDEX(#REF!,MATCH(A622,#REF!,0)),\"\")","v":""}]
[{"$f":"IF(C623=\"\",\"\",SUBTOTAL(3,C$5:C623))","v":""},{"$f":"+IFERROR(INDEX(#REF!,MATCH(A623,#REF!,0)),\"\")","v":""},null,{"$f":"IFERROR(INDEX(#REF!,MATCH(A623,#REF!,0)),\"\")","v":""},{"$f":"IFERROR(INDEX(#REF!,MATCH(A623,#REF!,0)),\"\")","v":""}]
[{"$f":"IF(C624=\"\",\"\",SUBTOTAL(3,C$5:C624))","v":""},{"$f":"+IFERROR(INDEX(#REF!,MATCH(A624,#REF!,0)),\"\")","v":""},null,{"$f":"IFERROR(INDEX(#REF!,MATCH(A624,#REF!,0)),\"\")","v":""},{"$f":"IFERROR(INDEX(#REF!,MATCH(A624,#REF!,0)),\"\")","v":""}]
[{"$f":"IF(C625=\"\",\"\",SUBTOTAL(3,C$5:C625))","v":""},{"$f":"+IFERROR(INDEX(#REF!,MATCH(A625,#REF!,0)),\"\")","v":""},null,{"$f":"IFERROR(INDEX(#REF!,MATCH(A625,#REF!,0)),\"\")","v":""},{"$f":"IFERROR(INDEX(#REF!,MATCH(A625,#REF!,0)),\"\")","v":""}]
[{"$f":"IF(C626=\"\",\"\",SUBTOTAL(3,C$5:C626))","v":""},{"$f":"+IFERROR(INDEX(#REF!,MATCH(A626,#REF!,0)),\"\")","v":""},null,{"$f":"IFERROR(INDEX(#REF!,MATCH(A626,#REF!,0)),\"\")","v":""},{"$f":"IFERROR(INDEX(#REF!,MATCH(A626,#REF!,0)),\"\")","v":""}]
[{"$f":"IF(C627=\"\",\"\",SUBTOTAL(3,C$5:C627))","v":""},{"$f":"+IFERROR(INDEX(#REF!,MATCH(A627,#REF!,0)),\"\")","v":""},null,{"$f":"IFERROR(INDEX(#REF!,MATCH(A627,#REF!,0)),\"\")","v":""},{"$f":"IFERROR(INDEX(#REF!,MATCH(A627,#REF!,0)),\"\")","v":""}]
[{"$f":"IF(C628=\"\",\"\",SUBTOTAL(3,C$5:C628))","v":""},{"$f":"+IFERROR(INDEX(#REF!,MATCH(A628,#REF!,0)),\"\")","v":""},null,{"$f":"IFERROR(INDEX(#REF!,MATCH(A628,#REF!,0)),\"\")","v":""},{"$f":"IFERROR(INDEX(#REF!,MATCH(A628,#REF!,0)),\"\")","v":""}]
[{"$f":"IF(C629=\"\",\"\",SUBTOTAL(3,C$5:C629))","v":""},{"$f":"+IFERROR(INDEX(#REF!,MATCH(A629,#REF!,0)),\"\")","v":""},null,{"$f":"IFERROR(INDEX(#REF!,MATCH(A629,#REF!,0)),\"\")","v":""},{"$f":"IFERROR(INDEX(#REF!,MATCH(A629,#REF!,0)),\"\")","v":""}]
[{"$f":"IF(C630=\"\",\"\",SUBTOTAL(3,C$5:C630))","v":""},{"$f":"+IFERROR(INDEX(#REF!,MATCH(A630,#REF!,0)),\"\")","v":""},null,{"$f":"IFERROR(INDEX(#REF!,MATCH(A630,#REF!,0)),\"\")","v":""},{"$f":"IFERROR(INDEX(#REF!,MATCH(A630,#REF!,0)),\"\")","v":""}]
[{"$f":"IF(C631=\"\",\"\",SUBTOTAL(3,C$5:C631))","v":""},{"$f":"+IFERROR(INDEX(#REF!,MATCH(A631,#REF!,0)),\"\")","v":""},null,{"$f":"IFERROR(INDEX(#REF!,MATCH(A631,#REF!,0)),\"\")","v":""},{"$f":"IFERROR(INDEX(#REF!,MATCH(A631,#REF!,0)),\"\")","v":""}]
[{"$f":"IF(C632=\"\",\"\",SUBTOTAL(3,C$5:C632))","v":""},{"$f":"+IFERROR(INDEX(#REF!,MATCH(A632,#REF!,0)),\"\")","v":""},null,{"$f":"IFERROR(INDEX(#REF!,MATCH(A632,#REF!,0)),\"\")","v":""},{"$f":"IFERROR(INDEX(#REF!,MATCH(A632,#REF!,0)),\"\")","v":""}]
[{"$f":"IF(C633=\"\",\"\",SUBTOTAL(3,C$5:C633))","v":""},{"$f":"+IFERROR(INDEX(#REF!,MATCH(A633,#REF!,0)),\"\")","v":""},null,{"$f":"IFERROR(INDEX(#REF!,MATCH(A633,#REF!,0)),\"\")","v":""},{"$f":"IFERROR(INDEX(#REF!,MATCH(A633,#REF!,0)),\"\")","v":""}]
[{"$f":"IF(C634=\"\",\"\",SUBTOTAL(3,C$5:C634))","v":""},{"$f":"+IFERROR(INDEX(#REF!,MATCH(A634,#REF!,0)),\"\")","v":""},null,{"$f":"IFERROR(INDEX(#REF!,MATCH(A634,#REF!,0)),\"\")","v":""},{"$f":"IFERROR(INDEX(#REF!,MATCH(A634,#REF!,0)),\"\")","v":""}]
[{"$f":"IF(C635=\"\",\"\",SUBTOTAL(3,C$5:C635))","v":""},{"$f":"+IFERROR(INDEX(#REF!,MATCH(A635,#REF!,0)),\"\")","v":""},null,{"$f":"IFERROR(INDEX(#REF!,MATCH(A635,#REF!,0)),\"\")","v":""},{"$f":"IFERROR(INDEX(#REF!,MATCH(A635,#REF!,0)),\"\")","v":""}]
[{"$f":"IF(C636=\"\",\"\",SUBTOTAL(3,C$5:C636))","v":""},{"$f":"+IFERROR(INDEX(#REF!,MATCH(A636,#REF!,0)),\"\")","v":""},null,{"$f":"IFERROR(INDEX(#REF!,MATCH(A636,#REF!,0)),\"\")","v":""},{"$f":"IFERROR(INDEX(#REF!,MATCH(A636,#REF!,0)),\"\")","v":""}]
[{"$f":"IF(C637=\"\",\"\",SUBTOTAL(3,C$5:C637))","v":""},{"$f":"+IFERROR(INDEX(#REF!,MATCH(A637,#REF!,0)),\"\")","v":""},null,{"$f":"IFERROR(INDEX(#REF!,MATCH(A637,#REF!,0)),\"\")","v":""},{"$f":"IFERROR(INDEX(#REF!,MATCH(A637,#REF!,0)),\"\")","v":""}]
[{"$f":"IF(C638=\"\",\"\",SUBTOTAL(3,C$5:C638))","v":""},{"$f":"+IFERROR(INDEX(#REF!,MATCH(A638,#REF!,0)),\"\")","v":""},null,{"$f":"IFERROR(INDEX(#REF!,MATCH(A638,#REF!,0)),\"\")","v":""},{"$f":"IFERROR(INDEX(#REF!,MATCH(A638,#REF!,0)),\"\")","v":""}]
[{"$f":"IF(C639=\"\",\"\",SUBTOTAL(3,C$5:C639))","v":""},{"$f":"+IFERROR(INDEX(#REF!,MATCH(A639,#REF!,0)),\"\")","v":""},null,{"$f":"IFERROR(INDEX(#REF!,MATCH(A639,#REF!,0)),\"\")","v":""},{"$f":"IFERROR(INDEX(#REF!,MATCH(A639,#REF!,0)),\"\")","v":""}]
[{"$f":"IF(C640=\"\",\"\",SUBTOTAL(3,C$5:C640))","v":""},{"$f":"+IFERROR(INDEX(#REF!,MATCH(A640,#REF!,0)),\"\")","v":""},null,{"$f":"IFERROR(INDEX(#REF!,MATCH(A640,#REF!,0)),\"\")","v":""},{"$f":"IFERROR(INDEX(#REF!,MATCH(A640,#REF!,0)),\"\")","v":""}]
[{"$f":"IF(C641=\"\",\"\",SUBTOTAL(3,C$5:C641))","v":""},{"$f":"+IFERROR(INDEX(#REF!,MATCH(A641,#REF!,0)),\"\")","v":""},null,{"$f":"IFERROR(INDEX(#REF!,MATCH(A641,#REF!,0)),\"\")","v":""},{"$f":"IFERROR(INDEX(#REF!,MATCH(A641,#REF!,0)),\"\")","v":""}]
[{"$f":"IF(C642=\"\",\"\",SUBTOTAL(3,C$5:C642))","v":""},{"$f":"+IFERROR(INDEX(#REF!,MATCH(A642,#REF!,0)),\"\")","v":""},null,{"$f":"IFERROR(INDEX(#REF!,MATCH(A642,#REF!,0)),\"\")","v":""},{"$f":"IFERROR(INDEX(#REF!,MATCH(A642,#REF!,0)),\"\")","v":""}]
[{"$f":"IF(C643=\"\",\"\",SUBTOTAL(3,C$5:C643))","v":""},{"$f":"+IFERROR(INDEX(#REF!,MATCH(A643,#REF!,0)),\"\")","v":""},null,{"$f":"IFERROR(INDEX(#REF!,MATCH(A643,#REF!,0)),\"\")","v":""},{"$f":"IFERROR(INDEX(#REF!,MATCH(A643,#REF!,0)),\"\")","v":""}]
[{"$f":"IF(C644=\"\",\"\",SUBTOTAL(3,C$5:C644))","v":""},{"$f":"+IFERROR(INDEX(#REF!,MATCH(A644,#REF!,0)),\"\")","v":""},null,{"$f":"IFERROR(INDEX(#REF!,MATCH(A644,#REF!,0)),\"\")","v":""},{"$f":"IFERROR(INDEX(#REF!,MATCH(A644,#REF!,0)),\"\")","v":""}]
[{"$f":"IF(C645=\"\",\"\",SUBTOTAL(3,C$5:C645))","v":""},{"$f":"+IFERROR(INDEX(#REF!,MATCH(A645,#REF!,0)),\"\")","v":""},null,{"$f":"IFERROR(INDEX(#REF!,MATCH(A645,#REF!,0)),\"\")","v":""},{"$f":"IFERROR(INDEX(#REF!,MATCH(A645,#REF!,0)),\"\")","v":""}]
[{"$f":"IF(C646=\"\",\"\",SUBTOTAL(3,C$5:C646))","v":""},{"$f":"+IFERROR(INDEX(#REF!,MATCH(A646,#REF!,0)),\"\")","v":""},null,{"$f":"IFERROR(INDEX(#REF!,MATCH(A646,#REF!,0)),\"\")","v":""},{"$f":"IFERROR(INDEX(#REF!,MATCH(A646,#REF!,0)),\"\")","v":""}]
[{"$f":"IF(C647=\"\",\"\",SUBTOTAL(3,C$5:C647))","v":""},{"$f":"+IFERROR(INDEX(#REF!,MATCH(A647,#REF!,0)),\"\")","v":""},null,{"$f":"IFERROR(INDEX(#REF!,MATCH(A647,#REF!,0)),\"\")","v":""},{"$f":"IFERROR(INDEX(#REF!,MATCH(A647,#REF!,0)),\"\")","v":""}]
[{"$f":"IF(C648=\"\",\"\",SUBTOTAL(3,C$5:C648))","v":""},{"$f":"+IFERROR(INDEX(#REF!,MATCH(A648,#REF!,0)),\"\")","v":""},null,{"$f":"IFERROR(INDEX(#REF!,MATCH(A648,#REF!,0)),\"\")","v":""},{"$f":"IFERROR(INDEX(#REF!,MATCH(A648,#REF!,0)),\"\")","v":""}]
[{"$f":"IF(C649=\"\",\"\",SUBTOTAL(3,C$5:C649))","v":""},{"$f":"+IFERROR(INDEX(#REF!,MATCH(A649,#REF!,0)),\"\")","v":""},null,{"$f":"IFERROR(INDEX(#REF!,MATCH(A649,#REF!,0)),\"\")","v":""},{"$f":"IFERROR(INDEX(#REF!,MATCH(A649,#REF!,0)),\"\")","v":""}]
[{"$f":"IF(C650=\"\",\"\",SUBTOTAL(3,C$5:C650))","v":""},{"$f":"+IFERROR(INDEX(#REF!,MATCH(A650,#REF!,0)),\"\")","v":""},null,{"$f":"IFERROR(INDEX(#REF!,MATCH(A650,#REF!,0)),\"\")","v":""},{"$f":"IFERROR(INDEX(#REF!,MATCH(A650,#REF!,0)),\"\")","v":""}]
[{"$f":"IF(C651=\"\",\"\",SUBTOTAL(3,C$5:C651))","v":""},{"$f":"+IFERROR(INDEX(#REF!,MATCH(A651,#REF!,0)),\"\")","v":""},null,{"$f":"IFERROR(INDEX(#REF!,MATCH(A651,#REF!,0)),\"\")","v":""},{"$f":"IFERROR(INDEX(#REF!,MATCH(A651,#REF!,0)),\"\")","v":""}]
[{"$f":"IF(C652=\"\",\"\",SUBTOTAL(3,C$5:C652))","v":""},{"$f":"+IFERROR(INDEX(#REF!,MATCH(A652,#REF!,0)),\"\")","v":""},null,{"$f":"IFERROR(INDEX(#REF!,MATCH(A652,#REF!,0)),\"\")","v":""},{"$f":"IFERROR(INDEX(#REF!,MATCH(A652,#REF!,0)),\"\")","v":""}]
[{"$f":"IF(C653=\"\",\"\",SUBTOTAL(3,C$5:C653))","v":""},{"$f":"+IFERROR(INDEX(#REF!,MATCH(A653,#REF!,0)),\"\")","v":""},null,{"$f":"IFERROR(INDEX(#REF!,MATCH(A653,#REF!,0)),\"\")","v":""},{"$f":"IFERROR(INDEX(#REF!,MATCH(A653,#REF!,0)),\"\")","v":""}]
[{"$f":"IF(C654=\"\",\"\",SUBTOTAL(3,C$5:C654))","v":""},{"$f":"+IFERROR(INDEX(#REF!,MATCH(A654,#REF!,0)),\"\")","v":""},null,{"$f":"IFERROR(INDEX(#REF!,MATCH(A654,#REF!,0)),\"\")","v":""},{"$f":"IFERROR(INDEX(#REF!,MATCH(A654,#REF!,0)),\"\")","v":""}]
[{"$f":"IF(C655=\"\",\"\",SUBTOTAL(3,C$5:C655))","v":""},{"$f":"+IFERROR(INDEX(#REF!,MATCH(A655,#REF!,0)),\"\")","v":""},null,{"$f":"IFERROR(INDEX(#REF!,MATCH(A655,#REF!,0)),\"\")","v":""},{"$f":"IFERROR(INDEX(#REF!,MATCH(A655,#REF!,0)),\"\")","v":""}]
[{"$f":"IF(C656=\"\",\"\",SUBTOTAL(3,C$5:C656))","v":""},{"$f":"+IFERROR(INDEX(#REF!,MATCH(A656,#REF!,0)),\"\")","v":""},null,{"$f":"IFERROR(INDEX(#REF!,MATCH(A656,#REF!,0)),\"\")","v":""},{"$f":"IFERROR(INDEX(#REF!,MATCH(A656,#REF!,0)),\"\")","v":""}]
[{"$f":"IF(C657=\"\",\"\",SUBTOTAL(3,C$5:C657))","v":""},{"$f":"+IFERROR(INDEX(#REF!,MATCH(A657,#REF!,0)),\"\")","v":""},null,{"$f":"IFERROR(INDEX(#REF!,MATCH(A657,#REF!,0)),\"\")","v":""},{"$f":"IFERROR(INDEX(#REF!,MATCH(A657,#REF!,0)),\"\")","v":""}]
[{"$f":"IF(C658=\"\",\"\",SUBTOTAL(3,C$5:C658))","v":""},{"$f":"+IFERROR(INDEX(#REF!,MATCH(A658,#REF!,0)),\"\")","v":""},null,{"$f":"IFERROR(INDEX(#REF!,MATCH(A658,#REF!,0)),\"\")","v":""},{"$f":"IFERROR(INDEX(#REF!,MATCH(A658,#REF!,0)),\"\")","v":""}]
[{"$f":"IF(C659=\"\",\"\",SUBTOTAL(3,C$5:C659))","v":""},{"$f":"+IFERROR(INDEX(#REF!,MATCH(A659,#REF!,0)),\"\")","v":""},null,{"$f":"IFERROR(INDEX(#REF!,MATCH(A659,#REF!,0)),\"\")","v":""},{"$f":"IFERROR(INDEX(#REF!,MATCH(A659,#REF!,0)),\"\")","v":""}]
[{"$f":"IF(C660=\"\",\"\",SUBTOTAL(3,C$5:C660))","v":""},{"$f":"+IFERROR(INDEX(#REF!,MATCH(A660,#REF!,0)),\"\")","v":""},null,{"$f":"IFERROR(INDEX(#REF!,MATCH(A660,#REF!,0)),\"\")","v":""},{"$f":"IFERROR(INDEX(#REF!,MATCH(A660,#REF!,0)),\"\")","v":""}]
[{"$f":"IF(C661=\"\",\"\",SUBTOTAL(3,C$5:C661))","v":""},{"$f":"+IFERROR(INDEX(#REF!,MATCH(A661,#REF!,0)),\"\")","v":""},null,{"$f":"IFERROR(INDEX(#REF!,MATCH(A661,#REF!,0)),\"\")","v":""},{"$f":"IFERROR(INDEX(#REF!,MATCH(A661,#REF!,0)),\"\")","v":""}]
[{"$f":"IF(C662=\"\",\"\",SUBTOTAL(3,C$5:C662))","v":""},{"$f":"+IFERROR(INDEX(#REF!,MATCH(A662,#REF!,0)),\"\")","v":""},null,{"$f":"IFERROR(INDEX(#REF!,MATCH(A662,#REF!,0)),\"\")","v":""},{"$f":"IFERROR(INDEX(#REF!,MATCH(A662,#REF!,0)),\"\")","v":""}]
[{"$f":"IF(C663=\"\",\"\",SUBTOTAL(3,C$5:C663))","v":""},{"$f":"+IFERROR(INDEX(#REF!,MATCH(A663,#REF!,0)),\"\")","v":""},null,{"$f":"IFERROR(INDEX(#REF!,MATCH(A663,#REF!,0)),\"\")","v":""},{"$f":"IFERROR(INDEX(#REF!,MATCH(A663,#REF!,0)),\"\")","v":""}]
[{"$f":"IF(C664=\"\",\"\",SUBTOTAL(3,C$5:C664))","v":""},{"$f":"+IFERROR(INDEX(#REF!,MATCH(A664,#REF!,0)),\"\")","v":""},null,{"$f":"IFERROR(INDEX(#REF!,MATCH(A664,#REF!,0)),\"\")","v":""},{"$f":"IFERROR(INDEX(#REF!,MATCH(A664,#REF!,0)),\"\")","v":""}]
[{"$f":"IF(C665=\"\",\"\",SUBTOTAL(3,C$5:C665))","v":""},{"$f":"+IFERROR(INDEX(#REF!,MATCH(A665,#REF!,0)),\"\")","v":""},null,{"$f":"IFERROR(INDEX(#REF!,MATCH(A665,#REF!,0)),\"\")","v":""},{"$f":"IFERROR(INDEX(#REF!,MATCH(A665,#REF!,0)),\"\")","v":""}]
[{"$f":"IF(C666=\"\",\"\",SUBTOTAL(3,C$5:C666))","v":""},{"$f":"+IFERROR(INDEX(#REF!,MATCH(A666,#REF!,0)),\"\")","v":""},null,{"$f":"IFERROR(INDEX(#REF!,MATCH(A666,#REF!,0)),\"\")","v":""},{"$f":"IFERROR(INDEX(#REF!,MATCH(A666,#REF!,0)),\"\")","v":""}]
[{"$f":"IF(C667=\"\",\"\",SUBTOTAL(3,C$5:C667))","v":""},{"$f":"+IFERROR(INDEX(#REF!,MATCH(A667,#REF!,0)),\"\")","v":""},null,{"$f":"IFERROR(INDEX(#REF!,MATCH(A667,#REF!,0)),\"\")","v":""},{"$f":"IFERROR(INDEX(#REF!,MATCH(A667,#REF!,0)),\"\")","v":""}]
[{"$f":"IF(C668=\"\",\"\",SUBTOTAL(3,C$5:C668))","v":""},{"$f":"+IFERROR(INDEX(#REF!,MATCH(A668,#REF!,0)),\"\")","v":""},null,{"$f":"IFERROR(INDEX(#REF!,MATCH(A668,#REF!,0)),\"\")","v":""},{"$f":"IFERROR(INDEX(#REF!,MATCH(A668,#REF!,0)),\"\")","v":""}]
[{"$f":"IF(C669=\"\",\"\",SUBTOTAL(3,C$5:C669))","v":""},{"$f":"+IFERROR(INDEX(#REF!,MATCH(A669,#REF!,0)),\"\")","v":""},null,{"$f":"IFERROR(INDEX(#REF!,MATCH(A669,#REF!,0)),\"\")","v":""},{"$f":"IFERROR(INDEX(#REF!,MATCH(A669,#REF!,0)),\"\")","v":""}]
[{"$f":"IF(C670=\"\",\"\",SUBTOTAL(3,C$5:C670))","v":""},{"$f":"+IFERROR(INDEX(#REF!,MATCH(A670,#REF!,0)),\"\")","v":""},null,{"$f":"IFERROR(INDEX(#REF!,MATCH(A670,#REF!,0)),\"\")","v":""},{"$f":"IFERROR(INDEX(#REF!,MATCH(A670,#REF!,0)),\"\")","v":""}]
[{"$f":"IF(C671=\"\",\"\",SUBTOTAL(3,C$5:C671))","v":""},{"$f":"+IFERROR(INDEX(#REF!,MATCH(A671,#REF!,0)),\"\")","v":""},null,{"$f":"IFERROR(INDEX(#REF!,MATCH(A671,#REF!,0)),\"\")","v":""},{"$f":"IFERROR(INDEX(#REF!,MATCH(A671,#REF!,0)),\"\")","v":""}]
[{"$f":"IF(C672=\"\",\"\",SUBTOTAL(3,C$5:C672))","v":""},{"$f":"+IFERROR(INDEX(#REF!,MATCH(A672,#REF!,0)),\"\")","v":""},null,{"$f":"IFERROR(INDEX(#REF!,MATCH(A672,#REF!,0)),\"\")","v":""},{"$f":"IFERROR(INDEX(#REF!,MATCH(A672,#REF!,0)),\"\")","v":""}]
[{"$f":"IF(C673=\"\",\"\",SUBTOTAL(3,C$5:C673))","v":""},{"$f":"+IFERROR(INDEX(#REF!,MATCH(A673,#REF!,0)),\"\")","v":""},null,{"$f":"IFERROR(INDEX(#REF!,MATCH(A673,#REF!,0)),\"\")","v":""},{"$f":"IFERROR(INDEX(#REF!,MATCH(A673,#REF!,0)),\"\")","v":""}]
[{"$f":"IF(C674=\"\",\"\",SUBTOTAL(3,C$5:C674))","v":""},{"$f":"+IFERROR(INDEX(#REF!,MATCH(A674,#REF!,0)),\"\")","v":""},null,{"$f":"IFERROR(INDEX(#REF!,MATCH(A674,#REF!,0)),\"\")","v":""},{"$f":"IFERROR(INDEX(#REF!,MATCH(A674,#REF!,0)),\"\")","v":""}]
[{"$f":"IF(C675=\"\",\"\",SUBTOTAL(3,C$5:C675))","v":""},{"$f":"+IFERROR(INDEX(#REF!,MATCH(A675,#REF!,0)),\"\")","v":""},null,{"$f":"IFERROR(INDEX(#REF!,MATCH(A675,#REF!,0)),\"\")","v":""},{"$f":"IFERROR(INDEX(#REF!,MATCH(A675,#REF!,0)),\"\")","v":""}]
[{"$f":"IF(C676=\"\",\"\",SUBTOTAL(3,C$5:C676))","v":""},{"$f":"+IFERROR(INDEX(#REF!,MATCH(A676,#REF!,0)),\"\")","v":""},null,{"$f":"IFERROR(INDEX(#REF!,MATCH(A676,#REF!,0)),\"\")","v":""},{"$f":"IFERROR(INDEX(#REF!,MATCH(A676,#REF!,0)),\"\")","v":""}]
[{"$f":"IF(C677=\"\",\"\",SUBTOTAL(3,C$5:C677))","v":""},{"$f":"+IFERROR(INDEX(#REF!,MATCH(A677,#REF!,0)),\"\")","v":""},null,{"$f":"IFERROR(INDEX(#REF!,MATCH(A677,#REF!,0)),\"\")","v":""},{"$f":"IFERROR(INDEX(#REF!,MATCH(A677,#REF!,0)),\"\")","v":""}]
[{"$f":"IF(C678=\"\",\"\",SUBTOTAL(3,C$5:C678))","v":""},{"$f":"+IFERROR(INDEX(#REF!,MATCH(A678,#REF!,0)),\"\")","v":""},null,{"$f":"IFERROR(INDEX(#REF!,MATCH(A678,#REF!,0)),\"\")","v":""},{"$f":"IFERROR(INDEX(#REF!,MATCH(A678,#REF!,0)),\"\")","v":""}]
[{"$f":"IF(C679=\"\",\"\",SUBTOTAL(3,C$5:C679))","v":""},{"$f":"+IFERROR(INDEX(#REF!,MATCH(A679,#REF!,0)),\"\")","v":""},null,{"$f":"IFERROR(INDEX(#REF!,MATCH(A679,#REF!,0)),\"\")","v":""},{"$f":"IFERROR(INDEX(#REF!,MATCH(A679,#REF!,0)),\"\")","v":""}]
[{"$f":"IF(C680=\"\",\"\",SUBTOTAL(3,C$5:C680))","v":""},{"$f":"+IFERROR(INDEX(#REF!,MATCH(A680,#REF!,0)),\"\")","v":""},null,{"$f":"IFERROR(INDEX(#REF!,MATCH(A680,#REF!,0)),\"\")","v":""},{"$f":"IFERROR(INDEX(#REF!,MATCH(A680,#REF!,0)),\"\")","v":""}]
[{"$f":"IF(C681=\"\",\"\",SUBTOTAL(3,C$5:C681))","v":""},{"$f":"+IFERROR(INDEX(#REF!,MATCH(A681,#REF!,0)),\"\")","v":""},null,{"$f":"IFERROR(INDEX(#REF!,MATCH(A681,#REF!,0)),\"\")","v":""},{"$f":"IFERROR(INDEX(#REF!,MATCH(A681,#REF!,0)),\"\")","v":""}]
[{"$f":"IF(C682=\"\",\"\",SUBTOTAL(3,C$5:C682))","v":""},{"$f":"+IFERROR(INDEX(#REF!,MATCH(A682,#REF!,0)),\"\")","v":""},null,{"$f":"IFERROR(INDEX(#REF!,MATCH(A682,#REF!,0)),\"\")","v":""},{"$f":"IFERROR(INDEX(#REF!,MATCH(A682,#REF!,0)),\"\")","v":""}]
[{"$f":"IF(C683=\"\",\"\",SUBTOTAL(3,C$5:C683))","v":""},{"$f":"+IFERROR(INDEX(#REF!,MATCH(A683,#REF!,0)),\"\")","v":""},null,{"$f":"IFERROR(INDEX(#REF!,MATCH(A683,#REF!,0)),\"\")","v":""},{"$f":"IFERROR(INDEX(#REF!,MATCH(A683,#REF!,0)),\"\")","v":""}]
[{"$f":"IF(C684=\"\",\"\",SUBTOTAL(3,C$5:C684))","v":""},{"$f":"+IFERROR(INDEX(#REF!,MATCH(A684,#REF!,0)),\"\")","v":""},null,{"$f":"IFERROR(INDEX(#REF!,MATCH(A684,#REF!,0)),\"\")","v":""},{"$f":"IFERROR(INDEX(#REF!,MATCH(A684,#REF!,0)),\"\")","v":""}]
[{"$f":"IF(C685=\"\",\"\",SUBTOTAL(3,C$5:C685))","v":""},{"$f":"+IFERROR(INDEX(#REF!,MATCH(A685,#REF!,0)),\"\")","v":""},null,{"$f":"IFERROR(INDEX(#REF!,MATCH(A685,#REF!,0)),\"\")","v":""},{"$f":"IFERROR(INDEX(#REF!,MATCH(A685,#REF!,0)),\"\")","v":""}]
[{"$f":"IF(C686=\"\",\"\",SUBTOTAL(3,C$5:C686))","v":""},{"$f":"+IFERROR(INDEX(#REF!,MATCH(A686,#REF!,0)),\"\")","v":""},null,{"$f":"IFERROR(INDEX(#REF!,MATCH(A686,#REF!,0)),\"\")","v":""},{"$f":"IFERROR(INDEX(#REF!,MATCH(A686,#REF!,0)),\"\")","v":""}]
[{"$f":"IF(C687=\"\",\"\",SUBTOTAL(3,C$5:C687))","v":""},{"$f":"+IFERROR(INDEX(#REF!,MATCH(A687,#REF!,0)),\"\")","v":""},null,{"$f":"IFERROR(INDEX(#REF!,MATCH(A687,#REF!,0)),\"\")","v":""},{"$f":"IFERROR(INDEX(#REF!,MATCH(A687,#REF!,0)),\"\")","v":""}]
[{"$f":"IF(C688=\"\",\"\",SUBTOTAL(3,C$5:C688))","v":""},{"$f":"+IFERROR(INDEX(#REF!,MATCH(A688,#REF!,0)),\"\")","v":""},null,{"$f":"IFERROR(INDEX(#REF!,MATCH(A688,#REF!,0)),\"\")","v":""},{"$f":"IFERROR(INDEX(#REF!,MATCH(A688,#REF!,0)),\"\")","v":""}]
[{"$f":"IF(C689=\"\",\"\",SUBTOTAL(3,C$5:C689))","v":""},{"$f":"+IFERROR(INDEX(#REF!,MATCH(A689,#REF!,0)),\"\")","v":""},null,{"$f":"IFERROR(INDEX(#REF!,MATCH(A689,#REF!,0)),\"\")","v":""},{"$f":"IFERROR(INDEX(#REF!,MATCH(A689,#REF!,0)),\"\")","v":""}]
[{"$f":"IF(C690=\"\",\"\",SUBTOTAL(3,C$5:C690))","v":""},{"$f":"+IFERROR(INDEX(#REF!,MATCH(A690,#REF!,0)),\"\")","v":""},null,{"$f":"IFERROR(INDEX(#REF!,MATCH(A690,#REF!,0)),\"\")","v":""},{"$f":"IFERROR(INDEX(#REF!,MATCH(A690,#REF!,0)),\"\")","v":""}]
[{"$f":"IF(C691=\"\",\"\",SUBTOTAL(3,C$5:C691))","v":""},{"$f":"+IFERROR(INDEX(#REF!,MATCH(A691,#REF!,0)),\"\")","v":""},null,{"$f":"IFERROR(INDEX(#REF!,MATCH(A691,#REF!,0)),\"\")","v":""},{"$f":"IFERROR(INDEX(#REF!,MATCH(A691,#REF!,0)),\"\")","v":""}]
[{"$f":"IF(C692=\"\",\"\",SUBTOTAL(3,C$5:C692))","v":""},{"$f":"+IFERROR(INDEX(#REF!,MATCH(A692,#REF!,0)),\"\")","v":""},null,{"$f":"IFERROR(INDEX(#REF!,MATCH(A692,#REF!,0)),\"\")","v":""},{"$f":"IFERROR(INDEX(#REF!,MATCH(A692,#REF!,0)),\"\")","v":""}]
[{"$f":"IF(C693=\"\",\"\",SUBTOTAL(3,C$5:C693))","v":""},{"$f":"+IFERROR(INDEX(#REF!,MATCH(A693,#REF!,0)),\"\")","v":""},null,{"$f":"IFERROR(INDEX(#REF!,MATCH(A693,#REF!,0)),\"\")","v":""},{"$f":"IFERROR(INDEX(#REF!,MATCH(A693,#REF!,0)),\"\")","v":""}]
[{"$f":"IF(C694=\"\",\"\",SUBTOTAL(3,C$5:C694))","v":""},{"$f":"+IFERROR(INDEX(#REF!,MATCH(A694,#REF!,0)),\"\")","v":""},null,{"$f":"IFERROR(INDEX(#REF!,MATCH(A694,#REF!,0)),\"\")","v":""},{"$f":"IFERROR(INDEX(#REF!,MATCH(A694,#REF!,0)),\"\")","v":""}]
[{"$f":"IF(C695=\"\",\"\",SUBTOTAL(3,C$5:C695))","v":""},{"$f":"+IFERROR(INDEX(#REF!,MATCH(A695,#REF!,0)),\"\")","v":""},null,{"$f":"IFERROR(INDEX(#REF!,MATCH(A695,#REF!,0)),\"\")","v":""},{"$f":"IFERROR(INDEX(#REF!,MATCH(A695,#REF!,0)),\"\")","v":""}]
[{"$f":"IF(C696=\"\",\"\",SUBTOTAL(3,C$5:C696))","v":""},{"$f":"+IFERROR(INDEX(#REF!,MATCH(A696,#REF!,0)),\"\")","v":""},null,{"$f":"IFERROR(INDEX(#REF!,MATCH(A696,#REF!,0)),\"\")","v":""},{"$f":"IFERROR(INDEX(#REF!,MATCH(A696,#REF!,0)),\"\")","v":""}]
[{"$f":"IF(C697=\"\",\"\",SUBTOTAL(3,C$5:C697))","v":""},{"$f":"+IFERROR(INDEX(#REF!,MATCH(A697,#REF!,0)),\"\")","v":""},null,{"$f":"IFERROR(INDEX(#REF!,MATCH(A697,#REF!,0)),\"\")","v":""},{"$f":"IFERROR(INDEX(#REF!,MATCH(A697,#REF!,0)),\"\")","v":""}]
[{"$f":"IF(C698=\"\",\"\",SUBTOTAL(3,C$5:C698))","v":""},{"$f":"+IFERROR(INDEX(#REF!,MATCH(A698,#REF!,0)),\"\")","v":""},null,{"$f":"IFERROR(INDEX(#REF!,MATCH(A698,#REF!,0)),\"\")","v":""},{"$f":"IFERROR(INDEX(#REF!,MATCH(A698,#REF!,0)),\"\")","v":""}]
[{"$f":"IF(C699=\"\",\"\",SUBTOTAL(3,C$5:C699))","v":""},{"$f":"+IFERROR(INDEX(#REF!,MATCH(A699,#REF!,0)),\"\")","v":""},null,{"$f":"IFERROR(INDEX(#REF!,MATCH(A699,#REF!,0)),\"\")","v":""},{"$f":"IFERROR(INDEX(#REF!,MATCH(A699,#REF!,0)),\"\")","v":""}]
[{"$f":"IF(C700=\"\",\"\",SUBTOTAL(3,C$5:C700))","v":""},{"$f":"+IFERROR(INDEX(#REF!,MATCH(A700,#REF!,0)),\"\")","v":""},null,{"$f":"IFERROR(INDEX(#REF!,MATCH(A700,#REF!,0)),\"\")","v":""},{"$f":"IFERROR(INDEX(#REF!,MATCH(A700,#REF!,0)),\"\")","v":""}]
[{"$f":"IF(C701=\"\",\"\",SUBTOTAL(3,C$5:C701))","v":""},{"$f":"+IFERROR(INDEX(#REF!,MATCH(A701,#REF!,0)),\"\")","v":""},null,{"$f":"IFERROR(INDEX(#REF!,MATCH(A701,#REF!,0)),\"\")","v":""},{"$f":"IFERROR(INDEX(#REF!,MATCH(A701,#REF!,0)),\"\")","v":""}]
[{"$f":"IF(C702=\"\",\"\",SUBTOTAL(3,C$5:C702))","v":""},{"$f":"+IFERROR(INDEX(#REF!,MATCH(A702,#REF!,0)),\"\")","v":""},null,{"$f":"IFERROR(INDEX(#REF!,MATCH(A702,#REF!,0)),\"\")","v":""},{"$f":"IFERROR(INDEX(#REF!,MATCH(A702,#REF!,0)),\"\")","v":""}]
[{"$f":"IF(C703=\"\",\"\",SUBTOTAL(3,C$5:C703))","v":""},{"$f":"+IFERROR(INDEX(#REF!,MATCH(A703,#REF!,0)),\"\")","v":""},null,{"$f":"IFERROR(INDEX(#REF!,MATCH(A703,#REF!,0)),\"\")","v":""},{"$f":"IFERROR(INDEX(#REF!,MATCH(A703,#REF!,0)),\"\")","v":""}]
[{"$f":"IF(C704=\"\",\"\",SUBTOTAL(3,C$5:C704))","v":""},{"$f":"+IFERROR(INDEX(#REF!,MATCH(A704,#REF!,0)),\"\")","v":""},null,{"$f":"IFERROR(INDEX(#REF!,MATCH(A704,#REF!,0)),\"\")","v":""},{"$f":"IFERROR(INDEX(#REF!,MATCH(A704,#REF!,0)),\"\")","v":""}]
[{"$f":"IF(C705=\"\",\"\",SUBTOTAL(3,C$5:C705))","v":""},{"$f":"+IFERROR(INDEX(#REF!,MATCH(A705,#REF!,0)),\"\")","v":""},null,{"$f":"IFERROR(INDEX(#REF!,MATCH(A705,#REF!,0)),\"\")","v":""},{"$f":"IFERROR(INDEX(#REF!,MATCH(A705,#REF!,0)),\"\")","v":""}]
[{"$f":"IF(C706=\"\",\"\",SUBTOTAL(3,C$5:C706))","v":""},{"$f":"+IFERROR(INDEX(#REF!,MATCH(A706,#REF!,0)),\"\")","v":""},null,{"$f":"IFERROR(INDEX(#REF!,MATCH(A706,#REF!,0)),\"\")","v":""},{"$f":"IFERROR(INDEX(#REF!,MATCH(A706,#REF!,0)),\"\")","v":""}]
[{"$f":"IF(C707=\"\",\"\",SUBTOTAL(3,C$5:C707))","v":""},{"$f":"+IFERROR(INDEX(#REF!,MATCH(A707,#REF!,0)),\"\")","v":""},null,{"$f":"IFERROR(INDEX(#REF!,MATCH(A707,#REF!,0)),\"\")","v":""},{"$f":"IFERROR(INDEX(#REF!,MATCH(A707,#REF!,0)),\"\")","v":""}]
[{"$f":"IF(C708=\"\",\"\",SUBTOTAL(3,C$5:C708))","v":""},{"$f":"+IFERROR(INDEX(#REF!,MATCH(A708,#REF!,0)),\"\")","v":""},null,{"$f":"IFERROR(INDEX(#REF!,MATCH(A708,#REF!,0)),\"\")","v":""},{"$f":"IFERROR(INDEX(#REF!,MATCH(A708,#REF!,0)),\"\")","v":""}]
[{"$f":"IF(C709=\"\",\"\",SUBTOTAL(3,C$5:C709))","v":""},{"$f":"+IFERROR(INDEX(#REF!,MATCH(A709,#REF!,0)),\"\")","v":""},null,{"$f":"IFERROR(INDEX(#REF!,MATCH(A709,#REF!,0)),\"\")","v":""},{"$f":"IFERROR(INDEX(#REF!,MATCH(A709,#REF!,0)),\"\")","v":""}]
[{"$f":"IF(C710=\"\",\"\",SUBTOTAL(3,C$5:C710))","v":""},{"$f":"+IFERROR(INDEX(#REF!,MATCH(A710,#REF!,0)),\"\")","v":""},null,{"$f":"IFERROR(INDEX(#REF!,MATCH(A710,#REF!,0)),\"\")","v":""},{"$f":"IFERROR(INDEX(#REF!,MATCH(A710,#REF!,0)),\"\")","v":""}]
[{"$f":"IF(C711=\"\",\"\",SUBTOTAL(3,C$5:C711))","v":""},{"$f":"+IFERROR(INDEX(#REF!,MATCH(A711,#REF!,0)),\"\")","v":""},null,{"$f":"IFERROR(INDEX(#REF!,MATCH(A711,#REF!,0)),\"\")","v":""},{"$f":"IFERROR(INDEX(#REF!,MATCH(A711,#REF!,0)),\"\")","v":""}]
[{"$f":"IF(C712=\"\",\"\",SUBTOTAL(3,C$5:C712))","v":""},{"$f":"+IFERROR(INDEX(#REF!,MATCH(A712,#REF!,0)),\"\")","v":""},null,{"$f":"IFERROR(INDEX(#REF!,MATCH(A712,#REF!,0)),\"\")","v":""},{"$f":"IFERROR(INDEX(#REF!,MATCH(A712,#REF!,0)),\"\")","v":""}]
[{"$f":"IF(C713=\"\",\"\",SUBTOTAL(3,C$5:C713))","v":""},{"$f":"+IFERROR(INDEX(#REF!,MATCH(A713,#REF!,0)),\"\")","v":""},null,{"$f":"IFERROR(INDEX(#REF!,MATCH(A713,#REF!,0)),\"\")","v":""},{"$f":"IFERROR(INDEX(#REF!,MATCH(A713,#REF!,0)),\"\")","v":""}]
[{"$f":"IF(C714=\"\",\"\",SUBTOTAL(3,C$5:C714))","v":""},{"$f":"+IFERROR(INDEX(#REF!,MATCH(A714,#REF!,0)),\"\")","v":""},null,{"$f":"IFERROR(INDEX(#REF!,MATCH(A714,#REF!,0)),\"\")","v":""},{"$f":"IFERROR(INDEX(#REF!,MATCH(A714,#REF!,0)),\"\")","v":""}]
[{"$f":"IF(C715=\"\",\"\",SUBTOTAL(3,C$5:C715))","v":""},{"$f":"+IFERROR(INDEX(#REF!,MATCH(A715,#REF!,0)),\"\")","v":""},null,{"$f":"IFERROR(INDEX(#REF!,MATCH(A715,#REF!,0)),\"\")","v":""},{"$f":"IFERROR(INDEX(#REF!,MATCH(A715,#REF!,0)),\"\")","v":""}]
[{"$f":"IF(C716=\"\",\"\",SUBTOTAL(3,C$5:C716))","v":""},{"$f":"+IFERROR(INDEX(#REF!,MATCH(A716,#REF!,0)),\"\")","v":""},null,{"$f":"IFERROR(INDEX(#REF!,MATCH(A716,#REF!,0)),\"\")","v":""},{"$f":"IFERROR(INDEX(#REF!,MATCH(A716,#REF!,0)),\"\")","v":""}]
[{"$f":"IF(C717=\"\",\"\",SUBTOTAL(3,C$5:C717))","v":""},{"$f":"+IFERROR(INDEX(#REF!,MATCH(A717,#REF!,0)),\"\")","v":""},null,{"$f":"IFERROR(INDEX(#REF!,MATCH(A717,#REF!,0)),\"\")","v":""},{"$f":"IFERROR(INDEX(#REF!,MATCH(A717,#REF!,0)),\"\")","v":""}]
[{"$f":"IF(C718=\"\",\"\",SUBTOTAL(3,C$5:C718))","v":""},{"$f":"+IFERROR(INDEX(#REF!,MATCH(A718,#REF!,0)),\"\")","v":""},null,{"$f":"IFERROR(INDEX(#REF!,MATCH(A718,#REF!,0)),\"\")","v":""},{"$f":"IFERROR(INDEX(#REF!,MATCH(A718,#REF!,0)),\"\")","v":""}]
[{"$f":"IF(C719=\"\",\"\",SUBTOTAL(3,C$5:C719))","v":""},{"$f":"+IFERROR(INDEX(#REF!,MATCH(A719,#REF!,0)),\"\")","v":""},null,{"$f":"IFERROR(INDEX(#REF!,MATCH(A719,#REF!,0)),\"\")","v":""},{"$f":"IFERROR(INDEX(#REF!,MATCH(A719,#REF!,0)),\"\")","v":""}]
[{"$f":"IF(C720=\"\",\"\",SUBTOTAL(3,C$5:C720))","v":""},{"$f":"+IFERROR(INDEX(#REF!,MATCH(A720,#REF!,0)),\"\")","v":""},null,{"$f":"IFERROR(INDEX(#REF!,MATCH(A720,#REF!,0)),\"\")","v":""},{"$f":"IFERROR(INDEX(#REF!,MATCH(A720,#REF!,0)),\"\")","v":""}]
[{"$f":"IF(C721=\"\",\"\",SUBTOTAL(3,C$5:C721))","v":""},{"$f":"+IFERROR(INDEX(#REF!,MATCH(A721,#REF!,0)),\"\")","v":""},null,{"$f":"IFERROR(INDEX(#REF!,MATCH(A721,#REF!,0)),\"\")","v":""},{"$f":"IFERROR(INDEX(#REF!,MATCH(A721,#REF!,0)),\"\")","v":""}]
[{"$f":"IF(C722=\"\",\"\",SUBTOTAL(3,C$5:C722))","v":""},{"$f":"+IFERROR(INDEX(#REF!,MATCH(A722,#REF!,0)),\"\")","v":""},null,{"$f":"IFERROR(INDEX(#REF!,MATCH(A722,#REF!,0)),\"\")","v":""},{"$f":"IFERROR(INDEX(#REF!,MATCH(A722,#REF!,0)),\"\")","v":""}]
[{"$f":"IF(C723=\"\",\"\",SUBTOTAL(3,C$5:C723))","v":""},{"$f":"+IFERROR(INDEX(#REF!,MATCH(A723,#REF!,0)),\"\")","v":""},null,{"$f":"IFERROR(INDEX(#REF!,MATCH(A723,#REF!,0)),\"\")","v":""},{"$f":"IFERROR(INDEX(#REF!,MATCH(A723,#REF!,0)),\"\")","v":""}]
[{"$f":"IF(C724=\"\",\"\",SUBTOTAL(3,C$5:C724))","v":""},{"$f":"+IFERROR(INDEX(#REF!,MATCH(A724,#REF!,0)),\"\")","v":""},null,{"$f":"IFERROR(INDEX(#REF!,MATCH(A724,#REF!,0)),\"\")","v":""},{"$f":"IFERROR(INDEX(#REF!,MATCH(A724,#REF!,0)),\"\")","v":""}]
[{"$f":"IF(C725=\"\",\"\",SUBTOTAL(3,C$5:C725))","v":""},{"$f":"+IFERROR(INDEX(#REF!,MATCH(A725,#REF!,0)),\"\")","v":""},null,{"$f":"IFERROR(INDEX(#REF!,MATCH(A725,#REF!,0)),\"\")","v":""},{"$f":"IFERROR(INDEX(#REF!,MATCH(A725,#REF!,0)),\"\")","v":""}]
[{"$f":"IF(C726=\"\",\"\",SUBTOTAL(3,C$5:C726))","v":""},{"$f":"+IFERROR(INDEX(#REF!,MATCH(A726,#REF!,0)),\"\")","v":""},null,{"$f":"IFERROR(INDEX(#REF!,MATCH(A726,#REF!,0)),\"\")","v":""},{"$f":"IFERROR(INDEX(#REF!,MATCH(A726,#REF!,0)),\"\")","v":""}]
[{"$f":"IF(C727=\"\",\"\",SUBTOTAL(3,C$5:C727))","v":""},{"$f":"+IFERROR(INDEX(#REF!,MATCH(A727,#REF!,0)),\"\")","v":""},null,{"$f":"IFERROR(INDEX(#REF!,MATCH(A727,#REF!,0)),\"\")","v":""},{"$f":"IFERROR(INDEX(#REF!,MATCH(A727,#REF!,0)),\"\")","v":""}]
[{"$f":"IF(C728=\"\",\"\",SUBTOTAL(3,C$5:C728))","v":""},{"$f":"+IFERROR(INDEX(#REF!,MATCH(A728,#REF!,0)),\"\")","v":""},null,{"$f":"IFERROR(INDEX(#REF!,MATCH(A728,#REF!,0)),\"\")","v":""},{"$f":"IFERROR(INDEX(#REF!,MATCH(A728,#REF!,0)),\"\")","v":""}]
[{"$f":"IF(C729=\"\",\"\",SUBTOTAL(3,C$5:C729))","v":""},{"$f":"+IFERROR(INDEX(#REF!,MATCH(A729,#REF!,0)),\"\")","v":""},null,{"$f":"IFERROR(INDEX(#REF!,MATCH(A729,#REF!,0)),\"\")","v":""},{"$f":"IFERROR(INDEX(#REF!,MATCH(A729,#REF!,0)),\"\")","v":""}]
[{"$f":"IF(C730=\"\",\"\",SUBTOTAL(3,C$5:C730))","v":""},{"$f":"+IFERROR(INDEX(#REF!,MATCH(A730,#REF!,0)),\"\")","v":""},null,{"$f":"IFERROR(INDEX(#REF!,MATCH(A730,#REF!,0)),\"\")","v":""},{"$f":"IFERROR(INDEX(#REF!,MATCH(A730,#REF!,0)),\"\")","v":""}]
[{"$f":"IF(C731=\"\",\"\",SUBTOTAL(3,C$5:C731))","v":""},{"$f":"+IFERROR(INDEX(#REF!,MATCH(A731,#REF!,0)),\"\")","v":""},null,{"$f":"IFERROR(INDEX(#REF!,MATCH(A731,#REF!,0)),\"\")","v":""},{"$f":"IFERROR(INDEX(#REF!,MATCH(A731,#REF!,0)),\"\")","v":""}]
[{"$f":"IF(C732=\"\",\"\",SUBTOTAL(3,C$5:C732))","v":""},{"$f":"+IFERROR(INDEX(#REF!,MATCH(A732,#REF!,0)),\"\")","v":""},null,{"$f":"IFERROR(INDEX(#REF!,MATCH(A732,#REF!,0)),\"\")","v":""},{"$f":"IFERROR(INDEX(#REF!,MATCH(A732,#REF!,0)),\"\")","v":""}]
[{"$f":"IF(C733=\"\",\"\",SUBTOTAL(3,C$5:C733))","v":""},{"$f":"+IFERROR(INDEX(#REF!,MATCH(A733,#REF!,0)),\"\")","v":""},null,{"$f":"IFERROR(INDEX(#REF!,MATCH(A733,#REF!,0)),\"\")","v":""},{"$f":"IFERROR(INDEX(#REF!,MATCH(A733,#REF!,0)),\"\")","v":""}]
[{"$f":"IF(C734=\"\",\"\",SUBTOTAL(3,C$5:C734))","v":""},{"$f":"+IFERROR(INDEX(#REF!,MATCH(A734,#REF!,0)),\"\")","v":""},null,{"$f":"IFERROR(INDEX(#REF!,MATCH(A734,#REF!,0)),\"\")","v":""},{"$f":"IFERROR(INDEX(#REF!,MATCH(A734,#REF!,0)),\"\")","v":""}]
[{"$f":"IF(C735=\"\",\"\",SUBTOTAL(3,C$5:C735))","v":""},{"$f":"+IFERROR(INDEX(#REF!,MATCH(A735,#REF!,0)),\"\")","v":""},null,{"$f":"IFERROR(INDEX(#REF!,MATCH(A735,#REF!,0)),\"\")","v":""},{"$f":"IFERROR(INDEX(#REF!,MATCH(A735,#REF!,0)),\"\")","v":""}]
[{"$f":"IF(C736=\"\",\"\",SUBTOTAL(3,C$5:C736))","v":""},{"$f":"+IFERROR(INDEX(#REF!,MATCH(A736,#REF!,0)),\"\")","v":""},null,{"$f":"IFERROR(INDEX(#REF!,MATCH(A736,#REF!,0)),\"\")","v":""},{"$f":"IFERROR(INDEX(#REF!,MATCH(A736,#REF!,0)),\"\")","v":""}]
[{"$f":"IF(C737=\"\",\"\",SUBTOTAL(3,C$5:C737))","v":""},{"$f":"+IFERROR(INDEX(#REF!,MATCH(A737,#REF!,0)),\"\")","v":""},null,{"$f":"IFERROR(INDEX(#REF!,MATCH(A737,#REF!,0)),\"\")","v":""},{"$f":"IFERROR(INDEX(#REF!,MATCH(A737,#REF!,0)),\"\")","v":""}]
[{"$f":"IF(C738=\"\",\"\",SUBTOTAL(3,C$5:C738))","v":""},{"$f":"+IFERROR(INDEX(#REF!,MATCH(A738,#REF!,0)),\"\")","v":""},null,{"$f":"IFERROR(INDEX(#REF!,MATCH(A738,#REF!,0)),\"\")","v":""},{"$f":"IFERROR(INDEX(#REF!,MATCH(A738,#REF!,0)),\"\")","v":""}]
[{"$f":"IF(C739=\"\",\"\",SUBTOTAL(3,C$5:C739))","v":""},{"$f":"+IFERROR(INDEX(#REF!,MATCH(A739,#REF!,0)),\"\")","v":""},null,{"$f":"IFERROR(INDEX(#REF!,MATCH(A739,#REF!,0)),\"\")","v":""},{"$f":"IFERROR(INDEX(#REF!,MATCH(A739,#REF!,0)),\"\")","v":""}]
[{"$f":"IF(C740=\"\",\"\",SUBTOTAL(3,C$5:C740))","v":""},{"$f":"+IFERROR(INDEX(#REF!,MATCH(A740,#REF!,0)),\"\")","v":""},null,{"$f":"IFERROR(INDEX(#REF!,MATCH(A740,#REF!,0)),\"\")","v":""},{"$f":"IFERROR(INDEX(#REF!,MATCH(A740,#REF!,0)),\"\")","v":""}]
[{"$f":"IF(C741=\"\",\"\",SUBTOTAL(3,C$5:C741))","v":""},{"$f":"+IFERROR(INDEX(#REF!,MATCH(A741,#REF!,0)),\"\")","v":""},null,{"$f":"IFERROR(INDEX(#REF!,MATCH(A741,#REF!,0)),\"\")","v":""},{"$f":"IFERROR(INDEX(#REF!,MATCH(A741,#REF!,0)),\"\")","v":""}]
[{"$f":"IF(C742=\"\",\"\",SUBTOTAL(3,C$5:C742))","v":""},{"$f":"+IFERROR(INDEX(#REF!,MATCH(A742,#REF!,0)),\"\")","v":""},null,{"$f":"IFERROR(INDEX(#REF!,MATCH(A742,#REF!,0)),\"\")","v":""},{"$f":"IFERROR(INDEX(#REF!,MATCH(A742,#REF!,0)),\"\")","v":""}]
[{"$f":"IF(C743=\"\",\"\",SUBTOTAL(3,C$5:C743))","v":""},{"$f":"+IFERROR(INDEX(#REF!,MATCH(A743,#REF!,0)),\"\")","v":""},null,{"$f":"IFERROR(INDEX(#REF!,MATCH(A743,#REF!,0)),\"\")","v":""},{"$f":"IFERROR(INDEX(#REF!,MATCH(A743,#REF!,0)),\"\")","v":""}]
[{"$f":"IF(C744=\"\",\"\",SUBTOTAL(3,C$5:C744))","v":""},{"$f":"+IFERROR(INDEX(#REF!,MATCH(A744,#REF!,0)),\"\")","v":""},null,{"$f":"IFERROR(INDEX(#REF!,MATCH(A744,#REF!,0)),\"\")","v":""},{"$f":"IFERROR(INDEX(#REF!,MATCH(A744,#REF!,0)),\"\")","v":""}]
[{"$f":"IF(C745=\"\",\"\",SUBTOTAL(3,C$5:C745))","v":""},{"$f":"+IFERROR(INDEX(#REF!,MATCH(A745,#REF!,0)),\"\")","v":""},null,{"$f":"IFERROR(INDEX(#REF!,MATCH(A745,#REF!,0)),\"\")","v":""},{"$f":"IFERROR(INDEX(#REF!,MATCH(A745,#REF!,0)),\"\")","v":""}]
[{"$f":"IF(C746=\"\",\"\",SUBTOTAL(3,C$5:C746))","v":""},{"$f":"+IFERROR(INDEX(#REF!,MATCH(A746,#REF!,0)),\"\")","v":""},null,{"$f":"IFERROR(INDEX(#REF!,MATCH(A746,#REF!,0)),\"\")","v":""},{"$f":"IFERROR(INDEX(#REF!,MATCH(A746,#REF!,0)),\"\")","v":""}]
[{"$f":"IF(C747=\"\",\"\",SUBTOTAL(3,C$5:C747))","v":""},{"$f":"+IFERROR(INDEX(#REF!,MATCH(A747,#REF!,0)),\"\")","v":""},null,{"$f":"IFERROR(INDEX(#REF!,MATCH(A747,#REF!,0)),\"\")","v":""},{"$f":"IFERROR(INDEX(#REF!,MATCH(A747,#REF!,0)),\"\")","v":""}]
[{"$f":"IF(C748=\"\",\"\",SUBTOTAL(3,C$5:C748))","v":""},{"$f":"+IFERROR(INDEX(#REF!,MATCH(A748,#REF!,0)),\"\")","v":""},null,{"$f":"IFERROR(INDEX(#REF!,MATCH(A748,#REF!,0)),\"\")","v":""},{"$f":"IFERROR(INDEX(#REF!,MATCH(A748,#REF!,0)),\"\")","v":""}]
[{"$f":"IF(C749=\"\",\"\",SUBTOTAL(3,C$5:C749))","v":""},{"$f":"+IFERROR(INDEX(#REF!,MATCH(A749,#REF!,0)),\"\")","v":""},null,{"$f":"IFERROR(INDEX(#REF!,MATCH(A749,#REF!,0)),\"\")","v":""},{"$f":"IFERROR(INDEX(#REF!,MATCH(A749,#REF!,0)),\"\")","v":""}]
[{"$f":"IF(C750=\"\",\"\",SUBTOTAL(3,C$5:C750))","v":""},{"$f":"+IFERROR(INDEX(#REF!,MATCH(A750,#REF!,0)),\"\")","v":""},null,{"$f":"IFERROR(INDEX(#REF!,MATCH(A750,#REF!,0)),\"\")","v":""},{"$f":"IFERROR(INDEX(#REF!,MATCH(A750,#REF!,0)),\"\")","v":""}]
[{"$f":"IF(C751=\"\",\"\",SUBTOTAL(3,C$5:C751))","v":""},{"$f":"+IFERROR(INDEX(#REF!,MATCH(A751,#REF!,0)),\"\")","v":""},null,{"$f":"IFERROR(INDEX(#REF!,MATCH(A751,#REF!,0)),\"\")","v":""},{"$f":"IFERROR(INDEX(#REF!,MATCH(A751,#REF!,0)),\"\")","v":""}]
[{"$f":"IF(C752=\"\",\"\",SUBTOTAL(3,C$5:C752))","v":""},{"$f":"+IFERROR(INDEX(#REF!,MATCH(A752,#REF!,0)),\"\")","v":""},null,{"$f":"IFERROR(INDEX(#REF!,MATCH(A752,#REF!,0)),\"\")","v":""},{"$f":"IFERROR(INDEX(#REF!,MATCH(A752,#REF!,0)),\"\")","v":""}]
[{"$f":"IF(C753=\"\",\"\",SUBTOTAL(3,C$5:C753))","v":""},{"$f":"+IFERROR(INDEX(#REF!,MATCH(A753,#REF!,0)),\"\")","v":""},null,{"$f":"IFERROR(INDEX(#REF!,MATCH(A753,#REF!,0)),\"\")","v":""},{"$f":"IFERROR(INDEX(#REF!,MATCH(A753,#REF!,0)),\"\")","v":""}]
[{"$f":"IF(C754=\"\",\"\",SUBTOTAL(3,C$5:C754))","v":""},{"$f":"+IFERROR(INDEX(#REF!,MATCH(A754,#REF!,0)),\"\")","v":""},null,{"$f":"IFERROR(INDEX(#REF!,MATCH(A754,#REF!,0)),\"\")","v":""},{"$f":"IFERROR(INDEX(#REF!,MATCH(A754,#REF!,0)),\"\")","v":""}]
[{"$f":"IF(C755=\"\",\"\",SUBTOTAL(3,C$5:C755))","v":""},{"$f":"+IFERROR(INDEX(#REF!,MATCH(A755,#REF!,0)),\"\")","v":""},null,{"$f":"IFERROR(INDEX(#REF!,MATCH(A755,#REF!,0)),\"\")","v":""},{"$f":"IFERROR(INDEX(#REF!,MATCH(A755,#REF!,0)),\"\")","v":""}]
[{"$f":"IF(C756=\"\",\"\",SUBTOTAL(3,C$5:C756))","v":""},{"$f":"+IFERROR(INDEX(#REF!,MATCH(A756,#REF!,0)),\"\")","v":""},null,{"$f":"IFERROR(INDEX(#REF!,MATCH(A756,#REF!,0)),\"\")","v":""},{"$f":"IFERROR(INDEX(#REF!,MATCH(A756,#REF!,0)),\"\")","v":""}]
[{"$f":"IF(C757=\"\",\"\",SUBTOTAL(3,C$5:C757))","v":""},{"$f":"+IFERROR(INDEX(#REF!,MATCH(A757,#REF!,0)),\"\")","v":""},null,{"$f":"IFERROR(INDEX(#REF!,MATCH(A757,#REF!,0)),\"\")","v":""},{"$f":"IFERROR(INDEX(#REF!,MATCH(A757,#REF!,0)),\"\")","v":""}]
[{"$f":"IF(C758=\"\",\"\",SUBTOTAL(3,C$5:C758))","v":""},{"$f":"+IFERROR(INDEX(#REF!,MATCH(A758,#REF!,0)),\"\")","v":""},null,{"$f":"IFERROR(INDEX(#REF!,MATCH(A758,#REF!,0)),\"\")","v":""},{"$f":"IFERROR(INDEX(#REF!,MATCH(A758,#REF!,0)),\"\")","v":""}]
[{"$f":"IF(C759=\"\",\"\",SUBTOTAL(3,C$5:C759))","v":""},{"$f":"+IFERROR(INDEX(#REF!,MATCH(A759,#REF!,0)),\"\")","v":""},null,{"$f":"IFERROR(INDEX(#REF!,MATCH(A759,#REF!,0)),\"\")","v":""},{"$f":"IFERROR(INDEX(#REF!,MATCH(A759,#REF!,0)),\"\")","v":""}]
[{"$f":"IF(C760=\"\",\"\",SUBTOTAL(3,C$5:C760))","v":""},{"$f":"+IFERROR(INDEX(#REF!,MATCH(A760,#REF!,0)),\"\")","v":""},null,{"$f":"IFERROR(INDEX(#REF!,MATCH(A760,#REF!,0)),\"\")","v":""},{"$f":"IFERROR(INDEX(#REF!,MATCH(A760,#REF!,0)),\"\")","v":""}]
[{"$f":"IF(C761=\"\",\"\",SUBTOTAL(3,C$5:C761))","v":""},{"$f":"+IFERROR(INDEX(#REF!,MATCH(A761,#REF!,0)),\"\")","v":""},null,{"$f":"IFERROR(INDEX(#REF!,MATCH(A761,#REF!,0)),\"\")","v":""},{"$f":"IFERROR(INDEX(#REF!,MATCH(A761,#REF!,0)),\"\")","v":""}]
[{"$f":"IF(C762=\"\",\"\",SUBTOTAL(3,C$5:C762))","v":""},{"$f":"+IFERROR(INDEX(#REF!,MATCH(A762,#REF!,0)),\"\")","v":""},null,{"$f":"IFERROR(INDEX(#REF!,MATCH(A762,#REF!,0)),\"\")","v":""},{"$f":"IFERROR(INDEX(#REF!,MATCH(A762,#REF!,0)),\"\")","v":""}]
[{"$f":"IF(C763=\"\",\"\",SUBTOTAL(3,C$5:C763))","v":""},{"$f":"+IFERROR(INDEX(#REF!,MATCH(A763,#REF!,0)),\"\")","v":""},null,{"$f":"IFERROR(INDEX(#REF!,MATCH(A763,#REF!,0)),\"\")","v":""},{"$f":"IFERROR(INDEX(#REF!,MATCH(A763,#REF!,0)),\"\")","v":""}]
[{"$f":"IF(C764=\"\",\"\",SUBTOTAL(3,C$5:C764))","v":""},{"$f":"+IFERROR(INDEX(#REF!,MATCH(A764,#REF!,0)),\"\")","v":""},null,{"$f":"IFERROR(INDEX(#REF!,MATCH(A764,#REF!,0)),\"\")","v":""},{"$f":"IFERROR(INDEX(#REF!,MATCH(A764,#REF!,0)),\"\")","v":""}]
[{"$f":"IF(C765=\"\",\"\",SUBTOTAL(3,C$5:C765))","v":""},{"$f":"+IFERROR(INDEX(#REF!,MATCH(A765,#REF!,0)),\"\")","v":""},null,{"$f":"IFERROR(INDEX(#REF!,MATCH(A765,#REF!,0)),\"\")","v":""},{"$f":"IFERROR(INDEX(#REF!,MATCH(A765,#REF!,0)),\"\")","v":""}]
[{"$f":"IF(C766=\"\",\"\",SUBTOTAL(3,C$5:C766))","v":""},{"$f":"+IFERROR(INDEX(#REF!,MATCH(A766,#REF!,0)),\"\")","v":""},null,{"$f":"IFERROR(INDEX(#REF!,MATCH(A766,#REF!,0)),\"\")","v":""},{"$f":"IFERROR(INDEX(#REF!,MATCH(A766,#REF!,0)),\"\")","v":""}]
[{"$f":"IF(C767=\"\",\"\",SUBTOTAL(3,C$5:C767))","v":""},{"$f":"+IFERROR(INDEX(#REF!,MATCH(A767,#REF!,0)),\"\")","v":""},null,{"$f":"IFERROR(INDEX(#REF!,MATCH(A767,#REF!,0)),\"\")","v":""},{"$f":"IFERROR(INDEX(#REF!,MATCH(A767,#REF!,0)),\"\")","v":""}]
[{"$f":"IF(C768=\"\",\"\",SUBTOTAL(3,C$5:C768))","v":""},{"$f":"+IFERROR(INDEX(#REF!,MATCH(A768,#REF!,0)),\"\")","v":""},null,{"$f":"IFERROR(INDEX(#REF!,MATCH(A768,#REF!,0)),\"\")","v":""},{"$f":"IFERROR(INDEX(#REF!,MATCH(A768,#REF!,0)),\"\")","v":""}]
[{"$f":"IF(C769=\"\",\"\",SUBTOTAL(3,C$5:C769))","v":""},{"$f":"+IFERROR(INDEX(#REF!,MATCH(A769,#REF!,0)),\"\")","v":""},null,{"$f":"IFERROR(INDEX(#REF!,MATCH(A769,#REF!,0)),\"\")","v":""},{"$f":"IFERROR(INDEX(#REF!,MATCH(A769,#REF!,0)),\"\")","v":""}]
[{"$f":"IF(C770=\"\",\"\",SUBTOTAL(3,C$5:C770))","v":""},{"$f":"+IFERROR(INDEX(#REF!,MATCH(A770,#REF!,0)),\"\")","v":""},null,{"$f":"IFERROR(INDEX(#REF!,MATCH(A770,#REF!,0)),\"\")","v":""},{"$f":"IFERROR(INDEX(#REF!,MATCH(A770,#REF!,0)),\"\")","v":""}]
[{"$f":"IF(C771=\"\",\"\",SUBTOTAL(3,C$5:C771))","v":""},{"$f":"+IFERROR(INDEX(#REF!,MATCH(A771,#REF!,0)),\"\")","v":""},null,{"$f":"IFERROR(INDEX(#REF!,MATCH(A771,#REF!,0)),\"\")","v":""},{"$f":"IFERROR(INDEX(#REF!,MATCH(A771,#REF!,0)),\"\")","v":""}]
[{"$f":"IF(C772=\"\",\"\",SUBTOTAL(3,C$5:C772))","v":""},{"$f":"+IFERROR(INDEX(#REF!,MATCH(A772,#REF!,0)),\"\")","v":""},null,{"$f":"IFERROR(INDEX(#REF!,MATCH(A772,#REF!,0)),\"\")","v":""},{"$f":"IFERROR(INDEX(#REF!,MATCH(A772,#REF!,0)),\"\")","v":""}]
[{"$f":"IF(C773=\"\",\"\",SUBTOTAL(3,C$5:C773))","v":""},{"$f":"+IFERROR(INDEX(#REF!,MATCH(A773,#REF!,0)),\"\")","v":""},null,{"$f":"IFERROR(INDEX(#REF!,MATCH(A773,#REF!,0)),\"\")","v":""},{"$f":"IFERROR(INDEX(#REF!,MATCH(A773,#REF!,0)),\"\")","v":""}]
[{"$f":"IF(C774=\"\",\"\",SUBTOTAL(3,C$5:C774))","v":""},{"$f":"+IFERROR(INDEX(#REF!,MATCH(A774,#REF!,0)),\"\")","v":""},null,{"$f":"IFERROR(INDEX(#REF!,MATCH(A774,#REF!,0)),\"\")","v":""},{"$f":"IFERROR(INDEX(#REF!,MATCH(A774,#REF!,0)),\"\")","v":""}]
[{"$f":"IF(C775=\"\",\"\",SUBTOTAL(3,C$5:C775))","v":""},{"$f":"+IFERROR(INDEX(#REF!,MATCH(A775,#REF!,0)),\"\")","v":""},null,{"$f":"IFERROR(INDEX(#REF!,MATCH(A775,#REF!,0)),\"\")","v":""},{"$f":"IFERROR(INDEX(#REF!,MATCH(A775,#REF!,0)),\"\")","v":""}]
[{"$f":"IF(C776=\"\",\"\",SUBTOTAL(3,C$5:C776))","v":""},{"$f":"+IFERROR(INDEX(#REF!,MATCH(A776,#REF!,0)),\"\")","v":""},null,{"$f":"IFERROR(INDEX(#REF!,MATCH(A776,#REF!,0)),\"\")","v":""},{"$f":"IFERROR(INDEX(#REF!,MATCH(A776,#REF!,0)),\"\")","v":""}]
[{"$f":"IF(C777=\"\",\"\",SUBTOTAL(3,C$5:C777))","v":""},{"$f":"+IFERROR(INDEX(#REF!,MATCH(A777,#REF!,0)),\"\")","v":""},null,{"$f":"IFERROR(INDEX(#REF!,MATCH(A777,#REF!,0)),\"\")","v":""},{"$f":"IFERROR(INDEX(#REF!,MATCH(A777,#REF!,0)),\"\")","v":""}]
[{"$f":"IF(C778=\"\",\"\",SUBTOTAL(3,C$5:C778))","v":""},{"$f":"+IFERROR(INDEX(#REF!,MATCH(A778,#REF!,0)),\"\")","v":""},null,{"$f":"IFERROR(INDEX(#REF!,MATCH(A778,#REF!,0)),\"\")","v":""},{"$f":"IFERROR(INDEX(#REF!,MATCH(A778,#REF!,0)),\"\")","v":""}]
[{"$f":"IF(C779=\"\",\"\",SUBTOTAL(3,C$5:C779))","v":""},{"$f":"+IFERROR(INDEX(#REF!,MATCH(A779,#REF!,0)),\"\")","v":""},null,{"$f":"IFERROR(INDEX(#REF!,MATCH(A779,#REF!,0)),\"\")","v":""},{"$f":"IFERROR(INDEX(#REF!,MATCH(A779,#REF!,0)),\"\")","v":""}]
[{"$f":"IF(C780=\"\",\"\",SUBTOTAL(3,C$5:C780))","v":""},{"$f":"+IFERROR(INDEX(#REF!,MATCH(A780,#REF!,0)),\"\")","v":""},null,{"$f":"IFERROR(INDEX(#REF!,MATCH(A780,#REF!,0)),\"\")","v":""},{"$f":"IFERROR(INDEX(#REF!,MATCH(A780,#REF!,0)),\"\")","v":""}]
[{"$f":"IF(C781=\"\",\"\",SUBTOTAL(3,C$5:C781))","v":""},{"$f":"+IFERROR(INDEX(#REF!,MATCH(A781,#REF!,0)),\"\")","v":""},null,{"$f":"IFERROR(INDEX(#REF!,MATCH(A781,#REF!,0)),\"\")","v":""},{"$f":"IFERROR(INDEX(#REF!,MATCH(A781,#REF!,0)),\"\")","v":""}]
[{"$f":"IF(C782=\"\",\"\",SUBTOTAL(3,C$5:C782))","v":""},{"$f":"+IFERROR(INDEX(#REF!,MATCH(A782,#REF!,0)),\"\")","v":""},null,{"$f":"IFERROR(INDEX(#REF!,MATCH(A782,#REF!,0)),\"\")","v":""},{"$f":"IFERROR(INDEX(#REF!,MATCH(A782,#REF!,0)),\"\")","v":""}]
[{"$f":"IF(C783=\"\",\"\",SUBTOTAL(3,C$5:C783))","v":""},{"$f":"+IFERROR(INDEX(#REF!,MATCH(A783,#REF!,0)),\"\")","v":""},null,{"$f":"IFERROR(INDEX(#REF!,MATCH(A783,#REF!,0)),\"\")","v":""},{"$f":"IFERROR(INDEX(#REF!,MATCH(A783,#REF!,0)),\"\")","v":""}]
[{"$f":"IF(C784=\"\",\"\",SUBTOTAL(3,C$5:C784))","v":""},{"$f":"+IFERROR(INDEX(#REF!,MATCH(A784,#REF!,0)),\"\")","v":""},null,{"$f":"IFERROR(INDEX(#REF!,MATCH(A784,#REF!,0)),\"\")","v":""},{"$f":"IFERROR(INDEX(#REF!,MATCH(A784,#REF!,0)),\"\")","v":""}]
[{"$f":"IF(C785=\"\",\"\",SUBTOTAL(3,C$5:C785))","v":""},{"$f":"+IFERROR(INDEX(#REF!,MATCH(A785,#REF!,0)),\"\")","v":""},null,{"$f":"IFERROR(INDEX(#REF!,MATCH(A785,#REF!,0)),\"\")","v":""},{"$f":"IFERROR(INDEX(#REF!,MATCH(A785,#REF!,0)),\"\")","v":""}]
[{"$f":"IF(C786=\"\",\"\",SUBTOTAL(3,C$5:C786))","v":""},{"$f":"+IFERROR(INDEX(#REF!,MATCH(A786,#REF!,0)),\"\")","v":""},null,{"$f":"IFERROR(INDEX(#REF!,MATCH(A786,#REF!,0)),\"\")","v":""},{"$f":"IFERROR(INDEX(#REF!,MATCH(A786,#REF!,0)),\"\")","v":""}]
[{"$f":"IF(C787=\"\",\"\",SUBTOTAL(3,C$5:C787))","v":""},{"$f":"+IFERROR(INDEX(#REF!,MATCH(A787,#REF!,0)),\"\")","v":""},null,{"$f":"IFERROR(INDEX(#REF!,MATCH(A787,#REF!,0)),\"\")","v":""},{"$f":"IFERROR(INDEX(#REF!,MATCH(A787,#REF!,0)),\"\")","v":""}]
[{"$f":"IF(C788=\"\",\"\",SUBTOTAL(3,C$5:C788))","v":""},{"$f":"+IFERROR(INDEX(#REF!,MATCH(A788,#REF!,0)),\"\")","v":""},null,{"$f":"IFERROR(INDEX(#REF!,MATCH(A788,#REF!,0)),\"\")","v":""},{"$f":"IFERROR(INDEX(#REF!,MATCH(A788,#REF!,0)),\"\")","v":""}]
[{"$f":"IF(C789=\"\",\"\",SUBTOTAL(3,C$5:C789))","v":""},{"$f":"+IFERROR(INDEX(#REF!,MATCH(A789,#REF!,0)),\"\")","v":""},null,{"$f":"IFERROR(INDEX(#REF!,MATCH(A789,#REF!,0)),\"\")","v":""},{"$f":"IFERROR(INDEX(#REF!,MATCH(A789,#REF!,0)),\"\")","v":""}]
[{"$f":"IF(C790=\"\",\"\",SUBTOTAL(3,C$5:C790))","v":""},{"$f":"+IFERROR(INDEX(#REF!,MATCH(A790,#REF!,0)),\"\")","v":""},null,{"$f":"IFERROR(INDEX(#REF!,MATCH(A790,#REF!,0)),\"\")","v":""},{"$f":"IFERROR(INDEX(#REF!,MATCH(A790,#REF!,0)),\"\")","v":""}]
[{"$f":"IF(C791=\"\",\"\",SUBTOTAL(3,C$5:C791))","v":""},{"$f":"+IFERROR(INDEX(#REF!,MATCH(A791,#REF!,0)),\"\")","v":""},null,{"$f":"IFERROR(INDEX(#REF!,MATCH(A791,#REF!,0)),\"\")","v":""},{"$f":"IFERROR(INDEX(#REF!,MATCH(A791,#REF!,0)),\"\")","v":""}]
[{"$f":"IF(C792=\"\",\"\",SUBTOTAL(3,C$5:C792))","v":""},{"$f":"+IFERROR(INDEX(#REF!,MATCH(A792,#REF!,0)),\"\")","v":""},null,{"$f":"IFERROR(INDEX(#REF!,MATCH(A792,#REF!,0)),\"\")","v":""},{"$f":"IFERROR(INDEX(#REF!,MATCH(A792,#REF!,0)),\"\")","v":""}]
[{"$f":"IF(C793=\"\",\"\",SUBTOTAL(3,C$5:C793))","v":""},{"$f":"+IFERROR(INDEX(#REF!,MATCH(A793,#REF!,0)),\"\")","v":""},null,{"$f":"IFERROR(INDEX(#REF!,MATCH(A793,#REF!,0)),\"\")","v":""},{"$f":"IFERROR(INDEX(#REF!,MATCH(A793,#REF!,0)),\"\")","v":""}]
[{"$f":"IF(C794=\"\",\"\",SUBTOTAL(3,C$5:C794))","v":""},{"$f":"+IFERROR(INDEX(#REF!,MATCH(A794,#REF!,0)),\"\")","v":""},null,{"$f":"IFERROR(INDEX(#REF!,MATCH(A794,#REF!,0)),\"\")","v":""},{"$f":"IFERROR(INDEX(#REF!,MATCH(A794,#REF!,0)),\"\")","v":""}]
[{"$f":"IF(C795=\"\",\"\",SUBTOTAL(3,C$5:C795))","v":""},{"$f":"+IFERROR(INDEX(#REF!,MATCH(A795,#REF!,0)),\"\")","v":""},null,{"$f":"IFERROR(INDEX(#REF!,MATCH(A795,#REF!,0)),\"\")","v":""},{"$f":"IFERROR(INDEX(#REF!,MATCH(A795,#REF!,0)),\"\")","v":""}]
[{"$f":"IF(C796=\"\",\"\",SUBTOTAL(3,C$5:C796))","v":""},{"$f":"+IFERROR(INDEX(#REF!,MATCH(A796,#REF!,0)),\"\")","v":""},null,{"$f":"IFERROR(INDEX(#REF!,MATCH(A796,#REF!,0)),\"\")","v":""},{"$f":"IFERROR(INDEX(#REF!,MATCH(A796,#REF!,0)),\"\")","v":""}]
[{"$f":"IF(C797=\"\",\"\",SUBTOTAL(3,C$5:C797))","v":""},{"$f":"+IFERROR(INDEX(#REF!,MATCH(A797,#REF!,0)),\"\")","v":""},null,{"$f":"IFERROR(INDEX(#REF!,MATCH(A797,#REF!,0)),\"\")","v":""},{"$f":"IFERROR(INDEX(#REF!,MATCH(A797,#REF!,0)),\"\")","v":""}]
[{"$f":"IF(C798=\"\",\"\",SUBTOTAL(3,C$5:C798))","v":""},{"$f":"+IFERROR(INDEX(#REF!,MATCH(A798,#REF!,0)),\"\")","v":""},null,{"$f":"IFERROR(INDEX(#REF!,MATCH(A798,#REF!,0)),\"\")","v":""},{"$f":"IFERROR(INDEX(#REF!,MATCH(A798,#REF!,0)),\"\")","v":""}]
[{"$f":"IF(C799=\"\",\"\",SUBTOTAL(3,C$5:C799))","v":""},{"$f":"+IFERROR(INDEX(#REF!,MATCH(A799,#REF!,0)),\"\")","v":""},null,{"$f":"IFERROR(INDEX(#REF!,MATCH(A799,#REF!,0)),\"\")","v":""},{"$f":"IFERROR(INDEX(#REF!,MATCH(A799,#REF!,0)),\"\")","v":""}]
[{"$f":"IF(C800=\"\",\"\",SUBTOTAL(3,C$5:C800))","v":""},{"$f":"+IFERROR(INDEX(#REF!,MATCH(A800,#REF!,0)),\"\")","v":""},null,{"$f":"IFERROR(INDEX(#REF!,MATCH(A800,#REF!,0)),\"\")","v":""},{"$f":"IFERROR(INDEX(#REF!,MATCH(A800,#REF!,0)),\"\")","v":""}]
[{"$f":"IF(C801=\"\",\"\",SUBTOTAL(3,C$5:C801))","v":""},{"$f":"+IFERROR(INDEX(#REF!,MATCH(A801,#REF!,0)),\"\")","v":""},null,{"$f":"IFERROR(INDEX(#REF!,MATCH(A801,#REF!,0)),\"\")","v":""},{"$f":"IFERROR(INDEX(#REF!,MATCH(A801,#REF!,0)),\"\")","v":""}]
[{"$f":"IF(C802=\"\",\"\",SUBTOTAL(3,C$5:C802))","v":""},{"$f":"+IFERROR(INDEX(#REF!,MATCH(A802,#REF!,0)),\"\")","v":""},null,{"$f":"IFERROR(INDEX(#REF!,MATCH(A802,#REF!,0)),\"\")","v":""},{"$f":"IFERROR(INDEX(#REF!,MATCH(A802,#REF!,0)),\"\")","v":""}]
[{"$f":"IF(C803=\"\",\"\",SUBTOTAL(3,C$5:C803))","v":""},{"$f":"+IFERROR(INDEX(#REF!,MATCH(A803,#REF!,0)),\"\")","v":""},null,{"$f":"IFERROR(INDEX(#REF!,MATCH(A803,#REF!,0)),\"\")","v":""},{"$f":"IFERROR(INDEX(#REF!,MATCH(A803,#REF!,0)),\"\")","v":""}]
[{"$f":"IF(C804=\"\",\"\",SUBTOTAL(3,C$5:C804))","v":""},{"$f":"+IFERROR(INDEX(#REF!,MATCH(A804,#REF!,0)),\"\")","v":""},null,{"$f":"IFERROR(INDEX(#REF!,MATCH(A804,#REF!,0)),\"\")","v":""},{"$f":"IFERROR(INDEX(#REF!,MATCH(A804,#REF!,0)),\"\")","v":""}]
[{"$f":"IF(C805=\"\",\"\",SUBTOTAL(3,C$5:C805))","v":""},{"$f":"+IFERROR(INDEX(#REF!,MATCH(A805,#REF!,0)),\"\")","v":""},null,{"$f":"IFERROR(INDEX(#REF!,MATCH(A805,#REF!,0)),\"\")","v":""},{"$f":"IFERROR(INDEX(#REF!,MATCH(A805,#REF!,0)),\"\")","v":""}]
[{"$f":"IF(C806=\"\",\"\",SUBTOTAL(3,C$5:C806))","v":""},{"$f":"+IFERROR(INDEX(#REF!,MATCH(A806,#REF!,0)),\"\")","v":""},null,{"$f":"IFERROR(INDEX(#REF!,MATCH(A806,#REF!,0)),\"\")","v":""},{"$f":"IFERROR(INDEX(#REF!,MATCH(A806,#REF!,0)),\"\")","v":""}]
[{"$f":"IF(C807=\"\",\"\",SUBTOTAL(3,C$5:C807))","v":""},{"$f":"+IFERROR(INDEX(#REF!,MATCH(A807,#REF!,0)),\"\")","v":""},null,{"$f":"IFERROR(INDEX(#REF!,MATCH(A807,#REF!,0)),\"\")","v":""},{"$f":"IFERROR(INDEX(#REF!,MATCH(A807,#REF!,0)),\"\")","v":""}]
[{"$f":"IF(C808=\"\",\"\",SUBTOTAL(3,C$5:C808))","v":""},{"$f":"+IFERROR(INDEX(#REF!,MATCH(A808,#REF!,0)),\"\")","v":""},null,{"$f":"IFERROR(INDEX(#REF!,MATCH(A808,#REF!,0)),\"\")","v":""},{"$f":"IFERROR(INDEX(#REF!,MATCH(A808,#REF!,0)),\"\")","v":""}]
[{"$f":"IF(C809=\"\",\"\",SUBTOTAL(3,C$5:C809))","v":""},{"$f":"+IFERROR(INDEX(#REF!,MATCH(A809,#REF!,0)),\"\")","v":""},null,{"$f":"IFERROR(INDEX(#REF!,MATCH(A809,#REF!,0)),\"\")","v":""},{"$f":"IFERROR(INDEX(#REF!,MATCH(A809,#REF!,0)),\"\")","v":""}]
[{"$f":"IF(C810=\"\",\"\",SUBTOTAL(3,C$5:C810))","v":""},{"$f":"+IFERROR(INDEX(#REF!,MATCH(A810,#REF!,0)),\"\")","v":""},null,{"$f":"IFERROR(INDEX(#REF!,MATCH(A810,#REF!,0)),\"\")","v":""},{"$f":"IFERROR(INDEX(#REF!,MATCH(A810,#REF!,0)),\"\")","v":""}]
[{"$f":"IF(C811=\"\",\"\",SUBTOTAL(3,C$5:C811))","v":""},{"$f":"+IFERROR(INDEX(#REF!,MATCH(A811,#REF!,0)),\"\")","v":""},null,{"$f":"IFERROR(INDEX(#REF!,MATCH(A811,#REF!,0)),\"\")","v":""},{"$f":"IFERROR(INDEX(#REF!,MATCH(A811,#REF!,0)),\"\")","v":""}]
[{"$f":"IF(C812=\"\",\"\",SUBTOTAL(3,C$5:C812))","v":""},{"$f":"+IFERROR(INDEX(#REF!,MATCH(A812,#REF!,0)),\"\")","v":""},null,{"$f":"IFERROR(INDEX(#REF!,MATCH(A812,#REF!,0)),\"\")","v":""},{"$f":"IFERROR(INDEX(#REF!,MATCH(A812,#REF!,0)),\"\")","v":""}]
[{"$f":"IF(C813=\"\",\"\",SUBTOTAL(3,C$5:C813))","v":""},{"$f":"+IFERROR(INDEX(#REF!,MATCH(A813,#REF!,0)),\"\")","v":""},null,{"$f":"IFERROR(INDEX(#REF!,MATCH(A813,#REF!,0)),\"\")","v":""},{"$f":"IFERROR(INDEX(#REF!,MATCH(A813,#REF!,0)),\"\")","v":""}]
[{"$f":"IF(C814=\"\",\"\",SUBTOTAL(3,C$5:C814))","v":""},{"$f":"+IFERROR(INDEX(#REF!,MATCH(A814,#REF!,0)),\"\")","v":""},null,{"$f":"IFERROR(INDEX(#REF!,MATCH(A814,#REF!,0)),\"\")","v":""},{"$f":"IFERROR(INDEX(#REF!,MATCH(A814,#REF!,0)),\"\")","v":""}]
[{"$f":"IF(C815=\"\",\"\",SUBTOTAL(3,C$5:C815))","v":""},{"$f":"+IFERROR(INDEX(#REF!,MATCH(A815,#REF!,0)),\"\")","v":""},null,{"$f":"IFERROR(INDEX(#REF!,MATCH(A815,#REF!,0)),\"\")","v":""},{"$f":"IFERROR(INDEX(#REF!,MATCH(A815,#REF!,0)),\"\")","v":""}]
[{"$f":"IF(C816=\"\",\"\",SUBTOTAL(3,C$5:C816))","v":""},{"$f":"+IFERROR(INDEX(#REF!,MATCH(A816,#REF!,0)),\"\")","v":""},null,{"$f":"IFERROR(INDEX(#REF!,MATCH(A816,#REF!,0)),\"\")","v":""},{"$f":"IFERROR(INDEX(#REF!,MATCH(A816,#REF!,0)),\"\")","v":""}]
[{"$f":"IF(C817=\"\",\"\",SUBTOTAL(3,C$5:C817))","v":""},{"$f":"+IFERROR(INDEX(#REF!,MATCH(A817,#REF!,0)),\"\")","v":""},null,{"$f":"IFERROR(INDEX(#REF!,MATCH(A817,#REF!,0)),\"\")","v":""},{"$f":"IFERROR(INDEX(#REF!,MATCH(A817,#REF!,0)),\"\")","v":""}]
[{"$f":"IF(C818=\"\",\"\",SUBTOTAL(3,C$5:C818))","v":""},{"$f":"+IFERROR(INDEX(#REF!,MATCH(A818,#REF!,0)),\"\")","v":""},null,{"$f":"IFERROR(INDEX(#REF!,MATCH(A818,#REF!,0)),\"\")","v":""},{"$f":"IFERROR(INDEX(#REF!,MATCH(A818,#REF!,0)),\"\")","v":""}]
[{"$f":"IF(C819=\"\",\"\",SUBTOTAL(3,C$5:C819))","v":""},{"$f":"+IFERROR(INDEX(#REF!,MATCH(A819,#REF!,0)),\"\")","v":""},null,{"$f":"IFERROR(INDEX(#REF!,MATCH(A819,#REF!,0)),\"\")","v":""},{"$f":"IFERROR(INDEX(#REF!,MATCH(A819,#REF!,0)),\"\")","v":""}]
[{"$f":"IF(C820=\"\",\"\",SUBTOTAL(3,C$5:C820))","v":""},{"$f":"+IFERROR(INDEX(#REF!,MATCH(A820,#REF!,0)),\"\")","v":""},null,{"$f":"IFERROR(INDEX(#REF!,MATCH(A820,#REF!,0)),\"\")","v":""},{"$f":"IFERROR(INDEX(#REF!,MATCH(A820,#REF!,0)),\"\")","v":""}]
[{"$f":"IF(C821=\"\",\"\",SUBTOTAL(3,C$5:C821))","v":""},{"$f":"+IFERROR(INDEX(#REF!,MATCH(A821,#REF!,0)),\"\")","v":""},null,{"$f":"IFERROR(INDEX(#REF!,MATCH(A821,#REF!,0)),\"\")","v":""},{"$f":"IFERROR(INDEX(#REF!,MATCH(A821,#REF!,0)),\"\")","v":""}]
[{"$f":"IF(C822=\"\",\"\",SUBTOTAL(3,C$5:C822))","v":""},{"$f":"+IFERROR(INDEX(#REF!,MATCH(A822,#REF!,0)),\"\")","v":""},null,{"$f":"IFERROR(INDEX(#REF!,MATCH(A822,#REF!,0)),\"\")","v":""},{"$f":"IFERROR(INDEX(#REF!,MATCH(A822,#REF!,0)),\"\")","v":""}]
[{"$f":"IF(C823=\"\",\"\",SUBTOTAL(3,C$5:C823))","v":""},{"$f":"+IFERROR(INDEX(#REF!,MATCH(A823,#REF!,0)),\"\")","v":""},null,{"$f":"IFERROR(INDEX(#REF!,MATCH(A823,#REF!,0)),\"\")","v":""},{"$f":"IFERROR(INDEX(#REF!,MATCH(A823,#REF!,0)),\"\")","v":""}]
[{"$f":"IF(C824=\"\",\"\",SUBTOTAL(3,C$5:C824))","v":""},{"$f":"+IFERROR(INDEX(#REF!,MATCH(A824,#REF!,0)),\"\")","v":""},null,{"$f":"IFERROR(INDEX(#REF!,MATCH(A824,#REF!,0)),\"\")","v":""},{"$f":"IFERROR(INDEX(#REF!,MATCH(A824,#REF!,0)),\"\")","v":""}]
[{"$f":"IF(C825=\"\",\"\",SUBTOTAL(3,C$5:C825))","v":""},{"$f":"+IFERROR(INDEX(#REF!,MATCH(A825,#REF!,0)),\"\")","v":""},null,{"$f":"IFERROR(INDEX(#REF!,MATCH(A825,#REF!,0)),\"\")","v":""},{"$f":"IFERROR(INDEX(#REF!,MATCH(A825,#REF!,0)),\"\")","v":""}]
[{"$f":"IF(C826=\"\",\"\",SUBTOTAL(3,C$5:C826))","v":""},{"$f":"+IFERROR(INDEX(#REF!,MATCH(A826,#REF!,0)),\"\")","v":""},null,{"$f":"IFERROR(INDEX(#REF!,MATCH(A826,#REF!,0)),\"\")","v":""},{"$f":"IFERROR(INDEX(#REF!,MATCH(A826,#REF!,0)),\"\")","v":""}]
[{"$f":"IF(C827=\"\",\"\",SUBTOTAL(3,C$5:C827))","v":""},{"$f":"+IFERROR(INDEX(#REF!,MATCH(A827,#REF!,0)),\"\")","v":""},null,{"$f":"IFERROR(INDEX(#REF!,MATCH(A827,#REF!,0)),\"\")","v":""},{"$f":"IFERROR(INDEX(#REF!,MATCH(A827,#REF!,0)),\"\")","v":""}]
[{"$f":"IF(C828=\"\",\"\",SUBTOTAL(3,C$5:C828))","v":""},{"$f":"+IFERROR(INDEX(#REF!,MATCH(A828,#REF!,0)),\"\")","v":""},null,{"$f":"IFERROR(INDEX(#REF!,MATCH(A828,#REF!,0)),\"\")","v":""},{"$f":"IFERROR(INDEX(#REF!,MATCH(A828,#REF!,0)),\"\")","v":""}]
[{"$f":"IF(C829=\"\",\"\",SUBTOTAL(3,C$5:C829))","v":""},{"$f":"+IFERROR(INDEX(#REF!,MATCH(A829,#REF!,0)),\"\")","v":""},null,{"$f":"IFERROR(INDEX(#REF!,MATCH(A829,#REF!,0)),\"\")","v":""},{"$f":"IFERROR(INDEX(#REF!,MATCH(A829,#REF!,0)),\"\")","v":""}]
[{"$f":"IF(C830=\"\",\"\",SUBTOTAL(3,C$5:C830))","v":""},{"$f":"+IFERROR(INDEX(#REF!,MATCH(A830,#REF!,0)),\"\")","v":""},null,{"$f":"IFERROR(INDEX(#REF!,MATCH(A830,#REF!,0)),\"\")","v":""},{"$f":"IFERROR(INDEX(#REF!,MATCH(A830,#REF!,0)),\"\")","v":""}]
[{"$f":"IF(C831=\"\",\"\",SUBTOTAL(3,C$5:C831))","v":""},{"$f":"+IFERROR(INDEX(#REF!,MATCH(A831,#REF!,0)),\"\")","v":""},null,{"$f":"IFERROR(INDEX(#REF!,MATCH(A831,#REF!,0)),\"\")","v":""},{"$f":"IFERROR(INDEX(#REF!,MATCH(A831,#REF!,0)),\"\")","v":""}]
[{"$f":"IF(C832=\"\",\"\",SUBTOTAL(3,C$5:C832))","v":""},{"$f":"+IFERROR(INDEX(#REF!,MATCH(A832,#REF!,0)),\"\")","v":""},null,{"$f":"IFERROR(INDEX(#REF!,MATCH(A832,#REF!,0)),\"\")","v":""},{"$f":"IFERROR(INDEX(#REF!,MATCH(A832,#REF!,0)),\"\")","v":""}]
[{"$f":"IF(C833=\"\",\"\",SUBTOTAL(3,C$5:C833))","v":""},{"$f":"+IFERROR(INDEX(#REF!,MATCH(A833,#REF!,0)),\"\")","v":""},null,{"$f":"IFERROR(INDEX(#REF!,MATCH(A833,#REF!,0)),\"\")","v":""},{"$f":"IFERROR(INDEX(#REF!,MATCH(A833,#REF!,0)),\"\")","v":""}]
[{"$f":"IF(C834=\"\",\"\",SUBTOTAL(3,C$5:C834))","v":""},{"$f":"+IFERROR(INDEX(#REF!,MATCH(A834,#REF!,0)),\"\")","v":""},null,{"$f":"IFERROR(INDEX(#REF!,MATCH(A834,#REF!,0)),\"\")","v":""},{"$f":"IFERROR(INDEX(#REF!,MATCH(A834,#REF!,0)),\"\")","v":""}]
[{"$f":"IF(C835=\"\",\"\",SUBTOTAL(3,C$5:C835))","v":""},{"$f":"+IFERROR(INDEX(#REF!,MATCH(A835,#REF!,0)),\"\")","v":""},null,{"$f":"IFERROR(INDEX(#REF!,MATCH(A835,#REF!,0)),\"\")","v":""},{"$f":"IFERROR(INDEX(#REF!,MATCH(A835,#REF!,0)),\"\")","v":""}]
[{"$f":"IF(C836=\"\",\"\",SUBTOTAL(3,C$5:C836))","v":""},{"$f":"+IFERROR(INDEX(#REF!,MATCH(A836,#REF!,0)),\"\")","v":""},null,{"$f":"IFERROR(INDEX(#REF!,MATCH(A836,#REF!,0)),\"\")","v":""},{"$f":"IFERROR(INDEX(#REF!,MATCH(A836,#REF!,0)),\"\")","v":""}]
[{"$f":"IF(C837=\"\",\"\",SUBTOTAL(3,C$5:C837))","v":""},{"$f":"+IFERROR(INDEX(#REF!,MATCH(A837,#REF!,0)),\"\")","v":""},null,{"$f":"IFERROR(INDEX(#REF!,MATCH(A837,#REF!,0)),\"\")","v":""},{"$f":"IFERROR(INDEX(#REF!,MATCH(A837,#REF!,0)),\"\")","v":""}]
[{"$f":"IF(C838=\"\",\"\",SUBTOTAL(3,C$5:C838))","v":""},{"$f":"+IFERROR(INDEX(#REF!,MATCH(A838,#REF!,0)),\"\")","v":""},null,{"$f":"IFERROR(INDEX(#REF!,MATCH(A838,#REF!,0)),\"\")","v":""},{"$f":"IFERROR(INDEX(#REF!,MATCH(A838,#REF!,0)),\"\")","v":""}]
[{"$f":"IF(C839=\"\",\"\",SUBTOTAL(3,C$5:C839))","v":""},{"$f":"+IFERROR(INDEX(#REF!,MATCH(A839,#REF!,0)),\"\")","v":""},null,{"$f":"IFERROR(INDEX(#REF!,MATCH(A839,#REF!,0)),\"\")","v":""},{"$f":"IFERROR(INDEX(#REF!,MATCH(A839,#REF!,0)),\"\")","v":""}]
[{"$f":"IF(C840=\"\",\"\",SUBTOTAL(3,C$5:C840))","v":""},{"$f":"+IFERROR(INDEX(#REF!,MATCH(A840,#REF!,0)),\"\")","v":""},null,{"$f":"IFERROR(INDEX(#REF!,MATCH(A840,#REF!,0)),\"\")","v":""},{"$f":"IFERROR(INDEX(#REF!,MATCH(A840,#REF!,0)),\"\")","v":""}]
[{"$f":"IF(C841=\"\",\"\",SUBTOTAL(3,C$5:C841))","v":""},{"$f":"+IFERROR(INDEX(#REF!,MATCH(A841,#REF!,0)),\"\")","v":""},null,{"$f":"IFERROR(INDEX(#REF!,MATCH(A841,#REF!,0)),\"\")","v":""},{"$f":"IFERROR(INDEX(#REF!,MATCH(A841,#REF!,0)),\"\")","v":""}]
[{"$f":"IF(C842=\"\",\"\",SUBTOTAL(3,C$5:C842))","v":""},{"$f":"+IFERROR(INDEX(#REF!,MATCH(A842,#REF!,0)),\"\")","v":""},null,{"$f":"IFERROR(INDEX(#REF!,MATCH(A842,#REF!,0)),\"\")","v":""},{"$f":"IFERROR(INDEX(#REF!,MATCH(A842,#REF!,0)),\"\")","v":""}]
[{"$f":"IF(C843=\"\",\"\",SUBTOTAL(3,C$5:C843))","v":""},{"$f":"+IFERROR(INDEX(#REF!,MATCH(A843,#REF!,0)),\"\")","v":""},null,{"$f":"IFERROR(INDEX(#REF!,MATCH(A843,#REF!,0)),\"\")","v":""},{"$f":"IFERROR(INDEX(#REF!,MATCH(A843,#REF!,0)),\"\")","v":""}]
[{"$f":"IF(C844=\"\",\"\",SUBTOTAL(3,C$5:C844))","v":""},{"$f":"+IFERROR(INDEX(#REF!,MATCH(A844,#REF!,0)),\"\")","v":""},null,{"$f":"IFERROR(INDEX(#REF!,MATCH(A844,#REF!,0)),\"\")","v":""},{"$f":"IFERROR(INDEX(#REF!,MATCH(A844,#REF!,0)),\"\")","v":""}]
[{"$f":"IF(C845=\"\",\"\",SUBTOTAL(3,C$5:C845))","v":""},{"$f":"+IFERROR(INDEX(#REF!,MATCH(A845,#REF!,0)),\"\")","v":""},null,{"$f":"IFERROR(INDEX(#REF!,MATCH(A845,#REF!,0)),\"\")","v":""},{"$f":"IFERROR(INDEX(#REF!,MATCH(A845,#REF!,0)),\"\")","v":""}]
[{"$f":"IF(C846=\"\",\"\",SUBTOTAL(3,C$5:C846))","v":""},{"$f":"+IFERROR(INDEX(#REF!,MATCH(A846,#REF!,0)),\"\")","v":""},null,{"$f":"IFERROR(INDEX(#REF!,MATCH(A846,#REF!,0)),\"\")","v":""},{"$f":"IFERROR(INDEX(#REF!,MATCH(A846,#REF!,0)),\"\")","v":""}]
[{"$f":"IF(C847=\"\",\"\",SUBTOTAL(3,C$5:C847))","v":""},{"$f":"+IFERROR(INDEX(#REF!,MATCH(A847,#REF!,0)),\"\")","v":""},null,{"$f":"IFERROR(INDEX(#REF!,MATCH(A847,#REF!,0)),\"\")","v":""},{"$f":"IFERROR(INDEX(#REF!,MATCH(A847,#REF!,0)),\"\")","v":""}]
[{"$f":"IF(C848=\"\",\"\",SUBTOTAL(3,C$5:C848))","v":""},{"$f":"+IFERROR(INDEX(#REF!,MATCH(A848,#REF!,0)),\"\")","v":""},null,{"$f":"IFERROR(INDEX(#REF!,MATCH(A848,#REF!,0)),\"\")","v":""},{"$f":"IFERROR(INDEX(#REF!,MATCH(A848,#REF!,0)),\"\")","v":""}]
[{"$f":"IF(C849=\"\",\"\",SUBTOTAL(3,C$5:C849))","v":""},{"$f":"+IFERROR(INDEX(#REF!,MATCH(A849,#REF!,0)),\"\")","v":""},null,{"$f":"IFERROR(INDEX(#REF!,MATCH(A849,#REF!,0)),\"\")","v":""},{"$f":"IFERROR(INDEX(#REF!,MATCH(A849,#REF!,0)),\"\")","v":""}]
[{"$f":"IF(C850=\"\",\"\",SUBTOTAL(3,C$5:C850))","v":""},{"$f":"+IFERROR(INDEX(#REF!,MATCH(A850,#REF!,0)),\"\")","v":""},null,{"$f":"IFERROR(INDEX(#REF!,MATCH(A850,#REF!,0)),\"\")","v":""},{"$f":"IFERROR(INDEX(#REF!,MATCH(A850,#REF!,0)),\"\")","v":""}]
[{"$f":"IF(C851=\"\",\"\",SUBTOTAL(3,C$5:C851))","v":""},{"$f":"+IFERROR(INDEX(#REF!,MATCH(A851,#REF!,0)),\"\")","v":""},null,{"$f":"IFERROR(INDEX(#REF!,MATCH(A851,#REF!,0)),\"\")","v":""},{"$f":"IFERROR(INDEX(#REF!,MATCH(A851,#REF!,0)),\"\")","v":""}]
[{"$f":"IF(C852=\"\",\"\",SUBTOTAL(3,C$5:C852))","v":""},{"$f":"+IFERROR(INDEX(#REF!,MATCH(A852,#REF!,0)),\"\")","v":""},null,{"$f":"IFERROR(INDEX(#REF!,MATCH(A852,#REF!,0)),\"\")","v":""},{"$f":"IFERROR(INDEX(#REF!,MATCH(A852,#REF!,0)),\"\")","v":""}]
[{"$f":"IF(C853=\"\",\"\",SUBTOTAL(3,C$5:C853))","v":""},{"$f":"+IFERROR(INDEX(#REF!,MATCH(A853,#REF!,0)),\"\")","v":""},null,{"$f":"IFERROR(INDEX(#REF!,MATCH(A853,#REF!,0)),\"\")","v":""},{"$f":"IFERROR(INDEX(#REF!,MATCH(A853,#REF!,0)),\"\")","v":""}]
[{"$f":"IF(C854=\"\",\"\",SUBTOTAL(3,C$5:C854))","v":""},{"$f":"+IFERROR(INDEX(#REF!,MATCH(A854,#REF!,0)),\"\")","v":""},null,{"$f":"IFERROR(INDEX(#REF!,MATCH(A854,#REF!,0)),\"\")","v":""},{"$f":"IFERROR(INDEX(#REF!,MATCH(A854,#REF!,0)),\"\")","v":""}]
[{"$f":"IF(C855=\"\",\"\",SUBTOTAL(3,C$5:C855))","v":""},{"$f":"+IFERROR(INDEX(#REF!,MATCH(A855,#REF!,0)),\"\")","v":""},null,{"$f":"IFERROR(INDEX(#REF!,MATCH(A855,#REF!,0)),\"\")","v":""},{"$f":"IFERROR(INDEX(#REF!,MATCH(A855,#REF!,0)),\"\")","v":""}]
[{"$f":"IF(C856=\"\",\"\",SUBTOTAL(3,C$5:C856))","v":""},{"$f":"+IFERROR(INDEX(#REF!,MATCH(A856,#REF!,0)),\"\")","v":""},null,{"$f":"IFERROR(INDEX(#REF!,MATCH(A856,#REF!,0)),\"\")","v":""},{"$f":"IFERROR(INDEX(#REF!,MATCH(A856,#REF!,0)),\"\")","v":""}]
[{"$f":"IF(C857=\"\",\"\",SUBTOTAL(3,C$5:C857))","v":""},{"$f":"+IFERROR(INDEX(#REF!,MATCH(A857,#REF!,0)),\"\")","v":""},null,{"$f":"IFERROR(INDEX(#REF!,MATCH(A857,#REF!,0)),\"\")","v":""},{"$f":"IFERROR(INDEX(#REF!,MATCH(A857,#REF!,0)),\"\")","v":""}]
[{"$f":"IF(C858=\"\",\"\",SUBTOTAL(3,C$5:C858))","v":""},{"$f":"+IFERROR(INDEX(#REF!,MATCH(A858,#REF!,0)),\"\")","v":""},null,{"$f":"IFERROR(INDEX(#REF!,MATCH(A858,#REF!,0)),\"\")","v":""},{"$f":"IFERROR(INDEX(#REF!,MATCH(A858,#REF!,0)),\"\")","v":""}]
[{"$f":"IF(C859=\"\",\"\",SUBTOTAL(3,C$5:C859))","v":""},{"$f":"+IFERROR(INDEX(#REF!,MATCH(A859,#REF!,0)),\"\")","v":""},null,{"$f":"IFERROR(INDEX(#REF!,MATCH(A859,#REF!,0)),\"\")","v":""},{"$f":"IFERROR(INDEX(#REF!,MATCH(A859,#REF!,0)),\"\")","v":""}]
[{"$f":"IF(C860=\"\",\"\",SUBTOTAL(3,C$5:C860))","v":""},{"$f":"+IFERROR(INDEX(#REF!,MATCH(A860,#REF!,0)),\"\")","v":""},null,{"$f":"IFERROR(INDEX(#REF!,MATCH(A860,#REF!,0)),\"\")","v":""},{"$f":"IFERROR(INDEX(#REF!,MATCH(A860,#REF!,0)),\"\")","v":""}]
[{"$f":"IF(C861=\"\",\"\",SUBTOTAL(3,C$5:C861))","v":""},{"$f":"+IFERROR(INDEX(#REF!,MATCH(A861,#REF!,0)),\"\")","v":""},null,{"$f":"IFERROR(INDEX(#REF!,MATCH(A861,#REF!,0)),\"\")","v":""},{"$f":"IFERROR(INDEX(#REF!,MATCH(A861,#REF!,0)),\"\")","v":""}]
[{"$f":"IF(C862=\"\",\"\",SUBTOTAL(3,C$5:C862))","v":""},{"$f":"+IFERROR(INDEX(#REF!,MATCH(A862,#REF!,0)),\"\")","v":""},null,{"$f":"IFERROR(INDEX(#REF!,MATCH(A862,#REF!,0)),\"\")","v":""},{"$f":"IFERROR(INDEX(#REF!,MATCH(A862,#REF!,0)),\"\")","v":""}]
[{"$f":"IF(C863=\"\",\"\",SUBTOTAL(3,C$5:C863))","v":""},{"$f":"+IFERROR(INDEX(#REF!,MATCH(A863,#REF!,0)),\"\")","v":""},null,{"$f":"IFERROR(INDEX(#REF!,MATCH(A863,#REF!,0)),\"\")","v":""},{"$f":"IFERROR(INDEX(#REF!,MATCH(A863,#REF!,0)),\"\")","v":""}]
[{"$f":"IF(C864=\"\",\"\",SUBTOTAL(3,C$5:C864))","v":""},{"$f":"+IFERROR(INDEX(#REF!,MATCH(A864,#REF!,0)),\"\")","v":""},null,{"$f":"IFERROR(INDEX(#REF!,MATCH(A864,#REF!,0)),\"\")","v":""},{"$f":"IFERROR(INDEX(#REF!,MATCH(A864,#REF!,0)),\"\")","v":""}]
[{"$f":"IF(C865=\"\",\"\",SUBTOTAL(3,C$5:C865))","v":""},{"$f":"+IFERROR(INDEX(#REF!,MATCH(A865,#REF!,0)),\"\")","v":""},null,{"$f":"IFERROR(INDEX(#REF!,MATCH(A865,#REF!,0)),\"\")","v":""},{"$f":"IFERROR(INDEX(#REF!,MATCH(A865,#REF!,0)),\"\")","v":""}]
[{"$f":"IF(C866=\"\",\"\",SUBTOTAL(3,C$5:C866))","v":""},{"$f":"+IFERROR(INDEX(#REF!,MATCH(A866,#REF!,0)),\"\")","v":""},null,{"$f":"IFERROR(INDEX(#REF!,MATCH(A866,#REF!,0)),\"\")","v":""},{"$f":"IFERROR(INDEX(#REF!,MATCH(A866,#REF!,0)),\"\")","v":""}]
[{"$f":"IF(C867=\"\",\"\",SUBTOTAL(3,C$5:C867))","v":""},{"$f":"+IFERROR(INDEX(#REF!,MATCH(A867,#REF!,0)),\"\")","v":""},null,{"$f":"IFERROR(INDEX(#REF!,MATCH(A867,#REF!,0)),\"\")","v":""},{"$f":"IFERROR(INDEX(#REF!,MATCH(A867,#REF!,0)),\"\")","v":""}]
[{"$f":"IF(C868=\"\",\"\",SUBTOTAL(3,C$5:C868))","v":""},{"$f":"+IFERROR(INDEX(#REF!,MATCH(A868,#REF!,0)),\"\")","v":""},null,{"$f":"IFERROR(INDEX(#REF!,MATCH(A868,#REF!,0)),\"\")","v":""},{"$f":"IFERROR(INDEX(#REF!,MATCH(A868,#REF!,0)),\"\")","v":""}]
[{"$f":"IF(C869=\"\",\"\",SUBTOTAL(3,C$5:C869))","v":""},{"$f":"+IFERROR(INDEX(#REF!,MATCH(A869,#REF!,0)),\"\")","v":""},null,{"$f":"IFERROR(INDEX(#REF!,MATCH(A869,#REF!,0)),\"\")","v":""},{"$f":"IFERROR(INDEX(#REF!,MATCH(A869,#REF!,0)),\"\")","v":""}]
[{"$f":"IF(C870=\"\",\"\",SUBTOTAL(3,C$5:C870))","v":""},{"$f":"+IFERROR(INDEX(#REF!,MATCH(A870,#REF!,0)),\"\")","v":""},null,{"$f":"IFERROR(INDEX(#REF!,MATCH(A870,#REF!,0)),\"\")","v":""},{"$f":"IFERROR(INDEX(#REF!,MATCH(A870,#REF!,0)),\"\")","v":""}]
[{"$f":"IF(C871=\"\",\"\",SUBTOTAL(3,C$5:C871))","v":""},{"$f":"+IFERROR(INDEX(#REF!,MATCH(A871,#REF!,0)),\"\")","v":""},null,{"$f":"IFERROR(INDEX(#REF!,MATCH(A871,#REF!,0)),\"\")","v":""},{"$f":"IFERROR(INDEX(#REF!,MATCH(A871,#REF!,0)),\"\")","v":""}]
[{"$f":"IF(C872=\"\",\"\",SUBTOTAL(3,C$5:C872))","v":""},{"$f":"+IFERROR(INDEX(#REF!,MATCH(A872,#REF!,0)),\"\")","v":""},null,{"$f":"IFERROR(INDEX(#REF!,MATCH(A872,#REF!,0)),\"\")","v":""},{"$f":"IFERROR(INDEX(#REF!,MATCH(A872,#REF!,0)),\"\")","v":""}]
[{"$f":"IF(C873=\"\",\"\",SUBTOTAL(3,C$5:C873))","v":""},{"$f":"+IFERROR(INDEX(#REF!,MATCH(A873,#REF!,0)),\"\")","v":""},null,{"$f":"IFERROR(INDEX(#REF!,MATCH(A873,#REF!,0)),\"\")","v":""},{"$f":"IFERROR(INDEX(#REF!,MATCH(A873,#REF!,0)),\"\")","v":""}]
[{"$f":"IF(C874=\"\",\"\",SUBTOTAL(3,C$5:C874))","v":""},{"$f":"+IFERROR(INDEX(#REF!,MATCH(A874,#REF!,0)),\"\")","v":""},null,{"$f":"IFERROR(INDEX(#REF!,MATCH(A874,#REF!,0)),\"\")","v":""},{"$f":"IFERROR(INDEX(#REF!,MATCH(A874,#REF!,0)),\"\")","v":""}]
[{"$f":"IF(C875=\"\",\"\",SUBTOTAL(3,C$5:C875))","v":""},{"$f":"+IFERROR(INDEX(#REF!,MATCH(A875,#REF!,0)),\"\")","v":""},null,{"$f":"IFERROR(INDEX(#REF!,MATCH(A875,#REF!,0)),\"\")","v":""},{"$f":"IFERROR(INDEX(#REF!,MATCH(A875,#REF!,0)),\"\")","v":""}]
[{"$f":"IF(C876=\"\",\"\",SUBTOTAL(3,C$5:C876))","v":""},{"$f":"+IFERROR(INDEX(#REF!,MATCH(A876,#REF!,0)),\"\")","v":""},null,{"$f":"IFERROR(INDEX(#REF!,MATCH(A876,#REF!,0)),\"\")","v":""},{"$f":"IFERROR(INDEX(#REF!,MATCH(A876,#REF!,0)),\"\")","v":""}]
[{"$f":"IF(C877=\"\",\"\",SUBTOTAL(3,C$5:C877))","v":""},{"$f":"+IFERROR(INDEX(#REF!,MATCH(A877,#REF!,0)),\"\")","v":""},null,{"$f":"IFERROR(INDEX(#REF!,MATCH(A877,#REF!,0)),\"\")","v":""},{"$f":"IFERROR(INDEX(#REF!,MATCH(A877,#REF!,0)),\"\")","v":""}]
[{"$f":"IF(C878=\"\",\"\",SUBTOTAL(3,C$5:C878))","v":""},{"$f":"+IFERROR(INDEX(#REF!,MATCH(A878,#REF!,0)),\"\")","v":""},null,{"$f":"IFERROR(INDEX(#REF!,MATCH(A878,#REF!,0)),\"\")","v":""},{"$f":"IFERROR(INDEX(#REF!,MATCH(A878,#REF!,0)),\"\")","v":""}]
[{"$f":"IF(C879=\"\",\"\",SUBTOTAL(3,C$5:C879))","v":""},{"$f":"+IFERROR(INDEX(#REF!,MATCH(A879,#REF!,0)),\"\")","v":""},null,{"$f":"IFERROR(INDEX(#REF!,MATCH(A879,#REF!,0)),\"\")","v":""},{"$f":"IFERROR(INDEX(#REF!,MATCH(A879,#REF!,0)),\"\")","v":""}]
[{"$f":"IF(C880=\"\",\"\",SUBTOTAL(3,C$5:C880))","v":""},{"$f":"+IFERROR(INDEX(#REF!,MATCH(A880,#REF!,0)),\"\")","v":""},null,{"$f":"IFERROR(INDEX(#REF!,MATCH(A880,#REF!,0)),\"\")","v":""},{"$f":"IFERROR(INDEX(#REF!,MATCH(A880,#REF!,0)),\"\")","v":""}]
[{"$f":"IF(C881=\"\",\"\",SUBTOTAL(3,C$5:C881))","v":""},{"$f":"+IFERROR(INDEX(#REF!,MATCH(A881,#REF!,0)),\"\")","v":""},null,{"$f":"IFERROR(INDEX(#REF!,MATCH(A881,#REF!,0)),\"\")","v":""},{"$f":"IFERROR(INDEX(#REF!,MATCH(A881,#REF!,0)),\"\")","v":""}]
[{"$f":"IF(C882=\"\",\"\",SUBTOTAL(3,C$5:C882))","v":""},{"$f":"+IFERROR(INDEX(#REF!,MATCH(A882,#REF!,0)),\"\")","v":""},null,{"$f":"IFERROR(INDEX(#REF!,MATCH(A882,#REF!,0)),\"\")","v":""},{"$f":"IFERROR(INDEX(#REF!,MATCH(A882,#REF!,0)),\"\")","v":""}]
[{"$f":"IF(C883=\"\",\"\",SUBTOTAL(3,C$5:C883))","v":""},{"$f":"+IFERROR(INDEX(#REF!,MATCH(A883,#REF!,0)),\"\")","v":""},null,{"$f":"IFERROR(INDEX(#REF!,MATCH(A883,#REF!,0)),\"\")","v":""},{"$f":"IFERROR(INDEX(#REF!,MATCH(A883,#REF!,0)),\"\")","v":""}]
[{"$f":"IF(C884=\"\",\"\",SUBTOTAL(3,C$5:C884))","v":""},{"$f":"+IFERROR(INDEX(#REF!,MATCH(A884,#REF!,0)),\"\")","v":""},null,{"$f":"IFERROR(INDEX(#REF!,MATCH(A884,#REF!,0)),\"\")","v":""},{"$f":"IFERROR(INDEX(#REF!,MATCH(A884,#REF!,0)),\"\")","v":""}]
[{"$f":"IF(C885=\"\",\"\",SUBTOTAL(3,C$5:C885))","v":""},{"$f":"+IFERROR(INDEX(#REF!,MATCH(A885,#REF!,0)),\"\")","v":""},null,{"$f":"IFERROR(INDEX(#REF!,MATCH(A885,#REF!,0)),\"\")","v":""},{"$f":"IFERROR(INDEX(#REF!,MATCH(A885,#REF!,0)),\"\")","v":""}]
[{"$f":"IF(C886=\"\",\"\",SUBTOTAL(3,C$5:C886))","v":""},{"$f":"+IFERROR(INDEX(#REF!,MATCH(A886,#REF!,0)),\"\")","v":""},null,{"$f":"IFERROR(INDEX(#REF!,MATCH(A886,#REF!,0)),\"\")","v":""},{"$f":"IFERROR(INDEX(#REF!,MATCH(A886,#REF!,0)),\"\")","v":""}]
[{"$f":"IF(C887=\"\",\"\",SUBTOTAL(3,C$5:C887))","v":""},{"$f":"+IFERROR(INDEX(#REF!,MATCH(A887,#REF!,0)),\"\")","v":""},null,{"$f":"IFERROR(INDEX(#REF!,MATCH(A887,#REF!,0)),\"\")","v":""},{"$f":"IFERROR(INDEX(#REF!,MATCH(A887,#REF!,0)),\"\")","v":""}]
[{"$f":"IF(C888=\"\",\"\",SUBTOTAL(3,C$5:C888))","v":""},{"$f":"+IFERROR(INDEX(#REF!,MATCH(A888,#REF!,0)),\"\")","v":""},null,{"$f":"IFERROR(INDEX(#REF!,MATCH(A888,#REF!,0)),\"\")","v":""},{"$f":"IFERROR(INDEX(#REF!,MATCH(A888,#REF!,0)),\"\")","v":""}]
[{"$f":"IF(C889=\"\",\"\",SUBTOTAL(3,C$5:C889))","v":""},{"$f":"+IFERROR(INDEX(#REF!,MATCH(A889,#REF!,0)),\"\")","v":""},null,{"$f":"IFERROR(INDEX(#REF!,MATCH(A889,#REF!,0)),\"\")","v":""},{"$f":"IFERROR(INDEX(#REF!,MATCH(A889,#REF!,0)),\"\")","v":""}]
[{"$f":"IF(C890=\"\",\"\",SUBTOTAL(3,C$5:C890))","v":""},{"$f":"+IFERROR(INDEX(#REF!,MATCH(A890,#REF!,0)),\"\")","v":""},null,{"$f":"IFERROR(INDEX(#REF!,MATCH(A890,#REF!,0)),\"\")","v":""},{"$f":"IFERROR(INDEX(#REF!,MATCH(A890,#REF!,0)),\"\")","v":""}]
[{"$f":"IF(C891=\"\",\"\",SUBTOTAL(3,C$5:C891))","v":""},{"$f":"+IFERROR(INDEX(#REF!,MATCH(A891,#REF!,0)),\"\")","v":""},null,{"$f":"IFERROR(INDEX(#REF!,MATCH(A891,#REF!,0)),\"\")","v":""},{"$f":"IFERROR(INDEX(#REF!,MATCH(A891,#REF!,0)),\"\")","v":""}]
[{"$f":"IF(C892=\"\",\"\",SUBTOTAL(3,C$5:C892))","v":""},{"$f":"+IFERROR(INDEX(#REF!,MATCH(A892,#REF!,0)),\"\")","v":""},null,{"$f":"IFERROR(INDEX(#REF!,MATCH(A892,#REF!,0)),\"\")","v":""},{"$f":"IFERROR(INDEX(#REF!,MATCH(A892,#REF!,0)),\"\")","v":""}]
[{"$f":"IF(C893=\"\",\"\",SUBTOTAL(3,C$5:C893))","v":""},{"$f":"+IFERROR(INDEX(#REF!,MATCH(A893,#REF!,0)),\"\")","v":""},null,{"$f":"IFERROR(INDEX(#REF!,MATCH(A893,#REF!,0)),\"\")","v":""},{"$f":"IFERROR(INDEX(#REF!,MATCH(A893,#REF!,0)),\"\")","v":""}]
[{"$f":"IF(C894=\"\",\"\",SUBTOTAL(3,C$5:C894))","v":""},{"$f":"+IFERROR(INDEX(#REF!,MATCH(A894,#REF!,0)),\"\")","v":""},null,{"$f":"IFERROR(INDEX(#REF!,MATCH(A894,#REF!,0)),\"\")","v":""},{"$f":"IFERROR(INDEX(#REF!,MATCH(A894,#REF!,0)),\"\")","v":""}]
[{"$f":"IF(C895=\"\",\"\",SUBTOTAL(3,C$5:C895))","v":""},{"$f":"+IFERROR(INDEX(#REF!,MATCH(A895,#REF!,0)),\"\")","v":""},null,{"$f":"IFERROR(INDEX(#REF!,MATCH(A895,#REF!,0)),\"\")","v":""},{"$f":"IFERROR(INDEX(#REF!,MATCH(A895,#REF!,0)),\"\")","v":""}]
[{"$f":"IF(C896=\"\",\"\",SUBTOTAL(3,C$5:C896))","v":""},{"$f":"+IFERROR(INDEX(#REF!,MATCH(A896,#REF!,0)),\"\")","v":""},null,{"$f":"IFERROR(INDEX(#REF!,MATCH(A896,#REF!,0)),\"\")","v":""},{"$f":"IFERROR(INDEX(#REF!,MATCH(A896,#REF!,0)),\"\")","v":""}]
[{"$f":"IF(C897=\"\",\"\",SUBTOTAL(3,C$5:C897))","v":""},{"$f":"+IFERROR(INDEX(#REF!,MATCH(A897,#REF!,0)),\"\")","v":""},null,{"$f":"IFERROR(INDEX(#REF!,MATCH(A897,#REF!,0)),\"\")","v":""},{"$f":"IFERROR(INDEX(#REF!,MATCH(A897,#REF!,0)),\"\")","v":""}]
[{"$f":"IF(C898=\"\",\"\",SUBTOTAL(3,C$5:C898))","v":""},{"$f":"+IFERROR(INDEX(#REF!,MATCH(A898,#REF!,0)),\"\")","v":""},null,{"$f":"IFERROR(INDEX(#REF!,MATCH(A898,#REF!,0)),\"\")","v":""},{"$f":"IFERROR(INDEX(#REF!,MATCH(A898,#REF!,0)),\"\")","v":""}]
[{"$f":"IF(C899=\"\",\"\",SUBTOTAL(3,C$5:C899))","v":""},{"$f":"+IFERROR(INDEX(#REF!,MATCH(A899,#REF!,0)),\"\")","v":""},null,{"$f":"IFERROR(INDEX(#REF!,MATCH(A899,#REF!,0)),\"\")","v":""},{"$f":"IFERROR(INDEX(#REF!,MATCH(A899,#REF!,0)),\"\")","v":""}]
[{"$f":"IF(C900=\"\",\"\",SUBTOTAL(3,C$5:C900))","v":""},{"$f":"+IFERROR(INDEX(#REF!,MATCH(A900,#REF!,0)),\"\")","v":""},null,{"$f":"IFERROR(INDEX(#REF!,MATCH(A900,#REF!,0)),\"\")","v":""},{"$f":"IFERROR(INDEX(#REF!,MATCH(A900,#REF!,0)),\"\")","v":""}]
[{"$f":"IF(C901=\"\",\"\",SUBTOTAL(3,C$5:C901))","v":""},{"$f":"+IFERROR(INDEX(#REF!,MATCH(A901,#REF!,0)),\"\")","v":""},null,{"$f":"IFERROR(INDEX(#REF!,MATCH(A901,#REF!,0)),\"\")","v":""},{"$f":"IFERROR(INDEX(#REF!,MATCH(A901,#REF!,0)),\"\")","v":""}]
[{"$f":"IF(C902=\"\",\"\",SUBTOTAL(3,C$5:C902))","v":""},{"$f":"+IFERROR(INDEX(#REF!,MATCH(A902,#REF!,0)),\"\")","v":""},null,{"$f":"IFERROR(INDEX(#REF!,MATCH(A902,#REF!,0)),\"\")","v":""},{"$f":"IFERROR(INDEX(#REF!,MATCH(A902,#REF!,0)),\"\")","v":""}]
[{"$f":"IF(C903=\"\",\"\",SUBTOTAL(3,C$5:C903))","v":""},{"$f":"+IFERROR(INDEX(#REF!,MATCH(A903,#REF!,0)),\"\")","v":""},null,{"$f":"IFERROR(INDEX(#REF!,MATCH(A903,#REF!,0)),\"\")","v":""},{"$f":"IFERROR(INDEX(#REF!,MATCH(A903,#REF!,0)),\"\")","v":""}]
[{"$f":"IF(C904=\"\",\"\",SUBTOTAL(3,C$5:C904))","v":""},{"$f":"+IFERROR(INDEX(#REF!,MATCH(A904,#REF!,0)),\"\")","v":""},null,{"$f":"IFERROR(INDEX(#REF!,MATCH(A904,#REF!,0)),\"\")","v":""},{"$f":"IFERROR(INDEX(#REF!,MATCH(A904,#REF!,0)),\"\")","v":""}]
[{"$f":"IF(C905=\"\",\"\",SUBTOTAL(3,C$5:C905))","v":""},{"$f":"+IFERROR(INDEX(#REF!,MATCH(A905,#REF!,0)),\"\")","v":""},null,{"$f":"IFERROR(INDEX(#REF!,MATCH(A905,#REF!,0)),\"\")","v":""},{"$f":"IFERROR(INDEX(#REF!,MATCH(A905,#REF!,0)),\"\")","v":""}]
[{"$f":"IF(C906=\"\",\"\",SUBTOTAL(3,C$5:C906))","v":""},{"$f":"+IFERROR(INDEX(#REF!,MATCH(A906,#REF!,0)),\"\")","v":""},null,{"$f":"IFERROR(INDEX(#REF!,MATCH(A906,#REF!,0)),\"\")","v":""},{"$f":"IFERROR(INDEX(#REF!,MATCH(A906,#REF!,0)),\"\")","v":""}]
[{"$f":"IF(C907=\"\",\"\",SUBTOTAL(3,C$5:C907))","v":""},{"$f":"+IFERROR(INDEX(#REF!,MATCH(A907,#REF!,0)),\"\")","v":""},null,{"$f":"IFERROR(INDEX(#REF!,MATCH(A907,#REF!,0)),\"\")","v":""},{"$f":"IFERROR(INDEX(#REF!,MATCH(A907,#REF!,0)),\"\")","v":""}]
[{"$f":"IF(C908=\"\",\"\",SUBTOTAL(3,C$5:C908))","v":""},{"$f":"+IFERROR(INDEX(#REF!,MATCH(A908,#REF!,0)),\"\")","v":""},null,{"$f":"IFERROR(INDEX(#REF!,MATCH(A908,#REF!,0)),\"\")","v":""},{"$f":"IFERROR(INDEX(#REF!,MATCH(A908,#REF!,0)),\"\")","v":""}]
[{"$f":"IF(C909=\"\",\"\",SUBTOTAL(3,C$5:C909))","v":""},{"$f":"+IFERROR(INDEX(#REF!,MATCH(A909,#REF!,0)),\"\")","v":""},null,{"$f":"IFERROR(INDEX(#REF!,MATCH(A909,#REF!,0)),\"\")","v":""},{"$f":"IFERROR(INDEX(#REF!,MATCH(A909,#REF!,0)),\"\")","v":""}]
[{"$f":"IF(C910=\"\",\"\",SUBTOTAL(3,C$5:C910))","v":""},{"$f":"+IFERROR(INDEX(#REF!,MATCH(A910,#REF!,0)),\"\")","v":""},null,{"$f":"IFERROR(INDEX(#REF!,MATCH(A910,#REF!,0)),\"\")","v":""},{"$f":"IFERROR(INDEX(#REF!,MATCH(A910,#REF!,0)),\"\")","v":""}]
[{"$f":"IF(C911=\"\",\"\",SUBTOTAL(3,C$5:C911))","v":""},{"$f":"+IFERROR(INDEX(#REF!,MATCH(A911,#REF!,0)),\"\")","v":""},null,{"$f":"IFERROR(INDEX(#REF!,MATCH(A911,#REF!,0)),\"\")","v":""},{"$f":"IFERROR(INDEX(#REF!,MATCH(A911,#REF!,0)),\"\")","v":""}]
[{"$f":"IF(C912=\"\",\"\",SUBTOTAL(3,C$5:C912))","v":""},{"$f":"+IFERROR(INDEX(#REF!,MATCH(A912,#REF!,0)),\"\")","v":""},null,{"$f":"IFERROR(INDEX(#REF!,MATCH(A912,#REF!,0)),\"\")","v":""},{"$f":"IFERROR(INDEX(#REF!,MATCH(A912,#REF!,0)),\"\")","v":""}]
[{"$f":"IF(C913=\"\",\"\",SUBTOTAL(3,C$5:C913))","v":""},{"$f":"+IFERROR(INDEX(#REF!,MATCH(A913,#REF!,0)),\"\")","v":""},null,{"$f":"IFERROR(INDEX(#REF!,MATCH(A913,#REF!,0)),\"\")","v":""},{"$f":"IFERROR(INDEX(#REF!,MATCH(A913,#REF!,0)),\"\")","v":""}]
[{"$f":"IF(C914=\"\",\"\",SUBTOTAL(3,C$5:C914))","v":""},{"$f":"+IFERROR(INDEX(#REF!,MATCH(A914,#REF!,0)),\"\")","v":""},null,{"$f":"IFERROR(INDEX(#REF!,MATCH(A914,#REF!,0)),\"\")","v":""},{"$f":"IFERROR(INDEX(#REF!,MATCH(A914,#REF!,0)),\"\")","v":""}]
[{"$f":"IF(C915=\"\",\"\",SUBTOTAL(3,C$5:C915))","v":""},{"$f":"+IFERROR(INDEX(#REF!,MATCH(A915,#REF!,0)),\"\")","v":""},null,{"$f":"IFERROR(INDEX(#REF!,MATCH(A915,#REF!,0)),\"\")","v":""},{"$f":"IFERROR(INDEX(#REF!,MATCH(A915,#REF!,0)),\"\")","v":""}]
[{"$f":"IF(C916=\"\",\"\",SUBTOTAL(3,C$5:C916))","v":""},{"$f":"+IFERROR(INDEX(#REF!,MATCH(A916,#REF!,0)),\"\")","v":""},null,{"$f":"IFERROR(INDEX(#REF!,MATCH(A916,#REF!,0)),\"\")","v":""},{"$f":"IFERROR(INDEX(#REF!,MATCH(A916,#REF!,0)),\"\")","v":""}]
[{"$f":"IF(C917=\"\",\"\",SUBTOTAL(3,C$5:C917))","v":""},{"$f":"+IFERROR(INDEX(#REF!,MATCH(A917,#REF!,0)),\"\")","v":""},null,{"$f":"IFERROR(INDEX(#REF!,MATCH(A917,#REF!,0)),\"\")","v":""},{"$f":"IFERROR(INDEX(#REF!,MATCH(A917,#REF!,0)),\"\")","v":""}]
[{"$f":"IF(C918=\"\",\"\",SUBTOTAL(3,C$5:C918))","v":""},{"$f":"+IFERROR(INDEX(#REF!,MATCH(A918,#REF!,0)),\"\")","v":""},null,{"$f":"IFERROR(INDEX(#REF!,MATCH(A918,#REF!,0)),\"\")","v":""},{"$f":"IFERROR(INDEX(#REF!,MATCH(A918,#REF!,0)),\"\")","v":""}]
[{"$f":"IF(C919=\"\",\"\",SUBTOTAL(3,C$5:C919))","v":""},{"$f":"+IFERROR(INDEX(#REF!,MATCH(A919,#REF!,0)),\"\")","v":""},null,{"$f":"IFERROR(INDEX(#REF!,MATCH(A919,#REF!,0)),\"\")","v":""},{"$f":"IFERROR(INDEX(#REF!,MATCH(A919,#REF!,0)),\"\")","v":""}]
[{"$f":"IF(C920=\"\",\"\",SUBTOTAL(3,C$5:C920))","v":""},{"$f":"+IFERROR(INDEX(#REF!,MATCH(A920,#REF!,0)),\"\")","v":""},null,{"$f":"IFERROR(INDEX(#REF!,MATCH(A920,#REF!,0)),\"\")","v":""},{"$f":"IFERROR(INDEX(#REF!,MATCH(A920,#REF!,0)),\"\")","v":""}]
[{"$f":"IF(C921=\"\",\"\",SUBTOTAL(3,C$5:C921))","v":""},{"$f":"+IFERROR(INDEX(#REF!,MATCH(A921,#REF!,0)),\"\")","v":""},null,{"$f":"IFERROR(INDEX(#REF!,MATCH(A921,#REF!,0)),\"\")","v":""},{"$f":"IFERROR(INDEX(#REF!,MATCH(A921,#REF!,0)),\"\")","v":""}]
[{"$f":"IF(C922=\"\",\"\",SUBTOTAL(3,C$5:C922))","v":""},{"$f":"+IFERROR(INDEX(#REF!,MATCH(A922,#REF!,0)),\"\")","v":""},null,{"$f":"IFERROR(INDEX(#REF!,MATCH(A922,#REF!,0)),\"\")","v":""},{"$f":"IFERROR(INDEX(#REF!,MATCH(A922,#REF!,0)),\"\")","v":""}]
[{"$f":"IF(C923=\"\",\"\",SUBTOTAL(3,C$5:C923))","v":""},{"$f":"+IFERROR(INDEX(#REF!,MATCH(A923,#REF!,0)),\"\")","v":""},null,{"$f":"IFERROR(INDEX(#REF!,MATCH(A923,#REF!,0)),\"\")","v":""},{"$f":"IFERROR(INDEX(#REF!,MATCH(A923,#REF!,0)),\"\")","v":""}]
[{"$f":"IF(C924=\"\",\"\",SUBTOTAL(3,C$5:C924))","v":""},{"$f":"+IFERROR(INDEX(#REF!,MATCH(A924,#REF!,0)),\"\")","v":""},null,{"$f":"IFERROR(INDEX(#REF!,MATCH(A924,#REF!,0)),\"\")","v":""},{"$f":"IFERROR(INDEX(#REF!,MATCH(A924,#REF!,0)),\"\")","v":""}]
[{"$f":"IF(C925=\"\",\"\",SUBTOTAL(3,C$5:C925))","v":""},{"$f":"+IFERROR(INDEX(#REF!,MATCH(A925,#REF!,0)),\"\")","v":""},null,{"$f":"IFERROR(INDEX(#REF!,MATCH(A925,#REF!,0)),\"\")","v":""},{"$f":"IFERROR(INDEX(#REF!,MATCH(A925,#REF!,0)),\"\")","v":""}]
[{"$f":"IF(C926=\"\",\"\",SUBTOTAL(3,C$5:C926))","v":""},{"$f":"+IFERROR(INDEX(#REF!,MATCH(A926,#REF!,0)),\"\")","v":""},null,{"$f":"IFERROR(INDEX(#REF!,MATCH(A926,#REF!,0)),\"\")","v":""},{"$f":"IFERROR(INDEX(#REF!,MATCH(A926,#REF!,0)),\"\")","v":""}]
[{"$f":"IF(C927=\"\",\"\",SUBTOTAL(3,C$5:C927))","v":""},{"$f":"+IFERROR(INDEX(#REF!,MATCH(A927,#REF!,0)),\"\")","v":""},null,{"$f":"IFERROR(INDEX(#REF!,MATCH(A927,#REF!,0)),\"\")","v":""},{"$f":"IFERROR(INDEX(#REF!,MATCH(A927,#REF!,0)),\"\")","v":""}]
[{"$f":"IF(C928=\"\",\"\",SUBTOTAL(3,C$5:C928))","v":""},{"$f":"+IFERROR(INDEX(#REF!,MATCH(A928,#REF!,0)),\"\")","v":""},null,{"$f":"IFERROR(INDEX(#REF!,MATCH(A928,#REF!,0)),\"\")","v":""},{"$f":"IFERROR(INDEX(#REF!,MATCH(A928,#REF!,0)),\"\")","v":""}]
[{"$f":"IF(C929=\"\",\"\",SUBTOTAL(3,C$5:C929))","v":""},{"$f":"+IFERROR(INDEX(#REF!,MATCH(A929,#REF!,0)),\"\")","v":""},null,{"$f":"IFERROR(INDEX(#REF!,MATCH(A929,#REF!,0)),\"\")","v":""},{"$f":"IFERROR(INDEX(#REF!,MATCH(A929,#REF!,0)),\"\")","v":""}]
[{"$f":"IF(C930=\"\",\"\",SUBTOTAL(3,C$5:C930))","v":""},{"$f":"+IFERROR(INDEX(#REF!,MATCH(A930,#REF!,0)),\"\")","v":""},null,{"$f":"IFERROR(INDEX(#REF!,MATCH(A930,#REF!,0)),\"\")","v":""},{"$f":"IFERROR(INDEX(#REF!,MATCH(A930,#REF!,0)),\"\")","v":""}]
[{"$f":"IF(C931=\"\",\"\",SUBTOTAL(3,C$5:C931))","v":""},{"$f":"+IFERROR(INDEX(#REF!,MATCH(A931,#REF!,0)),\"\")","v":""},null,{"$f":"IFERROR(INDEX(#REF!,MATCH(A931,#REF!,0)),\"\")","v":""},{"$f":"IFERROR(INDEX(#REF!,MATCH(A931,#REF!,0)),\"\")","v":""}]
[{"$f":"IF(C932=\"\",\"\",SUBTOTAL(3,C$5:C932))","v":""},{"$f":"+IFERROR(INDEX(#REF!,MATCH(A932,#REF!,0)),\"\")","v":""},null,{"$f":"IFERROR(INDEX(#REF!,MATCH(A932,#REF!,0)),\"\")","v":""},{"$f":"IFERROR(INDEX(#REF!,MATCH(A932,#REF!,0)),\"\")","v":""}]
[{"$f":"IF(C933=\"\",\"\",SUBTOTAL(3,C$5:C933))","v":""},{"$f":"+IFERROR(INDEX(#REF!,MATCH(A933,#REF!,0)),\"\")","v":""},null,{"$f":"IFERROR(INDEX(#REF!,MATCH(A933,#REF!,0)),\"\")","v":""},{"$f":"IFERROR(INDEX(#REF!,MATCH(A933,#REF!,0)),\"\")","v":""}]
[{"$f":"IF(C934=\"\",\"\",SUBTOTAL(3,C$5:C934))","v":""},{"$f":"+IFERROR(INDEX(#REF!,MATCH(A934,#REF!,0)),\"\")","v":""},null,{"$f":"IFERROR(INDEX(#REF!,MATCH(A934,#REF!,0)),\"\")","v":""},{"$f":"IFERROR(INDEX(#REF!,MATCH(A934,#REF!,0)),\"\")","v":""}]
[{"$f":"IF(C935=\"\",\"\",SUBTOTAL(3,C$5:C935))","v":""},{"$f":"+IFERROR(INDEX(#REF!,MATCH(A935,#REF!,0)),\"\")","v":""},null,{"$f":"IFERROR(INDEX(#REF!,MATCH(A935,#REF!,0)),\"\")","v":""},{"$f":"IFERROR(INDEX(#REF!,MATCH(A935,#REF!,0)),\"\")","v":""}]
[{"$f":"IF(C936=\"\",\"\",SUBTOTAL(3,C$5:C936))","v":""},{"$f":"+IFERROR(INDEX(#REF!,MATCH(A936,#REF!,0)),\"\")","v":""},null,{"$f":"IFERROR(INDEX(#REF!,MATCH(A936,#REF!,0)),\"\")","v":""},{"$f":"IFERROR(INDEX(#REF!,MATCH(A936,#REF!,0)),\"\")","v":""}]
[{"$f":"IF(C937=\"\",\"\",SUBTOTAL(3,C$5:C937))","v":""},{"$f":"+IFERROR(INDEX(#REF!,MATCH(A937,#REF!,0)),\"\")","v":""},null,{"$f":"IFERROR(INDEX(#REF!,MATCH(A937,#REF!,0)),\"\")","v":""},{"$f":"IFERROR(INDEX(#REF!,MATCH(A937,#REF!,0)),\"\")","v":""}]
[{"$f":"IF(C938=\"\",\"\",SUBTOTAL(3,C$5:C938))","v":""},{"$f":"+IFERROR(INDEX(#REF!,MATCH(A938,#REF!,0)),\"\")","v":""},null,{"$f":"IFERROR(INDEX(#REF!,MATCH(A938,#REF!,0)),\"\")","v":""},{"$f":"IFERROR(INDEX(#REF!,MATCH(A938,#REF!,0)),\"\")","v":""}]
[{"$f":"IF(C939=\"\",\"\",SUBTOTAL(3,C$5:C939))","v":""},{"$f":"+IFERROR(INDEX(#REF!,MATCH(A939,#REF!,0)),\"\")","v":""},null,{"$f":"IFERROR(INDEX(#REF!,MATCH(A939,#REF!,0)),\"\")","v":""},{"$f":"IFERROR(INDEX(#REF!,MATCH(A939,#REF!,0)),\"\")","v":""}]
[{"$f":"IF(C940=\"\",\"\",SUBTOTAL(3,C$5:C940))","v":""},{"$f":"+IFERROR(INDEX(#REF!,MATCH(A940,#REF!,0)),\"\")","v":""},null,{"$f":"IFERROR(INDEX(#REF!,MATCH(A940,#REF!,0)),\"\")","v":""},{"$f":"IFERROR(INDEX(#REF!,MATCH(A940,#REF!,0)),\"\")","v":""}]
[{"$f":"IF(C941=\"\",\"\",SUBTOTAL(3,C$5:C941))","v":""},{"$f":"+IFERROR(INDEX(#REF!,MATCH(A941,#REF!,0)),\"\")","v":""},null,{"$f":"IFERROR(INDEX(#REF!,MATCH(A941,#REF!,0)),\"\")","v":""},{"$f":"IFERROR(INDEX(#REF!,MATCH(A941,#REF!,0)),\"\")","v":""}]
[{"$f":"IF(C942=\"\",\"\",SUBTOTAL(3,C$5:C942))","v":""},{"$f":"+IFERROR(INDEX(#REF!,MATCH(A942,#REF!,0)),\"\")","v":""},null,{"$f":"IFERROR(INDEX(#REF!,MATCH(A942,#REF!,0)),\"\")","v":""},{"$f":"IFERROR(INDEX(#REF!,MATCH(A942,#REF!,0)),\"\")","v":""}]
[{"$f":"IF(C943=\"\",\"\",SUBTOTAL(3,C$5:C943))","v":""},{"$f":"+IFERROR(INDEX(#REF!,MATCH(A943,#REF!,0)),\"\")","v":""},null,{"$f":"IFERROR(INDEX(#REF!,MATCH(A943,#REF!,0)),\"\")","v":""},{"$f":"IFERROR(INDEX(#REF!,MATCH(A943,#REF!,0)),\"\")","v":""}]
[{"$f":"IF(C944=\"\",\"\",SUBTOTAL(3,C$5:C944))","v":""},{"$f":"+IFERROR(INDEX(#REF!,MATCH(A944,#REF!,0)),\"\")","v":""},null,{"$f":"IFERROR(INDEX(#REF!,MATCH(A944,#REF!,0)),\"\")","v":""},{"$f":"IFERROR(INDEX(#REF!,MATCH(A944,#REF!,0)),\"\")","v":""}]
[{"$f":"IF(C945=\"\",\"\",SUBTOTAL(3,C$5:C945))","v":""},{"$f":"+IFERROR(INDEX(#REF!,MATCH(A945,#REF!,0)),\"\")","v":""},null,{"$f":"IFERROR(INDEX(#REF!,MATCH(A945,#REF!,0)),\"\")","v":""},{"$f":"IFERROR(INDEX(#REF!,MATCH(A945,#REF!,0)),\"\")","v":""}]
[{"$f":"IF(C946=\"\",\"\",SUBTOTAL(3,C$5:C946))","v":""},{"$f":"+IFERROR(INDEX(#REF!,MATCH(A946,#REF!,0)),\"\")","v":""},null,{"$f":"IFERROR(INDEX(#REF!,MATCH(A946,#REF!,0)),\"\")","v":""},{"$f":"IFERROR(INDEX(#REF!,MATCH(A946,#REF!,0)),\"\")","v":""}]
[{"$f":"IF(C947=\"\",\"\",SUBTOTAL(3,C$5:C947))","v":""},{"$f":"+IFERROR(INDEX(#REF!,MATCH(A947,#REF!,0)),\"\")","v":""},null,{"$f":"IFERROR(INDEX(#REF!,MATCH(A947,#REF!,0)),\"\")","v":""},{"$f":"IFERROR(INDEX(#REF!,MATCH(A947,#REF!,0)),\"\")","v":""}]
[{"$f":"IF(C948=\"\",\"\",SUBTOTAL(3,C$5:C948))","v":""},{"$f":"+IFERROR(INDEX(#REF!,MATCH(A948,#REF!,0)),\"\")","v":""},null,{"$f":"IFERROR(INDEX(#REF!,MATCH(A948,#REF!,0)),\"\")","v":""},{"$f":"IFERROR(INDEX(#REF!,MATCH(A948,#REF!,0)),\"\")","v":""}]
[{"$f":"IF(C949=\"\",\"\",SUBTOTAL(3,C$5:C949))","v":""},{"$f":"+IFERROR(INDEX(#REF!,MATCH(A949,#REF!,0)),\"\")","v":""},null,{"$f":"IFERROR(INDEX(#REF!,MATCH(A949,#REF!,0)),\"\")","v":""},{"$f":"IFERROR(INDEX(#REF!,MATCH(A949,#REF!,0)),\"\")","v":""}]
[{"$f":"IF(C950=\"\",\"\",SUBTOTAL(3,C$5:C950))","v":""},{"$f":"+IFERROR(INDEX(#REF!,MATCH(A950,#REF!,0)),\"\")","v":""},null,{"$f":"IFERROR(INDEX(#REF!,MATCH(A950,#REF!,0)),\"\")","v":""},{"$f":"IFERROR(INDEX(#REF!,MATCH(A950,#REF!,0)),\"\")","v":""}]
[{"$f":"IF(C951=\"\",\"\",SUBTOTAL(3,C$5:C951))","v":""},{"$f":"+IFERROR(INDEX(#REF!,MATCH(A951,#REF!,0)),\"\")","v":""},null,{"$f":"IFERROR(INDEX(#REF!,MATCH(A951,#REF!,0)),\"\")","v":""},{"$f":"IFERROR(INDEX(#REF!,MATCH(A951,#REF!,0)),\"\")","v":""}]
[{"$f":"IF(C952=\"\",\"\",SUBTOTAL(3,C$5:C952))","v":""},{"$f":"+IFERROR(INDEX(#REF!,MATCH(A952,#REF!,0)),\"\")","v":""},null,{"$f":"IFERROR(INDEX(#REF!,MATCH(A952,#REF!,0)),\"\")","v":""},{"$f":"IFERROR(INDEX(#REF!,MATCH(A952,#REF!,0)),\"\")","v":""}]
[{"$f":"IF(C953=\"\",\"\",SUBTOTAL(3,C$5:C953))","v":""},{"$f":"+IFERROR(INDEX(#REF!,MATCH(A953,#REF!,0)),\"\")","v":""},null,{"$f":"IFERROR(INDEX(#REF!,MATCH(A953,#REF!,0)),\"\")","v":""},{"$f":"IFERROR(INDEX(#REF!,MATCH(A953,#REF!,0)),\"\")","v":""}]
[{"$f":"IF(C954=\"\",\"\",SUBTOTAL(3,C$5:C954))","v":""},{"$f":"+IFERROR(INDEX(#REF!,MATCH(A954,#REF!,0)),\"\")","v":""},null,{"$f":"IFERROR(INDEX(#REF!,MATCH(A954,#REF!,0)),\"\")","v":""},{"$f":"IFERROR(INDEX(#REF!,MATCH(A954,#REF!,0)),\"\")","v":""}]
[{"$f":"IF(C955=\"\",\"\",SUBTOTAL(3,C$5:C955))","v":""},{"$f":"+IFERROR(INDEX(#REF!,MATCH(A955,#REF!,0)),\"\")","v":""},null,{"$f":"IFERROR(INDEX(#REF!,MATCH(A955,#REF!,0)),\"\")","v":""},{"$f":"IFERROR(INDEX(#REF!,MATCH(A955,#REF!,0)),\"\")","v":""}]
[{"$f":"IF(C956=\"\",\"\",SUBTOTAL(3,C$5:C956))","v":""},{"$f":"+IFERROR(INDEX(#REF!,MATCH(A956,#REF!,0)),\"\")","v":""},null,{"$f":"IFERROR(INDEX(#REF!,MATCH(A956,#REF!,0)),\"\")","v":""},{"$f":"IFERROR(INDEX(#REF!,MATCH(A956,#REF!,0)),\"\")","v":""}]
[{"$f":"IF(C957=\"\",\"\",SUBTOTAL(3,C$5:C957))","v":""},{"$f":"+IFERROR(INDEX(#REF!,MATCH(A957,#REF!,0)),\"\")","v":""},null,{"$f":"IFERROR(INDEX(#REF!,MATCH(A957,#REF!,0)),\"\")","v":""},{"$f":"IFERROR(INDEX(#REF!,MATCH(A957,#REF!,0)),\"\")","v":""}]
[{"$f":"IF(C958=\"\",\"\",SUBTOTAL(3,C$5:C958))","v":""},{"$f":"+IFERROR(INDEX(#REF!,MATCH(A958,#REF!,0)),\"\")","v":""},null,{"$f":"IFERROR(INDEX(#REF!,MATCH(A958,#REF!,0)),\"\")","v":""},{"$f":"IFERROR(INDEX(#REF!,MATCH(A958,#REF!,0)),\"\")","v":""}]
[{"$f":"IF(C959=\"\",\"\",SUBTOTAL(3,C$5:C959))","v":""},{"$f":"+IFERROR(INDEX(#REF!,MATCH(A959,#REF!,0)),\"\")","v":""},null,{"$f":"IFERROR(INDEX(#REF!,MATCH(A959,#REF!,0)),\"\")","v":""},{"$f":"IFERROR(INDEX(#REF!,MATCH(A959,#REF!,0)),\"\")","v":""}]
[{"$f":"IF(C960=\"\",\"\",SUBTOTAL(3,C$5:C960))","v":""},{"$f":"+IFERROR(INDEX(#REF!,MATCH(A960,#REF!,0)),\"\")","v":""},null,{"$f":"IFERROR(INDEX(#REF!,MATCH(A960,#REF!,0)),\"\")","v":""},{"$f":"IFERROR(INDEX(#REF!,MATCH(A960,#REF!,0)),\"\")","v":""}]
[{"$f":"IF(C961=\"\",\"\",SUBTOTAL(3,C$5:C961))","v":""},{"$f":"+IFERROR(INDEX(#REF!,MATCH(A961,#REF!,0)),\"\")","v":""},null,{"$f":"IFERROR(INDEX(#REF!,MATCH(A961,#REF!,0)),\"\")","v":""},{"$f":"IFERROR(INDEX(#REF!,MATCH(A961,#REF!,0)),\"\")","v":""}]
[{"$f":"IF(C962=\"\",\"\",SUBTOTAL(3,C$5:C962))","v":""},{"$f":"+IFERROR(INDEX(#REF!,MATCH(A962,#REF!,0)),\"\")","v":""},null,{"$f":"IFERROR(INDEX(#REF!,MATCH(A962,#REF!,0)),\"\")","v":""},{"$f":"IFERROR(INDEX(#REF!,MATCH(A962,#REF!,0)),\"\")","v":""}]
[{"$f":"IF(C963=\"\",\"\",SUBTOTAL(3,C$5:C963))","v":""},{"$f":"+IFERROR(INDEX(#REF!,MATCH(A963,#REF!,0)),\"\")","v":""},null,{"$f":"IFERROR(INDEX(#REF!,MATCH(A963,#REF!,0)),\"\")","v":""},{"$f":"IFERROR(INDEX(#REF!,MATCH(A963,#REF!,0)),\"\")","v":""}]
[{"$f":"IF(C964=\"\",\"\",SUBTOTAL(3,C$5:C964))","v":""},{"$f":"+IFERROR(INDEX(#REF!,MATCH(A964,#REF!,0)),\"\")","v":""},null,{"$f":"IFERROR(INDEX(#REF!,MATCH(A964,#REF!,0)),\"\")","v":""},{"$f":"IFERROR(INDEX(#REF!,MATCH(A964,#REF!,0)),\"\")","v":""}]
[{"$f":"IF(C965=\"\",\"\",SUBTOTAL(3,C$5:C965))","v":""},{"$f":"+IFERROR(INDEX(#REF!,MATCH(A965,#REF!,0)),\"\")","v":""},null,{"$f":"IFERROR(INDEX(#REF!,MATCH(A965,#REF!,0)),\"\")","v":""},{"$f":"IFERROR(INDEX(#REF!,MATCH(A965,#REF!,0)),\"\")","v":""}]
[{"$f":"IF(C966=\"\",\"\",SUBTOTAL(3,C$5:C966))","v":""},{"$f":"+IFERROR(INDEX(#REF!,MATCH(A966,#REF!,0)),\"\")","v":""},null,{"$f":"IFERROR(INDEX(#REF!,MATCH(A966,#REF!,0)),\"\")","v":""},{"$f":"IFERROR(INDEX(#REF!,MATCH(A966,#REF!,0)),\"\")","v":""}]
[{"$f":"IF(C967=\"\",\"\",SUBTOTAL(3,C$5:C967))","v":""},{"$f":"+IFERROR(INDEX(#REF!,MATCH(A967,#REF!,0)),\"\")","v":""},null,{"$f":"IFERROR(INDEX(#REF!,MATCH(A967,#REF!,0)),\"\")","v":""},{"$f":"IFERROR(INDEX(#REF!,MATCH(A967,#REF!,0)),\"\")","v":""}]
[{"$f":"IF(C968=\"\",\"\",SUBTOTAL(3,C$5:C968))","v":""},{"$f":"+IFERROR(INDEX(#REF!,MATCH(A968,#REF!,0)),\"\")","v":""},null,{"$f":"IFERROR(INDEX(#REF!,MATCH(A968,#REF!,0)),\"\")","v":""},{"$f":"IFERROR(INDEX(#REF!,MATCH(A968,#REF!,0)),\"\")","v":""}]
[{"$f":"IF(C969=\"\",\"\",SUBTOTAL(3,C$5:C969))","v":""},{"$f":"+IFERROR(INDEX(#REF!,MATCH(A969,#REF!,0)),\"\")","v":""},null,{"$f":"IFERROR(INDEX(#REF!,MATCH(A969,#REF!,0)),\"\")","v":""},{"$f":"IFERROR(INDEX(#REF!,MATCH(A969,#REF!,0)),\"\")","v":""}]
[{"$f":"IF(C970=\"\",\"\",SUBTOTAL(3,C$5:C970))","v":""},{"$f":"+IFERROR(INDEX(#REF!,MATCH(A970,#REF!,0)),\"\")","v":""},null,{"$f":"IFERROR(INDEX(#REF!,MATCH(A970,#REF!,0)),\"\")","v":""},{"$f":"IFERROR(INDEX(#REF!,MATCH(A970,#REF!,0)),\"\")","v":""}]
[{"$f":"IF(C971=\"\",\"\",SUBTOTAL(3,C$5:C971))","v":""},{"$f":"+IFERROR(INDEX(#REF!,MATCH(A971,#REF!,0)),\"\")","v":""},null,{"$f":"IFERROR(INDEX(#REF!,MATCH(A971,#REF!,0)),\"\")","v":""},{"$f":"IFERROR(INDEX(#REF!,MATCH(A971,#REF!,0)),\"\")","v":""}]
[{"$f":"IF(C972=\"\",\"\",SUBTOTAL(3,C$5:C972))","v":""},{"$f":"+IFERROR(INDEX(#REF!,MATCH(A972,#REF!,0)),\"\")","v":""},null,{"$f":"IFERROR(INDEX(#REF!,MATCH(A972,#REF!,0)),\"\")","v":""},{"$f":"IFERROR(INDEX(#REF!,MATCH(A972,#REF!,0)),\"\")","v":""}]
[{"$f":"IF(C973=\"\",\"\",SUBTOTAL(3,C$5:C973))","v":""},{"$f":"+IFERROR(INDEX(#REF!,MATCH(A973,#REF!,0)),\"\")","v":""},null,{"$f":"IFERROR(INDEX(#REF!,MATCH(A973,#REF!,0)),\"\")","v":""},{"$f":"IFERROR(INDEX(#REF!,MATCH(A973,#REF!,0)),\"\")","v":""}]
[{"$f":"IF(C974=\"\",\"\",SUBTOTAL(3,C$5:C974))","v":""},{"$f":"+IFERROR(INDEX(#REF!,MATCH(A974,#REF!,0)),\"\")","v":""},null,{"$f":"IFERROR(INDEX(#REF!,MATCH(A974,#REF!,0)),\"\")","v":""},{"$f":"IFERROR(INDEX(#REF!,MATCH(A974,#REF!,0)),\"\")","v":""}]
[{"$f":"IF(C975=\"\",\"\",SUBTOTAL(3,C$5:C975))","v":""},{"$f":"+IFERROR(INDEX(#REF!,MATCH(A975,#REF!,0)),\"\")","v":""},null,{"$f":"IFERROR(INDEX(#REF!,MATCH(A975,#REF!,0)),\"\")","v":""},{"$f":"IFERROR(INDEX(#REF!,MATCH(A975,#REF!,0)),\"\")","v":""}]
[{"$f":"IF(C976=\"\",\"\",SUBTOTAL(3,C$5:C976))","v":""},{"$f":"+IFERROR(INDEX(#REF!,MATCH(A976,#REF!,0)),\"\")","v":""},null,{"$f":"IFERROR(INDEX(#REF!,MATCH(A976,#REF!,0)),\"\")","v":""},{"$f":"IFERROR(INDEX(#REF!,MATCH(A976,#REF!,0)),\"\")","v":""}]
[{"$f":"IF(C977=\"\",\"\",SUBTOTAL(3,C$5:C977))","v":""},{"$f":"+IFERROR(INDEX(#REF!,MATCH(A977,#REF!,0)),\"\")","v":""},null,{"$f":"IFERROR(INDEX(#REF!,MATCH(A977,#REF!,0)),\"\")","v":""},{"$f":"IFERROR(INDEX(#REF!,MATCH(A977,#REF!,0)),\"\")","v":""}]
[{"$f":"IF(C978=\"\",\"\",SUBTOTAL(3,C$5:C978))","v":""},{"$f":"+IFERROR(INDEX(#REF!,MATCH(A978,#REF!,0)),\"\")","v":""},null,{"$f":"IFERROR(INDEX(#REF!,MATCH(A978,#REF!,0)),\"\")","v":""},{"$f":"IFERROR(INDEX(#REF!,MATCH(A978,#REF!,0)),\"\")","v":""}]
[{"$f":"IF(C979=\"\",\"\",SUBTOTAL(3,C$5:C979))","v":""},{"$f":"+IFERROR(INDEX(#REF!,MATCH(A979,#REF!,0)),\"\")","v":""},null,{"$f":"IFERROR(INDEX(#REF!,MATCH(A979,#REF!,0)),\"\")","v":""},{"$f":"IFERROR(INDEX(#REF!,MATCH(A979,#REF!,0)),\"\")","v":""}]
[{"$f":"IF(C980=\"\",\"\",SUBTOTAL(3,C$5:C980))","v":""},{"$f":"+IFERROR(INDEX(#REF!,MATCH(A980,#REF!,0)),\"\")","v":""},null,{"$f":"IFERROR(INDEX(#REF!,MATCH(A980,#REF!,0)),\"\")","v":""},{"$f":"IFERROR(INDEX(#REF!,MATCH(A980,#REF!,0)),\"\")","v":""}]
[{"$f":"IF(C981=\"\",\"\",SUBTOTAL(3,C$5:C981))","v":""},{"$f":"+IFERROR(INDEX(#REF!,MATCH(A981,#REF!,0)),\"\")","v":""},null,{"$f":"IFERROR(INDEX(#REF!,MATCH(A981,#REF!,0)),\"\")","v":""},{"$f":"IFERROR(INDEX(#REF!,MATCH(A981,#REF!,0)),\"\")","v":""}]
[{"$f":"IF(C982=\"\",\"\",SUBTOTAL(3,C$5:C982))","v":""},{"$f":"+IFERROR(INDEX(#REF!,MATCH(A982,#REF!,0)),\"\")","v":""},null,{"$f":"IFERROR(INDEX(#REF!,MATCH(A982,#REF!,0)),\"\")","v":""},{"$f":"IFERROR(INDEX(#REF!,MATCH(A982,#REF!,0)),\"\")","v":""}]
[{"$f":"IF(C983=\"\",\"\",SUBTOTAL(3,C$5:C983))","v":""},{"$f":"+IFERROR(INDEX(#REF!,MATCH(A983,#REF!,0)),\"\")","v":""},null,{"$f":"IFERROR(INDEX(#REF!,MATCH(A983,#REF!,0)),\"\")","v":""},{"$f":"IFERROR(INDEX(#REF!,MATCH(A983,#REF!,0)),\"\")","v":""}]
[{"$f":"IF(C984=\"\",\"\",SUBTOTAL(3,C$5:C984))","v":""},{"$f":"+IFERROR(INDEX(#REF!,MATCH(A984,#REF!,0)),\"\")","v":""},null,{"$f":"IFERROR(INDEX(#REF!,MATCH(A984,#REF!,0)),\"\")","v":""},{"$f":"IFERROR(INDEX(#REF!,MATCH(A984,#REF!,0)),\"\")","v":""}]
[{"$f":"IF(C985=\"\",\"\",SUBTOTAL(3,C$5:C985))","v":""},{"$f":"+IFERROR(INDEX(#REF!,MATCH(A985,#REF!,0)),\"\")","v":""},null,{"$f":"IFERROR(INDEX(#REF!,MATCH(A985,#REF!,0)),\"\")","v":""},{"$f":"IFERROR(INDEX(#REF!,MATCH(A985,#REF!,0)),\"\")","v":""}]
[{"$f":"IF(C986=\"\",\"\",SUBTOTAL(3,C$5:C986))","v":""},{"$f":"+IFERROR(INDEX(#REF!,MATCH(A986,#REF!,0)),\"\")","v":""},null,{"$f":"IFERROR(INDEX(#REF!,MATCH(A986,#REF!,0)),\"\")","v":""},{"$f":"IFERROR(INDEX(#REF!,MATCH(A986,#REF!,0)),\"\")","v":""}]
[{"$f":"IF(C987=\"\",\"\",SUBTOTAL(3,C$5:C987))","v":""},{"$f":"+IFERROR(INDEX(#REF!,MATCH(A987,#REF!,0)),\"\")","v":""},null,{"$f":"IFERROR(INDEX(#REF!,MATCH(A987,#REF!,0)),\"\")","v":""},{"$f":"IFERROR(INDEX(#REF!,MATCH(A987,#REF!,0)),\"\")","v":""}]
[{"$f":"IF(C988=\"\",\"\",SUBTOTAL(3,C$5:C988))","v":""},{"$f":"+IFERROR(INDEX(#REF!,MATCH(A988,#REF!,0)),\"\")","v":""},null,{"$f":"IFERROR(INDEX(#REF!,MATCH(A988,#REF!,0)),\"\")","v":""},{"$f":"IFERROR(INDEX(#REF!,MATCH(A988,#REF!,0)),\"\")","v":""}]
[{"$f":"IF(C989=\"\",\"\",SUBTOTAL(3,C$5:C989))","v":""},{"$f":"+IFERROR(INDEX(#REF!,MATCH(A989,#REF!,0)),\"\")","v":""},null,{"$f":"IFERROR(INDEX(#REF!,MATCH(A989,#REF!,0)),\"\")","v":""},{"$f":"IFERROR(INDEX(#REF!,MATCH(A989,#REF!,0)),\"\")","v":""}]
[{"$f":"IF(C990=\"\",\"\",SUBTOTAL(3,C$5:C990))","v":""},{"$f":"+IFERROR(INDEX(#REF!,MATCH(A990,#REF!,0)),\"\")","v":""},null,{"$f":"IFERROR(INDEX(#REF!,MATCH(A990,#REF!,0)),\"\")","v":""},{"$f":"IFERROR(INDEX(#REF!,MATCH(A990,#REF!,0)),\"\")","v":""}]
[{"$f":"IF(C991=\"\",\"\",SUBTOTAL(3,C$5:C991))","v":""},{"$f":"+IFERROR(INDEX(#REF!,MATCH(A991,#REF!,0)),\"\")","v":""},null,{"$f":"IFERROR(INDEX(#REF!,MATCH(A991,#REF!,0)),\"\")","v":""},{"$f":"IFERROR(INDEX(#REF!,MATCH(A991,#REF!,0)),\"\")","v":""}]
[{"$f":"IF(C992=\"\",\"\",SUBTOTAL(3,C$5:C992))","v":""},{"$f":"+IFERROR(INDEX(#REF!,MATCH(A992,#REF!,0)),\"\")","v":""},null,{"$f":"IFERROR(INDEX(#REF!,MATCH(A992,#REF!,0)),\"\")","v":""},{"$f":"IFERROR(INDEX(#REF!,MATCH(A992,#REF!,0)),\"\")","v":""}]
[{"$f":"IF(C993=\"\",\"\",SUBTOTAL(3,C$5:C993))","v":""},{"$f":"+IFERROR(INDEX(#REF!,MATCH(A993,#REF!,0)),\"\")","v":""},null,{"$f":"IFERROR(INDEX(#REF!,MATCH(A993,#REF!,0)),\"\")","v":""},{"$f":"IFERROR(INDEX(#REF!,MATCH(A993,#REF!,0)),\"\")","v":""}]
[{"$f":"IF(C994=\"\",\"\",SUBTOTAL(3,C$5:C994))","v":""},{"$f":"+IFERROR(INDEX(#REF!,MATCH(A994,#REF!,0)),\"\")","v":""},null,{"$f":"IFERROR(INDEX(#REF!,MATCH(A994,#REF!,0)),\"\")","v":""},{"$f":"IFERROR(INDEX(#REF!,MATCH(A994,#REF!,0)),\"\")","v":""}]
[{"$f":"IF(C995=\"\",\"\",SUBTOTAL(3,C$5:C995))","v":""},{"$f":"+IFERROR(INDEX(#REF!,MATCH(A995,#REF!,0)),\"\")","v":""},null,{"$f":"IFERROR(INDEX(#REF!,MATCH(A995,#REF!,0)),\"\")","v":""},{"$f":"IFERROR(INDEX(#REF!,MATCH(A995,#REF!,0)),\"\")","v":""}]
[{"$f":"IF(C996=\"\",\"\",SUBTOTAL(3,C$5:C996))","v":""},{"$f":"+IFERROR(INDEX(#REF!,MATCH(A996,#REF!,0)),\"\")","v":""},null,{"$f":"IFERROR(INDEX(#REF!,MATCH(A996,#REF!,0)),\"\")","v":""},{"$f":"IFERROR(INDEX(#REF!,MATCH(A996,#REF!,0)),\"\")","v":""}]
[{"$f":"IF(C997=\"\",\"\",SUBTOTAL(3,C$5:C997))","v":""},{"$f":"+IFERROR(INDEX(#REF!,MATCH(A997,#REF!,0)),\"\")","v":""},null,{"$f":"IFERROR(INDEX(#REF!,MATCH(A997,#REF!,0)),\"\")","v":""},{"$f":"IFERROR(INDEX(#REF!,MATCH(A997,#REF!,0)),\"\")","v":""}]
[{"$f":"IF(C998=\"\",\"\",SUBTOTAL(3,C$5:C998))","v":""},{"$f":"+IFERROR(INDEX(#REF!,MATCH(A998,#REF!,0)),\"\")","v":""},null,{"$f":"IFERROR(INDEX(#REF!,MATCH(A998,#REF!,0)),\"\")","v":""},{"$f":"IFERROR(INDEX(#REF!,MATCH(A998,#REF!,0)),\"\")","v":""}]
[{"$f":"IF(C999=\"\",\"\",SUBTOTAL(3,C$5:C999))","v":""},{"$f":"+IFERROR(INDEX(#REF!,MATCH(A999,#REF!,0)),\"\")","v":""},null,{"$f":"IFERROR(INDEX(#REF!,MATCH(A999,#REF!,0)),\"\")","v":""},{"$f":"IFERROR(INDEX(#REF!,MATCH(A999,#REF!,0)),\"\")","v":""}]
[{"$f":"IF(C1000=\"\",\"\",SUBTOTAL(3,C$5:C1000))","v":""},{"$f":"+IFERROR(INDEX(#REF!,MATCH(A1000,#REF!,0)),\"\")","v":""},null,{"$f":"IFERROR(INDEX(#REF!,MATCH(A1000,#REF!,0)),\"\")","v":""},{"$f":"IFERROR(INDEX(#REF!,MATCH(A1000,#REF!,0)),\"\")","v":""}]
[{"$f":"IF(C1001=\"\",\"\",SUBTOTAL(3,C$5:C1001))","v":""},{"$f":"+IFERROR(INDEX(#REF!,MATCH(A1001,#REF!,0)),\"\")","v":""},null,{"$f":"IFERROR(INDEX(#REF!,MATCH(A1001,#REF!,0)),\"\")","v":""},{"$f":"IFERROR(INDEX(#REF!,MATCH(A1001,#REF!,0)),\"\")","v":""}]
[{"$f":"IF(C1002=\"\",\"\",SUBTOTAL(3,C$5:C1002))","v":""},{"$f":"+IFERROR(INDEX(#REF!,MATCH(A1002,#REF!,0)),\"\")","v":""},null,{"$f":"IFERROR(INDEX(#REF!,MATCH(A1002,#REF!,0)),\"\")","v":""},{"$f":"IFERROR(INDEX(#REF!,MATCH(A1002,#REF!,0)),\"\")","v":""}]
[{"$f":"IF(C1003=\"\",\"\",SUBTOTAL(3,C$5:C1003))","v":""},{"$f":"+IFERROR(INDEX(#REF!,MATCH(A1003,#REF!,0)),\"\")","v":""},null,{"$f":"IFERROR(INDEX(#REF!,MATCH(A1003,#REF!,0)),\"\")","v":""},{"$f":"IFERROR(INDEX(#REF!,MATCH(A1003,#REF!,0)),\"\")","v":""}]
[{"$f":"IF(C1004=\"\",\"\",SUBTOTAL(3,C$5:C1004))","v":""},{"$f":"+IFERROR(INDEX(#REF!,MATCH(A1004,#REF!,0)),\"\")","v":""},null,{"$f":"IFERROR(INDEX(#REF!,MATCH(A1004,#REF!,0)),\"\")","v":""},{"$f":"IFERROR(INDEX(#REF!,MATCH(A1004,#REF!,0)),\"\")","v":""}]
[{"$f":"IF(C1005=\"\",\"\",SUBTOTAL(3,C$5:C1005))","v":""},{"$f":"+IFERROR(INDEX(#REF!,MATCH(A1005,#REF!,0)),\"\")","v":""},null,{"$f":"IFERROR(INDEX(#REF!,MATCH(A1005,#REF!,0)),\"\")","v":""},{"$f":"IFERROR(INDEX(#REF!,MATCH(A1005,#REF!,0)),\"\")","v":""}]
[{"$f":"IF(C1006=\"\",\"\",SUBTOTAL(3,C$5:C1006))","v":""},{"$f":"+IFERROR(INDEX(#REF!,MATCH(A1006,#REF!,0)),\"\")","v":""},null,{"$f":"IFERROR(INDEX(#REF!,MATCH(A1006,#REF!,0)),\"\")","v":""},{"$f":"IFERROR(INDEX(#REF!,MATCH(A1006,#REF!,0)),\"\")","v":""}]
[{"$f":"IF(C1007=\"\",\"\",SUBTOTAL(3,C$5:C1007))","v":""},{"$f":"+IFERROR(INDEX(#REF!,MATCH(A1007,#REF!,0)),\"\")","v":""},null,{"$f":"IFERROR(INDEX(#REF!,MATCH(A1007,#REF!,0)),\"\")","v":""},{"$f":"IFERROR(INDEX(#REF!,MATCH(A1007,#REF!,0)),\"\")","v":""}]
[{"$f":"IF(C1008=\"\",\"\",SUBTOTAL(3,C$5:C1008))","v":""},{"$f":"+IFERROR(INDEX(#REF!,MATCH(A1008,#REF!,0)),\"\")","v":""},null,{"$f":"IFERROR(INDEX(#REF!,MATCH(A1008,#REF!,0)),\"\")","v":""},{"$f":"IFERROR(INDEX(#REF!,MATCH(A1008,#REF!,0)),\"\")","v":""}]
[{"$f":"IF(C1009=\"\",\"\",SUBTOTAL(3,C$5:C1009))","v":""},{"$f":"+IFERROR(INDEX(#REF!,MATCH(A1009,#REF!,0)),\"\")","v":""},null,{"$f":"IFERROR(INDEX(#REF!,MATCH(A1009,#REF!,0)),\"\")","v":""},{"$f":"IFERROR(INDEX(#REF!,MATCH(A1009,#REF!,0)),\"\")","v":""}]
[{"$f":"IF(C1010=\"\",\"\",SUBTOTAL(3,C$5:C1010))","v":""},{"$f":"+IFERROR(INDEX(#REF!,MATCH(A1010,#REF!,0)),\"\")","v":""},null,{"$f":"IFERROR(INDEX(#REF!,MATCH(A1010,#REF!,0)),\"\")","v":""},{"$f":"IFERROR(INDEX(#REF!,MATCH(A1010,#REF!,0)),\"\")","v":""}]
[{"$f":"IF(C1011=\"\",\"\",SUBTOTAL(3,C$5:C1011))","v":""},{"$f":"+IFERROR(INDEX(#REF!,MATCH(A1011,#REF!,0)),\"\")","v":""},null,{"$f":"IFERROR(INDEX(#REF!,MATCH(A1011,#REF!,0)),\"\")","v":""},{"$f":"IFERROR(INDEX(#REF!,MATCH(A1011,#REF!,0)),\"\")","v":""}]
[{"$f":"IF(C1012=\"\",\"\",SUBTOTAL(3,C$5:C1012))","v":""},{"$f":"+IFERROR(INDEX(#REF!,MATCH(A1012,#REF!,0)),\"\")","v":""},null,{"$f":"IFERROR(INDEX(#REF!,MATCH(A1012,#REF!,0)),\"\")","v":""},{"$f":"IFERROR(INDEX(#REF!,MATCH(A1012,#REF!,0)),\"\")","v":""}]
[{"$f":"IF(C1013=\"\",\"\",SUBTOTAL(3,C$5:C1013))","v":""},{"$f":"+IFERROR(INDEX(#REF!,MATCH(A1013,#REF!,0)),\"\")","v":""},null,{"$f":"IFERROR(INDEX(#REF!,MATCH(A1013,#REF!,0)),\"\")","v":""},{"$f":"IFERROR(INDEX(#REF!,MATCH(A1013,#REF!,0)),\"\")","v":""}]
[{"$f":"IF(C1014=\"\",\"\",SUBTOTAL(3,C$5:C1014))","v":""},{"$f":"+IFERROR(INDEX(#REF!,MATCH(A1014,#REF!,0)),\"\")","v":""},null,{"$f":"IFERROR(INDEX(#REF!,MATCH(A1014,#REF!,0)),\"\")","v":""},{"$f":"IFERROR(INDEX(#REF!,MATCH(A1014,#REF!,0)),\"\")","v":""}]
[{"$f":"IF(C1015=\"\",\"\",SUBTOTAL(3,C$5:C1015))","v":""},{"$f":"+IFERROR(INDEX(#REF!,MATCH(A1015,#REF!,0)),\"\")","v":""},null,{"$f":"IFERROR(INDEX(#REF!,MATCH(A1015,#REF!,0)),\"\")","v":""},{"$f":"IFERROR(INDEX(#REF!,MATCH(A1015,#REF!,0)),\"\")","v":""}]
[{"$f":"IF(C1016=\"\",\"\",SUBTOTAL(3,C$5:C1016))","v":""},{"$f":"+IFERROR(INDEX(#REF!,MATCH(A1016,#REF!,0)),\"\")","v":""},null,{"$f":"IFERROR(INDEX(#REF!,MATCH(A1016,#REF!,0)),\"\")","v":""},{"$f":"IFERROR(INDEX(#REF!,MATCH(A1016,#REF!,0)),\"\")","v":""}]
[{"$f":"IF(C1017=\"\",\"\",SUBTOTAL(3,C$5:C1017))","v":""},{"$f":"+IFERROR(INDEX(#REF!,MATCH(A1017,#REF!,0)),\"\")","v":""},null,{"$f":"IFERROR(INDEX(#REF!,MATCH(A1017,#REF!,0)),\"\")","v":""},{"$f":"IFERROR(INDEX(#REF!,MATCH(A1017,#REF!,0)),\"\")","v":""}]
[{"$f":"IF(C1018=\"\",\"\",SUBTOTAL(3,C$5:C1018))","v":""},{"$f":"+IFERROR(INDEX(#REF!,MATCH(A1018,#REF!,0)),\"\")","v":""},null,{"$f":"IFERROR(INDEX(#REF!,MATCH(A1018,#REF!,0)),\"\")","v":""},{"$f":"IFERROR(INDEX(#REF!,MATCH(A1018,#REF!,0)),\"\")","v":""}]
[{"$f":"IF(C1019=\"\",\"\",SUBTOTAL(3,C$5:C1019))","v":""},{"$f":"+IFERROR(INDEX(#REF!,MATCH(A1019,#REF!,0)),\"\")","v":""},null,{"$f":"IFERROR(INDEX(#REF!,MATCH(A1019,#REF!,0)),\"\")","v":""},{"$f":"IFERROR(INDEX(#REF!,MATCH(A1019,#REF!,0)),\"\")","v":""}]
[{"$f":"IF(C1020=\"\",\"\",SUBTOTAL(3,C$5:C1020))","v":""},{"$f":"+IFERROR(INDEX(#REF!,MATCH(A1020,#REF!,0)),\"\")","v":""},null,{"$f":"IFERROR(INDEX(#REF!,MATCH(A1020,#REF!,0)),\"\")","v":""},{"$f":"IFERROR(INDEX(#REF!,MATCH(A1020,#REF!,0)),\"\")","v":""}]
[{"$f":"IF(C1021=\"\",\"\",SUBTOTAL(3,C$5:C1021))","v":""},{"$f":"+IFERROR(INDEX(#REF!,MATCH(A1021,#REF!,0)),\"\")","v":""},null,{"$f":"IFERROR(INDEX(#REF!,MATCH(A1021,#REF!,0)),\"\")","v":""},{"$f":"IFERROR(INDEX(#REF!,MATCH(A1021,#REF!,0)),\"\")","v":""}]
[{"$f":"IF(C1022=\"\",\"\",SUBTOTAL(3,C$5:C1022))","v":""},{"$f":"+IFERROR(INDEX(#REF!,MATCH(A1022,#REF!,0)),\"\")","v":""},null,{"$f":"IFERROR(INDEX(#REF!,MATCH(A1022,#REF!,0)),\"\")","v":""},{"$f":"IFERROR(INDEX(#REF!,MATCH(A1022,#REF!,0)),\"\")","v":""}]
[{"$f":"IF(C1023=\"\",\"\",SUBTOTAL(3,C$5:C1023))","v":""},{"$f":"+IFERROR(INDEX(#REF!,MATCH(A1023,#REF!,0)),\"\")","v":""},null,{"$f":"IFERROR(INDEX(#REF!,MATCH(A1023,#REF!,0)),\"\")","v":""},{"$f":"IFERROR(INDEX(#REF!,MATCH(A1023,#REF!,0)),\"\")","v":""}]
[{"$f":"IF(C1024=\"\",\"\",SUBTOTAL(3,C$5:C1024))","v":""},{"$f":"+IFERROR(INDEX(#REF!,MATCH(A1024,#REF!,0)),\"\")","v":""},null,{"$f":"IFERROR(INDEX(#REF!,MATCH(A1024,#REF!,0)),\"\")","v":""},{"$f":"IFERROR(INDEX(#REF!,MATCH(A1024,#REF!,0)),\"\")","v":""}]
[{"$f":"IF(C1025=\"\",\"\",SUBTOTAL(3,C$5:C1025))","v":""},{"$f":"+IFERROR(INDEX(#REF!,MATCH(A1025,#REF!,0)),\"\")","v":""},null,{"$f":"IFERROR(INDEX(#REF!,MATCH(A1025,#REF!,0)),\"\")","v":""},{"$f":"IFERROR(INDEX(#REF!,MATCH(A1025,#REF!,0)),\"\")","v":""}]
[{"$f":"IF(C1026=\"\",\"\",SUBTOTAL(3,C$5:C1026))","v":""},{"$f":"+IFERROR(INDEX(#REF!,MATCH(A1026,#REF!,0)),\"\")","v":""},null,{"$f":"IFERROR(INDEX(#REF!,MATCH(A1026,#REF!,0)),\"\")","v":""},{"$f":"IFERROR(INDEX(#REF!,MATCH(A1026,#REF!,0)),\"\")","v":""}]
[{"$f":"IF(C1027=\"\",\"\",SUBTOTAL(3,C$5:C1027))","v":""},{"$f":"+IFERROR(INDEX(#REF!,MATCH(A1027,#REF!,0)),\"\")","v":""},null,{"$f":"IFERROR(INDEX(#REF!,MATCH(A1027,#REF!,0)),\"\")","v":""},{"$f":"IFERROR(INDEX(#REF!,MATCH(A1027,#REF!,0)),\"\")","v":""}]
[{"$f":"IF(C1028=\"\",\"\",SUBTOTAL(3,C$5:C1028))","v":""},{"$f":"+IFERROR(INDEX(#REF!,MATCH(A1028,#REF!,0)),\"\")","v":""},null,{"$f":"IFERROR(INDEX(#REF!,MATCH(A1028,#REF!,0)),\"\")","v":""},{"$f":"IFERROR(INDEX(#REF!,MATCH(A1028,#REF!,0)),\"\")","v":""}]
[{"$f":"IF(C1029=\"\",\"\",SUBTOTAL(3,C$5:C1029))","v":""},{"$f":"+IFERROR(INDEX(#REF!,MATCH(A1029,#REF!,0)),\"\")","v":""},null,{"$f":"IFERROR(INDEX(#REF!,MATCH(A1029,#REF!,0)),\"\")","v":""},{"$f":"IFERROR(INDEX(#REF!,MATCH(A1029,#REF!,0)),\"\")","v":""}]
[{"$f":"IF(C1030=\"\",\"\",SUBTOTAL(3,C$5:C1030))","v":""},{"$f":"+IFERROR(INDEX(#REF!,MATCH(A1030,#REF!,0)),\"\")","v":""},null,{"$f":"IFERROR(INDEX(#REF!,MATCH(A1030,#REF!,0)),\"\")","v":""},{"$f":"IFERROR(INDEX(#REF!,MATCH(A1030,#REF!,0)),\"\")","v":""}]
[{"$f":"IF(C1031=\"\",\"\",SUBTOTAL(3,C$5:C1031))","v":""},{"$f":"+IFERROR(INDEX(#REF!,MATCH(A1031,#REF!,0)),\"\")","v":""},null,{"$f":"IFERROR(INDEX(#REF!,MATCH(A1031,#REF!,0)),\"\")","v":""},{"$f":"IFERROR(INDEX(#REF!,MATCH(A1031,#REF!,0)),\"\")","v":""}]
[{"$f":"IF(C1032=\"\",\"\",SUBTOTAL(3,C$5:C1032))","v":""},{"$f":"+IFERROR(INDEX(#REF!,MATCH(A1032,#REF!,0)),\"\")","v":""},null,{"$f":"IFERROR(INDEX(#REF!,MATCH(A1032,#REF!,0)),\"\")","v":""},{"$f":"IFERROR(INDEX(#REF!,MATCH(A1032,#REF!,0)),\"\")","v":""}]
[{"$f":"IF(C1033=\"\",\"\",SUBTOTAL(3,C$5:C1033))","v":""},{"$f":"+IFERROR(INDEX(#REF!,MATCH(A1033,#REF!,0)),\"\")","v":""},null,{"$f":"IFERROR(INDEX(#REF!,MATCH(A1033,#REF!,0)),\"\")","v":""},{"$f":"IFERROR(INDEX(#REF!,MATCH(A1033,#REF!,0)),\"\")","v":""}]
[{"$f":"IF(C1034=\"\",\"\",SUBTOTAL(3,C$5:C1034))","v":""},{"$f":"+IFERROR(INDEX(#REF!,MATCH(A1034,#REF!,0)),\"\")","v":""},null,{"$f":"IFERROR(INDEX(#REF!,MATCH(A1034,#REF!,0)),\"\")","v":""},{"$f":"IFERROR(INDEX(#REF!,MATCH(A1034,#REF!,0)),\"\")","v":""}]
[{"$f":"IF(C1035=\"\",\"\",SUBTOTAL(3,C$5:C1035))","v":""},{"$f":"+IFERROR(INDEX(#REF!,MATCH(A1035,#REF!,0)),\"\")","v":""},null,{"$f":"IFERROR(INDEX(#REF!,MATCH(A1035,#REF!,0)),\"\")","v":""},{"$f":"IFERROR(INDEX(#REF!,MATCH(A1035,#REF!,0)),\"\")","v":""}]
[{"$f":"IF(C1036=\"\",\"\",SUBTOTAL(3,C$5:C1036))","v":""},{"$f":"+IFERROR(INDEX(#REF!,MATCH(A1036,#REF!,0)),\"\")","v":""},null,{"$f":"IFERROR(INDEX(#REF!,MATCH(A1036,#REF!,0)),\"\")","v":""},{"$f":"IFERROR(INDEX(#REF!,MATCH(A1036,#REF!,0)),\"\")","v":""}]
[{"$f":"IF(C1037=\"\",\"\",SUBTOTAL(3,C$5:C1037))","v":""},{"$f":"+IFERROR(INDEX(#REF!,MATCH(A1037,#REF!,0)),\"\")","v":""},null,{"$f":"IFERROR(INDEX(#REF!,MATCH(A1037,#REF!,0)),\"\")","v":""},{"$f":"IFERROR(INDEX(#REF!,MATCH(A1037,#REF!,0)),\"\")","v":""}]
[{"$f":"IF(C1038=\"\",\"\",SUBTOTAL(3,C$5:C1038))","v":""},{"$f":"+IFERROR(INDEX(#REF!,MATCH(A1038,#REF!,0)),\"\")","v":""},null,{"$f":"IFERROR(INDEX(#REF!,MATCH(A1038,#REF!,0)),\"\")","v":""},{"$f":"IFERROR(INDEX(#REF!,MATCH(A1038,#REF!,0)),\"\")","v":""}]
[{"$f":"IF(C1039=\"\",\"\",SUBTOTAL(3,C$5:C1039))","v":""},{"$f":"+IFERROR(INDEX(#REF!,MATCH(A1039,#REF!,0)),\"\")","v":""},null,{"$f":"IFERROR(INDEX(#REF!,MATCH(A1039,#REF!,0)),\"\")","v":""},{"$f":"IFERROR(INDEX(#REF!,MATCH(A1039,#REF!,0)),\"\")","v":""}]
[{"$f":"IF(C1040=\"\",\"\",SUBTOTAL(3,C$5:C1040))","v":""},{"$f":"+IFERROR(INDEX(#REF!,MATCH(A1040,#REF!,0)),\"\")","v":""},null,{"$f":"IFERROR(INDEX(#REF!,MATCH(A1040,#REF!,0)),\"\")","v":""},{"$f":"IFERROR(INDEX(#REF!,MATCH(A1040,#REF!,0)),\"\")","v":""}]
[{"$f":"IF(C1041=\"\",\"\",SUBTOTAL(3,C$5:C1041))","v":""},{"$f":"+IFERROR(INDEX(#REF!,MATCH(A1041,#REF!,0)),\"\")","v":""},null,{"$f":"IFERROR(INDEX(#REF!,MATCH(A1041,#REF!,0)),\"\")","v":""},{"$f":"IFERROR(INDEX(#REF!,MATCH(A1041,#REF!,0)),\"\")","v":""}]
[{"$f":"IF(C1042=\"\",\"\",SUBTOTAL(3,C$5:C1042))","v":""},{"$f":"+IFERROR(INDEX(#REF!,MATCH(A1042,#REF!,0)),\"\")","v":""},null,{"$f":"IFERROR(INDEX(#REF!,MATCH(A1042,#REF!,0)),\"\")","v":""},{"$f":"IFERROR(INDEX(#REF!,MATCH(A1042,#REF!,0)),\"\")","v":""}]
[{"$f":"IF(C1043=\"\",\"\",SUBTOTAL(3,C$5:C1043))","v":""},{"$f":"+IFERROR(INDEX(#REF!,MATCH(A1043,#REF!,0)),\"\")","v":""},null,{"$f":"IFERROR(INDEX(#REF!,MATCH(A1043,#REF!,0)),\"\")","v":""},{"$f":"IFERROR(INDEX(#REF!,MATCH(A1043,#REF!,0)),\"\")","v":""}]
[{"$f":"IF(C1044=\"\",\"\",SUBTOTAL(3,C$5:C1044))","v":""},{"$f":"+IFERROR(INDEX(#REF!,MATCH(A1044,#REF!,0)),\"\")","v":""},null,{"$f":"IFERROR(INDEX(#REF!,MATCH(A1044,#REF!,0)),\"\")","v":""},{"$f":"IFERROR(INDEX(#REF!,MATCH(A1044,#REF!,0)),\"\")","v":""}]
[{"$f":"IF(C1045=\"\",\"\",SUBTOTAL(3,C$5:C1045))","v":""},{"$f":"+IFERROR(INDEX(#REF!,MATCH(A1045,#REF!,0)),\"\")","v":""},null,{"$f":"IFERROR(INDEX(#REF!,MATCH(A1045,#REF!,0)),\"\")","v":""},{"$f":"IFERROR(INDEX(#REF!,MATCH(A1045,#REF!,0)),\"\")","v":""}]
[{"$f":"IF(C1046=\"\",\"\",SUBTOTAL(3,C$5:C1046))","v":""},{"$f":"+IFERROR(INDEX(#REF!,MATCH(A1046,#REF!,0)),\"\")","v":""},null,{"$f":"IFERROR(INDEX(#REF!,MATCH(A1046,#REF!,0)),\"\")","v":""},{"$f":"IFERROR(INDEX(#REF!,MATCH(A1046,#REF!,0)),\"\")","v":""}]
[{"$f":"IF(C1047=\"\",\"\",SUBTOTAL(3,C$5:C1047))","v":""},{"$f":"+IFERROR(INDEX(#REF!,MATCH(A1047,#REF!,0)),\"\")","v":""},null,{"$f":"IFERROR(INDEX(#REF!,MATCH(A1047,#REF!,0)),\"\")","v":""},{"$f":"IFERROR(INDEX(#REF!,MATCH(A1047,#REF!,0)),\"\")","v":""}]
[{"$f":"IF(C1048=\"\",\"\",SUBTOTAL(3,C$5:C1048))","v":""},{"$f":"+IFERROR(INDEX(#REF!,MATCH(A1048,#REF!,0)),\"\")","v":""},null,{"$f":"IFERROR(INDEX(#REF!,MATCH(A1048,#REF!,0)),\"\")","v":""},{"$f":"IFERROR(INDEX(#REF!,MATCH(A1048,#REF!,0)),\"\")","v":""}]
[{"$f":"IF(C1049=\"\",\"\",SUBTOTAL(3,C$5:C1049))","v":""},{"$f":"+IFERROR(INDEX(#REF!,MATCH(A1049,#REF!,0)),\"\")","v":""},null,{"$f":"IFERROR(INDEX(#REF!,MATCH(A1049,#REF!,0)),\"\")","v":""},{"$f":"IFERROR(INDEX(#REF!,MATCH(A1049,#REF!,0)),\"\")","v":""}]
[{"$f":"IF(C1050=\"\",\"\",SUBTOTAL(3,C$5:C1050))","v":""},{"$f":"+IFERROR(INDEX(#REF!,MATCH(A1050,#REF!,0)),\"\")","v":""},null,{"$f":"IFERROR(INDEX(#REF!,MATCH(A1050,#REF!,0)),\"\")","v":""},{"$f":"IFERROR(INDEX(#REF!,MATCH(A1050,#REF!,0)),\"\")","v":""}]
[{"$f":"IF(C1051=\"\",\"\",SUBTOTAL(3,C$5:C1051))","v":""},{"$f":"+IFERROR(INDEX(#REF!,MATCH(A1051,#REF!,0)),\"\")","v":""},null,{"$f":"IFERROR(INDEX(#REF!,MATCH(A1051,#REF!,0)),\"\")","v":""},{"$f":"IFERROR(INDEX(#REF!,MATCH(A1051,#REF!,0)),\"\")","v":""}]
[{"$f":"IF(C1052=\"\",\"\",SUBTOTAL(3,C$5:C1052))","v":""},{"$f":"+IFERROR(INDEX(#REF!,MATCH(A1052,#REF!,0)),\"\")","v":""},null,{"$f":"IFERROR(INDEX(#REF!,MATCH(A1052,#REF!,0)),\"\")","v":""},{"$f":"IFERROR(INDEX(#REF!,MATCH(A1052,#REF!,0)),\"\")","v":""}]
[{"$f":"IF(C1053=\"\",\"\",SUBTOTAL(3,C$5:C1053))","v":""},{"$f":"+IFERROR(INDEX(#REF!,MATCH(A1053,#REF!,0)),\"\")","v":""},null,{"$f":"IFERROR(INDEX(#REF!,MATCH(A1053,#REF!,0)),\"\")","v":""},{"$f":"IFERROR(INDEX(#REF!,MATCH(A1053,#REF!,0)),\"\")","v":""}]
[{"$f":"IF(C1054=\"\",\"\",SUBTOTAL(3,C$5:C1054))","v":""},{"$f":"+IFERROR(INDEX(#REF!,MATCH(A1054,#REF!,0)),\"\")","v":""},null,{"$f":"IFERROR(INDEX(#REF!,MATCH(A1054,#REF!,0)),\"\")","v":""},{"$f":"IFERROR(INDEX(#REF!,MATCH(A1054,#REF!,0)),\"\")","v":""}]
[{"$f":"IF(C1055=\"\",\"\",SUBTOTAL(3,C$5:C1055))","v":""},{"$f":"+IFERROR(INDEX(#REF!,MATCH(A1055,#REF!,0)),\"\")","v":""},null,{"$f":"IFERROR(INDEX(#REF!,MATCH(A1055,#REF!,0)),\"\")","v":""},{"$f":"IFERROR(INDEX(#REF!,MATCH(A1055,#REF!,0)),\"\")","v":""}]
[{"$f":"IF(C1056=\"\",\"\",SUBTOTAL(3,C$5:C1056))","v":""},{"$f":"+IFERROR(INDEX(#REF!,MATCH(A1056,#REF!,0)),\"\")","v":""},null,{"$f":"IFERROR(INDEX(#REF!,MATCH(A1056,#REF!,0)),\"\")","v":""},{"$f":"IFERROR(INDEX(#REF!,MATCH(A1056,#REF!,0)),\"\")","v":""}]
[{"$f":"IF(C1057=\"\",\"\",SUBTOTAL(3,C$5:C1057))","v":""},{"$f":"+IFERROR(INDEX(#REF!,MATCH(A1057,#REF!,0)),\"\")","v":""},null,{"$f":"IFERROR(INDEX(#REF!,MATCH(A1057,#REF!,0)),\"\")","v":""},{"$f":"IFERROR(INDEX(#REF!,MATCH(A1057,#REF!,0)),\"\")","v":""}]
[{"$f":"IF(C1058=\"\",\"\",SUBTOTAL(3,C$5:C1058))","v":""},{"$f":"+IFERROR(INDEX(#REF!,MATCH(A1058,#REF!,0)),\"\")","v":""},null,{"$f":"IFERROR(INDEX(#REF!,MATCH(A1058,#REF!,0)),\"\")","v":""},{"$f":"IFERROR(INDEX(#REF!,MATCH(A1058,#REF!,0)),\"\")","v":""}]
[{"$f":"IF(C1059=\"\",\"\",SUBTOTAL(3,C$5:C1059))","v":""},{"$f":"+IFERROR(INDEX(#REF!,MATCH(A1059,#REF!,0)),\"\")","v":""},null,{"$f":"IFERROR(INDEX(#REF!,MATCH(A1059,#REF!,0)),\"\")","v":""},{"$f":"IFERROR(INDEX(#REF!,MATCH(A1059,#REF!,0)),\"\")","v":""}]
[{"$f":"IF(C1060=\"\",\"\",SUBTOTAL(3,C$5:C1060))","v":""},{"$f":"+IFERROR(INDEX(#REF!,MATCH(A1060,#REF!,0)),\"\")","v":""},null,{"$f":"IFERROR(INDEX(#REF!,MATCH(A1060,#REF!,0)),\"\")","v":""},{"$f":"IFERROR(INDEX(#REF!,MATCH(A1060,#REF!,0)),\"\")","v":""}]
[{"$f":"IF(C1061=\"\",\"\",SUBTOTAL(3,C$5:C1061))","v":""},{"$f":"+IFERROR(INDEX(#REF!,MATCH(A1061,#REF!,0)),\"\")","v":""},null,{"$f":"IFERROR(INDEX(#REF!,MATCH(A1061,#REF!,0)),\"\")","v":""},{"$f":"IFERROR(INDEX(#REF!,MATCH(A1061,#REF!,0)),\"\")","v":""}]
[{"$f":"IF(C1062=\"\",\"\",SUBTOTAL(3,C$5:C1062))","v":""},{"$f":"+IFERROR(INDEX(#REF!,MATCH(A1062,#REF!,0)),\"\")","v":""},null,{"$f":"IFERROR(INDEX(#REF!,MATCH(A1062,#REF!,0)),\"\")","v":""},{"$f":"IFERROR(INDEX(#REF!,MATCH(A1062,#REF!,0)),\"\")","v":""}]
[{"$f":"IF(C1063=\"\",\"\",SUBTOTAL(3,C$5:C1063))","v":""},{"$f":"+IFERROR(INDEX(#REF!,MATCH(A1063,#REF!,0)),\"\")","v":""},null,{"$f":"IFERROR(INDEX(#REF!,MATCH(A1063,#REF!,0)),\"\")","v":""},{"$f":"IFERROR(INDEX(#REF!,MATCH(A1063,#REF!,0)),\"\")","v":""}]
[{"$f":"IF(C1064=\"\",\"\",SUBTOTAL(3,C$5:C1064))","v":""},{"$f":"+IFERROR(INDEX(#REF!,MATCH(A1064,#REF!,0)),\"\")","v":""},null,{"$f":"IFERROR(INDEX(#REF!,MATCH(A1064,#REF!,0)),\"\")","v":""},{"$f":"IFERROR(INDEX(#REF!,MATCH(A1064,#REF!,0)),\"\")","v":""}]
[{"$f":"IF(C1065=\"\",\"\",SUBTOTAL(3,C$5:C1065))","v":""},{"$f":"+IFERROR(INDEX(#REF!,MATCH(A1065,#REF!,0)),\"\")","v":""},null,{"$f":"IFERROR(INDEX(#REF!,MATCH(A1065,#REF!,0)),\"\")","v":""},{"$f":"IFERROR(INDEX(#REF!,MATCH(A1065,#REF!,0)),\"\")","v":""}]
[{"$f":"IF(C1066=\"\",\"\",SUBTOTAL(3,C$5:C1066))","v":""},{"$f":"+IFERROR(INDEX(#REF!,MATCH(A1066,#REF!,0)),\"\")","v":""},null,{"$f":"IFERROR(INDEX(#REF!,MATCH(A1066,#REF!,0)),\"\")","v":""},{"$f":"IFERROR(INDEX(#REF!,MATCH(A1066,#REF!,0)),\"\")","v":""}]
[{"$f":"IF(C1067=\"\",\"\",SUBTOTAL(3,C$5:C1067))","v":""},{"$f":"+IFERROR(INDEX(#REF!,MATCH(A1067,#REF!,0)),\"\")","v":""},null,{"$f":"IFERROR(INDEX(#REF!,MATCH(A1067,#REF!,0)),\"\")","v":""},{"$f":"IFERROR(INDEX(#REF!,MATCH(A1067,#REF!,0)),\"\")","v":""}]
[{"$f":"IF(C1068=\"\",\"\",SUBTOTAL(3,C$5:C1068))","v":""},{"$f":"+IFERROR(INDEX(#REF!,MATCH(A1068,#REF!,0)),\"\")","v":""},null,{"$f":"IFERROR(INDEX(#REF!,MATCH(A1068,#REF!,0)),\"\")","v":""},{"$f":"IFERROR(INDEX(#REF!,MATCH(A1068,#REF!,0)),\"\")","v":""}]
[{"$f":"IF(C1069=\"\",\"\",SUBTOTAL(3,C$5:C1069))","v":""},{"$f":"+IFERROR(INDEX(#REF!,MATCH(A1069,#REF!,0)),\"\")","v":""},null,{"$f":"IFERROR(INDEX(#REF!,MATCH(A1069,#REF!,0)),\"\")","v":""},{"$f":"IFERROR(INDEX(#REF!,MATCH(A1069,#REF!,0)),\"\")","v":""}]
[{"$f":"IF(C1070=\"\",\"\",SUBTOTAL(3,C$5:C1070))","v":""},{"$f":"+IFERROR(INDEX(#REF!,MATCH(A1070,#REF!,0)),\"\")","v":""},null,{"$f":"IFERROR(INDEX(#REF!,MATCH(A1070,#REF!,0)),\"\")","v":""},{"$f":"IFERROR(INDEX(#REF!,MATCH(A1070,#REF!,0)),\"\")","v":""}]
[{"$f":"IF(C1071=\"\",\"\",SUBTOTAL(3,C$5:C1071))","v":""},{"$f":"+IFERROR(INDEX(#REF!,MATCH(A1071,#REF!,0)),\"\")","v":""},null,{"$f":"IFERROR(INDEX(#REF!,MATCH(A1071,#REF!,0)),\"\")","v":""},{"$f":"IFERROR(INDEX(#REF!,MATCH(A1071,#REF!,0)),\"\")","v":""}]
[{"$f":"IF(C1072=\"\",\"\",SUBTOTAL(3,C$5:C1072))","v":""},{"$f":"+IFERROR(INDEX(#REF!,MATCH(A1072,#REF!,0)),\"\")","v":""},null,{"$f":"IFERROR(INDEX(#REF!,MATCH(A1072,#REF!,0)),\"\")","v":""},{"$f":"IFERROR(INDEX(#REF!,MATCH(A1072,#REF!,0)),\"\")","v":""}]
[{"$f":"IF(C1073=\"\",\"\",SUBTOTAL(3,C$5:C1073))","v":""},{"$f":"+IFERROR(INDEX(#REF!,MATCH(A1073,#REF!,0)),\"\")","v":""},null,{"$f":"IFERROR(INDEX(#REF!,MATCH(A1073,#REF!,0)),\"\")","v":""},{"$f":"IFERROR(INDEX(#REF!,MATCH(A1073,#REF!,0)),\"\")","v":""}]
[{"$f":"IF(C1074=\"\",\"\",SUBTOTAL(3,C$5:C1074))","v":""},{"$f":"+IFERROR(INDEX(#REF!,MATCH(A1074,#REF!,0)),\"\")","v":""},null,{"$f":"IFERROR(INDEX(#REF!,MATCH(A1074,#REF!,0)),\"\")","v":""},{"$f":"IFERROR(INDEX(#REF!,MATCH(A1074,#REF!,0)),\"\")","v":""}]
[{"$f":"IF(C1075=\"\",\"\",SUBTOTAL(3,C$5:C1075))","v":""},{"$f":"+IFERROR(INDEX(#REF!,MATCH(A1075,#REF!,0)),\"\")","v":""},null,{"$f":"IFERROR(INDEX(#REF!,MATCH(A1075,#REF!,0)),\"\")","v":""},{"$f":"IFERROR(INDEX(#REF!,MATCH(A1075,#REF!,0)),\"\")","v":""}]
[{"$f":"IF(C1076=\"\",\"\",SUBTOTAL(3,C$5:C1076))","v":""},{"$f":"+IFERROR(INDEX(#REF!,MATCH(A1076,#REF!,0)),\"\")","v":""},null,{"$f":"IFERROR(INDEX(#REF!,MATCH(A1076,#REF!,0)),\"\")","v":""},{"$f":"IFERROR(INDEX(#REF!,MATCH(A1076,#REF!,0)),\"\")","v":""}]
[{"$f":"IF(C1077=\"\",\"\",SUBTOTAL(3,C$5:C1077))","v":""},{"$f":"+IFERROR(INDEX(#REF!,MATCH(A1077,#REF!,0)),\"\")","v":""},null,{"$f":"IFERROR(INDEX(#REF!,MATCH(A1077,#REF!,0)),\"\")","v":""},{"$f":"IFERROR(INDEX(#REF!,MATCH(A1077,#REF!,0)),\"\")","v":""}]
[{"$f":"IF(C1078=\"\",\"\",SUBTOTAL(3,C$5:C1078))","v":""},{"$f":"+IFERROR(INDEX(#REF!,MATCH(A1078,#REF!,0)),\"\")","v":""},null,{"$f":"IFERROR(INDEX(#REF!,MATCH(A1078,#REF!,0)),\"\")","v":""},{"$f":"IFERROR(INDEX(#REF!,MATCH(A1078,#REF!,0)),\"\")","v":""}]
[{"$f":"IF(C1079=\"\",\"\",SUBTOTAL(3,C$5:C1079))","v":""},{"$f":"+IFERROR(INDEX(#REF!,MATCH(A1079,#REF!,0)),\"\")","v":""},null,{"$f":"IFERROR(INDEX(#REF!,MATCH(A1079,#REF!,0)),\"\")","v":""},{"$f":"IFERROR(INDEX(#REF!,MATCH(A1079,#REF!,0)),\"\")","v":""}]
[{"$f":"IF(C1080=\"\",\"\",SUBTOTAL(3,C$5:C1080))","v":""},{"$f":"+IFERROR(INDEX(#REF!,MATCH(A1080,#REF!,0)),\"\")","v":""},null,{"$f":"IFERROR(INDEX(#REF!,MATCH(A1080,#REF!,0)),\"\")","v":""},{"$f":"IFERROR(INDEX(#REF!,MATCH(A1080,#REF!,0)),\"\")","v":""}]
[{"$f":"IF(C1081=\"\",\"\",SUBTOTAL(3,C$5:C1081))","v":""},{"$f":"+IFERROR(INDEX(#REF!,MATCH(A1081,#REF!,0)),\"\")","v":""},null,{"$f":"IFERROR(INDEX(#REF!,MATCH(A1081,#REF!,0)),\"\")","v":""},{"$f":"IFERROR(INDEX(#REF!,MATCH(A1081,#REF!,0)),\"\")","v":""}]
[{"$f":"IF(C1082=\"\",\"\",SUBTOTAL(3,C$5:C1082))","v":""},{"$f":"+IFERROR(INDEX(#REF!,MATCH(A1082,#REF!,0)),\"\")","v":""},null,{"$f":"IFERROR(INDEX(#REF!,MATCH(A1082,#REF!,0)),\"\")","v":""},{"$f":"IFERROR(INDEX(#REF!,MATCH(A1082,#REF!,0)),\"\")","v":""}]
[{"$f":"IF(C1083=\"\",\"\",SUBTOTAL(3,C$5:C1083))","v":""},{"$f":"+IFERROR(INDEX(#REF!,MATCH(A1083,#REF!,0)),\"\")","v":""},null,{"$f":"IFERROR(INDEX(#REF!,MATCH(A1083,#REF!,0)),\"\")","v":""},{"$f":"IFERROR(INDEX(#REF!,MATCH(A1083,#REF!,0)),\"\")","v":""}]
[{"$f":"IF(C1084=\"\",\"\",SUBTOTAL(3,C$5:C1084))","v":""},{"$f":"+IFERROR(INDEX(#REF!,MATCH(A1084,#REF!,0)),\"\")","v":""},null,{"$f":"IFERROR(INDEX(#REF!,MATCH(A1084,#REF!,0)),\"\")","v":""},{"$f":"IFERROR(INDEX(#REF!,MATCH(A1084,#REF!,0)),\"\")","v":""}]
[{"$f":"IF(C1085=\"\",\"\",SUBTOTAL(3,C$5:C1085))","v":""},{"$f":"+IFERROR(INDEX(#REF!,MATCH(A1085,#REF!,0)),\"\")","v":""},null,{"$f":"IFERROR(INDEX(#REF!,MATCH(A1085,#REF!,0)),\"\")","v":""},{"$f":"IFERROR(INDEX(#REF!,MATCH(A1085,#REF!,0)),\"\")","v":""}]
[{"$f":"IF(C1086=\"\",\"\",SUBTOTAL(3,C$5:C1086))","v":""},{"$f":"+IFERROR(INDEX(#REF!,MATCH(A1086,#REF!,0)),\"\")","v":""},null,{"$f":"IFERROR(INDEX(#REF!,MATCH(A1086,#REF!,0)),\"\")","v":""},{"$f":"IFERROR(INDEX(#REF!,MATCH(A1086,#REF!,0)),\"\")","v":""}]
[{"$f":"IF(C1087=\"\",\"\",SUBTOTAL(3,C$5:C1087))","v":""},{"$f":"+IFERROR(INDEX(#REF!,MATCH(A1087,#REF!,0)),\"\")","v":""},null,{"$f":"IFERROR(INDEX(#REF!,MATCH(A1087,#REF!,0)),\"\")","v":""},{"$f":"IFERROR(INDEX(#REF!,MATCH(A1087,#REF!,0)),\"\")","v":""}]
[{"$f":"IF(C1088=\"\",\"\",SUBTOTAL(3,C$5:C1088))","v":""},{"$f":"+IFERROR(INDEX(#REF!,MATCH(A1088,#REF!,0)),\"\")","v":""},null,{"$f":"IFERROR(INDEX(#REF!,MATCH(A1088,#REF!,0)),\"\")","v":""},{"$f":"IFERROR(INDEX(#REF!,MATCH(A1088,#REF!,0)),\"\")","v":""}]
[{"$f":"IF(C1089=\"\",\"\",SUBTOTAL(3,C$5:C1089))","v":""},{"$f":"+IFERROR(INDEX(#REF!,MATCH(A1089,#REF!,0)),\"\")","v":""},null,{"$f":"IFERROR(INDEX(#REF!,MATCH(A1089,#REF!,0)),\"\")","v":""},{"$f":"IFERROR(INDEX(#REF!,MATCH(A1089,#REF!,0)),\"\")","v":""}]
[{"$f":"IF(C1090=\"\",\"\",SUBTOTAL(3,C$5:C1090))","v":""},{"$f":"+IFERROR(INDEX(#REF!,MATCH(A1090,#REF!,0)),\"\")","v":""},null,{"$f":"IFERROR(INDEX(#REF!,MATCH(A1090,#REF!,0)),\"\")","v":""},{"$f":"IFERROR(INDEX(#REF!,MATCH(A1090,#REF!,0)),\"\")","v":""}]
[{"$f":"IF(C1091=\"\",\"\",SUBTOTAL(3,C$5:C1091))","v":""},{"$f":"+IFERROR(INDEX(#REF!,MATCH(A1091,#REF!,0)),\"\")","v":""},null,{"$f":"IFERROR(INDEX(#REF!,MATCH(A1091,#REF!,0)),\"\")","v":""},{"$f":"IFERROR(INDEX(#REF!,MATCH(A1091,#REF!,0)),\"\")","v":""}]
[{"$f":"IF(C1092=\"\",\"\",SUBTOTAL(3,C$5:C1092))","v":""},{"$f":"+IFERROR(INDEX(#REF!,MATCH(A1092,#REF!,0)),\"\")","v":""},null,{"$f":"IFERROR(INDEX(#REF!,MATCH(A1092,#REF!,0)),\"\")","v":""},{"$f":"IFERROR(INDEX(#REF!,MATCH(A1092,#REF!,0)),\"\")","v":""}]
[{"$f":"IF(C1093=\"\",\"\",SUBTOTAL(3,C$5:C1093))","v":""},{"$f":"+IFERROR(INDEX(#REF!,MATCH(A1093,#REF!,0)),\"\")","v":""},null,{"$f":"IFERROR(INDEX(#REF!,MATCH(A1093,#REF!,0)),\"\")","v":""},{"$f":"IFERROR(INDEX(#REF!,MATCH(A1093,#REF!,0)),\"\")","v":""}]
[{"$f":"IF(C1094=\"\",\"\",SUBTOTAL(3,C$5:C1094))","v":""},{"$f":"+IFERROR(INDEX(#REF!,MATCH(A1094,#REF!,0)),\"\")","v":""},null,{"$f":"IFERROR(INDEX(#REF!,MATCH(A1094,#REF!,0)),\"\")","v":""},{"$f":"IFERROR(INDEX(#REF!,MATCH(A1094,#REF!,0)),\"\")","v":""}]

{"sheet":"القائمة","index":1,"n_rows":1100,"n_cols":17,"rows_kept":1100,"cut":false,"hidden":false,"merged":[[5,5,5,6],[6,5,6,6]]}
[null,null,null,null,null,null,null,null,null,null,null,null,null,null,null,null,"الذهاب"]
[null,null,null,null,null,null,null,null,null,null,null,null,null,null,null,null,"الاياب"]
[]
[]
[null,null,null,null,null,"الاياب",null,"القائمة"]
[null,null,null,null,null,"2018-11-21",null,"من"]
[null,null,null,null,null,"2018-11-21",null,"الى"]
[]
[]
["رقم القيد","الاسم","اللقب","الواجهة","عدد الايام","التاريخ","الملاحظة"]
[null,"","","","",""]
[null,"","","","",""]
[null,"","","","",""]
[null,"","","","",""]
[null,"","","","",""]
[null,"","","","",""]
[null,"","","","",""]
[null,"","","","",""]
[null,"","","","",""]
[null,"","","","",""]
[null,"","","","",""]
[null,"","","","",""]
[null,"","","","",""]
[null,"","","","",""]
[null,"","","","",""]
[null,"","","","",""]
[null,"","","","",""]
[null,"","","","",""]
[null,"","","","",""]
[null,"","","","",""]
[null,"","","","",""]
[null,"","","","",""]
[null,"","","","",""]
[null,"","","","",""]
[null,"","","","",""]
[null,"","","","",""]
[null,"","","","",""]
[null,"","","","",""]
[null,"","","","",""]
[null,"","","","",""]
[null,"","","","",""]
[null,"","","","",""]
[null,"","","","",""]
[null,"","","","",""]
[null,"","","","",""]
[null,"","","","",""]
[null,"","","","",""]
[null,"","","","",""]
[null,"","","","",""]
[null,"","","","",""]
[null,"","","","",""]
[null,"","","","",""]
["","",null,"","",""]
["","",null,"","",""]
["","",null,"","",""]
["","",null,"","",""]
["","",null,"","",""]
["","",null,"","",""]
["","",null,"","",""]
["","",null,"","",""]
["","",null,"","",""]
["","",null,"","",""]
["","",null,"","",""]
["","",null,"","",""]
["","",null,"","",""]
["","",null,"","",""]
["","",null,"","",""]
["","",null,"","",""]
["SI(C63=\"\";\"\";SOUS.TOTAL(3;C$5:C63))","",null,"","",""]
["","",null,"","",""]
["","",null,"","",""]
["","",null,"","",""]
["","",null,"","",""]
["","",null,"","",""]
["","",null,"","",""]
["","",null,"","",""]
["","",null,"","",""]
["","",null,"","",""]
["","",null,"","",""]
["","",null,"","",""]
["","",null,"","",""]
["","",null,"","",""]
["","",null,"","",""]
["","",null,"","",""]
["","",null,"","",""]
["","",null,"","",""]
["","",null,"","",""]
["","",null,"","",""]
["","",null,"","",""]
["","",null,"","",""]
["","",null,"","",""]
["","",null,"","",""]
["","",null,"","",""]
["","",null,"","",""]
["","",null,"","",""]
["","",null,"","",""]
["","",null,"","",""]
["","",null,"","",""]
["","",null,"","",""]
["","",null,"","",""]
["","",null,"","",""]
["","",null,"","",""]
["","",null,"","",""]
["","",null,"","",""]
["","",null,"","",""]
["","",null,"","",""]
["","",null,"","",""]
["","",null,"","",""]
["","",null,"","",""]
["","",null,"","",""]
["","",null,"","",""]
["","",null,"","",""]
["","",null,"","",""]
["","",null,"","",""]
["","",null,"","",""]
["","",null,"","",""]
["","",null,"","",""]
["","",null,"","",""]
["","",null,"","",""]
["","",null,"","",""]
["","",null,"","",""]
["","",null,"","",""]
["","",null,"","",""]
["","",null,"","",""]
["","",null,"","",""]
["","",null,"","",""]
["","",null,"","",""]
["","",null,"","",""]
["","",null,"","",""]
["","",null,"","",""]
["","",null,"","",""]
["","",null,"","",""]
["","",null,"","",""]
["","",null,"","",""]
["","",null,"","",""]
["","",null,"","",""]
["","",null,"","",""]
["","",null,"","",""]
["","",null,"","",""]
["","",null,"","",""]
["","",null,"","",""]
["","",null,"","",""]
["","",null,"","",""]
["","",null,"","",""]
["","",null,"","",""]
["","",null,"","",""]
["","",null,"","",""]
["","",null,"","",""]
["","",null,"","",""]
["","",null,"","",""]
["","",null,"","",""]
["","",null,"","",""]
["","",null,"","",""]
["","",null,"","",""]
["","",null,"","",""]
["","",null,"","",""]
["","",null,"","",""]
["","",null,"","",""]
["","",null,"","",""]
["","",null,"","",""]
["","",null,"","",""]
["","",null,"","",""]
["","",null,"","",""]
["","",null,"","",""]
["","",null,"","",""]
["","",null,"","",""]
["","",null,"","",""]
["","",null,"","",""]
["","",null,"","",""]
["","",null,"","",""]
["","",null,"","",""]
["","",null,"","",""]
["","",null,"","",""]
["","",null,"","",""]
["","",null,"","",""]
["","",null,"","",""]
["","",null,"","",""]
["","",null,"","",""]
["","",null,"","",""]
["","",null,"","",""]
["","",null,"","",""]
["","",null,"","",""]
["","",null,"","",""]
["","",null,"","",""]
["","",null,"","",""]
["","",null,"","",""]
["","",null,"","",""]
["","",null,"","",""]
["","",null,"","",""]
["","",null,"","",""]
["","",null,"","",""]
["","",null,"","",""]
["","",null,"","",""]
["","",null,"","",""]
["","",null,"","",""]
["","",null,"","",""]
["","",null,"","",""]
["","",null,"","",""]
["","",null,"","",""]
["","",null,"","",""]
["","",null,"","",""]
["","",null,"","",""]
["","",null,"","",""]
["","",null,"","",""]
["","",null,"","",""]
["","",null,"","",""]
["","",null,"","",""]
["","",null,"","",""]
["","",null,"","",""]
["","",null,"","",""]
["","",null,"","",""]
["","",null,"","",""]
["","",null,"","",""]
["","",null,"","",""]
["","",null,"","",""]
["","",null,"","",""]
["","",null,"","",""]
["","",null,"","",""]
["","",null,"","",""]
["","",null,"","",""]
["","",null,"","",""]
["","",null,"","",""]
["","",null,"","",""]
["","",null,"","",""]
["","",null,"","",""]
["","",null,"","",""]
["","",null,"","",""]
["","",null,"","",""]
["","",null,"","",""]
["","",null,"","",""]
["","",null,"","",""]
["","",null,"","",""]
["","",null,"","",""]
["","",null,"","",""]
["","",null,"","",""]
["","",null,"","",""]
["","",null,"","",""]
["","",null,"","",""]
["","",null,"","",""]
["","",null,"","",""]
["","",null,"","",""]
["","",null,"","",""]
["","",null,"","",""]
["","",null,"","",""]
["","",null,"","",""]
["","",null,"","",""]
["","",null,"","",""]
["","",null,"","",""]
["","",null,"","",""]
["","",null,"","",""]
["","",null,"","",""]
["","",null,"","",""]
["","",null,"","",""]
["","",null,"","",""]
["","",null,"","",""]
["","",null,"","",""]
["","",null,"","",""]
["","",null,"","",""]
["","",null,"","",""]
["","",null,"","",""]
["","",null,"","",""]
["","",null,"","",""]
["","",null,"","",""]
["","",null,"","",""]
["","",null,"","",""]
["","",null,"","",""]
["","",null,"","",""]
["","",null,"","",""]
["","",null,"","",""]
["","",null,"","",""]
["","",null,"","",""]
["","",null,"","",""]
["","",null,"","",""]
["","",null,"","",""]
["","",null,"","",""]
["","",null,"","",""]
["","",null,"","",""]
["","",null,"","",""]
["","",null,"","",""]
["","",null,"","",""]
["","",null,"","",""]
["","",null,"","",""]
["","",null,"","",""]
["","",null,"","",""]
["","",null,"","",""]
["","",null,"","",""]
["","",null,"","",""]
["","",null,"","",""]
["","",null,"","",""]
["","",null,"","",""]
["","",null,"","",""]
["","",null,"","",""]
["","",null,"","",""]
["","",null,"","",""]
["","",null,"","",""]
["","",null,"","",""]
["","",null,"","",""]
["","",null,"","",""]
["","",null,"","",""]
["","",null,"","",""]
["","",null,"","",""]
["","",null,"","",""]
["","",null,"","",""]
["","",null,"","",""]
["","",null,"","",""]
["","",null,"","",""]
["","",null,"","",""]
["","",null,"","",""]
["","",null,"","",""]
["","",null,"","",""]
["","",null,"","",""]
["","",null,"","",""]
["","",null,"","",""]
["","",null,"","",""]
["","",null,"","",""]
["","",null,"","",""]
["","",null,"","",""]
["","",null,"","",""]
["","",null,"","",""]
["","",null,"","",""]
["","",null,"","",""]
["","",null,"","",""]
["","",null,"","",""]
["","",null,"","",""]
["","",null,"","",""]
["","",null,"","",""]
["","",null,"","",""]
["","",null,"","",""]
["","",null,"","",""]
["","",null,"","",""]
["","",null,"","",""]
["","",null,"","",""]
["","",null,"","",""]
["","",null,"","",""]
["","",null,"","",""]
["","",null,"","",""]
["","",null,"","",""]
["","",null,"","",""]
["","",null,"","",""]
["","",null,"","",""]
["","",null,"","",""]
["","",null,"","",""]
["","",null,"","",""]
["","",null,"","",""]
["","",null,"","",""]
["","",null,"","",""]
["","",null,"","",""]
["","",null,"","",""]
["","",null,"","",""]
["","",null,"","",""]
["","",null,"","",""]
["","",null,"","",""]
["","",null,"","",""]
["","",null,"","",""]
["","",null,"","",""]
["","",null,"","",""]
["","",null,"","",""]
["","",null,"","",""]
["","",null,"","",""]
["","",null,"","",""]
["","",null,"","",""]
["","",null,"","",""]
["","",null,"","",""]
["","",null,"","",""]
["","",null,"","",""]
["","",null,"","",""]
["","",null,"","",""]
["","",null,"","",""]
["","",null,"","",""]
["","",null,"","",""]
["","",null,"","",""]
["","",null,"","",""]
["","",null,"","",""]
["","",null,"","",""]
["","",null,"","",""]
["","",null,"","",""]
["","",null,"","",""]
["","",null,"","",""]
["","",null,"","",""]
["","",null,"","",""]
["","",null,"","",""]
["","",null,"","",""]
["","",null,"","",""]
["","",null,"","",""]
["","",null,"","",""]
["","",null,"","",""]
["","",null,"","",""]
["","",null,"","",""]
["","",null,"","",""]
["","",null,"","",""]
["","",null,"","",""]
["","",null,"","",""]
["","",null,"","",""]
["","",null,"","",""]
["","",null,"","",""]
["","",null,"","",""]
["","",null,"","",""]
["","",null,"","",""]
["","",null,"","",""]
["","",null,"","",""]
["","",null,"","",""]
["","",null,"","",""]
["","",null,"","",""]
["","",null,"","",""]
["","",null,"","",""]
["","",null,"","",""]
["","",null,"","",""]
["","",null,"","",""]
["","",null,"","",""]
["","",null,"","",""]
["","",null,"","",""]
["","",null,"","",""]
["","",null,"","",""]
["","",null,"","",""]
["","",null,"","",""]
["","",null,"","",""]
["","",null,"","",""]
["","",null,"","",""]
["","",null,"","",""]
["","",null,"","",""]
["","",null,"","",""]
["","",null,"","",""]
["","",null,"","",""]
["","",null,"","",""]
["","",null,"","",""]
["","",null,"","",""]
["","",null,"","",""]
["","",null,"","",""]
["","",null,"","",""]
["","",null,"","",""]
["","",null,"","",""]
["","",null,"","",""]
["","",null,"","",""]
["","",null,"","",""]
["","",null,"","",""]
["","",null,"","",""]
["","",null,"","",""]
["","",null,"","",""]
["","",null,"","",""]
["","",null,"","",""]
["","",null,"","",""]
["","",null,"","",""]
["","",null,"","",""]
["","",null,"","",""]
["","",null,"","",""]
["","",null,"","",""]
["","",null,"","",""]
["","",null,"","",""]
["","",null,"","",""]
["","",null,"","",""]
["","",null,"","",""]
["","",null,"","",""]
["","",null,"","",""]
["","",null,"","",""]
["","",null,"","",""]
["","",null,"","",""]
["","",null,"","",""]
["","",null,"","",""]
["","",null,"","",""]
["","",null,"","",""]
["","",null,"","",""]
["","",null,"","",""]
["","",null,"","",""]
["","",null,"","",""]
["","",null,"","",""]
["","",null,"","",""]
["","",null,"","",""]
["","",null,"","",""]
["","",null,"","",""]
["","",null,"","",""]
["","",null,"","",""]
["","",null,"","",""]
["","",null,"","",""]
["","",null,"","",""]
["","",null,"","",""]
["","",null,"","",""]
["","",null,"","",""]
["","",null,"","",""]
["","",null,"","",""]
["","",null,"","",""]
["","",null,"","",""]
["","",null,"","",""]
["","",null,"","",""]
["","",null,"","",""]
["","",null,"","",""]
["","",null,"","",""]
["","",null,"","",""]
["","",null,"","",""]
["","",null,"","",""]
["","",null,"","",""]
["","",null,"","",""]
["","",null,"","",""]
["","",null,"","",""]
["","",null,"","",""]
["","",null,"","",""]
["","",null,"","",""]
["","",null,"","",""]
["","",null,"","",""]
["","",null,"","",""]
["","",null,"","",""]
["","",null,"","",""]
["","",null,"","",""]
["","",null,"","",""]
["","",null,"","",""]
["","",null,"","",""]
["","",null,"","",""]
["","",null,"","",""]
["","",null,"","",""]
["","",null,"","",""]
["","",null,"","",""]
["","",null,"","",""]
["","",null,"","",""]
["","",null,"","",""]
["","",null,"","",""]
["","",null,"","",""]
["","",null,"","",""]
["","",null,"","",""]
["","",null,"","",""]
["","",null,"","",""]
["","",null,"","",""]
["","",null,"","",""]
["","",null,"","",""]
["","",null,"","",""]
["","",null,"","",""]
["","",null,"","",""]
["","",null,"","",""]
["","",null,"","",""]
["","",null,"","",""]
["","",null,"","",""]
["","",null,"","",""]
["","",null,"","",""]
["","",null,"","",""]
["","",null,"","",""]
["","",null,"","",""]
["","",null,"","",""]
["","",null,"","",""]
["","",null,"","",""]
["","",null,"","",""]
["","",null,"","",""]
["","",null,"","",""]
["","",null,"","",""]
["","",null,"","",""]
["","",null,"","",""]
["","",null,"","",""]
["","",null,"","",""]
["","",null,"","",""]
["","",null,"","",""]
["","",null,"","",""]
["","",null,"","",""]
["","",null,"","",""]
["","",null,"","",""]
["","",null,"","",""]
["","",null,"","",""]
["","",null,"","",""]
["","",null,"","",""]
["","",null,"","",""]
["","",null,"","",""]
["","",null,"","",""]
["","",null,"","",""]
["","",null,"","",""]
["","",null,"","",""]
["","",null,"","",""]
["","",null,"","",""]
["","",null,"","",""]
["","",null,"","",""]
["","",null,"","",""]
["","",null,"","",""]
["","",null,"","",""]
["","",null,"","",""]
["","",null,"","",""]
["","",null,"","",""]
["","",null,"","",""]
["","",null,"","",""]
["","",null,"","",""]
["","",null,"","",""]
["","",null,"","",""]
["","",null,"","",""]
["","",null,"","",""]
["","",null,"","",""]
["","",null,"","",""]
["","",null,"","",""]
["","",null,"","",""]
["","",null,"","",""]
["","",null,"","",""]
["","",null,"","",""]
["","",null,"","",""]
["","",null,"","",""]
["","",null,"","",""]
["","",null,"","",""]
["","",null,"","",""]
["","",null,"","",""]
["","",null,"","",""]
["","",null,"","",""]
["","",null,"","",""]
["","",null,"","",""]
["","",null,"","",""]
["","",null,"","",""]
["","",null,"","",""]
["","",null,"","",""]
["","",null,"","",""]
["","",null,"","",""]
["","",null,"","",""]
["","",null,"","",""]
["","",null,"","",""]
["","",null,"","",""]
["","",null,"","",""]
["","",null,"","",""]
["","",null,"","",""]
["","",null,"","",""]
["","",null,"","",""]
["","",null,"","",""]
["","",null,"","",""]
["","",null,"","",""]
["","",null,"","",""]
["","",null,"","",""]
["","",null,"","",""]
["","",null,"","",""]
["","",null,"","",""]
["","",null,"","",""]
["","",null,"","",""]
["","",null,"","",""]
["","",null,"","",""]
["","",null,"","",""]
["","",null,"","",""]
["","",null,"","",""]
["","",null,"","",""]
["","",null,"","",""]
["","",null,"","",""]
["","",null,"","",""]
["","",null,"","",""]
["","",null,"","",""]
["","",null,"","",""]
["","",null,"","",""]
["","",null,"","",""]
["","",null,"","",""]
["","",null,"","",""]
["","",null,"","",""]
["","",null,"","",""]
["","",null,"","",""]
["","",null,"","",""]
["","",null,"","",""]
["","",null,"","",""]
["","",null,"","",""]
["","",null,"","",""]
["","",null,"","",""]
["","",null,"","",""]
["","",null,"","",""]
["","",null,"","",""]
["","",null,"","",""]
["","",null,"","",""]
["","",null,"","",""]
["","",null,"","",""]
["","",null,"","",""]
["","",null,"","",""]
["","",null,"","",""]
["","",null,"","",""]
["","",null,"","",""]
["","",null,"","",""]
["","",null,"","",""]
["","",null,"","",""]
["","",null,"","",""]
["","",null,"","",""]
["","",null,"","",""]
["","",null,"","",""]
["","",null,"","",""]
["","",null,"","",""]
["","",null,"","",""]
["","",null,"","",""]
["","",null,"","",""]
["","",null,"","",""]
["","",null,"","",""]
["","",null,"","",""]
["","",null,"","",""]
["","",null,"","",""]
["","",null,"","",""]
["","",null,"","",""]
["","",null,"","",""]
["","",null,"","",""]
["","",null,"","",""]
["","",null,"","",""]
["","",null,"","",""]
["","",null,"","",""]
["","",null,"","",""]
["","",null,"","",""]
["","",null,"","",""]
["","",null,"","",""]
["","",null,"","",""]
["","",null,"","",""]
["","",null,"","",""]
["","",null,"","",""]
["","",null,"","",""]
["","",null,"","",""]
["","",null,"","",""]
["","",null,"","",""]
["","",null,"","",""]
["","",null,"","",""]
["","",null,"","",""]
["","",null,"","",""]
["","",null,"","",""]
["","",null,"","",""]
["","",null,"","",""]
["","",null,"","",""]
["","",null,"","",""]
["","",null,"","",""]
["","",null,"","",""]
["","",null,"","",""]
["","",null,"","",""]
["","",null,"","",""]
["","",null,"","",""]
["","",null,"","",""]
["","",null,"","",""]
["","",null,"","",""]
["","",null,"","",""]
["","",null,"","",""]
["","",null,"","",""]
["","",null,"","",""]
["","",null,"","",""]
["","",null,"","",""]
["","",null,"","",""]
["","",null,"","",""]
["","",null,"","",""]
["","",null,"","",""]
["","",null,"","",""]
["","",null,"","",""]
["","",null,"","",""]
["","",null,"","",""]
["","",null,"","",""]
["","",null,"","",""]
["","",null,"","",""]
["","",null,"","",""]
["","",null,"","",""]
["","",null,"","",""]
["","",null,"","",""]
["","",null,"","",""]
["","",null,"","",""]
["","",null,"","",""]
["","",null,"","",""]
["","",null,"","",""]
["","",null,"","",""]
["","",null,"","",""]
["","",null,"","",""]
["","",null,"","",""]
["","",null,"","",""]
["","",null,"","",""]
["","",null,"","",""]
["","",null,"","",""]
["","",null,"","",""]
["","",null,"","",""]
["","",null,"","",""]
["","",null,"","",""]
["","",null,"","",""]
["","",null,"","",""]
["","",null,"","",""]
["","",null,"","",""]
["","",null,"","",""]
["","",null,"","",""]
["","",null,"","",""]
["","",null,"","",""]
["","",null,"","",""]
["","",null,"","",""]
["","",null,"","",""]
["","",null,"","",""]
["","",null,"","",""]
["","",null,"","",""]
["","",null,"","",""]
["","",null,"","",""]
["","",null,"","",""]
["","",null,"","",""]
["","",null,"","",""]
["","",null,"","",""]
["","",null,"","",""]
["","",null,"","",""]
["","",null,"","",""]
["","",null,"","",""]
["","",null,"","",""]
["","",null,"","",""]
["","",null,"","",""]
["","",null,"","",""]
["","",null,"","",""]
["","",null,"","",""]
["","",null,"","",""]
["","",null,"","",""]
["","",null,"","",""]
["","",null,"","",""]
["","",null,"","",""]
["","",null,"","",""]
["","",null,"","",""]
["","",null,"","",""]
["","",null,"","",""]
["","",null,"","",""]
["","",null,"","",""]
["","",null,"","",""]
["","",null,"","",""]
["","",null,"","",""]
["","",null,"","",""]
["","",null,"","",""]
["","",null,"","",""]
["","",null,"","",""]
["","",null,"","",""]
["","",null,"","",""]
["","",null,"","",""]
["","",null,"","",""]
["","",null,"","",""]
["","",null,"","",""]
["","",null,"","",""]
["","",null,"","",""]
["","",null,"","",""]
["","",null,"","",""]
["","",null,"","",""]
["","",null,"","",""]
["","",null,"","",""]
["","",null,"","",""]
["","",null,"","",""]
["","",null,"","",""]
["","",null,"","",""]
["","",null,"","",""]
["","",null,"","",""]
["","",null,"","",""]
["","",null,"","",""]
["","",null,"","",""]
["","",null,"","",""]
["","",null,"","",""]
["","",null,"","",""]
["","",null,"","",""]
["","",null,"","",""]
["","",null,"","",""]
["","",null,"","",""]
["","",null,"","",""]
["","",null,"","",""]
["","",null,"","",""]
["","",null,"","",""]
["","",null,"","",""]
["","",null,"","",""]
["","",null,"","",""]
["","",null,"","",""]
["","",null,"","",""]
["","",null,"","",""]
["","",null,"","",""]
["","",null,"","",""]
["","",null,"","",""]
["","",null,"","",""]
["","",null,"","",""]
["","",null,"","",""]
["","",null,"","",""]
["","",null,"","",""]
["","",null,"","",""]
["","",null,"","",""]
["","",null,"","",""]
["","",null,"","",""]
["","",null,"","",""]
["","",null,"","",""]
["","",null,"","",""]
["","",null,"","",""]
["","",null,"","",""]
["","",null,"","",""]
["","",null,"","",""]
["","",null,"","",""]
["","",null,"","",""]
["","",null,"","",""]
["","",null,"","",""]
["","",null,"","",""]
["","",null,"","",""]
["","",null,"","",""]
["","",null,"","",""]
["","",null,"","",""]
["","",null,"","",""]
["","",null,"","",""]
["","",null,"","",""]
["","",null,"","",""]
["","",null,"","",""]
["","",null,"","",""]
["","",null,"","",""]
["","",null,"","",""]
["","",null,"","",""]
["","",null,"","",""]
["","",null,"","",""]
["","",null,"","",""]
["","",null,"","",""]
["","",null,"","",""]
["","",null,"","",""]
["","",null,"","",""]
["","",null,"","",""]
["","",null,"","",""]
["","",null,"","",""]
["","",null,"","",""]
["","",null,"","",""]
["","",null,"","",""]
["","",null,"","",""]
["","",null,"","",""]
["","",null,"","",""]
["","",null,"","",""]
["","",null,"","",""]
["","",null,"","",""]
["","",null,"","",""]
["","",null,"","",""]
["","",null,"","",""]
["","",null,"","",""]
["","",null,"","",""]
["","",null,"","",""]
["","",null,"","",""]
["","",null,"","",""]
["","",null,"","",""]
["","",null,"","",""]
["","",null,"","",""]
["","",null,"","",""]
["","",null,"","",""]
["","",null,"","",""]
["","",null,"","",""]
["","",null,"","",""]
["","",null,"","",""]
["","",null,"","",""]
["","",null,"","",""]
["","",null,"","",""]
["","",null,"","",""]
["","",null,"","",""]
["","",null,"","",""]
["","",null,"","",""]
["","",null,"","",""]
["","",null,"","",""]
["","",null,"","",""]
["","",null,"","",""]
["","",null,"","",""]
["","",null,"","",""]
["","",null,"","",""]
["","",null,"","",""]
["","",null,"","",""]
["","",null,"","",""]
["","",null,"","",""]
["","",null,"","",""]
["","",null,"","",""]
["","",null,"","",""]
["","",null,"","",""]
["","",null,"","",""]
["","",null,"","",""]
["","",null,"","",""]
["","",null,"","",""]
["","",null,"","",""]
["","",null,"","",""]
["","",null,"","",""]
["","",null,"","",""]
["","",null,"","",""]
["","",null,"","",""]
["","",null,"","",""]
["","",null,"","",""]
["","",null,"","",""]
["","",null,"","",""]
["","",null,"","",""]
["","",null,"","",""]
["","",null,"","",""]
["","",null,"","",""]
["","",null,"","",""]
["","",null,"","",""]
["","",null,"","",""]
["","",null,"","",""]
["","",null,"","",""]
["","",null,"","",""]
["","",null,"","",""]
["","",null,"","",""]
["","",null,"","",""]
["","",null,"","",""]
["","",null,"","",""]
["","",null,"","",""]
["","",null,"","",""]
["","",null,"","",""]
["","",null,"","",""]
["","",null,"","",""]
["","",null,"","",""]
["","",null,"","",""]
["","",null,"","",""]
["","",null,"","",""]
["","",null,"","",""]
["","",null,"","",""]
["","",null,"","",""]
["","",null,"","",""]
["","",null,"","",""]
["","",null,"","",""]
["","",null,"","",""]
["","",null,"","",""]
["","",null,"","",""]
["","",null,"","",""]
["","",null,"","",""]
["","",null,"","",""]
["","",null,"","",""]
["","",null,"","",""]
["","",null,"","",""]
["","",null,"","",""]
["","",null,"","",""]
["","",null,"","",""]
["","",null,"","",""]
["","",null,"","",""]
["","",null,"","",""]
["","",null,"","",""]
["","",null,"","",""]
["","",null,"","",""]
["","",null,"","",""]
["","",null,"","",""]
["","",null,"","",""]
["","",null,"","",""]
["","",null,"","",""]
["","",null,"","",""]
["","",null,"","",""]
["","",null,"","",""]
["","",null,"","",""]
["","",null,"","",""]
["","",null,"","",""]
["","",null,"","",""]
["","",null,"","",""]
["","",null,"","",""]
["","",null,"","",""]
["","",null,"","",""]
["","",null,"","",""]
["","",null,"","",""]
["","",null,"","",""]
["","",null,"","",""]
["","",null,"","",""]
["","",null,"","",""]
["","",null,"","",""]
["","",null,"","",""]
["","",null,"","",""]
["","",null,"","",""]
["","",null,"","",""]
["","",null,"","",""]
["","",null,"","",""]
["","",null,"","",""]
["","",null,"","",""]
["","",null,"","",""]
["","",null,"","",""]
["","",null,"","",""]
["","",null,"","",""]
["","",null,"","",""]
["","",null,"","",""]
["","",null,"","",""]
["","",null,"","",""]
["","",null,"","",""]
["","",null,"","",""]
["","",null,"","",""]
["","",null,"","",""]
["","",null,"","",""]
["","",null,"","",""]
["","",null,"","",""]
["","",null,"","",""]
["","",null,"","",""]
["","",null,"","",""]
["","",null,"","",""]
["","",null,"","",""]
["","",null,"","",""]
["","",null,"","",""]
["","",null,"","",""]
["","",null,"","",""]
["","",null,"","",""]
["","",null,"","",""]
["","",null,"","",""]
["","",null,"","",""]
["","",null,"","",""]
["","",null,"","",""]
["","",null,"","",""]
["","",null,"","",""]
["","",null,"","",""]
["","",null,"","",""]
["","",null,"","",""]
["","",null,"","",""]
["","",null,"","",""]
["","",null,"","",""]
["","",null,"","",""]
["","",null,"","",""]
["","",null,"","",""]
["","",null,"","",""]
["","",null,"","",""]
["","",null,"","",""]
["","",null,"","",""]
["","",null,"","",""]
["","",null,"","",""]
["","",null,"","",""]
["","",null,"","",""]
["","",null,"","",""]
["","",null,"","",""]
["","",null,"","",""]
["","",null,"","",""]
["","",null,"","",""]
["","",null,"","",""]
["","",null,"","",""]
["","",null,"","",""]
["","",null,"","",""]
["","",null,"","",""]
["","",null,"","",""]
["","",null,"","",""]
["","",null,"","",""]
["","",null,"","",""]
["","",null,"","",""]
["","",null,"","",""]
["","",null,"","",""]
["","",null,"","",""]
["","",null,"","",""]
["","",null,"","",""]
["","",null,"","",""]
["","",null,"","",""]
["","",null,"","",""]
["","",null,"","",""]
["","",null,"","",""]
["","",null,"","",""]