{"text_format":"1","workbook":"xlsx","n_sheets":1,"sheets":["Principal"],"not_rendered":{"charts":0,"images":1,"macros":1,"external_links":0,"defined_names":1,"comments":0,"pivot_tables":0},"unopened":[],"bounds":{"document_bytes":16777216,"sheet_cells":100000,"rows_first":2000,"rows_last":500,"rows_between":2000,"halvings":0,"cell_chars":16384,"cell_head_chars":4096},"cells_cut":0,"cells_raw":0,"read":"whole","date_system":"1900"}

{"sheet":"Principal","index":0,"n_rows":123,"n_cols":15,"rows_kept":123,"cut":false,"hidden":false,"merged":[]}
[null,null,null,null,null,null,{"$f":"TODAY()","v":"2018-12-08"}]
[null,"الأطفال","الإجمالى","الواصل","المتبقي","جوال ولي الأمر","تاريخ آخر سداد","بداية الإشتراك","نهاية الإشتراك"]
[null,"Main",{"$f":"IF(B3<>\"\",IFERROR(INDIRECT($B3&\"!I2\"),\"\"),\"\")","v":""},{"$f":"IF(B3<>\"\",IFERROR(INDIRECT($B3&\"!C2\"),\"\"),\"\")","v":""},{"$f":"IF(B3=\"\",\"\",IFERROR(C3-D3,\"\"))","v":""},{"$f":"IF(B3<>\"\",IFERROR(INDIRECT($B3&\"!K2\"),\"\"),\"\")","v":""},{"$f":"IF(B3<>\"\",IFERROR(INDIRECT($B3&\"!O2\"),\"\"),\"\")","v":""}]
[1,"محمد",200,200,{"$f":"IF(B4=\"\",\"\",IFERROR(C4-D4,\"\"))","v":0},9,"2018-12-05","2018-12-05","2018-12-10",null,null,null,null,null,{"$f":"(I4-$G$1)","v":2}]
[2,"احمد",200,200,0,7,"2018-12-05","2018-12-05","2018-12-10",null,null,null,null,null,{"$f":"(I5-$G$1)","v":2}]
[3,"محمود",200,200,0,8,"2018-12-05","2018-12-05","2018-12-10",null,null,null,null,null,2]
[4,"مصطفي",200,200,0,9,"2018-12-05","2018-12-05","2018-12-10",null,null,null,null,null,2]
[5,"علي",200,200,0,7,"2018-12-05","2018-12-05","2018-12-10",null,null,null,null,null,2]
[6,"عماد",200,200,0,8,"2018-12-05","2018-12-05","2018-12-10",null,null,null,null,null,2]
[7,"سليم",200,200,0,9,"2018-12-05","2018-12-05","2018-12-10",null,null,null,null,null,2]
[8,"درويش",200,200,{"$f":"IF(B11=\"\",\"\",IFERROR(C11-D11,\"\"))","v":0},7,"2018-12-05","2018-12-05","2018-12-10",null,null,null,null,null,2]
[9,"محمود",200,200,0,8,"2018-12-05","2018-12-05","2018-12-10",null,null,null,null,null,2]
[10,"محمود",200,200,0,9,"2018-12-05","2018-12-05","2018-12-10",null,null,null,null,null,{"$f":"(I13-$G$1)","v":2}]
[11,null,{"$f":"IF(B14<>\"\",IFERROR(INDIRECT(\"'\"&B14&\"'!H2\"),\"\"),\"\")","v":""},{"$f":"IF(B14<>\"\",IFERROR(INDIRECT(\"'\"&B14&\"'!F2\"),\"\"),\"\")","v":""},{"$f":"IF(B14=\"\",\"\",IFERROR(C14-D14,\"\"))","v":""},{"$f":"IF(B14<>\"\",IFERROR(INDIRECT(\"'\"&B14&\"'!K2\"),\"\"),\"\")","v":""},{"$f":"IF(B14<>\"\",IFERROR(INDIRECT(\"'\"&B14&\"'!L2\"),\"\"),\"\")","v":""},{"$f":"IF(B14<>\"\",IFERROR(INDIRECT(\"'\"&B14&\"'!M2\"),\"\"),\"\")","v":""},{"$f":"IF(B14<>\"\",IFERROR(INDIRECT(\"'\"&B14&\"'!N2\"),\"\"),\"\")","v":""}]
[12,null,"","","","","","",""]
[13,null,"","","","","","",""]
[14,null,"","","","","","",""]
[15,null,"","","","","","",""]
[16,null,"","","","","","",""]
[17,null,"","","","","","",""]
[18,null,"","","","","","",""]
[19,null,"","","","","","",""]
[20,null,"","","","","","",""]
[21,null,"","","","","","",""]
[22,null,"","","","","","",""]
[23,null,{"$f":"IF(B26<>\"\",IFERROR(INDIRECT(\"'\"&B26&\"'!H2\"),\"\"),\"\")","v":""},{"$f":"IF(B26<>\"\",IFERROR(INDIRECT(\"'\"&B26&\"'!F2\"),\"\"),\"\")","v":""},{"$f":"IF(B26=\"\",\"\",IFERROR(C26-D26,\"\"))","v":""},{"$f":"IF(B26<>\"\",IFERROR(INDIRECT(\"'\"&B26&\"'!K2\"),\"\"),\"\")","v":""},{"$f":"IF(B26<>\"\",IFERROR(INDIRECT(\"'\"&B26&\"'!L2\"),\"\"),\"\")","v":""},{"$f":"IF(B26<>\"\",IFERROR(INDIRECT(\"'\"&B26&\"'!M2\"),\"\"),\"\")","v":""},{"$f":"IF(B26<>\"\",IFERROR(INDIRECT(\"'\"&B26&\"'!N2\"),\"\"),\"\")","v":""}]
[24,null,"","","","","","",""]
[25,null,"","","","","","",""]
[26,null,"","","","","","",""]
[27,null,"","","","","","",""]
[28,null,"","","","","","",""]
[29,null,"","","","","","",""]
[30,null,"","","","","","",""]
[31,null,"","","","","","",""]
[32,null,"","","","","","",""]
[33,null,"","","","","","",""]
[34,null,"","","","","","",""]
[35,null,"","","","","","",""]
[36,null,"","","","","","",""]
[37,null,"","","","","","",""]
[38,null,"","","","","","",""]
[39,null,"","","","","","",""]
[40,null,"","","","","","",""]
[41,null,"","","","","","",""]
[42,null,"","","","","","",""]
[43,null,"","","","","","",""]
[44,null,"","","","","","",""]
[45,null,"","","","","","",""]
[46,null,"","","","","","",""]
[47,null,"","","","","","",""]
[48,null,"","","","","","",""]
[49,null,"","","","","","",""]
[50,null,"","","","","","",""]
[51,null,"","","","","","",""]
[52,null,"","","","","","",""]
[53,null,"","","","","","",""]
[54,null,"","","","","","",""]
[55,null,"","","","","","",""]
[56,null,"","","","","","",""]
[57,null,"","","","","","",""]
[58,null,"","","","","","",""]
[59,null,"","","","","","",""]
[60,null,"","","","","","",""]
[61,null,"","","","","","",""]
[62,null,"","","","","","",""]
[63,null,"","","","","","",""]
[64,null,"","","","","","",""]
[65,null,"","","","","","",""]
[66,null,"","","","","","",""]
[67,null,"","","","","","",""]
[68,null,"","","","","","",""]
[69,null,"","","","","","",""]
[70,null,"","","","","","",""]
[71,null,"","","","","","",""]
[72,null,"","","","","","",""]
[73,null,"","","","","","",""]
[74,null,"","","","","","",""]
[75,null,"","","","","","",""]
[76,null,"","","","","","",""]
[77,null,"","","","","","",""]
[78,null,"","","","","","",""]
[79,null,"","","","","","",""]
[80,null,"","","","","","",""]
[81,null,"","","","","","",""]
[82,null,"","","","","","",""]
[83,null,"","","","","","",""]
[84,null,"","","","","","",""]
[85,null,"","","","","","",""]
[86,null,"","","","","","",""]
[87,null,{"$f":"IF(B90<>\"\",IFERROR(INDIRECT(\"'\"&B90&\"'!H2\"),\"\"),\"\")","v":""},{"$f":"IF(B90<>\"\",IFERROR(INDIRECT(\"'\"&B90&\"'!F2\"),\"\"),\"\")","v":""},{"$f":"IF(B90=\"\",\"\",IFERROR(C90-D90,\"\"))","v":""},{"$f":"IF(B90<>\"\",IFERROR(INDIRECT(\"'\"&B90&\"'!K2\"),\"\"),\"\")","v":""},{"$f":"IF(B90<>\"\",IFERROR(INDIRECT(\"'\"&B90&\"'!L2\"),\"\"),\"\")","v":""},{"$f":"IF(B90<>\"\",IFERROR(INDIRECT(\"'\"&B90&\"'!M2\"),\"\"),\"\")","v":""},{"$f":"IF(B90<>\"\",IFERROR(INDIRECT(\"'\"&B90&\"'!N2\"),\"\"),\"\")","v":""}]
[88,null,"","","","","","",""]
[89,null,"","","","","","",""]
[90,null,"","","","","","",""]
[91,null,"","","","","","",""]
[92,null,"","","","","","",""]
[93,null,"","","","","","",""]
[94,null,"","","","","","",""]
[95,null,"","","","","","",""]
[96,null,"","","","","","",""]
[97,null,"","","","","","",""]
[98,null,"","","","","","",""]
[99,null,"","","","","","",""]
[100,null,"","","","","","",""]
[101,null,"","","","","","",""]
[102,null,"","","","","","",""]
[103,null,"","","","","","",""]
[104,null,"","","","","","",""]
[105,null,"","","","","","",""]
[106,null,"","","","","","",""]
[107,null,"","","","","","",""]
[108,null,"","","","","","",""]
[109,null,"","","","","","",""]
[110,null,"","","","","","",""]
[111,null,"","","","","","",""]
[112,null,"","","","","","",""]
[113,null,"","","","","","",""]
[114,null,"","","","","","",""]
[115,null,"","","","","","",""]
[116,null,"","","","","","",""]
[117,null,"","","","","","",""]
[118,null,"","","","","","",""]
[119,null,"","","","","","",""]
[120,null,"","","","","","",""]