{"text_format":"1","workbook":"xlsx","n_sheets":7,"sheets":["Sheets","السيارات ","January","February","March","April","May"],"not_rendered":{"charts":0,"images":0,"macros":1,"external_links":0,"defined_names":8,"comments":0,"pivot_tables":0},"unopened":[],"bounds":{"document_bytes":16777216,"sheet_cells":100000,"rows_first":2000,"rows_last":500,"rows_between":2000,"halvings":0,"cell_chars":16384,"cell_head_chars":4096},"cells_cut":0,"cells_raw":0,"read":"whole","date_system":"1900"}

{"sheet":"Sheets","index":0,"n_rows":29,"n_cols":22,"rows_kept":29,"cut":false,"hidden":false,"merged":[]}
["اختار الشهر الميلادي","January",null,null,null,null,null,null,null,"تاريخ اليوم",{"$f":"TODAY()","v":"2018-12-09"},null,"رقم السيارة ","عدد مرات التعبئة","العداد","رقم الكرت ","موقع سطر التعبئة بالجدول","تاريخ التعبئة",null,null,null,{"$f":"IFERROR(VLOOKUP($C$3,January!$C$2:$H$18,MATCH(January!$H$2:$H$16,January!$C$1:$H$1,0),0),\"0\")","v":"0"}]
["التاريخ ","نوع الوقود","رقم السيارة ","سعر اللتر ","المبلغ المدفوع","رقم الكرت ","قراءة العداد السابق","قراءة العداد الجديد","المسافـــــــة\nالمقطوعــــة","كمية البنزين\nالممونه للسياره\n( المره الثانيه )","معدل إستهلاك\nالوقود",null,{"$f":"$C$3","v":2218},{"$f":"IFERROR(COUNTIF(January!$C$2:C16,$M$2),\"\")","v":5},{"$f":"IFERROR(INDEX(January!$H$2:$H$99999,SMALL(IF($M$2=January!$C$2:$C$99999,ROW(January!$C$2:$C$99999)-1),ROW(January!L1))),\"\")","v":2152},{"$f":"IFERROR(INDEX(January!$F$2:$F$99999,SMALL(IF($M$2=January!$C$2:$C$99999,ROW(January!$C$2:$C$99999)-1),ROW(January!K1))),\"\")","v":102},{"$f":"IFERROR(SMALL(IF((Sheets!$C$3=January!$C$2:$C$999999),ROW(January!$C$2:$C$999999)-1),ROW(January!A1)),\"\")","v":4},{"$f":"IFERROR(INDEX(January!$A$2:$A$999999,SMALL(IF($M$2=January!$C$2:$C$999999,ROW(January!$C$2:$C$999999)-1),ROW(January!M1))),\"\")","v":"1905-03-14"}]
[null,"ديزل ",2218,{"$f":"IF(B3=\"بنزين\",'السيارات '!D20,'السيارات '!D21)","v":0.38},25,null,{"$f":"INDEX(O:O,MAX(ROW(O1:O14)*(O1:O14<>\"\")))","v":111},null,{"$f":"IFERROR(H3-G3,\"\")","v":-111},{"$f":"IFERROR(E3/D3,\"\")","v":65.78947368421052},{"$f":"IFERROR(I3/J3,\"\")","v":-1.6872000000000003},null,null,null,{"$f":"IFERROR(INDEX(January!$H$2:$H$99999,SMALL(IF($M$2=January!$C$2:$C$99999,ROW(January!$C$2:$C$99999)-1),ROW(January!L2))),\"\")","v":2152},{"$f":"IFERROR(INDEX(January!$F$2:$F$99999,SMALL(IF($M$2=January!$C$2:$C$99999,ROW(January!$C$2:$C$99999)-1),ROW(January!K2))),\"\")","v":102},{"$f":"IFERROR(SMALL(IF((Sheets!$C$3=January!$C$2:$C$999999),ROW(January!$C$2:$C$999999)-1),ROW(January!A2)),\"\")","v":7},{"$f":"IFERROR(INDEX(January!$A$2:$A$999999,SMALL(IF($M$2=January!$C$2:$C$999999,ROW(January!$C$2:$C$999999)-1),ROW(January!M2))),\"\")","v":"1955-04-23"}]
[null,null,null,null,null,null,null,null,null,null,null,null,null,null,{"$f":"IFERROR(INDEX(January!$H$2:$H$99999,SMALL(IF($M$2=January!$C$2:$C$99999,ROW(January!$C$2:$C$99999)-1),ROW(January!L3))),\"\")","v":1689},{"$f":"IFERROR(INDEX(January!$F$2:$F$99999,SMALL(IF($M$2=January!$C$2:$C$99999,ROW(January!$C$2:$C$99999)-1),ROW(January!K3))),\"\")","v":1246},{"$f":"IFERROR(SMALL(IF((Sheets!$C$3=January!$C$2:$C$999999),ROW(January!$C$2:$C$999999)-1),ROW(January!A3)),\"\")","v":13},{"$f":"IFERROR(INDEX(January!$A$2:$A$999999,SMALL(IF($M$2=January!$C$2:$C$999999,ROW(January!$C$2:$C$999999)-1),ROW(January!M3))),\"\")","v":"1914-07-29"}]
[null,null,null,null,null,null,null,null,null,null,null,null,null,null,{"$f":"IFERROR(INDEX(January!$H$2:$H$99999,SMALL(IF($M$2=January!$C$2:$C$99999,ROW(January!$C$2:$C$99999)-1),ROW(January!L4))),\"\")","v":4567},{"$f":"IFERROR(INDEX(January!$F$2:$F$99999,SMALL(IF($M$2=January!$C$2:$C$99999,ROW(January!$C$2:$C$99999)-1),ROW(January!K4))),\"\")","v":99},{"$f":"IFERROR(SMALL(IF((Sheets!$C$3=January!$C$2:$C$999999),ROW(January!$C$2:$C$999999)-1),ROW(January!A4)),\"\")","v":14},{"$f":"IFERROR(INDEX(January!$A$2:$A$999999,SMALL(IF($M$2=January!$C$2:$C$999999,ROW(January!$C$2:$C$999999)-1),ROW(January!M4))),\"\")","v":"1905-07-10"}]
[null,null,null,null,null,null,null,null,null,null,null,null,null,null,{"$f":"IFERROR(INDEX(January!$H$2:$H$99999,SMALL(IF($M$2=January!$C$2:$C$99999,ROW(January!$C$2:$C$99999)-1),ROW(January!L5))),\"\")","v":1700},{"$f":"IFERROR(INDEX(January!$F$2:$F$99999,SMALL(IF($M$2=January!$C$2:$C$99999,ROW(January!$C$2:$C$99999)-1),ROW(January!K5))),\"\")","v":12},{"$f":"IFERROR(SMALL(IF((Sheets!$C$3=January!$C$2:$C$999999),ROW(January!$C$2:$C$999999)-1),ROW(January!A5)),\"\")","v":15},{"$f":"IFERROR(INDEX(January!$A$2:$A$999999,SMALL(IF($M$2=January!$C$2:$C$999999,ROW(January!$C$2:$C$999999)-1),ROW(January!M5))),\"\")","v":"2018-12-05"}]
[null,null,null,null,null,null,null,null,null,null,null,null,null,null,{"$f":"IFERROR(INDEX(January!$H$2:$H$99999,SMALL(IF($M$2=January!$C$2:$C$99999,ROW(January!$C$2:$C$99999)-1),ROW(January!L6))),\"\")","v":1254},{"$f":"IFERROR(INDEX(January!$F$2:$F$99999,SMALL(IF($M$2=January!$C$2:$C$99999,ROW(January!$C$2:$C$99999)-1),ROW(January!K6))),\"\")","v":109},{"$f":"IFERROR(SMALL(IF((Sheets!$C$3=January!$C$2:$C$999999),ROW(January!$C$2:$C$999999)-1),ROW(January!A6)),\"\")","v":16},{"$f":"IFERROR(INDEX(January!$A$2:$A$999999,SMALL(IF($M$2=January!$C$2:$C$999999,ROW(January!$C$2:$C$999999)-1),ROW(January!M6))),\"\")","v":"1905-07-10"}]
[null,null,null,null,null,null,null,null,null,null,null,null,null,null,{"$f":"IFERROR(INDEX(January!$H$2:$H$99999,SMALL(IF($M$2=January!$C$2:$C$99999,ROW(January!$C$2:$C$99999)-1),ROW(January!L7))),\"\")","v":10000},{"$f":"IFERROR(INDEX(January!$F$2:$F$99999,SMALL(IF($M$2=January!$C$2:$C$99999,ROW(January!$C$2:$C$99999)-1),ROW(January!K7))),\"\")","v":106},{"$f":"IFERROR(SMALL(IF((Sheets!$C$3=January!$C$2:$C$999999),ROW(January!$C$2:$C$999999)-1),ROW(January!A7)),\"\")","v":17},{"$f":"IFERROR(INDEX(January!$A$2:$A$999999,SMALL(IF($M$2=January!$C$2:$C$999999,ROW(January!$C$2:$C$999999)-1),ROW(January!M7))),\"\")","v":"1905-07-10"}]
[null,null,null,null,null,null,null,null,null,null,null,null,null,null,{"$f":"IFERROR(INDEX(January!$H$2:$H$99999,SMALL(IF($M$2=January!$C$2:$C$99999,ROW(January!$C$2:$C$99999)-1),ROW(January!L8))),\"\")","v":111},{"$f":"IFERROR(INDEX(January!$F$2:$F$99999,SMALL(IF($M$2=January!$C$2:$C$99999,ROW(January!$C$2:$C$99999)-1),ROW(January!K8))),\"\")","v":102},{"$f":"IFERROR(SMALL(IF((Sheets!$C$3=January!$C$2:$C$999999),ROW(January!$C$2:$C$999999)-1),ROW(January!A8)),\"\")","v":18},{"$f":"IFERROR(INDEX(January!$A$2:$A$999999,SMALL(IF($M$2=January!$C$2:$C$999999,ROW(January!$C$2:$C$999999)-1),ROW(January!M8))),\"\")","v":"1905-07-10"}]
[null,null,null,null,null,null,null,null,null,null,null,null,null,null,{"$f":"IFERROR(INDEX(January!$H$2:$H$99999,SMALL(IF($M$2=January!$C$2:$C$99999,ROW(January!$C$2:$C$99999)-1),ROW(January!L9))),\"\")","v":""},{"$f":"IFERROR(INDEX(January!$F$2:$F$99999,SMALL(IF($M$2=January!$C$2:$C$99999,ROW(January!$C$2:$C$99999)-1),ROW(January!K9))),\"\")","v":""},{"$f":"IFERROR(SMALL(IF((Sheets!$C$3=January!$C$2:$C$999999),ROW(January!$C$2:$C$999999)-1),ROW(January!A9)),\"\")","v":""},{"$f":"IFERROR(INDEX(January!$A$2:$A$999999,SMALL(IF($M$2=January!$C$2:$C$999999,ROW(January!$C$2:$C$999999)-1),ROW(January!M9))),\"\")","v":""}]
[null,null,null,null,null,null,null,null,null,null,null,null,null,null,{"$f":"IFERROR(INDEX(January!$H$2:$H$99999,SMALL(IF($M$2=January!$C$2:$C$99999,ROW(January!$C$2:$C$99999)-1),ROW(January!L10))),\"\")","v":""},{"$f":"IFERROR(INDEX(January!$F$2:$F$99999,SMALL(IF($M$2=January!$C$2:$C$99999,ROW(January!$C$2:$C$99999)-1),ROW(January!K10))),\"\")","v":""},{"$f":"IFERROR(SMALL(IF((Sheets!$C$3=January!$C$2:$C$999999),ROW(January!$C$2:$C$999999)-1),ROW(January!A10)),\"\")","v":""},{"$f":"IFERROR(INDEX(January!$A$2:$A$999999,SMALL(IF($M$2=January!$C$2:$C$999999,ROW(January!$C$2:$C$999999)-1),ROW(January!M10))),\"\")","v":""}]
[null,null,null,null,null,null,null,null,null,null,null,null,null,null,{"$f":"IFERROR(INDEX(January!$H$2:$H$99999,SMALL(IF($M$2=January!$C$2:$C$99999,ROW(January!$C$2:$C$99999)-1),ROW(January!L11))),\"\")","v":""},{"$f":"IFERROR(INDEX(January!$F$2:$F$99999,SMALL(IF($M$2=January!$C$2:$C$99999,ROW(January!$C$2:$C$99999)-1),ROW(January!K11))),\"\")","v":""},{"$f":"IFERROR(SMALL(IF((Sheets!$C$3=January!$C$2:$C$999999),ROW(January!$C$2:$C$999999)-1),ROW(January!A11)),\"\")","v":""},{"$f":"IFERROR(INDEX(January!$A$2:$A$999999,SMALL(IF($M$2=January!$C$2:$C$999999,ROW(January!$C$2:$C$999999)-1),ROW(January!M11))),\"\")","v":""}]
[null,null,null,null,null,null,null,null,null,null,null,null,null,null,{"$f":"IFERROR(INDEX(January!$H$2:$H$99999,SMALL(IF($M$2=January!$C$2:$C$99999,ROW(January!$C$2:$C$99999)-1),ROW(January!L12))),\"\")","v":""},{"$f":"IFERROR(INDEX(January!$F$2:$F$99999,SMALL(IF($M$2=January!$C$2:$C$99999,ROW(January!$C$2:$C$99999)-1),ROW(January!K12))),\"\")","v":""},{"$f":"IFERROR(SMALL(IF((Sheets!$C$3=January!$C$2:$C$999999),ROW(January!$C$2:$C$999999)-1),ROW(January!A12)),\"\")","v":""},{"$f":"IFERROR(INDEX(January!$A$2:$A$999999,SMALL(IF($M$2=January!$C$2:$C$999999,ROW(January!$C$2:$C$999999)-1),ROW(January!M12))),\"\")","v":""}]
[null,null,null,null,null,null,null,null,null,null,null,null,null,null,{"$f":"IFERROR(INDEX(January!$H$2:$H$99999,SMALL(IF($M$2=January!$C$2:$C$99999,ROW(January!$C$2:$C$99999)-1),ROW(January!L13))),\"\")","v":""},{"$f":"IFERROR(INDEX(January!$F$2:$F$99999,SMALL(IF($M$2=January!$C$2:$C$99999,ROW(January!$C$2:$C$99999)-1),ROW(January!K13))),\"\")","v":""},{"$f":"IFERROR(SMALL(IF((Sheets!$C$3=January!$C$2:$C$999999),ROW(January!$C$2:$C$999999)-1),ROW(January!A13)),\"\")","v":""},{"$f":"IFERROR(INDEX(January!$A$2:$A$999999,SMALL(IF($M$2=January!$C$2:$C$999999,ROW(January!$C$2:$C$999999)-1),ROW(January!M13))),\"\")","v":""}]
[null,null,null,null,null,null,null,null,null,null,null,null,null,null,{"$f":"IFERROR(INDEX(January!$H$2:$H$99999,SMALL(IF($M$2=January!$C$2:$C$99999,ROW(January!$C$2:$C$99999)-1),ROW(January!L14))),\"\")","v":""},{"$f":"IFERROR(INDEX(January!$F$2:$F$99999,SMALL(IF($M$2=January!$C$2:$C$99999,ROW(January!$C$2:$C$99999)-1),ROW(January!K14))),\"\")","v":""},{"$f":"IFERROR(SMALL(IF((Sheets!$C$3=January!$C$2:$C$999999),ROW(January!$C$2:$C$999999)-1),ROW(January!A14)),\"\")","v":""},{"$f":"IFERROR(INDEX(January!$A$2:$A$999999,SMALL(IF($M$2=January!$C$2:$C$999999,ROW(January!$C$2:$C$999999)-1),ROW(January!M14))),\"\")","v":""}]
[null,null,null,null,null,null,null,null,null,null,null,null,null,null,{"$f":"IFERROR(INDEX(January!$H$2:$H$99999,SMALL(IF($M$2=January!$C$2:$C$99999,ROW(January!$C$2:$C$99999)-1),ROW(January!L15))),\"\")","v":""},{"$f":"IFERROR(INDEX(January!$F$2:$F$99999,SMALL(IF($M$2=January!$C$2:$C$99999,ROW(January!$C$2:$C$99999)-1),ROW(January!K15))),\"\")","v":""},{"$f":"IFERROR(SMALL(IF((Sheets!$C$3=January!$C$2:$C$999999),ROW(January!$C$2:$C$999999)-1),ROW(January!A15)),\"\")","v":""},{"$f":"IFERROR(INDEX(January!$A$2:$A$999999,SMALL(IF($M$2=January!$C$2:$C$999999,ROW(January!$C$2:$C$999999)-1),ROW(January!M15))),\"\")","v":""}]
[null,null,null,null,null,null,null,null,null,null,null,null,null,null,{"$f":"IFERROR(INDEX(January!$H$2:$H$99999,SMALL(IF($M$2=January!$C$2:$C$99999,ROW(January!$C$2:$C$99999)-1),ROW(January!L16))),\"\")","v":""},{"$f":"IFERROR(INDEX(January!$F$2:$F$99999,SMALL(IF($M$2=January!$C$2:$C$99999,ROW(January!$C$2:$C$99999)-1),ROW(January!K16))),\"\")","v":""},{"$f":"IFERROR(SMALL(IF((Sheets!$C$3=January!$C$2:$C$999999),ROW(January!$C$2:$C$999999)-1),ROW(January!A16)),\"\")","v":""},{"$f":"IFERROR(INDEX(January!$A$2:$A$999999,SMALL(IF($M$2=January!$C$2:$C$999999,ROW(January!$C$2:$C$999999)-1),ROW(January!M16))),\"\")","v":""}]
[null,null,null,null,null,null,null,null,null,null,null,null,null,null,{"$f":"IFERROR(INDEX(January!$H$2:$H$99999,SMALL(IF($M$2=January!$C$2:$C$99999,ROW(January!$C$2:$C$99999)-1),ROW(January!L17))),\"\")","v":""},{"$f":"IFERROR(INDEX(January!$F$2:$F$99999,SMALL(IF($M$2=January!$C$2:$C$99999,ROW(January!$C$2:$C$99999)-1),ROW(January!K17))),\"\")","v":""},{"$f":"IFERROR(SMALL(IF((Sheets!$C$3=January!$C$2:$C$999999),ROW(January!$C$2:$C$999999)-1),ROW(January!A17)),\"\")","v":""},{"$f":"IFERROR(INDEX(January!$A$2:$A$999999,SMALL(IF($M$2=January!$C$2:$C$999999,ROW(January!$C$2:$C$999999)-1),ROW(January!M17))),\"\")","v":""}]
[null,null,null,null,null,null,null,null,null,null,null,null,null,null,{"$f":"IFERROR(INDEX(January!$H$2:$H$99999,SMALL(IF($M$2=January!$C$2:$C$99999,ROW(January!$C$2:$C$99999)-1),ROW(January!L18))),\"\")","v":""},{"$f":"IFERROR(INDEX(January!$F$2:$F$99999,SMALL(IF($M$2=January!$C$2:$C$99999,ROW(January!$C$2:$C$99999)-1),ROW(January!K18))),\"\")","v":""},{"$f":"IFERROR(SMALL(IF((Sheets!$C$3=January!$C$2:$C$999999),ROW(January!$C$2:$C$999999)-1),ROW(January!A18)),\"\")","v":""},{"$f":"IFERROR(INDEX(January!$A$2:$A$999999,SMALL(IF($M$2=January!$C$2:$C$999999,ROW(January!$C$2:$C$999999)-1),ROW(January!M18))),\"\")","v":""}]
[null,null,null,null,null,null,null,null,null,null,null,null,null,null,{"$f":"IFERROR(INDEX(January!$H$2:$H$99999,SMALL(IF($M$2=January!$C$2:$C$99999,ROW(January!$C$2:$C$99999)-1),ROW(January!L19))),\"\")","v":""},{"$f":"IFERROR(INDEX(January!$F$2:$F$99999,SMALL(IF($M$2=January!$C$2:$C$99999,ROW(January!$C$2:$C$99999)-1),ROW(January!K19))),\"\")","v":""},{"$f":"IFERROR(SMALL(IF((Sheets!$C$3=January!$C$2:$C$999999),ROW(January!$C$2:$C$999999)-1),ROW(January!A19)),\"\")","v":""},{"$f":"IFERROR(INDEX(January!$A$2:$A$999999,SMALL(IF($M$2=January!$C$2:$C$999999,ROW(January!$C$2:$C$999999)-1),ROW(January!M19))),\"\")","v":""}]
[null,null,null,null,null,null,null,null,null,null,null,null,null,null,{"$f":"IFERROR(INDEX(January!$H$2:$H$99999,SMALL(IF($M$2=January!$C$2:$C$99999,ROW(January!$C$2:$C$99999)-1),ROW(January!L20))),\"\")","v":""},{"$f":"IFERROR(INDEX(January!$F$2:$F$99999,SMALL(IF($M$2=January!$C$2:$C$99999,ROW(January!$C$2:$C$99999)-1),ROW(January!K20))),\"\")","v":""},{"$f":"IFERROR(SMALL(IF((Sheets!$C$3=January!$C$2:$C$999999),ROW(January!$C$2:$C$999999)-1),ROW(January!A20)),\"\")","v":""}]
[null,null,null,null,null,null,null,null,null,null,null,null,null,null,{"$f":"IFERROR(INDEX(January!$H$2:$H$99999,SMALL(IF($M$2=January!$C$2:$C$99999,ROW(January!$C$2:$C$99999)-1),ROW(January!L21))),\"\")","v":""},{"$f":"IFERROR(INDEX(January!$F$2:$F$99999,SMALL(IF($M$2=January!$C$2:$C$99999,ROW(January!$C$2:$C$99999)-1),ROW(January!K21))),\"\")","v":""},{"$f":"IFERROR(SMALL(IF((Sheets!$C$3=January!$C$2:$C$999999),ROW(January!$C$2:$C$999999)-1),ROW(January!A21)),\"\")","v":""}]
[null,null,null,null,null,null,null,null,null,null,null,null,null,null,{"$f":"IFERROR(INDEX(January!$H$2:$H$99999,SMALL(IF($M$2=January!$C$2:$C$99999,ROW(January!$C$2:$C$99999)-1),ROW(January!L22))),\"\")","v":""},{"$f":"IFERROR(INDEX(January!$F$2:$F$99999,SMALL(IF($M$2=January!$C$2:$C$99999,ROW(January!$C$2:$C$99999)-1),ROW(January!K22))),\"\")","v":""},{"$f":"IFERROR(SMALL(IF((Sheets!$C$3=January!$C$2:$C$999999),ROW(January!$C$2:$C$999999)-1),ROW(January!A22)),\"\")","v":""}]
[null,null,null,null,null,null,null,null,null,null,null,null,null,null,{"$f":"IFERROR(INDEX(January!$H$2:$H$99999,SMALL(IF($M$2=January!$C$2:$C$99999,ROW(January!$C$2:$C$99999)-1),ROW(January!L23))),\"\")","v":""},{"$f":"IFERROR(INDEX(January!$F$2:$F$99999,SMALL(IF($M$2=January!$C$2:$C$99999,ROW(January!$C$2:$C$99999)-1),ROW(January!K23))),\"\")","v":""},{"$f":"IFERROR(SMALL(IF((Sheets!$C$3=January!$C$2:$C$999999),ROW(January!$C$2:$C$999999)-1),ROW(January!A23)),\"\")","v":""}]
[null,null,null,null,null,null,null,null,null,null,null,null,null,null,{"$f":"IFERROR(INDEX(January!$H$2:$H$99999,SMALL(IF($M$2=January!$C$2:$C$99999,ROW(January!$C$2:$C$99999)-1),ROW(January!L24))),\"\")","v":""},{"$f":"IFERROR(INDEX(January!$F$2:$F$99999,SMALL(IF($M$2=January!$C$2:$C$99999,ROW(January!$C$2:$C$99999)-1),ROW(January!K24))),\"\")","v":""},{"$f":"IFERROR(SMALL(IF((Sheets!$C$3=January!$C$2:$C$999999),ROW(January!$C$2:$C$999999)-1),ROW(January!A24)),\"\")","v":""}]
[null,null,null,null,null,null,null,null,null,null,null,null,null,null,{"$f":"IFERROR(INDEX(January!$H$2:$H$99999,SMALL(IF($M$2=January!$C$2:$C$99999,ROW(January!$C$2:$C$99999)-1),ROW(January!L25))),\"\")","v":""},{"$f":"IFERROR(INDEX(January!$F$2:$F$99999,SMALL(IF($M$2=January!$C$2:$C$99999,ROW(January!$C$2:$C$99999)-1),ROW(January!K25))),\"\")","v":""},{"$f":"IFERROR(SMALL(IF((Sheets!$C$3=January!$C$2:$C$999999),ROW(January!$C$2:$C$999999)-1),ROW(January!A25)),\"\")","v":""}]
[null,null,null,null,null,null,null,null,null,null,null,null,null,null,{"$f":"IFERROR(INDEX(January!$H$2:$H$99999,SMALL(IF($M$2=January!$C$2:$C$99999,ROW(January!$C$2:$C$99999)-1),ROW(January!L26))),\"\")","v":""},{"$f":"IFERROR(INDEX(January!$F$2:$F$99999,SMALL(IF($M$2=January!$C$2:$C$99999,ROW(January!$C$2:$C$99999)-1),ROW(January!K26))),\"\")","v":""},{"$f":"IFERROR(SMALL(IF((Sheets!$C$3=January!$C$2:$C$999999),ROW(January!$C$2:$C$999999)-1),ROW(January!A26)),\"\")","v":""}]
[null,null,null,null,null,null,null,null,null,null,null,null,null,null,{"$f":"IFERROR(INDEX(January!$H$2:$H$99999,SMALL(IF($M$2=January!$C$2:$C$99999,ROW(January!$C$2:$C$99999)-1),ROW(January!L27))),\"\")","v":""},{"$f":"IFERROR(INDEX(January!$F$2:$F$99999,SMALL(IF($M$2=January!$C$2:$C$99999,ROW(January!$C$2:$C$99999)-1),ROW(January!K27))),\"\")","v":""},{"$f":"IFERROR(SMALL(IF((Sheets!$C$3=January!$C$2:$C$999999),ROW(January!$C$2:$C$999999)-1),ROW(January!A27)),\"\")","v":""}]
[null,null,null,null,null,null,null,null,null,null,null,null,null,null,{"$f":"IFERROR(INDEX(January!$H$2:$H$99999,SMALL(IF($M$2=January!$C$2:$C$99999,ROW(January!$C$2:$C$99999)-1),ROW(January!L28))),\"\")","v":""},{"$f":"IFERROR(INDEX(January!$F$2:$F$99999,SMALL(IF($M$2=January!$C$2:$C$99999,ROW(January!$C$2:$C$99999)-1),ROW(January!K28))),\"\")","v":""},{"$f":"IFERROR(SMALL(IF((Sheets!$C$3=January!$C$2:$C$999999),ROW(January!$C$2:$C$999999)-1),ROW(January!A28)),\"\")","v":""}]

{"sheet":"السيارات ","index":1,"n_rows":27,"n_cols":16,"rows_kept":27,"cut":false,"hidden":true,"merged":[[3,1,4,1],[9,2,9,4],[10,2,10,4],[11,2,11,4],[12,2,12,4],[14,2,14,4],[15,2,15,4],[13,2,13,4],[3,2,4,4],[3,5,4,5],[5,2,5,4],[6,2,6,4],[7,2,7,4],[8,2,8,4]]}
[]
[]
[]
[null,"رقم ","نوع السيارة ",null,null,"رقم السيارة",null,"م","الشهر "]
[null,null,null,null,null,null,null,1,"January"]
[null,1,"هينو ",null,null,2218,null,2,"February"]
[null,2,"هينو ",null,null,2219,null,3,"March"]
[null,3,"هينو ",null,null,2217,null,4,"April"]
[null,4,"هينو ",null,null,2231,null,5,"May",null,"نوع الوقود","ديزل "]
[null,5,"اسيزو ",null,null,8280,null,6,"June",null,"السيارة",2217]
[null,6,"اسيزو ",null,null,8828,null,7,"July",null,"السعر"]
[null,7,"اسيزو ",null,null,8779,null,8,"August"]
[null,8,"اسيزو ",null,null,1491,null,9,"September"]
[null,9,"مستوبيشي",null,null,5764,null,10,"October"]
[null,10,"رافعة ",null,null,"رافعة كبيرة",null,11,"November"]
[null,11,"رافعة ",null,null,"رافعة صغيرة",null,12,"December"]
[]
[null,null,null,null,null,null,null,null,null,null,null,"ديزل","بنزين","السعر ",null,"رقم السيارة "]
[null,"الرقم ","نوع الوقود ","السعر / لتر",null,null,null,null,null,null,null,5764,"رافعة كبيرة",2.04]
[null,2,"بنزين",2.04,null,null,null,null,null,null,null,2218,"رافعة صغيرة",0.38]
[null,3,"ديزل ",0.38,null,null,null,null,null,null,null,2219]
[null,null,null,null,null,null,null,null,null,null,null,2217]
[null,null,null,null,null,null,null,null,null,null,null,2231]
[null,null,null,null,null,null,null,null,null,null,null,8280]
[null,null,null,null,null,null,null,null,null,null,null,8828]
[null,null,null,null,null,null,null,null,null,null,null,8779]
[null,null,null,null,null,null,null,null,null,null,null,1491]

{"sheet":"January","index":2,"n_rows":19,"n_cols":11,"rows_kept":19,"cut":false,"hidden":false,"merged":[]}
["التاريخ ","نوع الوقود","رقم السيارة ","سعر اللتر ","المبلغ المدفوع","رقم الكرت ","قراءة العداد الجديد","قراءة العداد السابق","المسافـــــــة\nالمقطوعــــة","كمية البنزين\nالممونه للسياره\n( المره الثانيه )","معدل إستهلاك\nالوقود"]
["1955-04-23","ديزل ",8280,0.38,25,102,1210,2152,942,65.78947368421052,14.3184]
["1905-07-12","ديزل ",8280,0.38,25,102,102,10255,10153,65.78947368421052,154.32560000000001]
["1905-07-12","ديزل ",8779,0.38,25,105,142,345,8,65.78947368421052,0.12160000000000001]
["1905-03-14","ديزل ",2218,0.38,25,102,1210,2152,942,65.78947368421052,14.3184]
["1905-07-12","ديزل ",8280,0.38,25,102,102,10255,10153,65.78947368421052,154.32560000000001]
["1905-07-12","ديزل ",8779,0.38,25,105,142,12345,8,65.78947368421052,0.12160000000000001]
["1955-04-23","ديزل ",2218,0.38,25,102,1210,2152,942,65.78947368421052,14.3184]
["1905-07-12","ديزل ",8280,0.38,25,102,102,10255,10153,65.78947368421052,154.32560000000001]
["1905-07-12","ديزل ",8779,0.38,25,105,142,123,8,65.78947368421052,0.12160000000000001]
["1955-04-23","ديزل ",8280,0.38,25,102,1210,2152,942,65.78947368421052,14.3184]
["1905-07-12","ديزل ",8280,0.38,25,102,102,10255,10153,65.78947368421052,154.32560000000001]
["1905-07-12","ديزل ",8779,0.38,25,105,142,90,8,65.78947368421052,0.12160000000000001]
["1914-07-29","ديزل ",2218,0.38,25,1246,1530,1689,159,65.78947368421052,2.4168000000000003]
["1905-07-10","ديزل ",2218,0.38,25,99,1689,4567,2878,65.78947368421052,43.745600000000003]
["2018-12-05","ديزل ",2218,0.38,25,12,1689,1700,11,65.78947368421052,0.16720000000000002]
["1905-07-10","ديزل ",2218,0.38,25,109,"0",1254,1254,65.78947368421052,19.0608]
["1905-07-10","ديزل ",2218,0.38,25,106,1254,10000,8746,65.78947368421052,132.9392]
["1905-07-10","ديزل ",2218,0.38,25,102,10000,111,-9889,65.78947368421052,-150.31280000000001]

{"sheet":"February","index":3,"n_rows":6,"n_cols":11,"rows_kept":6,"cut":false,"hidden":false,"merged":[]}
["التاريخ ","نوع الوقود","رقم السيارة ","سعر اللتر ","المبلغ المدفوع","رقم الكرت ","قراءة العداد عند\nتموين السيارة\nالمره الأولى","قراءة العداد عند\nتموين السيارة\nالمره الثانيه","المسافـــــــة\nالمقطوعــــة","كمية البنزين\nالممونه للسياره\n( المره الثانيه )","معدل إستهلاك\nالوقود"]
["1955-04-23","ديزل ",8280,0.38,25,102,1210,2152,942,65.78947368421052,14.3184]
["1905-07-12","ديزل ",8280,0.38,25,102,102,10255,10153,65.78947368421052,154.32560000000001]
["1905-07-12","ديزل ",8779,0.38,25,105,142,150,8,65.78947368421052,0.12160000000000001]
["1900-07-20","ديزل ",2218,0.38,25,15,1521,1530,9,65.78947368421052,0.1368]
["1955-04-23","ديزل ",8280,0.38,25,102,1210,2152,942,65.78947368421052,14.3184]

{"sheet":"March","index":4,"n_rows":6,"n_cols":11,"rows_kept":6,"cut":false,"hidden":false,"merged":[]}
["التاريخ ","نوع الوقود","رقم السيارة ","سعر اللتر ","المبلغ المدفوع","رقم الكرت ","قراءة العداد عند\nتموين السيارة\nالمره الأولى","قراءة العداد عند\nتموين السيارة\nالمره الثانيه","المسافـــــــة\nالمقطوعــــة","كمية البنزين\nالممونه للسياره\n( المره الثانيه )","معدل إستهلاك\nالوقود"]
["1955-04-23","ديزل ",8280,0.38,25,102,1210,2152,942,65.78947368421052,14.3184]
["1905-07-12","ديزل ",8280,0.38,25,102,102,10255,10153,65.78947368421052,154.32560000000001]
["1905-07-12","ديزل ",8779,0.38,25,105,142,150,8,65.78947368421052,0.12160000000000001]
["1900-07-20","ديزل ",2218,0.38,25,15,1521,1530,9,65.78947368421052,0.1368]
["1955-04-23","ديزل ",8280,0.38,25,102,1210,2152,942,65.78947368421052,14.3184]

{"sheet":"April","index":5,"n_rows":6,"n_cols":11,"rows_kept":6,"cut":false,"hidden":false,"merged":[]}
["التاريخ ","نوع الوقود","رقم السيارة ","سعر اللتر ","المبلغ المدفوع","رقم الكرت ","قراءة العداد عند\nتموين السيارة\nالمره الأولى","قراءة العداد عند\nتموين السيارة\nالمره الثانيه","المسافـــــــة\nالمقطوعــــة","كمية البنزين\nالممونه للسياره\n( المره الثانيه )","معدل إستهلاك\nالوقود"]
["1955-04-23","ديزل ",8280,0.38,25,102,1210,2152,942,65.78947368421052,14.3184]
["1905-07-12","ديزل ",8280,0.38,25,102,102,10255,10153,65.78947368421052,154.32560000000001]
["1905-07-12","ديزل ",8779,0.38,25,105,142,150,8,65.78947368421052,0.12160000000000001]
["1900-07-20","ديزل ",2218,0.38,25,15,1521,1530,9,65.78947368421052,0.1368]
["1955-04-23","ديزل ",8280,0.38,25,102,1210,2152,942,65.78947368421052,14.3184]

{"sheet":"May","index":6,"n_rows":6,"n_cols":11,"rows_kept":6,"cut":false,"hidden":false,"merged":[]}
["التاريخ ","نوع الوقود","رقم السيارة ","سعر اللتر ","المبلغ المدفوع","رقم الكرت ","قراءة العداد عند\nتموين السيارة\nالمره الأولى","قراءة العداد عند\nتموين السيارة\nالمره الثانيه","المسافـــــــة\nالمقطوعــــة","كمية البنزين\nالممونه للسياره\n( المره الثانيه )","معدل إستهلاك\nالوقود"]
["1955-04-23","ديزل ",8280,0.38,25,102,1210,2152,942,65.78947368421052,14.3184]
["1905-07-12","ديزل ",8280,0.38,25,102,102,10255,10153,65.78947368421052,154.32560000000001]
["1905-07-12","ديزل ",8779,0.38,25,105,142,150,8,65.78947368421052,0.12160000000000001]
["1900-07-20","ديزل ",2218,0.38,25,15,1521,1530,9,65.78947368421052,0.1368]
["1955-04-23","ديزل ",8280,0.38,25,102,1210,2152,942,65.78947368421052,14.3184]