{"text_format":"1","workbook":"xlsx","n_sheets":4,"sheets":["العاملين","الراحات","Sheet1","رصيد ملابس نهائى"],"not_rendered":{"charts":0,"images":1,"macros":1,"external_links":0,"defined_names":6,"comments":0,"pivot_tables":0},"unopened":[],"bounds":{"document_bytes":16777216,"sheet_cells":100000,"rows_first":2000,"rows_last":500,"rows_between":2000,"halvings":0,"cell_chars":16384,"cell_head_chars":4096},"cells_cut":0,"cells_raw":0,"read":"whole","date_system":"1900"}

{"sheet":"العاملين","index":0,"n_rows":6,"n_cols":12,"rows_kept":6,"cut":false,"hidden":false,"merged":[[0,11,0,12]]}
["Group","الاسم","الوظيفة","المكان","الشهادة الصحية","Mobile Number","Dayoff",null,null,null,null,"البحث"]
["B","محمد","مدير","المحل","2019-02-18",null,"Wed"]
["B","رفعت","نائب","المحل","2019-08-04",null,"Wed"]
["B","سعيد","عامل","المحل","2019-02-26",null,"Sun"]
["B","عمرو","مثال1","المحل","2019-11-24",null,"______"]
["B","ايمن","مثال2","المحل","لا يوجد",null,"Thu"]

{"sheet":"الراحات","index":1,"n_rows":319,"n_cols":14,"rows_kept":319,"cut":false,"hidden":false,"merged":[]}
["Sat","الوظيفة","Sun","الوظيفة","Mon","الوظيفة","Tue","الوظيفة","Wed","الوظيفة","Thu","الوظيفة","Fri","الوظيفة"]
[{"$f":"IFERROR(INDEX(العاملين!$B$2:'العاملين'!$B$999,SMALL(IF(العاملين!$G$2:'العاملين'!$G$999=\"Sat\",ROW(العاملين!$B$2:'العاملين'!$B$999)-ROW(العاملين!$B$2)+1),ROWS($A$2:A2))),\"\")","v":""},{"$f":"IFERROR(INDEX(العاملين!$C$2:$C$999,MATCH($A2,العاملين!$B$2:'العاملين'!$B$999,0)),\"\")","v":""},{"$f":"IFERROR(INDEX(العاملين!$B$2:'العاملين'!$B$999,SMALL(IF(العاملين!$G$2:'العاملين'!$G$999=\"Sun\",ROW(العاملين!$B$2:'العاملين'!$B$999)-ROW(العاملين!$B$2)+1),ROWS($C$2:C2))),\"\")","v":"سعيد"},{"$f":"IFERROR(INDEX(العاملين!$C$2:$C$999,MATCH($C2,العاملين!$B$2:'العاملين'!$B$999,0)),\"\")","v":"عامل"},{"$f":"IFERROR(INDEX(العاملين!$B$2:'العاملين'!$B$999,SMALL(IF(العاملين!$G$2:'العاملين'!$G$999=\"Mon\",ROW(العاملين!$B$2:'العاملين'!$B$999)-ROW(العاملين!$B$2)+1),ROWS($E$2:E2))),\"\")","v":""},{"$f":"IFERROR(INDEX(العاملين!$C$2:$C$999,MATCH($E2,العاملين!$B$2:'العاملين'!$B$999,0)),\"\")","v":""},{"$f":"IFERROR(INDEX(العاملين!$B$2:'العاملين'!$B$999,SMALL(IF(العاملين!$G$2:'العاملين'!$G$999=\"Tue\",ROW(العاملين!$B$2:'العاملين'!$B$999)-ROW(العاملين!$B$2)+1),ROWS($G$2:G2))),\"\")","v":""},{"$f":"IFERROR(INDEX(العاملين!$C$2:$C$999,MATCH($G2,العاملين!$B$2:'العاملين'!$B$999,0)),\"\")","v":""},{"$f":"IFERROR(INDEX(العاملين!$B$2:'العاملين'!$B$999,SMALL(IF(العاملين!$G$2:'العاملين'!$G$999=\"Wed\",ROW(العاملين!$B$2:'العاملين'!$B$999)-ROW(العاملين!$B$2)+1),ROWS($I$2:I2))),\"\")","v":"محمد"},{"$f":"IFERROR(INDEX(العاملين!$C$2:$C$999,MATCH($I2,العاملين!$B$2:'العاملين'!$B$999,0)),\"\")","v":"مدير"},{"$f":"IFERROR(INDEX(العاملين!$B$2:'العاملين'!$B$999,SMALL(IF(العاملين!$G$2:'العاملين'!$G$999=\"Thu\",ROW(العاملين!$B$2:'العاملين'!$B$999)-ROW(العاملين!$B$2)+1),ROWS($K$2:K2))),\"\")","v":"ايمن"},{"$f":"IFERROR(INDEX(العاملين!$C$2:$C$999,MATCH($K2,العاملين!$B$2:'العاملين'!$B$999,0)),\"\")","v":"مثال2"},{"$f":"IFERROR(INDEX(العاملين!$B$2:'العاملين'!$B$999,SMALL(IF(العاملين!$G$2:'العاملين'!$G$999=\"Fri\",ROW(العاملين!$B$2:'العاملين'!$B$999)-ROW(العاملين!$B$2)+1),ROWS($M$2:M2))),\"\")","v":""},{"$f":"IFERROR(INDEX(العاملين!$C$2:$C$999,MATCH($M2,العاملين!$B$2:'العاملين'!$B$999,0)),\"\")","v":""}]
[{"$f":"IFERROR(INDEX(العاملين!$B$2:'العاملين'!$B$999,SMALL(IF(العاملين!$G$2:'العاملين'!$G$999=\"Sat\",ROW(العاملين!$B$2:'العاملين'!$B$999)-ROW(العاملين!$B$2)+1),ROWS($A$2:A3))),\"\")","v":""},{"$f":"IFERROR(INDEX(العاملين!$C$2:$C$999,MATCH($A3,العاملين!$B$2:'العاملين'!$B$999,0)),\"\")","v":""},{"$f":"IFERROR(INDEX(العاملين!$B$2:'العاملين'!$B$999,SMALL(IF(العاملين!$G$2:'العاملين'!$G$999=\"Sun\",ROW(العاملين!$B$2:'العاملين'!$B$999)-ROW(العاملين!$B$2)+1),ROWS($C$2:C3))),\"\")","v":""},{"$f":"IFERROR(INDEX(العاملين!$C$2:$C$999,MATCH($C3,العاملين!$B$2:'العاملين'!$B$999,0)),\"\")","v":""},{"$f":"IFERROR(INDEX(العاملين!$B$2:'العاملين'!$B$999,SMALL(IF(العاملين!$G$2:'العاملين'!$G$999=\"Mon\",ROW(العاملين!$B$2:'العاملين'!$B$999)-ROW(العاملين!$B$2)+1),ROWS($E$2:E3))),\"\")","v":""},{"$f":"IFERROR(INDEX(العاملين!$C$2:$C$999,MATCH($E3,العاملين!$B$2:'العاملين'!$B$999,0)),\"\")","v":""},{"$f":"IFERROR(INDEX(العاملين!$B$2:'العاملين'!$B$999,SMALL(IF(العاملين!$G$2:'العاملين'!$G$999=\"Tue\",ROW(العاملين!$B$2:'العاملين'!$B$999)-ROW(العاملين!$B$2)+1),ROWS($G$2:G3))),\"\")","v":""},{"$f":"IFERROR(INDEX(العاملين!$C$2:$C$999,MATCH($G3,العاملين!$B$2:'العاملين'!$B$999,0)),\"\")","v":""},{"$f":"IFERROR(INDEX(العاملين!$B$2:'العاملين'!$B$999,SMALL(IF(العاملين!$G$2:'العاملين'!$G$999=\"Wed\",ROW(العاملين!$B$2:'العاملين'!$B$999)-ROW(العاملين!$B$2)+1),ROWS($I$2:I3))),\"\")","v":"رفعت"},{"$f":"IFERROR(INDEX(العاملين!$C$2:$C$999,MATCH($I3,العاملين!$B$2:'العاملين'!$B$999,0)),\"\")","v":"نائب"},{"$f":"IFERROR(INDEX(العاملين!$B$2:'العاملين'!$B$999,SMALL(IF(العاملين!$G$2:'العاملين'!$G$999=\"Thu\",ROW(العاملين!$B$2:'العاملين'!$B$999)-ROW(العاملين!$B$2)+1),ROWS($K$2:K3))),\"\")","v":""},{"$f":"IFERROR(INDEX(العاملين!$C$2:$C$999,MATCH($K3,العاملين!$B$2:'العاملين'!$B$999,0)),\"\")","v":""},{"$f":"IFERROR(INDEX(العاملين!$B$2:'العاملين'!$B$999,SMALL(IF(العاملين!$G$2:'العاملين'!$G$999=\"Fri\",ROW(العاملين!$B$2:'العاملين'!$B$999)-ROW(العاملين!$B$2)+1),ROWS($M$2:M3))),\"\")","v":""},{"$f":"IFERROR(INDEX(العاملين!$C$2:$C$999,MATCH($M3,العاملين!$B$2:'العاملين'!$B$999,0)),\"\")","v":""}]
[{"$f":"IFERROR(INDEX(العاملين!$B$2:'العاملين'!$B$999,SMALL(IF(العاملين!$G$2:'العاملين'!$G$999=\"Sat\",ROW(العاملين!$B$2:'العاملين'!$B$999)-ROW(العاملين!$B$2)+1),ROWS($A$2:A4))),\"\")","v":""},{"$f":"IFERROR(INDEX(العاملين!$C$2:$C$999,MATCH($A4,العاملين!$B$2:'العاملين'!$B$999,0)),\"\")","v":""},{"$f":"IFERROR(INDEX(العاملين!$B$2:'العاملين'!$B$999,SMALL(IF(العاملين!$G$2:'العاملين'!$G$999=\"Sun\",ROW(العاملين!$B$2:'العاملين'!$B$999)-ROW(العاملين!$B$2)+1),ROWS($C$2:C4))),\"\")","v":""},{"$f":"IFERROR(INDEX(العاملين!$C$2:$C$999,MATCH($C4,العاملين!$B$2:'العاملين'!$B$999,0)),\"\")","v":""},{"$f":"IFERROR(INDEX(العاملين!$B$2:'العاملين'!$B$999,SMALL(IF(العاملين!$G$2:'العاملين'!$G$999=\"Mon\",ROW(العاملين!$B$2:'العاملين'!$B$999)-ROW(العاملين!$B$2)+1),ROWS($E$2:E4))),\"\")","v":""},{"$f":"IFERROR(INDEX(العاملين!$C$2:$C$999,MATCH($E4,العاملين!$B$2:'العاملين'!$B$999,0)),\"\")","v":""},{"$f":"IFERROR(INDEX(العاملين!$B$2:'العاملين'!$B$999,SMALL(IF(العاملين!$G$2:'العاملين'!$G$999=\"Tue\",ROW(العاملين!$B$2:'العاملين'!$B$999)-ROW(العاملين!$B$2)+1),ROWS($G$2:G4))),\"\")","v":""},{"$f":"IFERROR(INDEX(العاملين!$C$2:$C$999,MATCH($G4,العاملين!$B$2:'العاملين'!$B$999,0)),\"\")","v":""},{"$f":"IFERROR(INDEX(العاملين!$B$2:'العاملين'!$B$999,SMALL(IF(العاملين!$G$2:'العاملين'!$G$999=\"Wed\",ROW(العاملين!$B$2:'العاملين'!$B$999)-ROW(العاملين!$B$2)+1),ROWS($I$2:I4))),\"\")","v":""},{"$f":"IFERROR(INDEX(العاملين!$C$2:$C$999,MATCH($I4,العاملين!$B$2:'العاملين'!$B$999,0)),\"\")","v":""},{"$f":"IFERROR(INDEX(العاملين!$B$2:'العاملين'!$B$999,SMALL(IF(العاملين!$G$2:'العاملين'!$G$999=\"Thu\",ROW(العاملين!$B$2:'العاملين'!$B$999)-ROW(العاملين!$B$2)+1),ROWS($K$2:K4))),\"\")","v":""},{"$f":"IFERROR(INDEX(العاملين!$C$2:$C$999,MATCH($K4,العاملين!$B$2:'العاملين'!$B$999,0)),\"\")","v":""},{"$f":"IFERROR(INDEX(العاملين!$B$2:'العاملين'!$B$999,SMALL(IF(العاملين!$G$2:'العاملين'!$G$999=\"Fri\",ROW(العاملين!$B$2:'العاملين'!$B$999)-ROW(العاملين!$B$2)+1),ROWS($M$2:M4))),\"\")","v":""},{"$f":"IFERROR(INDEX(العاملين!$C$2:$C$999,MATCH($M4,العاملين!$B$2:'العاملين'!$B$999,0)),\"\")","v":""}]
[{"$f":"IFERROR(INDEX(العاملين!$B$2:'العاملين'!$B$999,SMALL(IF(العاملين!$G$2:'العاملين'!$G$999=\"Sat\",ROW(العاملين!$B$2:'العاملين'!$B$999)-ROW(العاملين!$B$2)+1),ROWS($A$2:A5))),\"\")","v":""},{"$f":"IFERROR(INDEX(العاملين!$C$2:$C$999,MATCH($A5,العاملين!$B$2:'العاملين'!$B$999,0)),\"\")","v":""},{"$f":"IFERROR(INDEX(العاملين!$B$2:'العاملين'!$B$999,SMALL(IF(العاملين!$G$2:'العاملين'!$G$999=\"Sun\",ROW(العاملين!$B$2:'العاملين'!$B$999)-ROW(العاملين!$B$2)+1),ROWS($C$2:C5))),\"\")","v":""},{"$f":"IFERROR(INDEX(العاملين!$C$2:$C$999,MATCH($C5,العاملين!$B$2:'العاملين'!$B$999,0)),\"\")","v":""},{"$f":"IFERROR(INDEX(العاملين!$B$2:'العاملين'!$B$999,SMALL(IF(العاملين!$G$2:'العاملين'!$G$999=\"Mon\",ROW(العاملين!$B$2:'العاملين'!$B$999)-ROW(العاملين!$B$2)+1),ROWS($E$2:E5))),\"\")","v":""},{"$f":"IFERROR(INDEX(العاملين!$C$2:$C$999,MATCH($E5,العاملين!$B$2:'العاملين'!$B$999,0)),\"\")","v":""},{"$f":"IFERROR(INDEX(العاملين!$B$2:'العاملين'!$B$999,SMALL(IF(العاملين!$G$2:'العاملين'!$G$999=\"Tue\",ROW(العاملين!$B$2:'العاملين'!$B$999)-ROW(العاملين!$B$2)+1),ROWS($G$2:G5))),\"\")","v":""},{"$f":"IFERROR(INDEX(العاملين!$C$2:$C$999,MATCH($G5,العاملين!$B$2:'العاملين'!$B$999,0)),\"\")","v":""},{"$f":"IFERROR(INDEX(العاملين!$B$2:'العاملين'!$B$999,SMALL(IF(العاملين!$G$2:'العاملين'!$G$999=\"Wed\",ROW(العاملين!$B$2:'العاملين'!$B$999)-ROW(العاملين!$B$2)+1),ROWS($I$2:I5))),\"\")","v":""},{"$f":"IFERROR(INDEX(العاملين!$C$2:$C$999,MATCH($I5,العاملين!$B$2:'العاملين'!$B$999,0)),\"\")","v":""},{"$f":"IFERROR(INDEX(العاملين!$B$2:'العاملين'!$B$999,SMALL(IF(العاملين!$G$2:'العاملين'!$G$999=\"Thu\",ROW(العاملين!$B$2:'العاملين'!$B$999)-ROW(العاملين!$B$2)+1),ROWS($K$2:K5))),\"\")","v":""},{"$f":"IFERROR(INDEX(العاملين!$C$2:$C$999,MATCH($K5,العاملين!$B$2:'العاملين'!$B$999,0)),\"\")","v":""},{"$f":"IFERROR(INDEX(العاملين!$B$2:'العاملين'!$B$999,SMALL(IF(العاملين!$G$2:'العاملين'!$G$999=\"Fri\",ROW(العاملين!$B$2:'العاملين'!$B$999)-ROW(العاملين!$B$2)+1),ROWS($M$2:M5))),\"\")","v":""},{"$f":"IFERROR(INDEX(العاملين!$C$2:$C$999,MATCH($M5,العاملين!$B$2:'العاملين'!$B$999,0)),\"\")","v":""}]
[{"$f":"IFERROR(INDEX(العاملين!$B$2:'العاملين'!$B$999,SMALL(IF(العاملين!$G$2:'العاملين'!$G$999=\"Sat\",ROW(العاملين!$B$2:'العاملين'!$B$999)-ROW(العاملين!$B$2)+1),ROWS($A$2:A6))),\"\")","v":""},{"$f":"IFERROR(INDEX(العاملين!$C$2:$C$999,MATCH($A6,العاملين!$B$2:'العاملين'!$B$999,0)),\"\")","v":""},{"$f":"IFERROR(INDEX(العاملين!$B$2:'العاملين'!$B$999,SMALL(IF(العاملين!$G$2:'العاملين'!$G$999=\"Sun\",ROW(العاملين!$B$2:'العاملين'!$B$999)-ROW(العاملين!$B$2)+1),ROWS($C$2:C6))),\"\")","v":""},{"$f":"IFERROR(INDEX(العاملين!$C$2:$C$999,MATCH($C6,العاملين!$B$2:'العاملين'!$B$999,0)),\"\")","v":""},{"$f":"IFERROR(INDEX(العاملين!$B$2:'العاملين'!$B$999,SMALL(IF(العاملين!$G$2:'العاملين'!$G$999=\"Mon\",ROW(العاملين!$B$2:'العاملين'!$B$999)-ROW(العاملين!$B$2)+1),ROWS($E$2:E6))),\"\")","v":""},{"$f":"IFERROR(INDEX(العاملين!$C$2:$C$999,MATCH($E6,العاملين!$B$2:'العاملين'!$B$999,0)),\"\")","v":""},{"$f":"IFERROR(INDEX(العاملين!$B$2:'العاملين'!$B$999,SMALL(IF(العاملين!$G$2:'العاملين'!$G$999=\"Tue\",ROW(العاملين!$B$2:'العاملين'!$B$999)-ROW(العاملين!$B$2)+1),ROWS($G$2:G6))),\"\")","v":""},{"$f":"IFERROR(INDEX(العاملين!$C$2:$C$999,MATCH($G6,العاملين!$B$2:'العاملين'!$B$999,0)),\"\")","v":""},{"$f":"IFERROR(INDEX(العاملين!$B$2:'العاملين'!$B$999,SMALL(IF(العاملين!$G$2:'العاملين'!$G$999=\"Wed\",ROW(العاملين!$B$2:'العاملين'!$B$999)-ROW(العاملين!$B$2)+1),ROWS($I$2:I6))),\"\")","v":""},{"$f":"IFERROR(INDEX(العاملين!$C$2:$C$999,MATCH($I6,العاملين!$B$2:'العاملين'!$B$999,0)),\"\")","v":""},{"$f":"IFERROR(INDEX(العاملين!$B$2:'العاملين'!$B$999,SMALL(IF(العاملين!$G$2:'العاملين'!$G$999=\"Thu\",ROW(العاملين!$B$2:'العاملين'!$B$999)-ROW(العاملين!$B$2)+1),ROWS($K$2:K6))),\"\")","v":""},{"$f":"IFERROR(INDEX(العاملين!$C$2:$C$999,MATCH($K6,العاملين!$B$2:'العاملين'!$B$999,0)),\"\")","v":""},{"$f":"IFERROR(INDEX(العاملين!$B$2:'العاملين'!$B$999,SMALL(IF(العاملين!$G$2:'العاملين'!$G$999=\"Fri\",ROW(العاملين!$B$2:'العاملين'!$B$999)-ROW(العاملين!$B$2)+1),ROWS($M$2:M6))),\"\")","v":""},{"$f":"IFERROR(INDEX(العاملين!$C$2:$C$999,MATCH($M6,العاملين!$B$2:'العاملين'!$B$999,0)),\"\")","v":""}]
[{"$f":"IFERROR(INDEX(العاملين!$B$2:'العاملين'!$B$999,SMALL(IF(العاملين!$G$2:'العاملين'!$G$999=\"Sat\",ROW(العاملين!$B$2:'العاملين'!$B$999)-ROW(العاملين!$B$2)+1),ROWS($A$2:A7))),\"\")","v":""},{"$f":"IFERROR(INDEX(العاملين!$C$2:$C$999,MATCH($A7,العاملين!$B$2:'العاملين'!$B$999,0)),\"\")","v":""},{"$f":"IFERROR(INDEX(العاملين!$B$2:'العاملين'!$B$999,SMALL(IF(العاملين!$G$2:'العاملين'!$G$999=\"Sun\",ROW(العاملين!$B$2:'العاملين'!$B$999)-ROW(العاملين!$B$2)+1),ROWS($C$2:C7))),\"\")","v":""},{"$f":"IFERROR(INDEX(العاملين!$C$2:$C$999,MATCH($C7,العاملين!$B$2:'العاملين'!$B$999,0)),\"\")","v":""},{"$f":"IFERROR(INDEX(العاملين!$B$2:'العاملين'!$B$999,SMALL(IF(العاملين!$G$2:'العاملين'!$G$999=\"Mon\",ROW(العاملين!$B$2:'العاملين'!$B$999)-ROW(العاملين!$B$2)+1),ROWS($E$2:E7))),\"\")","v":""},{"$f":"IFERROR(INDEX(العاملين!$C$2:$C$999,MATCH($E7,العاملين!$B$2:'العاملين'!$B$999,0)),\"\")","v":""},{"$f":"IFERROR(INDEX(العاملين!$B$2:'العاملين'!$B$999,SMALL(IF(العاملين!$G$2:'العاملين'!$G$999=\"Tue\",ROW(العاملين!$B$2:'العاملين'!$B$999)-ROW(العاملين!$B$2)+1),ROWS($G$2:G7))),\"\")","v":""},{"$f":"IFERROR(INDEX(العاملين!$C$2:$C$999,MATCH($G7,العاملين!$B$2:'العاملين'!$B$999,0)),\"\")","v":""},{"$f":"IFERROR(INDEX(العاملين!$B$2:'العاملين'!$B$999,SMALL(IF(العاملين!$G$2:'العاملين'!$G$999=\"Wed\",ROW(العاملين!$B$2:'العاملين'!$B$999)-ROW(العاملين!$B$2)+1),ROWS($I$2:I7))),\"\")","v":""},{"$f":"IFERROR(INDEX(العاملين!$C$2:$C$999,MATCH($I7,العاملين!$B$2:'العاملين'!$B$999,0)),\"\")","v":""},{"$f":"IFERROR(INDEX(العاملين!$B$2:'العاملين'!$B$999,SMALL(IF(العاملين!$G$2:'العاملين'!$G$999=\"Thu\",ROW(العاملين!$B$2:'العاملين'!$B$999)-ROW(العاملين!$B$2)+1),ROWS($K$2:K7))),\"\")","v":""},{"$f":"IFERROR(INDEX(العاملين!$C$2:$C$999,MATCH($K7,العاملين!$B$2:'العاملين'!$B$999,0)),\"\")","v":""},{"$f":"IFERROR(INDEX(العاملين!$B$2:'العاملين'!$B$999,SMALL(IF(العاملين!$G$2:'العاملين'!$G$999=\"Fri\",ROW(العاملين!$B$2:'العاملين'!$B$999)-ROW(العاملين!$B$2)+1),ROWS($M$2:M7))),\"\")","v":""},{"$f":"IFERROR(INDEX(العاملين!$C$2:$C$999,MATCH($M7,العاملين!$B$2:'العاملين'!$B$999,0)),\"\")","v":""}]
[{"$f":"IFERROR(INDEX(العاملين!$B$2:'العاملين'!$B$999,SMALL(IF(العاملين!$G$2:'العاملين'!$G$999=\"Sat\",ROW(العاملين!$B$2:'العاملين'!$B$999)-ROW(العاملين!$B$2)+1),ROWS($A$2:A8))),\"\")","v":""},{"$f":"IFERROR(INDEX(العاملين!$C$2:$C$999,MATCH($A8,العاملين!$B$2:'العاملين'!$B$999,0)),\"\")","v":""},{"$f":"IFERROR(INDEX(العاملين!$B$2:'العاملين'!$B$999,SMALL(IF(العاملين!$G$2:'العاملين'!$G$999=\"Sun\",ROW(العاملين!$B$2:'العاملين'!$B$999)-ROW(العاملين!$B$2)+1),ROWS($C$2:C8))),\"\")","v":""},{"$f":"IFERROR(INDEX(العاملين!$C$2:$C$999,MATCH($C8,العاملين!$B$2:'العاملين'!$B$999,0)),\"\")","v":""},{"$f":"IFERROR(INDEX(العاملين!$B$2:'العاملين'!$B$999,SMALL(IF(العاملين!$G$2:'العاملين'!$G$999=\"Mon\",ROW(العاملين!$B$2:'العاملين'!$B$999)-ROW(العاملين!$B$2)+1),ROWS($E$2:E8))),\"\")","v":""},{"$f":"IFERROR(INDEX(العاملين!$C$2:$C$999,MATCH($E8,العاملين!$B$2:'العاملين'!$B$999,0)),\"\")","v":""},{"$f":"IFERROR(INDEX(العاملين!$B$2:'العاملين'!$B$999,SMALL(IF(العاملين!$G$2:'العاملين'!$G$999=\"Tue\",ROW(العاملين!$B$2:'العاملين'!$B$999)-ROW(العاملين!$B$2)+1),ROWS($G$2:G8))),\"\")","v":""},{"$f":"IFERROR(INDEX(العاملين!$C$2:$C$999,MATCH($G8,العاملين!$B$2:'العاملين'!$B$999,0)),\"\")","v":""},{"$f":"IFERROR(INDEX(العاملين!$B$2:'العاملين'!$B$999,SMALL(IF(العاملين!$G$2:'العاملين'!$G$999=\"Wed\",ROW(العاملين!$B$2:'العاملين'!$B$999)-ROW(العاملين!$B$2)+1),ROWS($I$2:I8))),\"\")","v":""},{"$f":"IFERROR(INDEX(العاملين!$C$2:$C$999,MATCH($I8,العاملين!$B$2:'العاملين'!$B$999,0)),\"\")","v":""},{"$f":"IFERROR(INDEX(العاملين!$B$2:'العاملين'!$B$999,SMALL(IF(العاملين!$G$2:'العاملين'!$G$999=\"Thu\",ROW(العاملين!$B$2:'العاملين'!$B$999)-ROW(العاملين!$B$2)+1),ROWS($K$2:K8))),\"\")","v":""},{"$f":"IFERROR(INDEX(العاملين!$C$2:$C$999,MATCH($K8,العاملين!$B$2:'العاملين'!$B$999,0)),\"\")","v":""},{"$f":"IFERROR(INDEX(العاملين!$B$2:'العاملين'!$B$999,SMALL(IF(العاملين!$G$2:'العاملين'!$G$999=\"Fri\",ROW(العاملين!$B$2:'العاملين'!$B$999)-ROW(العاملين!$B$2)+1),ROWS($M$2:M8))),\"\")","v":""},{"$f":"IFERROR(INDEX(العاملين!$C$2:$C$999,MATCH($M8,العاملين!$B$2:'العاملين'!$B$999,0)),\"\")","v":""}]
[{"$f":"IFERROR(INDEX(العاملين!$B$2:'العاملين'!$B$999,SMALL(IF(العاملين!$G$2:'العاملين'!$G$999=\"Sat\",ROW(العاملين!$B$2:'العاملين'!$B$999)-ROW(العاملين!$B$2)+1),ROWS($A$2:A9))),\"\")","v":""},{"$f":"IFERROR(INDEX(العاملين!$C$2:$C$999,MATCH($A9,العاملين!$B$2:'العاملين'!$B$999,0)),\"\")","v":""},{"$f":"IFERROR(INDEX(العاملين!$B$2:'العاملين'!$B$999,SMALL(IF(العاملين!$G$2:'العاملين'!$G$999=\"Sun\",ROW(العاملين!$B$2:'العاملين'!$B$999)-ROW(العاملين!$B$2)+1),ROWS($C$2:C9))),\"\")","v":""},{"$f":"IFERROR(INDEX(العاملين!$C$2:$C$999,MATCH($C9,العاملين!$B$2:'العاملين'!$B$999,0)),\"\")","v":""},{"$f":"IFERROR(INDEX(العاملين!$B$2:'العاملين'!$B$999,SMALL(IF(العاملين!$G$2:'العاملين'!$G$999=\"Mon\",ROW(العاملين!$B$2:'العاملين'!$B$999)-ROW(العاملين!$B$2)+1),ROWS($E$2:E9))),\"\")","v":""},{"$f":"IFERROR(INDEX(العاملين!$C$2:$C$999,MATCH($E9,العاملين!$B$2:'العاملين'!$B$999,0)),\"\")","v":""},{"$f":"IFERROR(INDEX(العاملين!$B$2:'العاملين'!$B$999,SMALL(IF(العاملين!$G$2:'العاملين'!$G$999=\"Tue\",ROW(العاملين!$B$2:'العاملين'!$B$999)-ROW(العاملين!$B$2)+1),ROWS($G$2:G9))),\"\")","v":""},{"$f":"IFERROR(INDEX(العاملين!$C$2:$C$999,MATCH($G9,العاملين!$B$2:'العاملين'!$B$999,0)),\"\")","v":""},{"$f":"IFERROR(INDEX(العاملين!$B$2:'العاملين'!$B$999,SMALL(IF(العاملين!$G$2:'العاملين'!$G$999=\"Wed\",ROW(العاملين!$B$2:'العاملين'!$B$999)-ROW(العاملين!$B$2)+1),ROWS($I$2:I9))),\"\")","v":""},{"$f":"IFERROR(INDEX(العاملين!$C$2:$C$999,MATCH($I9,العاملين!$B$2:'العاملين'!$B$999,0)),\"\")","v":""},{"$f":"IFERROR(INDEX(العاملين!$B$2:'العاملين'!$B$999,SMALL(IF(العاملين!$G$2:'العاملين'!$G$999=\"Thu\",ROW(العاملين!$B$2:'العاملين'!$B$999)-ROW(العاملين!$B$2)+1),ROWS($K$2:K9))),\"\")","v":""},{"$f":"IFERROR(INDEX(العاملين!$C$2:$C$999,MATCH($K9,العاملين!$B$2:'العاملين'!$B$999,0)),\"\")","v":""},{"$f":"IFERROR(INDEX(العاملين!$B$2:'العاملين'!$B$999,SMALL(IF(العاملين!$G$2:'العاملين'!$G$999=\"Fri\",ROW(العاملين!$B$2:'العاملين'!$B$999)-ROW(العاملين!$B$2)+1),ROWS($M$2:M9))),\"\")","v":""},{"$f":"IFERROR(INDEX(العاملين!$C$2:$C$999,MATCH($M9,العاملين!$B$2:'العاملين'!$B$999,0)),\"\")","v":""}]
[{"$f":"IFERROR(INDEX(العاملين!$B$2:'العاملين'!$B$999,SMALL(IF(العاملين!$G$2:'العاملين'!$G$999=\"Sat\",ROW(العاملين!$B$2:'العاملين'!$B$999)-ROW(العاملين!$B$2)+1),ROWS($A$2:A10))),\"\")","v":""},{"$f":"IFERROR(INDEX(العاملين!$C$2:$C$999,MATCH($A10,العاملين!$B$2:'العاملين'!$B$999,0)),\"\")","v":""},{"$f":"IFERROR(INDEX(العاملين!$B$2:'العاملين'!$B$999,SMALL(IF(العاملين!$G$2:'العاملين'!$G$999=\"Sun\",ROW(العاملين!$B$2:'العاملين'!$B$999)-ROW(العاملين!$B$2)+1),ROWS($C$2:C10))),\"\")","v":""},{"$f":"IFERROR(INDEX(العاملين!$C$2:$C$999,MATCH($C10,العاملين!$B$2:'العاملين'!$B$999,0)),\"\")","v":""},{"$f":"IFERROR(INDEX(العاملين!$B$2:'العاملين'!$B$999,SMALL(IF(العاملين!$G$2:'العاملين'!$G$999=\"Mon\",ROW(العاملين!$B$2:'العاملين'!$B$999)-ROW(العاملين!$B$2)+1),ROWS($E$2:E10))),\"\")","v":""},{"$f":"IFERROR(INDEX(العاملين!$C$2:$C$999,MATCH($E10,العاملين!$B$2:'العاملين'!$B$999,0)),\"\")","v":""},{"$f":"IFERROR(INDEX(العاملين!$B$2:'العاملين'!$B$999,SMALL(IF(العاملين!$G$2:'العاملين'!$G$999=\"Tue\",ROW(العاملين!$B$2:'العاملين'!$B$999)-ROW(العاملين!$B$2)+1),ROWS($G$2:G10))),\"\")","v":""},{"$f":"IFERROR(INDEX(العاملين!$C$2:$C$999,MATCH($G10,العاملين!$B$2:'العاملين'!$B$999,0)),\"\")","v":""},{"$f":"IFERROR(INDEX(العاملين!$B$2:'العاملين'!$B$999,SMALL(IF(العاملين!$G$2:'العاملين'!$G$999=\"Wed\",ROW(العاملين!$B$2:'العاملين'!$B$999)-ROW(العاملين!$B$2)+1),ROWS($I$2:I10))),\"\")","v":""},{"$f":"IFERROR(INDEX(العاملين!$C$2:$C$999,MATCH($I10,العاملين!$B$2:'العاملين'!$B$999,0)),\"\")","v":""},{"$f":"IFERROR(INDEX(العاملين!$B$2:'العاملين'!$B$999,SMALL(IF(العاملين!$G$2:'العاملين'!$G$999=\"Thu\",ROW(العاملين!$B$2:'العاملين'!$B$999)-ROW(العاملين!$B$2)+1),ROWS($K$2:K10))),\"\")","v":""},{"$f":"IFERROR(INDEX(العاملين!$C$2:$C$999,MATCH($K10,العاملين!$B$2:'العاملين'!$B$999,0)),\"\")","v":""},{"$f":"IFERROR(INDEX(العاملين!$B$2:'العاملين'!$B$999,SMALL(IF(العاملين!$G$2:'العاملين'!$G$999=\"Fri\",ROW(العاملين!$B$2:'العاملين'!$B$999)-ROW(العاملين!$B$2)+1),ROWS($M$2:M10))),\"\")","v":""},{"$f":"IFERROR(INDEX(العاملين!$C$2:$C$999,MATCH($M10,العاملين!$B$2:'العاملين'!$B$999,0)),\"\")","v":""}]
[{"$f":"IFERROR(INDEX(العاملين!$B$2:'العاملين'!$B$999,SMALL(IF(العاملين!$G$2:'العاملين'!$G$999=\"Sat\",ROW(العاملين!$B$2:'العاملين'!$B$999)-ROW(العاملين!$B$2)+1),ROWS($A$2:A11))),\"\")","v":""},{"$f":"IFERROR(INDEX(العاملين!$C$2:$C$999,MATCH($A11,العاملين!$B$2:'العاملين'!$B$999,0)),\"\")","v":""},{"$f":"IFERROR(INDEX(العاملين!$B$2:'العاملين'!$B$999,SMALL(IF(العاملين!$G$2:'العاملين'!$G$999=\"Sun\",ROW(العاملين!$B$2:'العاملين'!$B$999)-ROW(العاملين!$B$2)+1),ROWS($C$2:C11))),\"\")","v":""},{"$f":"IFERROR(INDEX(العاملين!$C$2:$C$999,MATCH($C11,العاملين!$B$2:'العاملين'!$B$999,0)),\"\")","v":""},{"$f":"IFERROR(INDEX(العاملين!$B$2:'العاملين'!$B$999,SMALL(IF(العاملين!$G$2:'العاملين'!$G$999=\"Mon\",ROW(العاملين!$B$2:'العاملين'!$B$999)-ROW(العاملين!$B$2)+1),ROWS($E$2:E11))),\"\")","v":""},{"$f":"IFERROR(INDEX(العاملين!$C$2:$C$999,MATCH($E11,العاملين!$B$2:'العاملين'!$B$999,0)),\"\")","v":""},{"$f":"IFERROR(INDEX(العاملين!$B$2:'العاملين'!$B$999,SMALL(IF(العاملين!$G$2:'العاملين'!$G$999=\"Tue\",ROW(العاملين!$B$2:'العاملين'!$B$999)-ROW(العاملين!$B$2)+1),ROWS($G$2:G11))),\"\")","v":""},{"$f":"IFERROR(INDEX(العاملين!$C$2:$C$999,MATCH($G11,العاملين!$B$2:'العاملين'!$B$999,0)),\"\")","v":""},{"$f":"IFERROR(INDEX(العاملين!$B$2:'العاملين'!$B$999,SMALL(IF(العاملين!$G$2:'العاملين'!$G$999=\"Wed\",ROW(العاملين!$B$2:'العاملين'!$B$999)-ROW(العاملين!$B$2)+1),ROWS($I$2:I11))),\"\")","v":""},{"$f":"IFERROR(INDEX(العاملين!$C$2:$C$999,MATCH($I11,العاملين!$B$2:'العاملين'!$B$999,0)),\"\")","v":""},{"$f":"IFERROR(INDEX(العاملين!$B$2:'العاملين'!$B$999,SMALL(IF(العاملين!$G$2:'العاملين'!$G$999=\"Thu\",ROW(العاملين!$B$2:'العاملين'!$B$999)-ROW(العاملين!$B$2)+1),ROWS($K$2:K11))),\"\")","v":""},{"$f":"IFERROR(INDEX(العاملين!$C$2:$C$999,MATCH($K11,العاملين!$B$2:'العاملين'!$B$999,0)),\"\")","v":""},{"$f":"IFERROR(INDEX(العاملين!$B$2:'العاملين'!$B$999,SMALL(IF(العاملين!$G$2:'العاملين'!$G$999=\"Fri\",ROW(العاملين!$B$2:'العاملين'!$B$999)-ROW(العاملين!$B$2)+1),ROWS($M$2:M11))),\"\")","v":""},{"$f":"IFERROR(INDEX(العاملين!$C$2:$C$999,MATCH($M11,العاملين!$B$2:'العاملين'!$B$999,0)),\"\")","v":""}]
[{"$f":"IFERROR(INDEX(العاملين!$B$2:'العاملين'!$B$999,SMALL(IF(العاملين!$G$2:'العاملين'!$G$999=\"Sat\",ROW(العاملين!$B$2:'العاملين'!$B$999)-ROW(العاملين!$B$2)+1),ROWS($A$2:A12))),\"\")","v":""},{"$f":"IFERROR(INDEX(العاملين!$C$2:$C$999,MATCH($A12,العاملين!$B$2:'العاملين'!$B$999,0)),\"\")","v":""},{"$f":"IFERROR(INDEX(العاملين!$B$2:'العاملين'!$B$999,SMALL(IF(العاملين!$G$2:'العاملين'!$G$999=\"Sun\",ROW(العاملين!$B$2:'العاملين'!$B$999)-ROW(العاملين!$B$2)+1),ROWS($C$2:C12))),\"\")","v":""},{"$f":"IFERROR(INDEX(العاملين!$C$2:$C$999,MATCH($C12,العاملين!$B$2:'العاملين'!$B$999,0)),\"\")","v":""},{"$f":"IFERROR(INDEX(العاملين!$B$2:'العاملين'!$B$999,SMALL(IF(العاملين!$G$2:'العاملين'!$G$999=\"Mon\",ROW(العاملين!$B$2:'العاملين'!$B$999)-ROW(العاملين!$B$2)+1),ROWS($E$2:E12))),\"\")","v":""},{"$f":"IFERROR(INDEX(العاملين!$C$2:$C$999,MATCH($E12,العاملين!$B$2:'العاملين'!$B$999,0)),\"\")","v":""},{"$f":"IFERROR(INDEX(العاملين!$B$2:'العاملين'!$B$999,SMALL(IF(العاملين!$G$2:'العاملين'!$G$999=\"Tue\",ROW(العاملين!$B$2:'العاملين'!$B$999)-ROW(العاملين!$B$2)+1),ROWS($G$2:G12))),\"\")","v":""},{"$f":"IFERROR(INDEX(العاملين!$C$2:$C$999,MATCH($G12,العاملين!$B$2:'العاملين'!$B$999,0)),\"\")","v":""},{"$f":"IFERROR(INDEX(العاملين!$B$2:'العاملين'!$B$999,SMALL(IF(العاملين!$G$2:'العاملين'!$G$999=\"Wed\",ROW(العاملين!$B$2:'العاملين'!$B$999)-ROW(العاملين!$B$2)+1),ROWS($I$2:I12))),\"\")","v":""},{"$f":"IFERROR(INDEX(العاملين!$C$2:$C$999,MATCH($I12,العاملين!$B$2:'العاملين'!$B$999,0)),\"\")","v":""},{"$f":"IFERROR(INDEX(العاملين!$B$2:'العاملين'!$B$999,SMALL(IF(العاملين!$G$2:'العاملين'!$G$999=\"Thu\",ROW(العاملين!$B$2:'العاملين'!$B$999)-ROW(العاملين!$B$2)+1),ROWS($K$2:K12))),\"\")","v":""},{"$f":"IFERROR(INDEX(العاملين!$C$2:$C$999,MATCH($K12,العاملين!$B$2:'العاملين'!$B$999,0)),\"\")","v":""},{"$f":"IFERROR(INDEX(العاملين!$B$2:'العاملين'!$B$999,SMALL(IF(العاملين!$G$2:'العاملين'!$G$999=\"Fri\",ROW(العاملين!$B$2:'العاملين'!$B$999)-ROW(العاملين!$B$2)+1),ROWS($M$2:M12))),\"\")","v":""},{"$f":"IFERROR(INDEX(العاملين!$C$2:$C$999,MATCH($M12,العاملين!$B$2:'العاملين'!$B$999,0)),\"\")","v":""}]
[{"$f":"IFERROR(INDEX(العاملين!$B$2:'العاملين'!$B$999,SMALL(IF(العاملين!$G$2:'العاملين'!$G$999=\"Sat\",ROW(العاملين!$B$2:'العاملين'!$B$999)-ROW(العاملين!$B$2)+1),ROWS($A$2:A13))),\"\")","v":""},{"$f":"IFERROR(INDEX(العاملين!$C$2:$C$999,MATCH($A13,العاملين!$B$2:'العاملين'!$B$999,0)),\"\")","v":""},{"$f":"IFERROR(INDEX(العاملين!$B$2:'العاملين'!$B$999,SMALL(IF(العاملين!$G$2:'العاملين'!$G$999=\"Sun\",ROW(العاملين!$B$2:'العاملين'!$B$999)-ROW(العاملين!$B$2)+1),ROWS($C$2:C13))),\"\")","v":""},{"$f":"IFERROR(INDEX(العاملين!$C$2:$C$999,MATCH($C13,العاملين!$B$2:'العاملين'!$B$999,0)),\"\")","v":""},{"$f":"IFERROR(INDEX(العاملين!$B$2:'العاملين'!$B$999,SMALL(IF(العاملين!$G$2:'العاملين'!$G$999=\"Mon\",ROW(العاملين!$B$2:'العاملين'!$B$999)-ROW(العاملين!$B$2)+1),ROWS($E$2:E13))),\"\")","v":""},{"$f":"IFERROR(INDEX(العاملين!$C$2:$C$999,MATCH($E13,العاملين!$B$2:'العاملين'!$B$999,0)),\"\")","v":""},{"$f":"IFERROR(INDEX(العاملين!$B$2:'العاملين'!$B$999,SMALL(IF(العاملين!$G$2:'العاملين'!$G$999=\"Tue\",ROW(العاملين!$B$2:'العاملين'!$B$999)-ROW(العاملين!$B$2)+1),ROWS($G$2:G13))),\"\")","v":""},{"$f":"IFERROR(INDEX(العاملين!$C$2:$C$999,MATCH($G13,العاملين!$B$2:'العاملين'!$B$999,0)),\"\")","v":""},{"$f":"IFERROR(INDEX(العاملين!$B$2:'العاملين'!$B$999,SMALL(IF(العاملين!$G$2:'العاملين'!$G$999=\"Wed\",ROW(العاملين!$B$2:'العاملين'!$B$999)-ROW(العاملين!$B$2)+1),ROWS($I$2:I13))),\"\")","v":""},{"$f":"IFERROR(INDEX(العاملين!$C$2:$C$999,MATCH($I13,العاملين!$B$2:'العاملين'!$B$999,0)),\"\")","v":""},{"$f":"IFERROR(INDEX(العاملين!$B$2:'العاملين'!$B$999,SMALL(IF(العاملين!$G$2:'العاملين'!$G$999=\"Thu\",ROW(العاملين!$B$2:'العاملين'!$B$999)-ROW(العاملين!$B$2)+1),ROWS($K$2:K13))),\"\")","v":""},{"$f":"IFERROR(INDEX(العاملين!$C$2:$C$999,MATCH($K13,العاملين!$B$2:'العاملين'!$B$999,0)),\"\")","v":""},{"$f":"IFERROR(INDEX(العاملين!$B$2:'العاملين'!$B$999,SMALL(IF(العاملين!$G$2:'العاملين'!$G$999=\"Fri\",ROW(العاملين!$B$2:'العاملين'!$B$999)-ROW(العاملين!$B$2)+1),ROWS($M$2:M13))),\"\")","v":""},{"$f":"IFERROR(INDEX(العاملين!$C$2:$C$999,MATCH($M13,العاملين!$B$2:'العاملين'!$B$999,0)),\"\")","v":""}]
[{"$f":"IFERROR(INDEX(العاملين!$B$2:'العاملين'!$B$999,SMALL(IF(العاملين!$G$2:'العاملين'!$G$999=\"Sat\",ROW(العاملين!$B$2:'العاملين'!$B$999)-ROW(العاملين!$B$2)+1),ROWS($A$2:A14))),\"\")","v":""},{"$f":"IFERROR(INDEX(العاملين!$C$2:$C$999,MATCH($A14,العاملين!$B$2:'العاملين'!$B$999,0)),\"\")","v":""},{"$f":"IFERROR(INDEX(العاملين!$B$2:'العاملين'!$B$999,SMALL(IF(العاملين!$G$2:'العاملين'!$G$999=\"Sun\",ROW(العاملين!$B$2:'العاملين'!$B$999)-ROW(العاملين!$B$2)+1),ROWS($C$2:C14))),\"\")","v":""},{"$f":"IFERROR(INDEX(العاملين!$C$2:$C$999,MATCH($C14,العاملين!$B$2:'العاملين'!$B$999,0)),\"\")","v":""},{"$f":"IFERROR(INDEX(العاملين!$B$2:'العاملين'!$B$999,SMALL(IF(العاملين!$G$2:'العاملين'!$G$999=\"Mon\",ROW(العاملين!$B$2:'العاملين'!$B$999)-ROW(العاملين!$B$2)+1),ROWS($E$2:E14))),\"\")","v":""},{"$f":"IFERROR(INDEX(العاملين!$C$2:$C$999,MATCH($E14,العاملين!$B$2:'العاملين'!$B$999,0)),\"\")","v":""},{"$f":"IFERROR(INDEX(العاملين!$B$2:'العاملين'!$B$999,SMALL(IF(العاملين!$G$2:'العاملين'!$G$999=\"Tue\",ROW(العاملين!$B$2:'العاملين'!$B$999)-ROW(العاملين!$B$2)+1),ROWS($G$2:G14))),\"\")","v":""},{"$f":"IFERROR(INDEX(العاملين!$C$2:$C$999,MATCH($G14,العاملين!$B$2:'العاملين'!$B$999,0)),\"\")","v":""},{"$f":"IFERROR(INDEX(العاملين!$B$2:'العاملين'!$B$999,SMALL(IF(العاملين!$G$2:'العاملين'!$G$999=\"Wed\",ROW(العاملين!$B$2:'العاملين'!$B$999)-ROW(العاملين!$B$2)+1),ROWS($I$2:I14))),\"\")","v":""},{"$f":"IFERROR(INDEX(العاملين!$C$2:$C$999,MATCH($I14,العاملين!$B$2:'العاملين'!$B$999,0)),\"\")","v":""},{"$f":"IFERROR(INDEX(العاملين!$B$2:'العاملين'!$B$999,SMALL(IF(العاملين!$G$2:'العاملين'!$G$999=\"Thu\",ROW(العاملين!$B$2:'العاملين'!$B$999)-ROW(العاملين!$B$2)+1),ROWS($K$2:K14))),\"\")","v":""},{"$f":"IFERROR(INDEX(العاملين!$C$2:$C$999,MATCH($K14,العاملين!$B$2:'العاملين'!$B$999,0)),\"\")","v":""},{"$f":"IFERROR(INDEX(العاملين!$B$2:'العاملين'!$B$999,SMALL(IF(العاملين!$G$2:'العاملين'!$G$999=\"Fri\",ROW(العاملين!$B$2:'العاملين'!$B$999)-ROW(العاملين!$B$2)+1),ROWS($M$2:M14))),\"\")","v":""},{"$f":"IFERROR(INDEX(العاملين!$C$2:$C$999,MATCH($M14,العاملين!$B$2:'العاملين'!$B$999,0)),\"\")","v":""}]
[{"$f":"IFERROR(INDEX(العاملين!$B$2:'العاملين'!$B$999,SMALL(IF(العاملين!$G$2:'العاملين'!$G$999=\"Sat\",ROW(العاملين!$B$2:'العاملين'!$B$999)-ROW(العاملين!$B$2)+1),ROWS($A$2:A15))),\"\")","v":""},{"$f":"IFERROR(INDEX(العاملين!$C$2:$C$999,MATCH($A15,العاملين!$B$2:'العاملين'!$B$999,0)),\"\")","v":""},{"$f":"IFERROR(INDEX(العاملين!$B$2:'العاملين'!$B$999,SMALL(IF(العاملين!$G$2:'العاملين'!$G$999=\"Sun\",ROW(العاملين!$B$2:'العاملين'!$B$999)-ROW(العاملين!$B$2)+1),ROWS($C$2:C15))),\"\")","v":""},{"$f":"IFERROR(INDEX(العاملين!$C$2:$C$999,MATCH($C15,العاملين!$B$2:'العاملين'!$B$999,0)),\"\")","v":""},{"$f":"IFERROR(INDEX(العاملين!$B$2:'العاملين'!$B$999,SMALL(IF(العاملين!$G$2:'العاملين'!$G$999=\"Mon\",ROW(العاملين!$B$2:'العاملين'!$B$999)-ROW(العاملين!$B$2)+1),ROWS($E$2:E15))),\"\")","v":""},{"$f":"IFERROR(INDEX(العاملين!$C$2:$C$999,MATCH($E15,العاملين!$B$2:'العاملين'!$B$999,0)),\"\")","v":""},{"$f":"IFERROR(INDEX(العاملين!$B$2:'العاملين'!$B$999,SMALL(IF(العاملين!$G$2:'العاملين'!$G$999=\"Tue\",ROW(العاملين!$B$2:'العاملين'!$B$999)-ROW(العاملين!$B$2)+1),ROWS($G$2:G15))),\"\")","v":""},{"$f":"IFERROR(INDEX(العاملين!$C$2:$C$999,MATCH($G15,العاملين!$B$2:'العاملين'!$B$999,0)),\"\")","v":""},{"$f":"IFERROR(INDEX(العاملين!$B$2:'العاملين'!$B$999,SMALL(IF(العاملين!$G$2:'العاملين'!$G$999=\"Wed\",ROW(العاملين!$B$2:'العاملين'!$B$999)-ROW(العاملين!$B$2)+1),ROWS($I$2:I15))),\"\")","v":""},{"$f":"IFERROR(INDEX(العاملين!$C$2:$C$999,MATCH($I15,العاملين!$B$2:'العاملين'!$B$999,0)),\"\")","v":""},{"$f":"IFERROR(INDEX(العاملين!$B$2:'العاملين'!$B$999,SMALL(IF(العاملين!$G$2:'العاملين'!$G$999=\"Thu\",ROW(العاملين!$B$2:'العاملين'!$B$999)-ROW(العاملين!$B$2)+1),ROWS($K$2:K15))),\"\")","v":""},{"$f":"IFERROR(INDEX(العاملين!$C$2:$C$999,MATCH($K15,العاملين!$B$2:'العاملين'!$B$999,0)),\"\")","v":""},{"$f":"IFERROR(INDEX(العاملين!$B$2:'العاملين'!$B$999,SMALL(IF(العاملين!$G$2:'العاملين'!$G$999=\"Fri\",ROW(العاملين!$B$2:'العاملين'!$B$999)-ROW(العاملين!$B$2)+1),ROWS($M$2:M15))),\"\")","v":""},{"$f":"IFERROR(INDEX(العاملين!$C$2:$C$999,MATCH($M15,العاملين!$B$2:'العاملين'!$B$999,0)),\"\")","v":""}]
[{"$f":"IFERROR(INDEX(العاملين!$B$2:'العاملين'!$B$999,SMALL(IF(العاملين!$G$2:'العاملين'!$G$999=\"Sat\",ROW(العاملين!$B$2:'العاملين'!$B$999)-ROW(العاملين!$B$2)+1),ROWS($A$2:A16))),\"\")","v":""},{"$f":"IFERROR(INDEX(العاملين!$C$2:$C$999,MATCH($A16,العاملين!$B$2:'العاملين'!$B$999,0)),\"\")","v":""},{"$f":"IFERROR(INDEX(العاملين!$B$2:'العاملين'!$B$999,SMALL(IF(العاملين!$G$2:'العاملين'!$G$999=\"Sun\",ROW(العاملين!$B$2:'العاملين'!$B$999)-ROW(العاملين!$B$2)+1),ROWS($C$2:C16))),\"\")","v":""},{"$f":"IFERROR(INDEX(العاملين!$C$2:$C$999,MATCH($C16,العاملين!$B$2:'العاملين'!$B$999,0)),\"\")","v":""},{"$f":"IFERROR(INDEX(العاملين!$B$2:'العاملين'!$B$999,SMALL(IF(العاملين!$G$2:'العاملين'!$G$999=\"Mon\",ROW(العاملين!$B$2:'العاملين'!$B$999)-ROW(العاملين!$B$2)+1),ROWS($E$2:E16))),\"\")","v":""},{"$f":"IFERROR(INDEX(العاملين!$C$2:$C$999,MATCH($E16,العاملين!$B$2:'العاملين'!$B$999,0)),\"\")","v":""},{"$f":"IFERROR(INDEX(العاملين!$B$2:'العاملين'!$B$999,SMALL(IF(العاملين!$G$2:'العاملين'!$G$999=\"Tue\",ROW(العاملين!$B$2:'العاملين'!$B$999)-ROW(العاملين!$B$2)+1),ROWS($G$2:G16))),\"\")","v":""},{"$f":"IFERROR(INDEX(العاملين!$C$2:$C$999,MATCH($G16,العاملين!$B$2:'العاملين'!$B$999,0)),\"\")","v":""},{"$f":"IFERROR(INDEX(العاملين!$B$2:'العاملين'!$B$999,SMALL(IF(العاملين!$G$2:'العاملين'!$G$999=\"Wed\",ROW(العاملين!$B$2:'العاملين'!$B$999)-ROW(العاملين!$B$2)+1),ROWS($I$2:I16))),\"\")","v":""},{"$f":"IFERROR(INDEX(العاملين!$C$2:$C$999,MATCH($I16,العاملين!$B$2:'العاملين'!$B$999,0)),\"\")","v":""},{"$f":"IFERROR(INDEX(العاملين!$B$2:'العاملين'!$B$999,SMALL(IF(العاملين!$G$2:'العاملين'!$G$999=\"Thu\",ROW(العاملين!$B$2:'العاملين'!$B$999)-ROW(العاملين!$B$2)+1),ROWS($K$2:K16))),\"\")","v":""},{"$f":"IFERROR(INDEX(العاملين!$C$2:$C$999,MATCH($K16,العاملين!$B$2:'العاملين'!$B$999,0)),\"\")","v":""},{"$f":"IFERROR(INDEX(العاملين!$B$2:'العاملين'!$B$999,SMALL(IF(العاملين!$G$2:'العاملين'!$G$999=\"Fri\",ROW(العاملين!$B$2:'العاملين'!$B$999)-ROW(العاملين!$B$2)+1),ROWS($M$2:M16))),\"\")","v":""},{"$f":"IFERROR(INDEX(العاملين!$C$2:$C$999,MATCH($M16,العاملين!$B$2:'العاملين'!$B$999,0)),\"\")","v":""}]
[{"$f":"IFERROR(INDEX(العاملين!$B$2:'العاملين'!$B$999,SMALL(IF(العاملين!$G$2:'العاملين'!$G$999=\"Sat\",ROW(العاملين!$B$2:'العاملين'!$B$999)-ROW(العاملين!$B$2)+1),ROWS($A$2:A17))),\"\")","v":""},{"$f":"IFERROR(INDEX(العاملين!$C$2:$C$999,MATCH($A17,العاملين!$B$2:'العاملين'!$B$999,0)),\"\")","v":""},{"$f":"IFERROR(INDEX(العاملين!$B$2:'العاملين'!$B$999,SMALL(IF(العاملين!$G$2:'العاملين'!$G$999=\"Sun\",ROW(العاملين!$B$2:'العاملين'!$B$999)-ROW(العاملين!$B$2)+1),ROWS($C$2:C17))),\"\")","v":""},{"$f":"IFERROR(INDEX(العاملين!$C$2:$C$999,MATCH($C17,العاملين!$B$2:'العاملين'!$B$999,0)),\"\")","v":""},{"$f":"IFERROR(INDEX(العاملين!$B$2:'العاملين'!$B$999,SMALL(IF(العاملين!$G$2:'العاملين'!$G$999=\"Mon\",ROW(العاملين!$B$2:'العاملين'!$B$999)-ROW(العاملين!$B$2)+1),ROWS($E$2:E17))),\"\")","v":""},{"$f":"IFERROR(INDEX(العاملين!$C$2:$C$999,MATCH($E17,العاملين!$B$2:'العاملين'!$B$999,0)),\"\")","v":""},{"$f":"IFERROR(INDEX(العاملين!$B$2:'العاملين'!$B$999,SMALL(IF(العاملين!$G$2:'العاملين'!$G$999=\"Tue\",ROW(العاملين!$B$2:'العاملين'!$B$999)-ROW(العاملين!$B$2)+1),ROWS($G$2:G17))),\"\")","v":""},{"$f":"IFERROR(INDEX(العاملين!$C$2:$C$999,MATCH($G17,العاملين!$B$2:'العاملين'!$B$999,0)),\"\")","v":""},{"$f":"IFERROR(INDEX(العاملين!$B$2:'العاملين'!$B$999,SMALL(IF(العاملين!$G$2:'العاملين'!$G$999=\"Wed\",ROW(العاملين!$B$2:'العاملين'!$B$999)-ROW(العاملين!$B$2)+1),ROWS($I$2:I17))),\"\")","v":""},{"$f":"IFERROR(INDEX(العاملين!$C$2:$C$999,MATCH($I17,العاملين!$B$2:'العاملين'!$B$999,0)),\"\")","v":""},{"$f":"IFERROR(INDEX(العاملين!$B$2:'العاملين'!$B$999,SMALL(IF(العاملين!$G$2:'العاملين'!$G$999=\"Thu\",ROW(العاملين!$B$2:'العاملين'!$B$999)-ROW(العاملين!$B$2)+1),ROWS($K$2:K17))),\"\")","v":""},{"$f":"IFERROR(INDEX(العاملين!$C$2:$C$999,MATCH($K17,العاملين!$B$2:'العاملين'!$B$999,0)),\"\")","v":""},{"$f":"IFERROR(INDEX(العاملين!$B$2:'العاملين'!$B$999,SMALL(IF(العاملين!$G$2:'العاملين'!$G$999=\"Fri\",ROW(العاملين!$B$2:'العاملين'!$B$999)-ROW(العاملين!$B$2)+1),ROWS($M$2:M17))),\"\")","v":""},{"$f":"IFERROR(INDEX(العاملين!$C$2:$C$999,MATCH($M17,العاملين!$B$2:'العاملين'!$B$999,0)),\"\")","v":""}]
[{"$f":"IFERROR(INDEX(العاملين!$B$2:'العاملين'!$B$999,SMALL(IF(العاملين!$G$2:'العاملين'!$G$999=\"Sat\",ROW(العاملين!$B$2:'العاملين'!$B$999)-ROW(العاملين!$B$2)+1),ROWS($A$2:A18))),\"\")","v":""},null,{"$f":"IFERROR(INDEX(العاملين!$B$2:'العاملين'!$B$999,SMALL(IF(العاملين!$G$2:'العاملين'!$G$999=\"Sun\",ROW(العاملين!$B$2:'العاملين'!$B$999)-ROW(العاملين!$B$2)+1),ROWS($C$2:C18))),\"\")","v":""},{"$f":"IFERROR(INDEX(العاملين!$C$2:$C$999,MATCH($C18,العاملين!$B$2:'العاملين'!$B$999,0)),\"\")","v":""},{"$f":"IFERROR(INDEX(العاملين!$B$2:'العاملين'!$B$999,SMALL(IF(العاملين!$G$2:'العاملين'!$G$999=\"Mon\",ROW(العاملين!$B$2:'العاملين'!$B$999)-ROW(العاملين!$B$2)+1),ROWS($E$2:E18))),\"\")","v":""},{"$f":"IFERROR(INDEX(العاملين!$C$2:$C$999,MATCH($E18,العاملين!$B$2:'العاملين'!$B$999,0)),\"\")","v":""},{"$f":"IFERROR(INDEX(العاملين!$B$2:'العاملين'!$B$999,SMALL(IF(العاملين!$G$2:'العاملين'!$G$999=\"Tue\",ROW(العاملين!$B$2:'العاملين'!$B$999)-ROW(العاملين!$B$2)+1),ROWS($G$2:G18))),\"\")","v":""},{"$f":"IFERROR(INDEX(العاملين!$C$2:$C$999,MATCH($G18,العاملين!$B$2:'العاملين'!$B$999,0)),\"\")","v":""},{"$f":"IFERROR(INDEX(العاملين!$B$2:'العاملين'!$B$999,SMALL(IF(العاملين!$G$2:'العاملين'!$G$999=\"Wed\",ROW(العاملين!$B$2:'العاملين'!$B$999)-ROW(العاملين!$B$2)+1),ROWS($I$2:I18))),\"\")","v":""},{"$f":"IFERROR(INDEX(العاملين!$C$2:$C$999,MATCH($I18,العاملين!$B$2:'العاملين'!$B$999,0)),\"\")","v":""},{"$f":"IFERROR(INDEX(العاملين!$B$2:'العاملين'!$B$999,SMALL(IF(العاملين!$G$2:'العاملين'!$G$999=\"Thu\",ROW(العاملين!$B$2:'العاملين'!$B$999)-ROW(العاملين!$B$2)+1),ROWS($K$2:K18))),\"\")","v":""},{"$f":"IFERROR(INDEX(العاملين!$C$2:$C$999,MATCH($K18,العاملين!$B$2:'العاملين'!$B$999,0)),\"\")","v":""},{"$f":"IFERROR(INDEX(العاملين!$B$2:'العاملين'!$B$999,SMALL(IF(العاملين!$G$2:'العاملين'!$G$999=\"Fri\",ROW(العاملين!$B$2:'العاملين'!$B$999)-ROW(العاملين!$B$2)+1),ROWS($M$2:M18))),\"\")","v":""},{"$f":"IFERROR(INDEX(العاملين!$C$2:$C$999,MATCH($M18,العاملين!$B$2:'العاملين'!$B$999,0)),\"\")","v":""}]
[{"$f":"IFERROR(INDEX(العاملين!$B$2:'العاملين'!$B$999,SMALL(IF(العاملين!$G$2:'العاملين'!$G$999=\"Sat\",ROW(العاملين!$B$2:'العاملين'!$B$999)-ROW(العاملين!$B$2)+1),ROWS($A$2:A19))),\"\")","v":""},null,{"$f":"IFERROR(INDEX(العاملين!$B$2:'العاملين'!$B$999,SMALL(IF(العاملين!$G$2:'العاملين'!$G$999=\"Sun\",ROW(العاملين!$B$2:'العاملين'!$B$999)-ROW(العاملين!$B$2)+1),ROWS($C$2:C19))),\"\")","v":""},{"$f":"IFERROR(INDEX(العاملين!$C$2:$C$999,MATCH($C19,العاملين!$B$2:'العاملين'!$B$999,0)),\"\")","v":""},{"$f":"IFERROR(INDEX(العاملين!$B$2:'العاملين'!$B$999,SMALL(IF(العاملين!$G$2:'العاملين'!$G$999=\"Mon\",ROW(العاملين!$B$2:'العاملين'!$B$999)-ROW(العاملين!$B$2)+1),ROWS($E$2:E19))),\"\")","v":""},{"$f":"IFERROR(INDEX(العاملين!$C$2:$C$999,MATCH($E19,العاملين!$B$2:'العاملين'!$B$999,0)),\"\")","v":""},{"$f":"IFERROR(INDEX(العاملين!$B$2:'العاملين'!$B$999,SMALL(IF(العاملين!$G$2:'العاملين'!$G$999=\"Tue\",ROW(العاملين!$B$2:'العاملين'!$B$999)-ROW(العاملين!$B$2)+1),ROWS($G$2:G19))),\"\")","v":""},{"$f":"IFERROR(INDEX(العاملين!$C$2:$C$999,MATCH($G19,العاملين!$B$2:'العاملين'!$B$999,0)),\"\")","v":""},{"$f":"IFERROR(INDEX(العاملين!$B$2:'العاملين'!$B$999,SMALL(IF(العاملين!$G$2:'العاملين'!$G$999=\"Wed\",ROW(العاملين!$B$2:'العاملين'!$B$999)-ROW(العاملين!$B$2)+1),ROWS($I$2:I19))),\"\")","v":""},{"$f":"IFERROR(INDEX(العاملين!$C$2:$C$999,MATCH($I19,العاملين!$B$2:'العاملين'!$B$999,0)),\"\")","v":""},{"$f":"IFERROR(INDEX(العاملين!$B$2:'العاملين'!$B$999,SMALL(IF(العاملين!$G$2:'العاملين'!$G$999=\"Thu\",ROW(العاملين!$B$2:'العاملين'!$B$999)-ROW(العاملين!$B$2)+1),ROWS($K$2:K19))),\"\")","v":""},{"$f":"IFERROR(INDEX(العاملين!$C$2:$C$999,MATCH($K19,العاملين!$B$2:'العاملين'!$B$999,0)),\"\")","v":""},{"$f":"IFERROR(INDEX(العاملين!$B$2:'العاملين'!$B$999,SMALL(IF(العاملين!$G$2:'العاملين'!$G$999=\"Fri\",ROW(العاملين!$B$2:'العاملين'!$B$999)-ROW(العاملين!$B$2)+1),ROWS($M$2:M19))),\"\")","v":""},{"$f":"IFERROR(INDEX(العاملين!$C$2:$C$999,MATCH($M19,العاملين!$B$2:'العاملين'!$B$999,0)),\"\")","v":""}]
[{"$f":"IFERROR(INDEX(العاملين!$B$2:'العاملين'!$B$999,SMALL(IF(العاملين!$G$2:'العاملين'!$G$999=\"Sat\",ROW(العاملين!$B$2:'العاملين'!$B$999)-ROW(العاملين!$B$2)+1),ROWS($A$2:A20))),\"\")","v":""},null,{"$f":"IFERROR(INDEX(العاملين!$B$2:'العاملين'!$B$999,SMALL(IF(العاملين!$G$2:'العاملين'!$G$999=\"Sun\",ROW(العاملين!$B$2:'العاملين'!$B$999)-ROW(العاملين!$B$2)+1),ROWS($C$2:C20))),\"\")","v":""},{"$f":"IFERROR(INDEX(العاملين!$C$2:$C$999,MATCH($C20,العاملين!$B$2:'العاملين'!$B$999,0)),\"\")","v":""},{"$f":"IFERROR(INDEX(العاملين!$B$2:'العاملين'!$B$999,SMALL(IF(العاملين!$G$2:'العاملين'!$G$999=\"Mon\",ROW(العاملين!$B$2:'العاملين'!$B$999)-ROW(العاملين!$B$2)+1),ROWS($E$2:E20))),\"\")","v":""},{"$f":"IFERROR(INDEX(العاملين!$C$2:$C$999,MATCH($E20,العاملين!$B$2:'العاملين'!$B$999,0)),\"\")","v":""},{"$f":"IFERROR(INDEX(العاملين!$B$2:'العاملين'!$B$999,SMALL(IF(العاملين!$G$2:'العاملين'!$G$999=\"Tue\",ROW(العاملين!$B$2:'العاملين'!$B$999)-ROW(العاملين!$B$2)+1),ROWS($G$2:G20))),\"\")","v":""},{"$f":"IFERROR(INDEX(العاملين!$C$2:$C$999,MATCH($G20,العاملين!$B$2:'العاملين'!$B$999,0)),\"\")","v":""},{"$f":"IFERROR(INDEX(العاملين!$B$2:'العاملين'!$B$999,SMALL(IF(العاملين!$G$2:'العاملين'!$G$999=\"Wed\",ROW(العاملين!$B$2:'العاملين'!$B$999)-ROW(العاملين!$B$2)+1),ROWS($I$2:I20))),\"\")","v":""},{"$f":"IFERROR(INDEX(العاملين!$C$2:$C$999,MATCH($I20,العاملين!$B$2:'العاملين'!$B$999,0)),\"\")","v":""},{"$f":"IFERROR(INDEX(العاملين!$B$2:'العاملين'!$B$999,SMALL(IF(العاملين!$G$2:'العاملين'!$G$999=\"Thu\",ROW(العاملين!$B$2:'العاملين'!$B$999)-ROW(العاملين!$B$2)+1),ROWS($K$2:K20))),\"\")","v":""},{"$f":"IFERROR(INDEX(العاملين!$C$2:$C$999,MATCH($K20,العاملين!$B$2:'العاملين'!$B$999,0)),\"\")","v":""},{"$f":"IFERROR(INDEX(العاملين!$B$2:'العاملين'!$B$999,SMALL(IF(العاملين!$G$2:'العاملين'!$G$999=\"Fri\",ROW(العاملين!$B$2:'العاملين'!$B$999)-ROW(العاملين!$B$2)+1),ROWS($M$2:M20))),\"\")","v":""},{"$f":"IFERROR(INDEX(العاملين!$C$2:$C$999,MATCH($M20,العاملين!$B$2:'العاملين'!$B$999,0)),\"\")","v":""}]
[{"$f":"IFERROR(INDEX(العاملين!$B$2:'العاملين'!$B$999,SMALL(IF(العاملين!$G$2:'العاملين'!$G$999=\"Sat\",ROW(العاملين!$B$2:'العاملين'!$B$999)-ROW(العاملين!$B$2)+1),ROWS($A$2:A21))),\"\")","v":""},null,{"$f":"IFERROR(INDEX(العاملين!$B$2:'العاملين'!$B$999,SMALL(IF(العاملين!$G$2:'العاملين'!$G$999=\"Sun\",ROW(العاملين!$B$2:'العاملين'!$B$999)-ROW(العاملين!$B$2)+1),ROWS($C$2:C21))),\"\")","v":""},{"$f":"IFERROR(INDEX(العاملين!$C$2:$C$999,MATCH($C21,العاملين!$B$2:'العاملين'!$B$999,0)),\"\")","v":""},{"$f":"IFERROR(INDEX(العاملين!$B$2:'العاملين'!$B$999,SMALL(IF(العاملين!$G$2:'العاملين'!$G$999=\"Mon\",ROW(العاملين!$B$2:'العاملين'!$B$999)-ROW(العاملين!$B$2)+1),ROWS($E$2:E21))),\"\")","v":""},{"$f":"IFERROR(INDEX(العاملين!$C$2:$C$999,MATCH($E21,العاملين!$B$2:'العاملين'!$B$999,0)),\"\")","v":""},{"$f":"IFERROR(INDEX(العاملين!$B$2:'العاملين'!$B$999,SMALL(IF(العاملين!$G$2:'العاملين'!$G$999=\"Tue\",ROW(العاملين!$B$2:'العاملين'!$B$999)-ROW(العاملين!$B$2)+1),ROWS($G$2:G21))),\"\")","v":""},{"$f":"IFERROR(INDEX(العاملين!$C$2:$C$999,MATCH($G21,العاملين!$B$2:'العاملين'!$B$999,0)),\"\")","v":""},{"$f":"IFERROR(INDEX(العاملين!$B$2:'العاملين'!$B$999,SMALL(IF(العاملين!$G$2:'العاملين'!$G$999=\"Wed\",ROW(العاملين!$B$2:'العاملين'!$B$999)-ROW(العاملين!$B$2)+1),ROWS($I$2:I21))),\"\")","v":""},{"$f":"IFERROR(INDEX(العاملين!$C$2:$C$999,MATCH($I21,العاملين!$B$2:'العاملين'!$B$999,0)),\"\")","v":""},{"$f":"IFERROR(INDEX(العاملين!$B$2:'العاملين'!$B$999,SMALL(IF(العاملين!$G$2:'العاملين'!$G$999=\"Thu\",ROW(العاملين!$B$2:'العاملين'!$B$999)-ROW(العاملين!$B$2)+1),ROWS($K$2:K21))),\"\")","v":""},{"$f":"IFERROR(INDEX(العاملين!$C$2:$C$999,MATCH($K21,العاملين!$B$2:'العاملين'!$B$999,0)),\"\")","v":""},{"$f":"IFERROR(INDEX(العاملين!$B$2:'العاملين'!$B$999,SMALL(IF(العاملين!$G$2:'العاملين'!$G$999=\"Fri\",ROW(العاملين!$B$2:'العاملين'!$B$999)-ROW(العاملين!$B$2)+1),ROWS($M$2:M21))),\"\")","v":""},{"$f":"IFERROR(INDEX(العاملين!$C$2:$C$999,MATCH($M21,العاملين!$B$2:'العاملين'!$B$999,0)),\"\")","v":""}]
[{"$f":"IFERROR(INDEX(العاملين!$B$2:'العاملين'!$B$999,SMALL(IF(العاملين!$G$2:'العاملين'!$G$999=\"Sat\",ROW(العاملين!$B$2:'العاملين'!$B$999)-ROW(العاملين!$B$2)+1),ROWS($A$2:A22))),\"\")","v":""},null,{"$f":"IFERROR(INDEX(العاملين!$B$2:'العاملين'!$B$999,SMALL(IF(العاملين!$G$2:'العاملين'!$G$999=\"Sun\",ROW(العاملين!$B$2:'العاملين'!$B$999)-ROW(العاملين!$B$2)+1),ROWS($C$2:C22))),\"\")","v":""},{"$f":"IFERROR(INDEX(العاملين!$C$2:$C$999,MATCH($C22,العاملين!$B$2:'العاملين'!$B$999,0)),\"\")","v":""},{"$f":"IFERROR(INDEX(العاملين!$B$2:'العاملين'!$B$999,SMALL(IF(العاملين!$G$2:'العاملين'!$G$999=\"Mon\",ROW(العاملين!$B$2:'العاملين'!$B$999)-ROW(العاملين!$B$2)+1),ROWS($E$2:E22))),\"\")","v":""},{"$f":"IFERROR(INDEX(العاملين!$C$2:$C$999,MATCH($E22,العاملين!$B$2:'العاملين'!$B$999,0)),\"\")","v":""},{"$f":"IFERROR(INDEX(العاملين!$B$2:'العاملين'!$B$999,SMALL(IF(العاملين!$G$2:'العاملين'!$G$999=\"Tue\",ROW(العاملين!$B$2:'العاملين'!$B$999)-ROW(العاملين!$B$2)+1),ROWS($G$2:G22))),\"\")","v":""},{"$f":"IFERROR(INDEX(العاملين!$C$2:$C$999,MATCH($G22,العاملين!$B$2:'العاملين'!$B$999,0)),\"\")","v":""},{"$f":"IFERROR(INDEX(العاملين!$B$2:'العاملين'!$B$999,SMALL(IF(العاملين!$G$2:'العاملين'!$G$999=\"Wed\",ROW(العاملين!$B$2:'العاملين'!$B$999)-ROW(العاملين!$B$2)+1),ROWS($I$2:I22))),\"\")","v":""},{"$f":"IFERROR(INDEX(العاملين!$C$2:$C$999,MATCH($I22,العاملين!$B$2:'العاملين'!$B$999,0)),\"\")","v":""},{"$f":"IFERROR(INDEX(العاملين!$B$2:'العاملين'!$B$999,SMALL(IF(العاملين!$G$2:'العاملين'!$G$999=\"Thu\",ROW(العاملين!$B$2:'العاملين'!$B$999)-ROW(العاملين!$B$2)+1),ROWS($K$2:K22))),\"\")","v":""},{"$f":"IFERROR(INDEX(العاملين!$C$2:$C$999,MATCH($K22,العاملين!$B$2:'العاملين'!$B$999,0)),\"\")","v":""},{"$f":"IFERROR(INDEX(العاملين!$B$2:'العاملين'!$B$999,SMALL(IF(العاملين!$G$2:'العاملين'!$G$999=\"Fri\",ROW(العاملين!$B$2:'العاملين'!$B$999)-ROW(العاملين!$B$2)+1),ROWS($M$2:M22))),\"\")","v":""},{"$f":"IFERROR(INDEX(العاملين!$C$2:$C$999,MATCH($M22,العاملين!$B$2:'العاملين'!$B$999,0)),\"\")","v":""}]
[null,null,{"$f":"IFERROR(INDEX(العاملين!$B$2:'العاملين'!$B$999,SMALL(IF(العاملين!$G$2:'العاملين'!$G$999=\"Sun\",ROW(العاملين!$B$2:'العاملين'!$B$999)-ROW(العاملين!$B$2)+1),ROWS($C$2:C23))),\"\")","v":""},{"$f":"IFERROR(INDEX(العاملين!$C$2:$C$999,MATCH($C23,العاملين!$B$2:'العاملين'!$B$999,0)),\"\")","v":""},{"$f":"IFERROR(INDEX(العاملين!$B$2:'العاملين'!$B$999,SMALL(IF(العاملين!$G$2:'العاملين'!$G$999=\"Mon\",ROW(العاملين!$B$2:'العاملين'!$B$999)-ROW(العاملين!$B$2)+1),ROWS($E$2:E23))),\"\")","v":""},{"$f":"IFERROR(INDEX(العاملين!$C$2:$C$999,MATCH($E23,العاملين!$B$2:'العاملين'!$B$999,0)),\"\")","v":""},{"$f":"IFERROR(INDEX(العاملين!$B$2:'العاملين'!$B$999,SMALL(IF(العاملين!$G$2:'العاملين'!$G$999=\"Tue\",ROW(العاملين!$B$2:'العاملين'!$B$999)-ROW(العاملين!$B$2)+1),ROWS($G$2:G23))),\"\")","v":""},{"$f":"IFERROR(INDEX(العاملين!$C$2:$C$999,MATCH($G23,العاملين!$B$2:'العاملين'!$B$999,0)),\"\")","v":""},{"$f":"IFERROR(INDEX(العاملين!$B$2:'العاملين'!$B$999,SMALL(IF(العاملين!$G$2:'العاملين'!$G$999=\"Wed\",ROW(العاملين!$B$2:'العاملين'!$B$999)-ROW(العاملين!$B$2)+1),ROWS($I$2:I23))),\"\")","v":""},{"$f":"IFERROR(INDEX(العاملين!$C$2:$C$999,MATCH($I23,العاملين!$B$2:'العاملين'!$B$999,0)),\"\")","v":""},{"$f":"IFERROR(INDEX(العاملين!$B$2:'العاملين'!$B$999,SMALL(IF(العاملين!$G$2:'العاملين'!$G$999=\"Thu\",ROW(العاملين!$B$2:'العاملين'!$B$999)-ROW(العاملين!$B$2)+1),ROWS($K$2:K23))),\"\")","v":""},{"$f":"IFERROR(INDEX(العاملين!$C$2:$C$999,MATCH($K23,العاملين!$B$2:'العاملين'!$B$999,0)),\"\")","v":""},{"$f":"IFERROR(INDEX(العاملين!$B$2:'العاملين'!$B$999,SMALL(IF(العاملين!$G$2:'العاملين'!$G$999=\"Fri\",ROW(العاملين!$B$2:'العاملين'!$B$999)-ROW(العاملين!$B$2)+1),ROWS($M$2:M23))),\"\")","v":""},{"$f":"IFERROR(INDEX(العاملين!$C$2:$C$999,MATCH($M23,العاملين!$B$2:'العاملين'!$B$999,0)),\"\")","v":""}]
[null,{"$f":"IFERROR(INDEX(العاملين!$C$2:'العاملين'!$C$99,MATCH(A24,$A$2:$A$91,0)),\"\")","v":""},{"$f":"IFERROR(INDEX(العاملين!$B$2:'العاملين'!$B$999,SMALL(IF(العاملين!$G$2:'العاملين'!$G$999=\"Sun\",ROW(العاملين!$B$2:'العاملين'!$B$999)-ROW(العاملين!$B$2)+1),ROWS($C$2:C24))),\"\")","v":""},{"$f":"IFERROR(INDEX(العاملين!$C$2:$C$999,MATCH($C24,العاملين!$B$2:'العاملين'!$B$999,0)),\"\")","v":""},{"$f":"IFERROR(INDEX(العاملين!$B$2:'العاملين'!$B$999,SMALL(IF(العاملين!$G$2:'العاملين'!$G$999=\"Mon\",ROW(العاملين!$B$2:'العاملين'!$B$999)-ROW(العاملين!$B$2)+1),ROWS($E$2:E24))),\"\")","v":""},{"$f":"IFERROR(INDEX(العاملين!$C$2:$C$999,MATCH($E24,العاملين!$B$2:'العاملين'!$B$999,0)),\"\")","v":""},{"$f":"IFERROR(INDEX(العاملين!$B$2:'العاملين'!$B$999,SMALL(IF(العاملين!$G$2:'العاملين'!$G$999=\"Tue\",ROW(العاملين!$B$2:'العاملين'!$B$999)-ROW(العاملين!$B$2)+1),ROWS($G$2:G24))),\"\")","v":""},{"$f":"IFERROR(INDEX(العاملين!$C$2:$C$999,MATCH($G24,العاملين!$B$2:'العاملين'!$B$999,0)),\"\")","v":""},{"$f":"IFERROR(INDEX(العاملين!$B$2:'العاملين'!$B$999,SMALL(IF(العاملين!$G$2:'العاملين'!$G$999=\"Wed\",ROW(العاملين!$B$2:'العاملين'!$B$999)-ROW(العاملين!$B$2)+1),ROWS($I$2:I24))),\"\")","v":""},{"$f":"IFERROR(INDEX(العاملين!$C$2:$C$999,MATCH($I24,العاملين!$B$2:'العاملين'!$B$999,0)),\"\")","v":""},{"$f":"IFERROR(INDEX(العاملين!$B$2:'العاملين'!$B$999,SMALL(IF(العاملين!$G$2:'العاملين'!$G$999=\"Thu\",ROW(العاملين!$B$2:'العاملين'!$B$999)-ROW(العاملين!$B$2)+1),ROWS($K$2:K24))),\"\")","v":""},{"$f":"IFERROR(INDEX(العاملين!$C$2:$C$999,MATCH($K24,العاملين!$B$2:'العاملين'!$B$999,0)),\"\")","v":""},{"$f":"IFERROR(INDEX(العاملين!$B$2:'العاملين'!$B$999,SMALL(IF(العاملين!$G$2:'العاملين'!$G$999=\"Fri\",ROW(العاملين!$B$2:'العاملين'!$B$999)-ROW(العاملين!$B$2)+1),ROWS($M$2:M24))),\"\")","v":""},{"$f":"IFERROR(INDEX(العاملين!$C$2:$C$999,MATCH($M24,العاملين!$B$2:'العاملين'!$B$999,0)),\"\")","v":""}]
[null,{"$f":"IFERROR(INDEX(العاملين!$C$2:'العاملين'!$C$99,MATCH(A25,$A$2:$A$91,0)),\"\")","v":""},{"$f":"IFERROR(INDEX(العاملين!$B$2:'العاملين'!$B$999,SMALL(IF(العاملين!$G$2:'العاملين'!$G$999=\"Sun\",ROW(العاملين!$B$2:'العاملين'!$B$999)-ROW(العاملين!$B$2)+1),ROWS($C$2:C25))),\"\")","v":""},{"$f":"IFERROR(INDEX(العاملين!$C$2:$C$999,MATCH($C25,العاملين!$B$2:'العاملين'!$B$999,0)),\"\")","v":""},{"$f":"IFERROR(INDEX(العاملين!$B$2:'العاملين'!$B$999,SMALL(IF(العاملين!$G$2:'العاملين'!$G$999=\"Mon\",ROW(العاملين!$B$2:'العاملين'!$B$999)-ROW(العاملين!$B$2)+1),ROWS($E$2:E25))),\"\")","v":""},{"$f":"IFERROR(INDEX(العاملين!$C$2:$C$999,MATCH($E25,العاملين!$B$2:'العاملين'!$B$999,0)),\"\")","v":""},{"$f":"IFERROR(INDEX(العاملين!$B$2:'العاملين'!$B$999,SMALL(IF(العاملين!$G$2:'العاملين'!$G$999=\"Tue\",ROW(العاملين!$B$2:'العاملين'!$B$999)-ROW(العاملين!$B$2)+1),ROWS($G$2:G25))),\"\")","v":""},{"$f":"IFERROR(INDEX(العاملين!$C$2:$C$999,MATCH($G25,العاملين!$B$2:'العاملين'!$B$999,0)),\"\")","v":""},{"$f":"IFERROR(INDEX(العاملين!$B$2:'العاملين'!$B$999,SMALL(IF(العاملين!$G$2:'العاملين'!$G$999=\"Wed\",ROW(العاملين!$B$2:'العاملين'!$B$999)-ROW(العاملين!$B$2)+1),ROWS($I$2:I25))),\"\")","v":""},{"$f":"IFERROR(INDEX(العاملين!$C$2:$C$999,MATCH($I25,العاملين!$B$2:'العاملين'!$B$999,0)),\"\")","v":""},{"$f":"IFERROR(INDEX(العاملين!$B$2:'العاملين'!$B$999,SMALL(IF(العاملين!$G$2:'العاملين'!$G$999=\"Thu\",ROW(العاملين!$B$2:'العاملين'!$B$999)-ROW(العاملين!$B$2)+1),ROWS($K$2:K25))),\"\")","v":""},{"$f":"IFERROR(INDEX(العاملين!$C$2:$C$999,MATCH($K25,العاملين!$B$2:'العاملين'!$B$999,0)),\"\")","v":""},{"$f":"IFERROR(INDEX(العاملين!$B$2:'العاملين'!$B$999,SMALL(IF(العاملين!$G$2:'العاملين'!$G$999=\"Fri\",ROW(العاملين!$B$2:'العاملين'!$B$999)-ROW(العاملين!$B$2)+1),ROWS($M$2:M25))),\"\")","v":""},{"$f":"IFERROR(INDEX(العاملين!$C$2:$C$999,MATCH($M25,العاملين!$B$2:'العاملين'!$B$999,0)),\"\")","v":""}]
[null,{"$f":"IFERROR(INDEX(العاملين!$B$2:'العاملين'!$B$999,SMALL(IF(العاملين!$G$2:'العاملين'!$G$999=\"Sat\",ROW(العاملين!$B$2:'العاملين'!$B$999)-ROW(العاملين!$B$2)+1),ROWS($B$2:B26))),\"\")","v":""},{"$f":"IFERROR(INDEX(العاملين!$B$2:'العاملين'!$B$999,SMALL(IF(العاملين!$G$2:'العاملين'!$G$999=\"Sun\",ROW(العاملين!$B$2:'العاملين'!$B$999)-ROW(العاملين!$B$2)+1),ROWS($C$2:C26))),\"\")","v":""},null,{"$f":"IFERROR(INDEX(العاملين!$B$2:'العاملين'!$B$999,SMALL(IF(العاملين!$G$2:'العاملين'!$G$999=\"Mon\",ROW(العاملين!$B$2:'العاملين'!$B$999)-ROW(العاملين!$B$2)+1),ROWS($E$2:E26))),\"\")","v":""},null,{"$f":"IFERROR(INDEX(العاملين!$B$2:'العاملين'!$B$999,SMALL(IF(العاملين!$G$2:'العاملين'!$G$999=\"Tue\",ROW(العاملين!$B$2:'العاملين'!$B$999)-ROW(العاملين!$B$2)+1),ROWS($G$2:G26))),\"\")","v":""},null,{"$f":"IFERROR(INDEX(العاملين!$B$2:'العاملين'!$B$999,SMALL(IF(العاملين!$G$2:'العاملين'!$G$999=\"Wed\",ROW(العاملين!$B$2:'العاملين'!$B$999)-ROW(العاملين!$B$2)+1),ROWS($I$2:I26))),\"\")","v":""},null,{"$f":"IFERROR(INDEX(العاملين!$B$2:'العاملين'!$B$999,SMALL(IF(العاملين!$G$2:'العاملين'!$G$999=\"Thu\",ROW(العاملين!$B$2:'العاملين'!$B$999)-ROW(العاملين!$B$2)+1),ROWS($K$2:K26))),\"\")","v":""},null,{"$f":"IFERROR(INDEX(العاملين!$B$2:'العاملين'!$B$999,SMALL(IF(العاملين!$G$2:'العاملين'!$G$999=\"Fri\",ROW(العاملين!$B$2:'العاملين'!$B$999)-ROW(العاملين!$B$2)+1),ROWS($M$2:M26))),\"\")","v":""}]
[null,{"$f":"IFERROR(INDEX(العاملين!$B$2:'العاملين'!$B$999,SMALL(IF(العاملين!$G$2:'العاملين'!$G$999=\"Sat\",ROW(العاملين!$B$2:'العاملين'!$B$999)-ROW(العاملين!$B$2)+1),ROWS($B$2:B27))),\"\")","v":""},{"$f":"IFERROR(INDEX(العاملين!$B$2:'العاملين'!$B$999,SMALL(IF(العاملين!$G$2:'العاملين'!$G$999=\"Sun\",ROW(العاملين!$B$2:'العاملين'!$B$999)-ROW(العاملين!$B$2)+1),ROWS($C$2:C27))),\"\")","v":""},null,{"$f":"IFERROR(INDEX(العاملين!$B$2:'العاملين'!$B$999,SMALL(IF(العاملين!$G$2:'العاملين'!$G$999=\"Mon\",ROW(العاملين!$B$2:'العاملين'!$B$999)-ROW(العاملين!$B$2)+1),ROWS($E$2:E27))),\"\")","v":""},null,{"$f":"IFERROR(INDEX(العاملين!$B$2:'العاملين'!$B$999,SMALL(IF(العاملين!$G$2:'العاملين'!$G$999=\"Tue\",ROW(العاملين!$B$2:'العاملين'!$B$999)-ROW(العاملين!$B$2)+1),ROWS($G$2:G27))),\"\")","v":""},null,{"$f":"IFERROR(INDEX(العاملين!$B$2:'العاملين'!$B$999,SMALL(IF(العاملين!$G$2:'العاملين'!$G$999=\"Wed\",ROW(العاملين!$B$2:'العاملين'!$B$999)-ROW(العاملين!$B$2)+1),ROWS($I$2:I27))),\"\")","v":""},null,{"$f":"IFERROR(INDEX(العاملين!$B$2:'العاملين'!$B$999,SMALL(IF(العاملين!$G$2:'العاملين'!$G$999=\"Thu\",ROW(العاملين!$B$2:'العاملين'!$B$999)-ROW(العاملين!$B$2)+1),ROWS($K$2:K27))),\"\")","v":""},null,{"$f":"IFERROR(INDEX(العاملين!$B$2:'العاملين'!$B$999,SMALL(IF(العاملين!$G$2:'العاملين'!$G$999=\"Fri\",ROW(العاملين!$B$2:'العاملين'!$B$999)-ROW(العاملين!$B$2)+1),ROWS($M$2:M27))),\"\")","v":""}]
[null,{"$f":"IFERROR(INDEX(العاملين!$B$2:'العاملين'!$B$999,SMALL(IF(العاملين!$G$2:'العاملين'!$G$999=\"Sat\",ROW(العاملين!$B$2:'العاملين'!$B$999)-ROW(العاملين!$B$2)+1),ROWS($B$2:B28))),\"\")","v":""},{"$f":"IFERROR(INDEX(العاملين!$B$2:'العاملين'!$B$999,SMALL(IF(العاملين!$G$2:'العاملين'!$G$999=\"Sun\",ROW(العاملين!$B$2:'العاملين'!$B$999)-ROW(العاملين!$B$2)+1),ROWS($C$2:C28))),\"\")","v":""},null,{"$f":"IFERROR(INDEX(العاملين!$B$2:'العاملين'!$B$999,SMALL(IF(العاملين!$G$2:'العاملين'!$G$999=\"Mon\",ROW(العاملين!$B$2:'العاملين'!$B$999)-ROW(العاملين!$B$2)+1),ROWS($E$2:E28))),\"\")","v":""},null,{"$f":"IFERROR(INDEX(العاملين!$B$2:'العاملين'!$B$999,SMALL(IF(العاملين!$G$2:'العاملين'!$G$999=\"Tue\",ROW(العاملين!$B$2:'العاملين'!$B$999)-ROW(العاملين!$B$2)+1),ROWS($G$2:G28))),\"\")","v":""},null,{"$f":"IFERROR(INDEX(العاملين!$B$2:'العاملين'!$B$999,SMALL(IF(العاملين!$G$2:'العاملين'!$G$999=\"Wed\",ROW(العاملين!$B$2:'العاملين'!$B$999)-ROW(العاملين!$B$2)+1),ROWS($I$2:I28))),\"\")","v":""},null,{"$f":"IFERROR(INDEX(العاملين!$B$2:'العاملين'!$B$999,SMALL(IF(العاملين!$G$2:'العاملين'!$G$999=\"Thu\",ROW(العاملين!$B$2:'العاملين'!$B$999)-ROW(العاملين!$B$2)+1),ROWS($K$2:K28))),\"\")","v":""},null,{"$f":"IFERROR(INDEX(العاملين!$B$2:'العاملين'!$B$999,SMALL(IF(العاملين!$G$2:'العاملين'!$G$999=\"Fri\",ROW(العاملين!$B$2:'العاملين'!$B$999)-ROW(العاملين!$B$2)+1),ROWS($M$2:M28))),\"\")","v":""}]
[null,{"$f":"IFERROR(INDEX(العاملين!$B$2:'العاملين'!$B$999,SMALL(IF(العاملين!$G$2:'العاملين'!$G$999=\"Sat\",ROW(العاملين!$B$2:'العاملين'!$B$999)-ROW(العاملين!$B$2)+1),ROWS($B$2:B29))),\"\")","v":""},{"$f":"IFERROR(INDEX(العاملين!$B$2:'العاملين'!$B$999,SMALL(IF(العاملين!$G$2:'العاملين'!$G$999=\"Sun\",ROW(العاملين!$B$2:'العاملين'!$B$999)-ROW(العاملين!$B$2)+1),ROWS($C$2:C29))),\"\")","v":""},null,{"$f":"IFERROR(INDEX(العاملين!$B$2:'العاملين'!$B$999,SMALL(IF(العاملين!$G$2:'العاملين'!$G$999=\"Mon\",ROW(العاملين!$B$2:'العاملين'!$B$999)-ROW(العاملين!$B$2)+1),ROWS($E$2:E29))),\"\")","v":""},null,{"$f":"IFERROR(INDEX(العاملين!$B$2:'العاملين'!$B$999,SMALL(IF(العاملين!$G$2:'العاملين'!$G$999=\"Tue\",ROW(العاملين!$B$2:'العاملين'!$B$999)-ROW(العاملين!$B$2)+1),ROWS($G$2:G29))),\"\")","v":""},null,{"$f":"IFERROR(INDEX(العاملين!$B$2:'العاملين'!$B$999,SMALL(IF(العاملين!$G$2:'العاملين'!$G$999=\"Wed\",ROW(العاملين!$B$2:'العاملين'!$B$999)-ROW(العاملين!$B$2)+1),ROWS($I$2:I29))),\"\")","v":""},null,{"$f":"IFERROR(INDEX(العاملين!$B$2:'العاملين'!$B$999,SMALL(IF(العاملين!$G$2:'العاملين'!$G$999=\"Thu\",ROW(العاملين!$B$2:'العاملين'!$B$999)-ROW(العاملين!$B$2)+1),ROWS($K$2:K29))),\"\")","v":""},null,{"$f":"IFERROR(INDEX(العاملين!$B$2:'العاملين'!$B$999,SMALL(IF(العاملين!$G$2:'العاملين'!$G$999=\"Fri\",ROW(العاملين!$B$2:'العاملين'!$B$999)-ROW(العاملين!$B$2)+1),ROWS($M$2:M29))),\"\")","v":""}]
[null,{"$f":"IFERROR(INDEX(العاملين!$B$2:'العاملين'!$B$999,SMALL(IF(العاملين!$G$2:'العاملين'!$G$999=\"Sat\",ROW(العاملين!$B$2:'العاملين'!$B$999)-ROW(العاملين!$B$2)+1),ROWS($B$2:B30))),\"\")","v":""},{"$f":"IFERROR(INDEX(العاملين!$B$2:'العاملين'!$B$999,SMALL(IF(العاملين!$G$2:'العاملين'!$G$999=\"Sun\",ROW(العاملين!$B$2:'العاملين'!$B$999)-ROW(العاملين!$B$2)+1),ROWS($C$2:C30))),\"\")","v":""},null,{"$f":"IFERROR(INDEX(العاملين!$B$2:'العاملين'!$B$999,SMALL(IF(العاملين!$G$2:'العاملين'!$G$999=\"Mon\",ROW(العاملين!$B$2:'العاملين'!$B$999)-ROW(العاملين!$B$2)+1),ROWS($E$2:E30))),\"\")","v":""},null,{"$f":"IFERROR(INDEX(العاملين!$B$2:'العاملين'!$B$999,SMALL(IF(العاملين!$G$2:'العاملين'!$G$999=\"Tue\",ROW(العاملين!$B$2:'العاملين'!$B$999)-ROW(العاملين!$B$2)+1),ROWS($G$2:G30))),\"\")","v":""},null,{"$f":"IFERROR(INDEX(العاملين!$B$2:'العاملين'!$B$999,SMALL(IF(العاملين!$G$2:'العاملين'!$G$999=\"Wed\",ROW(العاملين!$B$2:'العاملين'!$B$999)-ROW(العاملين!$B$2)+1),ROWS($I$2:I30))),\"\")","v":""},null,{"$f":"IFERROR(INDEX(العاملين!$B$2:'العاملين'!$B$999,SMALL(IF(العاملين!$G$2:'العاملين'!$G$999=\"Thu\",ROW(العاملين!$B$2:'العاملين'!$B$999)-ROW(العاملين!$B$2)+1),ROWS($K$2:K30))),\"\")","v":""},null,{"$f":"IFERROR(INDEX(العاملين!$B$2:'العاملين'!$B$999,SMALL(IF(العاملين!$G$2:'العاملين'!$G$999=\"Fri\",ROW(العاملين!$B$2:'العاملين'!$B$999)-ROW(العاملين!$B$2)+1),ROWS($M$2:M30))),\"\")","v":""}]
[null,{"$f":"IFERROR(INDEX(العاملين!$B$2:'العاملين'!$B$999,SMALL(IF(العاملين!$G$2:'العاملين'!$G$999=\"Sat\",ROW(العاملين!$B$2:'العاملين'!$B$999)-ROW(العاملين!$B$2)+1),ROWS($B$2:B31))),\"\")","v":""},{"$f":"IFERROR(INDEX(العاملين!$B$2:'العاملين'!$B$999,SMALL(IF(العاملين!$G$2:'العاملين'!$G$999=\"Sun\",ROW(العاملين!$B$2:'العاملين'!$B$999)-ROW(العاملين!$B$2)+1),ROWS($C$2:C31))),\"\")","v":""},null,{"$f":"IFERROR(INDEX(العاملين!$B$2:'العاملين'!$B$999,SMALL(IF(العاملين!$G$2:'العاملين'!$G$999=\"Mon\",ROW(العاملين!$B$2:'العاملين'!$B$999)-ROW(العاملين!$B$2)+1),ROWS($E$2:E31))),\"\")","v":""},null,{"$f":"IFERROR(INDEX(العاملين!$B$2:'العاملين'!$B$999,SMALL(IF(العاملين!$G$2:'العاملين'!$G$999=\"Tue\",ROW(العاملين!$B$2:'العاملين'!$B$999)-ROW(العاملين!$B$2)+1),ROWS($G$2:G31))),\"\")","v":""},null,{"$f":"IFERROR(INDEX(العاملين!$B$2:'العاملين'!$B$999,SMALL(IF(العاملين!$G$2:'العاملين'!$G$999=\"Wed\",ROW(العاملين!$B$2:'العاملين'!$B$999)-ROW(العاملين!$B$2)+1),ROWS($I$2:I31))),\"\")","v":""},null,{"$f":"IFERROR(INDEX(العاملين!$B$2:'العاملين'!$B$999,SMALL(IF(العاملين!$G$2:'العاملين'!$G$999=\"Thu\",ROW(العاملين!$B$2:'العاملين'!$B$999)-ROW(العاملين!$B$2)+1),ROWS($K$2:K31))),\"\")","v":""},null,{"$f":"IFERROR(INDEX(العاملين!$B$2:'العاملين'!$B$999,SMALL(IF(العاملين!$G$2:'العاملين'!$G$999=\"Fri\",ROW(العاملين!$B$2:'العاملين'!$B$999)-ROW(العاملين!$B$2)+1),ROWS($M$2:M31))),\"\")","v":""}]
[null,{"$f":"IFERROR(INDEX(العاملين!$B$2:'العاملين'!$B$999,SMALL(IF(العاملين!$G$2:'العاملين'!$G$999=\"Sat\",ROW(العاملين!$B$2:'العاملين'!$B$999)-ROW(العاملين!$B$2)+1),ROWS($B$2:B32))),\"\")","v":""},{"$f":"IFERROR(INDEX(العاملين!$B$2:'العاملين'!$B$999,SMALL(IF(العاملين!$G$2:'العاملين'!$G$999=\"Sun\",ROW(العاملين!$B$2:'العاملين'!$B$999)-ROW(العاملين!$B$2)+1),ROWS($C$2:C32))),\"\")","v":""},null,{"$f":"IFERROR(INDEX(العاملين!$B$2:'العاملين'!$B$999,SMALL(IF(العاملين!$G$2:'العاملين'!$G$999=\"Mon\",ROW(العاملين!$B$2:'العاملين'!$B$999)-ROW(العاملين!$B$2)+1),ROWS($E$2:E32))),\"\")","v":""},null,{"$f":"IFERROR(INDEX(العاملين!$B$2:'العاملين'!$B$999,SMALL(IF(العاملين!$G$2:'العاملين'!$G$999=\"Tue\",ROW(العاملين!$B$2:'العاملين'!$B$999)-ROW(العاملين!$B$2)+1),ROWS($G$2:G32))),\"\")","v":""},null,{"$f":"IFERROR(INDEX(العاملين!$B$2:'العاملين'!$B$999,SMALL(IF(العاملين!$G$2:'العاملين'!$G$999=\"Wed\",ROW(العاملين!$B$2:'العاملين'!$B$999)-ROW(العاملين!$B$2)+1),ROWS($I$2:I32))),\"\")","v":""},null,{"$f":"IFERROR(INDEX(العاملين!$B$2:'العاملين'!$B$999,SMALL(IF(العاملين!$G$2:'العاملين'!$G$999=\"Thu\",ROW(العاملين!$B$2:'العاملين'!$B$999)-ROW(العاملين!$B$2)+1),ROWS($K$2:K32))),\"\")","v":""},null,{"$f":"IFERROR(INDEX(العاملين!$B$2:'العاملين'!$B$999,SMALL(IF(العاملين!$G$2:'العاملين'!$G$999=\"Fri\",ROW(العاملين!$B$2:'العاملين'!$B$999)-ROW(العاملين!$B$2)+1),ROWS($M$2:M32))),\"\")","v":""}]
[null,{"$f":"IFERROR(INDEX(العاملين!$B$2:'العاملين'!$B$999,SMALL(IF(العاملين!$G$2:'العاملين'!$G$999=\"Sat\",ROW(العاملين!$B$2:'العاملين'!$B$999)-ROW(العاملين!$B$2)+1),ROWS($B$2:B33))),\"\")","v":""},{"$f":"IFERROR(INDEX(العاملين!$B$2:'العاملين'!$B$999,SMALL(IF(العاملين!$G$2:'العاملين'!$G$999=\"Sun\",ROW(العاملين!$B$2:'العاملين'!$B$999)-ROW(العاملين!$B$2)+1),ROWS($C$2:C33))),\"\")","v":""},null,{"$f":"IFERROR(INDEX(العاملين!$B$2:'العاملين'!$B$999,SMALL(IF(العاملين!$G$2:'العاملين'!$G$999=\"Mon\",ROW(العاملين!$B$2:'العاملين'!$B$999)-ROW(العاملين!$B$2)+1),ROWS($E$2:E33))),\"\")","v":""},null,{"$f":"IFERROR(INDEX(العاملين!$B$2:'العاملين'!$B$999,SMALL(IF(العاملين!$G$2:'العاملين'!$G$999=\"Tue\",ROW(العاملين!$B$2:'العاملين'!$B$999)-ROW(العاملين!$B$2)+1),ROWS($G$2:G33))),\"\")","v":""},null,{"$f":"IFERROR(INDEX(العاملين!$B$2:'العاملين'!$B$999,SMALL(IF(العاملين!$G$2:'العاملين'!$G$999=\"Wed\",ROW(العاملين!$B$2:'العاملين'!$B$999)-ROW(العاملين!$B$2)+1),ROWS($I$2:I33))),\"\")","v":""},null,{"$f":"IFERROR(INDEX(العاملين!$B$2:'العاملين'!$B$999,SMALL(IF(العاملين!$G$2:'العاملين'!$G$999=\"Thu\",ROW(العاملين!$B$2:'العاملين'!$B$999)-ROW(العاملين!$B$2)+1),ROWS($K$2:K33))),\"\")","v":""},null,{"$f":"IFERROR(INDEX(العاملين!$B$2:'العاملين'!$B$999,SMALL(IF(العاملين!$G$2:'العاملين'!$G$999=\"Fri\",ROW(العاملين!$B$2:'العاملين'!$B$999)-ROW(العاملين!$B$2)+1),ROWS($M$2:M33))),\"\")","v":""}]
[null,{"$f":"IFERROR(INDEX(العاملين!$B$2:'العاملين'!$B$999,SMALL(IF(العاملين!$G$2:'العاملين'!$G$999=\"Sat\",ROW(العاملين!$B$2:'العاملين'!$B$999)-ROW(العاملين!$B$2)+1),ROWS($B$2:B34))),\"\")","v":""},{"$f":"IFERROR(INDEX(العاملين!$B$2:'العاملين'!$B$999,SMALL(IF(العاملين!$G$2:'العاملين'!$G$999=\"Sun\",ROW(العاملين!$B$2:'العاملين'!$B$999)-ROW(العاملين!$B$2)+1),ROWS($C$2:C34))),\"\")","v":""},null,{"$f":"IFERROR(INDEX(العاملين!$B$2:'العاملين'!$B$999,SMALL(IF(العاملين!$G$2:'العاملين'!$G$999=\"Mon\",ROW(العاملين!$B$2:'العاملين'!$B$999)-ROW(العاملين!$B$2)+1),ROWS($E$2:E34))),\"\")","v":""},null,{"$f":"IFERROR(INDEX(العاملين!$B$2:'العاملين'!$B$999,SMALL(IF(العاملين!$G$2:'العاملين'!$G$999=\"Tue\",ROW(العاملين!$B$2:'العاملين'!$B$999)-ROW(العاملين!$B$2)+1),ROWS($G$2:G34))),\"\")","v":""},null,{"$f":"IFERROR(INDEX(العاملين!$B$2:'العاملين'!$B$999,SMALL(IF(العاملين!$G$2:'العاملين'!$G$999=\"Wed\",ROW(العاملين!$B$2:'العاملين'!$B$999)-ROW(العاملين!$B$2)+1),ROWS($I$2:I34))),\"\")","v":""},null,{"$f":"IFERROR(INDEX(العاملين!$B$2:'العاملين'!$B$999,SMALL(IF(العاملين!$G$2:'العاملين'!$G$999=\"Thu\",ROW(العاملين!$B$2:'العاملين'!$B$999)-ROW(العاملين!$B$2)+1),ROWS($K$2:K34))),\"\")","v":""},null,{"$f":"IFERROR(INDEX(العاملين!$B$2:'العاملين'!$B$999,SMALL(IF(العاملين!$G$2:'العاملين'!$G$999=\"Fri\",ROW(العاملين!$B$2:'العاملين'!$B$999)-ROW(العاملين!$B$2)+1),ROWS($M$2:M34))),\"\")","v":""}]
[null,{"$f":"IFERROR(INDEX(العاملين!$B$2:'العاملين'!$B$999,SMALL(IF(العاملين!$G$2:'العاملين'!$G$999=\"Sat\",ROW(العاملين!$B$2:'العاملين'!$B$999)-ROW(العاملين!$B$2)+1),ROWS($B$2:B35))),\"\")","v":""},{"$f":"IFERROR(INDEX(العاملين!$B$2:'العاملين'!$B$999,SMALL(IF(العاملين!$G$2:'العاملين'!$G$999=\"Sun\",ROW(العاملين!$B$2:'العاملين'!$B$999)-ROW(العاملين!$B$2)+1),ROWS($C$2:C35))),\"\")","v":""},null,{"$f":"IFERROR(INDEX(العاملين!$B$2:'العاملين'!$B$999,SMALL(IF(العاملين!$G$2:'العاملين'!$G$999=\"Mon\",ROW(العاملين!$B$2:'العاملين'!$B$999)-ROW(العاملين!$B$2)+1),ROWS($E$2:E35))),\"\")","v":""},null,{"$f":"IFERROR(INDEX(العاملين!$B$2:'العاملين'!$B$999,SMALL(IF(العاملين!$G$2:'العاملين'!$G$999=\"Tue\",ROW(العاملين!$B$2:'العاملين'!$B$999)-ROW(العاملين!$B$2)+1),ROWS($G$2:G35))),\"\")","v":""},null,{"$f":"IFERROR(INDEX(العاملين!$B$2:'العاملين'!$B$999,SMALL(IF(العاملين!$G$2:'العاملين'!$G$999=\"Wed\",ROW(العاملين!$B$2:'العاملين'!$B$999)-ROW(العاملين!$B$2)+1),ROWS($I$2:I35))),\"\")","v":""},null,{"$f":"IFERROR(INDEX(العاملين!$B$2:'العاملين'!$B$999,SMALL(IF(العاملين!$G$2:'العاملين'!$G$999=\"Thu\",ROW(العاملين!$B$2:'العاملين'!$B$999)-ROW(العاملين!$B$2)+1),ROWS($K$2:K35))),\"\")","v":""},null,{"$f":"IFERROR(INDEX(العاملين!$B$2:'العاملين'!$B$999,SMALL(IF(العاملين!$G$2:'العاملين'!$G$999=\"Fri\",ROW(العاملين!$B$2:'العاملين'!$B$999)-ROW(العاملين!$B$2)+1),ROWS($M$2:M35))),\"\")","v":""}]
[null,{"$f":"IFERROR(INDEX(العاملين!$B$2:'العاملين'!$B$999,SMALL(IF(العاملين!$G$2:'العاملين'!$G$999=\"Sat\",ROW(العاملين!$B$2:'العاملين'!$B$999)-ROW(العاملين!$B$2)+1),ROWS($B$2:B36))),\"\")","v":""},{"$f":"IFERROR(INDEX(العاملين!$B$2:'العاملين'!$B$999,SMALL(IF(العاملين!$G$2:'العاملين'!$G$999=\"Sun\",ROW(العاملين!$B$2:'العاملين'!$B$999)-ROW(العاملين!$B$2)+1),ROWS($C$2:C36))),\"\")","v":""},null,{"$f":"IFERROR(INDEX(العاملين!$B$2:'العاملين'!$B$999,SMALL(IF(العاملين!$G$2:'العاملين'!$G$999=\"Mon\",ROW(العاملين!$B$2:'العاملين'!$B$999)-ROW(العاملين!$B$2)+1),ROWS($E$2:E36))),\"\")","v":""},null,{"$f":"IFERROR(INDEX(العاملين!$B$2:'العاملين'!$B$999,SMALL(IF(العاملين!$G$2:'العاملين'!$G$999=\"Tue\",ROW(العاملين!$B$2:'العاملين'!$B$999)-ROW(العاملين!$B$2)+1),ROWS($G$2:G36))),\"\")","v":""},null,{"$f":"IFERROR(INDEX(العاملين!$B$2:'العاملين'!$B$999,SMALL(IF(العاملين!$G$2:'العاملين'!$G$999=\"Wed\",ROW(العاملين!$B$2:'العاملين'!$B$999)-ROW(العاملين!$B$2)+1),ROWS($I$2:I36))),\"\")","v":""},null,{"$f":"IFERROR(INDEX(العاملين!$B$2:'العاملين'!$B$999,SMALL(IF(العاملين!$G$2:'العاملين'!$G$999=\"Thu\",ROW(العاملين!$B$2:'العاملين'!$B$999)-ROW(العاملين!$B$2)+1),ROWS($K$2:K36))),\"\")","v":""},null,{"$f":"IFERROR(INDEX(العاملين!$B$2:'العاملين'!$B$999,SMALL(IF(العاملين!$G$2:'العاملين'!$G$999=\"Fri\",ROW(العاملين!$B$2:'العاملين'!$B$999)-ROW(العاملين!$B$2)+1),ROWS($M$2:M36))),\"\")","v":""}]
[null,{"$f":"IFERROR(INDEX(العاملين!$B$2:'العاملين'!$B$999,SMALL(IF(العاملين!$G$2:'العاملين'!$G$999=\"Sat\",ROW(العاملين!$B$2:'العاملين'!$B$999)-ROW(العاملين!$B$2)+1),ROWS($B$2:B37))),\"\")","v":""},{"$f":"IFERROR(INDEX(العاملين!$B$2:'العاملين'!$B$999,SMALL(IF(العاملين!$G$2:'العاملين'!$G$999=\"Sun\",ROW(العاملين!$B$2:'العاملين'!$B$999)-ROW(العاملين!$B$2)+1),ROWS($C$2:C37))),\"\")","v":""},null,{"$f":"IFERROR(INDEX(العاملين!$B$2:'العاملين'!$B$999,SMALL(IF(العاملين!$G$2:'العاملين'!$G$999=\"Mon\",ROW(العاملين!$B$2:'العاملين'!$B$999)-ROW(العاملين!$B$2)+1),ROWS($E$2:E37))),\"\")","v":""},null,{"$f":"IFERROR(INDEX(العاملين!$B$2:'العاملين'!$B$999,SMALL(IF(العاملين!$G$2:'العاملين'!$G$999=\"Tue\",ROW(العاملين!$B$2:'العاملين'!$B$999)-ROW(العاملين!$B$2)+1),ROWS($G$2:G37))),\"\")","v":""},null,{"$f":"IFERROR(INDEX(العاملين!$B$2:'العاملين'!$B$999,SMALL(IF(العاملين!$G$2:'العاملين'!$G$999=\"Wed\",ROW(العاملين!$B$2:'العاملين'!$B$999)-ROW(العاملين!$B$2)+1),ROWS($I$2:I37))),\"\")","v":""},null,{"$f":"IFERROR(INDEX(العاملين!$B$2:'العاملين'!$B$999,SMALL(IF(العاملين!$G$2:'العاملين'!$G$999=\"Thu\",ROW(العاملين!$B$2:'العاملين'!$B$999)-ROW(العاملين!$B$2)+1),ROWS($K$2:K37))),\"\")","v":""},null,{"$f":"IFERROR(INDEX(العاملين!$B$2:'العاملين'!$B$999,SMALL(IF(العاملين!$G$2:'العاملين'!$G$999=\"Fri\",ROW(العاملين!$B$2:'العاملين'!$B$999)-ROW(العاملين!$B$2)+1),ROWS($M$2:M37))),\"\")","v":""}]
[null,null,{"$f":"IFERROR(INDEX(العاملين!$B$2:'العاملين'!$B$999,SMALL(IF(العاملين!$G$2:'العاملين'!$G$999=\"Sun\",ROW(العاملين!$B$2:'العاملين'!$B$999)-ROW(العاملين!$B$2)+1),ROWS($C$2:C38))),\"\")","v":""},null,{"$f":"IFERROR(INDEX(العاملين!$B$2:'العاملين'!$B$999,SMALL(IF(العاملين!$G$2:'العاملين'!$G$999=\"Mon\",ROW(العاملين!$B$2:'العاملين'!$B$999)-ROW(العاملين!$B$2)+1),ROWS($E$2:E38))),\"\")","v":""},null,{"$f":"IFERROR(INDEX(العاملين!$B$2:'العاملين'!$B$999,SMALL(IF(العاملين!$G$2:'العاملين'!$G$999=\"Tue\",ROW(العاملين!$B$2:'العاملين'!$B$999)-ROW(العاملين!$B$2)+1),ROWS($G$2:G38))),\"\")","v":""},null,{"$f":"IFERROR(INDEX(العاملين!$B$2:'العاملين'!$B$999,SMALL(IF(العاملين!$G$2:'العاملين'!$G$999=\"Wed\",ROW(العاملين!$B$2:'العاملين'!$B$999)-ROW(العاملين!$B$2)+1),ROWS($I$2:I38))),\"\")","v":""},null,{"$f":"IFERROR(INDEX(العاملين!$B$2:'العاملين'!$B$999,SMALL(IF(العاملين!$G$2:'العاملين'!$G$999=\"Thu\",ROW(العاملين!$B$2:'العاملين'!$B$999)-ROW(العاملين!$B$2)+1),ROWS($K$2:K38))),\"\")","v":""},null,{"$f":"IFERROR(INDEX(العاملين!$B$2:'العاملين'!$B$999,SMALL(IF(العاملين!$G$2:'العاملين'!$G$999=\"Fri\",ROW(العاملين!$B$2:'العاملين'!$B$999)-ROW(العاملين!$B$2)+1),ROWS($M$2:M38))),\"\")","v":""}]
[null,{"$f":"IFERROR(INDEX(العاملين!$B$2:'العاملين'!$B$999,SMALL(IF(العاملين!$G$2:'العاملين'!$G$999=\"Sat\",ROW(العاملين!$B$2:'العاملين'!$B$999)-ROW(العاملين!$B$2)+1),ROWS($B$2:B39))),\"\")","v":""},{"$f":"IFERROR(INDEX(العاملين!$B$2:'العاملين'!$B$999,SMALL(IF(العاملين!$G$2:'العاملين'!$G$999=\"Sun\",ROW(العاملين!$B$2:'العاملين'!$B$999)-ROW(العاملين!$B$2)+1),ROWS($C$2:C39))),\"\")","v":""},null,{"$f":"IFERROR(INDEX(العاملين!$B$2:'العاملين'!$B$999,SMALL(IF(العاملين!$G$2:'العاملين'!$G$999=\"Mon\",ROW(العاملين!$B$2:'العاملين'!$B$999)-ROW(العاملين!$B$2)+1),ROWS($E$2:E39))),\"\")","v":""},null,{"$f":"IFERROR(INDEX(العاملين!$B$2:'العاملين'!$B$999,SMALL(IF(العاملين!$G$2:'العاملين'!$G$999=\"Tue\",ROW(العاملين!$B$2:'العاملين'!$B$999)-ROW(العاملين!$B$2)+1),ROWS($G$2:G39))),\"\")","v":""},null,{"$f":"IFERROR(INDEX(العاملين!$B$2:'العاملين'!$B$999,SMALL(IF(العاملين!$G$2:'العاملين'!$G$999=\"Wed\",ROW(العاملين!$B$2:'العاملين'!$B$999)-ROW(العاملين!$B$2)+1),ROWS($I$2:I39))),\"\")","v":""},null,{"$f":"IFERROR(INDEX(العاملين!$B$2:'العاملين'!$B$999,SMALL(IF(العاملين!$G$2:'العاملين'!$G$999=\"Thu\",ROW(العاملين!$B$2:'العاملين'!$B$999)-ROW(العاملين!$B$2)+1),ROWS($K$2:K39))),\"\")","v":""},null,{"$f":"IFERROR(INDEX(العاملين!$B$2:'العاملين'!$B$999,SMALL(IF(العاملين!$G$2:'العاملين'!$G$999=\"Fri\",ROW(العاملين!$B$2:'العاملين'!$B$999)-ROW(العاملين!$B$2)+1),ROWS($M$2:M39))),\"\")","v":""}]
[null,{"$f":"IFERROR(INDEX(العاملين!$B$2:'العاملين'!$B$999,SMALL(IF(العاملين!$G$2:'العاملين'!$G$999=\"Sat\",ROW(العاملين!$B$2:'العاملين'!$B$999)-ROW(العاملين!$B$2)+1),ROWS($B$2:B40))),\"\")","v":""},{"$f":"IFERROR(INDEX(العاملين!$B$2:'العاملين'!$B$999,SMALL(IF(العاملين!$G$2:'العاملين'!$G$999=\"Sun\",ROW(العاملين!$B$2:'العاملين'!$B$999)-ROW(العاملين!$B$2)+1),ROWS($C$2:C40))),\"\")","v":""},null,{"$f":"IFERROR(INDEX(العاملين!$B$2:'العاملين'!$B$999,SMALL(IF(العاملين!$G$2:'العاملين'!$G$999=\"Mon\",ROW(العاملين!$B$2:'العاملين'!$B$999)-ROW(العاملين!$B$2)+1),ROWS($E$2:E40))),\"\")","v":""},null,{"$f":"IFERROR(INDEX(العاملين!$B$2:'العاملين'!$B$999,SMALL(IF(العاملين!$G$2:'العاملين'!$G$999=\"Tue\",ROW(العاملين!$B$2:'العاملين'!$B$999)-ROW(العاملين!$B$2)+1),ROWS($G$2:G40))),\"\")","v":""},null,{"$f":"IFERROR(INDEX(العاملين!$B$2:'العاملين'!$B$999,SMALL(IF(العاملين!$G$2:'العاملين'!$G$999=\"Wed\",ROW(العاملين!$B$2:'العاملين'!$B$999)-ROW(العاملين!$B$2)+1),ROWS($I$2:I40))),\"\")","v":""},null,{"$f":"IFERROR(INDEX(العاملين!$B$2:'العاملين'!$B$999,SMALL(IF(العاملين!$G$2:'العاملين'!$G$999=\"Thu\",ROW(العاملين!$B$2:'العاملين'!$B$999)-ROW(العاملين!$B$2)+1),ROWS($K$2:K40))),\"\")","v":""},null,{"$f":"IFERROR(INDEX(العاملين!$B$2:'العاملين'!$B$999,SMALL(IF(العاملين!$G$2:'العاملين'!$G$999=\"Fri\",ROW(العاملين!$B$2:'العاملين'!$B$999)-ROW(العاملين!$B$2)+1),ROWS($M$2:M40))),\"\")","v":""}]
[null,{"$f":"IFERROR(INDEX(العاملين!$B$2:'العاملين'!$B$999,SMALL(IF(العاملين!$G$2:'العاملين'!$G$999=\"Sat\",ROW(العاملين!$B$2:'العاملين'!$B$999)-ROW(العاملين!$B$2)+1),ROWS($B$2:B41))),\"\")","v":""},{"$f":"IFERROR(INDEX(العاملين!$B$2:'العاملين'!$B$999,SMALL(IF(العاملين!$G$2:'العاملين'!$G$999=\"Sun\",ROW(العاملين!$B$2:'العاملين'!$B$999)-ROW(العاملين!$B$2)+1),ROWS($C$2:C41))),\"\")","v":""},null,{"$f":"IFERROR(INDEX(العاملين!$B$2:'العاملين'!$B$999,SMALL(IF(العاملين!$G$2:'العاملين'!$G$999=\"Mon\",ROW(العاملين!$B$2:'العاملين'!$B$999)-ROW(العاملين!$B$2)+1),ROWS($E$2:E41))),\"\")","v":""},null,{"$f":"IFERROR(INDEX(العاملين!$B$2:'العاملين'!$B$999,SMALL(IF(العاملين!$G$2:'العاملين'!$G$999=\"Tue\",ROW(العاملين!$B$2:'العاملين'!$B$999)-ROW(العاملين!$B$2)+1),ROWS($G$2:G41))),\"\")","v":""},null,{"$f":"IFERROR(INDEX(العاملين!$B$2:'العاملين'!$B$999,SMALL(IF(العاملين!$G$2:'العاملين'!$G$999=\"Wed\",ROW(العاملين!$B$2:'العاملين'!$B$999)-ROW(العاملين!$B$2)+1),ROWS($I$2:I41))),\"\")","v":""},null,{"$f":"IFERROR(INDEX(العاملين!$B$2:'العاملين'!$B$999,SMALL(IF(العاملين!$G$2:'العاملين'!$G$999=\"Thu\",ROW(العاملين!$B$2:'العاملين'!$B$999)-ROW(العاملين!$B$2)+1),ROWS($K$2:K41))),\"\")","v":""},null,{"$f":"IFERROR(INDEX(العاملين!$B$2:'العاملين'!$B$999,SMALL(IF(العاملين!$G$2:'العاملين'!$G$999=\"Fri\",ROW(العاملين!$B$2:'العاملين'!$B$999)-ROW(العاملين!$B$2)+1),ROWS($M$2:M41))),\"\")","v":""}]
[null,{"$f":"IFERROR(INDEX(العاملين!$B$2:'العاملين'!$B$999,SMALL(IF(العاملين!$G$2:'العاملين'!$G$999=\"Sat\",ROW(العاملين!$B$2:'العاملين'!$B$999)-ROW(العاملين!$B$2)+1),ROWS($B$2:B42))),\"\")","v":""},{"$f":"IFERROR(INDEX(العاملين!$B$2:'العاملين'!$B$999,SMALL(IF(العاملين!$G$2:'العاملين'!$G$999=\"Sun\",ROW(العاملين!$B$2:'العاملين'!$B$999)-ROW(العاملين!$B$2)+1),ROWS($C$2:C42))),\"\")","v":""},null,{"$f":"IFERROR(INDEX(العاملين!$B$2:'العاملين'!$B$999,SMALL(IF(العاملين!$G$2:'العاملين'!$G$999=\"Mon\",ROW(العاملين!$B$2:'العاملين'!$B$999)-ROW(العاملين!$B$2)+1),ROWS($E$2:E42))),\"\")","v":""},null,{"$f":"IFERROR(INDEX(العاملين!$B$2:'العاملين'!$B$999,SMALL(IF(العاملين!$G$2:'العاملين'!$G$999=\"Tue\",ROW(العاملين!$B$2:'العاملين'!$B$999)-ROW(العاملين!$B$2)+1),ROWS($G$2:G42))),\"\")","v":""},null,{"$f":"IFERROR(INDEX(العاملين!$B$2:'العاملين'!$B$999,SMALL(IF(العاملين!$G$2:'العاملين'!$G$999=\"Wed\",ROW(العاملين!$B$2:'العاملين'!$B$999)-ROW(العاملين!$B$2)+1),ROWS($I$2:I42))),\"\")","v":""},null,{"$f":"IFERROR(INDEX(العاملين!$B$2:'العاملين'!$B$999,SMALL(IF(العاملين!$G$2:'العاملين'!$G$999=\"Thu\",ROW(العاملين!$B$2:'العاملين'!$B$999)-ROW(العاملين!$B$2)+1),ROWS($K$2:K42))),\"\")","v":""},null,{"$f":"IFERROR(INDEX(العاملين!$B$2:'العاملين'!$B$999,SMALL(IF(العاملين!$G$2:'العاملين'!$G$999=\"Fri\",ROW(العاملين!$B$2:'العاملين'!$B$999)-ROW(العاملين!$B$2)+1),ROWS($M$2:M42))),\"\")","v":""}]
[null,{"$f":"IFERROR(INDEX(العاملين!$B$2:'العاملين'!$B$999,SMALL(IF(العاملين!$G$2:'العاملين'!$G$999=\"Sat\",ROW(العاملين!$B$2:'العاملين'!$B$999)-ROW(العاملين!$B$2)+1),ROWS($B$2:B43))),\"\")","v":""},{"$f":"IFERROR(INDEX(العاملين!$B$2:'العاملين'!$B$999,SMALL(IF(العاملين!$G$2:'العاملين'!$G$999=\"Sun\",ROW(العاملين!$B$2:'العاملين'!$B$999)-ROW(العاملين!$B$2)+1),ROWS($C$2:C43))),\"\")","v":""},null,{"$f":"IFERROR(INDEX(العاملين!$B$2:'العاملين'!$B$999,SMALL(IF(العاملين!$G$2:'العاملين'!$G$999=\"Mon\",ROW(العاملين!$B$2:'العاملين'!$B$999)-ROW(العاملين!$B$2)+1),ROWS($E$2:E43))),\"\")","v":""},null,{"$f":"IFERROR(INDEX(العاملين!$B$2:'العاملين'!$B$999,SMALL(IF(العاملين!$G$2:'العاملين'!$G$999=\"Tue\",ROW(العاملين!$B$2:'العاملين'!$B$999)-ROW(العاملين!$B$2)+1),ROWS($G$2:G43))),\"\")","v":""},null,{"$f":"IFERROR(INDEX(العاملين!$B$2:'العاملين'!$B$999,SMALL(IF(العاملين!$G$2:'العاملين'!$G$999=\"Wed\",ROW(العاملين!$B$2:'العاملين'!$B$999)-ROW(العاملين!$B$2)+1),ROWS($I$2:I43))),\"\")","v":""},null,{"$f":"IFERROR(INDEX(العاملين!$B$2:'العاملين'!$B$999,SMALL(IF(العاملين!$G$2:'العاملين'!$G$999=\"Thu\",ROW(العاملين!$B$2:'العاملين'!$B$999)-ROW(العاملين!$B$2)+1),ROWS($K$2:K43))),\"\")","v":""},null,{"$f":"IFERROR(INDEX(العاملين!$B$2:'العاملين'!$B$999,SMALL(IF(العاملين!$G$2:'العاملين'!$G$999=\"Fri\",ROW(العاملين!$B$2:'العاملين'!$B$999)-ROW(العاملين!$B$2)+1),ROWS($M$2:M43))),\"\")","v":""}]
[null,{"$f":"IFERROR(INDEX(العاملين!$B$2:'العاملين'!$B$999,SMALL(IF(العاملين!$G$2:'العاملين'!$G$999=\"Sat\",ROW(العاملين!$B$2:'العاملين'!$B$999)-ROW(العاملين!$B$2)+1),ROWS($B$2:B44))),\"\")","v":""},{"$f":"IFERROR(INDEX(العاملين!$B$2:'العاملين'!$B$999,SMALL(IF(العاملين!$G$2:'العاملين'!$G$999=\"Sun\",ROW(العاملين!$B$2:'العاملين'!$B$999)-ROW(العاملين!$B$2)+1),ROWS($C$2:C44))),\"\")","v":""},null,{"$f":"IFERROR(INDEX(العاملين!$B$2:'العاملين'!$B$999,SMALL(IF(العاملين!$G$2:'العاملين'!$G$999=\"Mon\",ROW(العاملين!$B$2:'العاملين'!$B$999)-ROW(العاملين!$B$2)+1),ROWS($E$2:E44))),\"\")","v":""},null,{"$f":"IFERROR(INDEX(العاملين!$B$2:'العاملين'!$B$999,SMALL(IF(العاملين!$G$2:'العاملين'!$G$999=\"Tue\",ROW(العاملين!$B$2:'العاملين'!$B$999)-ROW(العاملين!$B$2)+1),ROWS($G$2:G44))),\"\")","v":""},null,{"$f":"IFERROR(INDEX(العاملين!$B$2:'العاملين'!$B$999,SMALL(IF(العاملين!$G$2:'العاملين'!$G$999=\"Wed\",ROW(العاملين!$B$2:'العاملين'!$B$999)-ROW(العاملين!$B$2)+1),ROWS($I$2:I44))),\"\")","v":""},null,{"$f":"IFERROR(INDEX(العاملين!$B$2:'العاملين'!$B$999,SMALL(IF(العاملين!$G$2:'العاملين'!$G$999=\"Thu\",ROW(العاملين!$B$2:'العاملين'!$B$999)-ROW(العاملين!$B$2)+1),ROWS($K$2:K44))),\"\")","v":""},null,{"$f":"IFERROR(INDEX(العاملين!$B$2:'العاملين'!$B$999,SMALL(IF(العاملين!$G$2:'العاملين'!$G$999=\"Fri\",ROW(العاملين!$B$2:'العاملين'!$B$999)-ROW(العاملين!$B$2)+1),ROWS($M$2:M44))),\"\")","v":""}]
[null,{"$f":"IFERROR(INDEX(العاملين!$B$2:'العاملين'!$B$999,SMALL(IF(العاملين!$G$2:'العاملين'!$G$999=\"Sat\",ROW(العاملين!$B$2:'العاملين'!$B$999)-ROW(العاملين!$B$2)+1),ROWS($B$2:B45))),\"\")","v":""},{"$f":"IFERROR(INDEX(العاملين!$B$2:'العاملين'!$B$999,SMALL(IF(العاملين!$G$2:'العاملين'!$G$999=\"Sun\",ROW(العاملين!$B$2:'العاملين'!$B$999)-ROW(العاملين!$B$2)+1),ROWS($C$2:C45))),\"\")","v":""},null,{"$f":"IFERROR(INDEX(العاملين!$B$2:'العاملين'!$B$999,SMALL(IF(العاملين!$G$2:'العاملين'!$G$999=\"Mon\",ROW(العاملين!$B$2:'العاملين'!$B$999)-ROW(العاملين!$B$2)+1),ROWS($E$2:E45))),\"\")","v":""},null,{"$f":"IFERROR(INDEX(العاملين!$B$2:'العاملين'!$B$999,SMALL(IF(العاملين!$G$2:'العاملين'!$G$999=\"Tue\",ROW(العاملين!$B$2:'العاملين'!$B$999)-ROW(العاملين!$B$2)+1),ROWS($G$2:G45))),\"\")","v":""},null,{"$f":"IFERROR(INDEX(العاملين!$B$2:'العاملين'!$B$999,SMALL(IF(العاملين!$G$2:'العاملين'!$G$999=\"Wed\",ROW(العاملين!$B$2:'العاملين'!$B$999)-ROW(العاملين!$B$2)+1),ROWS($I$2:I45))),\"\")","v":""},null,{"$f":"IFERROR(INDEX(العاملين!$B$2:'العاملين'!$B$999,SMALL(IF(العاملين!$G$2:'العاملين'!$G$999=\"Thu\",ROW(العاملين!$B$2:'العاملين'!$B$999)-ROW(العاملين!$B$2)+1),ROWS($K$2:K45))),\"\")","v":""},null,{"$f":"IFERROR(INDEX(العاملين!$B$2:'العاملين'!$B$999,SMALL(IF(العاملين!$G$2:'العاملين'!$G$999=\"Fri\",ROW(العاملين!$B$2:'العاملين'!$B$999)-ROW(العاملين!$B$2)+1),ROWS($M$2:M45))),\"\")","v":""}]
[null,{"$f":"IFERROR(INDEX(العاملين!$B$2:'العاملين'!$B$999,SMALL(IF(العاملين!$G$2:'العاملين'!$G$999=\"Sat\",ROW(العاملين!$B$2:'العاملين'!$B$999)-ROW(العاملين!$B$2)+1),ROWS($B$2:B46))),\"\")","v":""},{"$f":"IFERROR(INDEX(العاملين!$B$2:'العاملين'!$B$999,SMALL(IF(العاملين!$G$2:'العاملين'!$G$999=\"Sun\",ROW(العاملين!$B$2:'العاملين'!$B$999)-ROW(العاملين!$B$2)+1),ROWS($C$2:C46))),\"\")","v":""},null,{"$f":"IFERROR(INDEX(العاملين!$B$2:'العاملين'!$B$999,SMALL(IF(العاملين!$G$2:'العاملين'!$G$999=\"Mon\",ROW(العاملين!$B$2:'العاملين'!$B$999)-ROW(العاملين!$B$2)+1),ROWS($E$2:E46))),\"\")","v":""},null,{"$f":"IFERROR(INDEX(العاملين!$B$2:'العاملين'!$B$999,SMALL(IF(العاملين!$G$2:'العاملين'!$G$999=\"Tue\",ROW(العاملين!$B$2:'العاملين'!$B$999)-ROW(العاملين!$B$2)+1),ROWS($G$2:G46))),\"\")","v":""},null,{"$f":"IFERROR(INDEX(العاملين!$B$2:'العاملين'!$B$999,SMALL(IF(العاملين!$G$2:'العاملين'!$G$999=\"Wed\",ROW(العاملين!$B$2:'العاملين'!$B$999)-ROW(العاملين!$B$2)+1),ROWS($I$2:I46))),\"\")","v":""},null,{"$f":"IFERROR(INDEX(العاملين!$B$2:'العاملين'!$B$999,SMALL(IF(العاملين!$G$2:'العاملين'!$G$999=\"Thu\",ROW(العاملين!$B$2:'العاملين'!$B$999)-ROW(العاملين!$B$2)+1),ROWS($K$2:K46))),\"\")","v":""},null,{"$f":"IFERROR(INDEX(العاملين!$B$2:'العاملين'!$B$999,SMALL(IF(العاملين!$G$2:'العاملين'!$G$999=\"Fri\",ROW(العاملين!$B$2:'العاملين'!$B$999)-ROW(العاملين!$B$2)+1),ROWS($M$2:M46))),\"\")","v":""}]
[null,{"$f":"IFERROR(INDEX(العاملين!$B$2:'العاملين'!$B$999,SMALL(IF(العاملين!$G$2:'العاملين'!$G$999=\"Sat\",ROW(العاملين!$B$2:'العاملين'!$B$999)-ROW(العاملين!$B$2)+1),ROWS($B$2:B47))),\"\")","v":""},{"$f":"IFERROR(INDEX(العاملين!$B$2:'العاملين'!$B$999,SMALL(IF(العاملين!$G$2:'العاملين'!$G$999=\"Sun\",ROW(العاملين!$B$2:'العاملين'!$B$999)-ROW(العاملين!$B$2)+1),ROWS($C$2:C47))),\"\")","v":""},null,{"$f":"IFERROR(INDEX(العاملين!$B$2:'العاملين'!$B$999,SMALL(IF(العاملين!$G$2:'العاملين'!$G$999=\"Mon\",ROW(العاملين!$B$2:'العاملين'!$B$999)-ROW(العاملين!$B$2)+1),ROWS($E$2:E47))),\"\")","v":""},null,{"$f":"IFERROR(INDEX(العاملين!$B$2:'العاملين'!$B$999,SMALL(IF(العاملين!$G$2:'العاملين'!$G$999=\"Tue\",ROW(العاملين!$B$2:'العاملين'!$B$999)-ROW(العاملين!$B$2)+1),ROWS($G$2:G47))),\"\")","v":""},null,{"$f":"IFERROR(INDEX(العاملين!$B$2:'العاملين'!$B$999,SMALL(IF(العاملين!$G$2:'العاملين'!$G$999=\"Wed\",ROW(العاملين!$B$2:'العاملين'!$B$999)-ROW(العاملين!$B$2)+1),ROWS($I$2:I47))),\"\")","v":""},null,{"$f":"IFERROR(INDEX(العاملين!$B$2:'العاملين'!$B$999,SMALL(IF(العاملين!$G$2:'العاملين'!$G$999=\"Thu\",ROW(العاملين!$B$2:'العاملين'!$B$999)-ROW(العاملين!$B$2)+1),ROWS($K$2:K47))),\"\")","v":""},null,{"$f":"IFERROR(INDEX(العاملين!$B$2:'العاملين'!$B$999,SMALL(IF(العاملين!$G$2:'العاملين'!$G$999=\"Fri\",ROW(العاملين!$B$2:'العاملين'!$B$999)-ROW(العاملين!$B$2)+1),ROWS($M$2:M47))),\"\")","v":""}]
[null,{"$f":"IFERROR(INDEX(العاملين!$B$2:'العاملين'!$B$999,SMALL(IF(العاملين!$G$2:'العاملين'!$G$999=\"Sat\",ROW(العاملين!$B$2:'العاملين'!$B$999)-ROW(العاملين!$B$2)+1),ROWS($B$2:B48))),\"\")","v":""},{"$f":"IFERROR(INDEX(العاملين!$B$2:'العاملين'!$B$999,SMALL(IF(العاملين!$G$2:'العاملين'!$G$999=\"Sun\",ROW(العاملين!$B$2:'العاملين'!$B$999)-ROW(العاملين!$B$2)+1),ROWS($C$2:C48))),\"\")","v":""},null,{"$f":"IFERROR(INDEX(العاملين!$B$2:'العاملين'!$B$999,SMALL(IF(العاملين!$G$2:'العاملين'!$G$999=\"Mon\",ROW(العاملين!$B$2:'العاملين'!$B$999)-ROW(العاملين!$B$2)+1),ROWS($E$2:E48))),\"\")","v":""},null,{"$f":"IFERROR(INDEX(العاملين!$B$2:'العاملين'!$B$999,SMALL(IF(العاملين!$G$2:'العاملين'!$G$999=\"Tue\",ROW(العاملين!$B$2:'العاملين'!$B$999)-ROW(العاملين!$B$2)+1),ROWS($G$2:G48))),\"\")","v":""},null,{"$f":"IFERROR(INDEX(العاملين!$B$2:'العاملين'!$B$999,SMALL(IF(العاملين!$G$2:'العاملين'!$G$999=\"Wed\",ROW(العاملين!$B$2:'العاملين'!$B$999)-ROW(العاملين!$B$2)+1),ROWS($I$2:I48))),\"\")","v":""},null,{"$f":"IFERROR(INDEX(العاملين!$B$2:'العاملين'!$B$999,SMALL(IF(العاملين!$G$2:'العاملين'!$G$999=\"Thu\",ROW(العاملين!$B$2:'العاملين'!$B$999)-ROW(العاملين!$B$2)+1),ROWS($K$2:K48))),\"\")","v":""},null,{"$f":"IFERROR(INDEX(العاملين!$B$2:'العاملين'!$B$999,SMALL(IF(العاملين!$G$2:'العاملين'!$G$999=\"Fri\",ROW(العاملين!$B$2:'العاملين'!$B$999)-ROW(العاملين!$B$2)+1),ROWS($M$2:M48))),\"\")","v":""}]
[null,{"$f":"IFERROR(INDEX(العاملين!$B$2:'العاملين'!$B$999,SMALL(IF(العاملين!$G$2:'العاملين'!$G$999=\"Sat\",ROW(العاملين!$B$2:'العاملين'!$B$999)-ROW(العاملين!$B$2)+1),ROWS($B$2:B49))),\"\")","v":""},{"$f":"IFERROR(INDEX(العاملين!$B$2:'العاملين'!$B$999,SMALL(IF(العاملين!$G$2:'العاملين'!$G$999=\"Sun\",ROW(العاملين!$B$2:'العاملين'!$B$999)-ROW(العاملين!$B$2)+1),ROWS($C$2:C49))),\"\")","v":""},null,{"$f":"IFERROR(INDEX(العاملين!$B$2:'العاملين'!$B$999,SMALL(IF(العاملين!$G$2:'العاملين'!$G$999=\"Mon\",ROW(العاملين!$B$2:'العاملين'!$B$999)-ROW(العاملين!$B$2)+1),ROWS($E$2:E49))),\"\")","v":""},null,{"$f":"IFERROR(INDEX(العاملين!$B$2:'العاملين'!$B$999,SMALL(IF(العاملين!$G$2:'العاملين'!$G$999=\"Tue\",ROW(العاملين!$B$2:'العاملين'!$B$999)-ROW(العاملين!$B$2)+1),ROWS($G$2:G49))),\"\")","v":""},null,{"$f":"IFERROR(INDEX(العاملين!$B$2:'العاملين'!$B$999,SMALL(IF(العاملين!$G$2:'العاملين'!$G$999=\"Wed\",ROW(العاملين!$B$2:'العاملين'!$B$999)-ROW(العاملين!$B$2)+1),ROWS($I$2:I49))),\"\")","v":""},null,{"$f":"IFERROR(INDEX(العاملين!$B$2:'العاملين'!$B$999,SMALL(IF(العاملين!$G$2:'العاملين'!$G$999=\"Thu\",ROW(العاملين!$B$2:'العاملين'!$B$999)-ROW(العاملين!$B$2)+1),ROWS($K$2:K49))),\"\")","v":""},null,{"$f":"IFERROR(INDEX(العاملين!$B$2:'العاملين'!$B$999,SMALL(IF(العاملين!$G$2:'العاملين'!$G$999=\"Fri\",ROW(العاملين!$B$2:'العاملين'!$B$999)-ROW(العاملين!$B$2)+1),ROWS($M$2:M49))),\"\")","v":""}]
[null,{"$f":"IFERROR(INDEX(العاملين!$B$2:'العاملين'!$B$999,SMALL(IF(العاملين!$G$2:'العاملين'!$G$999=\"Sat\",ROW(العاملين!$B$2:'العاملين'!$B$999)-ROW(العاملين!$B$2)+1),ROWS($B$2:B50))),\"\")","v":""},{"$f":"IFERROR(INDEX(العاملين!$B$2:'العاملين'!$B$999,SMALL(IF(العاملين!$G$2:'العاملين'!$G$999=\"Sun\",ROW(العاملين!$B$2:'العاملين'!$B$999)-ROW(العاملين!$B$2)+1),ROWS($C$2:C50))),\"\")","v":""},null,{"$f":"IFERROR(INDEX(العاملين!$B$2:'العاملين'!$B$999,SMALL(IF(العاملين!$G$2:'العاملين'!$G$999=\"Mon\",ROW(العاملين!$B$2:'العاملين'!$B$999)-ROW(العاملين!$B$2)+1),ROWS($E$2:E50))),\"\")","v":""},null,{"$f":"IFERROR(INDEX(العاملين!$B$2:'العاملين'!$B$999,SMALL(IF(العاملين!$G$2:'العاملين'!$G$999=\"Tue\",ROW(العاملين!$B$2:'العاملين'!$B$999)-ROW(العاملين!$B$2)+1),ROWS($G$2:G50))),\"\")","v":""},null,{"$f":"IFERROR(INDEX(العاملين!$B$2:'العاملين'!$B$999,SMALL(IF(العاملين!$G$2:'العاملين'!$G$999=\"Wed\",ROW(العاملين!$B$2:'العاملين'!$B$999)-ROW(العاملين!$B$2)+1),ROWS($I$2:I50))),\"\")","v":""},null,{"$f":"IFERROR(INDEX(العاملين!$B$2:'العاملين'!$B$999,SMALL(IF(العاملين!$G$2:'العاملين'!$G$999=\"Thu\",ROW(العاملين!$B$2:'العاملين'!$B$999)-ROW(العاملين!$B$2)+1),ROWS($K$2:K50))),\"\")","v":""},null,{"$f":"IFERROR(INDEX(العاملين!$B$2:'العاملين'!$B$999,SMALL(IF(العاملين!$G$2:'العاملين'!$G$999=\"Fri\",ROW(العاملين!$B$2:'العاملين'!$B$999)-ROW(العاملين!$B$2)+1),ROWS($M$2:M50))),\"\")","v":""}]
[null,{"$f":"IFERROR(INDEX(العاملين!$B$2:'العاملين'!$B$999,SMALL(IF(العاملين!$G$2:'العاملين'!$G$999=\"Sat\",ROW(العاملين!$B$2:'العاملين'!$B$999)-ROW(العاملين!$B$2)+1),ROWS($B$2:B51))),\"\")","v":""},{"$f":"IFERROR(INDEX(العاملين!$B$2:'العاملين'!$B$999,SMALL(IF(العاملين!$G$2:'العاملين'!$G$999=\"Sun\",ROW(العاملين!$B$2:'العاملين'!$B$999)-ROW(العاملين!$B$2)+1),ROWS($C$2:C51))),\"\")","v":""},null,{"$f":"IFERROR(INDEX(العاملين!$B$2:'العاملين'!$B$999,SMALL(IF(العاملين!$G$2:'العاملين'!$G$999=\"Mon\",ROW(العاملين!$B$2:'العاملين'!$B$999)-ROW(العاملين!$B$2)+1),ROWS($E$2:E51))),\"\")","v":""},null,{"$f":"IFERROR(INDEX(العاملين!$B$2:'العاملين'!$B$999,SMALL(IF(العاملين!$G$2:'العاملين'!$G$999=\"Tue\",ROW(العاملين!$B$2:'العاملين'!$B$999)-ROW(العاملين!$B$2)+1),ROWS($G$2:G51))),\"\")","v":""},null,{"$f":"IFERROR(INDEX(العاملين!$B$2:'العاملين'!$B$999,SMALL(IF(العاملين!$G$2:'العاملين'!$G$999=\"Wed\",ROW(العاملين!$B$2:'العاملين'!$B$999)-ROW(العاملين!$B$2)+1),ROWS($I$2:I51))),\"\")","v":""},null,{"$f":"IFERROR(INDEX(العاملين!$B$2:'العاملين'!$B$999,SMALL(IF(العاملين!$G$2:'العاملين'!$G$999=\"Thu\",ROW(العاملين!$B$2:'العاملين'!$B$999)-ROW(العاملين!$B$2)+1),ROWS($K$2:K51))),\"\")","v":""},null,{"$f":"IFERROR(INDEX(العاملين!$B$2:'العاملين'!$B$999,SMALL(IF(العاملين!$G$2:'العاملين'!$G$999=\"Fri\",ROW(العاملين!$B$2:'العاملين'!$B$999)-ROW(العاملين!$B$2)+1),ROWS($M$2:M51))),\"\")","v":""}]
[null,{"$f":"IFERROR(INDEX(العاملين!$B$2:'العاملين'!$B$999,SMALL(IF(العاملين!$G$2:'العاملين'!$G$999=\"Sat\",ROW(العاملين!$B$2:'العاملين'!$B$999)-ROW(العاملين!$B$2)+1),ROWS($B$2:B52))),\"\")","v":""},{"$f":"IFERROR(INDEX(العاملين!$B$2:'العاملين'!$B$999,SMALL(IF(العاملين!$G$2:'العاملين'!$G$999=\"Sun\",ROW(العاملين!$B$2:'العاملين'!$B$999)-ROW(العاملين!$B$2)+1),ROWS($C$2:C52))),\"\")","v":""},null,{"$f":"IFERROR(INDEX(العاملين!$B$2:'العاملين'!$B$999,SMALL(IF(العاملين!$G$2:'العاملين'!$G$999=\"Mon\",ROW(العاملين!$B$2:'العاملين'!$B$999)-ROW(العاملين!$B$2)+1),ROWS($E$2:E52))),\"\")","v":""},null,{"$f":"IFERROR(INDEX(العاملين!$B$2:'العاملين'!$B$999,SMALL(IF(العاملين!$G$2:'العاملين'!$G$999=\"Tue\",ROW(العاملين!$B$2:'العاملين'!$B$999)-ROW(العاملين!$B$2)+1),ROWS($G$2:G52))),\"\")","v":""},null,{"$f":"IFERROR(INDEX(العاملين!$B$2:'العاملين'!$B$999,SMALL(IF(العاملين!$G$2:'العاملين'!$G$999=\"Wed\",ROW(العاملين!$B$2:'العاملين'!$B$999)-ROW(العاملين!$B$2)+1),ROWS($I$2:I52))),\"\")","v":""},null,{"$f":"IFERROR(INDEX(العاملين!$B$2:'العاملين'!$B$999,SMALL(IF(العاملين!$G$2:'العاملين'!$G$999=\"Thu\",ROW(العاملين!$B$2:'العاملين'!$B$999)-ROW(العاملين!$B$2)+1),ROWS($K$2:K52))),\"\")","v":""},null,{"$f":"IFERROR(INDEX(العاملين!$B$2:'العاملين'!$B$999,SMALL(IF(العاملين!$G$2:'العاملين'!$G$999=\"Fri\",ROW(العاملين!$B$2:'العاملين'!$B$999)-ROW(العاملين!$B$2)+1),ROWS($M$2:M52))),\"\")","v":""}]
[null,{"$f":"IFERROR(INDEX(العاملين!$B$2:'العاملين'!$B$999,SMALL(IF(العاملين!$G$2:'العاملين'!$G$999=\"Sat\",ROW(العاملين!$B$2:'العاملين'!$B$999)-ROW(العاملين!$B$2)+1),ROWS($B$2:B53))),\"\")","v":""},{"$f":"IFERROR(INDEX(العاملين!$B$2:'العاملين'!$B$999,SMALL(IF(العاملين!$G$2:'العاملين'!$G$999=\"Sun\",ROW(العاملين!$B$2:'العاملين'!$B$999)-ROW(العاملين!$B$2)+1),ROWS($C$2:C53))),\"\")","v":""},null,{"$f":"IFERROR(INDEX(العاملين!$B$2:'العاملين'!$B$999,SMALL(IF(العاملين!$G$2:'العاملين'!$G$999=\"Mon\",ROW(العاملين!$B$2:'العاملين'!$B$999)-ROW(العاملين!$B$2)+1),ROWS($E$2:E53))),\"\")","v":""},null,{"$f":"IFERROR(INDEX(العاملين!$B$2:'العاملين'!$B$999,SMALL(IF(العاملين!$G$2:'العاملين'!$G$999=\"Tue\",ROW(العاملين!$B$2:'العاملين'!$B$999)-ROW(العاملين!$B$2)+1),ROWS($G$2:G53))),\"\")","v":""},null,{"$f":"IFERROR(INDEX(العاملين!$B$2:'العاملين'!$B$999,SMALL(IF(العاملين!$G$2:'العاملين'!$G$999=\"Wed\",ROW(العاملين!$B$2:'العاملين'!$B$999)-ROW(العاملين!$B$2)+1),ROWS($I$2:I53))),\"\")","v":""},null,{"$f":"IFERROR(INDEX(العاملين!$B$2:'العاملين'!$B$999,SMALL(IF(العاملين!$G$2:'العاملين'!$G$999=\"Thu\",ROW(العاملين!$B$2:'العاملين'!$B$999)-ROW(العاملين!$B$2)+1),ROWS($K$2:K53))),\"\")","v":""},null,{"$f":"IFERROR(INDEX(العاملين!$B$2:'العاملين'!$B$999,SMALL(IF(العاملين!$G$2:'العاملين'!$G$999=\"Fri\",ROW(العاملين!$B$2:'العاملين'!$B$999)-ROW(العاملين!$B$2)+1),ROWS($M$2:M53))),\"\")","v":""}]
[null,{"$f":"IFERROR(INDEX(العاملين!$B$2:'العاملين'!$B$999,SMALL(IF(العاملين!$G$2:'العاملين'!$G$999=\"Sat\",ROW(العاملين!$B$2:'العاملين'!$B$999)-ROW(العاملين!$B$2)+1),ROWS($B$2:B54))),\"\")","v":""},{"$f":"IFERROR(INDEX(العاملين!$B$2:'العاملين'!$B$999,SMALL(IF(العاملين!$G$2:'العاملين'!$G$999=\"Sun\",ROW(العاملين!$B$2:'العاملين'!$B$999)-ROW(العاملين!$B$2)+1),ROWS($C$2:C54))),\"\")","v":""},null,{"$f":"IFERROR(INDEX(العاملين!$B$2:'العاملين'!$B$999,SMALL(IF(العاملين!$G$2:'العاملين'!$G$999=\"Mon\",ROW(العاملين!$B$2:'العاملين'!$B$999)-ROW(العاملين!$B$2)+1),ROWS($E$2:E54))),\"\")","v":""},null,{"$f":"IFERROR(INDEX(العاملين!$B$2:'العاملين'!$B$999,SMALL(IF(العاملين!$G$2:'العاملين'!$G$999=\"Tue\",ROW(العاملين!$B$2:'العاملين'!$B$999)-ROW(العاملين!$B$2)+1),ROWS($G$2:G54))),\"\")","v":""},null,{"$f":"IFERROR(INDEX(العاملين!$B$2:'العاملين'!$B$999,SMALL(IF(العاملين!$G$2:'العاملين'!$G$999=\"Wed\",ROW(العاملين!$B$2:'العاملين'!$B$999)-ROW(العاملين!$B$2)+1),ROWS($I$2:I54))),\"\")","v":""},null,{"$f":"IFERROR(INDEX(العاملين!$B$2:'العاملين'!$B$999,SMALL(IF(العاملين!$G$2:'العاملين'!$G$999=\"Thu\",ROW(العاملين!$B$2:'العاملين'!$B$999)-ROW(العاملين!$B$2)+1),ROWS($K$2:K54))),\"\")","v":""},null,{"$f":"IFERROR(INDEX(العاملين!$B$2:'العاملين'!$B$999,SMALL(IF(العاملين!$G$2:'العاملين'!$G$999=\"Fri\",ROW(العاملين!$B$2:'العاملين'!$B$999)-ROW(العاملين!$B$2)+1),ROWS($M$2:M54))),\"\")","v":""}]
[null,{"$f":"IFERROR(INDEX(العاملين!$B$2:'العاملين'!$B$999,SMALL(IF(العاملين!$G$2:'العاملين'!$G$999=\"Sat\",ROW(العاملين!$B$2:'العاملين'!$B$999)-ROW(العاملين!$B$2)+1),ROWS($B$2:B55))),\"\")","v":""},{"$f":"IFERROR(INDEX(العاملين!$B$2:'العاملين'!$B$999,SMALL(IF(العاملين!$G$2:'العاملين'!$G$999=\"Sun\",ROW(العاملين!$B$2:'العاملين'!$B$999)-ROW(العاملين!$B$2)+1),ROWS($C$2:C55))),\"\")","v":""},null,{"$f":"IFERROR(INDEX(العاملين!$B$2:'العاملين'!$B$999,SMALL(IF(العاملين!$G$2:'العاملين'!$G$999=\"Mon\",ROW(العاملين!$B$2:'العاملين'!$B$999)-ROW(العاملين!$B$2)+1),ROWS($E$2:E55))),\"\")","v":""},null,{"$f":"IFERROR(INDEX(العاملين!$B$2:'العاملين'!$B$999,SMALL(IF(العاملين!$G$2:'العاملين'!$G$999=\"Tue\",ROW(العاملين!$B$2:'العاملين'!$B$999)-ROW(العاملين!$B$2)+1),ROWS($G$2:G55))),\"\")","v":""},null,{"$f":"IFERROR(INDEX(العاملين!$B$2:'العاملين'!$B$999,SMALL(IF(العاملين!$G$2:'العاملين'!$G$999=\"Wed\",ROW(العاملين!$B$2:'العاملين'!$B$999)-ROW(العاملين!$B$2)+1),ROWS($I$2:I55))),\"\")","v":""},null,{"$f":"IFERROR(INDEX(العاملين!$B$2:'العاملين'!$B$999,SMALL(IF(العاملين!$G$2:'العاملين'!$G$999=\"Thu\",ROW(العاملين!$B$2:'العاملين'!$B$999)-ROW(العاملين!$B$2)+1),ROWS($K$2:K55))),\"\")","v":""},null,{"$f":"IFERROR(INDEX(العاملين!$B$2:'العاملين'!$B$999,SMALL(IF(العاملين!$G$2:'العاملين'!$G$999=\"Fri\",ROW(العاملين!$B$2:'العاملين'!$B$999)-ROW(العاملين!$B$2)+1),ROWS($M$2:M55))),\"\")","v":""}]
[null,{"$f":"IFERROR(INDEX(العاملين!$B$2:'العاملين'!$B$999,SMALL(IF(العاملين!$G$2:'العاملين'!$G$999=\"Sat\",ROW(العاملين!$B$2:'العاملين'!$B$999)-ROW(العاملين!$B$2)+1),ROWS($B$2:B56))),\"\")","v":""},{"$f":"IFERROR(INDEX(العاملين!$B$2:'العاملين'!$B$999,SMALL(IF(العاملين!$G$2:'العاملين'!$G$999=\"Sun\",ROW(العاملين!$B$2:'العاملين'!$B$999)-ROW(العاملين!$B$2)+1),ROWS($C$2:C56))),\"\")","v":""},null,{"$f":"IFERROR(INDEX(العاملين!$B$2:'العاملين'!$B$999,SMALL(IF(العاملين!$G$2:'العاملين'!$G$999=\"Mon\",ROW(العاملين!$B$2:'العاملين'!$B$999)-ROW(العاملين!$B$2)+1),ROWS($E$2:E56))),\"\")","v":""},null,{"$f":"IFERROR(INDEX(العاملين!$B$2:'العاملين'!$B$999,SMALL(IF(العاملين!$G$2:'العاملين'!$G$999=\"Tue\",ROW(العاملين!$B$2:'العاملين'!$B$999)-ROW(العاملين!$B$2)+1),ROWS($G$2:G56))),\"\")","v":""},null,{"$f":"IFERROR(INDEX(العاملين!$B$2:'العاملين'!$B$999,SMALL(IF(العاملين!$G$2:'العاملين'!$G$999=\"Wed\",ROW(العاملين!$B$2:'العاملين'!$B$999)-ROW(العاملين!$B$2)+1),ROWS($I$2:I56))),\"\")","v":""},null,{"$f":"IFERROR(INDEX(العاملين!$B$2:'العاملين'!$B$999,SMALL(IF(العاملين!$G$2:'العاملين'!$G$999=\"Thu\",ROW(العاملين!$B$2:'العاملين'!$B$999)-ROW(العاملين!$B$2)+1),ROWS($K$2:K56))),\"\")","v":""},null,{"$f":"IFERROR(INDEX(العاملين!$B$2:'العاملين'!$B$999,SMALL(IF(العاملين!$G$2:'العاملين'!$G$999=\"Fri\",ROW(العاملين!$B$2:'العاملين'!$B$999)-ROW(العاملين!$B$2)+1),ROWS($M$2:M56))),\"\")","v":""}]
[null,{"$f":"IFERROR(INDEX(العاملين!$B$2:'العاملين'!$B$999,SMALL(IF(العاملين!$G$2:'العاملين'!$G$999=\"Sat\",ROW(العاملين!$B$2:'العاملين'!$B$999)-ROW(العاملين!$B$2)+1),ROWS($B$2:B57))),\"\")","v":""},{"$f":"IFERROR(INDEX(العاملين!$B$2:'العاملين'!$B$999,SMALL(IF(العاملين!$G$2:'العاملين'!$G$999=\"Sun\",ROW(العاملين!$B$2:'العاملين'!$B$999)-ROW(العاملين!$B$2)+1),ROWS($C$2:C57))),\"\")","v":""},null,{"$f":"IFERROR(INDEX(العاملين!$B$2:'العاملين'!$B$999,SMALL(IF(العاملين!$G$2:'العاملين'!$G$999=\"Mon\",ROW(العاملين!$B$2:'العاملين'!$B$999)-ROW(العاملين!$B$2)+1),ROWS($E$2:E57))),\"\")","v":""},null,{"$f":"IFERROR(INDEX(العاملين!$B$2:'العاملين'!$B$999,SMALL(IF(العاملين!$G$2:'العاملين'!$G$999=\"Tue\",ROW(العاملين!$B$2:'العاملين'!$B$999)-ROW(العاملين!$B$2)+1),ROWS($G$2:G57))),\"\")","v":""},null,{"$f":"IFERROR(INDEX(العاملين!$B$2:'العاملين'!$B$999,SMALL(IF(العاملين!$G$2:'العاملين'!$G$999=\"Wed\",ROW(العاملين!$B$2:'العاملين'!$B$999)-ROW(العاملين!$B$2)+1),ROWS($I$2:I57))),\"\")","v":""},null,{"$f":"IFERROR(INDEX(العاملين!$B$2:'العاملين'!$B$999,SMALL(IF(العاملين!$G$2:'العاملين'!$G$999=\"Thu\",ROW(العاملين!$B$2:'العاملين'!$B$999)-ROW(العاملين!$B$2)+1),ROWS($K$2:K57))),\"\")","v":""},null,{"$f":"IFERROR(INDEX(العاملين!$B$2:'العاملين'!$B$999,SMALL(IF(العاملين!$G$2:'العاملين'!$G$999=\"Fri\",ROW(العاملين!$B$2:'العاملين'!$B$999)-ROW(العاملين!$B$2)+1),ROWS($M$2:M57))),\"\")","v":""}]
[null,{"$f":"IFERROR(INDEX(العاملين!$B$2:'العاملين'!$B$999,SMALL(IF(العاملين!$G$2:'العاملين'!$G$999=\"Sat\",ROW(العاملين!$B$2:'العاملين'!$B$999)-ROW(العاملين!$B$2)+1),ROWS($B$2:B58))),\"\")","v":""},{"$f":"IFERROR(INDEX(العاملين!$B$2:'العاملين'!$B$999,SMALL(IF(العاملين!$G$2:'العاملين'!$G$999=\"Sun\",ROW(العاملين!$B$2:'العاملين'!$B$999)-ROW(العاملين!$B$2)+1),ROWS($C$2:C58))),\"\")","v":""},null,{"$f":"IFERROR(INDEX(العاملين!$B$2:'العاملين'!$B$999,SMALL(IF(العاملين!$G$2:'العاملين'!$G$999=\"Mon\",ROW(العاملين!$B$2:'العاملين'!$B$999)-ROW(العاملين!$B$2)+1),ROWS($E$2:E58))),\"\")","v":""},null,{"$f":"IFERROR(INDEX(العاملين!$B$2:'العاملين'!$B$999,SMALL(IF(العاملين!$G$2:'العاملين'!$G$999=\"Tue\",ROW(العاملين!$B$2:'العاملين'!$B$999)-ROW(العاملين!$B$2)+1),ROWS($G$2:G58))),\"\")","v":""},null,{"$f":"IFERROR(INDEX(العاملين!$B$2:'العاملين'!$B$999,SMALL(IF(العاملين!$G$2:'العاملين'!$G$999=\"Wed\",ROW(العاملين!$B$2:'العاملين'!$B$999)-ROW(العاملين!$B$2)+1),ROWS($I$2:I58))),\"\")","v":""},null,{"$f":"IFERROR(INDEX(العاملين!$B$2:'العاملين'!$B$999,SMALL(IF(العاملين!$G$2:'العاملين'!$G$999=\"Thu\",ROW(العاملين!$B$2:'العاملين'!$B$999)-ROW(العاملين!$B$2)+1),ROWS($K$2:K58))),\"\")","v":""},null,{"$f":"IFERROR(INDEX(العاملين!$B$2:'العاملين'!$B$999,SMALL(IF(العاملين!$G$2:'العاملين'!$G$999=\"Fri\",ROW(العاملين!$B$2:'العاملين'!$B$999)-ROW(العاملين!$B$2)+1),ROWS($M$2:M58))),\"\")","v":""}]
[null,{"$f":"IFERROR(INDEX(العاملين!$B$2:'العاملين'!$B$999,SMALL(IF(العاملين!$G$2:'العاملين'!$G$999=\"Sat\",ROW(العاملين!$B$2:'العاملين'!$B$999)-ROW(العاملين!$B$2)+1),ROWS($B$2:B59))),\"\")","v":""},{"$f":"IFERROR(INDEX(العاملين!$B$2:'العاملين'!$B$999,SMALL(IF(العاملين!$G$2:'العاملين'!$G$999=\"Sun\",ROW(العاملين!$B$2:'العاملين'!$B$999)-ROW(العاملين!$B$2)+1),ROWS($C$2:C59))),\"\")","v":""},null,{"$f":"IFERROR(INDEX(العاملين!$B$2:'العاملين'!$B$999,SMALL(IF(العاملين!$G$2:'العاملين'!$G$999=\"Mon\",ROW(العاملين!$B$2:'العاملين'!$B$999)-ROW(العاملين!$B$2)+1),ROWS($E$2:E59))),\"\")","v":""},null,{"$f":"IFERROR(INDEX(العاملين!$B$2:'العاملين'!$B$999,SMALL(IF(العاملين!$G$2:'العاملين'!$G$999=\"Tue\",ROW(العاملين!$B$2:'العاملين'!$B$999)-ROW(العاملين!$B$2)+1),ROWS($G$2:G59))),\"\")","v":""},null,{"$f":"IFERROR(INDEX(العاملين!$B$2:'العاملين'!$B$999,SMALL(IF(العاملين!$G$2:'العاملين'!$G$999=\"Wed\",ROW(العاملين!$B$2:'العاملين'!$B$999)-ROW(العاملين!$B$2)+1),ROWS($I$2:I59))),\"\")","v":""},null,{"$f":"IFERROR(INDEX(العاملين!$B$2:'العاملين'!$B$999,SMALL(IF(العاملين!$G$2:'العاملين'!$G$999=\"Thu\",ROW(العاملين!$B$2:'العاملين'!$B$999)-ROW(العاملين!$B$2)+1),ROWS($K$2:K59))),\"\")","v":""},null,{"$f":"IFERROR(INDEX(العاملين!$B$2:'العاملين'!$B$999,SMALL(IF(العاملين!$G$2:'العاملين'!$G$999=\"Fri\",ROW(العاملين!$B$2:'العاملين'!$B$999)-ROW(العاملين!$B$2)+1),ROWS($M$2:M59))),\"\")","v":""}]
[null,{"$f":"IFERROR(INDEX(العاملين!$B$2:'العاملين'!$B$999,SMALL(IF(العاملين!$G$2:'العاملين'!$G$999=\"Sat\",ROW(العاملين!$B$2:'العاملين'!$B$999)-ROW(العاملين!$B$2)+1),ROWS($B$2:B60))),\"\")","v":""},{"$f":"IFERROR(INDEX(العاملين!$B$2:'العاملين'!$B$999,SMALL(IF(العاملين!$G$2:'العاملين'!$G$999=\"Sun\",ROW(العاملين!$B$2:'العاملين'!$B$999)-ROW(العاملين!$B$2)+1),ROWS($C$2:C60))),\"\")","v":""},null,{"$f":"IFERROR(INDEX(العاملين!$B$2:'العاملين'!$B$999,SMALL(IF(العاملين!$G$2:'العاملين'!$G$999=\"Mon\",ROW(العاملين!$B$2:'العاملين'!$B$999)-ROW(العاملين!$B$2)+1),ROWS($E$2:E60))),\"\")","v":""},null,{"$f":"IFERROR(INDEX(العاملين!$B$2:'العاملين'!$B$999,SMALL(IF(العاملين!$G$2:'العاملين'!$G$999=\"Tue\",ROW(العاملين!$B$2:'العاملين'!$B$999)-ROW(العاملين!$B$2)+1),ROWS($G$2:G60))),\"\")","v":""},null,{"$f":"IFERROR(INDEX(العاملين!$B$2:'العاملين'!$B$999,SMALL(IF(العاملين!$G$2:'العاملين'!$G$999=\"Wed\",ROW(العاملين!$B$2:'العاملين'!$B$999)-ROW(العاملين!$B$2)+1),ROWS($I$2:I60))),\"\")","v":""},null,{"$f":"IFERROR(INDEX(العاملين!$B$2:'العاملين'!$B$999,SMALL(IF(العاملين!$G$2:'العاملين'!$G$999=\"Thu\",ROW(العاملين!$B$2:'العاملين'!$B$999)-ROW(العاملين!$B$2)+1),ROWS($K$2:K60))),\"\")","v":""},null,{"$f":"IFERROR(INDEX(العاملين!$B$2:'العاملين'!$B$999,SMALL(IF(العاملين!$G$2:'العاملين'!$G$999=\"Fri\",ROW(العاملين!$B$2:'العاملين'!$B$999)-ROW(العاملين!$B$2)+1),ROWS($M$2:M60))),\"\")","v":""}]
[null,null,{"$f":"IFERROR(INDEX(العاملين!$B$2:'العاملين'!$B$999,SMALL(IF(العاملين!$G$2:'العاملين'!$G$999=\"Sun\",ROW(العاملين!$B$2:'العاملين'!$B$999)-ROW(العاملين!$B$2)+1),ROWS($C$2:C61))),\"\")","v":""},null,{"$f":"IFERROR(INDEX(العاملين!$B$2:'العاملين'!$B$999,SMALL(IF(العاملين!$G$2:'العاملين'!$G$999=\"Mon\",ROW(العاملين!$B$2:'العاملين'!$B$999)-ROW(العاملين!$B$2)+1),ROWS($E$2:E61))),\"\")","v":""},null,{"$f":"IFERROR(INDEX(العاملين!$B$2:'العاملين'!$B$999,SMALL(IF(العاملين!$G$2:'العاملين'!$G$999=\"Tue\",ROW(العاملين!$B$2:'العاملين'!$B$999)-ROW(العاملين!$B$2)+1),ROWS($G$2:G61))),\"\")","v":""},null,{"$f":"IFERROR(INDEX(العاملين!$B$2:'العاملين'!$B$999,SMALL(IF(العاملين!$G$2:'العاملين'!$G$999=\"Wed\",ROW(العاملين!$B$2:'العاملين'!$B$999)-ROW(العاملين!$B$2)+1),ROWS($I$2:I61))),\"\")","v":""},null,{"$f":"IFERROR(INDEX(العاملين!$B$2:'العاملين'!$B$999,SMALL(IF(العاملين!$G$2:'العاملين'!$G$999=\"Thu\",ROW(العاملين!$B$2:'العاملين'!$B$999)-ROW(العاملين!$B$2)+1),ROWS($K$2:K61))),\"\")","v":""},null,{"$f":"IFERROR(INDEX(العاملين!$B$2:'العاملين'!$B$999,SMALL(IF(العاملين!$G$2:'العاملين'!$G$999=\"Fri\",ROW(العاملين!$B$2:'العاملين'!$B$999)-ROW(العاملين!$B$2)+1),ROWS($M$2:M61))),\"\")","v":""}]
[null,{"$f":"IFERROR(INDEX(العاملين!$B$2:'العاملين'!$B$999,SMALL(IF(العاملين!$G$2:'العاملين'!$G$999=\"Sat\",ROW(العاملين!$B$2:'العاملين'!$B$999)-ROW(العاملين!$B$2)+1),ROWS($B$2:B62))),\"\")","v":""},{"$f":"IFERROR(INDEX(العاملين!$B$2:'العاملين'!$B$999,SMALL(IF(العاملين!$G$2:'العاملين'!$G$999=\"Sun\",ROW(العاملين!$B$2:'العاملين'!$B$999)-ROW(العاملين!$B$2)+1),ROWS($C$2:C62))),\"\")","v":""},null,{"$f":"IFERROR(INDEX(العاملين!$B$2:'العاملين'!$B$999,SMALL(IF(العاملين!$G$2:'العاملين'!$G$999=\"Mon\",ROW(العاملين!$B$2:'العاملين'!$B$999)-ROW(العاملين!$B$2)+1),ROWS($E$2:E62))),\"\")","v":""},null,{"$f":"IFERROR(INDEX(العاملين!$B$2:'العاملين'!$B$999,SMALL(IF(العاملين!$G$2:'العاملين'!$G$999=\"Tue\",ROW(العاملين!$B$2:'العاملين'!$B$999)-ROW(العاملين!$B$2)+1),ROWS($G$2:G62))),\"\")","v":""},null,{"$f":"IFERROR(INDEX(العاملين!$B$2:'العاملين'!$B$999,SMALL(IF(العاملين!$G$2:'العاملين'!$G$999=\"Wed\",ROW(العاملين!$B$2:'العاملين'!$B$999)-ROW(العاملين!$B$2)+1),ROWS($I$2:I62))),\"\")","v":""},null,{"$f":"IFERROR(INDEX(العاملين!$B$2:'العاملين'!$B$999,SMALL(IF(العاملين!$G$2:'العاملين'!$G$999=\"Thu\",ROW(العاملين!$B$2:'العاملين'!$B$999)-ROW(العاملين!$B$2)+1),ROWS($K$2:K62))),\"\")","v":""},null,{"$f":"IFERROR(INDEX(العاملين!$B$2:'العاملين'!$B$999,SMALL(IF(العاملين!$G$2:'العاملين'!$G$999=\"Fri\",ROW(العاملين!$B$2:'العاملين'!$B$999)-ROW(العاملين!$B$2)+1),ROWS($M$2:M62))),\"\")","v":""}]
[null,{"$f":"IFERROR(INDEX(العاملين!$B$2:'العاملين'!$B$999,SMALL(IF(العاملين!$G$2:'العاملين'!$G$999=\"Sat\",ROW(العاملين!$B$2:'العاملين'!$B$999)-ROW(العاملين!$B$2)+1),ROWS($B$2:B63))),\"\")","v":""},{"$f":"IFERROR(INDEX(العاملين!$B$2:'العاملين'!$B$999,SMALL(IF(العاملين!$G$2:'العاملين'!$G$999=\"Sun\",ROW(العاملين!$B$2:'العاملين'!$B$999)-ROW(العاملين!$B$2)+1),ROWS($C$2:C63))),\"\")","v":""},null,{"$f":"IFERROR(INDEX(العاملين!$B$2:'العاملين'!$B$999,SMALL(IF(العاملين!$G$2:'العاملين'!$G$999=\"Mon\",ROW(العاملين!$B$2:'العاملين'!$B$999)-ROW(العاملين!$B$2)+1),ROWS($E$2:E63))),\"\")","v":""},null,{"$f":"IFERROR(INDEX(العاملين!$B$2:'العاملين'!$B$999,SMALL(IF(العاملين!$G$2:'العاملين'!$G$999=\"Tue\",ROW(العاملين!$B$2:'العاملين'!$B$999)-ROW(العاملين!$B$2)+1),ROWS($G$2:G63))),\"\")","v":""},null,{"$f":"IFERROR(INDEX(العاملين!$B$2:'العاملين'!$B$999,SMALL(IF(العاملين!$G$2:'العاملين'!$G$999=\"Wed\",ROW(العاملين!$B$2:'العاملين'!$B$999)-ROW(العاملين!$B$2)+1),ROWS($I$2:I63))),\"\")","v":""},null,{"$f":"IFERROR(INDEX(العاملين!$B$2:'العاملين'!$B$999,SMALL(IF(العاملين!$G$2:'العاملين'!$G$999=\"Thu\",ROW(العاملين!$B$2:'العاملين'!$B$999)-ROW(العاملين!$B$2)+1),ROWS($K$2:K63))),\"\")","v":""},null,{"$f":"IFERROR(INDEX(العاملين!$B$2:'العاملين'!$B$999,SMALL(IF(العاملين!$G$2:'العاملين'!$G$999=\"Fri\",ROW(العاملين!$B$2:'العاملين'!$B$999)-ROW(العاملين!$B$2)+1),ROWS($M$2:M63))),\"\")","v":""}]
[null,{"$f":"IFERROR(INDEX(العاملين!$B$2:'العاملين'!$B$999,SMALL(IF(العاملين!$G$2:'العاملين'!$G$999=\"Sat\",ROW(العاملين!$B$2:'العاملين'!$B$999)-ROW(العاملين!$B$2)+1),ROWS($B$2:B64))),\"\")","v":""},{"$f":"IFERROR(INDEX(العاملين!$B$2:'العاملين'!$B$999,SMALL(IF(العاملين!$G$2:'العاملين'!$G$999=\"Sun\",ROW(العاملين!$B$2:'العاملين'!$B$999)-ROW(العاملين!$B$2)+1),ROWS($C$2:C64))),\"\")","v":""},null,{"$f":"IFERROR(INDEX(العاملين!$B$2:'العاملين'!$B$999,SMALL(IF(العاملين!$G$2:'العاملين'!$G$999=\"Mon\",ROW(العاملين!$B$2:'العاملين'!$B$999)-ROW(العاملين!$B$2)+1),ROWS($E$2:E64))),\"\")","v":""},null,{"$f":"IFERROR(INDEX(العاملين!$B$2:'العاملين'!$B$999,SMALL(IF(العاملين!$G$2:'العاملين'!$G$999=\"Tue\",ROW(العاملين!$B$2:'العاملين'!$B$999)-ROW(العاملين!$B$2)+1),ROWS($G$2:G64))),\"\")","v":""},null,{"$f":"IFERROR(INDEX(العاملين!$B$2:'العاملين'!$B$999,SMALL(IF(العاملين!$G$2:'العاملين'!$G$999=\"Wed\",ROW(العاملين!$B$2:'العاملين'!$B$999)-ROW(العاملين!$B$2)+1),ROWS($I$2:I64))),\"\")","v":""},null,{"$f":"IFERROR(INDEX(العاملين!$B$2:'العاملين'!$B$999,SMALL(IF(العاملين!$G$2:'العاملين'!$G$999=\"Thu\",ROW(العاملين!$B$2:'العاملين'!$B$999)-ROW(العاملين!$B$2)+1),ROWS($K$2:K64))),\"\")","v":""},null,{"$f":"IFERROR(INDEX(العاملين!$B$2:'العاملين'!$B$999,SMALL(IF(العاملين!$G$2:'العاملين'!$G$999=\"Fri\",ROW(العاملين!$B$2:'العاملين'!$B$999)-ROW(العاملين!$B$2)+1),ROWS($M$2:M64))),\"\")","v":""}]
[null,{"$f":"IFERROR(INDEX(العاملين!$B$2:'العاملين'!$B$999,SMALL(IF(العاملين!$G$2:'العاملين'!$G$999=\"Sat\",ROW(العاملين!$B$2:'العاملين'!$B$999)-ROW(العاملين!$B$2)+1),ROWS($B$2:B65))),\"\")","v":""},{"$f":"IFERROR(INDEX(العاملين!$B$2:'العاملين'!$B$999,SMALL(IF(العاملين!$G$2:'العاملين'!$G$999=\"Sun\",ROW(العاملين!$B$2:'العاملين'!$B$999)-ROW(العاملين!$B$2)+1),ROWS($C$2:C65))),\"\")","v":""},null,{"$f":"IFERROR(INDEX(العاملين!$B$2:'العاملين'!$B$999,SMALL(IF(العاملين!$G$2:'العاملين'!$G$999=\"Mon\",ROW(العاملين!$B$2:'العاملين'!$B$999)-ROW(العاملين!$B$2)+1),ROWS($E$2:E65))),\"\")","v":""},null,{"$f":"IFERROR(INDEX(العاملين!$B$2:'العاملين'!$B$999,SMALL(IF(العاملين!$G$2:'العاملين'!$G$999=\"Tue\",ROW(العاملين!$B$2:'العاملين'!$B$999)-ROW(العاملين!$B$2)+1),ROWS($G$2:G65))),\"\")","v":""},null,{"$f":"IFERROR(INDEX(العاملين!$B$2:'العاملين'!$B$999,SMALL(IF(العاملين!$G$2:'العاملين'!$G$999=\"Wed\",ROW(العاملين!$B$2:'العاملين'!$B$999)-ROW(العاملين!$B$2)+1),ROWS($I$2:I65))),\"\")","v":""},null,{"$f":"IFERROR(INDEX(العاملين!$B$2:'العاملين'!$B$999,SMALL(IF(العاملين!$G$2:'العاملين'!$G$999=\"Thu\",ROW(العاملين!$B$2:'العاملين'!$B$999)-ROW(العاملين!$B$2)+1),ROWS($K$2:K65))),\"\")","v":""},null,{"$f":"IFERROR(INDEX(العاملين!$B$2:'العاملين'!$B$999,SMALL(IF(العاملين!$G$2:'العاملين'!$G$999=\"Fri\",ROW(العاملين!$B$2:'العاملين'!$B$999)-ROW(العاملين!$B$2)+1),ROWS($M$2:M65))),\"\")","v":""}]
[null,{"$f":"IFERROR(INDEX(العاملين!$B$2:'العاملين'!$B$999,SMALL(IF(العاملين!$G$2:'العاملين'!$G$999=\"Sat\",ROW(العاملين!$B$2:'العاملين'!$B$999)-ROW(العاملين!$B$2)+1),ROWS($B$2:B66))),\"\")","v":""},{"$f":"IFERROR(INDEX(العاملين!$B$2:'العاملين'!$B$999,SMALL(IF(العاملين!$G$2:'العاملين'!$G$999=\"Sun\",ROW(العاملين!$B$2:'العاملين'!$B$999)-ROW(العاملين!$B$2)+1),ROWS($C$2:C66))),\"\")","v":""},null,{"$f":"IFERROR(INDEX(العاملين!$B$2:'العاملين'!$B$999,SMALL(IF(العاملين!$G$2:'العاملين'!$G$999=\"Mon\",ROW(العاملين!$B$2:'العاملين'!$B$999)-ROW(العاملين!$B$2)+1),ROWS($E$2:E66))),\"\")","v":""},null,{"$f":"IFERROR(INDEX(العاملين!$B$2:'العاملين'!$B$999,SMALL(IF(العاملين!$G$2:'العاملين'!$G$999=\"Tue\",ROW(العاملين!$B$2:'العاملين'!$B$999)-ROW(العاملين!$B$2)+1),ROWS($G$2:G66))),\"\")","v":""},null,{"$f":"IFERROR(INDEX(العاملين!$B$2:'العاملين'!$B$999,SMALL(IF(العاملين!$G$2:'العاملين'!$G$999=\"Wed\",ROW(العاملين!$B$2:'العاملين'!$B$999)-ROW(العاملين!$B$2)+1),ROWS($I$2:I66))),\"\")","v":""},null,{"$f":"IFERROR(INDEX(العاملين!$B$2:'العاملين'!$B$999,SMALL(IF(العاملين!$G$2:'العاملين'!$G$999=\"Thu\",ROW(العاملين!$B$2:'العاملين'!$B$999)-ROW(العاملين!$B$2)+1),ROWS($K$2:K66))),\"\")","v":""},null,{"$f":"IFERROR(INDEX(العاملين!$B$2:'العاملين'!$B$999,SMALL(IF(العاملين!$G$2:'العاملين'!$G$999=\"Fri\",ROW(العاملين!$B$2:'العاملين'!$B$999)-ROW(العاملين!$B$2)+1),ROWS($M$2:M66))),\"\")","v":""}]
[null,{"$f":"IFERROR(INDEX(العاملين!$B$2:'العاملين'!$B$999,SMALL(IF(العاملين!$G$2:'العاملين'!$G$999=\"Sat\",ROW(العاملين!$B$2:'العاملين'!$B$999)-ROW(العاملين!$B$2)+1),ROWS($B$2:B67))),\"\")","v":""},{"$f":"IFERROR(INDEX(العاملين!$B$2:'العاملين'!$B$999,SMALL(IF(العاملين!$G$2:'العاملين'!$G$999=\"Sun\",ROW(العاملين!$B$2:'العاملين'!$B$999)-ROW(العاملين!$B$2)+1),ROWS($C$2:C67))),\"\")","v":""},null,{"$f":"IFERROR(INDEX(العاملين!$B$2:'العاملين'!$B$999,SMALL(IF(العاملين!$G$2:'العاملين'!$G$999=\"Mon\",ROW(العاملين!$B$2:'العاملين'!$B$999)-ROW(العاملين!$B$2)+1),ROWS($E$2:E67))),\"\")","v":""},null,{"$f":"IFERROR(INDEX(العاملين!$B$2:'العاملين'!$B$999,SMALL(IF(العاملين!$G$2:'العاملين'!$G$999=\"Tue\",ROW(العاملين!$B$2:'العاملين'!$B$999)-ROW(العاملين!$B$2)+1),ROWS($G$2:G67))),\"\")","v":""},null,{"$f":"IFERROR(INDEX(العاملين!$B$2:'العاملين'!$B$999,SMALL(IF(العاملين!$G$2:'العاملين'!$G$999=\"Wed\",ROW(العاملين!$B$2:'العاملين'!$B$999)-ROW(العاملين!$B$2)+1),ROWS($I$2:I67))),\"\")","v":""},null,{"$f":"IFERROR(INDEX(العاملين!$B$2:'العاملين'!$B$999,SMALL(IF(العاملين!$G$2:'العاملين'!$G$999=\"Thu\",ROW(العاملين!$B$2:'العاملين'!$B$999)-ROW(العاملين!$B$2)+1),ROWS($K$2:K67))),\"\")","v":""},null,{"$f":"IFERROR(INDEX(العاملين!$B$2:'العاملين'!$B$999,SMALL(IF(العاملين!$G$2:'العاملين'!$G$999=\"Fri\",ROW(العاملين!$B$2:'العاملين'!$B$999)-ROW(العاملين!$B$2)+1),ROWS($M$2:M67))),\"\")","v":""}]
[null,{"$f":"IFERROR(INDEX(العاملين!$B$2:'العاملين'!$B$999,SMALL(IF(العاملين!$G$2:'العاملين'!$G$999=\"Sat\",ROW(العاملين!$B$2:'العاملين'!$B$999)-ROW(العاملين!$B$2)+1),ROWS($B$2:B68))),\"\")","v":""},{"$f":"IFERROR(INDEX(العاملين!$B$2:'العاملين'!$B$999,SMALL(IF(العاملين!$G$2:'العاملين'!$G$999=\"Sun\",ROW(العاملين!$B$2:'العاملين'!$B$999)-ROW(العاملين!$B$2)+1),ROWS($C$2:C68))),\"\")","v":""},null,{"$f":"IFERROR(INDEX(العاملين!$B$2:'العاملين'!$B$999,SMALL(IF(العاملين!$G$2:'العاملين'!$G$999=\"Mon\",ROW(العاملين!$B$2:'العاملين'!$B$999)-ROW(العاملين!$B$2)+1),ROWS($E$2:E68))),\"\")","v":""},null,{"$f":"IFERROR(INDEX(العاملين!$B$2:'العاملين'!$B$999,SMALL(IF(العاملين!$G$2:'العاملين'!$G$999=\"Tue\",ROW(العاملين!$B$2:'العاملين'!$B$999)-ROW(العاملين!$B$2)+1),ROWS($G$2:G68))),\"\")","v":""},null,{"$f":"IFERROR(INDEX(العاملين!$B$2:'العاملين'!$B$999,SMALL(IF(العاملين!$G$2:'العاملين'!$G$999=\"Wed\",ROW(العاملين!$B$2:'العاملين'!$B$999)-ROW(العاملين!$B$2)+1),ROWS($I$2:I68))),\"\")","v":""},null,{"$f":"IFERROR(INDEX(العاملين!$B$2:'العاملين'!$B$999,SMALL(IF(العاملين!$G$2:'العاملين'!$G$999=\"Thu\",ROW(العاملين!$B$2:'العاملين'!$B$999)-ROW(العاملين!$B$2)+1),ROWS($K$2:K68))),\"\")","v":""},null,{"$f":"IFERROR(INDEX(العاملين!$B$2:'العاملين'!$B$999,SMALL(IF(العاملين!$G$2:'العاملين'!$G$999=\"Fri\",ROW(العاملين!$B$2:'العاملين'!$B$999)-ROW(العاملين!$B$2)+1),ROWS($M$2:M68))),\"\")","v":""}]
[null,{"$f":"IFERROR(INDEX(العاملين!$B$2:'العاملين'!$B$999,SMALL(IF(العاملين!$G$2:'العاملين'!$G$999=\"Sat\",ROW(العاملين!$B$2:'العاملين'!$B$999)-ROW(العاملين!$B$2)+1),ROWS($B$2:B69))),\"\")","v":""},{"$f":"IFERROR(INDEX(العاملين!$B$2:'العاملين'!$B$999,SMALL(IF(العاملين!$G$2:'العاملين'!$G$999=\"Sun\",ROW(العاملين!$B$2:'العاملين'!$B$999)-ROW(العاملين!$B$2)+1),ROWS($C$2:C69))),\"\")","v":""},null,{"$f":"IFERROR(INDEX(العاملين!$B$2:'العاملين'!$B$999,SMALL(IF(العاملين!$G$2:'العاملين'!$G$999=\"Mon\",ROW(العاملين!$B$2:'العاملين'!$B$999)-ROW(العاملين!$B$2)+1),ROWS($E$2:E69))),\"\")","v":""},null,{"$f":"IFERROR(INDEX(العاملين!$B$2:'العاملين'!$B$999,SMALL(IF(العاملين!$G$2:'العاملين'!$G$999=\"Tue\",ROW(العاملين!$B$2:'العاملين'!$B$999)-ROW(العاملين!$B$2)+1),ROWS($G$2:G69))),\"\")","v":""},null,{"$f":"IFERROR(INDEX(العاملين!$B$2:'العاملين'!$B$999,SMALL(IF(العاملين!$G$2:'العاملين'!$G$999=\"Wed\",ROW(العاملين!$B$2:'العاملين'!$B$999)-ROW(العاملين!$B$2)+1),ROWS($I$2:I69))),\"\")","v":""},null,{"$f":"IFERROR(INDEX(العاملين!$B$2:'العاملين'!$B$999,SMALL(IF(العاملين!$G$2:'العاملين'!$G$999=\"Thu\",ROW(العاملين!$B$2:'العاملين'!$B$999)-ROW(العاملين!$B$2)+1),ROWS($K$2:K69))),\"\")","v":""},null,{"$f":"IFERROR(INDEX(العاملين!$B$2:'العاملين'!$B$999,SMALL(IF(العاملين!$G$2:'العاملين'!$G$999=\"Fri\",ROW(العاملين!$B$2:'العاملين'!$B$999)-ROW(العاملين!$B$2)+1),ROWS($M$2:M69))),\"\")","v":""}]
[null,{"$f":"IFERROR(INDEX(العاملين!$B$2:'العاملين'!$B$999,SMALL(IF(العاملين!$G$2:'العاملين'!$G$999=\"Sat\",ROW(العاملين!$B$2:'العاملين'!$B$999)-ROW(العاملين!$B$2)+1),ROWS($B$2:B70))),\"\")","v":""},{"$f":"IFERROR(INDEX(العاملين!$B$2:'العاملين'!$B$999,SMALL(IF(العاملين!$G$2:'العاملين'!$G$999=\"Sun\",ROW(العاملين!$B$2:'العاملين'!$B$999)-ROW(العاملين!$B$2)+1),ROWS($C$2:C70))),\"\")","v":""},null,{"$f":"IFERROR(INDEX(العاملين!$B$2:'العاملين'!$B$999,SMALL(IF(العاملين!$G$2:'العاملين'!$G$999=\"Mon\",ROW(العاملين!$B$2:'العاملين'!$B$999)-ROW(العاملين!$B$2)+1),ROWS($E$2:E70))),\"\")","v":""},null,{"$f":"IFERROR(INDEX(العاملين!$B$2:'العاملين'!$B$999,SMALL(IF(العاملين!$G$2:'العاملين'!$G$999=\"Tue\",ROW(العاملين!$B$2:'العاملين'!$B$999)-ROW(العاملين!$B$2)+1),ROWS($G$2:G70))),\"\")","v":""},null,{"$f":"IFERROR(INDEX(العاملين!$B$2:'العاملين'!$B$999,SMALL(IF(العاملين!$G$2:'العاملين'!$G$999=\"Wed\",ROW(العاملين!$B$2:'العاملين'!$B$999)-ROW(العاملين!$B$2)+1),ROWS($I$2:I70))),\"\")","v":""},null,{"$f":"IFERROR(INDEX(العاملين!$B$2:'العاملين'!$B$999,SMALL(IF(العاملين!$G$2:'العاملين'!$G$999=\"Thu\",ROW(العاملين!$B$2:'العاملين'!$B$999)-ROW(العاملين!$B$2)+1),ROWS($K$2:K70))),\"\")","v":""},null,{"$f":"IFERROR(INDEX(العاملين!$B$2:'العاملين'!$B$999,SMALL(IF(العاملين!$G$2:'العاملين'!$G$999=\"Fri\",ROW(العاملين!$B$2:'العاملين'!$B$999)-ROW(العاملين!$B$2)+1),ROWS($M$2:M70))),\"\")","v":""}]
[null,{"$f":"IFERROR(INDEX(العاملين!$B$2:'العاملين'!$B$999,SMALL(IF(العاملين!$G$2:'العاملين'!$G$999=\"Sat\",ROW(العاملين!$B$2:'العاملين'!$B$999)-ROW(العاملين!$B$2)+1),ROWS($B$2:B71))),\"\")","v":""},{"$f":"IFERROR(INDEX(العاملين!$B$2:'العاملين'!$B$999,SMALL(IF(العاملين!$G$2:'العاملين'!$G$999=\"Sun\",ROW(العاملين!$B$2:'العاملين'!$B$999)-ROW(العاملين!$B$2)+1),ROWS($C$2:C71))),\"\")","v":""},null,{"$f":"IFERROR(INDEX(العاملين!$B$2:'العاملين'!$B$999,SMALL(IF(العاملين!$G$2:'العاملين'!$G$999=\"Mon\",ROW(العاملين!$B$2:'العاملين'!$B$999)-ROW(العاملين!$B$2)+1),ROWS($E$2:E71))),\"\")","v":""},null,{"$f":"IFERROR(INDEX(العاملين!$B$2:'العاملين'!$B$999,SMALL(IF(العاملين!$G$2:'العاملين'!$G$999=\"Tue\",ROW(العاملين!$B$2:'العاملين'!$B$999)-ROW(العاملين!$B$2)+1),ROWS($G$2:G71))),\"\")","v":""},null,{"$f":"IFERROR(INDEX(العاملين!$B$2:'العاملين'!$B$999,SMALL(IF(العاملين!$G$2:'العاملين'!$G$999=\"Wed\",ROW(العاملين!$B$2:'العاملين'!$B$999)-ROW(العاملين!$B$2)+1),ROWS($I$2:I71))),\"\")","v":""},null,{"$f":"IFERROR(INDEX(العاملين!$B$2:'العاملين'!$B$999,SMALL(IF(العاملين!$G$2:'العاملين'!$G$999=\"Thu\",ROW(العاملين!$B$2:'العاملين'!$B$999)-ROW(العاملين!$B$2)+1),ROWS($K$2:K71))),\"\")","v":""},null,{"$f":"IFERROR(INDEX(العاملين!$B$2:'العاملين'!$B$999,SMALL(IF(العاملين!$G$2:'العاملين'!$G$999=\"Fri\",ROW(العاملين!$B$2:'العاملين'!$B$999)-ROW(العاملين!$B$2)+1),ROWS($M$2:M71))),\"\")","v":""}]
[null,{"$f":"IFERROR(INDEX(العاملين!$B$2:'العاملين'!$B$999,SMALL(IF(العاملين!$G$2:'العاملين'!$G$999=\"Sat\",ROW(العاملين!$B$2:'العاملين'!$B$999)-ROW(العاملين!$B$2)+1),ROWS($B$2:B72))),\"\")","v":""},{"$f":"IFERROR(INDEX(العاملين!$B$2:'العاملين'!$B$999,SMALL(IF(العاملين!$G$2:'العاملين'!$G$999=\"Sun\",ROW(العاملين!$B$2:'العاملين'!$B$999)-ROW(العاملين!$B$2)+1),ROWS($C$2:C72))),\"\")","v":""},null,{"$f":"IFERROR(INDEX(العاملين!$B$2:'العاملين'!$B$999,SMALL(IF(العاملين!$G$2:'العاملين'!$G$999=\"Mon\",ROW(العاملين!$B$2:'العاملين'!$B$999)-ROW(العاملين!$B$2)+1),ROWS($E$2:E72))),\"\")","v":""},null,{"$f":"IFERROR(INDEX(العاملين!$B$2:'العاملين'!$B$999,SMALL(IF(العاملين!$G$2:'العاملين'!$G$999=\"Tue\",ROW(العاملين!$B$2:'العاملين'!$B$999)-ROW(العاملين!$B$2)+1),ROWS($G$2:G72))),\"\")","v":""},null,{"$f":"IFERROR(INDEX(العاملين!$B$2:'العاملين'!$B$999,SMALL(IF(العاملين!$G$2:'العاملين'!$G$999=\"Wed\",ROW(العاملين!$B$2:'العاملين'!$B$999)-ROW(العاملين!$B$2)+1),ROWS($I$2:I72))),\"\")","v":""},null,{"$f":"IFERROR(INDEX(العاملين!$B$2:'العاملين'!$B$999,SMALL(IF(العاملين!$G$2:'العاملين'!$G$999=\"Thu\",ROW(العاملين!$B$2:'العاملين'!$B$999)-ROW(العاملين!$B$2)+1),ROWS($K$2:K72))),\"\")","v":""},null,{"$f":"IFERROR(INDEX(العاملين!$B$2:'العاملين'!$B$999,SMALL(IF(العاملين!$G$2:'العاملين'!$G$999=\"Fri\",ROW(العاملين!$B$2:'العاملين'!$B$999)-ROW(العاملين!$B$2)+1),ROWS($M$2:M72))),\"\")","v":""}]
[null,{"$f":"IFERROR(INDEX(العاملين!$B$2:'العاملين'!$B$999,SMALL(IF(العاملين!$G$2:'العاملين'!$G$999=\"Sat\",ROW(العاملين!$B$2:'العاملين'!$B$999)-ROW(العاملين!$B$2)+1),ROWS($B$2:B73))),\"\")","v":""},{"$f":"IFERROR(INDEX(العاملين!$B$2:'العاملين'!$B$999,SMALL(IF(العاملين!$G$2:'العاملين'!$G$999=\"Sun\",ROW(العاملين!$B$2:'العاملين'!$B$999)-ROW(العاملين!$B$2)+1),ROWS($C$2:C73))),\"\")","v":""},null,{"$f":"IFERROR(INDEX(العاملين!$B$2:'العاملين'!$B$999,SMALL(IF(العاملين!$G$2:'العاملين'!$G$999=\"Mon\",ROW(العاملين!$B$2:'العاملين'!$B$999)-ROW(العاملين!$B$2)+1),ROWS($E$2:E73))),\"\")","v":""},null,{"$f":"IFERROR(INDEX(العاملين!$B$2:'العاملين'!$B$999,SMALL(IF(العاملين!$G$2:'العاملين'!$G$999=\"Tue\",ROW(العاملين!$B$2:'العاملين'!$B$999)-ROW(العاملين!$B$2)+1),ROWS($G$2:G73))),\"\")","v":""},null,{"$f":"IFERROR(INDEX(العاملين!$B$2:'العاملين'!$B$999,SMALL(IF(العاملين!$G$2:'العاملين'!$G$999=\"Wed\",ROW(العاملين!$B$2:'العاملين'!$B$999)-ROW(العاملين!$B$2)+1),ROWS($I$2:I73))),\"\")","v":""},null,{"$f":"IFERROR(INDEX(العاملين!$B$2:'العاملين'!$B$999,SMALL(IF(العاملين!$G$2:'العاملين'!$G$999=\"Thu\",ROW(العاملين!$B$2:'العاملين'!$B$999)-ROW(العاملين!$B$2)+1),ROWS($K$2:K73))),\"\")","v":""},null,{"$f":"IFERROR(INDEX(العاملين!$B$2:'العاملين'!$B$999,SMALL(IF(العاملين!$G$2:'العاملين'!$G$999=\"Fri\",ROW(العاملين!$B$2:'العاملين'!$B$999)-ROW(العاملين!$B$2)+1),ROWS($M$2:M73))),\"\")","v":""}]
[null,{"$f":"IFERROR(INDEX(العاملين!$B$2:'العاملين'!$B$999,SMALL(IF(العاملين!$G$2:'العاملين'!$G$999=\"Sat\",ROW(العاملين!$B$2:'العاملين'!$B$999)-ROW(العاملين!$B$2)+1),ROWS($B$2:B74))),\"\")","v":""},{"$f":"IFERROR(INDEX(العاملين!$B$2:'العاملين'!$B$999,SMALL(IF(العاملين!$G$2:'العاملين'!$G$999=\"Sun\",ROW(العاملين!$B$2:'العاملين'!$B$999)-ROW(العاملين!$B$2)+1),ROWS($C$2:C74))),\"\")","v":""},null,{"$f":"IFERROR(INDEX(العاملين!$B$2:'العاملين'!$B$999,SMALL(IF(العاملين!$G$2:'العاملين'!$G$999=\"Mon\",ROW(العاملين!$B$2:'العاملين'!$B$999)-ROW(العاملين!$B$2)+1),ROWS($E$2:E74))),\"\")","v":""},null,{"$f":"IFERROR(INDEX(العاملين!$B$2:'العاملين'!$B$999,SMALL(IF(العاملين!$G$2:'العاملين'!$G$999=\"Tue\",ROW(العاملين!$B$2:'العاملين'!$B$999)-ROW(العاملين!$B$2)+1),ROWS($G$2:G74))),\"\")","v":""},null,{"$f":"IFERROR(INDEX(العاملين!$B$2:'العاملين'!$B$999,SMALL(IF(العاملين!$G$2:'العاملين'!$G$999=\"Wed\",ROW(العاملين!$B$2:'العاملين'!$B$999)-ROW(العاملين!$B$2)+1),ROWS($I$2:I74))),\"\")","v":""},null,{"$f":"IFERROR(INDEX(العاملين!$B$2:'العاملين'!$B$999,SMALL(IF(العاملين!$G$2:'العاملين'!$G$999=\"Thu\",ROW(العاملين!$B$2:'العاملين'!$B$999)-ROW(العاملين!$B$2)+1),ROWS($K$2:K74))),\"\")","v":""},null,{"$f":"IFERROR(INDEX(العاملين!$B$2:'العاملين'!$B$999,SMALL(IF(العاملين!$G$2:'العاملين'!$G$999=\"Fri\",ROW(العاملين!$B$2:'العاملين'!$B$999)-ROW(العاملين!$B$2)+1),ROWS($M$2:M74))),\"\")","v":""}]
[null,{"$f":"IFERROR(INDEX(العاملين!$B$2:'العاملين'!$B$999,SMALL(IF(العاملين!$G$2:'العاملين'!$G$999=\"Sat\",ROW(العاملين!$B$2:'العاملين'!$B$999)-ROW(العاملين!$B$2)+1),ROWS($B$2:B75))),\"\")","v":""},{"$f":"IFERROR(INDEX(العاملين!$B$2:'العاملين'!$B$999,SMALL(IF(العاملين!$G$2:'العاملين'!$G$999=\"Sun\",ROW(العاملين!$B$2:'العاملين'!$B$999)-ROW(العاملين!$B$2)+1),ROWS($C$2:C75))),\"\")","v":""},null,{"$f":"IFERROR(INDEX(العاملين!$B$2:'العاملين'!$B$999,SMALL(IF(العاملين!$G$2:'العاملين'!$G$999=\"Mon\",ROW(العاملين!$B$2:'العاملين'!$B$999)-ROW(العاملين!$B$2)+1),ROWS($E$2:E75))),\"\")","v":""},null,{"$f":"IFERROR(INDEX(العاملين!$B$2:'العاملين'!$B$999,SMALL(IF(العاملين!$G$2:'العاملين'!$G$999=\"Tue\",ROW(العاملين!$B$2:'العاملين'!$B$999)-ROW(العاملين!$B$2)+1),ROWS($G$2:G75))),\"\")","v":""},null,{"$f":"IFERROR(INDEX(العاملين!$B$2:'العاملين'!$B$999,SMALL(IF(العاملين!$G$2:'العاملين'!$G$999=\"Wed\",ROW(العاملين!$B$2:'العاملين'!$B$999)-ROW(العاملين!$B$2)+1),ROWS($I$2:I75))),\"\")","v":""},null,{"$f":"IFERROR(INDEX(العاملين!$B$2:'العاملين'!$B$999,SMALL(IF(العاملين!$G$2:'العاملين'!$G$999=\"Thu\",ROW(العاملين!$B$2:'العاملين'!$B$999)-ROW(العاملين!$B$2)+1),ROWS($K$2:K75))),\"\")","v":""},null,{"$f":"IFERROR(INDEX(العاملين!$B$2:'العاملين'!$B$999,SMALL(IF(العاملين!$G$2:'العاملين'!$G$999=\"Fri\",ROW(العاملين!$B$2:'العاملين'!$B$999)-ROW(العاملين!$B$2)+1),ROWS($M$2:M75))),\"\")","v":""}]
[null,{"$f":"IFERROR(INDEX(العاملين!$B$2:'العاملين'!$B$999,SMALL(IF(العاملين!$G$2:'العاملين'!$G$999=\"Sat\",ROW(العاملين!$B$2:'العاملين'!$B$999)-ROW(العاملين!$B$2)+1),ROWS($B$2:B76))),\"\")","v":""},{"$f":"IFERROR(INDEX(العاملين!$B$2:'العاملين'!$B$999,SMALL(IF(العاملين!$G$2:'العاملين'!$G$999=\"Sun\",ROW(العاملين!$B$2:'العاملين'!$B$999)-ROW(العاملين!$B$2)+1),ROWS($C$2:C76))),\"\")","v":""},null,{"$f":"IFERROR(INDEX(العاملين!$B$2:'العاملين'!$B$999,SMALL(IF(العاملين!$G$2:'العاملين'!$G$999=\"Mon\",ROW(العاملين!$B$2:'العاملين'!$B$999)-ROW(العاملين!$B$2)+1),ROWS($E$2:E76))),\"\")","v":""},null,{"$f":"IFERROR(INDEX(العاملين!$B$2:'العاملين'!$B$999,SMALL(IF(العاملين!$G$2:'العاملين'!$G$999=\"Tue\",ROW(العاملين!$B$2:'العاملين'!$B$999)-ROW(العاملين!$B$2)+1),ROWS($G$2:G76))),\"\")","v":""},null,{"$f":"IFERROR(INDEX(العاملين!$B$2:'العاملين'!$B$999,SMALL(IF(العاملين!$G$2:'العاملين'!$G$999=\"Wed\",ROW(العاملين!$B$2:'العاملين'!$B$999)-ROW(العاملين!$B$2)+1),ROWS($I$2:I76))),\"\")","v":""},null,{"$f":"IFERROR(INDEX(العاملين!$B$2:'العاملين'!$B$999,SMALL(IF(العاملين!$G$2:'العاملين'!$G$999=\"Thu\",ROW(العاملين!$B$2:'العاملين'!$B$999)-ROW(العاملين!$B$2)+1),ROWS($K$2:K76))),\"\")","v":""},null,{"$f":"IFERROR(INDEX(العاملين!$B$2:'العاملين'!$B$999,SMALL(IF(العاملين!$G$2:'العاملين'!$G$999=\"Fri\",ROW(العاملين!$B$2:'العاملين'!$B$999)-ROW(العاملين!$B$2)+1),ROWS($M$2:M76))),\"\")","v":""}]
[null,{"$f":"IFERROR(INDEX(العاملين!$B$2:'العاملين'!$B$999,SMALL(IF(العاملين!$G$2:'العاملين'!$G$999=\"Sat\",ROW(العاملين!$B$2:'العاملين'!$B$999)-ROW(العاملين!$B$2)+1),ROWS($B$2:B77))),\"\")","v":""},{"$f":"IFERROR(INDEX(العاملين!$B$2:'العاملين'!$B$999,SMALL(IF(العاملين!$G$2:'العاملين'!$G$999=\"Sun\",ROW(العاملين!$B$2:'العاملين'!$B$999)-ROW(العاملين!$B$2)+1),ROWS($C$2:C77))),\"\")","v":""},null,{"$f":"IFERROR(INDEX(العاملين!$B$2:'العاملين'!$B$999,SMALL(IF(العاملين!$G$2:'العاملين'!$G$999=\"Mon\",ROW(العاملين!$B$2:'العاملين'!$B$999)-ROW(العاملين!$B$2)+1),ROWS($E$2:E77))),\"\")","v":""},null,{"$f":"IFERROR(INDEX(العاملين!$B$2:'العاملين'!$B$999,SMALL(IF(العاملين!$G$2:'العاملين'!$G$999=\"Tue\",ROW(العاملين!$B$2:'العاملين'!$B$999)-ROW(العاملين!$B$2)+1),ROWS($G$2:G77))),\"\")","v":""},null,{"$f":"IFERROR(INDEX(العاملين!$B$2:'العاملين'!$B$999,SMALL(IF(العاملين!$G$2:'العاملين'!$G$999=\"Wed\",ROW(العاملين!$B$2:'العاملين'!$B$999)-ROW(العاملين!$B$2)+1),ROWS($I$2:I77))),\"\")","v":""},null,{"$f":"IFERROR(INDEX(العاملين!$B$2:'العاملين'!$B$999,SMALL(IF(العاملين!$G$2:'العاملين'!$G$999=\"Thu\",ROW(العاملين!$B$2:'العاملين'!$B$999)-ROW(العاملين!$B$2)+1),ROWS($K$2:K77))),\"\")","v":""},null,{"$f":"IFERROR(INDEX(العاملين!$B$2:'العاملين'!$B$999,SMALL(IF(العاملين!$G$2:'العاملين'!$G$999=\"Fri\",ROW(العاملين!$B$2:'العاملين'!$B$999)-ROW(العاملين!$B$2)+1),ROWS($M$2:M77))),\"\")","v":""}]
[null,{"$f":"IFERROR(INDEX(العاملين!$B$2:'العاملين'!$B$999,SMALL(IF(العاملين!$G$2:'العاملين'!$G$999=\"Sat\",ROW(العاملين!$B$2:'العاملين'!$B$999)-ROW(العاملين!$B$2)+1),ROWS($B$2:B78))),\"\")","v":""},{"$f":"IFERROR(INDEX(العاملين!$B$2:'العاملين'!$B$999,SMALL(IF(العاملين!$G$2:'العاملين'!$G$999=\"Sun\",ROW(العاملين!$B$2:'العاملين'!$B$999)-ROW(العاملين!$B$2)+1),ROWS($C$2:C78))),\"\")","v":""},null,{"$f":"IFERROR(INDEX(العاملين!$B$2:'العاملين'!$B$999,SMALL(IF(العاملين!$G$2:'العاملين'!$G$999=\"Mon\",ROW(العاملين!$B$2:'العاملين'!$B$999)-ROW(العاملين!$B$2)+1),ROWS($E$2:E78))),\"\")","v":""},null,{"$f":"IFERROR(INDEX(العاملين!$B$2:'العاملين'!$B$999,SMALL(IF(العاملين!$G$2:'العاملين'!$G$999=\"Tue\",ROW(العاملين!$B$2:'العاملين'!$B$999)-ROW(العاملين!$B$2)+1),ROWS($G$2:G78))),\"\")","v":""},null,{"$f":"IFERROR(INDEX(العاملين!$B$2:'العاملين'!$B$999,SMALL(IF(العاملين!$G$2:'العاملين'!$G$999=\"Wed\",ROW(العاملين!$B$2:'العاملين'!$B$999)-ROW(العاملين!$B$2)+1),ROWS($I$2:I78))),\"\")","v":""},null,{"$f":"IFERROR(INDEX(العاملين!$B$2:'العاملين'!$B$999,SMALL(IF(العاملين!$G$2:'العاملين'!$G$999=\"Thu\",ROW(العاملين!$B$2:'العاملين'!$B$999)-ROW(العاملين!$B$2)+1),ROWS($K$2:K78))),\"\")","v":""},null,{"$f":"IFERROR(INDEX(العاملين!$B$2:'العاملين'!$B$999,SMALL(IF(العاملين!$G$2:'العاملين'!$G$999=\"Fri\",ROW(العاملين!$B$2:'العاملين'!$B$999)-ROW(العاملين!$B$2)+1),ROWS($M$2:M78))),\"\")","v":""}]
[null,{"$f":"IFERROR(INDEX(العاملين!$B$2:'العاملين'!$B$999,SMALL(IF(العاملين!$G$2:'العاملين'!$G$999=\"Sat\",ROW(العاملين!$B$2:'العاملين'!$B$999)-ROW(العاملين!$B$2)+1),ROWS($B$2:B79))),\"\")","v":""},{"$f":"IFERROR(INDEX(العاملين!$B$2:'العاملين'!$B$999,SMALL(IF(العاملين!$G$2:'العاملين'!$G$999=\"Sun\",ROW(العاملين!$B$2:'العاملين'!$B$999)-ROW(العاملين!$B$2)+1),ROWS($C$2:C79))),\"\")","v":""},null,{"$f":"IFERROR(INDEX(العاملين!$B$2:'العاملين'!$B$999,SMALL(IF(العاملين!$G$2:'العاملين'!$G$999=\"Mon\",ROW(العاملين!$B$2:'العاملين'!$B$999)-ROW(العاملين!$B$2)+1),ROWS($E$2:E79))),\"\")","v":""},null,{"$f":"IFERROR(INDEX(العاملين!$B$2:'العاملين'!$B$999,SMALL(IF(العاملين!$G$2:'العاملين'!$G$999=\"Tue\",ROW(العاملين!$B$2:'العاملين'!$B$999)-ROW(العاملين!$B$2)+1),ROWS($G$2:G79))),\"\")","v":""},null,{"$f":"IFERROR(INDEX(العاملين!$B$2:'العاملين'!$B$999,SMALL(IF(العاملين!$G$2:'العاملين'!$G$999=\"Wed\",ROW(العاملين!$B$2:'العاملين'!$B$999)-ROW(العاملين!$B$2)+1),ROWS($I$2:I79))),\"\")","v":""},null,{"$f":"IFERROR(INDEX(العاملين!$B$2:'العاملين'!$B$999,SMALL(IF(العاملين!$G$2:'العاملين'!$G$999=\"Thu\",ROW(العاملين!$B$2:'العاملين'!$B$999)-ROW(العاملين!$B$2)+1),ROWS($K$2:K79))),\"\")","v":""},null,{"$f":"IFERROR(INDEX(العاملين!$B$2:'العاملين'!$B$999,SMALL(IF(العاملين!$G$2:'العاملين'!$G$999=\"Fri\",ROW(العاملين!$B$2:'العاملين'!$B$999)-ROW(العاملين!$B$2)+1),ROWS($M$2:M79))),\"\")","v":""}]
[null,{"$f":"IFERROR(INDEX(العاملين!$B$2:'العاملين'!$B$999,SMALL(IF(العاملين!$G$2:'العاملين'!$G$999=\"Sat\",ROW(العاملين!$B$2:'العاملين'!$B$999)-ROW(العاملين!$B$2)+1),ROWS($B$2:B80))),\"\")","v":""},{"$f":"IFERROR(INDEX(العاملين!$B$2:'العاملين'!$B$999,SMALL(IF(العاملين!$G$2:'العاملين'!$G$999=\"Sun\",ROW(العاملين!$B$2:'العاملين'!$B$999)-ROW(العاملين!$B$2)+1),ROWS($C$2:C80))),\"\")","v":""},null,{"$f":"IFERROR(INDEX(العاملين!$B$2:'العاملين'!$B$999,SMALL(IF(العاملين!$G$2:'العاملين'!$G$999=\"Mon\",ROW(العاملين!$B$2:'العاملين'!$B$999)-ROW(العاملين!$B$2)+1),ROWS($E$2:E80))),\"\")","v":""},null,{"$f":"IFERROR(INDEX(العاملين!$B$2:'العاملين'!$B$999,SMALL(IF(العاملين!$G$2:'العاملين'!$G$999=\"Tue\",ROW(العاملين!$B$2:'العاملين'!$B$999)-ROW(العاملين!$B$2)+1),ROWS($G$2:G80))),\"\")","v":""},null,{"$f":"IFERROR(INDEX(العاملين!$B$2:'العاملين'!$B$999,SMALL(IF(العاملين!$G$2:'العاملين'!$G$999=\"Wed\",ROW(العاملين!$B$2:'العاملين'!$B$999)-ROW(العاملين!$B$2)+1),ROWS($I$2:I80))),\"\")","v":""},null,{"$f":"IFERROR(INDEX(العاملين!$B$2:'العاملين'!$B$999,SMALL(IF(العاملين!$G$2:'العاملين'!$G$999=\"Thu\",ROW(العاملين!$B$2:'العاملين'!$B$999)-ROW(العاملين!$B$2)+1),ROWS($K$2:K80))),\"\")","v":""},null,{"$f":"IFERROR(INDEX(العاملين!$B$2:'العاملين'!$B$999,SMALL(IF(العاملين!$G$2:'العاملين'!$G$999=\"Fri\",ROW(العاملين!$B$2:'العاملين'!$B$999)-ROW(العاملين!$B$2)+1),ROWS($M$2:M80))),\"\")","v":""}]
[null,{"$f":"IFERROR(INDEX(العاملين!$B$2:'العاملين'!$B$999,SMALL(IF(العاملين!$G$2:'العاملين'!$G$999=\"Sat\",ROW(العاملين!$B$2:'العاملين'!$B$999)-ROW(العاملين!$B$2)+1),ROWS($B$2:B81))),\"\")","v":""},{"$f":"IFERROR(INDEX(العاملين!$B$2:'العاملين'!$B$999,SMALL(IF(العاملين!$G$2:'العاملين'!$G$999=\"Sun\",ROW(العاملين!$B$2:'العاملين'!$B$999)-ROW(العاملين!$B$2)+1),ROWS($C$2:C81))),\"\")","v":""},null,{"$f":"IFERROR(INDEX(العاملين!$B$2:'العاملين'!$B$999,SMALL(IF(العاملين!$G$2:'العاملين'!$G$999=\"Mon\",ROW(العاملين!$B$2:'العاملين'!$B$999)-ROW(العاملين!$B$2)+1),ROWS($E$2:E81))),\"\")","v":""},null,{"$f":"IFERROR(INDEX(العاملين!$B$2:'العاملين'!$B$999,SMALL(IF(العاملين!$G$2:'العاملين'!$G$999=\"Tue\",ROW(العاملين!$B$2:'العاملين'!$B$999)-ROW(العاملين!$B$2)+1),ROWS($G$2:G81))),\"\")","v":""},null,{"$f":"IFERROR(INDEX(العاملين!$B$2:'العاملين'!$B$999,SMALL(IF(العاملين!$G$2:'العاملين'!$G$999=\"Wed\",ROW(العاملين!$B$2:'العاملين'!$B$999)-ROW(العاملين!$B$2)+1),ROWS($I$2:I81))),\"\")","v":""},null,{"$f":"IFERROR(INDEX(العاملين!$B$2:'العاملين'!$B$999,SMALL(IF(العاملين!$G$2:'العاملين'!$G$999=\"Thu\",ROW(العاملين!$B$2:'العاملين'!$B$999)-ROW(العاملين!$B$2)+1),ROWS($K$2:K81))),\"\")","v":""},null,{"$f":"IFERROR(INDEX(العاملين!$B$2:'العاملين'!$B$999,SMALL(IF(العاملين!$G$2:'العاملين'!$G$999=\"Fri\",ROW(العاملين!$B$2:'العاملين'!$B$999)-ROW(العاملين!$B$2)+1),ROWS($M$2:M81))),\"\")","v":""}]
[null,{"$f":"IFERROR(INDEX(العاملين!$B$2:'العاملين'!$B$999,SMALL(IF(العاملين!$G$2:'العاملين'!$G$999=\"Sat\",ROW(العاملين!$B$2:'العاملين'!$B$999)-ROW(العاملين!$B$2)+1),ROWS($B$2:B82))),\"\")","v":""},{"$f":"IFERROR(INDEX(العاملين!$B$2:'العاملين'!$B$999,SMALL(IF(العاملين!$G$2:'العاملين'!$G$999=\"Sun\",ROW(العاملين!$B$2:'العاملين'!$B$999)-ROW(العاملين!$B$2)+1),ROWS($C$2:C82))),\"\")","v":""},null,{"$f":"IFERROR(INDEX(العاملين!$B$2:'العاملين'!$B$999,SMALL(IF(العاملين!$G$2:'العاملين'!$G$999=\"Mon\",ROW(العاملين!$B$2:'العاملين'!$B$999)-ROW(العاملين!$B$2)+1),ROWS($E$2:E82))),\"\")","v":""},null,{"$f":"IFERROR(INDEX(العاملين!$B$2:'العاملين'!$B$999,SMALL(IF(العاملين!$G$2:'العاملين'!$G$999=\"Tue\",ROW(العاملين!$B$2:'العاملين'!$B$999)-ROW(العاملين!$B$2)+1),ROWS($G$2:G82))),\"\")","v":""},null,{"$f":"IFERROR(INDEX(العاملين!$B$2:'العاملين'!$B$999,SMALL(IF(العاملين!$G$2:'العاملين'!$G$999=\"Wed\",ROW(العاملين!$B$2:'العاملين'!$B$999)-ROW(العاملين!$B$2)+1),ROWS($I$2:I82))),\"\")","v":""},null,{"$f":"IFERROR(INDEX(العاملين!$B$2:'العاملين'!$B$999,SMALL(IF(العاملين!$G$2:'العاملين'!$G$999=\"Thu\",ROW(العاملين!$B$2:'العاملين'!$B$999)-ROW(العاملين!$B$2)+1),ROWS($K$2:K82))),\"\")","v":""},null,{"$f":"IFERROR(INDEX(العاملين!$B$2:'العاملين'!$B$999,SMALL(IF(العاملين!$G$2:'العاملين'!$G$999=\"Fri\",ROW(العاملين!$B$2:'العاملين'!$B$999)-ROW(العاملين!$B$2)+1),ROWS($M$2:M82))),\"\")","v":""}]
[null,{"$f":"IFERROR(INDEX(العاملين!$B$2:'العاملين'!$B$999,SMALL(IF(العاملين!$G$2:'العاملين'!$G$999=\"Sat\",ROW(العاملين!$B$2:'العاملين'!$B$999)-ROW(العاملين!$B$2)+1),ROWS($B$2:B83))),\"\")","v":""},{"$f":"IFERROR(INDEX(العاملين!$B$2:'العاملين'!$B$999,SMALL(IF(العاملين!$G$2:'العاملين'!$G$999=\"Sun\",ROW(العاملين!$B$2:'العاملين'!$B$999)-ROW(العاملين!$B$2)+1),ROWS($C$2:C83))),\"\")","v":""},null,{"$f":"IFERROR(INDEX(العاملين!$B$2:'العاملين'!$B$999,SMALL(IF(العاملين!$G$2:'العاملين'!$G$999=\"Mon\",ROW(العاملين!$B$2:'العاملين'!$B$999)-ROW(العاملين!$B$2)+1),ROWS($E$2:E83))),\"\")","v":""},null,{"$f":"IFERROR(INDEX(العاملين!$B$2:'العاملين'!$B$999,SMALL(IF(العاملين!$G$2:'العاملين'!$G$999=\"Tue\",ROW(العاملين!$B$2:'العاملين'!$B$999)-ROW(العاملين!$B$2)+1),ROWS($G$2:G83))),\"\")","v":""},null,{"$f":"IFERROR(INDEX(العاملين!$B$2:'العاملين'!$B$999,SMALL(IF(العاملين!$G$2:'العاملين'!$G$999=\"Wed\",ROW(العاملين!$B$2:'العاملين'!$B$999)-ROW(العاملين!$B$2)+1),ROWS($I$2:I83))),\"\")","v":""},null,{"$f":"IFERROR(INDEX(العاملين!$B$2:'العاملين'!$B$999,SMALL(IF(العاملين!$G$2:'العاملين'!$G$999=\"Thu\",ROW(العاملين!$B$2:'العاملين'!$B$999)-ROW(العاملين!$B$2)+1),ROWS($K$2:K83))),\"\")","v":""},null,{"$f":"IFERROR(INDEX(العاملين!$B$2:'العاملين'!$B$999,SMALL(IF(العاملين!$G$2:'العاملين'!$G$999=\"Fri\",ROW(العاملين!$B$2:'العاملين'!$B$999)-ROW(العاملين!$B$2)+1),ROWS($M$2:M83))),\"\")","v":""}]
[null,null,{"$f":"IFERROR(INDEX(العاملين!$B$2:'العاملين'!$B$999,SMALL(IF(العاملين!$G$2:'العاملين'!$G$999=\"Sun\",ROW(العاملين!$B$2:'العاملين'!$B$999)-ROW(العاملين!$B$2)+1),ROWS($C$2:C84))),\"\")","v":""},null,{"$f":"IFERROR(INDEX(العاملين!$B$2:'العاملين'!$B$999,SMALL(IF(العاملين!$G$2:'العاملين'!$G$999=\"Mon\",ROW(العاملين!$B$2:'العاملين'!$B$999)-ROW(العاملين!$B$2)+1),ROWS($E$2:E84))),\"\")","v":""},null,{"$f":"IFERROR(INDEX(العاملين!$B$2:'العاملين'!$B$999,SMALL(IF(العاملين!$G$2:'العاملين'!$G$999=\"Tue\",ROW(العاملين!$B$2:'العاملين'!$B$999)-ROW(العاملين!$B$2)+1),ROWS($G$2:G84))),\"\")","v":""},null,{"$f":"IFERROR(INDEX(العاملين!$B$2:'العاملين'!$B$999,SMALL(IF(العاملين!$G$2:'العاملين'!$G$999=\"Wed\",ROW(العاملين!$B$2:'العاملين'!$B$999)-ROW(العاملين!$B$2)+1),ROWS($I$2:I84))),\"\")","v":""},null,{"$f":"IFERROR(INDEX(العاملين!$B$2:'العاملين'!$B$999,SMALL(IF(العاملين!$G$2:'العاملين'!$G$999=\"Thu\",ROW(العاملين!$B$2:'العاملين'!$B$999)-ROW(العاملين!$B$2)+1),ROWS($K$2:K84))),\"\")","v":""},null,{"$f":"IFERROR(INDEX(العاملين!$B$2:'العاملين'!$B$999,SMALL(IF(العاملين!$G$2:'العاملين'!$G$999=\"Fri\",ROW(العاملين!$B$2:'العاملين'!$B$999)-ROW(العاملين!$B$2)+1),ROWS($M$2:M84))),\"\")","v":""}]
[null,{"$f":"IFERROR(INDEX(العاملين!$B$2:'العاملين'!$B$999,SMALL(IF(العاملين!$G$2:'العاملين'!$G$999=\"Sat\",ROW(العاملين!$B$2:'العاملين'!$B$999)-ROW(العاملين!$B$2)+1),ROWS($B$2:B85))),\"\")","v":""},{"$f":"IFERROR(INDEX(العاملين!$B$2:'العاملين'!$B$999,SMALL(IF(العاملين!$G$2:'العاملين'!$G$999=\"Sun\",ROW(العاملين!$B$2:'العاملين'!$B$999)-ROW(العاملين!$B$2)+1),ROWS($C$2:C85))),\"\")","v":""},null,{"$f":"IFERROR(INDEX(العاملين!$B$2:'العاملين'!$B$999,SMALL(IF(العاملين!$G$2:'العاملين'!$G$999=\"Mon\",ROW(العاملين!$B$2:'العاملين'!$B$999)-ROW(العاملين!$B$2)+1),ROWS($E$2:E85))),\"\")","v":""},null,{"$f":"IFERROR(INDEX(العاملين!$B$2:'العاملين'!$B$999,SMALL(IF(العاملين!$G$2:'العاملين'!$G$999=\"Tue\",ROW(العاملين!$B$2:'العاملين'!$B$999)-ROW(العاملين!$B$2)+1),ROWS($G$2:G85))),\"\")","v":""},null,{"$f":"IFERROR(INDEX(العاملين!$B$2:'العاملين'!$B$999,SMALL(IF(العاملين!$G$2:'العاملين'!$G$999=\"Wed\",ROW(العاملين!$B$2:'العاملين'!$B$999)-ROW(العاملين!$B$2)+1),ROWS($I$2:I85))),\"\")","v":""},null,{"$f":"IFERROR(INDEX(العاملين!$B$2:'العاملين'!$B$999,SMALL(IF(العاملين!$G$2:'العاملين'!$G$999=\"Thu\",ROW(العاملين!$B$2:'العاملين'!$B$999)-ROW(العاملين!$B$2)+1),ROWS($K$2:K85))),\"\")","v":""},null,{"$f":"IFERROR(INDEX(العاملين!$B$2:'العاملين'!$B$999,SMALL(IF(العاملين!$G$2:'العاملين'!$G$999=\"Fri\",ROW(العاملين!$B$2:'العاملين'!$B$999)-ROW(العاملين!$B$2)+1),ROWS($M$2:M85))),\"\")","v":""}]
[null,{"$f":"IFERROR(INDEX(العاملين!$B$2:'العاملين'!$B$999,SMALL(IF(العاملين!$G$2:'العاملين'!$G$999=\"Sat\",ROW(العاملين!$B$2:'العاملين'!$B$999)-ROW(العاملين!$B$2)+1),ROWS($B$2:B86))),\"\")","v":""},{"$f":"IFERROR(INDEX(العاملين!$B$2:'العاملين'!$B$999,SMALL(IF(العاملين!$G$2:'العاملين'!$G$999=\"Sun\",ROW(العاملين!$B$2:'العاملين'!$B$999)-ROW(العاملين!$B$2)+1),ROWS($C$2:C86))),\"\")","v":""},null,{"$f":"IFERROR(INDEX(العاملين!$B$2:'العاملين'!$B$999,SMALL(IF(العاملين!$G$2:'العاملين'!$G$999=\"Mon\",ROW(العاملين!$B$2:'العاملين'!$B$999)-ROW(العاملين!$B$2)+1),ROWS($E$2:E86))),\"\")","v":""},null,{"$f":"IFERROR(INDEX(العاملين!$B$2:'العاملين'!$B$999,SMALL(IF(العاملين!$G$2:'العاملين'!$G$999=\"Tue\",ROW(العاملين!$B$2:'العاملين'!$B$999)-ROW(العاملين!$B$2)+1),ROWS($G$2:G86))),\"\")","v":""},null,{"$f":"IFERROR(INDEX(العاملين!$B$2:'العاملين'!$B$999,SMALL(IF(العاملين!$G$2:'العاملين'!$G$999=\"Wed\",ROW(العاملين!$B$2:'العاملين'!$B$999)-ROW(العاملين!$B$2)+1),ROWS($I$2:I86))),\"\")","v":""},null,{"$f":"IFERROR(INDEX(العاملين!$B$2:'العاملين'!$B$999,SMALL(IF(العاملين!$G$2:'العاملين'!$G$999=\"Thu\",ROW(العاملين!$B$2:'العاملين'!$B$999)-ROW(العاملين!$B$2)+1),ROWS($K$2:K86))),\"\")","v":""},null,{"$f":"IFERROR(INDEX(العاملين!$B$2:'العاملين'!$B$999,SMALL(IF(العاملين!$G$2:'العاملين'!$G$999=\"Fri\",ROW(العاملين!$B$2:'العاملين'!$B$999)-ROW(العاملين!$B$2)+1),ROWS($M$2:M86))),\"\")","v":""}]
[null,{"$f":"IFERROR(INDEX(العاملين!$B$2:'العاملين'!$B$999,SMALL(IF(العاملين!$G$2:'العاملين'!$G$999=\"Sat\",ROW(العاملين!$B$2:'العاملين'!$B$999)-ROW(العاملين!$B$2)+1),ROWS($B$2:B87))),\"\")","v":""},{"$f":"IFERROR(INDEX(العاملين!$B$2:'العاملين'!$B$999,SMALL(IF(العاملين!$G$2:'العاملين'!$G$999=\"Sun\",ROW(العاملين!$B$2:'العاملين'!$B$999)-ROW(العاملين!$B$2)+1),ROWS($C$2:C87))),\"\")","v":""},null,{"$f":"IFERROR(INDEX(العاملين!$B$2:'العاملين'!$B$999,SMALL(IF(العاملين!$G$2:'العاملين'!$G$999=\"Mon\",ROW(العاملين!$B$2:'العاملين'!$B$999)-ROW(العاملين!$B$2)+1),ROWS($E$2:E87))),\"\")","v":""},null,{"$f":"IFERROR(INDEX(العاملين!$B$2:'العاملين'!$B$999,SMALL(IF(العاملين!$G$2:'العاملين'!$G$999=\"Tue\",ROW(العاملين!$B$2:'العاملين'!$B$999)-ROW(العاملين!$B$2)+1),ROWS($G$2:G87))),\"\")","v":""},null,{"$f":"IFERROR(INDEX(العاملين!$B$2:'العاملين'!$B$999,SMALL(IF(العاملين!$G$2:'العاملين'!$G$999=\"Wed\",ROW(العاملين!$B$2:'العاملين'!$B$999)-ROW(العاملين!$B$2)+1),ROWS($I$2:I87))),\"\")","v":""},null,{"$f":"IFERROR(INDEX(العاملين!$B$2:'العاملين'!$B$999,SMALL(IF(العاملين!$G$2:'العاملين'!$G$999=\"Thu\",ROW(العاملين!$B$2:'العاملين'!$B$999)-ROW(العاملين!$B$2)+1),ROWS($K$2:K87))),\"\")","v":""},null,{"$f":"IFERROR(INDEX(العاملين!$B$2:'العاملين'!$B$999,SMALL(IF(العاملين!$G$2:'العاملين'!$G$999=\"Fri\",ROW(العاملين!$B$2:'العاملين'!$B$999)-ROW(العاملين!$B$2)+1),ROWS($M$2:M87))),\"\")","v":""}]
[null,{"$f":"IFERROR(INDEX(العاملين!$B$2:'العاملين'!$B$999,SMALL(IF(العاملين!$G$2:'العاملين'!$G$999=\"Sat\",ROW(العاملين!$B$2:'العاملين'!$B$999)-ROW(العاملين!$B$2)+1),ROWS($B$2:B88))),\"\")","v":""},{"$f":"IFERROR(INDEX(العاملين!$B$2:'العاملين'!$B$999,SMALL(IF(العاملين!$G$2:'العاملين'!$G$999=\"Sun\",ROW(العاملين!$B$2:'العاملين'!$B$999)-ROW(العاملين!$B$2)+1),ROWS($C$2:C88))),\"\")","v":""},null,{"$f":"IFERROR(INDEX(العاملين!$B$2:'العاملين'!$B$999,SMALL(IF(العاملين!$G$2:'العاملين'!$G$999=\"Mon\",ROW(العاملين!$B$2:'العاملين'!$B$999)-ROW(العاملين!$B$2)+1),ROWS($E$2:E88))),\"\")","v":""},null,{"$f":"IFERROR(INDEX(العاملين!$B$2:'العاملين'!$B$999,SMALL(IF(العاملين!$G$2:'العاملين'!$G$999=\"Tue\",ROW(العاملين!$B$2:'العاملين'!$B$999)-ROW(العاملين!$B$2)+1),ROWS($G$2:G88))),\"\")","v":""},null,{"$f":"IFERROR(INDEX(العاملين!$B$2:'العاملين'!$B$999,SMALL(IF(العاملين!$G$2:'العاملين'!$G$999=\"Wed\",ROW(العاملين!$B$2:'العاملين'!$B$999)-ROW(العاملين!$B$2)+1),ROWS($I$2:I88))),\"\")","v":""},null,{"$f":"IFERROR(INDEX(العاملين!$B$2:'العاملين'!$B$999,SMALL(IF(العاملين!$G$2:'العاملين'!$G$999=\"Thu\",ROW(العاملين!$B$2:'العاملين'!$B$999)-ROW(العاملين!$B$2)+1),ROWS($K$2:K88))),\"\")","v":""},null,{"$f":"IFERROR(INDEX(العاملين!$B$2:'العاملين'!$B$999,SMALL(IF(العاملين!$G$2:'العاملين'!$G$999=\"Fri\",ROW(العاملين!$B$2:'العاملين'!$B$999)-ROW(العاملين!$B$2)+1),ROWS($M$2:M88))),\"\")","v":""}]
[null,{"$f":"IFERROR(INDEX(العاملين!$B$2:'العاملين'!$B$999,SMALL(IF(العاملين!$G$2:'العاملين'!$G$999=\"Sat\",ROW(العاملين!$B$2:'العاملين'!$B$999)-ROW(العاملين!$B$2)+1),ROWS($B$2:B89))),\"\")","v":""},{"$f":"IFERROR(INDEX(العاملين!$B$2:'العاملين'!$B$999,SMALL(IF(العاملين!$G$2:'العاملين'!$G$999=\"Sun\",ROW(العاملين!$B$2:'العاملين'!$B$999)-ROW(العاملين!$B$2)+1),ROWS($C$2:C89))),\"\")","v":""},null,{"$f":"IFERROR(INDEX(العاملين!$B$2:'العاملين'!$B$999,SMALL(IF(العاملين!$G$2:'العاملين'!$G$999=\"Mon\",ROW(العاملين!$B$2:'العاملين'!$B$999)-ROW(العاملين!$B$2)+1),ROWS($E$2:E89))),\"\")","v":""},null,{"$f":"IFERROR(INDEX(العاملين!$B$2:'العاملين'!$B$999,SMALL(IF(العاملين!$G$2:'العاملين'!$G$999=\"Tue\",ROW(العاملين!$B$2:'العاملين'!$B$999)-ROW(العاملين!$B$2)+1),ROWS($G$2:G89))),\"\")","v":""},null,{"$f":"IFERROR(INDEX(العاملين!$B$2:'العاملين'!$B$999,SMALL(IF(العاملين!$G$2:'العاملين'!$G$999=\"Wed\",ROW(العاملين!$B$2:'العاملين'!$B$999)-ROW(العاملين!$B$2)+1),ROWS($I$2:I89))),\"\")","v":""},null,{"$f":"IFERROR(INDEX(العاملين!$B$2:'العاملين'!$B$999,SMALL(IF(العاملين!$G$2:'العاملين'!$G$999=\"Thu\",ROW(العاملين!$B$2:'العاملين'!$B$999)-ROW(العاملين!$B$2)+1),ROWS($K$2:K89))),\"\")","v":""},null,{"$f":"IFERROR(INDEX(العاملين!$B$2:'العاملين'!$B$999,SMALL(IF(العاملين!$G$2:'العاملين'!$G$999=\"Fri\",ROW(العاملين!$B$2:'العاملين'!$B$999)-ROW(العاملين!$B$2)+1),ROWS($M$2:M89))),\"\")","v":""}]
[null,{"$f":"IFERROR(INDEX(العاملين!$B$2:'العاملين'!$B$999,SMALL(IF(العاملين!$G$2:'العاملين'!$G$999=\"Sat\",ROW(العاملين!$B$2:'العاملين'!$B$999)-ROW(العاملين!$B$2)+1),ROWS($B$2:B90))),\"\")","v":""},{"$f":"IFERROR(INDEX(العاملين!$B$2:'العاملين'!$B$999,SMALL(IF(العاملين!$G$2:'العاملين'!$G$999=\"Sun\",ROW(العاملين!$B$2:'العاملين'!$B$999)-ROW(العاملين!$B$2)+1),ROWS($C$2:C90))),\"\")","v":""},null,{"$f":"IFERROR(INDEX(العاملين!$B$2:'العاملين'!$B$999,SMALL(IF(العاملين!$G$2:'العاملين'!$G$999=\"Mon\",ROW(العاملين!$B$2:'العاملين'!$B$999)-ROW(العاملين!$B$2)+1),ROWS($E$2:E90))),\"\")","v":""},null,{"$f":"IFERROR(INDEX(العاملين!$B$2:'العاملين'!$B$999,SMALL(IF(العاملين!$G$2:'العاملين'!$G$999=\"Tue\",ROW(العاملين!$B$2:'العاملين'!$B$999)-ROW(العاملين!$B$2)+1),ROWS($G$2:G90))),\"\")","v":""},null,{"$f":"IFERROR(INDEX(العاملين!$B$2:'العاملين'!$B$999,SMALL(IF(العاملين!$G$2:'العاملين'!$G$999=\"Wed\",ROW(العاملين!$B$2:'العاملين'!$B$999)-ROW(العاملين!$B$2)+1),ROWS($I$2:I90))),\"\")","v":""},null,{"$f":"IFERROR(INDEX(العاملين!$B$2:'العاملين'!$B$999,SMALL(IF(العاملين!$G$2:'العاملين'!$G$999=\"Thu\",ROW(العاملين!$B$2:'العاملين'!$B$999)-ROW(العاملين!$B$2)+1),ROWS($K$2:K90))),\"\")","v":""},null,{"$f":"IFERROR(INDEX(العاملين!$B$2:'العاملين'!$B$999,SMALL(IF(العاملين!$G$2:'العاملين'!$G$999=\"Fri\",ROW(العاملين!$B$2:'العاملين'!$B$999)-ROW(العاملين!$B$2)+1),ROWS($M$2:M90))),\"\")","v":""}]
[null,{"$f":"IFERROR(INDEX(العاملين!$B$2:'العاملين'!$B$999,SMALL(IF(العاملين!$G$2:'العاملين'!$G$999=\"Sat\",ROW(العاملين!$B$2:'العاملين'!$B$999)-ROW(العاملين!$B$2)+1),ROWS($B$2:B91))),\"\")","v":""},{"$f":"IFERROR(INDEX(العاملين!$B$2:'العاملين'!$B$999,SMALL(IF(العاملين!$G$2:'العاملين'!$G$999=\"Sun\",ROW(العاملين!$B$2:'العاملين'!$B$999)-ROW(العاملين!$B$2)+1),ROWS($C$2:C91))),\"\")","v":""},null,{"$f":"IFERROR(INDEX(العاملين!$B$2:'العاملين'!$B$999,SMALL(IF(العاملين!$G$2:'العاملين'!$G$999=\"Mon\",ROW(العاملين!$B$2:'العاملين'!$B$999)-ROW(العاملين!$B$2)+1),ROWS($E$2:E91))),\"\")","v":""},null,{"$f":"IFERROR(INDEX(العاملين!$B$2:'العاملين'!$B$999,SMALL(IF(العاملين!$G$2:'العاملين'!$G$999=\"Tue\",ROW(العاملين!$B$2:'العاملين'!$B$999)-ROW(العاملين!$B$2)+1),ROWS($G$2:G91))),\"\")","v":""},null,{"$f":"IFERROR(INDEX(العاملين!$B$2:'العاملين'!$B$999,SMALL(IF(العاملين!$G$2:'العاملين'!$G$999=\"Wed\",ROW(العاملين!$B$2:'العاملين'!$B$999)-ROW(العاملين!$B$2)+1),ROWS($I$2:I91))),\"\")","v":""},null,{"$f":"IFERROR(INDEX(العاملين!$B$2:'العاملين'!$B$999,SMALL(IF(العاملين!$G$2:'العاملين'!$G$999=\"Thu\",ROW(العاملين!$B$2:'العاملين'!$B$999)-ROW(العاملين!$B$2)+1),ROWS($K$2:K91))),\"\")","v":""},null,{"$f":"IFERROR(INDEX(العاملين!$B$2:'العاملين'!$B$999,SMALL(IF(العاملين!$G$2:'العاملين'!$G$999=\"Fri\",ROW(العاملين!$B$2:'العاملين'!$B$999)-ROW(العاملين!$B$2)+1),ROWS($M$2:M91))),\"\")","v":""}]
[null,{"$f":"IFERROR(INDEX(العاملين!$B$2:'العاملين'!$B$999,SMALL(IF(العاملين!$G$2:'العاملين'!$G$999=\"Sat\",ROW(العاملين!$B$2:'العاملين'!$B$999)-ROW(العاملين!$B$2)+1),ROWS($B$2:B92))),\"\")","v":""},{"$f":"IFERROR(INDEX(العاملين!$B$2:'العاملين'!$B$999,SMALL(IF(العاملين!$G$2:'العاملين'!$G$999=\"Sun\",ROW(العاملين!$B$2:'العاملين'!$B$999)-ROW(العاملين!$B$2)+1),ROWS($C$2:C92))),\"\")","v":""},null,{"$f":"IFERROR(INDEX(العاملين!$B$2:'العاملين'!$B$999,SMALL(IF(العاملين!$G$2:'العاملين'!$G$999=\"Mon\",ROW(العاملين!$B$2:'العاملين'!$B$999)-ROW(العاملين!$B$2)+1),ROWS($E$2:E92))),\"\")","v":""},null,{"$f":"IFERROR(INDEX(العاملين!$B$2:'العاملين'!$B$999,SMALL(IF(العاملين!$G$2:'العاملين'!$G$999=\"Tue\",ROW(العاملين!$B$2:'العاملين'!$B$999)-ROW(العاملين!$B$2)+1),ROWS($G$2:G92))),\"\")","v":""},null,{"$f":"IFERROR(INDEX(العاملين!$B$2:'العاملين'!$B$999,SMALL(IF(العاملين!$G$2:'العاملين'!$G$999=\"Wed\",ROW(العاملين!$B$2:'العاملين'!$B$999)-ROW(العاملين!$B$2)+1),ROWS($I$2:I92))),\"\")","v":""},null,{"$f":"IFERROR(INDEX(العاملين!$B$2:'العاملين'!$B$999,SMALL(IF(العاملين!$G$2:'العاملين'!$G$999=\"Thu\",ROW(العاملين!$B$2:'العاملين'!$B$999)-ROW(العاملين!$B$2)+1),ROWS($K$2:K92))),\"\")","v":""},null,{"$f":"IFERROR(INDEX(العاملين!$B$2:'العاملين'!$B$999,SMALL(IF(العاملين!$G$2:'العاملين'!$G$999=\"Fri\",ROW(العاملين!$B$2:'العاملين'!$B$999)-ROW(العاملين!$B$2)+1),ROWS($M$2:M92))),\"\")","v":""}]
[null,{"$f":"IFERROR(INDEX(العاملين!$B$2:'العاملين'!$B$999,SMALL(IF(العاملين!$G$2:'العاملين'!$G$999=\"Sat\",ROW(العاملين!$B$2:'العاملين'!$B$999)-ROW(العاملين!$B$2)+1),ROWS($B$2:B93))),\"\")","v":""},{"$f":"IFERROR(INDEX(العاملين!$B$2:'العاملين'!$B$999,SMALL(IF(العاملين!$G$2:'العاملين'!$G$999=\"Sun\",ROW(العاملين!$B$2:'العاملين'!$B$999)-ROW(العاملين!$B$2)+1),ROWS($C$2:C93))),\"\")","v":""},null,{"$f":"IFERROR(INDEX(العاملين!$B$2:'العاملين'!$B$999,SMALL(IF(العاملين!$G$2:'العاملين'!$G$999=\"Mon\",ROW(العاملين!$B$2:'العاملين'!$B$999)-ROW(العاملين!$B$2)+1),ROWS($E$2:E93))),\"\")","v":""},null,{"$f":"IFERROR(INDEX(العاملين!$B$2:'العاملين'!$B$999,SMALL(IF(العاملين!$G$2:'العاملين'!$G$999=\"Tue\",ROW(العاملين!$B$2:'العاملين'!$B$999)-ROW(العاملين!$B$2)+1),ROWS($G$2:G93))),\"\")","v":""},null,{"$f":"IFERROR(INDEX(العاملين!$B$2:'العاملين'!$B$999,SMALL(IF(العاملين!$G$2:'العاملين'!$G$999=\"Wed\",ROW(العاملين!$B$2:'العاملين'!$B$999)-ROW(العاملين!$B$2)+1),ROWS($I$2:I93))),\"\")","v":""},null,{"$f":"IFERROR(INDEX(العاملين!$B$2:'العاملين'!$B$999,SMALL(IF(العاملين!$G$2:'العاملين'!$G$999=\"Thu\",ROW(العاملين!$B$2:'العاملين'!$B$999)-ROW(العاملين!$B$2)+1),ROWS($K$2:K93))),\"\")","v":""},null,{"$f":"IFERROR(INDEX(العاملين!$B$2:'العاملين'!$B$999,SMALL(IF(العاملين!$G$2:'العاملين'!$G$999=\"Fri\",ROW(العاملين!$B$2:'العاملين'!$B$999)-ROW(العاملين!$B$2)+1),ROWS($M$2:M93))),\"\")","v":""}]
[null,{"$f":"IFERROR(INDEX(العاملين!$B$2:'العاملين'!$B$999,SMALL(IF(العاملين!$G$2:'العاملين'!$G$999=\"Sat\",ROW(العاملين!$B$2:'العاملين'!$B$999)-ROW(العاملين!$B$2)+1),ROWS($B$2:B94))),\"\")","v":""},{"$f":"IFERROR(INDEX(العاملين!$B$2:'العاملين'!$B$999,SMALL(IF(العاملين!$G$2:'العاملين'!$G$999=\"Sun\",ROW(العاملين!$B$2:'العاملين'!$B$999)-ROW(العاملين!$B$2)+1),ROWS($C$2:C94))),\"\")","v":""},null,{"$f":"IFERROR(INDEX(العاملين!$B$2:'العاملين'!$B$999,SMALL(IF(العاملين!$G$2:'العاملين'!$G$999=\"Mon\",ROW(العاملين!$B$2:'العاملين'!$B$999)-ROW(العاملين!$B$2)+1),ROWS($E$2:E94))),\"\")","v":""},null,{"$f":"IFERROR(INDEX(العاملين!$B$2:'العاملين'!$B$999,SMALL(IF(العاملين!$G$2:'العاملين'!$G$999=\"Tue\",ROW(العاملين!$B$2:'العاملين'!$B$999)-ROW(العاملين!$B$2)+1),ROWS($G$2:G94))),\"\")","v":""},null,{"$f":"IFERROR(INDEX(العاملين!$B$2:'العاملين'!$B$999,SMALL(IF(العاملين!$G$2:'العاملين'!$G$999=\"Wed\",ROW(العاملين!$B$2:'العاملين'!$B$999)-ROW(العاملين!$B$2)+1),ROWS($I$2:I94))),\"\")","v":""},null,{"$f":"IFERROR(INDEX(العاملين!$B$2:'العاملين'!$B$999,SMALL(IF(العاملين!$G$2:'العاملين'!$G$999=\"Thu\",ROW(العاملين!$B$2:'العاملين'!$B$999)-ROW(العاملين!$B$2)+1),ROWS($K$2:K94))),\"\")","v":""},null,{"$f":"IFERROR(INDEX(العاملين!$B$2:'العاملين'!$B$999,SMALL(IF(العاملين!$G$2:'العاملين'!$G$999=\"Fri\",ROW(العاملين!$B$2:'العاملين'!$B$999)-ROW(العاملين!$B$2)+1),ROWS($M$2:M94))),\"\")","v":""}]
[null,{"$f":"IFERROR(INDEX(العاملين!$B$2:'العاملين'!$B$999,SMALL(IF(العاملين!$G$2:'العاملين'!$G$999=\"Sat\",ROW(العاملين!$B$2:'العاملين'!$B$999)-ROW(العاملين!$B$2)+1),ROWS($B$2:B95))),\"\")","v":""},{"$f":"IFERROR(INDEX(العاملين!$B$2:'العاملين'!$B$999,SMALL(IF(العاملين!$G$2:'العاملين'!$G$999=\"Sun\",ROW(العاملين!$B$2:'العاملين'!$B$999)-ROW(العاملين!$B$2)+1),ROWS($C$2:C95))),\"\")","v":""},null,{"$f":"IFERROR(INDEX(العاملين!$B$2:'العاملين'!$B$999,SMALL(IF(العاملين!$G$2:'العاملين'!$G$999=\"Mon\",ROW(العاملين!$B$2:'العاملين'!$B$999)-ROW(العاملين!$B$2)+1),ROWS($E$2:E95))),\"\")","v":""},null,{"$f":"IFERROR(INDEX(العاملين!$B$2:'العاملين'!$B$999,SMALL(IF(العاملين!$G$2:'العاملين'!$G$999=\"Tue\",ROW(العاملين!$B$2:'العاملين'!$B$999)-ROW(العاملين!$B$2)+1),ROWS($G$2:G95))),\"\")","v":""},null,{"$f":"IFERROR(INDEX(العاملين!$B$2:'العاملين'!$B$999,SMALL(IF(العاملين!$G$2:'العاملين'!$G$999=\"Wed\",ROW(العاملين!$B$2:'العاملين'!$B$999)-ROW(العاملين!$B$2)+1),ROWS($I$2:I95))),\"\")","v":""},null,{"$f":"IFERROR(INDEX(العاملين!$B$2:'العاملين'!$B$999,SMALL(IF(العاملين!$G$2:'العاملين'!$G$999=\"Thu\",ROW(العاملين!$B$2:'العاملين'!$B$999)-ROW(العاملين!$B$2)+1),ROWS($K$2:K95))),\"\")","v":""},null,{"$f":"IFERROR(INDEX(العاملين!$B$2:'العاملين'!$B$999,SMALL(IF(العاملين!$G$2:'العاملين'!$G$999=\"Fri\",ROW(العاملين!$B$2:'العاملين'!$B$999)-ROW(العاملين!$B$2)+1),ROWS($M$2:M95))),\"\")","v":""}]
[null,{"$f":"IFERROR(INDEX(العاملين!$B$2:'العاملين'!$B$999,SMALL(IF(العاملين!$G$2:'العاملين'!$G$999=\"Sat\",ROW(العاملين!$B$2:'العاملين'!$B$999)-ROW(العاملين!$B$2)+1),ROWS($B$2:B96))),\"\")","v":""},{"$f":"IFERROR(INDEX(العاملين!$B$2:'العاملين'!$B$999,SMALL(IF(العاملين!$G$2:'العاملين'!$G$999=\"Sun\",ROW(العاملين!$B$2:'العاملين'!$B$999)-ROW(العاملين!$B$2)+1),ROWS($C$2:C96))),\"\")","v":""},null,{"$f":"IFERROR(INDEX(العاملين!$B$2:'العاملين'!$B$999,SMALL(IF(العاملين!$G$2:'العاملين'!$G$999=\"Mon\",ROW(العاملين!$B$2:'العاملين'!$B$999)-ROW(العاملين!$B$2)+1),ROWS($E$2:E96))),\"\")","v":""},null,{"$f":"IFERROR(INDEX(العاملين!$B$2:'العاملين'!$B$999,SMALL(IF(العاملين!$G$2:'العاملين'!$G$999=\"Tue\",ROW(العاملين!$B$2:'العاملين'!$B$999)-ROW(العاملين!$B$2)+1),ROWS($G$2:G96))),\"\")","v":""},null,{"$f":"IFERROR(INDEX(العاملين!$B$2:'العاملين'!$B$999,SMALL(IF(العاملين!$G$2:'العاملين'!$G$999=\"Wed\",ROW(العاملين!$B$2:'العاملين'!$B$999)-ROW(العاملين!$B$2)+1),ROWS($I$2:I96))),\"\")","v":""},null,{"$f":"IFERROR(INDEX(العاملين!$B$2:'العاملين'!$B$999,SMALL(IF(العاملين!$G$2:'العاملين'!$G$999=\"Thu\",ROW(العاملين!$B$2:'العاملين'!$B$999)-ROW(العاملين!$B$2)+1),ROWS($K$2:K96))),\"\")","v":""},null,{"$f":"IFERROR(INDEX(العاملين!$B$2:'العاملين'!$B$999,SMALL(IF(العاملين!$G$2:'العاملين'!$G$999=\"Fri\",ROW(العاملين!$B$2:'العاملين'!$B$999)-ROW(العاملين!$B$2)+1),ROWS($M$2:M96))),\"\")","v":""}]
[null,{"$f":"IFERROR(INDEX(العاملين!$B$2:'العاملين'!$B$999,SMALL(IF(العاملين!$G$2:'العاملين'!$G$999=\"Sat\",ROW(العاملين!$B$2:'العاملين'!$B$999)-ROW(العاملين!$B$2)+1),ROWS($B$2:B97))),\"\")","v":""},{"$f":"IFERROR(INDEX(العاملين!$B$2:'العاملين'!$B$999,SMALL(IF(العاملين!$G$2:'العاملين'!$G$999=\"Sun\",ROW(العاملين!$B$2:'العاملين'!$B$999)-ROW(العاملين!$B$2)+1),ROWS($C$2:C97))),\"\")","v":""},null,{"$f":"IFERROR(INDEX(العاملين!$B$2:'العاملين'!$B$999,SMALL(IF(العاملين!$G$2:'العاملين'!$G$999=\"Mon\",ROW(العاملين!$B$2:'العاملين'!$B$999)-ROW(العاملين!$B$2)+1),ROWS($E$2:E97))),\"\")","v":""},null,{"$f":"IFERROR(INDEX(العاملين!$B$2:'العاملين'!$B$999,SMALL(IF(العاملين!$G$2:'العاملين'!$G$999=\"Tue\",ROW(العاملين!$B$2:'العاملين'!$B$999)-ROW(العاملين!$B$2)+1),ROWS($G$2:G97))),\"\")","v":""},null,{"$f":"IFERROR(INDEX(العاملين!$B$2:'العاملين'!$B$999,SMALL(IF(العاملين!$G$2:'العاملين'!$G$999=\"Wed\",ROW(العاملين!$B$2:'العاملين'!$B$999)-ROW(العاملين!$B$2)+1),ROWS($I$2:I97))),\"\")","v":""},null,{"$f":"IFERROR(INDEX(العاملين!$B$2:'العاملين'!$B$999,SMALL(IF(العاملين!$G$2:'العاملين'!$G$999=\"Thu\",ROW(العاملين!$B$2:'العاملين'!$B$999)-ROW(العاملين!$B$2)+1),ROWS($K$2:K97))),\"\")","v":""},null,{"$f":"IFERROR(INDEX(العاملين!$B$2:'العاملين'!$B$999,SMALL(IF(العاملين!$G$2:'العاملين'!$G$999=\"Fri\",ROW(العاملين!$B$2:'العاملين'!$B$999)-ROW(العاملين!$B$2)+1),ROWS($M$2:M97))),\"\")","v":""}]
[null,{"$f":"IFERROR(INDEX(العاملين!$B$2:'العاملين'!$B$999,SMALL(IF(العاملين!$G$2:'العاملين'!$G$999=\"Sat\",ROW(العاملين!$B$2:'العاملين'!$B$999)-ROW(العاملين!$B$2)+1),ROWS($B$2:B98))),\"\")","v":""},{"$f":"IFERROR(INDEX(العاملين!$B$2:'العاملين'!$B$999,SMALL(IF(العاملين!$G$2:'العاملين'!$G$999=\"Sun\",ROW(العاملين!$B$2:'العاملين'!$B$999)-ROW(العاملين!$B$2)+1),ROWS($C$2:C98))),\"\")","v":""},null,{"$f":"IFERROR(INDEX(العاملين!$B$2:'العاملين'!$B$999,SMALL(IF(العاملين!$G$2:'العاملين'!$G$999=\"Mon\",ROW(العاملين!$B$2:'العاملين'!$B$999)-ROW(العاملين!$B$2)+1),ROWS($E$2:E98))),\"\")","v":""},null,{"$f":"IFERROR(INDEX(العاملين!$B$2:'العاملين'!$B$999,SMALL(IF(العاملين!$G$2:'العاملين'!$G$999=\"Tue\",ROW(العاملين!$B$2:'العاملين'!$B$999)-ROW(العاملين!$B$2)+1),ROWS($G$2:G98))),\"\")","v":""},null,{"$f":"IFERROR(INDEX(العاملين!$B$2:'العاملين'!$B$999,SMALL(IF(العاملين!$G$2:'العاملين'!$G$999=\"Wed\",ROW(العاملين!$B$2:'العاملين'!$B$999)-ROW(العاملين!$B$2)+1),ROWS($I$2:I98))),\"\")","v":""},null,{"$f":"IFERROR(INDEX(العاملين!$B$2:'العاملين'!$B$999,SMALL(IF(العاملين!$G$2:'العاملين'!$G$999=\"Thu\",ROW(العاملين!$B$2:'العاملين'!$B$999)-ROW(العاملين!$B$2)+1),ROWS($K$2:K98))),\"\")","v":""},null,{"$f":"IFERROR(INDEX(العاملين!$B$2:'العاملين'!$B$999,SMALL(IF(العاملين!$G$2:'العاملين'!$G$999=\"Fri\",ROW(العاملين!$B$2:'العاملين'!$B$999)-ROW(العاملين!$B$2)+1),ROWS($M$2:M98))),\"\")","v":""}]
[null,{"$f":"IFERROR(INDEX(العاملين!$B$2:'العاملين'!$B$999,SMALL(IF(العاملين!$G$2:'العاملين'!$G$999=\"Sat\",ROW(العاملين!$B$2:'العاملين'!$B$999)-ROW(العاملين!$B$2)+1),ROWS($B$2:B99))),\"\")","v":""},{"$f":"IFERROR(INDEX(العاملين!$B$2:'العاملين'!$B$999,SMALL(IF(العاملين!$G$2:'العاملين'!$G$999=\"Sun\",ROW(العاملين!$B$2:'العاملين'!$B$999)-ROW(العاملين!$B$2)+1),ROWS($C$2:C99))),\"\")","v":""},null,{"$f":"IFERROR(INDEX(العاملين!$B$2:'العاملين'!$B$999,SMALL(IF(العاملين!$G$2:'العاملين'!$G$999=\"Mon\",ROW(العاملين!$B$2:'العاملين'!$B$999)-ROW(العاملين!$B$2)+1),ROWS($E$2:E99))),\"\")","v":""},null,{"$f":"IFERROR(INDEX(العاملين!$B$2:'العاملين'!$B$999,SMALL(IF(العاملين!$G$2:'العاملين'!$G$999=\"Tue\",ROW(العاملين!$B$2:'العاملين'!$B$999)-ROW(العاملين!$B$2)+1),ROWS($G$2:G99))),\"\")","v":""},null,{"$f":"IFERROR(INDEX(العاملين!$B$2:'العاملين'!$B$999,SMALL(IF(العاملين!$G$2:'العاملين'!$G$999=\"Wed\",ROW(العاملين!$B$2:'العاملين'!$B$999)-ROW(العاملين!$B$2)+1),ROWS($I$2:I99))),\"\")","v":""},null,{"$f":"IFERROR(INDEX(العاملين!$B$2:'العاملين'!$B$999,SMALL(IF(العاملين!$G$2:'العاملين'!$G$999=\"Thu\",ROW(العاملين!$B$2:'العاملين'!$B$999)-ROW(العاملين!$B$2)+1),ROWS($K$2:K99))),\"\")","v":""},null,{"$f":"IFERROR(INDEX(العاملين!$B$2:'العاملين'!$B$999,SMALL(IF(العاملين!$G$2:'العاملين'!$G$999=\"Fri\",ROW(العاملين!$B$2:'العاملين'!$B$999)-ROW(العاملين!$B$2)+1),ROWS($M$2:M99))),\"\")","v":""}]
[null,{"$f":"IFERROR(INDEX(العاملين!$B$2:'العاملين'!$B$999,SMALL(IF(العاملين!$G$2:'العاملين'!$G$999=\"Sat\",ROW(العاملين!$B$2:'العاملين'!$B$999)-ROW(العاملين!$B$2)+1),ROWS($B$2:B100))),\"\")","v":""},{"$f":"IFERROR(INDEX(العاملين!$B$2:'العاملين'!$B$999,SMALL(IF(العاملين!$G$2:'العاملين'!$G$999=\"Sun\",ROW(العاملين!$B$2:'العاملين'!$B$999)-ROW(العاملين!$B$2)+1),ROWS($C$2:C100))),\"\")","v":""},null,{"$f":"IFERROR(INDEX(العاملين!$B$2:'العاملين'!$B$999,SMALL(IF(العاملين!$G$2:'العاملين'!$G$999=\"Mon\",ROW(العاملين!$B$2:'العاملين'!$B$999)-ROW(العاملين!$B$2)+1),ROWS($E$2:E100))),\"\")","v":""},null,{"$f":"IFERROR(INDEX(العاملين!$B$2:'العاملين'!$B$999,SMALL(IF(العاملين!$G$2:'العاملين'!$G$999=\"Tue\",ROW(العاملين!$B$2:'العاملين'!$B$999)-ROW(العاملين!$B$2)+1),ROWS($G$2:G100))),\"\")","v":""},null,{"$f":"IFERROR(INDEX(العاملين!$B$2:'العاملين'!$B$999,SMALL(IF(العاملين!$G$2:'العاملين'!$G$999=\"Wed\",ROW(العاملين!$B$2:'العاملين'!$B$999)-ROW(العاملين!$B$2)+1),ROWS($I$2:I100))),\"\")","v":""},null,{"$f":"IFERROR(INDEX(العاملين!$B$2:'العاملين'!$B$999,SMALL(IF(العاملين!$G$2:'العاملين'!$G$999=\"Thu\",ROW(العاملين!$B$2:'العاملين'!$B$999)-ROW(العاملين!$B$2)+1),ROWS($K$2:K100))),\"\")","v":""},null,{"$f":"IFERROR(INDEX(العاملين!$B$2:'العاملين'!$B$999,SMALL(IF(العاملين!$G$2:'العاملين'!$G$999=\"Fri\",ROW(العاملين!$B$2:'العاملين'!$B$999)-ROW(العاملين!$B$2)+1),ROWS($M$2:M100))),\"\")","v":""}]
[null,{"$f":"IFERROR(INDEX(العاملين!$B$2:'العاملين'!$B$999,SMALL(IF(العاملين!$G$2:'العاملين'!$G$999=\"Sat\",ROW(العاملين!$B$2:'العاملين'!$B$999)-ROW(العاملين!$B$2)+1),ROWS($B$2:B101))),\"\")","v":""},{"$f":"IFERROR(INDEX(العاملين!$B$2:'العاملين'!$B$999,SMALL(IF(العاملين!$G$2:'العاملين'!$G$999=\"Sun\",ROW(العاملين!$B$2:'العاملين'!$B$999)-ROW(العاملين!$B$2)+1),ROWS($C$2:C101))),\"\")","v":""},null,{"$f":"IFERROR(INDEX(العاملين!$B$2:'العاملين'!$B$999,SMALL(IF(العاملين!$G$2:'العاملين'!$G$999=\"Mon\",ROW(العاملين!$B$2:'العاملين'!$B$999)-ROW(العاملين!$B$2)+1),ROWS($E$2:E101))),\"\")","v":""},null,{"$f":"IFERROR(INDEX(العاملين!$B$2:'العاملين'!$B$999,SMALL(IF(العاملين!$G$2:'العاملين'!$G$999=\"Tue\",ROW(العاملين!$B$2:'العاملين'!$B$999)-ROW(العاملين!$B$2)+1),ROWS($G$2:G101))),\"\")","v":""},null,{"$f":"IFERROR(INDEX(العاملين!$B$2:'العاملين'!$B$999,SMALL(IF(العاملين!$G$2:'العاملين'!$G$999=\"Wed\",ROW(العاملين!$B$2:'العاملين'!$B$999)-ROW(العاملين!$B$2)+1),ROWS($I$2:I101))),\"\")","v":""},null,{"$f":"IFERROR(INDEX(العاملين!$B$2:'العاملين'!$B$999,SMALL(IF(العاملين!$G$2:'العاملين'!$G$999=\"Thu\",ROW(العاملين!$B$2:'العاملين'!$B$999)-ROW(العاملين!$B$2)+1),ROWS($K$2:K101))),\"\")","v":""},null,{"$f":"IFERROR(INDEX(العاملين!$B$2:'العاملين'!$B$999,SMALL(IF(العاملين!$G$2:'العاملين'!$G$999=\"Fri\",ROW(العاملين!$B$2:'العاملين'!$B$999)-ROW(العاملين!$B$2)+1),ROWS($M$2:M101))),\"\")","v":""}]
[null,{"$f":"IFERROR(INDEX(العاملين!$B$2:'العاملين'!$B$999,SMALL(IF(العاملين!$G$2:'العاملين'!$G$999=\"Sat\",ROW(العاملين!$B$2:'العاملين'!$B$999)-ROW(العاملين!$B$2)+1),ROWS($B$2:B102))),\"\")","v":""},{"$f":"IFERROR(INDEX(العاملين!$B$2:'العاملين'!$B$999,SMALL(IF(العاملين!$G$2:'العاملين'!$G$999=\"Sun\",ROW(العاملين!$B$2:'العاملين'!$B$999)-ROW(العاملين!$B$2)+1),ROWS($C$2:C102))),\"\")","v":""},null,{"$f":"IFERROR(INDEX(العاملين!$B$2:'العاملين'!$B$999,SMALL(IF(العاملين!$G$2:'العاملين'!$G$999=\"Mon\",ROW(العاملين!$B$2:'العاملين'!$B$999)-ROW(العاملين!$B$2)+1),ROWS($E$2:E102))),\"\")","v":""},null,{"$f":"IFERROR(INDEX(العاملين!$B$2:'العاملين'!$B$999,SMALL(IF(العاملين!$G$2:'العاملين'!$G$999=\"Tue\",ROW(العاملين!$B$2:'العاملين'!$B$999)-ROW(العاملين!$B$2)+1),ROWS($G$2:G102))),\"\")","v":""},null,{"$f":"IFERROR(INDEX(العاملين!$B$2:'العاملين'!$B$999,SMALL(IF(العاملين!$G$2:'العاملين'!$G$999=\"Wed\",ROW(العاملين!$B$2:'العاملين'!$B$999)-ROW(العاملين!$B$2)+1),ROWS($I$2:I102))),\"\")","v":""},null,{"$f":"IFERROR(INDEX(العاملين!$B$2:'العاملين'!$B$999,SMALL(IF(العاملين!$G$2:'العاملين'!$G$999=\"Thu\",ROW(العاملين!$B$2:'العاملين'!$B$999)-ROW(العاملين!$B$2)+1),ROWS($K$2:K102))),\"\")","v":""},null,{"$f":"IFERROR(INDEX(العاملين!$B$2:'العاملين'!$B$999,SMALL(IF(العاملين!$G$2:'العاملين'!$G$999=\"Fri\",ROW(العاملين!$B$2:'العاملين'!$B$999)-ROW(العاملين!$B$2)+1),ROWS($M$2:M102))),\"\")","v":""}]
[null,{"$f":"IFERROR(INDEX(العاملين!$B$2:'العاملين'!$B$999,SMALL(IF(العاملين!$G$2:'العاملين'!$G$999=\"Sat\",ROW(العاملين!$B$2:'العاملين'!$B$999)-ROW(العاملين!$B$2)+1),ROWS($B$2:B103))),\"\")","v":""},{"$f":"IFERROR(INDEX(العاملين!$B$2:'العاملين'!$B$999,SMALL(IF(العاملين!$G$2:'العاملين'!$G$999=\"Sun\",ROW(العاملين!$B$2:'العاملين'!$B$999)-ROW(العاملين!$B$2)+1),ROWS($C$2:C103))),\"\")","v":""},null,{"$f":"IFERROR(INDEX(العاملين!$B$2:'العاملين'!$B$999,SMALL(IF(العاملين!$G$2:'العاملين'!$G$999=\"Mon\",ROW(العاملين!$B$2:'العاملين'!$B$999)-ROW(العاملين!$B$2)+1),ROWS($E$2:E103))),\"\")","v":""},null,{"$f":"IFERROR(INDEX(العاملين!$B$2:'العاملين'!$B$999,SMALL(IF(العاملين!$G$2:'العاملين'!$G$999=\"Tue\",ROW(العاملين!$B$2:'العاملين'!$B$999)-ROW(العاملين!$B$2)+1),ROWS($G$2:G103))),\"\")","v":""},null,{"$f":"IFERROR(INDEX(العاملين!$B$2:'العاملين'!$B$999,SMALL(IF(العاملين!$G$2:'العاملين'!$G$999=\"Wed\",ROW(العاملين!$B$2:'العاملين'!$B$999)-ROW(العاملين!$B$2)+1),ROWS($I$2:I103))),\"\")","v":""},null,{"$f":"IFERROR(INDEX(العاملين!$B$2:'العاملين'!$B$999,SMALL(IF(العاملين!$G$2:'العاملين'!$G$999=\"Thu\",ROW(العاملين!$B$2:'العاملين'!$B$999)-ROW(العاملين!$B$2)+1),ROWS($K$2:K103))),\"\")","v":""},null,{"$f":"IFERROR(INDEX(العاملين!$B$2:'العاملين'!$B$999,SMALL(IF(العاملين!$G$2:'العاملين'!$G$999=\"Fri\",ROW(العاملين!$B$2:'العاملين'!$B$999)-ROW(العاملين!$B$2)+1),ROWS($M$2:M103))),\"\")","v":""}]
[null,{"$f":"IFERROR(INDEX(العاملين!$B$2:'العاملين'!$B$999,SMALL(IF(العاملين!$G$2:'العاملين'!$G$999=\"Sat\",ROW(العاملين!$B$2:'العاملين'!$B$999)-ROW(العاملين!$B$2)+1),ROWS($B$2:B104))),\"\")","v":""},{"$f":"IFERROR(INDEX(العاملين!$B$2:'العاملين'!$B$999,SMALL(IF(العاملين!$G$2:'العاملين'!$G$999=\"Sun\",ROW(العاملين!$B$2:'العاملين'!$B$999)-ROW(العاملين!$B$2)+1),ROWS($C$2:C104))),\"\")","v":""},null,{"$f":"IFERROR(INDEX(العاملين!$B$2:'العاملين'!$B$999,SMALL(IF(العاملين!$G$2:'العاملين'!$G$999=\"Mon\",ROW(العاملين!$B$2:'العاملين'!$B$999)-ROW(العاملين!$B$2)+1),ROWS($E$2:E104))),\"\")","v":""},null,{"$f":"IFERROR(INDEX(العاملين!$B$2:'العاملين'!$B$999,SMALL(IF(العاملين!$G$2:'العاملين'!$G$999=\"Tue\",ROW(العاملين!$B$2:'العاملين'!$B$999)-ROW(العاملين!$B$2)+1),ROWS($G$2:G104))),\"\")","v":""},null,{"$f":"IFERROR(INDEX(العاملين!$B$2:'العاملين'!$B$999,SMALL(IF(العاملين!$G$2:'العاملين'!$G$999=\"Wed\",ROW(العاملين!$B$2:'العاملين'!$B$999)-ROW(العاملين!$B$2)+1),ROWS($I$2:I104))),\"\")","v":""},null,{"$f":"IFERROR(INDEX(العاملين!$B$2:'العاملين'!$B$999,SMALL(IF(العاملين!$G$2:'العاملين'!$G$999=\"Thu\",ROW(العاملين!$B$2:'العاملين'!$B$999)-ROW(العاملين!$B$2)+1),ROWS($K$2:K104))),\"\")","v":""},null,{"$f":"IFERROR(INDEX(العاملين!$B$2:'العاملين'!$B$999,SMALL(IF(العاملين!$G$2:'العاملين'!$G$999=\"Fri\",ROW(العاملين!$B$2:'العاملين'!$B$999)-ROW(العاملين!$B$2)+1),ROWS($M$2:M104))),\"\")","v":""}]
[null,{"$f":"IFERROR(INDEX(العاملين!$B$2:'العاملين'!$B$999,SMALL(IF(العاملين!$G$2:'العاملين'!$G$999=\"Sat\",ROW(العاملين!$B$2:'العاملين'!$B$999)-ROW(العاملين!$B$2)+1),ROWS($B$2:B105))),\"\")","v":""},{"$f":"IFERROR(INDEX(العاملين!$B$2:'العاملين'!$B$999,SMALL(IF(العاملين!$G$2:'العاملين'!$G$999=\"Sun\",ROW(العاملين!$B$2:'العاملين'!$B$999)-ROW(العاملين!$B$2)+1),ROWS($C$2:C105))),\"\")","v":""},null,{"$f":"IFERROR(INDEX(العاملين!$B$2:'العاملين'!$B$999,SMALL(IF(العاملين!$G$2:'العاملين'!$G$999=\"Mon\",ROW(العاملين!$B$2:'العاملين'!$B$999)-ROW(العاملين!$B$2)+1),ROWS($E$2:E105))),\"\")","v":""},null,{"$f":"IFERROR(INDEX(العاملين!$B$2:'العاملين'!$B$999,SMALL(IF(العاملين!$G$2:'العاملين'!$G$999=\"Tue\",ROW(العاملين!$B$2:'العاملين'!$B$999)-ROW(العاملين!$B$2)+1),ROWS($G$2:G105))),\"\")","v":""},null,{"$f":"IFERROR(INDEX(العاملين!$B$2:'العاملين'!$B$999,SMALL(IF(العاملين!$G$2:'العاملين'!$G$999=\"Wed\",ROW(العاملين!$B$2:'العاملين'!$B$999)-ROW(العاملين!$B$2)+1),ROWS($I$2:I105))),\"\")","v":""},null,{"$f":"IFERROR(INDEX(العاملين!$B$2:'العاملين'!$B$999,SMALL(IF(العاملين!$G$2:'العاملين'!$G$999=\"Thu\",ROW(العاملين!$B$2:'العاملين'!$B$999)-ROW(العاملين!$B$2)+1),ROWS($K$2:K105))),\"\")","v":""},null,{"$f":"IFERROR(INDEX(العاملين!$B$2:'العاملين'!$B$999,SMALL(IF(العاملين!$G$2:'العاملين'!$G$999=\"Fri\",ROW(العاملين!$B$2:'العاملين'!$B$999)-ROW(العاملين!$B$2)+1),ROWS($M$2:M105))),\"\")","v":""}]
[null,{"$f":"IFERROR(INDEX(العاملين!$B$2:'العاملين'!$B$999,SMALL(IF(العاملين!$G$2:'العاملين'!$G$999=\"Sat\",ROW(العاملين!$B$2:'العاملين'!$B$999)-ROW(العاملين!$B$2)+1),ROWS($B$2:B106))),\"\")","v":""},{"$f":"IFERROR(INDEX(العاملين!$B$2:'العاملين'!$B$999,SMALL(IF(العاملين!$G$2:'العاملين'!$G$999=\"Sun\",ROW(العاملين!$B$2:'العاملين'!$B$999)-ROW(العاملين!$B$2)+1),ROWS($C$2:C106))),\"\")","v":""},null,{"$f":"IFERROR(INDEX(العاملين!$B$2:'العاملين'!$B$999,SMALL(IF(العاملين!$G$2:'العاملين'!$G$999=\"Mon\",ROW(العاملين!$B$2:'العاملين'!$B$999)-ROW(العاملين!$B$2)+1),ROWS($E$2:E106))),\"\")","v":""},null,{"$f":"IFERROR(INDEX(العاملين!$B$2:'العاملين'!$B$999,SMALL(IF(العاملين!$G$2:'العاملين'!$G$999=\"Tue\",ROW(العاملين!$B$2:'العاملين'!$B$999)-ROW(العاملين!$B$2)+1),ROWS($G$2:G106))),\"\")","v":""},null,{"$f":"IFERROR(INDEX(العاملين!$B$2:'العاملين'!$B$999,SMALL(IF(العاملين!$G$2:'العاملين'!$G$999=\"Wed\",ROW(العاملين!$B$2:'العاملين'!$B$999)-ROW(العاملين!$B$2)+1),ROWS($I$2:I106))),\"\")","v":""},null,{"$f":"IFERROR(INDEX(العاملين!$B$2:'العاملين'!$B$999,SMALL(IF(العاملين!$G$2:'العاملين'!$G$999=\"Thu\",ROW(العاملين!$B$2:'العاملين'!$B$999)-ROW(العاملين!$B$2)+1),ROWS($K$2:K106))),\"\")","v":""},null,{"$f":"IFERROR(INDEX(العاملين!$B$2:'العاملين'!$B$999,SMALL(IF(العاملين!$G$2:'العاملين'!$G$999=\"Fri\",ROW(العاملين!$B$2:'العاملين'!$B$999)-ROW(العاملين!$B$2)+1),ROWS($M$2:M106))),\"\")","v":""}]
[null,null,{"$f":"IFERROR(INDEX(العاملين!$B$2:'العاملين'!$B$999,SMALL(IF(العاملين!$G$2:'العاملين'!$G$999=\"Sun\",ROW(العاملين!$B$2:'العاملين'!$B$999)-ROW(العاملين!$B$2)+1),ROWS($C$2:C107))),\"\")","v":""},null,{"$f":"IFERROR(INDEX(العاملين!$B$2:'العاملين'!$B$999,SMALL(IF(العاملين!$G$2:'العاملين'!$G$999=\"Mon\",ROW(العاملين!$B$2:'العاملين'!$B$999)-ROW(العاملين!$B$2)+1),ROWS($E$2:E107))),\"\")","v":""},null,{"$f":"IFERROR(INDEX(العاملين!$B$2:'العاملين'!$B$999,SMALL(IF(العاملين!$G$2:'العاملين'!$G$999=\"Tue\",ROW(العاملين!$B$2:'العاملين'!$B$999)-ROW(العاملين!$B$2)+1),ROWS($G$2:G107))),\"\")","v":""},null,{"$f":"IFERROR(INDEX(العاملين!$B$2:'العاملين'!$B$999,SMALL(IF(العاملين!$G$2:'العاملين'!$G$999=\"Wed\",ROW(العاملين!$B$2:'العاملين'!$B$999)-ROW(العاملين!$B$2)+1),ROWS($I$2:I107))),\"\")","v":""},null,{"$f":"IFERROR(INDEX(العاملين!$B$2:'العاملين'!$B$999,SMALL(IF(العاملين!$G$2:'العاملين'!$G$999=\"Thu\",ROW(العاملين!$B$2:'العاملين'!$B$999)-ROW(العاملين!$B$2)+1),ROWS($K$2:K107))),\"\")","v":""},null,{"$f":"IFERROR(INDEX(العاملين!$B$2:'العاملين'!$B$999,SMALL(IF(العاملين!$G$2:'العاملين'!$G$999=\"Fri\",ROW(العاملين!$B$2:'العاملين'!$B$999)-ROW(العاملين!$B$2)+1),ROWS($M$2:M107))),\"\")","v":""}]
[null,{"$f":"IFERROR(INDEX(العاملين!$B$2:'العاملين'!$B$999,SMALL(IF(العاملين!$G$2:'العاملين'!$G$999=\"Sat\",ROW(العاملين!$B$2:'العاملين'!$B$999)-ROW(العاملين!$B$2)+1),ROWS($B$2:B108))),\"\")","v":""},{"$f":"IFERROR(INDEX(العاملين!$B$2:'العاملين'!$B$999,SMALL(IF(العاملين!$G$2:'العاملين'!$G$999=\"Sun\",ROW(العاملين!$B$2:'العاملين'!$B$999)-ROW(العاملين!$B$2)+1),ROWS($C$2:C108))),\"\")","v":""},null,{"$f":"IFERROR(INDEX(العاملين!$B$2:'العاملين'!$B$999,SMALL(IF(العاملين!$G$2:'العاملين'!$G$999=\"Mon\",ROW(العاملين!$B$2:'العاملين'!$B$999)-ROW(العاملين!$B$2)+1),ROWS($E$2:E108))),\"\")","v":""},null,{"$f":"IFERROR(INDEX(العاملين!$B$2:'العاملين'!$B$999,SMALL(IF(العاملين!$G$2:'العاملين'!$G$999=\"Tue\",ROW(العاملين!$B$2:'العاملين'!$B$999)-ROW(العاملين!$B$2)+1),ROWS($G$2:G108))),\"\")","v":""},null,{"$f":"IFERROR(INDEX(العاملين!$B$2:'العاملين'!$B$999,SMALL(IF(العاملين!$G$2:'العاملين'!$G$999=\"Wed\",ROW(العاملين!$B$2:'العاملين'!$B$999)-ROW(العاملين!$B$2)+1),ROWS($I$2:I108))),\"\")","v":""},null,{"$f":"IFERROR(INDEX(العاملين!$B$2:'العاملين'!$B$999,SMALL(IF(العاملين!$G$2:'العاملين'!$G$999=\"Thu\",ROW(العاملين!$B$2:'العاملين'!$B$999)-ROW(العاملين!$B$2)+1),ROWS($K$2:K108))),\"\")","v":""},null,{"$f":"IFERROR(INDEX(العاملين!$B$2:'العاملين'!$B$999,SMALL(IF(العاملين!$G$2:'العاملين'!$G$999=\"Fri\",ROW(العاملين!$B$2:'العاملين'!$B$999)-ROW(العاملين!$B$2)+1),ROWS($M$2:M108))),\"\")","v":""}]
[null,{"$f":"IFERROR(INDEX(العاملين!$B$2:'العاملين'!$B$999,SMALL(IF(العاملين!$G$2:'العاملين'!$G$999=\"Sat\",ROW(العاملين!$B$2:'العاملين'!$B$999)-ROW(العاملين!$B$2)+1),ROWS($B$2:B109))),\"\")","v":""},{"$f":"IFERROR(INDEX(العاملين!$B$2:'العاملين'!$B$999,SMALL(IF(العاملين!$G$2:'العاملين'!$G$999=\"Sun\",ROW(العاملين!$B$2:'العاملين'!$B$999)-ROW(العاملين!$B$2)+1),ROWS($C$2:C109))),\"\")","v":""},null,{"$f":"IFERROR(INDEX(العاملين!$B$2:'العاملين'!$B$999,SMALL(IF(العاملين!$G$2:'العاملين'!$G$999=\"Mon\",ROW(العاملين!$B$2:'العاملين'!$B$999)-ROW(العاملين!$B$2)+1),ROWS($E$2:E109))),\"\")","v":""},null,{"$f":"IFERROR(INDEX(العاملين!$B$2:'العاملين'!$B$999,SMALL(IF(العاملين!$G$2:'العاملين'!$G$999=\"Tue\",ROW(العاملين!$B$2:'العاملين'!$B$999)-ROW(العاملين!$B$2)+1),ROWS($G$2:G109))),\"\")","v":""},null,{"$f":"IFERROR(INDEX(العاملين!$B$2:'العاملين'!$B$999,SMALL(IF(العاملين!$G$2:'العاملين'!$G$999=\"Wed\",ROW(العاملين!$B$2:'العاملين'!$B$999)-ROW(العاملين!$B$2)+1),ROWS($I$2:I109))),\"\")","v":""},null,{"$f":"IFERROR(INDEX(العاملين!$B$2:'العاملين'!$B$999,SMALL(IF(العاملين!$G$2:'العاملين'!$G$999=\"Thu\",ROW(العاملين!$B$2:'العاملين'!$B$999)-ROW(العاملين!$B$2)+1),ROWS($K$2:K109))),\"\")","v":""},null,{"$f":"IFERROR(INDEX(العاملين!$B$2:'العاملين'!$B$999,SMALL(IF(العاملين!$G$2:'العاملين'!$G$999=\"Fri\",ROW(العاملين!$B$2:'العاملين'!$B$999)-ROW(العاملين!$B$2)+1),ROWS($M$2:M109))),\"\")","v":""}]
[null,{"$f":"IFERROR(INDEX(العاملين!$B$2:'العاملين'!$B$999,SMALL(IF(العاملين!$G$2:'العاملين'!$G$999=\"Sat\",ROW(العاملين!$B$2:'العاملين'!$B$999)-ROW(العاملين!$B$2)+1),ROWS($B$2:B110))),\"\")","v":""},{"$f":"IFERROR(INDEX(العاملين!$B$2:'العاملين'!$B$999,SMALL(IF(العاملين!$G$2:'العاملين'!$G$999=\"Sun\",ROW(العاملين!$B$2:'العاملين'!$B$999)-ROW(العاملين!$B$2)+1),ROWS($C$2:C110))),\"\")","v":""},null,{"$f":"IFERROR(INDEX(العاملين!$B$2:'العاملين'!$B$999,SMALL(IF(العاملين!$G$2:'العاملين'!$G$999=\"Mon\",ROW(العاملين!$B$2:'العاملين'!$B$999)-ROW(العاملين!$B$2)+1),ROWS($E$2:E110))),\"\")","v":""},null,{"$f":"IFERROR(INDEX(العاملين!$B$2:'العاملين'!$B$999,SMALL(IF(العاملين!$G$2:'العاملين'!$G$999=\"Tue\",ROW(العاملين!$B$2:'العاملين'!$B$999)-ROW(العاملين!$B$2)+1),ROWS($G$2:G110))),\"\")","v":""},null,{"$f":"IFERROR(INDEX(العاملين!$B$2:'العاملين'!$B$999,SMALL(IF(العاملين!$G$2:'العاملين'!$G$999=\"Wed\",ROW(العاملين!$B$2:'العاملين'!$B$999)-ROW(العاملين!$B$2)+1),ROWS($I$2:I110))),\"\")","v":""},null,{"$f":"IFERROR(INDEX(العاملين!$B$2:'العاملين'!$B$999,SMALL(IF(العاملين!$G$2:'العاملين'!$G$999=\"Thu\",ROW(العاملين!$B$2:'العاملين'!$B$999)-ROW(العاملين!$B$2)+1),ROWS($K$2:K110))),\"\")","v":""},null,{"$f":"IFERROR(INDEX(العاملين!$B$2:'العاملين'!$B$999,SMALL(IF(العاملين!$G$2:'العاملين'!$G$999=\"Fri\",ROW(العاملين!$B$2:'العاملين'!$B$999)-ROW(العاملين!$B$2)+1),ROWS($M$2:M110))),\"\")","v":""}]
[null,{"$f":"IFERROR(INDEX(العاملين!$B$2:'العاملين'!$B$999,SMALL(IF(العاملين!$G$2:'العاملين'!$G$999=\"Sat\",ROW(العاملين!$B$2:'العاملين'!$B$999)-ROW(العاملين!$B$2)+1),ROWS($B$2:B111))),\"\")","v":""},{"$f":"IFERROR(INDEX(العاملين!$B$2:'العاملين'!$B$999,SMALL(IF(العاملين!$G$2:'العاملين'!$G$999=\"Sun\",ROW(العاملين!$B$2:'العاملين'!$B$999)-ROW(العاملين!$B$2)+1),ROWS($C$2:C111))),\"\")","v":""},null,{"$f":"IFERROR(INDEX(العاملين!$B$2:'العاملين'!$B$999,SMALL(IF(العاملين!$G$2:'العاملين'!$G$999=\"Mon\",ROW(العاملين!$B$2:'العاملين'!$B$999)-ROW(العاملين!$B$2)+1),ROWS($E$2:E111))),\"\")","v":""},null,{"$f":"IFERROR(INDEX(العاملين!$B$2:'العاملين'!$B$999,SMALL(IF(العاملين!$G$2:'العاملين'!$G$999=\"Tue\",ROW(العاملين!$B$2:'العاملين'!$B$999)-ROW(العاملين!$B$2)+1),ROWS($G$2:G111))),\"\")","v":""},null,{"$f":"IFERROR(INDEX(العاملين!$B$2:'العاملين'!$B$999,SMALL(IF(العاملين!$G$2:'العاملين'!$G$999=\"Wed\",ROW(العاملين!$B$2:'العاملين'!$B$999)-ROW(العاملين!$B$2)+1),ROWS($I$2:I111))),\"\")","v":""},null,{"$f":"IFERROR(INDEX(العاملين!$B$2:'العاملين'!$B$999,SMALL(IF(العاملين!$G$2:'العاملين'!$G$999=\"Thu\",ROW(العاملين!$B$2:'العاملين'!$B$999)-ROW(العاملين!$B$2)+1),ROWS($K$2:K111))),\"\")","v":""},null,{"$f":"IFERROR(INDEX(العاملين!$B$2:'العاملين'!$B$999,SMALL(IF(العاملين!$G$2:'العاملين'!$G$999=\"Fri\",ROW(العاملين!$B$2:'العاملين'!$B$999)-ROW(العاملين!$B$2)+1),ROWS($M$2:M111))),\"\")","v":""}]
[null,{"$f":"IFERROR(INDEX(العاملين!$B$2:'العاملين'!$B$999,SMALL(IF(العاملين!$G$2:'العاملين'!$G$999=\"Sat\",ROW(العاملين!$B$2:'العاملين'!$B$999)-ROW(العاملين!$B$2)+1),ROWS($B$2:B112))),\"\")","v":""},{"$f":"IFERROR(INDEX(العاملين!$B$2:'العاملين'!$B$999,SMALL(IF(العاملين!$G$2:'العاملين'!$G$999=\"Sun\",ROW(العاملين!$B$2:'العاملين'!$B$999)-ROW(العاملين!$B$2)+1),ROWS($C$2:C112))),\"\")","v":""},null,{"$f":"IFERROR(INDEX(العاملين!$B$2:'العاملين'!$B$999,SMALL(IF(العاملين!$G$2:'العاملين'!$G$999=\"Mon\",ROW(العاملين!$B$2:'العاملين'!$B$999)-ROW(العاملين!$B$2)+1),ROWS($E$2:E112))),\"\")","v":""},null,{"$f":"IFERROR(INDEX(العاملين!$B$2:'العاملين'!$B$999,SMALL(IF(العاملين!$G$2:'العاملين'!$G$999=\"Tue\",ROW(العاملين!$B$2:'العاملين'!$B$999)-ROW(العاملين!$B$2)+1),ROWS($G$2:G112))),\"\")","v":""},null,{"$f":"IFERROR(INDEX(العاملين!$B$2:'العاملين'!$B$999,SMALL(IF(العاملين!$G$2:'العاملين'!$G$999=\"Wed\",ROW(العاملين!$B$2:'العاملين'!$B$999)-ROW(العاملين!$B$2)+1),ROWS($I$2:I112))),\"\")","v":""},null,{"$f":"IFERROR(INDEX(العاملين!$B$2:'العاملين'!$B$999,SMALL(IF(العاملين!$G$2:'العاملين'!$G$999=\"Thu\",ROW(العاملين!$B$2:'العاملين'!$B$999)-ROW(العاملين!$B$2)+1),ROWS($K$2:K112))),\"\")","v":""},null,{"$f":"IFERROR(INDEX(العاملين!$B$2:'العاملين'!$B$999,SMALL(IF(العاملين!$G$2:'العاملين'!$G$999=\"Fri\",ROW(العاملين!$B$2:'العاملين'!$B$999)-ROW(العاملين!$B$2)+1),ROWS($M$2:M112))),\"\")","v":""}]
[null,{"$f":"IFERROR(INDEX(العاملين!$B$2:'العاملين'!$B$999,SMALL(IF(العاملين!$G$2:'العاملين'!$G$999=\"Sat\",ROW(العاملين!$B$2:'العاملين'!$B$999)-ROW(العاملين!$B$2)+1),ROWS($B$2:B113))),\"\")","v":""},{"$f":"IFERROR(INDEX(العاملين!$B$2:'العاملين'!$B$999,SMALL(IF(العاملين!$G$2:'العاملين'!$G$999=\"Sun\",ROW(العاملين!$B$2:'العاملين'!$B$999)-ROW(العاملين!$B$2)+1),ROWS($C$2:C113))),\"\")","v":""},null,{"$f":"IFERROR(INDEX(العاملين!$B$2:'العاملين'!$B$999,SMALL(IF(العاملين!$G$2:'العاملين'!$G$999=\"Mon\",ROW(العاملين!$B$2:'العاملين'!$B$999)-ROW(العاملين!$B$2)+1),ROWS($E$2:E113))),\"\")","v":""},null,{"$f":"IFERROR(INDEX(العاملين!$B$2:'العاملين'!$B$999,SMALL(IF(العاملين!$G$2:'العاملين'!$G$999=\"Tue\",ROW(العاملين!$B$2:'العاملين'!$B$999)-ROW(العاملين!$B$2)+1),ROWS($G$2:G113))),\"\")","v":""},null,{"$f":"IFERROR(INDEX(العاملين!$B$2:'العاملين'!$B$999,SMALL(IF(العاملين!$G$2:'العاملين'!$G$999=\"Wed\",ROW(العاملين!$B$2:'العاملين'!$B$999)-ROW(العاملين!$B$2)+1),ROWS($I$2:I113))),\"\")","v":""},null,{"$f":"IFERROR(INDEX(العاملين!$B$2:'العاملين'!$B$999,SMALL(IF(العاملين!$G$2:'العاملين'!$G$999=\"Thu\",ROW(العاملين!$B$2:'العاملين'!$B$999)-ROW(العاملين!$B$2)+1),ROWS($K$2:K113))),\"\")","v":""},null,{"$f":"IFERROR(INDEX(العاملين!$B$2:'العاملين'!$B$999,SMALL(IF(العاملين!$G$2:'العاملين'!$G$999=\"Fri\",ROW(العاملين!$B$2:'العاملين'!$B$999)-ROW(العاملين!$B$2)+1),ROWS($M$2:M113))),\"\")","v":""}]
[null,{"$f":"IFERROR(INDEX(العاملين!$B$2:'العاملين'!$B$999,SMALL(IF(العاملين!$G$2:'العاملين'!$G$999=\"Sat\",ROW(العاملين!$B$2:'العاملين'!$B$999)-ROW(العاملين!$B$2)+1),ROWS($B$2:B114))),\"\")","v":""},{"$f":"IFERROR(INDEX(العاملين!$B$2:'العاملين'!$B$999,SMALL(IF(العاملين!$G$2:'العاملين'!$G$999=\"Sun\",ROW(العاملين!$B$2:'العاملين'!$B$999)-ROW(العاملين!$B$2)+1),ROWS($C$2:C114))),\"\")","v":""},null,{"$f":"IFERROR(INDEX(العاملين!$B$2:'العاملين'!$B$999,SMALL(IF(العاملين!$G$2:'العاملين'!$G$999=\"Mon\",ROW(العاملين!$B$2:'العاملين'!$B$999)-ROW(العاملين!$B$2)+1),ROWS($E$2:E114))),\"\")","v":""},null,{"$f":"IFERROR(INDEX(العاملين!$B$2:'العاملين'!$B$999,SMALL(IF(العاملين!$G$2:'العاملين'!$G$999=\"Tue\",ROW(العاملين!$B$2:'العاملين'!$B$999)-ROW(العاملين!$B$2)+1),ROWS($G$2:G114))),\"\")","v":""},null,{"$f":"IFERROR(INDEX(العاملين!$B$2:'العاملين'!$B$999,SMALL(IF(العاملين!$G$2:'العاملين'!$G$999=\"Wed\",ROW(العاملين!$B$2:'العاملين'!$B$999)-ROW(العاملين!$B$2)+1),ROWS($I$2:I114))),\"\")","v":""},null,{"$f":"IFERROR(INDEX(العاملين!$B$2:'العاملين'!$B$999,SMALL(IF(العاملين!$G$2:'العاملين'!$G$999=\"Thu\",ROW(العاملين!$B$2:'العاملين'!$B$999)-ROW(العاملين!$B$2)+1),ROWS($K$2:K114))),\"\")","v":""},null,{"$f":"IFERROR(INDEX(العاملين!$B$2:'العاملين'!$B$999,SMALL(IF(العاملين!$G$2:'العاملين'!$G$999=\"Fri\",ROW(العاملين!$B$2:'العاملين'!$B$999)-ROW(العاملين!$B$2)+1),ROWS($M$2:M114))),\"\")","v":""}]
[null,{"$f":"IFERROR(INDEX(العاملين!$B$2:'العاملين'!$B$999,SMALL(IF(العاملين!$G$2:'العاملين'!$G$999=\"Sat\",ROW(العاملين!$B$2:'العاملين'!$B$999)-ROW(العاملين!$B$2)+1),ROWS($B$2:B115))),\"\")","v":""},{"$f":"IFERROR(INDEX(العاملين!$B$2:'العاملين'!$B$999,SMALL(IF(العاملين!$G$2:'العاملين'!$G$999=\"Sun\",ROW(العاملين!$B$2:'العاملين'!$B$999)-ROW(العاملين!$B$2)+1),ROWS($C$2:C115))),\"\")","v":""},null,{"$f":"IFERROR(INDEX(العاملين!$B$2:'العاملين'!$B$999,SMALL(IF(العاملين!$G$2:'العاملين'!$G$999=\"Mon\",ROW(العاملين!$B$2:'العاملين'!$B$999)-ROW(العاملين!$B$2)+1),ROWS($E$2:E115))),\"\")","v":""},null,{"$f":"IFERROR(INDEX(العاملين!$B$2:'العاملين'!$B$999,SMALL(IF(العاملين!$G$2:'العاملين'!$G$999=\"Tue\",ROW(العاملين!$B$2:'العاملين'!$B$999)-ROW(العاملين!$B$2)+1),ROWS($G$2:G115))),\"\")","v":""},null,{"$f":"IFERROR(INDEX(العاملين!$B$2:'العاملين'!$B$999,SMALL(IF(العاملين!$G$2:'العاملين'!$G$999=\"Wed\",ROW(العاملين!$B$2:'العاملين'!$B$999)-ROW(العاملين!$B$2)+1),ROWS($I$2:I115))),\"\")","v":""},null,{"$f":"IFERROR(INDEX(العاملين!$B$2:'العاملين'!$B$999,SMALL(IF(العاملين!$G$2:'العاملين'!$G$999=\"Thu\",ROW(العاملين!$B$2:'العاملين'!$B$999)-ROW(العاملين!$B$2)+1),ROWS($K$2:K115))),\"\")","v":""},null,{"$f":"IFERROR(INDEX(العاملين!$B$2:'العاملين'!$B$999,SMALL(IF(العاملين!$G$2:'العاملين'!$G$999=\"Fri\",ROW(العاملين!$B$2:'العاملين'!$B$999)-ROW(العاملين!$B$2)+1),ROWS($M$2:M115))),\"\")","v":""}]
[null,{"$f":"IFERROR(INDEX(العاملين!$B$2:'العاملين'!$B$999,SMALL(IF(العاملين!$G$2:'العاملين'!$G$999=\"Sat\",ROW(العاملين!$B$2:'العاملين'!$B$999)-ROW(العاملين!$B$2)+1),ROWS($B$2:B116))),\"\")","v":""},{"$f":"IFERROR(INDEX(العاملين!$B$2:'العاملين'!$B$999,SMALL(IF(العاملين!$G$2:'العاملين'!$G$999=\"Sun\",ROW(العاملين!$B$2:'العاملين'!$B$999)-ROW(العاملين!$B$2)+1),ROWS($C$2:C116))),\"\")","v":""},null,{"$f":"IFERROR(INDEX(العاملين!$B$2:'العاملين'!$B$999,SMALL(IF(العاملين!$G$2:'العاملين'!$G$999=\"Mon\",ROW(العاملين!$B$2:'العاملين'!$B$999)-ROW(العاملين!$B$2)+1),ROWS($E$2:E116))),\"\")","v":""},null,{"$f":"IFERROR(INDEX(العاملين!$B$2:'العاملين'!$B$999,SMALL(IF(العاملين!$G$2:'العاملين'!$G$999=\"Tue\",ROW(العاملين!$B$2:'العاملين'!$B$999)-ROW(العاملين!$B$2)+1),ROWS($G$2:G116))),\"\")","v":""},null,{"$f":"IFERROR(INDEX(العاملين!$B$2:'العاملين'!$B$999,SMALL(IF(العاملين!$G$2:'العاملين'!$G$999=\"Wed\",ROW(العاملين!$B$2:'العاملين'!$B$999)-ROW(العاملين!$B$2)+1),ROWS($I$2:I116))),\"\")","v":""},null,{"$f":"IFERROR(INDEX(العاملين!$B$2:'العاملين'!$B$999,SMALL(IF(العاملين!$G$2:'العاملين'!$G$999=\"Thu\",ROW(العاملين!$B$2:'العاملين'!$B$999)-ROW(العاملين!$B$2)+1),ROWS($K$2:K116))),\"\")","v":""},null,{"$f":"IFERROR(INDEX(العاملين!$B$2:'العاملين'!$B$999,SMALL(IF(العاملين!$G$2:'العاملين'!$G$999=\"Fri\",ROW(العاملين!$B$2:'العاملين'!$B$999)-ROW(العاملين!$B$2)+1),ROWS($M$2:M116))),\"\")","v":""}]
[null,{"$f":"IFERROR(INDEX(العاملين!$B$2:'العاملين'!$B$999,SMALL(IF(العاملين!$G$2:'العاملين'!$G$999=\"Sat\",ROW(العاملين!$B$2:'العاملين'!$B$999)-ROW(العاملين!$B$2)+1),ROWS($B$2:B117))),\"\")","v":""},{"$f":"IFERROR(INDEX(العاملين!$B$2:'العاملين'!$B$999,SMALL(IF(العاملين!$G$2:'العاملين'!$G$999=\"Sun\",ROW(العاملين!$B$2:'العاملين'!$B$999)-ROW(العاملين!$B$2)+1),ROWS($C$2:C117))),\"\")","v":""},null,{"$f":"IFERROR(INDEX(العاملين!$B$2:'العاملين'!$B$999,SMALL(IF(العاملين!$G$2:'العاملين'!$G$999=\"Mon\",ROW(العاملين!$B$2:'العاملين'!$B$999)-ROW(العاملين!$B$2)+1),ROWS($E$2:E117))),\"\")","v":""},null,{"$f":"IFERROR(INDEX(العاملين!$B$2:'العاملين'!$B$999,SMALL(IF(العاملين!$G$2:'العاملين'!$G$999=\"Tue\",ROW(العاملين!$B$2:'العاملين'!$B$999)-ROW(العاملين!$B$2)+1),ROWS($G$2:G117))),\"\")","v":""},null,{"$f":"IFERROR(INDEX(العاملين!$B$2:'العاملين'!$B$999,SMALL(IF(العاملين!$G$2:'العاملين'!$G$999=\"Wed\",ROW(العاملين!$B$2:'العاملين'!$B$999)-ROW(العاملين!$B$2)+1),ROWS($I$2:I117))),\"\")","v":""},null,{"$f":"IFERROR(INDEX(العاملين!$B$2:'العاملين'!$B$999,SMALL(IF(العاملين!$G$2:'العاملين'!$G$999=\"Thu\",ROW(العاملين!$B$2:'العاملين'!$B$999)-ROW(العاملين!$B$2)+1),ROWS($K$2:K117))),\"\")","v":""},null,{"$f":"IFERROR(INDEX(العاملين!$B$2:'العاملين'!$B$999,SMALL(IF(العاملين!$G$2:'العاملين'!$G$999=\"Fri\",ROW(العاملين!$B$2:'العاملين'!$B$999)-ROW(العاملين!$B$2)+1),ROWS($M$2:M117))),\"\")","v":""}]
[null,{"$f":"IFERROR(INDEX(العاملين!$B$2:'العاملين'!$B$999,SMALL(IF(العاملين!$G$2:'العاملين'!$G$999=\"Sat\",ROW(العاملين!$B$2:'العاملين'!$B$999)-ROW(العاملين!$B$2)+1),ROWS($B$2:B118))),\"\")","v":""},{"$f":"IFERROR(INDEX(العاملين!$B$2:'العاملين'!$B$999,SMALL(IF(العاملين!$G$2:'العاملين'!$G$999=\"Sun\",ROW(العاملين!$B$2:'العاملين'!$B$999)-ROW(العاملين!$B$2)+1),ROWS($C$2:C118))),\"\")","v":""},null,{"$f":"IFERROR(INDEX(العاملين!$B$2:'العاملين'!$B$999,SMALL(IF(العاملين!$G$2:'العاملين'!$G$999=\"Mon\",ROW(العاملين!$B$2:'العاملين'!$B$999)-ROW(العاملين!$B$2)+1),ROWS($E$2:E118))),\"\")","v":""},null,{"$f":"IFERROR(INDEX(العاملين!$B$2:'العاملين'!$B$999,SMALL(IF(العاملين!$G$2:'العاملين'!$G$999=\"Tue\",ROW(العاملين!$B$2:'العاملين'!$B$999)-ROW(العاملين!$B$2)+1),ROWS($G$2:G118))),\"\")","v":""},null,{"$f":"IFERROR(INDEX(العاملين!$B$2:'العاملين'!$B$999,SMALL(IF(العاملين!$G$2:'العاملين'!$G$999=\"Wed\",ROW(العاملين!$B$2:'العاملين'!$B$999)-ROW(العاملين!$B$2)+1),ROWS($I$2:I118))),\"\")","v":""},null,{"$f":"IFERROR(INDEX(العاملين!$B$2:'العاملين'!$B$999,SMALL(IF(العاملين!$G$2:'العاملين'!$G$999=\"Thu\",ROW(العاملين!$B$2:'العاملين'!$B$999)-ROW(العاملين!$B$2)+1),ROWS($K$2:K118))),\"\")","v":""},null,{"$f":"IFERROR(INDEX(العاملين!$B$2:'العاملين'!$B$999,SMALL(IF(العاملين!$G$2:'العاملين'!$G$999=\"Fri\",ROW(العاملين!$B$2:'العاملين'!$B$999)-ROW(العاملين!$B$2)+1),ROWS($M$2:M118))),\"\")","v":""}]
[null,{"$f":"IFERROR(INDEX(العاملين!$B$2:'العاملين'!$B$999,SMALL(IF(العاملين!$G$2:'العاملين'!$G$999=\"Sat\",ROW(العاملين!$B$2:'العاملين'!$B$999)-ROW(العاملين!$B$2)+1),ROWS($B$2:B119))),\"\")","v":""},{"$f":"IFERROR(INDEX(العاملين!$B$2:'العاملين'!$B$999,SMALL(IF(العاملين!$G$2:'العاملين'!$G$999=\"Sun\",ROW(العاملين!$B$2:'العاملين'!$B$999)-ROW(العاملين!$B$2)+1),ROWS($C$2:C119))),\"\")","v":""},null,{"$f":"IFERROR(INDEX(العاملين!$B$2:'العاملين'!$B$999,SMALL(IF(العاملين!$G$2:'العاملين'!$G$999=\"Mon\",ROW(العاملين!$B$2:'العاملين'!$B$999)-ROW(العاملين!$B$2)+1),ROWS($E$2:E119))),\"\")","v":""},null,{"$f":"IFERROR(INDEX(العاملين!$B$2:'العاملين'!$B$999,SMALL(IF(العاملين!$G$2:'العاملين'!$G$999=\"Tue\",ROW(العاملين!$B$2:'العاملين'!$B$999)-ROW(العاملين!$B$2)+1),ROWS($G$2:G119))),\"\")","v":""},null,{"$f":"IFERROR(INDEX(العاملين!$B$2:'العاملين'!$B$999,SMALL(IF(العاملين!$G$2:'العاملين'!$G$999=\"Wed\",ROW(العاملين!$B$2:'العاملين'!$B$999)-ROW(العاملين!$B$2)+1),ROWS($I$2:I119))),\"\")","v":""},null,{"$f":"IFERROR(INDEX(العاملين!$B$2:'العاملين'!$B$999,SMALL(IF(العاملين!$G$2:'العاملين'!$G$999=\"Thu\",ROW(العاملين!$B$2:'العاملين'!$B$999)-ROW(العاملين!$B$2)+1),ROWS($K$2:K119))),\"\")","v":""},null,{"$f":"IFERROR(INDEX(العاملين!$B$2:'العاملين'!$B$999,SMALL(IF(العاملين!$G$2:'العاملين'!$G$999=\"Fri\",ROW(العاملين!$B$2:'العاملين'!$B$999)-ROW(العاملين!$B$2)+1),ROWS($M$2:M119))),\"\")","v":""}]
[null,{"$f":"IFERROR(INDEX(العاملين!$B$2:'العاملين'!$B$999,SMALL(IF(العاملين!$G$2:'العاملين'!$G$999=\"Sat\",ROW(العاملين!$B$2:'العاملين'!$B$999)-ROW(العاملين!$B$2)+1),ROWS($B$2:B120))),\"\")","v":""},{"$f":"IFERROR(INDEX(العاملين!$B$2:'العاملين'!$B$999,SMALL(IF(العاملين!$G$2:'العاملين'!$G$999=\"Sun\",ROW(العاملين!$B$2:'العاملين'!$B$999)-ROW(العاملين!$B$2)+1),ROWS($C$2:C120))),\"\")","v":""},null,{"$f":"IFERROR(INDEX(العاملين!$B$2:'العاملين'!$B$999,SMALL(IF(العاملين!$G$2:'العاملين'!$G$999=\"Mon\",ROW(العاملين!$B$2:'العاملين'!$B$999)-ROW(العاملين!$B$2)+1),ROWS($E$2:E120))),\"\")","v":""},null,{"$f":"IFERROR(INDEX(العاملين!$B$2:'العاملين'!$B$999,SMALL(IF(العاملين!$G$2:'العاملين'!$G$999=\"Tue\",ROW(العاملين!$B$2:'العاملين'!$B$999)-ROW(العاملين!$B$2)+1),ROWS($G$2:G120))),\"\")","v":""},null,{"$f":"IFERROR(INDEX(العاملين!$B$2:'العاملين'!$B$999,SMALL(IF(العاملين!$G$2:'العاملين'!$G$999=\"Wed\",ROW(العاملين!$B$2:'العاملين'!$B$999)-ROW(العاملين!$B$2)+1),ROWS($I$2:I120))),\"\")","v":""},null,{"$f":"IFERROR(INDEX(العاملين!$B$2:'العاملين'!$B$999,SMALL(IF(العاملين!$G$2:'العاملين'!$G$999=\"Thu\",ROW(العاملين!$B$2:'العاملين'!$B$999)-ROW(العاملين!$B$2)+1),ROWS($K$2:K120))),\"\")","v":""},null,{"$f":"IFERROR(INDEX(العاملين!$B$2:'العاملين'!$B$999,SMALL(IF(العاملين!$G$2:'العاملين'!$G$999=\"Fri\",ROW(العاملين!$B$2:'العاملين'!$B$999)-ROW(العاملين!$B$2)+1),ROWS($M$2:M120))),\"\")","v":""}]
[null,{"$f":"IFERROR(INDEX(العاملين!$B$2:'العاملين'!$B$999,SMALL(IF(العاملين!$G$2:'العاملين'!$G$999=\"Sat\",ROW(العاملين!$B$2:'العاملين'!$B$999)-ROW(العاملين!$B$2)+1),ROWS($B$2:B121))),\"\")","v":""},{"$f":"IFERROR(INDEX(العاملين!$B$2:'العاملين'!$B$999,SMALL(IF(العاملين!$G$2:'العاملين'!$G$999=\"Sun\",ROW(العاملين!$B$2:'العاملين'!$B$999)-ROW(العاملين!$B$2)+1),ROWS($C$2:C121))),\"\")","v":""},null,{"$f":"IFERROR(INDEX(العاملين!$B$2:'العاملين'!$B$999,SMALL(IF(العاملين!$G$2:'العاملين'!$G$999=\"Mon\",ROW(العاملين!$B$2:'العاملين'!$B$999)-ROW(العاملين!$B$2)+1),ROWS($E$2:E121))),\"\")","v":""},null,{"$f":"IFERROR(INDEX(العاملين!$B$2:'العاملين'!$B$999,SMALL(IF(العاملين!$G$2:'العاملين'!$G$999=\"Tue\",ROW(العاملين!$B$2:'العاملين'!$B$999)-ROW(العاملين!$B$2)+1),ROWS($G$2:G121))),\"\")","v":""},null,{"$f":"IFERROR(INDEX(العاملين!$B$2:'العاملين'!$B$999,SMALL(IF(العاملين!$G$2:'العاملين'!$G$999=\"Wed\",ROW(العاملين!$B$2:'العاملين'!$B$999)-ROW(العاملين!$B$2)+1),ROWS($I$2:I121))),\"\")","v":""},null,{"$f":"IFERROR(INDEX(العاملين!$B$2:'العاملين'!$B$999,SMALL(IF(العاملين!$G$2:'العاملين'!$G$999=\"Thu\",ROW(العاملين!$B$2:'العاملين'!$B$999)-ROW(العاملين!$B$2)+1),ROWS($K$2:K121))),\"\")","v":""},null,{"$f":"IFERROR(INDEX(العاملين!$B$2:'العاملين'!$B$999,SMALL(IF(العاملين!$G$2:'العاملين'!$G$999=\"Fri\",ROW(العاملين!$B$2:'العاملين'!$B$999)-ROW(العاملين!$B$2)+1),ROWS($M$2:M121))),\"\")","v":""}]
[null,{"$f":"IFERROR(INDEX(العاملين!$B$2:'العاملين'!$B$999,SMALL(IF(العاملين!$G$2:'العاملين'!$G$999=\"Sat\",ROW(العاملين!$B$2:'العاملين'!$B$999)-ROW(العاملين!$B$2)+1),ROWS($B$2:B122))),\"\")","v":""},{"$f":"IFERROR(INDEX(العاملين!$B$2:'العاملين'!$B$999,SMALL(IF(العاملين!$G$2:'العاملين'!$G$999=\"Sun\",ROW(العاملين!$B$2:'العاملين'!$B$999)-ROW(العاملين!$B$2)+1),ROWS($C$2:C122))),\"\")","v":""},null,{"$f":"IFERROR(INDEX(العاملين!$B$2:'العاملين'!$B$999,SMALL(IF(العاملين!$G$2:'العاملين'!$G$999=\"Mon\",ROW(العاملين!$B$2:'العاملين'!$B$999)-ROW(العاملين!$B$2)+1),ROWS($E$2:E122))),\"\")","v":""},null,{"$f":"IFERROR(INDEX(العاملين!$B$2:'العاملين'!$B$999,SMALL(IF(العاملين!$G$2:'العاملين'!$G$999=\"Tue\",ROW(العاملين!$B$2:'العاملين'!$B$999)-ROW(العاملين!$B$2)+1),ROWS($G$2:G122))),\"\")","v":""},null,{"$f":"IFERROR(INDEX(العاملين!$B$2:'العاملين'!$B$999,SMALL(IF(العاملين!$G$2:'العاملين'!$G$999=\"Wed\",ROW(العاملين!$B$2:'العاملين'!$B$999)-ROW(العاملين!$B$2)+1),ROWS($I$2:I122))),\"\")","v":""},null,{"$f":"IFERROR(INDEX(العاملين!$B$2:'العاملين'!$B$999,SMALL(IF(العاملين!$G$2:'العاملين'!$G$999=\"Thu\",ROW(العاملين!$B$2:'العاملين'!$B$999)-ROW(العاملين!$B$2)+1),ROWS($K$2:K122))),\"\")","v":""},null,{"$f":"IFERROR(INDEX(العاملين!$B$2:'العاملين'!$B$999,SMALL(IF(العاملين!$G$2:'العاملين'!$G$999=\"Fri\",ROW(العاملين!$B$2:'العاملين'!$B$999)-ROW(العاملين!$B$2)+1),ROWS($M$2:M122))),\"\")","v":""}]
[null,{"$f":"IFERROR(INDEX(العاملين!$B$2:'العاملين'!$B$999,SMALL(IF(العاملين!$G$2:'العاملين'!$G$999=\"Sat\",ROW(العاملين!$B$2:'العاملين'!$B$999)-ROW(العاملين!$B$2)+1),ROWS($B$2:B123))),\"\")","v":""},{"$f":"IFERROR(INDEX(العاملين!$B$2:'العاملين'!$B$999,SMALL(IF(العاملين!$G$2:'العاملين'!$G$999=\"Sun\",ROW(العاملين!$B$2:'العاملين'!$B$999)-ROW(العاملين!$B$2)+1),ROWS($C$2:C123))),\"\")","v":""},null,{"$f":"IFERROR(INDEX(العاملين!$B$2:'العاملين'!$B$999,SMALL(IF(العاملين!$G$2:'العاملين'!$G$999=\"Mon\",ROW(العاملين!$B$2:'العاملين'!$B$999)-ROW(العاملين!$B$2)+1),ROWS($E$2:E123))),\"\")","v":""},null,{"$f":"IFERROR(INDEX(العاملين!$B$2:'العاملين'!$B$999,SMALL(IF(العاملين!$G$2:'العاملين'!$G$999=\"Tue\",ROW(العاملين!$B$2:'العاملين'!$B$999)-ROW(العاملين!$B$2)+1),ROWS($G$2:G123))),\"\")","v":""},null,{"$f":"IFERROR(INDEX(العاملين!$B$2:'العاملين'!$B$999,SMALL(IF(العاملين!$G$2:'العاملين'!$G$999=\"Wed\",ROW(العاملين!$B$2:'العاملين'!$B$999)-ROW(العاملين!$B$2)+1),ROWS($I$2:I123))),\"\")","v":""},null,{"$f":"IFERROR(INDEX(العاملين!$B$2:'العاملين'!$B$999,SMALL(IF(العاملين!$G$2:'العاملين'!$G$999=\"Thu\",ROW(العاملين!$B$2:'العاملين'!$B$999)-ROW(العاملين!$B$2)+1),ROWS($K$2:K123))),\"\")","v":""},null,{"$f":"IFERROR(INDEX(العاملين!$B$2:'العاملين'!$B$999,SMALL(IF(العاملين!$G$2:'العاملين'!$G$999=\"Fri\",ROW(العاملين!$B$2:'العاملين'!$B$999)-ROW(العاملين!$B$2)+1),ROWS($M$2:M123))),\"\")","v":""}]
[null,{"$f":"IFERROR(INDEX(العاملين!$B$2:'العاملين'!$B$999,SMALL(IF(العاملين!$G$2:'العاملين'!$G$999=\"Sat\",ROW(العاملين!$B$2:'العاملين'!$B$999)-ROW(العاملين!$B$2)+1),ROWS($B$2:B124))),\"\")","v":""},{"$f":"IFERROR(INDEX(العاملين!$B$2:'العاملين'!$B$999,SMALL(IF(العاملين!$G$2:'العاملين'!$G$999=\"Sun\",ROW(العاملين!$B$2:'العاملين'!$B$999)-ROW(العاملين!$B$2)+1),ROWS($C$2:C124))),\"\")","v":""},null,{"$f":"IFERROR(INDEX(العاملين!$B$2:'العاملين'!$B$999,SMALL(IF(العاملين!$G$2:'العاملين'!$G$999=\"Mon\",ROW(العاملين!$B$2:'العاملين'!$B$999)-ROW(العاملين!$B$2)+1),ROWS($E$2:E124))),\"\")","v":""},null,{"$f":"IFERROR(INDEX(العاملين!$B$2:'العاملين'!$B$999,SMALL(IF(العاملين!$G$2:'العاملين'!$G$999=\"Tue\",ROW(العاملين!$B$2:'العاملين'!$B$999)-ROW(العاملين!$B$2)+1),ROWS($G$2:G124))),\"\")","v":""},null,{"$f":"IFERROR(INDEX(العاملين!$B$2:'العاملين'!$B$999,SMALL(IF(العاملين!$G$2:'العاملين'!$G$999=\"Wed\",ROW(العاملين!$B$2:'العاملين'!$B$999)-ROW(العاملين!$B$2)+1),ROWS($I$2:I124))),\"\")","v":""},null,{"$f":"IFERROR(INDEX(العاملين!$B$2:'العاملين'!$B$999,SMALL(IF(العاملين!$G$2:'العاملين'!$G$999=\"Thu\",ROW(العاملين!$B$2:'العاملين'!$B$999)-ROW(العاملين!$B$2)+1),ROWS($K$2:K124))),\"\")","v":""},null,{"$f":"IFERROR(INDEX(العاملين!$B$2:'العاملين'!$B$999,SMALL(IF(العاملين!$G$2:'العاملين'!$G$999=\"Fri\",ROW(العاملين!$B$2:'العاملين'!$B$999)-ROW(العاملين!$B$2)+1),ROWS($M$2:M124))),\"\")","v":""}]
[null,{"$f":"IFERROR(INDEX(العاملين!$B$2:'العاملين'!$B$999,SMALL(IF(العاملين!$G$2:'العاملين'!$G$999=\"Sat\",ROW(العاملين!$B$2:'العاملين'!$B$999)-ROW(العاملين!$B$2)+1),ROWS($B$2:B125))),\"\")","v":""},{"$f":"IFERROR(INDEX(العاملين!$B$2:'العاملين'!$B$999,SMALL(IF(العاملين!$G$2:'العاملين'!$G$999=\"Sun\",ROW(العاملين!$B$2:'العاملين'!$B$999)-ROW(العاملين!$B$2)+1),ROWS($C$2:C125))),\"\")","v":""},null,{"$f":"IFERROR(INDEX(العاملين!$B$2:'العاملين'!$B$999,SMALL(IF(العاملين!$G$2:'العاملين'!$G$999=\"Mon\",ROW(العاملين!$B$2:'العاملين'!$B$999)-ROW(العاملين!$B$2)+1),ROWS($E$2:E125))),\"\")","v":""},null,{"$f":"IFERROR(INDEX(العاملين!$B$2:'العاملين'!$B$999,SMALL(IF(العاملين!$G$2:'العاملين'!$G$999=\"Tue\",ROW(العاملين!$B$2:'العاملين'!$B$999)-ROW(العاملين!$B$2)+1),ROWS($G$2:G125))),\"\")","v":""},null,{"$f":"IFERROR(INDEX(العاملين!$B$2:'العاملين'!$B$999,SMALL(IF(العاملين!$G$2:'العاملين'!$G$999=\"Wed\",ROW(العاملين!$B$2:'العاملين'!$B$999)-ROW(العاملين!$B$2)+1),ROWS($I$2:I125))),\"\")","v":""},null,{"$f":"IFERROR(INDEX(العاملين!$B$2:'العاملين'!$B$999,SMALL(IF(العاملين!$G$2:'العاملين'!$G$999=\"Thu\",ROW(العاملين!$B$2:'العاملين'!$B$999)-ROW(العاملين!$B$2)+1),ROWS($K$2:K125))),\"\")","v":""},null,{"$f":"IFERROR(INDEX(العاملين!$B$2:'العاملين'!$B$999,SMALL(IF(العاملين!$G$2:'العاملين'!$G$999=\"Fri\",ROW(العاملين!$B$2:'العاملين'!$B$999)-ROW(العاملين!$B$2)+1),ROWS($M$2:M125))),\"\")","v":""}]
[null,{"$f":"IFERROR(INDEX(العاملين!$B$2:'العاملين'!$B$999,SMALL(IF(العاملين!$G$2:'العاملين'!$G$999=\"Sat\",ROW(العاملين!$B$2:'العاملين'!$B$999)-ROW(العاملين!$B$2)+1),ROWS($B$2:B126))),\"\")","v":""},{"$f":"IFERROR(INDEX(العاملين!$B$2:'العاملين'!$B$999,SMALL(IF(العاملين!$G$2:'العاملين'!$G$999=\"Sun\",ROW(العاملين!$B$2:'العاملين'!$B$999)-ROW(العاملين!$B$2)+1),ROWS($C$2:C126))),\"\")","v":""},null,{"$f":"IFERROR(INDEX(العاملين!$B$2:'العاملين'!$B$999,SMALL(IF(العاملين!$G$2:'العاملين'!$G$999=\"Mon\",ROW(العاملين!$B$2:'العاملين'!$B$999)-ROW(العاملين!$B$2)+1),ROWS($E$2:E126))),\"\")","v":""},null,{"$f":"IFERROR(INDEX(العاملين!$B$2:'العاملين'!$B$999,SMALL(IF(العاملين!$G$2:'العاملين'!$G$999=\"Tue\",ROW(العاملين!$B$2:'العاملين'!$B$999)-ROW(العاملين!$B$2)+1),ROWS($G$2:G126))),\"\")","v":""},null,{"$f":"IFERROR(INDEX(العاملين!$B$2:'العاملين'!$B$999,SMALL(IF(العاملين!$G$2:'العاملين'!$G$999=\"Wed\",ROW(العاملين!$B$2:'العاملين'!$B$999)-ROW(العاملين!$B$2)+1),ROWS($I$2:I126))),\"\")","v":""},null,{"$f":"IFERROR(INDEX(العاملين!$B$2:'العاملين'!$B$999,SMALL(IF(العاملين!$G$2:'العاملين'!$G$999=\"Thu\",ROW(العاملين!$B$2:'العاملين'!$B$999)-ROW(العاملين!$B$2)+1),ROWS($K$2:K126))),\"\")","v":""},null,{"$f":"IFERROR(INDEX(العاملين!$B$2:'العاملين'!$B$999,SMALL(IF(العاملين!$G$2:'العاملين'!$G$999=\"Fri\",ROW(العاملين!$B$2:'العاملين'!$B$999)-ROW(العاملين!$B$2)+1),ROWS($M$2:M126))),\"\")","v":""}]
[null,{"$f":"IFERROR(INDEX(العاملين!$B$2:'العاملين'!$B$999,SMALL(IF(العاملين!$G$2:'العاملين'!$G$999=\"Sat\",ROW(العاملين!$B$2:'العاملين'!$B$999)-ROW(العاملين!$B$2)+1),ROWS($B$2:B127))),\"\")","v":""},{"$f":"IFERROR(INDEX(العاملين!$B$2:'العاملين'!$B$999,SMALL(IF(العاملين!$G$2:'العاملين'!$G$999=\"Sun\",ROW(العاملين!$B$2:'العاملين'!$B$999)-ROW(العاملين!$B$2)+1),ROWS($C$2:C127))),\"\")","v":""},null,{"$f":"IFERROR(INDEX(العاملين!$B$2:'العاملين'!$B$999,SMALL(IF(العاملين!$G$2:'العاملين'!$G$999=\"Mon\",ROW(العاملين!$B$2:'العاملين'!$B$999)-ROW(العاملين!$B$2)+1),ROWS($E$2:E127))),\"\")","v":""},null,{"$f":"IFERROR(INDEX(العاملين!$B$2:'العاملين'!$B$999,SMALL(IF(العاملين!$G$2:'العاملين'!$G$999=\"Tue\",ROW(العاملين!$B$2:'العاملين'!$B$999)-ROW(العاملين!$B$2)+1),ROWS($G$2:G127))),\"\")","v":""},null,{"$f":"IFERROR(INDEX(العاملين!$B$2:'العاملين'!$B$999,SMALL(IF(العاملين!$G$2:'العاملين'!$G$999=\"Wed\",ROW(العاملين!$B$2:'العاملين'!$B$999)-ROW(العاملين!$B$2)+1),ROWS($I$2:I127))),\"\")","v":""},null,{"$f":"IFERROR(INDEX(العاملين!$B$2:'العاملين'!$B$999,SMALL(IF(العاملين!$G$2:'العاملين'!$G$999=\"Thu\",ROW(العاملين!$B$2:'العاملين'!$B$999)-ROW(العاملين!$B$2)+1),ROWS($K$2:K127))),\"\")","v":""},null,{"$f":"IFERROR(INDEX(العاملين!$B$2:'العاملين'!$B$999,SMALL(IF(العاملين!$G$2:'العاملين'!$G$999=\"Fri\",ROW(العاملين!$B$2:'العاملين'!$B$999)-ROW(العاملين!$B$2)+1),ROWS($M$2:M127))),\"\")","v":""}]
[null,{"$f":"IFERROR(INDEX(العاملين!$B$2:'العاملين'!$B$999,SMALL(IF(العاملين!$G$2:'العاملين'!$G$999=\"Sat\",ROW(العاملين!$B$2:'العاملين'!$B$999)-ROW(العاملين!$B$2)+1),ROWS($B$2:B128))),\"\")","v":""},{"$f":"IFERROR(INDEX(العاملين!$B$2:'العاملين'!$B$999,SMALL(IF(العاملين!$G$2:'العاملين'!$G$999=\"Sun\",ROW(العاملين!$B$2:'العاملين'!$B$999)-ROW(العاملين!$B$2)+1),ROWS($C$2:C128))),\"\")","v":""},null,{"$f":"IFERROR(INDEX(العاملين!$B$2:'العاملين'!$B$999,SMALL(IF(العاملين!$G$2:'العاملين'!$G$999=\"Mon\",ROW(العاملين!$B$2:'العاملين'!$B$999)-ROW(العاملين!$B$2)+1),ROWS($E$2:E128))),\"\")","v":""},null,{"$f":"IFERROR(INDEX(العاملين!$B$2:'العاملين'!$B$999,SMALL(IF(العاملين!$G$2:'العاملين'!$G$999=\"Tue\",ROW(العاملين!$B$2:'العاملين'!$B$999)-ROW(العاملين!$B$2)+1),ROWS($G$2:G128))),\"\")","v":""},null,{"$f":"IFERROR(INDEX(العاملين!$B$2:'العاملين'!$B$999,SMALL(IF(العاملين!$G$2:'العاملين'!$G$999=\"Wed\",ROW(العاملين!$B$2:'العاملين'!$B$999)-ROW(العاملين!$B$2)+1),ROWS($I$2:I128))),\"\")","v":""},null,{"$f":"IFERROR(INDEX(العاملين!$B$2:'العاملين'!$B$999,SMALL(IF(العاملين!$G$2:'العاملين'!$G$999=\"Thu\",ROW(العاملين!$B$2:'العاملين'!$B$999)-ROW(العاملين!$B$2)+1),ROWS($K$2:K128))),\"\")","v":""},null,{"$f":"IFERROR(INDEX(العاملين!$B$2:'العاملين'!$B$999,SMALL(IF(العاملين!$G$2:'العاملين'!$G$999=\"Fri\",ROW(العاملين!$B$2:'العاملين'!$B$999)-ROW(العاملين!$B$2)+1),ROWS($M$2:M128))),\"\")","v":""}]
[null,{"$f":"IFERROR(INDEX(العاملين!$B$2:'العاملين'!$B$999,SMALL(IF(العاملين!$G$2:'العاملين'!$G$999=\"Sat\",ROW(العاملين!$B$2:'العاملين'!$B$999)-ROW(العاملين!$B$2)+1),ROWS($B$2:B129))),\"\")","v":""},{"$f":"IFERROR(INDEX(العاملين!$B$2:'العاملين'!$B$999,SMALL(IF(العاملين!$G$2:'العاملين'!$G$999=\"Sun\",ROW(العاملين!$B$2:'العاملين'!$B$999)-ROW(العاملين!$B$2)+1),ROWS($C$2:C129))),\"\")","v":""},null,{"$f":"IFERROR(INDEX(العاملين!$B$2:'العاملين'!$B$999,SMALL(IF(العاملين!$G$2:'العاملين'!$G$999=\"Mon\",ROW(العاملين!$B$2:'العاملين'!$B$999)-ROW(العاملين!$B$2)+1),ROWS($E$2:E129))),\"\")","v":""},null,{"$f":"IFERROR(INDEX(العاملين!$B$2:'العاملين'!$B$999,SMALL(IF(العاملين!$G$2:'العاملين'!$G$999=\"Tue\",ROW(العاملين!$B$2:'العاملين'!$B$999)-ROW(العاملين!$B$2)+1),ROWS($G$2:G129))),\"\")","v":""},null,{"$f":"IFERROR(INDEX(العاملين!$B$2:'العاملين'!$B$999,SMALL(IF(العاملين!$G$2:'العاملين'!$G$999=\"Wed\",ROW(العاملين!$B$2:'العاملين'!$B$999)-ROW(العاملين!$B$2)+1),ROWS($I$2:I129))),\"\")","v":""},null,{"$f":"IFERROR(INDEX(العاملين!$B$2:'العاملين'!$B$999,SMALL(IF(العاملين!$G$2:'العاملين'!$G$999=\"Thu\",ROW(العاملين!$B$2:'العاملين'!$B$999)-ROW(العاملين!$B$2)+1),ROWS($K$2:K129))),\"\")","v":""},null,{"$f":"IFERROR(INDEX(العاملين!$B$2:'العاملين'!$B$999,SMALL(IF(العاملين!$G$2:'العاملين'!$G$999=\"Fri\",ROW(العاملين!$B$2:'العاملين'!$B$999)-ROW(العاملين!$B$2)+1),ROWS($M$2:M129))),\"\")","v":""}]
[null,null,{"$f":"IFERROR(INDEX(العاملين!$B$2:'العاملين'!$B$999,SMALL(IF(العاملين!$G$2:'العاملين'!$G$999=\"Sun\",ROW(العاملين!$B$2:'العاملين'!$B$999)-ROW(العاملين!$B$2)+1),ROWS($C$2:C130))),\"\")","v":""},null,{"$f":"IFERROR(INDEX(العاملين!$B$2:'العاملين'!$B$999,SMALL(IF(العاملين!$G$2:'العاملين'!$G$999=\"Mon\",ROW(العاملين!$B$2:'العاملين'!$B$999)-ROW(العاملين!$B$2)+1),ROWS($E$2:E130))),\"\")","v":""},null,{"$f":"IFERROR(INDEX(العاملين!$B$2:'العاملين'!$B$999,SMALL(IF(العاملين!$G$2:'العاملين'!$G$999=\"Tue\",ROW(العاملين!$B$2:'العاملين'!$B$999)-ROW(العاملين!$B$2)+1),ROWS($G$2:G130))),\"\")","v":""},null,{"$f":"IFERROR(INDEX(العاملين!$B$2:'العاملين'!$B$999,SMALL(IF(العاملين!$G$2:'العاملين'!$G$999=\"Wed\",ROW(العاملين!$B$2:'العاملين'!$B$999)-ROW(العاملين!$B$2)+1),ROWS($I$2:I130))),\"\")","v":""},null,{"$f":"IFERROR(INDEX(العاملين!$B$2:'العاملين'!$B$999,SMALL(IF(العاملين!$G$2:'العاملين'!$G$999=\"Thu\",ROW(العاملين!$B$2:'العاملين'!$B$999)-ROW(العاملين!$B$2)+1),ROWS($K$2:K130))),\"\")","v":""},null,{"$f":"IFERROR(INDEX(العاملين!$B$2:'العاملين'!$B$999,SMALL(IF(العاملين!$G$2:'العاملين'!$G$999=\"Fri\",ROW(العاملين!$B$2:'العاملين'!$B$999)-ROW(العاملين!$B$2)+1),ROWS($M$2:M130))),\"\")","v":""}]
[null,{"$f":"IFERROR(INDEX(العاملين!$B$2:'العاملين'!$B$999,SMALL(IF(العاملين!$G$2:'العاملين'!$G$999=\"Sat\",ROW(العاملين!$B$2:'العاملين'!$B$999)-ROW(العاملين!$B$2)+1),ROWS($B$2:B131))),\"\")","v":""},{"$f":"IFERROR(INDEX(العاملين!$B$2:'العاملين'!$B$999,SMALL(IF(العاملين!$G$2:'العاملين'!$G$999=\"Sun\",ROW(العاملين!$B$2:'العاملين'!$B$999)-ROW(العاملين!$B$2)+1),ROWS($C$2:C131))),\"\")","v":""},null,{"$f":"IFERROR(INDEX(العاملين!$B$2:'العاملين'!$B$999,SMALL(IF(العاملين!$G$2:'العاملين'!$G$999=\"Mon\",ROW(العاملين!$B$2:'العاملين'!$B$999)-ROW(العاملين!$B$2)+1),ROWS($E$2:E131))),\"\")","v":""},null,{"$f":"IFERROR(INDEX(العاملين!$B$2:'العاملين'!$B$999,SMALL(IF(العاملين!$G$2:'العاملين'!$G$999=\"Tue\",ROW(العاملين!$B$2:'العاملين'!$B$999)-ROW(العاملين!$B$2)+1),ROWS($G$2:G131))),\"\")","v":""},null,{"$f":"IFERROR(INDEX(العاملين!$B$2:'العاملين'!$B$999,SMALL(IF(العاملين!$G$2:'العاملين'!$G$999=\"Wed\",ROW(العاملين!$B$2:'العاملين'!$B$999)-ROW(العاملين!$B$2)+1),ROWS($I$2:I131))),\"\")","v":""},null,{"$f":"IFERROR(INDEX(العاملين!$B$2:'العاملين'!$B$999,SMALL(IF(العاملين!$G$2:'العاملين'!$G$999=\"Thu\",ROW(العاملين!$B$2:'العاملين'!$B$999)-ROW(العاملين!$B$2)+1),ROWS($K$2:K131))),\"\")","v":""},null,{"$f":"IFERROR(INDEX(العاملين!$B$2:'العاملين'!$B$999,SMALL(IF(العاملين!$G$2:'العاملين'!$G$999=\"Fri\",ROW(العاملين!$B$2:'العاملين'!$B$999)-ROW(العاملين!$B$2)+1),ROWS($M$2:M131))),\"\")","v":""}]
[null,{"$f":"IFERROR(INDEX(العاملين!$B$2:'العاملين'!$B$999,SMALL(IF(العاملين!$G$2:'العاملين'!$G$999=\"Sat\",ROW(العاملين!$B$2:'العاملين'!$B$999)-ROW(العاملين!$B$2)+1),ROWS($B$2:B132))),\"\")","v":""},{"$f":"IFERROR(INDEX(العاملين!$B$2:'العاملين'!$B$999,SMALL(IF(العاملين!$G$2:'العاملين'!$G$999=\"Sun\",ROW(العاملين!$B$2:'العاملين'!$B$999)-ROW(العاملين!$B$2)+1),ROWS($C$2:C132))),\"\")","v":""},null,{"$f":"IFERROR(INDEX(العاملين!$B$2:'العاملين'!$B$999,SMALL(IF(العاملين!$G$2:'العاملين'!$G$999=\"Mon\",ROW(العاملين!$B$2:'العاملين'!$B$999)-ROW(العاملين!$B$2)+1),ROWS($E$2:E132))),\"\")","v":""},null,{"$f":"IFERROR(INDEX(العاملين!$B$2:'العاملين'!$B$999,SMALL(IF(العاملين!$G$2:'العاملين'!$G$999=\"Tue\",ROW(العاملين!$B$2:'العاملين'!$B$999)-ROW(العاملين!$B$2)+1),ROWS($G$2:G132))),\"\")","v":""},null,{"$f":"IFERROR(INDEX(العاملين!$B$2:'العاملين'!$B$999,SMALL(IF(العاملين!$G$2:'العاملين'!$G$999=\"Wed\",ROW(العاملين!$B$2:'العاملين'!$B$999)-ROW(العاملين!$B$2)+1),ROWS($I$2:I132))),\"\")","v":""},null,{"$f":"IFERROR(INDEX(العاملين!$B$2:'العاملين'!$B$999,SMALL(IF(العاملين!$G$2:'العاملين'!$G$999=\"Thu\",ROW(العاملين!$B$2:'العاملين'!$B$999)-ROW(العاملين!$B$2)+1),ROWS($K$2:K132))),\"\")","v":""},null,{"$f":"IFERROR(INDEX(العاملين!$B$2:'العاملين'!$B$999,SMALL(IF(العاملين!$G$2:'العاملين'!$G$999=\"Fri\",ROW(العاملين!$B$2:'العاملين'!$B$999)-ROW(العاملين!$B$2)+1),ROWS($M$2:M132))),\"\")","v":""}]
[null,{"$f":"IFERROR(INDEX(العاملين!$B$2:'العاملين'!$B$999,SMALL(IF(العاملين!$G$2:'العاملين'!$G$999=\"Sat\",ROW(العاملين!$B$2:'العاملين'!$B$999)-ROW(العاملين!$B$2)+1),ROWS($B$2:B133))),\"\")","v":""},{"$f":"IFERROR(INDEX(العاملين!$B$2:'العاملين'!$B$999,SMALL(IF(العاملين!$G$2:'العاملين'!$G$999=\"Sun\",ROW(العاملين!$B$2:'العاملين'!$B$999)-ROW(العاملين!$B$2)+1),ROWS($C$2:C133))),\"\")","v":""},null,{"$f":"IFERROR(INDEX(العاملين!$B$2:'العاملين'!$B$999,SMALL(IF(العاملين!$G$2:'العاملين'!$G$999=\"Mon\",ROW(العاملين!$B$2:'العاملين'!$B$999)-ROW(العاملين!$B$2)+1),ROWS($E$2:E133))),\"\")","v":""},null,{"$f":"IFERROR(INDEX(العاملين!$B$2:'العاملين'!$B$999,SMALL(IF(العاملين!$G$2:'العاملين'!$G$999=\"Tue\",ROW(العاملين!$B$2:'العاملين'!$B$999)-ROW(العاملين!$B$2)+1),ROWS($G$2:G133))),\"\")","v":""},null,{"$f":"IFERROR(INDEX(العاملين!$B$2:'العاملين'!$B$999,SMALL(IF(العاملين!$G$2:'العاملين'!$G$999=\"Wed\",ROW(العاملين!$B$2:'العاملين'!$B$999)-ROW(العاملين!$B$2)+1),ROWS($I$2:I133))),\"\")","v":""},null,{"$f":"IFERROR(INDEX(العاملين!$B$2:'العاملين'!$B$999,SMALL(IF(العاملين!$G$2:'العاملين'!$G$999=\"Thu\",ROW(العاملين!$B$2:'العاملين'!$B$999)-ROW(العاملين!$B$2)+1),ROWS($K$2:K133))),\"\")","v":""},null,{"$f":"IFERROR(INDEX(العاملين!$B$2:'العاملين'!$B$999,SMALL(IF(العاملين!$G$2:'العاملين'!$G$999=\"Fri\",ROW(العاملين!$B$2:'العاملين'!$B$999)-ROW(العاملين!$B$2)+1),ROWS($M$2:M133))),\"\")","v":""}]
[null,{"$f":"IFERROR(INDEX(العاملين!$B$2:'العاملين'!$B$999,SMALL(IF(العاملين!$G$2:'العاملين'!$G$999=\"Sat\",ROW(العاملين!$B$2:'العاملين'!$B$999)-ROW(العاملين!$B$2)+1),ROWS($B$2:B134))),\"\")","v":""},{"$f":"IFERROR(INDEX(العاملين!$B$2:'العاملين'!$B$999,SMALL(IF(العاملين!$G$2:'العاملين'!$G$999=\"Sun\",ROW(العاملين!$B$2:'العاملين'!$B$999)-ROW(العاملين!$B$2)+1),ROWS($C$2:C134))),\"\")","v":""},null,{"$f":"IFERROR(INDEX(العاملين!$B$2:'العاملين'!$B$999,SMALL(IF(العاملين!$G$2:'العاملين'!$G$999=\"Mon\",ROW(العاملين!$B$2:'العاملين'!$B$999)-ROW(العاملين!$B$2)+1),ROWS($E$2:E134))),\"\")","v":""},null,{"$f":"IFERROR(INDEX(العاملين!$B$2:'العاملين'!$B$999,SMALL(IF(العاملين!$G$2:'العاملين'!$G$999=\"Tue\",ROW(العاملين!$B$2:'العاملين'!$B$999)-ROW(العاملين!$B$2)+1),ROWS($G$2:G134))),\"\")","v":""},null,{"$f":"IFERROR(INDEX(العاملين!$B$2:'العاملين'!$B$999,SMALL(IF(العاملين!$G$2:'العاملين'!$G$999=\"Wed\",ROW(العاملين!$B$2:'العاملين'!$B$999)-ROW(العاملين!$B$2)+1),ROWS($I$2:I134))),\"\")","v":""},null,{"$f":"IFERROR(INDEX(العاملين!$B$2:'العاملين'!$B$999,SMALL(IF(العاملين!$G$2:'العاملين'!$G$999=\"Thu\",ROW(العاملين!$B$2:'العاملين'!$B$999)-ROW(العاملين!$B$2)+1),ROWS($K$2:K134))),\"\")","v":""},null,{"$f":"IFERROR(INDEX(العاملين!$B$2:'العاملين'!$B$999,SMALL(IF(العاملين!$G$2:'العاملين'!$G$999=\"Fri\",ROW(العاملين!$B$2:'العاملين'!$B$999)-ROW(العاملين!$B$2)+1),ROWS($M$2:M134))),\"\")","v":""}]
[null,{"$f":"IFERROR(INDEX(العاملين!$B$2:'العاملين'!$B$999,SMALL(IF(العاملين!$G$2:'العاملين'!$G$999=\"Sat\",ROW(العاملين!$B$2:'العاملين'!$B$999)-ROW(العاملين!$B$2)+1),ROWS($B$2:B135))),\"\")","v":""},{"$f":"IFERROR(INDEX(العاملين!$B$2:'العاملين'!$B$999,SMALL(IF(العاملين!$G$2:'العاملين'!$G$999=\"Sun\",ROW(العاملين!$B$2:'العاملين'!$B$999)-ROW(العاملين!$B$2)+1),ROWS($C$2:C135))),\"\")","v":""},null,{"$f":"IFERROR(INDEX(العاملين!$B$2:'العاملين'!$B$999,SMALL(IF(العاملين!$G$2:'العاملين'!$G$999=\"Mon\",ROW(العاملين!$B$2:'العاملين'!$B$999)-ROW(العاملين!$B$2)+1),ROWS($E$2:E135))),\"\")","v":""},null,{"$f":"IFERROR(INDEX(العاملين!$B$2:'العاملين'!$B$999,SMALL(IF(العاملين!$G$2:'العاملين'!$G$999=\"Tue\",ROW(العاملين!$B$2:'العاملين'!$B$999)-ROW(العاملين!$B$2)+1),ROWS($G$2:G135))),\"\")","v":""},null,{"$f":"IFERROR(INDEX(العاملين!$B$2:'العاملين'!$B$999,SMALL(IF(العاملين!$G$2:'العاملين'!$G$999=\"Wed\",ROW(العاملين!$B$2:'العاملين'!$B$999)-ROW(العاملين!$B$2)+1),ROWS($I$2:I135))),\"\")","v":""},null,{"$f":"IFERROR(INDEX(العاملين!$B$2:'العاملين'!$B$999,SMALL(IF(العاملين!$G$2:'العاملين'!$G$999=\"Thu\",ROW(العاملين!$B$2:'العاملين'!$B$999)-ROW(العاملين!$B$2)+1),ROWS($K$2:K135))),\"\")","v":""},null,{"$f":"IFERROR(INDEX(العاملين!$B$2:'العاملين'!$B$999,SMALL(IF(العاملين!$G$2:'العاملين'!$G$999=\"Fri\",ROW(العاملين!$B$2:'العاملين'!$B$999)-ROW(العاملين!$B$2)+1),ROWS($M$2:M135))),\"\")","v":""}]
[null,{"$f":"IFERROR(INDEX(العاملين!$B$2:'العاملين'!$B$999,SMALL(IF(العاملين!$G$2:'العاملين'!$G$999=\"Sat\",ROW(العاملين!$B$2:'العاملين'!$B$999)-ROW(العاملين!$B$2)+1),ROWS($B$2:B136))),\"\")","v":""},{"$f":"IFERROR(INDEX(العاملين!$B$2:'العاملين'!$B$999,SMALL(IF(العاملين!$G$2:'العاملين'!$G$999=\"Sun\",ROW(العاملين!$B$2:'العاملين'!$B$999)-ROW(العاملين!$B$2)+1),ROWS($C$2:C136))),\"\")","v":""},null,{"$f":"IFERROR(INDEX(العاملين!$B$2:'العاملين'!$B$999,SMALL(IF(العاملين!$G$2:'العاملين'!$G$999=\"Mon\",ROW(العاملين!$B$2:'العاملين'!$B$999)-ROW(العاملين!$B$2)+1),ROWS($E$2:E136))),\"\")","v":""},null,{"$f":"IFERROR(INDEX(العاملين!$B$2:'العاملين'!$B$999,SMALL(IF(العاملين!$G$2:'العاملين'!$G$999=\"Tue\",ROW(العاملين!$B$2:'العاملين'!$B$999)-ROW(العاملين!$B$2)+1),ROWS($G$2:G136))),\"\")","v":""},null,{"$f":"IFERROR(INDEX(العاملين!$B$2:'العاملين'!$B$999,SMALL(IF(العاملين!$G$2:'العاملين'!$G$999=\"Wed\",ROW(العاملين!$B$2:'العاملين'!$B$999)-ROW(العاملين!$B$2)+1),ROWS($I$2:I136))),\"\")","v":""},null,{"$f":"IFERROR(INDEX(العاملين!$B$2:'العاملين'!$B$999,SMALL(IF(العاملين!$G$2:'العاملين'!$G$999=\"Thu\",ROW(العاملين!$B$2:'العاملين'!$B$999)-ROW(العاملين!$B$2)+1),ROWS($K$2:K136))),\"\")","v":""},null,{"$f":"IFERROR(INDEX(العاملين!$B$2:'العاملين'!$B$999,SMALL(IF(العاملين!$G$2:'العاملين'!$G$999=\"Fri\",ROW(العاملين!$B$2:'العاملين'!$B$999)-ROW(العاملين!$B$2)+1),ROWS($M$2:M136))),\"\")","v":""}]
[null,{"$f":"IFERROR(INDEX(العاملين!$B$2:'العاملين'!$B$999,SMALL(IF(العاملين!$G$2:'العاملين'!$G$999=\"Sat\",ROW(العاملين!$B$2:'العاملين'!$B$999)-ROW(العاملين!$B$2)+1),ROWS($B$2:B137))),\"\")","v":""},{"$f":"IFERROR(INDEX(العاملين!$B$2:'العاملين'!$B$999,SMALL(IF(العاملين!$G$2:'العاملين'!$G$999=\"Sun\",ROW(العاملين!$B$2:'العاملين'!$B$999)-ROW(العاملين!$B$2)+1),ROWS($C$2:C137))),\"\")","v":""},null,{"$f":"IFERROR(INDEX(العاملين!$B$2:'العاملين'!$B$999,SMALL(IF(العاملين!$G$2:'العاملين'!$G$999=\"Mon\",ROW(العاملين!$B$2:'العاملين'!$B$999)-ROW(العاملين!$B$2)+1),ROWS($E$2:E137))),\"\")","v":""},null,{"$f":"IFERROR(INDEX(العاملين!$B$2:'العاملين'!$B$999,SMALL(IF(العاملين!$G$2:'العاملين'!$G$999=\"Tue\",ROW(العاملين!$B$2:'العاملين'!$B$999)-ROW(العاملين!$B$2)+1),ROWS($G$2:G137))),\"\")","v":""},null,{"$f":"IFERROR(INDEX(العاملين!$B$2:'العاملين'!$B$999,SMALL(IF(العاملين!$G$2:'العاملين'!$G$999=\"Wed\",ROW(العاملين!$B$2:'العاملين'!$B$999)-ROW(العاملين!$B$2)+1),ROWS($I$2:I137))),\"\")","v":""},null,{"$f":"IFERROR(INDEX(العاملين!$B$2:'العاملين'!$B$999,SMALL(IF(العاملين!$G$2:'العاملين'!$G$999=\"Thu\",ROW(العاملين!$B$2:'العاملين'!$B$999)-ROW(العاملين!$B$2)+1),ROWS($K$2:K137))),\"\")","v":""},null,{"$f":"IFERROR(INDEX(العاملين!$B$2:'العاملين'!$B$999,SMALL(IF(العاملين!$G$2:'العاملين'!$G$999=\"Fri\",ROW(العاملين!$B$2:'العاملين'!$B$999)-ROW(العاملين!$B$2)+1),ROWS($M$2:M137))),\"\")","v":""}]
[null,{"$f":"IFERROR(INDEX(العاملين!$B$2:'العاملين'!$B$999,SMALL(IF(العاملين!$G$2:'العاملين'!$G$999=\"Sat\",ROW(العاملين!$B$2:'العاملين'!$B$999)-ROW(العاملين!$B$2)+1),ROWS($B$2:B138))),\"\")","v":""},{"$f":"IFERROR(INDEX(العاملين!$B$2:'العاملين'!$B$999,SMALL(IF(العاملين!$G$2:'العاملين'!$G$999=\"Sun\",ROW(العاملين!$B$2:'العاملين'!$B$999)-ROW(العاملين!$B$2)+1),ROWS($C$2:C138))),\"\")","v":""},null,{"$f":"IFERROR(INDEX(العاملين!$B$2:'العاملين'!$B$999,SMALL(IF(العاملين!$G$2:'العاملين'!$G$999=\"Mon\",ROW(العاملين!$B$2:'العاملين'!$B$999)-ROW(العاملين!$B$2)+1),ROWS($E$2:E138))),\"\")","v":""},null,{"$f":"IFERROR(INDEX(العاملين!$B$2:'العاملين'!$B$999,SMALL(IF(العاملين!$G$2:'العاملين'!$G$999=\"Tue\",ROW(العاملين!$B$2:'العاملين'!$B$999)-ROW(العاملين!$B$2)+1),ROWS($G$2:G138))),\"\")","v":""},null,{"$f":"IFERROR(INDEX(العاملين!$B$2:'العاملين'!$B$999,SMALL(IF(العاملين!$G$2:'العاملين'!$G$999=\"Wed\",ROW(العاملين!$B$2:'العاملين'!$B$999)-ROW(العاملين!$B$2)+1),ROWS($I$2:I138))),\"\")","v":""},null,{"$f":"IFERROR(INDEX(العاملين!$B$2:'العاملين'!$B$999,SMALL(IF(العاملين!$G$2:'العاملين'!$G$999=\"Thu\",ROW(العاملين!$B$2:'العاملين'!$B$999)-ROW(العاملين!$B$2)+1),ROWS($K$2:K138))),\"\")","v":""},null,{"$f":"IFERROR(INDEX(العاملين!$B$2:'العاملين'!$B$999,SMALL(IF(العاملين!$G$2:'العاملين'!$G$999=\"Fri\",ROW(العاملين!$B$2:'العاملين'!$B$999)-ROW(العاملين!$B$2)+1),ROWS($M$2:M138))),\"\")","v":""}]
[null,{"$f":"IFERROR(INDEX(العاملين!$B$2:'العاملين'!$B$999,SMALL(IF(العاملين!$G$2:'العاملين'!$G$999=\"Sat\",ROW(العاملين!$B$2:'العاملين'!$B$999)-ROW(العاملين!$B$2)+1),ROWS($B$2:B139))),\"\")","v":""},{"$f":"IFERROR(INDEX(العاملين!$B$2:'العاملين'!$B$999,SMALL(IF(العاملين!$G$2:'العاملين'!$G$999=\"Sun\",ROW(العاملين!$B$2:'العاملين'!$B$999)-ROW(العاملين!$B$2)+1),ROWS($C$2:C139))),\"\")","v":""},null,{"$f":"IFERROR(INDEX(العاملين!$B$2:'العاملين'!$B$999,SMALL(IF(العاملين!$G$2:'العاملين'!$G$999=\"Mon\",ROW(العاملين!$B$2:'العاملين'!$B$999)-ROW(العاملين!$B$2)+1),ROWS($E$2:E139))),\"\")","v":""},null,{"$f":"IFERROR(INDEX(العاملين!$B$2:'العاملين'!$B$999,SMALL(IF(العاملين!$G$2:'العاملين'!$G$999=\"Tue\",ROW(العاملين!$B$2:'العاملين'!$B$999)-ROW(العاملين!$B$2)+1),ROWS($G$2:G139))),\"\")","v":""},null,{"$f":"IFERROR(INDEX(العاملين!$B$2:'العاملين'!$B$999,SMALL(IF(العاملين!$G$2:'العاملين'!$G$999=\"Wed\",ROW(العاملين!$B$2:'العاملين'!$B$999)-ROW(العاملين!$B$2)+1),ROWS($I$2:I139))),\"\")","v":""},null,{"$f":"IFERROR(INDEX(العاملين!$B$2:'العاملين'!$B$999,SMALL(IF(العاملين!$G$2:'العاملين'!$G$999=\"Thu\",ROW(العاملين!$B$2:'العاملين'!$B$999)-ROW(العاملين!$B$2)+1),ROWS($K$2:K139))),\"\")","v":""},null,{"$f":"IFERROR(INDEX(العاملين!$B$2:'العاملين'!$B$999,SMALL(IF(العاملين!$G$2:'العاملين'!$G$999=\"Fri\",ROW(العاملين!$B$2:'العاملين'!$B$999)-ROW(العاملين!$B$2)+1),ROWS($M$2:M139))),\"\")","v":""}]
[null,{"$f":"IFERROR(INDEX(العاملين!$B$2:'العاملين'!$B$999,SMALL(IF(العاملين!$G$2:'العاملين'!$G$999=\"Sat\",ROW(العاملين!$B$2:'العاملين'!$B$999)-ROW(العاملين!$B$2)+1),ROWS($B$2:B140))),\"\")","v":""},{"$f":"IFERROR(INDEX(العاملين!$B$2:'العاملين'!$B$999,SMALL(IF(العاملين!$G$2:'العاملين'!$G$999=\"Sun\",ROW(العاملين!$B$2:'العاملين'!$B$999)-ROW(العاملين!$B$2)+1),ROWS($C$2:C140))),\"\")","v":""},null,{"$f":"IFERROR(INDEX(العاملين!$B$2:'العاملين'!$B$999,SMALL(IF(العاملين!$G$2:'العاملين'!$G$999=\"Mon\",ROW(العاملين!$B$2:'العاملين'!$B$999)-ROW(العاملين!$B$2)+1),ROWS($E$2:E140))),\"\")","v":""},null,{"$f":"IFERROR(INDEX(العاملين!$B$2:'العاملين'!$B$999,SMALL(IF(العاملين!$G$2:'العاملين'!$G$999=\"Tue\",ROW(العاملين!$B$2:'العاملين'!$B$999)-ROW(العاملين!$B$2)+1),ROWS($G$2:G140))),\"\")","v":""},null,{"$f":"IFERROR(INDEX(العاملين!$B$2:'العاملين'!$B$999,SMALL(IF(العاملين!$G$2:'العاملين'!$G$999=\"Wed\",ROW(العاملين!$B$2:'العاملين'!$B$999)-ROW(العاملين!$B$2)+1),ROWS($I$2:I140))),\"\")","v":""},null,{"$f":"IFERROR(INDEX(العاملين!$B$2:'العاملين'!$B$999,SMALL(IF(العاملين!$G$2:'العاملين'!$G$999=\"Thu\",ROW(العاملين!$B$2:'العاملين'!$B$999)-ROW(العاملين!$B$2)+1),ROWS($K$2:K140))),\"\")","v":""},null,{"$f":"IFERROR(INDEX(العاملين!$B$2:'العاملين'!$B$999,SMALL(IF(العاملين!$G$2:'العاملين'!$G$999=\"Fri\",ROW(العاملين!$B$2:'العاملين'!$B$999)-ROW(العاملين!$B$2)+1),ROWS($M$2:M140))),\"\")","v":""}]
[null,{"$f":"IFERROR(INDEX(العاملين!$B$2:'العاملين'!$B$999,SMALL(IF(العاملين!$G$2:'العاملين'!$G$999=\"Sat\",ROW(العاملين!$B$2:'العاملين'!$B$999)-ROW(العاملين!$B$2)+1),ROWS($B$2:B141))),\"\")","v":""},{"$f":"IFERROR(INDEX(العاملين!$B$2:'العاملين'!$B$999,SMALL(IF(العاملين!$G$2:'العاملين'!$G$999=\"Sun\",ROW(العاملين!$B$2:'العاملين'!$B$999)-ROW(العاملين!$B$2)+1),ROWS($C$2:C141))),\"\")","v":""},null,{"$f":"IFERROR(INDEX(العاملين!$B$2:'العاملين'!$B$999,SMALL(IF(العاملين!$G$2:'العاملين'!$G$999=\"Mon\",ROW(العاملين!$B$2:'العاملين'!$B$999)-ROW(العاملين!$B$2)+1),ROWS($E$2:E141))),\"\")","v":""},null,{"$f":"IFERROR(INDEX(العاملين!$B$2:'العاملين'!$B$999,SMALL(IF(العاملين!$G$2:'العاملين'!$G$999=\"Tue\",ROW(العاملين!$B$2:'العاملين'!$B$999)-ROW(العاملين!$B$2)+1),ROWS($G$2:G141))),\"\")","v":""},null,{"$f":"IFERROR(INDEX(العاملين!$B$2:'العاملين'!$B$999,SMALL(IF(العاملين!$G$2:'العاملين'!$G$999=\"Wed\",ROW(العاملين!$B$2:'العاملين'!$B$999)-ROW(العاملين!$B$2)+1),ROWS($I$2:I141))),\"\")","v":""},null,{"$f":"IFERROR(INDEX(العاملين!$B$2:'العاملين'!$B$999,SMALL(IF(العاملين!$G$2:'العاملين'!$G$999=\"Thu\",ROW(العاملين!$B$2:'العاملين'!$B$999)-ROW(العاملين!$B$2)+1),ROWS($K$2:K141))),\"\")","v":""},null,{"$f":"IFERROR(INDEX(العاملين!$B$2:'العاملين'!$B$999,SMALL(IF(العاملين!$G$2:'العاملين'!$G$999=\"Fri\",ROW(العاملين!$B$2:'العاملين'!$B$999)-ROW(العاملين!$B$2)+1),ROWS($M$2:M141))),\"\")","v":""}]
[null,{"$f":"IFERROR(INDEX(العاملين!$B$2:'العاملين'!$B$999,SMALL(IF(العاملين!$G$2:'العاملين'!$G$999=\"Sat\",ROW(العاملين!$B$2:'العاملين'!$B$999)-ROW(العاملين!$B$2)+1),ROWS($B$2:B142))),\"\")","v":""},{"$f":"IFERROR(INDEX(العاملين!$B$2:'العاملين'!$B$999,SMALL(IF(العاملين!$G$2:'العاملين'!$G$999=\"Sun\",ROW(العاملين!$B$2:'العاملين'!$B$999)-ROW(العاملين!$B$2)+1),ROWS($C$2:C142))),\"\")","v":""},null,{"$f":"IFERROR(INDEX(العاملين!$B$2:'العاملين'!$B$999,SMALL(IF(العاملين!$G$2:'العاملين'!$G$999=\"Mon\",ROW(العاملين!$B$2:'العاملين'!$B$999)-ROW(العاملين!$B$2)+1),ROWS($E$2:E142))),\"\")","v":""},null,{"$f":"IFERROR(INDEX(العاملين!$B$2:'العاملين'!$B$999,SMALL(IF(العاملين!$G$2:'العاملين'!$G$999=\"Tue\",ROW(العاملين!$B$2:'العاملين'!$B$999)-ROW(العاملين!$B$2)+1),ROWS($G$2:G142))),\"\")","v":""},null,{"$f":"IFERROR(INDEX(العاملين!$B$2:'العاملين'!$B$999,SMALL(IF(العاملين!$G$2:'العاملين'!$G$999=\"Wed\",ROW(العاملين!$B$2:'العاملين'!$B$999)-ROW(العاملين!$B$2)+1),ROWS($I$2:I142))),\"\")","v":""},null,{"$f":"IFERROR(INDEX(العاملين!$B$2:'العاملين'!$B$999,SMALL(IF(العاملين!$G$2:'العاملين'!$G$999=\"Thu\",ROW(العاملين!$B$2:'العاملين'!$B$999)-ROW(العاملين!$B$2)+1),ROWS($K$2:K142))),\"\")","v":""},null,{"$f":"IFERROR(INDEX(العاملين!$B$2:'العاملين'!$B$999,SMALL(IF(العاملين!$G$2:'العاملين'!$G$999=\"Fri\",ROW(العاملين!$B$2:'العاملين'!$B$999)-ROW(العاملين!$B$2)+1),ROWS($M$2:M142))),\"\")","v":""}]
[null,{"$f":"IFERROR(INDEX(العاملين!$B$2:'العاملين'!$B$999,SMALL(IF(العاملين!$G$2:'العاملين'!$G$999=\"Sat\",ROW(العاملين!$B$2:'العاملين'!$B$999)-ROW(العاملين!$B$2)+1),ROWS($B$2:B143))),\"\")","v":""},{"$f":"IFERROR(INDEX(العاملين!$B$2:'العاملين'!$B$999,SMALL(IF(العاملين!$G$2:'العاملين'!$G$999=\"Sun\",ROW(العاملين!$B$2:'العاملين'!$B$999)-ROW(العاملين!$B$2)+1),ROWS($C$2:C143))),\"\")","v":""},null,{"$f":"IFERROR(INDEX(العاملين!$B$2:'العاملين'!$B$999,SMALL(IF(العاملين!$G$2:'العاملين'!$G$999=\"Mon\",ROW(العاملين!$B$2:'العاملين'!$B$999)-ROW(العاملين!$B$2)+1),ROWS($E$2:E143))),\"\")","v":""},null,{"$f":"IFERROR(INDEX(العاملين!$B$2:'العاملين'!$B$999,SMALL(IF(العاملين!$G$2:'العاملين'!$G$999=\"Tue\",ROW(العاملين!$B$2:'العاملين'!$B$999)-ROW(العاملين!$B$2)+1),ROWS($G$2:G143))),\"\")","v":""},null,{"$f":"IFERROR(INDEX(العاملين!$B$2:'العاملين'!$B$999,SMALL(IF(العاملين!$G$2:'العاملين'!$G$999=\"Wed\",ROW(العاملين!$B$2:'العاملين'!$B$999)-ROW(العاملين!$B$2)+1),ROWS($I$2:I143))),\"\")","v":""},null,{"$f":"IFERROR(INDEX(العاملين!$B$2:'العاملين'!$B$999,SMALL(IF(العاملين!$G$2:'العاملين'!$G$999=\"Thu\",ROW(العاملين!$B$2:'العاملين'!$B$999)-ROW(العاملين!$B$2)+1),ROWS($K$2:K143))),\"\")","v":""},null,{"$f":"IFERROR(INDEX(العاملين!$B$2:'العاملين'!$B$999,SMALL(IF(العاملين!$G$2:'العاملين'!$G$999=\"Fri\",ROW(العاملين!$B$2:'العاملين'!$B$999)-ROW(العاملين!$B$2)+1),ROWS($M$2:M143))),\"\")","v":""}]
[null,{"$f":"IFERROR(INDEX(العاملين!$B$2:'العاملين'!$B$999,SMALL(IF(العاملين!$G$2:'العاملين'!$G$999=\"Sat\",ROW(العاملين!$B$2:'العاملين'!$B$999)-ROW(العاملين!$B$2)+1),ROWS($B$2:B144))),\"\")","v":""},{"$f":"IFERROR(INDEX(العاملين!$B$2:'العاملين'!$B$999,SMALL(IF(العاملين!$G$2:'العاملين'!$G$999=\"Sun\",ROW(العاملين!$B$2:'العاملين'!$B$999)-ROW(العاملين!$B$2)+1),ROWS($C$2:C144))),\"\")","v":""},null,{"$f":"IFERROR(INDEX(العاملين!$B$2:'العاملين'!$B$999,SMALL(IF(العاملين!$G$2:'العاملين'!$G$999=\"Mon\",ROW(العاملين!$B$2:'العاملين'!$B$999)-ROW(العاملين!$B$2)+1),ROWS($E$2:E144))),\"\")","v":""},null,{"$f":"IFERROR(INDEX(العاملين!$B$2:'العاملين'!$B$999,SMALL(IF(العاملين!$G$2:'العاملين'!$G$999=\"Tue\",ROW(العاملين!$B$2:'العاملين'!$B$999)-ROW(العاملين!$B$2)+1),ROWS($G$2:G144))),\"\")","v":""},null,{"$f":"IFERROR(INDEX(العاملين!$B$2:'العاملين'!$B$999,SMALL(IF(العاملين!$G$2:'العاملين'!$G$999=\"Wed\",ROW(العاملين!$B$2:'العاملين'!$B$999)-ROW(العاملين!$B$2)+1),ROWS($I$2:I144))),\"\")","v":""},null,{"$f":"IFERROR(INDEX(العاملين!$B$2:'العاملين'!$B$999,SMALL(IF(العاملين!$G$2:'العاملين'!$G$999=\"Thu\",ROW(العاملين!$B$2:'العاملين'!$B$999)-ROW(العاملين!$B$2)+1),ROWS($K$2:K144))),\"\")","v":""},null,{"$f":"IFERROR(INDEX(العاملين!$B$2:'العاملين'!$B$999,SMALL(IF(العاملين!$G$2:'العاملين'!$G$999=\"Fri\",ROW(العاملين!$B$2:'العاملين'!$B$999)-ROW(العاملين!$B$2)+1),ROWS($M$2:M144))),\"\")","v":""}]
[null,{"$f":"IFERROR(INDEX(العاملين!$B$2:'العاملين'!$B$999,SMALL(IF(العاملين!$G$2:'العاملين'!$G$999=\"Sat\",ROW(العاملين!$B$2:'العاملين'!$B$999)-ROW(العاملين!$B$2)+1),ROWS($B$2:B145))),\"\")","v":""},{"$f":"IFERROR(INDEX(العاملين!$B$2:'العاملين'!$B$999,SMALL(IF(العاملين!$G$2:'العاملين'!$G$999=\"Sun\",ROW(العاملين!$B$2:'العاملين'!$B$999)-ROW(العاملين!$B$2)+1),ROWS($C$2:C145))),\"\")","v":""},null,{"$f":"IFERROR(INDEX(العاملين!$B$2:'العاملين'!$B$999,SMALL(IF(العاملين!$G$2:'العاملين'!$G$999=\"Mon\",ROW(العاملين!$B$2:'العاملين'!$B$999)-ROW(العاملين!$B$2)+1),ROWS($E$2:E145))),\"\")","v":""},null,{"$f":"IFERROR(INDEX(العاملين!$B$2:'العاملين'!$B$999,SMALL(IF(العاملين!$G$2:'العاملين'!$G$999=\"Tue\",ROW(العاملين!$B$2:'العاملين'!$B$999)-ROW(العاملين!$B$2)+1),ROWS($G$2:G145))),\"\")","v":""},null,{"$f":"IFERROR(INDEX(العاملين!$B$2:'العاملين'!$B$999,SMALL(IF(العاملين!$G$2:'العاملين'!$G$999=\"Wed\",ROW(العاملين!$B$2:'العاملين'!$B$999)-ROW(العاملين!$B$2)+1),ROWS($I$2:I145))),\"\")","v":""},null,{"$f":"IFERROR(INDEX(العاملين!$B$2:'العاملين'!$B$999,SMALL(IF(العاملين!$G$2:'العاملين'!$G$999=\"Thu\",ROW(العاملين!$B$2:'العاملين'!$B$999)-ROW(العاملين!$B$2)+1),ROWS($K$2:K145))),\"\")","v":""},null,{"$f":"IFERROR(INDEX(العاملين!$B$2:'العاملين'!$B$999,SMALL(IF(العاملين!$G$2:'العاملين'!$G$999=\"Fri\",ROW(العاملين!$B$2:'العاملين'!$B$999)-ROW(العاملين!$B$2)+1),ROWS($M$2:M145))),\"\")","v":""}]
[null,{"$f":"IFERROR(INDEX(العاملين!$B$2:'العاملين'!$B$999,SMALL(IF(العاملين!$G$2:'العاملين'!$G$999=\"Sat\",ROW(العاملين!$B$2:'العاملين'!$B$999)-ROW(العاملين!$B$2)+1),ROWS($B$2:B146))),\"\")","v":""},{"$f":"IFERROR(INDEX(العاملين!$B$2:'العاملين'!$B$999,SMALL(IF(العاملين!$G$2:'العاملين'!$G$999=\"Sun\",ROW(العاملين!$B$2:'العاملين'!$B$999)-ROW(العاملين!$B$2)+1),ROWS($C$2:C146))),\"\")","v":""},null,{"$f":"IFERROR(INDEX(العاملين!$B$2:'العاملين'!$B$999,SMALL(IF(العاملين!$G$2:'العاملين'!$G$999=\"Mon\",ROW(العاملين!$B$2:'العاملين'!$B$999)-ROW(العاملين!$B$2)+1),ROWS($E$2:E146))),\"\")","v":""},null,{"$f":"IFERROR(INDEX(العاملين!$B$2:'العاملين'!$B$999,SMALL(IF(العاملين!$G$2:'العاملين'!$G$999=\"Tue\",ROW(العاملين!$B$2:'العاملين'!$B$999)-ROW(العاملين!$B$2)+1),ROWS($G$2:G146))),\"\")","v":""},null,{"$f":"IFERROR(INDEX(العاملين!$B$2:'العاملين'!$B$999,SMALL(IF(العاملين!$G$2:'العاملين'!$G$999=\"Wed\",ROW(العاملين!$B$2:'العاملين'!$B$999)-ROW(العاملين!$B$2)+1),ROWS($I$2:I146))),\"\")","v":""},null,{"$f":"IFERROR(INDEX(العاملين!$B$2:'العاملين'!$B$999,SMALL(IF(العاملين!$G$2:'العاملين'!$G$999=\"Thu\",ROW(العاملين!$B$2:'العاملين'!$B$999)-ROW(العاملين!$B$2)+1),ROWS($K$2:K146))),\"\")","v":""},null,{"$f":"IFERROR(INDEX(العاملين!$B$2:'العاملين'!$B$999,SMALL(IF(العاملين!$G$2:'العاملين'!$G$999=\"Fri\",ROW(العاملين!$B$2:'العاملين'!$B$999)-ROW(العاملين!$B$2)+1),ROWS($M$2:M146))),\"\")","v":""}]
[null,{"$f":"IFERROR(INDEX(العاملين!$B$2:'العاملين'!$B$999,SMALL(IF(العاملين!$G$2:'العاملين'!$G$999=\"Sat\",ROW(العاملين!$B$2:'العاملين'!$B$999)-ROW(العاملين!$B$2)+1),ROWS($B$2:B147))),\"\")","v":""},{"$f":"IFERROR(INDEX(العاملين!$B$2:'العاملين'!$B$999,SMALL(IF(العاملين!$G$2:'العاملين'!$G$999=\"Sun\",ROW(العاملين!$B$2:'العاملين'!$B$999)-ROW(العاملين!$B$2)+1),ROWS($C$2:C147))),\"\")","v":""},null,{"$f":"IFERROR(INDEX(العاملين!$B$2:'العاملين'!$B$999,SMALL(IF(العاملين!$G$2:'العاملين'!$G$999=\"Mon\",ROW(العاملين!$B$2:'العاملين'!$B$999)-ROW(العاملين!$B$2)+1),ROWS($E$2:E147))),\"\")","v":""},null,{"$f":"IFERROR(INDEX(العاملين!$B$2:'العاملين'!$B$999,SMALL(IF(العاملين!$G$2:'العاملين'!$G$999=\"Tue\",ROW(العاملين!$B$2:'العاملين'!$B$999)-ROW(العاملين!$B$2)+1),ROWS($G$2:G147))),\"\")","v":""},null,{"$f":"IFERROR(INDEX(العاملين!$B$2:'العاملين'!$B$999,SMALL(IF(العاملين!$G$2:'العاملين'!$G$999=\"Wed\",ROW(العاملين!$B$2:'العاملين'!$B$999)-ROW(العاملين!$B$2)+1),ROWS($I$2:I147))),\"\")","v":""},null,{"$f":"IFERROR(INDEX(العاملين!$B$2:'العاملين'!$B$999,SMALL(IF(العاملين!$G$2:'العاملين'!$G$999=\"Thu\",ROW(العاملين!$B$2:'العاملين'!$B$999)-ROW(العاملين!$B$2)+1),ROWS($K$2:K147))),\"\")","v":""},null,{"$f":"IFERROR(INDEX(العاملين!$B$2:'العاملين'!$B$999,SMALL(IF(العاملين!$G$2:'العاملين'!$G$999=\"Fri\",ROW(العاملين!$B$2:'العاملين'!$B$999)-ROW(العاملين!$B$2)+1),ROWS($M$2:M147))),\"\")","v":""}]
[null,{"$f":"IFERROR(INDEX(العاملين!$B$2:'العاملين'!$B$999,SMALL(IF(العاملين!$G$2:'العاملين'!$G$999=\"Sat\",ROW(العاملين!$B$2:'العاملين'!$B$999)-ROW(العاملين!$B$2)+1),ROWS($B$2:B148))),\"\")","v":""},{"$f":"IFERROR(INDEX(العاملين!$B$2:'العاملين'!$B$999,SMALL(IF(العاملين!$G$2:'العاملين'!$G$999=\"Sun\",ROW(العاملين!$B$2:'العاملين'!$B$999)-ROW(العاملين!$B$2)+1),ROWS($C$2:C148))),\"\")","v":""},null,{"$f":"IFERROR(INDEX(العاملين!$B$2:'العاملين'!$B$999,SMALL(IF(العاملين!$G$2:'العاملين'!$G$999=\"Mon\",ROW(العاملين!$B$2:'العاملين'!$B$999)-ROW(العاملين!$B$2)+1),ROWS($E$2:E148))),\"\")","v":""},null,{"$f":"IFERROR(INDEX(العاملين!$B$2:'العاملين'!$B$999,SMALL(IF(العاملين!$G$2:'العاملين'!$G$999=\"Tue\",ROW(العاملين!$B$2:'العاملين'!$B$999)-ROW(العاملين!$B$2)+1),ROWS($G$2:G148))),\"\")","v":""},null,{"$f":"IFERROR(INDEX(العاملين!$B$2:'العاملين'!$B$999,SMALL(IF(العاملين!$G$2:'العاملين'!$G$999=\"Wed\",ROW(العاملين!$B$2:'العاملين'!$B$999)-ROW(العاملين!$B$2)+1),ROWS($I$2:I148))),\"\")","v":""},null,{"$f":"IFERROR(INDEX(العاملين!$B$2:'العاملين'!$B$999,SMALL(IF(العاملين!$G$2:'العاملين'!$G$999=\"Thu\",ROW(العاملين!$B$2:'العاملين'!$B$999)-ROW(العاملين!$B$2)+1),ROWS($K$2:K148))),\"\")","v":""},null,{"$f":"IFERROR(INDEX(العاملين!$B$2:'العاملين'!$B$999,SMALL(IF(العاملين!$G$2:'العاملين'!$G$999=\"Fri\",ROW(العاملين!$B$2:'العاملين'!$B$999)-ROW(العاملين!$B$2)+1),ROWS($M$2:M148))),\"\")","v":""}]
[null,{"$f":"IFERROR(INDEX(العاملين!$B$2:'العاملين'!$B$999,SMALL(IF(العاملين!$G$2:'العاملين'!$G$999=\"Sat\",ROW(العاملين!$B$2:'العاملين'!$B$999)-ROW(العاملين!$B$2)+1),ROWS($B$2:B149))),\"\")","v":""},{"$f":"IFERROR(INDEX(العاملين!$B$2:'العاملين'!$B$999,SMALL(IF(العاملين!$G$2:'العاملين'!$G$999=\"Sun\",ROW(العاملين!$B$2:'العاملين'!$B$999)-ROW(العاملين!$B$2)+1),ROWS($C$2:C149))),\"\")","v":""},null,{"$f":"IFERROR(INDEX(العاملين!$B$2:'العاملين'!$B$999,SMALL(IF(العاملين!$G$2:'العاملين'!$G$999=\"Mon\",ROW(العاملين!$B$2:'العاملين'!$B$999)-ROW(العاملين!$B$2)+1),ROWS($E$2:E149))),\"\")","v":""},null,{"$f":"IFERROR(INDEX(العاملين!$B$2:'العاملين'!$B$999,SMALL(IF(العاملين!$G$2:'العاملين'!$G$999=\"Tue\",ROW(العاملين!$B$2:'العاملين'!$B$999)-ROW(العاملين!$B$2)+1),ROWS($G$2:G149))),\"\")","v":""},null,{"$f":"IFERROR(INDEX(العاملين!$B$2:'العاملين'!$B$999,SMALL(IF(العاملين!$G$2:'العاملين'!$G$999=\"Wed\",ROW(العاملين!$B$2:'العاملين'!$B$999)-ROW(العاملين!$B$2)+1),ROWS($I$2:I149))),\"\")","v":""},null,{"$f":"IFERROR(INDEX(العاملين!$B$2:'العاملين'!$B$999,SMALL(IF(العاملين!$G$2:'العاملين'!$G$999=\"Thu\",ROW(العاملين!$B$2:'العاملين'!$B$999)-ROW(العاملين!$B$2)+1),ROWS($K$2:K149))),\"\")","v":""},null,{"$f":"IFERROR(INDEX(العاملين!$B$2:'العاملين'!$B$999,SMALL(IF(العاملين!$G$2:'العاملين'!$G$999=\"Fri\",ROW(العاملين!$B$2:'العاملين'!$B$999)-ROW(العاملين!$B$2)+1),ROWS($M$2:M149))),\"\")","v":""}]
[null,{"$f":"IFERROR(INDEX(العاملين!$B$2:'العاملين'!$B$999,SMALL(IF(العاملين!$G$2:'العاملين'!$G$999=\"Sat\",ROW(العاملين!$B$2:'العاملين'!$B$999)-ROW(العاملين!$B$2)+1),ROWS($B$2:B150))),\"\")","v":""},{"$f":"IFERROR(INDEX(العاملين!$B$2:'العاملين'!$B$999,SMALL(IF(العاملين!$G$2:'العاملين'!$G$999=\"Sun\",ROW(العاملين!$B$2:'العاملين'!$B$999)-ROW(العاملين!$B$2)+1),ROWS($C$2:C150))),\"\")","v":""},null,{"$f":"IFERROR(INDEX(العاملين!$B$2:'العاملين'!$B$999,SMALL(IF(العاملين!$G$2:'العاملين'!$G$999=\"Mon\",ROW(العاملين!$B$2:'العاملين'!$B$999)-ROW(العاملين!$B$2)+1),ROWS($E$2:E150))),\"\")","v":""},null,{"$f":"IFERROR(INDEX(العاملين!$B$2:'العاملين'!$B$999,SMALL(IF(العاملين!$G$2:'العاملين'!$G$999=\"Tue\",ROW(العاملين!$B$2:'العاملين'!$B$999)-ROW(العاملين!$B$2)+1),ROWS($G$2:G150))),\"\")","v":""},null,{"$f":"IFERROR(INDEX(العاملين!$B$2:'العاملين'!$B$999,SMALL(IF(العاملين!$G$2:'العاملين'!$G$999=\"Wed\",ROW(العاملين!$B$2:'العاملين'!$B$999)-ROW(العاملين!$B$2)+1),ROWS($I$2:I150))),\"\")","v":""},null,{"$f":"IFERROR(INDEX(العاملين!$B$2:'العاملين'!$B$999,SMALL(IF(العاملين!$G$2:'العاملين'!$G$999=\"Thu\",ROW(العاملين!$B$2:'العاملين'!$B$999)-ROW(العاملين!$B$2)+1),ROWS($K$2:K150))),\"\")","v":""},null,{"$f":"IFERROR(INDEX(العاملين!$B$2:'العاملين'!$B$999,SMALL(IF(العاملين!$G$2:'العاملين'!$G$999=\"Fri\",ROW(العاملين!$B$2:'العاملين'!$B$999)-ROW(العاملين!$B$2)+1),ROWS($M$2:M150))),\"\")","v":""}]
[null,{"$f":"IFERROR(INDEX(العاملين!$B$2:'العاملين'!$B$999,SMALL(IF(العاملين!$G$2:'العاملين'!$G$999=\"Sat\",ROW(العاملين!$B$2:'العاملين'!$B$999)-ROW(العاملين!$B$2)+1),ROWS($B$2:B151))),\"\")","v":""},{"$f":"IFERROR(INDEX(العاملين!$B$2:'العاملين'!$B$999,SMALL(IF(العاملين!$G$2:'العاملين'!$G$999=\"Sun\",ROW(العاملين!$B$2:'العاملين'!$B$999)-ROW(العاملين!$B$2)+1),ROWS($C$2:C151))),\"\")","v":""},null,{"$f":"IFERROR(INDEX(العاملين!$B$2:'العاملين'!$B$999,SMALL(IF(العاملين!$G$2:'العاملين'!$G$999=\"Mon\",ROW(العاملين!$B$2:'العاملين'!$B$999)-ROW(العاملين!$B$2)+1),ROWS($E$2:E151))),\"\")","v":""},null,{"$f":"IFERROR(INDEX(العاملين!$B$2:'العاملين'!$B$999,SMALL(IF(العاملين!$G$2:'العاملين'!$G$999=\"Tue\",ROW(العاملين!$B$2:'العاملين'!$B$999)-ROW(العاملين!$B$2)+1),ROWS($G$2:G151))),\"\")","v":""},null,{"$f":"IFERROR(INDEX(العاملين!$B$2:'العاملين'!$B$999,SMALL(IF(العاملين!$G$2:'العاملين'!$G$999=\"Wed\",ROW(العاملين!$B$2:'العاملين'!$B$999)-ROW(العاملين!$B$2)+1),ROWS($I$2:I151))),\"\")","v":""},null,{"$f":"IFERROR(INDEX(العاملين!$B$2:'العاملين'!$B$999,SMALL(IF(العاملين!$G$2:'العاملين'!$G$999=\"Thu\",ROW(العاملين!$B$2:'العاملين'!$B$999)-ROW(العاملين!$B$2)+1),ROWS($K$2:K151))),\"\")","v":""},null,{"$f":"IFERROR(INDEX(العاملين!$B$2:'العاملين'!$B$999,SMALL(IF(العاملين!$G$2:'العاملين'!$G$999=\"Fri\",ROW(العاملين!$B$2:'العاملين'!$B$999)-ROW(العاملين!$B$2)+1),ROWS($M$2:M151))),\"\")","v":""}]
[null,{"$f":"IFERROR(INDEX(العاملين!$B$2:'العاملين'!$B$999,SMALL(IF(العاملين!$G$2:'العاملين'!$G$999=\"Sat\",ROW(العاملين!$B$2:'العاملين'!$B$999)-ROW(العاملين!$B$2)+1),ROWS($B$2:B152))),\"\")","v":""},{"$f":"IFERROR(INDEX(العاملين!$B$2:'العاملين'!$B$999,SMALL(IF(العاملين!$G$2:'العاملين'!$G$999=\"Sun\",ROW(العاملين!$B$2:'العاملين'!$B$999)-ROW(العاملين!$B$2)+1),ROWS($C$2:C152))),\"\")","v":""},null,{"$f":"IFERROR(INDEX(العاملين!$B$2:'العاملين'!$B$999,SMALL(IF(العاملين!$G$2:'العاملين'!$G$999=\"Mon\",ROW(العاملين!$B$2:'العاملين'!$B$999)-ROW(العاملين!$B$2)+1),ROWS($E$2:E152))),\"\")","v":""},null,{"$f":"IFERROR(INDEX(العاملين!$B$2:'العاملين'!$B$999,SMALL(IF(العاملين!$G$2:'العاملين'!$G$999=\"Tue\",ROW(العاملين!$B$2:'العاملين'!$B$999)-ROW(العاملين!$B$2)+1),ROWS($G$2:G152))),\"\")","v":""},null,{"$f":"IFERROR(INDEX(العاملين!$B$2:'العاملين'!$B$999,SMALL(IF(العاملين!$G$2:'العاملين'!$G$999=\"Wed\",ROW(العاملين!$B$2:'العاملين'!$B$999)-ROW(العاملين!$B$2)+1),ROWS($I$2:I152))),\"\")","v":""},null,{"$f":"IFERROR(INDEX(العاملين!$B$2:'العاملين'!$B$999,SMALL(IF(العاملين!$G$2:'العاملين'!$G$999=\"Thu\",ROW(العاملين!$B$2:'العاملين'!$B$999)-ROW(العاملين!$B$2)+1),ROWS($K$2:K152))),\"\")","v":""},null,{"$f":"IFERROR(INDEX(العاملين!$B$2:'العاملين'!$B$999,SMALL(IF(العاملين!$G$2:'العاملين'!$G$999=\"Fri\",ROW(العاملين!$B$2:'العاملين'!$B$999)-ROW(العاملين!$B$2)+1),ROWS($M$2:M152))),\"\")","v":""}]
[null,null,{"$f":"IFERROR(INDEX(العاملين!$B$2:'العاملين'!$B$999,SMALL(IF(العاملين!$G$2:'العاملين'!$G$999=\"Sun\",ROW(العاملين!$B$2:'العاملين'!$B$999)-ROW(العاملين!$B$2)+1),ROWS($C$2:C153))),\"\")","v":""},null,{"$f":"IFERROR(INDEX(العاملين!$B$2:'العاملين'!$B$999,SMALL(IF(العاملين!$G$2:'العاملين'!$G$999=\"Mon\",ROW(العاملين!$B$2:'العاملين'!$B$999)-ROW(العاملين!$B$2)+1),ROWS($E$2:E153))),\"\")","v":""},null,{"$f":"IFERROR(INDEX(العاملين!$B$2:'العاملين'!$B$999,SMALL(IF(العاملين!$G$2:'العاملين'!$G$999=\"Tue\",ROW(العاملين!$B$2:'العاملين'!$B$999)-ROW(العاملين!$B$2)+1),ROWS($G$2:G153))),\"\")","v":""},null,{"$f":"IFERROR(INDEX(العاملين!$B$2:'العاملين'!$B$999,SMALL(IF(العاملين!$G$2:'العاملين'!$G$999=\"Wed\",ROW(العاملين!$B$2:'العاملين'!$B$999)-ROW(العاملين!$B$2)+1),ROWS($I$2:I153))),\"\")","v":""},null,{"$f":"IFERROR(INDEX(العاملين!$B$2:'العاملين'!$B$999,SMALL(IF(العاملين!$G$2:'العاملين'!$G$999=\"Thu\",ROW(العاملين!$B$2:'العاملين'!$B$999)-ROW(العاملين!$B$2)+1),ROWS($K$2:K153))),\"\")","v":""},null,{"$f":"IFERROR(INDEX(العاملين!$B$2:'العاملين'!$B$999,SMALL(IF(العاملين!$G$2:'العاملين'!$G$999=\"Fri\",ROW(العاملين!$B$2:'العاملين'!$B$999)-ROW(العاملين!$B$2)+1),ROWS($M$2:M153))),\"\")","v":""}]
[null,{"$f":"IFERROR(INDEX(العاملين!$B$2:'العاملين'!$B$999,SMALL(IF(العاملين!$G$2:'العاملين'!$G$999=\"Sat\",ROW(العاملين!$B$2:'العاملين'!$B$999)-ROW(العاملين!$B$2)+1),ROWS($B$2:B154))),\"\")","v":""},{"$f":"IFERROR(INDEX(العاملين!$B$2:'العاملين'!$B$999,SMALL(IF(العاملين!$G$2:'العاملين'!$G$999=\"Sun\",ROW(العاملين!$B$2:'العاملين'!$B$999)-ROW(العاملين!$B$2)+1),ROWS($C$2:C154))),\"\")","v":""},null,{"$f":"IFERROR(INDEX(العاملين!$B$2:'العاملين'!$B$999,SMALL(IF(العاملين!$G$2:'العاملين'!$G$999=\"Mon\",ROW(العاملين!$B$2:'العاملين'!$B$999)-ROW(العاملين!$B$2)+1),ROWS($E$2:E154))),\"\")","v":""},null,{"$f":"IFERROR(INDEX(العاملين!$B$2:'العاملين'!$B$999,SMALL(IF(العاملين!$G$2:'العاملين'!$G$999=\"Tue\",ROW(العاملين!$B$2:'العاملين'!$B$999)-ROW(العاملين!$B$2)+1),ROWS($G$2:G154))),\"\")","v":""},null,{"$f":"IFERROR(INDEX(العاملين!$B$2:'العاملين'!$B$999,SMALL(IF(العاملين!$G$2:'العاملين'!$G$999=\"Wed\",ROW(العاملين!$B$2:'العاملين'!$B$999)-ROW(العاملين!$B$2)+1),ROWS($I$2:I154))),\"\")","v":""},null,{"$f":"IFERROR(INDEX(العاملين!$B$2:'العاملين'!$B$999,SMALL(IF(العاملين!$G$2:'العاملين'!$G$999=\"Thu\",ROW(العاملين!$B$2:'العاملين'!$B$999)-ROW(العاملين!$B$2)+1),ROWS($K$2:K154))),\"\")","v":""},null,{"$f":"IFERROR(INDEX(العاملين!$B$2:'العاملين'!$B$999,SMALL(IF(العاملين!$G$2:'العاملين'!$G$999=\"Fri\",ROW(العاملين!$B$2:'العاملين'!$B$999)-ROW(العاملين!$B$2)+1),ROWS($M$2:M154))),\"\")","v":""}]
[null,{"$f":"IFERROR(INDEX(العاملين!$B$2:'العاملين'!$B$999,SMALL(IF(العاملين!$G$2:'العاملين'!$G$999=\"Sat\",ROW(العاملين!$B$2:'العاملين'!$B$999)-ROW(العاملين!$B$2)+1),ROWS($B$2:B155))),\"\")","v":""},{"$f":"IFERROR(INDEX(العاملين!$B$2:'العاملين'!$B$999,SMALL(IF(العاملين!$G$2:'العاملين'!$G$999=\"Sun\",ROW(العاملين!$B$2:'العاملين'!$B$999)-ROW(العاملين!$B$2)+1),ROWS($C$2:C155))),\"\")","v":""},null,{"$f":"IFERROR(INDEX(العاملين!$B$2:'العاملين'!$B$999,SMALL(IF(العاملين!$G$2:'العاملين'!$G$999=\"Mon\",ROW(العاملين!$B$2:'العاملين'!$B$999)-ROW(العاملين!$B$2)+1),ROWS($E$2:E155))),\"\")","v":""},null,{"$f":"IFERROR(INDEX(العاملين!$B$2:'العاملين'!$B$999,SMALL(IF(العاملين!$G$2:'العاملين'!$G$999=\"Tue\",ROW(العاملين!$B$2:'العاملين'!$B$999)-ROW(العاملين!$B$2)+1),ROWS($G$2:G155))),\"\")","v":""},null,{"$f":"IFERROR(INDEX(العاملين!$B$2:'العاملين'!$B$999,SMALL(IF(العاملين!$G$2:'العاملين'!$G$999=\"Wed\",ROW(العاملين!$B$2:'العاملين'!$B$999)-ROW(العاملين!$B$2)+1),ROWS($I$2:I155))),\"\")","v":""},null,{"$f":"IFERROR(INDEX(العاملين!$B$2:'العاملين'!$B$999,SMALL(IF(العاملين!$G$2:'العاملين'!$G$999=\"Thu\",ROW(العاملين!$B$2:'العاملين'!$B$999)-ROW(العاملين!$B$2)+1),ROWS($K$2:K155))),\"\")","v":""},null,{"$f":"IFERROR(INDEX(العاملين!$B$2:'العاملين'!$B$999,SMALL(IF(العاملين!$G$2:'العاملين'!$G$999=\"Fri\",ROW(العاملين!$B$2:'العاملين'!$B$999)-ROW(العاملين!$B$2)+1),ROWS($M$2:M155))),\"\")","v":""}]
[null,{"$f":"IFERROR(INDEX(العاملين!$B$2:'العاملين'!$B$999,SMALL(IF(العاملين!$G$2:'العاملين'!$G$999=\"Sat\",ROW(العاملين!$B$2:'العاملين'!$B$999)-ROW(العاملين!$B$2)+1),ROWS($B$2:B156))),\"\")","v":""},{"$f":"IFERROR(INDEX(العاملين!$B$2:'العاملين'!$B$999,SMALL(IF(العاملين!$G$2:'العاملين'!$G$999=\"Sun\",ROW(العاملين!$B$2:'العاملين'!$B$999)-ROW(العاملين!$B$2)+1),ROWS($C$2:C156))),\"\")","v":""},null,{"$f":"IFERROR(INDEX(العاملين!$B$2:'العاملين'!$B$999,SMALL(IF(العاملين!$G$2:'العاملين'!$G$999=\"Mon\",ROW(العاملين!$B$2:'العاملين'!$B$999)-ROW(العاملين!$B$2)+1),ROWS($E$2:E156))),\"\")","v":""},null,{"$f":"IFERROR(INDEX(العاملين!$B$2:'العاملين'!$B$999,SMALL(IF(العاملين!$G$2:'العاملين'!$G$999=\"Tue\",ROW(العاملين!$B$2:'العاملين'!$B$999)-ROW(العاملين!$B$2)+1),ROWS($G$2:G156))),\"\")","v":""},null,{"$f":"IFERROR(INDEX(العاملين!$B$2:'العاملين'!$B$999,SMALL(IF(العاملين!$G$2:'العاملين'!$G$999=\"Wed\",ROW(العاملين!$B$2:'العاملين'!$B$999)-ROW(العاملين!$B$2)+1),ROWS($I$2:I156))),\"\")","v":""},null,{"$f":"IFERROR(INDEX(العاملين!$B$2:'العاملين'!$B$999,SMALL(IF(العاملين!$G$2:'العاملين'!$G$999=\"Thu\",ROW(العاملين!$B$2:'العاملين'!$B$999)-ROW(العاملين!$B$2)+1),ROWS($K$2:K156))),\"\")","v":""},null,{"$f":"IFERROR(INDEX(العاملين!$B$2:'العاملين'!$B$999,SMALL(IF(العاملين!$G$2:'العاملين'!$G$999=\"Fri\",ROW(العاملين!$B$2:'العاملين'!$B$999)-ROW(العاملين!$B$2)+1),ROWS($M$2:M156))),\"\")","v":""}]
[null,{"$f":"IFERROR(INDEX(العاملين!$B$2:'العاملين'!$B$999,SMALL(IF(العاملين!$G$2:'العاملين'!$G$999=\"Sat\",ROW(العاملين!$B$2:'العاملين'!$B$999)-ROW(العاملين!$B$2)+1),ROWS($B$2:B157))),\"\")","v":""},{"$f":"IFERROR(INDEX(العاملين!$B$2:'العاملين'!$B$999,SMALL(IF(العاملين!$G$2:'العاملين'!$G$999=\"Sun\",ROW(العاملين!$B$2:'العاملين'!$B$999)-ROW(العاملين!$B$2)+1),ROWS($C$2:C157))),\"\")","v":""},null,{"$f":"IFERROR(INDEX(العاملين!$B$2:'العاملين'!$B$999,SMALL(IF(العاملين!$G$2:'العاملين'!$G$999=\"Mon\",ROW(العاملين!$B$2:'العاملين'!$B$999)-ROW(العاملين!$B$2)+1),ROWS($E$2:E157))),\"\")","v":""},null,{"$f":"IFERROR(INDEX(العاملين!$B$2:'العاملين'!$B$999,SMALL(IF(العاملين!$G$2:'العاملين'!$G$999=\"Tue\",ROW(العاملين!$B$2:'العاملين'!$B$999)-ROW(العاملين!$B$2)+1),ROWS($G$2:G157))),\"\")","v":""},null,{"$f":"IFERROR(INDEX(العاملين!$B$2:'العاملين'!$B$999,SMALL(IF(العاملين!$G$2:'العاملين'!$G$999=\"Wed\",ROW(العاملين!$B$2:'العاملين'!$B$999)-ROW(العاملين!$B$2)+1),ROWS($I$2:I157))),\"\")","v":""},null,{"$f":"IFERROR(INDEX(العاملين!$B$2:'العاملين'!$B$999,SMALL(IF(العاملين!$G$2:'العاملين'!$G$999=\"Thu\",ROW(العاملين!$B$2:'العاملين'!$B$999)-ROW(العاملين!$B$2)+1),ROWS($K$2:K157))),\"\")","v":""},null,{"$f":"IFERROR(INDEX(العاملين!$B$2:'العاملين'!$B$999,SMALL(IF(العاملين!$G$2:'العاملين'!$G$999=\"Fri\",ROW(العاملين!$B$2:'العاملين'!$B$999)-ROW(العاملين!$B$2)+1),ROWS($M$2:M157))),\"\")","v":""}]
[null,{"$f":"IFERROR(INDEX(العاملين!$B$2:'العاملين'!$B$999,SMALL(IF(العاملين!$G$2:'العاملين'!$G$999=\"Sat\",ROW(العاملين!$B$2:'العاملين'!$B$999)-ROW(العاملين!$B$2)+1),ROWS($B$2:B158))),\"\")","v":""},{"$f":"IFERROR(INDEX(العاملين!$B$2:'العاملين'!$B$999,SMALL(IF(العاملين!$G$2:'العاملين'!$G$999=\"Sun\",ROW(العاملين!$B$2:'العاملين'!$B$999)-ROW(العاملين!$B$2)+1),ROWS($C$2:C158))),\"\")","v":""},null,{"$f":"IFERROR(INDEX(العاملين!$B$2:'العاملين'!$B$999,SMALL(IF(العاملين!$G$2:'العاملين'!$G$999=\"Mon\",ROW(العاملين!$B$2:'العاملين'!$B$999)-ROW(العاملين!$B$2)+1),ROWS($E$2:E158))),\"\")","v":""},null,{"$f":"IFERROR(INDEX(العاملين!$B$2:'العاملين'!$B$999,SMALL(IF(العاملين!$G$2:'العاملين'!$G$999=\"Tue\",ROW(العاملين!$B$2:'العاملين'!$B$999)-ROW(العاملين!$B$2)+1),ROWS($G$2:G158))),\"\")","v":""},null,{"$f":"IFERROR(INDEX(العاملين!$B$2:'العاملين'!$B$999,SMALL(IF(العاملين!$G$2:'العاملين'!$G$999=\"Wed\",ROW(العاملين!$B$2:'العاملين'!$B$999)-ROW(العاملين!$B$2)+1),ROWS($I$2:I158))),\"\")","v":""},null,{"$f":"IFERROR(INDEX(العاملين!$B$2:'العاملين'!$B$999,SMALL(IF(العاملين!$G$2:'العاملين'!$G$999=\"Thu\",ROW(العاملين!$B$2:'العاملين'!$B$999)-ROW(العاملين!$B$2)+1),ROWS($K$2:K158))),\"\")","v":""},null,{"$f":"IFERROR(INDEX(العاملين!$B$2:'العاملين'!$B$999,SMALL(IF(العاملين!$G$2:'العاملين'!$G$999=\"Fri\",ROW(العاملين!$B$2:'العاملين'!$B$999)-ROW(العاملين!$B$2)+1),ROWS($M$2:M158))),\"\")","v":""}]
[null,{"$f":"IFERROR(INDEX(العاملين!$B$2:'العاملين'!$B$999,SMALL(IF(العاملين!$G$2:'العاملين'!$G$999=\"Sat\",ROW(العاملين!$B$2:'العاملين'!$B$999)-ROW(العاملين!$B$2)+1),ROWS($B$2:B159))),\"\")","v":""},{"$f":"IFERROR(INDEX(العاملين!$B$2:'العاملين'!$B$999,SMALL(IF(العاملين!$G$2:'العاملين'!$G$999=\"Sun\",ROW(العاملين!$B$2:'العاملين'!$B$999)-ROW(العاملين!$B$2)+1),ROWS($C$2:C159))),\"\")","v":""},null,{"$f":"IFERROR(INDEX(العاملين!$B$2:'العاملين'!$B$999,SMALL(IF(العاملين!$G$2:'العاملين'!$G$999=\"Mon\",ROW(العاملين!$B$2:'العاملين'!$B$999)-ROW(العاملين!$B$2)+1),ROWS($E$2:E159))),\"\")","v":""},null,{"$f":"IFERROR(INDEX(العاملين!$B$2:'العاملين'!$B$999,SMALL(IF(العاملين!$G$2:'العاملين'!$G$999=\"Tue\",ROW(العاملين!$B$2:'العاملين'!$B$999)-ROW(العاملين!$B$2)+1),ROWS($G$2:G159))),\"\")","v":""},null,{"$f":"IFERROR(INDEX(العاملين!$B$2:'العاملين'!$B$999,SMALL(IF(العاملين!$G$2:'العاملين'!$G$999=\"Wed\",ROW(العاملين!$B$2:'العاملين'!$B$999)-ROW(العاملين!$B$2)+1),ROWS($I$2:I159))),\"\")","v":""},null,{"$f":"IFERROR(INDEX(العاملين!$B$2:'العاملين'!$B$999,SMALL(IF(العاملين!$G$2:'العاملين'!$G$999=\"Thu\",ROW(العاملين!$B$2:'العاملين'!$B$999)-ROW(العاملين!$B$2)+1),ROWS($K$2:K159))),\"\")","v":""},null,{"$f":"IFERROR(INDEX(العاملين!$B$2:'العاملين'!$B$999,SMALL(IF(العاملين!$G$2:'العاملين'!$G$999=\"Fri\",ROW(العاملين!$B$2:'العاملين'!$B$999)-ROW(العاملين!$B$2)+1),ROWS($M$2:M159))),\"\")","v":""}]
[null,{"$f":"IFERROR(INDEX(العاملين!$B$2:'العاملين'!$B$999,SMALL(IF(العاملين!$G$2:'العاملين'!$G$999=\"Sat\",ROW(العاملين!$B$2:'العاملين'!$B$999)-ROW(العاملين!$B$2)+1),ROWS($B$2:B160))),\"\")","v":""},{"$f":"IFERROR(INDEX(العاملين!$B$2:'العاملين'!$B$999,SMALL(IF(العاملين!$G$2:'العاملين'!$G$999=\"Sun\",ROW(العاملين!$B$2:'العاملين'!$B$999)-ROW(العاملين!$B$2)+1),ROWS($C$2:C160))),\"\")","v":""},null,{"$f":"IFERROR(INDEX(العاملين!$B$2:'العاملين'!$B$999,SMALL(IF(العاملين!$G$2:'العاملين'!$G$999=\"Mon\",ROW(العاملين!$B$2:'العاملين'!$B$999)-ROW(العاملين!$B$2)+1),ROWS($E$2:E160))),\"\")","v":""},null,{"$f":"IFERROR(INDEX(العاملين!$B$2:'العاملين'!$B$999,SMALL(IF(العاملين!$G$2:'العاملين'!$G$999=\"Tue\",ROW(العاملين!$B$2:'العاملين'!$B$999)-ROW(العاملين!$B$2)+1),ROWS($G$2:G160))),\"\")","v":""},null,{"$f":"IFERROR(INDEX(العاملين!$B$2:'العاملين'!$B$999,SMALL(IF(العاملين!$G$2:'العاملين'!$G$999=\"Wed\",ROW(العاملين!$B$2:'العاملين'!$B$999)-ROW(العاملين!$B$2)+1),ROWS($I$2:I160))),\"\")","v":""},null,{"$f":"IFERROR(INDEX(العاملين!$B$2:'العاملين'!$B$999,SMALL(IF(العاملين!$G$2:'العاملين'!$G$999=\"Thu\",ROW(العاملين!$B$2:'العاملين'!$B$999)-ROW(العاملين!$B$2)+1),ROWS($K$2:K160))),\"\")","v":""},null,{"$f":"IFERROR(INDEX(العاملين!$B$2:'العاملين'!$B$999,SMALL(IF(العاملين!$G$2:'العاملين'!$G$999=\"Fri\",ROW(العاملين!$B$2:'العاملين'!$B$999)-ROW(العاملين!$B$2)+1),ROWS($M$2:M160))),\"\")","v":""}]
[null,{"$f":"IFERROR(INDEX(العاملين!$B$2:'العاملين'!$B$999,SMALL(IF(العاملين!$G$2:'العاملين'!$G$999=\"Sat\",ROW(العاملين!$B$2:'العاملين'!$B$999)-ROW(العاملين!$B$2)+1),ROWS($B$2:B161))),\"\")","v":""},{"$f":"IFERROR(INDEX(العاملين!$B$2:'العاملين'!$B$999,SMALL(IF(العاملين!$G$2:'العاملين'!$G$999=\"Sun\",ROW(العاملين!$B$2:'العاملين'!$B$999)-ROW(العاملين!$B$2)+1),ROWS($C$2:C161))),\"\")","v":""},null,{"$f":"IFERROR(INDEX(العاملين!$B$2:'العاملين'!$B$999,SMALL(IF(العاملين!$G$2:'العاملين'!$G$999=\"Mon\",ROW(العاملين!$B$2:'العاملين'!$B$999)-ROW(العاملين!$B$2)+1),ROWS($E$2:E161))),\"\")","v":""},null,{"$f":"IFERROR(INDEX(العاملين!$B$2:'العاملين'!$B$999,SMALL(IF(العاملين!$G$2:'العاملين'!$G$999=\"Tue\",ROW(العاملين!$B$2:'العاملين'!$B$999)-ROW(العاملين!$B$2)+1),ROWS($G$2:G161))),\"\")","v":""},null,{"$f":"IFERROR(INDEX(العاملين!$B$2:'العاملين'!$B$999,SMALL(IF(العاملين!$G$2:'العاملين'!$G$999=\"Wed\",ROW(العاملين!$B$2:'العاملين'!$B$999)-ROW(العاملين!$B$2)+1),ROWS($I$2:I161))),\"\")","v":""},null,{"$f":"IFERROR(INDEX(العاملين!$B$2:'العاملين'!$B$999,SMALL(IF(العاملين!$G$2:'العاملين'!$G$999=\"Thu\",ROW(العاملين!$B$2:'العاملين'!$B$999)-ROW(العاملين!$B$2)+1),ROWS($K$2:K161))),\"\")","v":""},null,{"$f":"IFERROR(INDEX(العاملين!$B$2:'العاملين'!$B$999,SMALL(IF(العاملين!$G$2:'العاملين'!$G$999=\"Fri\",ROW(العاملين!$B$2:'العاملين'!$B$999)-ROW(العاملين!$B$2)+1),ROWS($M$2:M161))),\"\")","v":""}]
[null,{"$f":"IFERROR(INDEX(العاملين!$B$2:'العاملين'!$B$999,SMALL(IF(العاملين!$G$2:'العاملين'!$G$999=\"Sat\",ROW(العاملين!$B$2:'العاملين'!$B$999)-ROW(العاملين!$B$2)+1),ROWS($B$2:B162))),\"\")","v":""},{"$f":"IFERROR(INDEX(العاملين!$B$2:'العاملين'!$B$999,SMALL(IF(العاملين!$G$2:'العاملين'!$G$999=\"Sun\",ROW(العاملين!$B$2:'العاملين'!$B$999)-ROW(العاملين!$B$2)+1),ROWS($C$2:C162))),\"\")","v":""},null,{"$f":"IFERROR(INDEX(العاملين!$B$2:'العاملين'!$B$999,SMALL(IF(العاملين!$G$2:'العاملين'!$G$999=\"Mon\",ROW(العاملين!$B$2:'العاملين'!$B$999)-ROW(العاملين!$B$2)+1),ROWS($E$2:E162))),\"\")","v":""},null,{"$f":"IFERROR(INDEX(العاملين!$B$2:'العاملين'!$B$999,SMALL(IF(العاملين!$G$2:'العاملين'!$G$999=\"Tue\",ROW(العاملين!$B$2:'العاملين'!$B$999)-ROW(العاملين!$B$2)+1),ROWS($G$2:G162))),\"\")","v":""},null,{"$f":"IFERROR(INDEX(العاملين!$B$2:'العاملين'!$B$999,SMALL(IF(العاملين!$G$2:'العاملين'!$G$999=\"Wed\",ROW(العاملين!$B$2:'العاملين'!$B$999)-ROW(العاملين!$B$2)+1),ROWS($I$2:I162))),\"\")","v":""},null,{"$f":"IFERROR(INDEX(العاملين!$B$2:'العاملين'!$B$999,SMALL(IF(العاملين!$G$2:'العاملين'!$G$999=\"Thu\",ROW(العاملين!$B$2:'العاملين'!$B$999)-ROW(العاملين!$B$2)+1),ROWS($K$2:K162))),\"\")","v":""},null,{"$f":"IFERROR(INDEX(العاملين!$B$2:'العاملين'!$B$999,SMALL(IF(العاملين!$G$2:'العاملين'!$G$999=\"Fri\",ROW(العاملين!$B$2:'العاملين'!$B$999)-ROW(العاملين!$B$2)+1),ROWS($M$2:M162))),\"\")","v":""}]
[null,{"$f":"IFERROR(INDEX(العاملين!$B$2:'العاملين'!$B$999,SMALL(IF(العاملين!$G$2:'العاملين'!$G$999=\"Sat\",ROW(العاملين!$B$2:'العاملين'!$B$999)-ROW(العاملين!$B$2)+1),ROWS($B$2:B163))),\"\")","v":""},{"$f":"IFERROR(INDEX(العاملين!$B$2:'العاملين'!$B$999,SMALL(IF(العاملين!$G$2:'العاملين'!$G$999=\"Sun\",ROW(العاملين!$B$2:'العاملين'!$B$999)-ROW(العاملين!$B$2)+1),ROWS($C$2:C163))),\"\")","v":""},null,{"$f":"IFERROR(INDEX(العاملين!$B$2:'العاملين'!$B$999,SMALL(IF(العاملين!$G$2:'العاملين'!$G$999=\"Mon\",ROW(العاملين!$B$2:'العاملين'!$B$999)-ROW(العاملين!$B$2)+1),ROWS($E$2:E163))),\"\")","v":""},null,{"$f":"IFERROR(INDEX(العاملين!$B$2:'العاملين'!$B$999,SMALL(IF(العاملين!$G$2:'العاملين'!$G$999=\"Tue\",ROW(العاملين!$B$2:'العاملين'!$B$999)-ROW(العاملين!$B$2)+1),ROWS($G$2:G163))),\"\")","v":""},null,{"$f":"IFERROR(INDEX(العاملين!$B$2:'العاملين'!$B$999,SMALL(IF(العاملين!$G$2:'العاملين'!$G$999=\"Wed\",ROW(العاملين!$B$2:'العاملين'!$B$999)-ROW(العاملين!$B$2)+1),ROWS($I$2:I163))),\"\")","v":""},null,{"$f":"IFERROR(INDEX(العاملين!$B$2:'العاملين'!$B$999,SMALL(IF(العاملين!$G$2:'العاملين'!$G$999=\"Thu\",ROW(العاملين!$B$2:'العاملين'!$B$999)-ROW(العاملين!$B$2)+1),ROWS($K$2:K163))),\"\")","v":""},null,{"$f":"IFERROR(INDEX(العاملين!$B$2:'العاملين'!$B$999,SMALL(IF(العاملين!$G$2:'العاملين'!$G$999=\"Fri\",ROW(العاملين!$B$2:'العاملين'!$B$999)-ROW(العاملين!$B$2)+1),ROWS($M$2:M163))),\"\")","v":""}]
[null,{"$f":"IFERROR(INDEX(العاملين!$B$2:'العاملين'!$B$999,SMALL(IF(العاملين!$G$2:'العاملين'!$G$999=\"Sat\",ROW(العاملين!$B$2:'العاملين'!$B$999)-ROW(العاملين!$B$2)+1),ROWS($B$2:B164))),\"\")","v":""},{"$f":"IFERROR(INDEX(العاملين!$B$2:'العاملين'!$B$999,SMALL(IF(العاملين!$G$2:'العاملين'!$G$999=\"Sun\",ROW(العاملين!$B$2:'العاملين'!$B$999)-ROW(العاملين!$B$2)+1),ROWS($C$2:C164))),\"\")","v":""},null,{"$f":"IFERROR(INDEX(العاملين!$B$2:'العاملين'!$B$999,SMALL(IF(العاملين!$G$2:'العاملين'!$G$999=\"Mon\",ROW(العاملين!$B$2:'العاملين'!$B$999)-ROW(العاملين!$B$2)+1),ROWS($E$2:E164))),\"\")","v":""},null,{"$f":"IFERROR(INDEX(العاملين!$B$2:'العاملين'!$B$999,SMALL(IF(العاملين!$G$2:'العاملين'!$G$999=\"Tue\",ROW(العاملين!$B$2:'العاملين'!$B$999)-ROW(العاملين!$B$2)+1),ROWS($G$2:G164))),\"\")","v":""},null,{"$f":"IFERROR(INDEX(العاملين!$B$2:'العاملين'!$B$999,SMALL(IF(العاملين!$G$2:'العاملين'!$G$999=\"Wed\",ROW(العاملين!$B$2:'العاملين'!$B$999)-ROW(العاملين!$B$2)+1),ROWS($I$2:I164))),\"\")","v":""},null,{"$f":"IFERROR(INDEX(العاملين!$B$2:'العاملين'!$B$999,SMALL(IF(العاملين!$G$2:'العاملين'!$G$999=\"Thu\",ROW(العاملين!$B$2:'العاملين'!$B$999)-ROW(العاملين!$B$2)+1),ROWS($K$2:K164))),\"\")","v":""},null,{"$f":"IFERROR(INDEX(العاملين!$B$2:'العاملين'!$B$999,SMALL(IF(العاملين!$G$2:'العاملين'!$G$999=\"Fri\",ROW(العاملين!$B$2:'العاملين'!$B$999)-ROW(العاملين!$B$2)+1),ROWS($M$2:M164))),\"\")","v":""}]
[null,{"$f":"IFERROR(INDEX(العاملين!$B$2:'العاملين'!$B$999,SMALL(IF(العاملين!$G$2:'العاملين'!$G$999=\"Sat\",ROW(العاملين!$B$2:'العاملين'!$B$999)-ROW(العاملين!$B$2)+1),ROWS($B$2:B165))),\"\")","v":""},{"$f":"IFERROR(INDEX(العاملين!$B$2:'العاملين'!$B$999,SMALL(IF(العاملين!$G$2:'العاملين'!$G$999=\"Sun\",ROW(العاملين!$B$2:'العاملين'!$B$999)-ROW(العاملين!$B$2)+1),ROWS($C$2:C165))),\"\")","v":""},null,{"$f":"IFERROR(INDEX(العاملين!$B$2:'العاملين'!$B$999,SMALL(IF(العاملين!$G$2:'العاملين'!$G$999=\"Mon\",ROW(العاملين!$B$2:'العاملين'!$B$999)-ROW(العاملين!$B$2)+1),ROWS($E$2:E165))),\"\")","v":""},null,{"$f":"IFERROR(INDEX(العاملين!$B$2:'العاملين'!$B$999,SMALL(IF(العاملين!$G$2:'العاملين'!$G$999=\"Tue\",ROW(العاملين!$B$2:'العاملين'!$B$999)-ROW(العاملين!$B$2)+1),ROWS($G$2:G165))),\"\")","v":""},null,{"$f":"IFERROR(INDEX(العاملين!$B$2:'العاملين'!$B$999,SMALL(IF(العاملين!$G$2:'العاملين'!$G$999=\"Wed\",ROW(العاملين!$B$2:'العاملين'!$B$999)-ROW(العاملين!$B$2)+1),ROWS($I$2:I165))),\"\")","v":""},null,{"$f":"IFERROR(INDEX(العاملين!$B$2:'العاملين'!$B$999,SMALL(IF(العاملين!$G$2:'العاملين'!$G$999=\"Thu\",ROW(العاملين!$B$2:'العاملين'!$B$999)-ROW(العاملين!$B$2)+1),ROWS($K$2:K165))),\"\")","v":""},null,{"$f":"IFERROR(INDEX(العاملين!$B$2:'العاملين'!$B$999,SMALL(IF(العاملين!$G$2:'العاملين'!$G$999=\"Fri\",ROW(العاملين!$B$2:'العاملين'!$B$999)-ROW(العاملين!$B$2)+1),ROWS($M$2:M165))),\"\")","v":""}]
[null,{"$f":"IFERROR(INDEX(العاملين!$B$2:'العاملين'!$B$999,SMALL(IF(العاملين!$G$2:'العاملين'!$G$999=\"Sat\",ROW(العاملين!$B$2:'العاملين'!$B$999)-ROW(العاملين!$B$2)+1),ROWS($B$2:B166))),\"\")","v":""},{"$f":"IFERROR(INDEX(العاملين!$B$2:'العاملين'!$B$999,SMALL(IF(العاملين!$G$2:'العاملين'!$G$999=\"Sun\",ROW(العاملين!$B$2:'العاملين'!$B$999)-ROW(العاملين!$B$2)+1),ROWS($C$2:C166))),\"\")","v":""},null,{"$f":"IFERROR(INDEX(العاملين!$B$2:'العاملين'!$B$999,SMALL(IF(العاملين!$G$2:'العاملين'!$G$999=\"Mon\",ROW(العاملين!$B$2:'العاملين'!$B$999)-ROW(العاملين!$B$2)+1),ROWS($E$2:E166))),\"\")","v":""},null,{"$f":"IFERROR(INDEX(العاملين!$B$2:'العاملين'!$B$999,SMALL(IF(العاملين!$G$2:'العاملين'!$G$999=\"Tue\",ROW(العاملين!$B$2:'العاملين'!$B$999)-ROW(العاملين!$B$2)+1),ROWS($G$2:G166))),\"\")","v":""},null,{"$f":"IFERROR(INDEX(العاملين!$B$2:'العاملين'!$B$999,SMALL(IF(العاملين!$G$2:'العاملين'!$G$999=\"Wed\",ROW(العاملين!$B$2:'العاملين'!$B$999)-ROW(العاملين!$B$2)+1),ROWS($I$2:I166))),\"\")","v":""},null,{"$f":"IFERROR(INDEX(العاملين!$B$2:'العاملين'!$B$999,SMALL(IF(العاملين!$G$2:'العاملين'!$G$999=\"Thu\",ROW(العاملين!$B$2:'العاملين'!$B$999)-ROW(العاملين!$B$2)+1),ROWS($K$2:K166))),\"\")","v":""},null,{"$f":"IFERROR(INDEX(العاملين!$B$2:'العاملين'!$B$999,SMALL(IF(العاملين!$G$2:'العاملين'!$G$999=\"Fri\",ROW(العاملين!$B$2:'العاملين'!$B$999)-ROW(العاملين!$B$2)+1),ROWS($M$2:M166))),\"\")","v":""}]
[null,{"$f":"IFERROR(INDEX(العاملين!$B$2:'العاملين'!$B$999,SMALL(IF(العاملين!$G$2:'العاملين'!$G$999=\"Sat\",ROW(العاملين!$B$2:'العاملين'!$B$999)-ROW(العاملين!$B$2)+1),ROWS($B$2:B167))),\"\")","v":""},{"$f":"IFERROR(INDEX(العاملين!$B$2:'العاملين'!$B$999,SMALL(IF(العاملين!$G$2:'العاملين'!$G$999=\"Sun\",ROW(العاملين!$B$2:'العاملين'!$B$999)-ROW(العاملين!$B$2)+1),ROWS($C$2:C167))),\"\")","v":""},null,{"$f":"IFERROR(INDEX(العاملين!$B$2:'العاملين'!$B$999,SMALL(IF(العاملين!$G$2:'العاملين'!$G$999=\"Mon\",ROW(العاملين!$B$2:'العاملين'!$B$999)-ROW(العاملين!$B$2)+1),ROWS($E$2:E167))),\"\")","v":""},null,{"$f":"IFERROR(INDEX(العاملين!$B$2:'العاملين'!$B$999,SMALL(IF(العاملين!$G$2:'العاملين'!$G$999=\"Tue\",ROW(العاملين!$B$2:'العاملين'!$B$999)-ROW(العاملين!$B$2)+1),ROWS($G$2:G167))),\"\")","v":""},null,{"$f":"IFERROR(INDEX(العاملين!$B$2:'العاملين'!$B$999,SMALL(IF(العاملين!$G$2:'العاملين'!$G$999=\"Wed\",ROW(العاملين!$B$2:'العاملين'!$B$999)-ROW(العاملين!$B$2)+1),ROWS($I$2:I167))),\"\")","v":""},null,{"$f":"IFERROR(INDEX(العاملين!$B$2:'العاملين'!$B$999,SMALL(IF(العاملين!$G$2:'العاملين'!$G$999=\"Thu\",ROW(العاملين!$B$2:'العاملين'!$B$999)-ROW(العاملين!$B$2)+1),ROWS($K$2:K167))),\"\")","v":""},null,{"$f":"IFERROR(INDEX(العاملين!$B$2:'العاملين'!$B$999,SMALL(IF(العاملين!$G$2:'العاملين'!$G$999=\"Fri\",ROW(العاملين!$B$2:'العاملين'!$B$999)-ROW(العاملين!$B$2)+1),ROWS($M$2:M167))),\"\")","v":""}]
[null,{"$f":"IFERROR(INDEX(العاملين!$B$2:'العاملين'!$B$999,SMALL(IF(العاملين!$G$2:'العاملين'!$G$999=\"Sat\",ROW(العاملين!$B$2:'العاملين'!$B$999)-ROW(العاملين!$B$2)+1),ROWS($B$2:B168))),\"\")","v":""},{"$f":"IFERROR(INDEX(العاملين!$B$2:'العاملين'!$B$999,SMALL(IF(العاملين!$G$2:'العاملين'!$G$999=\"Sun\",ROW(العاملين!$B$2:'العاملين'!$B$999)-ROW(العاملين!$B$2)+1),ROWS($C$2:C168))),\"\")","v":""},null,{"$f":"IFERROR(INDEX(العاملين!$B$2:'العاملين'!$B$999,SMALL(IF(العاملين!$G$2:'العاملين'!$G$999=\"Mon\",ROW(العاملين!$B$2:'العاملين'!$B$999)-ROW(العاملين!$B$2)+1),ROWS($E$2:E168))),\"\")","v":""},null,{"$f":"IFERROR(INDEX(العاملين!$B$2:'العاملين'!$B$999,SMALL(IF(العاملين!$G$2:'العاملين'!$G$999=\"Tue\",ROW(العاملين!$B$2:'العاملين'!$B$999)-ROW(العاملين!$B$2)+1),ROWS($G$2:G168))),\"\")","v":""},null,{"$f":"IFERROR(INDEX(العاملين!$B$2:'العاملين'!$B$999,SMALL(IF(العاملين!$G$2:'العاملين'!$G$999=\"Wed\",ROW(العاملين!$B$2:'العاملين'!$B$999)-ROW(العاملين!$B$2)+1),ROWS($I$2:I168))),\"\")","v":""},null,{"$f":"IFERROR(INDEX(العاملين!$B$2:'العاملين'!$B$999,SMALL(IF(العاملين!$G$2:'العاملين'!$G$999=\"Thu\",ROW(العاملين!$B$2:'العاملين'!$B$999)-ROW(العاملين!$B$2)+1),ROWS($K$2:K168))),\"\")","v":""},null,{"$f":"IFERROR(INDEX(العاملين!$B$2:'العاملين'!$B$999,SMALL(IF(العاملين!$G$2:'العاملين'!$G$999=\"Fri\",ROW(العاملين!$B$2:'العاملين'!$B$999)-ROW(العاملين!$B$2)+1),ROWS($M$2:M168))),\"\")","v":""}]
[null,{"$f":"IFERROR(INDEX(العاملين!$B$2:'العاملين'!$B$999,SMALL(IF(العاملين!$G$2:'العاملين'!$G$999=\"Sat\",ROW(العاملين!$B$2:'العاملين'!$B$999)-ROW(العاملين!$B$2)+1),ROWS($B$2:B169))),\"\")","v":""},{"$f":"IFERROR(INDEX(العاملين!$B$2:'العاملين'!$B$999,SMALL(IF(العاملين!$G$2:'العاملين'!$G$999=\"Sun\",ROW(العاملين!$B$2:'العاملين'!$B$999)-ROW(العاملين!$B$2)+1),ROWS($C$2:C169))),\"\")","v":""},null,{"$f":"IFERROR(INDEX(العاملين!$B$2:'العاملين'!$B$999,SMALL(IF(العاملين!$G$2:'العاملين'!$G$999=\"Mon\",ROW(العاملين!$B$2:'العاملين'!$B$999)-ROW(العاملين!$B$2)+1),ROWS($E$2:E169))),\"\")","v":""},null,{"$f":"IFERROR(INDEX(العاملين!$B$2:'العاملين'!$B$999,SMALL(IF(العاملين!$G$2:'العاملين'!$G$999=\"Tue\",ROW(العاملين!$B$2:'العاملين'!$B$999)-ROW(العاملين!$B$2)+1),ROWS($G$2:G169))),\"\")","v":""},null,{"$f":"IFERROR(INDEX(العاملين!$B$2:'العاملين'!$B$999,SMALL(IF(العاملين!$G$2:'العاملين'!$G$999=\"Wed\",ROW(العاملين!$B$2:'العاملين'!$B$999)-ROW(العاملين!$B$2)+1),ROWS($I$2:I169))),\"\")","v":""},null,{"$f":"IFERROR(INDEX(العاملين!$B$2:'العاملين'!$B$999,SMALL(IF(العاملين!$G$2:'العاملين'!$G$999=\"Thu\",ROW(العاملين!$B$2:'العاملين'!$B$999)-ROW(العاملين!$B$2)+1),ROWS($K$2:K169))),\"\")","v":""},null,{"$f":"IFERROR(INDEX(العاملين!$B$2:'العاملين'!$B$999,SMALL(IF(العاملين!$G$2:'العاملين'!$G$999=\"Fri\",ROW(العاملين!$B$2:'العاملين'!$B$999)-ROW(العاملين!$B$2)+1),ROWS($M$2:M169))),\"\")","v":""}]
[null,{"$f":"IFERROR(INDEX(العاملين!$B$2:'العاملين'!$B$999,SMALL(IF(العاملين!$G$2:'العاملين'!$G$999=\"Sat\",ROW(العاملين!$B$2:'العاملين'!$B$999)-ROW(العاملين!$B$2)+1),ROWS($B$2:B170))),\"\")","v":""},{"$f":"IFERROR(INDEX(العاملين!$B$2:'العاملين'!$B$999,SMALL(IF(العاملين!$G$2:'العاملين'!$G$999=\"Sun\",ROW(العاملين!$B$2:'العاملين'!$B$999)-ROW(العاملين!$B$2)+1),ROWS($C$2:C170))),\"\")","v":""},null,{"$f":"IFERROR(INDEX(العاملين!$B$2:'العاملين'!$B$999,SMALL(IF(العاملين!$G$2:'العاملين'!$G$999=\"Mon\",ROW(العاملين!$B$2:'العاملين'!$B$999)-ROW(العاملين!$B$2)+1),ROWS($E$2:E170))),\"\")","v":""},null,{"$f":"IFERROR(INDEX(العاملين!$B$2:'العاملين'!$B$999,SMALL(IF(العاملين!$G$2:'العاملين'!$G$999=\"Tue\",ROW(العاملين!$B$2:'العاملين'!$B$999)-ROW(العاملين!$B$2)+1),ROWS($G$2:G170))),\"\")","v":""},null,{"$f":"IFERROR(INDEX(العاملين!$B$2:'العاملين'!$B$999,SMALL(IF(العاملين!$G$2:'العاملين'!$G$999=\"Wed\",ROW(العاملين!$B$2:'العاملين'!$B$999)-ROW(العاملين!$B$2)+1),ROWS($I$2:I170))),\"\")","v":""},null,{"$f":"IFERROR(INDEX(العاملين!$B$2:'العاملين'!$B$999,SMALL(IF(العاملين!$G$2:'العاملين'!$G$999=\"Thu\",ROW(العاملين!$B$2:'العاملين'!$B$999)-ROW(العاملين!$B$2)+1),ROWS($K$2:K170))),\"\")","v":""},null,{"$f":"IFERROR(INDEX(العاملين!$B$2:'العاملين'!$B$999,SMALL(IF(العاملين!$G$2:'العاملين'!$G$999=\"Fri\",ROW(العاملين!$B$2:'العاملين'!$B$999)-ROW(العاملين!$B$2)+1),ROWS($M$2:M170))),\"\")","v":""}]
[null,{"$f":"IFERROR(INDEX(العاملين!$B$2:'العاملين'!$B$999,SMALL(IF(العاملين!$G$2:'العاملين'!$G$999=\"Sat\",ROW(العاملين!$B$2:'العاملين'!$B$999)-ROW(العاملين!$B$2)+1),ROWS($B$2:B171))),\"\")","v":""},{"$f":"IFERROR(INDEX(العاملين!$B$2:'العاملين'!$B$999,SMALL(IF(العاملين!$G$2:'العاملين'!$G$999=\"Sun\",ROW(العاملين!$B$2:'العاملين'!$B$999)-ROW(العاملين!$B$2)+1),ROWS($C$2:C171))),\"\")","v":""},null,{"$f":"IFERROR(INDEX(العاملين!$B$2:'العاملين'!$B$999,SMALL(IF(العاملين!$G$2:'العاملين'!$G$999=\"Mon\",ROW(العاملين!$B$2:'العاملين'!$B$999)-ROW(العاملين!$B$2)+1),ROWS($E$2:E171))),\"\")","v":""},null,{"$f":"IFERROR(INDEX(العاملين!$B$2:'العاملين'!$B$999,SMALL(IF(العاملين!$G$2:'العاملين'!$G$999=\"Tue\",ROW(العاملين!$B$2:'العاملين'!$B$999)-ROW(العاملين!$B$2)+1),ROWS($G$2:G171))),\"\")","v":""},null,{"$f":"IFERROR(INDEX(العاملين!$B$2:'العاملين'!$B$999,SMALL(IF(العاملين!$G$2:'العاملين'!$G$999=\"Wed\",ROW(العاملين!$B$2:'العاملين'!$B$999)-ROW(العاملين!$B$2)+1),ROWS($I$2:I171))),\"\")","v":""},null,{"$f":"IFERROR(INDEX(العاملين!$B$2:'العاملين'!$B$999,SMALL(IF(العاملين!$G$2:'العاملين'!$G$999=\"Thu\",ROW(العاملين!$B$2:'العاملين'!$B$999)-ROW(العاملين!$B$2)+1),ROWS($K$2:K171))),\"\")","v":""},null,{"$f":"IFERROR(INDEX(العاملين!$B$2:'العاملين'!$B$999,SMALL(IF(العاملين!$G$2:'العاملين'!$G$999=\"Fri\",ROW(العاملين!$B$2:'العاملين'!$B$999)-ROW(العاملين!$B$2)+1),ROWS($M$2:M171))),\"\")","v":""}]
[null,{"$f":"IFERROR(INDEX(العاملين!$B$2:'العاملين'!$B$999,SMALL(IF(العاملين!$G$2:'العاملين'!$G$999=\"Sat\",ROW(العاملين!$B$2:'العاملين'!$B$999)-ROW(العاملين!$B$2)+1),ROWS($B$2:B172))),\"\")","v":""},{"$f":"IFERROR(INDEX(العاملين!$B$2:'العاملين'!$B$999,SMALL(IF(العاملين!$G$2:'العاملين'!$G$999=\"Sun\",ROW(العاملين!$B$2:'العاملين'!$B$999)-ROW(العاملين!$B$2)+1),ROWS($C$2:C172))),\"\")","v":""},null,{"$f":"IFERROR(INDEX(العاملين!$B$2:'العاملين'!$B$999,SMALL(IF(العاملين!$G$2:'العاملين'!$G$999=\"Mon\",ROW(العاملين!$B$2:'العاملين'!$B$999)-ROW(العاملين!$B$2)+1),ROWS($E$2:E172))),\"\")","v":""},null,{"$f":"IFERROR(INDEX(العاملين!$B$2:'العاملين'!$B$999,SMALL(IF(العاملين!$G$2:'العاملين'!$G$999=\"Tue\",ROW(العاملين!$B$2:'العاملين'!$B$999)-ROW(العاملين!$B$2)+1),ROWS($G$2:G172))),\"\")","v":""},null,{"$f":"IFERROR(INDEX(العاملين!$B$2:'العاملين'!$B$999,SMALL(IF(العاملين!$G$2:'العاملين'!$G$999=\"Wed\",ROW(العاملين!$B$2:'العاملين'!$B$999)-ROW(العاملين!$B$2)+1),ROWS($I$2:I172))),\"\")","v":""},null,{"$f":"IFERROR(INDEX(العاملين!$B$2:'العاملين'!$B$999,SMALL(IF(العاملين!$G$2:'العاملين'!$G$999=\"Thu\",ROW(العاملين!$B$2:'العاملين'!$B$999)-ROW(العاملين!$B$2)+1),ROWS($K$2:K172))),\"\")","v":""},null,{"$f":"IFERROR(INDEX(العاملين!$B$2:'العاملين'!$B$999,SMALL(IF(العاملين!$G$2:'العاملين'!$G$999=\"Fri\",ROW(العاملين!$B$2:'العاملين'!$B$999)-ROW(العاملين!$B$2)+1),ROWS($M$2:M172))),\"\")","v":""}]
[null,{"$f":"IFERROR(INDEX(العاملين!$B$2:'العاملين'!$B$999,SMALL(IF(العاملين!$G$2:'العاملين'!$G$999=\"Sat\",ROW(العاملين!$B$2:'العاملين'!$B$999)-ROW(العاملين!$B$2)+1),ROWS($B$2:B173))),\"\")","v":""},{"$f":"IFERROR(INDEX(العاملين!$B$2:'العاملين'!$B$999,SMALL(IF(العاملين!$G$2:'العاملين'!$G$999=\"Sun\",ROW(العاملين!$B$2:'العاملين'!$B$999)-ROW(العاملين!$B$2)+1),ROWS($C$2:C173))),\"\")","v":""},null,{"$f":"IFERROR(INDEX(العاملين!$B$2:'العاملين'!$B$999,SMALL(IF(العاملين!$G$2:'العاملين'!$G$999=\"Mon\",ROW(العاملين!$B$2:'العاملين'!$B$999)-ROW(العاملين!$B$2)+1),ROWS($E$2:E173))),\"\")","v":""},null,{"$f":"IFERROR(INDEX(العاملين!$B$2:'العاملين'!$B$999,SMALL(IF(العاملين!$G$2:'العاملين'!$G$999=\"Tue\",ROW(العاملين!$B$2:'العاملين'!$B$999)-ROW(العاملين!$B$2)+1),ROWS($G$2:G173))),\"\")","v":""},null,{"$f":"IFERROR(INDEX(العاملين!$B$2:'العاملين'!$B$999,SMALL(IF(العاملين!$G$2:'العاملين'!$G$999=\"Wed\",ROW(العاملين!$B$2:'العاملين'!$B$999)-ROW(العاملين!$B$2)+1),ROWS($I$2:I173))),\"\")","v":""},null,{"$f":"IFERROR(INDEX(العاملين!$B$2:'العاملين'!$B$999,SMALL(IF(العاملين!$G$2:'العاملين'!$G$999=\"Thu\",ROW(العاملين!$B$2:'العاملين'!$B$999)-ROW(العاملين!$B$2)+1),ROWS($K$2:K173))),\"\")","v":""},null,{"$f":"IFERROR(INDEX(العاملين!$B$2:'العاملين'!$B$999,SMALL(IF(العاملين!$G$2:'العاملين'!$G$999=\"Fri\",ROW(العاملين!$B$2:'العاملين'!$B$999)-ROW(العاملين!$B$2)+1),ROWS($M$2:M173))),\"\")","v":""}]
[null,{"$f":"IFERROR(INDEX(العاملين!$B$2:'العاملين'!$B$999,SMALL(IF(العاملين!$G$2:'العاملين'!$G$999=\"Sat\",ROW(العاملين!$B$2:'العاملين'!$B$999)-ROW(العاملين!$B$2)+1),ROWS($B$2:B174))),\"\")","v":""},{"$f":"IFERROR(INDEX(العاملين!$B$2:'العاملين'!$B$999,SMALL(IF(العاملين!$G$2:'العاملين'!$G$999=\"Sun\",ROW(العاملين!$B$2:'العاملين'!$B$999)-ROW(العاملين!$B$2)+1),ROWS($C$2:C174))),\"\")","v":""},null,{"$f":"IFERROR(INDEX(العاملين!$B$2:'العاملين'!$B$999,SMALL(IF(العاملين!$G$2:'العاملين'!$G$999=\"Mon\",ROW(العاملين!$B$2:'العاملين'!$B$999)-ROW(العاملين!$B$2)+1),ROWS($E$2:E174))),\"\")","v":""},null,{"$f":"IFERROR(INDEX(العاملين!$B$2:'العاملين'!$B$999,SMALL(IF(العاملين!$G$2:'العاملين'!$G$999=\"Tue\",ROW(العاملين!$B$2:'العاملين'!$B$999)-ROW(العاملين!$B$2)+1),ROWS($G$2:G174))),\"\")","v":""},null,{"$f":"IFERROR(INDEX(العاملين!$B$2:'العاملين'!$B$999,SMALL(IF(العاملين!$G$2:'العاملين'!$G$999=\"Wed\",ROW(العاملين!$B$2:'العاملين'!$B$999)-ROW(العاملين!$B$2)+1),ROWS($I$2:I174))),\"\")","v":""},null,{"$f":"IFERROR(INDEX(العاملين!$B$2:'العاملين'!$B$999,SMALL(IF(العاملين!$G$2:'العاملين'!$G$999=\"Thu\",ROW(العاملين!$B$2:'العاملين'!$B$999)-ROW(العاملين!$B$2)+1),ROWS($K$2:K174))),\"\")","v":""},null,{"$f":"IFERROR(INDEX(العاملين!$B$2:'العاملين'!$B$999,SMALL(IF(العاملين!$G$2:'العاملين'!$G$999=\"Fri\",ROW(العاملين!$B$2:'العاملين'!$B$999)-ROW(العاملين!$B$2)+1),ROWS($M$2:M174))),\"\")","v":""}]
[null,{"$f":"IFERROR(INDEX(العاملين!$B$2:'العاملين'!$B$999,SMALL(IF(العاملين!$G$2:'العاملين'!$G$999=\"Sat\",ROW(العاملين!$B$2:'العاملين'!$B$999)-ROW(العاملين!$B$2)+1),ROWS($B$2:B175))),\"\")","v":""},{"$f":"IFERROR(INDEX(العاملين!$B$2:'العاملين'!$B$999,SMALL(IF(العاملين!$G$2:'العاملين'!$G$999=\"Sun\",ROW(العاملين!$B$2:'العاملين'!$B$999)-ROW(العاملين!$B$2)+1),ROWS($C$2:C175))),\"\")","v":""},null,{"$f":"IFERROR(INDEX(العاملين!$B$2:'العاملين'!$B$999,SMALL(IF(العاملين!$G$2:'العاملين'!$G$999=\"Mon\",ROW(العاملين!$B$2:'العاملين'!$B$999)-ROW(العاملين!$B$2)+1),ROWS($E$2:E175))),\"\")","v":""},null,{"$f":"IFERROR(INDEX(العاملين!$B$2:'العاملين'!$B$999,SMALL(IF(العاملين!$G$2:'العاملين'!$G$999=\"Tue\",ROW(العاملين!$B$2:'العاملين'!$B$999)-ROW(العاملين!$B$2)+1),ROWS($G$2:G175))),\"\")","v":""},null,{"$f":"IFERROR(INDEX(العاملين!$B$2:'العاملين'!$B$999,SMALL(IF(العاملين!$G$2:'العاملين'!$G$999=\"Wed\",ROW(العاملين!$B$2:'العاملين'!$B$999)-ROW(العاملين!$B$2)+1),ROWS($I$2:I175))),\"\")","v":""},null,{"$f":"IFERROR(INDEX(العاملين!$B$2:'العاملين'!$B$999,SMALL(IF(العاملين!$G$2:'العاملين'!$G$999=\"Thu\",ROW(العاملين!$B$2:'العاملين'!$B$999)-ROW(العاملين!$B$2)+1),ROWS($K$2:K175))),\"\")","v":""},null,{"$f":"IFERROR(INDEX(العاملين!$B$2:'العاملين'!$B$999,SMALL(IF(العاملين!$G$2:'العاملين'!$G$999=\"Fri\",ROW(العاملين!$B$2:'العاملين'!$B$999)-ROW(العاملين!$B$2)+1),ROWS($M$2:M175))),\"\")","v":""}]
[null,null,{"$f":"IFERROR(INDEX(العاملين!$B$2:'العاملين'!$B$999,SMALL(IF(العاملين!$G$2:'العاملين'!$G$999=\"Sun\",ROW(العاملين!$B$2:'العاملين'!$B$999)-ROW(العاملين!$B$2)+1),ROWS($C$2:C176))),\"\")","v":""},null,{"$f":"IFERROR(INDEX(العاملين!$B$2:'العاملين'!$B$999,SMALL(IF(العاملين!$G$2:'العاملين'!$G$999=\"Mon\",ROW(العاملين!$B$2:'العاملين'!$B$999)-ROW(العاملين!$B$2)+1),ROWS($E$2:E176))),\"\")","v":""},null,{"$f":"IFERROR(INDEX(العاملين!$B$2:'العاملين'!$B$999,SMALL(IF(العاملين!$G$2:'العاملين'!$G$999=\"Tue\",ROW(العاملين!$B$2:'العاملين'!$B$999)-ROW(العاملين!$B$2)+1),ROWS($G$2:G176))),\"\")","v":""},null,{"$f":"IFERROR(INDEX(العاملين!$B$2:'العاملين'!$B$999,SMALL(IF(العاملين!$G$2:'العاملين'!$G$999=\"Wed\",ROW(العاملين!$B$2:'العاملين'!$B$999)-ROW(العاملين!$B$2)+1),ROWS($I$2:I176))),\"\")","v":""},null,{"$f":"IFERROR(INDEX(العاملين!$B$2:'العاملين'!$B$999,SMALL(IF(العاملين!$G$2:'العاملين'!$G$999=\"Thu\",ROW(العاملين!$B$2:'العاملين'!$B$999)-ROW(العاملين!$B$2)+1),ROWS($K$2:K176))),\"\")","v":""},null,{"$f":"IFERROR(INDEX(العاملين!$B$2:'العاملين'!$B$999,SMALL(IF(العاملين!$G$2:'العاملين'!$G$999=\"Fri\",ROW(العاملين!$B$2:'العاملين'!$B$999)-ROW(العاملين!$B$2)+1),ROWS($M$2:M176))),\"\")","v":""}]
[null,{"$f":"IFERROR(INDEX(العاملين!$B$2:'العاملين'!$B$999,SMALL(IF(العاملين!$G$2:'العاملين'!$G$999=\"Sat\",ROW(العاملين!$B$2:'العاملين'!$B$999)-ROW(العاملين!$B$2)+1),ROWS($B$2:B177))),\"\")","v":""},{"$f":"IFERROR(INDEX(العاملين!$B$2:'العاملين'!$B$999,SMALL(IF(العاملين!$G$2:'العاملين'!$G$999=\"Sun\",ROW(العاملين!$B$2:'العاملين'!$B$999)-ROW(العاملين!$B$2)+1),ROWS($C$2:C177))),\"\")","v":""},null,{"$f":"IFERROR(INDEX(العاملين!$B$2:'العاملين'!$B$999,SMALL(IF(العاملين!$G$2:'العاملين'!$G$999=\"Mon\",ROW(العاملين!$B$2:'العاملين'!$B$999)-ROW(العاملين!$B$2)+1),ROWS($E$2:E177))),\"\")","v":""},null,{"$f":"IFERROR(INDEX(العاملين!$B$2:'العاملين'!$B$999,SMALL(IF(العاملين!$G$2:'العاملين'!$G$999=\"Tue\",ROW(العاملين!$B$2:'العاملين'!$B$999)-ROW(العاملين!$B$2)+1),ROWS($G$2:G177))),\"\")","v":""},null,{"$f":"IFERROR(INDEX(العاملين!$B$2:'العاملين'!$B$999,SMALL(IF(العاملين!$G$2:'العاملين'!$G$999=\"Wed\",ROW(العاملين!$B$2:'العاملين'!$B$999)-ROW(العاملين!$B$2)+1),ROWS($I$2:I177))),\"\")","v":""},null,{"$f":"IFERROR(INDEX(العاملين!$B$2:'العاملين'!$B$999,SMALL(IF(العاملين!$G$2:'العاملين'!$G$999=\"Thu\",ROW(العاملين!$B$2:'العاملين'!$B$999)-ROW(العاملين!$B$2)+1),ROWS($K$2:K177))),\"\")","v":""},null,{"$f":"IFERROR(INDEX(العاملين!$B$2:'العاملين'!$B$999,SMALL(IF(العاملين!$G$2:'العاملين'!$G$999=\"Fri\",ROW(العاملين!$B$2:'العاملين'!$B$999)-ROW(العاملين!$B$2)+1),ROWS($M$2:M177))),\"\")","v":""}]
[null,{"$f":"IFERROR(INDEX(العاملين!$B$2:'العاملين'!$B$999,SMALL(IF(العاملين!$G$2:'العاملين'!$G$999=\"Sat\",ROW(العاملين!$B$2:'العاملين'!$B$999)-ROW(العاملين!$B$2)+1),ROWS($B$2:B178))),\"\")","v":""},{"$f":"IFERROR(INDEX(العاملين!$B$2:'العاملين'!$B$999,SMALL(IF(العاملين!$G$2:'العاملين'!$G$999=\"Sun\",ROW(العاملين!$B$2:'العاملين'!$B$999)-ROW(العاملين!$B$2)+1),ROWS($C$2:C178))),\"\")","v":""},null,{"$f":"IFERROR(INDEX(العاملين!$B$2:'العاملين'!$B$999,SMALL(IF(العاملين!$G$2:'العاملين'!$G$999=\"Mon\",ROW(العاملين!$B$2:'العاملين'!$B$999)-ROW(العاملين!$B$2)+1),ROWS($E$2:E178))),\"\")","v":""},null,{"$f":"IFERROR(INDEX(العاملين!$B$2:'العاملين'!$B$999,SMALL(IF(العاملين!$G$2:'العاملين'!$G$999=\"Tue\",ROW(العاملين!$B$2:'العاملين'!$B$999)-ROW(العاملين!$B$2)+1),ROWS($G$2:G178))),\"\")","v":""},null,{"$f":"IFERROR(INDEX(العاملين!$B$2:'العاملين'!$B$999,SMALL(IF(العاملين!$G$2:'العاملين'!$G$999=\"Wed\",ROW(العاملين!$B$2:'العاملين'!$B$999)-ROW(العاملين!$B$2)+1),ROWS($I$2:I178))),\"\")","v":""},null,{"$f":"IFERROR(INDEX(العاملين!$B$2:'العاملين'!$B$999,SMALL(IF(العاملين!$G$2:'العاملين'!$G$999=\"Thu\",ROW(العاملين!$B$2:'العاملين'!$B$999)-ROW(العاملين!$B$2)+1),ROWS($K$2:K178))),\"\")","v":""},null,{"$f":"IFERROR(INDEX(العاملين!$B$2:'العاملين'!$B$999,SMALL(IF(العاملين!$G$2:'العاملين'!$G$999=\"Fri\",ROW(العاملين!$B$2:'العاملين'!$B$999)-ROW(العاملين!$B$2)+1),ROWS($M$2:M178))),\"\")","v":""}]
[null,{"$f":"IFERROR(INDEX(العاملين!$B$2:'العاملين'!$B$999,SMALL(IF(العاملين!$G$2:'العاملين'!$G$999=\"Sat\",ROW(العاملين!$B$2:'العاملين'!$B$999)-ROW(العاملين!$B$2)+1),ROWS($B$2:B179))),\"\")","v":""},{"$f":"IFERROR(INDEX(العاملين!$B$2:'العاملين'!$B$999,SMALL(IF(العاملين!$G$2:'العاملين'!$G$999=\"Sun\",ROW(العاملين!$B$2:'العاملين'!$B$999)-ROW(العاملين!$B$2)+1),ROWS($C$2:C179))),\"\")","v":""},null,{"$f":"IFERROR(INDEX(العاملين!$B$2:'العاملين'!$B$999,SMALL(IF(العاملين!$G$2:'العاملين'!$G$999=\"Mon\",ROW(العاملين!$B$2:'العاملين'!$B$999)-ROW(العاملين!$B$2)+1),ROWS($E$2:E179))),\"\")","v":""},null,{"$f":"IFERROR(INDEX(العاملين!$B$2:'العاملين'!$B$999,SMALL(IF(العاملين!$G$2:'العاملين'!$G$999=\"Tue\",ROW(العاملين!$B$2:'العاملين'!$B$999)-ROW(العاملين!$B$2)+1),ROWS($G$2:G179))),\"\")","v":""},null,{"$f":"IFERROR(INDEX(العاملين!$B$2:'العاملين'!$B$999,SMALL(IF(العاملين!$G$2:'العاملين'!$G$999=\"Wed\",ROW(العاملين!$B$2:'العاملين'!$B$999)-ROW(العاملين!$B$2)+1),ROWS($I$2:I179))),\"\")","v":""},null,{"$f":"IFERROR(INDEX(العاملين!$B$2:'العاملين'!$B$999,SMALL(IF(العاملين!$G$2:'العاملين'!$G$999=\"Thu\",ROW(العاملين!$B$2:'العاملين'!$B$999)-ROW(العاملين!$B$2)+1),ROWS($K$2:K179))),\"\")","v":""},null,{"$f":"IFERROR(INDEX(العاملين!$B$2:'العاملين'!$B$999,SMALL(IF(العاملين!$G$2:'العاملين'!$G$999=\"Fri\",ROW(العاملين!$B$2:'العاملين'!$B$999)-ROW(العاملين!$B$2)+1),ROWS($M$2:M179))),\"\")","v":""}]
[null,{"$f":"IFERROR(INDEX(العاملين!$B$2:'العاملين'!$B$999,SMALL(IF(العاملين!$G$2:'العاملين'!$G$999=\"Sat\",ROW(العاملين!$B$2:'العاملين'!$B$999)-ROW(العاملين!$B$2)+1),ROWS($B$2:B180))),\"\")","v":""},{"$f":"IFERROR(INDEX(العاملين!$B$2:'العاملين'!$B$999,SMALL(IF(العاملين!$G$2:'العاملين'!$G$999=\"Sun\",ROW(العاملين!$B$2:'العاملين'!$B$999)-ROW(العاملين!$B$2)+1),ROWS($C$2:C180))),\"\")","v":""},null,{"$f":"IFERROR(INDEX(العاملين!$B$2:'العاملين'!$B$999,SMALL(IF(العاملين!$G$2:'العاملين'!$G$999=\"Mon\",ROW(العاملين!$B$2:'العاملين'!$B$999)-ROW(العاملين!$B$2)+1),ROWS($E$2:E180))),\"\")","v":""},null,{"$f":"IFERROR(INDEX(العاملين!$B$2:'العاملين'!$B$999,SMALL(IF(العاملين!$G$2:'العاملين'!$G$999=\"Tue\",ROW(العاملين!$B$2:'العاملين'!$B$999)-ROW(العاملين!$B$2)+1),ROWS($G$2:G180))),\"\")","v":""},null,{"$f":"IFERROR(INDEX(العاملين!$B$2:'العاملين'!$B$999,SMALL(IF(العاملين!$G$2:'العاملين'!$G$999=\"Wed\",ROW(العاملين!$B$2:'العاملين'!$B$999)-ROW(العاملين!$B$2)+1),ROWS($I$2:I180))),\"\")","v":""},null,{"$f":"IFERROR(INDEX(العاملين!$B$2:'العاملين'!$B$999,SMALL(IF(العاملين!$G$2:'العاملين'!$G$999=\"Thu\",ROW(العاملين!$B$2:'العاملين'!$B$999)-ROW(العاملين!$B$2)+1),ROWS($K$2:K180))),\"\")","v":""},null,{"$f":"IFERROR(INDEX(العاملين!$B$2:'العاملين'!$B$999,SMALL(IF(العاملين!$G$2:'العاملين'!$G$999=\"Fri\",ROW(العاملين!$B$2:'العاملين'!$B$999)-ROW(العاملين!$B$2)+1),ROWS($M$2:M180))),\"\")","v":""}]
[null,{"$f":"IFERROR(INDEX(العاملين!$B$2:'العاملين'!$B$999,SMALL(IF(العاملين!$G$2:'العاملين'!$G$999=\"Sat\",ROW(العاملين!$B$2:'العاملين'!$B$999)-ROW(العاملين!$B$2)+1),ROWS($B$2:B181))),\"\")","v":""},{"$f":"IFERROR(INDEX(العاملين!$B$2:'العاملين'!$B$999,SMALL(IF(العاملين!$G$2:'العاملين'!$G$999=\"Sun\",ROW(العاملين!$B$2:'العاملين'!$B$999)-ROW(العاملين!$B$2)+1),ROWS($C$2:C181))),\"\")","v":""},null,{"$f":"IFERROR(INDEX(العاملين!$B$2:'العاملين'!$B$999,SMALL(IF(العاملين!$G$2:'العاملين'!$G$999=\"Mon\",ROW(العاملين!$B$2:'العاملين'!$B$999)-ROW(العاملين!$B$2)+1),ROWS($E$2:E181))),\"\")","v":""},null,{"$f":"IFERROR(INDEX(العاملين!$B$2:'العاملين'!$B$999,SMALL(IF(العاملين!$G$2:'العاملين'!$G$999=\"Tue\",ROW(العاملين!$B$2:'العاملين'!$B$999)-ROW(العاملين!$B$2)+1),ROWS($G$2:G181))),\"\")","v":""},null,{"$f":"IFERROR(INDEX(العاملين!$B$2:'العاملين'!$B$999,SMALL(IF(العاملين!$G$2:'العاملين'!$G$999=\"Wed\",ROW(العاملين!$B$2:'العاملين'!$B$999)-ROW(العاملين!$B$2)+1),ROWS($I$2:I181))),\"\")","v":""},null,{"$f":"IFERROR(INDEX(العاملين!$B$2:'العاملين'!$B$999,SMALL(IF(العاملين!$G$2:'العاملين'!$G$999=\"Thu\",ROW(العاملين!$B$2:'العاملين'!$B$999)-ROW(العاملين!$B$2)+1),ROWS($K$2:K181))),\"\")","v":""},null,{"$f":"IFERROR(INDEX(العاملين!$B$2:'العاملين'!$B$999,SMALL(IF(العاملين!$G$2:'العاملين'!$G$999=\"Fri\",ROW(العاملين!$B$2:'العاملين'!$B$999)-ROW(العاملين!$B$2)+1),ROWS($M$2:M181))),\"\")","v":""}]
[null,{"$f":"IFERROR(INDEX(العاملين!$B$2:'العاملين'!$B$999,SMALL(IF(العاملين!$G$2:'العاملين'!$G$999=\"Sat\",ROW(العاملين!$B$2:'العاملين'!$B$999)-ROW(العاملين!$B$2)+1),ROWS($B$2:B182))),\"\")","v":""},{"$f":"IFERROR(INDEX(العاملين!$B$2:'العاملين'!$B$999,SMALL(IF(العاملين!$G$2:'العاملين'!$G$999=\"Sun\",ROW(العاملين!$B$2:'العاملين'!$B$999)-ROW(العاملين!$B$2)+1),ROWS($C$2:C182))),\"\")","v":""},null,{"$f":"IFERROR(INDEX(العاملين!$B$2:'العاملين'!$B$999,SMALL(IF(العاملين!$G$2:'العاملين'!$G$999=\"Mon\",ROW(العاملين!$B$2:'العاملين'!$B$999)-ROW(العاملين!$B$2)+1),ROWS($E$2:E182))),\"\")","v":""},null,{"$f":"IFERROR(INDEX(العاملين!$B$2:'العاملين'!$B$999,SMALL(IF(العاملين!$G$2:'العاملين'!$G$999=\"Tue\",ROW(العاملين!$B$2:'العاملين'!$B$999)-ROW(العاملين!$B$2)+1),ROWS($G$2:G182))),\"\")","v":""},null,{"$f":"IFERROR(INDEX(العاملين!$B$2:'العاملين'!$B$999,SMALL(IF(العاملين!$G$2:'العاملين'!$G$999=\"Wed\",ROW(العاملين!$B$2:'العاملين'!$B$999)-ROW(العاملين!$B$2)+1),ROWS($I$2:I182))),\"\")","v":""},null,{"$f":"IFERROR(INDEX(العاملين!$B$2:'العاملين'!$B$999,SMALL(IF(العاملين!$G$2:'العاملين'!$G$999=\"Thu\",ROW(العاملين!$B$2:'العاملين'!$B$999)-ROW(العاملين!$B$2)+1),ROWS($K$2:K182))),\"\")","v":""},null,{"$f":"IFERROR(INDEX(العاملين!$B$2:'العاملين'!$B$999,SMALL(IF(العاملين!$G$2:'العاملين'!$G$999=\"Fri\",ROW(العاملين!$B$2:'العاملين'!$B$999)-ROW(العاملين!$B$2)+1),ROWS($M$2:M182))),\"\")","v":""}]
[null,{"$f":"IFERROR(INDEX(العاملين!$B$2:'العاملين'!$B$999,SMALL(IF(العاملين!$G$2:'العاملين'!$G$999=\"Sat\",ROW(العاملين!$B$2:'العاملين'!$B$999)-ROW(العاملين!$B$2)+1),ROWS($B$2:B183))),\"\")","v":""},{"$f":"IFERROR(INDEX(العاملين!$B$2:'العاملين'!$B$999,SMALL(IF(العاملين!$G$2:'العاملين'!$G$999=\"Sun\",ROW(العاملين!$B$2:'العاملين'!$B$999)-ROW(العاملين!$B$2)+1),ROWS($C$2:C183))),\"\")","v":""},null,{"$f":"IFERROR(INDEX(العاملين!$B$2:'العاملين'!$B$999,SMALL(IF(العاملين!$G$2:'العاملين'!$G$999=\"Mon\",ROW(العاملين!$B$2:'العاملين'!$B$999)-ROW(العاملين!$B$2)+1),ROWS($E$2:E183))),\"\")","v":""},null,{"$f":"IFERROR(INDEX(العاملين!$B$2:'العاملين'!$B$999,SMALL(IF(العاملين!$G$2:'العاملين'!$G$999=\"Tue\",ROW(العاملين!$B$2:'العاملين'!$B$999)-ROW(العاملين!$B$2)+1),ROWS($G$2:G183))),\"\")","v":""},null,{"$f":"IFERROR(INDEX(العاملين!$B$2:'العاملين'!$B$999,SMALL(IF(العاملين!$G$2:'العاملين'!$G$999=\"Wed\",ROW(العاملين!$B$2:'العاملين'!$B$999)-ROW(العاملين!$B$2)+1),ROWS($I$2:I183))),\"\")","v":""},null,{"$f":"IFERROR(INDEX(العاملين!$B$2:'العاملين'!$B$999,SMALL(IF(العاملين!$G$2:'العاملين'!$G$999=\"Thu\",ROW(العاملين!$B$2:'العاملين'!$B$999)-ROW(العاملين!$B$2)+1),ROWS($K$2:K183))),\"\")","v":""},null,{"$f":"IFERROR(INDEX(العاملين!$B$2:'العاملين'!$B$999,SMALL(IF(العاملين!$G$2:'العاملين'!$G$999=\"Fri\",ROW(العاملين!$B$2:'العاملين'!$B$999)-ROW(العاملين!$B$2)+1),ROWS($M$2:M183))),\"\")","v":""}]
[null,{"$f":"IFERROR(INDEX(العاملين!$B$2:'العاملين'!$B$999,SMALL(IF(العاملين!$G$2:'العاملين'!$G$999=\"Sat\",ROW(العاملين!$B$2:'العاملين'!$B$999)-ROW(العاملين!$B$2)+1),ROWS($B$2:B184))),\"\")","v":""},{"$f":"IFERROR(INDEX(العاملين!$B$2:'العاملين'!$B$999,SMALL(IF(العاملين!$G$2:'العاملين'!$G$999=\"Sun\",ROW(العاملين!$B$2:'العاملين'!$B$999)-ROW(العاملين!$B$2)+1),ROWS($C$2:C184))),\"\")","v":""},null,{"$f":"IFERROR(INDEX(العاملين!$B$2:'العاملين'!$B$999,SMALL(IF(العاملين!$G$2:'العاملين'!$G$999=\"Mon\",ROW(العاملين!$B$2:'العاملين'!$B$999)-ROW(العاملين!$B$2)+1),ROWS($E$2:E184))),\"\")","v":""},null,{"$f":"IFERROR(INDEX(العاملين!$B$2:'العاملين'!$B$999,SMALL(IF(العاملين!$G$2:'العاملين'!$G$999=\"Tue\",ROW(العاملين!$B$2:'العاملين'!$B$999)-ROW(العاملين!$B$2)+1),ROWS($G$2:G184))),\"\")","v":""},null,{"$f":"IFERROR(INDEX(العاملين!$B$2:'العاملين'!$B$999,SMALL(IF(العاملين!$G$2:'العاملين'!$G$999=\"Wed\",ROW(العاملين!$B$2:'العاملين'!$B$999)-ROW(العاملين!$B$2)+1),ROWS($I$2:I184))),\"\")","v":""},null,{"$f":"IFERROR(INDEX(العاملين!$B$2:'العاملين'!$B$999,SMALL(IF(العاملين!$G$2:'العاملين'!$G$999=\"Thu\",ROW(العاملين!$B$2:'العاملين'!$B$999)-ROW(العاملين!$B$2)+1),ROWS($K$2:K184))),\"\")","v":""},null,{"$f":"IFERROR(INDEX(العاملين!$B$2:'العاملين'!$B$999,SMALL(IF(العاملين!$G$2:'العاملين'!$G$999=\"Fri\",ROW(العاملين!$B$2:'العاملين'!$B$999)-ROW(العاملين!$B$2)+1),ROWS($M$2:M184))),\"\")","v":""}]
[null,{"$f":"IFERROR(INDEX(العاملين!$B$2:'العاملين'!$B$999,SMALL(IF(العاملين!$G$2:'العاملين'!$G$999=\"Sat\",ROW(العاملين!$B$2:'العاملين'!$B$999)-ROW(العاملين!$B$2)+1),ROWS($B$2:B185))),\"\")","v":""},{"$f":"IFERROR(INDEX(العاملين!$B$2:'العاملين'!$B$999,SMALL(IF(العاملين!$G$2:'العاملين'!$G$999=\"Sun\",ROW(العاملين!$B$2:'العاملين'!$B$999)-ROW(العاملين!$B$2)+1),ROWS($C$2:C185))),\"\")","v":""},null,{"$f":"IFERROR(INDEX(العاملين!$B$2:'العاملين'!$B$999,SMALL(IF(العاملين!$G$2:'العاملين'!$G$999=\"Mon\",ROW(العاملين!$B$2:'العاملين'!$B$999)-ROW(العاملين!$B$2)+1),ROWS($E$2:E185))),\"\")","v":""},null,{"$f":"IFERROR(INDEX(العاملين!$B$2:'العاملين'!$B$999,SMALL(IF(العاملين!$G$2:'العاملين'!$G$999=\"Tue\",ROW(العاملين!$B$2:'العاملين'!$B$999)-ROW(العاملين!$B$2)+1),ROWS($G$2:G185))),\"\")","v":""},null,{"$f":"IFERROR(INDEX(العاملين!$B$2:'العاملين'!$B$999,SMALL(IF(العاملين!$G$2:'العاملين'!$G$999=\"Wed\",ROW(العاملين!$B$2:'العاملين'!$B$999)-ROW(العاملين!$B$2)+1),ROWS($I$2:I185))),\"\")","v":""},null,{"$f":"IFERROR(INDEX(العاملين!$B$2:'العاملين'!$B$999,SMALL(IF(العاملين!$G$2:'العاملين'!$G$999=\"Thu\",ROW(العاملين!$B$2:'العاملين'!$B$999)-ROW(العاملين!$B$2)+1),ROWS($K$2:K185))),\"\")","v":""},null,{"$f":"IFERROR(INDEX(العاملين!$B$2:'العاملين'!$B$999,SMALL(IF(العاملين!$G$2:'العاملين'!$G$999=\"Fri\",ROW(العاملين!$B$2:'العاملين'!$B$999)-ROW(العاملين!$B$2)+1),ROWS($M$2:M185))),\"\")","v":""}]
[null,{"$f":"IFERROR(INDEX(العاملين!$B$2:'العاملين'!$B$999,SMALL(IF(العاملين!$G$2:'العاملين'!$G$999=\"Sat\",ROW(العاملين!$B$2:'العاملين'!$B$999)-ROW(العاملين!$B$2)+1),ROWS($B$2:B186))),\"\")","v":""},{"$f":"IFERROR(INDEX(العاملين!$B$2:'العاملين'!$B$999,SMALL(IF(العاملين!$G$2:'العاملين'!$G$999=\"Sun\",ROW(العاملين!$B$2:'العاملين'!$B$999)-ROW(العاملين!$B$2)+1),ROWS($C$2:C186))),\"\")","v":""},null,{"$f":"IFERROR(INDEX(العاملين!$B$2:'العاملين'!$B$999,SMALL(IF(العاملين!$G$2:'العاملين'!$G$999=\"Mon\",ROW(العاملين!$B$2:'العاملين'!$B$999)-ROW(العاملين!$B$2)+1),ROWS($E$2:E186))),\"\")","v":""},null,{"$f":"IFERROR(INDEX(العاملين!$B$2:'العاملين'!$B$999,SMALL(IF(العاملين!$G$2:'العاملين'!$G$999=\"Tue\",ROW(العاملين!$B$2:'العاملين'!$B$999)-ROW(العاملين!$B$2)+1),ROWS($G$2:G186))),\"\")","v":""},null,{"$f":"IFERROR(INDEX(العاملين!$B$2:'العاملين'!$B$999,SMALL(IF(العاملين!$G$2:'العاملين'!$G$999=\"Wed\",ROW(العاملين!$B$2:'العاملين'!$B$999)-ROW(العاملين!$B$2)+1),ROWS($I$2:I186))),\"\")","v":""},null,{"$f":"IFERROR(INDEX(العاملين!$B$2:'العاملين'!$B$999,SMALL(IF(العاملين!$G$2:'العاملين'!$G$999=\"Thu\",ROW(العاملين!$B$2:'العاملين'!$B$999)-ROW(العاملين!$B$2)+1),ROWS($K$2:K186))),\"\")","v":""},null,{"$f":"IFERROR(INDEX(العاملين!$B$2:'العاملين'!$B$999,SMALL(IF(العاملين!$G$2:'العاملين'!$G$999=\"Fri\",ROW(العاملين!$B$2:'العاملين'!$B$999)-ROW(العاملين!$B$2)+1),ROWS($M$2:M186))),\"\")","v":""}]
[null,{"$f":"IFERROR(INDEX(العاملين!$B$2:'العاملين'!$B$999,SMALL(IF(العاملين!$G$2:'العاملين'!$G$999=\"Sat\",ROW(العاملين!$B$2:'العاملين'!$B$999)-ROW(العاملين!$B$2)+1),ROWS($B$2:B187))),\"\")","v":""},{"$f":"IFERROR(INDEX(العاملين!$B$2:'العاملين'!$B$999,SMALL(IF(العاملين!$G$2:'العاملين'!$G$999=\"Sun\",ROW(العاملين!$B$2:'العاملين'!$B$999)-ROW(العاملين!$B$2)+1),ROWS($C$2:C187))),\"\")","v":""},null,{"$f":"IFERROR(INDEX(العاملين!$B$2:'العاملين'!$B$999,SMALL(IF(العاملين!$G$2:'العاملين'!$G$999=\"Mon\",ROW(العاملين!$B$2:'العاملين'!$B$999)-ROW(العاملين!$B$2)+1),ROWS($E$2:E187))),\"\")","v":""},null,{"$f":"IFERROR(INDEX(العاملين!$B$2:'العاملين'!$B$999,SMALL(IF(العاملين!$G$2:'العاملين'!$G$999=\"Tue\",ROW(العاملين!$B$2:'العاملين'!$B$999)-ROW(العاملين!$B$2)+1),ROWS($G$2:G187))),\"\")","v":""},null,{"$f":"IFERROR(INDEX(العاملين!$B$2:'العاملين'!$B$999,SMALL(IF(العاملين!$G$2:'العاملين'!$G$999=\"Wed\",ROW(العاملين!$B$2:'العاملين'!$B$999)-ROW(العاملين!$B$2)+1),ROWS($I$2:I187))),\"\")","v":""},null,{"$f":"IFERROR(INDEX(العاملين!$B$2:'العاملين'!$B$999,SMALL(IF(العاملين!$G$2:'العاملين'!$G$999=\"Thu\",ROW(العاملين!$B$2:'العاملين'!$B$999)-ROW(العاملين!$B$2)+1),ROWS($K$2:K187))),\"\")","v":""},null,{"$f":"IFERROR(INDEX(العاملين!$B$2:'العاملين'!$B$999,SMALL(IF(العاملين!$G$2:'العاملين'!$G$999=\"Fri\",ROW(العاملين!$B$2:'العاملين'!$B$999)-ROW(العاملين!$B$2)+1),ROWS($M$2:M187))),\"\")","v":""}]
[null,{"$f":"IFERROR(INDEX(العاملين!$B$2:'العاملين'!$B$999,SMALL(IF(العاملين!$G$2:'العاملين'!$G$999=\"Sat\",ROW(العاملين!$B$2:'العاملين'!$B$999)-ROW(العاملين!$B$2)+1),ROWS($B$2:B188))),\"\")","v":""},{"$f":"IFERROR(INDEX(العاملين!$B$2:'العاملين'!$B$999,SMALL(IF(العاملين!$G$2:'العاملين'!$G$999=\"Sun\",ROW(العاملين!$B$2:'العاملين'!$B$999)-ROW(العاملين!$B$2)+1),ROWS($C$2:C188))),\"\")","v":""},null,{"$f":"IFERROR(INDEX(العاملين!$B$2:'العاملين'!$B$999,SMALL(IF(العاملين!$G$2:'العاملين'!$G$999=\"Mon\",ROW(العاملين!$B$2:'العاملين'!$B$999)-ROW(العاملين!$B$2)+1),ROWS($E$2:E188))),\"\")","v":""},null,{"$f":"IFERROR(INDEX(العاملين!$B$2:'العاملين'!$B$999,SMALL(IF(العاملين!$G$2:'العاملين'!$G$999=\"Tue\",ROW(العاملين!$B$2:'العاملين'!$B$999)-ROW(العاملين!$B$2)+1),ROWS($G$2:G188))),\"\")","v":""},null,{"$f":"IFERROR(INDEX(العاملين!$B$2:'العاملين'!$B$999,SMALL(IF(العاملين!$G$2:'العاملين'!$G$999=\"Wed\",ROW(العاملين!$B$2:'العاملين'!$B$999)-ROW(العاملين!$B$2)+1),ROWS($I$2:I188))),\"\")","v":""},null,{"$f":"IFERROR(INDEX(العاملين!$B$2:'العاملين'!$B$999,SMALL(IF(العاملين!$G$2:'العاملين'!$G$999=\"Thu\",ROW(العاملين!$B$2:'العاملين'!$B$999)-ROW(العاملين!$B$2)+1),ROWS($K$2:K188))),\"\")","v":""},null,{"$f":"IFERROR(INDEX(العاملين!$B$2:'العاملين'!$B$999,SMALL(IF(العاملين!$G$2:'العاملين'!$G$999=\"Fri\",ROW(العاملين!$B$2:'العاملين'!$B$999)-ROW(العاملين!$B$2)+1),ROWS($M$2:M188))),\"\")","v":""}]
[null,{"$f":"IFERROR(INDEX(العاملين!$B$2:'العاملين'!$B$999,SMALL(IF(العاملين!$G$2:'العاملين'!$G$999=\"Sat\",ROW(العاملين!$B$2:'العاملين'!$B$999)-ROW(العاملين!$B$2)+1),ROWS($B$2:B189))),\"\")","v":""},{"$f":"IFERROR(INDEX(العاملين!$B$2:'العاملين'!$B$999,SMALL(IF(العاملين!$G$2:'العاملين'!$G$999=\"Sun\",ROW(العاملين!$B$2:'العاملين'!$B$999)-ROW(العاملين!$B$2)+1),ROWS($C$2:C189))),\"\")","v":""},null,{"$f":"IFERROR(INDEX(العاملين!$B$2:'العاملين'!$B$999,SMALL(IF(العاملين!$G$2:'العاملين'!$G$999=\"Mon\",ROW(العاملين!$B$2:'العاملين'!$B$999)-ROW(العاملين!$B$2)+1),ROWS($E$2:E189))),\"\")","v":""},null,{"$f":"IFERROR(INDEX(العاملين!$B$2:'العاملين'!$B$999,SMALL(IF(العاملين!$G$2:'العاملين'!$G$999=\"Tue\",ROW(العاملين!$B$2:'العاملين'!$B$999)-ROW(العاملين!$B$2)+1),ROWS($G$2:G189))),\"\")","v":""},null,{"$f":"IFERROR(INDEX(العاملين!$B$2:'العاملين'!$B$999,SMALL(IF(العاملين!$G$2:'العاملين'!$G$999=\"Wed\",ROW(العاملين!$B$2:'العاملين'!$B$999)-ROW(العاملين!$B$2)+1),ROWS($I$2:I189))),\"\")","v":""},null,{"$f":"IFERROR(INDEX(العاملين!$B$2:'العاملين'!$B$999,SMALL(IF(العاملين!$G$2:'العاملين'!$G$999=\"Thu\",ROW(العاملين!$B$2:'العاملين'!$B$999)-ROW(العاملين!$B$2)+1),ROWS($K$2:K189))),\"\")","v":""},null,{"$f":"IFERROR(INDEX(العاملين!$B$2:'العاملين'!$B$999,SMALL(IF(العاملين!$G$2:'العاملين'!$G$999=\"Fri\",ROW(العاملين!$B$2:'العاملين'!$B$999)-ROW(العاملين!$B$2)+1),ROWS($M$2:M189))),\"\")","v":""}]
[null,{"$f":"IFERROR(INDEX(العاملين!$B$2:'العاملين'!$B$999,SMALL(IF(العاملين!$G$2:'العاملين'!$G$999=\"Sat\",ROW(العاملين!$B$2:'العاملين'!$B$999)-ROW(العاملين!$B$2)+1),ROWS($B$2:B190))),\"\")","v":""},{"$f":"IFERROR(INDEX(العاملين!$B$2:'العاملين'!$B$999,SMALL(IF(العاملين!$G$2:'العاملين'!$G$999=\"Sun\",ROW(العاملين!$B$2:'العاملين'!$B$999)-ROW(العاملين!$B$2)+1),ROWS($C$2:C190))),\"\")","v":""},null,{"$f":"IFERROR(INDEX(العاملين!$B$2:'العاملين'!$B$999,SMALL(IF(العاملين!$G$2:'العاملين'!$G$999=\"Mon\",ROW(العاملين!$B$2:'العاملين'!$B$999)-ROW(العاملين!$B$2)+1),ROWS($E$2:E190))),\"\")","v":""},null,{"$f":"IFERROR(INDEX(العاملين!$B$2:'العاملين'!$B$999,SMALL(IF(العاملين!$G$2:'العاملين'!$G$999=\"Tue\",ROW(العاملين!$B$2:'العاملين'!$B$999)-ROW(العاملين!$B$2)+1),ROWS($G$2:G190))),\"\")","v":""},null,{"$f":"IFERROR(INDEX(العاملين!$B$2:'العاملين'!$B$999,SMALL(IF(العاملين!$G$2:'العاملين'!$G$999=\"Wed\",ROW(العاملين!$B$2:'العاملين'!$B$999)-ROW(العاملين!$B$2)+1),ROWS($I$2:I190))),\"\")","v":""},null,{"$f":"IFERROR(INDEX(العاملين!$B$2:'العاملين'!$B$999,SMALL(IF(العاملين!$G$2:'العاملين'!$G$999=\"Thu\",ROW(العاملين!$B$2:'العاملين'!$B$999)-ROW(العاملين!$B$2)+1),ROWS($K$2:K190))),\"\")","v":""},null,{"$f":"IFERROR(INDEX(العاملين!$B$2:'العاملين'!$B$999,SMALL(IF(العاملين!$G$2:'العاملين'!$G$999=\"Fri\",ROW(العاملين!$B$2:'العاملين'!$B$999)-ROW(العاملين!$B$2)+1),ROWS($M$2:M190))),\"\")","v":""}]
[null,{"$f":"IFERROR(INDEX(العاملين!$B$2:'العاملين'!$B$999,SMALL(IF(العاملين!$G$2:'العاملين'!$G$999=\"Sat\",ROW(العاملين!$B$2:'العاملين'!$B$999)-ROW(العاملين!$B$2)+1),ROWS($B$2:B191))),\"\")","v":""},{"$f":"IFERROR(INDEX(العاملين!$B$2:'العاملين'!$B$999,SMALL(IF(العاملين!$G$2:'العاملين'!$G$999=\"Sun\",ROW(العاملين!$B$2:'العاملين'!$B$999)-ROW(العاملين!$B$2)+1),ROWS($C$2:C191))),\"\")","v":""},null,{"$f":"IFERROR(INDEX(العاملين!$B$2:'العاملين'!$B$999,SMALL(IF(العاملين!$G$2:'العاملين'!$G$999=\"Mon\",ROW(العاملين!$B$2:'العاملين'!$B$999)-ROW(العاملين!$B$2)+1),ROWS($E$2:E191))),\"\")","v":""},null,{"$f":"IFERROR(INDEX(العاملين!$B$2:'العاملين'!$B$999,SMALL(IF(العاملين!$G$2:'العاملين'!$G$999=\"Tue\",ROW(العاملين!$B$2:'العاملين'!$B$999)-ROW(العاملين!$B$2)+1),ROWS($G$2:G191))),\"\")","v":""},null,{"$f":"IFERROR(INDEX(العاملين!$B$2:'العاملين'!$B$999,SMALL(IF(العاملين!$G$2:'العاملين'!$G$999=\"Wed\",ROW(العاملين!$B$2:'العاملين'!$B$999)-ROW(العاملين!$B$2)+1),ROWS($I$2:I191))),\"\")","v":""},null,{"$f":"IFERROR(INDEX(العاملين!$B$2:'العاملين'!$B$999,SMALL(IF(العاملين!$G$2:'العاملين'!$G$999=\"Thu\",ROW(العاملين!$B$2:'العاملين'!$B$999)-ROW(العاملين!$B$2)+1),ROWS($K$2:K191))),\"\")","v":""},null,{"$f":"IFERROR(INDEX(العاملين!$B$2:'العاملين'!$B$999,SMALL(IF(العاملين!$G$2:'العاملين'!$G$999=\"Fri\",ROW(العاملين!$B$2:'العاملين'!$B$999)-ROW(العاملين!$B$2)+1),ROWS($M$2:M191))),\"\")","v":""}]
[null,{"$f":"IFERROR(INDEX(العاملين!$B$2:'العاملين'!$B$999,SMALL(IF(العاملين!$G$2:'العاملين'!$G$999=\"Sat\",ROW(العاملين!$B$2:'العاملين'!$B$999)-ROW(العاملين!$B$2)+1),ROWS($B$2:B192))),\"\")","v":""},{"$f":"IFERROR(INDEX(العاملين!$B$2:'العاملين'!$B$999,SMALL(IF(العاملين!$G$2:'العاملين'!$G$999=\"Sun\",ROW(العاملين!$B$2:'العاملين'!$B$999)-ROW(العاملين!$B$2)+1),ROWS($C$2:C192))),\"\")","v":""},null,{"$f":"IFERROR(INDEX(العاملين!$B$2:'العاملين'!$B$999,SMALL(IF(العاملين!$G$2:'العاملين'!$G$999=\"Mon\",ROW(العاملين!$B$2:'العاملين'!$B$999)-ROW(العاملين!$B$2)+1),ROWS($E$2:E192))),\"\")","v":""},null,{"$f":"IFERROR(INDEX(العاملين!$B$2:'العاملين'!$B$999,SMALL(IF(العاملين!$G$2:'العاملين'!$G$999=\"Tue\",ROW(العاملين!$B$2:'العاملين'!$B$999)-ROW(العاملين!$B$2)+1),ROWS($G$2:G192))),\"\")","v":""},null,{"$f":"IFERROR(INDEX(العاملين!$B$2:'العاملين'!$B$999,SMALL(IF(العاملين!$G$2:'العاملين'!$G$999=\"Wed\",ROW(العاملين!$B$2:'العاملين'!$B$999)-ROW(العاملين!$B$2)+1),ROWS($I$2:I192))),\"\")","v":""},null,{"$f":"IFERROR(INDEX(العاملين!$B$2:'العاملين'!$B$999,SMALL(IF(العاملين!$G$2:'العاملين'!$G$999=\"Thu\",ROW(العاملين!$B$2:'العاملين'!$B$999)-ROW(العاملين!$B$2)+1),ROWS($K$2:K192))),\"\")","v":""},null,{"$f":"IFERROR(INDEX(العاملين!$B$2:'العاملين'!$B$999,SMALL(IF(العاملين!$G$2:'العاملين'!$G$999=\"Fri\",ROW(العاملين!$B$2:'العاملين'!$B$999)-ROW(العاملين!$B$2)+1),ROWS($M$2:M192))),\"\")","v":""}]
[null,{"$f":"IFERROR(INDEX(العاملين!$B$2:'العاملين'!$B$999,SMALL(IF(العاملين!$G$2:'العاملين'!$G$999=\"Sat\",ROW(العاملين!$B$2:'العاملين'!$B$999)-ROW(العاملين!$B$2)+1),ROWS($B$2:B193))),\"\")","v":""},{"$f":"IFERROR(INDEX(العاملين!$B$2:'العاملين'!$B$999,SMALL(IF(العاملين!$G$2:'العاملين'!$G$999=\"Sun\",ROW(العاملين!$B$2:'العاملين'!$B$999)-ROW(العاملين!$B$2)+1),ROWS($C$2:C193))),\"\")","v":""},null,{"$f":"IFERROR(INDEX(العاملين!$B$2:'العاملين'!$B$999,SMALL(IF(العاملين!$G$2:'العاملين'!$G$999=\"Mon\",ROW(العاملين!$B$2:'العاملين'!$B$999)-ROW(العاملين!$B$2)+1),ROWS($E$2:E193))),\"\")","v":""},null,{"$f":"IFERROR(INDEX(العاملين!$B$2:'العاملين'!$B$999,SMALL(IF(العاملين!$G$2:'العاملين'!$G$999=\"Tue\",ROW(العاملين!$B$2:'العاملين'!$B$999)-ROW(العاملين!$B$2)+1),ROWS($G$2:G193))),\"\")","v":""},null,{"$f":"IFERROR(INDEX(العاملين!$B$2:'العاملين'!$B$999,SMALL(IF(العاملين!$G$2:'العاملين'!$G$999=\"Wed\",ROW(العاملين!$B$2:'العاملين'!$B$999)-ROW(العاملين!$B$2)+1),ROWS($I$2:I193))),\"\")","v":""},null,{"$f":"IFERROR(INDEX(العاملين!$B$2:'العاملين'!$B$999,SMALL(IF(العاملين!$G$2:'العاملين'!$G$999=\"Thu\",ROW(العاملين!$B$2:'العاملين'!$B$999)-ROW(العاملين!$B$2)+1),ROWS($K$2:K193))),\"\")","v":""},null,{"$f":"IFERROR(INDEX(العاملين!$B$2:'العاملين'!$B$999,SMALL(IF(العاملين!$G$2:'العاملين'!$G$999=\"Fri\",ROW(العاملين!$B$2:'العاملين'!$B$999)-ROW(العاملين!$B$2)+1),ROWS($M$2:M193))),\"\")","v":""}]
[null,{"$f":"IFERROR(INDEX(العاملين!$B$2:'العاملين'!$B$999,SMALL(IF(العاملين!$G$2:'العاملين'!$G$999=\"Sat\",ROW(العاملين!$B$2:'العاملين'!$B$999)-ROW(العاملين!$B$2)+1),ROWS($B$2:B194))),\"\")","v":""},{"$f":"IFERROR(INDEX(العاملين!$B$2:'العاملين'!$B$999,SMALL(IF(العاملين!$G$2:'العاملين'!$G$999=\"Sun\",ROW(العاملين!$B$2:'العاملين'!$B$999)-ROW(العاملين!$B$2)+1),ROWS($C$2:C194))),\"\")","v":""},null,{"$f":"IFERROR(INDEX(العاملين!$B$2:'العاملين'!$B$999,SMALL(IF(العاملين!$G$2:'العاملين'!$G$999=\"Mon\",ROW(العاملين!$B$2:'العاملين'!$B$999)-ROW(العاملين!$B$2)+1),ROWS($E$2:E194))),\"\")","v":""},null,{"$f":"IFERROR(INDEX(العاملين!$B$2:'العاملين'!$B$999,SMALL(IF(العاملين!$G$2:'العاملين'!$G$999=\"Tue\",ROW(العاملين!$B$2:'العاملين'!$B$999)-ROW(العاملين!$B$2)+1),ROWS($G$2:G194))),\"\")","v":""},null,{"$f":"IFERROR(INDEX(العاملين!$B$2:'العاملين'!$B$999,SMALL(IF(العاملين!$G$2:'العاملين'!$G$999=\"Wed\",ROW(العاملين!$B$2:'العاملين'!$B$999)-ROW(العاملين!$B$2)+1),ROWS($I$2:I194))),\"\")","v":""},null,{"$f":"IFERROR(INDEX(العاملين!$B$2:'العاملين'!$B$999,SMALL(IF(العاملين!$G$2:'العاملين'!$G$999=\"Thu\",ROW(العاملين!$B$2:'العاملين'!$B$999)-ROW(العاملين!$B$2)+1),ROWS($K$2:K194))),\"\")","v":""},null,{"$f":"IFERROR(INDEX(العاملين!$B$2:'العاملين'!$B$999,SMALL(IF(العاملين!$G$2:'العاملين'!$G$999=\"Fri\",ROW(العاملين!$B$2:'العاملين'!$B$999)-ROW(العاملين!$B$2)+1),ROWS($M$2:M194))),\"\")","v":""}]
[null,{"$f":"IFERROR(INDEX(العاملين!$B$2:'العاملين'!$B$999,SMALL(IF(العاملين!$G$2:'العاملين'!$G$999=\"Sat\",ROW(العاملين!$B$2:'العاملين'!$B$999)-ROW(العاملين!$B$2)+1),ROWS($B$2:B195))),\"\")","v":""},{"$f":"IFERROR(INDEX(العاملين!$B$2:'العاملين'!$B$999,SMALL(IF(العاملين!$G$2:'العاملين'!$G$999=\"Sun\",ROW(العاملين!$B$2:'العاملين'!$B$999)-ROW(العاملين!$B$2)+1),ROWS($C$2:C195))),\"\")","v":""},null,{"$f":"IFERROR(INDEX(العاملين!$B$2:'العاملين'!$B$999,SMALL(IF(العاملين!$G$2:'العاملين'!$G$999=\"Mon\",ROW(العاملين!$B$2:'العاملين'!$B$999)-ROW(العاملين!$B$2)+1),ROWS($E$2:E195))),\"\")","v":""},null,{"$f":"IFERROR(INDEX(العاملين!$B$2:'العاملين'!$B$999,SMALL(IF(العاملين!$G$2:'العاملين'!$G$999=\"Tue\",ROW(العاملين!$B$2:'العاملين'!$B$999)-ROW(العاملين!$B$2)+1),ROWS($G$2:G195))),\"\")","v":""},null,{"$f":"IFERROR(INDEX(العاملين!$B$2:'العاملين'!$B$999,SMALL(IF(العاملين!$G$2:'العاملين'!$G$999=\"Wed\",ROW(العاملين!$B$2:'العاملين'!$B$999)-ROW(العاملين!$B$2)+1),ROWS($I$2:I195))),\"\")","v":""},null,{"$f":"IFERROR(INDEX(العاملين!$B$2:'العاملين'!$B$999,SMALL(IF(العاملين!$G$2:'العاملين'!$G$999=\"Thu\",ROW(العاملين!$B$2:'العاملين'!$B$999)-ROW(العاملين!$B$2)+1),ROWS($K$2:K195))),\"\")","v":""},null,{"$f":"IFERROR(INDEX(العاملين!$B$2:'العاملين'!$B$999,SMALL(IF(العاملين!$G$2:'العاملين'!$G$999=\"Fri\",ROW(العاملين!$B$2:'العاملين'!$B$999)-ROW(العاملين!$B$2)+1),ROWS($M$2:M195))),\"\")","v":""}]
[null,{"$f":"IFERROR(INDEX(العاملين!$B$2:'العاملين'!$B$999,SMALL(IF(العاملين!$G$2:'العاملين'!$G$999=\"Sat\",ROW(العاملين!$B$2:'العاملين'!$B$999)-ROW(العاملين!$B$2)+1),ROWS($B$2:B196))),\"\")","v":""},{"$f":"IFERROR(INDEX(العاملين!$B$2:'العاملين'!$B$999,SMALL(IF(العاملين!$G$2:'العاملين'!$G$999=\"Sun\",ROW(العاملين!$B$2:'العاملين'!$B$999)-ROW(العاملين!$B$2)+1),ROWS($C$2:C196))),\"\")","v":""},null,{"$f":"IFERROR(INDEX(العاملين!$B$2:'العاملين'!$B$999,SMALL(IF(العاملين!$G$2:'العاملين'!$G$999=\"Mon\",ROW(العاملين!$B$2:'العاملين'!$B$999)-ROW(العاملين!$B$2)+1),ROWS($E$2:E196))),\"\")","v":""},null,{"$f":"IFERROR(INDEX(العاملين!$B$2:'العاملين'!$B$999,SMALL(IF(العاملين!$G$2:'العاملين'!$G$999=\"Tue\",ROW(العاملين!$B$2:'العاملين'!$B$999)-ROW(العاملين!$B$2)+1),ROWS($G$2:G196))),\"\")","v":""},null,{"$f":"IFERROR(INDEX(العاملين!$B$2:'العاملين'!$B$999,SMALL(IF(العاملين!$G$2:'العاملين'!$G$999=\"Wed\",ROW(العاملين!$B$2:'العاملين'!$B$999)-ROW(العاملين!$B$2)+1),ROWS($I$2:I196))),\"\")","v":""},null,{"$f":"IFERROR(INDEX(العاملين!$B$2:'العاملين'!$B$999,SMALL(IF(العاملين!$G$2:'العاملين'!$G$999=\"Thu\",ROW(العاملين!$B$2:'العاملين'!$B$999)-ROW(العاملين!$B$2)+1),ROWS($K$2:K196))),\"\")","v":""},null,{"$f":"IFERROR(INDEX(العاملين!$B$2:'العاملين'!$B$999,SMALL(IF(العاملين!$G$2:'العاملين'!$G$999=\"Fri\",ROW(العاملين!$B$2:'العاملين'!$B$999)-ROW(العاملين!$B$2)+1),ROWS($M$2:M196))),\"\")","v":""}]
[null,{"$f":"IFERROR(INDEX(العاملين!$B$2:'العاملين'!$B$999,SMALL(IF(العاملين!$G$2:'العاملين'!$G$999=\"Sat\",ROW(العاملين!$B$2:'العاملين'!$B$999)-ROW(العاملين!$B$2)+1),ROWS($B$2:B197))),\"\")","v":""},{"$f":"IFERROR(INDEX(العاملين!$B$2:'العاملين'!$B$999,SMALL(IF(العاملين!$G$2:'العاملين'!$G$999=\"Sun\",ROW(العاملين!$B$2:'العاملين'!$B$999)-ROW(العاملين!$B$2)+1),ROWS($C$2:C197))),\"\")","v":""},null,{"$f":"IFERROR(INDEX(العاملين!$B$2:'العاملين'!$B$999,SMALL(IF(العاملين!$G$2:'العاملين'!$G$999=\"Mon\",ROW(العاملين!$B$2:'العاملين'!$B$999)-ROW(العاملين!$B$2)+1),ROWS($E$2:E197))),\"\")","v":""},null,{"$f":"IFERROR(INDEX(العاملين!$B$2:'العاملين'!$B$999,SMALL(IF(العاملين!$G$2:'العاملين'!$G$999=\"Tue\",ROW(العاملين!$B$2:'العاملين'!$B$999)-ROW(العاملين!$B$2)+1),ROWS($G$2:G197))),\"\")","v":""},null,{"$f":"IFERROR(INDEX(العاملين!$B$2:'العاملين'!$B$999,SMALL(IF(العاملين!$G$2:'العاملين'!$G$999=\"Wed\",ROW(العاملين!$B$2:'العاملين'!$B$999)-ROW(العاملين!$B$2)+1),ROWS($I$2:I197))),\"\")","v":""},null,{"$f":"IFERROR(INDEX(العاملين!$B$2:'العاملين'!$B$999,SMALL(IF(العاملين!$G$2:'العاملين'!$G$999=\"Thu\",ROW(العاملين!$B$2:'العاملين'!$B$999)-ROW(العاملين!$B$2)+1),ROWS($K$2:K197))),\"\")","v":""},null,{"$f":"IFERROR(INDEX(العاملين!$B$2:'العاملين'!$B$999,SMALL(IF(العاملين!$G$2:'العاملين'!$G$999=\"Fri\",ROW(العاملين!$B$2:'العاملين'!$B$999)-ROW(العاملين!$B$2)+1),ROWS($M$2:M197))),\"\")","v":""}]
[null,{"$f":"IFERROR(INDEX(العاملين!$B$2:'العاملين'!$B$999,SMALL(IF(العاملين!$G$2:'العاملين'!$G$999=\"Sat\",ROW(العاملين!$B$2:'العاملين'!$B$999)-ROW(العاملين!$B$2)+1),ROWS($B$2:B198))),\"\")","v":""},{"$f":"IFERROR(INDEX(العاملين!$B$2:'العاملين'!$B$999,SMALL(IF(العاملين!$G$2:'العاملين'!$G$999=\"Sun\",ROW(العاملين!$B$2:'العاملين'!$B$999)-ROW(العاملين!$B$2)+1),ROWS($C$2:C198))),\"\")","v":""},null,{"$f":"IFERROR(INDEX(العاملين!$B$2:'العاملين'!$B$999,SMALL(IF(العاملين!$G$2:'العاملين'!$G$999=\"Mon\",ROW(العاملين!$B$2:'العاملين'!$B$999)-ROW(العاملين!$B$2)+1),ROWS($E$2:E198))),\"\")","v":""},null,{"$f":"IFERROR(INDEX(العاملين!$B$2:'العاملين'!$B$999,SMALL(IF(العاملين!$G$2:'العاملين'!$G$999=\"Tue\",ROW(العاملين!$B$2:'العاملين'!$B$999)-ROW(العاملين!$B$2)+1),ROWS($G$2:G198))),\"\")","v":""},null,{"$f":"IFERROR(INDEX(العاملين!$B$2:'العاملين'!$B$999,SMALL(IF(العاملين!$G$2:'العاملين'!$G$999=\"Wed\",ROW(العاملين!$B$2:'العاملين'!$B$999)-ROW(العاملين!$B$2)+1),ROWS($I$2:I198))),\"\")","v":""},null,{"$f":"IFERROR(INDEX(العاملين!$B$2:'العاملين'!$B$999,SMALL(IF(العاملين!$G$2:'العاملين'!$G$999=\"Thu\",ROW(العاملين!$B$2:'العاملين'!$B$999)-ROW(العاملين!$B$2)+1),ROWS($K$2:K198))),\"\")","v":""},null,{"$f":"IFERROR(INDEX(العاملين!$B$2:'العاملين'!$B$999,SMALL(IF(العاملين!$G$2:'العاملين'!$G$999=\"Fri\",ROW(العاملين!$B$2:'العاملين'!$B$999)-ROW(العاملين!$B$2)+1),ROWS($M$2:M198))),\"\")","v":""}]
[null,null,{"$f":"IFERROR(INDEX(العاملين!$B$2:'العاملين'!$B$999,SMALL(IF(العاملين!$G$2:'العاملين'!$G$999=\"Sun\",ROW(العاملين!$B$2:'العاملين'!$B$999)-ROW(العاملين!$B$2)+1),ROWS($C$2:C199))),\"\")","v":""},null,{"$f":"IFERROR(INDEX(العاملين!$B$2:'العاملين'!$B$999,SMALL(IF(العاملين!$G$2:'العاملين'!$G$999=\"Mon\",ROW(العاملين!$B$2:'العاملين'!$B$999)-ROW(العاملين!$B$2)+1),ROWS($E$2:E199))),\"\")","v":""},null,{"$f":"IFERROR(INDEX(العاملين!$B$2:'العاملين'!$B$999,SMALL(IF(العاملين!$G$2:'العاملين'!$G$999=\"Tue\",ROW(العاملين!$B$2:'العاملين'!$B$999)-ROW(العاملين!$B$2)+1),ROWS($G$2:G199))),\"\")","v":""},null,{"$f":"IFERROR(INDEX(العاملين!$B$2:'العاملين'!$B$999,SMALL(IF(العاملين!$G$2:'العاملين'!$G$999=\"Wed\",ROW(العاملين!$B$2:'العاملين'!$B$999)-ROW(العاملين!$B$2)+1),ROWS($I$2:I199))),\"\")","v":""},null,{"$f":"IFERROR(INDEX(العاملين!$B$2:'العاملين'!$B$999,SMALL(IF(العاملين!$G$2:'العاملين'!$G$999=\"Thu\",ROW(العاملين!$B$2:'العاملين'!$B$999)-ROW(العاملين!$B$2)+1),ROWS($K$2:K199))),\"\")","v":""},null,{"$f":"IFERROR(INDEX(العاملين!$B$2:'العاملين'!$B$999,SMALL(IF(العاملين!$G$2:'العاملين'!$G$999=\"Fri\",ROW(العاملين!$B$2:'العاملين'!$B$999)-ROW(العاملين!$B$2)+1),ROWS($M$2:M199))),\"\")","v":""}]
[null,{"$f":"IFERROR(INDEX(العاملين!$B$2:'العاملين'!$B$999,SMALL(IF(العاملين!$G$2:'العاملين'!$G$999=\"Sat\",ROW(العاملين!$B$2:'العاملين'!$B$999)-ROW(العاملين!$B$2)+1),ROWS($B$2:B200))),\"\")","v":""},{"$f":"IFERROR(INDEX(العاملين!$B$2:'العاملين'!$B$999,SMALL(IF(العاملين!$G$2:'العاملين'!$G$999=\"Sun\",ROW(العاملين!$B$2:'العاملين'!$B$999)-ROW(العاملين!$B$2)+1),ROWS($C$2:C200))),\"\")","v":""},null,{"$f":"IFERROR(INDEX(العاملين!$B$2:'العاملين'!$B$999,SMALL(IF(العاملين!$G$2:'العاملين'!$G$999=\"Mon\",ROW(العاملين!$B$2:'العاملين'!$B$999)-ROW(العاملين!$B$2)+1),ROWS($E$2:E200))),\"\")","v":""},null,{"$f":"IFERROR(INDEX(العاملين!$B$2:'العاملين'!$B$999,SMALL(IF(العاملين!$G$2:'العاملين'!$G$999=\"Tue\",ROW(العاملين!$B$2:'العاملين'!$B$999)-ROW(العاملين!$B$2)+1),ROWS($G$2:G200))),\"\")","v":""},null,{"$f":"IFERROR(INDEX(العاملين!$B$2:'العاملين'!$B$999,SMALL(IF(العاملين!$G$2:'العاملين'!$G$999=\"Wed\",ROW(العاملين!$B$2:'العاملين'!$B$999)-ROW(العاملين!$B$2)+1),ROWS($I$2:I200))),\"\")","v":""},null,{"$f":"IFERROR(INDEX(العاملين!$B$2:'العاملين'!$B$999,SMALL(IF(العاملين!$G$2:'العاملين'!$G$999=\"Thu\",ROW(العاملين!$B$2:'العاملين'!$B$999)-ROW(العاملين!$B$2)+1),ROWS($K$2:K200))),\"\")","v":""},null,{"$f":"IFERROR(INDEX(العاملين!$B$2:'العاملين'!$B$999,SMALL(IF(العاملين!$G$2:'العاملين'!$G$999=\"Fri\",ROW(العاملين!$B$2:'العاملين'!$B$999)-ROW(العاملين!$B$2)+1),ROWS($M$2:M200))),\"\")","v":""}]
[null,{"$f":"IFERROR(INDEX(العاملين!$B$2:'العاملين'!$B$999,SMALL(IF(العاملين!$G$2:'العاملين'!$G$999=\"Sat\",ROW(العاملين!$B$2:'العاملين'!$B$999)-ROW(العاملين!$B$2)+1),ROWS($B$2:B201))),\"\")","v":""},{"$f":"IFERROR(INDEX(العاملين!$B$2:'العاملين'!$B$999,SMALL(IF(العاملين!$G$2:'العاملين'!$G$999=\"Sun\",ROW(العاملين!$B$2:'العاملين'!$B$999)-ROW(العاملين!$B$2)+1),ROWS($C$2:C201))),\"\")","v":""},null,{"$f":"IFERROR(INDEX(العاملين!$B$2:'العاملين'!$B$999,SMALL(IF(العاملين!$G$2:'العاملين'!$G$999=\"Mon\",ROW(العاملين!$B$2:'العاملين'!$B$999)-ROW(العاملين!$B$2)+1),ROWS($E$2:E201))),\"\")","v":""},null,{"$f":"IFERROR(INDEX(العاملين!$B$2:'العاملين'!$B$999,SMALL(IF(العاملين!$G$2:'العاملين'!$G$999=\"Tue\",ROW(العاملين!$B$2:'العاملين'!$B$999)-ROW(العاملين!$B$2)+1),ROWS($G$2:G201))),\"\")","v":""},null,{"$f":"IFERROR(INDEX(العاملين!$B$2:'العاملين'!$B$999,SMALL(IF(العاملين!$G$2:'العاملين'!$G$999=\"Wed\",ROW(العاملين!$B$2:'العاملين'!$B$999)-ROW(العاملين!$B$2)+1),ROWS($I$2:I201))),\"\")","v":""},null,{"$f":"IFERROR(INDEX(العاملين!$B$2:'العاملين'!$B$999,SMALL(IF(العاملين!$G$2:'العاملين'!$G$999=\"Thu\",ROW(العاملين!$B$2:'العاملين'!$B$999)-ROW(العاملين!$B$2)+1),ROWS($K$2:K201))),\"\")","v":""},null,{"$f":"IFERROR(INDEX(العاملين!$B$2:'العاملين'!$B$999,SMALL(IF(العاملين!$G$2:'العاملين'!$G$999=\"Fri\",ROW(العاملين!$B$2:'العاملين'!$B$999)-ROW(العاملين!$B$2)+1),ROWS($M$2:M201))),\"\")","v":""}]
[null,{"$f":"IFERROR(INDEX(العاملين!$B$2:'العاملين'!$B$999,SMALL(IF(العاملين!$G$2:'العاملين'!$G$999=\"Sat\",ROW(العاملين!$B$2:'العاملين'!$B$999)-ROW(العاملين!$B$2)+1),ROWS($B$2:B202))),\"\")","v":""},{"$f":"IFERROR(INDEX(العاملين!$B$2:'العاملين'!$B$999,SMALL(IF(العاملين!$G$2:'العاملين'!$G$999=\"Sun\",ROW(العاملين!$B$2:'العاملين'!$B$999)-ROW(العاملين!$B$2)+1),ROWS($C$2:C202))),\"\")","v":""},null,{"$f":"IFERROR(INDEX(العاملين!$B$2:'العاملين'!$B$999,SMALL(IF(العاملين!$G$2:'العاملين'!$G$999=\"Mon\",ROW(العاملين!$B$2:'العاملين'!$B$999)-ROW(العاملين!$B$2)+1),ROWS($E$2:E202))),\"\")","v":""},null,{"$f":"IFERROR(INDEX(العاملين!$B$2:'العاملين'!$B$999,SMALL(IF(العاملين!$G$2:'العاملين'!$G$999=\"Tue\",ROW(العاملين!$B$2:'العاملين'!$B$999)-ROW(العاملين!$B$2)+1),ROWS($G$2:G202))),\"\")","v":""},null,{"$f":"IFERROR(INDEX(العاملين!$B$2:'العاملين'!$B$999,SMALL(IF(العاملين!$G$2:'العاملين'!$G$999=\"Wed\",ROW(العاملين!$B$2:'العاملين'!$B$999)-ROW(العاملين!$B$2)+1),ROWS($I$2:I202))),\"\")","v":""},null,{"$f":"IFERROR(INDEX(العاملين!$B$2:'العاملين'!$B$999,SMALL(IF(العاملين!$G$2:'العاملين'!$G$999=\"Thu\",ROW(العاملين!$B$2:'العاملين'!$B$999)-ROW(العاملين!$B$2)+1),ROWS($K$2:K202))),\"\")","v":""},null,{"$f":"IFERROR(INDEX(العاملين!$B$2:'العاملين'!$B$999,SMALL(IF(العاملين!$G$2:'العاملين'!$G$999=\"Fri\",ROW(العاملين!$B$2:'العاملين'!$B$999)-ROW(العاملين!$B$2)+1),ROWS($M$2:M202))),\"\")","v":""}]
[null,{"$f":"IFERROR(INDEX(العاملين!$B$2:'العاملين'!$B$999,SMALL(IF(العاملين!$G$2:'العاملين'!$G$999=\"Sat\",ROW(العاملين!$B$2:'العاملين'!$B$999)-ROW(العاملين!$B$2)+1),ROWS($B$2:B203))),\"\")","v":""},{"$f":"IFERROR(INDEX(العاملين!$B$2:'العاملين'!$B$999,SMALL(IF(العاملين!$G$2:'العاملين'!$G$999=\"Sun\",ROW(العاملين!$B$2:'العاملين'!$B$999)-ROW(العاملين!$B$2)+1),ROWS($C$2:C203))),\"\")","v":""},null,{"$f":"IFERROR(INDEX(العاملين!$B$2:'العاملين'!$B$999,SMALL(IF(العاملين!$G$2:'العاملين'!$G$999=\"Mon\",ROW(العاملين!$B$2:'العاملين'!$B$999)-ROW(العاملين!$B$2)+1),ROWS($E$2:E203))),\"\")","v":""},null,{"$f":"IFERROR(INDEX(العاملين!$B$2:'العاملين'!$B$999,SMALL(IF(العاملين!$G$2:'العاملين'!$G$999=\"Tue\",ROW(العاملين!$B$2:'العاملين'!$B$999)-ROW(العاملين!$B$2)+1),ROWS($G$2:G203))),\"\")","v":""},null,{"$f":"IFERROR(INDEX(العاملين!$B$2:'العاملين'!$B$999,SMALL(IF(العاملين!$G$2:'العاملين'!$G$999=\"Wed\",ROW(العاملين!$B$2:'العاملين'!$B$999)-ROW(العاملين!$B$2)+1),ROWS($I$2:I203))),\"\")","v":""},null,{"$f":"IFERROR(INDEX(العاملين!$B$2:'العاملين'!$B$999,SMALL(IF(العاملين!$G$2:'العاملين'!$G$999=\"Thu\",ROW(العاملين!$B$2:'العاملين'!$B$999)-ROW(العاملين!$B$2)+1),ROWS($K$2:K203))),\"\")","v":""},null,{"$f":"IFERROR(INDEX(العاملين!$B$2:'العاملين'!$B$999,SMALL(IF(العاملين!$G$2:'العاملين'!$G$999=\"Fri\",ROW(العاملين!$B$2:'العاملين'!$B$999)-ROW(العاملين!$B$2)+1),ROWS($M$2:M203))),\"\")","v":""}]
[null,{"$f":"IFERROR(INDEX(العاملين!$B$2:'العاملين'!$B$999,SMALL(IF(العاملين!$G$2:'العاملين'!$G$999=\"Sat\",ROW(العاملين!$B$2:'العاملين'!$B$999)-ROW(العاملين!$B$2)+1),ROWS($B$2:B204))),\"\")","v":""},{"$f":"IFERROR(INDEX(العاملين!$B$2:'العاملين'!$B$999,SMALL(IF(العاملين!$G$2:'العاملين'!$G$999=\"Sun\",ROW(العاملين!$B$2:'العاملين'!$B$999)-ROW(العاملين!$B$2)+1),ROWS($C$2:C204))),\"\")","v":""},null,{"$f":"IFERROR(INDEX(العاملين!$B$2:'العاملين'!$B$999,SMALL(IF(العاملين!$G$2:'العاملين'!$G$999=\"Mon\",ROW(العاملين!$B$2:'العاملين'!$B$999)-ROW(العاملين!$B$2)+1),ROWS($E$2:E204))),\"\")","v":""},null,{"$f":"IFERROR(INDEX(العاملين!$B$2:'العاملين'!$B$999,SMALL(IF(العاملين!$G$2:'العاملين'!$G$999=\"Tue\",ROW(العاملين!$B$2:'العاملين'!$B$999)-ROW(العاملين!$B$2)+1),ROWS($G$2:G204))),\"\")","v":""},null,{"$f":"IFERROR(INDEX(العاملين!$B$2:'العاملين'!$B$999,SMALL(IF(العاملين!$G$2:'العاملين'!$G$999=\"Wed\",ROW(العاملين!$B$2:'العاملين'!$B$999)-ROW(العاملين!$B$2)+1),ROWS($I$2:I204))),\"\")","v":""},null,{"$f":"IFERROR(INDEX(العاملين!$B$2:'العاملين'!$B$999,SMALL(IF(العاملين!$G$2:'العاملين'!$G$999=\"Thu\",ROW(العاملين!$B$2:'العاملين'!$B$999)-ROW(العاملين!$B$2)+1),ROWS($K$2:K204))),\"\")","v":""},null,{"$f":"IFERROR(INDEX(العاملين!$B$2:'العاملين'!$B$999,SMALL(IF(العاملين!$G$2:'العاملين'!$G$999=\"Fri\",ROW(العاملين!$B$2:'العاملين'!$B$999)-ROW(العاملين!$B$2)+1),ROWS($M$2:M204))),\"\")","v":""}]
[null,{"$f":"IFERROR(INDEX(العاملين!$B$2:'العاملين'!$B$999,SMALL(IF(العاملين!$G$2:'العاملين'!$G$999=\"Sat\",ROW(العاملين!$B$2:'العاملين'!$B$999)-ROW(العاملين!$B$2)+1),ROWS($B$2:B205))),\"\")","v":""},{"$f":"IFERROR(INDEX(العاملين!$B$2:'العاملين'!$B$999,SMALL(IF(العاملين!$G$2:'العاملين'!$G$999=\"Sun\",ROW(العاملين!$B$2:'العاملين'!$B$999)-ROW(العاملين!$B$2)+1),ROWS($C$2:C205))),\"\")","v":""},null,{"$f":"IFERROR(INDEX(العاملين!$B$2:'العاملين'!$B$999,SMALL(IF(العاملين!$G$2:'العاملين'!$G$999=\"Mon\",ROW(العاملين!$B$2:'العاملين'!$B$999)-ROW(العاملين!$B$2)+1),ROWS($E$2:E205))),\"\")","v":""},null,{"$f":"IFERROR(INDEX(العاملين!$B$2:'العاملين'!$B$999,SMALL(IF(العاملين!$G$2:'العاملين'!$G$999=\"Tue\",ROW(العاملين!$B$2:'العاملين'!$B$999)-ROW(العاملين!$B$2)+1),ROWS($G$2:G205))),\"\")","v":""},null,{"$f":"IFERROR(INDEX(العاملين!$B$2:'العاملين'!$B$999,SMALL(IF(العاملين!$G$2:'العاملين'!$G$999=\"Wed\",ROW(العاملين!$B$2:'العاملين'!$B$999)-ROW(العاملين!$B$2)+1),ROWS($I$2:I205))),\"\")","v":""},null,{"$f":"IFERROR(INDEX(العاملين!$B$2:'العاملين'!$B$999,SMALL(IF(العاملين!$G$2:'العاملين'!$G$999=\"Thu\",ROW(العاملين!$B$2:'العاملين'!$B$999)-ROW(العاملين!$B$2)+1),ROWS($K$2:K205))),\"\")","v":""},null,{"$f":"IFERROR(INDEX(العاملين!$B$2:'العاملين'!$B$999,SMALL(IF(العاملين!$G$2:'العاملين'!$G$999=\"Fri\",ROW(العاملين!$B$2:'العاملين'!$B$999)-ROW(العاملين!$B$2)+1),ROWS($M$2:M205))),\"\")","v":""}]
[null,{"$f":"IFERROR(INDEX(العاملين!$B$2:'العاملين'!$B$999,SMALL(IF(العاملين!$G$2:'العاملين'!$G$999=\"Sat\",ROW(العاملين!$B$2:'العاملين'!$B$999)-ROW(العاملين!$B$2)+1),ROWS($B$2:B206))),\"\")","v":""},{"$f":"IFERROR(INDEX(العاملين!$B$2:'العاملين'!$B$999,SMALL(IF(العاملين!$G$2:'العاملين'!$G$999=\"Sun\",ROW(العاملين!$B$2:'العاملين'!$B$999)-ROW(العاملين!$B$2)+1),ROWS($C$2:C206))),\"\")","v":""},null,{"$f":"IFERROR(INDEX(العاملين!$B$2:'العاملين'!$B$999,SMALL(IF(العاملين!$G$2:'العاملين'!$G$999=\"Mon\",ROW(العاملين!$B$2:'العاملين'!$B$999)-ROW(العاملين!$B$2)+1),ROWS($E$2:E206))),\"\")","v":""},null,{"$f":"IFERROR(INDEX(العاملين!$B$2:'العاملين'!$B$999,SMALL(IF(العاملين!$G$2:'العاملين'!$G$999=\"Tue\",ROW(العاملين!$B$2:'العاملين'!$B$999)-ROW(العاملين!$B$2)+1),ROWS($G$2:G206))),\"\")","v":""},null,{"$f":"IFERROR(INDEX(العاملين!$B$2:'العاملين'!$B$999,SMALL(IF(العاملين!$G$2:'العاملين'!$G$999=\"Wed\",ROW(العاملين!$B$2:'العاملين'!$B$999)-ROW(العاملين!$B$2)+1),ROWS($I$2:I206))),\"\")","v":""},null,{"$f":"IFERROR(INDEX(العاملين!$B$2:'العاملين'!$B$999,SMALL(IF(العاملين!$G$2:'العاملين'!$G$999=\"Thu\",ROW(العاملين!$B$2:'العاملين'!$B$999)-ROW(العاملين!$B$2)+1),ROWS($K$2:K206))),\"\")","v":""},null,{"$f":"IFERROR(INDEX(العاملين!$B$2:'العاملين'!$B$999,SMALL(IF(العاملين!$G$2:'العاملين'!$G$999=\"Fri\",ROW(العاملين!$B$2:'العاملين'!$B$999)-ROW(العاملين!$B$2)+1),ROWS($M$2:M206))),\"\")","v":""}]
[null,{"$f":"IFERROR(INDEX(العاملين!$B$2:'العاملين'!$B$999,SMALL(IF(العاملين!$G$2:'العاملين'!$G$999=\"Sat\",ROW(العاملين!$B$2:'العاملين'!$B$999)-ROW(العاملين!$B$2)+1),ROWS($B$2:B207))),\"\")","v":""},{"$f":"IFERROR(INDEX(العاملين!$B$2:'العاملين'!$B$999,SMALL(IF(العاملين!$G$2:'العاملين'!$G$999=\"Sun\",ROW(العاملين!$B$2:'العاملين'!$B$999)-ROW(العاملين!$B$2)+1),ROWS($C$2:C207))),\"\")","v":""},null,{"$f":"IFERROR(INDEX(العاملين!$B$2:'العاملين'!$B$999,SMALL(IF(العاملين!$G$2:'العاملين'!$G$999=\"Mon\",ROW(العاملين!$B$2:'العاملين'!$B$999)-ROW(العاملين!$B$2)+1),ROWS($E$2:E207))),\"\")","v":""},null,{"$f":"IFERROR(INDEX(العاملين!$B$2:'العاملين'!$B$999,SMALL(IF(العاملين!$G$2:'العاملين'!$G$999=\"Tue\",ROW(العاملين!$B$2:'العاملين'!$B$999)-ROW(العاملين!$B$2)+1),ROWS($G$2:G207))),\"\")","v":""},null,{"$f":"IFERROR(INDEX(العاملين!$B$2:'العاملين'!$B$999,SMALL(IF(العاملين!$G$2:'العاملين'!$G$999=\"Wed\",ROW(العاملين!$B$2:'العاملين'!$B$999)-ROW(العاملين!$B$2)+1),ROWS($I$2:I207))),\"\")","v":""},null,{"$f":"IFERROR(INDEX(العاملين!$B$2:'العاملين'!$B$999,SMALL(IF(العاملين!$G$2:'العاملين'!$G$999=\"Thu\",ROW(العاملين!$B$2:'العاملين'!$B$999)-ROW(العاملين!$B$2)+1),ROWS($K$2:K207))),\"\")","v":""},null,{"$f":"IFERROR(INDEX(العاملين!$B$2:'العاملين'!$B$999,SMALL(IF(العاملين!$G$2:'العاملين'!$G$999=\"Fri\",ROW(العاملين!$B$2:'العاملين'!$B$999)-ROW(العاملين!$B$2)+1),ROWS($M$2:M207))),\"\")","v":""}]
[null,{"$f":"IFERROR(INDEX(العاملين!$B$2:'العاملين'!$B$999,SMALL(IF(العاملين!$G$2:'العاملين'!$G$999=\"Sat\",ROW(العاملين!$B$2:'العاملين'!$B$999)-ROW(العاملين!$B$2)+1),ROWS($B$2:B208))),\"\")","v":""},{"$f":"IFERROR(INDEX(العاملين!$B$2:'العاملين'!$B$999,SMALL(IF(العاملين!$G$2:'العاملين'!$G$999=\"Sun\",ROW(العاملين!$B$2:'العاملين'!$B$999)-ROW(العاملين!$B$2)+1),ROWS($C$2:C208))),\"\")","v":""},null,{"$f":"IFERROR(INDEX(العاملين!$B$2:'العاملين'!$B$999,SMALL(IF(العاملين!$G$2:'العاملين'!$G$999=\"Mon\",ROW(العاملين!$B$2:'العاملين'!$B$999)-ROW(العاملين!$B$2)+1),ROWS($E$2:E208))),\"\")","v":""},null,{"$f":"IFERROR(INDEX(العاملين!$B$2:'العاملين'!$B$999,SMALL(IF(العاملين!$G$2:'العاملين'!$G$999=\"Tue\",ROW(العاملين!$B$2:'العاملين'!$B$999)-ROW(العاملين!$B$2)+1),ROWS($G$2:G208))),\"\")","v":""},null,{"$f":"IFERROR(INDEX(العاملين!$B$2:'العاملين'!$B$999,SMALL(IF(العاملين!$G$2:'العاملين'!$G$999=\"Wed\",ROW(العاملين!$B$2:'العاملين'!$B$999)-ROW(العاملين!$B$2)+1),ROWS($I$2:I208))),\"\")","v":""},null,{"$f":"IFERROR(INDEX(العاملين!$B$2:'العاملين'!$B$999,SMALL(IF(العاملين!$G$2:'العاملين'!$G$999=\"Thu\",ROW(العاملين!$B$2:'العاملين'!$B$999)-ROW(العاملين!$B$2)+1),ROWS($K$2:K208))),\"\")","v":""},null,{"$f":"IFERROR(INDEX(العاملين!$B$2:'العاملين'!$B$999,SMALL(IF(العاملين!$G$2:'العاملين'!$G$999=\"Fri\",ROW(العاملين!$B$2:'العاملين'!$B$999)-ROW(العاملين!$B$2)+1),ROWS($M$2:M208))),\"\")","v":""}]
[null,{"$f":"IFERROR(INDEX(العاملين!$B$2:'العاملين'!$B$999,SMALL(IF(العاملين!$G$2:'العاملين'!$G$999=\"Sat\",ROW(العاملين!$B$2:'العاملين'!$B$999)-ROW(العاملين!$B$2)+1),ROWS($B$2:B209))),\"\")","v":""},{"$f":"IFERROR(INDEX(العاملين!$B$2:'العاملين'!$B$999,SMALL(IF(العاملين!$G$2:'العاملين'!$G$999=\"Sun\",ROW(العاملين!$B$2:'العاملين'!$B$999)-ROW(العاملين!$B$2)+1),ROWS($C$2:C209))),\"\")","v":""},null,{"$f":"IFERROR(INDEX(العاملين!$B$2:'العاملين'!$B$999,SMALL(IF(العاملين!$G$2:'العاملين'!$G$999=\"Mon\",ROW(العاملين!$B$2:'العاملين'!$B$999)-ROW(العاملين!$B$2)+1),ROWS($E$2:E209))),\"\")","v":""},null,{"$f":"IFERROR(INDEX(العاملين!$B$2:'العاملين'!$B$999,SMALL(IF(العاملين!$G$2:'العاملين'!$G$999=\"Tue\",ROW(العاملين!$B$2:'العاملين'!$B$999)-ROW(العاملين!$B$2)+1),ROWS($G$2:G209))),\"\")","v":""},null,{"$f":"IFERROR(INDEX(العاملين!$B$2:'العاملين'!$B$999,SMALL(IF(العاملين!$G$2:'العاملين'!$G$999=\"Wed\",ROW(العاملين!$B$2:'العاملين'!$B$999)-ROW(العاملين!$B$2)+1),ROWS($I$2:I209))),\"\")","v":""},null,{"$f":"IFERROR(INDEX(العاملين!$B$2:'العاملين'!$B$999,SMALL(IF(العاملين!$G$2:'العاملين'!$G$999=\"Thu\",ROW(العاملين!$B$2:'العاملين'!$B$999)-ROW(العاملين!$B$2)+1),ROWS($K$2:K209))),\"\")","v":""},null,{"$f":"IFERROR(INDEX(العاملين!$B$2:'العاملين'!$B$999,SMALL(IF(العاملين!$G$2:'العاملين'!$G$999=\"Fri\",ROW(العاملين!$B$2:'العاملين'!$B$999)-ROW(العاملين!$B$2)+1),ROWS($M$2:M209))),\"\")","v":""}]
[null,{"$f":"IFERROR(INDEX(العاملين!$B$2:'العاملين'!$B$999,SMALL(IF(العاملين!$G$2:'العاملين'!$G$999=\"Sat\",ROW(العاملين!$B$2:'العاملين'!$B$999)-ROW(العاملين!$B$2)+1),ROWS($B$2:B210))),\"\")","v":""},{"$f":"IFERROR(INDEX(العاملين!$B$2:'العاملين'!$B$999,SMALL(IF(العاملين!$G$2:'العاملين'!$G$999=\"Sun\",ROW(العاملين!$B$2:'العاملين'!$B$999)-ROW(العاملين!$B$2)+1),ROWS($C$2:C210))),\"\")","v":""},null,{"$f":"IFERROR(INDEX(العاملين!$B$2:'العاملين'!$B$999,SMALL(IF(العاملين!$G$2:'العاملين'!$G$999=\"Mon\",ROW(العاملين!$B$2:'العاملين'!$B$999)-ROW(العاملين!$B$2)+1),ROWS($E$2:E210))),\"\")","v":""},null,{"$f":"IFERROR(INDEX(العاملين!$B$2:'العاملين'!$B$999,SMALL(IF(العاملين!$G$2:'العاملين'!$G$999=\"Tue\",ROW(العاملين!$B$2:'العاملين'!$B$999)-ROW(العاملين!$B$2)+1),ROWS($G$2:G210))),\"\")","v":""},null,{"$f":"IFERROR(INDEX(العاملين!$B$2:'العاملين'!$B$999,SMALL(IF(العاملين!$G$2:'العاملين'!$G$999=\"Wed\",ROW(العاملين!$B$2:'العاملين'!$B$999)-ROW(العاملين!$B$2)+1),ROWS($I$2:I210))),\"\")","v":""},null,{"$f":"IFERROR(INDEX(العاملين!$B$2:'العاملين'!$B$999,SMALL(IF(العاملين!$G$2:'العاملين'!$G$999=\"Thu\",ROW(العاملين!$B$2:'العاملين'!$B$999)-ROW(العاملين!$B$2)+1),ROWS($K$2:K210))),\"\")","v":""},null,{"$f":"IFERROR(INDEX(العاملين!$B$2:'العاملين'!$B$999,SMALL(IF(العاملين!$G$2:'العاملين'!$G$999=\"Fri\",ROW(العاملين!$B$2:'العاملين'!$B$999)-ROW(العاملين!$B$2)+1),ROWS($M$2:M210))),\"\")","v":""}]
[null,{"$f":"IFERROR(INDEX(العاملين!$B$2:'العاملين'!$B$999,SMALL(IF(العاملين!$G$2:'العاملين'!$G$999=\"Sat\",ROW(العاملين!$B$2:'العاملين'!$B$999)-ROW(العاملين!$B$2)+1),ROWS($B$2:B211))),\"\")","v":""},{"$f":"IFERROR(INDEX(العاملين!$B$2:'العاملين'!$B$999,SMALL(IF(العاملين!$G$2:'العاملين'!$G$999=\"Sun\",ROW(العاملين!$B$2:'العاملين'!$B$999)-ROW(العاملين!$B$2)+1),ROWS($C$2:C211))),\"\")","v":""},null,{"$f":"IFERROR(INDEX(العاملين!$B$2:'العاملين'!$B$999,SMALL(IF(العاملين!$G$2:'العاملين'!$G$999=\"Mon\",ROW(العاملين!$B$2:'العاملين'!$B$999)-ROW(العاملين!$B$2)+1),ROWS($E$2:E211))),\"\")","v":""},null,{"$f":"IFERROR(INDEX(العاملين!$B$2:'العاملين'!$B$999,SMALL(IF(العاملين!$G$2:'العاملين'!$G$999=\"Tue\",ROW(العاملين!$B$2:'العاملين'!$B$999)-ROW(العاملين!$B$2)+1),ROWS($G$2:G211))),\"\")","v":""},null,{"$f":"IFERROR(INDEX(العاملين!$B$2:'العاملين'!$B$999,SMALL(IF(العاملين!$G$2:'العاملين'!$G$999=\"Wed\",ROW(العاملين!$B$2:'العاملين'!$B$999)-ROW(العاملين!$B$2)+1),ROWS($I$2:I211))),\"\")","v":""},null,{"$f":"IFERROR(INDEX(العاملين!$B$2:'العاملين'!$B$999,SMALL(IF(العاملين!$G$2:'العاملين'!$G$999=\"Thu\",ROW(العاملين!$B$2:'العاملين'!$B$999)-ROW(العاملين!$B$2)+1),ROWS($K$2:K211))),\"\")","v":""},null,{"$f":"IFERROR(INDEX(العاملين!$B$2:'العاملين'!$B$999,SMALL(IF(العاملين!$G$2:'العاملين'!$G$999=\"Fri\",ROW(العاملين!$B$2:'العاملين'!$B$999)-ROW(العاملين!$B$2)+1),ROWS($M$2:M211))),\"\")","v":""}]
[null,{"$f":"IFERROR(INDEX(العاملين!$B$2:'العاملين'!$B$999,SMALL(IF(العاملين!$G$2:'العاملين'!$G$999=\"Sat\",ROW(العاملين!$B$2:'العاملين'!$B$999)-ROW(العاملين!$B$2)+1),ROWS($B$2:B212))),\"\")","v":""},{"$f":"IFERROR(INDEX(العاملين!$B$2:'العاملين'!$B$999,SMALL(IF(العاملين!$G$2:'العاملين'!$G$999=\"Sun\",ROW(العاملين!$B$2:'العاملين'!$B$999)-ROW(العاملين!$B$2)+1),ROWS($C$2:C212))),\"\")","v":""},null,{"$f":"IFERROR(INDEX(العاملين!$B$2:'العاملين'!$B$999,SMALL(IF(العاملين!$G$2:'العاملين'!$G$999=\"Mon\",ROW(العاملين!$B$2:'العاملين'!$B$999)-ROW(العاملين!$B$2)+1),ROWS($E$2:E212))),\"\")","v":""},null,{"$f":"IFERROR(INDEX(العاملين!$B$2:'العاملين'!$B$999,SMALL(IF(العاملين!$G$2:'العاملين'!$G$999=\"Tue\",ROW(العاملين!$B$2:'العاملين'!$B$999)-ROW(العاملين!$B$2)+1),ROWS($G$2:G212))),\"\")","v":""},null,{"$f":"IFERROR(INDEX(العاملين!$B$2:'العاملين'!$B$999,SMALL(IF(العاملين!$G$2:'العاملين'!$G$999=\"Wed\",ROW(العاملين!$B$2:'العاملين'!$B$999)-ROW(العاملين!$B$2)+1),ROWS($I$2:I212))),\"\")","v":""},null,{"$f":"IFERROR(INDEX(العاملين!$B$2:'العاملين'!$B$999,SMALL(IF(العاملين!$G$2:'العاملين'!$G$999=\"Thu\",ROW(العاملين!$B$2:'العاملين'!$B$999)-ROW(العاملين!$B$2)+1),ROWS($K$2:K212))),\"\")","v":""},null,{"$f":"IFERROR(INDEX(العاملين!$B$2:'العاملين'!$B$999,SMALL(IF(العاملين!$G$2:'العاملين'!$G$999=\"Fri\",ROW(العاملين!$B$2:'العاملين'!$B$999)-ROW(العاملين!$B$2)+1),ROWS($M$2:M212))),\"\")","v":""}]
[null,{"$f":"IFERROR(INDEX(العاملين!$B$2:'العاملين'!$B$999,SMALL(IF(العاملين!$G$2:'العاملين'!$G$999=\"Sat\",ROW(العاملين!$B$2:'العاملين'!$B$999)-ROW(العاملين!$B$2)+1),ROWS($B$2:B213))),\"\")","v":""},{"$f":"IFERROR(INDEX(العاملين!$B$2:'العاملين'!$B$999,SMALL(IF(العاملين!$G$2:'العاملين'!$G$999=\"Sun\",ROW(العاملين!$B$2:'العاملين'!$B$999)-ROW(العاملين!$B$2)+1),ROWS($C$2:C213))),\"\")","v":""},null,{"$f":"IFERROR(INDEX(العاملين!$B$2:'العاملين'!$B$999,SMALL(IF(العاملين!$G$2:'العاملين'!$G$999=\"Mon\",ROW(العاملين!$B$2:'العاملين'!$B$999)-ROW(العاملين!$B$2)+1),ROWS($E$2:E213))),\"\")","v":""},null,{"$f":"IFERROR(INDEX(العاملين!$B$2:'العاملين'!$B$999,SMALL(IF(العاملين!$G$2:'العاملين'!$G$999=\"Tue\",ROW(العاملين!$B$2:'العاملين'!$B$999)-ROW(العاملين!$B$2)+1),ROWS($G$2:G213))),\"\")","v":""},null,{"$f":"IFERROR(INDEX(العاملين!$B$2:'العاملين'!$B$999,SMALL(IF(العاملين!$G$2:'العاملين'!$G$999=\"Wed\",ROW(العاملين!$B$2:'العاملين'!$B$999)-ROW(العاملين!$B$2)+1),ROWS($I$2:I213))),\"\")","v":""},null,{"$f":"IFERROR(INDEX(العاملين!$B$2:'العاملين'!$B$999,SMALL(IF(العاملين!$G$2:'العاملين'!$G$999=\"Thu\",ROW(العاملين!$B$2:'العاملين'!$B$999)-ROW(العاملين!$B$2)+1),ROWS($K$2:K213))),\"\")","v":""},null,{"$f":"IFERROR(INDEX(العاملين!$B$2:'العاملين'!$B$999,SMALL(IF(العاملين!$G$2:'العاملين'!$G$999=\"Fri\",ROW(العاملين!$B$2:'العاملين'!$B$999)-ROW(العاملين!$B$2)+1),ROWS($M$2:M213))),\"\")","v":""}]
[null,{"$f":"IFERROR(INDEX(العاملين!$B$2:'العاملين'!$B$999,SMALL(IF(العاملين!$G$2:'العاملين'!$G$999=\"Sat\",ROW(العاملين!$B$2:'العاملين'!$B$999)-ROW(العاملين!$B$2)+1),ROWS($B$2:B214))),\"\")","v":""},{"$f":"IFERROR(INDEX(العاملين!$B$2:'العاملين'!$B$999,SMALL(IF(العاملين!$G$2:'العاملين'!$G$999=\"Sun\",ROW(العاملين!$B$2:'العاملين'!$B$999)-ROW(العاملين!$B$2)+1),ROWS($C$2:C214))),\"\")","v":""},null,{"$f":"IFERROR(INDEX(العاملين!$B$2:'العاملين'!$B$999,SMALL(IF(العاملين!$G$2:'العاملين'!$G$999=\"Mon\",ROW(العاملين!$B$2:'العاملين'!$B$999)-ROW(العاملين!$B$2)+1),ROWS($E$2:E214))),\"\")","v":""},null,{"$f":"IFERROR(INDEX(العاملين!$B$2:'العاملين'!$B$999,SMALL(IF(العاملين!$G$2:'العاملين'!$G$999=\"Tue\",ROW(العاملين!$B$2:'العاملين'!$B$999)-ROW(العاملين!$B$2)+1),ROWS($G$2:G214))),\"\")","v":""},null,{"$f":"IFERROR(INDEX(العاملين!$B$2:'العاملين'!$B$999,SMALL(IF(العاملين!$G$2:'العاملين'!$G$999=\"Wed\",ROW(العاملين!$B$2:'العاملين'!$B$999)-ROW(العاملين!$B$2)+1),ROWS($I$2:I214))),\"\")","v":""},null,{"$f":"IFERROR(INDEX(العاملين!$B$2:'العاملين'!$B$999,SMALL(IF(العاملين!$G$2:'العاملين'!$G$999=\"Thu\",ROW(العاملين!$B$2:'العاملين'!$B$999)-ROW(العاملين!$B$2)+1),ROWS($K$2:K214))),\"\")","v":""},null,{"$f":"IFERROR(INDEX(العاملين!$B$2:'العاملين'!$B$999,SMALL(IF(العاملين!$G$2:'العاملين'!$G$999=\"Fri\",ROW(العاملين!$B$2:'العاملين'!$B$999)-ROW(العاملين!$B$2)+1),ROWS($M$2:M214))),\"\")","v":""}]
[null,{"$f":"IFERROR(INDEX(العاملين!$B$2:'العاملين'!$B$999,SMALL(IF(العاملين!$G$2:'العاملين'!$G$999=\"Sat\",ROW(العاملين!$B$2:'العاملين'!$B$999)-ROW(العاملين!$B$2)+1),ROWS($B$2:B215))),\"\")","v":""},{"$f":"IFERROR(INDEX(العاملين!$B$2:'العاملين'!$B$999,SMALL(IF(العاملين!$G$2:'العاملين'!$G$999=\"Sun\",ROW(العاملين!$B$2:'العاملين'!$B$999)-ROW(العاملين!$B$2)+1),ROWS($C$2:C215))),\"\")","v":""},null,{"$f":"IFERROR(INDEX(العاملين!$B$2:'العاملين'!$B$999,SMALL(IF(العاملين!$G$2:'العاملين'!$G$999=\"Mon\",ROW(العاملين!$B$2:'العاملين'!$B$999)-ROW(العاملين!$B$2)+1),ROWS($E$2:E215))),\"\")","v":""},null,{"$f":"IFERROR(INDEX(العاملين!$B$2:'العاملين'!$B$999,SMALL(IF(العاملين!$G$2:'العاملين'!$G$999=\"Tue\",ROW(العاملين!$B$2:'العاملين'!$B$999)-ROW(العاملين!$B$2)+1),ROWS($G$2:G215))),\"\")","v":""},null,{"$f":"IFERROR(INDEX(العاملين!$B$2:'العاملين'!$B$999,SMALL(IF(العاملين!$G$2:'العاملين'!$G$999=\"Wed\",ROW(العاملين!$B$2:'العاملين'!$B$999)-ROW(العاملين!$B$2)+1),ROWS($I$2:I215))),\"\")","v":""},null,{"$f":"IFERROR(INDEX(العاملين!$B$2:'العاملين'!$B$999,SMALL(IF(العاملين!$G$2:'العاملين'!$G$999=\"Thu\",ROW(العاملين!$B$2:'العاملين'!$B$999)-ROW(العاملين!$B$2)+1),ROWS($K$2:K215))),\"\")","v":""},null,{"$f":"IFERROR(INDEX(العاملين!$B$2:'العاملين'!$B$999,SMALL(IF(العاملين!$G$2:'العاملين'!$G$999=\"Fri\",ROW(العاملين!$B$2:'العاملين'!$B$999)-ROW(العاملين!$B$2)+1),ROWS($M$2:M215))),\"\")","v":""}]
[null,{"$f":"IFERROR(INDEX(العاملين!$B$2:'العاملين'!$B$999,SMALL(IF(العاملين!$G$2:'العاملين'!$G$999=\"Sat\",ROW(العاملين!$B$2:'العاملين'!$B$999)-ROW(العاملين!$B$2)+1),ROWS($B$2:B216))),\"\")","v":""},{"$f":"IFERROR(INDEX(العاملين!$B$2:'العاملين'!$B$999,SMALL(IF(العاملين!$G$2:'العاملين'!$G$999=\"Sun\",ROW(العاملين!$B$2:'العاملين'!$B$999)-ROW(العاملين!$B$2)+1),ROWS($C$2:C216))),\"\")","v":""},null,{"$f":"IFERROR(INDEX(العاملين!$B$2:'العاملين'!$B$999,SMALL(IF(العاملين!$G$2:'العاملين'!$G$999=\"Mon\",ROW(العاملين!$B$2:'العاملين'!$B$999)-ROW(العاملين!$B$2)+1),ROWS($E$2:E216))),\"\")","v":""},null,{"$f":"IFERROR(INDEX(العاملين!$B$2:'العاملين'!$B$999,SMALL(IF(العاملين!$G$2:'العاملين'!$G$999=\"Tue\",ROW(العاملين!$B$2:'العاملين'!$B$999)-ROW(العاملين!$B$2)+1),ROWS($G$2:G216))),\"\")","v":""},null,{"$f":"IFERROR(INDEX(العاملين!$B$2:'العاملين'!$B$999,SMALL(IF(العاملين!$G$2:'العاملين'!$G$999=\"Wed\",ROW(العاملين!$B$2:'العاملين'!$B$999)-ROW(العاملين!$B$2)+1),ROWS($I$2:I216))),\"\")","v":""},null,{"$f":"IFERROR(INDEX(العاملين!$B$2:'العاملين'!$B$999,SMALL(IF(العاملين!$G$2:'العاملين'!$G$999=\"Thu\",ROW(العاملين!$B$2:'العاملين'!$B$999)-ROW(العاملين!$B$2)+1),ROWS($K$2:K216))),\"\")","v":""},null,{"$f":"IFERROR(INDEX(العاملين!$B$2:'العاملين'!$B$999,SMALL(IF(العاملين!$G$2:'العاملين'!$G$999=\"Fri\",ROW(العاملين!$B$2:'العاملين'!$B$999)-ROW(العاملين!$B$2)+1),ROWS($M$2:M216))),\"\")","v":""}]
[null,{"$f":"IFERROR(INDEX(العاملين!$B$2:'العاملين'!$B$999,SMALL(IF(العاملين!$G$2:'العاملين'!$G$999=\"Sat\",ROW(العاملين!$B$2:'العاملين'!$B$999)-ROW(العاملين!$B$2)+1),ROWS($B$2:B217))),\"\")","v":""},{"$f":"IFERROR(INDEX(العاملين!$B$2:'العاملين'!$B$999,SMALL(IF(العاملين!$G$2:'العاملين'!$G$999=\"Sun\",ROW(العاملين!$B$2:'العاملين'!$B$999)-ROW(العاملين!$B$2)+1),ROWS($C$2:C217))),\"\")","v":""},null,{"$f":"IFERROR(INDEX(العاملين!$B$2:'العاملين'!$B$999,SMALL(IF(العاملين!$G$2:'العاملين'!$G$999=\"Mon\",ROW(العاملين!$B$2:'العاملين'!$B$999)-ROW(العاملين!$B$2)+1),ROWS($E$2:E217))),\"\")","v":""},null,{"$f":"IFERROR(INDEX(العاملين!$B$2:'العاملين'!$B$999,SMALL(IF(العاملين!$G$2:'العاملين'!$G$999=\"Tue\",ROW(العاملين!$B$2:'العاملين'!$B$999)-ROW(العاملين!$B$2)+1),ROWS($G$2:G217))),\"\")","v":""},null,{"$f":"IFERROR(INDEX(العاملين!$B$2:'العاملين'!$B$999,SMALL(IF(العاملين!$G$2:'العاملين'!$G$999=\"Wed\",ROW(العاملين!$B$2:'العاملين'!$B$999)-ROW(العاملين!$B$2)+1),ROWS($I$2:I217))),\"\")","v":""},null,{"$f":"IFERROR(INDEX(العاملين!$B$2:'العاملين'!$B$999,SMALL(IF(العاملين!$G$2:'العاملين'!$G$999=\"Thu\",ROW(العاملين!$B$2:'العاملين'!$B$999)-ROW(العاملين!$B$2)+1),ROWS($K$2:K217))),\"\")","v":""},null,{"$f":"IFERROR(INDEX(العاملين!$B$2:'العاملين'!$B$999,SMALL(IF(العاملين!$G$2:'العاملين'!$G$999=\"Fri\",ROW(العاملين!$B$2:'العاملين'!$B$999)-ROW(العاملين!$B$2)+1),ROWS($M$2:M217))),\"\")","v":""}]
[null,{"$f":"IFERROR(INDEX(العاملين!$B$2:'العاملين'!$B$999,SMALL(IF(العاملين!$G$2:'العاملين'!$G$999=\"Sat\",ROW(العاملين!$B$2:'العاملين'!$B$999)-ROW(العاملين!$B$2)+1),ROWS($B$2:B218))),\"\")","v":""},{"$f":"IFERROR(INDEX(العاملين!$B$2:'العاملين'!$B$999,SMALL(IF(العاملين!$G$2:'العاملين'!$G$999=\"Sun\",ROW(العاملين!$B$2:'العاملين'!$B$999)-ROW(العاملين!$B$2)+1),ROWS($C$2:C218))),\"\")","v":""},null,{"$f":"IFERROR(INDEX(العاملين!$B$2:'العاملين'!$B$999,SMALL(IF(العاملين!$G$2:'العاملين'!$G$999=\"Mon\",ROW(العاملين!$B$2:'العاملين'!$B$999)-ROW(العاملين!$B$2)+1),ROWS($E$2:E218))),\"\")","v":""},null,{"$f":"IFERROR(INDEX(العاملين!$B$2:'العاملين'!$B$999,SMALL(IF(العاملين!$G$2:'العاملين'!$G$999=\"Tue\",ROW(العاملين!$B$2:'العاملين'!$B$999)-ROW(العاملين!$B$2)+1),ROWS($G$2:G218))),\"\")","v":""},null,{"$f":"IFERROR(INDEX(العاملين!$B$2:'العاملين'!$B$999,SMALL(IF(العاملين!$G$2:'العاملين'!$G$999=\"Wed\",ROW(العاملين!$B$2:'العاملين'!$B$999)-ROW(العاملين!$B$2)+1),ROWS($I$2:I218))),\"\")","v":""},null,{"$f":"IFERROR(INDEX(العاملين!$B$2:'العاملين'!$B$999,SMALL(IF(العاملين!$G$2:'العاملين'!$G$999=\"Thu\",ROW(العاملين!$B$2:'العاملين'!$B$999)-ROW(العاملين!$B$2)+1),ROWS($K$2:K218))),\"\")","v":""},null,{"$f":"IFERROR(INDEX(العاملين!$B$2:'العاملين'!$B$999,SMALL(IF(العاملين!$G$2:'العاملين'!$G$999=\"Fri\",ROW(العاملين!$B$2:'العاملين'!$B$999)-ROW(العاملين!$B$2)+1),ROWS($M$2:M218))),\"\")","v":""}]
[null,{"$f":"IFERROR(INDEX(العاملين!$B$2:'العاملين'!$B$999,SMALL(IF(العاملين!$G$2:'العاملين'!$G$999=\"Sat\",ROW(العاملين!$B$2:'العاملين'!$B$999)-ROW(العاملين!$B$2)+1),ROWS($B$2:B219))),\"\")","v":""},{"$f":"IFERROR(INDEX(العاملين!$B$2:'العاملين'!$B$999,SMALL(IF(العاملين!$G$2:'العاملين'!$G$999=\"Sun\",ROW(العاملين!$B$2:'العاملين'!$B$999)-ROW(العاملين!$B$2)+1),ROWS($C$2:C219))),\"\")","v":""},null,{"$f":"IFERROR(INDEX(العاملين!$B$2:'العاملين'!$B$999,SMALL(IF(العاملين!$G$2:'العاملين'!$G$999=\"Mon\",ROW(العاملين!$B$2:'العاملين'!$B$999)-ROW(العاملين!$B$2)+1),ROWS($E$2:E219))),\"\")","v":""},null,{"$f":"IFERROR(INDEX(العاملين!$B$2:'العاملين'!$B$999,SMALL(IF(العاملين!$G$2:'العاملين'!$G$999=\"Tue\",ROW(العاملين!$B$2:'العاملين'!$B$999)-ROW(العاملين!$B$2)+1),ROWS($G$2:G219))),\"\")","v":""},null,{"$f":"IFERROR(INDEX(العاملين!$B$2:'العاملين'!$B$999,SMALL(IF(العاملين!$G$2:'العاملين'!$G$999=\"Wed\",ROW(العاملين!$B$2:'العاملين'!$B$999)-ROW(العاملين!$B$2)+1),ROWS($I$2:I219))),\"\")","v":""},null,{"$f":"IFERROR(INDEX(العاملين!$B$2:'العاملين'!$B$999,SMALL(IF(العاملين!$G$2:'العاملين'!$G$999=\"Thu\",ROW(العاملين!$B$2:'العاملين'!$B$999)-ROW(العاملين!$B$2)+1),ROWS($K$2:K219))),\"\")","v":""},null,{"$f":"IFERROR(INDEX(العاملين!$B$2:'العاملين'!$B$999,SMALL(IF(العاملين!$G$2:'العاملين'!$G$999=\"Fri\",ROW(العاملين!$B$2:'العاملين'!$B$999)-ROW(العاملين!$B$2)+1),ROWS($M$2:M219))),\"\")","v":""}]
[null,{"$f":"IFERROR(INDEX(العاملين!$B$2:'العاملين'!$B$999,SMALL(IF(العاملين!$G$2:'العاملين'!$G$999=\"Sat\",ROW(العاملين!$B$2:'العاملين'!$B$999)-ROW(العاملين!$B$2)+1),ROWS($B$2:B220))),\"\")","v":""},{"$f":"IFERROR(INDEX(العاملين!$B$2:'العاملين'!$B$999,SMALL(IF(العاملين!$G$2:'العاملين'!$G$999=\"Sun\",ROW(العاملين!$B$2:'العاملين'!$B$999)-ROW(العاملين!$B$2)+1),ROWS($C$2:C220))),\"\")","v":""},null,{"$f":"IFERROR(INDEX(العاملين!$B$2:'العاملين'!$B$999,SMALL(IF(العاملين!$G$2:'العاملين'!$G$999=\"Mon\",ROW(العاملين!$B$2:'العاملين'!$B$999)-ROW(العاملين!$B$2)+1),ROWS($E$2:E220))),\"\")","v":""},null,{"$f":"IFERROR(INDEX(العاملين!$B$2:'العاملين'!$B$999,SMALL(IF(العاملين!$G$2:'العاملين'!$G$999=\"Tue\",ROW(العاملين!$B$2:'العاملين'!$B$999)-ROW(العاملين!$B$2)+1),ROWS($G$2:G220))),\"\")","v":""},null,{"$f":"IFERROR(INDEX(العاملين!$B$2:'العاملين'!$B$999,SMALL(IF(العاملين!$G$2:'العاملين'!$G$999=\"Wed\",ROW(العاملين!$B$2:'العاملين'!$B$999)-ROW(العاملين!$B$2)+1),ROWS($I$2:I220))),\"\")","v":""},null,{"$f":"IFERROR(INDEX(العاملين!$B$2:'العاملين'!$B$999,SMALL(IF(العاملين!$G$2:'العاملين'!$G$999=\"Thu\",ROW(العاملين!$B$2:'العاملين'!$B$999)-ROW(العاملين!$B$2)+1),ROWS($K$2:K220))),\"\")","v":""},null,{"$f":"IFERROR(INDEX(العاملين!$B$2:'العاملين'!$B$999,SMALL(IF(العاملين!$G$2:'العاملين'!$G$999=\"Fri\",ROW(العاملين!$B$2:'العاملين'!$B$999)-ROW(العاملين!$B$2)+1),ROWS($M$2:M220))),\"\")","v":""}]
[null,{"$f":"IFERROR(INDEX(العاملين!$B$2:'العاملين'!$B$999,SMALL(IF(العاملين!$G$2:'العاملين'!$G$999=\"Sat\",ROW(العاملين!$B$2:'العاملين'!$B$999)-ROW(العاملين!$B$2)+1),ROWS($B$2:B221))),\"\")","v":""},{"$f":"IFERROR(INDEX(العاملين!$B$2:'العاملين'!$B$999,SMALL(IF(العاملين!$G$2:'العاملين'!$G$999=\"Sun\",ROW(العاملين!$B$2:'العاملين'!$B$999)-ROW(العاملين!$B$2)+1),ROWS($C$2:C221))),\"\")","v":""},null,{"$f":"IFERROR(INDEX(العاملين!$B$2:'العاملين'!$B$999,SMALL(IF(العاملين!$G$2:'العاملين'!$G$999=\"Mon\",ROW(العاملين!$B$2:'العاملين'!$B$999)-ROW(العاملين!$B$2)+1),ROWS($E$2:E221))),\"\")","v":""},null,{"$f":"IFERROR(INDEX(العاملين!$B$2:'العاملين'!$B$999,SMALL(IF(العاملين!$G$2:'العاملين'!$G$999=\"Tue\",ROW(العاملين!$B$2:'العاملين'!$B$999)-ROW(العاملين!$B$2)+1),ROWS($G$2:G221))),\"\")","v":""},null,{"$f":"IFERROR(INDEX(العاملين!$B$2:'العاملين'!$B$999,SMALL(IF(العاملين!$G$2:'العاملين'!$G$999=\"Wed\",ROW(العاملين!$B$2:'العاملين'!$B$999)-ROW(العاملين!$B$2)+1),ROWS($I$2:I221))),\"\")","v":""},null,{"$f":"IFERROR(INDEX(العاملين!$B$2:'العاملين'!$B$999,SMALL(IF(العاملين!$G$2:'العاملين'!$G$999=\"Thu\",ROW(العاملين!$B$2:'العاملين'!$B$999)-ROW(العاملين!$B$2)+1),ROWS($K$2:K221))),\"\")","v":""},null,{"$f":"IFERROR(INDEX(العاملين!$B$2:'العاملين'!$B$999,SMALL(IF(العاملين!$G$2:'العاملين'!$G$999=\"Fri\",ROW(العاملين!$B$2:'العاملين'!$B$999)-ROW(العاملين!$B$2)+1),ROWS($M$2:M221))),\"\")","v":""}]
[null,null,{"$f":"IFERROR(INDEX(العاملين!$B$2:'العاملين'!$B$999,SMALL(IF(العاملين!$G$2:'العاملين'!$G$999=\"Sun\",ROW(العاملين!$B$2:'العاملين'!$B$999)-ROW(العاملين!$B$2)+1),ROWS($C$2:C222))),\"\")","v":""},null,{"$f":"IFERROR(INDEX(العاملين!$B$2:'العاملين'!$B$999,SMALL(IF(العاملين!$G$2:'العاملين'!$G$999=\"Mon\",ROW(العاملين!$B$2:'العاملين'!$B$999)-ROW(العاملين!$B$2)+1),ROWS($E$2:E222))),\"\")","v":""},null,{"$f":"IFERROR(INDEX(العاملين!$B$2:'العاملين'!$B$999,SMALL(IF(العاملين!$G$2:'العاملين'!$G$999=\"Tue\",ROW(العاملين!$B$2:'العاملين'!$B$999)-ROW(العاملين!$B$2)+1),ROWS($G$2:G222))),\"\")","v":""},null,{"$f":"IFERROR(INDEX(العاملين!$B$2:'العاملين'!$B$999,SMALL(IF(العاملين!$G$2:'العاملين'!$G$999=\"Wed\",ROW(العاملين!$B$2:'العاملين'!$B$999)-ROW(العاملين!$B$2)+1),ROWS($I$2:I222))),\"\")","v":""},null,{"$f":"IFERROR(INDEX(العاملين!$B$2:'العاملين'!$B$999,SMALL(IF(العاملين!$G$2:'العاملين'!$G$999=\"Thu\",ROW(العاملين!$B$2:'العاملين'!$B$999)-ROW(العاملين!$B$2)+1),ROWS($K$2:K222))),\"\")","v":""},null,{"$f":"IFERROR(INDEX(العاملين!$B$2:'العاملين'!$B$999,SMALL(IF(العاملين!$G$2:'العاملين'!$G$999=\"Fri\",ROW(العاملين!$B$2:'العاملين'!$B$999)-ROW(العاملين!$B$2)+1),ROWS($M$2:M222))),\"\")","v":""}]
[null,{"$f":"IFERROR(INDEX(العاملين!$B$2:'العاملين'!$B$999,SMALL(IF(العاملين!$G$2:'العاملين'!$G$999=\"Sat\",ROW(العاملين!$B$2:'العاملين'!$B$999)-ROW(العاملين!$B$2)+1),ROWS($B$2:B223))),\"\")","v":""},{"$f":"IFERROR(INDEX(العاملين!$B$2:'العاملين'!$B$999,SMALL(IF(العاملين!$G$2:'العاملين'!$G$999=\"Sun\",ROW(العاملين!$B$2:'العاملين'!$B$999)-ROW(العاملين!$B$2)+1),ROWS($C$2:C223))),\"\")","v":""},null,{"$f":"IFERROR(INDEX(العاملين!$B$2:'العاملين'!$B$999,SMALL(IF(العاملين!$G$2:'العاملين'!$G$999=\"Mon\",ROW(العاملين!$B$2:'العاملين'!$B$999)-ROW(العاملين!$B$2)+1),ROWS($E$2:E223))),\"\")","v":""},null,{"$f":"IFERROR(INDEX(العاملين!$B$2:'العاملين'!$B$999,SMALL(IF(العاملين!$G$2:'العاملين'!$G$999=\"Tue\",ROW(العاملين!$B$2:'العاملين'!$B$999)-ROW(العاملين!$B$2)+1),ROWS($G$2:G223))),\"\")","v":""},null,{"$f":"IFERROR(INDEX(العاملين!$B$2:'العاملين'!$B$999,SMALL(IF(العاملين!$G$2:'العاملين'!$G$999=\"Wed\",ROW(العاملين!$B$2:'العاملين'!$B$999)-ROW(العاملين!$B$2)+1),ROWS($I$2:I223))),\"\")","v":""},null,{"$f":"IFERROR(INDEX(العاملين!$B$2:'العاملين'!$B$999,SMALL(IF(العاملين!$G$2:'العاملين'!$G$999=\"Thu\",ROW(العاملين!$B$2:'العاملين'!$B$999)-ROW(العاملين!$B$2)+1),ROWS($K$2:K223))),\"\")","v":""},null,{"$f":"IFERROR(INDEX(العاملين!$B$2:'العاملين'!$B$999,SMALL(IF(العاملين!$G$2:'العاملين'!$G$999=\"Fri\",ROW(العاملين!$B$2:'العاملين'!$B$999)-ROW(العاملين!$B$2)+1),ROWS($M$2:M223))),\"\")","v":""}]
[null,{"$f":"IFERROR(INDEX(العاملين!$B$2:'العاملين'!$B$999,SMALL(IF(العاملين!$G$2:'العاملين'!$G$999=\"Sat\",ROW(العاملين!$B$2:'العاملين'!$B$999)-ROW(العاملين!$B$2)+1),ROWS($B$2:B224))),\"\")","v":""},{"$f":"IFERROR(INDEX(العاملين!$B$2:'العاملين'!$B$999,SMALL(IF(العاملين!$G$2:'العاملين'!$G$999=\"Sun\",ROW(العاملين!$B$2:'العاملين'!$B$999)-ROW(العاملين!$B$2)+1),ROWS($C$2:C224))),\"\")","v":""},null,{"$f":"IFERROR(INDEX(العاملين!$B$2:'العاملين'!$B$999,SMALL(IF(العاملين!$G$2:'العاملين'!$G$999=\"Mon\",ROW(العاملين!$B$2:'العاملين'!$B$999)-ROW(العاملين!$B$2)+1),ROWS($E$2:E224))),\"\")","v":""},null,{"$f":"IFERROR(INDEX(العاملين!$B$2:'العاملين'!$B$999,SMALL(IF(العاملين!$G$2:'العاملين'!$G$999=\"Tue\",ROW(العاملين!$B$2:'العاملين'!$B$999)-ROW(العاملين!$B$2)+1),ROWS($G$2:G224))),\"\")","v":""},null,{"$f":"IFERROR(INDEX(العاملين!$B$2:'العاملين'!$B$999,SMALL(IF(العاملين!$G$2:'العاملين'!$G$999=\"Wed\",ROW(العاملين!$B$2:'العاملين'!$B$999)-ROW(العاملين!$B$2)+1),ROWS($I$2:I224))),\"\")","v":""},null,{"$f":"IFERROR(INDEX(العاملين!$B$2:'العاملين'!$B$999,SMALL(IF(العاملين!$G$2:'العاملين'!$G$999=\"Thu\",ROW(العاملين!$B$2:'العاملين'!$B$999)-ROW(العاملين!$B$2)+1),ROWS($K$2:K224))),\"\")","v":""},null,{"$f":"IFERROR(INDEX(العاملين!$B$2:'العاملين'!$B$999,SMALL(IF(العاملين!$G$2:'العاملين'!$G$999=\"Fri\",ROW(العاملين!$B$2:'العاملين'!$B$999)-ROW(العاملين!$B$2)+1),ROWS($M$2:M224))),\"\")","v":""}]
[null,{"$f":"IFERROR(INDEX(العاملين!$B$2:'العاملين'!$B$999,SMALL(IF(العاملين!$G$2:'العاملين'!$G$999=\"Sat\",ROW(العاملين!$B$2:'العاملين'!$B$999)-ROW(العاملين!$B$2)+1),ROWS($B$2:B225))),\"\")","v":""},{"$f":"IFERROR(INDEX(العاملين!$B$2:'العاملين'!$B$999,SMALL(IF(العاملين!$G$2:'العاملين'!$G$999=\"Sun\",ROW(العاملين!$B$2:'العاملين'!$B$999)-ROW(العاملين!$B$2)+1),ROWS($C$2:C225))),\"\")","v":""},null,{"$f":"IFERROR(INDEX(العاملين!$B$2:'العاملين'!$B$999,SMALL(IF(العاملين!$G$2:'العاملين'!$G$999=\"Mon\",ROW(العاملين!$B$2:'العاملين'!$B$999)-ROW(العاملين!$B$2)+1),ROWS($E$2:E225))),\"\")","v":""},null,{"$f":"IFERROR(INDEX(العاملين!$B$2:'العاملين'!$B$999,SMALL(IF(العاملين!$G$2:'العاملين'!$G$999=\"Tue\",ROW(العاملين!$B$2:'العاملين'!$B$999)-ROW(العاملين!$B$2)+1),ROWS($G$2:G225))),\"\")","v":""},null,{"$f":"IFERROR(INDEX(العاملين!$B$2:'العاملين'!$B$999,SMALL(IF(العاملين!$G$2:'العاملين'!$G$999=\"Wed\",ROW(العاملين!$B$2:'العاملين'!$B$999)-ROW(العاملين!$B$2)+1),ROWS($I$2:I225))),\"\")","v":""},null,{"$f":"IFERROR(INDEX(العاملين!$B$2:'العاملين'!$B$999,SMALL(IF(العاملين!$G$2:'العاملين'!$G$999=\"Thu\",ROW(العاملين!$B$2:'العاملين'!$B$999)-ROW(العاملين!$B$2)+1),ROWS($K$2:K225))),\"\")","v":""},null,{"$f":"IFERROR(INDEX(العاملين!$B$2:'العاملين'!$B$999,SMALL(IF(العاملين!$G$2:'العاملين'!$G$999=\"Fri\",ROW(العاملين!$B$2:'العاملين'!$B$999)-ROW(العاملين!$B$2)+1),ROWS($M$2:M225))),\"\")","v":""}]
[null,{"$f":"IFERROR(INDEX(العاملين!$B$2:'العاملين'!$B$999,SMALL(IF(العاملين!$G$2:'العاملين'!$G$999=\"Sat\",ROW(العاملين!$B$2:'العاملين'!$B$999)-ROW(العاملين!$B$2)+1),ROWS($B$2:B226))),\"\")","v":""},{"$f":"IFERROR(INDEX(العاملين!$B$2:'العاملين'!$B$999,SMALL(IF(العاملين!$G$2:'العاملين'!$G$999=\"Sun\",ROW(العاملين!$B$2:'العاملين'!$B$999)-ROW(العاملين!$B$2)+1),ROWS($C$2:C226))),\"\")","v":""},null,{"$f":"IFERROR(INDEX(العاملين!$B$2:'العاملين'!$B$999,SMALL(IF(العاملين!$G$2:'العاملين'!$G$999=\"Mon\",ROW(العاملين!$B$2:'العاملين'!$B$999)-ROW(العاملين!$B$2)+1),ROWS($E$2:E226))),\"\")","v":""},null,{"$f":"IFERROR(INDEX(العاملين!$B$2:'العاملين'!$B$999,SMALL(IF(العاملين!$G$2:'العاملين'!$G$999=\"Tue\",ROW(العاملين!$B$2:'العاملين'!$B$999)-ROW(العاملين!$B$2)+1),ROWS($G$2:G226))),\"\")","v":""},null,{"$f":"IFERROR(INDEX(العاملين!$B$2:'العاملين'!$B$999,SMALL(IF(العاملين!$G$2:'العاملين'!$G$999=\"Wed\",ROW(العاملين!$B$2:'العاملين'!$B$999)-ROW(العاملين!$B$2)+1),ROWS($I$2:I226))),\"\")","v":""},null,{"$f":"IFERROR(INDEX(العاملين!$B$2:'العاملين'!$B$999,SMALL(IF(العاملين!$G$2:'العاملين'!$G$999=\"Thu\",ROW(العاملين!$B$2:'العاملين'!$B$999)-ROW(العاملين!$B$2)+1),ROWS($K$2:K226))),\"\")","v":""},null,{"$f":"IFERROR(INDEX(العاملين!$B$2:'العاملين'!$B$999,SMALL(IF(العاملين!$G$2:'العاملين'!$G$999=\"Fri\",ROW(العاملين!$B$2:'العاملين'!$B$999)-ROW(العاملين!$B$2)+1),ROWS($M$2:M226))),\"\")","v":""}]
[null,{"$f":"IFERROR(INDEX(العاملين!$B$2:'العاملين'!$B$999,SMALL(IF(العاملين!$G$2:'العاملين'!$G$999=\"Sat\",ROW(العاملين!$B$2:'العاملين'!$B$999)-ROW(العاملين!$B$2)+1),ROWS($B$2:B227))),\"\")","v":""},{"$f":"IFERROR(INDEX(العاملين!$B$2:'العاملين'!$B$999,SMALL(IF(العاملين!$G$2:'العاملين'!$G$999=\"Sun\",ROW(العاملين!$B$2:'العاملين'!$B$999)-ROW(العاملين!$B$2)+1),ROWS($C$2:C227))),\"\")","v":""},null,{"$f":"IFERROR(INDEX(العاملين!$B$2:'العاملين'!$B$999,SMALL(IF(العاملين!$G$2:'العاملين'!$G$999=\"Mon\",ROW(العاملين!$B$2:'العاملين'!$B$999)-ROW(العاملين!$B$2)+1),ROWS($E$2:E227))),\"\")","v":""},null,{"$f":"IFERROR(INDEX(العاملين!$B$2:'العاملين'!$B$999,SMALL(IF(العاملين!$G$2:'العاملين'!$G$999=\"Tue\",ROW(العاملين!$B$2:'العاملين'!$B$999)-ROW(العاملين!$B$2)+1),ROWS($G$2:G227))),\"\")","v":""},null,{"$f":"IFERROR(INDEX(العاملين!$B$2:'العاملين'!$B$999,SMALL(IF(العاملين!$G$2:'العاملين'!$G$999=\"Wed\",ROW(العاملين!$B$2:'العاملين'!$B$999)-ROW(العاملين!$B$2)+1),ROWS($I$2:I227))),\"\")","v":""},null,{"$f":"IFERROR(INDEX(العاملين!$B$2:'العاملين'!$B$999,SMALL(IF(العاملين!$G$2:'العاملين'!$G$999=\"Thu\",ROW(العاملين!$B$2:'العاملين'!$B$999)-ROW(العاملين!$B$2)+1),ROWS($K$2:K227))),\"\")","v":""},null,{"$f":"IFERROR(INDEX(العاملين!$B$2:'العاملين'!$B$999,SMALL(IF(العاملين!$G$2:'العاملين'!$G$999=\"Fri\",ROW(العاملين!$B$2:'العاملين'!$B$999)-ROW(العاملين!$B$2)+1),ROWS($M$2:M227))),\"\")","v":""}]
[null,{"$f":"IFERROR(INDEX(العاملين!$B$2:'العاملين'!$B$999,SMALL(IF(العاملين!$G$2:'العاملين'!$G$999=\"Sat\",ROW(العاملين!$B$2:'العاملين'!$B$999)-ROW(العاملين!$B$2)+1),ROWS($B$2:B228))),\"\")","v":""},{"$f":"IFERROR(INDEX(العاملين!$B$2:'العاملين'!$B$999,SMALL(IF(العاملين!$G$2:'العاملين'!$G$999=\"Sun\",ROW(العاملين!$B$2:'العاملين'!$B$999)-ROW(العاملين!$B$2)+1),ROWS($C$2:C228))),\"\")","v":""},null,{"$f":"IFERROR(INDEX(العاملين!$B$2:'العاملين'!$B$999,SMALL(IF(العاملين!$G$2:'العاملين'!$G$999=\"Mon\",ROW(العاملين!$B$2:'العاملين'!$B$999)-ROW(العاملين!$B$2)+1),ROWS($E$2:E228))),\"\")","v":""},null,{"$f":"IFERROR(INDEX(العاملين!$B$2:'العاملين'!$B$999,SMALL(IF(العاملين!$G$2:'العاملين'!$G$999=\"Tue\",ROW(العاملين!$B$2:'العاملين'!$B$999)-ROW(العاملين!$B$2)+1),ROWS($G$2:G228))),\"\")","v":""},null,{"$f":"IFERROR(INDEX(العاملين!$B$2:'العاملين'!$B$999,SMALL(IF(العاملين!$G$2:'العاملين'!$G$999=\"Wed\",ROW(العاملين!$B$2:'العاملين'!$B$999)-ROW(العاملين!$B$2)+1),ROWS($I$2:I228))),\"\")","v":""},null,{"$f":"IFERROR(INDEX(العاملين!$B$2:'العاملين'!$B$999,SMALL(IF(العاملين!$G$2:'العاملين'!$G$999=\"Thu\",ROW(العاملين!$B$2:'العاملين'!$B$999)-ROW(العاملين!$B$2)+1),ROWS($K$2:K228))),\"\")","v":""},null,{"$f":"IFERROR(INDEX(العاملين!$B$2:'العاملين'!$B$999,SMALL(IF(العاملين!$G$2:'العاملين'!$G$999=\"Fri\",ROW(العاملين!$B$2:'العاملين'!$B$999)-ROW(العاملين!$B$2)+1),ROWS($M$2:M228))),\"\")","v":""}]
[null,{"$f":"IFERROR(INDEX(العاملين!$B$2:'العاملين'!$B$999,SMALL(IF(العاملين!$G$2:'العاملين'!$G$999=\"Sat\",ROW(العاملين!$B$2:'العاملين'!$B$999)-ROW(العاملين!$B$2)+1),ROWS($B$2:B229))),\"\")","v":""},{"$f":"IFERROR(INDEX(العاملين!$B$2:'العاملين'!$B$999,SMALL(IF(العاملين!$G$2:'العاملين'!$G$999=\"Sun\",ROW(العاملين!$B$2:'العاملين'!$B$999)-ROW(العاملين!$B$2)+1),ROWS($C$2:C229))),\"\")","v":""},null,{"$f":"IFERROR(INDEX(العاملين!$B$2:'العاملين'!$B$999,SMALL(IF(العاملين!$G$2:'العاملين'!$G$999=\"Mon\",ROW(العاملين!$B$2:'العاملين'!$B$999)-ROW(العاملين!$B$2)+1),ROWS($E$2:E229))),\"\")","v":""},null,{"$f":"IFERROR(INDEX(العاملين!$B$2:'العاملين'!$B$999,SMALL(IF(العاملين!$G$2:'العاملين'!$G$999=\"Tue\",ROW(العاملين!$B$2:'العاملين'!$B$999)-ROW(العاملين!$B$2)+1),ROWS($G$2:G229))),\"\")","v":""},null,{"$f":"IFERROR(INDEX(العاملين!$B$2:'العاملين'!$B$999,SMALL(IF(العاملين!$G$2:'العاملين'!$G$999=\"Wed\",ROW(العاملين!$B$2:'العاملين'!$B$999)-ROW(العاملين!$B$2)+1),ROWS($I$2:I229))),\"\")","v":""},null,{"$f":"IFERROR(INDEX(العاملين!$B$2:'العاملين'!$B$999,SMALL(IF(العاملين!$G$2:'العاملين'!$G$999=\"Thu\",ROW(العاملين!$B$2:'العاملين'!$B$999)-ROW(العاملين!$B$2)+1),ROWS($K$2:K229))),\"\")","v":""},null,{"$f":"IFERROR(INDEX(العاملين!$B$2:'العاملين'!$B$999,SMALL(IF(العاملين!$G$2:'العاملين'!$G$999=\"Fri\",ROW(العاملين!$B$2:'العاملين'!$B$999)-ROW(العاملين!$B$2)+1),ROWS($M$2:M229))),\"\")","v":""}]
[null,{"$f":"IFERROR(INDEX(العاملين!$B$2:'العاملين'!$B$999,SMALL(IF(العاملين!$G$2:'العاملين'!$G$999=\"Sat\",ROW(العاملين!$B$2:'العاملين'!$B$999)-ROW(العاملين!$B$2)+1),ROWS($B$2:B230))),\"\")","v":""},{"$f":"IFERROR(INDEX(العاملين!$B$2:'العاملين'!$B$999,SMALL(IF(العاملين!$G$2:'العاملين'!$G$999=\"Sun\",ROW(العاملين!$B$2:'العاملين'!$B$999)-ROW(العاملين!$B$2)+1),ROWS($C$2:C230))),\"\")","v":""},null,{"$f":"IFERROR(INDEX(العاملين!$B$2:'العاملين'!$B$999,SMALL(IF(العاملين!$G$2:'العاملين'!$G$999=\"Mon\",ROW(العاملين!$B$2:'العاملين'!$B$999)-ROW(العاملين!$B$2)+1),ROWS($E$2:E230))),\"\")","v":""},null,{"$f":"IFERROR(INDEX(العاملين!$B$2:'العاملين'!$B$999,SMALL(IF(العاملين!$G$2:'العاملين'!$G$999=\"Tue\",ROW(العاملين!$B$2:'العاملين'!$B$999)-ROW(العاملين!$B$2)+1),ROWS($G$2:G230))),\"\")","v":""},null,{"$f":"IFERROR(INDEX(العاملين!$B$2:'العاملين'!$B$999,SMALL(IF(العاملين!$G$2:'العاملين'!$G$999=\"Wed\",ROW(العاملين!$B$2:'العاملين'!$B$999)-ROW(العاملين!$B$2)+1),ROWS($I$2:I230))),\"\")","v":""},null,{"$f":"IFERROR(INDEX(العاملين!$B$2:'العاملين'!$B$999,SMALL(IF(العاملين!$G$2:'العاملين'!$G$999=\"Thu\",ROW(العاملين!$B$2:'العاملين'!$B$999)-ROW(العاملين!$B$2)+1),ROWS($K$2:K230))),\"\")","v":""},null,{"$f":"IFERROR(INDEX(العاملين!$B$2:'العاملين'!$B$999,SMALL(IF(العاملين!$G$2:'العاملين'!$G$999=\"Fri\",ROW(العاملين!$B$2:'العاملين'!$B$999)-ROW(العاملين!$B$2)+1),ROWS($M$2:M230))),\"\")","v":""}]
[null,{"$f":"IFERROR(INDEX(العاملين!$B$2:'العاملين'!$B$999,SMALL(IF(العاملين!$G$2:'العاملين'!$G$999=\"Sat\",ROW(العاملين!$B$2:'العاملين'!$B$999)-ROW(العاملين!$B$2)+1),ROWS($B$2:B231))),\"\")","v":""},{"$f":"IFERROR(INDEX(العاملين!$B$2:'العاملين'!$B$999,SMALL(IF(العاملين!$G$2:'العاملين'!$G$999=\"Sun\",ROW(العاملين!$B$2:'العاملين'!$B$999)-ROW(العاملين!$B$2)+1),ROWS($C$2:C231))),\"\")","v":""},null,{"$f":"IFERROR(INDEX(العاملين!$B$2:'العاملين'!$B$999,SMALL(IF(العاملين!$G$2:'العاملين'!$G$999=\"Mon\",ROW(العاملين!$B$2:'العاملين'!$B$999)-ROW(العاملين!$B$2)+1),ROWS($E$2:E231))),\"\")","v":""},null,{"$f":"IFERROR(INDEX(العاملين!$B$2:'العاملين'!$B$999,SMALL(IF(العاملين!$G$2:'العاملين'!$G$999=\"Tue\",ROW(العاملين!$B$2:'العاملين'!$B$999)-ROW(العاملين!$B$2)+1),ROWS($G$2:G231))),\"\")","v":""},null,{"$f":"IFERROR(INDEX(العاملين!$B$2:'العاملين'!$B$999,SMALL(IF(العاملين!$G$2:'العاملين'!$G$999=\"Wed\",ROW(العاملين!$B$2:'العاملين'!$B$999)-ROW(العاملين!$B$2)+1),ROWS($I$2:I231))),\"\")","v":""},null,{"$f":"IFERROR(INDEX(العاملين!$B$2:'العاملين'!$B$999,SMALL(IF(العاملين!$G$2:'العاملين'!$G$999=\"Thu\",ROW(العاملين!$B$2:'العاملين'!$B$999)-ROW(العاملين!$B$2)+1),ROWS($K$2:K231))),\"\")","v":""},null,{"$f":"IFERROR(INDEX(العاملين!$B$2:'العاملين'!$B$999,SMALL(IF(العاملين!$G$2:'العاملين'!$G$999=\"Fri\",ROW(العاملين!$B$2:'العاملين'!$B$999)-ROW(العاملين!$B$2)+1),ROWS($M$2:M231))),\"\")","v":""}]
[null,{"$f":"IFERROR(INDEX(العاملين!$B$2:'العاملين'!$B$999,SMALL(IF(العاملين!$G$2:'العاملين'!$G$999=\"Sat\",ROW(العاملين!$B$2:'العاملين'!$B$999)-ROW(العاملين!$B$2)+1),ROWS($B$2:B232))),\"\")","v":""},{"$f":"IFERROR(INDEX(العاملين!$B$2:'العاملين'!$B$999,SMALL(IF(العاملين!$G$2:'العاملين'!$G$999=\"Sun\",ROW(العاملين!$B$2:'العاملين'!$B$999)-ROW(العاملين!$B$2)+1),ROWS($C$2:C232))),\"\")","v":""},null,{"$f":"IFERROR(INDEX(العاملين!$B$2:'العاملين'!$B$999,SMALL(IF(العاملين!$G$2:'العاملين'!$G$999=\"Mon\",ROW(العاملين!$B$2:'العاملين'!$B$999)-ROW(العاملين!$B$2)+1),ROWS($E$2:E232))),\"\")","v":""},null,{"$f":"IFERROR(INDEX(العاملين!$B$2:'العاملين'!$B$999,SMALL(IF(العاملين!$G$2:'العاملين'!$G$999=\"Tue\",ROW(العاملين!$B$2:'العاملين'!$B$999)-ROW(العاملين!$B$2)+1),ROWS($G$2:G232))),\"\")","v":""},null,{"$f":"IFERROR(INDEX(العاملين!$B$2:'العاملين'!$B$999,SMALL(IF(العاملين!$G$2:'العاملين'!$G$999=\"Wed\",ROW(العاملين!$B$2:'العاملين'!$B$999)-ROW(العاملين!$B$2)+1),ROWS($I$2:I232))),\"\")","v":""},null,{"$f":"IFERROR(INDEX(العاملين!$B$2:'العاملين'!$B$999,SMALL(IF(العاملين!$G$2:'العاملين'!$G$999=\"Thu\",ROW(العاملين!$B$2:'العاملين'!$B$999)-ROW(العاملين!$B$2)+1),ROWS($K$2:K232))),\"\")","v":""},null,{"$f":"IFERROR(INDEX(العاملين!$B$2:'العاملين'!$B$999,SMALL(IF(العاملين!$G$2:'العاملين'!$G$999=\"Fri\",ROW(العاملين!$B$2:'العاملين'!$B$999)-ROW(العاملين!$B$2)+1),ROWS($M$2:M232))),\"\")","v":""}]
[null,{"$f":"IFERROR(INDEX(العاملين!$B$2:'العاملين'!$B$999,SMALL(IF(العاملين!$G$2:'العاملين'!$G$999=\"Sat\",ROW(العاملين!$B$2:'العاملين'!$B$999)-ROW(العاملين!$B$2)+1),ROWS($B$2:B233))),\"\")","v":""},{"$f":"IFERROR(INDEX(العاملين!$B$2:'العاملين'!$B$999,SMALL(IF(العاملين!$G$2:'العاملين'!$G$999=\"Sun\",ROW(العاملين!$B$2:'العاملين'!$B$999)-ROW(العاملين!$B$2)+1),ROWS($C$2:C233))),\"\")","v":""},null,{"$f":"IFERROR(INDEX(العاملين!$B$2:'العاملين'!$B$999,SMALL(IF(العاملين!$G$2:'العاملين'!$G$999=\"Mon\",ROW(العاملين!$B$2:'العاملين'!$B$999)-ROW(العاملين!$B$2)+1),ROWS($E$2:E233))),\"\")","v":""},null,{"$f":"IFERROR(INDEX(العاملين!$B$2:'العاملين'!$B$999,SMALL(IF(العاملين!$G$2:'العاملين'!$G$999=\"Tue\",ROW(العاملين!$B$2:'العاملين'!$B$999)-ROW(العاملين!$B$2)+1),ROWS($G$2:G233))),\"\")","v":""},null,{"$f":"IFERROR(INDEX(العاملين!$B$2:'العاملين'!$B$999,SMALL(IF(العاملين!$G$2:'العاملين'!$G$999=\"Wed\",ROW(العاملين!$B$2:'العاملين'!$B$999)-ROW(العاملين!$B$2)+1),ROWS($I$2:I233))),\"\")","v":""},null,{"$f":"IFERROR(INDEX(العاملين!$B$2:'العاملين'!$B$999,SMALL(IF(العاملين!$G$2:'العاملين'!$G$999=\"Thu\",ROW(العاملين!$B$2:'العاملين'!$B$999)-ROW(العاملين!$B$2)+1),ROWS($K$2:K233))),\"\")","v":""},null,{"$f":"IFERROR(INDEX(العاملين!$B$2:'العاملين'!$B$999,SMALL(IF(العاملين!$G$2:'العاملين'!$G$999=\"Fri\",ROW(العاملين!$B$2:'العاملين'!$B$999)-ROW(العاملين!$B$2)+1),ROWS($M$2:M233))),\"\")","v":""}]
[null,{"$f":"IFERROR(INDEX(العاملين!$B$2:'العاملين'!$B$999,SMALL(IF(العاملين!$G$2:'العاملين'!$G$999=\"Sat\",ROW(العاملين!$B$2:'العاملين'!$B$999)-ROW(العاملين!$B$2)+1),ROWS($B$2:B234))),\"\")","v":""},{"$f":"IFERROR(INDEX(العاملين!$B$2:'العاملين'!$B$999,SMALL(IF(العاملين!$G$2:'العاملين'!$G$999=\"Sun\",ROW(العاملين!$B$2:'العاملين'!$B$999)-ROW(العاملين!$B$2)+1),ROWS($C$2:C234))),\"\")","v":""},null,{"$f":"IFERROR(INDEX(العاملين!$B$2:'العاملين'!$B$999,SMALL(IF(العاملين!$G$2:'العاملين'!$G$999=\"Mon\",ROW(العاملين!$B$2:'العاملين'!$B$999)-ROW(العاملين!$B$2)+1),ROWS($E$2:E234))),\"\")","v":""},null,{"$f":"IFERROR(INDEX(العاملين!$B$2:'العاملين'!$B$999,SMALL(IF(العاملين!$G$2:'العاملين'!$G$999=\"Tue\",ROW(العاملين!$B$2:'العاملين'!$B$999)-ROW(العاملين!$B$2)+1),ROWS($G$2:G234))),\"\")","v":""},null,{"$f":"IFERROR(INDEX(العاملين!$B$2:'العاملين'!$B$999,SMALL(IF(العاملين!$G$2:'العاملين'!$G$999=\"Wed\",ROW(العاملين!$B$2:'العاملين'!$B$999)-ROW(العاملين!$B$2)+1),ROWS($I$2:I234))),\"\")","v":""},null,{"$f":"IFERROR(INDEX(العاملين!$B$2:'العاملين'!$B$999,SMALL(IF(العاملين!$G$2:'العاملين'!$G$999=\"Thu\",ROW(العاملين!$B$2:'العاملين'!$B$999)-ROW(العاملين!$B$2)+1),ROWS($K$2:K234))),\"\")","v":""},null,{"$f":"IFERROR(INDEX(العاملين!$B$2:'العاملين'!$B$999,SMALL(IF(العاملين!$G$2:'العاملين'!$G$999=\"Fri\",ROW(العاملين!$B$2:'العاملين'!$B$999)-ROW(العاملين!$B$2)+1),ROWS($M$2:M234))),\"\")","v":""}]
[null,{"$f":"IFERROR(INDEX(العاملين!$B$2:'العاملين'!$B$999,SMALL(IF(العاملين!$G$2:'العاملين'!$G$999=\"Sat\",ROW(العاملين!$B$2:'العاملين'!$B$999)-ROW(العاملين!$B$2)+1),ROWS($B$2:B235))),\"\")","v":""},{"$f":"IFERROR(INDEX(العاملين!$B$2:'العاملين'!$B$999,SMALL(IF(العاملين!$G$2:'العاملين'!$G$999=\"Sun\",ROW(العاملين!$B$2:'العاملين'!$B$999)-ROW(العاملين!$B$2)+1),ROWS($C$2:C235))),\"\")","v":""},null,{"$f":"IFERROR(INDEX(العاملين!$B$2:'العاملين'!$B$999,SMALL(IF(العاملين!$G$2:'العاملين'!$G$999=\"Mon\",ROW(العاملين!$B$2:'العاملين'!$B$999)-ROW(العاملين!$B$2)+1),ROWS($E$2:E235))),\"\")","v":""},null,{"$f":"IFERROR(INDEX(العاملين!$B$2:'العاملين'!$B$999,SMALL(IF(العاملين!$G$2:'العاملين'!$G$999=\"Tue\",ROW(العاملين!$B$2:'العاملين'!$B$999)-ROW(العاملين!$B$2)+1),ROWS($G$2:G235))),\"\")","v":""},null,{"$f":"IFERROR(INDEX(العاملين!$B$2:'العاملين'!$B$999,SMALL(IF(العاملين!$G$2:'العاملين'!$G$999=\"Wed\",ROW(العاملين!$B$2:'العاملين'!$B$999)-ROW(العاملين!$B$2)+1),ROWS($I$2:I235))),\"\")","v":""},null,{"$f":"IFERROR(INDEX(العاملين!$B$2:'العاملين'!$B$999,SMALL(IF(العاملين!$G$2:'العاملين'!$G$999=\"Thu\",ROW(العاملين!$B$2:'العاملين'!$B$999)-ROW(العاملين!$B$2)+1),ROWS($K$2:K235))),\"\")","v":""},null,{"$f":"IFERROR(INDEX(العاملين!$B$2:'العاملين'!$B$999,SMALL(IF(العاملين!$G$2:'العاملين'!$G$999=\"Fri\",ROW(العاملين!$B$2:'العاملين'!$B$999)-ROW(العاملين!$B$2)+1),ROWS($M$2:M235))),\"\")","v":""}]
[null,{"$f":"IFERROR(INDEX(العاملين!$B$2:'العاملين'!$B$999,SMALL(IF(العاملين!$G$2:'العاملين'!$G$999=\"Sat\",ROW(العاملين!$B$2:'العاملين'!$B$999)-ROW(العاملين!$B$2)+1),ROWS($B$2:B236))),\"\")","v":""},{"$f":"IFERROR(INDEX(العاملين!$B$2:'العاملين'!$B$999,SMALL(IF(العاملين!$G$2:'العاملين'!$G$999=\"Sun\",ROW(العاملين!$B$2:'العاملين'!$B$999)-ROW(العاملين!$B$2)+1),ROWS($C$2:C236))),\"\")","v":""},null,{"$f":"IFERROR(INDEX(العاملين!$B$2:'العاملين'!$B$999,SMALL(IF(العاملين!$G$2:'العاملين'!$G$999=\"Mon\",ROW(العاملين!$B$2:'العاملين'!$B$999)-ROW(العاملين!$B$2)+1),ROWS($E$2:E236))),\"\")","v":""},null,{"$f":"IFERROR(INDEX(العاملين!$B$2:'العاملين'!$B$999,SMALL(IF(العاملين!$G$2:'العاملين'!$G$999=\"Tue\",ROW(العاملين!$B$2:'العاملين'!$B$999)-ROW(العاملين!$B$2)+1),ROWS($G$2:G236))),\"\")","v":""},null,{"$f":"IFERROR(INDEX(العاملين!$B$2:'العاملين'!$B$999,SMALL(IF(العاملين!$G$2:'العاملين'!$G$999=\"Wed\",ROW(العاملين!$B$2:'العاملين'!$B$999)-ROW(العاملين!$B$2)+1),ROWS($I$2:I236))),\"\")","v":""},null,{"$f":"IFERROR(INDEX(العاملين!$B$2:'العاملين'!$B$999,SMALL(IF(العاملين!$G$2:'العاملين'!$G$999=\"Thu\",ROW(العاملين!$B$2:'العاملين'!$B$999)-ROW(العاملين!$B$2)+1),ROWS($K$2:K236))),\"\")","v":""},null,{"$f":"IFERROR(INDEX(العاملين!$B$2:'العاملين'!$B$999,SMALL(IF(العاملين!$G$2:'العاملين'!$G$999=\"Fri\",ROW(العاملين!$B$2:'العاملين'!$B$999)-ROW(العاملين!$B$2)+1),ROWS($M$2:M236))),\"\")","v":""}]
[null,{"$f":"IFERROR(INDEX(العاملين!$B$2:'العاملين'!$B$999,SMALL(IF(العاملين!$G$2:'العاملين'!$G$999=\"Sat\",ROW(العاملين!$B$2:'العاملين'!$B$999)-ROW(العاملين!$B$2)+1),ROWS($B$2:B237))),\"\")","v":""},{"$f":"IFERROR(INDEX(العاملين!$B$2:'العاملين'!$B$999,SMALL(IF(العاملين!$G$2:'العاملين'!$G$999=\"Sun\",ROW(العاملين!$B$2:'العاملين'!$B$999)-ROW(العاملين!$B$2)+1),ROWS($C$2:C237))),\"\")","v":""},null,{"$f":"IFERROR(INDEX(العاملين!$B$2:'العاملين'!$B$999,SMALL(IF(العاملين!$G$2:'العاملين'!$G$999=\"Mon\",ROW(العاملين!$B$2:'العاملين'!$B$999)-ROW(العاملين!$B$2)+1),ROWS($E$2:E237))),\"\")","v":""},null,{"$f":"IFERROR(INDEX(العاملين!$B$2:'العاملين'!$B$999,SMALL(IF(العاملين!$G$2:'العاملين'!$G$999=\"Tue\",ROW(العاملين!$B$2:'العاملين'!$B$999)-ROW(العاملين!$B$2)+1),ROWS($G$2:G237))),\"\")","v":""},null,{"$f":"IFERROR(INDEX(العاملين!$B$2:'العاملين'!$B$999,SMALL(IF(العاملين!$G$2:'العاملين'!$G$999=\"Wed\",ROW(العاملين!$B$2:'العاملين'!$B$999)-ROW(العاملين!$B$2)+1),ROWS($I$2:I237))),\"\")","v":""},null,{"$f":"IFERROR(INDEX(العاملين!$B$2:'العاملين'!$B$999,SMALL(IF(العاملين!$G$2:'العاملين'!$G$999=\"Thu\",ROW(العاملين!$B$2:'العاملين'!$B$999)-ROW(العاملين!$B$2)+1),ROWS($K$2:K237))),\"\")","v":""},null,{"$f":"IFERROR(INDEX(العاملين!$B$2:'العاملين'!$B$999,SMALL(IF(العاملين!$G$2:'العاملين'!$G$999=\"Fri\",ROW(العاملين!$B$2:'العاملين'!$B$999)-ROW(العاملين!$B$2)+1),ROWS($M$2:M237))),\"\")","v":""}]
[null,{"$f":"IFERROR(INDEX(العاملين!$B$2:'العاملين'!$B$999,SMALL(IF(العاملين!$G$2:'العاملين'!$G$999=\"Sat\",ROW(العاملين!$B$2:'العاملين'!$B$999)-ROW(العاملين!$B$2)+1),ROWS($B$2:B238))),\"\")","v":""},{"$f":"IFERROR(INDEX(العاملين!$B$2:'العاملين'!$B$999,SMALL(IF(العاملين!$G$2:'العاملين'!$G$999=\"Sun\",ROW(العاملين!$B$2:'العاملين'!$B$999)-ROW(العاملين!$B$2)+1),ROWS($C$2:C238))),\"\")","v":""},null,{"$f":"IFERROR(INDEX(العاملين!$B$2:'العاملين'!$B$999,SMALL(IF(العاملين!$G$2:'العاملين'!$G$999=\"Mon\",ROW(العاملين!$B$2:'العاملين'!$B$999)-ROW(العاملين!$B$2)+1),ROWS($E$2:E238))),\"\")","v":""},null,{"$f":"IFERROR(INDEX(العاملين!$B$2:'العاملين'!$B$999,SMALL(IF(العاملين!$G$2:'العاملين'!$G$999=\"Tue\",ROW(العاملين!$B$2:'العاملين'!$B$999)-ROW(العاملين!$B$2)+1),ROWS($G$2:G238))),\"\")","v":""},null,{"$f":"IFERROR(INDEX(العاملين!$B$2:'العاملين'!$B$999,SMALL(IF(العاملين!$G$2:'العاملين'!$G$999=\"Wed\",ROW(العاملين!$B$2:'العاملين'!$B$999)-ROW(العاملين!$B$2)+1),ROWS($I$2:I238))),\"\")","v":""},null,{"$f":"IFERROR(INDEX(العاملين!$B$2:'العاملين'!$B$999,SMALL(IF(العاملين!$G$2:'العاملين'!$G$999=\"Thu\",ROW(العاملين!$B$2:'العاملين'!$B$999)-ROW(العاملين!$B$2)+1),ROWS($K$2:K238))),\"\")","v":""},null,{"$f":"IFERROR(INDEX(العاملين!$B$2:'العاملين'!$B$999,SMALL(IF(العاملين!$G$2:'العاملين'!$G$999=\"Fri\",ROW(العاملين!$B$2:'العاملين'!$B$999)-ROW(العاملين!$B$2)+1),ROWS($M$2:M238))),\"\")","v":""}]
[null,{"$f":"IFERROR(INDEX(العاملين!$B$2:'العاملين'!$B$999,SMALL(IF(العاملين!$G$2:'العاملين'!$G$999=\"Sat\",ROW(العاملين!$B$2:'العاملين'!$B$999)-ROW(العاملين!$B$2)+1),ROWS($B$2:B239))),\"\")","v":""},{"$f":"IFERROR(INDEX(العاملين!$B$2:'العاملين'!$B$999,SMALL(IF(العاملين!$G$2:'العاملين'!$G$999=\"Sun\",ROW(العاملين!$B$2:'العاملين'!$B$999)-ROW(العاملين!$B$2)+1),ROWS($C$2:C239))),\"\")","v":""},null,{"$f":"IFERROR(INDEX(العاملين!$B$2:'العاملين'!$B$999,SMALL(IF(العاملين!$G$2:'العاملين'!$G$999=\"Mon\",ROW(العاملين!$B$2:'العاملين'!$B$999)-ROW(العاملين!$B$2)+1),ROWS($E$2:E239))),\"\")","v":""},null,{"$f":"IFERROR(INDEX(العاملين!$B$2:'العاملين'!$B$999,SMALL(IF(العاملين!$G$2:'العاملين'!$G$999=\"Tue\",ROW(العاملين!$B$2:'العاملين'!$B$999)-ROW(العاملين!$B$2)+1),ROWS($G$2:G239))),\"\")","v":""},null,{"$f":"IFERROR(INDEX(العاملين!$B$2:'العاملين'!$B$999,SMALL(IF(العاملين!$G$2:'العاملين'!$G$999=\"Wed\",ROW(العاملين!$B$2:'العاملين'!$B$999)-ROW(العاملين!$B$2)+1),ROWS($I$2:I239))),\"\")","v":""},null,{"$f":"IFERROR(INDEX(العاملين!$B$2:'العاملين'!$B$999,SMALL(IF(العاملين!$G$2:'العاملين'!$G$999=\"Thu\",ROW(العاملين!$B$2:'العاملين'!$B$999)-ROW(العاملين!$B$2)+1),ROWS($K$2:K239))),\"\")","v":""},null,{"$f":"IFERROR(INDEX(العاملين!$B$2:'العاملين'!$B$999,SMALL(IF(العاملين!$G$2:'العاملين'!$G$999=\"Fri\",ROW(العاملين!$B$2:'العاملين'!$B$999)-ROW(العاملين!$B$2)+1),ROWS($M$2:M239))),\"\")","v":""}]
[null,null,null,null,null,null,null,null,null,null,null,null,{"$f":"IFERROR(INDEX(العاملين!$B$2:'العاملين'!$B$999,SMALL(IF(العاملين!$G$2:'العاملين'!$G$999=\"Fri\",ROW(العاملين!$B$2:'العاملين'!$B$999)-ROW(العاملين!$B$2)+1),ROWS($M$2:M240))),\"\")","v":""}]
[null,null,null,null,null,null,null,null,null,null,null,null,{"$f":"IFERROR(INDEX(العاملين!$B$2:'العاملين'!$B$999,SMALL(IF(العاملين!$G$2:'العاملين'!$G$999=\"Fri\",ROW(العاملين!$B$2:'العاملين'!$B$999)-ROW(العاملين!$B$2)+1),ROWS($M$2:M241))),\"\")","v":""}]
[null,null,null,null,null,null,null,null,null,null,null,null,{"$f":"IFERROR(INDEX(العاملين!$B$2:'العاملين'!$B$999,SMALL(IF(العاملين!$G$2:'العاملين'!$G$999=\"Fri\",ROW(العاملين!$B$2:'العاملين'!$B$999)-ROW(العاملين!$B$2)+1),ROWS($M$2:M242))),\"\")","v":""}]
[null,null,null,null,null,null,null,null,null,null,null,null,{"$f":"IFERROR(INDEX(العاملين!$B$2:'العاملين'!$B$999,SMALL(IF(العاملين!$G$2:'العاملين'!$G$999=\"Fri\",ROW(العاملين!$B$2:'العاملين'!$B$999)-ROW(العاملين!$B$2)+1),ROWS($M$2:M243))),\"\")","v":""}]
[null,null,null,null,null,null,null,null,null,null,null,null,{"$f":"IFERROR(INDEX(العاملين!$B$2:'العاملين'!$B$999,SMALL(IF(العاملين!$G$2:'العاملين'!$G$999=\"Fri\",ROW(العاملين!$B$2:'العاملين'!$B$999)-ROW(العاملين!$B$2)+1),ROWS($M$2:M244))),\"\")","v":""}]
[null,null,null,null,null,null,null,null,null,null,null,null,{"$f":"IFERROR(INDEX(العاملين!$B$2:'العاملين'!$B$999,SMALL(IF(العاملين!$G$2:'العاملين'!$G$999=\"Fri\",ROW(العاملين!$B$2:'العاملين'!$B$999)-ROW(العاملين!$B$2)+1),ROWS($M$2:M245))),\"\")","v":""}]
[null,null,null,null,null,null,null,null,null,null,null,null,{"$f":"IFERROR(INDEX(العاملين!$B$2:'العاملين'!$B$999,SMALL(IF(العاملين!$G$2:'العاملين'!$G$999=\"Fri\",ROW(العاملين!$B$2:'العاملين'!$B$999)-ROW(العاملين!$B$2)+1),ROWS($M$2:M246))),\"\")","v":""}]
[null,null,null,null,null,null,null,null,null,null,null,null,{"$f":"IFERROR(INDEX(العاملين!$B$2:'العاملين'!$B$999,SMALL(IF(العاملين!$G$2:'العاملين'!$G$999=\"Fri\",ROW(العاملين!$B$2:'العاملين'!$B$999)-ROW(العاملين!$B$2)+1),ROWS($M$2:M247))),\"\")","v":""}]
[null,null,null,null,null,null,null,null,null,null,null,null,{"$f":"IFERROR(INDEX(العاملين!$B$2:'العاملين'!$B$999,SMALL(IF(العاملين!$G$2:'العاملين'!$G$999=\"Fri\",ROW(العاملين!$B$2:'العاملين'!$B$999)-ROW(العاملين!$B$2)+1),ROWS($M$2:M248))),\"\")","v":""}]
[null,null,null,null,null,null,null,null,null,null,null,null,{"$f":"IFERROR(INDEX(العاملين!$B$2:'العاملين'!$B$999,SMALL(IF(العاملين!$G$2:'العاملين'!$G$999=\"Fri\",ROW(العاملين!$B$2:'العاملين'!$B$999)-ROW(العاملين!$B$2)+1),ROWS($M$2:M249))),\"\")","v":""}]
[null,null,null,null,null,null,null,null,null,null,null,null,{"$f":"IFERROR(INDEX(العاملين!$B$2:'العاملين'!$B$999,SMALL(IF(العاملين!$G$2:'العاملين'!$G$999=\"Fri\",ROW(العاملين!$B$2:'العاملين'!$B$999)-ROW(العاملين!$B$2)+1),ROWS($M$2:M250))),\"\")","v":""}]
[null,null,null,null,null,null,null,null,null,null,null,null,{"$f":"IFERROR(INDEX(العاملين!$B$2:'العاملين'!$B$999,SMALL(IF(العاملين!$G$2:'العاملين'!$G$999=\"Fri\",ROW(العاملين!$B$2:'العاملين'!$B$999)-ROW(العاملين!$B$2)+1),ROWS($M$2:M251))),\"\")","v":""}]
[null,null,null,null,null,null,null,null,null,null,null,null,{"$f":"IFERROR(INDEX(العاملين!$B$2:'العاملين'!$B$999,SMALL(IF(العاملين!$G$2:'العاملين'!$G$999=\"Fri\",ROW(العاملين!$B$2:'العاملين'!$B$999)-ROW(العاملين!$B$2)+1),ROWS($M$2:M252))),\"\")","v":""}]
[null,null,null,null,null,null,null,null,null,null,null,null,{"$f":"IFERROR(INDEX(العاملين!$B$2:'العاملين'!$B$999,SMALL(IF(العاملين!$G$2:'العاملين'!$G$999=\"Fri\",ROW(العاملين!$B$2:'العاملين'!$B$999)-ROW(العاملين!$B$2)+1),ROWS($M$2:M253))),\"\")","v":""}]
[null,null,null,null,null,null,null,null,null,null,null,null,{"$f":"IFERROR(INDEX(العاملين!$B$2:'العاملين'!$B$999,SMALL(IF(العاملين!$G$2:'العاملين'!$G$999=\"Fri\",ROW(العاملين!$B$2:'العاملين'!$B$999)-ROW(العاملين!$B$2)+1),ROWS($M$2:M254))),\"\")","v":""}]
[null,null,null,null,null,null,null,null,null,null,null,null,{"$f":"IFERROR(INDEX(العاملين!$B$2:'العاملين'!$B$999,SMALL(IF(العاملين!$G$2:'العاملين'!$G$999=\"Fri\",ROW(العاملين!$B$2:'العاملين'!$B$999)-ROW(العاملين!$B$2)+1),ROWS($M$2:M255))),\"\")","v":""}]
[null,null,null,null,null,null,null,null,null,null,null,null,{"$f":"IFERROR(INDEX(العاملين!$B$2:'العاملين'!$B$999,SMALL(IF(العاملين!$G$2:'العاملين'!$G$999=\"Fri\",ROW(العاملين!$B$2:'العاملين'!$B$999)-ROW(العاملين!$B$2)+1),ROWS($M$2:M256))),\"\")","v":""}]
[null,null,null,null,null,null,null,null,null,null,null,null,{"$f":"IFERROR(INDEX(العاملين!$B$2:'العاملين'!$B$999,SMALL(IF(العاملين!$G$2:'العاملين'!$G$999=\"Fri\",ROW(العاملين!$B$2:'العاملين'!$B$999)-ROW(العاملين!$B$2)+1),ROWS($M$2:M257))),\"\")","v":""}]
[null,null,null,null,null,null,null,null,null,null,null,null,{"$f":"IFERROR(INDEX(العاملين!$B$2:'العاملين'!$B$999,SMALL(IF(العاملين!$G$2:'العاملين'!$G$999=\"Fri\",ROW(العاملين!$B$2:'العاملين'!$B$999)-ROW(العاملين!$B$2)+1),ROWS($M$2:M258))),\"\")","v":""}]
[null,null,null,null,null,null,null,null,null,null,null,null,{"$f":"IFERROR(INDEX(العاملين!$B$2:'العاملين'!$B$999,SMALL(IF(العاملين!$G$2:'العاملين'!$G$999=\"Fri\",ROW(العاملين!$B$2:'العاملين'!$B$999)-ROW(العاملين!$B$2)+1),ROWS($M$2:M259))),\"\")","v":""}]
[null,null,null,null,null,null,null,null,null,null,null,null,{"$f":"IFERROR(INDEX(العاملين!$B$2:'العاملين'!$B$999,SMALL(IF(العاملين!$G$2:'العاملين'!$G$999=\"Fri\",ROW(العاملين!$B$2:'العاملين'!$B$999)-ROW(العاملين!$B$2)+1),ROWS($M$2:M260))),\"\")","v":""}]
[null,null,null,null,null,null,null,null,null,null,null,null,{"$f":"IFERROR(INDEX(العاملين!$B$2:'العاملين'!$B$999,SMALL(IF(العاملين!$G$2:'العاملين'!$G$999=\"Fri\",ROW(العاملين!$B$2:'العاملين'!$B$999)-ROW(العاملين!$B$2)+1),ROWS($M$2:M261))),\"\")","v":""}]
[null,null,null,null,null,null,null,null,null,null,null,null,{"$f":"IFERROR(INDEX(العاملين!$B$2:'العاملين'!$B$999,SMALL(IF(العاملين!$G$2:'العاملين'!$G$999=\"Fri\",ROW(العاملين!$B$2:'العاملين'!$B$999)-ROW(العاملين!$B$2)+1),ROWS($M$2:M262))),\"\")","v":""}]
[null,null,null,null,null,null,null,null,null,null,null,null,{"$f":"IFERROR(INDEX(العاملين!$B$2:'العاملين'!$B$999,SMALL(IF(العاملين!$G$2:'العاملين'!$G$999=\"Fri\",ROW(العاملين!$B$2:'العاملين'!$B$999)-ROW(العاملين!$B$2)+1),ROWS($M$2:M263))),\"\")","v":""}]
[null,null,null,null,null,null,null,null,null,null,null,null,{"$f":"IFERROR(INDEX(العاملين!$B$2:'العاملين'!$B$999,SMALL(IF(العاملين!$G$2:'العاملين'!$G$999=\"Fri\",ROW(العاملين!$B$2:'العاملين'!$B$999)-ROW(العاملين!$B$2)+1),ROWS($M$2:M264))),\"\")","v":""}]
[null,null,null,null,null,null,null,null,null,null,null,null,{"$f":"IFERROR(INDEX(العاملين!$B$2:'العاملين'!$B$999,SMALL(IF(العاملين!$G$2:'العاملين'!$G$999=\"Fri\",ROW(العاملين!$B$2:'العاملين'!$B$999)-ROW(العاملين!$B$2)+1),ROWS($M$2:M265))),\"\")","v":""}]
[null,null,null,null,null,null,null,null,null,null,null,null,{"$f":"IFERROR(INDEX(العاملين!$B$2:'العاملين'!$B$999,SMALL(IF(العاملين!$G$2:'العاملين'!$G$999=\"Fri\",ROW(العاملين!$B$2:'العاملين'!$B$999)-ROW(العاملين!$B$2)+1),ROWS($M$2:M266))),\"\")","v":""}]
[null,null,null,null,null,null,null,null,null,null,null,null,{"$f":"IFERROR(INDEX(العاملين!$B$2:'العاملين'!$B$999,SMALL(IF(العاملين!$G$2:'العاملين'!$G$999=\"Fri\",ROW(العاملين!$B$2:'العاملين'!$B$999)-ROW(العاملين!$B$2)+1),ROWS($M$2:M267))),\"\")","v":""}]
[null,null,null,null,null,null,null,null,null,null,null,null,{"$f":"IFERROR(INDEX(العاملين!$B$2:'العاملين'!$B$999,SMALL(IF(العاملين!$G$2:'العاملين'!$G$999=\"Fri\",ROW(العاملين!$B$2:'العاملين'!$B$999)-ROW(العاملين!$B$2)+1),ROWS($M$2:M268))),\"\")","v":""}]
[null,null,null,null,null,null,null,null,null,null,null,null,{"$f":"IFERROR(INDEX(العاملين!$B$2:'العاملين'!$B$999,SMALL(IF(العاملين!$G$2:'العاملين'!$G$999=\"Fri\",ROW(العاملين!$B$2:'العاملين'!$B$999)-ROW(العاملين!$B$2)+1),ROWS($M$2:M269))),\"\")","v":""}]
[null,null,null,null,null,null,null,null,null,null,null,null,{"$f":"IFERROR(INDEX(العاملين!$B$2:'العاملين'!$B$999,SMALL(IF(العاملين!$G$2:'العاملين'!$G$999=\"Fri\",ROW(العاملين!$B$2:'العاملين'!$B$999)-ROW(العاملين!$B$2)+1),ROWS($M$2:M270))),\"\")","v":""}]
[null,null,null,null,null,null,null,null,null,null,null,null,{"$f":"IFERROR(INDEX(العاملين!$B$2:'العاملين'!$B$999,SMALL(IF(العاملين!$G$2:'العاملين'!$G$999=\"Fri\",ROW(العاملين!$B$2:'العاملين'!$B$999)-ROW(العاملين!$B$2)+1),ROWS($M$2:M271))),\"\")","v":""}]
[null,null,null,null,null,null,null,null,null,null,null,null,{"$f":"IFERROR(INDEX(العاملين!$B$2:'العاملين'!$B$999,SMALL(IF(العاملين!$G$2:'العاملين'!$G$999=\"Fri\",ROW(العاملين!$B$2:'العاملين'!$B$999)-ROW(العاملين!$B$2)+1),ROWS($M$2:M272))),\"\")","v":""}]
[null,null,null,null,null,null,null,null,null,null,null,null,{"$f":"IFERROR(INDEX(العاملين!$B$2:'العاملين'!$B$999,SMALL(IF(العاملين!$G$2:'العاملين'!$G$999=\"Fri\",ROW(العاملين!$B$2:'العاملين'!$B$999)-ROW(العاملين!$B$2)+1),ROWS($M$2:M273))),\"\")","v":""}]
[null,null,null,null,null,null,null,null,null,null,null,null,{"$f":"IFERROR(INDEX(العاملين!$B$2:'العاملين'!$B$999,SMALL(IF(العاملين!$G$2:'العاملين'!$G$999=\"Fri\",ROW(العاملين!$B$2:'العاملين'!$B$999)-ROW(العاملين!$B$2)+1),ROWS($M$2:M274))),\"\")","v":""}]
[null,null,null,null,null,null,null,null,null,null,null,null,{"$f":"IFERROR(INDEX(العاملين!$B$2:'العاملين'!$B$999,SMALL(IF(العاملين!$G$2:'العاملين'!$G$999=\"Fri\",ROW(العاملين!$B$2:'العاملين'!$B$999)-ROW(العاملين!$B$2)+1),ROWS($M$2:M275))),\"\")","v":""}]
[null,null,null,null,null,null,null,null,null,null,null,null,{"$f":"IFERROR(INDEX(العاملين!$B$2:'العاملين'!$B$999,SMALL(IF(العاملين!$G$2:'العاملين'!$G$999=\"Fri\",ROW(العاملين!$B$2:'العاملين'!$B$999)-ROW(العاملين!$B$2)+1),ROWS($M$2:M276))),\"\")","v":""}]
[null,null,null,null,null,null,null,null,null,null,null,null,{"$f":"IFERROR(INDEX(العاملين!$B$2:'العاملين'!$B$999,SMALL(IF(العاملين!$G$2:'العاملين'!$G$999=\"Fri\",ROW(العاملين!$B$2:'العاملين'!$B$999)-ROW(العاملين!$B$2)+1),ROWS($M$2:M277))),\"\")","v":""}]
[null,null,null,null,null,null,null,null,null,null,null,null,{"$f":"IFERROR(INDEX(العاملين!$B$2:'العاملين'!$B$999,SMALL(IF(العاملين!$G$2:'العاملين'!$G$999=\"Fri\",ROW(العاملين!$B$2:'العاملين'!$B$999)-ROW(العاملين!$B$2)+1),ROWS($M$2:M278))),\"\")","v":""}]
[null,null,null,null,null,null,null,null,null,null,null,null,{"$f":"IFERROR(INDEX(العاملين!$B$2:'العاملين'!$B$999,SMALL(IF(العاملين!$G$2:'العاملين'!$G$999=\"Fri\",ROW(العاملين!$B$2:'العاملين'!$B$999)-ROW(العاملين!$B$2)+1),ROWS($M$2:M279))),\"\")","v":""}]
[null,null,null,null,null,null,null,null,null,null,null,null,{"$f":"IFERROR(INDEX(العاملين!$B$2:'العاملين'!$B$999,SMALL(IF(العاملين!$G$2:'العاملين'!$G$999=\"Fri\",ROW(العاملين!$B$2:'العاملين'!$B$999)-ROW(العاملين!$B$2)+1),ROWS($M$2:M280))),\"\")","v":""}]
[null,null,null,null,null,null,null,null,null,null,null,null,{"$f":"IFERROR(INDEX(العاملين!$B$2:'العاملين'!$B$999,SMALL(IF(العاملين!$G$2:'العاملين'!$G$999=\"Fri\",ROW(العاملين!$B$2:'العاملين'!$B$999)-ROW(العاملين!$B$2)+1),ROWS($M$2:M281))),\"\")","v":""}]
[null,null,null,null,null,null,null,null,null,null,null,null,{"$f":"IFERROR(INDEX(العاملين!$B$2:'العاملين'!$B$999,SMALL(IF(العاملين!$G$2:'العاملين'!$G$999=\"Fri\",ROW(العاملين!$B$2:'العاملين'!$B$999)-ROW(العاملين!$B$2)+1),ROWS($M$2:M282))),\"\")","v":""}]
[null,null,null,null,null,null,null,null,null,null,null,null,{"$f":"IFERROR(INDEX(العاملين!$B$2:'العاملين'!$B$999,SMALL(IF(العاملين!$G$2:'العاملين'!$G$999=\"Fri\",ROW(العاملين!$B$2:'العاملين'!$B$999)-ROW(العاملين!$B$2)+1),ROWS($M$2:M283))),\"\")","v":""}]
[null,null,null,null,null,null,null,null,null,null,null,null,{"$f":"IFERROR(INDEX(العاملين!$B$2:'العاملين'!$B$999,SMALL(IF(العاملين!$G$2:'العاملين'!$G$999=\"Fri\",ROW(العاملين!$B$2:'العاملين'!$B$999)-ROW(العاملين!$B$2)+1),ROWS($M$2:M284))),\"\")","v":""}]
[null,null,null,null,null,null,null,null,null,null,null,null,{"$f":"IFERROR(INDEX(العاملين!$B$2:'العاملين'!$B$999,SMALL(IF(العاملين!$G$2:'العاملين'!$G$999=\"Fri\",ROW(العاملين!$B$2:'العاملين'!$B$999)-ROW(العاملين!$B$2)+1),ROWS($M$2:M285))),\"\")","v":""}]
[null,null,null,null,null,null,null,null,null,null,null,null,{"$f":"IFERROR(INDEX(العاملين!$B$2:'العاملين'!$B$999,SMALL(IF(العاملين!$G$2:'العاملين'!$G$999=\"Fri\",ROW(العاملين!$B$2:'العاملين'!$B$999)-ROW(العاملين!$B$2)+1),ROWS($M$2:M286))),\"\")","v":""}]
[null,null,null,null,null,null,null,null,null,null,null,null,{"$f":"IFERROR(INDEX(العاملين!$B$2:'العاملين'!$B$999,SMALL(IF(العاملين!$G$2:'العاملين'!$G$999=\"Fri\",ROW(العاملين!$B$2:'العاملين'!$B$999)-ROW(العاملين!$B$2)+1),ROWS($M$2:M287))),\"\")","v":""}]
[null,null,null,null,null,null,null,null,null,null,null,null,{"$f":"IFERROR(INDEX(العاملين!$B$2:'العاملين'!$B$999,SMALL(IF(العاملين!$G$2:'العاملين'!$G$999=\"Fri\",ROW(العاملين!$B$2:'العاملين'!$B$999)-ROW(العاملين!$B$2)+1),ROWS($M$2:M288))),\"\")","v":""}]
[null,null,null,null,null,null,null,null,null,null,null,null,{"$f":"IFERROR(INDEX(العاملين!$B$2:'العاملين'!$B$999,SMALL(IF(العاملين!$G$2:'العاملين'!$G$999=\"Fri\",ROW(العاملين!$B$2:'العاملين'!$B$999)-ROW(العاملين!$B$2)+1),ROWS($M$2:M289))),\"\")","v":""}]
[null,null,null,null,null,null,null,null,null,null,null,null,{"$f":"IFERROR(INDEX(العاملين!$B$2:'العاملين'!$B$999,SMALL(IF(العاملين!$G$2:'العاملين'!$G$999=\"Fri\",ROW(العاملين!$B$2:'العاملين'!$B$999)-ROW(العاملين!$B$2)+1),ROWS($M$2:M290))),\"\")","v":""}]
[null,null,null,null,null,null,null,null,null,null,null,null,{"$f":"IFERROR(INDEX(العاملين!$B$2:'العاملين'!$B$999,SMALL(IF(العاملين!$G$2:'العاملين'!$G$999=\"Fri\",ROW(العاملين!$B$2:'العاملين'!$B$999)-ROW(العاملين!$B$2)+1),ROWS($M$2:M291))),\"\")","v":""}]
[null,null,null,null,null,null,null,null,null,null,null,null,{"$f":"IFERROR(INDEX(العاملين!$B$2:'العاملين'!$B$999,SMALL(IF(العاملين!$G$2:'العاملين'!$G$999=\"Fri\",ROW(العاملين!$B$2:'العاملين'!$B$999)-ROW(العاملين!$B$2)+1),ROWS($M$2:M292))),\"\")","v":""}]
[null,null,null,null,null,null,null,null,null,null,null,null,{"$f":"IFERROR(INDEX(العاملين!$B$2:'العاملين'!$B$999,SMALL(IF(العاملين!$G$2:'العاملين'!$G$999=\"Fri\",ROW(العاملين!$B$2:'العاملين'!$B$999)-ROW(العاملين!$B$2)+1),ROWS($M$2:M293))),\"\")","v":""}]
[null,null,null,null,null,null,null,null,null,null,null,null,{"$f":"IFERROR(INDEX(العاملين!$B$2:'العاملين'!$B$999,SMALL(IF(العاملين!$G$2:'العاملين'!$G$999=\"Fri\",ROW(العاملين!$B$2:'العاملين'!$B$999)-ROW(العاملين!$B$2)+1),ROWS($M$2:M294))),\"\")","v":""}]
[null,null,null,null,null,null,null,null,null,null,null,null,{"$f":"IFERROR(INDEX(العاملين!$B$2:'العاملين'!$B$999,SMALL(IF(العاملين!$G$2:'العاملين'!$G$999=\"Fri\",ROW(العاملين!$B$2:'العاملين'!$B$999)-ROW(العاملين!$B$2)+1),ROWS($M$2:M295))),\"\")","v":""}]
[null,null,null,null,null,null,null,null,null,null,null,null,{"$f":"IFERROR(INDEX(العاملين!$B$2:'العاملين'!$B$999,SMALL(IF(العاملين!$G$2:'العاملين'!$G$999=\"Fri\",ROW(العاملين!$B$2:'العاملين'!$B$999)-ROW(العاملين!$B$2)+1),ROWS($M$2:M296))),\"\")","v":""}]
[null,null,null,null,null,null,null,null,null,null,null,null,{"$f":"IFERROR(INDEX(العاملين!$B$2:'العاملين'!$B$999,SMALL(IF(العاملين!$G$2:'العاملين'!$G$999=\"Fri\",ROW(العاملين!$B$2:'العاملين'!$B$999)-ROW(العاملين!$B$2)+1),ROWS($M$2:M297))),\"\")","v":""}]
[null,null,null,null,null,null,null,null,null,null,null,null,{"$f":"IFERROR(INDEX(العاملين!$B$2:'العاملين'!$B$999,SMALL(IF(العاملين!$G$2:'العاملين'!$G$999=\"Fri\",ROW(العاملين!$B$2:'العاملين'!$B$999)-ROW(العاملين!$B$2)+1),ROWS($M$2:M298))),\"\")","v":""}]
[null,null,null,null,null,null,null,null,null,null,null,null,{"$f":"IFERROR(INDEX(العاملين!$B$2:'العاملين'!$B$999,SMALL(IF(العاملين!$G$2:'العاملين'!$G$999=\"Fri\",ROW(العاملين!$B$2:'العاملين'!$B$999)-ROW(العاملين!$B$2)+1),ROWS($M$2:M299))),\"\")","v":""}]
[null,null,null,null,null,null,null,null,null,null,null,null,{"$f":"IFERROR(INDEX(العاملين!$B$2:'العاملين'!$B$999,SMALL(IF(العاملين!$G$2:'العاملين'!$G$999=\"Fri\",ROW(العاملين!$B$2:'العاملين'!$B$999)-ROW(العاملين!$B$2)+1),ROWS($M$2:M300))),\"\")","v":""}]
[null,null,null,null,null,null,null,null,null,null,null,null,{"$f":"IFERROR(INDEX(العاملين!$B$2:'العاملين'!$B$999,SMALL(IF(العاملين!$G$2:'العاملين'!$G$999=\"Fri\",ROW(العاملين!$B$2:'العاملين'!$B$999)-ROW(العاملين!$B$2)+1),ROWS($M$2:M301))),\"\")","v":""}]
[null,null,null,null,null,null,null,null,null,null,null,null,{"$f":"IFERROR(INDEX(العاملين!$B$2:'العاملين'!$B$999,SMALL(IF(العاملين!$G$2:'العاملين'!$G$999=\"Fri\",ROW(العاملين!$B$2:'العاملين'!$B$999)-ROW(العاملين!$B$2)+1),ROWS($M$2:M302))),\"\")","v":""}]
[null,null,null,null,null,null,null,null,null,null,null,null,{"$f":"IFERROR(INDEX(العاملين!$B$2:'العاملين'!$B$999,SMALL(IF(العاملين!$G$2:'العاملين'!$G$999=\"Fri\",ROW(العاملين!$B$2:'العاملين'!$B$999)-ROW(العاملين!$B$2)+1),ROWS($M$2:M303))),\"\")","v":""}]
[null,null,null,null,null,null,null,null,null,null,null,null,{"$f":"IFERROR(INDEX(العاملين!$B$2:'العاملين'!$B$999,SMALL(IF(العاملين!$G$2:'العاملين'!$G$999=\"Fri\",ROW(العاملين!$B$2:'العاملين'!$B$999)-ROW(العاملين!$B$2)+1),ROWS($M$2:M304))),\"\")","v":""}]
[null,null,null,null,null,null,null,null,null,null,null,null,{"$f":"IFERROR(INDEX(العاملين!$B$2:'العاملين'!$B$999,SMALL(IF(العاملين!$G$2:'العاملين'!$G$999=\"Fri\",ROW(العاملين!$B$2:'العاملين'!$B$999)-ROW(العاملين!$B$2)+1),ROWS($M$2:M305))),\"\")","v":""}]
[null,null,null,null,null,null,null,null,null,null,null,null,{"$f":"IFERROR(INDEX(العاملين!$B$2:'العاملين'!$B$999,SMALL(IF(العاملين!$G$2:'العاملين'!$G$999=\"Fri\",ROW(العاملين!$B$2:'العاملين'!$B$999)-ROW(العاملين!$B$2)+1),ROWS($M$2:M306))),\"\")","v":""}]
[null,null,null,null,null,null,null,null,null,null,null,null,{"$f":"IFERROR(INDEX(العاملين!$B$2:'العاملين'!$B$999,SMALL(IF(العاملين!$G$2:'العاملين'!$G$999=\"Fri\",ROW(العاملين!$B$2:'العاملين'!$B$999)-ROW(العاملين!$B$2)+1),ROWS($M$2:M307))),\"\")","v":""}]
[null,null,null,null,null,null,null,null,null,null,null,null,{"$f":"IFERROR(INDEX(العاملين!$B$2:'العاملين'!$B$999,SMALL(IF(العاملين!$G$2:'العاملين'!$G$999=\"Fri\",ROW(العاملين!$B$2:'العاملين'!$B$999)-ROW(العاملين!$B$2)+1),ROWS($M$2:M308))),\"\")","v":""}]
[null,null,null,null,null,null,null,null,null,null,null,null,{"$f":"IFERROR(INDEX(العاملين!$B$2:'العاملين'!$B$999,SMALL(IF(العاملين!$G$2:'العاملين'!$G$999=\"Fri\",ROW(العاملين!$B$2:'العاملين'!$B$999)-ROW(العاملين!$B$2)+1),ROWS($M$2:M309))),\"\")","v":""}]
[null,null,null,null,null,null,null,null,null,null,null,null,{"$f":"IFERROR(INDEX(العاملين!$B$2:'العاملين'!$B$999,SMALL(IF(العاملين!$G$2:'العاملين'!$G$999=\"Fri\",ROW(العاملين!$B$2:'العاملين'!$B$999)-ROW(العاملين!$B$2)+1),ROWS($M$2:M310))),\"\")","v":""}]
[null,null,null,null,null,null,null,null,null,null,null,null,{"$f":"IFERROR(INDEX(العاملين!$B$2:'العاملين'!$B$999,SMALL(IF(العاملين!$G$2:'العاملين'!$G$999=\"Fri\",ROW(العاملين!$B$2:'العاملين'!$B$999)-ROW(العاملين!$B$2)+1),ROWS($M$2:M311))),\"\")","v":""}]
[null,null,null,null,null,null,null,null,null,null,null,null,{"$f":"IFERROR(INDEX(العاملين!$B$2:'العاملين'!$B$999,SMALL(IF(العاملين!$G$2:'العاملين'!$G$999=\"Fri\",ROW(العاملين!$B$2:'العاملين'!$B$999)-ROW(العاملين!$B$2)+1),ROWS($M$2:M312))),\"\")","v":""}]
[null,null,null,null,null,null,null,null,null,null,null,null,{"$f":"IFERROR(INDEX(العاملين!$B$2:'العاملين'!$B$999,SMALL(IF(العاملين!$G$2:'العاملين'!$G$999=\"Fri\",ROW(العاملين!$B$2:'العاملين'!$B$999)-ROW(العاملين!$B$2)+1),ROWS($M$2:M313))),\"\")","v":""}]
[null,null,null,null,null,null,null,null,null,null,null,null,{"$f":"IFERROR(INDEX(العاملين!$B$2:'العاملين'!$B$999,SMALL(IF(العاملين!$G$2:'العاملين'!$G$999=\"Fri\",ROW(العاملين!$B$2:'العاملين'!$B$999)-ROW(العاملين!$B$2)+1),ROWS($M$2:M314))),\"\")","v":""}]
[null,null,null,null,null,null,null,null,null,null,null,null,{"$f":"IFERROR(INDEX(العاملين!$B$2:'العاملين'!$B$999,SMALL(IF(العاملين!$G$2:'العاملين'!$G$999=\"Fri\",ROW(العاملين!$B$2:'العاملين'!$B$999)-ROW(العاملين!$B$2)+1),ROWS($M$2:M315))),\"\")","v":""}]
[null,null,null,null,null,null,null,null,null,null,null,null,{"$f":"IFERROR(INDEX(العاملين!$B$2:'العاملين'!$B$999,SMALL(IF(العاملين!$G$2:'العاملين'!$G$999=\"Fri\",ROW(العاملين!$B$2:'العاملين'!$B$999)-ROW(العاملين!$B$2)+1),ROWS($M$2:M316))),\"\")","v":""}]
[null,null,null,null,null,null,null,null,null,null,null,null,{"$f":"IFERROR(INDEX(العاملين!$B$2:'العاملين'!$B$999,SMALL(IF(العاملين!$G$2:'العاملين'!$G$999=\"Fri\",ROW(العاملين!$B$2:'العاملين'!$B$999)-ROW(العاملين!$B$2)+1),ROWS($M$2:M317))),\"\")","v":""}]
[null,null,null,null,null,null,null,null,null,null,null,null,{"$f":"IFERROR(INDEX(العاملين!$B$2:'العاملين'!$B$999,SMALL(IF(العاملين!$G$2:'العاملين'!$G$999=\"Fri\",ROW(العاملين!$B$2:'العاملين'!$B$999)-ROW(العاملين!$B$2)+1),ROWS($M$2:M318))),\"\")","v":""}]
[null,null,null,null,null,null,null,null,null,null,null,null,{"$f":"IFERROR(INDEX(العاملين!$B$2:'العاملين'!$B$999,SMALL(IF(العاملين!$G$2:'العاملين'!$G$999=\"Fri\",ROW(العاملين!$B$2:'العاملين'!$B$999)-ROW(العاملين!$B$2)+1),ROWS($M$2:M319))),\"\")","v":""}]

{"sheet":"Sheet1","index":2,"n_rows":326,"n_cols":14,"rows_kept":326,"cut":false,"hidden":false,"merged":[]}
["الاسم","الوظيفة","التاريخ",34,36,38,40,42,44,"ايبرون رجالى","ايبرون بناتى","بابيون","سكارف","بادج"]
[{"$f":"العاملين!B2","v":"محمد"},{"$f":"العاملين!C2","v":"مدير"}]
[{"$f":"العاملين!B3","v":"رفعت"},{"$f":"العاملين!C3","v":"نائب"}]
[{"$f":"العاملين!B4","v":"سعيد"},{"$f":"العاملين!C4","v":"عامل"}]
[{"$f":"العاملين!B5","v":"عمرو"},{"$f":"العاملين!C5","v":"مثال1"}]
[{"$f":"العاملين!B6","v":"ايمن"},{"$f":"العاملين!C6","v":"مثال2"}]
[{"$f":"العاملين!B7","v":0},{"$f":"العاملين!C7","v":0}]
[{"$f":"العاملين!B8","v":0},{"$f":"العاملين!C8","v":0}]
[{"$f":"العاملين!B9","v":0},{"$f":"العاملين!C9","v":0}]
[{"$f":"العاملين!B10","v":0},{"$f":"العاملين!C10","v":0}]
[{"$f":"العاملين!B11","v":0},{"$f":"العاملين!C11","v":0}]
[{"$f":"العاملين!B12","v":0},{"$f":"العاملين!C12","v":0}]
[{"$f":"العاملين!B13","v":0},{"$f":"العاملين!C13","v":0}]
[{"$f":"العاملين!B14","v":0},{"$f":"العاملين!C14","v":0}]
[{"$f":"العاملين!B15","v":0},{"$f":"العاملين!C15","v":0}]
[{"$f":"العاملين!B16","v":0},{"$f":"العاملين!C16","v":0}]
[{"$f":"العاملين!B17","v":0},{"$f":"العاملين!C17","v":0}]
[{"$f":"العاملين!B18","v":0},{"$f":"العاملين!C18","v":0}]
[{"$f":"العاملين!B19","v":0},{"$f":"العاملين!C19","v":0}]
[{"$f":"العاملين!B20","v":0},{"$f":"العاملين!C20","v":0}]
[{"$f":"العاملين!B21","v":0},{"$f":"العاملين!C21","v":0}]
[{"$f":"العاملين!B22","v":0},{"$f":"العاملين!C22","v":0}]
[{"$f":"العاملين!B23","v":0},{"$f":"العاملين!C23","v":0}]
[{"$f":"العاملين!B24","v":0},{"$f":"العاملين!C24","v":0}]
[{"$f":"العاملين!B25","v":0},{"$f":"العاملين!C25","v":0}]
[{"$f":"العاملين!B26","v":0},{"$f":"العاملين!C26","v":0}]
[{"$f":"العاملين!B27","v":0},{"$f":"العاملين!C27","v":0}]
[{"$f":"العاملين!B28","v":0},{"$f":"العاملين!C28","v":0}]
[{"$f":"العاملين!B29","v":0},{"$f":"العاملين!C29","v":0}]
[{"$f":"العاملين!B30","v":0},{"$f":"العاملين!C30","v":0}]
[{"$f":"العاملين!B31","v":0},{"$f":"العاملين!C31","v":0}]
[{"$f":"العاملين!B32","v":0},{"$f":"العاملين!C32","v":0}]
[{"$f":"العاملين!B33","v":0},{"$f":"العاملين!C33","v":0}]
[{"$f":"العاملين!B34","v":0},{"$f":"العاملين!C34","v":0}]
[{"$f":"العاملين!B35","v":0},{"$f":"العاملين!C35","v":0}]
[{"$f":"العاملين!B36","v":0},{"$f":"العاملين!C36","v":0}]
[{"$f":"العاملين!B37","v":0},{"$f":"العاملين!C37","v":0}]
[{"$f":"العاملين!B38","v":0},{"$f":"العاملين!C38","v":0}]
[{"$f":"العاملين!B39","v":0},{"$f":"العاملين!C39","v":0}]
[{"$f":"العاملين!B40","v":0},{"$f":"العاملين!C40","v":0}]
[{"$f":"العاملين!B41","v":0},{"$f":"العاملين!C41","v":0}]
[{"$f":"العاملين!B42","v":0},{"$f":"العاملين!C42","v":0}]
[{"$f":"العاملين!B43","v":0},{"$f":"العاملين!C43","v":0}]
[{"$f":"العاملين!B44","v":0},{"$f":"العاملين!C44","v":0}]
[{"$f":"العاملين!B45","v":0},{"$f":"العاملين!C45","v":0}]
[{"$f":"العاملين!B46","v":0},{"$f":"العاملين!C46","v":0}]
[{"$f":"العاملين!B47","v":0},{"$f":"العاملين!C47","v":0}]
[{"$f":"العاملين!B48","v":0},{"$f":"العاملين!C48","v":0}]
[{"$f":"العاملين!B49","v":0},{"$f":"العاملين!C49","v":0}]
[{"$f":"العاملين!B50","v":0},{"$f":"العاملين!C50","v":0}]
[{"$f":"العاملين!B51","v":0},{"$f":"العاملين!C51","v":0}]
[{"$f":"العاملين!B52","v":0},{"$f":"العاملين!C52","v":0}]
[{"$f":"العاملين!B53","v":0},{"$f":"العاملين!C53","v":0}]
[{"$f":"العاملين!B54","v":0},{"$f":"العاملين!C54","v":0}]
[{"$f":"العاملين!B55","v":0},{"$f":"العاملين!C55","v":0}]
[{"$f":"العاملين!B56","v":0},{"$f":"العاملين!C56","v":0}]
[{"$f":"العاملين!B57","v":0},{"$f":"العاملين!C57","v":0}]
[{"$f":"العاملين!B58","v":0},{"$f":"العاملين!C58","v":0}]
[{"$f":"العاملين!B59","v":0},{"$f":"العاملين!C59","v":0}]
[{"$f":"العاملين!B60","v":0},{"$f":"العاملين!C60","v":0}]
[{"$f":"العاملين!B61","v":0},{"$f":"العاملين!C61","v":0}]
[{"$f":"العاملين!B62","v":0},{"$f":"العاملين!C62","v":0}]
[{"$f":"العاملين!B63","v":0},{"$f":"العاملين!C63","v":0}]
[{"$f":"العاملين!B64","v":0},{"$f":"العاملين!C64","v":0}]
[{"$f":"العاملين!B65","v":0},{"$f":"العاملين!C65","v":0}]
[{"$f":"العاملين!B66","v":0},{"$f":"العاملين!C66","v":0}]
[{"$f":"العاملين!B67","v":0},{"$f":"العاملين!C67","v":0}]
[{"$f":"العاملين!B68","v":0},{"$f":"العاملين!C68","v":0}]
[{"$f":"العاملين!B69","v":0},{"$f":"العاملين!C69","v":0}]
[{"$f":"العاملين!B70","v":0},{"$f":"العاملين!C70","v":0}]
[{"$f":"العاملين!B71","v":0},{"$f":"العاملين!C71","v":0}]
[{"$f":"العاملين!B72","v":0},{"$f":"العاملين!C72","v":0}]
[{"$f":"العاملين!B73","v":0},{"$f":"العاملين!C73","v":0}]
[{"$f":"العاملين!B74","v":0},{"$f":"العاملين!C74","v":0}]
[{"$f":"العاملين!B75","v":0},{"$f":"العاملين!C75","v":0}]
[{"$f":"العاملين!B76","v":0},{"$f":"العاملين!C76","v":0}]
[{"$f":"العاملين!B77","v":0},{"$f":"العاملين!C77","v":0}]
[{"$f":"العاملين!B78","v":0},{"$f":"العاملين!C78","v":0}]
[{"$f":"العاملين!B79","v":0},{"$f":"العاملين!C79","v":0}]
[{"$f":"العاملين!B80","v":0},{"$f":"العاملين!C80","v":0}]
[{"$f":"العاملين!B81","v":0},{"$f":"العاملين!C81","v":0}]
[{"$f":"العاملين!B82","v":0},{"$f":"العاملين!C82","v":0}]
[{"$f":"العاملين!B83","v":0},{"$f":"العاملين!C83","v":0}]
[{"$f":"العاملين!B84","v":0},{"$f":"العاملين!C84","v":0}]
[{"$f":"العاملين!B85","v":0},{"$f":"العاملين!C85","v":0}]
[{"$f":"العاملين!B86","v":0},{"$f":"العاملين!C86","v":0}]
[{"$f":"العاملين!B87","v":0},{"$f":"العاملين!C87","v":0}]
[{"$f":"العاملين!B88","v":0},{"$f":"العاملين!C88","v":0}]
[{"$f":"العاملين!B89","v":0},{"$f":"العاملين!C89","v":0}]
[{"$f":"العاملين!B90","v":0},{"$f":"العاملين!C90","v":0}]
[{"$f":"العاملين!B91","v":0},{"$f":"العاملين!C91","v":0}]
[{"$f":"العاملين!B92","v":0},{"$f":"العاملين!C92","v":0}]
[{"$f":"العاملين!B93","v":0},{"$f":"العاملين!C93","v":0}]
[{"$f":"العاملين!B94","v":0},{"$f":"العاملين!C94","v":0}]
[{"$f":"العاملين!B95","v":0},{"$f":"العاملين!C95","v":0}]
[{"$f":"العاملين!B96","v":0},{"$f":"العاملين!C96","v":0}]
[{"$f":"العاملين!B97","v":0},{"$f":"العاملين!C97","v":0}]
[{"$f":"العاملين!B98","v":0},{"$f":"العاملين!C98","v":0}]
[{"$f":"العاملين!B99","v":0},{"$f":"العاملين!C99","v":0}]
[{"$f":"العاملين!B100","v":0},{"$f":"العاملين!C100","v":0}]
[{"$f":"العاملين!B101","v":0},{"$f":"العاملين!C101","v":0}]
[{"$f":"العاملين!B102","v":0},{"$f":"العاملين!C102","v":0}]
[{"$f":"العاملين!B103","v":0},{"$f":"العاملين!C103","v":0}]
[{"$f":"العاملين!B104","v":0},{"$f":"العاملين!C104","v":0}]
[{"$f":"العاملين!B105","v":0},{"$f":"العاملين!C105","v":0}]
[{"$f":"العاملين!B106","v":0},{"$f":"العاملين!C106","v":0}]
[{"$f":"العاملين!B107","v":0},{"$f":"العاملين!C107","v":0}]
[{"$f":"العاملين!B108","v":0},{"$f":"العاملين!C108","v":0}]
[{"$f":"العاملين!B109","v":0},{"$f":"العاملين!C109","v":0}]
[{"$f":"العاملين!B110","v":0},{"$f":"العاملين!C110","v":0}]
[{"$f":"العاملين!B111","v":0},{"$f":"العاملين!C111","v":0}]
[{"$f":"العاملين!B112","v":0},{"$f":"العاملين!C112","v":0}]
[{"$f":"العاملين!B113","v":0},{"$f":"العاملين!C113","v":0}]
[{"$f":"العاملين!B114","v":0},{"$f":"العاملين!C114","v":0}]
[{"$f":"العاملين!B115","v":0},{"$f":"العاملين!C115","v":0}]
[{"$f":"العاملين!B116","v":0},{"$f":"العاملين!C116","v":0}]
[{"$f":"العاملين!B117","v":0},{"$f":"العاملين!C117","v":0}]
[{"$f":"العاملين!B118","v":0},{"$f":"العاملين!C118","v":0}]
[{"$f":"العاملين!B119","v":0},{"$f":"العاملين!C119","v":0}]
[{"$f":"العاملين!B120","v":0},{"$f":"العاملين!C120","v":0}]
[{"$f":"العاملين!B121","v":0},{"$f":"العاملين!C121","v":0}]
[{"$f":"العاملين!B122","v":0},{"$f":"العاملين!C122","v":0}]
[{"$f":"العاملين!B123","v":0},{"$f":"العاملين!C123","v":0}]
[{"$f":"العاملين!B124","v":0},{"$f":"العاملين!C124","v":0}]
[{"$f":"العاملين!B125","v":0},{"$f":"العاملين!C125","v":0}]
[{"$f":"العاملين!B126","v":0},{"$f":"العاملين!C126","v":0}]
[{"$f":"العاملين!B127","v":0},{"$f":"العاملين!C127","v":0}]
[{"$f":"العاملين!B128","v":0},{"$f":"العاملين!C128","v":0}]
[{"$f":"العاملين!B129","v":0},{"$f":"العاملين!C129","v":0}]
[{"$f":"العاملين!B130","v":0},{"$f":"العاملين!C130","v":0}]
[{"$f":"العاملين!B131","v":0},{"$f":"العاملين!C131","v":0}]
[{"$f":"العاملين!B132","v":0},{"$f":"العاملين!C132","v":0}]
[{"$f":"العاملين!B133","v":0},{"$f":"العاملين!C133","v":0}]
[{"$f":"العاملين!B134","v":0},{"$f":"العاملين!C134","v":0}]
[{"$f":"العاملين!B135","v":0},{"$f":"العاملين!C135","v":0}]
[{"$f":"العاملين!B136","v":0},{"$f":"العاملين!C136","v":0}]
[{"$f":"العاملين!B137","v":0},{"$f":"العاملين!C137","v":0}]
[{"$f":"العاملين!B138","v":0},{"$f":"العاملين!C138","v":0}]
[{"$f":"العاملين!B139","v":0},{"$f":"العاملين!C139","v":0}]
[{"$f":"العاملين!B140","v":0},{"$f":"العاملين!C140","v":0}]
[{"$f":"العاملين!B141","v":0},{"$f":"العاملين!C141","v":0}]
[{"$f":"العاملين!B142","v":0},{"$f":"العاملين!C142","v":0}]
[{"$f":"العاملين!B143","v":0},{"$f":"العاملين!C143","v":0}]
[{"$f":"العاملين!B144","v":0},{"$f":"العاملين!C144","v":0}]
[{"$f":"العاملين!B145","v":0},{"$f":"العاملين!C145","v":0}]
[{"$f":"العاملين!B146","v":0},{"$f":"العاملين!C146","v":0}]
[{"$f":"العاملين!B147","v":0},{"$f":"العاملين!C147","v":0}]
[{"$f":"العاملين!B148","v":0},{"$f":"العاملين!C148","v":0}]
[{"$f":"العاملين!B149","v":0},{"$f":"العاملين!C149","v":0}]
[{"$f":"العاملين!B150","v":0},{"$f":"العاملين!C150","v":0}]
[{"$f":"العاملين!B151","v":0},{"$f":"العاملين!C151","v":0}]
[{"$f":"العاملين!B152","v":0},{"$f":"العاملين!C152","v":0}]
[{"$f":"العاملين!B153","v":0},{"$f":"العاملين!C153","v":0}]
[{"$f":"العاملين!B154","v":0},{"$f":"العاملين!C154","v":0}]
[{"$f":"العاملين!B155","v":0},{"$f":"العاملين!C155","v":0}]
[{"$f":"العاملين!B156","v":0},{"$f":"العاملين!C156","v":0}]
[{"$f":"العاملين!B157","v":0},{"$f":"العاملين!C157","v":0}]
[{"$f":"العاملين!B158","v":0},{"$f":"العاملين!C158","v":0}]
[{"$f":"العاملين!B159","v":0},{"$f":"العاملين!C159","v":0}]
[{"$f":"العاملين!B160","v":0},{"$f":"العاملين!C160","v":0}]
[{"$f":"العاملين!B161","v":0},{"$f":"العاملين!C161","v":0}]
[{"$f":"العاملين!B162","v":0},{"$f":"العاملين!C162","v":0}]
[{"$f":"العاملين!B163","v":0},{"$f":"العاملين!C163","v":0}]
[{"$f":"العاملين!B164","v":0},{"$f":"العاملين!C164","v":0}]
[{"$f":"العاملين!B165","v":0},{"$f":"العاملين!C165","v":0}]
[{"$f":"العاملين!B166","v":0},{"$f":"العاملين!C166","v":0}]
[{"$f":"العاملين!B167","v":0},{"$f":"العاملين!C167","v":0}]
[{"$f":"العاملين!B168","v":0},{"$f":"العاملين!C168","v":0}]
[{"$f":"العاملين!B169","v":0},{"$f":"العاملين!C169","v":0}]
[{"$f":"العاملين!B170","v":0},{"$f":"العاملين!C170","v":0}]
[{"$f":"العاملين!B171","v":0},{"$f":"العاملين!C171","v":0}]
[{"$f":"العاملين!B172","v":0},{"$f":"العاملين!C172","v":0}]
[{"$f":"العاملين!B173","v":0},{"$f":"العاملين!C173","v":0}]
[{"$f":"العاملين!B174","v":0},{"$f":"العاملين!C174","v":0}]
[{"$f":"العاملين!B175","v":0},{"$f":"العاملين!C175","v":0}]
[{"$f":"العاملين!B176","v":0},{"$f":"العاملين!C176","v":0}]
[{"$f":"العاملين!B177","v":0},{"$f":"العاملين!C177","v":0}]
[{"$f":"العاملين!B178","v":0},{"$f":"العاملين!C178","v":0}]
[{"$f":"العاملين!B179","v":0},{"$f":"العاملين!C179","v":0}]
[{"$f":"العاملين!B180","v":0},{"$f":"العاملين!C180","v":0}]
[{"$f":"العاملين!B181","v":0},{"$f":"العاملين!C181","v":0}]
[{"$f":"العاملين!B182","v":0},{"$f":"العاملين!C182","v":0}]
[{"$f":"العاملين!B183","v":0},{"$f":"العاملين!C183","v":0}]
[{"$f":"العاملين!B184","v":0},{"$f":"العاملين!C184","v":0}]
[{"$f":"العاملين!B185","v":0},{"$f":"العاملين!C185","v":0}]
[{"$f":"العاملين!B186","v":0},{"$f":"العاملين!C186","v":0}]
[{"$f":"العاملين!B187","v":0},{"$f":"العاملين!C187","v":0}]
[{"$f":"العاملين!B188","v":0},{"$f":"العاملين!C188","v":0}]
[{"$f":"العاملين!B189","v":0},{"$f":"العاملين!C189","v":0}]
[{"$f":"العاملين!B190","v":0},{"$f":"العاملين!C190","v":0}]
[{"$f":"العاملين!B191","v":0},{"$f":"العاملين!C191","v":0}]
[{"$f":"العاملين!B192","v":0},{"$f":"العاملين!C192","v":0}]
[{"$f":"العاملين!B193","v":0},{"$f":"العاملين!C193","v":0}]
[{"$f":"العاملين!B194","v":0},{"$f":"العاملين!C194","v":0}]
[{"$f":"العاملين!B195","v":0},{"$f":"العاملين!C195","v":0}]
[{"$f":"العاملين!B196","v":0},{"$f":"العاملين!C196","v":0}]
[{"$f":"العاملين!B197","v":0},{"$f":"العاملين!C197","v":0}]
[{"$f":"العاملين!B198","v":0},{"$f":"العاملين!C198","v":0}]
[{"$f":"العاملين!B199","v":0},{"$f":"العاملين!C199","v":0}]
[{"$f":"العاملين!B200","v":0},{"$f":"العاملين!C200","v":0}]
[{"$f":"العاملين!B201","v":0},{"$f":"العاملين!C201","v":0}]
[{"$f":"العاملين!B202","v":0},{"$f":"العاملين!C202","v":0}]
[{"$f":"العاملين!B203","v":0},{"$f":"العاملين!C203","v":0}]
[{"$f":"العاملين!B204","v":0},{"$f":"العاملين!C204","v":0}]
[{"$f":"العاملين!B205","v":0},{"$f":"العاملين!C205","v":0}]
[{"$f":"العاملين!B206","v":0},{"$f":"العاملين!C206","v":0}]
[{"$f":"العاملين!B207","v":0},{"$f":"العاملين!C207","v":0}]
[{"$f":"العاملين!B208","v":0},{"$f":"العاملين!C208","v":0}]
[{"$f":"العاملين!B209","v":0},{"$f":"العاملين!C209","v":0}]
[{"$f":"العاملين!B210","v":0},{"$f":"العاملين!C210","v":0}]
[{"$f":"العاملين!B211","v":0},{"$f":"العاملين!C211","v":0}]
[{"$f":"العاملين!B212","v":0},{"$f":"العاملين!C212","v":0}]
[{"$f":"العاملين!B213","v":0},{"$f":"العاملين!C213","v":0}]
[{"$f":"العاملين!B214","v":0},{"$f":"العاملين!C214","v":0}]
[{"$f":"العاملين!B215","v":0},{"$f":"العاملين!C215","v":0}]
[{"$f":"العاملين!B216","v":0},{"$f":"العاملين!C216","v":0}]
[{"$f":"العاملين!B217","v":0},{"$f":"العاملين!C217","v":0}]
[{"$f":"العاملين!B218","v":0},{"$f":"العاملين!C218","v":0}]
[{"$f":"العاملين!B219","v":0},{"$f":"العاملين!C219","v":0}]
[{"$f":"العاملين!B220","v":0},{"$f":"العاملين!C220","v":0}]
[{"$f":"العاملين!B221","v":0},{"$f":"العاملين!C221","v":0}]
[{"$f":"العاملين!B222","v":0},{"$f":"العاملين!C222","v":0}]
[{"$f":"العاملين!B223","v":0},{"$f":"العاملين!C223","v":0}]
[{"$f":"العاملين!B224","v":0},{"$f":"العاملين!C224","v":0}]
[{"$f":"العاملين!B225","v":0},{"$f":"العاملين!C225","v":0}]
[{"$f":"العاملين!B226","v":0},{"$f":"العاملين!C226","v":0}]
[{"$f":"العاملين!B227","v":0},{"$f":"العاملين!C227","v":0}]
[{"$f":"العاملين!B228","v":0},{"$f":"العاملين!C228","v":0}]
[{"$f":"العاملين!B229","v":0},{"$f":"العاملين!C229","v":0}]
[{"$f":"العاملين!B230","v":0},{"$f":"العاملين!C230","v":0}]
[{"$f":"العاملين!B231","v":0},{"$f":"العاملين!C231","v":0}]
[{"$f":"العاملين!B232","v":0},{"$f":"العاملين!C232","v":0}]
[{"$f":"العاملين!B233","v":0},{"$f":"العاملين!C233","v":0}]
[{"$f":"العاملين!B234","v":0},{"$f":"العاملين!C234","v":0}]
[{"$f":"العاملين!B235","v":0},{"$f":"العاملين!C235","v":0}]
[{"$f":"العاملين!B236","v":0},{"$f":"العاملين!C236","v":0}]
[{"$f":"العاملين!B237","v":0},{"$f":"العاملين!C237","v":0}]
[{"$f":"العاملين!B238","v":0},{"$f":"العاملين!C238","v":0}]
[{"$f":"العاملين!B239","v":0},{"$f":"العاملين!C239","v":0}]
[{"$f":"العاملين!B240","v":0},{"$f":"العاملين!C240","v":0}]
[{"$f":"العاملين!B241","v":0},{"$f":"العاملين!C241","v":0}]
[{"$f":"العاملين!B242","v":0},{"$f":"العاملين!C242","v":0}]
[{"$f":"العاملين!B243","v":0},{"$f":"العاملين!C243","v":0}]
[{"$f":"العاملين!B244","v":0},{"$f":"العاملين!C244","v":0}]
[{"$f":"العاملين!B245","v":0},{"$f":"العاملين!C245","v":0}]
[{"$f":"العاملين!B246","v":0},{"$f":"العاملين!C246","v":0}]
[{"$f":"العاملين!B247","v":0},{"$f":"العاملين!C247","v":0}]
[{"$f":"العاملين!B248","v":0},{"$f":"العاملين!C248","v":0}]
[{"$f":"العاملين!B249","v":0},{"$f":"العاملين!C249","v":0}]
[{"$f":"العاملين!B250","v":0},{"$f":"العاملين!C250","v":0}]
[{"$f":"العاملين!B251","v":0},{"$f":"العاملين!C251","v":0}]
[{"$f":"العاملين!B252","v":0},{"$f":"العاملين!C252","v":0}]
[{"$f":"العاملين!B253","v":0},{"$f":"العاملين!C253","v":0}]
[{"$f":"العاملين!B254","v":0},{"$f":"العاملين!C254","v":0}]
[{"$f":"العاملين!B255","v":0},{"$f":"العاملين!C255","v":0}]
[{"$f":"العاملين!B256","v":0},{"$f":"العاملين!C256","v":0}]
[{"$f":"العاملين!B257","v":0},{"$f":"العاملين!C257","v":0}]
[{"$f":"العاملين!B258","v":0},{"$f":"العاملين!C258","v":0}]
[{"$f":"العاملين!B259","v":0},{"$f":"العاملين!C259","v":0}]
[{"$f":"العاملين!B260","v":0},{"$f":"العاملين!C260","v":0}]
[{"$f":"العاملين!B261","v":0},{"$f":"العاملين!C261","v":0}]
[{"$f":"العاملين!B262","v":0},{"$f":"العاملين!C262","v":0}]
[{"$f":"العاملين!B263","v":0},{"$f":"العاملين!C263","v":0}]
[{"$f":"العاملين!B264","v":0},{"$f":"العاملين!C264","v":0}]
[{"$f":"العاملين!B265","v":0},{"$f":"العاملين!C265","v":0}]
[{"$f":"العاملين!B266","v":0},{"$f":"العاملين!C266","v":0}]
[{"$f":"العاملين!B267","v":0},{"$f":"العاملين!C267","v":0}]
[{"$f":"العاملين!B268","v":0},{"$f":"العاملين!C268","v":0}]
[{"$f":"العاملين!B269","v":0},{"$f":"العاملين!C269","v":0}]
[{"$f":"العاملين!B270","v":0},{"$f":"العاملين!C270","v":0}]
[{"$f":"العاملين!B271","v":0},{"$f":"العاملين!C271","v":0}]
[{"$f":"العاملين!B272","v":0},{"$f":"العاملين!C272","v":0}]
[{"$f":"العاملين!B273","v":0},{"$f":"العاملين!C273","v":0}]
[{"$f":"العاملين!B274","v":0},{"$f":"العاملين!C274","v":0}]
[{"$f":"العاملين!B275","v":0},{"$f":"العاملين!C275","v":0}]
[{"$f":"العاملين!B276","v":0},{"$f":"العاملين!C276","v":0}]
[{"$f":"العاملين!B277","v":0},{"$f":"العاملين!C277","v":0}]
[{"$f":"العاملين!B278","v":0},{"$f":"العاملين!C278","v":0}]
[{"$f":"العاملين!B279","v":0},{"$f":"العاملين!C279","v":0}]
[{"$f":"العاملين!B280","v":0},{"$f":"العاملين!C280","v":0}]
[{"$f":"العاملين!B281","v":0},{"$f":"العاملين!C281","v":0}]
[{"$f":"العاملين!B282","v":0},{"$f":"العاملين!C282","v":0}]
[{"$f":"العاملين!B283","v":0},{"$f":"العاملين!C283","v":0}]
[{"$f":"العاملين!B284","v":0},{"$f":"العاملين!C284","v":0}]
[{"$f":"العاملين!B285","v":0},{"$f":"العاملين!C285","v":0}]
[{"$f":"العاملين!B286","v":0},{"$f":"العاملين!C286","v":0}]
[{"$f":"العاملين!B287","v":0},{"$f":"العاملين!C287","v":0}]
[{"$f":"العاملين!B288","v":0},{"$f":"العاملين!C288","v":0}]
[{"$f":"العاملين!B289","v":0},{"$f":"العاملين!C289","v":0}]
[{"$f":"العاملين!B290","v":0},{"$f":"العاملين!C290","v":0}]
[{"$f":"العاملين!B291","v":0},{"$f":"العاملين!C291","v":0}]
[{"$f":"العاملين!B292","v":0},{"$f":"العاملين!C292","v":0}]
[{"$f":"العاملين!B293","v":0},{"$f":"العاملين!C293","v":0}]
[{"$f":"العاملين!B294","v":0},{"$f":"العاملين!C294","v":0}]
[{"$f":"العاملين!B295","v":0},{"$f":"العاملين!C295","v":0}]
[{"$f":"العاملين!B296","v":0},{"$f":"العاملين!C296","v":0}]
[{"$f":"العاملين!B297","v":0},{"$f":"العاملين!C297","v":0}]
[{"$f":"العاملين!B298","v":0},{"$f":"العاملين!C298","v":0}]
[{"$f":"العاملين!B299","v":0},{"$f":"العاملين!C299","v":0}]
[{"$f":"العاملين!B300","v":0},{"$f":"العاملين!C300","v":0}]
[{"$f":"العاملين!B301","v":0},{"$f":"العاملين!C301","v":0}]
[{"$f":"العاملين!B302","v":0},{"$f":"العاملين!C302","v":0}]
[{"$f":"العاملين!B303","v":0},{"$f":"العاملين!C303","v":0}]
[{"$f":"العاملين!B304","v":0},{"$f":"العاملين!C304","v":0}]
[{"$f":"العاملين!B305","v":0},{"$f":"العاملين!C305","v":0}]
[{"$f":"العاملين!B306","v":0},{"$f":"العاملين!C306","v":0}]
[{"$f":"العاملين!B307","v":0},{"$f":"العاملين!C307","v":0}]
[{"$f":"العاملين!B308","v":0},{"$f":"العاملين!C308","v":0}]
[{"$f":"العاملين!B309","v":0},{"$f":"العاملين!C309","v":0}]
[{"$f":"العاملين!B310","v":0},{"$f":"العاملين!C310","v":0}]
[{"$f":"العاملين!B311","v":0},{"$f":"العاملين!C311","v":0}]
[{"$f":"العاملين!B312","v":0},{"$f":"العاملين!C312","v":0}]
[{"$f":"العاملين!B313","v":0},{"$f":"العاملين!C313","v":0}]
[{"$f":"العاملين!B314","v":0},{"$f":"العاملين!C314","v":0}]
[{"$f":"العاملين!B315","v":0},{"$f":"العاملين!C315","v":0}]
[{"$f":"العاملين!B316","v":0},{"$f":"العاملين!C316","v":0}]
[{"$f":"العاملين!B317","v":0},{"$f":"العاملين!C317","v":0}]
[{"$f":"العاملين!B318","v":0},{"$f":"العاملين!C318","v":0}]
[{"$f":"العاملين!B319","v":0},{"$f":"العاملين!C319","v":0}]
[{"$f":"العاملين!B320","v":0},{"$f":"العاملين!C320","v":0}]
[{"$f":"العاملين!B321","v":0},{"$f":"العاملين!C321","v":0}]
[{"$f":"العاملين!B322","v":0},{"$f":"العاملين!C322","v":0}]
[{"$f":"العاملين!B323","v":0},{"$f":"العاملين!C323","v":0}]
[{"$f":"العاملين!B324","v":0},{"$f":"العاملين!C324","v":0}]
[{"$f":"العاملين!B325","v":0},{"$f":"العاملين!C325","v":0}]
[{"$f":"العاملين!B326","v":0},{"$f":"العاملين!C326","v":0}]

{"sheet":"رصيد ملابس نهائى","index":3,"n_rows":7,"n_cols":26,"rows_kept":7,"cut":false,"hidden":false,"merged":[[1,24,2,24],[0,16,2,16],[0,17,0,25],[1,17,2,17],[1,18,2,18],[1,19,2,19],[1,20,2,20],[1,21,2,21],[1,22,2,22],[1,23,2,23],[1,25,2,25],[1,0,2,1],[0,15,2,15],[0,13,2,13],[1,7,2,7],[1,8,2,8],[0,3,0,8],[1,3,2,3],[1,4,2,4],[1,5,2,5],[1,6,2,6],[0,0,0,1],[0,9,0,10],[0,11,2,11],[0,12,2,12],[0,14,2,14]]}
["النوع",null,null,"قميص",null,null,null,null,null,"جاكت شيف",null,"ابرون رجالى","ابرون بناتى","بدلة نظافة","مريلة جلد","بابيون","سكارف","Badges"]
["المقاسات",null,null,34,36,38,40,42,44,null,null,null,null,null,null,null,null,1,1,1,1,1,1,1,1,1]
[null,null,null,null,null,null,null,null,null,50,52]
["التاريخ","نوع العملية","الاسم",{"$f":"SUM(D5:D1000)","v":24},{"$f":"SUM(E5:E1000)","v":0},0,0,0,0,0,0,0,0,0,0,0,0,0,0,0,0,0,0,0,0,0]
["2019-01-17","شراء","محل الخ.... (إضافة للرصيد)",20]
[null,"استهلاك","موظف عمرو (خصم من الرصيد)",1]
["2019-01-18","جرد","بعد الجرد وجدت عدد (اضافة للرصيد)",3]