{"text_format":"1","workbook":"xlsx","n_sheets":20,"sheets":["welcome","البيانات الأساسية","جدول الصف الثاني","قائمة الصف الثاني","أرقام جلوس الثاني","كشوف مناداة الصف الثاني","جدول الصف الثالث ","قائمة الصف الثالث","أرقام جلوس الثالث","جدول الصف الرابع","قائمة الصف الرابع","أرقام جلوس الرابع","كشوف مناداة الصف الثالث والرابع","جدول الصف الخامس","قائمة الصف الخامس","أرقام جلوس الخامس","جدول الصف السادس","قائمة الصف السادس","أرقام جلوس السادس","كشوف مناداة الصف الخامس والسادس"],"not_rendered":{"charts":0,"images":1,"macros":1,"external_links":0,"defined_names":38,"comments":0,"pivot_tables":0},"unopened":[],"bounds":{"document_bytes":16777216,"sheet_cells":100000,"rows_first":2000,"rows_last":500,"rows_between":2000,"halvings":0,"cell_chars":16384,"cell_head_chars":4096},"cells_cut":0,"cells_raw":0,"read":"whole","date_system":"1900"}

{"sheet":"welcome","index":0,"n_rows":2,"n_cols":4,"rows_kept":2,"cut":false,"hidden":false,"merged":[[1,3,1,5]]}
[]
[null,null,null,"بسم الله الرحمن الرحيم"]

{"sheet":"البيانات الأساسية","index":1,"n_rows":11,"n_cols":3,"rows_kept":11,"cut":false,"hidden":false,"merged":[[6,0,6,3],[7,0,7,3],[0,0,0,1],[1,0,1,1],[3,0,3,3],[4,0,4,3],[5,0,5,3],[0,2,0,4],[1,2,1,4]]}
["إدارة /غرب المحلة الكبرى التعليمية",null,"غير اسم المدرسة"]
["مدرسة د/علي علي حبيش الابتدائية",null,"غير اسم الإدارة"]
[]
["كشف مناداة الصف الثاني فصل أول وثانٍ للعام الدراسي 2019/2018"]
["كشف مناداة الصف الثالث فصل أول وثانٍ للعام الدراسي 2019/2018"]
["كشف مناداة الصف الرابع فصل أول وثانٍ للعام الدراسي 2019/2018"]
["كشف مناداة الصف الخامس فصل أول وثانٍ للعام الدراسي 2019/2018"]
["كشف مناداة الصف السادس فصل أول وثانٍ للعام الدراسي 2019/2018"]
[]
["مراقب الكنترول",null,"رئيس الكنترول"]
["أ/ عبد الحميد",null,"أ/ عبد الحميد"]

{"sheet":"جدول الصف الثاني","index":2,"n_rows":11,"n_cols":6,"rows_kept":11,"cut":false,"hidden":false,"merged":[[5,3,5,4],[5,2,6,2],[5,1,6,1],[5,5,6,5],[0,0,0,1],[1,0,1,1]]}
[{"$f":"'البيانات الأساسية'!$A$1","v":"إدارة /غرب المحلة الكبرى التعليمية"}]
[{"$f":"'البيانات الأساسية'!$A$2","v":"مدرسة د/علي علي حبيش الابتدائية"}]
[]
[null,"جدول امتحان الفصل الدراسي الأول / الثاني للعام الدراسي 2019/2018"]
[null,null,"الصف الثاني"]
[null,"اليوم والترايخ","المـــــــــــــــــــــــــــادة","الزمن",null,"الزمن"]
[null,null,null,"من ","إلي"]
[null,"السبت","لغة عربية وخط",8,10,"ساعتان"]
[null,"2018-01-01","التربية الدينية",10.15,11.45,"ساعة"]
[null,"الأحد","الرياضيات",8,9.3000000000000007,"ساعة ونصف"]
[null,"2018-01-02","اللغة الإنجليزية {شفهي}",9.4499999999999993,11.15,"ساعة ونصف"]

{"sheet":"قائمة الصف الثاني","index":3,"n_rows":603,"n_cols":21,"rows_kept":603,"cut":false,"hidden":false,"merged":[[46,1,46,6],[45,1,45,2],[7,20,13,20],[16,20,22,20],[8,11,15,11],[0,4,0,5],[0,11,0,12],[1,11,1,12]]}
["عدد اللجان","من","إلى","اللجنة",{"$f":"MAX(M:M)","v":580},null,"حدد بنفسك العدد باللجنة","عدد اللجنة","من","إلى",null,"عدد طلابك",null,{"$f":"MAX(M:M)","v":580},"اكتب بداية رقم الجلوس",30,"بنون",{"$f":"COUNTIFS(P4:P603,\"ذكر\")","v":26},"مسلم",{"$f":"COUNTIFS(R3:R602,\"مسلم\")","v":8}]
[{"$f":"IF($H2=\"\",\"\",MAX($F$1:$F1)+1)","v":1},{"$f":"P1","v":30},{"$f":"IF(H2=\"\",\"\",B2+H2-1)","v":49},{"$f":"IF($H2=\"\",\"\",MAX($F$1:$F1)+1)","v":1},{"$f":"IF($H2=\"\",\"\",\"اللجنة\")","v":"اللجنة"},{"$f":"IF($H2=\"\",\"\",MAX($F$1:$F1)+1)","v":1},null,{"$f":"IF(SUM($H$1:$H1,IF(G2=\"\",20,G2))<$E$1,IF($G2=\"\",20,$G2),IF(SUM($H1:$H$2)=$E$1,\"\",$E$1-SUM($H1:$H$2)))","v":20},{"$f":"IF($H2=\"\",\"\",SUM($H$1:$H1)+1)","v":1},{"$f":"IF($H2=\"\",\"\",SUM($H2,$I2,-1))","v":20},{"$f":"IF($H2=\"\",\"\",MAX($F$1:$F1)+1)","v":1},"آخر رقم جلوس",null,{"$f":"MAX(B2:C43)","v":609},"الصف الثاني",null,"بنات",{"$f":"COUNTIFS(P4:P603,\"انثى\")","v":21},"مسيحي",{"$f":"COUNTIFS(R4:R603,\"مسيحي\")","v":0}]
[{"$f":"IF($H3=\"\",\"\",MAX($F$1:$F2)+1)","v":2},{"$f":"IF(H1=\"\",\"\",IF(A3=\"\",\"\",C2+1))","v":50},{"$f":"IF(H2=\"\",\"\",IF(A3=\"\",\"\",B3+H3-1))","v":69},{"$f":"IF($H3=\"\",\"\",MAX($F$1:$F2)+1)","v":2},{"$f":"IF($H3=\"\",\"\",\"اللجنة\")","v":"اللجنة"},{"$f":"IF($H3=\"\",\"\",MAX($F$1:$F2)+1)","v":2},null,{"$f":"IF(SUM($H$1:$H2,IF(G3=\"\",20,G3))<$E$1,IF($G3=\"\",20,$G3),IF(SUM($H2:$H$2)=$E$1,\"\",$E$1-SUM($H2:$H$2)))","v":20},{"$f":"IF($H3=\"\",\"\",SUM($H$1:$H2)+1)","v":21},{"$f":"IF($H3=\"\",\"\",SUM($H3,$I3,-1))","v":40},{"$f":"IF($H3=\"\",\"\",MAX($F$1:$F2)+1)","v":2},null,"م","رقم الجلوس","الاســــــــــــــــــــــــم","النوع","حالقة القيد","الديانة","رقم اللجنة","ملاحظات"]
[{"$f":"IF($H4=\"\",\"\",MAX($F$1:$F3)+1)","v":3},{"$f":"IF(H2=\"\",\"\",IF(A4=\"\",\"\",C3+1))","v":70},{"$f":"IF(H3=\"\",\"\",IF(A4=\"\",\"\",B4+H4-1))","v":89},{"$f":"IF($H4=\"\",\"\",MAX($F$1:$F3)+1)","v":3},{"$f":"IF($H4=\"\",\"\",\"اللجنة\")","v":"اللجنة"},{"$f":"IF($H4=\"\",\"\",MAX($F$1:$F3)+1)","v":3},null,{"$f":"IF(SUM($H$1:$H3,IF(G4=\"\",20,G4))<$E$1,IF($G4=\"\",20,$G4),IF(SUM($H$2:$H3)=$E$1,\"\",$E$1-SUM($H$2:$H3)))","v":20},{"$f":"IF($H4=\"\",\"\",SUM($H$1:$H3)+1)","v":41},{"$f":"IF($H4=\"\",\"\",SUM($H4,$I4,-1))","v":60},{"$f":"IF($H4=\"\",\"\",MAX($F$1:$F3)+1)","v":3},null,{"$f":"IF(O4=\"\",\"\",MAX($M$3:$M3)+1)","v":1},{"$f":"B2","v":30},"حسن1","ذكر",null,"مسلم",{"$f":"IF(M4=\"\",\"\",IF(ISERROR(MATCH($M4,$I:$I,0)),S3,MAX($S$3:$S3)+1))","v":1},{"$f":"IF(S4=S5,\"\",\"نهاية اللجنة\")","v":""},"ذكر"]
[{"$f":"IF($H5=\"\",\"\",MAX($F$1:$F4)+1)","v":4},90,109,{"$f":"IF($H5=\"\",\"\",MAX($F$1:$F4)+1)","v":4},"اللجنة",{"$f":"IF($H5=\"\",\"\",MAX($F$1:$F4)+1)","v":4},null,{"$f":"IF(SUM($H$1:$H4,IF(G5=\"\",20,G5))<$E$1,IF($G5=\"\",20,$G5),IF(SUM($H$2:$H4)=$E$1,\"\",$E$1-SUM($H$2:$H4)))","v":20},{"$f":"IF($H5=\"\",\"\",SUM($H$1:$H4)+1)","v":61},80,{"$f":"IF($H5=\"\",\"\",MAX($F$1:$F4)+1)","v":4},null,{"$f":"IF(O5=\"\",\"\",MAX($M$3:$M4)+1)","v":2},{"$f":"IF(M5=\"\",\"\",N4+1)","v":31},"حسن2","ذكر",null,null,{"$f":"IF(M5=\"\",\"\",IF(ISERROR(MATCH($M5,$I:$I,0)),S4,MAX($S$3:$S4)+1))","v":1},{"$f":"IF(S5=S6,\"\",\"نهاية اللجنة\")","v":""},"انثى"]
[{"$f":"IF($H6=\"\",\"\",MAX($F$1:$F5)+1)","v":5},110,129,{"$f":"IF($H6=\"\",\"\",MAX($F$1:$F5)+1)","v":5},"اللجنة",{"$f":"IF($H6=\"\",\"\",MAX($F$1:$F5)+1)","v":5},null,{"$f":"IF(SUM($H$1:$H5,IF(G6=\"\",20,G6))<$E$1,IF($G6=\"\",20,$G6),IF(SUM($H$2:$H5)=$E$1,\"\",$E$1-SUM($H$2:$H5)))","v":20},{"$f":"IF($H6=\"\",\"\",SUM($H$1:$H5)+1)","v":81},100,{"$f":"IF($H6=\"\",\"\",MAX($F$1:$F5)+1)","v":5},null,{"$f":"IF(O6=\"\",\"\",MAX($M$3:$M5)+1)","v":3},{"$f":"IF(M6=\"\",\"\",N5+1)","v":32},"حسن3","ذكر",null,"مسلم",{"$f":"IF(M6=\"\",\"\",IF(ISERROR(MATCH($M6,$I:$I,0)),S5,MAX($S$3:$S5)+1))","v":1},""]
[{"$f":"IF($H7=\"\",\"\",MAX($F$1:$F6)+1)","v":6},130,149,{"$f":"IF($H7=\"\",\"\",MAX($F$1:$F6)+1)","v":6},"اللجنة",{"$f":"IF($H7=\"\",\"\",MAX($F$1:$F6)+1)","v":6},null,{"$f":"IF(SUM($H$1:$H6,IF(G7=\"\",20,G7))<$E$1,IF($G7=\"\",20,$G7),IF(SUM($H$2:$H6)=$E$1,\"\",$E$1-SUM($H$2:$H6)))","v":20},{"$f":"IF($H7=\"\",\"\",SUM($H$1:$H6)+1)","v":101},120,{"$f":"IF($H7=\"\",\"\",MAX($F$1:$F6)+1)","v":6},null,{"$f":"IF(O7=\"\",\"\",MAX($M$3:$M6)+1)","v":4},33,"حسن4","ذكر","معيد",null,{"$f":"IF(M7=\"\",\"\",IF(ISERROR(MATCH($M7,$I:$I,0)),S6,MAX($S$3:$S6)+1))","v":1},"",{"$f":"MAX(J:J)","v":580}]
[{"$f":"IF($H8=\"\",\"\",MAX($F$1:$F7)+1)","v":7},150,169,{"$f":"IF($H8=\"\",\"\",MAX($F$1:$F7)+1)","v":7},"اللجنة",{"$f":"IF($H8=\"\",\"\",MAX($F$1:$F7)+1)","v":7},null,{"$f":"IF(SUM($H$1:$H7,IF(G8=\"\",20,G8))<$E$1,IF($G8=\"\",20,$G8),IF(SUM($H$2:$H7)=$E$1,\"\",$E$1-SUM($H$2:$H7)))","v":20},{"$f":"IF($H8=\"\",\"\",SUM($H$1:$H7)+1)","v":121},140,{"$f":"IF($H8=\"\",\"\",MAX($F$1:$F7)+1)","v":7},null,{"$f":"IF(O8=\"\",\"\",MAX($M$3:$M7)+1)","v":5},34,"حسن5","ذكر",null,null,{"$f":"IF(M8=\"\",\"\",IF(ISERROR(MATCH($M8,$I:$I,0)),S7,MAX($S$3:$S7)+1))","v":1},"",{"$f":"IF(U7=N1,\"التلاميذ مقسمون التقسيم الصحيح\",\"راجع من فضلك تقسيم اللجان\")","v":"التلاميذ مقسمون التقسيم الصحيح"}]
[{"$f":"IF($H9=\"\",\"\",MAX($F$1:$F8)+1)","v":8},170,189,{"$f":"IF($H9=\"\",\"\",MAX($F$1:$F8)+1)","v":8},"اللجنة",{"$f":"IF($H9=\"\",\"\",MAX($F$1:$F8)+1)","v":8},null,{"$f":"IF(SUM($H$1:$H8,IF(G9=\"\",20,G9))<$E$1,IF($G9=\"\",20,$G9),IF(SUM($H$2:$H8)=$E$1,\"\",$E$1-SUM($H$2:$H8)))","v":20},{"$f":"IF($H9=\"\",\"\",SUM($H$1:$H8)+1)","v":141},160,{"$f":"IF($H9=\"\",\"\",MAX($F$1:$F8)+1)","v":8},{"$f":"IF(N1=0,\"من فضلك سجل الاسماء\",IF(N2=0,\" من فضلك سجل الاسماء;\"\"\",))","v":0},{"$f":"IF(O9=\"\",\"\",MAX($M$3:$M8)+1)","v":6},35,"حسن6","ذكر",null,"مسلم",{"$f":"IF(M9=\"\",\"\",IF(ISERROR(MATCH($M9,$I:$I,0)),S8,MAX($S$3:$S8)+1))","v":1},""]
[{"$f":"IF($H10=\"\",\"\",MAX($F$1:$F9)+1)","v":9},190,209,{"$f":"IF($H10=\"\",\"\",MAX($F$1:$F9)+1)","v":9},"اللجنة",{"$f":"IF($H10=\"\",\"\",MAX($F$1:$F9)+1)","v":9},null,{"$f":"IF(SUM($H$1:$H9,IF(G10=\"\",20,G10))<$E$1,IF($G10=\"\",20,$G10),IF(SUM($H$2:$H9)=$E$1,\"\",$E$1-SUM($H$2:$H9)))","v":20},{"$f":"IF($H10=\"\",\"\",SUM($H$1:$H9)+1)","v":161},180,{"$f":"IF($H10=\"\",\"\",MAX($F$1:$F9)+1)","v":9},null,{"$f":"IF(O10=\"\",\"\",MAX($M$3:$M9)+1)","v":7},36,"حسن7","ذكر",null,"مسلم",{"$f":"IF(M10=\"\",\"\",IF(ISERROR(MATCH($M10,$I:$I,0)),S9,MAX($S$3:$S9)+1))","v":1},""]
[{"$f":"IF($H11=\"\",\"\",MAX($F$1:$F10)+1)","v":10},210,229,{"$f":"IF($H11=\"\",\"\",MAX($F$1:$F10)+1)","v":10},"اللجنة",{"$f":"IF($H11=\"\",\"\",MAX($F$1:$F10)+1)","v":10},null,{"$f":"IF(SUM($H$1:$H10,IF(G11=\"\",20,G11))<$E$1,IF($G11=\"\",20,$G11),IF(SUM($H$2:$H10)=$E$1,\"\",$E$1-SUM($H$2:$H10)))","v":20},{"$f":"IF($H11=\"\",\"\",SUM($H$1:$H10)+1)","v":181},200,{"$f":"IF($H11=\"\",\"\",MAX($F$1:$F10)+1)","v":10},null,{"$f":"IF(O11=\"\",\"\",MAX($M$3:$M10)+1)","v":8},37,"حسن8","ذكر",null,null,{"$f":"IF(M11=\"\",\"\",IF(ISERROR(MATCH($M11,$I:$I,0)),S10,MAX($S$3:$S10)+1))","v":1},""]
[{"$f":"IF($H12=\"\",\"\",MAX($F$1:$F11)+1)","v":11},230,249,{"$f":"IF($H12=\"\",\"\",MAX($F$1:$F11)+1)","v":11},"اللجنة",{"$f":"IF($H12=\"\",\"\",MAX($F$1:$F11)+1)","v":11},null,{"$f":"IF(SUM($H$1:$H11,IF(G12=\"\",20,G12))<$E$1,IF($G12=\"\",20,$G12),IF(SUM($H$2:$H11)=$E$1,\"\",$E$1-SUM($H$2:$H11)))","v":20},{"$f":"IF($H12=\"\",\"\",SUM($H$1:$H11)+1)","v":201},220,{"$f":"IF($H12=\"\",\"\",MAX($F$1:$F11)+1)","v":11},null,{"$f":"IF(O12=\"\",\"\",MAX($M$3:$M11)+1)","v":9},38,"حسن9","ذكر","معيد",null,{"$f":"IF(M12=\"\",\"\",IF(ISERROR(MATCH($M12,$I:$I,0)),S11,MAX($S$3:$S11)+1))","v":1},""]
[{"$f":"IF($H13=\"\",\"\",MAX($F$1:$F12)+1)","v":12},250,269,{"$f":"IF($H13=\"\",\"\",MAX($F$1:$F12)+1)","v":12},"اللجنة",{"$f":"IF($H13=\"\",\"\",MAX($F$1:$F12)+1)","v":12},null,{"$f":"IF(SUM($H$1:$H12,IF(G13=\"\",20,G13))<$E$1,IF($G13=\"\",20,$G13),IF(SUM($H$2:$H12)=$E$1,\"\",$E$1-SUM($H$2:$H12)))","v":20},{"$f":"IF($H13=\"\",\"\",SUM($H$1:$H12)+1)","v":221},240,{"$f":"IF($H13=\"\",\"\",MAX($F$1:$F12)+1)","v":12},null,{"$f":"IF(O13=\"\",\"\",MAX($M$3:$M12)+1)","v":10},39,"حسن10","ذكر",null,"مسلم",{"$f":"IF(M13=\"\",\"\",IF(ISERROR(MATCH($M13,$I:$I,0)),S12,MAX($S$3:$S12)+1))","v":1},""]
[{"$f":"IF($H14=\"\",\"\",MAX($F$1:$F13)+1)","v":13},270,289,{"$f":"IF($H14=\"\",\"\",MAX($F$1:$F13)+1)","v":13},"اللجنة",{"$f":"IF($H14=\"\",\"\",MAX($F$1:$F13)+1)","v":13},null,{"$f":"IF(SUM($H$1:$H13,IF(G14=\"\",20,G14))<$E$1,IF($G14=\"\",20,$G14),IF(SUM($H$2:$H13)=$E$1,\"\",$E$1-SUM($H$2:$H13)))","v":20},{"$f":"IF($H14=\"\",\"\",SUM($H$1:$H13)+1)","v":241},260,{"$f":"IF($H14=\"\",\"\",MAX($F$1:$F13)+1)","v":13},null,{"$f":"IF(O14=\"\",\"\",MAX($M$3:$M13)+1)","v":11},40,"حسن11","ذكر","م للسنة الأولي",null,{"$f":"IF(M14=\"\",\"\",IF(ISERROR(MATCH($M14,$I:$I,0)),S13,MAX($S$3:$S13)+1))","v":1},""]
[{"$f":"IF($H15=\"\",\"\",MAX($F$1:$F14)+1)","v":14},290,309,{"$f":"IF($H15=\"\",\"\",MAX($F$1:$F14)+1)","v":14},"اللجنة",{"$f":"IF($H15=\"\",\"\",MAX($F$1:$F14)+1)","v":14},null,{"$f":"IF(SUM($H$1:$H14,IF(G15=\"\",20,G15))<$E$1,IF($G15=\"\",20,$G15),IF(SUM($H$2:$H14)=$E$1,\"\",$E$1-SUM($H$2:$H14)))","v":20},{"$f":"IF($H15=\"\",\"\",SUM($H$1:$H14)+1)","v":261},280,{"$f":"IF($H15=\"\",\"\",MAX($F$1:$F14)+1)","v":14},null,{"$f":"IF(O15=\"\",\"\",MAX($M$3:$M14)+1)","v":12},41,"حسن12","ذكر",null,null,{"$f":"IF(M15=\"\",\"\",IF(ISERROR(MATCH($M15,$I:$I,0)),S14,MAX($S$3:$S14)+1))","v":1},""]
[{"$f":"IF($H16=\"\",\"\",MAX($F$1:$F15)+1)","v":15},310,329,{"$f":"IF($H16=\"\",\"\",MAX($F$1:$F15)+1)","v":15},"اللجنة",{"$f":"IF($H16=\"\",\"\",MAX($F$1:$F15)+1)","v":15},null,{"$f":"IF(SUM($H$1:$H15,IF(G16=\"\",20,G16))<$E$1,IF($G16=\"\",20,$G16),IF(SUM($H$2:$H15)=$E$1,\"\",$E$1-SUM($H$2:$H15)))","v":20},{"$f":"IF($H16=\"\",\"\",SUM($H$1:$H15)+1)","v":281},300,{"$f":"IF($H16=\"\",\"\",MAX($F$1:$F15)+1)","v":15},null,{"$f":"IF(O16=\"\",\"\",MAX($M$3:$M15)+1)","v":13},42,"حسن13","ذكر",null,"مسلم",{"$f":"IF(M16=\"\",\"\",IF(ISERROR(MATCH($M16,$I:$I,0)),S15,MAX($S$3:$S15)+1))","v":1},"",{"$f":"MAX(C:C)","v":609}]
[{"$f":"IF($H17=\"\",\"\",MAX($F$1:$F16)+1)","v":16},330,349,{"$f":"IF($H17=\"\",\"\",MAX($F$1:$F16)+1)","v":16},"اللجنة",{"$f":"IF($H17=\"\",\"\",MAX($F$1:$F16)+1)","v":16},null,{"$f":"IF(SUM($H$1:$H16,IF(G17=\"\",20,G17))<$E$1,IF($G17=\"\",20,$G17),IF(SUM($H$2:$H16)=$E$1,\"\",$E$1-SUM($H$2:$H16)))","v":20},{"$f":"IF($H17=\"\",\"\",SUM($H$1:$H16)+1)","v":301},320,{"$f":"IF($H17=\"\",\"\",MAX($F$1:$F16)+1)","v":16},null,{"$f":"IF(O17=\"\",\"\",MAX($M$3:$M16)+1)","v":14},43,"حسن14","ذكر",null,null,{"$f":"IF(M17=\"\",\"\",IF(ISERROR(MATCH($M17,$I:$I,0)),S16,MAX($S$3:$S16)+1))","v":1},"",{"$f":"IF(U16=N2,\"أرقام جلوس الفصل سليمة\",\"رجاءً راجع أرقام الجلوس\")","v":"أرقام جلوس الفصل سليمة"}]
[{"$f":"IF($H18=\"\",\"\",MAX($F$1:$F17)+1)","v":17},350,369,{"$f":"IF($H18=\"\",\"\",MAX($F$1:$F17)+1)","v":17},"اللجنة",{"$f":"IF($H18=\"\",\"\",MAX($F$1:$F17)+1)","v":17},null,{"$f":"IF(SUM($H$1:$H17,IF(G18=\"\",20,G18))<$E$1,IF($G18=\"\",20,$G18),IF(SUM($H$2:$H17)=$E$1,\"\",$E$1-SUM($H$2:$H17)))","v":20},{"$f":"IF($H18=\"\",\"\",SUM($H$1:$H17)+1)","v":321},340,{"$f":"IF($H18=\"\",\"\",MAX($F$1:$F17)+1)","v":17},null,{"$f":"IF(O18=\"\",\"\",MAX($M$3:$M17)+1)","v":15},44,"حسن15","ذكر",null,null,{"$f":"IF(M18=\"\",\"\",IF(ISERROR(MATCH($M18,$I:$I,0)),S17,MAX($S$3:$S17)+1))","v":1},""]
[{"$f":"IF($H19=\"\",\"\",MAX($F$1:$F18)+1)","v":18},370,389,{"$f":"IF($H19=\"\",\"\",MAX($F$1:$F18)+1)","v":18},"اللجنة",{"$f":"IF($H19=\"\",\"\",MAX($F$1:$F18)+1)","v":18},null,{"$f":"IF(SUM($H$1:$H18,IF(G19=\"\",20,G19))<$E$1,IF($G19=\"\",20,$G19),IF(SUM($H$2:$H18)=$E$1,\"\",$E$1-SUM($H$2:$H18)))","v":20},{"$f":"IF($H19=\"\",\"\",SUM($H$1:$H18)+1)","v":341},360,{"$f":"IF($H19=\"\",\"\",MAX($F$1:$F18)+1)","v":18},null,{"$f":"IF(O19=\"\",\"\",MAX($M$3:$M18)+1)","v":16},45,"حسن16","ذكر",null,null,{"$f":"IF(M19=\"\",\"\",IF(ISERROR(MATCH($M19,$I:$I,0)),S18,MAX($S$3:$S18)+1))","v":1},""]
[{"$f":"IF($H20=\"\",\"\",MAX($F$1:$F19)+1)","v":19},390,409,{"$f":"IF($H20=\"\",\"\",MAX($F$1:$F19)+1)","v":19},"اللجنة",{"$f":"IF($H20=\"\",\"\",MAX($F$1:$F19)+1)","v":19},null,{"$f":"IF(SUM($H$1:$H19,IF(G20=\"\",20,G20))<$E$1,IF($G20=\"\",20,$G20),IF(SUM($H$2:$H19)=$E$1,\"\",$E$1-SUM($H$2:$H19)))","v":20},{"$f":"IF($H20=\"\",\"\",SUM($H$1:$H19)+1)","v":361},380,{"$f":"IF($H20=\"\",\"\",MAX($F$1:$F19)+1)","v":19},null,{"$f":"IF(O20=\"\",\"\",MAX($M$3:$M19)+1)","v":17},46,"حسن17","ذكر",null,null,{"$f":"IF(M20=\"\",\"\",IF(ISERROR(MATCH($M20,$I:$I,0)),S19,MAX($S$3:$S19)+1))","v":1},""]
[{"$f":"IF($H21=\"\",\"\",MAX($F$1:$F20)+1)","v":20},410,429,{"$f":"IF($H21=\"\",\"\",MAX($F$1:$F20)+1)","v":20},"اللجنة",{"$f":"IF($H21=\"\",\"\",MAX($F$1:$F20)+1)","v":20},null,{"$f":"IF(SUM($H$1:$H20,IF(G21=\"\",20,G21))<$E$1,IF($G21=\"\",20,$G21),IF(SUM($H$2:$H20)=$E$1,\"\",$E$1-SUM($H$2:$H20)))","v":20},{"$f":"IF($H21=\"\",\"\",SUM($H$1:$H20)+1)","v":381},400,{"$f":"IF($H21=\"\",\"\",MAX($F$1:$F20)+1)","v":20},null,{"$f":"IF(O21=\"\",\"\",MAX($M$3:$M20)+1)","v":18},47,"حسن18","ذكر",null,"مسلم",{"$f":"IF(M21=\"\",\"\",IF(ISERROR(MATCH($M21,$I:$I,0)),S20,MAX($S$3:$S20)+1))","v":1},""]
[{"$f":"IF($H22=\"\",\"\",MAX($F$1:$F21)+1)","v":21},430,449,{"$f":"IF($H22=\"\",\"\",MAX($F$1:$F21)+1)","v":21},"اللجنة",{"$f":"IF($H22=\"\",\"\",MAX($F$1:$F21)+1)","v":21},null,{"$f":"IF(SUM($H$1:$H21,IF(G22=\"\",20,G22))<$E$1,IF($G22=\"\",20,$G22),IF(SUM($H$2:$H21)=$E$1,\"\",$E$1-SUM($H$2:$H21)))","v":20},{"$f":"IF($H22=\"\",\"\",SUM($H$1:$H21)+1)","v":401},420,{"$f":"IF($H22=\"\",\"\",MAX($F$1:$F21)+1)","v":21},null,{"$f":"IF(O22=\"\",\"\",MAX($M$3:$M21)+1)","v":19},48,"حسن19","ذكر",null,null,{"$f":"IF(M22=\"\",\"\",IF(ISERROR(MATCH($M22,$I:$I,0)),S21,MAX($S$3:$S21)+1))","v":1},""]
[{"$f":"IF($H23=\"\",\"\",MAX($F$1:$F22)+1)","v":22},450,469,{"$f":"IF($H23=\"\",\"\",MAX($F$1:$F22)+1)","v":22},"اللجنة",{"$f":"IF($H23=\"\",\"\",MAX($F$1:$F22)+1)","v":22},null,{"$f":"IF(SUM($H$1:$H22,IF(G23=\"\",20,G23))<$E$1,IF($G23=\"\",20,$G23),IF(SUM($H$2:$H22)=$E$1,\"\",$E$1-SUM($H$2:$H22)))","v":20},{"$f":"IF($H23=\"\",\"\",SUM($H$1:$H22)+1)","v":421},440,{"$f":"IF($H23=\"\",\"\",MAX($F$1:$F22)+1)","v":22},null,{"$f":"IF(O23=\"\",\"\",MAX($M$3:$M22)+1)","v":20},49,"حسن20","ذكر",null,null,{"$f":"IF(M23=\"\",\"\",IF(ISERROR(MATCH($M23,$I:$I,0)),S22,MAX($S$3:$S22)+1))","v":1},"نهاية اللجنة"]
[{"$f":"IF($H24=\"\",\"\",MAX($F$1:$F23)+1)","v":23},470,489,{"$f":"IF($H24=\"\",\"\",MAX($F$1:$F23)+1)","v":23},"اللجنة",{"$f":"IF($H24=\"\",\"\",MAX($F$1:$F23)+1)","v":23},null,{"$f":"IF(SUM($H$1:$H23,IF(G24=\"\",20,G24))<$E$1,IF($G24=\"\",20,$G24),IF(SUM($H$2:$H23)=$E$1,\"\",$E$1-SUM($H$2:$H23)))","v":20},{"$f":"IF($H24=\"\",\"\",SUM($H$1:$H23)+1)","v":441},460,{"$f":"IF($H24=\"\",\"\",MAX($F$1:$F23)+1)","v":23},null,{"$f":"IF(O24=\"\",\"\",MAX($M$3:$M23)+1)","v":21},50,"حسن21","ذكر",null,null,{"$f":"IF(M24=\"\",\"\",IF(ISERROR(MATCH($M24,$I:$I,0)),S23,MAX($S$3:$S23)+1))","v":2},""]
[{"$f":"IF($H25=\"\",\"\",MAX($F$1:$F24)+1)","v":24},490,509,{"$f":"IF($H25=\"\",\"\",MAX($F$1:$F24)+1)","v":24},"اللجنة",{"$f":"IF($H25=\"\",\"\",MAX($F$1:$F24)+1)","v":24},null,{"$f":"IF(SUM($H$1:$H24,IF(G25=\"\",20,G25))<$E$1,IF($G25=\"\",20,$G25),IF(SUM($H$2:$H24)=$E$1,\"\",$E$1-SUM($H$2:$H24)))","v":20},{"$f":"IF($H25=\"\",\"\",SUM($H$1:$H24)+1)","v":461},480,{"$f":"IF($H25=\"\",\"\",MAX($F$1:$F24)+1)","v":24},null,{"$f":"IF(O25=\"\",\"\",MAX($M$3:$M24)+1)","v":22},51,"حسن22","ذكر",null,null,{"$f":"IF(M25=\"\",\"\",IF(ISERROR(MATCH($M25,$I:$I,0)),S24,MAX($S$3:$S24)+1))","v":2},""]
[{"$f":"IF($H26=\"\",\"\",MAX($F$1:$F25)+1)","v":25},510,529,{"$f":"IF($H26=\"\",\"\",MAX($F$1:$F25)+1)","v":25},"اللجنة",{"$f":"IF($H26=\"\",\"\",MAX($F$1:$F25)+1)","v":25},null,{"$f":"IF(SUM($H$1:$H25,IF(G26=\"\",20,G26))<$E$1,IF($G26=\"\",20,$G26),IF(SUM($H$2:$H25)=$E$1,\"\",$E$1-SUM($H$2:$H25)))","v":20},{"$f":"IF($H26=\"\",\"\",SUM($H$1:$H25)+1)","v":481},500,{"$f":"IF($H26=\"\",\"\",MAX($F$1:$F25)+1)","v":25},null,{"$f":"IF(O26=\"\",\"\",MAX($M$3:$M25)+1)","v":23},52,"حسن23","ذكر",null,null,{"$f":"IF(M26=\"\",\"\",IF(ISERROR(MATCH($M26,$I:$I,0)),S25,MAX($S$3:$S25)+1))","v":2},""]
[{"$f":"IF($H27=\"\",\"\",MAX($F$1:$F26)+1)","v":26},530,549,{"$f":"IF($H27=\"\",\"\",MAX($F$1:$F26)+1)","v":26},"اللجنة",{"$f":"IF($H27=\"\",\"\",MAX($F$1:$F26)+1)","v":26},null,{"$f":"IF(SUM($H$1:$H26,IF(G27=\"\",20,G27))<$E$1,IF($G27=\"\",20,$G27),IF(SUM($H$2:$H26)=$E$1,\"\",$E$1-SUM($H$2:$H26)))","v":20},{"$f":"IF($H27=\"\",\"\",SUM($H$1:$H26)+1)","v":501},520,{"$f":"IF($H27=\"\",\"\",MAX($F$1:$F26)+1)","v":26},null,{"$f":"IF(O27=\"\",\"\",MAX($M$3:$M26)+1)","v":24},53,"حسن24","ذكر",null,null,{"$f":"IF(M27=\"\",\"\",IF(ISERROR(MATCH($M27,$I:$I,0)),S26,MAX($S$3:$S26)+1))","v":2},""]
[{"$f":"IF($H28=\"\",\"\",MAX($F$1:$F27)+1)","v":27},550,569,{"$f":"IF($H28=\"\",\"\",MAX($F$1:$F27)+1)","v":27},"اللجنة",{"$f":"IF($H28=\"\",\"\",MAX($F$1:$F27)+1)","v":27},null,{"$f":"IF(SUM($H$1:$H27,IF(G28=\"\",20,G28))<$E$1,IF($G28=\"\",20,$G28),IF(SUM($H$2:$H27)=$E$1,\"\",$E$1-SUM($H$2:$H27)))","v":20},{"$f":"IF($H28=\"\",\"\",SUM($H$1:$H27)+1)","v":521},540,{"$f":"IF($H28=\"\",\"\",MAX($F$1:$F27)+1)","v":27},null,{"$f":"IF(O28=\"\",\"\",MAX($M$3:$M27)+1)","v":25},54,"حسن25","ذكر",null,null,{"$f":"IF(M28=\"\",\"\",IF(ISERROR(MATCH($M28,$I:$I,0)),S27,MAX($S$3:$S27)+1))","v":2},""]
[{"$f":"IF($H29=\"\",\"\",MAX($F$1:$F28)+1)","v":28},570,589,{"$f":"IF($H29=\"\",\"\",MAX($F$1:$F28)+1)","v":28},"اللجنة",{"$f":"IF($H29=\"\",\"\",MAX($F$1:$F28)+1)","v":28},null,{"$f":"IF(SUM($H$1:$H28,IF(G29=\"\",20,G29))<$E$1,IF($G29=\"\",20,$G29),IF(SUM($H$2:$H28)=$E$1,\"\",$E$1-SUM($H$2:$H28)))","v":20},{"$f":"IF($H29=\"\",\"\",SUM($H$1:$H28)+1)","v":541},560,{"$f":"IF($H29=\"\",\"\",MAX($F$1:$F28)+1)","v":28},null,{"$f":"IF(O29=\"\",\"\",MAX($M$3:$M28)+1)","v":26},55,"حسن26","ذكر",null,null,{"$f":"IF(M29=\"\",\"\",IF(ISERROR(MATCH($M29,$I:$I,0)),S28,MAX($S$3:$S28)+1))","v":2},""]
[{"$f":"IF($H30=\"\",\"\",MAX($F$1:$F29)+1)","v":29},590,609,{"$f":"IF($H30=\"\",\"\",MAX($F$1:$F29)+1)","v":29},"اللجنة",{"$f":"IF($H30=\"\",\"\",MAX($F$1:$F29)+1)","v":29},null,{"$f":"IF(SUM($H$1:$H29,IF(G30=\"\",20,G30))<$E$1,IF($G30=\"\",20,$G30),IF(SUM($H$2:$H29)=$E$1,\"\",$E$1-SUM($H$2:$H29)))","v":20},{"$f":"IF($H30=\"\",\"\",SUM($H$1:$H29)+1)","v":561},580,{"$f":"IF($H30=\"\",\"\",MAX($F$1:$F29)+1)","v":29},null,{"$f":"IF(O30=\"\",\"\",MAX($M$3:$M29)+1)","v":27},56,"حسن27","انثى",null,null,{"$f":"IF(M30=\"\",\"\",IF(ISERROR(MATCH($M30,$I:$I,0)),S29,MAX($S$3:$S29)+1))","v":2},""]
[{"$f":"IF($H31=\"\",\"\",MAX($F$1:$F30)+1)","v":""},"","",{"$f":"IF($H31=\"\",\"\",MAX($F$1:$F30)+1)","v":""},"",{"$f":"IF($H31=\"\",\"\",MAX($F$1:$F30)+1)","v":""},null,{"$f":"IF(SUM($H$1:$H30,IF(G31=\"\",20,G31))<$E$1,IF($G31=\"\",20,$G31),IF(SUM($H$2:$H30)=$E$1,\"\",$E$1-SUM($H$2:$H30)))","v":""},{"$f":"IF($H31=\"\",\"\",SUM($H$1:$H30)+1)","v":""},"",{"$f":"IF($H31=\"\",\"\",MAX($F$1:$F30)+1)","v":""},null,{"$f":"IF(O31=\"\",\"\",MAX($M$3:$M30)+1)","v":28},57,"حسن28","انثى",null,null,{"$f":"IF(M31=\"\",\"\",IF(ISERROR(MATCH($M31,$I:$I,0)),S30,MAX($S$3:$S30)+1))","v":2},""]
[{"$f":"IF($H32=\"\",\"\",MAX($F$1:$F31)+1)","v":""},"","",{"$f":"IF($H32=\"\",\"\",MAX($F$1:$F31)+1)","v":""},"",{"$f":"IF($H32=\"\",\"\",MAX($F$1:$F31)+1)","v":""},null,{"$f":"IF(SUM($H$1:$H31,IF(G32=\"\",20,G32))<$E$1,IF($G32=\"\",20,$G32),IF(SUM($H$2:$H31)=$E$1,\"\",$E$1-SUM($H$2:$H31)))","v":""},{"$f":"IF($H32=\"\",\"\",SUM($H$1:$H31)+1)","v":""},"",{"$f":"IF($H32=\"\",\"\",MAX($F$1:$F31)+1)","v":""},null,{"$f":"IF(O32=\"\",\"\",MAX($M$3:$M31)+1)","v":29},58,"حسن29","انثى",null,null,{"$f":"IF(M32=\"\",\"\",IF(ISERROR(MATCH($M32,$I:$I,0)),S31,MAX($S$3:$S31)+1))","v":2},""]
[{"$f":"IF($H33=\"\",\"\",MAX($F$1:$F32)+1)","v":""},"","",{"$f":"IF($H33=\"\",\"\",MAX($F$1:$F32)+1)","v":""},"",{"$f":"IF($H33=\"\",\"\",MAX($F$1:$F32)+1)","v":""},null,{"$f":"IF(SUM($H$1:$H32,IF(G33=\"\",20,G33))<$E$1,IF($G33=\"\",20,$G33),IF(SUM($H$2:$H32)=$E$1,\"\",$E$1-SUM($H$2:$H32)))","v":""},{"$f":"IF($H33=\"\",\"\",SUM($H$1:$H32)+1)","v":""},"",{"$f":"IF($H33=\"\",\"\",MAX($F$1:$F32)+1)","v":""},null,{"$f":"IF(O33=\"\",\"\",MAX($M$3:$M32)+1)","v":30},59,"حسن30","انثى",null,"مسلم",{"$f":"IF(M33=\"\",\"\",IF(ISERROR(MATCH($M33,$I:$I,0)),S32,MAX($S$3:$S32)+1))","v":2},""]
[{"$f":"IF($H34=\"\",\"\",MAX($F$1:$F33)+1)","v":""},"","",{"$f":"IF($H34=\"\",\"\",MAX($F$1:$F33)+1)","v":""},"",{"$f":"IF($H34=\"\",\"\",MAX($F$1:$F33)+1)","v":""},null,{"$f":"IF(SUM($H$1:$H33,IF(G34=\"\",20,G34))<$E$1,IF($G34=\"\",20,$G34),IF(SUM($H$2:$H33)=$E$1,\"\",$E$1-SUM($H$2:$H33)))","v":""},{"$f":"IF($H34=\"\",\"\",SUM($H$1:$H33)+1)","v":""},"",{"$f":"IF($H34=\"\",\"\",MAX($F$1:$F33)+1)","v":""},null,{"$f":"IF(O34=\"\",\"\",MAX($M$3:$M33)+1)","v":31},60,"حسن31","انثى",null,null,{"$f":"IF(M34=\"\",\"\",IF(ISERROR(MATCH($M34,$I:$I,0)),S33,MAX($S$3:$S33)+1))","v":2},""]
[{"$f":"IF($H35=\"\",\"\",MAX($F$1:$F34)+1)","v":""},"","",{"$f":"IF($H35=\"\",\"\",MAX($F$1:$F34)+1)","v":""},"",{"$f":"IF($H35=\"\",\"\",MAX($F$1:$F34)+1)","v":""},null,{"$f":"IF(SUM($H$1:$H34,IF(G35=\"\",20,G35))<$E$1,IF($G35=\"\",20,$G35),IF(SUM($H$2:$H34)=$E$1,\"\",$E$1-SUM($H$2:$H34)))","v":""},{"$f":"IF($H35=\"\",\"\",SUM($H$1:$H34)+1)","v":""},"",{"$f":"IF($H35=\"\",\"\",MAX($F$1:$F34)+1)","v":""},null,{"$f":"IF(O35=\"\",\"\",MAX($M$3:$M34)+1)","v":32},61,"حسن32","انثى","معيد",null,{"$f":"IF(M35=\"\",\"\",IF(ISERROR(MATCH($M35,$I:$I,0)),S34,MAX($S$3:$S34)+1))","v":2},""]
[{"$f":"IF($H36=\"\",\"\",MAX($F$1:$F35)+1)","v":""},"","",{"$f":"IF($H36=\"\",\"\",MAX($F$1:$F35)+1)","v":""},"",{"$f":"IF($H36=\"\",\"\",MAX($F$1:$F35)+1)","v":""},null,{"$f":"IF(SUM($H$1:$H35,IF(G36=\"\",20,G36))<$E$1,IF($G36=\"\",20,$G36),IF(SUM($H$2:$H35)=$E$1,\"\",$E$1-SUM($H$2:$H35)))","v":""},{"$f":"IF($H36=\"\",\"\",SUM($H$1:$H35)+1)","v":""},"",{"$f":"IF($H36=\"\",\"\",MAX($F$1:$F35)+1)","v":""},null,{"$f":"IF(O36=\"\",\"\",MAX($M$3:$M35)+1)","v":33},62,"حسن33","انثى",null,"أخري",{"$f":"IF(M36=\"\",\"\",IF(ISERROR(MATCH($M36,$I:$I,0)),S35,MAX($S$3:$S35)+1))","v":2},""]
[{"$f":"IF($H37=\"\",\"\",MAX($F$1:$F36)+1)","v":""},"","",{"$f":"IF($H37=\"\",\"\",MAX($F$1:$F36)+1)","v":""},"",{"$f":"IF($H37=\"\",\"\",MAX($F$1:$F36)+1)","v":""},null,{"$f":"IF(SUM($H$1:$H36,IF(G37=\"\",20,G37))<$E$1,IF($G37=\"\",20,$G37),IF(SUM($H$2:$H36)=$E$1,\"\",$E$1-SUM($H$2:$H36)))","v":""},{"$f":"IF($H37=\"\",\"\",SUM($H$1:$H36)+1)","v":""},"",{"$f":"IF($H37=\"\",\"\",MAX($F$1:$F36)+1)","v":""},null,{"$f":"IF(O37=\"\",\"\",MAX($M$3:$M36)+1)","v":34},63,"حسن34","انثى","م للسنة الثانية",null,{"$f":"IF(M37=\"\",\"\",IF(ISERROR(MATCH($M37,$I:$I,0)),S36,MAX($S$3:$S36)+1))","v":2},""]
[{"$f":"IF($H38=\"\",\"\",MAX($F$1:$F37)+1)","v":""},"","",{"$f":"IF($H38=\"\",\"\",MAX($F$1:$F37)+1)","v":""},"",{"$f":"IF($H38=\"\",\"\",MAX($F$1:$F37)+1)","v":""},null,{"$f":"IF(SUM($H$1:$H37,IF(G38=\"\",20,G38))<$E$1,IF($G38=\"\",20,$G38),IF(SUM($H$2:$H37)=$E$1,\"\",$E$1-SUM($H$2:$H37)))","v":""},{"$f":"IF($H38=\"\",\"\",SUM($H$1:$H37)+1)","v":""},"",{"$f":"IF($H38=\"\",\"\",MAX($F$1:$F37)+1)","v":""},null,{"$f":"IF(O38=\"\",\"\",MAX($M$3:$M37)+1)","v":35},64,"حسن35","انثى",null,null,{"$f":"IF(M38=\"\",\"\",IF(ISERROR(MATCH($M38,$I:$I,0)),S37,MAX($S$3:$S37)+1))","v":2},""]
[{"$f":"IF($H39=\"\",\"\",MAX($F$1:$F38)+1)","v":""},"","",{"$f":"IF($H39=\"\",\"\",MAX($F$1:$F38)+1)","v":""},"",{"$f":"IF($H39=\"\",\"\",MAX($F$1:$F38)+1)","v":""},null,{"$f":"IF(SUM($H$1:$H38,IF(G39=\"\",20,G39))<$E$1,IF($G39=\"\",20,$G39),IF(SUM($H$2:$H38)=$E$1,\"\",$E$1-SUM($H$2:$H38)))","v":""},{"$f":"IF($H39=\"\",\"\",SUM($H$1:$H38)+1)","v":""},"",{"$f":"IF($H39=\"\",\"\",MAX($F$1:$F38)+1)","v":""},null,{"$f":"IF(O39=\"\",\"\",MAX($M$3:$M38)+1)","v":36},65,"حسن36","انثى",null,null,{"$f":"IF(M39=\"\",\"\",IF(ISERROR(MATCH($M39,$I:$I,0)),S38,MAX($S$3:$S38)+1))","v":2},""]
[{"$f":"IF($H40=\"\",\"\",MAX($F$1:$F39)+1)","v":""},"","",{"$f":"IF($H40=\"\",\"\",MAX($F$1:$F39)+1)","v":""},"",{"$f":"IF($H40=\"\",\"\",MAX($F$1:$F39)+1)","v":""},null,{"$f":"IF(SUM($H$1:$H39,IF(G40=\"\",20,G40))<$E$1,IF($G40=\"\",20,$G40),IF(SUM($H$2:$H39)=$E$1,\"\",$E$1-SUM($H$2:$H39)))","v":""},{"$f":"IF($H40=\"\",\"\",SUM($H$1:$H39)+1)","v":""},"",{"$f":"IF($H40=\"\",\"\",MAX($F$1:$F39)+1)","v":""},null,{"$f":"IF(O40=\"\",\"\",MAX($M$3:$M39)+1)","v":37},66,"حسن37","انثى",null,null,{"$f":"IF(M40=\"\",\"\",IF(ISERROR(MATCH($M40,$I:$I,0)),S39,MAX($S$3:$S39)+1))","v":2},""]
[{"$f":"IF($H41=\"\",\"\",MAX($F$1:$F40)+1)","v":""},"","",{"$f":"IF($H41=\"\",\"\",MAX($F$1:$F40)+1)","v":""},"",{"$f":"IF($H41=\"\",\"\",MAX($F$1:$F40)+1)","v":""},null,{"$f":"IF(SUM($H$1:$H40,IF(G41=\"\",20,G41))<$E$1,IF($G41=\"\",20,$G41),IF(SUM($H$2:$H40)=$E$1,\"\",$E$1-SUM($H$2:$H40)))","v":""},{"$f":"IF($H41=\"\",\"\",SUM($H$1:$H40)+1)","v":""},"",{"$f":"IF($H41=\"\",\"\",MAX($F$1:$F40)+1)","v":""},null,{"$f":"IF(O41=\"\",\"\",MAX($M$3:$M40)+1)","v":38},67,"حسن38","انثى",null,null,{"$f":"IF(M41=\"\",\"\",IF(ISERROR(MATCH($M41,$I:$I,0)),S40,MAX($S$3:$S40)+1))","v":2},""]
[{"$f":"IF($H42=\"\",\"\",MAX($F$1:$F41)+1)","v":""},"","",{"$f":"IF($H42=\"\",\"\",MAX($F$1:$F41)+1)","v":""},"",{"$f":"IF($H42=\"\",\"\",MAX($F$1:$F41)+1)","v":""},null,{"$f":"IF(SUM($H$1:$H41,IF(G42=\"\",20,G42))<$E$1,IF($G42=\"\",20,$G42),IF(SUM($H$2:$H41)=$E$1,\"\",$E$1-SUM($H$2:$H41)))","v":""},{"$f":"IF($H42=\"\",\"\",SUM($H$1:$H41)+1)","v":""},"",{"$f":"IF($H42=\"\",\"\",MAX($F$1:$F41)+1)","v":""},null,{"$f":"IF(O42=\"\",\"\",MAX($M$3:$M41)+1)","v":39},68,"حسن39","انثى",null,null,{"$f":"IF(M42=\"\",\"\",IF(ISERROR(MATCH($M42,$I:$I,0)),S41,MAX($S$3:$S41)+1))","v":2},""]
[{"$f":"IF($H43=\"\",\"\",MAX($F$1:$F42)+1)","v":""},"","",{"$f":"IF($H43=\"\",\"\",MAX($F$1:$F42)+1)","v":""},"",{"$f":"IF($H43=\"\",\"\",MAX($F$1:$F42)+1)","v":""},null,{"$f":"IF(SUM($H$1:$H42,IF(G43=\"\",20,G43))<$E$1,IF($G43=\"\",20,$G43),IF(SUM($H$2:$H42)=$E$1,\"\",$E$1-SUM($H$2:$H42)))","v":""},{"$f":"IF($H43=\"\",\"\",SUM($H$1:$H42)+1)","v":""},"",{"$f":"IF($H43=\"\",\"\",MAX($F$1:$F42)+1)","v":""},null,{"$f":"IF(O43=\"\",\"\",MAX($M$3:$M42)+1)","v":40},69,"حسن40","انثى",null,null,{"$f":"IF(M43=\"\",\"\",IF(ISERROR(MATCH($M43,$I:$I,0)),S42,MAX($S$3:$S42)+1))","v":2},"نهاية اللجنة"]
[{"$f":"IF($H44=\"\",\"\",MAX($F$1:$F43)+1)","v":""},"","",{"$f":"IF($H44=\"\",\"\",MAX($F$1:$F43)+1)","v":""},"",{"$f":"IF($H44=\"\",\"\",MAX($F$1:$F43)+1)","v":""},null,{"$f":"IF(SUM($H$1:$H43,IF(G44=\"\",20,G44))<$E$1,IF($G44=\"\",20,$G44),IF(SUM($H$2:$H43)=$E$1,\"\",$E$1-SUM($H$2:$H43)))","v":""},{"$f":"IF($H44=\"\",\"\",SUM($H$1:$H43)+1)","v":""},"",{"$f":"IF($H44=\"\",\"\",MAX($F$1:$F43)+1)","v":""},null,{"$f":"IF(O44=\"\",\"\",MAX($M$3:$M43)+1)","v":41},70,"حسن41","انثى",null,null,{"$f":"IF(M44=\"\",\"\",IF(ISERROR(MATCH($M44,$I:$I,0)),S43,MAX($S$3:$S43)+1))","v":3},""]
[null,null,null,null,null,null,null,null,null,null,null,null,{"$f":"IF(O45=\"\",\"\",MAX($M$3:$M44)+1)","v":42},71,"حسن42","انثى",null,null,{"$f":"IF(M45=\"\",\"\",IF(ISERROR(MATCH($M45,$I:$I,0)),S44,MAX($S$3:$S44)+1))","v":3},""]
[null,{"$f":"MAX(J:J)","v":580},null,null,null,null,null,null,null,null,null,null,{"$f":"IF(O46=\"\",\"\",MAX($M$3:$M45)+1)","v":43},72,"حسن43","انثى",null,null,{"$f":"IF(M46=\"\",\"\",IF(ISERROR(MATCH($M46,$I:$I,0)),S45,MAX($S$3:$S45)+1))","v":3},""]
[null,{"$f":"IF(B46=N1,\"التلاميذ مقسمون التقسيم الصحيح\",\"راجع من فضلك تقسيم اللجان\")","v":"التلاميذ مقسمون التقسيم الصحيح"},null,null,null,null,null,null,null,null,null,null,{"$f":"IF(O47=\"\",\"\",MAX($M$3:$M46)+1)","v":44},73,"حسن44","انثى",null,null,{"$f":"IF(M47=\"\",\"\",IF(ISERROR(MATCH($M47,$I:$I,0)),S46,MAX($S$3:$S46)+1))","v":3},""]
[null,null,null,null,null,null,null,null,null,null,null,null,{"$f":"IF(O48=\"\",\"\",MAX($M$3:$M47)+1)","v":45},74,"حسن45","انثى",null,null,{"$f":"IF(M48=\"\",\"\",IF(ISERROR(MATCH($M48,$I:$I,0)),S47,MAX($S$3:$S47)+1))","v":3},""]
[null,null,null,null,null,null,null,null,null,null,null,null,{"$f":"IF(O49=\"\",\"\",MAX($M$3:$M48)+1)","v":46},75,"حسن46","انثى",null,null,{"$f":"IF(M49=\"\",\"\",IF(ISERROR(MATCH($M49,$I:$I,0)),S48,MAX($S$3:$S48)+1))","v":3},""]
[null,null,null,null,null,null,null,null,null,null,null,null,{"$f":"IF(O50=\"\",\"\",MAX($M$3:$M49)+1)","v":47},76,"حسن47","انثى",null,null,{"$f":"IF(M50=\"\",\"\",IF(ISERROR(MATCH($M50,$I:$I,0)),S49,MAX($S$3:$S49)+1))","v":3},""]
[null,null,null,null,null,null,null,null,null,null,null,null,{"$f":"IF(O51=\"\",\"\",MAX($M$3:$M50)+1)","v":48},77,"حسن48",null,null,null,{"$f":"IF(M51=\"\",\"\",IF(ISERROR(MATCH($M51,$I:$I,0)),S50,MAX($S$3:$S50)+1))","v":3},""]
[null,null,null,null,null,null,null,null,"معيد",null,null,null,{"$f":"IF(O52=\"\",\"\",MAX($M$3:$M51)+1)","v":49},78,"حسن49",null,null,null,{"$f":"IF(M52=\"\",\"\",IF(ISERROR(MATCH($M52,$I:$I,0)),S51,MAX($S$3:$S51)+1))","v":3},""]
[null,null,null,null,null,null,null,null,"م للسنة الأولي",null,null,null,{"$f":"IF(O53=\"\",\"\",MAX($M$3:$M52)+1)","v":50},79,"حسن50",null,null,null,{"$f":"IF(M53=\"\",\"\",IF(ISERROR(MATCH($M53,$I:$I,0)),S52,MAX($S$3:$S52)+1))","v":3},""]
[null,null,null,null,null,null,null,null,"م للسنة الثانية",null,null,null,{"$f":"IF(O54=\"\",\"\",MAX($M$3:$M53)+1)","v":51},80,"حسن51",null,null,null,{"$f":"IF(M54=\"\",\"\",IF(ISERROR(MATCH($M54,$I:$I,0)),S53,MAX($S$3:$S53)+1))","v":3},""]
[null,null,null,null,null,null,null,null,null,null,null,null,{"$f":"IF(O55=\"\",\"\",MAX($M$3:$M54)+1)","v":52},81,"حسن52",null,null,null,{"$f":"IF(M55=\"\",\"\",IF(ISERROR(MATCH($M55,$I:$I,0)),S54,MAX($S$3:$S54)+1))","v":3},""]
[null,null,null,null,null,null,null,null,"مسلم",null,null,null,{"$f":"IF(O56=\"\",\"\",MAX($M$3:$M55)+1)","v":53},82,"حسن53",null,null,null,{"$f":"IF(M56=\"\",\"\",IF(ISERROR(MATCH($M56,$I:$I,0)),S55,MAX($S$3:$S55)+1))","v":3},""]
[null,null,null,null,null,null,null,null,"مسيحي",null,null,null,{"$f":"IF(O57=\"\",\"\",MAX($M$3:$M56)+1)","v":54},83,"حسن54",null,null,null,{"$f":"IF(M57=\"\",\"\",IF(ISERROR(MATCH($M57,$I:$I,0)),S56,MAX($S$3:$S56)+1))","v":3},""]
[null,null,null,null,null,null,null,null,"أخري",null,null,null,{"$f":"IF(O58=\"\",\"\",MAX($M$3:$M57)+1)","v":55},84,"حسن55",null,null,null,{"$f":"IF(M58=\"\",\"\",IF(ISERROR(MATCH($M58,$I:$I,0)),S57,MAX($S$3:$S57)+1))","v":3},""]
[null,null,null,null,null,null,null,null,null,null,null,null,{"$f":"IF(O59=\"\",\"\",MAX($M$3:$M58)+1)","v":56},85,"حسن56",null,null,null,{"$f":"IF(M59=\"\",\"\",IF(ISERROR(MATCH($M59,$I:$I,0)),S58,MAX($S$3:$S58)+1))","v":3},""]
[null,null,null,null,null,null,null,null,null,null,null,null,{"$f":"IF(O60=\"\",\"\",MAX($M$3:$M59)+1)","v":57},86,"حسن57",null,null,null,{"$f":"IF(M60=\"\",\"\",IF(ISERROR(MATCH($M60,$I:$I,0)),S59,MAX($S$3:$S59)+1))","v":3},""]
[null,null,null,null,null,null,null,null,null,null,null,null,{"$f":"IF(O61=\"\",\"\",MAX($M$3:$M60)+1)","v":58},87,"حسن58",null,null,null,{"$f":"IF(M61=\"\",\"\",IF(ISERROR(MATCH($M61,$I:$I,0)),S60,MAX($S$3:$S60)+1))","v":3},""]
[null,null,null,null,null,null,null,null,null,null,null,null,{"$f":"IF(O62=\"\",\"\",MAX($M$3:$M61)+1)","v":59},88,"حسن59",null,null,null,{"$f":"IF(M62=\"\",\"\",IF(ISERROR(MATCH($M62,$I:$I,0)),S61,MAX($S$3:$S61)+1))","v":3},""]
[null,null,null,null,null,null,null,null,null,null,null,null,{"$f":"IF(O63=\"\",\"\",MAX($M$3:$M62)+1)","v":60},89,"حسن60",null,null,null,{"$f":"IF(M63=\"\",\"\",IF(ISERROR(MATCH($M63,$I:$I,0)),S62,MAX($S$3:$S62)+1))","v":3},"نهاية اللجنة"]
[null,null,null,null,null,null,null,null,null,null,null,null,{"$f":"IF(O64=\"\",\"\",MAX($M$3:$M63)+1)","v":61},90,"حسن61",null,null,null,{"$f":"IF(M64=\"\",\"\",IF(ISERROR(MATCH($M64,$I:$I,0)),S63,MAX($S$3:$S63)+1))","v":4},""]
[null,null,null,null,null,null,null,null,null,null,null,null,{"$f":"IF(O65=\"\",\"\",MAX($M$3:$M64)+1)","v":62},91,"حسن62",null,null,null,{"$f":"IF(M65=\"\",\"\",IF(ISERROR(MATCH($M65,$I:$I,0)),S64,MAX($S$3:$S64)+1))","v":4},""]
[null,null,null,null,null,null,null,null,null,null,null,null,{"$f":"IF(O66=\"\",\"\",MAX($M$3:$M65)+1)","v":63},92,"حسن63",null,null,null,{"$f":"IF(M66=\"\",\"\",IF(ISERROR(MATCH($M66,$I:$I,0)),S65,MAX($S$3:$S65)+1))","v":4},""]
[null,null,null,null,null,null,null,null,null,null,null,null,{"$f":"IF(O67=\"\",\"\",MAX($M$3:$M66)+1)","v":64},93,"حسن64",null,null,null,{"$f":"IF(M67=\"\",\"\",IF(ISERROR(MATCH($M67,$I:$I,0)),S66,MAX($S$3:$S66)+1))","v":4},""]
[null,null,null,null,null,null,null,null,null,null,null,null,{"$f":"IF(O68=\"\",\"\",MAX($M$3:$M67)+1)","v":65},94,"حسن65",null,null,null,{"$f":"IF(M68=\"\",\"\",IF(ISERROR(MATCH($M68,$I:$I,0)),S67,MAX($S$3:$S67)+1))","v":4},""]
[null,null,null,null,null,null,null,null,null,null,null,null,{"$f":"IF(O69=\"\",\"\",MAX($M$3:$M68)+1)","v":66},95,"حسن66",null,null,null,{"$f":"IF(M69=\"\",\"\",IF(ISERROR(MATCH($M69,$I:$I,0)),S68,MAX($S$3:$S68)+1))","v":4},{"$f":"IF(S69=S70,\"\",\"نهاية اللجنة\")","v":""}]
[null,null,null,null,null,null,null,null,null,null,null,null,{"$f":"IF(O70=\"\",\"\",MAX($M$3:$M69)+1)","v":67},{"$f":"IF(M70=\"\",\"\",N69+1)","v":96},"حسن67",null,null,null,{"$f":"IF(M70=\"\",\"\",IF(ISERROR(MATCH($M70,$I:$I,0)),S69,MAX($S$3:$S69)+1))","v":4},""]
[null,null,null,null,null,null,null,null,null,null,null,null,{"$f":"IF(O71=\"\",\"\",MAX($M$3:$M70)+1)","v":68},97,"حسن68",null,null,null,{"$f":"IF(M71=\"\",\"\",IF(ISERROR(MATCH($M71,$I:$I,0)),S70,MAX($S$3:$S70)+1))","v":4},""]
[null,null,null,null,null,null,null,null,null,null,null,null,{"$f":"IF(O72=\"\",\"\",MAX($M$3:$M71)+1)","v":69},98,"حسن69",null,null,null,{"$f":"IF(M72=\"\",\"\",IF(ISERROR(MATCH($M72,$I:$I,0)),S71,MAX($S$3:$S71)+1))","v":4},""]
[null,null,null,null,null,null,null,null,null,null,null,null,{"$f":"IF(O73=\"\",\"\",MAX($M$3:$M72)+1)","v":70},99,"حسن70",null,null,null,{"$f":"IF(M73=\"\",\"\",IF(ISERROR(MATCH($M73,$I:$I,0)),S72,MAX($S$3:$S72)+1))","v":4},""]
[null,null,null,null,null,null,null,null,null,null,null,null,{"$f":"IF(O74=\"\",\"\",MAX($M$3:$M73)+1)","v":71},100,"حسن71",null,null,null,{"$f":"IF(M74=\"\",\"\",IF(ISERROR(MATCH($M74,$I:$I,0)),S73,MAX($S$3:$S73)+1))","v":4},""]
[null,null,null,null,null,null,null,null,null,null,null,null,{"$f":"IF(O75=\"\",\"\",MAX($M$3:$M74)+1)","v":72},101,"حسن72",null,null,null,{"$f":"IF(M75=\"\",\"\",IF(ISERROR(MATCH($M75,$I:$I,0)),S74,MAX($S$3:$S74)+1))","v":4},""]
[null,null,null,null,null,null,null,null,null,null,null,null,{"$f":"IF(O76=\"\",\"\",MAX($M$3:$M75)+1)","v":73},102,"حسن73",null,null,null,{"$f":"IF(M76=\"\",\"\",IF(ISERROR(MATCH($M76,$I:$I,0)),S75,MAX($S$3:$S75)+1))","v":4},""]
[null,null,null,null,null,null,null,null,null,null,null,null,{"$f":"IF(O77=\"\",\"\",MAX($M$3:$M76)+1)","v":74},103,"حسن74",null,null,null,{"$f":"IF(M77=\"\",\"\",IF(ISERROR(MATCH($M77,$I:$I,0)),S76,MAX($S$3:$S76)+1))","v":4},""]
[null,null,null,null,null,null,null,null,null,null,null,null,{"$f":"IF(O78=\"\",\"\",MAX($M$3:$M77)+1)","v":75},104,"حسن75",null,null,null,{"$f":"IF(M78=\"\",\"\",IF(ISERROR(MATCH($M78,$I:$I,0)),S77,MAX($S$3:$S77)+1))","v":4},""]
[null,null,null,null,null,null,null,null,null,null,null,null,{"$f":"IF(O79=\"\",\"\",MAX($M$3:$M78)+1)","v":76},105,"حسن76",null,null,null,{"$f":"IF(M79=\"\",\"\",IF(ISERROR(MATCH($M79,$I:$I,0)),S78,MAX($S$3:$S78)+1))","v":4},""]
[null,null,null,null,null,null,null,null,null,null,null,null,{"$f":"IF(O80=\"\",\"\",MAX($M$3:$M79)+1)","v":77},106,"حسن77",null,null,null,{"$f":"IF(M80=\"\",\"\",IF(ISERROR(MATCH($M80,$I:$I,0)),S79,MAX($S$3:$S79)+1))","v":4},""]
[null,null,null,null,null,null,null,null,null,null,null,null,{"$f":"IF(O81=\"\",\"\",MAX($M$3:$M80)+1)","v":78},107,"حسن78",null,null,null,{"$f":"IF(M81=\"\",\"\",IF(ISERROR(MATCH($M81,$I:$I,0)),S80,MAX($S$3:$S80)+1))","v":4},""]
[null,null,null,null,null,null,null,null,null,null,null,null,{"$f":"IF(O82=\"\",\"\",MAX($M$3:$M81)+1)","v":79},108,"حسن79",null,null,null,{"$f":"IF(M82=\"\",\"\",IF(ISERROR(MATCH($M82,$I:$I,0)),S81,MAX($S$3:$S81)+1))","v":4},""]
[null,null,null,null,null,null,null,null,null,null,null,null,{"$f":"IF(O83=\"\",\"\",MAX($M$3:$M82)+1)","v":80},109,"حسن80",null,null,null,{"$f":"IF(M83=\"\",\"\",IF(ISERROR(MATCH($M83,$I:$I,0)),S82,MAX($S$3:$S82)+1))","v":4},"نهاية اللجنة"]
[null,null,null,null,null,null,null,null,null,null,null,null,{"$f":"IF(O84=\"\",\"\",MAX($M$3:$M83)+1)","v":81},110,"حسن81",null,null,null,{"$f":"IF(M84=\"\",\"\",IF(ISERROR(MATCH($M84,$I:$I,0)),S83,MAX($S$3:$S83)+1))","v":5},""]
[null,null,null,null,null,null,null,null,null,null,null,null,{"$f":"IF(O85=\"\",\"\",MAX($M$3:$M84)+1)","v":82},111,"حسن82",null,null,null,{"$f":"IF(M85=\"\",\"\",IF(ISERROR(MATCH($M85,$I:$I,0)),S84,MAX($S$3:$S84)+1))","v":5},""]
[null,null,null,null,null,null,null,null,null,null,null,null,{"$f":"IF(O86=\"\",\"\",MAX($M$3:$M85)+1)","v":83},112,"حسن83",null,null,null,{"$f":"IF(M86=\"\",\"\",IF(ISERROR(MATCH($M86,$I:$I,0)),S85,MAX($S$3:$S85)+1))","v":5},""]
[null,null,null,null,null,null,null,null,null,null,null,null,{"$f":"IF(O87=\"\",\"\",MAX($M$3:$M86)+1)","v":84},113,"حسن84",null,null,null,{"$f":"IF(M87=\"\",\"\",IF(ISERROR(MATCH($M87,$I:$I,0)),S86,MAX($S$3:$S86)+1))","v":5},""]
[null,null,null,null,null,null,null,null,null,null,null,null,{"$f":"IF(O88=\"\",\"\",MAX($M$3:$M87)+1)","v":85},114,"حسن85",null,null,null,{"$f":"IF(M88=\"\",\"\",IF(ISERROR(MATCH($M88,$I:$I,0)),S87,MAX($S$3:$S87)+1))","v":5},""]
[null,null,null,null,null,null,null,null,null,null,null,null,{"$f":"IF(O89=\"\",\"\",MAX($M$3:$M88)+1)","v":86},115,"حسن86",null,null,null,{"$f":"IF(M89=\"\",\"\",IF(ISERROR(MATCH($M89,$I:$I,0)),S88,MAX($S$3:$S88)+1))","v":5},""]
[null,null,null,null,null,null,null,null,null,null,null,null,{"$f":"IF(O90=\"\",\"\",MAX($M$3:$M89)+1)","v":87},116,"حسن87",null,null,null,{"$f":"IF(M90=\"\",\"\",IF(ISERROR(MATCH($M90,$I:$I,0)),S89,MAX($S$3:$S89)+1))","v":5},""]
[null,null,null,null,null,null,null,null,null,null,null,null,{"$f":"IF(O91=\"\",\"\",MAX($M$3:$M90)+1)","v":88},117,"حسن88",null,null,null,{"$f":"IF(M91=\"\",\"\",IF(ISERROR(MATCH($M91,$I:$I,0)),S90,MAX($S$3:$S90)+1))","v":5},""]
[null,null,null,null,null,null,null,null,null,null,null,null,{"$f":"IF(O92=\"\",\"\",MAX($M$3:$M91)+1)","v":89},118,"حسن89",null,null,null,{"$f":"IF(M92=\"\",\"\",IF(ISERROR(MATCH($M92,$I:$I,0)),S91,MAX($S$3:$S91)+1))","v":5},""]
[null,null,null,null,null,null,null,null,null,null,null,null,{"$f":"IF(O93=\"\",\"\",MAX($M$3:$M92)+1)","v":90},119,"حسن90",null,null,null,{"$f":"IF(M93=\"\",\"\",IF(ISERROR(MATCH($M93,$I:$I,0)),S92,MAX($S$3:$S92)+1))","v":5},""]
[null,null,null,null,null,null,null,null,null,null,null,null,{"$f":"IF(O94=\"\",\"\",MAX($M$3:$M93)+1)","v":91},120,"حسن91",null,null,null,{"$f":"IF(M94=\"\",\"\",IF(ISERROR(MATCH($M94,$I:$I,0)),S93,MAX($S$3:$S93)+1))","v":5},""]
[null,null,null,null,null,null,null,null,null,null,null,null,{"$f":"IF(O95=\"\",\"\",MAX($M$3:$M94)+1)","v":92},121,"حسن92",null,null,null,{"$f":"IF(M95=\"\",\"\",IF(ISERROR(MATCH($M95,$I:$I,0)),S94,MAX($S$3:$S94)+1))","v":5},""]
[null,null,null,null,null,null,null,null,null,null,null,null,{"$f":"IF(O96=\"\",\"\",MAX($M$3:$M95)+1)","v":93},122,"حسن93",null,null,null,{"$f":"IF(M96=\"\",\"\",IF(ISERROR(MATCH($M96,$I:$I,0)),S95,MAX($S$3:$S95)+1))","v":5},""]
[null,null,null,null,null,null,null,null,null,null,null,null,{"$f":"IF(O97=\"\",\"\",MAX($M$3:$M96)+1)","v":94},123,"حسن94",null,null,null,{"$f":"IF(M97=\"\",\"\",IF(ISERROR(MATCH($M97,$I:$I,0)),S96,MAX($S$3:$S96)+1))","v":5},""]
[null,null,null,null,null,null,null,null,null,null,null,null,{"$f":"IF(O98=\"\",\"\",MAX($M$3:$M97)+1)","v":95},124,"حسن95",null,null,null,{"$f":"IF(M98=\"\",\"\",IF(ISERROR(MATCH($M98,$I:$I,0)),S97,MAX($S$3:$S97)+1))","v":5},""]
[null,null,null,null,null,null,null,null,null,null,null,null,{"$f":"IF(O99=\"\",\"\",MAX($M$3:$M98)+1)","v":96},125,"حسن96",null,null,null,{"$f":"IF(M99=\"\",\"\",IF(ISERROR(MATCH($M99,$I:$I,0)),S98,MAX($S$3:$S98)+1))","v":5},""]
[null,null,null,null,null,null,null,null,null,null,null,null,{"$f":"IF(O100=\"\",\"\",MAX($M$3:$M99)+1)","v":97},126,"حسن97",null,null,null,{"$f":"IF(M100=\"\",\"\",IF(ISERROR(MATCH($M100,$I:$I,0)),S99,MAX($S$3:$S99)+1))","v":5},""]
[null,null,null,null,null,null,null,null,null,null,null,null,{"$f":"IF(O101=\"\",\"\",MAX($M$3:$M100)+1)","v":98},127,"حسن98",null,null,null,{"$f":"IF(M101=\"\",\"\",IF(ISERROR(MATCH($M101,$I:$I,0)),S100,MAX($S$3:$S100)+1))","v":5},""]
[null,null,null,null,null,null,null,null,null,null,null,null,{"$f":"IF(O102=\"\",\"\",MAX($M$3:$M101)+1)","v":99},128,"حسن99",null,null,null,{"$f":"IF(M102=\"\",\"\",IF(ISERROR(MATCH($M102,$I:$I,0)),S101,MAX($S$3:$S101)+1))","v":5},""]
[null,null,null,null,null,null,null,null,null,null,null,null,{"$f":"IF(O103=\"\",\"\",MAX($M$3:$M102)+1)","v":100},129,"حسن100",null,null,null,{"$f":"IF(M103=\"\",\"\",IF(ISERROR(MATCH($M103,$I:$I,0)),S102,MAX($S$3:$S102)+1))","v":5},"نهاية اللجنة"]
[null,null,null,null,null,null,null,null,null,null,null,null,{"$f":"IF(O104=\"\",\"\",MAX($M$3:$M103)+1)","v":101},130,"حسن101",null,null,null,{"$f":"IF(M104=\"\",\"\",IF(ISERROR(MATCH($M104,$I:$I,0)),S103,MAX($S$3:$S103)+1))","v":6},""]
[null,null,null,null,null,null,null,null,null,null,null,null,{"$f":"IF(O105=\"\",\"\",MAX($M$3:$M104)+1)","v":102},131,"حسن102",null,null,null,{"$f":"IF(M105=\"\",\"\",IF(ISERROR(MATCH($M105,$I:$I,0)),S104,MAX($S$3:$S104)+1))","v":6},""]
[null,null,null,null,null,null,null,null,null,null,null,null,{"$f":"IF(O106=\"\",\"\",MAX($M$3:$M105)+1)","v":103},132,"حسن103",null,null,null,{"$f":"IF(M106=\"\",\"\",IF(ISERROR(MATCH($M106,$I:$I,0)),S105,MAX($S$3:$S105)+1))","v":6},""]
[null,null,null,null,null,null,null,null,null,null,null,null,{"$f":"IF(O107=\"\",\"\",MAX($M$3:$M106)+1)","v":104},133,"حسن104",null,null,null,{"$f":"IF(M107=\"\",\"\",IF(ISERROR(MATCH($M107,$I:$I,0)),S106,MAX($S$3:$S106)+1))","v":6},""]
[null,null,null,null,null,null,null,null,null,null,null,null,{"$f":"IF(O108=\"\",\"\",MAX($M$3:$M107)+1)","v":105},134,"حسن105",null,null,null,{"$f":"IF(M108=\"\",\"\",IF(ISERROR(MATCH($M108,$I:$I,0)),S107,MAX($S$3:$S107)+1))","v":6},""]
[null,null,null,null,null,null,null,null,null,null,null,null,{"$f":"IF(O109=\"\",\"\",MAX($M$3:$M108)+1)","v":106},135,"حسن106",null,null,null,{"$f":"IF(M109=\"\",\"\",IF(ISERROR(MATCH($M109,$I:$I,0)),S108,MAX($S$3:$S108)+1))","v":6},""]
[null,null,null,null,null,null,null,null,null,null,null,null,{"$f":"IF(O110=\"\",\"\",MAX($M$3:$M109)+1)","v":107},136,"حسن107",null,null,null,{"$f":"IF(M110=\"\",\"\",IF(ISERROR(MATCH($M110,$I:$I,0)),S109,MAX($S$3:$S109)+1))","v":6},""]
[null,null,null,null,null,null,null,null,null,null,null,null,{"$f":"IF(O111=\"\",\"\",MAX($M$3:$M110)+1)","v":108},137,"حسن108",null,null,null,{"$f":"IF(M111=\"\",\"\",IF(ISERROR(MATCH($M111,$I:$I,0)),S110,MAX($S$3:$S110)+1))","v":6},""]
[null,null,null,null,null,null,null,null,null,null,null,null,{"$f":"IF(O112=\"\",\"\",MAX($M$3:$M111)+1)","v":109},138,"حسن109",null,null,null,{"$f":"IF(M112=\"\",\"\",IF(ISERROR(MATCH($M112,$I:$I,0)),S111,MAX($S$3:$S111)+1))","v":6},""]
[null,null,null,null,null,null,null,null,null,null,null,null,{"$f":"IF(O113=\"\",\"\",MAX($M$3:$M112)+1)","v":110},139,"حسن110",null,null,null,{"$f":"IF(M113=\"\",\"\",IF(ISERROR(MATCH($M113,$I:$I,0)),S112,MAX($S$3:$S112)+1))","v":6},""]
[null,null,null,null,null,null,null,null,null,null,null,null,{"$f":"IF(O114=\"\",\"\",MAX($M$3:$M113)+1)","v":111},140,"حسن111",null,null,null,{"$f":"IF(M114=\"\",\"\",IF(ISERROR(MATCH($M114,$I:$I,0)),S113,MAX($S$3:$S113)+1))","v":6},""]
[null,null,null,null,null,null,null,null,null,null,null,null,{"$f":"IF(O115=\"\",\"\",MAX($M$3:$M114)+1)","v":112},141,"حسن112",null,null,null,{"$f":"IF(M115=\"\",\"\",IF(ISERROR(MATCH($M115,$I:$I,0)),S114,MAX($S$3:$S114)+1))","v":6},""]
[null,null,null,null,null,null,null,null,null,null,null,null,{"$f":"IF(O116=\"\",\"\",MAX($M$3:$M115)+1)","v":113},142,"حسن113",null,null,null,{"$f":"IF(M116=\"\",\"\",IF(ISERROR(MATCH($M116,$I:$I,0)),S115,MAX($S$3:$S115)+1))","v":6},""]
[null,null,null,null,null,null,null,null,null,null,null,null,{"$f":"IF(O117=\"\",\"\",MAX($M$3:$M116)+1)","v":114},143,"حسن114",null,null,null,{"$f":"IF(M117=\"\",\"\",IF(ISERROR(MATCH($M117,$I:$I,0)),S116,MAX($S$3:$S116)+1))","v":6},""]
[null,null,null,null,null,null,null,null,null,null,null,null,{"$f":"IF(O118=\"\",\"\",MAX($M$3:$M117)+1)","v":115},144,"حسن115",null,null,null,{"$f":"IF(M118=\"\",\"\",IF(ISERROR(MATCH($M118,$I:$I,0)),S117,MAX($S$3:$S117)+1))","v":6},""]
[null,null,null,null,null,null,null,null,null,null,null,null,{"$f":"IF(O119=\"\",\"\",MAX($M$3:$M118)+1)","v":116},145,"حسن116",null,null,null,{"$f":"IF(M119=\"\",\"\",IF(ISERROR(MATCH($M119,$I:$I,0)),S118,MAX($S$3:$S118)+1))","v":6},""]
[null,null,null,null,null,null,null,null,null,null,null,null,{"$f":"IF(O120=\"\",\"\",MAX($M$3:$M119)+1)","v":117},146,"حسن117",null,null,null,{"$f":"IF(M120=\"\",\"\",IF(ISERROR(MATCH($M120,$I:$I,0)),S119,MAX($S$3:$S119)+1))","v":6},""]
[null,null,null,null,null,null,null,null,null,null,null,null,{"$f":"IF(O121=\"\",\"\",MAX($M$3:$M120)+1)","v":118},147,"حسن118",null,null,null,{"$f":"IF(M121=\"\",\"\",IF(ISERROR(MATCH($M121,$I:$I,0)),S120,MAX($S$3:$S120)+1))","v":6},""]
[null,null,null,null,null,null,null,null,null,null,null,null,{"$f":"IF(O122=\"\",\"\",MAX($M$3:$M121)+1)","v":119},148,"حسن119",null,null,null,{"$f":"IF(M122=\"\",\"\",IF(ISERROR(MATCH($M122,$I:$I,0)),S121,MAX($S$3:$S121)+1))","v":6},""]
[null,null,null,null,null,null,null,null,null,null,null,null,{"$f":"IF(O123=\"\",\"\",MAX($M$3:$M122)+1)","v":120},149,"حسن120",null,null,null,{"$f":"IF(M123=\"\",\"\",IF(ISERROR(MATCH($M123,$I:$I,0)),S122,MAX($S$3:$S122)+1))","v":6},"نهاية اللجنة"]
[null,null,null,null,null,null,null,null,null,null,null,null,{"$f":"IF(O124=\"\",\"\",MAX($M$3:$M123)+1)","v":121},150,"حسن121",null,null,null,{"$f":"IF(M124=\"\",\"\",IF(ISERROR(MATCH($M124,$I:$I,0)),S123,MAX($S$3:$S123)+1))","v":7},""]
[null,null,null,null,null,null,null,null,null,null,null,null,{"$f":"IF(O125=\"\",\"\",MAX($M$3:$M124)+1)","v":122},151,"حسن122",null,null,null,{"$f":"IF(M125=\"\",\"\",IF(ISERROR(MATCH($M125,$I:$I,0)),S124,MAX($S$3:$S124)+1))","v":7},""]
[null,null,null,null,null,null,null,null,null,null,null,null,{"$f":"IF(O126=\"\",\"\",MAX($M$3:$M125)+1)","v":123},152,"حسن123",null,null,null,{"$f":"IF(M126=\"\",\"\",IF(ISERROR(MATCH($M126,$I:$I,0)),S125,MAX($S$3:$S125)+1))","v":7},""]
[null,null,null,null,null,null,null,null,null,null,null,null,{"$f":"IF(O127=\"\",\"\",MAX($M$3:$M126)+1)","v":124},153,"حسن124",null,null,null,{"$f":"IF(M127=\"\",\"\",IF(ISERROR(MATCH($M127,$I:$I,0)),S126,MAX($S$3:$S126)+1))","v":7},""]
[null,null,null,null,null,null,null,null,null,null,null,null,{"$f":"IF(O128=\"\",\"\",MAX($M$3:$M127)+1)","v":125},154,"حسن125",null,null,null,{"$f":"IF(M128=\"\",\"\",IF(ISERROR(MATCH($M128,$I:$I,0)),S127,MAX($S$3:$S127)+1))","v":7},""]
[null,null,null,null,null,null,null,null,null,null,null,null,{"$f":"IF(O129=\"\",\"\",MAX($M$3:$M128)+1)","v":126},155,"حسن126",null,null,null,{"$f":"IF(M129=\"\",\"\",IF(ISERROR(MATCH($M129,$I:$I,0)),S128,MAX($S$3:$S128)+1))","v":7},""]
[null,null,null,null,null,null,null,null,null,null,null,null,{"$f":"IF(O130=\"\",\"\",MAX($M$3:$M129)+1)","v":127},156,"حسن127",null,null,null,{"$f":"IF(M130=\"\",\"\",IF(ISERROR(MATCH($M130,$I:$I,0)),S129,MAX($S$3:$S129)+1))","v":7},""]
[null,null,null,null,null,null,null,null,null,null,null,null,{"$f":"IF(O131=\"\",\"\",MAX($M$3:$M130)+1)","v":128},157,"حسن128",null,null,null,{"$f":"IF(M131=\"\",\"\",IF(ISERROR(MATCH($M131,$I:$I,0)),S130,MAX($S$3:$S130)+1))","v":7},""]
[null,null,null,null,null,null,null,null,null,null,null,null,{"$f":"IF(O132=\"\",\"\",MAX($M$3:$M131)+1)","v":129},158,"حسن129",null,null,null,{"$f":"IF(M132=\"\",\"\",IF(ISERROR(MATCH($M132,$I:$I,0)),S131,MAX($S$3:$S131)+1))","v":7},""]
[null,null,null,null,null,null,null,null,null,null,null,null,{"$f":"IF(O133=\"\",\"\",MAX($M$3:$M132)+1)","v":130},159,"حسن130",null,null,null,{"$f":"IF(M133=\"\",\"\",IF(ISERROR(MATCH($M133,$I:$I,0)),S132,MAX($S$3:$S132)+1))","v":7},{"$f":"IF(S133=S134,\"\",\"نهاية اللجنة\")","v":""}]
[null,null,null,null,null,null,null,null,null,null,null,null,{"$f":"IF(O134=\"\",\"\",MAX($M$3:$M133)+1)","v":131},{"$f":"IF(M134=\"\",\"\",N133+1)","v":160},"حسن131",null,null,null,{"$f":"IF(M134=\"\",\"\",IF(ISERROR(MATCH($M134,$I:$I,0)),S133,MAX($S$3:$S133)+1))","v":7},""]
[null,null,null,null,null,null,null,null,null,null,null,null,{"$f":"IF(O135=\"\",\"\",MAX($M$3:$M134)+1)","v":132},161,"حسن132",null,null,null,{"$f":"IF(M135=\"\",\"\",IF(ISERROR(MATCH($M135,$I:$I,0)),S134,MAX($S$3:$S134)+1))","v":7},""]
[null,null,null,null,null,null,null,null,null,null,null,null,{"$f":"IF(O136=\"\",\"\",MAX($M$3:$M135)+1)","v":133},162,"حسن133",null,null,null,{"$f":"IF(M136=\"\",\"\",IF(ISERROR(MATCH($M136,$I:$I,0)),S135,MAX($S$3:$S135)+1))","v":7},""]
[null,null,null,null,null,null,null,null,null,null,null,null,{"$f":"IF(O137=\"\",\"\",MAX($M$3:$M136)+1)","v":134},163,"حسن134",null,null,null,{"$f":"IF(M137=\"\",\"\",IF(ISERROR(MATCH($M137,$I:$I,0)),S136,MAX($S$3:$S136)+1))","v":7},""]
[null,null,null,null,null,null,null,null,null,null,null,null,{"$f":"IF(O138=\"\",\"\",MAX($M$3:$M137)+1)","v":135},164,"حسن135",null,null,null,{"$f":"IF(M138=\"\",\"\",IF(ISERROR(MATCH($M138,$I:$I,0)),S137,MAX($S$3:$S137)+1))","v":7},""]
[null,null,null,null,null,null,null,null,null,null,null,null,{"$f":"IF(O139=\"\",\"\",MAX($M$3:$M138)+1)","v":136},165,"حسن136",null,null,null,{"$f":"IF(M139=\"\",\"\",IF(ISERROR(MATCH($M139,$I:$I,0)),S138,MAX($S$3:$S138)+1))","v":7},""]
[null,null,null,null,null,null,null,null,null,null,null,null,{"$f":"IF(O140=\"\",\"\",MAX($M$3:$M139)+1)","v":137},166,"حسن137",null,null,null,{"$f":"IF(M140=\"\",\"\",IF(ISERROR(MATCH($M140,$I:$I,0)),S139,MAX($S$3:$S139)+1))","v":7},""]
[null,null,null,null,null,null,null,null,null,null,null,null,{"$f":"IF(O141=\"\",\"\",MAX($M$3:$M140)+1)","v":138},167,"حسن138",null,null,null,{"$f":"IF(M141=\"\",\"\",IF(ISERROR(MATCH($M141,$I:$I,0)),S140,MAX($S$3:$S140)+1))","v":7},""]
[null,null,null,null,null,null,null,null,null,null,null,null,{"$f":"IF(O142=\"\",\"\",MAX($M$3:$M141)+1)","v":139},168,"حسن139",null,null,null,{"$f":"IF(M142=\"\",\"\",IF(ISERROR(MATCH($M142,$I:$I,0)),S141,MAX($S$3:$S141)+1))","v":7},""]
[null,null,null,null,null,null,null,null,null,null,null,null,{"$f":"IF(O143=\"\",\"\",MAX($M$3:$M142)+1)","v":140},169,"حسن140",null,null,null,{"$f":"IF(M143=\"\",\"\",IF(ISERROR(MATCH($M143,$I:$I,0)),S142,MAX($S$3:$S142)+1))","v":7},"نهاية اللجنة"]
[null,null,null,null,null,null,null,null,null,null,null,null,{"$f":"IF(O144=\"\",\"\",MAX($M$3:$M143)+1)","v":141},170,"حسن141",null,null,null,{"$f":"IF(M144=\"\",\"\",IF(ISERROR(MATCH($M144,$I:$I,0)),S143,MAX($S$3:$S143)+1))","v":8},""]
[null,null,null,null,null,null,null,null,null,null,null,null,{"$f":"IF(O145=\"\",\"\",MAX($M$3:$M144)+1)","v":142},171,"حسن142",null,null,null,{"$f":"IF(M145=\"\",\"\",IF(ISERROR(MATCH($M145,$I:$I,0)),S144,MAX($S$3:$S144)+1))","v":8},""]
[null,null,null,null,null,null,null,null,null,null,null,null,{"$f":"IF(O146=\"\",\"\",MAX($M$3:$M145)+1)","v":143},172,"حسن143",null,null,null,{"$f":"IF(M146=\"\",\"\",IF(ISERROR(MATCH($M146,$I:$I,0)),S145,MAX($S$3:$S145)+1))","v":8},""]
[null,null,null,null,null,null,null,null,null,null,null,null,{"$f":"IF(O147=\"\",\"\",MAX($M$3:$M146)+1)","v":144},173,"حسن144",null,null,null,{"$f":"IF(M147=\"\",\"\",IF(ISERROR(MATCH($M147,$I:$I,0)),S146,MAX($S$3:$S146)+1))","v":8},""]
[null,null,null,null,null,null,null,null,null,null,null,null,{"$f":"IF(O148=\"\",\"\",MAX($M$3:$M147)+1)","v":145},174,"حسن145",null,null,null,{"$f":"IF(M148=\"\",\"\",IF(ISERROR(MATCH($M148,$I:$I,0)),S147,MAX($S$3:$S147)+1))","v":8},""]
[null,null,null,null,null,null,null,null,null,null,null,null,{"$f":"IF(O149=\"\",\"\",MAX($M$3:$M148)+1)","v":146},175,"حسن146",null,null,null,{"$f":"IF(M149=\"\",\"\",IF(ISERROR(MATCH($M149,$I:$I,0)),S148,MAX($S$3:$S148)+1))","v":8},""]
[null,null,null,null,null,null,null,null,null,null,null,null,{"$f":"IF(O150=\"\",\"\",MAX($M$3:$M149)+1)","v":147},176,"حسن147",null,null,null,{"$f":"IF(M150=\"\",\"\",IF(ISERROR(MATCH($M150,$I:$I,0)),S149,MAX($S$3:$S149)+1))","v":8},""]
[null,null,null,null,null,null,null,null,null,null,null,null,{"$f":"IF(O151=\"\",\"\",MAX($M$3:$M150)+1)","v":148},177,"حسن148",null,null,null,{"$f":"IF(M151=\"\",\"\",IF(ISERROR(MATCH($M151,$I:$I,0)),S150,MAX($S$3:$S150)+1))","v":8},""]
[null,null,null,null,null,null,null,null,null,null,null,null,{"$f":"IF(O152=\"\",\"\",MAX($M$3:$M151)+1)","v":149},178,"حسن149",null,null,null,{"$f":"IF(M152=\"\",\"\",IF(ISERROR(MATCH($M152,$I:$I,0)),S151,MAX($S$3:$S151)+1))","v":8},""]
[null,null,null,null,null,null,null,null,null,null,null,null,{"$f":"IF(O153=\"\",\"\",MAX($M$3:$M152)+1)","v":150},179,"حسن150",null,null,null,{"$f":"IF(M153=\"\",\"\",IF(ISERROR(MATCH($M153,$I:$I,0)),S152,MAX($S$3:$S152)+1))","v":8},""]
[null,null,null,null,null,null,null,null,null,null,null,null,{"$f":"IF(O154=\"\",\"\",MAX($M$3:$M153)+1)","v":151},180,"حسن151",null,null,null,{"$f":"IF(M154=\"\",\"\",IF(ISERROR(MATCH($M154,$I:$I,0)),S153,MAX($S$3:$S153)+1))","v":8},""]
[null,null,null,null,null,null,null,null,null,null,null,null,{"$f":"IF(O155=\"\",\"\",MAX($M$3:$M154)+1)","v":152},181,"حسن152",null,null,null,{"$f":"IF(M155=\"\",\"\",IF(ISERROR(MATCH($M155,$I:$I,0)),S154,MAX($S$3:$S154)+1))","v":8},""]
[null,null,null,null,null,null,null,null,null,null,null,null,{"$f":"IF(O156=\"\",\"\",MAX($M$3:$M155)+1)","v":153},182,"حسن153",null,null,null,{"$f":"IF(M156=\"\",\"\",IF(ISERROR(MATCH($M156,$I:$I,0)),S155,MAX($S$3:$S155)+1))","v":8},""]
[null,null,null,null,null,null,null,null,null,null,null,null,{"$f":"IF(O157=\"\",\"\",MAX($M$3:$M156)+1)","v":154},183,"حسن154",null,null,null,{"$f":"IF(M157=\"\",\"\",IF(ISERROR(MATCH($M157,$I:$I,0)),S156,MAX($S$3:$S156)+1))","v":8},""]
[null,null,null,null,null,null,null,null,null,null,null,null,{"$f":"IF(O158=\"\",\"\",MAX($M$3:$M157)+1)","v":155},184,"حسن155",null,null,null,{"$f":"IF(M158=\"\",\"\",IF(ISERROR(MATCH($M158,$I:$I,0)),S157,MAX($S$3:$S157)+1))","v":8},""]
[null,null,null,null,null,null,null,null,null,null,null,null,{"$f":"IF(O159=\"\",\"\",MAX($M$3:$M158)+1)","v":156},185,"حسن156",null,null,null,{"$f":"IF(M159=\"\",\"\",IF(ISERROR(MATCH($M159,$I:$I,0)),S158,MAX($S$3:$S158)+1))","v":8},""]
[null,null,null,null,null,null,null,null,null,null,null,null,{"$f":"IF(O160=\"\",\"\",MAX($M$3:$M159)+1)","v":157},186,"حسن157",null,null,null,{"$f":"IF(M160=\"\",\"\",IF(ISERROR(MATCH($M160,$I:$I,0)),S159,MAX($S$3:$S159)+1))","v":8},""]
[null,null,null,null,null,null,null,null,null,null,null,null,{"$f":"IF(O161=\"\",\"\",MAX($M$3:$M160)+1)","v":158},187,"حسن158",null,null,null,{"$f":"IF(M161=\"\",\"\",IF(ISERROR(MATCH($M161,$I:$I,0)),S160,MAX($S$3:$S160)+1))","v":8},""]
[null,null,null,null,null,null,null,null,null,null,null,null,{"$f":"IF(O162=\"\",\"\",MAX($M$3:$M161)+1)","v":159},188,"حسن159",null,null,null,{"$f":"IF(M162=\"\",\"\",IF(ISERROR(MATCH($M162,$I:$I,0)),S161,MAX($S$3:$S161)+1))","v":8},""]
[null,null,null,null,null,null,null,null,null,null,null,null,{"$f":"IF(O163=\"\",\"\",MAX($M$3:$M162)+1)","v":160},189,"حسن160",null,null,null,{"$f":"IF(M163=\"\",\"\",IF(ISERROR(MATCH($M163,$I:$I,0)),S162,MAX($S$3:$S162)+1))","v":8},"نهاية اللجنة"]
[null,null,null,null,null,null,null,null,null,null,null,null,{"$f":"IF(O164=\"\",\"\",MAX($M$3:$M163)+1)","v":161},190,"حسن161",null,null,null,{"$f":"IF(M164=\"\",\"\",IF(ISERROR(MATCH($M164,$I:$I,0)),S163,MAX($S$3:$S163)+1))","v":9},""]
[null,null,null,null,null,null,null,null,null,null,null,null,{"$f":"IF(O165=\"\",\"\",MAX($M$3:$M164)+1)","v":162},191,"حسن162",null,null,null,{"$f":"IF(M165=\"\",\"\",IF(ISERROR(MATCH($M165,$I:$I,0)),S164,MAX($S$3:$S164)+1))","v":9},""]
[null,null,null,null,null,null,null,null,null,null,null,null,{"$f":"IF(O166=\"\",\"\",MAX($M$3:$M165)+1)","v":163},192,"حسن163",null,null,null,{"$f":"IF(M166=\"\",\"\",IF(ISERROR(MATCH($M166,$I:$I,0)),S165,MAX($S$3:$S165)+1))","v":9},""]
[null,null,null,null,null,null,null,null,null,null,null,null,{"$f":"IF(O167=\"\",\"\",MAX($M$3:$M166)+1)","v":164},193,"حسن164",null,null,null,{"$f":"IF(M167=\"\",\"\",IF(ISERROR(MATCH($M167,$I:$I,0)),S166,MAX($S$3:$S166)+1))","v":9},""]
[null,null,null,null,null,null,null,null,null,null,null,null,{"$f":"IF(O168=\"\",\"\",MAX($M$3:$M167)+1)","v":165},194,"حسن165",null,null,null,{"$f":"IF(M168=\"\",\"\",IF(ISERROR(MATCH($M168,$I:$I,0)),S167,MAX($S$3:$S167)+1))","v":9},""]
[null,null,null,null,null,null,null,null,null,null,null,null,{"$f":"IF(O169=\"\",\"\",MAX($M$3:$M168)+1)","v":166},195,"حسن166",null,null,null,{"$f":"IF(M169=\"\",\"\",IF(ISERROR(MATCH($M169,$I:$I,0)),S168,MAX($S$3:$S168)+1))","v":9},""]
[null,null,null,null,null,null,null,null,null,null,null,null,{"$f":"IF(O170=\"\",\"\",MAX($M$3:$M169)+1)","v":167},196,"حسن167",null,null,null,{"$f":"IF(M170=\"\",\"\",IF(ISERROR(MATCH($M170,$I:$I,0)),S169,MAX($S$3:$S169)+1))","v":9},""]
[null,null,null,null,null,null,null,null,null,null,null,null,{"$f":"IF(O171=\"\",\"\",MAX($M$3:$M170)+1)","v":168},197,"حسن168",null,null,null,{"$f":"IF(M171=\"\",\"\",IF(ISERROR(MATCH($M171,$I:$I,0)),S170,MAX($S$3:$S170)+1))","v":9},""]
[null,null,null,null,null,null,null,null,null,null,null,null,{"$f":"IF(O172=\"\",\"\",MAX($M$3:$M171)+1)","v":169},198,"حسن169",null,null,null,{"$f":"IF(M172=\"\",\"\",IF(ISERROR(MATCH($M172,$I:$I,0)),S171,MAX($S$3:$S171)+1))","v":9},""]
[null,null,null,null,null,null,null,null,null,null,null,null,{"$f":"IF(O173=\"\",\"\",MAX($M$3:$M172)+1)","v":170},199,"حسن170",null,null,null,{"$f":"IF(M173=\"\",\"\",IF(ISERROR(MATCH($M173,$I:$I,0)),S172,MAX($S$3:$S172)+1))","v":9},""]
[null,null,null,null,null,null,null,null,null,null,null,null,{"$f":"IF(O174=\"\",\"\",MAX($M$3:$M173)+1)","v":171},200,"حسن171",null,null,null,{"$f":"IF(M174=\"\",\"\",IF(ISERROR(MATCH($M174,$I:$I,0)),S173,MAX($S$3:$S173)+1))","v":9},""]
[null,null,null,null,null,null,null,null,null,null,null,null,{"$f":"IF(O175=\"\",\"\",MAX($M$3:$M174)+1)","v":172},201,"حسن172",null,null,null,{"$f":"IF(M175=\"\",\"\",IF(ISERROR(MATCH($M175,$I:$I,0)),S174,MAX($S$3:$S174)+1))","v":9},""]
[null,null,null,null,null,null,null,null,null,null,null,null,{"$f":"IF(O176=\"\",\"\",MAX($M$3:$M175)+1)","v":173},202,"حسن173",null,null,null,{"$f":"IF(M176=\"\",\"\",IF(ISERROR(MATCH($M176,$I:$I,0)),S175,MAX($S$3:$S175)+1))","v":9},""]
[null,null,null,null,null,null,null,null,null,null,null,null,{"$f":"IF(O177=\"\",\"\",MAX($M$3:$M176)+1)","v":174},203,"حسن174",null,null,null,{"$f":"IF(M177=\"\",\"\",IF(ISERROR(MATCH($M177,$I:$I,0)),S176,MAX($S$3:$S176)+1))","v":9},""]
[null,null,null,null,null,null,null,null,null,null,null,null,{"$f":"IF(O178=\"\",\"\",MAX($M$3:$M177)+1)","v":175},204,"حسن175",null,null,null,{"$f":"IF(M178=\"\",\"\",IF(ISERROR(MATCH($M178,$I:$I,0)),S177,MAX($S$3:$S177)+1))","v":9},""]
[null,null,null,null,null,null,null,null,null,null,null,null,{"$f":"IF(O179=\"\",\"\",MAX($M$3:$M178)+1)","v":176},205,"حسن176",null,null,null,{"$f":"IF(M179=\"\",\"\",IF(ISERROR(MATCH($M179,$I:$I,0)),S178,MAX($S$3:$S178)+1))","v":9},""]
[null,null,null,null,null,null,null,null,null,null,null,null,{"$f":"IF(O180=\"\",\"\",MAX($M$3:$M179)+1)","v":177},206,"حسن177",null,null,null,{"$f":"IF(M180=\"\",\"\",IF(ISERROR(MATCH($M180,$I:$I,0)),S179,MAX($S$3:$S179)+1))","v":9},""]
[null,null,null,null,null,null,null,null,null,null,null,null,{"$f":"IF(O181=\"\",\"\",MAX($M$3:$M180)+1)","v":178},207,"حسن178",null,null,null,{"$f":"IF(M181=\"\",\"\",IF(ISERROR(MATCH($M181,$I:$I,0)),S180,MAX($S$3:$S180)+1))","v":9},""]
[null,null,null,null,null,null,null,null,null,null,null,null,{"$f":"IF(O182=\"\",\"\",MAX($M$3:$M181)+1)","v":179},208,"حسن179",null,null,null,{"$f":"IF(M182=\"\",\"\",IF(ISERROR(MATCH($M182,$I:$I,0)),S181,MAX($S$3:$S181)+1))","v":9},""]
[null,null,null,null,null,null,null,null,null,null,null,null,{"$f":"IF(O183=\"\",\"\",MAX($M$3:$M182)+1)","v":180},209,"حسن180",null,null,null,{"$f":"IF(M183=\"\",\"\",IF(ISERROR(MATCH($M183,$I:$I,0)),S182,MAX($S$3:$S182)+1))","v":9},"نهاية اللجنة"]
[null,null,null,null,null,null,null,null,null,null,null,null,{"$f":"IF(O184=\"\",\"\",MAX($M$3:$M183)+1)","v":181},210,"حسن181",null,null,null,{"$f":"IF(M184=\"\",\"\",IF(ISERROR(MATCH($M184,$I:$I,0)),S183,MAX($S$3:$S183)+1))","v":10},""]
[null,null,null,null,null,null,null,null,null,null,null,null,{"$f":"IF(O185=\"\",\"\",MAX($M$3:$M184)+1)","v":182},211,"حسن182",null,null,null,{"$f":"IF(M185=\"\",\"\",IF(ISERROR(MATCH($M185,$I:$I,0)),S184,MAX($S$3:$S184)+1))","v":10},""]
[null,null,null,null,null,null,null,null,null,null,null,null,{"$f":"IF(O186=\"\",\"\",MAX($M$3:$M185)+1)","v":183},212,"حسن183",null,null,null,{"$f":"IF(M186=\"\",\"\",IF(ISERROR(MATCH($M186,$I:$I,0)),S185,MAX($S$3:$S185)+1))","v":10},""]
[null,null,null,null,null,null,null,null,null,null,null,null,{"$f":"IF(O187=\"\",\"\",MAX($M$3:$M186)+1)","v":184},213,"حسن184",null,null,null,{"$f":"IF(M187=\"\",\"\",IF(ISERROR(MATCH($M187,$I:$I,0)),S186,MAX($S$3:$S186)+1))","v":10},""]
[null,null,null,null,null,null,null,null,null,null,null,null,{"$f":"IF(O188=\"\",\"\",MAX($M$3:$M187)+1)","v":185},214,"حسن185",null,null,null,{"$f":"IF(M188=\"\",\"\",IF(ISERROR(MATCH($M188,$I:$I,0)),S187,MAX($S$3:$S187)+1))","v":10},""]
[null,null,null,null,null,null,null,null,null,null,null,null,{"$f":"IF(O189=\"\",\"\",MAX($M$3:$M188)+1)","v":186},215,"حسن186",null,null,null,{"$f":"IF(M189=\"\",\"\",IF(ISERROR(MATCH($M189,$I:$I,0)),S188,MAX($S$3:$S188)+1))","v":10},""]
[null,null,null,null,null,null,null,null,null,null,null,null,{"$f":"IF(O190=\"\",\"\",MAX($M$3:$M189)+1)","v":187},216,"حسن187",null,null,null,{"$f":"IF(M190=\"\",\"\",IF(ISERROR(MATCH($M190,$I:$I,0)),S189,MAX($S$3:$S189)+1))","v":10},""]
[null,null,null,null,null,null,null,null,null,null,null,null,{"$f":"IF(O191=\"\",\"\",MAX($M$3:$M190)+1)","v":188},217,"حسن188",null,null,null,{"$f":"IF(M191=\"\",\"\",IF(ISERROR(MATCH($M191,$I:$I,0)),S190,MAX($S$3:$S190)+1))","v":10},""]
[null,null,null,null,null,null,null,null,null,null,null,null,{"$f":"IF(O192=\"\",\"\",MAX($M$3:$M191)+1)","v":189},218,"حسن189",null,null,null,{"$f":"IF(M192=\"\",\"\",IF(ISERROR(MATCH($M192,$I:$I,0)),S191,MAX($S$3:$S191)+1))","v":10},""]
[null,null,null,null,null,null,null,null,null,null,null,null,{"$f":"IF(O193=\"\",\"\",MAX($M$3:$M192)+1)","v":190},219,"حسن190",null,null,null,{"$f":"IF(M193=\"\",\"\",IF(ISERROR(MATCH($M193,$I:$I,0)),S192,MAX($S$3:$S192)+1))","v":10},""]
[null,null,null,null,null,null,null,null,null,null,null,null,{"$f":"IF(O194=\"\",\"\",MAX($M$3:$M193)+1)","v":191},220,"حسن191",null,null,null,{"$f":"IF(M194=\"\",\"\",IF(ISERROR(MATCH($M194,$I:$I,0)),S193,MAX($S$3:$S193)+1))","v":10},""]
[null,null,null,null,null,null,null,null,null,null,null,null,{"$f":"IF(O195=\"\",\"\",MAX($M$3:$M194)+1)","v":192},221,"حسن192",null,null,null,{"$f":"IF(M195=\"\",\"\",IF(ISERROR(MATCH($M195,$I:$I,0)),S194,MAX($S$3:$S194)+1))","v":10},""]
[null,null,null,null,null,null,null,null,null,null,null,null,{"$f":"IF(O196=\"\",\"\",MAX($M$3:$M195)+1)","v":193},222,"حسن193",null,null,null,{"$f":"IF(M196=\"\",\"\",IF(ISERROR(MATCH($M196,$I:$I,0)),S195,MAX($S$3:$S195)+1))","v":10},""]
[null,null,null,null,null,null,null,null,null,null,null,null,{"$f":"IF(O197=\"\",\"\",MAX($M$3:$M196)+1)","v":194},223,"حسن194",null,null,null,{"$f":"IF(M197=\"\",\"\",IF(ISERROR(MATCH($M197,$I:$I,0)),S196,MAX($S$3:$S196)+1))","v":10},{"$f":"IF(S197=S198,\"\",\"نهاية اللجنة\")","v":""}]
[null,null,null,null,null,null,null,null,null,null,null,null,{"$f":"IF(O198=\"\",\"\",MAX($M$3:$M197)+1)","v":195},{"$f":"IF(M198=\"\",\"\",N197+1)","v":224},"حسن195",null,null,null,{"$f":"IF(M198=\"\",\"\",IF(ISERROR(MATCH($M198,$I:$I,0)),S197,MAX($S$3:$S197)+1))","v":10},""]
[null,null,null,null,null,null,null,null,null,null,null,null,{"$f":"IF(O199=\"\",\"\",MAX($M$3:$M198)+1)","v":196},225,"حسن196",null,null,null,{"$f":"IF(M199=\"\",\"\",IF(ISERROR(MATCH($M199,$I:$I,0)),S198,MAX($S$3:$S198)+1))","v":10},""]
[null,null,null,null,null,null,null,null,null,null,null,null,{"$f":"IF(O200=\"\",\"\",MAX($M$3:$M199)+1)","v":197},226,"حسن197",null,null,null,{"$f":"IF(M200=\"\",\"\",IF(ISERROR(MATCH($M200,$I:$I,0)),S199,MAX($S$3:$S199)+1))","v":10},""]
[null,null,null,null,null,null,null,null,null,null,null,null,{"$f":"IF(O201=\"\",\"\",MAX($M$3:$M200)+1)","v":198},227,"حسن198",null,null,null,{"$f":"IF(M201=\"\",\"\",IF(ISERROR(MATCH($M201,$I:$I,0)),S200,MAX($S$3:$S200)+1))","v":10},""]
[null,null,null,null,null,null,null,null,null,null,null,null,{"$f":"IF(O202=\"\",\"\",MAX($M$3:$M201)+1)","v":199},228,"حسن199",null,null,null,{"$f":"IF(M202=\"\",\"\",IF(ISERROR(MATCH($M202,$I:$I,0)),S201,MAX($S$3:$S201)+1))","v":10},""]
[null,null,null,null,null,null,null,null,null,null,null,null,{"$f":"IF(O203=\"\",\"\",MAX($M$3:$M202)+1)","v":200},229,"حسن200",null,null,null,{"$f":"IF(M203=\"\",\"\",IF(ISERROR(MATCH($M203,$I:$I,0)),S202,MAX($S$3:$S202)+1))","v":10},"نهاية اللجنة"]
[null,null,null,null,null,null,null,null,null,null,null,null,{"$f":"IF(O204=\"\",\"\",MAX($M$3:$M203)+1)","v":201},230,"حسن201",null,null,null,{"$f":"IF(M204=\"\",\"\",IF(ISERROR(MATCH($M204,$I:$I,0)),S203,MAX($S$3:$S203)+1))","v":11},""]
[null,null,null,null,null,null,null,null,null,null,null,null,{"$f":"IF(O205=\"\",\"\",MAX($M$3:$M204)+1)","v":202},231,"حسن202",null,null,null,{"$f":"IF(M205=\"\",\"\",IF(ISERROR(MATCH($M205,$I:$I,0)),S204,MAX($S$3:$S204)+1))","v":11},""]
[null,null,null,null,null,null,null,null,null,null,null,null,{"$f":"IF(O206=\"\",\"\",MAX($M$3:$M205)+1)","v":203},232,"حسن203",null,null,null,{"$f":"IF(M206=\"\",\"\",IF(ISERROR(MATCH($M206,$I:$I,0)),S205,MAX($S$3:$S205)+1))","v":11},""]
[null,null,null,null,null,null,null,null,null,null,null,null,{"$f":"IF(O207=\"\",\"\",MAX($M$3:$M206)+1)","v":204},233,"حسن204",null,null,null,{"$f":"IF(M207=\"\",\"\",IF(ISERROR(MATCH($M207,$I:$I,0)),S206,MAX($S$3:$S206)+1))","v":11},""]
[null,null,null,null,null,null,null,null,null,null,null,null,{"$f":"IF(O208=\"\",\"\",MAX($M$3:$M207)+1)","v":205},234,"حسن205",null,null,null,{"$f":"IF(M208=\"\",\"\",IF(ISERROR(MATCH($M208,$I:$I,0)),S207,MAX($S$3:$S207)+1))","v":11},""]
[null,null,null,null,null,null,null,null,null,null,null,null,{"$f":"IF(O209=\"\",\"\",MAX($M$3:$M208)+1)","v":206},235,"حسن206",null,null,null,{"$f":"IF(M209=\"\",\"\",IF(ISERROR(MATCH($M209,$I:$I,0)),S208,MAX($S$3:$S208)+1))","v":11},""]
[null,null,null,null,null,null,null,null,null,null,null,null,{"$f":"IF(O210=\"\",\"\",MAX($M$3:$M209)+1)","v":207},236,"حسن207",null,null,null,{"$f":"IF(M210=\"\",\"\",IF(ISERROR(MATCH($M210,$I:$I,0)),S209,MAX($S$3:$S209)+1))","v":11},""]
[null,null,null,null,null,null,null,null,null,null,null,null,{"$f":"IF(O211=\"\",\"\",MAX($M$3:$M210)+1)","v":208},237,"حسن208",null,null,null,{"$f":"IF(M211=\"\",\"\",IF(ISERROR(MATCH($M211,$I:$I,0)),S210,MAX($S$3:$S210)+1))","v":11},""]
[null,null,null,null,null,null,null,null,null,null,null,null,{"$f":"IF(O212=\"\",\"\",MAX($M$3:$M211)+1)","v":209},238,"حسن209",null,null,null,{"$f":"IF(M212=\"\",\"\",IF(ISERROR(MATCH($M212,$I:$I,0)),S211,MAX($S$3:$S211)+1))","v":11},""]
[null,null,null,null,null,null,null,null,null,null,null,null,{"$f":"IF(O213=\"\",\"\",MAX($M$3:$M212)+1)","v":210},239,"حسن210",null,null,null,{"$f":"IF(M213=\"\",\"\",IF(ISERROR(MATCH($M213,$I:$I,0)),S212,MAX($S$3:$S212)+1))","v":11},""]
[null,null,null,null,null,null,null,null,null,null,null,null,{"$f":"IF(O214=\"\",\"\",MAX($M$3:$M213)+1)","v":211},240,"حسن211",null,null,null,{"$f":"IF(M214=\"\",\"\",IF(ISERROR(MATCH($M214,$I:$I,0)),S213,MAX($S$3:$S213)+1))","v":11},""]
[null,null,null,null,null,null,null,null,null,null,null,null,{"$f":"IF(O215=\"\",\"\",MAX($M$3:$M214)+1)","v":212},241,"حسن212",null,null,null,{"$f":"IF(M215=\"\",\"\",IF(ISERROR(MATCH($M215,$I:$I,0)),S214,MAX($S$3:$S214)+1))","v":11},""]
[null,null,null,null,null,null,null,null,null,null,null,null,{"$f":"IF(O216=\"\",\"\",MAX($M$3:$M215)+1)","v":213},242,"حسن213",null,null,null,{"$f":"IF(M216=\"\",\"\",IF(ISERROR(MATCH($M216,$I:$I,0)),S215,MAX($S$3:$S215)+1))","v":11},""]
[null,null,null,null,null,null,null,null,null,null,null,null,{"$f":"IF(O217=\"\",\"\",MAX($M$3:$M216)+1)","v":214},243,"حسن214",null,null,null,{"$f":"IF(M217=\"\",\"\",IF(ISERROR(MATCH($M217,$I:$I,0)),S216,MAX($S$3:$S216)+1))","v":11},""]
[null,null,null,null,null,null,null,null,null,null,null,null,{"$f":"IF(O218=\"\",\"\",MAX($M$3:$M217)+1)","v":215},244,"حسن215",null,null,null,{"$f":"IF(M218=\"\",\"\",IF(ISERROR(MATCH($M218,$I:$I,0)),S217,MAX($S$3:$S217)+1))","v":11},""]
[null,null,null,null,null,null,null,null,null,null,null,null,{"$f":"IF(O219=\"\",\"\",MAX($M$3:$M218)+1)","v":216},245,"حسن216",null,null,null,{"$f":"IF(M219=\"\",\"\",IF(ISERROR(MATCH($M219,$I:$I,0)),S218,MAX($S$3:$S218)+1))","v":11},""]
[null,null,null,null,null,null,null,null,null,null,null,null,{"$f":"IF(O220=\"\",\"\",MAX($M$3:$M219)+1)","v":217},246,"حسن217",null,null,null,{"$f":"IF(M220=\"\",\"\",IF(ISERROR(MATCH($M220,$I:$I,0)),S219,MAX($S$3:$S219)+1))","v":11},""]
[null,null,null,null,null,null,null,null,null,null,null,null,{"$f":"IF(O221=\"\",\"\",MAX($M$3:$M220)+1)","v":218},247,"حسن218",null,null,null,{"$f":"IF(M221=\"\",\"\",IF(ISERROR(MATCH($M221,$I:$I,0)),S220,MAX($S$3:$S220)+1))","v":11},""]
[null,null,null,null,null,null,null,null,null,null,null,null,{"$f":"IF(O222=\"\",\"\",MAX($M$3:$M221)+1)","v":219},248,"حسن219",null,null,null,{"$f":"IF(M222=\"\",\"\",IF(ISERROR(MATCH($M222,$I:$I,0)),S221,MAX($S$3:$S221)+1))","v":11},""]
[null,null,null,null,null,null,null,null,null,null,null,null,{"$f":"IF(O223=\"\",\"\",MAX($M$3:$M222)+1)","v":220},249,"حسن220",null,null,null,{"$f":"IF(M223=\"\",\"\",IF(ISERROR(MATCH($M223,$I:$I,0)),S222,MAX($S$3:$S222)+1))","v":11},"نهاية اللجنة"]
[null,null,null,null,null,null,null,null,null,null,null,null,{"$f":"IF(O224=\"\",\"\",MAX($M$3:$M223)+1)","v":221},250,"حسن221",null,null,null,{"$f":"IF(M224=\"\",\"\",IF(ISERROR(MATCH($M224,$I:$I,0)),S223,MAX($S$3:$S223)+1))","v":12},""]
[null,null,null,null,null,null,null,null,null,null,null,null,{"$f":"IF(O225=\"\",\"\",MAX($M$3:$M224)+1)","v":222},251,"حسن222",null,null,null,{"$f":"IF(M225=\"\",\"\",IF(ISERROR(MATCH($M225,$I:$I,0)),S224,MAX($S$3:$S224)+1))","v":12},""]
[null,null,null,null,null,null,null,null,null,null,null,null,{"$f":"IF(O226=\"\",\"\",MAX($M$3:$M225)+1)","v":223},252,"حسن223",null,null,null,{"$f":"IF(M226=\"\",\"\",IF(ISERROR(MATCH($M226,$I:$I,0)),S225,MAX($S$3:$S225)+1))","v":12},""]
[null,null,null,null,null,null,null,null,null,null,null,null,{"$f":"IF(O227=\"\",\"\",MAX($M$3:$M226)+1)","v":224},253,"حسن224",null,null,null,{"$f":"IF(M227=\"\",\"\",IF(ISERROR(MATCH($M227,$I:$I,0)),S226,MAX($S$3:$S226)+1))","v":12},""]
[null,null,null,null,null,null,null,null,null,null,null,null,{"$f":"IF(O228=\"\",\"\",MAX($M$3:$M227)+1)","v":225},254,"حسن225",null,null,null,{"$f":"IF(M228=\"\",\"\",IF(ISERROR(MATCH($M228,$I:$I,0)),S227,MAX($S$3:$S227)+1))","v":12},""]
[null,null,null,null,null,null,null,null,null,null,null,null,{"$f":"IF(O229=\"\",\"\",MAX($M$3:$M228)+1)","v":226},255,"حسن226",null,null,null,{"$f":"IF(M229=\"\",\"\",IF(ISERROR(MATCH($M229,$I:$I,0)),S228,MAX($S$3:$S228)+1))","v":12},""]
[null,null,null,null,null,null,null,null,null,null,null,null,{"$f":"IF(O230=\"\",\"\",MAX($M$3:$M229)+1)","v":227},256,"حسن227",null,null,null,{"$f":"IF(M230=\"\",\"\",IF(ISERROR(MATCH($M230,$I:$I,0)),S229,MAX($S$3:$S229)+1))","v":12},""]
[null,null,null,null,null,null,null,null,null,null,null,null,{"$f":"IF(O231=\"\",\"\",MAX($M$3:$M230)+1)","v":228},257,"حسن228",null,null,null,{"$f":"IF(M231=\"\",\"\",IF(ISERROR(MATCH($M231,$I:$I,0)),S230,MAX($S$3:$S230)+1))","v":12},""]
[null,null,null,null,null,null,null,null,null,null,null,null,{"$f":"IF(O232=\"\",\"\",MAX($M$3:$M231)+1)","v":229},258,"حسن229",null,null,null,{"$f":"IF(M232=\"\",\"\",IF(ISERROR(MATCH($M232,$I:$I,0)),S231,MAX($S$3:$S231)+1))","v":12},""]
[null,null,null,null,null,null,null,null,null,null,null,null,{"$f":"IF(O233=\"\",\"\",MAX($M$3:$M232)+1)","v":230},259,"حسن230",null,null,null,{"$f":"IF(M233=\"\",\"\",IF(ISERROR(MATCH($M233,$I:$I,0)),S232,MAX($S$3:$S232)+1))","v":12},""]
[null,null,null,null,null,null,null,null,null,null,null,null,{"$f":"IF(O234=\"\",\"\",MAX($M$3:$M233)+1)","v":231},260,"حسن231",null,null,null,{"$f":"IF(M234=\"\",\"\",IF(ISERROR(MATCH($M234,$I:$I,0)),S233,MAX($S$3:$S233)+1))","v":12},""]
[null,null,null,null,null,null,null,null,null,null,null,null,{"$f":"IF(O235=\"\",\"\",MAX($M$3:$M234)+1)","v":232},261,"حسن232",null,null,null,{"$f":"IF(M235=\"\",\"\",IF(ISERROR(MATCH($M235,$I:$I,0)),S234,MAX($S$3:$S234)+1))","v":12},""]
[null,null,null,null,null,null,null,null,null,null,null,null,{"$f":"IF(O236=\"\",\"\",MAX($M$3:$M235)+1)","v":233},262,"حسن233",null,null,null,{"$f":"IF(M236=\"\",\"\",IF(ISERROR(MATCH($M236,$I:$I,0)),S235,MAX($S$3:$S235)+1))","v":12},""]
[null,null,null,null,null,null,null,null,null,null,null,null,{"$f":"IF(O237=\"\",\"\",MAX($M$3:$M236)+1)","v":234},263,"حسن234",null,null,null,{"$f":"IF(M237=\"\",\"\",IF(ISERROR(MATCH($M237,$I:$I,0)),S236,MAX($S$3:$S236)+1))","v":12},""]
[null,null,null,null,null,null,null,null,null,null,null,null,{"$f":"IF(O238=\"\",\"\",MAX($M$3:$M237)+1)","v":235},264,"حسن235",null,null,null,{"$f":"IF(M238=\"\",\"\",IF(ISERROR(MATCH($M238,$I:$I,0)),S237,MAX($S$3:$S237)+1))","v":12},""]
[null,null,null,null,null,null,null,null,null,null,null,null,{"$f":"IF(O239=\"\",\"\",MAX($M$3:$M238)+1)","v":236},265,"حسن236",null,null,null,{"$f":"IF(M239=\"\",\"\",IF(ISERROR(MATCH($M239,$I:$I,0)),S238,MAX($S$3:$S238)+1))","v":12},""]
[null,null,null,null,null,null,null,null,null,null,null,null,{"$f":"IF(O240=\"\",\"\",MAX($M$3:$M239)+1)","v":237},266,"حسن237",null,null,null,{"$f":"IF(M240=\"\",\"\",IF(ISERROR(MATCH($M240,$I:$I,0)),S239,MAX($S$3:$S239)+1))","v":12},""]
[null,null,null,null,null,null,null,null,null,null,null,null,{"$f":"IF(O241=\"\",\"\",MAX($M$3:$M240)+1)","v":238},267,"حسن238",null,null,null,{"$f":"IF(M241=\"\",\"\",IF(ISERROR(MATCH($M241,$I:$I,0)),S240,MAX($S$3:$S240)+1))","v":12},""]
[null,null,null,null,null,null,null,null,null,null,null,null,{"$f":"IF(O242=\"\",\"\",MAX($M$3:$M241)+1)","v":239},268,"حسن239",null,null,null,{"$f":"IF(M242=\"\",\"\",IF(ISERROR(MATCH($M242,$I:$I,0)),S241,MAX($S$3:$S241)+1))","v":12},""]
[null,null,null,null,null,null,null,null,null,null,null,null,{"$f":"IF(O243=\"\",\"\",MAX($M$3:$M242)+1)","v":240},269,"حسن240",null,null,null,{"$f":"IF(M243=\"\",\"\",IF(ISERROR(MATCH($M243,$I:$I,0)),S242,MAX($S$3:$S242)+1))","v":12},"نهاية اللجنة"]
[null,null,null,null,null,null,null,null,null,null,null,null,{"$f":"IF(O244=\"\",\"\",MAX($M$3:$M243)+1)","v":241},270,"حسن241",null,null,null,{"$f":"IF(M244=\"\",\"\",IF(ISERROR(MATCH($M244,$I:$I,0)),S243,MAX($S$3:$S243)+1))","v":13},""]
[null,null,null,null,null,null,null,null,null,null,null,null,{"$f":"IF(O245=\"\",\"\",MAX($M$3:$M244)+1)","v":242},271,"حسن242",null,null,null,{"$f":"IF(M245=\"\",\"\",IF(ISERROR(MATCH($M245,$I:$I,0)),S244,MAX($S$3:$S244)+1))","v":13},""]
[null,null,null,null,null,null,null,null,null,null,null,null,{"$f":"IF(O246=\"\",\"\",MAX($M$3:$M245)+1)","v":243},272,"حسن243",null,null,null,{"$f":"IF(M246=\"\",\"\",IF(ISERROR(MATCH($M246,$I:$I,0)),S245,MAX($S$3:$S245)+1))","v":13},""]
[null,null,null,null,null,null,null,null,null,null,null,null,{"$f":"IF(O247=\"\",\"\",MAX($M$3:$M246)+1)","v":244},273,"حسن244",null,null,null,{"$f":"IF(M247=\"\",\"\",IF(ISERROR(MATCH($M247,$I:$I,0)),S246,MAX($S$3:$S246)+1))","v":13},""]
[null,null,null,null,null,null,null,null,null,null,null,null,{"$f":"IF(O248=\"\",\"\",MAX($M$3:$M247)+1)","v":245},274,"حسن245",null,null,null,{"$f":"IF(M248=\"\",\"\",IF(ISERROR(MATCH($M248,$I:$I,0)),S247,MAX($S$3:$S247)+1))","v":13},""]
[null,null,null,null,null,null,null,null,null,null,null,null,{"$f":"IF(O249=\"\",\"\",MAX($M$3:$M248)+1)","v":246},275,"حسن246",null,null,null,{"$f":"IF(M249=\"\",\"\",IF(ISERROR(MATCH($M249,$I:$I,0)),S248,MAX($S$3:$S248)+1))","v":13},""]
[null,null,null,null,null,null,null,null,null,null,null,null,{"$f":"IF(O250=\"\",\"\",MAX($M$3:$M249)+1)","v":247},276,"حسن247",null,null,null,{"$f":"IF(M250=\"\",\"\",IF(ISERROR(MATCH($M250,$I:$I,0)),S249,MAX($S$3:$S249)+1))","v":13},""]
[null,null,null,null,null,null,null,null,null,null,null,null,{"$f":"IF(O251=\"\",\"\",MAX($M$3:$M250)+1)","v":248},277,"حسن248",null,null,null,{"$f":"IF(M251=\"\",\"\",IF(ISERROR(MATCH($M251,$I:$I,0)),S250,MAX($S$3:$S250)+1))","v":13},""]
[null,null,null,null,null,null,null,null,null,null,null,null,{"$f":"IF(O252=\"\",\"\",MAX($M$3:$M251)+1)","v":249},278,"حسن249",null,null,null,{"$f":"IF(M252=\"\",\"\",IF(ISERROR(MATCH($M252,$I:$I,0)),S251,MAX($S$3:$S251)+1))","v":13},""]
[null,null,null,null,null,null,null,null,null,null,null,null,{"$f":"IF(O253=\"\",\"\",MAX($M$3:$M252)+1)","v":250},279,"حسن250",null,null,null,{"$f":"IF(M253=\"\",\"\",IF(ISERROR(MATCH($M253,$I:$I,0)),S252,MAX($S$3:$S252)+1))","v":13},""]
[null,null,null,null,null,null,null,null,null,null,null,null,{"$f":"IF(O254=\"\",\"\",MAX($M$3:$M253)+1)","v":251},280,"حسن251",null,null,null,{"$f":"IF(M254=\"\",\"\",IF(ISERROR(MATCH($M254,$I:$I,0)),S253,MAX($S$3:$S253)+1))","v":13},""]
[null,null,null,null,null,null,null,null,null,null,null,null,{"$f":"IF(O255=\"\",\"\",MAX($M$3:$M254)+1)","v":252},281,"حسن252",null,null,null,{"$f":"IF(M255=\"\",\"\",IF(ISERROR(MATCH($M255,$I:$I,0)),S254,MAX($S$3:$S254)+1))","v":13},""]
[null,null,null,null,null,null,null,null,null,null,null,null,{"$f":"IF(O256=\"\",\"\",MAX($M$3:$M255)+1)","v":253},282,"حسن253",null,null,null,{"$f":"IF(M256=\"\",\"\",IF(ISERROR(MATCH($M256,$I:$I,0)),S255,MAX($S$3:$S255)+1))","v":13},""]
[null,null,null,null,null,null,null,null,null,null,null,null,{"$f":"IF(O257=\"\",\"\",MAX($M$3:$M256)+1)","v":254},283,"حسن254",null,null,null,{"$f":"IF(M257=\"\",\"\",IF(ISERROR(MATCH($M257,$I:$I,0)),S256,MAX($S$3:$S256)+1))","v":13},""]
[null,null,null,null,null,null,null,null,null,null,null,null,{"$f":"IF(O258=\"\",\"\",MAX($M$3:$M257)+1)","v":255},284,"حسن255",null,null,null,{"$f":"IF(M258=\"\",\"\",IF(ISERROR(MATCH($M258,$I:$I,0)),S257,MAX($S$3:$S257)+1))","v":13},""]
[null,null,null,null,null,null,null,null,null,null,null,null,{"$f":"IF(O259=\"\",\"\",MAX($M$3:$M258)+1)","v":256},285,"حسن256",null,null,null,{"$f":"IF(M259=\"\",\"\",IF(ISERROR(MATCH($M259,$I:$I,0)),S258,MAX($S$3:$S258)+1))","v":13},""]
[null,null,null,null,null,null,null,null,null,null,null,null,{"$f":"IF(O260=\"\",\"\",MAX($M$3:$M259)+1)","v":257},286,"حسن257",null,null,null,{"$f":"IF(M260=\"\",\"\",IF(ISERROR(MATCH($M260,$I:$I,0)),S259,MAX($S$3:$S259)+1))","v":13},""]
[null,null,null,null,null,null,null,null,null,null,null,null,{"$f":"IF(O261=\"\",\"\",MAX($M$3:$M260)+1)","v":258},287,"حسن258",null,null,null,{"$f":"IF(M261=\"\",\"\",IF(ISERROR(MATCH($M261,$I:$I,0)),S260,MAX($S$3:$S260)+1))","v":13},{"$f":"IF(S261=S262,\"\",\"نهاية اللجنة\")","v":""}]
[null,null,null,null,null,null,null,null,null,null,null,null,{"$f":"IF(O262=\"\",\"\",MAX($M$3:$M261)+1)","v":259},{"$f":"IF(M262=\"\",\"\",N261+1)","v":288},"حسن259",null,null,null,{"$f":"IF(M262=\"\",\"\",IF(ISERROR(MATCH($M262,$I:$I,0)),S261,MAX($S$3:$S261)+1))","v":13},""]
[null,null,null,null,null,null,null,null,null,null,null,null,{"$f":"IF(O263=\"\",\"\",MAX($M$3:$M262)+1)","v":260},289,"حسن260",null,null,null,{"$f":"IF(M263=\"\",\"\",IF(ISERROR(MATCH($M263,$I:$I,0)),S262,MAX($S$3:$S262)+1))","v":13},"نهاية اللجنة"]
[null,null,null,null,null,null,null,null,null,null,null,null,{"$f":"IF(O264=\"\",\"\",MAX($M$3:$M263)+1)","v":261},290,"حسن261",null,null,null,{"$f":"IF(M264=\"\",\"\",IF(ISERROR(MATCH($M264,$I:$I,0)),S263,MAX($S$3:$S263)+1))","v":14},""]
[null,null,null,null,null,null,null,null,null,null,null,null,{"$f":"IF(O265=\"\",\"\",MAX($M$3:$M264)+1)","v":262},291,"حسن262",null,null,null,{"$f":"IF(M265=\"\",\"\",IF(ISERROR(MATCH($M265,$I:$I,0)),S264,MAX($S$3:$S264)+1))","v":14},""]
[null,null,null,null,null,null,null,null,null,null,null,null,{"$f":"IF(O266=\"\",\"\",MAX($M$3:$M265)+1)","v":263},292,"حسن263",null,null,null,{"$f":"IF(M266=\"\",\"\",IF(ISERROR(MATCH($M266,$I:$I,0)),S265,MAX($S$3:$S265)+1))","v":14},""]
[null,null,null,null,null,null,null,null,null,null,null,null,{"$f":"IF(O267=\"\",\"\",MAX($M$3:$M266)+1)","v":264},293,"حسن264",null,null,null,{"$f":"IF(M267=\"\",\"\",IF(ISERROR(MATCH($M267,$I:$I,0)),S266,MAX($S$3:$S266)+1))","v":14},""]
[null,null,null,null,null,null,null,null,null,null,null,null,{"$f":"IF(O268=\"\",\"\",MAX($M$3:$M267)+1)","v":265},294,"حسن265",null,null,null,{"$f":"IF(M268=\"\",\"\",IF(ISERROR(MATCH($M268,$I:$I,0)),S267,MAX($S$3:$S267)+1))","v":14},""]
[null,null,null,null,null,null,null,null,null,null,null,null,{"$f":"IF(O269=\"\",\"\",MAX($M$3:$M268)+1)","v":266},295,"حسن266",null,null,null,{"$f":"IF(M269=\"\",\"\",IF(ISERROR(MATCH($M269,$I:$I,0)),S268,MAX($S$3:$S268)+1))","v":14},""]
[null,null,null,null,null,null,null,null,null,null,null,null,{"$f":"IF(O270=\"\",\"\",MAX($M$3:$M269)+1)","v":267},296,"حسن267",null,null,null,{"$f":"IF(M270=\"\",\"\",IF(ISERROR(MATCH($M270,$I:$I,0)),S269,MAX($S$3:$S269)+1))","v":14},""]
[null,null,null,null,null,null,null,null,null,null,null,null,{"$f":"IF(O271=\"\",\"\",MAX($M$3:$M270)+1)","v":268},297,"حسن268",null,null,null,{"$f":"IF(M271=\"\",\"\",IF(ISERROR(MATCH($M271,$I:$I,0)),S270,MAX($S$3:$S270)+1))","v":14},""]
[null,null,null,null,null,null,null,null,null,null,null,null,{"$f":"IF(O272=\"\",\"\",MAX($M$3:$M271)+1)","v":269},298,"حسن269",null,null,null,{"$f":"IF(M272=\"\",\"\",IF(ISERROR(MATCH($M272,$I:$I,0)),S271,MAX($S$3:$S271)+1))","v":14},""]
[null,null,null,null,null,null,null,null,null,null,null,null,{"$f":"IF(O273=\"\",\"\",MAX($M$3:$M272)+1)","v":270},299,"حسن270",null,null,null,{"$f":"IF(M273=\"\",\"\",IF(ISERROR(MATCH($M273,$I:$I,0)),S272,MAX($S$3:$S272)+1))","v":14},""]
[null,null,null,null,null,null,null,null,null,null,null,null,{"$f":"IF(O274=\"\",\"\",MAX($M$3:$M273)+1)","v":271},300,"حسن271",null,null,null,{"$f":"IF(M274=\"\",\"\",IF(ISERROR(MATCH($M274,$I:$I,0)),S273,MAX($S$3:$S273)+1))","v":14},""]
[null,null,null,null,null,null,null,null,null,null,null,null,{"$f":"IF(O275=\"\",\"\",MAX($M$3:$M274)+1)","v":272},301,"حسن272",null,null,null,{"$f":"IF(M275=\"\",\"\",IF(ISERROR(MATCH($M275,$I:$I,0)),S274,MAX($S$3:$S274)+1))","v":14},""]
[null,null,null,null,null,null,null,null,null,null,null,null,{"$f":"IF(O276=\"\",\"\",MAX($M$3:$M275)+1)","v":273},302,"حسن273",null,null,null,{"$f":"IF(M276=\"\",\"\",IF(ISERROR(MATCH($M276,$I:$I,0)),S275,MAX($S$3:$S275)+1))","v":14},""]
[null,null,null,null,null,null,null,null,null,null,null,null,{"$f":"IF(O277=\"\",\"\",MAX($M$3:$M276)+1)","v":274},303,"حسن274",null,null,null,{"$f":"IF(M277=\"\",\"\",IF(ISERROR(MATCH($M277,$I:$I,0)),S276,MAX($S$3:$S276)+1))","v":14},""]
[null,null,null,null,null,null,null,null,null,null,null,null,{"$f":"IF(O278=\"\",\"\",MAX($M$3:$M277)+1)","v":275},304,"حسن275",null,null,null,{"$f":"IF(M278=\"\",\"\",IF(ISERROR(MATCH($M278,$I:$I,0)),S277,MAX($S$3:$S277)+1))","v":14},""]
[null,null,null,null,null,null,null,null,null,null,null,null,{"$f":"IF(O279=\"\",\"\",MAX($M$3:$M278)+1)","v":276},305,"حسن276",null,null,null,{"$f":"IF(M279=\"\",\"\",IF(ISERROR(MATCH($M279,$I:$I,0)),S278,MAX($S$3:$S278)+1))","v":14},""]
[null,null,null,null,null,null,null,null,null,null,null,null,{"$f":"IF(O280=\"\",\"\",MAX($M$3:$M279)+1)","v":277},306,"حسن277",null,null,null,{"$f":"IF(M280=\"\",\"\",IF(ISERROR(MATCH($M280,$I:$I,0)),S279,MAX($S$3:$S279)+1))","v":14},""]
[null,null,null,null,null,null,null,null,null,null,null,null,{"$f":"IF(O281=\"\",\"\",MAX($M$3:$M280)+1)","v":278},307,"حسن278",null,null,null,{"$f":"IF(M281=\"\",\"\",IF(ISERROR(MATCH($M281,$I:$I,0)),S280,MAX($S$3:$S280)+1))","v":14},""]
[null,null,null,null,null,null,null,null,null,null,null,null,{"$f":"IF(O282=\"\",\"\",MAX($M$3:$M281)+1)","v":279},308,"حسن279",null,null,null,{"$f":"IF(M282=\"\",\"\",IF(ISERROR(MATCH($M282,$I:$I,0)),S281,MAX($S$3:$S281)+1))","v":14},""]
[null,null,null,null,null,null,null,null,null,null,null,null,{"$f":"IF(O283=\"\",\"\",MAX($M$3:$M282)+1)","v":280},309,"حسن280",null,null,null,{"$f":"IF(M283=\"\",\"\",IF(ISERROR(MATCH($M283,$I:$I,0)),S282,MAX($S$3:$S282)+1))","v":14},"نهاية اللجنة"]
[null,null,null,null,null,null,null,null,null,null,null,null,{"$f":"IF(O284=\"\",\"\",MAX($M$3:$M283)+1)","v":281},310,"حسن281",null,null,null,{"$f":"IF(M284=\"\",\"\",IF(ISERROR(MATCH($M284,$I:$I,0)),S283,MAX($S$3:$S283)+1))","v":15},""]
[null,null,null,null,null,null,null,null,null,null,null,null,{"$f":"IF(O285=\"\",\"\",MAX($M$3:$M284)+1)","v":282},311,"حسن282",null,null,null,{"$f":"IF(M285=\"\",\"\",IF(ISERROR(MATCH($M285,$I:$I,0)),S284,MAX($S$3:$S284)+1))","v":15},""]
[null,null,null,null,null,null,null,null,null,null,null,null,{"$f":"IF(O286=\"\",\"\",MAX($M$3:$M285)+1)","v":283},312,"حسن283",null,null,null,{"$f":"IF(M286=\"\",\"\",IF(ISERROR(MATCH($M286,$I:$I,0)),S285,MAX($S$3:$S285)+1))","v":15},""]
[null,null,null,null,null,null,null,null,null,null,null,null,{"$f":"IF(O287=\"\",\"\",MAX($M$3:$M286)+1)","v":284},313,"حسن284",null,null,null,{"$f":"IF(M287=\"\",\"\",IF(ISERROR(MATCH($M287,$I:$I,0)),S286,MAX($S$3:$S286)+1))","v":15},""]
[null,null,null,null,null,null,null,null,null,null,null,null,{"$f":"IF(O288=\"\",\"\",MAX($M$3:$M287)+1)","v":285},314,"حسن285",null,null,null,{"$f":"IF(M288=\"\",\"\",IF(ISERROR(MATCH($M288,$I:$I,0)),S287,MAX($S$3:$S287)+1))","v":15},""]
[null,null,null,null,null,null,null,null,null,null,null,null,{"$f":"IF(O289=\"\",\"\",MAX($M$3:$M288)+1)","v":286},315,"حسن286",null,null,null,{"$f":"IF(M289=\"\",\"\",IF(ISERROR(MATCH($M289,$I:$I,0)),S288,MAX($S$3:$S288)+1))","v":15},""]
[null,null,null,null,null,null,null,null,null,null,null,null,{"$f":"IF(O290=\"\",\"\",MAX($M$3:$M289)+1)","v":287},316,"حسن287",null,null,null,{"$f":"IF(M290=\"\",\"\",IF(ISERROR(MATCH($M290,$I:$I,0)),S289,MAX($S$3:$S289)+1))","v":15},""]
[null,null,null,null,null,null,null,null,null,null,null,null,{"$f":"IF(O291=\"\",\"\",MAX($M$3:$M290)+1)","v":288},317,"حسن288",null,null,null,{"$f":"IF(M291=\"\",\"\",IF(ISERROR(MATCH($M291,$I:$I,0)),S290,MAX($S$3:$S290)+1))","v":15},""]
[null,null,null,null,null,null,null,null,null,null,null,null,{"$f":"IF(O292=\"\",\"\",MAX($M$3:$M291)+1)","v":289},318,"حسن289",null,null,null,{"$f":"IF(M292=\"\",\"\",IF(ISERROR(MATCH($M292,$I:$I,0)),S291,MAX($S$3:$S291)+1))","v":15},""]
[null,null,null,null,null,null,null,null,null,null,null,null,{"$f":"IF(O293=\"\",\"\",MAX($M$3:$M292)+1)","v":290},319,"حسن290",null,null,null,{"$f":"IF(M293=\"\",\"\",IF(ISERROR(MATCH($M293,$I:$I,0)),S292,MAX($S$3:$S292)+1))","v":15},""]
[null,null,null,null,null,null,null,null,null,null,null,null,{"$f":"IF(O294=\"\",\"\",MAX($M$3:$M293)+1)","v":291},320,"حسن291",null,null,null,{"$f":"IF(M294=\"\",\"\",IF(ISERROR(MATCH($M294,$I:$I,0)),S293,MAX($S$3:$S293)+1))","v":15},""]
[null,null,null,null,null,null,null,null,null,null,null,null,{"$f":"IF(O295=\"\",\"\",MAX($M$3:$M294)+1)","v":292},321,"حسن292",null,null,null,{"$f":"IF(M295=\"\",\"\",IF(ISERROR(MATCH($M295,$I:$I,0)),S294,MAX($S$3:$S294)+1))","v":15},""]
[null,null,null,null,null,null,null,null,null,null,null,null,{"$f":"IF(O296=\"\",\"\",MAX($M$3:$M295)+1)","v":293},322,"حسن293",null,null,null,{"$f":"IF(M296=\"\",\"\",IF(ISERROR(MATCH($M296,$I:$I,0)),S295,MAX($S$3:$S295)+1))","v":15},""]
[null,null,null,null,null,null,null,null,null,null,null,null,{"$f":"IF(O297=\"\",\"\",MAX($M$3:$M296)+1)","v":294},323,"حسن294",null,null,null,{"$f":"IF(M297=\"\",\"\",IF(ISERROR(MATCH($M297,$I:$I,0)),S296,MAX($S$3:$S296)+1))","v":15},""]
[null,null,null,null,null,null,null,null,null,null,null,null,{"$f":"IF(O298=\"\",\"\",MAX($M$3:$M297)+1)","v":295},324,"حسن295",null,null,null,{"$f":"IF(M298=\"\",\"\",IF(ISERROR(MATCH($M298,$I:$I,0)),S297,MAX($S$3:$S297)+1))","v":15},""]
[null,null,null,null,null,null,null,null,null,null,null,null,{"$f":"IF(O299=\"\",\"\",MAX($M$3:$M298)+1)","v":296},325,"حسن296",null,null,null,{"$f":"IF(M299=\"\",\"\",IF(ISERROR(MATCH($M299,$I:$I,0)),S298,MAX($S$3:$S298)+1))","v":15},""]
[null,null,null,null,null,null,null,null,null,null,null,null,{"$f":"IF(O300=\"\",\"\",MAX($M$3:$M299)+1)","v":297},326,"حسن297",null,null,null,{"$f":"IF(M300=\"\",\"\",IF(ISERROR(MATCH($M300,$I:$I,0)),S299,MAX($S$3:$S299)+1))","v":15},""]
[null,null,null,null,null,null,null,null,null,null,null,null,{"$f":"IF(O301=\"\",\"\",MAX($M$3:$M300)+1)","v":298},327,"حسن298",null,null,null,{"$f":"IF(M301=\"\",\"\",IF(ISERROR(MATCH($M301,$I:$I,0)),S300,MAX($S$3:$S300)+1))","v":15},""]
[null,null,null,null,null,null,null,null,null,null,null,null,{"$f":"IF(O302=\"\",\"\",MAX($M$3:$M301)+1)","v":299},328,"حسن299",null,null,null,{"$f":"IF(M302=\"\",\"\",IF(ISERROR(MATCH($M302,$I:$I,0)),S301,MAX($S$3:$S301)+1))","v":15},""]
[null,null,null,null,null,null,null,null,null,null,null,null,{"$f":"IF(O303=\"\",\"\",MAX($M$3:$M302)+1)","v":300},329,"حسن300",null,null,null,{"$f":"IF(M303=\"\",\"\",IF(ISERROR(MATCH($M303,$I:$I,0)),S302,MAX($S$3:$S302)+1))","v":15},"نهاية اللجنة"]
[null,null,null,null,null,null,null,null,null,null,null,null,{"$f":"IF(O304=\"\",\"\",MAX($M$3:$M303)+1)","v":301},330,"حسن301",null,null,null,{"$f":"IF(M304=\"\",\"\",IF(ISERROR(MATCH($M304,$I:$I,0)),S303,MAX($S$3:$S303)+1))","v":16},""]
[null,null,null,null,null,null,null,null,null,null,null,null,{"$f":"IF(O305=\"\",\"\",MAX($M$3:$M304)+1)","v":302},331,"حسن302",null,null,null,{"$f":"IF(M305=\"\",\"\",IF(ISERROR(MATCH($M305,$I:$I,0)),S304,MAX($S$3:$S304)+1))","v":16},""]
[null,null,null,null,null,null,null,null,null,null,null,null,{"$f":"IF(O306=\"\",\"\",MAX($M$3:$M305)+1)","v":303},332,"حسن303",null,null,null,{"$f":"IF(M306=\"\",\"\",IF(ISERROR(MATCH($M306,$I:$I,0)),S305,MAX($S$3:$S305)+1))","v":16},""]
[null,null,null,null,null,null,null,null,null,null,null,null,{"$f":"IF(O307=\"\",\"\",MAX($M$3:$M306)+1)","v":304},333,"حسن304",null,null,null,{"$f":"IF(M307=\"\",\"\",IF(ISERROR(MATCH($M307,$I:$I,0)),S306,MAX($S$3:$S306)+1))","v":16},""]
[null,null,null,null,null,null,null,null,null,null,null,null,{"$f":"IF(O308=\"\",\"\",MAX($M$3:$M307)+1)","v":305},334,"حسن305",null,null,null,{"$f":"IF(M308=\"\",\"\",IF(ISERROR(MATCH($M308,$I:$I,0)),S307,MAX($S$3:$S307)+1))","v":16},""]
[null,null,null,null,null,null,null,null,null,null,null,null,{"$f":"IF(O309=\"\",\"\",MAX($M$3:$M308)+1)","v":306},335,"حسن306",null,null,null,{"$f":"IF(M309=\"\",\"\",IF(ISERROR(MATCH($M309,$I:$I,0)),S308,MAX($S$3:$S308)+1))","v":16},""]
[null,null,null,null,null,null,null,null,null,null,null,null,{"$f":"IF(O310=\"\",\"\",MAX($M$3:$M309)+1)","v":307},336,"حسن307",null,null,null,{"$f":"IF(M310=\"\",\"\",IF(ISERROR(MATCH($M310,$I:$I,0)),S309,MAX($S$3:$S309)+1))","v":16},""]
[null,null,null,null,null,null,null,null,null,null,null,null,{"$f":"IF(O311=\"\",\"\",MAX($M$3:$M310)+1)","v":308},337,"حسن308",null,null,null,{"$f":"IF(M311=\"\",\"\",IF(ISERROR(MATCH($M311,$I:$I,0)),S310,MAX($S$3:$S310)+1))","v":16},""]
[null,null,null,null,null,null,null,null,null,null,null,null,{"$f":"IF(O312=\"\",\"\",MAX($M$3:$M311)+1)","v":309},338,"حسن309",null,null,null,{"$f":"IF(M312=\"\",\"\",IF(ISERROR(MATCH($M312,$I:$I,0)),S311,MAX($S$3:$S311)+1))","v":16},""]
[null,null,null,null,null,null,null,null,null,null,null,null,{"$f":"IF(O313=\"\",\"\",MAX($M$3:$M312)+1)","v":310},339,"حسن310",null,null,null,{"$f":"IF(M313=\"\",\"\",IF(ISERROR(MATCH($M313,$I:$I,0)),S312,MAX($S$3:$S312)+1))","v":16},""]
[null,null,null,null,null,null,null,null,null,null,null,null,{"$f":"IF(O314=\"\",\"\",MAX($M$3:$M313)+1)","v":311},340,"حسن311",null,null,null,{"$f":"IF(M314=\"\",\"\",IF(ISERROR(MATCH($M314,$I:$I,0)),S313,MAX($S$3:$S313)+1))","v":16},""]
[null,null,null,null,null,null,null,null,null,null,null,null,{"$f":"IF(O315=\"\",\"\",MAX($M$3:$M314)+1)","v":312},341,"حسن312",null,null,null,{"$f":"IF(M315=\"\",\"\",IF(ISERROR(MATCH($M315,$I:$I,0)),S314,MAX($S$3:$S314)+1))","v":16},""]
[null,null,null,null,null,null,null,null,null,null,null,null,{"$f":"IF(O316=\"\",\"\",MAX($M$3:$M315)+1)","v":313},342,"حسن313",null,null,null,{"$f":"IF(M316=\"\",\"\",IF(ISERROR(MATCH($M316,$I:$I,0)),S315,MAX($S$3:$S315)+1))","v":16},""]
[null,null,null,null,null,null,null,null,null,null,null,null,{"$f":"IF(O317=\"\",\"\",MAX($M$3:$M316)+1)","v":314},343,"حسن314",null,null,null,{"$f":"IF(M317=\"\",\"\",IF(ISERROR(MATCH($M317,$I:$I,0)),S316,MAX($S$3:$S316)+1))","v":16},""]
[null,null,null,null,null,null,null,null,null,null,null,null,{"$f":"IF(O318=\"\",\"\",MAX($M$3:$M317)+1)","v":315},344,"حسن315",null,null,null,{"$f":"IF(M318=\"\",\"\",IF(ISERROR(MATCH($M318,$I:$I,0)),S317,MAX($S$3:$S317)+1))","v":16},""]
[null,null,null,null,null,null,null,null,null,null,null,null,{"$f":"IF(O319=\"\",\"\",MAX($M$3:$M318)+1)","v":316},345,"حسن316",null,null,null,{"$f":"IF(M319=\"\",\"\",IF(ISERROR(MATCH($M319,$I:$I,0)),S318,MAX($S$3:$S318)+1))","v":16},""]
[null,null,null,null,null,null,null,null,null,null,null,null,{"$f":"IF(O320=\"\",\"\",MAX($M$3:$M319)+1)","v":317},346,"حسن317",null,null,null,{"$f":"IF(M320=\"\",\"\",IF(ISERROR(MATCH($M320,$I:$I,0)),S319,MAX($S$3:$S319)+1))","v":16},""]
[null,null,null,null,null,null,null,null,null,null,null,null,{"$f":"IF(O321=\"\",\"\",MAX($M$3:$M320)+1)","v":318},347,"حسن318",null,null,null,{"$f":"IF(M321=\"\",\"\",IF(ISERROR(MATCH($M321,$I:$I,0)),S320,MAX($S$3:$S320)+1))","v":16},""]
[null,null,null,null,null,null,null,null,null,null,null,null,{"$f":"IF(O322=\"\",\"\",MAX($M$3:$M321)+1)","v":319},348,"حسن319",null,null,null,{"$f":"IF(M322=\"\",\"\",IF(ISERROR(MATCH($M322,$I:$I,0)),S321,MAX($S$3:$S321)+1))","v":16},""]
[null,null,null,null,null,null,null,null,null,null,null,null,{"$f":"IF(O323=\"\",\"\",MAX($M$3:$M322)+1)","v":320},349,"حسن320",null,null,null,{"$f":"IF(M323=\"\",\"\",IF(ISERROR(MATCH($M323,$I:$I,0)),S322,MAX($S$3:$S322)+1))","v":16},"نهاية اللجنة"]
[null,null,null,null,null,null,null,null,null,null,null,null,{"$f":"IF(O324=\"\",\"\",MAX($M$3:$M323)+1)","v":321},350,"حسن321",null,null,null,{"$f":"IF(M324=\"\",\"\",IF(ISERROR(MATCH($M324,$I:$I,0)),S323,MAX($S$3:$S323)+1))","v":17},""]
[null,null,null,null,null,null,null,null,null,null,null,null,{"$f":"IF(O325=\"\",\"\",MAX($M$3:$M324)+1)","v":322},351,"حسن322",null,null,null,{"$f":"IF(M325=\"\",\"\",IF(ISERROR(MATCH($M325,$I:$I,0)),S324,MAX($S$3:$S324)+1))","v":17},{"$f":"IF(S325=S326,\"\",\"نهاية اللجنة\")","v":""}]
[null,null,null,null,null,null,null,null,null,null,null,null,{"$f":"IF(O326=\"\",\"\",MAX($M$3:$M325)+1)","v":323},{"$f":"IF(M326=\"\",\"\",N325+1)","v":352},"حسن323",null,null,null,{"$f":"IF(M326=\"\",\"\",IF(ISERROR(MATCH($M326,$I:$I,0)),S325,MAX($S$3:$S325)+1))","v":17},""]
[null,null,null,null,null,null,null,null,null,null,null,null,{"$f":"IF(O327=\"\",\"\",MAX($M$3:$M326)+1)","v":324},353,"حسن324",null,null,null,{"$f":"IF(M327=\"\",\"\",IF(ISERROR(MATCH($M327,$I:$I,0)),S326,MAX($S$3:$S326)+1))","v":17},""]
[null,null,null,null,null,null,null,null,null,null,null,null,{"$f":"IF(O328=\"\",\"\",MAX($M$3:$M327)+1)","v":325},354,"حسن325",null,null,null,{"$f":"IF(M328=\"\",\"\",IF(ISERROR(MATCH($M328,$I:$I,0)),S327,MAX($S$3:$S327)+1))","v":17},""]
[null,null,null,null,null,null,null,null,null,null,null,null,{"$f":"IF(O329=\"\",\"\",MAX($M$3:$M328)+1)","v":326},355,"حسن326",null,null,null,{"$f":"IF(M329=\"\",\"\",IF(ISERROR(MATCH($M329,$I:$I,0)),S328,MAX($S$3:$S328)+1))","v":17},""]
[null,null,null,null,null,null,null,null,null,null,null,null,{"$f":"IF(O330=\"\",\"\",MAX($M$3:$M329)+1)","v":327},356,"حسن327",null,null,null,{"$f":"IF(M330=\"\",\"\",IF(ISERROR(MATCH($M330,$I:$I,0)),S329,MAX($S$3:$S329)+1))","v":17},""]
[null,null,null,null,null,null,null,null,null,null,null,null,{"$f":"IF(O331=\"\",\"\",MAX($M$3:$M330)+1)","v":328},357,"حسن328",null,null,null,{"$f":"IF(M331=\"\",\"\",IF(ISERROR(MATCH($M331,$I:$I,0)),S330,MAX($S$3:$S330)+1))","v":17},""]
[null,null,null,null,null,null,null,null,null,null,null,null,{"$f":"IF(O332=\"\",\"\",MAX($M$3:$M331)+1)","v":329},358,"حسن329",null,null,null,{"$f":"IF(M332=\"\",\"\",IF(ISERROR(MATCH($M332,$I:$I,0)),S331,MAX($S$3:$S331)+1))","v":17},""]
[null,null,null,null,null,null,null,null,null,null,null,null,{"$f":"IF(O333=\"\",\"\",MAX($M$3:$M332)+1)","v":330},359,"حسن330",null,null,null,{"$f":"IF(M333=\"\",\"\",IF(ISERROR(MATCH($M333,$I:$I,0)),S332,MAX($S$3:$S332)+1))","v":17},""]
[null,null,null,null,null,null,null,null,null,null,null,null,{"$f":"IF(O334=\"\",\"\",MAX($M$3:$M333)+1)","v":331},360,"حسن331",null,null,null,{"$f":"IF(M334=\"\",\"\",IF(ISERROR(MATCH($M334,$I:$I,0)),S333,MAX($S$3:$S333)+1))","v":17},""]
[null,null,null,null,null,null,null,null,null,null,null,null,{"$f":"IF(O335=\"\",\"\",MAX($M$3:$M334)+1)","v":332},361,"حسن332",null,null,null,{"$f":"IF(M335=\"\",\"\",IF(ISERROR(MATCH($M335,$I:$I,0)),S334,MAX($S$3:$S334)+1))","v":17},""]
[null,null,null,null,null,null,null,null,null,null,null,null,{"$f":"IF(O336=\"\",\"\",MAX($M$3:$M335)+1)","v":333},362,"حسن333",null,null,null,{"$f":"IF(M336=\"\",\"\",IF(ISERROR(MATCH($M336,$I:$I,0)),S335,MAX($S$3:$S335)+1))","v":17},""]
[null,null,null,null,null,null,null,null,null,null,null,null,{"$f":"IF(O337=\"\",\"\",MAX($M$3:$M336)+1)","v":334},363,"حسن334",null,null,null,{"$f":"IF(M337=\"\",\"\",IF(ISERROR(MATCH($M337,$I:$I,0)),S336,MAX($S$3:$S336)+1))","v":17},""]
[null,null,null,null,null,null,null,null,null,null,null,null,{"$f":"IF(O338=\"\",\"\",MAX($M$3:$M337)+1)","v":335},364,"حسن335",null,null,null,{"$f":"IF(M338=\"\",\"\",IF(ISERROR(MATCH($M338,$I:$I,0)),S337,MAX($S$3:$S337)+1))","v":17},""]
[null,null,null,null,null,null,null,null,null,null,null,null,{"$f":"IF(O339=\"\",\"\",MAX($M$3:$M338)+1)","v":336},365,"حسن336",null,null,null,{"$f":"IF(M339=\"\",\"\",IF(ISERROR(MATCH($M339,$I:$I,0)),S338,MAX($S$3:$S338)+1))","v":17},""]
[null,null,null,null,null,null,null,null,null,null,null,null,{"$f":"IF(O340=\"\",\"\",MAX($M$3:$M339)+1)","v":337},366,"حسن337",null,null,null,{"$f":"IF(M340=\"\",\"\",IF(ISERROR(MATCH($M340,$I:$I,0)),S339,MAX($S$3:$S339)+1))","v":17},""]
[null,null,null,null,null,null,null,null,null,null,null,null,{"$f":"IF(O341=\"\",\"\",MAX($M$3:$M340)+1)","v":338},367,"حسن338",null,null,null,{"$f":"IF(M341=\"\",\"\",IF(ISERROR(MATCH($M341,$I:$I,0)),S340,MAX($S$3:$S340)+1))","v":17},""]
[null,null,null,null,null,null,null,null,null,null,null,null,{"$f":"IF(O342=\"\",\"\",MAX($M$3:$M341)+1)","v":339},368,"حسن339",null,null,null,{"$f":"IF(M342=\"\",\"\",IF(ISERROR(MATCH($M342,$I:$I,0)),S341,MAX($S$3:$S341)+1))","v":17},""]
[null,null,null,null,null,null,null,null,null,null,null,null,{"$f":"IF(O343=\"\",\"\",MAX($M$3:$M342)+1)","v":340},369,"حسن340",null,null,null,{"$f":"IF(M343=\"\",\"\",IF(ISERROR(MATCH($M343,$I:$I,0)),S342,MAX($S$3:$S342)+1))","v":17},"نهاية اللجنة"]
[null,null,null,null,null,null,null,null,null,null,null,null,{"$f":"IF(O344=\"\",\"\",MAX($M$3:$M343)+1)","v":341},370,"حسن341",null,null,null,{"$f":"IF(M344=\"\",\"\",IF(ISERROR(MATCH($M344,$I:$I,0)),S343,MAX($S$3:$S343)+1))","v":18},""]
[null,null,null,null,null,null,null,null,null,null,null,null,{"$f":"IF(O345=\"\",\"\",MAX($M$3:$M344)+1)","v":342},371,"حسن342",null,null,null,{"$f":"IF(M345=\"\",\"\",IF(ISERROR(MATCH($M345,$I:$I,0)),S344,MAX($S$3:$S344)+1))","v":18},""]
[null,null,null,null,null,null,null,null,null,null,null,null,{"$f":"IF(O346=\"\",\"\",MAX($M$3:$M345)+1)","v":343},372,"حسن343",null,null,null,{"$f":"IF(M346=\"\",\"\",IF(ISERROR(MATCH($M346,$I:$I,0)),S345,MAX($S$3:$S345)+1))","v":18},""]
[null,null,null,null,null,null,null,null,null,null,null,null,{"$f":"IF(O347=\"\",\"\",MAX($M$3:$M346)+1)","v":344},373,"حسن344",null,null,null,{"$f":"IF(M347=\"\",\"\",IF(ISERROR(MATCH($M347,$I:$I,0)),S346,MAX($S$3:$S346)+1))","v":18},""]
[null,null,null,null,null,null,null,null,null,null,null,null,{"$f":"IF(O348=\"\",\"\",MAX($M$3:$M347)+1)","v":345},374,"حسن345",null,null,null,{"$f":"IF(M348=\"\",\"\",IF(ISERROR(MATCH($M348,$I:$I,0)),S347,MAX($S$3:$S347)+1))","v":18},""]
[null,null,null,null,null,null,null,null,null,null,null,null,{"$f":"IF(O349=\"\",\"\",MAX($M$3:$M348)+1)","v":346},375,"حسن346",null,null,null,{"$f":"IF(M349=\"\",\"\",IF(ISERROR(MATCH($M349,$I:$I,0)),S348,MAX($S$3:$S348)+1))","v":18},""]
[null,null,null,null,null,null,null,null,null,null,null,null,{"$f":"IF(O350=\"\",\"\",MAX($M$3:$M349)+1)","v":347},376,"حسن347",null,null,null,{"$f":"IF(M350=\"\",\"\",IF(ISERROR(MATCH($M350,$I:$I,0)),S349,MAX($S$3:$S349)+1))","v":18},""]
[null,null,null,null,null,null,null,null,null,null,null,null,{"$f":"IF(O351=\"\",\"\",MAX($M$3:$M350)+1)","v":348},377,"حسن348",null,null,null,{"$f":"IF(M351=\"\",\"\",IF(ISERROR(MATCH($M351,$I:$I,0)),S350,MAX($S$3:$S350)+1))","v":18},""]
[null,null,null,null,null,null,null,null,null,null,null,null,{"$f":"IF(O352=\"\",\"\",MAX($M$3:$M351)+1)","v":349},378,"حسن349",null,null,null,{"$f":"IF(M352=\"\",\"\",IF(ISERROR(MATCH($M352,$I:$I,0)),S351,MAX($S$3:$S351)+1))","v":18},""]
[null,null,null,null,null,null,null,null,null,null,null,null,{"$f":"IF(O353=\"\",\"\",MAX($M$3:$M352)+1)","v":350},379,"حسن350",null,null,null,{"$f":"IF(M353=\"\",\"\",IF(ISERROR(MATCH($M353,$I:$I,0)),S352,MAX($S$3:$S352)+1))","v":18},""]
[null,null,null,null,null,null,null,null,null,null,null,null,{"$f":"IF(O354=\"\",\"\",MAX($M$3:$M353)+1)","v":351},380,"حسن351",null,null,null,{"$f":"IF(M354=\"\",\"\",IF(ISERROR(MATCH($M354,$I:$I,0)),S353,MAX($S$3:$S353)+1))","v":18},""]
[null,null,null,null,null,null,null,null,null,null,null,null,{"$f":"IF(O355=\"\",\"\",MAX($M$3:$M354)+1)","v":352},381,"حسن352",null,null,null,{"$f":"IF(M355=\"\",\"\",IF(ISERROR(MATCH($M355,$I:$I,0)),S354,MAX($S$3:$S354)+1))","v":18},""]
[null,null,null,null,null,null,null,null,null,null,null,null,{"$f":"IF(O356=\"\",\"\",MAX($M$3:$M355)+1)","v":353},382,"حسن353",null,null,null,{"$f":"IF(M356=\"\",\"\",IF(ISERROR(MATCH($M356,$I:$I,0)),S355,MAX($S$3:$S355)+1))","v":18},""]
[null,null,null,null,null,null,null,null,null,null,null,null,{"$f":"IF(O357=\"\",\"\",MAX($M$3:$M356)+1)","v":354},383,"حسن354",null,null,null,{"$f":"IF(M357=\"\",\"\",IF(ISERROR(MATCH($M357,$I:$I,0)),S356,MAX($S$3:$S356)+1))","v":18},""]
[null,null,null,null,null,null,null,null,null,null,null,null,{"$f":"IF(O358=\"\",\"\",MAX($M$3:$M357)+1)","v":355},384,"حسن355",null,null,null,{"$f":"IF(M358=\"\",\"\",IF(ISERROR(MATCH($M358,$I:$I,0)),S357,MAX($S$3:$S357)+1))","v":18},""]
[null,null,null,null,null,null,null,null,null,null,null,null,{"$f":"IF(O359=\"\",\"\",MAX($M$3:$M358)+1)","v":356},385,"حسن356",null,null,null,{"$f":"IF(M359=\"\",\"\",IF(ISERROR(MATCH($M359,$I:$I,0)),S358,MAX($S$3:$S358)+1))","v":18},""]
[null,null,null,null,null,null,null,null,null,null,null,null,{"$f":"IF(O360=\"\",\"\",MAX($M$3:$M359)+1)","v":357},386,"حسن357",null,null,null,{"$f":"IF(M360=\"\",\"\",IF(ISERROR(MATCH($M360,$I:$I,0)),S359,MAX($S$3:$S359)+1))","v":18},""]
[null,null,null,null,null,null,null,null,null,null,null,null,{"$f":"IF(O361=\"\",\"\",MAX($M$3:$M360)+1)","v":358},387,"حسن358",null,null,null,{"$f":"IF(M361=\"\",\"\",IF(ISERROR(MATCH($M361,$I:$I,0)),S360,MAX($S$3:$S360)+1))","v":18},""]
[null,null,null,null,null,null,null,null,null,null,null,null,{"$f":"IF(O362=\"\",\"\",MAX($M$3:$M361)+1)","v":359},388,"حسن359",null,null,null,{"$f":"IF(M362=\"\",\"\",IF(ISERROR(MATCH($M362,$I:$I,0)),S361,MAX($S$3:$S361)+1))","v":18},""]
[null,null,null,null,null,null,null,null,null,null,null,null,{"$f":"IF(O363=\"\",\"\",MAX($M$3:$M362)+1)","v":360},389,"حسن360",null,null,null,{"$f":"IF(M363=\"\",\"\",IF(ISERROR(MATCH($M363,$I:$I,0)),S362,MAX($S$3:$S362)+1))","v":18},"نهاية اللجنة"]
[null,null,null,null,null,null,null,null,null,null,null,null,{"$f":"IF(O364=\"\",\"\",MAX($M$3:$M363)+1)","v":361},390,"حسن361",null,null,null,{"$f":"IF(M364=\"\",\"\",IF(ISERROR(MATCH($M364,$I:$I,0)),S363,MAX($S$3:$S363)+1))","v":19},""]
[null,null,null,null,null,null,null,null,null,null,null,null,{"$f":"IF(O365=\"\",\"\",MAX($M$3:$M364)+1)","v":362},391,"حسن362",null,null,null,{"$f":"IF(M365=\"\",\"\",IF(ISERROR(MATCH($M365,$I:$I,0)),S364,MAX($S$3:$S364)+1))","v":19},""]
[null,null,null,null,null,null,null,null,null,null,null,null,{"$f":"IF(O366=\"\",\"\",MAX($M$3:$M365)+1)","v":363},392,"حسن363",null,null,null,{"$f":"IF(M366=\"\",\"\",IF(ISERROR(MATCH($M366,$I:$I,0)),S365,MAX($S$3:$S365)+1))","v":19},""]
[null,null,null,null,null,null,null,null,null,null,null,null,{"$f":"IF(O367=\"\",\"\",MAX($M$3:$M366)+1)","v":364},393,"حسن364",null,null,null,{"$f":"IF(M367=\"\",\"\",IF(ISERROR(MATCH($M367,$I:$I,0)),S366,MAX($S$3:$S366)+1))","v":19},""]
[null,null,null,null,null,null,null,null,null,null,null,null,{"$f":"IF(O368=\"\",\"\",MAX($M$3:$M367)+1)","v":365},394,"حسن365",null,null,null,{"$f":"IF(M368=\"\",\"\",IF(ISERROR(MATCH($M368,$I:$I,0)),S367,MAX($S$3:$S367)+1))","v":19},""]
[null,null,null,null,null,null,null,null,null,null,null,null,{"$f":"IF(O369=\"\",\"\",MAX($M$3:$M368)+1)","v":366},395,"حسن366",null,null,null,{"$f":"IF(M369=\"\",\"\",IF(ISERROR(MATCH($M369,$I:$I,0)),S368,MAX($S$3:$S368)+1))","v":19},""]
[null,null,null,null,null,null,null,null,null,null,null,null,{"$f":"IF(O370=\"\",\"\",MAX($M$3:$M369)+1)","v":367},396,"حسن367",null,null,null,{"$f":"IF(M370=\"\",\"\",IF(ISERROR(MATCH($M370,$I:$I,0)),S369,MAX($S$3:$S369)+1))","v":19},""]
[null,null,null,null,null,null,null,null,null,null,null,null,{"$f":"IF(O371=\"\",\"\",MAX($M$3:$M370)+1)","v":368},397,"حسن368",null,null,null,{"$f":"IF(M371=\"\",\"\",IF(ISERROR(MATCH($M371,$I:$I,0)),S370,MAX($S$3:$S370)+1))","v":19},""]
[null,null,null,null,null,null,null,null,null,null,null,null,{"$f":"IF(O372=\"\",\"\",MAX($M$3:$M371)+1)","v":369},398,"حسن369",null,null,null,{"$f":"IF(M372=\"\",\"\",IF(ISERROR(MATCH($M372,$I:$I,0)),S371,MAX($S$3:$S371)+1))","v":19},""]
[null,null,null,null,null,null,null,null,null,null,null,null,{"$f":"IF(O373=\"\",\"\",MAX($M$3:$M372)+1)","v":370},399,"حسن370",null,null,null,{"$f":"IF(M373=\"\",\"\",IF(ISERROR(MATCH($M373,$I:$I,0)),S372,MAX($S$3:$S372)+1))","v":19},""]
[null,null,null,null,null,null,null,null,null,null,null,null,{"$f":"IF(O374=\"\",\"\",MAX($M$3:$M373)+1)","v":371},400,"حسن371",null,null,null,{"$f":"IF(M374=\"\",\"\",IF(ISERROR(MATCH($M374,$I:$I,0)),S373,MAX($S$3:$S373)+1))","v":19},""]
[null,null,null,null,null,null,null,null,null,null,null,null,{"$f":"IF(O375=\"\",\"\",MAX($M$3:$M374)+1)","v":372},401,"حسن372",null,null,null,{"$f":"IF(M375=\"\",\"\",IF(ISERROR(MATCH($M375,$I:$I,0)),S374,MAX($S$3:$S374)+1))","v":19},""]
[null,null,null,null,null,null,null,null,null,null,null,null,{"$f":"IF(O376=\"\",\"\",MAX($M$3:$M375)+1)","v":373},402,"حسن373",null,null,null,{"$f":"IF(M376=\"\",\"\",IF(ISERROR(MATCH($M376,$I:$I,0)),S375,MAX($S$3:$S375)+1))","v":19},""]
[null,null,null,null,null,null,null,null,null,null,null,null,{"$f":"IF(O377=\"\",\"\",MAX($M$3:$M376)+1)","v":374},403,"حسن374",null,null,null,{"$f":"IF(M377=\"\",\"\",IF(ISERROR(MATCH($M377,$I:$I,0)),S376,MAX($S$3:$S376)+1))","v":19},""]
[null,null,null,null,null,null,null,null,null,null,null,null,{"$f":"IF(O378=\"\",\"\",MAX($M$3:$M377)+1)","v":375},404,"حسن375",null,null,null,{"$f":"IF(M378=\"\",\"\",IF(ISERROR(MATCH($M378,$I:$I,0)),S377,MAX($S$3:$S377)+1))","v":19},""]
[null,null,null,null,null,null,null,null,null,null,null,null,{"$f":"IF(O379=\"\",\"\",MAX($M$3:$M378)+1)","v":376},405,"حسن376",null,null,null,{"$f":"IF(M379=\"\",\"\",IF(ISERROR(MATCH($M379,$I:$I,0)),S378,MAX($S$3:$S378)+1))","v":19},""]
[null,null,null,null,null,null,null,null,null,null,null,null,{"$f":"IF(O380=\"\",\"\",MAX($M$3:$M379)+1)","v":377},406,"حسن377",null,null,null,{"$f":"IF(M380=\"\",\"\",IF(ISERROR(MATCH($M380,$I:$I,0)),S379,MAX($S$3:$S379)+1))","v":19},""]
[null,null,null,null,null,null,null,null,null,null,null,null,{"$f":"IF(O381=\"\",\"\",MAX($M$3:$M380)+1)","v":378},407,"حسن378",null,null,null,{"$f":"IF(M381=\"\",\"\",IF(ISERROR(MATCH($M381,$I:$I,0)),S380,MAX($S$3:$S380)+1))","v":19},""]
[null,null,null,null,null,null,null,null,null,null,null,null,{"$f":"IF(O382=\"\",\"\",MAX($M$3:$M381)+1)","v":379},408,"حسن379",null,null,null,{"$f":"IF(M382=\"\",\"\",IF(ISERROR(MATCH($M382,$I:$I,0)),S381,MAX($S$3:$S381)+1))","v":19},""]
[null,null,null,null,null,null,null,null,null,null,null,null,{"$f":"IF(O383=\"\",\"\",MAX($M$3:$M382)+1)","v":380},409,"حسن380",null,null,null,{"$f":"IF(M383=\"\",\"\",IF(ISERROR(MATCH($M383,$I:$I,0)),S382,MAX($S$3:$S382)+1))","v":19},"نهاية اللجنة"]
[null,null,null,null,null,null,null,null,null,null,null,null,{"$f":"IF(O384=\"\",\"\",MAX($M$3:$M383)+1)","v":381},410,"حسن381",null,null,null,{"$f":"IF(M384=\"\",\"\",IF(ISERROR(MATCH($M384,$I:$I,0)),S383,MAX($S$3:$S383)+1))","v":20},""]
[null,null,null,null,null,null,null,null,null,null,null,null,{"$f":"IF(O385=\"\",\"\",MAX($M$3:$M384)+1)","v":382},411,"حسن382",null,null,null,{"$f":"IF(M385=\"\",\"\",IF(ISERROR(MATCH($M385,$I:$I,0)),S384,MAX($S$3:$S384)+1))","v":20},""]
[null,null,null,null,null,null,null,null,null,null,null,null,{"$f":"IF(O386=\"\",\"\",MAX($M$3:$M385)+1)","v":383},412,"حسن383",null,null,null,{"$f":"IF(M386=\"\",\"\",IF(ISERROR(MATCH($M386,$I:$I,0)),S385,MAX($S$3:$S385)+1))","v":20},""]
[null,null,null,null,null,null,null,null,null,null,null,null,{"$f":"IF(O387=\"\",\"\",MAX($M$3:$M386)+1)","v":384},413,"حسن384",null,null,null,{"$f":"IF(M387=\"\",\"\",IF(ISERROR(MATCH($M387,$I:$I,0)),S386,MAX($S$3:$S386)+1))","v":20},""]
[null,null,null,null,null,null,null,null,null,null,null,null,{"$f":"IF(O388=\"\",\"\",MAX($M$3:$M387)+1)","v":385},414,"حسن385",null,null,null,{"$f":"IF(M388=\"\",\"\",IF(ISERROR(MATCH($M388,$I:$I,0)),S387,MAX($S$3:$S387)+1))","v":20},""]
[null,null,null,null,null,null,null,null,null,null,null,null,{"$f":"IF(O389=\"\",\"\",MAX($M$3:$M388)+1)","v":386},415,"حسن386",null,null,null,{"$f":"IF(M389=\"\",\"\",IF(ISERROR(MATCH($M389,$I:$I,0)),S388,MAX($S$3:$S388)+1))","v":20},{"$f":"IF(S389=S390,\"\",\"نهاية اللجنة\")","v":""}]
[null,null,null,null,null,null,null,null,null,null,null,null,{"$f":"IF(O390=\"\",\"\",MAX($M$3:$M389)+1)","v":387},{"$f":"IF(M390=\"\",\"\",N389+1)","v":416},"حسن387",null,null,null,{"$f":"IF(M390=\"\",\"\",IF(ISERROR(MATCH($M390,$I:$I,0)),S389,MAX($S$3:$S389)+1))","v":20},""]
[null,null,null,null,null,null,null,null,null,null,null,null,{"$f":"IF(O391=\"\",\"\",MAX($M$3:$M390)+1)","v":388},417,"حسن388",null,null,null,{"$f":"IF(M391=\"\",\"\",IF(ISERROR(MATCH($M391,$I:$I,0)),S390,MAX($S$3:$S390)+1))","v":20},""]
[null,null,null,null,null,null,null,null,null,null,null,null,{"$f":"IF(O392=\"\",\"\",MAX($M$3:$M391)+1)","v":389},418,"حسن389",null,null,null,{"$f":"IF(M392=\"\",\"\",IF(ISERROR(MATCH($M392,$I:$I,0)),S391,MAX($S$3:$S391)+1))","v":20},""]
[null,null,null,null,null,null,null,null,null,null,null,null,{"$f":"IF(O393=\"\",\"\",MAX($M$3:$M392)+1)","v":390},419,"حسن390",null,null,null,{"$f":"IF(M393=\"\",\"\",IF(ISERROR(MATCH($M393,$I:$I,0)),S392,MAX($S$3:$S392)+1))","v":20},""]
[null,null,null,null,null,null,null,null,null,null,null,null,{"$f":"IF(O394=\"\",\"\",MAX($M$3:$M393)+1)","v":391},420,"حسن391",null,null,null,{"$f":"IF(M394=\"\",\"\",IF(ISERROR(MATCH($M394,$I:$I,0)),S393,MAX($S$3:$S393)+1))","v":20},""]
[null,null,null,null,null,null,null,null,null,null,null,null,{"$f":"IF(O395=\"\",\"\",MAX($M$3:$M394)+1)","v":392},421,"حسن392",null,null,null,{"$f":"IF(M395=\"\",\"\",IF(ISERROR(MATCH($M395,$I:$I,0)),S394,MAX($S$3:$S394)+1))","v":20},""]
[null,null,null,null,null,null,null,null,null,null,null,null,{"$f":"IF(O396=\"\",\"\",MAX($M$3:$M395)+1)","v":393},422,"حسن393",null,null,null,{"$f":"IF(M396=\"\",\"\",IF(ISERROR(MATCH($M396,$I:$I,0)),S395,MAX($S$3:$S395)+1))","v":20},""]
[null,null,null,null,null,null,null,null,null,null,null,null,{"$f":"IF(O397=\"\",\"\",MAX($M$3:$M396)+1)","v":394},423,"حسن394",null,null,null,{"$f":"IF(M397=\"\",\"\",IF(ISERROR(MATCH($M397,$I:$I,0)),S396,MAX($S$3:$S396)+1))","v":20},""]
[null,null,null,null,null,null,null,null,null,null,null,null,{"$f":"IF(O398=\"\",\"\",MAX($M$3:$M397)+1)","v":395},424,"حسن395",null,null,null,{"$f":"IF(M398=\"\",\"\",IF(ISERROR(MATCH($M398,$I:$I,0)),S397,MAX($S$3:$S397)+1))","v":20},""]
[null,null,null,null,null,null,null,null,null,null,null,null,{"$f":"IF(O399=\"\",\"\",MAX($M$3:$M398)+1)","v":396},425,"حسن396",null,null,null,{"$f":"IF(M399=\"\",\"\",IF(ISERROR(MATCH($M399,$I:$I,0)),S398,MAX($S$3:$S398)+1))","v":20},""]
[null,null,null,null,null,null,null,null,null,null,null,null,{"$f":"IF(O400=\"\",\"\",MAX($M$3:$M399)+1)","v":397},426,"حسن397",null,null,null,{"$f":"IF(M400=\"\",\"\",IF(ISERROR(MATCH($M400,$I:$I,0)),S399,MAX($S$3:$S399)+1))","v":20},""]
[null,null,null,null,null,null,null,null,null,null,null,null,{"$f":"IF(O401=\"\",\"\",MAX($M$3:$M400)+1)","v":398},427,"حسن398",null,null,null,{"$f":"IF(M401=\"\",\"\",IF(ISERROR(MATCH($M401,$I:$I,0)),S400,MAX($S$3:$S400)+1))","v":20},""]
[null,null,null,null,null,null,null,null,null,null,null,null,{"$f":"IF(O402=\"\",\"\",MAX($M$3:$M401)+1)","v":399},428,"حسن399",null,null,null,{"$f":"IF(M402=\"\",\"\",IF(ISERROR(MATCH($M402,$I:$I,0)),S401,MAX($S$3:$S401)+1))","v":20},""]
[null,null,null,null,null,null,null,null,null,null,null,null,{"$f":"IF(O403=\"\",\"\",MAX($M$3:$M402)+1)","v":400},429,"حسن400",null,null,null,{"$f":"IF(M403=\"\",\"\",IF(ISERROR(MATCH($M403,$I:$I,0)),S402,MAX($S$3:$S402)+1))","v":20},"نهاية اللجنة"]
[null,null,null,null,null,null,null,null,null,null,null,null,{"$f":"IF(O404=\"\",\"\",MAX($M$3:$M403)+1)","v":401},430,"حسن401",null,null,null,{"$f":"IF(M404=\"\",\"\",IF(ISERROR(MATCH($M404,$I:$I,0)),S403,MAX($S$3:$S403)+1))","v":21},""]
[null,null,null,null,null,null,null,null,null,null,null,null,{"$f":"IF(O405=\"\",\"\",MAX($M$3:$M404)+1)","v":402},431,"حسن402",null,null,null,{"$f":"IF(M405=\"\",\"\",IF(ISERROR(MATCH($M405,$I:$I,0)),S404,MAX($S$3:$S404)+1))","v":21},""]
[null,null,null,null,null,null,null,null,null,null,null,null,{"$f":"IF(O406=\"\",\"\",MAX($M$3:$M405)+1)","v":403},432,"حسن403",null,null,null,{"$f":"IF(M406=\"\",\"\",IF(ISERROR(MATCH($M406,$I:$I,0)),S405,MAX($S$3:$S405)+1))","v":21},""]
[null,null,null,null,null,null,null,null,null,null,null,null,{"$f":"IF(O407=\"\",\"\",MAX($M$3:$M406)+1)","v":404},433,"حسن404",null,null,null,{"$f":"IF(M407=\"\",\"\",IF(ISERROR(MATCH($M407,$I:$I,0)),S406,MAX($S$3:$S406)+1))","v":21},""]
[null,null,null,null,null,null,null,null,null,null,null,null,{"$f":"IF(O408=\"\",\"\",MAX($M$3:$M407)+1)","v":405},434,"حسن405",null,null,null,{"$f":"IF(M408=\"\",\"\",IF(ISERROR(MATCH($M408,$I:$I,0)),S407,MAX($S$3:$S407)+1))","v":21},""]
[null,null,null,null,null,null,null,null,null,null,null,null,{"$f":"IF(O409=\"\",\"\",MAX($M$3:$M408)+1)","v":406},435,"حسن406",null,null,null,{"$f":"IF(M409=\"\",\"\",IF(ISERROR(MATCH($M409,$I:$I,0)),S408,MAX($S$3:$S408)+1))","v":21},""]
[null,null,null,null,null,null,null,null,null,null,null,null,{"$f":"IF(O410=\"\",\"\",MAX($M$3:$M409)+1)","v":407},436,"حسن407",null,null,null,{"$f":"IF(M410=\"\",\"\",IF(ISERROR(MATCH($M410,$I:$I,0)),S409,MAX($S$3:$S409)+1))","v":21},""]
[null,null,null,null,null,null,null,null,null,null,null,null,{"$f":"IF(O411=\"\",\"\",MAX($M$3:$M410)+1)","v":408},437,"حسن408",null,null,null,{"$f":"IF(M411=\"\",\"\",IF(ISERROR(MATCH($M411,$I:$I,0)),S410,MAX($S$3:$S410)+1))","v":21},""]
[null,null,null,null,null,null,null,null,null,null,null,null,{"$f":"IF(O412=\"\",\"\",MAX($M$3:$M411)+1)","v":409},438,"حسن409",null,null,null,{"$f":"IF(M412=\"\",\"\",IF(ISERROR(MATCH($M412,$I:$I,0)),S411,MAX($S$3:$S411)+1))","v":21},""]
[null,null,null,null,null,null,null,null,null,null,null,null,{"$f":"IF(O413=\"\",\"\",MAX($M$3:$M412)+1)","v":410},439,"حسن410",null,null,null,{"$f":"IF(M413=\"\",\"\",IF(ISERROR(MATCH($M413,$I:$I,0)),S412,MAX($S$3:$S412)+1))","v":21},""]
[null,null,null,null,null,null,null,null,null,null,null,null,{"$f":"IF(O414=\"\",\"\",MAX($M$3:$M413)+1)","v":411},440,"حسن411",null,null,null,{"$f":"IF(M414=\"\",\"\",IF(ISERROR(MATCH($M414,$I:$I,0)),S413,MAX($S$3:$S413)+1))","v":21},""]
[null,null,null,null,null,null,null,null,null,null,null,null,{"$f":"IF(O415=\"\",\"\",MAX($M$3:$M414)+1)","v":412},441,"حسن412",null,null,null,{"$f":"IF(M415=\"\",\"\",IF(ISERROR(MATCH($M415,$I:$I,0)),S414,MAX($S$3:$S414)+1))","v":21},""]
[null,null,null,null,null,null,null,null,null,null,null,null,{"$f":"IF(O416=\"\",\"\",MAX($M$3:$M415)+1)","v":413},442,"حسن413",null,null,null,{"$f":"IF(M416=\"\",\"\",IF(ISERROR(MATCH($M416,$I:$I,0)),S415,MAX($S$3:$S415)+1))","v":21},""]
[null,null,null,null,null,null,null,null,null,null,null,null,{"$f":"IF(O417=\"\",\"\",MAX($M$3:$M416)+1)","v":414},443,"حسن414",null,null,null,{"$f":"IF(M417=\"\",\"\",IF(ISERROR(MATCH($M417,$I:$I,0)),S416,MAX($S$3:$S416)+1))","v":21},""]
[null,null,null,null,null,null,null,null,null,null,null,null,{"$f":"IF(O418=\"\",\"\",MAX($M$3:$M417)+1)","v":415},444,"حسن415",null,null,null,{"$f":"IF(M418=\"\",\"\",IF(ISERROR(MATCH($M418,$I:$I,0)),S417,MAX($S$3:$S417)+1))","v":21},""]
[null,null,null,null,null,null,null,null,null,null,null,null,{"$f":"IF(O419=\"\",\"\",MAX($M$3:$M418)+1)","v":416},445,"حسن416",null,null,null,{"$f":"IF(M419=\"\",\"\",IF(ISERROR(MATCH($M419,$I:$I,0)),S418,MAX($S$3:$S418)+1))","v":21},""]
[null,null,null,null,null,null,null,null,null,null,null,null,{"$f":"IF(O420=\"\",\"\",MAX($M$3:$M419)+1)","v":417},446,"حسن417",null,null,null,{"$f":"IF(M420=\"\",\"\",IF(ISERROR(MATCH($M420,$I:$I,0)),S419,MAX($S$3:$S419)+1))","v":21},""]
[null,null,null,null,null,null,null,null,null,null,null,null,{"$f":"IF(O421=\"\",\"\",MAX($M$3:$M420)+1)","v":418},447,"حسن418",null,null,null,{"$f":"IF(M421=\"\",\"\",IF(ISERROR(MATCH($M421,$I:$I,0)),S420,MAX($S$3:$S420)+1))","v":21},""]
[null,null,null,null,null,null,null,null,null,null,null,null,{"$f":"IF(O422=\"\",\"\",MAX($M$3:$M421)+1)","v":419},448,"حسن419",null,null,null,{"$f":"IF(M422=\"\",\"\",IF(ISERROR(MATCH($M422,$I:$I,0)),S421,MAX($S$3:$S421)+1))","v":21},""]
[null,null,null,null,null,null,null,null,null,null,null,null,{"$f":"IF(O423=\"\",\"\",MAX($M$3:$M422)+1)","v":420},449,"حسن420",null,null,null,{"$f":"IF(M423=\"\",\"\",IF(ISERROR(MATCH($M423,$I:$I,0)),S422,MAX($S$3:$S422)+1))","v":21},"نهاية اللجنة"]
[null,null,null,null,null,null,null,null,null,null,null,null,{"$f":"IF(O424=\"\",\"\",MAX($M$3:$M423)+1)","v":421},450,"حسن421",null,null,null,{"$f":"IF(M424=\"\",\"\",IF(ISERROR(MATCH($M424,$I:$I,0)),S423,MAX($S$3:$S423)+1))","v":22},""]
[null,null,null,null,null,null,null,null,null,null,null,null,{"$f":"IF(O425=\"\",\"\",MAX($M$3:$M424)+1)","v":422},451,"حسن422",null,null,null,{"$f":"IF(M425=\"\",\"\",IF(ISERROR(MATCH($M425,$I:$I,0)),S424,MAX($S$3:$S424)+1))","v":22},""]
[null,null,null,null,null,null,null,null,null,null,null,null,{"$f":"IF(O426=\"\",\"\",MAX($M$3:$M425)+1)","v":423},452,"حسن423",null,null,null,{"$f":"IF(M426=\"\",\"\",IF(ISERROR(MATCH($M426,$I:$I,0)),S425,MAX($S$3:$S425)+1))","v":22},""]
[null,null,null,null,null,null,null,null,null,null,null,null,{"$f":"IF(O427=\"\",\"\",MAX($M$3:$M426)+1)","v":424},453,"حسن424",null,null,null,{"$f":"IF(M427=\"\",\"\",IF(ISERROR(MATCH($M427,$I:$I,0)),S426,MAX($S$3:$S426)+1))","v":22},""]
[null,null,null,null,null,null,null,null,null,null,null,null,{"$f":"IF(O428=\"\",\"\",MAX($M$3:$M427)+1)","v":425},454,"حسن425",null,null,null,{"$f":"IF(M428=\"\",\"\",IF(ISERROR(MATCH($M428,$I:$I,0)),S427,MAX($S$3:$S427)+1))","v":22},""]
[null,null,null,null,null,null,null,null,null,null,null,null,{"$f":"IF(O429=\"\",\"\",MAX($M$3:$M428)+1)","v":426},455,"حسن426",null,null,null,{"$f":"IF(M429=\"\",\"\",IF(ISERROR(MATCH($M429,$I:$I,0)),S428,MAX($S$3:$S428)+1))","v":22},""]
[null,null,null,null,null,null,null,null,null,null,null,null,{"$f":"IF(O430=\"\",\"\",MAX($M$3:$M429)+1)","v":427},456,"حسن427",null,null,null,{"$f":"IF(M430=\"\",\"\",IF(ISERROR(MATCH($M430,$I:$I,0)),S429,MAX($S$3:$S429)+1))","v":22},""]
[null,null,null,null,null,null,null,null,null,null,null,null,{"$f":"IF(O431=\"\",\"\",MAX($M$3:$M430)+1)","v":428},457,"حسن428",null,null,null,{"$f":"IF(M431=\"\",\"\",IF(ISERROR(MATCH($M431,$I:$I,0)),S430,MAX($S$3:$S430)+1))","v":22},""]
[null,null,null,null,null,null,null,null,null,null,null,null,{"$f":"IF(O432=\"\",\"\",MAX($M$3:$M431)+1)","v":429},458,"حسن429",null,null,null,{"$f":"IF(M432=\"\",\"\",IF(ISERROR(MATCH($M432,$I:$I,0)),S431,MAX($S$3:$S431)+1))","v":22},""]
[null,null,null,null,null,null,null,null,null,null,null,null,{"$f":"IF(O433=\"\",\"\",MAX($M$3:$M432)+1)","v":430},459,"حسن430",null,null,null,{"$f":"IF(M433=\"\",\"\",IF(ISERROR(MATCH($M433,$I:$I,0)),S432,MAX($S$3:$S432)+1))","v":22},""]
[null,null,null,null,null,null,null,null,null,null,null,null,{"$f":"IF(O434=\"\",\"\",MAX($M$3:$M433)+1)","v":431},460,"حسن431",null,null,null,{"$f":"IF(M434=\"\",\"\",IF(ISERROR(MATCH($M434,$I:$I,0)),S433,MAX($S$3:$S433)+1))","v":22},""]
[null,null,null,null,null,null,null,null,null,null,null,null,{"$f":"IF(O435=\"\",\"\",MAX($M$3:$M434)+1)","v":432},461,"حسن432",null,null,null,{"$f":"IF(M435=\"\",\"\",IF(ISERROR(MATCH($M435,$I:$I,0)),S434,MAX($S$3:$S434)+1))","v":22},""]
[null,null,null,null,null,null,null,null,null,null,null,null,{"$f":"IF(O436=\"\",\"\",MAX($M$3:$M435)+1)","v":433},462,"حسن433",null,null,null,{"$f":"IF(M436=\"\",\"\",IF(ISERROR(MATCH($M436,$I:$I,0)),S435,MAX($S$3:$S435)+1))","v":22},""]
[null,null,null,null,null,null,null,null,null,null,null,null,{"$f":"IF(O437=\"\",\"\",MAX($M$3:$M436)+1)","v":434},463,"حسن434",null,null,null,{"$f":"IF(M437=\"\",\"\",IF(ISERROR(MATCH($M437,$I:$I,0)),S436,MAX($S$3:$S436)+1))","v":22},""]
[null,null,null,null,null,null,null,null,null,null,null,null,{"$f":"IF(O438=\"\",\"\",MAX($M$3:$M437)+1)","v":435},464,"حسن435",null,null,null,{"$f":"IF(M438=\"\",\"\",IF(ISERROR(MATCH($M438,$I:$I,0)),S437,MAX($S$3:$S437)+1))","v":22},""]
[null,null,null,null,null,null,null,null,null,null,null,null,{"$f":"IF(O439=\"\",\"\",MAX($M$3:$M438)+1)","v":436},465,"حسن436",null,null,null,{"$f":"IF(M439=\"\",\"\",IF(ISERROR(MATCH($M439,$I:$I,0)),S438,MAX($S$3:$S438)+1))","v":22},""]
[null,null,null,null,null,null,null,null,null,null,null,null,{"$f":"IF(O440=\"\",\"\",MAX($M$3:$M439)+1)","v":437},466,"حسن437",null,null,null,{"$f":"IF(M440=\"\",\"\",IF(ISERROR(MATCH($M440,$I:$I,0)),S439,MAX($S$3:$S439)+1))","v":22},""]
[null,null,null,null,null,null,null,null,null,null,null,null,{"$f":"IF(O441=\"\",\"\",MAX($M$3:$M440)+1)","v":438},467,"حسن438",null,null,null,{"$f":"IF(M441=\"\",\"\",IF(ISERROR(MATCH($M441,$I:$I,0)),S440,MAX($S$3:$S440)+1))","v":22},""]
[null,null,null,null,null,null,null,null,null,null,null,null,{"$f":"IF(O442=\"\",\"\",MAX($M$3:$M441)+1)","v":439},468,"حسن439",null,null,null,{"$f":"IF(M442=\"\",\"\",IF(ISERROR(MATCH($M442,$I:$I,0)),S441,MAX($S$3:$S441)+1))","v":22},""]
[null,null,null,null,null,null,null,null,null,null,null,null,{"$f":"IF(O443=\"\",\"\",MAX($M$3:$M442)+1)","v":440},469,"حسن440",null,null,null,{"$f":"IF(M443=\"\",\"\",IF(ISERROR(MATCH($M443,$I:$I,0)),S442,MAX($S$3:$S442)+1))","v":22},"نهاية اللجنة"]
[null,null,null,null,null,null,null,null,null,null,null,null,{"$f":"IF(O444=\"\",\"\",MAX($M$3:$M443)+1)","v":441},470,"حسن441",null,null,null,{"$f":"IF(M444=\"\",\"\",IF(ISERROR(MATCH($M444,$I:$I,0)),S443,MAX($S$3:$S443)+1))","v":23},""]
[null,null,null,null,null,null,null,null,null,null,null,null,{"$f":"IF(O445=\"\",\"\",MAX($M$3:$M444)+1)","v":442},471,"حسن442",null,null,null,{"$f":"IF(M445=\"\",\"\",IF(ISERROR(MATCH($M445,$I:$I,0)),S444,MAX($S$3:$S444)+1))","v":23},""]
[null,null,null,null,null,null,null,null,null,null,null,null,{"$f":"IF(O446=\"\",\"\",MAX($M$3:$M445)+1)","v":443},472,"حسن443",null,null,null,{"$f":"IF(M446=\"\",\"\",IF(ISERROR(MATCH($M446,$I:$I,0)),S445,MAX($S$3:$S445)+1))","v":23},""]
[null,null,null,null,null,null,null,null,null,null,null,null,{"$f":"IF(O447=\"\",\"\",MAX($M$3:$M446)+1)","v":444},473,"حسن444",null,null,null,{"$f":"IF(M447=\"\",\"\",IF(ISERROR(MATCH($M447,$I:$I,0)),S446,MAX($S$3:$S446)+1))","v":23},""]
[null,null,null,null,null,null,null,null,null,null,null,null,{"$f":"IF(O448=\"\",\"\",MAX($M$3:$M447)+1)","v":445},474,"حسن445",null,null,null,{"$f":"IF(M448=\"\",\"\",IF(ISERROR(MATCH($M448,$I:$I,0)),S447,MAX($S$3:$S447)+1))","v":23},""]
[null,null,null,null,null,null,null,null,null,null,null,null,{"$f":"IF(O449=\"\",\"\",MAX($M$3:$M448)+1)","v":446},475,"حسن446",null,null,null,{"$f":"IF(M449=\"\",\"\",IF(ISERROR(MATCH($M449,$I:$I,0)),S448,MAX($S$3:$S448)+1))","v":23},""]
[null,null,null,null,null,null,null,null,null,null,null,null,{"$f":"IF(O450=\"\",\"\",MAX($M$3:$M449)+1)","v":447},476,"حسن447",null,null,null,{"$f":"IF(M450=\"\",\"\",IF(ISERROR(MATCH($M450,$I:$I,0)),S449,MAX($S$3:$S449)+1))","v":23},""]
[null,null,null,null,null,null,null,null,null,null,null,null,{"$f":"IF(O451=\"\",\"\",MAX($M$3:$M450)+1)","v":448},477,"حسن448",null,null,null,{"$f":"IF(M451=\"\",\"\",IF(ISERROR(MATCH($M451,$I:$I,0)),S450,MAX($S$3:$S450)+1))","v":23},""]
[null,null,null,null,null,null,null,null,null,null,null,null,{"$f":"IF(O452=\"\",\"\",MAX($M$3:$M451)+1)","v":449},478,"حسن449",null,null,null,{"$f":"IF(M452=\"\",\"\",IF(ISERROR(MATCH($M452,$I:$I,0)),S451,MAX($S$3:$S451)+1))","v":23},""]
[null,null,null,null,null,null,null,null,null,null,null,null,{"$f":"IF(O453=\"\",\"\",MAX($M$3:$M452)+1)","v":450},479,"حسن450",null,null,null,{"$f":"IF(M453=\"\",\"\",IF(ISERROR(MATCH($M453,$I:$I,0)),S452,MAX($S$3:$S452)+1))","v":23},{"$f":"IF(S453=S454,\"\",\"نهاية اللجنة\")","v":""}]
[null,null,null,null,null,null,null,null,null,null,null,null,{"$f":"IF(O454=\"\",\"\",MAX($M$3:$M453)+1)","v":451},{"$f":"IF(M454=\"\",\"\",N453+1)","v":480},"حسن451",null,null,null,{"$f":"IF(M454=\"\",\"\",IF(ISERROR(MATCH($M454,$I:$I,0)),S453,MAX($S$3:$S453)+1))","v":23},""]
[null,null,null,null,null,null,null,null,null,null,null,null,{"$f":"IF(O455=\"\",\"\",MAX($M$3:$M454)+1)","v":452},481,"حسن452",null,null,null,{"$f":"IF(M455=\"\",\"\",IF(ISERROR(MATCH($M455,$I:$I,0)),S454,MAX($S$3:$S454)+1))","v":23},""]
[null,null,null,null,null,null,null,null,null,null,null,null,{"$f":"IF(O456=\"\",\"\",MAX($M$3:$M455)+1)","v":453},482,"حسن453",null,null,null,{"$f":"IF(M456=\"\",\"\",IF(ISERROR(MATCH($M456,$I:$I,0)),S455,MAX($S$3:$S455)+1))","v":23},""]
[null,null,null,null,null,null,null,null,null,null,null,null,{"$f":"IF(O457=\"\",\"\",MAX($M$3:$M456)+1)","v":454},483,"حسن454",null,null,null,{"$f":"IF(M457=\"\",\"\",IF(ISERROR(MATCH($M457,$I:$I,0)),S456,MAX($S$3:$S456)+1))","v":23},""]
[null,null,null,null,null,null,null,null,null,null,null,null,{"$f":"IF(O458=\"\",\"\",MAX($M$3:$M457)+1)","v":455},484,"حسن455",null,null,null,{"$f":"IF(M458=\"\",\"\",IF(ISERROR(MATCH($M458,$I:$I,0)),S457,MAX($S$3:$S457)+1))","v":23},""]
[null,null,null,null,null,null,null,null,null,null,null,null,{"$f":"IF(O459=\"\",\"\",MAX($M$3:$M458)+1)","v":456},485,"حسن456",null,null,null,{"$f":"IF(M459=\"\",\"\",IF(ISERROR(MATCH($M459,$I:$I,0)),S458,MAX($S$3:$S458)+1))","v":23},""]
[null,null,null,null,null,null,null,null,null,null,null,null,{"$f":"IF(O460=\"\",\"\",MAX($M$3:$M459)+1)","v":457},486,"حسن457",null,null,null,{"$f":"IF(M460=\"\",\"\",IF(ISERROR(MATCH($M460,$I:$I,0)),S459,MAX($S$3:$S459)+1))","v":23},""]
[null,null,null,null,null,null,null,null,null,null,null,null,{"$f":"IF(O461=\"\",\"\",MAX($M$3:$M460)+1)","v":458},487,"حسن458",null,null,null,{"$f":"IF(M461=\"\",\"\",IF(ISERROR(MATCH($M461,$I:$I,0)),S460,MAX($S$3:$S460)+1))","v":23},""]
[null,null,null,null,null,null,null,null,null,null,null,null,{"$f":"IF(O462=\"\",\"\",MAX($M$3:$M461)+1)","v":459},488,"حسن459",null,null,null,{"$f":"IF(M462=\"\",\"\",IF(ISERROR(MATCH($M462,$I:$I,0)),S461,MAX($S$3:$S461)+1))","v":23},""]
[null,null,null,null,null,null,null,null,null,null,null,null,{"$f":"IF(O463=\"\",\"\",MAX($M$3:$M462)+1)","v":460},489,"حسن460",null,null,null,{"$f":"IF(M463=\"\",\"\",IF(ISERROR(MATCH($M463,$I:$I,0)),S462,MAX($S$3:$S462)+1))","v":23},"نهاية اللجنة"]
[null,null,null,null,null,null,null,null,null,null,null,null,{"$f":"IF(O464=\"\",\"\",MAX($M$3:$M463)+1)","v":461},490,"حسن461",null,null,null,{"$f":"IF(M464=\"\",\"\",IF(ISERROR(MATCH($M464,$I:$I,0)),S463,MAX($S$3:$S463)+1))","v":24},""]
[null,null,null,null,null,null,null,null,null,null,null,null,{"$f":"IF(O465=\"\",\"\",MAX($M$3:$M464)+1)","v":462},491,"حسن462",null,null,null,{"$f":"IF(M465=\"\",\"\",IF(ISERROR(MATCH($M465,$I:$I,0)),S464,MAX($S$3:$S464)+1))","v":24},""]
[null,null,null,null,null,null,null,null,null,null,null,null,{"$f":"IF(O466=\"\",\"\",MAX($M$3:$M465)+1)","v":463},492,"حسن463",null,null,null,{"$f":"IF(M466=\"\",\"\",IF(ISERROR(MATCH($M466,$I:$I,0)),S465,MAX($S$3:$S465)+1))","v":24},""]
[null,null,null,null,null,null,null,null,null,null,null,null,{"$f":"IF(O467=\"\",\"\",MAX($M$3:$M466)+1)","v":464},493,"حسن464",null,null,null,{"$f":"IF(M467=\"\",\"\",IF(ISERROR(MATCH($M467,$I:$I,0)),S466,MAX($S$3:$S466)+1))","v":24},""]
[null,null,null,null,null,null,null,null,null,null,null,null,{"$f":"IF(O468=\"\",\"\",MAX($M$3:$M467)+1)","v":465},494,"حسن465",null,null,null,{"$f":"IF(M468=\"\",\"\",IF(ISERROR(MATCH($M468,$I:$I,0)),S467,MAX($S$3:$S467)+1))","v":24},""]
[null,null,null,null,null,null,null,null,null,null,null,null,{"$f":"IF(O469=\"\",\"\",MAX($M$3:$M468)+1)","v":466},495,"حسن466",null,null,null,{"$f":"IF(M469=\"\",\"\",IF(ISERROR(MATCH($M469,$I:$I,0)),S468,MAX($S$3:$S468)+1))","v":24},""]
[null,null,null,null,null,null,null,null,null,null,null,null,{"$f":"IF(O470=\"\",\"\",MAX($M$3:$M469)+1)","v":467},496,"حسن467",null,null,null,{"$f":"IF(M470=\"\",\"\",IF(ISERROR(MATCH($M470,$I:$I,0)),S469,MAX($S$3:$S469)+1))","v":24},""]
[null,null,null,null,null,null,null,null,null,null,null,null,{"$f":"IF(O471=\"\",\"\",MAX($M$3:$M470)+1)","v":468},497,"حسن468",null,null,null,{"$f":"IF(M471=\"\",\"\",IF(ISERROR(MATCH($M471,$I:$I,0)),S470,MAX($S$3:$S470)+1))","v":24},""]
[null,null,null,null,null,null,null,null,null,null,null,null,{"$f":"IF(O472=\"\",\"\",MAX($M$3:$M471)+1)","v":469},498,"حسن469",null,null,null,{"$f":"IF(M472=\"\",\"\",IF(ISERROR(MATCH($M472,$I:$I,0)),S471,MAX($S$3:$S471)+1))","v":24},""]
[null,null,null,null,null,null,null,null,null,null,null,null,{"$f":"IF(O473=\"\",\"\",MAX($M$3:$M472)+1)","v":470},499,"حسن470",null,null,null,{"$f":"IF(M473=\"\",\"\",IF(ISERROR(MATCH($M473,$I:$I,0)),S472,MAX($S$3:$S472)+1))","v":24},""]
[null,null,null,null,null,null,null,null,null,null,null,null,{"$f":"IF(O474=\"\",\"\",MAX($M$3:$M473)+1)","v":471},500,"حسن471",null,null,null,{"$f":"IF(M474=\"\",\"\",IF(ISERROR(MATCH($M474,$I:$I,0)),S473,MAX($S$3:$S473)+1))","v":24},""]
[null,null,null,null,null,null,null,null,null,null,null,null,{"$f":"IF(O475=\"\",\"\",MAX($M$3:$M474)+1)","v":472},501,"حسن472",null,null,null,{"$f":"IF(M475=\"\",\"\",IF(ISERROR(MATCH($M475,$I:$I,0)),S474,MAX($S$3:$S474)+1))","v":24},""]
[null,null,null,null,null,null,null,null,null,null,null,null,{"$f":"IF(O476=\"\",\"\",MAX($M$3:$M475)+1)","v":473},502,"حسن473",null,null,null,{"$f":"IF(M476=\"\",\"\",IF(ISERROR(MATCH($M476,$I:$I,0)),S475,MAX($S$3:$S475)+1))","v":24},""]
[null,null,null,null,null,null,null,null,null,null,null,null,{"$f":"IF(O477=\"\",\"\",MAX($M$3:$M476)+1)","v":474},503,"حسن474",null,null,null,{"$f":"IF(M477=\"\",\"\",IF(ISERROR(MATCH($M477,$I:$I,0)),S476,MAX($S$3:$S476)+1))","v":24},""]
[null,null,null,null,null,null,null,null,null,null,null,null,{"$f":"IF(O478=\"\",\"\",MAX($M$3:$M477)+1)","v":475},504,"حسن475",null,null,null,{"$f":"IF(M478=\"\",\"\",IF(ISERROR(MATCH($M478,$I:$I,0)),S477,MAX($S$3:$S477)+1))","v":24},""]
[null,null,null,null,null,null,null,null,null,null,null,null,{"$f":"IF(O479=\"\",\"\",MAX($M$3:$M478)+1)","v":476},505,"حسن476",null,null,null,{"$f":"IF(M479=\"\",\"\",IF(ISERROR(MATCH($M479,$I:$I,0)),S478,MAX($S$3:$S478)+1))","v":24},""]
[null,null,null,null,null,null,null,null,null,null,null,null,{"$f":"IF(O480=\"\",\"\",MAX($M$3:$M479)+1)","v":477},506,"حسن477",null,null,null,{"$f":"IF(M480=\"\",\"\",IF(ISERROR(MATCH($M480,$I:$I,0)),S479,MAX($S$3:$S479)+1))","v":24},""]
[null,null,null,null,null,null,null,null,null,null,null,null,{"$f":"IF(O481=\"\",\"\",MAX($M$3:$M480)+1)","v":478},507,"حسن478",null,null,null,{"$f":"IF(M481=\"\",\"\",IF(ISERROR(MATCH($M481,$I:$I,0)),S480,MAX($S$3:$S480)+1))","v":24},""]
[null,null,null,null,null,null,null,null,null,null,null,null,{"$f":"IF(O482=\"\",\"\",MAX($M$3:$M481)+1)","v":479},508,"حسن479",null,null,null,{"$f":"IF(M482=\"\",\"\",IF(ISERROR(MATCH($M482,$I:$I,0)),S481,MAX($S$3:$S481)+1))","v":24},""]
[null,null,null,null,null,null,null,null,null,null,null,null,{"$f":"IF(O483=\"\",\"\",MAX($M$3:$M482)+1)","v":480},509,"حسن480",null,null,null,{"$f":"IF(M483=\"\",\"\",IF(ISERROR(MATCH($M483,$I:$I,0)),S482,MAX($S$3:$S482)+1))","v":24},"نهاية اللجنة"]
[null,null,null,null,null,null,null,null,null,null,null,null,{"$f":"IF(O484=\"\",\"\",MAX($M$3:$M483)+1)","v":481},510,"حسن481",null,null,null,{"$f":"IF(M484=\"\",\"\",IF(ISERROR(MATCH($M484,$I:$I,0)),S483,MAX($S$3:$S483)+1))","v":25},""]
[null,null,null,null,null,null,null,null,null,null,null,null,{"$f":"IF(O485=\"\",\"\",MAX($M$3:$M484)+1)","v":482},511,"حسن482",null,null,null,{"$f":"IF(M485=\"\",\"\",IF(ISERROR(MATCH($M485,$I:$I,0)),S484,MAX($S$3:$S484)+1))","v":25},""]
[null,null,null,null,null,null,null,null,null,null,null,null,{"$f":"IF(O486=\"\",\"\",MAX($M$3:$M485)+1)","v":483},512,"حسن483",null,null,null,{"$f":"IF(M486=\"\",\"\",IF(ISERROR(MATCH($M486,$I:$I,0)),S485,MAX($S$3:$S485)+1))","v":25},""]
[null,null,null,null,null,null,null,null,null,null,null,null,{"$f":"IF(O487=\"\",\"\",MAX($M$3:$M486)+1)","v":484},513,"حسن484",null,null,null,{"$f":"IF(M487=\"\",\"\",IF(ISERROR(MATCH($M487,$I:$I,0)),S486,MAX($S$3:$S486)+1))","v":25},""]
[null,null,null,null,null,null,null,null,null,null,null,null,{"$f":"IF(O488=\"\",\"\",MAX($M$3:$M487)+1)","v":485},514,"حسن485",null,null,null,{"$f":"IF(M488=\"\",\"\",IF(ISERROR(MATCH($M488,$I:$I,0)),S487,MAX($S$3:$S487)+1))","v":25},""]
[null,null,null,null,null,null,null,null,null,null,null,null,{"$f":"IF(O489=\"\",\"\",MAX($M$3:$M488)+1)","v":486},515,"حسن486",null,null,null,{"$f":"IF(M489=\"\",\"\",IF(ISERROR(MATCH($M489,$I:$I,0)),S488,MAX($S$3:$S488)+1))","v":25},""]
[null,null,null,null,null,null,null,null,null,null,null,null,{"$f":"IF(O490=\"\",\"\",MAX($M$3:$M489)+1)","v":487},516,"حسن487",null,null,null,{"$f":"IF(M490=\"\",\"\",IF(ISERROR(MATCH($M490,$I:$I,0)),S489,MAX($S$3:$S489)+1))","v":25},""]
[null,null,null,null,null,null,null,null,null,null,null,null,{"$f":"IF(O491=\"\",\"\",MAX($M$3:$M490)+1)","v":488},517,"حسن488",null,null,null,{"$f":"IF(M491=\"\",\"\",IF(ISERROR(MATCH($M491,$I:$I,0)),S490,MAX($S$3:$S490)+1))","v":25},""]
[null,null,null,null,null,null,null,null,null,null,null,null,{"$f":"IF(O492=\"\",\"\",MAX($M$3:$M491)+1)","v":489},518,"حسن489",null,null,null,{"$f":"IF(M492=\"\",\"\",IF(ISERROR(MATCH($M492,$I:$I,0)),S491,MAX($S$3:$S491)+1))","v":25},""]
[null,null,null,null,null,null,null,null,null,null,null,null,{"$f":"IF(O493=\"\",\"\",MAX($M$3:$M492)+1)","v":490},519,"حسن490",null,null,null,{"$f":"IF(M493=\"\",\"\",IF(ISERROR(MATCH($M493,$I:$I,0)),S492,MAX($S$3:$S492)+1))","v":25},""]
[null,null,null,null,null,null,null,null,null,null,null,null,{"$f":"IF(O494=\"\",\"\",MAX($M$3:$M493)+1)","v":491},520,"حسن491",null,null,null,{"$f":"IF(M494=\"\",\"\",IF(ISERROR(MATCH($M494,$I:$I,0)),S493,MAX($S$3:$S493)+1))","v":25},""]
[null,null,null,null,null,null,null,null,null,null,null,null,{"$f":"IF(O495=\"\",\"\",MAX($M$3:$M494)+1)","v":492},521,"حسن492",null,null,null,{"$f":"IF(M495=\"\",\"\",IF(ISERROR(MATCH($M495,$I:$I,0)),S494,MAX($S$3:$S494)+1))","v":25},""]
[null,null,null,null,null,null,null,null,null,null,null,null,{"$f":"IF(O496=\"\",\"\",MAX($M$3:$M495)+1)","v":493},522,"حسن493",null,null,null,{"$f":"IF(M496=\"\",\"\",IF(ISERROR(MATCH($M496,$I:$I,0)),S495,MAX($S$3:$S495)+1))","v":25},""]
[null,null,null,null,null,null,null,null,null,null,null,null,{"$f":"IF(O497=\"\",\"\",MAX($M$3:$M496)+1)","v":494},523,"حسن494",null,null,null,{"$f":"IF(M497=\"\",\"\",IF(ISERROR(MATCH($M497,$I:$I,0)),S496,MAX($S$3:$S496)+1))","v":25},""]
[null,null,null,null,null,null,null,null,null,null,null,null,{"$f":"IF(O498=\"\",\"\",MAX($M$3:$M497)+1)","v":495},524,"حسن495",null,null,null,{"$f":"IF(M498=\"\",\"\",IF(ISERROR(MATCH($M498,$I:$I,0)),S497,MAX($S$3:$S497)+1))","v":25},""]
[null,null,null,null,null,null,null,null,null,null,null,null,{"$f":"IF(O499=\"\",\"\",MAX($M$3:$M498)+1)","v":496},525,"حسن496",null,null,null,{"$f":"IF(M499=\"\",\"\",IF(ISERROR(MATCH($M499,$I:$I,0)),S498,MAX($S$3:$S498)+1))","v":25},""]
[null,null,null,null,null,null,null,null,null,null,null,null,{"$f":"IF(O500=\"\",\"\",MAX($M$3:$M499)+1)","v":497},526,"حسن497",null,null,null,{"$f":"IF(M500=\"\",\"\",IF(ISERROR(MATCH($M500,$I:$I,0)),S499,MAX($S$3:$S499)+1))","v":25},""]
[null,null,null,null,null,null,null,null,null,null,null,null,{"$f":"IF(O501=\"\",\"\",MAX($M$3:$M500)+1)","v":498},527,"حسن498",null,null,null,{"$f":"IF(M501=\"\",\"\",IF(ISERROR(MATCH($M501,$I:$I,0)),S500,MAX($S$3:$S500)+1))","v":25},""]
[null,null,null,null,null,null,null,null,null,null,null,null,{"$f":"IF(O502=\"\",\"\",MAX($M$3:$M501)+1)","v":499},528,"حسن499",null,null,null,{"$f":"IF(M502=\"\",\"\",IF(ISERROR(MATCH($M502,$I:$I,0)),S501,MAX($S$3:$S501)+1))","v":25},""]
[null,null,null,null,null,null,null,null,null,null,null,null,{"$f":"IF(O503=\"\",\"\",MAX($M$3:$M502)+1)","v":500},529,"حسن500",null,null,null,{"$f":"IF(M503=\"\",\"\",IF(ISERROR(MATCH($M503,$I:$I,0)),S502,MAX($S$3:$S502)+1))","v":25},"نهاية اللجنة"]
[null,null,null,null,null,null,null,null,null,null,null,null,{"$f":"IF(O504=\"\",\"\",MAX($M$3:$M503)+1)","v":501},530,"حسن501",null,null,null,{"$f":"IF(M504=\"\",\"\",IF(ISERROR(MATCH($M504,$I:$I,0)),S503,MAX($S$3:$S503)+1))","v":26},""]
[null,null,null,null,null,null,null,null,null,null,null,null,{"$f":"IF(O505=\"\",\"\",MAX($M$3:$M504)+1)","v":502},531,"حسن502",null,null,null,{"$f":"IF(M505=\"\",\"\",IF(ISERROR(MATCH($M505,$I:$I,0)),S504,MAX($S$3:$S504)+1))","v":26},""]
[null,null,null,null,null,null,null,null,null,null,null,null,{"$f":"IF(O506=\"\",\"\",MAX($M$3:$M505)+1)","v":503},532,"حسن503",null,null,null,{"$f":"IF(M506=\"\",\"\",IF(ISERROR(MATCH($M506,$I:$I,0)),S505,MAX($S$3:$S505)+1))","v":26},""]
[null,null,null,null,null,null,null,null,null,null,null,null,{"$f":"IF(O507=\"\",\"\",MAX($M$3:$M506)+1)","v":504},533,"حسن504",null,null,null,{"$f":"IF(M507=\"\",\"\",IF(ISERROR(MATCH($M507,$I:$I,0)),S506,MAX($S$3:$S506)+1))","v":26},""]
[null,null,null,null,null,null,null,null,null,null,null,null,{"$f":"IF(O508=\"\",\"\",MAX($M$3:$M507)+1)","v":505},534,"حسن505",null,null,null,{"$f":"IF(M508=\"\",\"\",IF(ISERROR(MATCH($M508,$I:$I,0)),S507,MAX($S$3:$S507)+1))","v":26},""]
[null,null,null,null,null,null,null,null,null,null,null,null,{"$f":"IF(O509=\"\",\"\",MAX($M$3:$M508)+1)","v":506},535,"حسن506",null,null,null,{"$f":"IF(M509=\"\",\"\",IF(ISERROR(MATCH($M509,$I:$I,0)),S508,MAX($S$3:$S508)+1))","v":26},""]
[null,null,null,null,null,null,null,null,null,null,null,null,{"$f":"IF(O510=\"\",\"\",MAX($M$3:$M509)+1)","v":507},536,"حسن507",null,null,null,{"$f":"IF(M510=\"\",\"\",IF(ISERROR(MATCH($M510,$I:$I,0)),S509,MAX($S$3:$S509)+1))","v":26},""]
[null,null,null,null,null,null,null,null,null,null,null,null,{"$f":"IF(O511=\"\",\"\",MAX($M$3:$M510)+1)","v":508},537,"حسن508",null,null,null,{"$f":"IF(M511=\"\",\"\",IF(ISERROR(MATCH($M511,$I:$I,0)),S510,MAX($S$3:$S510)+1))","v":26},""]
[null,null,null,null,null,null,null,null,null,null,null,null,{"$f":"IF(O512=\"\",\"\",MAX($M$3:$M511)+1)","v":509},538,"حسن509",null,null,null,{"$f":"IF(M512=\"\",\"\",IF(ISERROR(MATCH($M512,$I:$I,0)),S511,MAX($S$3:$S511)+1))","v":26},""]
[null,null,null,null,null,null,null,null,null,null,null,null,{"$f":"IF(O513=\"\",\"\",MAX($M$3:$M512)+1)","v":510},539,"حسن510",null,null,null,{"$f":"IF(M513=\"\",\"\",IF(ISERROR(MATCH($M513,$I:$I,0)),S512,MAX($S$3:$S512)+1))","v":26},""]
[null,null,null,null,null,null,null,null,null,null,null,null,{"$f":"IF(O514=\"\",\"\",MAX($M$3:$M513)+1)","v":511},540,"حسن511",null,null,null,{"$f":"IF(M514=\"\",\"\",IF(ISERROR(MATCH($M514,$I:$I,0)),S513,MAX($S$3:$S513)+1))","v":26},""]
[null,null,null,null,null,null,null,null,null,null,null,null,{"$f":"IF(O515=\"\",\"\",MAX($M$3:$M514)+1)","v":512},541,"حسن512",null,null,null,{"$f":"IF(M515=\"\",\"\",IF(ISERROR(MATCH($M515,$I:$I,0)),S514,MAX($S$3:$S514)+1))","v":26},""]
[null,null,null,null,null,null,null,null,null,null,null,null,{"$f":"IF(O516=\"\",\"\",MAX($M$3:$M515)+1)","v":513},542,"حسن513",null,null,null,{"$f":"IF(M516=\"\",\"\",IF(ISERROR(MATCH($M516,$I:$I,0)),S515,MAX($S$3:$S515)+1))","v":26},""]
[null,null,null,null,null,null,null,null,null,null,null,null,{"$f":"IF(O517=\"\",\"\",MAX($M$3:$M516)+1)","v":514},543,"حسن514",null,null,null,{"$f":"IF(M517=\"\",\"\",IF(ISERROR(MATCH($M517,$I:$I,0)),S516,MAX($S$3:$S516)+1))","v":26},{"$f":"IF(S517=S518,\"\",\"نهاية اللجنة\")","v":""}]
[null,null,null,null,null,null,null,null,null,null,null,null,{"$f":"IF(O518=\"\",\"\",MAX($M$3:$M517)+1)","v":515},{"$f":"IF(M518=\"\",\"\",N517+1)","v":544},"حسن515",null,null,null,{"$f":"IF(M518=\"\",\"\",IF(ISERROR(MATCH($M518,$I:$I,0)),S517,MAX($S$3:$S517)+1))","v":26},""]
[null,null,null,null,null,null,null,null,null,null,null,null,{"$f":"IF(O519=\"\",\"\",MAX($M$3:$M518)+1)","v":516},545,"حسن516",null,null,null,{"$f":"IF(M519=\"\",\"\",IF(ISERROR(MATCH($M519,$I:$I,0)),S518,MAX($S$3:$S518)+1))","v":26},""]
[null,null,null,null,null,null,null,null,null,null,null,null,{"$f":"IF(O520=\"\",\"\",MAX($M$3:$M519)+1)","v":517},546,"حسن517",null,null,null,{"$f":"IF(M520=\"\",\"\",IF(ISERROR(MATCH($M520,$I:$I,0)),S519,MAX($S$3:$S519)+1))","v":26},""]
[null,null,null,null,null,null,null,null,null,null,null,null,{"$f":"IF(O521=\"\",\"\",MAX($M$3:$M520)+1)","v":518},547,"حسن518",null,null,null,{"$f":"IF(M521=\"\",\"\",IF(ISERROR(MATCH($M521,$I:$I,0)),S520,MAX($S$3:$S520)+1))","v":26},""]
[null,null,null,null,null,null,null,null,null,null,null,null,{"$f":"IF(O522=\"\",\"\",MAX($M$3:$M521)+1)","v":519},548,"حسن519",null,null,null,{"$f":"IF(M522=\"\",\"\",IF(ISERROR(MATCH($M522,$I:$I,0)),S521,MAX($S$3:$S521)+1))","v":26},""]
[null,null,null,null,null,null,null,null,null,null,null,null,{"$f":"IF(O523=\"\",\"\",MAX($M$3:$M522)+1)","v":520},549,"حسن520",null,null,null,{"$f":"IF(M523=\"\",\"\",IF(ISERROR(MATCH($M523,$I:$I,0)),S522,MAX($S$3:$S522)+1))","v":26},"نهاية اللجنة"]
[null,null,null,null,null,null,null,null,null,null,null,null,{"$f":"IF(O524=\"\",\"\",MAX($M$3:$M523)+1)","v":521},550,"حسن521",null,null,null,{"$f":"IF(M524=\"\",\"\",IF(ISERROR(MATCH($M524,$I:$I,0)),S523,MAX($S$3:$S523)+1))","v":27},""]
[null,null,null,null,null,null,null,null,null,null,null,null,{"$f":"IF(O525=\"\",\"\",MAX($M$3:$M524)+1)","v":522},551,"حسن522",null,null,null,{"$f":"IF(M525=\"\",\"\",IF(ISERROR(MATCH($M525,$I:$I,0)),S524,MAX($S$3:$S524)+1))","v":27},""]
[null,null,null,null,null,null,null,null,null,null,null,null,{"$f":"IF(O526=\"\",\"\",MAX($M$3:$M525)+1)","v":523},552,"حسن523",null,null,null,{"$f":"IF(M526=\"\",\"\",IF(ISERROR(MATCH($M526,$I:$I,0)),S525,MAX($S$3:$S525)+1))","v":27},""]
[null,null,null,null,null,null,null,null,null,null,null,null,{"$f":"IF(O527=\"\",\"\",MAX($M$3:$M526)+1)","v":524},553,"حسن524",null,null,null,{"$f":"IF(M527=\"\",\"\",IF(ISERROR(MATCH($M527,$I:$I,0)),S526,MAX($S$3:$S526)+1))","v":27},""]
[null,null,null,null,null,null,null,null,null,null,null,null,{"$f":"IF(O528=\"\",\"\",MAX($M$3:$M527)+1)","v":525},554,"حسن525",null,null,null,{"$f":"IF(M528=\"\",\"\",IF(ISERROR(MATCH($M528,$I:$I,0)),S527,MAX($S$3:$S527)+1))","v":27},""]
[null,null,null,null,null,null,null,null,null,null,null,null,{"$f":"IF(O529=\"\",\"\",MAX($M$3:$M528)+1)","v":526},555,"حسن526",null,null,null,{"$f":"IF(M529=\"\",\"\",IF(ISERROR(MATCH($M529,$I:$I,0)),S528,MAX($S$3:$S528)+1))","v":27},""]
[null,null,null,null,null,null,null,null,null,null,null,null,{"$f":"IF(O530=\"\",\"\",MAX($M$3:$M529)+1)","v":527},556,"حسن527",null,null,null,{"$f":"IF(M530=\"\",\"\",IF(ISERROR(MATCH($M530,$I:$I,0)),S529,MAX($S$3:$S529)+1))","v":27},""]
[null,null,null,null,null,null,null,null,null,null,null,null,{"$f":"IF(O531=\"\",\"\",MAX($M$3:$M530)+1)","v":528},557,"حسن528",null,null,null,{"$f":"IF(M531=\"\",\"\",IF(ISERROR(MATCH($M531,$I:$I,0)),S530,MAX($S$3:$S530)+1))","v":27},""]
[null,null,null,null,null,null,null,null,null,null,null,null,{"$f":"IF(O532=\"\",\"\",MAX($M$3:$M531)+1)","v":529},558,"حسن529",null,null,null,{"$f":"IF(M532=\"\",\"\",IF(ISERROR(MATCH($M532,$I:$I,0)),S531,MAX($S$3:$S531)+1))","v":27},""]
[null,null,null,null,null,null,null,null,null,null,null,null,{"$f":"IF(O533=\"\",\"\",MAX($M$3:$M532)+1)","v":530},559,"حسن530",null,null,null,{"$f":"IF(M533=\"\",\"\",IF(ISERROR(MATCH($M533,$I:$I,0)),S532,MAX($S$3:$S532)+1))","v":27},""]
[null,null,null,null,null,null,null,null,null,null,null,null,{"$f":"IF(O534=\"\",\"\",MAX($M$3:$M533)+1)","v":531},560,"حسن531",null,null,null,{"$f":"IF(M534=\"\",\"\",IF(ISERROR(MATCH($M534,$I:$I,0)),S533,MAX($S$3:$S533)+1))","v":27},""]
[null,null,null,null,null,null,null,null,null,null,null,null,{"$f":"IF(O535=\"\",\"\",MAX($M$3:$M534)+1)","v":532},561,"حسن532",null,null,null,{"$f":"IF(M535=\"\",\"\",IF(ISERROR(MATCH($M535,$I:$I,0)),S534,MAX($S$3:$S534)+1))","v":27},""]
[null,null,null,null,null,null,null,null,null,null,null,null,{"$f":"IF(O536=\"\",\"\",MAX($M$3:$M535)+1)","v":533},562,"حسن533",null,null,null,{"$f":"IF(M536=\"\",\"\",IF(ISERROR(MATCH($M536,$I:$I,0)),S535,MAX($S$3:$S535)+1))","v":27},""]
[null,null,null,null,null,null,null,null,null,null,null,null,{"$f":"IF(O537=\"\",\"\",MAX($M$3:$M536)+1)","v":534},563,"حسن534",null,null,null,{"$f":"IF(M537=\"\",\"\",IF(ISERROR(MATCH($M537,$I:$I,0)),S536,MAX($S$3:$S536)+1))","v":27},""]
[null,null,null,null,null,null,null,null,null,null,null,null,{"$f":"IF(O538=\"\",\"\",MAX($M$3:$M537)+1)","v":535},564,"حسن535",null,null,null,{"$f":"IF(M538=\"\",\"\",IF(ISERROR(MATCH($M538,$I:$I,0)),S537,MAX($S$3:$S537)+1))","v":27},""]
[null,null,null,null,null,null,null,null,null,null,null,null,{"$f":"IF(O539=\"\",\"\",MAX($M$3:$M538)+1)","v":536},565,"حسن536",null,null,null,{"$f":"IF(M539=\"\",\"\",IF(ISERROR(MATCH($M539,$I:$I,0)),S538,MAX($S$3:$S538)+1))","v":27},""]
[null,null,null,null,null,null,null,null,null,null,null,null,{"$f":"IF(O540=\"\",\"\",MAX($M$3:$M539)+1)","v":537},566,"حسن537",null,null,null,{"$f":"IF(M540=\"\",\"\",IF(ISERROR(MATCH($M540,$I:$I,0)),S539,MAX($S$3:$S539)+1))","v":27},""]
[null,null,null,null,null,null,null,null,null,null,null,null,{"$f":"IF(O541=\"\",\"\",MAX($M$3:$M540)+1)","v":538},567,"حسن538",null,null,null,{"$f":"IF(M541=\"\",\"\",IF(ISERROR(MATCH($M541,$I:$I,0)),S540,MAX($S$3:$S540)+1))","v":27},""]
[null,null,null,null,null,null,null,null,null,null,null,null,{"$f":"IF(O542=\"\",\"\",MAX($M$3:$M541)+1)","v":539},568,"حسن539",null,null,null,{"$f":"IF(M542=\"\",\"\",IF(ISERROR(MATCH($M542,$I:$I,0)),S541,MAX($S$3:$S541)+1))","v":27},""]
[null,null,null,null,null,null,null,null,null,null,null,null,{"$f":"IF(O543=\"\",\"\",MAX($M$3:$M542)+1)","v":540},569,"حسن540",null,null,null,{"$f":"IF(M543=\"\",\"\",IF(ISERROR(MATCH($M543,$I:$I,0)),S542,MAX($S$3:$S542)+1))","v":27},"نهاية اللجنة"]
[null,null,null,null,null,null,null,null,null,null,null,null,{"$f":"IF(O544=\"\",\"\",MAX($M$3:$M543)+1)","v":541},570,"حسن541",null,null,null,{"$f":"IF(M544=\"\",\"\",IF(ISERROR(MATCH($M544,$I:$I,0)),S543,MAX($S$3:$S543)+1))","v":28},""]
[null,null,null,null,null,null,null,null,null,null,null,null,{"$f":"IF(O545=\"\",\"\",MAX($M$3:$M544)+1)","v":542},571,"حسن542",null,null,null,{"$f":"IF(M545=\"\",\"\",IF(ISERROR(MATCH($M545,$I:$I,0)),S544,MAX($S$3:$S544)+1))","v":28},""]
[null,null,null,null,null,null,null,null,null,null,null,null,{"$f":"IF(O546=\"\",\"\",MAX($M$3:$M545)+1)","v":543},572,"حسن543",null,null,null,{"$f":"IF(M546=\"\",\"\",IF(ISERROR(MATCH($M546,$I:$I,0)),S545,MAX($S$3:$S545)+1))","v":28},""]
[null,null,null,null,null,null,null,null,null,null,null,null,{"$f":"IF(O547=\"\",\"\",MAX($M$3:$M546)+1)","v":544},573,"حسن544",null,null,null,{"$f":"IF(M547=\"\",\"\",IF(ISERROR(MATCH($M547,$I:$I,0)),S546,MAX($S$3:$S546)+1))","v":28},""]
[null,null,null,null,null,null,null,null,null,null,null,null,{"$f":"IF(O548=\"\",\"\",MAX($M$3:$M547)+1)","v":545},574,"حسن545",null,null,null,{"$f":"IF(M548=\"\",\"\",IF(ISERROR(MATCH($M548,$I:$I,0)),S547,MAX($S$3:$S547)+1))","v":28},""]
[null,null,null,null,null,null,null,null,null,null,null,null,{"$f":"IF(O549=\"\",\"\",MAX($M$3:$M548)+1)","v":546},575,"حسن546",null,null,null,{"$f":"IF(M549=\"\",\"\",IF(ISERROR(MATCH($M549,$I:$I,0)),S548,MAX($S$3:$S548)+1))","v":28},""]
[null,null,null,null,null,null,null,null,null,null,null,null,{"$f":"IF(O550=\"\",\"\",MAX($M$3:$M549)+1)","v":547},576,"حسن547",null,null,null,{"$f":"IF(M550=\"\",\"\",IF(ISERROR(MATCH($M550,$I:$I,0)),S549,MAX($S$3:$S549)+1))","v":28},""]
[null,null,null,null,null,null,null,null,null,null,null,null,{"$f":"IF(O551=\"\",\"\",MAX($M$3:$M550)+1)","v":548},577,"حسن548",null,null,null,{"$f":"IF(M551=\"\",\"\",IF(ISERROR(MATCH($M551,$I:$I,0)),S550,MAX($S$3:$S550)+1))","v":28},""]
[null,null,null,null,null,null,null,null,null,null,null,null,{"$f":"IF(O552=\"\",\"\",MAX($M$3:$M551)+1)","v":549},578,"حسن549",null,null,null,{"$f":"IF(M552=\"\",\"\",IF(ISERROR(MATCH($M552,$I:$I,0)),S551,MAX($S$3:$S551)+1))","v":28},""]
[null,null,null,null,null,null,null,null,null,null,null,null,{"$f":"IF(O553=\"\",\"\",MAX($M$3:$M552)+1)","v":550},579,"حسن550",null,null,null,{"$f":"IF(M553=\"\",\"\",IF(ISERROR(MATCH($M553,$I:$I,0)),S552,MAX($S$3:$S552)+1))","v":28},""]
[null,null,null,null,null,null,null,null,null,null,null,null,{"$f":"IF(O554=\"\",\"\",MAX($M$3:$M553)+1)","v":551},580,"حسن551",null,null,null,{"$f":"IF(M554=\"\",\"\",IF(ISERROR(MATCH($M554,$I:$I,0)),S553,MAX($S$3:$S553)+1))","v":28},""]
[null,null,null,null,null,null,null,null,null,null,null,null,{"$f":"IF(O555=\"\",\"\",MAX($M$3:$M554)+1)","v":552},581,"حسن552",null,null,null,{"$f":"IF(M555=\"\",\"\",IF(ISERROR(MATCH($M555,$I:$I,0)),S554,MAX($S$3:$S554)+1))","v":28},""]
[null,null,null,null,null,null,null,null,null,null,null,null,{"$f":"IF(O556=\"\",\"\",MAX($M$3:$M555)+1)","v":553},582,"حسن553",null,null,null,{"$f":"IF(M556=\"\",\"\",IF(ISERROR(MATCH($M556,$I:$I,0)),S555,MAX($S$3:$S555)+1))","v":28},""]
[null,null,null,null,null,null,null,null,null,null,null,null,{"$f":"IF(O557=\"\",\"\",MAX($M$3:$M556)+1)","v":554},583,"حسن554",null,null,null,{"$f":"IF(M557=\"\",\"\",IF(ISERROR(MATCH($M557,$I:$I,0)),S556,MAX($S$3:$S556)+1))","v":28},""]
[null,null,null,null,null,null,null,null,null,null,null,null,{"$f":"IF(O558=\"\",\"\",MAX($M$3:$M557)+1)","v":555},584,"حسن555",null,null,null,{"$f":"IF(M558=\"\",\"\",IF(ISERROR(MATCH($M558,$I:$I,0)),S557,MAX($S$3:$S557)+1))","v":28},""]
[null,null,null,null,null,null,null,null,null,null,null,null,{"$f":"IF(O559=\"\",\"\",MAX($M$3:$M558)+1)","v":556},585,"حسن556",null,null,null,{"$f":"IF(M559=\"\",\"\",IF(ISERROR(MATCH($M559,$I:$I,0)),S558,MAX($S$3:$S558)+1))","v":28},""]
[null,null,null,null,null,null,null,null,null,null,null,null,{"$f":"IF(O560=\"\",\"\",MAX($M$3:$M559)+1)","v":557},586,"حسن557",null,null,null,{"$f":"IF(M560=\"\",\"\",IF(ISERROR(MATCH($M560,$I:$I,0)),S559,MAX($S$3:$S559)+1))","v":28},""]
[null,null,null,null,null,null,null,null,null,null,null,null,{"$f":"IF(O561=\"\",\"\",MAX($M$3:$M560)+1)","v":558},587,"حسن558",null,null,null,{"$f":"IF(M561=\"\",\"\",IF(ISERROR(MATCH($M561,$I:$I,0)),S560,MAX($S$3:$S560)+1))","v":28},""]
[null,null,null,null,null,null,null,null,null,null,null,null,{"$f":"IF(O562=\"\",\"\",MAX($M$3:$M561)+1)","v":559},588,"حسن559",null,null,null,{"$f":"IF(M562=\"\",\"\",IF(ISERROR(MATCH($M562,$I:$I,0)),S561,MAX($S$3:$S561)+1))","v":28},""]
[null,null,null,null,null,null,null,null,null,null,null,null,{"$f":"IF(O563=\"\",\"\",MAX($M$3:$M562)+1)","v":560},589,"حسن560",null,null,null,{"$f":"IF(M563=\"\",\"\",IF(ISERROR(MATCH($M563,$I:$I,0)),S562,MAX($S$3:$S562)+1))","v":28},"نهاية اللجنة"]
[null,null,null,null,null,null,null,null,null,null,null,null,{"$f":"IF(O564=\"\",\"\",MAX($M$3:$M563)+1)","v":561},590,"حسن561",null,null,null,{"$f":"IF(M564=\"\",\"\",IF(ISERROR(MATCH($M564,$I:$I,0)),S563,MAX($S$3:$S563)+1))","v":29},""]
[null,null,null,null,null,null,null,null,null,null,null,null,{"$f":"IF(O565=\"\",\"\",MAX($M$3:$M564)+1)","v":562},591,"حسن562",null,null,null,{"$f":"IF(M565=\"\",\"\",IF(ISERROR(MATCH($M565,$I:$I,0)),S564,MAX($S$3:$S564)+1))","v":29},""]
[null,null,null,null,null,null,null,null,null,null,null,null,{"$f":"IF(O566=\"\",\"\",MAX($M$3:$M565)+1)","v":563},592,"حسن563",null,null,null,{"$f":"IF(M566=\"\",\"\",IF(ISERROR(MATCH($M566,$I:$I,0)),S565,MAX($S$3:$S565)+1))","v":29},""]
[null,null,null,null,null,null,null,null,null,null,null,null,{"$f":"IF(O567=\"\",\"\",MAX($M$3:$M566)+1)","v":564},593,"حسن564",null,null,null,{"$f":"IF(M567=\"\",\"\",IF(ISERROR(MATCH($M567,$I:$I,0)),S566,MAX($S$3:$S566)+1))","v":29},""]
[null,null,null,null,null,null,null,null,null,null,null,null,{"$f":"IF(O568=\"\",\"\",MAX($M$3:$M567)+1)","v":565},594,"حسن565",null,null,null,{"$f":"IF(M568=\"\",\"\",IF(ISERROR(MATCH($M568,$I:$I,0)),S567,MAX($S$3:$S567)+1))","v":29},""]
[null,null,null,null,null,null,null,null,null,null,null,null,{"$f":"IF(O569=\"\",\"\",MAX($M$3:$M568)+1)","v":566},595,"حسن566",null,null,null,{"$f":"IF(M569=\"\",\"\",IF(ISERROR(MATCH($M569,$I:$I,0)),S568,MAX($S$3:$S568)+1))","v":29},""]
[null,null,null,null,null,null,null,null,null,null,null,null,{"$f":"IF(O570=\"\",\"\",MAX($M$3:$M569)+1)","v":567},596,"حسن567",null,null,null,{"$f":"IF(M570=\"\",\"\",IF(ISERROR(MATCH($M570,$I:$I,0)),S569,MAX($S$3:$S569)+1))","v":29},""]
[null,null,null,null,null,null,null,null,null,null,null,null,{"$f":"IF(O571=\"\",\"\",MAX($M$3:$M570)+1)","v":568},597,"حسن568",null,null,null,{"$f":"IF(M571=\"\",\"\",IF(ISERROR(MATCH($M571,$I:$I,0)),S570,MAX($S$3:$S570)+1))","v":29},""]
[null,null,null,null,null,null,null,null,null,null,null,null,{"$f":"IF(O572=\"\",\"\",MAX($M$3:$M571)+1)","v":569},598,"حسن569",null,null,null,{"$f":"IF(M572=\"\",\"\",IF(ISERROR(MATCH($M572,$I:$I,0)),S571,MAX($S$3:$S571)+1))","v":29},""]
[null,null,null,null,null,null,null,null,null,null,null,null,{"$f":"IF(O573=\"\",\"\",MAX($M$3:$M572)+1)","v":570},599,"حسن570",null,null,null,{"$f":"IF(M573=\"\",\"\",IF(ISERROR(MATCH($M573,$I:$I,0)),S572,MAX($S$3:$S572)+1))","v":29},""]
[null,null,null,null,null,null,null,null,null,null,null,null,{"$f":"IF(O574=\"\",\"\",MAX($M$3:$M573)+1)","v":571},600,"حسن571",null,null,null,{"$f":"IF(M574=\"\",\"\",IF(ISERROR(MATCH($M574,$I:$I,0)),S573,MAX($S$3:$S573)+1))","v":29},""]
[null,null,null,null,null,null,null,null,null,null,null,null,{"$f":"IF(O575=\"\",\"\",MAX($M$3:$M574)+1)","v":572},601,"حسن572",null,null,null,{"$f":"IF(M575=\"\",\"\",IF(ISERROR(MATCH($M575,$I:$I,0)),S574,MAX($S$3:$S574)+1))","v":29},""]
[null,null,null,null,null,null,null,null,null,null,null,null,{"$f":"IF(O576=\"\",\"\",MAX($M$3:$M575)+1)","v":573},602,"حسن573",null,null,null,{"$f":"IF(M576=\"\",\"\",IF(ISERROR(MATCH($M576,$I:$I,0)),S575,MAX($S$3:$S575)+1))","v":29},""]
[null,null,null,null,null,null,null,null,null,null,null,null,{"$f":"IF(O577=\"\",\"\",MAX($M$3:$M576)+1)","v":574},603,"حسن574",null,null,null,{"$f":"IF(M577=\"\",\"\",IF(ISERROR(MATCH($M577,$I:$I,0)),S576,MAX($S$3:$S576)+1))","v":29},""]
[null,null,null,null,null,null,null,null,null,null,null,null,{"$f":"IF(O578=\"\",\"\",MAX($M$3:$M577)+1)","v":575},604,"حسن575",null,null,null,{"$f":"IF(M578=\"\",\"\",IF(ISERROR(MATCH($M578,$I:$I,0)),S577,MAX($S$3:$S577)+1))","v":29},""]
[null,null,null,null,null,null,null,null,null,null,null,null,{"$f":"IF(O579=\"\",\"\",MAX($M$3:$M578)+1)","v":576},605,"حسن576",null,null,null,{"$f":"IF(M579=\"\",\"\",IF(ISERROR(MATCH($M579,$I:$I,0)),S578,MAX($S$3:$S578)+1))","v":29},""]
[null,null,null,null,null,null,null,null,null,null,null,null,{"$f":"IF(O580=\"\",\"\",MAX($M$3:$M579)+1)","v":577},606,"حسن577",null,null,null,{"$f":"IF(M580=\"\",\"\",IF(ISERROR(MATCH($M580,$I:$I,0)),S579,MAX($S$3:$S579)+1))","v":29},""]
[null,null,null,null,null,null,null,null,null,null,null,null,{"$f":"IF(O581=\"\",\"\",MAX($M$3:$M580)+1)","v":578},607,"حسن578",null,null,null,{"$f":"IF(M581=\"\",\"\",IF(ISERROR(MATCH($M581,$I:$I,0)),S580,MAX($S$3:$S580)+1))","v":29},{"$f":"IF(S581=S582,\"\",\"نهاية اللجنة\")","v":""}]
[null,null,null,null,null,null,null,null,null,null,null,null,{"$f":"IF(O582=\"\",\"\",MAX($M$3:$M581)+1)","v":579},{"$f":"IF(M582=\"\",\"\",N581+1)","v":608},"حسن579",null,null,null,{"$f":"IF(M582=\"\",\"\",IF(ISERROR(MATCH($M582,$I:$I,0)),S581,MAX($S$3:$S581)+1))","v":29},""]
[null,null,null,null,null,null,null,null,null,null,null,null,{"$f":"IF(O583=\"\",\"\",MAX($M$3:$M582)+1)","v":580},609,"حسن580",null,null,null,{"$f":"IF(M583=\"\",\"\",IF(ISERROR(MATCH($M583,$I:$I,0)),S582,MAX($S$3:$S582)+1))","v":29},"نهاية اللجنة"]
[null,null,null,null,null,null,null,null,null,null,null,null,{"$f":"IF(O584=\"\",\"\",MAX($M$3:$M583)+1)","v":""},"",null,null,null,null,{"$f":"IF(M584=\"\",\"\",IF(ISERROR(MATCH($M584,$I:$I,0)),S583,MAX($S$3:$S583)+1))","v":""},""]
[null,null,null,null,null,null,null,null,null,null,null,null,{"$f":"IF(O585=\"\",\"\",MAX($M$3:$M584)+1)","v":""},"",null,null,null,null,{"$f":"IF(M585=\"\",\"\",IF(ISERROR(MATCH($M585,$I:$I,0)),S584,MAX($S$3:$S584)+1))","v":""},""]
[null,null,null,null,null,null,null,null,null,null,null,null,{"$f":"IF(O586=\"\",\"\",MAX($M$3:$M585)+1)","v":""},"",null,null,null,null,{"$f":"IF(M586=\"\",\"\",IF(ISERROR(MATCH($M586,$I:$I,0)),S585,MAX($S$3:$S585)+1))","v":""},""]
[null,null,null,null,null,null,null,null,null,null,null,null,{"$f":"IF(O587=\"\",\"\",MAX($M$3:$M586)+1)","v":""},"",null,null,null,null,{"$f":"IF(M587=\"\",\"\",IF(ISERROR(MATCH($M587,$I:$I,0)),S586,MAX($S$3:$S586)+1))","v":""},""]
[null,null,null,null,null,null,null,null,null,null,null,null,{"$f":"IF(O588=\"\",\"\",MAX($M$3:$M587)+1)","v":""},"",null,null,null,null,{"$f":"IF(M588=\"\",\"\",IF(ISERROR(MATCH($M588,$I:$I,0)),S587,MAX($S$3:$S587)+1))","v":""},""]
[null,null,null,null,null,null,null,null,null,null,null,null,{"$f":"IF(O589=\"\",\"\",MAX($M$3:$M588)+1)","v":""},"",null,null,null,null,{"$f":"IF(M589=\"\",\"\",IF(ISERROR(MATCH($M589,$I:$I,0)),S588,MAX($S$3:$S588)+1))","v":""},""]
[null,null,null,null,null,null,null,null,null,null,null,null,{"$f":"IF(O590=\"\",\"\",MAX($M$3:$M589)+1)","v":""},"",null,null,null,null,{"$f":"IF(M590=\"\",\"\",IF(ISERROR(MATCH($M590,$I:$I,0)),S589,MAX($S$3:$S589)+1))","v":""},""]
[null,null,null,null,null,null,null,null,null,null,null,null,{"$f":"IF(O591=\"\",\"\",MAX($M$3:$M590)+1)","v":""},"",null,null,null,null,{"$f":"IF(M591=\"\",\"\",IF(ISERROR(MATCH($M591,$I:$I,0)),S590,MAX($S$3:$S590)+1))","v":""},""]
[null,null,null,null,null,null,null,null,null,null,null,null,{"$f":"IF(O592=\"\",\"\",MAX($M$3:$M591)+1)","v":""},"",null,null,null,null,{"$f":"IF(M592=\"\",\"\",IF(ISERROR(MATCH($M592,$I:$I,0)),S591,MAX($S$3:$S591)+1))","v":""},""]
[null,null,null,null,null,null,null,null,null,null,null,null,{"$f":"IF(O593=\"\",\"\",MAX($M$3:$M592)+1)","v":""},"",null,null,null,null,{"$f":"IF(M593=\"\",\"\",IF(ISERROR(MATCH($M593,$I:$I,0)),S592,MAX($S$3:$S592)+1))","v":""},""]
[null,null,null,null,null,null,null,null,null,null,null,null,{"$f":"IF(O594=\"\",\"\",MAX($M$3:$M593)+1)","v":""},"",null,null,null,null,{"$f":"IF(M594=\"\",\"\",IF(ISERROR(MATCH($M594,$I:$I,0)),S593,MAX($S$3:$S593)+1))","v":""},""]
[null,null,null,null,null,null,null,null,null,null,null,null,{"$f":"IF(O595=\"\",\"\",MAX($M$3:$M594)+1)","v":""},"",null,null,null,null,{"$f":"IF(M595=\"\",\"\",IF(ISERROR(MATCH($M595,$I:$I,0)),S594,MAX($S$3:$S594)+1))","v":""},""]
[null,null,null,null,null,null,null,null,null,null,null,null,{"$f":"IF(O596=\"\",\"\",MAX($M$3:$M595)+1)","v":""},"",null,null,null,null,{"$f":"IF(M596=\"\",\"\",IF(ISERROR(MATCH($M596,$I:$I,0)),S595,MAX($S$3:$S595)+1))","v":""},""]
[null,null,null,null,null,null,null,null,null,null,null,null,{"$f":"IF(O597=\"\",\"\",MAX($M$3:$M596)+1)","v":""},"",null,null,null,null,{"$f":"IF(M597=\"\",\"\",IF(ISERROR(MATCH($M597,$I:$I,0)),S596,MAX($S$3:$S596)+1))","v":""},""]
[null,null,null,null,null,null,null,null,null,null,null,null,{"$f":"IF(O598=\"\",\"\",MAX($M$3:$M597)+1)","v":""},"",null,null,null,null,{"$f":"IF(M598=\"\",\"\",IF(ISERROR(MATCH($M598,$I:$I,0)),S597,MAX($S$3:$S597)+1))","v":""},""]
[null,null,null,null,null,null,null,null,null,null,null,null,{"$f":"IF(O599=\"\",\"\",MAX($M$3:$M598)+1)","v":""},"",null,null,null,null,{"$f":"IF(M599=\"\",\"\",IF(ISERROR(MATCH($M599,$I:$I,0)),S598,MAX($S$3:$S598)+1))","v":""},""]
[null,null,null,null,null,null,null,null,null,null,null,null,{"$f":"IF(O600=\"\",\"\",MAX($M$3:$M599)+1)","v":""},"",null,null,null,null,{"$f":"IF(M600=\"\",\"\",IF(ISERROR(MATCH($M600,$I:$I,0)),S599,MAX($S$3:$S599)+1))","v":""},""]
[null,null,null,null,null,null,null,null,null,null,null,null,{"$f":"(IF(O601=\"\",\"\",ROW()-3))","v":""},"",null,null,null,null,{"$f":"IF(M601=\"\",\"\",IF(ISERROR(MATCH($M601,$I:$I,0)),S600,MAX($S$3:$S600)+1))","v":""},""]
[null,null,null,null,null,null,null,null,null,null,null,null,"","",null,null,null,null,{"$f":"IF(M602=\"\",\"\",IF(ISERROR(MATCH($M602,$I:$I,0)),S601,MAX($S$3:$S601)+1))","v":""},""]
[null,null,null,null,null,null,null,null,null,null,null,null,"","",null,null,null,null,{"$f":"IF(M603=\"\",\"\",IF(ISERROR(MATCH($M603,$I:$I,0)),S602,MAX($S$3:$S602)+1))","v":""},""]

{"sheet":"أرقام جلوس الثاني","index":4,"n_rows":219,"n_cols":15,"rows_kept":219,"cut":false,"hidden":false,"merged":[[0,0,0,1],[1,0,1,1],[0,6,0,7],[1,6,1,7],[2,6,2,10],[2,0,2,4],[4,0,5,0],[4,1,5,1],[4,2,4,3],[4,4,5,4],[12,0,12,1],[13,0,13,4],[15,0,16,0],[15,1,16,1],[15,2,15,3],[15,4,16,4],[4,6,5,6],[4,7,5,7],[4,8,4,9],[12,6,12,7],[13,6,13,10],[15,6,16,6],[15,7,16,7],[15,8,15,9],[15,10,16,10],[4,10,5,10],[11,0,11,1],[11,6,11,7],[33,0,33,1],[34,0,34,1],[35,0,35,4],[37,0,38,0],[37,1,38,1],[37,2,37,3],[37,4,38,4],[22,0,22,1],[23,0,23,1],[24,0,24,4],[26,0,27,0],[26,1,27,1],[26,2,26,3],[26,4,27,4],[55,0,55,1],[56,0,56,1],[57,0,57,4],[59,0,60,0],[59,1,60,1],[59,2,59,3],[59,4,60,4],[44,0,44,1],[45,0,45,1],[46,0,46,4],[48,0,49,0],[48,1,49,1],[48,2,48,3],[48,4,49,4],[77,0,77,1],[78,0,78,1],[79,0,79,4],[81,0,82,0],[81,1,82,1],[81,2,81,3],[81,4,82,4],[66,0,66,1],[67,0,67,1],[68,0,68,4],[70,0,71,0],[70,1,71,1],[70,2,70,3],[70,4,71,4],[99,0,99,1],[100,0,100,1],[101,0,101,4],[103,0,104,0],[103,1,104,1],[103,2,103,3],[103,4,104,4],[88,0,88,1],[89,0,89,1],[90,0,90,4],[92,0,93,0],[92,1,93,1],[92,2,92,3],[92,4,93,4],[121,0,121,1],[122,0,122,1],[123,0,123,4],[125,0,126,0],[125,1,126,1],[125,2,125,3],[125,4,126,4],[110,0,110,1],[111,0,111,1],[112,0,112,4],[114,0,115,0],[114,1,115,1],[114,2,114,3],[114,4,115,4],[143,0,143,1],[144,0,144,1],[145,0,145,4],[147,0,148,0],[147,1,148,1],[147,2,147,3],[147,4,148,4],[132,0,132,1],[133,0,133,1],[134,0,134,4],[136,0,137,0],[136,1,137,1],[136,2,136,3],[136,4,137,4],[166,0,166,1],[167,0,167,4],[169,0,170,0],[169,1,170,1],[169,2,169,3],[169,4,170,4],[154,0,154,1],[155,0,155,1],[156,0,156,4],[158,0,159,0],[158,1,159,1],[158,2,158,3],[158,4,159,4],[165,0,165,1],[213,0,214,0],[213,1,214,1],[213,2,213,3],[213,4,214,4],[198,0,198,1],[199,0,199,1],[200,0,200,4],[202,0,203,0],[202,1,203,1],[202,2,202,3],[202,4,203,4],[209,0,209,1],[210,0,210,1],[211,0,211,4],[187,0,187,1],[188,0,188,1],[189,0,189,4],[191,0,192,0],[191,1,192,1],[191,2,191,3],[191,4,192,4],[176,0,176,1],[177,0,177,1],[178,0,178,4],[180,0,181,0],[180,1,181,1],[180,2,180,3],[180,4,181,4],[33,6,33,7],[34,6,34,7],[35,6,35,10],[37,6,38,6],[37,7,38,7],[37,8,37,9],[37,10,38,10],[22,6,22,7],[23,6,23,7],[24,6,24,10],[26,6,27,6],[26,7,27,7],[26,8,26,9],[26,10,27,10],[55,6,55,7],[56,6,56,7],[57,6,57,10],[59,6,60,6],[59,7,60,7],[59,8,59,9],[59,10,60,10],[44,6,44,7],[45,6,45,7],[46,6,46,10],[48,6,49,6],[48,7,49,7],[48,8,48,9],[48,10,49,10],[77,6,77,7],[78,6,78,7],[79,6,79,10],[81,6,82,6],[81,7,82,7],[81,8,81,9],[81,10,82,10],[66,6,66,7],[67,6,67,7],[68,6,68,10],[70,6,71,6],[70,7,71,7],[70,8,70,9],[70,10,71,10],[99,6,99,7],[100,6,100,7],[101,6,101,10],[103,6,104,6],[103,7,104,7],[103,8,103,9],[103,10,104,10],[88,6,88,7],[89,6,89,7],[90,6,90,10],[92,6,93,6],[92,7,93,7],[92,8,92,9],[92,10,93,10],[121,6,121,7],[122,6,122,7],[123,6,123,10],[125,6,126,6],[125,7,126,7],[125,8,125,9],[125,10,126,10],[110,6,110,7],[111,6,111,7],[112,6,112,10],[114,6,115,6],[114,7,115,7],[114,8,114,9],[114,10,115,10],[143,6,143,7],[144,6,144,7],[145,6,145,10],[147,6,148,6],[147,7,148,7],[147,8,147,9],[147,10,148,10],[132,6,132,7],[133,6,133,7],[134,6,134,10],[136,6,137,6],[136,7,137,7],[136,8,136,9],[136,10,137,10],[165,6,165,7],[166,6,166,7],[167,6,167,10],[169,6,170,6],[169,7,170,7],[169,8,169,9],[169,10,170,10],[154,6,154,7],[155,6,155,7],[156,6,156,10],[158,6,159,6],[158,7,159,7],[158,8,158,9],[158,10,159,10],[187,6,187,7],[188,6,188,7],[189,6,189,10],[191,6,192,6],[191,7,192,7],[191,8,191,9],[191,10,192,10],[176,6,176,7],[177,6,177,7],[178,6,178,10],[180,6,181,6],[180,7,181,7],[180,8,180,9],[180,10,181,10],[209,6,209,7],[210,6,210,7],[211,6,211,10],[213,6,214,6],[213,7,214,7],[213,8,213,9],[213,10,214,10],[198,6,198,7],[199,6,199,7],[200,6,200,10],[202,6,203,6],[202,7,203,7],[202,8,202,9],[202,10,203,10]]}
[{"$f":"'جدول الصف الثاني'!$A$1","v":"إدارة /غرب المحلة الكبرى التعليمية"},null,null,"رقم اللجنة",{"$f":"VLOOKUP(E2,اسماء_الثاني,7,FALSE)","v":1},null,{"$f":"'جدول الصف الثاني'!$A$1","v":"إدارة /غرب المحلة الكبرى التعليمية"},null,null,"رقم اللجنة",{"$f":"VLOOKUP(K2,اسماء_الثاني,7,FALSE)","v":2},null,null,null,1]
[{"$f":"'جدول الصف الثاني'!$A$2","v":"مدرسة د/علي علي حبيش الابتدائية"},null,{"$f":"'جدول الصف الثاني'!$C$5","v":"الصف الثاني"},null,{"$f":"O1","v":1},null,{"$f":"'جدول الصف الثاني'!$A$2","v":"مدرسة د/علي علي حبيش الابتدائية"},null,{"$f":"'جدول الصف الثاني'!$C$5","v":"الصف الثاني"},null,{"$f":"E211+1","v":21}]
[{"$f":"'جدول الصف الثاني'!$B$4","v":"جدول امتحان الفصل الدراسي الأول / الثاني للعام الدراسي 2019/2018"},null,null,null,null,null,{"$f":"'جدول الصف الثاني'!$B$4","v":"جدول امتحان الفصل الدراسي الأول / الثاني للعام الدراسي 2019/2018"}]
["اسم التلميذ",{"$f":"VLOOKUP(E2,اسماء_الثاني,3,FALSE)","v":"حسن1"},"رقم الجلوس",{"$f":"VLOOKUP(E2,اسماء_الثاني,2,FALSE)","v":30},null,null,"اسم التلميذ",{"$f":"VLOOKUP(K2,اسماء_الثاني,3,FALSE)","v":"حسن21"},"رقم الجلوس",{"$f":"VLOOKUP(K2,اسماء_الثاني,2,FALSE)","v":50}]
["اليوم والتاريخ","المــــــــــــــادة","الوقـــت",null,"الزمن",null,"اليوم والتاريخ","المــــــــــــــادة","الوقـــت",null,"الزمن"]
[null,null,"من ","إلي",null,null,null,null,"من ","إلي"]
[{"$f":"'جدول الصف الثاني'!$B$8","v":"السبت"},{"$f":"'جدول الصف الثاني'!$C$8","v":"لغة عربية وخط"},{"$f":"'جدول الصف الثاني'!$D$8","v":8},{"$f":"'جدول الصف الثاني'!$E$8","v":10},{"$f":"'جدول الصف الثاني'!$F$8","v":"ساعتان"},null,{"$f":"'جدول الصف الثاني'!$B$8","v":"السبت"},{"$f":"'جدول الصف الثاني'!$C$8","v":"لغة عربية وخط"},{"$f":"'جدول الصف الثاني'!$D$8","v":8},{"$f":"'جدول الصف الثاني'!$E$8","v":10},{"$f":"'جدول الصف الثاني'!$F$8","v":"ساعتان"}]
[{"$f":"'جدول الصف الثاني'!$B$9","v":"2018-01-01"},{"$f":"'جدول الصف الثاني'!$C$9","v":"التربية الدينية"},{"$f":"'جدول الصف الثاني'!$D$9","v":10.15},{"$f":"'جدول الصف الثاني'!$E$9","v":11.45},{"$f":"'جدول الصف الثاني'!$F$9","v":"ساعة"},null,{"$f":"'جدول الصف الثاني'!$B$9","v":"2018-01-01"},{"$f":"'جدول الصف الثاني'!$C$9","v":"التربية الدينية"},{"$f":"'جدول الصف الثاني'!$D$9","v":10.15},{"$f":"'جدول الصف الثاني'!$E$9","v":11.45},{"$f":"'جدول الصف الثاني'!$F$9","v":"ساعة"}]
[{"$f":"'جدول الصف الثاني'!$B$10","v":"الأحد"},{"$f":"'جدول الصف الثاني'!$C$10","v":"الرياضيات"},{"$f":"'جدول الصف الثاني'!$D$10","v":8},{"$f":"'جدول الصف الثاني'!$E$10","v":9.3000000000000007},{"$f":"'جدول الصف الثاني'!$F$10","v":"ساعة ونصف"},null,{"$f":"'جدول الصف الثاني'!$B$10","v":"الأحد"},{"$f":"'جدول الصف الثاني'!$C$10","v":"الرياضيات"},{"$f":"'جدول الصف الثاني'!$D$10","v":8},{"$f":"'جدول الصف الثاني'!$E$10","v":9.3000000000000007},{"$f":"'جدول الصف الثاني'!$F$10","v":"ساعة ونصف"}]
[{"$f":"'جدول الصف الثاني'!$B$11","v":"2018-01-02"},{"$f":"'جدول الصف الثاني'!$C$11","v":"اللغة الإنجليزية {شفهي}"},{"$f":"'جدول الصف الثاني'!$D$11","v":9.4499999999999993},{"$f":"'جدول الصف الثاني'!$E$11","v":11.15},{"$f":"'جدول الصف الثاني'!$F$11","v":"ساعة ونصف"},null,{"$f":"'جدول الصف الثاني'!$B$11","v":"2018-01-02"},{"$f":"'جدول الصف الثاني'!$C$11","v":"اللغة الإنجليزية {شفهي}"},{"$f":"'جدول الصف الثاني'!$D$11","v":9.4499999999999993},{"$f":"'جدول الصف الثاني'!$E$11","v":11.15},{"$f":"'جدول الصف الثاني'!$F$11","v":"ساعة ونصف"}]
[]
[{"$f":"'جدول الصف الثاني'!$A$1","v":"إدارة /غرب المحلة الكبرى التعليمية"},null,null,"رقم اللجنة",{"$f":"VLOOKUP(E13,اسماء_الثاني,7,FALSE)","v":1},null,{"$f":"'جدول الصف الثاني'!$A$1","v":"إدارة /غرب المحلة الكبرى التعليمية"},null,null,"رقم اللجنة",{"$f":"VLOOKUP(K13,اسماء_الثاني,7,FALSE)","v":2}]
[{"$f":"'جدول الصف الثاني'!$A$2","v":"مدرسة د/علي علي حبيش الابتدائية"},null,{"$f":"'جدول الصف الثاني'!$C$5","v":"الصف الثاني"},null,{"$f":"E2+1","v":2},null,{"$f":"'جدول الصف الثاني'!$A$2","v":"مدرسة د/علي علي حبيش الابتدائية"},null,{"$f":"'جدول الصف الثاني'!$C$5","v":"الصف الثاني"},null,{"$f":"K2+1","v":22}]
[{"$f":"'جدول الصف الثاني'!$B$4","v":"جدول امتحان الفصل الدراسي الأول / الثاني للعام الدراسي 2019/2018"},null,null,null,null,null,{"$f":"'جدول الصف الثاني'!$B$4","v":"جدول امتحان الفصل الدراسي الأول / الثاني للعام الدراسي 2019/2018"}]
["اسم التلميذ",{"$f":"VLOOKUP(E13,اسماء_الثاني,3,FALSE)","v":"حسن2"},"رقم الجلوس",{"$f":"VLOOKUP(E13,اسماء_الثاني,2,FALSE)","v":31},null,null,"اسم التلميذ",{"$f":"VLOOKUP(K13,اسماء_الثاني,3,FALSE)","v":"حسن22"},"رقم الجلوس",{"$f":"VLOOKUP(K13,اسماء_الثاني,2,FALSE)","v":51}]
["اليوم والتاريخ","المــــــــــــــادة","الوقـــت",null,"الزمن",null,"اليوم والتاريخ","المــــــــــــــادة","الوقـــت",null,"الزمن"]
[null,null,"من ","إلي",null,null,null,null,"من ","إلي"]
[{"$f":"'جدول الصف الثاني'!$B$8","v":"السبت"},{"$f":"'جدول الصف الثاني'!$C$8","v":"لغة عربية وخط"},{"$f":"'جدول الصف الثاني'!$D$8","v":8},{"$f":"'جدول الصف الثاني'!$E$8","v":10},{"$f":"'جدول الصف الثاني'!$F$8","v":"ساعتان"},null,{"$f":"'جدول الصف الثاني'!$B$8","v":"السبت"},{"$f":"'جدول الصف الثاني'!$C$8","v":"لغة عربية وخط"},{"$f":"'جدول الصف الثاني'!$D$8","v":8},{"$f":"'جدول الصف الثاني'!$E$8","v":10},{"$f":"'جدول الصف الثاني'!$F$8","v":"ساعتان"}]
[{"$f":"'جدول الصف الثاني'!$B$9","v":"2018-01-01"},{"$f":"'جدول الصف الثاني'!$C$9","v":"التربية الدينية"},{"$f":"'جدول الصف الثاني'!$D$9","v":10.15},{"$f":"'جدول الصف الثاني'!$E$9","v":11.45},{"$f":"'جدول الصف الثاني'!$F$9","v":"ساعة"},null,{"$f":"'جدول الصف الثاني'!$B$9","v":"2018-01-01"},{"$f":"'جدول الصف الثاني'!$C$9","v":"التربية الدينية"},{"$f":"'جدول الصف الثاني'!$D$9","v":10.15},{"$f":"'جدول الصف الثاني'!$E$9","v":11.45},{"$f":"'جدول الصف الثاني'!$F$9","v":"ساعة"}]
[{"$f":"'جدول الصف الثاني'!$B$10","v":"الأحد"},{"$f":"'جدول الصف الثاني'!$C$10","v":"الرياضيات"},{"$f":"'جدول الصف الثاني'!$D$10","v":8},{"$f":"'جدول الصف الثاني'!$E$10","v":9.3000000000000007},{"$f":"'جدول الصف الثاني'!$F$10","v":"ساعة ونصف"},null,{"$f":"'جدول الصف الثاني'!$B$10","v":"الأحد"},{"$f":"'جدول الصف الثاني'!$C$10","v":"الرياضيات"},{"$f":"'جدول الصف الثاني'!$D$10","v":8},{"$f":"'جدول الصف الثاني'!$E$10","v":9.3000000000000007},{"$f":"'جدول الصف الثاني'!$F$10","v":"ساعة ونصف"}]
[{"$f":"'جدول الصف الثاني'!$B$11","v":"2018-01-02"},{"$f":"'جدول الصف الثاني'!$C$11","v":"اللغة الإنجليزية {شفهي}"},{"$f":"'جدول الصف الثاني'!$D$11","v":9.4499999999999993},{"$f":"'جدول الصف الثاني'!$E$11","v":11.15},{"$f":"'جدول الصف الثاني'!$F$11","v":"ساعة ونصف"},null,{"$f":"'جدول الصف الثاني'!$B$11","v":"2018-01-02"},{"$f":"'جدول الصف الثاني'!$C$11","v":"اللغة الإنجليزية {شفهي}"},{"$f":"'جدول الصف الثاني'!$D$11","v":9.4499999999999993},{"$f":"'جدول الصف الثاني'!$E$11","v":11.15},{"$f":"'جدول الصف الثاني'!$F$11","v":"ساعة ونصف"}]
[]
[{"$f":"'جدول الصف الثاني'!$A$1","v":"إدارة /غرب المحلة الكبرى التعليمية"},null,null,"رقم اللجنة",{"$f":"VLOOKUP(E24,اسماء_الثاني,7,FALSE)","v":1},null,{"$f":"'جدول الصف الثاني'!$A$1","v":"إدارة /غرب المحلة الكبرى التعليمية"},null,null,"رقم اللجنة",{"$f":"VLOOKUP(K24,اسماء_الثاني,7,FALSE)","v":2}]
[{"$f":"'جدول الصف الثاني'!$A$2","v":"مدرسة د/علي علي حبيش الابتدائية"},null,{"$f":"'جدول الصف الثاني'!$C$5","v":"الصف الثاني"},null,{"$f":"E13+1","v":3},null,{"$f":"'جدول الصف الثاني'!$A$2","v":"مدرسة د/علي علي حبيش الابتدائية"},null,{"$f":"'جدول الصف الثاني'!$C$5","v":"الصف الثاني"},null,{"$f":"K13+1","v":23}]
[{"$f":"'جدول الصف الثاني'!$B$4","v":"جدول امتحان الفصل الدراسي الأول / الثاني للعام الدراسي 2019/2018"},null,null,null,null,null,{"$f":"'جدول الصف الثاني'!$B$4","v":"جدول امتحان الفصل الدراسي الأول / الثاني للعام الدراسي 2019/2018"}]
["اسم التلميذ",{"$f":"VLOOKUP(E24,اسماء_الثاني,3,FALSE)","v":"حسن3"},"رقم الجلوس",{"$f":"VLOOKUP(E24,اسماء_الثاني,2,FALSE)","v":32},null,null,"اسم التلميذ",{"$f":"VLOOKUP(K24,اسماء_الثاني,3,FALSE)","v":"حسن23"},"رقم الجلوس",{"$f":"VLOOKUP(K24,اسماء_الثاني,2,FALSE)","v":52}]
["اليوم والتاريخ","المــــــــــــــادة","الوقـــت",null,"الزمن",null,"اليوم والتاريخ","المــــــــــــــادة","الوقـــت",null,"الزمن"]
[null,null,"من ","إلي",null,null,null,null,"من ","إلي"]
[{"$f":"'جدول الصف الثاني'!$B$8","v":"السبت"},{"$f":"'جدول الصف الثاني'!$C$8","v":"لغة عربية وخط"},{"$f":"'جدول الصف الثاني'!$D$8","v":8},{"$f":"'جدول الصف الثاني'!$E$8","v":10},{"$f":"'جدول الصف الثاني'!$F$8","v":"ساعتان"},null,{"$f":"'جدول الصف الثاني'!$B$8","v":"السبت"},{"$f":"'جدول الصف الثاني'!$C$8","v":"لغة عربية وخط"},{"$f":"'جدول الصف الثاني'!$D$8","v":8},{"$f":"'جدول الصف الثاني'!$E$8","v":10},{"$f":"'جدول الصف الثاني'!$F$8","v":"ساعتان"}]
[{"$f":"'جدول الصف الثاني'!$B$9","v":"2018-01-01"},{"$f":"'جدول الصف الثاني'!$C$9","v":"التربية الدينية"},{"$f":"'جدول الصف الثاني'!$D$9","v":10.15},{"$f":"'جدول الصف الثاني'!$E$9","v":11.45},{"$f":"'جدول الصف الثاني'!$F$9","v":"ساعة"},null,{"$f":"'جدول الصف الثاني'!$B$9","v":"2018-01-01"},{"$f":"'جدول الصف الثاني'!$C$9","v":"التربية الدينية"},{"$f":"'جدول الصف الثاني'!$D$9","v":10.15},{"$f":"'جدول الصف الثاني'!$E$9","v":11.45},{"$f":"'جدول الصف الثاني'!$F$9","v":"ساعة"}]
[{"$f":"'جدول الصف الثاني'!$B$10","v":"الأحد"},{"$f":"'جدول الصف الثاني'!$C$10","v":"الرياضيات"},{"$f":"'جدول الصف الثاني'!$D$10","v":8},{"$f":"'جدول الصف الثاني'!$E$10","v":9.3000000000000007},{"$f":"'جدول الصف الثاني'!$F$10","v":"ساعة ونصف"},null,{"$f":"'جدول الصف الثاني'!$B$10","v":"الأحد"},{"$f":"'جدول الصف الثاني'!$C$10","v":"الرياضيات"},{"$f":"'جدول الصف الثاني'!$D$10","v":8},{"$f":"'جدول الصف الثاني'!$E$10","v":9.3000000000000007},{"$f":"'جدول الصف الثاني'!$F$10","v":"ساعة ونصف"}]
[{"$f":"'جدول الصف الثاني'!$B$11","v":"2018-01-02"},{"$f":"'جدول الصف الثاني'!$C$11","v":"اللغة الإنجليزية {شفهي}"},{"$f":"'جدول الصف الثاني'!$D$11","v":9.4499999999999993},{"$f":"'جدول الصف الثاني'!$E$11","v":11.15},{"$f":"'جدول الصف الثاني'!$F$11","v":"ساعة ونصف"},null,{"$f":"'جدول الصف الثاني'!$B$11","v":"2018-01-02"},{"$f":"'جدول الصف الثاني'!$C$11","v":"اللغة الإنجليزية {شفهي}"},{"$f":"'جدول الصف الثاني'!$D$11","v":9.4499999999999993},{"$f":"'جدول الصف الثاني'!$E$11","v":11.15},{"$f":"'جدول الصف الثاني'!$F$11","v":"ساعة ونصف"}]
[]
[{"$f":"'جدول الصف الثاني'!$A$1","v":"إدارة /غرب المحلة الكبرى التعليمية"},null,null,"رقم اللجنة",{"$f":"VLOOKUP(E35,اسماء_الثاني,7,FALSE)","v":1},null,{"$f":"'جدول الصف الثاني'!$A$1","v":"إدارة /غرب المحلة الكبرى التعليمية"},null,null,"رقم اللجنة",{"$f":"VLOOKUP(K35,اسماء_الثاني,7,FALSE)","v":2}]
[{"$f":"'جدول الصف الثاني'!$A$2","v":"مدرسة د/علي علي حبيش الابتدائية"},null,{"$f":"'جدول الصف الثاني'!$C$5","v":"الصف الثاني"},null,{"$f":"E24+1","v":4},null,{"$f":"'جدول الصف الثاني'!$A$2","v":"مدرسة د/علي علي حبيش الابتدائية"},null,{"$f":"'جدول الصف الثاني'!$C$5","v":"الصف الثاني"},null,{"$f":"K24+1","v":24}]
[{"$f":"'جدول الصف الثاني'!$B$4","v":"جدول امتحان الفصل الدراسي الأول / الثاني للعام الدراسي 2019/2018"},null,null,null,null,null,{"$f":"'جدول الصف الثاني'!$B$4","v":"جدول امتحان الفصل الدراسي الأول / الثاني للعام الدراسي 2019/2018"}]
["اسم التلميذ",{"$f":"VLOOKUP(E35,اسماء_الثاني,3,FALSE)","v":"حسن4"},"رقم الجلوس",{"$f":"VLOOKUP(E35,اسماء_الثاني,2,FALSE)","v":33},null,null,"اسم التلميذ",{"$f":"VLOOKUP(K35,اسماء_الثاني,3,FALSE)","v":"حسن24"},"رقم الجلوس",{"$f":"VLOOKUP(K35,اسماء_الثاني,2,FALSE)","v":53}]
["اليوم والتاريخ","المــــــــــــــادة","الوقـــت",null,"الزمن",null,"اليوم والتاريخ","المــــــــــــــادة","الوقـــت",null,"الزمن"]
[null,null,"من ","إلي",null,null,null,null,"من ","إلي"]
[{"$f":"'جدول الصف الثاني'!$B$8","v":"السبت"},{"$f":"'جدول الصف الثاني'!$C$8","v":"لغة عربية وخط"},{"$f":"'جدول الصف الثاني'!$D$8","v":8},{"$f":"'جدول الصف الثاني'!$E$8","v":10},{"$f":"'جدول الصف الثاني'!$F$8","v":"ساعتان"},null,{"$f":"'جدول الصف الثاني'!$B$8","v":"السبت"},{"$f":"'جدول الصف الثاني'!$C$8","v":"لغة عربية وخط"},{"$f":"'جدول الصف الثاني'!$D$8","v":8},{"$f":"'جدول الصف الثاني'!$E$8","v":10},{"$f":"'جدول الصف الثاني'!$F$8","v":"ساعتان"}]
[{"$f":"'جدول الصف الثاني'!$B$9","v":"2018-01-01"},{"$f":"'جدول الصف الثاني'!$C$9","v":"التربية الدينية"},{"$f":"'جدول الصف الثاني'!$D$9","v":10.15},{"$f":"'جدول الصف الثاني'!$E$9","v":11.45},{"$f":"'جدول الصف الثاني'!$F$9","v":"ساعة"},null,{"$f":"'جدول الصف الثاني'!$B$9","v":"2018-01-01"},{"$f":"'جدول الصف الثاني'!$C$9","v":"التربية الدينية"},{"$f":"'جدول الصف الثاني'!$D$9","v":10.15},{"$f":"'جدول الصف الثاني'!$E$9","v":11.45},{"$f":"'جدول الصف الثاني'!$F$9","v":"ساعة"}]
[{"$f":"'جدول الصف الثاني'!$B$10","v":"الأحد"},{"$f":"'جدول الصف الثاني'!$C$10","v":"الرياضيات"},{"$f":"'جدول الصف الثاني'!$D$10","v":8},{"$f":"'جدول الصف الثاني'!$E$10","v":9.3000000000000007},{"$f":"'جدول الصف الثاني'!$F$10","v":"ساعة ونصف"},null,{"$f":"'جدول الصف الثاني'!$B$10","v":"الأحد"},{"$f":"'جدول الصف الثاني'!$C$10","v":"الرياضيات"},{"$f":"'جدول الصف الثاني'!$D$10","v":8},{"$f":"'جدول الصف الثاني'!$E$10","v":9.3000000000000007},{"$f":"'جدول الصف الثاني'!$F$10","v":"ساعة ونصف"}]
[{"$f":"'جدول الصف الثاني'!$B$11","v":"2018-01-02"},{"$f":"'جدول الصف الثاني'!$C$11","v":"اللغة الإنجليزية {شفهي}"},{"$f":"'جدول الصف الثاني'!$D$11","v":9.4499999999999993},{"$f":"'جدول الصف الثاني'!$E$11","v":11.15},{"$f":"'جدول الصف الثاني'!$F$11","v":"ساعة ونصف"},null,{"$f":"'جدول الصف الثاني'!$B$11","v":"2018-01-02"},{"$f":"'جدول الصف الثاني'!$C$11","v":"اللغة الإنجليزية {شفهي}"},{"$f":"'جدول الصف الثاني'!$D$11","v":9.4499999999999993},{"$f":"'جدول الصف الثاني'!$E$11","v":11.15},{"$f":"'جدول الصف الثاني'!$F$11","v":"ساعة ونصف"}]
[]
[{"$f":"'جدول الصف الثاني'!$A$1","v":"إدارة /غرب المحلة الكبرى التعليمية"},null,null,"رقم اللجنة",{"$f":"VLOOKUP(E46,اسماء_الثاني,7,FALSE)","v":1},null,{"$f":"'جدول الصف الثاني'!$A$1","v":"إدارة /غرب المحلة الكبرى التعليمية"},null,null,"رقم اللجنة",{"$f":"VLOOKUP(K46,اسماء_الثاني,7,FALSE)","v":2}]
[{"$f":"'جدول الصف الثاني'!$A$2","v":"مدرسة د/علي علي حبيش الابتدائية"},null,{"$f":"'جدول الصف الثاني'!$C$5","v":"الصف الثاني"},null,{"$f":"E35+1","v":5},null,{"$f":"'جدول الصف الثاني'!$A$2","v":"مدرسة د/علي علي حبيش الابتدائية"},null,{"$f":"'جدول الصف الثاني'!$C$5","v":"الصف الثاني"},null,{"$f":"K35+1","v":25}]
[{"$f":"'جدول الصف الثاني'!$B$4","v":"جدول امتحان الفصل الدراسي الأول / الثاني للعام الدراسي 2019/2018"},null,null,null,null,null,{"$f":"'جدول الصف الثاني'!$B$4","v":"جدول امتحان الفصل الدراسي الأول / الثاني للعام الدراسي 2019/2018"}]
["اسم التلميذ",{"$f":"VLOOKUP(E46,اسماء_الثاني,3,FALSE)","v":"حسن5"},"رقم الجلوس",{"$f":"VLOOKUP(E46,اسماء_الثاني,2,FALSE)","v":34},null,null,"اسم التلميذ",{"$f":"VLOOKUP(K46,اسماء_الثاني,3,FALSE)","v":"حسن25"},"رقم الجلوس",{"$f":"VLOOKUP(K46,اسماء_الثاني,2,FALSE)","v":54}]
["اليوم والتاريخ","المــــــــــــــادة","الوقـــت",null,"الزمن",null,"اليوم والتاريخ","المــــــــــــــادة","الوقـــت",null,"الزمن"]
[null,null,"من ","إلي",null,null,null,null,"من ","إلي"]
[{"$f":"'جدول الصف الثاني'!$B$8","v":"السبت"},{"$f":"'جدول الصف الثاني'!$C$8","v":"لغة عربية وخط"},{"$f":"'جدول الصف الثاني'!$D$8","v":8},{"$f":"'جدول الصف الثاني'!$E$8","v":10},{"$f":"'جدول الصف الثاني'!$F$8","v":"ساعتان"},null,{"$f":"'جدول الصف الثاني'!$B$8","v":"السبت"},{"$f":"'جدول الصف الثاني'!$C$8","v":"لغة عربية وخط"},{"$f":"'جدول الصف الثاني'!$D$8","v":8},{"$f":"'جدول الصف الثاني'!$E$8","v":10},{"$f":"'جدول الصف الثاني'!$F$8","v":"ساعتان"}]
[{"$f":"'جدول الصف الثاني'!$B$9","v":"2018-01-01"},{"$f":"'جدول الصف الثاني'!$C$9","v":"التربية الدينية"},{"$f":"'جدول الصف الثاني'!$D$9","v":10.15},{"$f":"'جدول الصف الثاني'!$E$9","v":11.45},{"$f":"'جدول الصف الثاني'!$F$9","v":"ساعة"},null,{"$f":"'جدول الصف الثاني'!$B$9","v":"2018-01-01"},{"$f":"'جدول الصف الثاني'!$C$9","v":"التربية الدينية"},{"$f":"'جدول الصف الثاني'!$D$9","v":10.15},{"$f":"'جدول الصف الثاني'!$E$9","v":11.45},{"$f":"'جدول الصف الثاني'!$F$9","v":"ساعة"}]
[{"$f":"'جدول الصف الثاني'!$B$10","v":"الأحد"},{"$f":"'جدول الصف الثاني'!$C$10","v":"الرياضيات"},{"$f":"'جدول الصف الثاني'!$D$10","v":8},{"$f":"'جدول الصف الثاني'!$E$10","v":9.3000000000000007},{"$f":"'جدول الصف الثاني'!$F$10","v":"ساعة ونصف"},null,{"$f":"'جدول الصف الثاني'!$B$10","v":"الأحد"},{"$f":"'جدول الصف الثاني'!$C$10","v":"الرياضيات"},{"$f":"'جدول الصف الثاني'!$D$10","v":8},{"$f":"'جدول الصف الثاني'!$E$10","v":9.3000000000000007},{"$f":"'جدول الصف الثاني'!$F$10","v":"ساعة ونصف"}]
[{"$f":"'جدول الصف الثاني'!$B$11","v":"2018-01-02"},{"$f":"'جدول الصف الثاني'!$C$11","v":"اللغة الإنجليزية {شفهي}"},{"$f":"'جدول الصف الثاني'!$D$11","v":9.4499999999999993},{"$f":"'جدول الصف الثاني'!$E$11","v":11.15},{"$f":"'جدول الصف الثاني'!$F$11","v":"ساعة ونصف"},null,{"$f":"'جدول الصف الثاني'!$B$11","v":"2018-01-02"},{"$f":"'جدول الصف الثاني'!$C$11","v":"اللغة الإنجليزية {شفهي}"},{"$f":"'جدول الصف الثاني'!$D$11","v":9.4499999999999993},{"$f":"'جدول الصف الثاني'!$E$11","v":11.15},{"$f":"'جدول الصف الثاني'!$F$11","v":"ساعة ونصف"}]
[]
[{"$f":"'جدول الصف الثاني'!$A$1","v":"إدارة /غرب المحلة الكبرى التعليمية"},null,null,"رقم اللجنة",{"$f":"VLOOKUP(E57,اسماء_الثاني,7,FALSE)","v":1},null,{"$f":"'جدول الصف الثاني'!$A$1","v":"إدارة /غرب المحلة الكبرى التعليمية"},null,null,"رقم اللجنة",{"$f":"VLOOKUP(K57,اسماء_الثاني,7,FALSE)","v":2}]
[{"$f":"'جدول الصف الثاني'!$A$2","v":"مدرسة د/علي علي حبيش الابتدائية"},null,{"$f":"'جدول الصف الثاني'!$C$5","v":"الصف الثاني"},null,{"$f":"E46+1","v":6},null,{"$f":"'جدول الصف الثاني'!$A$2","v":"مدرسة د/علي علي حبيش الابتدائية"},null,{"$f":"'جدول الصف الثاني'!$C$5","v":"الصف الثاني"},null,{"$f":"K46+1","v":26}]
[{"$f":"'جدول الصف الثاني'!$B$4","v":"جدول امتحان الفصل الدراسي الأول / الثاني للعام الدراسي 2019/2018"},null,null,null,null,null,{"$f":"'جدول الصف الثاني'!$B$4","v":"جدول امتحان الفصل الدراسي الأول / الثاني للعام الدراسي 2019/2018"}]
["اسم التلميذ",{"$f":"VLOOKUP(E57,اسماء_الثاني,3,FALSE)","v":"حسن6"},"رقم الجلوس",{"$f":"VLOOKUP(E57,اسماء_الثاني,2,FALSE)","v":35},null,null,"اسم التلميذ",{"$f":"VLOOKUP(K57,اسماء_الثاني,3,FALSE)","v":"حسن26"},"رقم الجلوس",{"$f":"VLOOKUP(K57,اسماء_الثاني,2,FALSE)","v":55}]
["اليوم والتاريخ","المــــــــــــــادة","الوقـــت",null,"الزمن",null,"اليوم والتاريخ","المــــــــــــــادة","الوقـــت",null,"الزمن"]
[null,null,"من ","إلي",null,null,null,null,"من ","إلي"]
[{"$f":"'جدول الصف الثاني'!$B$8","v":"السبت"},{"$f":"'جدول الصف الثاني'!$C$8","v":"لغة عربية وخط"},{"$f":"'جدول الصف الثاني'!$D$8","v":8},{"$f":"'جدول الصف الثاني'!$E$8","v":10},{"$f":"'جدول الصف الثاني'!$F$8","v":"ساعتان"},null,{"$f":"'جدول الصف الثاني'!$B$8","v":"السبت"},{"$f":"'جدول الصف الثاني'!$C$8","v":"لغة عربية وخط"},{"$f":"'جدول الصف الثاني'!$D$8","v":8},{"$f":"'جدول الصف الثاني'!$E$8","v":10},{"$f":"'جدول الصف الثاني'!$F$8","v":"ساعتان"}]
[{"$f":"'جدول الصف الثاني'!$B$9","v":"2018-01-01"},{"$f":"'جدول الصف الثاني'!$C$9","v":"التربية الدينية"},{"$f":"'جدول الصف الثاني'!$D$9","v":10.15},{"$f":"'جدول الصف الثاني'!$E$9","v":11.45},{"$f":"'جدول الصف الثاني'!$F$9","v":"ساعة"},null,{"$f":"'جدول الصف الثاني'!$B$9","v":"2018-01-01"},{"$f":"'جدول الصف الثاني'!$C$9","v":"التربية الدينية"},{"$f":"'جدول الصف الثاني'!$D$9","v":10.15},{"$f":"'جدول الصف الثاني'!$E$9","v":11.45},{"$f":"'جدول الصف الثاني'!$F$9","v":"ساعة"}]
[{"$f":"'جدول الصف الثاني'!$B$10","v":"الأحد"},{"$f":"'جدول الصف الثاني'!$C$10","v":"الرياضيات"},{"$f":"'جدول الصف الثاني'!$D$10","v":8},{"$f":"'جدول الصف الثاني'!$E$10","v":9.3000000000000007},{"$f":"'جدول الصف الثاني'!$F$10","v":"ساعة ونصف"},null,{"$f":"'جدول الصف الثاني'!$B$10","v":"الأحد"},{"$f":"'جدول الصف الثاني'!$C$10","v":"الرياضيات"},{"$f":"'جدول الصف الثاني'!$D$10","v":8},{"$f":"'جدول الصف الثاني'!$E$10","v":9.3000000000000007},{"$f":"'جدول الصف الثاني'!$F$10","v":"ساعة ونصف"}]
[{"$f":"'جدول الصف الثاني'!$B$11","v":"2018-01-02"},{"$f":"'جدول الصف الثاني'!$C$11","v":"اللغة الإنجليزية {شفهي}"},{"$f":"'جدول الصف الثاني'!$D$11","v":9.4499999999999993},{"$f":"'جدول الصف الثاني'!$E$11","v":11.15},{"$f":"'جدول الصف الثاني'!$F$11","v":"ساعة ونصف"},null,{"$f":"'جدول الصف الثاني'!$B$11","v":"2018-01-02"},{"$f":"'جدول الصف الثاني'!$C$11","v":"اللغة الإنجليزية {شفهي}"},{"$f":"'جدول الصف الثاني'!$D$11","v":9.4499999999999993},{"$f":"'جدول الصف الثاني'!$E$11","v":11.15},{"$f":"'جدول الصف الثاني'!$F$11","v":"ساعة ونصف"}]
[]
[{"$f":"'جدول الصف الثاني'!$A$1","v":"إدارة /غرب المحلة الكبرى التعليمية"},null,null,"رقم اللجنة",{"$f":"VLOOKUP(E68,اسماء_الثاني,7,FALSE)","v":1},null,{"$f":"'جدول الصف الثاني'!$A$1","v":"إدارة /غرب المحلة الكبرى التعليمية"},null,null,"رقم اللجنة",{"$f":"VLOOKUP(K68,اسماء_الثاني,7,FALSE)","v":2}]
[{"$f":"'جدول الصف الثاني'!$A$2","v":"مدرسة د/علي علي حبيش الابتدائية"},null,{"$f":"'جدول الصف الثاني'!$C$5","v":"الصف الثاني"},null,{"$f":"E57+1","v":7},null,{"$f":"'جدول الصف الثاني'!$A$2","v":"مدرسة د/علي علي حبيش الابتدائية"},null,{"$f":"'جدول الصف الثاني'!$C$5","v":"الصف الثاني"},null,{"$f":"K57+1","v":27}]
[{"$f":"'جدول الصف الثاني'!$B$4","v":"جدول امتحان الفصل الدراسي الأول / الثاني للعام الدراسي 2019/2018"},null,null,null,null,null,{"$f":"'جدول الصف الثاني'!$B$4","v":"جدول امتحان الفصل الدراسي الأول / الثاني للعام الدراسي 2019/2018"}]
["اسم التلميذ",{"$f":"VLOOKUP(E68,اسماء_الثاني,3,FALSE)","v":"حسن7"},"رقم الجلوس",{"$f":"VLOOKUP(E68,اسماء_الثاني,2,FALSE)","v":36},null,null,"اسم التلميذ",{"$f":"VLOOKUP(K68,اسماء_الثاني,3,FALSE)","v":"حسن27"},"رقم الجلوس",{"$f":"VLOOKUP(K68,اسماء_الثاني,2,FALSE)","v":56}]
["اليوم والتاريخ","المــــــــــــــادة","الوقـــت",null,"الزمن",null,"اليوم والتاريخ","المــــــــــــــادة","الوقـــت",null,"الزمن"]
[null,null,"من ","إلي",null,null,null,null,"من ","إلي"]
[{"$f":"'جدول الصف الثاني'!$B$8","v":"السبت"},{"$f":"'جدول الصف الثاني'!$C$8","v":"لغة عربية وخط"},{"$f":"'جدول الصف الثاني'!$D$8","v":8},{"$f":"'جدول الصف الثاني'!$E$8","v":10},{"$f":"'جدول الصف الثاني'!$F$8","v":"ساعتان"},null,{"$f":"'جدول الصف الثاني'!$B$8","v":"السبت"},{"$f":"'جدول الصف الثاني'!$C$8","v":"لغة عربية وخط"},{"$f":"'جدول الصف الثاني'!$D$8","v":8},{"$f":"'جدول الصف الثاني'!$E$8","v":10},{"$f":"'جدول الصف الثاني'!$F$8","v":"ساعتان"}]
[{"$f":"'جدول الصف الثاني'!$B$9","v":"2018-01-01"},{"$f":"'جدول الصف الثاني'!$C$9","v":"التربية الدينية"},{"$f":"'جدول الصف الثاني'!$D$9","v":10.15},{"$f":"'جدول الصف الثاني'!$E$9","v":11.45},{"$f":"'جدول الصف الثاني'!$F$9","v":"ساعة"},null,{"$f":"'جدول الصف الثاني'!$B$9","v":"2018-01-01"},{"$f":"'جدول الصف الثاني'!$C$9","v":"التربية الدينية"},{"$f":"'جدول الصف الثاني'!$D$9","v":10.15},{"$f":"'جدول الصف الثاني'!$E$9","v":11.45},{"$f":"'جدول الصف الثاني'!$F$9","v":"ساعة"}]
[{"$f":"'جدول الصف الثاني'!$B$10","v":"الأحد"},{"$f":"'جدول الصف الثاني'!$C$10","v":"الرياضيات"},{"$f":"'جدول الصف الثاني'!$D$10","v":8},{"$f":"'جدول الصف الثاني'!$E$10","v":9.3000000000000007},{"$f":"'جدول الصف الثاني'!$F$10","v":"ساعة ونصف"},null,{"$f":"'جدول الصف الثاني'!$B$10","v":"الأحد"},{"$f":"'جدول الصف الثاني'!$C$10","v":"الرياضيات"},{"$f":"'جدول الصف الثاني'!$D$10","v":8},{"$f":"'جدول الصف الثاني'!$E$10","v":9.3000000000000007},{"$f":"'جدول الصف الثاني'!$F$10","v":"ساعة ونصف"}]
[{"$f":"'جدول الصف الثاني'!$B$11","v":"2018-01-02"},{"$f":"'جدول الصف الثاني'!$C$11","v":"اللغة الإنجليزية {شفهي}"},{"$f":"'جدول الصف الثاني'!$D$11","v":9.4499999999999993},{"$f":"'جدول الصف الثاني'!$E$11","v":11.15},{"$f":"'جدول الصف الثاني'!$F$11","v":"ساعة ونصف"},null,{"$f":"'جدول الصف الثاني'!$B$11","v":"2018-01-02"},{"$f":"'جدول الصف الثاني'!$C$11","v":"اللغة الإنجليزية {شفهي}"},{"$f":"'جدول الصف الثاني'!$D$11","v":9.4499999999999993},{"$f":"'جدول الصف الثاني'!$E$11","v":11.15},{"$f":"'جدول الصف الثاني'!$F$11","v":"ساعة ونصف"}]
[]
[{"$f":"'جدول الصف الثاني'!$A$1","v":"إدارة /غرب المحلة الكبرى التعليمية"},null,null,"رقم اللجنة",{"$f":"VLOOKUP(E79,اسماء_الثاني,7,FALSE)","v":1},null,{"$f":"'جدول الصف الثاني'!$A$1","v":"إدارة /غرب المحلة الكبرى التعليمية"},null,null,"رقم اللجنة",{"$f":"VLOOKUP(K79,اسماء_الثاني,7,FALSE)","v":2}]
[{"$f":"'جدول الصف الثاني'!$A$2","v":"مدرسة د/علي علي حبيش الابتدائية"},null,{"$f":"'جدول الصف الثاني'!$C$5","v":"الصف الثاني"},null,{"$f":"E68+1","v":8},null,{"$f":"'جدول الصف الثاني'!$A$2","v":"مدرسة د/علي علي حبيش الابتدائية"},null,{"$f":"'جدول الصف الثاني'!$C$5","v":"الصف الثاني"},null,{"$f":"K68+1","v":28}]
[{"$f":"'جدول الصف الثاني'!$B$4","v":"جدول امتحان الفصل الدراسي الأول / الثاني للعام الدراسي 2019/2018"},null,null,null,null,null,{"$f":"'جدول الصف الثاني'!$B$4","v":"جدول امتحان الفصل الدراسي الأول / الثاني للعام الدراسي 2019/2018"}]
["اسم التلميذ",{"$f":"VLOOKUP(E79,اسماء_الثاني,3,FALSE)","v":"حسن8"},"رقم الجلوس",{"$f":"VLOOKUP(E79,اسماء_الثاني,2,FALSE)","v":37},null,null,"اسم التلميذ",{"$f":"VLOOKUP(K79,اسماء_الثاني,3,FALSE)","v":"حسن28"},"رقم الجلوس",{"$f":"VLOOKUP(K79,اسماء_الثاني,2,FALSE)","v":57}]
["اليوم والتاريخ","المــــــــــــــادة","الوقـــت",null,"الزمن",null,"اليوم والتاريخ","المــــــــــــــادة","الوقـــت",null,"الزمن"]
[null,null,"من ","إلي",null,null,null,null,"من ","إلي"]
[{"$f":"'جدول الصف الثاني'!$B$8","v":"السبت"},{"$f":"'جدول الصف الثاني'!$C$8","v":"لغة عربية وخط"},{"$f":"'جدول الصف الثاني'!$D$8","v":8},{"$f":"'جدول الصف الثاني'!$E$8","v":10},{"$f":"'جدول الصف الثاني'!$F$8","v":"ساعتان"},null,{"$f":"'جدول الصف الثاني'!$B$8","v":"السبت"},{"$f":"'جدول الصف الثاني'!$C$8","v":"لغة عربية وخط"},{"$f":"'جدول الصف الثاني'!$D$8","v":8},{"$f":"'جدول الصف الثاني'!$E$8","v":10},{"$f":"'جدول الصف الثاني'!$F$8","v":"ساعتان"}]
[{"$f":"'جدول الصف الثاني'!$B$9","v":"2018-01-01"},{"$f":"'جدول الصف الثاني'!$C$9","v":"التربية الدينية"},{"$f":"'جدول الصف الثاني'!$D$9","v":10.15},{"$f":"'جدول الصف الثاني'!$E$9","v":11.45},{"$f":"'جدول الصف الثاني'!$F$9","v":"ساعة"},null,{"$f":"'جدول الصف الثاني'!$B$9","v":"2018-01-01"},{"$f":"'جدول الصف الثاني'!$C$9","v":"التربية الدينية"},{"$f":"'جدول الصف الثاني'!$D$9","v":10.15},{"$f":"'جدول الصف الثاني'!$E$9","v":11.45},{"$f":"'جدول الصف الثاني'!$F$9","v":"ساعة"}]
[{"$f":"'جدول الصف الثاني'!$B$10","v":"الأحد"},{"$f":"'جدول الصف الثاني'!$C$10","v":"الرياضيات"},{"$f":"'جدول الصف الثاني'!$D$10","v":8},{"$f":"'جدول الصف الثاني'!$E$10","v":9.3000000000000007},{"$f":"'جدول الصف الثاني'!$F$10","v":"ساعة ونصف"},null,{"$f":"'جدول الصف الثاني'!$B$10","v":"الأحد"},{"$f":"'جدول الصف الثاني'!$C$10","v":"الرياضيات"},{"$f":"'جدول الصف الثاني'!$D$10","v":8},{"$f":"'جدول الصف الثاني'!$E$10","v":9.3000000000000007},{"$f":"'جدول الصف الثاني'!$F$10","v":"ساعة ونصف"}]
[{"$f":"'جدول الصف الثاني'!$B$11","v":"2018-01-02"},{"$f":"'جدول الصف الثاني'!$C$11","v":"اللغة الإنجليزية {شفهي}"},{"$f":"'جدول الصف الثاني'!$D$11","v":9.4499999999999993},{"$f":"'جدول الصف الثاني'!$E$11","v":11.15},{"$f":"'جدول الصف الثاني'!$F$11","v":"ساعة ونصف"},null,{"$f":"'جدول الصف الثاني'!$B$11","v":"2018-01-02"},{"$f":"'جدول الصف الثاني'!$C$11","v":"اللغة الإنجليزية {شفهي}"},{"$f":"'جدول الصف الثاني'!$D$11","v":9.4499999999999993},{"$f":"'جدول الصف الثاني'!$E$11","v":11.15},{"$f":"'جدول الصف الثاني'!$F$11","v":"ساعة ونصف"}]
[]
[{"$f":"'جدول الصف الثاني'!$A$1","v":"إدارة /غرب المحلة الكبرى التعليمية"},null,null,"رقم اللجنة",{"$f":"VLOOKUP(E90,اسماء_الثاني,7,FALSE)","v":1},null,{"$f":"'جدول الصف الثاني'!$A$1","v":"إدارة /غرب المحلة الكبرى التعليمية"},null,null,"رقم اللجنة",{"$f":"VLOOKUP(K90,اسماء_الثاني,7,FALSE)","v":2}]
[{"$f":"'جدول الصف الثاني'!$A$2","v":"مدرسة د/علي علي حبيش الابتدائية"},null,{"$f":"'جدول الصف الثاني'!$C$5","v":"الصف الثاني"},null,{"$f":"E79+1","v":9},null,{"$f":"'جدول الصف الثاني'!$A$2","v":"مدرسة د/علي علي حبيش الابتدائية"},null,{"$f":"'جدول الصف الثاني'!$C$5","v":"الصف الثاني"},null,{"$f":"K79+1","v":29}]
[{"$f":"'جدول الصف الثاني'!$B$4","v":"جدول امتحان الفصل الدراسي الأول / الثاني للعام الدراسي 2019/2018"},null,null,null,null,null,{"$f":"'جدول الصف الثاني'!$B$4","v":"جدول امتحان الفصل الدراسي الأول / الثاني للعام الدراسي 2019/2018"}]
["اسم التلميذ",{"$f":"VLOOKUP(E90,اسماء_الثاني,3,FALSE)","v":"حسن9"},"رقم الجلوس",{"$f":"VLOOKUP(E90,اسماء_الثاني,2,FALSE)","v":38},null,null,"اسم التلميذ",{"$f":"VLOOKUP(K90,اسماء_الثاني,3,FALSE)","v":"حسن29"},"رقم الجلوس",{"$f":"VLOOKUP(K90,اسماء_الثاني,2,FALSE)","v":58}]
["اليوم والتاريخ","المــــــــــــــادة","الوقـــت",null,"الزمن",null,"اليوم والتاريخ","المــــــــــــــادة","الوقـــت",null,"الزمن"]
[null,null,"من ","إلي",null,null,null,null,"من ","إلي"]
[{"$f":"'جدول الصف الثاني'!$B$8","v":"السبت"},{"$f":"'جدول الصف الثاني'!$C$8","v":"لغة عربية وخط"},{"$f":"'جدول الصف الثاني'!$D$8","v":8},{"$f":"'جدول الصف الثاني'!$E$8","v":10},{"$f":"'جدول الصف الثاني'!$F$8","v":"ساعتان"},null,{"$f":"'جدول الصف الثاني'!$B$8","v":"السبت"},{"$f":"'جدول الصف الثاني'!$C$8","v":"لغة عربية وخط"},{"$f":"'جدول الصف الثاني'!$D$8","v":8},{"$f":"'جدول الصف الثاني'!$E$8","v":10},{"$f":"'جدول الصف الثاني'!$F$8","v":"ساعتان"}]
[{"$f":"'جدول الصف الثاني'!$B$9","v":"2018-01-01"},{"$f":"'جدول الصف الثاني'!$C$9","v":"التربية الدينية"},{"$f":"'جدول الصف الثاني'!$D$9","v":10.15},{"$f":"'جدول الصف الثاني'!$E$9","v":11.45},{"$f":"'جدول الصف الثاني'!$F$9","v":"ساعة"},null,{"$f":"'جدول الصف الثاني'!$B$9","v":"2018-01-01"},{"$f":"'جدول الصف الثاني'!$C$9","v":"التربية الدينية"},{"$f":"'جدول الصف الثاني'!$D$9","v":10.15},{"$f":"'جدول الصف الثاني'!$E$9","v":11.45},{"$f":"'جدول الصف الثاني'!$F$9","v":"ساعة"}]
[{"$f":"'جدول الصف الثاني'!$B$10","v":"الأحد"},{"$f":"'جدول الصف الثاني'!$C$10","v":"الرياضيات"},{"$f":"'جدول الصف الثاني'!$D$10","v":8},{"$f":"'جدول الصف الثاني'!$E$10","v":9.3000000000000007},{"$f":"'جدول الصف الثاني'!$F$10","v":"ساعة ونصف"},null,{"$f":"'جدول الصف الثاني'!$B$10","v":"الأحد"},{"$f":"'جدول الصف الثاني'!$C$10","v":"الرياضيات"},{"$f":"'جدول الصف الثاني'!$D$10","v":8},{"$f":"'جدول الصف الثاني'!$E$10","v":9.3000000000000007},{"$f":"'جدول الصف الثاني'!$F$10","v":"ساعة ونصف"}]
[{"$f":"'جدول الصف الثاني'!$B$11","v":"2018-01-02"},{"$f":"'جدول الصف الثاني'!$C$11","v":"اللغة الإنجليزية {شفهي}"},{"$f":"'جدول الصف الثاني'!$D$11","v":9.4499999999999993},{"$f":"'جدول الصف الثاني'!$E$11","v":11.15},{"$f":"'جدول الصف الثاني'!$F$11","v":"ساعة ونصف"},null,{"$f":"'جدول الصف الثاني'!$B$11","v":"2018-01-02"},{"$f":"'جدول الصف الثاني'!$C$11","v":"اللغة الإنجليزية {شفهي}"},{"$f":"'جدول الصف الثاني'!$D$11","v":9.4499999999999993},{"$f":"'جدول الصف الثاني'!$E$11","v":11.15},{"$f":"'جدول الصف الثاني'!$F$11","v":"ساعة ونصف"}]
[]
[{"$f":"'جدول الصف الثاني'!$A$1","v":"إدارة /غرب المحلة الكبرى التعليمية"},null,null,"رقم اللجنة",{"$f":"VLOOKUP(E101,اسماء_الثاني,7,FALSE)","v":1},null,{"$f":"'جدول الصف الثاني'!$A$1","v":"إدارة /غرب المحلة الكبرى التعليمية"},null,null,"رقم اللجنة",{"$f":"VLOOKUP(K101,اسماء_الثاني,7,FALSE)","v":2}]
[{"$f":"'جدول الصف الثاني'!$A$2","v":"مدرسة د/علي علي حبيش الابتدائية"},null,{"$f":"'جدول الصف الثاني'!$C$5","v":"الصف الثاني"},null,{"$f":"E90+1","v":10},null,{"$f":"'جدول الصف الثاني'!$A$2","v":"مدرسة د/علي علي حبيش الابتدائية"},null,{"$f":"'جدول الصف الثاني'!$C$5","v":"الصف الثاني"},null,{"$f":"K90+1","v":30}]
[{"$f":"'جدول الصف الثاني'!$B$4","v":"جدول امتحان الفصل الدراسي الأول / الثاني للعام الدراسي 2019/2018"},null,null,null,null,null,{"$f":"'جدول الصف الثاني'!$B$4","v":"جدول امتحان الفصل الدراسي الأول / الثاني للعام الدراسي 2019/2018"}]
["اسم التلميذ",{"$f":"VLOOKUP(E101,اسماء_الثاني,3,FALSE)","v":"حسن10"},"رقم الجلوس",{"$f":"VLOOKUP(E101,اسماء_الثاني,2,FALSE)","v":39},null,null,"اسم التلميذ",{"$f":"VLOOKUP(K101,اسماء_الثاني,3,FALSE)","v":"حسن30"},"رقم الجلوس",{"$f":"VLOOKUP(K101,اسماء_الثاني,2,FALSE)","v":59}]
["اليوم والتاريخ","المــــــــــــــادة","الوقـــت",null,"الزمن",null,"اليوم والتاريخ","المــــــــــــــادة","الوقـــت",null,"الزمن"]
[null,null,"من ","إلي",null,null,null,null,"من ","إلي"]
[{"$f":"'جدول الصف الثاني'!$B$8","v":"السبت"},{"$f":"'جدول الصف الثاني'!$C$8","v":"لغة عربية وخط"},{"$f":"'جدول الصف الثاني'!$D$8","v":8},{"$f":"'جدول الصف الثاني'!$E$8","v":10},{"$f":"'جدول الصف الثاني'!$F$8","v":"ساعتان"},null,{"$f":"'جدول الصف الثاني'!$B$8","v":"السبت"},{"$f":"'جدول الصف الثاني'!$C$8","v":"لغة عربية وخط"},{"$f":"'جدول الصف الثاني'!$D$8","v":8},{"$f":"'جدول الصف الثاني'!$E$8","v":10},{"$f":"'جدول الصف الثاني'!$F$8","v":"ساعتان"}]
[{"$f":"'جدول الصف الثاني'!$B$9","v":"2018-01-01"},{"$f":"'جدول الصف الثاني'!$C$9","v":"التربية الدينية"},{"$f":"'جدول الصف الثاني'!$D$9","v":10.15},{"$f":"'جدول الصف الثاني'!$E$9","v":11.45},{"$f":"'جدول الصف الثاني'!$F$9","v":"ساعة"},null,{"$f":"'جدول الصف الثاني'!$B$9","v":"2018-01-01"},{"$f":"'جدول الصف الثاني'!$C$9","v":"التربية الدينية"},{"$f":"'جدول الصف الثاني'!$D$9","v":10.15},{"$f":"'جدول الصف الثاني'!$E$9","v":11.45},{"$f":"'جدول الصف الثاني'!$F$9","v":"ساعة"}]
[{"$f":"'جدول الصف الثاني'!$B$10","v":"الأحد"},{"$f":"'جدول الصف الثاني'!$C$10","v":"الرياضيات"},{"$f":"'جدول الصف الثاني'!$D$10","v":8},{"$f":"'جدول الصف الثاني'!$E$10","v":9.3000000000000007},{"$f":"'جدول الصف الثاني'!$F$10","v":"ساعة ونصف"},null,{"$f":"'جدول الصف الثاني'!$B$10","v":"الأحد"},{"$f":"'جدول الصف الثاني'!$C$10","v":"الرياضيات"},{"$f":"'جدول الصف الثاني'!$D$10","v":8},{"$f":"'جدول الصف الثاني'!$E$10","v":9.3000000000000007},{"$f":"'جدول الصف الثاني'!$F$10","v":"ساعة ونصف"}]
[{"$f":"'جدول الصف الثاني'!$B$11","v":"2018-01-02"},{"$f":"'جدول الصف الثاني'!$C$11","v":"اللغة الإنجليزية {شفهي}"},{"$f":"'جدول الصف الثاني'!$D$11","v":9.4499999999999993},{"$f":"'جدول الصف الثاني'!$E$11","v":11.15},{"$f":"'جدول الصف الثاني'!$F$11","v":"ساعة ونصف"},null,{"$f":"'جدول الصف الثاني'!$B$11","v":"2018-01-02"},{"$f":"'جدول الصف الثاني'!$C$11","v":"اللغة الإنجليزية {شفهي}"},{"$f":"'جدول الصف الثاني'!$D$11","v":9.4499999999999993},{"$f":"'جدول الصف الثاني'!$E$11","v":11.15},{"$f":"'جدول الصف الثاني'!$F$11","v":"ساعة ونصف"}]
[]
[{"$f":"'جدول الصف الثاني'!$A$1","v":"إدارة /غرب المحلة الكبرى التعليمية"},null,null,"رقم اللجنة",{"$f":"VLOOKUP(E112,اسماء_الثاني,7,FALSE)","v":1},null,{"$f":"'جدول الصف الثاني'!$A$1","v":"إدارة /غرب المحلة الكبرى التعليمية"},null,null,"رقم اللجنة",{"$f":"VLOOKUP(K112,اسماء_الثاني,7,FALSE)","v":2}]
[{"$f":"'جدول الصف الثاني'!$A$2","v":"مدرسة د/علي علي حبيش الابتدائية"},null,{"$f":"'جدول الصف الثاني'!$C$5","v":"الصف الثاني"},null,{"$f":"E101+1","v":11},null,{"$f":"'جدول الصف الثاني'!$A$2","v":"مدرسة د/علي علي حبيش الابتدائية"},null,{"$f":"'جدول الصف الثاني'!$C$5","v":"الصف الثاني"},null,{"$f":"K101+1","v":31}]
[{"$f":"'جدول الصف الثاني'!$B$4","v":"جدول امتحان الفصل الدراسي الأول / الثاني للعام الدراسي 2019/2018"},null,null,null,null,null,{"$f":"'جدول الصف الثاني'!$B$4","v":"جدول امتحان الفصل الدراسي الأول / الثاني للعام الدراسي 2019/2018"}]
["اسم التلميذ",{"$f":"VLOOKUP(E112,اسماء_الثاني,3,FALSE)","v":"حسن11"},"رقم الجلوس",{"$f":"VLOOKUP(E112,اسماء_الثاني,2,FALSE)","v":40},null,null,"اسم التلميذ",{"$f":"VLOOKUP(K112,اسماء_الثاني,3,FALSE)","v":"حسن31"},"رقم الجلوس",{"$f":"VLOOKUP(K112,اسماء_الثاني,2,FALSE)","v":60}]
["اليوم والتاريخ","المــــــــــــــادة","الوقـــت",null,"الزمن",null,"اليوم والتاريخ","المــــــــــــــادة","الوقـــت",null,"الزمن"]
[null,null,"من ","إلي",null,null,null,null,"من ","إلي"]
[{"$f":"'جدول الصف الثاني'!$B$8","v":"السبت"},{"$f":"'جدول الصف الثاني'!$C$8","v":"لغة عربية وخط"},{"$f":"'جدول الصف الثاني'!$D$8","v":8},{"$f":"'جدول الصف الثاني'!$E$8","v":10},{"$f":"'جدول الصف الثاني'!$F$8","v":"ساعتان"},null,{"$f":"'جدول الصف الثاني'!$B$8","v":"السبت"},{"$f":"'جدول الصف الثاني'!$C$8","v":"لغة عربية وخط"},{"$f":"'جدول الصف الثاني'!$D$8","v":8},{"$f":"'جدول الصف الثاني'!$E$8","v":10},{"$f":"'جدول الصف الثاني'!$F$8","v":"ساعتان"}]
[{"$f":"'جدول الصف الثاني'!$B$9","v":"2018-01-01"},{"$f":"'جدول الصف الثاني'!$C$9","v":"التربية الدينية"},{"$f":"'جدول الصف الثاني'!$D$9","v":10.15},{"$f":"'جدول الصف الثاني'!$E$9","v":11.45},{"$f":"'جدول الصف الثاني'!$F$9","v":"ساعة"},null,{"$f":"'جدول الصف الثاني'!$B$9","v":"2018-01-01"},{"$f":"'جدول الصف الثاني'!$C$9","v":"التربية الدينية"},{"$f":"'جدول الصف الثاني'!$D$9","v":10.15},{"$f":"'جدول الصف الثاني'!$E$9","v":11.45},{"$f":"'جدول الصف الثاني'!$F$9","v":"ساعة"}]
[{"$f":"'جدول الصف الثاني'!$B$10","v":"الأحد"},{"$f":"'جدول الصف الثاني'!$C$10","v":"الرياضيات"},{"$f":"'جدول الصف الثاني'!$D$10","v":8},{"$f":"'جدول الصف الثاني'!$E$10","v":9.3000000000000007},{"$f":"'جدول الصف الثاني'!$F$10","v":"ساعة ونصف"},null,{"$f":"'جدول الصف الثاني'!$B$10","v":"الأحد"},{"$f":"'جدول الصف الثاني'!$C$10","v":"الرياضيات"},{"$f":"'جدول الصف الثاني'!$D$10","v":8},{"$f":"'جدول الصف الثاني'!$E$10","v":9.3000000000000007},{"$f":"'جدول الصف الثاني'!$F$10","v":"ساعة ونصف"}]
[{"$f":"'جدول الصف الثاني'!$B$11","v":"2018-01-02"},{"$f":"'جدول الصف الثاني'!$C$11","v":"اللغة الإنجليزية {شفهي}"},{"$f":"'جدول الصف الثاني'!$D$11","v":9.4499999999999993},{"$f":"'جدول الصف الثاني'!$E$11","v":11.15},{"$f":"'جدول الصف الثاني'!$F$11","v":"ساعة ونصف"},null,{"$f":"'جدول الصف الثاني'!$B$11","v":"2018-01-02"},{"$f":"'جدول الصف الثاني'!$C$11","v":"اللغة الإنجليزية {شفهي}"},{"$f":"'جدول الصف الثاني'!$D$11","v":9.4499999999999993},{"$f":"'جدول الصف الثاني'!$E$11","v":11.15},{"$f":"'جدول الصف الثاني'!$F$11","v":"ساعة ونصف"}]
[]
[{"$f":"'جدول الصف الثاني'!$A$1","v":"إدارة /غرب المحلة الكبرى التعليمية"},null,null,"رقم اللجنة",{"$f":"VLOOKUP(E123,اسماء_الثاني,7,FALSE)","v":1},null,{"$f":"'جدول الصف الثاني'!$A$1","v":"إدارة /غرب المحلة الكبرى التعليمية"},null,null,"رقم اللجنة",{"$f":"VLOOKUP(K123,اسماء_الثاني,7,FALSE)","v":2}]
[{"$f":"'جدول الصف الثاني'!$A$2","v":"مدرسة د/علي علي حبيش الابتدائية"},null,{"$f":"'جدول الصف الثاني'!$C$5","v":"الصف الثاني"},null,{"$f":"E112+1","v":12},null,{"$f":"'جدول الصف الثاني'!$A$2","v":"مدرسة د/علي علي حبيش الابتدائية"},null,{"$f":"'جدول الصف الثاني'!$C$5","v":"الصف الثاني"},null,{"$f":"K112+1","v":32}]
[{"$f":"'جدول الصف الثاني'!$B$4","v":"جدول امتحان الفصل الدراسي الأول / الثاني للعام الدراسي 2019/2018"},null,null,null,null,null,{"$f":"'جدول الصف الثاني'!$B$4","v":"جدول امتحان الفصل الدراسي الأول / الثاني للعام الدراسي 2019/2018"}]
["اسم التلميذ",{"$f":"VLOOKUP(E123,اسماء_الثاني,3,FALSE)","v":"حسن12"},"رقم الجلوس",{"$f":"VLOOKUP(E123,اسماء_الثاني,2,FALSE)","v":41},null,null,"اسم التلميذ",{"$f":"VLOOKUP(K123,اسماء_الثاني,3,FALSE)","v":"حسن32"},"رقم الجلوس",{"$f":"VLOOKUP(K123,اسماء_الثاني,2,FALSE)","v":61}]
["اليوم والتاريخ","المــــــــــــــادة","الوقـــت",null,"الزمن",null,"اليوم والتاريخ","المــــــــــــــادة","الوقـــت",null,"الزمن"]
[null,null,"من ","إلي",null,null,null,null,"من ","إلي"]
[{"$f":"'جدول الصف الثاني'!$B$8","v":"السبت"},{"$f":"'جدول الصف الثاني'!$C$8","v":"لغة عربية وخط"},{"$f":"'جدول الصف الثاني'!$D$8","v":8},{"$f":"'جدول الصف الثاني'!$E$8","v":10},{"$f":"'جدول الصف الثاني'!$F$8","v":"ساعتان"},null,{"$f":"'جدول الصف الثاني'!$B$8","v":"السبت"},{"$f":"'جدول الصف الثاني'!$C$8","v":"لغة عربية وخط"},{"$f":"'جدول الصف الثاني'!$D$8","v":8},{"$f":"'جدول الصف الثاني'!$E$8","v":10},{"$f":"'جدول الصف الثاني'!$F$8","v":"ساعتان"}]
[{"$f":"'جدول الصف الثاني'!$B$9","v":"2018-01-01"},{"$f":"'جدول الصف الثاني'!$C$9","v":"التربية الدينية"},{"$f":"'جدول الصف الثاني'!$D$9","v":10.15},{"$f":"'جدول الصف الثاني'!$E$9","v":11.45},{"$f":"'جدول الصف الثاني'!$F$9","v":"ساعة"},null,{"$f":"'جدول الصف الثاني'!$B$9","v":"2018-01-01"},{"$f":"'جدول الصف الثاني'!$C$9","v":"التربية الدينية"},{"$f":"'جدول الصف الثاني'!$D$9","v":10.15},{"$f":"'جدول الصف الثاني'!$E$9","v":11.45},{"$f":"'جدول الصف الثاني'!$F$9","v":"ساعة"}]
[{"$f":"'جدول الصف الثاني'!$B$10","v":"الأحد"},{"$f":"'جدول الصف الثاني'!$C$10","v":"الرياضيات"},{"$f":"'جدول الصف الثاني'!$D$10","v":8},{"$f":"'جدول الصف الثاني'!$E$10","v":9.3000000000000007},{"$f":"'جدول الصف الثاني'!$F$10","v":"ساعة ونصف"},null,{"$f":"'جدول الصف الثاني'!$B$10","v":"الأحد"},{"$f":"'جدول الصف الثاني'!$C$10","v":"الرياضيات"},{"$f":"'جدول الصف الثاني'!$D$10","v":8},{"$f":"'جدول الصف الثاني'!$E$10","v":9.3000000000000007},{"$f":"'جدول الصف الثاني'!$F$10","v":"ساعة ونصف"}]
[{"$f":"'جدول الصف الثاني'!$B$11","v":"2018-01-02"},{"$f":"'جدول الصف الثاني'!$C$11","v":"اللغة الإنجليزية {شفهي}"},{"$f":"'جدول الصف الثاني'!$D$11","v":9.4499999999999993},{"$f":"'جدول الصف الثاني'!$E$11","v":11.15},{"$f":"'جدول الصف الثاني'!$F$11","v":"ساعة ونصف"},null,{"$f":"'جدول الصف الثاني'!$B$11","v":"2018-01-02"},{"$f":"'جدول الصف الثاني'!$C$11","v":"اللغة الإنجليزية {شفهي}"},{"$f":"'جدول الصف الثاني'!$D$11","v":9.4499999999999993},{"$f":"'جدول الصف الثاني'!$E$11","v":11.15},{"$f":"'جدول الصف الثاني'!$F$11","v":"ساعة ونصف"}]
[]
[{"$f":"'جدول الصف الثاني'!$A$1","v":"إدارة /غرب المحلة الكبرى التعليمية"},null,null,"رقم اللجنة",{"$f":"VLOOKUP(E134,اسماء_الثاني,7,FALSE)","v":1},null,{"$f":"'جدول الصف الثاني'!$A$1","v":"إدارة /غرب المحلة الكبرى التعليمية"},null,null,"رقم اللجنة",{"$f":"VLOOKUP(K134,اسماء_الثاني,7,FALSE)","v":2}]
[{"$f":"'جدول الصف الثاني'!$A$2","v":"مدرسة د/علي علي حبيش الابتدائية"},null,{"$f":"'جدول الصف الثاني'!$C$5","v":"الصف الثاني"},null,{"$f":"E123+1","v":13},null,{"$f":"'جدول الصف الثاني'!$A$2","v":"مدرسة د/علي علي حبيش الابتدائية"},null,{"$f":"'جدول الصف الثاني'!$C$5","v":"الصف الثاني"},null,{"$f":"K123+1","v":33}]
[{"$f":"'جدول الصف الثاني'!$B$4","v":"جدول امتحان الفصل الدراسي الأول / الثاني للعام الدراسي 2019/2018"},null,null,null,null,null,{"$f":"'جدول الصف الثاني'!$B$4","v":"جدول امتحان الفصل الدراسي الأول / الثاني للعام الدراسي 2019/2018"}]
["اسم التلميذ",{"$f":"VLOOKUP(E134,اسماء_الثاني,3,FALSE)","v":"حسن13"},"رقم الجلوس",{"$f":"VLOOKUP(E134,اسماء_الثاني,2,FALSE)","v":42},null,null,"اسم التلميذ",{"$f":"VLOOKUP(K134,اسماء_الثاني,3,FALSE)","v":"حسن33"},"رقم الجلوس",{"$f":"VLOOKUP(K134,اسماء_الثاني,2,FALSE)","v":62}]
["اليوم والتاريخ","المــــــــــــــادة","الوقـــت",null,"الزمن",null,"اليوم والتاريخ","المــــــــــــــادة","الوقـــت",null,"الزمن"]
[null,null,"من ","إلي",null,null,null,null,"من ","إلي"]
[{"$f":"'جدول الصف الثاني'!$B$8","v":"السبت"},{"$f":"'جدول الصف الثاني'!$C$8","v":"لغة عربية وخط"},{"$f":"'جدول الصف الثاني'!$D$8","v":8},{"$f":"'جدول الصف الثاني'!$E$8","v":10},{"$f":"'جدول الصف الثاني'!$F$8","v":"ساعتان"},null,{"$f":"'جدول الصف الثاني'!$B$8","v":"السبت"},{"$f":"'جدول الصف الثاني'!$C$8","v":"لغة عربية وخط"},{"$f":"'جدول الصف الثاني'!$D$8","v":8},{"$f":"'جدول الصف الثاني'!$E$8","v":10},{"$f":"'جدول الصف الثاني'!$F$8","v":"ساعتان"}]
[{"$f":"'جدول الصف الثاني'!$B$9","v":"2018-01-01"},{"$f":"'جدول الصف الثاني'!$C$9","v":"التربية الدينية"},{"$f":"'جدول الصف الثاني'!$D$9","v":10.15},{"$f":"'جدول الصف الثاني'!$E$9","v":11.45},{"$f":"'جدول الصف الثاني'!$F$9","v":"ساعة"},null,{"$f":"'جدول الصف الثاني'!$B$9","v":"2018-01-01"},{"$f":"'جدول الصف الثاني'!$C$9","v":"التربية الدينية"},{"$f":"'جدول الصف الثاني'!$D$9","v":10.15},{"$f":"'جدول الصف الثاني'!$E$9","v":11.45},{"$f":"'جدول الصف الثاني'!$F$9","v":"ساعة"}]
[{"$f":"'جدول الصف الثاني'!$B$10","v":"الأحد"},{"$f":"'جدول الصف الثاني'!$C$10","v":"الرياضيات"},{"$f":"'جدول الصف الثاني'!$D$10","v":8},{"$f":"'جدول الصف الثاني'!$E$10","v":9.3000000000000007},{"$f":"'جدول الصف الثاني'!$F$10","v":"ساعة ونصف"},null,{"$f":"'جدول الصف الثاني'!$B$10","v":"الأحد"},{"$f":"'جدول الصف الثاني'!$C$10","v":"الرياضيات"},{"$f":"'جدول الصف الثاني'!$D$10","v":8},{"$f":"'جدول الصف الثاني'!$E$10","v":9.3000000000000007},{"$f":"'جدول الصف الثاني'!$F$10","v":"ساعة ونصف"}]
[{"$f":"'جدول الصف الثاني'!$B$11","v":"2018-01-02"},{"$f":"'جدول الصف الثاني'!$C$11","v":"اللغة الإنجليزية {شفهي}"},{"$f":"'جدول الصف الثاني'!$D$11","v":9.4499999999999993},{"$f":"'جدول الصف الثاني'!$E$11","v":11.15},{"$f":"'جدول الصف الثاني'!$F$11","v":"ساعة ونصف"},null,{"$f":"'جدول الصف الثاني'!$B$11","v":"2018-01-02"},{"$f":"'جدول الصف الثاني'!$C$11","v":"اللغة الإنجليزية {شفهي}"},{"$f":"'جدول الصف الثاني'!$D$11","v":9.4499999999999993},{"$f":"'جدول الصف الثاني'!$E$11","v":11.15},{"$f":"'جدول الصف الثاني'!$F$11","v":"ساعة ونصف"}]
[]
[{"$f":"'جدول الصف الثاني'!$A$1","v":"إدارة /غرب المحلة الكبرى التعليمية"},null,null,"رقم اللجنة",{"$f":"VLOOKUP(E145,اسماء_الثاني,7,FALSE)","v":1},null,{"$f":"'جدول الصف الثاني'!$A$1","v":"إدارة /غرب المحلة الكبرى التعليمية"},null,null,"رقم اللجنة",{"$f":"VLOOKUP(K145,اسماء_الثاني,7,FALSE)","v":2}]
[{"$f":"'جدول الصف الثاني'!$A$2","v":"مدرسة د/علي علي حبيش الابتدائية"},null,{"$f":"'جدول الصف الثاني'!$C$5","v":"الصف الثاني"},null,{"$f":"E134+1","v":14},null,{"$f":"'جدول الصف الثاني'!$A$2","v":"مدرسة د/علي علي حبيش الابتدائية"},null,{"$f":"'جدول الصف الثاني'!$C$5","v":"الصف الثاني"},null,{"$f":"K134+1","v":34}]
[{"$f":"'جدول الصف الثاني'!$B$4","v":"جدول امتحان الفصل الدراسي الأول / الثاني للعام الدراسي 2019/2018"},null,null,null,null,null,{"$f":"'جدول الصف الثاني'!$B$4","v":"جدول امتحان الفصل الدراسي الأول / الثاني للعام الدراسي 2019/2018"}]
["اسم التلميذ",{"$f":"VLOOKUP(E145,اسماء_الثاني,3,FALSE)","v":"حسن14"},"رقم الجلوس",{"$f":"VLOOKUP(E145,اسماء_الثاني,2,FALSE)","v":43},null,null,"اسم التلميذ",{"$f":"VLOOKUP(K145,اسماء_الثاني,3,FALSE)","v":"حسن34"},"رقم الجلوس",{"$f":"VLOOKUP(K145,اسماء_الثاني,2,FALSE)","v":63}]
["اليوم والتاريخ","المــــــــــــــادة","الوقـــت",null,"الزمن",null,"اليوم والتاريخ","المــــــــــــــادة","الوقـــت",null,"الزمن"]
[null,null,"من ","إلي",null,null,null,null,"من ","إلي"]
[{"$f":"'جدول الصف الثاني'!$B$8","v":"السبت"},{"$f":"'جدول الصف الثاني'!$C$8","v":"لغة عربية وخط"},{"$f":"'جدول الصف الثاني'!$D$8","v":8},{"$f":"'جدول الصف الثاني'!$E$8","v":10},{"$f":"'جدول الصف الثاني'!$F$8","v":"ساعتان"},null,{"$f":"'جدول الصف الثاني'!$B$8","v":"السبت"},{"$f":"'جدول الصف الثاني'!$C$8","v":"لغة عربية وخط"},{"$f":"'جدول الصف الثاني'!$D$8","v":8},{"$f":"'جدول الصف الثاني'!$E$8","v":10},{"$f":"'جدول الصف الثاني'!$F$8","v":"ساعتان"}]
[{"$f":"'جدول الصف الثاني'!$B$9","v":"2018-01-01"},{"$f":"'جدول الصف الثاني'!$C$9","v":"التربية الدينية"},{"$f":"'جدول الصف الثاني'!$D$9","v":10.15},{"$f":"'جدول الصف الثاني'!$E$9","v":11.45},{"$f":"'جدول الصف الثاني'!$F$9","v":"ساعة"},null,{"$f":"'جدول الصف الثاني'!$B$9","v":"2018-01-01"},{"$f":"'جدول الصف الثاني'!$C$9","v":"التربية الدينية"},{"$f":"'جدول الصف الثاني'!$D$9","v":10.15},{"$f":"'جدول الصف الثاني'!$E$9","v":11.45},{"$f":"'جدول الصف الثاني'!$F$9","v":"ساعة"}]
[{"$f":"'جدول الصف الثاني'!$B$10","v":"الأحد"},{"$f":"'جدول الصف الثاني'!$C$10","v":"الرياضيات"},{"$f":"'جدول الصف الثاني'!$D$10","v":8},{"$f":"'جدول الصف الثاني'!$E$10","v":9.3000000000000007},{"$f":"'جدول الصف الثاني'!$F$10","v":"ساعة ونصف"},null,{"$f":"'جدول الصف الثاني'!$B$10","v":"الأحد"},{"$f":"'جدول الصف الثاني'!$C$10","v":"الرياضيات"},{"$f":"'جدول الصف الثاني'!$D$10","v":8},{"$f":"'جدول الصف الثاني'!$E$10","v":9.3000000000000007},{"$f":"'جدول الصف الثاني'!$F$10","v":"ساعة ونصف"}]
[{"$f":"'جدول الصف الثاني'!$B$11","v":"2018-01-02"},{"$f":"'جدول الصف الثاني'!$C$11","v":"اللغة الإنجليزية {شفهي}"},{"$f":"'جدول الصف الثاني'!$D$11","v":9.4499999999999993},{"$f":"'جدول الصف الثاني'!$E$11","v":11.15},{"$f":"'جدول الصف الثاني'!$F$11","v":"ساعة ونصف"},null,{"$f":"'جدول الصف الثاني'!$B$11","v":"2018-01-02"},{"$f":"'جدول الصف الثاني'!$C$11","v":"اللغة الإنجليزية {شفهي}"},{"$f":"'جدول الصف الثاني'!$D$11","v":9.4499999999999993},{"$f":"'جدول الصف الثاني'!$E$11","v":11.15},{"$f":"'جدول الصف الثاني'!$F$11","v":"ساعة ونصف"}]
[]
[{"$f":"'جدول الصف الثاني'!$A$1","v":"إدارة /غرب المحلة الكبرى التعليمية"},null,null,"رقم اللجنة",{"$f":"VLOOKUP(E156,اسماء_الثاني,7,FALSE)","v":1},null,{"$f":"'جدول الصف الثاني'!$A$1","v":"إدارة /غرب المحلة الكبرى التعليمية"},null,null,"رقم اللجنة",{"$f":"VLOOKUP(K156,اسماء_الثاني,7,FALSE)","v":2}]
[{"$f":"'جدول الصف الثاني'!$A$2","v":"مدرسة د/علي علي حبيش الابتدائية"},null,{"$f":"'جدول الصف الثاني'!$C$5","v":"الصف الثاني"},null,{"$f":"E145+1","v":15},null,{"$f":"'جدول الصف الثاني'!$A$2","v":"مدرسة د/علي علي حبيش الابتدائية"},null,{"$f":"'جدول الصف الثاني'!$C$5","v":"الصف الثاني"},null,{"$f":"K145+1","v":35}]
[{"$f":"'جدول الصف الثاني'!$B$4","v":"جدول امتحان الفصل الدراسي الأول / الثاني للعام الدراسي 2019/2018"},null,null,null,null,null,{"$f":"'جدول الصف الثاني'!$B$4","v":"جدول امتحان الفصل الدراسي الأول / الثاني للعام الدراسي 2019/2018"}]
["اسم التلميذ",{"$f":"VLOOKUP(E156,اسماء_الثاني,3,FALSE)","v":"حسن15"},"رقم الجلوس",{"$f":"VLOOKUP(E156,اسماء_الثاني,2,FALSE)","v":44},null,null,"اسم التلميذ",{"$f":"VLOOKUP(K156,اسماء_الثاني,3,FALSE)","v":"حسن35"},"رقم الجلوس",{"$f":"VLOOKUP(K156,اسماء_الثاني,2,FALSE)","v":64}]
["اليوم والتاريخ","المــــــــــــــادة","الوقـــت",null,"الزمن",null,"اليوم والتاريخ","المــــــــــــــادة","الوقـــت",null,"الزمن"]
[null,null,"من ","إلي",null,null,null,null,"من ","إلي"]
[{"$f":"'جدول الصف الثاني'!$B$8","v":"السبت"},{"$f":"'جدول الصف الثاني'!$C$8","v":"لغة عربية وخط"},{"$f":"'جدول الصف الثاني'!$D$8","v":8},{"$f":"'جدول الصف الثاني'!$E$8","v":10},{"$f":"'جدول الصف الثاني'!$F$8","v":"ساعتان"},null,{"$f":"'جدول الصف الثاني'!$B$8","v":"السبت"},{"$f":"'جدول الصف الثاني'!$C$8","v":"لغة عربية وخط"},{"$f":"'جدول الصف الثاني'!$D$8","v":8},{"$f":"'جدول الصف الثاني'!$E$8","v":10},{"$f":"'جدول الصف الثاني'!$F$8","v":"ساعتان"}]
[{"$f":"'جدول الصف الثاني'!$B$9","v":"2018-01-01"},{"$f":"'جدول الصف الثاني'!$C$9","v":"التربية الدينية"},{"$f":"'جدول الصف الثاني'!$D$9","v":10.15},{"$f":"'جدول الصف الثاني'!$E$9","v":11.45},{"$f":"'جدول الصف الثاني'!$F$9","v":"ساعة"},null,{"$f":"'جدول الصف الثاني'!$B$9","v":"2018-01-01"},{"$f":"'جدول الصف الثاني'!$C$9","v":"التربية الدينية"},{"$f":"'جدول الصف الثاني'!$D$9","v":10.15},{"$f":"'جدول الصف الثاني'!$E$9","v":11.45},{"$f":"'جدول الصف الثاني'!$F$9","v":"ساعة"}]
[{"$f":"'جدول الصف الثاني'!$B$10","v":"الأحد"},{"$f":"'جدول الصف الثاني'!$C$10","v":"الرياضيات"},{"$f":"'جدول الصف الثاني'!$D$10","v":8},{"$f":"'جدول الصف الثاني'!$E$10","v":9.3000000000000007},{"$f":"'جدول الصف الثاني'!$F$10","v":"ساعة ونصف"},null,{"$f":"'جدول الصف الثاني'!$B$10","v":"الأحد"},{"$f":"'جدول الصف الثاني'!$C$10","v":"الرياضيات"},{"$f":"'جدول الصف الثاني'!$D$10","v":8},{"$f":"'جدول الصف الثاني'!$E$10","v":9.3000000000000007},{"$f":"'جدول الصف الثاني'!$F$10","v":"ساعة ونصف"}]
[{"$f":"'جدول الصف الثاني'!$B$11","v":"2018-01-02"},{"$f":"'جدول الصف الثاني'!$C$11","v":"اللغة الإنجليزية {شفهي}"},{"$f":"'جدول الصف الثاني'!$D$11","v":9.4499999999999993},{"$f":"'جدول الصف الثاني'!$E$11","v":11.15},{"$f":"'جدول الصف الثاني'!$F$11","v":"ساعة ونصف"},null,{"$f":"'جدول الصف الثاني'!$B$11","v":"2018-01-02"},{"$f":"'جدول الصف الثاني'!$C$11","v":"اللغة الإنجليزية {شفهي}"},{"$f":"'جدول الصف الثاني'!$D$11","v":9.4499999999999993},{"$f":"'جدول الصف الثاني'!$E$11","v":11.15},{"$f":"'جدول الصف الثاني'!$F$11","v":"ساعة ونصف"}]
[]
[{"$f":"'جدول الصف الثاني'!$A$1","v":"إدارة /غرب المحلة الكبرى التعليمية"},null,null,"رقم اللجنة",{"$f":"VLOOKUP(E167,اسماء_الثاني,7,FALSE)","v":1},null,{"$f":"'جدول الصف الثاني'!$A$1","v":"إدارة /غرب المحلة الكبرى التعليمية"},null,null,"رقم اللجنة",{"$f":"VLOOKUP(K167,اسماء_الثاني,7,FALSE)","v":2}]
[{"$f":"'جدول الصف الثاني'!$A$2","v":"مدرسة د/علي علي حبيش الابتدائية"},null,{"$f":"'جدول الصف الثاني'!$C$5","v":"الصف الثاني"},null,{"$f":"E156+1","v":16},null,{"$f":"'جدول الصف الثاني'!$A$2","v":"مدرسة د/علي علي حبيش الابتدائية"},null,{"$f":"'جدول الصف الثاني'!$C$5","v":"الصف الثاني"},null,{"$f":"K156+1","v":36}]
[{"$f":"'جدول الصف الثاني'!$B$4","v":"جدول امتحان الفصل الدراسي الأول / الثاني للعام الدراسي 2019/2018"},null,null,null,null,null,{"$f":"'جدول الصف الثاني'!$B$4","v":"جدول امتحان الفصل الدراسي الأول / الثاني للعام الدراسي 2019/2018"}]
["اسم التلميذ",{"$f":"VLOOKUP(E167,اسماء_الثاني,3,FALSE)","v":"حسن16"},"رقم الجلوس",{"$f":"VLOOKUP(E167,اسماء_الثاني,2,FALSE)","v":45},null,null,"اسم التلميذ",{"$f":"VLOOKUP(K167,اسماء_الثاني,3,FALSE)","v":"حسن36"},"رقم الجلوس",{"$f":"VLOOKUP(K167,اسماء_الثاني,2,FALSE)","v":65}]
["اليوم والتاريخ","المــــــــــــــادة","الوقـــت",null,"الزمن",null,"اليوم والتاريخ","المــــــــــــــادة","الوقـــت",null,"الزمن"]
[null,null,"من ","إلي",null,null,null,null,"من ","إلي"]
[{"$f":"'جدول الصف الثاني'!$B$8","v":"السبت"},{"$f":"'جدول الصف الثاني'!$C$8","v":"لغة عربية وخط"},{"$f":"'جدول الصف الثاني'!$D$8","v":8},{"$f":"'جدول الصف الثاني'!$E$8","v":10},{"$f":"'جدول الصف الثاني'!$F$8","v":"ساعتان"},null,{"$f":"'جدول الصف الثاني'!$B$8","v":"السبت"},{"$f":"'جدول الصف الثاني'!$C$8","v":"لغة عربية وخط"},{"$f":"'جدول الصف الثاني'!$D$8","v":8},{"$f":"'جدول الصف الثاني'!$E$8","v":10},{"$f":"'جدول الصف الثاني'!$F$8","v":"ساعتان"}]
[{"$f":"'جدول الصف الثاني'!$B$9","v":"2018-01-01"},{"$f":"'جدول الصف الثاني'!$C$9","v":"التربية الدينية"},{"$f":"'جدول الصف الثاني'!$D$9","v":10.15},{"$f":"'جدول الصف الثاني'!$E$9","v":11.45},{"$f":"'جدول الصف الثاني'!$F$9","v":"ساعة"},null,{"$f":"'جدول الصف الثاني'!$B$9","v":"2018-01-01"},{"$f":"'جدول الصف الثاني'!$C$9","v":"التربية الدينية"},{"$f":"'جدول الصف الثاني'!$D$9","v":10.15},{"$f":"'جدول الصف الثاني'!$E$9","v":11.45},{"$f":"'جدول الصف الثاني'!$F$9","v":"ساعة"}]
[{"$f":"'جدول الصف الثاني'!$B$10","v":"الأحد"},{"$f":"'جدول الصف الثاني'!$C$10","v":"الرياضيات"},{"$f":"'جدول الصف الثاني'!$D$10","v":8},{"$f":"'جدول الصف الثاني'!$E$10","v":9.3000000000000007},{"$f":"'جدول الصف الثاني'!$F$10","v":"ساعة ونصف"},null,{"$f":"'جدول الصف الثاني'!$B$10","v":"الأحد"},{"$f":"'جدول الصف الثاني'!$C$10","v":"الرياضيات"},{"$f":"'جدول الصف الثاني'!$D$10","v":8},{"$f":"'جدول الصف الثاني'!$E$10","v":9.3000000000000007},{"$f":"'جدول الصف الثاني'!$F$10","v":"ساعة ونصف"}]
[{"$f":"'جدول الصف الثاني'!$B$11","v":"2018-01-02"},{"$f":"'جدول الصف الثاني'!$C$11","v":"اللغة الإنجليزية {شفهي}"},{"$f":"'جدول الصف الثاني'!$D$11","v":9.4499999999999993},{"$f":"'جدول الصف الثاني'!$E$11","v":11.15},{"$f":"'جدول الصف الثاني'!$F$11","v":"ساعة ونصف"},null,{"$f":"'جدول الصف الثاني'!$B$11","v":"2018-01-02"},{"$f":"'جدول الصف الثاني'!$C$11","v":"اللغة الإنجليزية {شفهي}"},{"$f":"'جدول الصف الثاني'!$D$11","v":9.4499999999999993},{"$f":"'جدول الصف الثاني'!$E$11","v":11.15},{"$f":"'جدول الصف الثاني'!$F$11","v":"ساعة ونصف"}]
[]
[{"$f":"'جدول الصف الثاني'!$A$1","v":"إدارة /غرب المحلة الكبرى التعليمية"},null,null,"رقم اللجنة",{"$f":"VLOOKUP(E178,اسماء_الثاني,7,FALSE)","v":1},null,{"$f":"'جدول الصف الثاني'!$A$1","v":"إدارة /غرب المحلة الكبرى التعليمية"},null,null,"رقم اللجنة",{"$f":"VLOOKUP(K178,اسماء_الثاني,7,FALSE)","v":2}]
[{"$f":"'جدول الصف الثاني'!$A$2","v":"مدرسة د/علي علي حبيش الابتدائية"},null,{"$f":"'جدول الصف الثاني'!$C$5","v":"الصف الثاني"},null,{"$f":"E167+1","v":17},null,{"$f":"'جدول الصف الثاني'!$A$2","v":"مدرسة د/علي علي حبيش الابتدائية"},null,{"$f":"'جدول الصف الثاني'!$C$5","v":"الصف الثاني"},null,{"$f":"K167+1","v":37}]
[{"$f":"'جدول الصف الثاني'!$B$4","v":"جدول امتحان الفصل الدراسي الأول / الثاني للعام الدراسي 2019/2018"},null,null,null,null,null,{"$f":"'جدول الصف الثاني'!$B$4","v":"جدول امتحان الفصل الدراسي الأول / الثاني للعام الدراسي 2019/2018"}]
["اسم التلميذ",{"$f":"VLOOKUP(E178,اسماء_الثاني,3,FALSE)","v":"حسن17"},"رقم الجلوس",{"$f":"VLOOKUP(E178,اسماء_الثاني,2,FALSE)","v":46},null,null,"اسم التلميذ",{"$f":"VLOOKUP(K178,اسماء_الثاني,3,FALSE)","v":"حسن37"},"رقم الجلوس",{"$f":"VLOOKUP(K178,اسماء_الثاني,2,FALSE)","v":66}]
["اليوم والتاريخ","المــــــــــــــادة","الوقـــت",null,"الزمن",null,"اليوم والتاريخ","المــــــــــــــادة","الوقـــت",null,"الزمن"]
[null,null,"من ","إلي",null,null,null,null,"من ","إلي"]
[{"$f":"'جدول الصف الثاني'!$B$8","v":"السبت"},{"$f":"'جدول الصف الثاني'!$C$8","v":"لغة عربية وخط"},{"$f":"'جدول الصف الثاني'!$D$8","v":8},{"$f":"'جدول الصف الثاني'!$E$8","v":10},{"$f":"'جدول الصف الثاني'!$F$8","v":"ساعتان"},null,{"$f":"'جدول الصف الثاني'!$B$8","v":"السبت"},{"$f":"'جدول الصف الثاني'!$C$8","v":"لغة عربية وخط"},{"$f":"'جدول الصف الثاني'!$D$8","v":8},{"$f":"'جدول الصف الثاني'!$E$8","v":10},{"$f":"'جدول الصف الثاني'!$F$8","v":"ساعتان"}]
[{"$f":"'جدول الصف الثاني'!$B$9","v":"2018-01-01"},{"$f":"'جدول الصف الثاني'!$C$9","v":"التربية الدينية"},{"$f":"'جدول الصف الثاني'!$D$9","v":10.15},{"$f":"'جدول الصف الثاني'!$E$9","v":11.45},{"$f":"'جدول الصف الثاني'!$F$9","v":"ساعة"},null,{"$f":"'جدول الصف الثاني'!$B$9","v":"2018-01-01"},{"$f":"'جدول الصف الثاني'!$C$9","v":"التربية الدينية"},{"$f":"'جدول الصف الثاني'!$D$9","v":10.15},{"$f":"'جدول الصف الثاني'!$E$9","v":11.45},{"$f":"'جدول الصف الثاني'!$F$9","v":"ساعة"}]
[{"$f":"'جدول الصف الثاني'!$B$10","v":"الأحد"},{"$f":"'جدول الصف الثاني'!$C$10","v":"الرياضيات"},{"$f":"'جدول الصف الثاني'!$D$10","v":8},{"$f":"'جدول الصف الثاني'!$E$10","v":9.3000000000000007},{"$f":"'جدول الصف الثاني'!$F$10","v":"ساعة ونصف"},null,{"$f":"'جدول الصف الثاني'!$B$10","v":"الأحد"},{"$f":"'جدول الصف الثاني'!$C$10","v":"الرياضيات"},{"$f":"'جدول الصف الثاني'!$D$10","v":8},{"$f":"'جدول الصف الثاني'!$E$10","v":9.3000000000000007},{"$f":"'جدول الصف الثاني'!$F$10","v":"ساعة ونصف"}]
[{"$f":"'جدول الصف الثاني'!$B$11","v":"2018-01-02"},{"$f":"'جدول الصف الثاني'!$C$11","v":"اللغة الإنجليزية {شفهي}"},{"$f":"'جدول الصف الثاني'!$D$11","v":9.4499999999999993},{"$f":"'جدول الصف الثاني'!$E$11","v":11.15},{"$f":"'جدول الصف الثاني'!$F$11","v":"ساعة ونصف"},null,{"$f":"'جدول الصف الثاني'!$B$11","v":"2018-01-02"},{"$f":"'جدول الصف الثاني'!$C$11","v":"اللغة الإنجليزية {شفهي}"},{"$f":"'جدول الصف الثاني'!$D$11","v":9.4499999999999993},{"$f":"'جدول الصف الثاني'!$E$11","v":11.15},{"$f":"'جدول الصف الثاني'!$F$11","v":"ساعة ونصف"}]
[]
[{"$f":"'جدول الصف الثاني'!$A$1","v":"إدارة /غرب المحلة الكبرى التعليمية"},null,null,"رقم اللجنة",{"$f":"VLOOKUP(E189,اسماء_الثاني,7,FALSE)","v":1},null,{"$f":"'جدول الصف الثاني'!$A$1","v":"إدارة /غرب المحلة الكبرى التعليمية"},null,null,"رقم اللجنة",{"$f":"VLOOKUP(K189,اسماء_الثاني,7,FALSE)","v":2}]
[{"$f":"'جدول الصف الثاني'!$A$2","v":"مدرسة د/علي علي حبيش الابتدائية"},null,{"$f":"'جدول الصف الثاني'!$C$5","v":"الصف الثاني"},null,{"$f":"E178+1","v":18},null,{"$f":"'جدول الصف الثاني'!$A$2","v":"مدرسة د/علي علي حبيش الابتدائية"},null,{"$f":"'جدول الصف الثاني'!$C$5","v":"الصف الثاني"},null,{"$f":"K178+1","v":38}]
[{"$f":"'جدول الصف الثاني'!$B$4","v":"جدول امتحان الفصل الدراسي الأول / الثاني للعام الدراسي 2019/2018"},null,null,null,null,null,{"$f":"'جدول الصف الثاني'!$B$4","v":"جدول امتحان الفصل الدراسي الأول / الثاني للعام الدراسي 2019/2018"}]
["اسم التلميذ",{"$f":"VLOOKUP(E189,اسماء_الثاني,3,FALSE)","v":"حسن18"},"رقم الجلوس",{"$f":"VLOOKUP(E189,اسماء_الثاني,2,FALSE)","v":47},null,null,"اسم التلميذ",{"$f":"VLOOKUP(K189,اسماء_الثاني,3,FALSE)","v":"حسن38"},"رقم الجلوس",{"$f":"VLOOKUP(K189,اسماء_الثاني,2,FALSE)","v":67}]
["اليوم والتاريخ","المــــــــــــــادة","الوقـــت",null,"الزمن",null,"اليوم والتاريخ","المــــــــــــــادة","الوقـــت",null,"الزمن"]
[null,null,"من ","إلي",null,null,null,null,"من ","إلي"]
[{"$f":"'جدول الصف الثاني'!$B$8","v":"السبت"},{"$f":"'جدول الصف الثاني'!$C$8","v":"لغة عربية وخط"},{"$f":"'جدول الصف الثاني'!$D$8","v":8},{"$f":"'جدول الصف الثاني'!$E$8","v":10},{"$f":"'جدول الصف الثاني'!$F$8","v":"ساعتان"},null,{"$f":"'جدول الصف الثاني'!$B$8","v":"السبت"},{"$f":"'جدول الصف الثاني'!$C$8","v":"لغة عربية وخط"},{"$f":"'جدول الصف الثاني'!$D$8","v":8},{"$f":"'جدول الصف الثاني'!$E$8","v":10},{"$f":"'جدول الصف الثاني'!$F$8","v":"ساعتان"}]
[{"$f":"'جدول الصف الثاني'!$B$9","v":"2018-01-01"},{"$f":"'جدول الصف الثاني'!$C$9","v":"التربية الدينية"},{"$f":"'جدول الصف الثاني'!$D$9","v":10.15},{"$f":"'جدول الصف الثاني'!$E$9","v":11.45},{"$f":"'جدول الصف الثاني'!$F$9","v":"ساعة"},null,{"$f":"'جدول الصف الثاني'!$B$9","v":"2018-01-01"},{"$f":"'جدول الصف الثاني'!$C$9","v":"التربية الدينية"},{"$f":"'جدول الصف الثاني'!$D$9","v":10.15},{"$f":"'جدول الصف الثاني'!$E$9","v":11.45},{"$f":"'جدول الصف الثاني'!$F$9","v":"ساعة"}]
[{"$f":"'جدول الصف الثاني'!$B$10","v":"الأحد"},{"$f":"'جدول الصف الثاني'!$C$10","v":"الرياضيات"},{"$f":"'جدول الصف الثاني'!$D$10","v":8},{"$f":"'جدول الصف الثاني'!$E$10","v":9.3000000000000007},{"$f":"'جدول الصف الثاني'!$F$10","v":"ساعة ونصف"},null,{"$f":"'جدول الصف الثاني'!$B$10","v":"الأحد"},{"$f":"'جدول الصف الثاني'!$C$10","v":"الرياضيات"},{"$f":"'جدول الصف الثاني'!$D$10","v":8},{"$f":"'جدول الصف الثاني'!$E$10","v":9.3000000000000007},{"$f":"'جدول الصف الثاني'!$F$10","v":"ساعة ونصف"}]
[{"$f":"'جدول الصف الثاني'!$B$11","v":"2018-01-02"},{"$f":"'جدول الصف الثاني'!$C$11","v":"اللغة الإنجليزية {شفهي}"},{"$f":"'جدول الصف الثاني'!$D$11","v":9.4499999999999993},{"$f":"'جدول الصف الثاني'!$E$11","v":11.15},{"$f":"'جدول الصف الثاني'!$F$11","v":"ساعة ونصف"},null,{"$f":"'جدول الصف الثاني'!$B$11","v":"2018-01-02"},{"$f":"'جدول الصف الثاني'!$C$11","v":"اللغة الإنجليزية {شفهي}"},{"$f":"'جدول الصف الثاني'!$D$11","v":9.4499999999999993},{"$f":"'جدول الصف الثاني'!$E$11","v":11.15},{"$f":"'جدول الصف الثاني'!$F$11","v":"ساعة ونصف"}]
[]
[{"$f":"'جدول الصف الثاني'!$A$1","v":"إدارة /غرب المحلة الكبرى التعليمية"},null,null,"رقم اللجنة",{"$f":"VLOOKUP(E200,اسماء_الثاني,7,FALSE)","v":1},null,{"$f":"'جدول الصف الثاني'!$A$1","v":"إدارة /غرب المحلة الكبرى التعليمية"},null,null,"رقم اللجنة",{"$f":"VLOOKUP(K200,اسماء_الثاني,7,FALSE)","v":2}]
[{"$f":"'جدول الصف الثاني'!$A$2","v":"مدرسة د/علي علي حبيش الابتدائية"},null,{"$f":"'جدول الصف الثاني'!$C$5","v":"الصف الثاني"},null,{"$f":"E189+1","v":19},null,{"$f":"'جدول الصف الثاني'!$A$2","v":"مدرسة د/علي علي حبيش الابتدائية"},null,{"$f":"'جدول الصف الثاني'!$C$5","v":"الصف الثاني"},null,{"$f":"K189+1","v":39}]
[{"$f":"'جدول الصف الثاني'!$B$4","v":"جدول امتحان الفصل الدراسي الأول / الثاني للعام الدراسي 2019/2018"},null,null,null,null,null,{"$f":"'جدول الصف الثاني'!$B$4","v":"جدول امتحان الفصل الدراسي الأول / الثاني للعام الدراسي 2019/2018"}]
["اسم التلميذ",{"$f":"VLOOKUP(E200,اسماء_الثاني,3,FALSE)","v":"حسن19"},"رقم الجلوس",{"$f":"VLOOKUP(E200,اسماء_الثاني,2,FALSE)","v":48},null,null,"اسم التلميذ",{"$f":"VLOOKUP(K200,اسماء_الثاني,3,FALSE)","v":"حسن39"},"رقم الجلوس",{"$f":"VLOOKUP(K200,اسماء_الثاني,2,FALSE)","v":68}]
["اليوم والتاريخ","المــــــــــــــادة","الوقـــت",null,"الزمن",null,"اليوم والتاريخ","المــــــــــــــادة","الوقـــت",null,"الزمن"]
[null,null,"من ","إلي",null,null,null,null,"من ","إلي"]
[{"$f":"'جدول الصف الثاني'!$B$8","v":"السبت"},{"$f":"'جدول الصف الثاني'!$C$8","v":"لغة عربية وخط"},{"$f":"'جدول الصف الثاني'!$D$8","v":8},{"$f":"'جدول الصف الثاني'!$E$8","v":10},{"$f":"'جدول الصف الثاني'!$F$8","v":"ساعتان"},null,{"$f":"'جدول الصف الثاني'!$B$8","v":"السبت"},{"$f":"'جدول الصف الثاني'!$C$8","v":"لغة عربية وخط"},{"$f":"'جدول الصف الثاني'!$D$8","v":8},{"$f":"'جدول الصف الثاني'!$E$8","v":10},{"$f":"'جدول الصف الثاني'!$F$8","v":"ساعتان"}]
[{"$f":"'جدول الصف الثاني'!$B$9","v":"2018-01-01"},{"$f":"'جدول الصف الثاني'!$C$9","v":"التربية الدينية"},{"$f":"'جدول الصف الثاني'!$D$9","v":10.15},{"$f":"'جدول الصف الثاني'!$E$9","v":11.45},{"$f":"'جدول الصف الثاني'!$F$9","v":"ساعة"},null,{"$f":"'جدول الصف الثاني'!$B$9","v":"2018-01-01"},{"$f":"'جدول الصف الثاني'!$C$9","v":"التربية الدينية"},{"$f":"'جدول الصف الثاني'!$D$9","v":10.15},{"$f":"'جدول الصف الثاني'!$E$9","v":11.45},{"$f":"'جدول الصف الثاني'!$F$9","v":"ساعة"}]
[{"$f":"'جدول الصف الثاني'!$B$10","v":"الأحد"},{"$f":"'جدول الصف الثاني'!$C$10","v":"الرياضيات"},{"$f":"'جدول الصف الثاني'!$D$10","v":8},{"$f":"'جدول الصف الثاني'!$E$10","v":9.3000000000000007},{"$f":"'جدول الصف الثاني'!$F$10","v":"ساعة ونصف"},null,{"$f":"'جدول الصف الثاني'!$B$10","v":"الأحد"},{"$f":"'جدول الصف الثاني'!$C$10","v":"الرياضيات"},{"$f":"'جدول الصف الثاني'!$D$10","v":8},{"$f":"'جدول الصف الثاني'!$E$10","v":9.3000000000000007},{"$f":"'جدول الصف الثاني'!$F$10","v":"ساعة ونصف"}]
[{"$f":"'جدول الصف الثاني'!$B$11","v":"2018-01-02"},{"$f":"'جدول الصف الثاني'!$C$11","v":"اللغة الإنجليزية {شفهي}"},{"$f":"'جدول الصف الثاني'!$D$11","v":9.4499999999999993},{"$f":"'جدول الصف الثاني'!$E$11","v":11.15},{"$f":"'جدول الصف الثاني'!$F$11","v":"ساعة ونصف"},null,{"$f":"'جدول الصف الثاني'!$B$11","v":"2018-01-02"},{"$f":"'جدول الصف الثاني'!$C$11","v":"اللغة الإنجليزية {شفهي}"},{"$f":"'جدول الصف الثاني'!$D$11","v":9.4499999999999993},{"$f":"'جدول الصف الثاني'!$E$11","v":11.15},{"$f":"'جدول الصف الثاني'!$F$11","v":"ساعة ونصف"}]
[]
[{"$f":"'جدول الصف الثاني'!$A$1","v":"إدارة /غرب المحلة الكبرى التعليمية"},null,null,"رقم اللجنة",{"$f":"VLOOKUP(E211,اسماء_الثاني,7,FALSE)","v":1},null,{"$f":"'جدول الصف الثاني'!$A$1","v":"إدارة /غرب المحلة الكبرى التعليمية"},null,null,"رقم اللجنة",{"$f":"VLOOKUP(K211,اسماء_الثاني,7,FALSE)","v":2}]
[{"$f":"'جدول الصف الثاني'!$A$2","v":"مدرسة د/علي علي حبيش الابتدائية"},null,{"$f":"'جدول الصف الثاني'!$C$5","v":"الصف الثاني"},null,{"$f":"E200+1","v":20},null,{"$f":"'جدول الصف الثاني'!$A$2","v":"مدرسة د/علي علي حبيش الابتدائية"},null,{"$f":"'جدول الصف الثاني'!$C$5","v":"الصف الثاني"},null,{"$f":"K200+1","v":40}]
[{"$f":"'جدول الصف الثاني'!$B$4","v":"جدول امتحان الفصل الدراسي الأول / الثاني للعام الدراسي 2019/2018"},null,null,null,null,null,{"$f":"'جدول الصف الثاني'!$B$4","v":"جدول امتحان الفصل الدراسي الأول / الثاني للعام الدراسي 2019/2018"}]
["اسم التلميذ",{"$f":"VLOOKUP(E211,اسماء_الثاني,3,FALSE)","v":"حسن20"},"رقم الجلوس",{"$f":"VLOOKUP(E211,اسماء_الثاني,2,FALSE)","v":49},null,null,"اسم التلميذ",{"$f":"VLOOKUP(K211,اسماء_الثاني,3,FALSE)","v":"حسن40"},"رقم الجلوس",{"$f":"VLOOKUP(K211,اسماء_الثاني,2,FALSE)","v":69}]
["اليوم والتاريخ","المــــــــــــــادة","الوقـــت",null,"الزمن",null,"اليوم والتاريخ","المــــــــــــــادة","الوقـــت",null,"الزمن"]
[null,null,"من ","إلي",null,null,null,null,"من ","إلي"]
[{"$f":"'جدول الصف الثاني'!$B$8","v":"السبت"},{"$f":"'جدول الصف الثاني'!$C$8","v":"لغة عربية وخط"},{"$f":"'جدول الصف الثاني'!$D$8","v":8},{"$f":"'جدول الصف الثاني'!$E$8","v":10},{"$f":"'جدول الصف الثاني'!$F$8","v":"ساعتان"},null,{"$f":"'جدول الصف الثاني'!$B$8","v":"السبت"},{"$f":"'جدول الصف الثاني'!$C$8","v":"لغة عربية وخط"},{"$f":"'جدول الصف الثاني'!$D$8","v":8},{"$f":"'جدول الصف الثاني'!$E$8","v":10},{"$f":"'جدول الصف الثاني'!$F$8","v":"ساعتان"}]
[{"$f":"'جدول الصف الثاني'!$B$9","v":"2018-01-01"},{"$f":"'جدول الصف الثاني'!$C$9","v":"التربية الدينية"},{"$f":"'جدول الصف الثاني'!$D$9","v":10.15},{"$f":"'جدول الصف الثاني'!$E$9","v":11.45},{"$f":"'جدول الصف الثاني'!$F$9","v":"ساعة"},null,{"$f":"'جدول الصف الثاني'!$B$9","v":"2018-01-01"},{"$f":"'جدول الصف الثاني'!$C$9","v":"التربية الدينية"},{"$f":"'جدول الصف الثاني'!$D$9","v":10.15},{"$f":"'جدول الصف الثاني'!$E$9","v":11.45},{"$f":"'جدول الصف الثاني'!$F$9","v":"ساعة"}]
[{"$f":"'جدول الصف الثاني'!$B$10","v":"الأحد"},{"$f":"'جدول الصف الثاني'!$C$10","v":"الرياضيات"},{"$f":"'جدول الصف الثاني'!$D$10","v":8},{"$f":"'جدول الصف الثاني'!$E$10","v":9.3000000000000007},{"$f":"'جدول الصف الثاني'!$F$10","v":"ساعة ونصف"},null,{"$f":"'جدول الصف الثاني'!$B$10","v":"الأحد"},{"$f":"'جدول الصف الثاني'!$C$10","v":"الرياضيات"},{"$f":"'جدول الصف الثاني'!$D$10","v":8},{"$f":"'جدول الصف الثاني'!$E$10","v":9.3000000000000007},{"$f":"'جدول الصف الثاني'!$F$10","v":"ساعة ونصف"}]
[{"$f":"'جدول الصف الثاني'!$B$11","v":"2018-01-02"},{"$f":"'جدول الصف الثاني'!$C$11","v":"اللغة الإنجليزية {شفهي}"},{"$f":"'جدول الصف الثاني'!$D$11","v":9.4499999999999993},{"$f":"'جدول الصف الثاني'!$E$11","v":11.15},{"$f":"'جدول الصف الثاني'!$F$11","v":"ساعة ونصف"},null,{"$f":"'جدول الصف الثاني'!$B$11","v":"2018-01-02"},{"$f":"'جدول الصف الثاني'!$C$11","v":"اللغة الإنجليزية {شفهي}"},{"$f":"'جدول الصف الثاني'!$D$11","v":9.4499999999999993},{"$f":"'جدول الصف الثاني'!$E$11","v":11.15},{"$f":"'جدول الصف الثاني'!$F$11","v":"ساعة ونصف"}]

{"sheet":"كشوف مناداة الصف الثاني","index":5,"n_rows":459,"n_cols":19,"rows_kept":459,"cut":false,"hidden":false,"merged":[[85,1,85,5],[85,7,85,11],[127,1,127,5],[127,7,127,11],[0,19,0,20],[2,1,2,5],[2,7,2,11],[43,1,43,5],[43,7,43,11],[169,1,169,5],[169,7,169,11],[211,1,211,5],[211,7,211,11],[253,1,253,5],[253,7,253,11],[421,1,421,5],[421,7,421,11],[295,1,295,5],[295,7,295,11],[337,1,337,5],[337,7,337,11],[379,1,379,5],[379,7,379,11]]}
[null,{"$f":"'البيانات الأساسية'!$A$1","v":"إدارة /غرب المحلة الكبرى التعليمية"},null,null,null,null,null,{"$f":"'البيانات الأساسية'!$A$1","v":"إدارة /غرب المحلة الكبرى التعليمية"},null,null,null,null,null,null,null,1]
[null,{"$f":"'البيانات الأساسية'!$A$2","v":"مدرسة د/علي علي حبيش الابتدائية"},null,null,null,null,null,{"$f":"'البيانات الأساسية'!$A$2","v":"مدرسة د/علي علي حبيش الابتدائية"}]
[null,{"$f":"'البيانات الأساسية'!$A$4","v":"كشف مناداة الصف الثاني فصل أول وثانٍ للعام الدراسي 2019/2018"},null,null,null,null,null,{"$f":"'البيانات الأساسية'!$A$4","v":"كشف مناداة الصف الثاني فصل أول وثانٍ للعام الدراسي 2019/2018"},null,null,null,null,null,null,null,null,{"$f":"MAX('قائمة الصف الثاني'!K:K)","v":29},{"$f":"VLOOKUP(J4,عدد_اللجنة2,3)","v":20},"الصف الثاني"]
[null,null,"اللجنة رقم",{"$f":"IF(P1>R3,\"\",P1)","v":1},null,null,null,null,"اللجنة رقم",{"$f":"P1+1","v":2},null,null,null,null,null,null,{"$f":"MAX('قائمة الصف الثاني'!K:K)","v":29},{"$f":"VLOOKUP(J4,عدد_اللجنة2,3)","v":20},"الصف الثاني"]
[null,"م","الاســـــــــــــــــــــــــــــم","رقم الجلوس","القيد","الديانة",null,"م","الاســـــــــــــــــــــــــــــم","رقم الجلوس","القيد","الديانة"]
[1,{"$f":"IF(D4=\"\",\"\",1)","v":1},{"$f":"IF(B6=\"\",\"\",VLOOKUP(D6,الثاني_مناداه,2))","v":"حسن1"},{"$f":"IF(D4=\"\",\"\",VLOOKUP(D4,رقم_جلوس2_مناداة,2))","v":30},{"$f":"IF(B6=\"\",\"\",VLOOKUP(D6,الثاني_مناداه,4,FALSE))","v":0},{"$f":"IF(B6=\"\",\"\",VLOOKUP(D6,الثاني_مناداه,5,FALSE))","v":"مسلم"},null,{"$f":"IF(J4=\"\",\"\",1)","v":1},{"$f":"IF(H6=\"\",\"\",VLOOKUP(J6,الثاني_مناداه,2))","v":"حسن21"},{"$f":"IF(J4=\"\",\"\",VLOOKUP(J4,رقم_جلوس2_مناداة,2))","v":50},{"$f":"IF(H6=\"\",\"\",VLOOKUP(J6,الثاني_مناداه,4,FALSE))","v":0},{"$f":"IF(H6=\"\",\"\",VLOOKUP(J6,الثاني_مناداه,5,FALSE))","v":0}]
[2,{"$f":"IF(B6=\"\",\"\",IF(B6+1>$R$3,\"\",B6+1))","v":2},"حسن2",{"$f":"IF(B6=\"\",\"\",IF(B7=\"\",\"\",D6+1))","v":31},0,0,null,{"$f":"IF(H6=\"\",\"\",IF(H6+1>$R$3,\"\",H6+1))","v":2},"حسن22",{"$f":"IF(H6=\"\",\"\",IF(H7=\"\",\"\",J6+1))","v":51},0,0]
[3,{"$f":"IF(B7=\"\",\"\",IF(B7+1>$R$3,\"\",B7+1))","v":3},"حسن3",{"$f":"IF(B7=\"\",\"\",IF(B8=\"\",\"\",D7+1))","v":32},0,"مسلم",null,{"$f":"IF(H7=\"\",\"\",IF(H7+1>$R$3,\"\",H7+1))","v":3},"حسن23",{"$f":"IF(H7=\"\",\"\",IF(H8=\"\",\"\",J7+1))","v":52},0,0]
[4,4,"حسن4",33,"معيد",0,null,4,"حسن24",53,0,0]
[5,5,"حسن5",34,0,0,null,5,"حسن25",54,0,0]
[6,6,"حسن6",35,0,"مسلم",null,6,"حسن26",55,0,0]
[7,7,"حسن7",36,0,"مسلم",null,7,"حسن27",56,0,0]
[8,8,"حسن8",37,0,0,null,8,"حسن28",57,0,0]
[9,9,"حسن9",38,"معيد",0,null,9,"حسن29",58,0,0]
[10,10,"حسن10",39,0,"مسلم",null,10,"حسن30",59,0,"مسلم"]
[11,11,"حسن11",40,"م للسنة الأولي",0,null,11,"حسن31",60,0,0]
[12,12,"حسن12",41,0,0,null,12,"حسن32",61,"معيد",0]
[13,13,"حسن13",42,0,"مسلم",null,13,"حسن33",62,0,"أخري"]
[14,14,"حسن14",43,0,0,null,14,"حسن34",63,"م للسنة الثانية",0]
[15,15,"حسن15",44,0,0,null,15,"حسن35",64,0,0]
[16,16,"حسن16",45,0,0,null,16,"حسن36",65,0,0]
[17,17,"حسن17",46,0,0,null,17,"حسن37",66,0,0]
[18,18,"حسن18",47,0,"مسلم",null,18,"حسن38",67,0,0]
[19,19,"حسن19",48,0,0,null,19,"حسن39",68,0,0]
[20,20,"حسن20",49,0,0,null,20,"حسن40",69,0,0]
[21,"","","","","",null,"","","","",""]
[22,"","","","","",null,"","","","",""]
[null,"","","","","",null,"","","","",""]
[null,"","","","","",null,"","","","",""]
[null,"","","","","",null,"","","","",""]
[null,"","","","","",null,"","","","",""]
[null,"","","","","",null,"","","","",""]
[null,"","","","","",null,"","","","",""]
[null,"","","","","",null,"","","","",""]
[null,"","","","","",null,"","","","",""]
[null,{"$f":"IF(B35=\"\",\"\",IF(B35+1>$R$3,\"\",B35+1))","v":""},"","","","",null,"","","","",""]
[null,{"$f":"IF(B36=\"\",\"\",IF(B36+1>$R$3,\"\",B36+1))","v":""},"","","","",null,"","","","",""]
[]
[null,{"$f":"'البيانات الأساسية'!$A$10","v":"مراقب الكنترول"},null,{"$f":"'البيانات الأساسية'!$C$10","v":"رئيس الكنترول"},null,null,null,{"$f":"'البيانات الأساسية'!$A$10","v":"مراقب الكنترول"},null,{"$f":"'البيانات الأساسية'!$C$10","v":"رئيس الكنترول"}]
[null,{"$f":"'البيانات الأساسية'!$A$11","v":"أ/ عبد الحميد"},null,{"$f":"'البيانات الأساسية'!$A$11","v":"أ/ عبد الحميد"},null,null,null,{"$f":"'البيانات الأساسية'!$A$11","v":"أ/ عبد الحميد"},null,{"$f":"'البيانات الأساسية'!$A$11","v":"أ/ عبد الحميد"}]
[]
[null,{"$f":"'البيانات الأساسية'!$A$1","v":"إدارة /غرب المحلة الكبرى التعليمية"},null,null,null,null,null,{"$f":"'البيانات الأساسية'!$A$1","v":"إدارة /غرب المحلة الكبرى التعليمية"}]
[null,{"$f":"'البيانات الأساسية'!$A$2","v":"مدرسة د/علي علي حبيش الابتدائية"},null,null,null,null,null,{"$f":"'البيانات الأساسية'!$A$2","v":"مدرسة د/علي علي حبيش الابتدائية"}]
[null,{"$f":"'البيانات الأساسية'!$A$4","v":"كشف مناداة الصف الثاني فصل أول وثانٍ للعام الدراسي 2019/2018"},null,null,null,null,null,{"$f":"'البيانات الأساسية'!$A$4","v":"كشف مناداة الصف الثاني فصل أول وثانٍ للعام الدراسي 2019/2018"}]
[null,null,"اللجنة رقم",{"$f":"D4+2","v":3},null,null,null,null,"اللجنة رقم",{"$f":"J4+2","v":4}]
[null,"م","الاســـــــــــــــــــــــــــــم","رقم الجلوس","القيد","الديانة",null,"م","الاســـــــــــــــــــــــــــــم","رقم الجلوس","القيد","الديانة"]
[23,{"$f":"IF(D45=\"\",\"\",1)","v":1},{"$f":"IF(B47=\"\",\"\",VLOOKUP(D47,الثاني_مناداه,2))","v":"حسن41"},{"$f":"IF(D45=\"\",\"\",VLOOKUP(D45,رقم_جلوس2_مناداة,2))","v":70},{"$f":"IF(B47=\"\",\"\",VLOOKUP(D47,الثاني_مناداه,4,FALSE))","v":0},{"$f":"IF(B47=\"\",\"\",VLOOKUP(D47,الثاني_مناداه,5,FALSE))","v":0},null,{"$f":"IF(J45=\"\",\"\",1)","v":1},{"$f":"IF(H47=\"\",\"\",VLOOKUP(J47,الثاني_مناداه,2))","v":"حسن61"},{"$f":"IF(J45=\"\",\"\",VLOOKUP(J45,رقم_جلوس2_مناداة,2))","v":90},{"$f":"IF(H47=\"\",\"\",VLOOKUP(J47,الثاني_مناداه,4,FALSE))","v":0},{"$f":"IF(H47=\"\",\"\",VLOOKUP(J47,الثاني_مناداه,5,FALSE))","v":0}]
[24,{"$f":"IF(B47=\"\",\"\",IF(B47+1>$R$3,\"\",B47+1))","v":2},"حسن42",{"$f":"IF(B47=\"\",\"\",IF(B48=\"\",\"\",D47+1))","v":71},0,0,null,{"$f":"IF(H47=\"\",\"\",IF(H47+1>$R$3,\"\",H47+1))","v":2},"حسن62",{"$f":"IF(H47=\"\",\"\",IF(H48=\"\",\"\",J47+1))","v":91},0,0]
[25,3,"حسن43",72,0,0,null,3,"حسن63",92,0,0]
[26,4,"حسن44",73,0,0,null,4,"حسن64",93,0,0]
[27,5,"حسن45",74,0,0,null,5,"حسن65",94,0,0]
[28,6,"حسن46",75,0,0,null,6,"حسن66",95,0,0]
[29,7,"حسن47",76,0,0,null,7,"حسن67",96,0,0]
[30,8,"حسن48",77,0,0,null,8,"حسن68",97,0,0]
[31,9,"حسن49",78,0,0,null,9,"حسن69",98,0,0]
[32,10,"حسن50",79,0,0,null,10,"حسن70",99,0,0]
[33,11,"حسن51",80,0,0,null,11,"حسن71",100,0,0]
[34,12,"حسن52",81,0,0,null,12,"حسن72",101,0,0]
[35,13,"حسن53",82,0,0,null,13,"حسن73",102,0,0]
[36,14,"حسن54",83,0,0,null,14,"حسن74",103,0,0]
[37,15,"حسن55",84,0,0,null,15,"حسن75",104,0,0]
[38,16,"حسن56",85,0,0,null,16,"حسن76",105,0,0]
[39,17,"حسن57",86,0,0,null,17,"حسن77",106,0,0]
[40,18,"حسن58",87,0,0,null,18,"حسن78",107,0,0]
[41,19,"حسن59",88,0,0,null,19,"حسن79",108,0,0]
[42,20,"حسن60",89,0,0,null,20,"حسن80",109,0,0]
[43,"","","","","",null,"","","","",""]
[44,"","","","","",null,"","","","",""]
[null,"","","","","",null,"","","","",""]
[null,"","","","","",null,"","","","",""]
[null,"","","","","",null,"","","","",""]
[null,"","","","","",null,"","","","",""]
[null,"","","","","",null,"","","","",""]
[null,"","","","","",null,"","","","",""]
[null,"","","","","",null,"","","","",""]
[null,"","","","","",null,"","","","",""]
[null,"","","","","",null,"","","","",""]
[null,"","","","","",null,"","","","",""]
[]
[null,{"$f":"'البيانات الأساسية'!$A$10","v":"مراقب الكنترول"},null,{"$f":"'البيانات الأساسية'!$C$10","v":"رئيس الكنترول"},null,null,null,{"$f":"'البيانات الأساسية'!$A$10","v":"مراقب الكنترول"},null,{"$f":"'البيانات الأساسية'!$C$10","v":"رئيس الكنترول"}]
[null,{"$f":"'البيانات الأساسية'!$A$11","v":"أ/ عبد الحميد"},null,{"$f":"'البيانات الأساسية'!$A$11","v":"أ/ عبد الحميد"},null,null,null,{"$f":"'البيانات الأساسية'!$A$11","v":"أ/ عبد الحميد"},null,{"$f":"'البيانات الأساسية'!$A$11","v":"أ/ عبد الحميد"}]
[]
[]
[null,{"$f":"'البيانات الأساسية'!$A$1","v":"إدارة /غرب المحلة الكبرى التعليمية"},null,null,null,null,null,{"$f":"'البيانات الأساسية'!$A$1","v":"إدارة /غرب المحلة الكبرى التعليمية"}]
[null,{"$f":"'البيانات الأساسية'!$A$2","v":"مدرسة د/علي علي حبيش الابتدائية"},null,null,null,null,null,{"$f":"'البيانات الأساسية'!$A$2","v":"مدرسة د/علي علي حبيش الابتدائية"}]
[null,{"$f":"'البيانات الأساسية'!$A$4","v":"كشف مناداة الصف الثاني فصل أول وثانٍ للعام الدراسي 2019/2018"},null,null,null,null,null,{"$f":"'البيانات الأساسية'!$A$4","v":"كشف مناداة الصف الثاني فصل أول وثانٍ للعام الدراسي 2019/2018"}]
[null,null,"اللجنة رقم",{"$f":"D45+2","v":5},null,null,null,null,"اللجنة رقم",{"$f":"J45+2","v":6}]
[null,"م","الاســـــــــــــــــــــــــــــم","رقم الجلوس","القيد","الديانة",null,"م","الاســـــــــــــــــــــــــــــم","رقم الجلوس","القيد","الديانة"]
[45,{"$f":"IF(D87=\"\",\"\",1)","v":1},{"$f":"IF(B89=\"\",\"\",VLOOKUP(D89,الثاني_مناداه,2))","v":"حسن81"},{"$f":"IF(D87=\"\",\"\",VLOOKUP(D87,رقم_جلوس2_مناداة,2))","v":110},{"$f":"IF(B89=\"\",\"\",VLOOKUP(D89,الثاني_مناداه,4,FALSE))","v":0},{"$f":"IF(B89=\"\",\"\",VLOOKUP(D89,الثاني_مناداه,5,FALSE))","v":0},null,{"$f":"IF(J87=\"\",\"\",1)","v":1},{"$f":"IF(H89=\"\",\"\",VLOOKUP(J89,الثاني_مناداه,2))","v":"حسن101"},{"$f":"IF(J87=\"\",\"\",VLOOKUP(J87,رقم_جلوس2_مناداة,2))","v":130},{"$f":"IF(H89=\"\",\"\",VLOOKUP(J89,الثاني_مناداه,4,FALSE))","v":0},{"$f":"IF(H89=\"\",\"\",VLOOKUP(J89,الثاني_مناداه,5,FALSE))","v":0}]
[46,{"$f":"IF(B89=\"\",\"\",IF(B89+1>$R$3,\"\",B89+1))","v":2},"حسن82",{"$f":"IF(B89=\"\",\"\",IF(B90=\"\",\"\",D89+1))","v":111},0,0,null,{"$f":"IF(H89=\"\",\"\",IF(H89+1>$R$3,\"\",H89+1))","v":2},"حسن102",{"$f":"IF(H89=\"\",\"\",IF(H90=\"\",\"\",J89+1))","v":131},0,0]
[47,3,"حسن83",112,0,0,null,3,"حسن103",132,0,0]
[48,4,"حسن84",113,0,0,null,4,"حسن104",133,0,0]
[49,5,"حسن85",114,0,0,null,5,"حسن105",134,0,0]
[50,6,"حسن86",115,0,0,null,6,"حسن106",135,0,0]
[51,7,"حسن87",116,0,0,null,7,"حسن107",136,0,0]
[52,8,"حسن88",117,0,0,null,8,"حسن108",137,0,0]
[53,9,"حسن89",118,0,0,null,9,"حسن109",138,0,0]
[54,10,"حسن90",119,0,0,null,10,"حسن110",139,0,0]
[55,11,"حسن91",120,0,0,null,11,"حسن111",140,0,0]
[56,12,"حسن92",121,0,0,null,12,"حسن112",141,0,0]
[57,13,"حسن93",122,0,0,null,13,"حسن113",142,0,0]
[58,14,"حسن94",123,0,0,null,14,"حسن114",143,0,0]
[59,15,"حسن95",124,0,0,null,15,"حسن115",144,0,0]
[60,16,"حسن96",125,0,0,null,16,"حسن116",145,0,0]
[61,17,"حسن97",126,0,0,null,17,"حسن117",146,0,0]
[62,18,"حسن98",127,0,0,null,18,"حسن118",147,0,0]
[63,19,"حسن99",128,0,0,null,19,"حسن119",148,0,0]
[64,20,"حسن100",129,0,0,null,20,"حسن120",149,0,0]
[65,"","","","","",null,"","","","",""]
[66,"","","","","",null,"","","","",""]
[null,"","","","","",null,"","","","",""]
[null,"","","","","",null,"","","","",""]
[null,"","","","","",null,"","","","",""]
[null,"","","","","",null,"","","","",""]
[null,"","","","","",null,"","","","",""]
[null,"","","","","",null,"","","","",""]
[null,"","","","","",null,"","","","",""]
[null,"","","","","",null,"","","","",""]
[null,"","","","","",null,"","","","",""]
[null,"","","","","",null,"","","","",""]
[]
[null,{"$f":"'البيانات الأساسية'!$A$10","v":"مراقب الكنترول"},null,{"$f":"'البيانات الأساسية'!$C$10","v":"رئيس الكنترول"},null,null,null,{"$f":"'البيانات الأساسية'!$A$10","v":"مراقب الكنترول"},null,{"$f":"'البيانات الأساسية'!$C$10","v":"رئيس الكنترول"}]
[null,{"$f":"'البيانات الأساسية'!$A$11","v":"أ/ عبد الحميد"},null,{"$f":"'البيانات الأساسية'!$A$11","v":"أ/ عبد الحميد"},null,null,null,{"$f":"'البيانات الأساسية'!$A$11","v":"أ/ عبد الحميد"},null,{"$f":"'البيانات الأساسية'!$A$11","v":"أ/ عبد الحميد"}]
[]
[]
[null,{"$f":"'البيانات الأساسية'!$A$1","v":"إدارة /غرب المحلة الكبرى التعليمية"},null,null,null,null,null,{"$f":"'البيانات الأساسية'!$A$1","v":"إدارة /غرب المحلة الكبرى التعليمية"}]
[null,{"$f":"'البيانات الأساسية'!$A$2","v":"مدرسة د/علي علي حبيش الابتدائية"},null,null,null,null,null,{"$f":"'البيانات الأساسية'!$A$2","v":"مدرسة د/علي علي حبيش الابتدائية"}]
[null,{"$f":"'البيانات الأساسية'!$A$4","v":"كشف مناداة الصف الثاني فصل أول وثانٍ للعام الدراسي 2019/2018"},null,null,null,null,null,{"$f":"'البيانات الأساسية'!$A$4","v":"كشف مناداة الصف الثاني فصل أول وثانٍ للعام الدراسي 2019/2018"}]
[null,null,"اللجنة رقم",{"$f":"D87+2","v":7},null,null,null,null,"اللجنة رقم",{"$f":"J87+2","v":8}]
[null,"م","الاســـــــــــــــــــــــــــــم","رقم الجلوس","القيد","الديانة",null,"م","الاســـــــــــــــــــــــــــــم","رقم الجلوس","القيد","الديانة"]
[67,{"$f":"IF(D129=\"\",\"\",1)","v":1},{"$f":"IF(B131=\"\",\"\",VLOOKUP(D131,الثاني_مناداه,2))","v":"حسن121"},{"$f":"IF(D129=\"\",\"\",VLOOKUP(D129,رقم_جلوس2_مناداة,2))","v":150},{"$f":"IF(B131=\"\",\"\",VLOOKUP(D131,الثاني_مناداه,4,FALSE))","v":0},{"$f":"IF(B131=\"\",\"\",VLOOKUP(D131,الثاني_مناداه,5,FALSE))","v":0},null,{"$f":"IF(J129=\"\",\"\",1)","v":1},{"$f":"IF(H131=\"\",\"\",VLOOKUP(J131,الثاني_مناداه,2))","v":"حسن141"},{"$f":"IF(J129=\"\",\"\",VLOOKUP(J129,رقم_جلوس2_مناداة,2))","v":170},{"$f":"IF(H131=\"\",\"\",VLOOKUP(J131,الثاني_مناداه,4,FALSE))","v":0},{"$f":"IF(H131=\"\",\"\",VLOOKUP(J131,الثاني_مناداه,5,FALSE))","v":0}]
[68,{"$f":"IF(B131=\"\",\"\",IF(B131+1>$R$3,\"\",B131+1))","v":2},"حسن122",{"$f":"IF(B131=\"\",\"\",IF(B132=\"\",\"\",D131+1))","v":151},0,0,null,{"$f":"IF(H131=\"\",\"\",IF(H131+1>$R$3,\"\",H131+1))","v":2},"حسن142",{"$f":"IF(H131=\"\",\"\",IF(H132=\"\",\"\",J131+1))","v":171},0,0]
[69,3,"حسن123",152,0,0,null,3,"حسن143",172,0,0]
[70,4,"حسن124",153,0,0,null,4,"حسن144",173,0,0]
[71,5,"حسن125",154,0,0,null,5,"حسن145",174,0,0]
[72,6,"حسن126",155,0,0,null,6,"حسن146",175,0,0]
[73,7,"حسن127",156,0,0,null,7,"حسن147",176,0,0]
[74,8,"حسن128",157,0,0,null,8,"حسن148",177,0,0]
[75,9,"حسن129",158,0,0,null,9,"حسن149",178,0,0]
[76,10,"حسن130",159,0,0,null,10,"حسن150",179,0,0]
[77,11,"حسن131",160,0,0,null,11,"حسن151",180,0,0]
[78,12,"حسن132",161,0,0,null,12,"حسن152",181,0,0]
[79,13,"حسن133",162,0,0,null,13,"حسن153",182,0,0]
[80,14,"حسن134",163,0,0,null,14,"حسن154",183,0,0]
[81,15,"حسن135",164,0,0,null,15,"حسن155",184,0,0]
[82,16,"حسن136",165,0,0,null,16,"حسن156",185,0,0]
[83,17,"حسن137",166,0,0,null,17,"حسن157",186,0,0]
[84,18,"حسن138",167,0,0,null,18,"حسن158",187,0,0]
[85,19,"حسن139",168,0,0,null,19,"حسن159",188,0,0]
[86,20,"حسن140",169,0,0,null,20,"حسن160",189,0,0]
[87,"","","","","",null,"","","","",""]
[88,"","","","","",null,"","","","",""]
[null,"","","","","",null,"","","","",""]
[null,"","","","","",null,"","","","",""]
[null,"","","","","",null,"","","","",""]
[null,"","","","","",null,"","","","",""]
[null,"","","","","",null,"","","","",""]
[null,"","","","","",null,"","","","",""]
[null,"","","","","",null,"","","","",""]
[null,"","","","","",null,"","","","",""]
[null,"","","","","",null,"","","","",""]
[null,"","","","","",null,"","","","",""]
[]
[null,{"$f":"'البيانات الأساسية'!$A$10","v":"مراقب الكنترول"},null,{"$f":"'البيانات الأساسية'!$C$10","v":"رئيس الكنترول"},null,null,null,{"$f":"'البيانات الأساسية'!$A$10","v":"مراقب الكنترول"},null,{"$f":"'البيانات الأساسية'!$C$10","v":"رئيس الكنترول"}]
[null,{"$f":"'البيانات الأساسية'!$A$11","v":"أ/ عبد الحميد"},null,{"$f":"'البيانات الأساسية'!$A$11","v":"أ/ عبد الحميد"},null,null,null,{"$f":"'البيانات الأساسية'!$A$11","v":"أ/ عبد الحميد"},null,{"$f":"'البيانات الأساسية'!$A$11","v":"أ/ عبد الحميد"}]
[]
[]
[null,{"$f":"'البيانات الأساسية'!$A$1","v":"إدارة /غرب المحلة الكبرى التعليمية"},null,null,null,null,null,{"$f":"'البيانات الأساسية'!$A$1","v":"إدارة /غرب المحلة الكبرى التعليمية"}]
[null,{"$f":"'البيانات الأساسية'!$A$2","v":"مدرسة د/علي علي حبيش الابتدائية"},null,null,null,null,null,{"$f":"'البيانات الأساسية'!$A$2","v":"مدرسة د/علي علي حبيش الابتدائية"}]
[null,{"$f":"'البيانات الأساسية'!$A$4","v":"كشف مناداة الصف الثاني فصل أول وثانٍ للعام الدراسي 2019/2018"},null,null,null,null,null,{"$f":"'البيانات الأساسية'!$A$4","v":"كشف مناداة الصف الثاني فصل أول وثانٍ للعام الدراسي 2019/2018"}]
[null,null,"اللجنة رقم",{"$f":"D129+2","v":9},null,null,null,null,"اللجنة رقم",{"$f":"J129+2","v":10}]
[null,"م","الاســـــــــــــــــــــــــــــم","رقم الجلوس","القيد","الديانة",null,"م","الاســـــــــــــــــــــــــــــم","رقم الجلوس","القيد","الديانة"]
[89,{"$f":"IF(D171=\"\",\"\",1)","v":1},{"$f":"IF(B173=\"\",\"\",VLOOKUP(D173,الثاني_مناداه,2))","v":"حسن161"},{"$f":"IF(D171=\"\",\"\",VLOOKUP(D171,رقم_جلوس2_مناداة,2))","v":190},{"$f":"IF(B173=\"\",\"\",VLOOKUP(D173,الثاني_مناداه,4,FALSE))","v":0},{"$f":"IF(B173=\"\",\"\",VLOOKUP(D173,الثاني_مناداه,5,FALSE))","v":0},null,{"$f":"IF(J171=\"\",\"\",1)","v":1},{"$f":"IF(H173=\"\",\"\",VLOOKUP(J173,الثاني_مناداه,2))","v":"حسن181"},{"$f":"IF(J171=\"\",\"\",VLOOKUP(J171,رقم_جلوس2_مناداة,2))","v":210},{"$f":"IF(H173=\"\",\"\",VLOOKUP(J173,الثاني_مناداه,4,FALSE))","v":0},{"$f":"IF(H173=\"\",\"\",VLOOKUP(J173,الثاني_مناداه,5,FALSE))","v":0}]
[90,{"$f":"IF(B173=\"\",\"\",IF(B173+1>$R$3,\"\",B173+1))","v":2},"حسن162",{"$f":"IF(B173=\"\",\"\",IF(B174=\"\",\"\",D173+1))","v":191},0,0,null,{"$f":"IF(H173=\"\",\"\",IF(H173+1>$R$3,\"\",H173+1))","v":2},"حسن182",{"$f":"IF(H173=\"\",\"\",IF(H174=\"\",\"\",J173+1))","v":211},0,0]
[91,3,"حسن163",192,0,0,null,3,"حسن183",212,0,0]
[92,4,"حسن164",193,0,0,null,4,"حسن184",213,0,0]
[93,5,"حسن165",194,0,0,null,5,"حسن185",214,0,0]
[94,6,"حسن166",195,0,0,null,6,"حسن186",215,0,0]
[95,7,"حسن167",196,0,0,null,7,"حسن187",216,0,0]
[96,8,"حسن168",197,0,0,null,8,"حسن188",217,0,0]
[97,9,"حسن169",198,0,0,null,9,"حسن189",218,0,0]
[98,10,"حسن170",199,0,0,null,10,"حسن190",219,0,0]
[99,11,"حسن171",200,0,0,null,11,"حسن191",220,0,0]
[100,12,"حسن172",201,0,0,null,12,"حسن192",221,0,0]
[101,13,"حسن173",202,0,0,null,13,"حسن193",222,0,0]
[102,14,"حسن174",203,0,0,null,14,"حسن194",223,0,0]
[103,15,"حسن175",204,0,0,null,15,"حسن195",224,0,0]
[104,16,"حسن176",205,0,0,null,16,"حسن196",225,0,0]
[105,17,"حسن177",206,0,0,null,17,"حسن197",226,0,0]
[106,18,"حسن178",207,0,0,null,18,"حسن198",227,0,0]
[107,19,"حسن179",208,0,0,null,19,"حسن199",228,0,0]
[108,20,"حسن180",209,0,0,null,20,"حسن200",229,0,0]
[109,"","","","","",null,"","","","",""]
[110,"","","","","",null,"","","","",""]
[null,"","","","","",null,"","","","",""]
[null,"","","","","",null,"","","","",""]
[null,"","","","","",null,"","","","",""]
[null,"","","","","",null,"","","","",""]
[null,"","","","","",null,"","","","",""]
[null,"","","","","",null,"","","","",""]
[null,"","","","","",null,"","","","",""]
[null,"","","","","",null,"","","","",""]
[null,"","","","","",null,"","","","",""]
[null,"","","","","",null,"","","","",""]
[]
[null,{"$f":"'البيانات الأساسية'!$A$10","v":"مراقب الكنترول"},null,{"$f":"'البيانات الأساسية'!$C$10","v":"رئيس الكنترول"},null,null,null,{"$f":"'البيانات الأساسية'!$A$10","v":"مراقب الكنترول"},null,{"$f":"'البيانات الأساسية'!$C$10","v":"رئيس الكنترول"}]
[null,{"$f":"'البيانات الأساسية'!$A$11","v":"أ/ عبد الحميد"},null,{"$f":"'البيانات الأساسية'!$A$11","v":"أ/ عبد الحميد"},null,null,null,{"$f":"'البيانات الأساسية'!$A$11","v":"أ/ عبد الحميد"},null,{"$f":"'البيانات الأساسية'!$A$11","v":"أ/ عبد الحميد"}]
[]
[]
[null,{"$f":"'البيانات الأساسية'!$A$1","v":"إدارة /غرب المحلة الكبرى التعليمية"},null,null,null,null,null,{"$f":"'البيانات الأساسية'!$A$1","v":"إدارة /غرب المحلة الكبرى التعليمية"}]
[null,{"$f":"'البيانات الأساسية'!$A$2","v":"مدرسة د/علي علي حبيش الابتدائية"},null,null,null,null,null,{"$f":"'البيانات الأساسية'!$A$2","v":"مدرسة د/علي علي حبيش الابتدائية"}]
[null,{"$f":"'البيانات الأساسية'!$A$4","v":"كشف مناداة الصف الثاني فصل أول وثانٍ للعام الدراسي 2019/2018"},null,null,null,null,null,{"$f":"'البيانات الأساسية'!$A$4","v":"كشف مناداة الصف الثاني فصل أول وثانٍ للعام الدراسي 2019/2018"}]
[null,null,"اللجنة رقم",{"$f":"D171+2","v":11},null,null,null,null,"اللجنة رقم",{"$f":"J171+2","v":12}]
[null,"م","الاســـــــــــــــــــــــــــــم","رقم الجلوس","القيد","الديانة",null,"م","الاســـــــــــــــــــــــــــــم","رقم الجلوس","القيد","الديانة"]
[111,{"$f":"IF(D213=\"\",\"\",1)","v":1},{"$f":"IF(B215=\"\",\"\",VLOOKUP(D215,الثاني_مناداه,2))","v":"حسن201"},{"$f":"IF(D213=\"\",\"\",VLOOKUP(D213,رقم_جلوس2_مناداة,2))","v":230},{"$f":"IF(B215=\"\",\"\",VLOOKUP(D215,الثاني_مناداه,4,FALSE))","v":0},{"$f":"IF(B215=\"\",\"\",VLOOKUP(D215,الثاني_مناداه,5,FALSE))","v":0},null,{"$f":"IF(J213=\"\",\"\",1)","v":1},{"$f":"IF(H215=\"\",\"\",VLOOKUP(J215,الثاني_مناداه,2))","v":"حسن221"},{"$f":"IF(J213=\"\",\"\",VLOOKUP(J213,رقم_جلوس2_مناداة,2))","v":250},{"$f":"IF(H215=\"\",\"\",VLOOKUP(J215,الثاني_مناداه,4,FALSE))","v":0},{"$f":"IF(H215=\"\",\"\",VLOOKUP(J215,الثاني_مناداه,5,FALSE))","v":0}]
[112,{"$f":"IF(B215=\"\",\"\",IF(B215+1>$R$3,\"\",B215+1))","v":2},"حسن202",{"$f":"IF(B215=\"\",\"\",IF(B216=\"\",\"\",D215+1))","v":231},0,0,null,{"$f":"IF(H215=\"\",\"\",IF(H215+1>$R$3,\"\",H215+1))","v":2},"حسن222",{"$f":"IF(H215=\"\",\"\",IF(H216=\"\",\"\",J215+1))","v":251},0,0]
[113,3,"حسن203",232,0,0,null,3,"حسن223",252,0,0]
[114,4,"حسن204",233,0,0,null,4,"حسن224",253,0,0]
[115,5,"حسن205",234,0,0,null,5,"حسن225",254,0,0]
[116,6,"حسن206",235,0,0,null,6,"حسن226",255,0,0]
[117,7,"حسن207",236,0,0,null,7,"حسن227",256,0,0]
[118,8,"حسن208",237,0,0,null,8,"حسن228",257,0,0]
[119,9,"حسن209",238,0,0,null,9,"حسن229",258,0,0]
[120,10,"حسن210",239,0,0,null,10,"حسن230",259,0,0]
[121,11,"حسن211",240,0,0,null,11,"حسن231",260,0,0]
[122,12,"حسن212",241,0,0,null,12,"حسن232",261,0,0]
[123,13,"حسن213",242,0,0,null,13,"حسن233",262,0,0]
[124,14,"حسن214",243,0,0,null,14,"حسن234",263,0,0]
[125,15,"حسن215",244,0,0,null,15,"حسن235",264,0,0]
[126,16,"حسن216",245,0,0,null,16,"حسن236",265,0,0]
[127,17,"حسن217",246,0,0,null,17,"حسن237",266,0,0]
[128,18,"حسن218",247,0,0,null,18,"حسن238",267,0,0]
[129,19,"حسن219",248,0,0,null,19,"حسن239",268,0,0]
[130,20,"حسن220",249,0,0,null,20,"حسن240",269,0,0]
[131,"","","","","",null,"","","","",""]
[132,"","","","","",null,"","","","",""]
[null,"","","","","",null,"","","","",""]
[null,"","","","","",null,"","","","",""]
[null,"","","","","",null,"","","","",""]
[null,"","","","","",null,"","","","",""]
[null,"","","","","",null,"","","","",""]
[null,"","","","","",null,"","","","",""]
[null,"","","","","",null,"","","","",""]
[null,"","","","","",null,"","","","",""]
[null,"","","","","",null,"","","","",""]
[null,"","","","","",null,"","","","",""]
[]
[null,{"$f":"'البيانات الأساسية'!$A$10","v":"مراقب الكنترول"},null,{"$f":"'البيانات الأساسية'!$C$10","v":"رئيس الكنترول"},null,null,null,{"$f":"'البيانات الأساسية'!$A$10","v":"مراقب الكنترول"},null,{"$f":"'البيانات الأساسية'!$C$10","v":"رئيس الكنترول"}]
[null,{"$f":"'البيانات الأساسية'!$A$11","v":"أ/ عبد الحميد"},null,{"$f":"'البيانات الأساسية'!$A$11","v":"أ/ عبد الحميد"},null,null,null,{"$f":"'البيانات الأساسية'!$A$11","v":"أ/ عبد الحميد"},null,{"$f":"'البيانات الأساسية'!$A$11","v":"أ/ عبد الحميد"}]
[]
[]
[null,{"$f":"'البيانات الأساسية'!$A$1","v":"إدارة /غرب المحلة الكبرى التعليمية"},null,null,null,null,null,{"$f":"'البيانات الأساسية'!$A$1","v":"إدارة /غرب المحلة الكبرى التعليمية"}]
[null,{"$f":"'البيانات الأساسية'!$A$2","v":"مدرسة د/علي علي حبيش الابتدائية"},null,null,null,null,null,{"$f":"'البيانات الأساسية'!$A$2","v":"مدرسة د/علي علي حبيش الابتدائية"}]
[null,{"$f":"'البيانات الأساسية'!$A$4","v":"كشف مناداة الصف الثاني فصل أول وثانٍ للعام الدراسي 2019/2018"},null,null,null,null,null,{"$f":"'البيانات الأساسية'!$A$4","v":"كشف مناداة الصف الثاني فصل أول وثانٍ للعام الدراسي 2019/2018"}]
[null,null,"اللجنة رقم",{"$f":"D213+2","v":13},null,null,null,null,"اللجنة رقم",{"$f":"J213+2","v":14}]
[null,"م","الاســـــــــــــــــــــــــــــم","رقم الجلوس","القيد","الديانة",null,"م","الاســـــــــــــــــــــــــــــم","رقم الجلوس","القيد","الديانة"]
[133,{"$f":"IF(D255=\"\",\"\",1)","v":1},{"$f":"IF(B257=\"\",\"\",VLOOKUP(D257,الثاني_مناداه,2))","v":"حسن241"},{"$f":"IF(D255=\"\",\"\",VLOOKUP(D255,رقم_جلوس2_مناداة,2))","v":270},{"$f":"IF(B257=\"\",\"\",VLOOKUP(D257,الثاني_مناداه,4,FALSE))","v":0},{"$f":"IF(B257=\"\",\"\",VLOOKUP(D257,الثاني_مناداه,5,FALSE))","v":0},null,{"$f":"IF(J255=\"\",\"\",1)","v":1},{"$f":"IF(H257=\"\",\"\",VLOOKUP(J257,الثاني_مناداه,2))","v":"حسن261"},{"$f":"IF(J255=\"\",\"\",VLOOKUP(J255,رقم_جلوس2_مناداة,2))","v":290},{"$f":"IF(H257=\"\",\"\",VLOOKUP(J257,الثاني_مناداه,4,FALSE))","v":0},{"$f":"IF(H257=\"\",\"\",VLOOKUP(J257,الثاني_مناداه,5,FALSE))","v":0}]
[134,{"$f":"IF(B257=\"\",\"\",IF(B257+1>$R$3,\"\",B257+1))","v":2},"حسن242",{"$f":"IF(B257=\"\",\"\",IF(B258=\"\",\"\",D257+1))","v":271},0,0,null,{"$f":"IF(H257=\"\",\"\",IF(H257+1>$R$3,\"\",H257+1))","v":2},"حسن262",{"$f":"IF(H257=\"\",\"\",IF(H258=\"\",\"\",J257+1))","v":291},0,0]
[135,3,"حسن243",272,0,0,null,3,"حسن263",292,0,0]
[136,4,"حسن244",273,0,0,null,4,"حسن264",293,0,0]
[137,5,"حسن245",274,0,0,null,5,"حسن265",294,0,0]
[138,6,"حسن246",275,0,0,null,6,"حسن266",295,0,0]
[139,7,"حسن247",276,0,0,null,7,"حسن267",296,0,0]
[140,8,"حسن248",277,0,0,null,8,"حسن268",297,0,0]
[141,9,"حسن249",278,0,0,null,9,"حسن269",298,0,0]
[142,10,"حسن250",279,0,0,null,10,"حسن270",299,0,0]
[143,11,"حسن251",280,0,0,null,11,"حسن271",300,0,0]
[144,12,"حسن252",281,0,0,null,12,"حسن272",301,0,0]
[145,13,"حسن253",282,0,0,null,13,"حسن273",302,0,0]
[146,14,"حسن254",283,0,0,null,14,"حسن274",303,0,0]
[147,15,"حسن255",284,0,0,null,15,"حسن275",304,0,0]
[148,16,"حسن256",285,0,0,null,16,"حسن276",305,0,0]
[149,17,"حسن257",286,0,0,null,17,"حسن277",306,0,0]
[150,18,"حسن258",287,0,0,null,18,"حسن278",307,0,0]
[151,19,"حسن259",288,0,0,null,19,"حسن279",308,0,0]
[152,20,"حسن260",289,0,0,null,20,"حسن280",309,0,0]
[153,"","","","","",null,"","","","",""]
[154,"","","","","",null,"","","","",""]
[null,"","","","","",null,"","","","",""]
[null,"","","","","",null,"","","","",""]
[null,"","","","","",null,"","","","",""]
[null,"","","","","",null,"","","","",""]
[null,"","","","","",null,"","","","",""]
[null,"","","","","",null,"","","","",""]
[null,"","","","","",null,"","","","",""]
[null,"","","","","",null,"","","","",""]
[null,"","","","","",null,"","","","",""]
[null,"","","","","",null,"","","","",""]
[]
[null,{"$f":"'البيانات الأساسية'!$A$10","v":"مراقب الكنترول"},null,{"$f":"'البيانات الأساسية'!$C$10","v":"رئيس الكنترول"},null,null,null,{"$f":"'البيانات الأساسية'!$A$10","v":"مراقب الكنترول"},null,{"$f":"'البيانات الأساسية'!$C$10","v":"رئيس الكنترول"}]
[null,{"$f":"'البيانات الأساسية'!$A$11","v":"أ/ عبد الحميد"},null,{"$f":"'البيانات الأساسية'!$A$11","v":"أ/ عبد الحميد"},null,null,null,{"$f":"'البيانات الأساسية'!$A$11","v":"أ/ عبد الحميد"},null,{"$f":"'البيانات الأساسية'!$A$11","v":"أ/ عبد الحميد"}]
[]
[]
[null,{"$f":"'البيانات الأساسية'!$A$1","v":"إدارة /غرب المحلة الكبرى التعليمية"},null,null,null,null,null,{"$f":"'البيانات الأساسية'!$A$1","v":"إدارة /غرب المحلة الكبرى التعليمية"}]
[null,{"$f":"'البيانات الأساسية'!$A$2","v":"مدرسة د/علي علي حبيش الابتدائية"},null,null,null,null,null,{"$f":"'البيانات الأساسية'!$A$2","v":"مدرسة د/علي علي حبيش الابتدائية"}]
[null,{"$f":"'البيانات الأساسية'!$A$4","v":"كشف مناداة الصف الثاني فصل أول وثانٍ للعام الدراسي 2019/2018"},null,null,null,null,null,{"$f":"'البيانات الأساسية'!$A$4","v":"كشف مناداة الصف الثاني فصل أول وثانٍ للعام الدراسي 2019/2018"}]
[null,null,"اللجنة رقم",{"$f":"D255+2","v":15},null,null,null,null,"اللجنة رقم",{"$f":"J255+2","v":16}]
[null,"م","الاســـــــــــــــــــــــــــــم","رقم الجلوس","القيد","الديانة",null,"م","الاســـــــــــــــــــــــــــــم","رقم الجلوس","القيد","الديانة"]
[155,{"$f":"IF(D297=\"\",\"\",1)","v":1},{"$f":"IF(B299=\"\",\"\",VLOOKUP(D299,الثاني_مناداه,2))","v":"حسن281"},{"$f":"IF(D297=\"\",\"\",VLOOKUP(D297,رقم_جلوس2_مناداة,2))","v":310},{"$f":"IF(B299=\"\",\"\",VLOOKUP(D299,الثاني_مناداه,4,FALSE))","v":0},{"$f":"IF(B299=\"\",\"\",VLOOKUP(D299,الثاني_مناداه,5,FALSE))","v":0},null,{"$f":"IF(J297=\"\",\"\",1)","v":1},{"$f":"IF(H299=\"\",\"\",VLOOKUP(J299,الثاني_مناداه,2))","v":"حسن301"},{"$f":"IF(J297=\"\",\"\",VLOOKUP(J297,رقم_جلوس2_مناداة,2))","v":330},{"$f":"IF(H299=\"\",\"\",VLOOKUP(J299,الثاني_مناداه,4,FALSE))","v":0},{"$f":"IF(H299=\"\",\"\",VLOOKUP(J299,الثاني_مناداه,5,FALSE))","v":0}]
[156,{"$f":"IF(B299=\"\",\"\",IF(B299+1>$R$3,\"\",B299+1))","v":2},"حسن282",{"$f":"IF(B299=\"\",\"\",IF(B300=\"\",\"\",D299+1))","v":311},0,0,null,{"$f":"IF(H299=\"\",\"\",IF(H299+1>$R$3,\"\",H299+1))","v":2},"حسن302",{"$f":"IF(H299=\"\",\"\",IF(H300=\"\",\"\",J299+1))","v":331},0,0]
[157,3,"حسن283",312,0,0,null,3,"حسن303",332,0,0]
[158,4,"حسن284",313,0,0,null,4,"حسن304",333,0,0]
[159,5,"حسن285",314,0,0,null,5,"حسن305",334,0,0]
[160,6,"حسن286",315,0,0,null,6,"حسن306",335,0,0]
[161,7,"حسن287",316,0,0,null,7,"حسن307",336,0,0]
[162,8,"حسن288",317,0,0,null,8,"حسن308",337,0,0]
[163,9,"حسن289",318,0,0,null,9,"حسن309",338,0,0]
[164,10,"حسن290",319,0,0,null,10,"حسن310",339,0,0]
[165,11,"حسن291",320,0,0,null,11,"حسن311",340,0,0]
[166,12,"حسن292",321,0,0,null,12,"حسن312",341,0,0]
[167,13,"حسن293",322,0,0,null,13,"حسن313",342,0,0]
[168,14,"حسن294",323,0,0,null,14,"حسن314",343,0,0]
[169,15,"حسن295",324,0,0,null,15,"حسن315",344,0,0]
[170,16,"حسن296",325,0,0,null,16,"حسن316",345,0,0]
[171,17,"حسن297",326,0,0,null,17,"حسن317",346,0,0]
[172,18,"حسن298",327,0,0,null,18,"حسن318",347,0,0]
[173,19,"حسن299",328,0,0,null,19,"حسن319",348,0,0]
[174,20,"حسن300",329,0,0,null,20,"حسن320",349,0,0]
[175,"","","","","",null,"","","","",""]
[176,"","","","","",null,"","","","",""]
[null,"","","","","",null,"","","","",""]
[null,"","","","","",null,"","","","",""]
[null,"","","","","",null,"","","","",""]
[null,"","","","","",null,"","","","",""]
[null,"","","","","",null,"","","","",""]
[null,"","","","","",null,"","","","",""]
[null,"","","","","",null,"","","","",""]
[null,"","","","","",null,"","","","",""]
[null,"","","","","",null,"","","","",""]
[null,"","","","","",null,"","","","",""]
[]
[null,{"$f":"'البيانات الأساسية'!$A$10","v":"مراقب الكنترول"},null,{"$f":"'البيانات الأساسية'!$C$10","v":"رئيس الكنترول"},null,null,null,{"$f":"'البيانات الأساسية'!$A$10","v":"مراقب الكنترول"},null,{"$f":"'البيانات الأساسية'!$C$10","v":"رئيس الكنترول"}]
[null,{"$f":"'البيانات الأساسية'!$A$11","v":"أ/ عبد الحميد"},null,{"$f":"'البيانات الأساسية'!$A$11","v":"أ/ عبد الحميد"},null,null,null,{"$f":"'البيانات الأساسية'!$A$11","v":"أ/ عبد الحميد"},null,{"$f":"'البيانات الأساسية'!$A$11","v":"أ/ عبد الحميد"}]
[]
[]
[null,{"$f":"'البيانات الأساسية'!$A$1","v":"إدارة /غرب المحلة الكبرى التعليمية"},null,null,null,null,null,{"$f":"'البيانات الأساسية'!$A$1","v":"إدارة /غرب المحلة الكبرى التعليمية"}]
[null,{"$f":"'البيانات الأساسية'!$A$2","v":"مدرسة د/علي علي حبيش الابتدائية"},null,null,null,null,null,{"$f":"'البيانات الأساسية'!$A$2","v":"مدرسة د/علي علي حبيش الابتدائية"}]
[null,{"$f":"'البيانات الأساسية'!$A$4","v":"كشف مناداة الصف الثاني فصل أول وثانٍ للعام الدراسي 2019/2018"},null,null,null,null,null,{"$f":"'البيانات الأساسية'!$A$4","v":"كشف مناداة الصف الثاني فصل أول وثانٍ للعام الدراسي 2019/2018"}]
[null,null,"اللجنة رقم",{"$f":"D297+2","v":17},null,null,null,null,"اللجنة رقم",{"$f":"J297+2","v":18}]
[null,"م","الاســـــــــــــــــــــــــــــم","رقم الجلوس","القيد","الديانة",null,"م","الاســـــــــــــــــــــــــــــم","رقم الجلوس","القيد","الديانة"]
[177,{"$f":"IF(D339=\"\",\"\",1)","v":1},{"$f":"IF(B341=\"\",\"\",VLOOKUP(D341,الثاني_مناداه,2))","v":"حسن321"},{"$f":"IF(D339=\"\",\"\",VLOOKUP(D339,رقم_جلوس2_مناداة,2))","v":350},{"$f":"IF(B341=\"\",\"\",VLOOKUP(D341,الثاني_مناداه,4,FALSE))","v":0},{"$f":"IF(B341=\"\",\"\",VLOOKUP(D341,الثاني_مناداه,5,FALSE))","v":0},null,{"$f":"IF(J339=\"\",\"\",1)","v":1},{"$f":"IF(H341=\"\",\"\",VLOOKUP(J341,الثاني_مناداه,2))","v":"حسن341"},{"$f":"IF(J339=\"\",\"\",VLOOKUP(J339,رقم_جلوس2_مناداة,2))","v":370},{"$f":"IF(H341=\"\",\"\",VLOOKUP(J341,الثاني_مناداه,4,FALSE))","v":0},{"$f":"IF(H341=\"\",\"\",VLOOKUP(J341,الثاني_مناداه,5,FALSE))","v":0}]
[178,{"$f":"IF(B341=\"\",\"\",IF(B341+1>$R$3,\"\",B341+1))","v":2},"حسن322",{"$f":"IF(B341=\"\",\"\",IF(B342=\"\",\"\",D341+1))","v":351},0,0,null,{"$f":"IF(H341=\"\",\"\",IF(H341+1>$R$3,\"\",H341+1))","v":2},"حسن342",{"$f":"IF(H341=\"\",\"\",IF(H342=\"\",\"\",J341+1))","v":371},0,0]
[179,3,"حسن323",352,0,0,null,3,"حسن343",372,0,0]
[180,4,"حسن324",353,0,0,null,4,"حسن344",373,0,0]
[181,5,"حسن325",354,0,0,null,5,"حسن345",374,0,0]
[182,6,"حسن326",355,0,0,null,6,"حسن346",375,0,0]
[183,7,"حسن327",356,0,0,null,7,"حسن347",376,0,0]
[184,8,"حسن328",357,0,0,null,8,"حسن348",377,0,0]
[185,9,"حسن329",358,0,0,null,9,"حسن349",378,0,0]
[186,10,"حسن330",359,0,0,null,10,"حسن350",379,0,0]
[187,11,"حسن331",360,0,0,null,11,"حسن351",380,0,0]
[188,12,"حسن332",361,0,0,null,12,"حسن352",381,0,0]
[189,13,"حسن333",362,0,0,null,13,"حسن353",382,0,0]
[190,14,"حسن334",363,0,0,null,14,"حسن354",383,0,0]
[191,15,"حسن335",364,0,0,null,15,"حسن355",384,0,0]
[192,16,"حسن336",365,0,0,null,16,"حسن356",385,0,0]
[193,17,"حسن337",366,0,0,null,17,"حسن357",386,0,0]
[194,18,"حسن338",367,0,0,null,18,"حسن358",387,0,0]
[195,19,"حسن339",368,0,0,null,19,"حسن359",388,0,0]
[196,20,"حسن340",369,0,0,null,20,"حسن360",389,0,0]
[197,"","","","","",null,"","","","",""]
[198,"","","","","",null,"","","","",""]
[null,"","","","","",null,"","","","",""]
[null,"","","","","",null,"","","","",""]
[null,"","","","","",null,"","","","",""]
[null,"","","","","",null,"","","","",""]
[null,"","","","","",null,"","","","",""]
[null,"","","","","",null,"","","","",""]
[null,"","","","","",null,"","","","",""]
[null,"","","","","",null,"","","","",""]
[null,"","","","","",null,"","","","",""]
[null,"","","","","",null,"","","","",""]
[]
[null,{"$f":"'البيانات الأساسية'!$A$10","v":"مراقب الكنترول"},null,{"$f":"'البيانات الأساسية'!$C$10","v":"رئيس الكنترول"},null,null,null,{"$f":"'البيانات الأساسية'!$A$10","v":"مراقب الكنترول"},null,{"$f":"'البيانات الأساسية'!$C$10","v":"رئيس الكنترول"}]
[null,{"$f":"'البيانات الأساسية'!$A$11","v":"أ/ عبد الحميد"},null,{"$f":"'البيانات الأساسية'!$A$11","v":"أ/ عبد الحميد"},null,null,null,{"$f":"'البيانات الأساسية'!$A$11","v":"أ/ عبد الحميد"},null,{"$f":"'البيانات الأساسية'!$A$11","v":"أ/ عبد الحميد"}]
[]
[]
[null,{"$f":"'البيانات الأساسية'!$A$1","v":"إدارة /غرب المحلة الكبرى التعليمية"},null,null,null,null,null,{"$f":"'البيانات الأساسية'!$A$1","v":"إدارة /غرب المحلة الكبرى التعليمية"}]
[null,{"$f":"'البيانات الأساسية'!$A$2","v":"مدرسة د/علي علي حبيش الابتدائية"},null,null,null,null,null,{"$f":"'البيانات الأساسية'!$A$2","v":"مدرسة د/علي علي حبيش الابتدائية"}]
[null,{"$f":"'البيانات الأساسية'!$A$4","v":"كشف مناداة الصف الثاني فصل أول وثانٍ للعام الدراسي 2019/2018"},null,null,null,null,null,{"$f":"'البيانات الأساسية'!$A$4","v":"كشف مناداة الصف الثاني فصل أول وثانٍ للعام الدراسي 2019/2018"}]
[null,null,"اللجنة رقم",{"$f":"D339+2","v":19},null,null,null,null,"اللجنة رقم",{"$f":"J339+2","v":20}]
[null,"م","الاســـــــــــــــــــــــــــــم","رقم الجلوس","القيد","الديانة",null,"م","الاســـــــــــــــــــــــــــــم","رقم الجلوس","القيد","الديانة"]
[199,{"$f":"IF(D381=\"\",\"\",1)","v":1},{"$f":"IF(B383=\"\",\"\",VLOOKUP(D383,الثاني_مناداه,2))","v":"حسن361"},{"$f":"IF(D381=\"\",\"\",VLOOKUP(D381,رقم_جلوس2_مناداة,2))","v":390},{"$f":"IF(B383=\"\",\"\",VLOOKUP(D383,الثاني_مناداه,4,FALSE))","v":0},{"$f":"IF(B383=\"\",\"\",VLOOKUP(D383,الثاني_مناداه,5,FALSE))","v":0},null,{"$f":"IF(J381=\"\",\"\",1)","v":1},{"$f":"IF(H383=\"\",\"\",VLOOKUP(J383,الثاني_مناداه,2))","v":"حسن381"},{"$f":"IF(J381=\"\",\"\",VLOOKUP(J381,رقم_جلوس2_مناداة,2))","v":410},{"$f":"IF(H383=\"\",\"\",VLOOKUP(J383,الثاني_مناداه,4,FALSE))","v":0},{"$f":"IF(H383=\"\",\"\",VLOOKUP(J383,الثاني_مناداه,5,FALSE))","v":0}]
[200,{"$f":"IF(B383=\"\",\"\",IF(B383+1>$R$3,\"\",B383+1))","v":2},"حسن362",{"$f":"IF(B383=\"\",\"\",IF(B384=\"\",\"\",D383+1))","v":391},0,0,null,{"$f":"IF(H383=\"\",\"\",IF(H383+1>$R$3,\"\",H383+1))","v":2},"حسن382",{"$f":"IF(H383=\"\",\"\",IF(H384=\"\",\"\",J383+1))","v":411},0,0]
[201,3,"حسن363",392,0,0,null,3,"حسن383",412,0,0]
[202,4,"حسن364",393,0,0,null,4,"حسن384",413,0,0]
[203,5,"حسن365",394,0,0,null,5,"حسن385",414,0,0]
[204,6,"حسن366",395,0,0,null,6,"حسن386",415,0,0]
[205,7,"حسن367",396,0,0,null,7,"حسن387",416,0,0]
[206,8,"حسن368",397,0,0,null,8,"حسن388",417,0,0]
[207,9,"حسن369",398,0,0,null,9,"حسن389",418,0,0]
[208,10,"حسن370",399,0,0,null,10,"حسن390",419,0,0]
[209,11,"حسن371",400,0,0,null,11,"حسن391",420,0,0]
[210,12,"حسن372",401,0,0,null,12,"حسن392",421,0,0]
[211,13,"حسن373",402,0,0,null,13,"حسن393",422,0,0]
[212,14,"حسن374",403,0,0,null,14,"حسن394",423,0,0]
[213,15,"حسن375",404,0,0,null,15,"حسن395",424,0,0]
[214,16,"حسن376",405,0,0,null,16,"حسن396",425,0,0]
[215,17,"حسن377",406,0,0,null,17,"حسن397",426,0,0]
[216,18,"حسن378",407,0,0,null,18,"حسن398",427,0,0]
[217,19,"حسن379",408,0,0,null,19,"حسن399",428,0,0]
[218,20,"حسن380",409,0,0,null,20,"حسن400",429,0,0]
[219,"","","","","",null,"","","","",""]
[220,"","","","","",null,"","","","",""]
[null,"","","","","",null,"","","","",""]
[null,"","","","","",null,"","","","",""]
[null,"","","","","",null,"","","","",""]
[null,"","","","","",null,"","","","",""]
[null,"","","","","",null,"","","","",""]
[null,"","","","","",null,"","","","",""]
[null,"","","","","",null,"","","","",""]
[null,"","","","","",null,"","","","",""]
[null,"","","","","",null,"","","","",""]
[null,"","","","","",null,"","","","",""]
[]
[null,{"$f":"'البيانات الأساسية'!$A$10","v":"مراقب الكنترول"},null,{"$f":"'البيانات الأساسية'!$C$10","v":"رئيس الكنترول"},null,null,null,{"$f":"'البيانات الأساسية'!$A$10","v":"مراقب الكنترول"},null,{"$f":"'البيانات الأساسية'!$C$10","v":"رئيس الكنترول"}]
[null,{"$f":"'البيانات الأساسية'!$A$11","v":"أ/ عبد الحميد"},null,{"$f":"'البيانات الأساسية'!$A$11","v":"أ/ عبد الحميد"},null,null,null,{"$f":"'البيانات الأساسية'!$A$11","v":"أ/ عبد الحميد"},null,{"$f":"'البيانات الأساسية'!$A$11","v":"أ/ عبد الحميد"}]
[]
[]
[null,{"$f":"'البيانات الأساسية'!$A$1","v":"إدارة /غرب المحلة الكبرى التعليمية"},null,null,null,null,null,{"$f":"'البيانات الأساسية'!$A$1","v":"إدارة /غرب المحلة الكبرى التعليمية"}]
[null,{"$f":"'البيانات الأساسية'!$A$2","v":"مدرسة د/علي علي حبيش الابتدائية"},null,null,null,null,null,{"$f":"'البيانات الأساسية'!$A$2","v":"مدرسة د/علي علي حبيش الابتدائية"}]
[null,{"$f":"'البيانات الأساسية'!$A$4","v":"كشف مناداة الصف الثاني فصل أول وثانٍ للعام الدراسي 2019/2018"},null,null,null,null,null,{"$f":"'البيانات الأساسية'!$A$4","v":"كشف مناداة الصف الثاني فصل أول وثانٍ للعام الدراسي 2019/2018"}]
[null,null,"اللجنة رقم",{"$f":"D381+2","v":21},null,null,null,null,"اللجنة رقم",{"$f":"J381+2","v":22}]
[null,"م","الاســـــــــــــــــــــــــــــم","رقم الجلوس","القيد","الديانة",null,"م","الاســـــــــــــــــــــــــــــم","رقم الجلوس","القيد","الديانة"]
[221,{"$f":"IF(D423=\"\",\"\",1)","v":1},{"$f":"IF(B425=\"\",\"\",VLOOKUP(D425,الثاني_مناداه,2))","v":"حسن401"},{"$f":"IF(D423=\"\",\"\",VLOOKUP(D423,رقم_جلوس2_مناداة,2))","v":430},{"$f":"IF(B425=\"\",\"\",VLOOKUP(D425,الثاني_مناداه,4,FALSE))","v":0},{"$f":"IF(B425=\"\",\"\",VLOOKUP(D425,الثاني_مناداه,5,FALSE))","v":0},null,{"$f":"IF(J423=\"\",\"\",1)","v":1},{"$f":"IF(H425=\"\",\"\",VLOOKUP(J425,الثاني_مناداه,2))","v":"حسن421"},{"$f":"IF(J423=\"\",\"\",VLOOKUP(J423,رقم_جلوس2_مناداة,2))","v":450},{"$f":"IF(H425=\"\",\"\",VLOOKUP(J425,الثاني_مناداه,4,FALSE))","v":0},{"$f":"IF(H425=\"\",\"\",VLOOKUP(J425,الثاني_مناداه,5,FALSE))","v":0}]
[222,{"$f":"IF(B425=\"\",\"\",IF(B425+1>$R$3,\"\",B425+1))","v":2},"حسن402",{"$f":"IF(B425=\"\",\"\",IF(B426=\"\",\"\",D425+1))","v":431},0,0,null,{"$f":"IF(H425=\"\",\"\",IF(H425+1>$R$3,\"\",H425+1))","v":2},"حسن422",{"$f":"IF(H425=\"\",\"\",IF(H426=\"\",\"\",J425+1))","v":451},0,0]
[223,3,"حسن403",432,0,0,null,3,"حسن423",452,0,0]
[224,4,"حسن404",433,0,0,null,4,"حسن424",453,0,0]
[225,5,"حسن405",434,0,0,null,5,"حسن425",454,0,0]
[226,6,"حسن406",435,0,0,null,6,"حسن426",455,0,0]
[227,7,"حسن407",436,0,0,null,7,"حسن427",456,0,0]
[228,8,"حسن408",437,0,0,null,8,"حسن428",457,0,0]
[229,9,"حسن409",438,0,0,null,9,"حسن429",458,0,0]
[230,10,"حسن410",439,0,0,null,10,"حسن430",459,0,0]
[231,11,"حسن411",440,0,0,null,11,"حسن431",460,0,0]
[232,12,"حسن412",441,0,0,null,12,"حسن432",461,0,0]
[233,13,"حسن413",442,0,0,null,13,"حسن433",462,0,0]
[234,14,"حسن414",443,0,0,null,14,"حسن434",463,0,0]
[235,15,"حسن415",444,0,0,null,15,"حسن435",464,0,0]
[236,16,"حسن416",445,0,0,null,16,"حسن436",465,0,0]
[237,17,"حسن417",446,0,0,null,17,"حسن437",466,0,0]
[238,18,"حسن418",447,0,0,null,18,"حسن438",467,0,0]
[239,19,"حسن419",448,0,0,null,19,"حسن439",468,0,0]
[240,20,"حسن420",449,0,0,null,20,"حسن440",469,0,0]
[241,"","","","","",null,"","","","",""]
[242,"","","","","",null,"","","","",""]
[null,"","","","","",null,"","","","",""]
[null,"","","","","",null,"","","","",""]
[null,"","","","","",null,"","","","",""]
[null,"","","","","",null,"","","","",""]
[null,"","","","","",null,"","","","",""]
[null,"","","","","",null,"","","","",""]
[null,"","","","","",null,"","","","",""]
[null,"","","","","",null,"","","","",""]
[null,"","","","","",null,"","","","",""]
[null,"","","","","",null,"","","","",""]
[]
[null,{"$f":"'البيانات الأساسية'!$A$10","v":"مراقب الكنترول"},null,{"$f":"'البيانات الأساسية'!$C$10","v":"رئيس الكنترول"},null,null,null,{"$f":"'البيانات الأساسية'!$A$10","v":"مراقب الكنترول"},null,{"$f":"'البيانات الأساسية'!$C$10","v":"رئيس الكنترول"}]
[null,{"$f":"'البيانات الأساسية'!$A$11","v":"أ/ عبد الحميد"},null,{"$f":"'البيانات الأساسية'!$A$11","v":"أ/ عبد الحميد"},null,null,null,{"$f":"'البيانات الأساسية'!$A$11","v":"أ/ عبد الحميد"},null,{"$f":"'البيانات الأساسية'!$A$11","v":"أ/ عبد الحميد"}]

{"sheet":"جدول الصف الثالث ","index":6,"n_rows":11,"n_cols":6,"rows_kept":11,"cut":false,"hidden":false,"merged":[[5,1,6,1],[5,2,6,2],[5,3,5,4],[5,5,6,5]]}
[{"$f":"'البيانات الأساسية'!$A$1","v":"إدارة /غرب المحلة الكبرى التعليمية"}]
[{"$f":"'البيانات الأساسية'!$A$2","v":"مدرسة د/علي علي حبيش الابتدائية"}]
[]
[null,"جدول امتحان الفصل الدراسي الأول / الثاني للعام الدراسي 2019/2018"]
[null,null,"الصف الثالث"]
[null,"اليوم والترايخ","المـــــــــــــــــــــــــــادة","الزمن",null,"الزمن"]
[null,null,null,"من ","إلي"]
[null,"السبت","لغة عربية وخط",8,10,"ساعتان"]
[null,"2018-01-01","التربية الدينية",10.15,11.45,"ساعة"]
[null,"الأحد","الرياضيات",8,9.3000000000000007,"ساعة ونصف"]
[null,"2018-01-02","اللغة الإنجليزية",9.4499999999999993,11.15,"ساعة ونصف"]

{"sheet":"قائمة الصف الثالث","index":7,"n_rows":603,"n_cols":21,"rows_kept":603,"cut":false,"hidden":false,"merged":[[0,4,0,5],[1,11,1,12],[0,11,0,12],[6,20,13,20],[32,1,32,6],[16,20,22,20],[7,11,14,11]]}
["رقم اللجنة","من","إلى","اللجنة",{"$f":"MAX(M:M)","v":586},null,"حدد عدد اللحنة بنفسك","عدد اللجنة","من","إلى","اللجنة","عدد طلابك",null,{"$f":"MAX(M:M)","v":586},"اكتب بداية رقم الجلوس",40,"بنون",{"$f":"COUNTIFS(P4:P603,\"ذكر\")","v":25},"مسلم",{"$f":"COUNTIFS(R3:R602,\"مسلم\")","v":3}]
[{"$f":"IF($H2=\"\",\"\",MAX($F$1:$F1)+1)","v":1},{"$f":"P1","v":40},{"$f":"IF(H2=\"\",\"\",B2+H2-1)","v":59},{"$f":"IF($H2=\"\",\"\",MAX($F$1:$F1)+1)","v":1},{"$f":"IF($H2=\"\",\"\",\"اللجنة\")","v":"اللجنة"},{"$f":"IF($H2=\"\",\"\",MAX($F$1:$F1)+1)","v":1},null,{"$f":"IF(SUM($H$1:$H1,IF(G2=\"\",20,G2))<$E$1,IF($G2=\"\",20,$G2),IF(SUM($H1:$H$2)=$E$1,\"\",$E$1-SUM($H1:$H$2)))","v":20},{"$f":"IF($H2=\"\",\"\",SUM($H$1:$H1)+1)","v":1},{"$f":"IF($H2=\"\",\"\",SUM($H2,$I2,-1))","v":20},{"$f":"IF($H2=\"\",\"\",MAX($F$1:$F1)+1)","v":1},"آخر رقم جلوس",null,{"$f":"MAX(C4:C43)","v":625},"الصف الثالث",null,"بنات",{"$f":"COUNTIFS(P4:P603,\"انثى\")","v":561},"مسيحي",{"$f":"COUNTIFS(R4:R603,\"مسيحي\")","v":0}]
[{"$f":"IF($H3=\"\",\"\",MAX($F$1:$F2)+1)","v":2},{"$f":"IF(H3=\"\",\"\",IF(A3=\"\",\"\",C2+1))","v":60},{"$f":"IF(H3=\"\",\"\",IF(B3=\"\",\"\",B3+H3-1))","v":79},{"$f":"IF($H3=\"\",\"\",MAX($F$1:$F2)+1)","v":2},{"$f":"IF($H3=\"\",\"\",\"اللجنة\")","v":"اللجنة"},{"$f":"IF($H3=\"\",\"\",MAX($F$1:$F2)+1)","v":2},null,{"$f":"IF(SUM($H$1:$H2,IF(G3=\"\",20,G3))<$E$1,IF($G3=\"\",20,$G3),IF(SUM($H2:$H$2)=$E$1,\"\",$E$1-SUM($H2:$H$2)))","v":20},{"$f":"IF($H3=\"\",\"\",SUM($H$1:$H2)+1)","v":21},{"$f":"IF($H3=\"\",\"\",SUM($H3,$I3,-1))","v":40},{"$f":"IF($H3=\"\",\"\",MAX($F$1:$F2)+1)","v":2},null,"م","رقم الجلوس","الاســــــــــــــــــــــــم","النوع","القيد","الديانة","رقم اللجنة","ملاحظات","ذكر"]
[{"$f":"IF($H4=\"\",\"\",MAX($F$1:$F3)+1)","v":3},{"$f":"IF(H4=\"\",\"\",C3+1)","v":80},{"$f":"IF(H4=\"\",\"\",IF(B4=\"\",\"\",B4+H4-1))","v":99},{"$f":"IF($H4=\"\",\"\",MAX($F$1:$F3)+1)","v":3},{"$f":"IF($F4=\"\",\"\",\"اللجنة\")","v":"اللجنة"},{"$f":"IF($H4=\"\",\"\",MAX($F$1:$F3)+1)","v":3},null,{"$f":"IF(SUM($H$1:$H3,IF(G4=\"\",20,G4))<$E$1,IF($G4=\"\",20,$G4),IF(SUM($H$2:$H3)=$E$1,\"\",$E$1-SUM($H$2:$H3)))","v":20},{"$f":"IF($H4=\"\",\"\",SUM($H$1:$H3)+1)","v":41},60,{"$f":"IF($H4=\"\",\"\",MAX($F$1:$F3)+1)","v":3},null,1,{"$f":"B2","v":40},"محمود1","ذكر",null,null,{"$f":"IF(M4=\"\",\"\",IF(ISERROR(MATCH($M4,$I:$I,0)),S3,MAX($S$3:$S3)+1))","v":1},{"$f":"IF(S4=S5,\"\",\"نهاية اللجنة\")","v":""},"انثى"]
[{"$f":"IF($H5=\"\",\"\",MAX($F$1:$F4)+1)","v":4},{"$f":"IF(H5=\"\",\"\",C4+1)","v":100},{"$f":"IF(H5=\"\",\"\",IF(B5=\"\",\"\",B5+H5-1))","v":119},{"$f":"IF($H5=\"\",\"\",MAX($F$1:$F4)+1)","v":4},"اللجنة",{"$f":"IF($H5=\"\",\"\",MAX($F$1:$F4)+1)","v":4},null,{"$f":"IF(SUM($H$1:$H4,IF(G5=\"\",20,G5))<$E$1,IF($G5=\"\",20,$G5),IF(SUM($H$2:$H4)=$E$1,\"\",$E$1-SUM($H$2:$H4)))","v":20},{"$f":"IF($H5=\"\",\"\",SUM($H$1:$H4)+1)","v":61},80,{"$f":"IF($H5=\"\",\"\",MAX($F$1:$F4)+1)","v":4},null,{"$f":"(IF(O5=\"\",\"\",ROW()-3))","v":2},{"$f":"IF(N4=\"\",\"\",IF(N4+1>$N$2,\"\",N4+1))","v":41},"محمود2","ذكر",null,"مسلم",{"$f":"IF(M5=\"\",\"\",IF(ISERROR(MATCH($M5,$I:$I,0)),S4,MAX($S$3:$S4)+1))","v":1},{"$f":"IF(S5=S6,\"\",\"نهاية اللجنة\")","v":""}]
[{"$f":"IF($H6=\"\",\"\",MAX($F$1:$F5)+1)","v":5},120,139,{"$f":"IF($H6=\"\",\"\",MAX($F$1:$F5)+1)","v":5},"اللجنة",{"$f":"IF($H6=\"\",\"\",MAX($F$1:$F5)+1)","v":5},null,{"$f":"IF(SUM($H$1:$H5,IF(G6=\"\",20,G6))<$E$1,IF($G6=\"\",20,$G6),IF(SUM($H$2:$H5)=$E$1,\"\",$E$1-SUM($H$2:$H5)))","v":20},{"$f":"IF($H6=\"\",\"\",SUM($H$1:$H5)+1)","v":81},100,{"$f":"IF($H6=\"\",\"\",MAX($F$1:$F5)+1)","v":5},null,3,{"$f":"IF(M6=\"\",\"\",N5+1)","v":42},"محمود3","ذكر",null,null,{"$f":"IF(M6=\"\",\"\",IF(ISERROR(MATCH($M6,$I:$I,0)),S5,MAX($S$3:$S5)+1))","v":1},"",{"$f":"MAX(J:J)","v":586}]
[{"$f":"IF($H7=\"\",\"\",MAX($F$1:$F6)+1)","v":6},140,159,{"$f":"IF($H7=\"\",\"\",MAX($F$1:$F6)+1)","v":6},"اللجنة",{"$f":"IF($H7=\"\",\"\",MAX($F$1:$F6)+1)","v":6},null,{"$f":"IF(SUM($H$1:$H6,IF(G7=\"\",20,G7))<$E$1,IF($G7=\"\",20,$G7),IF(SUM($H$2:$H6)=$E$1,\"\",$E$1-SUM($H$2:$H6)))","v":20},{"$f":"IF($H7=\"\",\"\",SUM($H$1:$H6)+1)","v":101},120,{"$f":"IF($H7=\"\",\"\",MAX($F$1:$F6)+1)","v":6},null,4,43,"محمود4","ذكر",null,"مسلم",{"$f":"IF(M7=\"\",\"\",IF(ISERROR(MATCH($M7,$I:$I,0)),S6,MAX($S$3:$S6)+1))","v":1},"",{"$f":"IF(U6=N1,\"التلاميذ مقسمون التقسيم الصحيح\",\"راجع من فضلك تقسيم اللجان\")","v":"التلاميذ مقسمون التقسيم الصحيح"}]
[{"$f":"IF($H8=\"\",\"\",MAX($F$1:$F7)+1)","v":7},160,179,{"$f":"IF($H8=\"\",\"\",MAX($F$1:$F7)+1)","v":7},"اللجنة",{"$f":"IF($H8=\"\",\"\",MAX($F$1:$F7)+1)","v":7},null,{"$f":"IF(SUM($H$1:$H7,IF(G8=\"\",20,G8))<$E$1,IF($G8=\"\",20,$G8),IF(SUM($H$2:$H7)=$E$1,\"\",$E$1-SUM($H$2:$H7)))","v":20},{"$f":"IF($H8=\"\",\"\",SUM($H$1:$H7)+1)","v":121},140,{"$f":"IF($H8=\"\",\"\",MAX($F$1:$F7)+1)","v":7},{"$f":"IF(N1=0,\"من فضلك سجل الاسماء\",IF(N2=0,\" من فضلك سجل الاسماء;\"\"\",))","v":0},5,44,"محمود5","ذكر",null,null,{"$f":"IF(M8=\"\",\"\",IF(ISERROR(MATCH($M8,$I:$I,0)),S7,MAX($S$3:$S7)+1))","v":1},""]
[{"$f":"IF($H9=\"\",\"\",MAX($F$1:$F8)+1)","v":8},180,199,{"$f":"IF($H9=\"\",\"\",MAX($F$1:$F8)+1)","v":8},"اللجنة",{"$f":"IF($H9=\"\",\"\",MAX($F$1:$F8)+1)","v":8},null,{"$f":"IF(SUM($H$1:$H8,IF(G9=\"\",20,G9))<$E$1,IF($G9=\"\",20,$G9),IF(SUM($H$2:$H8)=$E$1,\"\",$E$1-SUM($H$2:$H8)))","v":20},{"$f":"IF($H9=\"\",\"\",SUM($H$1:$H8)+1)","v":141},160,{"$f":"IF($H9=\"\",\"\",MAX($F$1:$F8)+1)","v":8},null,6,45,"محمود6","ذكر",null,null,{"$f":"IF(M9=\"\",\"\",IF(ISERROR(MATCH($M9,$I:$I,0)),S8,MAX($S$3:$S8)+1))","v":1},""]
[{"$f":"IF($H10=\"\",\"\",MAX($F$1:$F9)+1)","v":9},200,219,{"$f":"IF($H10=\"\",\"\",MAX($F$1:$F9)+1)","v":9},"اللجنة",{"$f":"IF($H10=\"\",\"\",MAX($F$1:$F9)+1)","v":9},null,{"$f":"IF(SUM($H$1:$H9,IF(G10=\"\",20,G10))<$E$1,IF($G10=\"\",20,$G10),IF(SUM($H$2:$H9)=$E$1,\"\",$E$1-SUM($H$2:$H9)))","v":20},{"$f":"IF($H10=\"\",\"\",SUM($H$1:$H9)+1)","v":161},180,{"$f":"IF($H10=\"\",\"\",MAX($F$1:$F9)+1)","v":9},null,7,46,"محمود7","ذكر",null,null,{"$f":"IF(M10=\"\",\"\",IF(ISERROR(MATCH($M10,$I:$I,0)),S9,MAX($S$3:$S9)+1))","v":1},""]
[{"$f":"IF($H11=\"\",\"\",MAX($F$1:$F10)+1)","v":10},220,239,{"$f":"IF($H11=\"\",\"\",MAX($F$1:$F10)+1)","v":10},"اللجنة",{"$f":"IF($H11=\"\",\"\",MAX($F$1:$F10)+1)","v":10},null,{"$f":"IF(SUM($H$1:$H10,IF(G11=\"\",20,G11))<$E$1,IF($G11=\"\",20,$G11),IF(SUM($H$2:$H10)=$E$1,\"\",$E$1-SUM($H$2:$H10)))","v":20},{"$f":"IF($H11=\"\",\"\",SUM($H$1:$H10)+1)","v":181},200,{"$f":"IF($H11=\"\",\"\",MAX($F$1:$F10)+1)","v":10},null,8,47,"محمود8","ذكر",null,null,{"$f":"IF(M11=\"\",\"\",IF(ISERROR(MATCH($M11,$I:$I,0)),S10,MAX($S$3:$S10)+1))","v":1},""]
[{"$f":"IF($H12=\"\",\"\",MAX($F$1:$F11)+1)","v":11},240,259,{"$f":"IF($H12=\"\",\"\",MAX($F$1:$F11)+1)","v":11},"اللجنة",{"$f":"IF($H12=\"\",\"\",MAX($F$1:$F11)+1)","v":11},null,{"$f":"IF(SUM($H$1:$H11,IF(G12=\"\",20,G12))<$E$1,IF($G12=\"\",20,$G12),IF(SUM($H$2:$H11)=$E$1,\"\",$E$1-SUM($H$2:$H11)))","v":20},{"$f":"IF($H12=\"\",\"\",SUM($H$1:$H11)+1)","v":201},220,{"$f":"IF($H12=\"\",\"\",MAX($F$1:$F11)+1)","v":11},null,9,48,"محمود9","ذكر",null,null,{"$f":"IF(M12=\"\",\"\",IF(ISERROR(MATCH($M12,$I:$I,0)),S11,MAX($S$3:$S11)+1))","v":1},""]
[{"$f":"IF($H13=\"\",\"\",MAX($F$1:$F12)+1)","v":12},260,279,{"$f":"IF($H13=\"\",\"\",MAX($F$1:$F12)+1)","v":12},"اللجنة",{"$f":"IF($H13=\"\",\"\",MAX($F$1:$F12)+1)","v":12},null,{"$f":"IF(SUM($H$1:$H12,IF(G13=\"\",20,G13))<$E$1,IF($G13=\"\",20,$G13),IF(SUM($H$2:$H12)=$E$1,\"\",$E$1-SUM($H$2:$H12)))","v":20},{"$f":"IF($H13=\"\",\"\",SUM($H$1:$H12)+1)","v":221},240,{"$f":"IF($H13=\"\",\"\",MAX($F$1:$F12)+1)","v":12},null,10,49,"محمود10","ذكر",null,null,{"$f":"IF(M13=\"\",\"\",IF(ISERROR(MATCH($M13,$I:$I,0)),S12,MAX($S$3:$S12)+1))","v":1},""]
[{"$f":"IF($H14=\"\",\"\",MAX($F$1:$F13)+1)","v":13},280,299,{"$f":"IF($H14=\"\",\"\",MAX($F$1:$F13)+1)","v":13},"اللجنة",{"$f":"IF($H14=\"\",\"\",MAX($F$1:$F13)+1)","v":13},null,{"$f":"IF(SUM($H$1:$H13,IF(G14=\"\",20,G14))<$E$1,IF($G14=\"\",20,$G14),IF(SUM($H$2:$H13)=$E$1,\"\",$E$1-SUM($H$2:$H13)))","v":20},{"$f":"IF($H14=\"\",\"\",SUM($H$1:$H13)+1)","v":241},260,{"$f":"IF($H14=\"\",\"\",MAX($F$1:$F13)+1)","v":13},null,11,50,"محمود11","ذكر",null,"مسلم",{"$f":"IF(M14=\"\",\"\",IF(ISERROR(MATCH($M14,$I:$I,0)),S13,MAX($S$3:$S13)+1))","v":1},""]
[{"$f":"IF($H15=\"\",\"\",MAX($F$1:$F14)+1)","v":14},300,319,{"$f":"IF($H15=\"\",\"\",MAX($F$1:$F14)+1)","v":14},"اللجنة",{"$f":"IF($H15=\"\",\"\",MAX($F$1:$F14)+1)","v":14},null,{"$f":"IF(SUM($H$1:$H14,IF(G15=\"\",20,G15))<$E$1,IF($G15=\"\",20,$G15),IF(SUM($H$2:$H14)=$E$1,\"\",$E$1-SUM($H$2:$H14)))","v":20},{"$f":"IF($H15=\"\",\"\",SUM($H$1:$H14)+1)","v":261},280,{"$f":"IF($H15=\"\",\"\",MAX($F$1:$F14)+1)","v":14},null,12,51,"محمود12","ذكر",null,null,{"$f":"IF(M15=\"\",\"\",IF(ISERROR(MATCH($M15,$I:$I,0)),S14,MAX($S$3:$S14)+1))","v":1},""]
[{"$f":"IF($H16=\"\",\"\",MAX($F$1:$F15)+1)","v":15},320,339,{"$f":"IF($H16=\"\",\"\",MAX($F$1:$F15)+1)","v":15},"اللجنة",{"$f":"IF($H16=\"\",\"\",MAX($F$1:$F15)+1)","v":15},null,{"$f":"IF(SUM($H$1:$H15,IF(G16=\"\",20,G16))<$E$1,IF($G16=\"\",20,$G16),IF(SUM($H$2:$H15)=$E$1,\"\",$E$1-SUM($H$2:$H15)))","v":20},{"$f":"IF($H16=\"\",\"\",SUM($H$1:$H15)+1)","v":281},300,{"$f":"IF($H16=\"\",\"\",MAX($F$1:$F15)+1)","v":15},null,13,52,"محمود13","ذكر",null,null,{"$f":"IF(M16=\"\",\"\",IF(ISERROR(MATCH($M16,$I:$I,0)),S15,MAX($S$3:$S15)+1))","v":1},"",{"$f":"MAX(C:C)","v":625}]
[{"$f":"IF($H17=\"\",\"\",MAX($F$1:$F16)+1)","v":16},340,359,{"$f":"IF($H17=\"\",\"\",MAX($F$1:$F16)+1)","v":16},"اللجنة",{"$f":"IF($H17=\"\",\"\",MAX($F$1:$F16)+1)","v":16},null,{"$f":"IF(SUM($H$1:$H16,IF(G17=\"\",20,G17))<$E$1,IF($G17=\"\",20,$G17),IF(SUM($H$2:$H16)=$E$1,\"\",$E$1-SUM($H$2:$H16)))","v":20},{"$f":"IF($H17=\"\",\"\",SUM($H$1:$H16)+1)","v":301},320,{"$f":"IF($H17=\"\",\"\",MAX($F$1:$F16)+1)","v":16},null,14,53,"محمود14","ذكر",null,null,{"$f":"IF(M17=\"\",\"\",IF(ISERROR(MATCH($M17,$I:$I,0)),S16,MAX($S$3:$S16)+1))","v":1},"",{"$f":"IF(U16=N2,\"أرقام جلوس الفصل سليمة\",\"رجاءً راجع أرقام الجلوس\")","v":"أرقام جلوس الفصل سليمة"}]
[{"$f":"IF($H18=\"\",\"\",MAX($F$1:$F17)+1)","v":17},360,379,{"$f":"IF($H18=\"\",\"\",MAX($F$1:$F17)+1)","v":17},"اللجنة",{"$f":"IF($H18=\"\",\"\",MAX($F$1:$F17)+1)","v":17},null,{"$f":"IF(SUM($H$1:$H17,IF(G18=\"\",20,G18))<$E$1,IF($G18=\"\",20,$G18),IF(SUM($H$2:$H17)=$E$1,\"\",$E$1-SUM($H$2:$H17)))","v":20},{"$f":"IF($H18=\"\",\"\",SUM($H$1:$H17)+1)","v":321},340,{"$f":"IF($H18=\"\",\"\",MAX($F$1:$F17)+1)","v":17},null,15,54,"محمود15","ذكر",null,null,{"$f":"IF(M18=\"\",\"\",IF(ISERROR(MATCH($M18,$I:$I,0)),S17,MAX($S$3:$S17)+1))","v":1},""]
[{"$f":"IF($H19=\"\",\"\",MAX($F$1:$F18)+1)","v":18},380,399,{"$f":"IF($H19=\"\",\"\",MAX($F$1:$F18)+1)","v":18},"اللجنة",{"$f":"IF($H19=\"\",\"\",MAX($F$1:$F18)+1)","v":18},null,{"$f":"IF(SUM($H$1:$H18,IF(G19=\"\",20,G19))<$E$1,IF($G19=\"\",20,$G19),IF(SUM($H$2:$H18)=$E$1,\"\",$E$1-SUM($H$2:$H18)))","v":20},{"$f":"IF($H19=\"\",\"\",SUM($H$1:$H18)+1)","v":341},360,{"$f":"IF($H19=\"\",\"\",MAX($F$1:$F18)+1)","v":18},null,16,55,"محمود16","ذكر",null,null,{"$f":"IF(M19=\"\",\"\",IF(ISERROR(MATCH($M19,$I:$I,0)),S18,MAX($S$3:$S18)+1))","v":1},""]
[{"$f":"IF($H20=\"\",\"\",MAX($F$1:$F19)+1)","v":19},400,419,{"$f":"IF($H20=\"\",\"\",MAX($F$1:$F19)+1)","v":19},"اللجنة",{"$f":"IF($H20=\"\",\"\",MAX($F$1:$F19)+1)","v":19},null,{"$f":"IF(SUM($H$1:$H19,IF(G20=\"\",20,G20))<$E$1,IF($G20=\"\",20,$G20),IF(SUM($H$2:$H19)=$E$1,\"\",$E$1-SUM($H$2:$H19)))","v":20},{"$f":"IF($H20=\"\",\"\",SUM($H$1:$H19)+1)","v":361},380,{"$f":"IF($H20=\"\",\"\",MAX($F$1:$F19)+1)","v":19},null,17,56,"محمود17","ذكر",null,null,{"$f":"IF(M20=\"\",\"\",IF(ISERROR(MATCH($M20,$I:$I,0)),S19,MAX($S$3:$S19)+1))","v":1},""]
[{"$f":"IF($H21=\"\",\"\",MAX($F$1:$F20)+1)","v":20},420,439,{"$f":"IF($H21=\"\",\"\",MAX($F$1:$F20)+1)","v":20},"اللجنة",{"$f":"IF($H21=\"\",\"\",MAX($F$1:$F20)+1)","v":20},null,{"$f":"IF(SUM($H$1:$H20,IF(G21=\"\",20,G21))<$E$1,IF($G21=\"\",20,$G21),IF(SUM($H$2:$H20)=$E$1,\"\",$E$1-SUM($H$2:$H20)))","v":20},{"$f":"IF($H21=\"\",\"\",SUM($H$1:$H20)+1)","v":381},400,{"$f":"IF($H21=\"\",\"\",MAX($F$1:$F20)+1)","v":20},null,18,57,"محمود18","ذكر",null,null,{"$f":"IF(M21=\"\",\"\",IF(ISERROR(MATCH($M21,$I:$I,0)),S20,MAX($S$3:$S20)+1))","v":1},""]
[{"$f":"IF($H22=\"\",\"\",MAX($F$1:$F21)+1)","v":21},440,459,{"$f":"IF($H22=\"\",\"\",MAX($F$1:$F21)+1)","v":21},"اللجنة",{"$f":"IF($H22=\"\",\"\",MAX($F$1:$F21)+1)","v":21},null,{"$f":"IF(SUM($H$1:$H21,IF(G22=\"\",20,G22))<$E$1,IF($G22=\"\",20,$G22),IF(SUM($H$2:$H21)=$E$1,\"\",$E$1-SUM($H$2:$H21)))","v":20},{"$f":"IF($H22=\"\",\"\",SUM($H$1:$H21)+1)","v":401},420,{"$f":"IF($H22=\"\",\"\",MAX($F$1:$F21)+1)","v":21},null,19,58,"محمود19","ذكر",null,null,{"$f":"IF(M22=\"\",\"\",IF(ISERROR(MATCH($M22,$I:$I,0)),S21,MAX($S$3:$S21)+1))","v":1},""]
[{"$f":"IF($H23=\"\",\"\",MAX($F$1:$F22)+1)","v":22},460,479,{"$f":"IF($H23=\"\",\"\",MAX($F$1:$F22)+1)","v":22},"اللجنة",{"$f":"IF($H23=\"\",\"\",MAX($F$1:$F22)+1)","v":22},null,{"$f":"IF(SUM($H$1:$H22,IF(G23=\"\",20,G23))<$E$1,IF($G23=\"\",20,$G23),IF(SUM($H$2:$H22)=$E$1,\"\",$E$1-SUM($H$2:$H22)))","v":20},{"$f":"IF($H23=\"\",\"\",SUM($H$1:$H22)+1)","v":421},440,{"$f":"IF($H23=\"\",\"\",MAX($F$1:$F22)+1)","v":22},null,20,59,"محمود20","ذكر",null,null,{"$f":"IF(M23=\"\",\"\",IF(ISERROR(MATCH($M23,$I:$I,0)),S22,MAX($S$3:$S22)+1))","v":1},"نهاية اللجنة"]
[{"$f":"IF($H24=\"\",\"\",MAX($F$1:$F23)+1)","v":23},480,499,{"$f":"IF($H24=\"\",\"\",MAX($F$1:$F23)+1)","v":23},"اللجنة",{"$f":"IF($H24=\"\",\"\",MAX($F$1:$F23)+1)","v":23},null,{"$f":"IF(SUM($H$1:$H23,IF(G24=\"\",20,G24))<$E$1,IF($G24=\"\",20,$G24),IF(SUM($H$2:$H23)=$E$1,\"\",$E$1-SUM($H$2:$H23)))","v":20},{"$f":"IF($H24=\"\",\"\",SUM($H$1:$H23)+1)","v":441},460,{"$f":"IF($H24=\"\",\"\",MAX($F$1:$F23)+1)","v":23},null,21,60,"محمود21","ذكر",null,null,{"$f":"IF(M24=\"\",\"\",IF(ISERROR(MATCH($M24,$I:$I,0)),S23,MAX($S$3:$S23)+1))","v":2},""]
[{"$f":"IF($H25=\"\",\"\",MAX($F$1:$F24)+1)","v":24},500,519,{"$f":"IF($H25=\"\",\"\",MAX($F$1:$F24)+1)","v":24},"اللجنة",{"$f":"IF($H25=\"\",\"\",MAX($F$1:$F24)+1)","v":24},null,{"$f":"IF(SUM($H$1:$H24,IF(G25=\"\",20,G25))<$E$1,IF($G25=\"\",20,$G25),IF(SUM($H$2:$H24)=$E$1,\"\",$E$1-SUM($H$2:$H24)))","v":20},{"$f":"IF($H25=\"\",\"\",SUM($H$1:$H24)+1)","v":461},480,{"$f":"IF($H25=\"\",\"\",MAX($F$1:$F24)+1)","v":24},null,22,61,"محمود22","ذكر",null,null,{"$f":"IF(M25=\"\",\"\",IF(ISERROR(MATCH($M25,$I:$I,0)),S24,MAX($S$3:$S24)+1))","v":2},""]
[{"$f":"IF($H26=\"\",\"\",MAX($F$1:$F25)+1)","v":25},520,539,{"$f":"IF($H26=\"\",\"\",MAX($F$1:$F25)+1)","v":25},"اللجنة",{"$f":"IF($H26=\"\",\"\",MAX($F$1:$F25)+1)","v":25},null,{"$f":"IF(SUM($H$1:$H25,IF(G26=\"\",20,G26))<$E$1,IF($G26=\"\",20,$G26),IF(SUM($H$2:$H25)=$E$1,\"\",$E$1-SUM($H$2:$H25)))","v":20},{"$f":"IF($H26=\"\",\"\",SUM($H$1:$H25)+1)","v":481},500,{"$f":"IF($H26=\"\",\"\",MAX($F$1:$F25)+1)","v":25},null,23,62,"محمود23","ذكر",null,null,{"$f":"IF(M26=\"\",\"\",IF(ISERROR(MATCH($M26,$I:$I,0)),S25,MAX($S$3:$S25)+1))","v":2},""]
[{"$f":"IF($H27=\"\",\"\",MAX($F$1:$F26)+1)","v":26},540,559,{"$f":"IF($H27=\"\",\"\",MAX($F$1:$F26)+1)","v":26},"اللجنة",{"$f":"IF($H27=\"\",\"\",MAX($F$1:$F26)+1)","v":26},null,{"$f":"IF(SUM($H$1:$H26,IF(G27=\"\",20,G27))<$E$1,IF($G27=\"\",20,$G27),IF(SUM($H$2:$H26)=$E$1,\"\",$E$1-SUM($H$2:$H26)))","v":20},{"$f":"IF($H27=\"\",\"\",SUM($H$1:$H26)+1)","v":501},520,{"$f":"IF($H27=\"\",\"\",MAX($F$1:$F26)+1)","v":26},null,24,63,"محمود24","ذكر",null,"أخري",{"$f":"IF(M27=\"\",\"\",IF(ISERROR(MATCH($M27,$I:$I,0)),S26,MAX($S$3:$S26)+1))","v":2},""]
[{"$f":"IF($H28=\"\",\"\",MAX($F$1:$F27)+1)","v":27},560,579,{"$f":"IF($H28=\"\",\"\",MAX($F$1:$F27)+1)","v":27},"اللجنة",{"$f":"IF($H28=\"\",\"\",MAX($F$1:$F27)+1)","v":27},null,{"$f":"IF(SUM($H$1:$H27,IF(G28=\"\",20,G28))<$E$1,IF($G28=\"\",20,$G28),IF(SUM($H$2:$H27)=$E$1,\"\",$E$1-SUM($H$2:$H27)))","v":20},{"$f":"IF($H28=\"\",\"\",SUM($H$1:$H27)+1)","v":521},540,{"$f":"IF($H28=\"\",\"\",MAX($F$1:$F27)+1)","v":27},null,25,64,"محمود25","ذكر","معيد",null,{"$f":"IF(M28=\"\",\"\",IF(ISERROR(MATCH($M28,$I:$I,0)),S27,MAX($S$3:$S27)+1))","v":2},""]
[{"$f":"IF($H29=\"\",\"\",MAX($F$1:$F28)+1)","v":28},580,599,{"$f":"IF($H29=\"\",\"\",MAX($F$1:$F28)+1)","v":28},"اللجنة",{"$f":"IF($H29=\"\",\"\",MAX($F$1:$F28)+1)","v":28},null,{"$f":"IF(SUM($H$1:$H28,IF(G29=\"\",20,G29))<$E$1,IF($G29=\"\",20,$G29),IF(SUM($H$2:$H28)=$E$1,\"\",$E$1-SUM($H$2:$H28)))","v":20},{"$f":"IF($H29=\"\",\"\",SUM($H$1:$H28)+1)","v":541},560,{"$f":"IF($H29=\"\",\"\",MAX($F$1:$F28)+1)","v":28},null,26,65,"محمود26","انثى",null,null,{"$f":"IF(M29=\"\",\"\",IF(ISERROR(MATCH($M29,$I:$I,0)),S28,MAX($S$3:$S28)+1))","v":2},""]
[{"$f":"IF($H30=\"\",\"\",MAX($F$1:$F29)+1)","v":29},600,619,{"$f":"IF($H30=\"\",\"\",MAX($F$1:$F29)+1)","v":29},"اللجنة",{"$f":"IF($H30=\"\",\"\",MAX($F$1:$F29)+1)","v":29},null,{"$f":"IF(SUM($H$1:$H29,IF(G30=\"\",20,G30))<$E$1,IF($G30=\"\",20,$G30),IF(SUM($H$2:$H29)=$E$1,\"\",$E$1-SUM($H$2:$H29)))","v":20},{"$f":"IF($H30=\"\",\"\",SUM($H$1:$H29)+1)","v":561},580,{"$f":"IF($H30=\"\",\"\",MAX($F$1:$F29)+1)","v":29},null,27,66,"محمود27","انثى",null,null,{"$f":"IF(M30=\"\",\"\",IF(ISERROR(MATCH($M30,$I:$I,0)),S29,MAX($S$3:$S29)+1))","v":2},""]
[{"$f":"IF($H31=\"\",\"\",MAX($F$1:$F30)+1)","v":30},{"$f":"IF(H31=\"\",\"\",C30+1)","v":620},{"$f":"IF(H31=\"\",\"\",IF(B31=\"\",\"\",B31+H31-1))","v":625},{"$f":"IF($H31=\"\",\"\",MAX($F$1:$F30)+1)","v":30},"اللجنة",{"$f":"IF($H31=\"\",\"\",MAX($F$1:$F30)+1)","v":30},null,{"$f":"IF(SUM($H$1:$H30,IF(G31=\"\",20,G31))<$E$1,IF($G31=\"\",20,$G31),IF(SUM($H$2:$H30)=$E$1,\"\",$E$1-SUM($H$2:$H30)))","v":6},{"$f":"IF($H31=\"\",\"\",SUM($H$1:$H30)+1)","v":581},586,{"$f":"IF($H31=\"\",\"\",MAX($F$1:$F30)+1)","v":30},null,28,67,"محمود28","انثى",null,null,{"$f":"IF(M31=\"\",\"\",IF(ISERROR(MATCH($M31,$I:$I,0)),S30,MAX($S$3:$S30)+1))","v":2},""]
[null,{"$f":"MAX(J:J)","v":586},null,null,null,null,null,null,null,null,null,null,29,68,"محمود29","انثى",null,null,{"$f":"IF(M32=\"\",\"\",IF(ISERROR(MATCH($M32,$I:$I,0)),S31,MAX($S$3:$S31)+1))","v":2},""]
[null,{"$f":"IF(B32=N1,\"التلاميذ مقسمون التقسيم الصحيح\",\"راجع من فضلك تقسيم اللجان\")","v":"التلاميذ مقسمون التقسيم الصحيح"},null,null,null,null,null,null,null,null,null,null,30,69,"محمود30","انثى",null,null,{"$f":"IF(M33=\"\",\"\",IF(ISERROR(MATCH($M33,$I:$I,0)),S32,MAX($S$3:$S32)+1))","v":2},""]
[null,null,null,null,null,null,null,null,null,null,null,null,31,70,"محمود31","انثى",null,null,{"$f":"IF(M34=\"\",\"\",IF(ISERROR(MATCH($M34,$I:$I,0)),S33,MAX($S$3:$S33)+1))","v":2},""]
[null,null,null,null,null,null,null,null,null,null,null,null,32,71,"محمود32","انثى",null,null,{"$f":"IF(M35=\"\",\"\",IF(ISERROR(MATCH($M35,$I:$I,0)),S34,MAX($S$3:$S34)+1))","v":2},""]
[null,null,null,null,null,null,null,null,null,null,null,null,33,72,"محمود33","انثى",null,null,{"$f":"IF(M36=\"\",\"\",IF(ISERROR(MATCH($M36,$I:$I,0)),S35,MAX($S$3:$S35)+1))","v":2},""]
[null,null,null,null,null,null,null,null,null,null,null,null,34,73,"محمود34","انثى",null,null,{"$f":"IF(M37=\"\",\"\",IF(ISERROR(MATCH($M37,$I:$I,0)),S36,MAX($S$3:$S36)+1))","v":2},""]
[null,null,null,null,null,null,null,"معيد",null,null,null,null,35,74,"محمود35","انثى",null,null,{"$f":"IF(M38=\"\",\"\",IF(ISERROR(MATCH($M38,$I:$I,0)),S37,MAX($S$3:$S37)+1))","v":2},""]
[null,null,null,null,null,null,null,"م للسنة الأولي",null,null,null,null,36,75,"محمود36","انثى",null,null,{"$f":"IF(M39=\"\",\"\",IF(ISERROR(MATCH($M39,$I:$I,0)),S38,MAX($S$3:$S38)+1))","v":2},""]
[null,null,null,null,null,null,null,"م للسنة الثانية",null,null,null,null,37,76,"محمود37","انثى",null,null,{"$f":"IF(M40=\"\",\"\",IF(ISERROR(MATCH($M40,$I:$I,0)),S39,MAX($S$3:$S39)+1))","v":2},""]
[null,null,null,null,null,null,null,null,null,null,null,null,38,77,"محمود38","انثى",null,null,{"$f":"IF(M41=\"\",\"\",IF(ISERROR(MATCH($M41,$I:$I,0)),S40,MAX($S$3:$S40)+1))","v":2},""]
[null,null,null,null,null,null,null,"مسلم",null,null,null,null,39,78,"محمود39","انثى",null,null,{"$f":"IF(M42=\"\",\"\",IF(ISERROR(MATCH($M42,$I:$I,0)),S41,MAX($S$3:$S41)+1))","v":2},""]
[null,null,null,null,null,null,null,"مسيحي",null,null,null,null,40,79,"محمود40","انثى",null,null,{"$f":"IF(M43=\"\",\"\",IF(ISERROR(MATCH($M43,$I:$I,0)),S42,MAX($S$3:$S42)+1))","v":2},"نهاية اللجنة"]
[null,null,null,null,null,null,null,"أخري",null,null,null,null,41,80,"محمود41","انثى",null,null,{"$f":"IF(M44=\"\",\"\",IF(ISERROR(MATCH($M44,$I:$I,0)),S43,MAX($S$3:$S43)+1))","v":3},""]
[null,null,null,null,null,null,null,null,null,null,null,null,42,81,"محمود42","انثى",null,null,{"$f":"IF(M45=\"\",\"\",IF(ISERROR(MATCH($M45,$I:$I,0)),S44,MAX($S$3:$S44)+1))","v":3},""]
[null,null,null,null,null,null,null,null,null,null,null,null,43,82,"محمود43","انثى",null,null,{"$f":"IF(M46=\"\",\"\",IF(ISERROR(MATCH($M46,$I:$I,0)),S45,MAX($S$3:$S45)+1))","v":3},""]
[null,null,null,null,null,null,null,null,null,null,null,null,44,83,"محمود44","انثى",null,null,{"$f":"IF(M47=\"\",\"\",IF(ISERROR(MATCH($M47,$I:$I,0)),S46,MAX($S$3:$S46)+1))","v":3},""]
[null,null,null,null,null,null,null,null,null,null,null,null,45,84,"محمود45","انثى",null,null,{"$f":"IF(M48=\"\",\"\",IF(ISERROR(MATCH($M48,$I:$I,0)),S47,MAX($S$3:$S47)+1))","v":3},""]
[null,null,null,null,null,null,null,null,null,null,null,null,46,85,"محمود46","انثى",null,null,{"$f":"IF(M49=\"\",\"\",IF(ISERROR(MATCH($M49,$I:$I,0)),S48,MAX($S$3:$S48)+1))","v":3},""]
[null,null,null,null,null,null,null,null,null,null,null,null,47,86,"محمود47","انثى",null,null,{"$f":"IF(M50=\"\",\"\",IF(ISERROR(MATCH($M50,$I:$I,0)),S49,MAX($S$3:$S49)+1))","v":3},""]
[null,null,null,null,null,null,null,null,null,null,null,null,48,87,"محمود48","انثى",null,null,{"$f":"IF(M51=\"\",\"\",IF(ISERROR(MATCH($M51,$I:$I,0)),S50,MAX($S$3:$S50)+1))","v":3},""]
[null,null,null,null,null,null,null,null,null,null,null,null,49,88,"محمود49","انثى",null,null,{"$f":"IF(M52=\"\",\"\",IF(ISERROR(MATCH($M52,$I:$I,0)),S51,MAX($S$3:$S51)+1))","v":3},""]
[null,null,null,null,null,null,null,null,null,null,null,null,50,89,"محمود50","انثى",null,null,{"$f":"IF(M53=\"\",\"\",IF(ISERROR(MATCH($M53,$I:$I,0)),S52,MAX($S$3:$S52)+1))","v":3},""]
[null,null,null,null,null,null,null,null,null,null,null,null,51,90,"محمود51","انثى",null,null,{"$f":"IF(M54=\"\",\"\",IF(ISERROR(MATCH($M54,$I:$I,0)),S53,MAX($S$3:$S53)+1))","v":3},""]
[null,null,null,null,null,null,null,null,null,null,null,null,52,91,"محمود52",{"$f":"IF(O55=\"\",\"\",P52)","v":"انثى"},null,null,{"$f":"IF(M55=\"\",\"\",IF(ISERROR(MATCH($M55,$I:$I,0)),S54,MAX($S$3:$S54)+1))","v":3},""]
[null,null,null,null,null,null,null,null,null,null,null,null,53,92,"محمود53","انثى",null,null,{"$f":"IF(M56=\"\",\"\",IF(ISERROR(MATCH($M56,$I:$I,0)),S55,MAX($S$3:$S55)+1))","v":3},""]
[null,null,null,null,null,null,null,null,null,null,null,null,54,93,"محمود54","انثى",null,null,{"$f":"IF(M57=\"\",\"\",IF(ISERROR(MATCH($M57,$I:$I,0)),S56,MAX($S$3:$S56)+1))","v":3},""]
[null,null,null,null,null,null,null,null,null,null,null,null,55,94,"محمود55","انثى",null,null,{"$f":"IF(M58=\"\",\"\",IF(ISERROR(MATCH($M58,$I:$I,0)),S57,MAX($S$3:$S57)+1))","v":3},""]
[null,null,null,null,null,null,null,null,null,null,null,null,56,95,"محمود56","انثى",null,null,{"$f":"IF(M59=\"\",\"\",IF(ISERROR(MATCH($M59,$I:$I,0)),S58,MAX($S$3:$S58)+1))","v":3},""]
[null,null,null,null,null,null,null,null,null,null,null,null,57,96,"محمود57","انثى",null,null,{"$f":"IF(M60=\"\",\"\",IF(ISERROR(MATCH($M60,$I:$I,0)),S59,MAX($S$3:$S59)+1))","v":3},""]
[null,null,null,null,null,null,null,null,null,null,null,null,58,97,"محمود58","انثى",null,null,{"$f":"IF(M61=\"\",\"\",IF(ISERROR(MATCH($M61,$I:$I,0)),S60,MAX($S$3:$S60)+1))","v":3},""]
[null,null,null,null,null,null,null,null,null,null,null,null,59,98,"محمود59","انثى",null,null,{"$f":"IF(M62=\"\",\"\",IF(ISERROR(MATCH($M62,$I:$I,0)),S61,MAX($S$3:$S61)+1))","v":3},""]
[null,null,null,null,null,null,null,null,null,null,null,null,60,99,"محمود60","انثى",null,null,{"$f":"IF(M63=\"\",\"\",IF(ISERROR(MATCH($M63,$I:$I,0)),S62,MAX($S$3:$S62)+1))","v":3},"نهاية اللجنة"]
[null,null,null,null,null,null,null,null,null,null,null,null,61,100,"محمود61","انثى",null,null,{"$f":"IF(M64=\"\",\"\",IF(ISERROR(MATCH($M64,$I:$I,0)),S63,MAX($S$3:$S63)+1))","v":4},""]
[null,null,null,null,null,null,null,null,null,null,null,null,62,101,"محمود62","انثى",null,null,{"$f":"IF(M65=\"\",\"\",IF(ISERROR(MATCH($M65,$I:$I,0)),S64,MAX($S$3:$S64)+1))","v":4},""]
[null,null,null,null,null,null,null,null,null,null,null,null,63,102,"محمود63","انثى",null,null,{"$f":"IF(M66=\"\",\"\",IF(ISERROR(MATCH($M66,$I:$I,0)),S65,MAX($S$3:$S65)+1))","v":4},""]
[null,null,null,null,null,null,null,null,null,null,null,null,64,103,"محمود64","انثى",null,null,{"$f":"IF(M67=\"\",\"\",IF(ISERROR(MATCH($M67,$I:$I,0)),S66,MAX($S$3:$S66)+1))","v":4},""]
[null,null,null,null,null,null,null,null,null,null,null,null,65,104,"محمود65","انثى",null,null,{"$f":"IF(M68=\"\",\"\",IF(ISERROR(MATCH($M68,$I:$I,0)),S67,MAX($S$3:$S67)+1))","v":4},""]
[null,null,null,null,null,null,null,null,null,null,null,null,{"$f":"(IF(O69=\"\",\"\",ROW()-3))","v":66},105,"محمود66",{"$f":"IF(O69=\"\",\"\",P66)","v":"انثى"},null,null,{"$f":"IF(M69=\"\",\"\",IF(ISERROR(MATCH($M69,$I:$I,0)),S68,MAX($S$3:$S68)+1))","v":4},{"$f":"IF(S69=S70,\"\",\"نهاية اللجنة\")","v":""}]
[null,null,null,null,null,null,null,null,null,null,null,null,67,{"$f":"IF(M70=\"\",\"\",N69+1)","v":106},"محمود67","انثى",null,null,{"$f":"IF(M70=\"\",\"\",IF(ISERROR(MATCH($M70,$I:$I,0)),S69,MAX($S$3:$S69)+1))","v":4},""]
[null,null,null,null,null,null,null,null,null,null,null,null,68,107,"محمود68","انثى",null,null,{"$f":"IF(M71=\"\",\"\",IF(ISERROR(MATCH($M71,$I:$I,0)),S70,MAX($S$3:$S70)+1))","v":4},""]
[null,null,null,null,null,null,null,null,null,null,null,null,69,108,"محمود69","انثى",null,null,{"$f":"IF(M72=\"\",\"\",IF(ISERROR(MATCH($M72,$I:$I,0)),S71,MAX($S$3:$S71)+1))","v":4},""]
[null,null,null,null,null,null,null,null,null,null,null,null,70,109,"محمود70","انثى",null,null,{"$f":"IF(M73=\"\",\"\",IF(ISERROR(MATCH($M73,$I:$I,0)),S72,MAX($S$3:$S72)+1))","v":4},""]
[null,null,null,null,null,null,null,null,null,null,null,null,71,110,"محمود71","انثى",null,null,{"$f":"IF(M74=\"\",\"\",IF(ISERROR(MATCH($M74,$I:$I,0)),S73,MAX($S$3:$S73)+1))","v":4},""]
[null,null,null,null,null,null,null,null,null,null,null,null,72,111,"محمود72","انثى",null,null,{"$f":"IF(M75=\"\",\"\",IF(ISERROR(MATCH($M75,$I:$I,0)),S74,MAX($S$3:$S74)+1))","v":4},""]
[null,null,null,null,null,null,null,null,null,null,null,null,73,112,"محمود73","انثى",null,null,{"$f":"IF(M76=\"\",\"\",IF(ISERROR(MATCH($M76,$I:$I,0)),S75,MAX($S$3:$S75)+1))","v":4},""]
[null,null,null,null,null,null,null,null,null,null,null,null,74,113,"محمود74","انثى",null,null,{"$f":"IF(M77=\"\",\"\",IF(ISERROR(MATCH($M77,$I:$I,0)),S76,MAX($S$3:$S76)+1))","v":4},""]
[null,null,null,null,null,null,null,null,null,null,null,null,75,114,"محمود75","انثى",null,null,{"$f":"IF(M78=\"\",\"\",IF(ISERROR(MATCH($M78,$I:$I,0)),S77,MAX($S$3:$S77)+1))","v":4},""]
[null,null,null,null,null,null,null,null,null,null,null,null,76,115,"محمود76","انثى",null,null,{"$f":"IF(M79=\"\",\"\",IF(ISERROR(MATCH($M79,$I:$I,0)),S78,MAX($S$3:$S78)+1))","v":4},""]
[null,null,null,null,null,null,null,null,null,null,null,null,77,116,"محمود77","انثى",null,null,{"$f":"IF(M80=\"\",\"\",IF(ISERROR(MATCH($M80,$I:$I,0)),S79,MAX($S$3:$S79)+1))","v":4},""]
[null,null,null,null,null,null,null,null,null,null,null,null,78,117,"محمود78","انثى",null,null,{"$f":"IF(M81=\"\",\"\",IF(ISERROR(MATCH($M81,$I:$I,0)),S80,MAX($S$3:$S80)+1))","v":4},""]
[null,null,null,null,null,null,null,null,null,null,null,null,79,118,"محمود79","انثى",null,null,{"$f":"IF(M82=\"\",\"\",IF(ISERROR(MATCH($M82,$I:$I,0)),S81,MAX($S$3:$S81)+1))","v":4},""]
[null,null,null,null,null,null,null,null,null,null,null,null,80,119,"محمود80","انثى",null,null,{"$f":"IF(M83=\"\",\"\",IF(ISERROR(MATCH($M83,$I:$I,0)),S82,MAX($S$3:$S82)+1))","v":4},"نهاية اللجنة"]
[null,null,null,null,null,null,null,null,null,null,null,null,81,120,"محمود81","انثى",null,null,{"$f":"IF(M84=\"\",\"\",IF(ISERROR(MATCH($M84,$I:$I,0)),S83,MAX($S$3:$S83)+1))","v":5},""]
[null,null,null,null,null,null,null,null,null,null,null,null,82,121,"محمود82","انثى",null,null,{"$f":"IF(M85=\"\",\"\",IF(ISERROR(MATCH($M85,$I:$I,0)),S84,MAX($S$3:$S84)+1))","v":5},""]
[null,null,null,null,null,null,null,null,null,null,null,null,83,122,"محمود83","انثى",null,null,{"$f":"IF(M86=\"\",\"\",IF(ISERROR(MATCH($M86,$I:$I,0)),S85,MAX($S$3:$S85)+1))","v":5},""]
[null,null,null,null,null,null,null,null,null,null,null,null,84,123,"محمود84","انثى",null,null,{"$f":"IF(M87=\"\",\"\",IF(ISERROR(MATCH($M87,$I:$I,0)),S86,MAX($S$3:$S86)+1))","v":5},""]
[null,null,null,null,null,null,null,null,null,null,null,null,85,124,"محمود85","انثى",null,null,{"$f":"IF(M88=\"\",\"\",IF(ISERROR(MATCH($M88,$I:$I,0)),S87,MAX($S$3:$S87)+1))","v":5},""]
[null,null,null,null,null,null,null,null,null,null,null,null,86,125,"محمود86","انثى",null,null,{"$f":"IF(M89=\"\",\"\",IF(ISERROR(MATCH($M89,$I:$I,0)),S88,MAX($S$3:$S88)+1))","v":5},""]
[null,null,null,null,null,null,null,null,null,null,null,null,87,126,"محمود87","انثى",null,null,{"$f":"IF(M90=\"\",\"\",IF(ISERROR(MATCH($M90,$I:$I,0)),S89,MAX($S$3:$S89)+1))","v":5},""]
[null,null,null,null,null,null,null,null,null,null,null,null,88,127,"محمود88","انثى",null,null,{"$f":"IF(M91=\"\",\"\",IF(ISERROR(MATCH($M91,$I:$I,0)),S90,MAX($S$3:$S90)+1))","v":5},""]
[null,null,null,null,null,null,null,null,null,null,null,null,89,128,"محمود89","انثى",null,null,{"$f":"IF(M92=\"\",\"\",IF(ISERROR(MATCH($M92,$I:$I,0)),S91,MAX($S$3:$S91)+1))","v":5},""]
[null,null,null,null,null,null,null,null,null,null,null,null,90,129,"محمود90","انثى",null,null,{"$f":"IF(M93=\"\",\"\",IF(ISERROR(MATCH($M93,$I:$I,0)),S92,MAX($S$3:$S92)+1))","v":5},""]
[null,null,null,null,null,null,null,null,null,null,null,null,91,130,"محمود91","انثى",null,null,{"$f":"IF(M94=\"\",\"\",IF(ISERROR(MATCH($M94,$I:$I,0)),S93,MAX($S$3:$S93)+1))","v":5},""]
[null,null,null,null,null,null,null,null,null,null,null,null,92,131,"محمود92","انثى",null,null,{"$f":"IF(M95=\"\",\"\",IF(ISERROR(MATCH($M95,$I:$I,0)),S94,MAX($S$3:$S94)+1))","v":5},""]
[null,null,null,null,null,null,null,null,null,null,null,null,93,132,"محمود93","انثى",null,null,{"$f":"IF(M96=\"\",\"\",IF(ISERROR(MATCH($M96,$I:$I,0)),S95,MAX($S$3:$S95)+1))","v":5},""]
[null,null,null,null,null,null,null,null,null,null,null,null,94,133,"محمود94","انثى",null,null,{"$f":"IF(M97=\"\",\"\",IF(ISERROR(MATCH($M97,$I:$I,0)),S96,MAX($S$3:$S96)+1))","v":5},""]
[null,null,null,null,null,null,null,null,null,null,null,null,95,134,"محمود95","انثى",null,null,{"$f":"IF(M98=\"\",\"\",IF(ISERROR(MATCH($M98,$I:$I,0)),S97,MAX($S$3:$S97)+1))","v":5},""]
[null,null,null,null,null,null,null,null,null,null,null,null,96,135,"محمود96","انثى",null,null,{"$f":"IF(M99=\"\",\"\",IF(ISERROR(MATCH($M99,$I:$I,0)),S98,MAX($S$3:$S98)+1))","v":5},""]
[null,null,null,null,null,null,null,null,null,null,null,null,97,136,"محمود97","انثى",null,null,{"$f":"IF(M100=\"\",\"\",IF(ISERROR(MATCH($M100,$I:$I,0)),S99,MAX($S$3:$S99)+1))","v":5},""]
[null,null,null,null,null,null,null,null,null,null,null,null,98,137,"محمود98","انثى",null,null,{"$f":"IF(M101=\"\",\"\",IF(ISERROR(MATCH($M101,$I:$I,0)),S100,MAX($S$3:$S100)+1))","v":5},""]
[null,null,null,null,null,null,null,null,null,null,null,null,99,138,"محمود99","انثى",null,null,{"$f":"IF(M102=\"\",\"\",IF(ISERROR(MATCH($M102,$I:$I,0)),S101,MAX($S$3:$S101)+1))","v":5},""]
[null,null,null,null,null,null,null,null,null,null,null,null,100,139,"محمود100","انثى",null,null,{"$f":"IF(M103=\"\",\"\",IF(ISERROR(MATCH($M103,$I:$I,0)),S102,MAX($S$3:$S102)+1))","v":5},"نهاية اللجنة"]
[null,null,null,null,null,null,null,null,null,null,null,null,101,140,"محمود101","انثى",null,null,{"$f":"IF(M104=\"\",\"\",IF(ISERROR(MATCH($M104,$I:$I,0)),S103,MAX($S$3:$S103)+1))","v":6},""]
[null,null,null,null,null,null,null,null,null,null,null,null,102,141,"محمود102","انثى",null,null,{"$f":"IF(M105=\"\",\"\",IF(ISERROR(MATCH($M105,$I:$I,0)),S104,MAX($S$3:$S104)+1))","v":6},""]
[null,null,null,null,null,null,null,null,null,null,null,null,103,142,"محمود103","انثى",null,null,{"$f":"IF(M106=\"\",\"\",IF(ISERROR(MATCH($M106,$I:$I,0)),S105,MAX($S$3:$S105)+1))","v":6},""]
[null,null,null,null,null,null,null,null,null,null,null,null,104,143,"محمود104","انثى",null,null,{"$f":"IF(M107=\"\",\"\",IF(ISERROR(MATCH($M107,$I:$I,0)),S106,MAX($S$3:$S106)+1))","v":6},""]
[null,null,null,null,null,null,null,null,null,null,null,null,105,144,"محمود105","انثى",null,null,{"$f":"IF(M108=\"\",\"\",IF(ISERROR(MATCH($M108,$I:$I,0)),S107,MAX($S$3:$S107)+1))","v":6},""]
[null,null,null,null,null,null,null,null,null,null,null,null,106,145,"محمود106","انثى",null,null,{"$f":"IF(M109=\"\",\"\",IF(ISERROR(MATCH($M109,$I:$I,0)),S108,MAX($S$3:$S108)+1))","v":6},""]
[null,null,null,null,null,null,null,null,null,null,null,null,107,146,"محمود107","انثى",null,null,{"$f":"IF(M110=\"\",\"\",IF(ISERROR(MATCH($M110,$I:$I,0)),S109,MAX($S$3:$S109)+1))","v":6},""]
[null,null,null,null,null,null,null,null,null,null,null,null,108,147,"محمود108","انثى",null,null,{"$f":"IF(M111=\"\",\"\",IF(ISERROR(MATCH($M111,$I:$I,0)),S110,MAX($S$3:$S110)+1))","v":6},""]
[null,null,null,null,null,null,null,null,null,null,null,null,109,148,"محمود109","انثى",null,null,{"$f":"IF(M112=\"\",\"\",IF(ISERROR(MATCH($M112,$I:$I,0)),S111,MAX($S$3:$S111)+1))","v":6},""]
[null,null,null,null,null,null,null,null,null,null,null,null,110,149,"محمود110","انثى",null,null,{"$f":"IF(M113=\"\",\"\",IF(ISERROR(MATCH($M113,$I:$I,0)),S112,MAX($S$3:$S112)+1))","v":6},""]
[null,null,null,null,null,null,null,null,null,null,null,null,111,150,"محمود111","انثى",null,null,{"$f":"IF(M114=\"\",\"\",IF(ISERROR(MATCH($M114,$I:$I,0)),S113,MAX($S$3:$S113)+1))","v":6},""]
[null,null,null,null,null,null,null,null,null,null,null,null,112,151,"محمود112","انثى",null,null,{"$f":"IF(M115=\"\",\"\",IF(ISERROR(MATCH($M115,$I:$I,0)),S114,MAX($S$3:$S114)+1))","v":6},""]
[null,null,null,null,null,null,null,null,null,null,null,null,113,152,"محمود113","انثى",null,null,{"$f":"IF(M116=\"\",\"\",IF(ISERROR(MATCH($M116,$I:$I,0)),S115,MAX($S$3:$S115)+1))","v":6},""]
[null,null,null,null,null,null,null,null,null,null,null,null,114,153,"محمود114","انثى",null,null,{"$f":"IF(M117=\"\",\"\",IF(ISERROR(MATCH($M117,$I:$I,0)),S116,MAX($S$3:$S116)+1))","v":6},""]
[null,null,null,null,null,null,null,null,null,null,null,null,115,154,"محمود115","انثى",null,null,{"$f":"IF(M118=\"\",\"\",IF(ISERROR(MATCH($M118,$I:$I,0)),S117,MAX($S$3:$S117)+1))","v":6},""]
[null,null,null,null,null,null,null,null,null,null,null,null,116,155,"محمود116","انثى",null,null,{"$f":"IF(M119=\"\",\"\",IF(ISERROR(MATCH($M119,$I:$I,0)),S118,MAX($S$3:$S118)+1))","v":6},""]
[null,null,null,null,null,null,null,null,null,null,null,null,117,156,"محمود117","انثى",null,null,{"$f":"IF(M120=\"\",\"\",IF(ISERROR(MATCH($M120,$I:$I,0)),S119,MAX($S$3:$S119)+1))","v":6},""]
[null,null,null,null,null,null,null,null,null,null,null,null,118,157,"محمود118","انثى",null,null,{"$f":"IF(M121=\"\",\"\",IF(ISERROR(MATCH($M121,$I:$I,0)),S120,MAX($S$3:$S120)+1))","v":6},""]
[null,null,null,null,null,null,null,null,null,null,null,null,119,158,"محمود119","انثى",null,null,{"$f":"IF(M122=\"\",\"\",IF(ISERROR(MATCH($M122,$I:$I,0)),S121,MAX($S$3:$S121)+1))","v":6},""]
[null,null,null,null,null,null,null,null,null,null,null,null,120,159,"محمود120","انثى",null,null,{"$f":"IF(M123=\"\",\"\",IF(ISERROR(MATCH($M123,$I:$I,0)),S122,MAX($S$3:$S122)+1))","v":6},"نهاية اللجنة"]
[null,null,null,null,null,null,null,null,null,null,null,null,121,160,"محمود121","انثى",null,null,{"$f":"IF(M124=\"\",\"\",IF(ISERROR(MATCH($M124,$I:$I,0)),S123,MAX($S$3:$S123)+1))","v":7},""]
[null,null,null,null,null,null,null,null,null,null,null,null,122,161,"محمود122","انثى",null,null,{"$f":"IF(M125=\"\",\"\",IF(ISERROR(MATCH($M125,$I:$I,0)),S124,MAX($S$3:$S124)+1))","v":7},""]
[null,null,null,null,null,null,null,null,null,null,null,null,123,162,"محمود123","انثى",null,null,{"$f":"IF(M126=\"\",\"\",IF(ISERROR(MATCH($M126,$I:$I,0)),S125,MAX($S$3:$S125)+1))","v":7},""]
[null,null,null,null,null,null,null,null,null,null,null,null,124,163,"محمود124","انثى",null,null,{"$f":"IF(M127=\"\",\"\",IF(ISERROR(MATCH($M127,$I:$I,0)),S126,MAX($S$3:$S126)+1))","v":7},""]
[null,null,null,null,null,null,null,null,null,null,null,null,125,164,"محمود125","انثى",null,null,{"$f":"IF(M128=\"\",\"\",IF(ISERROR(MATCH($M128,$I:$I,0)),S127,MAX($S$3:$S127)+1))","v":7},""]
[null,null,null,null,null,null,null,null,null,null,null,null,126,165,"محمود126","انثى",null,null,{"$f":"IF(M129=\"\",\"\",IF(ISERROR(MATCH($M129,$I:$I,0)),S128,MAX($S$3:$S128)+1))","v":7},""]
[null,null,null,null,null,null,null,null,null,null,null,null,127,166,"محمود127","انثى",null,null,{"$f":"IF(M130=\"\",\"\",IF(ISERROR(MATCH($M130,$I:$I,0)),S129,MAX($S$3:$S129)+1))","v":7},""]
[null,null,null,null,null,null,null,null,null,null,null,null,128,167,"محمود128","انثى",null,null,{"$f":"IF(M131=\"\",\"\",IF(ISERROR(MATCH($M131,$I:$I,0)),S130,MAX($S$3:$S130)+1))","v":7},""]
[null,null,null,null,null,null,null,null,null,null,null,null,129,168,"محمود129","انثى",null,null,{"$f":"IF(M132=\"\",\"\",IF(ISERROR(MATCH($M132,$I:$I,0)),S131,MAX($S$3:$S131)+1))","v":7},""]
[null,null,null,null,null,null,null,null,null,null,null,null,{"$f":"(IF(O133=\"\",\"\",ROW()-3))","v":130},169,"محمود130",{"$f":"IF(O133=\"\",\"\",P130)","v":"انثى"},null,null,{"$f":"IF(M133=\"\",\"\",IF(ISERROR(MATCH($M133,$I:$I,0)),S132,MAX($S$3:$S132)+1))","v":7},{"$f":"IF(S133=S134,\"\",\"نهاية اللجنة\")","v":""}]
[null,null,null,null,null,null,null,null,null,null,null,null,131,{"$f":"IF(M134=\"\",\"\",N133+1)","v":170},"محمود131","انثى",null,null,{"$f":"IF(M134=\"\",\"\",IF(ISERROR(MATCH($M134,$I:$I,0)),S133,MAX($S$3:$S133)+1))","v":7},""]
[null,null,null,null,null,null,null,null,null,null,null,null,132,171,"محمود132","انثى",null,null,{"$f":"IF(M135=\"\",\"\",IF(ISERROR(MATCH($M135,$I:$I,0)),S134,MAX($S$3:$S134)+1))","v":7},""]
[null,null,null,null,null,null,null,null,null,null,null,null,133,172,"محمود133","انثى",null,null,{"$f":"IF(M136=\"\",\"\",IF(ISERROR(MATCH($M136,$I:$I,0)),S135,MAX($S$3:$S135)+1))","v":7},""]
[null,null,null,null,null,null,null,null,null,null,null,null,134,173,"محمود134","انثى",null,null,{"$f":"IF(M137=\"\",\"\",IF(ISERROR(MATCH($M137,$I:$I,0)),S136,MAX($S$3:$S136)+1))","v":7},""]
[null,null,null,null,null,null,null,null,null,null,null,null,135,174,"محمود135","انثى",null,null,{"$f":"IF(M138=\"\",\"\",IF(ISERROR(MATCH($M138,$I:$I,0)),S137,MAX($S$3:$S137)+1))","v":7},""]
[null,null,null,null,null,null,null,null,null,null,null,null,136,175,"محمود136","انثى",null,null,{"$f":"IF(M139=\"\",\"\",IF(ISERROR(MATCH($M139,$I:$I,0)),S138,MAX($S$3:$S138)+1))","v":7},""]
[null,null,null,null,null,null,null,null,null,null,null,null,137,176,"محمود137","انثى",null,null,{"$f":"IF(M140=\"\",\"\",IF(ISERROR(MATCH($M140,$I:$I,0)),S139,MAX($S$3:$S139)+1))","v":7},""]
[null,null,null,null,null,null,null,null,null,null,null,null,138,177,"محمود138","انثى",null,null,{"$f":"IF(M141=\"\",\"\",IF(ISERROR(MATCH($M141,$I:$I,0)),S140,MAX($S$3:$S140)+1))","v":7},""]
[null,null,null,null,null,null,null,null,null,null,null,null,139,178,"محمود139","انثى",null,null,{"$f":"IF(M142=\"\",\"\",IF(ISERROR(MATCH($M142,$I:$I,0)),S141,MAX($S$3:$S141)+1))","v":7},""]
[null,null,null,null,null,null,null,null,null,null,null,null,140,179,"محمود140","انثى",null,null,{"$f":"IF(M143=\"\",\"\",IF(ISERROR(MATCH($M143,$I:$I,0)),S142,MAX($S$3:$S142)+1))","v":7},"نهاية اللجنة"]
[null,null,null,null,null,null,null,null,null,null,null,null,141,180,"محمود141","انثى",null,null,{"$f":"IF(M144=\"\",\"\",IF(ISERROR(MATCH($M144,$I:$I,0)),S143,MAX($S$3:$S143)+1))","v":8},""]
[null,null,null,null,null,null,null,null,null,null,null,null,142,181,"محمود142","انثى",null,null,{"$f":"IF(M145=\"\",\"\",IF(ISERROR(MATCH($M145,$I:$I,0)),S144,MAX($S$3:$S144)+1))","v":8},""]
[null,null,null,null,null,null,null,null,null,null,null,null,143,182,"محمود143","انثى",null,null,{"$f":"IF(M146=\"\",\"\",IF(ISERROR(MATCH($M146,$I:$I,0)),S145,MAX($S$3:$S145)+1))","v":8},""]
[null,null,null,null,null,null,null,null,null,null,null,null,144,183,"محمود144","انثى",null,null,{"$f":"IF(M147=\"\",\"\",IF(ISERROR(MATCH($M147,$I:$I,0)),S146,MAX($S$3:$S146)+1))","v":8},""]
[null,null,null,null,null,null,null,null,null,null,null,null,145,184,"محمود145","انثى",null,null,{"$f":"IF(M148=\"\",\"\",IF(ISERROR(MATCH($M148,$I:$I,0)),S147,MAX($S$3:$S147)+1))","v":8},""]
[null,null,null,null,null,null,null,null,null,null,null,null,146,185,"محمود146","انثى",null,null,{"$f":"IF(M149=\"\",\"\",IF(ISERROR(MATCH($M149,$I:$I,0)),S148,MAX($S$3:$S148)+1))","v":8},""]
[null,null,null,null,null,null,null,null,null,null,null,null,147,186,"محمود147","انثى",null,null,{"$f":"IF(M150=\"\",\"\",IF(ISERROR(MATCH($M150,$I:$I,0)),S149,MAX($S$3:$S149)+1))","v":8},""]
[null,null,null,null,null,null,null,null,null,null,null,null,148,187,"محمود148","انثى",null,null,{"$f":"IF(M151=\"\",\"\",IF(ISERROR(MATCH($M151,$I:$I,0)),S150,MAX($S$3:$S150)+1))","v":8},""]
[null,null,null,null,null,null,null,null,null,null,null,null,149,188,"محمود149","انثى",null,null,{"$f":"IF(M152=\"\",\"\",IF(ISERROR(MATCH($M152,$I:$I,0)),S151,MAX($S$3:$S151)+1))","v":8},""]
[null,null,null,null,null,null,null,null,null,null,null,null,150,189,"محمود150","انثى",null,null,{"$f":"IF(M153=\"\",\"\",IF(ISERROR(MATCH($M153,$I:$I,0)),S152,MAX($S$3:$S152)+1))","v":8},""]
[null,null,null,null,null,null,null,null,null,null,null,null,151,190,"محمود151","انثى",null,null,{"$f":"IF(M154=\"\",\"\",IF(ISERROR(MATCH($M154,$I:$I,0)),S153,MAX($S$3:$S153)+1))","v":8},""]
[null,null,null,null,null,null,null,null,null,null,null,null,152,191,"محمود152","انثى",null,null,{"$f":"IF(M155=\"\",\"\",IF(ISERROR(MATCH($M155,$I:$I,0)),S154,MAX($S$3:$S154)+1))","v":8},""]
[null,null,null,null,null,null,null,null,null,null,null,null,153,192,"محمود153","انثى",null,null,{"$f":"IF(M156=\"\",\"\",IF(ISERROR(MATCH($M156,$I:$I,0)),S155,MAX($S$3:$S155)+1))","v":8},""]
[null,null,null,null,null,null,null,null,null,null,null,null,154,193,"محمود154","انثى",null,null,{"$f":"IF(M157=\"\",\"\",IF(ISERROR(MATCH($M157,$I:$I,0)),S156,MAX($S$3:$S156)+1))","v":8},""]
[null,null,null,null,null,null,null,null,null,null,null,null,155,194,"محمود155","انثى",null,null,{"$f":"IF(M158=\"\",\"\",IF(ISERROR(MATCH($M158,$I:$I,0)),S157,MAX($S$3:$S157)+1))","v":8},""]
[null,null,null,null,null,null,null,null,null,null,null,null,156,195,"محمود156","انثى",null,null,{"$f":"IF(M159=\"\",\"\",IF(ISERROR(MATCH($M159,$I:$I,0)),S158,MAX($S$3:$S158)+1))","v":8},""]
[null,null,null,null,null,null,null,null,null,null,null,null,157,196,"محمود157","انثى",null,null,{"$f":"IF(M160=\"\",\"\",IF(ISERROR(MATCH($M160,$I:$I,0)),S159,MAX($S$3:$S159)+1))","v":8},""]
[null,null,null,null,null,null,null,null,null,null,null,null,158,197,"محمود158","انثى",null,null,{"$f":"IF(M161=\"\",\"\",IF(ISERROR(MATCH($M161,$I:$I,0)),S160,MAX($S$3:$S160)+1))","v":8},""]
[null,null,null,null,null,null,null,null,null,null,null,null,159,198,"محمود159","انثى",null,null,{"$f":"IF(M162=\"\",\"\",IF(ISERROR(MATCH($M162,$I:$I,0)),S161,MAX($S$3:$S161)+1))","v":8},""]
[null,null,null,null,null,null,null,null,null,null,null,null,160,199,"محمود160","انثى",null,null,{"$f":"IF(M163=\"\",\"\",IF(ISERROR(MATCH($M163,$I:$I,0)),S162,MAX($S$3:$S162)+1))","v":8},"نهاية اللجنة"]
[null,null,null,null,null,null,null,null,null,null,null,null,161,200,"محمود161","انثى",null,null,{"$f":"IF(M164=\"\",\"\",IF(ISERROR(MATCH($M164,$I:$I,0)),S163,MAX($S$3:$S163)+1))","v":9},""]
[null,null,null,null,null,null,null,null,null,null,null,null,162,201,"محمود162","انثى",null,null,{"$f":"IF(M165=\"\",\"\",IF(ISERROR(MATCH($M165,$I:$I,0)),S164,MAX($S$3:$S164)+1))","v":9},""]
[null,null,null,null,null,null,null,null,null,null,null,null,163,202,"محمود163","انثى",null,null,{"$f":"IF(M166=\"\",\"\",IF(ISERROR(MATCH($M166,$I:$I,0)),S165,MAX($S$3:$S165)+1))","v":9},""]
[null,null,null,null,null,null,null,null,null,null,null,null,164,203,"محمود164","انثى",null,null,{"$f":"IF(M167=\"\",\"\",IF(ISERROR(MATCH($M167,$I:$I,0)),S166,MAX($S$3:$S166)+1))","v":9},""]
[null,null,null,null,null,null,null,null,null,null,null,null,165,204,"محمود165","انثى",null,null,{"$f":"IF(M168=\"\",\"\",IF(ISERROR(MATCH($M168,$I:$I,0)),S167,MAX($S$3:$S167)+1))","v":9},""]
[null,null,null,null,null,null,null,null,null,null,null,null,166,205,"محمود166","انثى",null,null,{"$f":"IF(M169=\"\",\"\",IF(ISERROR(MATCH($M169,$I:$I,0)),S168,MAX($S$3:$S168)+1))","v":9},""]
[null,null,null,null,null,null,null,null,null,null,null,null,167,206,"محمود167","انثى",null,null,{"$f":"IF(M170=\"\",\"\",IF(ISERROR(MATCH($M170,$I:$I,0)),S169,MAX($S$3:$S169)+1))","v":9},""]
[null,null,null,null,null,null,null,null,null,null,null,null,168,207,"محمود168","انثى",null,null,{"$f":"IF(M171=\"\",\"\",IF(ISERROR(MATCH($M171,$I:$I,0)),S170,MAX($S$3:$S170)+1))","v":9},""]
[null,null,null,null,null,null,null,null,null,null,null,null,169,208,"محمود169","انثى",null,null,{"$f":"IF(M172=\"\",\"\",IF(ISERROR(MATCH($M172,$I:$I,0)),S171,MAX($S$3:$S171)+1))","v":9},""]
[null,null,null,null,null,null,null,null,null,null,null,null,170,209,"محمود170","انثى",null,null,{"$f":"IF(M173=\"\",\"\",IF(ISERROR(MATCH($M173,$I:$I,0)),S172,MAX($S$3:$S172)+1))","v":9},""]
[null,null,null,null,null,null,null,null,null,null,null,null,171,210,"محمود171","انثى",null,null,{"$f":"IF(M174=\"\",\"\",IF(ISERROR(MATCH($M174,$I:$I,0)),S173,MAX($S$3:$S173)+1))","v":9},""]
[null,null,null,null,null,null,null,null,null,null,null,null,172,211,"محمود172","انثى",null,null,{"$f":"IF(M175=\"\",\"\",IF(ISERROR(MATCH($M175,$I:$I,0)),S174,MAX($S$3:$S174)+1))","v":9},""]
[null,null,null,null,null,null,null,null,null,null,null,null,173,212,"محمود173","انثى",null,null,{"$f":"IF(M176=\"\",\"\",IF(ISERROR(MATCH($M176,$I:$I,0)),S175,MAX($S$3:$S175)+1))","v":9},""]
[null,null,null,null,null,null,null,null,null,null,null,null,174,213,"محمود174","انثى",null,null,{"$f":"IF(M177=\"\",\"\",IF(ISERROR(MATCH($M177,$I:$I,0)),S176,MAX($S$3:$S176)+1))","v":9},""]
[null,null,null,null,null,null,null,null,null,null,null,null,175,214,"محمود175","انثى",null,null,{"$f":"IF(M178=\"\",\"\",IF(ISERROR(MATCH($M178,$I:$I,0)),S177,MAX($S$3:$S177)+1))","v":9},""]
[null,null,null,null,null,null,null,null,null,null,null,null,176,215,"محمود176","انثى",null,null,{"$f":"IF(M179=\"\",\"\",IF(ISERROR(MATCH($M179,$I:$I,0)),S178,MAX($S$3:$S178)+1))","v":9},""]
[null,null,null,null,null,null,null,null,null,null,null,null,177,216,"محمود177","انثى",null,null,{"$f":"IF(M180=\"\",\"\",IF(ISERROR(MATCH($M180,$I:$I,0)),S179,MAX($S$3:$S179)+1))","v":9},""]
[null,null,null,null,null,null,null,null,null,null,null,null,178,217,"محمود178","انثى",null,null,{"$f":"IF(M181=\"\",\"\",IF(ISERROR(MATCH($M181,$I:$I,0)),S180,MAX($S$3:$S180)+1))","v":9},""]
[null,null,null,null,null,null,null,null,null,null,null,null,179,218,"محمود179","انثى",null,null,{"$f":"IF(M182=\"\",\"\",IF(ISERROR(MATCH($M182,$I:$I,0)),S181,MAX($S$3:$S181)+1))","v":9},""]
[null,null,null,null,null,null,null,null,null,null,null,null,180,219,"محمود180","انثى",null,null,{"$f":"IF(M183=\"\",\"\",IF(ISERROR(MATCH($M183,$I:$I,0)),S182,MAX($S$3:$S182)+1))","v":9},"نهاية اللجنة"]
[null,null,null,null,null,null,null,null,null,null,null,null,181,220,"محمود181","انثى",null,null,{"$f":"IF(M184=\"\",\"\",IF(ISERROR(MATCH($M184,$I:$I,0)),S183,MAX($S$3:$S183)+1))","v":10},""]
[null,null,null,null,null,null,null,null,null,null,null,null,182,221,"محمود182","انثى",null,null,{"$f":"IF(M185=\"\",\"\",IF(ISERROR(MATCH($M185,$I:$I,0)),S184,MAX($S$3:$S184)+1))","v":10},""]
[null,null,null,null,null,null,null,null,null,null,null,null,183,222,"محمود183","انثى",null,null,{"$f":"IF(M186=\"\",\"\",IF(ISERROR(MATCH($M186,$I:$I,0)),S185,MAX($S$3:$S185)+1))","v":10},""]
[null,null,null,null,null,null,null,null,null,null,null,null,184,223,"محمود184","انثى",null,null,{"$f":"IF(M187=\"\",\"\",IF(ISERROR(MATCH($M187,$I:$I,0)),S186,MAX($S$3:$S186)+1))","v":10},""]
[null,null,null,null,null,null,null,null,null,null,null,null,185,224,"محمود185","انثى",null,null,{"$f":"IF(M188=\"\",\"\",IF(ISERROR(MATCH($M188,$I:$I,0)),S187,MAX($S$3:$S187)+1))","v":10},""]
[null,null,null,null,null,null,null,null,null,null,null,null,186,225,"محمود186","انثى",null,null,{"$f":"IF(M189=\"\",\"\",IF(ISERROR(MATCH($M189,$I:$I,0)),S188,MAX($S$3:$S188)+1))","v":10},""]
[null,null,null,null,null,null,null,null,null,null,null,null,187,226,"محمود187","انثى",null,null,{"$f":"IF(M190=\"\",\"\",IF(ISERROR(MATCH($M190,$I:$I,0)),S189,MAX($S$3:$S189)+1))","v":10},""]
[null,null,null,null,null,null,null,null,null,null,null,null,188,227,"محمود188","انثى",null,null,{"$f":"IF(M191=\"\",\"\",IF(ISERROR(MATCH($M191,$I:$I,0)),S190,MAX($S$3:$S190)+1))","v":10},""]
[null,null,null,null,null,null,null,null,null,null,null,null,189,228,"محمود189","انثى",null,null,{"$f":"IF(M192=\"\",\"\",IF(ISERROR(MATCH($M192,$I:$I,0)),S191,MAX($S$3:$S191)+1))","v":10},""]
[null,null,null,null,null,null,null,null,null,null,null,null,190,229,"محمود190","انثى",null,null,{"$f":"IF(M193=\"\",\"\",IF(ISERROR(MATCH($M193,$I:$I,0)),S192,MAX($S$3:$S192)+1))","v":10},""]
[null,null,null,null,null,null,null,null,null,null,null,null,191,230,"محمود191","انثى",null,null,{"$f":"IF(M194=\"\",\"\",IF(ISERROR(MATCH($M194,$I:$I,0)),S193,MAX($S$3:$S193)+1))","v":10},""]
[null,null,null,null,null,null,null,null,null,null,null,null,192,231,"محمود192","انثى",null,null,{"$f":"IF(M195=\"\",\"\",IF(ISERROR(MATCH($M195,$I:$I,0)),S194,MAX($S$3:$S194)+1))","v":10},""]
[null,null,null,null,null,null,null,null,null,null,null,null,193,232,"محمود193","انثى",null,null,{"$f":"IF(M196=\"\",\"\",IF(ISERROR(MATCH($M196,$I:$I,0)),S195,MAX($S$3:$S195)+1))","v":10},""]
[null,null,null,null,null,null,null,null,null,null,null,null,{"$f":"(IF(O197=\"\",\"\",ROW()-3))","v":194},233,"محمود194",{"$f":"IF(O197=\"\",\"\",P194)","v":"انثى"},null,null,{"$f":"IF(M197=\"\",\"\",IF(ISERROR(MATCH($M197,$I:$I,0)),S196,MAX($S$3:$S196)+1))","v":10},{"$f":"IF(S197=S198,\"\",\"نهاية اللجنة\")","v":""}]
[null,null,null,null,null,null,null,null,null,null,null,null,195,{"$f":"IF(M198=\"\",\"\",N197+1)","v":234},"محمود195","انثى",null,null,{"$f":"IF(M198=\"\",\"\",IF(ISERROR(MATCH($M198,$I:$I,0)),S197,MAX($S$3:$S197)+1))","v":10},""]
[null,null,null,null,null,null,null,null,null,null,null,null,196,235,"محمود196","انثى",null,null,{"$f":"IF(M199=\"\",\"\",IF(ISERROR(MATCH($M199,$I:$I,0)),S198,MAX($S$3:$S198)+1))","v":10},""]
[null,null,null,null,null,null,null,null,null,null,null,null,197,236,"محمود197","انثى",null,null,{"$f":"IF(M200=\"\",\"\",IF(ISERROR(MATCH($M200,$I:$I,0)),S199,MAX($S$3:$S199)+1))","v":10},""]
[null,null,null,null,null,null,null,null,null,null,null,null,198,237,"محمود198","انثى",null,null,{"$f":"IF(M201=\"\",\"\",IF(ISERROR(MATCH($M201,$I:$I,0)),S200,MAX($S$3:$S200)+1))","v":10},""]
[null,null,null,null,null,null,null,null,null,null,null,null,199,238,"محمود199","انثى",null,null,{"$f":"IF(M202=\"\",\"\",IF(ISERROR(MATCH($M202,$I:$I,0)),S201,MAX($S$3:$S201)+1))","v":10},""]
[null,null,null,null,null,null,null,null,null,null,null,null,200,239,"محمود200","انثى",null,null,{"$f":"IF(M203=\"\",\"\",IF(ISERROR(MATCH($M203,$I:$I,0)),S202,MAX($S$3:$S202)+1))","v":10},"نهاية اللجنة"]
[null,null,null,null,null,null,null,null,null,null,null,null,201,240,"محمود201","انثى",null,null,{"$f":"IF(M204=\"\",\"\",IF(ISERROR(MATCH($M204,$I:$I,0)),S203,MAX($S$3:$S203)+1))","v":11},""]
[null,null,null,null,null,null,null,null,null,null,null,null,202,241,"محمود202","انثى",null,null,{"$f":"IF(M205=\"\",\"\",IF(ISERROR(MATCH($M205,$I:$I,0)),S204,MAX($S$3:$S204)+1))","v":11},""]
[null,null,null,null,null,null,null,null,null,null,null,null,203,242,"محمود203","انثى",null,null,{"$f":"IF(M206=\"\",\"\",IF(ISERROR(MATCH($M206,$I:$I,0)),S205,MAX($S$3:$S205)+1))","v":11},""]
[null,null,null,null,null,null,null,null,null,null,null,null,204,243,"محمود204","انثى",null,null,{"$f":"IF(M207=\"\",\"\",IF(ISERROR(MATCH($M207,$I:$I,0)),S206,MAX($S$3:$S206)+1))","v":11},""]
[null,null,null,null,null,null,null,null,null,null,null,null,205,244,"محمود205","انثى",null,null,{"$f":"IF(M208=\"\",\"\",IF(ISERROR(MATCH($M208,$I:$I,0)),S207,MAX($S$3:$S207)+1))","v":11},""]
[null,null,null,null,null,null,null,null,null,null,null,null,206,245,"محمود206","انثى",null,null,{"$f":"IF(M209=\"\",\"\",IF(ISERROR(MATCH($M209,$I:$I,0)),S208,MAX($S$3:$S208)+1))","v":11},""]
[null,null,null,null,null,null,null,null,null,null,null,null,207,246,"محمود207","انثى",null,null,{"$f":"IF(M210=\"\",\"\",IF(ISERROR(MATCH($M210,$I:$I,0)),S209,MAX($S$3:$S209)+1))","v":11},""]
[null,null,null,null,null,null,null,null,null,null,null,null,208,247,"محمود208","انثى",null,null,{"$f":"IF(M211=\"\",\"\",IF(ISERROR(MATCH($M211,$I:$I,0)),S210,MAX($S$3:$S210)+1))","v":11},""]
[null,null,null,null,null,null,null,null,null,null,null,null,209,248,"محمود209","انثى",null,null,{"$f":"IF(M212=\"\",\"\",IF(ISERROR(MATCH($M212,$I:$I,0)),S211,MAX($S$3:$S211)+1))","v":11},""]
[null,null,null,null,null,null,null,null,null,null,null,null,210,249,"محمود210","انثى",null,null,{"$f":"IF(M213=\"\",\"\",IF(ISERROR(MATCH($M213,$I:$I,0)),S212,MAX($S$3:$S212)+1))","v":11},""]
[null,null,null,null,null,null,null,null,null,null,null,null,211,250,"محمود211","انثى",null,null,{"$f":"IF(M214=\"\",\"\",IF(ISERROR(MATCH($M214,$I:$I,0)),S213,MAX($S$3:$S213)+1))","v":11},""]
[null,null,null,null,null,null,null,null,null,null,null,null,212,251,"محمود212","انثى",null,null,{"$f":"IF(M215=\"\",\"\",IF(ISERROR(MATCH($M215,$I:$I,0)),S214,MAX($S$3:$S214)+1))","v":11},""]
[null,null,null,null,null,null,null,null,null,null,null,null,213,252,"محمود213","انثى",null,null,{"$f":"IF(M216=\"\",\"\",IF(ISERROR(MATCH($M216,$I:$I,0)),S215,MAX($S$3:$S215)+1))","v":11},""]
[null,null,null,null,null,null,null,null,null,null,null,null,214,253,"محمود214","انثى",null,null,{"$f":"IF(M217=\"\",\"\",IF(ISERROR(MATCH($M217,$I:$I,0)),S216,MAX($S$3:$S216)+1))","v":11},""]
[null,null,null,null,null,null,null,null,null,null,null,null,215,254,"محمود215","انثى",null,null,{"$f":"IF(M218=\"\",\"\",IF(ISERROR(MATCH($M218,$I:$I,0)),S217,MAX($S$3:$S217)+1))","v":11},""]
[null,null,null,null,null,null,null,null,null,null,null,null,216,255,"محمود216","انثى",null,null,{"$f":"IF(M219=\"\",\"\",IF(ISERROR(MATCH($M219,$I:$I,0)),S218,MAX($S$3:$S218)+1))","v":11},""]
[null,null,null,null,null,null,null,null,null,null,null,null,217,256,"محمود217","انثى",null,null,{"$f":"IF(M220=\"\",\"\",IF(ISERROR(MATCH($M220,$I:$I,0)),S219,MAX($S$3:$S219)+1))","v":11},""]
[null,null,null,null,null,null,null,null,null,null,null,null,218,257,"محمود218","انثى",null,null,{"$f":"IF(M221=\"\",\"\",IF(ISERROR(MATCH($M221,$I:$I,0)),S220,MAX($S$3:$S220)+1))","v":11},""]
[null,null,null,null,null,null,null,null,null,null,null,null,219,258,"محمود219","انثى",null,null,{"$f":"IF(M222=\"\",\"\",IF(ISERROR(MATCH($M222,$I:$I,0)),S221,MAX($S$3:$S221)+1))","v":11},""]
[null,null,null,null,null,null,null,null,null,null,null,null,220,259,"محمود220","انثى",null,null,{"$f":"IF(M223=\"\",\"\",IF(ISERROR(MATCH($M223,$I:$I,0)),S222,MAX($S$3:$S222)+1))","v":11},"نهاية اللجنة"]
[null,null,null,null,null,null,null,null,null,null,null,null,221,260,"محمود221","انثى",null,null,{"$f":"IF(M224=\"\",\"\",IF(ISERROR(MATCH($M224,$I:$I,0)),S223,MAX($S$3:$S223)+1))","v":12},""]
[null,null,null,null,null,null,null,null,null,null,null,null,222,261,"محمود222","انثى",null,null,{"$f":"IF(M225=\"\",\"\",IF(ISERROR(MATCH($M225,$I:$I,0)),S224,MAX($S$3:$S224)+1))","v":12},""]
[null,null,null,null,null,null,null,null,null,null,null,null,223,262,"محمود223","انثى",null,null,{"$f":"IF(M226=\"\",\"\",IF(ISERROR(MATCH($M226,$I:$I,0)),S225,MAX($S$3:$S225)+1))","v":12},""]
[null,null,null,null,null,null,null,null,null,null,null,null,224,263,"محمود224","انثى",null,null,{"$f":"IF(M227=\"\",\"\",IF(ISERROR(MATCH($M227,$I:$I,0)),S226,MAX($S$3:$S226)+1))","v":12},""]
[null,null,null,null,null,null,null,null,null,null,null,null,225,264,"محمود225","انثى",null,null,{"$f":"IF(M228=\"\",\"\",IF(ISERROR(MATCH($M228,$I:$I,0)),S227,MAX($S$3:$S227)+1))","v":12},""]
[null,null,null,null,null,null,null,null,null,null,null,null,226,265,"محمود226","انثى",null,null,{"$f":"IF(M229=\"\",\"\",IF(ISERROR(MATCH($M229,$I:$I,0)),S228,MAX($S$3:$S228)+1))","v":12},""]
[null,null,null,null,null,null,null,null,null,null,null,null,227,266,"محمود227","انثى",null,null,{"$f":"IF(M230=\"\",\"\",IF(ISERROR(MATCH($M230,$I:$I,0)),S229,MAX($S$3:$S229)+1))","v":12},""]
[null,null,null,null,null,null,null,null,null,null,null,null,228,267,"محمود228","انثى",null,null,{"$f":"IF(M231=\"\",\"\",IF(ISERROR(MATCH($M231,$I:$I,0)),S230,MAX($S$3:$S230)+1))","v":12},""]
[null,null,null,null,null,null,null,null,null,null,null,null,229,268,"محمود229","انثى",null,null,{"$f":"IF(M232=\"\",\"\",IF(ISERROR(MATCH($M232,$I:$I,0)),S231,MAX($S$3:$S231)+1))","v":12},""]
[null,null,null,null,null,null,null,null,null,null,null,null,230,269,"محمود230","انثى",null,null,{"$f":"IF(M233=\"\",\"\",IF(ISERROR(MATCH($M233,$I:$I,0)),S232,MAX($S$3:$S232)+1))","v":12},""]
[null,null,null,null,null,null,null,null,null,null,null,null,231,270,"محمود231","انثى",null,null,{"$f":"IF(M234=\"\",\"\",IF(ISERROR(MATCH($M234,$I:$I,0)),S233,MAX($S$3:$S233)+1))","v":12},""]
[null,null,null,null,null,null,null,null,null,null,null,null,232,271,"محمود232","انثى",null,null,{"$f":"IF(M235=\"\",\"\",IF(ISERROR(MATCH($M235,$I:$I,0)),S234,MAX($S$3:$S234)+1))","v":12},""]
[null,null,null,null,null,null,null,null,null,null,null,null,233,272,"محمود233","انثى",null,null,{"$f":"IF(M236=\"\",\"\",IF(ISERROR(MATCH($M236,$I:$I,0)),S235,MAX($S$3:$S235)+1))","v":12},""]
[null,null,null,null,null,null,null,null,null,null,null,null,234,273,"محمود234","انثى",null,null,{"$f":"IF(M237=\"\",\"\",IF(ISERROR(MATCH($M237,$I:$I,0)),S236,MAX($S$3:$S236)+1))","v":12},""]
[null,null,null,null,null,null,null,null,null,null,null,null,235,274,"محمود235","انثى",null,null,{"$f":"IF(M238=\"\",\"\",IF(ISERROR(MATCH($M238,$I:$I,0)),S237,MAX($S$3:$S237)+1))","v":12},""]
[null,null,null,null,null,null,null,null,null,null,null,null,236,275,"محمود236","انثى",null,null,{"$f":"IF(M239=\"\",\"\",IF(ISERROR(MATCH($M239,$I:$I,0)),S238,MAX($S$3:$S238)+1))","v":12},""]
[null,null,null,null,null,null,null,null,null,null,null,null,237,276,"محمود237","انثى",null,null,{"$f":"IF(M240=\"\",\"\",IF(ISERROR(MATCH($M240,$I:$I,0)),S239,MAX($S$3:$S239)+1))","v":12},""]
[null,null,null,null,null,null,null,null,null,null,null,null,238,277,"محمود238","انثى",null,null,{"$f":"IF(M241=\"\",\"\",IF(ISERROR(MATCH($M241,$I:$I,0)),S240,MAX($S$3:$S240)+1))","v":12},""]
[null,null,null,null,null,null,null,null,null,null,null,null,239,278,"محمود239","انثى",null,null,{"$f":"IF(M242=\"\",\"\",IF(ISERROR(MATCH($M242,$I:$I,0)),S241,MAX($S$3:$S241)+1))","v":12},""]
[null,null,null,null,null,null,null,null,null,null,null,null,240,279,"محمود240","انثى",null,null,{"$f":"IF(M243=\"\",\"\",IF(ISERROR(MATCH($M243,$I:$I,0)),S242,MAX($S$3:$S242)+1))","v":12},"نهاية اللجنة"]
[null,null,null,null,null,null,null,null,null,null,null,null,241,280,"محمود241","انثى",null,null,{"$f":"IF(M244=\"\",\"\",IF(ISERROR(MATCH($M244,$I:$I,0)),S243,MAX($S$3:$S243)+1))","v":13},""]
[null,null,null,null,null,null,null,null,null,null,null,null,242,281,"محمود242","انثى",null,null,{"$f":"IF(M245=\"\",\"\",IF(ISERROR(MATCH($M245,$I:$I,0)),S244,MAX($S$3:$S244)+1))","v":13},""]
[null,null,null,null,null,null,null,null,null,null,null,null,243,282,"محمود243","انثى",null,null,{"$f":"IF(M246=\"\",\"\",IF(ISERROR(MATCH($M246,$I:$I,0)),S245,MAX($S$3:$S245)+1))","v":13},""]
[null,null,null,null,null,null,null,null,null,null,null,null,244,283,"محمود244","انثى",null,null,{"$f":"IF(M247=\"\",\"\",IF(ISERROR(MATCH($M247,$I:$I,0)),S246,MAX($S$3:$S246)+1))","v":13},""]
[null,null,null,null,null,null,null,null,null,null,null,null,245,284,"محمود245","انثى",null,null,{"$f":"IF(M248=\"\",\"\",IF(ISERROR(MATCH($M248,$I:$I,0)),S247,MAX($S$3:$S247)+1))","v":13},""]
[null,null,null,null,null,null,null,null,null,null,null,null,246,285,"محمود246","انثى",null,null,{"$f":"IF(M249=\"\",\"\",IF(ISERROR(MATCH($M249,$I:$I,0)),S248,MAX($S$3:$S248)+1))","v":13},""]
[null,null,null,null,null,null,null,null,null,null,null,null,247,286,"محمود247","انثى",null,null,{"$f":"IF(M250=\"\",\"\",IF(ISERROR(MATCH($M250,$I:$I,0)),S249,MAX($S$3:$S249)+1))","v":13},""]
[null,null,null,null,null,null,null,null,null,null,null,null,248,287,"محمود248","انثى",null,null,{"$f":"IF(M251=\"\",\"\",IF(ISERROR(MATCH($M251,$I:$I,0)),S250,MAX($S$3:$S250)+1))","v":13},""]
[null,null,null,null,null,null,null,null,null,null,null,null,249,288,"محمود249","انثى",null,null,{"$f":"IF(M252=\"\",\"\",IF(ISERROR(MATCH($M252,$I:$I,0)),S251,MAX($S$3:$S251)+1))","v":13},""]
[null,null,null,null,null,null,null,null,null,null,null,null,250,289,"محمود250","انثى",null,null,{"$f":"IF(M253=\"\",\"\",IF(ISERROR(MATCH($M253,$I:$I,0)),S252,MAX($S$3:$S252)+1))","v":13},""]
[null,null,null,null,null,null,null,null,null,null,null,null,251,290,"محمود251","انثى",null,null,{"$f":"IF(M254=\"\",\"\",IF(ISERROR(MATCH($M254,$I:$I,0)),S253,MAX($S$3:$S253)+1))","v":13},""]
[null,null,null,null,null,null,null,null,null,null,null,null,252,291,"محمود252","انثى",null,null,{"$f":"IF(M255=\"\",\"\",IF(ISERROR(MATCH($M255,$I:$I,0)),S254,MAX($S$3:$S254)+1))","v":13},""]
[null,null,null,null,null,null,null,null,null,null,null,null,253,292,"محمود253","انثى",null,null,{"$f":"IF(M256=\"\",\"\",IF(ISERROR(MATCH($M256,$I:$I,0)),S255,MAX($S$3:$S255)+1))","v":13},""]
[null,null,null,null,null,null,null,null,null,null,null,null,254,293,"محمود254","انثى",null,null,{"$f":"IF(M257=\"\",\"\",IF(ISERROR(MATCH($M257,$I:$I,0)),S256,MAX($S$3:$S256)+1))","v":13},""]
[null,null,null,null,null,null,null,null,null,null,null,null,255,294,"محمود255","انثى",null,null,{"$f":"IF(M258=\"\",\"\",IF(ISERROR(MATCH($M258,$I:$I,0)),S257,MAX($S$3:$S257)+1))","v":13},""]
[null,null,null,null,null,null,null,null,null,null,null,null,256,295,"محمود256","انثى",null,null,{"$f":"IF(M259=\"\",\"\",IF(ISERROR(MATCH($M259,$I:$I,0)),S258,MAX($S$3:$S258)+1))","v":13},""]
[null,null,null,null,null,null,null,null,null,null,null,null,257,296,"محمود257","انثى",null,null,{"$f":"IF(M260=\"\",\"\",IF(ISERROR(MATCH($M260,$I:$I,0)),S259,MAX($S$3:$S259)+1))","v":13},""]
[null,null,null,null,null,null,null,null,null,null,null,null,{"$f":"(IF(O261=\"\",\"\",ROW()-3))","v":258},297,"محمود258",{"$f":"IF(O261=\"\",\"\",P258)","v":"انثى"},null,null,{"$f":"IF(M261=\"\",\"\",IF(ISERROR(MATCH($M261,$I:$I,0)),S260,MAX($S$3:$S260)+1))","v":13},{"$f":"IF(S261=S262,\"\",\"نهاية اللجنة\")","v":""}]
[null,null,null,null,null,null,null,null,null,null,null,null,259,{"$f":"IF(M262=\"\",\"\",N261+1)","v":298},"محمود259","انثى",null,null,{"$f":"IF(M262=\"\",\"\",IF(ISERROR(MATCH($M262,$I:$I,0)),S261,MAX($S$3:$S261)+1))","v":13},""]
[null,null,null,null,null,null,null,null,null,null,null,null,260,299,"محمود260","انثى",null,null,{"$f":"IF(M263=\"\",\"\",IF(ISERROR(MATCH($M263,$I:$I,0)),S262,MAX($S$3:$S262)+1))","v":13},"نهاية اللجنة"]
[null,null,null,null,null,null,null,null,null,null,null,null,261,300,"محمود261","انثى",null,null,{"$f":"IF(M264=\"\",\"\",IF(ISERROR(MATCH($M264,$I:$I,0)),S263,MAX($S$3:$S263)+1))","v":14},""]
[null,null,null,null,null,null,null,null,null,null,null,null,262,301,"محمود262","انثى",null,null,{"$f":"IF(M265=\"\",\"\",IF(ISERROR(MATCH($M265,$I:$I,0)),S264,MAX($S$3:$S264)+1))","v":14},""]
[null,null,null,null,null,null,null,null,null,null,null,null,263,302,"محمود263","انثى",null,null,{"$f":"IF(M266=\"\",\"\",IF(ISERROR(MATCH($M266,$I:$I,0)),S265,MAX($S$3:$S265)+1))","v":14},""]
[null,null,null,null,null,null,null,null,null,null,null,null,264,303,"محمود264","انثى",null,null,{"$f":"IF(M267=\"\",\"\",IF(ISERROR(MATCH($M267,$I:$I,0)),S266,MAX($S$3:$S266)+1))","v":14},""]
[null,null,null,null,null,null,null,null,null,null,null,null,265,304,"محمود265","انثى",null,null,{"$f":"IF(M268=\"\",\"\",IF(ISERROR(MATCH($M268,$I:$I,0)),S267,MAX($S$3:$S267)+1))","v":14},""]
[null,null,null,null,null,null,null,null,null,null,null,null,266,305,"محمود266","انثى",null,null,{"$f":"IF(M269=\"\",\"\",IF(ISERROR(MATCH($M269,$I:$I,0)),S268,MAX($S$3:$S268)+1))","v":14},""]
[null,null,null,null,null,null,null,null,null,null,null,null,267,306,"محمود267","انثى",null,null,{"$f":"IF(M270=\"\",\"\",IF(ISERROR(MATCH($M270,$I:$I,0)),S269,MAX($S$3:$S269)+1))","v":14},""]
[null,null,null,null,null,null,null,null,null,null,null,null,268,307,"محمود268","انثى",null,null,{"$f":"IF(M271=\"\",\"\",IF(ISERROR(MATCH($M271,$I:$I,0)),S270,MAX($S$3:$S270)+1))","v":14},""]
[null,null,null,null,null,null,null,null,null,null,null,null,269,308,"محمود269","انثى",null,null,{"$f":"IF(M272=\"\",\"\",IF(ISERROR(MATCH($M272,$I:$I,0)),S271,MAX($S$3:$S271)+1))","v":14},""]
[null,null,null,null,null,null,null,null,null,null,null,null,270,309,"محمود270","انثى",null,null,{"$f":"IF(M273=\"\",\"\",IF(ISERROR(MATCH($M273,$I:$I,0)),S272,MAX($S$3:$S272)+1))","v":14},""]
[null,null,null,null,null,null,null,null,null,null,null,null,271,310,"محمود271","انثى",null,null,{"$f":"IF(M274=\"\",\"\",IF(ISERROR(MATCH($M274,$I:$I,0)),S273,MAX($S$3:$S273)+1))","v":14},""]
[null,null,null,null,null,null,null,null,null,null,null,null,272,311,"محمود272","انثى",null,null,{"$f":"IF(M275=\"\",\"\",IF(ISERROR(MATCH($M275,$I:$I,0)),S274,MAX($S$3:$S274)+1))","v":14},""]
[null,null,null,null,null,null,null,null,null,null,null,null,273,312,"محمود273","انثى",null,null,{"$f":"IF(M276=\"\",\"\",IF(ISERROR(MATCH($M276,$I:$I,0)),S275,MAX($S$3:$S275)+1))","v":14},""]
[null,null,null,null,null,null,null,null,null,null,null,null,274,313,"محمود274","انثى",null,null,{"$f":"IF(M277=\"\",\"\",IF(ISERROR(MATCH($M277,$I:$I,0)),S276,MAX($S$3:$S276)+1))","v":14},""]
[null,null,null,null,null,null,null,null,null,null,null,null,275,314,"محمود275","انثى",null,null,{"$f":"IF(M278=\"\",\"\",IF(ISERROR(MATCH($M278,$I:$I,0)),S277,MAX($S$3:$S277)+1))","v":14},""]
[null,null,null,null,null,null,null,null,null,null,null,null,276,315,"محمود276","انثى",null,null,{"$f":"IF(M279=\"\",\"\",IF(ISERROR(MATCH($M279,$I:$I,0)),S278,MAX($S$3:$S278)+1))","v":14},""]
[null,null,null,null,null,null,null,null,null,null,null,null,277,316,"محمود277","انثى",null,null,{"$f":"IF(M280=\"\",\"\",IF(ISERROR(MATCH($M280,$I:$I,0)),S279,MAX($S$3:$S279)+1))","v":14},""]
[null,null,null,null,null,null,null,null,null,null,null,null,278,317,"محمود278","انثى",null,null,{"$f":"IF(M281=\"\",\"\",IF(ISERROR(MATCH($M281,$I:$I,0)),S280,MAX($S$3:$S280)+1))","v":14},""]
[null,null,null,null,null,null,null,null,null,null,null,null,279,318,"محمود279","انثى",null,null,{"$f":"IF(M282=\"\",\"\",IF(ISERROR(MATCH($M282,$I:$I,0)),S281,MAX($S$3:$S281)+1))","v":14},""]
[null,null,null,null,null,null,null,null,null,null,null,null,280,319,"محمود280","انثى",null,null,{"$f":"IF(M283=\"\",\"\",IF(ISERROR(MATCH($M283,$I:$I,0)),S282,MAX($S$3:$S282)+1))","v":14},"نهاية اللجنة"]
[null,null,null,null,null,null,null,null,null,null,null,null,281,320,"محمود281","انثى",null,null,{"$f":"IF(M284=\"\",\"\",IF(ISERROR(MATCH($M284,$I:$I,0)),S283,MAX($S$3:$S283)+1))","v":15},""]
[null,null,null,null,null,null,null,null,null,null,null,null,282,321,"محمود282","انثى",null,null,{"$f":"IF(M285=\"\",\"\",IF(ISERROR(MATCH($M285,$I:$I,0)),S284,MAX($S$3:$S284)+1))","v":15},""]
[null,null,null,null,null,null,null,null,null,null,null,null,283,322,"محمود283","انثى",null,null,{"$f":"IF(M286=\"\",\"\",IF(ISERROR(MATCH($M286,$I:$I,0)),S285,MAX($S$3:$S285)+1))","v":15},""]
[null,null,null,null,null,null,null,null,null,null,null,null,284,323,"محمود284","انثى",null,null,{"$f":"IF(M287=\"\",\"\",IF(ISERROR(MATCH($M287,$I:$I,0)),S286,MAX($S$3:$S286)+1))","v":15},""]
[null,null,null,null,null,null,null,null,null,null,null,null,285,324,"محمود285","انثى",null,null,{"$f":"IF(M288=\"\",\"\",IF(ISERROR(MATCH($M288,$I:$I,0)),S287,MAX($S$3:$S287)+1))","v":15},""]
[null,null,null,null,null,null,null,null,null,null,null,null,286,325,"محمود286","انثى",null,null,{"$f":"IF(M289=\"\",\"\",IF(ISERROR(MATCH($M289,$I:$I,0)),S288,MAX($S$3:$S288)+1))","v":15},""]
[null,null,null,null,null,null,null,null,null,null,null,null,287,326,"محمود287","انثى",null,null,{"$f":"IF(M290=\"\",\"\",IF(ISERROR(MATCH($M290,$I:$I,0)),S289,MAX($S$3:$S289)+1))","v":15},""]
[null,null,null,null,null,null,null,null,null,null,null,null,288,327,"محمود288","انثى",null,null,{"$f":"IF(M291=\"\",\"\",IF(ISERROR(MATCH($M291,$I:$I,0)),S290,MAX($S$3:$S290)+1))","v":15},""]
[null,null,null,null,null,null,null,null,null,null,null,null,289,328,"محمود289","انثى",null,null,{"$f":"IF(M292=\"\",\"\",IF(ISERROR(MATCH($M292,$I:$I,0)),S291,MAX($S$3:$S291)+1))","v":15},""]
[null,null,null,null,null,null,null,null,null,null,null,null,290,329,"محمود290","انثى",null,null,{"$f":"IF(M293=\"\",\"\",IF(ISERROR(MATCH($M293,$I:$I,0)),S292,MAX($S$3:$S292)+1))","v":15},""]
[null,null,null,null,null,null,null,null,null,null,null,null,291,330,"محمود291","انثى",null,null,{"$f":"IF(M294=\"\",\"\",IF(ISERROR(MATCH($M294,$I:$I,0)),S293,MAX($S$3:$S293)+1))","v":15},""]
[null,null,null,null,null,null,null,null,null,null,null,null,292,331,"محمود292","انثى",null,null,{"$f":"IF(M295=\"\",\"\",IF(ISERROR(MATCH($M295,$I:$I,0)),S294,MAX($S$3:$S294)+1))","v":15},""]
[null,null,null,null,null,null,null,null,null,null,null,null,293,332,"محمود293","انثى",null,null,{"$f":"IF(M296=\"\",\"\",IF(ISERROR(MATCH($M296,$I:$I,0)),S295,MAX($S$3:$S295)+1))","v":15},""]
[null,null,null,null,null,null,null,null,null,null,null,null,294,333,"محمود294","انثى",null,null,{"$f":"IF(M297=\"\",\"\",IF(ISERROR(MATCH($M297,$I:$I,0)),S296,MAX($S$3:$S296)+1))","v":15},""]
[null,null,null,null,null,null,null,null,null,null,null,null,295,334,"محمود295","انثى",null,null,{"$f":"IF(M298=\"\",\"\",IF(ISERROR(MATCH($M298,$I:$I,0)),S297,MAX($S$3:$S297)+1))","v":15},""]
[null,null,null,null,null,null,null,null,null,null,null,null,296,335,"محمود296","انثى",null,null,{"$f":"IF(M299=\"\",\"\",IF(ISERROR(MATCH($M299,$I:$I,0)),S298,MAX($S$3:$S298)+1))","v":15},""]
[null,null,null,null,null,null,null,null,null,null,null,null,297,336,"محمود297","انثى",null,null,{"$f":"IF(M300=\"\",\"\",IF(ISERROR(MATCH($M300,$I:$I,0)),S299,MAX($S$3:$S299)+1))","v":15},""]
[null,null,null,null,null,null,null,null,null,null,null,null,298,337,"محمود298","انثى",null,null,{"$f":"IF(M301=\"\",\"\",IF(ISERROR(MATCH($M301,$I:$I,0)),S300,MAX($S$3:$S300)+1))","v":15},""]
[null,null,null,null,null,null,null,null,null,null,null,null,299,338,"محمود299","انثى",null,null,{"$f":"IF(M302=\"\",\"\",IF(ISERROR(MATCH($M302,$I:$I,0)),S301,MAX($S$3:$S301)+1))","v":15},""]
[null,null,null,null,null,null,null,null,null,null,null,null,300,339,"محمود300","انثى",null,null,{"$f":"IF(M303=\"\",\"\",IF(ISERROR(MATCH($M303,$I:$I,0)),S302,MAX($S$3:$S302)+1))","v":15},"نهاية اللجنة"]
[null,null,null,null,null,null,null,null,null,null,null,null,301,340,"محمود301","انثى",null,null,{"$f":"IF(M304=\"\",\"\",IF(ISERROR(MATCH($M304,$I:$I,0)),S303,MAX($S$3:$S303)+1))","v":16},""]
[null,null,null,null,null,null,null,null,null,null,null,null,302,341,"محمود302","انثى",null,null,{"$f":"IF(M305=\"\",\"\",IF(ISERROR(MATCH($M305,$I:$I,0)),S304,MAX($S$3:$S304)+1))","v":16},""]
[null,null,null,null,null,null,null,null,null,null,null,null,303,342,"محمود303","انثى",null,null,{"$f":"IF(M306=\"\",\"\",IF(ISERROR(MATCH($M306,$I:$I,0)),S305,MAX($S$3:$S305)+1))","v":16},""]
[null,null,null,null,null,null,null,null,null,null,null,null,304,343,"محمود304","انثى",null,null,{"$f":"IF(M307=\"\",\"\",IF(ISERROR(MATCH($M307,$I:$I,0)),S306,MAX($S$3:$S306)+1))","v":16},""]
[null,null,null,null,null,null,null,null,null,null,null,null,305,344,"محمود305","انثى",null,null,{"$f":"IF(M308=\"\",\"\",IF(ISERROR(MATCH($M308,$I:$I,0)),S307,MAX($S$3:$S307)+1))","v":16},""]
[null,null,null,null,null,null,null,null,null,null,null,null,306,345,"محمود306","انثى",null,null,{"$f":"IF(M309=\"\",\"\",IF(ISERROR(MATCH($M309,$I:$I,0)),S308,MAX($S$3:$S308)+1))","v":16},""]
[null,null,null,null,null,null,null,null,null,null,null,null,307,346,"محمود307","انثى",null,null,{"$f":"IF(M310=\"\",\"\",IF(ISERROR(MATCH($M310,$I:$I,0)),S309,MAX($S$3:$S309)+1))","v":16},""]
[null,null,null,null,null,null,null,null,null,null,null,null,308,347,"محمود308","انثى",null,null,{"$f":"IF(M311=\"\",\"\",IF(ISERROR(MATCH($M311,$I:$I,0)),S310,MAX($S$3:$S310)+1))","v":16},""]
[null,null,null,null,null,null,null,null,null,null,null,null,309,348,"محمود309","انثى",null,null,{"$f":"IF(M312=\"\",\"\",IF(ISERROR(MATCH($M312,$I:$I,0)),S311,MAX($S$3:$S311)+1))","v":16},""]
[null,null,null,null,null,null,null,null,null,null,null,null,310,349,"محمود310","انثى",null,null,{"$f":"IF(M313=\"\",\"\",IF(ISERROR(MATCH($M313,$I:$I,0)),S312,MAX($S$3:$S312)+1))","v":16},""]
[null,null,null,null,null,null,null,null,null,null,null,null,311,350,"محمود311","انثى",null,null,{"$f":"IF(M314=\"\",\"\",IF(ISERROR(MATCH($M314,$I:$I,0)),S313,MAX($S$3:$S313)+1))","v":16},""]
[null,null,null,null,null,null,null,null,null,null,null,null,312,351,"محمود312","انثى",null,null,{"$f":"IF(M315=\"\",\"\",IF(ISERROR(MATCH($M315,$I:$I,0)),S314,MAX($S$3:$S314)+1))","v":16},""]
[null,null,null,null,null,null,null,null,null,null,null,null,313,352,"محمود313","انثى",null,null,{"$f":"IF(M316=\"\",\"\",IF(ISERROR(MATCH($M316,$I:$I,0)),S315,MAX($S$3:$S315)+1))","v":16},""]
[null,null,null,null,null,null,null,null,null,null,null,null,314,353,"محمود314","انثى",null,null,{"$f":"IF(M317=\"\",\"\",IF(ISERROR(MATCH($M317,$I:$I,0)),S316,MAX($S$3:$S316)+1))","v":16},""]
[null,null,null,null,null,null,null,null,null,null,null,null,315,354,"محمود315","انثى",null,null,{"$f":"IF(M318=\"\",\"\",IF(ISERROR(MATCH($M318,$I:$I,0)),S317,MAX($S$3:$S317)+1))","v":16},""]
[null,null,null,null,null,null,null,null,null,null,null,null,316,355,"محمود316","انثى",null,null,{"$f":"IF(M319=\"\",\"\",IF(ISERROR(MATCH($M319,$I:$I,0)),S318,MAX($S$3:$S318)+1))","v":16},""]
[null,null,null,null,null,null,null,null,null,null,null,null,317,356,"محمود317","انثى",null,null,{"$f":"IF(M320=\"\",\"\",IF(ISERROR(MATCH($M320,$I:$I,0)),S319,MAX($S$3:$S319)+1))","v":16},""]
[null,null,null,null,null,null,null,null,null,null,null,null,318,357,"محمود318","انثى",null,null,{"$f":"IF(M321=\"\",\"\",IF(ISERROR(MATCH($M321,$I:$I,0)),S320,MAX($S$3:$S320)+1))","v":16},""]
[null,null,null,null,null,null,null,null,null,null,null,null,319,358,"محمود319","انثى",null,null,{"$f":"IF(M322=\"\",\"\",IF(ISERROR(MATCH($M322,$I:$I,0)),S321,MAX($S$3:$S321)+1))","v":16},""]
[null,null,null,null,null,null,null,null,null,null,null,null,320,359,"محمود320","انثى",null,null,{"$f":"IF(M323=\"\",\"\",IF(ISERROR(MATCH($M323,$I:$I,0)),S322,MAX($S$3:$S322)+1))","v":16},"نهاية اللجنة"]
[null,null,null,null,null,null,null,null,null,null,null,null,321,360,"محمود321","انثى",null,null,{"$f":"IF(M324=\"\",\"\",IF(ISERROR(MATCH($M324,$I:$I,0)),S323,MAX($S$3:$S323)+1))","v":17},""]
[null,null,null,null,null,null,null,null,null,null,null,null,{"$f":"(IF(O325=\"\",\"\",ROW()-3))","v":322},361,"محمود322",{"$f":"IF(O325=\"\",\"\",P322)","v":"انثى"},null,null,{"$f":"IF(M325=\"\",\"\",IF(ISERROR(MATCH($M325,$I:$I,0)),S324,MAX($S$3:$S324)+1))","v":17},{"$f":"IF(S325=S326,\"\",\"نهاية اللجنة\")","v":""}]
[null,null,null,null,null,null,null,null,null,null,null,null,323,{"$f":"IF(M326=\"\",\"\",N325+1)","v":362},"محمود323","انثى",null,null,{"$f":"IF(M326=\"\",\"\",IF(ISERROR(MATCH($M326,$I:$I,0)),S325,MAX($S$3:$S325)+1))","v":17},""]
[null,null,null,null,null,null,null,null,null,null,null,null,324,363,"محمود324","انثى",null,null,{"$f":"IF(M327=\"\",\"\",IF(ISERROR(MATCH($M327,$I:$I,0)),S326,MAX($S$3:$S326)+1))","v":17},""]
[null,null,null,null,null,null,null,null,null,null,null,null,325,364,"محمود325","انثى",null,null,{"$f":"IF(M328=\"\",\"\",IF(ISERROR(MATCH($M328,$I:$I,0)),S327,MAX($S$3:$S327)+1))","v":17},""]
[null,null,null,null,null,null,null,null,null,null,null,null,326,365,"محمود326","انثى",null,null,{"$f":"IF(M329=\"\",\"\",IF(ISERROR(MATCH($M329,$I:$I,0)),S328,MAX($S$3:$S328)+1))","v":17},""]
[null,null,null,null,null,null,null,null,null,null,null,null,327,366,"محمود327","انثى",null,null,{"$f":"IF(M330=\"\",\"\",IF(ISERROR(MATCH($M330,$I:$I,0)),S329,MAX($S$3:$S329)+1))","v":17},""]
[null,null,null,null,null,null,null,null,null,null,null,null,328,367,"محمود328","انثى",null,null,{"$f":"IF(M331=\"\",\"\",IF(ISERROR(MATCH($M331,$I:$I,0)),S330,MAX($S$3:$S330)+1))","v":17},""]
[null,null,null,null,null,null,null,null,null,null,null,null,329,368,"محمود329","انثى",null,null,{"$f":"IF(M332=\"\",\"\",IF(ISERROR(MATCH($M332,$I:$I,0)),S331,MAX($S$3:$S331)+1))","v":17},""]
[null,null,null,null,null,null,null,null,null,null,null,null,330,369,"محمود330","انثى",null,null,{"$f":"IF(M333=\"\",\"\",IF(ISERROR(MATCH($M333,$I:$I,0)),S332,MAX($S$3:$S332)+1))","v":17},""]
[null,null,null,null,null,null,null,null,null,null,null,null,331,370,"محمود331","انثى",null,null,{"$f":"IF(M334=\"\",\"\",IF(ISERROR(MATCH($M334,$I:$I,0)),S333,MAX($S$3:$S333)+1))","v":17},""]
[null,null,null,null,null,null,null,null,null,null,null,null,332,371,"محمود332","انثى",null,null,{"$f":"IF(M335=\"\",\"\",IF(ISERROR(MATCH($M335,$I:$I,0)),S334,MAX($S$3:$S334)+1))","v":17},""]
[null,null,null,null,null,null,null,null,null,null,null,null,333,372,"محمود333","انثى",null,null,{"$f":"IF(M336=\"\",\"\",IF(ISERROR(MATCH($M336,$I:$I,0)),S335,MAX($S$3:$S335)+1))","v":17},""]
[null,null,null,null,null,null,null,null,null,null,null,null,334,373,"محمود334","انثى",null,null,{"$f":"IF(M337=\"\",\"\",IF(ISERROR(MATCH($M337,$I:$I,0)),S336,MAX($S$3:$S336)+1))","v":17},""]
[null,null,null,null,null,null,null,null,null,null,null,null,335,374,"محمود335","انثى",null,null,{"$f":"IF(M338=\"\",\"\",IF(ISERROR(MATCH($M338,$I:$I,0)),S337,MAX($S$3:$S337)+1))","v":17},""]
[null,null,null,null,null,null,null,null,null,null,null,null,336,375,"محمود336","انثى",null,null,{"$f":"IF(M339=\"\",\"\",IF(ISERROR(MATCH($M339,$I:$I,0)),S338,MAX($S$3:$S338)+1))","v":17},""]
[null,null,null,null,null,null,null,null,null,null,null,null,337,376,"محمود337","انثى",null,null,{"$f":"IF(M340=\"\",\"\",IF(ISERROR(MATCH($M340,$I:$I,0)),S339,MAX($S$3:$S339)+1))","v":17},""]
[null,null,null,null,null,null,null,null,null,null,null,null,338,377,"محمود338","انثى",null,null,{"$f":"IF(M341=\"\",\"\",IF(ISERROR(MATCH($M341,$I:$I,0)),S340,MAX($S$3:$S340)+1))","v":17},""]
[null,null,null,null,null,null,null,null,null,null,null,null,339,378,"محمود339","انثى",null,null,{"$f":"IF(M342=\"\",\"\",IF(ISERROR(MATCH($M342,$I:$I,0)),S341,MAX($S$3:$S341)+1))","v":17},""]
[null,null,null,null,null,null,null,null,null,null,null,null,340,379,"محمود340","انثى",null,null,{"$f":"IF(M343=\"\",\"\",IF(ISERROR(MATCH($M343,$I:$I,0)),S342,MAX($S$3:$S342)+1))","v":17},"نهاية اللجنة"]
[null,null,null,null,null,null,null,null,null,null,null,null,341,380,"محمود341","انثى",null,null,{"$f":"IF(M344=\"\",\"\",IF(ISERROR(MATCH($M344,$I:$I,0)),S343,MAX($S$3:$S343)+1))","v":18},""]
[null,null,null,null,null,null,null,null,null,null,null,null,342,381,"محمود342","انثى",null,null,{"$f":"IF(M345=\"\",\"\",IF(ISERROR(MATCH($M345,$I:$I,0)),S344,MAX($S$3:$S344)+1))","v":18},""]
[null,null,null,null,null,null,null,null,null,null,null,null,343,382,"محمود343","انثى",null,null,{"$f":"IF(M346=\"\",\"\",IF(ISERROR(MATCH($M346,$I:$I,0)),S345,MAX($S$3:$S345)+1))","v":18},""]
[null,null,null,null,null,null,null,null,null,null,null,null,344,383,"محمود344","انثى",null,null,{"$f":"IF(M347=\"\",\"\",IF(ISERROR(MATCH($M347,$I:$I,0)),S346,MAX($S$3:$S346)+1))","v":18},""]
[null,null,null,null,null,null,null,null,null,null,null,null,345,384,"محمود345","انثى",null,null,{"$f":"IF(M348=\"\",\"\",IF(ISERROR(MATCH($M348,$I:$I,0)),S347,MAX($S$3:$S347)+1))","v":18},""]
[null,null,null,null,null,null,null,null,null,null,null,null,346,385,"محمود346","انثى",null,null,{"$f":"IF(M349=\"\",\"\",IF(ISERROR(MATCH($M349,$I:$I,0)),S348,MAX($S$3:$S348)+1))","v":18},""]
[null,null,null,null,null,null,null,null,null,null,null,null,347,386,"محمود347","انثى",null,null,{"$f":"IF(M350=\"\",\"\",IF(ISERROR(MATCH($M350,$I:$I,0)),S349,MAX($S$3:$S349)+1))","v":18},""]
[null,null,null,null,null,null,null,null,null,null,null,null,348,387,"محمود348","انثى",null,null,{"$f":"IF(M351=\"\",\"\",IF(ISERROR(MATCH($M351,$I:$I,0)),S350,MAX($S$3:$S350)+1))","v":18},""]
[null,null,null,null,null,null,null,null,null,null,null,null,349,388,"محمود349","انثى",null,null,{"$f":"IF(M352=\"\",\"\",IF(ISERROR(MATCH($M352,$I:$I,0)),S351,MAX($S$3:$S351)+1))","v":18},""]
[null,null,null,null,null,null,null,null,null,null,null,null,350,389,"محمود350","انثى",null,null,{"$f":"IF(M353=\"\",\"\",IF(ISERROR(MATCH($M353,$I:$I,0)),S352,MAX($S$3:$S352)+1))","v":18},""]
[null,null,null,null,null,null,null,null,null,null,null,null,351,390,"محمود351","انثى",null,null,{"$f":"IF(M354=\"\",\"\",IF(ISERROR(MATCH($M354,$I:$I,0)),S353,MAX($S$3:$S353)+1))","v":18},""]
[null,null,null,null,null,null,null,null,null,null,null,null,352,391,"محمود352","انثى",null,null,{"$f":"IF(M355=\"\",\"\",IF(ISERROR(MATCH($M355,$I:$I,0)),S354,MAX($S$3:$S354)+1))","v":18},""]
[null,null,null,null,null,null,null,null,null,null,null,null,353,392,"محمود353","انثى",null,null,{"$f":"IF(M356=\"\",\"\",IF(ISERROR(MATCH($M356,$I:$I,0)),S355,MAX($S$3:$S355)+1))","v":18},""]
[null,null,null,null,null,null,null,null,null,null,null,null,354,393,"محمود354","انثى",null,null,{"$f":"IF(M357=\"\",\"\",IF(ISERROR(MATCH($M357,$I:$I,0)),S356,MAX($S$3:$S356)+1))","v":18},""]
[null,null,null,null,null,null,null,null,null,null,null,null,355,394,"محمود355","انثى",null,null,{"$f":"IF(M358=\"\",\"\",IF(ISERROR(MATCH($M358,$I:$I,0)),S357,MAX($S$3:$S357)+1))","v":18},""]
[null,null,null,null,null,null,null,null,null,null,null,null,356,395,"محمود356","انثى",null,null,{"$f":"IF(M359=\"\",\"\",IF(ISERROR(MATCH($M359,$I:$I,0)),S358,MAX($S$3:$S358)+1))","v":18},""]
[null,null,null,null,null,null,null,null,null,null,null,null,357,396,"محمود357","انثى",null,null,{"$f":"IF(M360=\"\",\"\",IF(ISERROR(MATCH($M360,$I:$I,0)),S359,MAX($S$3:$S359)+1))","v":18},""]
[null,null,null,null,null,null,null,null,null,null,null,null,358,397,"محمود358","انثى",null,null,{"$f":"IF(M361=\"\",\"\",IF(ISERROR(MATCH($M361,$I:$I,0)),S360,MAX($S$3:$S360)+1))","v":18},""]
[null,null,null,null,null,null,null,null,null,null,null,null,359,398,"محمود359","انثى",null,null,{"$f":"IF(M362=\"\",\"\",IF(ISERROR(MATCH($M362,$I:$I,0)),S361,MAX($S$3:$S361)+1))","v":18},""]
[null,null,null,null,null,null,null,null,null,null,null,null,360,399,"محمود360","انثى",null,null,{"$f":"IF(M363=\"\",\"\",IF(ISERROR(MATCH($M363,$I:$I,0)),S362,MAX($S$3:$S362)+1))","v":18},"نهاية اللجنة"]
[null,null,null,null,null,null,null,null,null,null,null,null,361,400,"محمود361","انثى",null,null,{"$f":"IF(M364=\"\",\"\",IF(ISERROR(MATCH($M364,$I:$I,0)),S363,MAX($S$3:$S363)+1))","v":19},""]
[null,null,null,null,null,null,null,null,null,null,null,null,362,401,"محمود362","انثى",null,null,{"$f":"IF(M365=\"\",\"\",IF(ISERROR(MATCH($M365,$I:$I,0)),S364,MAX($S$3:$S364)+1))","v":19},""]
[null,null,null,null,null,null,null,null,null,null,null,null,363,402,"محمود363","انثى",null,null,{"$f":"IF(M366=\"\",\"\",IF(ISERROR(MATCH($M366,$I:$I,0)),S365,MAX($S$3:$S365)+1))","v":19},""]
[null,null,null,null,null,null,null,null,null,null,null,null,364,403,"محمود364","انثى",null,null,{"$f":"IF(M367=\"\",\"\",IF(ISERROR(MATCH($M367,$I:$I,0)),S366,MAX($S$3:$S366)+1))","v":19},""]
[null,null,null,null,null,null,null,null,null,null,null,null,365,404,"محمود365","انثى",null,null,{"$f":"IF(M368=\"\",\"\",IF(ISERROR(MATCH($M368,$I:$I,0)),S367,MAX($S$3:$S367)+1))","v":19},""]
[null,null,null,null,null,null,null,null,null,null,null,null,366,405,"محمود366","انثى",null,null,{"$f":"IF(M369=\"\",\"\",IF(ISERROR(MATCH($M369,$I:$I,0)),S368,MAX($S$3:$S368)+1))","v":19},""]
[null,null,null,null,null,null,null,null,null,null,null,null,367,406,"محمود367","انثى",null,null,{"$f":"IF(M370=\"\",\"\",IF(ISERROR(MATCH($M370,$I:$I,0)),S369,MAX($S$3:$S369)+1))","v":19},""]
[null,null,null,null,null,null,null,null,null,null,null,null,368,407,"محمود368","انثى",null,null,{"$f":"IF(M371=\"\",\"\",IF(ISERROR(MATCH($M371,$I:$I,0)),S370,MAX($S$3:$S370)+1))","v":19},""]
[null,null,null,null,null,null,null,null,null,null,null,null,369,408,"محمود369","انثى",null,null,{"$f":"IF(M372=\"\",\"\",IF(ISERROR(MATCH($M372,$I:$I,0)),S371,MAX($S$3:$S371)+1))","v":19},""]
[null,null,null,null,null,null,null,null,null,null,null,null,370,409,"محمود370","انثى",null,null,{"$f":"IF(M373=\"\",\"\",IF(ISERROR(MATCH($M373,$I:$I,0)),S372,MAX($S$3:$S372)+1))","v":19},""]
[null,null,null,null,null,null,null,null,null,null,null,null,371,410,"محمود371","انثى",null,null,{"$f":"IF(M374=\"\",\"\",IF(ISERROR(MATCH($M374,$I:$I,0)),S373,MAX($S$3:$S373)+1))","v":19},""]
[null,null,null,null,null,null,null,null,null,null,null,null,372,411,"محمود372","انثى",null,null,{"$f":"IF(M375=\"\",\"\",IF(ISERROR(MATCH($M375,$I:$I,0)),S374,MAX($S$3:$S374)+1))","v":19},""]
[null,null,null,null,null,null,null,null,null,null,null,null,373,412,"محمود373","انثى",null,null,{"$f":"IF(M376=\"\",\"\",IF(ISERROR(MATCH($M376,$I:$I,0)),S375,MAX($S$3:$S375)+1))","v":19},""]
[null,null,null,null,null,null,null,null,null,null,null,null,374,413,"محمود374","انثى",null,null,{"$f":"IF(M377=\"\",\"\",IF(ISERROR(MATCH($M377,$I:$I,0)),S376,MAX($S$3:$S376)+1))","v":19},""]
[null,null,null,null,null,null,null,null,null,null,null,null,375,414,"محمود375","انثى",null,null,{"$f":"IF(M378=\"\",\"\",IF(ISERROR(MATCH($M378,$I:$I,0)),S377,MAX($S$3:$S377)+1))","v":19},""]
[null,null,null,null,null,null,null,null,null,null,null,null,376,415,"محمود376","انثى",null,null,{"$f":"IF(M379=\"\",\"\",IF(ISERROR(MATCH($M379,$I:$I,0)),S378,MAX($S$3:$S378)+1))","v":19},""]
[null,null,null,null,null,null,null,null,null,null,null,null,377,416,"محمود377","انثى",null,null,{"$f":"IF(M380=\"\",\"\",IF(ISERROR(MATCH($M380,$I:$I,0)),S379,MAX($S$3:$S379)+1))","v":19},""]
[null,null,null,null,null,null,null,null,null,null,null,null,378,417,"محمود378","انثى",null,null,{"$f":"IF(M381=\"\",\"\",IF(ISERROR(MATCH($M381,$I:$I,0)),S380,MAX($S$3:$S380)+1))","v":19},""]
[null,null,null,null,null,null,null,null,null,null,null,null,379,418,"محمود379","انثى",null,null,{"$f":"IF(M382=\"\",\"\",IF(ISERROR(MATCH($M382,$I:$I,0)),S381,MAX($S$3:$S381)+1))","v":19},""]
[null,null,null,null,null,null,null,null,null,null,null,null,380,419,"محمود380","انثى",null,null,{"$f":"IF(M383=\"\",\"\",IF(ISERROR(MATCH($M383,$I:$I,0)),S382,MAX($S$3:$S382)+1))","v":19},"نهاية اللجنة"]
[null,null,null,null,null,null,null,null,null,null,null,null,381,420,"محمود381","انثى",null,null,{"$f":"IF(M384=\"\",\"\",IF(ISERROR(MATCH($M384,$I:$I,0)),S383,MAX($S$3:$S383)+1))","v":20},""]
[null,null,null,null,null,null,null,null,null,null,null,null,382,421,"محمود382","انثى",null,null,{"$f":"IF(M385=\"\",\"\",IF(ISERROR(MATCH($M385,$I:$I,0)),S384,MAX($S$3:$S384)+1))","v":20},""]
[null,null,null,null,null,null,null,null,null,null,null,null,383,422,"محمود383","انثى",null,null,{"$f":"IF(M386=\"\",\"\",IF(ISERROR(MATCH($M386,$I:$I,0)),S385,MAX($S$3:$S385)+1))","v":20},""]
[null,null,null,null,null,null,null,null,null,null,null,null,384,423,"محمود384","انثى",null,null,{"$f":"IF(M387=\"\",\"\",IF(ISERROR(MATCH($M387,$I:$I,0)),S386,MAX($S$3:$S386)+1))","v":20},""]
[null,null,null,null,null,null,null,null,null,null,null,null,385,424,"محمود385","انثى",null,null,{"$f":"IF(M388=\"\",\"\",IF(ISERROR(MATCH($M388,$I:$I,0)),S387,MAX($S$3:$S387)+1))","v":20},""]
[null,null,null,null,null,null,null,null,null,null,null,null,{"$f":"(IF(O389=\"\",\"\",ROW()-3))","v":386},425,"محمود386",{"$f":"IF(O389=\"\",\"\",P386)","v":"انثى"},null,null,{"$f":"IF(M389=\"\",\"\",IF(ISERROR(MATCH($M389,$I:$I,0)),S388,MAX($S$3:$S388)+1))","v":20},{"$f":"IF(S389=S390,\"\",\"نهاية اللجنة\")","v":""}]
[null,null,null,null,null,null,null,null,null,null,null,null,387,{"$f":"IF(M390=\"\",\"\",N389+1)","v":426},"محمود387","انثى",null,null,{"$f":"IF(M390=\"\",\"\",IF(ISERROR(MATCH($M390,$I:$I,0)),S389,MAX($S$3:$S389)+1))","v":20},""]
[null,null,null,null,null,null,null,null,null,null,null,null,388,427,"محمود388","انثى",null,null,{"$f":"IF(M391=\"\",\"\",IF(ISERROR(MATCH($M391,$I:$I,0)),S390,MAX($S$3:$S390)+1))","v":20},""]
[null,null,null,null,null,null,null,null,null,null,null,null,389,428,"محمود389","انثى",null,null,{"$f":"IF(M392=\"\",\"\",IF(ISERROR(MATCH($M392,$I:$I,0)),S391,MAX($S$3:$S391)+1))","v":20},""]
[null,null,null,null,null,null,null,null,null,null,null,null,390,429,"محمود390","انثى",null,null,{"$f":"IF(M393=\"\",\"\",IF(ISERROR(MATCH($M393,$I:$I,0)),S392,MAX($S$3:$S392)+1))","v":20},""]
[null,null,null,null,null,null,null,null,null,null,null,null,391,430,"محمود391","انثى",null,null,{"$f":"IF(M394=\"\",\"\",IF(ISERROR(MATCH($M394,$I:$I,0)),S393,MAX($S$3:$S393)+1))","v":20},""]
[null,null,null,null,null,null,null,null,null,null,null,null,392,431,"محمود392","انثى",null,null,{"$f":"IF(M395=\"\",\"\",IF(ISERROR(MATCH($M395,$I:$I,0)),S394,MAX($S$3:$S394)+1))","v":20},""]
[null,null,null,null,null,null,null,null,null,null,null,null,393,432,"محمود393","انثى",null,null,{"$f":"IF(M396=\"\",\"\",IF(ISERROR(MATCH($M396,$I:$I,0)),S395,MAX($S$3:$S395)+1))","v":20},""]
[null,null,null,null,null,null,null,null,null,null,null,null,394,433,"محمود394","انثى",null,null,{"$f":"IF(M397=\"\",\"\",IF(ISERROR(MATCH($M397,$I:$I,0)),S396,MAX($S$3:$S396)+1))","v":20},""]
[null,null,null,null,null,null,null,null,null,null,null,null,395,434,"محمود395","انثى",null,null,{"$f":"IF(M398=\"\",\"\",IF(ISERROR(MATCH($M398,$I:$I,0)),S397,MAX($S$3:$S397)+1))","v":20},""]
[null,null,null,null,null,null,null,null,null,null,null,null,396,435,"محمود396","انثى",null,null,{"$f":"IF(M399=\"\",\"\",IF(ISERROR(MATCH($M399,$I:$I,0)),S398,MAX($S$3:$S398)+1))","v":20},""]
[null,null,null,null,null,null,null,null,null,null,null,null,397,436,"محمود397","انثى",null,null,{"$f":"IF(M400=\"\",\"\",IF(ISERROR(MATCH($M400,$I:$I,0)),S399,MAX($S$3:$S399)+1))","v":20},""]
[null,null,null,null,null,null,null,null,null,null,null,null,398,437,"محمود398","انثى",null,null,{"$f":"IF(M401=\"\",\"\",IF(ISERROR(MATCH($M401,$I:$I,0)),S400,MAX($S$3:$S400)+1))","v":20},""]
[null,null,null,null,null,null,null,null,null,null,null,null,399,438,"محمود399","انثى",null,null,{"$f":"IF(M402=\"\",\"\",IF(ISERROR(MATCH($M402,$I:$I,0)),S401,MAX($S$3:$S401)+1))","v":20},""]
[null,null,null,null,null,null,null,null,null,null,null,null,400,439,"محمود400","انثى",null,null,{"$f":"IF(M403=\"\",\"\",IF(ISERROR(MATCH($M403,$I:$I,0)),S402,MAX($S$3:$S402)+1))","v":20},"نهاية اللجنة"]
[null,null,null,null,null,null,null,null,null,null,null,null,401,440,"محمود401","انثى",null,null,{"$f":"IF(M404=\"\",\"\",IF(ISERROR(MATCH($M404,$I:$I,0)),S403,MAX($S$3:$S403)+1))","v":21},""]
[null,null,null,null,null,null,null,null,null,null,null,null,402,441,"محمود402","انثى",null,null,{"$f":"IF(M405=\"\",\"\",IF(ISERROR(MATCH($M405,$I:$I,0)),S404,MAX($S$3:$S404)+1))","v":21},""]
[null,null,null,null,null,null,null,null,null,null,null,null,403,442,"محمود403","انثى",null,null,{"$f":"IF(M406=\"\",\"\",IF(ISERROR(MATCH($M406,$I:$I,0)),S405,MAX($S$3:$S405)+1))","v":21},""]
[null,null,null,null,null,null,null,null,null,null,null,null,404,443,"محمود404","انثى",null,null,{"$f":"IF(M407=\"\",\"\",IF(ISERROR(MATCH($M407,$I:$I,0)),S406,MAX($S$3:$S406)+1))","v":21},""]
[null,null,null,null,null,null,null,null,null,null,null,null,405,444,"محمود405","انثى",null,null,{"$f":"IF(M408=\"\",\"\",IF(ISERROR(MATCH($M408,$I:$I,0)),S407,MAX($S$3:$S407)+1))","v":21},""]
[null,null,null,null,null,null,null,null,null,null,null,null,406,445,"محمود406","انثى",null,null,{"$f":"IF(M409=\"\",\"\",IF(ISERROR(MATCH($M409,$I:$I,0)),S408,MAX($S$3:$S408)+1))","v":21},""]
[null,null,null,null,null,null,null,null,null,null,null,null,407,446,"محمود407","انثى",null,null,{"$f":"IF(M410=\"\",\"\",IF(ISERROR(MATCH($M410,$I:$I,0)),S409,MAX($S$3:$S409)+1))","v":21},""]
[null,null,null,null,null,null,null,null,null,null,null,null,408,447,"محمود408","انثى",null,null,{"$f":"IF(M411=\"\",\"\",IF(ISERROR(MATCH($M411,$I:$I,0)),S410,MAX($S$3:$S410)+1))","v":21},""]
[null,null,null,null,null,null,null,null,null,null,null,null,409,448,"محمود409","انثى",null,null,{"$f":"IF(M412=\"\",\"\",IF(ISERROR(MATCH($M412,$I:$I,0)),S411,MAX($S$3:$S411)+1))","v":21},""]
[null,null,null,null,null,null,null,null,null,null,null,null,410,449,"محمود410","انثى",null,null,{"$f":"IF(M413=\"\",\"\",IF(ISERROR(MATCH($M413,$I:$I,0)),S412,MAX($S$3:$S412)+1))","v":21},""]
[null,null,null,null,null,null,null,null,null,null,null,null,411,450,"محمود411","انثى",null,null,{"$f":"IF(M414=\"\",\"\",IF(ISERROR(MATCH($M414,$I:$I,0)),S413,MAX($S$3:$S413)+1))","v":21},""]
[null,null,null,null,null,null,null,null,null,null,null,null,412,451,"محمود412","انثى",null,null,{"$f":"IF(M415=\"\",\"\",IF(ISERROR(MATCH($M415,$I:$I,0)),S414,MAX($S$3:$S414)+1))","v":21},""]
[null,null,null,null,null,null,null,null,null,null,null,null,413,452,"محمود413","انثى",null,null,{"$f":"IF(M416=\"\",\"\",IF(ISERROR(MATCH($M416,$I:$I,0)),S415,MAX($S$3:$S415)+1))","v":21},""]
[null,null,null,null,null,null,null,null,null,null,null,null,414,453,"محمود414","انثى",null,null,{"$f":"IF(M417=\"\",\"\",IF(ISERROR(MATCH($M417,$I:$I,0)),S416,MAX($S$3:$S416)+1))","v":21},""]
[null,null,null,null,null,null,null,null,null,null,null,null,415,454,"محمود415","انثى",null,null,{"$f":"IF(M418=\"\",\"\",IF(ISERROR(MATCH($M418,$I:$I,0)),S417,MAX($S$3:$S417)+1))","v":21},""]
[null,null,null,null,null,null,null,null,null,null,null,null,416,455,"محمود416","انثى",null,null,{"$f":"IF(M419=\"\",\"\",IF(ISERROR(MATCH($M419,$I:$I,0)),S418,MAX($S$3:$S418)+1))","v":21},""]
[null,null,null,null,null,null,null,null,null,null,null,null,417,456,"محمود417","انثى",null,null,{"$f":"IF(M420=\"\",\"\",IF(ISERROR(MATCH($M420,$I:$I,0)),S419,MAX($S$3:$S419)+1))","v":21},""]
[null,null,null,null,null,null,null,null,null,null,null,null,418,457,"محمود418","انثى",null,null,{"$f":"IF(M421=\"\",\"\",IF(ISERROR(MATCH($M421,$I:$I,0)),S420,MAX($S$3:$S420)+1))","v":21},""]
[null,null,null,null,null,null,null,null,null,null,null,null,419,458,"محمود419","انثى",null,null,{"$f":"IF(M422=\"\",\"\",IF(ISERROR(MATCH($M422,$I:$I,0)),S421,MAX($S$3:$S421)+1))","v":21},""]
[null,null,null,null,null,null,null,null,null,null,null,null,420,459,"محمود420","انثى",null,null,{"$f":"IF(M423=\"\",\"\",IF(ISERROR(MATCH($M423,$I:$I,0)),S422,MAX($S$3:$S422)+1))","v":21},"نهاية اللجنة"]
[null,null,null,null,null,null,null,null,null,null,null,null,421,460,"محمود421","انثى",null,null,{"$f":"IF(M424=\"\",\"\",IF(ISERROR(MATCH($M424,$I:$I,0)),S423,MAX($S$3:$S423)+1))","v":22},""]
[null,null,null,null,null,null,null,null,null,null,null,null,422,461,"محمود422","انثى",null,null,{"$f":"IF(M425=\"\",\"\",IF(ISERROR(MATCH($M425,$I:$I,0)),S424,MAX($S$3:$S424)+1))","v":22},""]
[null,null,null,null,null,null,null,null,null,null,null,null,423,462,"محمود423","انثى",null,null,{"$f":"IF(M426=\"\",\"\",IF(ISERROR(MATCH($M426,$I:$I,0)),S425,MAX($S$3:$S425)+1))","v":22},""]
[null,null,null,null,null,null,null,null,null,null,null,null,424,463,"محمود424","انثى",null,null,{"$f":"IF(M427=\"\",\"\",IF(ISERROR(MATCH($M427,$I:$I,0)),S426,MAX($S$3:$S426)+1))","v":22},""]
[null,null,null,null,null,null,null,null,null,null,null,null,425,464,"محمود425","انثى",null,null,{"$f":"IF(M428=\"\",\"\",IF(ISERROR(MATCH($M428,$I:$I,0)),S427,MAX($S$3:$S427)+1))","v":22},""]
[null,null,null,null,null,null,null,null,null,null,null,null,426,465,"محمود426","انثى",null,null,{"$f":"IF(M429=\"\",\"\",IF(ISERROR(MATCH($M429,$I:$I,0)),S428,MAX($S$3:$S428)+1))","v":22},""]
[null,null,null,null,null,null,null,null,null,null,null,null,427,466,"محمود427","انثى",null,null,{"$f":"IF(M430=\"\",\"\",IF(ISERROR(MATCH($M430,$I:$I,0)),S429,MAX($S$3:$S429)+1))","v":22},""]
[null,null,null,null,null,null,null,null,null,null,null,null,428,467,"محمود428","انثى",null,null,{"$f":"IF(M431=\"\",\"\",IF(ISERROR(MATCH($M431,$I:$I,0)),S430,MAX($S$3:$S430)+1))","v":22},""]
[null,null,null,null,null,null,null,null,null,null,null,null,429,468,"محمود429","انثى",null,null,{"$f":"IF(M432=\"\",\"\",IF(ISERROR(MATCH($M432,$I:$I,0)),S431,MAX($S$3:$S431)+1))","v":22},""]
[null,null,null,null,null,null,null,null,null,null,null,null,430,469,"محمود430","انثى",null,null,{"$f":"IF(M433=\"\",\"\",IF(ISERROR(MATCH($M433,$I:$I,0)),S432,MAX($S$3:$S432)+1))","v":22},""]
[null,null,null,null,null,null,null,null,null,null,null,null,431,470,"محمود431","انثى",null,null,{"$f":"IF(M434=\"\",\"\",IF(ISERROR(MATCH($M434,$I:$I,0)),S433,MAX($S$3:$S433)+1))","v":22},""]
[null,null,null,null,null,null,null,null,null,null,null,null,432,471,"محمود432","انثى",null,null,{"$f":"IF(M435=\"\",\"\",IF(ISERROR(MATCH($M435,$I:$I,0)),S434,MAX($S$3:$S434)+1))","v":22},""]
[null,null,null,null,null,null,null,null,null,null,null,null,433,472,"محمود433","انثى",null,null,{"$f":"IF(M436=\"\",\"\",IF(ISERROR(MATCH($M436,$I:$I,0)),S435,MAX($S$3:$S435)+1))","v":22},""]
[null,null,null,null,null,null,null,null,null,null,null,null,434,473,"محمود434","انثى",null,null,{"$f":"IF(M437=\"\",\"\",IF(ISERROR(MATCH($M437,$I:$I,0)),S436,MAX($S$3:$S436)+1))","v":22},""]
[null,null,null,null,null,null,null,null,null,null,null,null,435,474,"محمود435","انثى",null,null,{"$f":"IF(M438=\"\",\"\",IF(ISERROR(MATCH($M438,$I:$I,0)),S437,MAX($S$3:$S437)+1))","v":22},""]
[null,null,null,null,null,null,null,null,null,null,null,null,436,475,"محمود436","انثى",null,null,{"$f":"IF(M439=\"\",\"\",IF(ISERROR(MATCH($M439,$I:$I,0)),S438,MAX($S$3:$S438)+1))","v":22},""]
[null,null,null,null,null,null,null,null,null,null,null,null,437,476,"محمود437","انثى",null,null,{"$f":"IF(M440=\"\",\"\",IF(ISERROR(MATCH($M440,$I:$I,0)),S439,MAX($S$3:$S439)+1))","v":22},""]
[null,null,null,null,null,null,null,null,null,null,null,null,438,477,"محمود438","انثى",null,null,{"$f":"IF(M441=\"\",\"\",IF(ISERROR(MATCH($M441,$I:$I,0)),S440,MAX($S$3:$S440)+1))","v":22},""]
[null,null,null,null,null,null,null,null,null,null,null,null,439,478,"محمود439","انثى",null,null,{"$f":"IF(M442=\"\",\"\",IF(ISERROR(MATCH($M442,$I:$I,0)),S441,MAX($S$3:$S441)+1))","v":22},""]
[null,null,null,null,null,null,null,null,null,null,null,null,440,479,"محمود440","انثى",null,null,{"$f":"IF(M443=\"\",\"\",IF(ISERROR(MATCH($M443,$I:$I,0)),S442,MAX($S$3:$S442)+1))","v":22},"نهاية اللجنة"]
[null,null,null,null,null,null,null,null,null,null,null,null,441,480,"محمود441","انثى",null,null,{"$f":"IF(M444=\"\",\"\",IF(ISERROR(MATCH($M444,$I:$I,0)),S443,MAX($S$3:$S443)+1))","v":23},""]
[null,null,null,null,null,null,null,null,null,null,null,null,442,481,"محمود442","انثى",null,null,{"$f":"IF(M445=\"\",\"\",IF(ISERROR(MATCH($M445,$I:$I,0)),S444,MAX($S$3:$S444)+1))","v":23},""]
[null,null,null,null,null,null,null,null,null,null,null,null,443,482,"محمود443","انثى",null,null,{"$f":"IF(M446=\"\",\"\",IF(ISERROR(MATCH($M446,$I:$I,0)),S445,MAX($S$3:$S445)+1))","v":23},""]
[null,null,null,null,null,null,null,null,null,null,null,null,444,483,"محمود444","انثى",null,null,{"$f":"IF(M447=\"\",\"\",IF(ISERROR(MATCH($M447,$I:$I,0)),S446,MAX($S$3:$S446)+1))","v":23},""]
[null,null,null,null,null,null,null,null,null,null,null,null,445,484,"محمود445","انثى",null,null,{"$f":"IF(M448=\"\",\"\",IF(ISERROR(MATCH($M448,$I:$I,0)),S447,MAX($S$3:$S447)+1))","v":23},""]
[null,null,null,null,null,null,null,null,null,null,null,null,446,485,"محمود446","انثى",null,null,{"$f":"IF(M449=\"\",\"\",IF(ISERROR(MATCH($M449,$I:$I,0)),S448,MAX($S$3:$S448)+1))","v":23},""]
[null,null,null,null,null,null,null,null,null,null,null,null,447,486,"محمود447","انثى",null,null,{"$f":"IF(M450=\"\",\"\",IF(ISERROR(MATCH($M450,$I:$I,0)),S449,MAX($S$3:$S449)+1))","v":23},""]
[null,null,null,null,null,null,null,null,null,null,null,null,448,487,"محمود448","انثى",null,null,{"$f":"IF(M451=\"\",\"\",IF(ISERROR(MATCH($M451,$I:$I,0)),S450,MAX($S$3:$S450)+1))","v":23},""]
[null,null,null,null,null,null,null,null,null,null,null,null,449,488,"محمود449","انثى",null,null,{"$f":"IF(M452=\"\",\"\",IF(ISERROR(MATCH($M452,$I:$I,0)),S451,MAX($S$3:$S451)+1))","v":23},""]
[null,null,null,null,null,null,null,null,null,null,null,null,{"$f":"(IF(O453=\"\",\"\",ROW()-3))","v":450},489,"محمود450",{"$f":"IF(O453=\"\",\"\",P450)","v":"انثى"},null,null,{"$f":"IF(M453=\"\",\"\",IF(ISERROR(MATCH($M453,$I:$I,0)),S452,MAX($S$3:$S452)+1))","v":23},{"$f":"IF(S453=S454,\"\",\"نهاية اللجنة\")","v":""}]
[null,null,null,null,null,null,null,null,null,null,null,null,451,{"$f":"IF(M454=\"\",\"\",N453+1)","v":490},"محمود451","انثى",null,null,{"$f":"IF(M454=\"\",\"\",IF(ISERROR(MATCH($M454,$I:$I,0)),S453,MAX($S$3:$S453)+1))","v":23},""]
[null,null,null,null,null,null,null,null,null,null,null,null,452,491,"محمود452","انثى",null,null,{"$f":"IF(M455=\"\",\"\",IF(ISERROR(MATCH($M455,$I:$I,0)),S454,MAX($S$3:$S454)+1))","v":23},""]
[null,null,null,null,null,null,null,null,null,null,null,null,453,492,"محمود453","انثى",null,null,{"$f":"IF(M456=\"\",\"\",IF(ISERROR(MATCH($M456,$I:$I,0)),S455,MAX($S$3:$S455)+1))","v":23},""]
[null,null,null,null,null,null,null,null,null,null,null,null,454,493,"محمود454","انثى",null,null,{"$f":"IF(M457=\"\",\"\",IF(ISERROR(MATCH($M457,$I:$I,0)),S456,MAX($S$3:$S456)+1))","v":23},""]
[null,null,null,null,null,null,null,null,null,null,null,null,455,494,"محمود455","انثى",null,null,{"$f":"IF(M458=\"\",\"\",IF(ISERROR(MATCH($M458,$I:$I,0)),S457,MAX($S$3:$S457)+1))","v":23},""]
[null,null,null,null,null,null,null,null,null,null,null,null,456,495,"محمود456","انثى",null,null,{"$f":"IF(M459=\"\",\"\",IF(ISERROR(MATCH($M459,$I:$I,0)),S458,MAX($S$3:$S458)+1))","v":23},""]
[null,null,null,null,null,null,null,null,null,null,null,null,457,496,"محمود457","انثى",null,null,{"$f":"IF(M460=\"\",\"\",IF(ISERROR(MATCH($M460,$I:$I,0)),S459,MAX($S$3:$S459)+1))","v":23},""]
[null,null,null,null,null,null,null,null,null,null,null,null,458,497,"محمود458","انثى",null,null,{"$f":"IF(M461=\"\",\"\",IF(ISERROR(MATCH($M461,$I:$I,0)),S460,MAX($S$3:$S460)+1))","v":23},""]
[null,null,null,null,null,null,null,null,null,null,null,null,459,498,"محمود459","انثى",null,null,{"$f":"IF(M462=\"\",\"\",IF(ISERROR(MATCH($M462,$I:$I,0)),S461,MAX($S$3:$S461)+1))","v":23},""]
[null,null,null,null,null,null,null,null,null,null,null,null,460,499,"محمود460","انثى",null,null,{"$f":"IF(M463=\"\",\"\",IF(ISERROR(MATCH($M463,$I:$I,0)),S462,MAX($S$3:$S462)+1))","v":23},"نهاية اللجنة"]
[null,null,null,null,null,null,null,null,null,null,null,null,461,500,"محمود461","انثى",null,null,{"$f":"IF(M464=\"\",\"\",IF(ISERROR(MATCH($M464,$I:$I,0)),S463,MAX($S$3:$S463)+1))","v":24},""]
[null,null,null,null,null,null,null,null,null,null,null,null,462,501,"محمود462","انثى",null,null,{"$f":"IF(M465=\"\",\"\",IF(ISERROR(MATCH($M465,$I:$I,0)),S464,MAX($S$3:$S464)+1))","v":24},""]
[null,null,null,null,null,null,null,null,null,null,null,null,463,502,"محمود463","انثى",null,null,{"$f":"IF(M466=\"\",\"\",IF(ISERROR(MATCH($M466,$I:$I,0)),S465,MAX($S$3:$S465)+1))","v":24},""]
[null,null,null,null,null,null,null,null,null,null,null,null,464,503,"محمود464","انثى",null,null,{"$f":"IF(M467=\"\",\"\",IF(ISERROR(MATCH($M467,$I:$I,0)),S466,MAX($S$3:$S466)+1))","v":24},""]
[null,null,null,null,null,null,null,null,null,null,null,null,465,504,"محمود465","انثى",null,null,{"$f":"IF(M468=\"\",\"\",IF(ISERROR(MATCH($M468,$I:$I,0)),S467,MAX($S$3:$S467)+1))","v":24},""]
[null,null,null,null,null,null,null,null,null,null,null,null,466,505,"محمود466","انثى",null,null,{"$f":"IF(M469=\"\",\"\",IF(ISERROR(MATCH($M469,$I:$I,0)),S468,MAX($S$3:$S468)+1))","v":24},""]
[null,null,null,null,null,null,null,null,null,null,null,null,467,506,"محمود467","انثى",null,null,{"$f":"IF(M470=\"\",\"\",IF(ISERROR(MATCH($M470,$I:$I,0)),S469,MAX($S$3:$S469)+1))","v":24},""]
[null,null,null,null,null,null,null,null,null,null,null,null,468,507,"محمود468","انثى",null,null,{"$f":"IF(M471=\"\",\"\",IF(ISERROR(MATCH($M471,$I:$I,0)),S470,MAX($S$3:$S470)+1))","v":24},""]
[null,null,null,null,null,null,null,null,null,null,null,null,469,508,"محمود469","انثى",null,null,{"$f":"IF(M472=\"\",\"\",IF(ISERROR(MATCH($M472,$I:$I,0)),S471,MAX($S$3:$S471)+1))","v":24},""]
[null,null,null,null,null,null,null,null,null,null,null,null,470,509,"محمود470","انثى",null,null,{"$f":"IF(M473=\"\",\"\",IF(ISERROR(MATCH($M473,$I:$I,0)),S472,MAX($S$3:$S472)+1))","v":24},""]
[null,null,null,null,null,null,null,null,null,null,null,null,471,510,"محمود471","انثى",null,null,{"$f":"IF(M474=\"\",\"\",IF(ISERROR(MATCH($M474,$I:$I,0)),S473,MAX($S$3:$S473)+1))","v":24},""]
[null,null,null,null,null,null,null,null,null,null,null,null,472,511,"محمود472","انثى",null,null,{"$f":"IF(M475=\"\",\"\",IF(ISERROR(MATCH($M475,$I:$I,0)),S474,MAX($S$3:$S474)+1))","v":24},""]
[null,null,null,null,null,null,null,null,null,null,null,null,473,512,"محمود473","انثى",null,null,{"$f":"IF(M476=\"\",\"\",IF(ISERROR(MATCH($M476,$I:$I,0)),S475,MAX($S$3:$S475)+1))","v":24},""]
[null,null,null,null,null,null,null,null,null,null,null,null,474,513,"محمود474","انثى",null,null,{"$f":"IF(M477=\"\",\"\",IF(ISERROR(MATCH($M477,$I:$I,0)),S476,MAX($S$3:$S476)+1))","v":24},""]
[null,null,null,null,null,null,null,null,null,null,null,null,475,514,"محمود475","انثى",null,null,{"$f":"IF(M478=\"\",\"\",IF(ISERROR(MATCH($M478,$I:$I,0)),S477,MAX($S$3:$S477)+1))","v":24},""]
[null,null,null,null,null,null,null,null,null,null,null,null,476,515,"محمود476","انثى",null,null,{"$f":"IF(M479=\"\",\"\",IF(ISERROR(MATCH($M479,$I:$I,0)),S478,MAX($S$3:$S478)+1))","v":24},""]
[null,null,null,null,null,null,null,null,null,null,null,null,477,516,"محمود477","انثى",null,null,{"$f":"IF(M480=\"\",\"\",IF(ISERROR(MATCH($M480,$I:$I,0)),S479,MAX($S$3:$S479)+1))","v":24},""]
[null,null,null,null,null,null,null,null,null,null,null,null,478,517,"محمود478","انثى",null,null,{"$f":"IF(M481=\"\",\"\",IF(ISERROR(MATCH($M481,$I:$I,0)),S480,MAX($S$3:$S480)+1))","v":24},""]
[null,null,null,null,null,null,null,null,null,null,null,null,479,518,"محمود479","انثى",null,null,{"$f":"IF(M482=\"\",\"\",IF(ISERROR(MATCH($M482,$I:$I,0)),S481,MAX($S$3:$S481)+1))","v":24},""]
[null,null,null,null,null,null,null,null,null,null,null,null,480,519,"محمود480","انثى",null,null,{"$f":"IF(M483=\"\",\"\",IF(ISERROR(MATCH($M483,$I:$I,0)),S482,MAX($S$3:$S482)+1))","v":24},"نهاية اللجنة"]
[null,null,null,null,null,null,null,null,null,null,null,null,481,520,"محمود481","انثى",null,null,{"$f":"IF(M484=\"\",\"\",IF(ISERROR(MATCH($M484,$I:$I,0)),S483,MAX($S$3:$S483)+1))","v":25},""]
[null,null,null,null,null,null,null,null,null,null,null,null,482,521,"محمود482","انثى",null,null,{"$f":"IF(M485=\"\",\"\",IF(ISERROR(MATCH($M485,$I:$I,0)),S484,MAX($S$3:$S484)+1))","v":25},""]
[null,null,null,null,null,null,null,null,null,null,null,null,483,522,"محمود483","انثى",null,null,{"$f":"IF(M486=\"\",\"\",IF(ISERROR(MATCH($M486,$I:$I,0)),S485,MAX($S$3:$S485)+1))","v":25},""]
[null,null,null,null,null,null,null,null,null,null,null,null,484,523,"محمود484","انثى",null,null,{"$f":"IF(M487=\"\",\"\",IF(ISERROR(MATCH($M487,$I:$I,0)),S486,MAX($S$3:$S486)+1))","v":25},""]
[null,null,null,null,null,null,null,null,null,null,null,null,485,524,"محمود485","انثى",null,null,{"$f":"IF(M488=\"\",\"\",IF(ISERROR(MATCH($M488,$I:$I,0)),S487,MAX($S$3:$S487)+1))","v":25},""]
[null,null,null,null,null,null,null,null,null,null,null,null,486,525,"محمود486","انثى",null,null,{"$f":"IF(M489=\"\",\"\",IF(ISERROR(MATCH($M489,$I:$I,0)),S488,MAX($S$3:$S488)+1))","v":25},""]
[null,null,null,null,null,null,null,null,null,null,null,null,487,526,"محمود487","انثى",null,null,{"$f":"IF(M490=\"\",\"\",IF(ISERROR(MATCH($M490,$I:$I,0)),S489,MAX($S$3:$S489)+1))","v":25},""]
[null,null,null,null,null,null,null,null,null,null,null,null,488,527,"محمود488","انثى",null,null,{"$f":"IF(M491=\"\",\"\",IF(ISERROR(MATCH($M491,$I:$I,0)),S490,MAX($S$3:$S490)+1))","v":25},""]
[null,null,null,null,null,null,null,null,null,null,null,null,489,528,"محمود489","انثى",null,null,{"$f":"IF(M492=\"\",\"\",IF(ISERROR(MATCH($M492,$I:$I,0)),S491,MAX($S$3:$S491)+1))","v":25},""]
[null,null,null,null,null,null,null,null,null,null,null,null,490,529,"محمود490","انثى",null,null,{"$f":"IF(M493=\"\",\"\",IF(ISERROR(MATCH($M493,$I:$I,0)),S492,MAX($S$3:$S492)+1))","v":25},""]
[null,null,null,null,null,null,null,null,null,null,null,null,491,530,"محمود491","انثى",null,null,{"$f":"IF(M494=\"\",\"\",IF(ISERROR(MATCH($M494,$I:$I,0)),S493,MAX($S$3:$S493)+1))","v":25},""]
[null,null,null,null,null,null,null,null,null,null,null,null,492,531,"محمود492","انثى",null,null,{"$f":"IF(M495=\"\",\"\",IF(ISERROR(MATCH($M495,$I:$I,0)),S494,MAX($S$3:$S494)+1))","v":25},""]
[null,null,null,null,null,null,null,null,null,null,null,null,493,532,"محمود493","انثى",null,null,{"$f":"IF(M496=\"\",\"\",IF(ISERROR(MATCH($M496,$I:$I,0)),S495,MAX($S$3:$S495)+1))","v":25},""]
[null,null,null,null,null,null,null,null,null,null,null,null,494,533,"محمود494","انثى",null,null,{"$f":"IF(M497=\"\",\"\",IF(ISERROR(MATCH($M497,$I:$I,0)),S496,MAX($S$3:$S496)+1))","v":25},""]
[null,null,null,null,null,null,null,null,null,null,null,null,495,534,"محمود495","انثى",null,null,{"$f":"IF(M498=\"\",\"\",IF(ISERROR(MATCH($M498,$I:$I,0)),S497,MAX($S$3:$S497)+1))","v":25},""]
[null,null,null,null,null,null,null,null,null,null,null,null,496,535,"محمود496","انثى",null,null,{"$f":"IF(M499=\"\",\"\",IF(ISERROR(MATCH($M499,$I:$I,0)),S498,MAX($S$3:$S498)+1))","v":25},""]
[null,null,null,null,null,null,null,null,null,null,null,null,497,536,"محمود497","انثى",null,null,{"$f":"IF(M500=\"\",\"\",IF(ISERROR(MATCH($M500,$I:$I,0)),S499,MAX($S$3:$S499)+1))","v":25},""]
[null,null,null,null,null,null,null,null,null,null,null,null,498,537,"محمود498","انثى",null,null,{"$f":"IF(M501=\"\",\"\",IF(ISERROR(MATCH($M501,$I:$I,0)),S500,MAX($S$3:$S500)+1))","v":25},""]
[null,null,null,null,null,null,null,null,null,null,null,null,499,538,"محمود499","انثى",null,null,{"$f":"IF(M502=\"\",\"\",IF(ISERROR(MATCH($M502,$I:$I,0)),S501,MAX($S$3:$S501)+1))","v":25},""]
[null,null,null,null,null,null,null,null,null,null,null,null,500,539,"محمود500","انثى",null,null,{"$f":"IF(M503=\"\",\"\",IF(ISERROR(MATCH($M503,$I:$I,0)),S502,MAX($S$3:$S502)+1))","v":25},"نهاية اللجنة"]
[null,null,null,null,null,null,null,null,null,null,null,null,501,540,"محمود501","انثى",null,null,{"$f":"IF(M504=\"\",\"\",IF(ISERROR(MATCH($M504,$I:$I,0)),S503,MAX($S$3:$S503)+1))","v":26},""]
[null,null,null,null,null,null,null,null,null,null,null,null,502,541,"محمود502","انثى",null,null,{"$f":"IF(M505=\"\",\"\",IF(ISERROR(MATCH($M505,$I:$I,0)),S504,MAX($S$3:$S504)+1))","v":26},""]
[null,null,null,null,null,null,null,null,null,null,null,null,503,542,"محمود503","انثى",null,null,{"$f":"IF(M506=\"\",\"\",IF(ISERROR(MATCH($M506,$I:$I,0)),S505,MAX($S$3:$S505)+1))","v":26},""]
[null,null,null,null,null,null,null,null,null,null,null,null,504,543,"محمود504","انثى",null,null,{"$f":"IF(M507=\"\",\"\",IF(ISERROR(MATCH($M507,$I:$I,0)),S506,MAX($S$3:$S506)+1))","v":26},""]
[null,null,null,null,null,null,null,null,null,null,null,null,505,544,"محمود505","انثى",null,null,{"$f":"IF(M508=\"\",\"\",IF(ISERROR(MATCH($M508,$I:$I,0)),S507,MAX($S$3:$S507)+1))","v":26},""]
[null,null,null,null,null,null,null,null,null,null,null,null,506,545,"محمود506","انثى",null,null,{"$f":"IF(M509=\"\",\"\",IF(ISERROR(MATCH($M509,$I:$I,0)),S508,MAX($S$3:$S508)+1))","v":26},""]
[null,null,null,null,null,null,null,null,null,null,null,null,507,546,"محمود507","انثى",null,null,{"$f":"IF(M510=\"\",\"\",IF(ISERROR(MATCH($M510,$I:$I,0)),S509,MAX($S$3:$S509)+1))","v":26},""]
[null,null,null,null,null,null,null,null,null,null,null,null,508,547,"محمود508","انثى",null,null,{"$f":"IF(M511=\"\",\"\",IF(ISERROR(MATCH($M511,$I:$I,0)),S510,MAX($S$3:$S510)+1))","v":26},""]
[null,null,null,null,null,null,null,null,null,null,null,null,509,548,"محمود509","انثى",null,null,{"$f":"IF(M512=\"\",\"\",IF(ISERROR(MATCH($M512,$I:$I,0)),S511,MAX($S$3:$S511)+1))","v":26},""]
[null,null,null,null,null,null,null,null,null,null,null,null,510,549,"محمود510","انثى",null,null,{"$f":"IF(M513=\"\",\"\",IF(ISERROR(MATCH($M513,$I:$I,0)),S512,MAX($S$3:$S512)+1))","v":26},""]
[null,null,null,null,null,null,null,null,null,null,null,null,511,550,"محمود511","انثى",null,null,{"$f":"IF(M514=\"\",\"\",IF(ISERROR(MATCH($M514,$I:$I,0)),S513,MAX($S$3:$S513)+1))","v":26},""]
[null,null,null,null,null,null,null,null,null,null,null,null,512,551,"محمود512","انثى",null,null,{"$f":"IF(M515=\"\",\"\",IF(ISERROR(MATCH($M515,$I:$I,0)),S514,MAX($S$3:$S514)+1))","v":26},""]
[null,null,null,null,null,null,null,null,null,null,null,null,513,552,"محمود513","انثى",null,null,{"$f":"IF(M516=\"\",\"\",IF(ISERROR(MATCH($M516,$I:$I,0)),S515,MAX($S$3:$S515)+1))","v":26},""]
[null,null,null,null,null,null,null,null,null,null,null,null,{"$f":"(IF(O517=\"\",\"\",ROW()-3))","v":514},553,"محمود514",{"$f":"IF(O517=\"\",\"\",P514)","v":"انثى"},null,null,{"$f":"IF(M517=\"\",\"\",IF(ISERROR(MATCH($M517,$I:$I,0)),S516,MAX($S$3:$S516)+1))","v":26},{"$f":"IF(S517=S518,\"\",\"نهاية اللجنة\")","v":""}]
[null,null,null,null,null,null,null,null,null,null,null,null,515,{"$f":"IF(M518=\"\",\"\",N517+1)","v":554},"محمود515","انثى",null,null,{"$f":"IF(M518=\"\",\"\",IF(ISERROR(MATCH($M518,$I:$I,0)),S517,MAX($S$3:$S517)+1))","v":26},""]
[null,null,null,null,null,null,null,null,null,null,null,null,516,555,"محمود516","انثى",null,null,{"$f":"IF(M519=\"\",\"\",IF(ISERROR(MATCH($M519,$I:$I,0)),S518,MAX($S$3:$S518)+1))","v":26},""]
[null,null,null,null,null,null,null,null,null,null,null,null,517,556,"محمود517","انثى",null,null,{"$f":"IF(M520=\"\",\"\",IF(ISERROR(MATCH($M520,$I:$I,0)),S519,MAX($S$3:$S519)+1))","v":26},""]
[null,null,null,null,null,null,null,null,null,null,null,null,518,557,"محمود518","انثى",null,null,{"$f":"IF(M521=\"\",\"\",IF(ISERROR(MATCH($M521,$I:$I,0)),S520,MAX($S$3:$S520)+1))","v":26},""]
[null,null,null,null,null,null,null,null,null,null,null,null,519,558,"محمود519","انثى",null,null,{"$f":"IF(M522=\"\",\"\",IF(ISERROR(MATCH($M522,$I:$I,0)),S521,MAX($S$3:$S521)+1))","v":26},""]
[null,null,null,null,null,null,null,null,null,null,null,null,520,559,"محمود520","انثى",null,null,{"$f":"IF(M523=\"\",\"\",IF(ISERROR(MATCH($M523,$I:$I,0)),S522,MAX($S$3:$S522)+1))","v":26},"نهاية اللجنة"]
[null,null,null,null,null,null,null,null,null,null,null,null,521,560,"محمود521","انثى",null,null,{"$f":"IF(M524=\"\",\"\",IF(ISERROR(MATCH($M524,$I:$I,0)),S523,MAX($S$3:$S523)+1))","v":27},""]
[null,null,null,null,null,null,null,null,null,null,null,null,522,561,"محمود522","انثى",null,null,{"$f":"IF(M525=\"\",\"\",IF(ISERROR(MATCH($M525,$I:$I,0)),S524,MAX($S$3:$S524)+1))","v":27},""]
[null,null,null,null,null,null,null,null,null,null,null,null,523,562,"محمود523","انثى",null,null,{"$f":"IF(M526=\"\",\"\",IF(ISERROR(MATCH($M526,$I:$I,0)),S525,MAX($S$3:$S525)+1))","v":27},""]
[null,null,null,null,null,null,null,null,null,null,null,null,524,563,"محمود524","انثى",null,null,{"$f":"IF(M527=\"\",\"\",IF(ISERROR(MATCH($M527,$I:$I,0)),S526,MAX($S$3:$S526)+1))","v":27},""]
[null,null,null,null,null,null,null,null,null,null,null,null,525,564,"محمود525","انثى",null,null,{"$f":"IF(M528=\"\",\"\",IF(ISERROR(MATCH($M528,$I:$I,0)),S527,MAX($S$3:$S527)+1))","v":27},""]
[null,null,null,null,null,null,null,null,null,null,null,null,526,565,"محمود526","انثى",null,null,{"$f":"IF(M529=\"\",\"\",IF(ISERROR(MATCH($M529,$I:$I,0)),S528,MAX($S$3:$S528)+1))","v":27},""]
[null,null,null,null,null,null,null,null,null,null,null,null,527,566,"محمود527","انثى",null,null,{"$f":"IF(M530=\"\",\"\",IF(ISERROR(MATCH($M530,$I:$I,0)),S529,MAX($S$3:$S529)+1))","v":27},""]
[null,null,null,null,null,null,null,null,null,null,null,null,528,567,"محمود528","انثى",null,null,{"$f":"IF(M531=\"\",\"\",IF(ISERROR(MATCH($M531,$I:$I,0)),S530,MAX($S$3:$S530)+1))","v":27},""]
[null,null,null,null,null,null,null,null,null,null,null,null,529,568,"محمود529","انثى",null,null,{"$f":"IF(M532=\"\",\"\",IF(ISERROR(MATCH($M532,$I:$I,0)),S531,MAX($S$3:$S531)+1))","v":27},""]
[null,null,null,null,null,null,null,null,null,null,null,null,530,569,"محمود530","انثى",null,null,{"$f":"IF(M533=\"\",\"\",IF(ISERROR(MATCH($M533,$I:$I,0)),S532,MAX($S$3:$S532)+1))","v":27},""]
[null,null,null,null,null,null,null,null,null,null,null,null,531,570,"محمود531","انثى",null,null,{"$f":"IF(M534=\"\",\"\",IF(ISERROR(MATCH($M534,$I:$I,0)),S533,MAX($S$3:$S533)+1))","v":27},""]
[null,null,null,null,null,null,null,null,null,null,null,null,532,571,"محمود532","انثى",null,null,{"$f":"IF(M535=\"\",\"\",IF(ISERROR(MATCH($M535,$I:$I,0)),S534,MAX($S$3:$S534)+1))","v":27},""]
[null,null,null,null,null,null,null,null,null,null,null,null,533,572,"محمود533","انثى",null,null,{"$f":"IF(M536=\"\",\"\",IF(ISERROR(MATCH($M536,$I:$I,0)),S535,MAX($S$3:$S535)+1))","v":27},""]
[null,null,null,null,null,null,null,null,null,null,null,null,534,573,"محمود534","انثى",null,null,{"$f":"IF(M537=\"\",\"\",IF(ISERROR(MATCH($M537,$I:$I,0)),S536,MAX($S$3:$S536)+1))","v":27},""]
[null,null,null,null,null,null,null,null,null,null,null,null,535,574,"محمود535","انثى",null,null,{"$f":"IF(M538=\"\",\"\",IF(ISERROR(MATCH($M538,$I:$I,0)),S537,MAX($S$3:$S537)+1))","v":27},""]
[null,null,null,null,null,null,null,null,null,null,null,null,536,575,"محمود536","انثى",null,null,{"$f":"IF(M539=\"\",\"\",IF(ISERROR(MATCH($M539,$I:$I,0)),S538,MAX($S$3:$S538)+1))","v":27},""]
[null,null,null,null,null,null,null,null,null,null,null,null,537,576,"محمود537","انثى",null,null,{"$f":"IF(M540=\"\",\"\",IF(ISERROR(MATCH($M540,$I:$I,0)),S539,MAX($S$3:$S539)+1))","v":27},""]
[null,null,null,null,null,null,null,null,null,null,null,null,538,577,"محمود538","انثى",null,null,{"$f":"IF(M541=\"\",\"\",IF(ISERROR(MATCH($M541,$I:$I,0)),S540,MAX($S$3:$S540)+1))","v":27},""]
[null,null,null,null,null,null,null,null,null,null,null,null,539,578,"محمود539","انثى",null,null,{"$f":"IF(M542=\"\",\"\",IF(ISERROR(MATCH($M542,$I:$I,0)),S541,MAX($S$3:$S541)+1))","v":27},""]
[null,null,null,null,null,null,null,null,null,null,null,null,540,579,"محمود540","انثى",null,null,{"$f":"IF(M543=\"\",\"\",IF(ISERROR(MATCH($M543,$I:$I,0)),S542,MAX($S$3:$S542)+1))","v":27},"نهاية اللجنة"]
[null,null,null,null,null,null,null,null,null,null,null,null,541,580,"محمود541","انثى",null,null,{"$f":"IF(M544=\"\",\"\",IF(ISERROR(MATCH($M544,$I:$I,0)),S543,MAX($S$3:$S543)+1))","v":28},""]
[null,null,null,null,null,null,null,null,null,null,null,null,542,581,"محمود542","انثى",null,null,{"$f":"IF(M545=\"\",\"\",IF(ISERROR(MATCH($M545,$I:$I,0)),S544,MAX($S$3:$S544)+1))","v":28},""]
[null,null,null,null,null,null,null,null,null,null,null,null,543,582,"محمود543","انثى",null,null,{"$f":"IF(M546=\"\",\"\",IF(ISERROR(MATCH($M546,$I:$I,0)),S545,MAX($S$3:$S545)+1))","v":28},""]
[null,null,null,null,null,null,null,null,null,null,null,null,544,583,"محمود544","انثى",null,null,{"$f":"IF(M547=\"\",\"\",IF(ISERROR(MATCH($M547,$I:$I,0)),S546,MAX($S$3:$S546)+1))","v":28},""]
[null,null,null,null,null,null,null,null,null,null,null,null,545,584,"محمود545","انثى",null,null,{"$f":"IF(M548=\"\",\"\",IF(ISERROR(MATCH($M548,$I:$I,0)),S547,MAX($S$3:$S547)+1))","v":28},""]
[null,null,null,null,null,null,null,null,null,null,null,null,546,585,"محمود546","انثى",null,null,{"$f":"IF(M549=\"\",\"\",IF(ISERROR(MATCH($M549,$I:$I,0)),S548,MAX($S$3:$S548)+1))","v":28},""]
[null,null,null,null,null,null,null,null,null,null,null,null,547,586,"محمود547","انثى",null,null,{"$f":"IF(M550=\"\",\"\",IF(ISERROR(MATCH($M550,$I:$I,0)),S549,MAX($S$3:$S549)+1))","v":28},""]
[null,null,null,null,null,null,null,null,null,null,null,null,548,587,"محمود548","انثى",null,null,{"$f":"IF(M551=\"\",\"\",IF(ISERROR(MATCH($M551,$I:$I,0)),S550,MAX($S$3:$S550)+1))","v":28},""]
[null,null,null,null,null,null,null,null,null,null,null,null,549,588,"محمود549","انثى",null,null,{"$f":"IF(M552=\"\",\"\",IF(ISERROR(MATCH($M552,$I:$I,0)),S551,MAX($S$3:$S551)+1))","v":28},""]
[null,null,null,null,null,null,null,null,null,null,null,null,550,589,"محمود550","انثى",null,null,{"$f":"IF(M553=\"\",\"\",IF(ISERROR(MATCH($M553,$I:$I,0)),S552,MAX($S$3:$S552)+1))","v":28},""]
[null,null,null,null,null,null,null,null,null,null,null,null,551,590,"محمود551","انثى",null,null,{"$f":"IF(M554=\"\",\"\",IF(ISERROR(MATCH($M554,$I:$I,0)),S553,MAX($S$3:$S553)+1))","v":28},""]
[null,null,null,null,null,null,null,null,null,null,null,null,552,591,"محمود552","انثى",null,null,{"$f":"IF(M555=\"\",\"\",IF(ISERROR(MATCH($M555,$I:$I,0)),S554,MAX($S$3:$S554)+1))","v":28},""]
[null,null,null,null,null,null,null,null,null,null,null,null,553,592,"محمود553","انثى",null,null,{"$f":"IF(M556=\"\",\"\",IF(ISERROR(MATCH($M556,$I:$I,0)),S555,MAX($S$3:$S555)+1))","v":28},""]
[null,null,null,null,null,null,null,null,null,null,null,null,554,593,"محمود554","انثى",null,null,{"$f":"IF(M557=\"\",\"\",IF(ISERROR(MATCH($M557,$I:$I,0)),S556,MAX($S$3:$S556)+1))","v":28},""]
[null,null,null,null,null,null,null,null,null,null,null,null,555,594,"محمود555","انثى",null,null,{"$f":"IF(M558=\"\",\"\",IF(ISERROR(MATCH($M558,$I:$I,0)),S557,MAX($S$3:$S557)+1))","v":28},""]
[null,null,null,null,null,null,null,null,null,null,null,null,556,595,"محمود556","انثى",null,null,{"$f":"IF(M559=\"\",\"\",IF(ISERROR(MATCH($M559,$I:$I,0)),S558,MAX($S$3:$S558)+1))","v":28},""]
[null,null,null,null,null,null,null,null,null,null,null,null,557,596,"محمود557","انثى",null,null,{"$f":"IF(M560=\"\",\"\",IF(ISERROR(MATCH($M560,$I:$I,0)),S559,MAX($S$3:$S559)+1))","v":28},""]
[null,null,null,null,null,null,null,null,null,null,null,null,558,597,"محمود558","انثى",null,null,{"$f":"IF(M561=\"\",\"\",IF(ISERROR(MATCH($M561,$I:$I,0)),S560,MAX($S$3:$S560)+1))","v":28},""]
[null,null,null,null,null,null,null,null,null,null,null,null,559,598,"محمود559","انثى",null,null,{"$f":"IF(M562=\"\",\"\",IF(ISERROR(MATCH($M562,$I:$I,0)),S561,MAX($S$3:$S561)+1))","v":28},""]
[null,null,null,null,null,null,null,null,null,null,null,null,560,599,"محمود560","انثى",null,null,{"$f":"IF(M563=\"\",\"\",IF(ISERROR(MATCH($M563,$I:$I,0)),S562,MAX($S$3:$S562)+1))","v":28},"نهاية اللجنة"]
[null,null,null,null,null,null,null,null,null,null,null,null,561,600,"محمود561","انثى",null,null,{"$f":"IF(M564=\"\",\"\",IF(ISERROR(MATCH($M564,$I:$I,0)),S563,MAX($S$3:$S563)+1))","v":29},""]
[null,null,null,null,null,null,null,null,null,null,null,null,562,601,"محمود562","انثى",null,null,{"$f":"IF(M565=\"\",\"\",IF(ISERROR(MATCH($M565,$I:$I,0)),S564,MAX($S$3:$S564)+1))","v":29},""]
[null,null,null,null,null,null,null,null,null,null,null,null,563,602,"محمود563","انثى",null,null,{"$f":"IF(M566=\"\",\"\",IF(ISERROR(MATCH($M566,$I:$I,0)),S565,MAX($S$3:$S565)+1))","v":29},""]
[null,null,null,null,null,null,null,null,null,null,null,null,564,603,"محمود564","انثى",null,null,{"$f":"IF(M567=\"\",\"\",IF(ISERROR(MATCH($M567,$I:$I,0)),S566,MAX($S$3:$S566)+1))","v":29},""]
[null,null,null,null,null,null,null,null,null,null,null,null,565,604,"محمود565","انثى",null,null,{"$f":"IF(M568=\"\",\"\",IF(ISERROR(MATCH($M568,$I:$I,0)),S567,MAX($S$3:$S567)+1))","v":29},""]
[null,null,null,null,null,null,null,null,null,null,null,null,566,605,"محمود566","انثى",null,null,{"$f":"IF(M569=\"\",\"\",IF(ISERROR(MATCH($M569,$I:$I,0)),S568,MAX($S$3:$S568)+1))","v":29},""]
[null,null,null,null,null,null,null,null,null,null,null,null,567,606,"محمود567","انثى",null,null,{"$f":"IF(M570=\"\",\"\",IF(ISERROR(MATCH($M570,$I:$I,0)),S569,MAX($S$3:$S569)+1))","v":29},""]
[null,null,null,null,null,null,null,null,null,null,null,null,568,607,"محمود568","انثى",null,null,{"$f":"IF(M571=\"\",\"\",IF(ISERROR(MATCH($M571,$I:$I,0)),S570,MAX($S$3:$S570)+1))","v":29},""]
[null,null,null,null,null,null,null,null,null,null,null,null,569,608,"محمود569","انثى",null,null,{"$f":"IF(M572=\"\",\"\",IF(ISERROR(MATCH($M572,$I:$I,0)),S571,MAX($S$3:$S571)+1))","v":29},""]
[null,null,null,null,null,null,null,null,null,null,null,null,570,609,"محمود570","انثى",null,null,{"$f":"IF(M573=\"\",\"\",IF(ISERROR(MATCH($M573,$I:$I,0)),S572,MAX($S$3:$S572)+1))","v":29},""]
[null,null,null,null,null,null,null,null,null,null,null,null,571,610,"محمود571","انثى",null,null,{"$f":"IF(M574=\"\",\"\",IF(ISERROR(MATCH($M574,$I:$I,0)),S573,MAX($S$3:$S573)+1))","v":29},""]
[null,null,null,null,null,null,null,null,null,null,null,null,572,611,"محمود572","انثى",null,null,{"$f":"IF(M575=\"\",\"\",IF(ISERROR(MATCH($M575,$I:$I,0)),S574,MAX($S$3:$S574)+1))","v":29},""]
[null,null,null,null,null,null,null,null,null,null,null,null,573,612,"محمود573","انثى",null,null,{"$f":"IF(M576=\"\",\"\",IF(ISERROR(MATCH($M576,$I:$I,0)),S575,MAX($S$3:$S575)+1))","v":29},""]
[null,null,null,null,null,null,null,null,null,null,null,null,574,613,"محمود574","انثى",null,null,{"$f":"IF(M577=\"\",\"\",IF(ISERROR(MATCH($M577,$I:$I,0)),S576,MAX($S$3:$S576)+1))","v":29},""]
[null,null,null,null,null,null,null,null,null,null,null,null,575,614,"محمود575","انثى",null,null,{"$f":"IF(M578=\"\",\"\",IF(ISERROR(MATCH($M578,$I:$I,0)),S577,MAX($S$3:$S577)+1))","v":29},""]
[null,null,null,null,null,null,null,null,null,null,null,null,576,615,"محمود576","انثى",null,null,{"$f":"IF(M579=\"\",\"\",IF(ISERROR(MATCH($M579,$I:$I,0)),S578,MAX($S$3:$S578)+1))","v":29},""]
[null,null,null,null,null,null,null,null,null,null,null,null,577,616,"محمود577","انثى",null,null,{"$f":"IF(M580=\"\",\"\",IF(ISERROR(MATCH($M580,$I:$I,0)),S579,MAX($S$3:$S579)+1))","v":29},""]
[null,null,null,null,null,null,null,null,null,null,null,null,{"$f":"(IF(O581=\"\",\"\",ROW()-3))","v":578},617,"محمود578",{"$f":"IF(O581=\"\",\"\",P578)","v":"انثى"},null,null,{"$f":"IF(M581=\"\",\"\",IF(ISERROR(MATCH($M581,$I:$I,0)),S580,MAX($S$3:$S580)+1))","v":29},{"$f":"IF(S581=S582,\"\",\"نهاية اللجنة\")","v":""}]
[null,null,null,null,null,null,null,null,null,null,null,null,579,{"$f":"IF(M582=\"\",\"\",N581+1)","v":618},"محمود579","انثى",null,null,{"$f":"IF(M582=\"\",\"\",IF(ISERROR(MATCH($M582,$I:$I,0)),S581,MAX($S$3:$S581)+1))","v":29},""]
[null,null,null,null,null,null,null,null,null,null,null,null,580,619,"محمود580","انثى",null,null,{"$f":"IF(M583=\"\",\"\",IF(ISERROR(MATCH($M583,$I:$I,0)),S582,MAX($S$3:$S582)+1))","v":29},"نهاية اللجنة"]
[null,null,null,null,null,null,null,null,null,null,null,null,581,620,"محمود581","انثى",null,null,{"$f":"IF(M584=\"\",\"\",IF(ISERROR(MATCH($M584,$I:$I,0)),S583,MAX($S$3:$S583)+1))","v":30},""]
[null,null,null,null,null,null,null,null,null,null,null,null,582,621,"محمود582","انثى",null,null,{"$f":"IF(M585=\"\",\"\",IF(ISERROR(MATCH($M585,$I:$I,0)),S584,MAX($S$3:$S584)+1))","v":30},""]
[null,null,null,null,null,null,null,null,null,null,null,null,583,622,"محمود583","انثى",null,null,{"$f":"IF(M586=\"\",\"\",IF(ISERROR(MATCH($M586,$I:$I,0)),S585,MAX($S$3:$S585)+1))","v":30},""]
[null,null,null,null,null,null,null,null,null,null,null,null,584,623,"محمود584","انثى",null,null,{"$f":"IF(M587=\"\",\"\",IF(ISERROR(MATCH($M587,$I:$I,0)),S586,MAX($S$3:$S586)+1))","v":30},""]
[null,null,null,null,null,null,null,null,null,null,null,null,585,624,"محمود585","انثى",null,null,{"$f":"IF(M588=\"\",\"\",IF(ISERROR(MATCH($M588,$I:$I,0)),S587,MAX($S$3:$S587)+1))","v":30},""]
[null,null,null,null,null,null,null,null,null,null,null,null,586,625,"محمود586","انثى",null,null,{"$f":"IF(M589=\"\",\"\",IF(ISERROR(MATCH($M589,$I:$I,0)),S588,MAX($S$3:$S588)+1))","v":30},"نهاية اللجنة"]
[null,null,null,null,null,null,null,null,null,null,null,null,"","",null,"",null,null,{"$f":"IF(M590=\"\",\"\",IF(ISERROR(MATCH($M590,$I:$I,0)),S589,MAX($S$3:$S589)+1))","v":""},""]
[null,null,null,null,null,null,null,null,null,null,null,null,"","",null,"",null,null,{"$f":"IF(M591=\"\",\"\",IF(ISERROR(MATCH($M591,$I:$I,0)),S590,MAX($S$3:$S590)+1))","v":""},""]
[null,null,null,null,null,null,null,null,null,null,null,null,"","",null,"",null,null,{"$f":"IF(M592=\"\",\"\",IF(ISERROR(MATCH($M592,$I:$I,0)),S591,MAX($S$3:$S591)+1))","v":""},""]
[null,null,null,null,null,null,null,null,null,null,null,null,"","",null,"",null,null,{"$f":"IF(M593=\"\",\"\",IF(ISERROR(MATCH($M593,$I:$I,0)),S592,MAX($S$3:$S592)+1))","v":""},""]
[null,null,null,null,null,null,null,null,null,null,null,null,"","",null,"",null,null,{"$f":"IF(M594=\"\",\"\",IF(ISERROR(MATCH($M594,$I:$I,0)),S593,MAX($S$3:$S593)+1))","v":""},""]
[null,null,null,null,null,null,null,null,null,null,null,null,"","",null,"",null,null,{"$f":"IF(M595=\"\",\"\",IF(ISERROR(MATCH($M595,$I:$I,0)),S594,MAX($S$3:$S594)+1))","v":""},""]
[null,null,null,null,null,null,null,null,null,null,null,null,"","",null,"",null,null,{"$f":"IF(M596=\"\",\"\",IF(ISERROR(MATCH($M596,$I:$I,0)),S595,MAX($S$3:$S595)+1))","v":""},""]
[null,null,null,null,null,null,null,null,null,null,null,null,"","",null,"",null,null,{"$f":"IF(M597=\"\",\"\",IF(ISERROR(MATCH($M597,$I:$I,0)),S596,MAX($S$3:$S596)+1))","v":""},""]
[null,null,null,null,null,null,null,null,null,null,null,null,"","",null,"",null,null,{"$f":"IF(M598=\"\",\"\",IF(ISERROR(MATCH($M598,$I:$I,0)),S597,MAX($S$3:$S597)+1))","v":""},""]
[null,null,null,null,null,null,null,null,null,null,null,null,"","",null,"",null,null,{"$f":"IF(M599=\"\",\"\",IF(ISERROR(MATCH($M599,$I:$I,0)),S598,MAX($S$3:$S598)+1))","v":""},""]
[null,null,null,null,null,null,null,null,null,null,null,null,"","",null,"",null,null,{"$f":"IF(M600=\"\",\"\",IF(ISERROR(MATCH($M600,$I:$I,0)),S599,MAX($S$3:$S599)+1))","v":""},""]
[null,null,null,null,null,null,null,null,null,null,null,null,"","",null,"",null,null,{"$f":"IF(M601=\"\",\"\",IF(ISERROR(MATCH($M601,$I:$I,0)),S600,MAX($S$3:$S600)+1))","v":""},""]
[null,null,null,null,null,null,null,null,null,null,null,null,"","",null,"",null,null,{"$f":"IF(M602=\"\",\"\",IF(ISERROR(MATCH($M602,$I:$I,0)),S601,MAX($S$3:$S601)+1))","v":""},""]
[null,null,null,null,null,null,null,null,null,null,null,null,"","",null,"",null,null,{"$f":"IF(M603=\"\",\"\",IF(ISERROR(MATCH($M603,$I:$I,0)),S602,MAX($S$3:$S602)+1))","v":""},""]

{"sheet":"أرقام جلوس الثالث","index":8,"n_rows":219,"n_cols":15,"rows_kept":219,"cut":false,"hidden":false,"merged":[[209,6,209,7],[210,6,210,7],[210,8,210,9],[211,6,211,10],[213,6,214,6],[213,7,214,7],[213,8,213,9],[213,10,214,10],[198,6,198,7],[199,6,199,7],[199,8,199,9],[200,6,200,10],[202,6,203,6],[202,7,203,7],[202,8,202,9],[202,10,203,10],[187,6,187,7],[188,6,188,7],[188,8,188,9],[189,6,189,10],[191,6,192,6],[191,7,192,7],[191,8,191,9],[191,10,192,10],[176,6,176,7],[177,6,177,7],[177,8,177,9],[178,6,178,10],[180,6,181,6],[180,7,181,7],[180,8,180,9],[180,10,181,10],[165,6,165,7],[166,6,166,7],[166,8,166,9],[167,6,167,10],[169,6,170,6],[169,7,170,7],[169,8,169,9],[169,10,170,10],[154,6,154,7],[155,6,155,7],[155,8,155,9],[156,6,156,10],[158,6,159,6],[158,7,159,7],[158,8,158,9],[158,10,159,10],[143,6,143,7],[144,6,144,7],[144,8,144,9],[145,6,145,10],[147,6,148,6],[147,7,148,7],[147,8,147,9],[147,10,148,10],[132,6,132,7],[133,6,133,7],[133,8,133,9],[134,6,134,10],[136,6,137,6],[136,7,137,7],[136,8,136,9],[136,10,137,10],[121,6,121,7],[122,6,122,7],[122,8,122,9],[123,6,123,10],[125,6,126,6],[125,7,126,7],[125,8,125,9],[125,10,126,10],[110,6,110,7],[111,6,111,7],[111,8,111,9],[112,6,112,10],[114,6,115,6],[114,7,115,7],[114,8,114,9],[114,10,115,10],[99,6,99,7],[100,6,100,7],[100,8,100,9],[101,6,101,10],[103,6,104,6],[103,7,104,7],[103,8,103,9],[103,10,104,10],[88,6,88,7],[89,6,89,7],[89,8,89,9],[90,6,90,10],[92,6,93,6],[92,7,93,7],[92,8,92,9],[92,10,93,10],[77,6,77,7],[78,6,78,7],[78,8,78,9],[79,6,79,10],[81,6,82,6],[81,7,82,7],[81,8,81,9],[81,10,82,10],[66,6,66,7],[67,6,67,7],[67,8,67,9],[68,6,68,10],[70,6,71,6],[70,7,71,7],[70,8,70,9],[70,10,71,10],[55,6,55,7],[56,6,56,7],[56,8,56,9],[57,6,57,10],[59,6,60,6],[59,7,60,7],[59,8,59,9],[59,10,60,10],[44,6,44,7],[45,6,45,7],[45,8,45,9],[46,6,46,10],[48,6,49,6],[48,7,49,7],[48,8,48,9],[48,10,49,10],[33,6,33,7],[34,6,34,7],[34,8,34,9],[35,6,35,10],[37,6,38,6],[37,7,38,7],[37,8,37,9],[37,10,38,10],[22,6,22,7],[23,6,23,7],[23,8,23,9],[24,6,24,10],[26,6,27,6],[26,7,27,7],[26,8,26,9],[26,10,27,10],[11,6,11,7],[12,6,12,7],[12,8,12,9],[13,6,13,10],[15,6,16,6],[15,7,16,7],[15,8,15,9],[15,10,16,10],[4,6,5,6],[0,6,0,7],[1,6,1,7],[2,6,2,10],[4,7,5,7],[4,8,4,9],[4,10,5,10],[1,8,1,9],[209,0,209,1],[210,0,210,1],[187,0,187,1],[188,0,188,1],[189,0,189,4],[191,0,192,0],[191,1,192,1],[191,2,191,3],[191,4,192,4],[176,0,176,1],[177,0,177,1],[178,0,178,4],[180,0,181,0],[180,1,181,1],[180,2,180,3],[180,4,181,4],[165,0,165,1],[211,0,211,4],[213,0,214,0],[213,1,214,1],[213,2,213,3],[213,4,214,4],[198,0,198,1],[199,0,199,1],[200,0,200,4],[202,0,203,0],[202,1,203,1],[202,2,202,3],[202,4,203,4],[166,0,166,1],[167,0,167,4],[169,0,170,0],[169,1,170,1],[169,2,169,3],[169,4,170,4],[154,0,154,1],[155,0,155,1],[156,0,156,4],[158,0,159,0],[158,1,159,1],[158,2,158,3],[158,4,159,4],[143,0,143,1],[144,0,144,1],[145,0,145,4],[147,0,148,0],[147,1,148,1],[147,2,147,3],[147,4,148,4],[132,0,132,1],[133,0,133,1],[134,0,134,4],[136,0,137,0],[136,1,137,1],[136,2,136,3],[136,4,137,4],[121,0,121,1],[122,0,122,1],[123,0,123,4],[125,0,126,0],[125,1,126,1],[125,2,125,3],[125,4,126,4],[110,0,110,1],[111,0,111,1],[112,0,112,4],[114,0,115,0],[114,1,115,1],[114,2,114,3],[114,4,115,4],[99,0,99,1],[100,0,100,1],[101,0,101,4],[103,0,104,0],[103,1,104,1],[103,2,103,3],[103,4,104,4],[88,0,88,1],[89,0,89,1],[90,0,90,4],[92,0,93,0],[92,1,93,1],[92,2,92,3],[92,4,93,4],[77,0,77,1],[78,0,78,1],[79,0,79,4],[81,0,82,0],[81,1,82,1],[81,2,81,3],[81,4,82,4],[66,0,66,1],[67,0,67,1],[68,0,68,4],[70,0,71,0],[70,1,71,1],[70,2,70,3],[70,4,71,4],[55,0,55,1],[56,0,56,1],[57,0,57,4],[59,0,60,0],[59,1,60,1],[59,2,59,3],[59,4,60,4],[44,0,44,1],[45,0,45,1],[46,0,46,4],[48,0,49,0],[48,1,49,1],[48,2,48,3],[48,4,49,4],[33,0,33,1],[34,0,34,1],[35,0,35,4],[37,0,38,0],[37,1,38,1],[37,2,37,3],[37,4,38,4],[23,0,23,1],[24,0,24,4],[26,0,27,0],[26,1,27,1],[26,2,26,3],[26,4,27,4],[15,0,16,0],[15,1,16,1],[15,2,15,3],[15,4,16,4],[22,0,22,1],[1,0,1,1],[0,0,0,1],[11,0,11,1],[12,0,12,1],[13,0,13,4],[1,2,1,3],[4,0,5,0],[4,1,5,1],[4,2,4,3],[4,4,5,4],[2,0,2,4]]}
[{"$f":"'البيانات الأساسية'!$A$1","v":"إدارة /غرب المحلة الكبرى التعليمية"},null,"رقم اللجنة",{"$f":"VLOOKUP(E2,جلوس_أسماء3,7,FALSE)","v":1},null,null,{"$f":"'البيانات الأساسية'!$A$1","v":"إدارة /غرب المحلة الكبرى التعليمية"},null,"رقم اللجنة",{"$f":"VLOOKUP(K2,جلوس_أسماء3,7,FALSE)","v":2},null,null,null,null,1]
[{"$f":"'جدول الصف الثالث '!$A$2","v":"مدرسة د/علي علي حبيش الابتدائية"},null,{"$f":"'جدول الصف الثالث '!$C$5","v":"الصف الثالث"},null,{"$f":"O1","v":1},null,{"$f":"'جدول الصف الثالث '!$A$2","v":"مدرسة د/علي علي حبيش الابتدائية"},null,{"$f":"'جدول الصف الثالث '!$C$5","v":"الصف الثالث"},null,{"$f":"E211+1","v":21}]
[{"$f":"'جدول الصف الثالث '!$B$4","v":"جدول امتحان الفصل الدراسي الأول / الثاني للعام الدراسي 2019/2018"},null,null,null,null,null,{"$f":"'جدول الصف الثالث '!$B$4","v":"جدول امتحان الفصل الدراسي الأول / الثاني للعام الدراسي 2019/2018"}]
["اسم التلميذ",{"$f":"VLOOKUP(E2,جلوس_أسماء3,3,FALSE)","v":"محمود1"},"رقم الجلوس",{"$f":"VLOOKUP(E2,جلوس_أسماء3,2,FALSE)","v":40},null,null,"اسم التلميذ",{"$f":"VLOOKUP(K2,جلوس_أسماء3,3,FALSE)","v":"محمود21"},"رقم الجلوس",{"$f":"VLOOKUP(K2,جلوس_أسماء3,2,FALSE)","v":60}]
["اليوم والترايخ","المــــــــــــــــادة","الزمن",null,"الزمن",null,"اليوم والترايخ","المــــــــــــــــادة","الزمن",null,"الزمن"]
[null,null,"من ","إلي",null,null,null,null,"من ","إلي"]
[{"$f":"'جدول الصف الثالث '!$B$8","v":"السبت"},{"$f":"'جدول الصف الثالث '!$C$8","v":"لغة عربية وخط"},{"$f":"'جدول الصف الثالث '!$D$8","v":8},{"$f":"'جدول الصف الثالث '!$E$8","v":10},{"$f":"'جدول الصف الثالث '!$F$8","v":"ساعتان"},null,{"$f":"'جدول الصف الثالث '!$B$8","v":"السبت"},{"$f":"'جدول الصف الثالث '!$C$8","v":"لغة عربية وخط"},{"$f":"'جدول الصف الثالث '!$D$8","v":8},{"$f":"'جدول الصف الثالث '!$E$8","v":10},{"$f":"'جدول الصف الثالث '!$F$8","v":"ساعتان"}]
[{"$f":"'جدول الصف الثالث '!$B$9","v":"2018-01-01"},{"$f":"'جدول الصف الثالث '!$C$9","v":"التربية الدينية"},{"$f":"'جدول الصف الثالث '!$D$9","v":10.15},{"$f":"'جدول الصف الثالث '!$E$9","v":11.45},{"$f":"'جدول الصف الثالث '!$F$9","v":"ساعة"},null,{"$f":"'جدول الصف الثالث '!$B$9","v":"2018-01-01"},{"$f":"'جدول الصف الثالث '!$C$9","v":"التربية الدينية"},{"$f":"'جدول الصف الثالث '!$D$9","v":10.15},{"$f":"'جدول الصف الثالث '!$E$9","v":11.45},{"$f":"'جدول الصف الثالث '!$F$9","v":"ساعة"}]
[{"$f":"'جدول الصف الثالث '!$B$10","v":"الأحد"},{"$f":"'جدول الصف الثالث '!$C$10","v":"الرياضيات"},{"$f":"'جدول الصف الثالث '!$D$10","v":8},{"$f":"'جدول الصف الثالث '!$E$10","v":9.3000000000000007},{"$f":"'جدول الصف الثالث '!$F$10","v":"ساعة ونصف"},null,{"$f":"'جدول الصف الثالث '!$B$10","v":"الأحد"},{"$f":"'جدول الصف الثالث '!$C$10","v":"الرياضيات"},{"$f":"'جدول الصف الثالث '!$D$10","v":8},{"$f":"'جدول الصف الثالث '!$E$10","v":9.3000000000000007},{"$f":"'جدول الصف الثالث '!$F$10","v":"ساعة ونصف"}]
[{"$f":"'جدول الصف الثالث '!$B$11","v":"2018-01-02"},{"$f":"'جدول الصف الثالث '!$C$11","v":"اللغة الإنجليزية"},{"$f":"'جدول الصف الثالث '!$D$11","v":9.4499999999999993},{"$f":"'جدول الصف الثالث '!$E$11","v":11.15},{"$f":"'جدول الصف الثالث '!$F$11","v":"ساعة ونصف"},null,{"$f":"'جدول الصف الثالث '!$B$11","v":"2018-01-02"},{"$f":"'جدول الصف الثالث '!$C$11","v":"اللغة الإنجليزية"},{"$f":"'جدول الصف الثالث '!$D$11","v":9.4499999999999993},{"$f":"'جدول الصف الثالث '!$E$11","v":11.15},{"$f":"'جدول الصف الثالث '!$F$11","v":"ساعة ونصف"}]
[]
[{"$f":"'جدول الصف الثالث '!$A$1","v":"إدارة /غرب المحلة الكبرى التعليمية"},null,"رقم اللجنة",{"$f":"VLOOKUP(E13,جلوس_أسماء3,7,FALSE)","v":1},null,null,{"$f":"'جدول الصف الثالث '!$A$1","v":"إدارة /غرب المحلة الكبرى التعليمية"},null,"رقم اللجنة",{"$f":"VLOOKUP(K13,جلوس_أسماء3,7,FALSE)","v":2}]
[{"$f":"'جدول الصف الثالث '!$A$2","v":"مدرسة د/علي علي حبيش الابتدائية"},null,{"$f":"'جدول الصف الثالث '!$C$5","v":"الصف الثالث"},null,{"$f":"E2+1","v":2},null,{"$f":"'جدول الصف الثالث '!$A$2","v":"مدرسة د/علي علي حبيش الابتدائية"},null,{"$f":"'جدول الصف الثالث '!$C$5","v":"الصف الثالث"},null,{"$f":"K2+1","v":22}]
[{"$f":"'جدول الصف الثالث '!$B$4","v":"جدول امتحان الفصل الدراسي الأول / الثاني للعام الدراسي 2019/2018"},null,null,null,null,null,{"$f":"'جدول الصف الثالث '!$B$4","v":"جدول امتحان الفصل الدراسي الأول / الثاني للعام الدراسي 2019/2018"}]
["اسم التلميذ",{"$f":"VLOOKUP(E13,جلوس_أسماء3,3,FALSE)","v":"محمود2"},"رقم الجلوس",{"$f":"VLOOKUP(E13,جلوس_أسماء3,2,FALSE)","v":41},null,null,"اسم التلميذ",{"$f":"VLOOKUP(K13,جلوس_أسماء3,3,FALSE)","v":"محمود22"},"رقم الجلوس",{"$f":"VLOOKUP(K13,جلوس_أسماء3,2,FALSE)","v":61}]
["اليوم والترايخ","المــــــــــــــــادة","الزمن",null,"الزمن",null,"اليوم والترايخ","المــــــــــــــــادة","الزمن",null,"الزمن"]
[null,null,"من ","إلي",null,null,null,null,"من ","إلي"]
[{"$f":"'جدول الصف الثالث '!$B$8","v":"السبت"},{"$f":"'جدول الصف الثالث '!$C$8","v":"لغة عربية وخط"},{"$f":"'جدول الصف الثالث '!$D$8","v":8},{"$f":"'جدول الصف الثالث '!$E$8","v":10},{"$f":"'جدول الصف الثالث '!$F$8","v":"ساعتان"},null,{"$f":"'جدول الصف الثالث '!$B$8","v":"السبت"},{"$f":"'جدول الصف الثالث '!$C$8","v":"لغة عربية وخط"},{"$f":"'جدول الصف الثالث '!$D$8","v":8},{"$f":"'جدول الصف الثالث '!$E$8","v":10},{"$f":"'جدول الصف الثالث '!$F$8","v":"ساعتان"}]
[{"$f":"'جدول الصف الثالث '!$B$9","v":"2018-01-01"},{"$f":"'جدول الصف الثالث '!$C$9","v":"التربية الدينية"},{"$f":"'جدول الصف الثالث '!$D$9","v":10.15},{"$f":"'جدول الصف الثالث '!$E$9","v":11.45},{"$f":"'جدول الصف الثالث '!$F$9","v":"ساعة"},null,{"$f":"'جدول الصف الثالث '!$B$9","v":"2018-01-01"},{"$f":"'جدول الصف الثالث '!$C$9","v":"التربية الدينية"},{"$f":"'جدول الصف الثالث '!$D$9","v":10.15},{"$f":"'جدول الصف الثالث '!$E$9","v":11.45},{"$f":"'جدول الصف الثالث '!$F$9","v":"ساعة"}]
[{"$f":"'جدول الصف الثالث '!$B$10","v":"الأحد"},{"$f":"'جدول الصف الثالث '!$C$10","v":"الرياضيات"},{"$f":"'جدول الصف الثالث '!$D$10","v":8},{"$f":"'جدول الصف الثالث '!$E$10","v":9.3000000000000007},{"$f":"'جدول الصف الثالث '!$F$10","v":"ساعة ونصف"},null,{"$f":"'جدول الصف الثالث '!$B$10","v":"الأحد"},{"$f":"'جدول الصف الثالث '!$C$10","v":"الرياضيات"},{"$f":"'جدول الصف الثالث '!$D$10","v":8},{"$f":"'جدول الصف الثالث '!$E$10","v":9.3000000000000007},{"$f":"'جدول الصف الثالث '!$F$10","v":"ساعة ونصف"}]
[{"$f":"'جدول الصف الثالث '!$B$11","v":"2018-01-02"},{"$f":"'جدول الصف الثالث '!$C$11","v":"اللغة الإنجليزية"},{"$f":"'جدول الصف الثالث '!$D$11","v":9.4499999999999993},{"$f":"'جدول الصف الثالث '!$E$11","v":11.15},{"$f":"'جدول الصف الثالث '!$F$11","v":"ساعة ونصف"},null,{"$f":"'جدول الصف الثالث '!$B$11","v":"2018-01-02"},{"$f":"'جدول الصف الثالث '!$C$11","v":"اللغة الإنجليزية"},{"$f":"'جدول الصف الثالث '!$D$11","v":9.4499999999999993},{"$f":"'جدول الصف الثالث '!$E$11","v":11.15},{"$f":"'جدول الصف الثالث '!$F$11","v":"ساعة ونصف"}]
[]
[{"$f":"'جدول الصف الثالث '!$A$1","v":"إدارة /غرب المحلة الكبرى التعليمية"},null,"رقم اللجنة",{"$f":"VLOOKUP(E24,جلوس_أسماء3,7,FALSE)","v":1},null,null,{"$f":"'جدول الصف الثالث '!$A$1","v":"إدارة /غرب المحلة الكبرى التعليمية"},null,"رقم اللجنة",{"$f":"VLOOKUP(K24,جلوس_أسماء3,7,FALSE)","v":2}]
[{"$f":"'جدول الصف الثالث '!$A$2","v":"مدرسة د/علي علي حبيش الابتدائية"},null,{"$f":"'جدول الصف الثالث '!$C$5","v":"الصف الثالث"},null,{"$f":"E13+1","v":3},null,{"$f":"'جدول الصف الثالث '!$A$2","v":"مدرسة د/علي علي حبيش الابتدائية"},null,{"$f":"'جدول الصف الثالث '!$C$5","v":"الصف الثالث"},null,{"$f":"K13+1","v":23}]
[{"$f":"'جدول الصف الثالث '!$B$4","v":"جدول امتحان الفصل الدراسي الأول / الثاني للعام الدراسي 2019/2018"},null,null,null,null,null,{"$f":"'جدول الصف الثالث '!$B$4","v":"جدول امتحان الفصل الدراسي الأول / الثاني للعام الدراسي 2019/2018"}]
["اسم التلميذ",{"$f":"VLOOKUP(E24,جلوس_أسماء3,3,FALSE)","v":"محمود3"},"رقم الجلوس",{"$f":"VLOOKUP(E24,جلوس_أسماء3,2,FALSE)","v":42},null,null,"اسم التلميذ",{"$f":"VLOOKUP(K24,جلوس_أسماء3,3,FALSE)","v":"محمود23"},"رقم الجلوس",{"$f":"VLOOKUP(K24,جلوس_أسماء3,2,FALSE)","v":62}]
["اليوم والترايخ","المــــــــــــــــادة","الزمن",null,"الزمن",null,"اليوم والترايخ","المــــــــــــــــادة","الزمن",null,"الزمن"]
[null,null,"من ","إلي",null,null,null,null,"من ","إلي"]
[{"$f":"'جدول الصف الثالث '!$B$8","v":"السبت"},{"$f":"'جدول الصف الثالث '!$C$8","v":"لغة عربية وخط"},{"$f":"'جدول الصف الثالث '!$D$8","v":8},{"$f":"'جدول الصف الثالث '!$E$8","v":10},{"$f":"'جدول الصف الثالث '!$F$8","v":"ساعتان"},null,{"$f":"'جدول الصف الثالث '!$B$8","v":"السبت"},{"$f":"'جدول الصف الثالث '!$C$8","v":"لغة عربية وخط"},{"$f":"'جدول الصف الثالث '!$D$8","v":8},{"$f":"'جدول الصف الثالث '!$E$8","v":10},{"$f":"'جدول الصف الثالث '!$F$8","v":"ساعتان"}]
[{"$f":"'جدول الصف الثالث '!$B$9","v":"2018-01-01"},{"$f":"'جدول الصف الثالث '!$C$9","v":"التربية الدينية"},{"$f":"'جدول الصف الثالث '!$D$9","v":10.15},{"$f":"'جدول الصف الثالث '!$E$9","v":11.45},{"$f":"'جدول الصف الثالث '!$F$9","v":"ساعة"},null,{"$f":"'جدول الصف الثالث '!$B$9","v":"2018-01-01"},{"$f":"'جدول الصف الثالث '!$C$9","v":"التربية الدينية"},{"$f":"'جدول الصف الثالث '!$D$9","v":10.15},{"$f":"'جدول الصف الثالث '!$E$9","v":11.45},{"$f":"'جدول الصف الثالث '!$F$9","v":"ساعة"}]
[{"$f":"'جدول الصف الثالث '!$B$10","v":"الأحد"},{"$f":"'جدول الصف الثالث '!$C$10","v":"الرياضيات"},{"$f":"'جدول الصف الثالث '!$D$10","v":8},{"$f":"'جدول الصف الثالث '!$E$10","v":9.3000000000000007},{"$f":"'جدول الصف الثالث '!$F$10","v":"ساعة ونصف"},null,{"$f":"'جدول الصف الثالث '!$B$10","v":"الأحد"},{"$f":"'جدول الصف الثالث '!$C$10","v":"الرياضيات"},{"$f":"'جدول الصف الثالث '!$D$10","v":8},{"$f":"'جدول الصف الثالث '!$E$10","v":9.3000000000000007},{"$f":"'جدول الصف الثالث '!$F$10","v":"ساعة ونصف"}]
[{"$f":"'جدول الصف الثالث '!$B$11","v":"2018-01-02"},{"$f":"'جدول الصف الثالث '!$C$11","v":"اللغة الإنجليزية"},{"$f":"'جدول الصف الثالث '!$D$11","v":9.4499999999999993},{"$f":"'جدول الصف الثالث '!$E$11","v":11.15},{"$f":"'جدول الصف الثالث '!$F$11","v":"ساعة ونصف"},null,{"$f":"'جدول الصف الثالث '!$B$11","v":"2018-01-02"},{"$f":"'جدول الصف الثالث '!$C$11","v":"اللغة الإنجليزية"},{"$f":"'جدول الصف الثالث '!$D$11","v":9.4499999999999993},{"$f":"'جدول الصف الثالث '!$E$11","v":11.15},{"$f":"'جدول الصف الثالث '!$F$11","v":"ساعة ونصف"}]
[]
[{"$f":"'جدول الصف الثالث '!$A$1","v":"إدارة /غرب المحلة الكبرى التعليمية"},null,"رقم اللجنة",{"$f":"VLOOKUP(E35,جلوس_أسماء3,7,FALSE)","v":1},null,null,{"$f":"'جدول الصف الثالث '!$A$1","v":"إدارة /غرب المحلة الكبرى التعليمية"},null,"رقم اللجنة",{"$f":"VLOOKUP(K35,جلوس_أسماء3,7,FALSE)","v":2}]
[{"$f":"'جدول الصف الثالث '!$A$2","v":"مدرسة د/علي علي حبيش الابتدائية"},null,{"$f":"'جدول الصف الثالث '!$C$5","v":"الصف الثالث"},null,{"$f":"E24+1","v":4},null,{"$f":"'جدول الصف الثالث '!$A$2","v":"مدرسة د/علي علي حبيش الابتدائية"},null,{"$f":"'جدول الصف الثالث '!$C$5","v":"الصف الثالث"},null,{"$f":"K24+1","v":24}]
[{"$f":"'جدول الصف الثالث '!$B$4","v":"جدول امتحان الفصل الدراسي الأول / الثاني للعام الدراسي 2019/2018"},null,null,null,null,null,{"$f":"'جدول الصف الثالث '!$B$4","v":"جدول امتحان الفصل الدراسي الأول / الثاني للعام الدراسي 2019/2018"}]
["اسم التلميذ",{"$f":"VLOOKUP(E35,جلوس_أسماء3,3,FALSE)","v":"محمود4"},"رقم الجلوس",{"$f":"VLOOKUP(E35,جلوس_أسماء3,2,FALSE)","v":43},null,null,"اسم التلميذ",{"$f":"VLOOKUP(K35,جلوس_أسماء3,3,FALSE)","v":"محمود24"},"رقم الجلوس",{"$f":"VLOOKUP(K35,جلوس_أسماء3,2,FALSE)","v":63}]
["اليوم والترايخ","المــــــــــــــــادة","الزمن",null,"الزمن",null,"اليوم والترايخ","المــــــــــــــــادة","الزمن",null,"الزمن"]
[null,null,"من ","إلي",null,null,null,null,"من ","إلي"]
[{"$f":"'جدول الصف الثالث '!$B$8","v":"السبت"},{"$f":"'جدول الصف الثالث '!$C$8","v":"لغة عربية وخط"},{"$f":"'جدول الصف الثالث '!$D$8","v":8},{"$f":"'جدول الصف الثالث '!$E$8","v":10},{"$f":"'جدول الصف الثالث '!$F$8","v":"ساعتان"},null,{"$f":"'جدول الصف الثالث '!$B$8","v":"السبت"},{"$f":"'جدول الصف الثالث '!$C$8","v":"لغة عربية وخط"},{"$f":"'جدول الصف الثالث '!$D$8","v":8},{"$f":"'جدول الصف الثالث '!$E$8","v":10},{"$f":"'جدول الصف الثالث '!$F$8","v":"ساعتان"}]
[{"$f":"'جدول الصف الثالث '!$B$9","v":"2018-01-01"},{"$f":"'جدول الصف الثالث '!$C$9","v":"التربية الدينية"},{"$f":"'جدول الصف الثالث '!$D$9","v":10.15},{"$f":"'جدول الصف الثالث '!$E$9","v":11.45},{"$f":"'جدول الصف الثالث '!$F$9","v":"ساعة"},null,{"$f":"'جدول الصف الثالث '!$B$9","v":"2018-01-01"},{"$f":"'جدول الصف الثالث '!$C$9","v":"التربية الدينية"},{"$f":"'جدول الصف الثالث '!$D$9","v":10.15},{"$f":"'جدول الصف الثالث '!$E$9","v":11.45},{"$f":"'جدول الصف الثالث '!$F$9","v":"ساعة"}]
[{"$f":"'جدول الصف الثالث '!$B$10","v":"الأحد"},{"$f":"'جدول الصف الثالث '!$C$10","v":"الرياضيات"},{"$f":"'جدول الصف الثالث '!$D$10","v":8},{"$f":"'جدول الصف الثالث '!$E$10","v":9.3000000000000007},{"$f":"'جدول الصف الثالث '!$F$10","v":"ساعة ونصف"},null,{"$f":"'جدول الصف الثالث '!$B$10","v":"الأحد"},{"$f":"'جدول الصف الثالث '!$C$10","v":"الرياضيات"},{"$f":"'جدول الصف الثالث '!$D$10","v":8},{"$f":"'جدول الصف الثالث '!$E$10","v":9.3000000000000007},{"$f":"'جدول الصف الثالث '!$F$10","v":"ساعة ونصف"}]
[{"$f":"'جدول الصف الثالث '!$B$11","v":"2018-01-02"},{"$f":"'جدول الصف الثالث '!$C$11","v":"اللغة الإنجليزية"},{"$f":"'جدول الصف الثالث '!$D$11","v":9.4499999999999993},{"$f":"'جدول الصف الثالث '!$E$11","v":11.15},{"$f":"'جدول الصف الثالث '!$F$11","v":"ساعة ونصف"},null,{"$f":"'جدول الصف الثالث '!$B$11","v":"2018-01-02"},{"$f":"'جدول الصف الثالث '!$C$11","v":"اللغة الإنجليزية"},{"$f":"'جدول الصف الثالث '!$D$11","v":9.4499999999999993},{"$f":"'جدول الصف الثالث '!$E$11","v":11.15},{"$f":"'جدول الصف الثالث '!$F$11","v":"ساعة ونصف"}]
[]
[{"$f":"'جدول الصف الثالث '!$A$1","v":"إدارة /غرب المحلة الكبرى التعليمية"},null,"رقم اللجنة",{"$f":"VLOOKUP(E46,جلوس_أسماء3,7,FALSE)","v":1},null,null,{"$f":"'جدول الصف الثالث '!$A$1","v":"إدارة /غرب المحلة الكبرى التعليمية"},null,"رقم اللجنة",{"$f":"VLOOKUP(K46,جلوس_أسماء3,7,FALSE)","v":2}]
[{"$f":"'جدول الصف الثالث '!$A$2","v":"مدرسة د/علي علي حبيش الابتدائية"},null,{"$f":"'جدول الصف الثالث '!$C$5","v":"الصف الثالث"},null,{"$f":"E35+1","v":5},null,{"$f":"'جدول الصف الثالث '!$A$2","v":"مدرسة د/علي علي حبيش الابتدائية"},null,{"$f":"'جدول الصف الثالث '!$C$5","v":"الصف الثالث"},null,{"$f":"K35+1","v":25}]
[{"$f":"'جدول الصف الثالث '!$B$4","v":"جدول امتحان الفصل الدراسي الأول / الثاني للعام الدراسي 2019/2018"},null,null,null,null,null,{"$f":"'جدول الصف الثالث '!$B$4","v":"جدول امتحان الفصل الدراسي الأول / الثاني للعام الدراسي 2019/2018"}]
["اسم التلميذ",{"$f":"VLOOKUP(E46,جلوس_أسماء3,3,FALSE)","v":"محمود5"},"رقم الجلوس",{"$f":"VLOOKUP(E46,جلوس_أسماء3,2,FALSE)","v":44},null,null,"اسم التلميذ",{"$f":"VLOOKUP(K46,جلوس_أسماء3,3,FALSE)","v":"محمود25"},"رقم الجلوس",{"$f":"VLOOKUP(K46,جلوس_أسماء3,2,FALSE)","v":64}]
["اليوم والترايخ","المــــــــــــــــادة","الزمن",null,"الزمن",null,"اليوم والترايخ","المــــــــــــــــادة","الزمن",null,"الزمن"]
[null,null,"من ","إلي",null,null,null,null,"من ","إلي"]
[{"$f":"'جدول الصف الثالث '!$B$8","v":"السبت"},{"$f":"'جدول الصف الثالث '!$C$8","v":"لغة عربية وخط"},{"$f":"'جدول الصف الثالث '!$D$8","v":8},{"$f":"'جدول الصف الثالث '!$E$8","v":10},{"$f":"'جدول الصف الثالث '!$F$8","v":"ساعتان"},null,{"$f":"'جدول الصف الثالث '!$B$8","v":"السبت"},{"$f":"'جدول الصف الثالث '!$C$8","v":"لغة عربية وخط"},{"$f":"'جدول الصف الثالث '!$D$8","v":8},{"$f":"'جدول الصف الثالث '!$E$8","v":10},{"$f":"'جدول الصف الثالث '!$F$8","v":"ساعتان"}]
[{"$f":"'جدول الصف الثالث '!$B$9","v":"2018-01-01"},{"$f":"'جدول الصف الثالث '!$C$9","v":"التربية الدينية"},{"$f":"'جدول الصف الثالث '!$D$9","v":10.15},{"$f":"'جدول الصف الثالث '!$E$9","v":11.45},{"$f":"'جدول الصف الثالث '!$F$9","v":"ساعة"},null,{"$f":"'جدول الصف الثالث '!$B$9","v":"2018-01-01"},{"$f":"'جدول الصف الثالث '!$C$9","v":"التربية الدينية"},{"$f":"'جدول الصف الثالث '!$D$9","v":10.15},{"$f":"'جدول الصف الثالث '!$E$9","v":11.45},{"$f":"'جدول الصف الثالث '!$F$9","v":"ساعة"}]
[{"$f":"'جدول الصف الثالث '!$B$10","v":"الأحد"},{"$f":"'جدول الصف الثالث '!$C$10","v":"الرياضيات"},{"$f":"'جدول الصف الثالث '!$D$10","v":8},{"$f":"'جدول الصف الثالث '!$E$10","v":9.3000000000000007},{"$f":"'جدول الصف الثالث '!$F$10","v":"ساعة ونصف"},null,{"$f":"'جدول الصف الثالث '!$B$10","v":"الأحد"},{"$f":"'جدول الصف الثالث '!$C$10","v":"الرياضيات"},{"$f":"'جدول الصف الثالث '!$D$10","v":8},{"$f":"'جدول الصف الثالث '!$E$10","v":9.3000000000000007},{"$f":"'جدول الصف الثالث '!$F$10","v":"ساعة ونصف"}]
[{"$f":"'جدول الصف الثالث '!$B$11","v":"2018-01-02"},{"$f":"'جدول الصف الثالث '!$C$11","v":"اللغة الإنجليزية"},{"$f":"'جدول الصف الثالث '!$D$11","v":9.4499999999999993},{"$f":"'جدول الصف الثالث '!$E$11","v":11.15},{"$f":"'جدول الصف الثالث '!$F$11","v":"ساعة ونصف"},null,{"$f":"'جدول الصف الثالث '!$B$11","v":"2018-01-02"},{"$f":"'جدول الصف الثالث '!$C$11","v":"اللغة الإنجليزية"},{"$f":"'جدول الصف الثالث '!$D$11","v":9.4499999999999993},{"$f":"'جدول الصف الثالث '!$E$11","v":11.15},{"$f":"'جدول الصف الثالث '!$F$11","v":"ساعة ونصف"}]
[]
[{"$f":"'جدول الصف الثالث '!$A$1","v":"إدارة /غرب المحلة الكبرى التعليمية"},null,"رقم اللجنة",{"$f":"VLOOKUP(E57,جلوس_أسماء3,7,FALSE)","v":1},null,null,{"$f":"'جدول الصف الثالث '!$A$1","v":"إدارة /غرب المحلة الكبرى التعليمية"},null,"رقم اللجنة",{"$f":"VLOOKUP(K57,جلوس_أسماء3,7,FALSE)","v":2}]
[{"$f":"'جدول الصف الثالث '!$A$2","v":"مدرسة د/علي علي حبيش الابتدائية"},null,{"$f":"'جدول الصف الثالث '!$C$5","v":"الصف الثالث"},null,{"$f":"E46+1","v":6},null,{"$f":"'جدول الصف الثالث '!$A$2","v":"مدرسة د/علي علي حبيش الابتدائية"},null,{"$f":"'جدول الصف الثالث '!$C$5","v":"الصف الثالث"},null,{"$f":"K46+1","v":26}]
[{"$f":"'جدول الصف الثالث '!$B$4","v":"جدول امتحان الفصل الدراسي الأول / الثاني للعام الدراسي 2019/2018"},null,null,null,null,null,{"$f":"'جدول الصف الثالث '!$B$4","v":"جدول امتحان الفصل الدراسي الأول / الثاني للعام الدراسي 2019/2018"}]
["اسم التلميذ",{"$f":"VLOOKUP(E57,جلوس_أسماء3,3,FALSE)","v":"محمود6"},"رقم الجلوس",{"$f":"VLOOKUP(E57,جلوس_أسماء3,2,FALSE)","v":45},null,null,"اسم التلميذ",{"$f":"VLOOKUP(K57,جلوس_أسماء3,3,FALSE)","v":"محمود26"},"رقم الجلوس",{"$f":"VLOOKUP(K57,جلوس_أسماء3,2,FALSE)","v":65}]
["اليوم والترايخ","المــــــــــــــــادة","الزمن",null,"الزمن",null,"اليوم والترايخ","المــــــــــــــــادة","الزمن",null,"الزمن"]
[null,null,"من ","إلي",null,null,null,null,"من ","إلي"]
[{"$f":"'جدول الصف الثالث '!$B$8","v":"السبت"},{"$f":"'جدول الصف الثالث '!$C$8","v":"لغة عربية وخط"},{"$f":"'جدول الصف الثالث '!$D$8","v":8},{"$f":"'جدول الصف الثالث '!$E$8","v":10},{"$f":"'جدول الصف الثالث '!$F$8","v":"ساعتان"},null,{"$f":"'جدول الصف الثالث '!$B$8","v":"السبت"},{"$f":"'جدول الصف الثالث '!$C$8","v":"لغة عربية وخط"},{"$f":"'جدول الصف الثالث '!$D$8","v":8},{"$f":"'جدول الصف الثالث '!$E$8","v":10},{"$f":"'جدول الصف الثالث '!$F$8","v":"ساعتان"}]
[{"$f":"'جدول الصف الثالث '!$B$9","v":"2018-01-01"},{"$f":"'جدول الصف الثالث '!$C$9","v":"التربية الدينية"},{"$f":"'جدول الصف الثالث '!$D$9","v":10.15},{"$f":"'جدول الصف الثالث '!$E$9","v":11.45},{"$f":"'جدول الصف الثالث '!$F$9","v":"ساعة"},null,{"$f":"'جدول الصف الثالث '!$B$9","v":"2018-01-01"},{"$f":"'جدول الصف الثالث '!$C$9","v":"التربية الدينية"},{"$f":"'جدول الصف الثالث '!$D$9","v":10.15},{"$f":"'جدول الصف الثالث '!$E$9","v":11.45},{"$f":"'جدول الصف الثالث '!$F$9","v":"ساعة"}]
[{"$f":"'جدول الصف الثالث '!$B$10","v":"الأحد"},{"$f":"'جدول الصف الثالث '!$C$10","v":"الرياضيات"},{"$f":"'جدول الصف الثالث '!$D$10","v":8},{"$f":"'جدول الصف الثالث '!$E$10","v":9.3000000000000007},{"$f":"'جدول الصف الثالث '!$F$10","v":"ساعة ونصف"},null,{"$f":"'جدول الصف الثالث '!$B$10","v":"الأحد"},{"$f":"'جدول الصف الثالث '!$C$10","v":"الرياضيات"},{"$f":"'جدول الصف الثالث '!$D$10","v":8},{"$f":"'جدول الصف الثالث '!$E$10","v":9.3000000000000007},{"$f":"'جدول الصف الثالث '!$F$10","v":"ساعة ونصف"}]
[{"$f":"'جدول الصف الثالث '!$B$11","v":"2018-01-02"},{"$f":"'جدول الصف الثالث '!$C$11","v":"اللغة الإنجليزية"},{"$f":"'جدول الصف الثالث '!$D$11","v":9.4499999999999993},{"$f":"'جدول الصف الثالث '!$E$11","v":11.15},{"$f":"'جدول الصف الثالث '!$F$11","v":"ساعة ونصف"},null,{"$f":"'جدول الصف الثالث '!$B$11","v":"2018-01-02"},{"$f":"'جدول الصف الثالث '!$C$11","v":"اللغة الإنجليزية"},{"$f":"'جدول الصف الثالث '!$D$11","v":9.4499999999999993},{"$f":"'جدول الصف الثالث '!$E$11","v":11.15},{"$f":"'جدول الصف الثالث '!$F$11","v":"ساعة ونصف"}]
[]
[{"$f":"'جدول الصف الثالث '!$A$1","v":"إدارة /غرب المحلة الكبرى التعليمية"},null,"رقم اللجنة",{"$f":"VLOOKUP(E68,جلوس_أسماء3,7,FALSE)","v":1},null,null,{"$f":"'جدول الصف الثالث '!$A$1","v":"إدارة /غرب المحلة الكبرى التعليمية"},null,"رقم اللجنة",{"$f":"VLOOKUP(K68,جلوس_أسماء3,7,FALSE)","v":2}]
[{"$f":"'جدول الصف الثالث '!$A$2","v":"مدرسة د/علي علي حبيش الابتدائية"},null,{"$f":"'جدول الصف الثالث '!$C$5","v":"الصف الثالث"},null,{"$f":"E57+1","v":7},null,{"$f":"'جدول الصف الثالث '!$A$2","v":"مدرسة د/علي علي حبيش الابتدائية"},null,{"$f":"'جدول الصف الثالث '!$C$5","v":"الصف الثالث"},null,{"$f":"K57+1","v":27}]
[{"$f":"'جدول الصف الثالث '!$B$4","v":"جدول امتحان الفصل الدراسي الأول / الثاني للعام الدراسي 2019/2018"},null,null,null,null,null,{"$f":"'جدول الصف الثالث '!$B$4","v":"جدول امتحان الفصل الدراسي الأول / الثاني للعام الدراسي 2019/2018"}]
["اسم التلميذ",{"$f":"VLOOKUP(E68,جلوس_أسماء3,3,FALSE)","v":"محمود7"},"رقم الجلوس",{"$f":"VLOOKUP(E68,جلوس_أسماء3,2,FALSE)","v":46},null,null,"اسم التلميذ",{"$f":"VLOOKUP(K68,جلوس_أسماء3,3,FALSE)","v":"محمود27"},"رقم الجلوس",{"$f":"VLOOKUP(K68,جلوس_أسماء3,2,FALSE)","v":66}]
["اليوم والترايخ","المــــــــــــــــادة","الزمن",null,"الزمن",null,"اليوم والترايخ","المــــــــــــــــادة","الزمن",null,"الزمن"]
[null,null,"من ","إلي",null,null,null,null,"من ","إلي"]
[{"$f":"'جدول الصف الثالث '!$B$8","v":"السبت"},{"$f":"'جدول الصف الثالث '!$C$8","v":"لغة عربية وخط"},{"$f":"'جدول الصف الثالث '!$D$8","v":8},{"$f":"'جدول الصف الثالث '!$E$8","v":10},{"$f":"'جدول الصف الثالث '!$F$8","v":"ساعتان"},null,{"$f":"'جدول الصف الثالث '!$B$8","v":"السبت"},{"$f":"'جدول الصف الثالث '!$C$8","v":"لغة عربية وخط"},{"$f":"'جدول الصف الثالث '!$D$8","v":8},{"$f":"'جدول الصف الثالث '!$E$8","v":10},{"$f":"'جدول الصف الثالث '!$F$8","v":"ساعتان"}]
[{"$f":"'جدول الصف الثالث '!$B$9","v":"2018-01-01"},{"$f":"'جدول الصف الثالث '!$C$9","v":"التربية الدينية"},{"$f":"'جدول الصف الثالث '!$D$9","v":10.15},{"$f":"'جدول الصف الثالث '!$E$9","v":11.45},{"$f":"'جدول الصف الثالث '!$F$9","v":"ساعة"},null,{"$f":"'جدول الصف الثالث '!$B$9","v":"2018-01-01"},{"$f":"'جدول الصف الثالث '!$C$9","v":"التربية الدينية"},{"$f":"'جدول الصف الثالث '!$D$9","v":10.15},{"$f":"'جدول الصف الثالث '!$E$9","v":11.45},{"$f":"'جدول الصف الثالث '!$F$9","v":"ساعة"}]
[{"$f":"'جدول الصف الثالث '!$B$10","v":"الأحد"},{"$f":"'جدول الصف الثالث '!$C$10","v":"الرياضيات"},{"$f":"'جدول الصف الثالث '!$D$10","v":8},{"$f":"'جدول الصف الثالث '!$E$10","v":9.3000000000000007},{"$f":"'جدول الصف الثالث '!$F$10","v":"ساعة ونصف"},null,{"$f":"'جدول الصف الثالث '!$B$10","v":"الأحد"},{"$f":"'جدول الصف الثالث '!$C$10","v":"الرياضيات"},{"$f":"'جدول الصف الثالث '!$D$10","v":8},{"$f":"'جدول الصف الثالث '!$E$10","v":9.3000000000000007},{"$f":"'جدول الصف الثالث '!$F$10","v":"ساعة ونصف"}]
[{"$f":"'جدول الصف الثالث '!$B$11","v":"2018-01-02"},{"$f":"'جدول الصف الثالث '!$C$11","v":"اللغة الإنجليزية"},{"$f":"'جدول الصف الثالث '!$D$11","v":9.4499999999999993},{"$f":"'جدول الصف الثالث '!$E$11","v":11.15},{"$f":"'جدول الصف الثالث '!$F$11","v":"ساعة ونصف"},null,{"$f":"'جدول الصف الثالث '!$B$11","v":"2018-01-02"},{"$f":"'جدول الصف الثالث '!$C$11","v":"اللغة الإنجليزية"},{"$f":"'جدول الصف الثالث '!$D$11","v":9.4499999999999993},{"$f":"'جدول الصف الثالث '!$E$11","v":11.15},{"$f":"'جدول الصف الثالث '!$F$11","v":"ساعة ونصف"}]
[]
[{"$f":"'جدول الصف الثالث '!$A$1","v":"إدارة /غرب المحلة الكبرى التعليمية"},null,"رقم اللجنة",{"$f":"VLOOKUP(E79,جلوس_أسماء3,7,FALSE)","v":1},null,null,{"$f":"'جدول الصف الثالث '!$A$1","v":"إدارة /غرب المحلة الكبرى التعليمية"},null,"رقم اللجنة",{"$f":"VLOOKUP(K79,جلوس_أسماء3,7,FALSE)","v":2}]
[{"$f":"'جدول الصف الثالث '!$A$2","v":"مدرسة د/علي علي حبيش الابتدائية"},null,{"$f":"'جدول الصف الثالث '!$C$5","v":"الصف الثالث"},null,{"$f":"E68+1","v":8},null,{"$f":"'جدول الصف الثالث '!$A$2","v":"مدرسة د/علي علي حبيش الابتدائية"},null,{"$f":"'جدول الصف الثالث '!$C$5","v":"الصف الثالث"},null,{"$f":"K68+1","v":28}]
[{"$f":"'جدول الصف الثالث '!$B$4","v":"جدول امتحان الفصل الدراسي الأول / الثاني للعام الدراسي 2019/2018"},null,null,null,null,null,{"$f":"'جدول الصف الثالث '!$B$4","v":"جدول امتحان الفصل الدراسي الأول / الثاني للعام الدراسي 2019/2018"}]
["اسم التلميذ",{"$f":"VLOOKUP(E79,جلوس_أسماء3,3,FALSE)","v":"محمود8"},"رقم الجلوس",{"$f":"VLOOKUP(E79,جلوس_أسماء3,2,FALSE)","v":47},null,null,"اسم التلميذ",{"$f":"VLOOKUP(K79,جلوس_أسماء3,3,FALSE)","v":"محمود28"},"رقم الجلوس",{"$f":"VLOOKUP(K79,جلوس_أسماء3,2,FALSE)","v":67}]
["اليوم والترايخ","المــــــــــــــــادة","الزمن",null,"الزمن",null,"اليوم والترايخ","المــــــــــــــــادة","الزمن",null,"الزمن"]
[null,null,"من ","إلي",null,null,null,null,"من ","إلي"]
[{"$f":"'جدول الصف الثالث '!$B$8","v":"السبت"},{"$f":"'جدول الصف الثالث '!$C$8","v":"لغة عربية وخط"},{"$f":"'جدول الصف الثالث '!$D$8","v":8},{"$f":"'جدول الصف الثالث '!$E$8","v":10},{"$f":"'جدول الصف الثالث '!$F$8","v":"ساعتان"},null,{"$f":"'جدول الصف الثالث '!$B$8","v":"السبت"},{"$f":"'جدول الصف الثالث '!$C$8","v":"لغة عربية وخط"},{"$f":"'جدول الصف الثالث '!$D$8","v":8},{"$f":"'جدول الصف الثالث '!$E$8","v":10},{"$f":"'جدول الصف الثالث '!$F$8","v":"ساعتان"}]
[{"$f":"'جدول الصف الثالث '!$B$9","v":"2018-01-01"},{"$f":"'جدول الصف الثالث '!$C$9","v":"التربية الدينية"},{"$f":"'جدول الصف الثالث '!$D$9","v":10.15},{"$f":"'جدول الصف الثالث '!$E$9","v":11.45},{"$f":"'جدول الصف الثالث '!$F$9","v":"ساعة"},null,{"$f":"'جدول الصف الثالث '!$B$9","v":"2018-01-01"},{"$f":"'جدول الصف الثالث '!$C$9","v":"التربية الدينية"},{"$f":"'جدول الصف الثالث '!$D$9","v":10.15},{"$f":"'جدول الصف الثالث '!$E$9","v":11.45},{"$f":"'جدول الصف الثالث '!$F$9","v":"ساعة"}]
[{"$f":"'جدول الصف الثالث '!$B$10","v":"الأحد"},{"$f":"'جدول الصف الثالث '!$C$10","v":"الرياضيات"},{"$f":"'جدول الصف الثالث '!$D$10","v":8},{"$f":"'جدول الصف الثالث '!$E$10","v":9.3000000000000007},{"$f":"'جدول الصف الثالث '!$F$10","v":"ساعة ونصف"},null,{"$f":"'جدول الصف الثالث '!$B$10","v":"الأحد"},{"$f":"'جدول الصف الثالث '!$C$10","v":"الرياضيات"},{"$f":"'جدول الصف الثالث '!$D$10","v":8},{"$f":"'جدول الصف الثالث '!$E$10","v":9.3000000000000007},{"$f":"'جدول الصف الثالث '!$F$10","v":"ساعة ونصف"}]
[{"$f":"'جدول الصف الثالث '!$B$11","v":"2018-01-02"},{"$f":"'جدول الصف الثالث '!$C$11","v":"اللغة الإنجليزية"},{"$f":"'جدول الصف الثالث '!$D$11","v":9.4499999999999993},{"$f":"'جدول الصف الثالث '!$E$11","v":11.15},{"$f":"'جدول الصف الثالث '!$F$11","v":"ساعة ونصف"},null,{"$f":"'جدول الصف الثالث '!$B$11","v":"2018-01-02"},{"$f":"'جدول الصف الثالث '!$C$11","v":"اللغة الإنجليزية"},{"$f":"'جدول الصف الثالث '!$D$11","v":9.4499999999999993},{"$f":"'جدول الصف الثالث '!$E$11","v":11.15},{"$f":"'جدول الصف الثالث '!$F$11","v":"ساعة ونصف"}]
[]
[{"$f":"'جدول الصف الثالث '!$A$1","v":"إدارة /غرب المحلة الكبرى التعليمية"},null,"رقم اللجنة",{"$f":"VLOOKUP(E90,جلوس_أسماء3,7,FALSE)","v":1},null,null,{"$f":"'جدول الصف الثالث '!$A$1","v":"إدارة /غرب المحلة الكبرى التعليمية"},null,"رقم اللجنة",{"$f":"VLOOKUP(K90,جلوس_أسماء3,7,FALSE)","v":2}]
[{"$f":"'جدول الصف الثالث '!$A$2","v":"مدرسة د/علي علي حبيش الابتدائية"},null,{"$f":"'جدول الصف الثالث '!$C$5","v":"الصف الثالث"},null,{"$f":"E79+1","v":9},null,{"$f":"'جدول الصف الثالث '!$A$2","v":"مدرسة د/علي علي حبيش الابتدائية"},null,{"$f":"'جدول الصف الثالث '!$C$5","v":"الصف الثالث"},null,{"$f":"K79+1","v":29}]
[{"$f":"'جدول الصف الثالث '!$B$4","v":"جدول امتحان الفصل الدراسي الأول / الثاني للعام الدراسي 2019/2018"},null,null,null,null,null,{"$f":"'جدول الصف الثالث '!$B$4","v":"جدول امتحان الفصل الدراسي الأول / الثاني للعام الدراسي 2019/2018"}]
["اسم التلميذ",{"$f":"VLOOKUP(E90,جلوس_أسماء3,3,FALSE)","v":"محمود9"},"رقم الجلوس",{"$f":"VLOOKUP(E90,جلوس_أسماء3,2,FALSE)","v":48},null,null,"اسم التلميذ",{"$f":"VLOOKUP(K90,جلوس_أسماء3,3,FALSE)","v":"محمود29"},"رقم الجلوس",{"$f":"VLOOKUP(K90,جلوس_أسماء3,2,FALSE)","v":68}]
["اليوم والترايخ","المــــــــــــــــادة","الزمن",null,"الزمن",null,"اليوم والترايخ","المــــــــــــــــادة","الزمن",null,"الزمن"]
[null,null,"من ","إلي",null,null,null,null,"من ","إلي"]
[{"$f":"'جدول الصف الثالث '!$B$8","v":"السبت"},{"$f":"'جدول الصف الثالث '!$C$8","v":"لغة عربية وخط"},{"$f":"'جدول الصف الثالث '!$D$8","v":8},{"$f":"'جدول الصف الثالث '!$E$8","v":10},{"$f":"'جدول الصف الثالث '!$F$8","v":"ساعتان"},null,{"$f":"'جدول الصف الثالث '!$B$8","v":"السبت"},{"$f":"'جدول الصف الثالث '!$C$8","v":"لغة عربية وخط"},{"$f":"'جدول الصف الثالث '!$D$8","v":8},{"$f":"'جدول الصف الثالث '!$E$8","v":10},{"$f":"'جدول الصف الثالث '!$F$8","v":"ساعتان"}]
[{"$f":"'جدول الصف الثالث '!$B$9","v":"2018-01-01"},{"$f":"'جدول الصف الثالث '!$C$9","v":"التربية الدينية"},{"$f":"'جدول الصف الثالث '!$D$9","v":10.15},{"$f":"'جدول الصف الثالث '!$E$9","v":11.45},{"$f":"'جدول الصف الثالث '!$F$9","v":"ساعة"},null,{"$f":"'جدول الصف الثالث '!$B$9","v":"2018-01-01"},{"$f":"'جدول الصف الثالث '!$C$9","v":"التربية الدينية"},{"$f":"'جدول الصف الثالث '!$D$9","v":10.15},{"$f":"'جدول الصف الثالث '!$E$9","v":11.45},{"$f":"'جدول الصف الثالث '!$F$9","v":"ساعة"}]
[{"$f":"'جدول الصف الثالث '!$B$10","v":"الأحد"},{"$f":"'جدول الصف الثالث '!$C$10","v":"الرياضيات"},{"$f":"'جدول الصف الثالث '!$D$10","v":8},{"$f":"'جدول الصف الثالث '!$E$10","v":9.3000000000000007},{"$f":"'جدول الصف الثالث '!$F$10","v":"ساعة ونصف"},null,{"$f":"'جدول الصف الثالث '!$B$10","v":"الأحد"},{"$f":"'جدول الصف الثالث '!$C$10","v":"الرياضيات"},{"$f":"'جدول الصف الثالث '!$D$10","v":8},{"$f":"'جدول الصف الثالث '!$E$10","v":9.3000000000000007},{"$f":"'جدول الصف الثالث '!$F$10","v":"ساعة ونصف"}]
[{"$f":"'جدول الصف الثالث '!$B$11","v":"2018-01-02"},{"$f":"'جدول الصف الثالث '!$C$11","v":"اللغة الإنجليزية"},{"$f":"'جدول الصف الثالث '!$D$11","v":9.4499999999999993},{"$f":"'جدول الصف الثالث '!$E$11","v":11.15},{"$f":"'جدول الصف الثالث '!$F$11","v":"ساعة ونصف"},null,{"$f":"'جدول الصف الثالث '!$B$11","v":"2018-01-02"},{"$f":"'جدول الصف الثالث '!$C$11","v":"اللغة الإنجليزية"},{"$f":"'جدول الصف الثالث '!$D$11","v":9.4499999999999993},{"$f":"'جدول الصف الثالث '!$E$11","v":11.15},{"$f":"'جدول الصف الثالث '!$F$11","v":"ساعة ونصف"}]
[]
[{"$f":"'جدول الصف الثالث '!$A$1","v":"إدارة /غرب المحلة الكبرى التعليمية"},null,"رقم اللجنة",{"$f":"VLOOKUP(E101,جلوس_أسماء3,7,FALSE)","v":1},null,null,{"$f":"'جدول الصف الثالث '!$A$1","v":"إدارة /غرب المحلة الكبرى التعليمية"},null,"رقم اللجنة",{"$f":"VLOOKUP(K101,جلوس_أسماء3,7,FALSE)","v":2}]
[{"$f":"'جدول الصف الثالث '!$A$2","v":"مدرسة د/علي علي حبيش الابتدائية"},null,{"$f":"'جدول الصف الثالث '!$C$5","v":"الصف الثالث"},null,{"$f":"E90+1","v":10},null,{"$f":"'جدول الصف الثالث '!$A$2","v":"مدرسة د/علي علي حبيش الابتدائية"},null,{"$f":"'جدول الصف الثالث '!$C$5","v":"الصف الثالث"},null,{"$f":"K90+1","v":30}]
[{"$f":"'جدول الصف الثالث '!$B$4","v":"جدول امتحان الفصل الدراسي الأول / الثاني للعام الدراسي 2019/2018"},null,null,null,null,null,{"$f":"'جدول الصف الثالث '!$B$4","v":"جدول امتحان الفصل الدراسي الأول / الثاني للعام الدراسي 2019/2018"}]
["اسم التلميذ",{"$f":"VLOOKUP(E101,جلوس_أسماء3,3,FALSE)","v":"محمود10"},"رقم الجلوس",{"$f":"VLOOKUP(E101,جلوس_أسماء3,2,FALSE)","v":49},null,null,"اسم التلميذ",{"$f":"VLOOKUP(K101,جلوس_أسماء3,3,FALSE)","v":"محمود30"},"رقم الجلوس",{"$f":"VLOOKUP(K101,جلوس_أسماء3,2,FALSE)","v":69}]
["اليوم والترايخ","المــــــــــــــــادة","الزمن",null,"الزمن",null,"اليوم والترايخ","المــــــــــــــــادة","الزمن",null,"الزمن"]
[null,null,"من ","إلي",null,null,null,null,"من ","إلي"]
[{"$f":"'جدول الصف الثالث '!$B$8","v":"السبت"},{"$f":"'جدول الصف الثالث '!$C$8","v":"لغة عربية وخط"},{"$f":"'جدول الصف الثالث '!$D$8","v":8},{"$f":"'جدول الصف الثالث '!$E$8","v":10},{"$f":"'جدول الصف الثالث '!$F$8","v":"ساعتان"},null,{"$f":"'جدول الصف الثالث '!$B$8","v":"السبت"},{"$f":"'جدول الصف الثالث '!$C$8","v":"لغة عربية وخط"},{"$f":"'جدول الصف الثالث '!$D$8","v":8},{"$f":"'جدول الصف الثالث '!$E$8","v":10},{"$f":"'جدول الصف الثالث '!$F$8","v":"ساعتان"}]
[{"$f":"'جدول الصف الثالث '!$B$9","v":"2018-01-01"},{"$f":"'جدول الصف الثالث '!$C$9","v":"التربية الدينية"},{"$f":"'جدول الصف الثالث '!$D$9","v":10.15},{"$f":"'جدول الصف الثالث '!$E$9","v":11.45},{"$f":"'جدول الصف الثالث '!$F$9","v":"ساعة"},null,{"$f":"'جدول الصف الثالث '!$B$9","v":"2018-01-01"},{"$f":"'جدول الصف الثالث '!$C$9","v":"التربية الدينية"},{"$f":"'جدول الصف الثالث '!$D$9","v":10.15},{"$f":"'جدول الصف الثالث '!$E$9","v":11.45},{"$f":"'جدول الصف الثالث '!$F$9","v":"ساعة"}]
[{"$f":"'جدول الصف الثالث '!$B$10","v":"الأحد"},{"$f":"'جدول الصف الثالث '!$C$10","v":"الرياضيات"},{"$f":"'جدول الصف الثالث '!$D$10","v":8},{"$f":"'جدول الصف الثالث '!$E$10","v":9.3000000000000007},{"$f":"'جدول الصف الثالث '!$F$10","v":"ساعة ونصف"},null,{"$f":"'جدول الصف الثالث '!$B$10","v":"الأحد"},{"$f":"'جدول الصف الثالث '!$C$10","v":"الرياضيات"},{"$f":"'جدول الصف الثالث '!$D$10","v":8},{"$f":"'جدول الصف الثالث '!$E$10","v":9.3000000000000007},{"$f":"'جدول الصف الثالث '!$F$10","v":"ساعة ونصف"}]
[{"$f":"'جدول الصف الثالث '!$B$11","v":"2018-01-02"},{"$f":"'جدول الصف الثالث '!$C$11","v":"اللغة الإنجليزية"},{"$f":"'جدول الصف الثالث '!$D$11","v":9.4499999999999993},{"$f":"'جدول الصف الثالث '!$E$11","v":11.15},{"$f":"'جدول الصف الثالث '!$F$11","v":"ساعة ونصف"},null,{"$f":"'جدول الصف الثالث '!$B$11","v":"2018-01-02"},{"$f":"'جدول الصف الثالث '!$C$11","v":"اللغة الإنجليزية"},{"$f":"'جدول الصف الثالث '!$D$11","v":9.4499999999999993},{"$f":"'جدول الصف الثالث '!$E$11","v":11.15},{"$f":"'جدول الصف الثالث '!$F$11","v":"ساعة ونصف"}]
[]
[{"$f":"'جدول الصف الثالث '!$A$1","v":"إدارة /غرب المحلة الكبرى التعليمية"},null,"رقم اللجنة",{"$f":"VLOOKUP(E112,جلوس_أسماء3,7,FALSE)","v":1},null,null,{"$f":"'جدول الصف الثالث '!$A$1","v":"إدارة /غرب المحلة الكبرى التعليمية"},null,"رقم اللجنة",{"$f":"VLOOKUP(K112,جلوس_أسماء3,7,FALSE)","v":2}]
[{"$f":"'جدول الصف الثالث '!$A$2","v":"مدرسة د/علي علي حبيش الابتدائية"},null,{"$f":"'جدول الصف الثالث '!$C$5","v":"الصف الثالث"},null,{"$f":"E101+1","v":11},null,{"$f":"'جدول الصف الثالث '!$A$2","v":"مدرسة د/علي علي حبيش الابتدائية"},null,{"$f":"'جدول الصف الثالث '!$C$5","v":"الصف الثالث"},null,{"$f":"K101+1","v":31}]
[{"$f":"'جدول الصف الثالث '!$B$4","v":"جدول امتحان الفصل الدراسي الأول / الثاني للعام الدراسي 2019/2018"},null,null,null,null,null,{"$f":"'جدول الصف الثالث '!$B$4","v":"جدول امتحان الفصل الدراسي الأول / الثاني للعام الدراسي 2019/2018"}]
["اسم التلميذ",{"$f":"VLOOKUP(E112,جلوس_أسماء3,3,FALSE)","v":"محمود11"},"رقم الجلوس",{"$f":"VLOOKUP(E112,جلوس_أسماء3,2,FALSE)","v":50},null,null,"اسم التلميذ",{"$f":"VLOOKUP(K112,جلوس_أسماء3,3,FALSE)","v":"محمود31"},"رقم الجلوس",{"$f":"VLOOKUP(K112,جلوس_أسماء3,2,FALSE)","v":70}]
["اليوم والترايخ","المــــــــــــــــادة","الزمن",null,"الزمن",null,"اليوم والترايخ","المــــــــــــــــادة","الزمن",null,"الزمن"]
[null,null,"من ","إلي",null,null,null,null,"من ","إلي"]
[{"$f":"'جدول الصف الثالث '!$B$8","v":"السبت"},{"$f":"'جدول الصف الثالث '!$C$8","v":"لغة عربية وخط"},{"$f":"'جدول الصف الثالث '!$D$8","v":8},{"$f":"'جدول الصف الثالث '!$E$8","v":10},{"$f":"'جدول الصف الثالث '!$F$8","v":"ساعتان"},null,{"$f":"'جدول الصف الثالث '!$B$8","v":"السبت"},{"$f":"'جدول الصف الثالث '!$C$8","v":"لغة عربية وخط"},{"$f":"'جدول الصف الثالث '!$D$8","v":8},{"$f":"'جدول الصف الثالث '!$E$8","v":10},{"$f":"'جدول الصف الثالث '!$F$8","v":"ساعتان"}]
[{"$f":"'جدول الصف الثالث '!$B$9","v":"2018-01-01"},{"$f":"'جدول الصف الثالث '!$C$9","v":"التربية الدينية"},{"$f":"'جدول الصف الثالث '!$D$9","v":10.15},{"$f":"'جدول الصف الثالث '!$E$9","v":11.45},{"$f":"'جدول الصف الثالث '!$F$9","v":"ساعة"},null,{"$f":"'جدول الصف الثالث '!$B$9","v":"2018-01-01"},{"$f":"'جدول الصف الثالث '!$C$9","v":"التربية الدينية"},{"$f":"'جدول الصف الثالث '!$D$9","v":10.15},{"$f":"'جدول الصف الثالث '!$E$9","v":11.45},{"$f":"'جدول الصف الثالث '!$F$9","v":"ساعة"}]
[{"$f":"'جدول الصف الثالث '!$B$10","v":"الأحد"},{"$f":"'جدول الصف الثالث '!$C$10","v":"الرياضيات"},{"$f":"'جدول الصف الثالث '!$D$10","v":8},{"$f":"'جدول الصف الثالث '!$E$10","v":9.3000000000000007},{"$f":"'جدول الصف الثالث '!$F$10","v":"ساعة ونصف"},null,{"$f":"'جدول الصف الثالث '!$B$10","v":"الأحد"},{"$f":"'جدول الصف الثالث '!$C$10","v":"الرياضيات"},{"$f":"'جدول الصف الثالث '!$D$10","v":8},{"$f":"'جدول الصف الثالث '!$E$10","v":9.3000000000000007},{"$f":"'جدول الصف الثالث '!$F$10","v":"ساعة ونصف"}]
[{"$f":"'جدول الصف الثالث '!$B$11","v":"2018-01-02"},{"$f":"'جدول الصف الثالث '!$C$11","v":"اللغة الإنجليزية"},{"$f":"'جدول الصف الثالث '!$D$11","v":9.4499999999999993},{"$f":"'جدول الصف الثالث '!$E$11","v":11.15},{"$f":"'جدول الصف الثالث '!$F$11","v":"ساعة ونصف"},null,{"$f":"'جدول الصف الثالث '!$B$11","v":"2018-01-02"},{"$f":"'جدول الصف الثالث '!$C$11","v":"اللغة الإنجليزية"},{"$f":"'جدول الصف الثالث '!$D$11","v":9.4499999999999993},{"$f":"'جدول الصف الثالث '!$E$11","v":11.15},{"$f":"'جدول الصف الثالث '!$F$11","v":"ساعة ونصف"}]
[]
[{"$f":"'جدول الصف الثالث '!$A$1","v":"إدارة /غرب المحلة الكبرى التعليمية"},null,"رقم اللجنة",{"$f":"VLOOKUP(E123,جلوس_أسماء3,7,FALSE)","v":1},null,null,{"$f":"'جدول الصف الثالث '!$A$1","v":"إدارة /غرب المحلة الكبرى التعليمية"},null,"رقم اللجنة",{"$f":"VLOOKUP(K123,جلوس_أسماء3,7,FALSE)","v":2}]
[{"$f":"'جدول الصف الثالث '!$A$2","v":"مدرسة د/علي علي حبيش الابتدائية"},null,{"$f":"'جدول الصف الثالث '!$C$5","v":"الصف الثالث"},null,{"$f":"E112+1","v":12},null,{"$f":"'جدول الصف الثالث '!$A$2","v":"مدرسة د/علي علي حبيش الابتدائية"},null,{"$f":"'جدول الصف الثالث '!$C$5","v":"الصف الثالث"},null,{"$f":"K112+1","v":32}]
[{"$f":"'جدول الصف الثالث '!$B$4","v":"جدول امتحان الفصل الدراسي الأول / الثاني للعام الدراسي 2019/2018"},null,null,null,null,null,{"$f":"'جدول الصف الثالث '!$B$4","v":"جدول امتحان الفصل الدراسي الأول / الثاني للعام الدراسي 2019/2018"}]
["اسم التلميذ",{"$f":"VLOOKUP(E123,جلوس_أسماء3,3,FALSE)","v":"محمود12"},"رقم الجلوس",{"$f":"VLOOKUP(E123,جلوس_أسماء3,2,FALSE)","v":51},null,null,"اسم التلميذ",{"$f":"VLOOKUP(K123,جلوس_أسماء3,3,FALSE)","v":"محمود32"},"رقم الجلوس",{"$f":"VLOOKUP(K123,جلوس_أسماء3,2,FALSE)","v":71}]
["اليوم والترايخ","المــــــــــــــــادة","الزمن",null,"الزمن",null,"اليوم والترايخ","المــــــــــــــــادة","الزمن",null,"الزمن"]
[null,null,"من ","إلي",null,null,null,null,"من ","إلي"]
[{"$f":"'جدول الصف الثالث '!$B$8","v":"السبت"},{"$f":"'جدول الصف الثالث '!$C$8","v":"لغة عربية وخط"},{"$f":"'جدول الصف الثالث '!$D$8","v":8},{"$f":"'جدول الصف الثالث '!$E$8","v":10},{"$f":"'جدول الصف الثالث '!$F$8","v":"ساعتان"},null,{"$f":"'جدول الصف الثالث '!$B$8","v":"السبت"},{"$f":"'جدول الصف الثالث '!$C$8","v":"لغة عربية وخط"},{"$f":"'جدول الصف الثالث '!$D$8","v":8},{"$f":"'جدول الصف الثالث '!$E$8","v":10},{"$f":"'جدول الصف الثالث '!$F$8","v":"ساعتان"}]
[{"$f":"'جدول الصف الثالث '!$B$9","v":"2018-01-01"},{"$f":"'جدول الصف الثالث '!$C$9","v":"التربية الدينية"},{"$f":"'جدول الصف الثالث '!$D$9","v":10.15},{"$f":"'جدول الصف الثالث '!$E$9","v":11.45},{"$f":"'جدول الصف الثالث '!$F$9","v":"ساعة"},null,{"$f":"'جدول الصف الثالث '!$B$9","v":"2018-01-01"},{"$f":"'جدول الصف الثالث '!$C$9","v":"التربية الدينية"},{"$f":"'جدول الصف الثالث '!$D$9","v":10.15},{"$f":"'جدول الصف الثالث '!$E$9","v":11.45},{"$f":"'جدول الصف الثالث '!$F$9","v":"ساعة"}]
[{"$f":"'جدول الصف الثالث '!$B$10","v":"الأحد"},{"$f":"'جدول الصف الثالث '!$C$10","v":"الرياضيات"},{"$f":"'جدول الصف الثالث '!$D$10","v":8},{"$f":"'جدول الصف الثالث '!$E$10","v":9.3000000000000007},{"$f":"'جدول الصف الثالث '!$F$10","v":"ساعة ونصف"},null,{"$f":"'جدول الصف الثالث '!$B$10","v":"الأحد"},{"$f":"'جدول الصف الثالث '!$C$10","v":"الرياضيات"},{"$f":"'جدول الصف الثالث '!$D$10","v":8},{"$f":"'جدول الصف الثالث '!$E$10","v":9.3000000000000007},{"$f":"'جدول الصف الثالث '!$F$10","v":"ساعة ونصف"}]
[{"$f":"'جدول الصف الثالث '!$B$11","v":"2018-01-02"},{"$f":"'جدول الصف الثالث '!$C$11","v":"اللغة الإنجليزية"},{"$f":"'جدول الصف الثالث '!$D$11","v":9.4499999999999993},{"$f":"'جدول الصف الثالث '!$E$11","v":11.15},{"$f":"'جدول الصف الثالث '!$F$11","v":"ساعة ونصف"},null,{"$f":"'جدول الصف الثالث '!$B$11","v":"2018-01-02"},{"$f":"'جدول الصف الثالث '!$C$11","v":"اللغة الإنجليزية"},{"$f":"'جدول الصف الثالث '!$D$11","v":9.4499999999999993},{"$f":"'جدول الصف الثالث '!$E$11","v":11.15},{"$f":"'جدول الصف الثالث '!$F$11","v":"ساعة ونصف"}]
[]
[{"$f":"'جدول الصف الثالث '!$A$1","v":"إدارة /غرب المحلة الكبرى التعليمية"},null,"رقم اللجنة",{"$f":"VLOOKUP(E134,جلوس_أسماء3,7,FALSE)","v":1},null,null,{"$f":"'جدول الصف الثالث '!$A$1","v":"إدارة /غرب المحلة الكبرى التعليمية"},null,"رقم اللجنة",{"$f":"VLOOKUP(K134,جلوس_أسماء3,7,FALSE)","v":2}]
[{"$f":"'جدول الصف الثالث '!$A$2","v":"مدرسة د/علي علي حبيش الابتدائية"},null,{"$f":"'جدول الصف الثالث '!$C$5","v":"الصف الثالث"},null,{"$f":"E123+1","v":13},null,{"$f":"'جدول الصف الثالث '!$A$2","v":"مدرسة د/علي علي حبيش الابتدائية"},null,{"$f":"'جدول الصف الثالث '!$C$5","v":"الصف الثالث"},null,{"$f":"K123+1","v":33}]
[{"$f":"'جدول الصف الثالث '!$B$4","v":"جدول امتحان الفصل الدراسي الأول / الثاني للعام الدراسي 2019/2018"},null,null,null,null,null,{"$f":"'جدول الصف الثالث '!$B$4","v":"جدول امتحان الفصل الدراسي الأول / الثاني للعام الدراسي 2019/2018"}]
["اسم التلميذ",{"$f":"VLOOKUP(E134,جلوس_أسماء3,3,FALSE)","v":"محمود13"},"رقم الجلوس",{"$f":"VLOOKUP(E134,جلوس_أسماء3,2,FALSE)","v":52},null,null,"اسم التلميذ",{"$f":"VLOOKUP(K134,جلوس_أسماء3,3,FALSE)","v":"محمود33"},"رقم الجلوس",{"$f":"VLOOKUP(K134,جلوس_أسماء3,2,FALSE)","v":72}]
["اليوم والترايخ","المــــــــــــــــادة","الزمن",null,"الزمن",null,"اليوم والترايخ","المــــــــــــــــادة","الزمن",null,"الزمن"]
[null,null,"من ","إلي",null,null,null,null,"من ","إلي"]
[{"$f":"'جدول الصف الثالث '!$B$8","v":"السبت"},{"$f":"'جدول الصف الثالث '!$C$8","v":"لغة عربية وخط"},{"$f":"'جدول الصف الثالث '!$D$8","v":8},{"$f":"'جدول الصف الثالث '!$E$8","v":10},{"$f":"'جدول الصف الثالث '!$F$8","v":"ساعتان"},null,{"$f":"'جدول الصف الثالث '!$B$8","v":"السبت"},{"$f":"'جدول الصف الثالث '!$C$8","v":"لغة عربية وخط"},{"$f":"'جدول الصف الثالث '!$D$8","v":8},{"$f":"'جدول الصف الثالث '!$E$8","v":10},{"$f":"'جدول الصف الثالث '!$F$8","v":"ساعتان"}]
[{"$f":"'جدول الصف الثالث '!$B$9","v":"2018-01-01"},{"$f":"'جدول الصف الثالث '!$C$9","v":"التربية الدينية"},{"$f":"'جدول الصف الثالث '!$D$9","v":10.15},{"$f":"'جدول الصف الثالث '!$E$9","v":11.45},{"$f":"'جدول الصف الثالث '!$F$9","v":"ساعة"},null,{"$f":"'جدول الصف الثالث '!$B$9","v":"2018-01-01"},{"$f":"'جدول الصف الثالث '!$C$9","v":"التربية الدينية"},{"$f":"'جدول الصف الثالث '!$D$9","v":10.15},{"$f":"'جدول الصف الثالث '!$E$9","v":11.45},{"$f":"'جدول الصف الثالث '!$F$9","v":"ساعة"}]
[{"$f":"'جدول الصف الثالث '!$B$10","v":"الأحد"},{"$f":"'جدول الصف الثالث '!$C$10","v":"الرياضيات"},{"$f":"'جدول الصف الثالث '!$D$10","v":8},{"$f":"'جدول الصف الثالث '!$E$10","v":9.3000000000000007},{"$f":"'جدول الصف الثالث '!$F$10","v":"ساعة ونصف"},null,{"$f":"'جدول الصف الثالث '!$B$10","v":"الأحد"},{"$f":"'جدول الصف الثالث '!$C$10","v":"الرياضيات"},{"$f":"'جدول الصف الثالث '!$D$10","v":8},{"$f":"'جدول الصف الثالث '!$E$10","v":9.3000000000000007},{"$f":"'جدول الصف الثالث '!$F$10","v":"ساعة ونصف"}]
[{"$f":"'جدول الصف الثالث '!$B$11","v":"2018-01-02"},{"$f":"'جدول الصف الثالث '!$C$11","v":"اللغة الإنجليزية"},{"$f":"'جدول الصف الثالث '!$D$11","v":9.4499999999999993},{"$f":"'جدول الصف الثالث '!$E$11","v":11.15},{"$f":"'جدول الصف الثالث '!$F$11","v":"ساعة ونصف"},null,{"$f":"'جدول الصف الثالث '!$B$11","v":"2018-01-02"},{"$f":"'جدول الصف الثالث '!$C$11","v":"اللغة الإنجليزية"},{"$f":"'جدول الصف الثالث '!$D$11","v":9.4499999999999993},{"$f":"'جدول الصف الثالث '!$E$11","v":11.15},{"$f":"'جدول الصف الثالث '!$F$11","v":"ساعة ونصف"}]
[]
[{"$f":"'جدول الصف الثالث '!$A$1","v":"إدارة /غرب المحلة الكبرى التعليمية"},null,"رقم اللجنة",{"$f":"VLOOKUP(E145,جلوس_أسماء3,7,FALSE)","v":1},null,null,{"$f":"'جدول الصف الثالث '!$A$1","v":"إدارة /غرب المحلة الكبرى التعليمية"},null,"رقم اللجنة",{"$f":"VLOOKUP(K145,جلوس_أسماء3,7,FALSE)","v":2}]
[{"$f":"'جدول الصف الثالث '!$A$2","v":"مدرسة د/علي علي حبيش الابتدائية"},null,{"$f":"'جدول الصف الثالث '!$C$5","v":"الصف الثالث"},null,{"$f":"E134+1","v":14},null,{"$f":"'جدول الصف الثالث '!$A$2","v":"مدرسة د/علي علي حبيش الابتدائية"},null,{"$f":"'جدول الصف الثالث '!$C$5","v":"الصف الثالث"},null,{"$f":"K134+1","v":34}]
[{"$f":"'جدول الصف الثالث '!$B$4","v":"جدول امتحان الفصل الدراسي الأول / الثاني للعام الدراسي 2019/2018"},null,null,null,null,null,{"$f":"'جدول الصف الثالث '!$B$4","v":"جدول امتحان الفصل الدراسي الأول / الثاني للعام الدراسي 2019/2018"}]
["اسم التلميذ",{"$f":"VLOOKUP(E145,جلوس_أسماء3,3,FALSE)","v":"محمود14"},"رقم الجلوس",{"$f":"VLOOKUP(E145,جلوس_أسماء3,2,FALSE)","v":53},null,null,"اسم التلميذ",{"$f":"VLOOKUP(K145,جلوس_أسماء3,3,FALSE)","v":"محمود34"},"رقم الجلوس",{"$f":"VLOOKUP(K145,جلوس_أسماء3,2,FALSE)","v":73}]
["اليوم والترايخ","المــــــــــــــــادة","الزمن",null,"الزمن",null,"اليوم والترايخ","المــــــــــــــــادة","الزمن",null,"الزمن"]
[null,null,"من ","إلي",null,null,null,null,"من ","إلي"]
[{"$f":"'جدول الصف الثالث '!$B$8","v":"السبت"},{"$f":"'جدول الصف الثالث '!$C$8","v":"لغة عربية وخط"},{"$f":"'جدول الصف الثالث '!$D$8","v":8},{"$f":"'جدول الصف الثالث '!$E$8","v":10},{"$f":"'جدول الصف الثالث '!$F$8","v":"ساعتان"},null,{"$f":"'جدول الصف الثالث '!$B$8","v":"السبت"},{"$f":"'جدول الصف الثالث '!$C$8","v":"لغة عربية وخط"},{"$f":"'جدول الصف الثالث '!$D$8","v":8},{"$f":"'جدول الصف الثالث '!$E$8","v":10},{"$f":"'جدول الصف الثالث '!$F$8","v":"ساعتان"}]
[{"$f":"'جدول الصف الثالث '!$B$9","v":"2018-01-01"},{"$f":"'جدول الصف الثالث '!$C$9","v":"التربية الدينية"},{"$f":"'جدول الصف الثالث '!$D$9","v":10.15},{"$f":"'جدول الصف الثالث '!$E$9","v":11.45},{"$f":"'جدول الصف الثالث '!$F$9","v":"ساعة"},null,{"$f":"'جدول الصف الثالث '!$B$9","v":"2018-01-01"},{"$f":"'جدول الصف الثالث '!$C$9","v":"التربية الدينية"},{"$f":"'جدول الصف الثالث '!$D$9","v":10.15},{"$f":"'جدول الصف الثالث '!$E$9","v":11.45},{"$f":"'جدول الصف الثالث '!$F$9","v":"ساعة"}]
[{"$f":"'جدول الصف الثالث '!$B$10","v":"الأحد"},{"$f":"'جدول الصف الثالث '!$C$10","v":"الرياضيات"},{"$f":"'جدول الصف الثالث '!$D$10","v":8},{"$f":"'جدول الصف الثالث '!$E$10","v":9.3000000000000007},{"$f":"'جدول الصف الثالث '!$F$10","v":"ساعة ونصف"},null,{"$f":"'جدول الصف الثالث '!$B$10","v":"الأحد"},{"$f":"'جدول الصف الثالث '!$C$10","v":"الرياضيات"},{"$f":"'جدول الصف الثالث '!$D$10","v":8},{"$f":"'جدول الصف الثالث '!$E$10","v":9.3000000000000007},{"$f":"'جدول الصف الثالث '!$F$10","v":"ساعة ونصف"}]
[{"$f":"'جدول الصف الثالث '!$B$11","v":"2018-01-02"},{"$f":"'جدول الصف الثالث '!$C$11","v":"اللغة الإنجليزية"},{"$f":"'جدول الصف الثالث '!$D$11","v":9.4499999999999993},{"$f":"'جدول الصف الثالث '!$E$11","v":11.15},{"$f":"'جدول الصف الثالث '!$F$11","v":"ساعة ونصف"},null,{"$f":"'جدول الصف الثالث '!$B$11","v":"2018-01-02"},{"$f":"'جدول الصف الثالث '!$C$11","v":"اللغة الإنجليزية"},{"$f":"'جدول الصف الثالث '!$D$11","v":9.4499999999999993},{"$f":"'جدول الصف الثالث '!$E$11","v":11.15},{"$f":"'جدول الصف الثالث '!$F$11","v":"ساعة ونصف"}]
[]
[{"$f":"'جدول الصف الثالث '!$A$1","v":"إدارة /غرب المحلة الكبرى التعليمية"},null,"رقم اللجنة",{"$f":"VLOOKUP(E156,جلوس_أسماء3,7,FALSE)","v":1},null,null,{"$f":"'جدول الصف الثالث '!$A$1","v":"إدارة /غرب المحلة الكبرى التعليمية"},null,"رقم اللجنة",{"$f":"VLOOKUP(K156,جلوس_أسماء3,7,FALSE)","v":2}]
[{"$f":"'جدول الصف الثالث '!$A$2","v":"مدرسة د/علي علي حبيش الابتدائية"},null,{"$f":"'جدول الصف الثالث '!$C$5","v":"الصف الثالث"},null,{"$f":"E145+1","v":15},null,{"$f":"'جدول الصف الثالث '!$A$2","v":"مدرسة د/علي علي حبيش الابتدائية"},null,{"$f":"'جدول الصف الثالث '!$C$5","v":"الصف الثالث"},null,{"$f":"K145+1","v":35}]
[{"$f":"'جدول الصف الثالث '!$B$4","v":"جدول امتحان الفصل الدراسي الأول / الثاني للعام الدراسي 2019/2018"},null,null,null,null,null,{"$f":"'جدول الصف الثالث '!$B$4","v":"جدول امتحان الفصل الدراسي الأول / الثاني للعام الدراسي 2019/2018"}]
["اسم التلميذ",{"$f":"VLOOKUP(E156,جلوس_أسماء3,3,FALSE)","v":"محمود15"},"رقم الجلوس",{"$f":"VLOOKUP(E156,جلوس_أسماء3,2,FALSE)","v":54},null,null,"اسم التلميذ",{"$f":"VLOOKUP(K156,جلوس_أسماء3,3,FALSE)","v":"محمود35"},"رقم الجلوس",{"$f":"VLOOKUP(K156,جلوس_أسماء3,2,FALSE)","v":74}]
["اليوم والترايخ","المــــــــــــــــادة","الزمن",null,"الزمن",null,"اليوم والترايخ","المــــــــــــــــادة","الزمن",null,"الزمن"]
[null,null,"من ","إلي",null,null,null,null,"من ","إلي"]
[{"$f":"'جدول الصف الثالث '!$B$8","v":"السبت"},{"$f":"'جدول الصف الثالث '!$C$8","v":"لغة عربية وخط"},{"$f":"'جدول الصف الثالث '!$D$8","v":8},{"$f":"'جدول الصف الثالث '!$E$8","v":10},{"$f":"'جدول الصف الثالث '!$F$8","v":"ساعتان"},null,{"$f":"'جدول الصف الثالث '!$B$8","v":"السبت"},{"$f":"'جدول الصف الثالث '!$C$8","v":"لغة عربية وخط"},{"$f":"'جدول الصف الثالث '!$D$8","v":8},{"$f":"'جدول الصف الثالث '!$E$8","v":10},{"$f":"'جدول الصف الثالث '!$F$8","v":"ساعتان"}]
[{"$f":"'جدول الصف الثالث '!$B$9","v":"2018-01-01"},{"$f":"'جدول الصف الثالث '!$C$9","v":"التربية الدينية"},{"$f":"'جدول الصف الثالث '!$D$9","v":10.15},{"$f":"'جدول الصف الثالث '!$E$9","v":11.45},{"$f":"'جدول الصف الثالث '!$F$9","v":"ساعة"},null,{"$f":"'جدول الصف الثالث '!$B$9","v":"2018-01-01"},{"$f":"'جدول الصف الثالث '!$C$9","v":"التربية الدينية"},{"$f":"'جدول الصف الثالث '!$D$9","v":10.15},{"$f":"'جدول الصف الثالث '!$E$9","v":11.45},{"$f":"'جدول الصف الثالث '!$F$9","v":"ساعة"}]
[{"$f":"'جدول الصف الثالث '!$B$10","v":"الأحد"},{"$f":"'جدول الصف الثالث '!$C$10","v":"الرياضيات"},{"$f":"'جدول الصف الثالث '!$D$10","v":8},{"$f":"'جدول الصف الثالث '!$E$10","v":9.3000000000000007},{"$f":"'جدول الصف الثالث '!$F$10","v":"ساعة ونصف"},null,{"$f":"'جدول الصف الثالث '!$B$10","v":"الأحد"},{"$f":"'جدول الصف الثالث '!$C$10","v":"الرياضيات"},{"$f":"'جدول الصف الثالث '!$D$10","v":8},{"$f":"'جدول الصف الثالث '!$E$10","v":9.3000000000000007},{"$f":"'جدول الصف الثالث '!$F$10","v":"ساعة ونصف"}]
[{"$f":"'جدول الصف الثالث '!$B$11","v":"2018-01-02"},{"$f":"'جدول الصف الثالث '!$C$11","v":"اللغة الإنجليزية"},{"$f":"'جدول الصف الثالث '!$D$11","v":9.4499999999999993},{"$f":"'جدول الصف الثالث '!$E$11","v":11.15},{"$f":"'جدول الصف الثالث '!$F$11","v":"ساعة ونصف"},null,{"$f":"'جدول الصف الثالث '!$B$11","v":"2018-01-02"},{"$f":"'جدول الصف الثالث '!$C$11","v":"اللغة الإنجليزية"},{"$f":"'جدول الصف الثالث '!$D$11","v":9.4499999999999993},{"$f":"'جدول الصف الثالث '!$E$11","v":11.15},{"$f":"'جدول الصف الثالث '!$F$11","v":"ساعة ونصف"}]
[]
[{"$f":"'جدول الصف الثالث '!$A$1","v":"إدارة /غرب المحلة الكبرى التعليمية"},null,"رقم اللجنة",{"$f":"VLOOKUP(E167,جلوس_أسماء3,7,FALSE)","v":1},null,null,{"$f":"'جدول الصف الثالث '!$A$1","v":"إدارة /غرب المحلة الكبرى التعليمية"},null,"رقم اللجنة",{"$f":"VLOOKUP(K167,جلوس_أسماء3,7,FALSE)","v":2}]
[{"$f":"'جدول الصف الثالث '!$A$2","v":"مدرسة د/علي علي حبيش الابتدائية"},null,{"$f":"'جدول الصف الثالث '!$C$5","v":"الصف الثالث"},null,{"$f":"E156+1","v":16},null,{"$f":"'جدول الصف الثالث '!$A$2","v":"مدرسة د/علي علي حبيش الابتدائية"},null,{"$f":"'جدول الصف الثالث '!$C$5","v":"الصف الثالث"},null,{"$f":"K156+1","v":36}]
[{"$f":"'جدول الصف الثالث '!$B$4","v":"جدول امتحان الفصل الدراسي الأول / الثاني للعام الدراسي 2019/2018"},null,null,null,null,null,{"$f":"'جدول الصف الثالث '!$B$4","v":"جدول امتحان الفصل الدراسي الأول / الثاني للعام الدراسي 2019/2018"}]
["اسم التلميذ",{"$f":"VLOOKUP(E167,جلوس_أسماء3,3,FALSE)","v":"محمود16"},"رقم الجلوس",{"$f":"VLOOKUP(E167,جلوس_أسماء3,2,FALSE)","v":55},null,null,"اسم التلميذ",{"$f":"VLOOKUP(K167,جلوس_أسماء3,3,FALSE)","v":"محمود36"},"رقم الجلوس",{"$f":"VLOOKUP(K167,جلوس_أسماء3,2,FALSE)","v":75}]
["اليوم والترايخ","المــــــــــــــــادة","الزمن",null,"الزمن",null,"اليوم والترايخ","المــــــــــــــــادة","الزمن",null,"الزمن"]
[null,null,"من ","إلي",null,null,null,null,"من ","إلي"]
[{"$f":"'جدول الصف الثالث '!$B$8","v":"السبت"},{"$f":"'جدول الصف الثالث '!$C$8","v":"لغة عربية وخط"},{"$f":"'جدول الصف الثالث '!$D$8","v":8},{"$f":"'جدول الصف الثالث '!$E$8","v":10},{"$f":"'جدول الصف الثالث '!$F$8","v":"ساعتان"},null,{"$f":"'جدول الصف الثالث '!$B$8","v":"السبت"},{"$f":"'جدول الصف الثالث '!$C$8","v":"لغة عربية وخط"},{"$f":"'جدول الصف الثالث '!$D$8","v":8},{"$f":"'جدول الصف الثالث '!$E$8","v":10},{"$f":"'جدول الصف الثالث '!$F$8","v":"ساعتان"}]
[{"$f":"'جدول الصف الثالث '!$B$9","v":"2018-01-01"},{"$f":"'جدول الصف الثالث '!$C$9","v":"التربية الدينية"},{"$f":"'جدول الصف الثالث '!$D$9","v":10.15},{"$f":"'جدول الصف الثالث '!$E$9","v":11.45},{"$f":"'جدول الصف الثالث '!$F$9","v":"ساعة"},null,{"$f":"'جدول الصف الثالث '!$B$9","v":"2018-01-01"},{"$f":"'جدول الصف الثالث '!$C$9","v":"التربية الدينية"},{"$f":"'جدول الصف الثالث '!$D$9","v":10.15},{"$f":"'جدول الصف الثالث '!$E$9","v":11.45},{"$f":"'جدول الصف الثالث '!$F$9","v":"ساعة"}]
[{"$f":"'جدول الصف الثالث '!$B$10","v":"الأحد"},{"$f":"'جدول الصف الثالث '!$C$10","v":"الرياضيات"},{"$f":"'جدول الصف الثالث '!$D$10","v":8},{"$f":"'جدول الصف الثالث '!$E$10","v":9.3000000000000007},{"$f":"'جدول الصف الثالث '!$F$10","v":"ساعة ونصف"},null,{"$f":"'جدول الصف الثالث '!$B$10","v":"الأحد"},{"$f":"'جدول الصف الثالث '!$C$10","v":"الرياضيات"},{"$f":"'جدول الصف الثالث '!$D$10","v":8},{"$f":"'جدول الصف الثالث '!$E$10","v":9.3000000000000007},{"$f":"'جدول الصف الثالث '!$F$10","v":"ساعة ونصف"}]
[{"$f":"'جدول الصف الثالث '!$B$11","v":"2018-01-02"},{"$f":"'جدول الصف الثالث '!$C$11","v":"اللغة الإنجليزية"},{"$f":"'جدول الصف الثالث '!$D$11","v":9.4499999999999993},{"$f":"'جدول الصف الثالث '!$E$11","v":11.15},{"$f":"'جدول الصف الثالث '!$F$11","v":"ساعة ونصف"},null,{"$f":"'جدول الصف الثالث '!$B$11","v":"2018-01-02"},{"$f":"'جدول الصف الثالث '!$C$11","v":"اللغة الإنجليزية"},{"$f":"'جدول الصف الثالث '!$D$11","v":9.4499999999999993},{"$f":"'جدول الصف الثالث '!$E$11","v":11.15},{"$f":"'جدول الصف الثالث '!$F$11","v":"ساعة ونصف"}]
[]
[{"$f":"'جدول الصف الثالث '!$A$1","v":"إدارة /غرب المحلة الكبرى التعليمية"},null,"رقم اللجنة",{"$f":"VLOOKUP(E178,جلوس_أسماء3,7,FALSE)","v":1},null,null,{"$f":"'جدول الصف الثالث '!$A$1","v":"إدارة /غرب المحلة الكبرى التعليمية"},null,"رقم اللجنة",{"$f":"VLOOKUP(K178,جلوس_أسماء3,7,FALSE)","v":2}]
[{"$f":"'جدول الصف الثالث '!$A$2","v":"مدرسة د/علي علي حبيش الابتدائية"},null,{"$f":"'جدول الصف الثالث '!$C$5","v":"الصف الثالث"},null,{"$f":"E167+1","v":17},null,{"$f":"'جدول الصف الثالث '!$A$2","v":"مدرسة د/علي علي حبيش الابتدائية"},null,{"$f":"'جدول الصف الثالث '!$C$5","v":"الصف الثالث"},null,{"$f":"K167+1","v":37}]
[{"$f":"'جدول الصف الثالث '!$B$4","v":"جدول امتحان الفصل الدراسي الأول / الثاني للعام الدراسي 2019/2018"},null,null,null,null,null,{"$f":"'جدول الصف الثالث '!$B$4","v":"جدول امتحان الفصل الدراسي الأول / الثاني للعام الدراسي 2019/2018"}]
["اسم التلميذ",{"$f":"VLOOKUP(E178,جلوس_أسماء3,3,FALSE)","v":"محمود17"},"رقم الجلوس",{"$f":"VLOOKUP(E178,جلوس_أسماء3,2,FALSE)","v":56},null,null,"اسم التلميذ",{"$f":"VLOOKUP(K178,جلوس_أسماء3,3,FALSE)","v":"محمود37"},"رقم الجلوس",{"$f":"VLOOKUP(K178,جلوس_أسماء3,2,FALSE)","v":76}]
["اليوم والترايخ","المــــــــــــــــادة","الزمن",null,"الزمن",null,"اليوم والترايخ","المــــــــــــــــادة","الزمن",null,"الزمن"]
[null,null,"من ","إلي",null,null,null,null,"من ","إلي"]
[{"$f":"'جدول الصف الثالث '!$B$8","v":"السبت"},{"$f":"'جدول الصف الثالث '!$C$8","v":"لغة عربية وخط"},{"$f":"'جدول الصف الثالث '!$D$8","v":8},{"$f":"'جدول الصف الثالث '!$E$8","v":10},{"$f":"'جدول الصف الثالث '!$F$8","v":"ساعتان"},null,{"$f":"'جدول الصف الثالث '!$B$8","v":"السبت"},{"$f":"'جدول الصف الثالث '!$C$8","v":"لغة عربية وخط"},{"$f":"'جدول الصف الثالث '!$D$8","v":8},{"$f":"'جدول الصف الثالث '!$E$8","v":10},{"$f":"'جدول الصف الثالث '!$F$8","v":"ساعتان"}]
[{"$f":"'جدول الصف الثالث '!$B$9","v":"2018-01-01"},{"$f":"'جدول الصف الثالث '!$C$9","v":"التربية الدينية"},{"$f":"'جدول الصف الثالث '!$D$9","v":10.15},{"$f":"'جدول الصف الثالث '!$E$9","v":11.45},{"$f":"'جدول الصف الثالث '!$F$9","v":"ساعة"},null,{"$f":"'جدول الصف الثالث '!$B$9","v":"2018-01-01"},{"$f":"'جدول الصف الثالث '!$C$9","v":"التربية الدينية"},{"$f":"'جدول الصف الثالث '!$D$9","v":10.15},{"$f":"'جدول الصف الثالث '!$E$9","v":11.45},{"$f":"'جدول الصف الثالث '!$F$9","v":"ساعة"}]
[{"$f":"'جدول الصف الثالث '!$B$10","v":"الأحد"},{"$f":"'جدول الصف الثالث '!$C$10","v":"الرياضيات"},{"$f":"'جدول الصف الثالث '!$D$10","v":8},{"$f":"'جدول الصف الثالث '!$E$10","v":9.3000000000000007},{"$f":"'جدول الصف الثالث '!$F$10","v":"ساعة ونصف"},null,{"$f":"'جدول الصف الثالث '!$B$10","v":"الأحد"},{"$f":"'جدول الصف الثالث '!$C$10","v":"الرياضيات"},{"$f":"'جدول الصف الثالث '!$D$10","v":8},{"$f":"'جدول الصف الثالث '!$E$10","v":9.3000000000000007},{"$f":"'جدول الصف الثالث '!$F$10","v":"ساعة ونصف"}]
[{"$f":"'جدول الصف الثالث '!$B$11","v":"2018-01-02"},{"$f":"'جدول الصف الثالث '!$C$11","v":"اللغة الإنجليزية"},{"$f":"'جدول الصف الثالث '!$D$11","v":9.4499999999999993},{"$f":"'جدول الصف الثالث '!$E$11","v":11.15},{"$f":"'جدول الصف الثالث '!$F$11","v":"ساعة ونصف"},null,{"$f":"'جدول الصف الثالث '!$B$11","v":"2018-01-02"},{"$f":"'جدول الصف الثالث '!$C$11","v":"اللغة الإنجليزية"},{"$f":"'جدول الصف الثالث '!$D$11","v":9.4499999999999993},{"$f":"'جدول الصف الثالث '!$E$11","v":11.15},{"$f":"'جدول الصف الثالث '!$F$11","v":"ساعة ونصف"}]
[]
[{"$f":"'جدول الصف الثالث '!$A$1","v":"إدارة /غرب المحلة الكبرى التعليمية"},null,"رقم اللجنة",{"$f":"VLOOKUP(E189,جلوس_أسماء3,7,FALSE)","v":1},null,null,{"$f":"'جدول الصف الثالث '!$A$1","v":"إدارة /غرب المحلة الكبرى التعليمية"},null,"رقم اللجنة",{"$f":"VLOOKUP(K189,جلوس_أسماء3,7,FALSE)","v":2}]
[{"$f":"'جدول الصف الثالث '!$A$2","v":"مدرسة د/علي علي حبيش الابتدائية"},null,{"$f":"'جدول الصف الثالث '!$C$5","v":"الصف الثالث"},null,{"$f":"E178+1","v":18},null,{"$f":"'جدول الصف الثالث '!$A$2","v":"مدرسة د/علي علي حبيش الابتدائية"},null,{"$f":"'جدول الصف الثالث '!$C$5","v":"الصف الثالث"},null,{"$f":"K178+1","v":38}]
[{"$f":"'جدول الصف الثالث '!$B$4","v":"جدول امتحان الفصل الدراسي الأول / الثاني للعام الدراسي 2019/2018"},null,null,null,null,null,{"$f":"'جدول الصف الثالث '!$B$4","v":"جدول امتحان الفصل الدراسي الأول / الثاني للعام الدراسي 2019/2018"}]
["اسم التلميذ",{"$f":"VLOOKUP(E189,جلوس_أسماء3,3,FALSE)","v":"محمود18"},"رقم الجلوس",{"$f":"VLOOKUP(E189,جلوس_أسماء3,2,FALSE)","v":57},null,null,"اسم التلميذ",{"$f":"VLOOKUP(K189,جلوس_أسماء3,3,FALSE)","v":"محمود38"},"رقم الجلوس",{"$f":"VLOOKUP(K189,جلوس_أسماء3,2,FALSE)","v":77}]
["اليوم والترايخ","المــــــــــــــــادة","الزمن",null,"الزمن",null,"اليوم والترايخ","المــــــــــــــــادة","الزمن",null,"الزمن"]
[null,null,"من ","إلي",null,null,null,null,"من ","إلي"]
[{"$f":"'جدول الصف الثالث '!$B$8","v":"السبت"},{"$f":"'جدول الصف الثالث '!$C$8","v":"لغة عربية وخط"},{"$f":"'جدول الصف الثالث '!$D$8","v":8},{"$f":"'جدول الصف الثالث '!$E$8","v":10},{"$f":"'جدول الصف الثالث '!$F$8","v":"ساعتان"},null,{"$f":"'جدول الصف الثالث '!$B$8","v":"السبت"},{"$f":"'جدول الصف الثالث '!$C$8","v":"لغة عربية وخط"},{"$f":"'جدول الصف الثالث '!$D$8","v":8},{"$f":"'جدول الصف الثالث '!$E$8","v":10},{"$f":"'جدول الصف الثالث '!$F$8","v":"ساعتان"}]
[{"$f":"'جدول الصف الثالث '!$B$9","v":"2018-01-01"},{"$f":"'جدول الصف الثالث '!$C$9","v":"التربية الدينية"},{"$f":"'جدول الصف الثالث '!$D$9","v":10.15},{"$f":"'جدول الصف الثالث '!$E$9","v":11.45},{"$f":"'جدول الصف الثالث '!$F$9","v":"ساعة"},null,{"$f":"'جدول الصف الثالث '!$B$9","v":"2018-01-01"},{"$f":"'جدول الصف الثالث '!$C$9","v":"التربية الدينية"},{"$f":"'جدول الصف الثالث '!$D$9","v":10.15},{"$f":"'جدول الصف الثالث '!$E$9","v":11.45},{"$f":"'جدول الصف الثالث '!$F$9","v":"ساعة"}]
[{"$f":"'جدول الصف الثالث '!$B$10","v":"الأحد"},{"$f":"'جدول الصف الثالث '!$C$10","v":"الرياضيات"},{"$f":"'جدول الصف الثالث '!$D$10","v":8},{"$f":"'جدول الصف الثالث '!$E$10","v":9.3000000000000007},{"$f":"'جدول الصف الثالث '!$F$10","v":"ساعة ونصف"},null,{"$f":"'جدول الصف الثالث '!$B$10","v":"الأحد"},{"$f":"'جدول الصف الثالث '!$C$10","v":"الرياضيات"},{"$f":"'جدول الصف الثالث '!$D$10","v":8},{"$f":"'جدول الصف الثالث '!$E$10","v":9.3000000000000007},{"$f":"'جدول الصف الثالث '!$F$10","v":"ساعة ونصف"}]
[{"$f":"'جدول الصف الثالث '!$B$11","v":"2018-01-02"},{"$f":"'جدول الصف الثالث '!$C$11","v":"اللغة الإنجليزية"},{"$f":"'جدول الصف الثالث '!$D$11","v":9.4499999999999993},{"$f":"'جدول الصف الثالث '!$E$11","v":11.15},{"$f":"'جدول الصف الثالث '!$F$11","v":"ساعة ونصف"},null,{"$f":"'جدول الصف الثالث '!$B$11","v":"2018-01-02"},{"$f":"'جدول الصف الثالث '!$C$11","v":"اللغة الإنجليزية"},{"$f":"'جدول الصف الثالث '!$D$11","v":9.4499999999999993},{"$f":"'جدول الصف الثالث '!$E$11","v":11.15},{"$f":"'جدول الصف الثالث '!$F$11","v":"ساعة ونصف"}]
[]
[{"$f":"'جدول الصف الثالث '!$A$1","v":"إدارة /غرب المحلة الكبرى التعليمية"},null,"رقم اللجنة",{"$f":"VLOOKUP(E200,جلوس_أسماء3,7,FALSE)","v":1},null,null,{"$f":"'جدول الصف الثالث '!$A$1","v":"إدارة /غرب المحلة الكبرى التعليمية"},null,"رقم اللجنة",{"$f":"VLOOKUP(K200,جلوس_أسماء3,7,FALSE)","v":2}]
[{"$f":"'جدول الصف الثالث '!$A$2","v":"مدرسة د/علي علي حبيش الابتدائية"},null,{"$f":"'جدول الصف الثالث '!$C$5","v":"الصف الثالث"},null,{"$f":"E189+1","v":19},null,{"$f":"'جدول الصف الثالث '!$A$2","v":"مدرسة د/علي علي حبيش الابتدائية"},null,{"$f":"'جدول الصف الثالث '!$C$5","v":"الصف الثالث"},null,{"$f":"K189+1","v":39}]
[{"$f":"'جدول الصف الثالث '!$B$4","v":"جدول امتحان الفصل الدراسي الأول / الثاني للعام الدراسي 2019/2018"},null,null,null,null,null,{"$f":"'جدول الصف الثالث '!$B$4","v":"جدول امتحان الفصل الدراسي الأول / الثاني للعام الدراسي 2019/2018"}]
["اسم التلميذ",{"$f":"VLOOKUP(E200,جلوس_أسماء3,3,FALSE)","v":"محمود19"},"رقم الجلوس",{"$f":"VLOOKUP(E200,جلوس_أسماء3,2,FALSE)","v":58},null,null,"اسم التلميذ",{"$f":"VLOOKUP(K200,جلوس_أسماء3,3,FALSE)","v":"محمود39"},"رقم الجلوس",{"$f":"VLOOKUP(K200,جلوس_أسماء3,2,FALSE)","v":78}]
["اليوم والترايخ","المــــــــــــــــادة","الزمن",null,"الزمن",null,"اليوم والترايخ","المــــــــــــــــادة","الزمن",null,"الزمن"]
[null,null,"من ","إلي",null,null,null,null,"من ","إلي"]
[{"$f":"'جدول الصف الثالث '!$B$8","v":"السبت"},{"$f":"'جدول الصف الثالث '!$C$8","v":"لغة عربية وخط"},{"$f":"'جدول الصف الثالث '!$D$8","v":8},{"$f":"'جدول الصف الثالث '!$E$8","v":10},{"$f":"'جدول الصف الثالث '!$F$8","v":"ساعتان"},null,{"$f":"'جدول الصف الثالث '!$B$8","v":"السبت"},{"$f":"'جدول الصف الثالث '!$C$8","v":"لغة عربية وخط"},{"$f":"'جدول الصف الثالث '!$D$8","v":8},{"$f":"'جدول الصف الثالث '!$E$8","v":10},{"$f":"'جدول الصف الثالث '!$F$8","v":"ساعتان"}]
[{"$f":"'جدول الصف الثالث '!$B$9","v":"2018-01-01"},{"$f":"'جدول الصف الثالث '!$C$9","v":"التربية الدينية"},{"$f":"'جدول الصف الثالث '!$D$9","v":10.15},{"$f":"'جدول الصف الثالث '!$E$9","v":11.45},{"$f":"'جدول الصف الثالث '!$F$9","v":"ساعة"},null,{"$f":"'جدول الصف الثالث '!$B$9","v":"2018-01-01"},{"$f":"'جدول الصف الثالث '!$C$9","v":"التربية الدينية"},{"$f":"'جدول الصف الثالث '!$D$9","v":10.15},{"$f":"'جدول الصف الثالث '!$E$9","v":11.45},{"$f":"'جدول الصف الثالث '!$F$9","v":"ساعة"}]
[{"$f":"'جدول الصف الثالث '!$B$10","v":"الأحد"},{"$f":"'جدول الصف الثالث '!$C$10","v":"الرياضيات"},{"$f":"'جدول الصف الثالث '!$D$10","v":8},{"$f":"'جدول الصف الثالث '!$E$10","v":9.3000000000000007},{"$f":"'جدول الصف الثالث '!$F$10","v":"ساعة ونصف"},null,{"$f":"'جدول الصف الثالث '!$B$10","v":"الأحد"},{"$f":"'جدول الصف الثالث '!$C$10","v":"الرياضيات"},{"$f":"'جدول الصف الثالث '!$D$10","v":8},{"$f":"'جدول الصف الثالث '!$E$10","v":9.3000000000000007},{"$f":"'جدول الصف الثالث '!$F$10","v":"ساعة ونصف"}]
[{"$f":"'جدول الصف الثالث '!$B$11","v":"2018-01-02"},{"$f":"'جدول الصف الثالث '!$C$11","v":"اللغة الإنجليزية"},{"$f":"'جدول الصف الثالث '!$D$11","v":9.4499999999999993},{"$f":"'جدول الصف الثالث '!$E$11","v":11.15},{"$f":"'جدول الصف الثالث '!$F$11","v":"ساعة ونصف"},null,{"$f":"'جدول الصف الثالث '!$B$11","v":"2018-01-02"},{"$f":"'جدول الصف الثالث '!$C$11","v":"اللغة الإنجليزية"},{"$f":"'جدول الصف الثالث '!$D$11","v":9.4499999999999993},{"$f":"'جدول الصف الثالث '!$E$11","v":11.15},{"$f":"'جدول الصف الثالث '!$F$11","v":"ساعة ونصف"}]
[]
[{"$f":"'جدول الصف الثالث '!$A$1","v":"إدارة /غرب المحلة الكبرى التعليمية"},null,"رقم اللجنة",{"$f":"VLOOKUP(E211,جلوس_أسماء3,7,FALSE)","v":1},null,null,{"$f":"'جدول الصف الثالث '!$A$1","v":"إدارة /غرب المحلة الكبرى التعليمية"},null,"رقم اللجنة",{"$f":"VLOOKUP(K211,جلوس_أسماء3,7,FALSE)","v":2}]
[{"$f":"'جدول الصف الثالث '!$A$2","v":"مدرسة د/علي علي حبيش الابتدائية"},null,{"$f":"'جدول الصف الثالث '!$C$5","v":"الصف الثالث"},null,{"$f":"E200+1","v":20},null,{"$f":"'جدول الصف الثالث '!$A$2","v":"مدرسة د/علي علي حبيش الابتدائية"},null,{"$f":"'جدول الصف الثالث '!$C$5","v":"الصف الثالث"},null,{"$f":"K200+1","v":40}]
[{"$f":"'جدول الصف الثالث '!$B$4","v":"جدول امتحان الفصل الدراسي الأول / الثاني للعام الدراسي 2019/2018"},null,null,null,null,null,{"$f":"'جدول الصف الثالث '!$B$4","v":"جدول امتحان الفصل الدراسي الأول / الثاني للعام الدراسي 2019/2018"}]
["اسم التلميذ",{"$f":"VLOOKUP(E211,جلوس_أسماء3,3,FALSE)","v":"محمود20"},"رقم الجلوس",{"$f":"VLOOKUP(E211,جلوس_أسماء3,2,FALSE)","v":59},null,null,"اسم التلميذ",{"$f":"VLOOKUP(K211,جلوس_أسماء3,3,FALSE)","v":"محمود40"},"رقم الجلوس",{"$f":"VLOOKUP(K211,جلوس_أسماء3,2,FALSE)","v":79}]
["اليوم والترايخ","المــــــــــــــــادة","الزمن",null,"الزمن",null,"اليوم والترايخ","المــــــــــــــــادة","الزمن",null,"الزمن"]
[null,null,"من ","إلي",null,null,null,null,"من ","إلي"]
[{"$f":"'جدول الصف الثالث '!$B$8","v":"السبت"},{"$f":"'جدول الصف الثالث '!$C$8","v":"لغة عربية وخط"},{"$f":"'جدول الصف الثالث '!$D$8","v":8},{"$f":"'جدول الصف الثالث '!$E$8","v":10},{"$f":"'جدول الصف الثالث '!$F$8","v":"ساعتان"},null,{"$f":"'جدول الصف الثالث '!$B$8","v":"السبت"},{"$f":"'جدول الصف الثالث '!$C$8","v":"لغة عربية وخط"},{"$f":"'جدول الصف الثالث '!$D$8","v":8},{"$f":"'جدول الصف الثالث '!$E$8","v":10},{"$f":"'جدول الصف الثالث '!$F$8","v":"ساعتان"}]
[{"$f":"'جدول الصف الثالث '!$B$9","v":"2018-01-01"},{"$f":"'جدول الصف الثالث '!$C$9","v":"التربية الدينية"},{"$f":"'جدول الصف الثالث '!$D$9","v":10.15},{"$f":"'جدول الصف الثالث '!$E$9","v":11.45},{"$f":"'جدول الصف الثالث '!$F$9","v":"ساعة"},null,{"$f":"'جدول الصف الثالث '!$B$9","v":"2018-01-01"},{"$f":"'جدول الصف الثالث '!$C$9","v":"التربية الدينية"},{"$f":"'جدول الصف الثالث '!$D$9","v":10.15},{"$f":"'جدول الصف الثالث '!$E$9","v":11.45},{"$f":"'جدول الصف الثالث '!$F$9","v":"ساعة"}]
[{"$f":"'جدول الصف الثالث '!$B$10","v":"الأحد"},{"$f":"'جدول الصف الثالث '!$C$10","v":"الرياضيات"},{"$f":"'جدول الصف الثالث '!$D$10","v":8},{"$f":"'جدول الصف الثالث '!$E$10","v":9.3000000000000007},{"$f":"'جدول الصف الثالث '!$F$10","v":"ساعة ونصف"},null,{"$f":"'جدول الصف الثالث '!$B$10","v":"الأحد"},{"$f":"'جدول الصف الثالث '!$C$10","v":"الرياضيات"},{"$f":"'جدول الصف الثالث '!$D$10","v":8},{"$f":"'جدول الصف الثالث '!$E$10","v":9.3000000000000007},{"$f":"'جدول الصف الثالث '!$F$10","v":"ساعة ونصف"}]
[{"$f":"'جدول الصف الثالث '!$B$11","v":"2018-01-02"},{"$f":"'جدول الصف الثالث '!$C$11","v":"اللغة الإنجليزية"},{"$f":"'جدول الصف الثالث '!$D$11","v":9.4499999999999993},{"$f":"'جدول الصف الثالث '!$E$11","v":11.15},{"$f":"'جدول الصف الثالث '!$F$11","v":"ساعة ونصف"},null,{"$f":"'جدول الصف الثالث '!$B$11","v":"2018-01-02"},{"$f":"'جدول الصف الثالث '!$C$11","v":"اللغة الإنجليزية"},{"$f":"'جدول الصف الثالث '!$D$11","v":9.4499999999999993},{"$f":"'جدول الصف الثالث '!$E$11","v":11.15},{"$f":"'جدول الصف الثالث '!$F$11","v":"ساعة ونصف"}]

{"sheet":"جدول الصف الرابع","index":9,"n_rows":14,"n_cols":6,"rows_kept":14,"cut":false,"hidden":false,"merged":[[4,1,5,1],[4,2,5,2],[4,3,4,4],[4,5,5,5]]}
[{"$f":"'البيانات الأساسية'!$A$1","v":"إدارة /غرب المحلة الكبرى التعليمية"}]
[{"$f":"'البيانات الأساسية'!$A$2","v":"مدرسة د/علي علي حبيش الابتدائية"}]
[null,"جدول امتحان الفصل الدراسي الأول / الثاني للعام الدراسي 2019/2018"]
[null,null,"الصف الرابع"]
[null,"اليوم والترايخ","المـــــــــــــــــــــــــــادة","الوقت",null,"الزمــــن "]
[null,null,null,"من ","إلي"]
[null,"السبت","لغة عربية وخط",8,10.3,"ساعتان ونصف"]
[null,"2018-01-01"]
[null,"الأحد","الرياضيات",8,9.3000000000000007,"ساعة ونصف"]
[null,"2018-01-02","اللغة الإنجليزية",9.4499999999999993,11.15,"ساعة ونصف"]
[null,"الاثنين","علوم",9.4499999999999993,10.8,"ساعة ونصف"]
[null,"2018-01-03","التربية الدينية",9.67,10.93,"ساعة ونصف"]
[null,"الثلاثاء","الدراسات",9.89,11.06,"ساعة ونصف"]
[null,"2018-01-04"]

{"sheet":"قائمة الصف الرابع","index":10,"n_rows":603,"n_cols":22,"rows_kept":603,"cut":false,"hidden":false,"merged":[[30,1,30,7],[0,5,0,6],[0,12,0,13],[1,12,1,13],[8,21,14,21],[17,21,23,21],[8,12,15,12]]}
[null,"عدد اللجان","من","إلى","اللجنة",{"$f":"MAX(N:N)","v":490},null,"حدد عدد اللحنة بنفسك","عدد نهائي","من","إلى","اللجنة","عدد طلابك",null,{"$f":"MAX(N:N)","v":490},"اكتب بداية رقم الجلوس",60,"بنون",{"$f":"COUNTIFS(Q4:Q603,\"ذكر\")","v":195},"مسلم",{"$f":"COUNTIFS(S3:S602,\"مسلم\")","v":3}]
[null,{"$f":"IF($I2=\"\",\"\",MAX($G$1:$G1)+1)","v":1},{"$f":"Q1","v":60},{"$f":"IF(I2=\"\",\"\",C2+I2-1)","v":79},{"$f":"IF($I2=\"\",\"\",MAX($G$1:$G1)+1)","v":1},{"$f":"IF($G2=\"\",\"\",\"اللجنة\")","v":"اللجنة"},{"$f":"IF($I2=\"\",\"\",MAX($G$1:$G1)+1)","v":1},null,{"$f":"IF(SUM($I$1:$I1,IF(H2=\"\",20,H2))<$F$1,IF($H2=\"\",20,$H2),IF(SUM($I1:$I$2)=$F$1,\"\",$F$1-SUM($I1:$I$2)))","v":20},{"$f":"IF($I2=\"\",\"\",SUM(I$1:$I1)+1)","v":1},{"$f":"IF($G2=\"\",\"\",SUM($I2,$J2,-1))","v":20},{"$f":"IF($I2=\"\",\"\",MAX($G$1:$G1)+1)","v":1},"آخر رقم جلوس",null,{"$f":"MAX(D2:D44)","v":559},"الصف الرابع",null,"بنات",{"$f":"COUNTIFS(Q4:Q603,\"انثى\")","v":185},"مسيحي",{"$f":"COUNTIFS(S4:S603,\"مسيحي\")","v":0}]
[null,{"$f":"IF($I3=\"\",\"\",MAX($G$1:$G2)+1)","v":2},{"$f":"IF(I1=\"\",\"\",IF(B3=\"\",\"\",D2+1))","v":80},{"$f":"IF(I2=\"\",\"\",IF(B3=\"\",\"\",C3+I3-1))","v":99},{"$f":"IF($I3=\"\",\"\",MAX($G$1:$G2)+1)","v":2},{"$f":"IF($G3=\"\",\"\",\"اللجنة\")","v":"اللجنة"},{"$f":"IF($I3=\"\",\"\",MAX($G$1:$G2)+1)","v":2},null,{"$f":"IF(SUM($I$1:$I2,IF(H3=\"\",20,H3))<$F$1,IF($H3=\"\",20,$H3),IF(SUM($I2:$I$2)=$F$1,\"\",$F$1-SUM($I2:$I$2)))","v":20},{"$f":"IF($I3=\"\",\"\",SUM(I$1:$I2)+1)","v":21},{"$f":"IF($G3=\"\",\"\",SUM($I3,$J3,-1))","v":40},{"$f":"IF($I3=\"\",\"\",MAX($G$1:$G2)+1)","v":2},null,"م","رقم الجلوس","الاســــــــــــــــــــــــم","النوع","القيد","الديانة","رقم اللجنة","ملاحظات"]
[null,{"$f":"IF($I4=\"\",\"\",MAX($G$1:$G3)+1)","v":3},{"$f":"IF(I3=\"\",\"\",IF(B4=\"\",\"\",D3+1))","v":100},{"$f":"IF(I3=\"\",\"\",IF(B4=\"\",\"\",C4+I4-1))","v":119},{"$f":"IF($I4=\"\",\"\",MAX($G$1:$G3)+1)","v":3},"اللجنة",{"$f":"IF($I4=\"\",\"\",MAX($G$1:$G3)+1)","v":3},null,{"$f":"IF(SUM($I$1:$I3,IF(H4=\"\",20,H4))<$F$1,IF($H4=\"\",20,$H4),IF(SUM($I$2:$I3)=$F$1,\"\",$F$1-SUM($I$2:$I3)))","v":20},{"$f":"IF($I4=\"\",\"\",SUM(I$1:$I3)+1)","v":41},60,{"$f":"IF($I4=\"\",\"\",MAX($G$1:$G3)+1)","v":3},null,{"$f":"(IF(P4=\"\",\"\",MAX($N$3:$N3)+1))","v":1},{"$f":"C2","v":60},"احمد1","ذكر",null,null,{"$f":"IF(N4=\"\",\"\",IF(ISERROR(MATCH($N4,$J:$J,0)),T3,MAX($T$3:$T3)+1))","v":1},{"$f":"IF(T4=T5,\"\",\"نهاية اللجنة\")","v":""},"ذكر"]
[null,{"$f":"IF($I5=\"\",\"\",MAX($G$1:$G4)+1)","v":4},120,{"$f":"IF(I4=\"\",\"\",IF(B5=\"\",\"\",C5+I4-1))","v":139},{"$f":"IF($I5=\"\",\"\",MAX($G$1:$G4)+1)","v":4},"اللجنة",{"$f":"IF($I5=\"\",\"\",MAX($G$1:$G4)+1)","v":4},null,{"$f":"IF(SUM($I$1:$I4,IF(H5=\"\",20,H5))<$F$1,IF($H5=\"\",20,$H5),IF(SUM($I$2:$I4)=$F$1,\"\",$F$1-SUM($I$2:$I4)))","v":20},{"$f":"IF($I5=\"\",\"\",SUM(I$1:$I4)+1)","v":61},80,{"$f":"IF($I5=\"\",\"\",MAX($G$1:$G4)+1)","v":4},null,{"$f":"(IF(P5=\"\",\"\",MAX($N$3:$N4)+1))","v":2},{"$f":"IF(P5=\"\",\"\",IF(O4+1>$M$2,\"\",O4+1))","v":61},"احمد2","ذكر",null,"مسلم",{"$f":"IF(N5=\"\",\"\",IF(ISERROR(MATCH($N5,$J:$J,0)),T4,MAX($T$3:$T4)+1))","v":1},{"$f":"IF(T5=T6,\"\",\"نهاية اللجنة\")","v":""},"انثى"]
[null,{"$f":"IF($I6=\"\",\"\",MAX($G$1:$G5)+1)","v":5},140,159,{"$f":"IF($I6=\"\",\"\",MAX($G$1:$G5)+1)","v":5},"اللجنة",{"$f":"IF($I6=\"\",\"\",MAX($G$1:$G5)+1)","v":5},null,{"$f":"IF(SUM($I$1:$I5,IF(H6=\"\",20,H6))<$F$1,IF($H6=\"\",20,$H6),IF(SUM($I$2:$I5)=$F$1,\"\",$F$1-SUM($I$2:$I5)))","v":20},{"$f":"IF($I6=\"\",\"\",SUM(I$1:$I5)+1)","v":81},100,{"$f":"IF($I6=\"\",\"\",MAX($G$1:$G5)+1)","v":5},null,{"$f":"(IF(P6=\"\",\"\",MAX($N$3:$N5)+1))","v":3},{"$f":"IF(P6=\"\",\"\",IF(O5+1>$M$2,\"\",O5+1))","v":62},"احمد3","ذكر",null,null,{"$f":"IF(N6=\"\",\"\",IF(ISERROR(MATCH($N6,$J:$J,0)),T5,MAX($T$3:$T5)+1))","v":1},""]
[null,{"$f":"IF($I7=\"\",\"\",MAX($G$1:$G6)+1)","v":6},160,179,{"$f":"IF($I7=\"\",\"\",MAX($G$1:$G6)+1)","v":6},"اللجنة",{"$f":"IF($I7=\"\",\"\",MAX($G$1:$G6)+1)","v":6},null,{"$f":"IF(SUM($I$1:$I6,IF(H7=\"\",20,H7))<$F$1,IF($H7=\"\",20,$H7),IF(SUM($I$2:$I6)=$F$1,\"\",$F$1-SUM($I$2:$I6)))","v":20},{"$f":"IF($I7=\"\",\"\",SUM(I$1:$I6)+1)","v":101},120,{"$f":"IF($I7=\"\",\"\",MAX($G$1:$G6)+1)","v":6},null,{"$f":"(IF(P7=\"\",\"\",MAX($N$3:$N6)+1))","v":4},63,"احمد4","ذكر",null,null,{"$f":"IF(N7=\"\",\"\",IF(ISERROR(MATCH($N7,$J:$J,0)),T6,MAX($T$3:$T6)+1))","v":1},""]
[null,{"$f":"IF($I8=\"\",\"\",MAX($G$1:$G7)+1)","v":7},180,199,{"$f":"IF($I8=\"\",\"\",MAX($G$1:$G7)+1)","v":7},"اللجنة",{"$f":"IF($I8=\"\",\"\",MAX($G$1:$G7)+1)","v":7},null,{"$f":"IF(SUM($I$1:$I7,IF(H8=\"\",20,H8))<$F$1,IF($H8=\"\",20,$H8),IF(SUM($I$2:$I7)=$F$1,\"\",$F$1-SUM($I$2:$I7)))","v":20},{"$f":"IF($I8=\"\",\"\",SUM(I$1:$I7)+1)","v":121},140,{"$f":"IF($I8=\"\",\"\",MAX($G$1:$G7)+1)","v":7},null,{"$f":"(IF(P8=\"\",\"\",MAX($N$3:$N7)+1))","v":5},64,"احمد5","ذكر",null,null,{"$f":"IF(N8=\"\",\"\",IF(ISERROR(MATCH($N8,$J:$J,0)),T7,MAX($T$3:$T7)+1))","v":1},"",{"$f":"MAX(K:K)","v":490}]
[null,{"$f":"IF($I9=\"\",\"\",MAX($G$1:$G8)+1)","v":8},200,219,{"$f":"IF($I9=\"\",\"\",MAX($G$1:$G8)+1)","v":8},"اللجنة",{"$f":"IF($I9=\"\",\"\",MAX($G$1:$G8)+1)","v":8},null,{"$f":"IF(SUM($I$1:$I8,IF(H9=\"\",20,H9))<$F$1,IF($H9=\"\",20,$H9),IF(SUM($I$2:$I8)=$F$1,\"\",$F$1-SUM($I$2:$I8)))","v":20},{"$f":"IF($I9=\"\",\"\",SUM(I$1:$I8)+1)","v":141},160,{"$f":"IF($I9=\"\",\"\",MAX($G$1:$G8)+1)","v":8},{"$f":"IF(O2=0,\"من فضلك سجل الاسماء\",IF(O3=0,\" من فضلك سجل الاسماء;\"\"\",))","v":0},{"$f":"(IF(P9=\"\",\"\",MAX($N$3:$N8)+1))","v":6},65,"احمد6","ذكر",null,null,{"$f":"IF(N9=\"\",\"\",IF(ISERROR(MATCH($N9,$J:$J,0)),T8,MAX($T$3:$T8)+1))","v":1},"",{"$f":"IF(V8=O1,\"التلاميذ مقسمون التقسيم الصحيح\",\"راجع من فضلك تقسيم اللجان\")","v":"التلاميذ مقسمون التقسيم الصحيح"}]
[null,{"$f":"IF($I10=\"\",\"\",MAX($G$1:$G9)+1)","v":9},220,239,{"$f":"IF($I10=\"\",\"\",MAX($G$1:$G9)+1)","v":9},"اللجنة",{"$f":"IF($I10=\"\",\"\",MAX($G$1:$G9)+1)","v":9},null,{"$f":"IF(SUM($I$1:$I9,IF(H10=\"\",20,H10))<$F$1,IF($H10=\"\",20,$H10),IF(SUM($I$2:$I9)=$F$1,\"\",$F$1-SUM($I$2:$I9)))","v":20},{"$f":"IF($I10=\"\",\"\",SUM(I$1:$I9)+1)","v":161},180,{"$f":"IF($I10=\"\",\"\",MAX($G$1:$G9)+1)","v":9},null,{"$f":"(IF(P10=\"\",\"\",MAX($N$3:$N9)+1))","v":7},66,"احمد7","ذكر","م للسنة الثانية","مسلم",{"$f":"IF(N10=\"\",\"\",IF(ISERROR(MATCH($N10,$J:$J,0)),T9,MAX($T$3:$T9)+1))","v":1},""]
[null,{"$f":"IF($I11=\"\",\"\",MAX($G$1:$G10)+1)","v":10},240,259,{"$f":"IF($I11=\"\",\"\",MAX($G$1:$G10)+1)","v":10},"اللجنة",{"$f":"IF($I11=\"\",\"\",MAX($G$1:$G10)+1)","v":10},null,{"$f":"IF(SUM($I$1:$I10,IF(H11=\"\",20,H11))<$F$1,IF($H11=\"\",20,$H11),IF(SUM($I$2:$I10)=$F$1,\"\",$F$1-SUM($I$2:$I10)))","v":20},{"$f":"IF($I11=\"\",\"\",SUM(I$1:$I10)+1)","v":181},200,{"$f":"IF($I11=\"\",\"\",MAX($G$1:$G10)+1)","v":10},null,{"$f":"(IF(P11=\"\",\"\",MAX($N$3:$N10)+1))","v":8},67,"احمد8","ذكر",null,null,{"$f":"IF(N11=\"\",\"\",IF(ISERROR(MATCH($N11,$J:$J,0)),T10,MAX($T$3:$T10)+1))","v":1},""]
[null,{"$f":"IF($I12=\"\",\"\",MAX($G$1:$G11)+1)","v":11},260,279,{"$f":"IF($I12=\"\",\"\",MAX($G$1:$G11)+1)","v":11},"اللجنة",{"$f":"IF($I12=\"\",\"\",MAX($G$1:$G11)+1)","v":11},null,{"$f":"IF(SUM($I$1:$I11,IF(H12=\"\",20,H12))<$F$1,IF($H12=\"\",20,$H12),IF(SUM($I$2:$I11)=$F$1,\"\",$F$1-SUM($I$2:$I11)))","v":20},{"$f":"IF($I12=\"\",\"\",SUM(I$1:$I11)+1)","v":201},220,{"$f":"IF($I12=\"\",\"\",MAX($G$1:$G11)+1)","v":11},null,{"$f":"(IF(P12=\"\",\"\",MAX($N$3:$N11)+1))","v":9},68,"احمد9","ذكر",null,null,{"$f":"IF(N12=\"\",\"\",IF(ISERROR(MATCH($N12,$J:$J,0)),T11,MAX($T$3:$T11)+1))","v":1},""]
[null,{"$f":"IF($I13=\"\",\"\",MAX($G$1:$G12)+1)","v":12},280,299,{"$f":"IF($I13=\"\",\"\",MAX($G$1:$G12)+1)","v":12},"اللجنة",{"$f":"IF($I13=\"\",\"\",MAX($G$1:$G12)+1)","v":12},null,{"$f":"IF(SUM($I$1:$I12,IF(H13=\"\",20,H13))<$F$1,IF($H13=\"\",20,$H13),IF(SUM($I$2:$I12)=$F$1,\"\",$F$1-SUM($I$2:$I12)))","v":20},{"$f":"IF($I13=\"\",\"\",SUM(I$1:$I12)+1)","v":221},240,{"$f":"IF($I13=\"\",\"\",MAX($G$1:$G12)+1)","v":12},null,{"$f":"(IF(P13=\"\",\"\",MAX($N$3:$N12)+1))","v":10},69,"احمد10","ذكر",null,"مسلم",{"$f":"IF(N13=\"\",\"\",IF(ISERROR(MATCH($N13,$J:$J,0)),T12,MAX($T$3:$T12)+1))","v":1},""]
[null,{"$f":"IF($I14=\"\",\"\",MAX($G$1:$G13)+1)","v":13},300,319,{"$f":"IF($I14=\"\",\"\",MAX($G$1:$G13)+1)","v":13},"اللجنة",{"$f":"IF($I14=\"\",\"\",MAX($G$1:$G13)+1)","v":13},null,{"$f":"IF(SUM($I$1:$I13,IF(H14=\"\",20,H14))<$F$1,IF($H14=\"\",20,$H14),IF(SUM($I$2:$I13)=$F$1,\"\",$F$1-SUM($I$2:$I13)))","v":20},{"$f":"IF($I14=\"\",\"\",SUM(I$1:$I13)+1)","v":241},260,{"$f":"IF($I14=\"\",\"\",MAX($G$1:$G13)+1)","v":13},null,{"$f":"(IF(P14=\"\",\"\",MAX($N$3:$N13)+1))","v":11},70,"احمد11","ذكر",null,null,{"$f":"IF(N14=\"\",\"\",IF(ISERROR(MATCH($N14,$J:$J,0)),T13,MAX($T$3:$T13)+1))","v":1},""]
[null,{"$f":"IF($I15=\"\",\"\",MAX($G$1:$G14)+1)","v":14},320,339,{"$f":"IF($I15=\"\",\"\",MAX($G$1:$G14)+1)","v":14},"اللجنة",{"$f":"IF($I15=\"\",\"\",MAX($G$1:$G14)+1)","v":14},null,{"$f":"IF(SUM($I$1:$I14,IF(H15=\"\",20,H15))<$F$1,IF($H15=\"\",20,$H15),IF(SUM($I$2:$I14)=$F$1,\"\",$F$1-SUM($I$2:$I14)))","v":20},{"$f":"IF($I15=\"\",\"\",SUM(I$1:$I14)+1)","v":261},280,{"$f":"IF($I15=\"\",\"\",MAX($G$1:$G14)+1)","v":14},null,{"$f":"(IF(P15=\"\",\"\",MAX($N$3:$N14)+1))","v":12},71,"احمد12","ذكر",null,null,{"$f":"IF(N15=\"\",\"\",IF(ISERROR(MATCH($N15,$J:$J,0)),T14,MAX($T$3:$T14)+1))","v":1},""]
[null,{"$f":"IF($I16=\"\",\"\",MAX($G$1:$G15)+1)","v":15},340,359,{"$f":"IF($I16=\"\",\"\",MAX($G$1:$G15)+1)","v":15},"اللجنة",{"$f":"IF($I16=\"\",\"\",MAX($G$1:$G15)+1)","v":15},null,{"$f":"IF(SUM($I$1:$I15,IF(H16=\"\",20,H16))<$F$1,IF($H16=\"\",20,$H16),IF(SUM($I$2:$I15)=$F$1,\"\",$F$1-SUM($I$2:$I15)))","v":20},{"$f":"IF($I16=\"\",\"\",SUM(I$1:$I15)+1)","v":281},300,{"$f":"IF($I16=\"\",\"\",MAX($G$1:$G15)+1)","v":15},null,{"$f":"(IF(P16=\"\",\"\",MAX($N$3:$N15)+1))","v":13},72,"احمد13","ذكر",null,null,{"$f":"IF(N16=\"\",\"\",IF(ISERROR(MATCH($N16,$J:$J,0)),T15,MAX($T$3:$T15)+1))","v":1},""]
[null,{"$f":"IF($I17=\"\",\"\",MAX($G$1:$G16)+1)","v":16},360,379,{"$f":"IF($I17=\"\",\"\",MAX($G$1:$G16)+1)","v":16},"اللجنة",{"$f":"IF($I17=\"\",\"\",MAX($G$1:$G16)+1)","v":16},null,{"$f":"IF(SUM($I$1:$I16,IF(H17=\"\",20,H17))<$F$1,IF($H17=\"\",20,$H17),IF(SUM($I$2:$I16)=$F$1,\"\",$F$1-SUM($I$2:$I16)))","v":20},{"$f":"IF($I17=\"\",\"\",SUM(I$1:$I16)+1)","v":301},320,{"$f":"IF($I17=\"\",\"\",MAX($G$1:$G16)+1)","v":16},null,{"$f":"(IF(P17=\"\",\"\",MAX($N$3:$N16)+1))","v":14},73,"احمد14","ذكر",null,null,{"$f":"IF(N17=\"\",\"\",IF(ISERROR(MATCH($N17,$J:$J,0)),T16,MAX($T$3:$T16)+1))","v":1},"",{"$f":"MAX(D:D)","v":559}]
[null,{"$f":"IF($I18=\"\",\"\",MAX($G$1:$G17)+1)","v":17},380,399,{"$f":"IF($I18=\"\",\"\",MAX($G$1:$G17)+1)","v":17},"اللجنة",{"$f":"IF($I18=\"\",\"\",MAX($G$1:$G17)+1)","v":17},null,{"$f":"IF(SUM($I$1:$I17,IF(H18=\"\",20,H18))<$F$1,IF($H18=\"\",20,$H18),IF(SUM($I$2:$I17)=$F$1,\"\",$F$1-SUM($I$2:$I17)))","v":20},{"$f":"IF($I18=\"\",\"\",SUM(I$1:$I17)+1)","v":321},340,{"$f":"IF($I18=\"\",\"\",MAX($G$1:$G17)+1)","v":17},null,{"$f":"(IF(P18=\"\",\"\",MAX($N$3:$N17)+1))","v":15},74,"احمد15","ذكر",null,null,{"$f":"IF(N18=\"\",\"\",IF(ISERROR(MATCH($N18,$J:$J,0)),T17,MAX($T$3:$T17)+1))","v":1},"",{"$f":"IF(V17=O2,\"أرقام جلوس الفصل سليمة\",\"رجاءً راجع أرقام الجلوس\")","v":"أرقام جلوس الفصل سليمة"}]
[null,{"$f":"IF($I19=\"\",\"\",MAX($G$1:$G18)+1)","v":18},400,419,{"$f":"IF($I19=\"\",\"\",MAX($G$1:$G18)+1)","v":18},"اللجنة",{"$f":"IF($I19=\"\",\"\",MAX($G$1:$G18)+1)","v":18},null,{"$f":"IF(SUM($I$1:$I18,IF(H19=\"\",20,H19))<$F$1,IF($H19=\"\",20,$H19),IF(SUM($I$2:$I18)=$F$1,\"\",$F$1-SUM($I$2:$I18)))","v":20},{"$f":"IF($I19=\"\",\"\",SUM(I$1:$I18)+1)","v":341},360,{"$f":"IF($I19=\"\",\"\",MAX($G$1:$G18)+1)","v":18},null,{"$f":"(IF(P19=\"\",\"\",MAX($N$3:$N18)+1))","v":16},75,"احمد16","ذكر",null,null,{"$f":"IF(N19=\"\",\"\",IF(ISERROR(MATCH($N19,$J:$J,0)),T18,MAX($T$3:$T18)+1))","v":1},""]
[null,{"$f":"IF($I20=\"\",\"\",MAX($G$1:$G19)+1)","v":19},420,439,{"$f":"IF($I20=\"\",\"\",MAX($G$1:$G19)+1)","v":19},"اللجنة",{"$f":"IF($I20=\"\",\"\",MAX($G$1:$G19)+1)","v":19},null,{"$f":"IF(SUM($I$1:$I19,IF(H20=\"\",20,H20))<$F$1,IF($H20=\"\",20,$H20),IF(SUM($I$2:$I19)=$F$1,\"\",$F$1-SUM($I$2:$I19)))","v":20},{"$f":"IF($I20=\"\",\"\",SUM(I$1:$I19)+1)","v":361},380,{"$f":"IF($I20=\"\",\"\",MAX($G$1:$G19)+1)","v":19},null,{"$f":"(IF(P20=\"\",\"\",MAX($N$3:$N19)+1))","v":17},76,"احمد17","ذكر","م للسنة الأولي",null,{"$f":"IF(N20=\"\",\"\",IF(ISERROR(MATCH($N20,$J:$J,0)),T19,MAX($T$3:$T19)+1))","v":1},""]
[null,{"$f":"IF($I21=\"\",\"\",MAX($G$1:$G20)+1)","v":20},440,459,{"$f":"IF($I21=\"\",\"\",MAX($G$1:$G20)+1)","v":20},"اللجنة",{"$f":"IF($I21=\"\",\"\",MAX($G$1:$G20)+1)","v":20},null,{"$f":"IF(SUM($I$1:$I20,IF(H21=\"\",20,H21))<$F$1,IF($H21=\"\",20,$H21),IF(SUM($I$2:$I20)=$F$1,\"\",$F$1-SUM($I$2:$I20)))","v":20},{"$f":"IF($I21=\"\",\"\",SUM(I$1:$I20)+1)","v":381},400,{"$f":"IF($I21=\"\",\"\",MAX($G$1:$G20)+1)","v":20},null,{"$f":"(IF(P21=\"\",\"\",MAX($N$3:$N20)+1))","v":18},77,"احمد18","ذكر",null,null,{"$f":"IF(N21=\"\",\"\",IF(ISERROR(MATCH($N21,$J:$J,0)),T20,MAX($T$3:$T20)+1))","v":1},""]
[null,{"$f":"IF($I22=\"\",\"\",MAX($G$1:$G21)+1)","v":21},460,479,{"$f":"IF($I22=\"\",\"\",MAX($G$1:$G21)+1)","v":21},"اللجنة",{"$f":"IF($I22=\"\",\"\",MAX($G$1:$G21)+1)","v":21},null,{"$f":"IF(SUM($I$1:$I21,IF(H22=\"\",20,H22))<$F$1,IF($H22=\"\",20,$H22),IF(SUM($I$2:$I21)=$F$1,\"\",$F$1-SUM($I$2:$I21)))","v":20},{"$f":"IF($I22=\"\",\"\",SUM(I$1:$I21)+1)","v":401},420,{"$f":"IF($I22=\"\",\"\",MAX($G$1:$G21)+1)","v":21},null,{"$f":"(IF(P22=\"\",\"\",MAX($N$3:$N21)+1))","v":19},78,"احمد19","ذكر",null,null,{"$f":"IF(N22=\"\",\"\",IF(ISERROR(MATCH($N22,$J:$J,0)),T21,MAX($T$3:$T21)+1))","v":1},""]
[null,{"$f":"IF($I23=\"\",\"\",MAX($G$1:$G22)+1)","v":22},480,499,{"$f":"IF($I23=\"\",\"\",MAX($G$1:$G22)+1)","v":22},"اللجنة",{"$f":"IF($I23=\"\",\"\",MAX($G$1:$G22)+1)","v":22},null,{"$f":"IF(SUM($I$1:$I22,IF(H23=\"\",20,H23))<$F$1,IF($H23=\"\",20,$H23),IF(SUM($I$2:$I22)=$F$1,\"\",$F$1-SUM($I$2:$I22)))","v":20},{"$f":"IF($I23=\"\",\"\",SUM(I$1:$I22)+1)","v":421},440,{"$f":"IF($I23=\"\",\"\",MAX($G$1:$G22)+1)","v":22},null,{"$f":"(IF(P23=\"\",\"\",MAX($N$3:$N22)+1))","v":20},79,"احمد20","ذكر",null,null,{"$f":"IF(N23=\"\",\"\",IF(ISERROR(MATCH($N23,$J:$J,0)),T22,MAX($T$3:$T22)+1))","v":1},"نهاية اللجنة"]
[null,{"$f":"IF($I24=\"\",\"\",MAX($G$1:$G23)+1)","v":23},500,519,{"$f":"IF($I24=\"\",\"\",MAX($G$1:$G23)+1)","v":23},"اللجنة",{"$f":"IF($I24=\"\",\"\",MAX($G$1:$G23)+1)","v":23},null,{"$f":"IF(SUM($I$1:$I23,IF(H24=\"\",20,H24))<$F$1,IF($H24=\"\",20,$H24),IF(SUM($I$2:$I23)=$F$1,\"\",$F$1-SUM($I$2:$I23)))","v":20},{"$f":"IF($I24=\"\",\"\",SUM(I$1:$I23)+1)","v":441},460,{"$f":"IF($I24=\"\",\"\",MAX($G$1:$G23)+1)","v":23},null,{"$f":"(IF(P24=\"\",\"\",MAX($N$3:$N23)+1))","v":21},80,"احمد21","ذكر",null,null,{"$f":"IF(N24=\"\",\"\",IF(ISERROR(MATCH($N24,$J:$J,0)),T23,MAX($T$3:$T23)+1))","v":2},""]
[null,{"$f":"IF($I25=\"\",\"\",MAX($G$1:$G24)+1)","v":24},{"$f":"IF(I23=\"\",\"\",IF(B25=\"\",\"\",D24+1))","v":520},{"$f":"IF(I24=\"\",\"\",IF(B25=\"\",\"\",C25+I24-1))","v":539},{"$f":"IF($I25=\"\",\"\",MAX($G$1:$G24)+1)","v":24},"اللجنة",{"$f":"IF($I25=\"\",\"\",MAX($G$1:$G24)+1)","v":24},null,{"$f":"IF(SUM($I$1:$I24,IF(H25=\"\",20,H25))<$F$1,IF($H25=\"\",20,$H25),IF(SUM($I$2:$I24)=$F$1,\"\",$F$1-SUM($I$2:$I24)))","v":20},{"$f":"IF($I25=\"\",\"\",SUM(I$1:$I24)+1)","v":461},480,{"$f":"IF($I25=\"\",\"\",MAX($G$1:$G24)+1)","v":24},null,{"$f":"(IF(P25=\"\",\"\",MAX($N$3:$N24)+1))","v":22},81,"احمد22","ذكر",null,null,{"$f":"IF(N25=\"\",\"\",IF(ISERROR(MATCH($N25,$J:$J,0)),T24,MAX($T$3:$T24)+1))","v":2},""]
[null,{"$f":"IF($I26=\"\",\"\",MAX($G$1:$G25)+1)","v":25},{"$f":"IF(I24=\"\",\"\",IF(B26=\"\",\"\",D25+1))","v":540},{"$f":"IF(I25=\"\",\"\",IF(B26=\"\",\"\",C26+I25-1))","v":559},{"$f":"IF($I26=\"\",\"\",MAX($G$1:$G25)+1)","v":25},"اللجنة",{"$f":"IF($I26=\"\",\"\",MAX($G$1:$G25)+1)","v":25},null,{"$f":"IF(SUM($I$1:$I25,IF(H26=\"\",20,H26))<$F$1,IF($H26=\"\",20,$H26),IF(SUM($I$2:$I25)=$F$1,\"\",$F$1-SUM($I$2:$I25)))","v":10},{"$f":"IF($I26=\"\",\"\",SUM(I$1:$I25)+1)","v":481},490,{"$f":"IF($I26=\"\",\"\",MAX($G$1:$G25)+1)","v":25},null,{"$f":"(IF(P26=\"\",\"\",MAX($N$3:$N25)+1))","v":23},82,"احمد23","ذكر",null,null,{"$f":"IF(N26=\"\",\"\",IF(ISERROR(MATCH($N26,$J:$J,0)),T25,MAX($T$3:$T25)+1))","v":2},""]
[null,{"$f":"IF($I27=\"\",\"\",MAX($G$1:$G26)+1)","v":""},"","",{"$f":"IF($I27=\"\",\"\",MAX($G$1:$G26)+1)","v":""},"",{"$f":"IF($I27=\"\",\"\",MAX($G$1:$G26)+1)","v":""},null,{"$f":"IF(SUM($I$1:$I26,IF(H27=\"\",20,H27))<$F$1,IF($H27=\"\",20,$H27),IF(SUM($I$2:$I26)=$F$1,\"\",$F$1-SUM($I$2:$I26)))","v":""},{"$f":"IF($I27=\"\",\"\",SUM(I$1:$I26)+1)","v":""},"",{"$f":"IF($I27=\"\",\"\",MAX($G$1:$G26)+1)","v":""},null,{"$f":"(IF(P27=\"\",\"\",MAX($N$3:$N26)+1))","v":24},83,"احمد24","ذكر",null,null,{"$f":"IF(N27=\"\",\"\",IF(ISERROR(MATCH($N27,$J:$J,0)),T26,MAX($T$3:$T26)+1))","v":2},""]
[null,{"$f":"IF($I28=\"\",\"\",MAX($G$1:$G27)+1)","v":""},"","",{"$f":"IF($I28=\"\",\"\",MAX($G$1:$G27)+1)","v":""},"",{"$f":"IF($I28=\"\",\"\",MAX($G$1:$G27)+1)","v":""},null,{"$f":"IF(SUM($I$1:$I27,IF(H28=\"\",20,H28))<$F$1,IF($H28=\"\",20,$H28),IF(SUM($I$2:$I27)=$F$1,\"\",$F$1-SUM($I$2:$I27)))","v":""},{"$f":"IF($I28=\"\",\"\",SUM(I$1:$I27)+1)","v":""},"",{"$f":"IF($I28=\"\",\"\",MAX($G$1:$G27)+1)","v":""},null,{"$f":"(IF(P28=\"\",\"\",MAX($N$3:$N27)+1))","v":25},84,"احمد25","ذكر",null,null,{"$f":"IF(N28=\"\",\"\",IF(ISERROR(MATCH($N28,$J:$J,0)),T27,MAX($T$3:$T27)+1))","v":2},""]
[null,{"$f":"IF($I29=\"\",\"\",MAX($G$1:$G28)+1)","v":""},"","",{"$f":"IF($I29=\"\",\"\",MAX($G$1:$G28)+1)","v":""},"",{"$f":"IF($I29=\"\",\"\",MAX($G$1:$G28)+1)","v":""},null,{"$f":"IF(SUM($I$1:$I28,IF(H29=\"\",20,H29))<$F$1,IF($H29=\"\",20,$H29),IF(SUM($I$2:$I28)=$F$1,\"\",$F$1-SUM($I$2:$I28)))","v":""},{"$f":"IF($I29=\"\",\"\",SUM(I$1:$I28)+1)","v":""},"",{"$f":"IF($I29=\"\",\"\",MAX($G$1:$G28)+1)","v":""},null,{"$f":"(IF(P29=\"\",\"\",MAX($N$3:$N28)+1))","v":26},85,"احمد26","ذكر",null,null,{"$f":"IF(N29=\"\",\"\",IF(ISERROR(MATCH($N29,$J:$J,0)),T28,MAX($T$3:$T28)+1))","v":2},""]
[null,{"$f":"MAX(K:K)","v":490},null,null,null,null,null,null,null,null,null,null,null,{"$f":"(IF(P30=\"\",\"\",MAX($N$3:$N29)+1))","v":27},86,"احمد27","انثى",null,null,{"$f":"IF(N30=\"\",\"\",IF(ISERROR(MATCH($N30,$J:$J,0)),T29,MAX($T$3:$T29)+1))","v":2},""]
[null,{"$f":"IF(B30=O1,\"التلاميذ مقسمون التقسيم الصحيح\",\"راجع من فضلك تقسيم اللجان\")","v":"التلاميذ مقسمون التقسيم الصحيح"},null,null,null,null,null,null,null,null,null,null,null,{"$f":"(IF(P31=\"\",\"\",MAX($N$3:$N30)+1))","v":28},87,"احمد28","انثى",null,null,{"$f":"IF(N31=\"\",\"\",IF(ISERROR(MATCH($N31,$J:$J,0)),T30,MAX($T$3:$T30)+1))","v":2},""]
[null,null,null,null,null,null,null,null,null,null,null,null,null,{"$f":"(IF(P32=\"\",\"\",MAX($N$3:$N31)+1))","v":29},88,"احمد29","انثى",null,null,{"$f":"IF(N32=\"\",\"\",IF(ISERROR(MATCH($N32,$J:$J,0)),T31,MAX($T$3:$T31)+1))","v":2},""]
[null,null,null,null,null,null,null,null,"معيد",null,null,null,null,{"$f":"(IF(P33=\"\",\"\",MAX($N$3:$N32)+1))","v":30},89,"احمد30","انثى",null,null,{"$f":"IF(N33=\"\",\"\",IF(ISERROR(MATCH($N33,$J:$J,0)),T32,MAX($T$3:$T32)+1))","v":2},""]
[null,null,null,null,null,null,null,null,"م للسنة الأولي",null,null,null,null,{"$f":"(IF(P34=\"\",\"\",MAX($N$3:$N33)+1))","v":31},90,"احمد31","انثى",null,null,{"$f":"IF(N34=\"\",\"\",IF(ISERROR(MATCH($N34,$J:$J,0)),T33,MAX($T$3:$T33)+1))","v":2},""]
[null,null,null,null,null,null,null,null,"م للسنة الثانية",null,null,null,null,{"$f":"(IF(P35=\"\",\"\",MAX($N$3:$N34)+1))","v":32},91,"احمد32","انثى",null,null,{"$f":"IF(N35=\"\",\"\",IF(ISERROR(MATCH($N35,$J:$J,0)),T34,MAX($T$3:$T34)+1))","v":2},""]
[null,null,null,null,null,null,null,null,null,null,null,null,null,{"$f":"(IF(P36=\"\",\"\",MAX($N$3:$N35)+1))","v":33},92,"احمد33","انثى",null,null,{"$f":"IF(N36=\"\",\"\",IF(ISERROR(MATCH($N36,$J:$J,0)),T35,MAX($T$3:$T35)+1))","v":2},""]
[null,null,null,null,null,null,null,null,"مسلم",null,null,null,null,{"$f":"(IF(P37=\"\",\"\",MAX($N$3:$N36)+1))","v":34},93,"احمد34","انثى",null,null,{"$f":"IF(N37=\"\",\"\",IF(ISERROR(MATCH($N37,$J:$J,0)),T36,MAX($T$3:$T36)+1))","v":2},""]
[null,null,null,null,null,null,null,null,"مسيحي",null,null,null,null,{"$f":"(IF(P38=\"\",\"\",MAX($N$3:$N37)+1))","v":35},94,"احمد35","انثى",null,null,{"$f":"IF(N38=\"\",\"\",IF(ISERROR(MATCH($N38,$J:$J,0)),T37,MAX($T$3:$T37)+1))","v":2},""]
[null,null,null,null,null,null,null,null,"أخري",null,null,null,null,{"$f":"(IF(P39=\"\",\"\",MAX($N$3:$N38)+1))","v":36},95,"احمد36","انثى",null,null,{"$f":"IF(N39=\"\",\"\",IF(ISERROR(MATCH($N39,$J:$J,0)),T38,MAX($T$3:$T38)+1))","v":2},""]
[null,null,null,null,null,null,null,null,null,null,null,null,null,{"$f":"(IF(P40=\"\",\"\",MAX($N$3:$N39)+1))","v":37},96,"احمد37","انثى",null,null,{"$f":"IF(N40=\"\",\"\",IF(ISERROR(MATCH($N40,$J:$J,0)),T39,MAX($T$3:$T39)+1))","v":2},""]
[null,null,null,null,null,null,null,null,null,null,null,null,null,{"$f":"(IF(P41=\"\",\"\",MAX($N$3:$N40)+1))","v":38},97,"احمد38","انثى",null,null,{"$f":"IF(N41=\"\",\"\",IF(ISERROR(MATCH($N41,$J:$J,0)),T40,MAX($T$3:$T40)+1))","v":2},""]
[null,null,null,null,null,null,null,null,null,null,null,null,null,{"$f":"(IF(P42=\"\",\"\",MAX($N$3:$N41)+1))","v":39},98,"احمد39","انثى",null,null,{"$f":"IF(N42=\"\",\"\",IF(ISERROR(MATCH($N42,$J:$J,0)),T41,MAX($T$3:$T41)+1))","v":2},""]
[null,null,null,null,null,null,null,null,null,null,null,null,null,{"$f":"(IF(P43=\"\",\"\",MAX($N$3:$N42)+1))","v":40},99,"احمد40","انثى",null,null,{"$f":"IF(N43=\"\",\"\",IF(ISERROR(MATCH($N43,$J:$J,0)),T42,MAX($T$3:$T42)+1))","v":2},"نهاية اللجنة"]
[null,null,null,null,null,null,null,null,null,null,null,null,null,{"$f":"(IF(P44=\"\",\"\",MAX($N$3:$N43)+1))","v":41},100,"احمد41","انثى",null,null,{"$f":"IF(N44=\"\",\"\",IF(ISERROR(MATCH($N44,$J:$J,0)),T43,MAX($T$3:$T43)+1))","v":3},""]
[null,null,null,null,null,null,null,null,null,null,null,null,null,{"$f":"(IF(P45=\"\",\"\",MAX($N$3:$N44)+1))","v":42},101,"احمد42","انثى",null,null,{"$f":"IF(N45=\"\",\"\",IF(ISERROR(MATCH($N45,$J:$J,0)),T44,MAX($T$3:$T44)+1))","v":3},""]
[null,null,null,null,null,null,null,null,null,null,null,null,null,{"$f":"(IF(P46=\"\",\"\",MAX($N$3:$N45)+1))","v":43},102,"احمد43","انثى",null,null,{"$f":"IF(N46=\"\",\"\",IF(ISERROR(MATCH($N46,$J:$J,0)),T45,MAX($T$3:$T45)+1))","v":3},""]
[null,null,null,null,null,null,null,null,null,null,null,null,null,{"$f":"(IF(P47=\"\",\"\",MAX($N$3:$N46)+1))","v":44},103,"احمد44","انثى",null,null,{"$f":"IF(N47=\"\",\"\",IF(ISERROR(MATCH($N47,$J:$J,0)),T46,MAX($T$3:$T46)+1))","v":3},""]
[null,null,null,null,null,null,null,null,null,null,null,null,null,{"$f":"(IF(P48=\"\",\"\",MAX($N$3:$N47)+1))","v":45},104,"احمد45","انثى",null,null,{"$f":"IF(N48=\"\",\"\",IF(ISERROR(MATCH($N48,$J:$J,0)),T47,MAX($T$3:$T47)+1))","v":3},""]
[null,null,null,null,null,null,null,null,null,null,null,null,null,{"$f":"(IF(P49=\"\",\"\",MAX($N$3:$N48)+1))","v":46},105,"احمد46","انثى",null,null,{"$f":"IF(N49=\"\",\"\",IF(ISERROR(MATCH($N49,$J:$J,0)),T48,MAX($T$3:$T48)+1))","v":3},""]
[null,null,null,null,null,null,null,null,null,null,null,null,null,{"$f":"(IF(P50=\"\",\"\",MAX($N$3:$N49)+1))","v":47},106,"احمد47","انثى",null,null,{"$f":"IF(N50=\"\",\"\",IF(ISERROR(MATCH($N50,$J:$J,0)),T49,MAX($T$3:$T49)+1))","v":3},""]
[null,null,null,null,null,null,null,null,null,null,null,null,null,{"$f":"(IF(P51=\"\",\"\",MAX($N$3:$N50)+1))","v":48},107,"احمد48","انثى",null,null,{"$f":"IF(N51=\"\",\"\",IF(ISERROR(MATCH($N51,$J:$J,0)),T50,MAX($T$3:$T50)+1))","v":3},""]
[null,null,null,null,null,null,null,null,null,null,null,null,null,{"$f":"(IF(P52=\"\",\"\",MAX($N$3:$N51)+1))","v":49},108,"احمد49","انثى",null,null,{"$f":"IF(N52=\"\",\"\",IF(ISERROR(MATCH($N52,$J:$J,0)),T51,MAX($T$3:$T51)+1))","v":3},""]
[null,null,null,null,null,null,null,null,null,null,null,null,null,{"$f":"(IF(P53=\"\",\"\",MAX($N$3:$N52)+1))","v":50},109,"احمد50","انثى",null,null,{"$f":"IF(N53=\"\",\"\",IF(ISERROR(MATCH($N53,$J:$J,0)),T52,MAX($T$3:$T52)+1))","v":3},""]
[null,null,null,null,null,null,null,null,null,null,null,null,null,{"$f":"(IF(P54=\"\",\"\",MAX($N$3:$N53)+1))","v":51},110,"احمد51","انثى",null,null,{"$f":"IF(N54=\"\",\"\",IF(ISERROR(MATCH($N54,$J:$J,0)),T53,MAX($T$3:$T53)+1))","v":3},""]
[null,null,null,null,null,null,null,null,null,null,null,null,null,{"$f":"(IF(P55=\"\",\"\",MAX($N$3:$N54)+1))","v":52},111,"احمد52","انثى",null,null,{"$f":"IF(N55=\"\",\"\",IF(ISERROR(MATCH($N55,$J:$J,0)),T54,MAX($T$3:$T54)+1))","v":3},""]
[null,null,null,null,null,null,null,null,null,null,null,null,null,{"$f":"(IF(P56=\"\",\"\",MAX($N$3:$N55)+1))","v":53},112,"احمد53","انثى",null,null,{"$f":"IF(N56=\"\",\"\",IF(ISERROR(MATCH($N56,$J:$J,0)),T55,MAX($T$3:$T55)+1))","v":3},""]
[null,null,null,null,null,null,null,null,null,null,null,null,null,{"$f":"(IF(P57=\"\",\"\",MAX($N$3:$N56)+1))","v":54},113,"احمد54","ذكر",null,null,{"$f":"IF(N57=\"\",\"\",IF(ISERROR(MATCH($N57,$J:$J,0)),T56,MAX($T$3:$T56)+1))","v":3},""]
[null,null,null,null,null,null,null,null,null,null,null,null,null,{"$f":"(IF(P58=\"\",\"\",MAX($N$3:$N57)+1))","v":55},114,"احمد55","ذكر",null,null,{"$f":"IF(N58=\"\",\"\",IF(ISERROR(MATCH($N58,$J:$J,0)),T57,MAX($T$3:$T57)+1))","v":3},""]
[null,null,null,null,null,null,null,null,null,null,null,null,null,{"$f":"(IF(P59=\"\",\"\",MAX($N$3:$N58)+1))","v":56},115,"احمد56","ذكر",null,null,{"$f":"IF(N59=\"\",\"\",IF(ISERROR(MATCH($N59,$J:$J,0)),T58,MAX($T$3:$T58)+1))","v":3},""]
[null,null,null,null,null,null,null,null,null,null,null,null,null,{"$f":"(IF(P60=\"\",\"\",MAX($N$3:$N59)+1))","v":57},116,"احمد57","ذكر",null,null,{"$f":"IF(N60=\"\",\"\",IF(ISERROR(MATCH($N60,$J:$J,0)),T59,MAX($T$3:$T59)+1))","v":3},""]
[null,null,null,null,null,null,null,null,null,null,null,null,null,{"$f":"(IF(P61=\"\",\"\",MAX($N$3:$N60)+1))","v":58},117,"احمد58","ذكر",null,null,{"$f":"IF(N61=\"\",\"\",IF(ISERROR(MATCH($N61,$J:$J,0)),T60,MAX($T$3:$T60)+1))","v":3},""]
[null,null,null,null,null,null,null,null,null,null,null,null,null,{"$f":"(IF(P62=\"\",\"\",MAX($N$3:$N61)+1))","v":59},118,"احمد59","ذكر",null,null,{"$f":"IF(N62=\"\",\"\",IF(ISERROR(MATCH($N62,$J:$J,0)),T61,MAX($T$3:$T61)+1))","v":3},""]
[null,null,null,null,null,null,null,null,null,null,null,null,null,{"$f":"(IF(P63=\"\",\"\",MAX($N$3:$N62)+1))","v":60},119,"احمد60","ذكر",null,null,{"$f":"IF(N63=\"\",\"\",IF(ISERROR(MATCH($N63,$J:$J,0)),T62,MAX($T$3:$T62)+1))","v":3},"نهاية اللجنة"]
[null,null,null,null,null,null,null,null,null,null,null,null,null,{"$f":"(IF(P64=\"\",\"\",MAX($N$3:$N63)+1))","v":61},120,"احمد61","ذكر",null,null,{"$f":"IF(N64=\"\",\"\",IF(ISERROR(MATCH($N64,$J:$J,0)),T63,MAX($T$3:$T63)+1))","v":4},""]
[null,null,null,null,null,null,null,null,null,null,null,null,null,{"$f":"(IF(P65=\"\",\"\",MAX($N$3:$N64)+1))","v":62},121,"احمد62","ذكر",null,null,{"$f":"IF(N65=\"\",\"\",IF(ISERROR(MATCH($N65,$J:$J,0)),T64,MAX($T$3:$T64)+1))","v":4},""]
[null,null,null,null,null,null,null,null,null,null,null,null,null,{"$f":"(IF(P66=\"\",\"\",MAX($N$3:$N65)+1))","v":63},122,"احمد63","ذكر",null,null,{"$f":"IF(N66=\"\",\"\",IF(ISERROR(MATCH($N66,$J:$J,0)),T65,MAX($T$3:$T65)+1))","v":4},""]
[null,null,null,null,null,null,null,null,null,null,null,null,null,{"$f":"(IF(P67=\"\",\"\",MAX($N$3:$N66)+1))","v":64},123,"احمد64","ذكر",null,null,{"$f":"IF(N67=\"\",\"\",IF(ISERROR(MATCH($N67,$J:$J,0)),T66,MAX($T$3:$T66)+1))","v":4},""]
[null,null,null,null,null,null,null,null,null,null,null,null,null,{"$f":"(IF(P68=\"\",\"\",MAX($N$3:$N67)+1))","v":65},124,"احمد65","ذكر",null,null,{"$f":"IF(N68=\"\",\"\",IF(ISERROR(MATCH($N68,$J:$J,0)),T67,MAX($T$3:$T67)+1))","v":4},""]
[null,null,null,null,null,null,null,null,null,null,null,null,null,{"$f":"(IF(P69=\"\",\"\",MAX($N$3:$N68)+1))","v":66},125,"احمد66","ذكر",null,null,{"$f":"IF(N69=\"\",\"\",IF(ISERROR(MATCH($N69,$J:$J,0)),T68,MAX($T$3:$T68)+1))","v":4},{"$f":"IF(T69=T70,\"\",\"نهاية اللجنة\")","v":""}]
[null,null,null,null,null,null,null,null,null,null,null,null,null,{"$f":"(IF(P70=\"\",\"\",MAX($N$3:$N69)+1))","v":67},{"$f":"IF(P70=\"\",\"\",IF(O69+1>$M$2,\"\",O69+1))","v":126},"احمد67","ذكر",null,null,{"$f":"IF(N70=\"\",\"\",IF(ISERROR(MATCH($N70,$J:$J,0)),T69,MAX($T$3:$T69)+1))","v":4},""]
[null,null,null,null,null,null,null,null,null,null,null,null,null,{"$f":"(IF(P71=\"\",\"\",MAX($N$3:$N70)+1))","v":68},127,"احمد68","ذكر",null,null,{"$f":"IF(N71=\"\",\"\",IF(ISERROR(MATCH($N71,$J:$J,0)),T70,MAX($T$3:$T70)+1))","v":4},""]
[null,null,null,null,null,null,null,null,null,null,null,null,null,{"$f":"(IF(P72=\"\",\"\",MAX($N$3:$N71)+1))","v":69},128,"احمد69","ذكر",null,null,{"$f":"IF(N72=\"\",\"\",IF(ISERROR(MATCH($N72,$J:$J,0)),T71,MAX($T$3:$T71)+1))","v":4},""]
[null,null,null,null,null,null,null,null,null,null,null,null,null,{"$f":"(IF(P73=\"\",\"\",MAX($N$3:$N72)+1))","v":70},129,"احمد70","ذكر",null,null,{"$f":"IF(N73=\"\",\"\",IF(ISERROR(MATCH($N73,$J:$J,0)),T72,MAX($T$3:$T72)+1))","v":4},""]
[null,null,null,null,null,null,null,null,null,null,null,null,null,{"$f":"(IF(P74=\"\",\"\",MAX($N$3:$N73)+1))","v":71},130,"احمد71","ذكر",null,null,{"$f":"IF(N74=\"\",\"\",IF(ISERROR(MATCH($N74,$J:$J,0)),T73,MAX($T$3:$T73)+1))","v":4},""]
[null,null,null,null,null,null,null,null,null,null,null,null,null,{"$f":"(IF(P75=\"\",\"\",MAX($N$3:$N74)+1))","v":72},131,"احمد72","ذكر",null,null,{"$f":"IF(N75=\"\",\"\",IF(ISERROR(MATCH($N75,$J:$J,0)),T74,MAX($T$3:$T74)+1))","v":4},""]
[null,null,null,null,null,null,null,null,null,null,null,null,null,{"$f":"(IF(P76=\"\",\"\",MAX($N$3:$N75)+1))","v":73},132,"احمد73","ذكر",null,null,{"$f":"IF(N76=\"\",\"\",IF(ISERROR(MATCH($N76,$J:$J,0)),T75,MAX($T$3:$T75)+1))","v":4},""]
[null,null,null,null,null,null,null,null,null,null,null,null,null,{"$f":"(IF(P77=\"\",\"\",MAX($N$3:$N76)+1))","v":74},133,"احمد74","ذكر",null,null,{"$f":"IF(N77=\"\",\"\",IF(ISERROR(MATCH($N77,$J:$J,0)),T76,MAX($T$3:$T76)+1))","v":4},""]
[null,null,null,null,null,null,null,null,null,null,null,null,null,{"$f":"(IF(P78=\"\",\"\",MAX($N$3:$N77)+1))","v":75},134,"احمد75","ذكر",null,null,{"$f":"IF(N78=\"\",\"\",IF(ISERROR(MATCH($N78,$J:$J,0)),T77,MAX($T$3:$T77)+1))","v":4},""]
[null,null,null,null,null,null,null,null,null,null,null,null,null,{"$f":"(IF(P79=\"\",\"\",MAX($N$3:$N78)+1))","v":76},135,"احمد76","ذكر",null,null,{"$f":"IF(N79=\"\",\"\",IF(ISERROR(MATCH($N79,$J:$J,0)),T78,MAX($T$3:$T78)+1))","v":4},""]
[null,null,null,null,null,null,null,null,null,null,null,null,null,{"$f":"(IF(P80=\"\",\"\",MAX($N$3:$N79)+1))","v":77},136,"احمد77","ذكر",null,null,{"$f":"IF(N80=\"\",\"\",IF(ISERROR(MATCH($N80,$J:$J,0)),T79,MAX($T$3:$T79)+1))","v":4},""]
[null,null,null,null,null,null,null,null,null,null,null,null,null,{"$f":"(IF(P81=\"\",\"\",MAX($N$3:$N80)+1))","v":78},137,"احمد78","ذكر",null,null,{"$f":"IF(N81=\"\",\"\",IF(ISERROR(MATCH($N81,$J:$J,0)),T80,MAX($T$3:$T80)+1))","v":4},""]
[null,null,null,null,null,null,null,null,null,null,null,null,null,{"$f":"(IF(P82=\"\",\"\",MAX($N$3:$N81)+1))","v":79},138,"احمد79","ذكر",null,null,{"$f":"IF(N82=\"\",\"\",IF(ISERROR(MATCH($N82,$J:$J,0)),T81,MAX($T$3:$T81)+1))","v":4},""]
[null,null,null,null,null,null,null,null,null,null,null,null,null,{"$f":"(IF(P83=\"\",\"\",MAX($N$3:$N82)+1))","v":80},139,"احمد80","انثى",null,null,{"$f":"IF(N83=\"\",\"\",IF(ISERROR(MATCH($N83,$J:$J,0)),T82,MAX($T$3:$T82)+1))","v":4},"نهاية اللجنة"]
[null,null,null,null,null,null,null,null,null,null,null,null,null,{"$f":"(IF(P84=\"\",\"\",MAX($N$3:$N83)+1))","v":81},140,"احمد81","انثى",null,null,{"$f":"IF(N84=\"\",\"\",IF(ISERROR(MATCH($N84,$J:$J,0)),T83,MAX($T$3:$T83)+1))","v":5},""]
[null,null,null,null,null,null,null,null,null,null,null,null,null,{"$f":"(IF(P85=\"\",\"\",MAX($N$3:$N84)+1))","v":82},141,"احمد82","انثى",null,null,{"$f":"IF(N85=\"\",\"\",IF(ISERROR(MATCH($N85,$J:$J,0)),T84,MAX($T$3:$T84)+1))","v":5},""]
[null,null,null,null,null,null,null,null,null,null,null,null,null,{"$f":"(IF(P86=\"\",\"\",MAX($N$3:$N85)+1))","v":83},142,"احمد83","انثى",null,null,{"$f":"IF(N86=\"\",\"\",IF(ISERROR(MATCH($N86,$J:$J,0)),T85,MAX($T$3:$T85)+1))","v":5},""]
[null,null,null,null,null,null,null,null,null,null,null,null,null,{"$f":"(IF(P87=\"\",\"\",MAX($N$3:$N86)+1))","v":84},143,"احمد84","انثى",null,null,{"$f":"IF(N87=\"\",\"\",IF(ISERROR(MATCH($N87,$J:$J,0)),T86,MAX($T$3:$T86)+1))","v":5},""]
[null,null,null,null,null,null,null,null,null,null,null,null,null,{"$f":"(IF(P88=\"\",\"\",MAX($N$3:$N87)+1))","v":85},144,"احمد85","انثى",null,null,{"$f":"IF(N88=\"\",\"\",IF(ISERROR(MATCH($N88,$J:$J,0)),T87,MAX($T$3:$T87)+1))","v":5},""]
[null,null,null,null,null,null,null,null,null,null,null,null,null,{"$f":"(IF(P89=\"\",\"\",MAX($N$3:$N88)+1))","v":86},145,"احمد86","انثى",null,null,{"$f":"IF(N89=\"\",\"\",IF(ISERROR(MATCH($N89,$J:$J,0)),T88,MAX($T$3:$T88)+1))","v":5},""]
[null,null,null,null,null,null,null,null,null,null,null,null,null,{"$f":"(IF(P90=\"\",\"\",MAX($N$3:$N89)+1))","v":87},146,"احمد87","انثى",null,null,{"$f":"IF(N90=\"\",\"\",IF(ISERROR(MATCH($N90,$J:$J,0)),T89,MAX($T$3:$T89)+1))","v":5},""]
[null,null,null,null,null,null,null,null,null,null,null,null,null,{"$f":"(IF(P91=\"\",\"\",MAX($N$3:$N90)+1))","v":88},147,"احمد88","انثى",null,null,{"$f":"IF(N91=\"\",\"\",IF(ISERROR(MATCH($N91,$J:$J,0)),T90,MAX($T$3:$T90)+1))","v":5},""]
[null,null,null,null,null,null,null,null,null,null,null,null,null,{"$f":"(IF(P92=\"\",\"\",MAX($N$3:$N91)+1))","v":89},148,"احمد89","انثى",null,null,{"$f":"IF(N92=\"\",\"\",IF(ISERROR(MATCH($N92,$J:$J,0)),T91,MAX($T$3:$T91)+1))","v":5},""]
[null,null,null,null,null,null,null,null,null,null,null,null,null,{"$f":"(IF(P93=\"\",\"\",MAX($N$3:$N92)+1))","v":90},149,"احمد90","انثى",null,null,{"$f":"IF(N93=\"\",\"\",IF(ISERROR(MATCH($N93,$J:$J,0)),T92,MAX($T$3:$T92)+1))","v":5},""]
[null,null,null,null,null,null,null,null,null,null,null,null,null,{"$f":"(IF(P94=\"\",\"\",MAX($N$3:$N93)+1))","v":91},150,"احمد91","انثى",null,null,{"$f":"IF(N94=\"\",\"\",IF(ISERROR(MATCH($N94,$J:$J,0)),T93,MAX($T$3:$T93)+1))","v":5},""]
[null,null,null,null,null,null,null,null,null,null,null,null,null,{"$f":"(IF(P95=\"\",\"\",MAX($N$3:$N94)+1))","v":92},151,"احمد92","انثى",null,null,{"$f":"IF(N95=\"\",\"\",IF(ISERROR(MATCH($N95,$J:$J,0)),T94,MAX($T$3:$T94)+1))","v":5},""]
[null,null,null,null,null,null,null,null,null,null,null,null,null,{"$f":"(IF(P96=\"\",\"\",MAX($N$3:$N95)+1))","v":93},152,"احمد93","انثى",null,null,{"$f":"IF(N96=\"\",\"\",IF(ISERROR(MATCH($N96,$J:$J,0)),T95,MAX($T$3:$T95)+1))","v":5},""]
[null,null,null,null,null,null,null,null,null,null,null,null,null,{"$f":"(IF(P97=\"\",\"\",MAX($N$3:$N96)+1))","v":94},153,"احمد94","انثى",null,null,{"$f":"IF(N97=\"\",\"\",IF(ISERROR(MATCH($N97,$J:$J,0)),T96,MAX($T$3:$T96)+1))","v":5},""]
[null,null,null,null,null,null,null,null,null,null,null,null,null,{"$f":"(IF(P98=\"\",\"\",MAX($N$3:$N97)+1))","v":95},154,"احمد95","انثى",null,null,{"$f":"IF(N98=\"\",\"\",IF(ISERROR(MATCH($N98,$J:$J,0)),T97,MAX($T$3:$T97)+1))","v":5},""]
[null,null,null,null,null,null,null,null,null,null,null,null,null,{"$f":"(IF(P99=\"\",\"\",MAX($N$3:$N98)+1))","v":96},155,"احمد96","انثى",null,null,{"$f":"IF(N99=\"\",\"\",IF(ISERROR(MATCH($N99,$J:$J,0)),T98,MAX($T$3:$T98)+1))","v":5},""]
[null,null,null,null,null,null,null,null,null,null,null,null,null,{"$f":"(IF(P100=\"\",\"\",MAX($N$3:$N99)+1))","v":97},156,"احمد97","انثى",null,null,{"$f":"IF(N100=\"\",\"\",IF(ISERROR(MATCH($N100,$J:$J,0)),T99,MAX($T$3:$T99)+1))","v":5},""]
[null,null,null,null,null,null,null,null,null,null,null,null,null,{"$f":"(IF(P101=\"\",\"\",MAX($N$3:$N100)+1))","v":98},157,"احمد98","انثى",null,null,{"$f":"IF(N101=\"\",\"\",IF(ISERROR(MATCH($N101,$J:$J,0)),T100,MAX($T$3:$T100)+1))","v":5},""]
[null,null,null,null,null,null,null,null,null,null,null,null,null,{"$f":"(IF(P102=\"\",\"\",MAX($N$3:$N101)+1))","v":99},158,"احمد99","انثى",null,null,{"$f":"IF(N102=\"\",\"\",IF(ISERROR(MATCH($N102,$J:$J,0)),T101,MAX($T$3:$T101)+1))","v":5},""]
[null,null,null,null,null,null,null,null,null,null,null,null,null,{"$f":"(IF(P103=\"\",\"\",MAX($N$3:$N102)+1))","v":100},159,"احمد100","انثى",null,null,{"$f":"IF(N103=\"\",\"\",IF(ISERROR(MATCH($N103,$J:$J,0)),T102,MAX($T$3:$T102)+1))","v":5},"نهاية اللجنة"]
[null,null,null,null,null,null,null,null,null,null,null,null,null,{"$f":"(IF(P104=\"\",\"\",MAX($N$3:$N103)+1))","v":101},160,"احمد101","انثى",null,null,{"$f":"IF(N104=\"\",\"\",IF(ISERROR(MATCH($N104,$J:$J,0)),T103,MAX($T$3:$T103)+1))","v":6},""]
[null,null,null,null,null,null,null,null,null,null,null,null,null,{"$f":"(IF(P105=\"\",\"\",MAX($N$3:$N104)+1))","v":102},161,"احمد102","انثى",null,null,{"$f":"IF(N105=\"\",\"\",IF(ISERROR(MATCH($N105,$J:$J,0)),T104,MAX($T$3:$T104)+1))","v":6},""]
[null,null,null,null,null,null,null,null,null,null,null,null,null,{"$f":"(IF(P106=\"\",\"\",MAX($N$3:$N105)+1))","v":103},162,"احمد103","انثى",null,null,{"$f":"IF(N106=\"\",\"\",IF(ISERROR(MATCH($N106,$J:$J,0)),T105,MAX($T$3:$T105)+1))","v":6},""]
[null,null,null,null,null,null,null,null,null,null,null,null,null,{"$f":"(IF(P107=\"\",\"\",MAX($N$3:$N106)+1))","v":104},163,"احمد104","انثى",null,null,{"$f":"IF(N107=\"\",\"\",IF(ISERROR(MATCH($N107,$J:$J,0)),T106,MAX($T$3:$T106)+1))","v":6},""]
[null,null,null,null,null,null,null,null,null,null,null,null,null,{"$f":"(IF(P108=\"\",\"\",MAX($N$3:$N107)+1))","v":105},164,"احمد105","انثى",null,null,{"$f":"IF(N108=\"\",\"\",IF(ISERROR(MATCH($N108,$J:$J,0)),T107,MAX($T$3:$T107)+1))","v":6},""]
[null,null,null,null,null,null,null,null,null,null,null,null,null,{"$f":"(IF(P109=\"\",\"\",MAX($N$3:$N108)+1))","v":106},165,"احمد106","انثى",null,null,{"$f":"IF(N109=\"\",\"\",IF(ISERROR(MATCH($N109,$J:$J,0)),T108,MAX($T$3:$T108)+1))","v":6},""]
[null,null,null,null,null,null,null,null,null,null,null,null,null,{"$f":"(IF(P110=\"\",\"\",MAX($N$3:$N109)+1))","v":107},166,"احمد107","ذكر",null,null,{"$f":"IF(N110=\"\",\"\",IF(ISERROR(MATCH($N110,$J:$J,0)),T109,MAX($T$3:$T109)+1))","v":6},""]
[null,null,null,null,null,null,null,null,null,null,null,null,null,{"$f":"(IF(P111=\"\",\"\",MAX($N$3:$N110)+1))","v":108},167,"احمد108","ذكر",null,null,{"$f":"IF(N111=\"\",\"\",IF(ISERROR(MATCH($N111,$J:$J,0)),T110,MAX($T$3:$T110)+1))","v":6},""]
[null,null,null,null,null,null,null,null,null,null,null,null,null,{"$f":"(IF(P112=\"\",\"\",MAX($N$3:$N111)+1))","v":109},168,"احمد109","ذكر",null,null,{"$f":"IF(N112=\"\",\"\",IF(ISERROR(MATCH($N112,$J:$J,0)),T111,MAX($T$3:$T111)+1))","v":6},""]
[null,null,null,null,null,null,null,null,null,null,null,null,null,{"$f":"(IF(P113=\"\",\"\",MAX($N$3:$N112)+1))","v":110},169,"احمد110","ذكر",null,null,{"$f":"IF(N113=\"\",\"\",IF(ISERROR(MATCH($N113,$J:$J,0)),T112,MAX($T$3:$T112)+1))","v":6},""]
[null,null,null,null,null,null,null,null,null,null,null,null,null,{"$f":"(IF(P114=\"\",\"\",MAX($N$3:$N113)+1))","v":111},170,"احمد111","ذكر",null,null,{"$f":"IF(N114=\"\",\"\",IF(ISERROR(MATCH($N114,$J:$J,0)),T113,MAX($T$3:$T113)+1))","v":6},""]
[null,null,null,null,null,null,null,null,null,null,null,null,null,{"$f":"(IF(P115=\"\",\"\",MAX($N$3:$N114)+1))","v":112},171,"احمد112","ذكر",null,null,{"$f":"IF(N115=\"\",\"\",IF(ISERROR(MATCH($N115,$J:$J,0)),T114,MAX($T$3:$T114)+1))","v":6},""]
[null,null,null,null,null,null,null,null,null,null,null,null,null,{"$f":"(IF(P116=\"\",\"\",MAX($N$3:$N115)+1))","v":113},172,"احمد113","ذكر",null,null,{"$f":"IF(N116=\"\",\"\",IF(ISERROR(MATCH($N116,$J:$J,0)),T115,MAX($T$3:$T115)+1))","v":6},""]
[null,null,null,null,null,null,null,null,null,null,null,null,null,{"$f":"(IF(P117=\"\",\"\",MAX($N$3:$N116)+1))","v":114},173,"احمد114","ذكر",null,null,{"$f":"IF(N117=\"\",\"\",IF(ISERROR(MATCH($N117,$J:$J,0)),T116,MAX($T$3:$T116)+1))","v":6},""]
[null,null,null,null,null,null,null,null,null,null,null,null,null,{"$f":"(IF(P118=\"\",\"\",MAX($N$3:$N117)+1))","v":115},174,"احمد115","ذكر",null,null,{"$f":"IF(N118=\"\",\"\",IF(ISERROR(MATCH($N118,$J:$J,0)),T117,MAX($T$3:$T117)+1))","v":6},""]
[null,null,null,null,null,null,null,null,null,null,null,null,null,{"$f":"(IF(P119=\"\",\"\",MAX($N$3:$N118)+1))","v":116},175,"احمد116","ذكر",null,null,{"$f":"IF(N119=\"\",\"\",IF(ISERROR(MATCH($N119,$J:$J,0)),T118,MAX($T$3:$T118)+1))","v":6},""]
[null,null,null,null,null,null,null,null,null,null,null,null,null,{"$f":"(IF(P120=\"\",\"\",MAX($N$3:$N119)+1))","v":117},176,"احمد117","ذكر",null,null,{"$f":"IF(N120=\"\",\"\",IF(ISERROR(MATCH($N120,$J:$J,0)),T119,MAX($T$3:$T119)+1))","v":6},""]
[null,null,null,null,null,null,null,null,null,null,null,null,null,{"$f":"(IF(P121=\"\",\"\",MAX($N$3:$N120)+1))","v":118},177,"احمد118","ذكر",null,null,{"$f":"IF(N121=\"\",\"\",IF(ISERROR(MATCH($N121,$J:$J,0)),T120,MAX($T$3:$T120)+1))","v":6},""]
[null,null,null,null,null,null,null,null,null,null,null,null,null,{"$f":"(IF(P122=\"\",\"\",MAX($N$3:$N121)+1))","v":119},178,"احمد119","ذكر",null,null,{"$f":"IF(N122=\"\",\"\",IF(ISERROR(MATCH($N122,$J:$J,0)),T121,MAX($T$3:$T121)+1))","v":6},""]
[null,null,null,null,null,null,null,null,null,null,null,null,null,{"$f":"(IF(P123=\"\",\"\",MAX($N$3:$N122)+1))","v":120},179,"احمد120","ذكر",null,null,{"$f":"IF(N123=\"\",\"\",IF(ISERROR(MATCH($N123,$J:$J,0)),T122,MAX($T$3:$T122)+1))","v":6},"نهاية اللجنة"]
[null,null,null,null,null,null,null,null,null,null,null,null,null,{"$f":"(IF(P124=\"\",\"\",MAX($N$3:$N123)+1))","v":121},180,"احمد121","ذكر",null,null,{"$f":"IF(N124=\"\",\"\",IF(ISERROR(MATCH($N124,$J:$J,0)),T123,MAX($T$3:$T123)+1))","v":7},""]
[null,null,null,null,null,null,null,null,null,null,null,null,null,{"$f":"(IF(P125=\"\",\"\",MAX($N$3:$N124)+1))","v":122},181,"احمد122","ذكر",null,null,{"$f":"IF(N125=\"\",\"\",IF(ISERROR(MATCH($N125,$J:$J,0)),T124,MAX($T$3:$T124)+1))","v":7},""]
[null,null,null,null,null,null,null,null,null,null,null,null,null,{"$f":"(IF(P126=\"\",\"\",MAX($N$3:$N125)+1))","v":123},182,"احمد123","ذكر",null,null,{"$f":"IF(N126=\"\",\"\",IF(ISERROR(MATCH($N126,$J:$J,0)),T125,MAX($T$3:$T125)+1))","v":7},""]
[null,null,null,null,null,null,null,null,null,null,null,null,null,{"$f":"(IF(P127=\"\",\"\",MAX($N$3:$N126)+1))","v":124},183,"احمد124","ذكر",null,null,{"$f":"IF(N127=\"\",\"\",IF(ISERROR(MATCH($N127,$J:$J,0)),T126,MAX($T$3:$T126)+1))","v":7},""]
[null,null,null,null,null,null,null,null,null,null,null,null,null,{"$f":"(IF(P128=\"\",\"\",MAX($N$3:$N127)+1))","v":125},184,"احمد125","ذكر",null,null,{"$f":"IF(N128=\"\",\"\",IF(ISERROR(MATCH($N128,$J:$J,0)),T127,MAX($T$3:$T127)+1))","v":7},""]
[null,null,null,null,null,null,null,null,null,null,null,null,null,{"$f":"(IF(P129=\"\",\"\",MAX($N$3:$N128)+1))","v":126},185,"احمد126","ذكر",null,null,{"$f":"IF(N129=\"\",\"\",IF(ISERROR(MATCH($N129,$J:$J,0)),T128,MAX($T$3:$T128)+1))","v":7},""]
[null,null,null,null,null,null,null,null,null,null,null,null,null,{"$f":"(IF(P130=\"\",\"\",MAX($N$3:$N129)+1))","v":127},186,"احمد127","ذكر",null,null,{"$f":"IF(N130=\"\",\"\",IF(ISERROR(MATCH($N130,$J:$J,0)),T129,MAX($T$3:$T129)+1))","v":7},""]
[null,null,null,null,null,null,null,null,null,null,null,null,null,{"$f":"(IF(P131=\"\",\"\",MAX($N$3:$N130)+1))","v":128},187,"احمد128","ذكر",null,null,{"$f":"IF(N131=\"\",\"\",IF(ISERROR(MATCH($N131,$J:$J,0)),T130,MAX($T$3:$T130)+1))","v":7},""]
[null,null,null,null,null,null,null,null,null,null,null,null,null,{"$f":"(IF(P132=\"\",\"\",MAX($N$3:$N131)+1))","v":129},188,"احمد129","ذكر",null,null,{"$f":"IF(N132=\"\",\"\",IF(ISERROR(MATCH($N132,$J:$J,0)),T131,MAX($T$3:$T131)+1))","v":7},""]
[null,null,null,null,null,null,null,null,null,null,null,null,null,{"$f":"(IF(P133=\"\",\"\",MAX($N$3:$N132)+1))","v":130},189,"احمد130","ذكر",null,null,{"$f":"IF(N133=\"\",\"\",IF(ISERROR(MATCH($N133,$J:$J,0)),T132,MAX($T$3:$T132)+1))","v":7},{"$f":"IF(T133=T134,\"\",\"نهاية اللجنة\")","v":""}]
[null,null,null,null,null,null,null,null,null,null,null,null,null,{"$f":"(IF(P134=\"\",\"\",MAX($N$3:$N133)+1))","v":131},{"$f":"IF(P134=\"\",\"\",IF(O133+1>$M$2,\"\",O133+1))","v":190},"احمد131","ذكر",null,null,{"$f":"IF(N134=\"\",\"\",IF(ISERROR(MATCH($N134,$J:$J,0)),T133,MAX($T$3:$T133)+1))","v":7},""]
[null,null,null,null,null,null,null,null,null,null,null,null,null,{"$f":"(IF(P135=\"\",\"\",MAX($N$3:$N134)+1))","v":132},191,"احمد132","ذكر",null,null,{"$f":"IF(N135=\"\",\"\",IF(ISERROR(MATCH($N135,$J:$J,0)),T134,MAX($T$3:$T134)+1))","v":7},""]
[null,null,null,null,null,null,null,null,null,null,null,null,null,{"$f":"(IF(P136=\"\",\"\",MAX($N$3:$N135)+1))","v":133},192,"احمد133","انثى",null,null,{"$f":"IF(N136=\"\",\"\",IF(ISERROR(MATCH($N136,$J:$J,0)),T135,MAX($T$3:$T135)+1))","v":7},""]
[null,null,null,null,null,null,null,null,null,null,null,null,null,{"$f":"(IF(P137=\"\",\"\",MAX($N$3:$N136)+1))","v":134},193,"احمد134","انثى",null,null,{"$f":"IF(N137=\"\",\"\",IF(ISERROR(MATCH($N137,$J:$J,0)),T136,MAX($T$3:$T136)+1))","v":7},""]
[null,null,null,null,null,null,null,null,null,null,null,null,null,{"$f":"(IF(P138=\"\",\"\",MAX($N$3:$N137)+1))","v":135},194,"احمد135","انثى",null,null,{"$f":"IF(N138=\"\",\"\",IF(ISERROR(MATCH($N138,$J:$J,0)),T137,MAX($T$3:$T137)+1))","v":7},""]
[null,null,null,null,null,null,null,null,null,null,null,null,null,{"$f":"(IF(P139=\"\",\"\",MAX($N$3:$N138)+1))","v":136},195,"احمد136","انثى",null,null,{"$f":"IF(N139=\"\",\"\",IF(ISERROR(MATCH($N139,$J:$J,0)),T138,MAX($T$3:$T138)+1))","v":7},""]
[null,null,null,null,null,null,null,null,null,null,null,null,null,{"$f":"(IF(P140=\"\",\"\",MAX($N$3:$N139)+1))","v":137},196,"احمد137","انثى",null,null,{"$f":"IF(N140=\"\",\"\",IF(ISERROR(MATCH($N140,$J:$J,0)),T139,MAX($T$3:$T139)+1))","v":7},""]
[null,null,null,null,null,null,null,null,null,null,null,null,null,{"$f":"(IF(P141=\"\",\"\",MAX($N$3:$N140)+1))","v":138},197,"احمد138","انثى",null,null,{"$f":"IF(N141=\"\",\"\",IF(ISERROR(MATCH($N141,$J:$J,0)),T140,MAX($T$3:$T140)+1))","v":7},""]
[null,null,null,null,null,null,null,null,null,null,null,null,null,{"$f":"(IF(P142=\"\",\"\",MAX($N$3:$N141)+1))","v":139},198,"احمد139","انثى",null,null,{"$f":"IF(N142=\"\",\"\",IF(ISERROR(MATCH($N142,$J:$J,0)),T141,MAX($T$3:$T141)+1))","v":7},""]
[null,null,null,null,null,null,null,null,null,null,null,null,null,{"$f":"(IF(P143=\"\",\"\",MAX($N$3:$N142)+1))","v":140},199,"احمد140","انثى",null,null,{"$f":"IF(N143=\"\",\"\",IF(ISERROR(MATCH($N143,$J:$J,0)),T142,MAX($T$3:$T142)+1))","v":7},"نهاية اللجنة"]
[null,null,null,null,null,null,null,null,null,null,null,null,null,{"$f":"(IF(P144=\"\",\"\",MAX($N$3:$N143)+1))","v":141},200,"احمد141","انثى",null,null,{"$f":"IF(N144=\"\",\"\",IF(ISERROR(MATCH($N144,$J:$J,0)),T143,MAX($T$3:$T143)+1))","v":8},""]
[null,null,null,null,null,null,null,null,null,null,null,null,null,{"$f":"(IF(P145=\"\",\"\",MAX($N$3:$N144)+1))","v":142},201,"احمد142","انثى",null,null,{"$f":"IF(N145=\"\",\"\",IF(ISERROR(MATCH($N145,$J:$J,0)),T144,MAX($T$3:$T144)+1))","v":8},""]
[null,null,null,null,null,null,null,null,null,null,null,null,null,{"$f":"(IF(P146=\"\",\"\",MAX($N$3:$N145)+1))","v":143},202,"احمد143","انثى",null,null,{"$f":"IF(N146=\"\",\"\",IF(ISERROR(MATCH($N146,$J:$J,0)),T145,MAX($T$3:$T145)+1))","v":8},""]
[null,null,null,null,null,null,null,null,null,null,null,null,null,{"$f":"(IF(P147=\"\",\"\",MAX($N$3:$N146)+1))","v":144},203,"احمد144","انثى",null,null,{"$f":"IF(N147=\"\",\"\",IF(ISERROR(MATCH($N147,$J:$J,0)),T146,MAX($T$3:$T146)+1))","v":8},""]
[null,null,null,null,null,null,null,null,null,null,null,null,null,{"$f":"(IF(P148=\"\",\"\",MAX($N$3:$N147)+1))","v":145},204,"احمد145","انثى",null,null,{"$f":"IF(N148=\"\",\"\",IF(ISERROR(MATCH($N148,$J:$J,0)),T147,MAX($T$3:$T147)+1))","v":8},""]
[null,null,null,null,null,null,null,null,null,null,null,null,null,{"$f":"(IF(P149=\"\",\"\",MAX($N$3:$N148)+1))","v":146},205,"احمد146","انثى",null,null,{"$f":"IF(N149=\"\",\"\",IF(ISERROR(MATCH($N149,$J:$J,0)),T148,MAX($T$3:$T148)+1))","v":8},""]
[null,null,null,null,null,null,null,null,null,null,null,null,null,{"$f":"(IF(P150=\"\",\"\",MAX($N$3:$N149)+1))","v":147},206,"احمد147","انثى",null,null,{"$f":"IF(N150=\"\",\"\",IF(ISERROR(MATCH($N150,$J:$J,0)),T149,MAX($T$3:$T149)+1))","v":8},""]
[null,null,null,null,null,null,null,null,null,null,null,null,null,{"$f":"(IF(P151=\"\",\"\",MAX($N$3:$N150)+1))","v":148},207,"احمد148","انثى",null,null,{"$f":"IF(N151=\"\",\"\",IF(ISERROR(MATCH($N151,$J:$J,0)),T150,MAX($T$3:$T150)+1))","v":8},""]
[null,null,null,null,null,null,null,null,null,null,null,null,null,{"$f":"(IF(P152=\"\",\"\",MAX($N$3:$N151)+1))","v":149},208,"احمد149","انثى",null,null,{"$f":"IF(N152=\"\",\"\",IF(ISERROR(MATCH($N152,$J:$J,0)),T151,MAX($T$3:$T151)+1))","v":8},""]
[null,null,null,null,null,null,null,null,null,null,null,null,null,{"$f":"(IF(P153=\"\",\"\",MAX($N$3:$N152)+1))","v":150},209,"احمد150","انثى",null,null,{"$f":"IF(N153=\"\",\"\",IF(ISERROR(MATCH($N153,$J:$J,0)),T152,MAX($T$3:$T152)+1))","v":8},""]
[null,null,null,null,null,null,null,null,null,null,null,null,null,{"$f":"(IF(P154=\"\",\"\",MAX($N$3:$N153)+1))","v":151},210,"احمد151","انثى",null,null,{"$f":"IF(N154=\"\",\"\",IF(ISERROR(MATCH($N154,$J:$J,0)),T153,MAX($T$3:$T153)+1))","v":8},""]
[null,null,null,null,null,null,null,null,null,null,null,null,null,{"$f":"(IF(P155=\"\",\"\",MAX($N$3:$N154)+1))","v":152},211,"احمد152","انثى",null,null,{"$f":"IF(N155=\"\",\"\",IF(ISERROR(MATCH($N155,$J:$J,0)),T154,MAX($T$3:$T154)+1))","v":8},""]
[null,null,null,null,null,null,null,null,null,null,null,null,null,{"$f":"(IF(P156=\"\",\"\",MAX($N$3:$N155)+1))","v":153},212,"احمد153","انثى",null,null,{"$f":"IF(N156=\"\",\"\",IF(ISERROR(MATCH($N156,$J:$J,0)),T155,MAX($T$3:$T155)+1))","v":8},""]
[null,null,null,null,null,null,null,null,null,null,null,null,null,{"$f":"(IF(P157=\"\",\"\",MAX($N$3:$N156)+1))","v":154},213,"احمد154","انثى",null,null,{"$f":"IF(N157=\"\",\"\",IF(ISERROR(MATCH($N157,$J:$J,0)),T156,MAX($T$3:$T156)+1))","v":8},""]
[null,null,null,null,null,null,null,null,null,null,null,null,null,{"$f":"(IF(P158=\"\",\"\",MAX($N$3:$N157)+1))","v":155},214,"احمد155","انثى",null,null,{"$f":"IF(N158=\"\",\"\",IF(ISERROR(MATCH($N158,$J:$J,0)),T157,MAX($T$3:$T157)+1))","v":8},""]
[null,null,null,null,null,null,null,null,null,null,null,null,null,{"$f":"(IF(P159=\"\",\"\",MAX($N$3:$N158)+1))","v":156},215,"احمد156","انثى",null,null,{"$f":"IF(N159=\"\",\"\",IF(ISERROR(MATCH($N159,$J:$J,0)),T158,MAX($T$3:$T158)+1))","v":8},""]
[null,null,null,null,null,null,null,null,null,null,null,null,null,{"$f":"(IF(P160=\"\",\"\",MAX($N$3:$N159)+1))","v":157},216,"احمد157","انثى",null,null,{"$f":"IF(N160=\"\",\"\",IF(ISERROR(MATCH($N160,$J:$J,0)),T159,MAX($T$3:$T159)+1))","v":8},""]
[null,null,null,null,null,null,null,null,null,null,null,null,null,{"$f":"(IF(P161=\"\",\"\",MAX($N$3:$N160)+1))","v":158},217,"احمد158","انثى",null,null,{"$f":"IF(N161=\"\",\"\",IF(ISERROR(MATCH($N161,$J:$J,0)),T160,MAX($T$3:$T160)+1))","v":8},""]
[null,null,null,null,null,null,null,null,null,null,null,null,null,{"$f":"(IF(P162=\"\",\"\",MAX($N$3:$N161)+1))","v":159},218,"احمد159","انثى",null,null,{"$f":"IF(N162=\"\",\"\",IF(ISERROR(MATCH($N162,$J:$J,0)),T161,MAX($T$3:$T161)+1))","v":8},""]
[null,null,null,null,null,null,null,null,null,null,null,null,null,{"$f":"(IF(P163=\"\",\"\",MAX($N$3:$N162)+1))","v":160},219,"احمد160","ذكر",null,null,{"$f":"IF(N163=\"\",\"\",IF(ISERROR(MATCH($N163,$J:$J,0)),T162,MAX($T$3:$T162)+1))","v":8},"نهاية اللجنة"]
[null,null,null,null,null,null,null,null,null,null,null,null,null,{"$f":"(IF(P164=\"\",\"\",MAX($N$3:$N163)+1))","v":161},220,"احمد161","ذكر",null,null,{"$f":"IF(N164=\"\",\"\",IF(ISERROR(MATCH($N164,$J:$J,0)),T163,MAX($T$3:$T163)+1))","v":9},""]
[null,null,null,null,null,null,null,null,null,null,null,null,null,{"$f":"(IF(P165=\"\",\"\",MAX($N$3:$N164)+1))","v":162},221,"احمد162","ذكر",null,null,{"$f":"IF(N165=\"\",\"\",IF(ISERROR(MATCH($N165,$J:$J,0)),T164,MAX($T$3:$T164)+1))","v":9},""]
[null,null,null,null,null,null,null,null,null,null,null,null,null,{"$f":"(IF(P166=\"\",\"\",MAX($N$3:$N165)+1))","v":163},222,"احمد163","ذكر",null,null,{"$f":"IF(N166=\"\",\"\",IF(ISERROR(MATCH($N166,$J:$J,0)),T165,MAX($T$3:$T165)+1))","v":9},""]
[null,null,null,null,null,null,null,null,null,null,null,null,null,{"$f":"(IF(P167=\"\",\"\",MAX($N$3:$N166)+1))","v":164},223,"احمد164","ذكر",null,null,{"$f":"IF(N167=\"\",\"\",IF(ISERROR(MATCH($N167,$J:$J,0)),T166,MAX($T$3:$T166)+1))","v":9},""]
[null,null,null,null,null,null,null,null,null,null,null,null,null,{"$f":"(IF(P168=\"\",\"\",MAX($N$3:$N167)+1))","v":165},224,"احمد165","ذكر",null,null,{"$f":"IF(N168=\"\",\"\",IF(ISERROR(MATCH($N168,$J:$J,0)),T167,MAX($T$3:$T167)+1))","v":9},""]
[null,null,null,null,null,null,null,null,null,null,null,null,null,{"$f":"(IF(P169=\"\",\"\",MAX($N$3:$N168)+1))","v":166},225,"احمد166","ذكر",null,null,{"$f":"IF(N169=\"\",\"\",IF(ISERROR(MATCH($N169,$J:$J,0)),T168,MAX($T$3:$T168)+1))","v":9},""]
[null,null,null,null,null,null,null,null,null,null,null,null,null,{"$f":"(IF(P170=\"\",\"\",MAX($N$3:$N169)+1))","v":167},226,"احمد167","ذكر",null,null,{"$f":"IF(N170=\"\",\"\",IF(ISERROR(MATCH($N170,$J:$J,0)),T169,MAX($T$3:$T169)+1))","v":9},""]
[null,null,null,null,null,null,null,null,null,null,null,null,null,{"$f":"(IF(P171=\"\",\"\",MAX($N$3:$N170)+1))","v":168},227,"احمد168","ذكر",null,null,{"$f":"IF(N171=\"\",\"\",IF(ISERROR(MATCH($N171,$J:$J,0)),T170,MAX($T$3:$T170)+1))","v":9},""]
[null,null,null,null,null,null,null,null,null,null,null,null,null,{"$f":"(IF(P172=\"\",\"\",MAX($N$3:$N171)+1))","v":169},228,"احمد169","ذكر",null,null,{"$f":"IF(N172=\"\",\"\",IF(ISERROR(MATCH($N172,$J:$J,0)),T171,MAX($T$3:$T171)+1))","v":9},""]
[null,null,null,null,null,null,null,null,null,null,null,null,null,{"$f":"(IF(P173=\"\",\"\",MAX($N$3:$N172)+1))","v":170},229,"احمد170","ذكر",null,null,{"$f":"IF(N173=\"\",\"\",IF(ISERROR(MATCH($N173,$J:$J,0)),T172,MAX($T$3:$T172)+1))","v":9},""]
[null,null,null,null,null,null,null,null,null,null,null,null,null,{"$f":"(IF(P174=\"\",\"\",MAX($N$3:$N173)+1))","v":171},230,"احمد171","ذكر",null,null,{"$f":"IF(N174=\"\",\"\",IF(ISERROR(MATCH($N174,$J:$J,0)),T173,MAX($T$3:$T173)+1))","v":9},""]
[null,null,null,null,null,null,null,null,null,null,null,null,null,{"$f":"(IF(P175=\"\",\"\",MAX($N$3:$N174)+1))","v":172},231,"احمد172","ذكر",null,null,{"$f":"IF(N175=\"\",\"\",IF(ISERROR(MATCH($N175,$J:$J,0)),T174,MAX($T$3:$T174)+1))","v":9},""]
[null,null,null,null,null,null,null,null,null,null,null,null,null,{"$f":"(IF(P176=\"\",\"\",MAX($N$3:$N175)+1))","v":173},232,"احمد173","ذكر",null,null,{"$f":"IF(N176=\"\",\"\",IF(ISERROR(MATCH($N176,$J:$J,0)),T175,MAX($T$3:$T175)+1))","v":9},""]
[null,null,null,null,null,null,null,null,null,null,null,null,null,{"$f":"(IF(P177=\"\",\"\",MAX($N$3:$N176)+1))","v":174},233,"احمد174","ذكر",null,null,{"$f":"IF(N177=\"\",\"\",IF(ISERROR(MATCH($N177,$J:$J,0)),T176,MAX($T$3:$T176)+1))","v":9},""]
[null,null,null,null,null,null,null,null,null,null,null,null,null,{"$f":"(IF(P178=\"\",\"\",MAX($N$3:$N177)+1))","v":175},234,"احمد175","ذكر",null,null,{"$f":"IF(N178=\"\",\"\",IF(ISERROR(MATCH($N178,$J:$J,0)),T177,MAX($T$3:$T177)+1))","v":9},""]
[null,null,null,null,null,null,null,null,null,null,null,null,null,{"$f":"(IF(P179=\"\",\"\",MAX($N$3:$N178)+1))","v":176},235,"احمد176","ذكر",null,null,{"$f":"IF(N179=\"\",\"\",IF(ISERROR(MATCH($N179,$J:$J,0)),T178,MAX($T$3:$T178)+1))","v":9},""]
[null,null,null,null,null,null,null,null,null,null,null,null,null,{"$f":"(IF(P180=\"\",\"\",MAX($N$3:$N179)+1))","v":177},236,"احمد177","ذكر",null,null,{"$f":"IF(N180=\"\",\"\",IF(ISERROR(MATCH($N180,$J:$J,0)),T179,MAX($T$3:$T179)+1))","v":9},""]
[null,null,null,null,null,null,null,null,null,null,null,null,null,{"$f":"(IF(P181=\"\",\"\",MAX($N$3:$N180)+1))","v":178},237,"احمد178","ذكر",null,null,{"$f":"IF(N181=\"\",\"\",IF(ISERROR(MATCH($N181,$J:$J,0)),T180,MAX($T$3:$T180)+1))","v":9},""]
[null,null,null,null,null,null,null,null,null,null,null,null,null,{"$f":"(IF(P182=\"\",\"\",MAX($N$3:$N181)+1))","v":179},238,"احمد179","ذكر",null,null,{"$f":"IF(N182=\"\",\"\",IF(ISERROR(MATCH($N182,$J:$J,0)),T181,MAX($T$3:$T181)+1))","v":9},""]
[null,null,null,null,null,null,null,null,null,null,null,null,null,{"$f":"(IF(P183=\"\",\"\",MAX($N$3:$N182)+1))","v":180},239,"احمد180","ذكر",null,null,{"$f":"IF(N183=\"\",\"\",IF(ISERROR(MATCH($N183,$J:$J,0)),T182,MAX($T$3:$T182)+1))","v":9},"نهاية اللجنة"]
[null,null,null,null,null,null,null,null,null,null,null,null,null,{"$f":"(IF(P184=\"\",\"\",MAX($N$3:$N183)+1))","v":181},240,"احمد181","ذكر",null,null,{"$f":"IF(N184=\"\",\"\",IF(ISERROR(MATCH($N184,$J:$J,0)),T183,MAX($T$3:$T183)+1))","v":10},""]
[null,null,null,null,null,null,null,null,null,null,null,null,null,{"$f":"(IF(P185=\"\",\"\",MAX($N$3:$N184)+1))","v":182},241,"احمد182","ذكر",null,null,{"$f":"IF(N185=\"\",\"\",IF(ISERROR(MATCH($N185,$J:$J,0)),T184,MAX($T$3:$T184)+1))","v":10},""]
[null,null,null,null,null,null,null,null,null,null,null,null,null,{"$f":"(IF(P186=\"\",\"\",MAX($N$3:$N185)+1))","v":183},242,"احمد183","ذكر",null,null,{"$f":"IF(N186=\"\",\"\",IF(ISERROR(MATCH($N186,$J:$J,0)),T185,MAX($T$3:$T185)+1))","v":10},""]
[null,null,null,null,null,null,null,null,null,null,null,null,null,{"$f":"(IF(P187=\"\",\"\",MAX($N$3:$N186)+1))","v":184},243,"احمد184","ذكر",null,null,{"$f":"IF(N187=\"\",\"\",IF(ISERROR(MATCH($N187,$J:$J,0)),T186,MAX($T$3:$T186)+1))","v":10},""]
[null,null,null,null,null,null,null,null,null,null,null,null,null,{"$f":"(IF(P188=\"\",\"\",MAX($N$3:$N187)+1))","v":185},244,"احمد185","ذكر",null,null,{"$f":"IF(N188=\"\",\"\",IF(ISERROR(MATCH($N188,$J:$J,0)),T187,MAX($T$3:$T187)+1))","v":10},""]
[null,null,null,null,null,null,null,null,null,null,null,null,null,{"$f":"(IF(P189=\"\",\"\",MAX($N$3:$N188)+1))","v":186},245,"احمد186","انثى",null,null,{"$f":"IF(N189=\"\",\"\",IF(ISERROR(MATCH($N189,$J:$J,0)),T188,MAX($T$3:$T188)+1))","v":10},""]
[null,null,null,null,null,null,null,null,null,null,null,null,null,{"$f":"(IF(P190=\"\",\"\",MAX($N$3:$N189)+1))","v":187},246,"احمد187","انثى",null,null,{"$f":"IF(N190=\"\",\"\",IF(ISERROR(MATCH($N190,$J:$J,0)),T189,MAX($T$3:$T189)+1))","v":10},""]
[null,null,null,null,null,null,null,null,null,null,null,null,null,{"$f":"(IF(P191=\"\",\"\",MAX($N$3:$N190)+1))","v":188},247,"احمد188","انثى",null,null,{"$f":"IF(N191=\"\",\"\",IF(ISERROR(MATCH($N191,$J:$J,0)),T190,MAX($T$3:$T190)+1))","v":10},""]
[null,null,null,null,null,null,null,null,null,null,null,null,null,{"$f":"(IF(P192=\"\",\"\",MAX($N$3:$N191)+1))","v":189},248,"احمد189","انثى",null,null,{"$f":"IF(N192=\"\",\"\",IF(ISERROR(MATCH($N192,$J:$J,0)),T191,MAX($T$3:$T191)+1))","v":10},""]
[null,null,null,null,null,null,null,null,null,null,null,null,null,{"$f":"(IF(P193=\"\",\"\",MAX($N$3:$N192)+1))","v":190},249,"احمد190","انثى",null,null,{"$f":"IF(N193=\"\",\"\",IF(ISERROR(MATCH($N193,$J:$J,0)),T192,MAX($T$3:$T192)+1))","v":10},""]
[null,null,null,null,null,null,null,null,null,null,null,null,null,{"$f":"(IF(P194=\"\",\"\",MAX($N$3:$N193)+1))","v":191},250,"احمد191","انثى",null,null,{"$f":"IF(N194=\"\",\"\",IF(ISERROR(MATCH($N194,$J:$J,0)),T193,MAX($T$3:$T193)+1))","v":10},""]
[null,null,null,null,null,null,null,null,null,null,null,null,null,{"$f":"(IF(P195=\"\",\"\",MAX($N$3:$N194)+1))","v":192},251,"احمد192","انثى",null,null,{"$f":"IF(N195=\"\",\"\",IF(ISERROR(MATCH($N195,$J:$J,0)),T194,MAX($T$3:$T194)+1))","v":10},""]
[null,null,null,null,null,null,null,null,null,null,null,null,null,{"$f":"(IF(P196=\"\",\"\",MAX($N$3:$N195)+1))","v":193},252,"احمد193","انثى",null,null,{"$f":"IF(N196=\"\",\"\",IF(ISERROR(MATCH($N196,$J:$J,0)),T195,MAX($T$3:$T195)+1))","v":10},""]
[null,null,null,null,null,null,null,null,null,null,null,null,null,{"$f":"(IF(P197=\"\",\"\",MAX($N$3:$N196)+1))","v":194},253,"احمد194","انثى",null,null,{"$f":"IF(N197=\"\",\"\",IF(ISERROR(MATCH($N197,$J:$J,0)),T196,MAX($T$3:$T196)+1))","v":10},{"$f":"IF(T197=T198,\"\",\"نهاية اللجنة\")","v":""}]
[null,null,null,null,null,null,null,null,null,null,null,null,null,{"$f":"(IF(P198=\"\",\"\",MAX($N$3:$N197)+1))","v":195},{"$f":"IF(P198=\"\",\"\",IF(O197+1>$M$2,\"\",O197+1))","v":254},"احمد195","انثى",null,null,{"$f":"IF(N198=\"\",\"\",IF(ISERROR(MATCH($N198,$J:$J,0)),T197,MAX($T$3:$T197)+1))","v":10},""]
[null,null,null,null,null,null,null,null,null,null,null,null,null,{"$f":"(IF(P199=\"\",\"\",MAX($N$3:$N198)+1))","v":196},255,"احمد196","انثى",null,null,{"$f":"IF(N199=\"\",\"\",IF(ISERROR(MATCH($N199,$J:$J,0)),T198,MAX($T$3:$T198)+1))","v":10},""]
[null,null,null,null,null,null,null,null,null,null,null,null,null,{"$f":"(IF(P200=\"\",\"\",MAX($N$3:$N199)+1))","v":197},256,"احمد197","انثى",null,null,{"$f":"IF(N200=\"\",\"\",IF(ISERROR(MATCH($N200,$J:$J,0)),T199,MAX($T$3:$T199)+1))","v":10},""]
[null,null,null,null,null,null,null,null,null,null,null,null,null,{"$f":"(IF(P201=\"\",\"\",MAX($N$3:$N200)+1))","v":198},257,"احمد198","انثى",null,null,{"$f":"IF(N201=\"\",\"\",IF(ISERROR(MATCH($N201,$J:$J,0)),T200,MAX($T$3:$T200)+1))","v":10},""]
[null,null,null,null,null,null,null,null,null,null,null,null,null,{"$f":"(IF(P202=\"\",\"\",MAX($N$3:$N201)+1))","v":199},258,"احمد199","انثى",null,null,{"$f":"IF(N202=\"\",\"\",IF(ISERROR(MATCH($N202,$J:$J,0)),T201,MAX($T$3:$T201)+1))","v":10},""]
[null,null,null,null,null,null,null,null,null,null,null,null,null,{"$f":"(IF(P203=\"\",\"\",MAX($N$3:$N202)+1))","v":200},259,"احمد200","انثى",null,null,{"$f":"IF(N203=\"\",\"\",IF(ISERROR(MATCH($N203,$J:$J,0)),T202,MAX($T$3:$T202)+1))","v":10},"نهاية اللجنة"]
[null,null,null,null,null,null,null,null,null,null,null,null,null,{"$f":"(IF(P204=\"\",\"\",MAX($N$3:$N203)+1))","v":201},260,"احمد201","انثى",null,null,{"$f":"IF(N204=\"\",\"\",IF(ISERROR(MATCH($N204,$J:$J,0)),T203,MAX($T$3:$T203)+1))","v":11},""]
[null,null,null,null,null,null,null,null,null,null,null,null,null,{"$f":"(IF(P205=\"\",\"\",MAX($N$3:$N204)+1))","v":202},261,"احمد202","انثى",null,null,{"$f":"IF(N205=\"\",\"\",IF(ISERROR(MATCH($N205,$J:$J,0)),T204,MAX($T$3:$T204)+1))","v":11},""]
[null,null,null,null,null,null,null,null,null,null,null,null,null,{"$f":"(IF(P206=\"\",\"\",MAX($N$3:$N205)+1))","v":203},262,"احمد203","انثى",null,null,{"$f":"IF(N206=\"\",\"\",IF(ISERROR(MATCH($N206,$J:$J,0)),T205,MAX($T$3:$T205)+1))","v":11},""]
[null,null,null,null,null,null,null,null,null,null,null,null,null,{"$f":"(IF(P207=\"\",\"\",MAX($N$3:$N206)+1))","v":204},263,"احمد204","انثى",null,null,{"$f":"IF(N207=\"\",\"\",IF(ISERROR(MATCH($N207,$J:$J,0)),T206,MAX($T$3:$T206)+1))","v":11},""]
[null,null,null,null,null,null,null,null,null,null,null,null,null,{"$f":"(IF(P208=\"\",\"\",MAX($N$3:$N207)+1))","v":205},264,"احمد205","انثى",null,null,{"$f":"IF(N208=\"\",\"\",IF(ISERROR(MATCH($N208,$J:$J,0)),T207,MAX($T$3:$T207)+1))","v":11},""]
[null,null,null,null,null,null,null,null,null,null,null,null,null,{"$f":"(IF(P209=\"\",\"\",MAX($N$3:$N208)+1))","v":206},265,"احمد206","انثى",null,null,{"$f":"IF(N209=\"\",\"\",IF(ISERROR(MATCH($N209,$J:$J,0)),T208,MAX($T$3:$T208)+1))","v":11},""]
[null,null,null,null,null,null,null,null,null,null,null,null,null,{"$f":"(IF(P210=\"\",\"\",MAX($N$3:$N209)+1))","v":207},266,"احمد207","انثى",null,null,{"$f":"IF(N210=\"\",\"\",IF(ISERROR(MATCH($N210,$J:$J,0)),T209,MAX($T$3:$T209)+1))","v":11},""]
[null,null,null,null,null,null,null,null,null,null,null,null,null,{"$f":"(IF(P211=\"\",\"\",MAX($N$3:$N210)+1))","v":208},267,"احمد208","انثى",null,null,{"$f":"IF(N211=\"\",\"\",IF(ISERROR(MATCH($N211,$J:$J,0)),T210,MAX($T$3:$T210)+1))","v":11},""]
[null,null,null,null,null,null,null,null,null,null,null,null,null,{"$f":"(IF(P212=\"\",\"\",MAX($N$3:$N211)+1))","v":209},268,"احمد209","انثى",null,null,{"$f":"IF(N212=\"\",\"\",IF(ISERROR(MATCH($N212,$J:$J,0)),T211,MAX($T$3:$T211)+1))","v":11},""]
[null,null,null,null,null,null,null,null,null,null,null,null,null,{"$f":"(IF(P213=\"\",\"\",MAX($N$3:$N212)+1))","v":210},269,"احمد210","انثى",null,null,{"$f":"IF(N213=\"\",\"\",IF(ISERROR(MATCH($N213,$J:$J,0)),T212,MAX($T$3:$T212)+1))","v":11},""]
[null,null,null,null,null,null,null,null,null,null,null,null,null,{"$f":"(IF(P214=\"\",\"\",MAX($N$3:$N213)+1))","v":211},270,"احمد211","انثى",null,null,{"$f":"IF(N214=\"\",\"\",IF(ISERROR(MATCH($N214,$J:$J,0)),T213,MAX($T$3:$T213)+1))","v":11},""]
[null,null,null,null,null,null,null,null,null,null,null,null,null,{"$f":"(IF(P215=\"\",\"\",MAX($N$3:$N214)+1))","v":212},271,"احمد212","انثى",null,null,{"$f":"IF(N215=\"\",\"\",IF(ISERROR(MATCH($N215,$J:$J,0)),T214,MAX($T$3:$T214)+1))","v":11},""]
[null,null,null,null,null,null,null,null,null,null,null,null,null,{"$f":"(IF(P216=\"\",\"\",MAX($N$3:$N215)+1))","v":213},272,"احمد213","ذكر",null,null,{"$f":"IF(N216=\"\",\"\",IF(ISERROR(MATCH($N216,$J:$J,0)),T215,MAX($T$3:$T215)+1))","v":11},""]
[null,null,null,null,null,null,null,null,null,null,null,null,null,{"$f":"(IF(P217=\"\",\"\",MAX($N$3:$N216)+1))","v":214},273,"احمد214","ذكر",null,null,{"$f":"IF(N217=\"\",\"\",IF(ISERROR(MATCH($N217,$J:$J,0)),T216,MAX($T$3:$T216)+1))","v":11},""]
[null,null,null,null,null,null,null,null,null,null,null,null,null,{"$f":"(IF(P218=\"\",\"\",MAX($N$3:$N217)+1))","v":215},274,"احمد215","ذكر",null,null,{"$f":"IF(N218=\"\",\"\",IF(ISERROR(MATCH($N218,$J:$J,0)),T217,MAX($T$3:$T217)+1))","v":11},""]
[null,null,null,null,null,null,null,null,null,null,null,null,null,{"$f":"(IF(P219=\"\",\"\",MAX($N$3:$N218)+1))","v":216},275,"احمد216","ذكر",null,null,{"$f":"IF(N219=\"\",\"\",IF(ISERROR(MATCH($N219,$J:$J,0)),T218,MAX($T$3:$T218)+1))","v":11},""]
[null,null,null,null,null,null,null,null,null,null,null,null,null,{"$f":"(IF(P220=\"\",\"\",MAX($N$3:$N219)+1))","v":217},276,"احمد217","ذكر",null,null,{"$f":"IF(N220=\"\",\"\",IF(ISERROR(MATCH($N220,$J:$J,0)),T219,MAX($T$3:$T219)+1))","v":11},""]
[null,null,null,null,null,null,null,null,null,null,null,null,null,{"$f":"(IF(P221=\"\",\"\",MAX($N$3:$N220)+1))","v":218},277,"احمد218","ذكر",null,null,{"$f":"IF(N221=\"\",\"\",IF(ISERROR(MATCH($N221,$J:$J,0)),T220,MAX($T$3:$T220)+1))","v":11},""]
[null,null,null,null,null,null,null,null,null,null,null,null,null,{"$f":"(IF(P222=\"\",\"\",MAX($N$3:$N221)+1))","v":219},278,"احمد219","ذكر",null,null,{"$f":"IF(N222=\"\",\"\",IF(ISERROR(MATCH($N222,$J:$J,0)),T221,MAX($T$3:$T221)+1))","v":11},""]
[null,null,null,null,null,null,null,null,null,null,null,null,null,{"$f":"(IF(P223=\"\",\"\",MAX($N$3:$N222)+1))","v":220},279,"احمد220","ذكر",null,null,{"$f":"IF(N223=\"\",\"\",IF(ISERROR(MATCH($N223,$J:$J,0)),T222,MAX($T$3:$T222)+1))","v":11},"نهاية اللجنة"]
[null,null,null,null,null,null,null,null,null,null,null,null,null,{"$f":"(IF(P224=\"\",\"\",MAX($N$3:$N223)+1))","v":221},280,"احمد221","ذكر",null,null,{"$f":"IF(N224=\"\",\"\",IF(ISERROR(MATCH($N224,$J:$J,0)),T223,MAX($T$3:$T223)+1))","v":12},""]
[null,null,null,null,null,null,null,null,null,null,null,null,null,{"$f":"(IF(P225=\"\",\"\",MAX($N$3:$N224)+1))","v":222},281,"احمد222","ذكر",null,null,{"$f":"IF(N225=\"\",\"\",IF(ISERROR(MATCH($N225,$J:$J,0)),T224,MAX($T$3:$T224)+1))","v":12},""]
[null,null,null,null,null,null,null,null,null,null,null,null,null,{"$f":"(IF(P226=\"\",\"\",MAX($N$3:$N225)+1))","v":223},282,"احمد223","ذكر",null,null,{"$f":"IF(N226=\"\",\"\",IF(ISERROR(MATCH($N226,$J:$J,0)),T225,MAX($T$3:$T225)+1))","v":12},""]
[null,null,null,null,null,null,null,null,null,null,null,null,null,{"$f":"(IF(P227=\"\",\"\",MAX($N$3:$N226)+1))","v":224},283,"احمد224","ذكر",null,null,{"$f":"IF(N227=\"\",\"\",IF(ISERROR(MATCH($N227,$J:$J,0)),T226,MAX($T$3:$T226)+1))","v":12},""]
[null,null,null,null,null,null,null,null,null,null,null,null,null,{"$f":"(IF(P228=\"\",\"\",MAX($N$3:$N227)+1))","v":225},284,"احمد225","ذكر",null,null,{"$f":"IF(N228=\"\",\"\",IF(ISERROR(MATCH($N228,$J:$J,0)),T227,MAX($T$3:$T227)+1))","v":12},""]
[null,null,null,null,null,null,null,null,null,null,null,null,null,{"$f":"(IF(P229=\"\",\"\",MAX($N$3:$N228)+1))","v":226},285,"احمد226","ذكر",null,null,{"$f":"IF(N229=\"\",\"\",IF(ISERROR(MATCH($N229,$J:$J,0)),T228,MAX($T$3:$T228)+1))","v":12},""]
[null,null,null,null,null,null,null,null,null,null,null,null,null,{"$f":"(IF(P230=\"\",\"\",MAX($N$3:$N229)+1))","v":227},286,"احمد227","ذكر",null,null,{"$f":"IF(N230=\"\",\"\",IF(ISERROR(MATCH($N230,$J:$J,0)),T229,MAX($T$3:$T229)+1))","v":12},""]
[null,null,null,null,null,null,null,null,null,null,null,null,null,{"$f":"(IF(P231=\"\",\"\",MAX($N$3:$N230)+1))","v":228},287,"احمد228","ذكر",null,null,{"$f":"IF(N231=\"\",\"\",IF(ISERROR(MATCH($N231,$J:$J,0)),T230,MAX($T$3:$T230)+1))","v":12},""]
[null,null,null,null,null,null,null,null,null,null,null,null,null,{"$f":"(IF(P232=\"\",\"\",MAX($N$3:$N231)+1))","v":229},288,"احمد229","ذكر",null,null,{"$f":"IF(N232=\"\",\"\",IF(ISERROR(MATCH($N232,$J:$J,0)),T231,MAX($T$3:$T231)+1))","v":12},""]
[null,null,null,null,null,null,null,null,null,null,null,null,null,{"$f":"(IF(P233=\"\",\"\",MAX($N$3:$N232)+1))","v":230},289,"احمد230","ذكر",null,null,{"$f":"IF(N233=\"\",\"\",IF(ISERROR(MATCH($N233,$J:$J,0)),T232,MAX($T$3:$T232)+1))","v":12},""]
[null,null,null,null,null,null,null,null,null,null,null,null,null,{"$f":"(IF(P234=\"\",\"\",MAX($N$3:$N233)+1))","v":231},290,"احمد231","ذكر",null,null,{"$f":"IF(N234=\"\",\"\",IF(ISERROR(MATCH($N234,$J:$J,0)),T233,MAX($T$3:$T233)+1))","v":12},""]
[null,null,null,null,null,null,null,null,null,null,null,null,null,{"$f":"(IF(P235=\"\",\"\",MAX($N$3:$N234)+1))","v":232},291,"احمد232","ذكر",null,null,{"$f":"IF(N235=\"\",\"\",IF(ISERROR(MATCH($N235,$J:$J,0)),T234,MAX($T$3:$T234)+1))","v":12},""]
[null,null,null,null,null,null,null,null,null,null,null,null,null,{"$f":"(IF(P236=\"\",\"\",MAX($N$3:$N235)+1))","v":233},292,"احمد233","ذكر",null,null,{"$f":"IF(N236=\"\",\"\",IF(ISERROR(MATCH($N236,$J:$J,0)),T235,MAX($T$3:$T235)+1))","v":12},""]
[null,null,null,null,null,null,null,null,null,null,null,null,null,{"$f":"(IF(P237=\"\",\"\",MAX($N$3:$N236)+1))","v":234},293,"احمد234","ذكر",null,null,{"$f":"IF(N237=\"\",\"\",IF(ISERROR(MATCH($N237,$J:$J,0)),T236,MAX($T$3:$T236)+1))","v":12},""]
[null,null,null,null,null,null,null,null,null,null,null,null,null,{"$f":"(IF(P238=\"\",\"\",MAX($N$3:$N237)+1))","v":235},294,"احمد235","ذكر",null,null,{"$f":"IF(N238=\"\",\"\",IF(ISERROR(MATCH($N238,$J:$J,0)),T237,MAX($T$3:$T237)+1))","v":12},""]
[null,null,null,null,null,null,null,null,null,null,null,null,null,{"$f":"(IF(P239=\"\",\"\",MAX($N$3:$N238)+1))","v":236},295,"احمد236","ذكر",null,null,{"$f":"IF(N239=\"\",\"\",IF(ISERROR(MATCH($N239,$J:$J,0)),T238,MAX($T$3:$T238)+1))","v":12},""]
[null,null,null,null,null,null,null,null,null,null,null,null,null,{"$f":"(IF(P240=\"\",\"\",MAX($N$3:$N239)+1))","v":237},296,"احمد237","ذكر",null,null,{"$f":"IF(N240=\"\",\"\",IF(ISERROR(MATCH($N240,$J:$J,0)),T239,MAX($T$3:$T239)+1))","v":12},""]
[null,null,null,null,null,null,null,null,null,null,null,null,null,{"$f":"(IF(P241=\"\",\"\",MAX($N$3:$N240)+1))","v":238},297,"احمد238","ذكر",null,null,{"$f":"IF(N241=\"\",\"\",IF(ISERROR(MATCH($N241,$J:$J,0)),T240,MAX($T$3:$T240)+1))","v":12},""]
[null,null,null,null,null,null,null,null,null,null,null,null,null,{"$f":"(IF(P242=\"\",\"\",MAX($N$3:$N241)+1))","v":239},298,"احمد239","انثى",null,null,{"$f":"IF(N242=\"\",\"\",IF(ISERROR(MATCH($N242,$J:$J,0)),T241,MAX($T$3:$T241)+1))","v":12},""]
[null,null,null,null,null,null,null,null,null,null,null,null,null,{"$f":"(IF(P243=\"\",\"\",MAX($N$3:$N242)+1))","v":240},299,"احمد240","انثى",null,null,{"$f":"IF(N243=\"\",\"\",IF(ISERROR(MATCH($N243,$J:$J,0)),T242,MAX($T$3:$T242)+1))","v":12},"نهاية اللجنة"]
[null,null,null,null,null,null,null,null,null,null,null,null,null,{"$f":"(IF(P244=\"\",\"\",MAX($N$3:$N243)+1))","v":241},300,"احمد241","انثى",null,null,{"$f":"IF(N244=\"\",\"\",IF(ISERROR(MATCH($N244,$J:$J,0)),T243,MAX($T$3:$T243)+1))","v":13},""]
[null,null,null,null,null,null,null,null,null,null,null,null,null,{"$f":"(IF(P245=\"\",\"\",MAX($N$3:$N244)+1))","v":242},301,"احمد242","انثى",null,null,{"$f":"IF(N245=\"\",\"\",IF(ISERROR(MATCH($N245,$J:$J,0)),T244,MAX($T$3:$T244)+1))","v":13},""]
[null,null,null,null,null,null,null,null,null,null,null,null,null,{"$f":"(IF(P246=\"\",\"\",MAX($N$3:$N245)+1))","v":243},302,"احمد243","انثى",null,null,{"$f":"IF(N246=\"\",\"\",IF(ISERROR(MATCH($N246,$J:$J,0)),T245,MAX($T$3:$T245)+1))","v":13},""]
[null,null,null,null,null,null,null,null,null,null,null,null,null,{"$f":"(IF(P247=\"\",\"\",MAX($N$3:$N246)+1))","v":244},303,"احمد244","انثى",null,null,{"$f":"IF(N247=\"\",\"\",IF(ISERROR(MATCH($N247,$J:$J,0)),T246,MAX($T$3:$T246)+1))","v":13},""]
[null,null,null,null,null,null,null,null,null,null,null,null,null,{"$f":"(IF(P248=\"\",\"\",MAX($N$3:$N247)+1))","v":245},304,"احمد245","انثى",null,null,{"$f":"IF(N248=\"\",\"\",IF(ISERROR(MATCH($N248,$J:$J,0)),T247,MAX($T$3:$T247)+1))","v":13},""]
[null,null,null,null,null,null,null,null,null,null,null,null,null,{"$f":"(IF(P249=\"\",\"\",MAX($N$3:$N248)+1))","v":246},305,"احمد246","انثى",null,null,{"$f":"IF(N249=\"\",\"\",IF(ISERROR(MATCH($N249,$J:$J,0)),T248,MAX($T$3:$T248)+1))","v":13},""]
[null,null,null,null,null,null,null,null,null,null,null,null,null,{"$f":"(IF(P250=\"\",\"\",MAX($N$3:$N249)+1))","v":247},306,"احمد247","انثى",null,null,{"$f":"IF(N250=\"\",\"\",IF(ISERROR(MATCH($N250,$J:$J,0)),T249,MAX($T$3:$T249)+1))","v":13},""]
[null,null,null,null,null,null,null,null,null,null,null,null,null,{"$f":"(IF(P251=\"\",\"\",MAX($N$3:$N250)+1))","v":248},307,"احمد248","انثى",null,null,{"$f":"IF(N251=\"\",\"\",IF(ISERROR(MATCH($N251,$J:$J,0)),T250,MAX($T$3:$T250)+1))","v":13},""]
[null,null,null,null,null,null,null,null,null,null,null,null,null,{"$f":"(IF(P252=\"\",\"\",MAX($N$3:$N251)+1))","v":249},308,"احمد249","انثى",null,null,{"$f":"IF(N252=\"\",\"\",IF(ISERROR(MATCH($N252,$J:$J,0)),T251,MAX($T$3:$T251)+1))","v":13},""]
[null,null,null,null,null,null,null,null,null,null,null,null,null,{"$f":"(IF(P253=\"\",\"\",MAX($N$3:$N252)+1))","v":250},309,"احمد250","انثى",null,null,{"$f":"IF(N253=\"\",\"\",IF(ISERROR(MATCH($N253,$J:$J,0)),T252,MAX($T$3:$T252)+1))","v":13},""]
[null,null,null,null,null,null,null,null,null,null,null,null,null,{"$f":"(IF(P254=\"\",\"\",MAX($N$3:$N253)+1))","v":251},310,"احمد251","انثى",null,null,{"$f":"IF(N254=\"\",\"\",IF(ISERROR(MATCH($N254,$J:$J,0)),T253,MAX($T$3:$T253)+1))","v":13},""]
[null,null,null,null,null,null,null,null,null,null,null,null,null,{"$f":"(IF(P255=\"\",\"\",MAX($N$3:$N254)+1))","v":252},311,"احمد252","انثى",null,null,{"$f":"IF(N255=\"\",\"\",IF(ISERROR(MATCH($N255,$J:$J,0)),T254,MAX($T$3:$T254)+1))","v":13},""]
[null,null,null,null,null,null,null,null,null,null,null,null,null,{"$f":"(IF(P256=\"\",\"\",MAX($N$3:$N255)+1))","v":253},312,"احمد253","انثى",null,null,{"$f":"IF(N256=\"\",\"\",IF(ISERROR(MATCH($N256,$J:$J,0)),T255,MAX($T$3:$T255)+1))","v":13},""]
[null,null,null,null,null,null,null,null,null,null,null,null,null,{"$f":"(IF(P257=\"\",\"\",MAX($N$3:$N256)+1))","v":254},313,"احمد254","انثى",null,null,{"$f":"IF(N257=\"\",\"\",IF(ISERROR(MATCH($N257,$J:$J,0)),T256,MAX($T$3:$T256)+1))","v":13},""]
[null,null,null,null,null,null,null,null,null,null,null,null,null,{"$f":"(IF(P258=\"\",\"\",MAX($N$3:$N257)+1))","v":255},314,"احمد255","انثى",null,null,{"$f":"IF(N258=\"\",\"\",IF(ISERROR(MATCH($N258,$J:$J,0)),T257,MAX($T$3:$T257)+1))","v":13},""]
[null,null,null,null,null,null,null,null,null,null,null,null,null,{"$f":"(IF(P259=\"\",\"\",MAX($N$3:$N258)+1))","v":256},315,"احمد256","انثى",null,null,{"$f":"IF(N259=\"\",\"\",IF(ISERROR(MATCH($N259,$J:$J,0)),T258,MAX($T$3:$T258)+1))","v":13},""]
[null,null,null,null,null,null,null,null,null,null,null,null,null,{"$f":"(IF(P260=\"\",\"\",MAX($N$3:$N259)+1))","v":257},316,"احمد257","انثى",null,null,{"$f":"IF(N260=\"\",\"\",IF(ISERROR(MATCH($N260,$J:$J,0)),T259,MAX($T$3:$T259)+1))","v":13},""]
[null,null,null,null,null,null,null,null,null,null,null,null,null,{"$f":"(IF(P261=\"\",\"\",MAX($N$3:$N260)+1))","v":258},317,"احمد258","انثى",null,null,{"$f":"IF(N261=\"\",\"\",IF(ISERROR(MATCH($N261,$J:$J,0)),T260,MAX($T$3:$T260)+1))","v":13},{"$f":"IF(T261=T262,\"\",\"نهاية اللجنة\")","v":""}]
[null,null,null,null,null,null,null,null,null,null,null,null,null,{"$f":"(IF(P262=\"\",\"\",MAX($N$3:$N261)+1))","v":259},{"$f":"IF(P262=\"\",\"\",IF(O261+1>$M$2,\"\",O261+1))","v":318},"احمد259","انثى",null,null,{"$f":"IF(N262=\"\",\"\",IF(ISERROR(MATCH($N262,$J:$J,0)),T261,MAX($T$3:$T261)+1))","v":13},""]
[null,null,null,null,null,null,null,null,null,null,null,null,null,{"$f":"(IF(P263=\"\",\"\",MAX($N$3:$N262)+1))","v":260},319,"احمد260","انثى",null,null,{"$f":"IF(N263=\"\",\"\",IF(ISERROR(MATCH($N263,$J:$J,0)),T262,MAX($T$3:$T262)+1))","v":13},"نهاية اللجنة"]
[null,null,null,null,null,null,null,null,null,null,null,null,null,{"$f":"(IF(P264=\"\",\"\",MAX($N$3:$N263)+1))","v":261},320,"احمد261","انثى",null,null,{"$f":"IF(N264=\"\",\"\",IF(ISERROR(MATCH($N264,$J:$J,0)),T263,MAX($T$3:$T263)+1))","v":14},""]
[null,null,null,null,null,null,null,null,null,null,null,null,null,{"$f":"(IF(P265=\"\",\"\",MAX($N$3:$N264)+1))","v":262},321,"احمد262","ذكر",null,null,{"$f":"IF(N265=\"\",\"\",IF(ISERROR(MATCH($N265,$J:$J,0)),T264,MAX($T$3:$T264)+1))","v":14},""]
[null,null,null,null,null,null,null,null,null,null,null,null,null,{"$f":"(IF(P266=\"\",\"\",MAX($N$3:$N265)+1))","v":263},322,"احمد263","ذكر",null,null,{"$f":"IF(N266=\"\",\"\",IF(ISERROR(MATCH($N266,$J:$J,0)),T265,MAX($T$3:$T265)+1))","v":14},""]
[null,null,null,null,null,null,null,null,null,null,null,null,null,{"$f":"(IF(P267=\"\",\"\",MAX($N$3:$N266)+1))","v":264},323,"احمد264","ذكر",null,null,{"$f":"IF(N267=\"\",\"\",IF(ISERROR(MATCH($N267,$J:$J,0)),T266,MAX($T$3:$T266)+1))","v":14},""]
[null,null,null,null,null,null,null,null,null,null,null,null,null,{"$f":"(IF(P268=\"\",\"\",MAX($N$3:$N267)+1))","v":265},324,"احمد265","ذكر",null,null,{"$f":"IF(N268=\"\",\"\",IF(ISERROR(MATCH($N268,$J:$J,0)),T267,MAX($T$3:$T267)+1))","v":14},""]
[null,null,null,null,null,null,null,null,null,null,null,null,null,{"$f":"(IF(P269=\"\",\"\",MAX($N$3:$N268)+1))","v":266},325,"احمد266","ذكر",null,null,{"$f":"IF(N269=\"\",\"\",IF(ISERROR(MATCH($N269,$J:$J,0)),T268,MAX($T$3:$T268)+1))","v":14},""]
[null,null,null,null,null,null,null,null,null,null,null,null,null,{"$f":"(IF(P270=\"\",\"\",MAX($N$3:$N269)+1))","v":267},326,"احمد267","ذكر",null,null,{"$f":"IF(N270=\"\",\"\",IF(ISERROR(MATCH($N270,$J:$J,0)),T269,MAX($T$3:$T269)+1))","v":14},""]
[null,null,null,null,null,null,null,null,null,null,null,null,null,{"$f":"(IF(P271=\"\",\"\",MAX($N$3:$N270)+1))","v":268},327,"احمد268","ذكر",null,null,{"$f":"IF(N271=\"\",\"\",IF(ISERROR(MATCH($N271,$J:$J,0)),T270,MAX($T$3:$T270)+1))","v":14},""]
[null,null,null,null,null,null,null,null,null,null,null,null,null,{"$f":"(IF(P272=\"\",\"\",MAX($N$3:$N271)+1))","v":269},328,"احمد269","ذكر",null,null,{"$f":"IF(N272=\"\",\"\",IF(ISERROR(MATCH($N272,$J:$J,0)),T271,MAX($T$3:$T271)+1))","v":14},""]
[null,null,null,null,null,null,null,null,null,null,null,null,null,{"$f":"(IF(P273=\"\",\"\",MAX($N$3:$N272)+1))","v":270},329,"احمد270","ذكر",null,null,{"$f":"IF(N273=\"\",\"\",IF(ISERROR(MATCH($N273,$J:$J,0)),T272,MAX($T$3:$T272)+1))","v":14},""]
[null,null,null,null,null,null,null,null,null,null,null,null,null,{"$f":"(IF(P274=\"\",\"\",MAX($N$3:$N273)+1))","v":271},330,"احمد271","ذكر",null,null,{"$f":"IF(N274=\"\",\"\",IF(ISERROR(MATCH($N274,$J:$J,0)),T273,MAX($T$3:$T273)+1))","v":14},""]
[null,null,null,null,null,null,null,null,null,null,null,null,null,{"$f":"(IF(P275=\"\",\"\",MAX($N$3:$N274)+1))","v":272},331,"احمد272","ذكر",null,null,{"$f":"IF(N275=\"\",\"\",IF(ISERROR(MATCH($N275,$J:$J,0)),T274,MAX($T$3:$T274)+1))","v":14},""]
[null,null,null,null,null,null,null,null,null,null,null,null,null,{"$f":"(IF(P276=\"\",\"\",MAX($N$3:$N275)+1))","v":273},332,"احمد273","ذكر",null,null,{"$f":"IF(N276=\"\",\"\",IF(ISERROR(MATCH($N276,$J:$J,0)),T275,MAX($T$3:$T275)+1))","v":14},""]
[null,null,null,null,null,null,null,null,null,null,null,null,null,{"$f":"(IF(P277=\"\",\"\",MAX($N$3:$N276)+1))","v":274},333,"احمد274","ذكر",null,null,{"$f":"IF(N277=\"\",\"\",IF(ISERROR(MATCH($N277,$J:$J,0)),T276,MAX($T$3:$T276)+1))","v":14},""]
[null,null,null,null,null,null,null,null,null,null,null,null,null,{"$f":"(IF(P278=\"\",\"\",MAX($N$3:$N277)+1))","v":275},334,"احمد275","ذكر",null,null,{"$f":"IF(N278=\"\",\"\",IF(ISERROR(MATCH($N278,$J:$J,0)),T277,MAX($T$3:$T277)+1))","v":14},""]
[null,null,null,null,null,null,null,null,null,null,null,null,null,{"$f":"(IF(P279=\"\",\"\",MAX($N$3:$N278)+1))","v":276},335,"احمد276","ذكر",null,null,{"$f":"IF(N279=\"\",\"\",IF(ISERROR(MATCH($N279,$J:$J,0)),T278,MAX($T$3:$T278)+1))","v":14},""]
[null,null,null,null,null,null,null,null,null,null,null,null,null,{"$f":"(IF(P280=\"\",\"\",MAX($N$3:$N279)+1))","v":277},336,"احمد277","ذكر",null,null,{"$f":"IF(N280=\"\",\"\",IF(ISERROR(MATCH($N280,$J:$J,0)),T279,MAX($T$3:$T279)+1))","v":14},""]
[null,null,null,null,null,null,null,null,null,null,null,null,null,{"$f":"(IF(P281=\"\",\"\",MAX($N$3:$N280)+1))","v":278},337,"احمد278","ذكر",null,null,{"$f":"IF(N281=\"\",\"\",IF(ISERROR(MATCH($N281,$J:$J,0)),T280,MAX($T$3:$T280)+1))","v":14},""]
[null,null,null,null,null,null,null,null,null,null,null,null,null,{"$f":"(IF(P282=\"\",\"\",MAX($N$3:$N281)+1))","v":279},338,"احمد279","ذكر",null,null,{"$f":"IF(N282=\"\",\"\",IF(ISERROR(MATCH($N282,$J:$J,0)),T281,MAX($T$3:$T281)+1))","v":14},""]
[null,null,null,null,null,null,null,null,null,null,null,null,null,{"$f":"(IF(P283=\"\",\"\",MAX($N$3:$N282)+1))","v":280},339,"احمد280","ذكر",null,null,{"$f":"IF(N283=\"\",\"\",IF(ISERROR(MATCH($N283,$J:$J,0)),T282,MAX($T$3:$T282)+1))","v":14},"نهاية اللجنة"]
[null,null,null,null,null,null,null,null,null,null,null,null,null,{"$f":"(IF(P284=\"\",\"\",MAX($N$3:$N283)+1))","v":281},340,"احمد281","ذكر",null,null,{"$f":"IF(N284=\"\",\"\",IF(ISERROR(MATCH($N284,$J:$J,0)),T283,MAX($T$3:$T283)+1))","v":15},""]
[null,null,null,null,null,null,null,null,null,null,null,null,null,{"$f":"(IF(P285=\"\",\"\",MAX($N$3:$N284)+1))","v":282},341,"احمد282","ذكر",null,null,{"$f":"IF(N285=\"\",\"\",IF(ISERROR(MATCH($N285,$J:$J,0)),T284,MAX($T$3:$T284)+1))","v":15},""]
[null,null,null,null,null,null,null,null,null,null,null,null,null,{"$f":"(IF(P286=\"\",\"\",MAX($N$3:$N285)+1))","v":283},342,"احمد283","ذكر",null,null,{"$f":"IF(N286=\"\",\"\",IF(ISERROR(MATCH($N286,$J:$J,0)),T285,MAX($T$3:$T285)+1))","v":15},""]
[null,null,null,null,null,null,null,null,null,null,null,null,null,{"$f":"(IF(P287=\"\",\"\",MAX($N$3:$N286)+1))","v":284},343,"احمد284","ذكر",null,null,{"$f":"IF(N287=\"\",\"\",IF(ISERROR(MATCH($N287,$J:$J,0)),T286,MAX($T$3:$T286)+1))","v":15},""]
[null,null,null,null,null,null,null,null,null,null,null,null,null,{"$f":"(IF(P288=\"\",\"\",MAX($N$3:$N287)+1))","v":285},344,"احمد285","ذكر",null,null,{"$f":"IF(N288=\"\",\"\",IF(ISERROR(MATCH($N288,$J:$J,0)),T287,MAX($T$3:$T287)+1))","v":15},""]
[null,null,null,null,null,null,null,null,null,null,null,null,null,{"$f":"(IF(P289=\"\",\"\",MAX($N$3:$N288)+1))","v":286},345,"احمد286","ذكر",null,null,{"$f":"IF(N289=\"\",\"\",IF(ISERROR(MATCH($N289,$J:$J,0)),T288,MAX($T$3:$T288)+1))","v":15},""]
[null,null,null,null,null,null,null,null,null,null,null,null,null,{"$f":"(IF(P290=\"\",\"\",MAX($N$3:$N289)+1))","v":287},346,"احمد287","ذكر",null,null,{"$f":"IF(N290=\"\",\"\",IF(ISERROR(MATCH($N290,$J:$J,0)),T289,MAX($T$3:$T289)+1))","v":15},""]
[null,null,null,null,null,null,null,null,null,null,null,null,null,{"$f":"(IF(P291=\"\",\"\",MAX($N$3:$N290)+1))","v":288},347,"احمد288","انثى",null,null,{"$f":"IF(N291=\"\",\"\",IF(ISERROR(MATCH($N291,$J:$J,0)),T290,MAX($T$3:$T290)+1))","v":15},""]
[null,null,null,null,null,null,null,null,null,null,null,null,null,{"$f":"(IF(P292=\"\",\"\",MAX($N$3:$N291)+1))","v":289},348,"احمد289","انثى",null,null,{"$f":"IF(N292=\"\",\"\",IF(ISERROR(MATCH($N292,$J:$J,0)),T291,MAX($T$3:$T291)+1))","v":15},""]
[null,null,null,null,null,null,null,null,null,null,null,null,null,{"$f":"(IF(P293=\"\",\"\",MAX($N$3:$N292)+1))","v":290},349,"احمد290","انثى",null,null,{"$f":"IF(N293=\"\",\"\",IF(ISERROR(MATCH($N293,$J:$J,0)),T292,MAX($T$3:$T292)+1))","v":15},""]
[null,null,null,null,null,null,null,null,null,null,null,null,null,{"$f":"(IF(P294=\"\",\"\",MAX($N$3:$N293)+1))","v":291},350,"احمد291","انثى",null,null,{"$f":"IF(N294=\"\",\"\",IF(ISERROR(MATCH($N294,$J:$J,0)),T293,MAX($T$3:$T293)+1))","v":15},""]
[null,null,null,null,null,null,null,null,null,null,null,null,null,{"$f":"(IF(P295=\"\",\"\",MAX($N$3:$N294)+1))","v":292},351,"احمد292","انثى",null,null,{"$f":"IF(N295=\"\",\"\",IF(ISERROR(MATCH($N295,$J:$J,0)),T294,MAX($T$3:$T294)+1))","v":15},""]
[null,null,null,null,null,null,null,null,null,null,null,null,null,{"$f":"(IF(P296=\"\",\"\",MAX($N$3:$N295)+1))","v":293},352,"احمد293","انثى",null,null,{"$f":"IF(N296=\"\",\"\",IF(ISERROR(MATCH($N296,$J:$J,0)),T295,MAX($T$3:$T295)+1))","v":15},""]
[null,null,null,null,null,null,null,null,null,null,null,null,null,{"$f":"(IF(P297=\"\",\"\",MAX($N$3:$N296)+1))","v":294},353,"احمد294","انثى",null,null,{"$f":"IF(N297=\"\",\"\",IF(ISERROR(MATCH($N297,$J:$J,0)),T296,MAX($T$3:$T296)+1))","v":15},""]
[null,null,null,null,null,null,null,null,null,null,null,null,null,{"$f":"(IF(P298=\"\",\"\",MAX($N$3:$N297)+1))","v":295},354,"احمد295","انثى",null,null,{"$f":"IF(N298=\"\",\"\",IF(ISERROR(MATCH($N298,$J:$J,0)),T297,MAX($T$3:$T297)+1))","v":15},""]
[null,null,null,null,null,null,null,null,null,null,null,null,null,{"$f":"(IF(P299=\"\",\"\",MAX($N$3:$N298)+1))","v":296},355,"احمد296","انثى",null,null,{"$f":"IF(N299=\"\",\"\",IF(ISERROR(MATCH($N299,$J:$J,0)),T298,MAX($T$3:$T298)+1))","v":15},""]
[null,null,null,null,null,null,null,null,null,null,null,null,null,{"$f":"(IF(P300=\"\",\"\",MAX($N$3:$N299)+1))","v":297},356,"احمد297","انثى",null,null,{"$f":"IF(N300=\"\",\"\",IF(ISERROR(MATCH($N300,$J:$J,0)),T299,MAX($T$3:$T299)+1))","v":15},""]
[null,null,null,null,null,null,null,null,null,null,null,null,null,{"$f":"(IF(P301=\"\",\"\",MAX($N$3:$N300)+1))","v":298},357,"احمد298","انثى",null,null,{"$f":"IF(N301=\"\",\"\",IF(ISERROR(MATCH($N301,$J:$J,0)),T300,MAX($T$3:$T300)+1))","v":15},""]
[null,null,null,null,null,null,null,null,null,null,null,null,null,{"$f":"(IF(P302=\"\",\"\",MAX($N$3:$N301)+1))","v":299},358,"احمد299","انثى",null,null,{"$f":"IF(N302=\"\",\"\",IF(ISERROR(MATCH($N302,$J:$J,0)),T301,MAX($T$3:$T301)+1))","v":15},""]
[null,null,null,null,null,null,null,null,null,null,null,null,null,{"$f":"(IF(P303=\"\",\"\",MAX($N$3:$N302)+1))","v":300},359,"احمد300","انثى",null,null,{"$f":"IF(N303=\"\",\"\",IF(ISERROR(MATCH($N303,$J:$J,0)),T302,MAX($T$3:$T302)+1))","v":15},"نهاية اللجنة"]
[null,null,null,null,null,null,null,null,null,null,null,null,null,{"$f":"(IF(P304=\"\",\"\",MAX($N$3:$N303)+1))","v":301},360,"احمد301","انثى",null,null,{"$f":"IF(N304=\"\",\"\",IF(ISERROR(MATCH($N304,$J:$J,0)),T303,MAX($T$3:$T303)+1))","v":16},""]
[null,null,null,null,null,null,null,null,null,null,null,null,null,{"$f":"(IF(P305=\"\",\"\",MAX($N$3:$N304)+1))","v":302},361,"احمد302","انثى",null,null,{"$f":"IF(N305=\"\",\"\",IF(ISERROR(MATCH($N305,$J:$J,0)),T304,MAX($T$3:$T304)+1))","v":16},""]
[null,null,null,null,null,null,null,null,null,null,null,null,null,{"$f":"(IF(P306=\"\",\"\",MAX($N$3:$N305)+1))","v":303},362,"احمد303","انثى",null,null,{"$f":"IF(N306=\"\",\"\",IF(ISERROR(MATCH($N306,$J:$J,0)),T305,MAX($T$3:$T305)+1))","v":16},""]
[null,null,null,null,null,null,null,null,null,null,null,null,null,{"$f":"(IF(P307=\"\",\"\",MAX($N$3:$N306)+1))","v":304},363,"احمد304","انثى",null,null,{"$f":"IF(N307=\"\",\"\",IF(ISERROR(MATCH($N307,$J:$J,0)),T306,MAX($T$3:$T306)+1))","v":16},""]
[null,null,null,null,null,null,null,null,null,null,null,null,null,{"$f":"(IF(P308=\"\",\"\",MAX($N$3:$N307)+1))","v":305},364,"احمد305","انثى",null,null,{"$f":"IF(N308=\"\",\"\",IF(ISERROR(MATCH($N308,$J:$J,0)),T307,MAX($T$3:$T307)+1))","v":16},""]
[null,null,null,null,null,null,null,null,null,null,null,null,null,{"$f":"(IF(P309=\"\",\"\",MAX($N$3:$N308)+1))","v":306},365,"احمد306","انثى",null,null,{"$f":"IF(N309=\"\",\"\",IF(ISERROR(MATCH($N309,$J:$J,0)),T308,MAX($T$3:$T308)+1))","v":16},""]
[null,null,null,null,null,null,null,null,null,null,null,null,null,{"$f":"(IF(P310=\"\",\"\",MAX($N$3:$N309)+1))","v":307},366,"احمد307","انثى",null,null,{"$f":"IF(N310=\"\",\"\",IF(ISERROR(MATCH($N310,$J:$J,0)),T309,MAX($T$3:$T309)+1))","v":16},""]
[null,null,null,null,null,null,null,null,null,null,null,null,null,{"$f":"(IF(P311=\"\",\"\",MAX($N$3:$N310)+1))","v":308},367,"احمد308","انثى",null,null,{"$f":"IF(N311=\"\",\"\",IF(ISERROR(MATCH($N311,$J:$J,0)),T310,MAX($T$3:$T310)+1))","v":16},""]
[null,null,null,null,null,null,null,null,null,null,null,null,null,{"$f":"(IF(P312=\"\",\"\",MAX($N$3:$N311)+1))","v":309},368,"احمد309","انثى",null,null,{"$f":"IF(N312=\"\",\"\",IF(ISERROR(MATCH($N312,$J:$J,0)),T311,MAX($T$3:$T311)+1))","v":16},""]
[null,null,null,null,null,null,null,null,null,null,null,null,null,{"$f":"(IF(P313=\"\",\"\",MAX($N$3:$N312)+1))","v":310},369,"احمد310","انثى",null,null,{"$f":"IF(N313=\"\",\"\",IF(ISERROR(MATCH($N313,$J:$J,0)),T312,MAX($T$3:$T312)+1))","v":16},""]
[null,null,null,null,null,null,null,null,null,null,null,null,null,{"$f":"(IF(P314=\"\",\"\",MAX($N$3:$N313)+1))","v":311},370,"احمد311","انثى",null,null,{"$f":"IF(N314=\"\",\"\",IF(ISERROR(MATCH($N314,$J:$J,0)),T313,MAX($T$3:$T313)+1))","v":16},""]
[null,null,null,null,null,null,null,null,null,null,null,null,null,{"$f":"(IF(P315=\"\",\"\",MAX($N$3:$N314)+1))","v":312},371,"احمد312","انثى",null,null,{"$f":"IF(N315=\"\",\"\",IF(ISERROR(MATCH($N315,$J:$J,0)),T314,MAX($T$3:$T314)+1))","v":16},""]
[null,null,null,null,null,null,null,null,null,null,null,null,null,{"$f":"(IF(P316=\"\",\"\",MAX($N$3:$N315)+1))","v":313},372,"احمد313","انثى",null,null,{"$f":"IF(N316=\"\",\"\",IF(ISERROR(MATCH($N316,$J:$J,0)),T315,MAX($T$3:$T315)+1))","v":16},""]
[null,null,null,null,null,null,null,null,null,null,null,null,null,{"$f":"(IF(P317=\"\",\"\",MAX($N$3:$N316)+1))","v":314},373,"احمد314","انثى",null,null,{"$f":"IF(N317=\"\",\"\",IF(ISERROR(MATCH($N317,$J:$J,0)),T316,MAX($T$3:$T316)+1))","v":16},""]
[null,null,null,null,null,null,null,null,null,null,null,null,null,{"$f":"(IF(P318=\"\",\"\",MAX($N$3:$N317)+1))","v":315},374,"احمد315","ذكر",null,null,{"$f":"IF(N318=\"\",\"\",IF(ISERROR(MATCH($N318,$J:$J,0)),T317,MAX($T$3:$T317)+1))","v":16},""]
[null,null,null,null,null,null,null,null,null,null,null,null,null,{"$f":"(IF(P319=\"\",\"\",MAX($N$3:$N318)+1))","v":316},375,"احمد316","ذكر",null,null,{"$f":"IF(N319=\"\",\"\",IF(ISERROR(MATCH($N319,$J:$J,0)),T318,MAX($T$3:$T318)+1))","v":16},""]
[null,null,null,null,null,null,null,null,null,null,null,null,null,{"$f":"(IF(P320=\"\",\"\",MAX($N$3:$N319)+1))","v":317},376,"احمد317","ذكر",null,null,{"$f":"IF(N320=\"\",\"\",IF(ISERROR(MATCH($N320,$J:$J,0)),T319,MAX($T$3:$T319)+1))","v":16},""]
[null,null,null,null,null,null,null,null,null,null,null,null,null,{"$f":"(IF(P321=\"\",\"\",MAX($N$3:$N320)+1))","v":318},377,"احمد318","ذكر",null,null,{"$f":"IF(N321=\"\",\"\",IF(ISERROR(MATCH($N321,$J:$J,0)),T320,MAX($T$3:$T320)+1))","v":16},""]
[null,null,null,null,null,null,null,null,null,null,null,null,null,{"$f":"(IF(P322=\"\",\"\",MAX($N$3:$N321)+1))","v":319},378,"احمد319","ذكر",null,null,{"$f":"IF(N322=\"\",\"\",IF(ISERROR(MATCH($N322,$J:$J,0)),T321,MAX($T$3:$T321)+1))","v":16},""]
[null,null,null,null,null,null,null,null,null,null,null,null,null,{"$f":"(IF(P323=\"\",\"\",MAX($N$3:$N322)+1))","v":320},379,"احمد320","ذكر",null,null,{"$f":"IF(N323=\"\",\"\",IF(ISERROR(MATCH($N323,$J:$J,0)),T322,MAX($T$3:$T322)+1))","v":16},"نهاية اللجنة"]
[null,null,null,null,null,null,null,null,null,null,null,null,null,{"$f":"(IF(P324=\"\",\"\",MAX($N$3:$N323)+1))","v":321},380,"احمد321","ذكر",null,null,{"$f":"IF(N324=\"\",\"\",IF(ISERROR(MATCH($N324,$J:$J,0)),T323,MAX($T$3:$T323)+1))","v":17},""]
[null,null,null,null,null,null,null,null,null,null,null,null,null,{"$f":"(IF(P325=\"\",\"\",MAX($N$3:$N324)+1))","v":322},381,"احمد322","ذكر",null,null,{"$f":"IF(N325=\"\",\"\",IF(ISERROR(MATCH($N325,$J:$J,0)),T324,MAX($T$3:$T324)+1))","v":17},{"$f":"IF(T325=T326,\"\",\"نهاية اللجنة\")","v":""}]
[null,null,null,null,null,null,null,null,null,null,null,null,null,{"$f":"(IF(P326=\"\",\"\",MAX($N$3:$N325)+1))","v":323},{"$f":"IF(P326=\"\",\"\",IF(O325+1>$M$2,\"\",O325+1))","v":382},"احمد323","ذكر",null,null,{"$f":"IF(N326=\"\",\"\",IF(ISERROR(MATCH($N326,$J:$J,0)),T325,MAX($T$3:$T325)+1))","v":17},""]
[null,null,null,null,null,null,null,null,null,null,null,null,null,{"$f":"(IF(P327=\"\",\"\",MAX($N$3:$N326)+1))","v":324},383,"احمد324","ذكر",null,null,{"$f":"IF(N327=\"\",\"\",IF(ISERROR(MATCH($N327,$J:$J,0)),T326,MAX($T$3:$T326)+1))","v":17},""]
[null,null,null,null,null,null,null,null,null,null,null,null,null,{"$f":"(IF(P328=\"\",\"\",MAX($N$3:$N327)+1))","v":325},384,"احمد325","ذكر",null,null,{"$f":"IF(N328=\"\",\"\",IF(ISERROR(MATCH($N328,$J:$J,0)),T327,MAX($T$3:$T327)+1))","v":17},""]
[null,null,null,null,null,null,null,null,null,null,null,null,null,{"$f":"(IF(P329=\"\",\"\",MAX($N$3:$N328)+1))","v":326},385,"احمد326","ذكر",null,null,{"$f":"IF(N329=\"\",\"\",IF(ISERROR(MATCH($N329,$J:$J,0)),T328,MAX($T$3:$T328)+1))","v":17},""]
[null,null,null,null,null,null,null,null,null,null,null,null,null,{"$f":"(IF(P330=\"\",\"\",MAX($N$3:$N329)+1))","v":327},386,"احمد327","ذكر",null,null,{"$f":"IF(N330=\"\",\"\",IF(ISERROR(MATCH($N330,$J:$J,0)),T329,MAX($T$3:$T329)+1))","v":17},""]
[null,null,null,null,null,null,null,null,null,null,null,null,null,{"$f":"(IF(P331=\"\",\"\",MAX($N$3:$N330)+1))","v":328},387,"احمد328","ذكر",null,null,{"$f":"IF(N331=\"\",\"\",IF(ISERROR(MATCH($N331,$J:$J,0)),T330,MAX($T$3:$T330)+1))","v":17},""]
[null,null,null,null,null,null,null,null,null,null,null,null,null,{"$f":"(IF(P332=\"\",\"\",MAX($N$3:$N331)+1))","v":329},388,"احمد329","ذكر",null,null,{"$f":"IF(N332=\"\",\"\",IF(ISERROR(MATCH($N332,$J:$J,0)),T331,MAX($T$3:$T331)+1))","v":17},""]
[null,null,null,null,null,null,null,null,null,null,null,null,null,{"$f":"(IF(P333=\"\",\"\",MAX($N$3:$N332)+1))","v":330},389,"احمد330","ذكر",null,null,{"$f":"IF(N333=\"\",\"\",IF(ISERROR(MATCH($N333,$J:$J,0)),T332,MAX($T$3:$T332)+1))","v":17},""]
[null,null,null,null,null,null,null,null,null,null,null,null,null,{"$f":"(IF(P334=\"\",\"\",MAX($N$3:$N333)+1))","v":331},390,"احمد331","ذكر",null,null,{"$f":"IF(N334=\"\",\"\",IF(ISERROR(MATCH($N334,$J:$J,0)),T333,MAX($T$3:$T333)+1))","v":17},""]
[null,null,null,null,null,null,null,null,null,null,null,null,null,{"$f":"(IF(P335=\"\",\"\",MAX($N$3:$N334)+1))","v":332},391,"احمد332","ذكر",null,null,{"$f":"IF(N335=\"\",\"\",IF(ISERROR(MATCH($N335,$J:$J,0)),T334,MAX($T$3:$T334)+1))","v":17},""]
[null,null,null,null,null,null,null,null,null,null,null,null,null,{"$f":"(IF(P336=\"\",\"\",MAX($N$3:$N335)+1))","v":333},392,"احمد333","ذكر",null,null,{"$f":"IF(N336=\"\",\"\",IF(ISERROR(MATCH($N336,$J:$J,0)),T335,MAX($T$3:$T335)+1))","v":17},""]
[null,null,null,null,null,null,null,null,null,null,null,null,null,{"$f":"(IF(P337=\"\",\"\",MAX($N$3:$N336)+1))","v":334},393,"احمد334","ذكر",null,null,{"$f":"IF(N337=\"\",\"\",IF(ISERROR(MATCH($N337,$J:$J,0)),T336,MAX($T$3:$T336)+1))","v":17},""]
[null,null,null,null,null,null,null,null,null,null,null,null,null,{"$f":"(IF(P338=\"\",\"\",MAX($N$3:$N337)+1))","v":335},394,"احمد335","ذكر",null,null,{"$f":"IF(N338=\"\",\"\",IF(ISERROR(MATCH($N338,$J:$J,0)),T337,MAX($T$3:$T337)+1))","v":17},""]
[null,null,null,null,null,null,null,null,null,null,null,null,null,{"$f":"(IF(P339=\"\",\"\",MAX($N$3:$N338)+1))","v":336},395,"احمد336","ذكر",null,null,{"$f":"IF(N339=\"\",\"\",IF(ISERROR(MATCH($N339,$J:$J,0)),T338,MAX($T$3:$T338)+1))","v":17},""]
[null,null,null,null,null,null,null,null,null,null,null,null,null,{"$f":"(IF(P340=\"\",\"\",MAX($N$3:$N339)+1))","v":337},396,"احمد337","ذكر",null,null,{"$f":"IF(N340=\"\",\"\",IF(ISERROR(MATCH($N340,$J:$J,0)),T339,MAX($T$3:$T339)+1))","v":17},""]
[null,null,null,null,null,null,null,null,null,null,null,null,null,{"$f":"(IF(P341=\"\",\"\",MAX($N$3:$N340)+1))","v":338},397,"احمد338","ذكر",null,null,{"$f":"IF(N341=\"\",\"\",IF(ISERROR(MATCH($N341,$J:$J,0)),T340,MAX($T$3:$T340)+1))","v":17},""]
[null,null,null,null,null,null,null,null,null,null,null,null,null,{"$f":"(IF(P342=\"\",\"\",MAX($N$3:$N341)+1))","v":339},398,"احمد339","ذكر",null,null,{"$f":"IF(N342=\"\",\"\",IF(ISERROR(MATCH($N342,$J:$J,0)),T341,MAX($T$3:$T341)+1))","v":17},""]
[null,null,null,null,null,null,null,null,null,null,null,null,null,{"$f":"(IF(P343=\"\",\"\",MAX($N$3:$N342)+1))","v":340},399,"احمد340","ذكر",null,null,{"$f":"IF(N343=\"\",\"\",IF(ISERROR(MATCH($N343,$J:$J,0)),T342,MAX($T$3:$T342)+1))","v":17},"نهاية اللجنة"]
[null,null,null,null,null,null,null,null,null,null,null,null,null,{"$f":"(IF(P344=\"\",\"\",MAX($N$3:$N343)+1))","v":341},400,"احمد341","ذكر",null,null,{"$f":"IF(N344=\"\",\"\",IF(ISERROR(MATCH($N344,$J:$J,0)),T343,MAX($T$3:$T343)+1))","v":18},""]
[null,null,null,null,null,null,null,null,null,null,null,null,null,{"$f":"(IF(P345=\"\",\"\",MAX($N$3:$N344)+1))","v":342},401,"احمد342","ذكر",null,null,{"$f":"IF(N345=\"\",\"\",IF(ISERROR(MATCH($N345,$J:$J,0)),T344,MAX($T$3:$T344)+1))","v":18},""]
[null,null,null,null,null,null,null,null,null,null,null,null,null,{"$f":"(IF(P346=\"\",\"\",MAX($N$3:$N345)+1))","v":343},402,"احمد343","ذكر",null,null,{"$f":"IF(N346=\"\",\"\",IF(ISERROR(MATCH($N346,$J:$J,0)),T345,MAX($T$3:$T345)+1))","v":18},""]
[null,null,null,null,null,null,null,null,null,null,null,null,null,{"$f":"(IF(P347=\"\",\"\",MAX($N$3:$N346)+1))","v":344},403,"احمد344","ذكر",null,null,{"$f":"IF(N347=\"\",\"\",IF(ISERROR(MATCH($N347,$J:$J,0)),T346,MAX($T$3:$T346)+1))","v":18},""]
[null,null,null,null,null,null,null,null,null,null,null,null,null,{"$f":"(IF(P348=\"\",\"\",MAX($N$3:$N347)+1))","v":345},404,"احمد345","ذكر",null,null,{"$f":"IF(N348=\"\",\"\",IF(ISERROR(MATCH($N348,$J:$J,0)),T347,MAX($T$3:$T347)+1))","v":18},""]
[null,null,null,null,null,null,null,null,null,null,null,null,null,{"$f":"(IF(P349=\"\",\"\",MAX($N$3:$N348)+1))","v":346},405,"احمد346","ذكر",null,null,{"$f":"IF(N349=\"\",\"\",IF(ISERROR(MATCH($N349,$J:$J,0)),T348,MAX($T$3:$T348)+1))","v":18},""]
[null,null,null,null,null,null,null,null,null,null,null,null,null,{"$f":"(IF(P350=\"\",\"\",MAX($N$3:$N349)+1))","v":347},406,"احمد347","ذكر",null,null,{"$f":"IF(N350=\"\",\"\",IF(ISERROR(MATCH($N350,$J:$J,0)),T349,MAX($T$3:$T349)+1))","v":18},""]
[null,null,null,null,null,null,null,null,null,null,null,null,null,{"$f":"(IF(P351=\"\",\"\",MAX($N$3:$N350)+1))","v":348},407,"احمد348","انثى",null,null,{"$f":"IF(N351=\"\",\"\",IF(ISERROR(MATCH($N351,$J:$J,0)),T350,MAX($T$3:$T350)+1))","v":18},""]
[null,null,null,null,null,null,null,null,null,null,null,null,null,{"$f":"(IF(P352=\"\",\"\",MAX($N$3:$N351)+1))","v":349},408,"احمد349","انثى",null,null,{"$f":"IF(N352=\"\",\"\",IF(ISERROR(MATCH($N352,$J:$J,0)),T351,MAX($T$3:$T351)+1))","v":18},""]
[null,null,null,null,null,null,null,null,null,null,null,null,null,{"$f":"(IF(P353=\"\",\"\",MAX($N$3:$N352)+1))","v":350},409,"احمد350","انثى",null,null,{"$f":"IF(N353=\"\",\"\",IF(ISERROR(MATCH($N353,$J:$J,0)),T352,MAX($T$3:$T352)+1))","v":18},""]
[null,null,null,null,null,null,null,null,null,null,null,null,null,{"$f":"(IF(P354=\"\",\"\",MAX($N$3:$N353)+1))","v":351},410,"احمد351","انثى",null,null,{"$f":"IF(N354=\"\",\"\",IF(ISERROR(MATCH($N354,$J:$J,0)),T353,MAX($T$3:$T353)+1))","v":18},""]
[null,null,null,null,null,null,null,null,null,null,null,null,null,{"$f":"(IF(P355=\"\",\"\",MAX($N$3:$N354)+1))","v":352},411,"احمد352","انثى",null,null,{"$f":"IF(N355=\"\",\"\",IF(ISERROR(MATCH($N355,$J:$J,0)),T354,MAX($T$3:$T354)+1))","v":18},""]
[null,null,null,null,null,null,null,null,null,null,null,null,null,{"$f":"(IF(P356=\"\",\"\",MAX($N$3:$N355)+1))","v":353},412,"احمد353","انثى",null,null,{"$f":"IF(N356=\"\",\"\",IF(ISERROR(MATCH($N356,$J:$J,0)),T355,MAX($T$3:$T355)+1))","v":18},""]
[null,null,null,null,null,null,null,null,null,null,null,null,null,{"$f":"(IF(P357=\"\",\"\",MAX($N$3:$N356)+1))","v":354},413,"احمد354","انثى",null,null,{"$f":"IF(N357=\"\",\"\",IF(ISERROR(MATCH($N357,$J:$J,0)),T356,MAX($T$3:$T356)+1))","v":18},""]
[null,null,null,null,null,null,null,null,null,null,null,null,null,{"$f":"(IF(P358=\"\",\"\",MAX($N$3:$N357)+1))","v":355},414,"احمد355","انثى",null,null,{"$f":"IF(N358=\"\",\"\",IF(ISERROR(MATCH($N358,$J:$J,0)),T357,MAX($T$3:$T357)+1))","v":18},""]
[null,null,null,null,null,null,null,null,null,null,null,null,null,{"$f":"(IF(P359=\"\",\"\",MAX($N$3:$N358)+1))","v":356},415,"احمد356","انثى",null,null,{"$f":"IF(N359=\"\",\"\",IF(ISERROR(MATCH($N359,$J:$J,0)),T358,MAX($T$3:$T358)+1))","v":18},""]
[null,null,null,null,null,null,null,null,null,null,null,null,null,{"$f":"(IF(P360=\"\",\"\",MAX($N$3:$N359)+1))","v":357},416,"احمد357","انثى",null,null,{"$f":"IF(N360=\"\",\"\",IF(ISERROR(MATCH($N360,$J:$J,0)),T359,MAX($T$3:$T359)+1))","v":18},""]
[null,null,null,null,null,null,null,null,null,null,null,null,null,{"$f":"(IF(P361=\"\",\"\",MAX($N$3:$N360)+1))","v":358},417,"احمد358","انثى",null,null,{"$f":"IF(N361=\"\",\"\",IF(ISERROR(MATCH($N361,$J:$J,0)),T360,MAX($T$3:$T360)+1))","v":18},""]
[null,null,null,null,null,null,null,null,null,null,null,null,null,{"$f":"(IF(P362=\"\",\"\",MAX($N$3:$N361)+1))","v":359},418,"احمد359","انثى",null,null,{"$f":"IF(N362=\"\",\"\",IF(ISERROR(MATCH($N362,$J:$J,0)),T361,MAX($T$3:$T361)+1))","v":18},""]
[null,null,null,null,null,null,null,null,null,null,null,null,null,{"$f":"(IF(P363=\"\",\"\",MAX($N$3:$N362)+1))","v":360},419,"احمد360","انثى",null,null,{"$f":"IF(N363=\"\",\"\",IF(ISERROR(MATCH($N363,$J:$J,0)),T362,MAX($T$3:$T362)+1))","v":18},"نهاية اللجنة"]
[null,null,null,null,null,null,null,null,null,null,null,null,null,{"$f":"(IF(P364=\"\",\"\",MAX($N$3:$N363)+1))","v":361},420,"احمد361","انثى",null,null,{"$f":"IF(N364=\"\",\"\",IF(ISERROR(MATCH($N364,$J:$J,0)),T363,MAX($T$3:$T363)+1))","v":19},""]
[null,null,null,null,null,null,null,null,null,null,null,null,null,{"$f":"(IF(P365=\"\",\"\",MAX($N$3:$N364)+1))","v":362},421,"احمد362","انثى",null,null,{"$f":"IF(N365=\"\",\"\",IF(ISERROR(MATCH($N365,$J:$J,0)),T364,MAX($T$3:$T364)+1))","v":19},""]
[null,null,null,null,null,null,null,null,null,null,null,null,null,{"$f":"(IF(P366=\"\",\"\",MAX($N$3:$N365)+1))","v":363},422,"احمد363","انثى",null,null,{"$f":"IF(N366=\"\",\"\",IF(ISERROR(MATCH($N366,$J:$J,0)),T365,MAX($T$3:$T365)+1))","v":19},""]
[null,null,null,null,null,null,null,null,null,null,null,null,null,{"$f":"(IF(P367=\"\",\"\",MAX($N$3:$N366)+1))","v":364},423,"احمد364","انثى",null,null,{"$f":"IF(N367=\"\",\"\",IF(ISERROR(MATCH($N367,$J:$J,0)),T366,MAX($T$3:$T366)+1))","v":19},""]
[null,null,null,null,null,null,null,null,null,null,null,null,null,{"$f":"(IF(P368=\"\",\"\",MAX($N$3:$N367)+1))","v":365},424,"احمد365","انثى",null,null,{"$f":"IF(N368=\"\",\"\",IF(ISERROR(MATCH($N368,$J:$J,0)),T367,MAX($T$3:$T367)+1))","v":19},""]
[null,null,null,null,null,null,null,null,null,null,null,null,null,{"$f":"(IF(P369=\"\",\"\",MAX($N$3:$N368)+1))","v":366},425,"احمد366","انثى",null,null,{"$f":"IF(N369=\"\",\"\",IF(ISERROR(MATCH($N369,$J:$J,0)),T368,MAX($T$3:$T368)+1))","v":19},""]
[null,null,null,null,null,null,null,null,null,null,null,null,null,{"$f":"(IF(P370=\"\",\"\",MAX($N$3:$N369)+1))","v":367},426,"احمد367","انثى",null,null,{"$f":"IF(N370=\"\",\"\",IF(ISERROR(MATCH($N370,$J:$J,0)),T369,MAX($T$3:$T369)+1))","v":19},""]
[null,null,null,null,null,null,null,null,null,null,null,null,null,{"$f":"(IF(P371=\"\",\"\",MAX($N$3:$N370)+1))","v":368},427,"احمد368","انثى",null,null,{"$f":"IF(N371=\"\",\"\",IF(ISERROR(MATCH($N371,$J:$J,0)),T370,MAX($T$3:$T370)+1))","v":19},""]
[null,null,null,null,null,null,null,null,null,null,null,null,null,{"$f":"(IF(P372=\"\",\"\",MAX($N$3:$N371)+1))","v":369},428,"احمد369","انثى",null,null,{"$f":"IF(N372=\"\",\"\",IF(ISERROR(MATCH($N372,$J:$J,0)),T371,MAX($T$3:$T371)+1))","v":19},""]
[null,null,null,null,null,null,null,null,null,null,null,null,null,{"$f":"(IF(P373=\"\",\"\",MAX($N$3:$N372)+1))","v":370},429,"احمد370","انثى",null,null,{"$f":"IF(N373=\"\",\"\",IF(ISERROR(MATCH($N373,$J:$J,0)),T372,MAX($T$3:$T372)+1))","v":19},""]
[null,null,null,null,null,null,null,null,null,null,null,null,null,{"$f":"(IF(P374=\"\",\"\",MAX($N$3:$N373)+1))","v":371},430,"احمد371","انثى",null,null,{"$f":"IF(N374=\"\",\"\",IF(ISERROR(MATCH($N374,$J:$J,0)),T373,MAX($T$3:$T373)+1))","v":19},""]
[null,null,null,null,null,null,null,null,null,null,null,null,null,{"$f":"(IF(P375=\"\",\"\",MAX($N$3:$N374)+1))","v":372},431,"احمد372","انثى",null,null,{"$f":"IF(N375=\"\",\"\",IF(ISERROR(MATCH($N375,$J:$J,0)),T374,MAX($T$3:$T374)+1))","v":19},""]
[null,null,null,null,null,null,null,null,null,null,null,null,null,{"$f":"(IF(P376=\"\",\"\",MAX($N$3:$N375)+1))","v":373},432,"احمد373","انثى",null,null,{"$f":"IF(N376=\"\",\"\",IF(ISERROR(MATCH($N376,$J:$J,0)),T375,MAX($T$3:$T375)+1))","v":19},""]
[null,null,null,null,null,null,null,null,null,null,null,null,null,{"$f":"(IF(P377=\"\",\"\",MAX($N$3:$N376)+1))","v":374},433,"احمد374","انثى",null,null,{"$f":"IF(N377=\"\",\"\",IF(ISERROR(MATCH($N377,$J:$J,0)),T376,MAX($T$3:$T376)+1))","v":19},""]
[null,null,null,null,null,null,null,null,null,null,null,null,null,{"$f":"(IF(P378=\"\",\"\",MAX($N$3:$N377)+1))","v":375},434,"احمد375","ذكر",null,null,{"$f":"IF(N378=\"\",\"\",IF(ISERROR(MATCH($N378,$J:$J,0)),T377,MAX($T$3:$T377)+1))","v":19},""]
[null,null,null,null,null,null,null,null,null,null,null,null,null,{"$f":"(IF(P379=\"\",\"\",MAX($N$3:$N378)+1))","v":376},435,"احمد376","ذكر",null,null,{"$f":"IF(N379=\"\",\"\",IF(ISERROR(MATCH($N379,$J:$J,0)),T378,MAX($T$3:$T378)+1))","v":19},""]
[null,null,null,null,null,null,null,null,null,null,null,null,null,{"$f":"(IF(P380=\"\",\"\",MAX($N$3:$N379)+1))","v":377},436,"احمد377","ذكر",null,null,{"$f":"IF(N380=\"\",\"\",IF(ISERROR(MATCH($N380,$J:$J,0)),T379,MAX($T$3:$T379)+1))","v":19},""]
[null,null,null,null,null,null,null,null,null,null,null,null,null,{"$f":"(IF(P381=\"\",\"\",MAX($N$3:$N380)+1))","v":378},437,"احمد378","ذكر",null,null,{"$f":"IF(N381=\"\",\"\",IF(ISERROR(MATCH($N381,$J:$J,0)),T380,MAX($T$3:$T380)+1))","v":19},""]
[null,null,null,null,null,null,null,null,null,null,null,null,null,{"$f":"(IF(P382=\"\",\"\",MAX($N$3:$N381)+1))","v":379},438,"احمد379","ذكر",null,null,{"$f":"IF(N382=\"\",\"\",IF(ISERROR(MATCH($N382,$J:$J,0)),T381,MAX($T$3:$T381)+1))","v":19},""]
[null,null,null,null,null,null,null,null,null,null,null,null,null,{"$f":"(IF(P383=\"\",\"\",MAX($N$3:$N382)+1))","v":380},439,"احمد380","ذكر",null,null,{"$f":"IF(N383=\"\",\"\",IF(ISERROR(MATCH($N383,$J:$J,0)),T382,MAX($T$3:$T382)+1))","v":19},"نهاية اللجنة"]
[null,null,null,null,null,null,null,null,null,null,null,null,null,{"$f":"(IF(P384=\"\",\"\",MAX($N$3:$N383)+1))","v":381},440,"احمد381",null,null,null,{"$f":"IF(N384=\"\",\"\",IF(ISERROR(MATCH($N384,$J:$J,0)),T383,MAX($T$3:$T383)+1))","v":20},""]
[null,null,null,null,null,null,null,null,null,null,null,null,null,{"$f":"(IF(P385=\"\",\"\",MAX($N$3:$N384)+1))","v":382},441,"احمد382",null,null,null,{"$f":"IF(N385=\"\",\"\",IF(ISERROR(MATCH($N385,$J:$J,0)),T384,MAX($T$3:$T384)+1))","v":20},""]
[null,null,null,null,null,null,null,null,null,null,null,null,null,{"$f":"(IF(P386=\"\",\"\",MAX($N$3:$N385)+1))","v":383},442,"احمد383",null,null,null,{"$f":"IF(N386=\"\",\"\",IF(ISERROR(MATCH($N386,$J:$J,0)),T385,MAX($T$3:$T385)+1))","v":20},""]
[null,null,null,null,null,null,null,null,null,null,null,null,null,{"$f":"(IF(P387=\"\",\"\",MAX($N$3:$N386)+1))","v":384},443,"احمد384",null,null,null,{"$f":"IF(N387=\"\",\"\",IF(ISERROR(MATCH($N387,$J:$J,0)),T386,MAX($T$3:$T386)+1))","v":20},""]
[null,null,null,null,null,null,null,null,null,null,null,null,null,{"$f":"(IF(P388=\"\",\"\",MAX($N$3:$N387)+1))","v":385},444,"احمد385",null,null,null,{"$f":"IF(N388=\"\",\"\",IF(ISERROR(MATCH($N388,$J:$J,0)),T387,MAX($T$3:$T387)+1))","v":20},""]
[null,null,null,null,null,null,null,null,null,null,null,null,null,{"$f":"(IF(P389=\"\",\"\",MAX($N$3:$N388)+1))","v":386},445,"احمد386",null,null,null,{"$f":"IF(N389=\"\",\"\",IF(ISERROR(MATCH($N389,$J:$J,0)),T388,MAX($T$3:$T388)+1))","v":20},{"$f":"IF(T389=T390,\"\",\"نهاية اللجنة\")","v":""}]
[null,null,null,null,null,null,null,null,null,null,null,null,null,{"$f":"(IF(P390=\"\",\"\",MAX($N$3:$N389)+1))","v":387},{"$f":"IF(P390=\"\",\"\",IF(O389+1>$M$2,\"\",O389+1))","v":446},"احمد387",null,null,null,{"$f":"IF(N390=\"\",\"\",IF(ISERROR(MATCH($N390,$J:$J,0)),T389,MAX($T$3:$T389)+1))","v":20},""]
[null,null,null,null,null,null,null,null,null,null,null,null,null,{"$f":"(IF(P391=\"\",\"\",MAX($N$3:$N390)+1))","v":388},447,"احمد388",null,null,null,{"$f":"IF(N391=\"\",\"\",IF(ISERROR(MATCH($N391,$J:$J,0)),T390,MAX($T$3:$T390)+1))","v":20},""]
[null,null,null,null,null,null,null,null,null,null,null,null,null,{"$f":"(IF(P392=\"\",\"\",MAX($N$3:$N391)+1))","v":389},448,"احمد389",null,null,null,{"$f":"IF(N392=\"\",\"\",IF(ISERROR(MATCH($N392,$J:$J,0)),T391,MAX($T$3:$T391)+1))","v":20},""]
[null,null,null,null,null,null,null,null,null,null,null,null,null,{"$f":"(IF(P393=\"\",\"\",MAX($N$3:$N392)+1))","v":390},449,"احمد390",null,null,null,{"$f":"IF(N393=\"\",\"\",IF(ISERROR(MATCH($N393,$J:$J,0)),T392,MAX($T$3:$T392)+1))","v":20},""]
[null,null,null,null,null,null,null,null,null,null,null,null,null,{"$f":"(IF(P394=\"\",\"\",MAX($N$3:$N393)+1))","v":391},450,"احمد391",null,null,null,{"$f":"IF(N394=\"\",\"\",IF(ISERROR(MATCH($N394,$J:$J,0)),T393,MAX($T$3:$T393)+1))","v":20},""]
[null,null,null,null,null,null,null,null,null,null,null,null,null,{"$f":"(IF(P395=\"\",\"\",MAX($N$3:$N394)+1))","v":392},451,"احمد392",null,null,null,{"$f":"IF(N395=\"\",\"\",IF(ISERROR(MATCH($N395,$J:$J,0)),T394,MAX($T$3:$T394)+1))","v":20},""]
[null,null,null,null,null,null,null,null,null,null,null,null,null,{"$f":"(IF(P396=\"\",\"\",MAX($N$3:$N395)+1))","v":393},452,"احمد393",null,null,null,{"$f":"IF(N396=\"\",\"\",IF(ISERROR(MATCH($N396,$J:$J,0)),T395,MAX($T$3:$T395)+1))","v":20},""]
[null,null,null,null,null,null,null,null,null,null,null,null,null,{"$f":"(IF(P397=\"\",\"\",MAX($N$3:$N396)+1))","v":394},453,"احمد394",null,null,null,{"$f":"IF(N397=\"\",\"\",IF(ISERROR(MATCH($N397,$J:$J,0)),T396,MAX($T$3:$T396)+1))","v":20},""]
[null,null,null,null,null,null,null,null,null,null,null,null,null,{"$f":"(IF(P398=\"\",\"\",MAX($N$3:$N397)+1))","v":395},454,"احمد395",null,null,null,{"$f":"IF(N398=\"\",\"\",IF(ISERROR(MATCH($N398,$J:$J,0)),T397,MAX($T$3:$T397)+1))","v":20},""]
[null,null,null,null,null,null,null,null,null,null,null,null,null,{"$f":"(IF(P399=\"\",\"\",MAX($N$3:$N398)+1))","v":396},455,"احمد396",null,null,null,{"$f":"IF(N399=\"\",\"\",IF(ISERROR(MATCH($N399,$J:$J,0)),T398,MAX($T$3:$T398)+1))","v":20},""]
[null,null,null,null,null,null,null,null,null,null,null,null,null,{"$f":"(IF(P400=\"\",\"\",MAX($N$3:$N399)+1))","v":397},456,"احمد397",null,null,null,{"$f":"IF(N400=\"\",\"\",IF(ISERROR(MATCH($N400,$J:$J,0)),T399,MAX($T$3:$T399)+1))","v":20},""]
[null,null,null,null,null,null,null,null,null,null,null,null,null,{"$f":"(IF(P401=\"\",\"\",MAX($N$3:$N400)+1))","v":398},457,"احمد398",null,null,null,{"$f":"IF(N401=\"\",\"\",IF(ISERROR(MATCH($N401,$J:$J,0)),T400,MAX($T$3:$T400)+1))","v":20},""]
[null,null,null,null,null,null,null,null,null,null,null,null,null,{"$f":"(IF(P402=\"\",\"\",MAX($N$3:$N401)+1))","v":399},458,"احمد399",null,null,null,{"$f":"IF(N402=\"\",\"\",IF(ISERROR(MATCH($N402,$J:$J,0)),T401,MAX($T$3:$T401)+1))","v":20},""]
[null,null,null,null,null,null,null,null,null,null,null,null,null,{"$f":"(IF(P403=\"\",\"\",MAX($N$3:$N402)+1))","v":400},459,"احمد400",null,null,null,{"$f":"IF(N403=\"\",\"\",IF(ISERROR(MATCH($N403,$J:$J,0)),T402,MAX($T$3:$T402)+1))","v":20},"نهاية اللجنة"]
[null,null,null,null,null,null,null,null,null,null,null,null,null,{"$f":"(IF(P404=\"\",\"\",MAX($N$3:$N403)+1))","v":401},460,"احمد401",null,null,null,{"$f":"IF(N404=\"\",\"\",IF(ISERROR(MATCH($N404,$J:$J,0)),T403,MAX($T$3:$T403)+1))","v":21},""]
[null,null,null,null,null,null,null,null,null,null,null,null,null,{"$f":"(IF(P405=\"\",\"\",MAX($N$3:$N404)+1))","v":402},461,"احمد402",null,null,null,{"$f":"IF(N405=\"\",\"\",IF(ISERROR(MATCH($N405,$J:$J,0)),T404,MAX($T$3:$T404)+1))","v":21},""]
[null,null,null,null,null,null,null,null,null,null,null,null,null,{"$f":"(IF(P406=\"\",\"\",MAX($N$3:$N405)+1))","v":403},462,"احمد403",null,null,null,{"$f":"IF(N406=\"\",\"\",IF(ISERROR(MATCH($N406,$J:$J,0)),T405,MAX($T$3:$T405)+1))","v":21},""]
[null,null,null,null,null,null,null,null,null,null,null,null,null,{"$f":"(IF(P407=\"\",\"\",MAX($N$3:$N406)+1))","v":404},463,"احمد404",null,null,null,{"$f":"IF(N407=\"\",\"\",IF(ISERROR(MATCH($N407,$J:$J,0)),T406,MAX($T$3:$T406)+1))","v":21},""]
[null,null,null,null,null,null,null,null,null,null,null,null,null,{"$f":"(IF(P408=\"\",\"\",MAX($N$3:$N407)+1))","v":405},464,"احمد405",null,null,null,{"$f":"IF(N408=\"\",\"\",IF(ISERROR(MATCH($N408,$J:$J,0)),T407,MAX($T$3:$T407)+1))","v":21},""]
[null,null,null,null,null,null,null,null,null,null,null,null,null,{"$f":"(IF(P409=\"\",\"\",MAX($N$3:$N408)+1))","v":406},465,"احمد406",null,null,null,{"$f":"IF(N409=\"\",\"\",IF(ISERROR(MATCH($N409,$J:$J,0)),T408,MAX($T$3:$T408)+1))","v":21},""]
[null,null,null,null,null,null,null,null,null,null,null,null,null,{"$f":"(IF(P410=\"\",\"\",MAX($N$3:$N409)+1))","v":407},466,"احمد407",null,null,null,{"$f":"IF(N410=\"\",\"\",IF(ISERROR(MATCH($N410,$J:$J,0)),T409,MAX($T$3:$T409)+1))","v":21},""]
[null,null,null,null,null,null,null,null,null,null,null,null,null,{"$f":"(IF(P411=\"\",\"\",MAX($N$3:$N410)+1))","v":408},467,"احمد408",null,null,null,{"$f":"IF(N411=\"\",\"\",IF(ISERROR(MATCH($N411,$J:$J,0)),T410,MAX($T$3:$T410)+1))","v":21},""]
[null,null,null,null,null,null,null,null,null,null,null,null,null,{"$f":"(IF(P412=\"\",\"\",MAX($N$3:$N411)+1))","v":409},468,"احمد409",null,null,null,{"$f":"IF(N412=\"\",\"\",IF(ISERROR(MATCH($N412,$J:$J,0)),T411,MAX($T$3:$T411)+1))","v":21},""]
[null,null,null,null,null,null,null,null,null,null,null,null,null,{"$f":"(IF(P413=\"\",\"\",MAX($N$3:$N412)+1))","v":410},469,"احمد410",null,null,null,{"$f":"IF(N413=\"\",\"\",IF(ISERROR(MATCH($N413,$J:$J,0)),T412,MAX($T$3:$T412)+1))","v":21},""]
[null,null,null,null,null,null,null,null,null,null,null,null,null,{"$f":"(IF(P414=\"\",\"\",MAX($N$3:$N413)+1))","v":411},470,"احمد411",null,null,null,{"$f":"IF(N414=\"\",\"\",IF(ISERROR(MATCH($N414,$J:$J,0)),T413,MAX($T$3:$T413)+1))","v":21},""]
[null,null,null,null,null,null,null,null,null,null,null,null,null,{"$f":"(IF(P415=\"\",\"\",MAX($N$3:$N414)+1))","v":412},471,"احمد412",null,null,null,{"$f":"IF(N415=\"\",\"\",IF(ISERROR(MATCH($N415,$J:$J,0)),T414,MAX($T$3:$T414)+1))","v":21},""]
[null,null,null,null,null,null,null,null,null,null,null,null,null,{"$f":"(IF(P416=\"\",\"\",MAX($N$3:$N415)+1))","v":413},472,"احمد413",null,null,null,{"$f":"IF(N416=\"\",\"\",IF(ISERROR(MATCH($N416,$J:$J,0)),T415,MAX($T$3:$T415)+1))","v":21},""]
[null,null,null,null,null,null,null,null,null,null,null,null,null,{"$f":"(IF(P417=\"\",\"\",MAX($N$3:$N416)+1))","v":414},473,"احمد414",null,null,null,{"$f":"IF(N417=\"\",\"\",IF(ISERROR(MATCH($N417,$J:$J,0)),T416,MAX($T$3:$T416)+1))","v":21},""]
[null,null,null,null,null,null,null,null,null,null,null,null,null,{"$f":"(IF(P418=\"\",\"\",MAX($N$3:$N417)+1))","v":415},474,"احمد415",null,null,null,{"$f":"IF(N418=\"\",\"\",IF(ISERROR(MATCH($N418,$J:$J,0)),T417,MAX($T$3:$T417)+1))","v":21},""]
[null,null,null,null,null,null,null,null,null,null,null,null,null,{"$f":"(IF(P419=\"\",\"\",MAX($N$3:$N418)+1))","v":416},475,"احمد416",null,null,null,{"$f":"IF(N419=\"\",\"\",IF(ISERROR(MATCH($N419,$J:$J,0)),T418,MAX($T$3:$T418)+1))","v":21},""]
[null,null,null,null,null,null,null,null,null,null,null,null,null,{"$f":"(IF(P420=\"\",\"\",MAX($N$3:$N419)+1))","v":417},476,"احمد417",null,null,null,{"$f":"IF(N420=\"\",\"\",IF(ISERROR(MATCH($N420,$J:$J,0)),T419,MAX($T$3:$T419)+1))","v":21},""]
[null,null,null,null,null,null,null,null,null,null,null,null,null,{"$f":"(IF(P421=\"\",\"\",MAX($N$3:$N420)+1))","v":418},477,"احمد418",null,null,null,{"$f":"IF(N421=\"\",\"\",IF(ISERROR(MATCH($N421,$J:$J,0)),T420,MAX($T$3:$T420)+1))","v":21},""]
[null,null,null,null,null,null,null,null,null,null,null,null,null,{"$f":"(IF(P422=\"\",\"\",MAX($N$3:$N421)+1))","v":419},478,"احمد419",null,null,null,{"$f":"IF(N422=\"\",\"\",IF(ISERROR(MATCH($N422,$J:$J,0)),T421,MAX($T$3:$T421)+1))","v":21},""]
[null,null,null,null,null,null,null,null,null,null,null,null,null,{"$f":"(IF(P423=\"\",\"\",MAX($N$3:$N422)+1))","v":420},479,"احمد420",null,null,null,{"$f":"IF(N423=\"\",\"\",IF(ISERROR(MATCH($N423,$J:$J,0)),T422,MAX($T$3:$T422)+1))","v":21},"نهاية اللجنة"]
[null,null,null,null,null,null,null,null,null,null,null,null,null,{"$f":"(IF(P424=\"\",\"\",MAX($N$3:$N423)+1))","v":421},480,"احمد421",null,null,null,{"$f":"IF(N424=\"\",\"\",IF(ISERROR(MATCH($N424,$J:$J,0)),T423,MAX($T$3:$T423)+1))","v":22},""]
[null,null,null,null,null,null,null,null,null,null,null,null,null,{"$f":"(IF(P425=\"\",\"\",MAX($N$3:$N424)+1))","v":422},481,"احمد422",null,null,null,{"$f":"IF(N425=\"\",\"\",IF(ISERROR(MATCH($N425,$J:$J,0)),T424,MAX($T$3:$T424)+1))","v":22},""]
[null,null,null,null,null,null,null,null,null,null,null,null,null,{"$f":"(IF(P426=\"\",\"\",MAX($N$3:$N425)+1))","v":423},482,"احمد423",null,null,null,{"$f":"IF(N426=\"\",\"\",IF(ISERROR(MATCH($N426,$J:$J,0)),T425,MAX($T$3:$T425)+1))","v":22},""]
[null,null,null,null,null,null,null,null,null,null,null,null,null,{"$f":"(IF(P427=\"\",\"\",MAX($N$3:$N426)+1))","v":424},483,"احمد424",null,null,null,{"$f":"IF(N427=\"\",\"\",IF(ISERROR(MATCH($N427,$J:$J,0)),T426,MAX($T$3:$T426)+1))","v":22},""]
[null,null,null,null,null,null,null,null,null,null,null,null,null,{"$f":"(IF(P428=\"\",\"\",MAX($N$3:$N427)+1))","v":425},484,"احمد425",null,null,null,{"$f":"IF(N428=\"\",\"\",IF(ISERROR(MATCH($N428,$J:$J,0)),T427,MAX($T$3:$T427)+1))","v":22},""]
[null,null,null,null,null,null,null,null,null,null,null,null,null,{"$f":"(IF(P429=\"\",\"\",MAX($N$3:$N428)+1))","v":426},485,"احمد426",null,null,null,{"$f":"IF(N429=\"\",\"\",IF(ISERROR(MATCH($N429,$J:$J,0)),T428,MAX($T$3:$T428)+1))","v":22},""]
[null,null,null,null,null,null,null,null,null,null,null,null,null,{"$f":"(IF(P430=\"\",\"\",MAX($N$3:$N429)+1))","v":427},486,"احمد427",null,null,null,{"$f":"IF(N430=\"\",\"\",IF(ISERROR(MATCH($N430,$J:$J,0)),T429,MAX($T$3:$T429)+1))","v":22},""]
[null,null,null,null,null,null,null,null,null,null,null,null,null,{"$f":"(IF(P431=\"\",\"\",MAX($N$3:$N430)+1))","v":428},487,"احمد428",null,null,null,{"$f":"IF(N431=\"\",\"\",IF(ISERROR(MATCH($N431,$J:$J,0)),T430,MAX($T$3:$T430)+1))","v":22},""]
[null,null,null,null,null,null,null,null,null,null,null,null,null,{"$f":"(IF(P432=\"\",\"\",MAX($N$3:$N431)+1))","v":429},488,"احمد429",null,null,null,{"$f":"IF(N432=\"\",\"\",IF(ISERROR(MATCH($N432,$J:$J,0)),T431,MAX($T$3:$T431)+1))","v":22},""]
[null,null,null,null,null,null,null,null,null,null,null,null,null,{"$f":"(IF(P433=\"\",\"\",MAX($N$3:$N432)+1))","v":430},489,"احمد430",null,null,null,{"$f":"IF(N433=\"\",\"\",IF(ISERROR(MATCH($N433,$J:$J,0)),T432,MAX($T$3:$T432)+1))","v":22},""]
[null,null,null,null,null,null,null,null,null,null,null,null,null,{"$f":"(IF(P434=\"\",\"\",MAX($N$3:$N433)+1))","v":431},490,"احمد431",null,null,null,{"$f":"IF(N434=\"\",\"\",IF(ISERROR(MATCH($N434,$J:$J,0)),T433,MAX($T$3:$T433)+1))","v":22},""]
[null,null,null,null,null,null,null,null,null,null,null,null,null,{"$f":"(IF(P435=\"\",\"\",MAX($N$3:$N434)+1))","v":432},491,"احمد432",null,null,null,{"$f":"IF(N435=\"\",\"\",IF(ISERROR(MATCH($N435,$J:$J,0)),T434,MAX($T$3:$T434)+1))","v":22},""]
[null,null,null,null,null,null,null,null,null,null,null,null,null,{"$f":"(IF(P436=\"\",\"\",MAX($N$3:$N435)+1))","v":433},492,"احمد433",null,null,null,{"$f":"IF(N436=\"\",\"\",IF(ISERROR(MATCH($N436,$J:$J,0)),T435,MAX($T$3:$T435)+1))","v":22},""]
[null,null,null,null,null,null,null,null,null,null,null,null,null,{"$f":"(IF(P437=\"\",\"\",MAX($N$3:$N436)+1))","v":434},493,"احمد434",null,null,null,{"$f":"IF(N437=\"\",\"\",IF(ISERROR(MATCH($N437,$J:$J,0)),T436,MAX($T$3:$T436)+1))","v":22},""]
[null,null,null,null,null,null,null,null,null,null,null,null,null,{"$f":"(IF(P438=\"\",\"\",MAX($N$3:$N437)+1))","v":435},494,"احمد435",null,null,null,{"$f":"IF(N438=\"\",\"\",IF(ISERROR(MATCH($N438,$J:$J,0)),T437,MAX($T$3:$T437)+1))","v":22},""]
[null,null,null,null,null,null,null,null,null,null,null,null,null,{"$f":"(IF(P439=\"\",\"\",MAX($N$3:$N438)+1))","v":436},495,"احمد436",null,null,null,{"$f":"IF(N439=\"\",\"\",IF(ISERROR(MATCH($N439,$J:$J,0)),T438,MAX($T$3:$T438)+1))","v":22},""]
[null,null,null,null,null,null,null,null,null,null,null,null,null,{"$f":"(IF(P440=\"\",\"\",MAX($N$3:$N439)+1))","v":437},496,"احمد437",null,null,null,{"$f":"IF(N440=\"\",\"\",IF(ISERROR(MATCH($N440,$J:$J,0)),T439,MAX($T$3:$T439)+1))","v":22},""]
[null,null,null,null,null,null,null,null,null,null,null,null,null,{"$f":"(IF(P441=\"\",\"\",MAX($N$3:$N440)+1))","v":438},497,"احمد438",null,null,null,{"$f":"IF(N441=\"\",\"\",IF(ISERROR(MATCH($N441,$J:$J,0)),T440,MAX($T$3:$T440)+1))","v":22},""]
[null,null,null,null,null,null,null,null,null,null,null,null,null,{"$f":"(IF(P442=\"\",\"\",MAX($N$3:$N441)+1))","v":439},498,"احمد439",null,null,null,{"$f":"IF(N442=\"\",\"\",IF(ISERROR(MATCH($N442,$J:$J,0)),T441,MAX($T$3:$T441)+1))","v":22},""]
[null,null,null,null,null,null,null,null,null,null,null,null,null,{"$f":"(IF(P443=\"\",\"\",MAX($N$3:$N442)+1))","v":440},499,"احمد440",null,null,null,{"$f":"IF(N443=\"\",\"\",IF(ISERROR(MATCH($N443,$J:$J,0)),T442,MAX($T$3:$T442)+1))","v":22},"نهاية اللجنة"]
[null,null,null,null,null,null,null,null,null,null,null,null,null,{"$f":"(IF(P444=\"\",\"\",MAX($N$3:$N443)+1))","v":441},500,"احمد441",null,null,null,{"$f":"IF(N444=\"\",\"\",IF(ISERROR(MATCH($N444,$J:$J,0)),T443,MAX($T$3:$T443)+1))","v":23},""]
[null,null,null,null,null,null,null,null,null,null,null,null,null,{"$f":"(IF(P445=\"\",\"\",MAX($N$3:$N444)+1))","v":442},501,"احمد442",null,null,null,{"$f":"IF(N445=\"\",\"\",IF(ISERROR(MATCH($N445,$J:$J,0)),T444,MAX($T$3:$T444)+1))","v":23},""]
[null,null,null,null,null,null,null,null,null,null,null,null,null,{"$f":"(IF(P446=\"\",\"\",MAX($N$3:$N445)+1))","v":443},502,"احمد443",null,null,null,{"$f":"IF(N446=\"\",\"\",IF(ISERROR(MATCH($N446,$J:$J,0)),T445,MAX($T$3:$T445)+1))","v":23},""]
[null,null,null,null,null,null,null,null,null,null,null,null,null,{"$f":"(IF(P447=\"\",\"\",MAX($N$3:$N446)+1))","v":444},503,"احمد444",null,null,null,{"$f":"IF(N447=\"\",\"\",IF(ISERROR(MATCH($N447,$J:$J,0)),T446,MAX($T$3:$T446)+1))","v":23},""]
[null,null,null,null,null,null,null,null,null,null,null,null,null,{"$f":"(IF(P448=\"\",\"\",MAX($N$3:$N447)+1))","v":445},504,"احمد445",null,null,null,{"$f":"IF(N448=\"\",\"\",IF(ISERROR(MATCH($N448,$J:$J,0)),T447,MAX($T$3:$T447)+1))","v":23},""]
[null,null,null,null,null,null,null,null,null,null,null,null,null,{"$f":"(IF(P449=\"\",\"\",MAX($N$3:$N448)+1))","v":446},505,"احمد446",null,null,null,{"$f":"IF(N449=\"\",\"\",IF(ISERROR(MATCH($N449,$J:$J,0)),T448,MAX($T$3:$T448)+1))","v":23},""]
[null,null,null,null,null,null,null,null,null,null,null,null,null,{"$f":"(IF(P450=\"\",\"\",MAX($N$3:$N449)+1))","v":447},506,"احمد447",null,null,null,{"$f":"IF(N450=\"\",\"\",IF(ISERROR(MATCH($N450,$J:$J,0)),T449,MAX($T$3:$T449)+1))","v":23},""]
[null,null,null,null,null,null,null,null,null,null,null,null,null,{"$f":"(IF(P451=\"\",\"\",MAX($N$3:$N450)+1))","v":448},507,"احمد448",null,null,null,{"$f":"IF(N451=\"\",\"\",IF(ISERROR(MATCH($N451,$J:$J,0)),T450,MAX($T$3:$T450)+1))","v":23},""]
[null,null,null,null,null,null,null,null,null,null,null,null,null,{"$f":"(IF(P452=\"\",\"\",MAX($N$3:$N451)+1))","v":449},508,"احمد449",null,null,null,{"$f":"IF(N452=\"\",\"\",IF(ISERROR(MATCH($N452,$J:$J,0)),T451,MAX($T$3:$T451)+1))","v":23},""]
[null,null,null,null,null,null,null,null,null,null,null,null,null,{"$f":"(IF(P453=\"\",\"\",MAX($N$3:$N452)+1))","v":450},509,"احمد450",null,null,null,{"$f":"IF(N453=\"\",\"\",IF(ISERROR(MATCH($N453,$J:$J,0)),T452,MAX($T$3:$T452)+1))","v":23},{"$f":"IF(T453=T454,\"\",\"نهاية اللجنة\")","v":""}]
[null,null,null,null,null,null,null,null,null,null,null,null,null,{"$f":"(IF(P454=\"\",\"\",MAX($N$3:$N453)+1))","v":451},{"$f":"IF(P454=\"\",\"\",IF(O453+1>$M$2,\"\",O453+1))","v":510},"احمد451",null,null,null,{"$f":"IF(N454=\"\",\"\",IF(ISERROR(MATCH($N454,$J:$J,0)),T453,MAX($T$3:$T453)+1))","v":23},""]
[null,null,null,null,null,null,null,null,null,null,null,null,null,{"$f":"(IF(P455=\"\",\"\",MAX($N$3:$N454)+1))","v":452},511,"احمد452",null,null,null,{"$f":"IF(N455=\"\",\"\",IF(ISERROR(MATCH($N455,$J:$J,0)),T454,MAX($T$3:$T454)+1))","v":23},""]
[null,null,null,null,null,null,null,null,null,null,null,null,null,{"$f":"(IF(P456=\"\",\"\",MAX($N$3:$N455)+1))","v":453},512,"احمد453",null,null,null,{"$f":"IF(N456=\"\",\"\",IF(ISERROR(MATCH($N456,$J:$J,0)),T455,MAX($T$3:$T455)+1))","v":23},""]
[null,null,null,null,null,null,null,null,null,null,null,null,null,{"$f":"(IF(P457=\"\",\"\",MAX($N$3:$N456)+1))","v":454},513,"احمد454",null,null,null,{"$f":"IF(N457=\"\",\"\",IF(ISERROR(MATCH($N457,$J:$J,0)),T456,MAX($T$3:$T456)+1))","v":23},""]
[null,null,null,null,null,null,null,null,null,null,null,null,null,{"$f":"(IF(P458=\"\",\"\",MAX($N$3:$N457)+1))","v":455},514,"احمد455",null,null,null,{"$f":"IF(N458=\"\",\"\",IF(ISERROR(MATCH($N458,$J:$J,0)),T457,MAX($T$3:$T457)+1))","v":23},""]
[null,null,null,null,null,null,null,null,null,null,null,null,null,{"$f":"(IF(P459=\"\",\"\",MAX($N$3:$N458)+1))","v":456},515,"احمد456",null,null,null,{"$f":"IF(N459=\"\",\"\",IF(ISERROR(MATCH($N459,$J:$J,0)),T458,MAX($T$3:$T458)+1))","v":23},""]
[null,null,null,null,null,null,null,null,null,null,null,null,null,{"$f":"(IF(P460=\"\",\"\",MAX($N$3:$N459)+1))","v":457},516,"احمد457",null,null,null,{"$f":"IF(N460=\"\",\"\",IF(ISERROR(MATCH($N460,$J:$J,0)),T459,MAX($T$3:$T459)+1))","v":23},""]
[null,null,null,null,null,null,null,null,null,null,null,null,null,{"$f":"(IF(P461=\"\",\"\",MAX($N$3:$N460)+1))","v":458},517,"احمد458",null,null,null,{"$f":"IF(N461=\"\",\"\",IF(ISERROR(MATCH($N461,$J:$J,0)),T460,MAX($T$3:$T460)+1))","v":23},""]
[null,null,null,null,null,null,null,null,null,null,null,null,null,{"$f":"(IF(P462=\"\",\"\",MAX($N$3:$N461)+1))","v":459},518,"احمد459",null,null,null,{"$f":"IF(N462=\"\",\"\",IF(ISERROR(MATCH($N462,$J:$J,0)),T461,MAX($T$3:$T461)+1))","v":23},""]
[null,null,null,null,null,null,null,null,null,null,null,null,null,{"$f":"(IF(P463=\"\",\"\",MAX($N$3:$N462)+1))","v":460},519,"احمد460",null,null,null,{"$f":"IF(N463=\"\",\"\",IF(ISERROR(MATCH($N463,$J:$J,0)),T462,MAX($T$3:$T462)+1))","v":23},"نهاية اللجنة"]
[null,null,null,null,null,null,null,null,null,null,null,null,null,{"$f":"(IF(P464=\"\",\"\",MAX($N$3:$N463)+1))","v":461},520,"احمد461",null,null,null,{"$f":"IF(N464=\"\",\"\",IF(ISERROR(MATCH($N464,$J:$J,0)),T463,MAX($T$3:$T463)+1))","v":24},""]
[null,null,null,null,null,null,null,null,null,null,null,null,null,{"$f":"(IF(P465=\"\",\"\",MAX($N$3:$N464)+1))","v":462},521,"احمد462",null,null,null,{"$f":"IF(N465=\"\",\"\",IF(ISERROR(MATCH($N465,$J:$J,0)),T464,MAX($T$3:$T464)+1))","v":24},""]
[null,null,null,null,null,null,null,null,null,null,null,null,null,{"$f":"(IF(P466=\"\",\"\",MAX($N$3:$N465)+1))","v":463},522,"احمد463",null,null,null,{"$f":"IF(N466=\"\",\"\",IF(ISERROR(MATCH($N466,$J:$J,0)),T465,MAX($T$3:$T465)+1))","v":24},""]
[null,null,null,null,null,null,null,null,null,null,null,null,null,{"$f":"(IF(P467=\"\",\"\",MAX($N$3:$N466)+1))","v":464},523,"احمد464",null,null,null,{"$f":"IF(N467=\"\",\"\",IF(ISERROR(MATCH($N467,$J:$J,0)),T466,MAX($T$3:$T466)+1))","v":24},""]
[null,null,null,null,null,null,null,null,null,null,null,null,null,{"$f":"(IF(P468=\"\",\"\",MAX($N$3:$N467)+1))","v":465},524,"احمد465",null,null,null,{"$f":"IF(N468=\"\",\"\",IF(ISERROR(MATCH($N468,$J:$J,0)),T467,MAX($T$3:$T467)+1))","v":24},""]
[null,null,null,null,null,null,null,null,null,null,null,null,null,{"$f":"(IF(P469=\"\",\"\",MAX($N$3:$N468)+1))","v":466},525,"احمد466",null,null,null,{"$f":"IF(N469=\"\",\"\",IF(ISERROR(MATCH($N469,$J:$J,0)),T468,MAX($T$3:$T468)+1))","v":24},""]
[null,null,null,null,null,null,null,null,null,null,null,null,null,{"$f":"(IF(P470=\"\",\"\",MAX($N$3:$N469)+1))","v":467},526,"احمد467",null,null,null,{"$f":"IF(N470=\"\",\"\",IF(ISERROR(MATCH($N470,$J:$J,0)),T469,MAX($T$3:$T469)+1))","v":24},""]
[null,null,null,null,null,null,null,null,null,null,null,null,null,{"$f":"(IF(P471=\"\",\"\",MAX($N$3:$N470)+1))","v":468},527,"احمد468",null,null,null,{"$f":"IF(N471=\"\",\"\",IF(ISERROR(MATCH($N471,$J:$J,0)),T470,MAX($T$3:$T470)+1))","v":24},""]
[null,null,null,null,null,null,null,null,null,null,null,null,null,{"$f":"(IF(P472=\"\",\"\",MAX($N$3:$N471)+1))","v":469},528,"احمد469",null,null,null,{"$f":"IF(N472=\"\",\"\",IF(ISERROR(MATCH($N472,$J:$J,0)),T471,MAX($T$3:$T471)+1))","v":24},""]
[null,null,null,null,null,null,null,null,null,null,null,null,null,{"$f":"(IF(P473=\"\",\"\",MAX($N$3:$N472)+1))","v":470},529,"احمد470",null,null,null,{"$f":"IF(N473=\"\",\"\",IF(ISERROR(MATCH($N473,$J:$J,0)),T472,MAX($T$3:$T472)+1))","v":24},""]
[null,null,null,null,null,null,null,null,null,null,null,null,null,{"$f":"(IF(P474=\"\",\"\",MAX($N$3:$N473)+1))","v":471},530,"احمد471",null,null,null,{"$f":"IF(N474=\"\",\"\",IF(ISERROR(MATCH($N474,$J:$J,0)),T473,MAX($T$3:$T473)+1))","v":24},""]
[null,null,null,null,null,null,null,null,null,null,null,null,null,{"$f":"(IF(P475=\"\",\"\",MAX($N$3:$N474)+1))","v":472},531,"احمد472",null,null,null,{"$f":"IF(N475=\"\",\"\",IF(ISERROR(MATCH($N475,$J:$J,0)),T474,MAX($T$3:$T474)+1))","v":24},""]
[null,null,null,null,null,null,null,null,null,null,null,null,null,{"$f":"(IF(P476=\"\",\"\",MAX($N$3:$N475)+1))","v":473},532,"احمد473",null,null,null,{"$f":"IF(N476=\"\",\"\",IF(ISERROR(MATCH($N476,$J:$J,0)),T475,MAX($T$3:$T475)+1))","v":24},""]
[null,null,null,null,null,null,null,null,null,null,null,null,null,{"$f":"(IF(P477=\"\",\"\",MAX($N$3:$N476)+1))","v":474},533,"احمد474",null,null,null,{"$f":"IF(N477=\"\",\"\",IF(ISERROR(MATCH($N477,$J:$J,0)),T476,MAX($T$3:$T476)+1))","v":24},""]
[null,null,null,null,null,null,null,null,null,null,null,null,null,{"$f":"(IF(P478=\"\",\"\",MAX($N$3:$N477)+1))","v":475},534,"احمد475",null,null,null,{"$f":"IF(N478=\"\",\"\",IF(ISERROR(MATCH($N478,$J:$J,0)),T477,MAX($T$3:$T477)+1))","v":24},""]
[null,null,null,null,null,null,null,null,null,null,null,null,null,{"$f":"(IF(P479=\"\",\"\",MAX($N$3:$N478)+1))","v":476},535,"احمد476",null,null,null,{"$f":"IF(N479=\"\",\"\",IF(ISERROR(MATCH($N479,$J:$J,0)),T478,MAX($T$3:$T478)+1))","v":24},""]
[null,null,null,null,null,null,null,null,null,null,null,null,null,{"$f":"(IF(P480=\"\",\"\",MAX($N$3:$N479)+1))","v":477},536,"احمد477",null,null,null,{"$f":"IF(N480=\"\",\"\",IF(ISERROR(MATCH($N480,$J:$J,0)),T479,MAX($T$3:$T479)+1))","v":24},""]
[null,null,null,null,null,null,null,null,null,null,null,null,null,{"$f":"(IF(P481=\"\",\"\",MAX($N$3:$N480)+1))","v":478},537,"احمد478",null,null,null,{"$f":"IF(N481=\"\",\"\",IF(ISERROR(MATCH($N481,$J:$J,0)),T480,MAX($T$3:$T480)+1))","v":24},""]
[null,null,null,null,null,null,null,null,null,null,null,null,null,{"$f":"(IF(P482=\"\",\"\",MAX($N$3:$N481)+1))","v":479},538,"احمد479",null,null,null,{"$f":"IF(N482=\"\",\"\",IF(ISERROR(MATCH($N482,$J:$J,0)),T481,MAX($T$3:$T481)+1))","v":24},""]
[null,null,null,null,null,null,null,null,null,null,null,null,null,{"$f":"(IF(P483=\"\",\"\",MAX($N$3:$N482)+1))","v":480},539,"احمد480",null,null,null,{"$f":"IF(N483=\"\",\"\",IF(ISERROR(MATCH($N483,$J:$J,0)),T482,MAX($T$3:$T482)+1))","v":24},"نهاية اللجنة"]
[null,null,null,null,null,null,null,null,null,null,null,null,null,{"$f":"(IF(P484=\"\",\"\",MAX($N$3:$N483)+1))","v":481},540,"احمد481",null,null,null,{"$f":"IF(N484=\"\",\"\",IF(ISERROR(MATCH($N484,$J:$J,0)),T483,MAX($T$3:$T483)+1))","v":25},""]
[null,null,null,null,null,null,null,null,null,null,null,null,null,{"$f":"(IF(P485=\"\",\"\",MAX($N$3:$N484)+1))","v":482},541,"احمد482",null,null,null,{"$f":"IF(N485=\"\",\"\",IF(ISERROR(MATCH($N485,$J:$J,0)),T484,MAX($T$3:$T484)+1))","v":25},""]
[null,null,null,null,null,null,null,null,null,null,null,null,null,{"$f":"(IF(P486=\"\",\"\",MAX($N$3:$N485)+1))","v":483},542,"احمد483",null,null,null,{"$f":"IF(N486=\"\",\"\",IF(ISERROR(MATCH($N486,$J:$J,0)),T485,MAX($T$3:$T485)+1))","v":25},""]
[null,null,null,null,null,null,null,null,null,null,null,null,null,{"$f":"(IF(P487=\"\",\"\",MAX($N$3:$N486)+1))","v":484},543,"احمد484",null,null,null,{"$f":"IF(N487=\"\",\"\",IF(ISERROR(MATCH($N487,$J:$J,0)),T486,MAX($T$3:$T486)+1))","v":25},""]
[null,null,null,null,null,null,null,null,null,null,null,null,null,{"$f":"(IF(P488=\"\",\"\",MAX($N$3:$N487)+1))","v":485},544,"احمد485",null,null,null,{"$f":"IF(N488=\"\",\"\",IF(ISERROR(MATCH($N488,$J:$J,0)),T487,MAX($T$3:$T487)+1))","v":25},""]
[null,null,null,null,null,null,null,null,null,null,null,null,null,{"$f":"(IF(P489=\"\",\"\",MAX($N$3:$N488)+1))","v":486},545,"احمد486",null,null,null,{"$f":"IF(N489=\"\",\"\",IF(ISERROR(MATCH($N489,$J:$J,0)),T488,MAX($T$3:$T488)+1))","v":25},""]
[null,null,null,null,null,null,null,null,null,null,null,null,null,{"$f":"(IF(P490=\"\",\"\",MAX($N$3:$N489)+1))","v":487},546,"احمد487",null,null,null,{"$f":"IF(N490=\"\",\"\",IF(ISERROR(MATCH($N490,$J:$J,0)),T489,MAX($T$3:$T489)+1))","v":25},""]
[null,null,null,null,null,null,null,null,null,null,null,null,null,{"$f":"(IF(P491=\"\",\"\",MAX($N$3:$N490)+1))","v":488},547,"احمد488",null,null,null,{"$f":"IF(N491=\"\",\"\",IF(ISERROR(MATCH($N491,$J:$J,0)),T490,MAX($T$3:$T490)+1))","v":25},""]
[null,null,null,null,null,null,null,null,null,null,null,null,null,{"$f":"(IF(P492=\"\",\"\",MAX($N$3:$N491)+1))","v":489},548,"احمد489",null,null,null,{"$f":"IF(N492=\"\",\"\",IF(ISERROR(MATCH($N492,$J:$J,0)),T491,MAX($T$3:$T491)+1))","v":25},""]
[null,null,null,null,null,null,null,null,null,null,null,null,null,{"$f":"(IF(P493=\"\",\"\",MAX($N$3:$N492)+1))","v":490},549,"احمد490",null,null,null,{"$f":"IF(N493=\"\",\"\",IF(ISERROR(MATCH($N493,$J:$J,0)),T492,MAX($T$3:$T492)+1))","v":25},"نهاية اللجنة"]
[null,null,null,null,null,null,null,null,null,null,null,null,null,{"$f":"(IF(P494=\"\",\"\",MAX($N$3:$N493)+1))","v":""},"",null,null,null,null,{"$f":"IF(N494=\"\",\"\",IF(ISERROR(MATCH($N494,$J:$J,0)),T493,MAX($T$3:$T493)+1))","v":""},""]
[null,null,null,null,null,null,null,null,null,null,null,null,null,{"$f":"(IF(P495=\"\",\"\",MAX($N$3:$N494)+1))","v":""},"",null,null,null,null,{"$f":"IF(N495=\"\",\"\",IF(ISERROR(MATCH($N495,$J:$J,0)),T494,MAX($T$3:$T494)+1))","v":""},""]
[null,null,null,null,null,null,null,null,null,null,null,null,null,{"$f":"(IF(P496=\"\",\"\",MAX($N$3:$N495)+1))","v":""},"",null,null,null,null,{"$f":"IF(N496=\"\",\"\",IF(ISERROR(MATCH($N496,$J:$J,0)),T495,MAX($T$3:$T495)+1))","v":""},""]
[null,null,null,null,null,null,null,null,null,null,null,null,null,{"$f":"(IF(P497=\"\",\"\",MAX($N$3:$N496)+1))","v":""},"",null,null,null,null,{"$f":"IF(N497=\"\",\"\",IF(ISERROR(MATCH($N497,$J:$J,0)),T496,MAX($T$3:$T496)+1))","v":""},""]
[null,null,null,null,null,null,null,null,null,null,null,null,null,{"$f":"(IF(P498=\"\",\"\",MAX($N$3:$N497)+1))","v":""},"",null,null,null,null,{"$f":"IF(N498=\"\",\"\",IF(ISERROR(MATCH($N498,$J:$J,0)),T497,MAX($T$3:$T497)+1))","v":""},""]
[null,null,null,null,null,null,null,null,null,null,null,null,null,{"$f":"(IF(P499=\"\",\"\",MAX($N$3:$N498)+1))","v":""},"",null,null,null,null,{"$f":"IF(N499=\"\",\"\",IF(ISERROR(MATCH($N499,$J:$J,0)),T498,MAX($T$3:$T498)+1))","v":""},""]
[null,null,null,null,null,null,null,null,null,null,null,null,null,{"$f":"(IF(P500=\"\",\"\",MAX($N$3:$N499)+1))","v":""},"",null,null,null,null,{"$f":"IF(N500=\"\",\"\",IF(ISERROR(MATCH($N500,$J:$J,0)),T499,MAX($T$3:$T499)+1))","v":""},""]
[null,null,null,null,null,null,null,null,null,null,null,null,null,{"$f":"(IF(P501=\"\",\"\",MAX($N$3:$N500)+1))","v":""},"",null,null,null,null,{"$f":"IF(N501=\"\",\"\",IF(ISERROR(MATCH($N501,$J:$J,0)),T500,MAX($T$3:$T500)+1))","v":""},""]
[null,null,null,null,null,null,null,null,null,null,null,null,null,{"$f":"(IF(P502=\"\",\"\",MAX($N$3:$N501)+1))","v":""},"",null,null,null,null,{"$f":"IF(N502=\"\",\"\",IF(ISERROR(MATCH($N502,$J:$J,0)),T501,MAX($T$3:$T501)+1))","v":""},""]
[null,null,null,null,null,null,null,null,null,null,null,null,null,{"$f":"(IF(P503=\"\",\"\",MAX($N$3:$N502)+1))","v":""},"",null,null,null,null,{"$f":"IF(N503=\"\",\"\",IF(ISERROR(MATCH($N503,$J:$J,0)),T502,MAX($T$3:$T502)+1))","v":""},""]
[null,null,null,null,null,null,null,null,null,null,null,null,null,{"$f":"(IF(P504=\"\",\"\",MAX($N$3:$N503)+1))","v":""},"",null,null,null,null,{"$f":"IF(N504=\"\",\"\",IF(ISERROR(MATCH($N504,$J:$J,0)),T503,MAX($T$3:$T503)+1))","v":""},""]
[null,null,null,null,null,null,null,null,null,null,null,null,null,{"$f":"(IF(P505=\"\",\"\",MAX($N$3:$N504)+1))","v":""},"",null,null,null,null,{"$f":"IF(N505=\"\",\"\",IF(ISERROR(MATCH($N505,$J:$J,0)),T504,MAX($T$3:$T504)+1))","v":""},""]
[null,null,null,null,null,null,null,null,null,null,null,null,null,{"$f":"(IF(P506=\"\",\"\",MAX($N$3:$N505)+1))","v":""},"",null,null,null,null,{"$f":"IF(N506=\"\",\"\",IF(ISERROR(MATCH($N506,$J:$J,0)),T505,MAX($T$3:$T505)+1))","v":""},""]
[null,null,null,null,null,null,null,null,null,null,null,null,null,{"$f":"(IF(P507=\"\",\"\",MAX($N$3:$N506)+1))","v":""},"",null,null,null,null,{"$f":"IF(N507=\"\",\"\",IF(ISERROR(MATCH($N507,$J:$J,0)),T506,MAX($T$3:$T506)+1))","v":""},""]
[null,null,null,null,null,null,null,null,null,null,null,null,null,{"$f":"(IF(P508=\"\",\"\",MAX($N$3:$N507)+1))","v":""},"",null,null,null,null,{"$f":"IF(N508=\"\",\"\",IF(ISERROR(MATCH($N508,$J:$J,0)),T507,MAX($T$3:$T507)+1))","v":""},""]
[null,null,null,null,null,null,null,null,null,null,null,null,null,{"$f":"(IF(P509=\"\",\"\",MAX($N$3:$N508)+1))","v":""},"",null,null,null,null,{"$f":"IF(N509=\"\",\"\",IF(ISERROR(MATCH($N509,$J:$J,0)),T508,MAX($T$3:$T508)+1))","v":""},""]
[null,null,null,null,null,null,null,null,null,null,null,null,null,{"$f":"(IF(P510=\"\",\"\",MAX($N$3:$N509)+1))","v":""},"",null,null,null,null,{"$f":"IF(N510=\"\",\"\",IF(ISERROR(MATCH($N510,$J:$J,0)),T509,MAX($T$3:$T509)+1))","v":""},""]
[null,null,null,null,null,null,null,null,null,null,null,null,null,{"$f":"(IF(P511=\"\",\"\",MAX($N$3:$N510)+1))","v":""},"",null,null,null,null,{"$f":"IF(N511=\"\",\"\",IF(ISERROR(MATCH($N511,$J:$J,0)),T510,MAX($T$3:$T510)+1))","v":""},""]
[null,null,null,null,null,null,null,null,null,null,null,null,null,{"$f":"(IF(P512=\"\",\"\",MAX($N$3:$N511)+1))","v":""},"",null,null,null,null,{"$f":"IF(N512=\"\",\"\",IF(ISERROR(MATCH($N512,$J:$J,0)),T511,MAX($T$3:$T511)+1))","v":""},""]
[null,null,null,null,null,null,null,null,null,null,null,null,null,{"$f":"(IF(P513=\"\",\"\",MAX($N$3:$N512)+1))","v":""},"",null,null,null,null,{"$f":"IF(N513=\"\",\"\",IF(ISERROR(MATCH($N513,$J:$J,0)),T512,MAX($T$3:$T512)+1))","v":""},""]
[null,null,null,null,null,null,null,null,null,null,null,null,null,{"$f":"(IF(P514=\"\",\"\",MAX($N$3:$N513)+1))","v":""},"",null,null,null,null,{"$f":"IF(N514=\"\",\"\",IF(ISERROR(MATCH($N514,$J:$J,0)),T513,MAX($T$3:$T513)+1))","v":""},""]
[null,null,null,null,null,null,null,null,null,null,null,null,null,{"$f":"(IF(P515=\"\",\"\",MAX($N$3:$N514)+1))","v":""},"",null,null,null,null,{"$f":"IF(N515=\"\",\"\",IF(ISERROR(MATCH($N515,$J:$J,0)),T514,MAX($T$3:$T514)+1))","v":""},""]
[null,null,null,null,null,null,null,null,null,null,null,null,null,{"$f":"(IF(P516=\"\",\"\",MAX($N$3:$N515)+1))","v":""},"",null,null,null,null,{"$f":"IF(N516=\"\",\"\",IF(ISERROR(MATCH($N516,$J:$J,0)),T515,MAX($T$3:$T515)+1))","v":""},""]
[null,null,null,null,null,null,null,null,null,null,null,null,null,{"$f":"(IF(P517=\"\",\"\",MAX($N$3:$N516)+1))","v":""},"",null,null,null,null,{"$f":"IF(N517=\"\",\"\",IF(ISERROR(MATCH($N517,$J:$J,0)),T516,MAX($T$3:$T516)+1))","v":""},{"$f":"IF(T517=T518,\"\",\"نهاية اللجنة\")","v":""}]
[null,null,null,null,null,null,null,null,null,null,null,null,null,{"$f":"(IF(P518=\"\",\"\",MAX($N$3:$N517)+1))","v":""},{"$f":"IF(P518=\"\",\"\",IF(O517+1>$M$2,\"\",O517+1))","v":""},null,null,null,null,{"$f":"IF(N518=\"\",\"\",IF(ISERROR(MATCH($N518,$J:$J,0)),T517,MAX($T$3:$T517)+1))","v":""},""]
[null,null,null,null,null,null,null,null,null,null,null,null,null,{"$f":"(IF(P519=\"\",\"\",MAX($N$3:$N518)+1))","v":""},"",null,null,null,null,{"$f":"IF(N519=\"\",\"\",IF(ISERROR(MATCH($N519,$J:$J,0)),T518,MAX($T$3:$T518)+1))","v":""},""]
[null,null,null,null,null,null,null,null,null,null,null,null,null,{"$f":"(IF(P520=\"\",\"\",MAX($N$3:$N519)+1))","v":""},"",null,null,null,null,{"$f":"IF(N520=\"\",\"\",IF(ISERROR(MATCH($N520,$J:$J,0)),T519,MAX($T$3:$T519)+1))","v":""},""]
[null,null,null,null,null,null,null,null,null,null,null,null,null,{"$f":"(IF(P521=\"\",\"\",MAX($N$3:$N520)+1))","v":""},"",null,null,null,null,{"$f":"IF(N521=\"\",\"\",IF(ISERROR(MATCH($N521,$J:$J,0)),T520,MAX($T$3:$T520)+1))","v":""},""]
[null,null,null,null,null,null,null,null,null,null,null,null,null,{"$f":"(IF(P522=\"\",\"\",MAX($N$3:$N521)+1))","v":""},"",null,null,null,null,{"$f":"IF(N522=\"\",\"\",IF(ISERROR(MATCH($N522,$J:$J,0)),T521,MAX($T$3:$T521)+1))","v":""},""]
[null,null,null,null,null,null,null,null,null,null,null,null,null,{"$f":"(IF(P523=\"\",\"\",MAX($N$3:$N522)+1))","v":""},"",null,null,null,null,{"$f":"IF(N523=\"\",\"\",IF(ISERROR(MATCH($N523,$J:$J,0)),T522,MAX($T$3:$T522)+1))","v":""},""]
[null,null,null,null,null,null,null,null,null,null,null,null,null,{"$f":"(IF(P524=\"\",\"\",MAX($N$3:$N523)+1))","v":""},"",null,null,null,null,{"$f":"IF(N524=\"\",\"\",IF(ISERROR(MATCH($N524,$J:$J,0)),T523,MAX($T$3:$T523)+1))","v":""},""]
[null,null,null,null,null,null,null,null,null,null,null,null,null,{"$f":"(IF(P525=\"\",\"\",MAX($N$3:$N524)+1))","v":""},"",null,null,null,null,{"$f":"IF(N525=\"\",\"\",IF(ISERROR(MATCH($N525,$J:$J,0)),T524,MAX($T$3:$T524)+1))","v":""},""]
[null,null,null,null,null,null,null,null,null,null,null,null,null,{"$f":"(IF(P526=\"\",\"\",MAX($N$3:$N525)+1))","v":""},"",null,null,null,null,{"$f":"IF(N526=\"\",\"\",IF(ISERROR(MATCH($N526,$J:$J,0)),T525,MAX($T$3:$T525)+1))","v":""},""]
[null,null,null,null,null,null,null,null,null,null,null,null,null,{"$f":"(IF(P527=\"\",\"\",MAX($N$3:$N526)+1))","v":""},"",null,null,null,null,{"$f":"IF(N527=\"\",\"\",IF(ISERROR(MATCH($N527,$J:$J,0)),T526,MAX($T$3:$T526)+1))","v":""},""]
[null,null,null,null,null,null,null,null,null,null,null,null,null,{"$f":"(IF(P528=\"\",\"\",MAX($N$3:$N527)+1))","v":""},"",null,null,null,null,{"$f":"IF(N528=\"\",\"\",IF(ISERROR(MATCH($N528,$J:$J,0)),T527,MAX($T$3:$T527)+1))","v":""},""]
[null,null,null,null,null,null,null,null,null,null,null,null,null,{"$f":"(IF(P529=\"\",\"\",MAX($N$3:$N528)+1))","v":""},"",null,null,null,null,{"$f":"IF(N529=\"\",\"\",IF(ISERROR(MATCH($N529,$J:$J,0)),T528,MAX($T$3:$T528)+1))","v":""},""]
[null,null,null,null,null,null,null,null,null,null,null,null,null,{"$f":"(IF(P530=\"\",\"\",MAX($N$3:$N529)+1))","v":""},"",null,null,null,null,{"$f":"IF(N530=\"\",\"\",IF(ISERROR(MATCH($N530,$J:$J,0)),T529,MAX($T$3:$T529)+1))","v":""},""]
[null,null,null,null,null,null,null,null,null,null,null,null,null,{"$f":"(IF(P531=\"\",\"\",MAX($N$3:$N530)+1))","v":""},"",null,null,null,null,{"$f":"IF(N531=\"\",\"\",IF(ISERROR(MATCH($N531,$J:$J,0)),T530,MAX($T$3:$T530)+1))","v":""},""]
[null,null,null,null,null,null,null,null,null,null,null,null,null,{"$f":"(IF(P532=\"\",\"\",MAX($N$3:$N531)+1))","v":""},"",null,null,null,null,{"$f":"IF(N532=\"\",\"\",IF(ISERROR(MATCH($N532,$J:$J,0)),T531,MAX($T$3:$T531)+1))","v":""},""]
[null,null,null,null,null,null,null,null,null,null,null,null,null,{"$f":"(IF(P533=\"\",\"\",MAX($N$3:$N532)+1))","v":""},"",null,null,null,null,{"$f":"IF(N533=\"\",\"\",IF(ISERROR(MATCH($N533,$J:$J,0)),T532,MAX($T$3:$T532)+1))","v":""},""]
[null,null,null,null,null,null,null,null,null,null,null,null,null,{"$f":"(IF(P534=\"\",\"\",MAX($N$3:$N533)+1))","v":""},"",null,null,null,null,{"$f":"IF(N534=\"\",\"\",IF(ISERROR(MATCH($N534,$J:$J,0)),T533,MAX($T$3:$T533)+1))","v":""},""]
[null,null,null,null,null,null,null,null,null,null,null,null,null,{"$f":"(IF(P535=\"\",\"\",MAX($N$3:$N534)+1))","v":""},"",null,null,null,null,{"$f":"IF(N535=\"\",\"\",IF(ISERROR(MATCH($N535,$J:$J,0)),T534,MAX($T$3:$T534)+1))","v":""},""]
[null,null,null,null,null,null,null,null,null,null,null,null,null,{"$f":"(IF(P536=\"\",\"\",MAX($N$3:$N535)+1))","v":""},"",null,null,null,null,{"$f":"IF(N536=\"\",\"\",IF(ISERROR(MATCH($N536,$J:$J,0)),T535,MAX($T$3:$T535)+1))","v":""},""]
[null,null,null,null,null,null,null,null,null,null,null,null,null,{"$f":"(IF(P537=\"\",\"\",MAX($N$3:$N536)+1))","v":""},"",null,null,null,null,{"$f":"IF(N537=\"\",\"\",IF(ISERROR(MATCH($N537,$J:$J,0)),T536,MAX($T$3:$T536)+1))","v":""},""]
[null,null,null,null,null,null,null,null,null,null,null,null,null,{"$f":"(IF(P538=\"\",\"\",MAX($N$3:$N537)+1))","v":""},"",null,null,null,null,{"$f":"IF(N538=\"\",\"\",IF(ISERROR(MATCH($N538,$J:$J,0)),T537,MAX($T$3:$T537)+1))","v":""},""]
[null,null,null,null,null,null,null,null,null,null,null,null,null,{"$f":"(IF(P539=\"\",\"\",MAX($N$3:$N538)+1))","v":""},"",null,null,null,null,{"$f":"IF(N539=\"\",\"\",IF(ISERROR(MATCH($N539,$J:$J,0)),T538,MAX($T$3:$T538)+1))","v":""},""]
[null,null,null,null,null,null,null,null,null,null,null,null,null,{"$f":"(IF(P540=\"\",\"\",MAX($N$3:$N539)+1))","v":""},"",null,null,null,null,{"$f":"IF(N540=\"\",\"\",IF(ISERROR(MATCH($N540,$J:$J,0)),T539,MAX($T$3:$T539)+1))","v":""},""]
[null,null,null,null,null,null,null,null,null,null,null,null,null,{"$f":"(IF(P541=\"\",\"\",MAX($N$3:$N540)+1))","v":""},"",null,null,null,null,{"$f":"IF(N541=\"\",\"\",IF(ISERROR(MATCH($N541,$J:$J,0)),T540,MAX($T$3:$T540)+1))","v":""},""]
[null,null,null,null,null,null,null,null,null,null,null,null,null,{"$f":"(IF(P542=\"\",\"\",MAX($N$3:$N541)+1))","v":""},"",null,null,null,null,{"$f":"IF(N542=\"\",\"\",IF(ISERROR(MATCH($N542,$J:$J,0)),T541,MAX($T$3:$T541)+1))","v":""},""]
[null,null,null,null,null,null,null,null,null,null,null,null,null,{"$f":"(IF(P543=\"\",\"\",MAX($N$3:$N542)+1))","v":""},"",null,null,null,null,{"$f":"IF(N543=\"\",\"\",IF(ISERROR(MATCH($N543,$J:$J,0)),T542,MAX($T$3:$T542)+1))","v":""},""]
[null,null,null,null,null,null,null,null,null,null,null,null,null,{"$f":"(IF(P544=\"\",\"\",MAX($N$3:$N543)+1))","v":""},"",null,null,null,null,{"$f":"IF(N544=\"\",\"\",IF(ISERROR(MATCH($N544,$J:$J,0)),T543,MAX($T$3:$T543)+1))","v":""},""]
[null,null,null,null,null,null,null,null,null,null,null,null,null,{"$f":"(IF(P545=\"\",\"\",MAX($N$3:$N544)+1))","v":""},"",null,null,null,null,{"$f":"IF(N545=\"\",\"\",IF(ISERROR(MATCH($N545,$J:$J,0)),T544,MAX($T$3:$T544)+1))","v":""},""]
[null,null,null,null,null,null,null,null,null,null,null,null,null,{"$f":"(IF(P546=\"\",\"\",MAX($N$3:$N545)+1))","v":""},"",null,null,null,null,{"$f":"IF(N546=\"\",\"\",IF(ISERROR(MATCH($N546,$J:$J,0)),T545,MAX($T$3:$T545)+1))","v":""},""]
[null,null,null,null,null,null,null,null,null,null,null,null,null,{"$f":"(IF(P547=\"\",\"\",MAX($N$3:$N546)+1))","v":""},"",null,null,null,null,{"$f":"IF(N547=\"\",\"\",IF(ISERROR(MATCH($N547,$J:$J,0)),T546,MAX($T$3:$T546)+1))","v":""},""]
[null,null,null,null,null,null,null,null,null,null,null,null,null,{"$f":"(IF(P548=\"\",\"\",MAX($N$3:$N547)+1))","v":""},"",null,null,null,null,{"$f":"IF(N548=\"\",\"\",IF(ISERROR(MATCH($N548,$J:$J,0)),T547,MAX($T$3:$T547)+1))","v":""},""]
[null,null,null,null,null,null,null,null,null,null,null,null,null,{"$f":"(IF(P549=\"\",\"\",MAX($N$3:$N548)+1))","v":""},"",null,null,null,null,{"$f":"IF(N549=\"\",\"\",IF(ISERROR(MATCH($N549,$J:$J,0)),T548,MAX($T$3:$T548)+1))","v":""},""]
[null,null,null,null,null,null,null,null,null,null,null,null,null,{"$f":"(IF(P550=\"\",\"\",MAX($N$3:$N549)+1))","v":""},"",null,null,null,null,{"$f":"IF(N550=\"\",\"\",IF(ISERROR(MATCH($N550,$J:$J,0)),T549,MAX($T$3:$T549)+1))","v":""},""]
[null,null,null,null,null,null,null,null,null,null,null,null,null,{"$f":"(IF(P551=\"\",\"\",MAX($N$3:$N550)+1))","v":""},"",null,null,null,null,{"$f":"IF(N551=\"\",\"\",IF(ISERROR(MATCH($N551,$J:$J,0)),T550,MAX($T$3:$T550)+1))","v":""},""]
[null,null,null,null,null,null,null,null,null,null,null,null,null,{"$f":"(IF(P552=\"\",\"\",MAX($N$3:$N551)+1))","v":""},"",null,null,null,null,{"$f":"IF(N552=\"\",\"\",IF(ISERROR(MATCH($N552,$J:$J,0)),T551,MAX($T$3:$T551)+1))","v":""},""]
[null,null,null,null,null,null,null,null,null,null,null,null,null,{"$f":"(IF(P553=\"\",\"\",MAX($N$3:$N552)+1))","v":""},"",null,null,null,null,{"$f":"IF(N553=\"\",\"\",IF(ISERROR(MATCH($N553,$J:$J,0)),T552,MAX($T$3:$T552)+1))","v":""},""]
[null,null,null,null,null,null,null,null,null,null,null,null,null,{"$f":"(IF(P554=\"\",\"\",MAX($N$3:$N553)+1))","v":""},"",null,null,null,null,{"$f":"IF(N554=\"\",\"\",IF(ISERROR(MATCH($N554,$J:$J,0)),T553,MAX($T$3:$T553)+1))","v":""},""]
[null,null,null,null,null,null,null,null,null,null,null,null,null,{"$f":"(IF(P555=\"\",\"\",MAX($N$3:$N554)+1))","v":""},"",null,null,null,null,{"$f":"IF(N555=\"\",\"\",IF(ISERROR(MATCH($N555,$J:$J,0)),T554,MAX($T$3:$T554)+1))","v":""},""]
[null,null,null,null,null,null,null,null,null,null,null,null,null,{"$f":"(IF(P556=\"\",\"\",MAX($N$3:$N555)+1))","v":""},"",null,null,null,null,{"$f":"IF(N556=\"\",\"\",IF(ISERROR(MATCH($N556,$J:$J,0)),T555,MAX($T$3:$T555)+1))","v":""},""]
[null,null,null,null,null,null,null,null,null,null,null,null,null,{"$f":"(IF(P557=\"\",\"\",MAX($N$3:$N556)+1))","v":""},"",null,null,null,null,{"$f":"IF(N557=\"\",\"\",IF(ISERROR(MATCH($N557,$J:$J,0)),T556,MAX($T$3:$T556)+1))","v":""},""]
[null,null,null,null,null,null,null,null,null,null,null,null,null,{"$f":"(IF(P558=\"\",\"\",MAX($N$3:$N557)+1))","v":""},"",null,null,null,null,{"$f":"IF(N558=\"\",\"\",IF(ISERROR(MATCH($N558,$J:$J,0)),T557,MAX($T$3:$T557)+1))","v":""},""]
[null,null,null,null,null,null,null,null,null,null,null,null,null,{"$f":"(IF(P559=\"\",\"\",MAX($N$3:$N558)+1))","v":""},"",null,null,null,null,{"$f":"IF(N559=\"\",\"\",IF(ISERROR(MATCH($N559,$J:$J,0)),T558,MAX($T$3:$T558)+1))","v":""},""]
[null,null,null,null,null,null,null,null,null,null,null,null,null,{"$f":"(IF(P560=\"\",\"\",MAX($N$3:$N559)+1))","v":""},"",null,null,null,null,{"$f":"IF(N560=\"\",\"\",IF(ISERROR(MATCH($N560,$J:$J,0)),T559,MAX($T$3:$T559)+1))","v":""},""]
[null,null,null,null,null,null,null,null,null,null,null,null,null,{"$f":"(IF(P561=\"\",\"\",MAX($N$3:$N560)+1))","v":""},"",null,null,null,null,{"$f":"IF(N561=\"\",\"\",IF(ISERROR(MATCH($N561,$J:$J,0)),T560,MAX($T$3:$T560)+1))","v":""},""]
[null,null,null,null,null,null,null,null,null,null,null,null,null,{"$f":"(IF(P562=\"\",\"\",MAX($N$3:$N561)+1))","v":""},"",null,null,null,null,{"$f":"IF(N562=\"\",\"\",IF(ISERROR(MATCH($N562,$J:$J,0)),T561,MAX($T$3:$T561)+1))","v":""},""]
[null,null,null,null,null,null,null,null,null,null,null,null,null,{"$f":"(IF(P563=\"\",\"\",MAX($N$3:$N562)+1))","v":""},"",null,null,null,null,{"$f":"IF(N563=\"\",\"\",IF(ISERROR(MATCH($N563,$J:$J,0)),T562,MAX($T$3:$T562)+1))","v":""},""]
[null,null,null,null,null,null,null,null,null,null,null,null,null,{"$f":"(IF(P564=\"\",\"\",MAX($N$3:$N563)+1))","v":""},"",null,null,null,null,{"$f":"IF(N564=\"\",\"\",IF(ISERROR(MATCH($N564,$J:$J,0)),T563,MAX($T$3:$T563)+1))","v":""},""]
[null,null,null,null,null,null,null,null,null,null,null,null,null,{"$f":"(IF(P565=\"\",\"\",MAX($N$3:$N564)+1))","v":""},"",null,null,null,null,{"$f":"IF(N565=\"\",\"\",IF(ISERROR(MATCH($N565,$J:$J,0)),T564,MAX($T$3:$T564)+1))","v":""},""]
[null,null,null,null,null,null,null,null,null,null,null,null,null,{"$f":"(IF(P566=\"\",\"\",MAX($N$3:$N565)+1))","v":""},"",null,null,null,null,{"$f":"IF(N566=\"\",\"\",IF(ISERROR(MATCH($N566,$J:$J,0)),T565,MAX($T$3:$T565)+1))","v":""},""]
[null,null,null,null,null,null,null,null,null,null,null,null,null,{"$f":"(IF(P567=\"\",\"\",MAX($N$3:$N566)+1))","v":""},"",null,null,null,null,{"$f":"IF(N567=\"\",\"\",IF(ISERROR(MATCH($N567,$J:$J,0)),T566,MAX($T$3:$T566)+1))","v":""},""]
[null,null,null,null,null,null,null,null,null,null,null,null,null,{"$f":"(IF(P568=\"\",\"\",MAX($N$3:$N567)+1))","v":""},"",null,null,null,null,{"$f":"IF(N568=\"\",\"\",IF(ISERROR(MATCH($N568,$J:$J,0)),T567,MAX($T$3:$T567)+1))","v":""},""]
[null,null,null,null,null,null,null,null,null,null,null,null,null,{"$f":"(IF(P569=\"\",\"\",MAX($N$3:$N568)+1))","v":""},"",null,null,null,null,{"$f":"IF(N569=\"\",\"\",IF(ISERROR(MATCH($N569,$J:$J,0)),T568,MAX($T$3:$T568)+1))","v":""},""]
[null,null,null,null,null,null,null,null,null,null,null,null,null,{"$f":"(IF(P570=\"\",\"\",MAX($N$3:$N569)+1))","v":""},"",null,null,null,null,{"$f":"IF(N570=\"\",\"\",IF(ISERROR(MATCH($N570,$J:$J,0)),T569,MAX($T$3:$T569)+1))","v":""},""]
[null,null,null,null,null,null,null,null,null,null,null,null,null,{"$f":"(IF(P571=\"\",\"\",MAX($N$3:$N570)+1))","v":""},"",null,null,null,null,{"$f":"IF(N571=\"\",\"\",IF(ISERROR(MATCH($N571,$J:$J,0)),T570,MAX($T$3:$T570)+1))","v":""},""]
[null,null,null,null,null,null,null,null,null,null,null,null,null,{"$f":"(IF(P572=\"\",\"\",MAX($N$3:$N571)+1))","v":""},"",null,null,null,null,{"$f":"IF(N572=\"\",\"\",IF(ISERROR(MATCH($N572,$J:$J,0)),T571,MAX($T$3:$T571)+1))","v":""},""]
[null,null,null,null,null,null,null,null,null,null,null,null,null,{"$f":"(IF(P573=\"\",\"\",MAX($N$3:$N572)+1))","v":""},"",null,null,null,null,{"$f":"IF(N573=\"\",\"\",IF(ISERROR(MATCH($N573,$J:$J,0)),T572,MAX($T$3:$T572)+1))","v":""},""]
[null,null,null,null,null,null,null,null,null,null,null,null,null,{"$f":"(IF(P574=\"\",\"\",MAX($N$3:$N573)+1))","v":""},"",null,null,null,null,{"$f":"IF(N574=\"\",\"\",IF(ISERROR(MATCH($N574,$J:$J,0)),T573,MAX($T$3:$T573)+1))","v":""},""]
[null,null,null,null,null,null,null,null,null,null,null,null,null,{"$f":"(IF(P575=\"\",\"\",MAX($N$3:$N574)+1))","v":""},"",null,null,null,null,{"$f":"IF(N575=\"\",\"\",IF(ISERROR(MATCH($N575,$J:$J,0)),T574,MAX($T$3:$T574)+1))","v":""},""]
[null,null,null,null,null,null,null,null,null,null,null,null,null,{"$f":"(IF(P576=\"\",\"\",MAX($N$3:$N575)+1))","v":""},"",null,null,null,null,{"$f":"IF(N576=\"\",\"\",IF(ISERROR(MATCH($N576,$J:$J,0)),T575,MAX($T$3:$T575)+1))","v":""},""]
[null,null,null,null,null,null,null,null,null,null,null,null,null,{"$f":"(IF(P577=\"\",\"\",MAX($N$3:$N576)+1))","v":""},"",null,null,null,null,{"$f":"IF(N577=\"\",\"\",IF(ISERROR(MATCH($N577,$J:$J,0)),T576,MAX($T$3:$T576)+1))","v":""},""]
[null,null,null,null,null,null,null,null,null,null,null,null,null,{"$f":"(IF(P578=\"\",\"\",MAX($N$3:$N577)+1))","v":""},"",null,null,null,null,{"$f":"IF(N578=\"\",\"\",IF(ISERROR(MATCH($N578,$J:$J,0)),T577,MAX($T$3:$T577)+1))","v":""},""]
[null,null,null,null,null,null,null,null,null,null,null,null,null,{"$f":"(IF(P579=\"\",\"\",MAX($N$3:$N578)+1))","v":""},"",null,null,null,null,{"$f":"IF(N579=\"\",\"\",IF(ISERROR(MATCH($N579,$J:$J,0)),T578,MAX($T$3:$T578)+1))","v":""},""]
[null,null,null,null,null,null,null,null,null,null,null,null,null,{"$f":"(IF(P580=\"\",\"\",MAX($N$3:$N579)+1))","v":""},"",null,null,null,null,{"$f":"IF(N580=\"\",\"\",IF(ISERROR(MATCH($N580,$J:$J,0)),T579,MAX($T$3:$T579)+1))","v":""},""]
[null,null,null,null,null,null,null,null,null,null,null,null,null,{"$f":"(IF(P581=\"\",\"\",MAX($N$3:$N580)+1))","v":""},"",null,null,null,null,{"$f":"IF(N581=\"\",\"\",IF(ISERROR(MATCH($N581,$J:$J,0)),T580,MAX($T$3:$T580)+1))","v":""},{"$f":"IF(T581=T582,\"\",\"نهاية اللجنة\")","v":""}]
[null,null,null,null,null,null,null,null,null,null,null,null,null,{"$f":"(IF(P582=\"\",\"\",MAX($N$3:$N581)+1))","v":""},{"$f":"IF(P582=\"\",\"\",IF(O581+1>$M$2,\"\",O581+1))","v":""},null,null,null,null,{"$f":"IF(N582=\"\",\"\",IF(ISERROR(MATCH($N582,$J:$J,0)),T581,MAX($T$3:$T581)+1))","v":""},""]
[null,null,null,null,null,null,null,null,null,null,null,null,null,{"$f":"(IF(P583=\"\",\"\",MAX($N$3:$N582)+1))","v":""},"",null,null,null,null,{"$f":"IF(N583=\"\",\"\",IF(ISERROR(MATCH($N583,$J:$J,0)),T582,MAX($T$3:$T582)+1))","v":""},""]
[null,null,null,null,null,null,null,null,null,null,null,null,null,{"$f":"(IF(P584=\"\",\"\",MAX($N$3:$N583)+1))","v":""},"",null,null,null,null,{"$f":"IF(N584=\"\",\"\",IF(ISERROR(MATCH($N584,$J:$J,0)),T583,MAX($T$3:$T583)+1))","v":""},""]
[null,null,null,null,null,null,null,null,null,null,null,null,null,{"$f":"(IF(P585=\"\",\"\",MAX($N$3:$N584)+1))","v":""},"",null,null,null,null,{"$f":"IF(N585=\"\",\"\",IF(ISERROR(MATCH($N585,$J:$J,0)),T584,MAX($T$3:$T584)+1))","v":""},""]
[null,null,null,null,null,null,null,null,null,null,null,null,null,{"$f":"(IF(P586=\"\",\"\",MAX($N$3:$N585)+1))","v":""},"",null,null,null,null,{"$f":"IF(N586=\"\",\"\",IF(ISERROR(MATCH($N586,$J:$J,0)),T585,MAX($T$3:$T585)+1))","v":""},""]
[null,null,null,null,null,null,null,null,null,null,null,null,null,{"$f":"(IF(P587=\"\",\"\",MAX($N$3:$N586)+1))","v":""},"",null,null,null,null,{"$f":"IF(N587=\"\",\"\",IF(ISERROR(MATCH($N587,$J:$J,0)),T586,MAX($T$3:$T586)+1))","v":""},""]
[null,null,null,null,null,null,null,null,null,null,null,null,null,{"$f":"(IF(P588=\"\",\"\",MAX($N$3:$N587)+1))","v":""},"",null,null,null,null,{"$f":"IF(N588=\"\",\"\",IF(ISERROR(MATCH($N588,$J:$J,0)),T587,MAX($T$3:$T587)+1))","v":""},""]
[null,null,null,null,null,null,null,null,null,null,null,null,null,{"$f":"(IF(P589=\"\",\"\",MAX($N$3:$N588)+1))","v":""},"",null,null,null,null,{"$f":"IF(N589=\"\",\"\",IF(ISERROR(MATCH($N589,$J:$J,0)),T588,MAX($T$3:$T588)+1))","v":""},""]
[null,null,null,null,null,null,null,null,null,null,null,null,null,{"$f":"(IF(P590=\"\",\"\",MAX($N$3:$N589)+1))","v":""},"",null,null,null,null,{"$f":"IF(N590=\"\",\"\",IF(ISERROR(MATCH($N590,$J:$J,0)),T589,MAX($T$3:$T589)+1))","v":""},""]
[null,null,null,null,null,null,null,null,null,null,null,null,null,{"$f":"(IF(P591=\"\",\"\",MAX($N$3:$N590)+1))","v":""},"",null,null,null,null,{"$f":"IF(N591=\"\",\"\",IF(ISERROR(MATCH($N591,$J:$J,0)),T590,MAX($T$3:$T590)+1))","v":""},""]
[null,null,null,null,null,null,null,null,null,null,null,null,null,{"$f":"(IF(P592=\"\",\"\",MAX($N$3:$N591)+1))","v":""},"",null,null,null,null,{"$f":"IF(N592=\"\",\"\",IF(ISERROR(MATCH($N592,$J:$J,0)),T591,MAX($T$3:$T591)+1))","v":""},""]
[null,null,null,null,null,null,null,null,null,null,null,null,null,{"$f":"(IF(P593=\"\",\"\",MAX($N$3:$N592)+1))","v":""},"",null,null,null,null,{"$f":"IF(N593=\"\",\"\",IF(ISERROR(MATCH($N593,$J:$J,0)),T592,MAX($T$3:$T592)+1))","v":""},""]
[null,null,null,null,null,null,null,null,null,null,null,null,null,{"$f":"(IF(P594=\"\",\"\",MAX($N$3:$N593)+1))","v":""},"",null,null,null,null,{"$f":"IF(N594=\"\",\"\",IF(ISERROR(MATCH($N594,$J:$J,0)),T593,MAX($T$3:$T593)+1))","v":""},""]
[null,null,null,null,null,null,null,null,null,null,null,null,null,{"$f":"(IF(P595=\"\",\"\",MAX($N$3:$N594)+1))","v":""},"",null,null,null,null,{"$f":"IF(N595=\"\",\"\",IF(ISERROR(MATCH($N595,$J:$J,0)),T594,MAX($T$3:$T594)+1))","v":""},""]
[null,null,null,null,null,null,null,null,null,null,null,null,null,{"$f":"(IF(P596=\"\",\"\",MAX($N$3:$N595)+1))","v":""},"",null,null,null,null,{"$f":"IF(N596=\"\",\"\",IF(ISERROR(MATCH($N596,$J:$J,0)),T595,MAX($T$3:$T595)+1))","v":""},""]
[null,null,null,null,null,null,null,null,null,null,null,null,null,{"$f":"(IF(P597=\"\",\"\",MAX($N$3:$N596)+1))","v":""},"",null,null,null,null,{"$f":"IF(N597=\"\",\"\",IF(ISERROR(MATCH($N597,$J:$J,0)),T596,MAX($T$3:$T596)+1))","v":""},""]
[null,null,null,null,null,null,null,null,null,null,null,null,null,{"$f":"(IF(P598=\"\",\"\",MAX($N$3:$N597)+1))","v":""},"",null,null,null,null,{"$f":"IF(N598=\"\",\"\",IF(ISERROR(MATCH($N598,$J:$J,0)),T597,MAX($T$3:$T597)+1))","v":""},""]
[null,null,null,null,null,null,null,null,null,null,null,null,null,{"$f":"(IF(P599=\"\",\"\",MAX($N$3:$N598)+1))","v":""},"",null,null,null,null,{"$f":"IF(N599=\"\",\"\",IF(ISERROR(MATCH($N599,$J:$J,0)),T598,MAX($T$3:$T598)+1))","v":""},""]
[null,null,null,null,null,null,null,null,null,null,null,null,null,{"$f":"(IF(P600=\"\",\"\",MAX($N$3:$N599)+1))","v":""},"",null,null,null,null,{"$f":"IF(N600=\"\",\"\",IF(ISERROR(MATCH($N600,$J:$J,0)),T599,MAX($T$3:$T599)+1))","v":""},""]
[null,null,null,null,null,null,null,null,null,null,null,null,null,{"$f":"(IF(P601=\"\",\"\",MAX($N$3:$N600)+1))","v":""},"",null,null,null,null,{"$f":"IF(N601=\"\",\"\",IF(ISERROR(MATCH($N601,$J:$J,0)),T600,MAX($T$3:$T600)+1))","v":""},""]
[null,null,null,null,null,null,null,null,null,null,null,null,null,{"$f":"(IF(P602=\"\",\"\",MAX($N$3:$N601)+1))","v":""},"",null,null,null,null,{"$f":"IF(N602=\"\",\"\",IF(ISERROR(MATCH($N602,$J:$J,0)),T601,MAX($T$3:$T601)+1))","v":""},""]
[null,null,null,null,null,null,null,null,null,null,null,null,null,{"$f":"(IF(P603=\"\",\"\",MAX($N$3:$N602)+1))","v":""},"",null,null,null,null,{"$f":"IF(N603=\"\",\"\",IF(ISERROR(MATCH($N603,$J:$J,0)),T602,MAX($T$3:$T602)+1))","v":""},""]

{"sheet":"أرقام جلوس الرابع","index":11,"n_rows":224,"n_cols":15,"rows_kept":224,"cut":false,"hidden":false,"merged":[[195,6,195,7],[196,6,196,7],[197,6,197,10],[199,6,200,6],[199,7,200,7],[199,8,199,9],[199,10,200,10],[196,8,196,9],[198,8,198,9],[195,8,195,9],[210,6,210,7],[211,6,211,7],[212,6,212,10],[214,6,215,6],[214,7,215,7],[214,8,214,9],[214,10,215,10],[211,8,211,9],[213,8,213,9],[210,8,210,9],[182,6,182,10],[184,6,185,6],[184,7,185,7],[184,8,184,9],[184,10,185,10],[181,8,181,9],[183,8,183,9],[180,8,180,9],[165,6,165,7],[166,6,166,7],[167,6,167,10],[169,6,170,6],[169,7,170,7],[169,8,169,9],[169,10,170,10],[166,8,166,9],[168,8,168,9],[165,8,165,9],[180,6,180,7],[181,6,181,7],[150,6,150,7],[151,6,151,7],[152,6,152,10],[154,6,155,6],[154,7,155,7],[154,8,154,9],[154,10,155,10],[151,8,151,9],[153,8,153,9],[150,8,150,9],[135,6,135,7],[136,6,136,7],[137,6,137,10],[139,6,140,6],[139,7,140,7],[139,8,139,9],[139,10,140,10],[136,8,136,9],[138,8,138,9],[135,8,135,9],[120,6,120,7],[121,6,121,7],[122,6,122,10],[124,6,125,6],[124,7,125,7],[124,8,124,9],[124,10,125,10],[121,8,121,9],[123,8,123,9],[120,8,120,9],[105,6,105,7],[106,6,106,7],[107,6,107,10],[109,6,110,6],[109,7,110,7],[109,8,109,9],[109,10,110,10],[106,8,106,9],[108,8,108,9],[105,8,105,9],[90,6,90,7],[91,6,91,7],[92,6,92,10],[94,6,95,6],[94,7,95,7],[94,8,94,9],[94,10,95,10],[91,8,91,9],[93,8,93,9],[90,8,90,9],[76,6,76,7],[77,6,77,10],[79,6,80,6],[79,7,80,7],[79,8,79,9],[79,10,80,10],[76,8,76,9],[60,6,60,7],[61,6,61,7],[62,6,62,10],[64,6,65,6],[64,7,65,7],[64,8,64,9],[64,10,65,10],[61,8,61,9],[78,8,78,9],[60,8,60,9],[75,8,75,9],[63,8,63,9],[75,6,75,7],[49,8,49,9],[49,10,50,10],[46,8,46,9],[30,6,30,7],[31,6,31,7],[32,6,32,10],[34,6,35,6],[34,7,35,7],[34,8,34,9],[34,10,35,10],[31,8,31,9],[30,8,30,9],[45,8,45,9],[33,8,33,9],[48,8,48,9],[45,6,45,7],[46,6,46,7],[47,6,47,10],[49,6,50,6],[49,7,50,7],[180,0,180,1],[181,0,181,1],[182,0,182,4],[184,0,185,0],[184,1,185,1],[184,2,184,3],[184,4,185,4],[181,2,181,3],[183,2,183,3],[180,2,180,3],[212,0,212,4],[214,0,215,0],[214,1,215,1],[214,2,214,3],[214,4,215,4],[211,2,211,3],[195,0,195,1],[196,0,196,1],[197,0,197,4],[199,0,200,0],[199,1,200,1],[199,2,199,3],[199,4,200,4],[196,2,196,3],[211,0,211,1],[210,0,210,1],[198,2,198,3],[213,2,213,3],[195,2,195,3],[210,2,210,3],[169,2,169,3],[169,4,170,4],[166,2,166,3],[150,0,150,1],[151,0,151,1],[152,0,152,4],[154,0,155,0],[154,1,155,1],[154,2,154,3],[154,4,155,4],[151,2,151,3],[165,0,165,1],[166,0,166,1],[167,0,167,4],[169,0,170,0],[169,1,170,1],[153,2,153,3],[168,2,168,3],[150,2,150,3],[165,2,165,3],[135,0,135,1],[136,0,136,1],[137,0,137,4],[139,0,140,0],[139,1,140,1],[139,2,139,3],[139,4,140,4],[136,2,136,3],[138,2,138,3],[135,2,135,3],[120,0,120,1],[121,0,121,1],[122,0,122,4],[124,0,125,0],[124,1,125,1],[124,2,124,3],[124,4,125,4],[121,2,121,3],[123,2,123,3],[120,2,120,3],[105,0,105,1],[106,0,106,1],[107,0,107,4],[109,0,110,0],[109,1,110,1],[109,2,109,3],[109,4,110,4],[106,2,106,3],[108,2,108,3],[105,2,105,3],[91,0,91,1],[92,0,92,4],[94,0,95,0],[94,1,95,1],[94,2,94,3],[94,4,95,4],[91,2,91,3],[77,0,77,4],[79,0,80,0],[79,1,80,1],[79,2,79,3],[79,4,80,4],[90,0,90,1],[93,2,93,3],[90,2,90,3],[78,2,78,3],[75,0,75,1],[76,0,76,1],[76,2,76,3],[61,2,61,3],[61,0,61,1],[62,0,62,4],[45,0,45,1],[46,0,46,1],[47,0,47,4],[46,2,46,3],[64,0,65,0],[64,1,65,1],[64,2,64,3],[64,4,65,4],[49,0,50,0],[49,1,50,1],[49,2,49,3],[49,4,50,4],[60,0,60,1],[45,2,45,3],[60,2,60,3],[75,2,75,3],[48,2,48,3],[63,2,63,3],[30,0,30,1],[31,0,31,1],[32,0,32,4],[34,0,35,0],[34,1,35,1],[34,2,34,3],[34,4,35,4],[31,2,31,3],[16,0,16,1],[17,0,17,4],[19,0,20,0],[19,1,20,1],[19,2,19,3],[19,4,20,4],[16,2,16,3],[30,2,30,3],[18,2,18,3],[33,2,33,3],[16,6,16,7],[17,6,17,10],[19,6,20,6],[19,7,20,7],[19,8,19,9],[19,10,20,10],[16,8,16,9],[4,7,5,7],[4,8,4,9],[4,10,5,10],[15,8,15,9],[18,8,18,9],[15,0,15,1],[15,6,15,7],[4,0,5,0],[4,1,5,1],[4,2,4,3],[4,4,5,4],[2,0,2,4],[0,0,0,1],[1,0,1,1],[0,6,0,7],[1,6,1,7],[2,6,2,10],[1,2,1,3],[1,8,1,9],[3,2,3,3],[3,8,3,9],[0,2,0,3],[0,8,0,9],[4,6,5,6],[15,2,15,3]]}
[{"$f":"'جدول الصف الرابع'!$A$1","v":"إدارة /غرب المحلة الكبرى التعليمية"},null,"رقم اللجنة",null,{"$f":"VLOOKUP(E2,جلوس_أسماء4,7,FALSE)","v":1},null,{"$f":"'جدول الصف الرابع'!$A$1","v":"إدارة /غرب المحلة الكبرى التعليمية"},null,"رقم اللجنة",null,{"$f":"VLOOKUP(K2,جلوس_أسماء4,7,FALSE)","v":1},null,null,null,1]
[{"$f":"'جدول الصف الرابع'!$A$2","v":"مدرسة د/علي علي حبيش الابتدائية"},null,{"$f":"'جدول الصف الرابع'!$C$4","v":"الصف الرابع"},null,{"$f":"O1","v":1},null,{"$f":"'جدول الصف الرابع'!$A$2","v":"مدرسة د/علي علي حبيش الابتدائية"},null,{"$f":"'جدول الصف الرابع'!$C$4","v":"الصف الرابع"},null,{"$f":"E212+1","v":16}]
[{"$f":"'جدول الصف الرابع'!$B$3","v":"جدول امتحان الفصل الدراسي الأول / الثاني للعام الدراسي 2019/2018"},null,null,null,null,null,{"$f":"'جدول الصف الرابع'!$B$3","v":"جدول امتحان الفصل الدراسي الأول / الثاني للعام الدراسي 2019/2018"}]
["اسم التلميذ",{"$f":"VLOOKUP(E2,جلوس_أسماء4,3,FALSE)","v":"احمد1"},"رقم الجلوس",null,{"$f":"VLOOKUP(E2,جلوس_أسماء4,2,FALSE)","v":60},null,"اسم التلميذ",{"$f":"VLOOKUP(K2,جلوس_أسماء4,3,FALSE)","v":"احمد16"},"رقم الجلوس",null,{"$f":"VLOOKUP(K2,جلوس_أسماء4,2,FALSE)","v":75}]
["اليوم والترايخ","المـــــــــــــــــــادة","الوقت",null,"الزمــــن ",null,"اليوم والترايخ","المـــــــــــــــــــادة","الوقت",null,"الزمــــن "]
[null,null,"من ","إلي",null,null,null,null,"من ","إلي"]
[{"$f":"'جدول الصف الرابع'!$B$7","v":"السبت"},{"$f":"'جدول الصف الرابع'!$C$7","v":"لغة عربية وخط"},{"$f":"'جدول الصف الرابع'!$D$7","v":8},{"$f":"'جدول الصف الرابع'!$E$7","v":10.3},{"$f":"'جدول الصف الرابع'!$F$7","v":"ساعتان ونصف"},null,{"$f":"'جدول الصف الرابع'!$B$7","v":"السبت"},{"$f":"'جدول الصف الرابع'!$C$7","v":"لغة عربية وخط"},{"$f":"'جدول الصف الرابع'!$D$7","v":8},{"$f":"'جدول الصف الرابع'!$E$7","v":10.3},{"$f":"'جدول الصف الرابع'!$F$7","v":"ساعتان ونصف"}]
[{"$f":"'جدول الصف الرابع'!$B$8","v":"2018-01-01"},null,null,null,null,null,{"$f":"'جدول الصف الرابع'!$B$8","v":"2018-01-01"}]
[{"$f":"'جدول الصف الرابع'!$B$9","v":"الأحد"},{"$f":"'جدول الصف الرابع'!$C$9","v":"الرياضيات"},{"$f":"'جدول الصف الرابع'!$D$9","v":8},{"$f":"'جدول الصف الرابع'!$E$9","v":9.3000000000000007},{"$f":"'جدول الصف الرابع'!$F$9","v":"ساعة ونصف"},null,{"$f":"'جدول الصف الرابع'!$B$9","v":"الأحد"},{"$f":"'جدول الصف الرابع'!$C$9","v":"الرياضيات"},{"$f":"'جدول الصف الرابع'!$D$9","v":8},{"$f":"'جدول الصف الرابع'!$E$9","v":9.3000000000000007},{"$f":"'جدول الصف الرابع'!$F$9","v":"ساعة ونصف"}]
[{"$f":"'جدول الصف الرابع'!$B$10","v":"2018-01-02"},{"$f":"'جدول الصف الرابع'!$C$10","v":"اللغة الإنجليزية"},{"$f":"'جدول الصف الرابع'!$D$10","v":9.4499999999999993},{"$f":"'جدول الصف الرابع'!$E$10","v":11.15},{"$f":"'جدول الصف الرابع'!$F$10","v":"ساعة ونصف"},null,{"$f":"'جدول الصف الرابع'!$B$10","v":"2018-01-02"},{"$f":"'جدول الصف الرابع'!$C$10","v":"اللغة الإنجليزية"},{"$f":"'جدول الصف الرابع'!$D$10","v":9.4499999999999993},{"$f":"'جدول الصف الرابع'!$E$10","v":11.15},{"$f":"'جدول الصف الرابع'!$F$10","v":"ساعة ونصف"}]
[{"$f":"'جدول الصف الرابع'!$B$11","v":"الاثنين"},{"$f":"'جدول الصف الرابع'!$C$11","v":"علوم"},{"$f":"'جدول الصف الرابع'!$D$11","v":9.4499999999999993},{"$f":"'جدول الصف الرابع'!$E$11","v":10.8},{"$f":"'جدول الصف الرابع'!$F$11","v":"ساعة ونصف"},null,{"$f":"'جدول الصف الرابع'!$B$11","v":"الاثنين"},{"$f":"'جدول الصف الرابع'!$C$11","v":"علوم"},{"$f":"'جدول الصف الرابع'!$D$11","v":9.4499999999999993},{"$f":"'جدول الصف الرابع'!$E$11","v":10.8},{"$f":"'جدول الصف الرابع'!$F$11","v":"ساعة ونصف"}]
[{"$f":"'جدول الصف الرابع'!$B$12","v":"2018-01-03"},{"$f":"'جدول الصف الرابع'!$C$12","v":"التربية الدينية"},{"$f":"'جدول الصف الرابع'!$D$12","v":9.67},{"$f":"'جدول الصف الرابع'!$E$12","v":10.93},{"$f":"'جدول الصف الرابع'!$F$12","v":"ساعة ونصف"},null,{"$f":"'جدول الصف الرابع'!$B$12","v":"2018-01-03"},{"$f":"'جدول الصف الرابع'!$C$12","v":"التربية الدينية"},{"$f":"'جدول الصف الرابع'!$D$12","v":9.67},{"$f":"'جدول الصف الرابع'!$E$12","v":10.93},{"$f":"'جدول الصف الرابع'!$F$12","v":"ساعة ونصف"}]
[{"$f":"'جدول الصف الرابع'!$B$13","v":"الثلاثاء"},{"$f":"'جدول الصف الرابع'!$C$13","v":"الدراسات"},{"$f":"'جدول الصف الرابع'!$D$13","v":9.89},{"$f":"'جدول الصف الرابع'!$E$13","v":11.06},{"$f":"'جدول الصف الرابع'!$F$13","v":"ساعة ونصف"},null,{"$f":"'جدول الصف الرابع'!$B$13","v":"الثلاثاء"},{"$f":"'جدول الصف الرابع'!$C$13","v":"الدراسات"},{"$f":"'جدول الصف الرابع'!$D$13","v":9.89},{"$f":"'جدول الصف الرابع'!$E$13","v":11.06},{"$f":"'جدول الصف الرابع'!$F$13","v":"ساعة ونصف"}]
[{"$f":"'جدول الصف الرابع'!$B$14","v":"2018-01-04"},null,null,null,null,null,{"$f":"'جدول الصف الرابع'!$B$14","v":"2018-01-04"}]
[]
[{"$f":"'جدول الصف الرابع'!$A$1","v":"إدارة /غرب المحلة الكبرى التعليمية"},null,"رقم اللجنة",null,{"$f":"VLOOKUP(E17,جلوس_أسماء4,7,FALSE)","v":1},null,{"$f":"'جدول الصف الرابع'!$A$1","v":"إدارة /غرب المحلة الكبرى التعليمية"},null,"رقم اللجنة",null,{"$f":"VLOOKUP(K17,جلوس_أسماء4,7,FALSE)","v":1}]
[{"$f":"'جدول الصف الرابع'!$A$2","v":"مدرسة د/علي علي حبيش الابتدائية"},null,{"$f":"'جدول الصف الرابع'!$C$4","v":"الصف الرابع"},null,{"$f":"E2+1","v":2},null,{"$f":"'جدول الصف الرابع'!$A$2","v":"مدرسة د/علي علي حبيش الابتدائية"},null,{"$f":"'جدول الصف الرابع'!$C$4","v":"الصف الرابع"},null,{"$f":"K2+1","v":17}]
[{"$f":"'جدول الصف الرابع'!$B$3","v":"جدول امتحان الفصل الدراسي الأول / الثاني للعام الدراسي 2019/2018"},null,null,null,null,null,{"$f":"'جدول الصف الرابع'!$B$3","v":"جدول امتحان الفصل الدراسي الأول / الثاني للعام الدراسي 2019/2018"}]
["اسم التلميذ",{"$f":"VLOOKUP(E17,جلوس_أسماء4,3,FALSE)","v":"احمد2"},"رقم الجلوس",null,{"$f":"VLOOKUP(E17,جلوس_أسماء4,2,FALSE)","v":61},null,"اسم التلميذ",{"$f":"VLOOKUP(K17,جلوس_أسماء4,3,FALSE)","v":"احمد17"},"رقم الجلوس",null,{"$f":"VLOOKUP(K17,جلوس_أسماء4,2,FALSE)","v":76}]
["اليوم والترايخ","المـــــــــــــــــــادة","الوقت",null,"الزمــــن ",null,"اليوم والترايخ","المـــــــــــــــــــادة","الوقت",null,"الزمــــن "]
[null,null,"من ","إلي",null,null,null,null,"من ","إلي"]
[{"$f":"'جدول الصف الرابع'!$B$7","v":"السبت"},{"$f":"'جدول الصف الرابع'!$C$7","v":"لغة عربية وخط"},{"$f":"'جدول الصف الرابع'!$D$7","v":8},{"$f":"'جدول الصف الرابع'!$E$7","v":10.3},{"$f":"'جدول الصف الرابع'!$F$7","v":"ساعتان ونصف"},null,{"$f":"'جدول الصف الرابع'!$B$7","v":"السبت"},{"$f":"'جدول الصف الرابع'!$C$7","v":"لغة عربية وخط"},{"$f":"'جدول الصف الرابع'!$D$7","v":8},{"$f":"'جدول الصف الرابع'!$E$7","v":10.3},{"$f":"'جدول الصف الرابع'!$F$7","v":"ساعتان ونصف"}]
[{"$f":"'جدول الصف الرابع'!$B$8","v":"2018-01-01"},null,null,null,null,null,{"$f":"'جدول الصف الرابع'!$B$8","v":"2018-01-01"}]
[{"$f":"'جدول الصف الرابع'!$B$9","v":"الأحد"},{"$f":"'جدول الصف الرابع'!$C$9","v":"الرياضيات"},{"$f":"'جدول الصف الرابع'!$D$9","v":8},{"$f":"'جدول الصف الرابع'!$E$9","v":9.3000000000000007},{"$f":"'جدول الصف الرابع'!$F$9","v":"ساعة ونصف"},null,{"$f":"'جدول الصف الرابع'!$B$9","v":"الأحد"},{"$f":"'جدول الصف الرابع'!$C$9","v":"الرياضيات"},{"$f":"'جدول الصف الرابع'!$D$9","v":8},{"$f":"'جدول الصف الرابع'!$E$9","v":9.3000000000000007},{"$f":"'جدول الصف الرابع'!$F$9","v":"ساعة ونصف"}]
[{"$f":"'جدول الصف الرابع'!$B$10","v":"2018-01-02"},{"$f":"'جدول الصف الرابع'!$C$10","v":"اللغة الإنجليزية"},{"$f":"'جدول الصف الرابع'!$D$10","v":9.4499999999999993},{"$f":"'جدول الصف الرابع'!$E$10","v":11.15},{"$f":"'جدول الصف الرابع'!$F$10","v":"ساعة ونصف"},null,{"$f":"'جدول الصف الرابع'!$B$10","v":"2018-01-02"},{"$f":"'جدول الصف الرابع'!$C$10","v":"اللغة الإنجليزية"},{"$f":"'جدول الصف الرابع'!$D$10","v":9.4499999999999993},{"$f":"'جدول الصف الرابع'!$E$10","v":11.15},{"$f":"'جدول الصف الرابع'!$F$10","v":"ساعة ونصف"}]
[{"$f":"'جدول الصف الرابع'!$B$11","v":"الاثنين"},{"$f":"'جدول الصف الرابع'!$C$11","v":"علوم"},{"$f":"'جدول الصف الرابع'!$D$11","v":9.4499999999999993},{"$f":"'جدول الصف الرابع'!$E$11","v":10.8},{"$f":"'جدول الصف الرابع'!$F$11","v":"ساعة ونصف"},null,{"$f":"'جدول الصف الرابع'!$B$11","v":"الاثنين"},{"$f":"'جدول الصف الرابع'!$C$11","v":"علوم"},{"$f":"'جدول الصف الرابع'!$D$11","v":9.4499999999999993},{"$f":"'جدول الصف الرابع'!$E$11","v":10.8},{"$f":"'جدول الصف الرابع'!$F$11","v":"ساعة ونصف"}]
[{"$f":"'جدول الصف الرابع'!$B$12","v":"2018-01-03"},{"$f":"'جدول الصف الرابع'!$C$12","v":"التربية الدينية"},{"$f":"'جدول الصف الرابع'!$D$12","v":9.67},{"$f":"'جدول الصف الرابع'!$E$12","v":10.93},{"$f":"'جدول الصف الرابع'!$F$12","v":"ساعة ونصف"},null,{"$f":"'جدول الصف الرابع'!$B$12","v":"2018-01-03"},{"$f":"'جدول الصف الرابع'!$C$12","v":"التربية الدينية"},{"$f":"'جدول الصف الرابع'!$D$12","v":9.67},{"$f":"'جدول الصف الرابع'!$E$12","v":10.93},{"$f":"'جدول الصف الرابع'!$F$12","v":"ساعة ونصف"}]
[{"$f":"'جدول الصف الرابع'!$B$13","v":"الثلاثاء"},{"$f":"'جدول الصف الرابع'!$C$13","v":"الدراسات"},{"$f":"'جدول الصف الرابع'!$D$13","v":9.89},{"$f":"'جدول الصف الرابع'!$E$13","v":11.06},{"$f":"'جدول الصف الرابع'!$F$13","v":"ساعة ونصف"},null,{"$f":"'جدول الصف الرابع'!$B$13","v":"الثلاثاء"},{"$f":"'جدول الصف الرابع'!$C$13","v":"الدراسات"},{"$f":"'جدول الصف الرابع'!$D$13","v":9.89},{"$f":"'جدول الصف الرابع'!$E$13","v":11.06},{"$f":"'جدول الصف الرابع'!$F$13","v":"ساعة ونصف"}]
[{"$f":"'جدول الصف الرابع'!$B$14","v":"2018-01-04"},null,null,null,null,null,{"$f":"'جدول الصف الرابع'!$B$14","v":"2018-01-04"}]
[]
[{"$f":"'جدول الصف الرابع'!$A$1","v":"إدارة /غرب المحلة الكبرى التعليمية"},null,"رقم اللجنة",null,{"$f":"VLOOKUP(E32,جلوس_أسماء4,7,FALSE)","v":1},null,{"$f":"'جدول الصف الرابع'!$A$1","v":"إدارة /غرب المحلة الكبرى التعليمية"},null,"رقم اللجنة",null,{"$f":"VLOOKUP(K32,جلوس_أسماء4,7,FALSE)","v":1}]
[{"$f":"'جدول الصف الرابع'!$A$2","v":"مدرسة د/علي علي حبيش الابتدائية"},null,{"$f":"'جدول الصف الرابع'!$C$4","v":"الصف الرابع"},null,{"$f":"E17+1","v":3},null,{"$f":"'جدول الصف الرابع'!$A$2","v":"مدرسة د/علي علي حبيش الابتدائية"},null,{"$f":"'جدول الصف الرابع'!$C$4","v":"الصف الرابع"},null,{"$f":"K17+1","v":18}]
[{"$f":"'جدول الصف الرابع'!$B$3","v":"جدول امتحان الفصل الدراسي الأول / الثاني للعام الدراسي 2019/2018"},null,null,null,null,null,{"$f":"'جدول الصف الرابع'!$B$3","v":"جدول امتحان الفصل الدراسي الأول / الثاني للعام الدراسي 2019/2018"}]
["اسم التلميذ",{"$f":"VLOOKUP(E32,جلوس_أسماء4,3,FALSE)","v":"احمد3"},"رقم الجلوس",null,{"$f":"VLOOKUP(E32,جلوس_أسماء4,2,FALSE)","v":62},null,"اسم التلميذ",{"$f":"VLOOKUP(K32,جلوس_أسماء4,3,FALSE)","v":"احمد18"},"رقم الجلوس",null,{"$f":"VLOOKUP(K32,جلوس_أسماء4,2,FALSE)","v":77}]
["اليوم والترايخ","المـــــــــــــــــــادة","الوقت",null,"الزمــــن ",null,"اليوم والترايخ","المـــــــــــــــــــادة","الوقت",null,"الزمــــن "]
[null,null,"من ","إلي",null,null,null,null,"من ","إلي"]
[{"$f":"'جدول الصف الرابع'!$B$7","v":"السبت"},{"$f":"'جدول الصف الرابع'!$C$7","v":"لغة عربية وخط"},{"$f":"'جدول الصف الرابع'!$D$7","v":8},{"$f":"'جدول الصف الرابع'!$E$7","v":10.3},{"$f":"'جدول الصف الرابع'!$F$7","v":"ساعتان ونصف"},null,{"$f":"'جدول الصف الرابع'!$B$7","v":"السبت"},{"$f":"'جدول الصف الرابع'!$C$7","v":"لغة عربية وخط"},{"$f":"'جدول الصف الرابع'!$D$7","v":8},{"$f":"'جدول الصف الرابع'!$E$7","v":10.3},{"$f":"'جدول الصف الرابع'!$F$7","v":"ساعتان ونصف"}]
[{"$f":"'جدول الصف الرابع'!$B$8","v":"2018-01-01"},null,null,null,null,null,{"$f":"'جدول الصف الرابع'!$B$8","v":"2018-01-01"}]
[{"$f":"'جدول الصف الرابع'!$B$9","v":"الأحد"},{"$f":"'جدول الصف الرابع'!$C$9","v":"الرياضيات"},{"$f":"'جدول الصف الرابع'!$D$9","v":8},{"$f":"'جدول الصف الرابع'!$E$9","v":9.3000000000000007},{"$f":"'جدول الصف الرابع'!$F$9","v":"ساعة ونصف"},null,{"$f":"'جدول الصف الرابع'!$B$9","v":"الأحد"},{"$f":"'جدول الصف الرابع'!$C$9","v":"الرياضيات"},{"$f":"'جدول الصف الرابع'!$D$9","v":8},{"$f":"'جدول الصف الرابع'!$E$9","v":9.3000000000000007},{"$f":"'جدول الصف الرابع'!$F$9","v":"ساعة ونصف"}]
[{"$f":"'جدول الصف الرابع'!$B$10","v":"2018-01-02"},{"$f":"'جدول الصف الرابع'!$C$10","v":"اللغة الإنجليزية"},{"$f":"'جدول الصف الرابع'!$D$10","v":9.4499999999999993},{"$f":"'جدول الصف الرابع'!$E$10","v":11.15},{"$f":"'جدول الصف الرابع'!$F$10","v":"ساعة ونصف"},null,{"$f":"'جدول الصف الرابع'!$B$10","v":"2018-01-02"},{"$f":"'جدول الصف الرابع'!$C$10","v":"اللغة الإنجليزية"},{"$f":"'جدول الصف الرابع'!$D$10","v":9.4499999999999993},{"$f":"'جدول الصف الرابع'!$E$10","v":11.15},{"$f":"'جدول الصف الرابع'!$F$10","v":"ساعة ونصف"}]
[{"$f":"'جدول الصف الرابع'!$B$11","v":"الاثنين"},{"$f":"'جدول الصف الرابع'!$C$11","v":"علوم"},{"$f":"'جدول الصف الرابع'!$D$11","v":9.4499999999999993},{"$f":"'جدول الصف الرابع'!$E$11","v":10.8},{"$f":"'جدول الصف الرابع'!$F$11","v":"ساعة ونصف"},null,{"$f":"'جدول الصف الرابع'!$B$11","v":"الاثنين"},{"$f":"'جدول الصف الرابع'!$C$11","v":"علوم"},{"$f":"'جدول الصف الرابع'!$D$11","v":9.4499999999999993},{"$f":"'جدول الصف الرابع'!$E$11","v":10.8},{"$f":"'جدول الصف الرابع'!$F$11","v":"ساعة ونصف"}]
[{"$f":"'جدول الصف الرابع'!$B$12","v":"2018-01-03"},{"$f":"'جدول الصف الرابع'!$C$12","v":"التربية الدينية"},{"$f":"'جدول الصف الرابع'!$D$12","v":9.67},{"$f":"'جدول الصف الرابع'!$E$12","v":10.93},{"$f":"'جدول الصف الرابع'!$F$12","v":"ساعة ونصف"},null,{"$f":"'جدول الصف الرابع'!$B$12","v":"2018-01-03"},{"$f":"'جدول الصف الرابع'!$C$12","v":"التربية الدينية"},{"$f":"'جدول الصف الرابع'!$D$12","v":9.67},{"$f":"'جدول الصف الرابع'!$E$12","v":10.93},{"$f":"'جدول الصف الرابع'!$F$12","v":"ساعة ونصف"}]
[{"$f":"'جدول الصف الرابع'!$B$13","v":"الثلاثاء"},{"$f":"'جدول الصف الرابع'!$C$13","v":"الدراسات"},{"$f":"'جدول الصف الرابع'!$D$13","v":9.89},{"$f":"'جدول الصف الرابع'!$E$13","v":11.06},{"$f":"'جدول الصف الرابع'!$F$13","v":"ساعة ونصف"},null,{"$f":"'جدول الصف الرابع'!$B$13","v":"الثلاثاء"},{"$f":"'جدول الصف الرابع'!$C$13","v":"الدراسات"},{"$f":"'جدول الصف الرابع'!$D$13","v":9.89},{"$f":"'جدول الصف الرابع'!$E$13","v":11.06},{"$f":"'جدول الصف الرابع'!$F$13","v":"ساعة ونصف"}]
[{"$f":"'جدول الصف الرابع'!$B$14","v":"2018-01-04"},null,null,null,null,null,{"$f":"'جدول الصف الرابع'!$B$14","v":"2018-01-04"}]
[]
[{"$f":"'جدول الصف الرابع'!$A$1","v":"إدارة /غرب المحلة الكبرى التعليمية"},null,"رقم اللجنة",null,{"$f":"VLOOKUP(E47,جلوس_أسماء4,7,FALSE)","v":1},null,{"$f":"'جدول الصف الرابع'!$A$1","v":"إدارة /غرب المحلة الكبرى التعليمية"},null,"رقم اللجنة",null,{"$f":"VLOOKUP(K47,جلوس_أسماء4,7,FALSE)","v":1}]
[{"$f":"'جدول الصف الرابع'!$A$2","v":"مدرسة د/علي علي حبيش الابتدائية"},null,{"$f":"'جدول الصف الرابع'!$C$4","v":"الصف الرابع"},null,{"$f":"E32+1","v":4},null,{"$f":"'جدول الصف الرابع'!$A$2","v":"مدرسة د/علي علي حبيش الابتدائية"},null,{"$f":"'جدول الصف الرابع'!$C$4","v":"الصف الرابع"},null,{"$f":"K32+1","v":19}]
[{"$f":"'جدول الصف الرابع'!$B$3","v":"جدول امتحان الفصل الدراسي الأول / الثاني للعام الدراسي 2019/2018"},null,null,null,null,null,{"$f":"'جدول الصف الرابع'!$B$3","v":"جدول امتحان الفصل الدراسي الأول / الثاني للعام الدراسي 2019/2018"}]
["اسم التلميذ",{"$f":"VLOOKUP(E47,جلوس_أسماء4,3,FALSE)","v":"احمد4"},"رقم الجلوس",null,{"$f":"VLOOKUP(E47,جلوس_أسماء4,2,FALSE)","v":63},null,"اسم التلميذ",{"$f":"VLOOKUP(K47,جلوس_أسماء4,3,FALSE)","v":"احمد19"},"رقم الجلوس",null,{"$f":"VLOOKUP(K47,جلوس_أسماء4,2,FALSE)","v":78}]
["اليوم والترايخ","المـــــــــــــــــــادة","الوقت",null,"الزمــــن ",null,"اليوم والترايخ","المـــــــــــــــــــادة","الوقت",null,"الزمــــن "]
[null,null,"من ","إلي",null,null,null,null,"من ","إلي"]
[{"$f":"'جدول الصف الرابع'!$B$7","v":"السبت"},{"$f":"'جدول الصف الرابع'!$C$7","v":"لغة عربية وخط"},{"$f":"'جدول الصف الرابع'!$D$7","v":8},{"$f":"'جدول الصف الرابع'!$E$7","v":10.3},{"$f":"'جدول الصف الرابع'!$F$7","v":"ساعتان ونصف"},null,{"$f":"'جدول الصف الرابع'!$B$7","v":"السبت"},{"$f":"'جدول الصف الرابع'!$C$7","v":"لغة عربية وخط"},{"$f":"'جدول الصف الرابع'!$D$7","v":8},{"$f":"'جدول الصف الرابع'!$E$7","v":10.3},{"$f":"'جدول الصف الرابع'!$F$7","v":"ساعتان ونصف"}]
[{"$f":"'جدول الصف الرابع'!$B$8","v":"2018-01-01"},null,null,null,null,null,{"$f":"'جدول الصف الرابع'!$B$8","v":"2018-01-01"}]
[{"$f":"'جدول الصف الرابع'!$B$9","v":"الأحد"},{"$f":"'جدول الصف الرابع'!$C$9","v":"الرياضيات"},{"$f":"'جدول الصف الرابع'!$D$9","v":8},{"$f":"'جدول الصف الرابع'!$E$9","v":9.3000000000000007},{"$f":"'جدول الصف الرابع'!$F$9","v":"ساعة ونصف"},null,{"$f":"'جدول الصف الرابع'!$B$9","v":"الأحد"},{"$f":"'جدول الصف الرابع'!$C$9","v":"الرياضيات"},{"$f":"'جدول الصف الرابع'!$D$9","v":8},{"$f":"'جدول الصف الرابع'!$E$9","v":9.3000000000000007},{"$f":"'جدول الصف الرابع'!$F$9","v":"ساعة ونصف"}]
[{"$f":"'جدول الصف الرابع'!$B$10","v":"2018-01-02"},{"$f":"'جدول الصف الرابع'!$C$10","v":"اللغة الإنجليزية"},{"$f":"'جدول الصف الرابع'!$D$10","v":9.4499999999999993},{"$f":"'جدول الصف الرابع'!$E$10","v":11.15},{"$f":"'جدول الصف الرابع'!$F$10","v":"ساعة ونصف"},null,{"$f":"'جدول الصف الرابع'!$B$10","v":"2018-01-02"},{"$f":"'جدول الصف الرابع'!$C$10","v":"اللغة الإنجليزية"},{"$f":"'جدول الصف الرابع'!$D$10","v":9.4499999999999993},{"$f":"'جدول الصف الرابع'!$E$10","v":11.15},{"$f":"'جدول الصف الرابع'!$F$10","v":"ساعة ونصف"}]
[{"$f":"'جدول الصف الرابع'!$B$11","v":"الاثنين"},{"$f":"'جدول الصف الرابع'!$C$11","v":"علوم"},{"$f":"'جدول الصف الرابع'!$D$11","v":9.4499999999999993},{"$f":"'جدول الصف الرابع'!$E$11","v":10.8},{"$f":"'جدول الصف الرابع'!$F$11","v":"ساعة ونصف"},null,{"$f":"'جدول الصف الرابع'!$B$11","v":"الاثنين"},{"$f":"'جدول الصف الرابع'!$C$11","v":"علوم"},{"$f":"'جدول الصف الرابع'!$D$11","v":9.4499999999999993},{"$f":"'جدول الصف الرابع'!$E$11","v":10.8},{"$f":"'جدول الصف الرابع'!$F$11","v":"ساعة ونصف"}]
[{"$f":"'جدول الصف الرابع'!$B$12","v":"2018-01-03"},{"$f":"'جدول الصف الرابع'!$C$12","v":"التربية الدينية"},{"$f":"'جدول الصف الرابع'!$D$12","v":9.67},{"$f":"'جدول الصف الرابع'!$E$12","v":10.93},{"$f":"'جدول الصف الرابع'!$F$12","v":"ساعة ونصف"},null,{"$f":"'جدول الصف الرابع'!$B$12","v":"2018-01-03"},{"$f":"'جدول الصف الرابع'!$C$12","v":"التربية الدينية"},{"$f":"'جدول الصف الرابع'!$D$12","v":9.67},{"$f":"'جدول الصف الرابع'!$E$12","v":10.93},{"$f":"'جدول الصف الرابع'!$F$12","v":"ساعة ونصف"}]
[{"$f":"'جدول الصف الرابع'!$B$13","v":"الثلاثاء"},{"$f":"'جدول الصف الرابع'!$C$13","v":"الدراسات"},{"$f":"'جدول الصف الرابع'!$D$13","v":9.89},{"$f":"'جدول الصف الرابع'!$E$13","v":11.06},{"$f":"'جدول الصف الرابع'!$F$13","v":"ساعة ونصف"},null,{"$f":"'جدول الصف الرابع'!$B$13","v":"الثلاثاء"},{"$f":"'جدول الصف الرابع'!$C$13","v":"الدراسات"},{"$f":"'جدول الصف الرابع'!$D$13","v":9.89},{"$f":"'جدول الصف الرابع'!$E$13","v":11.06},{"$f":"'جدول الصف الرابع'!$F$13","v":"ساعة ونصف"}]
[{"$f":"'جدول الصف الرابع'!$B$14","v":"2018-01-04"},null,null,null,null,null,{"$f":"'جدول الصف الرابع'!$B$14","v":"2018-01-04"}]
[]
[{"$f":"'جدول الصف الرابع'!$A$1","v":"إدارة /غرب المحلة الكبرى التعليمية"},null,"رقم اللجنة",null,{"$f":"VLOOKUP(E62,جلوس_أسماء4,7,FALSE)","v":1},null,{"$f":"'جدول الصف الرابع'!$A$1","v":"إدارة /غرب المحلة الكبرى التعليمية"},null,"رقم اللجنة",null,{"$f":"VLOOKUP(K62,جلوس_أسماء4,7,FALSE)","v":1}]
[{"$f":"'جدول الصف الرابع'!$A$2","v":"مدرسة د/علي علي حبيش الابتدائية"},null,{"$f":"'جدول الصف الرابع'!$C$4","v":"الصف الرابع"},null,{"$f":"E47+1","v":5},null,{"$f":"'جدول الصف الرابع'!$A$2","v":"مدرسة د/علي علي حبيش الابتدائية"},null,{"$f":"'جدول الصف الرابع'!$C$4","v":"الصف الرابع"},null,{"$f":"K47+1","v":20}]
[{"$f":"'جدول الصف الرابع'!$B$3","v":"جدول امتحان الفصل الدراسي الأول / الثاني للعام الدراسي 2019/2018"},null,null,null,null,null,{"$f":"'جدول الصف الرابع'!$B$3","v":"جدول امتحان الفصل الدراسي الأول / الثاني للعام الدراسي 2019/2018"}]
["اسم التلميذ",{"$f":"VLOOKUP(E62,جلوس_أسماء4,3,FALSE)","v":"احمد5"},"رقم الجلوس",null,{"$f":"VLOOKUP(E62,جلوس_أسماء4,2,FALSE)","v":64},null,"اسم التلميذ",{"$f":"VLOOKUP(K62,جلوس_أسماء4,3,FALSE)","v":"احمد20"},"رقم الجلوس",null,{"$f":"VLOOKUP(K62,جلوس_أسماء4,2,FALSE)","v":79}]
["اليوم والترايخ","المـــــــــــــــــــادة","الوقت",null,"الزمــــن ",null,"اليوم والترايخ","المـــــــــــــــــــادة","الوقت",null,"الزمــــن "]
[null,null,"من ","إلي",null,null,null,null,"من ","إلي"]
[{"$f":"'جدول الصف الرابع'!$B$7","v":"السبت"},{"$f":"'جدول الصف الرابع'!$C$7","v":"لغة عربية وخط"},{"$f":"'جدول الصف الرابع'!$D$7","v":8},{"$f":"'جدول الصف الرابع'!$E$7","v":10.3},{"$f":"'جدول الصف الرابع'!$F$7","v":"ساعتان ونصف"},null,{"$f":"'جدول الصف الرابع'!$B$7","v":"السبت"},{"$f":"'جدول الصف الرابع'!$C$7","v":"لغة عربية وخط"},{"$f":"'جدول الصف الرابع'!$D$7","v":8},{"$f":"'جدول الصف الرابع'!$E$7","v":10.3},{"$f":"'جدول الصف الرابع'!$F$7","v":"ساعتان ونصف"}]
[{"$f":"'جدول الصف الرابع'!$B$8","v":"2018-01-01"},null,null,null,null,null,{"$f":"'جدول الصف الرابع'!$B$8","v":"2018-01-01"}]
[{"$f":"'جدول الصف الرابع'!$B$9","v":"الأحد"},{"$f":"'جدول الصف الرابع'!$C$9","v":"الرياضيات"},{"$f":"'جدول الصف الرابع'!$D$9","v":8},{"$f":"'جدول الصف الرابع'!$E$9","v":9.3000000000000007},{"$f":"'جدول الصف الرابع'!$F$9","v":"ساعة ونصف"},null,{"$f":"'جدول الصف الرابع'!$B$9","v":"الأحد"},{"$f":"'جدول الصف الرابع'!$C$9","v":"الرياضيات"},{"$f":"'جدول الصف الرابع'!$D$9","v":8},{"$f":"'جدول الصف الرابع'!$E$9","v":9.3000000000000007},{"$f":"'جدول الصف الرابع'!$F$9","v":"ساعة ونصف"}]
[{"$f":"'جدول الصف الرابع'!$B$10","v":"2018-01-02"},{"$f":"'جدول الصف الرابع'!$C$10","v":"اللغة الإنجليزية"},{"$f":"'جدول الصف الرابع'!$D$10","v":9.4499999999999993},{"$f":"'جدول الصف الرابع'!$E$10","v":11.15},{"$f":"'جدول الصف الرابع'!$F$10","v":"ساعة ونصف"},null,{"$f":"'جدول الصف الرابع'!$B$10","v":"2018-01-02"},{"$f":"'جدول الصف الرابع'!$C$10","v":"اللغة الإنجليزية"},{"$f":"'جدول الصف الرابع'!$D$10","v":9.4499999999999993},{"$f":"'جدول الصف الرابع'!$E$10","v":11.15},{"$f":"'جدول الصف الرابع'!$F$10","v":"ساعة ونصف"}]
[{"$f":"'جدول الصف الرابع'!$B$11","v":"الاثنين"},{"$f":"'جدول الصف الرابع'!$C$11","v":"علوم"},{"$f":"'جدول الصف الرابع'!$D$11","v":9.4499999999999993},{"$f":"'جدول الصف الرابع'!$E$11","v":10.8},{"$f":"'جدول الصف الرابع'!$F$11","v":"ساعة ونصف"},null,{"$f":"'جدول الصف الرابع'!$B$11","v":"الاثنين"},{"$f":"'جدول الصف الرابع'!$C$11","v":"علوم"},{"$f":"'جدول الصف الرابع'!$D$11","v":9.4499999999999993},{"$f":"'جدول الصف الرابع'!$E$11","v":10.8},{"$f":"'جدول الصف الرابع'!$F$11","v":"ساعة ونصف"}]
[{"$f":"'جدول الصف الرابع'!$B$12","v":"2018-01-03"},{"$f":"'جدول الصف الرابع'!$C$12","v":"التربية الدينية"},{"$f":"'جدول الصف الرابع'!$D$12","v":9.67},{"$f":"'جدول الصف الرابع'!$E$12","v":10.93},{"$f":"'جدول الصف الرابع'!$F$12","v":"ساعة ونصف"},null,{"$f":"'جدول الصف الرابع'!$B$12","v":"2018-01-03"},{"$f":"'جدول الصف الرابع'!$C$12","v":"التربية الدينية"},{"$f":"'جدول الصف الرابع'!$D$12","v":9.67},{"$f":"'جدول الصف الرابع'!$E$12","v":10.93},{"$f":"'جدول الصف الرابع'!$F$12","v":"ساعة ونصف"}]
[{"$f":"'جدول الصف الرابع'!$B$13","v":"الثلاثاء"},{"$f":"'جدول الصف الرابع'!$C$13","v":"الدراسات"},{"$f":"'جدول الصف الرابع'!$D$13","v":9.89},{"$f":"'جدول الصف الرابع'!$E$13","v":11.06},{"$f":"'جدول الصف الرابع'!$F$13","v":"ساعة ونصف"},null,{"$f":"'جدول الصف الرابع'!$B$13","v":"الثلاثاء"},{"$f":"'جدول الصف الرابع'!$C$13","v":"الدراسات"},{"$f":"'جدول الصف الرابع'!$D$13","v":9.89},{"$f":"'جدول الصف الرابع'!$E$13","v":11.06},{"$f":"'جدول الصف الرابع'!$F$13","v":"ساعة ونصف"}]
[{"$f":"'جدول الصف الرابع'!$B$14","v":"2018-01-04"},null,null,null,null,null,{"$f":"'جدول الصف الرابع'!$B$14","v":"2018-01-04"}]
[]
[{"$f":"'جدول الصف الرابع'!$A$1","v":"إدارة /غرب المحلة الكبرى التعليمية"},null,"رقم اللجنة",null,{"$f":"VLOOKUP(E77,جلوس_أسماء4,7,FALSE)","v":1},null,{"$f":"'جدول الصف الرابع'!$A$1","v":"إدارة /غرب المحلة الكبرى التعليمية"},null,"رقم اللجنة",null,{"$f":"VLOOKUP(K77,جلوس_أسماء4,7,FALSE)","v":2}]
[{"$f":"'جدول الصف الرابع'!$A$2","v":"مدرسة د/علي علي حبيش الابتدائية"},null,{"$f":"'جدول الصف الرابع'!$C$4","v":"الصف الرابع"},null,{"$f":"E62+1","v":6},null,{"$f":"'جدول الصف الرابع'!$A$2","v":"مدرسة د/علي علي حبيش الابتدائية"},null,{"$f":"'جدول الصف الرابع'!$C$4","v":"الصف الرابع"},null,{"$f":"K62+1","v":21}]
[{"$f":"'جدول الصف الرابع'!$B$3","v":"جدول امتحان الفصل الدراسي الأول / الثاني للعام الدراسي 2019/2018"},null,null,null,null,null,{"$f":"'جدول الصف الرابع'!$B$3","v":"جدول امتحان الفصل الدراسي الأول / الثاني للعام الدراسي 2019/2018"}]
["اسم التلميذ",{"$f":"VLOOKUP(E77,جلوس_أسماء4,3,FALSE)","v":"احمد6"},"رقم الجلوس",null,{"$f":"VLOOKUP(E77,جلوس_أسماء4,2,FALSE)","v":65},null,"اسم التلميذ",{"$f":"VLOOKUP(K77,جلوس_أسماء4,3,FALSE)","v":"احمد21"},"رقم الجلوس",null,{"$f":"VLOOKUP(K77,جلوس_أسماء4,2,FALSE)","v":80}]
["اليوم والترايخ","المـــــــــــــــــــادة","الوقت",null,"الزمــــن ",null,"اليوم والترايخ","المـــــــــــــــــــادة","الوقت",null,"الزمــــن "]
[null,null,"من ","إلي",null,null,null,null,"من ","إلي"]
[{"$f":"'جدول الصف الرابع'!$B$7","v":"السبت"},{"$f":"'جدول الصف الرابع'!$C$7","v":"لغة عربية وخط"},{"$f":"'جدول الصف الرابع'!$D$7","v":8},{"$f":"'جدول الصف الرابع'!$E$7","v":10.3},{"$f":"'جدول الصف الرابع'!$F$7","v":"ساعتان ونصف"},null,{"$f":"'جدول الصف الرابع'!$B$7","v":"السبت"},{"$f":"'جدول الصف الرابع'!$C$7","v":"لغة عربية وخط"},{"$f":"'جدول الصف الرابع'!$D$7","v":8},{"$f":"'جدول الصف الرابع'!$E$7","v":10.3},{"$f":"'جدول الصف الرابع'!$F$7","v":"ساعتان ونصف"}]
[{"$f":"'جدول الصف الرابع'!$B$8","v":"2018-01-01"},null,null,null,null,null,{"$f":"'جدول الصف الرابع'!$B$8","v":"2018-01-01"}]
[{"$f":"'جدول الصف الرابع'!$B$9","v":"الأحد"},{"$f":"'جدول الصف الرابع'!$C$9","v":"الرياضيات"},{"$f":"'جدول الصف الرابع'!$D$9","v":8},{"$f":"'جدول الصف الرابع'!$E$9","v":9.3000000000000007},{"$f":"'جدول الصف الرابع'!$F$9","v":"ساعة ونصف"},null,{"$f":"'جدول الصف الرابع'!$B$9","v":"الأحد"},{"$f":"'جدول الصف الرابع'!$C$9","v":"الرياضيات"},{"$f":"'جدول الصف الرابع'!$D$9","v":8},{"$f":"'جدول الصف الرابع'!$E$9","v":9.3000000000000007},{"$f":"'جدول الصف الرابع'!$F$9","v":"ساعة ونصف"}]
[{"$f":"'جدول الصف الرابع'!$B$10","v":"2018-01-02"},{"$f":"'جدول الصف الرابع'!$C$10","v":"اللغة الإنجليزية"},{"$f":"'جدول الصف الرابع'!$D$10","v":9.4499999999999993},{"$f":"'جدول الصف الرابع'!$E$10","v":11.15},{"$f":"'جدول الصف الرابع'!$F$10","v":"ساعة ونصف"},null,{"$f":"'جدول الصف الرابع'!$B$10","v":"2018-01-02"},{"$f":"'جدول الصف الرابع'!$C$10","v":"اللغة الإنجليزية"},{"$f":"'جدول الصف الرابع'!$D$10","v":9.4499999999999993},{"$f":"'جدول الصف الرابع'!$E$10","v":11.15},{"$f":"'جدول الصف الرابع'!$F$10","v":"ساعة ونصف"}]
[{"$f":"'جدول الصف الرابع'!$B$11","v":"الاثنين"},{"$f":"'جدول الصف الرابع'!$C$11","v":"علوم"},{"$f":"'جدول الصف الرابع'!$D$11","v":9.4499999999999993},{"$f":"'جدول الصف الرابع'!$E$11","v":10.8},{"$f":"'جدول الصف الرابع'!$F$11","v":"ساعة ونصف"},null,{"$f":"'جدول الصف الرابع'!$B$11","v":"الاثنين"},{"$f":"'جدول الصف الرابع'!$C$11","v":"علوم"},{"$f":"'جدول الصف الرابع'!$D$11","v":9.4499999999999993},{"$f":"'جدول الصف الرابع'!$E$11","v":10.8},{"$f":"'جدول الصف الرابع'!$F$11","v":"ساعة ونصف"}]
[{"$f":"'جدول الصف الرابع'!$B$12","v":"2018-01-03"},{"$f":"'جدول الصف الرابع'!$C$12","v":"التربية الدينية"},{"$f":"'جدول الصف الرابع'!$D$12","v":9.67},{"$f":"'جدول الصف الرابع'!$E$12","v":10.93},{"$f":"'جدول الصف الرابع'!$F$12","v":"ساعة ونصف"},null,{"$f":"'جدول الصف الرابع'!$B$12","v":"2018-01-03"},{"$f":"'جدول الصف الرابع'!$C$12","v":"التربية الدينية"},{"$f":"'جدول الصف الرابع'!$D$12","v":9.67},{"$f":"'جدول الصف الرابع'!$E$12","v":10.93},{"$f":"'جدول الصف الرابع'!$F$12","v":"ساعة ونصف"}]
[{"$f":"'جدول الصف الرابع'!$B$13","v":"الثلاثاء"},{"$f":"'جدول الصف الرابع'!$C$13","v":"الدراسات"},{"$f":"'جدول الصف الرابع'!$D$13","v":9.89},{"$f":"'جدول الصف الرابع'!$E$13","v":11.06},{"$f":"'جدول الصف الرابع'!$F$13","v":"ساعة ونصف"},null,{"$f":"'جدول الصف الرابع'!$B$13","v":"الثلاثاء"},{"$f":"'جدول الصف الرابع'!$C$13","v":"الدراسات"},{"$f":"'جدول الصف الرابع'!$D$13","v":9.89},{"$f":"'جدول الصف الرابع'!$E$13","v":11.06},{"$f":"'جدول الصف الرابع'!$F$13","v":"ساعة ونصف"}]
[{"$f":"'جدول الصف الرابع'!$B$14","v":"2018-01-04"},null,null,null,null,null,{"$f":"'جدول الصف الرابع'!$B$14","v":"2018-01-04"}]
[]
[{"$f":"'جدول الصف الرابع'!$A$1","v":"إدارة /غرب المحلة الكبرى التعليمية"},null,"رقم اللجنة",null,{"$f":"VLOOKUP(E92,جلوس_أسماء4,7,FALSE)","v":1},null,{"$f":"'جدول الصف الرابع'!$A$1","v":"إدارة /غرب المحلة الكبرى التعليمية"},null,"رقم اللجنة",null,{"$f":"VLOOKUP(K92,جلوس_أسماء4,7,FALSE)","v":2}]
[{"$f":"'جدول الصف الرابع'!$A$2","v":"مدرسة د/علي علي حبيش الابتدائية"},null,{"$f":"'جدول الصف الرابع'!$C$4","v":"الصف الرابع"},null,{"$f":"E77+1","v":7},null,{"$f":"'جدول الصف الرابع'!$A$2","v":"مدرسة د/علي علي حبيش الابتدائية"},null,{"$f":"'جدول الصف الرابع'!$C$4","v":"الصف الرابع"},null,{"$f":"K77+1","v":22}]
[{"$f":"'جدول الصف الرابع'!$B$3","v":"جدول امتحان الفصل الدراسي الأول / الثاني للعام الدراسي 2019/2018"},null,null,null,null,null,{"$f":"'جدول الصف الرابع'!$B$3","v":"جدول امتحان الفصل الدراسي الأول / الثاني للعام الدراسي 2019/2018"}]
["اسم التلميذ",{"$f":"VLOOKUP(E92,جلوس_أسماء4,3,FALSE)","v":"احمد7"},"رقم الجلوس",null,{"$f":"VLOOKUP(E92,جلوس_أسماء4,2,FALSE)","v":66},null,"اسم التلميذ",{"$f":"VLOOKUP(K92,جلوس_أسماء4,3,FALSE)","v":"احمد22"},"رقم الجلوس",null,{"$f":"VLOOKUP(K92,جلوس_أسماء4,2,FALSE)","v":81}]
["اليوم والترايخ","المـــــــــــــــــــادة","الوقت",null,"الزمــــن ",null,"اليوم والترايخ","المـــــــــــــــــــادة","الوقت",null,"الزمــــن "]
[null,null,"من ","إلي",null,null,null,null,"من ","إلي"]
[{"$f":"'جدول الصف الرابع'!$B$7","v":"السبت"},{"$f":"'جدول الصف الرابع'!$C$7","v":"لغة عربية وخط"},{"$f":"'جدول الصف الرابع'!$D$7","v":8},{"$f":"'جدول الصف الرابع'!$E$7","v":10.3},{"$f":"'جدول الصف الرابع'!$F$7","v":"ساعتان ونصف"},null,{"$f":"'جدول الصف الرابع'!$B$7","v":"السبت"},{"$f":"'جدول الصف الرابع'!$C$7","v":"لغة عربية وخط"},{"$f":"'جدول الصف الرابع'!$D$7","v":8},{"$f":"'جدول الصف الرابع'!$E$7","v":10.3},{"$f":"'جدول الصف الرابع'!$F$7","v":"ساعتان ونصف"}]
[{"$f":"'جدول الصف الرابع'!$B$8","v":"2018-01-01"},null,null,null,null,null,{"$f":"'جدول الصف الرابع'!$B$8","v":"2018-01-01"}]
[{"$f":"'جدول الصف الرابع'!$B$9","v":"الأحد"},{"$f":"'جدول الصف الرابع'!$C$9","v":"الرياضيات"},{"$f":"'جدول الصف الرابع'!$D$9","v":8},{"$f":"'جدول الصف الرابع'!$E$9","v":9.3000000000000007},{"$f":"'جدول الصف الرابع'!$F$9","v":"ساعة ونصف"},null,{"$f":"'جدول الصف الرابع'!$B$9","v":"الأحد"},{"$f":"'جدول الصف الرابع'!$C$9","v":"الرياضيات"},{"$f":"'جدول الصف الرابع'!$D$9","v":8},{"$f":"'جدول الصف الرابع'!$E$9","v":9.3000000000000007},{"$f":"'جدول الصف الرابع'!$F$9","v":"ساعة ونصف"}]
[{"$f":"'جدول الصف الرابع'!$B$10","v":"2018-01-02"},{"$f":"'جدول الصف الرابع'!$C$10","v":"اللغة الإنجليزية"},{"$f":"'جدول الصف الرابع'!$D$10","v":9.4499999999999993},{"$f":"'جدول الصف الرابع'!$E$10","v":11.15},{"$f":"'جدول الصف الرابع'!$F$10","v":"ساعة ونصف"},null,{"$f":"'جدول الصف الرابع'!$B$10","v":"2018-01-02"},{"$f":"'جدول الصف الرابع'!$C$10","v":"اللغة الإنجليزية"},{"$f":"'جدول الصف الرابع'!$D$10","v":9.4499999999999993},{"$f":"'جدول الصف الرابع'!$E$10","v":11.15},{"$f":"'جدول الصف الرابع'!$F$10","v":"ساعة ونصف"}]
[{"$f":"'جدول الصف الرابع'!$B$11","v":"الاثنين"},{"$f":"'جدول الصف الرابع'!$C$11","v":"علوم"},{"$f":"'جدول الصف الرابع'!$D$11","v":9.4499999999999993},{"$f":"'جدول الصف الرابع'!$E$11","v":10.8},{"$f":"'جدول الصف الرابع'!$F$11","v":"ساعة ونصف"},null,{"$f":"'جدول الصف الرابع'!$B$11","v":"الاثنين"},{"$f":"'جدول الصف الرابع'!$C$11","v":"علوم"},{"$f":"'جدول الصف الرابع'!$D$11","v":9.4499999999999993},{"$f":"'جدول الصف الرابع'!$E$11","v":10.8},{"$f":"'جدول الصف الرابع'!$F$11","v":"ساعة ونصف"}]
[{"$f":"'جدول الصف الرابع'!$B$12","v":"2018-01-03"},{"$f":"'جدول الصف الرابع'!$C$12","v":"التربية الدينية"},{"$f":"'جدول الصف الرابع'!$D$12","v":9.67},{"$f":"'جدول الصف الرابع'!$E$12","v":10.93},{"$f":"'جدول الصف الرابع'!$F$12","v":"ساعة ونصف"},null,{"$f":"'جدول الصف الرابع'!$B$12","v":"2018-01-03"},{"$f":"'جدول الصف الرابع'!$C$12","v":"التربية الدينية"},{"$f":"'جدول الصف الرابع'!$D$12","v":9.67},{"$f":"'جدول الصف الرابع'!$E$12","v":10.93},{"$f":"'جدول الصف الرابع'!$F$12","v":"ساعة ونصف"}]
[{"$f":"'جدول الصف الرابع'!$B$13","v":"الثلاثاء"},{"$f":"'جدول الصف الرابع'!$C$13","v":"الدراسات"},{"$f":"'جدول الصف الرابع'!$D$13","v":9.89},{"$f":"'جدول الصف الرابع'!$E$13","v":11.06},{"$f":"'جدول الصف الرابع'!$F$13","v":"ساعة ونصف"},null,{"$f":"'جدول الصف الرابع'!$B$13","v":"الثلاثاء"},{"$f":"'جدول الصف الرابع'!$C$13","v":"الدراسات"},{"$f":"'جدول الصف الرابع'!$D$13","v":9.89},{"$f":"'جدول الصف الرابع'!$E$13","v":11.06},{"$f":"'جدول الصف الرابع'!$F$13","v":"ساعة ونصف"}]
[{"$f":"'جدول الصف الرابع'!$B$14","v":"2018-01-04"},null,null,null,null,null,{"$f":"'جدول الصف الرابع'!$B$14","v":"2018-01-04"}]
[]
[{"$f":"'جدول الصف الرابع'!$A$1","v":"إدارة /غرب المحلة الكبرى التعليمية"},null,"رقم اللجنة",null,{"$f":"VLOOKUP(E107,جلوس_أسماء4,7,FALSE)","v":1},null,{"$f":"'جدول الصف الرابع'!$A$1","v":"إدارة /غرب المحلة الكبرى التعليمية"},null,"رقم اللجنة",null,{"$f":"VLOOKUP(K107,جلوس_أسماء4,7,FALSE)","v":2}]
[{"$f":"'جدول الصف الرابع'!$A$2","v":"مدرسة د/علي علي حبيش الابتدائية"},null,{"$f":"'جدول الصف الرابع'!$C$4","v":"الصف الرابع"},null,{"$f":"E92+1","v":8},null,{"$f":"'جدول الصف الرابع'!$A$2","v":"مدرسة د/علي علي حبيش الابتدائية"},null,{"$f":"'جدول الصف الرابع'!$C$4","v":"الصف الرابع"},null,{"$f":"K92+1","v":23}]
[{"$f":"'جدول الصف الرابع'!$B$3","v":"جدول امتحان الفصل الدراسي الأول / الثاني للعام الدراسي 2019/2018"},null,null,null,null,null,{"$f":"'جدول الصف الرابع'!$B$3","v":"جدول امتحان الفصل الدراسي الأول / الثاني للعام الدراسي 2019/2018"}]
["اسم التلميذ",{"$f":"VLOOKUP(E107,جلوس_أسماء4,3,FALSE)","v":"احمد8"},"رقم الجلوس",null,{"$f":"VLOOKUP(E107,جلوس_أسماء4,2,FALSE)","v":67},null,"اسم التلميذ",{"$f":"VLOOKUP(K107,جلوس_أسماء4,3,FALSE)","v":"احمد23"},"رقم الجلوس",null,{"$f":"VLOOKUP(K107,جلوس_أسماء4,2,FALSE)","v":82}]
["اليوم والترايخ","المـــــــــــــــــــادة","الوقت",null,"الزمــــن ",null,"اليوم والترايخ","المـــــــــــــــــــادة","الوقت",null,"الزمــــن "]
[null,null,"من ","إلي",null,null,null,null,"من ","إلي"]
[{"$f":"'جدول الصف الرابع'!$B$7","v":"السبت"},{"$f":"'جدول الصف الرابع'!$C$7","v":"لغة عربية وخط"},{"$f":"'جدول الصف الرابع'!$D$7","v":8},{"$f":"'جدول الصف الرابع'!$E$7","v":10.3},{"$f":"'جدول الصف الرابع'!$F$7","v":"ساعتان ونصف"},null,{"$f":"'جدول الصف الرابع'!$B$7","v":"السبت"},{"$f":"'جدول الصف الرابع'!$C$7","v":"لغة عربية وخط"},{"$f":"'جدول الصف الرابع'!$D$7","v":8},{"$f":"'جدول الصف الرابع'!$E$7","v":10.3},{"$f":"'جدول الصف الرابع'!$F$7","v":"ساعتان ونصف"}]
[{"$f":"'جدول الصف الرابع'!$B$8","v":"2018-01-01"},null,null,null,null,null,{"$f":"'جدول الصف الرابع'!$B$8","v":"2018-01-01"}]
[{"$f":"'جدول الصف الرابع'!$B$9","v":"الأحد"},{"$f":"'جدول الصف الرابع'!$C$9","v":"الرياضيات"},{"$f":"'جدول الصف الرابع'!$D$9","v":8},{"$f":"'جدول الصف الرابع'!$E$9","v":9.3000000000000007},{"$f":"'جدول الصف الرابع'!$F$9","v":"ساعة ونصف"},null,{"$f":"'جدول الصف الرابع'!$B$9","v":"الأحد"},{"$f":"'جدول الصف الرابع'!$C$9","v":"الرياضيات"},{"$f":"'جدول الصف الرابع'!$D$9","v":8},{"$f":"'جدول الصف الرابع'!$E$9","v":9.3000000000000007},{"$f":"'جدول الصف الرابع'!$F$9","v":"ساعة ونصف"}]
[{"$f":"'جدول الصف الرابع'!$B$10","v":"2018-01-02"},{"$f":"'جدول الصف الرابع'!$C$10","v":"اللغة الإنجليزية"},{"$f":"'جدول الصف الرابع'!$D$10","v":9.4499999999999993},{"$f":"'جدول الصف الرابع'!$E$10","v":11.15},{"$f":"'جدول الصف الرابع'!$F$10","v":"ساعة ونصف"},null,{"$f":"'جدول الصف الرابع'!$B$10","v":"2018-01-02"},{"$f":"'جدول الصف الرابع'!$C$10","v":"اللغة الإنجليزية"},{"$f":"'جدول الصف الرابع'!$D$10","v":9.4499999999999993},{"$f":"'جدول الصف الرابع'!$E$10","v":11.15},{"$f":"'جدول الصف الرابع'!$F$10","v":"ساعة ونصف"}]
[{"$f":"'جدول الصف الرابع'!$B$11","v":"الاثنين"},{"$f":"'جدول الصف الرابع'!$C$11","v":"علوم"},{"$f":"'جدول الصف الرابع'!$D$11","v":9.4499999999999993},{"$f":"'جدول الصف الرابع'!$E$11","v":10.8},{"$f":"'جدول الصف الرابع'!$F$11","v":"ساعة ونصف"},null,{"$f":"'جدول الصف الرابع'!$B$11","v":"الاثنين"},{"$f":"'جدول الصف الرابع'!$C$11","v":"علوم"},{"$f":"'جدول الصف الرابع'!$D$11","v":9.4499999999999993},{"$f":"'جدول الصف الرابع'!$E$11","v":10.8},{"$f":"'جدول الصف الرابع'!$F$11","v":"ساعة ونصف"}]
[{"$f":"'جدول الصف الرابع'!$B$12","v":"2018-01-03"},{"$f":"'جدول الصف الرابع'!$C$12","v":"التربية الدينية"},{"$f":"'جدول الصف الرابع'!$D$12","v":9.67},{"$f":"'جدول الصف الرابع'!$E$12","v":10.93},{"$f":"'جدول الصف الرابع'!$F$12","v":"ساعة ونصف"},null,{"$f":"'جدول الصف الرابع'!$B$12","v":"2018-01-03"},{"$f":"'جدول الصف الرابع'!$C$12","v":"التربية الدينية"},{"$f":"'جدول الصف الرابع'!$D$12","v":9.67},{"$f":"'جدول الصف الرابع'!$E$12","v":10.93},{"$f":"'جدول الصف الرابع'!$F$12","v":"ساعة ونصف"}]
[{"$f":"'جدول الصف الرابع'!$B$13","v":"الثلاثاء"},{"$f":"'جدول الصف الرابع'!$C$13","v":"الدراسات"},{"$f":"'جدول الصف الرابع'!$D$13","v":9.89},{"$f":"'جدول الصف الرابع'!$E$13","v":11.06},{"$f":"'جدول الصف الرابع'!$F$13","v":"ساعة ونصف"},null,{"$f":"'جدول الصف الرابع'!$B$13","v":"الثلاثاء"},{"$f":"'جدول الصف الرابع'!$C$13","v":"الدراسات"},{"$f":"'جدول الصف الرابع'!$D$13","v":9.89},{"$f":"'جدول الصف الرابع'!$E$13","v":11.06},{"$f":"'جدول الصف الرابع'!$F$13","v":"ساعة ونصف"}]
[{"$f":"'جدول الصف الرابع'!$B$14","v":"2018-01-04"},null,null,null,null,null,{"$f":"'جدول الصف الرابع'!$B$14","v":"2018-01-04"}]
[]
[{"$f":"'جدول الصف الرابع'!$A$1","v":"إدارة /غرب المحلة الكبرى التعليمية"},null,"رقم اللجنة",null,{"$f":"VLOOKUP(E122,جلوس_أسماء4,7,FALSE)","v":1},null,{"$f":"'جدول الصف الرابع'!$A$1","v":"إدارة /غرب المحلة الكبرى التعليمية"},null,"رقم اللجنة",null,{"$f":"VLOOKUP(K122,جلوس_أسماء4,7,FALSE)","v":2}]
[{"$f":"'جدول الصف الرابع'!$A$2","v":"مدرسة د/علي علي حبيش الابتدائية"},null,{"$f":"'جدول الصف الرابع'!$C$4","v":"الصف الرابع"},null,{"$f":"E107+1","v":9},null,{"$f":"'جدول الصف الرابع'!$A$2","v":"مدرسة د/علي علي حبيش الابتدائية"},null,{"$f":"'جدول الصف الرابع'!$C$4","v":"الصف الرابع"},null,{"$f":"K107+1","v":24}]
[{"$f":"'جدول الصف الرابع'!$B$3","v":"جدول امتحان الفصل الدراسي الأول / الثاني للعام الدراسي 2019/2018"},null,null,null,null,null,{"$f":"'جدول الصف الرابع'!$B$3","v":"جدول امتحان الفصل الدراسي الأول / الثاني للعام الدراسي 2019/2018"}]
["اسم التلميذ",{"$f":"VLOOKUP(E122,جلوس_أسماء4,3,FALSE)","v":"احمد9"},"رقم الجلوس",null,{"$f":"VLOOKUP(E122,جلوس_أسماء4,2,FALSE)","v":68},null,"اسم التلميذ",{"$f":"VLOOKUP(K122,جلوس_أسماء4,3,FALSE)","v":"احمد24"},"رقم الجلوس",null,{"$f":"VLOOKUP(K122,جلوس_أسماء4,2,FALSE)","v":83}]
["اليوم والترايخ","المـــــــــــــــــــادة","الوقت",null,"الزمــــن ",null,"اليوم والترايخ","المـــــــــــــــــــادة","الوقت",null,"الزمــــن "]
[null,null,"من ","إلي",null,null,null,null,"من ","إلي"]
[{"$f":"'جدول الصف الرابع'!$B$7","v":"السبت"},{"$f":"'جدول الصف الرابع'!$C$7","v":"لغة عربية وخط"},{"$f":"'جدول الصف الرابع'!$D$7","v":8},{"$f":"'جدول الصف الرابع'!$E$7","v":10.3},{"$f":"'جدول الصف الرابع'!$F$7","v":"ساعتان ونصف"},null,{"$f":"'جدول الصف الرابع'!$B$7","v":"السبت"},{"$f":"'جدول الصف الرابع'!$C$7","v":"لغة عربية وخط"},{"$f":"'جدول الصف الرابع'!$D$7","v":8},{"$f":"'جدول الصف الرابع'!$E$7","v":10.3},{"$f":"'جدول الصف الرابع'!$F$7","v":"ساعتان ونصف"}]
[{"$f":"'جدول الصف الرابع'!$B$8","v":"2018-01-01"},null,null,null,null,null,{"$f":"'جدول الصف الرابع'!$B$8","v":"2018-01-01"}]
[{"$f":"'جدول الصف الرابع'!$B$9","v":"الأحد"},{"$f":"'جدول الصف الرابع'!$C$9","v":"الرياضيات"},{"$f":"'جدول الصف الرابع'!$D$9","v":8},{"$f":"'جدول الصف الرابع'!$E$9","v":9.3000000000000007},{"$f":"'جدول الصف الرابع'!$F$9","v":"ساعة ونصف"},null,{"$f":"'جدول الصف الرابع'!$B$9","v":"الأحد"},{"$f":"'جدول الصف الرابع'!$C$9","v":"الرياضيات"},{"$f":"'جدول الصف الرابع'!$D$9","v":8},{"$f":"'جدول الصف الرابع'!$E$9","v":9.3000000000000007},{"$f":"'جدول الصف الرابع'!$F$9","v":"ساعة ونصف"}]
[{"$f":"'جدول الصف الرابع'!$B$10","v":"2018-01-02"},{"$f":"'جدول الصف الرابع'!$C$10","v":"اللغة الإنجليزية"},{"$f":"'جدول الصف الرابع'!$D$10","v":9.4499999999999993},{"$f":"'جدول الصف الرابع'!$E$10","v":11.15},{"$f":"'جدول الصف الرابع'!$F$10","v":"ساعة ونصف"},null,{"$f":"'جدول الصف الرابع'!$B$10","v":"2018-01-02"},{"$f":"'جدول الصف الرابع'!$C$10","v":"اللغة الإنجليزية"},{"$f":"'جدول الصف الرابع'!$D$10","v":9.4499999999999993},{"$f":"'جدول الصف الرابع'!$E$10","v":11.15},{"$f":"'جدول الصف الرابع'!$F$10","v":"ساعة ونصف"}]
[{"$f":"'جدول الصف الرابع'!$B$11","v":"الاثنين"},{"$f":"'جدول الصف الرابع'!$C$11","v":"علوم"},{"$f":"'جدول الصف الرابع'!$D$11","v":9.4499999999999993},{"$f":"'جدول الصف الرابع'!$E$11","v":10.8},{"$f":"'جدول الصف الرابع'!$F$11","v":"ساعة ونصف"},null,{"$f":"'جدول الصف الرابع'!$B$11","v":"الاثنين"},{"$f":"'جدول الصف الرابع'!$C$11","v":"علوم"},{"$f":"'جدول الصف الرابع'!$D$11","v":9.4499999999999993},{"$f":"'جدول الصف الرابع'!$E$11","v":10.8},{"$f":"'جدول الصف الرابع'!$F$11","v":"ساعة ونصف"}]
[{"$f":"'جدول الصف الرابع'!$B$12","v":"2018-01-03"},{"$f":"'جدول الصف الرابع'!$C$12","v":"التربية الدينية"},{"$f":"'جدول الصف الرابع'!$D$12","v":9.67},{"$f":"'جدول الصف الرابع'!$E$12","v":10.93},{"$f":"'جدول الصف الرابع'!$F$12","v":"ساعة ونصف"},null,{"$f":"'جدول الصف الرابع'!$B$12","v":"2018-01-03"},{"$f":"'جدول الصف الرابع'!$C$12","v":"التربية الدينية"},{"$f":"'جدول الصف الرابع'!$D$12","v":9.67},{"$f":"'جدول الصف الرابع'!$E$12","v":10.93},{"$f":"'جدول الصف الرابع'!$F$12","v":"ساعة ونصف"}]
[{"$f":"'جدول الصف الرابع'!$B$13","v":"الثلاثاء"},{"$f":"'جدول الصف الرابع'!$C$13","v":"الدراسات"},{"$f":"'جدول الصف الرابع'!$D$13","v":9.89},{"$f":"'جدول الصف الرابع'!$E$13","v":11.06},{"$f":"'جدول الصف الرابع'!$F$13","v":"ساعة ونصف"},null,{"$f":"'جدول الصف الرابع'!$B$13","v":"الثلاثاء"},{"$f":"'جدول الصف الرابع'!$C$13","v":"الدراسات"},{"$f":"'جدول الصف الرابع'!$D$13","v":9.89},{"$f":"'جدول الصف الرابع'!$E$13","v":11.06},{"$f":"'جدول الصف الرابع'!$F$13","v":"ساعة ونصف"}]
[{"$f":"'جدول الصف الرابع'!$B$14","v":"2018-01-04"},null,null,null,null,null,{"$f":"'جدول الصف الرابع'!$B$14","v":"2018-01-04"}]
[]
[{"$f":"'جدول الصف الرابع'!$A$1","v":"إدارة /غرب المحلة الكبرى التعليمية"},null,"رقم اللجنة",null,{"$f":"VLOOKUP(E137,جلوس_أسماء4,7,FALSE)","v":1},null,{"$f":"'جدول الصف الرابع'!$A$1","v":"إدارة /غرب المحلة الكبرى التعليمية"},null,"رقم اللجنة",null,{"$f":"VLOOKUP(K137,جلوس_أسماء4,7,FALSE)","v":2}]
[{"$f":"'جدول الصف الرابع'!$A$2","v":"مدرسة د/علي علي حبيش الابتدائية"},null,{"$f":"'جدول الصف الرابع'!$C$4","v":"الصف الرابع"},null,{"$f":"E122+1","v":10},null,{"$f":"'جدول الصف الرابع'!$A$2","v":"مدرسة د/علي علي حبيش الابتدائية"},null,{"$f":"'جدول الصف الرابع'!$C$4","v":"الصف الرابع"},null,{"$f":"K122+1","v":25}]
[{"$f":"'جدول الصف الرابع'!$B$3","v":"جدول امتحان الفصل الدراسي الأول / الثاني للعام الدراسي 2019/2018"},null,null,null,null,null,{"$f":"'جدول الصف الرابع'!$B$3","v":"جدول امتحان الفصل الدراسي الأول / الثاني للعام الدراسي 2019/2018"}]
["اسم التلميذ",{"$f":"VLOOKUP(E137,جلوس_أسماء4,3,FALSE)","v":"احمد10"},"رقم الجلوس",null,{"$f":"VLOOKUP(E137,جلوس_أسماء4,2,FALSE)","v":69},null,"اسم التلميذ",{"$f":"VLOOKUP(K137,جلوس_أسماء4,3,FALSE)","v":"احمد25"},"رقم الجلوس",null,{"$f":"VLOOKUP(K137,جلوس_أسماء4,2,FALSE)","v":84}]
["اليوم والترايخ","المـــــــــــــــــــادة","الوقت",null,"الزمــــن ",null,"اليوم والترايخ","المـــــــــــــــــــادة","الوقت",null,"الزمــــن "]
[null,null,"من ","إلي",null,null,null,null,"من ","إلي"]
[{"$f":"'جدول الصف الرابع'!$B$7","v":"السبت"},{"$f":"'جدول الصف الرابع'!$C$7","v":"لغة عربية وخط"},{"$f":"'جدول الصف الرابع'!$D$7","v":8},{"$f":"'جدول الصف الرابع'!$E$7","v":10.3},{"$f":"'جدول الصف الرابع'!$F$7","v":"ساعتان ونصف"},null,{"$f":"'جدول الصف الرابع'!$B$7","v":"السبت"},{"$f":"'جدول الصف الرابع'!$C$7","v":"لغة عربية وخط"},{"$f":"'جدول الصف الرابع'!$D$7","v":8},{"$f":"'جدول الصف الرابع'!$E$7","v":10.3},{"$f":"'جدول الصف الرابع'!$F$7","v":"ساعتان ونصف"}]
[{"$f":"'جدول الصف الرابع'!$B$8","v":"2018-01-01"},null,null,null,null,null,{"$f":"'جدول الصف الرابع'!$B$8","v":"2018-01-01"}]
[{"$f":"'جدول الصف الرابع'!$B$9","v":"الأحد"},{"$f":"'جدول الصف الرابع'!$C$9","v":"الرياضيات"},{"$f":"'جدول الصف الرابع'!$D$9","v":8},{"$f":"'جدول الصف الرابع'!$E$9","v":9.3000000000000007},{"$f":"'جدول الصف الرابع'!$F$9","v":"ساعة ونصف"},null,{"$f":"'جدول الصف الرابع'!$B$9","v":"الأحد"},{"$f":"'جدول الصف الرابع'!$C$9","v":"الرياضيات"},{"$f":"'جدول الصف الرابع'!$D$9","v":8},{"$f":"'جدول الصف الرابع'!$E$9","v":9.3000000000000007},{"$f":"'جدول الصف الرابع'!$F$9","v":"ساعة ونصف"}]
[{"$f":"'جدول الصف الرابع'!$B$10","v":"2018-01-02"},{"$f":"'جدول الصف الرابع'!$C$10","v":"اللغة الإنجليزية"},{"$f":"'جدول الصف الرابع'!$D$10","v":9.4499999999999993},{"$f":"'جدول الصف الرابع'!$E$10","v":11.15},{"$f":"'جدول الصف الرابع'!$F$10","v":"ساعة ونصف"},null,{"$f":"'جدول الصف الرابع'!$B$10","v":"2018-01-02"},{"$f":"'جدول الصف الرابع'!$C$10","v":"اللغة الإنجليزية"},{"$f":"'جدول الصف الرابع'!$D$10","v":9.4499999999999993},{"$f":"'جدول الصف الرابع'!$E$10","v":11.15},{"$f":"'جدول الصف الرابع'!$F$10","v":"ساعة ونصف"}]
[{"$f":"'جدول الصف الرابع'!$B$11","v":"الاثنين"},{"$f":"'جدول الصف الرابع'!$C$11","v":"علوم"},{"$f":"'جدول الصف الرابع'!$D$11","v":9.4499999999999993},{"$f":"'جدول الصف الرابع'!$E$11","v":10.8},{"$f":"'جدول الصف الرابع'!$F$11","v":"ساعة ونصف"},null,{"$f":"'جدول الصف الرابع'!$B$11","v":"الاثنين"},{"$f":"'جدول الصف الرابع'!$C$11","v":"علوم"},{"$f":"'جدول الصف الرابع'!$D$11","v":9.4499999999999993},{"$f":"'جدول الصف الرابع'!$E$11","v":10.8},{"$f":"'جدول الصف الرابع'!$F$11","v":"ساعة ونصف"}]
[{"$f":"'جدول الصف الرابع'!$B$12","v":"2018-01-03"},{"$f":"'جدول الصف الرابع'!$C$12","v":"التربية الدينية"},{"$f":"'جدول الصف الرابع'!$D$12","v":9.67},{"$f":"'جدول الصف الرابع'!$E$12","v":10.93},{"$f":"'جدول الصف الرابع'!$F$12","v":"ساعة ونصف"},null,{"$f":"'جدول الصف الرابع'!$B$12","v":"2018-01-03"},{"$f":"'جدول الصف الرابع'!$C$12","v":"التربية الدينية"},{"$f":"'جدول الصف الرابع'!$D$12","v":9.67},{"$f":"'جدول الصف الرابع'!$E$12","v":10.93},{"$f":"'جدول الصف الرابع'!$F$12","v":"ساعة ونصف"}]
[{"$f":"'جدول الصف الرابع'!$B$13","v":"الثلاثاء"},{"$f":"'جدول الصف الرابع'!$C$13","v":"الدراسات"},{"$f":"'جدول الصف الرابع'!$D$13","v":9.89},{"$f":"'جدول الصف الرابع'!$E$13","v":11.06},{"$f":"'جدول الصف الرابع'!$F$13","v":"ساعة ونصف"},null,{"$f":"'جدول الصف الرابع'!$B$13","v":"الثلاثاء"},{"$f":"'جدول الصف الرابع'!$C$13","v":"الدراسات"},{"$f":"'جدول الصف الرابع'!$D$13","v":9.89},{"$f":"'جدول الصف الرابع'!$E$13","v":11.06},{"$f":"'جدول الصف الرابع'!$F$13","v":"ساعة ونصف"}]
[{"$f":"'جدول الصف الرابع'!$B$14","v":"2018-01-04"},null,null,null,null,null,{"$f":"'جدول الصف الرابع'!$B$14","v":"2018-01-04"}]
[]
[{"$f":"'جدول الصف الرابع'!$A$1","v":"إدارة /غرب المحلة الكبرى التعليمية"},null,"رقم اللجنة",null,{"$f":"VLOOKUP(E152,جلوس_أسماء4,7,FALSE)","v":1},null,{"$f":"'جدول الصف الرابع'!$A$1","v":"إدارة /غرب المحلة الكبرى التعليمية"},null,"رقم اللجنة",null,{"$f":"VLOOKUP(K152,جلوس_أسماء4,7,FALSE)","v":2}]
[{"$f":"'جدول الصف الرابع'!$A$2","v":"مدرسة د/علي علي حبيش الابتدائية"},null,{"$f":"'جدول الصف الرابع'!$C$4","v":"الصف الرابع"},null,{"$f":"E137+1","v":11},null,{"$f":"'جدول الصف الرابع'!$A$2","v":"مدرسة د/علي علي حبيش الابتدائية"},null,{"$f":"'جدول الصف الرابع'!$C$4","v":"الصف الرابع"},null,{"$f":"K137+1","v":26}]
[{"$f":"'جدول الصف الرابع'!$B$3","v":"جدول امتحان الفصل الدراسي الأول / الثاني للعام الدراسي 2019/2018"},null,null,null,null,null,{"$f":"'جدول الصف الرابع'!$B$3","v":"جدول امتحان الفصل الدراسي الأول / الثاني للعام الدراسي 2019/2018"}]
["اسم التلميذ",{"$f":"VLOOKUP(E152,جلوس_أسماء4,3,FALSE)","v":"احمد11"},"رقم الجلوس",null,{"$f":"VLOOKUP(E152,جلوس_أسماء4,2,FALSE)","v":70},null,"اسم التلميذ",{"$f":"VLOOKUP(K152,جلوس_أسماء4,3,FALSE)","v":"احمد26"},"رقم الجلوس",null,{"$f":"VLOOKUP(K152,جلوس_أسماء4,2,FALSE)","v":85}]
["اليوم والترايخ","المـــــــــــــــــــادة","الوقت",null,"الزمــــن ",null,"اليوم والترايخ","المـــــــــــــــــــادة","الوقت",null,"الزمــــن "]
[null,null,"من ","إلي",null,null,null,null,"من ","إلي"]
[{"$f":"'جدول الصف الرابع'!$B$7","v":"السبت"},{"$f":"'جدول الصف الرابع'!$C$7","v":"لغة عربية وخط"},{"$f":"'جدول الصف الرابع'!$D$7","v":8},{"$f":"'جدول الصف الرابع'!$E$7","v":10.3},{"$f":"'جدول الصف الرابع'!$F$7","v":"ساعتان ونصف"},null,{"$f":"'جدول الصف الرابع'!$B$7","v":"السبت"},{"$f":"'جدول الصف الرابع'!$C$7","v":"لغة عربية وخط"},{"$f":"'جدول الصف الرابع'!$D$7","v":8},{"$f":"'جدول الصف الرابع'!$E$7","v":10.3},{"$f":"'جدول الصف الرابع'!$F$7","v":"ساعتان ونصف"}]
[{"$f":"'جدول الصف الرابع'!$B$8","v":"2018-01-01"},null,null,null,null,null,{"$f":"'جدول الصف الرابع'!$B$8","v":"2018-01-01"}]
[{"$f":"'جدول الصف الرابع'!$B$9","v":"الأحد"},{"$f":"'جدول الصف الرابع'!$C$9","v":"الرياضيات"},{"$f":"'جدول الصف الرابع'!$D$9","v":8},{"$f":"'جدول الصف الرابع'!$E$9","v":9.3000000000000007},{"$f":"'جدول الصف الرابع'!$F$9","v":"ساعة ونصف"},null,{"$f":"'جدول الصف الرابع'!$B$9","v":"الأحد"},{"$f":"'جدول الصف الرابع'!$C$9","v":"الرياضيات"},{"$f":"'جدول الصف الرابع'!$D$9","v":8},{"$f":"'جدول الصف الرابع'!$E$9","v":9.3000000000000007},{"$f":"'جدول الصف الرابع'!$F$9","v":"ساعة ونصف"}]
[{"$f":"'جدول الصف الرابع'!$B$10","v":"2018-01-02"},{"$f":"'جدول الصف الرابع'!$C$10","v":"اللغة الإنجليزية"},{"$f":"'جدول الصف الرابع'!$D$10","v":9.4499999999999993},{"$f":"'جدول الصف الرابع'!$E$10","v":11.15},{"$f":"'جدول الصف الرابع'!$F$10","v":"ساعة ونصف"},null,{"$f":"'جدول الصف الرابع'!$B$10","v":"2018-01-02"},{"$f":"'جدول الصف الرابع'!$C$10","v":"اللغة الإنجليزية"},{"$f":"'جدول الصف الرابع'!$D$10","v":9.4499999999999993},{"$f":"'جدول الصف الرابع'!$E$10","v":11.15},{"$f":"'جدول الصف الرابع'!$F$10","v":"ساعة ونصف"}]
[{"$f":"'جدول الصف الرابع'!$B$11","v":"الاثنين"},{"$f":"'جدول الصف الرابع'!$C$11","v":"علوم"},{"$f":"'جدول الصف الرابع'!$D$11","v":9.4499999999999993},{"$f":"'جدول الصف الرابع'!$E$11","v":10.8},{"$f":"'جدول الصف الرابع'!$F$11","v":"ساعة ونصف"},null,{"$f":"'جدول الصف الرابع'!$B$11","v":"الاثنين"},{"$f":"'جدول الصف الرابع'!$C$11","v":"علوم"},{"$f":"'جدول الصف الرابع'!$D$11","v":9.4499999999999993},{"$f":"'جدول الصف الرابع'!$E$11","v":10.8},{"$f":"'جدول الصف الرابع'!$F$11","v":"ساعة ونصف"}]
[{"$f":"'جدول الصف الرابع'!$B$12","v":"2018-01-03"},{"$f":"'جدول الصف الرابع'!$C$12","v":"التربية الدينية"},{"$f":"'جدول الصف الرابع'!$D$12","v":9.67},{"$f":"'جدول الصف الرابع'!$E$12","v":10.93},{"$f":"'جدول الصف الرابع'!$F$12","v":"ساعة ونصف"},null,{"$f":"'جدول الصف الرابع'!$B$12","v":"2018-01-03"},{"$f":"'جدول الصف الرابع'!$C$12","v":"التربية الدينية"},{"$f":"'جدول الصف الرابع'!$D$12","v":9.67},{"$f":"'جدول الصف الرابع'!$E$12","v":10.93},{"$f":"'جدول الصف الرابع'!$F$12","v":"ساعة ونصف"}]
[{"$f":"'جدول الصف الرابع'!$B$13","v":"الثلاثاء"},{"$f":"'جدول الصف الرابع'!$C$13","v":"الدراسات"},{"$f":"'جدول الصف الرابع'!$D$13","v":9.89},{"$f":"'جدول الصف الرابع'!$E$13","v":11.06},{"$f":"'جدول الصف الرابع'!$F$13","v":"ساعة ونصف"},null,{"$f":"'جدول الصف الرابع'!$B$13","v":"الثلاثاء"},{"$f":"'جدول الصف الرابع'!$C$13","v":"الدراسات"},{"$f":"'جدول الصف الرابع'!$D$13","v":9.89},{"$f":"'جدول الصف الرابع'!$E$13","v":11.06},{"$f":"'جدول الصف الرابع'!$F$13","v":"ساعة ونصف"}]
[{"$f":"'جدول الصف الرابع'!$B$14","v":"2018-01-04"},null,null,null,null,null,{"$f":"'جدول الصف الرابع'!$B$14","v":"2018-01-04"}]
[]
[{"$f":"'جدول الصف الرابع'!$A$1","v":"إدارة /غرب المحلة الكبرى التعليمية"},null,"رقم اللجنة",null,{"$f":"VLOOKUP(E167,جلوس_أسماء4,7,FALSE)","v":1},null,{"$f":"'جدول الصف الرابع'!$A$1","v":"إدارة /غرب المحلة الكبرى التعليمية"},null,"رقم اللجنة",null,{"$f":"VLOOKUP(K167,جلوس_أسماء4,7,FALSE)","v":2}]
[{"$f":"'جدول الصف الرابع'!$A$2","v":"مدرسة د/علي علي حبيش الابتدائية"},null,{"$f":"'جدول الصف الرابع'!$C$4","v":"الصف الرابع"},null,{"$f":"E152+1","v":12},null,{"$f":"'جدول الصف الرابع'!$A$2","v":"مدرسة د/علي علي حبيش الابتدائية"},null,{"$f":"'جدول الصف الرابع'!$C$4","v":"الصف الرابع"},null,{"$f":"K152+1","v":27}]
[{"$f":"'جدول الصف الرابع'!$B$3","v":"جدول امتحان الفصل الدراسي الأول / الثاني للعام الدراسي 2019/2018"},null,null,null,null,null,{"$f":"'جدول الصف الرابع'!$B$3","v":"جدول امتحان الفصل الدراسي الأول / الثاني للعام الدراسي 2019/2018"}]
["اسم التلميذ",{"$f":"VLOOKUP(E167,جلوس_أسماء4,3,FALSE)","v":"احمد12"},"رقم الجلوس",null,{"$f":"VLOOKUP(E167,جلوس_أسماء4,2,FALSE)","v":71},null,"اسم التلميذ",{"$f":"VLOOKUP(K167,جلوس_أسماء4,3,FALSE)","v":"احمد27"},"رقم الجلوس",null,{"$f":"VLOOKUP(K167,جلوس_أسماء4,2,FALSE)","v":86}]
["اليوم والترايخ","المـــــــــــــــــــادة","الوقت",null,"الزمــــن ",null,"اليوم والترايخ","المـــــــــــــــــــادة","الوقت",null,"الزمــــن "]
[null,null,"من ","إلي",null,null,null,null,"من ","إلي"]
[{"$f":"'جدول الصف الرابع'!$B$7","v":"السبت"},{"$f":"'جدول الصف الرابع'!$C$7","v":"لغة عربية وخط"},{"$f":"'جدول الصف الرابع'!$D$7","v":8},{"$f":"'جدول الصف الرابع'!$E$7","v":10.3},{"$f":"'جدول الصف الرابع'!$F$7","v":"ساعتان ونصف"},null,{"$f":"'جدول الصف الرابع'!$B$7","v":"السبت"},{"$f":"'جدول الصف الرابع'!$C$7","v":"لغة عربية وخط"},{"$f":"'جدول الصف الرابع'!$D$7","v":8},{"$f":"'جدول الصف الرابع'!$E$7","v":10.3},{"$f":"'جدول الصف الرابع'!$F$7","v":"ساعتان ونصف"}]
[{"$f":"'جدول الصف الرابع'!$B$8","v":"2018-01-01"},null,null,null,null,null,{"$f":"'جدول الصف الرابع'!$B$8","v":"2018-01-01"}]
[{"$f":"'جدول الصف الرابع'!$B$9","v":"الأحد"},{"$f":"'جدول الصف الرابع'!$C$9","v":"الرياضيات"},{"$f":"'جدول الصف الرابع'!$D$9","v":8},{"$f":"'جدول الصف الرابع'!$E$9","v":9.3000000000000007},{"$f":"'جدول الصف الرابع'!$F$9","v":"ساعة ونصف"},null,{"$f":"'جدول الصف الرابع'!$B$9","v":"الأحد"},{"$f":"'جدول الصف الرابع'!$C$9","v":"الرياضيات"},{"$f":"'جدول الصف الرابع'!$D$9","v":8},{"$f":"'جدول الصف الرابع'!$E$9","v":9.3000000000000007},{"$f":"'جدول الصف الرابع'!$F$9","v":"ساعة ونصف"}]
[{"$f":"'جدول الصف الرابع'!$B$10","v":"2018-01-02"},{"$f":"'جدول الصف الرابع'!$C$10","v":"اللغة الإنجليزية"},{"$f":"'جدول الصف الرابع'!$D$10","v":9.4499999999999993},{"$f":"'جدول الصف الرابع'!$E$10","v":11.15},{"$f":"'جدول الصف الرابع'!$F$10","v":"ساعة ونصف"},null,{"$f":"'جدول الصف الرابع'!$B$10","v":"2018-01-02"},{"$f":"'جدول الصف الرابع'!$C$10","v":"اللغة الإنجليزية"},{"$f":"'جدول الصف الرابع'!$D$10","v":9.4499999999999993},{"$f":"'جدول الصف الرابع'!$E$10","v":11.15},{"$f":"'جدول الصف الرابع'!$F$10","v":"ساعة ونصف"}]
[{"$f":"'جدول الصف الرابع'!$B$11","v":"الاثنين"},{"$f":"'جدول الصف الرابع'!$C$11","v":"علوم"},{"$f":"'جدول الصف الرابع'!$D$11","v":9.4499999999999993},{"$f":"'جدول الصف الرابع'!$E$11","v":10.8},{"$f":"'جدول الصف الرابع'!$F$11","v":"ساعة ونصف"},null,{"$f":"'جدول الصف الرابع'!$B$11","v":"الاثنين"},{"$f":"'جدول الصف الرابع'!$C$11","v":"علوم"},{"$f":"'جدول الصف الرابع'!$D$11","v":9.4499999999999993},{"$f":"'جدول الصف الرابع'!$E$11","v":10.8},{"$f":"'جدول الصف الرابع'!$F$11","v":"ساعة ونصف"}]
[{"$f":"'جدول الصف الرابع'!$B$12","v":"2018-01-03"},{"$f":"'جدول الصف الرابع'!$C$12","v":"التربية الدينية"},{"$f":"'جدول الصف الرابع'!$D$12","v":9.67},{"$f":"'جدول الصف الرابع'!$E$12","v":10.93},{"$f":"'جدول الصف الرابع'!$F$12","v":"ساعة ونصف"},null,{"$f":"'جدول الصف الرابع'!$B$12","v":"2018-01-03"},{"$f":"'جدول الصف الرابع'!$C$12","v":"التربية الدينية"},{"$f":"'جدول الصف الرابع'!$D$12","v":9.67},{"$f":"'جدول الصف الرابع'!$E$12","v":10.93},{"$f":"'جدول الصف الرابع'!$F$12","v":"ساعة ونصف"}]
[{"$f":"'جدول الصف الرابع'!$B$13","v":"الثلاثاء"},{"$f":"'جدول الصف الرابع'!$C$13","v":"الدراسات"},{"$f":"'جدول الصف الرابع'!$D$13","v":9.89},{"$f":"'جدول الصف الرابع'!$E$13","v":11.06},{"$f":"'جدول الصف الرابع'!$F$13","v":"ساعة ونصف"},null,{"$f":"'جدول الصف الرابع'!$B$13","v":"الثلاثاء"},{"$f":"'جدول الصف الرابع'!$C$13","v":"الدراسات"},{"$f":"'جدول الصف الرابع'!$D$13","v":9.89},{"$f":"'جدول الصف الرابع'!$E$13","v":11.06},{"$f":"'جدول الصف الرابع'!$F$13","v":"ساعة ونصف"}]
[{"$f":"'جدول الصف الرابع'!$B$14","v":"2018-01-04"},null,null,null,null,null,{"$f":"'جدول الصف الرابع'!$B$14","v":"2018-01-04"}]
[]
[{"$f":"'جدول الصف الرابع'!$A$1","v":"إدارة /غرب المحلة الكبرى التعليمية"},null,"رقم اللجنة",null,{"$f":"VLOOKUP(E182,جلوس_أسماء4,7,FALSE)","v":1},null,{"$f":"'جدول الصف الرابع'!$A$1","v":"إدارة /غرب المحلة الكبرى التعليمية"},null,"رقم اللجنة",null,{"$f":"VLOOKUP(K182,جلوس_أسماء4,7,FALSE)","v":2}]
[{"$f":"'جدول الصف الرابع'!$A$2","v":"مدرسة د/علي علي حبيش الابتدائية"},null,{"$f":"'جدول الصف الرابع'!$C$4","v":"الصف الرابع"},null,{"$f":"E167+1","v":13},null,{"$f":"'جدول الصف الرابع'!$A$2","v":"مدرسة د/علي علي حبيش الابتدائية"},null,{"$f":"'جدول الصف الرابع'!$C$4","v":"الصف الرابع"},null,{"$f":"K167+1","v":28}]
[{"$f":"'جدول الصف الرابع'!$B$3","v":"جدول امتحان الفصل الدراسي الأول / الثاني للعام الدراسي 2019/2018"},null,null,null,null,null,{"$f":"'جدول الصف الرابع'!$B$3","v":"جدول امتحان الفصل الدراسي الأول / الثاني للعام الدراسي 2019/2018"}]
["اسم التلميذ",{"$f":"VLOOKUP(E182,جلوس_أسماء4,3,FALSE)","v":"احمد13"},"رقم الجلوس",null,{"$f":"VLOOKUP(E182,جلوس_أسماء4,2,FALSE)","v":72},null,"اسم التلميذ",{"$f":"VLOOKUP(K182,جلوس_أسماء4,3,FALSE)","v":"احمد28"},"رقم الجلوس",null,{"$f":"VLOOKUP(K182,جلوس_أسماء4,2,FALSE)","v":87}]
["اليوم والترايخ","المـــــــــــــــــــادة","الوقت",null,"الزمــــن ",null,"اليوم والترايخ","المـــــــــــــــــــادة","الوقت",null,"الزمــــن "]
[null,null,"من ","إلي",null,null,null,null,"من ","إلي"]
[{"$f":"'جدول الصف الرابع'!$B$7","v":"السبت"},{"$f":"'جدول الصف الرابع'!$C$7","v":"لغة عربية وخط"},{"$f":"'جدول الصف الرابع'!$D$7","v":8},{"$f":"'جدول الصف الرابع'!$E$7","v":10.3},{"$f":"'جدول الصف الرابع'!$F$7","v":"ساعتان ونصف"},null,{"$f":"'جدول الصف الرابع'!$B$7","v":"السبت"},{"$f":"'جدول الصف الرابع'!$C$7","v":"لغة عربية وخط"},{"$f":"'جدول الصف الرابع'!$D$7","v":8},{"$f":"'جدول الصف الرابع'!$E$7","v":10.3},{"$f":"'جدول الصف الرابع'!$F$7","v":"ساعتان ونصف"}]
[{"$f":"'جدول الصف الرابع'!$B$8","v":"2018-01-01"},null,null,null,null,null,{"$f":"'جدول الصف الرابع'!$B$8","v":"2018-01-01"}]
[{"$f":"'جدول الصف الرابع'!$B$9","v":"الأحد"},{"$f":"'جدول الصف الرابع'!$C$9","v":"الرياضيات"},{"$f":"'جدول الصف الرابع'!$D$9","v":8},{"$f":"'جدول الصف الرابع'!$E$9","v":9.3000000000000007},{"$f":"'جدول الصف الرابع'!$F$9","v":"ساعة ونصف"},null,{"$f":"'جدول الصف الرابع'!$B$9","v":"الأحد"},{"$f":"'جدول الصف الرابع'!$C$9","v":"الرياضيات"},{"$f":"'جدول الصف الرابع'!$D$9","v":8},{"$f":"'جدول الصف الرابع'!$E$9","v":9.3000000000000007},{"$f":"'جدول الصف الرابع'!$F$9","v":"ساعة ونصف"}]
[{"$f":"'جدول الصف الرابع'!$B$10","v":"2018-01-02"},{"$f":"'جدول الصف الرابع'!$C$10","v":"اللغة الإنجليزية"},{"$f":"'جدول الصف الرابع'!$D$10","v":9.4499999999999993},{"$f":"'جدول الصف الرابع'!$E$10","v":11.15},{"$f":"'جدول الصف الرابع'!$F$10","v":"ساعة ونصف"},null,{"$f":"'جدول الصف الرابع'!$B$10","v":"2018-01-02"},{"$f":"'جدول الصف الرابع'!$C$10","v":"اللغة الإنجليزية"},{"$f":"'جدول الصف الرابع'!$D$10","v":9.4499999999999993},{"$f":"'جدول الصف الرابع'!$E$10","v":11.15},{"$f":"'جدول الصف الرابع'!$F$10","v":"ساعة ونصف"}]
[{"$f":"'جدول الصف الرابع'!$B$11","v":"الاثنين"},{"$f":"'جدول الصف الرابع'!$C$11","v":"علوم"},{"$f":"'جدول الصف الرابع'!$D$11","v":9.4499999999999993},{"$f":"'جدول الصف الرابع'!$E$11","v":10.8},{"$f":"'جدول الصف الرابع'!$F$11","v":"ساعة ونصف"},null,{"$f":"'جدول الصف الرابع'!$B$11","v":"الاثنين"},{"$f":"'جدول الصف الرابع'!$C$11","v":"علوم"},{"$f":"'جدول الصف الرابع'!$D$11","v":9.4499999999999993},{"$f":"'جدول الصف الرابع'!$E$11","v":10.8},{"$f":"'جدول الصف الرابع'!$F$11","v":"ساعة ونصف"}]
[{"$f":"'جدول الصف الرابع'!$B$12","v":"2018-01-03"},{"$f":"'جدول الصف الرابع'!$C$12","v":"التربية الدينية"},{"$f":"'جدول الصف الرابع'!$D$12","v":9.67},{"$f":"'جدول الصف الرابع'!$E$12","v":10.93},{"$f":"'جدول الصف الرابع'!$F$12","v":"ساعة ونصف"},null,{"$f":"'جدول الصف الرابع'!$B$12","v":"2018-01-03"},{"$f":"'جدول الصف الرابع'!$C$12","v":"التربية الدينية"},{"$f":"'جدول الصف الرابع'!$D$12","v":9.67},{"$f":"'جدول الصف الرابع'!$E$12","v":10.93},{"$f":"'جدول الصف الرابع'!$F$12","v":"ساعة ونصف"}]
[{"$f":"'جدول الصف الرابع'!$B$13","v":"الثلاثاء"},{"$f":"'جدول الصف الرابع'!$C$13","v":"الدراسات"},{"$f":"'جدول الصف الرابع'!$D$13","v":9.89},{"$f":"'جدول الصف الرابع'!$E$13","v":11.06},{"$f":"'جدول الصف الرابع'!$F$13","v":"ساعة ونصف"},null,{"$f":"'جدول الصف الرابع'!$B$13","v":"الثلاثاء"},{"$f":"'جدول الصف الرابع'!$C$13","v":"الدراسات"},{"$f":"'جدول الصف الرابع'!$D$13","v":9.89},{"$f":"'جدول الصف الرابع'!$E$13","v":11.06},{"$f":"'جدول الصف الرابع'!$F$13","v":"ساعة ونصف"}]
[{"$f":"'جدول الصف الرابع'!$B$14","v":"2018-01-04"},null,null,null,null,null,{"$f":"'جدول الصف الرابع'!$B$14","v":"2018-01-04"}]
[]
[{"$f":"'جدول الصف الرابع'!$A$1","v":"إدارة /غرب المحلة الكبرى التعليمية"},null,"رقم اللجنة",null,{"$f":"VLOOKUP(E197,جلوس_أسماء4,7,FALSE)","v":1},null,{"$f":"'جدول الصف الرابع'!$A$1","v":"إدارة /غرب المحلة الكبرى التعليمية"},null,"رقم اللجنة",null,{"$f":"VLOOKUP(K197,جلوس_أسماء4,7,FALSE)","v":2}]
[{"$f":"'جدول الصف الرابع'!$A$2","v":"مدرسة د/علي علي حبيش الابتدائية"},null,{"$f":"'جدول الصف الرابع'!$C$4","v":"الصف الرابع"},null,{"$f":"E182+1","v":14},null,{"$f":"'جدول الصف الرابع'!$A$2","v":"مدرسة د/علي علي حبيش الابتدائية"},null,{"$f":"'جدول الصف الرابع'!$C$4","v":"الصف الرابع"},null,{"$f":"K182+1","v":29}]
[{"$f":"'جدول الصف الرابع'!$B$3","v":"جدول امتحان الفصل الدراسي الأول / الثاني للعام الدراسي 2019/2018"},null,null,null,null,null,{"$f":"'جدول الصف الرابع'!$B$3","v":"جدول امتحان الفصل الدراسي الأول / الثاني للعام الدراسي 2019/2018"}]
["اسم التلميذ",{"$f":"VLOOKUP(E197,جلوس_أسماء4,3,FALSE)","v":"احمد14"},"رقم الجلوس",null,{"$f":"VLOOKUP(E197,جلوس_أسماء4,2,FALSE)","v":73},null,"اسم التلميذ",{"$f":"VLOOKUP(K197,جلوس_أسماء4,3,FALSE)","v":"احمد29"},"رقم الجلوس",null,{"$f":"VLOOKUP(K197,جلوس_أسماء4,2,FALSE)","v":88}]
["اليوم والترايخ","المـــــــــــــــــــادة","الوقت",null,"الزمــــن ",null,"اليوم والترايخ","المـــــــــــــــــــادة","الوقت",null,"الزمــــن "]
[null,null,"من ","إلي",null,null,null,null,"من ","إلي"]
[{"$f":"'جدول الصف الرابع'!$B$7","v":"السبت"},{"$f":"'جدول الصف الرابع'!$C$7","v":"لغة عربية وخط"},{"$f":"'جدول الصف الرابع'!$D$7","v":8},{"$f":"'جدول الصف الرابع'!$E$7","v":10.3},{"$f":"'جدول الصف الرابع'!$F$7","v":"ساعتان ونصف"},null,{"$f":"'جدول الصف الرابع'!$B$7","v":"السبت"},{"$f":"'جدول الصف الرابع'!$C$7","v":"لغة عربية وخط"},{"$f":"'جدول الصف الرابع'!$D$7","v":8},{"$f":"'جدول الصف الرابع'!$E$7","v":10.3},{"$f":"'جدول الصف الرابع'!$F$7","v":"ساعتان ونصف"}]
[{"$f":"'جدول الصف الرابع'!$B$8","v":"2018-01-01"},null,null,null,null,null,{"$f":"'جدول الصف الرابع'!$B$8","v":"2018-01-01"}]
[{"$f":"'جدول الصف الرابع'!$B$9","v":"الأحد"},{"$f":"'جدول الصف الرابع'!$C$9","v":"الرياضيات"},{"$f":"'جدول الصف الرابع'!$D$9","v":8},{"$f":"'جدول الصف الرابع'!$E$9","v":9.3000000000000007},{"$f":"'جدول الصف الرابع'!$F$9","v":"ساعة ونصف"},null,{"$f":"'جدول الصف الرابع'!$B$9","v":"الأحد"},{"$f":"'جدول الصف الرابع'!$C$9","v":"الرياضيات"},{"$f":"'جدول الصف الرابع'!$D$9","v":8},{"$f":"'جدول الصف الرابع'!$E$9","v":9.3000000000000007},{"$f":"'جدول الصف الرابع'!$F$9","v":"ساعة ونصف"}]
[{"$f":"'جدول الصف الرابع'!$B$10","v":"2018-01-02"},{"$f":"'جدول الصف الرابع'!$C$10","v":"اللغة الإنجليزية"},{"$f":"'جدول الصف الرابع'!$D$10","v":9.4499999999999993},{"$f":"'جدول الصف الرابع'!$E$10","v":11.15},{"$f":"'جدول الصف الرابع'!$F$10","v":"ساعة ونصف"},null,{"$f":"'جدول الصف الرابع'!$B$10","v":"2018-01-02"},{"$f":"'جدول الصف الرابع'!$C$10","v":"اللغة الإنجليزية"},{"$f":"'جدول الصف الرابع'!$D$10","v":9.4499999999999993},{"$f":"'جدول الصف الرابع'!$E$10","v":11.15},{"$f":"'جدول الصف الرابع'!$F$10","v":"ساعة ونصف"}]
[{"$f":"'جدول الصف الرابع'!$B$11","v":"الاثنين"},{"$f":"'جدول الصف الرابع'!$C$11","v":"علوم"},{"$f":"'جدول الصف الرابع'!$D$11","v":9.4499999999999993},{"$f":"'جدول الصف الرابع'!$E$11","v":10.8},{"$f":"'جدول الصف الرابع'!$F$11","v":"ساعة ونصف"},null,{"$f":"'جدول الصف الرابع'!$B$11","v":"الاثنين"},{"$f":"'جدول الصف الرابع'!$C$11","v":"علوم"},{"$f":"'جدول الصف الرابع'!$D$11","v":9.4499999999999993},{"$f":"'جدول الصف الرابع'!$E$11","v":10.8},{"$f":"'جدول الصف الرابع'!$F$11","v":"ساعة ونصف"}]
[{"$f":"'جدول الصف الرابع'!$B$12","v":"2018-01-03"},{"$f":"'جدول الصف الرابع'!$C$12","v":"التربية الدينية"},{"$f":"'جدول الصف الرابع'!$D$12","v":9.67},{"$f":"'جدول الصف الرابع'!$E$12","v":10.93},{"$f":"'جدول الصف الرابع'!$F$12","v":"ساعة ونصف"},null,{"$f":"'جدول الصف الرابع'!$B$12","v":"2018-01-03"},{"$f":"'جدول الصف الرابع'!$C$12","v":"التربية الدينية"},{"$f":"'جدول الصف الرابع'!$D$12","v":9.67},{"$f":"'جدول الصف الرابع'!$E$12","v":10.93},{"$f":"'جدول الصف الرابع'!$F$12","v":"ساعة ونصف"}]
[{"$f":"'جدول الصف الرابع'!$B$13","v":"الثلاثاء"},{"$f":"'جدول الصف الرابع'!$C$13","v":"الدراسات"},{"$f":"'جدول الصف الرابع'!$D$13","v":9.89},{"$f":"'جدول الصف الرابع'!$E$13","v":11.06},{"$f":"'جدول الصف الرابع'!$F$13","v":"ساعة ونصف"},null,{"$f":"'جدول الصف الرابع'!$B$13","v":"الثلاثاء"},{"$f":"'جدول الصف الرابع'!$C$13","v":"الدراسات"},{"$f":"'جدول الصف الرابع'!$D$13","v":9.89},{"$f":"'جدول الصف الرابع'!$E$13","v":11.06},{"$f":"'جدول الصف الرابع'!$F$13","v":"ساعة ونصف"}]
[{"$f":"'جدول الصف الرابع'!$B$14","v":"2018-01-04"},null,null,null,null,null,{"$f":"'جدول الصف الرابع'!$B$14","v":"2018-01-04"}]
[]
[{"$f":"'جدول الصف الرابع'!$A$1","v":"إدارة /غرب المحلة الكبرى التعليمية"},null,"رقم اللجنة",null,{"$f":"VLOOKUP(E212,جلوس_أسماء4,7,FALSE)","v":1},null,{"$f":"'جدول الصف الرابع'!$A$1","v":"إدارة /غرب المحلة الكبرى التعليمية"},null,"رقم اللجنة",null,{"$f":"VLOOKUP(K212,جلوس_أسماء4,7,FALSE)","v":2}]
[{"$f":"'جدول الصف الرابع'!$A$2","v":"مدرسة د/علي علي حبيش الابتدائية"},null,{"$f":"'جدول الصف الرابع'!$C$4","v":"الصف الرابع"},null,{"$f":"E197+1","v":15},null,{"$f":"'جدول الصف الرابع'!$A$2","v":"مدرسة د/علي علي حبيش الابتدائية"},null,{"$f":"'جدول الصف الرابع'!$C$4","v":"الصف الرابع"},null,{"$f":"K197+1","v":30}]
[{"$f":"'جدول الصف الرابع'!$B$3","v":"جدول امتحان الفصل الدراسي الأول / الثاني للعام الدراسي 2019/2018"},null,null,null,null,null,{"$f":"'جدول الصف الرابع'!$B$3","v":"جدول امتحان الفصل الدراسي الأول / الثاني للعام الدراسي 2019/2018"}]
["اسم التلميذ",{"$f":"VLOOKUP(E212,جلوس_أسماء4,3,FALSE)","v":"احمد15"},"رقم الجلوس",null,{"$f":"VLOOKUP(E212,جلوس_أسماء4,2,FALSE)","v":74},null,"اسم التلميذ",{"$f":"VLOOKUP(K212,جلوس_أسماء4,3,FALSE)","v":"احمد30"},"رقم الجلوس",null,{"$f":"VLOOKUP(K212,جلوس_أسماء4,2,FALSE)","v":89}]
["اليوم والترايخ","المـــــــــــــــــــادة","الوقت",null,"الزمــــن ",null,"اليوم والترايخ","المـــــــــــــــــــادة","الوقت",null,"الزمــــن "]
[null,null,"من ","إلي",null,null,null,null,"من ","إلي"]
[{"$f":"'جدول الصف الرابع'!$B$7","v":"السبت"},{"$f":"'جدول الصف الرابع'!$C$7","v":"لغة عربية وخط"},{"$f":"'جدول الصف الرابع'!$D$7","v":8},{"$f":"'جدول الصف الرابع'!$E$7","v":10.3},{"$f":"'جدول الصف الرابع'!$F$7","v":"ساعتان ونصف"},null,{"$f":"'جدول الصف الرابع'!$B$7","v":"السبت"},{"$f":"'جدول الصف الرابع'!$C$7","v":"لغة عربية وخط"},{"$f":"'جدول الصف الرابع'!$D$7","v":8},{"$f":"'جدول الصف الرابع'!$E$7","v":10.3},{"$f":"'جدول الصف الرابع'!$F$7","v":"ساعتان ونصف"}]
[{"$f":"'جدول الصف الرابع'!$B$8","v":"2018-01-01"},null,null,null,null,null,{"$f":"'جدول الصف الرابع'!$B$8","v":"2018-01-01"}]
[{"$f":"'جدول الصف الرابع'!$B$9","v":"الأحد"},{"$f":"'جدول الصف الرابع'!$C$9","v":"الرياضيات"},{"$f":"'جدول الصف الرابع'!$D$9","v":8},{"$f":"'جدول الصف الرابع'!$E$9","v":9.3000000000000007},{"$f":"'جدول الصف الرابع'!$F$9","v":"ساعة ونصف"},null,{"$f":"'جدول الصف الرابع'!$B$9","v":"الأحد"},{"$f":"'جدول الصف الرابع'!$C$9","v":"الرياضيات"},{"$f":"'جدول الصف الرابع'!$D$9","v":8},{"$f":"'جدول الصف الرابع'!$E$9","v":9.3000000000000007},{"$f":"'جدول الصف الرابع'!$F$9","v":"ساعة ونصف"}]
[{"$f":"'جدول الصف الرابع'!$B$10","v":"2018-01-02"},{"$f":"'جدول الصف الرابع'!$C$10","v":"اللغة الإنجليزية"},{"$f":"'جدول الصف الرابع'!$D$10","v":9.4499999999999993},{"$f":"'جدول الصف الرابع'!$E$10","v":11.15},{"$f":"'جدول الصف الرابع'!$F$10","v":"ساعة ونصف"},null,{"$f":"'جدول الصف الرابع'!$B$10","v":"2018-01-02"},{"$f":"'جدول الصف الرابع'!$C$10","v":"اللغة الإنجليزية"},{"$f":"'جدول الصف الرابع'!$D$10","v":9.4499999999999993},{"$f":"'جدول الصف الرابع'!$E$10","v":11.15},{"$f":"'جدول الصف الرابع'!$F$10","v":"ساعة ونصف"}]
[{"$f":"'جدول الصف الرابع'!$B$11","v":"الاثنين"},{"$f":"'جدول الصف الرابع'!$C$11","v":"علوم"},{"$f":"'جدول الصف الرابع'!$D$11","v":9.4499999999999993},{"$f":"'جدول الصف الرابع'!$E$11","v":10.8},{"$f":"'جدول الصف الرابع'!$F$11","v":"ساعة ونصف"},null,{"$f":"'جدول الصف الرابع'!$B$11","v":"الاثنين"},{"$f":"'جدول الصف الرابع'!$C$11","v":"علوم"},{"$f":"'جدول الصف الرابع'!$D$11","v":9.4499999999999993},{"$f":"'جدول الصف الرابع'!$E$11","v":10.8},{"$f":"'جدول الصف الرابع'!$F$11","v":"ساعة ونصف"}]
[{"$f":"'جدول الصف الرابع'!$B$12","v":"2018-01-03"},{"$f":"'جدول الصف الرابع'!$C$12","v":"التربية الدينية"},{"$f":"'جدول الصف الرابع'!$D$12","v":9.67},{"$f":"'جدول الصف الرابع'!$E$12","v":10.93},{"$f":"'جدول الصف الرابع'!$F$12","v":"ساعة ونصف"},null,{"$f":"'جدول الصف الرابع'!$B$12","v":"2018-01-03"},{"$f":"'جدول الصف الرابع'!$C$12","v":"التربية الدينية"},{"$f":"'جدول الصف الرابع'!$D$12","v":9.67},{"$f":"'جدول الصف الرابع'!$E$12","v":10.93},{"$f":"'جدول الصف الرابع'!$F$12","v":"ساعة ونصف"}]
[{"$f":"'جدول الصف الرابع'!$B$13","v":"الثلاثاء"},{"$f":"'جدول الصف الرابع'!$C$13","v":"الدراسات"},{"$f":"'جدول الصف الرابع'!$D$13","v":9.89},{"$f":"'جدول الصف الرابع'!$E$13","v":11.06},{"$f":"'جدول الصف الرابع'!$F$13","v":"ساعة ونصف"},null,{"$f":"'جدول الصف الرابع'!$B$13","v":"الثلاثاء"},{"$f":"'جدول الصف الرابع'!$C$13","v":"الدراسات"},{"$f":"'جدول الصف الرابع'!$D$13","v":9.89},{"$f":"'جدول الصف الرابع'!$E$13","v":11.06},{"$f":"'جدول الصف الرابع'!$F$13","v":"ساعة ونصف"}]
[{"$f":"'جدول الصف الرابع'!$B$14","v":"2018-01-04"},null,null,null,null,null,{"$f":"'جدول الصف الرابع'!$B$14","v":"2018-01-04"}]

{"sheet":"كشوف مناداة الصف الثالث والرابع","index":12,"n_rows":878,"n_cols":19,"rows_kept":878,"cut":false,"hidden":false,"merged":[[86,1,86,5],[86,7,86,11],[128,1,128,5],[128,7,128,11],[0,19,0,20],[1,19,1,20],[2,1,2,5],[2,7,2,11],[44,1,44,5],[44,7,44,11],[422,1,422,5],[422,7,422,11],[464,1,464,5],[464,7,464,11],[506,1,506,5],[506,7,506,11],[296,1,296,5],[296,7,296,11],[338,1,338,5],[338,7,338,11],[380,1,380,5],[380,7,380,11],[170,1,170,5],[170,7,170,11],[212,1,212,5],[212,7,212,11],[254,1,254,5],[254,7,254,11],[548,1,548,5],[548,7,548,11],[590,1,590,5],[590,7,590,11],[632,1,632,5],[632,7,632,11],[800,1,800,5],[800,7,800,11],[842,1,842,5],[842,7,842,11],[674,1,674,5],[674,7,674,11],[716,1,716,5],[716,7,716,11],[758,1,758,5],[758,7,758,11]]}
[null,{"$f":"'البيانات الأساسية'!$A$1","v":"إدارة /غرب المحلة الكبرى التعليمية"},null,null,null,null,null,{"$f":"'البيانات الأساسية'!$A$1","v":"إدارة /غرب المحلة الكبرى التعليمية"},null,null,null,null,null,null,null,1]
[null,{"$f":"'البيانات الأساسية'!$A$2","v":"مدرسة د/علي علي حبيش الابتدائية"},null,null,null,null,null,{"$f":"'البيانات الأساسية'!$A$2","v":"مدرسة د/علي علي حبيش الابتدائية"}]
[null,{"$f":"'البيانات الأساسية'!$A$6","v":"كشف مناداة الصف الرابع فصل أول وثانٍ للعام الدراسي 2019/2018"},null,null,null,null,null,{"$f":"'البيانات الأساسية'!$A$5","v":"كشف مناداة الصف الثالث فصل أول وثانٍ للعام الدراسي 2019/2018"},null,null,null,null,null,null,null,null,{"$f":"MAX('قائمة الصف الرابع'!G:G)","v":25},{"$f":"VLOOKUP(D4,عدد_اللحنة14,3)","v":20},"الصف الرابع"]
[null,null,"اللجنة رقم",{"$f":"IF(P1>Q3,\"\",P1)","v":1},null,null,null,null,"اللجنة رقم",{"$f":"IF(P1>Q4,\"\",P1)","v":1},null,null,null,null,null,null,{"$f":"MAX('قائمة الصف الثالث'!K3:K45)","v":30},{"$f":"VLOOKUP(J4,عدد_اللجنة3,3)","v":20},"الصف الثالث"]
[null,"م","الاســـــــــــــــــــــــــــــم","رقم الجلوس","القيد","الديانة",null,"م","الاســـــــــــــــــــــــــــــم","رقم الجلوس","القيد","الديانة"]
[null,{"$f":"IF(D4=\"\",\"\",1)","v":1},{"$f":"IF(B6=\"\",\"\",VLOOKUP(D6,أسماء_الرابع,2))","v":"احمد1"},{"$f":"IF(D4=\"\",\"\",VLOOKUP(D4,رقم_جلوس4,2))","v":60},{"$f":"IF(B6=\"\",\"\",VLOOKUP(D6,أسماء_الرابع,4))","v":0},{"$f":"IF(B6=\"\",\"\",VLOOKUP(D6,أسماء_الرابع,5))","v":0},null,{"$f":"IF(J4=\"\",\"\",1)","v":1},{"$f":"IF(H6=\"\",\"\",VLOOKUP(J6,أسماء_الثالث,2))","v":"محمود1"},{"$f":"IF(J4=\"\",\"\",VLOOKUP(J4,رقم_جلوس3,2))","v":40},{"$f":"IF(H6=\"\",\"\",VLOOKUP(J6,أسماء_الثالث,4,5))","v":0},{"$f":"IF(H6=\"\",\"\",VLOOKUP(J6,أسماء_الثالث,5))","v":0}]
[null,{"$f":"IF(B6=\"\",\"\",IF(B6+1>$R$3,\"\",B6+1))","v":2},"احمد2",{"$f":"IF(B6=\"\",\"\",IF(B7=\"\",\"\",D6+1))","v":61},0,"مسلم",null,{"$f":"IF(H6=\"\",\"\",IF(H6+1>$R$4,\"\",H6+1))","v":2},"محمود2",{"$f":"IF(H6=\"\",\"\",IF(H7=\"\",\"\",J6+1))","v":41},0,"مسلم"]
[null,{"$f":"IF(B7=\"\",\"\",IF(B7+1>$R$3,\"\",B7+1))","v":3},"احمد3",{"$f":"IF(B7=\"\",\"\",IF(B8=\"\",\"\",D7+1))","v":62},0,0,null,{"$f":"IF(H7=\"\",\"\",IF(H7+1>$R$4,\"\",H7+1))","v":3},"محمود3",{"$f":"IF(H7=\"\",\"\",IF(H8=\"\",\"\",J7+1))","v":42},0,0]
[null,4,"احمد4",63,0,0,null,4,"محمود4",43,0,"مسلم"]
[null,5,"احمد5",64,0,0,null,5,"محمود5",44,0,0]
[null,6,"احمد6",65,0,0,null,6,"محمود6",45,0,0]
[null,7,"احمد7",66,"م للسنة الثانية","مسلم",null,7,"محمود7",46,0,0]
[null,8,"احمد8",67,0,0,null,8,"محمود8",47,0,0]
[null,9,"احمد9",68,0,0,null,9,"محمود9",48,0,0]
[null,10,"احمد10",69,0,"مسلم",null,10,"محمود10",49,0,0]
[null,11,"احمد11",70,0,0,null,11,"محمود11",50,0,"مسلم"]
[null,12,"احمد12",71,0,0,null,12,"محمود12",51,0,0]
[null,13,"احمد13",72,0,0,null,13,"محمود13",52,0,0]
[null,14,"احمد14",73,0,0,null,14,"محمود14",53,0,0]
[null,15,"احمد15",74,0,0,null,15,"محمود15",54,0,0]
[null,16,"احمد16",75,0,0,null,16,"محمود16",55,0,0]
[null,17,"احمد17",76,"م للسنة الأولي",0,null,17,"محمود17",56,0,0]
[null,18,"احمد18",77,0,0,null,18,"محمود18",57,0,0]
[null,19,"احمد19",78,0,0,null,19,"محمود19",58,0,0]
[null,20,"احمد20",79,0,0,null,20,"محمود20",59,0,0]
[null,"","","","","",null,"","","","",""]
[null,"","","","","",null,"","","","",""]
[null,"","","","","",null,"","","","",""]
[null,"","","","","",null,"","","","",""]
[null,"","","","","",null,"","","","",""]
[null,"","","","","",null,"","","","",""]
[null,"","","","","",null,"","","","",""]
[null,"","","","","",null,"","","","",""]
[null,"","","","","",null,"","","","",""]
[null,"","","","","",null,"","","","",""]
[]
[null,{"$f":"'البيانات الأساسية'!$A$10","v":"مراقب الكنترول"},null,{"$f":"'البيانات الأساسية'!$C$10","v":"رئيس الكنترول"},null,null,null,{"$f":"'البيانات الأساسية'!$A$10","v":"مراقب الكنترول"},null,{"$f":"'البيانات الأساسية'!$C$10","v":"رئيس الكنترول"}]
[null,{"$f":"'البيانات الأساسية'!$A$11","v":"أ/ عبد الحميد"},null,{"$f":"'البيانات الأساسية'!$A$11","v":"أ/ عبد الحميد"},null,null,null,{"$f":"'البيانات الأساسية'!$A$11","v":"أ/ عبد الحميد"},null,{"$f":"'البيانات الأساسية'!$A$11","v":"أ/ عبد الحميد"}]
[]
[]
[]
[]
[null,{"$f":"'البيانات الأساسية'!$A$1","v":"إدارة /غرب المحلة الكبرى التعليمية"},null,null,null,null,null,{"$f":"'البيانات الأساسية'!$A$1","v":"إدارة /غرب المحلة الكبرى التعليمية"}]
[null,{"$f":"'البيانات الأساسية'!$A$2","v":"مدرسة د/علي علي حبيش الابتدائية"},null,null,null,null,null,{"$f":"'البيانات الأساسية'!$A$2","v":"مدرسة د/علي علي حبيش الابتدائية"}]
[null,{"$f":"'البيانات الأساسية'!$A$6","v":"كشف مناداة الصف الرابع فصل أول وثانٍ للعام الدراسي 2019/2018"},null,null,null,null,null,{"$f":"'البيانات الأساسية'!$A$5","v":"كشف مناداة الصف الثالث فصل أول وثانٍ للعام الدراسي 2019/2018"}]
[null,null,"اللجنة رقم",{"$f":"D4+1","v":2},null,null,null,null,"اللجنة رقم",{"$f":"J4+1","v":2}]
[null,"م","الاســـــــــــــــــــــــــــــم","رقم الجلوس","القيد","الديانة",null,"م","الاســـــــــــــــــــــــــــــم","رقم الجلوس","القيد","الديانة"]
[null,{"$f":"IF(D46=\"\",\"\",1)","v":1},{"$f":"IF(B48=\"\",\"\",VLOOKUP(D48,أسماء_الرابع,2))","v":"احمد21"},{"$f":"IF(D46=\"\",\"\",VLOOKUP(D46,رقم_جلوس4,2))","v":80},{"$f":"IF(B48=\"\",\"\",VLOOKUP(D48,أسماء_الرابع,4))","v":0},{"$f":"IF(B48=\"\",\"\",VLOOKUP(D48,أسماء_الرابع,5))","v":0},null,{"$f":"IF(J46=\"\",\"\",1)","v":1},{"$f":"IF(H48=\"\",\"\",VLOOKUP(J48,أسماء_الثالث,2))","v":"محمود21"},{"$f":"IF(J46=\"\",\"\",VLOOKUP(J46,رقم_جلوس3,2))","v":60},{"$f":"IF(H48=\"\",\"\",VLOOKUP(J48,أسماء_الثالث,4,5))","v":0},{"$f":"IF(H48=\"\",\"\",VLOOKUP(J48,أسماء_الثالث,5))","v":0}]
[null,{"$f":"IF(B48=\"\",\"\",IF(B48+1>$R$3,\"\",B48+1))","v":2},"احمد22",{"$f":"IF(B48=\"\",\"\",IF(B49=\"\",\"\",D48+1))","v":81},0,0,null,{"$f":"IF(H48=\"\",\"\",IF(H48+1>$R$4,\"\",H48+1))","v":2},"محمود22",{"$f":"IF(H48=\"\",\"\",IF(H49=\"\",\"\",J48+1))","v":61},0,0]
[null,3,"احمد23",82,0,0,null,3,"محمود23",62,0,0]
[null,4,"احمد24",83,0,0,null,4,"محمود24",63,0,"أخري"]
[null,5,"احمد25",84,0,0,null,5,"محمود25",64,"معيد",0]
[null,6,"احمد26",85,0,0,null,6,"محمود26",65,0,0]
[null,7,"احمد27",86,0,0,null,7,"محمود27",66,0,0]
[null,8,"احمد28",87,0,0,null,8,"محمود28",67,0,0]
[null,9,"احمد29",88,0,0,null,9,"محمود29",68,0,0]
[null,10,"احمد30",89,0,0,null,10,"محمود30",69,0,0]
[null,11,"احمد31",90,0,0,null,11,"محمود31",70,0,0]
[null,12,"احمد32",91,0,0,null,12,"محمود32",71,0,0]
[null,13,"احمد33",92,0,0,null,13,"محمود33",72,0,0]
[null,14,"احمد34",93,0,0,null,14,"محمود34",73,0,0]
[null,15,"احمد35",94,0,0,null,15,"محمود35",74,0,0]
[null,16,"احمد36",95,0,0,null,16,"محمود36",75,0,0]
[null,17,"احمد37",96,0,0,null,17,"محمود37",76,0,0]
[null,18,"احمد38",97,0,0,null,18,"محمود38",77,0,0]
[null,19,"احمد39",98,0,0,null,19,"محمود39",78,0,0]
[null,20,"احمد40",99,0,0,null,20,"محمود40",79,0,0]
[null,"","","","","",null,"","","","",""]
[null,"","","","","",null,"","","","",""]
[null,"","","","","",null,"","","","",""]
[null,"","","","","",null,"","","","",""]
[null,"","","","","",null,"","","","",""]
[null,"","","","","",null,"","","","",""]
[null,"","","","","",null,"","","","",""]
[null,"","","","","",null,"","","","",""]
[null,"","","","","",null,"","","","",""]
[null,"","","","","",null,"","","","",""]
[]
[null,{"$f":"'البيانات الأساسية'!$A$10","v":"مراقب الكنترول"},null,{"$f":"'البيانات الأساسية'!$C$10","v":"رئيس الكنترول"},null,null,null,{"$f":"'البيانات الأساسية'!$A$10","v":"مراقب الكنترول"},null,{"$f":"'البيانات الأساسية'!$C$10","v":"رئيس الكنترول"}]
[null,{"$f":"'البيانات الأساسية'!$A$11","v":"أ/ عبد الحميد"},null,{"$f":"'البيانات الأساسية'!$A$11","v":"أ/ عبد الحميد"},null,null,null,{"$f":"'البيانات الأساسية'!$A$11","v":"أ/ عبد الحميد"},null,{"$f":"'البيانات الأساسية'!$A$11","v":"أ/ عبد الحميد"}]
[]
[]
[]
[]
[null,{"$f":"'البيانات الأساسية'!$A$1","v":"إدارة /غرب المحلة الكبرى التعليمية"},null,null,null,null,null,{"$f":"'البيانات الأساسية'!$A$1","v":"إدارة /غرب المحلة الكبرى التعليمية"}]
[null,{"$f":"'البيانات الأساسية'!$A$2","v":"مدرسة د/علي علي حبيش الابتدائية"},null,null,null,null,null,{"$f":"'البيانات الأساسية'!$A$2","v":"مدرسة د/علي علي حبيش الابتدائية"}]
[null,{"$f":"'البيانات الأساسية'!$A$6","v":"كشف مناداة الصف الرابع فصل أول وثانٍ للعام الدراسي 2019/2018"},null,null,null,null,null,{"$f":"'البيانات الأساسية'!$A$5","v":"كشف مناداة الصف الثالث فصل أول وثانٍ للعام الدراسي 2019/2018"}]
[null,null,"اللجنة رقم",{"$f":"D46+1","v":3},null,null,null,null,"اللجنة رقم",{"$f":"J46+1","v":3}]
[null,"م","الاســـــــــــــــــــــــــــــم","رقم الجلوس","القيد","الديانة",null,"م","الاســـــــــــــــــــــــــــــم","رقم الجلوس","القيد","الديانة"]
[null,{"$f":"IF(D88=\"\",\"\",1)","v":1},{"$f":"IF(B90=\"\",\"\",VLOOKUP(D90,أسماء_الرابع,2))","v":"احمد41"},{"$f":"IF(D88=\"\",\"\",VLOOKUP(D88,رقم_جلوس4,2))","v":100},{"$f":"IF(B90=\"\",\"\",VLOOKUP(D90,أسماء_الرابع,4))","v":0},{"$f":"IF(B90=\"\",\"\",VLOOKUP(D90,أسماء_الرابع,5))","v":0},null,{"$f":"IF(J88=\"\",\"\",1)","v":1},{"$f":"IF(H90=\"\",\"\",VLOOKUP(J90,أسماء_الثالث,2))","v":"محمود41"},{"$f":"IF(J88=\"\",\"\",VLOOKUP(J88,رقم_جلوس3,2))","v":80},{"$f":"IF(H90=\"\",\"\",VLOOKUP(J90,أسماء_الثالث,4,5))","v":0},{"$f":"IF(H90=\"\",\"\",VLOOKUP(J90,أسماء_الثالث,5))","v":0}]
[null,{"$f":"IF(B90=\"\",\"\",IF(B90+1>$R$3,\"\",B90+1))","v":2},"احمد42",{"$f":"IF(B90=\"\",\"\",IF(B91=\"\",\"\",D90+1))","v":101},0,0,null,{"$f":"IF(H90=\"\",\"\",IF(H90+1>$R$4,\"\",H90+1))","v":2},"محمود42",{"$f":"IF(H90=\"\",\"\",IF(H91=\"\",\"\",J90+1))","v":81},0,0]
[null,3,"احمد43",102,0,0,null,3,"محمود43",82,0,0]
[null,4,"احمد44",103,0,0,null,4,"محمود44",83,0,0]
[null,5,"احمد45",104,0,0,null,5,"محمود45",84,0,0]
[null,6,"احمد46",105,0,0,null,6,"محمود46",85,0,0]
[null,7,"احمد47",106,0,0,null,7,"محمود47",86,0,0]
[null,8,"احمد48",107,0,0,null,8,"محمود48",87,0,0]
[null,9,"احمد49",108,0,0,null,9,"محمود49",88,0,0]
[null,10,"احمد50",109,0,0,null,10,"محمود50",89,0,0]
[null,11,"احمد51",110,0,0,null,11,"محمود51",90,0,0]
[null,12,"احمد52",111,0,0,null,12,"محمود52",91,0,0]
[null,13,"احمد53",112,0,0,null,13,"محمود53",92,0,0]
[null,14,"احمد54",113,0,0,null,14,"محمود54",93,0,0]
[null,15,"احمد55",114,0,0,null,15,"محمود55",94,0,0]
[null,16,"احمد56",115,0,0,null,16,"محمود56",95,0,0]
[null,17,"احمد57",116,0,0,null,17,"محمود57",96,0,0]
[null,18,"احمد58",117,0,0,null,18,"محمود58",97,0,0]
[null,19,"احمد59",118,0,0,null,19,"محمود59",98,0,0]
[null,20,"احمد60",119,0,0,null,20,"محمود60",99,0,0]
[null,"","","","","",null,"","","","",""]
[null,"","","","","",null,"","","","",""]
[null,"","","","","",null,"","","","",""]
[null,"","","","","",null,"","","","",""]
[null,"","","","","",null,"","","","",""]
[null,{"$f":"IF(B114=\"\",\"\",IF(B114+1>$R$3,\"\",B114+1))","v":""},"","","","",null,{"$f":"IF(H114=\"\",\"\",IF(H114+1>$R$4,\"\",H114+1))","v":""},"","","",""]
[null,"","","","","",null,"","","","",""]
[null,"","","","","",null,"","","","",""]
[null,"","","","","",null,"","","","",""]
[null,"","","","","",null,"","","","",""]
[]
[null,{"$f":"'البيانات الأساسية'!$A$10","v":"مراقب الكنترول"},null,{"$f":"'البيانات الأساسية'!$C$10","v":"رئيس الكنترول"},null,null,null,{"$f":"'البيانات الأساسية'!$A$10","v":"مراقب الكنترول"},null,{"$f":"'البيانات الأساسية'!$C$10","v":"رئيس الكنترول"}]
[null,{"$f":"'البيانات الأساسية'!$A$11","v":"أ/ عبد الحميد"},null,{"$f":"'البيانات الأساسية'!$A$11","v":"أ/ عبد الحميد"},null,null,null,{"$f":"'البيانات الأساسية'!$A$11","v":"أ/ عبد الحميد"},null,{"$f":"'البيانات الأساسية'!$A$11","v":"أ/ عبد الحميد"}]
[]
[]
[]
[]
[null,{"$f":"'البيانات الأساسية'!$A$1","v":"إدارة /غرب المحلة الكبرى التعليمية"},null,null,null,null,null,{"$f":"'البيانات الأساسية'!$A$1","v":"إدارة /غرب المحلة الكبرى التعليمية"}]
[null,{"$f":"'البيانات الأساسية'!$A$2","v":"مدرسة د/علي علي حبيش الابتدائية"},null,null,null,null,null,{"$f":"'البيانات الأساسية'!$A$2","v":"مدرسة د/علي علي حبيش الابتدائية"}]
[null,{"$f":"'البيانات الأساسية'!$A$6","v":"كشف مناداة الصف الرابع فصل أول وثانٍ للعام الدراسي 2019/2018"},null,null,null,null,null,{"$f":"'البيانات الأساسية'!$A$5","v":"كشف مناداة الصف الثالث فصل أول وثانٍ للعام الدراسي 2019/2018"}]
[null,null,"اللجنة رقم",{"$f":"D88+1","v":4},null,null,null,null,"اللجنة رقم",{"$f":"J88+1","v":4}]
[null,"م","الاســـــــــــــــــــــــــــــم","رقم الجلوس","القيد","الديانة",null,"م","الاســـــــــــــــــــــــــــــم","رقم الجلوس","القيد","الديانة"]
[null,{"$f":"IF(D130=\"\",\"\",1)","v":1},{"$f":"IF(B132=\"\",\"\",VLOOKUP(D132,أسماء_الرابع,2))","v":"احمد61"},{"$f":"IF(D130=\"\",\"\",VLOOKUP(D130,رقم_جلوس4,2))","v":120},{"$f":"IF(B132=\"\",\"\",VLOOKUP(D132,أسماء_الرابع,4))","v":0},{"$f":"IF(B132=\"\",\"\",VLOOKUP(D132,أسماء_الرابع,5))","v":0},null,{"$f":"IF(J130=\"\",\"\",1)","v":1},{"$f":"IF(H132=\"\",\"\",VLOOKUP(J132,أسماء_الثالث,2))","v":"محمود61"},{"$f":"IF(J130=\"\",\"\",VLOOKUP(J130,رقم_جلوس3,2))","v":100},{"$f":"IF(H132=\"\",\"\",VLOOKUP(J132,أسماء_الثالث,4,5))","v":0},{"$f":"IF(H132=\"\",\"\",VLOOKUP(J132,أسماء_الثالث,5))","v":0}]
[null,{"$f":"IF(B132=\"\",\"\",IF(B132+1>$R$3,\"\",B132+1))","v":2},"احمد62",{"$f":"IF(B132=\"\",\"\",IF(B133=\"\",\"\",D132+1))","v":121},0,0,null,{"$f":"IF(H132=\"\",\"\",IF(H132+1>$R$4,\"\",H132+1))","v":2},"محمود62",{"$f":"IF(H132=\"\",\"\",IF(H133=\"\",\"\",J132+1))","v":101},0,0]
[null,3,"احمد63",122,0,0,null,3,"محمود63",102,0,0]
[null,4,"احمد64",123,0,0,null,4,"محمود64",103,0,0]
[null,5,"احمد65",124,0,0,null,5,"محمود65",104,0,0]
[null,6,"احمد66",125,0,0,null,6,"محمود66",105,0,0]
[null,7,"احمد67",126,0,0,null,7,"محمود67",106,0,0]
[null,8,"احمد68",127,0,0,null,8,"محمود68",107,0,0]
[null,9,"احمد69",128,0,0,null,9,"محمود69",108,0,0]
[null,10,"احمد70",129,0,0,null,10,"محمود70",109,0,0]
[null,11,"احمد71",130,0,0,null,11,"محمود71",110,0,0]
[null,12,"احمد72",131,0,0,null,12,"محمود72",111,0,0]
[null,13,"احمد73",132,0,0,null,13,"محمود73",112,0,0]
[null,14,"احمد74",133,0,0,null,14,"محمود74",113,0,0]
[null,15,"احمد75",134,0,0,null,15,"محمود75",114,0,0]
[null,16,"احمد76",135,0,0,null,16,"محمود76",115,0,0]
[null,17,"احمد77",136,0,0,null,17,"محمود77",116,0,0]
[null,18,"احمد78",137,0,0,null,18,"محمود78",117,0,0]
[null,19,"احمد79",138,0,0,null,19,"محمود79",118,0,0]
[null,20,"احمد80",139,0,0,null,20,"محمود80",119,0,0]
[null,"","","","","",null,"","","","",""]
[null,"","","","","",null,"","","","",""]
[null,"","","","","",null,"","","","",""]
[null,"","","","","",null,"","","","",""]
[null,"","","","","",null,"","","","",""]
[null,"","","","","",null,"","","","",""]
[null,"","","","","",null,"","","","",""]
[null,"","","","","",null,"","","","",""]
[null,"","","","","",null,"","","","",""]
[null,"","","","","",null,"","","","",""]
[]
[null,{"$f":"'البيانات الأساسية'!$A$10","v":"مراقب الكنترول"},null,{"$f":"'البيانات الأساسية'!$C$10","v":"رئيس الكنترول"},null,null,null,{"$f":"'البيانات الأساسية'!$A$10","v":"مراقب الكنترول"},null,{"$f":"'البيانات الأساسية'!$C$10","v":"رئيس الكنترول"}]
[null,{"$f":"'البيانات الأساسية'!$A$11","v":"أ/ عبد الحميد"},null,{"$f":"'البيانات الأساسية'!$A$11","v":"أ/ عبد الحميد"},null,null,null,{"$f":"'البيانات الأساسية'!$A$11","v":"أ/ عبد الحميد"},null,{"$f":"'البيانات الأساسية'!$A$11","v":"أ/ عبد الحميد"}]
[]
[]
[]
[]
[null,{"$f":"'البيانات الأساسية'!$A$1","v":"إدارة /غرب المحلة الكبرى التعليمية"},null,null,null,null,null,{"$f":"'البيانات الأساسية'!$A$1","v":"إدارة /غرب المحلة الكبرى التعليمية"}]
[null,{"$f":"'البيانات الأساسية'!$A$2","v":"مدرسة د/علي علي حبيش الابتدائية"},null,null,null,null,null,{"$f":"'البيانات الأساسية'!$A$2","v":"مدرسة د/علي علي حبيش الابتدائية"}]
[null,{"$f":"'البيانات الأساسية'!$A$6","v":"كشف مناداة الصف الرابع فصل أول وثانٍ للعام الدراسي 2019/2018"},null,null,null,null,null,{"$f":"'البيانات الأساسية'!$A$5","v":"كشف مناداة الصف الثالث فصل أول وثانٍ للعام الدراسي 2019/2018"}]
[null,null,"اللجنة رقم",{"$f":"D130+1","v":5},null,null,null,null,"اللجنة رقم",{"$f":"J130+1","v":5}]
[null,"م","الاســـــــــــــــــــــــــــــم","رقم الجلوس","القيد","الديانة",null,"م","الاســـــــــــــــــــــــــــــم","رقم الجلوس","القيد","الديانة"]
[null,{"$f":"IF(D172=\"\",\"\",1)","v":1},{"$f":"IF(B174=\"\",\"\",VLOOKUP(D174,أسماء_الرابع,2))","v":"احمد81"},{"$f":"IF(D172=\"\",\"\",VLOOKUP(D172,رقم_جلوس4,2))","v":140},{"$f":"IF(B174=\"\",\"\",VLOOKUP(D174,أسماء_الرابع,4))","v":0},{"$f":"IF(B174=\"\",\"\",VLOOKUP(D174,أسماء_الرابع,5))","v":0},null,{"$f":"IF(J172=\"\",\"\",1)","v":1},{"$f":"IF(H174=\"\",\"\",VLOOKUP(J174,أسماء_الثالث,2))","v":"محمود81"},{"$f":"IF(J172=\"\",\"\",VLOOKUP(J172,رقم_جلوس3,2))","v":120},{"$f":"IF(H174=\"\",\"\",VLOOKUP(J174,أسماء_الثالث,4,5))","v":0},{"$f":"IF(H174=\"\",\"\",VLOOKUP(J174,أسماء_الثالث,5))","v":0}]
[null,{"$f":"IF(B174=\"\",\"\",IF(B174+1>$R$3,\"\",B174+1))","v":2},"احمد82",{"$f":"IF(B174=\"\",\"\",IF(B175=\"\",\"\",D174+1))","v":141},0,0,null,{"$f":"IF(H174=\"\",\"\",IF(H174+1>$R$4,\"\",H174+1))","v":2},"محمود82",{"$f":"IF(H174=\"\",\"\",IF(H175=\"\",\"\",J174+1))","v":121},0,0]
[null,3,"احمد83",142,0,0,null,3,"محمود83",122,0,0]
[null,4,"احمد84",143,0,0,null,4,"محمود84",123,0,0]
[null,5,"احمد85",144,0,0,null,5,"محمود85",124,0,0]
[null,6,"احمد86",145,0,0,null,6,"محمود86",125,0,0]
[null,7,"احمد87",146,0,0,null,7,"محمود87",126,0,0]
[null,8,"احمد88",147,0,0,null,8,"محمود88",127,0,0]
[null,9,"احمد89",148,0,0,null,9,"محمود89",128,0,0]
[null,10,"احمد90",149,0,0,null,10,"محمود90",129,0,0]
[null,11,"احمد91",150,0,0,null,11,"محمود91",130,0,0]
[null,12,"احمد92",151,0,0,null,12,"محمود92",131,0,0]
[null,13,"احمد93",152,0,0,null,13,"محمود93",132,0,0]
[null,14,"احمد94",153,0,0,null,14,"محمود94",133,0,0]
[null,15,"احمد95",154,0,0,null,15,"محمود95",134,0,0]
[null,16,"احمد96",155,0,0,null,16,"محمود96",135,0,0]
[null,17,"احمد97",156,0,0,null,17,"محمود97",136,0,0]
[null,18,"احمد98",157,0,0,null,18,"محمود98",137,0,0]
[null,19,"احمد99",158,0,0,null,19,"محمود99",138,0,0]
[null,20,"احمد100",159,0,0,null,20,"محمود100",139,0,0]
[null,"","","","","",null,"","","","",""]
[null,"","","","","",null,"","","","",""]
[null,"","","","","",null,"","","","",""]
[null,"","","","","",null,"","","","",""]
[null,"","","","","",null,"","","","",""]
[null,"","","","","",null,"","","","",""]
[null,"","","","","",null,"","","","",""]
[null,"","","","","",null,"","","","",""]
[null,"","","","","",null,"","","","",""]
[null,"","","","","",null,"","","","",""]
[]
[null,{"$f":"'البيانات الأساسية'!$A$10","v":"مراقب الكنترول"},null,{"$f":"'البيانات الأساسية'!$C$10","v":"رئيس الكنترول"},null,null,null,{"$f":"'البيانات الأساسية'!$A$10","v":"مراقب الكنترول"},null,{"$f":"'البيانات الأساسية'!$C$10","v":"رئيس الكنترول"}]
[null,{"$f":"'البيانات الأساسية'!$A$11","v":"أ/ عبد الحميد"},null,{"$f":"'البيانات الأساسية'!$A$11","v":"أ/ عبد الحميد"},null,null,null,{"$f":"'البيانات الأساسية'!$A$11","v":"أ/ عبد الحميد"},null,{"$f":"'البيانات الأساسية'!$A$11","v":"أ/ عبد الحميد"}]
[]
[]
[]
[]
[null,{"$f":"'البيانات الأساسية'!$A$1","v":"إدارة /غرب المحلة الكبرى التعليمية"},null,null,null,null,null,{"$f":"'البيانات الأساسية'!$A$1","v":"إدارة /غرب المحلة الكبرى التعليمية"}]
[null,{"$f":"'البيانات الأساسية'!$A$2","v":"مدرسة د/علي علي حبيش الابتدائية"},null,null,null,null,null,{"$f":"'البيانات الأساسية'!$A$2","v":"مدرسة د/علي علي حبيش الابتدائية"}]
[null,{"$f":"'البيانات الأساسية'!$A$6","v":"كشف مناداة الصف الرابع فصل أول وثانٍ للعام الدراسي 2019/2018"},null,null,null,null,null,{"$f":"'البيانات الأساسية'!$A$5","v":"كشف مناداة الصف الثالث فصل أول وثانٍ للعام الدراسي 2019/2018"}]
[null,null,"اللجنة رقم",{"$f":"D172+1","v":6},null,null,null,null,"اللجنة رقم",{"$f":"J172+1","v":6}]
[null,"م","الاســـــــــــــــــــــــــــــم","رقم الجلوس","القيد","الديانة",null,"م","الاســـــــــــــــــــــــــــــم","رقم الجلوس","القيد","الديانة"]
[null,{"$f":"IF(D214=\"\",\"\",1)","v":1},{"$f":"IF(B216=\"\",\"\",VLOOKUP(D216,أسماء_الرابع,2))","v":"احمد101"},{"$f":"IF(D214=\"\",\"\",VLOOKUP(D214,رقم_جلوس4,2))","v":160},{"$f":"IF(B216=\"\",\"\",VLOOKUP(D216,أسماء_الرابع,4))","v":0},{"$f":"IF(B216=\"\",\"\",VLOOKUP(D216,أسماء_الرابع,5))","v":0},null,{"$f":"IF(J214=\"\",\"\",1)","v":1},{"$f":"IF(H216=\"\",\"\",VLOOKUP(J216,أسماء_الثالث,2))","v":"محمود101"},{"$f":"IF(J214=\"\",\"\",VLOOKUP(J214,رقم_جلوس3,2))","v":140},{"$f":"IF(H216=\"\",\"\",VLOOKUP(J216,أسماء_الثالث,4,5))","v":0},{"$f":"IF(H216=\"\",\"\",VLOOKUP(J216,أسماء_الثالث,5))","v":0}]
[null,{"$f":"IF(B216=\"\",\"\",IF(B216+1>$R$3,\"\",B216+1))","v":2},"احمد102",{"$f":"IF(B216=\"\",\"\",IF(B217=\"\",\"\",D216+1))","v":161},0,0,null,{"$f":"IF(H216=\"\",\"\",IF(H216+1>$R$4,\"\",H216+1))","v":2},"محمود102",{"$f":"IF(H216=\"\",\"\",IF(H217=\"\",\"\",J216+1))","v":141},0,0]
[null,3,"احمد103",162,0,0,null,3,"محمود103",142,0,0]
[null,4,"احمد104",163,0,0,null,4,"محمود104",143,0,0]
[null,5,"احمد105",164,0,0,null,5,"محمود105",144,0,0]
[null,6,"احمد106",165,0,0,null,6,"محمود106",145,0,0]
[null,7,"احمد107",166,0,0,null,7,"محمود107",146,0,0]
[null,8,"احمد108",167,0,0,null,8,"محمود108",147,0,0]
[null,9,"احمد109",168,0,0,null,9,"محمود109",148,0,0]
[null,10,"احمد110",169,0,0,null,10,"محمود110",149,0,0]
[null,11,"احمد111",170,0,0,null,11,"محمود111",150,0,0]
[null,12,"احمد112",171,0,0,null,12,"محمود112",151,0,0]
[null,13,"احمد113",172,0,0,null,13,"محمود113",152,0,0]
[null,14,"احمد114",173,0,0,null,14,"محمود114",153,0,0]
[null,15,"احمد115",174,0,0,null,15,"محمود115",154,0,0]
[null,16,"احمد116",175,0,0,null,16,"محمود116",155,0,0]
[null,17,"احمد117",176,0,0,null,17,"محمود117",156,0,0]
[null,18,"احمد118",177,0,0,null,18,"محمود118",157,0,0]
[null,19,"احمد119",178,0,0,null,19,"محمود119",158,0,0]
[null,20,"احمد120",179,0,0,null,20,"محمود120",159,0,0]
[null,"","","","","",null,"","","","",""]
[null,"","","","","",null,"","","","",""]
[null,"","","","","",null,"","","","",""]
[null,{"$f":"IF(B238=\"\",\"\",IF(B238+1>$R$3,\"\",B238+1))","v":""},"","","","",null,{"$f":"IF(H238=\"\",\"\",IF(H238+1>$R$4,\"\",H238+1))","v":""},"","","",""]
[null,"","","","","",null,"","","","",""]
[null,"","","","","",null,"","","","",""]
[null,"","","","","",null,"","","","",""]
[null,"","","","","",null,"","","","",""]
[null,"","","","","",null,"","","","",""]
[null,"","","","","",null,"","","","",""]
[]
[null,{"$f":"'البيانات الأساسية'!$A$10","v":"مراقب الكنترول"},null,{"$f":"'البيانات الأساسية'!$C$10","v":"رئيس الكنترول"},null,null,null,{"$f":"'البيانات الأساسية'!$A$10","v":"مراقب الكنترول"},null,{"$f":"'البيانات الأساسية'!$C$10","v":"رئيس الكنترول"}]
[null,{"$f":"'البيانات الأساسية'!$A$11","v":"أ/ عبد الحميد"},null,{"$f":"'البيانات الأساسية'!$A$11","v":"أ/ عبد الحميد"},null,null,null,{"$f":"'البيانات الأساسية'!$A$11","v":"أ/ عبد الحميد"},null,{"$f":"'البيانات الأساسية'!$A$11","v":"أ/ عبد الحميد"}]
[]
[]
[]
[]
[null,{"$f":"'البيانات الأساسية'!$A$1","v":"إدارة /غرب المحلة الكبرى التعليمية"},null,null,null,null,null,{"$f":"'البيانات الأساسية'!$A$1","v":"إدارة /غرب المحلة الكبرى التعليمية"}]
[null,{"$f":"'البيانات الأساسية'!$A$2","v":"مدرسة د/علي علي حبيش الابتدائية"},null,null,null,null,null,{"$f":"'البيانات الأساسية'!$A$2","v":"مدرسة د/علي علي حبيش الابتدائية"}]
[null,{"$f":"'البيانات الأساسية'!$A$6","v":"كشف مناداة الصف الرابع فصل أول وثانٍ للعام الدراسي 2019/2018"},null,null,null,null,null,{"$f":"'البيانات الأساسية'!$A$5","v":"كشف مناداة الصف الثالث فصل أول وثانٍ للعام الدراسي 2019/2018"}]
[null,null,"اللجنة رقم",{"$f":"D214+1","v":7},null,null,null,null,"اللجنة رقم",{"$f":"J214+1","v":7}]
[null,"م","الاســـــــــــــــــــــــــــــم","رقم الجلوس","القيد","الديانة",null,"م","الاســـــــــــــــــــــــــــــم","رقم الجلوس","القيد","الديانة"]
[null,{"$f":"IF(D256=\"\",\"\",1)","v":1},{"$f":"IF(B258=\"\",\"\",VLOOKUP(D258,أسماء_الرابع,2))","v":"احمد121"},{"$f":"IF(D256=\"\",\"\",VLOOKUP(D256,رقم_جلوس4,2))","v":180},{"$f":"IF(B258=\"\",\"\",VLOOKUP(D258,أسماء_الرابع,4))","v":0},{"$f":"IF(B258=\"\",\"\",VLOOKUP(D258,أسماء_الرابع,5))","v":0},null,{"$f":"IF(J256=\"\",\"\",1)","v":1},{"$f":"IF(H258=\"\",\"\",VLOOKUP(J258,أسماء_الثالث,2))","v":"محمود121"},{"$f":"IF(J256=\"\",\"\",VLOOKUP(J256,رقم_جلوس3,2))","v":160},{"$f":"IF(H258=\"\",\"\",VLOOKUP(J258,أسماء_الثالث,4,5))","v":0},{"$f":"IF(H258=\"\",\"\",VLOOKUP(J258,أسماء_الثالث,5))","v":0}]
[null,{"$f":"IF(B258=\"\",\"\",IF(B258+1>$R$3,\"\",B258+1))","v":2},"احمد122",{"$f":"IF(B258=\"\",\"\",IF(B259=\"\",\"\",D258+1))","v":181},0,0,null,{"$f":"IF(H258=\"\",\"\",IF(H258+1>$R$4,\"\",H258+1))","v":2},"محمود122",{"$f":"IF(H258=\"\",\"\",IF(H259=\"\",\"\",J258+1))","v":161},0,0]
[null,3,"احمد123",182,0,0,null,3,"محمود123",162,0,0]
[null,4,"احمد124",183,0,0,null,4,"محمود124",163,0,0]
[null,5,"احمد125",184,0,0,null,5,"محمود125",164,0,0]
[null,6,"احمد126",185,0,0,null,6,"محمود126",165,0,0]
[null,7,"احمد127",186,0,0,null,7,"محمود127",166,0,0]
[null,8,"احمد128",187,0,0,null,8,"محمود128",167,0,0]
[null,9,"احمد129",188,0,0,null,9,"محمود129",168,0,0]
[null,10,"احمد130",189,0,0,null,10,"محمود130",169,0,0]
[null,11,"احمد131",190,0,0,null,11,"محمود131",170,0,0]
[null,12,"احمد132",191,0,0,null,12,"محمود132",171,0,0]
[null,13,"احمد133",192,0,0,null,13,"محمود133",172,0,0]
[null,14,"احمد134",193,0,0,null,14,"محمود134",173,0,0]
[null,15,"احمد135",194,0,0,null,15,"محمود135",174,0,0]
[null,16,"احمد136",195,0,0,null,16,"محمود136",175,0,0]
[null,17,"احمد137",196,0,0,null,17,"محمود137",176,0,0]
[null,18,"احمد138",197,0,0,null,18,"محمود138",177,0,0]
[null,19,"احمد139",198,0,0,null,19,"محمود139",178,0,0]
[null,20,"احمد140",199,0,0,null,20,"محمود140",179,0,0]
[null,"","","","","",null,"","","","",""]
[null,"","","","","",null,"","","","",""]
[null,"","","","","",null,"","","","",""]
[null,"","","","","",null,"","","","",""]
[null,"","","","","",null,"","","","",""]
[null,"","","","","",null,"","","","",""]
[null,"","","","","",null,"","","","",""]
[null,"","","","","",null,"","","","",""]
[null,"","","","","",null,"","","","",""]
[null,"","","","","",null,"","","","",""]
[]
[null,{"$f":"'البيانات الأساسية'!$A$10","v":"مراقب الكنترول"},null,{"$f":"'البيانات الأساسية'!$C$10","v":"رئيس الكنترول"},null,null,null,{"$f":"'البيانات الأساسية'!$A$10","v":"مراقب الكنترول"},null,{"$f":"'البيانات الأساسية'!$C$10","v":"رئيس الكنترول"}]
[null,{"$f":"'البيانات الأساسية'!$A$11","v":"أ/ عبد الحميد"},null,{"$f":"'البيانات الأساسية'!$A$11","v":"أ/ عبد الحميد"},null,null,null,{"$f":"'البيانات الأساسية'!$A$11","v":"أ/ عبد الحميد"},null,{"$f":"'البيانات الأساسية'!$A$11","v":"أ/ عبد الحميد"}]
[]
[]
[]
[]
[null,{"$f":"'البيانات الأساسية'!$A$1","v":"إدارة /غرب المحلة الكبرى التعليمية"},null,null,null,null,null,{"$f":"'البيانات الأساسية'!$A$1","v":"إدارة /غرب المحلة الكبرى التعليمية"}]
[null,{"$f":"'البيانات الأساسية'!$A$2","v":"مدرسة د/علي علي حبيش الابتدائية"},null,null,null,null,null,{"$f":"'البيانات الأساسية'!$A$2","v":"مدرسة د/علي علي حبيش الابتدائية"}]
[null,{"$f":"'البيانات الأساسية'!$A$6","v":"كشف مناداة الصف الرابع فصل أول وثانٍ للعام الدراسي 2019/2018"},null,null,null,null,null,{"$f":"'البيانات الأساسية'!$A$5","v":"كشف مناداة الصف الثالث فصل أول وثانٍ للعام الدراسي 2019/2018"}]
[null,null,"اللجنة رقم",{"$f":"D256+1","v":8},null,null,null,null,"اللجنة رقم",{"$f":"J256+1","v":8}]
[null,"م","الاســـــــــــــــــــــــــــــم","رقم الجلوس","القيد","الديانة",null,"م","الاســـــــــــــــــــــــــــــم","رقم الجلوس","القيد","الديانة"]
[null,{"$f":"IF(D298=\"\",\"\",1)","v":1},{"$f":"IF(B300=\"\",\"\",VLOOKUP(D300,أسماء_الرابع,2))","v":"احمد141"},{"$f":"IF(D298=\"\",\"\",VLOOKUP(D298,رقم_جلوس4,2))","v":200},{"$f":"IF(B300=\"\",\"\",VLOOKUP(D300,أسماء_الرابع,4))","v":0},{"$f":"IF(B300=\"\",\"\",VLOOKUP(D300,أسماء_الرابع,5))","v":0},null,{"$f":"IF(J298=\"\",\"\",1)","v":1},{"$f":"IF(H300=\"\",\"\",VLOOKUP(J300,أسماء_الثالث,2))","v":"محمود141"},{"$f":"IF(J298=\"\",\"\",VLOOKUP(J298,رقم_جلوس3,2))","v":180},{"$f":"IF(H300=\"\",\"\",VLOOKUP(J300,أسماء_الثالث,4,5))","v":0},{"$f":"IF(H300=\"\",\"\",VLOOKUP(J300,أسماء_الثالث,5))","v":0}]
[null,{"$f":"IF(B300=\"\",\"\",IF(B300+1>$R$3,\"\",B300+1))","v":2},"احمد142",{"$f":"IF(B300=\"\",\"\",IF(B301=\"\",\"\",D300+1))","v":201},0,0,null,{"$f":"IF(H300=\"\",\"\",IF(H300+1>$R$4,\"\",H300+1))","v":2},"محمود142",{"$f":"IF(H300=\"\",\"\",IF(H301=\"\",\"\",J300+1))","v":181},0,0]
[null,3,"احمد143",202,0,0,null,3,"محمود143",182,0,0]
[null,{"$f":"IF(B302=\"\",\"\",IF(B302+1>$R$3,\"\",B302+1))","v":4},"احمد144",203,0,0,null,{"$f":"IF(H302=\"\",\"\",IF(H302+1>$R$4,\"\",H302+1))","v":4},"محمود144",183,0,0]
[null,5,"احمد145",204,0,0,null,5,"محمود145",184,0,0]
[null,6,"احمد146",205,0,0,null,6,"محمود146",185,0,0]
[null,7,"احمد147",206,0,0,null,7,"محمود147",186,0,0]
[null,8,"احمد148",207,0,0,null,8,"محمود148",187,0,0]
[null,9,"احمد149",208,0,0,null,9,"محمود149",188,0,0]
[null,10,"احمد150",209,0,0,null,10,"محمود150",189,0,0]
[null,11,"احمد151",210,0,0,null,11,"محمود151",190,0,0]
[null,12,"احمد152",211,0,0,null,12,"محمود152",191,0,0]
[null,13,"احمد153",212,0,0,null,13,"محمود153",192,0,0]
[null,14,"احمد154",213,0,0,null,14,"محمود154",193,0,0]
[null,15,"احمد155",214,0,0,null,15,"محمود155",194,0,0]
[null,16,"احمد156",215,0,0,null,16,"محمود156",195,0,0]
[null,17,"احمد157",216,0,0,null,17,"محمود157",196,0,0]
[null,18,"احمد158",217,0,0,null,18,"محمود158",197,0,0]
[null,19,"احمد159",218,0,0,null,19,"محمود159",198,0,0]
[null,20,"احمد160",219,0,0,null,20,"محمود160",199,0,0]
[null,"","","","","",null,"","","","",""]
[null,"","","","","",null,"","","","",""]
[null,"","","","","",null,"","","","",""]
[null,"","","","","",null,"","","","",""]
[null,"","","","","",null,"","","","",""]
[null,"","","","","",null,"","","","",""]
[null,"","","","","",null,"","","","",""]
[null,"","","","","",null,"","","","",""]
[null,"","","","","",null,"","","","",""]
[null,"","","","","",null,"","","","",""]
[]
[null,{"$f":"'البيانات الأساسية'!$A$10","v":"مراقب الكنترول"},null,{"$f":"'البيانات الأساسية'!$C$10","v":"رئيس الكنترول"},null,null,null,{"$f":"'البيانات الأساسية'!$A$10","v":"مراقب الكنترول"},null,{"$f":"'البيانات الأساسية'!$C$10","v":"رئيس الكنترول"}]
[null,{"$f":"'البيانات الأساسية'!$A$11","v":"أ/ عبد الحميد"},null,{"$f":"'البيانات الأساسية'!$A$11","v":"أ/ عبد الحميد"},null,null,null,{"$f":"'البيانات الأساسية'!$A$11","v":"أ/ عبد الحميد"},null,{"$f":"'البيانات الأساسية'!$A$11","v":"أ/ عبد الحميد"}]
[]
[]
[]
[]
[null,{"$f":"'البيانات الأساسية'!$A$1","v":"إدارة /غرب المحلة الكبرى التعليمية"},null,null,null,null,null,{"$f":"'البيانات الأساسية'!$A$1","v":"إدارة /غرب المحلة الكبرى التعليمية"}]
[null,{"$f":"'البيانات الأساسية'!$A$2","v":"مدرسة د/علي علي حبيش الابتدائية"},null,null,null,null,null,{"$f":"'البيانات الأساسية'!$A$2","v":"مدرسة د/علي علي حبيش الابتدائية"}]
[null,{"$f":"'البيانات الأساسية'!$A$6","v":"كشف مناداة الصف الرابع فصل أول وثانٍ للعام الدراسي 2019/2018"},null,null,null,null,null,{"$f":"'البيانات الأساسية'!$A$5","v":"كشف مناداة الصف الثالث فصل أول وثانٍ للعام الدراسي 2019/2018"}]
[null,null,"اللجنة رقم",{"$f":"D298+1","v":9},null,null,null,null,"اللجنة رقم",{"$f":"J298+1","v":9}]
[null,"م","الاســـــــــــــــــــــــــــــم","رقم الجلوس","القيد","الديانة",null,"م","الاســـــــــــــــــــــــــــــم","رقم الجلوس","القيد","الديانة"]
[null,{"$f":"IF(D340=\"\",\"\",1)","v":1},{"$f":"IF(B342=\"\",\"\",VLOOKUP(D342,أسماء_الرابع,2))","v":"احمد161"},{"$f":"IF(D340=\"\",\"\",VLOOKUP(D340,رقم_جلوس4,2))","v":220},{"$f":"IF(B342=\"\",\"\",VLOOKUP(D342,أسماء_الرابع,4))","v":0},{"$f":"IF(B342=\"\",\"\",VLOOKUP(D342,أسماء_الرابع,5))","v":0},null,{"$f":"IF(J340=\"\",\"\",1)","v":1},{"$f":"IF(H342=\"\",\"\",VLOOKUP(J342,أسماء_الثالث,2))","v":"محمود161"},{"$f":"IF(J340=\"\",\"\",VLOOKUP(J340,رقم_جلوس3,2))","v":200},{"$f":"IF(H342=\"\",\"\",VLOOKUP(J342,أسماء_الثالث,4,5))","v":0},{"$f":"IF(H342=\"\",\"\",VLOOKUP(J342,أسماء_الثالث,5))","v":0}]
[null,{"$f":"IF(B342=\"\",\"\",IF(B342+1>$R$3,\"\",B342+1))","v":2},"احمد162",{"$f":"IF(B342=\"\",\"\",IF(B343=\"\",\"\",D342+1))","v":221},0,0,null,{"$f":"IF(H342=\"\",\"\",IF(H342+1>$R$4,\"\",H342+1))","v":2},"محمود162",{"$f":"IF(H342=\"\",\"\",IF(H343=\"\",\"\",J342+1))","v":201},0,0]
[null,3,"احمد163",222,0,0,null,3,"محمود163",202,0,0]
[null,4,"احمد164",223,0,0,null,4,"محمود164",203,0,0]
[null,5,"احمد165",224,0,0,null,5,"محمود165",204,0,0]
[null,6,"احمد166",225,0,0,null,6,"محمود166",205,0,0]
[null,7,"احمد167",226,0,0,null,7,"محمود167",206,0,0]
[null,8,"احمد168",227,0,0,null,8,"محمود168",207,0,0]
[null,9,"احمد169",228,0,0,null,9,"محمود169",208,0,0]
[null,10,"احمد170",229,0,0,null,10,"محمود170",209,0,0]
[null,11,"احمد171",230,0,0,null,11,"محمود171",210,0,0]
[null,12,"احمد172",231,0,0,null,12,"محمود172",211,0,0]
[null,13,"احمد173",232,0,0,null,13,"محمود173",212,0,0]
[null,14,"احمد174",233,0,0,null,14,"محمود174",213,0,0]
[null,15,"احمد175",234,0,0,null,15,"محمود175",214,0,0]
[null,16,"احمد176",235,0,0,null,16,"محمود176",215,0,0]
[null,17,"احمد177",236,0,0,null,17,"محمود177",216,0,0]
[null,18,"احمد178",237,0,0,null,18,"محمود178",217,0,0]
[null,19,"احمد179",238,0,0,null,19,"محمود179",218,0,0]
[null,20,"احمد180",239,0,0,null,20,"محمود180",219,0,0]
[null,"","","","","",null,"","","","",""]
[null,"","","","","",null,"","","","",""]
[null,"","","","","",null,"","","","",""]
[null,"","","","","",null,"","","","",""]
[null,"","","","","",null,"","","","",""]
[null,{"$f":"IF(B366=\"\",\"\",IF(B366+1>$R$3,\"\",B366+1))","v":""},"","","","",null,{"$f":"IF(H366=\"\",\"\",IF(H366+1>$R$4,\"\",H366+1))","v":""},"","","",""]
[null,"","","","","",null,"","","","",""]
[null,"","","","","",null,"","","","",""]
[null,"","","","","",null,"","","","",""]
[null,"","","","","",null,"","","","",""]
[]
[null,{"$f":"'البيانات الأساسية'!$A$10","v":"مراقب الكنترول"},null,{"$f":"'البيانات الأساسية'!$C$10","v":"رئيس الكنترول"},null,null,null,{"$f":"'البيانات الأساسية'!$A$10","v":"مراقب الكنترول"},null,{"$f":"'البيانات الأساسية'!$C$10","v":"رئيس الكنترول"}]
[null,{"$f":"'البيانات الأساسية'!$A$11","v":"أ/ عبد الحميد"},null,{"$f":"'البيانات الأساسية'!$A$11","v":"أ/ عبد الحميد"},null,null,null,{"$f":"'البيانات الأساسية'!$A$11","v":"أ/ عبد الحميد"},null,{"$f":"'البيانات الأساسية'!$A$11","v":"أ/ عبد الحميد"}]
[]
[]
[]
[]
[null,{"$f":"'البيانات الأساسية'!$A$1","v":"إدارة /غرب المحلة الكبرى التعليمية"},null,null,null,null,null,{"$f":"'البيانات الأساسية'!$A$1","v":"إدارة /غرب المحلة الكبرى التعليمية"}]
[null,{"$f":"'البيانات الأساسية'!$A$2","v":"مدرسة د/علي علي حبيش الابتدائية"},null,null,null,null,null,{"$f":"'البيانات الأساسية'!$A$2","v":"مدرسة د/علي علي حبيش الابتدائية"}]
[null,{"$f":"'البيانات الأساسية'!$A$6","v":"كشف مناداة الصف الرابع فصل أول وثانٍ للعام الدراسي 2019/2018"},null,null,null,null,null,{"$f":"'البيانات الأساسية'!$A$5","v":"كشف مناداة الصف الثالث فصل أول وثانٍ للعام الدراسي 2019/2018"}]
[null,null,"اللجنة رقم",{"$f":"D340+1","v":10},null,null,null,null,"اللجنة رقم",{"$f":"J340+1","v":10}]
[null,"م","الاســـــــــــــــــــــــــــــم","رقم الجلوس","القيد","الديانة",null,"م","الاســـــــــــــــــــــــــــــم","رقم الجلوس","القيد","الديانة"]
[null,{"$f":"IF(D382=\"\",\"\",1)","v":1},{"$f":"IF(B384=\"\",\"\",VLOOKUP(D384,أسماء_الرابع,2))","v":"احمد181"},{"$f":"IF(D382=\"\",\"\",VLOOKUP(D382,رقم_جلوس4,2))","v":240},{"$f":"IF(B384=\"\",\"\",VLOOKUP(D384,أسماء_الرابع,4))","v":0},{"$f":"IF(B384=\"\",\"\",VLOOKUP(D384,أسماء_الرابع,5))","v":0},null,{"$f":"IF(J382=\"\",\"\",1)","v":1},{"$f":"IF(H384=\"\",\"\",VLOOKUP(J384,أسماء_الثالث,2))","v":"محمود181"},{"$f":"IF(J382=\"\",\"\",VLOOKUP(J382,رقم_جلوس3,2))","v":220},{"$f":"IF(H384=\"\",\"\",VLOOKUP(J384,أسماء_الثالث,4,5))","v":0},{"$f":"IF(H384=\"\",\"\",VLOOKUP(J384,أسماء_الثالث,5))","v":0}]
[null,{"$f":"IF(B384=\"\",\"\",IF(B384+1>$R$3,\"\",B384+1))","v":2},"احمد182",{"$f":"IF(B384=\"\",\"\",IF(B385=\"\",\"\",D384+1))","v":241},0,0,null,{"$f":"IF(H384=\"\",\"\",IF(H384+1>$R$4,\"\",H384+1))","v":2},"محمود182",{"$f":"IF(H384=\"\",\"\",IF(H385=\"\",\"\",J384+1))","v":221},0,0]
[null,3,"احمد183",242,0,0,null,3,"محمود183",222,0,0]
[null,4,"احمد184",243,0,0,null,4,"محمود184",223,0,0]
[null,5,"احمد185",244,0,0,null,5,"محمود185",224,0,0]
[null,6,"احمد186",245,0,0,null,6,"محمود186",225,0,0]
[null,7,"احمد187",246,0,0,null,7,"محمود187",226,0,0]
[null,8,"احمد188",247,0,0,null,8,"محمود188",227,0,0]
[null,9,"احمد189",248,0,0,null,9,"محمود189",228,0,0]
[null,10,"احمد190",249,0,0,null,10,"محمود190",229,0,0]
[null,11,"احمد191",250,0,0,null,11,"محمود191",230,0,0]
[null,12,"احمد192",251,0,0,null,12,"محمود192",231,0,0]
[null,13,"احمد193",252,0,0,null,13,"محمود193",232,0,0]
[null,14,"احمد194",253,0,0,null,14,"محمود194",233,0,0]
[null,15,"احمد195",254,0,0,null,15,"محمود195",234,0,0]
[null,16,"احمد196",255,0,0,null,16,"محمود196",235,0,0]
[null,17,"احمد197",256,0,0,null,17,"محمود197",236,0,0]
[null,18,"احمد198",257,0,0,null,18,"محمود198",237,0,0]
[null,19,"احمد199",258,0,0,null,19,"محمود199",238,0,0]
[null,20,"احمد200",259,0,0,null,20,"محمود200",239,0,0]
[null,"","","","","",null,"","","","",""]
[null,"","","","","",null,"","","","",""]
[null,"","","","","",null,"","","","",""]
[null,"","","","","",null,"","","","",""]
[null,"","","","","",null,"","","","",""]
[null,"","","","","",null,"","","","",""]
[null,"","","","","",null,"","","","",""]
[null,"","","","","",null,"","","","",""]
[null,"","","","","",null,"","","","",""]
[null,"","","","","",null,"","","","",""]
[]
[null,{"$f":"'البيانات الأساسية'!$A$10","v":"مراقب الكنترول"},null,{"$f":"'البيانات الأساسية'!$C$10","v":"رئيس الكنترول"},null,null,null,{"$f":"'البيانات الأساسية'!$A$10","v":"مراقب الكنترول"},null,{"$f":"'البيانات الأساسية'!$C$10","v":"رئيس الكنترول"}]
[null,{"$f":"'البيانات الأساسية'!$A$11","v":"أ/ عبد الحميد"},null,{"$f":"'البيانات الأساسية'!$A$11","v":"أ/ عبد الحميد"},null,null,null,{"$f":"'البيانات الأساسية'!$A$11","v":"أ/ عبد الحميد"},null,{"$f":"'البيانات الأساسية'!$A$11","v":"أ/ عبد الحميد"}]
[]
[]
[]
[]
[null,{"$f":"'البيانات الأساسية'!$A$1","v":"إدارة /غرب المحلة الكبرى التعليمية"},null,null,null,null,null,{"$f":"'البيانات الأساسية'!$A$1","v":"إدارة /غرب المحلة الكبرى التعليمية"}]
[null,{"$f":"'البيانات الأساسية'!$A$2","v":"مدرسة د/علي علي حبيش الابتدائية"},null,null,null,null,null,{"$f":"'البيانات الأساسية'!$A$2","v":"مدرسة د/علي علي حبيش الابتدائية"}]
[null,{"$f":"'البيانات الأساسية'!$A$6","v":"كشف مناداة الصف الرابع فصل أول وثانٍ للعام الدراسي 2019/2018"},null,null,null,null,null,{"$f":"'البيانات الأساسية'!$A$5","v":"كشف مناداة الصف الثالث فصل أول وثانٍ للعام الدراسي 2019/2018"}]
[null,null,"اللجنة رقم",{"$f":"D382+1","v":11},null,null,null,null,"اللجنة رقم",{"$f":"J382+1","v":11}]
[null,"م","الاســـــــــــــــــــــــــــــم","رقم الجلوس","القيد","الديانة",null,"م","الاســـــــــــــــــــــــــــــم","رقم الجلوس","القيد","الديانة"]
[null,{"$f":"IF(D424=\"\",\"\",1)","v":1},{"$f":"IF(B426=\"\",\"\",VLOOKUP(D426,أسماء_الرابع,2))","v":"احمد201"},{"$f":"IF(D424=\"\",\"\",VLOOKUP(D424,رقم_جلوس4,2))","v":260},{"$f":"IF(B426=\"\",\"\",VLOOKUP(D426,أسماء_الرابع,4))","v":0},{"$f":"IF(B426=\"\",\"\",VLOOKUP(D426,أسماء_الرابع,5))","v":0},null,{"$f":"IF(J424=\"\",\"\",1)","v":1},{"$f":"IF(H426=\"\",\"\",VLOOKUP(J426,أسماء_الثالث,2))","v":"محمود201"},{"$f":"IF(J424=\"\",\"\",VLOOKUP(J424,رقم_جلوس3,2))","v":240},{"$f":"IF(H426=\"\",\"\",VLOOKUP(J426,أسماء_الثالث,4,5))","v":0},{"$f":"IF(H426=\"\",\"\",VLOOKUP(J426,أسماء_الثالث,5))","v":0}]
[null,{"$f":"IF(B426=\"\",\"\",IF(B426+1>$R$3,\"\",B426+1))","v":2},"احمد202",{"$f":"IF(B426=\"\",\"\",IF(B427=\"\",\"\",D426+1))","v":261},0,0,null,{"$f":"IF(H426=\"\",\"\",IF(H426+1>$R$4,\"\",H426+1))","v":2},"محمود202",{"$f":"IF(H426=\"\",\"\",IF(H427=\"\",\"\",J426+1))","v":241},0,0]
[null,3,"احمد203",262,0,0,null,3,"محمود203",242,0,0]
[null,4,"احمد204",263,0,0,null,4,"محمود204",243,0,0]
[null,5,"احمد205",264,0,0,null,5,"محمود205",244,0,0]
[null,{"$f":"IF(B430=\"\",\"\",IF(B430+1>$R$3,\"\",B430+1))","v":6},"احمد206",265,0,0,null,{"$f":"IF(H430=\"\",\"\",IF(H430+1>$R$4,\"\",H430+1))","v":6},"محمود206",245,0,0]
[null,7,"احمد207",266,0,0,null,7,"محمود207",246,0,0]
[null,8,"احمد208",267,0,0,null,8,"محمود208",247,0,0]
[null,9,"احمد209",268,0,0,null,9,"محمود209",248,0,0]
[null,10,"احمد210",269,0,0,null,10,"محمود210",249,0,0]
[null,11,"احمد211",270,0,0,null,11,"محمود211",250,0,0]
[null,12,"احمد212",271,0,0,null,12,"محمود212",251,0,0]
[null,13,"احمد213",272,0,0,null,13,"محمود213",252,0,0]
[null,14,"احمد214",273,0,0,null,14,"محمود214",253,0,0]
[null,15,"احمد215",274,0,0,null,15,"محمود215",254,0,0]
[null,16,"احمد216",275,0,0,null,16,"محمود216",255,0,0]
[null,17,"احمد217",276,0,0,null,17,"محمود217",256,0,0]
[null,18,"احمد218",277,0,0,null,18,"محمود218",257,0,0]
[null,19,"احمد219",278,0,0,null,19,"محمود219",258,0,0]
[null,20,"احمد220",279,0,0,null,20,"محمود220",259,0,0]
[null,"","","","","",null,"","","","",""]
[null,"","","","","",null,"","","","",""]
[null,"","","","","",null,"","","","",""]
[null,"","","","","",null,"","","","",""]
[null,"","","","","",null,"","","","",""]
[null,"","","","","",null,"","","","",""]
[null,"","","","","",null,"","","","",""]
[null,"","","","","",null,"","","","",""]
[null,"","","","","",null,"","","","",""]
[null,"","","","","",null,"","","","",""]
[]
[null,{"$f":"'البيانات الأساسية'!$A$10","v":"مراقب الكنترول"},null,{"$f":"'البيانات الأساسية'!$C$10","v":"رئيس الكنترول"},null,null,null,{"$f":"'البيانات الأساسية'!$A$10","v":"مراقب الكنترول"},null,{"$f":"'البيانات الأساسية'!$C$10","v":"رئيس الكنترول"}]
[null,{"$f":"'البيانات الأساسية'!$A$11","v":"أ/ عبد الحميد"},null,{"$f":"'البيانات الأساسية'!$A$11","v":"أ/ عبد الحميد"},null,null,null,{"$f":"'البيانات الأساسية'!$A$11","v":"أ/ عبد الحميد"},null,{"$f":"'البيانات الأساسية'!$A$11","v":"أ/ عبد الحميد"}]
[]
[]
[]
[]
[null,{"$f":"'البيانات الأساسية'!$A$1","v":"إدارة /غرب المحلة الكبرى التعليمية"},null,null,null,null,null,{"$f":"'البيانات الأساسية'!$A$1","v":"إدارة /غرب المحلة الكبرى التعليمية"}]
[null,{"$f":"'البيانات الأساسية'!$A$2","v":"مدرسة د/علي علي حبيش الابتدائية"},null,null,null,null,null,{"$f":"'البيانات الأساسية'!$A$2","v":"مدرسة د/علي علي حبيش الابتدائية"}]
[null,{"$f":"'البيانات الأساسية'!$A$6","v":"كشف مناداة الصف الرابع فصل أول وثانٍ للعام الدراسي 2019/2018"},null,null,null,null,null,{"$f":"'البيانات الأساسية'!$A$5","v":"كشف مناداة الصف الثالث فصل أول وثانٍ للعام الدراسي 2019/2018"}]
[null,null,"اللجنة رقم",{"$f":"D424+1","v":12},null,null,null,null,"اللجنة رقم",{"$f":"J424+1","v":12}]
[null,"م","الاســـــــــــــــــــــــــــــم","رقم الجلوس","القيد","الديانة",null,"م","الاســـــــــــــــــــــــــــــم","رقم الجلوس","القيد","الديانة"]
[null,{"$f":"IF(D466=\"\",\"\",1)","v":1},{"$f":"IF(B468=\"\",\"\",VLOOKUP(D468,أسماء_الرابع,2))","v":"احمد221"},{"$f":"IF(D466=\"\",\"\",VLOOKUP(D466,رقم_جلوس4,2))","v":280},{"$f":"IF(B468=\"\",\"\",VLOOKUP(D468,أسماء_الرابع,4))","v":0},{"$f":"IF(B468=\"\",\"\",VLOOKUP(D468,أسماء_الرابع,5))","v":0},null,{"$f":"IF(J466=\"\",\"\",1)","v":1},{"$f":"IF(H468=\"\",\"\",VLOOKUP(J468,أسماء_الثالث,2))","v":"محمود221"},{"$f":"IF(J466=\"\",\"\",VLOOKUP(J466,رقم_جلوس3,2))","v":260},{"$f":"IF(H468=\"\",\"\",VLOOKUP(J468,أسماء_الثالث,4,5))","v":0},{"$f":"IF(H468=\"\",\"\",VLOOKUP(J468,أسماء_الثالث,5))","v":0}]
[null,{"$f":"IF(B468=\"\",\"\",IF(B468+1>$R$3,\"\",B468+1))","v":2},"احمد222",{"$f":"IF(B468=\"\",\"\",IF(B469=\"\",\"\",D468+1))","v":281},0,0,null,{"$f":"IF(H468=\"\",\"\",IF(H468+1>$R$4,\"\",H468+1))","v":2},"محمود222",{"$f":"IF(H468=\"\",\"\",IF(H469=\"\",\"\",J468+1))","v":261},0,0]
[null,3,"احمد223",282,0,0,null,3,"محمود223",262,0,0]
[null,4,"احمد224",283,0,0,null,4,"محمود224",263,0,0]
[null,5,"احمد225",284,0,0,null,5,"محمود225",264,0,0]
[null,6,"احمد226",285,0,0,null,6,"محمود226",265,0,0]
[null,7,"احمد227",286,0,0,null,7,"محمود227",266,0,0]
[null,8,"احمد228",287,0,0,null,8,"محمود228",267,0,0]
[null,9,"احمد229",288,0,0,null,9,"محمود229",268,0,0]
[null,10,"احمد230",289,0,0,null,10,"محمود230",269,0,0]
[null,11,"احمد231",290,0,0,null,11,"محمود231",270,0,0]
[null,12,"احمد232",291,0,0,null,12,"محمود232",271,0,0]
[null,13,"احمد233",292,0,0,null,13,"محمود233",272,0,0]
[null,14,"احمد234",293,0,0,null,14,"محمود234",273,0,0]
[null,15,"احمد235",294,0,0,null,15,"محمود235",274,0,0]
[null,16,"احمد236",295,0,0,null,16,"محمود236",275,0,0]
[null,17,"احمد237",296,0,0,null,17,"محمود237",276,0,0]
[null,18,"احمد238",297,0,0,null,18,"محمود238",277,0,0]
[null,19,"احمد239",298,0,0,null,19,"محمود239",278,0,0]
[null,20,"احمد240",299,0,0,null,20,"محمود240",279,0,0]
[null,"","","","","",null,"","","","",""]
[null,"","","","","",null,"","","","",""]
[null,"","","","","",null,"","","","",""]
[null,"","","","","",null,"","","","",""]
[null,"","","","","",null,"","","","",""]
[null,"","","","","",null,"","","","",""]
[null,"","","","","",null,"","","","",""]
[null,{"$f":"IF(B494=\"\",\"\",IF(B494+1>$R$3,\"\",B494+1))","v":""},"","","","",null,{"$f":"IF(H494=\"\",\"\",IF(H494+1>$R$4,\"\",H494+1))","v":""},"","","",""]
[null,"","","","","",null,"","","","",""]
[null,"","","","","",null,"","","","",""]
[]
[null,{"$f":"'البيانات الأساسية'!$A$10","v":"مراقب الكنترول"},null,{"$f":"'البيانات الأساسية'!$C$10","v":"رئيس الكنترول"},null,null,null,{"$f":"'البيانات الأساسية'!$A$10","v":"مراقب الكنترول"},null,{"$f":"'البيانات الأساسية'!$C$10","v":"رئيس الكنترول"}]
[null,{"$f":"'البيانات الأساسية'!$A$11","v":"أ/ عبد الحميد"},null,{"$f":"'البيانات الأساسية'!$A$11","v":"أ/ عبد الحميد"},null,null,null,{"$f":"'البيانات الأساسية'!$A$11","v":"أ/ عبد الحميد"},null,{"$f":"'البيانات الأساسية'!$A$11","v":"أ/ عبد الحميد"}]
[]
[]
[]
[]
[null,{"$f":"'البيانات الأساسية'!$A$1","v":"إدارة /غرب المحلة الكبرى التعليمية"},null,null,null,null,null,{"$f":"'البيانات الأساسية'!$A$1","v":"إدارة /غرب المحلة الكبرى التعليمية"}]
[null,{"$f":"'البيانات الأساسية'!$A$2","v":"مدرسة د/علي علي حبيش الابتدائية"},null,null,null,null,null,{"$f":"'البيانات الأساسية'!$A$2","v":"مدرسة د/علي علي حبيش الابتدائية"}]
[null,{"$f":"'البيانات الأساسية'!$A$6","v":"كشف مناداة الصف الرابع فصل أول وثانٍ للعام الدراسي 2019/2018"},null,null,null,null,null,{"$f":"'البيانات الأساسية'!$A$5","v":"كشف مناداة الصف الثالث فصل أول وثانٍ للعام الدراسي 2019/2018"}]
[null,null,"اللجنة رقم",{"$f":"D466+1","v":13},null,null,null,null,"اللجنة رقم",{"$f":"J466+1","v":13}]
[null,"م","الاســـــــــــــــــــــــــــــم","رقم الجلوس","القيد","الديانة",null,"م","الاســـــــــــــــــــــــــــــم","رقم الجلوس","القيد","الديانة"]
[null,{"$f":"IF(D508=\"\",\"\",1)","v":1},{"$f":"IF(B510=\"\",\"\",VLOOKUP(D510,أسماء_الرابع,2))","v":"احمد241"},{"$f":"IF(D508=\"\",\"\",VLOOKUP(D508,رقم_جلوس4,2))","v":300},{"$f":"IF(B510=\"\",\"\",VLOOKUP(D510,أسماء_الرابع,4))","v":0},{"$f":"IF(B510=\"\",\"\",VLOOKUP(D510,أسماء_الرابع,5))","v":0},null,{"$f":"IF(J508=\"\",\"\",1)","v":1},{"$f":"IF(H510=\"\",\"\",VLOOKUP(J510,أسماء_الثالث,2))","v":"محمود241"},{"$f":"IF(J508=\"\",\"\",VLOOKUP(J508,رقم_جلوس3,2))","v":280},{"$f":"IF(H510=\"\",\"\",VLOOKUP(J510,أسماء_الثالث,4,5))","v":0},{"$f":"IF(H510=\"\",\"\",VLOOKUP(J510,أسماء_الثالث,5))","v":0}]
[null,{"$f":"IF(B510=\"\",\"\",IF(B510+1>$R$3,\"\",B510+1))","v":2},"احمد242",{"$f":"IF(B510=\"\",\"\",IF(B511=\"\",\"\",D510+1))","v":301},0,0,null,{"$f":"IF(H510=\"\",\"\",IF(H510+1>$R$4,\"\",H510+1))","v":2},"محمود242",{"$f":"IF(H510=\"\",\"\",IF(H511=\"\",\"\",J510+1))","v":281},0,0]
[null,3,"احمد243",302,0,0,null,3,"محمود243",282,0,0]
[null,4,"احمد244",303,0,0,null,4,"محمود244",283,0,0]
[null,5,"احمد245",304,0,0,null,5,"محمود245",284,0,0]
[null,6,"احمد246",305,0,0,null,6,"محمود246",285,0,0]
[null,7,"احمد247",306,0,0,null,7,"محمود247",286,0,0]
[null,8,"احمد248",307,0,0,null,8,"محمود248",287,0,0]
[null,9,"احمد249",308,0,0,null,9,"محمود249",288,0,0]
[null,10,"احمد250",309,0,0,null,10,"محمود250",289,0,0]
[null,11,"احمد251",310,0,0,null,11,"محمود251",290,0,0]
[null,12,"احمد252",311,0,0,null,12,"محمود252",291,0,0]
[null,13,"احمد253",312,0,0,null,13,"محمود253",292,0,0]
[null,14,"احمد254",313,0,0,null,14,"محمود254",293,0,0]
[null,15,"احمد255",314,0,0,null,15,"محمود255",294,0,0]
[null,16,"احمد256",315,0,0,null,16,"محمود256",295,0,0]
[null,17,"احمد257",316,0,0,null,17,"محمود257",296,0,0]
[null,18,"احمد258",317,0,0,null,18,"محمود258",297,0,0]
[null,19,"احمد259",318,0,0,null,19,"محمود259",298,0,0]
[null,20,"احمد260",319,0,0,null,20,"محمود260",299,0,0]
[null,"","","","","",null,"","","","",""]
[null,"","","","","",null,"","","","",""]
[null,"","","","","",null,"","","","",""]
[null,"","","","","",null,"","","","",""]
[null,"","","","","",null,"","","","",""]
[null,"","","","","",null,"","","","",""]
[null,"","","","","",null,"","","","",""]
[null,"","","","","",null,"","","","",""]
[null,"","","","","",null,"","","","",""]
[null,"","","","","",null,"","","","",""]
[]
[null,{"$f":"'البيانات الأساسية'!$A$10","v":"مراقب الكنترول"},null,{"$f":"'البيانات الأساسية'!$C$10","v":"رئيس الكنترول"},null,null,null,{"$f":"'البيانات الأساسية'!$A$10","v":"مراقب الكنترول"},null,{"$f":"'البيانات الأساسية'!$C$10","v":"رئيس الكنترول"}]
[null,{"$f":"'البيانات الأساسية'!$A$11","v":"أ/ عبد الحميد"},null,{"$f":"'البيانات الأساسية'!$A$11","v":"أ/ عبد الحميد"},null,null,null,{"$f":"'البيانات الأساسية'!$A$11","v":"أ/ عبد الحميد"},null,{"$f":"'البيانات الأساسية'!$A$11","v":"أ/ عبد الحميد"}]
[]
[]
[]
[]
[null,{"$f":"'البيانات الأساسية'!$A$1","v":"إدارة /غرب المحلة الكبرى التعليمية"},null,null,null,null,null,{"$f":"'البيانات الأساسية'!$A$1","v":"إدارة /غرب المحلة الكبرى التعليمية"}]
[null,{"$f":"'البيانات الأساسية'!$A$2","v":"مدرسة د/علي علي حبيش الابتدائية"},null,null,null,null,null,{"$f":"'البيانات الأساسية'!$A$2","v":"مدرسة د/علي علي حبيش الابتدائية"}]
[null,{"$f":"'البيانات الأساسية'!$A$6","v":"كشف مناداة الصف الرابع فصل أول وثانٍ للعام الدراسي 2019/2018"},null,null,null,null,null,{"$f":"'البيانات الأساسية'!$A$5","v":"كشف مناداة الصف الثالث فصل أول وثانٍ للعام الدراسي 2019/2018"}]
[null,null,"اللجنة رقم",{"$f":"D508+1","v":14},null,null,null,null,"اللجنة رقم",{"$f":"J508+1","v":14}]
[null,"م","الاســـــــــــــــــــــــــــــم","رقم الجلوس","القيد","الديانة",null,"م","الاســـــــــــــــــــــــــــــم","رقم الجلوس","القيد","الديانة"]
[null,{"$f":"IF(D550=\"\",\"\",1)","v":1},{"$f":"IF(B552=\"\",\"\",VLOOKUP(D552,أسماء_الرابع,2))","v":"احمد261"},{"$f":"IF(D550=\"\",\"\",VLOOKUP(D550,رقم_جلوس4,2))","v":320},{"$f":"IF(B552=\"\",\"\",VLOOKUP(D552,أسماء_الرابع,4))","v":0},{"$f":"IF(B552=\"\",\"\",VLOOKUP(D552,أسماء_الرابع,5))","v":0},null,{"$f":"IF(J550=\"\",\"\",1)","v":1},{"$f":"IF(H552=\"\",\"\",VLOOKUP(J552,أسماء_الثالث,2))","v":"محمود261"},{"$f":"IF(J550=\"\",\"\",VLOOKUP(J550,رقم_جلوس3,2))","v":300},{"$f":"IF(H552=\"\",\"\",VLOOKUP(J552,أسماء_الثالث,4,5))","v":0},{"$f":"IF(H552=\"\",\"\",VLOOKUP(J552,أسماء_الثالث,5))","v":0}]
[null,{"$f":"IF(B552=\"\",\"\",IF(B552+1>$R$3,\"\",B552+1))","v":2},"احمد262",{"$f":"IF(B552=\"\",\"\",IF(B553=\"\",\"\",D552+1))","v":321},0,0,null,{"$f":"IF(H552=\"\",\"\",IF(H552+1>$R$4,\"\",H552+1))","v":2},"محمود262",{"$f":"IF(H552=\"\",\"\",IF(H553=\"\",\"\",J552+1))","v":301},0,0]
[null,3,"احمد263",322,0,0,null,3,"محمود263",302,0,0]
[null,4,"احمد264",323,0,0,null,4,"محمود264",303,0,0]
[null,5,"احمد265",324,0,0,null,5,"محمود265",304,0,0]
[null,6,"احمد266",325,0,0,null,6,"محمود266",305,0,0]
[null,7,"احمد267",326,0,0,null,7,"محمود267",306,0,0]
[null,{"$f":"IF(B558=\"\",\"\",IF(B558+1>$R$3,\"\",B558+1))","v":8},"احمد268",327,0,0,null,{"$f":"IF(H558=\"\",\"\",IF(H558+1>$R$4,\"\",H558+1))","v":8},"محمود268",307,0,0]
[null,9,"احمد269",328,0,0,null,9,"محمود269",308,0,0]
[null,10,"احمد270",329,0,0,null,10,"محمود270",309,0,0]
[null,11,"احمد271",330,0,0,null,11,"محمود271",310,0,0]
[null,12,"احمد272",331,0,0,null,12,"محمود272",311,0,0]
[null,13,"احمد273",332,0,0,null,13,"محمود273",312,0,0]
[null,14,"احمد274",333,0,0,null,14,"محمود274",313,0,0]
[null,15,"احمد275",334,0,0,null,15,"محمود275",314,0,0]
[null,16,"احمد276",335,0,0,null,16,"محمود276",315,0,0]
[null,17,"احمد277",336,0,0,null,17,"محمود277",316,0,0]
[null,18,"احمد278",337,0,0,null,18,"محمود278",317,0,0]
[null,19,"احمد279",338,0,0,null,19,"محمود279",318,0,0]
[null,20,"احمد280",339,0,0,null,20,"محمود280",319,0,0]
[null,"","","","","",null,"","","","",""]
[null,"","","","","",null,"","","","",""]
[null,"","","","","",null,"","","","",""]
[null,"","","","","",null,"","","","",""]
[null,"","","","","",null,"","","","",""]
[null,"","","","","",null,"","","","",""]
[null,"","","","","",null,"","","","",""]
[null,"","","","","",null,"","","","",""]
[null,"","","","","",null,"","","","",""]
[null,"","","","","",null,"","","","",""]
[]
[null,{"$f":"'البيانات الأساسية'!$A$10","v":"مراقب الكنترول"},null,{"$f":"'البيانات الأساسية'!$C$10","v":"رئيس الكنترول"},null,null,null,{"$f":"'البيانات الأساسية'!$A$10","v":"مراقب الكنترول"},null,{"$f":"'البيانات الأساسية'!$C$10","v":"رئيس الكنترول"}]
[null,{"$f":"'البيانات الأساسية'!$A$11","v":"أ/ عبد الحميد"},null,{"$f":"'البيانات الأساسية'!$A$11","v":"أ/ عبد الحميد"},null,null,null,{"$f":"'البيانات الأساسية'!$A$11","v":"أ/ عبد الحميد"},null,{"$f":"'البيانات الأساسية'!$A$11","v":"أ/ عبد الحميد"}]
[]
[]
[]
[]
[null,{"$f":"'البيانات الأساسية'!$A$1","v":"إدارة /غرب المحلة الكبرى التعليمية"},null,null,null,null,null,{"$f":"'البيانات الأساسية'!$A$1","v":"إدارة /غرب المحلة الكبرى التعليمية"}]
[null,{"$f":"'البيانات الأساسية'!$A$2","v":"مدرسة د/علي علي حبيش الابتدائية"},null,null,null,null,null,{"$f":"'البيانات الأساسية'!$A$2","v":"مدرسة د/علي علي حبيش الابتدائية"}]
[null,{"$f":"'البيانات الأساسية'!$A$6","v":"كشف مناداة الصف الرابع فصل أول وثانٍ للعام الدراسي 2019/2018"},null,null,null,null,null,{"$f":"'البيانات الأساسية'!$A$5","v":"كشف مناداة الصف الثالث فصل أول وثانٍ للعام الدراسي 2019/2018"}]
[null,null,"اللجنة رقم",{"$f":"D550+1","v":15},null,null,null,null,"اللجنة رقم",{"$f":"J550+1","v":15}]
[null,"م","الاســـــــــــــــــــــــــــــم","رقم الجلوس","القيد","الديانة",null,"م","الاســـــــــــــــــــــــــــــم","رقم الجلوس","القيد","الديانة"]
[null,{"$f":"IF(D592=\"\",\"\",1)","v":1},{"$f":"IF(B594=\"\",\"\",VLOOKUP(D594,أسماء_الرابع,2))","v":"احمد281"},{"$f":"IF(D592=\"\",\"\",VLOOKUP(D592,رقم_جلوس4,2))","v":340},{"$f":"IF(B594=\"\",\"\",VLOOKUP(D594,أسماء_الرابع,4))","v":0},{"$f":"IF(B594=\"\",\"\",VLOOKUP(D594,أسماء_الرابع,5))","v":0},null,{"$f":"IF(J592=\"\",\"\",1)","v":1},{"$f":"IF(H594=\"\",\"\",VLOOKUP(J594,أسماء_الثالث,2))","v":"محمود281"},{"$f":"IF(J592=\"\",\"\",VLOOKUP(J592,رقم_جلوس3,2))","v":320},{"$f":"IF(H594=\"\",\"\",VLOOKUP(J594,أسماء_الثالث,4,5))","v":0},{"$f":"IF(H594=\"\",\"\",VLOOKUP(J594,أسماء_الثالث,5))","v":0}]
[null,{"$f":"IF(B594=\"\",\"\",IF(B594+1>$R$3,\"\",B594+1))","v":2},"احمد282",{"$f":"IF(B594=\"\",\"\",IF(B595=\"\",\"\",D594+1))","v":341},0,0,null,{"$f":"IF(H594=\"\",\"\",IF(H594+1>$R$4,\"\",H594+1))","v":2},"محمود282",{"$f":"IF(H594=\"\",\"\",IF(H595=\"\",\"\",J594+1))","v":321},0,0]
[null,3,"احمد283",342,0,0,null,3,"محمود283",322,0,0]
[null,4,"احمد284",343,0,0,null,4,"محمود284",323,0,0]
[null,5,"احمد285",344,0,0,null,5,"محمود285",324,0,0]
[null,6,"احمد286",345,0,0,null,6,"محمود286",325,0,0]
[null,7,"احمد287",346,0,0,null,7,"محمود287",326,0,0]
[null,8,"احمد288",347,0,0,null,8,"محمود288",327,0,0]
[null,9,"احمد289",348,0,0,null,9,"محمود289",328,0,0]
[null,10,"احمد290",349,0,0,null,10,"محمود290",329,0,0]
[null,11,"احمد291",350,0,0,null,11,"محمود291",330,0,0]
[null,12,"احمد292",351,0,0,null,12,"محمود292",331,0,0]
[null,13,"احمد293",352,0,0,null,13,"محمود293",332,0,0]
[null,14,"احمد294",353,0,0,null,14,"محمود294",333,0,0]
[null,15,"احمد295",354,0,0,null,15,"محمود295",334,0,0]
[null,16,"احمد296",355,0,0,null,16,"محمود296",335,0,0]
[null,17,"احمد297",356,0,0,null,17,"محمود297",336,0,0]
[null,18,"احمد298",357,0,0,null,18,"محمود298",337,0,0]
[null,19,"احمد299",358,0,0,null,19,"محمود299",338,0,0]
[null,20,"احمد300",359,0,0,null,20,"محمود300",339,0,0]
[null,"","","","","",null,"","","","",""]
[null,"","","","","",null,"","","","",""]
[null,"","","","","",null,"","","","",""]
[null,"","","","","",null,"","","","",""]
[null,"","","","","",null,"","","","",""]
[null,"","","","","",null,"","","","",""]
[null,"","","","","",null,"","","","",""]
[null,"","","","","",null,"","","","",""]
[null,"","","","","",null,"","","","",""]
[null,{"$f":"IF(B622=\"\",\"\",IF(B622+1>$R$3,\"\",B622+1))","v":""},"","","","",null,{"$f":"IF(H622=\"\",\"\",IF(H622+1>$R$4,\"\",H622+1))","v":""},"","","",""]
[]
[null,{"$f":"'البيانات الأساسية'!$A$10","v":"مراقب الكنترول"},null,{"$f":"'البيانات الأساسية'!$C$10","v":"رئيس الكنترول"},null,null,null,{"$f":"'البيانات الأساسية'!$A$10","v":"مراقب الكنترول"},null,{"$f":"'البيانات الأساسية'!$C$10","v":"رئيس الكنترول"}]
[null,{"$f":"'البيانات الأساسية'!$A$11","v":"أ/ عبد الحميد"},null,{"$f":"'البيانات الأساسية'!$A$11","v":"أ/ عبد الحميد"},null,null,null,{"$f":"'البيانات الأساسية'!$A$11","v":"أ/ عبد الحميد"},null,{"$f":"'البيانات الأساسية'!$A$11","v":"أ/ عبد الحميد"}]
[]
[]
[]
[]
[null,{"$f":"'البيانات الأساسية'!$A$1","v":"إدارة /غرب المحلة الكبرى التعليمية"},null,null,null,null,null,{"$f":"'البيانات الأساسية'!$A$1","v":"إدارة /غرب المحلة الكبرى التعليمية"}]
[null,{"$f":"'البيانات الأساسية'!$A$2","v":"مدرسة د/علي علي حبيش الابتدائية"},null,null,null,null,null,{"$f":"'البيانات الأساسية'!$A$2","v":"مدرسة د/علي علي حبيش الابتدائية"}]
[null,{"$f":"'البيانات الأساسية'!$A$6","v":"كشف مناداة الصف الرابع فصل أول وثانٍ للعام الدراسي 2019/2018"},null,null,null,null,null,{"$f":"'البيانات الأساسية'!$A$5","v":"كشف مناداة الصف الثالث فصل أول وثانٍ للعام الدراسي 2019/2018"}]
[null,null,"اللجنة رقم",{"$f":"D592+1","v":16},null,null,null,null,"اللجنة رقم",{"$f":"J592+1","v":16}]
[null,"م","الاســـــــــــــــــــــــــــــم","رقم الجلوس","القيد","الديانة",null,"م","الاســـــــــــــــــــــــــــــم","رقم الجلوس","القيد","الديانة"]
[null,{"$f":"IF(D634=\"\",\"\",1)","v":1},{"$f":"IF(B636=\"\",\"\",VLOOKUP(D636,أسماء_الرابع,2))","v":"احمد301"},{"$f":"IF(D634=\"\",\"\",VLOOKUP(D634,رقم_جلوس4,2))","v":360},{"$f":"IF(B636=\"\",\"\",VLOOKUP(D636,أسماء_الرابع,4))","v":0},{"$f":"IF(B636=\"\",\"\",VLOOKUP(D636,أسماء_الرابع,5))","v":0},null,{"$f":"IF(J634=\"\",\"\",1)","v":1},{"$f":"IF(H636=\"\",\"\",VLOOKUP(J636,أسماء_الثالث,2))","v":"محمود301"},{"$f":"IF(J634=\"\",\"\",VLOOKUP(J634,رقم_جلوس3,2))","v":340},{"$f":"IF(H636=\"\",\"\",VLOOKUP(J636,أسماء_الثالث,4,5))","v":0},{"$f":"IF(H636=\"\",\"\",VLOOKUP(J636,أسماء_الثالث,5))","v":0}]
[null,{"$f":"IF(B636=\"\",\"\",IF(B636+1>$R$3,\"\",B636+1))","v":2},"احمد302",{"$f":"IF(B636=\"\",\"\",IF(B637=\"\",\"\",D636+1))","v":361},0,0,null,{"$f":"IF(H636=\"\",\"\",IF(H636+1>$R$4,\"\",H636+1))","v":2},"محمود302",{"$f":"IF(H636=\"\",\"\",IF(H637=\"\",\"\",J636+1))","v":341},0,0]
[null,3,"احمد303",362,0,0,null,3,"محمود303",342,0,0]
[null,4,"احمد304",363,0,0,null,4,"محمود304",343,0,0]
[null,5,"احمد305",364,0,0,null,5,"محمود305",344,0,0]
[null,6,"احمد306",365,0,0,null,6,"محمود306",345,0,0]
[null,7,"احمد307",366,0,0,null,7,"محمود307",346,0,0]
[null,8,"احمد308",367,0,0,null,8,"محمود308",347,0,0]
[null,9,"احمد309",368,0,0,null,9,"محمود309",348,0,0]
[null,10,"احمد310",369,0,0,null,10,"محمود310",349,0,0]
[null,11,"احمد311",370,0,0,null,11,"محمود311",350,0,0]
[null,12,"احمد312",371,0,0,null,12,"محمود312",351,0,0]
[null,13,"احمد313",372,0,0,null,13,"محمود313",352,0,0]
[null,14,"احمد314",373,0,0,null,14,"محمود314",353,0,0]
[null,15,"احمد315",374,0,0,null,15,"محمود315",354,0,0]
[null,16,"احمد316",375,0,0,null,16,"محمود316",355,0,0]
[null,17,"احمد317",376,0,0,null,17,"محمود317",356,0,0]
[null,18,"احمد318",377,0,0,null,18,"محمود318",357,0,0]
[null,19,"احمد319",378,0,0,null,19,"محمود319",358,0,0]
[null,20,"احمد320",379,0,0,null,20,"محمود320",359,0,0]
[null,"","","","","",null,"","","","",""]
[null,"","","","","",null,"","","","",""]
[null,"","","","","",null,"","","","",""]
[null,"","","","","",null,"","","","",""]
[null,"","","","","",null,"","","","",""]
[null,"","","","","",null,"","","","",""]
[null,"","","","","",null,"","","","",""]
[null,"","","","","",null,"","","","",""]
[null,"","","","","",null,"","","","",""]
[null,"","","","","",null,"","","","",""]
[]
[null,{"$f":"'البيانات الأساسية'!$A$10","v":"مراقب الكنترول"},null,{"$f":"'البيانات الأساسية'!$C$10","v":"رئيس الكنترول"},null,null,null,{"$f":"'البيانات الأساسية'!$A$10","v":"مراقب الكنترول"},null,{"$f":"'البيانات الأساسية'!$C$10","v":"رئيس الكنترول"}]
[null,{"$f":"'البيانات الأساسية'!$A$11","v":"أ/ عبد الحميد"},null,{"$f":"'البيانات الأساسية'!$A$11","v":"أ/ عبد الحميد"},null,null,null,{"$f":"'البيانات الأساسية'!$A$11","v":"أ/ عبد الحميد"},null,{"$f":"'البيانات الأساسية'!$A$11","v":"أ/ عبد الحميد"}]
[]
[]
[]
[]
[null,{"$f":"'البيانات الأساسية'!$A$1","v":"إدارة /غرب المحلة الكبرى التعليمية"},null,null,null,null,null,{"$f":"'البيانات الأساسية'!$A$1","v":"إدارة /غرب المحلة الكبرى التعليمية"}]
[null,{"$f":"'البيانات الأساسية'!$A$2","v":"مدرسة د/علي علي حبيش الابتدائية"},null,null,null,null,null,{"$f":"'البيانات الأساسية'!$A$2","v":"مدرسة د/علي علي حبيش الابتدائية"}]
[null,{"$f":"'البيانات الأساسية'!$A$6","v":"كشف مناداة الصف الرابع فصل أول وثانٍ للعام الدراسي 2019/2018"},null,null,null,null,null,{"$f":"'البيانات الأساسية'!$A$5","v":"كشف مناداة الصف الثالث فصل أول وثانٍ للعام الدراسي 2019/2018"}]
[null,null,"اللجنة رقم",{"$f":"D634+1","v":17},null,null,null,null,"اللجنة رقم",{"$f":"J634+1","v":17}]
[null,"م","الاســـــــــــــــــــــــــــــم","رقم الجلوس","القيد","الديانة",null,"م","الاســـــــــــــــــــــــــــــم","رقم الجلوس","القيد","الديانة"]
[null,{"$f":"IF(D676=\"\",\"\",1)","v":1},{"$f":"IF(B678=\"\",\"\",VLOOKUP(D678,أسماء_الرابع,2))","v":"احمد321"},{"$f":"IF(D676=\"\",\"\",VLOOKUP(D676,رقم_جلوس4,2))","v":380},{"$f":"IF(B678=\"\",\"\",VLOOKUP(D678,أسماء_الرابع,4))","v":0},{"$f":"IF(B678=\"\",\"\",VLOOKUP(D678,أسماء_الرابع,5))","v":0},null,{"$f":"IF(J676=\"\",\"\",1)","v":1},{"$f":"IF(H678=\"\",\"\",VLOOKUP(J678,أسماء_الثالث,2))","v":"محمود321"},{"$f":"IF(J676=\"\",\"\",VLOOKUP(J676,رقم_جلوس3,2))","v":360},{"$f":"IF(H678=\"\",\"\",VLOOKUP(J678,أسماء_الثالث,4,5))","v":0},{"$f":"IF(H678=\"\",\"\",VLOOKUP(J678,أسماء_الثالث,5))","v":0}]
[null,{"$f":"IF(B678=\"\",\"\",IF(B678+1>$R$3,\"\",B678+1))","v":2},"احمد322",{"$f":"IF(B678=\"\",\"\",IF(B679=\"\",\"\",D678+1))","v":381},0,0,null,{"$f":"IF(H678=\"\",\"\",IF(H678+1>$R$4,\"\",H678+1))","v":2},"محمود322",{"$f":"IF(H678=\"\",\"\",IF(H679=\"\",\"\",J678+1))","v":361},0,0]
[null,3,"احمد323",382,0,0,null,3,"محمود323",362,0,0]
[null,4,"احمد324",383,0,0,null,4,"محمود324",363,0,0]
[null,5,"احمد325",384,0,0,null,5,"محمود325",364,0,0]
[null,6,"احمد326",385,0,0,null,6,"محمود326",365,0,0]
[null,7,"احمد327",386,0,0,null,7,"محمود327",366,0,0]
[null,8,"احمد328",387,0,0,null,8,"محمود328",367,0,0]
[null,9,"احمد329",388,0,0,null,9,"محمود329",368,0,0]
[null,{"$f":"IF(B686=\"\",\"\",IF(B686+1>$R$3,\"\",B686+1))","v":10},"احمد330",389,0,0,null,{"$f":"IF(H686=\"\",\"\",IF(H686+1>$R$4,\"\",H686+1))","v":10},"محمود330",369,0,0]
[null,11,"احمد331",390,0,0,null,11,"محمود331",370,0,0]
[null,12,"احمد332",391,0,0,null,12,"محمود332",371,0,0]
[null,13,"احمد333",392,0,0,null,13,"محمود333",372,0,0]
[null,14,"احمد334",393,0,0,null,14,"محمود334",373,0,0]
[null,15,"احمد335",394,0,0,null,15,"محمود335",374,0,0]
[null,16,"احمد336",395,0,0,null,16,"محمود336",375,0,0]
[null,17,"احمد337",396,0,0,null,17,"محمود337",376,0,0]
[null,18,"احمد338",397,0,0,null,18,"محمود338",377,0,0]
[null,19,"احمد339",398,0,0,null,19,"محمود339",378,0,0]
[null,20,"احمد340",399,0,0,null,20,"محمود340",379,0,0]
[null,"","","","","",null,"","","","",""]
[null,"","","","","",null,"","","","",""]
[null,"","","","","",null,"","","","",""]
[null,"","","","","",null,"","","","",""]
[null,"","","","","",null,"","","","",""]
[null,"","","","","",null,"","","","",""]
[null,"","","","","",null,"","","","",""]
[null,"","","","","",null,"","","","",""]
[null,"","","","","",null,"","","","",""]
[null,"","","","","",null,"","","","",""]
[]
[null,{"$f":"'البيانات الأساسية'!$A$10","v":"مراقب الكنترول"},null,{"$f":"'البيانات الأساسية'!$C$10","v":"رئيس الكنترول"},null,null,null,{"$f":"'البيانات الأساسية'!$A$10","v":"مراقب الكنترول"},null,{"$f":"'البيانات الأساسية'!$C$10","v":"رئيس الكنترول"}]
[null,{"$f":"'البيانات الأساسية'!$A$11","v":"أ/ عبد الحميد"},null,{"$f":"'البيانات الأساسية'!$A$11","v":"أ/ عبد الحميد"},null,null,null,{"$f":"'البيانات الأساسية'!$A$11","v":"أ/ عبد الحميد"},null,{"$f":"'البيانات الأساسية'!$A$11","v":"أ/ عبد الحميد"}]
[]
[]
[]
[]
[null,{"$f":"'البيانات الأساسية'!$A$1","v":"إدارة /غرب المحلة الكبرى التعليمية"},null,null,null,null,null,{"$f":"'البيانات الأساسية'!$A$1","v":"إدارة /غرب المحلة الكبرى التعليمية"}]
[null,{"$f":"'البيانات الأساسية'!$A$2","v":"مدرسة د/علي علي حبيش الابتدائية"},null,null,null,null,null,{"$f":"'البيانات الأساسية'!$A$2","v":"مدرسة د/علي علي حبيش الابتدائية"}]
[null,{"$f":"'البيانات الأساسية'!$A$6","v":"كشف مناداة الصف الرابع فصل أول وثانٍ للعام الدراسي 2019/2018"},null,null,null,null,null,{"$f":"'البيانات الأساسية'!$A$5","v":"كشف مناداة الصف الثالث فصل أول وثانٍ للعام الدراسي 2019/2018"}]
[null,null,"اللجنة رقم",{"$f":"D676+1","v":18},null,null,null,null,"اللجنة رقم",{"$f":"J676+1","v":18}]
[null,"م","الاســـــــــــــــــــــــــــــم","رقم الجلوس","القيد","الديانة",null,"م","الاســـــــــــــــــــــــــــــم","رقم الجلوس","القيد","الديانة"]
[null,{"$f":"IF(D718=\"\",\"\",1)","v":1},{"$f":"IF(B720=\"\",\"\",VLOOKUP(D720,أسماء_الرابع,2))","v":"احمد341"},{"$f":"IF(D718=\"\",\"\",VLOOKUP(D718,رقم_جلوس4,2))","v":400},{"$f":"IF(B720=\"\",\"\",VLOOKUP(D720,أسماء_الرابع,4))","v":0},{"$f":"IF(B720=\"\",\"\",VLOOKUP(D720,أسماء_الرابع,5))","v":0},null,{"$f":"IF(J718=\"\",\"\",1)","v":1},{"$f":"IF(H720=\"\",\"\",VLOOKUP(J720,أسماء_الثالث,2))","v":"محمود341"},{"$f":"IF(J718=\"\",\"\",VLOOKUP(J718,رقم_جلوس3,2))","v":380},{"$f":"IF(H720=\"\",\"\",VLOOKUP(J720,أسماء_الثالث,4,5))","v":0},{"$f":"IF(H720=\"\",\"\",VLOOKUP(J720,أسماء_الثالث,5))","v":0}]
[null,{"$f":"IF(B720=\"\",\"\",IF(B720+1>$R$3,\"\",B720+1))","v":2},"احمد342",{"$f":"IF(B720=\"\",\"\",IF(B721=\"\",\"\",D720+1))","v":401},0,0,null,{"$f":"IF(H720=\"\",\"\",IF(H720+1>$R$4,\"\",H720+1))","v":2},"محمود342",{"$f":"IF(H720=\"\",\"\",IF(H721=\"\",\"\",J720+1))","v":381},0,0]
[null,3,"احمد343",402,0,0,null,3,"محمود343",382,0,0]
[null,4,"احمد344",403,0,0,null,4,"محمود344",383,0,0]
[null,5,"احمد345",404,0,0,null,5,"محمود345",384,0,0]
[null,6,"احمد346",405,0,0,null,6,"محمود346",385,0,0]
[null,7,"احمد347",406,0,0,null,7,"محمود347",386,0,0]
[null,8,"احمد348",407,0,0,null,8,"محمود348",387,0,0]
[null,9,"احمد349",408,0,0,null,9,"محمود349",388,0,0]
[null,10,"احمد350",409,0,0,null,10,"محمود350",389,0,0]
[null,11,"احمد351",410,0,0,null,11,"محمود351",390,0,0]
[null,12,"احمد352",411,0,0,null,12,"محمود352",391,0,0]
[null,13,"احمد353",412,0,0,null,13,"محمود353",392,0,0]
[null,14,"احمد354",413,0,0,null,14,"محمود354",393,0,0]
[null,15,"احمد355",414,0,0,null,15,"محمود355",394,0,0]
[null,16,"احمد356",415,0,0,null,16,"محمود356",395,0,0]
[null,17,"احمد357",416,0,0,null,17,"محمود357",396,0,0]
[null,18,"احمد358",417,0,0,null,18,"محمود358",397,0,0]
[null,19,"احمد359",418,0,0,null,19,"محمود359",398,0,0]
[null,20,"احمد360",419,0,0,null,20,"محمود360",399,0,0]
[null,"","","","","",null,"","","","",""]
[null,"","","","","",null,"","","","",""]
[null,"","","","","",null,"","","","",""]
[null,"","","","","",null,"","","","",""]
[null,"","","","","",null,"","","","",""]
[null,"","","","","",null,"","","","",""]
[null,"","","","","",null,"","","","",""]
[null,"","","","","",null,"","","","",""]
[null,"","","","","",null,"","","","",""]
[null,"","","","","",null,"","","","",""]
[]
[null,{"$f":"'البيانات الأساسية'!$A$10","v":"مراقب الكنترول"},null,{"$f":"'البيانات الأساسية'!$C$10","v":"رئيس الكنترول"},null,null,null,{"$f":"'البيانات الأساسية'!$A$10","v":"مراقب الكنترول"},null,{"$f":"'البيانات الأساسية'!$C$10","v":"رئيس الكنترول"}]
[null,{"$f":"'البيانات الأساسية'!$A$11","v":"أ/ عبد الحميد"},null,{"$f":"'البيانات الأساسية'!$A$11","v":"أ/ عبد الحميد"},null,null,null,{"$f":"'البيانات الأساسية'!$A$11","v":"أ/ عبد الحميد"},null,{"$f":"'البيانات الأساسية'!$A$11","v":"أ/ عبد الحميد"}]
[]
[]
[]
[]
[null,{"$f":"'البيانات الأساسية'!$A$1","v":"إدارة /غرب المحلة الكبرى التعليمية"},null,null,null,null,null,{"$f":"'البيانات الأساسية'!$A$1","v":"إدارة /غرب المحلة الكبرى التعليمية"}]
[null,{"$f":"'البيانات الأساسية'!$A$2","v":"مدرسة د/علي علي حبيش الابتدائية"},null,null,null,null,null,{"$f":"'البيانات الأساسية'!$A$2","v":"مدرسة د/علي علي حبيش الابتدائية"}]
[null,{"$f":"'البيانات الأساسية'!$A$6","v":"كشف مناداة الصف الرابع فصل أول وثانٍ للعام الدراسي 2019/2018"},null,null,null,null,null,{"$f":"'البيانات الأساسية'!$A$5","v":"كشف مناداة الصف الثالث فصل أول وثانٍ للعام الدراسي 2019/2018"}]
[null,null,"اللجنة رقم",{"$f":"D718+1","v":19},null,null,null,null,"اللجنة رقم",{"$f":"J718+1","v":19}]
[null,"م","الاســـــــــــــــــــــــــــــم","رقم الجلوس","القيد","الديانة",null,"م","الاســـــــــــــــــــــــــــــم","رقم الجلوس","القيد","الديانة"]
[null,{"$f":"IF(D760=\"\",\"\",1)","v":1},{"$f":"IF(B762=\"\",\"\",VLOOKUP(D762,أسماء_الرابع,2))","v":"احمد361"},{"$f":"IF(D760=\"\",\"\",VLOOKUP(D760,رقم_جلوس4,2))","v":420},{"$f":"IF(B762=\"\",\"\",VLOOKUP(D762,أسماء_الرابع,4))","v":0},{"$f":"IF(B762=\"\",\"\",VLOOKUP(D762,أسماء_الرابع,5))","v":0},null,{"$f":"IF(J760=\"\",\"\",1)","v":1},{"$f":"IF(H762=\"\",\"\",VLOOKUP(J762,أسماء_الثالث,2))","v":"محمود361"},{"$f":"IF(J760=\"\",\"\",VLOOKUP(J760,رقم_جلوس3,2))","v":400},{"$f":"IF(H762=\"\",\"\",VLOOKUP(J762,أسماء_الثالث,4,5))","v":0},{"$f":"IF(H762=\"\",\"\",VLOOKUP(J762,أسماء_الثالث,5))","v":0}]
[null,{"$f":"IF(B762=\"\",\"\",IF(B762+1>$R$3,\"\",B762+1))","v":2},"احمد362",{"$f":"IF(B762=\"\",\"\",IF(B763=\"\",\"\",D762+1))","v":421},0,0,null,{"$f":"IF(H762=\"\",\"\",IF(H762+1>$R$4,\"\",H762+1))","v":2},"محمود362",{"$f":"IF(H762=\"\",\"\",IF(H763=\"\",\"\",J762+1))","v":401},0,0]
[null,3,"احمد363",422,0,0,null,3,"محمود363",402,0,0]
[null,4,"احمد364",423,0,0,null,4,"محمود364",403,0,0]
[null,5,"احمد365",424,0,0,null,5,"محمود365",404,0,0]
[null,6,"احمد366",425,0,0,null,6,"محمود366",405,0,0]
[null,7,"احمد367",426,0,0,null,7,"محمود367",406,0,0]
[null,8,"احمد368",427,0,0,null,8,"محمود368",407,0,0]
[null,9,"احمد369",428,0,0,null,9,"محمود369",408,0,0]
[null,10,"احمد370",429,0,0,null,10,"محمود370",409,0,0]
[null,11,"احمد371",430,0,0,null,11,"محمود371",410,0,0]
[null,12,"احمد372",431,0,0,null,12,"محمود372",411,0,0]
[null,13,"احمد373",432,0,0,null,13,"محمود373",412,0,0]
[null,14,"احمد374",433,0,0,null,14,"محمود374",413,0,0]
[null,15,"احمد375",434,0,0,null,15,"محمود375",414,0,0]
[null,16,"احمد376",435,0,0,null,16,"محمود376",415,0,0]
[null,17,"احمد377",436,0,0,null,17,"محمود377",416,0,0]
[null,18,"احمد378",437,0,0,null,18,"محمود378",417,0,0]
[null,19,"احمد379",438,0,0,null,19,"محمود379",418,0,0]
[null,20,"احمد380",439,0,0,null,20,"محمود380",419,0,0]
[null,"","","","","",null,"","","","",""]
[null,"","","","","",null,"","","","",""]
[null,"","","","","",null,"","","","",""]
[null,"","","","","",null,"","","","",""]
[null,"","","","","",null,"","","","",""]
[null,"","","","","",null,"","","","",""]
[null,"","","","","",null,"","","","",""]
[null,"","","","","",null,"","","","",""]
[null,"","","","","",null,"","","","",""]
[null,"","","","","",null,"","","","",""]
[]
[null,{"$f":"'البيانات الأساسية'!$A$10","v":"مراقب الكنترول"},null,{"$f":"'البيانات الأساسية'!$C$10","v":"رئيس الكنترول"},null,null,null,{"$f":"'البيانات الأساسية'!$A$10","v":"مراقب الكنترول"},null,{"$f":"'البيانات الأساسية'!$C$10","v":"رئيس الكنترول"}]
[null,{"$f":"'البيانات الأساسية'!$A$11","v":"أ/ عبد الحميد"},null,{"$f":"'البيانات الأساسية'!$A$11","v":"أ/ عبد الحميد"},null,null,null,{"$f":"'البيانات الأساسية'!$A$11","v":"أ/ عبد الحميد"},null,{"$f":"'البيانات الأساسية'!$A$11","v":"أ/ عبد الحميد"}]
[]
[]
[]
[]
[null,{"$f":"'البيانات الأساسية'!$A$1","v":"إدارة /غرب المحلة الكبرى التعليمية"},null,null,null,null,null,{"$f":"'البيانات الأساسية'!$A$1","v":"إدارة /غرب المحلة الكبرى التعليمية"}]
[null,{"$f":"'البيانات الأساسية'!$A$2","v":"مدرسة د/علي علي حبيش الابتدائية"},null,null,null,null,null,{"$f":"'البيانات الأساسية'!$A$2","v":"مدرسة د/علي علي حبيش الابتدائية"}]
[null,{"$f":"'البيانات الأساسية'!$A$6","v":"كشف مناداة الصف الرابع فصل أول وثانٍ للعام الدراسي 2019/2018"},null,null,null,null,null,{"$f":"'البيانات الأساسية'!$A$5","v":"كشف مناداة الصف الثالث فصل أول وثانٍ للعام الدراسي 2019/2018"}]
[null,null,"اللجنة رقم",{"$f":"D760+1","v":20},null,null,null,null,"اللجنة رقم",{"$f":"J760+1","v":20}]
[null,"م","الاســـــــــــــــــــــــــــــم","رقم الجلوس","القيد","الديانة",null,"م","الاســـــــــــــــــــــــــــــم","رقم الجلوس","القيد","الديانة"]
[null,{"$f":"IF(D802=\"\",\"\",1)","v":1},{"$f":"IF(B804=\"\",\"\",VLOOKUP(D804,أسماء_الرابع,2))","v":"احمد381"},{"$f":"IF(D802=\"\",\"\",VLOOKUP(D802,رقم_جلوس4,2))","v":440},{"$f":"IF(B804=\"\",\"\",VLOOKUP(D804,أسماء_الرابع,4))","v":0},{"$f":"IF(B804=\"\",\"\",VLOOKUP(D804,أسماء_الرابع,5))","v":0},null,{"$f":"IF(J802=\"\",\"\",1)","v":1},{"$f":"IF(H804=\"\",\"\",VLOOKUP(J804,أسماء_الثالث,2))","v":"محمود381"},{"$f":"IF(J802=\"\",\"\",VLOOKUP(J802,رقم_جلوس3,2))","v":420},{"$f":"IF(H804=\"\",\"\",VLOOKUP(J804,أسماء_الثالث,4,5))","v":0},{"$f":"IF(H804=\"\",\"\",VLOOKUP(J804,أسماء_الثالث,5))","v":0}]
[null,{"$f":"IF(B804=\"\",\"\",IF(B804+1>$R$3,\"\",B804+1))","v":2},"احمد382",{"$f":"IF(B804=\"\",\"\",IF(B805=\"\",\"\",D804+1))","v":441},0,0,null,{"$f":"IF(H804=\"\",\"\",IF(H804+1>$R$4,\"\",H804+1))","v":2},"محمود382",{"$f":"IF(H804=\"\",\"\",IF(H805=\"\",\"\",J804+1))","v":421},0,0]
[null,3,"احمد383",442,0,0,null,3,"محمود383",422,0,0]
[null,4,"احمد384",443,0,0,null,4,"محمود384",423,0,0]
[null,5,"احمد385",444,0,0,null,5,"محمود385",424,0,0]
[null,6,"احمد386",445,0,0,null,6,"محمود386",425,0,0]
[null,7,"احمد387",446,0,0,null,7,"محمود387",426,0,0]
[null,8,"احمد388",447,0,0,null,8,"محمود388",427,0,0]
[null,9,"احمد389",448,0,0,null,9,"محمود389",428,0,0]
[null,10,"احمد390",449,0,0,null,10,"محمود390",429,0,0]
[null,11,"احمد391",450,0,0,null,11,"محمود391",430,0,0]
[null,12,"احمد392",451,0,0,null,12,"محمود392",431,0,0]
[null,13,"احمد393",452,0,0,null,13,"محمود393",432,0,0]
[null,14,"احمد394",453,0,0,null,14,"محمود394",433,0,0]
[null,15,"احمد395",454,0,0,null,15,"محمود395",434,0,0]
[null,16,"احمد396",455,0,0,null,16,"محمود396",435,0,0]
[null,17,"احمد397",456,0,0,null,17,"محمود397",436,0,0]
[null,18,"احمد398",457,0,0,null,18,"محمود398",437,0,0]
[null,19,"احمد399",458,0,0,null,19,"محمود399",438,0,0]
[null,20,"احمد400",459,0,0,null,20,"محمود400",439,0,0]
[null,"","","","","",null,"","","","",""]
[null,"","","","","",null,"","","","",""]
[null,"","","","","",null,"","","","",""]
[null,{"$f":"IF(B826=\"\",\"\",IF(B826+1>$R$3,\"\",B826+1))","v":""},"","","","",null,{"$f":"IF(H826=\"\",\"\",IF(H826+1>$R$4,\"\",H826+1))","v":""},"","","",""]
[null,"","","","","",null,"","","","",""]
[null,"","","","","",null,"","","","",""]
[null,"","","","","",null,"","","","",""]
[null,"","","","","",null,"","","","",""]
[null,"","","","","",null,"","","","",""]
[null,"","","","","",null,"","","","",""]
[]
[null,{"$f":"'البيانات الأساسية'!$A$10","v":"مراقب الكنترول"},null,{"$f":"'البيانات الأساسية'!$C$10","v":"رئيس الكنترول"},null,null,null,{"$f":"'البيانات الأساسية'!$A$10","v":"مراقب الكنترول"},null,{"$f":"'البيانات الأساسية'!$C$10","v":"رئيس الكنترول"}]
[null,{"$f":"'البيانات الأساسية'!$A$11","v":"أ/ عبد الحميد"},null,{"$f":"'البيانات الأساسية'!$A$11","v":"أ/ عبد الحميد"},null,null,null,{"$f":"'البيانات الأساسية'!$A$11","v":"أ/ عبد الحميد"},null,{"$f":"'البيانات الأساسية'!$A$11","v":"أ/ عبد الحميد"}]
[]
[]
[]
[]
[null,{"$f":"'البيانات الأساسية'!$A$1","v":"إدارة /غرب المحلة الكبرى التعليمية"},null,null,null,null,null,{"$f":"'البيانات الأساسية'!$A$1","v":"إدارة /غرب المحلة الكبرى التعليمية"}]
[null,{"$f":"'البيانات الأساسية'!$A$2","v":"مدرسة د/علي علي حبيش الابتدائية"},null,null,null,null,null,{"$f":"'البيانات الأساسية'!$A$2","v":"مدرسة د/علي علي حبيش الابتدائية"}]
[null,{"$f":"'البيانات الأساسية'!$A$6","v":"كشف مناداة الصف الرابع فصل أول وثانٍ للعام الدراسي 2019/2018"},null,null,null,null,null,{"$f":"'البيانات الأساسية'!$A$5","v":"كشف مناداة الصف الثالث فصل أول وثانٍ للعام الدراسي 2019/2018"}]
[null,null,"اللجنة رقم",{"$f":"D802+1","v":21},null,null,null,null,"اللجنة رقم",{"$f":"J802+1","v":21}]
[null,"م","الاســـــــــــــــــــــــــــــم","رقم الجلوس","القيد","الديانة",null,"م","الاســـــــــــــــــــــــــــــم","رقم الجلوس","القيد","الديانة"]
[null,{"$f":"IF(D844=\"\",\"\",1)","v":1},{"$f":"IF(B846=\"\",\"\",VLOOKUP(D846,أسماء_الرابع,2))","v":"احمد401"},{"$f":"IF(D844=\"\",\"\",VLOOKUP(D844,رقم_جلوس4,2))","v":460},{"$f":"IF(B846=\"\",\"\",VLOOKUP(D846,أسماء_الرابع,4))","v":0},{"$f":"IF(B846=\"\",\"\",VLOOKUP(D846,أسماء_الرابع,5))","v":0},null,{"$f":"IF(J844=\"\",\"\",1)","v":1},{"$f":"IF(H846=\"\",\"\",VLOOKUP(J846,أسماء_الثالث,2))","v":"محمود401"},{"$f":"IF(J844=\"\",\"\",VLOOKUP(J844,رقم_جلوس3,2))","v":440},{"$f":"IF(H846=\"\",\"\",VLOOKUP(J846,أسماء_الثالث,4,5))","v":0},{"$f":"IF(H846=\"\",\"\",VLOOKUP(J846,أسماء_الثالث,5))","v":0}]
[null,{"$f":"IF(B846=\"\",\"\",IF(B846+1>$R$3,\"\",B846+1))","v":2},"احمد402",{"$f":"IF(B846=\"\",\"\",IF(B847=\"\",\"\",D846+1))","v":461},0,0,null,{"$f":"IF(H846=\"\",\"\",IF(H846+1>$R$4,\"\",H846+1))","v":2},"محمود402",{"$f":"IF(H846=\"\",\"\",IF(H847=\"\",\"\",J846+1))","v":441},0,0]
[null,3,"احمد403",462,0,0,null,3,"محمود403",442,0,0]
[null,4,"احمد404",463,0,0,null,4,"محمود404",443,0,0]
[null,5,"احمد405",464,0,0,null,5,"محمود405",444,0,0]
[null,6,"احمد406",465,0,0,null,6,"محمود406",445,0,0]
[null,7,"احمد407",466,0,0,null,7,"محمود407",446,0,0]
[null,8,"احمد408",467,0,0,null,8,"محمود408",447,0,0]
[null,9,"احمد409",468,0,0,null,9,"محمود409",448,0,0]
[null,10,"احمد410",469,0,0,null,10,"محمود410",449,0,0]
[null,11,"احمد411",470,0,0,null,11,"محمود411",450,0,0]
[null,12,"احمد412",471,0,0,null,12,"محمود412",451,0,0]
[null,13,"احمد413",472,0,0,null,13,"محمود413",452,0,0]
[null,14,"احمد414",473,0,0,null,14,"محمود414",453,0,0]
[null,15,"احمد415",474,0,0,null,15,"محمود415",454,0,0]
[null,16,"احمد416",475,0,0,null,16,"محمود416",455,0,0]
[null,17,"احمد417",476,0,0,null,17,"محمود417",456,0,0]
[null,18,"احمد418",477,0,0,null,18,"محمود418",457,0,0]
[null,19,"احمد419",478,0,0,null,19,"محمود419",458,0,0]
[null,20,"احمد420",479,0,0,null,20,"محمود420",459,0,0]
[null,"","","","","",null,"","","","",""]
[null,"","","","","",null,"","","","",""]
[null,"","","","","",null,"","","","",""]
[null,"","","","","",null,"","","","",""]
[null,"","","","","",null,"","","","",""]
[null,"","","","","",null,"","","","",""]
[null,"","","","","",null,"","","","",""]
[null,"","","","","",null,"","","","",""]
[null,"","","","","",null,"","","","",""]
[null,"","","","","",null,"","","","",""]
[]
[null,{"$f":"'البيانات الأساسية'!$A$10","v":"مراقب الكنترول"},null,{"$f":"'البيانات الأساسية'!$C$10","v":"رئيس الكنترول"},null,null,null,{"$f":"'البيانات الأساسية'!$A$10","v":"مراقب الكنترول"},null,{"$f":"'البيانات الأساسية'!$C$10","v":"رئيس الكنترول"}]
[null,{"$f":"'البيانات الأساسية'!$A$11","v":"أ/ عبد الحميد"},null,{"$f":"'البيانات الأساسية'!$A$11","v":"أ/ عبد الحميد"},null,null,null,{"$f":"'البيانات الأساسية'!$A$11","v":"أ/ عبد الحميد"},null,{"$f":"'البيانات الأساسية'!$A$11","v":"أ/ عبد الحميد"}]

{"sheet":"جدول الصف الخامس","index":13,"n_rows":14,"n_cols":6,"rows_kept":14,"cut":false,"hidden":false,"merged":[[4,1,5,1],[4,2,5,2],[4,3,4,4],[4,5,5,5],[0,0,0,1],[1,0,1,1]]}
[{"$f":"'البيانات الأساسية'!$A$1","v":"إدارة /غرب المحلة الكبرى التعليمية"}]
[{"$f":"'البيانات الأساسية'!$A$2","v":"مدرسة د/علي علي حبيش الابتدائية"}]
[null,"جدول امتحان الفصل الدراسي الأول / الثاني للعام الدراسي 2019/2018"]
[null,null,"الصف الخامس"]
[null,"اليوم والترايخ","المـــــــــــــــــــــادة","الوقت",null,"الزمــــن "]
[null,null,null,"من ","إلي"]
[null,"السبت","لغة عربية وخط",8,10.3,"ساعتان ونصف"]
[null,"2018-01-01"]
[null,"الأحد","الرياضيات",8,9.3000000000000007,"ساعة ونصف"]
[null,"2018-01-02","اللغة الإنجليزية",9.4499999999999993,11.15,"ساعة ونصف"]
[null,"الاثنين","علوم",8,9.3000000000000007,"ساعة ونصف"]
[null,"2018-01-03","التربية الدينية",9.4499999999999993,10.45,"ساعة ونصف"]
[null,"الثلاثاء","الدراسات",8,9.3000000000000007,"ساعة ونصف"]
[null,"2018-01-04"]

{"sheet":"قائمة الصف الخامس","index":14,"n_rows":603,"n_cols":22,"rows_kept":603,"cut":false,"hidden":false,"merged":[[32,1,32,7],[31,1,31,2],[8,21,14,21],[0,5,0,6],[0,12,0,13],[1,12,1,13],[17,21,23,21],[7,12,14,12]]}
["رقم اللجنة","من","إلى","عدد اللجنة","اللجنة",{"$f":"MAX(N:N)","v":534},null,"حدد عدد اللجنة بنفسك","عدد نهائي","من","إلى","اللجنة","عدد طلابك",null,{"$f":"MAX(N:N)","v":534},"اكتب بداية رقم الجلوس",70,"بنون",{"$f":"COUNTIFS(Q4:Q603,\"ذكر\")","v":24},"مسلم",{"$f":"COUNTIFS(S3:S602,\"مسلم\")","v":3}]
[{"$f":"IF($I2=\"\",\"\",MAX($L$1:$L1)+1)","v":1},{"$f":"Q1","v":70},{"$f":"IF(I2=\"\",\"\",B2+I2-1)","v":89},{"$f":"IF($I2=\"\",\"\",MAX($L$1:$L1)+1)","v":1},{"$f":"IF($I2=\"\",\"\",MAX($G$1:$G1)+1)","v":1},{"$f":"IF($I2=\"\",\"\",\"اللجنة\")","v":"اللجنة"},{"$f":"IF($I2=\"\",\"\",MAX($G$1:$G1)+1)","v":1},null,{"$f":"IF(SUM($I$1:$I1,IF(H2=\"\",20,H2))<$F$1,IF($H2=\"\",20,$H2),IF(SUM($I1:$I$2)=$F$1,\"\",$F$1-SUM($I1:$I$2)))","v":20},{"$f":"IF($I2=\"\",\"\",SUM(I$1:$I1)+1)","v":1},{"$f":"IF($G2=\"\",\"\",SUM($J2,$I2,-1))","v":20},{"$f":"IF($I2=\"\",\"\",MAX($L$1:$L1)+1)","v":1},"آخر رقم جلوس",null,{"$f":"MAX(B2:C43)","v":603},"الصف الخامس",null,"بنات",{"$f":"COUNTIFS(Q4:Q603,\"انثى\")","v":19},"مسيحي",{"$f":"COUNTIFS(S4:S603,\"مسيحي\")","v":0}]
[{"$f":"IF($I3=\"\",\"\",MAX($L$1:$L2)+1)","v":2},{"$f":"IF(I3=\"\",\"\",IF(A3=\"\",\"\",C2+1))","v":90},{"$f":"IF(I3=\"\",\"\",IF(B3=\"\",\"\",B3+I3-1))","v":109},{"$f":"IF($I3=\"\",\"\",MAX($L$1:$L2)+1)","v":2},{"$f":"IF($I3=\"\",\"\",MAX($G$1:$G2)+1)","v":2},{"$f":"IF($I3=\"\",\"\",\"اللجنة\")","v":"اللجنة"},{"$f":"IF($I3=\"\",\"\",MAX($G$1:$G2)+1)","v":2},null,{"$f":"IF(SUM($I$1:$I2,IF(H3=\"\",20,H3))<$F$1,IF($H3=\"\",20,$H3),IF(SUM($I2:$I$2)=$F$1,\"\",$F$1-SUM($I2:$I$2)))","v":20},{"$f":"IF($I3=\"\",\"\",SUM(I$1:$I2)+1)","v":21},{"$f":"IF($G3=\"\",\"\",SUM($J3,$I3,-1))","v":40},{"$f":"IF($I3=\"\",\"\",MAX($L$1:$L2)+1)","v":2},null,"م","جلوس","الاســــــــــــــــــــــــم","النوع","القيد","الديانة","رقم اللجنة","ملاحظات","ذكر"]
[{"$f":"IF($I4=\"\",\"\",MAX($L$1:$L3)+1)","v":3},{"$f":"IF(I4=\"\",\"\",IF(A4=\"\",\"\",C3+1))","v":110},{"$f":"IF(I4=\"\",\"\",IF(B4=\"\",\"\",B4+I4-1))","v":129},{"$f":"IF($I4=\"\",\"\",MAX($L$1:$L3)+1)","v":3},{"$f":"IF($I4=\"\",\"\",MAX($G$1:$G3)+1)","v":3},{"$f":"IF($I4=\"\",\"\",\"اللجنة\")","v":"اللجنة"},{"$f":"IF($I4=\"\",\"\",MAX($G$1:$G3)+1)","v":3},null,{"$f":"IF(SUM($I$1:$I3,IF(H4=\"\",20,H4))<$F$1,IF($H4=\"\",20,$H4),IF(SUM($I$2:$I3)=$F$1,\"\",$F$1-SUM($I$2:$I3)))","v":20},{"$f":"IF($I4=\"\",\"\",SUM(I$1:$I3)+1)","v":41},{"$f":"IF($G4=\"\",\"\",SUM($J4,$I4,-1))","v":60},{"$f":"IF($I4=\"\",\"\",MAX($L$1:$L3)+1)","v":3},null,{"$f":"(IF(P4=\"\",\"\",MAX($N$3:$N3)+1))","v":1},{"$f":"B2","v":70},"احمد1","ذكر",null,null,{"$f":"IF(N4=\"\",\"\",IF(ISERROR(MATCH($N4,$J:$J,0)),T3,MAX($T$3:$T3)+1))","v":1},{"$f":"IF(T4=T5,\"\",\"نهاية اللجنة\")","v":""},"انثى"]
[{"$f":"IF($I5=\"\",\"\",MAX($L$1:$L4)+1)","v":4},130,149,{"$f":"IF($I5=\"\",\"\",MAX($L$1:$L4)+1)","v":4},{"$f":"IF($I5=\"\",\"\",MAX($G$1:$G4)+1)","v":4},"اللجنة",{"$f":"IF($I5=\"\",\"\",MAX($G$1:$G4)+1)","v":4},null,{"$f":"IF(SUM($I$1:$I4,IF(H5=\"\",20,H5))<$F$1,IF($H5=\"\",20,$H5),IF(SUM($I$2:$I4)=$F$1,\"\",$F$1-SUM($I$2:$I4)))","v":20},{"$f":"IF($I5=\"\",\"\",SUM(I$1:$I4)+1)","v":61},80,{"$f":"IF($I5=\"\",\"\",MAX($L$1:$L4)+1)","v":4},null,{"$f":"IF(P5=\"\",\"\",MAX($N$3:$N4)+1)","v":2},{"$f":"IF(O4=\"\",\"\",IF(O4+1>$O$2,\"\",O4+1))","v":71},"احمد2","ذكر",null,null,{"$f":"IF(N5=\"\",\"\",IF(ISERROR(MATCH($N5,$J:$J,0)),T4,MAX($T$3:$T4)+1))","v":1},{"$f":"IF(T5=T6,\"\",\"نهاية اللجنة\")","v":""}]
[{"$f":"IF($I6=\"\",\"\",MAX($L$1:$L5)+1)","v":5},150,169,{"$f":"IF($I6=\"\",\"\",MAX($L$1:$L5)+1)","v":5},{"$f":"IF($I6=\"\",\"\",MAX($G$1:$G5)+1)","v":5},"اللجنة",{"$f":"IF($I6=\"\",\"\",MAX($G$1:$G5)+1)","v":5},null,{"$f":"IF(SUM($I$1:$I5,IF(H6=\"\",20,H6))<$F$1,IF($H6=\"\",20,$H6),IF(SUM($I$2:$I5)=$F$1,\"\",$F$1-SUM($I$2:$I5)))","v":20},{"$f":"IF($I6=\"\",\"\",SUM(I$1:$I5)+1)","v":81},100,{"$f":"IF($I6=\"\",\"\",MAX($L$1:$L5)+1)","v":5},null,{"$f":"(IF(P6=\"\",\"\",MAX($N$3:$N5)+1))","v":3},{"$f":"IF(O5=\"\",\"\",IF(O5+1>$O$2,\"\",O5+1))","v":72},"احمد3","ذكر",null,null,{"$f":"IF(N6=\"\",\"\",IF(ISERROR(MATCH($N6,$J:$J,0)),T5,MAX($T$3:$T5)+1))","v":1},""]
[{"$f":"IF($I7=\"\",\"\",MAX($L$1:$L6)+1)","v":6},170,189,{"$f":"IF($I7=\"\",\"\",MAX($L$1:$L6)+1)","v":6},{"$f":"IF($I7=\"\",\"\",MAX($G$1:$G6)+1)","v":6},"اللجنة",{"$f":"IF($I7=\"\",\"\",MAX($G$1:$G6)+1)","v":6},null,{"$f":"IF(SUM($I$1:$I6,IF(H7=\"\",20,H7))<$F$1,IF($H7=\"\",20,$H7),IF(SUM($I$2:$I6)=$F$1,\"\",$F$1-SUM($I$2:$I6)))","v":20},{"$f":"IF($I7=\"\",\"\",SUM(I$1:$I6)+1)","v":101},120,{"$f":"IF($I7=\"\",\"\",MAX($L$1:$L6)+1)","v":6},null,{"$f":"(IF(P7=\"\",\"\",MAX($N$3:$N6)+1))","v":4},73,"احمد4","ذكر",null,null,{"$f":"IF(N7=\"\",\"\",IF(ISERROR(MATCH($N7,$J:$J,0)),T6,MAX($T$3:$T6)+1))","v":1},""]
[{"$f":"IF($I8=\"\",\"\",MAX($L$1:$L7)+1)","v":7},190,209,{"$f":"IF($I8=\"\",\"\",MAX($L$1:$L7)+1)","v":7},{"$f":"IF($I8=\"\",\"\",MAX($G$1:$G7)+1)","v":7},"اللجنة",{"$f":"IF($I8=\"\",\"\",MAX($G$1:$G7)+1)","v":7},null,{"$f":"IF(SUM($I$1:$I7,IF(H8=\"\",20,H8))<$F$1,IF($H8=\"\",20,$H8),IF(SUM($I$2:$I7)=$F$1,\"\",$F$1-SUM($I$2:$I7)))","v":20},{"$f":"IF($I8=\"\",\"\",SUM(I$1:$I7)+1)","v":121},140,{"$f":"IF($I8=\"\",\"\",MAX($L$1:$L7)+1)","v":7},{"$f":"IF(O1=0,\"من فضلك سجل الاسماء\",IF(O2=0,\" من فضلك سجل الاسماء;\"\"\",))","v":0},{"$f":"(IF(P8=\"\",\"\",MAX($N$3:$N7)+1))","v":5},74,"احمد5","ذكر",null,"مسلم",{"$f":"IF(N8=\"\",\"\",IF(ISERROR(MATCH($N8,$J:$J,0)),T7,MAX($T$3:$T7)+1))","v":1},"",{"$f":"MAX(K:K)","v":534}]
[{"$f":"IF($I9=\"\",\"\",MAX($L$1:$L8)+1)","v":8},210,229,{"$f":"IF($I9=\"\",\"\",MAX($L$1:$L8)+1)","v":8},{"$f":"IF($I9=\"\",\"\",MAX($G$1:$G8)+1)","v":8},"اللجنة",{"$f":"IF($I9=\"\",\"\",MAX($G$1:$G8)+1)","v":8},null,{"$f":"IF(SUM($I$1:$I8,IF(H9=\"\",20,H9))<$F$1,IF($H9=\"\",20,$H9),IF(SUM($I$2:$I8)=$F$1,\"\",$F$1-SUM($I$2:$I8)))","v":20},{"$f":"IF($I9=\"\",\"\",SUM(I$1:$I8)+1)","v":141},160,{"$f":"IF($I9=\"\",\"\",MAX($L$1:$L8)+1)","v":8},null,{"$f":"(IF(P9=\"\",\"\",MAX($N$3:$N8)+1))","v":6},75,"احمد6","ذكر",null,null,{"$f":"IF(N9=\"\",\"\",IF(ISERROR(MATCH($N9,$J:$J,0)),T8,MAX($T$3:$T8)+1))","v":1},"",{"$f":"IF(V8=O1,\"التلاميذ مقسمون التقسيم الصحيح\",\"راجع من فضلك تقسيم اللجان\")","v":"التلاميذ مقسمون التقسيم الصحيح"}]
[{"$f":"IF($I10=\"\",\"\",MAX($L$1:$L9)+1)","v":9},230,249,{"$f":"IF($I10=\"\",\"\",MAX($L$1:$L9)+1)","v":9},{"$f":"IF($I10=\"\",\"\",MAX($G$1:$G9)+1)","v":9},"اللجنة",{"$f":"IF($I10=\"\",\"\",MAX($G$1:$G9)+1)","v":9},null,{"$f":"IF(SUM($I$1:$I9,IF(H10=\"\",20,H10))<$F$1,IF($H10=\"\",20,$H10),IF(SUM($I$2:$I9)=$F$1,\"\",$F$1-SUM($I$2:$I9)))","v":20},{"$f":"IF($I10=\"\",\"\",SUM(I$1:$I9)+1)","v":161},180,{"$f":"IF($I10=\"\",\"\",MAX($L$1:$L9)+1)","v":9},null,{"$f":"(IF(P10=\"\",\"\",MAX($N$3:$N9)+1))","v":7},76,"احمد7","ذكر",null,null,{"$f":"IF(N10=\"\",\"\",IF(ISERROR(MATCH($N10,$J:$J,0)),T9,MAX($T$3:$T9)+1))","v":1},""]
[{"$f":"IF($I11=\"\",\"\",MAX($L$1:$L10)+1)","v":10},250,269,{"$f":"IF($I11=\"\",\"\",MAX($L$1:$L10)+1)","v":10},{"$f":"IF($I11=\"\",\"\",MAX($G$1:$G10)+1)","v":10},"اللجنة",{"$f":"IF($I11=\"\",\"\",MAX($G$1:$G10)+1)","v":10},null,{"$f":"IF(SUM($I$1:$I10,IF(H11=\"\",20,H11))<$F$1,IF($H11=\"\",20,$H11),IF(SUM($I$2:$I10)=$F$1,\"\",$F$1-SUM($I$2:$I10)))","v":20},{"$f":"IF($I11=\"\",\"\",SUM(I$1:$I10)+1)","v":181},200,{"$f":"IF($I11=\"\",\"\",MAX($L$1:$L10)+1)","v":10},null,{"$f":"(IF(P11=\"\",\"\",MAX($N$3:$N10)+1))","v":8},77,"احمد8","ذكر",null,"مسلم",{"$f":"IF(N11=\"\",\"\",IF(ISERROR(MATCH($N11,$J:$J,0)),T10,MAX($T$3:$T10)+1))","v":1},""]
[{"$f":"IF($I12=\"\",\"\",MAX($L$1:$L11)+1)","v":11},270,289,{"$f":"IF($I12=\"\",\"\",MAX($L$1:$L11)+1)","v":11},{"$f":"IF($I12=\"\",\"\",MAX($G$1:$G11)+1)","v":11},"اللجنة",{"$f":"IF($I12=\"\",\"\",MAX($G$1:$G11)+1)","v":11},null,{"$f":"IF(SUM($I$1:$I11,IF(H12=\"\",20,H12))<$F$1,IF($H12=\"\",20,$H12),IF(SUM($I$2:$I11)=$F$1,\"\",$F$1-SUM($I$2:$I11)))","v":20},{"$f":"IF($I12=\"\",\"\",SUM(I$1:$I11)+1)","v":201},220,{"$f":"IF($I12=\"\",\"\",MAX($L$1:$L11)+1)","v":11},null,{"$f":"(IF(P12=\"\",\"\",MAX($N$3:$N11)+1))","v":9},78,"احمد9","ذكر",null,null,{"$f":"IF(N12=\"\",\"\",IF(ISERROR(MATCH($N12,$J:$J,0)),T11,MAX($T$3:$T11)+1))","v":1},""]
[{"$f":"IF($I13=\"\",\"\",MAX($L$1:$L12)+1)","v":12},290,309,{"$f":"IF($I13=\"\",\"\",MAX($L$1:$L12)+1)","v":12},{"$f":"IF($I13=\"\",\"\",MAX($G$1:$G12)+1)","v":12},"اللجنة",{"$f":"IF($I13=\"\",\"\",MAX($G$1:$G12)+1)","v":12},null,{"$f":"IF(SUM($I$1:$I12,IF(H13=\"\",20,H13))<$F$1,IF($H13=\"\",20,$H13),IF(SUM($I$2:$I12)=$F$1,\"\",$F$1-SUM($I$2:$I12)))","v":20},{"$f":"IF($I13=\"\",\"\",SUM(I$1:$I12)+1)","v":221},240,{"$f":"IF($I13=\"\",\"\",MAX($L$1:$L12)+1)","v":12},null,{"$f":"(IF(P13=\"\",\"\",MAX($N$3:$N12)+1))","v":10},79,"احمد10","ذكر","معيد",null,{"$f":"IF(N13=\"\",\"\",IF(ISERROR(MATCH($N13,$J:$J,0)),T12,MAX($T$3:$T12)+1))","v":1},""]
[{"$f":"IF($I14=\"\",\"\",MAX($L$1:$L13)+1)","v":13},310,329,{"$f":"IF($I14=\"\",\"\",MAX($L$1:$L13)+1)","v":13},{"$f":"IF($I14=\"\",\"\",MAX($G$1:$G13)+1)","v":13},"اللجنة",{"$f":"IF($I14=\"\",\"\",MAX($G$1:$G13)+1)","v":13},null,{"$f":"IF(SUM($I$1:$I13,IF(H14=\"\",20,H14))<$F$1,IF($H14=\"\",20,$H14),IF(SUM($I$2:$I13)=$F$1,\"\",$F$1-SUM($I$2:$I13)))","v":20},{"$f":"IF($I14=\"\",\"\",SUM(I$1:$I13)+1)","v":241},260,{"$f":"IF($I14=\"\",\"\",MAX($L$1:$L13)+1)","v":13},null,{"$f":"(IF(P14=\"\",\"\",MAX($N$3:$N13)+1))","v":11},80,"احمد11","ذكر",null,null,{"$f":"IF(N14=\"\",\"\",IF(ISERROR(MATCH($N14,$J:$J,0)),T13,MAX($T$3:$T13)+1))","v":1},""]
[{"$f":"IF($I15=\"\",\"\",MAX($L$1:$L14)+1)","v":14},330,349,{"$f":"IF($I15=\"\",\"\",MAX($L$1:$L14)+1)","v":14},{"$f":"IF($I15=\"\",\"\",MAX($G$1:$G14)+1)","v":14},"اللجنة",{"$f":"IF($I15=\"\",\"\",MAX($G$1:$G14)+1)","v":14},null,{"$f":"IF(SUM($I$1:$I14,IF(H15=\"\",20,H15))<$F$1,IF($H15=\"\",20,$H15),IF(SUM($I$2:$I14)=$F$1,\"\",$F$1-SUM($I$2:$I14)))","v":20},{"$f":"IF($I15=\"\",\"\",SUM(I$1:$I14)+1)","v":261},280,{"$f":"IF($I15=\"\",\"\",MAX($L$1:$L14)+1)","v":14},null,{"$f":"(IF(P15=\"\",\"\",MAX($N$3:$N14)+1))","v":12},81,"احمد12","ذكر",null,null,{"$f":"IF(N15=\"\",\"\",IF(ISERROR(MATCH($N15,$J:$J,0)),T14,MAX($T$3:$T14)+1))","v":1},""]
[{"$f":"IF($I16=\"\",\"\",MAX($L$1:$L15)+1)","v":15},350,369,{"$f":"IF($I16=\"\",\"\",MAX($L$1:$L15)+1)","v":15},{"$f":"IF($I16=\"\",\"\",MAX($G$1:$G15)+1)","v":15},"اللجنة",{"$f":"IF($I16=\"\",\"\",MAX($G$1:$G15)+1)","v":15},null,{"$f":"IF(SUM($I$1:$I15,IF(H16=\"\",20,H16))<$F$1,IF($H16=\"\",20,$H16),IF(SUM($I$2:$I15)=$F$1,\"\",$F$1-SUM($I$2:$I15)))","v":20},{"$f":"IF($I16=\"\",\"\",SUM(I$1:$I15)+1)","v":281},300,{"$f":"IF($I16=\"\",\"\",MAX($L$1:$L15)+1)","v":15},null,{"$f":"(IF(P16=\"\",\"\",MAX($N$3:$N15)+1))","v":13},82,"احمد13","ذكر",null,"مسلم",{"$f":"IF(N16=\"\",\"\",IF(ISERROR(MATCH($N16,$J:$J,0)),T15,MAX($T$3:$T15)+1))","v":1},""]
[{"$f":"IF($I17=\"\",\"\",MAX($L$1:$L16)+1)","v":16},370,389,{"$f":"IF($I17=\"\",\"\",MAX($L$1:$L16)+1)","v":16},{"$f":"IF($I17=\"\",\"\",MAX($G$1:$G16)+1)","v":16},"اللجنة",{"$f":"IF($I17=\"\",\"\",MAX($G$1:$G16)+1)","v":16},null,{"$f":"IF(SUM($I$1:$I16,IF(H17=\"\",20,H17))<$F$1,IF($H17=\"\",20,$H17),IF(SUM($I$2:$I16)=$F$1,\"\",$F$1-SUM($I$2:$I16)))","v":20},{"$f":"IF($I17=\"\",\"\",SUM(I$1:$I16)+1)","v":301},320,{"$f":"IF($I17=\"\",\"\",MAX($L$1:$L16)+1)","v":16},null,{"$f":"(IF(P17=\"\",\"\",MAX($N$3:$N16)+1))","v":14},83,"احمد14","ذكر",null,null,{"$f":"IF(N17=\"\",\"\",IF(ISERROR(MATCH($N17,$J:$J,0)),T16,MAX($T$3:$T16)+1))","v":1},"",{"$f":"MAX(C:C)","v":603}]
[{"$f":"IF($I18=\"\",\"\",MAX($L$1:$L17)+1)","v":17},390,409,{"$f":"IF($I18=\"\",\"\",MAX($L$1:$L17)+1)","v":17},{"$f":"IF($I18=\"\",\"\",MAX($G$1:$G17)+1)","v":17},"اللجنة",{"$f":"IF($I18=\"\",\"\",MAX($G$1:$G17)+1)","v":17},null,{"$f":"IF(SUM($I$1:$I17,IF(H18=\"\",20,H18))<$F$1,IF($H18=\"\",20,$H18),IF(SUM($I$2:$I17)=$F$1,\"\",$F$1-SUM($I$2:$I17)))","v":20},{"$f":"IF($I18=\"\",\"\",SUM(I$1:$I17)+1)","v":321},340,{"$f":"IF($I18=\"\",\"\",MAX($L$1:$L17)+1)","v":17},null,{"$f":"(IF(P18=\"\",\"\",MAX($N$3:$N17)+1))","v":15},84,"احمد15","ذكر",null,null,{"$f":"IF(N18=\"\",\"\",IF(ISERROR(MATCH($N18,$J:$J,0)),T17,MAX($T$3:$T17)+1))","v":1},"",{"$f":"IF(V17=O2,\"أرقام جلوس الفصل سليمة\",\"رجاءً راجع أرقام الجلوس\")","v":"أرقام جلوس الفصل سليمة"}]
[{"$f":"IF($I19=\"\",\"\",MAX($L$1:$L18)+1)","v":18},410,429,{"$f":"IF($I19=\"\",\"\",MAX($L$1:$L18)+1)","v":18},{"$f":"IF($I19=\"\",\"\",MAX($G$1:$G18)+1)","v":18},"اللجنة",{"$f":"IF($I19=\"\",\"\",MAX($G$1:$G18)+1)","v":18},null,{"$f":"IF(SUM($I$1:$I18,IF(H19=\"\",20,H19))<$F$1,IF($H19=\"\",20,$H19),IF(SUM($I$2:$I18)=$F$1,\"\",$F$1-SUM($I$2:$I18)))","v":20},{"$f":"IF($I19=\"\",\"\",SUM(I$1:$I18)+1)","v":341},360,{"$f":"IF($I19=\"\",\"\",MAX($L$1:$L18)+1)","v":18},null,{"$f":"(IF(P19=\"\",\"\",MAX($N$3:$N18)+1))","v":16},85,"احمد16","ذكر",null,null,{"$f":"IF(N19=\"\",\"\",IF(ISERROR(MATCH($N19,$J:$J,0)),T18,MAX($T$3:$T18)+1))","v":1},""]
[{"$f":"IF($I20=\"\",\"\",MAX($L$1:$L19)+1)","v":19},430,449,{"$f":"IF($I20=\"\",\"\",MAX($L$1:$L19)+1)","v":19},{"$f":"IF($I20=\"\",\"\",MAX($G$1:$G19)+1)","v":19},"اللجنة",{"$f":"IF($I20=\"\",\"\",MAX($G$1:$G19)+1)","v":19},null,{"$f":"IF(SUM($I$1:$I19,IF(H20=\"\",20,H20))<$F$1,IF($H20=\"\",20,$H20),IF(SUM($I$2:$I19)=$F$1,\"\",$F$1-SUM($I$2:$I19)))","v":20},{"$f":"IF($I20=\"\",\"\",SUM(I$1:$I19)+1)","v":361},380,{"$f":"IF($I20=\"\",\"\",MAX($L$1:$L19)+1)","v":19},null,{"$f":"(IF(P20=\"\",\"\",MAX($N$3:$N19)+1))","v":17},86,"احمد17","ذكر",null,null,{"$f":"IF(N20=\"\",\"\",IF(ISERROR(MATCH($N20,$J:$J,0)),T19,MAX($T$3:$T19)+1))","v":1},""]
[{"$f":"IF($I21=\"\",\"\",MAX($L$1:$L20)+1)","v":20},450,469,{"$f":"IF($I21=\"\",\"\",MAX($L$1:$L20)+1)","v":20},{"$f":"IF($I21=\"\",\"\",MAX($G$1:$G20)+1)","v":20},"اللجنة",{"$f":"IF($I21=\"\",\"\",MAX($G$1:$G20)+1)","v":20},null,{"$f":"IF(SUM($I$1:$I20,IF(H21=\"\",20,H21))<$F$1,IF($H21=\"\",20,$H21),IF(SUM($I$2:$I20)=$F$1,\"\",$F$1-SUM($I$2:$I20)))","v":20},{"$f":"IF($I21=\"\",\"\",SUM(I$1:$I20)+1)","v":381},400,{"$f":"IF($I21=\"\",\"\",MAX($L$1:$L20)+1)","v":20},null,{"$f":"(IF(P21=\"\",\"\",MAX($N$3:$N20)+1))","v":18},87,"احمد18","ذكر",null,null,{"$f":"IF(N21=\"\",\"\",IF(ISERROR(MATCH($N21,$J:$J,0)),T20,MAX($T$3:$T20)+1))","v":1},""]
[{"$f":"IF($I22=\"\",\"\",MAX($L$1:$L21)+1)","v":21},470,489,{"$f":"IF($I22=\"\",\"\",MAX($L$1:$L21)+1)","v":21},{"$f":"IF($I22=\"\",\"\",MAX($G$1:$G21)+1)","v":21},"اللجنة",{"$f":"IF($I22=\"\",\"\",MAX($G$1:$G21)+1)","v":21},null,{"$f":"IF(SUM($I$1:$I21,IF(H22=\"\",20,H22))<$F$1,IF($H22=\"\",20,$H22),IF(SUM($I$2:$I21)=$F$1,\"\",$F$1-SUM($I$2:$I21)))","v":20},{"$f":"IF($I22=\"\",\"\",SUM(I$1:$I21)+1)","v":401},420,{"$f":"IF($I22=\"\",\"\",MAX($L$1:$L21)+1)","v":21},null,{"$f":"(IF(P22=\"\",\"\",MAX($N$3:$N21)+1))","v":19},88,"احمد19","ذكر",null,null,{"$f":"IF(N22=\"\",\"\",IF(ISERROR(MATCH($N22,$J:$J,0)),T21,MAX($T$3:$T21)+1))","v":1},""]
[{"$f":"IF($I23=\"\",\"\",MAX($L$1:$L22)+1)","v":22},490,509,{"$f":"IF($I23=\"\",\"\",MAX($L$1:$L22)+1)","v":22},{"$f":"IF($I23=\"\",\"\",MAX($G$1:$G22)+1)","v":22},"اللجنة",{"$f":"IF($I23=\"\",\"\",MAX($G$1:$G22)+1)","v":22},null,{"$f":"IF(SUM($I$1:$I22,IF(H23=\"\",20,H23))<$F$1,IF($H23=\"\",20,$H23),IF(SUM($I$2:$I22)=$F$1,\"\",$F$1-SUM($I$2:$I22)))","v":20},{"$f":"IF($I23=\"\",\"\",SUM(I$1:$I22)+1)","v":421},440,{"$f":"IF($I23=\"\",\"\",MAX($L$1:$L22)+1)","v":22},null,{"$f":"(IF(P23=\"\",\"\",MAX($N$3:$N22)+1))","v":20},89,"احمد20","ذكر",null,null,{"$f":"IF(N23=\"\",\"\",IF(ISERROR(MATCH($N23,$J:$J,0)),T22,MAX($T$3:$T22)+1))","v":1},"نهاية اللجنة"]
[{"$f":"IF($I24=\"\",\"\",MAX($L$1:$L23)+1)","v":23},{"$f":"IF(I24=\"\",\"\",IF(A24=\"\",\"\",C23+1))","v":510},{"$f":"IF(I24=\"\",\"\",IF(B24=\"\",\"\",B24+I24-1))","v":529},{"$f":"IF($I24=\"\",\"\",MAX($L$1:$L23)+1)","v":23},{"$f":"IF($I24=\"\",\"\",MAX($G$1:$G23)+1)","v":23},"اللجنة",{"$f":"IF($I24=\"\",\"\",MAX($G$1:$G23)+1)","v":23},null,{"$f":"IF(SUM($I$1:$I23,IF(H24=\"\",20,H24))<$F$1,IF($H24=\"\",20,$H24),IF(SUM($I$2:$I23)=$F$1,\"\",$F$1-SUM($I$2:$I23)))","v":20},{"$f":"IF($I24=\"\",\"\",SUM(I$1:$I23)+1)","v":441},460,{"$f":"IF($I24=\"\",\"\",MAX($L$1:$L23)+1)","v":23},null,{"$f":"(IF(P24=\"\",\"\",MAX($N$3:$N23)+1))","v":21},90,"احمد21","ذكر",null,null,{"$f":"IF(N24=\"\",\"\",IF(ISERROR(MATCH($N24,$J:$J,0)),T23,MAX($T$3:$T23)+1))","v":2},""]
[{"$f":"IF($I25=\"\",\"\",MAX($L$1:$L24)+1)","v":24},{"$f":"IF(I25=\"\",\"\",IF(A25=\"\",\"\",C24+1))","v":530},{"$f":"IF(I25=\"\",\"\",IF(B25=\"\",\"\",B25+I25-1))","v":549},{"$f":"IF($I25=\"\",\"\",MAX($L$1:$L24)+1)","v":24},{"$f":"IF($I25=\"\",\"\",MAX($G$1:$G24)+1)","v":24},"اللجنة",{"$f":"IF($I25=\"\",\"\",MAX($G$1:$G24)+1)","v":24},null,{"$f":"IF(SUM($I$1:$I24,IF(H25=\"\",20,H25))<$F$1,IF($H25=\"\",20,$H25),IF(SUM($I$2:$I24)=$F$1,\"\",$F$1-SUM($I$2:$I24)))","v":20},{"$f":"IF($I25=\"\",\"\",SUM(I$1:$I24)+1)","v":461},480,{"$f":"IF($I25=\"\",\"\",MAX($L$1:$L24)+1)","v":24},null,{"$f":"(IF(P25=\"\",\"\",MAX($N$3:$N24)+1))","v":22},91,"احمد22","ذكر",null,null,{"$f":"IF(N25=\"\",\"\",IF(ISERROR(MATCH($N25,$J:$J,0)),T24,MAX($T$3:$T24)+1))","v":2},""]
[{"$f":"IF($I26=\"\",\"\",MAX($L$1:$L25)+1)","v":25},{"$f":"IF(I26=\"\",\"\",IF(A26=\"\",\"\",C25+1))","v":550},{"$f":"IF(I26=\"\",\"\",IF(B26=\"\",\"\",B26+I26-1))","v":569},{"$f":"IF($I26=\"\",\"\",MAX($L$1:$L25)+1)","v":25},{"$f":"IF($I26=\"\",\"\",MAX($G$1:$G25)+1)","v":25},"اللجنة",{"$f":"IF($I26=\"\",\"\",MAX($G$1:$G25)+1)","v":25},null,{"$f":"IF(SUM($I$1:$I25,IF(H26=\"\",20,H26))<$F$1,IF($H26=\"\",20,$H26),IF(SUM($I$2:$I25)=$F$1,\"\",$F$1-SUM($I$2:$I25)))","v":20},{"$f":"IF($I26=\"\",\"\",SUM(I$1:$I25)+1)","v":481},500,{"$f":"IF($I26=\"\",\"\",MAX($L$1:$L25)+1)","v":25},null,{"$f":"(IF(P26=\"\",\"\",MAX($N$3:$N25)+1))","v":23},92,"احمد23","ذكر",null,null,{"$f":"IF(N26=\"\",\"\",IF(ISERROR(MATCH($N26,$J:$J,0)),T25,MAX($T$3:$T25)+1))","v":2},""]
[{"$f":"IF($I27=\"\",\"\",MAX($L$1:$L26)+1)","v":26},570,589,{"$f":"IF($I27=\"\",\"\",MAX($L$1:$L26)+1)","v":26},{"$f":"IF($I27=\"\",\"\",MAX($G$1:$G26)+1)","v":26},"اللجنة",{"$f":"IF($I27=\"\",\"\",MAX($G$1:$G26)+1)","v":26},null,{"$f":"IF(SUM($I$1:$I26,IF(H27=\"\",20,H27))<$F$1,IF($H27=\"\",20,$H27),IF(SUM($I$2:$I26)=$F$1,\"\",$F$1-SUM($I$2:$I26)))","v":20},{"$f":"IF($I27=\"\",\"\",SUM(I$1:$I26)+1)","v":501},520,{"$f":"IF($I27=\"\",\"\",MAX($L$1:$L26)+1)","v":26},null,{"$f":"(IF(P27=\"\",\"\",MAX($N$3:$N26)+1))","v":24},93,"احمد24","ذكر",null,null,{"$f":"IF(N27=\"\",\"\",IF(ISERROR(MATCH($N27,$J:$J,0)),T26,MAX($T$3:$T26)+1))","v":2},""]
[{"$f":"IF($I28=\"\",\"\",MAX($L$1:$L27)+1)","v":27},590,603,{"$f":"IF($I28=\"\",\"\",MAX($L$1:$L27)+1)","v":27},{"$f":"IF($I28=\"\",\"\",MAX($G$1:$G27)+1)","v":27},"اللجنة",{"$f":"IF($I28=\"\",\"\",MAX($G$1:$G27)+1)","v":27},null,{"$f":"IF(SUM($I$1:$I27,IF(H28=\"\",20,H28))<$F$1,IF($H28=\"\",20,$H28),IF(SUM($I$2:$I27)=$F$1,\"\",$F$1-SUM($I$2:$I27)))","v":14},{"$f":"IF($I28=\"\",\"\",SUM(I$1:$I27)+1)","v":521},534,{"$f":"IF($I28=\"\",\"\",MAX($L$1:$L27)+1)","v":27},null,{"$f":"(IF(P28=\"\",\"\",MAX($N$3:$N27)+1))","v":25},94,"احمد25","انثى",null,null,{"$f":"IF(N28=\"\",\"\",IF(ISERROR(MATCH($N28,$J:$J,0)),T27,MAX($T$3:$T27)+1))","v":2},""]
[{"$f":"IF($I29=\"\",\"\",MAX($L$1:$L28)+1)","v":""},"","",{"$f":"IF($I29=\"\",\"\",MAX($L$1:$L28)+1)","v":""},{"$f":"IF($I29=\"\",\"\",MAX($G$1:$G28)+1)","v":""},"",{"$f":"IF($I29=\"\",\"\",MAX($G$1:$G28)+1)","v":""},null,{"$f":"IF(SUM($I$1:$I28,IF(H29=\"\",20,H29))<$F$1,IF($H29=\"\",20,$H29),IF(SUM($I$2:$I28)=$F$1,\"\",$F$1-SUM($I$2:$I28)))","v":""},{"$f":"IF($I29=\"\",\"\",SUM(I$1:$I28)+1)","v":""},"",{"$f":"IF($I29=\"\",\"\",MAX($L$1:$L28)+1)","v":""},null,{"$f":"(IF(P29=\"\",\"\",MAX($N$3:$N28)+1))","v":26},95,"احمد26","انثى",null,null,{"$f":"IF(N29=\"\",\"\",IF(ISERROR(MATCH($N29,$J:$J,0)),T28,MAX($T$3:$T28)+1))","v":2},""]
[{"$f":"IF($I30=\"\",\"\",MAX($L$1:$L29)+1)","v":""},{"$f":"IF(I30=\"\",\"\",IF(A30=\"\",\"\",C29+1))","v":""},{"$f":"IF(I30=\"\",\"\",IF(B30=\"\",\"\",B30+I30-1))","v":""},{"$f":"IF($I30=\"\",\"\",MAX($L$1:$L29)+1)","v":""},{"$f":"IF($I30=\"\",\"\",MAX($G$1:$G29)+1)","v":""},"",{"$f":"IF($I30=\"\",\"\",MAX($G$1:$G29)+1)","v":""},null,{"$f":"IF(SUM($I$1:$I29,IF(H30=\"\",20,H30))<$F$1,IF($H30=\"\",20,$H30),IF(SUM($I$2:$I29)=$F$1,\"\",$F$1-SUM($I$2:$I29)))","v":""},{"$f":"IF($I30=\"\",\"\",SUM(I$1:$I29)+1)","v":""},"",{"$f":"IF($I30=\"\",\"\",MAX($L$1:$L29)+1)","v":""},null,{"$f":"(IF(P30=\"\",\"\",MAX($N$3:$N29)+1))","v":27},96,"احمد27","انثى",null,null,{"$f":"IF(N30=\"\",\"\",IF(ISERROR(MATCH($N30,$J:$J,0)),T29,MAX($T$3:$T29)+1))","v":2},""]
[null,null,null,null,null,null,null,null,null,"معيد",null,null,null,{"$f":"(IF(P31=\"\",\"\",MAX($N$3:$N30)+1))","v":28},97,"احمد28","انثى",null,null,{"$f":"IF(N31=\"\",\"\",IF(ISERROR(MATCH($N31,$J:$J,0)),T30,MAX($T$3:$T30)+1))","v":2},""]
[null,{"$f":"MAX(K:K)","v":534},null,null,null,null,null,null,null,"م للسنة الأولي",null,null,null,{"$f":"(IF(P32=\"\",\"\",MAX($N$3:$N31)+1))","v":29},98,"احمد29","انثى",null,null,{"$f":"IF(N32=\"\",\"\",IF(ISERROR(MATCH($N32,$J:$J,0)),T31,MAX($T$3:$T31)+1))","v":2},""]
[null,{"$f":"IF(B25=O1,\"أرقام جلوس الفصل صحيحة\",\"من فضلك راجع أرقام جلوس الفصل\")","v":"من فضلك راجع أرقام جلوس الفصل"},null,null,null,null,null,null,null,"م للسنة الثانية",null,null,null,{"$f":"(IF(P33=\"\",\"\",MAX($N$3:$N32)+1))","v":30},99,"احمد30","انثى",null,null,{"$f":"IF(N33=\"\",\"\",IF(ISERROR(MATCH($N33,$J:$J,0)),T32,MAX($T$3:$T32)+1))","v":2},""]
[null,null,null,null,null,null,null,null,null,null,null,null,null,{"$f":"(IF(P34=\"\",\"\",MAX($N$3:$N33)+1))","v":31},100,"احمد31","انثى",null,null,{"$f":"IF(N34=\"\",\"\",IF(ISERROR(MATCH($N34,$J:$J,0)),T33,MAX($T$3:$T33)+1))","v":2},""]
[null,null,null,null,null,null,null,null,null,"مسلم",null,null,null,{"$f":"(IF(P35=\"\",\"\",MAX($N$3:$N34)+1))","v":32},101,"احمد32","انثى",null,null,{"$f":"IF(N35=\"\",\"\",IF(ISERROR(MATCH($N35,$J:$J,0)),T34,MAX($T$3:$T34)+1))","v":2},""]
[null,null,null,null,null,null,null,null,null,"مسيحي",null,null,null,{"$f":"(IF(P36=\"\",\"\",MAX($N$3:$N35)+1))","v":33},102,"احمد33","انثى",null,null,{"$f":"IF(N36=\"\",\"\",IF(ISERROR(MATCH($N36,$J:$J,0)),T35,MAX($T$3:$T35)+1))","v":2},""]
[null,null,null,null,null,null,null,null,null,"أخري",null,null,null,{"$f":"(IF(P37=\"\",\"\",MAX($N$3:$N36)+1))","v":34},103,"احمد34","انثى",null,null,{"$f":"IF(N37=\"\",\"\",IF(ISERROR(MATCH($N37,$J:$J,0)),T36,MAX($T$3:$T36)+1))","v":2},""]
[null,null,null,null,null,null,null,null,null,null,null,null,null,{"$f":"(IF(P38=\"\",\"\",MAX($N$3:$N37)+1))","v":35},104,"احمد35","انثى",null,null,{"$f":"IF(N38=\"\",\"\",IF(ISERROR(MATCH($N38,$J:$J,0)),T37,MAX($T$3:$T37)+1))","v":2},""]
[null,null,null,null,null,null,null,null,null,null,null,null,null,{"$f":"(IF(P39=\"\",\"\",MAX($N$3:$N38)+1))","v":36},105,"احمد36","انثى",null,null,{"$f":"IF(N39=\"\",\"\",IF(ISERROR(MATCH($N39,$J:$J,0)),T38,MAX($T$3:$T38)+1))","v":2},""]
[null,null,null,null,null,null,null,null,null,null,null,null,null,{"$f":"(IF(P40=\"\",\"\",MAX($N$3:$N39)+1))","v":37},106,"احمد37","انثى",null,null,{"$f":"IF(N40=\"\",\"\",IF(ISERROR(MATCH($N40,$J:$J,0)),T39,MAX($T$3:$T39)+1))","v":2},""]
[null,null,null,null,null,null,null,null,null,null,null,null,null,{"$f":"(IF(P41=\"\",\"\",MAX($N$3:$N40)+1))","v":38},107,"احمد38","انثى",null,null,{"$f":"IF(N41=\"\",\"\",IF(ISERROR(MATCH($N41,$J:$J,0)),T40,MAX($T$3:$T40)+1))","v":2},""]
[null,null,null,null,null,null,null,null,null,null,null,null,null,{"$f":"(IF(P42=\"\",\"\",MAX($N$3:$N41)+1))","v":39},108,"احمد39","انثى",null,null,{"$f":"IF(N42=\"\",\"\",IF(ISERROR(MATCH($N42,$J:$J,0)),T41,MAX($T$3:$T41)+1))","v":2},""]
[null,null,null,null,null,null,null,null,null,null,null,null,null,{"$f":"(IF(P43=\"\",\"\",MAX($N$3:$N42)+1))","v":40},109,"احمد40","انثى",null,null,{"$f":"IF(N43=\"\",\"\",IF(ISERROR(MATCH($N43,$J:$J,0)),T42,MAX($T$3:$T42)+1))","v":2},"نهاية اللجنة"]
[null,null,null,null,null,null,null,null,null,null,null,null,null,{"$f":"(IF(P44=\"\",\"\",MAX($N$3:$N43)+1))","v":41},110,"احمد41","انثى",null,null,{"$f":"IF(N44=\"\",\"\",IF(ISERROR(MATCH($N44,$J:$J,0)),T43,MAX($T$3:$T43)+1))","v":3},""]
[null,null,null,null,null,null,null,null,null,null,null,null,null,{"$f":"(IF(P45=\"\",\"\",MAX($N$3:$N44)+1))","v":42},111,"احمد42","انثى",null,null,{"$f":"IF(N45=\"\",\"\",IF(ISERROR(MATCH($N45,$J:$J,0)),T44,MAX($T$3:$T44)+1))","v":3},""]
[null,null,null,null,null,null,null,null,null,null,null,null,null,{"$f":"(IF(P46=\"\",\"\",MAX($N$3:$N45)+1))","v":43},112,"احمد43","انثى",null,null,{"$f":"IF(N46=\"\",\"\",IF(ISERROR(MATCH($N46,$J:$J,0)),T45,MAX($T$3:$T45)+1))","v":3},""]
[null,null,null,null,null,null,null,null,null,null,null,null,null,{"$f":"(IF(P47=\"\",\"\",MAX($N$3:$N46)+1))","v":44},113,"احمد44",null,null,null,{"$f":"IF(N47=\"\",\"\",IF(ISERROR(MATCH($N47,$J:$J,0)),T46,MAX($T$3:$T46)+1))","v":3},""]
[null,null,null,null,null,null,null,null,null,null,null,null,null,{"$f":"(IF(P48=\"\",\"\",MAX($N$3:$N47)+1))","v":45},114,"احمد45",null,null,null,{"$f":"IF(N48=\"\",\"\",IF(ISERROR(MATCH($N48,$J:$J,0)),T47,MAX($T$3:$T47)+1))","v":3},""]
[null,null,null,null,null,null,null,null,null,null,null,null,null,{"$f":"(IF(P49=\"\",\"\",MAX($N$3:$N48)+1))","v":46},115,"احمد46",null,null,null,{"$f":"IF(N49=\"\",\"\",IF(ISERROR(MATCH($N49,$J:$J,0)),T48,MAX($T$3:$T48)+1))","v":3},""]
[null,null,null,null,null,null,null,null,null,null,null,null,null,{"$f":"(IF(P50=\"\",\"\",MAX($N$3:$N49)+1))","v":47},116,"احمد47",null,null,null,{"$f":"IF(N50=\"\",\"\",IF(ISERROR(MATCH($N50,$J:$J,0)),T49,MAX($T$3:$T49)+1))","v":3},""]
[null,null,null,null,null,null,null,null,null,null,null,null,null,{"$f":"(IF(P51=\"\",\"\",MAX($N$3:$N50)+1))","v":48},117,"احمد48",null,null,null,{"$f":"IF(N51=\"\",\"\",IF(ISERROR(MATCH($N51,$J:$J,0)),T50,MAX($T$3:$T50)+1))","v":3},""]
[null,null,null,null,null,null,null,null,null,null,null,null,null,{"$f":"(IF(P52=\"\",\"\",MAX($N$3:$N51)+1))","v":49},118,"احمد49",null,null,null,{"$f":"IF(N52=\"\",\"\",IF(ISERROR(MATCH($N52,$J:$J,0)),T51,MAX($T$3:$T51)+1))","v":3},""]
[null,null,null,null,null,null,null,null,null,null,null,null,null,{"$f":"(IF(P53=\"\",\"\",MAX($N$3:$N52)+1))","v":50},119,"احمد50",null,null,null,{"$f":"IF(N53=\"\",\"\",IF(ISERROR(MATCH($N53,$J:$J,0)),T52,MAX($T$3:$T52)+1))","v":3},""]
[null,null,null,null,null,null,null,null,null,null,null,null,null,{"$f":"(IF(P54=\"\",\"\",MAX($N$3:$N53)+1))","v":51},120,"احمد51",null,null,null,{"$f":"IF(N54=\"\",\"\",IF(ISERROR(MATCH($N54,$J:$J,0)),T53,MAX($T$3:$T53)+1))","v":3},""]
[null,null,null,null,null,null,null,null,null,null,null,null,null,{"$f":"(IF(P55=\"\",\"\",MAX($N$3:$N54)+1))","v":52},121,"احمد52",null,null,null,{"$f":"IF(N55=\"\",\"\",IF(ISERROR(MATCH($N55,$J:$J,0)),T54,MAX($T$3:$T54)+1))","v":3},""]
[null,null,null,null,null,null,null,null,null,null,null,null,null,{"$f":"(IF(P56=\"\",\"\",MAX($N$3:$N55)+1))","v":53},122,"احمد53",null,null,null,{"$f":"IF(N56=\"\",\"\",IF(ISERROR(MATCH($N56,$J:$J,0)),T55,MAX($T$3:$T55)+1))","v":3},""]
[null,null,null,null,null,null,null,null,null,null,null,null,null,{"$f":"(IF(P57=\"\",\"\",MAX($N$3:$N56)+1))","v":54},123,"احمد54",null,null,null,{"$f":"IF(N57=\"\",\"\",IF(ISERROR(MATCH($N57,$J:$J,0)),T56,MAX($T$3:$T56)+1))","v":3},""]
[null,null,null,null,null,null,null,null,null,null,null,null,null,{"$f":"(IF(P58=\"\",\"\",MAX($N$3:$N57)+1))","v":55},124,"احمد55",null,null,null,{"$f":"IF(N58=\"\",\"\",IF(ISERROR(MATCH($N58,$J:$J,0)),T57,MAX($T$3:$T57)+1))","v":3},""]
[null,null,null,null,null,null,null,null,null,null,null,null,null,{"$f":"(IF(P59=\"\",\"\",MAX($N$3:$N58)+1))","v":56},125,"احمد56",null,null,null,{"$f":"IF(N59=\"\",\"\",IF(ISERROR(MATCH($N59,$J:$J,0)),T58,MAX($T$3:$T58)+1))","v":3},""]
[null,null,null,null,null,null,null,null,null,null,null,null,null,{"$f":"(IF(P60=\"\",\"\",MAX($N$3:$N59)+1))","v":57},126,"احمد57",null,null,null,{"$f":"IF(N60=\"\",\"\",IF(ISERROR(MATCH($N60,$J:$J,0)),T59,MAX($T$3:$T59)+1))","v":3},""]
[null,null,null,null,null,null,null,null,null,null,null,null,null,{"$f":"(IF(P61=\"\",\"\",MAX($N$3:$N60)+1))","v":58},127,"احمد58",null,null,null,{"$f":"IF(N61=\"\",\"\",IF(ISERROR(MATCH($N61,$J:$J,0)),T60,MAX($T$3:$T60)+1))","v":3},""]
[null,null,null,null,null,null,null,null,null,null,null,null,null,{"$f":"(IF(P62=\"\",\"\",MAX($N$3:$N61)+1))","v":59},128,"احمد59",null,null,null,{"$f":"IF(N62=\"\",\"\",IF(ISERROR(MATCH($N62,$J:$J,0)),T61,MAX($T$3:$T61)+1))","v":3},""]
[null,null,null,null,null,null,null,null,null,null,null,null,null,{"$f":"(IF(P63=\"\",\"\",MAX($N$3:$N62)+1))","v":60},129,"احمد60",null,null,null,{"$f":"IF(N63=\"\",\"\",IF(ISERROR(MATCH($N63,$J:$J,0)),T62,MAX($T$3:$T62)+1))","v":3},"نهاية اللجنة"]
[null,null,null,null,null,null,null,null,null,null,null,null,null,{"$f":"(IF(P64=\"\",\"\",MAX($N$3:$N63)+1))","v":61},130,"احمد61",null,null,null,{"$f":"IF(N64=\"\",\"\",IF(ISERROR(MATCH($N64,$J:$J,0)),T63,MAX($T$3:$T63)+1))","v":4},""]
[null,null,null,null,null,null,null,null,null,null,null,null,null,{"$f":"(IF(P65=\"\",\"\",MAX($N$3:$N64)+1))","v":62},131,"احمد62",null,null,null,{"$f":"IF(N65=\"\",\"\",IF(ISERROR(MATCH($N65,$J:$J,0)),T64,MAX($T$3:$T64)+1))","v":4},""]
[null,null,null,null,null,null,null,null,null,null,null,null,null,{"$f":"(IF(P66=\"\",\"\",MAX($N$3:$N65)+1))","v":63},132,"احمد63",null,null,null,{"$f":"IF(N66=\"\",\"\",IF(ISERROR(MATCH($N66,$J:$J,0)),T65,MAX($T$3:$T65)+1))","v":4},""]
[null,null,null,null,null,null,null,null,null,null,null,null,null,{"$f":"(IF(P67=\"\",\"\",MAX($N$3:$N66)+1))","v":64},133,"احمد64",null,null,null,{"$f":"IF(N67=\"\",\"\",IF(ISERROR(MATCH($N67,$J:$J,0)),T66,MAX($T$3:$T66)+1))","v":4},""]
[null,null,null,null,null,null,null,null,null,null,null,null,null,{"$f":"(IF(P68=\"\",\"\",MAX($N$3:$N67)+1))","v":65},134,"احمد65",null,null,null,{"$f":"IF(N68=\"\",\"\",IF(ISERROR(MATCH($N68,$J:$J,0)),T67,MAX($T$3:$T67)+1))","v":4},""]
[null,null,null,null,null,null,null,null,null,null,null,null,null,{"$f":"(IF(P69=\"\",\"\",MAX($N$3:$N68)+1))","v":66},135,"احمد66",null,null,null,{"$f":"IF(N69=\"\",\"\",IF(ISERROR(MATCH($N69,$J:$J,0)),T68,MAX($T$3:$T68)+1))","v":4},{"$f":"IF(T69=T70,\"\",\"نهاية اللجنة\")","v":""}]
[null,null,null,null,null,null,null,null,null,null,null,null,null,{"$f":"(IF(P70=\"\",\"\",MAX($N$3:$N69)+1))","v":67},{"$f":"IF(O69=\"\",\"\",IF(O69+1>$O$2,\"\",O69+1))","v":136},"احمد67",null,null,null,{"$f":"IF(N70=\"\",\"\",IF(ISERROR(MATCH($N70,$J:$J,0)),T69,MAX($T$3:$T69)+1))","v":4},""]
[null,null,null,null,null,null,null,null,null,null,null,null,null,{"$f":"(IF(P71=\"\",\"\",MAX($N$3:$N70)+1))","v":68},137,"احمد68",null,null,null,{"$f":"IF(N71=\"\",\"\",IF(ISERROR(MATCH($N71,$J:$J,0)),T70,MAX($T$3:$T70)+1))","v":4},""]
[null,null,null,null,null,null,null,null,null,null,null,null,null,{"$f":"(IF(P72=\"\",\"\",MAX($N$3:$N71)+1))","v":69},138,"احمد69",null,null,null,{"$f":"IF(N72=\"\",\"\",IF(ISERROR(MATCH($N72,$J:$J,0)),T71,MAX($T$3:$T71)+1))","v":4},""]
[null,null,null,null,null,null,null,null,null,null,null,null,null,{"$f":"(IF(P73=\"\",\"\",MAX($N$3:$N72)+1))","v":70},139,"احمد70",null,null,null,{"$f":"IF(N73=\"\",\"\",IF(ISERROR(MATCH($N73,$J:$J,0)),T72,MAX($T$3:$T72)+1))","v":4},""]
[null,null,null,null,null,null,null,null,null,null,null,null,null,{"$f":"(IF(P74=\"\",\"\",MAX($N$3:$N73)+1))","v":71},140,"احمد71",null,null,null,{"$f":"IF(N74=\"\",\"\",IF(ISERROR(MATCH($N74,$J:$J,0)),T73,MAX($T$3:$T73)+1))","v":4},""]
[null,null,null,null,null,null,null,null,null,null,null,null,null,{"$f":"(IF(P75=\"\",\"\",MAX($N$3:$N74)+1))","v":72},141,"احمد72",null,null,null,{"$f":"IF(N75=\"\",\"\",IF(ISERROR(MATCH($N75,$J:$J,0)),T74,MAX($T$3:$T74)+1))","v":4},""]
[null,null,null,null,null,null,null,null,null,null,null,null,null,{"$f":"(IF(P76=\"\",\"\",MAX($N$3:$N75)+1))","v":73},142,"احمد73",null,null,null,{"$f":"IF(N76=\"\",\"\",IF(ISERROR(MATCH($N76,$J:$J,0)),T75,MAX($T$3:$T75)+1))","v":4},""]
[null,null,null,null,null,null,null,null,null,null,null,null,null,{"$f":"(IF(P77=\"\",\"\",MAX($N$3:$N76)+1))","v":74},143,"احمد74",null,null,null,{"$f":"IF(N77=\"\",\"\",IF(ISERROR(MATCH($N77,$J:$J,0)),T76,MAX($T$3:$T76)+1))","v":4},""]
[null,null,null,null,null,null,null,null,null,null,null,null,null,{"$f":"(IF(P78=\"\",\"\",MAX($N$3:$N77)+1))","v":75},144,"احمد75",null,null,null,{"$f":"IF(N78=\"\",\"\",IF(ISERROR(MATCH($N78,$J:$J,0)),T77,MAX($T$3:$T77)+1))","v":4},""]
[null,null,null,null,null,null,null,null,null,null,null,null,null,{"$f":"(IF(P79=\"\",\"\",MAX($N$3:$N78)+1))","v":76},145,"احمد76",null,null,null,{"$f":"IF(N79=\"\",\"\",IF(ISERROR(MATCH($N79,$J:$J,0)),T78,MAX($T$3:$T78)+1))","v":4},""]
[null,null,null,null,null,null,null,null,null,null,null,null,null,{"$f":"(IF(P80=\"\",\"\",MAX($N$3:$N79)+1))","v":77},146,"احمد77",null,null,null,{"$f":"IF(N80=\"\",\"\",IF(ISERROR(MATCH($N80,$J:$J,0)),T79,MAX($T$3:$T79)+1))","v":4},""]
[null,null,null,null,null,null,null,null,null,null,null,null,null,{"$f":"(IF(P81=\"\",\"\",MAX($N$3:$N80)+1))","v":78},147,"احمد78",null,null,null,{"$f":"IF(N81=\"\",\"\",IF(ISERROR(MATCH($N81,$J:$J,0)),T80,MAX($T$3:$T80)+1))","v":4},""]
[null,null,null,null,null,null,null,null,null,null,null,null,null,{"$f":"(IF(P82=\"\",\"\",MAX($N$3:$N81)+1))","v":79},148,"احمد79",null,null,null,{"$f":"IF(N82=\"\",\"\",IF(ISERROR(MATCH($N82,$J:$J,0)),T81,MAX($T$3:$T81)+1))","v":4},""]
[null,null,null,null,null,null,null,null,null,null,null,null,null,{"$f":"(IF(P83=\"\",\"\",MAX($N$3:$N82)+1))","v":80},149,"احمد80",null,null,null,{"$f":"IF(N83=\"\",\"\",IF(ISERROR(MATCH($N83,$J:$J,0)),T82,MAX($T$3:$T82)+1))","v":4},"نهاية اللجنة"]
[null,null,null,null,null,null,null,null,null,null,null,null,null,{"$f":"(IF(P84=\"\",\"\",MAX($N$3:$N83)+1))","v":81},150,"احمد81",null,null,null,{"$f":"IF(N84=\"\",\"\",IF(ISERROR(MATCH($N84,$J:$J,0)),T83,MAX($T$3:$T83)+1))","v":5},""]
[null,null,null,null,null,null,null,null,null,null,null,null,null,{"$f":"(IF(P85=\"\",\"\",MAX($N$3:$N84)+1))","v":82},151,"احمد82",null,null,null,{"$f":"IF(N85=\"\",\"\",IF(ISERROR(MATCH($N85,$J:$J,0)),T84,MAX($T$3:$T84)+1))","v":5},""]
[null,null,null,null,null,null,null,null,null,null,null,null,null,{"$f":"(IF(P86=\"\",\"\",MAX($N$3:$N85)+1))","v":83},152,"احمد83",null,null,null,{"$f":"IF(N86=\"\",\"\",IF(ISERROR(MATCH($N86,$J:$J,0)),T85,MAX($T$3:$T85)+1))","v":5},""]
[null,null,null,null,null,null,null,null,null,null,null,null,null,{"$f":"(IF(P87=\"\",\"\",MAX($N$3:$N86)+1))","v":84},153,"احمد84",null,null,null,{"$f":"IF(N87=\"\",\"\",IF(ISERROR(MATCH($N87,$J:$J,0)),T86,MAX($T$3:$T86)+1))","v":5},""]
[null,null,null,null,null,null,null,null,null,null,null,null,null,{"$f":"(IF(P88=\"\",\"\",MAX($N$3:$N87)+1))","v":85},154,"احمد85",null,null,null,{"$f":"IF(N88=\"\",\"\",IF(ISERROR(MATCH($N88,$J:$J,0)),T87,MAX($T$3:$T87)+1))","v":5},""]
[null,null,null,null,null,null,null,null,null,null,null,null,null,{"$f":"(IF(P89=\"\",\"\",MAX($N$3:$N88)+1))","v":86},155,"احمد86",null,null,null,{"$f":"IF(N89=\"\",\"\",IF(ISERROR(MATCH($N89,$J:$J,0)),T88,MAX($T$3:$T88)+1))","v":5},""]
[null,null,null,null,null,null,null,null,null,null,null,null,null,{"$f":"(IF(P90=\"\",\"\",MAX($N$3:$N89)+1))","v":87},156,"احمد87",null,null,null,{"$f":"IF(N90=\"\",\"\",IF(ISERROR(MATCH($N90,$J:$J,0)),T89,MAX($T$3:$T89)+1))","v":5},""]
[null,null,null,null,null,null,null,null,null,null,null,null,null,{"$f":"(IF(P91=\"\",\"\",MAX($N$3:$N90)+1))","v":88},157,"احمد88",null,null,null,{"$f":"IF(N91=\"\",\"\",IF(ISERROR(MATCH($N91,$J:$J,0)),T90,MAX($T$3:$T90)+1))","v":5},""]
[null,null,null,null,null,null,null,null,null,null,null,null,null,{"$f":"(IF(P92=\"\",\"\",MAX($N$3:$N91)+1))","v":89},158,"احمد89",null,null,null,{"$f":"IF(N92=\"\",\"\",IF(ISERROR(MATCH($N92,$J:$J,0)),T91,MAX($T$3:$T91)+1))","v":5},""]
[null,null,null,null,null,null,null,null,null,null,null,null,null,{"$f":"(IF(P93=\"\",\"\",MAX($N$3:$N92)+1))","v":90},159,"احمد90",null,null,null,{"$f":"IF(N93=\"\",\"\",IF(ISERROR(MATCH($N93,$J:$J,0)),T92,MAX($T$3:$T92)+1))","v":5},""]
[null,null,null,null,null,null,null,null,null,null,null,null,null,{"$f":"(IF(P94=\"\",\"\",MAX($N$3:$N93)+1))","v":91},160,"احمد91",null,null,null,{"$f":"IF(N94=\"\",\"\",IF(ISERROR(MATCH($N94,$J:$J,0)),T93,MAX($T$3:$T93)+1))","v":5},""]
[null,null,null,null,null,null,null,null,null,null,null,null,null,{"$f":"(IF(P95=\"\",\"\",MAX($N$3:$N94)+1))","v":92},161,"احمد92",null,null,null,{"$f":"IF(N95=\"\",\"\",IF(ISERROR(MATCH($N95,$J:$J,0)),T94,MAX($T$3:$T94)+1))","v":5},""]
[null,null,null,null,null,null,null,null,null,null,null,null,null,{"$f":"(IF(P96=\"\",\"\",MAX($N$3:$N95)+1))","v":93},162,"احمد93",null,null,null,{"$f":"IF(N96=\"\",\"\",IF(ISERROR(MATCH($N96,$J:$J,0)),T95,MAX($T$3:$T95)+1))","v":5},""]
[null,null,null,null,null,null,null,null,null,null,null,null,null,{"$f":"(IF(P97=\"\",\"\",MAX($N$3:$N96)+1))","v":94},163,"احمد94",null,null,null,{"$f":"IF(N97=\"\",\"\",IF(ISERROR(MATCH($N97,$J:$J,0)),T96,MAX($T$3:$T96)+1))","v":5},""]
[null,null,null,null,null,null,null,null,null,null,null,null,null,{"$f":"(IF(P98=\"\",\"\",MAX($N$3:$N97)+1))","v":95},164,"احمد95",null,null,null,{"$f":"IF(N98=\"\",\"\",IF(ISERROR(MATCH($N98,$J:$J,0)),T97,MAX($T$3:$T97)+1))","v":5},""]
[null,null,null,null,null,null,null,null,null,null,null,null,null,{"$f":"(IF(P99=\"\",\"\",MAX($N$3:$N98)+1))","v":96},165,"احمد96",null,null,null,{"$f":"IF(N99=\"\",\"\",IF(ISERROR(MATCH($N99,$J:$J,0)),T98,MAX($T$3:$T98)+1))","v":5},""]
[null,null,null,null,null,null,null,null,null,null,null,null,null,{"$f":"(IF(P100=\"\",\"\",MAX($N$3:$N99)+1))","v":97},166,"احمد97",null,null,null,{"$f":"IF(N100=\"\",\"\",IF(ISERROR(MATCH($N100,$J:$J,0)),T99,MAX($T$3:$T99)+1))","v":5},""]
[null,null,null,null,null,null,null,null,null,null,null,null,null,{"$f":"(IF(P101=\"\",\"\",MAX($N$3:$N100)+1))","v":98},167,"احمد98",null,null,null,{"$f":"IF(N101=\"\",\"\",IF(ISERROR(MATCH($N101,$J:$J,0)),T100,MAX($T$3:$T100)+1))","v":5},""]
[null,null,null,null,null,null,null,null,null,null,null,null,null,{"$f":"(IF(P102=\"\",\"\",MAX($N$3:$N101)+1))","v":99},168,"احمد99",null,null,null,{"$f":"IF(N102=\"\",\"\",IF(ISERROR(MATCH($N102,$J:$J,0)),T101,MAX($T$3:$T101)+1))","v":5},""]
[null,null,null,null,null,null,null,null,null,null,null,null,null,{"$f":"(IF(P103=\"\",\"\",MAX($N$3:$N102)+1))","v":100},169,"احمد100",null,null,null,{"$f":"IF(N103=\"\",\"\",IF(ISERROR(MATCH($N103,$J:$J,0)),T102,MAX($T$3:$T102)+1))","v":5},"نهاية اللجنة"]
[null,null,null,null,null,null,null,null,null,null,null,null,null,{"$f":"(IF(P104=\"\",\"\",MAX($N$3:$N103)+1))","v":101},170,"احمد101",null,null,null,{"$f":"IF(N104=\"\",\"\",IF(ISERROR(MATCH($N104,$J:$J,0)),T103,MAX($T$3:$T103)+1))","v":6},""]
[null,null,null,null,null,null,null,null,null,null,null,null,null,{"$f":"(IF(P105=\"\",\"\",MAX($N$3:$N104)+1))","v":102},171,"احمد102",null,null,null,{"$f":"IF(N105=\"\",\"\",IF(ISERROR(MATCH($N105,$J:$J,0)),T104,MAX($T$3:$T104)+1))","v":6},""]
[null,null,null,null,null,null,null,null,null,null,null,null,null,{"$f":"(IF(P106=\"\",\"\",MAX($N$3:$N105)+1))","v":103},172,"احمد103",null,null,null,{"$f":"IF(N106=\"\",\"\",IF(ISERROR(MATCH($N106,$J:$J,0)),T105,MAX($T$3:$T105)+1))","v":6},""]
[null,null,null,null,null,null,null,null,null,null,null,null,null,{"$f":"(IF(P107=\"\",\"\",MAX($N$3:$N106)+1))","v":104},173,"احمد104",null,null,null,{"$f":"IF(N107=\"\",\"\",IF(ISERROR(MATCH($N107,$J:$J,0)),T106,MAX($T$3:$T106)+1))","v":6},""]
[null,null,null,null,null,null,null,null,null,null,null,null,null,{"$f":"(IF(P108=\"\",\"\",MAX($N$3:$N107)+1))","v":105},174,"احمد105",null,null,null,{"$f":"IF(N108=\"\",\"\",IF(ISERROR(MATCH($N108,$J:$J,0)),T107,MAX($T$3:$T107)+1))","v":6},""]
[null,null,null,null,null,null,null,null,null,null,null,null,null,{"$f":"(IF(P109=\"\",\"\",MAX($N$3:$N108)+1))","v":106},175,"احمد106",null,null,null,{"$f":"IF(N109=\"\",\"\",IF(ISERROR(MATCH($N109,$J:$J,0)),T108,MAX($T$3:$T108)+1))","v":6},""]
[null,null,null,null,null,null,null,null,null,null,null,null,null,{"$f":"(IF(P110=\"\",\"\",MAX($N$3:$N109)+1))","v":107},176,"احمد107",null,null,null,{"$f":"IF(N110=\"\",\"\",IF(ISERROR(MATCH($N110,$J:$J,0)),T109,MAX($T$3:$T109)+1))","v":6},""]
[null,null,null,null,null,null,null,null,null,null,null,null,null,{"$f":"(IF(P111=\"\",\"\",MAX($N$3:$N110)+1))","v":108},177,"احمد108",null,null,null,{"$f":"IF(N111=\"\",\"\",IF(ISERROR(MATCH($N111,$J:$J,0)),T110,MAX($T$3:$T110)+1))","v":6},""]
[null,null,null,null,null,null,null,null,null,null,null,null,null,{"$f":"(IF(P112=\"\",\"\",MAX($N$3:$N111)+1))","v":109},178,"احمد109",null,null,null,{"$f":"IF(N112=\"\",\"\",IF(ISERROR(MATCH($N112,$J:$J,0)),T111,MAX($T$3:$T111)+1))","v":6},""]
[null,null,null,null,null,null,null,null,null,null,null,null,null,{"$f":"(IF(P113=\"\",\"\",MAX($N$3:$N112)+1))","v":110},179,"احمد110",null,null,null,{"$f":"IF(N113=\"\",\"\",IF(ISERROR(MATCH($N113,$J:$J,0)),T112,MAX($T$3:$T112)+1))","v":6},""]
[null,null,null,null,null,null,null,null,null,null,null,null,null,{"$f":"(IF(P114=\"\",\"\",MAX($N$3:$N113)+1))","v":111},180,"احمد111",null,null,null,{"$f":"IF(N114=\"\",\"\",IF(ISERROR(MATCH($N114,$J:$J,0)),T113,MAX($T$3:$T113)+1))","v":6},""]
[null,null,null,null,null,null,null,null,null,null,null,null,null,{"$f":"(IF(P115=\"\",\"\",MAX($N$3:$N114)+1))","v":112},181,"احمد112",null,null,null,{"$f":"IF(N115=\"\",\"\",IF(ISERROR(MATCH($N115,$J:$J,0)),T114,MAX($T$3:$T114)+1))","v":6},""]
[null,null,null,null,null,null,null,null,null,null,null,null,null,{"$f":"(IF(P116=\"\",\"\",MAX($N$3:$N115)+1))","v":113},182,"احمد113",null,null,null,{"$f":"IF(N116=\"\",\"\",IF(ISERROR(MATCH($N116,$J:$J,0)),T115,MAX($T$3:$T115)+1))","v":6},""]
[null,null,null,null,null,null,null,null,null,null,null,null,null,{"$f":"(IF(P117=\"\",\"\",MAX($N$3:$N116)+1))","v":114},183,"احمد114",null,null,null,{"$f":"IF(N117=\"\",\"\",IF(ISERROR(MATCH($N117,$J:$J,0)),T116,MAX($T$3:$T116)+1))","v":6},""]
[null,null,null,null,null,null,null,null,null,null,null,null,null,{"$f":"(IF(P118=\"\",\"\",MAX($N$3:$N117)+1))","v":115},184,"احمد115",null,null,null,{"$f":"IF(N118=\"\",\"\",IF(ISERROR(MATCH($N118,$J:$J,0)),T117,MAX($T$3:$T117)+1))","v":6},""]
[null,null,null,null,null,null,null,null,null,null,null,null,null,{"$f":"(IF(P119=\"\",\"\",MAX($N$3:$N118)+1))","v":116},185,"احمد116",null,null,null,{"$f":"IF(N119=\"\",\"\",IF(ISERROR(MATCH($N119,$J:$J,0)),T118,MAX($T$3:$T118)+1))","v":6},""]
[null,null,null,null,null,null,null,null,null,null,null,null,null,{"$f":"(IF(P120=\"\",\"\",MAX($N$3:$N119)+1))","v":117},186,"احمد117",null,null,null,{"$f":"IF(N120=\"\",\"\",IF(ISERROR(MATCH($N120,$J:$J,0)),T119,MAX($T$3:$T119)+1))","v":6},""]
[null,null,null,null,null,null,null,null,null,null,null,null,null,{"$f":"(IF(P121=\"\",\"\",MAX($N$3:$N120)+1))","v":118},187,"احمد118",null,null,null,{"$f":"IF(N121=\"\",\"\",IF(ISERROR(MATCH($N121,$J:$J,0)),T120,MAX($T$3:$T120)+1))","v":6},""]
[null,null,null,null,null,null,null,null,null,null,null,null,null,{"$f":"(IF(P122=\"\",\"\",MAX($N$3:$N121)+1))","v":119},188,"احمد119",null,null,null,{"$f":"IF(N122=\"\",\"\",IF(ISERROR(MATCH($N122,$J:$J,0)),T121,MAX($T$3:$T121)+1))","v":6},""]
[null,null,null,null,null,null,null,null,null,null,null,null,null,{"$f":"(IF(P123=\"\",\"\",MAX($N$3:$N122)+1))","v":120},189,"احمد120",null,null,null,{"$f":"IF(N123=\"\",\"\",IF(ISERROR(MATCH($N123,$J:$J,0)),T122,MAX($T$3:$T122)+1))","v":6},"نهاية اللجنة"]
[null,null,null,null,null,null,null,null,null,null,null,null,null,{"$f":"(IF(P124=\"\",\"\",MAX($N$3:$N123)+1))","v":121},190,"احمد121",null,null,null,{"$f":"IF(N124=\"\",\"\",IF(ISERROR(MATCH($N124,$J:$J,0)),T123,MAX($T$3:$T123)+1))","v":7},""]
[null,null,null,null,null,null,null,null,null,null,null,null,null,{"$f":"(IF(P125=\"\",\"\",MAX($N$3:$N124)+1))","v":122},191,"احمد122",null,null,null,{"$f":"IF(N125=\"\",\"\",IF(ISERROR(MATCH($N125,$J:$J,0)),T124,MAX($T$3:$T124)+1))","v":7},""]
[null,null,null,null,null,null,null,null,null,null,null,null,null,{"$f":"(IF(P126=\"\",\"\",MAX($N$3:$N125)+1))","v":123},192,"احمد123",null,null,null,{"$f":"IF(N126=\"\",\"\",IF(ISERROR(MATCH($N126,$J:$J,0)),T125,MAX($T$3:$T125)+1))","v":7},""]
[null,null,null,null,null,null,null,null,null,null,null,null,null,{"$f":"(IF(P127=\"\",\"\",MAX($N$3:$N126)+1))","v":124},193,"احمد124",null,null,null,{"$f":"IF(N127=\"\",\"\",IF(ISERROR(MATCH($N127,$J:$J,0)),T126,MAX($T$3:$T126)+1))","v":7},""]
[null,null,null,null,null,null,null,null,null,null,null,null,null,{"$f":"(IF(P128=\"\",\"\",MAX($N$3:$N127)+1))","v":125},194,"احمد125",null,null,null,{"$f":"IF(N128=\"\",\"\",IF(ISERROR(MATCH($N128,$J:$J,0)),T127,MAX($T$3:$T127)+1))","v":7},""]
[null,null,null,null,null,null,null,null,null,null,null,null,null,{"$f":"(IF(P129=\"\",\"\",MAX($N$3:$N128)+1))","v":126},195,"احمد126",null,null,null,{"$f":"IF(N129=\"\",\"\",IF(ISERROR(MATCH($N129,$J:$J,0)),T128,MAX($T$3:$T128)+1))","v":7},""]
[null,null,null,null,null,null,null,null,null,null,null,null,null,{"$f":"(IF(P130=\"\",\"\",MAX($N$3:$N129)+1))","v":127},196,"احمد127",null,null,null,{"$f":"IF(N130=\"\",\"\",IF(ISERROR(MATCH($N130,$J:$J,0)),T129,MAX($T$3:$T129)+1))","v":7},""]
[null,null,null,null,null,null,null,null,null,null,null,null,null,{"$f":"(IF(P131=\"\",\"\",MAX($N$3:$N130)+1))","v":128},197,"احمد128",null,null,null,{"$f":"IF(N131=\"\",\"\",IF(ISERROR(MATCH($N131,$J:$J,0)),T130,MAX($T$3:$T130)+1))","v":7},""]
[null,null,null,null,null,null,null,null,null,null,null,null,null,{"$f":"(IF(P132=\"\",\"\",MAX($N$3:$N131)+1))","v":129},198,"احمد129",null,null,null,{"$f":"IF(N132=\"\",\"\",IF(ISERROR(MATCH($N132,$J:$J,0)),T131,MAX($T$3:$T131)+1))","v":7},""]
[null,null,null,null,null,null,null,null,null,null,null,null,null,{"$f":"(IF(P133=\"\",\"\",MAX($N$3:$N132)+1))","v":130},199,"احمد130",null,null,null,{"$f":"IF(N133=\"\",\"\",IF(ISERROR(MATCH($N133,$J:$J,0)),T132,MAX($T$3:$T132)+1))","v":7},{"$f":"IF(T133=T134,\"\",\"نهاية اللجنة\")","v":""}]
[null,null,null,null,null,null,null,null,null,null,null,null,null,{"$f":"(IF(P134=\"\",\"\",MAX($N$3:$N133)+1))","v":131},{"$f":"IF(O133=\"\",\"\",IF(O133+1>$O$2,\"\",O133+1))","v":200},"احمد131",null,null,null,{"$f":"IF(N134=\"\",\"\",IF(ISERROR(MATCH($N134,$J:$J,0)),T133,MAX($T$3:$T133)+1))","v":7},""]
[null,null,null,null,null,null,null,null,null,null,null,null,null,{"$f":"(IF(P135=\"\",\"\",MAX($N$3:$N134)+1))","v":132},201,"احمد132",null,null,null,{"$f":"IF(N135=\"\",\"\",IF(ISERROR(MATCH($N135,$J:$J,0)),T134,MAX($T$3:$T134)+1))","v":7},""]
[null,null,null,null,null,null,null,null,null,null,null,null,null,{"$f":"(IF(P136=\"\",\"\",MAX($N$3:$N135)+1))","v":133},202,"احمد133",null,null,null,{"$f":"IF(N136=\"\",\"\",IF(ISERROR(MATCH($N136,$J:$J,0)),T135,MAX($T$3:$T135)+1))","v":7},""]
[null,null,null,null,null,null,null,null,null,null,null,null,null,{"$f":"(IF(P137=\"\",\"\",MAX($N$3:$N136)+1))","v":134},203,"احمد134",null,null,null,{"$f":"IF(N137=\"\",\"\",IF(ISERROR(MATCH($N137,$J:$J,0)),T136,MAX($T$3:$T136)+1))","v":7},""]
[null,null,null,null,null,null,null,null,null,null,null,null,null,{"$f":"(IF(P138=\"\",\"\",MAX($N$3:$N137)+1))","v":135},204,"احمد135",null,null,null,{"$f":"IF(N138=\"\",\"\",IF(ISERROR(MATCH($N138,$J:$J,0)),T137,MAX($T$3:$T137)+1))","v":7},""]
[null,null,null,null,null,null,null,null,null,null,null,null,null,{"$f":"(IF(P139=\"\",\"\",MAX($N$3:$N138)+1))","v":136},205,"احمد136",null,null,null,{"$f":"IF(N139=\"\",\"\",IF(ISERROR(MATCH($N139,$J:$J,0)),T138,MAX($T$3:$T138)+1))","v":7},""]
[null,null,null,null,null,null,null,null,null,null,null,null,null,{"$f":"(IF(P140=\"\",\"\",MAX($N$3:$N139)+1))","v":137},206,"احمد137",null,null,null,{"$f":"IF(N140=\"\",\"\",IF(ISERROR(MATCH($N140,$J:$J,0)),T139,MAX($T$3:$T139)+1))","v":7},""]
[null,null,null,null,null,null,null,null,null,null,null,null,null,{"$f":"(IF(P141=\"\",\"\",MAX($N$3:$N140)+1))","v":138},207,"احمد138",null,null,null,{"$f":"IF(N141=\"\",\"\",IF(ISERROR(MATCH($N141,$J:$J,0)),T140,MAX($T$3:$T140)+1))","v":7},""]
[null,null,null,null,null,null,null,null,null,null,null,null,null,{"$f":"(IF(P142=\"\",\"\",MAX($N$3:$N141)+1))","v":139},208,"احمد139",null,null,null,{"$f":"IF(N142=\"\",\"\",IF(ISERROR(MATCH($N142,$J:$J,0)),T141,MAX($T$3:$T141)+1))","v":7},""]
[null,null,null,null,null,null,null,null,null,null,null,null,null,{"$f":"(IF(P143=\"\",\"\",MAX($N$3:$N142)+1))","v":140},209,"احمد140",null,null,null,{"$f":"IF(N143=\"\",\"\",IF(ISERROR(MATCH($N143,$J:$J,0)),T142,MAX($T$3:$T142)+1))","v":7},"نهاية اللجنة"]
[null,null,null,null,null,null,null,null,null,null,null,null,null,{"$f":"(IF(P144=\"\",\"\",MAX($N$3:$N143)+1))","v":141},210,"احمد141",null,null,null,{"$f":"IF(N144=\"\",\"\",IF(ISERROR(MATCH($N144,$J:$J,0)),T143,MAX($T$3:$T143)+1))","v":8},""]
[null,null,null,null,null,null,null,null,null,null,null,null,null,{"$f":"(IF(P145=\"\",\"\",MAX($N$3:$N144)+1))","v":142},211,"احمد142",null,null,null,{"$f":"IF(N145=\"\",\"\",IF(ISERROR(MATCH($N145,$J:$J,0)),T144,MAX($T$3:$T144)+1))","v":8},""]
[null,null,null,null,null,null,null,null,null,null,null,null,null,{"$f":"(IF(P146=\"\",\"\",MAX($N$3:$N145)+1))","v":143},212,"احمد143",null,null,null,{"$f":"IF(N146=\"\",\"\",IF(ISERROR(MATCH($N146,$J:$J,0)),T145,MAX($T$3:$T145)+1))","v":8},""]
[null,null,null,null,null,null,null,null,null,null,null,null,null,{"$f":"(IF(P147=\"\",\"\",MAX($N$3:$N146)+1))","v":144},213,"احمد144",null,null,null,{"$f":"IF(N147=\"\",\"\",IF(ISERROR(MATCH($N147,$J:$J,0)),T146,MAX($T$3:$T146)+1))","v":8},""]
[null,null,null,null,null,null,null,null,null,null,null,null,null,{"$f":"(IF(P148=\"\",\"\",MAX($N$3:$N147)+1))","v":145},214,"احمد145",null,null,null,{"$f":"IF(N148=\"\",\"\",IF(ISERROR(MATCH($N148,$J:$J,0)),T147,MAX($T$3:$T147)+1))","v":8},""]
[null,null,null,null,null,null,null,null,null,null,null,null,null,{"$f":"(IF(P149=\"\",\"\",MAX($N$3:$N148)+1))","v":146},215,"احمد146",null,null,null,{"$f":"IF(N149=\"\",\"\",IF(ISERROR(MATCH($N149,$J:$J,0)),T148,MAX($T$3:$T148)+1))","v":8},""]
[null,null,null,null,null,null,null,null,null,null,null,null,null,{"$f":"(IF(P150=\"\",\"\",MAX($N$3:$N149)+1))","v":147},216,"احمد147",null,null,null,{"$f":"IF(N150=\"\",\"\",IF(ISERROR(MATCH($N150,$J:$J,0)),T149,MAX($T$3:$T149)+1))","v":8},""]
[null,null,null,null,null,null,null,null,null,null,null,null,null,{"$f":"(IF(P151=\"\",\"\",MAX($N$3:$N150)+1))","v":148},217,"احمد148",null,null,null,{"$f":"IF(N151=\"\",\"\",IF(ISERROR(MATCH($N151,$J:$J,0)),T150,MAX($T$3:$T150)+1))","v":8},""]
[null,null,null,null,null,null,null,null,null,null,null,null,null,{"$f":"(IF(P152=\"\",\"\",MAX($N$3:$N151)+1))","v":149},218,"احمد149",null,null,null,{"$f":"IF(N152=\"\",\"\",IF(ISERROR(MATCH($N152,$J:$J,0)),T151,MAX($T$3:$T151)+1))","v":8},""]
[null,null,null,null,null,null,null,null,null,null,null,null,null,{"$f":"(IF(P153=\"\",\"\",MAX($N$3:$N152)+1))","v":150},219,"احمد150",null,null,null,{"$f":"IF(N153=\"\",\"\",IF(ISERROR(MATCH($N153,$J:$J,0)),T152,MAX($T$3:$T152)+1))","v":8},""]
[null,null,null,null,null,null,null,null,null,null,null,null,null,{"$f":"(IF(P154=\"\",\"\",MAX($N$3:$N153)+1))","v":151},220,"احمد151",null,null,null,{"$f":"IF(N154=\"\",\"\",IF(ISERROR(MATCH($N154,$J:$J,0)),T153,MAX($T$3:$T153)+1))","v":8},""]
[null,null,null,null,null,null,null,null,null,null,null,null,null,{"$f":"(IF(P155=\"\",\"\",MAX($N$3:$N154)+1))","v":152},221,"احمد152",null,null,null,{"$f":"IF(N155=\"\",\"\",IF(ISERROR(MATCH($N155,$J:$J,0)),T154,MAX($T$3:$T154)+1))","v":8},""]
[null,null,null,null,null,null,null,null,null,null,null,null,null,{"$f":"(IF(P156=\"\",\"\",MAX($N$3:$N155)+1))","v":153},222,"احمد153",null,null,null,{"$f":"IF(N156=\"\",\"\",IF(ISERROR(MATCH($N156,$J:$J,0)),T155,MAX($T$3:$T155)+1))","v":8},""]
[null,null,null,null,null,null,null,null,null,null,null,null,null,{"$f":"(IF(P157=\"\",\"\",MAX($N$3:$N156)+1))","v":154},223,"احمد154",null,null,null,{"$f":"IF(N157=\"\",\"\",IF(ISERROR(MATCH($N157,$J:$J,0)),T156,MAX($T$3:$T156)+1))","v":8},""]
[null,null,null,null,null,null,null,null,null,null,null,null,null,{"$f":"(IF(P158=\"\",\"\",MAX($N$3:$N157)+1))","v":155},224,"احمد155",null,null,null,{"$f":"IF(N158=\"\",\"\",IF(ISERROR(MATCH($N158,$J:$J,0)),T157,MAX($T$3:$T157)+1))","v":8},""]
[null,null,null,null,null,null,null,null,null,null,null,null,null,{"$f":"(IF(P159=\"\",\"\",MAX($N$3:$N158)+1))","v":156},225,"احمد156",null,null,null,{"$f":"IF(N159=\"\",\"\",IF(ISERROR(MATCH($N159,$J:$J,0)),T158,MAX($T$3:$T158)+1))","v":8},""]
[null,null,null,null,null,null,null,null,null,null,null,null,null,{"$f":"(IF(P160=\"\",\"\",MAX($N$3:$N159)+1))","v":157},226,"احمد157",null,null,null,{"$f":"IF(N160=\"\",\"\",IF(ISERROR(MATCH($N160,$J:$J,0)),T159,MAX($T$3:$T159)+1))","v":8},""]
[null,null,null,null,null,null,null,null,null,null,null,null,null,{"$f":"(IF(P161=\"\",\"\",MAX($N$3:$N160)+1))","v":158},227,"احمد158",null,null,null,{"$f":"IF(N161=\"\",\"\",IF(ISERROR(MATCH($N161,$J:$J,0)),T160,MAX($T$3:$T160)+1))","v":8},""]
[null,null,null,null,null,null,null,null,null,null,null,null,null,{"$f":"(IF(P162=\"\",\"\",MAX($N$3:$N161)+1))","v":159},228,"احمد159",null,null,null,{"$f":"IF(N162=\"\",\"\",IF(ISERROR(MATCH($N162,$J:$J,0)),T161,MAX($T$3:$T161)+1))","v":8},""]
[null,null,null,null,null,null,null,null,null,null,null,null,null,{"$f":"(IF(P163=\"\",\"\",MAX($N$3:$N162)+1))","v":160},229,"احمد160",null,null,null,{"$f":"IF(N163=\"\",\"\",IF(ISERROR(MATCH($N163,$J:$J,0)),T162,MAX($T$3:$T162)+1))","v":8},"نهاية اللجنة"]
[null,null,null,null,null,null,null,null,null,null,null,null,null,{"$f":"(IF(P164=\"\",\"\",MAX($N$3:$N163)+1))","v":161},230,"احمد161",null,null,null,{"$f":"IF(N164=\"\",\"\",IF(ISERROR(MATCH($N164,$J:$J,0)),T163,MAX($T$3:$T163)+1))","v":9},""]
[null,null,null,null,null,null,null,null,null,null,null,null,null,{"$f":"(IF(P165=\"\",\"\",MAX($N$3:$N164)+1))","v":162},231,"احمد162",null,null,null,{"$f":"IF(N165=\"\",\"\",IF(ISERROR(MATCH($N165,$J:$J,0)),T164,MAX($T$3:$T164)+1))","v":9},""]
[null,null,null,null,null,null,null,null,null,null,null,null,null,{"$f":"(IF(P166=\"\",\"\",MAX($N$3:$N165)+1))","v":163},232,"احمد163",null,null,null,{"$f":"IF(N166=\"\",\"\",IF(ISERROR(MATCH($N166,$J:$J,0)),T165,MAX($T$3:$T165)+1))","v":9},""]
[null,null,null,null,null,null,null,null,null,null,null,null,null,{"$f":"(IF(P167=\"\",\"\",MAX($N$3:$N166)+1))","v":164},233,"احمد164",null,null,null,{"$f":"IF(N167=\"\",\"\",IF(ISERROR(MATCH($N167,$J:$J,0)),T166,MAX($T$3:$T166)+1))","v":9},""]
[null,null,null,null,null,null,null,null,null,null,null,null,null,{"$f":"(IF(P168=\"\",\"\",MAX($N$3:$N167)+1))","v":165},234,"احمد165",null,null,null,{"$f":"IF(N168=\"\",\"\",IF(ISERROR(MATCH($N168,$J:$J,0)),T167,MAX($T$3:$T167)+1))","v":9},""]
[null,null,null,null,null,null,null,null,null,null,null,null,null,{"$f":"(IF(P169=\"\",\"\",MAX($N$3:$N168)+1))","v":166},235,"احمد166",null,null,null,{"$f":"IF(N169=\"\",\"\",IF(ISERROR(MATCH($N169,$J:$J,0)),T168,MAX($T$3:$T168)+1))","v":9},""]
[null,null,null,null,null,null,null,null,null,null,null,null,null,{"$f":"(IF(P170=\"\",\"\",MAX($N$3:$N169)+1))","v":167},236,"احمد167",null,null,null,{"$f":"IF(N170=\"\",\"\",IF(ISERROR(MATCH($N170,$J:$J,0)),T169,MAX($T$3:$T169)+1))","v":9},""]
[null,null,null,null,null,null,null,null,null,null,null,null,null,{"$f":"(IF(P171=\"\",\"\",MAX($N$3:$N170)+1))","v":168},237,"احمد168",null,null,null,{"$f":"IF(N171=\"\",\"\",IF(ISERROR(MATCH($N171,$J:$J,0)),T170,MAX($T$3:$T170)+1))","v":9},""]
[null,null,null,null,null,null,null,null,null,null,null,null,null,{"$f":"(IF(P172=\"\",\"\",MAX($N$3:$N171)+1))","v":169},238,"احمد169",null,null,null,{"$f":"IF(N172=\"\",\"\",IF(ISERROR(MATCH($N172,$J:$J,0)),T171,MAX($T$3:$T171)+1))","v":9},""]
[null,null,null,null,null,null,null,null,null,null,null,null,null,{"$f":"(IF(P173=\"\",\"\",MAX($N$3:$N172)+1))","v":170},239,"احمد170",null,null,null,{"$f":"IF(N173=\"\",\"\",IF(ISERROR(MATCH($N173,$J:$J,0)),T172,MAX($T$3:$T172)+1))","v":9},""]
[null,null,null,null,null,null,null,null,null,null,null,null,null,{"$f":"(IF(P174=\"\",\"\",MAX($N$3:$N173)+1))","v":171},240,"احمد171",null,null,null,{"$f":"IF(N174=\"\",\"\",IF(ISERROR(MATCH($N174,$J:$J,0)),T173,MAX($T$3:$T173)+1))","v":9},""]
[null,null,null,null,null,null,null,null,null,null,null,null,null,{"$f":"(IF(P175=\"\",\"\",MAX($N$3:$N174)+1))","v":172},241,"احمد172",null,null,null,{"$f":"IF(N175=\"\",\"\",IF(ISERROR(MATCH($N175,$J:$J,0)),T174,MAX($T$3:$T174)+1))","v":9},""]
[null,null,null,null,null,null,null,null,null,null,null,null,null,{"$f":"(IF(P176=\"\",\"\",MAX($N$3:$N175)+1))","v":173},242,"احمد173",null,null,null,{"$f":"IF(N176=\"\",\"\",IF(ISERROR(MATCH($N176,$J:$J,0)),T175,MAX($T$3:$T175)+1))","v":9},""]
[null,null,null,null,null,null,null,null,null,null,null,null,null,{"$f":"(IF(P177=\"\",\"\",MAX($N$3:$N176)+1))","v":174},243,"احمد174",null,null,null,{"$f":"IF(N177=\"\",\"\",IF(ISERROR(MATCH($N177,$J:$J,0)),T176,MAX($T$3:$T176)+1))","v":9},""]
[null,null,null,null,null,null,null,null,null,null,null,null,null,{"$f":"(IF(P178=\"\",\"\",MAX($N$3:$N177)+1))","v":175},244,"احمد175",null,null,null,{"$f":"IF(N178=\"\",\"\",IF(ISERROR(MATCH($N178,$J:$J,0)),T177,MAX($T$3:$T177)+1))","v":9},""]
[null,null,null,null,null,null,null,null,null,null,null,null,null,{"$f":"(IF(P179=\"\",\"\",MAX($N$3:$N178)+1))","v":176},245,"احمد176",null,null,null,{"$f":"IF(N179=\"\",\"\",IF(ISERROR(MATCH($N179,$J:$J,0)),T178,MAX($T$3:$T178)+1))","v":9},""]
[null,null,null,null,null,null,null,null,null,null,null,null,null,{"$f":"(IF(P180=\"\",\"\",MAX($N$3:$N179)+1))","v":177},246,"احمد177",null,null,null,{"$f":"IF(N180=\"\",\"\",IF(ISERROR(MATCH($N180,$J:$J,0)),T179,MAX($T$3:$T179)+1))","v":9},""]
[null,null,null,null,null,null,null,null,null,null,null,null,null,{"$f":"(IF(P181=\"\",\"\",MAX($N$3:$N180)+1))","v":178},247,"احمد178",null,null,null,{"$f":"IF(N181=\"\",\"\",IF(ISERROR(MATCH($N181,$J:$J,0)),T180,MAX($T$3:$T180)+1))","v":9},""]
[null,null,null,null,null,null,null,null,null,null,null,null,null,{"$f":"(IF(P182=\"\",\"\",MAX($N$3:$N181)+1))","v":179},248,"احمد179",null,null,null,{"$f":"IF(N182=\"\",\"\",IF(ISERROR(MATCH($N182,$J:$J,0)),T181,MAX($T$3:$T181)+1))","v":9},""]
[null,null,null,null,null,null,null,null,null,null,null,null,null,{"$f":"(IF(P183=\"\",\"\",MAX($N$3:$N182)+1))","v":180},249,"احمد180",null,null,null,{"$f":"IF(N183=\"\",\"\",IF(ISERROR(MATCH($N183,$J:$J,0)),T182,MAX($T$3:$T182)+1))","v":9},"نهاية اللجنة"]
[null,null,null,null,null,null,null,null,null,null,null,null,null,{"$f":"(IF(P184=\"\",\"\",MAX($N$3:$N183)+1))","v":181},250,"احمد181",null,null,null,{"$f":"IF(N184=\"\",\"\",IF(ISERROR(MATCH($N184,$J:$J,0)),T183,MAX($T$3:$T183)+1))","v":10},""]
[null,null,null,null,null,null,null,null,null,null,null,null,null,{"$f":"(IF(P185=\"\",\"\",MAX($N$3:$N184)+1))","v":182},251,"احمد182",null,null,null,{"$f":"IF(N185=\"\",\"\",IF(ISERROR(MATCH($N185,$J:$J,0)),T184,MAX($T$3:$T184)+1))","v":10},""]
[null,null,null,null,null,null,null,null,null,null,null,null,null,{"$f":"(IF(P186=\"\",\"\",MAX($N$3:$N185)+1))","v":183},252,"احمد183",null,null,null,{"$f":"IF(N186=\"\",\"\",IF(ISERROR(MATCH($N186,$J:$J,0)),T185,MAX($T$3:$T185)+1))","v":10},""]
[null,null,null,null,null,null,null,null,null,null,null,null,null,{"$f":"(IF(P187=\"\",\"\",MAX($N$3:$N186)+1))","v":184},253,"احمد184",null,null,null,{"$f":"IF(N187=\"\",\"\",IF(ISERROR(MATCH($N187,$J:$J,0)),T186,MAX($T$3:$T186)+1))","v":10},""]
[null,null,null,null,null,null,null,null,null,null,null,null,null,{"$f":"(IF(P188=\"\",\"\",MAX($N$3:$N187)+1))","v":185},254,"احمد185",null,null,null,{"$f":"IF(N188=\"\",\"\",IF(ISERROR(MATCH($N188,$J:$J,0)),T187,MAX($T$3:$T187)+1))","v":10},""]
[null,null,null,null,null,null,null,null,null,null,null,null,null,{"$f":"(IF(P189=\"\",\"\",MAX($N$3:$N188)+1))","v":186},255,"احمد186",null,null,null,{"$f":"IF(N189=\"\",\"\",IF(ISERROR(MATCH($N189,$J:$J,0)),T188,MAX($T$3:$T188)+1))","v":10},""]
[null,null,null,null,null,null,null,null,null,null,null,null,null,{"$f":"(IF(P190=\"\",\"\",MAX($N$3:$N189)+1))","v":187},256,"احمد187",null,null,null,{"$f":"IF(N190=\"\",\"\",IF(ISERROR(MATCH($N190,$J:$J,0)),T189,MAX($T$3:$T189)+1))","v":10},""]
[null,null,null,null,null,null,null,null,null,null,null,null,null,{"$f":"(IF(P191=\"\",\"\",MAX($N$3:$N190)+1))","v":188},257,"احمد188",null,null,null,{"$f":"IF(N191=\"\",\"\",IF(ISERROR(MATCH($N191,$J:$J,0)),T190,MAX($T$3:$T190)+1))","v":10},""]
[null,null,null,null,null,null,null,null,null,null,null,null,null,{"$f":"(IF(P192=\"\",\"\",MAX($N$3:$N191)+1))","v":189},258,"احمد189",null,null,null,{"$f":"IF(N192=\"\",\"\",IF(ISERROR(MATCH($N192,$J:$J,0)),T191,MAX($T$3:$T191)+1))","v":10},""]
[null,null,null,null,null,null,null,null,null,null,null,null,null,{"$f":"(IF(P193=\"\",\"\",MAX($N$3:$N192)+1))","v":190},259,"احمد190",null,null,null,{"$f":"IF(N193=\"\",\"\",IF(ISERROR(MATCH($N193,$J:$J,0)),T192,MAX($T$3:$T192)+1))","v":10},""]
[null,null,null,null,null,null,null,null,null,null,null,null,null,{"$f":"(IF(P194=\"\",\"\",MAX($N$3:$N193)+1))","v":191},260,"احمد191",null,null,null,{"$f":"IF(N194=\"\",\"\",IF(ISERROR(MATCH($N194,$J:$J,0)),T193,MAX($T$3:$T193)+1))","v":10},""]
[null,null,null,null,null,null,null,null,null,null,null,null,null,{"$f":"(IF(P195=\"\",\"\",MAX($N$3:$N194)+1))","v":192},261,"احمد192",null,null,null,{"$f":"IF(N195=\"\",\"\",IF(ISERROR(MATCH($N195,$J:$J,0)),T194,MAX($T$3:$T194)+1))","v":10},""]
[null,null,null,null,null,null,null,null,null,null,null,null,null,{"$f":"(IF(P196=\"\",\"\",MAX($N$3:$N195)+1))","v":193},262,"احمد193",null,null,null,{"$f":"IF(N196=\"\",\"\",IF(ISERROR(MATCH($N196,$J:$J,0)),T195,MAX($T$3:$T195)+1))","v":10},""]
[null,null,null,null,null,null,null,null,null,null,null,null,null,{"$f":"(IF(P197=\"\",\"\",MAX($N$3:$N196)+1))","v":194},263,"احمد194",null,null,null,{"$f":"IF(N197=\"\",\"\",IF(ISERROR(MATCH($N197,$J:$J,0)),T196,MAX($T$3:$T196)+1))","v":10},{"$f":"IF(T197=T198,\"\",\"نهاية اللجنة\")","v":""}]
[null,null,null,null,null,null,null,null,null,null,null,null,null,{"$f":"(IF(P198=\"\",\"\",MAX($N$3:$N197)+1))","v":195},{"$f":"IF(O197=\"\",\"\",IF(O197+1>$O$2,\"\",O197+1))","v":264},"احمد195",null,null,null,{"$f":"IF(N198=\"\",\"\",IF(ISERROR(MATCH($N198,$J:$J,0)),T197,MAX($T$3:$T197)+1))","v":10},""]
[null,null,null,null,null,null,null,null,null,null,null,null,null,{"$f":"(IF(P199=\"\",\"\",MAX($N$3:$N198)+1))","v":196},265,"احمد196",null,null,null,{"$f":"IF(N199=\"\",\"\",IF(ISERROR(MATCH($N199,$J:$J,0)),T198,MAX($T$3:$T198)+1))","v":10},""]
[null,null,null,null,null,null,null,null,null,null,null,null,null,{"$f":"(IF(P200=\"\",\"\",MAX($N$3:$N199)+1))","v":197},266,"احمد197",null,null,null,{"$f":"IF(N200=\"\",\"\",IF(ISERROR(MATCH($N200,$J:$J,0)),T199,MAX($T$3:$T199)+1))","v":10},""]
[null,null,null,null,null,null,null,null,null,null,null,null,null,{"$f":"(IF(P201=\"\",\"\",MAX($N$3:$N200)+1))","v":198},267,"احمد198",null,null,null,{"$f":"IF(N201=\"\",\"\",IF(ISERROR(MATCH($N201,$J:$J,0)),T200,MAX($T$3:$T200)+1))","v":10},""]
[null,null,null,null,null,null,null,null,null,null,null,null,null,{"$f":"(IF(P202=\"\",\"\",MAX($N$3:$N201)+1))","v":199},268,"احمد199",null,null,null,{"$f":"IF(N202=\"\",\"\",IF(ISERROR(MATCH($N202,$J:$J,0)),T201,MAX($T$3:$T201)+1))","v":10},""]
[null,null,null,null,null,null,null,null,null,null,null,null,null,{"$f":"(IF(P203=\"\",\"\",MAX($N$3:$N202)+1))","v":200},269,"احمد200",null,null,null,{"$f":"IF(N203=\"\",\"\",IF(ISERROR(MATCH($N203,$J:$J,0)),T202,MAX($T$3:$T202)+1))","v":10},"نهاية اللجنة"]
[null,null,null,null,null,null,null,null,null,null,null,null,null,{"$f":"(IF(P204=\"\",\"\",MAX($N$3:$N203)+1))","v":201},270,"احمد201",null,null,null,{"$f":"IF(N204=\"\",\"\",IF(ISERROR(MATCH($N204,$J:$J,0)),T203,MAX($T$3:$T203)+1))","v":11},""]
[null,null,null,null,null,null,null,null,null,null,null,null,null,{"$f":"(IF(P205=\"\",\"\",MAX($N$3:$N204)+1))","v":202},271,"احمد202",null,null,null,{"$f":"IF(N205=\"\",\"\",IF(ISERROR(MATCH($N205,$J:$J,0)),T204,MAX($T$3:$T204)+1))","v":11},""]
[null,null,null,null,null,null,null,null,null,null,null,null,null,{"$f":"(IF(P206=\"\",\"\",MAX($N$3:$N205)+1))","v":203},272,"احمد203",null,null,null,{"$f":"IF(N206=\"\",\"\",IF(ISERROR(MATCH($N206,$J:$J,0)),T205,MAX($T$3:$T205)+1))","v":11},""]
[null,null,null,null,null,null,null,null,null,null,null,null,null,{"$f":"(IF(P207=\"\",\"\",MAX($N$3:$N206)+1))","v":204},273,"احمد204",null,null,null,{"$f":"IF(N207=\"\",\"\",IF(ISERROR(MATCH($N207,$J:$J,0)),T206,MAX($T$3:$T206)+1))","v":11},""]
[null,null,null,null,null,null,null,null,null,null,null,null,null,{"$f":"(IF(P208=\"\",\"\",MAX($N$3:$N207)+1))","v":205},274,"احمد205",null,null,null,{"$f":"IF(N208=\"\",\"\",IF(ISERROR(MATCH($N208,$J:$J,0)),T207,MAX($T$3:$T207)+1))","v":11},""]
[null,null,null,null,null,null,null,null,null,null,null,null,null,{"$f":"(IF(P209=\"\",\"\",MAX($N$3:$N208)+1))","v":206},275,"احمد206",null,null,null,{"$f":"IF(N209=\"\",\"\",IF(ISERROR(MATCH($N209,$J:$J,0)),T208,MAX($T$3:$T208)+1))","v":11},""]
[null,null,null,null,null,null,null,null,null,null,null,null,null,{"$f":"(IF(P210=\"\",\"\",MAX($N$3:$N209)+1))","v":207},276,"احمد207",null,null,null,{"$f":"IF(N210=\"\",\"\",IF(ISERROR(MATCH($N210,$J:$J,0)),T209,MAX($T$3:$T209)+1))","v":11},""]
[null,null,null,null,null,null,null,null,null,null,null,null,null,{"$f":"(IF(P211=\"\",\"\",MAX($N$3:$N210)+1))","v":208},277,"احمد208",null,null,null,{"$f":"IF(N211=\"\",\"\",IF(ISERROR(MATCH($N211,$J:$J,0)),T210,MAX($T$3:$T210)+1))","v":11},""]
[null,null,null,null,null,null,null,null,null,null,null,null,null,{"$f":"(IF(P212=\"\",\"\",MAX($N$3:$N211)+1))","v":209},278,"احمد209",null,null,null,{"$f":"IF(N212=\"\",\"\",IF(ISERROR(MATCH($N212,$J:$J,0)),T211,MAX($T$3:$T211)+1))","v":11},""]
[null,null,null,null,null,null,null,null,null,null,null,null,null,{"$f":"(IF(P213=\"\",\"\",MAX($N$3:$N212)+1))","v":210},279,"احمد210",null,null,null,{"$f":"IF(N213=\"\",\"\",IF(ISERROR(MATCH($N213,$J:$J,0)),T212,MAX($T$3:$T212)+1))","v":11},""]
[null,null,null,null,null,null,null,null,null,null,null,null,null,{"$f":"(IF(P214=\"\",\"\",MAX($N$3:$N213)+1))","v":211},280,"احمد211",null,null,null,{"$f":"IF(N214=\"\",\"\",IF(ISERROR(MATCH($N214,$J:$J,0)),T213,MAX($T$3:$T213)+1))","v":11},""]
[null,null,null,null,null,null,null,null,null,null,null,null,null,{"$f":"(IF(P215=\"\",\"\",MAX($N$3:$N214)+1))","v":212},281,"احمد212",null,null,null,{"$f":"IF(N215=\"\",\"\",IF(ISERROR(MATCH($N215,$J:$J,0)),T214,MAX($T$3:$T214)+1))","v":11},""]
[null,null,null,null,null,null,null,null,null,null,null,null,null,{"$f":"(IF(P216=\"\",\"\",MAX($N$3:$N215)+1))","v":213},282,"احمد213",null,null,null,{"$f":"IF(N216=\"\",\"\",IF(ISERROR(MATCH($N216,$J:$J,0)),T215,MAX($T$3:$T215)+1))","v":11},""]
[null,null,null,null,null,null,null,null,null,null,null,null,null,{"$f":"(IF(P217=\"\",\"\",MAX($N$3:$N216)+1))","v":214},283,"احمد214",null,null,null,{"$f":"IF(N217=\"\",\"\",IF(ISERROR(MATCH($N217,$J:$J,0)),T216,MAX($T$3:$T216)+1))","v":11},""]
[null,null,null,null,null,null,null,null,null,null,null,null,null,{"$f":"(IF(P218=\"\",\"\",MAX($N$3:$N217)+1))","v":215},284,"احمد215",null,null,null,{"$f":"IF(N218=\"\",\"\",IF(ISERROR(MATCH($N218,$J:$J,0)),T217,MAX($T$3:$T217)+1))","v":11},""]
[null,null,null,null,null,null,null,null,null,null,null,null,null,{"$f":"(IF(P219=\"\",\"\",MAX($N$3:$N218)+1))","v":216},285,"احمد216",null,null,null,{"$f":"IF(N219=\"\",\"\",IF(ISERROR(MATCH($N219,$J:$J,0)),T218,MAX($T$3:$T218)+1))","v":11},""]
[null,null,null,null,null,null,null,null,null,null,null,null,null,{"$f":"(IF(P220=\"\",\"\",MAX($N$3:$N219)+1))","v":217},286,"احمد217",null,null,null,{"$f":"IF(N220=\"\",\"\",IF(ISERROR(MATCH($N220,$J:$J,0)),T219,MAX($T$3:$T219)+1))","v":11},""]
[null,null,null,null,null,null,null,null,null,null,null,null,null,{"$f":"(IF(P221=\"\",\"\",MAX($N$3:$N220)+1))","v":218},287,"احمد218",null,null,null,{"$f":"IF(N221=\"\",\"\",IF(ISERROR(MATCH($N221,$J:$J,0)),T220,MAX($T$3:$T220)+1))","v":11},""]
[null,null,null,null,null,null,null,null,null,null,null,null,null,{"$f":"(IF(P222=\"\",\"\",MAX($N$3:$N221)+1))","v":219},288,"احمد219",null,null,null,{"$f":"IF(N222=\"\",\"\",IF(ISERROR(MATCH($N222,$J:$J,0)),T221,MAX($T$3:$T221)+1))","v":11},""]
[null,null,null,null,null,null,null,null,null,null,null,null,null,{"$f":"(IF(P223=\"\",\"\",MAX($N$3:$N222)+1))","v":220},289,"احمد220",null,null,null,{"$f":"IF(N223=\"\",\"\",IF(ISERROR(MATCH($N223,$J:$J,0)),T222,MAX($T$3:$T222)+1))","v":11},"نهاية اللجنة"]
[null,null,null,null,null,null,null,null,null,null,null,null,null,{"$f":"(IF(P224=\"\",\"\",MAX($N$3:$N223)+1))","v":221},290,"احمد221",null,null,null,{"$f":"IF(N224=\"\",\"\",IF(ISERROR(MATCH($N224,$J:$J,0)),T223,MAX($T$3:$T223)+1))","v":12},""]
[null,null,null,null,null,null,null,null,null,null,null,null,null,{"$f":"(IF(P225=\"\",\"\",MAX($N$3:$N224)+1))","v":222},291,"احمد222",null,null,null,{"$f":"IF(N225=\"\",\"\",IF(ISERROR(MATCH($N225,$J:$J,0)),T224,MAX($T$3:$T224)+1))","v":12},""]
[null,null,null,null,null,null,null,null,null,null,null,null,null,{"$f":"(IF(P226=\"\",\"\",MAX($N$3:$N225)+1))","v":223},292,"احمد223",null,null,null,{"$f":"IF(N226=\"\",\"\",IF(ISERROR(MATCH($N226,$J:$J,0)),T225,MAX($T$3:$T225)+1))","v":12},""]
[null,null,null,null,null,null,null,null,null,null,null,null,null,{"$f":"(IF(P227=\"\",\"\",MAX($N$3:$N226)+1))","v":224},293,"احمد224",null,null,null,{"$f":"IF(N227=\"\",\"\",IF(ISERROR(MATCH($N227,$J:$J,0)),T226,MAX($T$3:$T226)+1))","v":12},""]
[null,null,null,null,null,null,null,null,null,null,null,null,null,{"$f":"(IF(P228=\"\",\"\",MAX($N$3:$N227)+1))","v":225},294,"احمد225",null,null,null,{"$f":"IF(N228=\"\",\"\",IF(ISERROR(MATCH($N228,$J:$J,0)),T227,MAX($T$3:$T227)+1))","v":12},""]
[null,null,null,null,null,null,null,null,null,null,null,null,null,{"$f":"(IF(P229=\"\",\"\",MAX($N$3:$N228)+1))","v":226},295,"احمد226",null,null,null,{"$f":"IF(N229=\"\",\"\",IF(ISERROR(MATCH($N229,$J:$J,0)),T228,MAX($T$3:$T228)+1))","v":12},""]
[null,null,null,null,null,null,null,null,null,null,null,null,null,{"$f":"(IF(P230=\"\",\"\",MAX($N$3:$N229)+1))","v":227},296,"احمد227",null,null,null,{"$f":"IF(N230=\"\",\"\",IF(ISERROR(MATCH($N230,$J:$J,0)),T229,MAX($T$3:$T229)+1))","v":12},""]
[null,null,null,null,null,null,null,null,null,null,null,null,null,{"$f":"(IF(P231=\"\",\"\",MAX($N$3:$N230)+1))","v":228},297,"احمد228",null,null,null,{"$f":"IF(N231=\"\",\"\",IF(ISERROR(MATCH($N231,$J:$J,0)),T230,MAX($T$3:$T230)+1))","v":12},""]
[null,null,null,null,null,null,null,null,null,null,null,null,null,{"$f":"(IF(P232=\"\",\"\",MAX($N$3:$N231)+1))","v":229},298,"احمد229",null,null,null,{"$f":"IF(N232=\"\",\"\",IF(ISERROR(MATCH($N232,$J:$J,0)),T231,MAX($T$3:$T231)+1))","v":12},""]
[null,null,null,null,null,null,null,null,null,null,null,null,null,{"$f":"(IF(P233=\"\",\"\",MAX($N$3:$N232)+1))","v":230},299,"احمد230",null,null,null,{"$f":"IF(N233=\"\",\"\",IF(ISERROR(MATCH($N233,$J:$J,0)),T232,MAX($T$3:$T232)+1))","v":12},""]
[null,null,null,null,null,null,null,null,null,null,null,null,null,{"$f":"(IF(P234=\"\",\"\",MAX($N$3:$N233)+1))","v":231},300,"احمد231",null,null,null,{"$f":"IF(N234=\"\",\"\",IF(ISERROR(MATCH($N234,$J:$J,0)),T233,MAX($T$3:$T233)+1))","v":12},""]
[null,null,null,null,null,null,null,null,null,null,null,null,null,{"$f":"(IF(P235=\"\",\"\",MAX($N$3:$N234)+1))","v":232},301,"احمد232",null,null,null,{"$f":"IF(N235=\"\",\"\",IF(ISERROR(MATCH($N235,$J:$J,0)),T234,MAX($T$3:$T234)+1))","v":12},""]
[null,null,null,null,null,null,null,null,null,null,null,null,null,{"$f":"(IF(P236=\"\",\"\",MAX($N$3:$N235)+1))","v":233},302,"احمد233",null,null,null,{"$f":"IF(N236=\"\",\"\",IF(ISERROR(MATCH($N236,$J:$J,0)),T235,MAX($T$3:$T235)+1))","v":12},""]
[null,null,null,null,null,null,null,null,null,null,null,null,null,{"$f":"(IF(P237=\"\",\"\",MAX($N$3:$N236)+1))","v":234},303,"احمد234",null,null,null,{"$f":"IF(N237=\"\",\"\",IF(ISERROR(MATCH($N237,$J:$J,0)),T236,MAX($T$3:$T236)+1))","v":12},""]
[null,null,null,null,null,null,null,null,null,null,null,null,null,{"$f":"(IF(P238=\"\",\"\",MAX($N$3:$N237)+1))","v":235},304,"احمد235",null,null,null,{"$f":"IF(N238=\"\",\"\",IF(ISERROR(MATCH($N238,$J:$J,0)),T237,MAX($T$3:$T237)+1))","v":12},""]
[null,null,null,null,null,null,null,null,null,null,null,null,null,{"$f":"(IF(P239=\"\",\"\",MAX($N$3:$N238)+1))","v":236},305,"احمد236",null,null,null,{"$f":"IF(N239=\"\",\"\",IF(ISERROR(MATCH($N239,$J:$J,0)),T238,MAX($T$3:$T238)+1))","v":12},""]
[null,null,null,null,null,null,null,null,null,null,null,null,null,{"$f":"(IF(P240=\"\",\"\",MAX($N$3:$N239)+1))","v":237},306,"احمد237",null,null,null,{"$f":"IF(N240=\"\",\"\",IF(ISERROR(MATCH($N240,$J:$J,0)),T239,MAX($T$3:$T239)+1))","v":12},""]
[null,null,null,null,null,null,null,null,null,null,null,null,null,{"$f":"(IF(P241=\"\",\"\",MAX($N$3:$N240)+1))","v":238},307,"احمد238",null,null,null,{"$f":"IF(N241=\"\",\"\",IF(ISERROR(MATCH($N241,$J:$J,0)),T240,MAX($T$3:$T240)+1))","v":12},""]
[null,null,null,null,null,null,null,null,null,null,null,null,null,{"$f":"(IF(P242=\"\",\"\",MAX($N$3:$N241)+1))","v":239},308,"احمد239",null,null,null,{"$f":"IF(N242=\"\",\"\",IF(ISERROR(MATCH($N242,$J:$J,0)),T241,MAX($T$3:$T241)+1))","v":12},""]
[null,null,null,null,null,null,null,null,null,null,null,null,null,{"$f":"(IF(P243=\"\",\"\",MAX($N$3:$N242)+1))","v":240},309,"احمد240",null,null,null,{"$f":"IF(N243=\"\",\"\",IF(ISERROR(MATCH($N243,$J:$J,0)),T242,MAX($T$3:$T242)+1))","v":12},"نهاية اللجنة"]
[null,null,null,null,null,null,null,null,null,null,null,null,null,{"$f":"(IF(P244=\"\",\"\",MAX($N$3:$N243)+1))","v":241},310,"احمد241",null,null,null,{"$f":"IF(N244=\"\",\"\",IF(ISERROR(MATCH($N244,$J:$J,0)),T243,MAX($T$3:$T243)+1))","v":13},""]
[null,null,null,null,null,null,null,null,null,null,null,null,null,{"$f":"(IF(P245=\"\",\"\",MAX($N$3:$N244)+1))","v":242},311,"احمد242",null,null,null,{"$f":"IF(N245=\"\",\"\",IF(ISERROR(MATCH($N245,$J:$J,0)),T244,MAX($T$3:$T244)+1))","v":13},""]
[null,null,null,null,null,null,null,null,null,null,null,null,null,{"$f":"(IF(P246=\"\",\"\",MAX($N$3:$N245)+1))","v":243},312,"احمد243",null,null,null,{"$f":"IF(N246=\"\",\"\",IF(ISERROR(MATCH($N246,$J:$J,0)),T245,MAX($T$3:$T245)+1))","v":13},""]
[null,null,null,null,null,null,null,null,null,null,null,null,null,{"$f":"(IF(P247=\"\",\"\",MAX($N$3:$N246)+1))","v":244},313,"احمد244",null,null,null,{"$f":"IF(N247=\"\",\"\",IF(ISERROR(MATCH($N247,$J:$J,0)),T246,MAX($T$3:$T246)+1))","v":13},""]
[null,null,null,null,null,null,null,null,null,null,null,null,null,{"$f":"(IF(P248=\"\",\"\",MAX($N$3:$N247)+1))","v":245},314,"احمد245",null,null,null,{"$f":"IF(N248=\"\",\"\",IF(ISERROR(MATCH($N248,$J:$J,0)),T247,MAX($T$3:$T247)+1))","v":13},""]
[null,null,null,null,null,null,null,null,null,null,null,null,null,{"$f":"(IF(P249=\"\",\"\",MAX($N$3:$N248)+1))","v":246},315,"احمد246",null,null,null,{"$f":"IF(N249=\"\",\"\",IF(ISERROR(MATCH($N249,$J:$J,0)),T248,MAX($T$3:$T248)+1))","v":13},""]
[null,null,null,null,null,null,null,null,null,null,null,null,null,{"$f":"(IF(P250=\"\",\"\",MAX($N$3:$N249)+1))","v":247},316,"احمد247",null,null,null,{"$f":"IF(N250=\"\",\"\",IF(ISERROR(MATCH($N250,$J:$J,0)),T249,MAX($T$3:$T249)+1))","v":13},""]
[null,null,null,null,null,null,null,null,null,null,null,null,null,{"$f":"(IF(P251=\"\",\"\",MAX($N$3:$N250)+1))","v":248},317,"احمد248",null,null,null,{"$f":"IF(N251=\"\",\"\",IF(ISERROR(MATCH($N251,$J:$J,0)),T250,MAX($T$3:$T250)+1))","v":13},""]
[null,null,null,null,null,null,null,null,null,null,null,null,null,{"$f":"(IF(P252=\"\",\"\",MAX($N$3:$N251)+1))","v":249},318,"احمد249",null,null,null,{"$f":"IF(N252=\"\",\"\",IF(ISERROR(MATCH($N252,$J:$J,0)),T251,MAX($T$3:$T251)+1))","v":13},""]
[null,null,null,null,null,null,null,null,null,null,null,null,null,{"$f":"(IF(P253=\"\",\"\",MAX($N$3:$N252)+1))","v":250},319,"احمد250",null,null,null,{"$f":"IF(N253=\"\",\"\",IF(ISERROR(MATCH($N253,$J:$J,0)),T252,MAX($T$3:$T252)+1))","v":13},""]
[null,null,null,null,null,null,null,null,null,null,null,null,null,{"$f":"(IF(P254=\"\",\"\",MAX($N$3:$N253)+1))","v":251},320,"احمد251",null,null,null,{"$f":"IF(N254=\"\",\"\",IF(ISERROR(MATCH($N254,$J:$J,0)),T253,MAX($T$3:$T253)+1))","v":13},""]
[null,null,null,null,null,null,null,null,null,null,null,null,null,{"$f":"(IF(P255=\"\",\"\",MAX($N$3:$N254)+1))","v":252},321,"احمد252",null,null,null,{"$f":"IF(N255=\"\",\"\",IF(ISERROR(MATCH($N255,$J:$J,0)),T254,MAX($T$3:$T254)+1))","v":13},""]
[null,null,null,null,null,null,null,null,null,null,null,null,null,{"$f":"(IF(P256=\"\",\"\",MAX($N$3:$N255)+1))","v":253},322,"احمد253",null,null,null,{"$f":"IF(N256=\"\",\"\",IF(ISERROR(MATCH($N256,$J:$J,0)),T255,MAX($T$3:$T255)+1))","v":13},""]
[null,null,null,null,null,null,null,null,null,null,null,null,null,{"$f":"(IF(P257=\"\",\"\",MAX($N$3:$N256)+1))","v":254},323,"احمد254",null,null,null,{"$f":"IF(N257=\"\",\"\",IF(ISERROR(MATCH($N257,$J:$J,0)),T256,MAX($T$3:$T256)+1))","v":13},""]
[null,null,null,null,null,null,null,null,null,null,null,null,null,{"$f":"(IF(P258=\"\",\"\",MAX($N$3:$N257)+1))","v":255},324,"احمد255",null,null,null,{"$f":"IF(N258=\"\",\"\",IF(ISERROR(MATCH($N258,$J:$J,0)),T257,MAX($T$3:$T257)+1))","v":13},""]
[null,null,null,null,null,null,null,null,null,null,null,null,null,{"$f":"(IF(P259=\"\",\"\",MAX($N$3:$N258)+1))","v":256},325,"احمد256",null,null,null,{"$f":"IF(N259=\"\",\"\",IF(ISERROR(MATCH($N259,$J:$J,0)),T258,MAX($T$3:$T258)+1))","v":13},""]
[null,null,null,null,null,null,null,null,null,null,null,null,null,{"$f":"(IF(P260=\"\",\"\",MAX($N$3:$N259)+1))","v":257},326,"احمد257",null,null,null,{"$f":"IF(N260=\"\",\"\",IF(ISERROR(MATCH($N260,$J:$J,0)),T259,MAX($T$3:$T259)+1))","v":13},""]
[null,null,null,null,null,null,null,null,null,null,null,null,null,{"$f":"(IF(P261=\"\",\"\",MAX($N$3:$N260)+1))","v":258},327,"احمد258",null,null,null,{"$f":"IF(N261=\"\",\"\",IF(ISERROR(MATCH($N261,$J:$J,0)),T260,MAX($T$3:$T260)+1))","v":13},{"$f":"IF(T261=T262,\"\",\"نهاية اللجنة\")","v":""}]
[null,null,null,null,null,null,null,null,null,null,null,null,null,{"$f":"(IF(P262=\"\",\"\",MAX($N$3:$N261)+1))","v":259},{"$f":"IF(O261=\"\",\"\",IF(O261+1>$O$2,\"\",O261+1))","v":328},"احمد259",null,null,null,{"$f":"IF(N262=\"\",\"\",IF(ISERROR(MATCH($N262,$J:$J,0)),T261,MAX($T$3:$T261)+1))","v":13},""]
[null,null,null,null,null,null,null,null,null,null,null,null,null,{"$f":"(IF(P263=\"\",\"\",MAX($N$3:$N262)+1))","v":260},329,"احمد260",null,null,null,{"$f":"IF(N263=\"\",\"\",IF(ISERROR(MATCH($N263,$J:$J,0)),T262,MAX($T$3:$T262)+1))","v":13},"نهاية اللجنة"]
[null,null,null,null,null,null,null,null,null,null,null,null,null,{"$f":"(IF(P264=\"\",\"\",MAX($N$3:$N263)+1))","v":261},330,"احمد261",null,null,null,{"$f":"IF(N264=\"\",\"\",IF(ISERROR(MATCH($N264,$J:$J,0)),T263,MAX($T$3:$T263)+1))","v":14},""]
[null,null,null,null,null,null,null,null,null,null,null,null,null,{"$f":"(IF(P265=\"\",\"\",MAX($N$3:$N264)+1))","v":262},331,"احمد262",null,null,null,{"$f":"IF(N265=\"\",\"\",IF(ISERROR(MATCH($N265,$J:$J,0)),T264,MAX($T$3:$T264)+1))","v":14},""]
[null,null,null,null,null,null,null,null,null,null,null,null,null,{"$f":"(IF(P266=\"\",\"\",MAX($N$3:$N265)+1))","v":263},332,"احمد263",null,null,null,{"$f":"IF(N266=\"\",\"\",IF(ISERROR(MATCH($N266,$J:$J,0)),T265,MAX($T$3:$T265)+1))","v":14},""]
[null,null,null,null,null,null,null,null,null,null,null,null,null,{"$f":"(IF(P267=\"\",\"\",MAX($N$3:$N266)+1))","v":264},333,"احمد264",null,null,null,{"$f":"IF(N267=\"\",\"\",IF(ISERROR(MATCH($N267,$J:$J,0)),T266,MAX($T$3:$T266)+1))","v":14},""]
[null,null,null,null,null,null,null,null,null,null,null,null,null,{"$f":"(IF(P268=\"\",\"\",MAX($N$3:$N267)+1))","v":265},334,"احمد265",null,null,null,{"$f":"IF(N268=\"\",\"\",IF(ISERROR(MATCH($N268,$J:$J,0)),T267,MAX($T$3:$T267)+1))","v":14},""]
[null,null,null,null,null,null,null,null,null,null,null,null,null,{"$f":"(IF(P269=\"\",\"\",MAX($N$3:$N268)+1))","v":266},335,"احمد266",null,null,null,{"$f":"IF(N269=\"\",\"\",IF(ISERROR(MATCH($N269,$J:$J,0)),T268,MAX($T$3:$T268)+1))","v":14},""]
[null,null,null,null,null,null,null,null,null,null,null,null,null,{"$f":"(IF(P270=\"\",\"\",MAX($N$3:$N269)+1))","v":267},336,"احمد267",null,null,null,{"$f":"IF(N270=\"\",\"\",IF(ISERROR(MATCH($N270,$J:$J,0)),T269,MAX($T$3:$T269)+1))","v":14},""]
[null,null,null,null,null,null,null,null,null,null,null,null,null,{"$f":"(IF(P271=\"\",\"\",MAX($N$3:$N270)+1))","v":268},337,"احمد268",null,null,null,{"$f":"IF(N271=\"\",\"\",IF(ISERROR(MATCH($N271,$J:$J,0)),T270,MAX($T$3:$T270)+1))","v":14},""]
[null,null,null,null,null,null,null,null,null,null,null,null,null,{"$f":"(IF(P272=\"\",\"\",MAX($N$3:$N271)+1))","v":269},338,"احمد269",null,null,null,{"$f":"IF(N272=\"\",\"\",IF(ISERROR(MATCH($N272,$J:$J,0)),T271,MAX($T$3:$T271)+1))","v":14},""]
[null,null,null,null,null,null,null,null,null,null,null,null,null,{"$f":"(IF(P273=\"\",\"\",MAX($N$3:$N272)+1))","v":270},339,"احمد270",null,null,null,{"$f":"IF(N273=\"\",\"\",IF(ISERROR(MATCH($N273,$J:$J,0)),T272,MAX($T$3:$T272)+1))","v":14},""]
[null,null,null,null,null,null,null,null,null,null,null,null,null,{"$f":"(IF(P274=\"\",\"\",MAX($N$3:$N273)+1))","v":271},340,"احمد271",null,null,null,{"$f":"IF(N274=\"\",\"\",IF(ISERROR(MATCH($N274,$J:$J,0)),T273,MAX($T$3:$T273)+1))","v":14},""]
[null,null,null,null,null,null,null,null,null,null,null,null,null,{"$f":"(IF(P275=\"\",\"\",MAX($N$3:$N274)+1))","v":272},341,"احمد272",null,null,null,{"$f":"IF(N275=\"\",\"\",IF(ISERROR(MATCH($N275,$J:$J,0)),T274,MAX($T$3:$T274)+1))","v":14},""]
[null,null,null,null,null,null,null,null,null,null,null,null,null,{"$f":"(IF(P276=\"\",\"\",MAX($N$3:$N275)+1))","v":273},342,"احمد273",null,null,null,{"$f":"IF(N276=\"\",\"\",IF(ISERROR(MATCH($N276,$J:$J,0)),T275,MAX($T$3:$T275)+1))","v":14},""]
[null,null,null,null,null,null,null,null,null,null,null,null,null,{"$f":"(IF(P277=\"\",\"\",MAX($N$3:$N276)+1))","v":274},343,"احمد274",null,null,null,{"$f":"IF(N277=\"\",\"\",IF(ISERROR(MATCH($N277,$J:$J,0)),T276,MAX($T$3:$T276)+1))","v":14},""]
[null,null,null,null,null,null,null,null,null,null,null,null,null,{"$f":"(IF(P278=\"\",\"\",MAX($N$3:$N277)+1))","v":275},344,"احمد275",null,null,null,{"$f":"IF(N278=\"\",\"\",IF(ISERROR(MATCH($N278,$J:$J,0)),T277,MAX($T$3:$T277)+1))","v":14},""]
[null,null,null,null,null,null,null,null,null,null,null,null,null,{"$f":"(IF(P279=\"\",\"\",MAX($N$3:$N278)+1))","v":276},345,"احمد276",null,null,null,{"$f":"IF(N279=\"\",\"\",IF(ISERROR(MATCH($N279,$J:$J,0)),T278,MAX($T$3:$T278)+1))","v":14},""]
[null,null,null,null,null,null,null,null,null,null,null,null,null,{"$f":"(IF(P280=\"\",\"\",MAX($N$3:$N279)+1))","v":277},346,"احمد277",null,null,null,{"$f":"IF(N280=\"\",\"\",IF(ISERROR(MATCH($N280,$J:$J,0)),T279,MAX($T$3:$T279)+1))","v":14},""]
[null,null,null,null,null,null,null,null,null,null,null,null,null,{"$f":"(IF(P281=\"\",\"\",MAX($N$3:$N280)+1))","v":278},347,"احمد278",null,null,null,{"$f":"IF(N281=\"\",\"\",IF(ISERROR(MATCH($N281,$J:$J,0)),T280,MAX($T$3:$T280)+1))","v":14},""]
[null,null,null,null,null,null,null,null,null,null,null,null,null,{"$f":"(IF(P282=\"\",\"\",MAX($N$3:$N281)+1))","v":279},348,"احمد279",null,null,null,{"$f":"IF(N282=\"\",\"\",IF(ISERROR(MATCH($N282,$J:$J,0)),T281,MAX($T$3:$T281)+1))","v":14},""]
[null,null,null,null,null,null,null,null,null,null,null,null,null,{"$f":"(IF(P283=\"\",\"\",MAX($N$3:$N282)+1))","v":280},349,"احمد280",null,null,null,{"$f":"IF(N283=\"\",\"\",IF(ISERROR(MATCH($N283,$J:$J,0)),T282,MAX($T$3:$T282)+1))","v":14},"نهاية اللجنة"]
[null,null,null,null,null,null,null,null,null,null,null,null,null,{"$f":"(IF(P284=\"\",\"\",MAX($N$3:$N283)+1))","v":281},350,"احمد281",null,null,null,{"$f":"IF(N284=\"\",\"\",IF(ISERROR(MATCH($N284,$J:$J,0)),T283,MAX($T$3:$T283)+1))","v":15},""]
[null,null,null,null,null,null,null,null,null,null,null,null,null,{"$f":"(IF(P285=\"\",\"\",MAX($N$3:$N284)+1))","v":282},351,"احمد282",null,null,null,{"$f":"IF(N285=\"\",\"\",IF(ISERROR(MATCH($N285,$J:$J,0)),T284,MAX($T$3:$T284)+1))","v":15},""]
[null,null,null,null,null,null,null,null,null,null,null,null,null,{"$f":"(IF(P286=\"\",\"\",MAX($N$3:$N285)+1))","v":283},352,"احمد283",null,null,null,{"$f":"IF(N286=\"\",\"\",IF(ISERROR(MATCH($N286,$J:$J,0)),T285,MAX($T$3:$T285)+1))","v":15},""]
[null,null,null,null,null,null,null,null,null,null,null,null,null,{"$f":"(IF(P287=\"\",\"\",MAX($N$3:$N286)+1))","v":284},353,"احمد284",null,null,null,{"$f":"IF(N287=\"\",\"\",IF(ISERROR(MATCH($N287,$J:$J,0)),T286,MAX($T$3:$T286)+1))","v":15},""]
[null,null,null,null,null,null,null,null,null,null,null,null,null,{"$f":"(IF(P288=\"\",\"\",MAX($N$3:$N287)+1))","v":285},354,"احمد285",null,null,null,{"$f":"IF(N288=\"\",\"\",IF(ISERROR(MATCH($N288,$J:$J,0)),T287,MAX($T$3:$T287)+1))","v":15},""]
[null,null,null,null,null,null,null,null,null,null,null,null,null,{"$f":"(IF(P289=\"\",\"\",MAX($N$3:$N288)+1))","v":286},355,"احمد286",null,null,null,{"$f":"IF(N289=\"\",\"\",IF(ISERROR(MATCH($N289,$J:$J,0)),T288,MAX($T$3:$T288)+1))","v":15},""]
[null,null,null,null,null,null,null,null,null,null,null,null,null,{"$f":"(IF(P290=\"\",\"\",MAX($N$3:$N289)+1))","v":287},356,"احمد287",null,null,null,{"$f":"IF(N290=\"\",\"\",IF(ISERROR(MATCH($N290,$J:$J,0)),T289,MAX($T$3:$T289)+1))","v":15},""]
[null,null,null,null,null,null,null,null,null,null,null,null,null,{"$f":"(IF(P291=\"\",\"\",MAX($N$3:$N290)+1))","v":288},357,"احمد288",null,null,null,{"$f":"IF(N291=\"\",\"\",IF(ISERROR(MATCH($N291,$J:$J,0)),T290,MAX($T$3:$T290)+1))","v":15},""]
[null,null,null,null,null,null,null,null,null,null,null,null,null,{"$f":"(IF(P292=\"\",\"\",MAX($N$3:$N291)+1))","v":289},358,"احمد289",null,null,null,{"$f":"IF(N292=\"\",\"\",IF(ISERROR(MATCH($N292,$J:$J,0)),T291,MAX($T$3:$T291)+1))","v":15},""]
[null,null,null,null,null,null,null,null,null,null,null,null,null,{"$f":"(IF(P293=\"\",\"\",MAX($N$3:$N292)+1))","v":290},359,"احمد290",null,null,null,{"$f":"IF(N293=\"\",\"\",IF(ISERROR(MATCH($N293,$J:$J,0)),T292,MAX($T$3:$T292)+1))","v":15},""]
[null,null,null,null,null,null,null,null,null,null,null,null,null,{"$f":"(IF(P294=\"\",\"\",MAX($N$3:$N293)+1))","v":291},360,"احمد291",null,null,null,{"$f":"IF(N294=\"\",\"\",IF(ISERROR(MATCH($N294,$J:$J,0)),T293,MAX($T$3:$T293)+1))","v":15},""]
[null,null,null,null,null,null,null,null,null,null,null,null,null,{"$f":"(IF(P295=\"\",\"\",MAX($N$3:$N294)+1))","v":292},361,"احمد292",null,null,null,{"$f":"IF(N295=\"\",\"\",IF(ISERROR(MATCH($N295,$J:$J,0)),T294,MAX($T$3:$T294)+1))","v":15},""]
[null,null,null,null,null,null,null,null,null,null,null,null,null,{"$f":"(IF(P296=\"\",\"\",MAX($N$3:$N295)+1))","v":293},362,"احمد293",null,null,null,{"$f":"IF(N296=\"\",\"\",IF(ISERROR(MATCH($N296,$J:$J,0)),T295,MAX($T$3:$T295)+1))","v":15},""]
[null,null,null,null,null,null,null,null,null,null,null,null,null,{"$f":"(IF(P297=\"\",\"\",MAX($N$3:$N296)+1))","v":294},363,"احمد294",null,null,null,{"$f":"IF(N297=\"\",\"\",IF(ISERROR(MATCH($N297,$J:$J,0)),T296,MAX($T$3:$T296)+1))","v":15},""]
[null,null,null,null,null,null,null,null,null,null,null,null,null,{"$f":"(IF(P298=\"\",\"\",MAX($N$3:$N297)+1))","v":295},364,"احمد295",null,null,null,{"$f":"IF(N298=\"\",\"\",IF(ISERROR(MATCH($N298,$J:$J,0)),T297,MAX($T$3:$T297)+1))","v":15},""]
[null,null,null,null,null,null,null,null,null,null,null,null,null,{"$f":"(IF(P299=\"\",\"\",MAX($N$3:$N298)+1))","v":296},365,"احمد296",null,null,null,{"$f":"IF(N299=\"\",\"\",IF(ISERROR(MATCH($N299,$J:$J,0)),T298,MAX($T$3:$T298)+1))","v":15},""]
[null,null,null,null,null,null,null,null,null,null,null,null,null,{"$f":"(IF(P300=\"\",\"\",MAX($N$3:$N299)+1))","v":297},366,"احمد297",null,null,null,{"$f":"IF(N300=\"\",\"\",IF(ISERROR(MATCH($N300,$J:$J,0)),T299,MAX($T$3:$T299)+1))","v":15},""]
[null,null,null,null,null,null,null,null,null,null,null,null,null,{"$f":"(IF(P301=\"\",\"\",MAX($N$3:$N300)+1))","v":298},367,"احمد298",null,null,null,{"$f":"IF(N301=\"\",\"\",IF(ISERROR(MATCH($N301,$J:$J,0)),T300,MAX($T$3:$T300)+1))","v":15},""]
[null,null,null,null,null,null,null,null,null,null,null,null,null,{"$f":"(IF(P302=\"\",\"\",MAX($N$3:$N301)+1))","v":299},368,"احمد299",null,null,null,{"$f":"IF(N302=\"\",\"\",IF(ISERROR(MATCH($N302,$J:$J,0)),T301,MAX($T$3:$T301)+1))","v":15},""]
[null,null,null,null,null,null,null,null,null,null,null,null,null,{"$f":"(IF(P303=\"\",\"\",MAX($N$3:$N302)+1))","v":300},369,"احمد300",null,null,null,{"$f":"IF(N303=\"\",\"\",IF(ISERROR(MATCH($N303,$J:$J,0)),T302,MAX($T$3:$T302)+1))","v":15},"نهاية اللجنة"]
[null,null,null,null,null,null,null,null,null,null,null,null,null,{"$f":"(IF(P304=\"\",\"\",MAX($N$3:$N303)+1))","v":301},370,"احمد301",null,null,null,{"$f":"IF(N304=\"\",\"\",IF(ISERROR(MATCH($N304,$J:$J,0)),T303,MAX($T$3:$T303)+1))","v":16},""]
[null,null,null,null,null,null,null,null,null,null,null,null,null,{"$f":"(IF(P305=\"\",\"\",MAX($N$3:$N304)+1))","v":302},371,"احمد302",null,null,null,{"$f":"IF(N305=\"\",\"\",IF(ISERROR(MATCH($N305,$J:$J,0)),T304,MAX($T$3:$T304)+1))","v":16},""]
[null,null,null,null,null,null,null,null,null,null,null,null,null,{"$f":"(IF(P306=\"\",\"\",MAX($N$3:$N305)+1))","v":303},372,"احمد303",null,null,null,{"$f":"IF(N306=\"\",\"\",IF(ISERROR(MATCH($N306,$J:$J,0)),T305,MAX($T$3:$T305)+1))","v":16},""]
[null,null,null,null,null,null,null,null,null,null,null,null,null,{"$f":"(IF(P307=\"\",\"\",MAX($N$3:$N306)+1))","v":304},373,"احمد304",null,null,null,{"$f":"IF(N307=\"\",\"\",IF(ISERROR(MATCH($N307,$J:$J,0)),T306,MAX($T$3:$T306)+1))","v":16},""]
[null,null,null,null,null,null,null,null,null,null,null,null,null,{"$f":"(IF(P308=\"\",\"\",MAX($N$3:$N307)+1))","v":305},374,"احمد305",null,null,null,{"$f":"IF(N308=\"\",\"\",IF(ISERROR(MATCH($N308,$J:$J,0)),T307,MAX($T$3:$T307)+1))","v":16},""]
[null,null,null,null,null,null,null,null,null,null,null,null,null,{"$f":"(IF(P309=\"\",\"\",MAX($N$3:$N308)+1))","v":306},375,"احمد306",null,null,null,{"$f":"IF(N309=\"\",\"\",IF(ISERROR(MATCH($N309,$J:$J,0)),T308,MAX($T$3:$T308)+1))","v":16},""]
[null,null,null,null,null,null,null,null,null,null,null,null,null,{"$f":"(IF(P310=\"\",\"\",MAX($N$3:$N309)+1))","v":307},376,"احمد307",null,null,null,{"$f":"IF(N310=\"\",\"\",IF(ISERROR(MATCH($N310,$J:$J,0)),T309,MAX($T$3:$T309)+1))","v":16},""]
[null,null,null,null,null,null,null,null,null,null,null,null,null,{"$f":"(IF(P311=\"\",\"\",MAX($N$3:$N310)+1))","v":308},377,"احمد308",null,null,null,{"$f":"IF(N311=\"\",\"\",IF(ISERROR(MATCH($N311,$J:$J,0)),T310,MAX($T$3:$T310)+1))","v":16},""]
[null,null,null,null,null,null,null,null,null,null,null,null,null,{"$f":"(IF(P312=\"\",\"\",MAX($N$3:$N311)+1))","v":309},378,"احمد309",null,null,null,{"$f":"IF(N312=\"\",\"\",IF(ISERROR(MATCH($N312,$J:$J,0)),T311,MAX($T$3:$T311)+1))","v":16},""]
[null,null,null,null,null,null,null,null,null,null,null,null,null,{"$f":"(IF(P313=\"\",\"\",MAX($N$3:$N312)+1))","v":310},379,"احمد310",null,null,null,{"$f":"IF(N313=\"\",\"\",IF(ISERROR(MATCH($N313,$J:$J,0)),T312,MAX($T$3:$T312)+1))","v":16},""]
[null,null,null,null,null,null,null,null,null,null,null,null,null,{"$f":"(IF(P314=\"\",\"\",MAX($N$3:$N313)+1))","v":311},380,"احمد311",null,null,null,{"$f":"IF(N314=\"\",\"\",IF(ISERROR(MATCH($N314,$J:$J,0)),T313,MAX($T$3:$T313)+1))","v":16},""]
[null,null,null,null,null,null,null,null,null,null,null,null,null,{"$f":"(IF(P315=\"\",\"\",MAX($N$3:$N314)+1))","v":312},381,"احمد312",null,null,null,{"$f":"IF(N315=\"\",\"\",IF(ISERROR(MATCH($N315,$J:$J,0)),T314,MAX($T$3:$T314)+1))","v":16},""]
[null,null,null,null,null,null,null,null,null,null,null,null,null,{"$f":"(IF(P316=\"\",\"\",MAX($N$3:$N315)+1))","v":313},382,"احمد313",null,null,null,{"$f":"IF(N316=\"\",\"\",IF(ISERROR(MATCH($N316,$J:$J,0)),T315,MAX($T$3:$T315)+1))","v":16},""]
[null,null,null,null,null,null,null,null,null,null,null,null,null,{"$f":"(IF(P317=\"\",\"\",MAX($N$3:$N316)+1))","v":314},383,"احمد314",null,null,null,{"$f":"IF(N317=\"\",\"\",IF(ISERROR(MATCH($N317,$J:$J,0)),T316,MAX($T$3:$T316)+1))","v":16},""]
[null,null,null,null,null,null,null,null,null,null,null,null,null,{"$f":"(IF(P318=\"\",\"\",MAX($N$3:$N317)+1))","v":315},384,"احمد315",null,null,null,{"$f":"IF(N318=\"\",\"\",IF(ISERROR(MATCH($N318,$J:$J,0)),T317,MAX($T$3:$T317)+1))","v":16},""]
[null,null,null,null,null,null,null,null,null,null,null,null,null,{"$f":"(IF(P319=\"\",\"\",MAX($N$3:$N318)+1))","v":316},385,"احمد316",null,null,null,{"$f":"IF(N319=\"\",\"\",IF(ISERROR(MATCH($N319,$J:$J,0)),T318,MAX($T$3:$T318)+1))","v":16},""]
[null,null,null,null,null,null,null,null,null,null,null,null,null,{"$f":"(IF(P320=\"\",\"\",MAX($N$3:$N319)+1))","v":317},386,"احمد317",null,null,null,{"$f":"IF(N320=\"\",\"\",IF(ISERROR(MATCH($N320,$J:$J,0)),T319,MAX($T$3:$T319)+1))","v":16},""]
[null,null,null,null,null,null,null,null,null,null,null,null,null,{"$f":"(IF(P321=\"\",\"\",MAX($N$3:$N320)+1))","v":318},387,"احمد318",null,null,null,{"$f":"IF(N321=\"\",\"\",IF(ISERROR(MATCH($N321,$J:$J,0)),T320,MAX($T$3:$T320)+1))","v":16},""]
[null,null,null,null,null,null,null,null,null,null,null,null,null,{"$f":"(IF(P322=\"\",\"\",MAX($N$3:$N321)+1))","v":319},388,"احمد319",null,null,null,{"$f":"IF(N322=\"\",\"\",IF(ISERROR(MATCH($N322,$J:$J,0)),T321,MAX($T$3:$T321)+1))","v":16},""]
[null,null,null,null,null,null,null,null,null,null,null,null,null,{"$f":"(IF(P323=\"\",\"\",MAX($N$3:$N322)+1))","v":320},389,"احمد320",null,null,null,{"$f":"IF(N323=\"\",\"\",IF(ISERROR(MATCH($N323,$J:$J,0)),T322,MAX($T$3:$T322)+1))","v":16},"نهاية اللجنة"]
[null,null,null,null,null,null,null,null,null,null,null,null,null,{"$f":"(IF(P324=\"\",\"\",MAX($N$3:$N323)+1))","v":321},390,"احمد321",null,null,null,{"$f":"IF(N324=\"\",\"\",IF(ISERROR(MATCH($N324,$J:$J,0)),T323,MAX($T$3:$T323)+1))","v":17},""]
[null,null,null,null,null,null,null,null,null,null,null,null,null,{"$f":"(IF(P325=\"\",\"\",MAX($N$3:$N324)+1))","v":322},391,"احمد322",null,null,null,{"$f":"IF(N325=\"\",\"\",IF(ISERROR(MATCH($N325,$J:$J,0)),T324,MAX($T$3:$T324)+1))","v":17},{"$f":"IF(T325=T326,\"\",\"نهاية اللجنة\")","v":""}]
[null,null,null,null,null,null,null,null,null,null,null,null,null,{"$f":"(IF(P326=\"\",\"\",MAX($N$3:$N325)+1))","v":323},{"$f":"IF(O325=\"\",\"\",IF(O325+1>$O$2,\"\",O325+1))","v":392},"احمد323",null,null,null,{"$f":"IF(N326=\"\",\"\",IF(ISERROR(MATCH($N326,$J:$J,0)),T325,MAX($T$3:$T325)+1))","v":17},""]
[null,null,null,null,null,null,null,null,null,null,null,null,null,{"$f":"(IF(P327=\"\",\"\",MAX($N$3:$N326)+1))","v":324},393,"احمد324",null,null,null,{"$f":"IF(N327=\"\",\"\",IF(ISERROR(MATCH($N327,$J:$J,0)),T326,MAX($T$3:$T326)+1))","v":17},""]
[null,null,null,null,null,null,null,null,null,null,null,null,null,{"$f":"(IF(P328=\"\",\"\",MAX($N$3:$N327)+1))","v":325},394,"احمد325",null,null,null,{"$f":"IF(N328=\"\",\"\",IF(ISERROR(MATCH($N328,$J:$J,0)),T327,MAX($T$3:$T327)+1))","v":17},""]
[null,null,null,null,null,null,null,null,null,null,null,null,null,{"$f":"(IF(P329=\"\",\"\",MAX($N$3:$N328)+1))","v":326},395,"احمد326",null,null,null,{"$f":"IF(N329=\"\",\"\",IF(ISERROR(MATCH($N329,$J:$J,0)),T328,MAX($T$3:$T328)+1))","v":17},""]
[null,null,null,null,null,null,null,null,null,null,null,null,null,{"$f":"(IF(P330=\"\",\"\",MAX($N$3:$N329)+1))","v":327},396,"احمد327",null,null,null,{"$f":"IF(N330=\"\",\"\",IF(ISERROR(MATCH($N330,$J:$J,0)),T329,MAX($T$3:$T329)+1))","v":17},""]
[null,null,null,null,null,null,null,null,null,null,null,null,null,{"$f":"(IF(P331=\"\",\"\",MAX($N$3:$N330)+1))","v":328},397,"احمد328",null,null,null,{"$f":"IF(N331=\"\",\"\",IF(ISERROR(MATCH($N331,$J:$J,0)),T330,MAX($T$3:$T330)+1))","v":17},""]
[null,null,null,null,null,null,null,null,null,null,null,null,null,{"$f":"(IF(P332=\"\",\"\",MAX($N$3:$N331)+1))","v":329},398,"احمد329",null,null,null,{"$f":"IF(N332=\"\",\"\",IF(ISERROR(MATCH($N332,$J:$J,0)),T331,MAX($T$3:$T331)+1))","v":17},""]
[null,null,null,null,null,null,null,null,null,null,null,null,null,{"$f":"(IF(P333=\"\",\"\",MAX($N$3:$N332)+1))","v":330},399,"احمد330",null,null,null,{"$f":"IF(N333=\"\",\"\",IF(ISERROR(MATCH($N333,$J:$J,0)),T332,MAX($T$3:$T332)+1))","v":17},""]
[null,null,null,null,null,null,null,null,null,null,null,null,null,{"$f":"(IF(P334=\"\",\"\",MAX($N$3:$N333)+1))","v":331},400,"احمد331",null,null,null,{"$f":"IF(N334=\"\",\"\",IF(ISERROR(MATCH($N334,$J:$J,0)),T333,MAX($T$3:$T333)+1))","v":17},""]
[null,null,null,null,null,null,null,null,null,null,null,null,null,{"$f":"(IF(P335=\"\",\"\",MAX($N$3:$N334)+1))","v":332},401,"احمد332",null,null,null,{"$f":"IF(N335=\"\",\"\",IF(ISERROR(MATCH($N335,$J:$J,0)),T334,MAX($T$3:$T334)+1))","v":17},""]
[null,null,null,null,null,null,null,null,null,null,null,null,null,{"$f":"(IF(P336=\"\",\"\",MAX($N$3:$N335)+1))","v":333},402,"احمد333",null,null,null,{"$f":"IF(N336=\"\",\"\",IF(ISERROR(MATCH($N336,$J:$J,0)),T335,MAX($T$3:$T335)+1))","v":17},""]
[null,null,null,null,null,null,null,null,null,null,null,null,null,{"$f":"(IF(P337=\"\",\"\",MAX($N$3:$N336)+1))","v":334},403,"احمد334",null,null,null,{"$f":"IF(N337=\"\",\"\",IF(ISERROR(MATCH($N337,$J:$J,0)),T336,MAX($T$3:$T336)+1))","v":17},""]
[null,null,null,null,null,null,null,null,null,null,null,null,null,{"$f":"(IF(P338=\"\",\"\",MAX($N$3:$N337)+1))","v":335},404,"احمد335",null,null,null,{"$f":"IF(N338=\"\",\"\",IF(ISERROR(MATCH($N338,$J:$J,0)),T337,MAX($T$3:$T337)+1))","v":17},""]
[null,null,null,null,null,null,null,null,null,null,null,null,null,{"$f":"(IF(P339=\"\",\"\",MAX($N$3:$N338)+1))","v":336},405,"احمد336",null,null,null,{"$f":"IF(N339=\"\",\"\",IF(ISERROR(MATCH($N339,$J:$J,0)),T338,MAX($T$3:$T338)+1))","v":17},""]
[null,null,null,null,null,null,null,null,null,null,null,null,null,{"$f":"(IF(P340=\"\",\"\",MAX($N$3:$N339)+1))","v":337},406,"احمد337",null,null,null,{"$f":"IF(N340=\"\",\"\",IF(ISERROR(MATCH($N340,$J:$J,0)),T339,MAX($T$3:$T339)+1))","v":17},""]
[null,null,null,null,null,null,null,null,null,null,null,null,null,{"$f":"(IF(P341=\"\",\"\",MAX($N$3:$N340)+1))","v":338},407,"احمد338",null,null,null,{"$f":"IF(N341=\"\",\"\",IF(ISERROR(MATCH($N341,$J:$J,0)),T340,MAX($T$3:$T340)+1))","v":17},""]
[null,null,null,null,null,null,null,null,null,null,null,null,null,{"$f":"(IF(P342=\"\",\"\",MAX($N$3:$N341)+1))","v":339},408,"احمد339",null,null,null,{"$f":"IF(N342=\"\",\"\",IF(ISERROR(MATCH($N342,$J:$J,0)),T341,MAX($T$3:$T341)+1))","v":17},""]
[null,null,null,null,null,null,null,null,null,null,null,null,null,{"$f":"(IF(P343=\"\",\"\",MAX($N$3:$N342)+1))","v":340},409,"احمد340",null,null,null,{"$f":"IF(N343=\"\",\"\",IF(ISERROR(MATCH($N343,$J:$J,0)),T342,MAX($T$3:$T342)+1))","v":17},"نهاية اللجنة"]
[null,null,null,null,null,null,null,null,null,null,null,null,null,{"$f":"(IF(P344=\"\",\"\",MAX($N$3:$N343)+1))","v":341},410,"احمد341",null,null,null,{"$f":"IF(N344=\"\",\"\",IF(ISERROR(MATCH($N344,$J:$J,0)),T343,MAX($T$3:$T343)+1))","v":18},""]
[null,null,null,null,null,null,null,null,null,null,null,null,null,{"$f":"(IF(P345=\"\",\"\",MAX($N$3:$N344)+1))","v":342},411,"احمد342",null,null,null,{"$f":"IF(N345=\"\",\"\",IF(ISERROR(MATCH($N345,$J:$J,0)),T344,MAX($T$3:$T344)+1))","v":18},""]
[null,null,null,null,null,null,null,null,null,null,null,null,null,{"$f":"(IF(P346=\"\",\"\",MAX($N$3:$N345)+1))","v":343},412,"احمد343",null,null,null,{"$f":"IF(N346=\"\",\"\",IF(ISERROR(MATCH($N346,$J:$J,0)),T345,MAX($T$3:$T345)+1))","v":18},""]
[null,null,null,null,null,null,null,null,null,null,null,null,null,{"$f":"(IF(P347=\"\",\"\",MAX($N$3:$N346)+1))","v":344},413,"احمد344",null,null,null,{"$f":"IF(N347=\"\",\"\",IF(ISERROR(MATCH($N347,$J:$J,0)),T346,MAX($T$3:$T346)+1))","v":18},""]
[null,null,null,null,null,null,null,null,null,null,null,null,null,{"$f":"(IF(P348=\"\",\"\",MAX($N$3:$N347)+1))","v":345},414,"احمد345",null,null,null,{"$f":"IF(N348=\"\",\"\",IF(ISERROR(MATCH($N348,$J:$J,0)),T347,MAX($T$3:$T347)+1))","v":18},""]
[null,null,null,null,null,null,null,null,null,null,null,null,null,{"$f":"(IF(P349=\"\",\"\",MAX($N$3:$N348)+1))","v":346},415,"احمد346",null,null,null,{"$f":"IF(N349=\"\",\"\",IF(ISERROR(MATCH($N349,$J:$J,0)),T348,MAX($T$3:$T348)+1))","v":18},""]
[null,null,null,null,null,null,null,null,null,null,null,null,null,{"$f":"(IF(P350=\"\",\"\",MAX($N$3:$N349)+1))","v":347},416,"احمد347",null,null,null,{"$f":"IF(N350=\"\",\"\",IF(ISERROR(MATCH($N350,$J:$J,0)),T349,MAX($T$3:$T349)+1))","v":18},""]
[null,null,null,null,null,null,null,null,null,null,null,null,null,{"$f":"(IF(P351=\"\",\"\",MAX($N$3:$N350)+1))","v":348},417,"احمد348",null,null,null,{"$f":"IF(N351=\"\",\"\",IF(ISERROR(MATCH($N351,$J:$J,0)),T350,MAX($T$3:$T350)+1))","v":18},""]
[null,null,null,null,null,null,null,null,null,null,null,null,null,{"$f":"(IF(P352=\"\",\"\",MAX($N$3:$N351)+1))","v":349},418,"احمد349",null,null,null,{"$f":"IF(N352=\"\",\"\",IF(ISERROR(MATCH($N352,$J:$J,0)),T351,MAX($T$3:$T351)+1))","v":18},""]
[null,null,null,null,null,null,null,null,null,null,null,null,null,{"$f":"(IF(P353=\"\",\"\",MAX($N$3:$N352)+1))","v":350},419,"احمد350",null,null,null,{"$f":"IF(N353=\"\",\"\",IF(ISERROR(MATCH($N353,$J:$J,0)),T352,MAX($T$3:$T352)+1))","v":18},""]
[null,null,null,null,null,null,null,null,null,null,null,null,null,{"$f":"(IF(P354=\"\",\"\",MAX($N$3:$N353)+1))","v":351},420,"احمد351",null,null,null,{"$f":"IF(N354=\"\",\"\",IF(ISERROR(MATCH($N354,$J:$J,0)),T353,MAX($T$3:$T353)+1))","v":18},""]
[null,null,null,null,null,null,null,null,null,null,null,null,null,{"$f":"(IF(P355=\"\",\"\",MAX($N$3:$N354)+1))","v":352},421,"احمد352",null,null,null,{"$f":"IF(N355=\"\",\"\",IF(ISERROR(MATCH($N355,$J:$J,0)),T354,MAX($T$3:$T354)+1))","v":18},""]
[null,null,null,null,null,null,null,null,null,null,null,null,null,{"$f":"(IF(P356=\"\",\"\",MAX($N$3:$N355)+1))","v":353},422,"احمد353",null,null,null,{"$f":"IF(N356=\"\",\"\",IF(ISERROR(MATCH($N356,$J:$J,0)),T355,MAX($T$3:$T355)+1))","v":18},""]
[null,null,null,null,null,null,null,null,null,null,null,null,null,{"$f":"(IF(P357=\"\",\"\",MAX($N$3:$N356)+1))","v":354},423,"احمد354",null,null,null,{"$f":"IF(N357=\"\",\"\",IF(ISERROR(MATCH($N357,$J:$J,0)),T356,MAX($T$3:$T356)+1))","v":18},""]
[null,null,null,null,null,null,null,null,null,null,null,null,null,{"$f":"(IF(P358=\"\",\"\",MAX($N$3:$N357)+1))","v":355},424,"احمد355",null,null,null,{"$f":"IF(N358=\"\",\"\",IF(ISERROR(MATCH($N358,$J:$J,0)),T357,MAX($T$3:$T357)+1))","v":18},""]
[null,null,null,null,null,null,null,null,null,null,null,null,null,{"$f":"(IF(P359=\"\",\"\",MAX($N$3:$N358)+1))","v":356},425,"احمد356",null,null,null,{"$f":"IF(N359=\"\",\"\",IF(ISERROR(MATCH($N359,$J:$J,0)),T358,MAX($T$3:$T358)+1))","v":18},""]
[null,null,null,null,null,null,null,null,null,null,null,null,null,{"$f":"(IF(P360=\"\",\"\",MAX($N$3:$N359)+1))","v":357},426,"احمد357",null,null,null,{"$f":"IF(N360=\"\",\"\",IF(ISERROR(MATCH($N360,$J:$J,0)),T359,MAX($T$3:$T359)+1))","v":18},""]
[null,null,null,null,null,null,null,null,null,null,null,null,null,{"$f":"(IF(P361=\"\",\"\",MAX($N$3:$N360)+1))","v":358},427,"احمد358",null,null,null,{"$f":"IF(N361=\"\",\"\",IF(ISERROR(MATCH($N361,$J:$J,0)),T360,MAX($T$3:$T360)+1))","v":18},""]
[null,null,null,null,null,null,null,null,null,null,null,null,null,{"$f":"(IF(P362=\"\",\"\",MAX($N$3:$N361)+1))","v":359},428,"احمد359",null,null,null,{"$f":"IF(N362=\"\",\"\",IF(ISERROR(MATCH($N362,$J:$J,0)),T361,MAX($T$3:$T361)+1))","v":18},""]
[null,null,null,null,null,null,null,null,null,null,null,null,null,{"$f":"(IF(P363=\"\",\"\",MAX($N$3:$N362)+1))","v":360},429,"احمد360",null,null,null,{"$f":"IF(N363=\"\",\"\",IF(ISERROR(MATCH($N363,$J:$J,0)),T362,MAX($T$3:$T362)+1))","v":18},"نهاية اللجنة"]
[null,null,null,null,null,null,null,null,null,null,null,null,null,{"$f":"(IF(P364=\"\",\"\",MAX($N$3:$N363)+1))","v":361},430,"احمد361",null,null,null,{"$f":"IF(N364=\"\",\"\",IF(ISERROR(MATCH($N364,$J:$J,0)),T363,MAX($T$3:$T363)+1))","v":19},""]
[null,null,null,null,null,null,null,null,null,null,null,null,null,{"$f":"(IF(P365=\"\",\"\",MAX($N$3:$N364)+1))","v":362},431,"احمد362",null,null,null,{"$f":"IF(N365=\"\",\"\",IF(ISERROR(MATCH($N365,$J:$J,0)),T364,MAX($T$3:$T364)+1))","v":19},""]
[null,null,null,null,null,null,null,null,null,null,null,null,null,{"$f":"(IF(P366=\"\",\"\",MAX($N$3:$N365)+1))","v":363},432,"احمد363",null,null,null,{"$f":"IF(N366=\"\",\"\",IF(ISERROR(MATCH($N366,$J:$J,0)),T365,MAX($T$3:$T365)+1))","v":19},""]
[null,null,null,null,null,null,null,null,null,null,null,null,null,{"$f":"(IF(P367=\"\",\"\",MAX($N$3:$N366)+1))","v":364},433,"احمد364",null,null,null,{"$f":"IF(N367=\"\",\"\",IF(ISERROR(MATCH($N367,$J:$J,0)),T366,MAX($T$3:$T366)+1))","v":19},""]
[null,null,null,null,null,null,null,null,null,null,null,null,null,{"$f":"(IF(P368=\"\",\"\",MAX($N$3:$N367)+1))","v":365},434,"احمد365",null,null,null,{"$f":"IF(N368=\"\",\"\",IF(ISERROR(MATCH($N368,$J:$J,0)),T367,MAX($T$3:$T367)+1))","v":19},""]
[null,null,null,null,null,null,null,null,null,null,null,null,null,{"$f":"(IF(P369=\"\",\"\",MAX($N$3:$N368)+1))","v":366},435,"احمد366",null,null,null,{"$f":"IF(N369=\"\",\"\",IF(ISERROR(MATCH($N369,$J:$J,0)),T368,MAX($T$3:$T368)+1))","v":19},""]
[null,null,null,null,null,null,null,null,null,null,null,null,null,{"$f":"(IF(P370=\"\",\"\",MAX($N$3:$N369)+1))","v":367},436,"احمد367",null,null,null,{"$f":"IF(N370=\"\",\"\",IF(ISERROR(MATCH($N370,$J:$J,0)),T369,MAX($T$3:$T369)+1))","v":19},""]
[null,null,null,null,null,null,null,null,null,null,null,null,null,{"$f":"(IF(P371=\"\",\"\",MAX($N$3:$N370)+1))","v":368},437,"احمد368",null,null,null,{"$f":"IF(N371=\"\",\"\",IF(ISERROR(MATCH($N371,$J:$J,0)),T370,MAX($T$3:$T370)+1))","v":19},""]
[null,null,null,null,null,null,null,null,null,null,null,null,null,{"$f":"(IF(P372=\"\",\"\",MAX($N$3:$N371)+1))","v":369},438,"احمد369",null,null,null,{"$f":"IF(N372=\"\",\"\",IF(ISERROR(MATCH($N372,$J:$J,0)),T371,MAX($T$3:$T371)+1))","v":19},""]
[null,null,null,null,null,null,null,null,null,null,null,null,null,{"$f":"(IF(P373=\"\",\"\",MAX($N$3:$N372)+1))","v":370},439,"احمد370",null,null,null,{"$f":"IF(N373=\"\",\"\",IF(ISERROR(MATCH($N373,$J:$J,0)),T372,MAX($T$3:$T372)+1))","v":19},""]
[null,null,null,null,null,null,null,null,null,null,null,null,null,{"$f":"(IF(P374=\"\",\"\",MAX($N$3:$N373)+1))","v":371},440,"احمد371",null,null,null,{"$f":"IF(N374=\"\",\"\",IF(ISERROR(MATCH($N374,$J:$J,0)),T373,MAX($T$3:$T373)+1))","v":19},""]
[null,null,null,null,null,null,null,null,null,null,null,null,null,{"$f":"(IF(P375=\"\",\"\",MAX($N$3:$N374)+1))","v":372},441,"احمد372",null,null,null,{"$f":"IF(N375=\"\",\"\",IF(ISERROR(MATCH($N375,$J:$J,0)),T374,MAX($T$3:$T374)+1))","v":19},""]
[null,null,null,null,null,null,null,null,null,null,null,null,null,{"$f":"(IF(P376=\"\",\"\",MAX($N$3:$N375)+1))","v":373},442,"احمد373",null,null,null,{"$f":"IF(N376=\"\",\"\",IF(ISERROR(MATCH($N376,$J:$J,0)),T375,MAX($T$3:$T375)+1))","v":19},""]
[null,null,null,null,null,null,null,null,null,null,null,null,null,{"$f":"(IF(P377=\"\",\"\",MAX($N$3:$N376)+1))","v":374},443,"احمد374",null,null,null,{"$f":"IF(N377=\"\",\"\",IF(ISERROR(MATCH($N377,$J:$J,0)),T376,MAX($T$3:$T376)+1))","v":19},""]
[null,null,null,null,null,null,null,null,null,null,null,null,null,{"$f":"(IF(P378=\"\",\"\",MAX($N$3:$N377)+1))","v":375},444,"احمد375",null,null,null,{"$f":"IF(N378=\"\",\"\",IF(ISERROR(MATCH($N378,$J:$J,0)),T377,MAX($T$3:$T377)+1))","v":19},""]
[null,null,null,null,null,null,null,null,null,null,null,null,null,{"$f":"(IF(P379=\"\",\"\",MAX($N$3:$N378)+1))","v":376},445,"احمد376",null,null,null,{"$f":"IF(N379=\"\",\"\",IF(ISERROR(MATCH($N379,$J:$J,0)),T378,MAX($T$3:$T378)+1))","v":19},""]
[null,null,null,null,null,null,null,null,null,null,null,null,null,{"$f":"(IF(P380=\"\",\"\",MAX($N$3:$N379)+1))","v":377},446,"احمد377",null,null,null,{"$f":"IF(N380=\"\",\"\",IF(ISERROR(MATCH($N380,$J:$J,0)),T379,MAX($T$3:$T379)+1))","v":19},""]
[null,null,null,null,null,null,null,null,null,null,null,null,null,{"$f":"(IF(P381=\"\",\"\",MAX($N$3:$N380)+1))","v":378},447,"احمد378",null,null,null,{"$f":"IF(N381=\"\",\"\",IF(ISERROR(MATCH($N381,$J:$J,0)),T380,MAX($T$3:$T380)+1))","v":19},""]
[null,null,null,null,null,null,null,null,null,null,null,null,null,{"$f":"(IF(P382=\"\",\"\",MAX($N$3:$N381)+1))","v":379},448,"احمد379",null,null,null,{"$f":"IF(N382=\"\",\"\",IF(ISERROR(MATCH($N382,$J:$J,0)),T381,MAX($T$3:$T381)+1))","v":19},""]
[null,null,null,null,null,null,null,null,null,null,null,null,null,{"$f":"(IF(P383=\"\",\"\",MAX($N$3:$N382)+1))","v":380},449,"احمد380",null,null,null,{"$f":"IF(N383=\"\",\"\",IF(ISERROR(MATCH($N383,$J:$J,0)),T382,MAX($T$3:$T382)+1))","v":19},"نهاية اللجنة"]
[null,null,null,null,null,null,null,null,null,null,null,null,null,{"$f":"(IF(P384=\"\",\"\",MAX($N$3:$N383)+1))","v":381},450,"احمد381",null,null,null,{"$f":"IF(N384=\"\",\"\",IF(ISERROR(MATCH($N384,$J:$J,0)),T383,MAX($T$3:$T383)+1))","v":20},""]
[null,null,null,null,null,null,null,null,null,null,null,null,null,{"$f":"(IF(P385=\"\",\"\",MAX($N$3:$N384)+1))","v":382},451,"احمد382",null,null,null,{"$f":"IF(N385=\"\",\"\",IF(ISERROR(MATCH($N385,$J:$J,0)),T384,MAX($T$3:$T384)+1))","v":20},""]
[null,null,null,null,null,null,null,null,null,null,null,null,null,{"$f":"(IF(P386=\"\",\"\",MAX($N$3:$N385)+1))","v":383},452,"احمد383",null,null,null,{"$f":"IF(N386=\"\",\"\",IF(ISERROR(MATCH($N386,$J:$J,0)),T385,MAX($T$3:$T385)+1))","v":20},""]
[null,null,null,null,null,null,null,null,null,null,null,null,null,{"$f":"(IF(P387=\"\",\"\",MAX($N$3:$N386)+1))","v":384},453,"احمد384",null,null,null,{"$f":"IF(N387=\"\",\"\",IF(ISERROR(MATCH($N387,$J:$J,0)),T386,MAX($T$3:$T386)+1))","v":20},""]
[null,null,null,null,null,null,null,null,null,null,null,null,null,{"$f":"(IF(P388=\"\",\"\",MAX($N$3:$N387)+1))","v":385},454,"احمد385",null,null,null,{"$f":"IF(N388=\"\",\"\",IF(ISERROR(MATCH($N388,$J:$J,0)),T387,MAX($T$3:$T387)+1))","v":20},""]
[null,null,null,null,null,null,null,null,null,null,null,null,null,{"$f":"(IF(P389=\"\",\"\",MAX($N$3:$N388)+1))","v":386},455,"احمد386",null,null,null,{"$f":"IF(N389=\"\",\"\",IF(ISERROR(MATCH($N389,$J:$J,0)),T388,MAX($T$3:$T388)+1))","v":20},{"$f":"IF(T389=T390,\"\",\"نهاية اللجنة\")","v":""}]
[null,null,null,null,null,null,null,null,null,null,null,null,null,{"$f":"(IF(P390=\"\",\"\",MAX($N$3:$N389)+1))","v":387},{"$f":"IF(O389=\"\",\"\",IF(O389+1>$O$2,\"\",O389+1))","v":456},"احمد387",null,null,null,{"$f":"IF(N390=\"\",\"\",IF(ISERROR(MATCH($N390,$J:$J,0)),T389,MAX($T$3:$T389)+1))","v":20},""]
[null,null,null,null,null,null,null,null,null,null,null,null,null,{"$f":"(IF(P391=\"\",\"\",MAX($N$3:$N390)+1))","v":388},457,"احمد388",null,null,null,{"$f":"IF(N391=\"\",\"\",IF(ISERROR(MATCH($N391,$J:$J,0)),T390,MAX($T$3:$T390)+1))","v":20},""]
[null,null,null,null,null,null,null,null,null,null,null,null,null,{"$f":"(IF(P392=\"\",\"\",MAX($N$3:$N391)+1))","v":389},458,"احمد389",null,null,null,{"$f":"IF(N392=\"\",\"\",IF(ISERROR(MATCH($N392,$J:$J,0)),T391,MAX($T$3:$T391)+1))","v":20},""]
[null,null,null,null,null,null,null,null,null,null,null,null,null,{"$f":"(IF(P393=\"\",\"\",MAX($N$3:$N392)+1))","v":390},459,"احمد390",null,null,null,{"$f":"IF(N393=\"\",\"\",IF(ISERROR(MATCH($N393,$J:$J,0)),T392,MAX($T$3:$T392)+1))","v":20},""]
[null,null,null,null,null,null,null,null,null,null,null,null,null,{"$f":"(IF(P394=\"\",\"\",MAX($N$3:$N393)+1))","v":391},460,"احمد391",null,null,null,{"$f":"IF(N394=\"\",\"\",IF(ISERROR(MATCH($N394,$J:$J,0)),T393,MAX($T$3:$T393)+1))","v":20},""]
[null,null,null,null,null,null,null,null,null,null,null,null,null,{"$f":"(IF(P395=\"\",\"\",MAX($N$3:$N394)+1))","v":392},461,"احمد392",null,null,null,{"$f":"IF(N395=\"\",\"\",IF(ISERROR(MATCH($N395,$J:$J,0)),T394,MAX($T$3:$T394)+1))","v":20},""]
[null,null,null,null,null,null,null,null,null,null,null,null,null,{"$f":"(IF(P396=\"\",\"\",MAX($N$3:$N395)+1))","v":393},462,"احمد393",null,null,null,{"$f":"IF(N396=\"\",\"\",IF(ISERROR(MATCH($N396,$J:$J,0)),T395,MAX($T$3:$T395)+1))","v":20},""]
[null,null,null,null,null,null,null,null,null,null,null,null,null,{"$f":"(IF(P397=\"\",\"\",MAX($N$3:$N396)+1))","v":394},463,"احمد394",null,null,null,{"$f":"IF(N397=\"\",\"\",IF(ISERROR(MATCH($N397,$J:$J,0)),T396,MAX($T$3:$T396)+1))","v":20},""]
[null,null,null,null,null,null,null,null,null,null,null,null,null,{"$f":"(IF(P398=\"\",\"\",MAX($N$3:$N397)+1))","v":395},464,"احمد395",null,null,null,{"$f":"IF(N398=\"\",\"\",IF(ISERROR(MATCH($N398,$J:$J,0)),T397,MAX($T$3:$T397)+1))","v":20},""]
[null,null,null,null,null,null,null,null,null,null,null,null,null,{"$f":"(IF(P399=\"\",\"\",MAX($N$3:$N398)+1))","v":396},465,"احمد396",null,null,null,{"$f":"IF(N399=\"\",\"\",IF(ISERROR(MATCH($N399,$J:$J,0)),T398,MAX($T$3:$T398)+1))","v":20},""]
[null,null,null,null,null,null,null,null,null,null,null,null,null,{"$f":"(IF(P400=\"\",\"\",MAX($N$3:$N399)+1))","v":397},466,"احمد397",null,null,null,{"$f":"IF(N400=\"\",\"\",IF(ISERROR(MATCH($N400,$J:$J,0)),T399,MAX($T$3:$T399)+1))","v":20},""]
[null,null,null,null,null,null,null,null,null,null,null,null,null,{"$f":"(IF(P401=\"\",\"\",MAX($N$3:$N400)+1))","v":398},467,"احمد398",null,null,null,{"$f":"IF(N401=\"\",\"\",IF(ISERROR(MATCH($N401,$J:$J,0)),T400,MAX($T$3:$T400)+1))","v":20},""]
[null,null,null,null,null,null,null,null,null,null,null,null,null,{"$f":"(IF(P402=\"\",\"\",MAX($N$3:$N401)+1))","v":399},468,"احمد399",null,null,null,{"$f":"IF(N402=\"\",\"\",IF(ISERROR(MATCH($N402,$J:$J,0)),T401,MAX($T$3:$T401)+1))","v":20},""]
[null,null,null,null,null,null,null,null,null,null,null,null,null,{"$f":"(IF(P403=\"\",\"\",MAX($N$3:$N402)+1))","v":400},469,"احمد400",null,null,null,{"$f":"IF(N403=\"\",\"\",IF(ISERROR(MATCH($N403,$J:$J,0)),T402,MAX($T$3:$T402)+1))","v":20},"نهاية اللجنة"]
[null,null,null,null,null,null,null,null,null,null,null,null,null,{"$f":"(IF(P404=\"\",\"\",MAX($N$3:$N403)+1))","v":401},470,"احمد401",null,null,null,{"$f":"IF(N404=\"\",\"\",IF(ISERROR(MATCH($N404,$J:$J,0)),T403,MAX($T$3:$T403)+1))","v":21},""]
[null,null,null,null,null,null,null,null,null,null,null,null,null,{"$f":"(IF(P405=\"\",\"\",MAX($N$3:$N404)+1))","v":402},471,"احمد402",null,null,null,{"$f":"IF(N405=\"\",\"\",IF(ISERROR(MATCH($N405,$J:$J,0)),T404,MAX($T$3:$T404)+1))","v":21},""]
[null,null,null,null,null,null,null,null,null,null,null,null,null,{"$f":"(IF(P406=\"\",\"\",MAX($N$3:$N405)+1))","v":403},472,"احمد403",null,null,null,{"$f":"IF(N406=\"\",\"\",IF(ISERROR(MATCH($N406,$J:$J,0)),T405,MAX($T$3:$T405)+1))","v":21},""]
[null,null,null,null,null,null,null,null,null,null,null,null,null,{"$f":"(IF(P407=\"\",\"\",MAX($N$3:$N406)+1))","v":404},473,"احمد404",null,null,null,{"$f":"IF(N407=\"\",\"\",IF(ISERROR(MATCH($N407,$J:$J,0)),T406,MAX($T$3:$T406)+1))","v":21},""]
[null,null,null,null,null,null,null,null,null,null,null,null,null,{"$f":"(IF(P408=\"\",\"\",MAX($N$3:$N407)+1))","v":405},474,"احمد405",null,null,null,{"$f":"IF(N408=\"\",\"\",IF(ISERROR(MATCH($N408,$J:$J,0)),T407,MAX($T$3:$T407)+1))","v":21},""]
[null,null,null,null,null,null,null,null,null,null,null,null,null,{"$f":"(IF(P409=\"\",\"\",MAX($N$3:$N408)+1))","v":406},475,"احمد406",null,null,null,{"$f":"IF(N409=\"\",\"\",IF(ISERROR(MATCH($N409,$J:$J,0)),T408,MAX($T$3:$T408)+1))","v":21},""]
[null,null,null,null,null,null,null,null,null,null,null,null,null,{"$f":"(IF(P410=\"\",\"\",MAX($N$3:$N409)+1))","v":407},476,"احمد407",null,null,null,{"$f":"IF(N410=\"\",\"\",IF(ISERROR(MATCH($N410,$J:$J,0)),T409,MAX($T$3:$T409)+1))","v":21},""]
[null,null,null,null,null,null,null,null,null,null,null,null,null,{"$f":"(IF(P411=\"\",\"\",MAX($N$3:$N410)+1))","v":408},477,"احمد408",null,null,null,{"$f":"IF(N411=\"\",\"\",IF(ISERROR(MATCH($N411,$J:$J,0)),T410,MAX($T$3:$T410)+1))","v":21},""]
[null,null,null,null,null,null,null,null,null,null,null,null,null,{"$f":"(IF(P412=\"\",\"\",MAX($N$3:$N411)+1))","v":409},478,"احمد409",null,null,null,{"$f":"IF(N412=\"\",\"\",IF(ISERROR(MATCH($N412,$J:$J,0)),T411,MAX($T$3:$T411)+1))","v":21},""]
[null,null,null,null,null,null,null,null,null,null,null,null,null,{"$f":"(IF(P413=\"\",\"\",MAX($N$3:$N412)+1))","v":410},479,"احمد410",null,null,null,{"$f":"IF(N413=\"\",\"\",IF(ISERROR(MATCH($N413,$J:$J,0)),T412,MAX($T$3:$T412)+1))","v":21},""]
[null,null,null,null,null,null,null,null,null,null,null,null,null,{"$f":"(IF(P414=\"\",\"\",MAX($N$3:$N413)+1))","v":411},480,"احمد411",null,null,null,{"$f":"IF(N414=\"\",\"\",IF(ISERROR(MATCH($N414,$J:$J,0)),T413,MAX($T$3:$T413)+1))","v":21},""]
[null,null,null,null,null,null,null,null,null,null,null,null,null,{"$f":"(IF(P415=\"\",\"\",MAX($N$3:$N414)+1))","v":412},481,"احمد412",null,null,null,{"$f":"IF(N415=\"\",\"\",IF(ISERROR(MATCH($N415,$J:$J,0)),T414,MAX($T$3:$T414)+1))","v":21},""]
[null,null,null,null,null,null,null,null,null,null,null,null,null,{"$f":"(IF(P416=\"\",\"\",MAX($N$3:$N415)+1))","v":413},482,"احمد413",null,null,null,{"$f":"IF(N416=\"\",\"\",IF(ISERROR(MATCH($N416,$J:$J,0)),T415,MAX($T$3:$T415)+1))","v":21},""]
[null,null,null,null,null,null,null,null,null,null,null,null,null,{"$f":"(IF(P417=\"\",\"\",MAX($N$3:$N416)+1))","v":414},483,"احمد414",null,null,null,{"$f":"IF(N417=\"\",\"\",IF(ISERROR(MATCH($N417,$J:$J,0)),T416,MAX($T$3:$T416)+1))","v":21},""]
[null,null,null,null,null,null,null,null,null,null,null,null,null,{"$f":"(IF(P418=\"\",\"\",MAX($N$3:$N417)+1))","v":415},484,"احمد415",null,null,null,{"$f":"IF(N418=\"\",\"\",IF(ISERROR(MATCH($N418,$J:$J,0)),T417,MAX($T$3:$T417)+1))","v":21},""]
[null,null,null,null,null,null,null,null,null,null,null,null,null,{"$f":"(IF(P419=\"\",\"\",MAX($N$3:$N418)+1))","v":416},485,"احمد416",null,null,null,{"$f":"IF(N419=\"\",\"\",IF(ISERROR(MATCH($N419,$J:$J,0)),T418,MAX($T$3:$T418)+1))","v":21},""]
[null,null,null,null,null,null,null,null,null,null,null,null,null,{"$f":"(IF(P420=\"\",\"\",MAX($N$3:$N419)+1))","v":417},486,"احمد417",null,null,null,{"$f":"IF(N420=\"\",\"\",IF(ISERROR(MATCH($N420,$J:$J,0)),T419,MAX($T$3:$T419)+1))","v":21},""]
[null,null,null,null,null,null,null,null,null,null,null,null,null,{"$f":"(IF(P421=\"\",\"\",MAX($N$3:$N420)+1))","v":418},487,"احمد418",null,null,null,{"$f":"IF(N421=\"\",\"\",IF(ISERROR(MATCH($N421,$J:$J,0)),T420,MAX($T$3:$T420)+1))","v":21},""]
[null,null,null,null,null,null,null,null,null,null,null,null,null,{"$f":"(IF(P422=\"\",\"\",MAX($N$3:$N421)+1))","v":419},488,"احمد419",null,null,null,{"$f":"IF(N422=\"\",\"\",IF(ISERROR(MATCH($N422,$J:$J,0)),T421,MAX($T$3:$T421)+1))","v":21},""]
[null,null,null,null,null,null,null,null,null,null,null,null,null,{"$f":"(IF(P423=\"\",\"\",MAX($N$3:$N422)+1))","v":420},489,"احمد420",null,null,null,{"$f":"IF(N423=\"\",\"\",IF(ISERROR(MATCH($N423,$J:$J,0)),T422,MAX($T$3:$T422)+1))","v":21},"نهاية اللجنة"]
[null,null,null,null,null,null,null,null,null,null,null,null,null,{"$f":"(IF(P424=\"\",\"\",MAX($N$3:$N423)+1))","v":421},490,"احمد421",null,null,null,{"$f":"IF(N424=\"\",\"\",IF(ISERROR(MATCH($N424,$J:$J,0)),T423,MAX($T$3:$T423)+1))","v":22},""]
[null,null,null,null,null,null,null,null,null,null,null,null,null,{"$f":"(IF(P425=\"\",\"\",MAX($N$3:$N424)+1))","v":422},491,"احمد422",null,null,null,{"$f":"IF(N425=\"\",\"\",IF(ISERROR(MATCH($N425,$J:$J,0)),T424,MAX($T$3:$T424)+1))","v":22},""]
[null,null,null,null,null,null,null,null,null,null,null,null,null,{"$f":"(IF(P426=\"\",\"\",MAX($N$3:$N425)+1))","v":423},492,"احمد423",null,null,null,{"$f":"IF(N426=\"\",\"\",IF(ISERROR(MATCH($N426,$J:$J,0)),T425,MAX($T$3:$T425)+1))","v":22},""]
[null,null,null,null,null,null,null,null,null,null,null,null,null,{"$f":"(IF(P427=\"\",\"\",MAX($N$3:$N426)+1))","v":424},493,"احمد424",null,null,null,{"$f":"IF(N427=\"\",\"\",IF(ISERROR(MATCH($N427,$J:$J,0)),T426,MAX($T$3:$T426)+1))","v":22},""]
[null,null,null,null,null,null,null,null,null,null,null,null,null,{"$f":"(IF(P428=\"\",\"\",MAX($N$3:$N427)+1))","v":425},494,"احمد425",null,null,null,{"$f":"IF(N428=\"\",\"\",IF(ISERROR(MATCH($N428,$J:$J,0)),T427,MAX($T$3:$T427)+1))","v":22},""]
[null,null,null,null,null,null,null,null,null,null,null,null,null,{"$f":"(IF(P429=\"\",\"\",MAX($N$3:$N428)+1))","v":426},495,"احمد426",null,null,null,{"$f":"IF(N429=\"\",\"\",IF(ISERROR(MATCH($N429,$J:$J,0)),T428,MAX($T$3:$T428)+1))","v":22},""]
[null,null,null,null,null,null,null,null,null,null,null,null,null,{"$f":"(IF(P430=\"\",\"\",MAX($N$3:$N429)+1))","v":427},496,"احمد427",null,null,null,{"$f":"IF(N430=\"\",\"\",IF(ISERROR(MATCH($N430,$J:$J,0)),T429,MAX($T$3:$T429)+1))","v":22},""]
[null,null,null,null,null,null,null,null,null,null,null,null,null,{"$f":"(IF(P431=\"\",\"\",MAX($N$3:$N430)+1))","v":428},497,"احمد428",null,null,null,{"$f":"IF(N431=\"\",\"\",IF(ISERROR(MATCH($N431,$J:$J,0)),T430,MAX($T$3:$T430)+1))","v":22},""]
[null,null,null,null,null,null,null,null,null,null,null,null,null,{"$f":"(IF(P432=\"\",\"\",MAX($N$3:$N431)+1))","v":429},498,"احمد429",null,null,null,{"$f":"IF(N432=\"\",\"\",IF(ISERROR(MATCH($N432,$J:$J,0)),T431,MAX($T$3:$T431)+1))","v":22},""]
[null,null,null,null,null,null,null,null,null,null,null,null,null,{"$f":"(IF(P433=\"\",\"\",MAX($N$3:$N432)+1))","v":430},499,"احمد430",null,null,null,{"$f":"IF(N433=\"\",\"\",IF(ISERROR(MATCH($N433,$J:$J,0)),T432,MAX($T$3:$T432)+1))","v":22},""]
[null,null,null,null,null,null,null,null,null,null,null,null,null,{"$f":"(IF(P434=\"\",\"\",MAX($N$3:$N433)+1))","v":431},500,"احمد431",null,null,null,{"$f":"IF(N434=\"\",\"\",IF(ISERROR(MATCH($N434,$J:$J,0)),T433,MAX($T$3:$T433)+1))","v":22},""]
[null,null,null,null,null,null,null,null,null,null,null,null,null,{"$f":"(IF(P435=\"\",\"\",MAX($N$3:$N434)+1))","v":432},501,"احمد432",null,null,null,{"$f":"IF(N435=\"\",\"\",IF(ISERROR(MATCH($N435,$J:$J,0)),T434,MAX($T$3:$T434)+1))","v":22},""]
[null,null,null,null,null,null,null,null,null,null,null,null,null,{"$f":"(IF(P436=\"\",\"\",MAX($N$3:$N435)+1))","v":433},502,"احمد433",null,null,null,{"$f":"IF(N436=\"\",\"\",IF(ISERROR(MATCH($N436,$J:$J,0)),T435,MAX($T$3:$T435)+1))","v":22},""]
[null,null,null,null,null,null,null,null,null,null,null,null,null,{"$f":"(IF(P437=\"\",\"\",MAX($N$3:$N436)+1))","v":434},503,"احمد434",null,null,null,{"$f":"IF(N437=\"\",\"\",IF(ISERROR(MATCH($N437,$J:$J,0)),T436,MAX($T$3:$T436)+1))","v":22},""]
[null,null,null,null,null,null,null,null,null,null,null,null,null,{"$f":"(IF(P438=\"\",\"\",MAX($N$3:$N437)+1))","v":435},504,"احمد435",null,null,null,{"$f":"IF(N438=\"\",\"\",IF(ISERROR(MATCH($N438,$J:$J,0)),T437,MAX($T$3:$T437)+1))","v":22},""]
[null,null,null,null,null,null,null,null,null,null,null,null,null,{"$f":"(IF(P439=\"\",\"\",MAX($N$3:$N438)+1))","v":436},505,"احمد436",null,null,null,{"$f":"IF(N439=\"\",\"\",IF(ISERROR(MATCH($N439,$J:$J,0)),T438,MAX($T$3:$T438)+1))","v":22},""]
[null,null,null,null,null,null,null,null,null,null,null,null,null,{"$f":"(IF(P440=\"\",\"\",MAX($N$3:$N439)+1))","v":437},506,"احمد437",null,null,null,{"$f":"IF(N440=\"\",\"\",IF(ISERROR(MATCH($N440,$J:$J,0)),T439,MAX($T$3:$T439)+1))","v":22},""]
[null,null,null,null,null,null,null,null,null,null,null,null,null,{"$f":"(IF(P441=\"\",\"\",MAX($N$3:$N440)+1))","v":438},507,"احمد438",null,null,null,{"$f":"IF(N441=\"\",\"\",IF(ISERROR(MATCH($N441,$J:$J,0)),T440,MAX($T$3:$T440)+1))","v":22},""]
[null,null,null,null,null,null,null,null,null,null,null,null,null,{"$f":"(IF(P442=\"\",\"\",MAX($N$3:$N441)+1))","v":439},508,"احمد439",null,null,null,{"$f":"IF(N442=\"\",\"\",IF(ISERROR(MATCH($N442,$J:$J,0)),T441,MAX($T$3:$T441)+1))","v":22},""]
[null,null,null,null,null,null,null,null,null,null,null,null,null,{"$f":"(IF(P443=\"\",\"\",MAX($N$3:$N442)+1))","v":440},509,"احمد440",null,null,null,{"$f":"IF(N443=\"\",\"\",IF(ISERROR(MATCH($N443,$J:$J,0)),T442,MAX($T$3:$T442)+1))","v":22},"نهاية اللجنة"]
[null,null,null,null,null,null,null,null,null,null,null,null,null,{"$f":"(IF(P444=\"\",\"\",MAX($N$3:$N443)+1))","v":441},510,"احمد441",null,null,null,{"$f":"IF(N444=\"\",\"\",IF(ISERROR(MATCH($N444,$J:$J,0)),T443,MAX($T$3:$T443)+1))","v":23},""]
[null,null,null,null,null,null,null,null,null,null,null,null,null,{"$f":"(IF(P445=\"\",\"\",MAX($N$3:$N444)+1))","v":442},511,"احمد442",null,null,null,{"$f":"IF(N445=\"\",\"\",IF(ISERROR(MATCH($N445,$J:$J,0)),T444,MAX($T$3:$T444)+1))","v":23},""]
[null,null,null,null,null,null,null,null,null,null,null,null,null,{"$f":"(IF(P446=\"\",\"\",MAX($N$3:$N445)+1))","v":443},512,"احمد443",null,null,null,{"$f":"IF(N446=\"\",\"\",IF(ISERROR(MATCH($N446,$J:$J,0)),T445,MAX($T$3:$T445)+1))","v":23},""]
[null,null,null,null,null,null,null,null,null,null,null,null,null,{"$f":"(IF(P447=\"\",\"\",MAX($N$3:$N446)+1))","v":444},513,"احمد444",null,null,null,{"$f":"IF(N447=\"\",\"\",IF(ISERROR(MATCH($N447,$J:$J,0)),T446,MAX($T$3:$T446)+1))","v":23},""]
[null,null,null,null,null,null,null,null,null,null,null,null,null,{"$f":"(IF(P448=\"\",\"\",MAX($N$3:$N447)+1))","v":445},514,"احمد445",null,null,null,{"$f":"IF(N448=\"\",\"\",IF(ISERROR(MATCH($N448,$J:$J,0)),T447,MAX($T$3:$T447)+1))","v":23},""]
[null,null,null,null,null,null,null,null,null,null,null,null,null,{"$f":"(IF(P449=\"\",\"\",MAX($N$3:$N448)+1))","v":446},515,"احمد446",null,null,null,{"$f":"IF(N449=\"\",\"\",IF(ISERROR(MATCH($N449,$J:$J,0)),T448,MAX($T$3:$T448)+1))","v":23},""]
[null,null,null,null,null,null,null,null,null,null,null,null,null,{"$f":"(IF(P450=\"\",\"\",MAX($N$3:$N449)+1))","v":447},516,"احمد447",null,null,null,{"$f":"IF(N450=\"\",\"\",IF(ISERROR(MATCH($N450,$J:$J,0)),T449,MAX($T$3:$T449)+1))","v":23},""]
[null,null,null,null,null,null,null,null,null,null,null,null,null,{"$f":"(IF(P451=\"\",\"\",MAX($N$3:$N450)+1))","v":448},517,"احمد448",null,null,null,{"$f":"IF(N451=\"\",\"\",IF(ISERROR(MATCH($N451,$J:$J,0)),T450,MAX($T$3:$T450)+1))","v":23},""]
[null,null,null,null,null,null,null,null,null,null,null,null,null,{"$f":"(IF(P452=\"\",\"\",MAX($N$3:$N451)+1))","v":449},518,"احمد449",null,null,null,{"$f":"IF(N452=\"\",\"\",IF(ISERROR(MATCH($N452,$J:$J,0)),T451,MAX($T$3:$T451)+1))","v":23},""]
[null,null,null,null,null,null,null,null,null,null,null,null,null,{"$f":"(IF(P453=\"\",\"\",MAX($N$3:$N452)+1))","v":450},519,"احمد450",null,null,null,{"$f":"IF(N453=\"\",\"\",IF(ISERROR(MATCH($N453,$J:$J,0)),T452,MAX($T$3:$T452)+1))","v":23},{"$f":"IF(T453=T454,\"\",\"نهاية اللجنة\")","v":""}]
[null,null,null,null,null,null,null,null,null,null,null,null,null,{"$f":"(IF(P454=\"\",\"\",MAX($N$3:$N453)+1))","v":451},{"$f":"IF(O453=\"\",\"\",IF(O453+1>$O$2,\"\",O453+1))","v":520},"احمد451",null,null,null,{"$f":"IF(N454=\"\",\"\",IF(ISERROR(MATCH($N454,$J:$J,0)),T453,MAX($T$3:$T453)+1))","v":23},""]
[null,null,null,null,null,null,null,null,null,null,null,null,null,{"$f":"(IF(P455=\"\",\"\",MAX($N$3:$N454)+1))","v":452},521,"احمد452",null,null,null,{"$f":"IF(N455=\"\",\"\",IF(ISERROR(MATCH($N455,$J:$J,0)),T454,MAX($T$3:$T454)+1))","v":23},""]
[null,null,null,null,null,null,null,null,null,null,null,null,null,{"$f":"(IF(P456=\"\",\"\",MAX($N$3:$N455)+1))","v":453},522,"احمد453",null,null,null,{"$f":"IF(N456=\"\",\"\",IF(ISERROR(MATCH($N456,$J:$J,0)),T455,MAX($T$3:$T455)+1))","v":23},""]
[null,null,null,null,null,null,null,null,null,null,null,null,null,{"$f":"(IF(P457=\"\",\"\",MAX($N$3:$N456)+1))","v":454},523,"احمد454",null,null,null,{"$f":"IF(N457=\"\",\"\",IF(ISERROR(MATCH($N457,$J:$J,0)),T456,MAX($T$3:$T456)+1))","v":23},""]
[null,null,null,null,null,null,null,null,null,null,null,null,null,{"$f":"(IF(P458=\"\",\"\",MAX($N$3:$N457)+1))","v":455},524,"احمد455",null,null,null,{"$f":"IF(N458=\"\",\"\",IF(ISERROR(MATCH($N458,$J:$J,0)),T457,MAX($T$3:$T457)+1))","v":23},""]
[null,null,null,null,null,null,null,null,null,null,null,null,null,{"$f":"(IF(P459=\"\",\"\",MAX($N$3:$N458)+1))","v":456},525,"احمد456",null,null,null,{"$f":"IF(N459=\"\",\"\",IF(ISERROR(MATCH($N459,$J:$J,0)),T458,MAX($T$3:$T458)+1))","v":23},""]
[null,null,null,null,null,null,null,null,null,null,null,null,null,{"$f":"(IF(P460=\"\",\"\",MAX($N$3:$N459)+1))","v":457},526,"احمد457",null,null,null,{"$f":"IF(N460=\"\",\"\",IF(ISERROR(MATCH($N460,$J:$J,0)),T459,MAX($T$3:$T459)+1))","v":23},""]
[null,null,null,null,null,null,null,null,null,null,null,null,null,{"$f":"(IF(P461=\"\",\"\",MAX($N$3:$N460)+1))","v":458},527,"احمد458",null,null,null,{"$f":"IF(N461=\"\",\"\",IF(ISERROR(MATCH($N461,$J:$J,0)),T460,MAX($T$3:$T460)+1))","v":23},""]
[null,null,null,null,null,null,null,null,null,null,null,null,null,{"$f":"(IF(P462=\"\",\"\",MAX($N$3:$N461)+1))","v":459},528,"احمد459",null,null,null,{"$f":"IF(N462=\"\",\"\",IF(ISERROR(MATCH($N462,$J:$J,0)),T461,MAX($T$3:$T461)+1))","v":23},""]
[null,null,null,null,null,null,null,null,null,null,null,null,null,{"$f":"(IF(P463=\"\",\"\",MAX($N$3:$N462)+1))","v":460},529,"احمد460",null,null,null,{"$f":"IF(N463=\"\",\"\",IF(ISERROR(MATCH($N463,$J:$J,0)),T462,MAX($T$3:$T462)+1))","v":23},"نهاية اللجنة"]
[null,null,null,null,null,null,null,null,null,null,null,null,null,{"$f":"(IF(P464=\"\",\"\",MAX($N$3:$N463)+1))","v":461},530,"احمد461",null,null,null,{"$f":"IF(N464=\"\",\"\",IF(ISERROR(MATCH($N464,$J:$J,0)),T463,MAX($T$3:$T463)+1))","v":24},""]
[null,null,null,null,null,null,null,null,null,null,null,null,null,{"$f":"(IF(P465=\"\",\"\",MAX($N$3:$N464)+1))","v":462},531,"احمد462",null,null,null,{"$f":"IF(N465=\"\",\"\",IF(ISERROR(MATCH($N465,$J:$J,0)),T464,MAX($T$3:$T464)+1))","v":24},""]
[null,null,null,null,null,null,null,null,null,null,null,null,null,{"$f":"(IF(P466=\"\",\"\",MAX($N$3:$N465)+1))","v":463},532,"احمد463",null,null,null,{"$f":"IF(N466=\"\",\"\",IF(ISERROR(MATCH($N466,$J:$J,0)),T465,MAX($T$3:$T465)+1))","v":24},""]
[null,null,null,null,null,null,null,null,null,null,null,null,null,{"$f":"(IF(P467=\"\",\"\",MAX($N$3:$N466)+1))","v":464},533,"احمد464",null,null,null,{"$f":"IF(N467=\"\",\"\",IF(ISERROR(MATCH($N467,$J:$J,0)),T466,MAX($T$3:$T466)+1))","v":24},""]
[null,null,null,null,null,null,null,null,null,null,null,null,null,{"$f":"(IF(P468=\"\",\"\",MAX($N$3:$N467)+1))","v":465},534,"احمد465",null,null,null,{"$f":"IF(N468=\"\",\"\",IF(ISERROR(MATCH($N468,$J:$J,0)),T467,MAX($T$3:$T467)+1))","v":24},""]
[null,null,null,null,null,null,null,null,null,null,null,null,null,{"$f":"(IF(P469=\"\",\"\",MAX($N$3:$N468)+1))","v":466},535,"احمد466",null,null,null,{"$f":"IF(N469=\"\",\"\",IF(ISERROR(MATCH($N469,$J:$J,0)),T468,MAX($T$3:$T468)+1))","v":24},""]
[null,null,null,null,null,null,null,null,null,null,null,null,null,{"$f":"(IF(P470=\"\",\"\",MAX($N$3:$N469)+1))","v":467},536,"احمد467",null,null,null,{"$f":"IF(N470=\"\",\"\",IF(ISERROR(MATCH($N470,$J:$J,0)),T469,MAX($T$3:$T469)+1))","v":24},""]
[null,null,null,null,null,null,null,null,null,null,null,null,null,{"$f":"(IF(P471=\"\",\"\",MAX($N$3:$N470)+1))","v":468},537,"احمد468",null,null,null,{"$f":"IF(N471=\"\",\"\",IF(ISERROR(MATCH($N471,$J:$J,0)),T470,MAX($T$3:$T470)+1))","v":24},""]
[null,null,null,null,null,null,null,null,null,null,null,null,null,{"$f":"(IF(P472=\"\",\"\",MAX($N$3:$N471)+1))","v":469},538,"احمد469",null,null,null,{"$f":"IF(N472=\"\",\"\",IF(ISERROR(MATCH($N472,$J:$J,0)),T471,MAX($T$3:$T471)+1))","v":24},""]
[null,null,null,null,null,null,null,null,null,null,null,null,null,{"$f":"(IF(P473=\"\",\"\",MAX($N$3:$N472)+1))","v":470},539,"احمد470",null,null,null,{"$f":"IF(N473=\"\",\"\",IF(ISERROR(MATCH($N473,$J:$J,0)),T472,MAX($T$3:$T472)+1))","v":24},""]
[null,null,null,null,null,null,null,null,null,null,null,null,null,{"$f":"(IF(P474=\"\",\"\",MAX($N$3:$N473)+1))","v":471},540,"احمد471",null,null,null,{"$f":"IF(N474=\"\",\"\",IF(ISERROR(MATCH($N474,$J:$J,0)),T473,MAX($T$3:$T473)+1))","v":24},""]
[null,null,null,null,null,null,null,null,null,null,null,null,null,{"$f":"(IF(P475=\"\",\"\",MAX($N$3:$N474)+1))","v":472},541,"احمد472",null,null,null,{"$f":"IF(N475=\"\",\"\",IF(ISERROR(MATCH($N475,$J:$J,0)),T474,MAX($T$3:$T474)+1))","v":24},""]
[null,null,null,null,null,null,null,null,null,null,null,null,null,{"$f":"(IF(P476=\"\",\"\",MAX($N$3:$N475)+1))","v":473},542,"احمد473",null,null,null,{"$f":"IF(N476=\"\",\"\",IF(ISERROR(MATCH($N476,$J:$J,0)),T475,MAX($T$3:$T475)+1))","v":24},""]
[null,null,null,null,null,null,null,null,null,null,null,null,null,{"$f":"(IF(P477=\"\",\"\",MAX($N$3:$N476)+1))","v":474},543,"احمد474",null,null,null,{"$f":"IF(N477=\"\",\"\",IF(ISERROR(MATCH($N477,$J:$J,0)),T476,MAX($T$3:$T476)+1))","v":24},""]
[null,null,null,null,null,null,null,null,null,null,null,null,null,{"$f":"(IF(P478=\"\",\"\",MAX($N$3:$N477)+1))","v":475},544,"احمد475",null,null,null,{"$f":"IF(N478=\"\",\"\",IF(ISERROR(MATCH($N478,$J:$J,0)),T477,MAX($T$3:$T477)+1))","v":24},""]
[null,null,null,null,null,null,null,null,null,null,null,null,null,{"$f":"(IF(P479=\"\",\"\",MAX($N$3:$N478)+1))","v":476},545,"احمد476",null,null,null,{"$f":"IF(N479=\"\",\"\",IF(ISERROR(MATCH($N479,$J:$J,0)),T478,MAX($T$3:$T478)+1))","v":24},""]
[null,null,null,null,null,null,null,null,null,null,null,null,null,{"$f":"(IF(P480=\"\",\"\",MAX($N$3:$N479)+1))","v":477},546,"احمد477",null,null,null,{"$f":"IF(N480=\"\",\"\",IF(ISERROR(MATCH($N480,$J:$J,0)),T479,MAX($T$3:$T479)+1))","v":24},""]
[null,null,null,null,null,null,null,null,null,null,null,null,null,{"$f":"(IF(P481=\"\",\"\",MAX($N$3:$N480)+1))","v":478},547,"احمد478",null,null,null,{"$f":"IF(N481=\"\",\"\",IF(ISERROR(MATCH($N481,$J:$J,0)),T480,MAX($T$3:$T480)+1))","v":24},""]
[null,null,null,null,null,null,null,null,null,null,null,null,null,{"$f":"(IF(P482=\"\",\"\",MAX($N$3:$N481)+1))","v":479},548,"احمد479",null,null,null,{"$f":"IF(N482=\"\",\"\",IF(ISERROR(MATCH($N482,$J:$J,0)),T481,MAX($T$3:$T481)+1))","v":24},""]
[null,null,null,null,null,null,null,null,null,null,null,null,null,{"$f":"(IF(P483=\"\",\"\",MAX($N$3:$N482)+1))","v":480},549,"احمد480",null,null,null,{"$f":"IF(N483=\"\",\"\",IF(ISERROR(MATCH($N483,$J:$J,0)),T482,MAX($T$3:$T482)+1))","v":24},"نهاية اللجنة"]
[null,null,null,null,null,null,null,null,null,null,null,null,null,{"$f":"(IF(P484=\"\",\"\",MAX($N$3:$N483)+1))","v":481},550,"احمد481",null,null,null,{"$f":"IF(N484=\"\",\"\",IF(ISERROR(MATCH($N484,$J:$J,0)),T483,MAX($T$3:$T483)+1))","v":25},""]
[null,null,null,null,null,null,null,null,null,null,null,null,null,{"$f":"(IF(P485=\"\",\"\",MAX($N$3:$N484)+1))","v":482},551,"احمد482",null,null,null,{"$f":"IF(N485=\"\",\"\",IF(ISERROR(MATCH($N485,$J:$J,0)),T484,MAX($T$3:$T484)+1))","v":25},""]
[null,null,null,null,null,null,null,null,null,null,null,null,null,{"$f":"(IF(P486=\"\",\"\",MAX($N$3:$N485)+1))","v":483},552,"احمد483",null,null,null,{"$f":"IF(N486=\"\",\"\",IF(ISERROR(MATCH($N486,$J:$J,0)),T485,MAX($T$3:$T485)+1))","v":25},""]
[null,null,null,null,null,null,null,null,null,null,null,null,null,{"$f":"(IF(P487=\"\",\"\",MAX($N$3:$N486)+1))","v":484},553,"احمد484",null,null,null,{"$f":"IF(N487=\"\",\"\",IF(ISERROR(MATCH($N487,$J:$J,0)),T486,MAX($T$3:$T486)+1))","v":25},""]
[null,null,null,null,null,null,null,null,null,null,null,null,null,{"$f":"(IF(P488=\"\",\"\",MAX($N$3:$N487)+1))","v":485},554,"احمد485",null,null,null,{"$f":"IF(N488=\"\",\"\",IF(ISERROR(MATCH($N488,$J:$J,0)),T487,MAX($T$3:$T487)+1))","v":25},""]
[null,null,null,null,null,null,null,null,null,null,null,null,null,{"$f":"(IF(P489=\"\",\"\",MAX($N$3:$N488)+1))","v":486},555,"احمد486",null,null,null,{"$f":"IF(N489=\"\",\"\",IF(ISERROR(MATCH($N489,$J:$J,0)),T488,MAX($T$3:$T488)+1))","v":25},""]
[null,null,null,null,null,null,null,null,null,null,null,null,null,{"$f":"(IF(P490=\"\",\"\",MAX($N$3:$N489)+1))","v":487},556,"احمد487",null,null,null,{"$f":"IF(N490=\"\",\"\",IF(ISERROR(MATCH($N490,$J:$J,0)),T489,MAX($T$3:$T489)+1))","v":25},""]
[null,null,null,null,null,null,null,null,null,null,null,null,null,{"$f":"(IF(P491=\"\",\"\",MAX($N$3:$N490)+1))","v":488},557,"احمد488",null,null,null,{"$f":"IF(N491=\"\",\"\",IF(ISERROR(MATCH($N491,$J:$J,0)),T490,MAX($T$3:$T490)+1))","v":25},""]
[null,null,null,null,null,null,null,null,null,null,null,null,null,{"$f":"(IF(P492=\"\",\"\",MAX($N$3:$N491)+1))","v":489},558,"احمد489",null,null,null,{"$f":"IF(N492=\"\",\"\",IF(ISERROR(MATCH($N492,$J:$J,0)),T491,MAX($T$3:$T491)+1))","v":25},""]
[null,null,null,null,null,null,null,null,null,null,null,null,null,{"$f":"(IF(P493=\"\",\"\",MAX($N$3:$N492)+1))","v":490},559,"احمد490",null,null,null,{"$f":"IF(N493=\"\",\"\",IF(ISERROR(MATCH($N493,$J:$J,0)),T492,MAX($T$3:$T492)+1))","v":25},""]
[null,null,null,null,null,null,null,null,null,null,null,null,null,{"$f":"(IF(P494=\"\",\"\",MAX($N$3:$N493)+1))","v":491},560,"احمد491",null,null,null,{"$f":"IF(N494=\"\",\"\",IF(ISERROR(MATCH($N494,$J:$J,0)),T493,MAX($T$3:$T493)+1))","v":25},""]
[null,null,null,null,null,null,null,null,null,null,null,null,null,{"$f":"(IF(P495=\"\",\"\",MAX($N$3:$N494)+1))","v":492},561,"احمد492",null,null,null,{"$f":"IF(N495=\"\",\"\",IF(ISERROR(MATCH($N495,$J:$J,0)),T494,MAX($T$3:$T494)+1))","v":25},""]
[null,null,null,null,null,null,null,null,null,null,null,null,null,{"$f":"(IF(P496=\"\",\"\",MAX($N$3:$N495)+1))","v":493},562,"احمد493",null,null,null,{"$f":"IF(N496=\"\",\"\",IF(ISERROR(MATCH($N496,$J:$J,0)),T495,MAX($T$3:$T495)+1))","v":25},""]
[null,null,null,null,null,null,null,null,null,null,null,null,null,{"$f":"(IF(P497=\"\",\"\",MAX($N$3:$N496)+1))","v":494},563,"احمد494",null,null,null,{"$f":"IF(N497=\"\",\"\",IF(ISERROR(MATCH($N497,$J:$J,0)),T496,MAX($T$3:$T496)+1))","v":25},""]
[null,null,null,null,null,null,null,null,null,null,null,null,null,{"$f":"(IF(P498=\"\",\"\",MAX($N$3:$N497)+1))","v":495},564,"احمد495",null,null,null,{"$f":"IF(N498=\"\",\"\",IF(ISERROR(MATCH($N498,$J:$J,0)),T497,MAX($T$3:$T497)+1))","v":25},""]
[null,null,null,null,null,null,null,null,null,null,null,null,null,{"$f":"(IF(P499=\"\",\"\",MAX($N$3:$N498)+1))","v":496},565,"احمد496",null,null,null,{"$f":"IF(N499=\"\",\"\",IF(ISERROR(MATCH($N499,$J:$J,0)),T498,MAX($T$3:$T498)+1))","v":25},""]
[null,null,null,null,null,null,null,null,null,null,null,null,null,{"$f":"(IF(P500=\"\",\"\",MAX($N$3:$N499)+1))","v":497},566,"احمد497",null,null,null,{"$f":"IF(N500=\"\",\"\",IF(ISERROR(MATCH($N500,$J:$J,0)),T499,MAX($T$3:$T499)+1))","v":25},""]
[null,null,null,null,null,null,null,null,null,null,null,null,null,{"$f":"(IF(P501=\"\",\"\",MAX($N$3:$N500)+1))","v":498},567,"احمد498",null,null,null,{"$f":"IF(N501=\"\",\"\",IF(ISERROR(MATCH($N501,$J:$J,0)),T500,MAX($T$3:$T500)+1))","v":25},""]
[null,null,null,null,null,null,null,null,null,null,null,null,null,{"$f":"(IF(P502=\"\",\"\",MAX($N$3:$N501)+1))","v":499},568,"احمد499",null,null,null,{"$f":"IF(N502=\"\",\"\",IF(ISERROR(MATCH($N502,$J:$J,0)),T501,MAX($T$3:$T501)+1))","v":25},""]
[null,null,null,null,null,null,null,null,null,null,null,null,null,{"$f":"(IF(P503=\"\",\"\",MAX($N$3:$N502)+1))","v":500},569,"احمد500",null,null,null,{"$f":"IF(N503=\"\",\"\",IF(ISERROR(MATCH($N503,$J:$J,0)),T502,MAX($T$3:$T502)+1))","v":25},"نهاية اللجنة"]
[null,null,null,null,null,null,null,null,null,null,null,null,null,{"$f":"(IF(P504=\"\",\"\",MAX($N$3:$N503)+1))","v":501},570,"احمد501",null,null,null,{"$f":"IF(N504=\"\",\"\",IF(ISERROR(MATCH($N504,$J:$J,0)),T503,MAX($T$3:$T503)+1))","v":26},""]
[null,null,null,null,null,null,null,null,null,null,null,null,null,{"$f":"(IF(P505=\"\",\"\",MAX($N$3:$N504)+1))","v":502},571,"احمد502",null,null,null,{"$f":"IF(N505=\"\",\"\",IF(ISERROR(MATCH($N505,$J:$J,0)),T504,MAX($T$3:$T504)+1))","v":26},""]
[null,null,null,null,null,null,null,null,null,null,null,null,null,{"$f":"(IF(P506=\"\",\"\",MAX($N$3:$N505)+1))","v":503},572,"احمد503",null,null,null,{"$f":"IF(N506=\"\",\"\",IF(ISERROR(MATCH($N506,$J:$J,0)),T505,MAX($T$3:$T505)+1))","v":26},""]
[null,null,null,null,null,null,null,null,null,null,null,null,null,{"$f":"(IF(P507=\"\",\"\",MAX($N$3:$N506)+1))","v":504},573,"احمد504",null,null,null,{"$f":"IF(N507=\"\",\"\",IF(ISERROR(MATCH($N507,$J:$J,0)),T506,MAX($T$3:$T506)+1))","v":26},""]
[null,null,null,null,null,null,null,null,null,null,null,null,null,{"$f":"(IF(P508=\"\",\"\",MAX($N$3:$N507)+1))","v":505},574,"احمد505",null,null,null,{"$f":"IF(N508=\"\",\"\",IF(ISERROR(MATCH($N508,$J:$J,0)),T507,MAX($T$3:$T507)+1))","v":26},""]
[null,null,null,null,null,null,null,null,null,null,null,null,null,{"$f":"(IF(P509=\"\",\"\",MAX($N$3:$N508)+1))","v":506},575,"احمد506",null,null,null,{"$f":"IF(N509=\"\",\"\",IF(ISERROR(MATCH($N509,$J:$J,0)),T508,MAX($T$3:$T508)+1))","v":26},""]
[null,null,null,null,null,null,null,null,null,null,null,null,null,{"$f":"(IF(P510=\"\",\"\",MAX($N$3:$N509)+1))","v":507},576,"احمد507",null,null,null,{"$f":"IF(N510=\"\",\"\",IF(ISERROR(MATCH($N510,$J:$J,0)),T509,MAX($T$3:$T509)+1))","v":26},""]
[null,null,null,null,null,null,null,null,null,null,null,null,null,{"$f":"(IF(P511=\"\",\"\",MAX($N$3:$N510)+1))","v":508},577,"احمد508",null,null,null,{"$f":"IF(N511=\"\",\"\",IF(ISERROR(MATCH($N511,$J:$J,0)),T510,MAX($T$3:$T510)+1))","v":26},""]
[null,null,null,null,null,null,null,null,null,null,null,null,null,{"$f":"(IF(P512=\"\",\"\",MAX($N$3:$N511)+1))","v":509},578,"احمد509",null,null,null,{"$f":"IF(N512=\"\",\"\",IF(ISERROR(MATCH($N512,$J:$J,0)),T511,MAX($T$3:$T511)+1))","v":26},""]
[null,null,null,null,null,null,null,null,null,null,null,null,null,{"$f":"(IF(P513=\"\",\"\",MAX($N$3:$N512)+1))","v":510},579,"احمد510",null,null,null,{"$f":"IF(N513=\"\",\"\",IF(ISERROR(MATCH($N513,$J:$J,0)),T512,MAX($T$3:$T512)+1))","v":26},""]
[null,null,null,null,null,null,null,null,null,null,null,null,null,{"$f":"(IF(P514=\"\",\"\",MAX($N$3:$N513)+1))","v":511},580,"احمد511",null,null,null,{"$f":"IF(N514=\"\",\"\",IF(ISERROR(MATCH($N514,$J:$J,0)),T513,MAX($T$3:$T513)+1))","v":26},""]
[null,null,null,null,null,null,null,null,null,null,null,null,null,{"$f":"(IF(P515=\"\",\"\",MAX($N$3:$N514)+1))","v":512},581,"احمد512",null,null,null,{"$f":"IF(N515=\"\",\"\",IF(ISERROR(MATCH($N515,$J:$J,0)),T514,MAX($T$3:$T514)+1))","v":26},""]
[null,null,null,null,null,null,null,null,null,null,null,null,null,{"$f":"(IF(P516=\"\",\"\",MAX($N$3:$N515)+1))","v":513},582,"احمد513",null,null,null,{"$f":"IF(N516=\"\",\"\",IF(ISERROR(MATCH($N516,$J:$J,0)),T515,MAX($T$3:$T515)+1))","v":26},""]
[null,null,null,null,null,null,null,null,null,null,null,null,null,{"$f":"(IF(P517=\"\",\"\",MAX($N$3:$N516)+1))","v":514},583,"احمد514",null,null,null,{"$f":"IF(N517=\"\",\"\",IF(ISERROR(MATCH($N517,$J:$J,0)),T516,MAX($T$3:$T516)+1))","v":26},{"$f":"IF(T517=T518,\"\",\"نهاية اللجنة\")","v":""}]
[null,null,null,null,null,null,null,null,null,null,null,null,null,{"$f":"(IF(P518=\"\",\"\",MAX($N$3:$N517)+1))","v":515},{"$f":"IF(O517=\"\",\"\",IF(O517+1>$O$2,\"\",O517+1))","v":584},"احمد515",null,null,null,{"$f":"IF(N518=\"\",\"\",IF(ISERROR(MATCH($N518,$J:$J,0)),T517,MAX($T$3:$T517)+1))","v":26},""]
[null,null,null,null,null,null,null,null,null,null,null,null,null,{"$f":"(IF(P519=\"\",\"\",MAX($N$3:$N518)+1))","v":516},585,"احمد516",null,null,null,{"$f":"IF(N519=\"\",\"\",IF(ISERROR(MATCH($N519,$J:$J,0)),T518,MAX($T$3:$T518)+1))","v":26},""]
[null,null,null,null,null,null,null,null,null,null,null,null,null,{"$f":"(IF(P520=\"\",\"\",MAX($N$3:$N519)+1))","v":517},586,"احمد517",null,null,null,{"$f":"IF(N520=\"\",\"\",IF(ISERROR(MATCH($N520,$J:$J,0)),T519,MAX($T$3:$T519)+1))","v":26},""]
[null,null,null,null,null,null,null,null,null,null,null,null,null,{"$f":"(IF(P521=\"\",\"\",MAX($N$3:$N520)+1))","v":518},587,"احمد518",null,null,null,{"$f":"IF(N521=\"\",\"\",IF(ISERROR(MATCH($N521,$J:$J,0)),T520,MAX($T$3:$T520)+1))","v":26},""]
[null,null,null,null,null,null,null,null,null,null,null,null,null,{"$f":"(IF(P522=\"\",\"\",MAX($N$3:$N521)+1))","v":519},588,"احمد519",null,null,null,{"$f":"IF(N522=\"\",\"\",IF(ISERROR(MATCH($N522,$J:$J,0)),T521,MAX($T$3:$T521)+1))","v":26},""]
[null,null,null,null,null,null,null,null,null,null,null,null,null,{"$f":"(IF(P523=\"\",\"\",MAX($N$3:$N522)+1))","v":520},589,"احمد520",null,null,null,{"$f":"IF(N523=\"\",\"\",IF(ISERROR(MATCH($N523,$J:$J,0)),T522,MAX($T$3:$T522)+1))","v":26},"نهاية اللجنة"]
[null,null,null,null,null,null,null,null,null,null,null,null,null,{"$f":"(IF(P524=\"\",\"\",MAX($N$3:$N523)+1))","v":521},590,"احمد521",null,null,null,{"$f":"IF(N524=\"\",\"\",IF(ISERROR(MATCH($N524,$J:$J,0)),T523,MAX($T$3:$T523)+1))","v":27},""]
[null,null,null,null,null,null,null,null,null,null,null,null,null,{"$f":"(IF(P525=\"\",\"\",MAX($N$3:$N524)+1))","v":522},591,"احمد522",null,null,null,{"$f":"IF(N525=\"\",\"\",IF(ISERROR(MATCH($N525,$J:$J,0)),T524,MAX($T$3:$T524)+1))","v":27},""]
[null,null,null,null,null,null,null,null,null,null,null,null,null,{"$f":"(IF(P526=\"\",\"\",MAX($N$3:$N525)+1))","v":523},592,"احمد523",null,null,null,{"$f":"IF(N526=\"\",\"\",IF(ISERROR(MATCH($N526,$J:$J,0)),T525,MAX($T$3:$T525)+1))","v":27},""]
[null,null,null,null,null,null,null,null,null,null,null,null,null,{"$f":"(IF(P527=\"\",\"\",MAX($N$3:$N526)+1))","v":524},593,"احمد524",null,null,null,{"$f":"IF(N527=\"\",\"\",IF(ISERROR(MATCH($N527,$J:$J,0)),T526,MAX($T$3:$T526)+1))","v":27},""]
[null,null,null,null,null,null,null,null,null,null,null,null,null,{"$f":"(IF(P528=\"\",\"\",MAX($N$3:$N527)+1))","v":525},594,"احمد525",null,null,null,{"$f":"IF(N528=\"\",\"\",IF(ISERROR(MATCH($N528,$J:$J,0)),T527,MAX($T$3:$T527)+1))","v":27},""]
[null,null,null,null,null,null,null,null,null,null,null,null,null,{"$f":"(IF(P529=\"\",\"\",MAX($N$3:$N528)+1))","v":526},595,"احمد526",null,null,null,{"$f":"IF(N529=\"\",\"\",IF(ISERROR(MATCH($N529,$J:$J,0)),T528,MAX($T$3:$T528)+1))","v":27},""]
[null,null,null,null,null,null,null,null,null,null,null,null,null,{"$f":"(IF(P530=\"\",\"\",MAX($N$3:$N529)+1))","v":527},596,"احمد527",null,null,null,{"$f":"IF(N530=\"\",\"\",IF(ISERROR(MATCH($N530,$J:$J,0)),T529,MAX($T$3:$T529)+1))","v":27},""]
[null,null,null,null,null,null,null,null,null,null,null,null,null,{"$f":"(IF(P531=\"\",\"\",MAX($N$3:$N530)+1))","v":528},597,"احمد528",null,null,null,{"$f":"IF(N531=\"\",\"\",IF(ISERROR(MATCH($N531,$J:$J,0)),T530,MAX($T$3:$T530)+1))","v":27},""]
[null,null,null,null,null,null,null,null,null,null,null,null,null,{"$f":"(IF(P532=\"\",\"\",MAX($N$3:$N531)+1))","v":529},598,"احمد529",null,null,null,{"$f":"IF(N532=\"\",\"\",IF(ISERROR(MATCH($N532,$J:$J,0)),T531,MAX($T$3:$T531)+1))","v":27},""]
[null,null,null,null,null,null,null,null,null,null,null,null,null,{"$f":"(IF(P533=\"\",\"\",MAX($N$3:$N532)+1))","v":530},599,"احمد530",null,null,null,{"$f":"IF(N533=\"\",\"\",IF(ISERROR(MATCH($N533,$J:$J,0)),T532,MAX($T$3:$T532)+1))","v":27},""]
[null,null,null,null,null,null,null,null,null,null,null,null,null,{"$f":"(IF(P534=\"\",\"\",MAX($N$3:$N533)+1))","v":531},600,"احمد531",null,null,null,{"$f":"IF(N534=\"\",\"\",IF(ISERROR(MATCH($N534,$J:$J,0)),T533,MAX($T$3:$T533)+1))","v":27},""]
[null,null,null,null,null,null,null,null,null,null,null,null,null,{"$f":"(IF(P535=\"\",\"\",MAX($N$3:$N534)+1))","v":532},601,"احمد532",null,null,null,{"$f":"IF(N535=\"\",\"\",IF(ISERROR(MATCH($N535,$J:$J,0)),T534,MAX($T$3:$T534)+1))","v":27},""]
[null,null,null,null,null,null,null,null,null,null,null,null,null,{"$f":"(IF(P536=\"\",\"\",MAX($N$3:$N535)+1))","v":533},602,"احمد533",null,null,null,{"$f":"IF(N536=\"\",\"\",IF(ISERROR(MATCH($N536,$J:$J,0)),T535,MAX($T$3:$T535)+1))","v":27},""]
[null,null,null,null,null,null,null,null,null,null,null,null,null,{"$f":"(IF(P537=\"\",\"\",MAX($N$3:$N536)+1))","v":534},603,"احمد534",null,null,null,{"$f":"IF(N537=\"\",\"\",IF(ISERROR(MATCH($N537,$J:$J,0)),T536,MAX($T$3:$T536)+1))","v":27},"نهاية اللجنة"]
[null,null,null,null,null,null,null,null,null,null,null,null,null,{"$f":"(IF(P538=\"\",\"\",MAX($N$3:$N537)+1))","v":""},"",null,null,null,null,{"$f":"IF(N538=\"\",\"\",IF(ISERROR(MATCH($N538,$J:$J,0)),T537,MAX($T$3:$T537)+1))","v":""},""]
[null,null,null,null,null,null,null,null,null,null,null,null,null,{"$f":"(IF(P539=\"\",\"\",MAX($N$3:$N538)+1))","v":""},"",null,null,null,null,{"$f":"IF(N539=\"\",\"\",IF(ISERROR(MATCH($N539,$J:$J,0)),T538,MAX($T$3:$T538)+1))","v":""},""]
[null,null,null,null,null,null,null,null,null,null,null,null,null,{"$f":"(IF(P540=\"\",\"\",MAX($N$3:$N539)+1))","v":""},"",null,null,null,null,{"$f":"IF(N540=\"\",\"\",IF(ISERROR(MATCH($N540,$J:$J,0)),T539,MAX($T$3:$T539)+1))","v":""},""]
[null,null,null,null,null,null,null,null,null,null,null,null,null,{"$f":"(IF(P541=\"\",\"\",MAX($N$3:$N540)+1))","v":""},"",null,null,null,null,{"$f":"IF(N541=\"\",\"\",IF(ISERROR(MATCH($N541,$J:$J,0)),T540,MAX($T$3:$T540)+1))","v":""},""]
[null,null,null,null,null,null,null,null,null,null,null,null,null,{"$f":"(IF(P542=\"\",\"\",MAX($N$3:$N541)+1))","v":""},"",null,null,null,null,{"$f":"IF(N542=\"\",\"\",IF(ISERROR(MATCH($N542,$J:$J,0)),T541,MAX($T$3:$T541)+1))","v":""},""]
[null,null,null,null,null,null,null,null,null,null,null,null,null,{"$f":"(IF(P543=\"\",\"\",MAX($N$3:$N542)+1))","v":""},"",null,null,null,null,{"$f":"IF(N543=\"\",\"\",IF(ISERROR(MATCH($N543,$J:$J,0)),T542,MAX($T$3:$T542)+1))","v":""},""]
[null,null,null,null,null,null,null,null,null,null,null,null,null,{"$f":"(IF(P544=\"\",\"\",MAX($N$3:$N543)+1))","v":""},"",null,null,null,null,{"$f":"IF(N544=\"\",\"\",IF(ISERROR(MATCH($N544,$J:$J,0)),T543,MAX($T$3:$T543)+1))","v":""},""]
[null,null,null,null,null,null,null,null,null,null,null,null,null,{"$f":"(IF(P545=\"\",\"\",MAX($N$3:$N544)+1))","v":""},"",null,null,null,null,{"$f":"IF(N545=\"\",\"\",IF(ISERROR(MATCH($N545,$J:$J,0)),T544,MAX($T$3:$T544)+1))","v":""},""]
[null,null,null,null,null,null,null,null,null,null,null,null,null,{"$f":"(IF(P546=\"\",\"\",MAX($N$3:$N545)+1))","v":""},"",null,null,null,null,{"$f":"IF(N546=\"\",\"\",IF(ISERROR(MATCH($N546,$J:$J,0)),T545,MAX($T$3:$T545)+1))","v":""},""]
[null,null,null,null,null,null,null,null,null,null,null,null,null,{"$f":"(IF(P547=\"\",\"\",MAX($N$3:$N546)+1))","v":""},"",null,null,null,null,{"$f":"IF(N547=\"\",\"\",IF(ISERROR(MATCH($N547,$J:$J,0)),T546,MAX($T$3:$T546)+1))","v":""},""]
[null,null,null,null,null,null,null,null,null,null,null,null,null,{"$f":"(IF(P548=\"\",\"\",MAX($N$3:$N547)+1))","v":""},"",null,null,null,null,{"$f":"IF(N548=\"\",\"\",IF(ISERROR(MATCH($N548,$J:$J,0)),T547,MAX($T$3:$T547)+1))","v":""},""]
[null,null,null,null,null,null,null,null,null,null,null,null,null,{"$f":"(IF(P549=\"\",\"\",MAX($N$3:$N548)+1))","v":""},"",null,null,null,null,{"$f":"IF(N549=\"\",\"\",IF(ISERROR(MATCH($N549,$J:$J,0)),T548,MAX($T$3:$T548)+1))","v":""},""]
[null,null,null,null,null,null,null,null,null,null,null,null,null,{"$f":"(IF(P550=\"\",\"\",MAX($N$3:$N549)+1))","v":""},"",null,null,null,null,{"$f":"IF(N550=\"\",\"\",IF(ISERROR(MATCH($N550,$J:$J,0)),T549,MAX($T$3:$T549)+1))","v":""},""]
[null,null,null,null,null,null,null,null,null,null,null,null,null,{"$f":"(IF(P551=\"\",\"\",MAX($N$3:$N550)+1))","v":""},"",null,null,null,null,{"$f":"IF(N551=\"\",\"\",IF(ISERROR(MATCH($N551,$J:$J,0)),T550,MAX($T$3:$T550)+1))","v":""},""]
[null,null,null,null,null,null,null,null,null,null,null,null,null,{"$f":"(IF(P552=\"\",\"\",MAX($N$3:$N551)+1))","v":""},"",null,null,null,null,{"$f":"IF(N552=\"\",\"\",IF(ISERROR(MATCH($N552,$J:$J,0)),T551,MAX($T$3:$T551)+1))","v":""},""]
[null,null,null,null,null,null,null,null,null,null,null,null,null,{"$f":"(IF(P553=\"\",\"\",MAX($N$3:$N552)+1))","v":""},"",null,null,null,null,{"$f":"IF(N553=\"\",\"\",IF(ISERROR(MATCH($N553,$J:$J,0)),T552,MAX($T$3:$T552)+1))","v":""},""]
[null,null,null,null,null,null,null,null,null,null,null,null,null,{"$f":"(IF(P554=\"\",\"\",MAX($N$3:$N553)+1))","v":""},"",null,null,null,null,{"$f":"IF(N554=\"\",\"\",IF(ISERROR(MATCH($N554,$J:$J,0)),T553,MAX($T$3:$T553)+1))","v":""},""]
[null,null,null,null,null,null,null,null,null,null,null,null,null,{"$f":"(IF(P555=\"\",\"\",MAX($N$3:$N554)+1))","v":""},"",null,null,null,null,{"$f":"IF(N555=\"\",\"\",IF(ISERROR(MATCH($N555,$J:$J,0)),T554,MAX($T$3:$T554)+1))","v":""},""]
[null,null,null,null,null,null,null,null,null,null,null,null,null,{"$f":"(IF(P556=\"\",\"\",MAX($N$3:$N555)+1))","v":""},"",null,null,null,null,{"$f":"IF(N556=\"\",\"\",IF(ISERROR(MATCH($N556,$J:$J,0)),T555,MAX($T$3:$T555)+1))","v":""},""]
[null,null,null,null,null,null,null,null,null,null,null,null,null,{"$f":"(IF(P557=\"\",\"\",MAX($N$3:$N556)+1))","v":""},"",null,null,null,null,{"$f":"IF(N557=\"\",\"\",IF(ISERROR(MATCH($N557,$J:$J,0)),T556,MAX($T$3:$T556)+1))","v":""},""]
[null,null,null,null,null,null,null,null,null,null,null,null,null,{"$f":"(IF(P558=\"\",\"\",MAX($N$3:$N557)+1))","v":""},"",null,null,null,null,{"$f":"IF(N558=\"\",\"\",IF(ISERROR(MATCH($N558,$J:$J,0)),T557,MAX($T$3:$T557)+1))","v":""},""]
[null,null,null,null,null,null,null,null,null,null,null,null,null,{"$f":"(IF(P559=\"\",\"\",MAX($N$3:$N558)+1))","v":""},"",null,null,null,null,{"$f":"IF(N559=\"\",\"\",IF(ISERROR(MATCH($N559,$J:$J,0)),T558,MAX($T$3:$T558)+1))","v":""},""]
[null,null,null,null,null,null,null,null,null,null,null,null,null,{"$f":"(IF(P560=\"\",\"\",MAX($N$3:$N559)+1))","v":""},"",null,null,null,null,{"$f":"IF(N560=\"\",\"\",IF(ISERROR(MATCH($N560,$J:$J,0)),T559,MAX($T$3:$T559)+1))","v":""},""]
[null,null,null,null,null,null,null,null,null,null,null,null,null,{"$f":"(IF(P561=\"\",\"\",MAX($N$3:$N560)+1))","v":""},"",null,null,null,null,{"$f":"IF(N561=\"\",\"\",IF(ISERROR(MATCH($N561,$J:$J,0)),T560,MAX($T$3:$T560)+1))","v":""},""]
[null,null,null,null,null,null,null,null,null,null,null,null,null,{"$f":"(IF(P562=\"\",\"\",MAX($N$3:$N561)+1))","v":""},"",null,null,null,null,{"$f":"IF(N562=\"\",\"\",IF(ISERROR(MATCH($N562,$J:$J,0)),T561,MAX($T$3:$T561)+1))","v":""},""]
[null,null,null,null,null,null,null,null,null,null,null,null,null,{"$f":"(IF(P563=\"\",\"\",MAX($N$3:$N562)+1))","v":""},"",null,null,null,null,{"$f":"IF(N563=\"\",\"\",IF(ISERROR(MATCH($N563,$J:$J,0)),T562,MAX($T$3:$T562)+1))","v":""},""]
[null,null,null,null,null,null,null,null,null,null,null,null,null,{"$f":"(IF(P564=\"\",\"\",MAX($N$3:$N563)+1))","v":""},"",null,null,null,null,{"$f":"IF(N564=\"\",\"\",IF(ISERROR(MATCH($N564,$J:$J,0)),T563,MAX($T$3:$T563)+1))","v":""},""]
[null,null,null,null,null,null,null,null,null,null,null,null,null,{"$f":"(IF(P565=\"\",\"\",MAX($N$3:$N564)+1))","v":""},"",null,null,null,null,{"$f":"IF(N565=\"\",\"\",IF(ISERROR(MATCH($N565,$J:$J,0)),T564,MAX($T$3:$T564)+1))","v":""},""]
[null,null,null,null,null,null,null,null,null,null,null,null,null,{"$f":"(IF(P566=\"\",\"\",MAX($N$3:$N565)+1))","v":""},"",null,null,null,null,{"$f":"IF(N566=\"\",\"\",IF(ISERROR(MATCH($N566,$J:$J,0)),T565,MAX($T$3:$T565)+1))","v":""},""]
[null,null,null,null,null,null,null,null,null,null,null,null,null,{"$f":"(IF(P567=\"\",\"\",MAX($N$3:$N566)+1))","v":""},"",null,null,null,null,{"$f":"IF(N567=\"\",\"\",IF(ISERROR(MATCH($N567,$J:$J,0)),T566,MAX($T$3:$T566)+1))","v":""},""]
[null,null,null,null,null,null,null,null,null,null,null,null,null,{"$f":"(IF(P568=\"\",\"\",MAX($N$3:$N567)+1))","v":""},"",null,null,null,null,{"$f":"IF(N568=\"\",\"\",IF(ISERROR(MATCH($N568,$J:$J,0)),T567,MAX($T$3:$T567)+1))","v":""},""]
[null,null,null,null,null,null,null,null,null,null,null,null,null,{"$f":"(IF(P569=\"\",\"\",MAX($N$3:$N568)+1))","v":""},"",null,null,null,null,{"$f":"IF(N569=\"\",\"\",IF(ISERROR(MATCH($N569,$J:$J,0)),T568,MAX($T$3:$T568)+1))","v":""},""]
[null,null,null,null,null,null,null,null,null,null,null,null,null,{"$f":"(IF(P570=\"\",\"\",MAX($N$3:$N569)+1))","v":""},"",null,null,null,null,{"$f":"IF(N570=\"\",\"\",IF(ISERROR(MATCH($N570,$J:$J,0)),T569,MAX($T$3:$T569)+1))","v":""},""]
[null,null,null,null,null,null,null,null,null,null,null,null,null,{"$f":"(IF(P571=\"\",\"\",MAX($N$3:$N570)+1))","v":""},"",null,null,null,null,{"$f":"IF(N571=\"\",\"\",IF(ISERROR(MATCH($N571,$J:$J,0)),T570,MAX($T$3:$T570)+1))","v":""},""]
[null,null,null,null,null,null,null,null,null,null,null,null,null,{"$f":"(IF(P572=\"\",\"\",MAX($N$3:$N571)+1))","v":""},"",null,null,null,null,{"$f":"IF(N572=\"\",\"\",IF(ISERROR(MATCH($N572,$J:$J,0)),T571,MAX($T$3:$T571)+1))","v":""},""]
[null,null,null,null,null,null,null,null,null,null,null,null,null,{"$f":"(IF(P573=\"\",\"\",MAX($N$3:$N572)+1))","v":""},"",null,null,null,null,{"$f":"IF(N573=\"\",\"\",IF(ISERROR(MATCH($N573,$J:$J,0)),T572,MAX($T$3:$T572)+1))","v":""},""]
[null,null,null,null,null,null,null,null,null,null,null,null,null,{"$f":"(IF(P574=\"\",\"\",MAX($N$3:$N573)+1))","v":""},"",null,null,null,null,{"$f":"IF(N574=\"\",\"\",IF(ISERROR(MATCH($N574,$J:$J,0)),T573,MAX($T$3:$T573)+1))","v":""},""]
[null,null,null,null,null,null,null,null,null,null,null,null,null,{"$f":"(IF(P575=\"\",\"\",MAX($N$3:$N574)+1))","v":""},"",null,null,null,null,{"$f":"IF(N575=\"\",\"\",IF(ISERROR(MATCH($N575,$J:$J,0)),T574,MAX($T$3:$T574)+1))","v":""},""]
[null,null,null,null,null,null,null,null,null,null,null,null,null,{"$f":"(IF(P576=\"\",\"\",MAX($N$3:$N575)+1))","v":""},"",null,null,null,null,{"$f":"IF(N576=\"\",\"\",IF(ISERROR(MATCH($N576,$J:$J,0)),T575,MAX($T$3:$T575)+1))","v":""},""]
[null,null,null,null,null,null,null,null,null,null,null,null,null,{"$f":"(IF(P577=\"\",\"\",MAX($N$3:$N576)+1))","v":""},"",null,null,null,null,{"$f":"IF(N577=\"\",\"\",IF(ISERROR(MATCH($N577,$J:$J,0)),T576,MAX($T$3:$T576)+1))","v":""},""]
[null,null,null,null,null,null,null,null,null,null,null,null,null,{"$f":"(IF(P578=\"\",\"\",MAX($N$3:$N577)+1))","v":""},"",null,null,null,null,{"$f":"IF(N578=\"\",\"\",IF(ISERROR(MATCH($N578,$J:$J,0)),T577,MAX($T$3:$T577)+1))","v":""},""]
[null,null,null,null,null,null,null,null,null,null,null,null,null,{"$f":"(IF(P579=\"\",\"\",MAX($N$3:$N578)+1))","v":""},"",null,null,null,null,{"$f":"IF(N579=\"\",\"\",IF(ISERROR(MATCH($N579,$J:$J,0)),T578,MAX($T$3:$T578)+1))","v":""},""]
[null,null,null,null,null,null,null,null,null,null,null,null,null,{"$f":"(IF(P580=\"\",\"\",MAX($N$3:$N579)+1))","v":""},"",null,null,null,null,{"$f":"IF(N580=\"\",\"\",IF(ISERROR(MATCH($N580,$J:$J,0)),T579,MAX($T$3:$T579)+1))","v":""},""]
[null,null,null,null,null,null,null,null,null,null,null,null,null,{"$f":"(IF(P581=\"\",\"\",MAX($N$3:$N580)+1))","v":""},"",null,null,null,null,{"$f":"IF(N581=\"\",\"\",IF(ISERROR(MATCH($N581,$J:$J,0)),T580,MAX($T$3:$T580)+1))","v":""},{"$f":"IF(T581=T582,\"\",\"نهاية اللجنة\")","v":""}]
[null,null,null,null,null,null,null,null,null,null,null,null,null,{"$f":"(IF(P582=\"\",\"\",MAX($N$3:$N581)+1))","v":""},{"$f":"IF(O581=\"\",\"\",IF(O581+1>$O$2,\"\",O581+1))","v":""},null,null,null,null,{"$f":"IF(N582=\"\",\"\",IF(ISERROR(MATCH($N582,$J:$J,0)),T581,MAX($T$3:$T581)+1))","v":""},""]
[null,null,null,null,null,null,null,null,null,null,null,null,null,{"$f":"(IF(P583=\"\",\"\",MAX($N$3:$N582)+1))","v":""},"",null,null,null,null,{"$f":"IF(N583=\"\",\"\",IF(ISERROR(MATCH($N583,$J:$J,0)),T582,MAX($T$3:$T582)+1))","v":""},""]
[null,null,null,null,null,null,null,null,null,null,null,null,null,{"$f":"(IF(P584=\"\",\"\",MAX($N$3:$N583)+1))","v":""},"",null,null,null,null,{"$f":"IF(N584=\"\",\"\",IF(ISERROR(MATCH($N584,$J:$J,0)),T583,MAX($T$3:$T583)+1))","v":""},""]
[null,null,null,null,null,null,null,null,null,null,null,null,null,{"$f":"(IF(P585=\"\",\"\",MAX($N$3:$N584)+1))","v":""},"",null,null,null,null,{"$f":"IF(N585=\"\",\"\",IF(ISERROR(MATCH($N585,$J:$J,0)),T584,MAX($T$3:$T584)+1))","v":""},""]
[null,null,null,null,null,null,null,null,null,null,null,null,null,{"$f":"(IF(P586=\"\",\"\",MAX($N$3:$N585)+1))","v":""},"",null,null,null,null,{"$f":"IF(N586=\"\",\"\",IF(ISERROR(MATCH($N586,$J:$J,0)),T585,MAX($T$3:$T585)+1))","v":""},""]
[null,null,null,null,null,null,null,null,null,null,null,null,null,{"$f":"(IF(P587=\"\",\"\",MAX($N$3:$N586)+1))","v":""},"",null,null,null,null,{"$f":"IF(N587=\"\",\"\",IF(ISERROR(MATCH($N587,$J:$J,0)),T586,MAX($T$3:$T586)+1))","v":""},""]
[null,null,null,null,null,null,null,null,null,null,null,null,null,{"$f":"(IF(P588=\"\",\"\",MAX($N$3:$N587)+1))","v":""},"",null,null,null,null,{"$f":"IF(N588=\"\",\"\",IF(ISERROR(MATCH($N588,$J:$J,0)),T587,MAX($T$3:$T587)+1))","v":""},""]
[null,null,null,null,null,null,null,null,null,null,null,null,null,{"$f":"(IF(P589=\"\",\"\",MAX($N$3:$N588)+1))","v":""},"",null,null,null,null,{"$f":"IF(N589=\"\",\"\",IF(ISERROR(MATCH($N589,$J:$J,0)),T588,MAX($T$3:$T588)+1))","v":""},""]
[null,null,null,null,null,null,null,null,null,null,null,null,null,{"$f":"(IF(P590=\"\",\"\",MAX($N$3:$N589)+1))","v":""},"",null,null,null,null,{"$f":"IF(N590=\"\",\"\",IF(ISERROR(MATCH($N590,$J:$J,0)),T589,MAX($T$3:$T589)+1))","v":""},""]
[null,null,null,null,null,null,null,null,null,null,null,null,null,{"$f":"(IF(P591=\"\",\"\",MAX($N$3:$N590)+1))","v":""},"",null,null,null,null,{"$f":"IF(N591=\"\",\"\",IF(ISERROR(MATCH($N591,$J:$J,0)),T590,MAX($T$3:$T590)+1))","v":""},""]
[null,null,null,null,null,null,null,null,null,null,null,null,null,{"$f":"(IF(P592=\"\",\"\",MAX($N$3:$N591)+1))","v":""},"",null,null,null,null,{"$f":"IF(N592=\"\",\"\",IF(ISERROR(MATCH($N592,$J:$J,0)),T591,MAX($T$3:$T591)+1))","v":""},""]
[null,null,null,null,null,null,null,null,null,null,null,null,null,{"$f":"(IF(P593=\"\",\"\",MAX($N$3:$N592)+1))","v":""},"",null,null,null,null,{"$f":"IF(N593=\"\",\"\",IF(ISERROR(MATCH($N593,$J:$J,0)),T592,MAX($T$3:$T592)+1))","v":""},""]
[null,null,null,null,null,null,null,null,null,null,null,null,null,{"$f":"(IF(P594=\"\",\"\",MAX($N$3:$N593)+1))","v":""},"",null,null,null,null,{"$f":"IF(N594=\"\",\"\",IF(ISERROR(MATCH($N594,$J:$J,0)),T593,MAX($T$3:$T593)+1))","v":""},""]
[null,null,null,null,null,null,null,null,null,null,null,null,null,{"$f":"(IF(P595=\"\",\"\",MAX($N$3:$N594)+1))","v":""},"",null,null,null,null,{"$f":"IF(N595=\"\",\"\",IF(ISERROR(MATCH($N595,$J:$J,0)),T594,MAX($T$3:$T594)+1))","v":""},""]
[null,null,null,null,null,null,null,null,null,null,null,null,null,{"$f":"(IF(P596=\"\",\"\",MAX($N$3:$N595)+1))","v":""},"",null,null,null,null,{"$f":"IF(N596=\"\",\"\",IF(ISERROR(MATCH($N596,$J:$J,0)),T595,MAX($T$3:$T595)+1))","v":""},""]
[null,null,null,null,null,null,null,null,null,null,null,null,null,{"$f":"(IF(P597=\"\",\"\",MAX($N$3:$N596)+1))","v":""},"",null,null,null,null,{"$f":"IF(N597=\"\",\"\",IF(ISERROR(MATCH($N597,$J:$J,0)),T596,MAX($T$3:$T596)+1))","v":""},""]
[null,null,null,null,null,null,null,null,null,null,null,null,null,{"$f":"(IF(P598=\"\",\"\",MAX($N$3:$N597)+1))","v":""},"",null,null,null,null,{"$f":"IF(N598=\"\",\"\",IF(ISERROR(MATCH($N598,$J:$J,0)),T597,MAX($T$3:$T597)+1))","v":""},""]
[null,null,null,null,null,null,null,null,null,null,null,null,null,{"$f":"(IF(P599=\"\",\"\",MAX($N$3:$N598)+1))","v":""},"",null,null,null,null,{"$f":"IF(N599=\"\",\"\",IF(ISERROR(MATCH($N599,$J:$J,0)),T598,MAX($T$3:$T598)+1))","v":""},""]
[null,null,null,null,null,null,null,null,null,null,null,null,null,{"$f":"(IF(P600=\"\",\"\",MAX($N$3:$N599)+1))","v":""},"",null,null,null,null,{"$f":"IF(N600=\"\",\"\",IF(ISERROR(MATCH($N600,$J:$J,0)),T599,MAX($T$3:$T599)+1))","v":""},""]
[null,null,null,null,null,null,null,null,null,null,null,null,null,{"$f":"(IF(P601=\"\",\"\",MAX($N$3:$N600)+1))","v":""},"",null,null,null,null,{"$f":"IF(N601=\"\",\"\",IF(ISERROR(MATCH($N601,$J:$J,0)),T600,MAX($T$3:$T600)+1))","v":""},""]
[null,null,null,null,null,null,null,null,null,null,null,null,null,{"$f":"(IF(P602=\"\",\"\",MAX($N$3:$N601)+1))","v":""},"",null,null,null,null,{"$f":"IF(N602=\"\",\"\",IF(ISERROR(MATCH($N602,$J:$J,0)),T601,MAX($T$3:$T601)+1))","v":""},""]
[null,null,null,null,null,null,null,null,null,null,null,null,null,{"$f":"(IF(P603=\"\",\"\",MAX($N$3:$N602)+1))","v":""},"",null,null,null,null,{"$f":"IF(N603=\"\",\"\",IF(ISERROR(MATCH($N603,$J:$J,0)),T602,MAX($T$3:$T602)+1))","v":""},""]

{"sheet":"أرقام جلوس الخامس","index":15,"n_rows":224,"n_cols":15,"rows_kept":224,"cut":false,"hidden":false,"merged":[[198,8,198,9],[213,8,213,9],[211,6,211,7],[211,8,211,9],[212,6,212,10],[214,8,214,9],[214,10,215,10],[199,8,199,9],[199,10,200,10],[210,6,210,7],[210,8,210,9],[199,7,200,7],[214,7,215,7],[195,6,195,7],[195,8,195,9],[196,6,196,7],[196,8,196,9],[197,6,197,10],[181,6,181,7],[181,8,181,9],[182,6,182,10],[184,8,184,9],[184,10,185,10],[184,7,185,7],[183,8,183,9],[138,8,138,9],[153,8,153,9],[169,8,169,9],[169,10,170,10],[180,6,180,7],[180,8,180,9],[165,6,165,7],[165,8,165,9],[166,6,166,7],[166,8,166,9],[167,6,167,10],[169,7,170,7],[168,8,168,9],[151,6,151,7],[151,8,151,9],[152,6,152,10],[154,8,154,9],[154,10,155,10],[139,8,139,9],[139,10,140,10],[150,6,150,7],[150,8,150,9],[139,7,140,7],[154,7,155,7],[135,6,135,7],[135,8,135,9],[136,6,136,7],[136,8,136,9],[137,6,137,10],[121,6,121,7],[121,8,121,9],[122,6,122,10],[124,8,124,9],[124,10,125,10],[124,7,125,7],[123,8,123,9],[78,8,78,9],[93,8,93,9],[109,8,109,9],[109,10,110,10],[120,6,120,7],[120,8,120,9],[105,6,105,7],[105,8,105,9],[106,6,106,7],[106,8,106,9],[107,6,107,10],[109,7,110,7],[108,8,108,9],[91,6,91,7],[91,8,91,9],[92,6,92,10],[94,8,94,9],[94,10,95,10],[79,8,79,9],[79,10,80,10],[90,6,90,7],[90,8,90,9],[79,7,80,7],[94,7,95,7],[75,6,75,7],[75,8,75,9],[76,6,76,7],[76,8,76,9],[77,6,77,10],[61,6,61,7],[61,8,61,9],[62,6,62,10],[64,8,64,9],[64,10,65,10],[63,8,63,9],[31,6,31,7],[34,7,35,7],[33,8,33,9],[49,8,49,9],[49,10,50,10],[60,6,60,7],[60,8,60,9],[45,6,45,7],[45,8,45,9],[46,6,46,7],[46,8,46,9],[47,6,47,10],[48,8,48,9],[4,10,5,10],[4,4,5,4],[19,2,19,3],[19,4,20,4],[30,0,30,1],[4,1,5,1],[4,7,5,7],[19,7,20,7],[4,8,4,9],[4,2,4,3],[15,6,15,7],[15,8,15,9],[16,6,16,7],[16,8,16,9],[17,6,17,10],[15,0,15,1],[15,2,15,3],[16,0,16,1],[16,2,16,3],[17,0,17,4],[19,1,20,1],[18,2,18,3],[18,8,18,9],[19,8,19,9],[195,0,195,1],[195,2,195,3],[196,0,196,1],[196,2,196,3],[197,0,197,4],[199,2,199,3],[180,0,180,1],[180,2,180,3],[181,0,181,1],[181,2,181,3],[182,0,182,4],[184,2,184,3],[184,4,185,4],[184,1,185,1],[183,2,183,3],[198,2,198,3],[214,4,215,4],[214,2,214,3],[211,0,211,1],[211,2,211,3],[212,0,212,4],[199,4,200,4],[210,0,210,1],[210,2,210,3],[199,1,200,1],[214,1,215,1],[213,2,213,3],[169,2,169,3],[165,0,165,1],[165,2,165,3],[166,0,166,1],[166,2,166,3],[167,0,167,4],[169,4,170,4],[150,0,150,1],[150,2,150,3],[151,0,151,1],[151,2,151,3],[152,0,152,4],[154,2,154,3],[154,4,155,4],[154,1,155,1],[169,1,170,1],[153,2,153,3],[168,2,168,3],[135,0,135,1],[135,2,135,3],[136,0,136,1],[136,2,136,3],[137,0,137,4],[139,2,139,3],[139,4,140,4],[120,0,120,1],[120,2,120,3],[121,0,121,1],[121,2,121,3],[122,0,122,4],[124,2,124,3],[124,4,125,4],[124,1,125,1],[139,1,140,1],[123,2,123,3],[138,2,138,3],[105,0,105,1],[105,2,105,3],[106,0,106,1],[106,2,106,3],[107,0,107,4],[109,2,109,3],[109,4,110,4],[90,0,90,1],[90,2,90,3],[91,0,91,1],[91,2,91,3],[92,0,92,4],[94,2,94,3],[94,4,95,4],[94,1,95,1],[109,1,110,1],[93,2,93,3],[108,2,108,3],[3,2,3,3],[3,8,3,9],[75,0,75,1],[75,2,75,3],[76,0,76,1],[76,2,76,3],[77,0,77,4],[79,2,79,3],[79,4,80,4],[60,0,60,1],[61,0,61,1],[61,2,61,3],[62,0,62,4],[64,2,64,3],[64,4,65,4],[79,1,80,1],[78,2,78,3],[32,6,32,10],[34,8,34,9],[34,10,35,10],[19,10,20,10],[30,6,30,7],[30,8,30,9],[31,8,31,9],[0,2,0,3],[0,6,0,7],[0,8,0,9],[1,6,1,7],[1,8,1,9],[2,6,2,10],[2,0,2,4],[1,0,1,1],[0,0,0,1],[1,2,1,3],[49,1,50,1],[49,7,50,7],[64,1,65,1],[64,7,65,7],[46,0,46,1],[47,0,47,4],[49,2,49,3],[49,4,50,4],[46,2,46,3],[60,2,60,3],[48,2,48,3],[63,2,63,3],[32,0,32,4],[34,2,34,3],[34,4,35,4],[45,0,45,1],[45,2,45,3],[30,2,30,3],[31,0,31,1],[31,2,31,3],[34,1,35,1],[33,2,33,3]]}
[{"$f":"'جدول الصف الخامس'!$A$1","v":"إدارة /غرب المحلة الكبرى التعليمية"},null,"رقم اللجنة",null,{"$f":"VLOOKUP(E2,قائمة_الخامس,7,FALSE)","v":1},null,{"$f":"'جدول الصف الخامس'!$A$1","v":"إدارة /غرب المحلة الكبرى التعليمية"},null,"رقم اللجنة",null,{"$f":"VLOOKUP(K2,قائمة_الخامس,7,FALSE)","v":1},null,null,null,1]
[{"$f":"'جدول الصف الخامس'!$A$2","v":"مدرسة د/علي علي حبيش الابتدائية"},null,{"$f":"'جدول الصف الخامس'!$C$4","v":"الصف الخامس"},null,{"$f":"O1","v":1},null,{"$f":"'جدول الصف الخامس'!$A$2","v":"مدرسة د/علي علي حبيش الابتدائية"},null,{"$f":"'جدول الصف الخامس'!$C$4","v":"الصف الخامس"},null,{"$f":"E212+1","v":16}]
[{"$f":"'جدول الصف الخامس'!$B$3","v":"جدول امتحان الفصل الدراسي الأول / الثاني للعام الدراسي 2019/2018"},null,null,null,null,null,{"$f":"'جدول الصف الخامس'!$B$3","v":"جدول امتحان الفصل الدراسي الأول / الثاني للعام الدراسي 2019/2018"}]
["اسم التلميذ",{"$f":"VLOOKUP(E2,قائمة_الخامس,3,FALSE)","v":"احمد1"},"رقم الجلوس",null,{"$f":"VLOOKUP(E2,قائمة_الخامس,2,FALSE)","v":70},null,"اسم التلميذ",{"$f":"VLOOKUP(K2,قائمة_الخامس,3,FALSE)","v":"احمد16"},"رقم الجلوس",null,{"$f":"VLOOKUP(K2,قائمة_الخامس,2,FALSE)","v":85}]
["اليوم والترايخ","المــــــــــــــادة","الوقت",null,"الزمــــن ",null,"اليوم والترايخ","المــــــــــــــادة","الوقت",null,"الزمــــن "]
[null,null,"من ","إلي",null,null,null,null,"من ","إلي"]
[{"$f":"'جدول الصف الخامس'!$B$7","v":"السبت"},{"$f":"'جدول الصف الخامس'!$C$7","v":"لغة عربية وخط"},{"$f":"'جدول الصف الخامس'!$D$7","v":8},{"$f":"'جدول الصف الخامس'!$E$7","v":10.3},{"$f":"'جدول الصف الخامس'!$F$7","v":"ساعتان ونصف"},null,{"$f":"'جدول الصف الخامس'!$B$7","v":"السبت"},{"$f":"'جدول الصف الخامس'!$C$7","v":"لغة عربية وخط"},{"$f":"'جدول الصف الخامس'!$D$7","v":8},{"$f":"'جدول الصف الخامس'!$E$7","v":10.3},{"$f":"'جدول الصف الخامس'!$F$7","v":"ساعتان ونصف"}]
[{"$f":"'جدول الصف الخامس'!$B$8","v":"2018-01-01"},null,null,null,null,null,{"$f":"'جدول الصف الخامس'!$B$8","v":"2018-01-01"}]
[{"$f":"'جدول الصف الخامس'!$B$9","v":"الأحد"},{"$f":"'جدول الصف الخامس'!$C$9","v":"الرياضيات"},{"$f":"'جدول الصف الخامس'!$D$9","v":8},{"$f":"'جدول الصف الخامس'!$E$9","v":9.3000000000000007},{"$f":"'جدول الصف الخامس'!$F$9","v":"ساعة ونصف"},null,{"$f":"'جدول الصف الخامس'!$B$9","v":"الأحد"},{"$f":"'جدول الصف الخامس'!$C$9","v":"الرياضيات"},{"$f":"'جدول الصف الخامس'!$D$9","v":8},{"$f":"'جدول الصف الخامس'!$E$9","v":9.3000000000000007},{"$f":"'جدول الصف الخامس'!$F$9","v":"ساعة ونصف"}]
[{"$f":"'جدول الصف الخامس'!$B$10","v":"2018-01-02"},{"$f":"'جدول الصف الخامس'!$C$10","v":"اللغة الإنجليزية"},{"$f":"'جدول الصف الخامس'!$D$10","v":9.4499999999999993},{"$f":"'جدول الصف الخامس'!$E$10","v":11.15},{"$f":"'جدول الصف الخامس'!$F$10","v":"ساعة ونصف"},null,{"$f":"'جدول الصف الخامس'!$B$10","v":"2018-01-02"},{"$f":"'جدول الصف الخامس'!$C$10","v":"اللغة الإنجليزية"},{"$f":"'جدول الصف الخامس'!$D$10","v":9.4499999999999993},{"$f":"'جدول الصف الخامس'!$E$10","v":11.15},{"$f":"'جدول الصف الخامس'!$F$10","v":"ساعة ونصف"}]
[{"$f":"'جدول الصف الخامس'!$B$11","v":"الاثنين"},{"$f":"'جدول الصف الخامس'!$C$11","v":"علوم"},{"$f":"'جدول الصف الخامس'!$D$11","v":8},{"$f":"'جدول الصف الخامس'!$E$11","v":9.3000000000000007},{"$f":"'جدول الصف الخامس'!$F$11","v":"ساعة ونصف"},null,{"$f":"'جدول الصف الخامس'!$B$11","v":"الاثنين"},{"$f":"'جدول الصف الخامس'!$C$11","v":"علوم"},{"$f":"'جدول الصف الخامس'!$D$11","v":8},{"$f":"'جدول الصف الخامس'!$E$11","v":9.3000000000000007},{"$f":"'جدول الصف الخامس'!$F$11","v":"ساعة ونصف"}]
[{"$f":"'جدول الصف الخامس'!$B$12","v":"2018-01-03"},{"$f":"'جدول الصف الخامس'!$C$12","v":"التربية الدينية"},{"$f":"'جدول الصف الخامس'!$D$12","v":9.4499999999999993},{"$f":"'جدول الصف الخامس'!$E$12","v":10.45},{"$f":"'جدول الصف الخامس'!$F$12","v":"ساعة ونصف"},null,{"$f":"'جدول الصف الخامس'!$B$12","v":"2018-01-03"},{"$f":"'جدول الصف الخامس'!$C$12","v":"التربية الدينية"},{"$f":"'جدول الصف الخامس'!$D$12","v":9.4499999999999993},{"$f":"'جدول الصف الخامس'!$E$12","v":10.45},{"$f":"'جدول الصف الخامس'!$F$12","v":"ساعة ونصف"}]
[{"$f":"'جدول الصف الخامس'!$B$13","v":"الثلاثاء"},{"$f":"'جدول الصف الخامس'!$C$13","v":"الدراسات"},{"$f":"'جدول الصف الخامس'!$D$13","v":8},{"$f":"'جدول الصف الخامس'!$E$13","v":9.3000000000000007},{"$f":"'جدول الصف الخامس'!$F$13","v":"ساعة ونصف"},null,{"$f":"'جدول الصف الخامس'!$B$13","v":"الثلاثاء"},{"$f":"'جدول الصف الخامس'!$C$13","v":"الدراسات"},{"$f":"'جدول الصف الخامس'!$D$13","v":8},{"$f":"'جدول الصف الخامس'!$E$13","v":9.3000000000000007},{"$f":"'جدول الصف الخامس'!$F$13","v":"ساعة ونصف"}]
[{"$f":"'جدول الصف الخامس'!$B$14","v":"2018-01-04"},null,null,null,null,null,{"$f":"'جدول الصف الخامس'!$B$14","v":"2018-01-04"}]
[]
[{"$f":"'جدول الصف الخامس'!$A$1","v":"إدارة /غرب المحلة الكبرى التعليمية"},null,"رقم اللجنة",null,{"$f":"VLOOKUP(E17,قائمة_الخامس,7,FALSE)","v":1},null,{"$f":"'جدول الصف الخامس'!$A$1","v":"إدارة /غرب المحلة الكبرى التعليمية"},null,"رقم اللجنة",null,{"$f":"VLOOKUP(K17,قائمة_الخامس,7,FALSE)","v":1}]
[{"$f":"'جدول الصف الخامس'!$A$2","v":"مدرسة د/علي علي حبيش الابتدائية"},null,{"$f":"'جدول الصف الخامس'!$C$4","v":"الصف الخامس"},null,{"$f":"E2+1","v":2},null,{"$f":"'جدول الصف الخامس'!$A$2","v":"مدرسة د/علي علي حبيش الابتدائية"},null,{"$f":"'جدول الصف الخامس'!$C$4","v":"الصف الخامس"},null,{"$f":"K2+1","v":17}]
[{"$f":"'جدول الصف الخامس'!$B$3","v":"جدول امتحان الفصل الدراسي الأول / الثاني للعام الدراسي 2019/2018"},null,null,null,null,null,{"$f":"'جدول الصف الخامس'!$B$3","v":"جدول امتحان الفصل الدراسي الأول / الثاني للعام الدراسي 2019/2018"}]
["اسم التلميذ",{"$f":"VLOOKUP(E17,قائمة_الخامس,3,FALSE)","v":"احمد2"},"رقم الجلوس",null,{"$f":"VLOOKUP(E17,قائمة_الخامس,2,FALSE)","v":71},null,"اسم التلميذ",{"$f":"VLOOKUP(K17,قائمة_الخامس,3,FALSE)","v":"احمد17"},"رقم الجلوس",null,{"$f":"VLOOKUP(K17,قائمة_الخامس,2,FALSE)","v":86}]
["اليوم والترايخ","المــــــــــــــادة","الوقت",null,"الزمــــن ",null,"اليوم والترايخ","المــــــــــــــادة","الوقت",null,"الزمــــن "]
[null,null,"من ","إلي",null,null,null,null,"من ","إلي"]
[{"$f":"'جدول الصف الخامس'!$B$7","v":"السبت"},{"$f":"'جدول الصف الخامس'!$C$7","v":"لغة عربية وخط"},{"$f":"'جدول الصف الخامس'!$D$7","v":8},{"$f":"'جدول الصف الخامس'!$E$7","v":10.3},{"$f":"'جدول الصف الخامس'!$F$7","v":"ساعتان ونصف"},null,{"$f":"'جدول الصف الخامس'!$B$7","v":"السبت"},{"$f":"'جدول الصف الخامس'!$C$7","v":"لغة عربية وخط"},{"$f":"'جدول الصف الخامس'!$D$7","v":8},{"$f":"'جدول الصف الخامس'!$E$7","v":10.3},{"$f":"'جدول الصف الخامس'!$F$7","v":"ساعتان ونصف"}]
[{"$f":"'جدول الصف الخامس'!$B$8","v":"2018-01-01"},null,null,null,null,null,{"$f":"'جدول الصف الخامس'!$B$8","v":"2018-01-01"}]
[{"$f":"'جدول الصف الخامس'!$B$9","v":"الأحد"},{"$f":"'جدول الصف الخامس'!$C$9","v":"الرياضيات"},{"$f":"'جدول الصف الخامس'!$D$9","v":8},{"$f":"'جدول الصف الخامس'!$E$9","v":9.3000000000000007},{"$f":"'جدول الصف الخامس'!$F$9","v":"ساعة ونصف"},null,{"$f":"'جدول الصف الخامس'!$B$9","v":"الأحد"},{"$f":"'جدول الصف الخامس'!$C$9","v":"الرياضيات"},{"$f":"'جدول الصف الخامس'!$D$9","v":8},{"$f":"'جدول الصف الخامس'!$E$9","v":9.3000000000000007},{"$f":"'جدول الصف الخامس'!$F$9","v":"ساعة ونصف"}]
[{"$f":"'جدول الصف الخامس'!$B$10","v":"2018-01-02"},{"$f":"'جدول الصف الخامس'!$C$10","v":"اللغة الإنجليزية"},{"$f":"'جدول الصف الخامس'!$D$10","v":9.4499999999999993},{"$f":"'جدول الصف الخامس'!$E$10","v":11.15},{"$f":"'جدول الصف الخامس'!$F$10","v":"ساعة ونصف"},null,{"$f":"'جدول الصف الخامس'!$B$10","v":"2018-01-02"},{"$f":"'جدول الصف الخامس'!$C$10","v":"اللغة الإنجليزية"},{"$f":"'جدول الصف الخامس'!$D$10","v":9.4499999999999993},{"$f":"'جدول الصف الخامس'!$E$10","v":11.15},{"$f":"'جدول الصف الخامس'!$F$10","v":"ساعة ونصف"}]
[{"$f":"'جدول الصف الخامس'!$B$11","v":"الاثنين"},{"$f":"'جدول الصف الخامس'!$C$11","v":"علوم"},{"$f":"'جدول الصف الخامس'!$D$11","v":8},{"$f":"'جدول الصف الخامس'!$E$11","v":9.3000000000000007},{"$f":"'جدول الصف الخامس'!$F$11","v":"ساعة ونصف"},null,{"$f":"'جدول الصف الخامس'!$B$11","v":"الاثنين"},{"$f":"'جدول الصف الخامس'!$C$11","v":"علوم"},{"$f":"'جدول الصف الخامس'!$D$11","v":8},{"$f":"'جدول الصف الخامس'!$E$11","v":9.3000000000000007},{"$f":"'جدول الصف الخامس'!$F$11","v":"ساعة ونصف"}]
[{"$f":"'جدول الصف الخامس'!$B$12","v":"2018-01-03"},{"$f":"'جدول الصف الخامس'!$C$12","v":"التربية الدينية"},{"$f":"'جدول الصف الخامس'!$D$12","v":9.4499999999999993},{"$f":"'جدول الصف الخامس'!$E$12","v":10.45},{"$f":"'جدول الصف الخامس'!$F$12","v":"ساعة ونصف"},null,{"$f":"'جدول الصف الخامس'!$B$12","v":"2018-01-03"},{"$f":"'جدول الصف الخامس'!$C$12","v":"التربية الدينية"},{"$f":"'جدول الصف الخامس'!$D$12","v":9.4499999999999993},{"$f":"'جدول الصف الخامس'!$E$12","v":10.45},{"$f":"'جدول الصف الخامس'!$F$12","v":"ساعة ونصف"}]
[{"$f":"'جدول الصف الخامس'!$B$13","v":"الثلاثاء"},{"$f":"'جدول الصف الخامس'!$C$13","v":"الدراسات"},{"$f":"'جدول الصف الخامس'!$D$13","v":8},{"$f":"'جدول الصف الخامس'!$E$13","v":9.3000000000000007},{"$f":"'جدول الصف الخامس'!$F$13","v":"ساعة ونصف"},null,{"$f":"'جدول الصف الخامس'!$B$13","v":"الثلاثاء"},{"$f":"'جدول الصف الخامس'!$C$13","v":"الدراسات"},{"$f":"'جدول الصف الخامس'!$D$13","v":8},{"$f":"'جدول الصف الخامس'!$E$13","v":9.3000000000000007},{"$f":"'جدول الصف الخامس'!$F$13","v":"ساعة ونصف"}]
[{"$f":"'جدول الصف الخامس'!$B$14","v":"2018-01-04"},null,null,null,null,null,{"$f":"'جدول الصف الخامس'!$B$14","v":"2018-01-04"}]
[]
[{"$f":"'جدول الصف الخامس'!$A$1","v":"إدارة /غرب المحلة الكبرى التعليمية"},null,"رقم اللجنة",null,{"$f":"VLOOKUP(E32,قائمة_الخامس,7,FALSE)","v":1},null,{"$f":"'جدول الصف الخامس'!$A$1","v":"إدارة /غرب المحلة الكبرى التعليمية"},null,"رقم اللجنة",null,{"$f":"VLOOKUP(K32,قائمة_الخامس,7,FALSE)","v":1}]
[{"$f":"'جدول الصف الخامس'!$A$2","v":"مدرسة د/علي علي حبيش الابتدائية"},null,{"$f":"'جدول الصف الخامس'!$C$4","v":"الصف الخامس"},null,{"$f":"E17+1","v":3},null,{"$f":"'جدول الصف الخامس'!$A$2","v":"مدرسة د/علي علي حبيش الابتدائية"},null,{"$f":"'جدول الصف الخامس'!$C$4","v":"الصف الخامس"},null,{"$f":"K17+1","v":18}]
[{"$f":"'جدول الصف الخامس'!$B$3","v":"جدول امتحان الفصل الدراسي الأول / الثاني للعام الدراسي 2019/2018"},null,null,null,null,null,{"$f":"'جدول الصف الخامس'!$B$3","v":"جدول امتحان الفصل الدراسي الأول / الثاني للعام الدراسي 2019/2018"}]
["اسم التلميذ",{"$f":"VLOOKUP(E32,قائمة_الخامس,3,FALSE)","v":"احمد3"},"رقم الجلوس",null,{"$f":"VLOOKUP(E32,قائمة_الخامس,2,FALSE)","v":72},null,"اسم التلميذ",{"$f":"VLOOKUP(K32,قائمة_الخامس,3,FALSE)","v":"احمد18"},"رقم الجلوس",null,{"$f":"VLOOKUP(K32,قائمة_الخامس,2,FALSE)","v":87}]
["اليوم والترايخ","المــــــــــــــادة","الوقت",null,"الزمــــن ",null,"اليوم والترايخ","المــــــــــــــادة","الوقت",null,"الزمــــن "]
[null,null,"من ","إلي",null,null,null,null,"من ","إلي"]
[{"$f":"'جدول الصف الخامس'!$B$7","v":"السبت"},{"$f":"'جدول الصف الخامس'!$C$7","v":"لغة عربية وخط"},{"$f":"'جدول الصف الخامس'!$D$7","v":8},{"$f":"'جدول الصف الخامس'!$E$7","v":10.3},{"$f":"'جدول الصف الخامس'!$F$7","v":"ساعتان ونصف"},null,{"$f":"'جدول الصف الخامس'!$B$7","v":"السبت"},{"$f":"'جدول الصف الخامس'!$C$7","v":"لغة عربية وخط"},{"$f":"'جدول الصف الخامس'!$D$7","v":8},{"$f":"'جدول الصف الخامس'!$E$7","v":10.3},{"$f":"'جدول الصف الخامس'!$F$7","v":"ساعتان ونصف"}]
[{"$f":"'جدول الصف الخامس'!$B$8","v":"2018-01-01"},null,null,null,null,null,{"$f":"'جدول الصف الخامس'!$B$8","v":"2018-01-01"}]
[{"$f":"'جدول الصف الخامس'!$B$9","v":"الأحد"},{"$f":"'جدول الصف الخامس'!$C$9","v":"الرياضيات"},{"$f":"'جدول الصف الخامس'!$D$9","v":8},{"$f":"'جدول الصف الخامس'!$E$9","v":9.3000000000000007},{"$f":"'جدول الصف الخامس'!$F$9","v":"ساعة ونصف"},null,{"$f":"'جدول الصف الخامس'!$B$9","v":"الأحد"},{"$f":"'جدول الصف الخامس'!$C$9","v":"الرياضيات"},{"$f":"'جدول الصف الخامس'!$D$9","v":8},{"$f":"'جدول الصف الخامس'!$E$9","v":9.3000000000000007},{"$f":"'جدول الصف الخامس'!$F$9","v":"ساعة ونصف"}]
[{"$f":"'جدول الصف الخامس'!$B$10","v":"2018-01-02"},{"$f":"'جدول الصف الخامس'!$C$10","v":"اللغة الإنجليزية"},{"$f":"'جدول الصف الخامس'!$D$10","v":9.4499999999999993},{"$f":"'جدول الصف الخامس'!$E$10","v":11.15},{"$f":"'جدول الصف الخامس'!$F$10","v":"ساعة ونصف"},null,{"$f":"'جدول الصف الخامس'!$B$10","v":"2018-01-02"},{"$f":"'جدول الصف الخامس'!$C$10","v":"اللغة الإنجليزية"},{"$f":"'جدول الصف الخامس'!$D$10","v":9.4499999999999993},{"$f":"'جدول الصف الخامس'!$E$10","v":11.15},{"$f":"'جدول الصف الخامس'!$F$10","v":"ساعة ونصف"}]
[{"$f":"'جدول الصف الخامس'!$B$11","v":"الاثنين"},{"$f":"'جدول الصف الخامس'!$C$11","v":"علوم"},{"$f":"'جدول الصف الخامس'!$D$11","v":8},{"$f":"'جدول الصف الخامس'!$E$11","v":9.3000000000000007},{"$f":"'جدول الصف الخامس'!$F$11","v":"ساعة ونصف"},null,{"$f":"'جدول الصف الخامس'!$B$11","v":"الاثنين"},{"$f":"'جدول الصف الخامس'!$C$11","v":"علوم"},{"$f":"'جدول الصف الخامس'!$D$11","v":8},{"$f":"'جدول الصف الخامس'!$E$11","v":9.3000000000000007},{"$f":"'جدول الصف الخامس'!$F$11","v":"ساعة ونصف"}]
[{"$f":"'جدول الصف الخامس'!$B$12","v":"2018-01-03"},{"$f":"'جدول الصف الخامس'!$C$12","v":"التربية الدينية"},{"$f":"'جدول الصف الخامس'!$D$12","v":9.4499999999999993},{"$f":"'جدول الصف الخامس'!$E$12","v":10.45},{"$f":"'جدول الصف الخامس'!$F$12","v":"ساعة ونصف"},null,{"$f":"'جدول الصف الخامس'!$B$12","v":"2018-01-03"},{"$f":"'جدول الصف الخامس'!$C$12","v":"التربية الدينية"},{"$f":"'جدول الصف الخامس'!$D$12","v":9.4499999999999993},{"$f":"'جدول الصف الخامس'!$E$12","v":10.45},{"$f":"'جدول الصف الخامس'!$F$12","v":"ساعة ونصف"}]
[{"$f":"'جدول الصف الخامس'!$B$13","v":"الثلاثاء"},{"$f":"'جدول الصف الخامس'!$C$13","v":"الدراسات"},{"$f":"'جدول الصف الخامس'!$D$13","v":8},{"$f":"'جدول الصف الخامس'!$E$13","v":9.3000000000000007},{"$f":"'جدول الصف الخامس'!$F$13","v":"ساعة ونصف"},null,{"$f":"'جدول الصف الخامس'!$B$13","v":"الثلاثاء"},{"$f":"'جدول الصف الخامس'!$C$13","v":"الدراسات"},{"$f":"'جدول الصف الخامس'!$D$13","v":8},{"$f":"'جدول الصف الخامس'!$E$13","v":9.3000000000000007},{"$f":"'جدول الصف الخامس'!$F$13","v":"ساعة ونصف"}]
[{"$f":"'جدول الصف الخامس'!$B$14","v":"2018-01-04"},null,null,null,null,null,{"$f":"'جدول الصف الخامس'!$B$14","v":"2018-01-04"}]
[]
[{"$f":"'جدول الصف الخامس'!$A$1","v":"إدارة /غرب المحلة الكبرى التعليمية"},null,"رقم اللجنة",null,{"$f":"VLOOKUP(E47,قائمة_الخامس,7,FALSE)","v":1},null,{"$f":"'جدول الصف الخامس'!$A$1","v":"إدارة /غرب المحلة الكبرى التعليمية"},null,"رقم اللجنة",null,{"$f":"VLOOKUP(K47,قائمة_الخامس,7,FALSE)","v":1}]
[{"$f":"'جدول الصف الخامس'!$A$2","v":"مدرسة د/علي علي حبيش الابتدائية"},null,{"$f":"'جدول الصف الخامس'!$C$4","v":"الصف الخامس"},null,{"$f":"E32+1","v":4},null,{"$f":"'جدول الصف الخامس'!$A$2","v":"مدرسة د/علي علي حبيش الابتدائية"},null,{"$f":"'جدول الصف الخامس'!$C$4","v":"الصف الخامس"},null,{"$f":"K32+1","v":19}]
[{"$f":"'جدول الصف الخامس'!$B$3","v":"جدول امتحان الفصل الدراسي الأول / الثاني للعام الدراسي 2019/2018"},null,null,null,null,null,{"$f":"'جدول الصف الخامس'!$B$3","v":"جدول امتحان الفصل الدراسي الأول / الثاني للعام الدراسي 2019/2018"}]
["اسم التلميذ",{"$f":"VLOOKUP(E47,قائمة_الخامس,3,FALSE)","v":"احمد4"},"رقم الجلوس",null,{"$f":"VLOOKUP(E47,قائمة_الخامس,2,FALSE)","v":73},null,"اسم التلميذ",{"$f":"VLOOKUP(K47,قائمة_الخامس,3,FALSE)","v":"احمد19"},"رقم الجلوس",null,{"$f":"VLOOKUP(K47,قائمة_الخامس,2,FALSE)","v":88}]
["اليوم والترايخ","المــــــــــــــادة","الوقت",null,"الزمــــن ",null,"اليوم والترايخ","المــــــــــــــادة","الوقت",null,"الزمــــن "]
[null,null,"من ","إلي",null,null,null,null,"من ","إلي"]
[{"$f":"'جدول الصف الخامس'!$B$7","v":"السبت"},{"$f":"'جدول الصف الخامس'!$C$7","v":"لغة عربية وخط"},{"$f":"'جدول الصف الخامس'!$D$7","v":8},{"$f":"'جدول الصف الخامس'!$E$7","v":10.3},{"$f":"'جدول الصف الخامس'!$F$7","v":"ساعتان ونصف"},null,{"$f":"'جدول الصف الخامس'!$B$7","v":"السبت"},{"$f":"'جدول الصف الخامس'!$C$7","v":"لغة عربية وخط"},{"$f":"'جدول الصف الخامس'!$D$7","v":8},{"$f":"'جدول الصف الخامس'!$E$7","v":10.3},{"$f":"'جدول الصف الخامس'!$F$7","v":"ساعتان ونصف"}]
[{"$f":"'جدول الصف الخامس'!$B$8","v":"2018-01-01"},null,null,null,null,null,{"$f":"'جدول الصف الخامس'!$B$8","v":"2018-01-01"}]
[{"$f":"'جدول الصف الخامس'!$B$9","v":"الأحد"},{"$f":"'جدول الصف الخامس'!$C$9","v":"الرياضيات"},{"$f":"'جدول الصف الخامس'!$D$9","v":8},{"$f":"'جدول الصف الخامس'!$E$9","v":9.3000000000000007},{"$f":"'جدول الصف الخامس'!$F$9","v":"ساعة ونصف"},null,{"$f":"'جدول الصف الخامس'!$B$9","v":"الأحد"},{"$f":"'جدول الصف الخامس'!$C$9","v":"الرياضيات"},{"$f":"'جدول الصف الخامس'!$D$9","v":8},{"$f":"'جدول الصف الخامس'!$E$9","v":9.3000000000000007},{"$f":"'جدول الصف الخامس'!$F$9","v":"ساعة ونصف"}]
[{"$f":"'جدول الصف الخامس'!$B$10","v":"2018-01-02"},{"$f":"'جدول الصف الخامس'!$C$10","v":"اللغة الإنجليزية"},{"$f":"'جدول الصف الخامس'!$D$10","v":9.4499999999999993},{"$f":"'جدول الصف الخامس'!$E$10","v":11.15},{"$f":"'جدول الصف الخامس'!$F$10","v":"ساعة ونصف"},null,{"$f":"'جدول الصف الخامس'!$B$10","v":"2018-01-02"},{"$f":"'جدول الصف الخامس'!$C$10","v":"اللغة الإنجليزية"},{"$f":"'جدول الصف الخامس'!$D$10","v":9.4499999999999993},{"$f":"'جدول الصف الخامس'!$E$10","v":11.15},{"$f":"'جدول الصف الخامس'!$F$10","v":"ساعة ونصف"}]
[{"$f":"'جدول الصف الخامس'!$B$11","v":"الاثنين"},{"$f":"'جدول الصف الخامس'!$C$11","v":"علوم"},{"$f":"'جدول الصف الخامس'!$D$11","v":8},{"$f":"'جدول الصف الخامس'!$E$11","v":9.3000000000000007},{"$f":"'جدول الصف الخامس'!$F$11","v":"ساعة ونصف"},null,{"$f":"'جدول الصف الخامس'!$B$11","v":"الاثنين"},{"$f":"'جدول الصف الخامس'!$C$11","v":"علوم"},{"$f":"'جدول الصف الخامس'!$D$11","v":8},{"$f":"'جدول الصف الخامس'!$E$11","v":9.3000000000000007},{"$f":"'جدول الصف الخامس'!$F$11","v":"ساعة ونصف"}]
[{"$f":"'جدول الصف الخامس'!$B$12","v":"2018-01-03"},{"$f":"'جدول الصف الخامس'!$C$12","v":"التربية الدينية"},{"$f":"'جدول الصف الخامس'!$D$12","v":9.4499999999999993},{"$f":"'جدول الصف الخامس'!$E$12","v":10.45},{"$f":"'جدول الصف الخامس'!$F$12","v":"ساعة ونصف"},null,{"$f":"'جدول الصف الخامس'!$B$12","v":"2018-01-03"},{"$f":"'جدول الصف الخامس'!$C$12","v":"التربية الدينية"},{"$f":"'جدول الصف الخامس'!$D$12","v":9.4499999999999993},{"$f":"'جدول الصف الخامس'!$E$12","v":10.45},{"$f":"'جدول الصف الخامس'!$F$12","v":"ساعة ونصف"}]
[{"$f":"'جدول الصف الخامس'!$B$13","v":"الثلاثاء"},{"$f":"'جدول الصف الخامس'!$C$13","v":"الدراسات"},{"$f":"'جدول الصف الخامس'!$D$13","v":8},{"$f":"'جدول الصف الخامس'!$E$13","v":9.3000000000000007},{"$f":"'جدول الصف الخامس'!$F$13","v":"ساعة ونصف"},null,{"$f":"'جدول الصف الخامس'!$B$13","v":"الثلاثاء"},{"$f":"'جدول الصف الخامس'!$C$13","v":"الدراسات"},{"$f":"'جدول الصف الخامس'!$D$13","v":8},{"$f":"'جدول الصف الخامس'!$E$13","v":9.3000000000000007},{"$f":"'جدول الصف الخامس'!$F$13","v":"ساعة ونصف"}]
[{"$f":"'جدول الصف الخامس'!$B$14","v":"2018-01-04"},null,null,null,null,null,{"$f":"'جدول الصف الخامس'!$B$14","v":"2018-01-04"}]
[]
[{"$f":"'جدول الصف الخامس'!$A$1","v":"إدارة /غرب المحلة الكبرى التعليمية"},null,"رقم اللجنة",null,{"$f":"VLOOKUP(E62,قائمة_الخامس,7,FALSE)","v":1},null,{"$f":"'جدول الصف الخامس'!$A$1","v":"إدارة /غرب المحلة الكبرى التعليمية"},null,"رقم اللجنة",null,{"$f":"VLOOKUP(K62,قائمة_الخامس,7,FALSE)","v":1}]
[{"$f":"'جدول الصف الخامس'!$A$2","v":"مدرسة د/علي علي حبيش الابتدائية"},null,{"$f":"'جدول الصف الخامس'!$C$4","v":"الصف الخامس"},null,{"$f":"E47+1","v":5},null,{"$f":"'جدول الصف الخامس'!$A$2","v":"مدرسة د/علي علي حبيش الابتدائية"},null,{"$f":"'جدول الصف الخامس'!$C$4","v":"الصف الخامس"},null,{"$f":"K47+1","v":20}]
[{"$f":"'جدول الصف الخامس'!$B$3","v":"جدول امتحان الفصل الدراسي الأول / الثاني للعام الدراسي 2019/2018"},null,null,null,null,null,{"$f":"'جدول الصف الخامس'!$B$3","v":"جدول امتحان الفصل الدراسي الأول / الثاني للعام الدراسي 2019/2018"}]
["اسم التلميذ",{"$f":"VLOOKUP(E62,قائمة_الخامس,3,FALSE)","v":"احمد5"},"رقم الجلوس",null,{"$f":"VLOOKUP(E62,قائمة_الخامس,2,FALSE)","v":74},null,"اسم التلميذ",{"$f":"VLOOKUP(K62,قائمة_الخامس,3,FALSE)","v":"احمد20"},"رقم الجلوس",null,{"$f":"VLOOKUP(K62,قائمة_الخامس,2,FALSE)","v":89}]
["اليوم والترايخ","المــــــــــــــادة","الوقت",null,"الزمــــن ",null,"اليوم والترايخ","المــــــــــــــادة","الوقت",null,"الزمــــن "]
[null,null,"من ","إلي",null,null,null,null,"من ","إلي"]
[{"$f":"'جدول الصف الخامس'!$B$7","v":"السبت"},{"$f":"'جدول الصف الخامس'!$C$7","v":"لغة عربية وخط"},{"$f":"'جدول الصف الخامس'!$D$7","v":8},{"$f":"'جدول الصف الخامس'!$E$7","v":10.3},{"$f":"'جدول الصف الخامس'!$F$7","v":"ساعتان ونصف"},null,{"$f":"'جدول الصف الخامس'!$B$7","v":"السبت"},{"$f":"'جدول الصف الخامس'!$C$7","v":"لغة عربية وخط"},{"$f":"'جدول الصف الخامس'!$D$7","v":8},{"$f":"'جدول الصف الخامس'!$E$7","v":10.3},{"$f":"'جدول الصف الخامس'!$F$7","v":"ساعتان ونصف"}]
[{"$f":"'جدول الصف الخامس'!$B$8","v":"2018-01-01"},null,null,null,null,null,{"$f":"'جدول الصف الخامس'!$B$8","v":"2018-01-01"}]
[{"$f":"'جدول الصف الخامس'!$B$9","v":"الأحد"},{"$f":"'جدول الصف الخامس'!$C$9","v":"الرياضيات"},{"$f":"'جدول الصف الخامس'!$D$9","v":8},{"$f":"'جدول الصف الخامس'!$E$9","v":9.3000000000000007},{"$f":"'جدول الصف الخامس'!$F$9","v":"ساعة ونصف"},null,{"$f":"'جدول الصف الخامس'!$B$9","v":"الأحد"},{"$f":"'جدول الصف الخامس'!$C$9","v":"الرياضيات"},{"$f":"'جدول الصف الخامس'!$D$9","v":8},{"$f":"'جدول الصف الخامس'!$E$9","v":9.3000000000000007},{"$f":"'جدول الصف الخامس'!$F$9","v":"ساعة ونصف"}]
[{"$f":"'جدول الصف الخامس'!$B$10","v":"2018-01-02"},{"$f":"'جدول الصف الخامس'!$C$10","v":"اللغة الإنجليزية"},{"$f":"'جدول الصف الخامس'!$D$10","v":9.4499999999999993},{"$f":"'جدول الصف الخامس'!$E$10","v":11.15},{"$f":"'جدول الصف الخامس'!$F$10","v":"ساعة ونصف"},null,{"$f":"'جدول الصف الخامس'!$B$10","v":"2018-01-02"},{"$f":"'جدول الصف الخامس'!$C$10","v":"اللغة الإنجليزية"},{"$f":"'جدول الصف الخامس'!$D$10","v":9.4499999999999993},{"$f":"'جدول الصف الخامس'!$E$10","v":11.15},{"$f":"'جدول الصف الخامس'!$F$10","v":"ساعة ونصف"}]
[{"$f":"'جدول الصف الخامس'!$B$11","v":"الاثنين"},{"$f":"'جدول الصف الخامس'!$C$11","v":"علوم"},{"$f":"'جدول الصف الخامس'!$D$11","v":8},{"$f":"'جدول الصف الخامس'!$E$11","v":9.3000000000000007},{"$f":"'جدول الصف الخامس'!$F$11","v":"ساعة ونصف"},null,{"$f":"'جدول الصف الخامس'!$B$11","v":"الاثنين"},{"$f":"'جدول الصف الخامس'!$C$11","v":"علوم"},{"$f":"'جدول الصف الخامس'!$D$11","v":8},{"$f":"'جدول الصف الخامس'!$E$11","v":9.3000000000000007},{"$f":"'جدول الصف الخامس'!$F$11","v":"ساعة ونصف"}]
[{"$f":"'جدول الصف الخامس'!$B$12","v":"2018-01-03"},{"$f":"'جدول الصف الخامس'!$C$12","v":"التربية الدينية"},{"$f":"'جدول الصف الخامس'!$D$12","v":9.4499999999999993},{"$f":"'جدول الصف الخامس'!$E$12","v":10.45},{"$f":"'جدول الصف الخامس'!$F$12","v":"ساعة ونصف"},null,{"$f":"'جدول الصف الخامس'!$B$12","v":"2018-01-03"},{"$f":"'جدول الصف الخامس'!$C$12","v":"التربية الدينية"},{"$f":"'جدول الصف الخامس'!$D$12","v":9.4499999999999993},{"$f":"'جدول الصف الخامس'!$E$12","v":10.45},{"$f":"'جدول الصف الخامس'!$F$12","v":"ساعة ونصف"}]
[{"$f":"'جدول الصف الخامس'!$B$13","v":"الثلاثاء"},{"$f":"'جدول الصف الخامس'!$C$13","v":"الدراسات"},{"$f":"'جدول الصف الخامس'!$D$13","v":8},{"$f":"'جدول الصف الخامس'!$E$13","v":9.3000000000000007},{"$f":"'جدول الصف الخامس'!$F$13","v":"ساعة ونصف"},null,{"$f":"'جدول الصف الخامس'!$B$13","v":"الثلاثاء"},{"$f":"'جدول الصف الخامس'!$C$13","v":"الدراسات"},{"$f":"'جدول الصف الخامس'!$D$13","v":8},{"$f":"'جدول الصف الخامس'!$E$13","v":9.3000000000000007},{"$f":"'جدول الصف الخامس'!$F$13","v":"ساعة ونصف"}]
[{"$f":"'جدول الصف الخامس'!$B$14","v":"2018-01-04"},null,null,null,null,null,{"$f":"'جدول الصف الخامس'!$B$14","v":"2018-01-04"}]
[]
[{"$f":"'جدول الصف الخامس'!$A$1","v":"إدارة /غرب المحلة الكبرى التعليمية"},null,"رقم اللجنة",null,{"$f":"VLOOKUP(E77,قائمة_الخامس,7,FALSE)","v":1},null,{"$f":"'جدول الصف الخامس'!$A$1","v":"إدارة /غرب المحلة الكبرى التعليمية"},null,"رقم اللجنة",null,{"$f":"VLOOKUP(K77,قائمة_الخامس,7,FALSE)","v":2}]
[{"$f":"'جدول الصف الخامس'!$A$2","v":"مدرسة د/علي علي حبيش الابتدائية"},null,{"$f":"'جدول الصف الخامس'!$C$4","v":"الصف الخامس"},null,{"$f":"E62+1","v":6},null,{"$f":"'جدول الصف الخامس'!$A$2","v":"مدرسة د/علي علي حبيش الابتدائية"},null,{"$f":"'جدول الصف الخامس'!$C$4","v":"الصف الخامس"},null,{"$f":"K62+1","v":21}]
[{"$f":"'جدول الصف الخامس'!$B$3","v":"جدول امتحان الفصل الدراسي الأول / الثاني للعام الدراسي 2019/2018"},null,null,null,null,null,{"$f":"'جدول الصف الخامس'!$B$3","v":"جدول امتحان الفصل الدراسي الأول / الثاني للعام الدراسي 2019/2018"}]
["اسم التلميذ",{"$f":"VLOOKUP(E77,قائمة_الخامس,3,FALSE)","v":"احمد6"},"رقم الجلوس",null,{"$f":"VLOOKUP(E77,قائمة_الخامس,2,FALSE)","v":75},null,"اسم التلميذ",{"$f":"VLOOKUP(K77,قائمة_الخامس,3,FALSE)","v":"احمد21"},"رقم الجلوس",null,{"$f":"VLOOKUP(K77,قائمة_الخامس,2,FALSE)","v":90}]
["اليوم والترايخ","المــــــــــــــادة","الوقت",null,"الزمــــن ",null,"اليوم والترايخ","المــــــــــــــادة","الوقت",null,"الزمــــن "]
[null,null,"من ","إلي",null,null,null,null,"من ","إلي"]
[{"$f":"'جدول الصف الخامس'!$B$7","v":"السبت"},{"$f":"'جدول الصف الخامس'!$C$7","v":"لغة عربية وخط"},{"$f":"'جدول الصف الخامس'!$D$7","v":8},{"$f":"'جدول الصف الخامس'!$E$7","v":10.3},{"$f":"'جدول الصف الخامس'!$F$7","v":"ساعتان ونصف"},null,{"$f":"'جدول الصف الخامس'!$B$7","v":"السبت"},{"$f":"'جدول الصف الخامس'!$C$7","v":"لغة عربية وخط"},{"$f":"'جدول الصف الخامس'!$D$7","v":8},{"$f":"'جدول الصف الخامس'!$E$7","v":10.3},{"$f":"'جدول الصف الخامس'!$F$7","v":"ساعتان ونصف"}]
[{"$f":"'جدول الصف الخامس'!$B$8","v":"2018-01-01"},null,null,null,null,null,{"$f":"'جدول الصف الخامس'!$B$8","v":"2018-01-01"}]
[{"$f":"'جدول الصف الخامس'!$B$9","v":"الأحد"},{"$f":"'جدول الصف الخامس'!$C$9","v":"الرياضيات"},{"$f":"'جدول الصف الخامس'!$D$9","v":8},{"$f":"'جدول الصف الخامس'!$E$9","v":9.3000000000000007},{"$f":"'جدول الصف الخامس'!$F$9","v":"ساعة ونصف"},null,{"$f":"'جدول الصف الخامس'!$B$9","v":"الأحد"},{"$f":"'جدول الصف الخامس'!$C$9","v":"الرياضيات"},{"$f":"'جدول الصف الخامس'!$D$9","v":8},{"$f":"'جدول الصف الخامس'!$E$9","v":9.3000000000000007},{"$f":"'جدول الصف الخامس'!$F$9","v":"ساعة ونصف"}]
[{"$f":"'جدول الصف الخامس'!$B$10","v":"2018-01-02"},{"$f":"'جدول الصف الخامس'!$C$10","v":"اللغة الإنجليزية"},{"$f":"'جدول الصف الخامس'!$D$10","v":9.4499999999999993},{"$f":"'جدول الصف الخامس'!$E$10","v":11.15},{"$f":"'جدول الصف الخامس'!$F$10","v":"ساعة ونصف"},null,{"$f":"'جدول الصف الخامس'!$B$10","v":"2018-01-02"},{"$f":"'جدول الصف الخامس'!$C$10","v":"اللغة الإنجليزية"},{"$f":"'جدول الصف الخامس'!$D$10","v":9.4499999999999993},{"$f":"'جدول الصف الخامس'!$E$10","v":11.15},{"$f":"'جدول الصف الخامس'!$F$10","v":"ساعة ونصف"}]
[{"$f":"'جدول الصف الخامس'!$B$11","v":"الاثنين"},{"$f":"'جدول الصف الخامس'!$C$11","v":"علوم"},{"$f":"'جدول الصف الخامس'!$D$11","v":8},{"$f":"'جدول الصف الخامس'!$E$11","v":9.3000000000000007},{"$f":"'جدول الصف الخامس'!$F$11","v":"ساعة ونصف"},null,{"$f":"'جدول الصف الخامس'!$B$11","v":"الاثنين"},{"$f":"'جدول الصف الخامس'!$C$11","v":"علوم"},{"$f":"'جدول الصف الخامس'!$D$11","v":8},{"$f":"'جدول الصف الخامس'!$E$11","v":9.3000000000000007},{"$f":"'جدول الصف الخامس'!$F$11","v":"ساعة ونصف"}]
[{"$f":"'جدول الصف الخامس'!$B$12","v":"2018-01-03"},{"$f":"'جدول الصف الخامس'!$C$12","v":"التربية الدينية"},{"$f":"'جدول الصف الخامس'!$D$12","v":9.4499999999999993},{"$f":"'جدول الصف الخامس'!$E$12","v":10.45},{"$f":"'جدول الصف الخامس'!$F$12","v":"ساعة ونصف"},null,{"$f":"'جدول الصف الخامس'!$B$12","v":"2018-01-03"},{"$f":"'جدول الصف الخامس'!$C$12","v":"التربية الدينية"},{"$f":"'جدول الصف الخامس'!$D$12","v":9.4499999999999993},{"$f":"'جدول الصف الخامس'!$E$12","v":10.45},{"$f":"'جدول الصف الخامس'!$F$12","v":"ساعة ونصف"}]
[{"$f":"'جدول الصف الخامس'!$B$13","v":"الثلاثاء"},{"$f":"'جدول الصف الخامس'!$C$13","v":"الدراسات"},{"$f":"'جدول الصف الخامس'!$D$13","v":8},{"$f":"'جدول الصف الخامس'!$E$13","v":9.3000000000000007},{"$f":"'جدول الصف الخامس'!$F$13","v":"ساعة ونصف"},null,{"$f":"'جدول الصف الخامس'!$B$13","v":"الثلاثاء"},{"$f":"'جدول الصف الخامس'!$C$13","v":"الدراسات"},{"$f":"'جدول الصف الخامس'!$D$13","v":8},{"$f":"'جدول الصف الخامس'!$E$13","v":9.3000000000000007},{"$f":"'جدول الصف الخامس'!$F$13","v":"ساعة ونصف"}]
[{"$f":"'جدول الصف الخامس'!$B$14","v":"2018-01-04"},null,null,null,null,null,{"$f":"'جدول الصف الخامس'!$B$14","v":"2018-01-04"}]
[]
[{"$f":"'جدول الصف الخامس'!$A$1","v":"إدارة /غرب المحلة الكبرى التعليمية"},null,"رقم اللجنة",null,{"$f":"VLOOKUP(E92,قائمة_الخامس,7,FALSE)","v":1},null,{"$f":"'جدول الصف الخامس'!$A$1","v":"إدارة /غرب المحلة الكبرى التعليمية"},null,"رقم اللجنة",null,{"$f":"VLOOKUP(K92,قائمة_الخامس,7,FALSE)","v":2}]
[{"$f":"'جدول الصف الخامس'!$A$2","v":"مدرسة د/علي علي حبيش الابتدائية"},null,{"$f":"'جدول الصف الخامس'!$C$4","v":"الصف الخامس"},null,{"$f":"E77+1","v":7},null,{"$f":"'جدول الصف الخامس'!$A$2","v":"مدرسة د/علي علي حبيش الابتدائية"},null,{"$f":"'جدول الصف الخامس'!$C$4","v":"الصف الخامس"},null,{"$f":"K77+1","v":22}]
[{"$f":"'جدول الصف الخامس'!$B$3","v":"جدول امتحان الفصل الدراسي الأول / الثاني للعام الدراسي 2019/2018"},null,null,null,null,null,{"$f":"'جدول الصف الخامس'!$B$3","v":"جدول امتحان الفصل الدراسي الأول / الثاني للعام الدراسي 2019/2018"}]
["اسم التلميذ",{"$f":"VLOOKUP(E92,قائمة_الخامس,3,FALSE)","v":"احمد7"},"رقم الجلوس",null,{"$f":"VLOOKUP(E92,قائمة_الخامس,2,FALSE)","v":76},null,"اسم التلميذ",{"$f":"VLOOKUP(K92,قائمة_الخامس,3,FALSE)","v":"احمد22"},"رقم الجلوس",null,{"$f":"VLOOKUP(K92,قائمة_الخامس,2,FALSE)","v":91}]
["اليوم والترايخ","المــــــــــــــادة","الوقت",null,"الزمــــن ",null,"اليوم والترايخ","المــــــــــــــادة","الوقت",null,"الزمــــن "]
[null,null,"من ","إلي",null,null,null,null,"من ","إلي"]
[{"$f":"'جدول الصف الخامس'!$B$7","v":"السبت"},{"$f":"'جدول الصف الخامس'!$C$7","v":"لغة عربية وخط"},{"$f":"'جدول الصف الخامس'!$D$7","v":8},{"$f":"'جدول الصف الخامس'!$E$7","v":10.3},{"$f":"'جدول الصف الخامس'!$F$7","v":"ساعتان ونصف"},null,{"$f":"'جدول الصف الخامس'!$B$7","v":"السبت"},{"$f":"'جدول الصف الخامس'!$C$7","v":"لغة عربية وخط"},{"$f":"'جدول الصف الخامس'!$D$7","v":8},{"$f":"'جدول الصف الخامس'!$E$7","v":10.3},{"$f":"'جدول الصف الخامس'!$F$7","v":"ساعتان ونصف"}]
[{"$f":"'جدول الصف الخامس'!$B$8","v":"2018-01-01"},null,null,null,null,null,{"$f":"'جدول الصف الخامس'!$B$8","v":"2018-01-01"}]
[{"$f":"'جدول الصف الخامس'!$B$9","v":"الأحد"},{"$f":"'جدول الصف الخامس'!$C$9","v":"الرياضيات"},{"$f":"'جدول الصف الخامس'!$D$9","v":8},{"$f":"'جدول الصف الخامس'!$E$9","v":9.3000000000000007},{"$f":"'جدول الصف الخامس'!$F$9","v":"ساعة ونصف"},null,{"$f":"'جدول الصف الخامس'!$B$9","v":"الأحد"},{"$f":"'جدول الصف الخامس'!$C$9","v":"الرياضيات"},{"$f":"'جدول الصف الخامس'!$D$9","v":8},{"$f":"'جدول الصف الخامس'!$E$9","v":9.3000000000000007},{"$f":"'جدول الصف الخامس'!$F$9","v":"ساعة ونصف"}]
[{"$f":"'جدول الصف الخامس'!$B$10","v":"2018-01-02"},{"$f":"'جدول الصف الخامس'!$C$10","v":"اللغة الإنجليزية"},{"$f":"'جدول الصف الخامس'!$D$10","v":9.4499999999999993},{"$f":"'جدول الصف الخامس'!$E$10","v":11.15},{"$f":"'جدول الصف الخامس'!$F$10","v":"ساعة ونصف"},null,{"$f":"'جدول الصف الخامس'!$B$10","v":"2018-01-02"},{"$f":"'جدول الصف الخامس'!$C$10","v":"اللغة الإنجليزية"},{"$f":"'جدول الصف الخامس'!$D$10","v":9.4499999999999993},{"$f":"'جدول الصف الخامس'!$E$10","v":11.15},{"$f":"'جدول الصف الخامس'!$F$10","v":"ساعة ونصف"}]
[{"$f":"'جدول الصف الخامس'!$B$11","v":"الاثنين"},{"$f":"'جدول الصف الخامس'!$C$11","v":"علوم"},{"$f":"'جدول الصف الخامس'!$D$11","v":8},{"$f":"'جدول الصف الخامس'!$E$11","v":9.3000000000000007},{"$f":"'جدول الصف الخامس'!$F$11","v":"ساعة ونصف"},null,{"$f":"'جدول الصف الخامس'!$B$11","v":"الاثنين"},{"$f":"'جدول الصف الخامس'!$C$11","v":"علوم"},{"$f":"'جدول الصف الخامس'!$D$11","v":8},{"$f":"'جدول الصف الخامس'!$E$11","v":9.3000000000000007},{"$f":"'جدول الصف الخامس'!$F$11","v":"ساعة ونصف"}]
[{"$f":"'جدول الصف الخامس'!$B$12","v":"2018-01-03"},{"$f":"'جدول الصف الخامس'!$C$12","v":"التربية الدينية"},{"$f":"'جدول الصف الخامس'!$D$12","v":9.4499999999999993},{"$f":"'جدول الصف الخامس'!$E$12","v":10.45},{"$f":"'جدول الصف الخامس'!$F$12","v":"ساعة ونصف"},null,{"$f":"'جدول الصف الخامس'!$B$12","v":"2018-01-03"},{"$f":"'جدول الصف الخامس'!$C$12","v":"التربية الدينية"},{"$f":"'جدول الصف الخامس'!$D$12","v":9.4499999999999993},{"$f":"'جدول الصف الخامس'!$E$12","v":10.45},{"$f":"'جدول الصف الخامس'!$F$12","v":"ساعة ونصف"}]
[{"$f":"'جدول الصف الخامس'!$B$13","v":"الثلاثاء"},{"$f":"'جدول الصف الخامس'!$C$13","v":"الدراسات"},{"$f":"'جدول الصف الخامس'!$D$13","v":8},{"$f":"'جدول الصف الخامس'!$E$13","v":9.3000000000000007},{"$f":"'جدول الصف الخامس'!$F$13","v":"ساعة ونصف"},null,{"$f":"'جدول الصف الخامس'!$B$13","v":"الثلاثاء"},{"$f":"'جدول الصف الخامس'!$C$13","v":"الدراسات"},{"$f":"'جدول الصف الخامس'!$D$13","v":8},{"$f":"'جدول الصف الخامس'!$E$13","v":9.3000000000000007},{"$f":"'جدول الصف الخامس'!$F$13","v":"ساعة ونصف"}]
[{"$f":"'جدول الصف الخامس'!$B$14","v":"2018-01-04"},null,null,null,null,null,{"$f":"'جدول الصف الخامس'!$B$14","v":"2018-01-04"}]
[]
[{"$f":"'جدول الصف الخامس'!$A$1","v":"إدارة /غرب المحلة الكبرى التعليمية"},null,"رقم اللجنة",null,{"$f":"VLOOKUP(E107,قائمة_الخامس,7,FALSE)","v":1},null,{"$f":"'جدول الصف الخامس'!$A$1","v":"إدارة /غرب المحلة الكبرى التعليمية"},null,"رقم اللجنة",null,{"$f":"VLOOKUP(K107,قائمة_الخامس,7,FALSE)","v":2}]
[{"$f":"'جدول الصف الخامس'!$A$2","v":"مدرسة د/علي علي حبيش الابتدائية"},null,{"$f":"'جدول الصف الخامس'!$C$4","v":"الصف الخامس"},null,{"$f":"E92+1","v":8},null,{"$f":"'جدول الصف الخامس'!$A$2","v":"مدرسة د/علي علي حبيش الابتدائية"},null,{"$f":"'جدول الصف الخامس'!$C$4","v":"الصف الخامس"},null,{"$f":"K92+1","v":23}]
[{"$f":"'جدول الصف الخامس'!$B$3","v":"جدول امتحان الفصل الدراسي الأول / الثاني للعام الدراسي 2019/2018"},null,null,null,null,null,{"$f":"'جدول الصف الخامس'!$B$3","v":"جدول امتحان الفصل الدراسي الأول / الثاني للعام الدراسي 2019/2018"}]
["اسم التلميذ",{"$f":"VLOOKUP(E107,قائمة_الخامس,3,FALSE)","v":"احمد8"},"رقم الجلوس",null,{"$f":"VLOOKUP(E107,قائمة_الخامس,2,FALSE)","v":77},null,"اسم التلميذ",{"$f":"VLOOKUP(K107,قائمة_الخامس,3,FALSE)","v":"احمد23"},"رقم الجلوس",null,{"$f":"VLOOKUP(K107,قائمة_الخامس,2,FALSE)","v":92}]
["اليوم والترايخ","المــــــــــــــادة","الوقت",null,"الزمــــن ",null,"اليوم والترايخ","المــــــــــــــادة","الوقت",null,"الزمــــن "]
[null,null,"من ","إلي",null,null,null,null,"من ","إلي"]
[{"$f":"'جدول الصف الخامس'!$B$7","v":"السبت"},{"$f":"'جدول الصف الخامس'!$C$7","v":"لغة عربية وخط"},{"$f":"'جدول الصف الخامس'!$D$7","v":8},{"$f":"'جدول الصف الخامس'!$E$7","v":10.3},{"$f":"'جدول الصف الخامس'!$F$7","v":"ساعتان ونصف"},null,{"$f":"'جدول الصف الخامس'!$B$7","v":"السبت"},{"$f":"'جدول الصف الخامس'!$C$7","v":"لغة عربية وخط"},{"$f":"'جدول الصف الخامس'!$D$7","v":8},{"$f":"'جدول الصف الخامس'!$E$7","v":10.3},{"$f":"'جدول الصف الخامس'!$F$7","v":"ساعتان ونصف"}]
[{"$f":"'جدول الصف الخامس'!$B$8","v":"2018-01-01"},null,null,null,null,null,{"$f":"'جدول الصف الخامس'!$B$8","v":"2018-01-01"}]
[{"$f":"'جدول الصف الخامس'!$B$9","v":"الأحد"},{"$f":"'جدول الصف الخامس'!$C$9","v":"الرياضيات"},{"$f":"'جدول الصف الخامس'!$D$9","v":8},{"$f":"'جدول الصف الخامس'!$E$9","v":9.3000000000000007},{"$f":"'جدول الصف الخامس'!$F$9","v":"ساعة ونصف"},null,{"$f":"'جدول الصف الخامس'!$B$9","v":"الأحد"},{"$f":"'جدول الصف الخامس'!$C$9","v":"الرياضيات"},{"$f":"'جدول الصف الخامس'!$D$9","v":8},{"$f":"'جدول الصف الخامس'!$E$9","v":9.3000000000000007},{"$f":"'جدول الصف الخامس'!$F$9","v":"ساعة ونصف"}]
[{"$f":"'جدول الصف الخامس'!$B$10","v":"2018-01-02"},{"$f":"'جدول الصف الخامس'!$C$10","v":"اللغة الإنجليزية"},{"$f":"'جدول الصف الخامس'!$D$10","v":9.4499999999999993},{"$f":"'جدول الصف الخامس'!$E$10","v":11.15},{"$f":"'جدول الصف الخامس'!$F$10","v":"ساعة ونصف"},null,{"$f":"'جدول الصف الخامس'!$B$10","v":"2018-01-02"},{"$f":"'جدول الصف الخامس'!$C$10","v":"اللغة الإنجليزية"},{"$f":"'جدول الصف الخامس'!$D$10","v":9.4499999999999993},{"$f":"'جدول الصف الخامس'!$E$10","v":11.15},{"$f":"'جدول الصف الخامس'!$F$10","v":"ساعة ونصف"}]
[{"$f":"'جدول الصف الخامس'!$B$11","v":"الاثنين"},{"$f":"'جدول الصف الخامس'!$C$11","v":"علوم"},{"$f":"'جدول الصف الخامس'!$D$11","v":8},{"$f":"'جدول الصف الخامس'!$E$11","v":9.3000000000000007},{"$f":"'جدول الصف الخامس'!$F$11","v":"ساعة ونصف"},null,{"$f":"'جدول الصف الخامس'!$B$11","v":"الاثنين"},{"$f":"'جدول الصف الخامس'!$C$11","v":"علوم"},{"$f":"'جدول الصف الخامس'!$D$11","v":8},{"$f":"'جدول الصف الخامس'!$E$11","v":9.3000000000000007},{"$f":"'جدول الصف الخامس'!$F$11","v":"ساعة ونصف"}]
[{"$f":"'جدول الصف الخامس'!$B$12","v":"2018-01-03"},{"$f":"'جدول الصف الخامس'!$C$12","v":"التربية الدينية"},{"$f":"'جدول الصف الخامس'!$D$12","v":9.4499999999999993},{"$f":"'جدول الصف الخامس'!$E$12","v":10.45},{"$f":"'جدول الصف الخامس'!$F$12","v":"ساعة ونصف"},null,{"$f":"'جدول الصف الخامس'!$B$12","v":"2018-01-03"},{"$f":"'جدول الصف الخامس'!$C$12","v":"التربية الدينية"},{"$f":"'جدول الصف الخامس'!$D$12","v":9.4499999999999993},{"$f":"'جدول الصف الخامس'!$E$12","v":10.45},{"$f":"'جدول الصف الخامس'!$F$12","v":"ساعة ونصف"}]
[{"$f":"'جدول الصف الخامس'!$B$13","v":"الثلاثاء"},{"$f":"'جدول الصف الخامس'!$C$13","v":"الدراسات"},{"$f":"'جدول الصف الخامس'!$D$13","v":8},{"$f":"'جدول الصف الخامس'!$E$13","v":9.3000000000000007},{"$f":"'جدول الصف الخامس'!$F$13","v":"ساعة ونصف"},null,{"$f":"'جدول الصف الخامس'!$B$13","v":"الثلاثاء"},{"$f":"'جدول الصف الخامس'!$C$13","v":"الدراسات"},{"$f":"'جدول الصف الخامس'!$D$13","v":8},{"$f":"'جدول الصف الخامس'!$E$13","v":9.3000000000000007},{"$f":"'جدول الصف الخامس'!$F$13","v":"ساعة ونصف"}]
[{"$f":"'جدول الصف الخامس'!$B$14","v":"2018-01-04"},null,null,null,null,null,{"$f":"'جدول الصف الخامس'!$B$14","v":"2018-01-04"}]
[]
[{"$f":"'جدول الصف الخامس'!$A$1","v":"إدارة /غرب المحلة الكبرى التعليمية"},null,"رقم اللجنة",null,{"$f":"VLOOKUP(E122,قائمة_الخامس,7,FALSE)","v":1},null,{"$f":"'جدول الصف الخامس'!$A$1","v":"إدارة /غرب المحلة الكبرى التعليمية"},null,"رقم اللجنة",null,{"$f":"VLOOKUP(K122,قائمة_الخامس,7,FALSE)","v":2}]
[{"$f":"'جدول الصف الخامس'!$A$2","v":"مدرسة د/علي علي حبيش الابتدائية"},null,{"$f":"'جدول الصف الخامس'!$C$4","v":"الصف الخامس"},null,{"$f":"E107+1","v":9},null,{"$f":"'جدول الصف الخامس'!$A$2","v":"مدرسة د/علي علي حبيش الابتدائية"},null,{"$f":"'جدول الصف الخامس'!$C$4","v":"الصف الخامس"},null,{"$f":"K107+1","v":24}]
[{"$f":"'جدول الصف الخامس'!$B$3","v":"جدول امتحان الفصل الدراسي الأول / الثاني للعام الدراسي 2019/2018"},null,null,null,null,null,{"$f":"'جدول الصف الخامس'!$B$3","v":"جدول امتحان الفصل الدراسي الأول / الثاني للعام الدراسي 2019/2018"}]
["اسم التلميذ",{"$f":"VLOOKUP(E122,قائمة_الخامس,3,FALSE)","v":"احمد9"},"رقم الجلوس",null,{"$f":"VLOOKUP(E122,قائمة_الخامس,2,FALSE)","v":78},null,"اسم التلميذ",{"$f":"VLOOKUP(K122,قائمة_الخامس,3,FALSE)","v":"احمد24"},"رقم الجلوس",null,{"$f":"VLOOKUP(K122,قائمة_الخامس,2,FALSE)","v":93}]
["اليوم والترايخ","المــــــــــــــادة","الوقت",null,"الزمــــن ",null,"اليوم والترايخ","المــــــــــــــادة","الوقت",null,"الزمــــن "]
[null,null,"من ","إلي",null,null,null,null,"من ","إلي"]
[{"$f":"'جدول الصف الخامس'!$B$7","v":"السبت"},{"$f":"'جدول الصف الخامس'!$C$7","v":"لغة عربية وخط"},{"$f":"'جدول الصف الخامس'!$D$7","v":8},{"$f":"'جدول الصف الخامس'!$E$7","v":10.3},{"$f":"'جدول الصف الخامس'!$F$7","v":"ساعتان ونصف"},null,{"$f":"'جدول الصف الخامس'!$B$7","v":"السبت"},{"$f":"'جدول الصف الخامس'!$C$7","v":"لغة عربية وخط"},{"$f":"'جدول الصف الخامس'!$D$7","v":8},{"$f":"'جدول الصف الخامس'!$E$7","v":10.3},{"$f":"'جدول الصف الخامس'!$F$7","v":"ساعتان ونصف"}]
[{"$f":"'جدول الصف الخامس'!$B$8","v":"2018-01-01"},null,null,null,null,null,{"$f":"'جدول الصف الخامس'!$B$8","v":"2018-01-01"}]
[{"$f":"'جدول الصف الخامس'!$B$9","v":"الأحد"},{"$f":"'جدول الصف الخامس'!$C$9","v":"الرياضيات"},{"$f":"'جدول الصف الخامس'!$D$9","v":8},{"$f":"'جدول الصف الخامس'!$E$9","v":9.3000000000000007},{"$f":"'جدول الصف الخامس'!$F$9","v":"ساعة ونصف"},null,{"$f":"'جدول الصف الخامس'!$B$9","v":"الأحد"},{"$f":"'جدول الصف الخامس'!$C$9","v":"الرياضيات"},{"$f":"'جدول الصف الخامس'!$D$9","v":8},{"$f":"'جدول الصف الخامس'!$E$9","v":9.3000000000000007},{"$f":"'جدول الصف الخامس'!$F$9","v":"ساعة ونصف"}]
[{"$f":"'جدول الصف الخامس'!$B$10","v":"2018-01-02"},{"$f":"'جدول الصف الخامس'!$C$10","v":"اللغة الإنجليزية"},{"$f":"'جدول الصف الخامس'!$D$10","v":9.4499999999999993},{"$f":"'جدول الصف الخامس'!$E$10","v":11.15},{"$f":"'جدول الصف الخامس'!$F$10","v":"ساعة ونصف"},null,{"$f":"'جدول الصف الخامس'!$B$10","v":"2018-01-02"},{"$f":"'جدول الصف الخامس'!$C$10","v":"اللغة الإنجليزية"},{"$f":"'جدول الصف الخامس'!$D$10","v":9.4499999999999993},{"$f":"'جدول الصف الخامس'!$E$10","v":11.15},{"$f":"'جدول الصف الخامس'!$F$10","v":"ساعة ونصف"}]
[{"$f":"'جدول الصف الخامس'!$B$11","v":"الاثنين"},{"$f":"'جدول الصف الخامس'!$C$11","v":"علوم"},{"$f":"'جدول الصف الخامس'!$D$11","v":8},{"$f":"'جدول الصف الخامس'!$E$11","v":9.3000000000000007},{"$f":"'جدول الصف الخامس'!$F$11","v":"ساعة ونصف"},null,{"$f":"'جدول الصف الخامس'!$B$11","v":"الاثنين"},{"$f":"'جدول الصف الخامس'!$C$11","v":"علوم"},{"$f":"'جدول الصف الخامس'!$D$11","v":8},{"$f":"'جدول الصف الخامس'!$E$11","v":9.3000000000000007},{"$f":"'جدول الصف الخامس'!$F$11","v":"ساعة ونصف"}]
[{"$f":"'جدول الصف الخامس'!$B$12","v":"2018-01-03"},{"$f":"'جدول الصف الخامس'!$C$12","v":"التربية الدينية"},{"$f":"'جدول الصف الخامس'!$D$12","v":9.4499999999999993},{"$f":"'جدول الصف الخامس'!$E$12","v":10.45},{"$f":"'جدول الصف الخامس'!$F$12","v":"ساعة ونصف"},null,{"$f":"'جدول الصف الخامس'!$B$12","v":"2018-01-03"},{"$f":"'جدول الصف الخامس'!$C$12","v":"التربية الدينية"},{"$f":"'جدول الصف الخامس'!$D$12","v":9.4499999999999993},{"$f":"'جدول الصف الخامس'!$E$12","v":10.45},{"$f":"'جدول الصف الخامس'!$F$12","v":"ساعة ونصف"}]
[{"$f":"'جدول الصف الخامس'!$B$13","v":"الثلاثاء"},{"$f":"'جدول الصف الخامس'!$C$13","v":"الدراسات"},{"$f":"'جدول الصف الخامس'!$D$13","v":8},{"$f":"'جدول الصف الخامس'!$E$13","v":9.3000000000000007},{"$f":"'جدول الصف الخامس'!$F$13","v":"ساعة ونصف"},null,{"$f":"'جدول الصف الخامس'!$B$13","v":"الثلاثاء"},{"$f":"'جدول الصف الخامس'!$C$13","v":"الدراسات"},{"$f":"'جدول الصف الخامس'!$D$13","v":8},{"$f":"'جدول الصف الخامس'!$E$13","v":9.3000000000000007},{"$f":"'جدول الصف الخامس'!$F$13","v":"ساعة ونصف"}]
[{"$f":"'جدول الصف الخامس'!$B$14","v":"2018-01-04"},null,null,null,null,null,{"$f":"'جدول الصف الخامس'!$B$14","v":"2018-01-04"}]
[]
[{"$f":"'جدول الصف الخامس'!$A$1","v":"إدارة /غرب المحلة الكبرى التعليمية"},null,"رقم اللجنة",null,{"$f":"VLOOKUP(E137,قائمة_الخامس,7,FALSE)","v":1},null,{"$f":"'جدول الصف الخامس'!$A$1","v":"إدارة /غرب المحلة الكبرى التعليمية"},null,"رقم اللجنة",null,{"$f":"VLOOKUP(K137,قائمة_الخامس,7,FALSE)","v":2}]
[{"$f":"'جدول الصف الخامس'!$A$2","v":"مدرسة د/علي علي حبيش الابتدائية"},null,{"$f":"'جدول الصف الخامس'!$C$4","v":"الصف الخامس"},null,{"$f":"E122+1","v":10},null,{"$f":"'جدول الصف الخامس'!$A$2","v":"مدرسة د/علي علي حبيش الابتدائية"},null,{"$f":"'جدول الصف الخامس'!$C$4","v":"الصف الخامس"},null,{"$f":"K122+1","v":25}]
[{"$f":"'جدول الصف الخامس'!$B$3","v":"جدول امتحان الفصل الدراسي الأول / الثاني للعام الدراسي 2019/2018"},null,null,null,null,null,{"$f":"'جدول الصف الخامس'!$B$3","v":"جدول امتحان الفصل الدراسي الأول / الثاني للعام الدراسي 2019/2018"}]
["اسم التلميذ",{"$f":"VLOOKUP(E137,قائمة_الخامس,3,FALSE)","v":"احمد10"},"رقم الجلوس",null,{"$f":"VLOOKUP(E137,قائمة_الخامس,2,FALSE)","v":79},null,"اسم التلميذ",{"$f":"VLOOKUP(K137,قائمة_الخامس,3,FALSE)","v":"احمد25"},"رقم الجلوس",null,{"$f":"VLOOKUP(K137,قائمة_الخامس,2,FALSE)","v":94}]
["اليوم والترايخ","المــــــــــــــادة","الوقت",null,"الزمــــن ",null,"اليوم والترايخ","المــــــــــــــادة","الوقت",null,"الزمــــن "]
[null,null,"من ","إلي",null,null,null,null,"من ","إلي"]
[{"$f":"'جدول الصف الخامس'!$B$7","v":"السبت"},{"$f":"'جدول الصف الخامس'!$C$7","v":"لغة عربية وخط"},{"$f":"'جدول الصف الخامس'!$D$7","v":8},{"$f":"'جدول الصف الخامس'!$E$7","v":10.3},{"$f":"'جدول الصف الخامس'!$F$7","v":"ساعتان ونصف"},null,{"$f":"'جدول الصف الخامس'!$B$7","v":"السبت"},{"$f":"'جدول الصف الخامس'!$C$7","v":"لغة عربية وخط"},{"$f":"'جدول الصف الخامس'!$D$7","v":8},{"$f":"'جدول الصف الخامس'!$E$7","v":10.3},{"$f":"'جدول الصف الخامس'!$F$7","v":"ساعتان ونصف"}]
[{"$f":"'جدول الصف الخامس'!$B$8","v":"2018-01-01"},null,null,null,null,null,{"$f":"'جدول الصف الخامس'!$B$8","v":"2018-01-01"}]
[{"$f":"'جدول الصف الخامس'!$B$9","v":"الأحد"},{"$f":"'جدول الصف الخامس'!$C$9","v":"الرياضيات"},{"$f":"'جدول الصف الخامس'!$D$9","v":8},{"$f":"'جدول الصف الخامس'!$E$9","v":9.3000000000000007},{"$f":"'جدول الصف الخامس'!$F$9","v":"ساعة ونصف"},null,{"$f":"'جدول الصف الخامس'!$B$9","v":"الأحد"},{"$f":"'جدول الصف الخامس'!$C$9","v":"الرياضيات"},{"$f":"'جدول الصف الخامس'!$D$9","v":8},{"$f":"'جدول الصف الخامس'!$E$9","v":9.3000000000000007},{"$f":"'جدول الصف الخامس'!$F$9","v":"ساعة ونصف"}]
[{"$f":"'جدول الصف الخامس'!$B$10","v":"2018-01-02"},{"$f":"'جدول الصف الخامس'!$C$10","v":"اللغة الإنجليزية"},{"$f":"'جدول الصف الخامس'!$D$10","v":9.4499999999999993},{"$f":"'جدول الصف الخامس'!$E$10","v":11.15},{"$f":"'جدول الصف الخامس'!$F$10","v":"ساعة ونصف"},null,{"$f":"'جدول الصف الخامس'!$B$10","v":"2018-01-02"},{"$f":"'جدول الصف الخامس'!$C$10","v":"اللغة الإنجليزية"},{"$f":"'جدول الصف الخامس'!$D$10","v":9.4499999999999993},{"$f":"'جدول الصف الخامس'!$E$10","v":11.15},{"$f":"'جدول الصف الخامس'!$F$10","v":"ساعة ونصف"}]
[{"$f":"'جدول الصف الخامس'!$B$11","v":"الاثنين"},{"$f":"'جدول الصف الخامس'!$C$11","v":"علوم"},{"$f":"'جدول الصف الخامس'!$D$11","v":8},{"$f":"'جدول الصف الخامس'!$E$11","v":9.3000000000000007},{"$f":"'جدول الصف الخامس'!$F$11","v":"ساعة ونصف"},null,{"$f":"'جدول الصف الخامس'!$B$11","v":"الاثنين"},{"$f":"'جدول الصف الخامس'!$C$11","v":"علوم"},{"$f":"'جدول الصف الخامس'!$D$11","v":8},{"$f":"'جدول الصف الخامس'!$E$11","v":9.3000000000000007},{"$f":"'جدول الصف الخامس'!$F$11","v":"ساعة ونصف"}]
[{"$f":"'جدول الصف الخامس'!$B$12","v":"2018-01-03"},{"$f":"'جدول الصف الخامس'!$C$12","v":"التربية الدينية"},{"$f":"'جدول الصف الخامس'!$D$12","v":9.4499999999999993},{"$f":"'جدول الصف الخامس'!$E$12","v":10.45},{"$f":"'جدول الصف الخامس'!$F$12","v":"ساعة ونصف"},null,{"$f":"'جدول الصف الخامس'!$B$12","v":"2018-01-03"},{"$f":"'جدول الصف الخامس'!$C$12","v":"التربية الدينية"},{"$f":"'جدول الصف الخامس'!$D$12","v":9.4499999999999993},{"$f":"'جدول الصف الخامس'!$E$12","v":10.45},{"$f":"'جدول الصف الخامس'!$F$12","v":"ساعة ونصف"}]
[{"$f":"'جدول الصف الخامس'!$B$13","v":"الثلاثاء"},{"$f":"'جدول الصف الخامس'!$C$13","v":"الدراسات"},{"$f":"'جدول الصف الخامس'!$D$13","v":8},{"$f":"'جدول الصف الخامس'!$E$13","v":9.3000000000000007},{"$f":"'جدول الصف الخامس'!$F$13","v":"ساعة ونصف"},null,{"$f":"'جدول الصف الخامس'!$B$13","v":"الثلاثاء"},{"$f":"'جدول الصف الخامس'!$C$13","v":"الدراسات"},{"$f":"'جدول الصف الخامس'!$D$13","v":8},{"$f":"'جدول الصف الخامس'!$E$13","v":9.3000000000000007},{"$f":"'جدول الصف الخامس'!$F$13","v":"ساعة ونصف"}]
[{"$f":"'جدول الصف الخامس'!$B$14","v":"2018-01-04"},null,null,null,null,null,{"$f":"'جدول الصف الخامس'!$B$14","v":"2018-01-04"}]
[]
[{"$f":"'جدول الصف الخامس'!$A$1","v":"إدارة /غرب المحلة الكبرى التعليمية"},null,"رقم اللجنة",null,{"$f":"VLOOKUP(E152,قائمة_الخامس,7,FALSE)","v":1},null,{"$f":"'جدول الصف الخامس'!$A$1","v":"إدارة /غرب المحلة الكبرى التعليمية"},null,"رقم اللجنة",null,{"$f":"VLOOKUP(K152,قائمة_الخامس,7,FALSE)","v":2}]
[{"$f":"'جدول الصف الخامس'!$A$2","v":"مدرسة د/علي علي حبيش الابتدائية"},null,{"$f":"'جدول الصف الخامس'!$C$4","v":"الصف الخامس"},null,{"$f":"E137+1","v":11},null,{"$f":"'جدول الصف الخامس'!$A$2","v":"مدرسة د/علي علي حبيش الابتدائية"},null,{"$f":"'جدول الصف الخامس'!$C$4","v":"الصف الخامس"},null,{"$f":"K137+1","v":26}]
[{"$f":"'جدول الصف الخامس'!$B$3","v":"جدول امتحان الفصل الدراسي الأول / الثاني للعام الدراسي 2019/2018"},null,null,null,null,null,{"$f":"'جدول الصف الخامس'!$B$3","v":"جدول امتحان الفصل الدراسي الأول / الثاني للعام الدراسي 2019/2018"}]
["اسم التلميذ",{"$f":"VLOOKUP(E152,قائمة_الخامس,3,FALSE)","v":"احمد11"},"رقم الجلوس",null,{"$f":"VLOOKUP(E152,قائمة_الخامس,2,FALSE)","v":80},null,"اسم التلميذ",{"$f":"VLOOKUP(K152,قائمة_الخامس,3,FALSE)","v":"احمد26"},"رقم الجلوس",null,{"$f":"VLOOKUP(K152,قائمة_الخامس,2,FALSE)","v":95}]
["اليوم والترايخ","المــــــــــــــادة","الوقت",null,"الزمــــن ",null,"اليوم والترايخ","المــــــــــــــادة","الوقت",null,"الزمــــن "]
[null,null,"من ","إلي",null,null,null,null,"من ","إلي"]
[{"$f":"'جدول الصف الخامس'!$B$7","v":"السبت"},{"$f":"'جدول الصف الخامس'!$C$7","v":"لغة عربية وخط"},{"$f":"'جدول الصف الخامس'!$D$7","v":8},{"$f":"'جدول الصف الخامس'!$E$7","v":10.3},{"$f":"'جدول الصف الخامس'!$F$7","v":"ساعتان ونصف"},null,{"$f":"'جدول الصف الخامس'!$B$7","v":"السبت"},{"$f":"'جدول الصف الخامس'!$C$7","v":"لغة عربية وخط"},{"$f":"'جدول الصف الخامس'!$D$7","v":8},{"$f":"'جدول الصف الخامس'!$E$7","v":10.3},{"$f":"'جدول الصف الخامس'!$F$7","v":"ساعتان ونصف"}]
[{"$f":"'جدول الصف الخامس'!$B$8","v":"2018-01-01"},null,null,null,null,null,{"$f":"'جدول الصف الخامس'!$B$8","v":"2018-01-01"}]
[{"$f":"'جدول الصف الخامس'!$B$9","v":"الأحد"},{"$f":"'جدول الصف الخامس'!$C$9","v":"الرياضيات"},{"$f":"'جدول الصف الخامس'!$D$9","v":8},{"$f":"'جدول الصف الخامس'!$E$9","v":9.3000000000000007},{"$f":"'جدول الصف الخامس'!$F$9","v":"ساعة ونصف"},null,{"$f":"'جدول الصف الخامس'!$B$9","v":"الأحد"},{"$f":"'جدول الصف الخامس'!$C$9","v":"الرياضيات"},{"$f":"'جدول الصف الخامس'!$D$9","v":8},{"$f":"'جدول الصف الخامس'!$E$9","v":9.3000000000000007},{"$f":"'جدول الصف الخامس'!$F$9","v":"ساعة ونصف"}]
[{"$f":"'جدول الصف الخامس'!$B$10","v":"2018-01-02"},{"$f":"'جدول الصف الخامس'!$C$10","v":"اللغة الإنجليزية"},{"$f":"'جدول الصف الخامس'!$D$10","v":9.4499999999999993},{"$f":"'جدول الصف الخامس'!$E$10","v":11.15},{"$f":"'جدول الصف الخامس'!$F$10","v":"ساعة ونصف"},null,{"$f":"'جدول الصف الخامس'!$B$10","v":"2018-01-02"},{"$f":"'جدول الصف الخامس'!$C$10","v":"اللغة الإنجليزية"},{"$f":"'جدول الصف الخامس'!$D$10","v":9.4499999999999993},{"$f":"'جدول الصف الخامس'!$E$10","v":11.15},{"$f":"'جدول الصف الخامس'!$F$10","v":"ساعة ونصف"}]
[{"$f":"'جدول الصف الخامس'!$B$11","v":"الاثنين"},{"$f":"'جدول الصف الخامس'!$C$11","v":"علوم"},{"$f":"'جدول الصف الخامس'!$D$11","v":8},{"$f":"'جدول الصف الخامس'!$E$11","v":9.3000000000000007},{"$f":"'جدول الصف الخامس'!$F$11","v":"ساعة ونصف"},null,{"$f":"'جدول الصف الخامس'!$B$11","v":"الاثنين"},{"$f":"'جدول الصف الخامس'!$C$11","v":"علوم"},{"$f":"'جدول الصف الخامس'!$D$11","v":8},{"$f":"'جدول الصف الخامس'!$E$11","v":9.3000000000000007},{"$f":"'جدول الصف الخامس'!$F$11","v":"ساعة ونصف"}]
[{"$f":"'جدول الصف الخامس'!$B$12","v":"2018-01-03"},{"$f":"'جدول الصف الخامس'!$C$12","v":"التربية الدينية"},{"$f":"'جدول الصف الخامس'!$D$12","v":9.4499999999999993},{"$f":"'جدول الصف الخامس'!$E$12","v":10.45},{"$f":"'جدول الصف الخامس'!$F$12","v":"ساعة ونصف"},null,{"$f":"'جدول الصف الخامس'!$B$12","v":"2018-01-03"},{"$f":"'جدول الصف الخامس'!$C$12","v":"التربية الدينية"},{"$f":"'جدول الصف الخامس'!$D$12","v":9.4499999999999993},{"$f":"'جدول الصف الخامس'!$E$12","v":10.45},{"$f":"'جدول الصف الخامس'!$F$12","v":"ساعة ونصف"}]
[{"$f":"'جدول الصف الخامس'!$B$13","v":"الثلاثاء"},{"$f":"'جدول الصف الخامس'!$C$13","v":"الدراسات"},{"$f":"'جدول الصف الخامس'!$D$13","v":8},{"$f":"'جدول الصف الخامس'!$E$13","v":9.3000000000000007},{"$f":"'جدول الصف الخامس'!$F$13","v":"ساعة ونصف"},null,{"$f":"'جدول الصف الخامس'!$B$13","v":"الثلاثاء"},{"$f":"'جدول الصف الخامس'!$C$13","v":"الدراسات"},{"$f":"'جدول الصف الخامس'!$D$13","v":8},{"$f":"'جدول الصف الخامس'!$E$13","v":9.3000000000000007},{"$f":"'جدول الصف الخامس'!$F$13","v":"ساعة ونصف"}]
[{"$f":"'جدول الصف الخامس'!$B$14","v":"2018-01-04"},null,null,null,null,null,{"$f":"'جدول الصف الخامس'!$B$14","v":"2018-01-04"}]
[]
[{"$f":"'جدول الصف الخامس'!$A$1","v":"إدارة /غرب المحلة الكبرى التعليمية"},null,"رقم اللجنة",null,{"$f":"VLOOKUP(E167,قائمة_الخامس,7,FALSE)","v":1},null,{"$f":"'جدول الصف الخامس'!$A$1","v":"إدارة /غرب المحلة الكبرى التعليمية"},null,"رقم اللجنة",null,{"$f":"VLOOKUP(K167,قائمة_الخامس,7,FALSE)","v":2}]
[{"$f":"'جدول الصف الخامس'!$A$2","v":"مدرسة د/علي علي حبيش الابتدائية"},null,{"$f":"'جدول الصف الخامس'!$C$4","v":"الصف الخامس"},null,{"$f":"E152+1","v":12},null,{"$f":"'جدول الصف الخامس'!$A$2","v":"مدرسة د/علي علي حبيش الابتدائية"},null,{"$f":"'جدول الصف الخامس'!$C$4","v":"الصف الخامس"},null,{"$f":"K152+1","v":27}]
[{"$f":"'جدول الصف الخامس'!$B$3","v":"جدول امتحان الفصل الدراسي الأول / الثاني للعام الدراسي 2019/2018"},null,null,null,null,null,{"$f":"'جدول الصف الخامس'!$B$3","v":"جدول امتحان الفصل الدراسي الأول / الثاني للعام الدراسي 2019/2018"}]
["اسم التلميذ",{"$f":"VLOOKUP(E167,قائمة_الخامس,3,FALSE)","v":"احمد12"},"رقم الجلوس",null,{"$f":"VLOOKUP(E167,قائمة_الخامس,2,FALSE)","v":81},null,"اسم التلميذ",{"$f":"VLOOKUP(K167,قائمة_الخامس,3,FALSE)","v":"احمد27"},"رقم الجلوس",null,{"$f":"VLOOKUP(K167,قائمة_الخامس,2,FALSE)","v":96}]
["اليوم والترايخ","المــــــــــــــادة","الوقت",null,"الزمــــن ",null,"اليوم والترايخ","المــــــــــــــادة","الوقت",null,"الزمــــن "]
[null,null,"من ","إلي",null,null,null,null,"من ","إلي"]
[{"$f":"'جدول الصف الخامس'!$B$7","v":"السبت"},{"$f":"'جدول الصف الخامس'!$C$7","v":"لغة عربية وخط"},{"$f":"'جدول الصف الخامس'!$D$7","v":8},{"$f":"'جدول الصف الخامس'!$E$7","v":10.3},{"$f":"'جدول الصف الخامس'!$F$7","v":"ساعتان ونصف"},null,{"$f":"'جدول الصف الخامس'!$B$7","v":"السبت"},{"$f":"'جدول الصف الخامس'!$C$7","v":"لغة عربية وخط"},{"$f":"'جدول الصف الخامس'!$D$7","v":8},{"$f":"'جدول الصف الخامس'!$E$7","v":10.3},{"$f":"'جدول الصف الخامس'!$F$7","v":"ساعتان ونصف"}]
[{"$f":"'جدول الصف الخامس'!$B$8","v":"2018-01-01"},null,null,null,null,null,{"$f":"'جدول الصف الخامس'!$B$8","v":"2018-01-01"}]
[{"$f":"'جدول الصف الخامس'!$B$9","v":"الأحد"},{"$f":"'جدول الصف الخامس'!$C$9","v":"الرياضيات"},{"$f":"'جدول الصف الخامس'!$D$9","v":8},{"$f":"'جدول الصف الخامس'!$E$9","v":9.3000000000000007},{"$f":"'جدول الصف الخامس'!$F$9","v":"ساعة ونصف"},null,{"$f":"'جدول الصف الخامس'!$B$9","v":"الأحد"},{"$f":"'جدول الصف الخامس'!$C$9","v":"الرياضيات"},{"$f":"'جدول الصف الخامس'!$D$9","v":8},{"$f":"'جدول الصف الخامس'!$E$9","v":9.3000000000000007},{"$f":"'جدول الصف الخامس'!$F$9","v":"ساعة ونصف"}]
[{"$f":"'جدول الصف الخامس'!$B$10","v":"2018-01-02"},{"$f":"'جدول الصف الخامس'!$C$10","v":"اللغة الإنجليزية"},{"$f":"'جدول الصف الخامس'!$D$10","v":9.4499999999999993},{"$f":"'جدول الصف الخامس'!$E$10","v":11.15},{"$f":"'جدول الصف الخامس'!$F$10","v":"ساعة ونصف"},null,{"$f":"'جدول الصف الخامس'!$B$10","v":"2018-01-02"},{"$f":"'جدول الصف الخامس'!$C$10","v":"اللغة الإنجليزية"},{"$f":"'جدول الصف الخامس'!$D$10","v":9.4499999999999993},{"$f":"'جدول الصف الخامس'!$E$10","v":11.15},{"$f":"'جدول الصف الخامس'!$F$10","v":"ساعة ونصف"}]
[{"$f":"'جدول الصف الخامس'!$B$11","v":"الاثنين"},{"$f":"'جدول الصف الخامس'!$C$11","v":"علوم"},{"$f":"'جدول الصف الخامس'!$D$11","v":8},{"$f":"'جدول الصف الخامس'!$E$11","v":9.3000000000000007},{"$f":"'جدول الصف الخامس'!$F$11","v":"ساعة ونصف"},null,{"$f":"'جدول الصف الخامس'!$B$11","v":"الاثنين"},{"$f":"'جدول الصف الخامس'!$C$11","v":"علوم"},{"$f":"'جدول الصف الخامس'!$D$11","v":8},{"$f":"'جدول الصف الخامس'!$E$11","v":9.3000000000000007},{"$f":"'جدول الصف الخامس'!$F$11","v":"ساعة ونصف"}]
[{"$f":"'جدول الصف الخامس'!$B$12","v":"2018-01-03"},{"$f":"'جدول الصف الخامس'!$C$12","v":"التربية الدينية"},{"$f":"'جدول الصف الخامس'!$D$12","v":9.4499999999999993},{"$f":"'جدول الصف الخامس'!$E$12","v":10.45},{"$f":"'جدول الصف الخامس'!$F$12","v":"ساعة ونصف"},null,{"$f":"'جدول الصف الخامس'!$B$12","v":"2018-01-03"},{"$f":"'جدول الصف الخامس'!$C$12","v":"التربية الدينية"},{"$f":"'جدول الصف الخامس'!$D$12","v":9.4499999999999993},{"$f":"'جدول الصف الخامس'!$E$12","v":10.45},{"$f":"'جدول الصف الخامس'!$F$12","v":"ساعة ونصف"}]
[{"$f":"'جدول الصف الخامس'!$B$13","v":"الثلاثاء"},{"$f":"'جدول الصف الخامس'!$C$13","v":"الدراسات"},{"$f":"'جدول الصف الخامس'!$D$13","v":8},{"$f":"'جدول الصف الخامس'!$E$13","v":9.3000000000000007},{"$f":"'جدول الصف الخامس'!$F$13","v":"ساعة ونصف"},null,{"$f":"'جدول الصف الخامس'!$B$13","v":"الثلاثاء"},{"$f":"'جدول الصف الخامس'!$C$13","v":"الدراسات"},{"$f":"'جدول الصف الخامس'!$D$13","v":8},{"$f":"'جدول الصف الخامس'!$E$13","v":9.3000000000000007},{"$f":"'جدول الصف الخامس'!$F$13","v":"ساعة ونصف"}]
[{"$f":"'جدول الصف الخامس'!$B$14","v":"2018-01-04"},null,null,null,null,null,{"$f":"'جدول الصف الخامس'!$B$14","v":"2018-01-04"}]
[]
[{"$f":"'جدول الصف الخامس'!$A$1","v":"إدارة /غرب المحلة الكبرى التعليمية"},null,"رقم اللجنة",null,{"$f":"VLOOKUP(E182,قائمة_الخامس,7,FALSE)","v":1},null,{"$f":"'جدول الصف الخامس'!$A$1","v":"إدارة /غرب المحلة الكبرى التعليمية"},null,"رقم اللجنة",null,{"$f":"VLOOKUP(K182,قائمة_الخامس,7,FALSE)","v":2}]
[{"$f":"'جدول الصف الخامس'!$A$2","v":"مدرسة د/علي علي حبيش الابتدائية"},null,{"$f":"'جدول الصف الخامس'!$C$4","v":"الصف الخامس"},null,{"$f":"E167+1","v":13},null,{"$f":"'جدول الصف الخامس'!$A$2","v":"مدرسة د/علي علي حبيش الابتدائية"},null,{"$f":"'جدول الصف الخامس'!$C$4","v":"الصف الخامس"},null,{"$f":"K167+1","v":28}]
[{"$f":"'جدول الصف الخامس'!$B$3","v":"جدول امتحان الفصل الدراسي الأول / الثاني للعام الدراسي 2019/2018"},null,null,null,null,null,{"$f":"'جدول الصف الخامس'!$B$3","v":"جدول امتحان الفصل الدراسي الأول / الثاني للعام الدراسي 2019/2018"}]
["اسم التلميذ",{"$f":"VLOOKUP(E182,قائمة_الخامس,3,FALSE)","v":"احمد13"},"رقم الجلوس",null,{"$f":"VLOOKUP(E182,قائمة_الخامس,2,FALSE)","v":82},null,"اسم التلميذ",{"$f":"VLOOKUP(K182,قائمة_الخامس,3,FALSE)","v":"احمد28"},"رقم الجلوس",null,{"$f":"VLOOKUP(K182,قائمة_الخامس,2,FALSE)","v":97}]
["اليوم والترايخ","المــــــــــــــادة","الوقت",null,"الزمــــن ",null,"اليوم والترايخ","المــــــــــــــادة","الوقت",null,"الزمــــن "]
[null,null,"من ","إلي",null,null,null,null,"من ","إلي"]
[{"$f":"'جدول الصف الخامس'!$B$7","v":"السبت"},{"$f":"'جدول الصف الخامس'!$C$7","v":"لغة عربية وخط"},{"$f":"'جدول الصف الخامس'!$D$7","v":8},{"$f":"'جدول الصف الخامس'!$E$7","v":10.3},{"$f":"'جدول الصف الخامس'!$F$7","v":"ساعتان ونصف"},null,{"$f":"'جدول الصف الخامس'!$B$7","v":"السبت"},{"$f":"'جدول الصف الخامس'!$C$7","v":"لغة عربية وخط"},{"$f":"'جدول الصف الخامس'!$D$7","v":8},{"$f":"'جدول الصف الخامس'!$E$7","v":10.3},{"$f":"'جدول الصف الخامس'!$F$7","v":"ساعتان ونصف"}]
[{"$f":"'جدول الصف الخامس'!$B$8","v":"2018-01-01"},null,null,null,null,null,{"$f":"'جدول الصف الخامس'!$B$8","v":"2018-01-01"}]
[{"$f":"'جدول الصف الخامس'!$B$9","v":"الأحد"},{"$f":"'جدول الصف الخامس'!$C$9","v":"الرياضيات"},{"$f":"'جدول الصف الخامس'!$D$9","v":8},{"$f":"'جدول الصف الخامس'!$E$9","v":9.3000000000000007},{"$f":"'جدول الصف الخامس'!$F$9","v":"ساعة ونصف"},null,{"$f":"'جدول الصف الخامس'!$B$9","v":"الأحد"},{"$f":"'جدول الصف الخامس'!$C$9","v":"الرياضيات"},{"$f":"'جدول الصف الخامس'!$D$9","v":8},{"$f":"'جدول الصف الخامس'!$E$9","v":9.3000000000000007},{"$f":"'جدول الصف الخامس'!$F$9","v":"ساعة ونصف"}]
[{"$f":"'جدول الصف الخامس'!$B$10","v":"2018-01-02"},{"$f":"'جدول الصف الخامس'!$C$10","v":"اللغة الإنجليزية"},{"$f":"'جدول الصف الخامس'!$D$10","v":9.4499999999999993},{"$f":"'جدول الصف الخامس'!$E$10","v":11.15},{"$f":"'جدول الصف الخامس'!$F$10","v":"ساعة ونصف"},null,{"$f":"'جدول الصف الخامس'!$B$10","v":"2018-01-02"},{"$f":"'جدول الصف الخامس'!$C$10","v":"اللغة الإنجليزية"},{"$f":"'جدول الصف الخامس'!$D$10","v":9.4499999999999993},{"$f":"'جدول الصف الخامس'!$E$10","v":11.15},{"$f":"'جدول الصف الخامس'!$F$10","v":"ساعة ونصف"}]
[{"$f":"'جدول الصف الخامس'!$B$11","v":"الاثنين"},{"$f":"'جدول الصف الخامس'!$C$11","v":"علوم"},{"$f":"'جدول الصف الخامس'!$D$11","v":8},{"$f":"'جدول الصف الخامس'!$E$11","v":9.3000000000000007},{"$f":"'جدول الصف الخامس'!$F$11","v":"ساعة ونصف"},null,{"$f":"'جدول الصف الخامس'!$B$11","v":"الاثنين"},{"$f":"'جدول الصف الخامس'!$C$11","v":"علوم"},{"$f":"'جدول الصف الخامس'!$D$11","v":8},{"$f":"'جدول الصف الخامس'!$E$11","v":9.3000000000000007},{"$f":"'جدول الصف الخامس'!$F$11","v":"ساعة ونصف"}]
[{"$f":"'جدول الصف الخامس'!$B$12","v":"2018-01-03"},{"$f":"'جدول الصف الخامس'!$C$12","v":"التربية الدينية"},{"$f":"'جدول الصف الخامس'!$D$12","v":9.4499999999999993},{"$f":"'جدول الصف الخامس'!$E$12","v":10.45},{"$f":"'جدول الصف الخامس'!$F$12","v":"ساعة ونصف"},null,{"$f":"'جدول الصف الخامس'!$B$12","v":"2018-01-03"},{"$f":"'جدول الصف الخامس'!$C$12","v":"التربية الدينية"},{"$f":"'جدول الصف الخامس'!$D$12","v":9.4499999999999993},{"$f":"'جدول الصف الخامس'!$E$12","v":10.45},{"$f":"'جدول الصف الخامس'!$F$12","v":"ساعة ونصف"}]
[{"$f":"'جدول الصف الخامس'!$B$13","v":"الثلاثاء"},{"$f":"'جدول الصف الخامس'!$C$13","v":"الدراسات"},{"$f":"'جدول الصف الخامس'!$D$13","v":8},{"$f":"'جدول الصف الخامس'!$E$13","v":9.3000000000000007},{"$f":"'جدول الصف الخامس'!$F$13","v":"ساعة ونصف"},null,{"$f":"'جدول الصف الخامس'!$B$13","v":"الثلاثاء"},{"$f":"'جدول الصف الخامس'!$C$13","v":"الدراسات"},{"$f":"'جدول الصف الخامس'!$D$13","v":8},{"$f":"'جدول الصف الخامس'!$E$13","v":9.3000000000000007},{"$f":"'جدول الصف الخامس'!$F$13","v":"ساعة ونصف"}]
[{"$f":"'جدول الصف الخامس'!$B$14","v":"2018-01-04"},null,null,null,null,null,{"$f":"'جدول الصف الخامس'!$B$14","v":"2018-01-04"}]
[]
[{"$f":"'جدول الصف الخامس'!$A$1","v":"إدارة /غرب المحلة الكبرى التعليمية"},null,"رقم اللجنة",null,{"$f":"VLOOKUP(E197,قائمة_الخامس,7,FALSE)","v":1},null,{"$f":"'جدول الصف الخامس'!$A$1","v":"إدارة /غرب المحلة الكبرى التعليمية"},null,"رقم اللجنة",null,{"$f":"VLOOKUP(K197,قائمة_الخامس,7,FALSE)","v":2}]
[{"$f":"'جدول الصف الخامس'!$A$2","v":"مدرسة د/علي علي حبيش الابتدائية"},null,{"$f":"'جدول الصف الخامس'!$C$4","v":"الصف الخامس"},null,{"$f":"E182+1","v":14},null,{"$f":"'جدول الصف الخامس'!$A$2","v":"مدرسة د/علي علي حبيش الابتدائية"},null,{"$f":"'جدول الصف الخامس'!$C$4","v":"الصف الخامس"},null,{"$f":"K182+1","v":29}]
[{"$f":"'جدول الصف الخامس'!$B$3","v":"جدول امتحان الفصل الدراسي الأول / الثاني للعام الدراسي 2019/2018"},null,null,null,null,null,{"$f":"'جدول الصف الخامس'!$B$3","v":"جدول امتحان الفصل الدراسي الأول / الثاني للعام الدراسي 2019/2018"}]
["اسم التلميذ",{"$f":"VLOOKUP(E197,قائمة_الخامس,3,FALSE)","v":"احمد14"},"رقم الجلوس",null,{"$f":"VLOOKUP(E197,قائمة_الخامس,2,FALSE)","v":83},null,"اسم التلميذ",{"$f":"VLOOKUP(K197,قائمة_الخامس,3,FALSE)","v":"احمد29"},"رقم الجلوس",null,{"$f":"VLOOKUP(K197,قائمة_الخامس,2,FALSE)","v":98}]
["اليوم والترايخ","المــــــــــــــادة","الوقت",null,"الزمــــن ",null,"اليوم والترايخ","المــــــــــــــادة","الوقت",null,"الزمــــن "]
[null,null,"من ","إلي",null,null,null,null,"من ","إلي"]
[{"$f":"'جدول الصف الخامس'!$B$7","v":"السبت"},{"$f":"'جدول الصف الخامس'!$C$7","v":"لغة عربية وخط"},{"$f":"'جدول الصف الخامس'!$D$7","v":8},{"$f":"'جدول الصف الخامس'!$E$7","v":10.3},{"$f":"'جدول الصف الخامس'!$F$7","v":"ساعتان ونصف"},null,{"$f":"'جدول الصف الخامس'!$B$7","v":"السبت"},{"$f":"'جدول الصف الخامس'!$C$7","v":"لغة عربية وخط"},{"$f":"'جدول الصف الخامس'!$D$7","v":8},{"$f":"'جدول الصف الخامس'!$E$7","v":10.3},{"$f":"'جدول الصف الخامس'!$F$7","v":"ساعتان ونصف"}]
[{"$f":"'جدول الصف الخامس'!$B$8","v":"2018-01-01"},null,null,null,null,null,{"$f":"'جدول الصف الخامس'!$B$8","v":"2018-01-01"}]
[{"$f":"'جدول الصف الخامس'!$B$9","v":"الأحد"},{"$f":"'جدول الصف الخامس'!$C$9","v":"الرياضيات"},{"$f":"'جدول الصف الخامس'!$D$9","v":8},{"$f":"'جدول الصف الخامس'!$E$9","v":9.3000000000000007},{"$f":"'جدول الصف الخامس'!$F$9","v":"ساعة ونصف"},null,{"$f":"'جدول الصف الخامس'!$B$9","v":"الأحد"},{"$f":"'جدول الصف الخامس'!$C$9","v":"الرياضيات"},{"$f":"'جدول الصف الخامس'!$D$9","v":8},{"$f":"'جدول الصف الخامس'!$E$9","v":9.3000000000000007},{"$f":"'جدول الصف الخامس'!$F$9","v":"ساعة ونصف"}]
[{"$f":"'جدول الصف الخامس'!$B$10","v":"2018-01-02"},{"$f":"'جدول الصف الخامس'!$C$10","v":"اللغة الإنجليزية"},{"$f":"'جدول الصف الخامس'!$D$10","v":9.4499999999999993},{"$f":"'جدول الصف الخامس'!$E$10","v":11.15},{"$f":"'جدول الصف الخامس'!$F$10","v":"ساعة ونصف"},null,{"$f":"'جدول الصف الخامس'!$B$10","v":"2018-01-02"},{"$f":"'جدول الصف الخامس'!$C$10","v":"اللغة الإنجليزية"},{"$f":"'جدول الصف الخامس'!$D$10","v":9.4499999999999993},{"$f":"'جدول الصف الخامس'!$E$10","v":11.15},{"$f":"'جدول الصف الخامس'!$F$10","v":"ساعة ونصف"}]
[{"$f":"'جدول الصف الخامس'!$B$11","v":"الاثنين"},{"$f":"'جدول الصف الخامس'!$C$11","v":"علوم"},{"$f":"'جدول الصف الخامس'!$D$11","v":8},{"$f":"'جدول الصف الخامس'!$E$11","v":9.3000000000000007},{"$f":"'جدول الصف الخامس'!$F$11","v":"ساعة ونصف"},null,{"$f":"'جدول الصف الخامس'!$B$11","v":"الاثنين"},{"$f":"'جدول الصف الخامس'!$C$11","v":"علوم"},{"$f":"'جدول الصف الخامس'!$D$11","v":8},{"$f":"'جدول الصف الخامس'!$E$11","v":9.3000000000000007},{"$f":"'جدول الصف الخامس'!$F$11","v":"ساعة ونصف"}]
[{"$f":"'جدول الصف الخامس'!$B$12","v":"2018-01-03"},{"$f":"'جدول الصف الخامس'!$C$12","v":"التربية الدينية"},{"$f":"'جدول الصف الخامس'!$D$12","v":9.4499999999999993},{"$f":"'جدول الصف الخامس'!$E$12","v":10.45},{"$f":"'جدول الصف الخامس'!$F$12","v":"ساعة ونصف"},null,{"$f":"'جدول الصف الخامس'!$B$12","v":"2018-01-03"},{"$f":"'جدول الصف الخامس'!$C$12","v":"التربية الدينية"},{"$f":"'جدول الصف الخامس'!$D$12","v":9.4499999999999993},{"$f":"'جدول الصف الخامس'!$E$12","v":10.45},{"$f":"'جدول الصف الخامس'!$F$12","v":"ساعة ونصف"}]
[{"$f":"'جدول الصف الخامس'!$B$13","v":"الثلاثاء"},{"$f":"'جدول الصف الخامس'!$C$13","v":"الدراسات"},{"$f":"'جدول الصف الخامس'!$D$13","v":8},{"$f":"'جدول الصف الخامس'!$E$13","v":9.3000000000000007},{"$f":"'جدول الصف الخامس'!$F$13","v":"ساعة ونصف"},null,{"$f":"'جدول الصف الخامس'!$B$13","v":"الثلاثاء"},{"$f":"'جدول الصف الخامس'!$C$13","v":"الدراسات"},{"$f":"'جدول الصف الخامس'!$D$13","v":8},{"$f":"'جدول الصف الخامس'!$E$13","v":9.3000000000000007},{"$f":"'جدول الصف الخامس'!$F$13","v":"ساعة ونصف"}]
[{"$f":"'جدول الصف الخامس'!$B$14","v":"2018-01-04"},null,null,null,null,null,{"$f":"'جدول الصف الخامس'!$B$14","v":"2018-01-04"}]
[]
[{"$f":"'جدول الصف الخامس'!$A$1","v":"إدارة /غرب المحلة الكبرى التعليمية"},null,"رقم اللجنة",null,{"$f":"VLOOKUP(E212,قائمة_الخامس,7,FALSE)","v":1},null,{"$f":"'جدول الصف الخامس'!$A$1","v":"إدارة /غرب المحلة الكبرى التعليمية"},null,"رقم اللجنة",null,{"$f":"VLOOKUP(K212,قائمة_الخامس,7,FALSE)","v":2}]
[{"$f":"'جدول الصف الخامس'!$A$2","v":"مدرسة د/علي علي حبيش الابتدائية"},null,{"$f":"'جدول الصف الخامس'!$C$4","v":"الصف الخامس"},null,{"$f":"E197+1","v":15},null,{"$f":"'جدول الصف الخامس'!$A$2","v":"مدرسة د/علي علي حبيش الابتدائية"},null,{"$f":"'جدول الصف الخامس'!$C$4","v":"الصف الخامس"},null,{"$f":"K197+1","v":30}]
[{"$f":"'جدول الصف الخامس'!$B$3","v":"جدول امتحان الفصل الدراسي الأول / الثاني للعام الدراسي 2019/2018"},null,null,null,null,null,{"$f":"'جدول الصف الخامس'!$B$3","v":"جدول امتحان الفصل الدراسي الأول / الثاني للعام الدراسي 2019/2018"}]
["اسم التلميذ",{"$f":"VLOOKUP(E212,قائمة_الخامس,3,FALSE)","v":"احمد15"},"رقم الجلوس",null,{"$f":"VLOOKUP(E212,قائمة_الخامس,2,FALSE)","v":84},null,"اسم التلميذ",{"$f":"VLOOKUP(K212,قائمة_الخامس,3,FALSE)","v":"احمد30"},"رقم الجلوس",null,{"$f":"VLOOKUP(K212,قائمة_الخامس,2,FALSE)","v":99}]
["اليوم والترايخ","المــــــــــــــادة","الوقت",null,"الزمــــن ",null,"اليوم والترايخ","المــــــــــــــادة","الوقت",null,"الزمــــن "]
[null,null,"من ","إلي",null,null,null,null,"من ","إلي"]
[{"$f":"'جدول الصف الخامس'!$B$7","v":"السبت"},{"$f":"'جدول الصف الخامس'!$C$7","v":"لغة عربية وخط"},{"$f":"'جدول الصف الخامس'!$D$7","v":8},{"$f":"'جدول الصف الخامس'!$E$7","v":10.3},{"$f":"'جدول الصف الخامس'!$F$7","v":"ساعتان ونصف"},null,{"$f":"'جدول الصف الخامس'!$B$7","v":"السبت"},{"$f":"'جدول الصف الخامس'!$C$7","v":"لغة عربية وخط"},{"$f":"'جدول الصف الخامس'!$D$7","v":8},{"$f":"'جدول الصف الخامس'!$E$7","v":10.3},{"$f":"'جدول الصف الخامس'!$F$7","v":"ساعتان ونصف"}]
[{"$f":"'جدول الصف الخامس'!$B$8","v":"2018-01-01"},null,null,null,null,null,{"$f":"'جدول الصف الخامس'!$B$8","v":"2018-01-01"}]
[{"$f":"'جدول الصف الخامس'!$B$9","v":"الأحد"},{"$f":"'جدول الصف الخامس'!$C$9","v":"الرياضيات"},{"$f":"'جدول الصف الخامس'!$D$9","v":8},{"$f":"'جدول الصف الخامس'!$E$9","v":9.3000000000000007},{"$f":"'جدول الصف الخامس'!$F$9","v":"ساعة ونصف"},null,{"$f":"'جدول الصف الخامس'!$B$9","v":"الأحد"},{"$f":"'جدول الصف الخامس'!$C$9","v":"الرياضيات"},{"$f":"'جدول الصف الخامس'!$D$9","v":8},{"$f":"'جدول الصف الخامس'!$E$9","v":9.3000000000000007},{"$f":"'جدول الصف الخامس'!$F$9","v":"ساعة ونصف"}]
[{"$f":"'جدول الصف الخامس'!$B$10","v":"2018-01-02"},{"$f":"'جدول الصف الخامس'!$C$10","v":"اللغة الإنجليزية"},{"$f":"'جدول الصف الخامس'!$D$10","v":9.4499999999999993},{"$f":"'جدول الصف الخامس'!$E$10","v":11.15},{"$f":"'جدول الصف الخامس'!$F$10","v":"ساعة ونصف"},null,{"$f":"'جدول الصف الخامس'!$B$10","v":"2018-01-02"},{"$f":"'جدول الصف الخامس'!$C$10","v":"اللغة الإنجليزية"},{"$f":"'جدول الصف الخامس'!$D$10","v":9.4499999999999993},{"$f":"'جدول الصف الخامس'!$E$10","v":11.15},{"$f":"'جدول الصف الخامس'!$F$10","v":"ساعة ونصف"}]
[{"$f":"'جدول الصف الخامس'!$B$11","v":"الاثنين"},{"$f":"'جدول الصف الخامس'!$C$11","v":"علوم"},{"$f":"'جدول الصف الخامس'!$D$11","v":8},{"$f":"'جدول الصف الخامس'!$E$11","v":9.3000000000000007},{"$f":"'جدول الصف الخامس'!$F$11","v":"ساعة ونصف"},null,{"$f":"'جدول الصف الخامس'!$B$11","v":"الاثنين"},{"$f":"'جدول الصف الخامس'!$C$11","v":"علوم"},{"$f":"'جدول الصف الخامس'!$D$11","v":8},{"$f":"'جدول الصف الخامس'!$E$11","v":9.3000000000000007},{"$f":"'جدول الصف الخامس'!$F$11","v":"ساعة ونصف"}]
[{"$f":"'جدول الصف الخامس'!$B$12","v":"2018-01-03"},{"$f":"'جدول الصف الخامس'!$C$12","v":"التربية الدينية"},{"$f":"'جدول الصف الخامس'!$D$12","v":9.4499999999999993},{"$f":"'جدول الصف الخامس'!$E$12","v":10.45},{"$f":"'جدول الصف الخامس'!$F$12","v":"ساعة ونصف"},null,{"$f":"'جدول الصف الخامس'!$B$12","v":"2018-01-03"},{"$f":"'جدول الصف الخامس'!$C$12","v":"التربية الدينية"},{"$f":"'جدول الصف الخامس'!$D$12","v":9.4499999999999993},{"$f":"'جدول الصف الخامس'!$E$12","v":10.45},{"$f":"'جدول الصف الخامس'!$F$12","v":"ساعة ونصف"}]
[{"$f":"'جدول الصف الخامس'!$B$13","v":"الثلاثاء"},{"$f":"'جدول الصف الخامس'!$C$13","v":"الدراسات"},{"$f":"'جدول الصف الخامس'!$D$13","v":8},{"$f":"'جدول الصف الخامس'!$E$13","v":9.3000000000000007},{"$f":"'جدول الصف الخامس'!$F$13","v":"ساعة ونصف"},null,{"$f":"'جدول الصف الخامس'!$B$13","v":"الثلاثاء"},{"$f":"'جدول الصف الخامس'!$C$13","v":"الدراسات"},{"$f":"'جدول الصف الخامس'!$D$13","v":8},{"$f":"'جدول الصف الخامس'!$E$13","v":9.3000000000000007},{"$f":"'جدول الصف الخامس'!$F$13","v":"ساعة ونصف"}]
[{"$f":"'جدول الصف الخامس'!$B$14","v":"2018-01-04"},null,null,null,null,null,{"$f":"'جدول الصف الخامس'!$B$14","v":"2018-01-04"}]

{"sheet":"جدول الصف السادس","index":16,"n_rows":14,"n_cols":6,"rows_kept":14,"cut":false,"hidden":false,"merged":[[4,1,5,1],[4,2,5,2],[4,3,4,4],[4,5,5,5]]}
[{"$f":"'البيانات الأساسية'!$A$1","v":"إدارة /غرب المحلة الكبرى التعليمية"}]
[{"$f":"'البيانات الأساسية'!$A$2","v":"مدرسة د/علي علي حبيش الابتدائية"}]
[null,"جدول امتحان الفصل الدراسي الأول / الثاني للعام الدراسي 2019/2018"]
[null,null,"الصف السادس"]
[null,"اليوم والتاريخ","المـــــــــــــــــــــــــــادة","الوقـــــــت",null,"الزمــــن "]
[null,null,null,"من ","إلي"]
[null,"السبت","لغة عربية وخط",8,10.3,"ساعتان ونصف"]
[null,"2018-01-01"]
[null,"الأحد","الرياضيات",8,9.3000000000000007,"ساعة ونصف"]
[null,"2018-01-02","اللغة الإنجليزية",9.4499999999999993,11.15,"ساعة ونصف"]
[null,"الاثنين","علوم",8,9.3000000000000007,"ساعة ونصف"]
[null,"2018-01-03","التربية الدينية",9.4499999999999993,10.45,"ساعة ونصف"]
[null,"الثلاثاء","الدراسات",8,9.3000000000000007,"ساعة ونصف"]
[null,"2018-01-04"]

{"sheet":"قائمة الصف السادس","index":17,"n_rows":603,"n_cols":22,"rows_kept":603,"cut":false,"hidden":false,"merged":[[0,12,0,13],[1,12,1,13],[0,5,0,6],[45,1,45,7],[7,21,14,21],[17,21,23,21],[6,12,13,12],[44,1,44,2]]}
["رقم اللجنة","من","إلى","عدد اللجنة","اللجنة",{"$f":"MAX(N:N)","v":540},null,"حدد عد اللجنة بنفسك","عدد نهائي","من","إلى","اللجنة","عدد طلابك",null,{"$f":"MAX(N:N)","v":540},"اكتب بداية رقم الجلوس",20,"بنون",{"$f":"COUNTIFS(Q4:Q603,\"ذكر\")","v":18},"مسلم",{"$f":"COUNTIFS(S3:S602,\"مسلم\")","v":2}]
[{"$f":"IF($I2=\"\",\"\",MAX($L$1:$L1)+1)","v":1},{"$f":"Q1","v":20},{"$f":"IF(I2=\"\",\"\",B2+I2-1)","v":39},{"$f":"IF($I2=\"\",\"\",MAX($L$1:$L1)+1)","v":1},{"$f":"IF($I2=\"\",\"\",MAX($G$1:$G1)+1)","v":1},{"$f":"IF($I2=\"\",\"\",\"اللجنة\")","v":"اللجنة"},{"$f":"IF($I2=\"\",\"\",MAX($G$1:$G1)+1)","v":1},null,{"$f":"IF(SUM($I$1:$I1,IF(H2=\"\",20,H2))<$F$1,IF($H2=\"\",20,$H2),IF(SUM($I1:$I$2)=$F$1,\"\",$F$1-SUM($I1:$I$2)))","v":20},{"$f":"IF($I2=\"\",\"\",SUM(I$1:$I1)+1)","v":1},{"$f":"IF($G2=\"\",\"\",SUM($J2,$I2,-1))","v":20},{"$f":"IF($I2=\"\",\"\",MAX($L$1:$L1)+1)","v":1},"آخر رقم جلوس",null,{"$f":"MAX(B2:C43)","v":559},"الصف السادس",null,"بنات",{"$f":"COUNTIFS(Q4:Q603,\"انثى\")","v":21},"مسيحي",{"$f":"COUNTIFS(S4:S603,\"مسيحي\")","v":0}]
[{"$f":"IF($I3=\"\",\"\",MAX($L$1:$L2)+1)","v":2},{"$f":"IF(I3=\"\",\"\",IF(A3=\"\",\"\",C2+1))","v":40},{"$f":"IF(I3=\"\",\"\",IF(B3=\"\",\"\",B3+I3-1))","v":59},{"$f":"IF($I3=\"\",\"\",MAX($L$1:$L2)+1)","v":2},{"$f":"IF($I3=\"\",\"\",MAX($G$1:$G2)+1)","v":2},{"$f":"IF($I3=\"\",\"\",\"اللجنة\")","v":"اللجنة"},{"$f":"IF($I3=\"\",\"\",MAX($G$1:$G2)+1)","v":2},null,{"$f":"IF(SUM($I$1:$I2,IF(H3=\"\",20,H3))<$F$1,IF($H3=\"\",20,$H3),IF(SUM($I2:$I$2)=$F$1,\"\",$F$1-SUM($I2:$I$2)))","v":20},{"$f":"IF($I3=\"\",\"\",SUM(I$1:$I2)+1)","v":21},{"$f":"IF($G3=\"\",\"\",SUM($J3,$I3,-1))","v":40},{"$f":"IF($I3=\"\",\"\",MAX($L$1:$L2)+1)","v":2},null,"م","جلوس","الاســــــــــــــــــــــــم","النوع","القيد","الديانة","رقم اللجنة","ملاحظات","ذكر"]
[{"$f":"IF($I4=\"\",\"\",MAX($L$1:$L3)+1)","v":3},{"$f":"IF(I4=\"\",\"\",IF(A4=\"\",\"\",C3+1))","v":60},{"$f":"IF(I4=\"\",\"\",IF(B4=\"\",\"\",B4+I4-1))","v":79},{"$f":"IF($I4=\"\",\"\",MAX($L$1:$L3)+1)","v":3},{"$f":"IF($I4=\"\",\"\",MAX($G$1:$G3)+1)","v":3},{"$f":"IF($I4=\"\",\"\",\"اللجنة\")","v":"اللجنة"},{"$f":"IF($I4=\"\",\"\",MAX($G$1:$G3)+1)","v":3},null,{"$f":"IF(SUM($I$1:$I3,IF(H4=\"\",20,H4))<$F$1,IF($H4=\"\",20,$H4),IF(SUM($I$2:$I3)=$F$1,\"\",$F$1-SUM($I$2:$I3)))","v":20},{"$f":"IF($I4=\"\",\"\",SUM(I$1:$I3)+1)","v":41},{"$f":"IF($G4=\"\",\"\",SUM($J4,$I4,-1))","v":60},{"$f":"IF($I4=\"\",\"\",MAX($L$1:$L3)+1)","v":3},null,1,{"$f":"$B$2","v":20},"محمد1","ذكر",null,null,{"$f":"IF(N4=\"\",\"\",IF(ISERROR(MATCH($N4,$J:$J,0)),T3,MAX($T$3:$T3)+1))","v":1},{"$f":"IF(T4=T5,\"\",\"نهاية اللجنة\")","v":""},"انثى"]
[{"$f":"IF($I5=\"\",\"\",MAX($L$1:$L4)+1)","v":4},80,99,{"$f":"IF($I5=\"\",\"\",MAX($L$1:$L4)+1)","v":4},{"$f":"IF($I5=\"\",\"\",MAX($G$1:$G4)+1)","v":4},"اللجنة",{"$f":"IF($I5=\"\",\"\",MAX($G$1:$G4)+1)","v":4},null,{"$f":"IF(SUM($I$1:$I4,IF(H5=\"\",20,H5))<$F$1,IF($H5=\"\",20,$H5),IF(SUM($I$2:$I4)=$F$1,\"\",$F$1-SUM($I$2:$I4)))","v":20},{"$f":"IF($I5=\"\",\"\",SUM($I$1:$I4)+1)","v":61},80,{"$f":"IF($I5=\"\",\"\",MAX($L$1:$L4)+1)","v":4},null,{"$f":"IF(P5=\"\",\"\",MAX($N$3:$N4)+1)","v":2},{"$f":"IF(O4=\"\",\"\",IF(O4+1>$O$2,\"\",O4+1))","v":21},"محمد2","ذكر","معيد",null,{"$f":"IF(N5=\"\",\"\",IF(ISERROR(MATCH($N5,$J:$J,0)),T4,MAX($T$3:$T4)+1))","v":1},{"$f":"IF(T5=T6,\"\",\"نهاية اللجنة\")","v":""}]
[{"$f":"IF($I6=\"\",\"\",MAX($L$1:$L5)+1)","v":5},100,119,{"$f":"IF($I6=\"\",\"\",MAX($L$1:$L5)+1)","v":5},{"$f":"IF($I6=\"\",\"\",MAX($G$1:$G5)+1)","v":5},"اللجنة",{"$f":"IF($I6=\"\",\"\",MAX($G$1:$G5)+1)","v":5},null,{"$f":"IF(SUM($I$1:$I5,IF(H6=\"\",20,H6))<$F$1,IF($H6=\"\",20,$H6),IF(SUM($I$2:$I5)=$F$1,\"\",$F$1-SUM($I$2:$I5)))","v":20},{"$f":"IF($I6=\"\",\"\",SUM($I$1:$I5)+1)","v":81},100,{"$f":"IF($I6=\"\",\"\",MAX($L$1:$L5)+1)","v":5},null,{"$f":"IF(P6=\"\",\"\",MAX($N$3:$N5)+1)","v":3},{"$f":"IF(O5=\"\",\"\",IF(O5+1>$O$2,\"\",O5+1))","v":22},"محمد3","ذكر",null,"مسلم",{"$f":"IF(N6=\"\",\"\",IF(ISERROR(MATCH($N6,$J:$J,0)),T5,MAX($T$3:$T5)+1))","v":1},""]
[{"$f":"IF($I7=\"\",\"\",MAX($L$1:$L6)+1)","v":6},120,139,{"$f":"IF($I7=\"\",\"\",MAX($L$1:$L6)+1)","v":6},{"$f":"IF($I7=\"\",\"\",MAX($G$1:$G6)+1)","v":6},"اللجنة",{"$f":"IF($I7=\"\",\"\",MAX($G$1:$G6)+1)","v":6},null,{"$f":"IF(SUM($I$1:$I6,IF(H7=\"\",20,H7))<$F$1,IF($H7=\"\",20,$H7),IF(SUM($I$2:$I6)=$F$1,\"\",$F$1-SUM($I$2:$I6)))","v":20},{"$f":"IF($I7=\"\",\"\",SUM($I$1:$I6)+1)","v":101},120,{"$f":"IF($I7=\"\",\"\",MAX($L$1:$L6)+1)","v":6},{"$f":"IF(O1=0,\"من فضلك سجل الاسماء\",IF(O2=0,\" من فضلك سجل الاسماء;\"\"\",))","v":0},{"$f":"IF(P7=\"\",\"\",MAX($N$3:$N6)+1)","v":4},23,"محمد4","ذكر",null,null,{"$f":"IF(N7=\"\",\"\",IF(ISERROR(MATCH($N7,$J:$J,0)),T6,MAX($T$3:$T6)+1))","v":1},"",{"$f":"MAX(K:K)","v":540}]
[{"$f":"IF($I8=\"\",\"\",MAX($L$1:$L7)+1)","v":7},140,159,{"$f":"IF($I8=\"\",\"\",MAX($L$1:$L7)+1)","v":7},{"$f":"IF($I8=\"\",\"\",MAX($G$1:$G7)+1)","v":7},"اللجنة",{"$f":"IF($I8=\"\",\"\",MAX($G$1:$G7)+1)","v":7},null,{"$f":"IF(SUM($I$1:$I7,IF(H8=\"\",20,H8))<$F$1,IF($H8=\"\",20,$H8),IF(SUM($I$2:$I7)=$F$1,\"\",$F$1-SUM($I$2:$I7)))","v":20},{"$f":"IF($I8=\"\",\"\",SUM($I$1:$I7)+1)","v":121},140,{"$f":"IF($I8=\"\",\"\",MAX($L$1:$L7)+1)","v":7},null,{"$f":"IF(P8=\"\",\"\",MAX($N$3:$N7)+1)","v":5},24,"محمد5","ذكر",null,"مسلم",{"$f":"IF(N8=\"\",\"\",IF(ISERROR(MATCH($N8,$J:$J,0)),T7,MAX($T$3:$T7)+1))","v":1},"",{"$f":"IF(V7=O1,\"التلاميذ مقسمون التقسيم الصحيح\",\"راجع من فضلك تقسيم اللجان\")","v":"التلاميذ مقسمون التقسيم الصحيح"}]
[{"$f":"IF($I9=\"\",\"\",MAX($L$1:$L8)+1)","v":8},160,179,{"$f":"IF($I9=\"\",\"\",MAX($L$1:$L8)+1)","v":8},{"$f":"IF($I9=\"\",\"\",MAX($G$1:$G8)+1)","v":8},"اللجنة",{"$f":"IF($I9=\"\",\"\",MAX($G$1:$G8)+1)","v":8},null,{"$f":"IF(SUM($I$1:$I8,IF(H9=\"\",20,H9))<$F$1,IF($H9=\"\",20,$H9),IF(SUM($I$2:$I8)=$F$1,\"\",$F$1-SUM($I$2:$I8)))","v":20},{"$f":"IF($I9=\"\",\"\",SUM($I$1:$I8)+1)","v":141},160,{"$f":"IF($I9=\"\",\"\",MAX($L$1:$L8)+1)","v":8},null,{"$f":"IF(P9=\"\",\"\",MAX($N$3:$N8)+1)","v":6},25,"محمد6","ذكر",null,null,{"$f":"IF(N9=\"\",\"\",IF(ISERROR(MATCH($N9,$J:$J,0)),T8,MAX($T$3:$T8)+1))","v":1},""]
[{"$f":"IF($I10=\"\",\"\",MAX($L$1:$L9)+1)","v":9},180,199,{"$f":"IF($I10=\"\",\"\",MAX($L$1:$L9)+1)","v":9},{"$f":"IF($I10=\"\",\"\",MAX($G$1:$G9)+1)","v":9},"اللجنة",{"$f":"IF($I10=\"\",\"\",MAX($G$1:$G9)+1)","v":9},null,{"$f":"IF(SUM($I$1:$I9,IF(H10=\"\",20,H10))<$F$1,IF($H10=\"\",20,$H10),IF(SUM($I$2:$I9)=$F$1,\"\",$F$1-SUM($I$2:$I9)))","v":20},{"$f":"IF($I10=\"\",\"\",SUM($I$1:$I9)+1)","v":161},180,{"$f":"IF($I10=\"\",\"\",MAX($L$1:$L9)+1)","v":9},null,{"$f":"IF(P10=\"\",\"\",MAX($N$3:$N9)+1)","v":7},26,"محمد7","ذكر",null,null,{"$f":"IF(N10=\"\",\"\",IF(ISERROR(MATCH($N10,$J:$J,0)),T9,MAX($T$3:$T9)+1))","v":1},""]
[{"$f":"IF($I11=\"\",\"\",MAX($L$1:$L10)+1)","v":10},200,219,{"$f":"IF($I11=\"\",\"\",MAX($L$1:$L10)+1)","v":10},{"$f":"IF($I11=\"\",\"\",MAX($G$1:$G10)+1)","v":10},"اللجنة",{"$f":"IF($I11=\"\",\"\",MAX($G$1:$G10)+1)","v":10},null,{"$f":"IF(SUM($I$1:$I10,IF(H11=\"\",20,H11))<$F$1,IF($H11=\"\",20,$H11),IF(SUM($I$2:$I10)=$F$1,\"\",$F$1-SUM($I$2:$I10)))","v":20},{"$f":"IF($I11=\"\",\"\",SUM($I$1:$I10)+1)","v":181},200,{"$f":"IF($I11=\"\",\"\",MAX($L$1:$L10)+1)","v":10},null,{"$f":"IF(P11=\"\",\"\",MAX($N$3:$N10)+1)","v":8},27,"محمد8","ذكر",null,null,{"$f":"IF(N11=\"\",\"\",IF(ISERROR(MATCH($N11,$J:$J,0)),T10,MAX($T$3:$T10)+1))","v":1},""]
[{"$f":"IF($I12=\"\",\"\",MAX($L$1:$L11)+1)","v":11},220,239,{"$f":"IF($I12=\"\",\"\",MAX($L$1:$L11)+1)","v":11},{"$f":"IF($I12=\"\",\"\",MAX($G$1:$G11)+1)","v":11},"اللجنة",{"$f":"IF($I12=\"\",\"\",MAX($G$1:$G11)+1)","v":11},null,{"$f":"IF(SUM($I$1:$I11,IF(H12=\"\",20,H12))<$F$1,IF($H12=\"\",20,$H12),IF(SUM($I$2:$I11)=$F$1,\"\",$F$1-SUM($I$2:$I11)))","v":20},{"$f":"IF($I12=\"\",\"\",SUM($I$1:$I11)+1)","v":201},220,{"$f":"IF($I12=\"\",\"\",MAX($L$1:$L11)+1)","v":11},null,{"$f":"IF(P12=\"\",\"\",MAX($N$3:$N11)+1)","v":9},28,"محمد9","ذكر",null,null,{"$f":"IF(N12=\"\",\"\",IF(ISERROR(MATCH($N12,$J:$J,0)),T11,MAX($T$3:$T11)+1))","v":1},""]
[{"$f":"IF($I13=\"\",\"\",MAX($L$1:$L12)+1)","v":12},240,259,{"$f":"IF($I13=\"\",\"\",MAX($L$1:$L12)+1)","v":12},{"$f":"IF($I13=\"\",\"\",MAX($G$1:$G12)+1)","v":12},"اللجنة",{"$f":"IF($I13=\"\",\"\",MAX($G$1:$G12)+1)","v":12},null,{"$f":"IF(SUM($I$1:$I12,IF(H13=\"\",20,H13))<$F$1,IF($H13=\"\",20,$H13),IF(SUM($I$2:$I12)=$F$1,\"\",$F$1-SUM($I$2:$I12)))","v":20},{"$f":"IF($I13=\"\",\"\",SUM($I$1:$I12)+1)","v":221},240,{"$f":"IF($I13=\"\",\"\",MAX($L$1:$L12)+1)","v":12},null,{"$f":"IF(P13=\"\",\"\",MAX($N$3:$N12)+1)","v":10},29,"محمد10","ذكر",null,null,{"$f":"IF(N13=\"\",\"\",IF(ISERROR(MATCH($N13,$J:$J,0)),T12,MAX($T$3:$T12)+1))","v":1},""]
[{"$f":"IF($I14=\"\",\"\",MAX($L$1:$L13)+1)","v":13},260,279,{"$f":"IF($I14=\"\",\"\",MAX($L$1:$L13)+1)","v":13},{"$f":"IF($I14=\"\",\"\",MAX($G$1:$G13)+1)","v":13},"اللجنة",{"$f":"IF($I14=\"\",\"\",MAX($G$1:$G13)+1)","v":13},null,{"$f":"IF(SUM($I$1:$I13,IF(H14=\"\",20,H14))<$F$1,IF($H14=\"\",20,$H14),IF(SUM($I$2:$I13)=$F$1,\"\",$F$1-SUM($I$2:$I13)))","v":20},{"$f":"IF($I14=\"\",\"\",SUM($I$1:$I13)+1)","v":241},260,{"$f":"IF($I14=\"\",\"\",MAX($L$1:$L13)+1)","v":13},null,{"$f":"IF(P14=\"\",\"\",MAX($N$3:$N13)+1)","v":11},30,"محمد11","ذكر",null,null,{"$f":"IF(N14=\"\",\"\",IF(ISERROR(MATCH($N14,$J:$J,0)),T13,MAX($T$3:$T13)+1))","v":1},""]
[{"$f":"IF($I15=\"\",\"\",MAX($L$1:$L14)+1)","v":14},280,299,{"$f":"IF($I15=\"\",\"\",MAX($L$1:$L14)+1)","v":14},{"$f":"IF($I15=\"\",\"\",MAX($G$1:$G14)+1)","v":14},"اللجنة",{"$f":"IF($I15=\"\",\"\",MAX($G$1:$G14)+1)","v":14},null,{"$f":"IF(SUM($I$1:$I14,IF(H15=\"\",20,H15))<$F$1,IF($H15=\"\",20,$H15),IF(SUM($I$2:$I14)=$F$1,\"\",$F$1-SUM($I$2:$I14)))","v":20},{"$f":"IF($I15=\"\",\"\",SUM($I$1:$I14)+1)","v":261},280,{"$f":"IF($I15=\"\",\"\",MAX($L$1:$L14)+1)","v":14},null,{"$f":"IF(P15=\"\",\"\",MAX($N$3:$N14)+1)","v":12},31,"محمد12","ذكر",null,null,{"$f":"IF(N15=\"\",\"\",IF(ISERROR(MATCH($N15,$J:$J,0)),T14,MAX($T$3:$T14)+1))","v":1},""]
[{"$f":"IF($I16=\"\",\"\",MAX($L$1:$L15)+1)","v":15},300,319,{"$f":"IF($I16=\"\",\"\",MAX($L$1:$L15)+1)","v":15},{"$f":"IF($I16=\"\",\"\",MAX($G$1:$G15)+1)","v":15},"اللجنة",{"$f":"IF($I16=\"\",\"\",MAX($G$1:$G15)+1)","v":15},null,{"$f":"IF(SUM($I$1:$I15,IF(H16=\"\",20,H16))<$F$1,IF($H16=\"\",20,$H16),IF(SUM($I$2:$I15)=$F$1,\"\",$F$1-SUM($I$2:$I15)))","v":20},{"$f":"IF($I16=\"\",\"\",SUM($I$1:$I15)+1)","v":281},300,{"$f":"IF($I16=\"\",\"\",MAX($L$1:$L15)+1)","v":15},null,{"$f":"IF(P16=\"\",\"\",MAX($N$3:$N15)+1)","v":13},32,"محمد13","ذكر",null,null,{"$f":"IF(N16=\"\",\"\",IF(ISERROR(MATCH($N16,$J:$J,0)),T15,MAX($T$3:$T15)+1))","v":1},""]
[{"$f":"IF($I17=\"\",\"\",MAX($L$1:$L16)+1)","v":16},320,339,{"$f":"IF($I17=\"\",\"\",MAX($L$1:$L16)+1)","v":16},{"$f":"IF($I17=\"\",\"\",MAX($G$1:$G16)+1)","v":16},"اللجنة",{"$f":"IF($I17=\"\",\"\",MAX($G$1:$G16)+1)","v":16},null,{"$f":"IF(SUM($I$1:$I16,IF(H17=\"\",20,H17))<$F$1,IF($H17=\"\",20,$H17),IF(SUM($I$2:$I16)=$F$1,\"\",$F$1-SUM($I$2:$I16)))","v":20},{"$f":"IF($I17=\"\",\"\",SUM($I$1:$I16)+1)","v":301},320,{"$f":"IF($I17=\"\",\"\",MAX($L$1:$L16)+1)","v":16},null,{"$f":"IF(P17=\"\",\"\",MAX($N$3:$N16)+1)","v":14},33,"محمد14","ذكر",null,null,{"$f":"IF(N17=\"\",\"\",IF(ISERROR(MATCH($N17,$J:$J,0)),T16,MAX($T$3:$T16)+1))","v":1},"",{"$f":"MAX(C:C)","v":559}]
[{"$f":"IF($I18=\"\",\"\",MAX($L$1:$L17)+1)","v":17},340,359,{"$f":"IF($I18=\"\",\"\",MAX($L$1:$L17)+1)","v":17},{"$f":"IF($I18=\"\",\"\",MAX($G$1:$G17)+1)","v":17},"اللجنة",{"$f":"IF($I18=\"\",\"\",MAX($G$1:$G17)+1)","v":17},null,{"$f":"IF(SUM($I$1:$I17,IF(H18=\"\",20,H18))<$F$1,IF($H18=\"\",20,$H18),IF(SUM($I$2:$I17)=$F$1,\"\",$F$1-SUM($I$2:$I17)))","v":20},{"$f":"IF($I18=\"\",\"\",SUM($I$1:$I17)+1)","v":321},340,{"$f":"IF($I18=\"\",\"\",MAX($L$1:$L17)+1)","v":17},null,{"$f":"IF(P18=\"\",\"\",MAX($N$3:$N17)+1)","v":15},34,"محمد15","ذكر",null,null,{"$f":"IF(N18=\"\",\"\",IF(ISERROR(MATCH($N18,$J:$J,0)),T17,MAX($T$3:$T17)+1))","v":1},"",{"$f":"IF(V17=O2,\"أرقام جلوس الفصل سليمة\",\"رجاءً راجع أرقام الجلوس\")","v":"أرقام جلوس الفصل سليمة"}]
[{"$f":"IF($I19=\"\",\"\",MAX($L$1:$L18)+1)","v":18},360,379,{"$f":"IF($I19=\"\",\"\",MAX($L$1:$L18)+1)","v":18},{"$f":"IF($I19=\"\",\"\",MAX($G$1:$G18)+1)","v":18},"اللجنة",{"$f":"IF($I19=\"\",\"\",MAX($G$1:$G18)+1)","v":18},null,{"$f":"IF(SUM($I$1:$I18,IF(H19=\"\",20,H19))<$F$1,IF($H19=\"\",20,$H19),IF(SUM($I$2:$I18)=$F$1,\"\",$F$1-SUM($I$2:$I18)))","v":20},{"$f":"IF($I19=\"\",\"\",SUM($I$1:$I18)+1)","v":341},360,{"$f":"IF($I19=\"\",\"\",MAX($L$1:$L18)+1)","v":18},null,{"$f":"IF(P19=\"\",\"\",MAX($N$3:$N18)+1)","v":16},35,"محمد16","ذكر",null,null,{"$f":"IF(N19=\"\",\"\",IF(ISERROR(MATCH($N19,$J:$J,0)),T18,MAX($T$3:$T18)+1))","v":1},""]
[{"$f":"IF($I20=\"\",\"\",MAX($L$1:$L19)+1)","v":19},380,399,{"$f":"IF($I20=\"\",\"\",MAX($L$1:$L19)+1)","v":19},{"$f":"IF($I20=\"\",\"\",MAX($G$1:$G19)+1)","v":19},"اللجنة",{"$f":"IF($I20=\"\",\"\",MAX($G$1:$G19)+1)","v":19},null,{"$f":"IF(SUM($I$1:$I19,IF(H20=\"\",20,H20))<$F$1,IF($H20=\"\",20,$H20),IF(SUM($I$2:$I19)=$F$1,\"\",$F$1-SUM($I$2:$I19)))","v":20},{"$f":"IF($I20=\"\",\"\",SUM($I$1:$I19)+1)","v":361},380,{"$f":"IF($I20=\"\",\"\",MAX($L$1:$L19)+1)","v":19},null,{"$f":"IF(P20=\"\",\"\",MAX($N$3:$N19)+1)","v":17},36,"محمد17","ذكر",null,null,{"$f":"IF(N20=\"\",\"\",IF(ISERROR(MATCH($N20,$J:$J,0)),T19,MAX($T$3:$T19)+1))","v":1},""]
[{"$f":"IF($I21=\"\",\"\",MAX($L$1:$L20)+1)","v":20},400,419,{"$f":"IF($I21=\"\",\"\",MAX($L$1:$L20)+1)","v":20},{"$f":"IF($I21=\"\",\"\",MAX($G$1:$G20)+1)","v":20},"اللجنة",{"$f":"IF($I21=\"\",\"\",MAX($G$1:$G20)+1)","v":20},null,{"$f":"IF(SUM($I$1:$I20,IF(H21=\"\",20,H21))<$F$1,IF($H21=\"\",20,$H21),IF(SUM($I$2:$I20)=$F$1,\"\",$F$1-SUM($I$2:$I20)))","v":20},{"$f":"IF($I21=\"\",\"\",SUM($I$1:$I20)+1)","v":381},400,{"$f":"IF($I21=\"\",\"\",MAX($L$1:$L20)+1)","v":20},null,{"$f":"IF(P21=\"\",\"\",MAX($N$3:$N20)+1)","v":18},37,"محمد18","ذكر",null,null,{"$f":"IF(N21=\"\",\"\",IF(ISERROR(MATCH($N21,$J:$J,0)),T20,MAX($T$3:$T20)+1))","v":1},""]
[{"$f":"IF($I22=\"\",\"\",MAX($L$1:$L21)+1)","v":21},420,439,{"$f":"IF($I22=\"\",\"\",MAX($L$1:$L21)+1)","v":21},{"$f":"IF($I22=\"\",\"\",MAX($G$1:$G21)+1)","v":21},"اللجنة",{"$f":"IF($I22=\"\",\"\",MAX($G$1:$G21)+1)","v":21},null,{"$f":"IF(SUM($I$1:$I21,IF(H22=\"\",20,H22))<$F$1,IF($H22=\"\",20,$H22),IF(SUM($I$2:$I21)=$F$1,\"\",$F$1-SUM($I$2:$I21)))","v":20},{"$f":"IF($I22=\"\",\"\",SUM($I$1:$I21)+1)","v":401},420,{"$f":"IF($I22=\"\",\"\",MAX($L$1:$L21)+1)","v":21},null,{"$f":"IF(P22=\"\",\"\",MAX($N$3:$N21)+1)","v":19},38,"محمد19","انثى",null,null,{"$f":"IF(N22=\"\",\"\",IF(ISERROR(MATCH($N22,$J:$J,0)),T21,MAX($T$3:$T21)+1))","v":1},""]
[{"$f":"IF($I23=\"\",\"\",MAX($L$1:$L22)+1)","v":22},440,459,{"$f":"IF($I23=\"\",\"\",MAX($L$1:$L22)+1)","v":22},{"$f":"IF($I23=\"\",\"\",MAX($G$1:$G22)+1)","v":22},"اللجنة",{"$f":"IF($I23=\"\",\"\",MAX($G$1:$G22)+1)","v":22},null,{"$f":"IF(SUM($I$1:$I22,IF(H23=\"\",20,H23))<$F$1,IF($H23=\"\",20,$H23),IF(SUM($I$2:$I22)=$F$1,\"\",$F$1-SUM($I$2:$I22)))","v":20},{"$f":"IF($I23=\"\",\"\",SUM($I$1:$I22)+1)","v":421},440,{"$f":"IF($I23=\"\",\"\",MAX($L$1:$L22)+1)","v":22},null,{"$f":"IF(P23=\"\",\"\",MAX($N$3:$N22)+1)","v":20},39,"محمد20","انثى",null,null,{"$f":"IF(N23=\"\",\"\",IF(ISERROR(MATCH($N23,$J:$J,0)),T22,MAX($T$3:$T22)+1))","v":1},"نهاية اللجنة"]
[{"$f":"IF($I24=\"\",\"\",MAX($L$1:$L23)+1)","v":23},460,479,{"$f":"IF($I24=\"\",\"\",MAX($L$1:$L23)+1)","v":23},{"$f":"IF($I24=\"\",\"\",MAX($G$1:$G23)+1)","v":23},"اللجنة",{"$f":"IF($I24=\"\",\"\",MAX($G$1:$G23)+1)","v":23},null,{"$f":"IF(SUM($I$1:$I23,IF(H24=\"\",20,H24))<$F$1,IF($H24=\"\",20,$H24),IF(SUM($I$2:$I23)=$F$1,\"\",$F$1-SUM($I$2:$I23)))","v":20},{"$f":"IF($I24=\"\",\"\",SUM($I$1:$I23)+1)","v":441},460,{"$f":"IF($I24=\"\",\"\",MAX($L$1:$L23)+1)","v":23},null,{"$f":"IF(P24=\"\",\"\",MAX($N$3:$N23)+1)","v":21},40,"محمد21","انثى",null,null,{"$f":"IF(N24=\"\",\"\",IF(ISERROR(MATCH($N24,$J:$J,0)),T23,MAX($T$3:$T23)+1))","v":2},""]
[{"$f":"IF($I25=\"\",\"\",MAX($L$1:$L24)+1)","v":24},480,499,{"$f":"IF($I25=\"\",\"\",MAX($L$1:$L24)+1)","v":24},{"$f":"IF($I25=\"\",\"\",MAX($G$1:$G24)+1)","v":24},"اللجنة",{"$f":"IF($I25=\"\",\"\",MAX($G$1:$G24)+1)","v":24},null,{"$f":"IF(SUM($I$1:$I24,IF(H25=\"\",20,H25))<$F$1,IF($H25=\"\",20,$H25),IF(SUM($I$2:$I24)=$F$1,\"\",$F$1-SUM($I$2:$I24)))","v":20},{"$f":"IF($I25=\"\",\"\",SUM($I$1:$I24)+1)","v":461},480,{"$f":"IF($I25=\"\",\"\",MAX($L$1:$L24)+1)","v":24},null,{"$f":"IF(P25=\"\",\"\",MAX($N$3:$N24)+1)","v":22},41,"محمد22","انثى",null,null,{"$f":"IF(N25=\"\",\"\",IF(ISERROR(MATCH($N25,$J:$J,0)),T24,MAX($T$3:$T24)+1))","v":2},""]
[{"$f":"IF($I26=\"\",\"\",MAX($L$1:$L25)+1)","v":25},500,519,{"$f":"IF($I26=\"\",\"\",MAX($L$1:$L25)+1)","v":25},{"$f":"IF($I26=\"\",\"\",MAX($G$1:$G25)+1)","v":25},"اللجنة",{"$f":"IF($I26=\"\",\"\",MAX($G$1:$G25)+1)","v":25},null,{"$f":"IF(SUM($I$1:$I25,IF(H26=\"\",20,H26))<$F$1,IF($H26=\"\",20,$H26),IF(SUM($I$2:$I25)=$F$1,\"\",$F$1-SUM($I$2:$I25)))","v":20},{"$f":"IF($I26=\"\",\"\",SUM($I$1:$I25)+1)","v":481},500,{"$f":"IF($I26=\"\",\"\",MAX($L$1:$L25)+1)","v":25},null,{"$f":"IF(P26=\"\",\"\",MAX($N$3:$N25)+1)","v":23},42,"محمد23","انثى",null,null,{"$f":"IF(N26=\"\",\"\",IF(ISERROR(MATCH($N26,$J:$J,0)),T25,MAX($T$3:$T25)+1))","v":2},""]
[{"$f":"IF($I27=\"\",\"\",MAX($L$1:$L26)+1)","v":26},520,539,{"$f":"IF($I27=\"\",\"\",MAX($L$1:$L26)+1)","v":26},{"$f":"IF($I27=\"\",\"\",MAX($G$1:$G26)+1)","v":26},"اللجنة",{"$f":"IF($I27=\"\",\"\",MAX($G$1:$G26)+1)","v":26},null,{"$f":"IF(SUM($I$1:$I26,IF(H27=\"\",20,H27))<$F$1,IF($H27=\"\",20,$H27),IF(SUM($I$2:$I26)=$F$1,\"\",$F$1-SUM($I$2:$I26)))","v":20},{"$f":"IF($I27=\"\",\"\",SUM($I$1:$I26)+1)","v":501},520,{"$f":"IF($I27=\"\",\"\",MAX($L$1:$L26)+1)","v":26},null,{"$f":"IF(P27=\"\",\"\",MAX($N$3:$N26)+1)","v":24},43,"محمد24","انثى",null,null,{"$f":"IF(N27=\"\",\"\",IF(ISERROR(MATCH($N27,$J:$J,0)),T26,MAX($T$3:$T26)+1))","v":2},""]
[{"$f":"IF($I28=\"\",\"\",MAX($L$1:$L27)+1)","v":27},540,559,{"$f":"IF($I28=\"\",\"\",MAX($L$1:$L27)+1)","v":27},{"$f":"IF($I28=\"\",\"\",MAX($G$1:$G27)+1)","v":27},"اللجنة",{"$f":"IF($I28=\"\",\"\",MAX($G$1:$G27)+1)","v":27},null,{"$f":"IF(SUM($I$1:$I27,IF(H28=\"\",20,H28))<$F$1,IF($H28=\"\",20,$H28),IF(SUM($I$2:$I27)=$F$1,\"\",$F$1-SUM($I$2:$I27)))","v":20},{"$f":"IF($I28=\"\",\"\",SUM($I$1:$I27)+1)","v":521},540,{"$f":"IF($I28=\"\",\"\",MAX($L$1:$L27)+1)","v":27},null,{"$f":"IF(P28=\"\",\"\",MAX($N$3:$N27)+1)","v":25},44,"محمد25","انثى",null,null,{"$f":"IF(N28=\"\",\"\",IF(ISERROR(MATCH($N28,$J:$J,0)),T27,MAX($T$3:$T27)+1))","v":2},""]
[{"$f":"IF($I29=\"\",\"\",MAX($L$1:$L28)+1)","v":""},"","",{"$f":"IF($I29=\"\",\"\",MAX($L$1:$L28)+1)","v":""},{"$f":"IF($I29=\"\",\"\",MAX($G$1:$G28)+1)","v":""},"",{"$f":"IF($I29=\"\",\"\",MAX($G$1:$G28)+1)","v":""},null,{"$f":"IF(SUM($I$1:$I28,IF(H29=\"\",20,H29))<$F$1,IF($H29=\"\",20,$H29),IF(SUM($I$2:$I28)=$F$1,\"\",$F$1-SUM($I$2:$I28)))","v":""},{"$f":"IF($I29=\"\",\"\",SUM($I$1:$I28)+1)","v":""},"",{"$f":"IF($I29=\"\",\"\",MAX($L$1:$L28)+1)","v":""},null,{"$f":"IF(P29=\"\",\"\",MAX($N$3:$N28)+1)","v":26},45,"محمد26","انثى",null,null,{"$f":"IF(N29=\"\",\"\",IF(ISERROR(MATCH($N29,$J:$J,0)),T28,MAX($T$3:$T28)+1))","v":2},""]
[{"$f":"IF($I30=\"\",\"\",MAX($L$1:$L29)+1)","v":""},"","",{"$f":"IF($I30=\"\",\"\",MAX($L$1:$L29)+1)","v":""},{"$f":"IF($I30=\"\",\"\",MAX($G$1:$G29)+1)","v":""},"",{"$f":"IF($I30=\"\",\"\",MAX($G$1:$G29)+1)","v":""},null,{"$f":"IF(SUM($I$1:$I29,IF(H30=\"\",20,H30))<$F$1,IF($H30=\"\",20,$H30),IF(SUM($I$2:$I29)=$F$1,\"\",$F$1-SUM($I$2:$I29)))","v":""},{"$f":"IF($I30=\"\",\"\",SUM($I$1:$I29)+1)","v":""},"",{"$f":"IF($I30=\"\",\"\",MAX($L$1:$L29)+1)","v":""},null,{"$f":"IF(P30=\"\",\"\",MAX($N$3:$N29)+1)","v":27},46,"محمد27","انثى",null,null,{"$f":"IF(N30=\"\",\"\",IF(ISERROR(MATCH($N30,$J:$J,0)),T29,MAX($T$3:$T29)+1))","v":2},""]
[{"$f":"IF($I31=\"\",\"\",MAX($L$1:$L30)+1)","v":""},"","",{"$f":"IF($I31=\"\",\"\",MAX($L$1:$L30)+1)","v":""},{"$f":"IF($I31=\"\",\"\",MAX($G$1:$G30)+1)","v":""},"",{"$f":"IF($I31=\"\",\"\",MAX($G$1:$G30)+1)","v":""},null,{"$f":"IF(SUM($I$1:$I30,IF(H31=\"\",20,H31))<$F$1,IF($H31=\"\",20,$H31),IF(SUM($I$2:$I30)=$F$1,\"\",$F$1-SUM($I$2:$I30)))","v":""},{"$f":"IF($I31=\"\",\"\",SUM($I$1:$I30)+1)","v":""},"",{"$f":"IF($I31=\"\",\"\",MAX($L$1:$L30)+1)","v":""},null,{"$f":"IF(P31=\"\",\"\",MAX($N$3:$N30)+1)","v":28},47,"محمد28","انثى",null,null,{"$f":"IF(N31=\"\",\"\",IF(ISERROR(MATCH($N31,$J:$J,0)),T30,MAX($T$3:$T30)+1))","v":2},""]
[{"$f":"IF($I32=\"\",\"\",MAX($L$1:$L31)+1)","v":""},"","",{"$f":"IF($I32=\"\",\"\",MAX($L$1:$L31)+1)","v":""},{"$f":"IF($I32=\"\",\"\",MAX($G$1:$G31)+1)","v":""},"",{"$f":"IF($I32=\"\",\"\",MAX($G$1:$G31)+1)","v":""},null,{"$f":"IF(SUM($I$1:$I31,IF(H32=\"\",20,H32))<$F$1,IF($H32=\"\",20,$H32),IF(SUM($I$2:$I31)=$F$1,\"\",$F$1-SUM($I$2:$I31)))","v":""},{"$f":"IF($I32=\"\",\"\",SUM($I$1:$I31)+1)","v":""},"",{"$f":"IF($I32=\"\",\"\",MAX($L$1:$L31)+1)","v":""},null,{"$f":"IF(P32=\"\",\"\",MAX($N$3:$N31)+1)","v":29},48,"محمد29","انثى",null,null,{"$f":"IF(N32=\"\",\"\",IF(ISERROR(MATCH($N32,$J:$J,0)),T31,MAX($T$3:$T31)+1))","v":2},""]
[{"$f":"IF($I33=\"\",\"\",MAX($L$1:$L32)+1)","v":""},"","",{"$f":"IF($I33=\"\",\"\",MAX($L$1:$L32)+1)","v":""},{"$f":"IF($I33=\"\",\"\",MAX($G$1:$G32)+1)","v":""},"",{"$f":"IF($I33=\"\",\"\",MAX($G$1:$G32)+1)","v":""},null,{"$f":"IF(SUM($I$1:$I32,IF(H33=\"\",20,H33))<$F$1,IF($H33=\"\",20,$H33),IF(SUM($I$2:$I32)=$F$1,\"\",$F$1-SUM($I$2:$I32)))","v":""},{"$f":"IF($I33=\"\",\"\",SUM($I$1:$I32)+1)","v":""},"",{"$f":"IF($I33=\"\",\"\",MAX($L$1:$L32)+1)","v":""},null,{"$f":"IF(P33=\"\",\"\",MAX($N$3:$N32)+1)","v":30},49,"محمد30","انثى",null,null,{"$f":"IF(N33=\"\",\"\",IF(ISERROR(MATCH($N33,$J:$J,0)),T32,MAX($T$3:$T32)+1))","v":2},""]
[{"$f":"IF($I34=\"\",\"\",MAX($L$1:$L33)+1)","v":""},"","",{"$f":"IF($I34=\"\",\"\",MAX($L$1:$L33)+1)","v":""},{"$f":"IF($I34=\"\",\"\",MAX($G$1:$G33)+1)","v":""},"",{"$f":"IF($I34=\"\",\"\",MAX($G$1:$G33)+1)","v":""},null,{"$f":"IF(SUM($I$1:$I33,IF(H34=\"\",20,H34))<$F$1,IF($H34=\"\",20,$H34),IF(SUM($I$2:$I33)=$F$1,\"\",$F$1-SUM($I$2:$I33)))","v":""},{"$f":"IF($I34=\"\",\"\",SUM($I$1:$I33)+1)","v":""},"",{"$f":"IF($I34=\"\",\"\",MAX($L$1:$L33)+1)","v":""},null,{"$f":"IF(P34=\"\",\"\",MAX($N$3:$N33)+1)","v":31},50,"محمد31","انثى",null,null,{"$f":"IF(N34=\"\",\"\",IF(ISERROR(MATCH($N34,$J:$J,0)),T33,MAX($T$3:$T33)+1))","v":2},""]
[{"$f":"IF($I35=\"\",\"\",MAX($L$1:$L34)+1)","v":""},"","",{"$f":"IF($I35=\"\",\"\",MAX($L$1:$L34)+1)","v":""},{"$f":"IF($I35=\"\",\"\",MAX($G$1:$G34)+1)","v":""},"",{"$f":"IF($I35=\"\",\"\",MAX($G$1:$G34)+1)","v":""},null,{"$f":"IF(SUM($I$1:$I34,IF(H35=\"\",20,H35))<$F$1,IF($H35=\"\",20,$H35),IF(SUM($I$2:$I34)=$F$1,\"\",$F$1-SUM($I$2:$I34)))","v":""},{"$f":"IF($I35=\"\",\"\",SUM($I$1:$I34)+1)","v":""},"",{"$f":"IF($I35=\"\",\"\",MAX($L$1:$L34)+1)","v":""},null,{"$f":"IF(P35=\"\",\"\",MAX($N$3:$N34)+1)","v":32},51,"محمد32","انثى",null,null,{"$f":"IF(N35=\"\",\"\",IF(ISERROR(MATCH($N35,$J:$J,0)),T34,MAX($T$3:$T34)+1))","v":2},""]
[{"$f":"IF($I36=\"\",\"\",MAX($L$1:$L35)+1)","v":""},"","",{"$f":"IF($I36=\"\",\"\",MAX($L$1:$L35)+1)","v":""},{"$f":"IF($I36=\"\",\"\",MAX($G$1:$G35)+1)","v":""},"",{"$f":"IF($I36=\"\",\"\",MAX($G$1:$G35)+1)","v":""},null,{"$f":"IF(SUM($I$1:$I35,IF(H36=\"\",20,H36))<$F$1,IF($H36=\"\",20,$H36),IF(SUM($I$2:$I35)=$F$1,\"\",$F$1-SUM($I$2:$I35)))","v":""},{"$f":"IF($I36=\"\",\"\",SUM($I$1:$I35)+1)","v":""},"",{"$f":"IF($I36=\"\",\"\",MAX($L$1:$L35)+1)","v":""},null,{"$f":"IF(P36=\"\",\"\",MAX($N$3:$N35)+1)","v":33},52,"محمد33","انثى",null,null,{"$f":"IF(N36=\"\",\"\",IF(ISERROR(MATCH($N36,$J:$J,0)),T35,MAX($T$3:$T35)+1))","v":2},""]
[{"$f":"IF($I37=\"\",\"\",MAX($L$1:$L36)+1)","v":""},"","",{"$f":"IF($I37=\"\",\"\",MAX($L$1:$L36)+1)","v":""},{"$f":"IF($I37=\"\",\"\",MAX($G$1:$G36)+1)","v":""},"",{"$f":"IF($I37=\"\",\"\",MAX($G$1:$G36)+1)","v":""},null,{"$f":"IF(SUM($I$1:$I36,IF(H37=\"\",20,H37))<$F$1,IF($H37=\"\",20,$H37),IF(SUM($I$2:$I36)=$F$1,\"\",$F$1-SUM($I$2:$I36)))","v":""},{"$f":"IF($I37=\"\",\"\",SUM($I$1:$I36)+1)","v":""},"",{"$f":"IF($I37=\"\",\"\",MAX($L$1:$L36)+1)","v":""},null,{"$f":"IF(P37=\"\",\"\",MAX($N$3:$N36)+1)","v":34},53,"محمد34","انثى",null,null,{"$f":"IF(N37=\"\",\"\",IF(ISERROR(MATCH($N37,$J:$J,0)),T36,MAX($T$3:$T36)+1))","v":2},""]
[{"$f":"IF($I38=\"\",\"\",MAX($L$1:$L37)+1)","v":""},"","",{"$f":"IF($I38=\"\",\"\",MAX($L$1:$L37)+1)","v":""},{"$f":"IF($I38=\"\",\"\",MAX($G$1:$G37)+1)","v":""},"",{"$f":"IF($I38=\"\",\"\",MAX($G$1:$G37)+1)","v":""},null,{"$f":"IF(SUM($I$1:$I37,IF(H38=\"\",20,H38))<$F$1,IF($H38=\"\",20,$H38),IF(SUM($I$2:$I37)=$F$1,\"\",$F$1-SUM($I$2:$I37)))","v":""},{"$f":"IF($I38=\"\",\"\",SUM($I$1:$I37)+1)","v":""},"",{"$f":"IF($I38=\"\",\"\",MAX($L$1:$L37)+1)","v":""},null,{"$f":"IF(P38=\"\",\"\",MAX($N$3:$N37)+1)","v":35},54,"محمد35","انثى",null,null,{"$f":"IF(N38=\"\",\"\",IF(ISERROR(MATCH($N38,$J:$J,0)),T37,MAX($T$3:$T37)+1))","v":2},""]
[{"$f":"IF($I39=\"\",\"\",MAX($L$1:$L38)+1)","v":""},"","",{"$f":"IF($I39=\"\",\"\",MAX($L$1:$L38)+1)","v":""},{"$f":"IF($I39=\"\",\"\",MAX($G$1:$G38)+1)","v":""},"",{"$f":"IF($I39=\"\",\"\",MAX($G$1:$G38)+1)","v":""},null,{"$f":"IF(SUM($I$1:$I38,IF(H39=\"\",20,H39))<$F$1,IF($H39=\"\",20,$H39),IF(SUM($I$2:$I38)=$F$1,\"\",$F$1-SUM($I$2:$I38)))","v":""},{"$f":"IF($I39=\"\",\"\",SUM($I$1:$I38)+1)","v":""},"",{"$f":"IF($I39=\"\",\"\",MAX($L$1:$L38)+1)","v":""},null,{"$f":"IF(P39=\"\",\"\",MAX($N$3:$N38)+1)","v":36},55,"محمد36","انثى",null,null,{"$f":"IF(N39=\"\",\"\",IF(ISERROR(MATCH($N39,$J:$J,0)),T38,MAX($T$3:$T38)+1))","v":2},""]
[{"$f":"IF($I40=\"\",\"\",MAX($L$1:$L39)+1)","v":""},"","",{"$f":"IF($I40=\"\",\"\",MAX($L$1:$L39)+1)","v":""},{"$f":"IF($I40=\"\",\"\",MAX($G$1:$G39)+1)","v":""},"",{"$f":"IF($I40=\"\",\"\",MAX($G$1:$G39)+1)","v":""},null,{"$f":"IF(SUM($I$1:$I39,IF(H40=\"\",20,H40))<$F$1,IF($H40=\"\",20,$H40),IF(SUM($I$2:$I39)=$F$1,\"\",$F$1-SUM($I$2:$I39)))","v":""},{"$f":"IF($I40=\"\",\"\",SUM($I$1:$I39)+1)","v":""},"",{"$f":"IF($I40=\"\",\"\",MAX($L$1:$L39)+1)","v":""},null,{"$f":"IF(P40=\"\",\"\",MAX($N$3:$N39)+1)","v":37},56,"محمد37","انثى",null,null,{"$f":"IF(N40=\"\",\"\",IF(ISERROR(MATCH($N40,$J:$J,0)),T39,MAX($T$3:$T39)+1))","v":2},""]
[{"$f":"IF($I41=\"\",\"\",MAX($L$1:$L40)+1)","v":""},"","",{"$f":"IF($I41=\"\",\"\",MAX($L$1:$L40)+1)","v":""},{"$f":"IF($I41=\"\",\"\",MAX($G$1:$G40)+1)","v":""},"",{"$f":"IF($I41=\"\",\"\",MAX($G$1:$G40)+1)","v":""},null,{"$f":"IF(SUM($I$1:$I40,IF(H41=\"\",20,H41))<$F$1,IF($H41=\"\",20,$H41),IF(SUM($I$2:$I40)=$F$1,\"\",$F$1-SUM($I$2:$I40)))","v":""},{"$f":"IF($I41=\"\",\"\",SUM($I$1:$I40)+1)","v":""},"",{"$f":"IF($I41=\"\",\"\",MAX($L$1:$L40)+1)","v":""},null,{"$f":"IF(P41=\"\",\"\",MAX($N$3:$N40)+1)","v":38},57,"محمد38","انثى",null,null,{"$f":"IF(N41=\"\",\"\",IF(ISERROR(MATCH($N41,$J:$J,0)),T40,MAX($T$3:$T40)+1))","v":2},""]
[{"$f":"IF($I42=\"\",\"\",MAX($L$1:$L41)+1)","v":""},"","",{"$f":"IF($I42=\"\",\"\",MAX($L$1:$L41)+1)","v":""},{"$f":"IF($I42=\"\",\"\",MAX($G$1:$G41)+1)","v":""},"",{"$f":"IF($I42=\"\",\"\",MAX($G$1:$G41)+1)","v":""},null,{"$f":"IF(SUM($I$1:$I41,IF(H42=\"\",20,H42))<$F$1,IF($H42=\"\",20,$H42),IF(SUM($I$2:$I41)=$F$1,\"\",$F$1-SUM($I$2:$I41)))","v":""},{"$f":"IF($I42=\"\",\"\",SUM($I$1:$I41)+1)","v":""},"",{"$f":"IF($I42=\"\",\"\",MAX($L$1:$L41)+1)","v":""},null,{"$f":"IF(P42=\"\",\"\",MAX($N$3:$N41)+1)","v":39},58,"محمد39","انثى",null,null,{"$f":"IF(N42=\"\",\"\",IF(ISERROR(MATCH($N42,$J:$J,0)),T41,MAX($T$3:$T41)+1))","v":2},""]
[{"$f":"IF($I43=\"\",\"\",MAX($L$1:$L42)+1)","v":""},"","",{"$f":"IF($I43=\"\",\"\",MAX($L$1:$L42)+1)","v":""},{"$f":"IF($I43=\"\",\"\",MAX($G$1:$G42)+1)","v":""},"",{"$f":"IF($I43=\"\",\"\",MAX($G$1:$G42)+1)","v":""},null,{"$f":"IF(SUM($I$1:$I42,IF(H43=\"\",20,H43))<$F$1,IF($H43=\"\",20,$H43),IF(SUM($I$2:$I42)=$F$1,\"\",$F$1-SUM($I$2:$I42)))","v":""},{"$f":"IF($I43=\"\",\"\",SUM($I$1:$I42)+1)","v":""},"",{"$f":"IF($I43=\"\",\"\",MAX($L$1:$L42)+1)","v":""},null,{"$f":"IF(P43=\"\",\"\",MAX($N$3:$N42)+1)","v":40},59,"محمد40",null,null,null,{"$f":"IF(N43=\"\",\"\",IF(ISERROR(MATCH($N43,$J:$J,0)),T42,MAX($T$3:$T42)+1))","v":2},"نهاية اللجنة"]
[null,null,null,null,null,null,null,null,null,null,null,null,null,{"$f":"IF(P44=\"\",\"\",MAX($N$3:$N43)+1)","v":41},60,"محمد41",null,null,null,{"$f":"IF(N44=\"\",\"\",IF(ISERROR(MATCH($N44,$J:$J,0)),T43,MAX($T$3:$T43)+1))","v":3},""]
[null,{"$f":"MAX(K:K)","v":540},null,null,null,null,null,null,null,null,null,null,null,{"$f":"IF(P45=\"\",\"\",MAX($N$3:$N44)+1)","v":42},61,"محمد42",null,null,null,{"$f":"IF(N45=\"\",\"\",IF(ISERROR(MATCH($N45,$J:$J,0)),T44,MAX($T$3:$T44)+1))","v":3},""]
[null,{"$f":"IF(B45=O1,\"التلاميذ مقسمون التقسيم الصحيح\",\"راجع من فضلك تقسيم اللجان\")","v":"التلاميذ مقسمون التقسيم الصحيح"},null,null,null,null,null,null,null,null,null,null,null,{"$f":"IF(P46=\"\",\"\",MAX($N$3:$N45)+1)","v":43},62,"محمد43",null,null,null,{"$f":"IF(N46=\"\",\"\",IF(ISERROR(MATCH($N46,$J:$J,0)),T45,MAX($T$3:$T45)+1))","v":3},""]
[null,null,null,null,null,null,null,null,null,null,null,null,null,{"$f":"IF(P47=\"\",\"\",MAX($N$3:$N46)+1)","v":44},63,"محمد44",null,null,null,{"$f":"IF(N47=\"\",\"\",IF(ISERROR(MATCH($N47,$J:$J,0)),T46,MAX($T$3:$T46)+1))","v":3},""]
[null,null,null,null,null,null,null,null,null,null,null,null,null,{"$f":"IF(P48=\"\",\"\",MAX($N$3:$N47)+1)","v":45},64,"محمد45",null,null,null,{"$f":"IF(N48=\"\",\"\",IF(ISERROR(MATCH($N48,$J:$J,0)),T47,MAX($T$3:$T47)+1))","v":3},""]
[null,null,null,null,null,null,null,null,null,null,null,null,null,{"$f":"IF(P49=\"\",\"\",MAX($N$3:$N48)+1)","v":46},65,"محمد46",null,null,null,{"$f":"IF(N49=\"\",\"\",IF(ISERROR(MATCH($N49,$J:$J,0)),T48,MAX($T$3:$T48)+1))","v":3},""]
[null,null,null,null,null,null,null,null,null,null,null,null,null,{"$f":"IF(P50=\"\",\"\",MAX($N$3:$N49)+1)","v":47},66,"محمد47",null,null,null,{"$f":"IF(N50=\"\",\"\",IF(ISERROR(MATCH($N50,$J:$J,0)),T49,MAX($T$3:$T49)+1))","v":3},""]
[null,null,null,null,null,null,null,null,null,"معيد",null,null,null,{"$f":"IF(P51=\"\",\"\",MAX($N$3:$N50)+1)","v":48},67,"محمد48",null,null,null,{"$f":"IF(N51=\"\",\"\",IF(ISERROR(MATCH($N51,$J:$J,0)),T50,MAX($T$3:$T50)+1))","v":3},""]
[null,null,null,null,null,null,null,null,null,"م للسنة الأولي",null,null,null,{"$f":"IF(P52=\"\",\"\",MAX($N$3:$N51)+1)","v":49},68,"محمد49",null,null,null,{"$f":"IF(N52=\"\",\"\",IF(ISERROR(MATCH($N52,$J:$J,0)),T51,MAX($T$3:$T51)+1))","v":3},""]
[null,null,null,null,null,null,null,null,null,"م للسنة الثانية",null,null,null,{"$f":"IF(P53=\"\",\"\",MAX($N$3:$N52)+1)","v":50},69,"محمد50",null,null,null,{"$f":"IF(N53=\"\",\"\",IF(ISERROR(MATCH($N53,$J:$J,0)),T52,MAX($T$3:$T52)+1))","v":3},""]
[null,null,null,null,null,null,null,null,null,null,null,null,null,{"$f":"IF(P54=\"\",\"\",MAX($N$3:$N53)+1)","v":51},70,"محمد51",null,null,null,{"$f":"IF(N54=\"\",\"\",IF(ISERROR(MATCH($N54,$J:$J,0)),T53,MAX($T$3:$T53)+1))","v":3},""]
[null,null,null,null,null,null,null,null,null,"مسلم",null,null,null,{"$f":"IF(P55=\"\",\"\",MAX($N$3:$N54)+1)","v":52},71,"محمد52",null,null,null,{"$f":"IF(N55=\"\",\"\",IF(ISERROR(MATCH($N55,$J:$J,0)),T54,MAX($T$3:$T54)+1))","v":3},""]
[null,null,null,null,null,null,null,null,null,"مسيحي",null,null,null,{"$f":"IF(P56=\"\",\"\",MAX($N$3:$N55)+1)","v":53},72,"محمد53",null,null,null,{"$f":"IF(N56=\"\",\"\",IF(ISERROR(MATCH($N56,$J:$J,0)),T55,MAX($T$3:$T55)+1))","v":3},""]
[null,null,null,null,null,null,null,null,null,"أخري",null,null,null,{"$f":"IF(P57=\"\",\"\",MAX($N$3:$N56)+1)","v":54},73,"محمد54",null,null,null,{"$f":"IF(N57=\"\",\"\",IF(ISERROR(MATCH($N57,$J:$J,0)),T56,MAX($T$3:$T56)+1))","v":3},""]
[null,null,null,null,null,null,null,null,null,null,null,null,null,{"$f":"IF(P58=\"\",\"\",MAX($N$3:$N57)+1)","v":55},74,"محمد55",null,null,null,{"$f":"IF(N58=\"\",\"\",IF(ISERROR(MATCH($N58,$J:$J,0)),T57,MAX($T$3:$T57)+1))","v":3},""]
[null,null,null,null,null,null,null,null,null,null,null,null,null,{"$f":"IF(P59=\"\",\"\",MAX($N$3:$N58)+1)","v":56},75,"محمد56",null,null,null,{"$f":"IF(N59=\"\",\"\",IF(ISERROR(MATCH($N59,$J:$J,0)),T58,MAX($T$3:$T58)+1))","v":3},""]
[null,null,null,null,null,null,null,null,null,null,null,null,null,{"$f":"IF(P60=\"\",\"\",MAX($N$3:$N59)+1)","v":57},76,"محمد57",null,null,null,{"$f":"IF(N60=\"\",\"\",IF(ISERROR(MATCH($N60,$J:$J,0)),T59,MAX($T$3:$T59)+1))","v":3},""]
[null,null,null,null,null,null,null,null,null,null,null,null,null,{"$f":"IF(P61=\"\",\"\",MAX($N$3:$N60)+1)","v":58},77,"محمد58",null,null,null,{"$f":"IF(N61=\"\",\"\",IF(ISERROR(MATCH($N61,$J:$J,0)),T60,MAX($T$3:$T60)+1))","v":3},""]
[null,null,null,null,null,null,null,null,null,null,null,null,null,{"$f":"IF(P62=\"\",\"\",MAX($N$3:$N61)+1)","v":59},78,"محمد59",null,null,null,{"$f":"IF(N62=\"\",\"\",IF(ISERROR(MATCH($N62,$J:$J,0)),T61,MAX($T$3:$T61)+1))","v":3},""]
[null,null,null,null,null,null,null,null,null,null,null,null,null,{"$f":"IF(P63=\"\",\"\",MAX($N$3:$N62)+1)","v":60},79,"محمد60",null,null,null,{"$f":"IF(N63=\"\",\"\",IF(ISERROR(MATCH($N63,$J:$J,0)),T62,MAX($T$3:$T62)+1))","v":3},"نهاية اللجنة"]
[null,null,null,null,null,null,null,null,null,null,null,null,null,{"$f":"IF(P64=\"\",\"\",MAX($N$3:$N63)+1)","v":61},80,"محمد61",null,null,null,{"$f":"IF(N64=\"\",\"\",IF(ISERROR(MATCH($N64,$J:$J,0)),T63,MAX($T$3:$T63)+1))","v":4},""]
[null,null,null,null,null,null,null,null,null,null,null,null,null,{"$f":"IF(P65=\"\",\"\",MAX($N$3:$N64)+1)","v":62},81,"محمد62",null,null,null,{"$f":"IF(N65=\"\",\"\",IF(ISERROR(MATCH($N65,$J:$J,0)),T64,MAX($T$3:$T64)+1))","v":4},""]
[null,null,null,null,null,null,null,null,null,null,null,null,null,{"$f":"IF(P66=\"\",\"\",MAX($N$3:$N65)+1)","v":63},82,"محمد63",null,null,null,{"$f":"IF(N66=\"\",\"\",IF(ISERROR(MATCH($N66,$J:$J,0)),T65,MAX($T$3:$T65)+1))","v":4},""]
[null,null,null,null,null,null,null,null,null,null,null,null,null,{"$f":"IF(P67=\"\",\"\",MAX($N$3:$N66)+1)","v":64},83,"محمد64",null,null,null,{"$f":"IF(N67=\"\",\"\",IF(ISERROR(MATCH($N67,$J:$J,0)),T66,MAX($T$3:$T66)+1))","v":4},""]
[null,null,null,null,null,null,null,null,null,null,null,null,null,{"$f":"IF(P68=\"\",\"\",MAX($N$3:$N67)+1)","v":65},84,"محمد65",null,null,null,{"$f":"IF(N68=\"\",\"\",IF(ISERROR(MATCH($N68,$J:$J,0)),T67,MAX($T$3:$T67)+1))","v":4},""]
[null,null,null,null,null,null,null,null,null,null,null,null,null,{"$f":"IF(P69=\"\",\"\",MAX($N$3:$N68)+1)","v":66},85,"محمد66",null,null,null,{"$f":"IF(N69=\"\",\"\",IF(ISERROR(MATCH($N69,$J:$J,0)),T68,MAX($T$3:$T68)+1))","v":4},{"$f":"IF(T69=T70,\"\",\"نهاية اللجنة\")","v":""}]
[null,null,null,null,null,null,null,null,null,null,null,null,null,{"$f":"IF(P70=\"\",\"\",MAX($N$3:$N69)+1)","v":67},{"$f":"IF(O69=\"\",\"\",IF(O69+1>$O$2,\"\",O69+1))","v":86},"محمد67",null,null,null,{"$f":"IF(N70=\"\",\"\",IF(ISERROR(MATCH($N70,$J:$J,0)),T69,MAX($T$3:$T69)+1))","v":4},""]
[null,null,null,null,null,null,null,null,null,null,null,null,null,{"$f":"IF(P71=\"\",\"\",MAX($N$3:$N70)+1)","v":68},87,"محمد68",null,null,null,{"$f":"IF(N71=\"\",\"\",IF(ISERROR(MATCH($N71,$J:$J,0)),T70,MAX($T$3:$T70)+1))","v":4},""]
[null,null,null,null,null,null,null,null,null,null,null,null,null,{"$f":"IF(P72=\"\",\"\",MAX($N$3:$N71)+1)","v":69},88,"محمد69",null,null,null,{"$f":"IF(N72=\"\",\"\",IF(ISERROR(MATCH($N72,$J:$J,0)),T71,MAX($T$3:$T71)+1))","v":4},""]
[null,null,null,null,null,null,null,null,null,null,null,null,null,{"$f":"IF(P73=\"\",\"\",MAX($N$3:$N72)+1)","v":70},89,"محمد70",null,null,null,{"$f":"IF(N73=\"\",\"\",IF(ISERROR(MATCH($N73,$J:$J,0)),T72,MAX($T$3:$T72)+1))","v":4},""]
[null,null,null,null,null,null,null,null,null,null,null,null,null,{"$f":"IF(P74=\"\",\"\",MAX($N$3:$N73)+1)","v":71},90,"محمد71",null,null,null,{"$f":"IF(N74=\"\",\"\",IF(ISERROR(MATCH($N74,$J:$J,0)),T73,MAX($T$3:$T73)+1))","v":4},""]
[null,null,null,null,null,null,null,null,null,null,null,null,null,{"$f":"IF(P75=\"\",\"\",MAX($N$3:$N74)+1)","v":72},91,"محمد72",null,null,null,{"$f":"IF(N75=\"\",\"\",IF(ISERROR(MATCH($N75,$J:$J,0)),T74,MAX($T$3:$T74)+1))","v":4},""]
[null,null,null,null,null,null,null,null,null,null,null,null,null,{"$f":"IF(P76=\"\",\"\",MAX($N$3:$N75)+1)","v":73},92,"محمد73",null,null,null,{"$f":"IF(N76=\"\",\"\",IF(ISERROR(MATCH($N76,$J:$J,0)),T75,MAX($T$3:$T75)+1))","v":4},""]
[null,null,null,null,null,null,null,null,null,null,null,null,null,{"$f":"IF(P77=\"\",\"\",MAX($N$3:$N76)+1)","v":74},93,"محمد74",null,null,null,{"$f":"IF(N77=\"\",\"\",IF(ISERROR(MATCH($N77,$J:$J,0)),T76,MAX($T$3:$T76)+1))","v":4},""]
[null,null,null,null,null,null,null,null,null,null,null,null,null,{"$f":"IF(P78=\"\",\"\",MAX($N$3:$N77)+1)","v":75},94,"محمد75",null,null,null,{"$f":"IF(N78=\"\",\"\",IF(ISERROR(MATCH($N78,$J:$J,0)),T77,MAX($T$3:$T77)+1))","v":4},""]
[null,null,null,null,null,null,null,null,null,null,null,null,null,{"$f":"IF(P79=\"\",\"\",MAX($N$3:$N78)+1)","v":76},95,"محمد76",null,null,null,{"$f":"IF(N79=\"\",\"\",IF(ISERROR(MATCH($N79,$J:$J,0)),T78,MAX($T$3:$T78)+1))","v":4},""]
[null,null,null,null,null,null,null,null,null,null,null,null,null,{"$f":"IF(P80=\"\",\"\",MAX($N$3:$N79)+1)","v":77},96,"محمد77",null,null,null,{"$f":"IF(N80=\"\",\"\",IF(ISERROR(MATCH($N80,$J:$J,0)),T79,MAX($T$3:$T79)+1))","v":4},""]
[null,null,null,null,null,null,null,null,null,null,null,null,null,{"$f":"IF(P81=\"\",\"\",MAX($N$3:$N80)+1)","v":78},97,"محمد78",null,null,null,{"$f":"IF(N81=\"\",\"\",IF(ISERROR(MATCH($N81,$J:$J,0)),T80,MAX($T$3:$T80)+1))","v":4},""]
[null,null,null,null,null,null,null,null,null,null,null,null,null,{"$f":"IF(P82=\"\",\"\",MAX($N$3:$N81)+1)","v":79},98,"محمد79",null,null,null,{"$f":"IF(N82=\"\",\"\",IF(ISERROR(MATCH($N82,$J:$J,0)),T81,MAX($T$3:$T81)+1))","v":4},""]
[null,null,null,null,null,null,null,null,null,null,null,null,null,{"$f":"IF(P83=\"\",\"\",MAX($N$3:$N82)+1)","v":80},99,"محمد80",null,null,null,{"$f":"IF(N83=\"\",\"\",IF(ISERROR(MATCH($N83,$J:$J,0)),T82,MAX($T$3:$T82)+1))","v":4},"نهاية اللجنة"]
[null,null,null,null,null,null,null,null,null,null,null,null,null,{"$f":"IF(P84=\"\",\"\",MAX($N$3:$N83)+1)","v":81},100,"محمد81",null,null,null,{"$f":"IF(N84=\"\",\"\",IF(ISERROR(MATCH($N84,$J:$J,0)),T83,MAX($T$3:$T83)+1))","v":5},""]
[null,null,null,null,null,null,null,null,null,null,null,null,null,{"$f":"IF(P85=\"\",\"\",MAX($N$3:$N84)+1)","v":82},101,"محمد82",null,null,null,{"$f":"IF(N85=\"\",\"\",IF(ISERROR(MATCH($N85,$J:$J,0)),T84,MAX($T$3:$T84)+1))","v":5},""]
[null,null,null,null,null,null,null,null,null,null,null,null,null,{"$f":"IF(P86=\"\",\"\",MAX($N$3:$N85)+1)","v":83},102,"محمد83",null,null,null,{"$f":"IF(N86=\"\",\"\",IF(ISERROR(MATCH($N86,$J:$J,0)),T85,MAX($T$3:$T85)+1))","v":5},""]
[null,null,null,null,null,null,null,null,null,null,null,null,null,{"$f":"IF(P87=\"\",\"\",MAX($N$3:$N86)+1)","v":84},103,"محمد84",null,null,null,{"$f":"IF(N87=\"\",\"\",IF(ISERROR(MATCH($N87,$J:$J,0)),T86,MAX($T$3:$T86)+1))","v":5},""]
[null,null,null,null,null,null,null,null,null,null,null,null,null,{"$f":"IF(P88=\"\",\"\",MAX($N$3:$N87)+1)","v":85},104,"محمد85",null,null,null,{"$f":"IF(N88=\"\",\"\",IF(ISERROR(MATCH($N88,$J:$J,0)),T87,MAX($T$3:$T87)+1))","v":5},""]
[null,null,null,null,null,null,null,null,null,null,null,null,null,{"$f":"IF(P89=\"\",\"\",MAX($N$3:$N88)+1)","v":86},105,"محمد86",null,null,null,{"$f":"IF(N89=\"\",\"\",IF(ISERROR(MATCH($N89,$J:$J,0)),T88,MAX($T$3:$T88)+1))","v":5},""]
[null,null,null,null,null,null,null,null,null,null,null,null,null,{"$f":"IF(P90=\"\",\"\",MAX($N$3:$N89)+1)","v":87},106,"محمد87",null,null,null,{"$f":"IF(N90=\"\",\"\",IF(ISERROR(MATCH($N90,$J:$J,0)),T89,MAX($T$3:$T89)+1))","v":5},""]
[null,null,null,null,null,null,null,null,null,null,null,null,null,{"$f":"IF(P91=\"\",\"\",MAX($N$3:$N90)+1)","v":88},107,"محمد88",null,null,null,{"$f":"IF(N91=\"\",\"\",IF(ISERROR(MATCH($N91,$J:$J,0)),T90,MAX($T$3:$T90)+1))","v":5},""]
[null,null,null,null,null,null,null,null,null,null,null,null,null,{"$f":"IF(P92=\"\",\"\",MAX($N$3:$N91)+1)","v":89},108,"محمد89",null,null,null,{"$f":"IF(N92=\"\",\"\",IF(ISERROR(MATCH($N92,$J:$J,0)),T91,MAX($T$3:$T91)+1))","v":5},""]
[null,null,null,null,null,null,null,null,null,null,null,null,null,{"$f":"IF(P93=\"\",\"\",MAX($N$3:$N92)+1)","v":90},109,"محمد90",null,null,null,{"$f":"IF(N93=\"\",\"\",IF(ISERROR(MATCH($N93,$J:$J,0)),T92,MAX($T$3:$T92)+1))","v":5},""]
[null,null,null,null,null,null,null,null,null,null,null,null,null,{"$f":"IF(P94=\"\",\"\",MAX($N$3:$N93)+1)","v":91},110,"محمد91",null,null,null,{"$f":"IF(N94=\"\",\"\",IF(ISERROR(MATCH($N94,$J:$J,0)),T93,MAX($T$3:$T93)+1))","v":5},""]
[null,null,null,null,null,null,null,null,null,null,null,null,null,{"$f":"IF(P95=\"\",\"\",MAX($N$3:$N94)+1)","v":92},111,"محمد92",null,null,null,{"$f":"IF(N95=\"\",\"\",IF(ISERROR(MATCH($N95,$J:$J,0)),T94,MAX($T$3:$T94)+1))","v":5},""]
[null,null,null,null,null,null,null,null,null,null,null,null,null,{"$f":"IF(P96=\"\",\"\",MAX($N$3:$N95)+1)","v":93},112,"محمد93",null,null,null,{"$f":"IF(N96=\"\",\"\",IF(ISERROR(MATCH($N96,$J:$J,0)),T95,MAX($T$3:$T95)+1))","v":5},""]
[null,null,null,null,null,null,null,null,null,null,null,null,null,{"$f":"IF(P97=\"\",\"\",MAX($N$3:$N96)+1)","v":94},113,"محمد94",null,null,null,{"$f":"IF(N97=\"\",\"\",IF(ISERROR(MATCH($N97,$J:$J,0)),T96,MAX($T$3:$T96)+1))","v":5},""]
[null,null,null,null,null,null,null,null,null,null,null,null,null,{"$f":"IF(P98=\"\",\"\",MAX($N$3:$N97)+1)","v":95},114,"محمد95",null,null,null,{"$f":"IF(N98=\"\",\"\",IF(ISERROR(MATCH($N98,$J:$J,0)),T97,MAX($T$3:$T97)+1))","v":5},""]
[null,null,null,null,null,null,null,null,null,null,null,null,null,{"$f":"IF(P99=\"\",\"\",MAX($N$3:$N98)+1)","v":96},115,"محمد96",null,null,null,{"$f":"IF(N99=\"\",\"\",IF(ISERROR(MATCH($N99,$J:$J,0)),T98,MAX($T$3:$T98)+1))","v":5},""]
[null,null,null,null,null,null,null,null,null,null,null,null,null,{"$f":"IF(P100=\"\",\"\",MAX($N$3:$N99)+1)","v":97},116,"محمد97",null,null,null,{"$f":"IF(N100=\"\",\"\",IF(ISERROR(MATCH($N100,$J:$J,0)),T99,MAX($T$3:$T99)+1))","v":5},""]
[null,null,null,null,null,null,null,null,null,null,null,null,null,{"$f":"IF(P101=\"\",\"\",MAX($N$3:$N100)+1)","v":98},117,"محمد98",null,null,null,{"$f":"IF(N101=\"\",\"\",IF(ISERROR(MATCH($N101,$J:$J,0)),T100,MAX($T$3:$T100)+1))","v":5},""]
[null,null,null,null,null,null,null,null,null,null,null,null,null,{"$f":"IF(P102=\"\",\"\",MAX($N$3:$N101)+1)","v":99},118,"محمد99",null,null,null,{"$f":"IF(N102=\"\",\"\",IF(ISERROR(MATCH($N102,$J:$J,0)),T101,MAX($T$3:$T101)+1))","v":5},""]
[null,null,null,null,null,null,null,null,null,null,null,null,null,{"$f":"IF(P103=\"\",\"\",MAX($N$3:$N102)+1)","v":100},119,"محمد100",null,null,null,{"$f":"IF(N103=\"\",\"\",IF(ISERROR(MATCH($N103,$J:$J,0)),T102,MAX($T$3:$T102)+1))","v":5},"نهاية اللجنة"]
[null,null,null,null,null,null,null,null,null,null,null,null,null,{"$f":"IF(P104=\"\",\"\",MAX($N$3:$N103)+1)","v":101},120,"محمد101",null,null,null,{"$f":"IF(N104=\"\",\"\",IF(ISERROR(MATCH($N104,$J:$J,0)),T103,MAX($T$3:$T103)+1))","v":6},""]
[null,null,null,null,null,null,null,null,null,null,null,null,null,{"$f":"IF(P105=\"\",\"\",MAX($N$3:$N104)+1)","v":102},121,"محمد102",null,null,null,{"$f":"IF(N105=\"\",\"\",IF(ISERROR(MATCH($N105,$J:$J,0)),T104,MAX($T$3:$T104)+1))","v":6},""]
[null,null,null,null,null,null,null,null,null,null,null,null,null,{"$f":"IF(P106=\"\",\"\",MAX($N$3:$N105)+1)","v":103},122,"محمد103",null,null,null,{"$f":"IF(N106=\"\",\"\",IF(ISERROR(MATCH($N106,$J:$J,0)),T105,MAX($T$3:$T105)+1))","v":6},""]
[null,null,null,null,null,null,null,null,null,null,null,null,null,{"$f":"IF(P107=\"\",\"\",MAX($N$3:$N106)+1)","v":104},123,"محمد104",null,null,null,{"$f":"IF(N107=\"\",\"\",IF(ISERROR(MATCH($N107,$J:$J,0)),T106,MAX($T$3:$T106)+1))","v":6},""]
[null,null,null,null,null,null,null,null,null,null,null,null,null,{"$f":"IF(P108=\"\",\"\",MAX($N$3:$N107)+1)","v":105},124,"محمد105",null,null,null,{"$f":"IF(N108=\"\",\"\",IF(ISERROR(MATCH($N108,$J:$J,0)),T107,MAX($T$3:$T107)+1))","v":6},""]
[null,null,null,null,null,null,null,null,null,null,null,null,null,{"$f":"IF(P109=\"\",\"\",MAX($N$3:$N108)+1)","v":106},125,"محمد106",null,null,null,{"$f":"IF(N109=\"\",\"\",IF(ISERROR(MATCH($N109,$J:$J,0)),T108,MAX($T$3:$T108)+1))","v":6},""]
[null,null,null,null,null,null,null,null,null,null,null,null,null,{"$f":"IF(P110=\"\",\"\",MAX($N$3:$N109)+1)","v":107},126,"محمد107",null,null,null,{"$f":"IF(N110=\"\",\"\",IF(ISERROR(MATCH($N110,$J:$J,0)),T109,MAX($T$3:$T109)+1))","v":6},""]
[null,null,null,null,null,null,null,null,null,null,null,null,null,{"$f":"IF(P111=\"\",\"\",MAX($N$3:$N110)+1)","v":108},127,"محمد108",null,null,null,{"$f":"IF(N111=\"\",\"\",IF(ISERROR(MATCH($N111,$J:$J,0)),T110,MAX($T$3:$T110)+1))","v":6},""]
[null,null,null,null,null,null,null,null,null,null,null,null,null,{"$f":"IF(P112=\"\",\"\",MAX($N$3:$N111)+1)","v":109},128,"محمد109",null,null,null,{"$f":"IF(N112=\"\",\"\",IF(ISERROR(MATCH($N112,$J:$J,0)),T111,MAX($T$3:$T111)+1))","v":6},""]
[null,null,null,null,null,null,null,null,null,null,null,null,null,{"$f":"IF(P113=\"\",\"\",MAX($N$3:$N112)+1)","v":110},129,"محمد110",null,null,null,{"$f":"IF(N113=\"\",\"\",IF(ISERROR(MATCH($N113,$J:$J,0)),T112,MAX($T$3:$T112)+1))","v":6},""]
[null,null,null,null,null,null,null,null,null,null,null,null,null,{"$f":"IF(P114=\"\",\"\",MAX($N$3:$N113)+1)","v":111},130,"محمد111",null,null,null,{"$f":"IF(N114=\"\",\"\",IF(ISERROR(MATCH($N114,$J:$J,0)),T113,MAX($T$3:$T113)+1))","v":6},""]
[null,null,null,null,null,null,null,null,null,null,null,null,null,{"$f":"IF(P115=\"\",\"\",MAX($N$3:$N114)+1)","v":112},131,"محمد112",null,null,null,{"$f":"IF(N115=\"\",\"\",IF(ISERROR(MATCH($N115,$J:$J,0)),T114,MAX($T$3:$T114)+1))","v":6},""]
[null,null,null,null,null,null,null,null,null,null,null,null,null,{"$f":"IF(P116=\"\",\"\",MAX($N$3:$N115)+1)","v":113},132,"محمد113",null,null,null,{"$f":"IF(N116=\"\",\"\",IF(ISERROR(MATCH($N116,$J:$J,0)),T115,MAX($T$3:$T115)+1))","v":6},""]
[null,null,null,null,null,null,null,null,null,null,null,null,null,{"$f":"IF(P117=\"\",\"\",MAX($N$3:$N116)+1)","v":114},133,"محمد114",null,null,null,{"$f":"IF(N117=\"\",\"\",IF(ISERROR(MATCH($N117,$J:$J,0)),T116,MAX($T$3:$T116)+1))","v":6},""]
[null,null,null,null,null,null,null,null,null,null,null,null,null,{"$f":"IF(P118=\"\",\"\",MAX($N$3:$N117)+1)","v":115},134,"محمد115",null,null,null,{"$f":"IF(N118=\"\",\"\",IF(ISERROR(MATCH($N118,$J:$J,0)),T117,MAX($T$3:$T117)+1))","v":6},""]
[null,null,null,null,null,null,null,null,null,null,null,null,null,{"$f":"IF(P119=\"\",\"\",MAX($N$3:$N118)+1)","v":116},135,"محمد116",null,null,null,{"$f":"IF(N119=\"\",\"\",IF(ISERROR(MATCH($N119,$J:$J,0)),T118,MAX($T$3:$T118)+1))","v":6},""]
[null,null,null,null,null,null,null,null,null,null,null,null,null,{"$f":"IF(P120=\"\",\"\",MAX($N$3:$N119)+1)","v":117},136,"محمد117",null,null,null,{"$f":"IF(N120=\"\",\"\",IF(ISERROR(MATCH($N120,$J:$J,0)),T119,MAX($T$3:$T119)+1))","v":6},""]
[null,null,null,null,null,null,null,null,null,null,null,null,null,{"$f":"IF(P121=\"\",\"\",MAX($N$3:$N120)+1)","v":118},137,"محمد118",null,null,null,{"$f":"IF(N121=\"\",\"\",IF(ISERROR(MATCH($N121,$J:$J,0)),T120,MAX($T$3:$T120)+1))","v":6},""]
[null,null,null,null,null,null,null,null,null,null,null,null,null,{"$f":"IF(P122=\"\",\"\",MAX($N$3:$N121)+1)","v":119},138,"محمد119",null,null,null,{"$f":"IF(N122=\"\",\"\",IF(ISERROR(MATCH($N122,$J:$J,0)),T121,MAX($T$3:$T121)+1))","v":6},""]
[null,null,null,null,null,null,null,null,null,null,null,null,null,{"$f":"IF(P123=\"\",\"\",MAX($N$3:$N122)+1)","v":120},139,"محمد120",null,null,null,{"$f":"IF(N123=\"\",\"\",IF(ISERROR(MATCH($N123,$J:$J,0)),T122,MAX($T$3:$T122)+1))","v":6},"نهاية اللجنة"]
[null,null,null,null,null,null,null,null,null,null,null,null,null,{"$f":"IF(P124=\"\",\"\",MAX($N$3:$N123)+1)","v":121},140,"محمد121",null,null,null,{"$f":"IF(N124=\"\",\"\",IF(ISERROR(MATCH($N124,$J:$J,0)),T123,MAX($T$3:$T123)+1))","v":7},""]
[null,null,null,null,null,null,null,null,null,null,null,null,null,{"$f":"IF(P125=\"\",\"\",MAX($N$3:$N124)+1)","v":122},141,"محمد122",null,null,null,{"$f":"IF(N125=\"\",\"\",IF(ISERROR(MATCH($N125,$J:$J,0)),T124,MAX($T$3:$T124)+1))","v":7},""]
[null,null,null,null,null,null,null,null,null,null,null,null,null,{"$f":"IF(P126=\"\",\"\",MAX($N$3:$N125)+1)","v":123},142,"محمد123",null,null,null,{"$f":"IF(N126=\"\",\"\",IF(ISERROR(MATCH($N126,$J:$J,0)),T125,MAX($T$3:$T125)+1))","v":7},""]
[null,null,null,null,null,null,null,null,null,null,null,null,null,{"$f":"IF(P127=\"\",\"\",MAX($N$3:$N126)+1)","v":124},143,"محمد124",null,null,null,{"$f":"IF(N127=\"\",\"\",IF(ISERROR(MATCH($N127,$J:$J,0)),T126,MAX($T$3:$T126)+1))","v":7},""]
[null,null,null,null,null,null,null,null,null,null,null,null,null,{"$f":"IF(P128=\"\",\"\",MAX($N$3:$N127)+1)","v":125},144,"محمد125",null,null,null,{"$f":"IF(N128=\"\",\"\",IF(ISERROR(MATCH($N128,$J:$J,0)),T127,MAX($T$3:$T127)+1))","v":7},""]
[null,null,null,null,null,null,null,null,null,null,null,null,null,{"$f":"IF(P129=\"\",\"\",MAX($N$3:$N128)+1)","v":126},145,"محمد126",null,null,null,{"$f":"IF(N129=\"\",\"\",IF(ISERROR(MATCH($N129,$J:$J,0)),T128,MAX($T$3:$T128)+1))","v":7},""]
[null,null,null,null,null,null,null,null,null,null,null,null,null,{"$f":"IF(P130=\"\",\"\",MAX($N$3:$N129)+1)","v":127},146,"محمد127",null,null,null,{"$f":"IF(N130=\"\",\"\",IF(ISERROR(MATCH($N130,$J:$J,0)),T129,MAX($T$3:$T129)+1))","v":7},""]
[null,null,null,null,null,null,null,null,null,null,null,null,null,{"$f":"IF(P131=\"\",\"\",MAX($N$3:$N130)+1)","v":128},147,"محمد128",null,null,null,{"$f":"IF(N131=\"\",\"\",IF(ISERROR(MATCH($N131,$J:$J,0)),T130,MAX($T$3:$T130)+1))","v":7},""]
[null,null,null,null,null,null,null,null,null,null,null,null,null,{"$f":"IF(P132=\"\",\"\",MAX($N$3:$N131)+1)","v":129},148,"محمد129",null,null,null,{"$f":"IF(N132=\"\",\"\",IF(ISERROR(MATCH($N132,$J:$J,0)),T131,MAX($T$3:$T131)+1))","v":7},""]
[null,null,null,null,null,null,null,null,null,null,null,null,null,{"$f":"IF(P133=\"\",\"\",MAX($N$3:$N132)+1)","v":130},149,"محمد130",null,null,null,{"$f":"IF(N133=\"\",\"\",IF(ISERROR(MATCH($N133,$J:$J,0)),T132,MAX($T$3:$T132)+1))","v":7},{"$f":"IF(T133=T134,\"\",\"نهاية اللجنة\")","v":""}]
[null,null,null,null,null,null,null,null,null,null,null,null,null,{"$f":"IF(P134=\"\",\"\",MAX($N$3:$N133)+1)","v":131},{"$f":"IF(O133=\"\",\"\",IF(O133+1>$O$2,\"\",O133+1))","v":150},"محمد131",null,null,null,{"$f":"IF(N134=\"\",\"\",IF(ISERROR(MATCH($N134,$J:$J,0)),T133,MAX($T$3:$T133)+1))","v":7},""]
[null,null,null,null,null,null,null,null,null,null,null,null,null,{"$f":"IF(P135=\"\",\"\",MAX($N$3:$N134)+1)","v":132},151,"محمد132",null,null,null,{"$f":"IF(N135=\"\",\"\",IF(ISERROR(MATCH($N135,$J:$J,0)),T134,MAX($T$3:$T134)+1))","v":7},""]
[null,null,null,null,null,null,null,null,null,null,null,null,null,{"$f":"IF(P136=\"\",\"\",MAX($N$3:$N135)+1)","v":133},152,"محمد133",null,null,null,{"$f":"IF(N136=\"\",\"\",IF(ISERROR(MATCH($N136,$J:$J,0)),T135,MAX($T$3:$T135)+1))","v":7},""]
[null,null,null,null,null,null,null,null,null,null,null,null,null,{"$f":"IF(P137=\"\",\"\",MAX($N$3:$N136)+1)","v":134},153,"محمد134",null,null,null,{"$f":"IF(N137=\"\",\"\",IF(ISERROR(MATCH($N137,$J:$J,0)),T136,MAX($T$3:$T136)+1))","v":7},""]
[null,null,null,null,null,null,null,null,null,null,null,null,null,{"$f":"IF(P138=\"\",\"\",MAX($N$3:$N137)+1)","v":135},154,"محمد135",null,null,null,{"$f":"IF(N138=\"\",\"\",IF(ISERROR(MATCH($N138,$J:$J,0)),T137,MAX($T$3:$T137)+1))","v":7},""]
[null,null,null,null,null,null,null,null,null,null,null,null,null,{"$f":"IF(P139=\"\",\"\",MAX($N$3:$N138)+1)","v":136},155,"محمد136",null,null,null,{"$f":"IF(N139=\"\",\"\",IF(ISERROR(MATCH($N139,$J:$J,0)),T138,MAX($T$3:$T138)+1))","v":7},""]
[null,null,null,null,null,null,null,null,null,null,null,null,null,{"$f":"IF(P140=\"\",\"\",MAX($N$3:$N139)+1)","v":137},156,"محمد137",null,null,null,{"$f":"IF(N140=\"\",\"\",IF(ISERROR(MATCH($N140,$J:$J,0)),T139,MAX($T$3:$T139)+1))","v":7},""]
[null,null,null,null,null,null,null,null,null,null,null,null,null,{"$f":"IF(P141=\"\",\"\",MAX($N$3:$N140)+1)","v":138},157,"محمد138",null,null,null,{"$f":"IF(N141=\"\",\"\",IF(ISERROR(MATCH($N141,$J:$J,0)),T140,MAX($T$3:$T140)+1))","v":7},""]
[null,null,null,null,null,null,null,null,null,null,null,null,null,{"$f":"IF(P142=\"\",\"\",MAX($N$3:$N141)+1)","v":139},158,"محمد139",null,null,null,{"$f":"IF(N142=\"\",\"\",IF(ISERROR(MATCH($N142,$J:$J,0)),T141,MAX($T$3:$T141)+1))","v":7},""]
[null,null,null,null,null,null,null,null,null,null,null,null,null,{"$f":"IF(P143=\"\",\"\",MAX($N$3:$N142)+1)","v":140},159,"محمد140",null,null,null,{"$f":"IF(N143=\"\",\"\",IF(ISERROR(MATCH($N143,$J:$J,0)),T142,MAX($T$3:$T142)+1))","v":7},"نهاية اللجنة"]
[null,null,null,null,null,null,null,null,null,null,null,null,null,{"$f":"IF(P144=\"\",\"\",MAX($N$3:$N143)+1)","v":141},160,"محمد141",null,null,null,{"$f":"IF(N144=\"\",\"\",IF(ISERROR(MATCH($N144,$J:$J,0)),T143,MAX($T$3:$T143)+1))","v":8},""]
[null,null,null,null,null,null,null,null,null,null,null,null,null,{"$f":"IF(P145=\"\",\"\",MAX($N$3:$N144)+1)","v":142},161,"محمد142",null,null,null,{"$f":"IF(N145=\"\",\"\",IF(ISERROR(MATCH($N145,$J:$J,0)),T144,MAX($T$3:$T144)+1))","v":8},""]
[null,null,null,null,null,null,null,null,null,null,null,null,null,{"$f":"IF(P146=\"\",\"\",MAX($N$3:$N145)+1)","v":143},162,"محمد143",null,null,null,{"$f":"IF(N146=\"\",\"\",IF(ISERROR(MATCH($N146,$J:$J,0)),T145,MAX($T$3:$T145)+1))","v":8},""]
[null,null,null,null,null,null,null,null,null,null,null,null,null,{"$f":"IF(P147=\"\",\"\",MAX($N$3:$N146)+1)","v":144},163,"محمد144",null,null,null,{"$f":"IF(N147=\"\",\"\",IF(ISERROR(MATCH($N147,$J:$J,0)),T146,MAX($T$3:$T146)+1))","v":8},""]
[null,null,null,null,null,null,null,null,null,null,null,null,null,{"$f":"IF(P148=\"\",\"\",MAX($N$3:$N147)+1)","v":145},164,"محمد145",null,null,null,{"$f":"IF(N148=\"\",\"\",IF(ISERROR(MATCH($N148,$J:$J,0)),T147,MAX($T$3:$T147)+1))","v":8},""]
[null,null,null,null,null,null,null,null,null,null,null,null,null,{"$f":"IF(P149=\"\",\"\",MAX($N$3:$N148)+1)","v":146},165,"محمد146",null,null,null,{"$f":"IF(N149=\"\",\"\",IF(ISERROR(MATCH($N149,$J:$J,0)),T148,MAX($T$3:$T148)+1))","v":8},""]
[null,null,null,null,null,null,null,null,null,null,null,null,null,{"$f":"IF(P150=\"\",\"\",MAX($N$3:$N149)+1)","v":147},166,"محمد147",null,null,null,{"$f":"IF(N150=\"\",\"\",IF(ISERROR(MATCH($N150,$J:$J,0)),T149,MAX($T$3:$T149)+1))","v":8},""]
[null,null,null,null,null,null,null,null,null,null,null,null,null,{"$f":"IF(P151=\"\",\"\",MAX($N$3:$N150)+1)","v":148},167,"محمد148",null,null,null,{"$f":"IF(N151=\"\",\"\",IF(ISERROR(MATCH($N151,$J:$J,0)),T150,MAX($T$3:$T150)+1))","v":8},""]
[null,null,null,null,null,null,null,null,null,null,null,null,null,{"$f":"IF(P152=\"\",\"\",MAX($N$3:$N151)+1)","v":149},168,"محمد149",null,null,null,{"$f":"IF(N152=\"\",\"\",IF(ISERROR(MATCH($N152,$J:$J,0)),T151,MAX($T$3:$T151)+1))","v":8},""]
[null,null,null,null,null,null,null,null,null,null,null,null,null,{"$f":"IF(P153=\"\",\"\",MAX($N$3:$N152)+1)","v":150},169,"محمد150",null,null,null,{"$f":"IF(N153=\"\",\"\",IF(ISERROR(MATCH($N153,$J:$J,0)),T152,MAX($T$3:$T152)+1))","v":8},""]
[null,null,null,null,null,null,null,null,null,null,null,null,null,{"$f":"IF(P154=\"\",\"\",MAX($N$3:$N153)+1)","v":151},170,"محمد151",null,null,null,{"$f":"IF(N154=\"\",\"\",IF(ISERROR(MATCH($N154,$J:$J,0)),T153,MAX($T$3:$T153)+1))","v":8},""]
[null,null,null,null,null,null,null,null,null,null,null,null,null,{"$f":"IF(P155=\"\",\"\",MAX($N$3:$N154)+1)","v":152},171,"محمد152",null,null,null,{"$f":"IF(N155=\"\",\"\",IF(ISERROR(MATCH($N155,$J:$J,0)),T154,MAX($T$3:$T154)+1))","v":8},""]
[null,null,null,null,null,null,null,null,null,null,null,null,null,{"$f":"IF(P156=\"\",\"\",MAX($N$3:$N155)+1)","v":153},172,"محمد153",null,null,null,{"$f":"IF(N156=\"\",\"\",IF(ISERROR(MATCH($N156,$J:$J,0)),T155,MAX($T$3:$T155)+1))","v":8},""]
[null,null,null,null,null,null,null,null,null,null,null,null,null,{"$f":"IF(P157=\"\",\"\",MAX($N$3:$N156)+1)","v":154},173,"محمد154",null,null,null,{"$f":"IF(N157=\"\",\"\",IF(ISERROR(MATCH($N157,$J:$J,0)),T156,MAX($T$3:$T156)+1))","v":8},""]
[null,null,null,null,null,null,null,null,null,null,null,null,null,{"$f":"IF(P158=\"\",\"\",MAX($N$3:$N157)+1)","v":155},174,"محمد155",null,null,null,{"$f":"IF(N158=\"\",\"\",IF(ISERROR(MATCH($N158,$J:$J,0)),T157,MAX($T$3:$T157)+1))","v":8},""]
[null,null,null,null,null,null,null,null,null,null,null,null,null,{"$f":"IF(P159=\"\",\"\",MAX($N$3:$N158)+1)","v":156},175,"محمد156",null,null,null,{"$f":"IF(N159=\"\",\"\",IF(ISERROR(MATCH($N159,$J:$J,0)),T158,MAX($T$3:$T158)+1))","v":8},""]
[null,null,null,null,null,null,null,null,null,null,null,null,null,{"$f":"IF(P160=\"\",\"\",MAX($N$3:$N159)+1)","v":157},176,"محمد157",null,null,null,{"$f":"IF(N160=\"\",\"\",IF(ISERROR(MATCH($N160,$J:$J,0)),T159,MAX($T$3:$T159)+1))","v":8},""]
[null,null,null,null,null,null,null,null,null,null,null,null,null,{"$f":"IF(P161=\"\",\"\",MAX($N$3:$N160)+1)","v":158},177,"محمد158",null,null,null,{"$f":"IF(N161=\"\",\"\",IF(ISERROR(MATCH($N161,$J:$J,0)),T160,MAX($T$3:$T160)+1))","v":8},""]
[null,null,null,null,null,null,null,null,null,null,null,null,null,{"$f":"IF(P162=\"\",\"\",MAX($N$3:$N161)+1)","v":159},178,"محمد159",null,null,null,{"$f":"IF(N162=\"\",\"\",IF(ISERROR(MATCH($N162,$J:$J,0)),T161,MAX($T$3:$T161)+1))","v":8},""]
[null,null,null,null,null,null,null,null,null,null,null,null,null,{"$f":"IF(P163=\"\",\"\",MAX($N$3:$N162)+1)","v":160},179,"محمد160",null,null,null,{"$f":"IF(N163=\"\",\"\",IF(ISERROR(MATCH($N163,$J:$J,0)),T162,MAX($T$3:$T162)+1))","v":8},"نهاية اللجنة"]
[null,null,null,null,null,null,null,null,null,null,null,null,null,{"$f":"IF(P164=\"\",\"\",MAX($N$3:$N163)+1)","v":161},180,"محمد161",null,null,null,{"$f":"IF(N164=\"\",\"\",IF(ISERROR(MATCH($N164,$J:$J,0)),T163,MAX($T$3:$T163)+1))","v":9},""]
[null,null,null,null,null,null,null,null,null,null,null,null,null,{"$f":"IF(P165=\"\",\"\",MAX($N$3:$N164)+1)","v":162},181,"محمد162",null,null,null,{"$f":"IF(N165=\"\",\"\",IF(ISERROR(MATCH($N165,$J:$J,0)),T164,MAX($T$3:$T164)+1))","v":9},""]
[null,null,null,null,null,null,null,null,null,null,null,null,null,{"$f":"IF(P166=\"\",\"\",MAX($N$3:$N165)+1)","v":163},182,"محمد163",null,null,null,{"$f":"IF(N166=\"\",\"\",IF(ISERROR(MATCH($N166,$J:$J,0)),T165,MAX($T$3:$T165)+1))","v":9},""]
[null,null,null,null,null,null,null,null,null,null,null,null,null,{"$f":"IF(P167=\"\",\"\",MAX($N$3:$N166)+1)","v":164},183,"محمد164",null,null,null,{"$f":"IF(N167=\"\",\"\",IF(ISERROR(MATCH($N167,$J:$J,0)),T166,MAX($T$3:$T166)+1))","v":9},""]
[null,null,null,null,null,null,null,null,null,null,null,null,null,{"$f":"IF(P168=\"\",\"\",MAX($N$3:$N167)+1)","v":165},184,"محمد165",null,null,null,{"$f":"IF(N168=\"\",\"\",IF(ISERROR(MATCH($N168,$J:$J,0)),T167,MAX($T$3:$T167)+1))","v":9},""]
[null,null,null,null,null,null,null,null,null,null,null,null,null,{"$f":"IF(P169=\"\",\"\",MAX($N$3:$N168)+1)","v":166},185,"محمد166",null,null,null,{"$f":"IF(N169=\"\",\"\",IF(ISERROR(MATCH($N169,$J:$J,0)),T168,MAX($T$3:$T168)+1))","v":9},""]
[null,null,null,null,null,null,null,null,null,null,null,null,null,{"$f":"IF(P170=\"\",\"\",MAX($N$3:$N169)+1)","v":167},186,"محمد167",null,null,null,{"$f":"IF(N170=\"\",\"\",IF(ISERROR(MATCH($N170,$J:$J,0)),T169,MAX($T$3:$T169)+1))","v":9},""]
[null,null,null,null,null,null,null,null,null,null,null,null,null,{"$f":"IF(P171=\"\",\"\",MAX($N$3:$N170)+1)","v":168},187,"محمد168",null,null,null,{"$f":"IF(N171=\"\",\"\",IF(ISERROR(MATCH($N171,$J:$J,0)),T170,MAX($T$3:$T170)+1))","v":9},""]
[null,null,null,null,null,null,null,null,null,null,null,null,null,{"$f":"IF(P172=\"\",\"\",MAX($N$3:$N171)+1)","v":169},188,"محمد169",null,null,null,{"$f":"IF(N172=\"\",\"\",IF(ISERROR(MATCH($N172,$J:$J,0)),T171,MAX($T$3:$T171)+1))","v":9},""]
[null,null,null,null,null,null,null,null,null,null,null,null,null,{"$f":"IF(P173=\"\",\"\",MAX($N$3:$N172)+1)","v":170},189,"محمد170",null,null,null,{"$f":"IF(N173=\"\",\"\",IF(ISERROR(MATCH($N173,$J:$J,0)),T172,MAX($T$3:$T172)+1))","v":9},""]
[null,null,null,null,null,null,null,null,null,null,null,null,null,{"$f":"IF(P174=\"\",\"\",MAX($N$3:$N173)+1)","v":171},190,"محمد171",null,null,null,{"$f":"IF(N174=\"\",\"\",IF(ISERROR(MATCH($N174,$J:$J,0)),T173,MAX($T$3:$T173)+1))","v":9},""]
[null,null,null,null,null,null,null,null,null,null,null,null,null,{"$f":"IF(P175=\"\",\"\",MAX($N$3:$N174)+1)","v":172},191,"محمد172",null,null,null,{"$f":"IF(N175=\"\",\"\",IF(ISERROR(MATCH($N175,$J:$J,0)),T174,MAX($T$3:$T174)+1))","v":9},""]
[null,null,null,null,null,null,null,null,null,null,null,null,null,{"$f":"IF(P176=\"\",\"\",MAX($N$3:$N175)+1)","v":173},192,"محمد173",null,null,null,{"$f":"IF(N176=\"\",\"\",IF(ISERROR(MATCH($N176,$J:$J,0)),T175,MAX($T$3:$T175)+1))","v":9},""]
[null,null,null,null,null,null,null,null,null,null,null,null,null,{"$f":"IF(P177=\"\",\"\",MAX($N$3:$N176)+1)","v":174},193,"محمد174",null,null,null,{"$f":"IF(N177=\"\",\"\",IF(ISERROR(MATCH($N177,$J:$J,0)),T176,MAX($T$3:$T176)+1))","v":9},""]
[null,null,null,null,null,null,null,null,null,null,null,null,null,{"$f":"IF(P178=\"\",\"\",MAX($N$3:$N177)+1)","v":175},194,"محمد175",null,null,null,{"$f":"IF(N178=\"\",\"\",IF(ISERROR(MATCH($N178,$J:$J,0)),T177,MAX($T$3:$T177)+1))","v":9},""]
[null,null,null,null,null,null,null,null,null,null,null,null,null,{"$f":"IF(P179=\"\",\"\",MAX($N$3:$N178)+1)","v":176},195,"محمد176",null,null,null,{"$f":"IF(N179=\"\",\"\",IF(ISERROR(MATCH($N179,$J:$J,0)),T178,MAX($T$3:$T178)+1))","v":9},""]
[null,null,null,null,null,null,null,null,null,null,null,null,null,{"$f":"IF(P180=\"\",\"\",MAX($N$3:$N179)+1)","v":177},196,"محمد177",null,null,null,{"$f":"IF(N180=\"\",\"\",IF(ISERROR(MATCH($N180,$J:$J,0)),T179,MAX($T$3:$T179)+1))","v":9},""]
[null,null,null,null,null,null,null,null,null,null,null,null,null,{"$f":"IF(P181=\"\",\"\",MAX($N$3:$N180)+1)","v":178},197,"محمد178",null,null,null,{"$f":"IF(N181=\"\",\"\",IF(ISERROR(MATCH($N181,$J:$J,0)),T180,MAX($T$3:$T180)+1))","v":9},""]
[null,null,null,null,null,null,null,null,null,null,null,null,null,{"$f":"IF(P182=\"\",\"\",MAX($N$3:$N181)+1)","v":179},198,"محمد179",null,null,null,{"$f":"IF(N182=\"\",\"\",IF(ISERROR(MATCH($N182,$J:$J,0)),T181,MAX($T$3:$T181)+1))","v":9},""]
[null,null,null,null,null,null,null,null,null,null,null,null,null,{"$f":"IF(P183=\"\",\"\",MAX($N$3:$N182)+1)","v":180},199,"محمد180",null,null,null,{"$f":"IF(N183=\"\",\"\",IF(ISERROR(MATCH($N183,$J:$J,0)),T182,MAX($T$3:$T182)+1))","v":9},"نهاية اللجنة"]
[null,null,null,null,null,null,null,null,null,null,null,null,null,{"$f":"IF(P184=\"\",\"\",MAX($N$3:$N183)+1)","v":181},200,"محمد181",null,null,null,{"$f":"IF(N184=\"\",\"\",IF(ISERROR(MATCH($N184,$J:$J,0)),T183,MAX($T$3:$T183)+1))","v":10},""]
[null,null,null,null,null,null,null,null,null,null,null,null,null,{"$f":"IF(P185=\"\",\"\",MAX($N$3:$N184)+1)","v":182},201,"محمد182",null,null,null,{"$f":"IF(N185=\"\",\"\",IF(ISERROR(MATCH($N185,$J:$J,0)),T184,MAX($T$3:$T184)+1))","v":10},""]
[null,null,null,null,null,null,null,null,null,null,null,null,null,{"$f":"IF(P186=\"\",\"\",MAX($N$3:$N185)+1)","v":183},202,"محمد183",null,null,null,{"$f":"IF(N186=\"\",\"\",IF(ISERROR(MATCH($N186,$J:$J,0)),T185,MAX($T$3:$T185)+1))","v":10},""]
[null,null,null,null,null,null,null,null,null,null,null,null,null,{"$f":"IF(P187=\"\",\"\",MAX($N$3:$N186)+1)","v":184},203,"محمد184",null,null,null,{"$f":"IF(N187=\"\",\"\",IF(ISERROR(MATCH($N187,$J:$J,0)),T186,MAX($T$3:$T186)+1))","v":10},""]
[null,null,null,null,null,null,null,null,null,null,null,null,null,{"$f":"IF(P188=\"\",\"\",MAX($N$3:$N187)+1)","v":185},204,"محمد185",null,null,null,{"$f":"IF(N188=\"\",\"\",IF(ISERROR(MATCH($N188,$J:$J,0)),T187,MAX($T$3:$T187)+1))","v":10},""]
[null,null,null,null,null,null,null,null,null,null,null,null,null,{"$f":"IF(P189=\"\",\"\",MAX($N$3:$N188)+1)","v":186},205,"محمد186",null,null,null,{"$f":"IF(N189=\"\",\"\",IF(ISERROR(MATCH($N189,$J:$J,0)),T188,MAX($T$3:$T188)+1))","v":10},""]
[null,null,null,null,null,null,null,null,null,null,null,null,null,{"$f":"IF(P190=\"\",\"\",MAX($N$3:$N189)+1)","v":187},206,"محمد187",null,null,null,{"$f":"IF(N190=\"\",\"\",IF(ISERROR(MATCH($N190,$J:$J,0)),T189,MAX($T$3:$T189)+1))","v":10},""]
[null,null,null,null,null,null,null,null,null,null,null,null,null,{"$f":"IF(P191=\"\",\"\",MAX($N$3:$N190)+1)","v":188},207,"محمد188",null,null,null,{"$f":"IF(N191=\"\",\"\",IF(ISERROR(MATCH($N191,$J:$J,0)),T190,MAX($T$3:$T190)+1))","v":10},""]
[null,null,null,null,null,null,null,null,null,null,null,null,null,{"$f":"IF(P192=\"\",\"\",MAX($N$3:$N191)+1)","v":189},208,"محمد189",null,null,null,{"$f":"IF(N192=\"\",\"\",IF(ISERROR(MATCH($N192,$J:$J,0)),T191,MAX($T$3:$T191)+1))","v":10},""]
[null,null,null,null,null,null,null,null,null,null,null,null,null,{"$f":"IF(P193=\"\",\"\",MAX($N$3:$N192)+1)","v":190},209,"محمد190",null,null,null,{"$f":"IF(N193=\"\",\"\",IF(ISERROR(MATCH($N193,$J:$J,0)),T192,MAX($T$3:$T192)+1))","v":10},""]
[null,null,null,null,null,null,null,null,null,null,null,null,null,{"$f":"IF(P194=\"\",\"\",MAX($N$3:$N193)+1)","v":191},210,"محمد191",null,null,null,{"$f":"IF(N194=\"\",\"\",IF(ISERROR(MATCH($N194,$J:$J,0)),T193,MAX($T$3:$T193)+1))","v":10},""]
[null,null,null,null,null,null,null,null,null,null,null,null,null,{"$f":"IF(P195=\"\",\"\",MAX($N$3:$N194)+1)","v":192},211,"محمد192",null,null,null,{"$f":"IF(N195=\"\",\"\",IF(ISERROR(MATCH($N195,$J:$J,0)),T194,MAX($T$3:$T194)+1))","v":10},""]
[null,null,null,null,null,null,null,null,null,null,null,null,null,{"$f":"IF(P196=\"\",\"\",MAX($N$3:$N195)+1)","v":193},212,"محمد193",null,null,null,{"$f":"IF(N196=\"\",\"\",IF(ISERROR(MATCH($N196,$J:$J,0)),T195,MAX($T$3:$T195)+1))","v":10},""]
[null,null,null,null,null,null,null,null,null,null,null,null,null,{"$f":"IF(P197=\"\",\"\",MAX($N$3:$N196)+1)","v":194},213,"محمد194",null,null,null,{"$f":"IF(N197=\"\",\"\",IF(ISERROR(MATCH($N197,$J:$J,0)),T196,MAX($T$3:$T196)+1))","v":10},{"$f":"IF(T197=T198,\"\",\"نهاية اللجنة\")","v":""}]
[null,null,null,null,null,null,null,null,null,null,null,null,null,{"$f":"IF(P198=\"\",\"\",MAX($N$3:$N197)+1)","v":195},{"$f":"IF(O197=\"\",\"\",IF(O197+1>$O$2,\"\",O197+1))","v":214},"محمد195",null,null,null,{"$f":"IF(N198=\"\",\"\",IF(ISERROR(MATCH($N198,$J:$J,0)),T197,MAX($T$3:$T197)+1))","v":10},""]
[null,null,null,null,null,null,null,null,null,null,null,null,null,{"$f":"IF(P199=\"\",\"\",MAX($N$3:$N198)+1)","v":196},215,"محمد196",null,null,null,{"$f":"IF(N199=\"\",\"\",IF(ISERROR(MATCH($N199,$J:$J,0)),T198,MAX($T$3:$T198)+1))","v":10},""]
[null,null,null,null,null,null,null,null,null,null,null,null,null,{"$f":"IF(P200=\"\",\"\",MAX($N$3:$N199)+1)","v":197},216,"محمد197",null,null,null,{"$f":"IF(N200=\"\",\"\",IF(ISERROR(MATCH($N200,$J:$J,0)),T199,MAX($T$3:$T199)+1))","v":10},""]
[null,null,null,null,null,null,null,null,null,null,null,null,null,{"$f":"IF(P201=\"\",\"\",MAX($N$3:$N200)+1)","v":198},217,"محمد198",null,null,null,{"$f":"IF(N201=\"\",\"\",IF(ISERROR(MATCH($N201,$J:$J,0)),T200,MAX($T$3:$T200)+1))","v":10},""]
[null,null,null,null,null,null,null,null,null,null,null,null,null,{"$f":"IF(P202=\"\",\"\",MAX($N$3:$N201)+1)","v":199},218,"محمد199",null,null,null,{"$f":"IF(N202=\"\",\"\",IF(ISERROR(MATCH($N202,$J:$J,0)),T201,MAX($T$3:$T201)+1))","v":10},""]
[null,null,null,null,null,null,null,null,null,null,null,null,null,{"$f":"IF(P203=\"\",\"\",MAX($N$3:$N202)+1)","v":200},219,"محمد200",null,null,null,{"$f":"IF(N203=\"\",\"\",IF(ISERROR(MATCH($N203,$J:$J,0)),T202,MAX($T$3:$T202)+1))","v":10},"نهاية اللجنة"]
[null,null,null,null,null,null,null,null,null,null,null,null,null,{"$f":"IF(P204=\"\",\"\",MAX($N$3:$N203)+1)","v":201},220,"محمد201",null,null,null,{"$f":"IF(N204=\"\",\"\",IF(ISERROR(MATCH($N204,$J:$J,0)),T203,MAX($T$3:$T203)+1))","v":11},""]
[null,null,null,null,null,null,null,null,null,null,null,null,null,{"$f":"IF(P205=\"\",\"\",MAX($N$3:$N204)+1)","v":202},221,"محمد202",null,null,null,{"$f":"IF(N205=\"\",\"\",IF(ISERROR(MATCH($N205,$J:$J,0)),T204,MAX($T$3:$T204)+1))","v":11},""]
[null,null,null,null,null,null,null,null,null,null,null,null,null,{"$f":"IF(P206=\"\",\"\",MAX($N$3:$N205)+1)","v":203},222,"محمد203",null,null,null,{"$f":"IF(N206=\"\",\"\",IF(ISERROR(MATCH($N206,$J:$J,0)),T205,MAX($T$3:$T205)+1))","v":11},""]
[null,null,null,null,null,null,null,null,null,null,null,null,null,{"$f":"IF(P207=\"\",\"\",MAX($N$3:$N206)+1)","v":204},223,"محمد204",null,null,null,{"$f":"IF(N207=\"\",\"\",IF(ISERROR(MATCH($N207,$J:$J,0)),T206,MAX($T$3:$T206)+1))","v":11},""]
[null,null,null,null,null,null,null,null,null,null,null,null,null,{"$f":"IF(P208=\"\",\"\",MAX($N$3:$N207)+1)","v":205},224,"محمد205",null,null,null,{"$f":"IF(N208=\"\",\"\",IF(ISERROR(MATCH($N208,$J:$J,0)),T207,MAX($T$3:$T207)+1))","v":11},""]
[null,null,null,null,null,null,null,null,null,null,null,null,null,{"$f":"IF(P209=\"\",\"\",MAX($N$3:$N208)+1)","v":206},225,"محمد206",null,null,null,{"$f":"IF(N209=\"\",\"\",IF(ISERROR(MATCH($N209,$J:$J,0)),T208,MAX($T$3:$T208)+1))","v":11},""]
[null,null,null,null,null,null,null,null,null,null,null,null,null,{"$f":"IF(P210=\"\",\"\",MAX($N$3:$N209)+1)","v":207},226,"محمد207",null,null,null,{"$f":"IF(N210=\"\",\"\",IF(ISERROR(MATCH($N210,$J:$J,0)),T209,MAX($T$3:$T209)+1))","v":11},""]
[null,null,null,null,null,null,null,null,null,null,null,null,null,{"$f":"IF(P211=\"\",\"\",MAX($N$3:$N210)+1)","v":208},227,"محمد208",null,null,null,{"$f":"IF(N211=\"\",\"\",IF(ISERROR(MATCH($N211,$J:$J,0)),T210,MAX($T$3:$T210)+1))","v":11},""]
[null,null,null,null,null,null,null,null,null,null,null,null,null,{"$f":"IF(P212=\"\",\"\",MAX($N$3:$N211)+1)","v":209},228,"محمد209",null,null,null,{"$f":"IF(N212=\"\",\"\",IF(ISERROR(MATCH($N212,$J:$J,0)),T211,MAX($T$3:$T211)+1))","v":11},""]
[null,null,null,null,null,null,null,null,null,null,null,null,null,{"$f":"IF(P213=\"\",\"\",MAX($N$3:$N212)+1)","v":210},229,"محمد210",null,null,null,{"$f":"IF(N213=\"\",\"\",IF(ISERROR(MATCH($N213,$J:$J,0)),T212,MAX($T$3:$T212)+1))","v":11},""]
[null,null,null,null,null,null,null,null,null,null,null,null,null,{"$f":"IF(P214=\"\",\"\",MAX($N$3:$N213)+1)","v":211},230,"محمد211",null,null,null,{"$f":"IF(N214=\"\",\"\",IF(ISERROR(MATCH($N214,$J:$J,0)),T213,MAX($T$3:$T213)+1))","v":11},""]
[null,null,null,null,null,null,null,null,null,null,null,null,null,{"$f":"IF(P215=\"\",\"\",MAX($N$3:$N214)+1)","v":212},231,"محمد212",null,null,null,{"$f":"IF(N215=\"\",\"\",IF(ISERROR(MATCH($N215,$J:$J,0)),T214,MAX($T$3:$T214)+1))","v":11},""]
[null,null,null,null,null,null,null,null,null,null,null,null,null,{"$f":"IF(P216=\"\",\"\",MAX($N$3:$N215)+1)","v":213},232,"محمد213",null,null,null,{"$f":"IF(N216=\"\",\"\",IF(ISERROR(MATCH($N216,$J:$J,0)),T215,MAX($T$3:$T215)+1))","v":11},""]
[null,null,null,null,null,null,null,null,null,null,null,null,null,{"$f":"IF(P217=\"\",\"\",MAX($N$3:$N216)+1)","v":214},233,"محمد214",null,null,null,{"$f":"IF(N217=\"\",\"\",IF(ISERROR(MATCH($N217,$J:$J,0)),T216,MAX($T$3:$T216)+1))","v":11},""]
[null,null,null,null,null,null,null,null,null,null,null,null,null,{"$f":"IF(P218=\"\",\"\",MAX($N$3:$N217)+1)","v":215},234,"محمد215",null,null,null,{"$f":"IF(N218=\"\",\"\",IF(ISERROR(MATCH($N218,$J:$J,0)),T217,MAX($T$3:$T217)+1))","v":11},""]
[null,null,null,null,null,null,null,null,null,null,null,null,null,{"$f":"IF(P219=\"\",\"\",MAX($N$3:$N218)+1)","v":216},235,"محمد216",null,null,null,{"$f":"IF(N219=\"\",\"\",IF(ISERROR(MATCH($N219,$J:$J,0)),T218,MAX($T$3:$T218)+1))","v":11},""]
[null,null,null,null,null,null,null,null,null,null,null,null,null,{"$f":"IF(P220=\"\",\"\",MAX($N$3:$N219)+1)","v":217},236,"محمد217",null,null,null,{"$f":"IF(N220=\"\",\"\",IF(ISERROR(MATCH($N220,$J:$J,0)),T219,MAX($T$3:$T219)+1))","v":11},""]
[null,null,null,null,null,null,null,null,null,null,null,null,null,{"$f":"IF(P221=\"\",\"\",MAX($N$3:$N220)+1)","v":218},237,"محمد218",null,null,null,{"$f":"IF(N221=\"\",\"\",IF(ISERROR(MATCH($N221,$J:$J,0)),T220,MAX($T$3:$T220)+1))","v":11},""]
[null,null,null,null,null,null,null,null,null,null,null,null,null,{"$f":"IF(P222=\"\",\"\",MAX($N$3:$N221)+1)","v":219},238,"محمد219",null,null,null,{"$f":"IF(N222=\"\",\"\",IF(ISERROR(MATCH($N222,$J:$J,0)),T221,MAX($T$3:$T221)+1))","v":11},""]
[null,null,null,null,null,null,null,null,null,null,null,null,null,{"$f":"IF(P223=\"\",\"\",MAX($N$3:$N222)+1)","v":220},239,"محمد220",null,null,null,{"$f":"IF(N223=\"\",\"\",IF(ISERROR(MATCH($N223,$J:$J,0)),T222,MAX($T$3:$T222)+1))","v":11},"نهاية اللجنة"]
[null,null,null,null,null,null,null,null,null,null,null,null,null,{"$f":"IF(P224=\"\",\"\",MAX($N$3:$N223)+1)","v":221},240,"محمد221",null,null,null,{"$f":"IF(N224=\"\",\"\",IF(ISERROR(MATCH($N224,$J:$J,0)),T223,MAX($T$3:$T223)+1))","v":12},""]
[null,null,null,null,null,null,null,null,null,null,null,null,null,{"$f":"IF(P225=\"\",\"\",MAX($N$3:$N224)+1)","v":222},241,"محمد222",null,null,null,{"$f":"IF(N225=\"\",\"\",IF(ISERROR(MATCH($N225,$J:$J,0)),T224,MAX($T$3:$T224)+1))","v":12},""]
[null,null,null,null,null,null,null,null,null,null,null,null,null,{"$f":"IF(P226=\"\",\"\",MAX($N$3:$N225)+1)","v":223},242,"محمد223",null,null,null,{"$f":"IF(N226=\"\",\"\",IF(ISERROR(MATCH($N226,$J:$J,0)),T225,MAX($T$3:$T225)+1))","v":12},""]
[null,null,null,null,null,null,null,null,null,null,null,null,null,{"$f":"IF(P227=\"\",\"\",MAX($N$3:$N226)+1)","v":224},243,"محمد224",null,null,null,{"$f":"IF(N227=\"\",\"\",IF(ISERROR(MATCH($N227,$J:$J,0)),T226,MAX($T$3:$T226)+1))","v":12},""]
[null,null,null,null,null,null,null,null,null,null,null,null,null,{"$f":"IF(P228=\"\",\"\",MAX($N$3:$N227)+1)","v":225},244,"محمد225",null,null,null,{"$f":"IF(N228=\"\",\"\",IF(ISERROR(MATCH($N228,$J:$J,0)),T227,MAX($T$3:$T227)+1))","v":12},""]
[null,null,null,null,null,null,null,null,null,null,null,null,null,{"$f":"IF(P229=\"\",\"\",MAX($N$3:$N228)+1)","v":226},245,"محمد226",null,null,null,{"$f":"IF(N229=\"\",\"\",IF(ISERROR(MATCH($N229,$J:$J,0)),T228,MAX($T$3:$T228)+1))","v":12},""]
[null,null,null,null,null,null,null,null,null,null,null,null,null,{"$f":"IF(P230=\"\",\"\",MAX($N$3:$N229)+1)","v":227},246,"محمد227",null,null,null,{"$f":"IF(N230=\"\",\"\",IF(ISERROR(MATCH($N230,$J:$J,0)),T229,MAX($T$3:$T229)+1))","v":12},""]
[null,null,null,null,null,null,null,null,null,null,null,null,null,{"$f":"IF(P231=\"\",\"\",MAX($N$3:$N230)+1)","v":228},247,"محمد228",null,null,null,{"$f":"IF(N231=\"\",\"\",IF(ISERROR(MATCH($N231,$J:$J,0)),T230,MAX($T$3:$T230)+1))","v":12},""]
[null,null,null,null,null,null,null,null,null,null,null,null,null,{"$f":"IF(P232=\"\",\"\",MAX($N$3:$N231)+1)","v":229},248,"محمد229",null,null,null,{"$f":"IF(N232=\"\",\"\",IF(ISERROR(MATCH($N232,$J:$J,0)),T231,MAX($T$3:$T231)+1))","v":12},""]
[null,null,null,null,null,null,null,null,null,null,null,null,null,{"$f":"IF(P233=\"\",\"\",MAX($N$3:$N232)+1)","v":230},249,"محمد230",null,null,null,{"$f":"IF(N233=\"\",\"\",IF(ISERROR(MATCH($N233,$J:$J,0)),T232,MAX($T$3:$T232)+1))","v":12},""]
[null,null,null,null,null,null,null,null,null,null,null,null,null,{"$f":"IF(P234=\"\",\"\",MAX($N$3:$N233)+1)","v":231},250,"محمد231",null,null,null,{"$f":"IF(N234=\"\",\"\",IF(ISERROR(MATCH($N234,$J:$J,0)),T233,MAX($T$3:$T233)+1))","v":12},""]
[null,null,null,null,null,null,null,null,null,null,null,null,null,{"$f":"IF(P235=\"\",\"\",MAX($N$3:$N234)+1)","v":232},251,"محمد232",null,null,null,{"$f":"IF(N235=\"\",\"\",IF(ISERROR(MATCH($N235,$J:$J,0)),T234,MAX($T$3:$T234)+1))","v":12},""]
[null,null,null,null,null,null,null,null,null,null,null,null,null,{"$f":"IF(P236=\"\",\"\",MAX($N$3:$N235)+1)","v":233},252,"محمد233",null,null,null,{"$f":"IF(N236=\"\",\"\",IF(ISERROR(MATCH($N236,$J:$J,0)),T235,MAX($T$3:$T235)+1))","v":12},""]
[null,null,null,null,null,null,null,null,null,null,null,null,null,{"$f":"IF(P237=\"\",\"\",MAX($N$3:$N236)+1)","v":234},253,"محمد234",null,null,null,{"$f":"IF(N237=\"\",\"\",IF(ISERROR(MATCH($N237,$J:$J,0)),T236,MAX($T$3:$T236)+1))","v":12},""]
[null,null,null,null,null,null,null,null,null,null,null,null,null,{"$f":"IF(P238=\"\",\"\",MAX($N$3:$N237)+1)","v":235},254,"محمد235",null,null,null,{"$f":"IF(N238=\"\",\"\",IF(ISERROR(MATCH($N238,$J:$J,0)),T237,MAX($T$3:$T237)+1))","v":12},""]
[null,null,null,null,null,null,null,null,null,null,null,null,null,{"$f":"IF(P239=\"\",\"\",MAX($N$3:$N238)+1)","v":236},255,"محمد236",null,null,null,{"$f":"IF(N239=\"\",\"\",IF(ISERROR(MATCH($N239,$J:$J,0)),T238,MAX($T$3:$T238)+1))","v":12},""]
[null,null,null,null,null,null,null,null,null,null,null,null,null,{"$f":"IF(P240=\"\",\"\",MAX($N$3:$N239)+1)","v":237},256,"محمد237",null,null,null,{"$f":"IF(N240=\"\",\"\",IF(ISERROR(MATCH($N240,$J:$J,0)),T239,MAX($T$3:$T239)+1))","v":12},""]
[null,null,null,null,null,null,null,null,null,null,null,null,null,{"$f":"IF(P241=\"\",\"\",MAX($N$3:$N240)+1)","v":238},257,"محمد238",null,null,null,{"$f":"IF(N241=\"\",\"\",IF(ISERROR(MATCH($N241,$J:$J,0)),T240,MAX($T$3:$T240)+1))","v":12},""]
[null,null,null,null,null,null,null,null,null,null,null,null,null,{"$f":"IF(P242=\"\",\"\",MAX($N$3:$N241)+1)","v":239},258,"محمد239",null,null,null,{"$f":"IF(N242=\"\",\"\",IF(ISERROR(MATCH($N242,$J:$J,0)),T241,MAX($T$3:$T241)+1))","v":12},""]
[null,null,null,null,null,null,null,null,null,null,null,null,null,{"$f":"IF(P243=\"\",\"\",MAX($N$3:$N242)+1)","v":240},259,"محمد240",null,null,null,{"$f":"IF(N243=\"\",\"\",IF(ISERROR(MATCH($N243,$J:$J,0)),T242,MAX($T$3:$T242)+1))","v":12},"نهاية اللجنة"]
[null,null,null,null,null,null,null,null,null,null,null,null,null,{"$f":"IF(P244=\"\",\"\",MAX($N$3:$N243)+1)","v":241},260,"محمد241",null,null,null,{"$f":"IF(N244=\"\",\"\",IF(ISERROR(MATCH($N244,$J:$J,0)),T243,MAX($T$3:$T243)+1))","v":13},""]
[null,null,null,null,null,null,null,null,null,null,null,null,null,{"$f":"IF(P245=\"\",\"\",MAX($N$3:$N244)+1)","v":242},261,"محمد242",null,null,null,{"$f":"IF(N245=\"\",\"\",IF(ISERROR(MATCH($N245,$J:$J,0)),T244,MAX($T$3:$T244)+1))","v":13},""]
[null,null,null,null,null,null,null,null,null,null,null,null,null,{"$f":"IF(P246=\"\",\"\",MAX($N$3:$N245)+1)","v":243},262,"محمد243",null,null,null,{"$f":"IF(N246=\"\",\"\",IF(ISERROR(MATCH($N246,$J:$J,0)),T245,MAX($T$3:$T245)+1))","v":13},""]
[null,null,null,null,null,null,null,null,null,null,null,null,null,{"$f":"IF(P247=\"\",\"\",MAX($N$3:$N246)+1)","v":244},263,"محمد244",null,null,null,{"$f":"IF(N247=\"\",\"\",IF(ISERROR(MATCH($N247,$J:$J,0)),T246,MAX($T$3:$T246)+1))","v":13},""]
[null,null,null,null,null,null,null,null,null,null,null,null,null,{"$f":"IF(P248=\"\",\"\",MAX($N$3:$N247)+1)","v":245},264,"محمد245",null,null,null,{"$f":"IF(N248=\"\",\"\",IF(ISERROR(MATCH($N248,$J:$J,0)),T247,MAX($T$3:$T247)+1))","v":13},""]
[null,null,null,null,null,null,null,null,null,null,null,null,null,{"$f":"IF(P249=\"\",\"\",MAX($N$3:$N248)+1)","v":246},265,"محمد246",null,null,null,{"$f":"IF(N249=\"\",\"\",IF(ISERROR(MATCH($N249,$J:$J,0)),T248,MAX($T$3:$T248)+1))","v":13},""]
[null,null,null,null,null,null,null,null,null,null,null,null,null,{"$f":"IF(P250=\"\",\"\",MAX($N$3:$N249)+1)","v":247},266,"محمد247",null,null,null,{"$f":"IF(N250=\"\",\"\",IF(ISERROR(MATCH($N250,$J:$J,0)),T249,MAX($T$3:$T249)+1))","v":13},""]
[null,null,null,null,null,null,null,null,null,null,null,null,null,{"$f":"IF(P251=\"\",\"\",MAX($N$3:$N250)+1)","v":248},267,"محمد248",null,null,null,{"$f":"IF(N251=\"\",\"\",IF(ISERROR(MATCH($N251,$J:$J,0)),T250,MAX($T$3:$T250)+1))","v":13},""]
[null,null,null,null,null,null,null,null,null,null,null,null,null,{"$f":"IF(P252=\"\",\"\",MAX($N$3:$N251)+1)","v":249},268,"محمد249",null,null,null,{"$f":"IF(N252=\"\",\"\",IF(ISERROR(MATCH($N252,$J:$J,0)),T251,MAX($T$3:$T251)+1))","v":13},""]
[null,null,null,null,null,null,null,null,null,null,null,null,null,{"$f":"IF(P253=\"\",\"\",MAX($N$3:$N252)+1)","v":250},269,"محمد250",null,null,null,{"$f":"IF(N253=\"\",\"\",IF(ISERROR(MATCH($N253,$J:$J,0)),T252,MAX($T$3:$T252)+1))","v":13},""]
[null,null,null,null,null,null,null,null,null,null,null,null,null,{"$f":"IF(P254=\"\",\"\",MAX($N$3:$N253)+1)","v":251},270,"محمد251",null,null,null,{"$f":"IF(N254=\"\",\"\",IF(ISERROR(MATCH($N254,$J:$J,0)),T253,MAX($T$3:$T253)+1))","v":13},""]
[null,null,null,null,null,null,null,null,null,null,null,null,null,{"$f":"IF(P255=\"\",\"\",MAX($N$3:$N254)+1)","v":252},271,"محمد252",null,null,null,{"$f":"IF(N255=\"\",\"\",IF(ISERROR(MATCH($N255,$J:$J,0)),T254,MAX($T$3:$T254)+1))","v":13},""]
[null,null,null,null,null,null,null,null,null,null,null,null,null,{"$f":"IF(P256=\"\",\"\",MAX($N$3:$N255)+1)","v":253},272,"محمد253",null,null,null,{"$f":"IF(N256=\"\",\"\",IF(ISERROR(MATCH($N256,$J:$J,0)),T255,MAX($T$3:$T255)+1))","v":13},""]
[null,null,null,null,null,null,null,null,null,null,null,null,null,{"$f":"IF(P257=\"\",\"\",MAX($N$3:$N256)+1)","v":254},273,"محمد254",null,null,null,{"$f":"IF(N257=\"\",\"\",IF(ISERROR(MATCH($N257,$J:$J,0)),T256,MAX($T$3:$T256)+1))","v":13},""]
[null,null,null,null,null,null,null,null,null,null,null,null,null,{"$f":"IF(P258=\"\",\"\",MAX($N$3:$N257)+1)","v":255},274,"محمد255",null,null,null,{"$f":"IF(N258=\"\",\"\",IF(ISERROR(MATCH($N258,$J:$J,0)),T257,MAX($T$3:$T257)+1))","v":13},""]
[null,null,null,null,null,null,null,null,null,null,null,null,null,{"$f":"IF(P259=\"\",\"\",MAX($N$3:$N258)+1)","v":256},275,"محمد256",null,null,null,{"$f":"IF(N259=\"\",\"\",IF(ISERROR(MATCH($N259,$J:$J,0)),T258,MAX($T$3:$T258)+1))","v":13},""]
[null,null,null,null,null,null,null,null,null,null,null,null,null,{"$f":"IF(P260=\"\",\"\",MAX($N$3:$N259)+1)","v":257},276,"محمد257",null,null,null,{"$f":"IF(N260=\"\",\"\",IF(ISERROR(MATCH($N260,$J:$J,0)),T259,MAX($T$3:$T259)+1))","v":13},""]
[null,null,null,null,null,null,null,null,null,null,null,null,null,{"$f":"IF(P261=\"\",\"\",MAX($N$3:$N260)+1)","v":258},277,"محمد258",null,null,null,{"$f":"IF(N261=\"\",\"\",IF(ISERROR(MATCH($N261,$J:$J,0)),T260,MAX($T$3:$T260)+1))","v":13},{"$f":"IF(T261=T262,\"\",\"نهاية اللجنة\")","v":""}]
[null,null,null,null,null,null,null,null,null,null,null,null,null,{"$f":"IF(P262=\"\",\"\",MAX($N$3:$N261)+1)","v":259},{"$f":"IF(O261=\"\",\"\",IF(O261+1>$O$2,\"\",O261+1))","v":278},"محمد259",null,null,null,{"$f":"IF(N262=\"\",\"\",IF(ISERROR(MATCH($N262,$J:$J,0)),T261,MAX($T$3:$T261)+1))","v":13},""]
[null,null,null,null,null,null,null,null,null,null,null,null,null,{"$f":"IF(P263=\"\",\"\",MAX($N$3:$N262)+1)","v":260},279,"محمد260",null,null,null,{"$f":"IF(N263=\"\",\"\",IF(ISERROR(MATCH($N263,$J:$J,0)),T262,MAX($T$3:$T262)+1))","v":13},"نهاية اللجنة"]
[null,null,null,null,null,null,null,null,null,null,null,null,null,{"$f":"IF(P264=\"\",\"\",MAX($N$3:$N263)+1)","v":261},280,"محمد261",null,null,null,{"$f":"IF(N264=\"\",\"\",IF(ISERROR(MATCH($N264,$J:$J,0)),T263,MAX($T$3:$T263)+1))","v":14},""]
[null,null,null,null,null,null,null,null,null,null,null,null,null,{"$f":"IF(P265=\"\",\"\",MAX($N$3:$N264)+1)","v":262},281,"محمد262",null,null,null,{"$f":"IF(N265=\"\",\"\",IF(ISERROR(MATCH($N265,$J:$J,0)),T264,MAX($T$3:$T264)+1))","v":14},""]
[null,null,null,null,null,null,null,null,null,null,null,null,null,{"$f":"IF(P266=\"\",\"\",MAX($N$3:$N265)+1)","v":263},282,"محمد263",null,null,null,{"$f":"IF(N266=\"\",\"\",IF(ISERROR(MATCH($N266,$J:$J,0)),T265,MAX($T$3:$T265)+1))","v":14},""]
[null,null,null,null,null,null,null,null,null,null,null,null,null,{"$f":"IF(P267=\"\",\"\",MAX($N$3:$N266)+1)","v":264},283,"محمد264",null,null,null,{"$f":"IF(N267=\"\",\"\",IF(ISERROR(MATCH($N267,$J:$J,0)),T266,MAX($T$3:$T266)+1))","v":14},""]
[null,null,null,null,null,null,null,null,null,null,null,null,null,{"$f":"IF(P268=\"\",\"\",MAX($N$3:$N267)+1)","v":265},284,"محمد265",null,null,null,{"$f":"IF(N268=\"\",\"\",IF(ISERROR(MATCH($N268,$J:$J,0)),T267,MAX($T$3:$T267)+1))","v":14},""]
[null,null,null,null,null,null,null,null,null,null,null,null,null,{"$f":"IF(P269=\"\",\"\",MAX($N$3:$N268)+1)","v":266},285,"محمد266",null,null,null,{"$f":"IF(N269=\"\",\"\",IF(ISERROR(MATCH($N269,$J:$J,0)),T268,MAX($T$3:$T268)+1))","v":14},""]
[null,null,null,null,null,null,null,null,null,null,null,null,null,{"$f":"IF(P270=\"\",\"\",MAX($N$3:$N269)+1)","v":267},286,"محمد267",null,null,null,{"$f":"IF(N270=\"\",\"\",IF(ISERROR(MATCH($N270,$J:$J,0)),T269,MAX($T$3:$T269)+1))","v":14},""]
[null,null,null,null,null,null,null,null,null,null,null,null,null,{"$f":"IF(P271=\"\",\"\",MAX($N$3:$N270)+1)","v":268},287,"محمد268",null,null,null,{"$f":"IF(N271=\"\",\"\",IF(ISERROR(MATCH($N271,$J:$J,0)),T270,MAX($T$3:$T270)+1))","v":14},""]
[null,null,null,null,null,null,null,null,null,null,null,null,null,{"$f":"IF(P272=\"\",\"\",MAX($N$3:$N271)+1)","v":269},288,"محمد269",null,null,null,{"$f":"IF(N272=\"\",\"\",IF(ISERROR(MATCH($N272,$J:$J,0)),T271,MAX($T$3:$T271)+1))","v":14},""]
[null,null,null,null,null,null,null,null,null,null,null,null,null,{"$f":"IF(P273=\"\",\"\",MAX($N$3:$N272)+1)","v":270},289,"محمد270",null,null,null,{"$f":"IF(N273=\"\",\"\",IF(ISERROR(MATCH($N273,$J:$J,0)),T272,MAX($T$3:$T272)+1))","v":14},""]
[null,null,null,null,null,null,null,null,null,null,null,null,null,{"$f":"IF(P274=\"\",\"\",MAX($N$3:$N273)+1)","v":271},290,"محمد271",null,null,null,{"$f":"IF(N274=\"\",\"\",IF(ISERROR(MATCH($N274,$J:$J,0)),T273,MAX($T$3:$T273)+1))","v":14},""]
[null,null,null,null,null,null,null,null,null,null,null,null,null,{"$f":"IF(P275=\"\",\"\",MAX($N$3:$N274)+1)","v":272},291,"محمد272",null,null,null,{"$f":"IF(N275=\"\",\"\",IF(ISERROR(MATCH($N275,$J:$J,0)),T274,MAX($T$3:$T274)+1))","v":14},""]
[null,null,null,null,null,null,null,null,null,null,null,null,null,{"$f":"IF(P276=\"\",\"\",MAX($N$3:$N275)+1)","v":273},292,"محمد273",null,null,null,{"$f":"IF(N276=\"\",\"\",IF(ISERROR(MATCH($N276,$J:$J,0)),T275,MAX($T$3:$T275)+1))","v":14},""]
[null,null,null,null,null,null,null,null,null,null,null,null,null,{"$f":"IF(P277=\"\",\"\",MAX($N$3:$N276)+1)","v":274},293,"محمد274",null,null,null,{"$f":"IF(N277=\"\",\"\",IF(ISERROR(MATCH($N277,$J:$J,0)),T276,MAX($T$3:$T276)+1))","v":14},""]
[null,null,null,null,null,null,null,null,null,null,null,null,null,{"$f":"IF(P278=\"\",\"\",MAX($N$3:$N277)+1)","v":275},294,"محمد275",null,null,null,{"$f":"IF(N278=\"\",\"\",IF(ISERROR(MATCH($N278,$J:$J,0)),T277,MAX($T$3:$T277)+1))","v":14},""]
[null,null,null,null,null,null,null,null,null,null,null,null,null,{"$f":"IF(P279=\"\",\"\",MAX($N$3:$N278)+1)","v":276},295,"محمد276",null,null,null,{"$f":"IF(N279=\"\",\"\",IF(ISERROR(MATCH($N279,$J:$J,0)),T278,MAX($T$3:$T278)+1))","v":14},""]
[null,null,null,null,null,null,null,null,null,null,null,null,null,{"$f":"IF(P280=\"\",\"\",MAX($N$3:$N279)+1)","v":277},296,"محمد277",null,null,null,{"$f":"IF(N280=\"\",\"\",IF(ISERROR(MATCH($N280,$J:$J,0)),T279,MAX($T$3:$T279)+1))","v":14},""]
[null,null,null,null,null,null,null,null,null,null,null,null,null,{"$f":"IF(P281=\"\",\"\",MAX($N$3:$N280)+1)","v":278},297,"محمد278",null,null,null,{"$f":"IF(N281=\"\",\"\",IF(ISERROR(MATCH($N281,$J:$J,0)),T280,MAX($T$3:$T280)+1))","v":14},""]
[null,null,null,null,null,null,null,null,null,null,null,null,null,{"$f":"IF(P282=\"\",\"\",MAX($N$3:$N281)+1)","v":279},298,"محمد279",null,null,null,{"$f":"IF(N282=\"\",\"\",IF(ISERROR(MATCH($N282,$J:$J,0)),T281,MAX($T$3:$T281)+1))","v":14},""]
[null,null,null,null,null,null,null,null,null,null,null,null,null,{"$f":"IF(P283=\"\",\"\",MAX($N$3:$N282)+1)","v":280},299,"محمد280",null,null,null,{"$f":"IF(N283=\"\",\"\",IF(ISERROR(MATCH($N283,$J:$J,0)),T282,MAX($T$3:$T282)+1))","v":14},"نهاية اللجنة"]
[null,null,null,null,null,null,null,null,null,null,null,null,null,{"$f":"IF(P284=\"\",\"\",MAX($N$3:$N283)+1)","v":281},300,"محمد281",null,null,null,{"$f":"IF(N284=\"\",\"\",IF(ISERROR(MATCH($N284,$J:$J,0)),T283,MAX($T$3:$T283)+1))","v":15},""]
[null,null,null,null,null,null,null,null,null,null,null,null,null,{"$f":"IF(P285=\"\",\"\",MAX($N$3:$N284)+1)","v":282},301,"محمد282",null,null,null,{"$f":"IF(N285=\"\",\"\",IF(ISERROR(MATCH($N285,$J:$J,0)),T284,MAX($T$3:$T284)+1))","v":15},""]
[null,null,null,null,null,null,null,null,null,null,null,null,null,{"$f":"IF(P286=\"\",\"\",MAX($N$3:$N285)+1)","v":283},302,"محمد283",null,null,null,{"$f":"IF(N286=\"\",\"\",IF(ISERROR(MATCH($N286,$J:$J,0)),T285,MAX($T$3:$T285)+1))","v":15},""]
[null,null,null,null,null,null,null,null,null,null,null,null,null,{"$f":"IF(P287=\"\",\"\",MAX($N$3:$N286)+1)","v":284},303,"محمد284",null,null,null,{"$f":"IF(N287=\"\",\"\",IF(ISERROR(MATCH($N287,$J:$J,0)),T286,MAX($T$3:$T286)+1))","v":15},""]
[null,null,null,null,null,null,null,null,null,null,null,null,null,{"$f":"IF(P288=\"\",\"\",MAX($N$3:$N287)+1)","v":285},304,"محمد285",null,null,null,{"$f":"IF(N288=\"\",\"\",IF(ISERROR(MATCH($N288,$J:$J,0)),T287,MAX($T$3:$T287)+1))","v":15},""]
[null,null,null,null,null,null,null,null,null,null,null,null,null,{"$f":"IF(P289=\"\",\"\",MAX($N$3:$N288)+1)","v":286},305,"محمد286",null,null,null,{"$f":"IF(N289=\"\",\"\",IF(ISERROR(MATCH($N289,$J:$J,0)),T288,MAX($T$3:$T288)+1))","v":15},""]
[null,null,null,null,null,null,null,null,null,null,null,null,null,{"$f":"IF(P290=\"\",\"\",MAX($N$3:$N289)+1)","v":287},306,"محمد287",null,null,null,{"$f":"IF(N290=\"\",\"\",IF(ISERROR(MATCH($N290,$J:$J,0)),T289,MAX($T$3:$T289)+1))","v":15},""]
[null,null,null,null,null,null,null,null,null,null,null,null,null,{"$f":"IF(P291=\"\",\"\",MAX($N$3:$N290)+1)","v":288},307,"محمد288",null,null,null,{"$f":"IF(N291=\"\",\"\",IF(ISERROR(MATCH($N291,$J:$J,0)),T290,MAX($T$3:$T290)+1))","v":15},""]
[null,null,null,null,null,null,null,null,null,null,null,null,null,{"$f":"IF(P292=\"\",\"\",MAX($N$3:$N291)+1)","v":289},308,"محمد289",null,null,null,{"$f":"IF(N292=\"\",\"\",IF(ISERROR(MATCH($N292,$J:$J,0)),T291,MAX($T$3:$T291)+1))","v":15},""]
[null,null,null,null,null,null,null,null,null,null,null,null,null,{"$f":"IF(P293=\"\",\"\",MAX($N$3:$N292)+1)","v":290},309,"محمد290",null,null,null,{"$f":"IF(N293=\"\",\"\",IF(ISERROR(MATCH($N293,$J:$J,0)),T292,MAX($T$3:$T292)+1))","v":15},""]
[null,null,null,null,null,null,null,null,null,null,null,null,null,{"$f":"IF(P294=\"\",\"\",MAX($N$3:$N293)+1)","v":291},310,"محمد291",null,null,null,{"$f":"IF(N294=\"\",\"\",IF(ISERROR(MATCH($N294,$J:$J,0)),T293,MAX($T$3:$T293)+1))","v":15},""]
[null,null,null,null,null,null,null,null,null,null,null,null,null,{"$f":"IF(P295=\"\",\"\",MAX($N$3:$N294)+1)","v":292},311,"محمد292",null,null,null,{"$f":"IF(N295=\"\",\"\",IF(ISERROR(MATCH($N295,$J:$J,0)),T294,MAX($T$3:$T294)+1))","v":15},""]
[null,null,null,null,null,null,null,null,null,null,null,null,null,{"$f":"IF(P296=\"\",\"\",MAX($N$3:$N295)+1)","v":293},312,"محمد293",null,null,null,{"$f":"IF(N296=\"\",\"\",IF(ISERROR(MATCH($N296,$J:$J,0)),T295,MAX($T$3:$T295)+1))","v":15},""]
[null,null,null,null,null,null,null,null,null,null,null,null,null,{"$f":"IF(P297=\"\",\"\",MAX($N$3:$N296)+1)","v":294},313,"محمد294",null,null,null,{"$f":"IF(N297=\"\",\"\",IF(ISERROR(MATCH($N297,$J:$J,0)),T296,MAX($T$3:$T296)+1))","v":15},""]
[null,null,null,null,null,null,null,null,null,null,null,null,null,{"$f":"IF(P298=\"\",\"\",MAX($N$3:$N297)+1)","v":295},314,"محمد295",null,null,null,{"$f":"IF(N298=\"\",\"\",IF(ISERROR(MATCH($N298,$J:$J,0)),T297,MAX($T$3:$T297)+1))","v":15},""]
[null,null,null,null,null,null,null,null,null,null,null,null,null,{"$f":"IF(P299=\"\",\"\",MAX($N$3:$N298)+1)","v":296},315,"محمد296",null,null,null,{"$f":"IF(N299=\"\",\"\",IF(ISERROR(MATCH($N299,$J:$J,0)),T298,MAX($T$3:$T298)+1))","v":15},""]
[null,null,null,null,null,null,null,null,null,null,null,null,null,{"$f":"IF(P300=\"\",\"\",MAX($N$3:$N299)+1)","v":297},316,"محمد297",null,null,null,{"$f":"IF(N300=\"\",\"\",IF(ISERROR(MATCH($N300,$J:$J,0)),T299,MAX($T$3:$T299)+1))","v":15},""]
[null,null,null,null,null,null,null,null,null,null,null,null,null,{"$f":"IF(P301=\"\",\"\",MAX($N$3:$N300)+1)","v":298},317,"محمد298",null,null,null,{"$f":"IF(N301=\"\",\"\",IF(ISERROR(MATCH($N301,$J:$J,0)),T300,MAX($T$3:$T300)+1))","v":15},""]
[null,null,null,null,null,null,null,null,null,null,null,null,null,{"$f":"IF(P302=\"\",\"\",MAX($N$3:$N301)+1)","v":299},318,"محمد299",null,null,null,{"$f":"IF(N302=\"\",\"\",IF(ISERROR(MATCH($N302,$J:$J,0)),T301,MAX($T$3:$T301)+1))","v":15},""]
[null,null,null,null,null,null,null,null,null,null,null,null,null,{"$f":"IF(P303=\"\",\"\",MAX($N$3:$N302)+1)","v":300},319,"محمد300",null,null,null,{"$f":"IF(N303=\"\",\"\",IF(ISERROR(MATCH($N303,$J:$J,0)),T302,MAX($T$3:$T302)+1))","v":15},"نهاية اللجنة"]
[null,null,null,null,null,null,null,null,null,null,null,null,null,{"$f":"IF(P304=\"\",\"\",MAX($N$3:$N303)+1)","v":301},320,"محمد301",null,null,null,{"$f":"IF(N304=\"\",\"\",IF(ISERROR(MATCH($N304,$J:$J,0)),T303,MAX($T$3:$T303)+1))","v":16},""]
[null,null,null,null,null,null,null,null,null,null,null,null,null,{"$f":"IF(P305=\"\",\"\",MAX($N$3:$N304)+1)","v":302},321,"محمد302",null,null,null,{"$f":"IF(N305=\"\",\"\",IF(ISERROR(MATCH($N305,$J:$J,0)),T304,MAX($T$3:$T304)+1))","v":16},""]
[null,null,null,null,null,null,null,null,null,null,null,null,null,{"$f":"IF(P306=\"\",\"\",MAX($N$3:$N305)+1)","v":303},322,"محمد303",null,null,null,{"$f":"IF(N306=\"\",\"\",IF(ISERROR(MATCH($N306,$J:$J,0)),T305,MAX($T$3:$T305)+1))","v":16},""]
[null,null,null,null,null,null,null,null,null,null,null,null,null,{"$f":"IF(P307=\"\",\"\",MAX($N$3:$N306)+1)","v":304},323,"محمد304",null,null,null,{"$f":"IF(N307=\"\",\"\",IF(ISERROR(MATCH($N307,$J:$J,0)),T306,MAX($T$3:$T306)+1))","v":16},""]
[null,null,null,null,null,null,null,null,null,null,null,null,null,{"$f":"IF(P308=\"\",\"\",MAX($N$3:$N307)+1)","v":305},324,"محمد305",null,null,null,{"$f":"IF(N308=\"\",\"\",IF(ISERROR(MATCH($N308,$J:$J,0)),T307,MAX($T$3:$T307)+1))","v":16},""]
[null,null,null,null,null,null,null,null,null,null,null,null,null,{"$f":"IF(P309=\"\",\"\",MAX($N$3:$N308)+1)","v":306},325,"محمد306",null,null,null,{"$f":"IF(N309=\"\",\"\",IF(ISERROR(MATCH($N309,$J:$J,0)),T308,MAX($T$3:$T308)+1))","v":16},""]
[null,null,null,null,null,null,null,null,null,null,null,null,null,{"$f":"IF(P310=\"\",\"\",MAX($N$3:$N309)+1)","v":307},326,"محمد307",null,null,null,{"$f":"IF(N310=\"\",\"\",IF(ISERROR(MATCH($N310,$J:$J,0)),T309,MAX($T$3:$T309)+1))","v":16},""]
[null,null,null,null,null,null,null,null,null,null,null,null,null,{"$f":"IF(P311=\"\",\"\",MAX($N$3:$N310)+1)","v":308},327,"محمد308",null,null,null,{"$f":"IF(N311=\"\",\"\",IF(ISERROR(MATCH($N311,$J:$J,0)),T310,MAX($T$3:$T310)+1))","v":16},""]
[null,null,null,null,null,null,null,null,null,null,null,null,null,{"$f":"IF(P312=\"\",\"\",MAX($N$3:$N311)+1)","v":309},328,"محمد309",null,null,null,{"$f":"IF(N312=\"\",\"\",IF(ISERROR(MATCH($N312,$J:$J,0)),T311,MAX($T$3:$T311)+1))","v":16},""]
[null,null,null,null,null,null,null,null,null,null,null,null,null,{"$f":"IF(P313=\"\",\"\",MAX($N$3:$N312)+1)","v":310},329,"محمد310",null,null,null,{"$f":"IF(N313=\"\",\"\",IF(ISERROR(MATCH($N313,$J:$J,0)),T312,MAX($T$3:$T312)+1))","v":16},""]
[null,null,null,null,null,null,null,null,null,null,null,null,null,{"$f":"IF(P314=\"\",\"\",MAX($N$3:$N313)+1)","v":311},330,"محمد311",null,null,null,{"$f":"IF(N314=\"\",\"\",IF(ISERROR(MATCH($N314,$J:$J,0)),T313,MAX($T$3:$T313)+1))","v":16},""]
[null,null,null,null,null,null,null,null,null,null,null,null,null,{"$f":"IF(P315=\"\",\"\",MAX($N$3:$N314)+1)","v":312},331,"محمد312",null,null,null,{"$f":"IF(N315=\"\",\"\",IF(ISERROR(MATCH($N315,$J:$J,0)),T314,MAX($T$3:$T314)+1))","v":16},""]
[null,null,null,null,null,null,null,null,null,null,null,null,null,{"$f":"IF(P316=\"\",\"\",MAX($N$3:$N315)+1)","v":313},332,"محمد313",null,null,null,{"$f":"IF(N316=\"\",\"\",IF(ISERROR(MATCH($N316,$J:$J,0)),T315,MAX($T$3:$T315)+1))","v":16},""]
[null,null,null,null,null,null,null,null,null,null,null,null,null,{"$f":"IF(P317=\"\",\"\",MAX($N$3:$N316)+1)","v":314},333,"محمد314",null,null,null,{"$f":"IF(N317=\"\",\"\",IF(ISERROR(MATCH($N317,$J:$J,0)),T316,MAX($T$3:$T316)+1))","v":16},""]
[null,null,null,null,null,null,null,null,null,null,null,null,null,{"$f":"IF(P318=\"\",\"\",MAX($N$3:$N317)+1)","v":315},334,"محمد315",null,null,null,{"$f":"IF(N318=\"\",\"\",IF(ISERROR(MATCH($N318,$J:$J,0)),T317,MAX($T$3:$T317)+1))","v":16},""]
[null,null,null,null,null,null,null,null,null,null,null,null,null,{"$f":"IF(P319=\"\",\"\",MAX($N$3:$N318)+1)","v":316},335,"محمد316",null,null,null,{"$f":"IF(N319=\"\",\"\",IF(ISERROR(MATCH($N319,$J:$J,0)),T318,MAX($T$3:$T318)+1))","v":16},""]
[null,null,null,null,null,null,null,null,null,null,null,null,null,{"$f":"IF(P320=\"\",\"\",MAX($N$3:$N319)+1)","v":317},336,"محمد317",null,null,null,{"$f":"IF(N320=\"\",\"\",IF(ISERROR(MATCH($N320,$J:$J,0)),T319,MAX($T$3:$T319)+1))","v":16},""]
[null,null,null,null,null,null,null,null,null,null,null,null,null,{"$f":"IF(P321=\"\",\"\",MAX($N$3:$N320)+1)","v":318},337,"محمد318",null,null,null,{"$f":"IF(N321=\"\",\"\",IF(ISERROR(MATCH($N321,$J:$J,0)),T320,MAX($T$3:$T320)+1))","v":16},""]
[null,null,null,null,null,null,null,null,null,null,null,null,null,{"$f":"IF(P322=\"\",\"\",MAX($N$3:$N321)+1)","v":319},338,"محمد319",null,null,null,{"$f":"IF(N322=\"\",\"\",IF(ISERROR(MATCH($N322,$J:$J,0)),T321,MAX($T$3:$T321)+1))","v":16},""]
[null,null,null,null,null,null,null,null,null,null,null,null,null,{"$f":"IF(P323=\"\",\"\",MAX($N$3:$N322)+1)","v":320},339,"محمد320",null,null,null,{"$f":"IF(N323=\"\",\"\",IF(ISERROR(MATCH($N323,$J:$J,0)),T322,MAX($T$3:$T322)+1))","v":16},"نهاية اللجنة"]
[null,null,null,null,null,null,null,null,null,null,null,null,null,{"$f":"IF(P324=\"\",\"\",MAX($N$3:$N323)+1)","v":321},340,"محمد321",null,null,null,{"$f":"IF(N324=\"\",\"\",IF(ISERROR(MATCH($N324,$J:$J,0)),T323,MAX($T$3:$T323)+1))","v":17},""]
[null,null,null,null,null,null,null,null,null,null,null,null,null,{"$f":"IF(P325=\"\",\"\",MAX($N$3:$N324)+1)","v":322},341,"محمد322",null,null,null,{"$f":"IF(N325=\"\",\"\",IF(ISERROR(MATCH($N325,$J:$J,0)),T324,MAX($T$3:$T324)+1))","v":17},{"$f":"IF(T325=T326,\"\",\"نهاية اللجنة\")","v":""}]
[null,null,null,null,null,null,null,null,null,null,null,null,null,{"$f":"IF(P326=\"\",\"\",MAX($N$3:$N325)+1)","v":323},{"$f":"IF(O325=\"\",\"\",IF(O325+1>$O$2,\"\",O325+1))","v":342},"محمد323",null,null,null,{"$f":"IF(N326=\"\",\"\",IF(ISERROR(MATCH($N326,$J:$J,0)),T325,MAX($T$3:$T325)+1))","v":17},""]
[null,null,null,null,null,null,null,null,null,null,null,null,null,{"$f":"IF(P327=\"\",\"\",MAX($N$3:$N326)+1)","v":324},343,"محمد324",null,null,null,{"$f":"IF(N327=\"\",\"\",IF(ISERROR(MATCH($N327,$J:$J,0)),T326,MAX($T$3:$T326)+1))","v":17},""]
[null,null,null,null,null,null,null,null,null,null,null,null,null,{"$f":"IF(P328=\"\",\"\",MAX($N$3:$N327)+1)","v":325},344,"محمد325",null,null,null,{"$f":"IF(N328=\"\",\"\",IF(ISERROR(MATCH($N328,$J:$J,0)),T327,MAX($T$3:$T327)+1))","v":17},""]
[null,null,null,null,null,null,null,null,null,null,null,null,null,{"$f":"IF(P329=\"\",\"\",MAX($N$3:$N328)+1)","v":326},345,"محمد326",null,null,null,{"$f":"IF(N329=\"\",\"\",IF(ISERROR(MATCH($N329,$J:$J,0)),T328,MAX($T$3:$T328)+1))","v":17},""]
[null,null,null,null,null,null,null,null,null,null,null,null,null,{"$f":"IF(P330=\"\",\"\",MAX($N$3:$N329)+1)","v":327},346,"محمد327",null,null,null,{"$f":"IF(N330=\"\",\"\",IF(ISERROR(MATCH($N330,$J:$J,0)),T329,MAX($T$3:$T329)+1))","v":17},""]
[null,null,null,null,null,null,null,null,null,null,null,null,null,{"$f":"IF(P331=\"\",\"\",MAX($N$3:$N330)+1)","v":328},347,"محمد328",null,null,null,{"$f":"IF(N331=\"\",\"\",IF(ISERROR(MATCH($N331,$J:$J,0)),T330,MAX($T$3:$T330)+1))","v":17},""]
[null,null,null,null,null,null,null,null,null,null,null,null,null,{"$f":"IF(P332=\"\",\"\",MAX($N$3:$N331)+1)","v":329},348,"محمد329",null,null,null,{"$f":"IF(N332=\"\",\"\",IF(ISERROR(MATCH($N332,$J:$J,0)),T331,MAX($T$3:$T331)+1))","v":17},""]
[null,null,null,null,null,null,null,null,null,null,null,null,null,{"$f":"IF(P333=\"\",\"\",MAX($N$3:$N332)+1)","v":330},349,"محمد330",null,null,null,{"$f":"IF(N333=\"\",\"\",IF(ISERROR(MATCH($N333,$J:$J,0)),T332,MAX($T$3:$T332)+1))","v":17},""]
[null,null,null,null,null,null,null,null,null,null,null,null,null,{"$f":"IF(P334=\"\",\"\",MAX($N$3:$N333)+1)","v":331},350,"محمد331",null,null,null,{"$f":"IF(N334=\"\",\"\",IF(ISERROR(MATCH($N334,$J:$J,0)),T333,MAX($T$3:$T333)+1))","v":17},""]
[null,null,null,null,null,null,null,null,null,null,null,null,null,{"$f":"IF(P335=\"\",\"\",MAX($N$3:$N334)+1)","v":332},351,"محمد332",null,null,null,{"$f":"IF(N335=\"\",\"\",IF(ISERROR(MATCH($N335,$J:$J,0)),T334,MAX($T$3:$T334)+1))","v":17},""]
[null,null,null,null,null,null,null,null,null,null,null,null,null,{"$f":"IF(P336=\"\",\"\",MAX($N$3:$N335)+1)","v":333},352,"محمد333",null,null,null,{"$f":"IF(N336=\"\",\"\",IF(ISERROR(MATCH($N336,$J:$J,0)),T335,MAX($T$3:$T335)+1))","v":17},""]
[null,null,null,null,null,null,null,null,null,null,null,null,null,{"$f":"IF(P337=\"\",\"\",MAX($N$3:$N336)+1)","v":334},353,"محمد334",null,null,null,{"$f":"IF(N337=\"\",\"\",IF(ISERROR(MATCH($N337,$J:$J,0)),T336,MAX($T$3:$T336)+1))","v":17},""]
[null,null,null,null,null,null,null,null,null,null,null,null,null,{"$f":"IF(P338=\"\",\"\",MAX($N$3:$N337)+1)","v":335},354,"محمد335",null,null,null,{"$f":"IF(N338=\"\",\"\",IF(ISERROR(MATCH($N338,$J:$J,0)),T337,MAX($T$3:$T337)+1))","v":17},""]
[null,null,null,null,null,null,null,null,null,null,null,null,null,{"$f":"IF(P339=\"\",\"\",MAX($N$3:$N338)+1)","v":336},355,"محمد336",null,null,null,{"$f":"IF(N339=\"\",\"\",IF(ISERROR(MATCH($N339,$J:$J,0)),T338,MAX($T$3:$T338)+1))","v":17},""]
[null,null,null,null,null,null,null,null,null,null,null,null,null,{"$f":"IF(P340=\"\",\"\",MAX($N$3:$N339)+1)","v":337},356,"محمد337",null,null,null,{"$f":"IF(N340=\"\",\"\",IF(ISERROR(MATCH($N340,$J:$J,0)),T339,MAX($T$3:$T339)+1))","v":17},""]
[null,null,null,null,null,null,null,null,null,null,null,null,null,{"$f":"IF(P341=\"\",\"\",MAX($N$3:$N340)+1)","v":338},357,"محمد338",null,null,null,{"$f":"IF(N341=\"\",\"\",IF(ISERROR(MATCH($N341,$J:$J,0)),T340,MAX($T$3:$T340)+1))","v":17},""]
[null,null,null,null,null,null,null,null,null,null,null,null,null,{"$f":"IF(P342=\"\",\"\",MAX($N$3:$N341)+1)","v":339},358,"محمد339",null,null,null,{"$f":"IF(N342=\"\",\"\",IF(ISERROR(MATCH($N342,$J:$J,0)),T341,MAX($T$3:$T341)+1))","v":17},""]
[null,null,null,null,null,null,null,null,null,null,null,null,null,{"$f":"IF(P343=\"\",\"\",MAX($N$3:$N342)+1)","v":340},359,"محمد340",null,null,null,{"$f":"IF(N343=\"\",\"\",IF(ISERROR(MATCH($N343,$J:$J,0)),T342,MAX($T$3:$T342)+1))","v":17},"نهاية اللجنة"]
[null,null,null,null,null,null,null,null,null,null,null,null,null,{"$f":"IF(P344=\"\",\"\",MAX($N$3:$N343)+1)","v":341},360,"محمد341",null,null,null,{"$f":"IF(N344=\"\",\"\",IF(ISERROR(MATCH($N344,$J:$J,0)),T343,MAX($T$3:$T343)+1))","v":18},""]
[null,null,null,null,null,null,null,null,null,null,null,null,null,{"$f":"IF(P345=\"\",\"\",MAX($N$3:$N344)+1)","v":342},361,"محمد342",null,null,null,{"$f":"IF(N345=\"\",\"\",IF(ISERROR(MATCH($N345,$J:$J,0)),T344,MAX($T$3:$T344)+1))","v":18},""]
[null,null,null,null,null,null,null,null,null,null,null,null,null,{"$f":"IF(P346=\"\",\"\",MAX($N$3:$N345)+1)","v":343},362,"محمد343",null,null,null,{"$f":"IF(N346=\"\",\"\",IF(ISERROR(MATCH($N346,$J:$J,0)),T345,MAX($T$3:$T345)+1))","v":18},""]
[null,null,null,null,null,null,null,null,null,null,null,null,null,{"$f":"IF(P347=\"\",\"\",MAX($N$3:$N346)+1)","v":344},363,"محمد344",null,null,null,{"$f":"IF(N347=\"\",\"\",IF(ISERROR(MATCH($N347,$J:$J,0)),T346,MAX($T$3:$T346)+1))","v":18},""]
[null,null,null,null,null,null,null,null,null,null,null,null,null,{"$f":"IF(P348=\"\",\"\",MAX($N$3:$N347)+1)","v":345},364,"محمد345",null,null,null,{"$f":"IF(N348=\"\",\"\",IF(ISERROR(MATCH($N348,$J:$J,0)),T347,MAX($T$3:$T347)+1))","v":18},""]
[null,null,null,null,null,null,null,null,null,null,null,null,null,{"$f":"IF(P349=\"\",\"\",MAX($N$3:$N348)+1)","v":346},365,"محمد346",null,null,null,{"$f":"IF(N349=\"\",\"\",IF(ISERROR(MATCH($N349,$J:$J,0)),T348,MAX($T$3:$T348)+1))","v":18},""]
[null,null,null,null,null,null,null,null,null,null,null,null,null,{"$f":"IF(P350=\"\",\"\",MAX($N$3:$N349)+1)","v":347},366,"محمد347",null,null,null,{"$f":"IF(N350=\"\",\"\",IF(ISERROR(MATCH($N350,$J:$J,0)),T349,MAX($T$3:$T349)+1))","v":18},""]
[null,null,null,null,null,null,null,null,null,null,null,null,null,{"$f":"IF(P351=\"\",\"\",MAX($N$3:$N350)+1)","v":348},367,"محمد348",null,null,null,{"$f":"IF(N351=\"\",\"\",IF(ISERROR(MATCH($N351,$J:$J,0)),T350,MAX($T$3:$T350)+1))","v":18},""]
[null,null,null,null,null,null,null,null,null,null,null,null,null,{"$f":"IF(P352=\"\",\"\",MAX($N$3:$N351)+1)","v":349},368,"محمد349",null,null,null,{"$f":"IF(N352=\"\",\"\",IF(ISERROR(MATCH($N352,$J:$J,0)),T351,MAX($T$3:$T351)+1))","v":18},""]
[null,null,null,null,null,null,null,null,null,null,null,null,null,{"$f":"IF(P353=\"\",\"\",MAX($N$3:$N352)+1)","v":350},369,"محمد350",null,null,null,{"$f":"IF(N353=\"\",\"\",IF(ISERROR(MATCH($N353,$J:$J,0)),T352,MAX($T$3:$T352)+1))","v":18},""]
[null,null,null,null,null,null,null,null,null,null,null,null,null,{"$f":"IF(P354=\"\",\"\",MAX($N$3:$N353)+1)","v":351},370,"محمد351",null,null,null,{"$f":"IF(N354=\"\",\"\",IF(ISERROR(MATCH($N354,$J:$J,0)),T353,MAX($T$3:$T353)+1))","v":18},""]
[null,null,null,null,null,null,null,null,null,null,null,null,null,{"$f":"IF(P355=\"\",\"\",MAX($N$3:$N354)+1)","v":352},371,"محمد352",null,null,null,{"$f":"IF(N355=\"\",\"\",IF(ISERROR(MATCH($N355,$J:$J,0)),T354,MAX($T$3:$T354)+1))","v":18},""]
[null,null,null,null,null,null,null,null,null,null,null,null,null,{"$f":"IF(P356=\"\",\"\",MAX($N$3:$N355)+1)","v":353},372,"محمد353",null,null,null,{"$f":"IF(N356=\"\",\"\",IF(ISERROR(MATCH($N356,$J:$J,0)),T355,MAX($T$3:$T355)+1))","v":18},""]
[null,null,null,null,null,null,null,null,null,null,null,null,null,{"$f":"IF(P357=\"\",\"\",MAX($N$3:$N356)+1)","v":354},373,"محمد354",null,null,null,{"$f":"IF(N357=\"\",\"\",IF(ISERROR(MATCH($N357,$J:$J,0)),T356,MAX($T$3:$T356)+1))","v":18},""]
[null,null,null,null,null,null,null,null,null,null,null,null,null,{"$f":"IF(P358=\"\",\"\",MAX($N$3:$N357)+1)","v":355},374,"محمد355",null,null,null,{"$f":"IF(N358=\"\",\"\",IF(ISERROR(MATCH($N358,$J:$J,0)),T357,MAX($T$3:$T357)+1))","v":18},""]
[null,null,null,null,null,null,null,null,null,null,null,null,null,{"$f":"IF(P359=\"\",\"\",MAX($N$3:$N358)+1)","v":356},375,"محمد356",null,null,null,{"$f":"IF(N359=\"\",\"\",IF(ISERROR(MATCH($N359,$J:$J,0)),T358,MAX($T$3:$T358)+1))","v":18},""]
[null,null,null,null,null,null,null,null,null,null,null,null,null,{"$f":"IF(P360=\"\",\"\",MAX($N$3:$N359)+1)","v":357},376,"محمد357",null,null,null,{"$f":"IF(N360=\"\",\"\",IF(ISERROR(MATCH($N360,$J:$J,0)),T359,MAX($T$3:$T359)+1))","v":18},""]
[null,null,null,null,null,null,null,null,null,null,null,null,null,{"$f":"IF(P361=\"\",\"\",MAX($N$3:$N360)+1)","v":358},377,"محمد358",null,null,null,{"$f":"IF(N361=\"\",\"\",IF(ISERROR(MATCH($N361,$J:$J,0)),T360,MAX($T$3:$T360)+1))","v":18},""]
[null,null,null,null,null,null,null,null,null,null,null,null,null,{"$f":"IF(P362=\"\",\"\",MAX($N$3:$N361)+1)","v":359},378,"محمد359",null,null,null,{"$f":"IF(N362=\"\",\"\",IF(ISERROR(MATCH($N362,$J:$J,0)),T361,MAX($T$3:$T361)+1))","v":18},""]
[null,null,null,null,null,null,null,null,null,null,null,null,null,{"$f":"IF(P363=\"\",\"\",MAX($N$3:$N362)+1)","v":360},379,"محمد360",null,null,null,{"$f":"IF(N363=\"\",\"\",IF(ISERROR(MATCH($N363,$J:$J,0)),T362,MAX($T$3:$T362)+1))","v":18},"نهاية اللجنة"]
[null,null,null,null,null,null,null,null,null,null,null,null,null,{"$f":"IF(P364=\"\",\"\",MAX($N$3:$N363)+1)","v":361},380,"محمد361",null,null,null,{"$f":"IF(N364=\"\",\"\",IF(ISERROR(MATCH($N364,$J:$J,0)),T363,MAX($T$3:$T363)+1))","v":19},""]
[null,null,null,null,null,null,null,null,null,null,null,null,null,{"$f":"IF(P365=\"\",\"\",MAX($N$3:$N364)+1)","v":362},381,"محمد362",null,null,null,{"$f":"IF(N365=\"\",\"\",IF(ISERROR(MATCH($N365,$J:$J,0)),T364,MAX($T$3:$T364)+1))","v":19},""]
[null,null,null,null,null,null,null,null,null,null,null,null,null,{"$f":"IF(P366=\"\",\"\",MAX($N$3:$N365)+1)","v":363},382,"محمد363",null,null,null,{"$f":"IF(N366=\"\",\"\",IF(ISERROR(MATCH($N366,$J:$J,0)),T365,MAX($T$3:$T365)+1))","v":19},""]
[null,null,null,null,null,null,null,null,null,null,null,null,null,{"$f":"IF(P367=\"\",\"\",MAX($N$3:$N366)+1)","v":364},383,"محمد364",null,null,null,{"$f":"IF(N367=\"\",\"\",IF(ISERROR(MATCH($N367,$J:$J,0)),T366,MAX($T$3:$T366)+1))","v":19},""]
[null,null,null,null,null,null,null,null,null,null,null,null,null,{"$f":"IF(P368=\"\",\"\",MAX($N$3:$N367)+1)","v":365},384,"محمد365",null,null,null,{"$f":"IF(N368=\"\",\"\",IF(ISERROR(MATCH($N368,$J:$J,0)),T367,MAX($T$3:$T367)+1))","v":19},""]
[null,null,null,null,null,null,null,null,null,null,null,null,null,{"$f":"IF(P369=\"\",\"\",MAX($N$3:$N368)+1)","v":366},385,"محمد366",null,null,null,{"$f":"IF(N369=\"\",\"\",IF(ISERROR(MATCH($N369,$J:$J,0)),T368,MAX($T$3:$T368)+1))","v":19},""]
[null,null,null,null,null,null,null,null,null,null,null,null,null,{"$f":"IF(P370=\"\",\"\",MAX($N$3:$N369)+1)","v":367},386,"محمد367",null,null,null,{"$f":"IF(N370=\"\",\"\",IF(ISERROR(MATCH($N370,$J:$J,0)),T369,MAX($T$3:$T369)+1))","v":19},""]
[null,null,null,null,null,null,null,null,null,null,null,null,null,{"$f":"IF(P371=\"\",\"\",MAX($N$3:$N370)+1)","v":368},387,"محمد368",null,null,null,{"$f":"IF(N371=\"\",\"\",IF(ISERROR(MATCH($N371,$J:$J,0)),T370,MAX($T$3:$T370)+1))","v":19},""]
[null,null,null,null,null,null,null,null,null,null,null,null,null,{"$f":"IF(P372=\"\",\"\",MAX($N$3:$N371)+1)","v":369},388,"محمد369",null,null,null,{"$f":"IF(N372=\"\",\"\",IF(ISERROR(MATCH($N372,$J:$J,0)),T371,MAX($T$3:$T371)+1))","v":19},""]
[null,null,null,null,null,null,null,null,null,null,null,null,null,{"$f":"IF(P373=\"\",\"\",MAX($N$3:$N372)+1)","v":370},389,"محمد370",null,null,null,{"$f":"IF(N373=\"\",\"\",IF(ISERROR(MATCH($N373,$J:$J,0)),T372,MAX($T$3:$T372)+1))","v":19},""]
[null,null,null,null,null,null,null,null,null,null,null,null,null,{"$f":"IF(P374=\"\",\"\",MAX($N$3:$N373)+1)","v":371},390,"محمد371",null,null,null,{"$f":"IF(N374=\"\",\"\",IF(ISERROR(MATCH($N374,$J:$J,0)),T373,MAX($T$3:$T373)+1))","v":19},""]
[null,null,null,null,null,null,null,null,null,null,null,null,null,{"$f":"IF(P375=\"\",\"\",MAX($N$3:$N374)+1)","v":372},391,"محمد372",null,null,null,{"$f":"IF(N375=\"\",\"\",IF(ISERROR(MATCH($N375,$J:$J,0)),T374,MAX($T$3:$T374)+1))","v":19},""]
[null,null,null,null,null,null,null,null,null,null,null,null,null,{"$f":"IF(P376=\"\",\"\",MAX($N$3:$N375)+1)","v":373},392,"محمد373",null,null,null,{"$f":"IF(N376=\"\",\"\",IF(ISERROR(MATCH($N376,$J:$J,0)),T375,MAX($T$3:$T375)+1))","v":19},""]
[null,null,null,null,null,null,null,null,null,null,null,null,null,{"$f":"IF(P377=\"\",\"\",MAX($N$3:$N376)+1)","v":374},393,"محمد374",null,null,null,{"$f":"IF(N377=\"\",\"\",IF(ISERROR(MATCH($N377,$J:$J,0)),T376,MAX($T$3:$T376)+1))","v":19},""]
[null,null,null,null,null,null,null,null,null,null,null,null,null,{"$f":"IF(P378=\"\",\"\",MAX($N$3:$N377)+1)","v":375},394,"محمد375",null,null,null,{"$f":"IF(N378=\"\",\"\",IF(ISERROR(MATCH($N378,$J:$J,0)),T377,MAX($T$3:$T377)+1))","v":19},""]
[null,null,null,null,null,null,null,null,null,null,null,null,null,{"$f":"IF(P379=\"\",\"\",MAX($N$3:$N378)+1)","v":376},395,"محمد376",null,null,null,{"$f":"IF(N379=\"\",\"\",IF(ISERROR(MATCH($N379,$J:$J,0)),T378,MAX($T$3:$T378)+1))","v":19},""]
[null,null,null,null,null,null,null,null,null,null,null,null,null,{"$f":"IF(P380=\"\",\"\",MAX($N$3:$N379)+1)","v":377},396,"محمد377",null,null,null,{"$f":"IF(N380=\"\",\"\",IF(ISERROR(MATCH($N380,$J:$J,0)),T379,MAX($T$3:$T379)+1))","v":19},""]
[null,null,null,null,null,null,null,null,null,null,null,null,null,{"$f":"IF(P381=\"\",\"\",MAX($N$3:$N380)+1)","v":378},397,"محمد378",null,null,null,{"$f":"IF(N381=\"\",\"\",IF(ISERROR(MATCH($N381,$J:$J,0)),T380,MAX($T$3:$T380)+1))","v":19},""]
[null,null,null,null,null,null,null,null,null,null,null,null,null,{"$f":"IF(P382=\"\",\"\",MAX($N$3:$N381)+1)","v":379},398,"محمد379",null,null,null,{"$f":"IF(N382=\"\",\"\",IF(ISERROR(MATCH($N382,$J:$J,0)),T381,MAX($T$3:$T381)+1))","v":19},""]
[null,null,null,null,null,null,null,null,null,null,null,null,null,{"$f":"IF(P383=\"\",\"\",MAX($N$3:$N382)+1)","v":380},399,"محمد380",null,null,null,{"$f":"IF(N383=\"\",\"\",IF(ISERROR(MATCH($N383,$J:$J,0)),T382,MAX($T$3:$T382)+1))","v":19},"نهاية اللجنة"]
[null,null,null,null,null,null,null,null,null,null,null,null,null,{"$f":"IF(P384=\"\",\"\",MAX($N$3:$N383)+1)","v":381},400,"محمد381",null,null,null,{"$f":"IF(N384=\"\",\"\",IF(ISERROR(MATCH($N384,$J:$J,0)),T383,MAX($T$3:$T383)+1))","v":20},""]
[null,null,null,null,null,null,null,null,null,null,null,null,null,{"$f":"IF(P385=\"\",\"\",MAX($N$3:$N384)+1)","v":382},401,"محمد382",null,null,null,{"$f":"IF(N385=\"\",\"\",IF(ISERROR(MATCH($N385,$J:$J,0)),T384,MAX($T$3:$T384)+1))","v":20},""]
[null,null,null,null,null,null,null,null,null,null,null,null,null,{"$f":"IF(P386=\"\",\"\",MAX($N$3:$N385)+1)","v":383},402,"محمد383",null,null,null,{"$f":"IF(N386=\"\",\"\",IF(ISERROR(MATCH($N386,$J:$J,0)),T385,MAX($T$3:$T385)+1))","v":20},""]
[null,null,null,null,null,null,null,null,null,null,null,null,null,{"$f":"IF(P387=\"\",\"\",MAX($N$3:$N386)+1)","v":384},403,"محمد384",null,null,null,{"$f":"IF(N387=\"\",\"\",IF(ISERROR(MATCH($N387,$J:$J,0)),T386,MAX($T$3:$T386)+1))","v":20},""]
[null,null,null,null,null,null,null,null,null,null,null,null,null,{"$f":"IF(P388=\"\",\"\",MAX($N$3:$N387)+1)","v":385},404,"محمد385",null,null,null,{"$f":"IF(N388=\"\",\"\",IF(ISERROR(MATCH($N388,$J:$J,0)),T387,MAX($T$3:$T387)+1))","v":20},""]
[null,null,null,null,null,null,null,null,null,null,null,null,null,{"$f":"IF(P389=\"\",\"\",MAX($N$3:$N388)+1)","v":386},405,"محمد386",null,null,null,{"$f":"IF(N389=\"\",\"\",IF(ISERROR(MATCH($N389,$J:$J,0)),T388,MAX($T$3:$T388)+1))","v":20},{"$f":"IF(T389=T390,\"\",\"نهاية اللجنة\")","v":""}]
[null,null,null,null,null,null,null,null,null,null,null,null,null,{"$f":"IF(P390=\"\",\"\",MAX($N$3:$N389)+1)","v":387},{"$f":"IF(O389=\"\",\"\",IF(O389+1>$O$2,\"\",O389+1))","v":406},"محمد387",null,null,null,{"$f":"IF(N390=\"\",\"\",IF(ISERROR(MATCH($N390,$J:$J,0)),T389,MAX($T$3:$T389)+1))","v":20},""]
[null,null,null,null,null,null,null,null,null,null,null,null,null,{"$f":"IF(P391=\"\",\"\",MAX($N$3:$N390)+1)","v":388},407,"محمد388",null,null,null,{"$f":"IF(N391=\"\",\"\",IF(ISERROR(MATCH($N391,$J:$J,0)),T390,MAX($T$3:$T390)+1))","v":20},""]
[null,null,null,null,null,null,null,null,null,null,null,null,null,{"$f":"IF(P392=\"\",\"\",MAX($N$3:$N391)+1)","v":389},408,"محمد389",null,null,null,{"$f":"IF(N392=\"\",\"\",IF(ISERROR(MATCH($N392,$J:$J,0)),T391,MAX($T$3:$T391)+1))","v":20},""]
[null,null,null,null,null,null,null,null,null,null,null,null,null,{"$f":"IF(P393=\"\",\"\",MAX($N$3:$N392)+1)","v":390},409,"محمد390",null,null,null,{"$f":"IF(N393=\"\",\"\",IF(ISERROR(MATCH($N393,$J:$J,0)),T392,MAX($T$3:$T392)+1))","v":20},""]
[null,null,null,null,null,null,null,null,null,null,null,null,null,{"$f":"IF(P394=\"\",\"\",MAX($N$3:$N393)+1)","v":391},410,"محمد391",null,null,null,{"$f":"IF(N394=\"\",\"\",IF(ISERROR(MATCH($N394,$J:$J,0)),T393,MAX($T$3:$T393)+1))","v":20},""]
[null,null,null,null,null,null,null,null,null,null,null,null,null,{"$f":"IF(P395=\"\",\"\",MAX($N$3:$N394)+1)","v":392},411,"محمد392",null,null,null,{"$f":"IF(N395=\"\",\"\",IF(ISERROR(MATCH($N395,$J:$J,0)),T394,MAX($T$3:$T394)+1))","v":20},""]
[null,null,null,null,null,null,null,null,null,null,null,null,null,{"$f":"IF(P396=\"\",\"\",MAX($N$3:$N395)+1)","v":393},412,"محمد393",null,null,null,{"$f":"IF(N396=\"\",\"\",IF(ISERROR(MATCH($N396,$J:$J,0)),T395,MAX($T$3:$T395)+1))","v":20},""]
[null,null,null,null,null,null,null,null,null,null,null,null,null,{"$f":"IF(P397=\"\",\"\",MAX($N$3:$N396)+1)","v":394},413,"محمد394",null,null,null,{"$f":"IF(N397=\"\",\"\",IF(ISERROR(MATCH($N397,$J:$J,0)),T396,MAX($T$3:$T396)+1))","v":20},""]
[null,null,null,null,null,null,null,null,null,null,null,null,null,{"$f":"IF(P398=\"\",\"\",MAX($N$3:$N397)+1)","v":395},414,"محمد395",null,null,null,{"$f":"IF(N398=\"\",\"\",IF(ISERROR(MATCH($N398,$J:$J,0)),T397,MAX($T$3:$T397)+1))","v":20},""]
[null,null,null,null,null,null,null,null,null,null,null,null,null,{"$f":"IF(P399=\"\",\"\",MAX($N$3:$N398)+1)","v":396},415,"محمد396",null,null,null,{"$f":"IF(N399=\"\",\"\",IF(ISERROR(MATCH($N399,$J:$J,0)),T398,MAX($T$3:$T398)+1))","v":20},""]
[null,null,null,null,null,null,null,null,null,null,null,null,null,{"$f":"IF(P400=\"\",\"\",MAX($N$3:$N399)+1)","v":397},416,"محمد397",null,null,null,{"$f":"IF(N400=\"\",\"\",IF(ISERROR(MATCH($N400,$J:$J,0)),T399,MAX($T$3:$T399)+1))","v":20},""]
[null,null,null,null,null,null,null,null,null,null,null,null,null,{"$f":"IF(P401=\"\",\"\",MAX($N$3:$N400)+1)","v":398},417,"محمد398",null,null,null,{"$f":"IF(N401=\"\",\"\",IF(ISERROR(MATCH($N401,$J:$J,0)),T400,MAX($T$3:$T400)+1))","v":20},""]
[null,null,null,null,null,null,null,null,null,null,null,null,null,{"$f":"IF(P402=\"\",\"\",MAX($N$3:$N401)+1)","v":399},418,"محمد399",null,null,null,{"$f":"IF(N402=\"\",\"\",IF(ISERROR(MATCH($N402,$J:$J,0)),T401,MAX($T$3:$T401)+1))","v":20},""]
[null,null,null,null,null,null,null,null,null,null,null,null,null,{"$f":"IF(P403=\"\",\"\",MAX($N$3:$N402)+1)","v":400},419,"محمد400",null,null,null,{"$f":"IF(N403=\"\",\"\",IF(ISERROR(MATCH($N403,$J:$J,0)),T402,MAX($T$3:$T402)+1))","v":20},"نهاية اللجنة"]
[null,null,null,null,null,null,null,null,null,null,null,null,null,{"$f":"IF(P404=\"\",\"\",MAX($N$3:$N403)+1)","v":401},420,"محمد401",null,null,null,{"$f":"IF(N404=\"\",\"\",IF(ISERROR(MATCH($N404,$J:$J,0)),T403,MAX($T$3:$T403)+1))","v":21},""]
[null,null,null,null,null,null,null,null,null,null,null,null,null,{"$f":"IF(P405=\"\",\"\",MAX($N$3:$N404)+1)","v":402},421,"محمد402",null,null,null,{"$f":"IF(N405=\"\",\"\",IF(ISERROR(MATCH($N405,$J:$J,0)),T404,MAX($T$3:$T404)+1))","v":21},""]
[null,null,null,null,null,null,null,null,null,null,null,null,null,{"$f":"IF(P406=\"\",\"\",MAX($N$3:$N405)+1)","v":403},422,"محمد403",null,null,null,{"$f":"IF(N406=\"\",\"\",IF(ISERROR(MATCH($N406,$J:$J,0)),T405,MAX($T$3:$T405)+1))","v":21},""]
[null,null,null,null,null,null,null,null,null,null,null,null,null,{"$f":"IF(P407=\"\",\"\",MAX($N$3:$N406)+1)","v":404},423,"محمد404",null,null,null,{"$f":"IF(N407=\"\",\"\",IF(ISERROR(MATCH($N407,$J:$J,0)),T406,MAX($T$3:$T406)+1))","v":21},""]
[null,null,null,null,null,null,null,null,null,null,null,null,null,{"$f":"IF(P408=\"\",\"\",MAX($N$3:$N407)+1)","v":405},424,"محمد405",null,null,null,{"$f":"IF(N408=\"\",\"\",IF(ISERROR(MATCH($N408,$J:$J,0)),T407,MAX($T$3:$T407)+1))","v":21},""]
[null,null,null,null,null,null,null,null,null,null,null,null,null,{"$f":"IF(P409=\"\",\"\",MAX($N$3:$N408)+1)","v":406},425,"محمد406",null,null,null,{"$f":"IF(N409=\"\",\"\",IF(ISERROR(MATCH($N409,$J:$J,0)),T408,MAX($T$3:$T408)+1))","v":21},""]
[null,null,null,null,null,null,null,null,null,null,null,null,null,{"$f":"IF(P410=\"\",\"\",MAX($N$3:$N409)+1)","v":407},426,"محمد407",null,null,null,{"$f":"IF(N410=\"\",\"\",IF(ISERROR(MATCH($N410,$J:$J,0)),T409,MAX($T$3:$T409)+1))","v":21},""]
[null,null,null,null,null,null,null,null,null,null,null,null,null,{"$f":"IF(P411=\"\",\"\",MAX($N$3:$N410)+1)","v":408},427,"محمد408",null,null,null,{"$f":"IF(N411=\"\",\"\",IF(ISERROR(MATCH($N411,$J:$J,0)),T410,MAX($T$3:$T410)+1))","v":21},""]
[null,null,null,null,null,null,null,null,null,null,null,null,null,{"$f":"IF(P412=\"\",\"\",MAX($N$3:$N411)+1)","v":409},428,"محمد409",null,null,null,{"$f":"IF(N412=\"\",\"\",IF(ISERROR(MATCH($N412,$J:$J,0)),T411,MAX($T$3:$T411)+1))","v":21},""]
[null,null,null,null,null,null,null,null,null,null,null,null,null,{"$f":"IF(P413=\"\",\"\",MAX($N$3:$N412)+1)","v":410},429,"محمد410",null,null,null,{"$f":"IF(N413=\"\",\"\",IF(ISERROR(MATCH($N413,$J:$J,0)),T412,MAX($T$3:$T412)+1))","v":21},""]
[null,null,null,null,null,null,null,null,null,null,null,null,null,{"$f":"IF(P414=\"\",\"\",MAX($N$3:$N413)+1)","v":411},430,"محمد411",null,null,null,{"$f":"IF(N414=\"\",\"\",IF(ISERROR(MATCH($N414,$J:$J,0)),T413,MAX($T$3:$T413)+1))","v":21},""]
[null,null,null,null,null,null,null,null,null,null,null,null,null,{"$f":"IF(P415=\"\",\"\",MAX($N$3:$N414)+1)","v":412},431,"محمد412",null,null,null,{"$f":"IF(N415=\"\",\"\",IF(ISERROR(MATCH($N415,$J:$J,0)),T414,MAX($T$3:$T414)+1))","v":21},""]
[null,null,null,null,null,null,null,null,null,null,null,null,null,{"$f":"IF(P416=\"\",\"\",MAX($N$3:$N415)+1)","v":413},432,"محمد413",null,null,null,{"$f":"IF(N416=\"\",\"\",IF(ISERROR(MATCH($N416,$J:$J,0)),T415,MAX($T$3:$T415)+1))","v":21},""]
[null,null,null,null,null,null,null,null,null,null,null,null,null,{"$f":"IF(P417=\"\",\"\",MAX($N$3:$N416)+1)","v":414},433,"محمد414",null,null,null,{"$f":"IF(N417=\"\",\"\",IF(ISERROR(MATCH($N417,$J:$J,0)),T416,MAX($T$3:$T416)+1))","v":21},""]
[null,null,null,null,null,null,null,null,null,null,null,null,null,{"$f":"IF(P418=\"\",\"\",MAX($N$3:$N417)+1)","v":415},434,"محمد415",null,null,null,{"$f":"IF(N418=\"\",\"\",IF(ISERROR(MATCH($N418,$J:$J,0)),T417,MAX($T$3:$T417)+1))","v":21},""]
[null,null,null,null,null,null,null,null,null,null,null,null,null,{"$f":"IF(P419=\"\",\"\",MAX($N$3:$N418)+1)","v":416},435,"محمد416",null,null,null,{"$f":"IF(N419=\"\",\"\",IF(ISERROR(MATCH($N419,$J:$J,0)),T418,MAX($T$3:$T418)+1))","v":21},""]
[null,null,null,null,null,null,null,null,null,null,null,null,null,{"$f":"IF(P420=\"\",\"\",MAX($N$3:$N419)+1)","v":417},436,"محمد417",null,null,null,{"$f":"IF(N420=\"\",\"\",IF(ISERROR(MATCH($N420,$J:$J,0)),T419,MAX($T$3:$T419)+1))","v":21},""]
[null,null,null,null,null,null,null,null,null,null,null,null,null,{"$f":"IF(P421=\"\",\"\",MAX($N$3:$N420)+1)","v":418},437,"محمد418",null,null,null,{"$f":"IF(N421=\"\",\"\",IF(ISERROR(MATCH($N421,$J:$J,0)),T420,MAX($T$3:$T420)+1))","v":21},""]
[null,null,null,null,null,null,null,null,null,null,null,null,null,{"$f":"IF(P422=\"\",\"\",MAX($N$3:$N421)+1)","v":419},438,"محمد419",null,null,null,{"$f":"IF(N422=\"\",\"\",IF(ISERROR(MATCH($N422,$J:$J,0)),T421,MAX($T$3:$T421)+1))","v":21},""]
[null,null,null,null,null,null,null,null,null,null,null,null,null,{"$f":"IF(P423=\"\",\"\",MAX($N$3:$N422)+1)","v":420},439,"محمد420",null,null,null,{"$f":"IF(N423=\"\",\"\",IF(ISERROR(MATCH($N423,$J:$J,0)),T422,MAX($T$3:$T422)+1))","v":21},"نهاية اللجنة"]
[null,null,null,null,null,null,null,null,null,null,null,null,null,{"$f":"IF(P424=\"\",\"\",MAX($N$3:$N423)+1)","v":421},440,"محمد421",null,null,null,{"$f":"IF(N424=\"\",\"\",IF(ISERROR(MATCH($N424,$J:$J,0)),T423,MAX($T$3:$T423)+1))","v":22},""]
[null,null,null,null,null,null,null,null,null,null,null,null,null,{"$f":"IF(P425=\"\",\"\",MAX($N$3:$N424)+1)","v":422},441,"محمد422",null,null,null,{"$f":"IF(N425=\"\",\"\",IF(ISERROR(MATCH($N425,$J:$J,0)),T424,MAX($T$3:$T424)+1))","v":22},""]
[null,null,null,null,null,null,null,null,null,null,null,null,null,{"$f":"IF(P426=\"\",\"\",MAX($N$3:$N425)+1)","v":423},442,"محمد423",null,null,null,{"$f":"IF(N426=\"\",\"\",IF(ISERROR(MATCH($N426,$J:$J,0)),T425,MAX($T$3:$T425)+1))","v":22},""]
[null,null,null,null,null,null,null,null,null,null,null,null,null,{"$f":"IF(P427=\"\",\"\",MAX($N$3:$N426)+1)","v":424},443,"محمد424",null,null,null,{"$f":"IF(N427=\"\",\"\",IF(ISERROR(MATCH($N427,$J:$J,0)),T426,MAX($T$3:$T426)+1))","v":22},""]
[null,null,null,null,null,null,null,null,null,null,null,null,null,{"$f":"IF(P428=\"\",\"\",MAX($N$3:$N427)+1)","v":425},444,"محمد425",null,null,null,{"$f":"IF(N428=\"\",\"\",IF(ISERROR(MATCH($N428,$J:$J,0)),T427,MAX($T$3:$T427)+1))","v":22},""]
[null,null,null,null,null,null,null,null,null,null,null,null,null,{"$f":"IF(P429=\"\",\"\",MAX($N$3:$N428)+1)","v":426},445,"محمد426",null,null,null,{"$f":"IF(N429=\"\",\"\",IF(ISERROR(MATCH($N429,$J:$J,0)),T428,MAX($T$3:$T428)+1))","v":22},""]
[null,null,null,null,null,null,null,null,null,null,null,null,null,{"$f":"IF(P430=\"\",\"\",MAX($N$3:$N429)+1)","v":427},446,"محمد427",null,null,null,{"$f":"IF(N430=\"\",\"\",IF(ISERROR(MATCH($N430,$J:$J,0)),T429,MAX($T$3:$T429)+1))","v":22},""]
[null,null,null,null,null,null,null,null,null,null,null,null,null,{"$f":"IF(P431=\"\",\"\",MAX($N$3:$N430)+1)","v":428},447,"محمد428",null,null,null,{"$f":"IF(N431=\"\",\"\",IF(ISERROR(MATCH($N431,$J:$J,0)),T430,MAX($T$3:$T430)+1))","v":22},""]
[null,null,null,null,null,null,null,null,null,null,null,null,null,{"$f":"IF(P432=\"\",\"\",MAX($N$3:$N431)+1)","v":429},448,"محمد429",null,null,null,{"$f":"IF(N432=\"\",\"\",IF(ISERROR(MATCH($N432,$J:$J,0)),T431,MAX($T$3:$T431)+1))","v":22},""]
[null,null,null,null,null,null,null,null,null,null,null,null,null,{"$f":"IF(P433=\"\",\"\",MAX($N$3:$N432)+1)","v":430},449,"محمد430",null,null,null,{"$f":"IF(N433=\"\",\"\",IF(ISERROR(MATCH($N433,$J:$J,0)),T432,MAX($T$3:$T432)+1))","v":22},""]
[null,null,null,null,null,null,null,null,null,null,null,null,null,{"$f":"IF(P434=\"\",\"\",MAX($N$3:$N433)+1)","v":431},450,"محمد431",null,null,null,{"$f":"IF(N434=\"\",\"\",IF(ISERROR(MATCH($N434,$J:$J,0)),T433,MAX($T$3:$T433)+1))","v":22},""]
[null,null,null,null,null,null,null,null,null,null,null,null,null,{"$f":"IF(P435=\"\",\"\",MAX($N$3:$N434)+1)","v":432},451,"محمد432",null,null,null,{"$f":"IF(N435=\"\",\"\",IF(ISERROR(MATCH($N435,$J:$J,0)),T434,MAX($T$3:$T434)+1))","v":22},""]
[null,null,null,null,null,null,null,null,null,null,null,null,null,{"$f":"IF(P436=\"\",\"\",MAX($N$3:$N435)+1)","v":433},452,"محمد433",null,null,null,{"$f":"IF(N436=\"\",\"\",IF(ISERROR(MATCH($N436,$J:$J,0)),T435,MAX($T$3:$T435)+1))","v":22},""]
[null,null,null,null,null,null,null,null,null,null,null,null,null,{"$f":"IF(P437=\"\",\"\",MAX($N$3:$N436)+1)","v":434},453,"محمد434",null,null,null,{"$f":"IF(N437=\"\",\"\",IF(ISERROR(MATCH($N437,$J:$J,0)),T436,MAX($T$3:$T436)+1))","v":22},""]
[null,null,null,null,null,null,null,null,null,null,null,null,null,{"$f":"IF(P438=\"\",\"\",MAX($N$3:$N437)+1)","v":435},454,"محمد435",null,null,null,{"$f":"IF(N438=\"\",\"\",IF(ISERROR(MATCH($N438,$J:$J,0)),T437,MAX($T$3:$T437)+1))","v":22},""]
[null,null,null,null,null,null,null,null,null,null,null,null,null,{"$f":"IF(P439=\"\",\"\",MAX($N$3:$N438)+1)","v":436},455,"محمد436",null,null,null,{"$f":"IF(N439=\"\",\"\",IF(ISERROR(MATCH($N439,$J:$J,0)),T438,MAX($T$3:$T438)+1))","v":22},""]
[null,null,null,null,null,null,null,null,null,null,null,null,null,{"$f":"IF(P440=\"\",\"\",MAX($N$3:$N439)+1)","v":437},456,"محمد437",null,null,null,{"$f":"IF(N440=\"\",\"\",IF(ISERROR(MATCH($N440,$J:$J,0)),T439,MAX($T$3:$T439)+1))","v":22},""]
[null,null,null,null,null,null,null,null,null,null,null,null,null,{"$f":"IF(P441=\"\",\"\",MAX($N$3:$N440)+1)","v":438},457,"محمد438",null,null,null,{"$f":"IF(N441=\"\",\"\",IF(ISERROR(MATCH($N441,$J:$J,0)),T440,MAX($T$3:$T440)+1))","v":22},""]
[null,null,null,null,null,null,null,null,null,null,null,null,null,{"$f":"IF(P442=\"\",\"\",MAX($N$3:$N441)+1)","v":439},458,"محمد439",null,null,null,{"$f":"IF(N442=\"\",\"\",IF(ISERROR(MATCH($N442,$J:$J,0)),T441,MAX($T$3:$T441)+1))","v":22},""]
[null,null,null,null,null,null,null,null,null,null,null,null,null,{"$f":"IF(P443=\"\",\"\",MAX($N$3:$N442)+1)","v":440},459,"محمد440",null,null,null,{"$f":"IF(N443=\"\",\"\",IF(ISERROR(MATCH($N443,$J:$J,0)),T442,MAX($T$3:$T442)+1))","v":22},"نهاية اللجنة"]
[null,null,null,null,null,null,null,null,null,null,null,null,null,{"$f":"IF(P444=\"\",\"\",MAX($N$3:$N443)+1)","v":441},460,"محمد441",null,null,null,{"$f":"IF(N444=\"\",\"\",IF(ISERROR(MATCH($N444,$J:$J,0)),T443,MAX($T$3:$T443)+1))","v":23},""]
[null,null,null,null,null,null,null,null,null,null,null,null,null,{"$f":"IF(P445=\"\",\"\",MAX($N$3:$N444)+1)","v":442},461,"محمد442",null,null,null,{"$f":"IF(N445=\"\",\"\",IF(ISERROR(MATCH($N445,$J:$J,0)),T444,MAX($T$3:$T444)+1))","v":23},""]
[null,null,null,null,null,null,null,null,null,null,null,null,null,{"$f":"IF(P446=\"\",\"\",MAX($N$3:$N445)+1)","v":443},462,"محمد443",null,null,null,{"$f":"IF(N446=\"\",\"\",IF(ISERROR(MATCH($N446,$J:$J,0)),T445,MAX($T$3:$T445)+1))","v":23},""]
[null,null,null,null,null,null,null,null,null,null,null,null,null,{"$f":"IF(P447=\"\",\"\",MAX($N$3:$N446)+1)","v":444},463,"محمد444",null,null,null,{"$f":"IF(N447=\"\",\"\",IF(ISERROR(MATCH($N447,$J:$J,0)),T446,MAX($T$3:$T446)+1))","v":23},""]
[null,null,null,null,null,null,null,null,null,null,null,null,null,{"$f":"IF(P448=\"\",\"\",MAX($N$3:$N447)+1)","v":445},464,"محمد445",null,null,null,{"$f":"IF(N448=\"\",\"\",IF(ISERROR(MATCH($N448,$J:$J,0)),T447,MAX($T$3:$T447)+1))","v":23},""]
[null,null,null,null,null,null,null,null,null,null,null,null,null,{"$f":"IF(P449=\"\",\"\",MAX($N$3:$N448)+1)","v":446},465,"محمد446",null,null,null,{"$f":"IF(N449=\"\",\"\",IF(ISERROR(MATCH($N449,$J:$J,0)),T448,MAX($T$3:$T448)+1))","v":23},""]
[null,null,null,null,null,null,null,null,null,null,null,null,null,{"$f":"IF(P450=\"\",\"\",MAX($N$3:$N449)+1)","v":447},466,"محمد447",null,null,null,{"$f":"IF(N450=\"\",\"\",IF(ISERROR(MATCH($N450,$J:$J,0)),T449,MAX($T$3:$T449)+1))","v":23},""]
[null,null,null,null,null,null,null,null,null,null,null,null,null,{"$f":"IF(P451=\"\",\"\",MAX($N$3:$N450)+1)","v":448},467,"محمد448",null,null,null,{"$f":"IF(N451=\"\",\"\",IF(ISERROR(MATCH($N451,$J:$J,0)),T450,MAX($T$3:$T450)+1))","v":23},""]
[null,null,null,null,null,null,null,null,null,null,null,null,null,{"$f":"IF(P452=\"\",\"\",MAX($N$3:$N451)+1)","v":449},468,"محمد449",null,null,null,{"$f":"IF(N452=\"\",\"\",IF(ISERROR(MATCH($N452,$J:$J,0)),T451,MAX($T$3:$T451)+1))","v":23},""]
[null,null,null,null,null,null,null,null,null,null,null,null,null,{"$f":"IF(P453=\"\",\"\",MAX($N$3:$N452)+1)","v":450},469,"محمد450",null,null,null,{"$f":"IF(N453=\"\",\"\",IF(ISERROR(MATCH($N453,$J:$J,0)),T452,MAX($T$3:$T452)+1))","v":23},{"$f":"IF(T453=T454,\"\",\"نهاية اللجنة\")","v":""}]
[null,null,null,null,null,null,null,null,null,null,null,null,null,{"$f":"IF(P454=\"\",\"\",MAX($N$3:$N453)+1)","v":451},{"$f":"IF(O453=\"\",\"\",IF(O453+1>$O$2,\"\",O453+1))","v":470},"محمد451",null,null,null,{"$f":"IF(N454=\"\",\"\",IF(ISERROR(MATCH($N454,$J:$J,0)),T453,MAX($T$3:$T453)+1))","v":23},""]
[null,null,null,null,null,null,null,null,null,null,null,null,null,{"$f":"IF(P455=\"\",\"\",MAX($N$3:$N454)+1)","v":452},471,"محمد452",null,null,null,{"$f":"IF(N455=\"\",\"\",IF(ISERROR(MATCH($N455,$J:$J,0)),T454,MAX($T$3:$T454)+1))","v":23},""]
[null,null,null,null,null,null,null,null,null,null,null,null,null,{"$f":"IF(P456=\"\",\"\",MAX($N$3:$N455)+1)","v":453},472,"محمد453",null,null,null,{"$f":"IF(N456=\"\",\"\",IF(ISERROR(MATCH($N456,$J:$J,0)),T455,MAX($T$3:$T455)+1))","v":23},""]
[null,null,null,null,null,null,null,null,null,null,null,null,null,{"$f":"IF(P457=\"\",\"\",MAX($N$3:$N456)+1)","v":454},473,"محمد454",null,null,null,{"$f":"IF(N457=\"\",\"\",IF(ISERROR(MATCH($N457,$J:$J,0)),T456,MAX($T$3:$T456)+1))","v":23},""]
[null,null,null,null,null,null,null,null,null,null,null,null,null,{"$f":"IF(P458=\"\",\"\",MAX($N$3:$N457)+1)","v":455},474,"محمد455",null,null,null,{"$f":"IF(N458=\"\",\"\",IF(ISERROR(MATCH($N458,$J:$J,0)),T457,MAX($T$3:$T457)+1))","v":23},""]
[null,null,null,null,null,null,null,null,null,null,null,null,null,{"$f":"IF(P459=\"\",\"\",MAX($N$3:$N458)+1)","v":456},475,"محمد456",null,null,null,{"$f":"IF(N459=\"\",\"\",IF(ISERROR(MATCH($N459,$J:$J,0)),T458,MAX($T$3:$T458)+1))","v":23},""]
[null,null,null,null,null,null,null,null,null,null,null,null,null,{"$f":"IF(P460=\"\",\"\",MAX($N$3:$N459)+1)","v":457},476,"محمد457",null,null,null,{"$f":"IF(N460=\"\",\"\",IF(ISERROR(MATCH($N460,$J:$J,0)),T459,MAX($T$3:$T459)+1))","v":23},""]
[null,null,null,null,null,null,null,null,null,null,null,null,null,{"$f":"IF(P461=\"\",\"\",MAX($N$3:$N460)+1)","v":458},477,"محمد458",null,null,null,{"$f":"IF(N461=\"\",\"\",IF(ISERROR(MATCH($N461,$J:$J,0)),T460,MAX($T$3:$T460)+1))","v":23},""]
[null,null,null,null,null,null,null,null,null,null,null,null,null,{"$f":"IF(P462=\"\",\"\",MAX($N$3:$N461)+1)","v":459},478,"محمد459",null,null,null,{"$f":"IF(N462=\"\",\"\",IF(ISERROR(MATCH($N462,$J:$J,0)),T461,MAX($T$3:$T461)+1))","v":23},""]
[null,null,null,null,null,null,null,null,null,null,null,null,null,{"$f":"IF(P463=\"\",\"\",MAX($N$3:$N462)+1)","v":460},479,"محمد460",null,null,null,{"$f":"IF(N463=\"\",\"\",IF(ISERROR(MATCH($N463,$J:$J,0)),T462,MAX($T$3:$T462)+1))","v":23},"نهاية اللجنة"]
[null,null,null,null,null,null,null,null,null,null,null,null,null,{"$f":"IF(P464=\"\",\"\",MAX($N$3:$N463)+1)","v":461},480,"محمد461",null,null,null,{"$f":"IF(N464=\"\",\"\",IF(ISERROR(MATCH($N464,$J:$J,0)),T463,MAX($T$3:$T463)+1))","v":24},""]
[null,null,null,null,null,null,null,null,null,null,null,null,null,{"$f":"IF(P465=\"\",\"\",MAX($N$3:$N464)+1)","v":462},481,"محمد462",null,null,null,{"$f":"IF(N465=\"\",\"\",IF(ISERROR(MATCH($N465,$J:$J,0)),T464,MAX($T$3:$T464)+1))","v":24},""]
[null,null,null,null,null,null,null,null,null,null,null,null,null,{"$f":"IF(P466=\"\",\"\",MAX($N$3:$N465)+1)","v":463},482,"محمد463",null,null,null,{"$f":"IF(N466=\"\",\"\",IF(ISERROR(MATCH($N466,$J:$J,0)),T465,MAX($T$3:$T465)+1))","v":24},""]
[null,null,null,null,null,null,null,null,null,null,null,null,null,{"$f":"IF(P467=\"\",\"\",MAX($N$3:$N466)+1)","v":464},483,"محمد464",null,null,null,{"$f":"IF(N467=\"\",\"\",IF(ISERROR(MATCH($N467,$J:$J,0)),T466,MAX($T$3:$T466)+1))","v":24},""]
[null,null,null,null,null,null,null,null,null,null,null,null,null,{"$f":"IF(P468=\"\",\"\",MAX($N$3:$N467)+1)","v":465},484,"محمد465",null,null,null,{"$f":"IF(N468=\"\",\"\",IF(ISERROR(MATCH($N468,$J:$J,0)),T467,MAX($T$3:$T467)+1))","v":24},""]
[null,null,null,null,null,null,null,null,null,null,null,null,null,{"$f":"IF(P469=\"\",\"\",MAX($N$3:$N468)+1)","v":466},485,"محمد466",null,null,null,{"$f":"IF(N469=\"\",\"\",IF(ISERROR(MATCH($N469,$J:$J,0)),T468,MAX($T$3:$T468)+1))","v":24},""]
[null,null,null,null,null,null,null,null,null,null,null,null,null,{"$f":"IF(P470=\"\",\"\",MAX($N$3:$N469)+1)","v":467},486,"محمد467",null,null,null,{"$f":"IF(N470=\"\",\"\",IF(ISERROR(MATCH($N470,$J:$J,0)),T469,MAX($T$3:$T469)+1))","v":24},""]
[null,null,null,null,null,null,null,null,null,null,null,null,null,{"$f":"IF(P471=\"\",\"\",MAX($N$3:$N470)+1)","v":468},487,"محمد468",null,null,null,{"$f":"IF(N471=\"\",\"\",IF(ISERROR(MATCH($N471,$J:$J,0)),T470,MAX($T$3:$T470)+1))","v":24},""]
[null,null,null,null,null,null,null,null,null,null,null,null,null,{"$f":"IF(P472=\"\",\"\",MAX($N$3:$N471)+1)","v":469},488,"محمد469",null,null,null,{"$f":"IF(N472=\"\",\"\",IF(ISERROR(MATCH($N472,$J:$J,0)),T471,MAX($T$3:$T471)+1))","v":24},""]
[null,null,null,null,null,null,null,null,null,null,null,null,null,{"$f":"IF(P473=\"\",\"\",MAX($N$3:$N472)+1)","v":470},489,"محمد470",null,null,null,{"$f":"IF(N473=\"\",\"\",IF(ISERROR(MATCH($N473,$J:$J,0)),T472,MAX($T$3:$T472)+1))","v":24},""]
[null,null,null,null,null,null,null,null,null,null,null,null,null,{"$f":"IF(P474=\"\",\"\",MAX($N$3:$N473)+1)","v":471},490,"محمد471",null,null,null,{"$f":"IF(N474=\"\",\"\",IF(ISERROR(MATCH($N474,$J:$J,0)),T473,MAX($T$3:$T473)+1))","v":24},""]
[null,null,null,null,null,null,null,null,null,null,null,null,null,{"$f":"IF(P475=\"\",\"\",MAX($N$3:$N474)+1)","v":472},491,"محمد472",null,null,null,{"$f":"IF(N475=\"\",\"\",IF(ISERROR(MATCH($N475,$J:$J,0)),T474,MAX($T$3:$T474)+1))","v":24},""]
[null,null,null,null,null,null,null,null,null,null,null,null,null,{"$f":"IF(P476=\"\",\"\",MAX($N$3:$N475)+1)","v":473},492,"محمد473",null,null,null,{"$f":"IF(N476=\"\",\"\",IF(ISERROR(MATCH($N476,$J:$J,0)),T475,MAX($T$3:$T475)+1))","v":24},""]
[null,null,null,null,null,null,null,null,null,null,null,null,null,{"$f":"IF(P477=\"\",\"\",MAX($N$3:$N476)+1)","v":474},493,"محمد474",null,null,null,{"$f":"IF(N477=\"\",\"\",IF(ISERROR(MATCH($N477,$J:$J,0)),T476,MAX($T$3:$T476)+1))","v":24},""]
[null,null,null,null,null,null,null,null,null,null,null,null,null,{"$f":"IF(P478=\"\",\"\",MAX($N$3:$N477)+1)","v":475},494,"محمد475",null,null,null,{"$f":"IF(N478=\"\",\"\",IF(ISERROR(MATCH($N478,$J:$J,0)),T477,MAX($T$3:$T477)+1))","v":24},""]
[null,null,null,null,null,null,null,null,null,null,null,null,null,{"$f":"IF(P479=\"\",\"\",MAX($N$3:$N478)+1)","v":476},495,"محمد476",null,null,null,{"$f":"IF(N479=\"\",\"\",IF(ISERROR(MATCH($N479,$J:$J,0)),T478,MAX($T$3:$T478)+1))","v":24},""]
[null,null,null,null,null,null,null,null,null,null,null,null,null,{"$f":"IF(P480=\"\",\"\",MAX($N$3:$N479)+1)","v":477},496,"محمد477",null,null,null,{"$f":"IF(N480=\"\",\"\",IF(ISERROR(MATCH($N480,$J:$J,0)),T479,MAX($T$3:$T479)+1))","v":24},""]
[null,null,null,null,null,null,null,null,null,null,null,null,null,{"$f":"IF(P481=\"\",\"\",MAX($N$3:$N480)+1)","v":478},497,"محمد478",null,null,null,{"$f":"IF(N481=\"\",\"\",IF(ISERROR(MATCH($N481,$J:$J,0)),T480,MAX($T$3:$T480)+1))","v":24},""]
[null,null,null,null,null,null,null,null,null,null,null,null,null,{"$f":"IF(P482=\"\",\"\",MAX($N$3:$N481)+1)","v":479},498,"محمد479",null,null,null,{"$f":"IF(N482=\"\",\"\",IF(ISERROR(MATCH($N482,$J:$J,0)),T481,MAX($T$3:$T481)+1))","v":24},""]
[null,null,null,null,null,null,null,null,null,null,null,null,null,{"$f":"IF(P483=\"\",\"\",MAX($N$3:$N482)+1)","v":480},499,"محمد480",null,null,null,{"$f":"IF(N483=\"\",\"\",IF(ISERROR(MATCH($N483,$J:$J,0)),T482,MAX($T$3:$T482)+1))","v":24},"نهاية اللجنة"]
[null,null,null,null,null,null,null,null,null,null,null,null,null,{"$f":"IF(P484=\"\",\"\",MAX($N$3:$N483)+1)","v":481},500,"محمد481",null,null,null,{"$f":"IF(N484=\"\",\"\",IF(ISERROR(MATCH($N484,$J:$J,0)),T483,MAX($T$3:$T483)+1))","v":25},""]
[null,null,null,null,null,null,null,null,null,null,null,null,null,{"$f":"IF(P485=\"\",\"\",MAX($N$3:$N484)+1)","v":482},501,"محمد482",null,null,null,{"$f":"IF(N485=\"\",\"\",IF(ISERROR(MATCH($N485,$J:$J,0)),T484,MAX($T$3:$T484)+1))","v":25},""]
[null,null,null,null,null,null,null,null,null,null,null,null,null,{"$f":"IF(P486=\"\",\"\",MAX($N$3:$N485)+1)","v":483},502,"محمد483",null,null,null,{"$f":"IF(N486=\"\",\"\",IF(ISERROR(MATCH($N486,$J:$J,0)),T485,MAX($T$3:$T485)+1))","v":25},""]
[null,null,null,null,null,null,null,null,null,null,null,null,null,{"$f":"IF(P487=\"\",\"\",MAX($N$3:$N486)+1)","v":484},503,"محمد484",null,null,null,{"$f":"IF(N487=\"\",\"\",IF(ISERROR(MATCH($N487,$J:$J,0)),T486,MAX($T$3:$T486)+1))","v":25},""]
[null,null,null,null,null,null,null,null,null,null,null,null,null,{"$f":"IF(P488=\"\",\"\",MAX($N$3:$N487)+1)","v":485},504,"محمد485",null,null,null,{"$f":"IF(N488=\"\",\"\",IF(ISERROR(MATCH($N488,$J:$J,0)),T487,MAX($T$3:$T487)+1))","v":25},""]
[null,null,null,null,null,null,null,null,null,null,null,null,null,{"$f":"IF(P489=\"\",\"\",MAX($N$3:$N488)+1)","v":486},505,"محمد486",null,null,null,{"$f":"IF(N489=\"\",\"\",IF(ISERROR(MATCH($N489,$J:$J,0)),T488,MAX($T$3:$T488)+1))","v":25},""]
[null,null,null,null,null,null,null,null,null,null,null,null,null,{"$f":"IF(P490=\"\",\"\",MAX($N$3:$N489)+1)","v":487},506,"محمد487",null,null,null,{"$f":"IF(N490=\"\",\"\",IF(ISERROR(MATCH($N490,$J:$J,0)),T489,MAX($T$3:$T489)+1))","v":25},""]
[null,null,null,null,null,null,null,null,null,null,null,null,null,{"$f":"IF(P491=\"\",\"\",MAX($N$3:$N490)+1)","v":488},507,"محمد488",null,null,null,{"$f":"IF(N491=\"\",\"\",IF(ISERROR(MATCH($N491,$J:$J,0)),T490,MAX($T$3:$T490)+1))","v":25},""]
[null,null,null,null,null,null,null,null,null,null,null,null,null,{"$f":"IF(P492=\"\",\"\",MAX($N$3:$N491)+1)","v":489},508,"محمد489",null,null,null,{"$f":"IF(N492=\"\",\"\",IF(ISERROR(MATCH($N492,$J:$J,0)),T491,MAX($T$3:$T491)+1))","v":25},""]
[null,null,null,null,null,null,null,null,null,null,null,null,null,{"$f":"IF(P493=\"\",\"\",MAX($N$3:$N492)+1)","v":490},509,"محمد490",null,null,null,{"$f":"IF(N493=\"\",\"\",IF(ISERROR(MATCH($N493,$J:$J,0)),T492,MAX($T$3:$T492)+1))","v":25},""]
[null,null,null,null,null,null,null,null,null,null,null,null,null,{"$f":"IF(P494=\"\",\"\",MAX($N$3:$N493)+1)","v":491},510,"محمد491",null,null,null,{"$f":"IF(N494=\"\",\"\",IF(ISERROR(MATCH($N494,$J:$J,0)),T493,MAX($T$3:$T493)+1))","v":25},""]
[null,null,null,null,null,null,null,null,null,null,null,null,null,{"$f":"IF(P495=\"\",\"\",MAX($N$3:$N494)+1)","v":492},511,"محمد492",null,null,null,{"$f":"IF(N495=\"\",\"\",IF(ISERROR(MATCH($N495,$J:$J,0)),T494,MAX($T$3:$T494)+1))","v":25},""]
[null,null,null,null,null,null,null,null,null,null,null,null,null,{"$f":"IF(P496=\"\",\"\",MAX($N$3:$N495)+1)","v":493},512,"محمد493",null,null,null,{"$f":"IF(N496=\"\",\"\",IF(ISERROR(MATCH($N496,$J:$J,0)),T495,MAX($T$3:$T495)+1))","v":25},""]
[null,null,null,null,null,null,null,null,null,null,null,null,null,{"$f":"IF(P497=\"\",\"\",MAX($N$3:$N496)+1)","v":494},513,"محمد494",null,null,null,{"$f":"IF(N497=\"\",\"\",IF(ISERROR(MATCH($N497,$J:$J,0)),T496,MAX($T$3:$T496)+1))","v":25},""]
[null,null,null,null,null,null,null,null,null,null,null,null,null,{"$f":"IF(P498=\"\",\"\",MAX($N$3:$N497)+1)","v":495},514,"محمد495",null,null,null,{"$f":"IF(N498=\"\",\"\",IF(ISERROR(MATCH($N498,$J:$J,0)),T497,MAX($T$3:$T497)+1))","v":25},""]
[null,null,null,null,null,null,null,null,null,null,null,null,null,{"$f":"IF(P499=\"\",\"\",MAX($N$3:$N498)+1)","v":496},515,"محمد496",null,null,null,{"$f":"IF(N499=\"\",\"\",IF(ISERROR(MATCH($N499,$J:$J,0)),T498,MAX($T$3:$T498)+1))","v":25},""]
[null,null,null,null,null,null,null,null,null,null,null,null,null,{"$f":"IF(P500=\"\",\"\",MAX($N$3:$N499)+1)","v":497},516,"محمد497",null,null,null,{"$f":"IF(N500=\"\",\"\",IF(ISERROR(MATCH($N500,$J:$J,0)),T499,MAX($T$3:$T499)+1))","v":25},""]
[null,null,null,null,null,null,null,null,null,null,null,null,null,{"$f":"IF(P501=\"\",\"\",MAX($N$3:$N500)+1)","v":498},517,"محمد498",null,null,null,{"$f":"IF(N501=\"\",\"\",IF(ISERROR(MATCH($N501,$J:$J,0)),T500,MAX($T$3:$T500)+1))","v":25},""]
[null,null,null,null,null,null,null,null,null,null,null,null,null,{"$f":"IF(P502=\"\",\"\",MAX($N$3:$N501)+1)","v":499},518,"محمد499",null,null,null,{"$f":"IF(N502=\"\",\"\",IF(ISERROR(MATCH($N502,$J:$J,0)),T501,MAX($T$3:$T501)+1))","v":25},""]
[null,null,null,null,null,null,null,null,null,null,null,null,null,{"$f":"IF(P503=\"\",\"\",MAX($N$3:$N502)+1)","v":500},519,"محمد500",null,null,null,{"$f":"IF(N503=\"\",\"\",IF(ISERROR(MATCH($N503,$J:$J,0)),T502,MAX($T$3:$T502)+1))","v":25},"نهاية اللجنة"]
[null,null,null,null,null,null,null,null,null,null,null,null,null,{"$f":"IF(P504=\"\",\"\",MAX($N$3:$N503)+1)","v":501},520,"محمد501",null,null,null,{"$f":"IF(N504=\"\",\"\",IF(ISERROR(MATCH($N504,$J:$J,0)),T503,MAX($T$3:$T503)+1))","v":26},""]
[null,null,null,null,null,null,null,null,null,null,null,null,null,{"$f":"IF(P505=\"\",\"\",MAX($N$3:$N504)+1)","v":502},521,"محمد502",null,null,null,{"$f":"IF(N505=\"\",\"\",IF(ISERROR(MATCH($N505,$J:$J,0)),T504,MAX($T$3:$T504)+1))","v":26},""]
[null,null,null,null,null,null,null,null,null,null,null,null,null,{"$f":"IF(P506=\"\",\"\",MAX($N$3:$N505)+1)","v":503},522,"محمد503",null,null,null,{"$f":"IF(N506=\"\",\"\",IF(ISERROR(MATCH($N506,$J:$J,0)),T505,MAX($T$3:$T505)+1))","v":26},""]
[null,null,null,null,null,null,null,null,null,null,null,null,null,{"$f":"IF(P507=\"\",\"\",MAX($N$3:$N506)+1)","v":504},523,"محمد504",null,null,null,{"$f":"IF(N507=\"\",\"\",IF(ISERROR(MATCH($N507,$J:$J,0)),T506,MAX($T$3:$T506)+1))","v":26},""]
[null,null,null,null,null,null,null,null,null,null,null,null,null,{"$f":"IF(P508=\"\",\"\",MAX($N$3:$N507)+1)","v":505},524,"محمد505",null,null,null,{"$f":"IF(N508=\"\",\"\",IF(ISERROR(MATCH($N508,$J:$J,0)),T507,MAX($T$3:$T507)+1))","v":26},""]
[null,null,null,null,null,null,null,null,null,null,null,null,null,{"$f":"IF(P509=\"\",\"\",MAX($N$3:$N508)+1)","v":506},525,"محمد506",null,null,null,{"$f":"IF(N509=\"\",\"\",IF(ISERROR(MATCH($N509,$J:$J,0)),T508,MAX($T$3:$T508)+1))","v":26},""]
[null,null,null,null,null,null,null,null,null,null,null,null,null,{"$f":"IF(P510=\"\",\"\",MAX($N$3:$N509)+1)","v":507},526,"محمد507",null,null,null,{"$f":"IF(N510=\"\",\"\",IF(ISERROR(MATCH($N510,$J:$J,0)),T509,MAX($T$3:$T509)+1))","v":26},""]
[null,null,null,null,null,null,null,null,null,null,null,null,null,{"$f":"IF(P511=\"\",\"\",MAX($N$3:$N510)+1)","v":508},527,"محمد508",null,null,null,{"$f":"IF(N511=\"\",\"\",IF(ISERROR(MATCH($N511,$J:$J,0)),T510,MAX($T$3:$T510)+1))","v":26},""]
[null,null,null,null,null,null,null,null,null,null,null,null,null,{"$f":"IF(P512=\"\",\"\",MAX($N$3:$N511)+1)","v":509},528,"محمد509",null,null,null,{"$f":"IF(N512=\"\",\"\",IF(ISERROR(MATCH($N512,$J:$J,0)),T511,MAX($T$3:$T511)+1))","v":26},""]
[null,null,null,null,null,null,null,null,null,null,null,null,null,{"$f":"IF(P513=\"\",\"\",MAX($N$3:$N512)+1)","v":510},529,"محمد510",null,null,null,{"$f":"IF(N513=\"\",\"\",IF(ISERROR(MATCH($N513,$J:$J,0)),T512,MAX($T$3:$T512)+1))","v":26},""]
[null,null,null,null,null,null,null,null,null,null,null,null,null,{"$f":"IF(P514=\"\",\"\",MAX($N$3:$N513)+1)","v":511},530,"محمد511",null,null,null,{"$f":"IF(N514=\"\",\"\",IF(ISERROR(MATCH($N514,$J:$J,0)),T513,MAX($T$3:$T513)+1))","v":26},""]
[null,null,null,null,null,null,null,null,null,null,null,null,null,{"$f":"IF(P515=\"\",\"\",MAX($N$3:$N514)+1)","v":512},531,"محمد512",null,null,null,{"$f":"IF(N515=\"\",\"\",IF(ISERROR(MATCH($N515,$J:$J,0)),T514,MAX($T$3:$T514)+1))","v":26},""]
[null,null,null,null,null,null,null,null,null,null,null,null,null,{"$f":"IF(P516=\"\",\"\",MAX($N$3:$N515)+1)","v":513},532,"محمد513",null,null,null,{"$f":"IF(N516=\"\",\"\",IF(ISERROR(MATCH($N516,$J:$J,0)),T515,MAX($T$3:$T515)+1))","v":26},""]
[null,null,null,null,null,null,null,null,null,null,null,null,null,{"$f":"IF(P517=\"\",\"\",MAX($N$3:$N516)+1)","v":514},533,"محمد514",null,null,null,{"$f":"IF(N517=\"\",\"\",IF(ISERROR(MATCH($N517,$J:$J,0)),T516,MAX($T$3:$T516)+1))","v":26},{"$f":"IF(T517=T518,\"\",\"نهاية اللجنة\")","v":""}]
[null,null,null,null,null,null,null,null,null,null,null,null,null,{"$f":"IF(P518=\"\",\"\",MAX($N$3:$N517)+1)","v":515},{"$f":"IF(O517=\"\",\"\",IF(O517+1>$O$2,\"\",O517+1))","v":534},"محمد515",null,null,null,{"$f":"IF(N518=\"\",\"\",IF(ISERROR(MATCH($N518,$J:$J,0)),T517,MAX($T$3:$T517)+1))","v":26},""]
[null,null,null,null,null,null,null,null,null,null,null,null,null,{"$f":"IF(P519=\"\",\"\",MAX($N$3:$N518)+1)","v":516},535,"محمد516",null,null,null,{"$f":"IF(N519=\"\",\"\",IF(ISERROR(MATCH($N519,$J:$J,0)),T518,MAX($T$3:$T518)+1))","v":26},""]
[null,null,null,null,null,null,null,null,null,null,null,null,null,{"$f":"IF(P520=\"\",\"\",MAX($N$3:$N519)+1)","v":517},536,"محمد517",null,null,null,{"$f":"IF(N520=\"\",\"\",IF(ISERROR(MATCH($N520,$J:$J,0)),T519,MAX($T$3:$T519)+1))","v":26},""]
[null,null,null,null,null,null,null,null,null,null,null,null,null,{"$f":"IF(P521=\"\",\"\",MAX($N$3:$N520)+1)","v":518},537,"محمد518",null,null,null,{"$f":"IF(N521=\"\",\"\",IF(ISERROR(MATCH($N521,$J:$J,0)),T520,MAX($T$3:$T520)+1))","v":26},""]
[null,null,null,null,null,null,null,null,null,null,null,null,null,{"$f":"IF(P522=\"\",\"\",MAX($N$3:$N521)+1)","v":519},538,"محمد519",null,null,null,{"$f":"IF(N522=\"\",\"\",IF(ISERROR(MATCH($N522,$J:$J,0)),T521,MAX($T$3:$T521)+1))","v":26},""]
[null,null,null,null,null,null,null,null,null,null,null,null,null,{"$f":"IF(P523=\"\",\"\",MAX($N$3:$N522)+1)","v":520},539,"محمد520",null,null,null,{"$f":"IF(N523=\"\",\"\",IF(ISERROR(MATCH($N523,$J:$J,0)),T522,MAX($T$3:$T522)+1))","v":26},"نهاية اللجنة"]
[null,null,null,null,null,null,null,null,null,null,null,null,null,{"$f":"IF(P524=\"\",\"\",MAX($N$3:$N523)+1)","v":521},540,"محمد521",null,null,null,{"$f":"IF(N524=\"\",\"\",IF(ISERROR(MATCH($N524,$J:$J,0)),T523,MAX($T$3:$T523)+1))","v":27},""]
[null,null,null,null,null,null,null,null,null,null,null,null,null,{"$f":"IF(P525=\"\",\"\",MAX($N$3:$N524)+1)","v":522},541,"محمد522",null,null,null,{"$f":"IF(N525=\"\",\"\",IF(ISERROR(MATCH($N525,$J:$J,0)),T524,MAX($T$3:$T524)+1))","v":27},""]
[null,null,null,null,null,null,null,null,null,null,null,null,null,{"$f":"IF(P526=\"\",\"\",MAX($N$3:$N525)+1)","v":523},542,"محمد523",null,null,null,{"$f":"IF(N526=\"\",\"\",IF(ISERROR(MATCH($N526,$J:$J,0)),T525,MAX($T$3:$T525)+1))","v":27},""]
[null,null,null,null,null,null,null,null,null,null,null,null,null,{"$f":"IF(P527=\"\",\"\",MAX($N$3:$N526)+1)","v":524},543,"محمد524",null,null,null,{"$f":"IF(N527=\"\",\"\",IF(ISERROR(MATCH($N527,$J:$J,0)),T526,MAX($T$3:$T526)+1))","v":27},""]
[null,null,null,null,null,null,null,null,null,null,null,null,null,{"$f":"IF(P528=\"\",\"\",MAX($N$3:$N527)+1)","v":525},544,"محمد525",null,null,null,{"$f":"IF(N528=\"\",\"\",IF(ISERROR(MATCH($N528,$J:$J,0)),T527,MAX($T$3:$T527)+1))","v":27},""]
[null,null,null,null,null,null,null,null,null,null,null,null,null,{"$f":"IF(P529=\"\",\"\",MAX($N$3:$N528)+1)","v":526},545,"محمد526",null,null,null,{"$f":"IF(N529=\"\",\"\",IF(ISERROR(MATCH($N529,$J:$J,0)),T528,MAX($T$3:$T528)+1))","v":27},""]
[null,null,null,null,null,null,null,null,null,null,null,null,null,{"$f":"IF(P530=\"\",\"\",MAX($N$3:$N529)+1)","v":527},546,"محمد527",null,null,null,{"$f":"IF(N530=\"\",\"\",IF(ISERROR(MATCH($N530,$J:$J,0)),T529,MAX($T$3:$T529)+1))","v":27},""]
[null,null,null,null,null,null,null,null,null,null,null,null,null,{"$f":"IF(P531=\"\",\"\",MAX($N$3:$N530)+1)","v":528},547,"محمد528",null,null,null,{"$f":"IF(N531=\"\",\"\",IF(ISERROR(MATCH($N531,$J:$J,0)),T530,MAX($T$3:$T530)+1))","v":27},""]
[null,null,null,null,null,null,null,null,null,null,null,null,null,{"$f":"IF(P532=\"\",\"\",MAX($N$3:$N531)+1)","v":529},548,"محمد529",null,null,null,{"$f":"IF(N532=\"\",\"\",IF(ISERROR(MATCH($N532,$J:$J,0)),T531,MAX($T$3:$T531)+1))","v":27},""]
[null,null,null,null,null,null,null,null,null,null,null,null,null,{"$f":"IF(P533=\"\",\"\",MAX($N$3:$N532)+1)","v":530},549,"محمد530",null,null,null,{"$f":"IF(N533=\"\",\"\",IF(ISERROR(MATCH($N533,$J:$J,0)),T532,MAX($T$3:$T532)+1))","v":27},""]
[null,null,null,null,null,null,null,null,null,null,null,null,null,{"$f":"IF(P534=\"\",\"\",MAX($N$3:$N533)+1)","v":531},550,"محمد531",null,null,null,{"$f":"IF(N534=\"\",\"\",IF(ISERROR(MATCH($N534,$J:$J,0)),T533,MAX($T$3:$T533)+1))","v":27},""]
[null,null,null,null,null,null,null,null,null,null,null,null,null,{"$f":"IF(P535=\"\",\"\",MAX($N$3:$N534)+1)","v":532},551,"محمد532",null,null,null,{"$f":"IF(N535=\"\",\"\",IF(ISERROR(MATCH($N535,$J:$J,0)),T534,MAX($T$3:$T534)+1))","v":27},""]
[null,null,null,null,null,null,null,null,null,null,null,null,null,{"$f":"IF(P536=\"\",\"\",MAX($N$3:$N535)+1)","v":533},552,"محمد533",null,null,null,{"$f":"IF(N536=\"\",\"\",IF(ISERROR(MATCH($N536,$J:$J,0)),T535,MAX($T$3:$T535)+1))","v":27},""]
[null,null,null,null,null,null,null,null,null,null,null,null,null,{"$f":"IF(P537=\"\",\"\",MAX($N$3:$N536)+1)","v":534},553,"محمد534",null,null,null,{"$f":"IF(N537=\"\",\"\",IF(ISERROR(MATCH($N537,$J:$J,0)),T536,MAX($T$3:$T536)+1))","v":27},""]
[null,null,null,null,null,null,null,null,null,null,null,null,null,{"$f":"IF(P538=\"\",\"\",MAX($N$3:$N537)+1)","v":535},554,"محمد535",null,null,null,{"$f":"IF(N538=\"\",\"\",IF(ISERROR(MATCH($N538,$J:$J,0)),T537,MAX($T$3:$T537)+1))","v":27},""]
[null,null,null,null,null,null,null,null,null,null,null,null,null,{"$f":"IF(P539=\"\",\"\",MAX($N$3:$N538)+1)","v":536},555,"محمد536",null,null,null,{"$f":"IF(N539=\"\",\"\",IF(ISERROR(MATCH($N539,$J:$J,0)),T538,MAX($T$3:$T538)+1))","v":27},""]
[null,null,null,null,null,null,null,null,null,null,null,null,null,{"$f":"IF(P540=\"\",\"\",MAX($N$3:$N539)+1)","v":537},556,"محمد537",null,null,null,{"$f":"IF(N540=\"\",\"\",IF(ISERROR(MATCH($N540,$J:$J,0)),T539,MAX($T$3:$T539)+1))","v":27},""]
[null,null,null,null,null,null,null,null,null,null,null,null,null,{"$f":"IF(P541=\"\",\"\",MAX($N$3:$N540)+1)","v":538},557,"محمد538",null,null,null,{"$f":"IF(N541=\"\",\"\",IF(ISERROR(MATCH($N541,$J:$J,0)),T540,MAX($T$3:$T540)+1))","v":27},""]
[null,null,null,null,null,null,null,null,null,null,null,null,null,{"$f":"IF(P542=\"\",\"\",MAX($N$3:$N541)+1)","v":539},558,"محمد539",null,null,null,{"$f":"IF(N542=\"\",\"\",IF(ISERROR(MATCH($N542,$J:$J,0)),T541,MAX($T$3:$T541)+1))","v":27},""]
[null,null,null,null,null,null,null,null,null,null,null,null,null,{"$f":"IF(P543=\"\",\"\",MAX($N$3:$N542)+1)","v":540},559,"محمد540",null,null,null,{"$f":"IF(N543=\"\",\"\",IF(ISERROR(MATCH($N543,$J:$J,0)),T542,MAX($T$3:$T542)+1))","v":27},"نهاية اللجنة"]
[null,null,null,null,null,null,null,null,null,null,null,null,null,{"$f":"IF(P544=\"\",\"\",MAX($N$3:$N543)+1)","v":""},"",null,null,null,null,{"$f":"IF(N544=\"\",\"\",IF(ISERROR(MATCH($N544,$J:$J,0)),T543,MAX($T$3:$T543)+1))","v":""},""]
[null,null,null,null,null,null,null,null,null,null,null,null,null,{"$f":"IF(P545=\"\",\"\",MAX($N$3:$N544)+1)","v":""},"",null,null,null,null,{"$f":"IF(N545=\"\",\"\",IF(ISERROR(MATCH($N545,$J:$J,0)),T544,MAX($T$3:$T544)+1))","v":""},""]
[null,null,null,null,null,null,null,null,null,null,null,null,null,{"$f":"IF(P546=\"\",\"\",MAX($N$3:$N545)+1)","v":""},"",null,null,null,null,{"$f":"IF(N546=\"\",\"\",IF(ISERROR(MATCH($N546,$J:$J,0)),T545,MAX($T$3:$T545)+1))","v":""},""]
[null,null,null,null,null,null,null,null,null,null,null,null,null,{"$f":"IF(P547=\"\",\"\",MAX($N$3:$N546)+1)","v":""},"",null,null,null,null,{"$f":"IF(N547=\"\",\"\",IF(ISERROR(MATCH($N547,$J:$J,0)),T546,MAX($T$3:$T546)+1))","v":""},""]
[null,null,null,null,null,null,null,null,null,null,null,null,null,{"$f":"IF(P548=\"\",\"\",MAX($N$3:$N547)+1)","v":""},"",null,null,null,null,{"$f":"IF(N548=\"\",\"\",IF(ISERROR(MATCH($N548,$J:$J,0)),T547,MAX($T$3:$T547)+1))","v":""},""]
[null,null,null,null,null,null,null,null,null,null,null,null,null,{"$f":"IF(P549=\"\",\"\",MAX($N$3:$N548)+1)","v":""},"",null,null,null,null,{"$f":"IF(N549=\"\",\"\",IF(ISERROR(MATCH($N549,$J:$J,0)),T548,MAX($T$3:$T548)+1))","v":""},""]
[null,null,null,null,null,null,null,null,null,null,null,null,null,{"$f":"IF(P550=\"\",\"\",MAX($N$3:$N549)+1)","v":""},"",null,null,null,null,{"$f":"IF(N550=\"\",\"\",IF(ISERROR(MATCH($N550,$J:$J,0)),T549,MAX($T$3:$T549)+1))","v":""},""]
[null,null,null,null,null,null,null,null,null,null,null,null,null,{"$f":"IF(P551=\"\",\"\",MAX($N$3:$N550)+1)","v":""},"",null,null,null,null,{"$f":"IF(N551=\"\",\"\",IF(ISERROR(MATCH($N551,$J:$J,0)),T550,MAX($T$3:$T550)+1))","v":""},""]
[null,null,null,null,null,null,null,null,null,null,null,null,null,{"$f":"IF(P552=\"\",\"\",MAX($N$3:$N551)+1)","v":""},"",null,null,null,null,{"$f":"IF(N552=\"\",\"\",IF(ISERROR(MATCH($N552,$J:$J,0)),T551,MAX($T$3:$T551)+1))","v":""},""]
[null,null,null,null,null,null,null,null,null,null,null,null,null,{"$f":"IF(P553=\"\",\"\",MAX($N$3:$N552)+1)","v":""},"",null,null,null,null,{"$f":"IF(N553=\"\",\"\",IF(ISERROR(MATCH($N553,$J:$J,0)),T552,MAX($T$3:$T552)+1))","v":""},""]
[null,null,null,null,null,null,null,null,null,null,null,null,null,{"$f":"IF(P554=\"\",\"\",MAX($N$3:$N553)+1)","v":""},"",null,null,null,null,{"$f":"IF(N554=\"\",\"\",IF(ISERROR(MATCH($N554,$J:$J,0)),T553,MAX($T$3:$T553)+1))","v":""},""]
[null,null,null,null,null,null,null,null,null,null,null,null,null,{"$f":"IF(P555=\"\",\"\",MAX($N$3:$N554)+1)","v":""},"",null,null,null,null,{"$f":"IF(N555=\"\",\"\",IF(ISERROR(MATCH($N555,$J:$J,0)),T554,MAX($T$3:$T554)+1))","v":""},""]
[null,null,null,null,null,null,null,null,null,null,null,null,null,{"$f":"IF(P556=\"\",\"\",MAX($N$3:$N555)+1)","v":""},"",null,null,null,null,{"$f":"IF(N556=\"\",\"\",IF(ISERROR(MATCH($N556,$J:$J,0)),T555,MAX($T$3:$T555)+1))","v":""},""]
[null,null,null,null,null,null,null,null,null,null,null,null,null,{"$f":"IF(P557=\"\",\"\",MAX($N$3:$N556)+1)","v":""},"",null,null,null,null,{"$f":"IF(N557=\"\",\"\",IF(ISERROR(MATCH($N557,$J:$J,0)),T556,MAX($T$3:$T556)+1))","v":""},""]
[null,null,null,null,null,null,null,null,null,null,null,null,null,{"$f":"IF(P558=\"\",\"\",MAX($N$3:$N557)+1)","v":""},"",null,null,null,null,{"$f":"IF(N558=\"\",\"\",IF(ISERROR(MATCH($N558,$J:$J,0)),T557,MAX($T$3:$T557)+1))","v":""},""]
[null,null,null,null,null,null,null,null,null,null,null,null,null,{"$f":"IF(P559=\"\",\"\",MAX($N$3:$N558)+1)","v":""},"",null,null,null,null,{"$f":"IF(N559=\"\",\"\",IF(ISERROR(MATCH($N559,$J:$J,0)),T558,MAX($T$3:$T558)+1))","v":""},""]
[null,null,null,null,null,null,null,null,null,null,null,null,null,{"$f":"IF(P560=\"\",\"\",MAX($N$3:$N559)+1)","v":""},"",null,null,null,null,{"$f":"IF(N560=\"\",\"\",IF(ISERROR(MATCH($N560,$J:$J,0)),T559,MAX($T$3:$T559)+1))","v":""},""]
[null,null,null,null,null,null,null,null,null,null,null,null,null,{"$f":"IF(P561=\"\",\"\",MAX($N$3:$N560)+1)","v":""},"",null,null,null,null,{"$f":"IF(N561=\"\",\"\",IF(ISERROR(MATCH($N561,$J:$J,0)),T560,MAX($T$3:$T560)+1))","v":""},""]
[null,null,null,null,null,null,null,null,null,null,null,null,null,{"$f":"IF(P562=\"\",\"\",MAX($N$3:$N561)+1)","v":""},"",null,null,null,null,{"$f":"IF(N562=\"\",\"\",IF(ISERROR(MATCH($N562,$J:$J,0)),T561,MAX($T$3:$T561)+1))","v":""},""]
[null,null,null,null,null,null,null,null,null,null,null,null,null,{"$f":"IF(P563=\"\",\"\",MAX($N$3:$N562)+1)","v":""},"",null,null,null,null,{"$f":"IF(N563=\"\",\"\",IF(ISERROR(MATCH($N563,$J:$J,0)),T562,MAX($T$3:$T562)+1))","v":""},""]
[null,null,null,null,null,null,null,null,null,null,null,null,null,{"$f":"IF(P564=\"\",\"\",MAX($N$3:$N563)+1)","v":""},"",null,null,null,null,{"$f":"IF(N564=\"\",\"\",IF(ISERROR(MATCH($N564,$J:$J,0)),T563,MAX($T$3:$T563)+1))","v":""},""]
[null,null,null,null,null,null,null,null,null,null,null,null,null,{"$f":"IF(P565=\"\",\"\",MAX($N$3:$N564)+1)","v":""},"",null,null,null,null,{"$f":"IF(N565=\"\",\"\",IF(ISERROR(MATCH($N565,$J:$J,0)),T564,MAX($T$3:$T564)+1))","v":""},""]
[null,null,null,null,null,null,null,null,null,null,null,null,null,{"$f":"IF(P566=\"\",\"\",MAX($N$3:$N565)+1)","v":""},"",null,null,null,null,{"$f":"IF(N566=\"\",\"\",IF(ISERROR(MATCH($N566,$J:$J,0)),T565,MAX($T$3:$T565)+1))","v":""},""]
[null,null,null,null,null,null,null,null,null,null,null,null,null,{"$f":"IF(P567=\"\",\"\",MAX($N$3:$N566)+1)","v":""},"",null,null,null,null,{"$f":"IF(N567=\"\",\"\",IF(ISERROR(MATCH($N567,$J:$J,0)),T566,MAX($T$3:$T566)+1))","v":""},""]
[null,null,null,null,null,null,null,null,null,null,null,null,null,{"$f":"IF(P568=\"\",\"\",MAX($N$3:$N567)+1)","v":""},"",null,null,null,null,{"$f":"IF(N568=\"\",\"\",IF(ISERROR(MATCH($N568,$J:$J,0)),T567,MAX($T$3:$T567)+1))","v":""},""]
[null,null,null,null,null,null,null,null,null,null,null,null,null,{"$f":"IF(P569=\"\",\"\",MAX($N$3:$N568)+1)","v":""},"",null,null,null,null,{"$f":"IF(N569=\"\",\"\",IF(ISERROR(MATCH($N569,$J:$J,0)),T568,MAX($T$3:$T568)+1))","v":""},""]
[null,null,null,null,null,null,null,null,null,null,null,null,null,{"$f":"IF(P570=\"\",\"\",MAX($N$3:$N569)+1)","v":""},"",null,null,null,null,{"$f":"IF(N570=\"\",\"\",IF(ISERROR(MATCH($N570,$J:$J,0)),T569,MAX($T$3:$T569)+1))","v":""},""]
[null,null,null,null,null,null,null,null,null,null,null,null,null,{"$f":"IF(P571=\"\",\"\",MAX($N$3:$N570)+1)","v":""},"",null,null,null,null,{"$f":"IF(N571=\"\",\"\",IF(ISERROR(MATCH($N571,$J:$J,0)),T570,MAX($T$3:$T570)+1))","v":""},""]
[null,null,null,null,null,null,null,null,null,null,null,null,null,{"$f":"IF(P572=\"\",\"\",MAX($N$3:$N571)+1)","v":""},"",null,null,null,null,{"$f":"IF(N572=\"\",\"\",IF(ISERROR(MATCH($N572,$J:$J,0)),T571,MAX($T$3:$T571)+1))","v":""},""]
[null,null,null,null,null,null,null,null,null,null,null,null,null,{"$f":"IF(P573=\"\",\"\",MAX($N$3:$N572)+1)","v":""},"",null,null,null,null,{"$f":"IF(N573=\"\",\"\",IF(ISERROR(MATCH($N573,$J:$J,0)),T572,MAX($T$3:$T572)+1))","v":""},""]
[null,null,null,null,null,null,null,null,null,null,null,null,null,{"$f":"IF(P574=\"\",\"\",MAX($N$3:$N573)+1)","v":""},"",null,null,null,null,{"$f":"IF(N574=\"\",\"\",IF(ISERROR(MATCH($N574,$J:$J,0)),T573,MAX($T$3:$T573)+1))","v":""},""]
[null,null,null,null,null,null,null,null,null,null,null,null,null,{"$f":"IF(P575=\"\",\"\",MAX($N$3:$N574)+1)","v":""},"",null,null,null,null,{"$f":"IF(N575=\"\",\"\",IF(ISERROR(MATCH($N575,$J:$J,0)),T574,MAX($T$3:$T574)+1))","v":""},""]
[null,null,null,null,null,null,null,null,null,null,null,null,null,{"$f":"IF(P576=\"\",\"\",MAX($N$3:$N575)+1)","v":""},"",null,null,null,null,{"$f":"IF(N576=\"\",\"\",IF(ISERROR(MATCH($N576,$J:$J,0)),T575,MAX($T$3:$T575)+1))","v":""},""]
[null,null,null,null,null,null,null,null,null,null,null,null,null,{"$f":"IF(P577=\"\",\"\",MAX($N$3:$N576)+1)","v":""},"",null,null,null,null,{"$f":"IF(N577=\"\",\"\",IF(ISERROR(MATCH($N577,$J:$J,0)),T576,MAX($T$3:$T576)+1))","v":""},""]
[null,null,null,null,null,null,null,null,null,null,null,null,null,{"$f":"IF(P578=\"\",\"\",MAX($N$3:$N577)+1)","v":""},"",null,null,null,null,{"$f":"IF(N578=\"\",\"\",IF(ISERROR(MATCH($N578,$J:$J,0)),T577,MAX($T$3:$T577)+1))","v":""},""]
[null,null,null,null,null,null,null,null,null,null,null,null,null,{"$f":"IF(P579=\"\",\"\",MAX($N$3:$N578)+1)","v":""},"",null,null,null,null,{"$f":"IF(N579=\"\",\"\",IF(ISERROR(MATCH($N579,$J:$J,0)),T578,MAX($T$3:$T578)+1))","v":""},""]
[null,null,null,null,null,null,null,null,null,null,null,null,null,{"$f":"IF(P580=\"\",\"\",MAX($N$3:$N579)+1)","v":""},"",null,null,null,null,{"$f":"IF(N580=\"\",\"\",IF(ISERROR(MATCH($N580,$J:$J,0)),T579,MAX($T$3:$T579)+1))","v":""},""]
[null,null,null,null,null,null,null,null,null,null,null,null,null,{"$f":"IF(P581=\"\",\"\",MAX($N$3:$N580)+1)","v":""},"",null,null,null,null,{"$f":"IF(N581=\"\",\"\",IF(ISERROR(MATCH($N581,$J:$J,0)),T580,MAX($T$3:$T580)+1))","v":""},{"$f":"IF(T581=T582,\"\",\"نهاية اللجنة\")","v":""}]
[null,null,null,null,null,null,null,null,null,null,null,null,null,{"$f":"IF(P582=\"\",\"\",MAX($N$3:$N581)+1)","v":""},{"$f":"IF(O581=\"\",\"\",IF(O581+1>$O$2,\"\",O581+1))","v":""},null,null,null,null,{"$f":"IF(N582=\"\",\"\",IF(ISERROR(MATCH($N582,$J:$J,0)),T581,MAX($T$3:$T581)+1))","v":""},""]
[null,null,null,null,null,null,null,null,null,null,null,null,null,{"$f":"IF(P583=\"\",\"\",MAX($N$3:$N582)+1)","v":""},"",null,null,null,null,{"$f":"IF(N583=\"\",\"\",IF(ISERROR(MATCH($N583,$J:$J,0)),T582,MAX($T$3:$T582)+1))","v":""},""]
[null,null,null,null,null,null,null,null,null,null,null,null,null,{"$f":"IF(P584=\"\",\"\",MAX($N$3:$N583)+1)","v":""},"",null,null,null,null,{"$f":"IF(N584=\"\",\"\",IF(ISERROR(MATCH($N584,$J:$J,0)),T583,MAX($T$3:$T583)+1))","v":""},""]
[null,null,null,null,null,null,null,null,null,null,null,null,null,{"$f":"IF(P585=\"\",\"\",MAX($N$3:$N584)+1)","v":""},"",null,null,null,null,{"$f":"IF(N585=\"\",\"\",IF(ISERROR(MATCH($N585,$J:$J,0)),T584,MAX($T$3:$T584)+1))","v":""},""]
[null,null,null,null,null,null,null,null,null,null,null,null,null,{"$f":"IF(P586=\"\",\"\",MAX($N$3:$N585)+1)","v":""},"",null,null,null,null,{"$f":"IF(N586=\"\",\"\",IF(ISERROR(MATCH($N586,$J:$J,0)),T585,MAX($T$3:$T585)+1))","v":""},""]
[null,null,null,null,null,null,null,null,null,null,null,null,null,{"$f":"IF(P587=\"\",\"\",MAX($N$3:$N586)+1)","v":""},"",null,null,null,null,{"$f":"IF(N587=\"\",\"\",IF(ISERROR(MATCH($N587,$J:$J,0)),T586,MAX($T$3:$T586)+1))","v":""},""]
[null,null,null,null,null,null,null,null,null,null,null,null,null,{"$f":"IF(P588=\"\",\"\",MAX($N$3:$N587)+1)","v":""},"",null,null,null,null,{"$f":"IF(N588=\"\",\"\",IF(ISERROR(MATCH($N588,$J:$J,0)),T587,MAX($T$3:$T587)+1))","v":""},""]
[null,null,null,null,null,null,null,null,null,null,null,null,null,{"$f":"IF(P589=\"\",\"\",MAX($N$3:$N588)+1)","v":""},"",null,null,null,null,{"$f":"IF(N589=\"\",\"\",IF(ISERROR(MATCH($N589,$J:$J,0)),T588,MAX($T$3:$T588)+1))","v":""},""]
[null,null,null,null,null,null,null,null,null,null,null,null,null,{"$f":"IF(P590=\"\",\"\",MAX($N$3:$N589)+1)","v":""},"",null,null,null,null,{"$f":"IF(N590=\"\",\"\",IF(ISERROR(MATCH($N590,$J:$J,0)),T589,MAX($T$3:$T589)+1))","v":""},""]
[null,null,null,null,null,null,null,null,null,null,null,null,null,{"$f":"IF(P591=\"\",\"\",MAX($N$3:$N590)+1)","v":""},"",null,null,null,null,{"$f":"IF(N591=\"\",\"\",IF(ISERROR(MATCH($N591,$J:$J,0)),T590,MAX($T$3:$T590)+1))","v":""},""]
[null,null,null,null,null,null,null,null,null,null,null,null,null,{"$f":"IF(P592=\"\",\"\",MAX($N$3:$N591)+1)","v":""},"",null,null,null,null,{"$f":"IF(N592=\"\",\"\",IF(ISERROR(MATCH($N592,$J:$J,0)),T591,MAX($T$3:$T591)+1))","v":""},""]
[null,null,null,null,null,null,null,null,null,null,null,null,null,{"$f":"IF(P593=\"\",\"\",MAX($N$3:$N592)+1)","v":""},"",null,null,null,null,{"$f":"IF(N593=\"\",\"\",IF(ISERROR(MATCH($N593,$J:$J,0)),T592,MAX($T$3:$T592)+1))","v":""},""]
[null,null,null,null,null,null,null,null,null,null,null,null,null,{"$f":"IF(P594=\"\",\"\",MAX($N$3:$N593)+1)","v":""},"",null,null,null,null,{"$f":"IF(N594=\"\",\"\",IF(ISERROR(MATCH($N594,$J:$J,0)),T593,MAX($T$3:$T593)+1))","v":""},""]
[null,null,null,null,null,null,null,null,null,null,null,null,null,{"$f":"IF(P595=\"\",\"\",MAX($N$3:$N594)+1)","v":""},"",null,null,null,null,{"$f":"IF(N595=\"\",\"\",IF(ISERROR(MATCH($N595,$J:$J,0)),T594,MAX($T$3:$T594)+1))","v":""},""]
[null,null,null,null,null,null,null,null,null,null,null,null,null,{"$f":"IF(P596=\"\",\"\",MAX($N$3:$N595)+1)","v":""},"",null,null,null,null,{"$f":"IF(N596=\"\",\"\",IF(ISERROR(MATCH($N596,$J:$J,0)),T595,MAX($T$3:$T595)+1))","v":""},""]
[null,null,null,null,null,null,null,null,null,null,null,null,null,{"$f":"IF(P597=\"\",\"\",MAX($N$3:$N596)+1)","v":""},"",null,null,null,null,{"$f":"IF(N597=\"\",\"\",IF(ISERROR(MATCH($N597,$J:$J,0)),T596,MAX($T$3:$T596)+1))","v":""},""]
[null,null,null,null,null,null,null,null,null,null,null,null,null,{"$f":"IF(P598=\"\",\"\",MAX($N$3:$N597)+1)","v":""},"",null,null,null,null,{"$f":"IF(N598=\"\",\"\",IF(ISERROR(MATCH($N598,$J:$J,0)),T597,MAX($T$3:$T597)+1))","v":""},""]
[null,null,null,null,null,null,null,null,null,null,null,null,null,{"$f":"IF(P599=\"\",\"\",MAX($N$3:$N598)+1)","v":""},"",null,null,null,null,{"$f":"IF(N599=\"\",\"\",IF(ISERROR(MATCH($N599,$J:$J,0)),T598,MAX($T$3:$T598)+1))","v":""},""]
[null,null,null,null,null,null,null,null,null,null,null,null,null,{"$f":"IF(P600=\"\",\"\",MAX($N$3:$N599)+1)","v":""},"",null,null,null,null,{"$f":"IF(N600=\"\",\"\",IF(ISERROR(MATCH($N600,$J:$J,0)),T599,MAX($T$3:$T599)+1))","v":""},""]
[null,null,null,null,null,null,null,null,null,null,null,null,null,{"$f":"IF(P601=\"\",\"\",MAX($N$3:$N600)+1)","v":""},"",null,null,null,null,{"$f":"IF(N601=\"\",\"\",IF(ISERROR(MATCH($N601,$J:$J,0)),T600,MAX($T$3:$T600)+1))","v":""},""]
[null,null,null,null,null,null,null,null,null,null,null,null,null,{"$f":"IF(P602=\"\",\"\",MAX($N$3:$N601)+1)","v":""},"",null,null,null,null,{"$f":"IF(N602=\"\",\"\",IF(ISERROR(MATCH($N602,$J:$J,0)),T601,MAX($T$3:$T601)+1))","v":""},""]
[null,null,null,null,null,null,null,null,null,null,null,null,null,{"$f":"IF(P603=\"\",\"\",MAX($N$3:$N602)+1)","v":""},"",null,null,null,null,{"$f":"IF(N603=\"\",\"\",IF(ISERROR(MATCH($N603,$J:$J,0)),T602,MAX($T$3:$T602)+1))","v":""},""]

{"sheet":"أرقام جلوس السادس","index":18,"n_rows":224,"n_cols":11,"rows_kept":224,"cut":false,"hidden":false,"merged":[[18,8,18,9],[33,8,33,9],[48,8,48,9],[63,8,63,9],[78,8,78,9],[93,8,93,9],[108,8,108,9],[123,8,123,9],[138,8,138,9],[210,6,210,7],[211,6,211,7],[212,6,212,10],[214,6,215,6],[214,7,215,7],[214,8,214,9],[214,10,215,10],[195,6,195,7],[196,6,196,7],[197,6,197,10],[199,6,200,6],[199,7,200,7],[199,8,199,9],[199,10,200,10],[213,8,213,9],[198,8,198,9],[180,6,180,7],[181,6,181,7],[182,6,182,10],[184,6,185,6],[184,7,185,7],[184,8,184,9],[184,10,185,10],[165,6,165,7],[166,6,166,7],[167,6,167,10],[169,6,170,6],[169,7,170,7],[169,8,169,9],[169,10,170,10],[166,8,166,9],[168,8,168,9],[183,8,183,9],[150,6,150,7],[151,6,151,7],[152,6,152,10],[154,6,155,6],[154,7,155,7],[154,8,154,9],[154,10,155,10],[135,6,135,7],[136,6,136,7],[137,6,137,10],[139,6,140,6],[139,7,140,7],[139,8,139,9],[139,10,140,10],[136,8,136,9],[151,8,151,9],[153,8,153,9],[120,6,120,7],[121,6,121,7],[122,6,122,10],[124,6,125,6],[124,7,125,7],[124,8,124,9],[124,10,125,10],[105,6,105,7],[106,6,106,7],[107,6,107,10],[109,6,110,6],[109,7,110,7],[109,8,109,9],[109,10,110,10],[106,8,106,9],[121,8,121,9],[90,6,90,7],[91,6,91,7],[92,6,92,10],[94,6,95,6],[94,7,95,7],[94,8,94,9],[94,10,95,10],[75,6,75,7],[76,6,76,7],[77,6,77,10],[79,6,80,6],[79,7,80,7],[79,8,79,9],[79,10,80,10],[76,8,76,9],[91,8,91,9],[64,6,65,6],[64,7,65,7],[64,8,64,9],[64,10,65,10],[45,6,45,7],[46,6,46,7],[47,6,47,10],[49,6,50,6],[49,7,50,7],[49,8,49,9],[49,10,50,10],[61,8,61,9],[4,10,5,10],[210,0,210,1],[180,0,180,1],[181,0,181,1],[182,0,182,4],[184,0,185,0],[184,1,185,1],[184,2,184,3],[184,4,185,4],[165,0,165,1],[166,0,166,1],[167,0,167,4],[169,0,170,0],[169,1,170,1],[169,2,169,3],[30,6,30,7],[31,6,31,7],[32,6,32,10],[34,6,35,6],[34,7,35,7],[34,8,34,9],[34,10,35,10],[15,6,15,7],[150,0,150,1],[211,0,211,1],[212,0,212,4],[214,0,215,0],[214,1,215,1],[214,2,214,3],[214,4,215,4],[195,0,195,1],[196,0,196,1],[197,0,197,4],[199,0,200,0],[199,1,200,1],[199,2,199,3],[199,4,200,4],[151,0,151,1],[152,0,152,4],[154,0,155,0],[154,1,155,1],[154,2,154,3],[154,4,155,4],[151,2,151,3],[166,2,166,3],[150,2,150,3],[165,2,165,3],[153,2,153,3],[135,0,135,1],[136,0,136,1],[137,0,137,4],[139,0,140,0],[139,1,140,1],[139,2,139,3],[139,4,140,4],[120,0,120,1],[121,0,121,1],[122,0,122,4],[124,0,125,0],[124,1,125,1],[124,2,124,3],[124,4,125,4],[121,2,121,3],[136,2,136,3],[120,2,120,3],[135,2,135,3],[123,2,123,3],[138,2,138,3],[105,0,105,1],[79,2,79,3],[78,2,78,3],[106,0,106,1],[107,0,107,4],[109,0,110,0],[109,1,110,1],[109,2,109,3],[109,4,110,4],[90,0,90,1],[91,0,91,1],[92,0,92,4],[94,0,95,0],[94,1,95,1],[94,2,94,3],[94,4,95,4],[91,2,91,3],[106,2,106,3],[93,2,93,3],[108,2,108,3],[60,0,60,1],[61,0,61,1],[62,0,62,4],[64,0,65,0],[64,1,65,1],[64,2,64,3],[64,4,65,4],[61,2,61,3],[76,2,76,3],[75,0,75,1],[76,0,76,1],[0,0,0,1],[1,0,1,1],[2,0,2,4],[4,0,5,0],[4,1,5,1],[4,2,4,3],[15,0,15,1],[16,0,16,1],[17,0,17,4],[19,2,19,3],[19,4,20,4],[4,4,5,4],[45,0,45,1],[46,0,46,1],[47,0,47,4],[49,0,50,0],[49,1,50,1],[49,2,49,3],[49,4,50,4],[30,0,30,1],[31,0,31,1],[32,0,32,4],[34,0,35,0],[34,1,35,1],[34,2,34,3],[34,4,35,4],[181,2,181,3],[181,8,181,9],[196,2,196,3],[196,8,196,9],[211,2,211,3],[211,8,211,9],[3,8,3,9],[3,2,3,3],[1,8,1,9],[1,2,1,3],[16,2,16,3],[16,8,16,9],[31,2,31,3],[31,8,31,9],[46,2,46,3],[46,8,46,9],[79,4,80,4],[169,4,170,4],[168,2,168,3],[1,6,1,7],[2,6,2,10],[4,6,5,6],[4,7,5,7],[4,8,4,9],[0,8,0,9],[0,2,0,3],[15,2,15,3],[30,2,30,3],[45,2,45,3],[60,2,60,3],[75,2,75,3],[90,2,90,3],[105,2,105,3],[0,6,0,7],[16,6,16,7],[17,6,17,10],[19,6,20,6],[19,7,20,7],[19,8,19,9],[19,10,20,10],[60,6,60,7],[61,6,61,7],[62,6,62,10],[77,0,77,4],[79,0,80,0],[79,1,80,1],[19,0,20,0],[19,1,20,1],[183,2,183,3],[198,2,198,3],[213,2,213,3],[180,2,180,3],[195,2,195,3],[210,2,210,3],[15,8,15,9],[30,8,30,9],[45,8,45,9],[60,8,60,9],[75,8,75,9],[90,8,90,9],[105,8,105,9],[120,8,120,9],[135,8,135,9],[150,8,150,9],[165,8,165,9],[180,8,180,9],[195,8,195,9],[210,8,210,9],[18,2,18,3],[33,2,33,3],[48,2,48,3],[63,2,63,3]]}
[{"$f":"'جدول الصف السادس'!$A$1","v":"إدارة /غرب المحلة الكبرى التعليمية"},null,"رقم اللجنة",null,{"$f":"VLOOKUP(E2,kaemh6,7,FALSE)","v":1},null,{"$f":"'جدول الصف السادس'!$A$1","v":"إدارة /غرب المحلة الكبرى التعليمية"},null,"رقم اللجنة",null,{"$f":"VLOOKUP(K2,kaemh6,7,FALSE)","v":1}]
[{"$f":"'جدول الصف السادس'!$A$2","v":"مدرسة د/علي علي حبيش الابتدائية"},null,{"$f":"'جدول الصف السادس'!$C$4","v":"الصف السادس"},null,1,null,{"$f":"'جدول الصف السادس'!$A$2","v":"مدرسة د/علي علي حبيش الابتدائية"},null,{"$f":"'جدول الصف السادس'!$C$4","v":"الصف السادس"},null,{"$f":"E212+1","v":16}]
[{"$f":"'جدول الصف السادس'!$B$3","v":"جدول امتحان الفصل الدراسي الأول / الثاني للعام الدراسي 2019/2018"},null,null,null,null,null,{"$f":"'جدول الصف السادس'!$B$3","v":"جدول امتحان الفصل الدراسي الأول / الثاني للعام الدراسي 2019/2018"}]
["اسم التلميذ",{"$f":"VLOOKUP(E2,kaemh6,3,FALSE)","v":"محمد1"},"رقم الجلوس",null,{"$f":"VLOOKUP(E2,kaemh6,2,FALSE)","v":20},null,"اسم التلميذ",{"$f":"VLOOKUP(K2,kaemh6,3,FALSE)","v":"محمد16"},"رقم الجلوس",null,{"$f":"VLOOKUP(K2,kaemh6,2,FALSE)","v":35}]
["اليوم والتاريخ","المــــــــادة","الوقـــــــت",null,"الزمــــن ",null,"اليوم والتاريخ","المــــــــادة","الوقـــــــت",null,"الزمــــن "]
[null,null,"من ","إلي",null,null,null,null,"من ","إلي"]
[{"$f":"'جدول الصف السادس'!$B$7","v":"السبت"},{"$f":"'جدول الصف السادس'!$C$7","v":"لغة عربية وخط"},{"$f":"'جدول الصف السادس'!$D$7","v":8},{"$f":"'جدول الصف السادس'!$E$7","v":10.3},{"$f":"'جدول الصف السادس'!$F$7","v":"ساعتان ونصف"},null,{"$f":"'جدول الصف السادس'!$B$7","v":"السبت"},{"$f":"'جدول الصف السادس'!$C$7","v":"لغة عربية وخط"},{"$f":"'جدول الصف السادس'!$D$7","v":8},{"$f":"'جدول الصف السادس'!$E$7","v":10.3},{"$f":"'جدول الصف السادس'!$F$7","v":"ساعتان ونصف"}]
[{"$f":"'جدول الصف السادس'!$B$8","v":"2018-01-01"},null,null,null,null,null,{"$f":"'جدول الصف السادس'!$B$8","v":"2018-01-01"}]
[{"$f":"'جدول الصف السادس'!$B$9","v":"الأحد"},{"$f":"'جدول الصف السادس'!$C$9","v":"الرياضيات"},{"$f":"'جدول الصف السادس'!$D$9","v":8},{"$f":"'جدول الصف السادس'!$E$9","v":9.3000000000000007},{"$f":"'جدول الصف السادس'!$F$9","v":"ساعة ونصف"},null,{"$f":"'جدول الصف السادس'!$B$9","v":"الأحد"},{"$f":"'جدول الصف السادس'!$C$9","v":"الرياضيات"},{"$f":"'جدول الصف السادس'!$D$9","v":8},{"$f":"'جدول الصف السادس'!$E$9","v":9.3000000000000007},{"$f":"'جدول الصف السادس'!$F$9","v":"ساعة ونصف"}]
[{"$f":"'جدول الصف السادس'!$B$10","v":"2018-01-02"},{"$f":"'جدول الصف السادس'!$C$10","v":"اللغة الإنجليزية"},{"$f":"'جدول الصف السادس'!$D$10","v":9.4499999999999993},{"$f":"'جدول الصف السادس'!$E$10","v":11.15},{"$f":"'جدول الصف السادس'!$F$10","v":"ساعة ونصف"},null,{"$f":"'جدول الصف السادس'!$B$10","v":"2018-01-02"},{"$f":"'جدول الصف السادس'!$C$10","v":"اللغة الإنجليزية"},{"$f":"'جدول الصف السادس'!$D$10","v":9.4499999999999993},{"$f":"'جدول الصف السادس'!$E$10","v":11.15},{"$f":"'جدول الصف السادس'!$F$10","v":"ساعة ونصف"}]
[{"$f":"'جدول الصف السادس'!$B$11","v":"الاثنين"},{"$f":"'جدول الصف السادس'!$C$11","v":"علوم"},{"$f":"'جدول الصف السادس'!$D$11","v":8},{"$f":"'جدول الصف السادس'!$E$11","v":9.3000000000000007},{"$f":"'جدول الصف السادس'!$F$11","v":"ساعة ونصف"},null,{"$f":"'جدول الصف السادس'!$B$11","v":"الاثنين"},{"$f":"'جدول الصف السادس'!$C$11","v":"علوم"},{"$f":"'جدول الصف السادس'!$D$11","v":8},{"$f":"'جدول الصف السادس'!$E$11","v":9.3000000000000007},{"$f":"'جدول الصف السادس'!$F$11","v":"ساعة ونصف"}]
[{"$f":"'جدول الصف السادس'!$B$12","v":"2018-01-03"},{"$f":"'جدول الصف السادس'!$C$12","v":"التربية الدينية"},{"$f":"'جدول الصف السادس'!$D$12","v":9.4499999999999993},{"$f":"'جدول الصف السادس'!$E$12","v":10.45},{"$f":"'جدول الصف السادس'!$F$12","v":"ساعة ونصف"},null,{"$f":"'جدول الصف السادس'!$B$12","v":"2018-01-03"},{"$f":"'جدول الصف السادس'!$C$12","v":"التربية الدينية"},{"$f":"'جدول الصف السادس'!$D$12","v":9.4499999999999993},{"$f":"'جدول الصف السادس'!$E$12","v":10.45},{"$f":"'جدول الصف السادس'!$F$12","v":"ساعة ونصف"}]
[{"$f":"'جدول الصف السادس'!$B$13","v":"الثلاثاء"},{"$f":"'جدول الصف السادس'!$C$13","v":"الدراسات"},{"$f":"'جدول الصف السادس'!$D$13","v":8},{"$f":"'جدول الصف السادس'!$E$13","v":9.3000000000000007},{"$f":"'جدول الصف السادس'!$F$13","v":"ساعة ونصف"},null,{"$f":"'جدول الصف السادس'!$B$13","v":"الثلاثاء"},{"$f":"'جدول الصف السادس'!$C$13","v":"الدراسات"},{"$f":"'جدول الصف السادس'!$D$13","v":8},{"$f":"'جدول الصف السادس'!$E$13","v":9.3000000000000007},{"$f":"'جدول الصف السادس'!$F$13","v":"ساعة ونصف"}]
[{"$f":"'جدول الصف السادس'!$B$14","v":"2018-01-04"},null,null,null,null,null,{"$f":"'جدول الصف السادس'!$B$14","v":"2018-01-04"}]
[]
[{"$f":"'جدول الصف السادس'!$A$1","v":"إدارة /غرب المحلة الكبرى التعليمية"},null,"رقم اللجنة",null,{"$f":"VLOOKUP(E17,kaemh6,7,FALSE)","v":1},null,{"$f":"'جدول الصف السادس'!$A$1","v":"إدارة /غرب المحلة الكبرى التعليمية"},null,"رقم اللجنة",null,{"$f":"VLOOKUP(K17,kaemh6,7,FALSE)","v":1}]
[{"$f":"'جدول الصف السادس'!$A$2","v":"مدرسة د/علي علي حبيش الابتدائية"},null,{"$f":"'جدول الصف السادس'!$C$4","v":"الصف السادس"},null,{"$f":"E2+1","v":2},null,{"$f":"'جدول الصف السادس'!$A$2","v":"مدرسة د/علي علي حبيش الابتدائية"},null,{"$f":"'جدول الصف السادس'!$C$4","v":"الصف السادس"},null,{"$f":"K2+1","v":17}]
[{"$f":"'جدول الصف السادس'!$B$3","v":"جدول امتحان الفصل الدراسي الأول / الثاني للعام الدراسي 2019/2018"},null,null,null,null,null,{"$f":"'جدول الصف السادس'!$B$3","v":"جدول امتحان الفصل الدراسي الأول / الثاني للعام الدراسي 2019/2018"}]
["اسم التلميذ",{"$f":"VLOOKUP(E17,kaemh6,3,FALSE)","v":"محمد2"},"رقم الجلوس",null,{"$f":"VLOOKUP(E17,kaemh6,2,FALSE)","v":21},null,"اسم التلميذ",{"$f":"VLOOKUP(K17,kaemh6,3,FALSE)","v":"محمد17"},"رقم الجلوس",null,{"$f":"VLOOKUP(K17,kaemh6,2,FALSE)","v":36}]
["اليوم والتاريخ","المــــــــادة","الوقـــــــت",null,"الزمــــن ",null,"اليوم والتاريخ","المــــــــادة","الوقـــــــت",null,"الزمــــن "]
[null,null,"من ","إلي",null,null,null,null,"من ","إلي"]
[{"$f":"'جدول الصف السادس'!$B$7","v":"السبت"},{"$f":"'جدول الصف السادس'!$C$7","v":"لغة عربية وخط"},{"$f":"'جدول الصف السادس'!$D$7","v":8},{"$f":"'جدول الصف السادس'!$E$7","v":10.3},{"$f":"'جدول الصف السادس'!$F$7","v":"ساعتان ونصف"},null,{"$f":"'جدول الصف السادس'!$B$7","v":"السبت"},{"$f":"'جدول الصف السادس'!$C$7","v":"لغة عربية وخط"},{"$f":"'جدول الصف السادس'!$D$7","v":8},{"$f":"'جدول الصف السادس'!$E$7","v":10.3},{"$f":"'جدول الصف السادس'!$F$7","v":"ساعتان ونصف"}]
[{"$f":"'جدول الصف السادس'!$B$8","v":"2018-01-01"},null,null,null,null,null,{"$f":"'جدول الصف السادس'!$B$8","v":"2018-01-01"}]
[{"$f":"'جدول الصف السادس'!$B$9","v":"الأحد"},{"$f":"'جدول الصف السادس'!$C$9","v":"الرياضيات"},{"$f":"'جدول الصف السادس'!$D$9","v":8},{"$f":"'جدول الصف السادس'!$E$9","v":9.3000000000000007},{"$f":"'جدول الصف السادس'!$F$9","v":"ساعة ونصف"},null,{"$f":"'جدول الصف السادس'!$B$9","v":"الأحد"},{"$f":"'جدول الصف السادس'!$C$9","v":"الرياضيات"},{"$f":"'جدول الصف السادس'!$D$9","v":8},{"$f":"'جدول الصف السادس'!$E$9","v":9.3000000000000007},{"$f":"'جدول الصف السادس'!$F$9","v":"ساعة ونصف"}]
[{"$f":"'جدول الصف السادس'!$B$10","v":"2018-01-02"},{"$f":"'جدول الصف السادس'!$C$10","v":"اللغة الإنجليزية"},{"$f":"'جدول الصف السادس'!$D$10","v":9.4499999999999993},{"$f":"'جدول الصف السادس'!$E$10","v":11.15},{"$f":"'جدول الصف السادس'!$F$10","v":"ساعة ونصف"},null,{"$f":"'جدول الصف السادس'!$B$10","v":"2018-01-02"},{"$f":"'جدول الصف السادس'!$C$10","v":"اللغة الإنجليزية"},{"$f":"'جدول الصف السادس'!$D$10","v":9.4499999999999993},{"$f":"'جدول الصف السادس'!$E$10","v":11.15},{"$f":"'جدول الصف السادس'!$F$10","v":"ساعة ونصف"}]
[{"$f":"'جدول الصف السادس'!$B$11","v":"الاثنين"},{"$f":"'جدول الصف السادس'!$C$11","v":"علوم"},{"$f":"'جدول الصف السادس'!$D$11","v":8},{"$f":"'جدول الصف السادس'!$E$11","v":9.3000000000000007},{"$f":"'جدول الصف السادس'!$F$11","v":"ساعة ونصف"},null,{"$f":"'جدول الصف السادس'!$B$11","v":"الاثنين"},{"$f":"'جدول الصف السادس'!$C$11","v":"علوم"},{"$f":"'جدول الصف السادس'!$D$11","v":8},{"$f":"'جدول الصف السادس'!$E$11","v":9.3000000000000007},{"$f":"'جدول الصف السادس'!$F$11","v":"ساعة ونصف"}]
[{"$f":"'جدول الصف السادس'!$B$12","v":"2018-01-03"},{"$f":"'جدول الصف السادس'!$C$12","v":"التربية الدينية"},{"$f":"'جدول الصف السادس'!$D$12","v":9.4499999999999993},{"$f":"'جدول الصف السادس'!$E$12","v":10.45},{"$f":"'جدول الصف السادس'!$F$12","v":"ساعة ونصف"},null,{"$f":"'جدول الصف السادس'!$B$12","v":"2018-01-03"},{"$f":"'جدول الصف السادس'!$C$12","v":"التربية الدينية"},{"$f":"'جدول الصف السادس'!$D$12","v":9.4499999999999993},{"$f":"'جدول الصف السادس'!$E$12","v":10.45},{"$f":"'جدول الصف السادس'!$F$12","v":"ساعة ونصف"}]
[{"$f":"'جدول الصف السادس'!$B$13","v":"الثلاثاء"},{"$f":"'جدول الصف السادس'!$C$13","v":"الدراسات"},{"$f":"'جدول الصف السادس'!$D$13","v":8},{"$f":"'جدول الصف السادس'!$E$13","v":9.3000000000000007},{"$f":"'جدول الصف السادس'!$F$13","v":"ساعة ونصف"},null,{"$f":"'جدول الصف السادس'!$B$13","v":"الثلاثاء"},{"$f":"'جدول الصف السادس'!$C$13","v":"الدراسات"},{"$f":"'جدول الصف السادس'!$D$13","v":8},{"$f":"'جدول الصف السادس'!$E$13","v":9.3000000000000007},{"$f":"'جدول الصف السادس'!$F$13","v":"ساعة ونصف"}]
[{"$f":"'جدول الصف السادس'!$B$14","v":"2018-01-04"},null,null,null,null,null,{"$f":"'جدول الصف السادس'!$B$14","v":"2018-01-04"}]
[]
[{"$f":"'جدول الصف السادس'!$A$1","v":"إدارة /غرب المحلة الكبرى التعليمية"},null,"رقم اللجنة",null,{"$f":"VLOOKUP(E32,kaemh6,7,FALSE)","v":1},null,{"$f":"'جدول الصف السادس'!$A$1","v":"إدارة /غرب المحلة الكبرى التعليمية"},null,"رقم اللجنة",null,{"$f":"VLOOKUP(K32,kaemh6,7,FALSE)","v":1}]
[{"$f":"'جدول الصف السادس'!$A$2","v":"مدرسة د/علي علي حبيش الابتدائية"},null,{"$f":"'جدول الصف السادس'!$C$4","v":"الصف السادس"},null,{"$f":"E17+1","v":3},null,{"$f":"'جدول الصف السادس'!$A$2","v":"مدرسة د/علي علي حبيش الابتدائية"},null,{"$f":"'جدول الصف السادس'!$C$4","v":"الصف السادس"},null,{"$f":"K17+1","v":18}]
[{"$f":"'جدول الصف السادس'!$B$3","v":"جدول امتحان الفصل الدراسي الأول / الثاني للعام الدراسي 2019/2018"},null,null,null,null,null,{"$f":"'جدول الصف السادس'!$B$3","v":"جدول امتحان الفصل الدراسي الأول / الثاني للعام الدراسي 2019/2018"}]
["اسم التلميذ",{"$f":"VLOOKUP(E32,kaemh6,3,FALSE)","v":"محمد3"},"رقم الجلوس",null,{"$f":"VLOOKUP(E32,kaemh6,2,FALSE)","v":22},null,"اسم التلميذ",{"$f":"VLOOKUP(K32,kaemh6,3,FALSE)","v":"محمد18"},"رقم الجلوس",null,{"$f":"VLOOKUP(K32,kaemh6,2,FALSE)","v":37}]
["اليوم والتاريخ","المــــــــادة","الوقـــــــت",null,"الزمــــن ",null,"اليوم والتاريخ","المــــــــادة","الوقـــــــت",null,"الزمــــن "]
[null,null,"من ","إلي",null,null,null,null,"من ","إلي"]
[{"$f":"'جدول الصف السادس'!$B$7","v":"السبت"},{"$f":"'جدول الصف السادس'!$C$7","v":"لغة عربية وخط"},{"$f":"'جدول الصف السادس'!$D$7","v":8},{"$f":"'جدول الصف السادس'!$E$7","v":10.3},{"$f":"'جدول الصف السادس'!$F$7","v":"ساعتان ونصف"},null,{"$f":"'جدول الصف السادس'!$B$7","v":"السبت"},{"$f":"'جدول الصف السادس'!$C$7","v":"لغة عربية وخط"},{"$f":"'جدول الصف السادس'!$D$7","v":8},{"$f":"'جدول الصف السادس'!$E$7","v":10.3},{"$f":"'جدول الصف السادس'!$F$7","v":"ساعتان ونصف"}]
[{"$f":"'جدول الصف السادس'!$B$8","v":"2018-01-01"},null,null,null,null,null,{"$f":"'جدول الصف السادس'!$B$8","v":"2018-01-01"}]
[{"$f":"'جدول الصف السادس'!$B$9","v":"الأحد"},{"$f":"'جدول الصف السادس'!$C$9","v":"الرياضيات"},{"$f":"'جدول الصف السادس'!$D$9","v":8},{"$f":"'جدول الصف السادس'!$E$9","v":9.3000000000000007},{"$f":"'جدول الصف السادس'!$F$9","v":"ساعة ونصف"},null,{"$f":"'جدول الصف السادس'!$B$9","v":"الأحد"},{"$f":"'جدول الصف السادس'!$C$9","v":"الرياضيات"},{"$f":"'جدول الصف السادس'!$D$9","v":8},{"$f":"'جدول الصف السادس'!$E$9","v":9.3000000000000007},{"$f":"'جدول الصف السادس'!$F$9","v":"ساعة ونصف"}]
[{"$f":"'جدول الصف السادس'!$B$10","v":"2018-01-02"},{"$f":"'جدول الصف السادس'!$C$10","v":"اللغة الإنجليزية"},{"$f":"'جدول الصف السادس'!$D$10","v":9.4499999999999993},{"$f":"'جدول الصف السادس'!$E$10","v":11.15},{"$f":"'جدول الصف السادس'!$F$10","v":"ساعة ونصف"},null,{"$f":"'جدول الصف السادس'!$B$10","v":"2018-01-02"},{"$f":"'جدول الصف السادس'!$C$10","v":"اللغة الإنجليزية"},{"$f":"'جدول الصف السادس'!$D$10","v":9.4499999999999993},{"$f":"'جدول الصف السادس'!$E$10","v":11.15},{"$f":"'جدول الصف السادس'!$F$10","v":"ساعة ونصف"}]
[{"$f":"'جدول الصف السادس'!$B$11","v":"الاثنين"},{"$f":"'جدول الصف السادس'!$C$11","v":"علوم"},{"$f":"'جدول الصف السادس'!$D$11","v":8},{"$f":"'جدول الصف السادس'!$E$11","v":9.3000000000000007},{"$f":"'جدول الصف السادس'!$F$11","v":"ساعة ونصف"},null,{"$f":"'جدول الصف السادس'!$B$11","v":"الاثنين"},{"$f":"'جدول الصف السادس'!$C$11","v":"علوم"},{"$f":"'جدول الصف السادس'!$D$11","v":8},{"$f":"'جدول الصف السادس'!$E$11","v":9.3000000000000007},{"$f":"'جدول الصف السادس'!$F$11","v":"ساعة ونصف"}]
[{"$f":"'جدول الصف السادس'!$B$12","v":"2018-01-03"},{"$f":"'جدول الصف السادس'!$C$12","v":"التربية الدينية"},{"$f":"'جدول الصف السادس'!$D$12","v":9.4499999999999993},{"$f":"'جدول الصف السادس'!$E$12","v":10.45},{"$f":"'جدول الصف السادس'!$F$12","v":"ساعة ونصف"},null,{"$f":"'جدول الصف السادس'!$B$12","v":"2018-01-03"},{"$f":"'جدول الصف السادس'!$C$12","v":"التربية الدينية"},{"$f":"'جدول الصف السادس'!$D$12","v":9.4499999999999993},{"$f":"'جدول الصف السادس'!$E$12","v":10.45},{"$f":"'جدول الصف السادس'!$F$12","v":"ساعة ونصف"}]
[{"$f":"'جدول الصف السادس'!$B$13","v":"الثلاثاء"},{"$f":"'جدول الصف السادس'!$C$13","v":"الدراسات"},{"$f":"'جدول الصف السادس'!$D$13","v":8},{"$f":"'جدول الصف السادس'!$E$13","v":9.3000000000000007},{"$f":"'جدول الصف السادس'!$F$13","v":"ساعة ونصف"},null,{"$f":"'جدول الصف السادس'!$B$13","v":"الثلاثاء"},{"$f":"'جدول الصف السادس'!$C$13","v":"الدراسات"},{"$f":"'جدول الصف السادس'!$D$13","v":8},{"$f":"'جدول الصف السادس'!$E$13","v":9.3000000000000007},{"$f":"'جدول الصف السادس'!$F$13","v":"ساعة ونصف"}]
[{"$f":"'جدول الصف السادس'!$B$14","v":"2018-01-04"},null,null,null,null,null,{"$f":"'جدول الصف السادس'!$B$14","v":"2018-01-04"}]
[]
[{"$f":"'جدول الصف السادس'!$A$1","v":"إدارة /غرب المحلة الكبرى التعليمية"},null,"رقم اللجنة",null,{"$f":"VLOOKUP(E47,kaemh6,7,FALSE)","v":1},null,{"$f":"'جدول الصف السادس'!$A$1","v":"إدارة /غرب المحلة الكبرى التعليمية"},null,"رقم اللجنة",null,{"$f":"VLOOKUP(K47,kaemh6,7,FALSE)","v":1}]
[{"$f":"'جدول الصف السادس'!$A$2","v":"مدرسة د/علي علي حبيش الابتدائية"},null,{"$f":"'جدول الصف السادس'!$C$4","v":"الصف السادس"},null,{"$f":"E32+1","v":4},null,{"$f":"'جدول الصف السادس'!$A$2","v":"مدرسة د/علي علي حبيش الابتدائية"},null,{"$f":"'جدول الصف السادس'!$C$4","v":"الصف السادس"},null,{"$f":"K32+1","v":19}]
[{"$f":"'جدول الصف السادس'!$B$3","v":"جدول امتحان الفصل الدراسي الأول / الثاني للعام الدراسي 2019/2018"},null,null,null,null,null,{"$f":"'جدول الصف السادس'!$B$3","v":"جدول امتحان الفصل الدراسي الأول / الثاني للعام الدراسي 2019/2018"}]
["اسم التلميذ",{"$f":"VLOOKUP(E47,kaemh6,3,FALSE)","v":"محمد4"},"رقم الجلوس",null,{"$f":"VLOOKUP(E47,kaemh6,2,FALSE)","v":23},null,"اسم التلميذ",{"$f":"VLOOKUP(K47,kaemh6,3,FALSE)","v":"محمد19"},"رقم الجلوس",null,{"$f":"VLOOKUP(K47,kaemh6,2,FALSE)","v":38}]
["اليوم والتاريخ","المــــــــادة","الوقـــــــت",null,"الزمــــن ",null,"اليوم والتاريخ","المــــــــادة","الوقـــــــت",null,"الزمــــن "]
[null,null,"من ","إلي",null,null,null,null,"من ","إلي"]
[{"$f":"'جدول الصف السادس'!$B$7","v":"السبت"},{"$f":"'جدول الصف السادس'!$C$7","v":"لغة عربية وخط"},{"$f":"'جدول الصف السادس'!$D$7","v":8},{"$f":"'جدول الصف السادس'!$E$7","v":10.3},{"$f":"'جدول الصف السادس'!$F$7","v":"ساعتان ونصف"},null,{"$f":"'جدول الصف السادس'!$B$7","v":"السبت"},{"$f":"'جدول الصف السادس'!$C$7","v":"لغة عربية وخط"},{"$f":"'جدول الصف السادس'!$D$7","v":8},{"$f":"'جدول الصف السادس'!$E$7","v":10.3},{"$f":"'جدول الصف السادس'!$F$7","v":"ساعتان ونصف"}]
[{"$f":"'جدول الصف السادس'!$B$8","v":"2018-01-01"},null,null,null,null,null,{"$f":"'جدول الصف السادس'!$B$8","v":"2018-01-01"}]
[{"$f":"'جدول الصف السادس'!$B$9","v":"الأحد"},{"$f":"'جدول الصف السادس'!$C$9","v":"الرياضيات"},{"$f":"'جدول الصف السادس'!$D$9","v":8},{"$f":"'جدول الصف السادس'!$E$9","v":9.3000000000000007},{"$f":"'جدول الصف السادس'!$F$9","v":"ساعة ونصف"},null,{"$f":"'جدول الصف السادس'!$B$9","v":"الأحد"},{"$f":"'جدول الصف السادس'!$C$9","v":"الرياضيات"},{"$f":"'جدول الصف السادس'!$D$9","v":8},{"$f":"'جدول الصف السادس'!$E$9","v":9.3000000000000007},{"$f":"'جدول الصف السادس'!$F$9","v":"ساعة ونصف"}]
[{"$f":"'جدول الصف السادس'!$B$10","v":"2018-01-02"},{"$f":"'جدول الصف السادس'!$C$10","v":"اللغة الإنجليزية"},{"$f":"'جدول الصف السادس'!$D$10","v":9.4499999999999993},{"$f":"'جدول الصف السادس'!$E$10","v":11.15},{"$f":"'جدول الصف السادس'!$F$10","v":"ساعة ونصف"},null,{"$f":"'جدول الصف السادس'!$B$10","v":"2018-01-02"},{"$f":"'جدول الصف السادس'!$C$10","v":"اللغة الإنجليزية"},{"$f":"'جدول الصف السادس'!$D$10","v":9.4499999999999993},{"$f":"'جدول الصف السادس'!$E$10","v":11.15},{"$f":"'جدول الصف السادس'!$F$10","v":"ساعة ونصف"}]
[{"$f":"'جدول الصف السادس'!$B$11","v":"الاثنين"},{"$f":"'جدول الصف السادس'!$C$11","v":"علوم"},{"$f":"'جدول الصف السادس'!$D$11","v":8},{"$f":"'جدول الصف السادس'!$E$11","v":9.3000000000000007},{"$f":"'جدول الصف السادس'!$F$11","v":"ساعة ونصف"},null,{"$f":"'جدول الصف السادس'!$B$11","v":"الاثنين"},{"$f":"'جدول الصف السادس'!$C$11","v":"علوم"},{"$f":"'جدول الصف السادس'!$D$11","v":8},{"$f":"'جدول الصف السادس'!$E$11","v":9.3000000000000007},{"$f":"'جدول الصف السادس'!$F$11","v":"ساعة ونصف"}]
[{"$f":"'جدول الصف السادس'!$B$12","v":"2018-01-03"},{"$f":"'جدول الصف السادس'!$C$12","v":"التربية الدينية"},{"$f":"'جدول الصف السادس'!$D$12","v":9.4499999999999993},{"$f":"'جدول الصف السادس'!$E$12","v":10.45},{"$f":"'جدول الصف السادس'!$F$12","v":"ساعة ونصف"},null,{"$f":"'جدول الصف السادس'!$B$12","v":"2018-01-03"},{"$f":"'جدول الصف السادس'!$C$12","v":"التربية الدينية"},{"$f":"'جدول الصف السادس'!$D$12","v":9.4499999999999993},{"$f":"'جدول الصف السادس'!$E$12","v":10.45},{"$f":"'جدول الصف السادس'!$F$12","v":"ساعة ونصف"}]
[{"$f":"'جدول الصف السادس'!$B$13","v":"الثلاثاء"},{"$f":"'جدول الصف السادس'!$C$13","v":"الدراسات"},{"$f":"'جدول الصف السادس'!$D$13","v":8},{"$f":"'جدول الصف السادس'!$E$13","v":9.3000000000000007},{"$f":"'جدول الصف السادس'!$F$13","v":"ساعة ونصف"},null,{"$f":"'جدول الصف السادس'!$B$13","v":"الثلاثاء"},{"$f":"'جدول الصف السادس'!$C$13","v":"الدراسات"},{"$f":"'جدول الصف السادس'!$D$13","v":8},{"$f":"'جدول الصف السادس'!$E$13","v":9.3000000000000007},{"$f":"'جدول الصف السادس'!$F$13","v":"ساعة ونصف"}]
[{"$f":"'جدول الصف السادس'!$B$14","v":"2018-01-04"},null,null,null,null,null,{"$f":"'جدول الصف السادس'!$B$14","v":"2018-01-04"}]
[]
[{"$f":"'جدول الصف السادس'!$A$1","v":"إدارة /غرب المحلة الكبرى التعليمية"},null,"رقم اللجنة",null,{"$f":"VLOOKUP(E62,kaemh6,7,FALSE)","v":1},null,{"$f":"'جدول الصف السادس'!$A$1","v":"إدارة /غرب المحلة الكبرى التعليمية"},null,"رقم اللجنة",null,{"$f":"VLOOKUP(K62,kaemh6,7,FALSE)","v":1}]
[{"$f":"'جدول الصف السادس'!$A$2","v":"مدرسة د/علي علي حبيش الابتدائية"},null,{"$f":"'جدول الصف السادس'!$C$4","v":"الصف السادس"},null,{"$f":"E47+1","v":5},null,{"$f":"'جدول الصف السادس'!$A$2","v":"مدرسة د/علي علي حبيش الابتدائية"},null,{"$f":"'جدول الصف السادس'!$C$4","v":"الصف السادس"},null,{"$f":"K47+1","v":20}]
[{"$f":"'جدول الصف السادس'!$B$3","v":"جدول امتحان الفصل الدراسي الأول / الثاني للعام الدراسي 2019/2018"},null,null,null,null,null,{"$f":"'جدول الصف السادس'!$B$3","v":"جدول امتحان الفصل الدراسي الأول / الثاني للعام الدراسي 2019/2018"}]
["اسم التلميذ",{"$f":"VLOOKUP(E62,kaemh6,3,FALSE)","v":"محمد5"},"رقم الجلوس",null,{"$f":"VLOOKUP(E62,kaemh6,2,FALSE)","v":24},null,"اسم التلميذ",{"$f":"VLOOKUP(K62,kaemh6,3,FALSE)","v":"محمد20"},"رقم الجلوس",null,{"$f":"VLOOKUP(K62,kaemh6,2,FALSE)","v":39}]
["اليوم والتاريخ","المــــــــادة","الوقـــــــت",null,"الزمــــن ",null,"اليوم والتاريخ","المــــــــادة","الوقـــــــت",null,"الزمــــن "]
[null,null,"من ","إلي",null,null,null,null,"من ","إلي"]
[{"$f":"'جدول الصف السادس'!$B$7","v":"السبت"},{"$f":"'جدول الصف السادس'!$C$7","v":"لغة عربية وخط"},{"$f":"'جدول الصف السادس'!$D$7","v":8},{"$f":"'جدول الصف السادس'!$E$7","v":10.3},{"$f":"'جدول الصف السادس'!$F$7","v":"ساعتان ونصف"},null,{"$f":"'جدول الصف السادس'!$B$7","v":"السبت"},{"$f":"'جدول الصف السادس'!$C$7","v":"لغة عربية وخط"},{"$f":"'جدول الصف السادس'!$D$7","v":8},{"$f":"'جدول الصف السادس'!$E$7","v":10.3},{"$f":"'جدول الصف السادس'!$F$7","v":"ساعتان ونصف"}]
[{"$f":"'جدول الصف السادس'!$B$8","v":"2018-01-01"},null,null,null,null,null,{"$f":"'جدول الصف السادس'!$B$8","v":"2018-01-01"}]
[{"$f":"'جدول الصف السادس'!$B$9","v":"الأحد"},{"$f":"'جدول الصف السادس'!$C$9","v":"الرياضيات"},{"$f":"'جدول الصف السادس'!$D$9","v":8},{"$f":"'جدول الصف السادس'!$E$9","v":9.3000000000000007},{"$f":"'جدول الصف السادس'!$F$9","v":"ساعة ونصف"},null,{"$f":"'جدول الصف السادس'!$B$9","v":"الأحد"},{"$f":"'جدول الصف السادس'!$C$9","v":"الرياضيات"},{"$f":"'جدول الصف السادس'!$D$9","v":8},{"$f":"'جدول الصف السادس'!$E$9","v":9.3000000000000007},{"$f":"'جدول الصف السادس'!$F$9","v":"ساعة ونصف"}]
[{"$f":"'جدول الصف السادس'!$B$10","v":"2018-01-02"},{"$f":"'جدول الصف السادس'!$C$10","v":"اللغة الإنجليزية"},{"$f":"'جدول الصف السادس'!$D$10","v":9.4499999999999993},{"$f":"'جدول الصف السادس'!$E$10","v":11.15},{"$f":"'جدول الصف السادس'!$F$10","v":"ساعة ونصف"},null,{"$f":"'جدول الصف السادس'!$B$10","v":"2018-01-02"},{"$f":"'جدول الصف السادس'!$C$10","v":"اللغة الإنجليزية"},{"$f":"'جدول الصف السادس'!$D$10","v":9.4499999999999993},{"$f":"'جدول الصف السادس'!$E$10","v":11.15},{"$f":"'جدول الصف السادس'!$F$10","v":"ساعة ونصف"}]
[{"$f":"'جدول الصف السادس'!$B$11","v":"الاثنين"},{"$f":"'جدول الصف السادس'!$C$11","v":"علوم"},{"$f":"'جدول الصف السادس'!$D$11","v":8},{"$f":"'جدول الصف السادس'!$E$11","v":9.3000000000000007},{"$f":"'جدول الصف السادس'!$F$11","v":"ساعة ونصف"},null,{"$f":"'جدول الصف السادس'!$B$11","v":"الاثنين"},{"$f":"'جدول الصف السادس'!$C$11","v":"علوم"},{"$f":"'جدول الصف السادس'!$D$11","v":8},{"$f":"'جدول الصف السادس'!$E$11","v":9.3000000000000007},{"$f":"'جدول الصف السادس'!$F$11","v":"ساعة ونصف"}]
[{"$f":"'جدول الصف السادس'!$B$12","v":"2018-01-03"},{"$f":"'جدول الصف السادس'!$C$12","v":"التربية الدينية"},{"$f":"'جدول الصف السادس'!$D$12","v":9.4499999999999993},{"$f":"'جدول الصف السادس'!$E$12","v":10.45},{"$f":"'جدول الصف السادس'!$F$12","v":"ساعة ونصف"},null,{"$f":"'جدول الصف السادس'!$B$12","v":"2018-01-03"},{"$f":"'جدول الصف السادس'!$C$12","v":"التربية الدينية"},{"$f":"'جدول الصف السادس'!$D$12","v":9.4499999999999993},{"$f":"'جدول الصف السادس'!$E$12","v":10.45},{"$f":"'جدول الصف السادس'!$F$12","v":"ساعة ونصف"}]
[{"$f":"'جدول الصف السادس'!$B$13","v":"الثلاثاء"},{"$f":"'جدول الصف السادس'!$C$13","v":"الدراسات"},{"$f":"'جدول الصف السادس'!$D$13","v":8},{"$f":"'جدول الصف السادس'!$E$13","v":9.3000000000000007},{"$f":"'جدول الصف السادس'!$F$13","v":"ساعة ونصف"},null,{"$f":"'جدول الصف السادس'!$B$13","v":"الثلاثاء"},{"$f":"'جدول الصف السادس'!$C$13","v":"الدراسات"},{"$f":"'جدول الصف السادس'!$D$13","v":8},{"$f":"'جدول الصف السادس'!$E$13","v":9.3000000000000007},{"$f":"'جدول الصف السادس'!$F$13","v":"ساعة ونصف"}]
[{"$f":"'جدول الصف السادس'!$B$14","v":"2018-01-04"},null,null,null,null,null,{"$f":"'جدول الصف السادس'!$B$14","v":"2018-01-04"}]
[]
[{"$f":"'جدول الصف السادس'!$A$1","v":"إدارة /غرب المحلة الكبرى التعليمية"},null,"رقم اللجنة",null,{"$f":"VLOOKUP(E77,kaemh6,7,FALSE)","v":1},null,{"$f":"'جدول الصف السادس'!$A$1","v":"إدارة /غرب المحلة الكبرى التعليمية"},null,"رقم اللجنة",null,{"$f":"VLOOKUP(K77,kaemh6,7,FALSE)","v":2}]
[{"$f":"'جدول الصف السادس'!$A$2","v":"مدرسة د/علي علي حبيش الابتدائية"},null,{"$f":"'جدول الصف السادس'!$C$4","v":"الصف السادس"},null,{"$f":"E62+1","v":6},null,{"$f":"'جدول الصف السادس'!$A$2","v":"مدرسة د/علي علي حبيش الابتدائية"},null,{"$f":"'جدول الصف السادس'!$C$4","v":"الصف السادس"},null,{"$f":"K62+1","v":21}]
[{"$f":"'جدول الصف السادس'!$B$3","v":"جدول امتحان الفصل الدراسي الأول / الثاني للعام الدراسي 2019/2018"},null,null,null,null,null,{"$f":"'جدول الصف السادس'!$B$3","v":"جدول امتحان الفصل الدراسي الأول / الثاني للعام الدراسي 2019/2018"}]
["اسم التلميذ",{"$f":"VLOOKUP(E77,kaemh6,3,FALSE)","v":"محمد6"},"رقم الجلوس",null,{"$f":"VLOOKUP(E77,kaemh6,2,FALSE)","v":25},null,"اسم التلميذ",{"$f":"VLOOKUP(K77,kaemh6,3,FALSE)","v":"محمد21"},"رقم الجلوس",null,{"$f":"VLOOKUP(K77,kaemh6,2,FALSE)","v":40}]
["اليوم والتاريخ","المــــــــادة","الوقـــــــت",null,"الزمــــن ",null,"اليوم والتاريخ","المــــــــادة","الوقـــــــت",null,"الزمــــن "]
[null,null,"من ","إلي",null,null,null,null,"من ","إلي"]
[{"$f":"'جدول الصف السادس'!$B$7","v":"السبت"},{"$f":"'جدول الصف السادس'!$C$7","v":"لغة عربية وخط"},{"$f":"'جدول الصف السادس'!$D$7","v":8},{"$f":"'جدول الصف السادس'!$E$7","v":10.3},{"$f":"'جدول الصف السادس'!$F$7","v":"ساعتان ونصف"},null,{"$f":"'جدول الصف السادس'!$B$7","v":"السبت"},{"$f":"'جدول الصف السادس'!$C$7","v":"لغة عربية وخط"},{"$f":"'جدول الصف السادس'!$D$7","v":8},{"$f":"'جدول الصف السادس'!$E$7","v":10.3},{"$f":"'جدول الصف السادس'!$F$7","v":"ساعتان ونصف"}]
[{"$f":"'جدول الصف السادس'!$B$8","v":"2018-01-01"},null,null,null,null,null,{"$f":"'جدول الصف السادس'!$B$8","v":"2018-01-01"}]
[{"$f":"'جدول الصف السادس'!$B$9","v":"الأحد"},{"$f":"'جدول الصف السادس'!$C$9","v":"الرياضيات"},{"$f":"'جدول الصف السادس'!$D$9","v":8},{"$f":"'جدول الصف السادس'!$E$9","v":9.3000000000000007},{"$f":"'جدول الصف السادس'!$F$9","v":"ساعة ونصف"},null,{"$f":"'جدول الصف السادس'!$B$9","v":"الأحد"},{"$f":"'جدول الصف السادس'!$C$9","v":"الرياضيات"},{"$f":"'جدول الصف السادس'!$D$9","v":8},{"$f":"'جدول الصف السادس'!$E$9","v":9.3000000000000007},{"$f":"'جدول الصف السادس'!$F$9","v":"ساعة ونصف"}]
[{"$f":"'جدول الصف السادس'!$B$10","v":"2018-01-02"},{"$f":"'جدول الصف السادس'!$C$10","v":"اللغة الإنجليزية"},{"$f":"'جدول الصف السادس'!$D$10","v":9.4499999999999993},{"$f":"'جدول الصف السادس'!$E$10","v":11.15},{"$f":"'جدول الصف السادس'!$F$10","v":"ساعة ونصف"},null,{"$f":"'جدول الصف السادس'!$B$10","v":"2018-01-02"},{"$f":"'جدول الصف السادس'!$C$10","v":"اللغة الإنجليزية"},{"$f":"'جدول الصف السادس'!$D$10","v":9.4499999999999993},{"$f":"'جدول الصف السادس'!$E$10","v":11.15},{"$f":"'جدول الصف السادس'!$F$10","v":"ساعة ونصف"}]
[{"$f":"'جدول الصف السادس'!$B$11","v":"الاثنين"},{"$f":"'جدول الصف السادس'!$C$11","v":"علوم"},{"$f":"'جدول الصف السادس'!$D$11","v":8},{"$f":"'جدول الصف السادس'!$E$11","v":9.3000000000000007},{"$f":"'جدول الصف السادس'!$F$11","v":"ساعة ونصف"},null,{"$f":"'جدول الصف السادس'!$B$11","v":"الاثنين"},{"$f":"'جدول الصف السادس'!$C$11","v":"علوم"},{"$f":"'جدول الصف السادس'!$D$11","v":8},{"$f":"'جدول الصف السادس'!$E$11","v":9.3000000000000007},{"$f":"'جدول الصف السادس'!$F$11","v":"ساعة ونصف"}]
[{"$f":"'جدول الصف السادس'!$B$12","v":"2018-01-03"},{"$f":"'جدول الصف السادس'!$C$12","v":"التربية الدينية"},{"$f":"'جدول الصف السادس'!$D$12","v":9.4499999999999993},{"$f":"'جدول الصف السادس'!$E$12","v":10.45},{"$f":"'جدول الصف السادس'!$F$12","v":"ساعة ونصف"},null,{"$f":"'جدول الصف السادس'!$B$12","v":"2018-01-03"},{"$f":"'جدول الصف السادس'!$C$12","v":"التربية الدينية"},{"$f":"'جدول الصف السادس'!$D$12","v":9.4499999999999993},{"$f":"'جدول الصف السادس'!$E$12","v":10.45},{"$f":"'جدول الصف السادس'!$F$12","v":"ساعة ونصف"}]
[{"$f":"'جدول الصف السادس'!$B$13","v":"الثلاثاء"},{"$f":"'جدول الصف السادس'!$C$13","v":"الدراسات"},{"$f":"'جدول الصف السادس'!$D$13","v":8},{"$f":"'جدول الصف السادس'!$E$13","v":9.3000000000000007},{"$f":"'جدول الصف السادس'!$F$13","v":"ساعة ونصف"},null,{"$f":"'جدول الصف السادس'!$B$13","v":"الثلاثاء"},{"$f":"'جدول الصف السادس'!$C$13","v":"الدراسات"},{"$f":"'جدول الصف السادس'!$D$13","v":8},{"$f":"'جدول الصف السادس'!$E$13","v":9.3000000000000007},{"$f":"'جدول الصف السادس'!$F$13","v":"ساعة ونصف"}]
[{"$f":"'جدول الصف السادس'!$B$14","v":"2018-01-04"},null,null,null,null,null,{"$f":"'جدول الصف السادس'!$B$14","v":"2018-01-04"}]
[]
[{"$f":"'جدول الصف السادس'!$A$1","v":"إدارة /غرب المحلة الكبرى التعليمية"},null,"رقم اللجنة",null,{"$f":"VLOOKUP(E92,kaemh6,7,FALSE)","v":1},null,{"$f":"'جدول الصف السادس'!$A$1","v":"إدارة /غرب المحلة الكبرى التعليمية"},null,"رقم اللجنة",null,{"$f":"VLOOKUP(K92,kaemh6,7,FALSE)","v":2}]
[{"$f":"'جدول الصف السادس'!$A$2","v":"مدرسة د/علي علي حبيش الابتدائية"},null,{"$f":"'جدول الصف السادس'!$C$4","v":"الصف السادس"},null,{"$f":"E77+1","v":7},null,{"$f":"'جدول الصف السادس'!$A$2","v":"مدرسة د/علي علي حبيش الابتدائية"},null,{"$f":"'جدول الصف السادس'!$C$4","v":"الصف السادس"},null,{"$f":"K77+1","v":22}]
[{"$f":"'جدول الصف السادس'!$B$3","v":"جدول امتحان الفصل الدراسي الأول / الثاني للعام الدراسي 2019/2018"},null,null,null,null,null,{"$f":"'جدول الصف السادس'!$B$3","v":"جدول امتحان الفصل الدراسي الأول / الثاني للعام الدراسي 2019/2018"}]
["اسم التلميذ",{"$f":"VLOOKUP(E92,kaemh6,3,FALSE)","v":"محمد7"},"رقم الجلوس",null,{"$f":"VLOOKUP(E92,kaemh6,2,FALSE)","v":26},null,"اسم التلميذ",{"$f":"VLOOKUP(K92,kaemh6,3,FALSE)","v":"محمد22"},"رقم الجلوس",null,{"$f":"VLOOKUP(K92,kaemh6,2,FALSE)","v":41}]
["اليوم والتاريخ","المــــــــادة","الوقـــــــت",null,"الزمــــن ",null,"اليوم والتاريخ","المــــــــادة","الوقـــــــت",null,"الزمــــن "]
[null,null,"من ","إلي",null,null,null,null,"من ","إلي"]
[{"$f":"'جدول الصف السادس'!$B$7","v":"السبت"},{"$f":"'جدول الصف السادس'!$C$7","v":"لغة عربية وخط"},{"$f":"'جدول الصف السادس'!$D$7","v":8},{"$f":"'جدول الصف السادس'!$E$7","v":10.3},{"$f":"'جدول الصف السادس'!$F$7","v":"ساعتان ونصف"},null,{"$f":"'جدول الصف السادس'!$B$7","v":"السبت"},{"$f":"'جدول الصف السادس'!$C$7","v":"لغة عربية وخط"},{"$f":"'جدول الصف السادس'!$D$7","v":8},{"$f":"'جدول الصف السادس'!$E$7","v":10.3},{"$f":"'جدول الصف السادس'!$F$7","v":"ساعتان ونصف"}]
[{"$f":"'جدول الصف السادس'!$B$8","v":"2018-01-01"},null,null,null,null,null,{"$f":"'جدول الصف السادس'!$B$8","v":"2018-01-01"}]
[{"$f":"'جدول الصف السادس'!$B$9","v":"الأحد"},{"$f":"'جدول الصف السادس'!$C$9","v":"الرياضيات"},{"$f":"'جدول الصف السادس'!$D$9","v":8},{"$f":"'جدول الصف السادس'!$E$9","v":9.3000000000000007},{"$f":"'جدول الصف السادس'!$F$9","v":"ساعة ونصف"},null,{"$f":"'جدول الصف السادس'!$B$9","v":"الأحد"},{"$f":"'جدول الصف السادس'!$C$9","v":"الرياضيات"},{"$f":"'جدول الصف السادس'!$D$9","v":8},{"$f":"'جدول الصف السادس'!$E$9","v":9.3000000000000007},{"$f":"'جدول الصف السادس'!$F$9","v":"ساعة ونصف"}]
[{"$f":"'جدول الصف السادس'!$B$10","v":"2018-01-02"},{"$f":"'جدول الصف السادس'!$C$10","v":"اللغة الإنجليزية"},{"$f":"'جدول الصف السادس'!$D$10","v":9.4499999999999993},{"$f":"'جدول الصف السادس'!$E$10","v":11.15},{"$f":"'جدول الصف السادس'!$F$10","v":"ساعة ونصف"},null,{"$f":"'جدول الصف السادس'!$B$10","v":"2018-01-02"},{"$f":"'جدول الصف السادس'!$C$10","v":"اللغة الإنجليزية"},{"$f":"'جدول الصف السادس'!$D$10","v":9.4499999999999993},{"$f":"'جدول الصف السادس'!$E$10","v":11.15},{"$f":"'جدول الصف السادس'!$F$10","v":"ساعة ونصف"}]
[{"$f":"'جدول الصف السادس'!$B$11","v":"الاثنين"},{"$f":"'جدول الصف السادس'!$C$11","v":"علوم"},{"$f":"'جدول الصف السادس'!$D$11","v":8},{"$f":"'جدول الصف السادس'!$E$11","v":9.3000000000000007},{"$f":"'جدول الصف السادس'!$F$11","v":"ساعة ونصف"},null,{"$f":"'جدول الصف السادس'!$B$11","v":"الاثنين"},{"$f":"'جدول الصف السادس'!$C$11","v":"علوم"},{"$f":"'جدول الصف السادس'!$D$11","v":8},{"$f":"'جدول الصف السادس'!$E$11","v":9.3000000000000007},{"$f":"'جدول الصف السادس'!$F$11","v":"ساعة ونصف"}]
[{"$f":"'جدول الصف السادس'!$B$12","v":"2018-01-03"},{"$f":"'جدول الصف السادس'!$C$12","v":"التربية الدينية"},{"$f":"'جدول الصف السادس'!$D$12","v":9.4499999999999993},{"$f":"'جدول الصف السادس'!$E$12","v":10.45},{"$f":"'جدول الصف السادس'!$F$12","v":"ساعة ونصف"},null,{"$f":"'جدول الصف السادس'!$B$12","v":"2018-01-03"},{"$f":"'جدول الصف السادس'!$C$12","v":"التربية الدينية"},{"$f":"'جدول الصف السادس'!$D$12","v":9.4499999999999993},{"$f":"'جدول الصف السادس'!$E$12","v":10.45},{"$f":"'جدول الصف السادس'!$F$12","v":"ساعة ونصف"}]
[{"$f":"'جدول الصف السادس'!$B$13","v":"الثلاثاء"},{"$f":"'جدول الصف السادس'!$C$13","v":"الدراسات"},{"$f":"'جدول الصف السادس'!$D$13","v":8},{"$f":"'جدول الصف السادس'!$E$13","v":9.3000000000000007},{"$f":"'جدول الصف السادس'!$F$13","v":"ساعة ونصف"},null,{"$f":"'جدول الصف السادس'!$B$13","v":"الثلاثاء"},{"$f":"'جدول الصف السادس'!$C$13","v":"الدراسات"},{"$f":"'جدول الصف السادس'!$D$13","v":8},{"$f":"'جدول الصف السادس'!$E$13","v":9.3000000000000007},{"$f":"'جدول الصف السادس'!$F$13","v":"ساعة ونصف"}]
[{"$f":"'جدول الصف السادس'!$B$14","v":"2018-01-04"},null,null,null,null,null,{"$f":"'جدول الصف السادس'!$B$14","v":"2018-01-04"}]
[]
[{"$f":"'جدول الصف السادس'!$A$1","v":"إدارة /غرب المحلة الكبرى التعليمية"},null,"رقم اللجنة",null,{"$f":"VLOOKUP(E107,kaemh6,7,FALSE)","v":1},null,{"$f":"'جدول الصف السادس'!$A$1","v":"إدارة /غرب المحلة الكبرى التعليمية"},null,"رقم اللجنة",null,{"$f":"VLOOKUP(K107,kaemh6,7,FALSE)","v":2}]
[{"$f":"'جدول الصف السادس'!$A$2","v":"مدرسة د/علي علي حبيش الابتدائية"},null,{"$f":"'جدول الصف السادس'!$C$4","v":"الصف السادس"},null,8,null,{"$f":"'جدول الصف السادس'!$A$2","v":"مدرسة د/علي علي حبيش الابتدائية"},null,{"$f":"'جدول الصف السادس'!$C$4","v":"الصف السادس"},null,{"$f":"K92+1","v":23}]
[{"$f":"'جدول الصف السادس'!$B$3","v":"جدول امتحان الفصل الدراسي الأول / الثاني للعام الدراسي 2019/2018"},null,null,null,null,null,{"$f":"'جدول الصف السادس'!$B$3","v":"جدول امتحان الفصل الدراسي الأول / الثاني للعام الدراسي 2019/2018"}]
["اسم التلميذ",{"$f":"VLOOKUP(E107,kaemh6,3,FALSE)","v":"محمد8"},"رقم الجلوس",null,{"$f":"VLOOKUP(E107,kaemh6,2,FALSE)","v":27},null,"اسم التلميذ",{"$f":"VLOOKUP(K107,kaemh6,3,FALSE)","v":"محمد23"},"رقم الجلوس",null,{"$f":"VLOOKUP(K107,kaemh6,2,FALSE)","v":42}]
["اليوم والتاريخ","المــــــــادة","الوقـــــــت",null,"الزمــــن ",null,"اليوم والتاريخ","المــــــــادة","الوقـــــــت",null,"الزمــــن "]
[null,null,"من ","إلي",null,null,null,null,"من ","إلي"]
[{"$f":"'جدول الصف السادس'!$B$7","v":"السبت"},{"$f":"'جدول الصف السادس'!$C$7","v":"لغة عربية وخط"},{"$f":"'جدول الصف السادس'!$D$7","v":8},{"$f":"'جدول الصف السادس'!$E$7","v":10.3},{"$f":"'جدول الصف السادس'!$F$7","v":"ساعتان ونصف"},null,{"$f":"'جدول الصف السادس'!$B$7","v":"السبت"},{"$f":"'جدول الصف السادس'!$C$7","v":"لغة عربية وخط"},{"$f":"'جدول الصف السادس'!$D$7","v":8},{"$f":"'جدول الصف السادس'!$E$7","v":10.3},{"$f":"'جدول الصف السادس'!$F$7","v":"ساعتان ونصف"}]
[{"$f":"'جدول الصف السادس'!$B$8","v":"2018-01-01"},null,null,null,null,null,{"$f":"'جدول الصف السادس'!$B$8","v":"2018-01-01"}]
[{"$f":"'جدول الصف السادس'!$B$9","v":"الأحد"},{"$f":"'جدول الصف السادس'!$C$9","v":"الرياضيات"},{"$f":"'جدول الصف السادس'!$D$9","v":8},{"$f":"'جدول الصف السادس'!$E$9","v":9.3000000000000007},{"$f":"'جدول الصف السادس'!$F$9","v":"ساعة ونصف"},null,{"$f":"'جدول الصف السادس'!$B$9","v":"الأحد"},{"$f":"'جدول الصف السادس'!$C$9","v":"الرياضيات"},{"$f":"'جدول الصف السادس'!$D$9","v":8},{"$f":"'جدول الصف السادس'!$E$9","v":9.3000000000000007},{"$f":"'جدول الصف السادس'!$F$9","v":"ساعة ونصف"}]
[{"$f":"'جدول الصف السادس'!$B$10","v":"2018-01-02"},{"$f":"'جدول الصف السادس'!$C$10","v":"اللغة الإنجليزية"},{"$f":"'جدول الصف السادس'!$D$10","v":9.4499999999999993},{"$f":"'جدول الصف السادس'!$E$10","v":11.15},{"$f":"'جدول الصف السادس'!$F$10","v":"ساعة ونصف"},null,{"$f":"'جدول الصف السادس'!$B$10","v":"2018-01-02"},{"$f":"'جدول الصف السادس'!$C$10","v":"اللغة الإنجليزية"},{"$f":"'جدول الصف السادس'!$D$10","v":9.4499999999999993},{"$f":"'جدول الصف السادس'!$E$10","v":11.15},{"$f":"'جدول الصف السادس'!$F$10","v":"ساعة ونصف"}]
[{"$f":"'جدول الصف السادس'!$B$11","v":"الاثنين"},{"$f":"'جدول الصف السادس'!$C$11","v":"علوم"},{"$f":"'جدول الصف السادس'!$D$11","v":8},{"$f":"'جدول الصف السادس'!$E$11","v":9.3000000000000007},{"$f":"'جدول الصف السادس'!$F$11","v":"ساعة ونصف"},null,{"$f":"'جدول الصف السادس'!$B$11","v":"الاثنين"},{"$f":"'جدول الصف السادس'!$C$11","v":"علوم"},{"$f":"'جدول الصف السادس'!$D$11","v":8},{"$f":"'جدول الصف السادس'!$E$11","v":9.3000000000000007},{"$f":"'جدول الصف السادس'!$F$11","v":"ساعة ونصف"}]
[{"$f":"'جدول الصف السادس'!$B$12","v":"2018-01-03"},{"$f":"'جدول الصف السادس'!$C$12","v":"التربية الدينية"},{"$f":"'جدول الصف السادس'!$D$12","v":9.4499999999999993},{"$f":"'جدول الصف السادس'!$E$12","v":10.45},{"$f":"'جدول الصف السادس'!$F$12","v":"ساعة ونصف"},null,{"$f":"'جدول الصف السادس'!$B$12","v":"2018-01-03"},{"$f":"'جدول الصف السادس'!$C$12","v":"التربية الدينية"},{"$f":"'جدول الصف السادس'!$D$12","v":9.4499999999999993},{"$f":"'جدول الصف السادس'!$E$12","v":10.45},{"$f":"'جدول الصف السادس'!$F$12","v":"ساعة ونصف"}]
[{"$f":"'جدول الصف السادس'!$B$13","v":"الثلاثاء"},{"$f":"'جدول الصف السادس'!$C$13","v":"الدراسات"},{"$f":"'جدول الصف السادس'!$D$13","v":8},{"$f":"'جدول الصف السادس'!$E$13","v":9.3000000000000007},{"$f":"'جدول الصف السادس'!$F$13","v":"ساعة ونصف"},null,{"$f":"'جدول الصف السادس'!$B$13","v":"الثلاثاء"},{"$f":"'جدول الصف السادس'!$C$13","v":"الدراسات"},{"$f":"'جدول الصف السادس'!$D$13","v":8},{"$f":"'جدول الصف السادس'!$E$13","v":9.3000000000000007},{"$f":"'جدول الصف السادس'!$F$13","v":"ساعة ونصف"}]
[{"$f":"'جدول الصف السادس'!$B$14","v":"2018-01-04"},null,null,null,null,null,{"$f":"'جدول الصف السادس'!$B$14","v":"2018-01-04"}]
[]
[{"$f":"'جدول الصف السادس'!$A$1","v":"إدارة /غرب المحلة الكبرى التعليمية"},null,"رقم اللجنة",null,{"$f":"VLOOKUP(E122,kaemh6,7,FALSE)","v":1},null,{"$f":"'جدول الصف السادس'!$A$1","v":"إدارة /غرب المحلة الكبرى التعليمية"},null,"رقم اللجنة",null,{"$f":"VLOOKUP(K122,kaemh6,7,FALSE)","v":2}]
[{"$f":"'جدول الصف السادس'!$A$2","v":"مدرسة د/علي علي حبيش الابتدائية"},null,{"$f":"'جدول الصف السادس'!$C$4","v":"الصف السادس"},null,{"$f":"E107+1","v":9},null,{"$f":"'جدول الصف السادس'!$A$2","v":"مدرسة د/علي علي حبيش الابتدائية"},null,{"$f":"'جدول الصف السادس'!$C$4","v":"الصف السادس"},null,{"$f":"K107+1","v":24}]
[{"$f":"'جدول الصف السادس'!$B$3","v":"جدول امتحان الفصل الدراسي الأول / الثاني للعام الدراسي 2019/2018"},null,null,null,null,null,{"$f":"'جدول الصف السادس'!$B$3","v":"جدول امتحان الفصل الدراسي الأول / الثاني للعام الدراسي 2019/2018"}]
["اسم التلميذ",{"$f":"VLOOKUP(E122,kaemh6,3,FALSE)","v":"محمد9"},"رقم الجلوس",null,{"$f":"VLOOKUP(E122,kaemh6,2,FALSE)","v":28},null,"اسم التلميذ",{"$f":"VLOOKUP(K122,kaemh6,3,FALSE)","v":"محمد24"},"رقم الجلوس",null,{"$f":"VLOOKUP(K122,kaemh6,2,FALSE)","v":43}]
["اليوم والتاريخ","المــــــــادة","الوقـــــــت",null,"الزمــــن ",null,"اليوم والتاريخ","المــــــــادة","الوقـــــــت",null,"الزمــــن "]
[null,null,"من ","إلي",null,null,null,null,"من ","إلي"]
[{"$f":"'جدول الصف السادس'!$B$7","v":"السبت"},{"$f":"'جدول الصف السادس'!$C$7","v":"لغة عربية وخط"},{"$f":"'جدول الصف السادس'!$D$7","v":8},{"$f":"'جدول الصف السادس'!$E$7","v":10.3},{"$f":"'جدول الصف السادس'!$F$7","v":"ساعتان ونصف"},null,{"$f":"'جدول الصف السادس'!$B$7","v":"السبت"},{"$f":"'جدول الصف السادس'!$C$7","v":"لغة عربية وخط"},{"$f":"'جدول الصف السادس'!$D$7","v":8},{"$f":"'جدول الصف السادس'!$E$7","v":10.3},{"$f":"'جدول الصف السادس'!$F$7","v":"ساعتان ونصف"}]
[{"$f":"'جدول الصف السادس'!$B$8","v":"2018-01-01"},null,null,null,null,null,{"$f":"'جدول الصف السادس'!$B$8","v":"2018-01-01"}]
[{"$f":"'جدول الصف السادس'!$B$9","v":"الأحد"},{"$f":"'جدول الصف السادس'!$C$9","v":"الرياضيات"},{"$f":"'جدول الصف السادس'!$D$9","v":8},{"$f":"'جدول الصف السادس'!$E$9","v":9.3000000000000007},{"$f":"'جدول الصف السادس'!$F$9","v":"ساعة ونصف"},null,{"$f":"'جدول الصف السادس'!$B$9","v":"الأحد"},{"$f":"'جدول الصف السادس'!$C$9","v":"الرياضيات"},{"$f":"'جدول الصف السادس'!$D$9","v":8},{"$f":"'جدول الصف السادس'!$E$9","v":9.3000000000000007},{"$f":"'جدول الصف السادس'!$F$9","v":"ساعة ونصف"}]
[{"$f":"'جدول الصف السادس'!$B$10","v":"2018-01-02"},{"$f":"'جدول الصف السادس'!$C$10","v":"اللغة الإنجليزية"},{"$f":"'جدول الصف السادس'!$D$10","v":9.4499999999999993},{"$f":"'جدول الصف السادس'!$E$10","v":11.15},{"$f":"'جدول الصف السادس'!$F$10","v":"ساعة ونصف"},null,{"$f":"'جدول الصف السادس'!$B$10","v":"2018-01-02"},{"$f":"'جدول الصف السادس'!$C$10","v":"اللغة الإنجليزية"},{"$f":"'جدول الصف السادس'!$D$10","v":9.4499999999999993},{"$f":"'جدول الصف السادس'!$E$10","v":11.15},{"$f":"'جدول الصف السادس'!$F$10","v":"ساعة ونصف"}]
[{"$f":"'جدول الصف السادس'!$B$11","v":"الاثنين"},{"$f":"'جدول الصف السادس'!$C$11","v":"علوم"},{"$f":"'جدول الصف السادس'!$D$11","v":8},{"$f":"'جدول الصف السادس'!$E$11","v":9.3000000000000007},{"$f":"'جدول الصف السادس'!$F$11","v":"ساعة ونصف"},null,{"$f":"'جدول الصف السادس'!$B$11","v":"الاثنين"},{"$f":"'جدول الصف السادس'!$C$11","v":"علوم"},{"$f":"'جدول الصف السادس'!$D$11","v":8},{"$f":"'جدول الصف السادس'!$E$11","v":9.3000000000000007},{"$f":"'جدول الصف السادس'!$F$11","v":"ساعة ونصف"}]
[{"$f":"'جدول الصف السادس'!$B$12","v":"2018-01-03"},{"$f":"'جدول الصف السادس'!$C$12","v":"التربية الدينية"},{"$f":"'جدول الصف السادس'!$D$12","v":9.4499999999999993},{"$f":"'جدول الصف السادس'!$E$12","v":10.45},{"$f":"'جدول الصف السادس'!$F$12","v":"ساعة ونصف"},null,{"$f":"'جدول الصف السادس'!$B$12","v":"2018-01-03"},{"$f":"'جدول الصف السادس'!$C$12","v":"التربية الدينية"},{"$f":"'جدول الصف السادس'!$D$12","v":9.4499999999999993},{"$f":"'جدول الصف السادس'!$E$12","v":10.45},{"$f":"'جدول الصف السادس'!$F$12","v":"ساعة ونصف"}]
[{"$f":"'جدول الصف السادس'!$B$13","v":"الثلاثاء"},{"$f":"'جدول الصف السادس'!$C$13","v":"الدراسات"},{"$f":"'جدول الصف السادس'!$D$13","v":8},{"$f":"'جدول الصف السادس'!$E$13","v":9.3000000000000007},{"$f":"'جدول الصف السادس'!$F$13","v":"ساعة ونصف"},null,{"$f":"'جدول الصف السادس'!$B$13","v":"الثلاثاء"},{"$f":"'جدول الصف السادس'!$C$13","v":"الدراسات"},{"$f":"'جدول الصف السادس'!$D$13","v":8},{"$f":"'جدول الصف السادس'!$E$13","v":9.3000000000000007},{"$f":"'جدول الصف السادس'!$F$13","v":"ساعة ونصف"}]
[{"$f":"'جدول الصف السادس'!$B$14","v":"2018-01-04"},null,null,null,null,null,{"$f":"'جدول الصف السادس'!$B$14","v":"2018-01-04"}]
[]
[{"$f":"'جدول الصف السادس'!$A$1","v":"إدارة /غرب المحلة الكبرى التعليمية"},null,"رقم اللجنة",null,{"$f":"VLOOKUP(E137,kaemh6,7,FALSE)","v":1},null,{"$f":"'جدول الصف السادس'!$A$1","v":"إدارة /غرب المحلة الكبرى التعليمية"},null,"رقم اللجنة",null,{"$f":"VLOOKUP(K137,kaemh6,7,FALSE)","v":2}]
[{"$f":"'جدول الصف السادس'!$A$2","v":"مدرسة د/علي علي حبيش الابتدائية"},null,{"$f":"'جدول الصف السادس'!$C$4","v":"الصف السادس"},null,{"$f":"E122+1","v":10},null,{"$f":"'جدول الصف السادس'!$A$2","v":"مدرسة د/علي علي حبيش الابتدائية"},null,{"$f":"'جدول الصف السادس'!$C$4","v":"الصف السادس"},null,{"$f":"K122+1","v":25}]
[{"$f":"'جدول الصف السادس'!$B$3","v":"جدول امتحان الفصل الدراسي الأول / الثاني للعام الدراسي 2019/2018"},null,null,null,null,null,{"$f":"'جدول الصف السادس'!$B$3","v":"جدول امتحان الفصل الدراسي الأول / الثاني للعام الدراسي 2019/2018"}]
["اسم التلميذ",{"$f":"VLOOKUP(E137,kaemh6,3,FALSE)","v":"محمد10"},"رقم الجلوس",null,{"$f":"VLOOKUP(E137,kaemh6,2,FALSE)","v":29},null,"اسم التلميذ",{"$f":"VLOOKUP(K137,kaemh6,3,FALSE)","v":"محمد25"},"رقم الجلوس",null,{"$f":"VLOOKUP(K137,kaemh6,2,FALSE)","v":44}]
["اليوم والتاريخ","المــــــــادة","الوقـــــــت",null,"الزمــــن ",null,"اليوم والتاريخ","المــــــــادة","الوقـــــــت",null,"الزمــــن "]
[null,null,"من ","إلي",null,null,null,null,"من ","إلي"]
[{"$f":"'جدول الصف السادس'!$B$7","v":"السبت"},{"$f":"'جدول الصف السادس'!$C$7","v":"لغة عربية وخط"},{"$f":"'جدول الصف السادس'!$D$7","v":8},{"$f":"'جدول الصف السادس'!$E$7","v":10.3},{"$f":"'جدول الصف السادس'!$F$7","v":"ساعتان ونصف"},null,{"$f":"'جدول الصف السادس'!$B$7","v":"السبت"},{"$f":"'جدول الصف السادس'!$C$7","v":"لغة عربية وخط"},{"$f":"'جدول الصف السادس'!$D$7","v":8},{"$f":"'جدول الصف السادس'!$E$7","v":10.3},{"$f":"'جدول الصف السادس'!$F$7","v":"ساعتان ونصف"}]
[{"$f":"'جدول الصف السادس'!$B$8","v":"2018-01-01"},null,null,null,null,null,{"$f":"'جدول الصف السادس'!$B$8","v":"2018-01-01"}]
[{"$f":"'جدول الصف السادس'!$B$9","v":"الأحد"},{"$f":"'جدول الصف السادس'!$C$9","v":"الرياضيات"},{"$f":"'جدول الصف السادس'!$D$9","v":8},{"$f":"'جدول الصف السادس'!$E$9","v":9.3000000000000007},{"$f":"'جدول الصف السادس'!$F$9","v":"ساعة ونصف"},null,{"$f":"'جدول الصف السادس'!$B$9","v":"الأحد"},{"$f":"'جدول الصف السادس'!$C$9","v":"الرياضيات"},{"$f":"'جدول الصف السادس'!$D$9","v":8},{"$f":"'جدول الصف السادس'!$E$9","v":9.3000000000000007},{"$f":"'جدول الصف السادس'!$F$9","v":"ساعة ونصف"}]
[{"$f":"'جدول الصف السادس'!$B$10","v":"2018-01-02"},{"$f":"'جدول الصف السادس'!$C$10","v":"اللغة الإنجليزية"},{"$f":"'جدول الصف السادس'!$D$10","v":9.4499999999999993},{"$f":"'جدول الصف السادس'!$E$10","v":11.15},{"$f":"'جدول الصف السادس'!$F$10","v":"ساعة ونصف"},null,{"$f":"'جدول الصف السادس'!$B$10","v":"2018-01-02"},{"$f":"'جدول الصف السادس'!$C$10","v":"اللغة الإنجليزية"},{"$f":"'جدول الصف السادس'!$D$10","v":9.4499999999999993},{"$f":"'جدول الصف السادس'!$E$10","v":11.15},{"$f":"'جدول الصف السادس'!$F$10","v":"ساعة ونصف"}]
[{"$f":"'جدول الصف السادس'!$B$11","v":"الاثنين"},{"$f":"'جدول الصف السادس'!$C$11","v":"علوم"},{"$f":"'جدول الصف السادس'!$D$11","v":8},{"$f":"'جدول الصف السادس'!$E$11","v":9.3000000000000007},{"$f":"'جدول الصف السادس'!$F$11","v":"ساعة ونصف"},null,{"$f":"'جدول الصف السادس'!$B$11","v":"الاثنين"},{"$f":"'جدول الصف السادس'!$C$11","v":"علوم"},{"$f":"'جدول الصف السادس'!$D$11","v":8},{"$f":"'جدول الصف السادس'!$E$11","v":9.3000000000000007},{"$f":"'جدول الصف السادس'!$F$11","v":"ساعة ونصف"}]
[{"$f":"'جدول الصف السادس'!$B$12","v":"2018-01-03"},{"$f":"'جدول الصف السادس'!$C$12","v":"التربية الدينية"},{"$f":"'جدول الصف السادس'!$D$12","v":9.4499999999999993},{"$f":"'جدول الصف السادس'!$E$12","v":10.45},{"$f":"'جدول الصف السادس'!$F$12","v":"ساعة ونصف"},null,{"$f":"'جدول الصف السادس'!$B$12","v":"2018-01-03"},{"$f":"'جدول الصف السادس'!$C$12","v":"التربية الدينية"},{"$f":"'جدول الصف السادس'!$D$12","v":9.4499999999999993},{"$f":"'جدول الصف السادس'!$E$12","v":10.45},{"$f":"'جدول الصف السادس'!$F$12","v":"ساعة ونصف"}]
[{"$f":"'جدول الصف السادس'!$B$13","v":"الثلاثاء"},{"$f":"'جدول الصف السادس'!$C$13","v":"الدراسات"},{"$f":"'جدول الصف السادس'!$D$13","v":8},{"$f":"'جدول الصف السادس'!$E$13","v":9.3000000000000007},{"$f":"'جدول الصف السادس'!$F$13","v":"ساعة ونصف"},null,{"$f":"'جدول الصف السادس'!$B$13","v":"الثلاثاء"},{"$f":"'جدول الصف السادس'!$C$13","v":"الدراسات"},{"$f":"'جدول الصف السادس'!$D$13","v":8},{"$f":"'جدول الصف السادس'!$E$13","v":9.3000000000000007},{"$f":"'جدول الصف السادس'!$F$13","v":"ساعة ونصف"}]
[{"$f":"'جدول الصف السادس'!$B$14","v":"2018-01-04"},null,null,null,null,null,{"$f":"'جدول الصف السادس'!$B$14","v":"2018-01-04"}]
[]
[{"$f":"'جدول الصف السادس'!$A$1","v":"إدارة /غرب المحلة الكبرى التعليمية"},null,"رقم اللجنة",null,{"$f":"VLOOKUP(E152,kaemh6,7,FALSE)","v":1},null,{"$f":"'جدول الصف السادس'!$A$1","v":"إدارة /غرب المحلة الكبرى التعليمية"},null,"رقم اللجنة",null,{"$f":"VLOOKUP(K152,kaemh6,7,FALSE)","v":2}]
[{"$f":"'جدول الصف السادس'!$A$2","v":"مدرسة د/علي علي حبيش الابتدائية"},null,{"$f":"'جدول الصف السادس'!$C$4","v":"الصف السادس"},null,11,null,{"$f":"'جدول الصف السادس'!$A$2","v":"مدرسة د/علي علي حبيش الابتدائية"},null,{"$f":"'جدول الصف السادس'!$C$4","v":"الصف السادس"},null,{"$f":"K137+1","v":26}]
[{"$f":"'جدول الصف السادس'!$B$3","v":"جدول امتحان الفصل الدراسي الأول / الثاني للعام الدراسي 2019/2018"},null,null,null,null,null,{"$f":"'جدول الصف السادس'!$B$3","v":"جدول امتحان الفصل الدراسي الأول / الثاني للعام الدراسي 2019/2018"}]
["اسم التلميذ",{"$f":"VLOOKUP(E152,kaemh6,3,FALSE)","v":"محمد11"},"رقم الجلوس",null,{"$f":"VLOOKUP(E152,kaemh6,2,FALSE)","v":30},null,"اسم التلميذ",{"$f":"VLOOKUP(K152,kaemh6,3,FALSE)","v":"محمد26"},"رقم الجلوس",null,{"$f":"VLOOKUP(K152,kaemh6,2,FALSE)","v":45}]
["اليوم والتاريخ","المــــــــادة","الوقـــــــت",null,"الزمــــن ",null,"اليوم والتاريخ","المــــــــادة","الوقـــــــت",null,"الزمــــن "]
[null,null,"من ","إلي",null,null,null,null,"من ","إلي"]
[{"$f":"'جدول الصف السادس'!$B$7","v":"السبت"},{"$f":"'جدول الصف السادس'!$C$7","v":"لغة عربية وخط"},{"$f":"'جدول الصف السادس'!$D$7","v":8},{"$f":"'جدول الصف السادس'!$E$7","v":10.3},{"$f":"'جدول الصف السادس'!$F$7","v":"ساعتان ونصف"},null,{"$f":"'جدول الصف السادس'!$B$7","v":"السبت"},{"$f":"'جدول الصف السادس'!$C$7","v":"لغة عربية وخط"},{"$f":"'جدول الصف السادس'!$D$7","v":8},{"$f":"'جدول الصف السادس'!$E$7","v":10.3},{"$f":"'جدول الصف السادس'!$F$7","v":"ساعتان ونصف"}]
[{"$f":"'جدول الصف السادس'!$B$8","v":"2018-01-01"},null,null,null,null,null,{"$f":"'جدول الصف السادس'!$B$8","v":"2018-01-01"}]
[{"$f":"'جدول الصف السادس'!$B$9","v":"الأحد"},{"$f":"'جدول الصف السادس'!$C$9","v":"الرياضيات"},{"$f":"'جدول الصف السادس'!$D$9","v":8},{"$f":"'جدول الصف السادس'!$E$9","v":9.3000000000000007},{"$f":"'جدول الصف السادس'!$F$9","v":"ساعة ونصف"},null,{"$f":"'جدول الصف السادس'!$B$9","v":"الأحد"},{"$f":"'جدول الصف السادس'!$C$9","v":"الرياضيات"},{"$f":"'جدول الصف السادس'!$D$9","v":8},{"$f":"'جدول الصف السادس'!$E$9","v":9.3000000000000007},{"$f":"'جدول الصف السادس'!$F$9","v":"ساعة ونصف"}]
[{"$f":"'جدول الصف السادس'!$B$10","v":"2018-01-02"},{"$f":"'جدول الصف السادس'!$C$10","v":"اللغة الإنجليزية"},{"$f":"'جدول الصف السادس'!$D$10","v":9.4499999999999993},{"$f":"'جدول الصف السادس'!$E$10","v":11.15},{"$f":"'جدول الصف السادس'!$F$10","v":"ساعة ونصف"},null,{"$f":"'جدول الصف السادس'!$B$10","v":"2018-01-02"},{"$f":"'جدول الصف السادس'!$C$10","v":"اللغة الإنجليزية"},{"$f":"'جدول الصف السادس'!$D$10","v":9.4499999999999993},{"$f":"'جدول الصف السادس'!$E$10","v":11.15},{"$f":"'جدول الصف السادس'!$F$10","v":"ساعة ونصف"}]
[{"$f":"'جدول الصف السادس'!$B$11","v":"الاثنين"},{"$f":"'جدول الصف السادس'!$C$11","v":"علوم"},{"$f":"'جدول الصف السادس'!$D$11","v":8},{"$f":"'جدول الصف السادس'!$E$11","v":9.3000000000000007},{"$f":"'جدول الصف السادس'!$F$11","v":"ساعة ونصف"},null,{"$f":"'جدول الصف السادس'!$B$11","v":"الاثنين"},{"$f":"'جدول الصف السادس'!$C$11","v":"علوم"},{"$f":"'جدول الصف السادس'!$D$11","v":8},{"$f":"'جدول الصف السادس'!$E$11","v":9.3000000000000007},{"$f":"'جدول الصف السادس'!$F$11","v":"ساعة ونصف"}]
[{"$f":"'جدول الصف السادس'!$B$12","v":"2018-01-03"},{"$f":"'جدول الصف السادس'!$C$12","v":"التربية الدينية"},{"$f":"'جدول الصف السادس'!$D$12","v":9.4499999999999993},{"$f":"'جدول الصف السادس'!$E$12","v":10.45},{"$f":"'جدول الصف السادس'!$F$12","v":"ساعة ونصف"},null,{"$f":"'جدول الصف السادس'!$B$12","v":"2018-01-03"},{"$f":"'جدول الصف السادس'!$C$12","v":"التربية الدينية"},{"$f":"'جدول الصف السادس'!$D$12","v":9.4499999999999993},{"$f":"'جدول الصف السادس'!$E$12","v":10.45},{"$f":"'جدول الصف السادس'!$F$12","v":"ساعة ونصف"}]
[{"$f":"'جدول الصف السادس'!$B$13","v":"الثلاثاء"},{"$f":"'جدول الصف السادس'!$C$13","v":"الدراسات"},{"$f":"'جدول الصف السادس'!$D$13","v":8},{"$f":"'جدول الصف السادس'!$E$13","v":9.3000000000000007},{"$f":"'جدول الصف السادس'!$F$13","v":"ساعة ونصف"},null,{"$f":"'جدول الصف السادس'!$B$13","v":"الثلاثاء"},{"$f":"'جدول الصف السادس'!$C$13","v":"الدراسات"},{"$f":"'جدول الصف السادس'!$D$13","v":8},{"$f":"'جدول الصف السادس'!$E$13","v":9.3000000000000007},{"$f":"'جدول الصف السادس'!$F$13","v":"ساعة ونصف"}]
[{"$f":"'جدول الصف السادس'!$B$14","v":"2018-01-04"},null,null,null,null,null,{"$f":"'جدول الصف السادس'!$B$14","v":"2018-01-04"}]
[]
[{"$f":"'جدول الصف السادس'!$A$1","v":"إدارة /غرب المحلة الكبرى التعليمية"},null,"رقم اللجنة",null,{"$f":"VLOOKUP(E167,kaemh6,7,FALSE)","v":1},null,{"$f":"'جدول الصف السادس'!$A$1","v":"إدارة /غرب المحلة الكبرى التعليمية"},null,"رقم اللجنة",null,{"$f":"VLOOKUP(K167,kaemh6,7,FALSE)","v":2}]
[{"$f":"'جدول الصف السادس'!$A$2","v":"مدرسة د/علي علي حبيش الابتدائية"},null,{"$f":"'جدول الصف السادس'!$C$4","v":"الصف السادس"},null,{"$f":"E152+1","v":12},null,{"$f":"'جدول الصف السادس'!$A$2","v":"مدرسة د/علي علي حبيش الابتدائية"},null,{"$f":"'جدول الصف السادس'!$C$4","v":"الصف السادس"},null,{"$f":"K152+1","v":27}]
[{"$f":"'جدول الصف السادس'!$B$3","v":"جدول امتحان الفصل الدراسي الأول / الثاني للعام الدراسي 2019/2018"},null,null,null,null,null,{"$f":"'جدول الصف السادس'!$B$3","v":"جدول امتحان الفصل الدراسي الأول / الثاني للعام الدراسي 2019/2018"}]
["اسم التلميذ",{"$f":"VLOOKUP(E167,kaemh6,3,FALSE)","v":"محمد12"},"رقم الجلوس",null,{"$f":"VLOOKUP(E167,kaemh6,2,FALSE)","v":31},null,"اسم التلميذ",{"$f":"VLOOKUP(K167,kaemh6,3,FALSE)","v":"محمد27"},"رقم الجلوس",null,{"$f":"VLOOKUP(K167,kaemh6,2,FALSE)","v":46}]
["اليوم والتاريخ","المــــــــادة","الوقـــــــت",null,"الزمــــن ",null,"اليوم والتاريخ","المــــــــادة","الوقـــــــت",null,"الزمــــن "]
[null,null,"من ","إلي",null,null,null,null,"من ","إلي"]
[{"$f":"'جدول الصف السادس'!$B$7","v":"السبت"},{"$f":"'جدول الصف السادس'!$C$7","v":"لغة عربية وخط"},{"$f":"'جدول الصف السادس'!$D$7","v":8},{"$f":"'جدول الصف السادس'!$E$7","v":10.3},{"$f":"'جدول الصف السادس'!$F$7","v":"ساعتان ونصف"},null,{"$f":"'جدول الصف السادس'!$B$7","v":"السبت"},{"$f":"'جدول الصف السادس'!$C$7","v":"لغة عربية وخط"},{"$f":"'جدول الصف السادس'!$D$7","v":8},{"$f":"'جدول الصف السادس'!$E$7","v":10.3},{"$f":"'جدول الصف السادس'!$F$7","v":"ساعتان ونصف"}]
[{"$f":"'جدول الصف السادس'!$B$8","v":"2018-01-01"},null,null,null,null,null,{"$f":"'جدول الصف السادس'!$B$8","v":"2018-01-01"}]
[{"$f":"'جدول الصف السادس'!$B$9","v":"الأحد"},{"$f":"'جدول الصف السادس'!$C$9","v":"الرياضيات"},{"$f":"'جدول الصف السادس'!$D$9","v":8},{"$f":"'جدول الصف السادس'!$E$9","v":9.3000000000000007},{"$f":"'جدول الصف السادس'!$F$9","v":"ساعة ونصف"},null,{"$f":"'جدول الصف السادس'!$B$9","v":"الأحد"},{"$f":"'جدول الصف السادس'!$C$9","v":"الرياضيات"},{"$f":"'جدول الصف السادس'!$D$9","v":8},{"$f":"'جدول الصف السادس'!$E$9","v":9.3000000000000007},{"$f":"'جدول الصف السادس'!$F$9","v":"ساعة ونصف"}]
[{"$f":"'جدول الصف السادس'!$B$10","v":"2018-01-02"},{"$f":"'جدول الصف السادس'!$C$10","v":"اللغة الإنجليزية"},{"$f":"'جدول الصف السادس'!$D$10","v":9.4499999999999993},{"$f":"'جدول الصف السادس'!$E$10","v":11.15},{"$f":"'جدول الصف السادس'!$F$10","v":"ساعة ونصف"},null,{"$f":"'جدول الصف السادس'!$B$10","v":"2018-01-02"},{"$f":"'جدول الصف السادس'!$C$10","v":"اللغة الإنجليزية"},{"$f":"'جدول الصف السادس'!$D$10","v":9.4499999999999993},{"$f":"'جدول الصف السادس'!$E$10","v":11.15},{"$f":"'جدول الصف السادس'!$F$10","v":"ساعة ونصف"}]
[{"$f":"'جدول الصف السادس'!$B$11","v":"الاثنين"},{"$f":"'جدول الصف السادس'!$C$11","v":"علوم"},{"$f":"'جدول الصف السادس'!$D$11","v":8},{"$f":"'جدول الصف السادس'!$E$11","v":9.3000000000000007},{"$f":"'جدول الصف السادس'!$F$11","v":"ساعة ونصف"},null,{"$f":"'جدول الصف السادس'!$B$11","v":"الاثنين"},{"$f":"'جدول الصف السادس'!$C$11","v":"علوم"},{"$f":"'جدول الصف السادس'!$D$11","v":8},{"$f":"'جدول الصف السادس'!$E$11","v":9.3000000000000007},{"$f":"'جدول الصف السادس'!$F$11","v":"ساعة ونصف"}]
[{"$f":"'جدول الصف السادس'!$B$12","v":"2018-01-03"},{"$f":"'جدول الصف السادس'!$C$12","v":"التربية الدينية"},{"$f":"'جدول الصف السادس'!$D$12","v":9.4499999999999993},{"$f":"'جدول الصف السادس'!$E$12","v":10.45},{"$f":"'جدول الصف السادس'!$F$12","v":"ساعة ونصف"},null,{"$f":"'جدول الصف السادس'!$B$12","v":"2018-01-03"},{"$f":"'جدول الصف السادس'!$C$12","v":"التربية الدينية"},{"$f":"'جدول الصف السادس'!$D$12","v":9.4499999999999993},{"$f":"'جدول الصف السادس'!$E$12","v":10.45},{"$f":"'جدول الصف السادس'!$F$12","v":"ساعة ونصف"}]
[{"$f":"'جدول الصف السادس'!$B$13","v":"الثلاثاء"},{"$f":"'جدول الصف السادس'!$C$13","v":"الدراسات"},{"$f":"'جدول الصف السادس'!$D$13","v":8},{"$f":"'جدول الصف السادس'!$E$13","v":9.3000000000000007},{"$f":"'جدول الصف السادس'!$F$13","v":"ساعة ونصف"},null,{"$f":"'جدول الصف السادس'!$B$13","v":"الثلاثاء"},{"$f":"'جدول الصف السادس'!$C$13","v":"الدراسات"},{"$f":"'جدول الصف السادس'!$D$13","v":8},{"$f":"'جدول الصف السادس'!$E$13","v":9.3000000000000007},{"$f":"'جدول الصف السادس'!$F$13","v":"ساعة ونصف"}]
[{"$f":"'جدول الصف السادس'!$B$14","v":"2018-01-04"},null,null,null,null,null,{"$f":"'جدول الصف السادس'!$B$14","v":"2018-01-04"}]
[]
[{"$f":"'جدول الصف السادس'!$A$1","v":"إدارة /غرب المحلة الكبرى التعليمية"},null,"رقم اللجنة",null,{"$f":"VLOOKUP(E182,kaemh6,7,FALSE)","v":1},null,{"$f":"'جدول الصف السادس'!$A$1","v":"إدارة /غرب المحلة الكبرى التعليمية"},null,"رقم اللجنة",null,{"$f":"VLOOKUP(K182,kaemh6,7,FALSE)","v":2}]
[{"$f":"'جدول الصف السادس'!$A$2","v":"مدرسة د/علي علي حبيش الابتدائية"},null,{"$f":"'جدول الصف السادس'!$C$4","v":"الصف السادس"},null,{"$f":"E167+1","v":13},null,{"$f":"'جدول الصف السادس'!$A$2","v":"مدرسة د/علي علي حبيش الابتدائية"},null,{"$f":"'جدول الصف السادس'!$C$4","v":"الصف السادس"},null,{"$f":"K167+1","v":28}]
[{"$f":"'جدول الصف السادس'!$B$3","v":"جدول امتحان الفصل الدراسي الأول / الثاني للعام الدراسي 2019/2018"},null,null,null,null,null,{"$f":"'جدول الصف السادس'!$B$3","v":"جدول امتحان الفصل الدراسي الأول / الثاني للعام الدراسي 2019/2018"}]
["اسم التلميذ",{"$f":"VLOOKUP(E182,kaemh6,3,FALSE)","v":"محمد13"},"رقم الجلوس",null,{"$f":"VLOOKUP(E182,kaemh6,2,FALSE)","v":32},null,"اسم التلميذ",{"$f":"VLOOKUP(K182,kaemh6,3,FALSE)","v":"محمد28"},"رقم الجلوس",null,{"$f":"VLOOKUP(K182,kaemh6,2,FALSE)","v":47}]
["اليوم والتاريخ","المــــــــادة","الوقـــــــت",null,"الزمــــن ",null,"اليوم والتاريخ","المــــــــادة","الوقـــــــت",null,"الزمــــن "]
[null,null,"من ","إلي",null,null,null,null,"من ","إلي"]
[{"$f":"'جدول الصف السادس'!$B$7","v":"السبت"},{"$f":"'جدول الصف السادس'!$C$7","v":"لغة عربية وخط"},{"$f":"'جدول الصف السادس'!$D$7","v":8},{"$f":"'جدول الصف السادس'!$E$7","v":10.3},{"$f":"'جدول الصف السادس'!$F$7","v":"ساعتان ونصف"},null,{"$f":"'جدول الصف السادس'!$B$7","v":"السبت"},{"$f":"'جدول الصف السادس'!$C$7","v":"لغة عربية وخط"},{"$f":"'جدول الصف السادس'!$D$7","v":8},{"$f":"'جدول الصف السادس'!$E$7","v":10.3},{"$f":"'جدول الصف السادس'!$F$7","v":"ساعتان ونصف"}]
[{"$f":"'جدول الصف السادس'!$B$8","v":"2018-01-01"},null,null,null,null,null,{"$f":"'جدول الصف السادس'!$B$8","v":"2018-01-01"}]
[{"$f":"'جدول الصف السادس'!$B$9","v":"الأحد"},{"$f":"'جدول الصف السادس'!$C$9","v":"الرياضيات"},{"$f":"'جدول الصف السادس'!$D$9","v":8},{"$f":"'جدول الصف السادس'!$E$9","v":9.3000000000000007},{"$f":"'جدول الصف السادس'!$F$9","v":"ساعة ونصف"},null,{"$f":"'جدول الصف السادس'!$B$9","v":"الأحد"},{"$f":"'جدول الصف السادس'!$C$9","v":"الرياضيات"},{"$f":"'جدول الصف السادس'!$D$9","v":8},{"$f":"'جدول الصف السادس'!$E$9","v":9.3000000000000007},{"$f":"'جدول الصف السادس'!$F$9","v":"ساعة ونصف"}]
[{"$f":"'جدول الصف السادس'!$B$10","v":"2018-01-02"},{"$f":"'جدول الصف السادس'!$C$10","v":"اللغة الإنجليزية"},{"$f":"'جدول الصف السادس'!$D$10","v":9.4499999999999993},{"$f":"'جدول الصف السادس'!$E$10","v":11.15},{"$f":"'جدول الصف السادس'!$F$10","v":"ساعة ونصف"},null,{"$f":"'جدول الصف السادس'!$B$10","v":"2018-01-02"},{"$f":"'جدول الصف السادس'!$C$10","v":"اللغة الإنجليزية"},{"$f":"'جدول الصف السادس'!$D$10","v":9.4499999999999993},{"$f":"'جدول الصف السادس'!$E$10","v":11.15},{"$f":"'جدول الصف السادس'!$F$10","v":"ساعة ونصف"}]
[{"$f":"'جدول الصف السادس'!$B$11","v":"الاثنين"},{"$f":"'جدول الصف السادس'!$C$11","v":"علوم"},{"$f":"'جدول الصف السادس'!$D$11","v":8},{"$f":"'جدول الصف السادس'!$E$11","v":9.3000000000000007},{"$f":"'جدول الصف السادس'!$F$11","v":"ساعة ونصف"},null,{"$f":"'جدول الصف السادس'!$B$11","v":"الاثنين"},{"$f":"'جدول الصف السادس'!$C$11","v":"علوم"},{"$f":"'جدول الصف السادس'!$D$11","v":8},{"$f":"'جدول الصف السادس'!$E$11","v":9.3000000000000007},{"$f":"'جدول الصف السادس'!$F$11","v":"ساعة ونصف"}]
[{"$f":"'جدول الصف السادس'!$B$12","v":"2018-01-03"},{"$f":"'جدول الصف السادس'!$C$12","v":"التربية الدينية"},{"$f":"'جدول الصف السادس'!$D$12","v":9.4499999999999993},{"$f":"'جدول الصف السادس'!$E$12","v":10.45},{"$f":"'جدول الصف السادس'!$F$12","v":"ساعة ونصف"},null,{"$f":"'جدول الصف السادس'!$B$12","v":"2018-01-03"},{"$f":"'جدول الصف السادس'!$C$12","v":"التربية الدينية"},{"$f":"'جدول الصف السادس'!$D$12","v":9.4499999999999993},{"$f":"'جدول الصف السادس'!$E$12","v":10.45},{"$f":"'جدول الصف السادس'!$F$12","v":"ساعة ونصف"}]
[{"$f":"'جدول الصف السادس'!$B$13","v":"الثلاثاء"},{"$f":"'جدول الصف السادس'!$C$13","v":"الدراسات"},{"$f":"'جدول الصف السادس'!$D$13","v":8},{"$f":"'جدول الصف السادس'!$E$13","v":9.3000000000000007},{"$f":"'جدول الصف السادس'!$F$13","v":"ساعة ونصف"},null,{"$f":"'جدول الصف السادس'!$B$13","v":"الثلاثاء"},{"$f":"'جدول الصف السادس'!$C$13","v":"الدراسات"},{"$f":"'جدول الصف السادس'!$D$13","v":8},{"$f":"'جدول الصف السادس'!$E$13","v":9.3000000000000007},{"$f":"'جدول الصف السادس'!$F$13","v":"ساعة ونصف"}]
[{"$f":"'جدول الصف السادس'!$B$14","v":"2018-01-04"},null,null,null,null,null,{"$f":"'جدول الصف السادس'!$B$14","v":"2018-01-04"}]
[]
[{"$f":"'جدول الصف السادس'!$A$1","v":"إدارة /غرب المحلة الكبرى التعليمية"},null,"رقم اللجنة",null,{"$f":"VLOOKUP(E197,kaemh6,7,FALSE)","v":1},null,{"$f":"'جدول الصف السادس'!$A$1","v":"إدارة /غرب المحلة الكبرى التعليمية"},null,"رقم اللجنة",null,{"$f":"VLOOKUP(K197,kaemh6,7,FALSE)","v":2}]
[{"$f":"'جدول الصف السادس'!$A$2","v":"مدرسة د/علي علي حبيش الابتدائية"},null,{"$f":"'جدول الصف السادس'!$C$4","v":"الصف السادس"},null,14,null,{"$f":"'جدول الصف السادس'!$A$2","v":"مدرسة د/علي علي حبيش الابتدائية"},null,{"$f":"'جدول الصف السادس'!$C$4","v":"الصف السادس"},null,{"$f":"K182+1","v":29}]
[{"$f":"'جدول الصف السادس'!$B$3","v":"جدول امتحان الفصل الدراسي الأول / الثاني للعام الدراسي 2019/2018"},null,null,null,null,null,{"$f":"'جدول الصف السادس'!$B$3","v":"جدول امتحان الفصل الدراسي الأول / الثاني للعام الدراسي 2019/2018"}]
["اسم التلميذ",{"$f":"VLOOKUP(E197,kaemh6,3,FALSE)","v":"محمد14"},"رقم الجلوس",null,{"$f":"VLOOKUP(E197,kaemh6,2,FALSE)","v":33},null,"اسم التلميذ",{"$f":"VLOOKUP(K197,kaemh6,3,FALSE)","v":"محمد29"},"رقم الجلوس",null,{"$f":"VLOOKUP(K197,kaemh6,2,FALSE)","v":48}]
["اليوم والتاريخ","المــــــــادة","الوقـــــــت",null,"الزمــــن ",null,"اليوم والتاريخ","المــــــــادة","الوقـــــــت",null,"الزمــــن "]
[null,null,"من ","إلي",null,null,null,null,"من ","إلي"]
[{"$f":"'جدول الصف السادس'!$B$7","v":"السبت"},{"$f":"'جدول الصف السادس'!$C$7","v":"لغة عربية وخط"},{"$f":"'جدول الصف السادس'!$D$7","v":8},{"$f":"'جدول الصف السادس'!$E$7","v":10.3},{"$f":"'جدول الصف السادس'!$F$7","v":"ساعتان ونصف"},null,{"$f":"'جدول الصف السادس'!$B$7","v":"السبت"},{"$f":"'جدول الصف السادس'!$C$7","v":"لغة عربية وخط"},{"$f":"'جدول الصف السادس'!$D$7","v":8},{"$f":"'جدول الصف السادس'!$E$7","v":10.3},{"$f":"'جدول الصف السادس'!$F$7","v":"ساعتان ونصف"}]
[{"$f":"'جدول الصف السادس'!$B$8","v":"2018-01-01"},null,null,null,null,null,{"$f":"'جدول الصف السادس'!$B$8","v":"2018-01-01"}]
[{"$f":"'جدول الصف السادس'!$B$9","v":"الأحد"},{"$f":"'جدول الصف السادس'!$C$9","v":"الرياضيات"},{"$f":"'جدول الصف السادس'!$D$9","v":8},{"$f":"'جدول الصف السادس'!$E$9","v":9.3000000000000007},{"$f":"'جدول الصف السادس'!$F$9","v":"ساعة ونصف"},null,{"$f":"'جدول الصف السادس'!$B$9","v":"الأحد"},{"$f":"'جدول الصف السادس'!$C$9","v":"الرياضيات"},{"$f":"'جدول الصف السادس'!$D$9","v":8},{"$f":"'جدول الصف السادس'!$E$9","v":9.3000000000000007},{"$f":"'جدول الصف السادس'!$F$9","v":"ساعة ونصف"}]
[{"$f":"'جدول الصف السادس'!$B$10","v":"2018-01-02"},{"$f":"'جدول الصف السادس'!$C$10","v":"اللغة الإنجليزية"},{"$f":"'جدول الصف السادس'!$D$10","v":9.4499999999999993},{"$f":"'جدول الصف السادس'!$E$10","v":11.15},{"$f":"'جدول الصف السادس'!$F$10","v":"ساعة ونصف"},null,{"$f":"'جدول الصف السادس'!$B$10","v":"2018-01-02"},{"$f":"'جدول الصف السادس'!$C$10","v":"اللغة الإنجليزية"},{"$f":"'جدول الصف السادس'!$D$10","v":9.4499999999999993},{"$f":"'جدول الصف السادس'!$E$10","v":11.15},{"$f":"'جدول الصف السادس'!$F$10","v":"ساعة ونصف"}]
[{"$f":"'جدول الصف السادس'!$B$11","v":"الاثنين"},{"$f":"'جدول الصف السادس'!$C$11","v":"علوم"},{"$f":"'جدول الصف السادس'!$D$11","v":8},{"$f":"'جدول الصف السادس'!$E$11","v":9.3000000000000007},{"$f":"'جدول الصف السادس'!$F$11","v":"ساعة ونصف"},null,{"$f":"'جدول الصف السادس'!$B$11","v":"الاثنين"},{"$f":"'جدول الصف السادس'!$C$11","v":"علوم"},{"$f":"'جدول الصف السادس'!$D$11","v":8},{"$f":"'جدول الصف السادس'!$E$11","v":9.3000000000000007},{"$f":"'جدول الصف السادس'!$F$11","v":"ساعة ونصف"}]
[{"$f":"'جدول الصف السادس'!$B$12","v":"2018-01-03"},{"$f":"'جدول الصف السادس'!$C$12","v":"التربية الدينية"},{"$f":"'جدول الصف السادس'!$D$12","v":9.4499999999999993},{"$f":"'جدول الصف السادس'!$E$12","v":10.45},{"$f":"'جدول الصف السادس'!$F$12","v":"ساعة ونصف"},null,{"$f":"'جدول الصف السادس'!$B$12","v":"2018-01-03"},{"$f":"'جدول الصف السادس'!$C$12","v":"التربية الدينية"},{"$f":"'جدول الصف السادس'!$D$12","v":9.4499999999999993},{"$f":"'جدول الصف السادس'!$E$12","v":10.45},{"$f":"'جدول الصف السادس'!$F$12","v":"ساعة ونصف"}]
[{"$f":"'جدول الصف السادس'!$B$13","v":"الثلاثاء"},{"$f":"'جدول الصف السادس'!$C$13","v":"الدراسات"},{"$f":"'جدول الصف السادس'!$D$13","v":8},{"$f":"'جدول الصف السادس'!$E$13","v":9.3000000000000007},{"$f":"'جدول الصف السادس'!$F$13","v":"ساعة ونصف"},null,{"$f":"'جدول الصف السادس'!$B$13","v":"الثلاثاء"},{"$f":"'جدول الصف السادس'!$C$13","v":"الدراسات"},{"$f":"'جدول الصف السادس'!$D$13","v":8},{"$f":"'جدول الصف السادس'!$E$13","v":9.3000000000000007},{"$f":"'جدول الصف السادس'!$F$13","v":"ساعة ونصف"}]
[{"$f":"'جدول الصف السادس'!$B$14","v":"2018-01-04"},null,null,null,null,null,{"$f":"'جدول الصف السادس'!$B$14","v":"2018-01-04"}]
[]
[{"$f":"'جدول الصف السادس'!$A$1","v":"إدارة /غرب المحلة الكبرى التعليمية"},null,"رقم اللجنة",null,{"$f":"VLOOKUP(E212,kaemh6,7,FALSE)","v":1},null,{"$f":"'جدول الصف السادس'!$A$1","v":"إدارة /غرب المحلة الكبرى التعليمية"},null,"رقم اللجنة",null,{"$f":"VLOOKUP(K212,kaemh6,7,FALSE)","v":2}]
[{"$f":"'جدول الصف السادس'!$A$2","v":"مدرسة د/علي علي حبيش الابتدائية"},null,{"$f":"'جدول الصف السادس'!$C$4","v":"الصف السادس"},null,{"$f":"E197+1","v":15},null,{"$f":"'جدول الصف السادس'!$A$2","v":"مدرسة د/علي علي حبيش الابتدائية"},null,{"$f":"'جدول الصف السادس'!$C$4","v":"الصف السادس"},null,{"$f":"K197+1","v":30}]
[{"$f":"'جدول الصف السادس'!$B$3","v":"جدول امتحان الفصل الدراسي الأول / الثاني للعام الدراسي 2019/2018"},null,null,null,null,null,{"$f":"'جدول الصف السادس'!$B$3","v":"جدول امتحان الفصل الدراسي الأول / الثاني للعام الدراسي 2019/2018"}]
["اسم التلميذ",{"$f":"VLOOKUP(E212,kaemh6,3,FALSE)","v":"محمد15"},"رقم الجلوس",null,{"$f":"VLOOKUP(E212,kaemh6,2,FALSE)","v":34},null,"اسم التلميذ",{"$f":"VLOOKUP(K212,kaemh6,3,FALSE)","v":"محمد30"},"رقم الجلوس",null,{"$f":"VLOOKUP(K212,kaemh6,2,FALSE)","v":49}]
["اليوم والتاريخ","المــــــــادة","الوقـــــــت",null,"الزمــــن ",null,"اليوم والتاريخ","المــــــــادة","الوقـــــــت",null,"الزمــــن "]
[null,null,"من ","إلي",null,null,null,null,"من ","إلي"]
[{"$f":"'جدول الصف السادس'!$B$7","v":"السبت"},{"$f":"'جدول الصف السادس'!$C$7","v":"لغة عربية وخط"},{"$f":"'جدول الصف السادس'!$D$7","v":8},{"$f":"'جدول الصف السادس'!$E$7","v":10.3},{"$f":"'جدول الصف السادس'!$F$7","v":"ساعتان ونصف"},null,{"$f":"'جدول الصف السادس'!$B$7","v":"السبت"},{"$f":"'جدول الصف السادس'!$C$7","v":"لغة عربية وخط"},{"$f":"'جدول الصف السادس'!$D$7","v":8},{"$f":"'جدول الصف السادس'!$E$7","v":10.3},{"$f":"'جدول الصف السادس'!$F$7","v":"ساعتان ونصف"}]
[{"$f":"'جدول الصف السادس'!$B$8","v":"2018-01-01"},null,null,null,null,null,{"$f":"'جدول الصف السادس'!$B$8","v":"2018-01-01"}]
[{"$f":"'جدول الصف السادس'!$B$9","v":"الأحد"},{"$f":"'جدول الصف السادس'!$C$9","v":"الرياضيات"},{"$f":"'جدول الصف السادس'!$D$9","v":8},{"$f":"'جدول الصف السادس'!$E$9","v":9.3000000000000007},{"$f":"'جدول الصف السادس'!$F$9","v":"ساعة ونصف"},null,{"$f":"'جدول الصف السادس'!$B$9","v":"الأحد"},{"$f":"'جدول الصف السادس'!$C$9","v":"الرياضيات"},{"$f":"'جدول الصف السادس'!$D$9","v":8},{"$f":"'جدول الصف السادس'!$E$9","v":9.3000000000000007},{"$f":"'جدول الصف السادس'!$F$9","v":"ساعة ونصف"}]
[{"$f":"'جدول الصف السادس'!$B$10","v":"2018-01-02"},{"$f":"'جدول الصف السادس'!$C$10","v":"اللغة الإنجليزية"},{"$f":"'جدول الصف السادس'!$D$10","v":9.4499999999999993},{"$f":"'جدول الصف السادس'!$E$10","v":11.15},{"$f":"'جدول الصف السادس'!$F$10","v":"ساعة ونصف"},null,{"$f":"'جدول الصف السادس'!$B$10","v":"2018-01-02"},{"$f":"'جدول الصف السادس'!$C$10","v":"اللغة الإنجليزية"},{"$f":"'جدول الصف السادس'!$D$10","v":9.4499999999999993},{"$f":"'جدول الصف السادس'!$E$10","v":11.15},{"$f":"'جدول الصف السادس'!$F$10","v":"ساعة ونصف"}]
[{"$f":"'جدول الصف السادس'!$B$11","v":"الاثنين"},{"$f":"'جدول الصف السادس'!$C$11","v":"علوم"},{"$f":"'جدول الصف السادس'!$D$11","v":8},{"$f":"'جدول الصف السادس'!$E$11","v":9.3000000000000007},{"$f":"'جدول الصف السادس'!$F$11","v":"ساعة ونصف"},null,{"$f":"'جدول الصف السادس'!$B$11","v":"الاثنين"},{"$f":"'جدول الصف السادس'!$C$11","v":"علوم"},{"$f":"'جدول الصف السادس'!$D$11","v":8},{"$f":"'جدول الصف السادس'!$E$11","v":9.3000000000000007},{"$f":"'جدول الصف السادس'!$F$11","v":"ساعة ونصف"}]
[{"$f":"'جدول الصف السادس'!$B$12","v":"2018-01-03"},{"$f":"'جدول الصف السادس'!$C$12","v":"التربية الدينية"},{"$f":"'جدول الصف السادس'!$D$12","v":9.4499999999999993},{"$f":"'جدول الصف السادس'!$E$12","v":10.45},{"$f":"'جدول الصف السادس'!$F$12","v":"ساعة ونصف"},null,{"$f":"'جدول الصف السادس'!$B$12","v":"2018-01-03"},{"$f":"'جدول الصف السادس'!$C$12","v":"التربية الدينية"},{"$f":"'جدول الصف السادس'!$D$12","v":9.4499999999999993},{"$f":"'جدول الصف السادس'!$E$12","v":10.45},{"$f":"'جدول الصف السادس'!$F$12","v":"ساعة ونصف"}]
[{"$f":"'جدول الصف السادس'!$B$13","v":"الثلاثاء"},{"$f":"'جدول الصف السادس'!$C$13","v":"الدراسات"},{"$f":"'جدول الصف السادس'!$D$13","v":8},{"$f":"'جدول الصف السادس'!$E$13","v":9.3000000000000007},{"$f":"'جدول الصف السادس'!$F$13","v":"ساعة ونصف"},null,{"$f":"'جدول الصف السادس'!$B$13","v":"الثلاثاء"},{"$f":"'جدول الصف السادس'!$C$13","v":"الدراسات"},{"$f":"'جدول الصف السادس'!$D$13","v":8},{"$f":"'جدول الصف السادس'!$E$13","v":9.3000000000000007},{"$f":"'جدول الصف السادس'!$F$13","v":"ساعة ونصف"}]
[{"$f":"'جدول الصف السادس'!$B$14","v":"2018-01-04"},null,null,null,null,null,{"$f":"'جدول الصف السادس'!$B$14","v":"2018-01-04"}]

{"sheet":"كشوف مناداة الصف الخامس والسادس","index":19,"n_rows":1130,"n_cols":19,"rows_kept":1130,"cut":false,"hidden":false,"merged":[[0,21,0,22],[1,21,1,22],[2,1,2,5],[2,7,2,11],[44,1,44,5],[44,7,44,11],[86,1,86,5],[86,7,86,11],[128,1,128,5],[128,7,128,11],[170,1,170,5],[170,7,170,11],[212,1,212,5],[212,7,212,11],[254,1,254,5],[254,7,254,11],[296,1,296,5],[296,7,296,11],[338,1,338,5],[338,7,338,11],[380,1,380,5],[380,7,380,11],[422,1,422,5],[422,7,422,11],[464,1,464,5],[464,7,464,11],[506,1,506,5],[506,7,506,11],[548,1,548,5],[548,7,548,11],[590,1,590,5],[590,7,590,11],[632,1,632,5],[632,7,632,11],[674,1,674,5],[674,7,674,11],[716,1,716,5],[716,7,716,11],[758,1,758,5],[758,7,758,11],[800,1,800,5],[800,7,800,11],[842,1,842,5],[842,7,842,11],[884,1,884,5],[884,7,884,11],[926,1,926,5],[926,7,926,11],[1094,1,1094,5],[1094,7,1094,11],[968,1,968,5],[968,7,968,11],[1010,1,1010,5],[1010,7,1010,11],[1052,1,1052,5],[1052,7,1052,11]]}
[null,{"$f":"'البيانات الأساسية'!$A$1","v":"إدارة /غرب المحلة الكبرى التعليمية"},null,null,null,null,null,{"$f":"'البيانات الأساسية'!$A$1","v":"إدارة /غرب المحلة الكبرى التعليمية"},null,null,null,null,null,null,null,1]
[null,{"$f":"'البيانات الأساسية'!$A$2","v":"مدرسة د/علي علي حبيش الابتدائية"},null,null,null,null,null,{"$f":"'البيانات الأساسية'!$A$2","v":"مدرسة د/علي علي حبيش الابتدائية"},null,null,null,null,null,null,null,null,{"$f":"MAX('قائمة الصف السادس'!E2:E43)","v":27},{"$f":"VLOOKUP(D4,رقم_جلوس6,3)","v":20},"الصف السادس"]
[null,{"$f":"'البيانات الأساسية'!$A$8","v":"كشف مناداة الصف السادس فصل أول وثانٍ للعام الدراسي 2019/2018"},null,null,null,null,null,{"$f":"'البيانات الأساسية'!$A$7","v":"كشف مناداة الصف الخامس فصل أول وثانٍ للعام الدراسي 2019/2018"},null,null,null,null,null,null,null,null,{"$f":"MAX('قائمة الصف الخامس'!L2:L30)","v":27},{"$f":"VLOOKUP(J4,عدد_اللجنة55,3)","v":20},"الصف الخامس"]
[null,null,"اللجنة رقم",{"$f":"IF(P1>Q2,\"\",P1)","v":1},null,null,null,null,"اللجنة رقم",{"$f":"IF(P1>Q3,\"\",P1)","v":1}]
[null,"م","الاســـــــــــــــــــــــــــــم","رقم الجلوس","القيد ","الديانة",null,"م","الاســـــــــــــــــــــــــــــم","رقم الجلوس","القيد ","الديانة"]
[null,{"$f":"IF(D4=\"\",\"\",1)","v":1},{"$f":"IF(B6=\"\",\"\",VLOOKUP(D6,أسماء_الصف6,2))","v":"محمد1"},{"$f":"IF(D4=\"\",\"\",VLOOKUP(D4,رقم_اللجنة6,2))","v":20},{"$f":"IF(B6=\"\",\"\",VLOOKUP(D6,أسماء_الصف6,4))","v":0},{"$f":"IF(B6=\"\",\"\",VLOOKUP(D6,أسماء_الصف6,5))","v":0},null,{"$f":"IF(J4=\"\",\"\",1)","v":1},{"$f":"IF(H6=\"\",\"\",VLOOKUP(J6,أسماء_الصف5,2))","v":"احمد1"},{"$f":"IF(J4=\"\",\"\",VLOOKUP(J4,رقم_جلوس5,2))","v":70},{"$f":"IF(H6=\"\",\"\",VLOOKUP(J6,أسماء_الصف5,4))","v":0},{"$f":"IF(H6=\"\",\"\",VLOOKUP(J6,أسماء_الصف5,5))","v":0}]
[null,{"$f":"IF(B6=\"\",\"\",IF(B6+1>$R$2,\"\",B6+1))","v":2},"محمد2",{"$f":"IF(B6=\"\",\"\",IF(B7=\"\",\"\",D6+1))","v":21},"معيد",0,null,{"$f":"IF(H6=\"\",\"\",IF(H6+1>$R$3,\"\",H6+1))","v":2},"احمد2",{"$f":"IF(H6=\"\",\"\",IF(H7=\"\",\"\",J6+1))","v":71},0,0]
[null,{"$f":"IF(B7=\"\",\"\",IF(B7+1>$R$2,\"\",B7+1))","v":3},"محمد3",{"$f":"IF(B7=\"\",\"\",IF(B8=\"\",\"\",D7+1))","v":22},0,"مسلم",null,{"$f":"IF(H7=\"\",\"\",IF(H7+1>$R$3,\"\",H7+1))","v":3},"احمد3",{"$f":"IF(H7=\"\",\"\",IF(H8=\"\",\"\",J7+1))","v":72},0,0]
[null,4,"محمد4",23,0,0,null,{"$f":"IF(H8=\"\",\"\",IF(H8+1>$R$3,\"\",H8+1))","v":4},"احمد4",73,0,0]
[null,5,"محمد5",24,0,"مسلم",null,5,"احمد5",74,0,"مسلم"]
[null,6,"محمد6",25,0,0,null,6,"احمد6",75,0,0]
[null,7,"محمد7",26,0,0,null,7,"احمد7",76,0,0]
[null,8,"محمد8",27,0,0,null,8,"احمد8",77,0,"مسلم"]
[null,9,"محمد9",28,0,0,null,9,"احمد9",78,0,0]
[null,10,"محمد10",{"$f":"IF(B14=\"\",\"\",IF(B15=\"\",\"\",D14+1))","v":29},0,0,null,10,"احمد10",79,"معيد",0]
[null,11,"محمد11",30,0,0,null,11,"احمد11",80,0,0]
[null,12,"محمد12",31,0,0,null,12,"احمد12",81,0,0]
[null,13,"محمد13",32,0,0,null,13,"احمد13",82,0,"مسلم"]
[null,14,"محمد14",33,0,0,null,14,"احمد14",83,0,0]
[null,15,"محمد15",34,0,0,null,15,"احمد15",84,0,0]
[null,16,"محمد16",35,0,0,null,16,"احمد16",85,0,0]
[null,17,"محمد17",36,0,0,null,17,"احمد17",86,0,0]
[null,18,"محمد18",37,0,0,null,18,"احمد18",87,0,0]
[null,19,"محمد19",38,0,0,null,19,"احمد19",88,0,0]
[null,20,"محمد20",39,0,0,null,20,"احمد20",89,0,0]
[null,"","","","","",null,"","","","",""]
[null,"","","","","",null,"","","","",""]
[null,"","","","","",null,"","","","",""]
[null,"","","","","",null,"","","","",""]
[null,"","","","","",null,"","","","",""]
[null,"","","","","",null,"","","","",""]
[null,"","","","","",null,"","","","",""]
[null,"","","","","",null,"","","","",""]
[null,"","","","","",null,"","","","",""]
[null,"","","","","",null,"","","","",""]
[]
[null,{"$f":"'البيانات الأساسية'!$A$10","v":"مراقب الكنترول"},null,{"$f":"'البيانات الأساسية'!$C$10","v":"رئيس الكنترول"},null,null,null,{"$f":"'البيانات الأساسية'!$A$10","v":"مراقب الكنترول"},null,{"$f":"'البيانات الأساسية'!$C$10","v":"رئيس الكنترول"}]
[null,{"$f":"'البيانات الأساسية'!$A$11","v":"أ/ عبد الحميد"},null,{"$f":"'البيانات الأساسية'!$A$11","v":"أ/ عبد الحميد"},null,null,null,{"$f":"'البيانات الأساسية'!$A$11","v":"أ/ عبد الحميد"},null,{"$f":"'البيانات الأساسية'!$A$11","v":"أ/ عبد الحميد"}]
[]
[]
[]
[]
[null,{"$f":"'البيانات الأساسية'!$A$1","v":"إدارة /غرب المحلة الكبرى التعليمية"},null,null,null,null,null,{"$f":"'البيانات الأساسية'!$A$1","v":"إدارة /غرب المحلة الكبرى التعليمية"}]
[null,{"$f":"'البيانات الأساسية'!$A$2","v":"مدرسة د/علي علي حبيش الابتدائية"},null,null,null,null,null,{"$f":"'البيانات الأساسية'!$A$2","v":"مدرسة د/علي علي حبيش الابتدائية"}]
[null,{"$f":"'البيانات الأساسية'!$A$8","v":"كشف مناداة الصف السادس فصل أول وثانٍ للعام الدراسي 2019/2018"},null,null,null,null,null,{"$f":"'البيانات الأساسية'!$A$7","v":"كشف مناداة الصف الخامس فصل أول وثانٍ للعام الدراسي 2019/2018"}]
[null,null,"اللجنة رقم",{"$f":"D4+1","v":2},null,null,null,null,"اللجنة رقم",{"$f":"J4+1","v":2}]
[null,"م","الاســـــــــــــــــــــــــــــم","رقم الجلوس","القيد ","الديانة",null,"م","الاســـــــــــــــــــــــــــــم","رقم الجلوس","القيد ","الديانة"]
[null,{"$f":"IF(D46=\"\",\"\",1)","v":1},{"$f":"IF(B48=\"\",\"\",VLOOKUP(D48,أسماء_الصف6,2))","v":"محمد21"},{"$f":"IF(D46=\"\",\"\",VLOOKUP(D46,رقم_اللجنة6,2))","v":40},{"$f":"IF(B48=\"\",\"\",VLOOKUP(D48,أسماء_الصف6,4))","v":0},{"$f":"IF(B48=\"\",\"\",VLOOKUP(D48,أسماء_الصف6,5))","v":0},null,{"$f":"IF(J46=\"\",\"\",1)","v":1},{"$f":"IF(H48=\"\",\"\",VLOOKUP(J48,أسماء_الصف5,2))","v":"احمد21"},{"$f":"IF(J46=\"\",\"\",VLOOKUP(J46,رقم_جلوس5,2))","v":90},{"$f":"IF(H48=\"\",\"\",VLOOKUP(J48,أسماء_الصف5,4))","v":0},{"$f":"IF(H48=\"\",\"\",VLOOKUP(J48,أسماء_الصف5,5))","v":0}]
[null,{"$f":"IF(B48=\"\",\"\",IF(B48+1>$R$2,\"\",B48+1))","v":2},"محمد22",{"$f":"IF(B48=\"\",\"\",IF(B49=\"\",\"\",D48+1))","v":41},0,0,null,{"$f":"IF(H48=\"\",\"\",IF(H48+1>$R$3,\"\",H48+1))","v":2},"احمد22",{"$f":"IF(H48=\"\",\"\",IF(H49=\"\",\"\",J48+1))","v":91},0,0]
[null,3,"محمد23",42,0,0,null,3,"احمد23",92,0,0]
[null,4,"محمد24",43,0,0,null,4,"احمد24",93,0,0]
[null,5,"محمد25",44,0,0,null,5,"احمد25",94,0,0]
[null,6,"محمد26",45,0,0,null,6,"احمد26",95,0,0]
[null,7,"محمد27",46,0,0,null,7,"احمد27",96,0,0]
[null,8,"محمد28",47,0,0,null,8,"احمد28",97,0,0]
[null,9,"محمد29",48,0,0,null,9,"احمد29",98,0,0]
[null,10,"محمد30",49,0,0,null,10,"احمد30",99,0,0]
[null,11,"محمد31",50,0,0,null,11,"احمد31",100,0,0]
[null,12,"محمد32",51,0,0,null,12,"احمد32",101,0,0]
[null,13,"محمد33",52,0,0,null,13,"احمد33",102,0,0]
[null,14,"محمد34",53,0,0,null,14,"احمد34",103,0,0]
[null,15,"محمد35",54,0,0,null,15,"احمد35",104,0,0]
[null,16,"محمد36",55,0,0,null,16,"احمد36",105,0,0]
[null,17,"محمد37",56,0,0,null,17,"احمد37",106,0,0]
[null,18,"محمد38",57,0,0,null,18,"احمد38",107,0,0]
[null,19,"محمد39",58,0,0,null,19,"احمد39",108,0,0]
[null,20,"محمد40",59,0,0,null,20,"احمد40",109,0,0]
[null,"","","","","",null,"","","","",""]
[null,"","","","","",null,"","","","",""]
[null,"","","","","",null,"","","","",""]
[null,"","","","","",null,"","","","",""]
[null,"","","","","",null,"","","","",""]
[null,"","","","","",null,"","","","",""]
[null,"","","","","",null,"","","","",""]
[null,"","","","","",null,"","","","",""]
[null,"","","","","",null,"","","","",""]
[null,"","","","","",null,"","","","",""]
[]
[null,{"$f":"'البيانات الأساسية'!$A$10","v":"مراقب الكنترول"},null,{"$f":"'البيانات الأساسية'!$C$10","v":"رئيس الكنترول"},null,null,null,{"$f":"'البيانات الأساسية'!$A$10","v":"مراقب الكنترول"},null,{"$f":"'البيانات الأساسية'!$C$10","v":"رئيس الكنترول"}]
[null,{"$f":"'البيانات الأساسية'!$A$11","v":"أ/ عبد الحميد"},null,{"$f":"'البيانات الأساسية'!$A$11","v":"أ/ عبد الحميد"},null,null,null,{"$f":"'البيانات الأساسية'!$A$11","v":"أ/ عبد الحميد"},null,{"$f":"'البيانات الأساسية'!$A$11","v":"أ/ عبد الحميد"}]
[]
[]
[]
[]
[null,{"$f":"'البيانات الأساسية'!$A$1","v":"إدارة /غرب المحلة الكبرى التعليمية"},null,null,null,null,null,{"$f":"'البيانات الأساسية'!$A$1","v":"إدارة /غرب المحلة الكبرى التعليمية"}]
[null,{"$f":"'البيانات الأساسية'!$A$2","v":"مدرسة د/علي علي حبيش الابتدائية"},null,null,null,null,null,{"$f":"'البيانات الأساسية'!$A$2","v":"مدرسة د/علي علي حبيش الابتدائية"}]
[null,{"$f":"'البيانات الأساسية'!$A$8","v":"كشف مناداة الصف السادس فصل أول وثانٍ للعام الدراسي 2019/2018"},null,null,null,null,null,{"$f":"'البيانات الأساسية'!$A$7","v":"كشف مناداة الصف الخامس فصل أول وثانٍ للعام الدراسي 2019/2018"}]
[null,null,"اللجنة رقم",{"$f":"D46+1","v":3},null,null,null,null,"اللجنة رقم",{"$f":"J46+1","v":3}]
[null,"م","الاســـــــــــــــــــــــــــــم","رقم الجلوس","القيد ","الديانة",null,"م","الاســـــــــــــــــــــــــــــم","رقم الجلوس","القيد ","الديانة"]
[null,{"$f":"IF(D88=\"\",\"\",1)","v":1},{"$f":"IF(B90=\"\",\"\",VLOOKUP(D90,أسماء_الصف6,2))","v":"محمد41"},{"$f":"IF(D88=\"\",\"\",VLOOKUP(D88,رقم_اللجنة6,2))","v":60},{"$f":"IF(B90=\"\",\"\",VLOOKUP(D90,أسماء_الصف6,4))","v":0},{"$f":"IF(B90=\"\",\"\",VLOOKUP(D90,أسماء_الصف6,5))","v":0},null,{"$f":"IF(J88=\"\",\"\",1)","v":1},{"$f":"IF(H90=\"\",\"\",VLOOKUP(J90,أسماء_الصف5,2))","v":"احمد41"},{"$f":"IF(J88=\"\",\"\",VLOOKUP(J88,رقم_جلوس5,2))","v":110},{"$f":"IF(H90=\"\",\"\",VLOOKUP(J90,أسماء_الصف5,4))","v":0},{"$f":"IF(H90=\"\",\"\",VLOOKUP(J90,أسماء_الصف5,5))","v":0}]
[null,{"$f":"IF(B90=\"\",\"\",IF(B90+1>$R$2,\"\",B90+1))","v":2},"محمد42",{"$f":"IF(B90=\"\",\"\",IF(B91=\"\",\"\",D90+1))","v":61},0,0,null,{"$f":"IF(H90=\"\",\"\",IF(H90+1>$R$3,\"\",H90+1))","v":2},"احمد42",{"$f":"IF(H90=\"\",\"\",IF(H91=\"\",\"\",J90+1))","v":111},0,0]
[null,3,"محمد43",62,0,0,null,3,"احمد43",112,0,0]
[null,4,"محمد44",63,0,0,null,4,"احمد44",113,0,0]
[null,5,"محمد45",64,0,0,null,5,"احمد45",114,0,0]
[null,6,"محمد46",65,0,0,null,6,"احمد46",115,0,0]
[null,7,"محمد47",66,0,0,null,7,"احمد47",116,0,0]
[null,8,"محمد48",67,0,0,null,8,"احمد48",117,0,0]
[null,9,"محمد49",68,0,0,null,9,"احمد49",118,0,0]
[null,10,"محمد50",69,0,0,null,10,"احمد50",119,0,0]
[null,11,"محمد51",70,0,0,null,11,"احمد51",120,0,0]
[null,12,"محمد52",71,0,0,null,12,"احمد52",121,0,0]
[null,13,"محمد53",72,0,0,null,13,"احمد53",122,0,0]
[null,14,"محمد54",73,0,0,null,14,"احمد54",123,0,0]
[null,15,"محمد55",74,0,0,null,15,"احمد55",124,0,0]
[null,16,"محمد56",75,0,0,null,16,"احمد56",125,0,0]
[null,17,"محمد57",76,0,0,null,17,"احمد57",126,0,0]
[null,18,"محمد58",77,0,0,null,18,"احمد58",127,0,0]
[null,19,"محمد59",78,0,0,null,19,"احمد59",128,0,0]
[null,20,"محمد60",79,0,0,null,20,"احمد60",129,0,0]
[null,"","","","","",null,"","","","",""]
[null,"","","","","",null,"","","","",""]
[null,"","","","","",null,"","","","",""]
[null,{"$f":"IF(B112=\"\",\"\",IF(B112+1>$R$2,\"\",B112+1))","v":""},"","","","",null,{"$f":"IF(H112=\"\",\"\",IF(H112+1>$R$3,\"\",H112+1))","v":""},"","","",""]
[null,"","","","","",null,"","","","",""]
[null,"","","","","",null,"","","","",""]
[null,"","","","","",null,"","","","",""]
[null,"","","","","",null,"","","","",""]
[null,"","","","","",null,"","","","",""]
[null,"","","","","",null,"","","","",""]
[]
[null,{"$f":"'البيانات الأساسية'!$A$10","v":"مراقب الكنترول"},null,{"$f":"'البيانات الأساسية'!$C$10","v":"رئيس الكنترول"},null,null,null,{"$f":"'البيانات الأساسية'!$A$10","v":"مراقب الكنترول"},null,{"$f":"'البيانات الأساسية'!$C$10","v":"رئيس الكنترول"}]
[null,{"$f":"'البيانات الأساسية'!$A$11","v":"أ/ عبد الحميد"},null,{"$f":"'البيانات الأساسية'!$A$11","v":"أ/ عبد الحميد"},null,null,null,{"$f":"'البيانات الأساسية'!$A$11","v":"أ/ عبد الحميد"},null,{"$f":"'البيانات الأساسية'!$A$11","v":"أ/ عبد الحميد"}]
[]
[]
[]
[]
[null,{"$f":"'البيانات الأساسية'!$A$1","v":"إدارة /غرب المحلة الكبرى التعليمية"},null,null,null,null,null,{"$f":"'البيانات الأساسية'!$A$1","v":"إدارة /غرب المحلة الكبرى التعليمية"}]
[null,{"$f":"'البيانات الأساسية'!$A$2","v":"مدرسة د/علي علي حبيش الابتدائية"},null,null,null,null,null,{"$f":"'البيانات الأساسية'!$A$2","v":"مدرسة د/علي علي حبيش الابتدائية"}]
[null,{"$f":"'البيانات الأساسية'!$A$8","v":"كشف مناداة الصف السادس فصل أول وثانٍ للعام الدراسي 2019/2018"},null,null,null,null,null,{"$f":"'البيانات الأساسية'!$A$7","v":"كشف مناداة الصف الخامس فصل أول وثانٍ للعام الدراسي 2019/2018"}]
[null,null,"اللجنة رقم",{"$f":"D88+1","v":4},null,null,null,null,"اللجنة رقم",{"$f":"J88+1","v":4}]
[null,"م","الاســـــــــــــــــــــــــــــم","رقم الجلوس","القيد ","الديانة",null,"م","الاســـــــــــــــــــــــــــــم","رقم الجلوس","القيد ","الديانة"]
[null,{"$f":"IF(D130=\"\",\"\",1)","v":1},{"$f":"IF(B132=\"\",\"\",VLOOKUP(D132,أسماء_الصف6,2))","v":"محمد61"},{"$f":"IF(D130=\"\",\"\",VLOOKUP(D130,رقم_اللجنة6,2))","v":80},{"$f":"IF(B132=\"\",\"\",VLOOKUP(D132,أسماء_الصف6,4))","v":0},{"$f":"IF(B132=\"\",\"\",VLOOKUP(D132,أسماء_الصف6,5))","v":0},null,{"$f":"IF(J130=\"\",\"\",1)","v":1},{"$f":"IF(H132=\"\",\"\",VLOOKUP(J132,أسماء_الصف5,2))","v":"احمد61"},{"$f":"IF(J130=\"\",\"\",VLOOKUP(J130,رقم_جلوس5,2))","v":130},{"$f":"IF(H132=\"\",\"\",VLOOKUP(J132,أسماء_الصف5,4))","v":0},{"$f":"IF(H132=\"\",\"\",VLOOKUP(J132,أسماء_الصف5,5))","v":0}]
[null,{"$f":"IF(B132=\"\",\"\",IF(B132+1>$R$2,\"\",B132+1))","v":2},"محمد62",{"$f":"IF(B132=\"\",\"\",IF(B133=\"\",\"\",D132+1))","v":81},0,0,null,{"$f":"IF(H132=\"\",\"\",IF(H132+1>$R$3,\"\",H132+1))","v":2},"احمد62",{"$f":"IF(H132=\"\",\"\",IF(H133=\"\",\"\",J132+1))","v":131},0,0]
[null,3,"محمد63",82,0,0,null,3,"احمد63",132,0,0]
[null,4,"محمد64",83,0,0,null,4,"احمد64",133,0,0]
[null,5,"محمد65",84,0,0,null,5,"احمد65",134,0,0]
[null,6,"محمد66",85,0,0,null,6,"احمد66",135,0,0]
[null,7,"محمد67",86,0,0,null,7,"احمد67",136,0,0]
[null,8,"محمد68",87,0,0,null,8,"احمد68",137,0,0]
[null,9,"محمد69",88,0,0,null,9,"احمد69",138,0,0]
[null,10,"محمد70",89,0,0,null,10,"احمد70",139,0,0]
[null,11,"محمد71",90,0,0,null,11,"احمد71",140,0,0]
[null,12,"محمد72",91,0,0,null,12,"احمد72",141,0,0]
[null,13,"محمد73",92,0,0,null,13,"احمد73",142,0,0]
[null,14,"محمد74",93,0,0,null,14,"احمد74",143,0,0]
[null,15,"محمد75",94,0,0,null,15,"احمد75",144,0,0]
[null,16,"محمد76",95,0,0,null,16,"احمد76",145,0,0]
[null,17,"محمد77",96,0,0,null,17,"احمد77",146,0,0]
[null,18,"محمد78",97,0,0,null,18,"احمد78",147,0,0]
[null,19,"محمد79",98,0,0,null,19,"احمد79",148,0,0]
[null,20,"محمد80",99,0,0,null,20,"احمد80",149,0,0]
[null,"","","","","",null,"","","","",""]
[null,"","","","","",null,"","","","",""]
[null,"","","","","",null,"","","","",""]
[null,"","","","","",null,"","","","",""]
[null,"","","","","",null,"","","","",""]
[null,"","","","","",null,"","","","",""]
[null,"","","","","",null,"","","","",""]
[null,"","","","","",null,"","","","",""]
[null,"","","","","",null,"","","","",""]
[null,"","","","","",null,"","","","",""]
[]
[null,{"$f":"'البيانات الأساسية'!$A$10","v":"مراقب الكنترول"},null,{"$f":"'البيانات الأساسية'!$C$10","v":"رئيس الكنترول"},null,null,null,{"$f":"'البيانات الأساسية'!$A$10","v":"مراقب الكنترول"},null,{"$f":"'البيانات الأساسية'!$C$10","v":"رئيس الكنترول"}]
[null,{"$f":"'البيانات الأساسية'!$A$11","v":"أ/ عبد الحميد"},null,{"$f":"'البيانات الأساسية'!$A$11","v":"أ/ عبد الحميد"},null,null,null,{"$f":"'البيانات الأساسية'!$A$11","v":"أ/ عبد الحميد"},null,{"$f":"'البيانات الأساسية'!$A$11","v":"أ/ عبد الحميد"}]
[]
[]
[]
[]
[null,{"$f":"'البيانات الأساسية'!$A$1","v":"إدارة /غرب المحلة الكبرى التعليمية"},null,null,null,null,null,{"$f":"'البيانات الأساسية'!$A$1","v":"إدارة /غرب المحلة الكبرى التعليمية"}]
[null,{"$f":"'البيانات الأساسية'!$A$2","v":"مدرسة د/علي علي حبيش الابتدائية"},null,null,null,null,null,{"$f":"'البيانات الأساسية'!$A$2","v":"مدرسة د/علي علي حبيش الابتدائية"}]
[null,{"$f":"'البيانات الأساسية'!$A$8","v":"كشف مناداة الصف السادس فصل أول وثانٍ للعام الدراسي 2019/2018"},null,null,null,null,null,{"$f":"'البيانات الأساسية'!$A$7","v":"كشف مناداة الصف الخامس فصل أول وثانٍ للعام الدراسي 2019/2018"}]
[null,null,"اللجنة رقم",{"$f":"D130+1","v":5},null,null,null,null,"اللجنة رقم",{"$f":"J130+1","v":5}]
[null,"م","الاســـــــــــــــــــــــــــــم","رقم الجلوس","القيد ","الديانة",null,"م","الاســـــــــــــــــــــــــــــم","رقم الجلوس","القيد ","الديانة"]
[null,{"$f":"IF(D172=\"\",\"\",1)","v":1},{"$f":"IF(B174=\"\",\"\",VLOOKUP(D174,أسماء_الصف6,2))","v":"محمد81"},{"$f":"IF(D172=\"\",\"\",VLOOKUP(D172,رقم_اللجنة6,2))","v":100},{"$f":"IF(B174=\"\",\"\",VLOOKUP(D174,أسماء_الصف6,4))","v":0},{"$f":"IF(B174=\"\",\"\",VLOOKUP(D174,أسماء_الصف6,5))","v":0},null,{"$f":"IF(J172=\"\",\"\",1)","v":1},{"$f":"IF(H174=\"\",\"\",VLOOKUP(J174,أسماء_الصف5,2))","v":"احمد81"},{"$f":"IF(J172=\"\",\"\",VLOOKUP(J172,رقم_جلوس5,2))","v":150},{"$f":"IF(H174=\"\",\"\",VLOOKUP(J174,أسماء_الصف5,4))","v":0},{"$f":"IF(H174=\"\",\"\",VLOOKUP(J174,أسماء_الصف5,5))","v":0}]
[null,{"$f":"IF(B174=\"\",\"\",IF(B174+1>$R$2,\"\",B174+1))","v":2},"محمد82",{"$f":"IF(B174=\"\",\"\",IF(B175=\"\",\"\",D174+1))","v":101},0,0,null,{"$f":"IF(H174=\"\",\"\",IF(H174+1>$R$3,\"\",H174+1))","v":2},"احمد82",{"$f":"IF(H174=\"\",\"\",IF(H175=\"\",\"\",J174+1))","v":151},0,0]
[null,3,"محمد83",102,0,0,null,3,"احمد83",152,0,0]
[null,4,"محمد84",103,0,0,null,4,"احمد84",153,0,0]
[null,5,"محمد85",104,0,0,null,5,"احمد85",154,0,0]
[null,6,"محمد86",105,0,0,null,6,"احمد86",155,0,0]
[null,7,"محمد87",106,0,0,null,7,"احمد87",156,0,0]
[null,8,"محمد88",107,0,0,null,8,"احمد88",157,0,0]
[null,9,"محمد89",108,0,0,null,9,"احمد89",158,0,0]
[null,10,"محمد90",109,0,0,null,10,"احمد90",159,0,0]
[null,11,"محمد91",110,0,0,null,11,"احمد91",160,0,0]
[null,12,"محمد92",111,0,0,null,12,"احمد92",161,0,0]
[null,13,"محمد93",112,0,0,null,13,"احمد93",162,0,0]
[null,14,"محمد94",113,0,0,null,14,"احمد94",163,0,0]
[null,15,"محمد95",114,0,0,null,15,"احمد95",164,0,0]
[null,16,"محمد96",115,0,0,null,16,"احمد96",165,0,0]
[null,17,"محمد97",116,0,0,null,17,"احمد97",166,0,0]
[null,18,"محمد98",117,0,0,null,18,"احمد98",167,0,0]
[null,19,"محمد99",118,0,0,null,19,"احمد99",168,0,0]
[null,20,"محمد100",119,0,0,null,20,"احمد100",169,0,0]
[null,"","","","","",null,"","","","",""]
[null,"","","","","",null,"","","","",""]
[null,"","","","","",null,"","","","",""]
[null,"","","","","",null,"","","","",""]
[null,"","","","","",null,"","","","",""]
[null,"","","","","",null,"","","","",""]
[null,"","","","","",null,"","","","",""]
[null,"","","","","",null,"","","","",""]
[null,"","","","","",null,"","","","",""]
[null,"","","","","",null,"","","","",""]
[]
[null,{"$f":"'البيانات الأساسية'!$A$10","v":"مراقب الكنترول"},null,{"$f":"'البيانات الأساسية'!$C$10","v":"رئيس الكنترول"},null,null,null,{"$f":"'البيانات الأساسية'!$A$10","v":"مراقب الكنترول"},null,{"$f":"'البيانات الأساسية'!$C$10","v":"رئيس الكنترول"}]
[null,{"$f":"'البيانات الأساسية'!$A$11","v":"أ/ عبد الحميد"},null,{"$f":"'البيانات الأساسية'!$A$11","v":"أ/ عبد الحميد"},null,null,null,{"$f":"'البيانات الأساسية'!$A$11","v":"أ/ عبد الحميد"},null,{"$f":"'البيانات الأساسية'!$A$11","v":"أ/ عبد الحميد"}]
[]
[]
[]
[]
[null,{"$f":"'البيانات الأساسية'!$A$1","v":"إدارة /غرب المحلة الكبرى التعليمية"},null,null,null,null,null,{"$f":"'البيانات الأساسية'!$A$1","v":"إدارة /غرب المحلة الكبرى التعليمية"}]
[null,{"$f":"'البيانات الأساسية'!$A$2","v":"مدرسة د/علي علي حبيش الابتدائية"},null,null,null,null,null,{"$f":"'البيانات الأساسية'!$A$2","v":"مدرسة د/علي علي حبيش الابتدائية"}]
[null,{"$f":"'البيانات الأساسية'!$A$8","v":"كشف مناداة الصف السادس فصل أول وثانٍ للعام الدراسي 2019/2018"},null,null,null,null,null,{"$f":"'البيانات الأساسية'!$A$7","v":"كشف مناداة الصف الخامس فصل أول وثانٍ للعام الدراسي 2019/2018"}]
[null,null,"اللجنة رقم",{"$f":"D172+1","v":6},null,null,null,null,"اللجنة رقم",{"$f":"J172+1","v":6}]
[null,"م","الاســـــــــــــــــــــــــــــم","رقم الجلوس","القيد ","الديانة",null,"م","الاســـــــــــــــــــــــــــــم","رقم الجلوس","القيد ","الديانة"]
[null,{"$f":"IF(D214=\"\",\"\",1)","v":1},{"$f":"IF(B216=\"\",\"\",VLOOKUP(D216,أسماء_الصف6,2))","v":"محمد101"},{"$f":"IF(D214=\"\",\"\",VLOOKUP(D214,رقم_اللجنة6,2))","v":120},{"$f":"IF(B216=\"\",\"\",VLOOKUP(D216,أسماء_الصف6,4))","v":0},{"$f":"IF(B216=\"\",\"\",VLOOKUP(D216,أسماء_الصف6,5))","v":0},null,{"$f":"IF(J214=\"\",\"\",1)","v":1},{"$f":"IF(H216=\"\",\"\",VLOOKUP(J216,أسماء_الصف5,2))","v":"احمد101"},{"$f":"IF(J214=\"\",\"\",VLOOKUP(J214,رقم_جلوس5,2))","v":170},{"$f":"IF(H216=\"\",\"\",VLOOKUP(J216,أسماء_الصف5,4))","v":0},{"$f":"IF(H216=\"\",\"\",VLOOKUP(J216,أسماء_الصف5,5))","v":0}]
[null,{"$f":"IF(B216=\"\",\"\",IF(B216+1>$R$2,\"\",B216+1))","v":2},"محمد102",{"$f":"IF(B216=\"\",\"\",IF(B217=\"\",\"\",D216+1))","v":121},0,0,null,{"$f":"IF(H216=\"\",\"\",IF(H216+1>$R$3,\"\",H216+1))","v":2},"احمد102",{"$f":"IF(H216=\"\",\"\",IF(H217=\"\",\"\",J216+1))","v":171},0,0]
[null,3,"محمد103",122,0,0,null,3,"احمد103",172,0,0]
[null,4,"محمد104",123,0,0,null,4,"احمد104",173,0,0]
[null,5,"محمد105",124,0,0,null,5,"احمد105",174,0,0]
[null,6,"محمد106",125,0,0,null,6,"احمد106",175,0,0]
[null,7,"محمد107",126,0,0,null,7,"احمد107",176,0,0]
[null,8,"محمد108",127,0,0,null,8,"احمد108",177,0,0]
[null,9,"محمد109",128,0,0,null,9,"احمد109",178,0,0]
[null,10,"محمد110",129,0,0,null,10,"احمد110",179,0,0]
[null,11,"محمد111",130,0,0,null,11,"احمد111",180,0,0]
[null,12,"محمد112",131,0,0,null,12,"احمد112",181,0,0]
[null,13,"محمد113",132,0,0,null,13,"احمد113",182,0,0]
[null,14,"محمد114",133,0,0,null,14,"احمد114",183,0,0]
[null,15,"محمد115",134,0,0,null,15,"احمد115",184,0,0]
[null,16,"محمد116",135,0,0,null,16,"احمد116",185,0,0]
[null,17,"محمد117",136,0,0,null,17,"احمد117",186,0,0]
[null,18,"محمد118",137,0,0,null,18,"احمد118",187,0,0]
[null,19,"محمد119",138,0,0,null,19,"احمد119",188,0,0]
[null,20,"محمد120",139,0,0,null,20,"احمد120",189,0,0]
[null,"","","","","",null,"","","","",""]
[null,"","","","","",null,"","","","",""]
[null,"","","","","",null,"","","","",""]
[null,{"$f":"IF(B238=\"\",\"\",IF(B238+1>$R$2,\"\",B238+1))","v":""},"","","","",null,{"$f":"IF(H238=\"\",\"\",IF(H238+1>$R$3,\"\",H238+1))","v":""},"","","",""]
[null,"","","","","",null,"","","","",""]
[null,"","","","","",null,"","","","",""]
[null,"","","","","",null,"","","","",""]
[null,"","","","","",null,"","","","",""]
[null,"","","","","",null,"","","","",""]
[null,"","","","","",null,"","","","",""]
[]
[null,{"$f":"'البيانات الأساسية'!$A$10","v":"مراقب الكنترول"},null,{"$f":"'البيانات الأساسية'!$C$10","v":"رئيس الكنترول"},null,null,null,{"$f":"'البيانات الأساسية'!$A$10","v":"مراقب الكنترول"},null,{"$f":"'البيانات الأساسية'!$C$10","v":"رئيس الكنترول"}]
[null,{"$f":"'البيانات الأساسية'!$A$11","v":"أ/ عبد الحميد"},null,{"$f":"'البيانات الأساسية'!$A$11","v":"أ/ عبد الحميد"},null,null,null,{"$f":"'البيانات الأساسية'!$A$11","v":"أ/ عبد الحميد"},null,{"$f":"'البيانات الأساسية'!$A$11","v":"أ/ عبد الحميد"}]
[]
[]
[]
[]
[null,{"$f":"'البيانات الأساسية'!$A$1","v":"إدارة /غرب المحلة الكبرى التعليمية"},null,null,null,null,null,{"$f":"'البيانات الأساسية'!$A$1","v":"إدارة /غرب المحلة الكبرى التعليمية"}]
[null,{"$f":"'البيانات الأساسية'!$A$2","v":"مدرسة د/علي علي حبيش الابتدائية"},null,null,null,null,null,{"$f":"'البيانات الأساسية'!$A$2","v":"مدرسة د/علي علي حبيش الابتدائية"}]
[null,{"$f":"'البيانات الأساسية'!$A$8","v":"كشف مناداة الصف السادس فصل أول وثانٍ للعام الدراسي 2019/2018"},null,null,null,null,null,{"$f":"'البيانات الأساسية'!$A$7","v":"كشف مناداة الصف الخامس فصل أول وثانٍ للعام الدراسي 2019/2018"}]
[null,null,"اللجنة رقم",{"$f":"D214+1","v":7},null,null,null,null,"اللجنة رقم",{"$f":"J214+1","v":7}]
[null,"م","الاســـــــــــــــــــــــــــــم","رقم الجلوس","القيد ","الديانة",null,"م","الاســـــــــــــــــــــــــــــم","رقم الجلوس","القيد ","الديانة"]
[null,{"$f":"IF(D256=\"\",\"\",1)","v":1},{"$f":"IF(B258=\"\",\"\",VLOOKUP(D258,أسماء_الصف6,2))","v":"محمد121"},{"$f":"IF(D256=\"\",\"\",VLOOKUP(D256,رقم_اللجنة6,2))","v":140},{"$f":"IF(B258=\"\",\"\",VLOOKUP(D258,أسماء_الصف6,4))","v":0},{"$f":"IF(B258=\"\",\"\",VLOOKUP(D258,أسماء_الصف6,5))","v":0},null,{"$f":"IF(J256=\"\",\"\",1)","v":1},{"$f":"IF(H258=\"\",\"\",VLOOKUP(J258,أسماء_الصف5,2))","v":"احمد121"},{"$f":"IF(J256=\"\",\"\",VLOOKUP(J256,رقم_جلوس5,2))","v":190},{"$f":"IF(H258=\"\",\"\",VLOOKUP(J258,أسماء_الصف5,4))","v":0},{"$f":"IF(H258=\"\",\"\",VLOOKUP(J258,أسماء_الصف5,5))","v":0}]
[null,{"$f":"IF(B258=\"\",\"\",IF(B258+1>$R$2,\"\",B258+1))","v":2},"محمد122",{"$f":"IF(B258=\"\",\"\",IF(B259=\"\",\"\",D258+1))","v":141},0,0,null,{"$f":"IF(H258=\"\",\"\",IF(H258+1>$R$3,\"\",H258+1))","v":2},"احمد122",{"$f":"IF(H258=\"\",\"\",IF(H259=\"\",\"\",J258+1))","v":191},0,0]
[null,3,"محمد123",142,0,0,null,3,"احمد123",192,0,0]
[null,4,"محمد124",143,0,0,null,4,"احمد124",193,0,0]
[null,5,"محمد125",144,0,0,null,5,"احمد125",194,0,0]
[null,6,"محمد126",145,0,0,null,6,"احمد126",195,0,0]
[null,7,"محمد127",146,0,0,null,7,"احمد127",196,0,0]
[null,8,"محمد128",147,0,0,null,8,"احمد128",197,0,0]
[null,9,"محمد129",148,0,0,null,9,"احمد129",198,0,0]
[null,10,"محمد130",149,0,0,null,10,"احمد130",199,0,0]
[null,11,"محمد131",150,0,0,null,11,"احمد131",200,0,0]
[null,12,"محمد132",151,0,0,null,12,"احمد132",201,0,0]
[null,13,"محمد133",152,0,0,null,13,"احمد133",202,0,0]
[null,14,"محمد134",153,0,0,null,14,"احمد134",203,0,0]
[null,15,"محمد135",154,0,0,null,15,"احمد135",204,0,0]
[null,16,"محمد136",155,0,0,null,16,"احمد136",205,0,0]
[null,17,"محمد137",156,0,0,null,17,"احمد137",206,0,0]
[null,18,"محمد138",157,0,0,null,18,"احمد138",207,0,0]
[null,19,"محمد139",158,0,0,null,19,"احمد139",208,0,0]
[null,20,"محمد140",159,0,0,null,20,"احمد140",209,0,0]
[null,"","","","","",null,"","","","",""]
[null,"","","","","",null,"","","","",""]
[null,"","","","","",null,"","","","",""]
[null,"","","","","",null,"","","","",""]
[null,"","","","","",null,"","","","",""]
[null,"","","","","",null,"","","","",""]
[null,"","","","","",null,"","","","",""]
[null,"","","","","",null,"","","","",""]
[null,"","","","","",null,"","","","",""]
[null,"","","","","",null,"","","","",""]
[]
[null,{"$f":"'البيانات الأساسية'!$A$10","v":"مراقب الكنترول"},null,{"$f":"'البيانات الأساسية'!$C$10","v":"رئيس الكنترول"},null,null,null,{"$f":"'البيانات الأساسية'!$A$10","v":"مراقب الكنترول"},null,{"$f":"'البيانات الأساسية'!$C$10","v":"رئيس الكنترول"}]
[null,{"$f":"'البيانات الأساسية'!$A$11","v":"أ/ عبد الحميد"},null,{"$f":"'البيانات الأساسية'!$A$11","v":"أ/ عبد الحميد"},null,null,null,{"$f":"'البيانات الأساسية'!$A$11","v":"أ/ عبد الحميد"},null,{"$f":"'البيانات الأساسية'!$A$11","v":"أ/ عبد الحميد"}]
[]
[]
[]
[]
[null,{"$f":"'البيانات الأساسية'!$A$1","v":"إدارة /غرب المحلة الكبرى التعليمية"},null,null,null,null,null,{"$f":"'البيانات الأساسية'!$A$1","v":"إدارة /غرب المحلة الكبرى التعليمية"}]
[null,{"$f":"'البيانات الأساسية'!$A$2","v":"مدرسة د/علي علي حبيش الابتدائية"},null,null,null,null,null,{"$f":"'البيانات الأساسية'!$A$2","v":"مدرسة د/علي علي حبيش الابتدائية"}]
[null,{"$f":"'البيانات الأساسية'!$A$8","v":"كشف مناداة الصف السادس فصل أول وثانٍ للعام الدراسي 2019/2018"},null,null,null,null,null,{"$f":"'البيانات الأساسية'!$A$7","v":"كشف مناداة الصف الخامس فصل أول وثانٍ للعام الدراسي 2019/2018"}]
[null,null,"اللجنة رقم",{"$f":"D256+1","v":8},null,null,null,null,"اللجنة رقم",{"$f":"J256+1","v":8}]
[null,"م","الاســـــــــــــــــــــــــــــم","رقم الجلوس","القيد ","الديانة",null,"م","الاســـــــــــــــــــــــــــــم","رقم الجلوس","القيد ","الديانة"]
[null,{"$f":"IF(D298=\"\",\"\",1)","v":1},{"$f":"IF(B300=\"\",\"\",VLOOKUP(D300,أسماء_الصف6,2))","v":"محمد141"},{"$f":"IF(D298=\"\",\"\",VLOOKUP(D298,رقم_اللجنة6,2))","v":160},{"$f":"IF(B300=\"\",\"\",VLOOKUP(D300,أسماء_الصف6,4))","v":0},{"$f":"IF(B300=\"\",\"\",VLOOKUP(D300,أسماء_الصف6,5))","v":0},null,{"$f":"IF(J298=\"\",\"\",1)","v":1},{"$f":"IF(H300=\"\",\"\",VLOOKUP(J300,أسماء_الصف5,2))","v":"احمد141"},{"$f":"IF(J298=\"\",\"\",VLOOKUP(J298,رقم_جلوس5,2))","v":210},{"$f":"IF(H300=\"\",\"\",VLOOKUP(J300,أسماء_الصف5,4))","v":0},{"$f":"IF(H300=\"\",\"\",VLOOKUP(J300,أسماء_الصف5,5))","v":0}]
[null,{"$f":"IF(B300=\"\",\"\",IF(B300+1>$R$2,\"\",B300+1))","v":2},"محمد142",{"$f":"IF(B300=\"\",\"\",IF(B301=\"\",\"\",D300+1))","v":161},0,0,null,{"$f":"IF(H300=\"\",\"\",IF(H300+1>$R$3,\"\",H300+1))","v":2},"احمد142",{"$f":"IF(H300=\"\",\"\",IF(H301=\"\",\"\",J300+1))","v":211},0,0]
[null,3,"محمد143",162,0,0,null,3,"احمد143",212,0,0]
[null,4,"محمد144",163,0,0,null,4,"احمد144",213,0,0]
[null,5,"محمد145",164,0,0,null,5,"احمد145",214,0,0]
[null,6,"محمد146",165,0,0,null,6,"احمد146",215,0,0]
[null,7,"محمد147",166,0,0,null,7,"احمد147",216,0,0]
[null,8,"محمد148",167,0,0,null,8,"احمد148",217,0,0]
[null,9,"محمد149",168,0,0,null,9,"احمد149",218,0,0]
[null,10,"محمد150",169,0,0,null,10,"احمد150",219,0,0]
[null,11,"محمد151",170,0,0,null,11,"احمد151",220,0,0]
[null,12,"محمد152",171,0,0,null,12,"احمد152",221,0,0]
[null,13,"محمد153",172,0,0,null,13,"احمد153",222,0,0]
[null,14,"محمد154",173,0,0,null,14,"احمد154",223,0,0]
[null,15,"محمد155",174,0,0,null,15,"احمد155",224,0,0]
[null,16,"محمد156",175,0,0,null,16,"احمد156",225,0,0]
[null,17,"محمد157",176,0,0,null,17,"احمد157",226,0,0]
[null,18,"محمد158",177,0,0,null,18,"احمد158",227,0,0]
[null,19,"محمد159",178,0,0,null,19,"احمد159",228,0,0]
[null,20,"محمد160",179,0,0,null,20,"احمد160",229,0,0]
[null,"","","","","",null,"","","","",""]
[null,"","","","","",null,"","","","",""]
[null,"","","","","",null,"","","","",""]
[null,"","","","","",null,"","","","",""]
[null,"","","","","",null,"","","","",""]
[null,"","","","","",null,"","","","",""]
[null,"","","","","",null,"","","","",""]
[null,"","","","","",null,"","","","",""]
[null,"","","","","",null,"","","","",""]
[null,"","","","","",null,"","","","",""]
[]
[null,{"$f":"'البيانات الأساسية'!$A$10","v":"مراقب الكنترول"},null,{"$f":"'البيانات الأساسية'!$C$10","v":"رئيس الكنترول"},null,null,null,{"$f":"'البيانات الأساسية'!$A$10","v":"مراقب الكنترول"},null,{"$f":"'البيانات الأساسية'!$C$10","v":"رئيس الكنترول"}]
[null,{"$f":"'البيانات الأساسية'!$A$11","v":"أ/ عبد الحميد"},null,{"$f":"'البيانات الأساسية'!$A$11","v":"أ/ عبد الحميد"},null,null,null,{"$f":"'البيانات الأساسية'!$A$11","v":"أ/ عبد الحميد"},null,{"$f":"'البيانات الأساسية'!$A$11","v":"أ/ عبد الحميد"}]
[]
[]
[]
[]
[null,{"$f":"'البيانات الأساسية'!$A$1","v":"إدارة /غرب المحلة الكبرى التعليمية"},null,null,null,null,null,{"$f":"'البيانات الأساسية'!$A$1","v":"إدارة /غرب المحلة الكبرى التعليمية"}]
[null,{"$f":"'البيانات الأساسية'!$A$2","v":"مدرسة د/علي علي حبيش الابتدائية"},null,null,null,null,null,{"$f":"'البيانات الأساسية'!$A$2","v":"مدرسة د/علي علي حبيش الابتدائية"}]
[null,{"$f":"'البيانات الأساسية'!$A$8","v":"كشف مناداة الصف السادس فصل أول وثانٍ للعام الدراسي 2019/2018"},null,null,null,null,null,{"$f":"'البيانات الأساسية'!$A$7","v":"كشف مناداة الصف الخامس فصل أول وثانٍ للعام الدراسي 2019/2018"}]
[null,null,"اللجنة رقم",{"$f":"D298+1","v":9},null,null,null,null,"اللجنة رقم",{"$f":"J298+1","v":9}]
[null,"م","الاســـــــــــــــــــــــــــــم","رقم الجلوس","القيد ","الديانة",null,"م","الاســـــــــــــــــــــــــــــم","رقم الجلوس","القيد ","الديانة"]
[null,{"$f":"IF(D340=\"\",\"\",1)","v":1},{"$f":"IF(B342=\"\",\"\",VLOOKUP(D342,أسماء_الصف6,2))","v":"محمد161"},{"$f":"IF(D340=\"\",\"\",VLOOKUP(D340,رقم_اللجنة6,2))","v":180},{"$f":"IF(B342=\"\",\"\",VLOOKUP(D342,أسماء_الصف6,4))","v":0},{"$f":"IF(B342=\"\",\"\",VLOOKUP(D342,أسماء_الصف6,5))","v":0},null,{"$f":"IF(J340=\"\",\"\",1)","v":1},{"$f":"IF(H342=\"\",\"\",VLOOKUP(J342,أسماء_الصف5,2))","v":"احمد161"},{"$f":"IF(J340=\"\",\"\",VLOOKUP(J340,رقم_جلوس5,2))","v":230},{"$f":"IF(H342=\"\",\"\",VLOOKUP(J342,أسماء_الصف5,4))","v":0},{"$f":"IF(H342=\"\",\"\",VLOOKUP(J342,أسماء_الصف5,5))","v":0}]
[null,{"$f":"IF(B342=\"\",\"\",IF(B342+1>$R$2,\"\",B342+1))","v":2},"محمد162",{"$f":"IF(B342=\"\",\"\",IF(B343=\"\",\"\",D342+1))","v":181},0,0,null,{"$f":"IF(H342=\"\",\"\",IF(H342+1>$R$3,\"\",H342+1))","v":2},"احمد162",{"$f":"IF(H342=\"\",\"\",IF(H343=\"\",\"\",J342+1))","v":231},0,0]
[null,3,"محمد163",182,0,0,null,3,"احمد163",232,0,0]
[null,4,"محمد164",183,0,0,null,4,"احمد164",233,0,0]
[null,5,"محمد165",184,0,0,null,5,"احمد165",234,0,0]
[null,6,"محمد166",185,0,0,null,6,"احمد166",235,0,0]
[null,7,"محمد167",186,0,0,null,7,"احمد167",236,0,0]
[null,8,"محمد168",187,0,0,null,8,"احمد168",237,0,0]
[null,9,"محمد169",188,0,0,null,9,"احمد169",238,0,0]
[null,10,"محمد170",189,0,0,null,10,"احمد170",239,0,0]
[null,11,"محمد171",190,0,0,null,11,"احمد171",240,0,0]
[null,12,"محمد172",191,0,0,null,12,"احمد172",241,0,0]
[null,13,"محمد173",192,0,0,null,13,"احمد173",242,0,0]
[null,14,"محمد174",193,0,0,null,14,"احمد174",243,0,0]
[null,15,"محمد175",194,0,0,null,15,"احمد175",244,0,0]
[null,16,"محمد176",195,0,0,null,16,"احمد176",245,0,0]
[null,17,"محمد177",196,0,0,null,17,"احمد177",246,0,0]
[null,18,"محمد178",197,0,0,null,18,"احمد178",247,0,0]
[null,19,"محمد179",198,0,0,null,19,"احمد179",248,0,0]
[null,20,"محمد180",199,0,0,null,20,"احمد180",249,0,0]
[null,"","","","","",null,"","","","",""]
[null,"","","","","",null,"","","","",""]
[null,"","","","","",null,"","","","",""]
[null,"","","","","",null,"","","","",""]
[null,"","","","","",null,"","","","",""]
[null,"","","","","",null,"","","","",""]
[null,"","","","","",null,"","","","",""]
[null,"","","","","",null,"","","","",""]
[null,"","","","","",null,"","","","",""]
[null,"","","","","",null,"","","","",""]
[]
[null,{"$f":"'البيانات الأساسية'!$A$10","v":"مراقب الكنترول"},null,{"$f":"'البيانات الأساسية'!$C$10","v":"رئيس الكنترول"},null,null,null,{"$f":"'البيانات الأساسية'!$A$10","v":"مراقب الكنترول"},null,{"$f":"'البيانات الأساسية'!$C$10","v":"رئيس الكنترول"}]
[null,{"$f":"'البيانات الأساسية'!$A$11","v":"أ/ عبد الحميد"},null,{"$f":"'البيانات الأساسية'!$A$11","v":"أ/ عبد الحميد"},null,null,null,{"$f":"'البيانات الأساسية'!$A$11","v":"أ/ عبد الحميد"},null,{"$f":"'البيانات الأساسية'!$A$11","v":"أ/ عبد الحميد"}]
[]
[]
[]
[]
[null,{"$f":"'البيانات الأساسية'!$A$1","v":"إدارة /غرب المحلة الكبرى التعليمية"},null,null,null,null,null,{"$f":"'البيانات الأساسية'!$A$1","v":"إدارة /غرب المحلة الكبرى التعليمية"}]
[null,{"$f":"'البيانات الأساسية'!$A$2","v":"مدرسة د/علي علي حبيش الابتدائية"},null,null,null,null,null,{"$f":"'البيانات الأساسية'!$A$2","v":"مدرسة د/علي علي حبيش الابتدائية"}]
[null,{"$f":"'البيانات الأساسية'!$A$8","v":"كشف مناداة الصف السادس فصل أول وثانٍ للعام الدراسي 2019/2018"},null,null,null,null,null,{"$f":"'البيانات الأساسية'!$A$7","v":"كشف مناداة الصف الخامس فصل أول وثانٍ للعام الدراسي 2019/2018"}]
[null,null,"اللجنة رقم",{"$f":"D340+1","v":10},null,null,null,null,"اللجنة رقم",{"$f":"J340+1","v":10}]
[null,"م","الاســـــــــــــــــــــــــــــم","رقم الجلوس","القيد ","الديانة",null,"م","الاســـــــــــــــــــــــــــــم","رقم الجلوس","القيد ","الديانة"]
[null,{"$f":"IF(D382=\"\",\"\",1)","v":1},{"$f":"IF(B384=\"\",\"\",VLOOKUP(D384,أسماء_الصف6,2))","v":"محمد181"},{"$f":"IF(D382=\"\",\"\",VLOOKUP(D382,رقم_اللجنة6,2))","v":200},{"$f":"IF(B384=\"\",\"\",VLOOKUP(D384,أسماء_الصف6,4))","v":0},{"$f":"IF(B384=\"\",\"\",VLOOKUP(D384,أسماء_الصف6,5))","v":0},null,{"$f":"IF(J382=\"\",\"\",1)","v":1},{"$f":"IF(H384=\"\",\"\",VLOOKUP(J384,أسماء_الصف5,2))","v":"احمد181"},{"$f":"IF(J382=\"\",\"\",VLOOKUP(J382,رقم_جلوس5,2))","v":250},{"$f":"IF(H384=\"\",\"\",VLOOKUP(J384,أسماء_الصف5,4))","v":0},{"$f":"IF(H384=\"\",\"\",VLOOKUP(J384,أسماء_الصف5,5))","v":0}]
[null,{"$f":"IF(B384=\"\",\"\",IF(B384+1>$R$2,\"\",B384+1))","v":2},"محمد182",{"$f":"IF(B384=\"\",\"\",IF(B385=\"\",\"\",D384+1))","v":201},0,0,null,{"$f":"IF(H384=\"\",\"\",IF(H384+1>$R$3,\"\",H384+1))","v":2},"احمد182",{"$f":"IF(H384=\"\",\"\",IF(H385=\"\",\"\",J384+1))","v":251},0,0]
[null,3,"محمد183",202,0,0,null,3,"احمد183",252,0,0]
[null,4,"محمد184",203,0,0,null,4,"احمد184",253,0,0]
[null,5,"محمد185",204,0,0,null,5,"احمد185",254,0,0]
[null,6,"محمد186",205,0,0,null,6,"احمد186",255,0,0]
[null,7,"محمد187",206,0,0,null,7,"احمد187",256,0,0]
[null,8,"محمد188",207,0,0,null,8,"احمد188",257,0,0]
[null,9,"محمد189",208,0,0,null,9,"احمد189",258,0,0]
[null,10,"محمد190",209,0,0,null,10,"احمد190",259,0,0]
[null,11,"محمد191",210,0,0,null,11,"احمد191",260,0,0]
[null,12,"محمد192",211,0,0,null,12,"احمد192",261,0,0]
[null,13,"محمد193",212,0,0,null,13,"احمد193",262,0,0]
[null,14,"محمد194",213,0,0,null,14,"احمد194",263,0,0]
[null,15,"محمد195",214,0,0,null,15,"احمد195",264,0,0]
[null,16,"محمد196",215,0,0,null,16,"احمد196",265,0,0]
[null,17,"محمد197",216,0,0,null,17,"احمد197",266,0,0]
[null,18,"محمد198",217,0,0,null,18,"احمد198",267,0,0]
[null,19,"محمد199",218,0,0,null,19,"احمد199",268,0,0]
[null,20,"محمد200",219,0,0,null,20,"احمد200",269,0,0]
[null,"","","","","",null,"","","","",""]
[null,"","","","","",null,"","","","",""]
[null,"","","","","",null,"","","","",""]
[null,"","","","","",null,"","","","",""]
[null,"","","","","",null,"","","","",""]
[null,"","","","","",null,"","","","",""]
[null,"","","","","",null,"","","","",""]
[null,"","","","","",null,"","","","",""]
[null,"","","","","",null,"","","","",""]
[null,"","","","","",null,"","","","",""]
[]
[null,{"$f":"'البيانات الأساسية'!$A$10","v":"مراقب الكنترول"},null,{"$f":"'البيانات الأساسية'!$C$10","v":"رئيس الكنترول"},null,null,null,{"$f":"'البيانات الأساسية'!$A$10","v":"مراقب الكنترول"},null,{"$f":"'البيانات الأساسية'!$C$10","v":"رئيس الكنترول"}]
[null,{"$f":"'البيانات الأساسية'!$A$11","v":"أ/ عبد الحميد"},null,{"$f":"'البيانات الأساسية'!$A$11","v":"أ/ عبد الحميد"},null,null,null,{"$f":"'البيانات الأساسية'!$A$11","v":"أ/ عبد الحميد"},null,{"$f":"'البيانات الأساسية'!$A$11","v":"أ/ عبد الحميد"}]
[]
[]
[]
[]
[null,{"$f":"'البيانات الأساسية'!$A$1","v":"إدارة /غرب المحلة الكبرى التعليمية"},null,null,null,null,null,{"$f":"'البيانات الأساسية'!$A$1","v":"إدارة /غرب المحلة الكبرى التعليمية"}]
[null,{"$f":"'البيانات الأساسية'!$A$2","v":"مدرسة د/علي علي حبيش الابتدائية"},null,null,null,null,null,{"$f":"'البيانات الأساسية'!$A$2","v":"مدرسة د/علي علي حبيش الابتدائية"}]
[null,{"$f":"'البيانات الأساسية'!$A$8","v":"كشف مناداة الصف السادس فصل أول وثانٍ للعام الدراسي 2019/2018"},null,null,null,null,null,{"$f":"'البيانات الأساسية'!$A$7","v":"كشف مناداة الصف الخامس فصل أول وثانٍ للعام الدراسي 2019/2018"}]
[null,null,"اللجنة رقم",{"$f":"D382+1","v":11},null,null,null,null,"اللجنة رقم",{"$f":"J382+1","v":11}]
[null,"م","الاســـــــــــــــــــــــــــــم","رقم الجلوس","القيد ","الديانة",null,"م","الاســـــــــــــــــــــــــــــم","رقم الجلوس","القيد ","الديانة"]
[null,{"$f":"IF(D424=\"\",\"\",1)","v":1},{"$f":"IF(B426=\"\",\"\",VLOOKUP(D426,أسماء_الصف6,2))","v":"محمد201"},{"$f":"IF(D424=\"\",\"\",VLOOKUP(D424,رقم_اللجنة6,2))","v":220},{"$f":"IF(B426=\"\",\"\",VLOOKUP(D426,أسماء_الصف6,4))","v":0},{"$f":"IF(B426=\"\",\"\",VLOOKUP(D426,أسماء_الصف6,5))","v":0},null,{"$f":"IF(J424=\"\",\"\",1)","v":1},{"$f":"IF(H426=\"\",\"\",VLOOKUP(J426,أسماء_الصف5,2))","v":"احمد201"},{"$f":"IF(J424=\"\",\"\",VLOOKUP(J424,رقم_جلوس5,2))","v":270},{"$f":"IF(H426=\"\",\"\",VLOOKUP(J426,أسماء_الصف5,4))","v":0},{"$f":"IF(H426=\"\",\"\",VLOOKUP(J426,أسماء_الصف5,5))","v":0}]
[null,{"$f":"IF(B426=\"\",\"\",IF(B426+1>$R$2,\"\",B426+1))","v":2},"محمد202",{"$f":"IF(B426=\"\",\"\",IF(B427=\"\",\"\",D426+1))","v":221},0,0,null,{"$f":"IF(H426=\"\",\"\",IF(H426+1>$R$3,\"\",H426+1))","v":2},"احمد202",{"$f":"IF(H426=\"\",\"\",IF(H427=\"\",\"\",J426+1))","v":271},0,0]
[null,3,"محمد203",222,0,0,null,3,"احمد203",272,0,0]
[null,4,"محمد204",223,0,0,null,4,"احمد204",273,0,0]
[null,5,"محمد205",224,0,0,null,5,"احمد205",274,0,0]
[null,6,"محمد206",225,0,0,null,6,"احمد206",275,0,0]
[null,7,"محمد207",226,0,0,null,7,"احمد207",276,0,0]
[null,8,"محمد208",227,0,0,null,8,"احمد208",277,0,0]
[null,9,"محمد209",228,0,0,null,9,"احمد209",278,0,0]
[null,10,"محمد210",229,0,0,null,10,"احمد210",279,0,0]
[null,11,"محمد211",230,0,0,null,11,"احمد211",280,0,0]
[null,12,"محمد212",231,0,0,null,12,"احمد212",281,0,0]
[null,13,"محمد213",232,0,0,null,13,"احمد213",282,0,0]
[null,14,"محمد214",233,0,0,null,14,"احمد214",283,0,0]
[null,15,"محمد215",234,0,0,null,15,"احمد215",284,0,0]
[null,16,"محمد216",235,0,0,null,16,"احمد216",285,0,0]
[null,17,"محمد217",236,0,0,null,17,"احمد217",286,0,0]
[null,18,"محمد218",237,0,0,null,18,"احمد218",287,0,0]
[null,19,"محمد219",238,0,0,null,19,"احمد219",288,0,0]
[null,20,"محمد220",239,0,0,null,20,"احمد220",289,0,0]
[null,"","","","","",null,"","","","",""]
[null,"","","","","",null,"","","","",""]
[null,"","","","","",null,"","","","",""]
[null,"","","","","",null,"","","","",""]
[null,"","","","","",null,"","","","",""]
[null,"","","","","",null,"","","","",""]
[null,"","","","","",null,"","","","",""]
[null,"","","","","",null,"","","","",""]
[null,"","","","","",null,"","","","",""]
[null,"","","","","",null,"","","","",""]
[]
[null,{"$f":"'البيانات الأساسية'!$A$10","v":"مراقب الكنترول"},null,{"$f":"'البيانات الأساسية'!$C$10","v":"رئيس الكنترول"},null,null,null,{"$f":"'البيانات الأساسية'!$A$10","v":"مراقب الكنترول"},null,{"$f":"'البيانات الأساسية'!$C$10","v":"رئيس الكنترول"}]
[null,{"$f":"'البيانات الأساسية'!$A$11","v":"أ/ عبد الحميد"},null,{"$f":"'البيانات الأساسية'!$A$11","v":"أ/ عبد الحميد"},null,null,null,{"$f":"'البيانات الأساسية'!$A$11","v":"أ/ عبد الحميد"},null,{"$f":"'البيانات الأساسية'!$A$11","v":"أ/ عبد الحميد"}]
[]
[]
[]
[]
[null,{"$f":"'البيانات الأساسية'!$A$1","v":"إدارة /غرب المحلة الكبرى التعليمية"},null,null,null,null,null,{"$f":"'البيانات الأساسية'!$A$1","v":"إدارة /غرب المحلة الكبرى التعليمية"}]
[null,{"$f":"'البيانات الأساسية'!$A$2","v":"مدرسة د/علي علي حبيش الابتدائية"},null,null,null,null,null,{"$f":"'البيانات الأساسية'!$A$2","v":"مدرسة د/علي علي حبيش الابتدائية"}]
[null,{"$f":"'البيانات الأساسية'!$A$8","v":"كشف مناداة الصف السادس فصل أول وثانٍ للعام الدراسي 2019/2018"},null,null,null,null,null,{"$f":"'البيانات الأساسية'!$A$7","v":"كشف مناداة الصف الخامس فصل أول وثانٍ للعام الدراسي 2019/2018"}]
[null,null,"اللجنة رقم",{"$f":"D424+1","v":12},null,null,null,null,"اللجنة رقم",{"$f":"J424+1","v":12}]
[null,"م","الاســـــــــــــــــــــــــــــم","رقم الجلوس","القيد ","الديانة",null,"م","الاســـــــــــــــــــــــــــــم","رقم الجلوس","القيد ","الديانة"]
[null,{"$f":"IF(D466=\"\",\"\",1)","v":1},{"$f":"IF(B468=\"\",\"\",VLOOKUP(D468,أسماء_الصف6,2))","v":"محمد221"},{"$f":"IF(D466=\"\",\"\",VLOOKUP(D466,رقم_اللجنة6,2))","v":240},{"$f":"IF(B468=\"\",\"\",VLOOKUP(D468,أسماء_الصف6,4))","v":0},{"$f":"IF(B468=\"\",\"\",VLOOKUP(D468,أسماء_الصف6,5))","v":0},null,{"$f":"IF(J466=\"\",\"\",1)","v":1},{"$f":"IF(H468=\"\",\"\",VLOOKUP(J468,أسماء_الصف5,2))","v":"احمد221"},{"$f":"IF(J466=\"\",\"\",VLOOKUP(J466,رقم_جلوس5,2))","v":290},{"$f":"IF(H468=\"\",\"\",VLOOKUP(J468,أسماء_الصف5,4))","v":0},{"$f":"IF(H468=\"\",\"\",VLOOKUP(J468,أسماء_الصف5,5))","v":0}]
[null,{"$f":"IF(B468=\"\",\"\",IF(B468+1>$R$2,\"\",B468+1))","v":2},"محمد222",{"$f":"IF(B468=\"\",\"\",IF(B469=\"\",\"\",D468+1))","v":241},0,0,null,{"$f":"IF(H468=\"\",\"\",IF(H468+1>$R$3,\"\",H468+1))","v":2},"احمد222",{"$f":"IF(H468=\"\",\"\",IF(H469=\"\",\"\",J468+1))","v":291},0,0]
[null,3,"محمد223",242,0,0,null,3,"احمد223",292,0,0]
[null,4,"محمد224",243,0,0,null,4,"احمد224",293,0,0]
[null,5,"محمد225",244,0,0,null,5,"احمد225",294,0,0]
[null,6,"محمد226",245,0,0,null,6,"احمد226",295,0,0]
[null,7,"محمد227",246,0,0,null,7,"احمد227",296,0,0]
[null,8,"محمد228",247,0,0,null,8,"احمد228",297,0,0]
[null,9,"محمد229",248,0,0,null,9,"احمد229",298,0,0]
[null,10,"محمد230",249,0,0,null,10,"احمد230",299,0,0]
[null,11,"محمد231",250,0,0,null,11,"احمد231",300,0,0]
[null,12,"محمد232",251,0,0,null,12,"احمد232",301,0,0]
[null,13,"محمد233",252,0,0,null,13,"احمد233",302,0,0]
[null,14,"محمد234",253,0,0,null,14,"احمد234",303,0,0]
[null,15,"محمد235",254,0,0,null,15,"احمد235",304,0,0]
[null,16,"محمد236",255,0,0,null,16,"احمد236",305,0,0]
[null,17,"محمد237",256,0,0,null,17,"احمد237",306,0,0]
[null,18,"محمد238",257,0,0,null,18,"احمد238",307,0,0]
[null,19,"محمد239",258,0,0,null,19,"احمد239",308,0,0]
[null,20,"محمد240",259,0,0,null,20,"احمد240",309,0,0]
[null,"","","","","",null,"","","","",""]
[null,"","","","","",null,"","","","",""]
[null,"","","","","",null,"","","","",""]
[null,"","","","","",null,"","","","",""]
[null,"","","","","",null,"","","","",""]
[null,"","","","","",null,"","","","",""]
[null,"","","","","",null,"","","","",""]
[null,"","","","","",null,"","","","",""]
[null,"","","","","",null,"","","","",""]
[null,"","","","","",null,"","","","",""]
[]
[null,{"$f":"'البيانات الأساسية'!$A$10","v":"مراقب الكنترول"},null,{"$f":"'البيانات الأساسية'!$C$10","v":"رئيس الكنترول"},null,null,null,{"$f":"'البيانات الأساسية'!$A$10","v":"مراقب الكنترول"},null,{"$f":"'البيانات الأساسية'!$C$10","v":"رئيس الكنترول"}]
[null,{"$f":"'البيانات الأساسية'!$A$11","v":"أ/ عبد الحميد"},null,{"$f":"'البيانات الأساسية'!$A$11","v":"أ/ عبد الحميد"},null,null,null,{"$f":"'البيانات الأساسية'!$A$11","v":"أ/ عبد الحميد"},null,{"$f":"'البيانات الأساسية'!$A$11","v":"أ/ عبد الحميد"}]
[]
[]
[]
[]
[null,{"$f":"'البيانات الأساسية'!$A$1","v":"إدارة /غرب المحلة الكبرى التعليمية"},null,null,null,null,null,{"$f":"'البيانات الأساسية'!$A$1","v":"إدارة /غرب المحلة الكبرى التعليمية"}]
[null,{"$f":"'البيانات الأساسية'!$A$2","v":"مدرسة د/علي علي حبيش الابتدائية"},null,null,null,null,null,{"$f":"'البيانات الأساسية'!$A$2","v":"مدرسة د/علي علي حبيش الابتدائية"}]
[null,{"$f":"'البيانات الأساسية'!$A$8","v":"كشف مناداة الصف السادس فصل أول وثانٍ للعام الدراسي 2019/2018"},null,null,null,null,null,{"$f":"'البيانات الأساسية'!$A$7","v":"كشف مناداة الصف الخامس فصل أول وثانٍ للعام الدراسي 2019/2018"}]
[null,null,"اللجنة رقم",{"$f":"D466+1","v":13},null,null,null,null,"اللجنة رقم",{"$f":"J466+1","v":13}]
[null,"م","الاســـــــــــــــــــــــــــــم","رقم الجلوس","القيد ","الديانة",null,"م","الاســـــــــــــــــــــــــــــم","رقم الجلوس","القيد ","الديانة"]
[null,{"$f":"IF(D508=\"\",\"\",1)","v":1},{"$f":"IF(B510=\"\",\"\",VLOOKUP(D510,أسماء_الصف6,2))","v":"محمد241"},{"$f":"IF(D508=\"\",\"\",VLOOKUP(D508,رقم_اللجنة6,2))","v":260},{"$f":"IF(B510=\"\",\"\",VLOOKUP(D510,أسماء_الصف6,4))","v":0},{"$f":"IF(B510=\"\",\"\",VLOOKUP(D510,أسماء_الصف6,5))","v":0},null,{"$f":"IF(J508=\"\",\"\",1)","v":1},{"$f":"IF(H510=\"\",\"\",VLOOKUP(J510,أسماء_الصف5,2))","v":"احمد241"},{"$f":"IF(J508=\"\",\"\",VLOOKUP(J508,رقم_جلوس5,2))","v":310},{"$f":"IF(H510=\"\",\"\",VLOOKUP(J510,أسماء_الصف5,4))","v":0},{"$f":"IF(H510=\"\",\"\",VLOOKUP(J510,أسماء_الصف5,5))","v":0}]
[null,{"$f":"IF(B510=\"\",\"\",IF(B510+1>$R$2,\"\",B510+1))","v":2},"محمد242",{"$f":"IF(B510=\"\",\"\",IF(B511=\"\",\"\",D510+1))","v":261},0,0,null,{"$f":"IF(H510=\"\",\"\",IF(H510+1>$R$3,\"\",H510+1))","v":2},"احمد242",{"$f":"IF(H510=\"\",\"\",IF(H511=\"\",\"\",J510+1))","v":311},0,0]
[null,3,"محمد243",262,0,0,null,3,"احمد243",312,0,0]
[null,4,"محمد244",263,0,0,null,4,"احمد244",313,0,0]
[null,5,"محمد245",264,0,0,null,5,"احمد245",314,0,0]
[null,6,"محمد246",265,0,0,null,6,"احمد246",315,0,0]
[null,7,"محمد247",266,0,0,null,7,"احمد247",316,0,0]
[null,8,"محمد248",267,0,0,null,8,"احمد248",317,0,0]
[null,9,"محمد249",268,0,0,null,9,"احمد249",318,0,0]
[null,10,"محمد250",269,0,0,null,10,"احمد250",319,0,0]
[null,11,"محمد251",270,0,0,null,11,"احمد251",320,0,0]
[null,12,"محمد252",271,0,0,null,12,"احمد252",321,0,0]
[null,13,"محمد253",272,0,0,null,13,"احمد253",322,0,0]
[null,14,"محمد254",273,0,0,null,14,"احمد254",323,0,0]
[null,15,"محمد255",274,0,0,null,15,"احمد255",324,0,0]
[null,16,"محمد256",275,0,0,null,16,"احمد256",325,0,0]
[null,17,"محمد257",276,0,0,null,17,"احمد257",326,0,0]
[null,18,"محمد258",277,0,0,null,18,"احمد258",327,0,0]
[null,19,"محمد259",278,0,0,null,19,"احمد259",328,0,0]
[null,20,"محمد260",279,0,0,null,20,"احمد260",329,0,0]
[null,"","","","","",null,"","","","",""]
[null,"","","","","",null,"","","","",""]
[null,"","","","","",null,"","","","",""]
[null,"","","","","",null,"","","","",""]
[null,"","","","","",null,"","","","",""]
[null,"","","","","",null,"","","","",""]
[null,"","","","","",null,"","","","",""]
[null,"","","","","",null,"","","","",""]
[null,"","","","","",null,"","","","",""]
[null,"","","","","",null,"","","","",""]
[]
[null,{"$f":"'البيانات الأساسية'!$A$10","v":"مراقب الكنترول"},null,{"$f":"'البيانات الأساسية'!$C$10","v":"رئيس الكنترول"},null,null,null,{"$f":"'البيانات الأساسية'!$A$10","v":"مراقب الكنترول"},null,{"$f":"'البيانات الأساسية'!$C$10","v":"رئيس الكنترول"}]
[null,{"$f":"'البيانات الأساسية'!$A$11","v":"أ/ عبد الحميد"},null,{"$f":"'البيانات الأساسية'!$A$11","v":"أ/ عبد الحميد"},null,null,null,{"$f":"'البيانات الأساسية'!$A$11","v":"أ/ عبد الحميد"},null,{"$f":"'البيانات الأساسية'!$A$11","v":"أ/ عبد الحميد"}]
[]
[]
[]
[]
[null,{"$f":"'البيانات الأساسية'!$A$1","v":"إدارة /غرب المحلة الكبرى التعليمية"},null,null,null,null,null,{"$f":"'البيانات الأساسية'!$A$1","v":"إدارة /غرب المحلة الكبرى التعليمية"}]
[null,{"$f":"'البيانات الأساسية'!$A$2","v":"مدرسة د/علي علي حبيش الابتدائية"},null,null,null,null,null,{"$f":"'البيانات الأساسية'!$A$2","v":"مدرسة د/علي علي حبيش الابتدائية"}]
[null,{"$f":"'البيانات الأساسية'!$A$8","v":"كشف مناداة الصف السادس فصل أول وثانٍ للعام الدراسي 2019/2018"},null,null,null,null,null,{"$f":"'البيانات الأساسية'!$A$7","v":"كشف مناداة الصف الخامس فصل أول وثانٍ للعام الدراسي 2019/2018"}]
[null,null,"اللجنة رقم",{"$f":"D508+1","v":14},null,null,null,null,"اللجنة رقم",{"$f":"J508+1","v":14}]
[null,"م","الاســـــــــــــــــــــــــــــم","رقم الجلوس","القيد ","الديانة",null,"م","الاســـــــــــــــــــــــــــــم","رقم الجلوس","القيد ","الديانة"]
[null,{"$f":"IF(D550=\"\",\"\",1)","v":1},{"$f":"IF(B552=\"\",\"\",VLOOKUP(D552,أسماء_الصف6,2))","v":"محمد261"},{"$f":"IF(D550=\"\",\"\",VLOOKUP(D550,رقم_اللجنة6,2))","v":280},{"$f":"IF(B552=\"\",\"\",VLOOKUP(D552,أسماء_الصف6,4))","v":0},{"$f":"IF(B552=\"\",\"\",VLOOKUP(D552,أسماء_الصف6,5))","v":0},null,{"$f":"IF(J550=\"\",\"\",1)","v":1},{"$f":"IF(H552=\"\",\"\",VLOOKUP(J552,أسماء_الصف5,2))","v":"احمد261"},{"$f":"IF(J550=\"\",\"\",VLOOKUP(J550,رقم_جلوس5,2))","v":330},{"$f":"IF(H552=\"\",\"\",VLOOKUP(J552,أسماء_الصف5,4))","v":0},{"$f":"IF(H552=\"\",\"\",VLOOKUP(J552,أسماء_الصف5,5))","v":0}]
[null,{"$f":"IF(B552=\"\",\"\",IF(B552+1>$R$2,\"\",B552+1))","v":2},"محمد262",{"$f":"IF(B552=\"\",\"\",IF(B553=\"\",\"\",D552+1))","v":281},0,0,null,{"$f":"IF(H552=\"\",\"\",IF(H552+1>$R$3,\"\",H552+1))","v":2},"احمد262",{"$f":"IF(H552=\"\",\"\",IF(H553=\"\",\"\",J552+1))","v":331},0,0]
[null,3,"محمد263",282,0,0,null,3,"احمد263",332,0,0]
[null,4,"محمد264",283,0,0,null,4,"احمد264",333,0,0]
[null,5,"محمد265",284,0,0,null,5,"احمد265",334,0,0]
[null,6,"محمد266",285,0,0,null,6,"احمد266",335,0,0]
[null,7,"محمد267",286,0,0,null,7,"احمد267",336,0,0]
[null,8,"محمد268",287,0,0,null,8,"احمد268",337,0,0]
[null,9,"محمد269",288,0,0,null,9,"احمد269",338,0,0]
[null,10,"محمد270",289,0,0,null,10,"احمد270",339,0,0]
[null,11,"محمد271",290,0,0,null,11,"احمد271",340,0,0]
[null,12,"محمد272",291,0,0,null,12,"احمد272",341,0,0]
[null,13,"محمد273",292,0,0,null,13,"احمد273",342,0,0]
[null,14,"محمد274",293,0,0,null,14,"احمد274",343,0,0]
[null,15,"محمد275",294,0,0,null,15,"احمد275",344,0,0]
[null,16,"محمد276",295,0,0,null,16,"احمد276",345,0,0]
[null,17,"محمد277",296,0,0,null,17,"احمد277",346,0,0]
[null,18,"محمد278",297,0,0,null,18,"احمد278",347,0,0]
[null,19,"محمد279",298,0,0,null,19,"احمد279",348,0,0]
[null,20,"محمد280",299,0,0,null,20,"احمد280",349,0,0]
[null,"","","","","",null,"","","","",""]
[null,"","","","","",null,"","","","",""]
[null,"","","","","",null,"","","","",""]
[null,"","","","","",null,"","","","",""]
[null,"","","","","",null,"","","","",""]
[null,"","","","","",null,"","","","",""]
[null,"","","","","",null,"","","","",""]
[null,"","","","","",null,"","","","",""]
[null,"","","","","",null,"","","","",""]
[null,"","","","","",null,"","","","",""]
[]
[null,{"$f":"'البيانات الأساسية'!$A$10","v":"مراقب الكنترول"},null,{"$f":"'البيانات الأساسية'!$C$10","v":"رئيس الكنترول"},null,null,null,{"$f":"'البيانات الأساسية'!$A$10","v":"مراقب الكنترول"},null,{"$f":"'البيانات الأساسية'!$C$10","v":"رئيس الكنترول"}]
[null,{"$f":"'البيانات الأساسية'!$A$11","v":"أ/ عبد الحميد"},null,{"$f":"'البيانات الأساسية'!$A$11","v":"أ/ عبد الحميد"},null,null,null,{"$f":"'البيانات الأساسية'!$A$11","v":"أ/ عبد الحميد"},null,{"$f":"'البيانات الأساسية'!$A$11","v":"أ/ عبد الحميد"}]
[]
[]
[]
[]
[null,{"$f":"'البيانات الأساسية'!$A$1","v":"إدارة /غرب المحلة الكبرى التعليمية"},null,null,null,null,null,{"$f":"'البيانات الأساسية'!$A$1","v":"إدارة /غرب المحلة الكبرى التعليمية"}]
[null,{"$f":"'البيانات الأساسية'!$A$2","v":"مدرسة د/علي علي حبيش الابتدائية"},null,null,null,null,null,{"$f":"'البيانات الأساسية'!$A$2","v":"مدرسة د/علي علي حبيش الابتدائية"}]
[null,{"$f":"'البيانات الأساسية'!$A$8","v":"كشف مناداة الصف السادس فصل أول وثانٍ للعام الدراسي 2019/2018"},null,null,null,null,null,{"$f":"'البيانات الأساسية'!$A$7","v":"كشف مناداة الصف الخامس فصل أول وثانٍ للعام الدراسي 2019/2018"}]
[null,null,"اللجنة رقم",{"$f":"D550+1","v":15},null,null,null,null,"اللجنة رقم",{"$f":"J550+1","v":15}]
[null,"م","الاســـــــــــــــــــــــــــــم","رقم الجلوس","القيد ","الديانة",null,"م","الاســـــــــــــــــــــــــــــم","رقم الجلوس","القيد ","الديانة"]
[null,{"$f":"IF(D592=\"\",\"\",1)","v":1},{"$f":"IF(B594=\"\",\"\",VLOOKUP(D594,أسماء_الصف6,2))","v":"محمد281"},{"$f":"IF(D592=\"\",\"\",VLOOKUP(D592,رقم_اللجنة6,2))","v":300},{"$f":"IF(B594=\"\",\"\",VLOOKUP(D594,أسماء_الصف6,4))","v":0},{"$f":"IF(B594=\"\",\"\",VLOOKUP(D594,أسماء_الصف6,5))","v":0},null,{"$f":"IF(J592=\"\",\"\",1)","v":1},{"$f":"IF(H594=\"\",\"\",VLOOKUP(J594,أسماء_الصف5,2))","v":"احمد281"},{"$f":"IF(J592=\"\",\"\",VLOOKUP(J592,رقم_جلوس5,2))","v":350},{"$f":"IF(H594=\"\",\"\",VLOOKUP(J594,أسماء_الصف5,4))","v":0},{"$f":"IF(H594=\"\",\"\",VLOOKUP(J594,أسماء_الصف5,5))","v":0}]
[null,{"$f":"IF(B594=\"\",\"\",IF(B594+1>$R$2,\"\",B594+1))","v":2},"محمد282",{"$f":"IF(B594=\"\",\"\",IF(B595=\"\",\"\",D594+1))","v":301},0,0,null,{"$f":"IF(H594=\"\",\"\",IF(H594+1>$R$3,\"\",H594+1))","v":2},"احمد282",{"$f":"IF(H594=\"\",\"\",IF(H595=\"\",\"\",J594+1))","v":351},0,0]
[null,3,"محمد283",302,0,0,null,3,"احمد283",352,0,0]
[null,4,"محمد284",303,0,0,null,4,"احمد284",353,0,0]
[null,5,"محمد285",304,0,0,null,5,"احمد285",354,0,0]
[null,6,"محمد286",305,0,0,null,6,"احمد286",355,0,0]
[null,7,"محمد287",306,0,0,null,7,"احمد287",356,0,0]
[null,8,"محمد288",307,0,0,null,8,"احمد288",357,0,0]
[null,9,"محمد289",308,0,0,null,9,"احمد289",358,0,0]
[null,10,"محمد290",309,0,0,null,10,"احمد290",359,0,0]
[null,11,"محمد291",310,0,0,null,11,"احمد291",360,0,0]
[null,12,"محمد292",311,0,0,null,12,"احمد292",361,0,0]
[null,13,"محمد293",312,0,0,null,13,"احمد293",362,0,0]
[null,14,"محمد294",313,0,0,null,14,"احمد294",363,0,0]
[null,15,"محمد295",314,0,0,null,15,"احمد295",364,0,0]
[null,16,"محمد296",315,0,0,null,16,"احمد296",365,0,0]
[null,17,"محمد297",316,0,0,null,17,"احمد297",366,0,0]
[null,18,"محمد298",317,0,0,null,18,"احمد298",367,0,0]
[null,19,"محمد299",318,0,0,null,19,"احمد299",368,0,0]
[null,20,"محمد300",319,0,0,null,20,"احمد300",369,0,0]
[null,"","","","","",null,"","","","",""]
[null,"","","","","",null,"","","","",""]
[null,"","","","","",null,"","","","",""]
[null,"","","","","",null,"","","","",""]
[null,"","","","","",null,"","","","",""]
[null,"","","","","",null,"","","","",""]
[null,"","","","","",null,"","","","",""]
[null,"","","","","",null,"","","","",""]
[null,"","","","","",null,"","","","",""]
[null,"","","","","",null,"","","","",""]
[]
[null,{"$f":"'البيانات الأساسية'!$A$10","v":"مراقب الكنترول"},null,{"$f":"'البيانات الأساسية'!$C$10","v":"رئيس الكنترول"},null,null,null,{"$f":"'البيانات الأساسية'!$A$10","v":"مراقب الكنترول"},null,{"$f":"'البيانات الأساسية'!$C$10","v":"رئيس الكنترول"}]
[null,{"$f":"'البيانات الأساسية'!$A$11","v":"أ/ عبد الحميد"},null,{"$f":"'البيانات الأساسية'!$A$11","v":"أ/ عبد الحميد"},null,null,null,{"$f":"'البيانات الأساسية'!$A$11","v":"أ/ عبد الحميد"},null,{"$f":"'البيانات الأساسية'!$A$11","v":"أ/ عبد الحميد"}]
[]
[]
[]
[]
[null,{"$f":"'البيانات الأساسية'!$A$1","v":"إدارة /غرب المحلة الكبرى التعليمية"},null,null,null,null,null,{"$f":"'البيانات الأساسية'!$A$1","v":"إدارة /غرب المحلة الكبرى التعليمية"}]
[null,{"$f":"'البيانات الأساسية'!$A$2","v":"مدرسة د/علي علي حبيش الابتدائية"},null,null,null,null,null,{"$f":"'البيانات الأساسية'!$A$2","v":"مدرسة د/علي علي حبيش الابتدائية"}]
[null,{"$f":"'البيانات الأساسية'!$A$8","v":"كشف مناداة الصف السادس فصل أول وثانٍ للعام الدراسي 2019/2018"},null,null,null,null,null,{"$f":"'البيانات الأساسية'!$A$7","v":"كشف مناداة الصف الخامس فصل أول وثانٍ للعام الدراسي 2019/2018"}]
[null,null,"اللجنة رقم",{"$f":"D592+1","v":16},null,null,null,null,"اللجنة رقم",{"$f":"J592+1","v":16}]
[null,"م","الاســـــــــــــــــــــــــــــم","رقم الجلوس","القيد ","الديانة",null,"م","الاســـــــــــــــــــــــــــــم","رقم الجلوس","القيد ","الديانة"]
[null,{"$f":"IF(D634=\"\",\"\",1)","v":1},{"$f":"IF(B636=\"\",\"\",VLOOKUP(D636,أسماء_الصف6,2))","v":"محمد301"},{"$f":"IF(D634=\"\",\"\",VLOOKUP(D634,رقم_اللجنة6,2))","v":320},{"$f":"IF(B636=\"\",\"\",VLOOKUP(D636,أسماء_الصف6,4))","v":0},{"$f":"IF(B636=\"\",\"\",VLOOKUP(D636,أسماء_الصف6,5))","v":0},null,{"$f":"IF(J634=\"\",\"\",1)","v":1},{"$f":"IF(H636=\"\",\"\",VLOOKUP(J636,أسماء_الصف5,2))","v":"احمد301"},{"$f":"IF(J634=\"\",\"\",VLOOKUP(J634,رقم_جلوس5,2))","v":370},{"$f":"IF(H636=\"\",\"\",VLOOKUP(J636,أسماء_الصف5,4))","v":0},{"$f":"IF(H636=\"\",\"\",VLOOKUP(J636,أسماء_الصف5,5))","v":0}]
[null,{"$f":"IF(B636=\"\",\"\",IF(B636+1>$R$2,\"\",B636+1))","v":2},"محمد302",{"$f":"IF(B636=\"\",\"\",IF(B637=\"\",\"\",D636+1))","v":321},0,0,null,{"$f":"IF(H636=\"\",\"\",IF(H636+1>$R$3,\"\",H636+1))","v":2},"احمد302",{"$f":"IF(H636=\"\",\"\",IF(H637=\"\",\"\",J636+1))","v":371},0,0]
[null,3,"محمد303",322,0,0,null,3,"احمد303",372,0,0]
[null,4,"محمد304",323,0,0,null,4,"احمد304",373,0,0]
[null,5,"محمد305",324,0,0,null,5,"احمد305",374,0,0]
[null,6,"محمد306",325,0,0,null,6,"احمد306",375,0,0]
[null,7,"محمد307",326,0,0,null,7,"احمد307",376,0,0]
[null,8,"محمد308",327,0,0,null,8,"احمد308",377,0,0]
[null,9,"محمد309",328,0,0,null,9,"احمد309",378,0,0]
[null,10,"محمد310",329,0,0,null,10,"احمد310",379,0,0]
[null,11,"محمد311",330,0,0,null,11,"احمد311",380,0,0]
[null,12,"محمد312",331,0,0,null,12,"احمد312",381,0,0]
[null,13,"محمد313",332,0,0,null,13,"احمد313",382,0,0]
[null,14,"محمد314",333,0,0,null,14,"احمد314",383,0,0]
[null,15,"محمد315",334,0,0,null,15,"احمد315",384,0,0]
[null,16,"محمد316",335,0,0,null,16,"احمد316",385,0,0]
[null,17,"محمد317",336,0,0,null,17,"احمد317",386,0,0]
[null,18,"محمد318",337,0,0,null,18,"احمد318",387,0,0]
[null,19,"محمد319",338,0,0,null,19,"احمد319",388,0,0]
[null,20,"محمد320",339,0,0,null,20,"احمد320",389,0,0]
[null,"","","","","",null,"","","","",""]
[null,"","","","","",null,"","","","",""]
[null,"","","","","",null,"","","","",""]
[null,"","","","","",null,"","","","",""]
[null,"","","","","",null,"","","","",""]
[null,"","","","","",null,"","","","",""]
[null,"","","","","",null,"","","","",""]
[null,"","","","","",null,"","","","",""]
[null,"","","","","",null,"","","","",""]
[null,"","","","","",null,"","","","",""]
[]
[null,{"$f":"'البيانات الأساسية'!$A$10","v":"مراقب الكنترول"},null,{"$f":"'البيانات الأساسية'!$C$10","v":"رئيس الكنترول"},null,null,null,{"$f":"'البيانات الأساسية'!$A$10","v":"مراقب الكنترول"},null,{"$f":"'البيانات الأساسية'!$C$10","v":"رئيس الكنترول"}]
[null,{"$f":"'البيانات الأساسية'!$A$11","v":"أ/ عبد الحميد"},null,{"$f":"'البيانات الأساسية'!$A$11","v":"أ/ عبد الحميد"},null,null,null,{"$f":"'البيانات الأساسية'!$A$11","v":"أ/ عبد الحميد"},null,{"$f":"'البيانات الأساسية'!$A$11","v":"أ/ عبد الحميد"}]
[]
[]
[]
[]
[null,{"$f":"'البيانات الأساسية'!$A$1","v":"إدارة /غرب المحلة الكبرى التعليمية"},null,null,null,null,null,{"$f":"'البيانات الأساسية'!$A$1","v":"إدارة /غرب المحلة الكبرى التعليمية"}]
[null,{"$f":"'البيانات الأساسية'!$A$2","v":"مدرسة د/علي علي حبيش الابتدائية"},null,null,null,null,null,{"$f":"'البيانات الأساسية'!$A$2","v":"مدرسة د/علي علي حبيش الابتدائية"}]
[null,{"$f":"'البيانات الأساسية'!$A$8","v":"كشف مناداة الصف السادس فصل أول وثانٍ للعام الدراسي 2019/2018"},null,null,null,null,null,{"$f":"'البيانات الأساسية'!$A$7","v":"كشف مناداة الصف الخامس فصل أول وثانٍ للعام الدراسي 2019/2018"}]
[null,null,"اللجنة رقم",{"$f":"D634+1","v":17},null,null,null,null,"اللجنة رقم",{"$f":"J634+1","v":17}]
[null,"م","الاســـــــــــــــــــــــــــــم","رقم الجلوس","القيد ","الديانة",null,"م","الاســـــــــــــــــــــــــــــم","رقم الجلوس","القيد ","الديانة"]
[null,{"$f":"IF(D676=\"\",\"\",1)","v":1},{"$f":"IF(B678=\"\",\"\",VLOOKUP(D678,أسماء_الصف6,2))","v":"محمد321"},{"$f":"IF(D676=\"\",\"\",VLOOKUP(D676,رقم_اللجنة6,2))","v":340},{"$f":"IF(B678=\"\",\"\",VLOOKUP(D678,أسماء_الصف6,4))","v":0},{"$f":"IF(B678=\"\",\"\",VLOOKUP(D678,أسماء_الصف6,5))","v":0},null,{"$f":"IF(J676=\"\",\"\",1)","v":1},{"$f":"IF(H678=\"\",\"\",VLOOKUP(J678,أسماء_الصف5,2))","v":"احمد321"},{"$f":"IF(J676=\"\",\"\",VLOOKUP(J676,رقم_جلوس5,2))","v":390},{"$f":"IF(H678=\"\",\"\",VLOOKUP(J678,أسماء_الصف5,4))","v":0},{"$f":"IF(H678=\"\",\"\",VLOOKUP(J678,أسماء_الصف5,5))","v":0}]
[null,{"$f":"IF(B678=\"\",\"\",IF(B678+1>$R$2,\"\",B678+1))","v":2},"محمد322",{"$f":"IF(B678=\"\",\"\",IF(B679=\"\",\"\",D678+1))","v":341},0,0,null,{"$f":"IF(H678=\"\",\"\",IF(H678+1>$R$3,\"\",H678+1))","v":2},"احمد322",{"$f":"IF(H678=\"\",\"\",IF(H679=\"\",\"\",J678+1))","v":391},0,0]
[null,3,"محمد323",342,0,0,null,3,"احمد323",392,0,0]
[null,4,"محمد324",343,0,0,null,4,"احمد324",393,0,0]
[null,5,"محمد325",344,0,0,null,5,"احمد325",394,0,0]
[null,6,"محمد326",345,0,0,null,6,"احمد326",395,0,0]
[null,7,"محمد327",346,0,0,null,7,"احمد327",396,0,0]
[null,8,"محمد328",347,0,0,null,8,"احمد328",397,0,0]
[null,9,"محمد329",348,0,0,null,9,"احمد329",398,0,0]
[null,10,"محمد330",349,0,0,null,10,"احمد330",399,0,0]
[null,11,"محمد331",350,0,0,null,11,"احمد331",400,0,0]
[null,12,"محمد332",351,0,0,null,12,"احمد332",401,0,0]
[null,13,"محمد333",352,0,0,null,13,"احمد333",402,0,0]
[null,14,"محمد334",353,0,0,null,14,"احمد334",403,0,0]
[null,15,"محمد335",354,0,0,null,15,"احمد335",404,0,0]
[null,16,"محمد336",355,0,0,null,16,"احمد336",405,0,0]
[null,17,"محمد337",356,0,0,null,17,"احمد337",406,0,0]
[null,18,"محمد338",357,0,0,null,18,"احمد338",407,0,0]
[null,19,"محمد339",358,0,0,null,19,"احمد339",408,0,0]
[null,20,"محمد340",359,0,0,null,20,"احمد340",409,0,0]
[null,"","","","","",null,"","","","",""]
[null,"","","","","",null,"","","","",""]
[null,"","","","","",null,"","","","",""]
[null,"","","","","",null,"","","","",""]
[null,"","","","","",null,"","","","",""]
[null,"","","","","",null,"","","","",""]
[null,"","","","","",null,"","","","",""]
[null,"","","","","",null,"","","","",""]
[null,"","","","","",null,"","","","",""]
[null,"","","","","",null,"","","","",""]
[]
[null,{"$f":"'البيانات الأساسية'!$A$10","v":"مراقب الكنترول"},null,{"$f":"'البيانات الأساسية'!$C$10","v":"رئيس الكنترول"},null,null,null,{"$f":"'البيانات الأساسية'!$A$10","v":"مراقب الكنترول"},null,{"$f":"'البيانات الأساسية'!$C$10","v":"رئيس الكنترول"}]
[null,{"$f":"'البيانات الأساسية'!$A$11","v":"أ/ عبد الحميد"},null,{"$f":"'البيانات الأساسية'!$A$11","v":"أ/ عبد الحميد"},null,null,null,{"$f":"'البيانات الأساسية'!$A$11","v":"أ/ عبد الحميد"},null,{"$f":"'البيانات الأساسية'!$A$11","v":"أ/ عبد الحميد"}]
[]
[]
[]
[]
[null,{"$f":"'البيانات الأساسية'!$A$1","v":"إدارة /غرب المحلة الكبرى التعليمية"},null,null,null,null,null,{"$f":"'البيانات الأساسية'!$A$1","v":"إدارة /غرب المحلة الكبرى التعليمية"}]
[null,{"$f":"'البيانات الأساسية'!$A$2","v":"مدرسة د/علي علي حبيش الابتدائية"},null,null,null,null,null,{"$f":"'البيانات الأساسية'!$A$2","v":"مدرسة د/علي علي حبيش الابتدائية"}]
[null,{"$f":"'البيانات الأساسية'!$A$8","v":"كشف مناداة الصف السادس فصل أول وثانٍ للعام الدراسي 2019/2018"},null,null,null,null,null,{"$f":"'البيانات الأساسية'!$A$7","v":"كشف مناداة الصف الخامس فصل أول وثانٍ للعام الدراسي 2019/2018"}]
[null,null,"اللجنة رقم",{"$f":"D676+1","v":18},null,null,null,null,"اللجنة رقم",{"$f":"J676+1","v":18}]
[null,"م","الاســـــــــــــــــــــــــــــم","رقم الجلوس","القيد ","الديانة",null,"م","الاســـــــــــــــــــــــــــــم","رقم الجلوس","القيد ","الديانة"]
[null,{"$f":"IF(D718=\"\",\"\",1)","v":1},{"$f":"IF(B720=\"\",\"\",VLOOKUP(D720,أسماء_الصف6,2))","v":"محمد341"},{"$f":"IF(D718=\"\",\"\",VLOOKUP(D718,رقم_اللجنة6,2))","v":360},{"$f":"IF(B720=\"\",\"\",VLOOKUP(D720,أسماء_الصف6,4))","v":0},{"$f":"IF(B720=\"\",\"\",VLOOKUP(D720,أسماء_الصف6,5))","v":0},null,{"$f":"IF(J718=\"\",\"\",1)","v":1},{"$f":"IF(H720=\"\",\"\",VLOOKUP(J720,أسماء_الصف5,2))","v":"احمد341"},{"$f":"IF(J718=\"\",\"\",VLOOKUP(J718,رقم_جلوس5,2))","v":410},{"$f":"IF(H720=\"\",\"\",VLOOKUP(J720,أسماء_الصف5,4))","v":0},{"$f":"IF(H720=\"\",\"\",VLOOKUP(J720,أسماء_الصف5,5))","v":0}]
[null,{"$f":"IF(B720=\"\",\"\",IF(B720+1>$R$2,\"\",B720+1))","v":2},"محمد342",{"$f":"IF(B720=\"\",\"\",IF(B721=\"\",\"\",D720+1))","v":361},0,0,null,{"$f":"IF(H720=\"\",\"\",IF(H720+1>$R$3,\"\",H720+1))","v":2},"احمد342",{"$f":"IF(H720=\"\",\"\",IF(H721=\"\",\"\",J720+1))","v":411},0,0]
[null,3,"محمد343",362,0,0,null,3,"احمد343",412,0,0]
[null,4,"محمد344",363,0,0,null,4,"احمد344",413,0,0]
[null,5,"محمد345",364,0,0,null,5,"احمد345",414,0,0]
[null,6,"محمد346",365,0,0,null,6,"احمد346",415,0,0]
[null,7,"محمد347",366,0,0,null,7,"احمد347",416,0,0]
[null,8,"محمد348",367,0,0,null,8,"احمد348",417,0,0]
[null,9,"محمد349",368,0,0,null,9,"احمد349",418,0,0]
[null,10,"محمد350",369,0,0,null,10,"احمد350",419,0,0]
[null,11,"محمد351",370,0,0,null,11,"احمد351",420,0,0]
[null,12,"محمد352",371,0,0,null,12,"احمد352",421,0,0]
[null,13,"محمد353",372,0,0,null,13,"احمد353",422,0,0]
[null,14,"محمد354",373,0,0,null,14,"احمد354",423,0,0]
[null,15,"محمد355",374,0,0,null,15,"احمد355",424,0,0]
[null,16,"محمد356",375,0,0,null,16,"احمد356",425,0,0]
[null,17,"محمد357",376,0,0,null,17,"احمد357",426,0,0]
[null,18,"محمد358",377,0,0,null,18,"احمد358",427,0,0]
[null,19,"محمد359",378,0,0,null,19,"احمد359",428,0,0]
[null,20,"محمد360",379,0,0,null,20,"احمد360",429,0,0]
[null,"","","","","",null,"","","","",""]
[null,"","","","","",null,"","","","",""]
[null,"","","","","",null,"","","","",""]
[null,"","","","","",null,"","","","",""]
[null,"","","","","",null,"","","","",""]
[null,"","","","","",null,"","","","",""]
[null,"","","","","",null,"","","","",""]
[null,"","","","","",null,"","","","",""]
[null,"","","","","",null,"","","","",""]
[null,"","","","","",null,"","","","",""]
[]
[null,{"$f":"'البيانات الأساسية'!$A$10","v":"مراقب الكنترول"},null,{"$f":"'البيانات الأساسية'!$C$10","v":"رئيس الكنترول"},null,null,null,{"$f":"'البيانات الأساسية'!$A$10","v":"مراقب الكنترول"},null,{"$f":"'البيانات الأساسية'!$C$10","v":"رئيس الكنترول"}]
[null,{"$f":"'البيانات الأساسية'!$A$11","v":"أ/ عبد الحميد"},null,{"$f":"'البيانات الأساسية'!$A$11","v":"أ/ عبد الحميد"},null,null,null,{"$f":"'البيانات الأساسية'!$A$11","v":"أ/ عبد الحميد"},null,{"$f":"'البيانات الأساسية'!$A$11","v":"أ/ عبد الحميد"}]
[]
[]
[]
[]
[null,{"$f":"'البيانات الأساسية'!$A$1","v":"إدارة /غرب المحلة الكبرى التعليمية"},null,null,null,null,null,{"$f":"'البيانات الأساسية'!$A$1","v":"إدارة /غرب المحلة الكبرى التعليمية"}]
[null,{"$f":"'البيانات الأساسية'!$A$2","v":"مدرسة د/علي علي حبيش الابتدائية"},null,null,null,null,null,{"$f":"'البيانات الأساسية'!$A$2","v":"مدرسة د/علي علي حبيش الابتدائية"}]
[null,{"$f":"'البيانات الأساسية'!$A$8","v":"كشف مناداة الصف السادس فصل أول وثانٍ للعام الدراسي 2019/2018"},null,null,null,null,null,{"$f":"'البيانات الأساسية'!$A$7","v":"كشف مناداة الصف الخامس فصل أول وثانٍ للعام الدراسي 2019/2018"}]
[null,null,"اللجنة رقم",{"$f":"D718+1","v":19},null,null,null,null,"اللجنة رقم",{"$f":"J718+1","v":19}]
[null,"م","الاســـــــــــــــــــــــــــــم","رقم الجلوس","القيد ","الديانة",null,"م","الاســـــــــــــــــــــــــــــم","رقم الجلوس","القيد ","الديانة"]
[null,{"$f":"IF(D760=\"\",\"\",1)","v":1},{"$f":"IF(B762=\"\",\"\",VLOOKUP(D762,أسماء_الصف6,2))","v":"محمد361"},{"$f":"IF(D760=\"\",\"\",VLOOKUP(D760,رقم_اللجنة6,2))","v":380},{"$f":"IF(B762=\"\",\"\",VLOOKUP(D762,أسماء_الصف6,4))","v":0},{"$f":"IF(B762=\"\",\"\",VLOOKUP(D762,أسماء_الصف6,5))","v":0},null,{"$f":"IF(J760=\"\",\"\",1)","v":1},{"$f":"IF(H762=\"\",\"\",VLOOKUP(J762,أسماء_الصف5,2))","v":"احمد361"},{"$f":"IF(J760=\"\",\"\",VLOOKUP(J760,رقم_جلوس5,2))","v":430},{"$f":"IF(H762=\"\",\"\",VLOOKUP(J762,أسماء_الصف5,4))","v":0},{"$f":"IF(H762=\"\",\"\",VLOOKUP(J762,أسماء_الصف5,5))","v":0}]
[null,{"$f":"IF(B762=\"\",\"\",IF(B762+1>$R$2,\"\",B762+1))","v":2},"محمد362",{"$f":"IF(B762=\"\",\"\",IF(B763=\"\",\"\",D762+1))","v":381},0,0,null,{"$f":"IF(H762=\"\",\"\",IF(H762+1>$R$3,\"\",H762+1))","v":2},"احمد362",{"$f":"IF(H762=\"\",\"\",IF(H763=\"\",\"\",J762+1))","v":431},0,0]
[null,3,"محمد363",382,0,0,null,3,"احمد363",432,0,0]
[null,4,"محمد364",383,0,0,null,4,"احمد364",433,0,0]
[null,5,"محمد365",384,0,0,null,5,"احمد365",434,0,0]
[null,6,"محمد366",385,0,0,null,6,"احمد366",435,0,0]
[null,7,"محمد367",386,0,0,null,7,"احمد367",436,0,0]
[null,8,"محمد368",387,0,0,null,8,"احمد368",437,0,0]
[null,9,"محمد369",388,0,0,null,9,"احمد369",438,0,0]
[null,10,"محمد370",389,0,0,null,10,"احمد370",439,0,0]
[null,11,"محمد371",390,0,0,null,11,"احمد371",440,0,0]
[null,12,"محمد372",391,0,0,null,12,"احمد372",441,0,0]
[null,13,"محمد373",392,0,0,null,13,"احمد373",442,0,0]
[null,14,"محمد374",393,0,0,null,14,"احمد374",443,0,0]
[null,15,"محمد375",394,0,0,null,15,"احمد375",444,0,0]
[null,16,"محمد376",395,0,0,null,16,"احمد376",445,0,0]
[null,17,"محمد377",396,0,0,null,17,"احمد377",446,0,0]
[null,18,"محمد378",397,0,0,null,18,"احمد378",447,0,0]
[null,19,"محمد379",398,0,0,null,19,"احمد379",448,0,0]
[null,20,"محمد380",399,0,0,null,20,"احمد380",449,0,0]
[null,"","","","","",null,"","","","",""]
[null,"","","","","",null,"","","","",""]
[null,"","","","","",null,"","","","",""]
[null,"","","","","",null,"","","","",""]
[null,"","","","","",null,"","","","",""]
[null,"","","","","",null,"","","","",""]
[null,"","","","","",null,"","","","",""]
[null,"","","","","",null,"","","","",""]
[null,"","","","","",null,"","","","",""]
[null,"","","","","",null,"","","","",""]
[]
[null,{"$f":"'البيانات الأساسية'!$A$10","v":"مراقب الكنترول"},null,{"$f":"'البيانات الأساسية'!$C$10","v":"رئيس الكنترول"},null,null,null,{"$f":"'البيانات الأساسية'!$A$10","v":"مراقب الكنترول"},null,{"$f":"'البيانات الأساسية'!$C$10","v":"رئيس الكنترول"}]
[null,{"$f":"'البيانات الأساسية'!$A$11","v":"أ/ عبد الحميد"},null,{"$f":"'البيانات الأساسية'!$A$11","v":"أ/ عبد الحميد"},null,null,null,{"$f":"'البيانات الأساسية'!$A$11","v":"أ/ عبد الحميد"},null,{"$f":"'البيانات الأساسية'!$A$11","v":"أ/ عبد الحميد"}]
[]
[]
[]
[]
[null,{"$f":"'البيانات الأساسية'!$A$1","v":"إدارة /غرب المحلة الكبرى التعليمية"},null,null,null,null,null,{"$f":"'البيانات الأساسية'!$A$1","v":"إدارة /غرب المحلة الكبرى التعليمية"}]
[null,{"$f":"'البيانات الأساسية'!$A$2","v":"مدرسة د/علي علي حبيش الابتدائية"},null,null,null,null,null,{"$f":"'البيانات الأساسية'!$A$2","v":"مدرسة د/علي علي حبيش الابتدائية"}]
[null,{"$f":"'البيانات الأساسية'!$A$8","v":"كشف مناداة الصف السادس فصل أول وثانٍ للعام الدراسي 2019/2018"},null,null,null,null,null,{"$f":"'البيانات الأساسية'!$A$7","v":"كشف مناداة الصف الخامس فصل أول وثانٍ للعام الدراسي 2019/2018"}]
[null,null,"اللجنة رقم",{"$f":"D760+1","v":20},null,null,null,null,"اللجنة رقم",{"$f":"J760+1","v":20}]
[null,"م","الاســـــــــــــــــــــــــــــم","رقم الجلوس","القيد ","الديانة",null,"م","الاســـــــــــــــــــــــــــــم","رقم الجلوس","القيد ","الديانة"]
[null,{"$f":"IF(D802=\"\",\"\",1)","v":1},{"$f":"IF(B804=\"\",\"\",VLOOKUP(D804,أسماء_الصف6,2))","v":"محمد381"},{"$f":"IF(D802=\"\",\"\",VLOOKUP(D802,رقم_اللجنة6,2))","v":400},{"$f":"IF(B804=\"\",\"\",VLOOKUP(D804,أسماء_الصف6,4))","v":0},{"$f":"IF(B804=\"\",\"\",VLOOKUP(D804,أسماء_الصف6,5))","v":0},null,{"$f":"IF(J802=\"\",\"\",1)","v":1},{"$f":"IF(H804=\"\",\"\",VLOOKUP(J804,أسماء_الصف5,2))","v":"احمد381"},{"$f":"IF(J802=\"\",\"\",VLOOKUP(J802,رقم_جلوس5,2))","v":450},{"$f":"IF(H804=\"\",\"\",VLOOKUP(J804,أسماء_الصف5,4))","v":0},{"$f":"IF(H804=\"\",\"\",VLOOKUP(J804,أسماء_الصف5,5))","v":0}]
[null,{"$f":"IF(B804=\"\",\"\",IF(B804+1>$R$2,\"\",B804+1))","v":2},"محمد382",{"$f":"IF(B804=\"\",\"\",IF(B805=\"\",\"\",D804+1))","v":401},0,0,null,{"$f":"IF(H804=\"\",\"\",IF(H804+1>$R$3,\"\",H804+1))","v":2},"احمد382",{"$f":"IF(H804=\"\",\"\",IF(H805=\"\",\"\",J804+1))","v":451},0,0]
[null,3,"محمد383",402,0,0,null,3,"احمد383",452,0,0]
[null,4,"محمد384",403,0,0,null,4,"احمد384",453,0,0]
[null,5,"محمد385",404,0,0,null,5,"احمد385",454,0,0]
[null,6,"محمد386",405,0,0,null,6,"احمد386",455,0,0]
[null,7,"محمد387",406,0,0,null,7,"احمد387",456,0,0]
[null,8,"محمد388",407,0,0,null,8,"احمد388",457,0,0]
[null,9,"محمد389",408,0,0,null,9,"احمد389",458,0,0]
[null,10,"محمد390",409,0,0,null,10,"احمد390",459,0,0]
[null,11,"محمد391",410,0,0,null,11,"احمد391",460,0,0]
[null,12,"محمد392",411,0,0,null,12,"احمد392",461,0,0]
[null,13,"محمد393",412,0,0,null,13,"احمد393",462,0,0]
[null,14,"محمد394",413,0,0,null,14,"احمد394",463,0,0]
[null,15,"محمد395",414,0,0,null,15,"احمد395",464,0,0]
[null,16,"محمد396",415,0,0,null,16,"احمد396",465,0,0]
[null,17,"محمد397",416,0,0,null,17,"احمد397",466,0,0]
[null,18,"محمد398",417,0,0,null,18,"احمد398",467,0,0]
[null,19,"محمد399",418,0,0,null,19,"احمد399",468,0,0]
[null,20,"محمد400",419,0,0,null,20,"احمد400",469,0,0]
[null,"","","","","",null,"","","","",""]
[null,"","","","","",null,"","","","",""]
[null,"","","","","",null,"","","","",""]
[null,"","","","","",null,"","","","",""]
[null,"","","","","",null,"","","","",""]
[null,"","","","","",null,"","","","",""]
[null,"","","","","",null,"","","","",""]
[null,"","","","","",null,"","","","",""]
[null,"","","","","",null,"","","","",""]
[null,"","","","","",null,"","","","",""]
[]
[null,{"$f":"'البيانات الأساسية'!$A$10","v":"مراقب الكنترول"},null,{"$f":"'البيانات الأساسية'!$C$10","v":"رئيس الكنترول"},null,null,null,{"$f":"'البيانات الأساسية'!$A$10","v":"مراقب الكنترول"},null,{"$f":"'البيانات الأساسية'!$C$10","v":"رئيس الكنترول"}]
[null,{"$f":"'البيانات الأساسية'!$A$11","v":"أ/ عبد الحميد"},null,{"$f":"'البيانات الأساسية'!$A$11","v":"أ/ عبد الحميد"},null,null,null,{"$f":"'البيانات الأساسية'!$A$11","v":"أ/ عبد الحميد"},null,{"$f":"'البيانات الأساسية'!$A$11","v":"أ/ عبد الحميد"}]
[]
[]
[]
[]
[null,{"$f":"'البيانات الأساسية'!$A$1","v":"إدارة /غرب المحلة الكبرى التعليمية"},null,null,null,null,null,{"$f":"'البيانات الأساسية'!$A$1","v":"إدارة /غرب المحلة الكبرى التعليمية"}]
[null,{"$f":"'البيانات الأساسية'!$A$2","v":"مدرسة د/علي علي حبيش الابتدائية"},null,null,null,null,null,{"$f":"'البيانات الأساسية'!$A$2","v":"مدرسة د/علي علي حبيش الابتدائية"}]
[null,{"$f":"'البيانات الأساسية'!$A$8","v":"كشف مناداة الصف السادس فصل أول وثانٍ للعام الدراسي 2019/2018"},null,null,null,null,null,{"$f":"'البيانات الأساسية'!$A$7","v":"كشف مناداة الصف الخامس فصل أول وثانٍ للعام الدراسي 2019/2018"}]
[null,null,"اللجنة رقم",{"$f":"D802+1","v":21},null,null,null,null,"اللجنة رقم",{"$f":"J802+1","v":21}]
[null,"م","الاســـــــــــــــــــــــــــــم","رقم الجلوس","القيد ","الديانة",null,"م","الاســـــــــــــــــــــــــــــم","رقم الجلوس","القيد ","الديانة"]
[null,{"$f":"IF(D844=\"\",\"\",1)","v":1},{"$f":"IF(B846=\"\",\"\",VLOOKUP(D846,أسماء_الصف6,2))","v":"محمد401"},{"$f":"IF(D844=\"\",\"\",VLOOKUP(D844,رقم_اللجنة6,2))","v":420},{"$f":"IF(B846=\"\",\"\",VLOOKUP(D846,أسماء_الصف6,4))","v":0},{"$f":"IF(B846=\"\",\"\",VLOOKUP(D846,أسماء_الصف6,5))","v":0},null,{"$f":"IF(J844=\"\",\"\",1)","v":1},{"$f":"IF(H846=\"\",\"\",VLOOKUP(J846,أسماء_الصف5,2))","v":"احمد401"},{"$f":"IF(J844=\"\",\"\",VLOOKUP(J844,رقم_جلوس5,2))","v":470},{"$f":"IF(H846=\"\",\"\",VLOOKUP(J846,أسماء_الصف5,4))","v":0},{"$f":"IF(H846=\"\",\"\",VLOOKUP(J846,أسماء_الصف5,5))","v":0}]
[null,{"$f":"IF(B846=\"\",\"\",IF(B846+1>$R$2,\"\",B846+1))","v":2},"محمد402",{"$f":"IF(B846=\"\",\"\",IF(B847=\"\",\"\",D846+1))","v":421},0,0,null,{"$f":"IF(H846=\"\",\"\",IF(H846+1>$R$3,\"\",H846+1))","v":2},"احمد402",{"$f":"IF(H846=\"\",\"\",IF(H847=\"\",\"\",J846+1))","v":471},0,0]
[null,3,"محمد403",422,0,0,null,3,"احمد403",472,0,0]
[null,4,"محمد404",423,0,0,null,4,"احمد404",473,0,0]
[null,5,"محمد405",424,0,0,null,5,"احمد405",474,0,0]
[null,6,"محمد406",425,0,0,null,6,"احمد406",475,0,0]
[null,7,"محمد407",426,0,0,null,7,"احمد407",476,0,0]
[null,8,"محمد408",427,0,0,null,8,"احمد408",477,0,0]
[null,9,"محمد409",428,0,0,null,9,"احمد409",478,0,0]
[null,10,"محمد410",429,0,0,null,10,"احمد410",479,0,0]
[null,11,"محمد411",430,0,0,null,11,"احمد411",480,0,0]
[null,12,"محمد412",431,0,0,null,12,"احمد412",481,0,0]
[null,13,"محمد413",432,0,0,null,13,"احمد413",482,0,0]
[null,14,"محمد414",433,0,0,null,14,"احمد414",483,0,0]
[null,15,"محمد415",434,0,0,null,15,"احمد415",484,0,0]
[null,16,"محمد416",435,0,0,null,16,"احمد416",485,0,0]
[null,17,"محمد417",436,0,0,null,17,"احمد417",486,0,0]
[null,18,"محمد418",437,0,0,null,18,"احمد418",487,0,0]
[null,19,"محمد419",438,0,0,null,19,"احمد419",488,0,0]
[null,20,"محمد420",439,0,0,null,20,"احمد420",489,0,0]
[null,"","","","","",null,"","","","",""]
[null,"","","","","",null,"","","","",""]
[null,"","","","","",null,"","","","",""]
[null,"","","","","",null,"","","","",""]
[null,"","","","","",null,"","","","",""]
[null,"","","","","",null,"","","","",""]
[null,"","","","","",null,"","","","",""]
[null,"","","","","",null,"","","","",""]
[null,"","","","","",null,"","","","",""]
[null,"","","","","",null,"","","","",""]
[]
[null,{"$f":"'البيانات الأساسية'!$A$10","v":"مراقب الكنترول"},null,{"$f":"'البيانات الأساسية'!$C$10","v":"رئيس الكنترول"},null,null,null,{"$f":"'البيانات الأساسية'!$A$10","v":"مراقب الكنترول"},null,{"$f":"'البيانات الأساسية'!$C$10","v":"رئيس الكنترول"}]
[null,{"$f":"'البيانات الأساسية'!$A$11","v":"أ/ عبد الحميد"},null,{"$f":"'البيانات الأساسية'!$A$11","v":"أ/ عبد الحميد"},null,null,null,{"$f":"'البيانات الأساسية'!$A$11","v":"أ/ عبد الحميد"},null,{"$f":"'البيانات الأساسية'!$A$11","v":"أ/ عبد الحميد"}]
[]
[]
[]
[]
[null,{"$f":"'البيانات الأساسية'!$A$1","v":"إدارة /غرب المحلة الكبرى التعليمية"},null,null,null,null,null,{"$f":"'البيانات الأساسية'!$A$1","v":"إدارة /غرب المحلة الكبرى التعليمية"}]
[null,{"$f":"'البيانات الأساسية'!$A$2","v":"مدرسة د/علي علي حبيش الابتدائية"},null,null,null,null,null,{"$f":"'البيانات الأساسية'!$A$2","v":"مدرسة د/علي علي حبيش الابتدائية"}]
[null,{"$f":"'البيانات الأساسية'!$A$8","v":"كشف مناداة الصف السادس فصل أول وثانٍ للعام الدراسي 2019/2018"},null,null,null,null,null,{"$f":"'البيانات الأساسية'!$A$7","v":"كشف مناداة الصف الخامس فصل أول وثانٍ للعام الدراسي 2019/2018"}]
[null,null,"اللجنة رقم",{"$f":"D844+1","v":22},null,null,null,null,"اللجنة رقم",{"$f":"J844+1","v":22}]
[null,"م","الاســـــــــــــــــــــــــــــم","رقم الجلوس","القيد ","الديانة",null,"م","الاســـــــــــــــــــــــــــــم","رقم الجلوس","القيد ","الديانة"]
[null,{"$f":"IF(D886=\"\",\"\",1)","v":1},{"$f":"IF(B888=\"\",\"\",VLOOKUP(D888,أسماء_الصف6,2))","v":"محمد421"},{"$f":"IF(D886=\"\",\"\",VLOOKUP(D886,رقم_اللجنة6,2))","v":440},{"$f":"IF(B888=\"\",\"\",VLOOKUP(D888,أسماء_الصف6,4))","v":0},{"$f":"IF(B888=\"\",\"\",VLOOKUP(D888,أسماء_الصف6,5))","v":0},null,{"$f":"IF(J886=\"\",\"\",1)","v":1},{"$f":"IF(H888=\"\",\"\",VLOOKUP(J888,أسماء_الصف5,2))","v":"احمد421"},{"$f":"IF(J886=\"\",\"\",VLOOKUP(J886,رقم_جلوس5,2))","v":490},{"$f":"IF(H888=\"\",\"\",VLOOKUP(J888,أسماء_الصف5,4))","v":0},{"$f":"IF(H888=\"\",\"\",VLOOKUP(J888,أسماء_الصف5,5))","v":0}]
[null,{"$f":"IF(B888=\"\",\"\",IF(B888+1>$R$2,\"\",B888+1))","v":2},"محمد422",{"$f":"IF(B888=\"\",\"\",IF(B889=\"\",\"\",D888+1))","v":441},0,0,null,{"$f":"IF(H888=\"\",\"\",IF(H888+1>$R$3,\"\",H888+1))","v":2},"احمد422",{"$f":"IF(H888=\"\",\"\",IF(H889=\"\",\"\",J888+1))","v":491},0,0]
[null,3,"محمد423",442,0,0,null,3,"احمد423",492,0,0]
[null,4,"محمد424",443,0,0,null,4,"احمد424",493,0,0]
[null,5,"محمد425",444,0,0,null,5,"احمد425",494,0,0]
[null,6,"محمد426",445,0,0,null,6,"احمد426",495,0,0]
[null,7,"محمد427",446,0,0,null,7,"احمد427",496,0,0]
[null,8,"محمد428",447,0,0,null,8,"احمد428",497,0,0]
[null,9,"محمد429",448,0,0,null,9,"احمد429",498,0,0]
[null,10,"محمد430",449,0,0,null,10,"احمد430",499,0,0]
[null,11,"محمد431",450,0,0,null,11,"احمد431",500,0,0]
[null,12,"محمد432",451,0,0,null,12,"احمد432",501,0,0]
[null,13,"محمد433",452,0,0,null,13,"احمد433",502,0,0]
[null,14,"محمد434",453,0,0,null,14,"احمد434",503,0,0]
[null,15,"محمد435",454,0,0,null,15,"احمد435",504,0,0]
[null,16,"محمد436",455,0,0,null,16,"احمد436",505,0,0]
[null,17,"محمد437",456,0,0,null,17,"احمد437",506,0,0]
[null,18,"محمد438",457,0,0,null,18,"احمد438",507,0,0]
[null,19,"محمد439",458,0,0,null,19,"احمد439",508,0,0]
[null,20,"محمد440",459,0,0,null,20,"احمد440",509,0,0]
[null,"","","","","",null,"","","","",""]
[null,"","","","","",null,"","","","",""]
[null,"","","","","",null,"","","","",""]
[null,"","","","","",null,"","","","",""]
[null,"","","","","",null,"","","","",""]
[null,"","","","","",null,"","","","",""]
[null,"","","","","",null,"","","","",""]
[null,"","","","","",null,"","","","",""]
[null,"","","","","",null,"","","","",""]
[null,"","","","","",null,"","","","",""]
[]
[null,{"$f":"'البيانات الأساسية'!$A$10","v":"مراقب الكنترول"},null,{"$f":"'البيانات الأساسية'!$C$10","v":"رئيس الكنترول"},null,null,null,{"$f":"'البيانات الأساسية'!$A$10","v":"مراقب الكنترول"},null,{"$f":"'البيانات الأساسية'!$C$10","v":"رئيس الكنترول"}]
[null,{"$f":"'البيانات الأساسية'!$A$11","v":"أ/ عبد الحميد"},null,{"$f":"'البيانات الأساسية'!$A$11","v":"أ/ عبد الحميد"},null,null,null,{"$f":"'البيانات الأساسية'!$A$11","v":"أ/ عبد الحميد"},null,{"$f":"'البيانات الأساسية'!$A$11","v":"أ/ عبد الحميد"}]
[]
[]
[]
[]
[null,{"$f":"'البيانات الأساسية'!$A$1","v":"إدارة /غرب المحلة الكبرى التعليمية"},null,null,null,null,null,{"$f":"'البيانات الأساسية'!$A$1","v":"إدارة /غرب المحلة الكبرى التعليمية"}]
[null,{"$f":"'البيانات الأساسية'!$A$2","v":"مدرسة د/علي علي حبيش الابتدائية"},null,null,null,null,null,{"$f":"'البيانات الأساسية'!$A$2","v":"مدرسة د/علي علي حبيش الابتدائية"}]
[null,{"$f":"'البيانات الأساسية'!$A$8","v":"كشف مناداة الصف السادس فصل أول وثانٍ للعام الدراسي 2019/2018"},null,null,null,null,null,{"$f":"'البيانات الأساسية'!$A$7","v":"كشف مناداة الصف الخامس فصل أول وثانٍ للعام الدراسي 2019/2018"}]
[null,null,"اللجنة رقم",{"$f":"D886+1","v":23},null,null,null,null,"اللجنة رقم",{"$f":"J886+1","v":23}]
[null,"م","الاســـــــــــــــــــــــــــــم","رقم الجلوس","القيد ","الديانة",null,"م","الاســـــــــــــــــــــــــــــم","رقم الجلوس","القيد ","الديانة"]
[null,{"$f":"IF(D928=\"\",\"\",1)","v":1},{"$f":"IF(B930=\"\",\"\",VLOOKUP(D930,أسماء_الصف6,2))","v":"محمد441"},{"$f":"IF(D928=\"\",\"\",VLOOKUP(D928,رقم_اللجنة6,2))","v":460},{"$f":"IF(B930=\"\",\"\",VLOOKUP(D930,أسماء_الصف6,4))","v":0},{"$f":"IF(B930=\"\",\"\",VLOOKUP(D930,أسماء_الصف6,5))","v":0},null,{"$f":"IF(J928=\"\",\"\",1)","v":1},{"$f":"IF(H930=\"\",\"\",VLOOKUP(J930,أسماء_الصف5,2))","v":"احمد441"},{"$f":"IF(J928=\"\",\"\",VLOOKUP(J928,رقم_جلوس5,2))","v":510},{"$f":"IF(H930=\"\",\"\",VLOOKUP(J930,أسماء_الصف5,4))","v":0},{"$f":"IF(H930=\"\",\"\",VLOOKUP(J930,أسماء_الصف5,5))","v":0}]
[null,{"$f":"IF(B930=\"\",\"\",IF(B930+1>$R$2,\"\",B930+1))","v":2},"محمد442",{"$f":"IF(B930=\"\",\"\",IF(B931=\"\",\"\",D930+1))","v":461},0,0,null,{"$f":"IF(H930=\"\",\"\",IF(H930+1>$R$3,\"\",H930+1))","v":2},"احمد442",{"$f":"IF(H930=\"\",\"\",IF(H931=\"\",\"\",J930+1))","v":511},0,0]
[null,3,"محمد443",462,0,0,null,3,"احمد443",512,0,0]
[null,4,"محمد444",463,0,0,null,4,"احمد444",513,0,0]
[null,5,"محمد445",464,0,0,null,5,"احمد445",514,0,0]
[null,6,"محمد446",465,0,0,null,6,"احمد446",515,0,0]
[null,7,"محمد447",466,0,0,null,7,"احمد447",516,0,0]
[null,8,"محمد448",467,0,0,null,8,"احمد448",517,0,0]
[null,9,"محمد449",468,0,0,null,9,"احمد449",518,0,0]
[null,10,"محمد450",469,0,0,null,10,"احمد450",519,0,0]
[null,11,"محمد451",470,0,0,null,11,"احمد451",520,0,0]
[null,12,"محمد452",471,0,0,null,12,"احمد452",521,0,0]
[null,13,"محمد453",472,0,0,null,13,"احمد453",522,0,0]
[null,14,"محمد454",473,0,0,null,14,"احمد454",523,0,0]
[null,15,"محمد455",474,0,0,null,15,"احمد455",524,0,0]
[null,16,"محمد456",475,0,0,null,16,"احمد456",525,0,0]
[null,17,"محمد457",476,0,0,null,17,"احمد457",526,0,0]
[null,18,"محمد458",477,0,0,null,18,"احمد458",527,0,0]
[null,19,"محمد459",478,0,0,null,19,"احمد459",528,0,0]
[null,20,"محمد460",479,0,0,null,20,"احمد460",529,0,0]
[null,"","","","","",null,"","","","",""]
[null,"","","","","",null,"","","","",""]
[null,"","","","","",null,"","","","",""]
[null,"","","","","",null,"","","","",""]
[null,"","","","","",null,"","","","",""]
[null,"","","","","",null,"","","","",""]
[null,"","","","","",null,"","","","",""]
[null,"","","","","",null,"","","","",""]
[null,"","","","","",null,"","","","",""]
[null,"","","","","",null,"","","","",""]
[]
[null,{"$f":"'البيانات الأساسية'!$A$10","v":"مراقب الكنترول"},null,{"$f":"'البيانات الأساسية'!$C$10","v":"رئيس الكنترول"},null,null,null,{"$f":"'البيانات الأساسية'!$A$10","v":"مراقب الكنترول"},null,{"$f":"'البيانات الأساسية'!$C$10","v":"رئيس الكنترول"}]
[null,{"$f":"'البيانات الأساسية'!$A$11","v":"أ/ عبد الحميد"},null,{"$f":"'البيانات الأساسية'!$A$11","v":"أ/ عبد الحميد"},null,null,null,{"$f":"'البيانات الأساسية'!$A$11","v":"أ/ عبد الحميد"},null,{"$f":"'البيانات الأساسية'!$A$11","v":"أ/ عبد الحميد"}]
[]
[]
[]
[]
[null,{"$f":"'البيانات الأساسية'!$A$1","v":"إدارة /غرب المحلة الكبرى التعليمية"},null,null,null,null,null,{"$f":"'البيانات الأساسية'!$A$1","v":"إدارة /غرب المحلة الكبرى التعليمية"}]
[null,{"$f":"'البيانات الأساسية'!$A$2","v":"مدرسة د/علي علي حبيش الابتدائية"},null,null,null,null,null,{"$f":"'البيانات الأساسية'!$A$2","v":"مدرسة د/علي علي حبيش الابتدائية"}]
[null,{"$f":"'البيانات الأساسية'!$A$8","v":"كشف مناداة الصف السادس فصل أول وثانٍ للعام الدراسي 2019/2018"},null,null,null,null,null,{"$f":"'البيانات الأساسية'!$A$7","v":"كشف مناداة الصف الخامس فصل أول وثانٍ للعام الدراسي 2019/2018"}]
[null,null,"اللجنة رقم",{"$f":"D928+1","v":24},null,null,null,null,"اللجنة رقم",{"$f":"J928+1","v":24}]
[null,"م","الاســـــــــــــــــــــــــــــم","رقم الجلوس","القيد ","الديانة",null,"م","الاســـــــــــــــــــــــــــــم","رقم الجلوس","القيد ","الديانة"]
[null,{"$f":"IF(D970=\"\",\"\",1)","v":1},{"$f":"IF(B972=\"\",\"\",VLOOKUP(D972,أسماء_الصف6,2))","v":"محمد461"},{"$f":"IF(D970=\"\",\"\",VLOOKUP(D970,رقم_اللجنة6,2))","v":480},{"$f":"IF(B972=\"\",\"\",VLOOKUP(D972,أسماء_الصف6,4))","v":0},{"$f":"IF(B972=\"\",\"\",VLOOKUP(D972,أسماء_الصف6,5))","v":0},null,{"$f":"IF(J970=\"\",\"\",1)","v":1},{"$f":"IF(H972=\"\",\"\",VLOOKUP(J972,أسماء_الصف5,2))","v":"احمد461"},{"$f":"IF(J970=\"\",\"\",VLOOKUP(J970,رقم_جلوس5,2))","v":530},{"$f":"IF(H972=\"\",\"\",VLOOKUP(J972,أسماء_الصف5,4))","v":0},{"$f":"IF(H972=\"\",\"\",VLOOKUP(J972,أسماء_الصف5,5))","v":0}]
[null,{"$f":"IF(B972=\"\",\"\",IF(B972+1>$R$2,\"\",B972+1))","v":2},"محمد462",{"$f":"IF(B972=\"\",\"\",IF(B973=\"\",\"\",D972+1))","v":481},0,0,null,{"$f":"IF(H972=\"\",\"\",IF(H972+1>$R$3,\"\",H972+1))","v":2},"احمد462",{"$f":"IF(H972=\"\",\"\",IF(H973=\"\",\"\",J972+1))","v":531},0,0]
[null,3,"محمد463",482,0,0,null,3,"احمد463",532,0,0]
[null,4,"محمد464",483,0,0,null,4,"احمد464",533,0,0]
[null,5,"محمد465",484,0,0,null,5,"احمد465",534,0,0]
[null,6,"محمد466",485,0,0,null,6,"احمد466",535,0,0]
[null,7,"محمد467",486,0,0,null,7,"احمد467",536,0,0]
[null,8,"محمد468",487,0,0,null,8,"احمد468",537,0,0]
[null,9,"محمد469",488,0,0,null,9,"احمد469",538,0,0]
[null,10,"محمد470",489,0,0,null,10,"احمد470",539,0,0]
[null,11,"محمد471",490,0,0,null,11,"احمد471",540,0,0]
[null,12,"محمد472",491,0,0,null,12,"احمد472",541,0,0]
[null,13,"محمد473",492,0,0,null,13,"احمد473",542,0,0]
[null,14,"محمد474",493,0,0,null,14,"احمد474",543,0,0]
[null,15,"محمد475",494,0,0,null,15,"احمد475",544,0,0]
[null,16,"محمد476",495,0,0,null,16,"احمد476",545,0,0]
[null,17,"محمد477",496,0,0,null,17,"احمد477",546,0,0]
[null,18,"محمد478",497,0,0,null,18,"احمد478",547,0,0]
[null,19,"محمد479",498,0,0,null,19,"احمد479",548,0,0]
[null,20,"محمد480",499,0,0,null,20,"احمد480",549,0,0]
[null,"","","","","",null,"","","","",""]
[null,"","","","","",null,"","","","",""]
[null,"","","","","",null,"","","","",""]
[null,"","","","","",null,"","","","",""]
[null,"","","","","",null,"","","","",""]
[null,"","","","","",null,"","","","",""]
[null,"","","","","",null,"","","","",""]
[null,"","","","","",null,"","","","",""]
[null,"","","","","",null,"","","","",""]
[null,"","","","","",null,"","","","",""]
[]
[null,{"$f":"'البيانات الأساسية'!$A$10","v":"مراقب الكنترول"},null,{"$f":"'البيانات الأساسية'!$C$10","v":"رئيس الكنترول"},null,null,null,{"$f":"'البيانات الأساسية'!$A$10","v":"مراقب الكنترول"},null,{"$f":"'البيانات الأساسية'!$C$10","v":"رئيس الكنترول"}]
[null,{"$f":"'البيانات الأساسية'!$A$11","v":"أ/ عبد الحميد"},null,{"$f":"'البيانات الأساسية'!$A$11","v":"أ/ عبد الحميد"},null,null,null,{"$f":"'البيانات الأساسية'!$A$11","v":"أ/ عبد الحميد"},null,{"$f":"'البيانات الأساسية'!$A$11","v":"أ/ عبد الحميد"}]
[]
[]
[]
[]
[null,{"$f":"'البيانات الأساسية'!$A$1","v":"إدارة /غرب المحلة الكبرى التعليمية"},null,null,null,null,null,{"$f":"'البيانات الأساسية'!$A$1","v":"إدارة /غرب المحلة الكبرى التعليمية"}]
[null,{"$f":"'البيانات الأساسية'!$A$2","v":"مدرسة د/علي علي حبيش الابتدائية"},null,null,null,null,null,{"$f":"'البيانات الأساسية'!$A$2","v":"مدرسة د/علي علي حبيش الابتدائية"}]
[null,{"$f":"'البيانات الأساسية'!$A$8","v":"كشف مناداة الصف السادس فصل أول وثانٍ للعام الدراسي 2019/2018"},null,null,null,null,null,{"$f":"'البيانات الأساسية'!$A$7","v":"كشف مناداة الصف الخامس فصل أول وثانٍ للعام الدراسي 2019/2018"}]
[null,null,"اللجنة رقم",{"$f":"D970+1","v":25},null,null,null,null,"اللجنة رقم",{"$f":"J970+1","v":25}]
[null,"م","الاســـــــــــــــــــــــــــــم","رقم الجلوس","القيد ","الديانة",null,"م","الاســـــــــــــــــــــــــــــم","رقم الجلوس","القيد ","الديانة"]
[null,{"$f":"IF(D1012=\"\",\"\",1)","v":1},{"$f":"IF(B1014=\"\",\"\",VLOOKUP(D1014,أسماء_الصف6,2))","v":"محمد481"},{"$f":"IF(D1012=\"\",\"\",VLOOKUP(D1012,رقم_اللجنة6,2))","v":500},{"$f":"IF(B1014=\"\",\"\",VLOOKUP(D1014,أسماء_الصف6,4))","v":0},{"$f":"IF(B1014=\"\",\"\",VLOOKUP(D1014,أسماء_الصف6,5))","v":0},null,{"$f":"IF(J1012=\"\",\"\",1)","v":1},{"$f":"IF(H1014=\"\",\"\",VLOOKUP(J1014,أسماء_الصف5,2))","v":"احمد481"},{"$f":"IF(J1012=\"\",\"\",VLOOKUP(J1012,رقم_جلوس5,2))","v":550},{"$f":"IF(H1014=\"\",\"\",VLOOKUP(J1014,أسماء_الصف5,4))","v":0},{"$f":"IF(H1014=\"\",\"\",VLOOKUP(J1014,أسماء_الصف5,5))","v":0}]
[null,{"$f":"IF(B1014=\"\",\"\",IF(B1014+1>$R$2,\"\",B1014+1))","v":2},"محمد482",{"$f":"IF(B1014=\"\",\"\",IF(B1015=\"\",\"\",D1014+1))","v":501},0,0,null,{"$f":"IF(H1014=\"\",\"\",IF(H1014+1>$R$3,\"\",H1014+1))","v":2},"احمد482",{"$f":"IF(H1014=\"\",\"\",IF(H1015=\"\",\"\",J1014+1))","v":551},0,0]
[null,3,"محمد483",502,0,0,null,3,"احمد483",552,0,0]
[null,4,"محمد484",503,0,0,null,4,"احمد484",553,0,0]
[null,5,"محمد485",504,0,0,null,5,"احمد485",554,0,0]
[null,6,"محمد486",505,0,0,null,6,"احمد486",555,0,0]
[null,7,"محمد487",506,0,0,null,7,"احمد487",556,0,0]
[null,8,"محمد488",507,0,0,null,8,"احمد488",557,0,0]
[null,9,"محمد489",508,0,0,null,9,"احمد489",558,0,0]
[null,10,"محمد490",509,0,0,null,10,"احمد490",559,0,0]
[null,11,"محمد491",510,0,0,null,11,"احمد491",560,0,0]
[null,12,"محمد492",511,0,0,null,12,"احمد492",561,0,0]
[null,13,"محمد493",512,0,0,null,13,"احمد493",562,0,0]
[null,14,"محمد494",513,0,0,null,14,"احمد494",563,0,0]
[null,15,"محمد495",514,0,0,null,15,"احمد495",564,0,0]
[null,16,"محمد496",515,0,0,null,16,"احمد496",565,0,0]
[null,17,"محمد497",516,0,0,null,17,"احمد497",566,0,0]
[null,18,"محمد498",517,0,0,null,18,"احمد498",567,0,0]
[null,19,"محمد499",518,0,0,null,19,"احمد499",568,0,0]
[null,20,"محمد500",519,0,0,null,20,"احمد500",569,0,0]
[null,"","","","","",null,"","","","",""]
[null,"","","","","",null,"","","","",""]
[null,"","","","","",null,"","","","",""]
[null,"","","","","",null,"","","","",""]
[null,"","","","","",null,"","","","",""]
[null,"","","","","",null,"","","","",""]
[null,"","","","","",null,"","","","",""]
[null,"","","","","",null,"","","","",""]
[null,"","","","","",null,"","","","",""]
[null,"","","","","",null,"","","","",""]
[]
[null,{"$f":"'البيانات الأساسية'!$A$10","v":"مراقب الكنترول"},null,{"$f":"'البيانات الأساسية'!$C$10","v":"رئيس الكنترول"},null,null,null,{"$f":"'البيانات الأساسية'!$A$10","v":"مراقب الكنترول"},null,{"$f":"'البيانات الأساسية'!$C$10","v":"رئيس الكنترول"}]
[null,{"$f":"'البيانات الأساسية'!$A$11","v":"أ/ عبد الحميد"},null,{"$f":"'البيانات الأساسية'!$A$11","v":"أ/ عبد الحميد"},null,null,null,{"$f":"'البيانات الأساسية'!$A$11","v":"أ/ عبد الحميد"},null,{"$f":"'البيانات الأساسية'!$A$11","v":"أ/ عبد الحميد"}]
[]
[]
[]
[]
[null,{"$f":"'البيانات الأساسية'!$A$1","v":"إدارة /غرب المحلة الكبرى التعليمية"},null,null,null,null,null,{"$f":"'البيانات الأساسية'!$A$1","v":"إدارة /غرب المحلة الكبرى التعليمية"}]
[null,{"$f":"'البيانات الأساسية'!$A$2","v":"مدرسة د/علي علي حبيش الابتدائية"},null,null,null,null,null,{"$f":"'البيانات الأساسية'!$A$2","v":"مدرسة د/علي علي حبيش الابتدائية"}]
[null,{"$f":"'البيانات الأساسية'!$A$8","v":"كشف مناداة الصف السادس فصل أول وثانٍ للعام الدراسي 2019/2018"},null,null,null,null,null,{"$f":"'البيانات الأساسية'!$A$7","v":"كشف مناداة الصف الخامس فصل أول وثانٍ للعام الدراسي 2019/2018"}]
[null,null,"اللجنة رقم",{"$f":"D1012+1","v":26},null,null,null,null,"اللجنة رقم",{"$f":"J1012+1","v":26}]
[null,"م","الاســـــــــــــــــــــــــــــم","رقم الجلوس","القيد ","الديانة",null,"م","الاســـــــــــــــــــــــــــــم","رقم الجلوس","القيد ","الديانة"]
[null,{"$f":"IF(D1054=\"\",\"\",1)","v":1},{"$f":"IF(B1056=\"\",\"\",VLOOKUP(D1056,أسماء_الصف6,2))","v":"محمد501"},{"$f":"IF(D1054=\"\",\"\",VLOOKUP(D1054,رقم_اللجنة6,2))","v":520},{"$f":"IF(B1056=\"\",\"\",VLOOKUP(D1056,أسماء_الصف6,4))","v":0},{"$f":"IF(B1056=\"\",\"\",VLOOKUP(D1056,أسماء_الصف6,5))","v":0},null,{"$f":"IF(J1054=\"\",\"\",1)","v":1},{"$f":"IF(H1056=\"\",\"\",VLOOKUP(J1056,أسماء_الصف5,2))","v":"احمد501"},{"$f":"IF(J1054=\"\",\"\",VLOOKUP(J1054,رقم_جلوس5,2))","v":570},{"$f":"IF(H1056=\"\",\"\",VLOOKUP(J1056,أسماء_الصف5,4))","v":0},{"$f":"IF(H1056=\"\",\"\",VLOOKUP(J1056,أسماء_الصف5,5))","v":0}]
[null,{"$f":"IF(B1056=\"\",\"\",IF(B1056+1>$R$2,\"\",B1056+1))","v":2},"محمد502",{"$f":"IF(B1056=\"\",\"\",IF(B1057=\"\",\"\",D1056+1))","v":521},0,0,null,{"$f":"IF(H1056=\"\",\"\",IF(H1056+1>$R$3,\"\",H1056+1))","v":2},"احمد502",{"$f":"IF(H1056=\"\",\"\",IF(H1057=\"\",\"\",J1056+1))","v":571},0,0]
[null,3,"محمد503",522,0,0,null,3,"احمد503",572,0,0]
[null,4,"محمد504",523,0,0,null,4,"احمد504",573,0,0]
[null,5,"محمد505",524,0,0,null,5,"احمد505",574,0,0]
[null,6,"محمد506",525,0,0,null,6,"احمد506",575,0,0]
[null,7,"محمد507",526,0,0,null,7,"احمد507",576,0,0]
[null,8,"محمد508",527,0,0,null,8,"احمد508",577,0,0]
[null,9,"محمد509",528,0,0,null,9,"احمد509",578,0,0]
[null,10,"محمد510",529,0,0,null,10,"احمد510",579,0,0]
[null,11,"محمد511",530,0,0,null,11,"احمد511",580,0,0]
[null,12,"محمد512",531,0,0,null,12,"احمد512",581,0,0]
[null,13,"محمد513",532,0,0,null,13,"احمد513",582,0,0]
[null,14,"محمد514",533,0,0,null,14,"احمد514",583,0,0]
[null,15,"محمد515",534,0,0,null,15,"احمد515",584,0,0]
[null,16,"محمد516",535,0,0,null,16,"احمد516",585,0,0]
[null,17,"محمد517",536,0,0,null,17,"احمد517",586,0,0]
[null,18,"محمد518",537,0,0,null,18,"احمد518",587,0,0]
[null,19,"محمد519",538,0,0,null,19,"احمد519",588,0,0]
[null,20,"محمد520",539,0,0,null,20,"احمد520",589,0,0]
[null,"","","","","",null,"","","","",""]
[null,"","","","","",null,"","","","",""]
[null,"","","","","",null,"","","","",""]
[null,"","","","","",null,"","","","",""]
[null,"","","","","",null,"","","","",""]
[null,"","","","","",null,"","","","",""]
[null,"","","","","",null,"","","","",""]
[null,"","","","","",null,"","","","",""]
[null,"","","","","",null,"","","","",""]
[null,"","","","","",null,"","","","",""]
[]
[null,{"$f":"'البيانات الأساسية'!$A$10","v":"مراقب الكنترول"},null,{"$f":"'البيانات الأساسية'!$C$10","v":"رئيس الكنترول"},null,null,null,{"$f":"'البيانات الأساسية'!$A$10","v":"مراقب الكنترول"},null,{"$f":"'البيانات الأساسية'!$C$10","v":"رئيس الكنترول"}]
[null,{"$f":"'البيانات الأساسية'!$A$11","v":"أ/ عبد الحميد"},null,{"$f":"'البيانات الأساسية'!$A$11","v":"أ/ عبد الحميد"},null,null,null,{"$f":"'البيانات الأساسية'!$A$11","v":"أ/ عبد الحميد"},null,{"$f":"'البيانات الأساسية'!$A$11","v":"أ/ عبد الحميد"}]
[]
[]
[]
[]
[null,{"$f":"'البيانات الأساسية'!$A$1","v":"إدارة /غرب المحلة الكبرى التعليمية"},null,null,null,null,null,{"$f":"'البيانات الأساسية'!$A$1","v":"إدارة /غرب المحلة الكبرى التعليمية"}]
[null,{"$f":"'البيانات الأساسية'!$A$2","v":"مدرسة د/علي علي حبيش الابتدائية"},null,null,null,null,null,{"$f":"'البيانات الأساسية'!$A$2","v":"مدرسة د/علي علي حبيش الابتدائية"}]
[null,{"$f":"'البيانات الأساسية'!$A$8","v":"كشف مناداة الصف السادس فصل أول وثانٍ للعام الدراسي 2019/2018"},null,null,null,null,null,{"$f":"'البيانات الأساسية'!$A$7","v":"كشف مناداة الصف الخامس فصل أول وثانٍ للعام الدراسي 2019/2018"}]
[null,null,"اللجنة رقم",{"$f":"D1054+1","v":27},null,null,null,null,"اللجنة رقم",{"$f":"J1054+1","v":27}]
[null,"م","الاســـــــــــــــــــــــــــــم","رقم الجلوس","القيد ","الديانة",null,"م","الاســـــــــــــــــــــــــــــم","رقم الجلوس","القيد ","الديانة"]
[null,{"$f":"IF(D1096=\"\",\"\",1)","v":1},{"$f":"IF(B1098=\"\",\"\",VLOOKUP(D1098,أسماء_الصف6,2))","v":"محمد521"},{"$f":"IF(D1096=\"\",\"\",VLOOKUP(D1096,رقم_اللجنة6,2))","v":540},{"$f":"IF(B1098=\"\",\"\",VLOOKUP(D1098,أسماء_الصف6,4))","v":0},{"$f":"IF(B1098=\"\",\"\",VLOOKUP(D1098,أسماء_الصف6,5))","v":0},null,{"$f":"IF(J1096=\"\",\"\",1)","v":1},{"$f":"IF(H1098=\"\",\"\",VLOOKUP(J1098,أسماء_الصف5,2))","v":"احمد521"},{"$f":"IF(J1096=\"\",\"\",VLOOKUP(J1096,رقم_جلوس5,2))","v":590},{"$f":"IF(H1098=\"\",\"\",VLOOKUP(J1098,أسماء_الصف5,4))","v":0},{"$f":"IF(H1098=\"\",\"\",VLOOKUP(J1098,أسماء_الصف5,5))","v":0}]
[null,{"$f":"IF(B1098=\"\",\"\",IF(B1098+1>$R$2,\"\",B1098+1))","v":2},"محمد522",{"$f":"IF(B1098=\"\",\"\",IF(B1099=\"\",\"\",D1098+1))","v":541},0,0,null,{"$f":"IF(H1098=\"\",\"\",IF(H1098+1>$R$3,\"\",H1098+1))","v":2},"احمد522",{"$f":"IF(H1098=\"\",\"\",IF(H1099=\"\",\"\",J1098+1))","v":591},0,0]
[null,3,"محمد523",542,0,0,null,3,"احمد523",592,0,0]
[null,4,"محمد524",543,0,0,null,4,"احمد524",593,0,0]
[null,5,"محمد525",544,0,0,null,5,"احمد525",594,0,0]
[null,6,"محمد526",545,0,0,null,6,"احمد526",595,0,0]
[null,7,"محمد527",546,0,0,null,7,"احمد527",596,0,0]
[null,8,"محمد528",547,0,0,null,8,"احمد528",597,0,0]
[null,9,"محمد529",548,0,0,null,9,"احمد529",598,0,0]
[null,10,"محمد530",549,0,0,null,10,"احمد530",599,0,0]
[null,11,"محمد531",550,0,0,null,11,"احمد531",600,0,0]
[null,12,"محمد532",551,0,0,null,12,"احمد532",601,0,0]
[null,13,"محمد533",552,0,0,null,13,"احمد533",602,0,0]
[null,14,"محمد534",553,0,0,null,14,"احمد534",603,0,0]
[null,15,"محمد535",554,0,0,null,15,"احمد534",604,0,0]
[null,16,"محمد536",555,0,0,null,16,"احمد534",605,0,0]
[null,17,"محمد537",556,0,0,null,17,"احمد534",606,0,0]
[null,18,"محمد538",557,0,0,null,18,"احمد534",607,0,0]
[null,19,"محمد539",558,0,0,null,19,"احمد534",608,0,0]
[null,20,"محمد540",559,0,0,null,20,"احمد534",609,0,0]
[null,"","","","","",null,"","","","",""]
[null,"","","","","",null,"","","","",""]
[null,"","","","","",null,"","","","",""]
[null,"","","","","",null,"","","","",""]
[null,"","","","","",null,"","","","",""]
[null,"","","","","",null,"","","","",""]
[null,"","","","","",null,"","","","",""]
[null,"","","","","",null,"","","","",""]
[null,"","","","","",null,"","","","",""]
[null,"","","","","",null,"","","","",""]
[]
[null,{"$f":"'البيانات الأساسية'!$A$10","v":"مراقب الكنترول"},null,{"$f":"'البيانات الأساسية'!$C$10","v":"رئيس الكنترول"},null,null,null,{"$f":"'البيانات الأساسية'!$A$10","v":"مراقب الكنترول"},null,{"$f":"'البيانات الأساسية'!$C$10","v":"رئيس الكنترول"}]
[null,{"$f":"'البيانات الأساسية'!$A$11","v":"أ/ عبد الحميد"},null,{"$f":"'البيانات الأساسية'!$A$11","v":"أ/ عبد الحميد"},null,null,null,{"$f":"'البيانات الأساسية'!$A$11","v":"أ/ عبد الحميد"},null,{"$f":"'البيانات الأساسية'!$A$11","v":"أ/ عبد الحميد"}]