{"text_format":"1","workbook":"xlsx","n_sheets":5,"sheets":["ورقة1","ورقة2","ورقة3","الطباعة","Sheet1"],"not_rendered":{"charts":0,"images":0,"macros":0,"external_links":0,"defined_names":2,"comments":0,"pivot_tables":0},"unopened":[],"bounds":{"document_bytes":16777216,"sheet_cells":100000,"rows_first":2000,"rows_last":500,"rows_between":2000,"halvings":0,"cell_chars":16384,"cell_head_chars":4096},"cells_cut":0,"cells_raw":0,"read":"whole","date_system":"1900"}

{"sheet":"ورقة1","index":0,"n_rows":1407,"n_cols":9,"rows_kept":1407,"cut":false,"hidden":false,"merged":[]}
["م","دليل البنين","البنين","دليل البنات","البنات","الاسم","النوع","الصف","فصل"]
[1,{"$f":"IF(AND(ورقة2!$H$2=ورقة1!I2,ورقة2!$F$2=ورقة1!H2,ورقة1!G2=\"ولد\"),1,0)","v":0},{"$f":"IF(B2=0,\"\",SUM($B$2:B2))","v":""},{"$f":"IF(AND(ورقة2!$H$2=ورقة1!I2,ورقة2!$F$2=ورقة1!H2,ورقة1!G2=\"بنت\"),1,0)","v":0},{"$f":"IF(D2=0,\"\",SUM($D$2:D2))","v":""},"ابراهيم حسن ابراهيم عبدربه","ولد",3,1]
[2,{"$f":"IF(AND(ورقة2!$H$2=ورقة1!I3,ورقة2!$F$2=ورقة1!H3,ورقة1!G3=\"ولد\"),1,0)","v":0},{"$f":"IF(B3=0,\"\",SUM($B$2:B3))","v":""},{"$f":"IF(AND(ورقة2!$H$2=ورقة1!I3,ورقة2!$F$2=ورقة1!H3,ورقة1!G3=\"بنت\"),1,0)","v":0},{"$f":"IF(D3=0,\"\",SUM($D$2:D3))","v":""},"ابراهيم كمال عبد الله عليوة","ولد",3,1]
[3,{"$f":"IF(AND(ورقة2!$H$2=ورقة1!I4,ورقة2!$F$2=ورقة1!H4,ورقة1!G4=\"ولد\"),1,0)","v":0},{"$f":"IF(B4=0,\"\",SUM($B$2:B4))","v":""},{"$f":"IF(AND(ورقة2!$H$2=ورقة1!I4,ورقة2!$F$2=ورقة1!H4,ورقة1!G4=\"بنت\"),1,0)","v":0},{"$f":"IF(D4=0,\"\",SUM($D$2:D4))","v":""},"احمد ابراهيم الصياد انور محمد موسى","ولد",3,1]
[4,{"$f":"IF(AND(ورقة2!$H$2=ورقة1!I5,ورقة2!$F$2=ورقة1!H5,ورقة1!G5=\"ولد\"),1,0)","v":0},{"$f":"IF(B5=0,\"\",SUM($B$2:B5))","v":""},{"$f":"IF(AND(ورقة2!$H$2=ورقة1!I5,ورقة2!$F$2=ورقة1!H5,ورقة1!G5=\"بنت\"),1,0)","v":0},{"$f":"IF(D5=0,\"\",SUM($D$2:D5))","v":""},"احمد تامر محمد محمد عبدالفتاح","ولد",3,1]
[5,{"$f":"IF(AND(ورقة2!$H$2=ورقة1!I6,ورقة2!$F$2=ورقة1!H6,ورقة1!G6=\"ولد\"),1,0)","v":0},{"$f":"IF(B6=0,\"\",SUM($B$2:B6))","v":""},{"$f":"IF(AND(ورقة2!$H$2=ورقة1!I6,ورقة2!$F$2=ورقة1!H6,ورقة1!G6=\"بنت\"),1,0)","v":0},{"$f":"IF(D6=0,\"\",SUM($D$2:D6))","v":""},"احمد رافت احمد عبد المعطى محمد شرف","ولد",3,1]
[6,{"$f":"IF(AND(ورقة2!$H$2=ورقة1!I7,ورقة2!$F$2=ورقة1!H7,ورقة1!G7=\"ولد\"),1,0)","v":0},{"$f":"IF(B7=0,\"\",SUM($B$2:B7))","v":""},{"$f":"IF(AND(ورقة2!$H$2=ورقة1!I7,ورقة2!$F$2=ورقة1!H7,ورقة1!G7=\"بنت\"),1,0)","v":0},{"$f":"IF(D7=0,\"\",SUM($D$2:D7))","v":""},"احمد سامح عبد المؤمن عبد الوهاب محمد الشيخ","ولد",3,1]
[7,{"$f":"IF(AND(ورقة2!$H$2=ورقة1!I8,ورقة2!$F$2=ورقة1!H8,ورقة1!G8=\"ولد\"),1,0)","v":0},{"$f":"IF(B8=0,\"\",SUM($B$2:B8))","v":""},{"$f":"IF(AND(ورقة2!$H$2=ورقة1!I8,ورقة2!$F$2=ورقة1!H8,ورقة1!G8=\"بنت\"),1,0)","v":0},{"$f":"IF(D8=0,\"\",SUM($D$2:D8))","v":""},"احمد عادل فرج الله محمد برقوقى زيدان","ولد",3,1]
[8,{"$f":"IF(AND(ورقة2!$H$2=ورقة1!I9,ورقة2!$F$2=ورقة1!H9,ورقة1!G9=\"ولد\"),1,0)","v":0},{"$f":"IF(B9=0,\"\",SUM($B$2:B9))","v":""},{"$f":"IF(AND(ورقة2!$H$2=ورقة1!I9,ورقة2!$F$2=ورقة1!H9,ورقة1!G9=\"بنت\"),1,0)","v":0},{"$f":"IF(D9=0,\"\",SUM($D$2:D9))","v":""},"احمد عبد الرحمن عبد اللطيف عبد الفتاح صوابى","ولد",3,1]
[9,{"$f":"IF(AND(ورقة2!$H$2=ورقة1!I10,ورقة2!$F$2=ورقة1!H10,ورقة1!G10=\"ولد\"),1,0)","v":0},{"$f":"IF(B10=0,\"\",SUM($B$2:B10))","v":""},{"$f":"IF(AND(ورقة2!$H$2=ورقة1!I10,ورقة2!$F$2=ورقة1!H10,ورقة1!G10=\"بنت\"),1,0)","v":0},{"$f":"IF(D10=0,\"\",SUM($D$2:D10))","v":""},"احمد عبد المعطى مهدى عبد المعطى عمرو","ولد",3,1]
[10,{"$f":"IF(AND(ورقة2!$H$2=ورقة1!I11,ورقة2!$F$2=ورقة1!H11,ورقة1!G11=\"ولد\"),1,0)","v":0},{"$f":"IF(B11=0,\"\",SUM($B$2:B11))","v":""},{"$f":"IF(AND(ورقة2!$H$2=ورقة1!I11,ورقة2!$F$2=ورقة1!H11,ورقة1!G11=\"بنت\"),1,0)","v":0},{"$f":"IF(D11=0,\"\",SUM($D$2:D11))","v":""},"احمد عفيفى احمد عبد المنعم احمد هلول","ولد",3,1]
[11,{"$f":"IF(AND(ورقة2!$H$2=ورقة1!I12,ورقة2!$F$2=ورقة1!H12,ورقة1!G12=\"ولد\"),1,0)","v":0},{"$f":"IF(B12=0,\"\",SUM($B$2:B12))","v":""},{"$f":"IF(AND(ورقة2!$H$2=ورقة1!I12,ورقة2!$F$2=ورقة1!H12,ورقة1!G12=\"بنت\"),1,0)","v":0},{"$f":"IF(D12=0,\"\",SUM($D$2:D12))","v":""},"احمد عفيفى الهادى عفيفى محمد زيدان","ولد",3,1]
[12,{"$f":"IF(AND(ورقة2!$H$2=ورقة1!I13,ورقة2!$F$2=ورقة1!H13,ورقة1!G13=\"ولد\"),1,0)","v":0},{"$f":"IF(B13=0,\"\",SUM($B$2:B13))","v":""},{"$f":"IF(AND(ورقة2!$H$2=ورقة1!I13,ورقة2!$F$2=ورقة1!H13,ورقة1!G13=\"بنت\"),1,0)","v":0},{"$f":"IF(D13=0,\"\",SUM($D$2:D13))","v":""},"احمد علاء محمد عبد المنعم محمد","ولد",3,1]
[13,{"$f":"IF(AND(ورقة2!$H$2=ورقة1!I14,ورقة2!$F$2=ورقة1!H14,ورقة1!G14=\"ولد\"),1,0)","v":0},{"$f":"IF(B14=0,\"\",SUM($B$2:B14))","v":""},{"$f":"IF(AND(ورقة2!$H$2=ورقة1!I14,ورقة2!$F$2=ورقة1!H14,ورقة1!G14=\"بنت\"),1,0)","v":0},{"$f":"IF(D14=0,\"\",SUM($D$2:D14))","v":""},"احمد فرحات محمد نبيه عمار","ولد",3,5]
[14,{"$f":"IF(AND(ورقة2!$H$2=ورقة1!I15,ورقة2!$F$2=ورقة1!H15,ورقة1!G15=\"ولد\"),1,0)","v":0},{"$f":"IF(B15=0,\"\",SUM($B$2:B15))","v":""},{"$f":"IF(AND(ورقة2!$H$2=ورقة1!I15,ورقة2!$F$2=ورقة1!H15,ورقة1!G15=\"بنت\"),1,0)","v":0},{"$f":"IF(D15=0,\"\",SUM($D$2:D15))","v":""},"احمد محمد سعد عبدالفتاح","ولد",3,1]
[15,{"$f":"IF(AND(ورقة2!$H$2=ورقة1!I16,ورقة2!$F$2=ورقة1!H16,ورقة1!G16=\"ولد\"),1,0)","v":0},{"$f":"IF(B16=0,\"\",SUM($B$2:B16))","v":""},{"$f":"IF(AND(ورقة2!$H$2=ورقة1!I16,ورقة2!$F$2=ورقة1!H16,ورقة1!G16=\"بنت\"),1,0)","v":0},{"$f":"IF(D16=0,\"\",SUM($D$2:D16))","v":""},"احمد محمد شكرى محمد","ولد",3,1]
[16,{"$f":"IF(AND(ورقة2!$H$2=ورقة1!I17,ورقة2!$F$2=ورقة1!H17,ورقة1!G17=\"ولد\"),1,0)","v":0},{"$f":"IF(B17=0,\"\",SUM($B$2:B17))","v":""},{"$f":"IF(AND(ورقة2!$H$2=ورقة1!I17,ورقة2!$F$2=ورقة1!H17,ورقة1!G17=\"بنت\"),1,0)","v":0},{"$f":"IF(D17=0,\"\",SUM($D$2:D17))","v":""},"احمد محمد صبحى محمدى راشد","ولد",3,1]
[17,{"$f":"IF(AND(ورقة2!$H$2=ورقة1!I18,ورقة2!$F$2=ورقة1!H18,ورقة1!G18=\"ولد\"),1,0)","v":0},{"$f":"IF(B18=0,\"\",SUM($B$2:B18))","v":""},{"$f":"IF(AND(ورقة2!$H$2=ورقة1!I18,ورقة2!$F$2=ورقة1!H18,ورقة1!G18=\"بنت\"),1,0)","v":0},{"$f":"IF(D18=0,\"\",SUM($D$2:D18))","v":""},"احمد محمود فتحى امام السيد راجح","ولد",3,1]
[18,{"$f":"IF(AND(ورقة2!$H$2=ورقة1!I19,ورقة2!$F$2=ورقة1!H19,ورقة1!G19=\"ولد\"),1,0)","v":0},{"$f":"IF(B19=0,\"\",SUM($B$2:B19))","v":""},{"$f":"IF(AND(ورقة2!$H$2=ورقة1!I19,ورقة2!$F$2=ورقة1!H19,ورقة1!G19=\"بنت\"),1,0)","v":0},{"$f":"IF(D19=0,\"\",SUM($D$2:D19))","v":""},"احمد منتصر محمد المهدى مصلحى حسن","ولد",3,1]
[19,{"$f":"IF(AND(ورقة2!$H$2=ورقة1!I20,ورقة2!$F$2=ورقة1!H20,ورقة1!G20=\"ولد\"),1,0)","v":0},{"$f":"IF(B20=0,\"\",SUM($B$2:B20))","v":""},{"$f":"IF(AND(ورقة2!$H$2=ورقة1!I20,ورقة2!$F$2=ورقة1!H20,ورقة1!G20=\"بنت\"),1,0)","v":0},{"$f":"IF(D20=0,\"\",SUM($D$2:D20))","v":""},"احمد ناصر محمد حامد محمد منصور","ولد",3,3]
[20,{"$f":"IF(AND(ورقة2!$H$2=ورقة1!I21,ورقة2!$F$2=ورقة1!H21,ورقة1!G21=\"ولد\"),1,0)","v":0},{"$f":"IF(B21=0,\"\",SUM($B$2:B21))","v":""},{"$f":"IF(AND(ورقة2!$H$2=ورقة1!I21,ورقة2!$F$2=ورقة1!H21,ورقة1!G21=\"بنت\"),1,0)","v":0},{"$f":"IF(D21=0,\"\",SUM($D$2:D21))","v":""},"احمد هاشم مسعد السعيد امين","ولد",3,1]
[21,{"$f":"IF(AND(ورقة2!$H$2=ورقة1!I22,ورقة2!$F$2=ورقة1!H22,ورقة1!G22=\"ولد\"),1,0)","v":0},{"$f":"IF(B22=0,\"\",SUM($B$2:B22))","v":""},{"$f":"IF(AND(ورقة2!$H$2=ورقة1!I22,ورقة2!$F$2=ورقة1!H22,ورقة1!G22=\"بنت\"),1,0)","v":0},{"$f":"IF(D22=0,\"\",SUM($D$2:D22))","v":""},"احمد هانى فهمى محمد برقوقى زيدان","ولد",3,1]
[22,{"$f":"IF(AND(ورقة2!$H$2=ورقة1!I23,ورقة2!$F$2=ورقة1!H23,ورقة1!G23=\"ولد\"),1,0)","v":0},{"$f":"IF(B23=0,\"\",SUM($B$2:B23))","v":""},{"$f":"IF(AND(ورقة2!$H$2=ورقة1!I23,ورقة2!$F$2=ورقة1!H23,ورقة1!G23=\"بنت\"),1,0)","v":0},{"$f":"IF(D23=0,\"\",SUM($D$2:D23))","v":""},"احمد وائل محمد محمد عبدالحفيظ","ولد",3,5]
[23,{"$f":"IF(AND(ورقة2!$H$2=ورقة1!I24,ورقة2!$F$2=ورقة1!H24,ورقة1!G24=\"ولد\"),1,0)","v":0},{"$f":"IF(B24=0,\"\",SUM($B$2:B24))","v":""},{"$f":"IF(AND(ورقة2!$H$2=ورقة1!I24,ورقة2!$F$2=ورقة1!H24,ورقة1!G24=\"بنت\"),1,0)","v":0},{"$f":"IF(D24=0,\"\",SUM($D$2:D24))","v":""},"احمد وليد حمدان عبدالرحمن دياب","ولد",3,1]
[24,{"$f":"IF(AND(ورقة2!$H$2=ورقة1!I25,ورقة2!$F$2=ورقة1!H25,ورقة1!G25=\"ولد\"),1,0)","v":0},{"$f":"IF(B25=0,\"\",SUM($B$2:B25))","v":""},{"$f":"IF(AND(ورقة2!$H$2=ورقة1!I25,ورقة2!$F$2=ورقة1!H25,ورقة1!G25=\"بنت\"),1,0)","v":0},{"$f":"IF(D25=0,\"\",SUM($D$2:D25))","v":""},"ادهم اسلام عمر عبدالفتاح عمر","ولد",3,3]
[25,{"$f":"IF(AND(ورقة2!$H$2=ورقة1!I26,ورقة2!$F$2=ورقة1!H26,ورقة1!G26=\"ولد\"),1,0)","v":0},{"$f":"IF(B26=0,\"\",SUM($B$2:B26))","v":""},{"$f":"IF(AND(ورقة2!$H$2=ورقة1!I26,ورقة2!$F$2=ورقة1!H26,ورقة1!G26=\"بنت\"),1,0)","v":0},{"$f":"IF(D26=0,\"\",SUM($D$2:D26))","v":""},"ادهم نبيل عبدالوهاب امام عبدالعزيز","ولد",3,1]
[26,{"$f":"IF(AND(ورقة2!$H$2=ورقة1!I27,ورقة2!$F$2=ورقة1!H27,ورقة1!G27=\"ولد\"),1,0)","v":0},{"$f":"IF(B27=0,\"\",SUM($B$2:B27))","v":""},{"$f":"IF(AND(ورقة2!$H$2=ورقة1!I27,ورقة2!$F$2=ورقة1!H27,ورقة1!G27=\"بنت\"),1,0)","v":0},{"$f":"IF(D27=0,\"\",SUM($D$2:D27))","v":""},"اسامة عبد الغفار محمد الحسينى عبد الفتاح سرحان","ولد",3,1]
[27,{"$f":"IF(AND(ورقة2!$H$2=ورقة1!I28,ورقة2!$F$2=ورقة1!H28,ورقة1!G28=\"ولد\"),1,0)","v":0},{"$f":"IF(B28=0,\"\",SUM($B$2:B28))","v":""},{"$f":"IF(AND(ورقة2!$H$2=ورقة1!I28,ورقة2!$F$2=ورقة1!H28,ورقة1!G28=\"بنت\"),1,0)","v":0},{"$f":"IF(D28=0,\"\",SUM($D$2:D28))","v":""},"اسلام اسامة عبد الفتاح السيد دومة","ولد",3,1]
[28,{"$f":"IF(AND(ورقة2!$H$2=ورقة1!I29,ورقة2!$F$2=ورقة1!H29,ورقة1!G29=\"ولد\"),1,0)","v":0},{"$f":"IF(B29=0,\"\",SUM($B$2:B29))","v":""},{"$f":"IF(AND(ورقة2!$H$2=ورقة1!I29,ورقة2!$F$2=ورقة1!H29,ورقة1!G29=\"بنت\"),1,0)","v":0},{"$f":"IF(D29=0,\"\",SUM($D$2:D29))","v":""},"اسلام محمد السيد محمد الصليح خضر","ولد",3,1]
[29,{"$f":"IF(AND(ورقة2!$H$2=ورقة1!I30,ورقة2!$F$2=ورقة1!H30,ورقة1!G30=\"ولد\"),1,0)","v":0},{"$f":"IF(B30=0,\"\",SUM($B$2:B30))","v":""},{"$f":"IF(AND(ورقة2!$H$2=ورقة1!I30,ورقة2!$F$2=ورقة1!H30,ورقة1!G30=\"بنت\"),1,0)","v":0},{"$f":"IF(D30=0,\"\",SUM($D$2:D30))","v":""},"اسلام محمد عبد العظيم محمد السيد","ولد",3,3]
[30,{"$f":"IF(AND(ورقة2!$H$2=ورقة1!I31,ورقة2!$F$2=ورقة1!H31,ورقة1!G31=\"ولد\"),1,0)","v":0},{"$f":"IF(B31=0,\"\",SUM($B$2:B31))","v":""},{"$f":"IF(AND(ورقة2!$H$2=ورقة1!I31,ورقة2!$F$2=ورقة1!H31,ورقة1!G31=\"بنت\"),1,0)","v":0},{"$f":"IF(D31=0,\"\",SUM($D$2:D31))","v":""},"اسلام محمد فهمى محمد برقوقى زيدان","ولد",3,1]
[31,{"$f":"IF(AND(ورقة2!$H$2=ورقة1!I32,ورقة2!$F$2=ورقة1!H32,ورقة1!G32=\"ولد\"),1,0)","v":0},{"$f":"IF(B32=0,\"\",SUM($B$2:B32))","v":""},{"$f":"IF(AND(ورقة2!$H$2=ورقة1!I32,ورقة2!$F$2=ورقة1!H32,ورقة1!G32=\"بنت\"),1,0)","v":0},{"$f":"IF(D32=0,\"\",SUM($D$2:D32))","v":""},"السعيد وجيه سعيد عبد المقصود متولى","ولد",3,1]
[32,{"$f":"IF(AND(ورقة2!$H$2=ورقة1!I33,ورقة2!$F$2=ورقة1!H33,ورقة1!G33=\"ولد\"),1,0)","v":0},{"$f":"IF(B33=0,\"\",SUM($B$2:B33))","v":""},{"$f":"IF(AND(ورقة2!$H$2=ورقة1!I33,ورقة2!$F$2=ورقة1!H33,ورقة1!G33=\"بنت\"),1,0)","v":0},{"$f":"IF(D33=0,\"\",SUM($D$2:D33))","v":""},"السيد محمد السيد عبد العظيم عبد الوهاب","ولد",3,2]
[33,{"$f":"IF(AND(ورقة2!$H$2=ورقة1!I34,ورقة2!$F$2=ورقة1!H34,ورقة1!G34=\"ولد\"),1,0)","v":0},{"$f":"IF(B34=0,\"\",SUM($B$2:B34))","v":""},{"$f":"IF(AND(ورقة2!$H$2=ورقة1!I34,ورقة2!$F$2=ورقة1!H34,ورقة1!G34=\"بنت\"),1,0)","v":0},{"$f":"IF(D34=0,\"\",SUM($D$2:D34))","v":""},"ايهاب محمد حلمى مهدى حلمى","ولد",3,2]
[34,{"$f":"IF(AND(ورقة2!$H$2=ورقة1!I35,ورقة2!$F$2=ورقة1!H35,ورقة1!G35=\"ولد\"),1,0)","v":0},{"$f":"IF(B35=0,\"\",SUM($B$2:B35))","v":""},{"$f":"IF(AND(ورقة2!$H$2=ورقة1!I35,ورقة2!$F$2=ورقة1!H35,ورقة1!G35=\"بنت\"),1,0)","v":0},{"$f":"IF(D35=0,\"\",SUM($D$2:D35))","v":""},"بدر محمد بدر محمد سرحان","ولد",3,2]
[35,{"$f":"IF(AND(ورقة2!$H$2=ورقة1!I36,ورقة2!$F$2=ورقة1!H36,ورقة1!G36=\"ولد\"),1,0)","v":0},{"$f":"IF(B36=0,\"\",SUM($B$2:B36))","v":""},{"$f":"IF(AND(ورقة2!$H$2=ورقة1!I36,ورقة2!$F$2=ورقة1!H36,ورقة1!G36=\"بنت\"),1,0)","v":0},{"$f":"IF(D36=0,\"\",SUM($D$2:D36))","v":""},"بدر محمد محمود محمد عبد الصبور","ولد",3,2]
[36,{"$f":"IF(AND(ورقة2!$H$2=ورقة1!I37,ورقة2!$F$2=ورقة1!H37,ورقة1!G37=\"ولد\"),1,0)","v":0},{"$f":"IF(B37=0,\"\",SUM($B$2:B37))","v":""},{"$f":"IF(AND(ورقة2!$H$2=ورقة1!I37,ورقة2!$F$2=ورقة1!H37,ورقة1!G37=\"بنت\"),1,0)","v":0},{"$f":"IF(D37=0,\"\",SUM($D$2:D37))","v":""},"جلال عابد جلال زيدان","ولد",3,2]
[37,{"$f":"IF(AND(ورقة2!$H$2=ورقة1!I38,ورقة2!$F$2=ورقة1!H38,ورقة1!G38=\"ولد\"),1,0)","v":0},{"$f":"IF(B38=0,\"\",SUM($B$2:B38))","v":""},{"$f":"IF(AND(ورقة2!$H$2=ورقة1!I38,ورقة2!$F$2=ورقة1!H38,ورقة1!G38=\"بنت\"),1,0)","v":0},{"$f":"IF(D38=0,\"\",SUM($D$2:D38))","v":""},"جمال محمد احمد على ابوالعينين","ولد",3,2]
[38,{"$f":"IF(AND(ورقة2!$H$2=ورقة1!I39,ورقة2!$F$2=ورقة1!H39,ورقة1!G39=\"ولد\"),1,0)","v":0},{"$f":"IF(B39=0,\"\",SUM($B$2:B39))","v":""},{"$f":"IF(AND(ورقة2!$H$2=ورقة1!I39,ورقة2!$F$2=ورقة1!H39,ورقة1!G39=\"بنت\"),1,0)","v":0},{"$f":"IF(D39=0,\"\",SUM($D$2:D39))","v":""},"حسن محمد حسن الصياد كليب","ولد",3,2]
[39,{"$f":"IF(AND(ورقة2!$H$2=ورقة1!I40,ورقة2!$F$2=ورقة1!H40,ورقة1!G40=\"ولد\"),1,0)","v":1},{"$f":"IF(B40=0,\"\",SUM($B$2:B40))","v":1},{"$f":"IF(AND(ورقة2!$H$2=ورقة1!I40,ورقة2!$F$2=ورقة1!H40,ورقة1!G40=\"بنت\"),1,0)","v":0},{"$f":"IF(D40=0,\"\",SUM($D$2:D40))","v":""},"حسنى اكمل حسنى محمد فريد حشيش","ولد",3,4]
[40,{"$f":"IF(AND(ورقة2!$H$2=ورقة1!I41,ورقة2!$F$2=ورقة1!H41,ورقة1!G41=\"ولد\"),1,0)","v":0},{"$f":"IF(B41=0,\"\",SUM($B$2:B41))","v":""},{"$f":"IF(AND(ورقة2!$H$2=ورقة1!I41,ورقة2!$F$2=ورقة1!H41,ورقة1!G41=\"بنت\"),1,0)","v":0},{"$f":"IF(D41=0,\"\",SUM($D$2:D41))","v":""},"حمد جبر جمال محمد الصياد حلوة","ولد",3,2]
[41,{"$f":"IF(AND(ورقة2!$H$2=ورقة1!I42,ورقة2!$F$2=ورقة1!H42,ورقة1!G42=\"ولد\"),1,0)","v":0},{"$f":"IF(B42=0,\"\",SUM($B$2:B42))","v":""},{"$f":"IF(AND(ورقة2!$H$2=ورقة1!I42,ورقة2!$F$2=ورقة1!H42,ورقة1!G42=\"بنت\"),1,0)","v":0},{"$f":"IF(D42=0,\"\",SUM($D$2:D42))","v":""},"حمدان طه حمدان طه محمد قدوسة","ولد",3,2]
[42,{"$f":"IF(AND(ورقة2!$H$2=ورقة1!I43,ورقة2!$F$2=ورقة1!H43,ورقة1!G43=\"ولد\"),1,0)","v":0},{"$f":"IF(B43=0,\"\",SUM($B$2:B43))","v":""},{"$f":"IF(AND(ورقة2!$H$2=ورقة1!I43,ورقة2!$F$2=ورقة1!H43,ورقة1!G43=\"بنت\"),1,0)","v":0},{"$f":"IF(D43=0,\"\",SUM($D$2:D43))","v":""},"حمزة عمار اسماعيل الشحات مصطفى","ولد",3,2]
[43,{"$f":"IF(AND(ورقة2!$H$2=ورقة1!I44,ورقة2!$F$2=ورقة1!H44,ورقة1!G44=\"ولد\"),1,0)","v":0},{"$f":"IF(B44=0,\"\",SUM($B$2:B44))","v":""},{"$f":"IF(AND(ورقة2!$H$2=ورقة1!I44,ورقة2!$F$2=ورقة1!H44,ورقة1!G44=\"بنت\"),1,0)","v":0},{"$f":"IF(D44=0,\"\",SUM($D$2:D44))","v":""},"حمزه محمد السعيد حسنى عبدالعليم","ولد",3,1]
[44,{"$f":"IF(AND(ورقة2!$H$2=ورقة1!I45,ورقة2!$F$2=ورقة1!H45,ورقة1!G45=\"ولد\"),1,0)","v":0},{"$f":"IF(B45=0,\"\",SUM($B$2:B45))","v":""},{"$f":"IF(AND(ورقة2!$H$2=ورقة1!I45,ورقة2!$F$2=ورقة1!H45,ورقة1!G45=\"بنت\"),1,0)","v":0},{"$f":"IF(D45=0,\"\",SUM($D$2:D45))","v":""},"رمضان خالد رمضان السيد السيد عتمان","ولد",3,2]
[45,{"$f":"IF(AND(ورقة2!$H$2=ورقة1!I46,ورقة2!$F$2=ورقة1!H46,ورقة1!G46=\"ولد\"),1,0)","v":0},{"$f":"IF(B46=0,\"\",SUM($B$2:B46))","v":""},{"$f":"IF(AND(ورقة2!$H$2=ورقة1!I46,ورقة2!$F$2=ورقة1!H46,ورقة1!G46=\"بنت\"),1,0)","v":0},{"$f":"IF(D46=0,\"\",SUM($D$2:D46))","v":""},"زياد اسلام احمد محمد حينى عبد الفتاح","ولد",3,2]
[46,{"$f":"IF(AND(ورقة2!$H$2=ورقة1!I47,ورقة2!$F$2=ورقة1!H47,ورقة1!G47=\"ولد\"),1,0)","v":0},{"$f":"IF(B47=0,\"\",SUM($B$2:B47))","v":""},{"$f":"IF(AND(ورقة2!$H$2=ورقة1!I47,ورقة2!$F$2=ورقة1!H47,ورقة1!G47=\"بنت\"),1,0)","v":0},{"$f":"IF(D47=0,\"\",SUM($D$2:D47))","v":""},"زياد عبد العظيم السيد عبد العظيم عبد الوهاب","ولد",3,2]
[47,{"$f":"IF(AND(ورقة2!$H$2=ورقة1!I48,ورقة2!$F$2=ورقة1!H48,ورقة1!G48=\"ولد\"),1,0)","v":0},{"$f":"IF(B48=0,\"\",SUM($B$2:B48))","v":""},{"$f":"IF(AND(ورقة2!$H$2=ورقة1!I48,ورقة2!$F$2=ورقة1!H48,ورقة1!G48=\"بنت\"),1,0)","v":0},{"$f":"IF(D48=0,\"\",SUM($D$2:D48))","v":""},"زياد وائل مصلح عبدالمعطى خميس","ولد",3,2]
[48,{"$f":"IF(AND(ورقة2!$H$2=ورقة1!I49,ورقة2!$F$2=ورقة1!H49,ورقة1!G49=\"ولد\"),1,0)","v":0},{"$f":"IF(B49=0,\"\",SUM($B$2:B49))","v":""},{"$f":"IF(AND(ورقة2!$H$2=ورقة1!I49,ورقة2!$F$2=ورقة1!H49,ورقة1!G49=\"بنت\"),1,0)","v":0},{"$f":"IF(D49=0,\"\",SUM($D$2:D49))","v":""},"سعد محمد سعد احمدعبد الرحمن خفاجى","ولد",3,2]
[49,{"$f":"IF(AND(ورقة2!$H$2=ورقة1!I50,ورقة2!$F$2=ورقة1!H50,ورقة1!G50=\"ولد\"),1,0)","v":0},{"$f":"IF(B50=0,\"\",SUM($B$2:B50))","v":""},{"$f":"IF(AND(ورقة2!$H$2=ورقة1!I50,ورقة2!$F$2=ورقة1!H50,ورقة1!G50=\"بنت\"),1,0)","v":0},{"$f":"IF(D50=0,\"\",SUM($D$2:D50))","v":""},"سيد ابراهيم سيد ابراهيم حسنين عبد اللطيف","ولد",3,5]
[50,{"$f":"IF(AND(ورقة2!$H$2=ورقة1!I51,ورقة2!$F$2=ورقة1!H51,ورقة1!G51=\"ولد\"),1,0)","v":0},{"$f":"IF(B51=0,\"\",SUM($B$2:B51))","v":""},{"$f":"IF(AND(ورقة2!$H$2=ورقة1!I51,ورقة2!$F$2=ورقة1!H51,ورقة1!G51=\"بنت\"),1,0)","v":0},{"$f":"IF(D51=0,\"\",SUM($D$2:D51))","v":""},"سيف اسلام محمد محمود محمد قدوسة","ولد",3,2]
[51,{"$f":"IF(AND(ورقة2!$H$2=ورقة1!I52,ورقة2!$F$2=ورقة1!H52,ورقة1!G52=\"ولد\"),1,0)","v":0},{"$f":"IF(B52=0,\"\",SUM($B$2:B52))","v":""},{"$f":"IF(AND(ورقة2!$H$2=ورقة1!I52,ورقة2!$F$2=ورقة1!H52,ورقة1!G52=\"بنت\"),1,0)","v":0},{"$f":"IF(D52=0,\"\",SUM($D$2:D52))","v":""},"شهاب الدين محمد سعيد عبدالرحمن","ولد",3,2]
[52,{"$f":"IF(AND(ورقة2!$H$2=ورقة1!I53,ورقة2!$F$2=ورقة1!H53,ورقة1!G53=\"ولد\"),1,0)","v":0},{"$f":"IF(B53=0,\"\",SUM($B$2:B53))","v":""},{"$f":"IF(AND(ورقة2!$H$2=ورقة1!I53,ورقة2!$F$2=ورقة1!H53,ورقة1!G53=\"بنت\"),1,0)","v":0},{"$f":"IF(D53=0,\"\",SUM($D$2:D53))","v":""},"عابد محمد عابد سليمان زيدان","ولد",3,2]
[53,{"$f":"IF(AND(ورقة2!$H$2=ورقة1!I54,ورقة2!$F$2=ورقة1!H54,ورقة1!G54=\"ولد\"),1,0)","v":0},{"$f":"IF(B54=0,\"\",SUM($B$2:B54))","v":""},{"$f":"IF(AND(ورقة2!$H$2=ورقة1!I54,ورقة2!$F$2=ورقة1!H54,ورقة1!G54=\"بنت\"),1,0)","v":0},{"$f":"IF(D54=0,\"\",SUM($D$2:D54))","v":""},"عادل وائل عبدالغنى السيد عمارة","ولد",3,2]
[54,{"$f":"IF(AND(ورقة2!$H$2=ورقة1!I55,ورقة2!$F$2=ورقة1!H55,ورقة1!G55=\"ولد\"),1,0)","v":0},{"$f":"IF(B55=0,\"\",SUM($B$2:B55))","v":""},{"$f":"IF(AND(ورقة2!$H$2=ورقة1!I55,ورقة2!$F$2=ورقة1!H55,ورقة1!G55=\"بنت\"),1,0)","v":0},{"$f":"IF(D55=0,\"\",SUM($D$2:D55))","v":""},"عبد الحميد تامر برقوقى عبد الحميد عبد الرحمن زيدان","ولد",3,2]
[55,{"$f":"IF(AND(ورقة2!$H$2=ورقة1!I56,ورقة2!$F$2=ورقة1!H56,ورقة1!G56=\"ولد\"),1,0)","v":0},{"$f":"IF(B56=0,\"\",SUM($B$2:B56))","v":""},{"$f":"IF(AND(ورقة2!$H$2=ورقة1!I56,ورقة2!$F$2=ورقة1!H56,ورقة1!G56=\"بنت\"),1,0)","v":0},{"$f":"IF(D56=0,\"\",SUM($D$2:D56))","v":""},"عبد الرحمن اسامة محمد عبد البر محمد شرف الدين","ولد",3,2]
[56,{"$f":"IF(AND(ورقة2!$H$2=ورقة1!I57,ورقة2!$F$2=ورقة1!H57,ورقة1!G57=\"ولد\"),1,0)","v":0},{"$f":"IF(B57=0,\"\",SUM($B$2:B57))","v":""},{"$f":"IF(AND(ورقة2!$H$2=ورقة1!I57,ورقة2!$F$2=ورقة1!H57,ورقة1!G57=\"بنت\"),1,0)","v":0},{"$f":"IF(D57=0,\"\",SUM($D$2:D57))","v":""},"عبد الرحمن حامد احمد عبد الرحمن السيد شرع","ولد",3,2]
[57,{"$f":"IF(AND(ورقة2!$H$2=ورقة1!I58,ورقة2!$F$2=ورقة1!H58,ورقة1!G58=\"ولد\"),1,0)","v":0},{"$f":"IF(B58=0,\"\",SUM($B$2:B58))","v":""},{"$f":"IF(AND(ورقة2!$H$2=ورقة1!I58,ورقة2!$F$2=ورقة1!H58,ورقة1!G58=\"بنت\"),1,0)","v":0},{"$f":"IF(D58=0,\"\",SUM($D$2:D58))","v":""},"عبد الرحمن ماهر عبد الرحمن محمد عفيفى","ولد",3,2]
[58,{"$f":"IF(AND(ورقة2!$H$2=ورقة1!I59,ورقة2!$F$2=ورقة1!H59,ورقة1!G59=\"ولد\"),1,0)","v":0},{"$f":"IF(B59=0,\"\",SUM($B$2:B59))","v":""},{"$f":"IF(AND(ورقة2!$H$2=ورقة1!I59,ورقة2!$F$2=ورقة1!H59,ورقة1!G59=\"بنت\"),1,0)","v":0},{"$f":"IF(D59=0,\"\",SUM($D$2:D59))","v":""},"عبد الرحمن محمد شرف محمد شرف","ولد",3,2]
[59,{"$f":"IF(AND(ورقة2!$H$2=ورقة1!I60,ورقة2!$F$2=ورقة1!H60,ورقة1!G60=\"ولد\"),1,0)","v":0},{"$f":"IF(B60=0,\"\",SUM($B$2:B60))","v":""},{"$f":"IF(AND(ورقة2!$H$2=ورقة1!I60,ورقة2!$F$2=ورقة1!H60,ورقة1!G60=\"بنت\"),1,0)","v":0},{"$f":"IF(D60=0,\"\",SUM($D$2:D60))","v":""},"عبد الرحمن محمد عبد الرحمن على محمد عبد الناصر","ولد",3,2]
[60,{"$f":"IF(AND(ورقة2!$H$2=ورقة1!I61,ورقة2!$F$2=ورقة1!H61,ورقة1!G61=\"ولد\"),1,0)","v":0},{"$f":"IF(B61=0,\"\",SUM($B$2:B61))","v":""},{"$f":"IF(AND(ورقة2!$H$2=ورقة1!I61,ورقة2!$F$2=ورقة1!H61,ورقة1!G61=\"بنت\"),1,0)","v":0},{"$f":"IF(D61=0,\"\",SUM($D$2:D61))","v":""},"عبد الرحمن ممدوح عبد الهادى كمال حسنين","ولد",3,2]
[61,{"$f":"IF(AND(ورقة2!$H$2=ورقة1!I62,ورقة2!$F$2=ورقة1!H62,ورقة1!G62=\"ولد\"),1,0)","v":0},{"$f":"IF(B62=0,\"\",SUM($B$2:B62))","v":""},{"$f":"IF(AND(ورقة2!$H$2=ورقة1!I62,ورقة2!$F$2=ورقة1!H62,ورقة1!G62=\"بنت\"),1,0)","v":0},{"$f":"IF(D62=0,\"\",SUM($D$2:D62))","v":""},"عبد الفتاح سمير عبد الفتاح سالم كليب","ولد",3,2]
[62,{"$f":"IF(AND(ورقة2!$H$2=ورقة1!I63,ورقة2!$F$2=ورقة1!H63,ورقة1!G63=\"ولد\"),1,0)","v":0},{"$f":"IF(B63=0,\"\",SUM($B$2:B63))","v":""},{"$f":"IF(AND(ورقة2!$H$2=ورقة1!I63,ورقة2!$F$2=ورقة1!H63,ورقة1!G63=\"بنت\"),1,0)","v":0},{"$f":"IF(D63=0,\"\",SUM($D$2:D63))","v":""},"عبد الفتاح محمد عبد الفتاح عفيفى عبد الرحمن","ولد",3,2]
[63,{"$f":"IF(AND(ورقة2!$H$2=ورقة1!I64,ورقة2!$F$2=ورقة1!H64,ورقة1!G64=\"ولد\"),1,0)","v":0},{"$f":"IF(B64=0,\"\",SUM($B$2:B64))","v":""},{"$f":"IF(AND(ورقة2!$H$2=ورقة1!I64,ورقة2!$F$2=ورقة1!H64,ورقة1!G64=\"بنت\"),1,0)","v":0},{"$f":"IF(D64=0,\"\",SUM($D$2:D64))","v":""},"عبد الله تامر عبد الله عبد المنعم عبد الحليم","ولد",3,5]
[64,{"$f":"IF(AND(ورقة2!$H$2=ورقة1!I65,ورقة2!$F$2=ورقة1!H65,ورقة1!G65=\"ولد\"),1,0)","v":0},{"$f":"IF(B65=0,\"\",SUM($B$2:B65))","v":""},{"$f":"IF(AND(ورقة2!$H$2=ورقة1!I65,ورقة2!$F$2=ورقة1!H65,ورقة1!G65=\"بنت\"),1,0)","v":0},{"$f":"IF(D65=0,\"\",SUM($D$2:D65))","v":""},"عبد المعطى سامى عبد المعطى عبد الفتاح زيدان","ولد",3,3]
[65,{"$f":"IF(AND(ورقة2!$H$2=ورقة1!I66,ورقة2!$F$2=ورقة1!H66,ورقة1!G66=\"ولد\"),1,0)","v":0},{"$f":"IF(B66=0,\"\",SUM($B$2:B66))","v":""},{"$f":"IF(AND(ورقة2!$H$2=ورقة1!I66,ورقة2!$F$2=ورقة1!H66,ورقة1!G66=\"بنت\"),1,0)","v":0},{"$f":"IF(D66=0,\"\",SUM($D$2:D66))","v":""},"عبد المنعم زكى عبد المنعم زكى المستكاوى","ولد",3,3]
[66,{"$f":"IF(AND(ورقة2!$H$2=ورقة1!I67,ورقة2!$F$2=ورقة1!H67,ورقة1!G67=\"ولد\"),1,0)","v":0},{"$f":"IF(B67=0,\"\",SUM($B$2:B67))","v":""},{"$f":"IF(AND(ورقة2!$H$2=ورقة1!I67,ورقة2!$F$2=ورقة1!H67,ورقة1!G67=\"بنت\"),1,0)","v":0},{"$f":"IF(D67=0,\"\",SUM($D$2:D67))","v":""},"عبد المنعم سعد عبد المنعم محمد هلال","ولد",3,1]
[67,{"$f":"IF(AND(ورقة2!$H$2=ورقة1!I68,ورقة2!$F$2=ورقة1!H68,ورقة1!G68=\"ولد\"),1,0)","v":0},{"$f":"IF(B68=0,\"\",SUM($B$2:B68))","v":""},{"$f":"IF(AND(ورقة2!$H$2=ورقة1!I68,ورقة2!$F$2=ورقة1!H68,ورقة1!G68=\"بنت\"),1,0)","v":0},{"$f":"IF(D68=0,\"\",SUM($D$2:D68))","v":""},"عبد المنعم محمد محمود عبد المنعم مدنى","ولد",3,3]
[68,{"$f":"IF(AND(ورقة2!$H$2=ورقة1!I69,ورقة2!$F$2=ورقة1!H69,ورقة1!G69=\"ولد\"),1,0)","v":0},{"$f":"IF(B69=0,\"\",SUM($B$2:B69))","v":""},{"$f":"IF(AND(ورقة2!$H$2=ورقة1!I69,ورقة2!$F$2=ورقة1!H69,ورقة1!G69=\"بنت\"),1,0)","v":0},{"$f":"IF(D69=0,\"\",SUM($D$2:D69))","v":""},"عبد الهادى طه السيد عيد خليل","ولد",3,3]
[69,{"$f":"IF(AND(ورقة2!$H$2=ورقة1!I70,ورقة2!$F$2=ورقة1!H70,ورقة1!G70=\"ولد\"),1,0)","v":0},{"$f":"IF(B70=0,\"\",SUM($B$2:B70))","v":""},{"$f":"IF(AND(ورقة2!$H$2=ورقة1!I70,ورقة2!$F$2=ورقة1!H70,ورقة1!G70=\"بنت\"),1,0)","v":0},{"$f":"IF(D70=0,\"\",SUM($D$2:D70))","v":""},"عبد الوهاب صلاح احمد عبد الجواد المستكاوى","ولد",3,2]
[70,{"$f":"IF(AND(ورقة2!$H$2=ورقة1!I71,ورقة2!$F$2=ورقة1!H71,ورقة1!G71=\"ولد\"),1,0)","v":0},{"$f":"IF(B71=0,\"\",SUM($B$2:B71))","v":""},{"$f":"IF(AND(ورقة2!$H$2=ورقة1!I71,ورقة2!$F$2=ورقة1!H71,ورقة1!G71=\"بنت\"),1,0)","v":0},{"$f":"IF(D71=0,\"\",SUM($D$2:D71))","v":""},"عبدالرحمن ياسر عبدالرحمن عبدالوهاب عفيفى","ولد",3,3]
[71,{"$f":"IF(AND(ورقة2!$H$2=ورقة1!I72,ورقة2!$F$2=ورقة1!H72,ورقة1!G72=\"ولد\"),1,0)","v":0},{"$f":"IF(B72=0,\"\",SUM($B$2:B72))","v":""},{"$f":"IF(AND(ورقة2!$H$2=ورقة1!I72,ورقة2!$F$2=ورقة1!H72,ورقة1!G72=\"بنت\"),1,0)","v":0},{"$f":"IF(D72=0,\"\",SUM($D$2:D72))","v":""},"عبدالله عمرو صلاح عبدالهادى احمد طبيخ","ولد",3,3]
[72,{"$f":"IF(AND(ورقة2!$H$2=ورقة1!I73,ورقة2!$F$2=ورقة1!H73,ورقة1!G73=\"ولد\"),1,0)","v":0},{"$f":"IF(B73=0,\"\",SUM($B$2:B73))","v":""},{"$f":"IF(AND(ورقة2!$H$2=ورقة1!I73,ورقة2!$F$2=ورقة1!H73,ورقة1!G73=\"بنت\"),1,0)","v":0},{"$f":"IF(D73=0,\"\",SUM($D$2:D73))","v":""},"عزت سامى عزت حسنى حسنين","ولد",3,3]
[73,{"$f":"IF(AND(ورقة2!$H$2=ورقة1!I74,ورقة2!$F$2=ورقة1!H74,ورقة1!G74=\"ولد\"),1,0)","v":0},{"$f":"IF(B74=0,\"\",SUM($B$2:B74))","v":""},{"$f":"IF(AND(ورقة2!$H$2=ورقة1!I74,ورقة2!$F$2=ورقة1!H74,ورقة1!G74=\"بنت\"),1,0)","v":0},{"$f":"IF(D74=0,\"\",SUM($D$2:D74))","v":""},"على زين العابدين عبده رزق سرحان","ولد",3,3]
[74,{"$f":"IF(AND(ورقة2!$H$2=ورقة1!I75,ورقة2!$F$2=ورقة1!H75,ورقة1!G75=\"ولد\"),1,0)","v":0},{"$f":"IF(B75=0,\"\",SUM($B$2:B75))","v":""},{"$f":"IF(AND(ورقة2!$H$2=ورقة1!I75,ورقة2!$F$2=ورقة1!H75,ورقة1!G75=\"بنت\"),1,0)","v":0},{"$f":"IF(D75=0,\"\",SUM($D$2:D75))","v":""},"على عصام عبد الفتاح فتحى النجار","ولد",3,3]
[75,{"$f":"IF(AND(ورقة2!$H$2=ورقة1!I76,ورقة2!$F$2=ورقة1!H76,ورقة1!G76=\"ولد\"),1,0)","v":1},{"$f":"IF(B76=0,\"\",SUM($B$2:B76))","v":2},{"$f":"IF(AND(ورقة2!$H$2=ورقة1!I76,ورقة2!$F$2=ورقة1!H76,ورقة1!G76=\"بنت\"),1,0)","v":0},{"$f":"IF(D76=0,\"\",SUM($D$2:D76))","v":""},"على عماد على محمد على دومة","ولد",3,4]
[76,{"$f":"IF(AND(ورقة2!$H$2=ورقة1!I77,ورقة2!$F$2=ورقة1!H77,ورقة1!G77=\"ولد\"),1,0)","v":0},{"$f":"IF(B77=0,\"\",SUM($B$2:B77))","v":""},{"$f":"IF(AND(ورقة2!$H$2=ورقة1!I77,ورقة2!$F$2=ورقة1!H77,ورقة1!G77=\"بنت\"),1,0)","v":0},{"$f":"IF(D77=0,\"\",SUM($D$2:D77))","v":""},"عمار محمد عبدالمجيد عبدالفتاح عبدالمجيد","ولد",3,3]
[77,{"$f":"IF(AND(ورقة2!$H$2=ورقة1!I78,ورقة2!$F$2=ورقة1!H78,ورقة1!G78=\"ولد\"),1,0)","v":0},{"$f":"IF(B78=0,\"\",SUM($B$2:B78))","v":""},{"$f":"IF(AND(ورقة2!$H$2=ورقة1!I78,ورقة2!$F$2=ورقة1!H78,ورقة1!G78=\"بنت\"),1,0)","v":0},{"$f":"IF(D78=0,\"\",SUM($D$2:D78))","v":""},"عمر ابراهيم حسنين ابراهيم حسنين","ولد",3,3]
[78,{"$f":"IF(AND(ورقة2!$H$2=ورقة1!I79,ورقة2!$F$2=ورقة1!H79,ورقة1!G79=\"ولد\"),1,0)","v":0},{"$f":"IF(B79=0,\"\",SUM($B$2:B79))","v":""},{"$f":"IF(AND(ورقة2!$H$2=ورقة1!I79,ورقة2!$F$2=ورقة1!H79,ورقة1!G79=\"بنت\"),1,0)","v":0},{"$f":"IF(D79=0,\"\",SUM($D$2:D79))","v":""},"عمر احمد ابراهيم جاد عطية","ولد",3,3]
[79,{"$f":"IF(AND(ورقة2!$H$2=ورقة1!I80,ورقة2!$F$2=ورقة1!H80,ورقة1!G80=\"ولد\"),1,0)","v":0},{"$f":"IF(B80=0,\"\",SUM($B$2:B80))","v":""},{"$f":"IF(AND(ورقة2!$H$2=ورقة1!I80,ورقة2!$F$2=ورقة1!H80,ورقة1!G80=\"بنت\"),1,0)","v":0},{"$f":"IF(D80=0,\"\",SUM($D$2:D80))","v":""},"عمر احمد صلاح سعيد","ولد",3,3]
[80,{"$f":"IF(AND(ورقة2!$H$2=ورقة1!I81,ورقة2!$F$2=ورقة1!H81,ورقة1!G81=\"ولد\"),1,0)","v":0},{"$f":"IF(B81=0,\"\",SUM($B$2:B81))","v":""},{"$f":"IF(AND(ورقة2!$H$2=ورقة1!I81,ورقة2!$F$2=ورقة1!H81,ورقة1!G81=\"بنت\"),1,0)","v":0},{"$f":"IF(D81=0,\"\",SUM($D$2:D81))","v":""},"عمر تامر عبد الفتاح رفاعى على دومة","ولد",3,3]
[81,{"$f":"IF(AND(ورقة2!$H$2=ورقة1!I82,ورقة2!$F$2=ورقة1!H82,ورقة1!G82=\"ولد\"),1,0)","v":0},{"$f":"IF(B82=0,\"\",SUM($B$2:B82))","v":""},{"$f":"IF(AND(ورقة2!$H$2=ورقة1!I82,ورقة2!$F$2=ورقة1!H82,ورقة1!G82=\"بنت\"),1,0)","v":0},{"$f":"IF(D82=0,\"\",SUM($D$2:D82))","v":""},"عمر ثروت جمال جمال فتحى محمد","ولد",3,3]
[82,{"$f":"IF(AND(ورقة2!$H$2=ورقة1!I83,ورقة2!$F$2=ورقة1!H83,ورقة1!G83=\"ولد\"),1,0)","v":0},{"$f":"IF(B83=0,\"\",SUM($B$2:B83))","v":""},{"$f":"IF(AND(ورقة2!$H$2=ورقة1!I83,ورقة2!$F$2=ورقة1!H83,ورقة1!G83=\"بنت\"),1,0)","v":0},{"$f":"IF(D83=0,\"\",SUM($D$2:D83))","v":""},"عمر سامح عبدالفتاح محمد جابر مسلم","ولد",3,3]
[83,{"$f":"IF(AND(ورقة2!$H$2=ورقة1!I84,ورقة2!$F$2=ورقة1!H84,ورقة1!G84=\"ولد\"),1,0)","v":0},{"$f":"IF(B84=0,\"\",SUM($B$2:B84))","v":""},{"$f":"IF(AND(ورقة2!$H$2=ورقة1!I84,ورقة2!$F$2=ورقة1!H84,ورقة1!G84=\"بنت\"),1,0)","v":0},{"$f":"IF(D84=0,\"\",SUM($D$2:D84))","v":""},"عمر عبد الرشيد نصر عبد الرشيد السيد","ولد",3,3]
[84,{"$f":"IF(AND(ورقة2!$H$2=ورقة1!I85,ورقة2!$F$2=ورقة1!H85,ورقة1!G85=\"ولد\"),1,0)","v":0},{"$f":"IF(B85=0,\"\",SUM($B$2:B85))","v":""},{"$f":"IF(AND(ورقة2!$H$2=ورقة1!I85,ورقة2!$F$2=ورقة1!H85,ورقة1!G85=\"بنت\"),1,0)","v":0},{"$f":"IF(D85=0,\"\",SUM($D$2:D85))","v":""},"عمر عماد محمد منصور محمد الشيخ","ولد",3,3]
[85,{"$f":"IF(AND(ورقة2!$H$2=ورقة1!I86,ورقة2!$F$2=ورقة1!H86,ورقة1!G86=\"ولد\"),1,0)","v":0},{"$f":"IF(B86=0,\"\",SUM($B$2:B86))","v":""},{"$f":"IF(AND(ورقة2!$H$2=ورقة1!I86,ورقة2!$F$2=ورقة1!H86,ورقة1!G86=\"بنت\"),1,0)","v":0},{"$f":"IF(D86=0,\"\",SUM($D$2:D86))","v":""},"عمر محمد ابراهيم محمد الهادى عبدالحليم","ولد",3,3]
[86,{"$f":"IF(AND(ورقة2!$H$2=ورقة1!I87,ورقة2!$F$2=ورقة1!H87,ورقة1!G87=\"ولد\"),1,0)","v":0},{"$f":"IF(B87=0,\"\",SUM($B$2:B87))","v":""},{"$f":"IF(AND(ورقة2!$H$2=ورقة1!I87,ورقة2!$F$2=ورقة1!H87,ورقة1!G87=\"بنت\"),1,0)","v":0},{"$f":"IF(D87=0,\"\",SUM($D$2:D87))","v":""},"عمر محمد سعد منصور ابراهيم","ولد",3,2]
[87,{"$f":"IF(AND(ورقة2!$H$2=ورقة1!I88,ورقة2!$F$2=ورقة1!H88,ورقة1!G88=\"ولد\"),1,0)","v":0},{"$f":"IF(B88=0,\"\",SUM($B$2:B88))","v":""},{"$f":"IF(AND(ورقة2!$H$2=ورقة1!I88,ورقة2!$F$2=ورقة1!H88,ورقة1!G88=\"بنت\"),1,0)","v":0},{"$f":"IF(D88=0,\"\",SUM($D$2:D88))","v":""},"عمر محمد عبد اللطيف السيد ابراهيم الرزاز","ولد",3,3]
[88,{"$f":"IF(AND(ورقة2!$H$2=ورقة1!I89,ورقة2!$F$2=ورقة1!H89,ورقة1!G89=\"ولد\"),1,0)","v":0},{"$f":"IF(B89=0,\"\",SUM($B$2:B89))","v":""},{"$f":"IF(AND(ورقة2!$H$2=ورقة1!I89,ورقة2!$F$2=ورقة1!H89,ورقة1!G89=\"بنت\"),1,0)","v":0},{"$f":"IF(D89=0,\"\",SUM($D$2:D89))","v":""},"عمرو حسام عمرو عبدالهادى عمرو حسين","ولد",3,1]
[89,{"$f":"IF(AND(ورقة2!$H$2=ورقة1!I90,ورقة2!$F$2=ورقة1!H90,ورقة1!G90=\"ولد\"),1,0)","v":0},{"$f":"IF(B90=0,\"\",SUM($B$2:B90))","v":""},{"$f":"IF(AND(ورقة2!$H$2=ورقة1!I90,ورقة2!$F$2=ورقة1!H90,ورقة1!G90=\"بنت\"),1,0)","v":0},{"$f":"IF(D90=0,\"\",SUM($D$2:D90))","v":""},"عمرو طه السعيد عبد الحليم عبد المرضى","ولد",3,3]
[90,{"$f":"IF(AND(ورقة2!$H$2=ورقة1!I91,ورقة2!$F$2=ورقة1!H91,ورقة1!G91=\"ولد\"),1,0)","v":0},{"$f":"IF(B91=0,\"\",SUM($B$2:B91))","v":""},{"$f":"IF(AND(ورقة2!$H$2=ورقة1!I91,ورقة2!$F$2=ورقة1!H91,ورقة1!G91=\"بنت\"),1,0)","v":0},{"$f":"IF(D91=0,\"\",SUM($D$2:D91))","v":""},"عمرو عصام عزام ابو عيد حسن عزام","ولد",3,3]
[91,{"$f":"IF(AND(ورقة2!$H$2=ورقة1!I92,ورقة2!$F$2=ورقة1!H92,ورقة1!G92=\"ولد\"),1,0)","v":0},{"$f":"IF(B92=0,\"\",SUM($B$2:B92))","v":""},{"$f":"IF(AND(ورقة2!$H$2=ورقة1!I92,ورقة2!$F$2=ورقة1!H92,ورقة1!G92=\"بنت\"),1,0)","v":0},{"$f":"IF(D92=0,\"\",SUM($D$2:D92))","v":""},"عمرو محمد عبد المنعم محمد عبد الفتاح","ولد",3,3]
[92,{"$f":"IF(AND(ورقة2!$H$2=ورقة1!I93,ورقة2!$F$2=ورقة1!H93,ورقة1!G93=\"ولد\"),1,0)","v":0},{"$f":"IF(B93=0,\"\",SUM($B$2:B93))","v":""},{"$f":"IF(AND(ورقة2!$H$2=ورقة1!I93,ورقة2!$F$2=ورقة1!H93,ورقة1!G93=\"بنت\"),1,0)","v":0},{"$f":"IF(D93=0,\"\",SUM($D$2:D93))","v":""},"عياد انيس شعبان انيس محمد عياد","ولد",3,3]
[93,{"$f":"IF(AND(ورقة2!$H$2=ورقة1!I94,ورقة2!$F$2=ورقة1!H94,ورقة1!G94=\"ولد\"),1,0)","v":0},{"$f":"IF(B94=0,\"\",SUM($B$2:B94))","v":""},{"$f":"IF(AND(ورقة2!$H$2=ورقة1!I94,ورقة2!$F$2=ورقة1!H94,ورقة1!G94=\"بنت\"),1,0)","v":0},{"$f":"IF(D94=0,\"\",SUM($D$2:D94))","v":""},"فارس هانى فرج ابراهيم شاهين","ولد",3,3]
[94,{"$f":"IF(AND(ورقة2!$H$2=ورقة1!I95,ورقة2!$F$2=ورقة1!H95,ورقة1!G95=\"ولد\"),1,0)","v":0},{"$f":"IF(B95=0,\"\",SUM($B$2:B95))","v":""},{"$f":"IF(AND(ورقة2!$H$2=ورقة1!I95,ورقة2!$F$2=ورقة1!H95,ورقة1!G95=\"بنت\"),1,0)","v":0},{"$f":"IF(D95=0,\"\",SUM($D$2:D95))","v":""},"فتحى محمد طه عبد الهادى احمد طبيخ","ولد",3,3]
[95,{"$f":"IF(AND(ورقة2!$H$2=ورقة1!I96,ورقة2!$F$2=ورقة1!H96,ورقة1!G96=\"ولد\"),1,0)","v":0},{"$f":"IF(B96=0,\"\",SUM($B$2:B96))","v":""},{"$f":"IF(AND(ورقة2!$H$2=ورقة1!I96,ورقة2!$F$2=ورقة1!H96,ورقة1!G96=\"بنت\"),1,0)","v":0},{"$f":"IF(D96=0,\"\",SUM($D$2:D96))","v":""},"فتوح يسرى فتوح عبدالمغنى عبده","ولد",3,5]
[96,{"$f":"IF(AND(ورقة2!$H$2=ورقة1!I97,ورقة2!$F$2=ورقة1!H97,ورقة1!G97=\"ولد\"),1,0)","v":1},{"$f":"IF(B97=0,\"\",SUM($B$2:B97))","v":3},{"$f":"IF(AND(ورقة2!$H$2=ورقة1!I97,ورقة2!$F$2=ورقة1!H97,ورقة1!G97=\"بنت\"),1,0)","v":0},{"$f":"IF(D97=0,\"\",SUM($D$2:D97))","v":""},"كريم طه محمد امام عسكر","ولد",3,4]
[97,{"$f":"IF(AND(ورقة2!$H$2=ورقة1!I98,ورقة2!$F$2=ورقة1!H98,ورقة1!G98=\"ولد\"),1,0)","v":0},{"$f":"IF(B98=0,\"\",SUM($B$2:B98))","v":""},{"$f":"IF(AND(ورقة2!$H$2=ورقة1!I98,ورقة2!$F$2=ورقة1!H98,ورقة1!G98=\"بنت\"),1,0)","v":0},{"$f":"IF(D98=0,\"\",SUM($D$2:D98))","v":""},"كريم مجدى عطية عبد المرضى هندى خفاجى","ولد",3,3]
[98,{"$f":"IF(AND(ورقة2!$H$2=ورقة1!I99,ورقة2!$F$2=ورقة1!H99,ورقة1!G99=\"ولد\"),1,0)","v":1},{"$f":"IF(B99=0,\"\",SUM($B$2:B99))","v":4},{"$f":"IF(AND(ورقة2!$H$2=ورقة1!I99,ورقة2!$F$2=ورقة1!H99,ورقة1!G99=\"بنت\"),1,0)","v":0},{"$f":"IF(D99=0,\"\",SUM($D$2:D99))","v":""},"كريم هانى فاروق حسن احمد","ولد",3,4]
[99,{"$f":"IF(AND(ورقة2!$H$2=ورقة1!I100,ورقة2!$F$2=ورقة1!H100,ورقة1!G100=\"ولد\"),1,0)","v":1},{"$f":"IF(B100=0,\"\",SUM($B$2:B100))","v":5},{"$f":"IF(AND(ورقة2!$H$2=ورقة1!I100,ورقة2!$F$2=ورقة1!H100,ورقة1!G100=\"بنت\"),1,0)","v":0},{"$f":"IF(D100=0,\"\",SUM($D$2:D100))","v":""},"كريم وليد امين سعيد امين هاشم","ولد",3,4]
[100,{"$f":"IF(AND(ورقة2!$H$2=ورقة1!I101,ورقة2!$F$2=ورقة1!H101,ورقة1!G101=\"ولد\"),1,0)","v":1},{"$f":"IF(B101=0,\"\",SUM($B$2:B101))","v":6},{"$f":"IF(AND(ورقة2!$H$2=ورقة1!I101,ورقة2!$F$2=ورقة1!H101,ورقة1!G101=\"بنت\"),1,0)","v":0},{"$f":"IF(D101=0,\"\",SUM($D$2:D101))","v":""},"كمال محمد كامل طه احمد عامر","ولد",3,4]
[101,{"$f":"IF(AND(ورقة2!$H$2=ورقة1!I102,ورقة2!$F$2=ورقة1!H102,ورقة1!G102=\"ولد\"),1,0)","v":1},{"$f":"IF(B102=0,\"\",SUM($B$2:B102))","v":7},{"$f":"IF(AND(ورقة2!$H$2=ورقة1!I102,ورقة2!$F$2=ورقة1!H102,ورقة1!G102=\"بنت\"),1,0)","v":0},{"$f":"IF(D102=0,\"\",SUM($D$2:D102))","v":""},"مامون احمد مامون احمد ابراهيم العرضى","ولد",3,4]
[102,{"$f":"IF(AND(ورقة2!$H$2=ورقة1!I103,ورقة2!$F$2=ورقة1!H103,ورقة1!G103=\"ولد\"),1,0)","v":1},{"$f":"IF(B103=0,\"\",SUM($B$2:B103))","v":8},{"$f":"IF(AND(ورقة2!$H$2=ورقة1!I103,ورقة2!$F$2=ورقة1!H103,ورقة1!G103=\"بنت\"),1,0)","v":0},{"$f":"IF(D103=0,\"\",SUM($D$2:D103))","v":""},"محمد احمد فوزى مطهر السعيد","ولد",3,4]
[103,{"$f":"IF(AND(ورقة2!$H$2=ورقة1!I104,ورقة2!$F$2=ورقة1!H104,ورقة1!G104=\"ولد\"),1,0)","v":1},{"$f":"IF(B104=0,\"\",SUM($B$2:B104))","v":9},{"$f":"IF(AND(ورقة2!$H$2=ورقة1!I104,ورقة2!$F$2=ورقة1!H104,ورقة1!G104=\"بنت\"),1,0)","v":0},{"$f":"IF(D104=0,\"\",SUM($D$2:D104))","v":""},"محمد اسلام السيد السعيد مصطفى","ولد",3,4]
[104,{"$f":"IF(AND(ورقة2!$H$2=ورقة1!I105,ورقة2!$F$2=ورقة1!H105,ورقة1!G105=\"ولد\"),1,0)","v":1},{"$f":"IF(B105=0,\"\",SUM($B$2:B105))","v":10},{"$f":"IF(AND(ورقة2!$H$2=ورقة1!I105,ورقة2!$F$2=ورقة1!H105,ورقة1!G105=\"بنت\"),1,0)","v":0},{"$f":"IF(D105=0,\"\",SUM($D$2:D105))","v":""},"محمد اشرف عمرو عطا محمد","ولد",3,4]
[105,{"$f":"IF(AND(ورقة2!$H$2=ورقة1!I106,ورقة2!$F$2=ورقة1!H106,ورقة1!G106=\"ولد\"),1,0)","v":1},{"$f":"IF(B106=0,\"\",SUM($B$2:B106))","v":11},{"$f":"IF(AND(ورقة2!$H$2=ورقة1!I106,ورقة2!$F$2=ورقة1!H106,ورقة1!G106=\"بنت\"),1,0)","v":0},{"$f":"IF(D106=0,\"\",SUM($D$2:D106))","v":""},"محمد اشرف محمد محمود قدوسة","ولد",3,4]
[106,{"$f":"IF(AND(ورقة2!$H$2=ورقة1!I107,ورقة2!$F$2=ورقة1!H107,ورقة1!G107=\"ولد\"),1,0)","v":1},{"$f":"IF(B107=0,\"\",SUM($B$2:B107))","v":12},{"$f":"IF(AND(ورقة2!$H$2=ورقة1!I107,ورقة2!$F$2=ورقة1!H107,ورقة1!G107=\"بنت\"),1,0)","v":0},{"$f":"IF(D107=0,\"\",SUM($D$2:D107))","v":""},"محمد السعيد محمد سعيد المستكاوى","ولد",3,4]
[107,{"$f":"IF(AND(ورقة2!$H$2=ورقة1!I108,ورقة2!$F$2=ورقة1!H108,ورقة1!G108=\"ولد\"),1,0)","v":1},{"$f":"IF(B108=0,\"\",SUM($B$2:B108))","v":13},{"$f":"IF(AND(ورقة2!$H$2=ورقة1!I108,ورقة2!$F$2=ورقة1!H108,ورقة1!G108=\"بنت\"),1,0)","v":0},{"$f":"IF(D108=0,\"\",SUM($D$2:D108))","v":""},"محمد السيد على السيد حلوة","ولد",3,4]
[108,{"$f":"IF(AND(ورقة2!$H$2=ورقة1!I109,ورقة2!$F$2=ورقة1!H109,ورقة1!G109=\"ولد\"),1,0)","v":1},{"$f":"IF(B109=0,\"\",SUM($B$2:B109))","v":14},{"$f":"IF(AND(ورقة2!$H$2=ورقة1!I109,ورقة2!$F$2=ورقة1!H109,ورقة1!G109=\"بنت\"),1,0)","v":0},{"$f":"IF(D109=0,\"\",SUM($D$2:D109))","v":""},"محمد ايهاب جمال عبد المعز شافعى","ولد",3,4]
[109,{"$f":"IF(AND(ورقة2!$H$2=ورقة1!I110,ورقة2!$F$2=ورقة1!H110,ورقة1!G110=\"ولد\"),1,0)","v":1},{"$f":"IF(B110=0,\"\",SUM($B$2:B110))","v":15},{"$f":"IF(AND(ورقة2!$H$2=ورقة1!I110,ورقة2!$F$2=ورقة1!H110,ورقة1!G110=\"بنت\"),1,0)","v":0},{"$f":"IF(D110=0,\"\",SUM($D$2:D110))","v":""},"محمد ايهاب طه سعيد امام","ولد",3,4]
[110,{"$f":"IF(AND(ورقة2!$H$2=ورقة1!I111,ورقة2!$F$2=ورقة1!H111,ورقة1!G111=\"ولد\"),1,0)","v":1},{"$f":"IF(B111=0,\"\",SUM($B$2:B111))","v":16},{"$f":"IF(AND(ورقة2!$H$2=ورقة1!I111,ورقة2!$F$2=ورقة1!H111,ورقة1!G111=\"بنت\"),1,0)","v":0},{"$f":"IF(D111=0,\"\",SUM($D$2:D111))","v":""},"محمد تامر سمير هلول رمضان شلبى","ولد",3,4]
[111,{"$f":"IF(AND(ورقة2!$H$2=ورقة1!I112,ورقة2!$F$2=ورقة1!H112,ورقة1!G112=\"ولد\"),1,0)","v":1},{"$f":"IF(B112=0,\"\",SUM($B$2:B112))","v":17},{"$f":"IF(AND(ورقة2!$H$2=ورقة1!I112,ورقة2!$F$2=ورقة1!H112,ورقة1!G112=\"بنت\"),1,0)","v":0},{"$f":"IF(D112=0,\"\",SUM($D$2:D112))","v":""},"محمد جابر محمد محمد سليمان زيدان","ولد",3,4]
[112,{"$f":"IF(AND(ورقة2!$H$2=ورقة1!I113,ورقة2!$F$2=ورقة1!H113,ورقة1!G113=\"ولد\"),1,0)","v":1},{"$f":"IF(B113=0,\"\",SUM($B$2:B113))","v":18},{"$f":"IF(AND(ورقة2!$H$2=ورقة1!I113,ورقة2!$F$2=ورقة1!H113,ورقة1!G113=\"بنت\"),1,0)","v":0},{"$f":"IF(D113=0,\"\",SUM($D$2:D113))","v":""},"محمد حازم سعيد عبد الحى محمد سليمان","ولد",3,4]
[113,{"$f":"IF(AND(ورقة2!$H$2=ورقة1!I114,ورقة2!$F$2=ورقة1!H114,ورقة1!G114=\"ولد\"),1,0)","v":1},{"$f":"IF(B114=0,\"\",SUM($B$2:B114))","v":19},{"$f":"IF(AND(ورقة2!$H$2=ورقة1!I114,ورقة2!$F$2=ورقة1!H114,ورقة1!G114=\"بنت\"),1,0)","v":0},{"$f":"IF(D114=0,\"\",SUM($D$2:D114))","v":""},"محمد حسن محمد حسن النجار","ولد",3,4]
[114,{"$f":"IF(AND(ورقة2!$H$2=ورقة1!I115,ورقة2!$F$2=ورقة1!H115,ورقة1!G115=\"ولد\"),1,0)","v":0},{"$f":"IF(B115=0,\"\",SUM($B$2:B115))","v":""},{"$f":"IF(AND(ورقة2!$H$2=ورقة1!I115,ورقة2!$F$2=ورقة1!H115,ورقة1!G115=\"بنت\"),1,0)","v":0},{"$f":"IF(D115=0,\"\",SUM($D$2:D115))","v":""},"محمد رضا محمد عبد المنعم يسن شرف الدين","ولد",3,3]
[115,{"$f":"IF(AND(ورقة2!$H$2=ورقة1!I116,ورقة2!$F$2=ورقة1!H116,ورقة1!G116=\"ولد\"),1,0)","v":1},{"$f":"IF(B116=0,\"\",SUM($B$2:B116))","v":20},{"$f":"IF(AND(ورقة2!$H$2=ورقة1!I116,ورقة2!$F$2=ورقة1!H116,ورقة1!G116=\"بنت\"),1,0)","v":0},{"$f":"IF(D116=0,\"\",SUM($D$2:D116))","v":""},"محمد سامح مجدى فرحات عبدالرؤوف","ولد",3,4]
[116,{"$f":"IF(AND(ورقة2!$H$2=ورقة1!I117,ورقة2!$F$2=ورقة1!H117,ورقة1!G117=\"ولد\"),1,0)","v":1},{"$f":"IF(B117=0,\"\",SUM($B$2:B117))","v":21},{"$f":"IF(AND(ورقة2!$H$2=ورقة1!I117,ورقة2!$F$2=ورقة1!H117,ورقة1!G117=\"بنت\"),1,0)","v":0},{"$f":"IF(D117=0,\"\",SUM($D$2:D117))","v":""},"محمد سمير محمد عبد البر محمد","ولد",3,4]
[117,{"$f":"IF(AND(ورقة2!$H$2=ورقة1!I118,ورقة2!$F$2=ورقة1!H118,ورقة1!G118=\"ولد\"),1,0)","v":1},{"$f":"IF(B118=0,\"\",SUM($B$2:B118))","v":22},{"$f":"IF(AND(ورقة2!$H$2=ورقة1!I118,ورقة2!$F$2=ورقة1!H118,ورقة1!G118=\"بنت\"),1,0)","v":0},{"$f":"IF(D118=0,\"\",SUM($D$2:D118))","v":""},"محمد شريف محمد عبد العزيز مامزن بدوى","ولد",3,4]
[118,{"$f":"IF(AND(ورقة2!$H$2=ورقة1!I119,ورقة2!$F$2=ورقة1!H119,ورقة1!G119=\"ولد\"),1,0)","v":1},{"$f":"IF(B119=0,\"\",SUM($B$2:B119))","v":23},{"$f":"IF(AND(ورقة2!$H$2=ورقة1!I119,ورقة2!$F$2=ورقة1!H119,ورقة1!G119=\"بنت\"),1,0)","v":0},{"$f":"IF(D119=0,\"\",SUM($D$2:D119))","v":""},"محمد صلاح عبد الهادى محمد حسن سرحان","ولد",3,4]
[119,{"$f":"IF(AND(ورقة2!$H$2=ورقة1!I120,ورقة2!$F$2=ورقة1!H120,ورقة1!G120=\"ولد\"),1,0)","v":1},{"$f":"IF(B120=0,\"\",SUM($B$2:B120))","v":24},{"$f":"IF(AND(ورقة2!$H$2=ورقة1!I120,ورقة2!$F$2=ورقة1!H120,ورقة1!G120=\"بنت\"),1,0)","v":0},{"$f":"IF(D120=0,\"\",SUM($D$2:D120))","v":""},"محمد طلعت عبد العاطى سليم على","ولد",3,4]
[120,{"$f":"IF(AND(ورقة2!$H$2=ورقة1!I121,ورقة2!$F$2=ورقة1!H121,ورقة1!G121=\"ولد\"),1,0)","v":1},{"$f":"IF(B121=0,\"\",SUM($B$2:B121))","v":25},{"$f":"IF(AND(ورقة2!$H$2=ورقة1!I121,ورقة2!$F$2=ورقة1!H121,ورقة1!G121=\"بنت\"),1,0)","v":0},{"$f":"IF(D121=0,\"\",SUM($D$2:D121))","v":""},"محمد طه عبدالمجيد امين سويلم","ولد",3,4]
[121,{"$f":"IF(AND(ورقة2!$H$2=ورقة1!I122,ورقة2!$F$2=ورقة1!H122,ورقة1!G122=\"ولد\"),1,0)","v":0},{"$f":"IF(B122=0,\"\",SUM($B$2:B122))","v":""},{"$f":"IF(AND(ورقة2!$H$2=ورقة1!I122,ورقة2!$F$2=ورقة1!H122,ورقة1!G122=\"بنت\"),1,0)","v":0},{"$f":"IF(D122=0,\"\",SUM($D$2:D122))","v":""},"محمد عاطف عواد الهادى عواد","ولد",3,5]
[122,{"$f":"IF(AND(ورقة2!$H$2=ورقة1!I123,ورقة2!$F$2=ورقة1!H123,ورقة1!G123=\"ولد\"),1,0)","v":1},{"$f":"IF(B123=0,\"\",SUM($B$2:B123))","v":26},{"$f":"IF(AND(ورقة2!$H$2=ورقة1!I123,ورقة2!$F$2=ورقة1!H123,ورقة1!G123=\"بنت\"),1,0)","v":0},{"$f":"IF(D123=0,\"\",SUM($D$2:D123))","v":""},"محمد عبد الرحمن حمادة عبد الرحمن السندنهورى","ولد",3,4]
[123,{"$f":"IF(AND(ورقة2!$H$2=ورقة1!I124,ورقة2!$F$2=ورقة1!H124,ورقة1!G124=\"ولد\"),1,0)","v":1},{"$f":"IF(B124=0,\"\",SUM($B$2:B124))","v":27},{"$f":"IF(AND(ورقة2!$H$2=ورقة1!I124,ورقة2!$F$2=ورقة1!H124,ورقة1!G124=\"بنت\"),1,0)","v":0},{"$f":"IF(D124=0,\"\",SUM($D$2:D124))","v":""},"محمد عبدالفتاح عبدالهادى عبدالفتاح","ولد",3,4]
[124,{"$f":"IF(AND(ورقة2!$H$2=ورقة1!I125,ورقة2!$F$2=ورقة1!H125,ورقة1!G125=\"ولد\"),1,0)","v":1},{"$f":"IF(B125=0,\"\",SUM($B$2:B125))","v":28},{"$f":"IF(AND(ورقة2!$H$2=ورقة1!I125,ورقة2!$F$2=ورقة1!H125,ورقة1!G125=\"بنت\"),1,0)","v":0},{"$f":"IF(D125=0,\"\",SUM($D$2:D125))","v":""},"محمد عمرو محمد عبد السميع شافعى","ولد",3,4]
[125,{"$f":"IF(AND(ورقة2!$H$2=ورقة1!I126,ورقة2!$F$2=ورقة1!H126,ورقة1!G126=\"ولد\"),1,0)","v":0},{"$f":"IF(B126=0,\"\",SUM($B$2:B126))","v":""},{"$f":"IF(AND(ورقة2!$H$2=ورقة1!I126,ورقة2!$F$2=ورقة1!H126,ورقة1!G126=\"بنت\"),1,0)","v":0},{"$f":"IF(D126=0,\"\",SUM($D$2:D126))","v":""},"محمد فرحات عبد الفتاح كمال حسنين عمر","ولد",3,2]
[126,{"$f":"IF(AND(ورقة2!$H$2=ورقة1!I127,ورقة2!$F$2=ورقة1!H127,ورقة1!G127=\"ولد\"),1,0)","v":1},{"$f":"IF(B127=0,\"\",SUM($B$2:B127))","v":29},{"$f":"IF(AND(ورقة2!$H$2=ورقة1!I127,ورقة2!$F$2=ورقة1!H127,ورقة1!G127=\"بنت\"),1,0)","v":0},{"$f":"IF(D127=0,\"\",SUM($D$2:D127))","v":""},"محمد كمال محمد عبدالفتاح غلاب","ولد",3,4]
[127,{"$f":"IF(AND(ورقة2!$H$2=ورقة1!I128,ورقة2!$F$2=ورقة1!H128,ورقة1!G128=\"ولد\"),1,0)","v":0},{"$f":"IF(B128=0,\"\",SUM($B$2:B128))","v":""},{"$f":"IF(AND(ورقة2!$H$2=ورقة1!I128,ورقة2!$F$2=ورقة1!H128,ورقة1!G128=\"بنت\"),1,0)","v":0},{"$f":"IF(D128=0,\"\",SUM($D$2:D128))","v":""},"محمد محمود جبر محمد مجاهد","ولد",3,1]
[128,{"$f":"IF(AND(ورقة2!$H$2=ورقة1!I129,ورقة2!$F$2=ورقة1!H129,ورقة1!G129=\"ولد\"),1,0)","v":0},{"$f":"IF(B129=0,\"\",SUM($B$2:B129))","v":""},{"$f":"IF(AND(ورقة2!$H$2=ورقة1!I129,ورقة2!$F$2=ورقة1!H129,ورقة1!G129=\"بنت\"),1,0)","v":0},{"$f":"IF(D129=0,\"\",SUM($D$2:D129))","v":""},"محمد محمود عبدالفتاح حسن امام محمد","ولد",3,1]
[129,{"$f":"IF(AND(ورقة2!$H$2=ورقة1!I130,ورقة2!$F$2=ورقة1!H130,ورقة1!G130=\"ولد\"),1,0)","v":0},{"$f":"IF(B130=0,\"\",SUM($B$2:B130))","v":""},{"$f":"IF(AND(ورقة2!$H$2=ورقة1!I130,ورقة2!$F$2=ورقة1!H130,ورقة1!G130=\"بنت\"),1,0)","v":0},{"$f":"IF(D130=0,\"\",SUM($D$2:D130))","v":""},"محمد مصطفى سيد محمد حسن","ولد",3,5]
[130,{"$f":"IF(AND(ورقة2!$H$2=ورقة1!I131,ورقة2!$F$2=ورقة1!H131,ورقة1!G131=\"ولد\"),1,0)","v":1},{"$f":"IF(B131=0,\"\",SUM($B$2:B131))","v":30},{"$f":"IF(AND(ورقة2!$H$2=ورقة1!I131,ورقة2!$F$2=ورقة1!H131,ورقة1!G131=\"بنت\"),1,0)","v":0},{"$f":"IF(D131=0,\"\",SUM($D$2:D131))","v":""},"محمد هانى محمد رمضان موسى","ولد",3,4]
[131,{"$f":"IF(AND(ورقة2!$H$2=ورقة1!I132,ورقة2!$F$2=ورقة1!H132,ورقة1!G132=\"ولد\"),1,0)","v":0},{"$f":"IF(B132=0,\"\",SUM($B$2:B132))","v":""},{"$f":"IF(AND(ورقة2!$H$2=ورقة1!I132,ورقة2!$F$2=ورقة1!H132,ورقة1!G132=\"بنت\"),1,0)","v":0},{"$f":"IF(D132=0,\"\",SUM($D$2:D132))","v":""},"محمد وليد عبد العزيز محمود السيد الاكشر","ولد",3,5]
[132,{"$f":"IF(AND(ورقة2!$H$2=ورقة1!I133,ورقة2!$F$2=ورقة1!H133,ورقة1!G133=\"ولد\"),1,0)","v":0},{"$f":"IF(B133=0,\"\",SUM($B$2:B133))","v":""},{"$f":"IF(AND(ورقة2!$H$2=ورقة1!I133,ورقة2!$F$2=ورقة1!H133,ورقة1!G133=\"بنت\"),1,0)","v":0},{"$f":"IF(D133=0,\"\",SUM($D$2:D133))","v":""},"محمد وليد محمد عابد زيدان","ولد",3,5]
[133,{"$f":"IF(AND(ورقة2!$H$2=ورقة1!I134,ورقة2!$F$2=ورقة1!H134,ورقة1!G134=\"ولد\"),1,0)","v":0},{"$f":"IF(B134=0,\"\",SUM($B$2:B134))","v":""},{"$f":"IF(AND(ورقة2!$H$2=ورقة1!I134,ورقة2!$F$2=ورقة1!H134,ورقة1!G134=\"بنت\"),1,0)","v":0},{"$f":"IF(D134=0,\"\",SUM($D$2:D134))","v":""},"محمود السعيد محمود عبدالحليم عبدالرحمن خفاجى","ولد",3,5]
[134,{"$f":"IF(AND(ورقة2!$H$2=ورقة1!I135,ورقة2!$F$2=ورقة1!H135,ورقة1!G135=\"ولد\"),1,0)","v":0},{"$f":"IF(B135=0,\"\",SUM($B$2:B135))","v":""},{"$f":"IF(AND(ورقة2!$H$2=ورقة1!I135,ورقة2!$F$2=ورقة1!H135,ورقة1!G135=\"بنت\"),1,0)","v":0},{"$f":"IF(D135=0,\"\",SUM($D$2:D135))","v":""},"محمود صبحى محمد عبد الفتاح شرف الدين","ولد",3,3]
[135,{"$f":"IF(AND(ورقة2!$H$2=ورقة1!I136,ورقة2!$F$2=ورقة1!H136,ورقة1!G136=\"ولد\"),1,0)","v":1},{"$f":"IF(B136=0,\"\",SUM($B$2:B136))","v":31},{"$f":"IF(AND(ورقة2!$H$2=ورقة1!I136,ورقة2!$F$2=ورقة1!H136,ورقة1!G136=\"بنت\"),1,0)","v":0},{"$f":"IF(D136=0,\"\",SUM($D$2:D136))","v":""},"محمود طه محمد عبد العزيز مامون","ولد",3,4]
[136,{"$f":"IF(AND(ورقة2!$H$2=ورقة1!I137,ورقة2!$F$2=ورقة1!H137,ورقة1!G137=\"ولد\"),1,0)","v":0},{"$f":"IF(B137=0,\"\",SUM($B$2:B137))","v":""},{"$f":"IF(AND(ورقة2!$H$2=ورقة1!I137,ورقة2!$F$2=ورقة1!H137,ورقة1!G137=\"بنت\"),1,0)","v":0},{"$f":"IF(D137=0,\"\",SUM($D$2:D137))","v":""},"محمود عبد الرحمن امام احمد امام","ولد",3,5]
[137,{"$f":"IF(AND(ورقة2!$H$2=ورقة1!I138,ورقة2!$F$2=ورقة1!H138,ورقة1!G138=\"ولد\"),1,0)","v":0},{"$f":"IF(B138=0,\"\",SUM($B$2:B138))","v":""},{"$f":"IF(AND(ورقة2!$H$2=ورقة1!I138,ورقة2!$F$2=ورقة1!H138,ورقة1!G138=\"بنت\"),1,0)","v":0},{"$f":"IF(D138=0,\"\",SUM($D$2:D138))","v":""},"محمود محمد عبد المعطى عبد الحميد قدوسة","ولد",3,5]
[138,{"$f":"IF(AND(ورقة2!$H$2=ورقة1!I139,ورقة2!$F$2=ورقة1!H139,ورقة1!G139=\"ولد\"),1,0)","v":1},{"$f":"IF(B139=0,\"\",SUM($B$2:B139))","v":32},{"$f":"IF(AND(ورقة2!$H$2=ورقة1!I139,ورقة2!$F$2=ورقة1!H139,ورقة1!G139=\"بنت\"),1,0)","v":0},{"$f":"IF(D139=0,\"\",SUM($D$2:D139))","v":""},"محمود محمد عزالعرب محمد عبدالرؤوف","ولد",3,4]
[139,{"$f":"IF(AND(ورقة2!$H$2=ورقة1!I140,ورقة2!$F$2=ورقة1!H140,ورقة1!G140=\"ولد\"),1,0)","v":0},{"$f":"IF(B140=0,\"\",SUM($B$2:B140))","v":""},{"$f":"IF(AND(ورقة2!$H$2=ورقة1!I140,ورقة2!$F$2=ورقة1!H140,ورقة1!G140=\"بنت\"),1,0)","v":0},{"$f":"IF(D140=0,\"\",SUM($D$2:D140))","v":""},"محمود هانى السعيد عبد المنعم محمد حواش","ولد",3,5]
[140,{"$f":"IF(AND(ورقة2!$H$2=ورقة1!I141,ورقة2!$F$2=ورقة1!H141,ورقة1!G141=\"ولد\"),1,0)","v":1},{"$f":"IF(B141=0,\"\",SUM($B$2:B141))","v":33},{"$f":"IF(AND(ورقة2!$H$2=ورقة1!I141,ورقة2!$F$2=ورقة1!H141,ورقة1!G141=\"بنت\"),1,0)","v":0},{"$f":"IF(D141=0,\"\",SUM($D$2:D141))","v":""},"مروان احمد طه عبد المنعم زكى المستكاوى","ولد",3,4]
[141,{"$f":"IF(AND(ورقة2!$H$2=ورقة1!I142,ورقة2!$F$2=ورقة1!H142,ورقة1!G142=\"ولد\"),1,0)","v":0},{"$f":"IF(B142=0,\"\",SUM($B$2:B142))","v":""},{"$f":"IF(AND(ورقة2!$H$2=ورقة1!I142,ورقة2!$F$2=ورقة1!H142,ورقة1!G142=\"بنت\"),1,0)","v":0},{"$f":"IF(D142=0,\"\",SUM($D$2:D142))","v":""},"مروان محمد السعيد محمد الصياد كساب","ولد",3,5]
[142,{"$f":"IF(AND(ورقة2!$H$2=ورقة1!I143,ورقة2!$F$2=ورقة1!H143,ورقة1!G143=\"ولد\"),1,0)","v":0},{"$f":"IF(B143=0,\"\",SUM($B$2:B143))","v":""},{"$f":"IF(AND(ورقة2!$H$2=ورقة1!I143,ورقة2!$F$2=ورقة1!H143,ورقة1!G143=\"بنت\"),1,0)","v":0},{"$f":"IF(D143=0,\"\",SUM($D$2:D143))","v":""},"مروان محمد عبد الرحمن عبد المنعم عبد الفتاح","ولد",3,5]
[143,{"$f":"IF(AND(ورقة2!$H$2=ورقة1!I144,ورقة2!$F$2=ورقة1!H144,ورقة1!G144=\"ولد\"),1,0)","v":0},{"$f":"IF(B144=0,\"\",SUM($B$2:B144))","v":""},{"$f":"IF(AND(ورقة2!$H$2=ورقة1!I144,ورقة2!$F$2=ورقة1!H144,ورقة1!G144=\"بنت\"),1,0)","v":0},{"$f":"IF(D144=0,\"\",SUM($D$2:D144))","v":""},"مصطفى صبحى محمد محمود محمد الاكشر","ولد",3,5]
[144,{"$f":"IF(AND(ورقة2!$H$2=ورقة1!I145,ورقة2!$F$2=ورقة1!H145,ورقة1!G145=\"ولد\"),1,0)","v":0},{"$f":"IF(B145=0,\"\",SUM($B$2:B145))","v":""},{"$f":"IF(AND(ورقة2!$H$2=ورقة1!I145,ورقة2!$F$2=ورقة1!H145,ورقة1!G145=\"بنت\"),1,0)","v":0},{"$f":"IF(D145=0,\"\",SUM($D$2:D145))","v":""},"مصطفى طاهر عبد الفتاح جبر شرف الدين","ولد",3,5]
[145,{"$f":"IF(AND(ورقة2!$H$2=ورقة1!I146,ورقة2!$F$2=ورقة1!H146,ورقة1!G146=\"ولد\"),1,0)","v":0},{"$f":"IF(B146=0,\"\",SUM($B$2:B146))","v":""},{"$f":"IF(AND(ورقة2!$H$2=ورقة1!I146,ورقة2!$F$2=ورقة1!H146,ورقة1!G146=\"بنت\"),1,0)","v":0},{"$f":"IF(D146=0,\"\",SUM($D$2:D146))","v":""},"مصطفى عصام جبر عبد الله محمد راوندى","ولد",3,5]
[146,{"$f":"IF(AND(ورقة2!$H$2=ورقة1!I147,ورقة2!$F$2=ورقة1!H147,ورقة1!G147=\"ولد\"),1,0)","v":1},{"$f":"IF(B147=0,\"\",SUM($B$2:B147))","v":34},{"$f":"IF(AND(ورقة2!$H$2=ورقة1!I147,ورقة2!$F$2=ورقة1!H147,ورقة1!G147=\"بنت\"),1,0)","v":0},{"$f":"IF(D147=0,\"\",SUM($D$2:D147))","v":""},"مصطفى فايز محمد عفيفى زيد","ولد",3,4]
[147,{"$f":"IF(AND(ورقة2!$H$2=ورقة1!I148,ورقة2!$F$2=ورقة1!H148,ورقة1!G148=\"ولد\"),1,0)","v":0},{"$f":"IF(B148=0,\"\",SUM($B$2:B148))","v":""},{"$f":"IF(AND(ورقة2!$H$2=ورقة1!I148,ورقة2!$F$2=ورقة1!H148,ورقة1!G148=\"بنت\"),1,0)","v":0},{"$f":"IF(D148=0,\"\",SUM($D$2:D148))","v":""},"مصطفى ماهر مصطفى محمود الاكشر","ولد",3,5]
[148,{"$f":"IF(AND(ورقة2!$H$2=ورقة1!I149,ورقة2!$F$2=ورقة1!H149,ورقة1!G149=\"ولد\"),1,0)","v":1},{"$f":"IF(B149=0,\"\",SUM($B$2:B149))","v":35},{"$f":"IF(AND(ورقة2!$H$2=ورقة1!I149,ورقة2!$F$2=ورقة1!H149,ورقة1!G149=\"بنت\"),1,0)","v":0},{"$f":"IF(D149=0,\"\",SUM($D$2:D149))","v":""},"مصطفى محمد عبد الفتاح عبد الحميد زيدان","ولد",3,4]
[149,{"$f":"IF(AND(ورقة2!$H$2=ورقة1!I150,ورقة2!$F$2=ورقة1!H150,ورقة1!G150=\"ولد\"),1,0)","v":0},{"$f":"IF(B150=0,\"\",SUM($B$2:B150))","v":""},{"$f":"IF(AND(ورقة2!$H$2=ورقة1!I150,ورقة2!$F$2=ورقة1!H150,ورقة1!G150=\"بنت\"),1,0)","v":0},{"$f":"IF(D150=0,\"\",SUM($D$2:D150))","v":""},"مصطفى محمد عفيفى مصطفى سرحان","ولد",3,5]
[150,{"$f":"IF(AND(ورقة2!$H$2=ورقة1!I151,ورقة2!$F$2=ورقة1!H151,ورقة1!G151=\"ولد\"),1,0)","v":0},{"$f":"IF(B151=0,\"\",SUM($B$2:B151))","v":""},{"$f":"IF(AND(ورقة2!$H$2=ورقة1!I151,ورقة2!$F$2=ورقة1!H151,ورقة1!G151=\"بنت\"),1,0)","v":0},{"$f":"IF(D151=0,\"\",SUM($D$2:D151))","v":""},"مصطفى محمود عبد العزيز عبد الرشيد فرج","ولد",3,5]
[151,{"$f":"IF(AND(ورقة2!$H$2=ورقة1!I152,ورقة2!$F$2=ورقة1!H152,ورقة1!G152=\"ولد\"),1,0)","v":0},{"$f":"IF(B152=0,\"\",SUM($B$2:B152))","v":""},{"$f":"IF(AND(ورقة2!$H$2=ورقة1!I152,ورقة2!$F$2=ورقة1!H152,ورقة1!G152=\"بنت\"),1,0)","v":0},{"$f":"IF(D152=0,\"\",SUM($D$2:D152))","v":""},"مصطفى نصر محمود عبد الحميد السيد","ولد",3,5]
[152,{"$f":"IF(AND(ورقة2!$H$2=ورقة1!I153,ورقة2!$F$2=ورقة1!H153,ورقة1!G153=\"ولد\"),1,0)","v":0},{"$f":"IF(B153=0,\"\",SUM($B$2:B153))","v":""},{"$f":"IF(AND(ورقة2!$H$2=ورقة1!I153,ورقة2!$F$2=ورقة1!H153,ورقة1!G153=\"بنت\"),1,0)","v":0},{"$f":"IF(D153=0,\"\",SUM($D$2:D153))","v":""},"نور ياسر عبدالفتاح حسين عبدالفتاح","ولد",3,5]
[153,{"$f":"IF(AND(ورقة2!$H$2=ورقة1!I154,ورقة2!$F$2=ورقة1!H154,ورقة1!G154=\"ولد\"),1,0)","v":0},{"$f":"IF(B154=0,\"\",SUM($B$2:B154))","v":""},{"$f":"IF(AND(ورقة2!$H$2=ورقة1!I154,ورقة2!$F$2=ورقة1!H154,ورقة1!G154=\"بنت\"),1,0)","v":0},{"$f":"IF(D154=0,\"\",SUM($D$2:D154))","v":""},"ياسين ماهر فوزى ابو العينين على ابو العينين","ولد",3,5]
[154,{"$f":"IF(AND(ورقة2!$H$2=ورقة1!I155,ورقة2!$F$2=ورقة1!H155,ورقة1!G155=\"ولد\"),1,0)","v":0},{"$f":"IF(B155=0,\"\",SUM($B$2:B155))","v":""},{"$f":"IF(AND(ورقة2!$H$2=ورقة1!I155,ورقة2!$F$2=ورقة1!H155,ورقة1!G155=\"بنت\"),1,0)","v":0},{"$f":"IF(D155=0,\"\",SUM($D$2:D155))","v":""},"ياسين هانى فرحات طه عبد الفتاح عسكر","ولد",3,5]
[155,{"$f":"IF(AND(ورقة2!$H$2=ورقة1!I156,ورقة2!$F$2=ورقة1!H156,ورقة1!G156=\"ولد\"),1,0)","v":0},{"$f":"IF(B156=0,\"\",SUM($B$2:B156))","v":""},{"$f":"IF(AND(ورقة2!$H$2=ورقة1!I156,ورقة2!$F$2=ورقة1!H156,ورقة1!G156=\"بنت\"),1,0)","v":0},{"$f":"IF(D156=0,\"\",SUM($D$2:D156))","v":""},"يحيى حسن يحيى عبد الفتاح السيد","ولد",3,5]
[156,{"$f":"IF(AND(ورقة2!$H$2=ورقة1!I157,ورقة2!$F$2=ورقة1!H157,ورقة1!G157=\"ولد\"),1,0)","v":0},{"$f":"IF(B157=0,\"\",SUM($B$2:B157))","v":""},{"$f":"IF(AND(ورقة2!$H$2=ورقة1!I157,ورقة2!$F$2=ورقة1!H157,ورقة1!G157=\"بنت\"),1,0)","v":0},{"$f":"IF(D157=0,\"\",SUM($D$2:D157))","v":""},"يسين محمد يسين السيد حفنى","ولد",3,5]
[157,{"$f":"IF(AND(ورقة2!$H$2=ورقة1!I158,ورقة2!$F$2=ورقة1!H158,ورقة1!G158=\"ولد\"),1,0)","v":0},{"$f":"IF(B158=0,\"\",SUM($B$2:B158))","v":""},{"$f":"IF(AND(ورقة2!$H$2=ورقة1!I158,ورقة2!$F$2=ورقة1!H158,ورقة1!G158=\"بنت\"),1,0)","v":0},{"$f":"IF(D158=0,\"\",SUM($D$2:D158))","v":""},"يوسف احمد حافظ الصياد احمد الصياد","ولد",3,5]
[158,{"$f":"IF(AND(ورقة2!$H$2=ورقة1!I159,ورقة2!$F$2=ورقة1!H159,ورقة1!G159=\"ولد\"),1,0)","v":0},{"$f":"IF(B159=0,\"\",SUM($B$2:B159))","v":""},{"$f":"IF(AND(ورقة2!$H$2=ورقة1!I159,ورقة2!$F$2=ورقة1!H159,ورقة1!G159=\"بنت\"),1,0)","v":0},{"$f":"IF(D159=0,\"\",SUM($D$2:D159))","v":""},"يوسف بليغ حمدى عبد الحسيب هاشم","ولد",3,5]
[159,{"$f":"IF(AND(ورقة2!$H$2=ورقة1!I160,ورقة2!$F$2=ورقة1!H160,ورقة1!G160=\"ولد\"),1,0)","v":0},{"$f":"IF(B160=0,\"\",SUM($B$2:B160))","v":""},{"$f":"IF(AND(ورقة2!$H$2=ورقة1!I160,ورقة2!$F$2=ورقة1!H160,ورقة1!G160=\"بنت\"),1,0)","v":0},{"$f":"IF(D160=0,\"\",SUM($D$2:D160))","v":""},"يوسف حمادة محمد بدوى عبد الحميد بدوى","ولد",3,3]
[160,{"$f":"IF(AND(ورقة2!$H$2=ورقة1!I161,ورقة2!$F$2=ورقة1!H161,ورقة1!G161=\"ولد\"),1,0)","v":0},{"$f":"IF(B161=0,\"\",SUM($B$2:B161))","v":""},{"$f":"IF(AND(ورقة2!$H$2=ورقة1!I161,ورقة2!$F$2=ورقة1!H161,ورقة1!G161=\"بنت\"),1,0)","v":0},{"$f":"IF(D161=0,\"\",SUM($D$2:D161))","v":""},"يوسف سامح احمد حسين ابو عيد","ولد",3,5]
[161,{"$f":"IF(AND(ورقة2!$H$2=ورقة1!I162,ورقة2!$F$2=ورقة1!H162,ورقة1!G162=\"ولد\"),1,0)","v":0},{"$f":"IF(B162=0,\"\",SUM($B$2:B162))","v":""},{"$f":"IF(AND(ورقة2!$H$2=ورقة1!I162,ورقة2!$F$2=ورقة1!H162,ورقة1!G162=\"بنت\"),1,0)","v":0},{"$f":"IF(D162=0,\"\",SUM($D$2:D162))","v":""},"يوسف سعيد ربيع جمعه مرسى","ولد",3,5]
[162,{"$f":"IF(AND(ورقة2!$H$2=ورقة1!I163,ورقة2!$F$2=ورقة1!H163,ورقة1!G163=\"ولد\"),1,0)","v":0},{"$f":"IF(B163=0,\"\",SUM($B$2:B163))","v":""},{"$f":"IF(AND(ورقة2!$H$2=ورقة1!I163,ورقة2!$F$2=ورقة1!H163,ورقة1!G163=\"بنت\"),1,0)","v":0},{"$f":"IF(D163=0,\"\",SUM($D$2:D163))","v":""},"يوسف عبد الفتاح مداح عبدالمنعم عبد الفتاح المستكاوى","ولد",3,1]
[163,{"$f":"IF(AND(ورقة2!$H$2=ورقة1!I164,ورقة2!$F$2=ورقة1!H164,ورقة1!G164=\"ولد\"),1,0)","v":0},{"$f":"IF(B164=0,\"\",SUM($B$2:B164))","v":""},{"$f":"IF(AND(ورقة2!$H$2=ورقة1!I164,ورقة2!$F$2=ورقة1!H164,ورقة1!G164=\"بنت\"),1,0)","v":0},{"$f":"IF(D164=0,\"\",SUM($D$2:D164))","v":""},"يوسف عبد المعطى جودة عبد المعطى خضر","ولد",3,5]
[164,{"$f":"IF(AND(ورقة2!$H$2=ورقة1!I165,ورقة2!$F$2=ورقة1!H165,ورقة1!G165=\"ولد\"),1,0)","v":0},{"$f":"IF(B165=0,\"\",SUM($B$2:B165))","v":""},{"$f":"IF(AND(ورقة2!$H$2=ورقة1!I165,ورقة2!$F$2=ورقة1!H165,ورقة1!G165=\"بنت\"),1,0)","v":0},{"$f":"IF(D165=0,\"\",SUM($D$2:D165))","v":""},"يوسف عبد المنعم عبد الله عبد المنعم عبد الحليم","ولد",3,5]
[165,{"$f":"IF(AND(ورقة2!$H$2=ورقة1!I166,ورقة2!$F$2=ورقة1!H166,ورقة1!G166=\"ولد\"),1,0)","v":0},{"$f":"IF(B166=0,\"\",SUM($B$2:B166))","v":""},{"$f":"IF(AND(ورقة2!$H$2=ورقة1!I166,ورقة2!$F$2=ورقة1!H166,ورقة1!G166=\"بنت\"),1,0)","v":0},{"$f":"IF(D166=0,\"\",SUM($D$2:D166))","v":""},"يوسف عبدالمجيد عبدالفتاح عبدالمجيد زيدان","ولد",3,5]
[166,{"$f":"IF(AND(ورقة2!$H$2=ورقة1!I167,ورقة2!$F$2=ورقة1!H167,ورقة1!G167=\"ولد\"),1,0)","v":0},{"$f":"IF(B167=0,\"\",SUM($B$2:B167))","v":""},{"$f":"IF(AND(ورقة2!$H$2=ورقة1!I167,ورقة2!$F$2=ورقة1!H167,ورقة1!G167=\"بنت\"),1,0)","v":0},{"$f":"IF(D167=0,\"\",SUM($D$2:D167))","v":""},"يوسف فرحات محمد محمد النادى رمضان","ولد",3,5]
[167,{"$f":"IF(AND(ورقة2!$H$2=ورقة1!I168,ورقة2!$F$2=ورقة1!H168,ورقة1!G168=\"ولد\"),1,0)","v":0},{"$f":"IF(B168=0,\"\",SUM($B$2:B168))","v":""},{"$f":"IF(AND(ورقة2!$H$2=ورقة1!I168,ورقة2!$F$2=ورقة1!H168,ورقة1!G168=\"بنت\"),1,0)","v":0},{"$f":"IF(D168=0,\"\",SUM($D$2:D168))","v":""},"يوسف محمد عبدالرحمن عبدالسميع الشافعى","ولد",3,5]
[168,{"$f":"IF(AND(ورقة2!$H$2=ورقة1!I169,ورقة2!$F$2=ورقة1!H169,ورقة1!G169=\"ولد\"),1,0)","v":1},{"$f":"IF(B169=0,\"\",SUM($B$2:B169))","v":36},{"$f":"IF(AND(ورقة2!$H$2=ورقة1!I169,ورقة2!$F$2=ورقة1!H169,ورقة1!G169=\"بنت\"),1,0)","v":0},{"$f":"IF(D169=0,\"\",SUM($D$2:D169))","v":""},"يوسف محمود مراد محمد عبد الرافع","ولد",3,4]
[169,{"$f":"IF(AND(ورقة2!$H$2=ورقة1!I170,ورقة2!$F$2=ورقة1!H170,ورقة1!G170=\"ولد\"),1,0)","v":0},{"$f":"IF(B170=0,\"\",SUM($B$2:B170))","v":""},{"$f":"IF(AND(ورقة2!$H$2=ورقة1!I170,ورقة2!$F$2=ورقة1!H170,ورقة1!G170=\"بنت\"),1,0)","v":0},{"$f":"IF(D170=0,\"\",SUM($D$2:D170))","v":""},"يوسف مصطفى محمود السيد اسماعيل","ولد",3,5]
[170,{"$f":"IF(AND(ورقة2!$H$2=ورقة1!I171,ورقة2!$F$2=ورقة1!H171,ورقة1!G171=\"ولد\"),1,0)","v":0},{"$f":"IF(B171=0,\"\",SUM($B$2:B171))","v":""},{"$f":"IF(AND(ورقة2!$H$2=ورقة1!I171,ورقة2!$F$2=ورقة1!H171,ورقة1!G171=\"بنت\"),1,0)","v":0},{"$f":"IF(D171=0,\"\",SUM($D$2:D171))","v":""},"يوسف ياسر عبد الفتاح سالم محمد كليب","ولد",3,2]
[171,{"$f":"IF(AND(ورقة2!$H$2=ورقة1!I172,ورقة2!$F$2=ورقة1!H172,ورقة1!G172=\"ولد\"),1,0)","v":0},{"$f":"IF(B172=0,\"\",SUM($B$2:B172))","v":""},{"$f":"IF(AND(ورقة2!$H$2=ورقة1!I172,ورقة2!$F$2=ورقة1!H172,ورقة1!G172=\"بنت\"),1,0)","v":0},{"$f":"IF(D172=0,\"\",SUM($D$2:D172))","v":""},"احلام رؤوف يحي عبدالرؤوف سليمان","بنت",3,1]
[172,{"$f":"IF(AND(ورقة2!$H$2=ورقة1!I173,ورقة2!$F$2=ورقة1!H173,ورقة1!G173=\"ولد\"),1,0)","v":0},{"$f":"IF(B173=0,\"\",SUM($B$2:B173))","v":""},{"$f":"IF(AND(ورقة2!$H$2=ورقة1!I173,ورقة2!$F$2=ورقة1!H173,ورقة1!G173=\"بنت\"),1,0)","v":0},{"$f":"IF(D173=0,\"\",SUM($D$2:D173))","v":""},"اسراء محمد عبد العليم طه محمد عبا","بنت",3,3]
[173,{"$f":"IF(AND(ورقة2!$H$2=ورقة1!I174,ورقة2!$F$2=ورقة1!H174,ورقة1!G174=\"ولد\"),1,0)","v":0},{"$f":"IF(B174=0,\"\",SUM($B$2:B174))","v":""},{"$f":"IF(AND(ورقة2!$H$2=ورقة1!I174,ورقة2!$F$2=ورقة1!H174,ورقة1!G174=\"بنت\"),1,0)","v":0},{"$f":"IF(D174=0,\"\",SUM($D$2:D174))","v":""},"اسماء عبدالفتاح سعيد عبدالفتاح منصور","بنت",3,1]
[174,{"$f":"IF(AND(ورقة2!$H$2=ورقة1!I175,ورقة2!$F$2=ورقة1!H175,ورقة1!G175=\"ولد\"),1,0)","v":0},{"$f":"IF(B175=0,\"\",SUM($B$2:B175))","v":""},{"$f":"IF(AND(ورقة2!$H$2=ورقة1!I175,ورقة2!$F$2=ورقة1!H175,ورقة1!G175=\"بنت\"),1,0)","v":0},{"$f":"IF(D175=0,\"\",SUM($D$2:D175))","v":""},"اسماء عماد محمد بيومى محمد سرحان","بنت",3,1]
[175,{"$f":"IF(AND(ورقة2!$H$2=ورقة1!I176,ورقة2!$F$2=ورقة1!H176,ورقة1!G176=\"ولد\"),1,0)","v":0},{"$f":"IF(B176=0,\"\",SUM($B$2:B176))","v":""},{"$f":"IF(AND(ورقة2!$H$2=ورقة1!I176,ورقة2!$F$2=ورقة1!H176,ورقة1!G176=\"بنت\"),1,0)","v":0},{"$f":"IF(D176=0,\"\",SUM($D$2:D176))","v":""},"اشواق عاطف عبد الفتاح زيدان","بنت",3,1]
[176,{"$f":"IF(AND(ورقة2!$H$2=ورقة1!I177,ورقة2!$F$2=ورقة1!H177,ورقة1!G177=\"ولد\"),1,0)","v":0},{"$f":"IF(B177=0,\"\",SUM($B$2:B177))","v":""},{"$f":"IF(AND(ورقة2!$H$2=ورقة1!I177,ورقة2!$F$2=ورقة1!H177,ورقة1!G177=\"بنت\"),1,0)","v":0},{"$f":"IF(D177=0,\"\",SUM($D$2:D177))","v":""},"افنان طلعت عبدالوهاب عبدالرحمن محمد زيدان","بنت",3,1]
[177,{"$f":"IF(AND(ورقة2!$H$2=ورقة1!I178,ورقة2!$F$2=ورقة1!H178,ورقة1!G178=\"ولد\"),1,0)","v":0},{"$f":"IF(B178=0,\"\",SUM($B$2:B178))","v":""},{"$f":"IF(AND(ورقة2!$H$2=ورقة1!I178,ورقة2!$F$2=ورقة1!H178,ورقة1!G178=\"بنت\"),1,0)","v":0},{"$f":"IF(D178=0,\"\",SUM($D$2:D178))","v":""},"الاء ابو بكر صبحى ناجى محمد العزب","بنت",3,3]
[178,{"$f":"IF(AND(ورقة2!$H$2=ورقة1!I179,ورقة2!$F$2=ورقة1!H179,ورقة1!G179=\"ولد\"),1,0)","v":0},{"$f":"IF(B179=0,\"\",SUM($B$2:B179))","v":""},{"$f":"IF(AND(ورقة2!$H$2=ورقة1!I179,ورقة2!$F$2=ورقة1!H179,ورقة1!G179=\"بنت\"),1,0)","v":0},{"$f":"IF(D179=0,\"\",SUM($D$2:D179))","v":""},"الشيماء منصور مهدى عبد الرحمن ضرار","بنت",3,1]
[179,{"$f":"IF(AND(ورقة2!$H$2=ورقة1!I180,ورقة2!$F$2=ورقة1!H180,ورقة1!G180=\"ولد\"),1,0)","v":0},{"$f":"IF(B180=0,\"\",SUM($B$2:B180))","v":""},{"$f":"IF(AND(ورقة2!$H$2=ورقة1!I180,ورقة2!$F$2=ورقة1!H180,ورقة1!G180=\"بنت\"),1,0)","v":0},{"$f":"IF(D180=0,\"\",SUM($D$2:D180))","v":""},"امل سعد محمد عبد الرحمن ضرار","بنت",3,1]
[180,{"$f":"IF(AND(ورقة2!$H$2=ورقة1!I181,ورقة2!$F$2=ورقة1!H181,ورقة1!G181=\"ولد\"),1,0)","v":0},{"$f":"IF(B181=0,\"\",SUM($B$2:B181))","v":""},{"$f":"IF(AND(ورقة2!$H$2=ورقة1!I181,ورقة2!$F$2=ورقة1!H181,ورقة1!G181=\"بنت\"),1,0)","v":0},{"$f":"IF(D181=0,\"\",SUM($D$2:D181))","v":""},"اميرة رامى محمد عبد العاطى على","بنت",3,1]
[181,{"$f":"IF(AND(ورقة2!$H$2=ورقة1!I182,ورقة2!$F$2=ورقة1!H182,ورقة1!G182=\"ولد\"),1,0)","v":0},{"$f":"IF(B182=0,\"\",SUM($B$2:B182))","v":""},{"$f":"IF(AND(ورقة2!$H$2=ورقة1!I182,ورقة2!$F$2=ورقة1!H182,ورقة1!G182=\"بنت\"),1,0)","v":0},{"$f":"IF(D182=0,\"\",SUM($D$2:D182))","v":""},"امينة عماد سليمان محمد السيد شرع","بنت",3,1]
[182,{"$f":"IF(AND(ورقة2!$H$2=ورقة1!I183,ورقة2!$F$2=ورقة1!H183,ورقة1!G183=\"ولد\"),1,0)","v":0},{"$f":"IF(B183=0,\"\",SUM($B$2:B183))","v":""},{"$f":"IF(AND(ورقة2!$H$2=ورقة1!I183,ورقة2!$F$2=ورقة1!H183,ورقة1!G183=\"بنت\"),1,0)","v":0},{"$f":"IF(D183=0,\"\",SUM($D$2:D183))","v":""},"انجى فرحات مصطفى حامد الشيخ","بنت",3,1]
[183,{"$f":"IF(AND(ورقة2!$H$2=ورقة1!I184,ورقة2!$F$2=ورقة1!H184,ورقة1!G184=\"ولد\"),1,0)","v":0},{"$f":"IF(B184=0,\"\",SUM($B$2:B184))","v":""},{"$f":"IF(AND(ورقة2!$H$2=ورقة1!I184,ورقة2!$F$2=ورقة1!H184,ورقة1!G184=\"بنت\"),1,0)","v":0},{"$f":"IF(D184=0,\"\",SUM($D$2:D184))","v":""},"ايات عادل حلمى عبد الرحمن سيد غنيم","بنت",3,1]
[184,{"$f":"IF(AND(ورقة2!$H$2=ورقة1!I185,ورقة2!$F$2=ورقة1!H185,ورقة1!G185=\"ولد\"),1,0)","v":0},{"$f":"IF(B185=0,\"\",SUM($B$2:B185))","v":""},{"$f":"IF(AND(ورقة2!$H$2=ورقة1!I185,ورقة2!$F$2=ورقة1!H185,ورقة1!G185=\"بنت\"),1,0)","v":0},{"$f":"IF(D185=0,\"\",SUM($D$2:D185))","v":""},"ايه جمال رمضان السيد السيد","بنت",3,1]
[185,{"$f":"IF(AND(ورقة2!$H$2=ورقة1!I186,ورقة2!$F$2=ورقة1!H186,ورقة1!G186=\"ولد\"),1,0)","v":0},{"$f":"IF(B186=0,\"\",SUM($B$2:B186))","v":""},{"$f":"IF(AND(ورقة2!$H$2=ورقة1!I186,ورقة2!$F$2=ورقة1!H186,ورقة1!G186=\"بنت\"),1,0)","v":0},{"$f":"IF(D186=0,\"\",SUM($D$2:D186))","v":""},"ايه محمود طه عبد الباقى عبد الحليم","بنت",3,1]
[186,{"$f":"IF(AND(ورقة2!$H$2=ورقة1!I187,ورقة2!$F$2=ورقة1!H187,ورقة1!G187=\"ولد\"),1,0)","v":0},{"$f":"IF(B187=0,\"\",SUM($B$2:B187))","v":""},{"$f":"IF(AND(ورقة2!$H$2=ورقة1!I187,ورقة2!$F$2=ورقة1!H187,ورقة1!G187=\"بنت\"),1,0)","v":0},{"$f":"IF(D187=0,\"\",SUM($D$2:D187))","v":""},"بسمة شاكر عبد الهادى محمد حسن","بنت",3,1]
[187,{"$f":"IF(AND(ورقة2!$H$2=ورقة1!I188,ورقة2!$F$2=ورقة1!H188,ورقة1!G188=\"ولد\"),1,0)","v":0},{"$f":"IF(B188=0,\"\",SUM($B$2:B188))","v":""},{"$f":"IF(AND(ورقة2!$H$2=ورقة1!I188,ورقة2!$F$2=ورقة1!H188,ورقة1!G188=\"بنت\"),1,0)","v":0},{"$f":"IF(D188=0,\"\",SUM($D$2:D188))","v":""},"بسملة فتحى حسن انيس حسن زيدان","بنت",3,1]
[188,{"$f":"IF(AND(ورقة2!$H$2=ورقة1!I189,ورقة2!$F$2=ورقة1!H189,ورقة1!G189=\"ولد\"),1,0)","v":0},{"$f":"IF(B189=0,\"\",SUM($B$2:B189))","v":""},{"$f":"IF(AND(ورقة2!$H$2=ورقة1!I189,ورقة2!$F$2=ورقة1!H189,ورقة1!G189=\"بنت\"),1,0)","v":0},{"$f":"IF(D189=0,\"\",SUM($D$2:D189))","v":""},"بسملة محمد سابق محمد مصطفى","بنت",3,1]
[189,{"$f":"IF(AND(ورقة2!$H$2=ورقة1!I190,ورقة2!$F$2=ورقة1!H190,ورقة1!G190=\"ولد\"),1,0)","v":0},{"$f":"IF(B190=0,\"\",SUM($B$2:B190))","v":""},{"$f":"IF(AND(ورقة2!$H$2=ورقة1!I190,ورقة2!$F$2=ورقة1!H190,ورقة1!G190=\"بنت\"),1,0)","v":1},{"$f":"IF(D190=0,\"\",SUM($D$2:D190))","v":1},"بسملة محمد عبد المجيد عبد الجواد المستكاوى","بنت",3,4]
[190,{"$f":"IF(AND(ورقة2!$H$2=ورقة1!I191,ورقة2!$F$2=ورقة1!H191,ورقة1!G191=\"ولد\"),1,0)","v":0},{"$f":"IF(B191=0,\"\",SUM($B$2:B191))","v":""},{"$f":"IF(AND(ورقة2!$H$2=ورقة1!I191,ورقة2!$F$2=ورقة1!H191,ورقة1!G191=\"بنت\"),1,0)","v":0},{"$f":"IF(D191=0,\"\",SUM($D$2:D191))","v":""},"بسملة ياسر سعد سعيد الطنطاوى","بنت",3,1]
[191,{"$f":"IF(AND(ورقة2!$H$2=ورقة1!I192,ورقة2!$F$2=ورقة1!H192,ورقة1!G192=\"ولد\"),1,0)","v":0},{"$f":"IF(B192=0,\"\",SUM($B$2:B192))","v":""},{"$f":"IF(AND(ورقة2!$H$2=ورقة1!I192,ورقة2!$F$2=ورقة1!H192,ورقة1!G192=\"بنت\"),1,0)","v":0},{"$f":"IF(D192=0,\"\",SUM($D$2:D192))","v":""},"بسنت السيد جمعه السيد ابراهيم الزاز","بنت",3,2]
[192,{"$f":"IF(AND(ورقة2!$H$2=ورقة1!I193,ورقة2!$F$2=ورقة1!H193,ورقة1!G193=\"ولد\"),1,0)","v":0},{"$f":"IF(B193=0,\"\",SUM($B$2:B193))","v":""},{"$f":"IF(AND(ورقة2!$H$2=ورقة1!I193,ورقة2!$F$2=ورقة1!H193,ورقة1!G193=\"بنت\"),1,0)","v":0},{"$f":"IF(D193=0,\"\",SUM($D$2:D193))","v":""},"تقى احمد طلعت عبد العليم زيدان","بنت",3,1]
[193,{"$f":"IF(AND(ورقة2!$H$2=ورقة1!I194,ورقة2!$F$2=ورقة1!H194,ورقة1!G194=\"ولد\"),1,0)","v":0},{"$f":"IF(B194=0,\"\",SUM($B$2:B194))","v":""},{"$f":"IF(AND(ورقة2!$H$2=ورقة1!I194,ورقة2!$F$2=ورقة1!H194,ورقة1!G194=\"بنت\"),1,0)","v":0},{"$f":"IF(D194=0,\"\",SUM($D$2:D194))","v":""},"جنا ابراهيم محمد ابراهيم بهى شرف الدين","بنت",3,1]
[194,{"$f":"IF(AND(ورقة2!$H$2=ورقة1!I195,ورقة2!$F$2=ورقة1!H195,ورقة1!G195=\"ولد\"),1,0)","v":0},{"$f":"IF(B195=0,\"\",SUM($B$2:B195))","v":""},{"$f":"IF(AND(ورقة2!$H$2=ورقة1!I195,ورقة2!$F$2=ورقة1!H195,ورقة1!G195=\"بنت\"),1,0)","v":0},{"$f":"IF(D195=0,\"\",SUM($D$2:D195))","v":""},"جنا سعد عبد المنعم مكاوى محمدعفيفى","بنت",3,1]
[195,{"$f":"IF(AND(ورقة2!$H$2=ورقة1!I196,ورقة2!$F$2=ورقة1!H196,ورقة1!G196=\"ولد\"),1,0)","v":0},{"$f":"IF(B196=0,\"\",SUM($B$2:B196))","v":""},{"$f":"IF(AND(ورقة2!$H$2=ورقة1!I196,ورقة2!$F$2=ورقة1!H196,ورقة1!G196=\"بنت\"),1,0)","v":0},{"$f":"IF(D196=0,\"\",SUM($D$2:D196))","v":""},"جنا محمد صبحى محمد عبدالوهاب","بنت",3,1]
[196,{"$f":"IF(AND(ورقة2!$H$2=ورقة1!I197,ورقة2!$F$2=ورقة1!H197,ورقة1!G197=\"ولد\"),1,0)","v":0},{"$f":"IF(B197=0,\"\",SUM($B$2:B197))","v":""},{"$f":"IF(AND(ورقة2!$H$2=ورقة1!I197,ورقة2!$F$2=ورقة1!H197,ورقة1!G197=\"بنت\"),1,0)","v":1},{"$f":"IF(D197=0,\"\",SUM($D$2:D197))","v":2},"جنا محمود عبدالمنعم زكى المستكاوى","بنت",3,4]
[197,{"$f":"IF(AND(ورقة2!$H$2=ورقة1!I198,ورقة2!$F$2=ورقة1!H198,ورقة1!G198=\"ولد\"),1,0)","v":0},{"$f":"IF(B198=0,\"\",SUM($B$2:B198))","v":""},{"$f":"IF(AND(ورقة2!$H$2=ورقة1!I198,ورقة2!$F$2=ورقة1!H198,ورقة1!G198=\"بنت\"),1,0)","v":0},{"$f":"IF(D198=0,\"\",SUM($D$2:D198))","v":""},"جنا يسرى عبد الله عبد الجيد العرضى","بنت",3,2]
[198,{"$f":"IF(AND(ورقة2!$H$2=ورقة1!I199,ورقة2!$F$2=ورقة1!H199,ورقة1!G199=\"ولد\"),1,0)","v":0},{"$f":"IF(B199=0,\"\",SUM($B$2:B199))","v":""},{"$f":"IF(AND(ورقة2!$H$2=ورقة1!I199,ورقة2!$F$2=ورقة1!H199,ورقة1!G199=\"بنت\"),1,0)","v":0},{"$f":"IF(D199=0,\"\",SUM($D$2:D199))","v":""},"جنى احمد فضل الله عبدالمنعم احمد","بنت",3,5]
[199,{"$f":"IF(AND(ورقة2!$H$2=ورقة1!I200,ورقة2!$F$2=ورقة1!H200,ورقة1!G200=\"ولد\"),1,0)","v":0},{"$f":"IF(B200=0,\"\",SUM($B$2:B200))","v":""},{"$f":"IF(AND(ورقة2!$H$2=ورقة1!I200,ورقة2!$F$2=ورقة1!H200,ورقة1!G200=\"بنت\"),1,0)","v":0},{"$f":"IF(D200=0,\"\",SUM($D$2:D200))","v":""},"جنى طلعت مجاهد منصور مجاهد","بنت",3,2]
[200,{"$f":"IF(AND(ورقة2!$H$2=ورقة1!I201,ورقة2!$F$2=ورقة1!H201,ورقة1!G201=\"ولد\"),1,0)","v":0},{"$f":"IF(B201=0,\"\",SUM($B$2:B201))","v":""},{"$f":"IF(AND(ورقة2!$H$2=ورقة1!I201,ورقة2!$F$2=ورقة1!H201,ورقة1!G201=\"بنت\"),1,0)","v":0},{"$f":"IF(D201=0,\"\",SUM($D$2:D201))","v":""},"جنى عمادالدين جودة عبد الهادى عبد الفتاح سرحان","بنت",3,2]
[201,{"$f":"IF(AND(ورقة2!$H$2=ورقة1!I202,ورقة2!$F$2=ورقة1!H202,ورقة1!G202=\"ولد\"),1,0)","v":0},{"$f":"IF(B202=0,\"\",SUM($B$2:B202))","v":""},{"$f":"IF(AND(ورقة2!$H$2=ورقة1!I202,ورقة2!$F$2=ورقة1!H202,ورقة1!G202=\"بنت\"),1,0)","v":0},{"$f":"IF(D202=0,\"\",SUM($D$2:D202))","v":""},"حبيبة صلاح عبد الرحمن عبد المنعم محمد الديب","بنت",3,2]
[202,{"$f":"IF(AND(ورقة2!$H$2=ورقة1!I203,ورقة2!$F$2=ورقة1!H203,ورقة1!G203=\"ولد\"),1,0)","v":0},{"$f":"IF(B203=0,\"\",SUM($B$2:B203))","v":""},{"$f":"IF(AND(ورقة2!$H$2=ورقة1!I203,ورقة2!$F$2=ورقة1!H203,ورقة1!G203=\"بنت\"),1,0)","v":0},{"$f":"IF(D203=0,\"\",SUM($D$2:D203))","v":""},"حبيبة مجدى امام احمد امام","بنت",3,2]
[203,{"$f":"IF(AND(ورقة2!$H$2=ورقة1!I204,ورقة2!$F$2=ورقة1!H204,ورقة1!G204=\"ولد\"),1,0)","v":0},{"$f":"IF(B204=0,\"\",SUM($B$2:B204))","v":""},{"$f":"IF(AND(ورقة2!$H$2=ورقة1!I204,ورقة2!$F$2=ورقة1!H204,ورقة1!G204=\"بنت\"),1,0)","v":0},{"$f":"IF(D204=0,\"\",SUM($D$2:D204))","v":""},"حبيبة هانى محمود حامد محمود الشيخ","بنت",3,2]
[204,{"$f":"IF(AND(ورقة2!$H$2=ورقة1!I205,ورقة2!$F$2=ورقة1!H205,ورقة1!G205=\"ولد\"),1,0)","v":0},{"$f":"IF(B205=0,\"\",SUM($B$2:B205))","v":""},{"$f":"IF(AND(ورقة2!$H$2=ورقة1!I205,ورقة2!$F$2=ورقة1!H205,ورقة1!G205=\"بنت\"),1,0)","v":0},{"$f":"IF(D205=0,\"\",SUM($D$2:D205))","v":""},"حبيبه حازم طه سعيد حسين","بنت",3,2]
[205,{"$f":"IF(AND(ورقة2!$H$2=ورقة1!I206,ورقة2!$F$2=ورقة1!H206,ورقة1!G206=\"ولد\"),1,0)","v":0},{"$f":"IF(B206=0,\"\",SUM($B$2:B206))","v":""},{"$f":"IF(AND(ورقة2!$H$2=ورقة1!I206,ورقة2!$F$2=ورقة1!H206,ورقة1!G206=\"بنت\"),1,0)","v":0},{"$f":"IF(D206=0,\"\",SUM($D$2:D206))","v":""},"حنين مجدى عبد الفتاح السيد اسماعيل بدر الدين","بنت",3,2]
[206,{"$f":"IF(AND(ورقة2!$H$2=ورقة1!I207,ورقة2!$F$2=ورقة1!H207,ورقة1!G207=\"ولد\"),1,0)","v":0},{"$f":"IF(B207=0,\"\",SUM($B$2:B207))","v":""},{"$f":"IF(AND(ورقة2!$H$2=ورقة1!I207,ورقة2!$F$2=ورقة1!H207,ورقة1!G207=\"بنت\"),1,0)","v":0},{"$f":"IF(D207=0,\"\",SUM($D$2:D207))","v":""},"حنين محمد صلاح مسعد السعيد زيدان","بنت",3,2]
[207,{"$f":"IF(AND(ورقة2!$H$2=ورقة1!I208,ورقة2!$F$2=ورقة1!H208,ورقة1!G208=\"ولد\"),1,0)","v":0},{"$f":"IF(B208=0,\"\",SUM($B$2:B208))","v":""},{"$f":"IF(AND(ورقة2!$H$2=ورقة1!I208,ورقة2!$F$2=ورقة1!H208,ورقة1!G208=\"بنت\"),1,0)","v":0},{"$f":"IF(D208=0,\"\",SUM($D$2:D208))","v":""},"حنين وائل طه عفيفى سرحان","بنت",3,2]
[208,{"$f":"IF(AND(ورقة2!$H$2=ورقة1!I209,ورقة2!$F$2=ورقة1!H209,ورقة1!G209=\"ولد\"),1,0)","v":0},{"$f":"IF(B209=0,\"\",SUM($B$2:B209))","v":""},{"$f":"IF(AND(ورقة2!$H$2=ورقة1!I209,ورقة2!$F$2=ورقة1!H209,ورقة1!G209=\"بنت\"),1,0)","v":0},{"$f":"IF(D209=0,\"\",SUM($D$2:D209))","v":""},"دنيا على عبد الرحمن رشاد محمد بدران","بنت",3,2]
[209,{"$f":"IF(AND(ورقة2!$H$2=ورقة1!I210,ورقة2!$F$2=ورقة1!H210,ورقة1!G210=\"ولد\"),1,0)","v":0},{"$f":"IF(B210=0,\"\",SUM($B$2:B210))","v":""},{"$f":"IF(AND(ورقة2!$H$2=ورقة1!I210,ورقة2!$F$2=ورقة1!H210,ورقة1!G210=\"بنت\"),1,0)","v":0},{"$f":"IF(D210=0,\"\",SUM($D$2:D210))","v":""},"رانا محمد طه محمود دمرداش","بنت",3,2]
[210,{"$f":"IF(AND(ورقة2!$H$2=ورقة1!I211,ورقة2!$F$2=ورقة1!H211,ورقة1!G211=\"ولد\"),1,0)","v":0},{"$f":"IF(B211=0,\"\",SUM($B$2:B211))","v":""},{"$f":"IF(AND(ورقة2!$H$2=ورقة1!I211,ورقة2!$F$2=ورقة1!H211,ورقة1!G211=\"بنت\"),1,0)","v":0},{"$f":"IF(D211=0,\"\",SUM($D$2:D211))","v":""},"رحمة السيد عطية السيد محمد النجار","بنت",3,2]
[211,{"$f":"IF(AND(ورقة2!$H$2=ورقة1!I212,ورقة2!$F$2=ورقة1!H212,ورقة1!G212=\"ولد\"),1,0)","v":0},{"$f":"IF(B212=0,\"\",SUM($B$2:B212))","v":""},{"$f":"IF(AND(ورقة2!$H$2=ورقة1!I212,ورقة2!$F$2=ورقة1!H212,ورقة1!G212=\"بنت\"),1,0)","v":0},{"$f":"IF(D212=0,\"\",SUM($D$2:D212))","v":""},"رحمة مسعود كمال يس محمد عفيفى","بنت",3,2]
[212,{"$f":"IF(AND(ورقة2!$H$2=ورقة1!I213,ورقة2!$F$2=ورقة1!H213,ورقة1!G213=\"ولد\"),1,0)","v":0},{"$f":"IF(B213=0,\"\",SUM($B$2:B213))","v":""},{"$f":"IF(AND(ورقة2!$H$2=ورقة1!I213,ورقة2!$F$2=ورقة1!H213,ورقة1!G213=\"بنت\"),1,0)","v":0},{"$f":"IF(D213=0,\"\",SUM($D$2:D213))","v":""},"رحمه شريف شعبان محمود السيد كل","بنت",3,3]
[213,{"$f":"IF(AND(ورقة2!$H$2=ورقة1!I214,ورقة2!$F$2=ورقة1!H214,ورقة1!G214=\"ولد\"),1,0)","v":0},{"$f":"IF(B214=0,\"\",SUM($B$2:B214))","v":""},{"$f":"IF(AND(ورقة2!$H$2=ورقة1!I214,ورقة2!$F$2=ورقة1!H214,ورقة1!G214=\"بنت\"),1,0)","v":0},{"$f":"IF(D214=0,\"\",SUM($D$2:D214))","v":""},"رحمه شريف صلاح عبدالرحمن السعيد المستكاوى","بنت",3,2]
[214,{"$f":"IF(AND(ورقة2!$H$2=ورقة1!I215,ورقة2!$F$2=ورقة1!H215,ورقة1!G215=\"ولد\"),1,0)","v":0},{"$f":"IF(B215=0,\"\",SUM($B$2:B215))","v":""},{"$f":"IF(AND(ورقة2!$H$2=ورقة1!I215,ورقة2!$F$2=ورقة1!H215,ورقة1!G215=\"بنت\"),1,0)","v":0},{"$f":"IF(D215=0,\"\",SUM($D$2:D215))","v":""},"رضوى محمود شاكر محمود حسينى حشيش","بنت",3,2]
[215,{"$f":"IF(AND(ورقة2!$H$2=ورقة1!I216,ورقة2!$F$2=ورقة1!H216,ورقة1!G216=\"ولد\"),1,0)","v":0},{"$f":"IF(B216=0,\"\",SUM($B$2:B216))","v":""},{"$f":"IF(AND(ورقة2!$H$2=ورقة1!I216,ورقة2!$F$2=ورقة1!H216,ورقة1!G216=\"بنت\"),1,0)","v":0},{"$f":"IF(D216=0,\"\",SUM($D$2:D216))","v":""},"روان عبدالمجيد محمد عبدالمجيد حطب","بنت",3,2]
[216,{"$f":"IF(AND(ورقة2!$H$2=ورقة1!I217,ورقة2!$F$2=ورقة1!H217,ورقة1!G217=\"ولد\"),1,0)","v":0},{"$f":"IF(B217=0,\"\",SUM($B$2:B217))","v":""},{"$f":"IF(AND(ورقة2!$H$2=ورقة1!I217,ورقة2!$F$2=ورقة1!H217,ورقة1!G217=\"بنت\"),1,0)","v":0},{"$f":"IF(D217=0,\"\",SUM($D$2:D217))","v":""},"روان هانى سعد عبد الفتاح محمد عبا","بنت",3,2]
[217,{"$f":"IF(AND(ورقة2!$H$2=ورقة1!I218,ورقة2!$F$2=ورقة1!H218,ورقة1!G218=\"ولد\"),1,0)","v":0},{"$f":"IF(B218=0,\"\",SUM($B$2:B218))","v":""},{"$f":"IF(AND(ورقة2!$H$2=ورقة1!I218,ورقة2!$F$2=ورقة1!H218,ورقة1!G218=\"بنت\"),1,0)","v":0},{"$f":"IF(D218=0,\"\",SUM($D$2:D218))","v":""},"رودينا محمد رضا مهدى محمد مسلم","بنت",3,1]
[218,{"$f":"IF(AND(ورقة2!$H$2=ورقة1!I219,ورقة2!$F$2=ورقة1!H219,ورقة1!G219=\"ولد\"),1,0)","v":0},{"$f":"IF(B219=0,\"\",SUM($B$2:B219))","v":""},{"$f":"IF(AND(ورقة2!$H$2=ورقة1!I219,ورقة2!$F$2=ورقة1!H219,ورقة1!G219=\"بنت\"),1,0)","v":0},{"$f":"IF(D219=0,\"\",SUM($D$2:D219))","v":""},"روضه صالح فتحى عبد الرحمن احمد خفاجى","بنت",3,2]
[219,{"$f":"IF(AND(ورقة2!$H$2=ورقة1!I220,ورقة2!$F$2=ورقة1!H220,ورقة1!G220=\"ولد\"),1,0)","v":0},{"$f":"IF(B220=0,\"\",SUM($B$2:B220))","v":""},{"$f":"IF(AND(ورقة2!$H$2=ورقة1!I220,ورقة2!$F$2=ورقة1!H220,ورقة1!G220=\"بنت\"),1,0)","v":0},{"$f":"IF(D220=0,\"\",SUM($D$2:D220))","v":""},"روينا عبد المنعم شوقى عبد المنعم امام راشد","بنت",3,2]
[220,{"$f":"IF(AND(ورقة2!$H$2=ورقة1!I221,ورقة2!$F$2=ورقة1!H221,ورقة1!G221=\"ولد\"),1,0)","v":0},{"$f":"IF(B221=0,\"\",SUM($B$2:B221))","v":""},{"$f":"IF(AND(ورقة2!$H$2=ورقة1!I221,ورقة2!$F$2=ورقة1!H221,ورقة1!G221=\"بنت\"),1,0)","v":0},{"$f":"IF(D221=0,\"\",SUM($D$2:D221))","v":""},"ريماس طلعت عبدالرحمن مأمون عبدالمطلب","بنت",3,1]
[221,{"$f":"IF(AND(ورقة2!$H$2=ورقة1!I222,ورقة2!$F$2=ورقة1!H222,ورقة1!G222=\"ولد\"),1,0)","v":0},{"$f":"IF(B222=0,\"\",SUM($B$2:B222))","v":""},{"$f":"IF(AND(ورقة2!$H$2=ورقة1!I222,ورقة2!$F$2=ورقة1!H222,ورقة1!G222=\"بنت\"),1,0)","v":0},{"$f":"IF(D222=0,\"\",SUM($D$2:D222))","v":""},"زهراء مجدى فتحى عبد السلام صوابى","بنت",3,2]
[222,{"$f":"IF(AND(ورقة2!$H$2=ورقة1!I223,ورقة2!$F$2=ورقة1!H223,ورقة1!G223=\"ولد\"),1,0)","v":0},{"$f":"IF(B223=0,\"\",SUM($B$2:B223))","v":""},{"$f":"IF(AND(ورقة2!$H$2=ورقة1!I223,ورقة2!$F$2=ورقة1!H223,ورقة1!G223=\"بنت\"),1,0)","v":0},{"$f":"IF(D223=0,\"\",SUM($D$2:D223))","v":""},"سارة السيد محمد عبد البر محمد شرف الدين","بنت",3,2]
[223,{"$f":"IF(AND(ورقة2!$H$2=ورقة1!I224,ورقة2!$F$2=ورقة1!H224,ورقة1!G224=\"ولد\"),1,0)","v":0},{"$f":"IF(B224=0,\"\",SUM($B$2:B224))","v":""},{"$f":"IF(AND(ورقة2!$H$2=ورقة1!I224,ورقة2!$F$2=ورقة1!H224,ورقة1!G224=\"بنت\"),1,0)","v":0},{"$f":"IF(D224=0,\"\",SUM($D$2:D224))","v":""},"سارة صلاح محمد محمود عبد الله العرضى","بنت",3,5]
[224,{"$f":"IF(AND(ورقة2!$H$2=ورقة1!I225,ورقة2!$F$2=ورقة1!H225,ورقة1!G225=\"ولد\"),1,0)","v":0},{"$f":"IF(B225=0,\"\",SUM($B$2:B225))","v":""},{"$f":"IF(AND(ورقة2!$H$2=ورقة1!I225,ورقة2!$F$2=ورقة1!H225,ورقة1!G225=\"بنت\"),1,0)","v":0},{"$f":"IF(D225=0,\"\",SUM($D$2:D225))","v":""},"سلمى رزق السعيد جبر منصور الشيخ","بنت",3,2]
[225,{"$f":"IF(AND(ورقة2!$H$2=ورقة1!I226,ورقة2!$F$2=ورقة1!H226,ورقة1!G226=\"ولد\"),1,0)","v":0},{"$f":"IF(B226=0,\"\",SUM($B$2:B226))","v":""},{"$f":"IF(AND(ورقة2!$H$2=ورقة1!I226,ورقة2!$F$2=ورقة1!H226,ورقة1!G226=\"بنت\"),1,0)","v":0},{"$f":"IF(D226=0,\"\",SUM($D$2:D226))","v":""},"سلمى محمد احمد محمد عفيفى","بنت",3,2]
[226,{"$f":"IF(AND(ورقة2!$H$2=ورقة1!I227,ورقة2!$F$2=ورقة1!H227,ورقة1!G227=\"ولد\"),1,0)","v":0},{"$f":"IF(B227=0,\"\",SUM($B$2:B227))","v":""},{"$f":"IF(AND(ورقة2!$H$2=ورقة1!I227,ورقة2!$F$2=ورقة1!H227,ورقة1!G227=\"بنت\"),1,0)","v":0},{"$f":"IF(D227=0,\"\",SUM($D$2:D227))","v":""},"سلمى وليد طه محمد الصليح خضر","بنت",3,3]
[227,{"$f":"IF(AND(ورقة2!$H$2=ورقة1!I228,ورقة2!$F$2=ورقة1!H228,ورقة1!G228=\"ولد\"),1,0)","v":0},{"$f":"IF(B228=0,\"\",SUM($B$2:B228))","v":""},{"$f":"IF(AND(ورقة2!$H$2=ورقة1!I228,ورقة2!$F$2=ورقة1!H228,ورقة1!G228=\"بنت\"),1,0)","v":0},{"$f":"IF(D228=0,\"\",SUM($D$2:D228))","v":""},"سلمى وليد فوزى ابوالعينين على","بنت",3,2]
[228,{"$f":"IF(AND(ورقة2!$H$2=ورقة1!I229,ورقة2!$F$2=ورقة1!H229,ورقة1!G229=\"ولد\"),1,0)","v":0},{"$f":"IF(B229=0,\"\",SUM($B$2:B229))","v":""},{"$f":"IF(AND(ورقة2!$H$2=ورقة1!I229,ورقة2!$F$2=ورقة1!H229,ورقة1!G229=\"بنت\"),1,0)","v":0},{"$f":"IF(D229=0,\"\",SUM($D$2:D229))","v":""},"سما احمد السيد عبد الرشيد سرحان","بنت",3,3]
[229,{"$f":"IF(AND(ورقة2!$H$2=ورقة1!I230,ورقة2!$F$2=ورقة1!H230,ورقة1!G230=\"ولد\"),1,0)","v":0},{"$f":"IF(B230=0,\"\",SUM($B$2:B230))","v":""},{"$f":"IF(AND(ورقة2!$H$2=ورقة1!I230,ورقة2!$F$2=ورقة1!H230,ورقة1!G230=\"بنت\"),1,0)","v":0},{"$f":"IF(D230=0,\"\",SUM($D$2:D230))","v":""},"سما سمير رمضان حسن كفافى","بنت",3,2]
[230,{"$f":"IF(AND(ورقة2!$H$2=ورقة1!I231,ورقة2!$F$2=ورقة1!H231,ورقة1!G231=\"ولد\"),1,0)","v":0},{"$f":"IF(B231=0,\"\",SUM($B$2:B231))","v":""},{"$f":"IF(AND(ورقة2!$H$2=ورقة1!I231,ورقة2!$F$2=ورقة1!H231,ورقة1!G231=\"بنت\"),1,0)","v":0},{"$f":"IF(D231=0,\"\",SUM($D$2:D231))","v":""},"سمر هانى فرحات عبد الرحمن على ابو العينين","بنت",3,3]
[231,{"$f":"IF(AND(ورقة2!$H$2=ورقة1!I232,ورقة2!$F$2=ورقة1!H232,ورقة1!G232=\"ولد\"),1,0)","v":0},{"$f":"IF(B232=0,\"\",SUM($B$2:B232))","v":""},{"$f":"IF(AND(ورقة2!$H$2=ورقة1!I232,ورقة2!$F$2=ورقة1!H232,ورقة1!G232=\"بنت\"),1,0)","v":0},{"$f":"IF(D232=0,\"\",SUM($D$2:D232))","v":""},"سميرة السعيد عبد الرحمن رشاد محمد النمر","بنت",3,3]
[232,{"$f":"IF(AND(ورقة2!$H$2=ورقة1!I233,ورقة2!$F$2=ورقة1!H233,ورقة1!G233=\"ولد\"),1,0)","v":0},{"$f":"IF(B233=0,\"\",SUM($B$2:B233))","v":""},{"$f":"IF(AND(ورقة2!$H$2=ورقة1!I233,ورقة2!$F$2=ورقة1!H233,ورقة1!G233=\"بنت\"),1,0)","v":0},{"$f":"IF(D233=0,\"\",SUM($D$2:D233))","v":""},"سميره منتصر فتحى احمد السيد خاطر","بنت",3,3]
[233,{"$f":"IF(AND(ورقة2!$H$2=ورقة1!I234,ورقة2!$F$2=ورقة1!H234,ورقة1!G234=\"ولد\"),1,0)","v":0},{"$f":"IF(B234=0,\"\",SUM($B$2:B234))","v":""},{"$f":"IF(AND(ورقة2!$H$2=ورقة1!I234,ورقة2!$F$2=ورقة1!H234,ورقة1!G234=\"بنت\"),1,0)","v":0},{"$f":"IF(D234=0,\"\",SUM($D$2:D234))","v":""},"شروق ابراهيم عبد الهادى ابراهيم على شاهين","بنت",3,3]
[234,{"$f":"IF(AND(ورقة2!$H$2=ورقة1!I235,ورقة2!$F$2=ورقة1!H235,ورقة1!G235=\"ولد\"),1,0)","v":0},{"$f":"IF(B235=0,\"\",SUM($B$2:B235))","v":""},{"$f":"IF(AND(ورقة2!$H$2=ورقة1!I235,ورقة2!$F$2=ورقة1!H235,ورقة1!G235=\"بنت\"),1,0)","v":0},{"$f":"IF(D235=0,\"\",SUM($D$2:D235))","v":""},"شروق نزيه عفيفى عبد الوهاب القاضى","بنت",3,3]
[235,{"$f":"IF(AND(ورقة2!$H$2=ورقة1!I236,ورقة2!$F$2=ورقة1!H236,ورقة1!G236=\"ولد\"),1,0)","v":0},{"$f":"IF(B236=0,\"\",SUM($B$2:B236))","v":""},{"$f":"IF(AND(ورقة2!$H$2=ورقة1!I236,ورقة2!$F$2=ورقة1!H236,ورقة1!G236=\"بنت\"),1,0)","v":0},{"$f":"IF(D236=0,\"\",SUM($D$2:D236))","v":""},"شمس عبد الوهاب محمد حسن محمد النمر","بنت",3,3]
[236,{"$f":"IF(AND(ورقة2!$H$2=ورقة1!I237,ورقة2!$F$2=ورقة1!H237,ورقة1!G237=\"ولد\"),1,0)","v":0},{"$f":"IF(B237=0,\"\",SUM($B$2:B237))","v":""},{"$f":"IF(AND(ورقة2!$H$2=ورقة1!I237,ورقة2!$F$2=ورقة1!H237,ورقة1!G237=\"بنت\"),1,0)","v":0},{"$f":"IF(D237=0,\"\",SUM($D$2:D237))","v":""},"شهد صبحى عبدالرشيد ابراهيم سيد احمد","بنت",3,3]
[237,{"$f":"IF(AND(ورقة2!$H$2=ورقة1!I238,ورقة2!$F$2=ورقة1!H238,ورقة1!G238=\"ولد\"),1,0)","v":0},{"$f":"IF(B238=0,\"\",SUM($B$2:B238))","v":""},{"$f":"IF(AND(ورقة2!$H$2=ورقة1!I238,ورقة2!$F$2=ورقة1!H238,ورقة1!G238=\"بنت\"),1,0)","v":0},{"$f":"IF(D238=0,\"\",SUM($D$2:D238))","v":""},"شهد صلاح عبدالمنعم عبدالمجيد عبدالوهاب","بنت",3,3]
[238,{"$f":"IF(AND(ورقة2!$H$2=ورقة1!I239,ورقة2!$F$2=ورقة1!H239,ورقة1!G239=\"ولد\"),1,0)","v":0},{"$f":"IF(B239=0,\"\",SUM($B$2:B239))","v":""},{"$f":"IF(AND(ورقة2!$H$2=ورقة1!I239,ورقة2!$F$2=ورقة1!H239,ورقة1!G239=\"بنت\"),1,0)","v":0},{"$f":"IF(D239=0,\"\",SUM($D$2:D239))","v":""},"شهد عيد عبد المنعم محمد هلال","بنت",3,3]
[239,{"$f":"IF(AND(ورقة2!$H$2=ورقة1!I240,ورقة2!$F$2=ورقة1!H240,ورقة1!G240=\"ولد\"),1,0)","v":0},{"$f":"IF(B240=0,\"\",SUM($B$2:B240))","v":""},{"$f":"IF(AND(ورقة2!$H$2=ورقة1!I240,ورقة2!$F$2=ورقة1!H240,ورقة1!G240=\"بنت\"),1,0)","v":0},{"$f":"IF(D240=0,\"\",SUM($D$2:D240))","v":""},"شهد محمد سعد احمد عبد الرحمن حخاجى","بنت",3,1]
[240,{"$f":"IF(AND(ورقة2!$H$2=ورقة1!I241,ورقة2!$F$2=ورقة1!H241,ورقة1!G241=\"ولد\"),1,0)","v":0},{"$f":"IF(B241=0,\"\",SUM($B$2:B241))","v":""},{"$f":"IF(AND(ورقة2!$H$2=ورقة1!I241,ورقة2!$F$2=ورقة1!H241,ورقة1!G241=\"بنت\"),1,0)","v":0},{"$f":"IF(D241=0,\"\",SUM($D$2:D241))","v":""},"شهد وائل كرم محمود عمر","بنت",3,3]
[241,{"$f":"IF(AND(ورقة2!$H$2=ورقة1!I242,ورقة2!$F$2=ورقة1!H242,ورقة1!G242=\"ولد\"),1,0)","v":0},{"$f":"IF(B242=0,\"\",SUM($B$2:B242))","v":""},{"$f":"IF(AND(ورقة2!$H$2=ورقة1!I242,ورقة2!$F$2=ورقة1!H242,ورقة1!G242=\"بنت\"),1,0)","v":0},{"$f":"IF(D242=0,\"\",SUM($D$2:D242))","v":""},"شهنده وائل كرم محمود عمر","بنت",3,3]
[242,{"$f":"IF(AND(ورقة2!$H$2=ورقة1!I243,ورقة2!$F$2=ورقة1!H243,ورقة1!G243=\"ولد\"),1,0)","v":0},{"$f":"IF(B243=0,\"\",SUM($B$2:B243))","v":""},{"$f":"IF(AND(ورقة2!$H$2=ورقة1!I243,ورقة2!$F$2=ورقة1!H243,ورقة1!G243=\"بنت\"),1,0)","v":0},{"$f":"IF(D243=0,\"\",SUM($D$2:D243))","v":""},"صفية حسام عواد الهادى عواد","بنت",3,5]
[243,{"$f":"IF(AND(ورقة2!$H$2=ورقة1!I244,ورقة2!$F$2=ورقة1!H244,ورقة1!G244=\"ولد\"),1,0)","v":0},{"$f":"IF(B244=0,\"\",SUM($B$2:B244))","v":""},{"$f":"IF(AND(ورقة2!$H$2=ورقة1!I244,ورقة2!$F$2=ورقة1!H244,ورقة1!G244=\"بنت\"),1,0)","v":0},{"$f":"IF(D244=0,\"\",SUM($D$2:D244))","v":""},"ضحى اسامه محمد سالم محمد كليب","بنت",3,3]
[244,{"$f":"IF(AND(ورقة2!$H$2=ورقة1!I245,ورقة2!$F$2=ورقة1!H245,ورقة1!G245=\"ولد\"),1,0)","v":0},{"$f":"IF(B245=0,\"\",SUM($B$2:B245))","v":""},{"$f":"IF(AND(ورقة2!$H$2=ورقة1!I245,ورقة2!$F$2=ورقة1!H245,ورقة1!G245=\"بنت\"),1,0)","v":0},{"$f":"IF(D245=0,\"\",SUM($D$2:D245))","v":""},"عزة محمد جمال مطهر السعيد شرف الدين","بنت",3,3]
[245,{"$f":"IF(AND(ورقة2!$H$2=ورقة1!I246,ورقة2!$F$2=ورقة1!H246,ورقة1!G246=\"ولد\"),1,0)","v":0},{"$f":"IF(B246=0,\"\",SUM($B$2:B246))","v":""},{"$f":"IF(AND(ورقة2!$H$2=ورقة1!I246,ورقة2!$F$2=ورقة1!H246,ورقة1!G246=\"بنت\"),1,0)","v":0},{"$f":"IF(D246=0,\"\",SUM($D$2:D246))","v":""},"علياء محمد عبدالفتاح موسى عبدالوهاب","بنت",3,3]
[246,{"$f":"IF(AND(ورقة2!$H$2=ورقة1!I247,ورقة2!$F$2=ورقة1!H247,ورقة1!G247=\"ولد\"),1,0)","v":0},{"$f":"IF(B247=0,\"\",SUM($B$2:B247))","v":""},{"$f":"IF(AND(ورقة2!$H$2=ورقة1!I247,ورقة2!$F$2=ورقة1!H247,ورقة1!G247=\"بنت\"),1,0)","v":0},{"$f":"IF(D247=0,\"\",SUM($D$2:D247))","v":""},"غرام رضا عبد الفتاح محمد مسعد كفافى","بنت",3,3]
[247,{"$f":"IF(AND(ورقة2!$H$2=ورقة1!I248,ورقة2!$F$2=ورقة1!H248,ورقة1!G248=\"ولد\"),1,0)","v":0},{"$f":"IF(B248=0,\"\",SUM($B$2:B248))","v":""},{"$f":"IF(AND(ورقة2!$H$2=ورقة1!I248,ورقة2!$F$2=ورقة1!H248,ورقة1!G248=\"بنت\"),1,0)","v":0},{"$f":"IF(D248=0,\"\",SUM($D$2:D248))","v":""},"فاطمة تامر صلاح بدران ابراهيم","بنت",3,1]
[248,{"$f":"IF(AND(ورقة2!$H$2=ورقة1!I249,ورقة2!$F$2=ورقة1!H249,ورقة1!G249=\"ولد\"),1,0)","v":0},{"$f":"IF(B249=0,\"\",SUM($B$2:B249))","v":""},{"$f":"IF(AND(ورقة2!$H$2=ورقة1!I249,ورقة2!$F$2=ورقة1!H249,ورقة1!G249=\"بنت\"),1,0)","v":0},{"$f":"IF(D249=0,\"\",SUM($D$2:D249))","v":""},"فاطمة طارق محمود حسن محمد النمر","بنت",3,3]
[249,{"$f":"IF(AND(ورقة2!$H$2=ورقة1!I250,ورقة2!$F$2=ورقة1!H250,ورقة1!G250=\"ولد\"),1,0)","v":0},{"$f":"IF(B250=0,\"\",SUM($B$2:B250))","v":""},{"$f":"IF(AND(ورقة2!$H$2=ورقة1!I250,ورقة2!$F$2=ورقة1!H250,ورقة1!G250=\"بنت\"),1,0)","v":0},{"$f":"IF(D250=0,\"\",SUM($D$2:D250))","v":""},"فاطمه صبحى على حسن على البصيلى","بنت",3,3]
[250,{"$f":"IF(AND(ورقة2!$H$2=ورقة1!I251,ورقة2!$F$2=ورقة1!H251,ورقة1!G251=\"ولد\"),1,0)","v":0},{"$f":"IF(B251=0,\"\",SUM($B$2:B251))","v":""},{"$f":"IF(AND(ورقة2!$H$2=ورقة1!I251,ورقة2!$F$2=ورقة1!H251,ورقة1!G251=\"بنت\"),1,0)","v":0},{"$f":"IF(D251=0,\"\",SUM($D$2:D251))","v":""},"فرح فتحى ابراهيم محمد سليمان عبا","بنت",3,3]
[251,{"$f":"IF(AND(ورقة2!$H$2=ورقة1!I252,ورقة2!$F$2=ورقة1!H252,ورقة1!G252=\"ولد\"),1,0)","v":0},{"$f":"IF(B252=0,\"\",SUM($B$2:B252))","v":""},{"$f":"IF(AND(ورقة2!$H$2=ورقة1!I252,ورقة2!$F$2=ورقة1!H252,ورقة1!G252=\"بنت\"),1,0)","v":0},{"$f":"IF(D252=0,\"\",SUM($D$2:D252))","v":""},"فرح كرم محمود عبد الحليم عفيفى","بنت",3,3]
[252,{"$f":"IF(AND(ورقة2!$H$2=ورقة1!I253,ورقة2!$F$2=ورقة1!H253,ورقة1!G253=\"ولد\"),1,0)","v":0},{"$f":"IF(B253=0,\"\",SUM($B$2:B253))","v":""},{"$f":"IF(AND(ورقة2!$H$2=ورقة1!I253,ورقة2!$F$2=ورقة1!H253,ورقة1!G253=\"بنت\"),1,0)","v":0},{"$f":"IF(D253=0,\"\",SUM($D$2:D253))","v":""},"فرحة احمد انور الصياد انور موسى","بنت",3,3]
[253,{"$f":"IF(AND(ورقة2!$H$2=ورقة1!I254,ورقة2!$F$2=ورقة1!H254,ورقة1!G254=\"ولد\"),1,0)","v":0},{"$f":"IF(B254=0,\"\",SUM($B$2:B254))","v":""},{"$f":"IF(AND(ورقة2!$H$2=ورقة1!I254,ورقة2!$F$2=ورقة1!H254,ورقة1!G254=\"بنت\"),1,0)","v":0},{"$f":"IF(D254=0,\"\",SUM($D$2:D254))","v":""},"فرحة عبد الرحمن امام احمد امام","بنت",3,3]
[254,{"$f":"IF(AND(ورقة2!$H$2=ورقة1!I255,ورقة2!$F$2=ورقة1!H255,ورقة1!G255=\"ولد\"),1,0)","v":0},{"$f":"IF(B255=0,\"\",SUM($B$2:B255))","v":""},{"$f":"IF(AND(ورقة2!$H$2=ورقة1!I255,ورقة2!$F$2=ورقة1!H255,ورقة1!G255=\"بنت\"),1,0)","v":0},{"$f":"IF(D255=0,\"\",SUM($D$2:D255))","v":""},"فرحة عبدالرحمن شوقى عبد الرحمن عسكر","بنت",3,3]
[255,{"$f":"IF(AND(ورقة2!$H$2=ورقة1!I256,ورقة2!$F$2=ورقة1!H256,ورقة1!G256=\"ولد\"),1,0)","v":0},{"$f":"IF(B256=0,\"\",SUM($B$2:B256))","v":""},{"$f":"IF(AND(ورقة2!$H$2=ورقة1!I256,ورقة2!$F$2=ورقة1!H256,ورقة1!G256=\"بنت\"),1,0)","v":0},{"$f":"IF(D256=0,\"\",SUM($D$2:D256))","v":""},"كريمة عماد محمود عبد الرشيد محمد","بنت",3,3]
[256,{"$f":"IF(AND(ورقة2!$H$2=ورقة1!I257,ورقة2!$F$2=ورقة1!H257,ورقة1!G257=\"ولد\"),1,0)","v":0},{"$f":"IF(B257=0,\"\",SUM($B$2:B257))","v":""},{"$f":"IF(AND(ورقة2!$H$2=ورقة1!I257,ورقة2!$F$2=ورقة1!H257,ورقة1!G257=\"بنت\"),1,0)","v":0},{"$f":"IF(D257=0,\"\",SUM($D$2:D257))","v":""},"لميس محمد الهادى عبدالله الهادى","بنت",3,5]
[257,{"$f":"IF(AND(ورقة2!$H$2=ورقة1!I258,ورقة2!$F$2=ورقة1!H258,ورقة1!G258=\"ولد\"),1,0)","v":0},{"$f":"IF(B258=0,\"\",SUM($B$2:B258))","v":""},{"$f":"IF(AND(ورقة2!$H$2=ورقة1!I258,ورقة2!$F$2=ورقة1!H258,ورقة1!G258=\"بنت\"),1,0)","v":0},{"$f":"IF(D258=0,\"\",SUM($D$2:D258))","v":""},"مروه عفيفى صابر محمود الحسينى","بنت",3,3]
[258,{"$f":"IF(AND(ورقة2!$H$2=ورقة1!I259,ورقة2!$F$2=ورقة1!H259,ورقة1!G259=\"ولد\"),1,0)","v":0},{"$f":"IF(B259=0,\"\",SUM($B$2:B259))","v":""},{"$f":"IF(AND(ورقة2!$H$2=ورقة1!I259,ورقة2!$F$2=ورقة1!H259,ورقة1!G259=\"بنت\"),1,0)","v":1},{"$f":"IF(D259=0,\"\",SUM($D$2:D259))","v":3},"مريم ادهم محمد محمد محمد سليمان","بنت",3,4]
[259,{"$f":"IF(AND(ورقة2!$H$2=ورقة1!I260,ورقة2!$F$2=ورقة1!H260,ورقة1!G260=\"ولد\"),1,0)","v":0},{"$f":"IF(B260=0,\"\",SUM($B$2:B260))","v":""},{"$f":"IF(AND(ورقة2!$H$2=ورقة1!I260,ورقة2!$F$2=ورقة1!H260,ورقة1!G260=\"بنت\"),1,0)","v":1},{"$f":"IF(D260=0,\"\",SUM($D$2:D260))","v":4},"مريم اسلام عبد الجواد عليوة عبد الجواد","بنت",3,4]
[260,{"$f":"IF(AND(ورقة2!$H$2=ورقة1!I261,ورقة2!$F$2=ورقة1!H261,ورقة1!G261=\"ولد\"),1,0)","v":0},{"$f":"IF(B261=0,\"\",SUM($B$2:B261))","v":""},{"$f":"IF(AND(ورقة2!$H$2=ورقة1!I261,ورقة2!$F$2=ورقة1!H261,ورقة1!G261=\"بنت\"),1,0)","v":1},{"$f":"IF(D261=0,\"\",SUM($D$2:D261))","v":5},"مريم سامح عفيفى محمد احمد عيد","بنت",3,4]
[261,{"$f":"IF(AND(ورقة2!$H$2=ورقة1!I262,ورقة2!$F$2=ورقة1!H262,ورقة1!G262=\"ولد\"),1,0)","v":0},{"$f":"IF(B262=0,\"\",SUM($B$2:B262))","v":""},{"$f":"IF(AND(ورقة2!$H$2=ورقة1!I262,ورقة2!$F$2=ورقة1!H262,ورقة1!G262=\"بنت\"),1,0)","v":1},{"$f":"IF(D262=0,\"\",SUM($D$2:D262))","v":6},"مريم صلاح محمد عبدالله محمد","بنت",3,4]
[262,{"$f":"IF(AND(ورقة2!$H$2=ورقة1!I263,ورقة2!$F$2=ورقة1!H263,ورقة1!G263=\"ولد\"),1,0)","v":0},{"$f":"IF(B263=0,\"\",SUM($B$2:B263))","v":""},{"$f":"IF(AND(ورقة2!$H$2=ورقة1!I263,ورقة2!$F$2=ورقة1!H263,ورقة1!G263=\"بنت\"),1,0)","v":0},{"$f":"IF(D263=0,\"\",SUM($D$2:D263))","v":""},"مريم طارق عبدالرحمن عبدالمرضى بدوى","بنت",3,2]
[263,{"$f":"IF(AND(ورقة2!$H$2=ورقة1!I264,ورقة2!$F$2=ورقة1!H264,ورقة1!G264=\"ولد\"),1,0)","v":0},{"$f":"IF(B264=0,\"\",SUM($B$2:B264))","v":""},{"$f":"IF(AND(ورقة2!$H$2=ورقة1!I264,ورقة2!$F$2=ورقة1!H264,ورقة1!G264=\"بنت\"),1,0)","v":0},{"$f":"IF(D264=0,\"\",SUM($D$2:D264))","v":""},"مريم فرحات محمد عبد الفتاح انور","بنت",3,5]
[264,{"$f":"IF(AND(ورقة2!$H$2=ورقة1!I265,ورقة2!$F$2=ورقة1!H265,ورقة1!G265=\"ولد\"),1,0)","v":0},{"$f":"IF(B265=0,\"\",SUM($B$2:B265))","v":""},{"$f":"IF(AND(ورقة2!$H$2=ورقة1!I265,ورقة2!$F$2=ورقة1!H265,ورقة1!G265=\"بنت\"),1,0)","v":1},{"$f":"IF(D265=0,\"\",SUM($D$2:D265))","v":7},"مريم محمد عبد المنعم احمد كردى","بنت",3,4]
[265,{"$f":"IF(AND(ورقة2!$H$2=ورقة1!I266,ورقة2!$F$2=ورقة1!H266,ورقة1!G266=\"ولد\"),1,0)","v":0},{"$f":"IF(B266=0,\"\",SUM($B$2:B266))","v":""},{"$f":"IF(AND(ورقة2!$H$2=ورقة1!I266,ورقة2!$F$2=ورقة1!H266,ورقة1!G266=\"بنت\"),1,0)","v":0},{"$f":"IF(D266=0,\"\",SUM($D$2:D266))","v":""},"مريم منتصر محمد عفيفى محمد","بنت",3,3]
[266,{"$f":"IF(AND(ورقة2!$H$2=ورقة1!I267,ورقة2!$F$2=ورقة1!H267,ورقة1!G267=\"ولد\"),1,0)","v":0},{"$f":"IF(B267=0,\"\",SUM($B$2:B267))","v":""},{"$f":"IF(AND(ورقة2!$H$2=ورقة1!I267,ورقة2!$F$2=ورقة1!H267,ورقة1!G267=\"بنت\"),1,0)","v":1},{"$f":"IF(D267=0,\"\",SUM($D$2:D267))","v":8},"مريم منصور عبدالمنعم احمد جاد منصور","بنت",3,4]
[267,{"$f":"IF(AND(ورقة2!$H$2=ورقة1!I268,ورقة2!$F$2=ورقة1!H268,ورقة1!G268=\"ولد\"),1,0)","v":0},{"$f":"IF(B268=0,\"\",SUM($B$2:B268))","v":""},{"$f":"IF(AND(ورقة2!$H$2=ورقة1!I268,ورقة2!$F$2=ورقة1!H268,ورقة1!G268=\"بنت\"),1,0)","v":1},{"$f":"IF(D268=0,\"\",SUM($D$2:D268))","v":9},"ملك احمد بدوى مكى محمد صالح","بنت",3,4]
[268,{"$f":"IF(AND(ورقة2!$H$2=ورقة1!I269,ورقة2!$F$2=ورقة1!H269,ورقة1!G269=\"ولد\"),1,0)","v":0},{"$f":"IF(B269=0,\"\",SUM($B$2:B269))","v":""},{"$f":"IF(AND(ورقة2!$H$2=ورقة1!I269,ورقة2!$F$2=ورقة1!H269,ورقة1!G269=\"بنت\"),1,0)","v":1},{"$f":"IF(D269=0,\"\",SUM($D$2:D269))","v":10},"ملك حماده عبدالرحمن عبدالمعطى","بنت",3,4]
[269,{"$f":"IF(AND(ورقة2!$H$2=ورقة1!I270,ورقة2!$F$2=ورقة1!H270,ورقة1!G270=\"ولد\"),1,0)","v":0},{"$f":"IF(B270=0,\"\",SUM($B$2:B270))","v":""},{"$f":"IF(AND(ورقة2!$H$2=ورقة1!I270,ورقة2!$F$2=ورقة1!H270,ورقة1!G270=\"بنت\"),1,0)","v":1},{"$f":"IF(D270=0,\"\",SUM($D$2:D270))","v":11},"ملك سامح الصياد محمد الصياد حلوة","بنت",3,4]
[270,{"$f":"IF(AND(ورقة2!$H$2=ورقة1!I271,ورقة2!$F$2=ورقة1!H271,ورقة1!G271=\"ولد\"),1,0)","v":0},{"$f":"IF(B271=0,\"\",SUM($B$2:B271))","v":""},{"$f":"IF(AND(ورقة2!$H$2=ورقة1!I271,ورقة2!$F$2=ورقة1!H271,ورقة1!G271=\"بنت\"),1,0)","v":1},{"$f":"IF(D271=0,\"\",SUM($D$2:D271))","v":12},"ملك سامح محمد معاز حسين","بنت",3,4]
[271,{"$f":"IF(AND(ورقة2!$H$2=ورقة1!I272,ورقة2!$F$2=ورقة1!H272,ورقة1!G272=\"ولد\"),1,0)","v":0},{"$f":"IF(B272=0,\"\",SUM($B$2:B272))","v":""},{"$f":"IF(AND(ورقة2!$H$2=ورقة1!I272,ورقة2!$F$2=ورقة1!H272,ورقة1!G272=\"بنت\"),1,0)","v":1},{"$f":"IF(D272=0,\"\",SUM($D$2:D272))","v":13},"ملك شريف محمد رفاعى ابراهيم","بنت",3,4]
[272,{"$f":"IF(AND(ورقة2!$H$2=ورقة1!I273,ورقة2!$F$2=ورقة1!H273,ورقة1!G273=\"ولد\"),1,0)","v":0},{"$f":"IF(B273=0,\"\",SUM($B$2:B273))","v":""},{"$f":"IF(AND(ورقة2!$H$2=ورقة1!I273,ورقة2!$F$2=ورقة1!H273,ورقة1!G273=\"بنت\"),1,0)","v":1},{"$f":"IF(D273=0,\"\",SUM($D$2:D273))","v":14},"ملك عبد الفتاح عبد اللطيف عبد الفتاح الصوابى","بنت",3,4]
[273,{"$f":"IF(AND(ورقة2!$H$2=ورقة1!I274,ورقة2!$F$2=ورقة1!H274,ورقة1!G274=\"ولد\"),1,0)","v":0},{"$f":"IF(B274=0,\"\",SUM($B$2:B274))","v":""},{"$f":"IF(AND(ورقة2!$H$2=ورقة1!I274,ورقة2!$F$2=ورقة1!H274,ورقة1!G274=\"بنت\"),1,0)","v":1},{"$f":"IF(D274=0,\"\",SUM($D$2:D274))","v":15},"ملك محمد سعد محمد ضرار","بنت",3,4]
[274,{"$f":"IF(AND(ورقة2!$H$2=ورقة1!I275,ورقة2!$F$2=ورقة1!H275,ورقة1!G275=\"ولد\"),1,0)","v":0},{"$f":"IF(B275=0,\"\",SUM($B$2:B275))","v":""},{"$f":"IF(AND(ورقة2!$H$2=ورقة1!I275,ورقة2!$F$2=ورقة1!H275,ورقة1!G275=\"بنت\"),1,0)","v":0},{"$f":"IF(D275=0,\"\",SUM($D$2:D275))","v":""},"ملك محمد عبد الرحمن مامون عبد المطلب","بنت",3,1]
[275,{"$f":"IF(AND(ورقة2!$H$2=ورقة1!I276,ورقة2!$F$2=ورقة1!H276,ورقة1!G276=\"ولد\"),1,0)","v":0},{"$f":"IF(B276=0,\"\",SUM($B$2:B276))","v":""},{"$f":"IF(AND(ورقة2!$H$2=ورقة1!I276,ورقة2!$F$2=ورقة1!H276,ورقة1!G276=\"بنت\"),1,0)","v":1},{"$f":"IF(D276=0,\"\",SUM($D$2:D276))","v":16},"ملك محمد نجيب رزق طه نجيب","بنت",3,4]
[276,{"$f":"IF(AND(ورقة2!$H$2=ورقة1!I277,ورقة2!$F$2=ورقة1!H277,ورقة1!G277=\"ولد\"),1,0)","v":0},{"$f":"IF(B277=0,\"\",SUM($B$2:B277))","v":""},{"$f":"IF(AND(ورقة2!$H$2=ورقة1!I277,ورقة2!$F$2=ورقة1!H277,ورقة1!G277=\"بنت\"),1,0)","v":1},{"$f":"IF(D277=0,\"\",SUM($D$2:D277))","v":17},"ملك مصلح محمد الهادى احمد السيد","بنت",3,4]
[277,{"$f":"IF(AND(ورقة2!$H$2=ورقة1!I278,ورقة2!$F$2=ورقة1!H278,ورقة1!G278=\"ولد\"),1,0)","v":0},{"$f":"IF(B278=0,\"\",SUM($B$2:B278))","v":""},{"$f":"IF(AND(ورقة2!$H$2=ورقة1!I278,ورقة2!$F$2=ورقة1!H278,ورقة1!G278=\"بنت\"),1,0)","v":1},{"$f":"IF(D278=0,\"\",SUM($D$2:D278))","v":18},"ملك ناصر عبد الحميد سليمان","بنت",3,4]
[278,{"$f":"IF(AND(ورقة2!$H$2=ورقة1!I279,ورقة2!$F$2=ورقة1!H279,ورقة1!G279=\"ولد\"),1,0)","v":0},{"$f":"IF(B279=0,\"\",SUM($B$2:B279))","v":""},{"$f":"IF(AND(ورقة2!$H$2=ورقة1!I279,ورقة2!$F$2=ورقة1!H279,ورقة1!G279=\"بنت\"),1,0)","v":1},{"$f":"IF(D279=0,\"\",SUM($D$2:D279))","v":19},"ملك هانى فهمى عبد المعز محمد قنديل","بنت",3,4]
[279,{"$f":"IF(AND(ورقة2!$H$2=ورقة1!I280,ورقة2!$F$2=ورقة1!H280,ورقة1!G280=\"ولد\"),1,0)","v":0},{"$f":"IF(B280=0,\"\",SUM($B$2:B280))","v":""},{"$f":"IF(AND(ورقة2!$H$2=ورقة1!I280,ورقة2!$F$2=ورقة1!H280,ورقة1!G280=\"بنت\"),1,0)","v":1},{"$f":"IF(D280=0,\"\",SUM($D$2:D280))","v":20},"منه الله السعيد سلامة السعيد امين","بنت",3,4]
[280,{"$f":"IF(AND(ورقة2!$H$2=ورقة1!I281,ورقة2!$F$2=ورقة1!H281,ورقة1!G281=\"ولد\"),1,0)","v":0},{"$f":"IF(B281=0,\"\",SUM($B$2:B281))","v":""},{"$f":"IF(AND(ورقة2!$H$2=ورقة1!I281,ورقة2!$F$2=ورقة1!H281,ورقة1!G281=\"بنت\"),1,0)","v":0},{"$f":"IF(D281=0,\"\",SUM($D$2:D281))","v":""},"منه الله صلاح محمود عفيفى عبده العرضى","بنت",3,1]
[281,{"$f":"IF(AND(ورقة2!$H$2=ورقة1!I282,ورقة2!$F$2=ورقة1!H282,ورقة1!G282=\"ولد\"),1,0)","v":0},{"$f":"IF(B282=0,\"\",SUM($B$2:B282))","v":""},{"$f":"IF(AND(ورقة2!$H$2=ورقة1!I282,ورقة2!$F$2=ورقة1!H282,ورقة1!G282=\"بنت\"),1,0)","v":0},{"$f":"IF(D282=0,\"\",SUM($D$2:D282))","v":""},"منه ايمن احمد عبد الله محمد","بنت",3,1]
[282,{"$f":"IF(AND(ورقة2!$H$2=ورقة1!I283,ورقة2!$F$2=ورقة1!H283,ورقة1!G283=\"ولد\"),1,0)","v":0},{"$f":"IF(B283=0,\"\",SUM($B$2:B283))","v":""},{"$f":"IF(AND(ورقة2!$H$2=ورقة1!I283,ورقة2!$F$2=ورقة1!H283,ورقة1!G283=\"بنت\"),1,0)","v":1},{"$f":"IF(D283=0,\"\",SUM($D$2:D283))","v":21},"منه ايمن الطوخى الصادق عيسوى","بنت",3,4]
[283,{"$f":"IF(AND(ورقة2!$H$2=ورقة1!I284,ورقة2!$F$2=ورقة1!H284,ورقة1!G284=\"ولد\"),1,0)","v":0},{"$f":"IF(B284=0,\"\",SUM($B$2:B284))","v":""},{"$f":"IF(AND(ورقة2!$H$2=ورقة1!I284,ورقة2!$F$2=ورقة1!H284,ورقة1!G284=\"بنت\"),1,0)","v":1},{"$f":"IF(D284=0,\"\",SUM($D$2:D284))","v":22},"منه طه عبدالمجيد امين سويلم","بنت",3,4]
[284,{"$f":"IF(AND(ورقة2!$H$2=ورقة1!I285,ورقة2!$F$2=ورقة1!H285,ورقة1!G285=\"ولد\"),1,0)","v":0},{"$f":"IF(B285=0,\"\",SUM($B$2:B285))","v":""},{"$f":"IF(AND(ورقة2!$H$2=ورقة1!I285,ورقة2!$F$2=ورقة1!H285,ورقة1!G285=\"بنت\"),1,0)","v":0},{"$f":"IF(D285=0,\"\",SUM($D$2:D285))","v":""},"مها عبدالفتاح عبدالمجيد امين سويلم","بنت",3,2]
[285,{"$f":"IF(AND(ورقة2!$H$2=ورقة1!I286,ورقة2!$F$2=ورقة1!H286,ورقة1!G286=\"ولد\"),1,0)","v":0},{"$f":"IF(B286=0,\"\",SUM($B$2:B286))","v":""},{"$f":"IF(AND(ورقة2!$H$2=ورقة1!I286,ورقة2!$F$2=ورقة1!H286,ورقة1!G286=\"بنت\"),1,0)","v":1},{"$f":"IF(D286=0,\"\",SUM($D$2:D286))","v":23},"مى عبدالله السيد عبدالحميد زيدان","بنت",3,4]
[286,{"$f":"IF(AND(ورقة2!$H$2=ورقة1!I287,ورقة2!$F$2=ورقة1!H287,ورقة1!G287=\"ولد\"),1,0)","v":0},{"$f":"IF(B287=0,\"\",SUM($B$2:B287))","v":""},{"$f":"IF(AND(ورقة2!$H$2=ورقة1!I287,ورقة2!$F$2=ورقة1!H287,ورقة1!G287=\"بنت\"),1,0)","v":1},{"$f":"IF(D287=0,\"\",SUM($D$2:D287))","v":24},"مى محمد عز العرب محمد عبدالرؤوف","بنت",3,4]
[287,{"$f":"IF(AND(ورقة2!$H$2=ورقة1!I288,ورقة2!$F$2=ورقة1!H288,ورقة1!G288=\"ولد\"),1,0)","v":0},{"$f":"IF(B288=0,\"\",SUM($B$2:B288))","v":""},{"$f":"IF(AND(ورقة2!$H$2=ورقة1!I288,ورقة2!$F$2=ورقة1!H288,ورقة1!G288=\"بنت\"),1,0)","v":1},{"$f":"IF(D288=0,\"\",SUM($D$2:D288))","v":25},"ميرنا خالد صبحى حافظ عبد المقصود","بنت",3,4]
[288,{"$f":"IF(AND(ورقة2!$H$2=ورقة1!I289,ورقة2!$F$2=ورقة1!H289,ورقة1!G289=\"ولد\"),1,0)","v":0},{"$f":"IF(B289=0,\"\",SUM($B$2:B289))","v":""},{"$f":"IF(AND(ورقة2!$H$2=ورقة1!I289,ورقة2!$F$2=ورقة1!H289,ورقة1!G289=\"بنت\"),1,0)","v":1},{"$f":"IF(D289=0,\"\",SUM($D$2:D289))","v":26},"ميرنا محمد صلاح عبد الفتاح عابد زيدان","بنت",3,4]
[289,{"$f":"IF(AND(ورقة2!$H$2=ورقة1!I290,ورقة2!$F$2=ورقة1!H290,ورقة1!G290=\"ولد\"),1,0)","v":0},{"$f":"IF(B290=0,\"\",SUM($B$2:B290))","v":""},{"$f":"IF(AND(ورقة2!$H$2=ورقة1!I290,ورقة2!$F$2=ورقة1!H290,ورقة1!G290=\"بنت\"),1,0)","v":0},{"$f":"IF(D290=0,\"\",SUM($D$2:D290))","v":""},"ندى احمد محمد حسن محمد النمر","بنت",3,3]
[290,{"$f":"IF(AND(ورقة2!$H$2=ورقة1!I291,ورقة2!$F$2=ورقة1!H291,ورقة1!G291=\"ولد\"),1,0)","v":0},{"$f":"IF(B291=0,\"\",SUM($B$2:B291))","v":""},{"$f":"IF(AND(ورقة2!$H$2=ورقة1!I291,ورقة2!$F$2=ورقة1!H291,ورقة1!G291=\"بنت\"),1,0)","v":0},{"$f":"IF(D291=0,\"\",SUM($D$2:D291))","v":""},"ندى محمد عبد الوهاب رفاعى جاد","بنت",3,5]
[291,{"$f":"IF(AND(ورقة2!$H$2=ورقة1!I292,ورقة2!$F$2=ورقة1!H292,ورقة1!G292=\"ولد\"),1,0)","v":0},{"$f":"IF(B292=0,\"\",SUM($B$2:B292))","v":""},{"$f":"IF(AND(ورقة2!$H$2=ورقة1!I292,ورقة2!$F$2=ورقة1!H292,ورقة1!G292=\"بنت\"),1,0)","v":0},{"$f":"IF(D292=0,\"\",SUM($D$2:D292))","v":""},"نضله محمد الصياد احمد السيد العرضى","بنت",3,5]
[292,{"$f":"IF(AND(ورقة2!$H$2=ورقة1!I293,ورقة2!$F$2=ورقة1!H293,ورقة1!G293=\"ولد\"),1,0)","v":0},{"$f":"IF(B293=0,\"\",SUM($B$2:B293))","v":""},{"$f":"IF(AND(ورقة2!$H$2=ورقة1!I293,ورقة2!$F$2=ورقة1!H293,ورقة1!G293=\"بنت\"),1,0)","v":0},{"$f":"IF(D293=0,\"\",SUM($D$2:D293))","v":""},"نعيمة محمد عبد الله الصياد شبايك","بنت",3,5]
[293,{"$f":"IF(AND(ورقة2!$H$2=ورقة1!I294,ورقة2!$F$2=ورقة1!H294,ورقة1!G294=\"ولد\"),1,0)","v":0},{"$f":"IF(B294=0,\"\",SUM($B$2:B294))","v":""},{"$f":"IF(AND(ورقة2!$H$2=ورقة1!I294,ورقة2!$F$2=ورقة1!H294,ورقة1!G294=\"بنت\"),1,0)","v":0},{"$f":"IF(D294=0,\"\",SUM($D$2:D294))","v":""},"نور الهدى عبد العال محمد عفيفى عبد العال","بنت",3,5]
[294,{"$f":"IF(AND(ورقة2!$H$2=ورقة1!I295,ورقة2!$F$2=ورقة1!H295,ورقة1!G295=\"ولد\"),1,0)","v":0},{"$f":"IF(B295=0,\"\",SUM($B$2:B295))","v":""},{"$f":"IF(AND(ورقة2!$H$2=ورقة1!I295,ورقة2!$F$2=ورقة1!H295,ورقة1!G295=\"بنت\"),1,0)","v":0},{"$f":"IF(D295=0,\"\",SUM($D$2:D295))","v":""},"نور ايهاب عصام الدين عبد الوهاب","بنت",3,5]
[295,{"$f":"IF(AND(ورقة2!$H$2=ورقة1!I296,ورقة2!$F$2=ورقة1!H296,ورقة1!G296=\"ولد\"),1,0)","v":0},{"$f":"IF(B296=0,\"\",SUM($B$2:B296))","v":""},{"$f":"IF(AND(ورقة2!$H$2=ورقة1!I296,ورقة2!$F$2=ورقة1!H296,ورقة1!G296=\"بنت\"),1,0)","v":0},{"$f":"IF(D296=0,\"\",SUM($D$2:D296))","v":""},"نور محمد فرحات على محمد عامر","بنت",3,2]
[296,{"$f":"IF(AND(ورقة2!$H$2=ورقة1!I297,ورقة2!$F$2=ورقة1!H297,ورقة1!G297=\"ولد\"),1,0)","v":0},{"$f":"IF(B297=0,\"\",SUM($B$2:B297))","v":""},{"$f":"IF(AND(ورقة2!$H$2=ورقة1!I297,ورقة2!$F$2=ورقة1!H297,ورقة1!G297=\"بنت\"),1,0)","v":0},{"$f":"IF(D297=0,\"\",SUM($D$2:D297))","v":""},"نور محمد مسعد السعيد ابن هاشم","بنت",3,5]
[297,{"$f":"IF(AND(ورقة2!$H$2=ورقة1!I298,ورقة2!$F$2=ورقة1!H298,ورقة1!G298=\"ولد\"),1,0)","v":0},{"$f":"IF(B298=0,\"\",SUM($B$2:B298))","v":""},{"$f":"IF(AND(ورقة2!$H$2=ورقة1!I298,ورقة2!$F$2=ورقة1!H298,ورقة1!G298=\"بنت\"),1,0)","v":0},{"$f":"IF(D298=0,\"\",SUM($D$2:D298))","v":""},"نوران عبدالرحمن محمد الشافعى امام","بنت",3,3]
[298,{"$f":"IF(AND(ورقة2!$H$2=ورقة1!I299,ورقة2!$F$2=ورقة1!H299,ورقة1!G299=\"ولد\"),1,0)","v":0},{"$f":"IF(B299=0,\"\",SUM($B$2:B299))","v":""},{"$f":"IF(AND(ورقة2!$H$2=ورقة1!I299,ورقة2!$F$2=ورقة1!H299,ورقة1!G299=\"بنت\"),1,0)","v":0},{"$f":"IF(D299=0,\"\",SUM($D$2:D299))","v":""},"نورهان صبحى حسنين ابراهيم حسنين","بنت",3,5]
[299,{"$f":"IF(AND(ورقة2!$H$2=ورقة1!I300,ورقة2!$F$2=ورقة1!H300,ورقة1!G300=\"ولد\"),1,0)","v":0},{"$f":"IF(B300=0,\"\",SUM($B$2:B300))","v":""},{"$f":"IF(AND(ورقة2!$H$2=ورقة1!I300,ورقة2!$F$2=ورقة1!H300,ورقة1!G300=\"بنت\"),1,0)","v":0},{"$f":"IF(D300=0,\"\",SUM($D$2:D300))","v":""},"نيجار خالد على رفاعى على دومة","بنت",3,5]
[300,{"$f":"IF(AND(ورقة2!$H$2=ورقة1!I301,ورقة2!$F$2=ورقة1!H301,ورقة1!G301=\"ولد\"),1,0)","v":0},{"$f":"IF(B301=0,\"\",SUM($B$2:B301))","v":""},{"$f":"IF(AND(ورقة2!$H$2=ورقة1!I301,ورقة2!$F$2=ورقة1!H301,ورقة1!G301=\"بنت\"),1,0)","v":0},{"$f":"IF(D301=0,\"\",SUM($D$2:D301))","v":""},"هاجر عبد المعبود محمد بيومى محمد سرحان","بنت",3,1]
[301,{"$f":"IF(AND(ورقة2!$H$2=ورقة1!I302,ورقة2!$F$2=ورقة1!H302,ورقة1!G302=\"ولد\"),1,0)","v":0},{"$f":"IF(B302=0,\"\",SUM($B$2:B302))","v":""},{"$f":"IF(AND(ورقة2!$H$2=ورقة1!I302,ورقة2!$F$2=ورقة1!H302,ورقة1!G302=\"بنت\"),1,0)","v":0},{"$f":"IF(D302=0,\"\",SUM($D$2:D302))","v":""},"هاجر محمود احمد محمد منصور","بنت",3,5]
[302,{"$f":"IF(AND(ورقة2!$H$2=ورقة1!I303,ورقة2!$F$2=ورقة1!H303,ورقة1!G303=\"ولد\"),1,0)","v":0},{"$f":"IF(B303=0,\"\",SUM($B$2:B303))","v":""},{"$f":"IF(AND(ورقة2!$H$2=ورقة1!I303,ورقة2!$F$2=ورقة1!H303,ورقة1!G303=\"بنت\"),1,0)","v":0},{"$f":"IF(D303=0,\"\",SUM($D$2:D303))","v":""},"هدى فريد عبد الرشيد ابراهيم سيد احمد","بنت",3,5]
[303,{"$f":"IF(AND(ورقة2!$H$2=ورقة1!I304,ورقة2!$F$2=ورقة1!H304,ورقة1!G304=\"ولد\"),1,0)","v":0},{"$f":"IF(B304=0,\"\",SUM($B$2:B304))","v":""},{"$f":"IF(AND(ورقة2!$H$2=ورقة1!I304,ورقة2!$F$2=ورقة1!H304,ورقة1!G304=\"بنت\"),1,0)","v":0},{"$f":"IF(D304=0,\"\",SUM($D$2:D304))","v":""},"هدى محمود سمير محمود عبدالفتاح زيدان","بنت",3,5]
[304,{"$f":"IF(AND(ورقة2!$H$2=ورقة1!I305,ورقة2!$F$2=ورقة1!H305,ورقة1!G305=\"ولد\"),1,0)","v":0},{"$f":"IF(B305=0,\"\",SUM($B$2:B305))","v":""},{"$f":"IF(AND(ورقة2!$H$2=ورقة1!I305,ورقة2!$F$2=ورقة1!H305,ورقة1!G305=\"بنت\"),1,0)","v":0},{"$f":"IF(D305=0,\"\",SUM($D$2:D305))","v":""},"ورد اسماعيل محمد حسينى عبدالفتاح سرحان","بنت",3,5]
[305,{"$f":"IF(AND(ورقة2!$H$2=ورقة1!I306,ورقة2!$F$2=ورقة1!H306,ورقة1!G306=\"ولد\"),1,0)","v":0},{"$f":"IF(B306=0,\"\",SUM($B$2:B306))","v":""},{"$f":"IF(AND(ورقة2!$H$2=ورقة1!I306,ورقة2!$F$2=ورقة1!H306,ورقة1!G306=\"بنت\"),1,0)","v":0},{"$f":"IF(D306=0,\"\",SUM($D$2:D306))","v":""},"وسام محمد السيد الهادى محمد خضر","بنت",3,5]
[306,{"$f":"IF(AND(ورقة2!$H$2=ورقة1!I307,ورقة2!$F$2=ورقة1!H307,ورقة1!G307=\"ولد\"),1,0)","v":0},{"$f":"IF(B307=0,\"\",SUM($B$2:B307))","v":""},{"$f":"IF(AND(ورقة2!$H$2=ورقة1!I307,ورقة2!$F$2=ورقة1!H307,ورقة1!G307=\"بنت\"),1,0)","v":0},{"$f":"IF(D307=0,\"\",SUM($D$2:D307))","v":""},"وفاء عبد العليم جلال فتحى عبد العليم عياد","بنت",3,2]
[307,{"$f":"IF(AND(ورقة2!$H$2=ورقة1!I308,ورقة2!$F$2=ورقة1!H308,ورقة1!G308=\"ولد\"),1,0)","v":0},{"$f":"IF(B308=0,\"\",SUM($B$2:B308))","v":""},{"$f":"IF(AND(ورقة2!$H$2=ورقة1!I308,ورقة2!$F$2=ورقة1!H308,ورقة1!G308=\"بنت\"),1,0)","v":0},{"$f":"IF(D308=0,\"\",SUM($D$2:D308))","v":""},"ياسمين اشرف فتحى حسين حسن عمار","بنت",3,2]
[308,{"$f":"IF(AND(ورقة2!$H$2=ورقة1!I309,ورقة2!$F$2=ورقة1!H309,ورقة1!G309=\"ولد\"),1,0)","v":0},{"$f":"IF(B309=0,\"\",SUM($B$2:B309))","v":""},{"$f":"IF(AND(ورقة2!$H$2=ورقة1!I309,ورقة2!$F$2=ورقة1!H309,ورقة1!G309=\"بنت\"),1,0)","v":0},{"$f":"IF(D309=0,\"\",SUM($D$2:D309))","v":""},"ياسمين الحسن نبيل السيد عبد الرحمن","بنت",3,5]
[309,{"$f":"IF(AND(ورقة2!$H$2=ورقة1!I310,ورقة2!$F$2=ورقة1!H310,ورقة1!G310=\"ولد\"),1,0)","v":0},{"$f":"IF(B310=0,\"\",SUM($B$2:B310))","v":""},{"$f":"IF(AND(ورقة2!$H$2=ورقة1!I310,ورقة2!$F$2=ورقة1!H310,ورقة1!G310=\"بنت\"),1,0)","v":0},{"$f":"IF(D310=0,\"\",SUM($D$2:D310))","v":""},"ياسمين صبحى احمد الصياد رفاعى هلال","بنت",3,5]
[310,{"$f":"IF(AND(ورقة2!$H$2=ورقة1!I311,ورقة2!$F$2=ورقة1!H311,ورقة1!G311=\"ولد\"),1,0)","v":0},{"$f":"IF(B311=0,\"\",SUM($B$2:B311))","v":""},{"$f":"IF(AND(ورقة2!$H$2=ورقة1!I311,ورقة2!$F$2=ورقة1!H311,ورقة1!G311=\"بنت\"),1,0)","v":0},{"$f":"IF(D311=0,\"\",SUM($D$2:D311))","v":""},null,"بنت",3]
[311,{"$f":"IF(AND(ورقة2!$H$2=ورقة1!I312,ورقة2!$F$2=ورقة1!H312,ورقة1!G312=\"ولد\"),1,0)","v":0},{"$f":"IF(B312=0,\"\",SUM($B$2:B312))","v":""},{"$f":"IF(AND(ورقة2!$H$2=ورقة1!I312,ورقة2!$F$2=ورقة1!H312,ورقة1!G312=\"بنت\"),1,0)","v":0},{"$f":"IF(D312=0,\"\",SUM($D$2:D312))","v":""},null,"بنت",3]
[312,{"$f":"IF(AND(ورقة2!$H$2=ورقة1!I313,ورقة2!$F$2=ورقة1!H313,ورقة1!G313=\"ولد\"),1,0)","v":0},{"$f":"IF(B313=0,\"\",SUM($B$2:B313))","v":""},{"$f":"IF(AND(ورقة2!$H$2=ورقة1!I313,ورقة2!$F$2=ورقة1!H313,ورقة1!G313=\"بنت\"),1,0)","v":0},{"$f":"IF(D313=0,\"\",SUM($D$2:D313))","v":""},null,"بنت",3]
[null,{"$f":"IF(AND(ورقة2!$H$2=ورقة1!I314,ورقة2!$F$2=ورقة1!H314,ورقة1!G314=\"ولد\"),1,0)","v":0},{"$f":"IF(B314=0,\"\",SUM($B$2:B314))","v":""},{"$f":"IF(AND(ورقة2!$H$2=ورقة1!I314,ورقة2!$F$2=ورقة1!H314,ورقة1!G314=\"بنت\"),1,0)","v":0},{"$f":"IF(D314=0,\"\",SUM($D$2:D314))","v":""},null,"بنت",3]
[null,{"$f":"IF(AND(ورقة2!$H$2=ورقة1!I315,ورقة2!$F$2=ورقة1!H315,ورقة1!G315=\"ولد\"),1,0)","v":0},{"$f":"IF(B315=0,\"\",SUM($B$2:B315))","v":""},{"$f":"IF(AND(ورقة2!$H$2=ورقة1!I315,ورقة2!$F$2=ورقة1!H315,ورقة1!G315=\"بنت\"),1,0)","v":0},{"$f":"IF(D315=0,\"\",SUM($D$2:D315))","v":""},null,"بنت",3]
[null,{"$f":"IF(AND(ورقة2!$H$2=ورقة1!I316,ورقة2!$F$2=ورقة1!H316,ورقة1!G316=\"ولد\"),1,0)","v":0},{"$f":"IF(B316=0,\"\",SUM($B$2:B316))","v":""},{"$f":"IF(AND(ورقة2!$H$2=ورقة1!I316,ورقة2!$F$2=ورقة1!H316,ورقة1!G316=\"بنت\"),1,0)","v":0},{"$f":"IF(D316=0,\"\",SUM($D$2:D316))","v":""},null,"بنت",3]
[null,{"$f":"IF(AND(ورقة2!$H$2=ورقة1!I317,ورقة2!$F$2=ورقة1!H317,ورقة1!G317=\"ولد\"),1,0)","v":0},{"$f":"IF(B317=0,\"\",SUM($B$2:B317))","v":""},{"$f":"IF(AND(ورقة2!$H$2=ورقة1!I317,ورقة2!$F$2=ورقة1!H317,ورقة1!G317=\"بنت\"),1,0)","v":0},{"$f":"IF(D317=0,\"\",SUM($D$2:D317))","v":""},null,"بنت",3]
[null,{"$f":"IF(AND(ورقة2!$H$2=ورقة1!I318,ورقة2!$F$2=ورقة1!H318,ورقة1!G318=\"ولد\"),1,0)","v":0},{"$f":"IF(B318=0,\"\",SUM($B$2:B318))","v":""},{"$f":"IF(AND(ورقة2!$H$2=ورقة1!I318,ورقة2!$F$2=ورقة1!H318,ورقة1!G318=\"بنت\"),1,0)","v":0},{"$f":"IF(D318=0,\"\",SUM($D$2:D318))","v":""},null,"بنت",3]
[null,{"$f":"IF(AND(ورقة2!$H$2=ورقة1!I319,ورقة2!$F$2=ورقة1!H319,ورقة1!G319=\"ولد\"),1,0)","v":0},{"$f":"IF(B319=0,\"\",SUM($B$2:B319))","v":""},{"$f":"IF(AND(ورقة2!$H$2=ورقة1!I319,ورقة2!$F$2=ورقة1!H319,ورقة1!G319=\"بنت\"),1,0)","v":0},{"$f":"IF(D319=0,\"\",SUM($D$2:D319))","v":""},null,"بنت",3]
[null,{"$f":"IF(AND(ورقة2!$H$2=ورقة1!I320,ورقة2!$F$2=ورقة1!H320,ورقة1!G320=\"ولد\"),1,0)","v":0},{"$f":"IF(B320=0,\"\",SUM($B$2:B320))","v":""},{"$f":"IF(AND(ورقة2!$H$2=ورقة1!I320,ورقة2!$F$2=ورقة1!H320,ورقة1!G320=\"بنت\"),1,0)","v":0},{"$f":"IF(D320=0,\"\",SUM($D$2:D320))","v":""},null,"بنت",3]
[null,{"$f":"IF(AND(ورقة2!$H$2=ورقة1!I321,ورقة2!$F$2=ورقة1!H321,ورقة1!G321=\"ولد\"),1,0)","v":0},{"$f":"IF(B321=0,\"\",SUM($B$2:B321))","v":""},{"$f":"IF(AND(ورقة2!$H$2=ورقة1!I321,ورقة2!$F$2=ورقة1!H321,ورقة1!G321=\"بنت\"),1,0)","v":0},{"$f":"IF(D321=0,\"\",SUM($D$2:D321))","v":""},null,"بنت",3]
[null,{"$f":"IF(AND(ورقة2!$H$2=ورقة1!I322,ورقة2!$F$2=ورقة1!H322,ورقة1!G322=\"ولد\"),1,0)","v":0},{"$f":"IF(B322=0,\"\",SUM($B$2:B322))","v":""},{"$f":"IF(AND(ورقة2!$H$2=ورقة1!I322,ورقة2!$F$2=ورقة1!H322,ورقة1!G322=\"بنت\"),1,0)","v":0},{"$f":"IF(D322=0,\"\",SUM($D$2:D322))","v":""},null,"بنت",3]
[null,{"$f":"IF(AND(ورقة2!$H$2=ورقة1!I323,ورقة2!$F$2=ورقة1!H323,ورقة1!G323=\"ولد\"),1,0)","v":0},{"$f":"IF(B323=0,\"\",SUM($B$2:B323))","v":""},{"$f":"IF(AND(ورقة2!$H$2=ورقة1!I323,ورقة2!$F$2=ورقة1!H323,ورقة1!G323=\"بنت\"),1,0)","v":0},{"$f":"IF(D323=0,\"\",SUM($D$2:D323))","v":""},null,"بنت",3]
[null,{"$f":"IF(AND(ورقة2!$H$2=ورقة1!I324,ورقة2!$F$2=ورقة1!H324,ورقة1!G324=\"ولد\"),1,0)","v":0},{"$f":"IF(B324=0,\"\",SUM($B$2:B324))","v":""},{"$f":"IF(AND(ورقة2!$H$2=ورقة1!I324,ورقة2!$F$2=ورقة1!H324,ورقة1!G324=\"بنت\"),1,0)","v":0},{"$f":"IF(D324=0,\"\",SUM($D$2:D324))","v":""},null,"بنت",3]
[null,{"$f":"IF(AND(ورقة2!$H$2=ورقة1!I325,ورقة2!$F$2=ورقة1!H325,ورقة1!G325=\"ولد\"),1,0)","v":0},{"$f":"IF(B325=0,\"\",SUM($B$2:B325))","v":""},{"$f":"IF(AND(ورقة2!$H$2=ورقة1!I325,ورقة2!$F$2=ورقة1!H325,ورقة1!G325=\"بنت\"),1,0)","v":0},{"$f":"IF(D325=0,\"\",SUM($D$2:D325))","v":""},null,"بنت",3]
[null,{"$f":"IF(AND(ورقة2!$H$2=ورقة1!I326,ورقة2!$F$2=ورقة1!H326,ورقة1!G326=\"ولد\"),1,0)","v":0},{"$f":"IF(B326=0,\"\",SUM($B$2:B326))","v":""},{"$f":"IF(AND(ورقة2!$H$2=ورقة1!I326,ورقة2!$F$2=ورقة1!H326,ورقة1!G326=\"بنت\"),1,0)","v":0},{"$f":"IF(D326=0,\"\",SUM($D$2:D326))","v":""},null,"بنت",3]
[null,{"$f":"IF(AND(ورقة2!$H$2=ورقة1!I327,ورقة2!$F$2=ورقة1!H327,ورقة1!G327=\"ولد\"),1,0)","v":0},{"$f":"IF(B327=0,\"\",SUM($B$2:B327))","v":""},{"$f":"IF(AND(ورقة2!$H$2=ورقة1!I327,ورقة2!$F$2=ورقة1!H327,ورقة1!G327=\"بنت\"),1,0)","v":0},{"$f":"IF(D327=0,\"\",SUM($D$2:D327))","v":""},null,"بنت",3]
[null,{"$f":"IF(AND(ورقة2!$H$2=ورقة1!I328,ورقة2!$F$2=ورقة1!H328,ورقة1!G328=\"ولد\"),1,0)","v":0},{"$f":"IF(B328=0,\"\",SUM($B$2:B328))","v":""},{"$f":"IF(AND(ورقة2!$H$2=ورقة1!I328,ورقة2!$F$2=ورقة1!H328,ورقة1!G328=\"بنت\"),1,0)","v":0},{"$f":"IF(D328=0,\"\",SUM($D$2:D328))","v":""},null,"بنت",3]
[null,{"$f":"IF(AND(ورقة2!$H$2=ورقة1!I329,ورقة2!$F$2=ورقة1!H329,ورقة1!G329=\"ولد\"),1,0)","v":0},{"$f":"IF(B329=0,\"\",SUM($B$2:B329))","v":""},{"$f":"IF(AND(ورقة2!$H$2=ورقة1!I329,ورقة2!$F$2=ورقة1!H329,ورقة1!G329=\"بنت\"),1,0)","v":0},{"$f":"IF(D329=0,\"\",SUM($D$2:D329))","v":""},null,"بنت",3]
[null,{"$f":"IF(AND(ورقة2!$H$2=ورقة1!I330,ورقة2!$F$2=ورقة1!H330,ورقة1!G330=\"ولد\"),1,0)","v":0},{"$f":"IF(B330=0,\"\",SUM($B$2:B330))","v":""},{"$f":"IF(AND(ورقة2!$H$2=ورقة1!I330,ورقة2!$F$2=ورقة1!H330,ورقة1!G330=\"بنت\"),1,0)","v":0},{"$f":"IF(D330=0,\"\",SUM($D$2:D330))","v":""},null,"بنت",3]
[null,{"$f":"IF(AND(ورقة2!$H$2=ورقة1!I331,ورقة2!$F$2=ورقة1!H331,ورقة1!G331=\"ولد\"),1,0)","v":0},{"$f":"IF(B331=0,\"\",SUM($B$2:B331))","v":""},{"$f":"IF(AND(ورقة2!$H$2=ورقة1!I331,ورقة2!$F$2=ورقة1!H331,ورقة1!G331=\"بنت\"),1,0)","v":0},{"$f":"IF(D331=0,\"\",SUM($D$2:D331))","v":""},null,"بنت",3]
[null,{"$f":"IF(AND(ورقة2!$H$2=ورقة1!I332,ورقة2!$F$2=ورقة1!H332,ورقة1!G332=\"ولد\"),1,0)","v":0},{"$f":"IF(B332=0,\"\",SUM($B$2:B332))","v":""},{"$f":"IF(AND(ورقة2!$H$2=ورقة1!I332,ورقة2!$F$2=ورقة1!H332,ورقة1!G332=\"بنت\"),1,0)","v":0},{"$f":"IF(D332=0,\"\",SUM($D$2:D332))","v":""},null,"بنت",3]
[null,{"$f":"IF(AND(ورقة2!$H$2=ورقة1!I333,ورقة2!$F$2=ورقة1!H333,ورقة1!G333=\"ولد\"),1,0)","v":0},{"$f":"IF(B333=0,\"\",SUM($B$2:B333))","v":""},{"$f":"IF(AND(ورقة2!$H$2=ورقة1!I333,ورقة2!$F$2=ورقة1!H333,ورقة1!G333=\"بنت\"),1,0)","v":0},{"$f":"IF(D333=0,\"\",SUM($D$2:D333))","v":""},null,"بنت",3]
[null,{"$f":"IF(AND(ورقة2!$H$2=ورقة1!I334,ورقة2!$F$2=ورقة1!H334,ورقة1!G334=\"ولد\"),1,0)","v":0},{"$f":"IF(B334=0,\"\",SUM($B$2:B334))","v":""},{"$f":"IF(AND(ورقة2!$H$2=ورقة1!I334,ورقة2!$F$2=ورقة1!H334,ورقة1!G334=\"بنت\"),1,0)","v":0},{"$f":"IF(D334=0,\"\",SUM($D$2:D334))","v":""},null,"بنت",3]
[null,{"$f":"IF(AND(ورقة2!$H$2=ورقة1!I335,ورقة2!$F$2=ورقة1!H335,ورقة1!G335=\"ولد\"),1,0)","v":0},{"$f":"IF(B335=0,\"\",SUM($B$2:B335))","v":""},{"$f":"IF(AND(ورقة2!$H$2=ورقة1!I335,ورقة2!$F$2=ورقة1!H335,ورقة1!G335=\"بنت\"),1,0)","v":0},{"$f":"IF(D335=0,\"\",SUM($D$2:D335))","v":""},null,"بنت",3]
[null,{"$f":"IF(AND(ورقة2!$H$2=ورقة1!I336,ورقة2!$F$2=ورقة1!H336,ورقة1!G336=\"ولد\"),1,0)","v":0},{"$f":"IF(B336=0,\"\",SUM($B$2:B336))","v":""},{"$f":"IF(AND(ورقة2!$H$2=ورقة1!I336,ورقة2!$F$2=ورقة1!H336,ورقة1!G336=\"بنت\"),1,0)","v":0},{"$f":"IF(D336=0,\"\",SUM($D$2:D336))","v":""},null,"بنت",3]
[null,{"$f":"IF(AND(ورقة2!$H$2=ورقة1!I337,ورقة2!$F$2=ورقة1!H337,ورقة1!G337=\"ولد\"),1,0)","v":0},{"$f":"IF(B337=0,\"\",SUM($B$2:B337))","v":""},{"$f":"IF(AND(ورقة2!$H$2=ورقة1!I337,ورقة2!$F$2=ورقة1!H337,ورقة1!G337=\"بنت\"),1,0)","v":0},{"$f":"IF(D337=0,\"\",SUM($D$2:D337))","v":""},null,"بنت",3]
[null,{"$f":"IF(AND(ورقة2!$H$2=ورقة1!I338,ورقة2!$F$2=ورقة1!H338,ورقة1!G338=\"ولد\"),1,0)","v":0},{"$f":"IF(B338=0,\"\",SUM($B$2:B338))","v":""},{"$f":"IF(AND(ورقة2!$H$2=ورقة1!I338,ورقة2!$F$2=ورقة1!H338,ورقة1!G338=\"بنت\"),1,0)","v":0},{"$f":"IF(D338=0,\"\",SUM($D$2:D338))","v":""},null,"بنت",3]
[null,{"$f":"IF(AND(ورقة2!$H$2=ورقة1!I339,ورقة2!$F$2=ورقة1!H339,ورقة1!G339=\"ولد\"),1,0)","v":0},{"$f":"IF(B339=0,\"\",SUM($B$2:B339))","v":""},{"$f":"IF(AND(ورقة2!$H$2=ورقة1!I339,ورقة2!$F$2=ورقة1!H339,ورقة1!G339=\"بنت\"),1,0)","v":0},{"$f":"IF(D339=0,\"\",SUM($D$2:D339))","v":""},null,"بنت",3]
[null,{"$f":"IF(AND(ورقة2!$H$2=ورقة1!I340,ورقة2!$F$2=ورقة1!H340,ورقة1!G340=\"ولد\"),1,0)","v":0},{"$f":"IF(B340=0,\"\",SUM($B$2:B340))","v":""},{"$f":"IF(AND(ورقة2!$H$2=ورقة1!I340,ورقة2!$F$2=ورقة1!H340,ورقة1!G340=\"بنت\"),1,0)","v":0},{"$f":"IF(D340=0,\"\",SUM($D$2:D340))","v":""},null,"بنت",3]
[null,{"$f":"IF(AND(ورقة2!$H$2=ورقة1!I341,ورقة2!$F$2=ورقة1!H341,ورقة1!G341=\"ولد\"),1,0)","v":0},{"$f":"IF(B341=0,\"\",SUM($B$2:B341))","v":""},{"$f":"IF(AND(ورقة2!$H$2=ورقة1!I341,ورقة2!$F$2=ورقة1!H341,ورقة1!G341=\"بنت\"),1,0)","v":0},{"$f":"IF(D341=0,\"\",SUM($D$2:D341))","v":""},null,"بنت",3]
[null,{"$f":"IF(AND(ورقة2!$H$2=ورقة1!I342,ورقة2!$F$2=ورقة1!H342,ورقة1!G342=\"ولد\"),1,0)","v":0},{"$f":"IF(B342=0,\"\",SUM($B$2:B342))","v":""},{"$f":"IF(AND(ورقة2!$H$2=ورقة1!I342,ورقة2!$F$2=ورقة1!H342,ورقة1!G342=\"بنت\"),1,0)","v":0},{"$f":"IF(D342=0,\"\",SUM($D$2:D342))","v":""},null,"بنت",3]
[null,{"$f":"IF(AND(ورقة2!$H$2=ورقة1!I343,ورقة2!$F$2=ورقة1!H343,ورقة1!G343=\"ولد\"),1,0)","v":0},{"$f":"IF(B343=0,\"\",SUM($B$2:B343))","v":""},{"$f":"IF(AND(ورقة2!$H$2=ورقة1!I343,ورقة2!$F$2=ورقة1!H343,ورقة1!G343=\"بنت\"),1,0)","v":0},{"$f":"IF(D343=0,\"\",SUM($D$2:D343))","v":""},null,"بنت",3]
[null,{"$f":"IF(AND(ورقة2!$H$2=ورقة1!I344,ورقة2!$F$2=ورقة1!H344,ورقة1!G344=\"ولد\"),1,0)","v":0},{"$f":"IF(B344=0,\"\",SUM($B$2:B344))","v":""},{"$f":"IF(AND(ورقة2!$H$2=ورقة1!I344,ورقة2!$F$2=ورقة1!H344,ورقة1!G344=\"بنت\"),1,0)","v":0},{"$f":"IF(D344=0,\"\",SUM($D$2:D344))","v":""},null,"بنت",3]
[null,{"$f":"IF(AND(ورقة2!$H$2=ورقة1!I345,ورقة2!$F$2=ورقة1!H345,ورقة1!G345=\"ولد\"),1,0)","v":0},{"$f":"IF(B345=0,\"\",SUM($B$2:B345))","v":""},{"$f":"IF(AND(ورقة2!$H$2=ورقة1!I345,ورقة2!$F$2=ورقة1!H345,ورقة1!G345=\"بنت\"),1,0)","v":0},{"$f":"IF(D345=0,\"\",SUM($D$2:D345))","v":""},null,"بنت",3]
[null,{"$f":"IF(AND(ورقة2!$H$2=ورقة1!I346,ورقة2!$F$2=ورقة1!H346,ورقة1!G346=\"ولد\"),1,0)","v":0},{"$f":"IF(B346=0,\"\",SUM($B$2:B346))","v":""},{"$f":"IF(AND(ورقة2!$H$2=ورقة1!I346,ورقة2!$F$2=ورقة1!H346,ورقة1!G346=\"بنت\"),1,0)","v":0},{"$f":"IF(D346=0,\"\",SUM($D$2:D346))","v":""},null,"بنت",3]
[null,{"$f":"IF(AND(ورقة2!$H$2=ورقة1!I347,ورقة2!$F$2=ورقة1!H347,ورقة1!G347=\"ولد\"),1,0)","v":0},{"$f":"IF(B347=0,\"\",SUM($B$2:B347))","v":""},{"$f":"IF(AND(ورقة2!$H$2=ورقة1!I347,ورقة2!$F$2=ورقة1!H347,ورقة1!G347=\"بنت\"),1,0)","v":0},{"$f":"IF(D347=0,\"\",SUM($D$2:D347))","v":""},null,"بنت",3]
[null,{"$f":"IF(AND(ورقة2!$H$2=ورقة1!I348,ورقة2!$F$2=ورقة1!H348,ورقة1!G348=\"ولد\"),1,0)","v":0},{"$f":"IF(B348=0,\"\",SUM($B$2:B348))","v":""},{"$f":"IF(AND(ورقة2!$H$2=ورقة1!I348,ورقة2!$F$2=ورقة1!H348,ورقة1!G348=\"بنت\"),1,0)","v":0},{"$f":"IF(D348=0,\"\",SUM($D$2:D348))","v":""},null,"بنت",3]
[null,{"$f":"IF(AND(ورقة2!$H$2=ورقة1!I349,ورقة2!$F$2=ورقة1!H349,ورقة1!G349=\"ولد\"),1,0)","v":0},{"$f":"IF(B349=0,\"\",SUM($B$2:B349))","v":""},{"$f":"IF(AND(ورقة2!$H$2=ورقة1!I349,ورقة2!$F$2=ورقة1!H349,ورقة1!G349=\"بنت\"),1,0)","v":0},{"$f":"IF(D349=0,\"\",SUM($D$2:D349))","v":""},null,"بنت",3]
[null,{"$f":"IF(AND(ورقة2!$H$2=ورقة1!I350,ورقة2!$F$2=ورقة1!H350,ورقة1!G350=\"ولد\"),1,0)","v":0},{"$f":"IF(B350=0,\"\",SUM($B$2:B350))","v":""},{"$f":"IF(AND(ورقة2!$H$2=ورقة1!I350,ورقة2!$F$2=ورقة1!H350,ورقة1!G350=\"بنت\"),1,0)","v":0},{"$f":"IF(D350=0,\"\",SUM($D$2:D350))","v":""},null,"بنت",3]
[null,{"$f":"IF(AND(ورقة2!$H$2=ورقة1!I351,ورقة2!$F$2=ورقة1!H351,ورقة1!G351=\"ولد\"),1,0)","v":0},{"$f":"IF(B351=0,\"\",SUM($B$2:B351))","v":""},{"$f":"IF(AND(ورقة2!$H$2=ورقة1!I351,ورقة2!$F$2=ورقة1!H351,ورقة1!G351=\"بنت\"),1,0)","v":0},{"$f":"IF(D351=0,\"\",SUM($D$2:D351))","v":""},null,"بنت",3]
[null,{"$f":"IF(AND(ورقة2!$H$2=ورقة1!I352,ورقة2!$F$2=ورقة1!H352,ورقة1!G352=\"ولد\"),1,0)","v":0},{"$f":"IF(B352=0,\"\",SUM($B$2:B352))","v":""},{"$f":"IF(AND(ورقة2!$H$2=ورقة1!I352,ورقة2!$F$2=ورقة1!H352,ورقة1!G352=\"بنت\"),1,0)","v":0},{"$f":"IF(D352=0,\"\",SUM($D$2:D352))","v":""},null,"بنت",3]
[null,{"$f":"IF(AND(ورقة2!$H$2=ورقة1!I353,ورقة2!$F$2=ورقة1!H353,ورقة1!G353=\"ولد\"),1,0)","v":0},{"$f":"IF(B353=0,\"\",SUM($B$2:B353))","v":""},{"$f":"IF(AND(ورقة2!$H$2=ورقة1!I353,ورقة2!$F$2=ورقة1!H353,ورقة1!G353=\"بنت\"),1,0)","v":0},{"$f":"IF(D353=0,\"\",SUM($D$2:D353))","v":""},null,"بنت",3]
[null,{"$f":"IF(AND(ورقة2!$H$2=ورقة1!I354,ورقة2!$F$2=ورقة1!H354,ورقة1!G354=\"ولد\"),1,0)","v":0},{"$f":"IF(B354=0,\"\",SUM($B$2:B354))","v":""},{"$f":"IF(AND(ورقة2!$H$2=ورقة1!I354,ورقة2!$F$2=ورقة1!H354,ورقة1!G354=\"بنت\"),1,0)","v":0},{"$f":"IF(D354=0,\"\",SUM($D$2:D354))","v":""},null,"بنت",3]
[null,{"$f":"IF(AND(ورقة2!$H$2=ورقة1!I355,ورقة2!$F$2=ورقة1!H355,ورقة1!G355=\"ولد\"),1,0)","v":0},{"$f":"IF(B355=0,\"\",SUM($B$2:B355))","v":""},{"$f":"IF(AND(ورقة2!$H$2=ورقة1!I355,ورقة2!$F$2=ورقة1!H355,ورقة1!G355=\"بنت\"),1,0)","v":0},{"$f":"IF(D355=0,\"\",SUM($D$2:D355))","v":""},null,"بنت",3]
[null,{"$f":"IF(AND(ورقة2!$H$2=ورقة1!I356,ورقة2!$F$2=ورقة1!H356,ورقة1!G356=\"ولد\"),1,0)","v":0},{"$f":"IF(B356=0,\"\",SUM($B$2:B356))","v":""},{"$f":"IF(AND(ورقة2!$H$2=ورقة1!I356,ورقة2!$F$2=ورقة1!H356,ورقة1!G356=\"بنت\"),1,0)","v":0},{"$f":"IF(D356=0,\"\",SUM($D$2:D356))","v":""},null,"بنت",3]
[null,{"$f":"IF(AND(ورقة2!$H$2=ورقة1!I357,ورقة2!$F$2=ورقة1!H357,ورقة1!G357=\"ولد\"),1,0)","v":0},{"$f":"IF(B357=0,\"\",SUM($B$2:B357))","v":""},{"$f":"IF(AND(ورقة2!$H$2=ورقة1!I357,ورقة2!$F$2=ورقة1!H357,ورقة1!G357=\"بنت\"),1,0)","v":0},{"$f":"IF(D357=0,\"\",SUM($D$2:D357))","v":""},null,"بنت",3]
[null,{"$f":"IF(AND(ورقة2!$H$2=ورقة1!I358,ورقة2!$F$2=ورقة1!H358,ورقة1!G358=\"ولد\"),1,0)","v":0},{"$f":"IF(B358=0,\"\",SUM($B$2:B358))","v":""},{"$f":"IF(AND(ورقة2!$H$2=ورقة1!I358,ورقة2!$F$2=ورقة1!H358,ورقة1!G358=\"بنت\"),1,0)","v":0},{"$f":"IF(D358=0,\"\",SUM($D$2:D358))","v":""},null,"بنت",3]
[null,{"$f":"IF(AND(ورقة2!$H$2=ورقة1!I359,ورقة2!$F$2=ورقة1!H359,ورقة1!G359=\"ولد\"),1,0)","v":0},{"$f":"IF(B359=0,\"\",SUM($B$2:B359))","v":""},{"$f":"IF(AND(ورقة2!$H$2=ورقة1!I359,ورقة2!$F$2=ورقة1!H359,ورقة1!G359=\"بنت\"),1,0)","v":0},{"$f":"IF(D359=0,\"\",SUM($D$2:D359))","v":""},null,"بنت",3]
[null,{"$f":"IF(AND(ورقة2!$H$2=ورقة1!I360,ورقة2!$F$2=ورقة1!H360,ورقة1!G360=\"ولد\"),1,0)","v":0},{"$f":"IF(B360=0,\"\",SUM($B$2:B360))","v":""},{"$f":"IF(AND(ورقة2!$H$2=ورقة1!I360,ورقة2!$F$2=ورقة1!H360,ورقة1!G360=\"بنت\"),1,0)","v":0},{"$f":"IF(D360=0,\"\",SUM($D$2:D360))","v":""},null,"بنت",3]
[null,{"$f":"IF(AND(ورقة2!$H$2=ورقة1!I361,ورقة2!$F$2=ورقة1!H361,ورقة1!G361=\"ولد\"),1,0)","v":0},{"$f":"IF(B361=0,\"\",SUM($B$2:B361))","v":""},{"$f":"IF(AND(ورقة2!$H$2=ورقة1!I361,ورقة2!$F$2=ورقة1!H361,ورقة1!G361=\"بنت\"),1,0)","v":0},{"$f":"IF(D361=0,\"\",SUM($D$2:D361))","v":""},null,"بنت",3]
[null,{"$f":"IF(AND(ورقة2!$H$2=ورقة1!I362,ورقة2!$F$2=ورقة1!H362,ورقة1!G362=\"ولد\"),1,0)","v":0},{"$f":"IF(B362=0,\"\",SUM($B$2:B362))","v":""},{"$f":"IF(AND(ورقة2!$H$2=ورقة1!I362,ورقة2!$F$2=ورقة1!H362,ورقة1!G362=\"بنت\"),1,0)","v":0},{"$f":"IF(D362=0,\"\",SUM($D$2:D362))","v":""},null,"بنت",3]
[null,{"$f":"IF(AND(ورقة2!$H$2=ورقة1!I363,ورقة2!$F$2=ورقة1!H363,ورقة1!G363=\"ولد\"),1,0)","v":0},{"$f":"IF(B363=0,\"\",SUM($B$2:B363))","v":""},{"$f":"IF(AND(ورقة2!$H$2=ورقة1!I363,ورقة2!$F$2=ورقة1!H363,ورقة1!G363=\"بنت\"),1,0)","v":0},{"$f":"IF(D363=0,\"\",SUM($D$2:D363))","v":""},null,"بنت",3]
[null,{"$f":"IF(AND(ورقة2!$H$2=ورقة1!I364,ورقة2!$F$2=ورقة1!H364,ورقة1!G364=\"ولد\"),1,0)","v":0},{"$f":"IF(B364=0,\"\",SUM($B$2:B364))","v":""},{"$f":"IF(AND(ورقة2!$H$2=ورقة1!I364,ورقة2!$F$2=ورقة1!H364,ورقة1!G364=\"بنت\"),1,0)","v":0},{"$f":"IF(D364=0,\"\",SUM($D$2:D364))","v":""},null,"بنت",3]
[null,{"$f":"IF(AND(ورقة2!$H$2=ورقة1!I365,ورقة2!$F$2=ورقة1!H365,ورقة1!G365=\"ولد\"),1,0)","v":0},{"$f":"IF(B365=0,\"\",SUM($B$2:B365))","v":""},{"$f":"IF(AND(ورقة2!$H$2=ورقة1!I365,ورقة2!$F$2=ورقة1!H365,ورقة1!G365=\"بنت\"),1,0)","v":0},{"$f":"IF(D365=0,\"\",SUM($D$2:D365))","v":""},null,"بنت",3]
[null,{"$f":"IF(AND(ورقة2!$H$2=ورقة1!I366,ورقة2!$F$2=ورقة1!H366,ورقة1!G366=\"ولد\"),1,0)","v":0},{"$f":"IF(B366=0,\"\",SUM($B$2:B366))","v":""},{"$f":"IF(AND(ورقة2!$H$2=ورقة1!I366,ورقة2!$F$2=ورقة1!H366,ورقة1!G366=\"بنت\"),1,0)","v":0},{"$f":"IF(D366=0,\"\",SUM($D$2:D366))","v":""},null,"بنت",3]
[null,{"$f":"IF(AND(ورقة2!$H$2=ورقة1!I367,ورقة2!$F$2=ورقة1!H367,ورقة1!G367=\"ولد\"),1,0)","v":0},{"$f":"IF(B367=0,\"\",SUM($B$2:B367))","v":""},{"$f":"IF(AND(ورقة2!$H$2=ورقة1!I367,ورقة2!$F$2=ورقة1!H367,ورقة1!G367=\"بنت\"),1,0)","v":0},{"$f":"IF(D367=0,\"\",SUM($D$2:D367))","v":""},null,"بنت",3]
[null,{"$f":"IF(AND(ورقة2!$H$2=ورقة1!I368,ورقة2!$F$2=ورقة1!H368,ورقة1!G368=\"ولد\"),1,0)","v":0},{"$f":"IF(B368=0,\"\",SUM($B$2:B368))","v":""},{"$f":"IF(AND(ورقة2!$H$2=ورقة1!I368,ورقة2!$F$2=ورقة1!H368,ورقة1!G368=\"بنت\"),1,0)","v":0},{"$f":"IF(D368=0,\"\",SUM($D$2:D368))","v":""},null,"بنت",3]
[null,{"$f":"IF(AND(ورقة2!$H$2=ورقة1!I369,ورقة2!$F$2=ورقة1!H369,ورقة1!G369=\"ولد\"),1,0)","v":0},{"$f":"IF(B369=0,\"\",SUM($B$2:B369))","v":""},{"$f":"IF(AND(ورقة2!$H$2=ورقة1!I369,ورقة2!$F$2=ورقة1!H369,ورقة1!G369=\"بنت\"),1,0)","v":0},{"$f":"IF(D369=0,\"\",SUM($D$2:D369))","v":""},null,"بنت",3]
[null,{"$f":"IF(AND(ورقة2!$H$2=ورقة1!I370,ورقة2!$F$2=ورقة1!H370,ورقة1!G370=\"ولد\"),1,0)","v":0},{"$f":"IF(B370=0,\"\",SUM($B$2:B370))","v":""},{"$f":"IF(AND(ورقة2!$H$2=ورقة1!I370,ورقة2!$F$2=ورقة1!H370,ورقة1!G370=\"بنت\"),1,0)","v":0},{"$f":"IF(D370=0,\"\",SUM($D$2:D370))","v":""},null,"بنت",3]
[null,{"$f":"IF(AND(ورقة2!$H$2=ورقة1!I371,ورقة2!$F$2=ورقة1!H371,ورقة1!G371=\"ولد\"),1,0)","v":0},{"$f":"IF(B371=0,\"\",SUM($B$2:B371))","v":""},{"$f":"IF(AND(ورقة2!$H$2=ورقة1!I371,ورقة2!$F$2=ورقة1!H371,ورقة1!G371=\"بنت\"),1,0)","v":0},{"$f":"IF(D371=0,\"\",SUM($D$2:D371))","v":""},null,"بنت",3]
[null,{"$f":"IF(AND(ورقة2!$H$2=ورقة1!I372,ورقة2!$F$2=ورقة1!H372,ورقة1!G372=\"ولد\"),1,0)","v":0},{"$f":"IF(B372=0,\"\",SUM($B$2:B372))","v":""},{"$f":"IF(AND(ورقة2!$H$2=ورقة1!I372,ورقة2!$F$2=ورقة1!H372,ورقة1!G372=\"بنت\"),1,0)","v":0},{"$f":"IF(D372=0,\"\",SUM($D$2:D372))","v":""},null,"بنت",3]
[null,{"$f":"IF(AND(ورقة2!$H$2=ورقة1!I373,ورقة2!$F$2=ورقة1!H373,ورقة1!G373=\"ولد\"),1,0)","v":0},{"$f":"IF(B373=0,\"\",SUM($B$2:B373))","v":""},{"$f":"IF(AND(ورقة2!$H$2=ورقة1!I373,ورقة2!$F$2=ورقة1!H373,ورقة1!G373=\"بنت\"),1,0)","v":0},{"$f":"IF(D373=0,\"\",SUM($D$2:D373))","v":""},null,"بنت",3]
[null,{"$f":"IF(AND(ورقة2!$H$2=ورقة1!I374,ورقة2!$F$2=ورقة1!H374,ورقة1!G374=\"ولد\"),1,0)","v":0},{"$f":"IF(B374=0,\"\",SUM($B$2:B374))","v":""},{"$f":"IF(AND(ورقة2!$H$2=ورقة1!I374,ورقة2!$F$2=ورقة1!H374,ورقة1!G374=\"بنت\"),1,0)","v":0},{"$f":"IF(D374=0,\"\",SUM($D$2:D374))","v":""},null,"بنت",3]
[null,{"$f":"IF(AND(ورقة2!$H$2=ورقة1!I375,ورقة2!$F$2=ورقة1!H375,ورقة1!G375=\"ولد\"),1,0)","v":0},{"$f":"IF(B375=0,\"\",SUM($B$2:B375))","v":""},{"$f":"IF(AND(ورقة2!$H$2=ورقة1!I375,ورقة2!$F$2=ورقة1!H375,ورقة1!G375=\"بنت\"),1,0)","v":0},{"$f":"IF(D375=0,\"\",SUM($D$2:D375))","v":""},null,"بنت",3]
[null,{"$f":"IF(AND(ورقة2!$H$2=ورقة1!I376,ورقة2!$F$2=ورقة1!H376,ورقة1!G376=\"ولد\"),1,0)","v":0},{"$f":"IF(B376=0,\"\",SUM($B$2:B376))","v":""},{"$f":"IF(AND(ورقة2!$H$2=ورقة1!I376,ورقة2!$F$2=ورقة1!H376,ورقة1!G376=\"بنت\"),1,0)","v":0},{"$f":"IF(D376=0,\"\",SUM($D$2:D376))","v":""},null,"بنت",3]
[null,{"$f":"IF(AND(ورقة2!$H$2=ورقة1!I377,ورقة2!$F$2=ورقة1!H377,ورقة1!G377=\"ولد\"),1,0)","v":0},{"$f":"IF(B377=0,\"\",SUM($B$2:B377))","v":""},{"$f":"IF(AND(ورقة2!$H$2=ورقة1!I377,ورقة2!$F$2=ورقة1!H377,ورقة1!G377=\"بنت\"),1,0)","v":0},{"$f":"IF(D377=0,\"\",SUM($D$2:D377))","v":""},null,"بنت",3]
[null,{"$f":"IF(AND(ورقة2!$H$2=ورقة1!I378,ورقة2!$F$2=ورقة1!H378,ورقة1!G378=\"ولد\"),1,0)","v":0},{"$f":"IF(B378=0,\"\",SUM($B$2:B378))","v":""},{"$f":"IF(AND(ورقة2!$H$2=ورقة1!I378,ورقة2!$F$2=ورقة1!H378,ورقة1!G378=\"بنت\"),1,0)","v":0},{"$f":"IF(D378=0,\"\",SUM($D$2:D378))","v":""},null,"بنت",3]
[null,{"$f":"IF(AND(ورقة2!$H$2=ورقة1!I379,ورقة2!$F$2=ورقة1!H379,ورقة1!G379=\"ولد\"),1,0)","v":0},{"$f":"IF(B379=0,\"\",SUM($B$2:B379))","v":""},{"$f":"IF(AND(ورقة2!$H$2=ورقة1!I379,ورقة2!$F$2=ورقة1!H379,ورقة1!G379=\"بنت\"),1,0)","v":0},{"$f":"IF(D379=0,\"\",SUM($D$2:D379))","v":""},null,"بنت",3]
[null,{"$f":"IF(AND(ورقة2!$H$2=ورقة1!I380,ورقة2!$F$2=ورقة1!H380,ورقة1!G380=\"ولد\"),1,0)","v":0},{"$f":"IF(B380=0,\"\",SUM($B$2:B380))","v":""},{"$f":"IF(AND(ورقة2!$H$2=ورقة1!I380,ورقة2!$F$2=ورقة1!H380,ورقة1!G380=\"بنت\"),1,0)","v":0},{"$f":"IF(D380=0,\"\",SUM($D$2:D380))","v":""},null,"بنت",3]
[null,{"$f":"IF(AND(ورقة2!$H$2=ورقة1!I381,ورقة2!$F$2=ورقة1!H381,ورقة1!G381=\"ولد\"),1,0)","v":0},{"$f":"IF(B381=0,\"\",SUM($B$2:B381))","v":""},{"$f":"IF(AND(ورقة2!$H$2=ورقة1!I381,ورقة2!$F$2=ورقة1!H381,ورقة1!G381=\"بنت\"),1,0)","v":0},{"$f":"IF(D381=0,\"\",SUM($D$2:D381))","v":""},null,"بنت",3]
[null,{"$f":"IF(AND(ورقة2!$H$2=ورقة1!I382,ورقة2!$F$2=ورقة1!H382,ورقة1!G382=\"ولد\"),1,0)","v":0},{"$f":"IF(B382=0,\"\",SUM($B$2:B382))","v":""},{"$f":"IF(AND(ورقة2!$H$2=ورقة1!I382,ورقة2!$F$2=ورقة1!H382,ورقة1!G382=\"بنت\"),1,0)","v":0},{"$f":"IF(D382=0,\"\",SUM($D$2:D382))","v":""},null,"بنت",3]
[null,{"$f":"IF(AND(ورقة2!$H$2=ورقة1!I383,ورقة2!$F$2=ورقة1!H383,ورقة1!G383=\"ولد\"),1,0)","v":0},{"$f":"IF(B383=0,\"\",SUM($B$2:B383))","v":""},{"$f":"IF(AND(ورقة2!$H$2=ورقة1!I383,ورقة2!$F$2=ورقة1!H383,ورقة1!G383=\"بنت\"),1,0)","v":0},{"$f":"IF(D383=0,\"\",SUM($D$2:D383))","v":""},null,"بنت",3]
[null,{"$f":"IF(AND(ورقة2!$H$2=ورقة1!I384,ورقة2!$F$2=ورقة1!H384,ورقة1!G384=\"ولد\"),1,0)","v":0},{"$f":"IF(B384=0,\"\",SUM($B$2:B384))","v":""},{"$f":"IF(AND(ورقة2!$H$2=ورقة1!I384,ورقة2!$F$2=ورقة1!H384,ورقة1!G384=\"بنت\"),1,0)","v":0},{"$f":"IF(D384=0,\"\",SUM($D$2:D384))","v":""},null,"بنت",3]
[null,{"$f":"IF(AND(ورقة2!$H$2=ورقة1!I385,ورقة2!$F$2=ورقة1!H385,ورقة1!G385=\"ولد\"),1,0)","v":0},{"$f":"IF(B385=0,\"\",SUM($B$2:B385))","v":""},{"$f":"IF(AND(ورقة2!$H$2=ورقة1!I385,ورقة2!$F$2=ورقة1!H385,ورقة1!G385=\"بنت\"),1,0)","v":0},{"$f":"IF(D385=0,\"\",SUM($D$2:D385))","v":""},null,"بنت",3]
[null,{"$f":"IF(AND(ورقة2!$H$2=ورقة1!I386,ورقة2!$F$2=ورقة1!H386,ورقة1!G386=\"ولد\"),1,0)","v":0},{"$f":"IF(B386=0,\"\",SUM($B$2:B386))","v":""},{"$f":"IF(AND(ورقة2!$H$2=ورقة1!I386,ورقة2!$F$2=ورقة1!H386,ورقة1!G386=\"بنت\"),1,0)","v":0},{"$f":"IF(D386=0,\"\",SUM($D$2:D386))","v":""},null,"بنت",3]
[null,{"$f":"IF(AND(ورقة2!$H$2=ورقة1!I387,ورقة2!$F$2=ورقة1!H387,ورقة1!G387=\"ولد\"),1,0)","v":0},{"$f":"IF(B387=0,\"\",SUM($B$2:B387))","v":""},{"$f":"IF(AND(ورقة2!$H$2=ورقة1!I387,ورقة2!$F$2=ورقة1!H387,ورقة1!G387=\"بنت\"),1,0)","v":0},{"$f":"IF(D387=0,\"\",SUM($D$2:D387))","v":""},null,"بنت",3]
[null,{"$f":"IF(AND(ورقة2!$H$2=ورقة1!I388,ورقة2!$F$2=ورقة1!H388,ورقة1!G388=\"ولد\"),1,0)","v":0},{"$f":"IF(B388=0,\"\",SUM($B$2:B388))","v":""},{"$f":"IF(AND(ورقة2!$H$2=ورقة1!I388,ورقة2!$F$2=ورقة1!H388,ورقة1!G388=\"بنت\"),1,0)","v":0},{"$f":"IF(D388=0,\"\",SUM($D$2:D388))","v":""},null,"بنت",3]
[null,{"$f":"IF(AND(ورقة2!$H$2=ورقة1!I389,ورقة2!$F$2=ورقة1!H389,ورقة1!G389=\"ولد\"),1,0)","v":0},{"$f":"IF(B389=0,\"\",SUM($B$2:B389))","v":""},{"$f":"IF(AND(ورقة2!$H$2=ورقة1!I389,ورقة2!$F$2=ورقة1!H389,ورقة1!G389=\"بنت\"),1,0)","v":0},{"$f":"IF(D389=0,\"\",SUM($D$2:D389))","v":""},null,"بنت",3]
[null,{"$f":"IF(AND(ورقة2!$H$2=ورقة1!I390,ورقة2!$F$2=ورقة1!H390,ورقة1!G390=\"ولد\"),1,0)","v":0},{"$f":"IF(B390=0,\"\",SUM($B$2:B390))","v":""},{"$f":"IF(AND(ورقة2!$H$2=ورقة1!I390,ورقة2!$F$2=ورقة1!H390,ورقة1!G390=\"بنت\"),1,0)","v":0},{"$f":"IF(D390=0,\"\",SUM($D$2:D390))","v":""},null,"بنت",3]
[null,{"$f":"IF(AND(ورقة2!$H$2=ورقة1!I391,ورقة2!$F$2=ورقة1!H391,ورقة1!G391=\"ولد\"),1,0)","v":0},{"$f":"IF(B391=0,\"\",SUM($B$2:B391))","v":""},{"$f":"IF(AND(ورقة2!$H$2=ورقة1!I391,ورقة2!$F$2=ورقة1!H391,ورقة1!G391=\"بنت\"),1,0)","v":0},{"$f":"IF(D391=0,\"\",SUM($D$2:D391))","v":""},null,"بنت",3]
[null,{"$f":"IF(AND(ورقة2!$H$2=ورقة1!I392,ورقة2!$F$2=ورقة1!H392,ورقة1!G392=\"ولد\"),1,0)","v":0},{"$f":"IF(B392=0,\"\",SUM($B$2:B392))","v":""},{"$f":"IF(AND(ورقة2!$H$2=ورقة1!I392,ورقة2!$F$2=ورقة1!H392,ورقة1!G392=\"بنت\"),1,0)","v":0},{"$f":"IF(D392=0,\"\",SUM($D$2:D392))","v":""},null,"بنت",3]
[null,{"$f":"IF(AND(ورقة2!$H$2=ورقة1!I393,ورقة2!$F$2=ورقة1!H393,ورقة1!G393=\"ولد\"),1,0)","v":0},{"$f":"IF(B393=0,\"\",SUM($B$2:B393))","v":""},{"$f":"IF(AND(ورقة2!$H$2=ورقة1!I393,ورقة2!$F$2=ورقة1!H393,ورقة1!G393=\"بنت\"),1,0)","v":0},{"$f":"IF(D393=0,\"\",SUM($D$2:D393))","v":""},null,"بنت",3]
[null,{"$f":"IF(AND(ورقة2!$H$2=ورقة1!I394,ورقة2!$F$2=ورقة1!H394,ورقة1!G394=\"ولد\"),1,0)","v":0},{"$f":"IF(B394=0,\"\",SUM($B$2:B394))","v":""},{"$f":"IF(AND(ورقة2!$H$2=ورقة1!I394,ورقة2!$F$2=ورقة1!H394,ورقة1!G394=\"بنت\"),1,0)","v":0},{"$f":"IF(D394=0,\"\",SUM($D$2:D394))","v":""},null,"بنت",3]
[null,{"$f":"IF(AND(ورقة2!$H$2=ورقة1!I395,ورقة2!$F$2=ورقة1!H395,ورقة1!G395=\"ولد\"),1,0)","v":0},{"$f":"IF(B395=0,\"\",SUM($B$2:B395))","v":""},{"$f":"IF(AND(ورقة2!$H$2=ورقة1!I395,ورقة2!$F$2=ورقة1!H395,ورقة1!G395=\"بنت\"),1,0)","v":0},{"$f":"IF(D395=0,\"\",SUM($D$2:D395))","v":""},null,"بنت",3]
[null,{"$f":"IF(AND(ورقة2!$H$2=ورقة1!I396,ورقة2!$F$2=ورقة1!H396,ورقة1!G396=\"ولد\"),1,0)","v":0},{"$f":"IF(B396=0,\"\",SUM($B$2:B396))","v":""},{"$f":"IF(AND(ورقة2!$H$2=ورقة1!I396,ورقة2!$F$2=ورقة1!H396,ورقة1!G396=\"بنت\"),1,0)","v":0},{"$f":"IF(D396=0,\"\",SUM($D$2:D396))","v":""},null,"بنت",3]
[null,{"$f":"IF(AND(ورقة2!$H$2=ورقة1!I397,ورقة2!$F$2=ورقة1!H397,ورقة1!G397=\"ولد\"),1,0)","v":0},{"$f":"IF(B397=0,\"\",SUM($B$2:B397))","v":""},{"$f":"IF(AND(ورقة2!$H$2=ورقة1!I397,ورقة2!$F$2=ورقة1!H397,ورقة1!G397=\"بنت\"),1,0)","v":0},{"$f":"IF(D397=0,\"\",SUM($D$2:D397))","v":""},null,"بنت",3]
[null,{"$f":"IF(AND(ورقة2!$H$2=ورقة1!I398,ورقة2!$F$2=ورقة1!H398,ورقة1!G398=\"ولد\"),1,0)","v":0},{"$f":"IF(B398=0,\"\",SUM($B$2:B398))","v":""},{"$f":"IF(AND(ورقة2!$H$2=ورقة1!I398,ورقة2!$F$2=ورقة1!H398,ورقة1!G398=\"بنت\"),1,0)","v":0},{"$f":"IF(D398=0,\"\",SUM($D$2:D398))","v":""},null,"بنت",3]
[null,{"$f":"IF(AND(ورقة2!$H$2=ورقة1!I399,ورقة2!$F$2=ورقة1!H399,ورقة1!G399=\"ولد\"),1,0)","v":0},{"$f":"IF(B399=0,\"\",SUM($B$2:B399))","v":""},{"$f":"IF(AND(ورقة2!$H$2=ورقة1!I399,ورقة2!$F$2=ورقة1!H399,ورقة1!G399=\"بنت\"),1,0)","v":0},{"$f":"IF(D399=0,\"\",SUM($D$2:D399))","v":""},null,"بنت",3]
[null,{"$f":"IF(AND(ورقة2!$H$2=ورقة1!I400,ورقة2!$F$2=ورقة1!H400,ورقة1!G400=\"ولد\"),1,0)","v":0},{"$f":"IF(B400=0,\"\",SUM($B$2:B400))","v":""},{"$f":"IF(AND(ورقة2!$H$2=ورقة1!I400,ورقة2!$F$2=ورقة1!H400,ورقة1!G400=\"بنت\"),1,0)","v":0},{"$f":"IF(D400=0,\"\",SUM($D$2:D400))","v":""},null,"بنت",3]
[null,{"$f":"IF(AND(ورقة2!$H$2=ورقة1!I401,ورقة2!$F$2=ورقة1!H401,ورقة1!G401=\"ولد\"),1,0)","v":0},{"$f":"IF(B401=0,\"\",SUM($B$2:B401))","v":""},{"$f":"IF(AND(ورقة2!$H$2=ورقة1!I401,ورقة2!$F$2=ورقة1!H401,ورقة1!G401=\"بنت\"),1,0)","v":0},{"$f":"IF(D401=0,\"\",SUM($D$2:D401))","v":""},null,"بنت",3]
[null,{"$f":"IF(AND(ورقة2!$H$2=ورقة1!I402,ورقة2!$F$2=ورقة1!H402,ورقة1!G402=\"ولد\"),1,0)","v":0},{"$f":"IF(B402=0,\"\",SUM($B$2:B402))","v":""},{"$f":"IF(AND(ورقة2!$H$2=ورقة1!I402,ورقة2!$F$2=ورقة1!H402,ورقة1!G402=\"بنت\"),1,0)","v":0},{"$f":"IF(D402=0,\"\",SUM($D$2:D402))","v":""},null,"بنت",3]
[null,{"$f":"IF(AND(ورقة2!$H$2=ورقة1!I403,ورقة2!$F$2=ورقة1!H403,ورقة1!G403=\"ولد\"),1,0)","v":0},{"$f":"IF(B403=0,\"\",SUM($B$2:B403))","v":""},{"$f":"IF(AND(ورقة2!$H$2=ورقة1!I403,ورقة2!$F$2=ورقة1!H403,ورقة1!G403=\"بنت\"),1,0)","v":0},{"$f":"IF(D403=0,\"\",SUM($D$2:D403))","v":""},null,"بنت",3]
[null,{"$f":"IF(AND(ورقة2!$H$2=ورقة1!I404,ورقة2!$F$2=ورقة1!H404,ورقة1!G404=\"ولد\"),1,0)","v":0},{"$f":"IF(B404=0,\"\",SUM($B$2:B404))","v":""},{"$f":"IF(AND(ورقة2!$H$2=ورقة1!I404,ورقة2!$F$2=ورقة1!H404,ورقة1!G404=\"بنت\"),1,0)","v":0},{"$f":"IF(D404=0,\"\",SUM($D$2:D404))","v":""},null,"بنت",3]
[null,{"$f":"IF(AND(ورقة2!$H$2=ورقة1!I405,ورقة2!$F$2=ورقة1!H405,ورقة1!G405=\"ولد\"),1,0)","v":0},{"$f":"IF(B405=0,\"\",SUM($B$2:B405))","v":""},{"$f":"IF(AND(ورقة2!$H$2=ورقة1!I405,ورقة2!$F$2=ورقة1!H405,ورقة1!G405=\"بنت\"),1,0)","v":0},{"$f":"IF(D405=0,\"\",SUM($D$2:D405))","v":""},null,"بنت",3]
[null,{"$f":"IF(AND(ورقة2!$H$2=ورقة1!I406,ورقة2!$F$2=ورقة1!H406,ورقة1!G406=\"ولد\"),1,0)","v":0},{"$f":"IF(B406=0,\"\",SUM($B$2:B406))","v":""},{"$f":"IF(AND(ورقة2!$H$2=ورقة1!I406,ورقة2!$F$2=ورقة1!H406,ورقة1!G406=\"بنت\"),1,0)","v":0},{"$f":"IF(D406=0,\"\",SUM($D$2:D406))","v":""},null,"بنت",3]
[null,{"$f":"IF(AND(ورقة2!$H$2=ورقة1!I407,ورقة2!$F$2=ورقة1!H407,ورقة1!G407=\"ولد\"),1,0)","v":0},{"$f":"IF(B407=0,\"\",SUM($B$2:B407))","v":""},{"$f":"IF(AND(ورقة2!$H$2=ورقة1!I407,ورقة2!$F$2=ورقة1!H407,ورقة1!G407=\"بنت\"),1,0)","v":0},{"$f":"IF(D407=0,\"\",SUM($D$2:D407))","v":""},null,"بنت",3]
[null,{"$f":"IF(AND(ورقة2!$H$2=ورقة1!I408,ورقة2!$F$2=ورقة1!H408,ورقة1!G408=\"ولد\"),1,0)","v":0},{"$f":"IF(B408=0,\"\",SUM($B$2:B408))","v":""},{"$f":"IF(AND(ورقة2!$H$2=ورقة1!I408,ورقة2!$F$2=ورقة1!H408,ورقة1!G408=\"بنت\"),1,0)","v":0},{"$f":"IF(D408=0,\"\",SUM($D$2:D408))","v":""},null,"بنت",3]
[null,{"$f":"IF(AND(ورقة2!$H$2=ورقة1!I409,ورقة2!$F$2=ورقة1!H409,ورقة1!G409=\"ولد\"),1,0)","v":0},{"$f":"IF(B409=0,\"\",SUM($B$2:B409))","v":""},{"$f":"IF(AND(ورقة2!$H$2=ورقة1!I409,ورقة2!$F$2=ورقة1!H409,ورقة1!G409=\"بنت\"),1,0)","v":0},{"$f":"IF(D409=0,\"\",SUM($D$2:D409))","v":""},null,"بنت",3]
[null,{"$f":"IF(AND(ورقة2!$H$2=ورقة1!I410,ورقة2!$F$2=ورقة1!H410,ورقة1!G410=\"ولد\"),1,0)","v":0},{"$f":"IF(B410=0,\"\",SUM($B$2:B410))","v":""},{"$f":"IF(AND(ورقة2!$H$2=ورقة1!I410,ورقة2!$F$2=ورقة1!H410,ورقة1!G410=\"بنت\"),1,0)","v":0},{"$f":"IF(D410=0,\"\",SUM($D$2:D410))","v":""},null,"بنت",3]
[null,{"$f":"IF(AND(ورقة2!$H$2=ورقة1!I411,ورقة2!$F$2=ورقة1!H411,ورقة1!G411=\"ولد\"),1,0)","v":0},{"$f":"IF(B411=0,\"\",SUM($B$2:B411))","v":""},{"$f":"IF(AND(ورقة2!$H$2=ورقة1!I411,ورقة2!$F$2=ورقة1!H411,ورقة1!G411=\"بنت\"),1,0)","v":0},{"$f":"IF(D411=0,\"\",SUM($D$2:D411))","v":""},null,"بنت",3]
[null,{"$f":"IF(AND(ورقة2!$H$2=ورقة1!I412,ورقة2!$F$2=ورقة1!H412,ورقة1!G412=\"ولد\"),1,0)","v":0},{"$f":"IF(B412=0,\"\",SUM($B$2:B412))","v":""},{"$f":"IF(AND(ورقة2!$H$2=ورقة1!I412,ورقة2!$F$2=ورقة1!H412,ورقة1!G412=\"بنت\"),1,0)","v":0},{"$f":"IF(D412=0,\"\",SUM($D$2:D412))","v":""},null,"بنت",3]
[null,{"$f":"IF(AND(ورقة2!$H$2=ورقة1!I413,ورقة2!$F$2=ورقة1!H413,ورقة1!G413=\"ولد\"),1,0)","v":0},{"$f":"IF(B413=0,\"\",SUM($B$2:B413))","v":""},{"$f":"IF(AND(ورقة2!$H$2=ورقة1!I413,ورقة2!$F$2=ورقة1!H413,ورقة1!G413=\"بنت\"),1,0)","v":0},{"$f":"IF(D413=0,\"\",SUM($D$2:D413))","v":""},null,"بنت",3]
[null,{"$f":"IF(AND(ورقة2!$H$2=ورقة1!I414,ورقة2!$F$2=ورقة1!H414,ورقة1!G414=\"ولد\"),1,0)","v":0},{"$f":"IF(B414=0,\"\",SUM($B$2:B414))","v":""},{"$f":"IF(AND(ورقة2!$H$2=ورقة1!I414,ورقة2!$F$2=ورقة1!H414,ورقة1!G414=\"بنت\"),1,0)","v":0},{"$f":"IF(D414=0,\"\",SUM($D$2:D414))","v":""},null,"بنت",3]
[null,{"$f":"IF(AND(ورقة2!$H$2=ورقة1!I415,ورقة2!$F$2=ورقة1!H415,ورقة1!G415=\"ولد\"),1,0)","v":0},{"$f":"IF(B415=0,\"\",SUM($B$2:B415))","v":""},{"$f":"IF(AND(ورقة2!$H$2=ورقة1!I415,ورقة2!$F$2=ورقة1!H415,ورقة1!G415=\"بنت\"),1,0)","v":0},{"$f":"IF(D415=0,\"\",SUM($D$2:D415))","v":""},null,"بنت",3]
[null,{"$f":"IF(AND(ورقة2!$H$2=ورقة1!I416,ورقة2!$F$2=ورقة1!H416,ورقة1!G416=\"ولد\"),1,0)","v":0},{"$f":"IF(B416=0,\"\",SUM($B$2:B416))","v":""},{"$f":"IF(AND(ورقة2!$H$2=ورقة1!I416,ورقة2!$F$2=ورقة1!H416,ورقة1!G416=\"بنت\"),1,0)","v":0},{"$f":"IF(D416=0,\"\",SUM($D$2:D416))","v":""},null,"بنت",3]
[null,{"$f":"IF(AND(ورقة2!$H$2=ورقة1!I417,ورقة2!$F$2=ورقة1!H417,ورقة1!G417=\"ولد\"),1,0)","v":0},{"$f":"IF(B417=0,\"\",SUM($B$2:B417))","v":""},{"$f":"IF(AND(ورقة2!$H$2=ورقة1!I417,ورقة2!$F$2=ورقة1!H417,ورقة1!G417=\"بنت\"),1,0)","v":0},{"$f":"IF(D417=0,\"\",SUM($D$2:D417))","v":""},null,"بنت",3]
[null,{"$f":"IF(AND(ورقة2!$H$2=ورقة1!I418,ورقة2!$F$2=ورقة1!H418,ورقة1!G418=\"ولد\"),1,0)","v":0},{"$f":"IF(B418=0,\"\",SUM($B$2:B418))","v":""},{"$f":"IF(AND(ورقة2!$H$2=ورقة1!I418,ورقة2!$F$2=ورقة1!H418,ورقة1!G418=\"بنت\"),1,0)","v":0},{"$f":"IF(D418=0,\"\",SUM($D$2:D418))","v":""},null,"بنت",3]
[null,{"$f":"IF(AND(ورقة2!$H$2=ورقة1!I419,ورقة2!$F$2=ورقة1!H419,ورقة1!G419=\"ولد\"),1,0)","v":0},{"$f":"IF(B419=0,\"\",SUM($B$2:B419))","v":""},{"$f":"IF(AND(ورقة2!$H$2=ورقة1!I419,ورقة2!$F$2=ورقة1!H419,ورقة1!G419=\"بنت\"),1,0)","v":0},{"$f":"IF(D419=0,\"\",SUM($D$2:D419))","v":""},null,"بنت",3]
[null,{"$f":"IF(AND(ورقة2!$H$2=ورقة1!I420,ورقة2!$F$2=ورقة1!H420,ورقة1!G420=\"ولد\"),1,0)","v":0},{"$f":"IF(B420=0,\"\",SUM($B$2:B420))","v":""},{"$f":"IF(AND(ورقة2!$H$2=ورقة1!I420,ورقة2!$F$2=ورقة1!H420,ورقة1!G420=\"بنت\"),1,0)","v":0},{"$f":"IF(D420=0,\"\",SUM($D$2:D420))","v":""},null,"بنت",3]
[null,{"$f":"IF(AND(ورقة2!$H$2=ورقة1!I421,ورقة2!$F$2=ورقة1!H421,ورقة1!G421=\"ولد\"),1,0)","v":0},{"$f":"IF(B421=0,\"\",SUM($B$2:B421))","v":""},{"$f":"IF(AND(ورقة2!$H$2=ورقة1!I421,ورقة2!$F$2=ورقة1!H421,ورقة1!G421=\"بنت\"),1,0)","v":0},{"$f":"IF(D421=0,\"\",SUM($D$2:D421))","v":""},null,"بنت",3]
[null,{"$f":"IF(AND(ورقة2!$H$2=ورقة1!I422,ورقة2!$F$2=ورقة1!H422,ورقة1!G422=\"ولد\"),1,0)","v":0},{"$f":"IF(B422=0,\"\",SUM($B$2:B422))","v":""},{"$f":"IF(AND(ورقة2!$H$2=ورقة1!I422,ورقة2!$F$2=ورقة1!H422,ورقة1!G422=\"بنت\"),1,0)","v":0},{"$f":"IF(D422=0,\"\",SUM($D$2:D422))","v":""},null,"بنت",3]
[null,{"$f":"IF(AND(ورقة2!$H$2=ورقة1!I423,ورقة2!$F$2=ورقة1!H423,ورقة1!G423=\"ولد\"),1,0)","v":0},{"$f":"IF(B423=0,\"\",SUM($B$2:B423))","v":""},{"$f":"IF(AND(ورقة2!$H$2=ورقة1!I423,ورقة2!$F$2=ورقة1!H423,ورقة1!G423=\"بنت\"),1,0)","v":0},{"$f":"IF(D423=0,\"\",SUM($D$2:D423))","v":""},null,"بنت",3]
[null,{"$f":"IF(AND(ورقة2!$H$2=ورقة1!I424,ورقة2!$F$2=ورقة1!H424,ورقة1!G424=\"ولد\"),1,0)","v":0},{"$f":"IF(B424=0,\"\",SUM($B$2:B424))","v":""},{"$f":"IF(AND(ورقة2!$H$2=ورقة1!I424,ورقة2!$F$2=ورقة1!H424,ورقة1!G424=\"بنت\"),1,0)","v":0},{"$f":"IF(D424=0,\"\",SUM($D$2:D424))","v":""},null,"بنت",3]
[null,{"$f":"IF(AND(ورقة2!$H$2=ورقة1!I425,ورقة2!$F$2=ورقة1!H425,ورقة1!G425=\"ولد\"),1,0)","v":0},{"$f":"IF(B425=0,\"\",SUM($B$2:B425))","v":""},{"$f":"IF(AND(ورقة2!$H$2=ورقة1!I425,ورقة2!$F$2=ورقة1!H425,ورقة1!G425=\"بنت\"),1,0)","v":0},{"$f":"IF(D425=0,\"\",SUM($D$2:D425))","v":""},null,"بنت",3]
[null,{"$f":"IF(AND(ورقة2!$H$2=ورقة1!I426,ورقة2!$F$2=ورقة1!H426,ورقة1!G426=\"ولد\"),1,0)","v":0},{"$f":"IF(B426=0,\"\",SUM($B$2:B426))","v":""},{"$f":"IF(AND(ورقة2!$H$2=ورقة1!I426,ورقة2!$F$2=ورقة1!H426,ورقة1!G426=\"بنت\"),1,0)","v":0},{"$f":"IF(D426=0,\"\",SUM($D$2:D426))","v":""},null,"بنت",3]
[null,{"$f":"IF(AND(ورقة2!$H$2=ورقة1!I427,ورقة2!$F$2=ورقة1!H427,ورقة1!G427=\"ولد\"),1,0)","v":0},{"$f":"IF(B427=0,\"\",SUM($B$2:B427))","v":""},{"$f":"IF(AND(ورقة2!$H$2=ورقة1!I427,ورقة2!$F$2=ورقة1!H427,ورقة1!G427=\"بنت\"),1,0)","v":0},{"$f":"IF(D427=0,\"\",SUM($D$2:D427))","v":""},null,"بنت",3]
[null,{"$f":"IF(AND(ورقة2!$H$2=ورقة1!I428,ورقة2!$F$2=ورقة1!H428,ورقة1!G428=\"ولد\"),1,0)","v":0},{"$f":"IF(B428=0,\"\",SUM($B$2:B428))","v":""},{"$f":"IF(AND(ورقة2!$H$2=ورقة1!I428,ورقة2!$F$2=ورقة1!H428,ورقة1!G428=\"بنت\"),1,0)","v":0},{"$f":"IF(D428=0,\"\",SUM($D$2:D428))","v":""},null,"بنت",3]
[null,{"$f":"IF(AND(ورقة2!$H$2=ورقة1!I429,ورقة2!$F$2=ورقة1!H429,ورقة1!G429=\"ولد\"),1,0)","v":0},{"$f":"IF(B429=0,\"\",SUM($B$2:B429))","v":""},{"$f":"IF(AND(ورقة2!$H$2=ورقة1!I429,ورقة2!$F$2=ورقة1!H429,ورقة1!G429=\"بنت\"),1,0)","v":0},{"$f":"IF(D429=0,\"\",SUM($D$2:D429))","v":""},null,"بنت",3]
[null,{"$f":"IF(AND(ورقة2!$H$2=ورقة1!I430,ورقة2!$F$2=ورقة1!H430,ورقة1!G430=\"ولد\"),1,0)","v":0},{"$f":"IF(B430=0,\"\",SUM($B$2:B430))","v":""},{"$f":"IF(AND(ورقة2!$H$2=ورقة1!I430,ورقة2!$F$2=ورقة1!H430,ورقة1!G430=\"بنت\"),1,0)","v":0},{"$f":"IF(D430=0,\"\",SUM($D$2:D430))","v":""},null,"بنت",3]
[null,{"$f":"IF(AND(ورقة2!$H$2=ورقة1!I431,ورقة2!$F$2=ورقة1!H431,ورقة1!G431=\"ولد\"),1,0)","v":0},{"$f":"IF(B431=0,\"\",SUM($B$2:B431))","v":""},{"$f":"IF(AND(ورقة2!$H$2=ورقة1!I431,ورقة2!$F$2=ورقة1!H431,ورقة1!G431=\"بنت\"),1,0)","v":0},{"$f":"IF(D431=0,\"\",SUM($D$2:D431))","v":""},null,"بنت",3]
[null,{"$f":"IF(AND(ورقة2!$H$2=ورقة1!I432,ورقة2!$F$2=ورقة1!H432,ورقة1!G432=\"ولد\"),1,0)","v":0},{"$f":"IF(B432=0,\"\",SUM($B$2:B432))","v":""},{"$f":"IF(AND(ورقة2!$H$2=ورقة1!I432,ورقة2!$F$2=ورقة1!H432,ورقة1!G432=\"بنت\"),1,0)","v":0},{"$f":"IF(D432=0,\"\",SUM($D$2:D432))","v":""},null,"بنت",3]
[null,{"$f":"IF(AND(ورقة2!$H$2=ورقة1!I433,ورقة2!$F$2=ورقة1!H433,ورقة1!G433=\"ولد\"),1,0)","v":0},{"$f":"IF(B433=0,\"\",SUM($B$2:B433))","v":""},{"$f":"IF(AND(ورقة2!$H$2=ورقة1!I433,ورقة2!$F$2=ورقة1!H433,ورقة1!G433=\"بنت\"),1,0)","v":0},{"$f":"IF(D433=0,\"\",SUM($D$2:D433))","v":""},null,"بنت",3]
[null,{"$f":"IF(AND(ورقة2!$H$2=ورقة1!I434,ورقة2!$F$2=ورقة1!H434,ورقة1!G434=\"ولد\"),1,0)","v":0},{"$f":"IF(B434=0,\"\",SUM($B$2:B434))","v":""},{"$f":"IF(AND(ورقة2!$H$2=ورقة1!I434,ورقة2!$F$2=ورقة1!H434,ورقة1!G434=\"بنت\"),1,0)","v":0},{"$f":"IF(D434=0,\"\",SUM($D$2:D434))","v":""},null,"بنت",3]
[null,{"$f":"IF(AND(ورقة2!$H$2=ورقة1!I435,ورقة2!$F$2=ورقة1!H435,ورقة1!G435=\"ولد\"),1,0)","v":0},{"$f":"IF(B435=0,\"\",SUM($B$2:B435))","v":""},{"$f":"IF(AND(ورقة2!$H$2=ورقة1!I435,ورقة2!$F$2=ورقة1!H435,ورقة1!G435=\"بنت\"),1,0)","v":0},{"$f":"IF(D435=0,\"\",SUM($D$2:D435))","v":""},null,"بنت",3]
[null,{"$f":"IF(AND(ورقة2!$H$2=ورقة1!I436,ورقة2!$F$2=ورقة1!H436,ورقة1!G436=\"ولد\"),1,0)","v":0},{"$f":"IF(B436=0,\"\",SUM($B$2:B436))","v":""},{"$f":"IF(AND(ورقة2!$H$2=ورقة1!I436,ورقة2!$F$2=ورقة1!H436,ورقة1!G436=\"بنت\"),1,0)","v":0},{"$f":"IF(D436=0,\"\",SUM($D$2:D436))","v":""},null,"بنت",3]
[null,{"$f":"IF(AND(ورقة2!$H$2=ورقة1!I437,ورقة2!$F$2=ورقة1!H437,ورقة1!G437=\"ولد\"),1,0)","v":0},{"$f":"IF(B437=0,\"\",SUM($B$2:B437))","v":""},{"$f":"IF(AND(ورقة2!$H$2=ورقة1!I437,ورقة2!$F$2=ورقة1!H437,ورقة1!G437=\"بنت\"),1,0)","v":0},{"$f":"IF(D437=0,\"\",SUM($D$2:D437))","v":""},null,"بنت",3]
[null,{"$f":"IF(AND(ورقة2!$H$2=ورقة1!I438,ورقة2!$F$2=ورقة1!H438,ورقة1!G438=\"ولد\"),1,0)","v":0},{"$f":"IF(B438=0,\"\",SUM($B$2:B438))","v":""},{"$f":"IF(AND(ورقة2!$H$2=ورقة1!I438,ورقة2!$F$2=ورقة1!H438,ورقة1!G438=\"بنت\"),1,0)","v":0},{"$f":"IF(D438=0,\"\",SUM($D$2:D438))","v":""},null,"بنت",3]
[null,{"$f":"IF(AND(ورقة2!$H$2=ورقة1!I439,ورقة2!$F$2=ورقة1!H439,ورقة1!G439=\"ولد\"),1,0)","v":0},{"$f":"IF(B439=0,\"\",SUM($B$2:B439))","v":""},{"$f":"IF(AND(ورقة2!$H$2=ورقة1!I439,ورقة2!$F$2=ورقة1!H439,ورقة1!G439=\"بنت\"),1,0)","v":0},{"$f":"IF(D439=0,\"\",SUM($D$2:D439))","v":""},null,"بنت",3]
[null,{"$f":"IF(AND(ورقة2!$H$2=ورقة1!I440,ورقة2!$F$2=ورقة1!H440,ورقة1!G440=\"ولد\"),1,0)","v":0},{"$f":"IF(B440=0,\"\",SUM($B$2:B440))","v":""},{"$f":"IF(AND(ورقة2!$H$2=ورقة1!I440,ورقة2!$F$2=ورقة1!H440,ورقة1!G440=\"بنت\"),1,0)","v":0},{"$f":"IF(D440=0,\"\",SUM($D$2:D440))","v":""},null,"بنت",3]
[null,{"$f":"IF(AND(ورقة2!$H$2=ورقة1!I441,ورقة2!$F$2=ورقة1!H441,ورقة1!G441=\"ولد\"),1,0)","v":0},{"$f":"IF(B441=0,\"\",SUM($B$2:B441))","v":""},{"$f":"IF(AND(ورقة2!$H$2=ورقة1!I441,ورقة2!$F$2=ورقة1!H441,ورقة1!G441=\"بنت\"),1,0)","v":0},{"$f":"IF(D441=0,\"\",SUM($D$2:D441))","v":""},null,"بنت",3]
[null,{"$f":"IF(AND(ورقة2!$H$2=ورقة1!I442,ورقة2!$F$2=ورقة1!H442,ورقة1!G442=\"ولد\"),1,0)","v":0},{"$f":"IF(B442=0,\"\",SUM($B$2:B442))","v":""},{"$f":"IF(AND(ورقة2!$H$2=ورقة1!I442,ورقة2!$F$2=ورقة1!H442,ورقة1!G442=\"بنت\"),1,0)","v":0},{"$f":"IF(D442=0,\"\",SUM($D$2:D442))","v":""},null,"بنت",3]
[null,{"$f":"IF(AND(ورقة2!$H$2=ورقة1!I443,ورقة2!$F$2=ورقة1!H443,ورقة1!G443=\"ولد\"),1,0)","v":0},{"$f":"IF(B443=0,\"\",SUM($B$2:B443))","v":""},{"$f":"IF(AND(ورقة2!$H$2=ورقة1!I443,ورقة2!$F$2=ورقة1!H443,ورقة1!G443=\"بنت\"),1,0)","v":0},{"$f":"IF(D443=0,\"\",SUM($D$2:D443))","v":""},null,"بنت",3]
[null,{"$f":"IF(AND(ورقة2!$H$2=ورقة1!I444,ورقة2!$F$2=ورقة1!H444,ورقة1!G444=\"ولد\"),1,0)","v":0},{"$f":"IF(B444=0,\"\",SUM($B$2:B444))","v":""},{"$f":"IF(AND(ورقة2!$H$2=ورقة1!I444,ورقة2!$F$2=ورقة1!H444,ورقة1!G444=\"بنت\"),1,0)","v":0},{"$f":"IF(D444=0,\"\",SUM($D$2:D444))","v":""},null,"بنت",3]
[null,{"$f":"IF(AND(ورقة2!$H$2=ورقة1!I445,ورقة2!$F$2=ورقة1!H445,ورقة1!G445=\"ولد\"),1,0)","v":0},{"$f":"IF(B445=0,\"\",SUM($B$2:B445))","v":""},{"$f":"IF(AND(ورقة2!$H$2=ورقة1!I445,ورقة2!$F$2=ورقة1!H445,ورقة1!G445=\"بنت\"),1,0)","v":0},{"$f":"IF(D445=0,\"\",SUM($D$2:D445))","v":""},null,"بنت",3]
[null,{"$f":"IF(AND(ورقة2!$H$2=ورقة1!I446,ورقة2!$F$2=ورقة1!H446,ورقة1!G446=\"ولد\"),1,0)","v":0},{"$f":"IF(B446=0,\"\",SUM($B$2:B446))","v":""},{"$f":"IF(AND(ورقة2!$H$2=ورقة1!I446,ورقة2!$F$2=ورقة1!H446,ورقة1!G446=\"بنت\"),1,0)","v":0},{"$f":"IF(D446=0,\"\",SUM($D$2:D446))","v":""},null,"بنت",3]
[null,{"$f":"IF(AND(ورقة2!$H$2=ورقة1!I447,ورقة2!$F$2=ورقة1!H447,ورقة1!G447=\"ولد\"),1,0)","v":0},{"$f":"IF(B447=0,\"\",SUM($B$2:B447))","v":""},{"$f":"IF(AND(ورقة2!$H$2=ورقة1!I447,ورقة2!$F$2=ورقة1!H447,ورقة1!G447=\"بنت\"),1,0)","v":0},{"$f":"IF(D447=0,\"\",SUM($D$2:D447))","v":""},null,"بنت",3]
[null,{"$f":"IF(AND(ورقة2!$H$2=ورقة1!I448,ورقة2!$F$2=ورقة1!H448,ورقة1!G448=\"ولد\"),1,0)","v":0},{"$f":"IF(B448=0,\"\",SUM($B$2:B448))","v":""},{"$f":"IF(AND(ورقة2!$H$2=ورقة1!I448,ورقة2!$F$2=ورقة1!H448,ورقة1!G448=\"بنت\"),1,0)","v":0},{"$f":"IF(D448=0,\"\",SUM($D$2:D448))","v":""},null,"بنت",3]
[null,{"$f":"IF(AND(ورقة2!$H$2=ورقة1!I449,ورقة2!$F$2=ورقة1!H449,ورقة1!G449=\"ولد\"),1,0)","v":0},{"$f":"IF(B449=0,\"\",SUM($B$2:B449))","v":""},{"$f":"IF(AND(ورقة2!$H$2=ورقة1!I449,ورقة2!$F$2=ورقة1!H449,ورقة1!G449=\"بنت\"),1,0)","v":0},{"$f":"IF(D449=0,\"\",SUM($D$2:D449))","v":""},null,"بنت",3]
[null,{"$f":"IF(AND(ورقة2!$H$2=ورقة1!I450,ورقة2!$F$2=ورقة1!H450,ورقة1!G450=\"ولد\"),1,0)","v":0},{"$f":"IF(B450=0,\"\",SUM($B$2:B450))","v":""},{"$f":"IF(AND(ورقة2!$H$2=ورقة1!I450,ورقة2!$F$2=ورقة1!H450,ورقة1!G450=\"بنت\"),1,0)","v":0},{"$f":"IF(D450=0,\"\",SUM($D$2:D450))","v":""},null,"بنت",3]
[null,{"$f":"IF(AND(ورقة2!$H$2=ورقة1!I451,ورقة2!$F$2=ورقة1!H451,ورقة1!G451=\"ولد\"),1,0)","v":0},{"$f":"IF(B451=0,\"\",SUM($B$2:B451))","v":""},{"$f":"IF(AND(ورقة2!$H$2=ورقة1!I451,ورقة2!$F$2=ورقة1!H451,ورقة1!G451=\"بنت\"),1,0)","v":0},{"$f":"IF(D451=0,\"\",SUM($D$2:D451))","v":""},null,"بنت",3]
[null,{"$f":"IF(AND(ورقة2!$H$2=ورقة1!I452,ورقة2!$F$2=ورقة1!H452,ورقة1!G452=\"ولد\"),1,0)","v":0},{"$f":"IF(B452=0,\"\",SUM($B$2:B452))","v":""},{"$f":"IF(AND(ورقة2!$H$2=ورقة1!I452,ورقة2!$F$2=ورقة1!H452,ورقة1!G452=\"بنت\"),1,0)","v":0},{"$f":"IF(D452=0,\"\",SUM($D$2:D452))","v":""},null,"بنت",3]
[null,{"$f":"IF(AND(ورقة2!$H$2=ورقة1!I453,ورقة2!$F$2=ورقة1!H453,ورقة1!G453=\"ولد\"),1,0)","v":0},{"$f":"IF(B453=0,\"\",SUM($B$2:B453))","v":""},{"$f":"IF(AND(ورقة2!$H$2=ورقة1!I453,ورقة2!$F$2=ورقة1!H453,ورقة1!G453=\"بنت\"),1,0)","v":0},{"$f":"IF(D453=0,\"\",SUM($D$2:D453))","v":""},null,"بنت",3]
[null,{"$f":"IF(AND(ورقة2!$H$2=ورقة1!I454,ورقة2!$F$2=ورقة1!H454,ورقة1!G454=\"ولد\"),1,0)","v":0},{"$f":"IF(B454=0,\"\",SUM($B$2:B454))","v":""},{"$f":"IF(AND(ورقة2!$H$2=ورقة1!I454,ورقة2!$F$2=ورقة1!H454,ورقة1!G454=\"بنت\"),1,0)","v":0},{"$f":"IF(D454=0,\"\",SUM($D$2:D454))","v":""},null,"بنت",3]
[null,{"$f":"IF(AND(ورقة2!$H$2=ورقة1!I455,ورقة2!$F$2=ورقة1!H455,ورقة1!G455=\"ولد\"),1,0)","v":0},{"$f":"IF(B455=0,\"\",SUM($B$2:B455))","v":""},{"$f":"IF(AND(ورقة2!$H$2=ورقة1!I455,ورقة2!$F$2=ورقة1!H455,ورقة1!G455=\"بنت\"),1,0)","v":0},{"$f":"IF(D455=0,\"\",SUM($D$2:D455))","v":""},null,"بنت",3]
[null,{"$f":"IF(AND(ورقة2!$H$2=ورقة1!I456,ورقة2!$F$2=ورقة1!H456,ورقة1!G456=\"ولد\"),1,0)","v":0},{"$f":"IF(B456=0,\"\",SUM($B$2:B456))","v":""},{"$f":"IF(AND(ورقة2!$H$2=ورقة1!I456,ورقة2!$F$2=ورقة1!H456,ورقة1!G456=\"بنت\"),1,0)","v":0},{"$f":"IF(D456=0,\"\",SUM($D$2:D456))","v":""},null,"بنت",3]
[null,{"$f":"IF(AND(ورقة2!$H$2=ورقة1!I457,ورقة2!$F$2=ورقة1!H457,ورقة1!G457=\"ولد\"),1,0)","v":0},{"$f":"IF(B457=0,\"\",SUM($B$2:B457))","v":""},{"$f":"IF(AND(ورقة2!$H$2=ورقة1!I457,ورقة2!$F$2=ورقة1!H457,ورقة1!G457=\"بنت\"),1,0)","v":0},{"$f":"IF(D457=0,\"\",SUM($D$2:D457))","v":""},null,"بنت",3]
[null,{"$f":"IF(AND(ورقة2!$H$2=ورقة1!I458,ورقة2!$F$2=ورقة1!H458,ورقة1!G458=\"ولد\"),1,0)","v":0},{"$f":"IF(B458=0,\"\",SUM($B$2:B458))","v":""},{"$f":"IF(AND(ورقة2!$H$2=ورقة1!I458,ورقة2!$F$2=ورقة1!H458,ورقة1!G458=\"بنت\"),1,0)","v":0},{"$f":"IF(D458=0,\"\",SUM($D$2:D458))","v":""},null,"بنت",3]
[null,{"$f":"IF(AND(ورقة2!$H$2=ورقة1!I459,ورقة2!$F$2=ورقة1!H459,ورقة1!G459=\"ولد\"),1,0)","v":0},{"$f":"IF(B459=0,\"\",SUM($B$2:B459))","v":""},{"$f":"IF(AND(ورقة2!$H$2=ورقة1!I459,ورقة2!$F$2=ورقة1!H459,ورقة1!G459=\"بنت\"),1,0)","v":0},{"$f":"IF(D459=0,\"\",SUM($D$2:D459))","v":""},null,"بنت",3]
[null,{"$f":"IF(AND(ورقة2!$H$2=ورقة1!I460,ورقة2!$F$2=ورقة1!H460,ورقة1!G460=\"ولد\"),1,0)","v":0},{"$f":"IF(B460=0,\"\",SUM($B$2:B460))","v":""},{"$f":"IF(AND(ورقة2!$H$2=ورقة1!I460,ورقة2!$F$2=ورقة1!H460,ورقة1!G460=\"بنت\"),1,0)","v":0},{"$f":"IF(D460=0,\"\",SUM($D$2:D460))","v":""},null,"بنت",3]
[null,{"$f":"IF(AND(ورقة2!$H$2=ورقة1!I461,ورقة2!$F$2=ورقة1!H461,ورقة1!G461=\"ولد\"),1,0)","v":0},{"$f":"IF(B461=0,\"\",SUM($B$2:B461))","v":""},{"$f":"IF(AND(ورقة2!$H$2=ورقة1!I461,ورقة2!$F$2=ورقة1!H461,ورقة1!G461=\"بنت\"),1,0)","v":0},{"$f":"IF(D461=0,\"\",SUM($D$2:D461))","v":""},null,"بنت",3]
[null,{"$f":"IF(AND(ورقة2!$H$2=ورقة1!I462,ورقة2!$F$2=ورقة1!H462,ورقة1!G462=\"ولد\"),1,0)","v":0},{"$f":"IF(B462=0,\"\",SUM($B$2:B462))","v":""},{"$f":"IF(AND(ورقة2!$H$2=ورقة1!I462,ورقة2!$F$2=ورقة1!H462,ورقة1!G462=\"بنت\"),1,0)","v":0},{"$f":"IF(D462=0,\"\",SUM($D$2:D462))","v":""},null,"بنت",3]
[null,{"$f":"IF(AND(ورقة2!$H$2=ورقة1!I463,ورقة2!$F$2=ورقة1!H463,ورقة1!G463=\"ولد\"),1,0)","v":0},{"$f":"IF(B463=0,\"\",SUM($B$2:B463))","v":""},{"$f":"IF(AND(ورقة2!$H$2=ورقة1!I463,ورقة2!$F$2=ورقة1!H463,ورقة1!G463=\"بنت\"),1,0)","v":0},{"$f":"IF(D463=0,\"\",SUM($D$2:D463))","v":""},null,"بنت",3]
[null,{"$f":"IF(AND(ورقة2!$H$2=ورقة1!I464,ورقة2!$F$2=ورقة1!H464,ورقة1!G464=\"ولد\"),1,0)","v":0},{"$f":"IF(B464=0,\"\",SUM($B$2:B464))","v":""},{"$f":"IF(AND(ورقة2!$H$2=ورقة1!I464,ورقة2!$F$2=ورقة1!H464,ورقة1!G464=\"بنت\"),1,0)","v":0},{"$f":"IF(D464=0,\"\",SUM($D$2:D464))","v":""},null,"بنت",3]
[null,{"$f":"IF(AND(ورقة2!$H$2=ورقة1!I465,ورقة2!$F$2=ورقة1!H465,ورقة1!G465=\"ولد\"),1,0)","v":0},{"$f":"IF(B465=0,\"\",SUM($B$2:B465))","v":""},{"$f":"IF(AND(ورقة2!$H$2=ورقة1!I465,ورقة2!$F$2=ورقة1!H465,ورقة1!G465=\"بنت\"),1,0)","v":0},{"$f":"IF(D465=0,\"\",SUM($D$2:D465))","v":""},null,"بنت",3]
[null,{"$f":"IF(AND(ورقة2!$H$2=ورقة1!I466,ورقة2!$F$2=ورقة1!H466,ورقة1!G466=\"ولد\"),1,0)","v":0},{"$f":"IF(B466=0,\"\",SUM($B$2:B466))","v":""},{"$f":"IF(AND(ورقة2!$H$2=ورقة1!I466,ورقة2!$F$2=ورقة1!H466,ورقة1!G466=\"بنت\"),1,0)","v":0},{"$f":"IF(D466=0,\"\",SUM($D$2:D466))","v":""},null,"بنت",3]
[null,{"$f":"IF(AND(ورقة2!$H$2=ورقة1!I467,ورقة2!$F$2=ورقة1!H467,ورقة1!G467=\"ولد\"),1,0)","v":0},{"$f":"IF(B467=0,\"\",SUM($B$2:B467))","v":""},{"$f":"IF(AND(ورقة2!$H$2=ورقة1!I467,ورقة2!$F$2=ورقة1!H467,ورقة1!G467=\"بنت\"),1,0)","v":0},{"$f":"IF(D467=0,\"\",SUM($D$2:D467))","v":""},null,"بنت",3]
[null,{"$f":"IF(AND(ورقة2!$H$2=ورقة1!I468,ورقة2!$F$2=ورقة1!H468,ورقة1!G468=\"ولد\"),1,0)","v":0},{"$f":"IF(B468=0,\"\",SUM($B$2:B468))","v":""},{"$f":"IF(AND(ورقة2!$H$2=ورقة1!I468,ورقة2!$F$2=ورقة1!H468,ورقة1!G468=\"بنت\"),1,0)","v":0},{"$f":"IF(D468=0,\"\",SUM($D$2:D468))","v":""},null,"بنت",3]
[null,{"$f":"IF(AND(ورقة2!$H$2=ورقة1!I469,ورقة2!$F$2=ورقة1!H469,ورقة1!G469=\"ولد\"),1,0)","v":0},{"$f":"IF(B469=0,\"\",SUM($B$2:B469))","v":""},{"$f":"IF(AND(ورقة2!$H$2=ورقة1!I469,ورقة2!$F$2=ورقة1!H469,ورقة1!G469=\"بنت\"),1,0)","v":0},{"$f":"IF(D469=0,\"\",SUM($D$2:D469))","v":""},null,"بنت",3]
[null,{"$f":"IF(AND(ورقة2!$H$2=ورقة1!I470,ورقة2!$F$2=ورقة1!H470,ورقة1!G470=\"ولد\"),1,0)","v":0},{"$f":"IF(B470=0,\"\",SUM($B$2:B470))","v":""},{"$f":"IF(AND(ورقة2!$H$2=ورقة1!I470,ورقة2!$F$2=ورقة1!H470,ورقة1!G470=\"بنت\"),1,0)","v":0},{"$f":"IF(D470=0,\"\",SUM($D$2:D470))","v":""},null,"بنت",3]
[null,{"$f":"IF(AND(ورقة2!$H$2=ورقة1!I471,ورقة2!$F$2=ورقة1!H471,ورقة1!G471=\"ولد\"),1,0)","v":0},{"$f":"IF(B471=0,\"\",SUM($B$2:B471))","v":""},{"$f":"IF(AND(ورقة2!$H$2=ورقة1!I471,ورقة2!$F$2=ورقة1!H471,ورقة1!G471=\"بنت\"),1,0)","v":0},{"$f":"IF(D471=0,\"\",SUM($D$2:D471))","v":""},null,"بنت",3]
[null,{"$f":"IF(AND(ورقة2!$H$2=ورقة1!I472,ورقة2!$F$2=ورقة1!H472,ورقة1!G472=\"ولد\"),1,0)","v":0},{"$f":"IF(B472=0,\"\",SUM($B$2:B472))","v":""},{"$f":"IF(AND(ورقة2!$H$2=ورقة1!I472,ورقة2!$F$2=ورقة1!H472,ورقة1!G472=\"بنت\"),1,0)","v":0},{"$f":"IF(D472=0,\"\",SUM($D$2:D472))","v":""},null,"بنت",3]
[null,{"$f":"IF(AND(ورقة2!$H$2=ورقة1!I473,ورقة2!$F$2=ورقة1!H473,ورقة1!G473=\"ولد\"),1,0)","v":0},{"$f":"IF(B473=0,\"\",SUM($B$2:B473))","v":""},{"$f":"IF(AND(ورقة2!$H$2=ورقة1!I473,ورقة2!$F$2=ورقة1!H473,ورقة1!G473=\"بنت\"),1,0)","v":0},{"$f":"IF(D473=0,\"\",SUM($D$2:D473))","v":""},null,"بنت",3]
[null,{"$f":"IF(AND(ورقة2!$H$2=ورقة1!I474,ورقة2!$F$2=ورقة1!H474,ورقة1!G474=\"ولد\"),1,0)","v":0},{"$f":"IF(B474=0,\"\",SUM($B$2:B474))","v":""},{"$f":"IF(AND(ورقة2!$H$2=ورقة1!I474,ورقة2!$F$2=ورقة1!H474,ورقة1!G474=\"بنت\"),1,0)","v":0},{"$f":"IF(D474=0,\"\",SUM($D$2:D474))","v":""},null,"بنت",3]
[null,{"$f":"IF(AND(ورقة2!$H$2=ورقة1!I475,ورقة2!$F$2=ورقة1!H475,ورقة1!G475=\"ولد\"),1,0)","v":0},{"$f":"IF(B475=0,\"\",SUM($B$2:B475))","v":""},{"$f":"IF(AND(ورقة2!$H$2=ورقة1!I475,ورقة2!$F$2=ورقة1!H475,ورقة1!G475=\"بنت\"),1,0)","v":0},{"$f":"IF(D475=0,\"\",SUM($D$2:D475))","v":""},null,"بنت",3]
[null,{"$f":"IF(AND(ورقة2!$H$2=ورقة1!I476,ورقة2!$F$2=ورقة1!H476,ورقة1!G476=\"ولد\"),1,0)","v":0},{"$f":"IF(B476=0,\"\",SUM($B$2:B476))","v":""},{"$f":"IF(AND(ورقة2!$H$2=ورقة1!I476,ورقة2!$F$2=ورقة1!H476,ورقة1!G476=\"بنت\"),1,0)","v":0},{"$f":"IF(D476=0,\"\",SUM($D$2:D476))","v":""},null,"بنت",3]
[null,{"$f":"IF(AND(ورقة2!$H$2=ورقة1!I477,ورقة2!$F$2=ورقة1!H477,ورقة1!G477=\"ولد\"),1,0)","v":0},{"$f":"IF(B477=0,\"\",SUM($B$2:B477))","v":""},{"$f":"IF(AND(ورقة2!$H$2=ورقة1!I477,ورقة2!$F$2=ورقة1!H477,ورقة1!G477=\"بنت\"),1,0)","v":0},{"$f":"IF(D477=0,\"\",SUM($D$2:D477))","v":""},null,"بنت",3]
[null,{"$f":"IF(AND(ورقة2!$H$2=ورقة1!I478,ورقة2!$F$2=ورقة1!H478,ورقة1!G478=\"ولد\"),1,0)","v":0},{"$f":"IF(B478=0,\"\",SUM($B$2:B478))","v":""},{"$f":"IF(AND(ورقة2!$H$2=ورقة1!I478,ورقة2!$F$2=ورقة1!H478,ورقة1!G478=\"بنت\"),1,0)","v":0},{"$f":"IF(D478=0,\"\",SUM($D$2:D478))","v":""},null,"بنت",3]
[null,{"$f":"IF(AND(ورقة2!$H$2=ورقة1!I479,ورقة2!$F$2=ورقة1!H479,ورقة1!G479=\"ولد\"),1,0)","v":0},{"$f":"IF(B479=0,\"\",SUM($B$2:B479))","v":""},{"$f":"IF(AND(ورقة2!$H$2=ورقة1!I479,ورقة2!$F$2=ورقة1!H479,ورقة1!G479=\"بنت\"),1,0)","v":0},{"$f":"IF(D479=0,\"\",SUM($D$2:D479))","v":""},null,"بنت",3]
[null,{"$f":"IF(AND(ورقة2!$H$2=ورقة1!I480,ورقة2!$F$2=ورقة1!H480,ورقة1!G480=\"ولد\"),1,0)","v":0},{"$f":"IF(B480=0,\"\",SUM($B$2:B480))","v":""},{"$f":"IF(AND(ورقة2!$H$2=ورقة1!I480,ورقة2!$F$2=ورقة1!H480,ورقة1!G480=\"بنت\"),1,0)","v":0},{"$f":"IF(D480=0,\"\",SUM($D$2:D480))","v":""},null,"بنت",3]
[null,{"$f":"IF(AND(ورقة2!$H$2=ورقة1!I481,ورقة2!$F$2=ورقة1!H481,ورقة1!G481=\"ولد\"),1,0)","v":0},{"$f":"IF(B481=0,\"\",SUM($B$2:B481))","v":""},{"$f":"IF(AND(ورقة2!$H$2=ورقة1!I481,ورقة2!$F$2=ورقة1!H481,ورقة1!G481=\"بنت\"),1,0)","v":0},{"$f":"IF(D481=0,\"\",SUM($D$2:D481))","v":""},null,"بنت",3]
[null,{"$f":"IF(AND(ورقة2!$H$2=ورقة1!I482,ورقة2!$F$2=ورقة1!H482,ورقة1!G482=\"ولد\"),1,0)","v":0},{"$f":"IF(B482=0,\"\",SUM($B$2:B482))","v":""},{"$f":"IF(AND(ورقة2!$H$2=ورقة1!I482,ورقة2!$F$2=ورقة1!H482,ورقة1!G482=\"بنت\"),1,0)","v":0},{"$f":"IF(D482=0,\"\",SUM($D$2:D482))","v":""},null,"بنت",3]
[null,{"$f":"IF(AND(ورقة2!$H$2=ورقة1!I483,ورقة2!$F$2=ورقة1!H483,ورقة1!G483=\"ولد\"),1,0)","v":0},{"$f":"IF(B483=0,\"\",SUM($B$2:B483))","v":""},{"$f":"IF(AND(ورقة2!$H$2=ورقة1!I483,ورقة2!$F$2=ورقة1!H483,ورقة1!G483=\"بنت\"),1,0)","v":0},{"$f":"IF(D483=0,\"\",SUM($D$2:D483))","v":""},null,"بنت",3]
[null,{"$f":"IF(AND(ورقة2!$H$2=ورقة1!I484,ورقة2!$F$2=ورقة1!H484,ورقة1!G484=\"ولد\"),1,0)","v":0},{"$f":"IF(B484=0,\"\",SUM($B$2:B484))","v":""},{"$f":"IF(AND(ورقة2!$H$2=ورقة1!I484,ورقة2!$F$2=ورقة1!H484,ورقة1!G484=\"بنت\"),1,0)","v":0},{"$f":"IF(D484=0,\"\",SUM($D$2:D484))","v":""},null,"بنت",3]
[null,{"$f":"IF(AND(ورقة2!$H$2=ورقة1!I485,ورقة2!$F$2=ورقة1!H485,ورقة1!G485=\"ولد\"),1,0)","v":0},{"$f":"IF(B485=0,\"\",SUM($B$2:B485))","v":""},{"$f":"IF(AND(ورقة2!$H$2=ورقة1!I485,ورقة2!$F$2=ورقة1!H485,ورقة1!G485=\"بنت\"),1,0)","v":0},{"$f":"IF(D485=0,\"\",SUM($D$2:D485))","v":""},null,"بنت",3]
[null,{"$f":"IF(AND(ورقة2!$H$2=ورقة1!I486,ورقة2!$F$2=ورقة1!H486,ورقة1!G486=\"ولد\"),1,0)","v":0},{"$f":"IF(B486=0,\"\",SUM($B$2:B486))","v":""},{"$f":"IF(AND(ورقة2!$H$2=ورقة1!I486,ورقة2!$F$2=ورقة1!H486,ورقة1!G486=\"بنت\"),1,0)","v":0},{"$f":"IF(D486=0,\"\",SUM($D$2:D486))","v":""},null,"بنت",3]
[null,{"$f":"IF(AND(ورقة2!$H$2=ورقة1!I487,ورقة2!$F$2=ورقة1!H487,ورقة1!G487=\"ولد\"),1,0)","v":0},{"$f":"IF(B487=0,\"\",SUM($B$2:B487))","v":""},{"$f":"IF(AND(ورقة2!$H$2=ورقة1!I487,ورقة2!$F$2=ورقة1!H487,ورقة1!G487=\"بنت\"),1,0)","v":0},{"$f":"IF(D487=0,\"\",SUM($D$2:D487))","v":""},null,"بنت",3]
[null,{"$f":"IF(AND(ورقة2!$H$2=ورقة1!I488,ورقة2!$F$2=ورقة1!H488,ورقة1!G488=\"ولد\"),1,0)","v":0},{"$f":"IF(B488=0,\"\",SUM($B$2:B488))","v":""},{"$f":"IF(AND(ورقة2!$H$2=ورقة1!I488,ورقة2!$F$2=ورقة1!H488,ورقة1!G488=\"بنت\"),1,0)","v":0},{"$f":"IF(D488=0,\"\",SUM($D$2:D488))","v":""},null,"بنت",3]
[null,{"$f":"IF(AND(ورقة2!$H$2=ورقة1!I489,ورقة2!$F$2=ورقة1!H489,ورقة1!G489=\"ولد\"),1,0)","v":0},{"$f":"IF(B489=0,\"\",SUM($B$2:B489))","v":""},{"$f":"IF(AND(ورقة2!$H$2=ورقة1!I489,ورقة2!$F$2=ورقة1!H489,ورقة1!G489=\"بنت\"),1,0)","v":0},{"$f":"IF(D489=0,\"\",SUM($D$2:D489))","v":""},null,"بنت",3]
[null,{"$f":"IF(AND(ورقة2!$H$2=ورقة1!I490,ورقة2!$F$2=ورقة1!H490,ورقة1!G490=\"ولد\"),1,0)","v":0},{"$f":"IF(B490=0,\"\",SUM($B$2:B490))","v":""},{"$f":"IF(AND(ورقة2!$H$2=ورقة1!I490,ورقة2!$F$2=ورقة1!H490,ورقة1!G490=\"بنت\"),1,0)","v":0},{"$f":"IF(D490=0,\"\",SUM($D$2:D490))","v":""},null,"بنت",3]
[null,{"$f":"IF(AND(ورقة2!$H$2=ورقة1!I491,ورقة2!$F$2=ورقة1!H491,ورقة1!G491=\"ولد\"),1,0)","v":0},{"$f":"IF(B491=0,\"\",SUM($B$2:B491))","v":""},{"$f":"IF(AND(ورقة2!$H$2=ورقة1!I491,ورقة2!$F$2=ورقة1!H491,ورقة1!G491=\"بنت\"),1,0)","v":0},{"$f":"IF(D491=0,\"\",SUM($D$2:D491))","v":""},null,"بنت",3]
[null,{"$f":"IF(AND(ورقة2!$H$2=ورقة1!I492,ورقة2!$F$2=ورقة1!H492,ورقة1!G492=\"ولد\"),1,0)","v":0},{"$f":"IF(B492=0,\"\",SUM($B$2:B492))","v":""},{"$f":"IF(AND(ورقة2!$H$2=ورقة1!I492,ورقة2!$F$2=ورقة1!H492,ورقة1!G492=\"بنت\"),1,0)","v":0},{"$f":"IF(D492=0,\"\",SUM($D$2:D492))","v":""},null,"بنت",3]
[null,{"$f":"IF(AND(ورقة2!$H$2=ورقة1!I493,ورقة2!$F$2=ورقة1!H493,ورقة1!G493=\"ولد\"),1,0)","v":0},{"$f":"IF(B493=0,\"\",SUM($B$2:B493))","v":""},{"$f":"IF(AND(ورقة2!$H$2=ورقة1!I493,ورقة2!$F$2=ورقة1!H493,ورقة1!G493=\"بنت\"),1,0)","v":0},{"$f":"IF(D493=0,\"\",SUM($D$2:D493))","v":""},null,"بنت",3]
[null,{"$f":"IF(AND(ورقة2!$H$2=ورقة1!I494,ورقة2!$F$2=ورقة1!H494,ورقة1!G494=\"ولد\"),1,0)","v":0},{"$f":"IF(B494=0,\"\",SUM($B$2:B494))","v":""},{"$f":"IF(AND(ورقة2!$H$2=ورقة1!I494,ورقة2!$F$2=ورقة1!H494,ورقة1!G494=\"بنت\"),1,0)","v":0},{"$f":"IF(D494=0,\"\",SUM($D$2:D494))","v":""},null,"بنت",3]
[null,{"$f":"IF(AND(ورقة2!$H$2=ورقة1!I495,ورقة2!$F$2=ورقة1!H495,ورقة1!G495=\"ولد\"),1,0)","v":0},{"$f":"IF(B495=0,\"\",SUM($B$2:B495))","v":""},{"$f":"IF(AND(ورقة2!$H$2=ورقة1!I495,ورقة2!$F$2=ورقة1!H495,ورقة1!G495=\"بنت\"),1,0)","v":0},{"$f":"IF(D495=0,\"\",SUM($D$2:D495))","v":""},null,"بنت",3]
[null,{"$f":"IF(AND(ورقة2!$H$2=ورقة1!I496,ورقة2!$F$2=ورقة1!H496,ورقة1!G496=\"ولد\"),1,0)","v":0},{"$f":"IF(B496=0,\"\",SUM($B$2:B496))","v":""},{"$f":"IF(AND(ورقة2!$H$2=ورقة1!I496,ورقة2!$F$2=ورقة1!H496,ورقة1!G496=\"بنت\"),1,0)","v":0},{"$f":"IF(D496=0,\"\",SUM($D$2:D496))","v":""},null,"بنت",3]
[null,{"$f":"IF(AND(ورقة2!$H$2=ورقة1!I497,ورقة2!$F$2=ورقة1!H497,ورقة1!G497=\"ولد\"),1,0)","v":0},{"$f":"IF(B497=0,\"\",SUM($B$2:B497))","v":""},{"$f":"IF(AND(ورقة2!$H$2=ورقة1!I497,ورقة2!$F$2=ورقة1!H497,ورقة1!G497=\"بنت\"),1,0)","v":0},{"$f":"IF(D497=0,\"\",SUM($D$2:D497))","v":""},null,"بنت",3]
[null,{"$f":"IF(AND(ورقة2!$H$2=ورقة1!I498,ورقة2!$F$2=ورقة1!H498,ورقة1!G498=\"ولد\"),1,0)","v":0},{"$f":"IF(B498=0,\"\",SUM($B$2:B498))","v":""},{"$f":"IF(AND(ورقة2!$H$2=ورقة1!I498,ورقة2!$F$2=ورقة1!H498,ورقة1!G498=\"بنت\"),1,0)","v":0},{"$f":"IF(D498=0,\"\",SUM($D$2:D498))","v":""},null,"بنت",3]
[null,{"$f":"IF(AND(ورقة2!$H$2=ورقة1!I499,ورقة2!$F$2=ورقة1!H499,ورقة1!G499=\"ولد\"),1,0)","v":0},{"$f":"IF(B499=0,\"\",SUM($B$2:B499))","v":""},{"$f":"IF(AND(ورقة2!$H$2=ورقة1!I499,ورقة2!$F$2=ورقة1!H499,ورقة1!G499=\"بنت\"),1,0)","v":0},{"$f":"IF(D499=0,\"\",SUM($D$2:D499))","v":""},null,"بنت",3]
[null,{"$f":"IF(AND(ورقة2!$H$2=ورقة1!I500,ورقة2!$F$2=ورقة1!H500,ورقة1!G500=\"ولد\"),1,0)","v":0},{"$f":"IF(B500=0,\"\",SUM($B$2:B500))","v":""},{"$f":"IF(AND(ورقة2!$H$2=ورقة1!I500,ورقة2!$F$2=ورقة1!H500,ورقة1!G500=\"بنت\"),1,0)","v":0},{"$f":"IF(D500=0,\"\",SUM($D$2:D500))","v":""},null,"بنت",3]
[null,{"$f":"IF(AND(ورقة2!$H$2=ورقة1!I501,ورقة2!$F$2=ورقة1!H501,ورقة1!G501=\"ولد\"),1,0)","v":0},{"$f":"IF(B501=0,\"\",SUM($B$2:B501))","v":""},{"$f":"IF(AND(ورقة2!$H$2=ورقة1!I501,ورقة2!$F$2=ورقة1!H501,ورقة1!G501=\"بنت\"),1,0)","v":0},{"$f":"IF(D501=0,\"\",SUM($D$2:D501))","v":""},null,"بنت",3]
[null,{"$f":"IF(AND(ورقة2!$H$2=ورقة1!I502,ورقة2!$F$2=ورقة1!H502,ورقة1!G502=\"ولد\"),1,0)","v":0},{"$f":"IF(B502=0,\"\",SUM($B$2:B502))","v":""},{"$f":"IF(AND(ورقة2!$H$2=ورقة1!I502,ورقة2!$F$2=ورقة1!H502,ورقة1!G502=\"بنت\"),1,0)","v":0},{"$f":"IF(D502=0,\"\",SUM($D$2:D502))","v":""},null,"بنت",3]
[null,{"$f":"IF(AND(ورقة2!$H$2=ورقة1!I503,ورقة2!$F$2=ورقة1!H503,ورقة1!G503=\"ولد\"),1,0)","v":0},{"$f":"IF(B503=0,\"\",SUM($B$2:B503))","v":""},{"$f":"IF(AND(ورقة2!$H$2=ورقة1!I503,ورقة2!$F$2=ورقة1!H503,ورقة1!G503=\"بنت\"),1,0)","v":0},{"$f":"IF(D503=0,\"\",SUM($D$2:D503))","v":""},null,"بنت",3]
[null,{"$f":"IF(AND(ورقة2!$H$2=ورقة1!I504,ورقة2!$F$2=ورقة1!H504,ورقة1!G504=\"ولد\"),1,0)","v":0},{"$f":"IF(B504=0,\"\",SUM($B$2:B504))","v":""},{"$f":"IF(AND(ورقة2!$H$2=ورقة1!I504,ورقة2!$F$2=ورقة1!H504,ورقة1!G504=\"بنت\"),1,0)","v":0},{"$f":"IF(D504=0,\"\",SUM($D$2:D504))","v":""},null,"بنت",3]
[null,{"$f":"IF(AND(ورقة2!$H$2=ورقة1!I505,ورقة2!$F$2=ورقة1!H505,ورقة1!G505=\"ولد\"),1,0)","v":0},{"$f":"IF(B505=0,\"\",SUM($B$2:B505))","v":""},{"$f":"IF(AND(ورقة2!$H$2=ورقة1!I505,ورقة2!$F$2=ورقة1!H505,ورقة1!G505=\"بنت\"),1,0)","v":0},{"$f":"IF(D505=0,\"\",SUM($D$2:D505))","v":""},null,"بنت",3]
[null,{"$f":"IF(AND(ورقة2!$H$2=ورقة1!I506,ورقة2!$F$2=ورقة1!H506,ورقة1!G506=\"ولد\"),1,0)","v":0},{"$f":"IF(B506=0,\"\",SUM($B$2:B506))","v":""},{"$f":"IF(AND(ورقة2!$H$2=ورقة1!I506,ورقة2!$F$2=ورقة1!H506,ورقة1!G506=\"بنت\"),1,0)","v":0},{"$f":"IF(D506=0,\"\",SUM($D$2:D506))","v":""},null,"بنت",3]
[null,{"$f":"IF(AND(ورقة2!$H$2=ورقة1!I507,ورقة2!$F$2=ورقة1!H507,ورقة1!G507=\"ولد\"),1,0)","v":0},{"$f":"IF(B507=0,\"\",SUM($B$2:B507))","v":""},{"$f":"IF(AND(ورقة2!$H$2=ورقة1!I507,ورقة2!$F$2=ورقة1!H507,ورقة1!G507=\"بنت\"),1,0)","v":0},{"$f":"IF(D507=0,\"\",SUM($D$2:D507))","v":""},null,"بنت",3]
[null,{"$f":"IF(AND(ورقة2!$H$2=ورقة1!I508,ورقة2!$F$2=ورقة1!H508,ورقة1!G508=\"ولد\"),1,0)","v":0},{"$f":"IF(B508=0,\"\",SUM($B$2:B508))","v":""},{"$f":"IF(AND(ورقة2!$H$2=ورقة1!I508,ورقة2!$F$2=ورقة1!H508,ورقة1!G508=\"بنت\"),1,0)","v":0},{"$f":"IF(D508=0,\"\",SUM($D$2:D508))","v":""},null,"بنت",3]
[null,{"$f":"IF(AND(ورقة2!$H$2=ورقة1!I509,ورقة2!$F$2=ورقة1!H509,ورقة1!G509=\"ولد\"),1,0)","v":0},{"$f":"IF(B509=0,\"\",SUM($B$2:B509))","v":""},{"$f":"IF(AND(ورقة2!$H$2=ورقة1!I509,ورقة2!$F$2=ورقة1!H509,ورقة1!G509=\"بنت\"),1,0)","v":0},{"$f":"IF(D509=0,\"\",SUM($D$2:D509))","v":""},null,"بنت",3]
[null,{"$f":"IF(AND(ورقة2!$H$2=ورقة1!I510,ورقة2!$F$2=ورقة1!H510,ورقة1!G510=\"ولد\"),1,0)","v":0},{"$f":"IF(B510=0,\"\",SUM($B$2:B510))","v":""},{"$f":"IF(AND(ورقة2!$H$2=ورقة1!I510,ورقة2!$F$2=ورقة1!H510,ورقة1!G510=\"بنت\"),1,0)","v":0},{"$f":"IF(D510=0,\"\",SUM($D$2:D510))","v":""},null,"بنت",3]
[null,{"$f":"IF(AND(ورقة2!$H$2=ورقة1!I511,ورقة2!$F$2=ورقة1!H511,ورقة1!G511=\"ولد\"),1,0)","v":0},{"$f":"IF(B511=0,\"\",SUM($B$2:B511))","v":""},{"$f":"IF(AND(ورقة2!$H$2=ورقة1!I511,ورقة2!$F$2=ورقة1!H511,ورقة1!G511=\"بنت\"),1,0)","v":0},{"$f":"IF(D511=0,\"\",SUM($D$2:D511))","v":""},null,"بنت",3]
[null,{"$f":"IF(AND(ورقة2!$H$2=ورقة1!I512,ورقة2!$F$2=ورقة1!H512,ورقة1!G512=\"ولد\"),1,0)","v":0},{"$f":"IF(B512=0,\"\",SUM($B$2:B512))","v":""},{"$f":"IF(AND(ورقة2!$H$2=ورقة1!I512,ورقة2!$F$2=ورقة1!H512,ورقة1!G512=\"بنت\"),1,0)","v":0},{"$f":"IF(D512=0,\"\",SUM($D$2:D512))","v":""},null,"بنت",3]
[null,{"$f":"IF(AND(ورقة2!$H$2=ورقة1!I513,ورقة2!$F$2=ورقة1!H513,ورقة1!G513=\"ولد\"),1,0)","v":0},{"$f":"IF(B513=0,\"\",SUM($B$2:B513))","v":""},{"$f":"IF(AND(ورقة2!$H$2=ورقة1!I513,ورقة2!$F$2=ورقة1!H513,ورقة1!G513=\"بنت\"),1,0)","v":0},{"$f":"IF(D513=0,\"\",SUM($D$2:D513))","v":""},null,"بنت",3]
[null,{"$f":"IF(AND(ورقة2!$H$2=ورقة1!I514,ورقة2!$F$2=ورقة1!H514,ورقة1!G514=\"ولد\"),1,0)","v":0},{"$f":"IF(B514=0,\"\",SUM($B$2:B514))","v":""},{"$f":"IF(AND(ورقة2!$H$2=ورقة1!I514,ورقة2!$F$2=ورقة1!H514,ورقة1!G514=\"بنت\"),1,0)","v":0},{"$f":"IF(D514=0,\"\",SUM($D$2:D514))","v":""},null,"بنت",3]
[null,{"$f":"IF(AND(ورقة2!$H$2=ورقة1!I515,ورقة2!$F$2=ورقة1!H515,ورقة1!G515=\"ولد\"),1,0)","v":0},{"$f":"IF(B515=0,\"\",SUM($B$2:B515))","v":""},{"$f":"IF(AND(ورقة2!$H$2=ورقة1!I515,ورقة2!$F$2=ورقة1!H515,ورقة1!G515=\"بنت\"),1,0)","v":0},{"$f":"IF(D515=0,\"\",SUM($D$2:D515))","v":""},null,"بنت",3]
[null,{"$f":"IF(AND(ورقة2!$H$2=ورقة1!I516,ورقة2!$F$2=ورقة1!H516,ورقة1!G516=\"ولد\"),1,0)","v":0},{"$f":"IF(B516=0,\"\",SUM($B$2:B516))","v":""},{"$f":"IF(AND(ورقة2!$H$2=ورقة1!I516,ورقة2!$F$2=ورقة1!H516,ورقة1!G516=\"بنت\"),1,0)","v":0},{"$f":"IF(D516=0,\"\",SUM($D$2:D516))","v":""},null,"بنت",3]
[null,{"$f":"IF(AND(ورقة2!$H$2=ورقة1!I517,ورقة2!$F$2=ورقة1!H517,ورقة1!G517=\"ولد\"),1,0)","v":0},{"$f":"IF(B517=0,\"\",SUM($B$2:B517))","v":""},{"$f":"IF(AND(ورقة2!$H$2=ورقة1!I517,ورقة2!$F$2=ورقة1!H517,ورقة1!G517=\"بنت\"),1,0)","v":0},{"$f":"IF(D517=0,\"\",SUM($D$2:D517))","v":""},null,"بنت",3]
[null,{"$f":"IF(AND(ورقة2!$H$2=ورقة1!I518,ورقة2!$F$2=ورقة1!H518,ورقة1!G518=\"ولد\"),1,0)","v":0},{"$f":"IF(B518=0,\"\",SUM($B$2:B518))","v":""},{"$f":"IF(AND(ورقة2!$H$2=ورقة1!I518,ورقة2!$F$2=ورقة1!H518,ورقة1!G518=\"بنت\"),1,0)","v":0},{"$f":"IF(D518=0,\"\",SUM($D$2:D518))","v":""},null,"بنت",3]
[null,{"$f":"IF(AND(ورقة2!$H$2=ورقة1!I519,ورقة2!$F$2=ورقة1!H519,ورقة1!G519=\"ولد\"),1,0)","v":0},{"$f":"IF(B519=0,\"\",SUM($B$2:B519))","v":""},{"$f":"IF(AND(ورقة2!$H$2=ورقة1!I519,ورقة2!$F$2=ورقة1!H519,ورقة1!G519=\"بنت\"),1,0)","v":0},{"$f":"IF(D519=0,\"\",SUM($D$2:D519))","v":""},null,"بنت",3]
[null,{"$f":"IF(AND(ورقة2!$H$2=ورقة1!I520,ورقة2!$F$2=ورقة1!H520,ورقة1!G520=\"ولد\"),1,0)","v":0},{"$f":"IF(B520=0,\"\",SUM($B$2:B520))","v":""},{"$f":"IF(AND(ورقة2!$H$2=ورقة1!I520,ورقة2!$F$2=ورقة1!H520,ورقة1!G520=\"بنت\"),1,0)","v":0},{"$f":"IF(D520=0,\"\",SUM($D$2:D520))","v":""},null,"بنت",3]
[null,{"$f":"IF(AND(ورقة2!$H$2=ورقة1!I521,ورقة2!$F$2=ورقة1!H521,ورقة1!G521=\"ولد\"),1,0)","v":0},{"$f":"IF(B521=0,\"\",SUM($B$2:B521))","v":""},{"$f":"IF(AND(ورقة2!$H$2=ورقة1!I521,ورقة2!$F$2=ورقة1!H521,ورقة1!G521=\"بنت\"),1,0)","v":0},{"$f":"IF(D521=0,\"\",SUM($D$2:D521))","v":""},null,"بنت",3]
[null,{"$f":"IF(AND(ورقة2!$H$2=ورقة1!I522,ورقة2!$F$2=ورقة1!H522,ورقة1!G522=\"ولد\"),1,0)","v":0},{"$f":"IF(B522=0,\"\",SUM($B$2:B522))","v":""},{"$f":"IF(AND(ورقة2!$H$2=ورقة1!I522,ورقة2!$F$2=ورقة1!H522,ورقة1!G522=\"بنت\"),1,0)","v":0},{"$f":"IF(D522=0,\"\",SUM($D$2:D522))","v":""},null,"بنت",3]
[null,{"$f":"IF(AND(ورقة2!$H$2=ورقة1!I523,ورقة2!$F$2=ورقة1!H523,ورقة1!G523=\"ولد\"),1,0)","v":0},{"$f":"IF(B523=0,\"\",SUM($B$2:B523))","v":""},{"$f":"IF(AND(ورقة2!$H$2=ورقة1!I523,ورقة2!$F$2=ورقة1!H523,ورقة1!G523=\"بنت\"),1,0)","v":0},{"$f":"IF(D523=0,\"\",SUM($D$2:D523))","v":""},null,"بنت",3]
[null,{"$f":"IF(AND(ورقة2!$H$2=ورقة1!I524,ورقة2!$F$2=ورقة1!H524,ورقة1!G524=\"ولد\"),1,0)","v":0},{"$f":"IF(B524=0,\"\",SUM($B$2:B524))","v":""},{"$f":"IF(AND(ورقة2!$H$2=ورقة1!I524,ورقة2!$F$2=ورقة1!H524,ورقة1!G524=\"بنت\"),1,0)","v":0},{"$f":"IF(D524=0,\"\",SUM($D$2:D524))","v":""},null,"بنت",3]
[null,{"$f":"IF(AND(ورقة2!$H$2=ورقة1!I525,ورقة2!$F$2=ورقة1!H525,ورقة1!G525=\"ولد\"),1,0)","v":0},{"$f":"IF(B525=0,\"\",SUM($B$2:B525))","v":""},{"$f":"IF(AND(ورقة2!$H$2=ورقة1!I525,ورقة2!$F$2=ورقة1!H525,ورقة1!G525=\"بنت\"),1,0)","v":0},{"$f":"IF(D525=0,\"\",SUM($D$2:D525))","v":""},null,"بنت",3]
[null,{"$f":"IF(AND(ورقة2!$H$2=ورقة1!I526,ورقة2!$F$2=ورقة1!H526,ورقة1!G526=\"ولد\"),1,0)","v":0},{"$f":"IF(B526=0,\"\",SUM($B$2:B526))","v":""},{"$f":"IF(AND(ورقة2!$H$2=ورقة1!I526,ورقة2!$F$2=ورقة1!H526,ورقة1!G526=\"بنت\"),1,0)","v":0},{"$f":"IF(D526=0,\"\",SUM($D$2:D526))","v":""},null,"بنت",3]
[null,{"$f":"IF(AND(ورقة2!$H$2=ورقة1!I527,ورقة2!$F$2=ورقة1!H527,ورقة1!G527=\"ولد\"),1,0)","v":0},{"$f":"IF(B527=0,\"\",SUM($B$2:B527))","v":""},{"$f":"IF(AND(ورقة2!$H$2=ورقة1!I527,ورقة2!$F$2=ورقة1!H527,ورقة1!G527=\"بنت\"),1,0)","v":0},{"$f":"IF(D527=0,\"\",SUM($D$2:D527))","v":""},null,"بنت",3]
[null,{"$f":"IF(AND(ورقة2!$H$2=ورقة1!I528,ورقة2!$F$2=ورقة1!H528,ورقة1!G528=\"ولد\"),1,0)","v":0},{"$f":"IF(B528=0,\"\",SUM($B$2:B528))","v":""},{"$f":"IF(AND(ورقة2!$H$2=ورقة1!I528,ورقة2!$F$2=ورقة1!H528,ورقة1!G528=\"بنت\"),1,0)","v":0},{"$f":"IF(D528=0,\"\",SUM($D$2:D528))","v":""},null,"بنت",3]
[null,{"$f":"IF(AND(ورقة2!$H$2=ورقة1!I529,ورقة2!$F$2=ورقة1!H529,ورقة1!G529=\"ولد\"),1,0)","v":0},{"$f":"IF(B529=0,\"\",SUM($B$2:B529))","v":""},{"$f":"IF(AND(ورقة2!$H$2=ورقة1!I529,ورقة2!$F$2=ورقة1!H529,ورقة1!G529=\"بنت\"),1,0)","v":0},{"$f":"IF(D529=0,\"\",SUM($D$2:D529))","v":""},null,"بنت",3]
[null,{"$f":"IF(AND(ورقة2!$H$2=ورقة1!I530,ورقة2!$F$2=ورقة1!H530,ورقة1!G530=\"ولد\"),1,0)","v":0},{"$f":"IF(B530=0,\"\",SUM($B$2:B530))","v":""},{"$f":"IF(AND(ورقة2!$H$2=ورقة1!I530,ورقة2!$F$2=ورقة1!H530,ورقة1!G530=\"بنت\"),1,0)","v":0},{"$f":"IF(D530=0,\"\",SUM($D$2:D530))","v":""},null,"بنت",3]
[null,{"$f":"IF(AND(ورقة2!$H$2=ورقة1!I531,ورقة2!$F$2=ورقة1!H531,ورقة1!G531=\"ولد\"),1,0)","v":0},{"$f":"IF(B531=0,\"\",SUM($B$2:B531))","v":""},{"$f":"IF(AND(ورقة2!$H$2=ورقة1!I531,ورقة2!$F$2=ورقة1!H531,ورقة1!G531=\"بنت\"),1,0)","v":0},{"$f":"IF(D531=0,\"\",SUM($D$2:D531))","v":""},null,"بنت",3]
[null,{"$f":"IF(AND(ورقة2!$H$2=ورقة1!I532,ورقة2!$F$2=ورقة1!H532,ورقة1!G532=\"ولد\"),1,0)","v":0},{"$f":"IF(B532=0,\"\",SUM($B$2:B532))","v":""},{"$f":"IF(AND(ورقة2!$H$2=ورقة1!I532,ورقة2!$F$2=ورقة1!H532,ورقة1!G532=\"بنت\"),1,0)","v":0},{"$f":"IF(D532=0,\"\",SUM($D$2:D532))","v":""},null,"بنت",3]
[null,{"$f":"IF(AND(ورقة2!$H$2=ورقة1!I533,ورقة2!$F$2=ورقة1!H533,ورقة1!G533=\"ولد\"),1,0)","v":0},{"$f":"IF(B533=0,\"\",SUM($B$2:B533))","v":""},{"$f":"IF(AND(ورقة2!$H$2=ورقة1!I533,ورقة2!$F$2=ورقة1!H533,ورقة1!G533=\"بنت\"),1,0)","v":0},{"$f":"IF(D533=0,\"\",SUM($D$2:D533))","v":""},null,"بنت",3]
[null,{"$f":"IF(AND(ورقة2!$H$2=ورقة1!I534,ورقة2!$F$2=ورقة1!H534,ورقة1!G534=\"ولد\"),1,0)","v":0},{"$f":"IF(B534=0,\"\",SUM($B$2:B534))","v":""},{"$f":"IF(AND(ورقة2!$H$2=ورقة1!I534,ورقة2!$F$2=ورقة1!H534,ورقة1!G534=\"بنت\"),1,0)","v":0},{"$f":"IF(D534=0,\"\",SUM($D$2:D534))","v":""},null,"بنت",3]
[null,{"$f":"IF(AND(ورقة2!$H$2=ورقة1!I535,ورقة2!$F$2=ورقة1!H535,ورقة1!G535=\"ولد\"),1,0)","v":0},{"$f":"IF(B535=0,\"\",SUM($B$2:B535))","v":""},{"$f":"IF(AND(ورقة2!$H$2=ورقة1!I535,ورقة2!$F$2=ورقة1!H535,ورقة1!G535=\"بنت\"),1,0)","v":0},{"$f":"IF(D535=0,\"\",SUM($D$2:D535))","v":""},null,"بنت",3]
[null,{"$f":"IF(AND(ورقة2!$H$2=ورقة1!I536,ورقة2!$F$2=ورقة1!H536,ورقة1!G536=\"ولد\"),1,0)","v":0},{"$f":"IF(B536=0,\"\",SUM($B$2:B536))","v":""},{"$f":"IF(AND(ورقة2!$H$2=ورقة1!I536,ورقة2!$F$2=ورقة1!H536,ورقة1!G536=\"بنت\"),1,0)","v":0},{"$f":"IF(D536=0,\"\",SUM($D$2:D536))","v":""},null,"بنت",3]
[null,{"$f":"IF(AND(ورقة2!$H$2=ورقة1!I537,ورقة2!$F$2=ورقة1!H537,ورقة1!G537=\"ولد\"),1,0)","v":0},{"$f":"IF(B537=0,\"\",SUM($B$2:B537))","v":""},{"$f":"IF(AND(ورقة2!$H$2=ورقة1!I537,ورقة2!$F$2=ورقة1!H537,ورقة1!G537=\"بنت\"),1,0)","v":0},{"$f":"IF(D537=0,\"\",SUM($D$2:D537))","v":""},null,"بنت",3]
[null,{"$f":"IF(AND(ورقة2!$H$2=ورقة1!I538,ورقة2!$F$2=ورقة1!H538,ورقة1!G538=\"ولد\"),1,0)","v":0},{"$f":"IF(B538=0,\"\",SUM($B$2:B538))","v":""},{"$f":"IF(AND(ورقة2!$H$2=ورقة1!I538,ورقة2!$F$2=ورقة1!H538,ورقة1!G538=\"بنت\"),1,0)","v":0},{"$f":"IF(D538=0,\"\",SUM($D$2:D538))","v":""},null,"بنت",3]
[null,{"$f":"IF(AND(ورقة2!$H$2=ورقة1!I539,ورقة2!$F$2=ورقة1!H539,ورقة1!G539=\"ولد\"),1,0)","v":0},{"$f":"IF(B539=0,\"\",SUM($B$2:B539))","v":""},{"$f":"IF(AND(ورقة2!$H$2=ورقة1!I539,ورقة2!$F$2=ورقة1!H539,ورقة1!G539=\"بنت\"),1,0)","v":0},{"$f":"IF(D539=0,\"\",SUM($D$2:D539))","v":""},null,"بنت",3]
[null,{"$f":"IF(AND(ورقة2!$H$2=ورقة1!I540,ورقة2!$F$2=ورقة1!H540,ورقة1!G540=\"ولد\"),1,0)","v":0},{"$f":"IF(B540=0,\"\",SUM($B$2:B540))","v":""},{"$f":"IF(AND(ورقة2!$H$2=ورقة1!I540,ورقة2!$F$2=ورقة1!H540,ورقة1!G540=\"بنت\"),1,0)","v":0},{"$f":"IF(D540=0,\"\",SUM($D$2:D540))","v":""},null,"بنت",3]
[null,{"$f":"IF(AND(ورقة2!$H$2=ورقة1!I541,ورقة2!$F$2=ورقة1!H541,ورقة1!G541=\"ولد\"),1,0)","v":0},{"$f":"IF(B541=0,\"\",SUM($B$2:B541))","v":""},{"$f":"IF(AND(ورقة2!$H$2=ورقة1!I541,ورقة2!$F$2=ورقة1!H541,ورقة1!G541=\"بنت\"),1,0)","v":0},{"$f":"IF(D541=0,\"\",SUM($D$2:D541))","v":""},null,"بنت",3]
[null,{"$f":"IF(AND(ورقة2!$H$2=ورقة1!I542,ورقة2!$F$2=ورقة1!H542,ورقة1!G542=\"ولد\"),1,0)","v":0},{"$f":"IF(B542=0,\"\",SUM($B$2:B542))","v":""},{"$f":"IF(AND(ورقة2!$H$2=ورقة1!I542,ورقة2!$F$2=ورقة1!H542,ورقة1!G542=\"بنت\"),1,0)","v":0},{"$f":"IF(D542=0,\"\",SUM($D$2:D542))","v":""},null,"بنت",3]
[null,{"$f":"IF(AND(ورقة2!$H$2=ورقة1!I543,ورقة2!$F$2=ورقة1!H543,ورقة1!G543=\"ولد\"),1,0)","v":0},{"$f":"IF(B543=0,\"\",SUM($B$2:B543))","v":""},{"$f":"IF(AND(ورقة2!$H$2=ورقة1!I543,ورقة2!$F$2=ورقة1!H543,ورقة1!G543=\"بنت\"),1,0)","v":0},{"$f":"IF(D543=0,\"\",SUM($D$2:D543))","v":""},null,"بنت",3]
[null,{"$f":"IF(AND(ورقة2!$H$2=ورقة1!I544,ورقة2!$F$2=ورقة1!H544,ورقة1!G544=\"ولد\"),1,0)","v":0},{"$f":"IF(B544=0,\"\",SUM($B$2:B544))","v":""},{"$f":"IF(AND(ورقة2!$H$2=ورقة1!I544,ورقة2!$F$2=ورقة1!H544,ورقة1!G544=\"بنت\"),1,0)","v":0},{"$f":"IF(D544=0,\"\",SUM($D$2:D544))","v":""},null,"بنت",3]
[null,{"$f":"IF(AND(ورقة2!$H$2=ورقة1!I545,ورقة2!$F$2=ورقة1!H545,ورقة1!G545=\"ولد\"),1,0)","v":0},{"$f":"IF(B545=0,\"\",SUM($B$2:B545))","v":""},{"$f":"IF(AND(ورقة2!$H$2=ورقة1!I545,ورقة2!$F$2=ورقة1!H545,ورقة1!G545=\"بنت\"),1,0)","v":0},{"$f":"IF(D545=0,\"\",SUM($D$2:D545))","v":""},null,"بنت",3]
[null,{"$f":"IF(AND(ورقة2!$H$2=ورقة1!I546,ورقة2!$F$2=ورقة1!H546,ورقة1!G546=\"ولد\"),1,0)","v":0},{"$f":"IF(B546=0,\"\",SUM($B$2:B546))","v":""},{"$f":"IF(AND(ورقة2!$H$2=ورقة1!I546,ورقة2!$F$2=ورقة1!H546,ورقة1!G546=\"بنت\"),1,0)","v":0},{"$f":"IF(D546=0,\"\",SUM($D$2:D546))","v":""},null,"بنت",3]
[null,{"$f":"IF(AND(ورقة2!$H$2=ورقة1!I547,ورقة2!$F$2=ورقة1!H547,ورقة1!G547=\"ولد\"),1,0)","v":0},{"$f":"IF(B547=0,\"\",SUM($B$2:B547))","v":""},{"$f":"IF(AND(ورقة2!$H$2=ورقة1!I547,ورقة2!$F$2=ورقة1!H547,ورقة1!G547=\"بنت\"),1,0)","v":0},{"$f":"IF(D547=0,\"\",SUM($D$2:D547))","v":""},null,"بنت",3]
[null,{"$f":"IF(AND(ورقة2!$H$2=ورقة1!I548,ورقة2!$F$2=ورقة1!H548,ورقة1!G548=\"ولد\"),1,0)","v":0},{"$f":"IF(B548=0,\"\",SUM($B$2:B548))","v":""},{"$f":"IF(AND(ورقة2!$H$2=ورقة1!I548,ورقة2!$F$2=ورقة1!H548,ورقة1!G548=\"بنت\"),1,0)","v":0},{"$f":"IF(D548=0,\"\",SUM($D$2:D548))","v":""},null,"بنت",3]
[null,{"$f":"IF(AND(ورقة2!$H$2=ورقة1!I549,ورقة2!$F$2=ورقة1!H549,ورقة1!G549=\"ولد\"),1,0)","v":0},{"$f":"IF(B549=0,\"\",SUM($B$2:B549))","v":""},{"$f":"IF(AND(ورقة2!$H$2=ورقة1!I549,ورقة2!$F$2=ورقة1!H549,ورقة1!G549=\"بنت\"),1,0)","v":0},{"$f":"IF(D549=0,\"\",SUM($D$2:D549))","v":""},null,"بنت",3]
[null,{"$f":"IF(AND(ورقة2!$H$2=ورقة1!I550,ورقة2!$F$2=ورقة1!H550,ورقة1!G550=\"ولد\"),1,0)","v":0},{"$f":"IF(B550=0,\"\",SUM($B$2:B550))","v":""},{"$f":"IF(AND(ورقة2!$H$2=ورقة1!I550,ورقة2!$F$2=ورقة1!H550,ورقة1!G550=\"بنت\"),1,0)","v":0},{"$f":"IF(D550=0,\"\",SUM($D$2:D550))","v":""},null,"بنت",3]
[null,{"$f":"IF(AND(ورقة2!$H$2=ورقة1!I551,ورقة2!$F$2=ورقة1!H551,ورقة1!G551=\"ولد\"),1,0)","v":0},{"$f":"IF(B551=0,\"\",SUM($B$2:B551))","v":""},{"$f":"IF(AND(ورقة2!$H$2=ورقة1!I551,ورقة2!$F$2=ورقة1!H551,ورقة1!G551=\"بنت\"),1,0)","v":0},{"$f":"IF(D551=0,\"\",SUM($D$2:D551))","v":""},null,"بنت",3]
[null,{"$f":"IF(AND(ورقة2!$H$2=ورقة1!I552,ورقة2!$F$2=ورقة1!H552,ورقة1!G552=\"ولد\"),1,0)","v":0},{"$f":"IF(B552=0,\"\",SUM($B$2:B552))","v":""},{"$f":"IF(AND(ورقة2!$H$2=ورقة1!I552,ورقة2!$F$2=ورقة1!H552,ورقة1!G552=\"بنت\"),1,0)","v":0},{"$f":"IF(D552=0,\"\",SUM($D$2:D552))","v":""},null,"بنت",3]
[null,{"$f":"IF(AND(ورقة2!$H$2=ورقة1!I553,ورقة2!$F$2=ورقة1!H553,ورقة1!G553=\"ولد\"),1,0)","v":0},{"$f":"IF(B553=0,\"\",SUM($B$2:B553))","v":""},{"$f":"IF(AND(ورقة2!$H$2=ورقة1!I553,ورقة2!$F$2=ورقة1!H553,ورقة1!G553=\"بنت\"),1,0)","v":0},{"$f":"IF(D553=0,\"\",SUM($D$2:D553))","v":""},null,"بنت",3]
[null,{"$f":"IF(AND(ورقة2!$H$2=ورقة1!I554,ورقة2!$F$2=ورقة1!H554,ورقة1!G554=\"ولد\"),1,0)","v":0},{"$f":"IF(B554=0,\"\",SUM($B$2:B554))","v":""},{"$f":"IF(AND(ورقة2!$H$2=ورقة1!I554,ورقة2!$F$2=ورقة1!H554,ورقة1!G554=\"بنت\"),1,0)","v":0},{"$f":"IF(D554=0,\"\",SUM($D$2:D554))","v":""},null,"بنت",3]
[null,{"$f":"IF(AND(ورقة2!$H$2=ورقة1!I555,ورقة2!$F$2=ورقة1!H555,ورقة1!G555=\"ولد\"),1,0)","v":0},{"$f":"IF(B555=0,\"\",SUM($B$2:B555))","v":""},{"$f":"IF(AND(ورقة2!$H$2=ورقة1!I555,ورقة2!$F$2=ورقة1!H555,ورقة1!G555=\"بنت\"),1,0)","v":0},{"$f":"IF(D555=0,\"\",SUM($D$2:D555))","v":""},null,"بنت",3]
[null,{"$f":"IF(AND(ورقة2!$H$2=ورقة1!I556,ورقة2!$F$2=ورقة1!H556,ورقة1!G556=\"ولد\"),1,0)","v":0},{"$f":"IF(B556=0,\"\",SUM($B$2:B556))","v":""},{"$f":"IF(AND(ورقة2!$H$2=ورقة1!I556,ورقة2!$F$2=ورقة1!H556,ورقة1!G556=\"بنت\"),1,0)","v":0},{"$f":"IF(D556=0,\"\",SUM($D$2:D556))","v":""},null,"بنت",3]
[null,{"$f":"IF(AND(ورقة2!$H$2=ورقة1!I557,ورقة2!$F$2=ورقة1!H557,ورقة1!G557=\"ولد\"),1,0)","v":0},{"$f":"IF(B557=0,\"\",SUM($B$2:B557))","v":""},{"$f":"IF(AND(ورقة2!$H$2=ورقة1!I557,ورقة2!$F$2=ورقة1!H557,ورقة1!G557=\"بنت\"),1,0)","v":0},{"$f":"IF(D557=0,\"\",SUM($D$2:D557))","v":""},null,"بنت",3]
[null,{"$f":"IF(AND(ورقة2!$H$2=ورقة1!I558,ورقة2!$F$2=ورقة1!H558,ورقة1!G558=\"ولد\"),1,0)","v":0},{"$f":"IF(B558=0,\"\",SUM($B$2:B558))","v":""},{"$f":"IF(AND(ورقة2!$H$2=ورقة1!I558,ورقة2!$F$2=ورقة1!H558,ورقة1!G558=\"بنت\"),1,0)","v":0},{"$f":"IF(D558=0,\"\",SUM($D$2:D558))","v":""},null,"بنت",3]
[null,{"$f":"IF(AND(ورقة2!$H$2=ورقة1!I559,ورقة2!$F$2=ورقة1!H559,ورقة1!G559=\"ولد\"),1,0)","v":0},{"$f":"IF(B559=0,\"\",SUM($B$2:B559))","v":""},{"$f":"IF(AND(ورقة2!$H$2=ورقة1!I559,ورقة2!$F$2=ورقة1!H559,ورقة1!G559=\"بنت\"),1,0)","v":0},{"$f":"IF(D559=0,\"\",SUM($D$2:D559))","v":""},null,"بنت",3]
[null,{"$f":"IF(AND(ورقة2!$H$2=ورقة1!I560,ورقة2!$F$2=ورقة1!H560,ورقة1!G560=\"ولد\"),1,0)","v":0},{"$f":"IF(B560=0,\"\",SUM($B$2:B560))","v":""},{"$f":"IF(AND(ورقة2!$H$2=ورقة1!I560,ورقة2!$F$2=ورقة1!H560,ورقة1!G560=\"بنت\"),1,0)","v":0},{"$f":"IF(D560=0,\"\",SUM($D$2:D560))","v":""},null,"بنت",3]
[null,{"$f":"IF(AND(ورقة2!$H$2=ورقة1!I561,ورقة2!$F$2=ورقة1!H561,ورقة1!G561=\"ولد\"),1,0)","v":0},{"$f":"IF(B561=0,\"\",SUM($B$2:B561))","v":""},{"$f":"IF(AND(ورقة2!$H$2=ورقة1!I561,ورقة2!$F$2=ورقة1!H561,ورقة1!G561=\"بنت\"),1,0)","v":0},{"$f":"IF(D561=0,\"\",SUM($D$2:D561))","v":""},null,"بنت",3]
[null,{"$f":"IF(AND(ورقة2!$H$2=ورقة1!I562,ورقة2!$F$2=ورقة1!H562,ورقة1!G562=\"ولد\"),1,0)","v":0},{"$f":"IF(B562=0,\"\",SUM($B$2:B562))","v":""},{"$f":"IF(AND(ورقة2!$H$2=ورقة1!I562,ورقة2!$F$2=ورقة1!H562,ورقة1!G562=\"بنت\"),1,0)","v":0},{"$f":"IF(D562=0,\"\",SUM($D$2:D562))","v":""},null,"بنت",3]
[null,{"$f":"IF(AND(ورقة2!$H$2=ورقة1!I563,ورقة2!$F$2=ورقة1!H563,ورقة1!G563=\"ولد\"),1,0)","v":0},{"$f":"IF(B563=0,\"\",SUM($B$2:B563))","v":""},{"$f":"IF(AND(ورقة2!$H$2=ورقة1!I563,ورقة2!$F$2=ورقة1!H563,ورقة1!G563=\"بنت\"),1,0)","v":0},{"$f":"IF(D563=0,\"\",SUM($D$2:D563))","v":""},null,"بنت",3]
[null,{"$f":"IF(AND(ورقة2!$H$2=ورقة1!I564,ورقة2!$F$2=ورقة1!H564,ورقة1!G564=\"ولد\"),1,0)","v":0},{"$f":"IF(B564=0,\"\",SUM($B$2:B564))","v":""},{"$f":"IF(AND(ورقة2!$H$2=ورقة1!I564,ورقة2!$F$2=ورقة1!H564,ورقة1!G564=\"بنت\"),1,0)","v":0},{"$f":"IF(D564=0,\"\",SUM($D$2:D564))","v":""},null,"بنت",3]
[null,{"$f":"IF(AND(ورقة2!$H$2=ورقة1!I565,ورقة2!$F$2=ورقة1!H565,ورقة1!G565=\"ولد\"),1,0)","v":0},{"$f":"IF(B565=0,\"\",SUM($B$2:B565))","v":""},{"$f":"IF(AND(ورقة2!$H$2=ورقة1!I565,ورقة2!$F$2=ورقة1!H565,ورقة1!G565=\"بنت\"),1,0)","v":0},{"$f":"IF(D565=0,\"\",SUM($D$2:D565))","v":""},null,"بنت",3]
[null,{"$f":"IF(AND(ورقة2!$H$2=ورقة1!I566,ورقة2!$F$2=ورقة1!H566,ورقة1!G566=\"ولد\"),1,0)","v":0},{"$f":"IF(B566=0,\"\",SUM($B$2:B566))","v":""},{"$f":"IF(AND(ورقة2!$H$2=ورقة1!I566,ورقة2!$F$2=ورقة1!H566,ورقة1!G566=\"بنت\"),1,0)","v":0},{"$f":"IF(D566=0,\"\",SUM($D$2:D566))","v":""},null,"بنت",3]
[null,{"$f":"IF(AND(ورقة2!$H$2=ورقة1!I567,ورقة2!$F$2=ورقة1!H567,ورقة1!G567=\"ولد\"),1,0)","v":0},{"$f":"IF(B567=0,\"\",SUM($B$2:B567))","v":""},{"$f":"IF(AND(ورقة2!$H$2=ورقة1!I567,ورقة2!$F$2=ورقة1!H567,ورقة1!G567=\"بنت\"),1,0)","v":0},{"$f":"IF(D567=0,\"\",SUM($D$2:D567))","v":""},null,"بنت",3]
[null,{"$f":"IF(AND(ورقة2!$H$2=ورقة1!I568,ورقة2!$F$2=ورقة1!H568,ورقة1!G568=\"ولد\"),1,0)","v":0},{"$f":"IF(B568=0,\"\",SUM($B$2:B568))","v":""},{"$f":"IF(AND(ورقة2!$H$2=ورقة1!I568,ورقة2!$F$2=ورقة1!H568,ورقة1!G568=\"بنت\"),1,0)","v":0},{"$f":"IF(D568=0,\"\",SUM($D$2:D568))","v":""},null,"بنت",3]
[null,{"$f":"IF(AND(ورقة2!$H$2=ورقة1!I569,ورقة2!$F$2=ورقة1!H569,ورقة1!G569=\"ولد\"),1,0)","v":0},{"$f":"IF(B569=0,\"\",SUM($B$2:B569))","v":""},{"$f":"IF(AND(ورقة2!$H$2=ورقة1!I569,ورقة2!$F$2=ورقة1!H569,ورقة1!G569=\"بنت\"),1,0)","v":0},{"$f":"IF(D569=0,\"\",SUM($D$2:D569))","v":""},null,"بنت",3]
[null,{"$f":"IF(AND(ورقة2!$H$2=ورقة1!I570,ورقة2!$F$2=ورقة1!H570,ورقة1!G570=\"ولد\"),1,0)","v":0},{"$f":"IF(B570=0,\"\",SUM($B$2:B570))","v":""},{"$f":"IF(AND(ورقة2!$H$2=ورقة1!I570,ورقة2!$F$2=ورقة1!H570,ورقة1!G570=\"بنت\"),1,0)","v":0},{"$f":"IF(D570=0,\"\",SUM($D$2:D570))","v":""},null,"بنت",3]
[null,{"$f":"IF(AND(ورقة2!$H$2=ورقة1!I571,ورقة2!$F$2=ورقة1!H571,ورقة1!G571=\"ولد\"),1,0)","v":0},{"$f":"IF(B571=0,\"\",SUM($B$2:B571))","v":""},{"$f":"IF(AND(ورقة2!$H$2=ورقة1!I571,ورقة2!$F$2=ورقة1!H571,ورقة1!G571=\"بنت\"),1,0)","v":0},{"$f":"IF(D571=0,\"\",SUM($D$2:D571))","v":""},null,"بنت",3]
[null,{"$f":"IF(AND(ورقة2!$H$2=ورقة1!I572,ورقة2!$F$2=ورقة1!H572,ورقة1!G572=\"ولد\"),1,0)","v":0},{"$f":"IF(B572=0,\"\",SUM($B$2:B572))","v":""},{"$f":"IF(AND(ورقة2!$H$2=ورقة1!I572,ورقة2!$F$2=ورقة1!H572,ورقة1!G572=\"بنت\"),1,0)","v":0},{"$f":"IF(D572=0,\"\",SUM($D$2:D572))","v":""},null,"بنت",3]
[null,{"$f":"IF(AND(ورقة2!$H$2=ورقة1!I573,ورقة2!$F$2=ورقة1!H573,ورقة1!G573=\"ولد\"),1,0)","v":0},{"$f":"IF(B573=0,\"\",SUM($B$2:B573))","v":""},{"$f":"IF(AND(ورقة2!$H$2=ورقة1!I573,ورقة2!$F$2=ورقة1!H573,ورقة1!G573=\"بنت\"),1,0)","v":0},{"$f":"IF(D573=0,\"\",SUM($D$2:D573))","v":""},null,"بنت",3]
[null,{"$f":"IF(AND(ورقة2!$H$2=ورقة1!I574,ورقة2!$F$2=ورقة1!H574,ورقة1!G574=\"ولد\"),1,0)","v":0},{"$f":"IF(B574=0,\"\",SUM($B$2:B574))","v":""},{"$f":"IF(AND(ورقة2!$H$2=ورقة1!I574,ورقة2!$F$2=ورقة1!H574,ورقة1!G574=\"بنت\"),1,0)","v":0},{"$f":"IF(D574=0,\"\",SUM($D$2:D574))","v":""},null,"بنت",3]
[null,{"$f":"IF(AND(ورقة2!$H$2=ورقة1!I575,ورقة2!$F$2=ورقة1!H575,ورقة1!G575=\"ولد\"),1,0)","v":0},{"$f":"IF(B575=0,\"\",SUM($B$2:B575))","v":""},{"$f":"IF(AND(ورقة2!$H$2=ورقة1!I575,ورقة2!$F$2=ورقة1!H575,ورقة1!G575=\"بنت\"),1,0)","v":0},{"$f":"IF(D575=0,\"\",SUM($D$2:D575))","v":""},null,"بنت",3]
[null,{"$f":"IF(AND(ورقة2!$H$2=ورقة1!I576,ورقة2!$F$2=ورقة1!H576,ورقة1!G576=\"ولد\"),1,0)","v":0},{"$f":"IF(B576=0,\"\",SUM($B$2:B576))","v":""},{"$f":"IF(AND(ورقة2!$H$2=ورقة1!I576,ورقة2!$F$2=ورقة1!H576,ورقة1!G576=\"بنت\"),1,0)","v":0},{"$f":"IF(D576=0,\"\",SUM($D$2:D576))","v":""},null,"بنت",3]
[null,{"$f":"IF(AND(ورقة2!$H$2=ورقة1!I577,ورقة2!$F$2=ورقة1!H577,ورقة1!G577=\"ولد\"),1,0)","v":0},{"$f":"IF(B577=0,\"\",SUM($B$2:B577))","v":""},{"$f":"IF(AND(ورقة2!$H$2=ورقة1!I577,ورقة2!$F$2=ورقة1!H577,ورقة1!G577=\"بنت\"),1,0)","v":0},{"$f":"IF(D577=0,\"\",SUM($D$2:D577))","v":""},null,"بنت",3]
[null,{"$f":"IF(AND(ورقة2!$H$2=ورقة1!I578,ورقة2!$F$2=ورقة1!H578,ورقة1!G578=\"ولد\"),1,0)","v":0},{"$f":"IF(B578=0,\"\",SUM($B$2:B578))","v":""},{"$f":"IF(AND(ورقة2!$H$2=ورقة1!I578,ورقة2!$F$2=ورقة1!H578,ورقة1!G578=\"بنت\"),1,0)","v":0},{"$f":"IF(D578=0,\"\",SUM($D$2:D578))","v":""},null,"بنت",3]
[null,{"$f":"IF(AND(ورقة2!$H$2=ورقة1!I579,ورقة2!$F$2=ورقة1!H579,ورقة1!G579=\"ولد\"),1,0)","v":0},{"$f":"IF(B579=0,\"\",SUM($B$2:B579))","v":""},{"$f":"IF(AND(ورقة2!$H$2=ورقة1!I579,ورقة2!$F$2=ورقة1!H579,ورقة1!G579=\"بنت\"),1,0)","v":0},{"$f":"IF(D579=0,\"\",SUM($D$2:D579))","v":""},null,"بنت",3]
[null,{"$f":"IF(AND(ورقة2!$H$2=ورقة1!I580,ورقة2!$F$2=ورقة1!H580,ورقة1!G580=\"ولد\"),1,0)","v":0},{"$f":"IF(B580=0,\"\",SUM($B$2:B580))","v":""},{"$f":"IF(AND(ورقة2!$H$2=ورقة1!I580,ورقة2!$F$2=ورقة1!H580,ورقة1!G580=\"بنت\"),1,0)","v":0},{"$f":"IF(D580=0,\"\",SUM($D$2:D580))","v":""},null,"بنت",3]
[null,{"$f":"IF(AND(ورقة2!$H$2=ورقة1!I581,ورقة2!$F$2=ورقة1!H581,ورقة1!G581=\"ولد\"),1,0)","v":0},{"$f":"IF(B581=0,\"\",SUM($B$2:B581))","v":""},{"$f":"IF(AND(ورقة2!$H$2=ورقة1!I581,ورقة2!$F$2=ورقة1!H581,ورقة1!G581=\"بنت\"),1,0)","v":0},{"$f":"IF(D581=0,\"\",SUM($D$2:D581))","v":""},null,"بنت",3]
[null,{"$f":"IF(AND(ورقة2!$H$2=ورقة1!I582,ورقة2!$F$2=ورقة1!H582,ورقة1!G582=\"ولد\"),1,0)","v":0},{"$f":"IF(B582=0,\"\",SUM($B$2:B582))","v":""},{"$f":"IF(AND(ورقة2!$H$2=ورقة1!I582,ورقة2!$F$2=ورقة1!H582,ورقة1!G582=\"بنت\"),1,0)","v":0},{"$f":"IF(D582=0,\"\",SUM($D$2:D582))","v":""},null,"بنت",3]
[null,{"$f":"IF(AND(ورقة2!$H$2=ورقة1!I583,ورقة2!$F$2=ورقة1!H583,ورقة1!G583=\"ولد\"),1,0)","v":0},{"$f":"IF(B583=0,\"\",SUM($B$2:B583))","v":""},{"$f":"IF(AND(ورقة2!$H$2=ورقة1!I583,ورقة2!$F$2=ورقة1!H583,ورقة1!G583=\"بنت\"),1,0)","v":0},{"$f":"IF(D583=0,\"\",SUM($D$2:D583))","v":""},null,"بنت",3]
[null,{"$f":"IF(AND(ورقة2!$H$2=ورقة1!I584,ورقة2!$F$2=ورقة1!H584,ورقة1!G584=\"ولد\"),1,0)","v":0},{"$f":"IF(B584=0,\"\",SUM($B$2:B584))","v":""},{"$f":"IF(AND(ورقة2!$H$2=ورقة1!I584,ورقة2!$F$2=ورقة1!H584,ورقة1!G584=\"بنت\"),1,0)","v":0},{"$f":"IF(D584=0,\"\",SUM($D$2:D584))","v":""},null,"بنت",3]
[null,{"$f":"IF(AND(ورقة2!$H$2=ورقة1!I585,ورقة2!$F$2=ورقة1!H585,ورقة1!G585=\"ولد\"),1,0)","v":0},{"$f":"IF(B585=0,\"\",SUM($B$2:B585))","v":""},{"$f":"IF(AND(ورقة2!$H$2=ورقة1!I585,ورقة2!$F$2=ورقة1!H585,ورقة1!G585=\"بنت\"),1,0)","v":0},{"$f":"IF(D585=0,\"\",SUM($D$2:D585))","v":""},null,"بنت",3]
[null,{"$f":"IF(AND(ورقة2!$H$2=ورقة1!I586,ورقة2!$F$2=ورقة1!H586,ورقة1!G586=\"ولد\"),1,0)","v":0},{"$f":"IF(B586=0,\"\",SUM($B$2:B586))","v":""},{"$f":"IF(AND(ورقة2!$H$2=ورقة1!I586,ورقة2!$F$2=ورقة1!H586,ورقة1!G586=\"بنت\"),1,0)","v":0},{"$f":"IF(D586=0,\"\",SUM($D$2:D586))","v":""},null,"بنت",3]
[null,{"$f":"IF(AND(ورقة2!$H$2=ورقة1!I587,ورقة2!$F$2=ورقة1!H587,ورقة1!G587=\"ولد\"),1,0)","v":0},{"$f":"IF(B587=0,\"\",SUM($B$2:B587))","v":""},{"$f":"IF(AND(ورقة2!$H$2=ورقة1!I587,ورقة2!$F$2=ورقة1!H587,ورقة1!G587=\"بنت\"),1,0)","v":0},{"$f":"IF(D587=0,\"\",SUM($D$2:D587))","v":""},null,"بنت",3]
[null,{"$f":"IF(AND(ورقة2!$H$2=ورقة1!I588,ورقة2!$F$2=ورقة1!H588,ورقة1!G588=\"ولد\"),1,0)","v":0},{"$f":"IF(B588=0,\"\",SUM($B$2:B588))","v":""},{"$f":"IF(AND(ورقة2!$H$2=ورقة1!I588,ورقة2!$F$2=ورقة1!H588,ورقة1!G588=\"بنت\"),1,0)","v":0},{"$f":"IF(D588=0,\"\",SUM($D$2:D588))","v":""},null,"بنت",3]
[null,{"$f":"IF(AND(ورقة2!$H$2=ورقة1!I589,ورقة2!$F$2=ورقة1!H589,ورقة1!G589=\"ولد\"),1,0)","v":0},{"$f":"IF(B589=0,\"\",SUM($B$2:B589))","v":""},{"$f":"IF(AND(ورقة2!$H$2=ورقة1!I589,ورقة2!$F$2=ورقة1!H589,ورقة1!G589=\"بنت\"),1,0)","v":0},{"$f":"IF(D589=0,\"\",SUM($D$2:D589))","v":""},null,"بنت",3]
[null,{"$f":"IF(AND(ورقة2!$H$2=ورقة1!I590,ورقة2!$F$2=ورقة1!H590,ورقة1!G590=\"ولد\"),1,0)","v":0},{"$f":"IF(B590=0,\"\",SUM($B$2:B590))","v":""},{"$f":"IF(AND(ورقة2!$H$2=ورقة1!I590,ورقة2!$F$2=ورقة1!H590,ورقة1!G590=\"بنت\"),1,0)","v":0},{"$f":"IF(D590=0,\"\",SUM($D$2:D590))","v":""},null,"بنت",3]
[null,{"$f":"IF(AND(ورقة2!$H$2=ورقة1!I591,ورقة2!$F$2=ورقة1!H591,ورقة1!G591=\"ولد\"),1,0)","v":0},{"$f":"IF(B591=0,\"\",SUM($B$2:B591))","v":""},{"$f":"IF(AND(ورقة2!$H$2=ورقة1!I591,ورقة2!$F$2=ورقة1!H591,ورقة1!G591=\"بنت\"),1,0)","v":0},{"$f":"IF(D591=0,\"\",SUM($D$2:D591))","v":""},null,"بنت",3]
[null,{"$f":"IF(AND(ورقة2!$H$2=ورقة1!I592,ورقة2!$F$2=ورقة1!H592,ورقة1!G592=\"ولد\"),1,0)","v":0},{"$f":"IF(B592=0,\"\",SUM($B$2:B592))","v":""},{"$f":"IF(AND(ورقة2!$H$2=ورقة1!I592,ورقة2!$F$2=ورقة1!H592,ورقة1!G592=\"بنت\"),1,0)","v":0},{"$f":"IF(D592=0,\"\",SUM($D$2:D592))","v":""},null,"بنت",3]
[null,{"$f":"IF(AND(ورقة2!$H$2=ورقة1!I593,ورقة2!$F$2=ورقة1!H593,ورقة1!G593=\"ولد\"),1,0)","v":0},{"$f":"IF(B593=0,\"\",SUM($B$2:B593))","v":""},{"$f":"IF(AND(ورقة2!$H$2=ورقة1!I593,ورقة2!$F$2=ورقة1!H593,ورقة1!G593=\"بنت\"),1,0)","v":0},{"$f":"IF(D593=0,\"\",SUM($D$2:D593))","v":""},null,"بنت",3]
[null,{"$f":"IF(AND(ورقة2!$H$2=ورقة1!I594,ورقة2!$F$2=ورقة1!H594,ورقة1!G594=\"ولد\"),1,0)","v":0},{"$f":"IF(B594=0,\"\",SUM($B$2:B594))","v":""},{"$f":"IF(AND(ورقة2!$H$2=ورقة1!I594,ورقة2!$F$2=ورقة1!H594,ورقة1!G594=\"بنت\"),1,0)","v":0},{"$f":"IF(D594=0,\"\",SUM($D$2:D594))","v":""},null,"بنت",3]
[null,{"$f":"IF(AND(ورقة2!$H$2=ورقة1!I595,ورقة2!$F$2=ورقة1!H595,ورقة1!G595=\"ولد\"),1,0)","v":0},{"$f":"IF(B595=0,\"\",SUM($B$2:B595))","v":""},{"$f":"IF(AND(ورقة2!$H$2=ورقة1!I595,ورقة2!$F$2=ورقة1!H595,ورقة1!G595=\"بنت\"),1,0)","v":0},{"$f":"IF(D595=0,\"\",SUM($D$2:D595))","v":""},null,"بنت",3]
[null,{"$f":"IF(AND(ورقة2!$H$2=ورقة1!I596,ورقة2!$F$2=ورقة1!H596,ورقة1!G596=\"ولد\"),1,0)","v":0},{"$f":"IF(B596=0,\"\",SUM($B$2:B596))","v":""},{"$f":"IF(AND(ورقة2!$H$2=ورقة1!I596,ورقة2!$F$2=ورقة1!H596,ورقة1!G596=\"بنت\"),1,0)","v":0},{"$f":"IF(D596=0,\"\",SUM($D$2:D596))","v":""},null,"بنت",3]
[null,{"$f":"IF(AND(ورقة2!$H$2=ورقة1!I597,ورقة2!$F$2=ورقة1!H597,ورقة1!G597=\"ولد\"),1,0)","v":0},{"$f":"IF(B597=0,\"\",SUM($B$2:B597))","v":""},{"$f":"IF(AND(ورقة2!$H$2=ورقة1!I597,ورقة2!$F$2=ورقة1!H597,ورقة1!G597=\"بنت\"),1,0)","v":0},{"$f":"IF(D597=0,\"\",SUM($D$2:D597))","v":""},null,"بنت",3]
[null,{"$f":"IF(AND(ورقة2!$H$2=ورقة1!I598,ورقة2!$F$2=ورقة1!H598,ورقة1!G598=\"ولد\"),1,0)","v":0},{"$f":"IF(B598=0,\"\",SUM($B$2:B598))","v":""},{"$f":"IF(AND(ورقة2!$H$2=ورقة1!I598,ورقة2!$F$2=ورقة1!H598,ورقة1!G598=\"بنت\"),1,0)","v":0},{"$f":"IF(D598=0,\"\",SUM($D$2:D598))","v":""},null,"بنت",3]
[null,{"$f":"IF(AND(ورقة2!$H$2=ورقة1!I599,ورقة2!$F$2=ورقة1!H599,ورقة1!G599=\"ولد\"),1,0)","v":0},{"$f":"IF(B599=0,\"\",SUM($B$2:B599))","v":""},{"$f":"IF(AND(ورقة2!$H$2=ورقة1!I599,ورقة2!$F$2=ورقة1!H599,ورقة1!G599=\"بنت\"),1,0)","v":0},{"$f":"IF(D599=0,\"\",SUM($D$2:D599))","v":""},null,"بنت",3]
[null,{"$f":"IF(AND(ورقة2!$H$2=ورقة1!I600,ورقة2!$F$2=ورقة1!H600,ورقة1!G600=\"ولد\"),1,0)","v":0},{"$f":"IF(B600=0,\"\",SUM($B$2:B600))","v":""},{"$f":"IF(AND(ورقة2!$H$2=ورقة1!I600,ورقة2!$F$2=ورقة1!H600,ورقة1!G600=\"بنت\"),1,0)","v":0},{"$f":"IF(D600=0,\"\",SUM($D$2:D600))","v":""},null,"بنت",3]
[null,{"$f":"IF(AND(ورقة2!$H$2=ورقة1!I601,ورقة2!$F$2=ورقة1!H601,ورقة1!G601=\"ولد\"),1,0)","v":0},{"$f":"IF(B601=0,\"\",SUM($B$2:B601))","v":""},{"$f":"IF(AND(ورقة2!$H$2=ورقة1!I601,ورقة2!$F$2=ورقة1!H601,ورقة1!G601=\"بنت\"),1,0)","v":0},{"$f":"IF(D601=0,\"\",SUM($D$2:D601))","v":""},null,"بنت",3]
[null,{"$f":"IF(AND(ورقة2!$H$2=ورقة1!I602,ورقة2!$F$2=ورقة1!H602,ورقة1!G602=\"ولد\"),1,0)","v":0},{"$f":"IF(B602=0,\"\",SUM($B$2:B602))","v":""},{"$f":"IF(AND(ورقة2!$H$2=ورقة1!I602,ورقة2!$F$2=ورقة1!H602,ورقة1!G602=\"بنت\"),1,0)","v":0},{"$f":"IF(D602=0,\"\",SUM($D$2:D602))","v":""},null,"بنت",3]
[null,{"$f":"IF(AND(ورقة2!$H$2=ورقة1!I603,ورقة2!$F$2=ورقة1!H603,ورقة1!G603=\"ولد\"),1,0)","v":0},{"$f":"IF(B603=0,\"\",SUM($B$2:B603))","v":""},{"$f":"IF(AND(ورقة2!$H$2=ورقة1!I603,ورقة2!$F$2=ورقة1!H603,ورقة1!G603=\"بنت\"),1,0)","v":0},{"$f":"IF(D603=0,\"\",SUM($D$2:D603))","v":""},null,"بنت",3]
[null,{"$f":"IF(AND(ورقة2!$H$2=ورقة1!I604,ورقة2!$F$2=ورقة1!H604,ورقة1!G604=\"ولد\"),1,0)","v":0},{"$f":"IF(B604=0,\"\",SUM($B$2:B604))","v":""},{"$f":"IF(AND(ورقة2!$H$2=ورقة1!I604,ورقة2!$F$2=ورقة1!H604,ورقة1!G604=\"بنت\"),1,0)","v":0},{"$f":"IF(D604=0,\"\",SUM($D$2:D604))","v":""},null,"بنت",3]
[null,{"$f":"IF(AND(ورقة2!$H$2=ورقة1!I605,ورقة2!$F$2=ورقة1!H605,ورقة1!G605=\"ولد\"),1,0)","v":0},{"$f":"IF(B605=0,\"\",SUM($B$2:B605))","v":""},{"$f":"IF(AND(ورقة2!$H$2=ورقة1!I605,ورقة2!$F$2=ورقة1!H605,ورقة1!G605=\"بنت\"),1,0)","v":0},{"$f":"IF(D605=0,\"\",SUM($D$2:D605))","v":""},null,"بنت",3]
[null,{"$f":"IF(AND(ورقة2!$H$2=ورقة1!I606,ورقة2!$F$2=ورقة1!H606,ورقة1!G606=\"ولد\"),1,0)","v":0},{"$f":"IF(B606=0,\"\",SUM($B$2:B606))","v":""},{"$f":"IF(AND(ورقة2!$H$2=ورقة1!I606,ورقة2!$F$2=ورقة1!H606,ورقة1!G606=\"بنت\"),1,0)","v":0},{"$f":"IF(D606=0,\"\",SUM($D$2:D606))","v":""},null,"بنت",3]
[null,{"$f":"IF(AND(ورقة2!$H$2=ورقة1!I607,ورقة2!$F$2=ورقة1!H607,ورقة1!G607=\"ولد\"),1,0)","v":0},{"$f":"IF(B607=0,\"\",SUM($B$2:B607))","v":""},{"$f":"IF(AND(ورقة2!$H$2=ورقة1!I607,ورقة2!$F$2=ورقة1!H607,ورقة1!G607=\"بنت\"),1,0)","v":0},{"$f":"IF(D607=0,\"\",SUM($D$2:D607))","v":""},null,"بنت",3]
[null,{"$f":"IF(AND(ورقة2!$H$2=ورقة1!I608,ورقة2!$F$2=ورقة1!H608,ورقة1!G608=\"ولد\"),1,0)","v":0},{"$f":"IF(B608=0,\"\",SUM($B$2:B608))","v":""},{"$f":"IF(AND(ورقة2!$H$2=ورقة1!I608,ورقة2!$F$2=ورقة1!H608,ورقة1!G608=\"بنت\"),1,0)","v":0},{"$f":"IF(D608=0,\"\",SUM($D$2:D608))","v":""},null,"بنت",3]
[null,{"$f":"IF(AND(ورقة2!$H$2=ورقة1!I609,ورقة2!$F$2=ورقة1!H609,ورقة1!G609=\"ولد\"),1,0)","v":0},{"$f":"IF(B609=0,\"\",SUM($B$2:B609))","v":""},{"$f":"IF(AND(ورقة2!$H$2=ورقة1!I609,ورقة2!$F$2=ورقة1!H609,ورقة1!G609=\"بنت\"),1,0)","v":0},{"$f":"IF(D609=0,\"\",SUM($D$2:D609))","v":""},null,"بنت",3]
[null,{"$f":"IF(AND(ورقة2!$H$2=ورقة1!I610,ورقة2!$F$2=ورقة1!H610,ورقة1!G610=\"ولد\"),1,0)","v":0},{"$f":"IF(B610=0,\"\",SUM($B$2:B610))","v":""},{"$f":"IF(AND(ورقة2!$H$2=ورقة1!I610,ورقة2!$F$2=ورقة1!H610,ورقة1!G610=\"بنت\"),1,0)","v":0},{"$f":"IF(D610=0,\"\",SUM($D$2:D610))","v":""},null,"بنت",3]
[null,{"$f":"IF(AND(ورقة2!$H$2=ورقة1!I611,ورقة2!$F$2=ورقة1!H611,ورقة1!G611=\"ولد\"),1,0)","v":0},{"$f":"IF(B611=0,\"\",SUM($B$2:B611))","v":""},{"$f":"IF(AND(ورقة2!$H$2=ورقة1!I611,ورقة2!$F$2=ورقة1!H611,ورقة1!G611=\"بنت\"),1,0)","v":0},{"$f":"IF(D611=0,\"\",SUM($D$2:D611))","v":""},null,"بنت",3]
[null,{"$f":"IF(AND(ورقة2!$H$2=ورقة1!I612,ورقة2!$F$2=ورقة1!H612,ورقة1!G612=\"ولد\"),1,0)","v":0},{"$f":"IF(B612=0,\"\",SUM($B$2:B612))","v":""},{"$f":"IF(AND(ورقة2!$H$2=ورقة1!I612,ورقة2!$F$2=ورقة1!H612,ورقة1!G612=\"بنت\"),1,0)","v":0},{"$f":"IF(D612=0,\"\",SUM($D$2:D612))","v":""},null,"بنت",3]
[null,{"$f":"IF(AND(ورقة2!$H$2=ورقة1!I613,ورقة2!$F$2=ورقة1!H613,ورقة1!G613=\"ولد\"),1,0)","v":0},{"$f":"IF(B613=0,\"\",SUM($B$2:B613))","v":""},{"$f":"IF(AND(ورقة2!$H$2=ورقة1!I613,ورقة2!$F$2=ورقة1!H613,ورقة1!G613=\"بنت\"),1,0)","v":0},{"$f":"IF(D613=0,\"\",SUM($D$2:D613))","v":""},null,"بنت",3]
[null,{"$f":"IF(AND(ورقة2!$H$2=ورقة1!I614,ورقة2!$F$2=ورقة1!H614,ورقة1!G614=\"ولد\"),1,0)","v":0},{"$f":"IF(B614=0,\"\",SUM($B$2:B614))","v":""},{"$f":"IF(AND(ورقة2!$H$2=ورقة1!I614,ورقة2!$F$2=ورقة1!H614,ورقة1!G614=\"بنت\"),1,0)","v":0},{"$f":"IF(D614=0,\"\",SUM($D$2:D614))","v":""},null,"بنت",3]
[null,{"$f":"IF(AND(ورقة2!$H$2=ورقة1!I615,ورقة2!$F$2=ورقة1!H615,ورقة1!G615=\"ولد\"),1,0)","v":0},{"$f":"IF(B615=0,\"\",SUM($B$2:B615))","v":""},{"$f":"IF(AND(ورقة2!$H$2=ورقة1!I615,ورقة2!$F$2=ورقة1!H615,ورقة1!G615=\"بنت\"),1,0)","v":0},{"$f":"IF(D615=0,\"\",SUM($D$2:D615))","v":""},null,"بنت",3]
[null,{"$f":"IF(AND(ورقة2!$H$2=ورقة1!I616,ورقة2!$F$2=ورقة1!H616,ورقة1!G616=\"ولد\"),1,0)","v":0},{"$f":"IF(B616=0,\"\",SUM($B$2:B616))","v":""},{"$f":"IF(AND(ورقة2!$H$2=ورقة1!I616,ورقة2!$F$2=ورقة1!H616,ورقة1!G616=\"بنت\"),1,0)","v":0},{"$f":"IF(D616=0,\"\",SUM($D$2:D616))","v":""},null,"بنت",3]
[null,{"$f":"IF(AND(ورقة2!$H$2=ورقة1!I617,ورقة2!$F$2=ورقة1!H617,ورقة1!G617=\"ولد\"),1,0)","v":0},{"$f":"IF(B617=0,\"\",SUM($B$2:B617))","v":""},{"$f":"IF(AND(ورقة2!$H$2=ورقة1!I617,ورقة2!$F$2=ورقة1!H617,ورقة1!G617=\"بنت\"),1,0)","v":0},{"$f":"IF(D617=0,\"\",SUM($D$2:D617))","v":""},null,"بنت",3]
[null,{"$f":"IF(AND(ورقة2!$H$2=ورقة1!I618,ورقة2!$F$2=ورقة1!H618,ورقة1!G618=\"ولد\"),1,0)","v":0},{"$f":"IF(B618=0,\"\",SUM($B$2:B618))","v":""},{"$f":"IF(AND(ورقة2!$H$2=ورقة1!I618,ورقة2!$F$2=ورقة1!H618,ورقة1!G618=\"بنت\"),1,0)","v":0},{"$f":"IF(D618=0,\"\",SUM($D$2:D618))","v":""},null,"بنت",3]
[null,{"$f":"IF(AND(ورقة2!$H$2=ورقة1!I619,ورقة2!$F$2=ورقة1!H619,ورقة1!G619=\"ولد\"),1,0)","v":0},{"$f":"IF(B619=0,\"\",SUM($B$2:B619))","v":""},{"$f":"IF(AND(ورقة2!$H$2=ورقة1!I619,ورقة2!$F$2=ورقة1!H619,ورقة1!G619=\"بنت\"),1,0)","v":0},{"$f":"IF(D619=0,\"\",SUM($D$2:D619))","v":""},null,"بنت",3]
[null,{"$f":"IF(AND(ورقة2!$H$2=ورقة1!I620,ورقة2!$F$2=ورقة1!H620,ورقة1!G620=\"ولد\"),1,0)","v":0},{"$f":"IF(B620=0,\"\",SUM($B$2:B620))","v":""},{"$f":"IF(AND(ورقة2!$H$2=ورقة1!I620,ورقة2!$F$2=ورقة1!H620,ورقة1!G620=\"بنت\"),1,0)","v":0},{"$f":"IF(D620=0,\"\",SUM($D$2:D620))","v":""},null,"بنت",3]
[null,{"$f":"IF(AND(ورقة2!$H$2=ورقة1!I621,ورقة2!$F$2=ورقة1!H621,ورقة1!G621=\"ولد\"),1,0)","v":0},{"$f":"IF(B621=0,\"\",SUM($B$2:B621))","v":""},{"$f":"IF(AND(ورقة2!$H$2=ورقة1!I621,ورقة2!$F$2=ورقة1!H621,ورقة1!G621=\"بنت\"),1,0)","v":0},{"$f":"IF(D621=0,\"\",SUM($D$2:D621))","v":""},null,"بنت",3]
[null,{"$f":"IF(AND(ورقة2!$H$2=ورقة1!I622,ورقة2!$F$2=ورقة1!H622,ورقة1!G622=\"ولد\"),1,0)","v":0},{"$f":"IF(B622=0,\"\",SUM($B$2:B622))","v":""},{"$f":"IF(AND(ورقة2!$H$2=ورقة1!I622,ورقة2!$F$2=ورقة1!H622,ورقة1!G622=\"بنت\"),1,0)","v":0},{"$f":"IF(D622=0,\"\",SUM($D$2:D622))","v":""},null,"بنت",3]
[null,{"$f":"IF(AND(ورقة2!$H$2=ورقة1!I623,ورقة2!$F$2=ورقة1!H623,ورقة1!G623=\"ولد\"),1,0)","v":0},{"$f":"IF(B623=0,\"\",SUM($B$2:B623))","v":""},{"$f":"IF(AND(ورقة2!$H$2=ورقة1!I623,ورقة2!$F$2=ورقة1!H623,ورقة1!G623=\"بنت\"),1,0)","v":0},{"$f":"IF(D623=0,\"\",SUM($D$2:D623))","v":""},null,"بنت",3]
[null,{"$f":"IF(AND(ورقة2!$H$2=ورقة1!I624,ورقة2!$F$2=ورقة1!H624,ورقة1!G624=\"ولد\"),1,0)","v":0},{"$f":"IF(B624=0,\"\",SUM($B$2:B624))","v":""},{"$f":"IF(AND(ورقة2!$H$2=ورقة1!I624,ورقة2!$F$2=ورقة1!H624,ورقة1!G624=\"بنت\"),1,0)","v":0},{"$f":"IF(D624=0,\"\",SUM($D$2:D624))","v":""},null,"بنت",3]
[null,{"$f":"IF(AND(ورقة2!$H$2=ورقة1!I625,ورقة2!$F$2=ورقة1!H625,ورقة1!G625=\"ولد\"),1,0)","v":0},{"$f":"IF(B625=0,\"\",SUM($B$2:B625))","v":""},{"$f":"IF(AND(ورقة2!$H$2=ورقة1!I625,ورقة2!$F$2=ورقة1!H625,ورقة1!G625=\"بنت\"),1,0)","v":0},{"$f":"IF(D625=0,\"\",SUM($D$2:D625))","v":""},null,"بنت",3]
[null,{"$f":"IF(AND(ورقة2!$H$2=ورقة1!I626,ورقة2!$F$2=ورقة1!H626,ورقة1!G626=\"ولد\"),1,0)","v":0},{"$f":"IF(B626=0,\"\",SUM($B$2:B626))","v":""},{"$f":"IF(AND(ورقة2!$H$2=ورقة1!I626,ورقة2!$F$2=ورقة1!H626,ورقة1!G626=\"بنت\"),1,0)","v":0},{"$f":"IF(D626=0,\"\",SUM($D$2:D626))","v":""},null,"بنت",3]
[null,{"$f":"IF(AND(ورقة2!$H$2=ورقة1!I627,ورقة2!$F$2=ورقة1!H627,ورقة1!G627=\"ولد\"),1,0)","v":0},{"$f":"IF(B627=0,\"\",SUM($B$2:B627))","v":""},{"$f":"IF(AND(ورقة2!$H$2=ورقة1!I627,ورقة2!$F$2=ورقة1!H627,ورقة1!G627=\"بنت\"),1,0)","v":0},{"$f":"IF(D627=0,\"\",SUM($D$2:D627))","v":""},null,"بنت",3]
[null,{"$f":"IF(AND(ورقة2!$H$2=ورقة1!I628,ورقة2!$F$2=ورقة1!H628,ورقة1!G628=\"ولد\"),1,0)","v":0},{"$f":"IF(B628=0,\"\",SUM($B$2:B628))","v":""},{"$f":"IF(AND(ورقة2!$H$2=ورقة1!I628,ورقة2!$F$2=ورقة1!H628,ورقة1!G628=\"بنت\"),1,0)","v":0},{"$f":"IF(D628=0,\"\",SUM($D$2:D628))","v":""},null,"بنت",3]
[null,{"$f":"IF(AND(ورقة2!$H$2=ورقة1!I629,ورقة2!$F$2=ورقة1!H629,ورقة1!G629=\"ولد\"),1,0)","v":0},{"$f":"IF(B629=0,\"\",SUM($B$2:B629))","v":""},{"$f":"IF(AND(ورقة2!$H$2=ورقة1!I629,ورقة2!$F$2=ورقة1!H629,ورقة1!G629=\"بنت\"),1,0)","v":0},{"$f":"IF(D629=0,\"\",SUM($D$2:D629))","v":""},null,"بنت",3]
[null,{"$f":"IF(AND(ورقة2!$H$2=ورقة1!I630,ورقة2!$F$2=ورقة1!H630,ورقة1!G630=\"ولد\"),1,0)","v":0},{"$f":"IF(B630=0,\"\",SUM($B$2:B630))","v":""},{"$f":"IF(AND(ورقة2!$H$2=ورقة1!I630,ورقة2!$F$2=ورقة1!H630,ورقة1!G630=\"بنت\"),1,0)","v":0},{"$f":"IF(D630=0,\"\",SUM($D$2:D630))","v":""},null,"بنت",3]
[null,{"$f":"IF(AND(ورقة2!$H$2=ورقة1!I631,ورقة2!$F$2=ورقة1!H631,ورقة1!G631=\"ولد\"),1,0)","v":0},{"$f":"IF(B631=0,\"\",SUM($B$2:B631))","v":""},{"$f":"IF(AND(ورقة2!$H$2=ورقة1!I631,ورقة2!$F$2=ورقة1!H631,ورقة1!G631=\"بنت\"),1,0)","v":0},{"$f":"IF(D631=0,\"\",SUM($D$2:D631))","v":""},null,"بنت",3]
[null,{"$f":"IF(AND(ورقة2!$H$2=ورقة1!I632,ورقة2!$F$2=ورقة1!H632,ورقة1!G632=\"ولد\"),1,0)","v":0},{"$f":"IF(B632=0,\"\",SUM($B$2:B632))","v":""},{"$f":"IF(AND(ورقة2!$H$2=ورقة1!I632,ورقة2!$F$2=ورقة1!H632,ورقة1!G632=\"بنت\"),1,0)","v":0},{"$f":"IF(D632=0,\"\",SUM($D$2:D632))","v":""},null,"بنت",3]
[null,{"$f":"IF(AND(ورقة2!$H$2=ورقة1!I633,ورقة2!$F$2=ورقة1!H633,ورقة1!G633=\"ولد\"),1,0)","v":0},{"$f":"IF(B633=0,\"\",SUM($B$2:B633))","v":""},{"$f":"IF(AND(ورقة2!$H$2=ورقة1!I633,ورقة2!$F$2=ورقة1!H633,ورقة1!G633=\"بنت\"),1,0)","v":0},{"$f":"IF(D633=0,\"\",SUM($D$2:D633))","v":""},null,"بنت",3]
[null,{"$f":"IF(AND(ورقة2!$H$2=ورقة1!I634,ورقة2!$F$2=ورقة1!H634,ورقة1!G634=\"ولد\"),1,0)","v":0},{"$f":"IF(B634=0,\"\",SUM($B$2:B634))","v":""},{"$f":"IF(AND(ورقة2!$H$2=ورقة1!I634,ورقة2!$F$2=ورقة1!H634,ورقة1!G634=\"بنت\"),1,0)","v":0},{"$f":"IF(D634=0,\"\",SUM($D$2:D634))","v":""},null,"بنت",3]
[null,{"$f":"IF(AND(ورقة2!$H$2=ورقة1!I635,ورقة2!$F$2=ورقة1!H635,ورقة1!G635=\"ولد\"),1,0)","v":0},{"$f":"IF(B635=0,\"\",SUM($B$2:B635))","v":""},{"$f":"IF(AND(ورقة2!$H$2=ورقة1!I635,ورقة2!$F$2=ورقة1!H635,ورقة1!G635=\"بنت\"),1,0)","v":0},{"$f":"IF(D635=0,\"\",SUM($D$2:D635))","v":""},null,"بنت",3]
[null,{"$f":"IF(AND(ورقة2!$H$2=ورقة1!I636,ورقة2!$F$2=ورقة1!H636,ورقة1!G636=\"ولد\"),1,0)","v":0},{"$f":"IF(B636=0,\"\",SUM($B$2:B636))","v":""},{"$f":"IF(AND(ورقة2!$H$2=ورقة1!I636,ورقة2!$F$2=ورقة1!H636,ورقة1!G636=\"بنت\"),1,0)","v":0},{"$f":"IF(D636=0,\"\",SUM($D$2:D636))","v":""},null,"بنت",3]
[null,{"$f":"IF(AND(ورقة2!$H$2=ورقة1!I637,ورقة2!$F$2=ورقة1!H637,ورقة1!G637=\"ولد\"),1,0)","v":0},{"$f":"IF(B637=0,\"\",SUM($B$2:B637))","v":""},{"$f":"IF(AND(ورقة2!$H$2=ورقة1!I637,ورقة2!$F$2=ورقة1!H637,ورقة1!G637=\"بنت\"),1,0)","v":0},{"$f":"IF(D637=0,\"\",SUM($D$2:D637))","v":""},null,"بنت",3]
[null,{"$f":"IF(AND(ورقة2!$H$2=ورقة1!I638,ورقة2!$F$2=ورقة1!H638,ورقة1!G638=\"ولد\"),1,0)","v":0},{"$f":"IF(B638=0,\"\",SUM($B$2:B638))","v":""},{"$f":"IF(AND(ورقة2!$H$2=ورقة1!I638,ورقة2!$F$2=ورقة1!H638,ورقة1!G638=\"بنت\"),1,0)","v":0},{"$f":"IF(D638=0,\"\",SUM($D$2:D638))","v":""},null,"بنت",3]
[null,{"$f":"IF(AND(ورقة2!$H$2=ورقة1!I639,ورقة2!$F$2=ورقة1!H639,ورقة1!G639=\"ولد\"),1,0)","v":0},{"$f":"IF(B639=0,\"\",SUM($B$2:B639))","v":""},{"$f":"IF(AND(ورقة2!$H$2=ورقة1!I639,ورقة2!$F$2=ورقة1!H639,ورقة1!G639=\"بنت\"),1,0)","v":0},{"$f":"IF(D639=0,\"\",SUM($D$2:D639))","v":""},null,"بنت",3]
[null,{"$f":"IF(AND(ورقة2!$H$2=ورقة1!I640,ورقة2!$F$2=ورقة1!H640,ورقة1!G640=\"ولد\"),1,0)","v":0},{"$f":"IF(B640=0,\"\",SUM($B$2:B640))","v":""},{"$f":"IF(AND(ورقة2!$H$2=ورقة1!I640,ورقة2!$F$2=ورقة1!H640,ورقة1!G640=\"بنت\"),1,0)","v":0},{"$f":"IF(D640=0,\"\",SUM($D$2:D640))","v":""},null,"بنت",3]
[null,{"$f":"IF(AND(ورقة2!$H$2=ورقة1!I641,ورقة2!$F$2=ورقة1!H641,ورقة1!G641=\"ولد\"),1,0)","v":0},{"$f":"IF(B641=0,\"\",SUM($B$2:B641))","v":""},{"$f":"IF(AND(ورقة2!$H$2=ورقة1!I641,ورقة2!$F$2=ورقة1!H641,ورقة1!G641=\"بنت\"),1,0)","v":0},{"$f":"IF(D641=0,\"\",SUM($D$2:D641))","v":""},null,"بنت",3]
[null,{"$f":"IF(AND(ورقة2!$H$2=ورقة1!I642,ورقة2!$F$2=ورقة1!H642,ورقة1!G642=\"ولد\"),1,0)","v":0},{"$f":"IF(B642=0,\"\",SUM($B$2:B642))","v":""},{"$f":"IF(AND(ورقة2!$H$2=ورقة1!I642,ورقة2!$F$2=ورقة1!H642,ورقة1!G642=\"بنت\"),1,0)","v":0},{"$f":"IF(D642=0,\"\",SUM($D$2:D642))","v":""},null,"بنت",3]
[null,{"$f":"IF(AND(ورقة2!$H$2=ورقة1!I643,ورقة2!$F$2=ورقة1!H643,ورقة1!G643=\"ولد\"),1,0)","v":0},{"$f":"IF(B643=0,\"\",SUM($B$2:B643))","v":""},{"$f":"IF(AND(ورقة2!$H$2=ورقة1!I643,ورقة2!$F$2=ورقة1!H643,ورقة1!G643=\"بنت\"),1,0)","v":0},{"$f":"IF(D643=0,\"\",SUM($D$2:D643))","v":""},null,"بنت",3]
[null,{"$f":"IF(AND(ورقة2!$H$2=ورقة1!I644,ورقة2!$F$2=ورقة1!H644,ورقة1!G644=\"ولد\"),1,0)","v":0},{"$f":"IF(B644=0,\"\",SUM($B$2:B644))","v":""},{"$f":"IF(AND(ورقة2!$H$2=ورقة1!I644,ورقة2!$F$2=ورقة1!H644,ورقة1!G644=\"بنت\"),1,0)","v":0},{"$f":"IF(D644=0,\"\",SUM($D$2:D644))","v":""},null,"بنت",3]
[null,{"$f":"IF(AND(ورقة2!$H$2=ورقة1!I645,ورقة2!$F$2=ورقة1!H645,ورقة1!G645=\"ولد\"),1,0)","v":0},{"$f":"IF(B645=0,\"\",SUM($B$2:B645))","v":""},{"$f":"IF(AND(ورقة2!$H$2=ورقة1!I645,ورقة2!$F$2=ورقة1!H645,ورقة1!G645=\"بنت\"),1,0)","v":0},{"$f":"IF(D645=0,\"\",SUM($D$2:D645))","v":""},null,"بنت",3]
[null,{"$f":"IF(AND(ورقة2!$H$2=ورقة1!I646,ورقة2!$F$2=ورقة1!H646,ورقة1!G646=\"ولد\"),1,0)","v":0},{"$f":"IF(B646=0,\"\",SUM($B$2:B646))","v":""},{"$f":"IF(AND(ورقة2!$H$2=ورقة1!I646,ورقة2!$F$2=ورقة1!H646,ورقة1!G646=\"بنت\"),1,0)","v":0},{"$f":"IF(D646=0,\"\",SUM($D$2:D646))","v":""},null,"بنت",3]
[null,{"$f":"IF(AND(ورقة2!$H$2=ورقة1!I647,ورقة2!$F$2=ورقة1!H647,ورقة1!G647=\"ولد\"),1,0)","v":0},{"$f":"IF(B647=0,\"\",SUM($B$2:B647))","v":""},{"$f":"IF(AND(ورقة2!$H$2=ورقة1!I647,ورقة2!$F$2=ورقة1!H647,ورقة1!G647=\"بنت\"),1,0)","v":0},{"$f":"IF(D647=0,\"\",SUM($D$2:D647))","v":""},null,"بنت",3]
[null,{"$f":"IF(AND(ورقة2!$H$2=ورقة1!I648,ورقة2!$F$2=ورقة1!H648,ورقة1!G648=\"ولد\"),1,0)","v":0},{"$f":"IF(B648=0,\"\",SUM($B$2:B648))","v":""},{"$f":"IF(AND(ورقة2!$H$2=ورقة1!I648,ورقة2!$F$2=ورقة1!H648,ورقة1!G648=\"بنت\"),1,0)","v":0},{"$f":"IF(D648=0,\"\",SUM($D$2:D648))","v":""},null,"بنت",3]
[null,{"$f":"IF(AND(ورقة2!$H$2=ورقة1!I649,ورقة2!$F$2=ورقة1!H649,ورقة1!G649=\"ولد\"),1,0)","v":0},{"$f":"IF(B649=0,\"\",SUM($B$2:B649))","v":""},{"$f":"IF(AND(ورقة2!$H$2=ورقة1!I649,ورقة2!$F$2=ورقة1!H649,ورقة1!G649=\"بنت\"),1,0)","v":0},{"$f":"IF(D649=0,\"\",SUM($D$2:D649))","v":""},null,"بنت",3]
[null,{"$f":"IF(AND(ورقة2!$H$2=ورقة1!I650,ورقة2!$F$2=ورقة1!H650,ورقة1!G650=\"ولد\"),1,0)","v":0},{"$f":"IF(B650=0,\"\",SUM($B$2:B650))","v":""},{"$f":"IF(AND(ورقة2!$H$2=ورقة1!I650,ورقة2!$F$2=ورقة1!H650,ورقة1!G650=\"بنت\"),1,0)","v":0},{"$f":"IF(D650=0,\"\",SUM($D$2:D650))","v":""},null,"بنت",3]
[null,{"$f":"IF(AND(ورقة2!$H$2=ورقة1!I651,ورقة2!$F$2=ورقة1!H651,ورقة1!G651=\"ولد\"),1,0)","v":0},{"$f":"IF(B651=0,\"\",SUM($B$2:B651))","v":""},{"$f":"IF(AND(ورقة2!$H$2=ورقة1!I651,ورقة2!$F$2=ورقة1!H651,ورقة1!G651=\"بنت\"),1,0)","v":0},{"$f":"IF(D651=0,\"\",SUM($D$2:D651))","v":""},null,"بنت",3]
[null,{"$f":"IF(AND(ورقة2!$H$2=ورقة1!I652,ورقة2!$F$2=ورقة1!H652,ورقة1!G652=\"ولد\"),1,0)","v":0},{"$f":"IF(B652=0,\"\",SUM($B$2:B652))","v":""},{"$f":"IF(AND(ورقة2!$H$2=ورقة1!I652,ورقة2!$F$2=ورقة1!H652,ورقة1!G652=\"بنت\"),1,0)","v":0},{"$f":"IF(D652=0,\"\",SUM($D$2:D652))","v":""},null,"بنت",3]
[null,{"$f":"IF(AND(ورقة2!$H$2=ورقة1!I653,ورقة2!$F$2=ورقة1!H653,ورقة1!G653=\"ولد\"),1,0)","v":0},{"$f":"IF(B653=0,\"\",SUM($B$2:B653))","v":""},{"$f":"IF(AND(ورقة2!$H$2=ورقة1!I653,ورقة2!$F$2=ورقة1!H653,ورقة1!G653=\"بنت\"),1,0)","v":0},{"$f":"IF(D653=0,\"\",SUM($D$2:D653))","v":""},null,"بنت",3]
[null,{"$f":"IF(AND(ورقة2!$H$2=ورقة1!I654,ورقة2!$F$2=ورقة1!H654,ورقة1!G654=\"ولد\"),1,0)","v":0},{"$f":"IF(B654=0,\"\",SUM($B$2:B654))","v":""},{"$f":"IF(AND(ورقة2!$H$2=ورقة1!I654,ورقة2!$F$2=ورقة1!H654,ورقة1!G654=\"بنت\"),1,0)","v":0},{"$f":"IF(D654=0,\"\",SUM($D$2:D654))","v":""},null,"بنت",3]
[null,{"$f":"IF(AND(ورقة2!$H$2=ورقة1!I655,ورقة2!$F$2=ورقة1!H655,ورقة1!G655=\"ولد\"),1,0)","v":0},{"$f":"IF(B655=0,\"\",SUM($B$2:B655))","v":""},{"$f":"IF(AND(ورقة2!$H$2=ورقة1!I655,ورقة2!$F$2=ورقة1!H655,ورقة1!G655=\"بنت\"),1,0)","v":0},{"$f":"IF(D655=0,\"\",SUM($D$2:D655))","v":""},null,"بنت",3]
[null,{"$f":"IF(AND(ورقة2!$H$2=ورقة1!I656,ورقة2!$F$2=ورقة1!H656,ورقة1!G656=\"ولد\"),1,0)","v":0},{"$f":"IF(B656=0,\"\",SUM($B$2:B656))","v":""},{"$f":"IF(AND(ورقة2!$H$2=ورقة1!I656,ورقة2!$F$2=ورقة1!H656,ورقة1!G656=\"بنت\"),1,0)","v":0},{"$f":"IF(D656=0,\"\",SUM($D$2:D656))","v":""},null,"بنت",3]
[null,{"$f":"IF(AND(ورقة2!$H$2=ورقة1!I657,ورقة2!$F$2=ورقة1!H657,ورقة1!G657=\"ولد\"),1,0)","v":0},{"$f":"IF(B657=0,\"\",SUM($B$2:B657))","v":""},{"$f":"IF(AND(ورقة2!$H$2=ورقة1!I657,ورقة2!$F$2=ورقة1!H657,ورقة1!G657=\"بنت\"),1,0)","v":0},{"$f":"IF(D657=0,\"\",SUM($D$2:D657))","v":""},null,"بنت",3]
[null,{"$f":"IF(AND(ورقة2!$H$2=ورقة1!I658,ورقة2!$F$2=ورقة1!H658,ورقة1!G658=\"ولد\"),1,0)","v":0},{"$f":"IF(B658=0,\"\",SUM($B$2:B658))","v":""},{"$f":"IF(AND(ورقة2!$H$2=ورقة1!I658,ورقة2!$F$2=ورقة1!H658,ورقة1!G658=\"بنت\"),1,0)","v":0},{"$f":"IF(D658=0,\"\",SUM($D$2:D658))","v":""},null,"بنت",3]
[null,{"$f":"IF(AND(ورقة2!$H$2=ورقة1!I659,ورقة2!$F$2=ورقة1!H659,ورقة1!G659=\"ولد\"),1,0)","v":0},{"$f":"IF(B659=0,\"\",SUM($B$2:B659))","v":""},{"$f":"IF(AND(ورقة2!$H$2=ورقة1!I659,ورقة2!$F$2=ورقة1!H659,ورقة1!G659=\"بنت\"),1,0)","v":0},{"$f":"IF(D659=0,\"\",SUM($D$2:D659))","v":""},null,"بنت",3]
[null,{"$f":"IF(AND(ورقة2!$H$2=ورقة1!I660,ورقة2!$F$2=ورقة1!H660,ورقة1!G660=\"ولد\"),1,0)","v":0},{"$f":"IF(B660=0,\"\",SUM($B$2:B660))","v":""},{"$f":"IF(AND(ورقة2!$H$2=ورقة1!I660,ورقة2!$F$2=ورقة1!H660,ورقة1!G660=\"بنت\"),1,0)","v":0},{"$f":"IF(D660=0,\"\",SUM($D$2:D660))","v":""},null,"بنت",3]
[null,{"$f":"IF(AND(ورقة2!$H$2=ورقة1!I661,ورقة2!$F$2=ورقة1!H661,ورقة1!G661=\"ولد\"),1,0)","v":0},{"$f":"IF(B661=0,\"\",SUM($B$2:B661))","v":""},{"$f":"IF(AND(ورقة2!$H$2=ورقة1!I661,ورقة2!$F$2=ورقة1!H661,ورقة1!G661=\"بنت\"),1,0)","v":0},{"$f":"IF(D661=0,\"\",SUM($D$2:D661))","v":""},null,"بنت",3]
[null,{"$f":"IF(AND(ورقة2!$H$2=ورقة1!I662,ورقة2!$F$2=ورقة1!H662,ورقة1!G662=\"ولد\"),1,0)","v":0},{"$f":"IF(B662=0,\"\",SUM($B$2:B662))","v":""},{"$f":"IF(AND(ورقة2!$H$2=ورقة1!I662,ورقة2!$F$2=ورقة1!H662,ورقة1!G662=\"بنت\"),1,0)","v":0},{"$f":"IF(D662=0,\"\",SUM($D$2:D662))","v":""},null,"بنت",3]
[null,{"$f":"IF(AND(ورقة2!$H$2=ورقة1!I663,ورقة2!$F$2=ورقة1!H663,ورقة1!G663=\"ولد\"),1,0)","v":0},{"$f":"IF(B663=0,\"\",SUM($B$2:B663))","v":""},{"$f":"IF(AND(ورقة2!$H$2=ورقة1!I663,ورقة2!$F$2=ورقة1!H663,ورقة1!G663=\"بنت\"),1,0)","v":0},{"$f":"IF(D663=0,\"\",SUM($D$2:D663))","v":""},null,"بنت",3]
[null,{"$f":"IF(AND(ورقة2!$H$2=ورقة1!I664,ورقة2!$F$2=ورقة1!H664,ورقة1!G664=\"ولد\"),1,0)","v":0},{"$f":"IF(B664=0,\"\",SUM($B$2:B664))","v":""},{"$f":"IF(AND(ورقة2!$H$2=ورقة1!I664,ورقة2!$F$2=ورقة1!H664,ورقة1!G664=\"بنت\"),1,0)","v":0},{"$f":"IF(D664=0,\"\",SUM($D$2:D664))","v":""},null,"بنت",3]
[null,{"$f":"IF(AND(ورقة2!$H$2=ورقة1!I665,ورقة2!$F$2=ورقة1!H665,ورقة1!G665=\"ولد\"),1,0)","v":0},{"$f":"IF(B665=0,\"\",SUM($B$2:B665))","v":""},{"$f":"IF(AND(ورقة2!$H$2=ورقة1!I665,ورقة2!$F$2=ورقة1!H665,ورقة1!G665=\"بنت\"),1,0)","v":0},{"$f":"IF(D665=0,\"\",SUM($D$2:D665))","v":""},null,"بنت",3]
[null,{"$f":"IF(AND(ورقة2!$H$2=ورقة1!I666,ورقة2!$F$2=ورقة1!H666,ورقة1!G666=\"ولد\"),1,0)","v":0},{"$f":"IF(B666=0,\"\",SUM($B$2:B666))","v":""},{"$f":"IF(AND(ورقة2!$H$2=ورقة1!I666,ورقة2!$F$2=ورقة1!H666,ورقة1!G666=\"بنت\"),1,0)","v":0},{"$f":"IF(D666=0,\"\",SUM($D$2:D666))","v":""},null,"بنت",3]
[null,{"$f":"IF(AND(ورقة2!$H$2=ورقة1!I667,ورقة2!$F$2=ورقة1!H667,ورقة1!G667=\"ولد\"),1,0)","v":0},{"$f":"IF(B667=0,\"\",SUM($B$2:B667))","v":""},{"$f":"IF(AND(ورقة2!$H$2=ورقة1!I667,ورقة2!$F$2=ورقة1!H667,ورقة1!G667=\"بنت\"),1,0)","v":0},{"$f":"IF(D667=0,\"\",SUM($D$2:D667))","v":""},null,"بنت",3]
[null,{"$f":"IF(AND(ورقة2!$H$2=ورقة1!I668,ورقة2!$F$2=ورقة1!H668,ورقة1!G668=\"ولد\"),1,0)","v":0},{"$f":"IF(B668=0,\"\",SUM($B$2:B668))","v":""},{"$f":"IF(AND(ورقة2!$H$2=ورقة1!I668,ورقة2!$F$2=ورقة1!H668,ورقة1!G668=\"بنت\"),1,0)","v":0},{"$f":"IF(D668=0,\"\",SUM($D$2:D668))","v":""},null,"بنت",3]
[null,{"$f":"IF(AND(ورقة2!$H$2=ورقة1!I669,ورقة2!$F$2=ورقة1!H669,ورقة1!G669=\"ولد\"),1,0)","v":0},{"$f":"IF(B669=0,\"\",SUM($B$2:B669))","v":""},{"$f":"IF(AND(ورقة2!$H$2=ورقة1!I669,ورقة2!$F$2=ورقة1!H669,ورقة1!G669=\"بنت\"),1,0)","v":0},{"$f":"IF(D669=0,\"\",SUM($D$2:D669))","v":""},null,"بنت",3]
[null,{"$f":"IF(AND(ورقة2!$H$2=ورقة1!I670,ورقة2!$F$2=ورقة1!H670,ورقة1!G670=\"ولد\"),1,0)","v":0},{"$f":"IF(B670=0,\"\",SUM($B$2:B670))","v":""},{"$f":"IF(AND(ورقة2!$H$2=ورقة1!I670,ورقة2!$F$2=ورقة1!H670,ورقة1!G670=\"بنت\"),1,0)","v":0},{"$f":"IF(D670=0,\"\",SUM($D$2:D670))","v":""},null,"بنت",3]
[null,{"$f":"IF(AND(ورقة2!$H$2=ورقة1!I671,ورقة2!$F$2=ورقة1!H671,ورقة1!G671=\"ولد\"),1,0)","v":0},{"$f":"IF(B671=0,\"\",SUM($B$2:B671))","v":""},{"$f":"IF(AND(ورقة2!$H$2=ورقة1!I671,ورقة2!$F$2=ورقة1!H671,ورقة1!G671=\"بنت\"),1,0)","v":0},{"$f":"IF(D671=0,\"\",SUM($D$2:D671))","v":""},null,"بنت",3]
[null,{"$f":"IF(AND(ورقة2!$H$2=ورقة1!I672,ورقة2!$F$2=ورقة1!H672,ورقة1!G672=\"ولد\"),1,0)","v":0},{"$f":"IF(B672=0,\"\",SUM($B$2:B672))","v":""},{"$f":"IF(AND(ورقة2!$H$2=ورقة1!I672,ورقة2!$F$2=ورقة1!H672,ورقة1!G672=\"بنت\"),1,0)","v":0},{"$f":"IF(D672=0,\"\",SUM($D$2:D672))","v":""},null,"بنت",3]
[null,{"$f":"IF(AND(ورقة2!$H$2=ورقة1!I673,ورقة2!$F$2=ورقة1!H673,ورقة1!G673=\"ولد\"),1,0)","v":0},{"$f":"IF(B673=0,\"\",SUM($B$2:B673))","v":""},{"$f":"IF(AND(ورقة2!$H$2=ورقة1!I673,ورقة2!$F$2=ورقة1!H673,ورقة1!G673=\"بنت\"),1,0)","v":0},{"$f":"IF(D673=0,\"\",SUM($D$2:D673))","v":""},null,"بنت",3]
[null,{"$f":"IF(AND(ورقة2!$H$2=ورقة1!I674,ورقة2!$F$2=ورقة1!H674,ورقة1!G674=\"ولد\"),1,0)","v":0},{"$f":"IF(B674=0,\"\",SUM($B$2:B674))","v":""},{"$f":"IF(AND(ورقة2!$H$2=ورقة1!I674,ورقة2!$F$2=ورقة1!H674,ورقة1!G674=\"بنت\"),1,0)","v":0},{"$f":"IF(D674=0,\"\",SUM($D$2:D674))","v":""},null,"بنت",3]
[null,{"$f":"IF(AND(ورقة2!$H$2=ورقة1!I675,ورقة2!$F$2=ورقة1!H675,ورقة1!G675=\"ولد\"),1,0)","v":0},{"$f":"IF(B675=0,\"\",SUM($B$2:B675))","v":""},{"$f":"IF(AND(ورقة2!$H$2=ورقة1!I675,ورقة2!$F$2=ورقة1!H675,ورقة1!G675=\"بنت\"),1,0)","v":0},{"$f":"IF(D675=0,\"\",SUM($D$2:D675))","v":""},null,"بنت",3]
[null,{"$f":"IF(AND(ورقة2!$H$2=ورقة1!I676,ورقة2!$F$2=ورقة1!H676,ورقة1!G676=\"ولد\"),1,0)","v":0},{"$f":"IF(B676=0,\"\",SUM($B$2:B676))","v":""},{"$f":"IF(AND(ورقة2!$H$2=ورقة1!I676,ورقة2!$F$2=ورقة1!H676,ورقة1!G676=\"بنت\"),1,0)","v":0},{"$f":"IF(D676=0,\"\",SUM($D$2:D676))","v":""},null,"بنت",3]
[null,{"$f":"IF(AND(ورقة2!$H$2=ورقة1!I677,ورقة2!$F$2=ورقة1!H677,ورقة1!G677=\"ولد\"),1,0)","v":0},{"$f":"IF(B677=0,\"\",SUM($B$2:B677))","v":""},{"$f":"IF(AND(ورقة2!$H$2=ورقة1!I677,ورقة2!$F$2=ورقة1!H677,ورقة1!G677=\"بنت\"),1,0)","v":0},{"$f":"IF(D677=0,\"\",SUM($D$2:D677))","v":""},null,"بنت",3]
[null,{"$f":"IF(AND(ورقة2!$H$2=ورقة1!I678,ورقة2!$F$2=ورقة1!H678,ورقة1!G678=\"ولد\"),1,0)","v":0},{"$f":"IF(B678=0,\"\",SUM($B$2:B678))","v":""},{"$f":"IF(AND(ورقة2!$H$2=ورقة1!I678,ورقة2!$F$2=ورقة1!H678,ورقة1!G678=\"بنت\"),1,0)","v":0},{"$f":"IF(D678=0,\"\",SUM($D$2:D678))","v":""},null,"بنت",3]
[null,{"$f":"IF(AND(ورقة2!$H$2=ورقة1!I679,ورقة2!$F$2=ورقة1!H679,ورقة1!G679=\"ولد\"),1,0)","v":0},{"$f":"IF(B679=0,\"\",SUM($B$2:B679))","v":""},{"$f":"IF(AND(ورقة2!$H$2=ورقة1!I679,ورقة2!$F$2=ورقة1!H679,ورقة1!G679=\"بنت\"),1,0)","v":0},{"$f":"IF(D679=0,\"\",SUM($D$2:D679))","v":""},null,"بنت",3]
[null,{"$f":"IF(AND(ورقة2!$H$2=ورقة1!I680,ورقة2!$F$2=ورقة1!H680,ورقة1!G680=\"ولد\"),1,0)","v":0},{"$f":"IF(B680=0,\"\",SUM($B$2:B680))","v":""},{"$f":"IF(AND(ورقة2!$H$2=ورقة1!I680,ورقة2!$F$2=ورقة1!H680,ورقة1!G680=\"بنت\"),1,0)","v":0},{"$f":"IF(D680=0,\"\",SUM($D$2:D680))","v":""},null,"بنت",3]
[null,{"$f":"IF(AND(ورقة2!$H$2=ورقة1!I681,ورقة2!$F$2=ورقة1!H681,ورقة1!G681=\"ولد\"),1,0)","v":0},{"$f":"IF(B681=0,\"\",SUM($B$2:B681))","v":""},{"$f":"IF(AND(ورقة2!$H$2=ورقة1!I681,ورقة2!$F$2=ورقة1!H681,ورقة1!G681=\"بنت\"),1,0)","v":0},{"$f":"IF(D681=0,\"\",SUM($D$2:D681))","v":""},null,"بنت",3]
[null,{"$f":"IF(AND(ورقة2!$H$2=ورقة1!I682,ورقة2!$F$2=ورقة1!H682,ورقة1!G682=\"ولد\"),1,0)","v":0},{"$f":"IF(B682=0,\"\",SUM($B$2:B682))","v":""},{"$f":"IF(AND(ورقة2!$H$2=ورقة1!I682,ورقة2!$F$2=ورقة1!H682,ورقة1!G682=\"بنت\"),1,0)","v":0},{"$f":"IF(D682=0,\"\",SUM($D$2:D682))","v":""},null,"بنت",3]
[null,{"$f":"IF(AND(ورقة2!$H$2=ورقة1!I683,ورقة2!$F$2=ورقة1!H683,ورقة1!G683=\"ولد\"),1,0)","v":0},{"$f":"IF(B683=0,\"\",SUM($B$2:B683))","v":""},{"$f":"IF(AND(ورقة2!$H$2=ورقة1!I683,ورقة2!$F$2=ورقة1!H683,ورقة1!G683=\"بنت\"),1,0)","v":0},{"$f":"IF(D683=0,\"\",SUM($D$2:D683))","v":""},null,"بنت",3]
[null,{"$f":"IF(AND(ورقة2!$H$2=ورقة1!I684,ورقة2!$F$2=ورقة1!H684,ورقة1!G684=\"ولد\"),1,0)","v":0},{"$f":"IF(B684=0,\"\",SUM($B$2:B684))","v":""},{"$f":"IF(AND(ورقة2!$H$2=ورقة1!I684,ورقة2!$F$2=ورقة1!H684,ورقة1!G684=\"بنت\"),1,0)","v":0},{"$f":"IF(D684=0,\"\",SUM($D$2:D684))","v":""},null,"بنت",3]
[null,{"$f":"IF(AND(ورقة2!$H$2=ورقة1!I685,ورقة2!$F$2=ورقة1!H685,ورقة1!G685=\"ولد\"),1,0)","v":0},{"$f":"IF(B685=0,\"\",SUM($B$2:B685))","v":""},{"$f":"IF(AND(ورقة2!$H$2=ورقة1!I685,ورقة2!$F$2=ورقة1!H685,ورقة1!G685=\"بنت\"),1,0)","v":0},{"$f":"IF(D685=0,\"\",SUM($D$2:D685))","v":""},null,"بنت",3]
[null,{"$f":"IF(AND(ورقة2!$H$2=ورقة1!I686,ورقة2!$F$2=ورقة1!H686,ورقة1!G686=\"ولد\"),1,0)","v":0},{"$f":"IF(B686=0,\"\",SUM($B$2:B686))","v":""},{"$f":"IF(AND(ورقة2!$H$2=ورقة1!I686,ورقة2!$F$2=ورقة1!H686,ورقة1!G686=\"بنت\"),1,0)","v":0},{"$f":"IF(D686=0,\"\",SUM($D$2:D686))","v":""},null,"بنت",3]
[null,{"$f":"IF(AND(ورقة2!$H$2=ورقة1!I687,ورقة2!$F$2=ورقة1!H687,ورقة1!G687=\"ولد\"),1,0)","v":0},{"$f":"IF(B687=0,\"\",SUM($B$2:B687))","v":""},{"$f":"IF(AND(ورقة2!$H$2=ورقة1!I687,ورقة2!$F$2=ورقة1!H687,ورقة1!G687=\"بنت\"),1,0)","v":0},{"$f":"IF(D687=0,\"\",SUM($D$2:D687))","v":""},null,"بنت",3]
[null,{"$f":"IF(AND(ورقة2!$H$2=ورقة1!I688,ورقة2!$F$2=ورقة1!H688,ورقة1!G688=\"ولد\"),1,0)","v":0},{"$f":"IF(B688=0,\"\",SUM($B$2:B688))","v":""},{"$f":"IF(AND(ورقة2!$H$2=ورقة1!I688,ورقة2!$F$2=ورقة1!H688,ورقة1!G688=\"بنت\"),1,0)","v":0},{"$f":"IF(D688=0,\"\",SUM($D$2:D688))","v":""},null,"بنت",3]
[null,{"$f":"IF(AND(ورقة2!$H$2=ورقة1!I689,ورقة2!$F$2=ورقة1!H689,ورقة1!G689=\"ولد\"),1,0)","v":0},{"$f":"IF(B689=0,\"\",SUM($B$2:B689))","v":""},{"$f":"IF(AND(ورقة2!$H$2=ورقة1!I689,ورقة2!$F$2=ورقة1!H689,ورقة1!G689=\"بنت\"),1,0)","v":0},{"$f":"IF(D689=0,\"\",SUM($D$2:D689))","v":""},null,"بنت",3]
[null,{"$f":"IF(AND(ورقة2!$H$2=ورقة1!I690,ورقة2!$F$2=ورقة1!H690,ورقة1!G690=\"ولد\"),1,0)","v":0},{"$f":"IF(B690=0,\"\",SUM($B$2:B690))","v":""},{"$f":"IF(AND(ورقة2!$H$2=ورقة1!I690,ورقة2!$F$2=ورقة1!H690,ورقة1!G690=\"بنت\"),1,0)","v":0},{"$f":"IF(D690=0,\"\",SUM($D$2:D690))","v":""},null,"بنت",3]
[null,{"$f":"IF(AND(ورقة2!$H$2=ورقة1!I691,ورقة2!$F$2=ورقة1!H691,ورقة1!G691=\"ولد\"),1,0)","v":0},{"$f":"IF(B691=0,\"\",SUM($B$2:B691))","v":""},{"$f":"IF(AND(ورقة2!$H$2=ورقة1!I691,ورقة2!$F$2=ورقة1!H691,ورقة1!G691=\"بنت\"),1,0)","v":0},{"$f":"IF(D691=0,\"\",SUM($D$2:D691))","v":""},null,"بنت",3]
[null,{"$f":"IF(AND(ورقة2!$H$2=ورقة1!I692,ورقة2!$F$2=ورقة1!H692,ورقة1!G692=\"ولد\"),1,0)","v":0},{"$f":"IF(B692=0,\"\",SUM($B$2:B692))","v":""},{"$f":"IF(AND(ورقة2!$H$2=ورقة1!I692,ورقة2!$F$2=ورقة1!H692,ورقة1!G692=\"بنت\"),1,0)","v":0},{"$f":"IF(D692=0,\"\",SUM($D$2:D692))","v":""},null,"بنت",3]
[null,{"$f":"IF(AND(ورقة2!$H$2=ورقة1!I693,ورقة2!$F$2=ورقة1!H693,ورقة1!G693=\"ولد\"),1,0)","v":0},{"$f":"IF(B693=0,\"\",SUM($B$2:B693))","v":""},{"$f":"IF(AND(ورقة2!$H$2=ورقة1!I693,ورقة2!$F$2=ورقة1!H693,ورقة1!G693=\"بنت\"),1,0)","v":0},{"$f":"IF(D693=0,\"\",SUM($D$2:D693))","v":""},null,"بنت",3]
[null,{"$f":"IF(AND(ورقة2!$H$2=ورقة1!I694,ورقة2!$F$2=ورقة1!H694,ورقة1!G694=\"ولد\"),1,0)","v":0},{"$f":"IF(B694=0,\"\",SUM($B$2:B694))","v":""},{"$f":"IF(AND(ورقة2!$H$2=ورقة1!I694,ورقة2!$F$2=ورقة1!H694,ورقة1!G694=\"بنت\"),1,0)","v":0},{"$f":"IF(D694=0,\"\",SUM($D$2:D694))","v":""},null,"بنت",3]
[null,{"$f":"IF(AND(ورقة2!$H$2=ورقة1!I695,ورقة2!$F$2=ورقة1!H695,ورقة1!G695=\"ولد\"),1,0)","v":0},{"$f":"IF(B695=0,\"\",SUM($B$2:B695))","v":""},{"$f":"IF(AND(ورقة2!$H$2=ورقة1!I695,ورقة2!$F$2=ورقة1!H695,ورقة1!G695=\"بنت\"),1,0)","v":0},{"$f":"IF(D695=0,\"\",SUM($D$2:D695))","v":""},null,"بنت",3]
[null,{"$f":"IF(AND(ورقة2!$H$2=ورقة1!I696,ورقة2!$F$2=ورقة1!H696,ورقة1!G696=\"ولد\"),1,0)","v":0},{"$f":"IF(B696=0,\"\",SUM($B$2:B696))","v":""},{"$f":"IF(AND(ورقة2!$H$2=ورقة1!I696,ورقة2!$F$2=ورقة1!H696,ورقة1!G696=\"بنت\"),1,0)","v":0},{"$f":"IF(D696=0,\"\",SUM($D$2:D696))","v":""},null,"بنت",3]
[null,{"$f":"IF(AND(ورقة2!$H$2=ورقة1!I697,ورقة2!$F$2=ورقة1!H697,ورقة1!G697=\"ولد\"),1,0)","v":0},{"$f":"IF(B697=0,\"\",SUM($B$2:B697))","v":""},{"$f":"IF(AND(ورقة2!$H$2=ورقة1!I697,ورقة2!$F$2=ورقة1!H697,ورقة1!G697=\"بنت\"),1,0)","v":0},{"$f":"IF(D697=0,\"\",SUM($D$2:D697))","v":""},null,"بنت",3]
[null,{"$f":"IF(AND(ورقة2!$H$2=ورقة1!I698,ورقة2!$F$2=ورقة1!H698,ورقة1!G698=\"ولد\"),1,0)","v":0},{"$f":"IF(B698=0,\"\",SUM($B$2:B698))","v":""},{"$f":"IF(AND(ورقة2!$H$2=ورقة1!I698,ورقة2!$F$2=ورقة1!H698,ورقة1!G698=\"بنت\"),1,0)","v":0},{"$f":"IF(D698=0,\"\",SUM($D$2:D698))","v":""},null,"بنت",3]
[null,{"$f":"IF(AND(ورقة2!$H$2=ورقة1!I699,ورقة2!$F$2=ورقة1!H699,ورقة1!G699=\"ولد\"),1,0)","v":0},{"$f":"IF(B699=0,\"\",SUM($B$2:B699))","v":""},{"$f":"IF(AND(ورقة2!$H$2=ورقة1!I699,ورقة2!$F$2=ورقة1!H699,ورقة1!G699=\"بنت\"),1,0)","v":0},{"$f":"IF(D699=0,\"\",SUM($D$2:D699))","v":""},null,"بنت",3]
[null,{"$f":"IF(AND(ورقة2!$H$2=ورقة1!I700,ورقة2!$F$2=ورقة1!H700,ورقة1!G700=\"ولد\"),1,0)","v":0},{"$f":"IF(B700=0,\"\",SUM($B$2:B700))","v":""},{"$f":"IF(AND(ورقة2!$H$2=ورقة1!I700,ورقة2!$F$2=ورقة1!H700,ورقة1!G700=\"بنت\"),1,0)","v":0},{"$f":"IF(D700=0,\"\",SUM($D$2:D700))","v":""},null,"بنت",3]
[null,{"$f":"IF(AND(ورقة2!$H$2=ورقة1!I701,ورقة2!$F$2=ورقة1!H701,ورقة1!G701=\"ولد\"),1,0)","v":0},{"$f":"IF(B701=0,\"\",SUM($B$2:B701))","v":""},{"$f":"IF(AND(ورقة2!$H$2=ورقة1!I701,ورقة2!$F$2=ورقة1!H701,ورقة1!G701=\"بنت\"),1,0)","v":0},{"$f":"IF(D701=0,\"\",SUM($D$2:D701))","v":""},null,"بنت",3]
[null,{"$f":"IF(AND(ورقة2!$H$2=ورقة1!I702,ورقة2!$F$2=ورقة1!H702,ورقة1!G702=\"ولد\"),1,0)","v":0},{"$f":"IF(B702=0,\"\",SUM($B$2:B702))","v":""},{"$f":"IF(AND(ورقة2!$H$2=ورقة1!I702,ورقة2!$F$2=ورقة1!H702,ورقة1!G702=\"بنت\"),1,0)","v":0},{"$f":"IF(D702=0,\"\",SUM($D$2:D702))","v":""},null,"بنت",3]
[null,{"$f":"IF(AND(ورقة2!$H$2=ورقة1!I703,ورقة2!$F$2=ورقة1!H703,ورقة1!G703=\"ولد\"),1,0)","v":0},{"$f":"IF(B703=0,\"\",SUM($B$2:B703))","v":""},{"$f":"IF(AND(ورقة2!$H$2=ورقة1!I703,ورقة2!$F$2=ورقة1!H703,ورقة1!G703=\"بنت\"),1,0)","v":0},{"$f":"IF(D703=0,\"\",SUM($D$2:D703))","v":""},null,"بنت",3]
[null,{"$f":"IF(AND(ورقة2!$H$2=ورقة1!I704,ورقة2!$F$2=ورقة1!H704,ورقة1!G704=\"ولد\"),1,0)","v":0},{"$f":"IF(B704=0,\"\",SUM($B$2:B704))","v":""},{"$f":"IF(AND(ورقة2!$H$2=ورقة1!I704,ورقة2!$F$2=ورقة1!H704,ورقة1!G704=\"بنت\"),1,0)","v":0},{"$f":"IF(D704=0,\"\",SUM($D$2:D704))","v":""},null,"بنت",3]
[null,{"$f":"IF(AND(ورقة2!$H$2=ورقة1!I705,ورقة2!$F$2=ورقة1!H705,ورقة1!G705=\"ولد\"),1,0)","v":0},{"$f":"IF(B705=0,\"\",SUM($B$2:B705))","v":""},{"$f":"IF(AND(ورقة2!$H$2=ورقة1!I705,ورقة2!$F$2=ورقة1!H705,ورقة1!G705=\"بنت\"),1,0)","v":0},{"$f":"IF(D705=0,\"\",SUM($D$2:D705))","v":""},null,"بنت",3]
[null,{"$f":"IF(AND(ورقة2!$H$2=ورقة1!I706,ورقة2!$F$2=ورقة1!H706,ورقة1!G706=\"ولد\"),1,0)","v":0},{"$f":"IF(B706=0,\"\",SUM($B$2:B706))","v":""},{"$f":"IF(AND(ورقة2!$H$2=ورقة1!I706,ورقة2!$F$2=ورقة1!H706,ورقة1!G706=\"بنت\"),1,0)","v":0},{"$f":"IF(D706=0,\"\",SUM($D$2:D706))","v":""},null,"بنت",3]
[null,{"$f":"IF(AND(ورقة2!$H$2=ورقة1!I707,ورقة2!$F$2=ورقة1!H707,ورقة1!G707=\"ولد\"),1,0)","v":0},{"$f":"IF(B707=0,\"\",SUM($B$2:B707))","v":""},{"$f":"IF(AND(ورقة2!$H$2=ورقة1!I707,ورقة2!$F$2=ورقة1!H707,ورقة1!G707=\"بنت\"),1,0)","v":0},{"$f":"IF(D707=0,\"\",SUM($D$2:D707))","v":""},null,"بنت",3]
[null,{"$f":"IF(AND(ورقة2!$H$2=ورقة1!I708,ورقة2!$F$2=ورقة1!H708,ورقة1!G708=\"ولد\"),1,0)","v":0},{"$f":"IF(B708=0,\"\",SUM($B$2:B708))","v":""},{"$f":"IF(AND(ورقة2!$H$2=ورقة1!I708,ورقة2!$F$2=ورقة1!H708,ورقة1!G708=\"بنت\"),1,0)","v":0},{"$f":"IF(D708=0,\"\",SUM($D$2:D708))","v":""},null,"بنت",3]
[null,{"$f":"IF(AND(ورقة2!$H$2=ورقة1!I709,ورقة2!$F$2=ورقة1!H709,ورقة1!G709=\"ولد\"),1,0)","v":0},{"$f":"IF(B709=0,\"\",SUM($B$2:B709))","v":""},{"$f":"IF(AND(ورقة2!$H$2=ورقة1!I709,ورقة2!$F$2=ورقة1!H709,ورقة1!G709=\"بنت\"),1,0)","v":0},{"$f":"IF(D709=0,\"\",SUM($D$2:D709))","v":""},null,"بنت",3]
[null,{"$f":"IF(AND(ورقة2!$H$2=ورقة1!I710,ورقة2!$F$2=ورقة1!H710,ورقة1!G710=\"ولد\"),1,0)","v":0},{"$f":"IF(B710=0,\"\",SUM($B$2:B710))","v":""},{"$f":"IF(AND(ورقة2!$H$2=ورقة1!I710,ورقة2!$F$2=ورقة1!H710,ورقة1!G710=\"بنت\"),1,0)","v":0},{"$f":"IF(D710=0,\"\",SUM($D$2:D710))","v":""},null,"بنت",3]
[null,{"$f":"IF(AND(ورقة2!$H$2=ورقة1!I711,ورقة2!$F$2=ورقة1!H711,ورقة1!G711=\"ولد\"),1,0)","v":0},{"$f":"IF(B711=0,\"\",SUM($B$2:B711))","v":""},{"$f":"IF(AND(ورقة2!$H$2=ورقة1!I711,ورقة2!$F$2=ورقة1!H711,ورقة1!G711=\"بنت\"),1,0)","v":0},{"$f":"IF(D711=0,\"\",SUM($D$2:D711))","v":""},null,"بنت",3]
[null,{"$f":"IF(AND(ورقة2!$H$2=ورقة1!I712,ورقة2!$F$2=ورقة1!H712,ورقة1!G712=\"ولد\"),1,0)","v":0},{"$f":"IF(B712=0,\"\",SUM($B$2:B712))","v":""},{"$f":"IF(AND(ورقة2!$H$2=ورقة1!I712,ورقة2!$F$2=ورقة1!H712,ورقة1!G712=\"بنت\"),1,0)","v":0},{"$f":"IF(D712=0,\"\",SUM($D$2:D712))","v":""},null,"بنت",3]
[null,{"$f":"IF(AND(ورقة2!$H$2=ورقة1!I713,ورقة2!$F$2=ورقة1!H713,ورقة1!G713=\"ولد\"),1,0)","v":0},{"$f":"IF(B713=0,\"\",SUM($B$2:B713))","v":""},{"$f":"IF(AND(ورقة2!$H$2=ورقة1!I713,ورقة2!$F$2=ورقة1!H713,ورقة1!G713=\"بنت\"),1,0)","v":0},{"$f":"IF(D713=0,\"\",SUM($D$2:D713))","v":""},null,"بنت",3]
[null,{"$f":"IF(AND(ورقة2!$H$2=ورقة1!I714,ورقة2!$F$2=ورقة1!H714,ورقة1!G714=\"ولد\"),1,0)","v":0},{"$f":"IF(B714=0,\"\",SUM($B$2:B714))","v":""},{"$f":"IF(AND(ورقة2!$H$2=ورقة1!I714,ورقة2!$F$2=ورقة1!H714,ورقة1!G714=\"بنت\"),1,0)","v":0},{"$f":"IF(D714=0,\"\",SUM($D$2:D714))","v":""},null,"بنت",3]
[null,{"$f":"IF(AND(ورقة2!$H$2=ورقة1!I715,ورقة2!$F$2=ورقة1!H715,ورقة1!G715=\"ولد\"),1,0)","v":0},{"$f":"IF(B715=0,\"\",SUM($B$2:B715))","v":""},{"$f":"IF(AND(ورقة2!$H$2=ورقة1!I715,ورقة2!$F$2=ورقة1!H715,ورقة1!G715=\"بنت\"),1,0)","v":0},{"$f":"IF(D715=0,\"\",SUM($D$2:D715))","v":""},null,"بنت",3]
[null,{"$f":"IF(AND(ورقة2!$H$2=ورقة1!I716,ورقة2!$F$2=ورقة1!H716,ورقة1!G716=\"ولد\"),1,0)","v":0},{"$f":"IF(B716=0,\"\",SUM($B$2:B716))","v":""},{"$f":"IF(AND(ورقة2!$H$2=ورقة1!I716,ورقة2!$F$2=ورقة1!H716,ورقة1!G716=\"بنت\"),1,0)","v":0},{"$f":"IF(D716=0,\"\",SUM($D$2:D716))","v":""},null,"بنت",3]
[null,{"$f":"IF(AND(ورقة2!$H$2=ورقة1!I717,ورقة2!$F$2=ورقة1!H717,ورقة1!G717=\"ولد\"),1,0)","v":0},{"$f":"IF(B717=0,\"\",SUM($B$2:B717))","v":""},{"$f":"IF(AND(ورقة2!$H$2=ورقة1!I717,ورقة2!$F$2=ورقة1!H717,ورقة1!G717=\"بنت\"),1,0)","v":0},{"$f":"IF(D717=0,\"\",SUM($D$2:D717))","v":""},null,"بنت",3]
[null,{"$f":"IF(AND(ورقة2!$H$2=ورقة1!I718,ورقة2!$F$2=ورقة1!H718,ورقة1!G718=\"ولد\"),1,0)","v":0},{"$f":"IF(B718=0,\"\",SUM($B$2:B718))","v":""},{"$f":"IF(AND(ورقة2!$H$2=ورقة1!I718,ورقة2!$F$2=ورقة1!H718,ورقة1!G718=\"بنت\"),1,0)","v":0},{"$f":"IF(D718=0,\"\",SUM($D$2:D718))","v":""},null,"بنت",3]
[null,{"$f":"IF(AND(ورقة2!$H$2=ورقة1!I719,ورقة2!$F$2=ورقة1!H719,ورقة1!G719=\"ولد\"),1,0)","v":0},{"$f":"IF(B719=0,\"\",SUM($B$2:B719))","v":""},{"$f":"IF(AND(ورقة2!$H$2=ورقة1!I719,ورقة2!$F$2=ورقة1!H719,ورقة1!G719=\"بنت\"),1,0)","v":0},{"$f":"IF(D719=0,\"\",SUM($D$2:D719))","v":""},null,"بنت",3]
[null,{"$f":"IF(AND(ورقة2!$H$2=ورقة1!I720,ورقة2!$F$2=ورقة1!H720,ورقة1!G720=\"ولد\"),1,0)","v":0},{"$f":"IF(B720=0,\"\",SUM($B$2:B720))","v":""},{"$f":"IF(AND(ورقة2!$H$2=ورقة1!I720,ورقة2!$F$2=ورقة1!H720,ورقة1!G720=\"بنت\"),1,0)","v":0},{"$f":"IF(D720=0,\"\",SUM($D$2:D720))","v":""},null,"بنت",3]
[null,{"$f":"IF(AND(ورقة2!$H$2=ورقة1!I721,ورقة2!$F$2=ورقة1!H721,ورقة1!G721=\"ولد\"),1,0)","v":0},{"$f":"IF(B721=0,\"\",SUM($B$2:B721))","v":""},{"$f":"IF(AND(ورقة2!$H$2=ورقة1!I721,ورقة2!$F$2=ورقة1!H721,ورقة1!G721=\"بنت\"),1,0)","v":0},{"$f":"IF(D721=0,\"\",SUM($D$2:D721))","v":""},null,"بنت",3]
[null,{"$f":"IF(AND(ورقة2!$H$2=ورقة1!I722,ورقة2!$F$2=ورقة1!H722,ورقة1!G722=\"ولد\"),1,0)","v":0},{"$f":"IF(B722=0,\"\",SUM($B$2:B722))","v":""},{"$f":"IF(AND(ورقة2!$H$2=ورقة1!I722,ورقة2!$F$2=ورقة1!H722,ورقة1!G722=\"بنت\"),1,0)","v":0},{"$f":"IF(D722=0,\"\",SUM($D$2:D722))","v":""},null,"بنت",3]
[null,{"$f":"IF(AND(ورقة2!$H$2=ورقة1!I723,ورقة2!$F$2=ورقة1!H723,ورقة1!G723=\"ولد\"),1,0)","v":0},{"$f":"IF(B723=0,\"\",SUM($B$2:B723))","v":""},{"$f":"IF(AND(ورقة2!$H$2=ورقة1!I723,ورقة2!$F$2=ورقة1!H723,ورقة1!G723=\"بنت\"),1,0)","v":0},{"$f":"IF(D723=0,\"\",SUM($D$2:D723))","v":""},null,"بنت",3]
[null,{"$f":"IF(AND(ورقة2!$H$2=ورقة1!I724,ورقة2!$F$2=ورقة1!H724,ورقة1!G724=\"ولد\"),1,0)","v":0},{"$f":"IF(B724=0,\"\",SUM($B$2:B724))","v":""},{"$f":"IF(AND(ورقة2!$H$2=ورقة1!I724,ورقة2!$F$2=ورقة1!H724,ورقة1!G724=\"بنت\"),1,0)","v":0},{"$f":"IF(D724=0,\"\",SUM($D$2:D724))","v":""},null,"بنت",3]
[null,{"$f":"IF(AND(ورقة2!$H$2=ورقة1!I725,ورقة2!$F$2=ورقة1!H725,ورقة1!G725=\"ولد\"),1,0)","v":0},{"$f":"IF(B725=0,\"\",SUM($B$2:B725))","v":""},{"$f":"IF(AND(ورقة2!$H$2=ورقة1!I725,ورقة2!$F$2=ورقة1!H725,ورقة1!G725=\"بنت\"),1,0)","v":0},{"$f":"IF(D725=0,\"\",SUM($D$2:D725))","v":""},null,"بنت",3]
[null,{"$f":"IF(AND(ورقة2!$H$2=ورقة1!I726,ورقة2!$F$2=ورقة1!H726,ورقة1!G726=\"ولد\"),1,0)","v":0},{"$f":"IF(B726=0,\"\",SUM($B$2:B726))","v":""},{"$f":"IF(AND(ورقة2!$H$2=ورقة1!I726,ورقة2!$F$2=ورقة1!H726,ورقة1!G726=\"بنت\"),1,0)","v":0},{"$f":"IF(D726=0,\"\",SUM($D$2:D726))","v":""},null,"بنت",3]
[null,{"$f":"IF(AND(ورقة2!$H$2=ورقة1!I727,ورقة2!$F$2=ورقة1!H727,ورقة1!G727=\"ولد\"),1,0)","v":0},{"$f":"IF(B727=0,\"\",SUM($B$2:B727))","v":""},{"$f":"IF(AND(ورقة2!$H$2=ورقة1!I727,ورقة2!$F$2=ورقة1!H727,ورقة1!G727=\"بنت\"),1,0)","v":0},{"$f":"IF(D727=0,\"\",SUM($D$2:D727))","v":""},null,"بنت",3]
[null,{"$f":"IF(AND(ورقة2!$H$2=ورقة1!I728,ورقة2!$F$2=ورقة1!H728,ورقة1!G728=\"ولد\"),1,0)","v":0},{"$f":"IF(B728=0,\"\",SUM($B$2:B728))","v":""},{"$f":"IF(AND(ورقة2!$H$2=ورقة1!I728,ورقة2!$F$2=ورقة1!H728,ورقة1!G728=\"بنت\"),1,0)","v":0},{"$f":"IF(D728=0,\"\",SUM($D$2:D728))","v":""},null,"بنت",3]
[null,{"$f":"IF(AND(ورقة2!$H$2=ورقة1!I729,ورقة2!$F$2=ورقة1!H729,ورقة1!G729=\"ولد\"),1,0)","v":0},{"$f":"IF(B729=0,\"\",SUM($B$2:B729))","v":""},{"$f":"IF(AND(ورقة2!$H$2=ورقة1!I729,ورقة2!$F$2=ورقة1!H729,ورقة1!G729=\"بنت\"),1,0)","v":0},{"$f":"IF(D729=0,\"\",SUM($D$2:D729))","v":""},null,"بنت",3]
[null,{"$f":"IF(AND(ورقة2!$H$2=ورقة1!I730,ورقة2!$F$2=ورقة1!H730,ورقة1!G730=\"ولد\"),1,0)","v":0},{"$f":"IF(B730=0,\"\",SUM($B$2:B730))","v":""},{"$f":"IF(AND(ورقة2!$H$2=ورقة1!I730,ورقة2!$F$2=ورقة1!H730,ورقة1!G730=\"بنت\"),1,0)","v":0},{"$f":"IF(D730=0,\"\",SUM($D$2:D730))","v":""},null,"بنت",3]
[null,{"$f":"IF(AND(ورقة2!$H$2=ورقة1!I731,ورقة2!$F$2=ورقة1!H731,ورقة1!G731=\"ولد\"),1,0)","v":0},{"$f":"IF(B731=0,\"\",SUM($B$2:B731))","v":""},{"$f":"IF(AND(ورقة2!$H$2=ورقة1!I731,ورقة2!$F$2=ورقة1!H731,ورقة1!G731=\"بنت\"),1,0)","v":0},{"$f":"IF(D731=0,\"\",SUM($D$2:D731))","v":""},null,"بنت",3]
[null,{"$f":"IF(AND(ورقة2!$H$2=ورقة1!I732,ورقة2!$F$2=ورقة1!H732,ورقة1!G732=\"ولد\"),1,0)","v":0},{"$f":"IF(B732=0,\"\",SUM($B$2:B732))","v":""},{"$f":"IF(AND(ورقة2!$H$2=ورقة1!I732,ورقة2!$F$2=ورقة1!H732,ورقة1!G732=\"بنت\"),1,0)","v":0},{"$f":"IF(D732=0,\"\",SUM($D$2:D732))","v":""},null,"بنت",3]
[null,{"$f":"IF(AND(ورقة2!$H$2=ورقة1!I733,ورقة2!$F$2=ورقة1!H733,ورقة1!G733=\"ولد\"),1,0)","v":0},{"$f":"IF(B733=0,\"\",SUM($B$2:B733))","v":""},{"$f":"IF(AND(ورقة2!$H$2=ورقة1!I733,ورقة2!$F$2=ورقة1!H733,ورقة1!G733=\"بنت\"),1,0)","v":0},{"$f":"IF(D733=0,\"\",SUM($D$2:D733))","v":""},null,"بنت",3]
[null,{"$f":"IF(AND(ورقة2!$H$2=ورقة1!I734,ورقة2!$F$2=ورقة1!H734,ورقة1!G734=\"ولد\"),1,0)","v":0},{"$f":"IF(B734=0,\"\",SUM($B$2:B734))","v":""},{"$f":"IF(AND(ورقة2!$H$2=ورقة1!I734,ورقة2!$F$2=ورقة1!H734,ورقة1!G734=\"بنت\"),1,0)","v":0},{"$f":"IF(D734=0,\"\",SUM($D$2:D734))","v":""},null,"بنت",3]
[null,{"$f":"IF(AND(ورقة2!$H$2=ورقة1!I735,ورقة2!$F$2=ورقة1!H735,ورقة1!G735=\"ولد\"),1,0)","v":0},{"$f":"IF(B735=0,\"\",SUM($B$2:B735))","v":""},{"$f":"IF(AND(ورقة2!$H$2=ورقة1!I735,ورقة2!$F$2=ورقة1!H735,ورقة1!G735=\"بنت\"),1,0)","v":0},{"$f":"IF(D735=0,\"\",SUM($D$2:D735))","v":""},null,"بنت",3]
[null,{"$f":"IF(AND(ورقة2!$H$2=ورقة1!I736,ورقة2!$F$2=ورقة1!H736,ورقة1!G736=\"ولد\"),1,0)","v":0},{"$f":"IF(B736=0,\"\",SUM($B$2:B736))","v":""},{"$f":"IF(AND(ورقة2!$H$2=ورقة1!I736,ورقة2!$F$2=ورقة1!H736,ورقة1!G736=\"بنت\"),1,0)","v":0},{"$f":"IF(D736=0,\"\",SUM($D$2:D736))","v":""},null,"بنت",3]
[null,{"$f":"IF(AND(ورقة2!$H$2=ورقة1!I737,ورقة2!$F$2=ورقة1!H737,ورقة1!G737=\"ولد\"),1,0)","v":0},{"$f":"IF(B737=0,\"\",SUM($B$2:B737))","v":""},{"$f":"IF(AND(ورقة2!$H$2=ورقة1!I737,ورقة2!$F$2=ورقة1!H737,ورقة1!G737=\"بنت\"),1,0)","v":0},{"$f":"IF(D737=0,\"\",SUM($D$2:D737))","v":""},null,"بنت",3]
[null,{"$f":"IF(AND(ورقة2!$H$2=ورقة1!I738,ورقة2!$F$2=ورقة1!H738,ورقة1!G738=\"ولد\"),1,0)","v":0},{"$f":"IF(B738=0,\"\",SUM($B$2:B738))","v":""},{"$f":"IF(AND(ورقة2!$H$2=ورقة1!I738,ورقة2!$F$2=ورقة1!H738,ورقة1!G738=\"بنت\"),1,0)","v":0},{"$f":"IF(D738=0,\"\",SUM($D$2:D738))","v":""},null,"بنت",3]
[null,{"$f":"IF(AND(ورقة2!$H$2=ورقة1!I739,ورقة2!$F$2=ورقة1!H739,ورقة1!G739=\"ولد\"),1,0)","v":0},{"$f":"IF(B739=0,\"\",SUM($B$2:B739))","v":""},{"$f":"IF(AND(ورقة2!$H$2=ورقة1!I739,ورقة2!$F$2=ورقة1!H739,ورقة1!G739=\"بنت\"),1,0)","v":0},{"$f":"IF(D739=0,\"\",SUM($D$2:D739))","v":""},null,"بنت",3]
[null,{"$f":"IF(AND(ورقة2!$H$2=ورقة1!I740,ورقة2!$F$2=ورقة1!H740,ورقة1!G740=\"ولد\"),1,0)","v":0},{"$f":"IF(B740=0,\"\",SUM($B$2:B740))","v":""},{"$f":"IF(AND(ورقة2!$H$2=ورقة1!I740,ورقة2!$F$2=ورقة1!H740,ورقة1!G740=\"بنت\"),1,0)","v":0},{"$f":"IF(D740=0,\"\",SUM($D$2:D740))","v":""},null,"بنت",3]
[null,{"$f":"IF(AND(ورقة2!$H$2=ورقة1!I741,ورقة2!$F$2=ورقة1!H741,ورقة1!G741=\"ولد\"),1,0)","v":0},{"$f":"IF(B741=0,\"\",SUM($B$2:B741))","v":""},{"$f":"IF(AND(ورقة2!$H$2=ورقة1!I741,ورقة2!$F$2=ورقة1!H741,ورقة1!G741=\"بنت\"),1,0)","v":0},{"$f":"IF(D741=0,\"\",SUM($D$2:D741))","v":""},null,"بنت",3]
[null,{"$f":"IF(AND(ورقة2!$H$2=ورقة1!I742,ورقة2!$F$2=ورقة1!H742,ورقة1!G742=\"ولد\"),1,0)","v":0},{"$f":"IF(B742=0,\"\",SUM($B$2:B742))","v":""},{"$f":"IF(AND(ورقة2!$H$2=ورقة1!I742,ورقة2!$F$2=ورقة1!H742,ورقة1!G742=\"بنت\"),1,0)","v":0},{"$f":"IF(D742=0,\"\",SUM($D$2:D742))","v":""},null,"بنت",3]
[null,{"$f":"IF(AND(ورقة2!$H$2=ورقة1!I743,ورقة2!$F$2=ورقة1!H743,ورقة1!G743=\"ولد\"),1,0)","v":0},{"$f":"IF(B743=0,\"\",SUM($B$2:B743))","v":""},{"$f":"IF(AND(ورقة2!$H$2=ورقة1!I743,ورقة2!$F$2=ورقة1!H743,ورقة1!G743=\"بنت\"),1,0)","v":0},{"$f":"IF(D743=0,\"\",SUM($D$2:D743))","v":""},null,"بنت",3]
[null,{"$f":"IF(AND(ورقة2!$H$2=ورقة1!I744,ورقة2!$F$2=ورقة1!H744,ورقة1!G744=\"ولد\"),1,0)","v":0},{"$f":"IF(B744=0,\"\",SUM($B$2:B744))","v":""},{"$f":"IF(AND(ورقة2!$H$2=ورقة1!I744,ورقة2!$F$2=ورقة1!H744,ورقة1!G744=\"بنت\"),1,0)","v":0},{"$f":"IF(D744=0,\"\",SUM($D$2:D744))","v":""},null,"بنت",3]
[null,{"$f":"IF(AND(ورقة2!$H$2=ورقة1!I745,ورقة2!$F$2=ورقة1!H745,ورقة1!G745=\"ولد\"),1,0)","v":0},{"$f":"IF(B745=0,\"\",SUM($B$2:B745))","v":""},{"$f":"IF(AND(ورقة2!$H$2=ورقة1!I745,ورقة2!$F$2=ورقة1!H745,ورقة1!G745=\"بنت\"),1,0)","v":0},{"$f":"IF(D745=0,\"\",SUM($D$2:D745))","v":""},null,"بنت",3]
[null,{"$f":"IF(AND(ورقة2!$H$2=ورقة1!I746,ورقة2!$F$2=ورقة1!H746,ورقة1!G746=\"ولد\"),1,0)","v":0},{"$f":"IF(B746=0,\"\",SUM($B$2:B746))","v":""},{"$f":"IF(AND(ورقة2!$H$2=ورقة1!I746,ورقة2!$F$2=ورقة1!H746,ورقة1!G746=\"بنت\"),1,0)","v":0},{"$f":"IF(D746=0,\"\",SUM($D$2:D746))","v":""},null,"بنت",3]
[null,{"$f":"IF(AND(ورقة2!$H$2=ورقة1!I747,ورقة2!$F$2=ورقة1!H747,ورقة1!G747=\"ولد\"),1,0)","v":0},{"$f":"IF(B747=0,\"\",SUM($B$2:B747))","v":""},{"$f":"IF(AND(ورقة2!$H$2=ورقة1!I747,ورقة2!$F$2=ورقة1!H747,ورقة1!G747=\"بنت\"),1,0)","v":0},{"$f":"IF(D747=0,\"\",SUM($D$2:D747))","v":""},null,"بنت",3]
[null,{"$f":"IF(AND(ورقة2!$H$2=ورقة1!I748,ورقة2!$F$2=ورقة1!H748,ورقة1!G748=\"ولد\"),1,0)","v":0},{"$f":"IF(B748=0,\"\",SUM($B$2:B748))","v":""},{"$f":"IF(AND(ورقة2!$H$2=ورقة1!I748,ورقة2!$F$2=ورقة1!H748,ورقة1!G748=\"بنت\"),1,0)","v":0},{"$f":"IF(D748=0,\"\",SUM($D$2:D748))","v":""},null,"بنت",3]
[null,{"$f":"IF(AND(ورقة2!$H$2=ورقة1!I749,ورقة2!$F$2=ورقة1!H749,ورقة1!G749=\"ولد\"),1,0)","v":0},{"$f":"IF(B749=0,\"\",SUM($B$2:B749))","v":""},{"$f":"IF(AND(ورقة2!$H$2=ورقة1!I749,ورقة2!$F$2=ورقة1!H749,ورقة1!G749=\"بنت\"),1,0)","v":0},{"$f":"IF(D749=0,\"\",SUM($D$2:D749))","v":""},null,"بنت",3]
[null,{"$f":"IF(AND(ورقة2!$H$2=ورقة1!I750,ورقة2!$F$2=ورقة1!H750,ورقة1!G750=\"ولد\"),1,0)","v":0},{"$f":"IF(B750=0,\"\",SUM($B$2:B750))","v":""},{"$f":"IF(AND(ورقة2!$H$2=ورقة1!I750,ورقة2!$F$2=ورقة1!H750,ورقة1!G750=\"بنت\"),1,0)","v":0},{"$f":"IF(D750=0,\"\",SUM($D$2:D750))","v":""},null,"بنت",3]
[null,{"$f":"IF(AND(ورقة2!$H$2=ورقة1!I751,ورقة2!$F$2=ورقة1!H751,ورقة1!G751=\"ولد\"),1,0)","v":0},{"$f":"IF(B751=0,\"\",SUM($B$2:B751))","v":""},{"$f":"IF(AND(ورقة2!$H$2=ورقة1!I751,ورقة2!$F$2=ورقة1!H751,ورقة1!G751=\"بنت\"),1,0)","v":0},{"$f":"IF(D751=0,\"\",SUM($D$2:D751))","v":""},null,"بنت",3]
[null,{"$f":"IF(AND(ورقة2!$H$2=ورقة1!I752,ورقة2!$F$2=ورقة1!H752,ورقة1!G752=\"ولد\"),1,0)","v":0},{"$f":"IF(B752=0,\"\",SUM($B$2:B752))","v":""},{"$f":"IF(AND(ورقة2!$H$2=ورقة1!I752,ورقة2!$F$2=ورقة1!H752,ورقة1!G752=\"بنت\"),1,0)","v":0},{"$f":"IF(D752=0,\"\",SUM($D$2:D752))","v":""},null,"بنت",3]
[null,{"$f":"IF(AND(ورقة2!$H$2=ورقة1!I753,ورقة2!$F$2=ورقة1!H753,ورقة1!G753=\"ولد\"),1,0)","v":0},{"$f":"IF(B753=0,\"\",SUM($B$2:B753))","v":""},{"$f":"IF(AND(ورقة2!$H$2=ورقة1!I753,ورقة2!$F$2=ورقة1!H753,ورقة1!G753=\"بنت\"),1,0)","v":0},{"$f":"IF(D753=0,\"\",SUM($D$2:D753))","v":""},null,"بنت",3]
[null,{"$f":"IF(AND(ورقة2!$H$2=ورقة1!I754,ورقة2!$F$2=ورقة1!H754,ورقة1!G754=\"ولد\"),1,0)","v":0},{"$f":"IF(B754=0,\"\",SUM($B$2:B754))","v":""},{"$f":"IF(AND(ورقة2!$H$2=ورقة1!I754,ورقة2!$F$2=ورقة1!H754,ورقة1!G754=\"بنت\"),1,0)","v":0},{"$f":"IF(D754=0,\"\",SUM($D$2:D754))","v":""},null,"بنت",3]
[null,{"$f":"IF(AND(ورقة2!$H$2=ورقة1!I755,ورقة2!$F$2=ورقة1!H755,ورقة1!G755=\"ولد\"),1,0)","v":0},{"$f":"IF(B755=0,\"\",SUM($B$2:B755))","v":""},{"$f":"IF(AND(ورقة2!$H$2=ورقة1!I755,ورقة2!$F$2=ورقة1!H755,ورقة1!G755=\"بنت\"),1,0)","v":0},{"$f":"IF(D755=0,\"\",SUM($D$2:D755))","v":""},null,"بنت",3]
[null,{"$f":"IF(AND(ورقة2!$H$2=ورقة1!I756,ورقة2!$F$2=ورقة1!H756,ورقة1!G756=\"ولد\"),1,0)","v":0},{"$f":"IF(B756=0,\"\",SUM($B$2:B756))","v":""},{"$f":"IF(AND(ورقة2!$H$2=ورقة1!I756,ورقة2!$F$2=ورقة1!H756,ورقة1!G756=\"بنت\"),1,0)","v":0},{"$f":"IF(D756=0,\"\",SUM($D$2:D756))","v":""},null,"بنت",3]
[null,{"$f":"IF(AND(ورقة2!$H$2=ورقة1!I757,ورقة2!$F$2=ورقة1!H757,ورقة1!G757=\"ولد\"),1,0)","v":0},{"$f":"IF(B757=0,\"\",SUM($B$2:B757))","v":""},{"$f":"IF(AND(ورقة2!$H$2=ورقة1!I757,ورقة2!$F$2=ورقة1!H757,ورقة1!G757=\"بنت\"),1,0)","v":0},{"$f":"IF(D757=0,\"\",SUM($D$2:D757))","v":""},null,"بنت",3]
[null,{"$f":"IF(AND(ورقة2!$H$2=ورقة1!I758,ورقة2!$F$2=ورقة1!H758,ورقة1!G758=\"ولد\"),1,0)","v":0},{"$f":"IF(B758=0,\"\",SUM($B$2:B758))","v":""},{"$f":"IF(AND(ورقة2!$H$2=ورقة1!I758,ورقة2!$F$2=ورقة1!H758,ورقة1!G758=\"بنت\"),1,0)","v":0},{"$f":"IF(D758=0,\"\",SUM($D$2:D758))","v":""},null,"بنت",3]
[null,{"$f":"IF(AND(ورقة2!$H$2=ورقة1!I759,ورقة2!$F$2=ورقة1!H759,ورقة1!G759=\"ولد\"),1,0)","v":0},{"$f":"IF(B759=0,\"\",SUM($B$2:B759))","v":""},{"$f":"IF(AND(ورقة2!$H$2=ورقة1!I759,ورقة2!$F$2=ورقة1!H759,ورقة1!G759=\"بنت\"),1,0)","v":0},{"$f":"IF(D759=0,\"\",SUM($D$2:D759))","v":""},null,"بنت",3]
[null,{"$f":"IF(AND(ورقة2!$H$2=ورقة1!I760,ورقة2!$F$2=ورقة1!H760,ورقة1!G760=\"ولد\"),1,0)","v":0},{"$f":"IF(B760=0,\"\",SUM($B$2:B760))","v":""},{"$f":"IF(AND(ورقة2!$H$2=ورقة1!I760,ورقة2!$F$2=ورقة1!H760,ورقة1!G760=\"بنت\"),1,0)","v":0},{"$f":"IF(D760=0,\"\",SUM($D$2:D760))","v":""},null,"بنت",3]
[null,{"$f":"IF(AND(ورقة2!$H$2=ورقة1!I761,ورقة2!$F$2=ورقة1!H761,ورقة1!G761=\"ولد\"),1,0)","v":0},{"$f":"IF(B761=0,\"\",SUM($B$2:B761))","v":""},{"$f":"IF(AND(ورقة2!$H$2=ورقة1!I761,ورقة2!$F$2=ورقة1!H761,ورقة1!G761=\"بنت\"),1,0)","v":0},{"$f":"IF(D761=0,\"\",SUM($D$2:D761))","v":""},null,"بنت",3]
[null,{"$f":"IF(AND(ورقة2!$H$2=ورقة1!I762,ورقة2!$F$2=ورقة1!H762,ورقة1!G762=\"ولد\"),1,0)","v":0},{"$f":"IF(B762=0,\"\",SUM($B$2:B762))","v":""},{"$f":"IF(AND(ورقة2!$H$2=ورقة1!I762,ورقة2!$F$2=ورقة1!H762,ورقة1!G762=\"بنت\"),1,0)","v":0},{"$f":"IF(D762=0,\"\",SUM($D$2:D762))","v":""},null,"بنت",3]
[null,{"$f":"IF(AND(ورقة2!$H$2=ورقة1!I763,ورقة2!$F$2=ورقة1!H763,ورقة1!G763=\"ولد\"),1,0)","v":0},{"$f":"IF(B763=0,\"\",SUM($B$2:B763))","v":""},{"$f":"IF(AND(ورقة2!$H$2=ورقة1!I763,ورقة2!$F$2=ورقة1!H763,ورقة1!G763=\"بنت\"),1,0)","v":0},{"$f":"IF(D763=0,\"\",SUM($D$2:D763))","v":""},null,"بنت",3]
[null,{"$f":"IF(AND(ورقة2!$H$2=ورقة1!I764,ورقة2!$F$2=ورقة1!H764,ورقة1!G764=\"ولد\"),1,0)","v":0},{"$f":"IF(B764=0,\"\",SUM($B$2:B764))","v":""},{"$f":"IF(AND(ورقة2!$H$2=ورقة1!I764,ورقة2!$F$2=ورقة1!H764,ورقة1!G764=\"بنت\"),1,0)","v":0},{"$f":"IF(D764=0,\"\",SUM($D$2:D764))","v":""},null,"بنت",3]
[null,{"$f":"IF(AND(ورقة2!$H$2=ورقة1!I765,ورقة2!$F$2=ورقة1!H765,ورقة1!G765=\"ولد\"),1,0)","v":0},{"$f":"IF(B765=0,\"\",SUM($B$2:B765))","v":""},{"$f":"IF(AND(ورقة2!$H$2=ورقة1!I765,ورقة2!$F$2=ورقة1!H765,ورقة1!G765=\"بنت\"),1,0)","v":0},{"$f":"IF(D765=0,\"\",SUM($D$2:D765))","v":""},null,"بنت",3]
[null,{"$f":"IF(AND(ورقة2!$H$2=ورقة1!I766,ورقة2!$F$2=ورقة1!H766,ورقة1!G766=\"ولد\"),1,0)","v":0},{"$f":"IF(B766=0,\"\",SUM($B$2:B766))","v":""},{"$f":"IF(AND(ورقة2!$H$2=ورقة1!I766,ورقة2!$F$2=ورقة1!H766,ورقة1!G766=\"بنت\"),1,0)","v":0},{"$f":"IF(D766=0,\"\",SUM($D$2:D766))","v":""},null,"بنت",3]
[null,{"$f":"IF(AND(ورقة2!$H$2=ورقة1!I767,ورقة2!$F$2=ورقة1!H767,ورقة1!G767=\"ولد\"),1,0)","v":0},{"$f":"IF(B767=0,\"\",SUM($B$2:B767))","v":""},{"$f":"IF(AND(ورقة2!$H$2=ورقة1!I767,ورقة2!$F$2=ورقة1!H767,ورقة1!G767=\"بنت\"),1,0)","v":0},{"$f":"IF(D767=0,\"\",SUM($D$2:D767))","v":""},null,"بنت",3]
[null,{"$f":"IF(AND(ورقة2!$H$2=ورقة1!I768,ورقة2!$F$2=ورقة1!H768,ورقة1!G768=\"ولد\"),1,0)","v":0},{"$f":"IF(B768=0,\"\",SUM($B$2:B768))","v":""},{"$f":"IF(AND(ورقة2!$H$2=ورقة1!I768,ورقة2!$F$2=ورقة1!H768,ورقة1!G768=\"بنت\"),1,0)","v":0},{"$f":"IF(D768=0,\"\",SUM($D$2:D768))","v":""},null,"بنت",3]
[null,{"$f":"IF(AND(ورقة2!$H$2=ورقة1!I769,ورقة2!$F$2=ورقة1!H769,ورقة1!G769=\"ولد\"),1,0)","v":0},{"$f":"IF(B769=0,\"\",SUM($B$2:B769))","v":""},{"$f":"IF(AND(ورقة2!$H$2=ورقة1!I769,ورقة2!$F$2=ورقة1!H769,ورقة1!G769=\"بنت\"),1,0)","v":0},{"$f":"IF(D769=0,\"\",SUM($D$2:D769))","v":""},null,"بنت",3]
[null,{"$f":"IF(AND(ورقة2!$H$2=ورقة1!I770,ورقة2!$F$2=ورقة1!H770,ورقة1!G770=\"ولد\"),1,0)","v":0},{"$f":"IF(B770=0,\"\",SUM($B$2:B770))","v":""},{"$f":"IF(AND(ورقة2!$H$2=ورقة1!I770,ورقة2!$F$2=ورقة1!H770,ورقة1!G770=\"بنت\"),1,0)","v":0},{"$f":"IF(D770=0,\"\",SUM($D$2:D770))","v":""},null,"بنت",3]
[null,{"$f":"IF(AND(ورقة2!$H$2=ورقة1!I771,ورقة2!$F$2=ورقة1!H771,ورقة1!G771=\"ولد\"),1,0)","v":0},{"$f":"IF(B771=0,\"\",SUM($B$2:B771))","v":""},{"$f":"IF(AND(ورقة2!$H$2=ورقة1!I771,ورقة2!$F$2=ورقة1!H771,ورقة1!G771=\"بنت\"),1,0)","v":0},{"$f":"IF(D771=0,\"\",SUM($D$2:D771))","v":""},null,"بنت",3]
[null,{"$f":"IF(AND(ورقة2!$H$2=ورقة1!I772,ورقة2!$F$2=ورقة1!H772,ورقة1!G772=\"ولد\"),1,0)","v":0},{"$f":"IF(B772=0,\"\",SUM($B$2:B772))","v":""},{"$f":"IF(AND(ورقة2!$H$2=ورقة1!I772,ورقة2!$F$2=ورقة1!H772,ورقة1!G772=\"بنت\"),1,0)","v":0},{"$f":"IF(D772=0,\"\",SUM($D$2:D772))","v":""},null,"بنت",3]
[null,{"$f":"IF(AND(ورقة2!$H$2=ورقة1!I773,ورقة2!$F$2=ورقة1!H773,ورقة1!G773=\"ولد\"),1,0)","v":0},{"$f":"IF(B773=0,\"\",SUM($B$2:B773))","v":""},{"$f":"IF(AND(ورقة2!$H$2=ورقة1!I773,ورقة2!$F$2=ورقة1!H773,ورقة1!G773=\"بنت\"),1,0)","v":0},{"$f":"IF(D773=0,\"\",SUM($D$2:D773))","v":""},null,"بنت",3]
[null,{"$f":"IF(AND(ورقة2!$H$2=ورقة1!I774,ورقة2!$F$2=ورقة1!H774,ورقة1!G774=\"ولد\"),1,0)","v":0},{"$f":"IF(B774=0,\"\",SUM($B$2:B774))","v":""},{"$f":"IF(AND(ورقة2!$H$2=ورقة1!I774,ورقة2!$F$2=ورقة1!H774,ورقة1!G774=\"بنت\"),1,0)","v":0},{"$f":"IF(D774=0,\"\",SUM($D$2:D774))","v":""},null,"بنت",3]
[null,{"$f":"IF(AND(ورقة2!$H$2=ورقة1!I775,ورقة2!$F$2=ورقة1!H775,ورقة1!G775=\"ولد\"),1,0)","v":0},{"$f":"IF(B775=0,\"\",SUM($B$2:B775))","v":""},{"$f":"IF(AND(ورقة2!$H$2=ورقة1!I775,ورقة2!$F$2=ورقة1!H775,ورقة1!G775=\"بنت\"),1,0)","v":0},{"$f":"IF(D775=0,\"\",SUM($D$2:D775))","v":""},null,"بنت",3]
[null,{"$f":"IF(AND(ورقة2!$H$2=ورقة1!I776,ورقة2!$F$2=ورقة1!H776,ورقة1!G776=\"ولد\"),1,0)","v":0},{"$f":"IF(B776=0,\"\",SUM($B$2:B776))","v":""},{"$f":"IF(AND(ورقة2!$H$2=ورقة1!I776,ورقة2!$F$2=ورقة1!H776,ورقة1!G776=\"بنت\"),1,0)","v":0},{"$f":"IF(D776=0,\"\",SUM($D$2:D776))","v":""},null,"بنت",3]
[null,{"$f":"IF(AND(ورقة2!$H$2=ورقة1!I777,ورقة2!$F$2=ورقة1!H777,ورقة1!G777=\"ولد\"),1,0)","v":0},{"$f":"IF(B777=0,\"\",SUM($B$2:B777))","v":""},{"$f":"IF(AND(ورقة2!$H$2=ورقة1!I777,ورقة2!$F$2=ورقة1!H777,ورقة1!G777=\"بنت\"),1,0)","v":0},{"$f":"IF(D777=0,\"\",SUM($D$2:D777))","v":""},null,"بنت",3]
[null,{"$f":"IF(AND(ورقة2!$H$2=ورقة1!I778,ورقة2!$F$2=ورقة1!H778,ورقة1!G778=\"ولد\"),1,0)","v":0},{"$f":"IF(B778=0,\"\",SUM($B$2:B778))","v":""},{"$f":"IF(AND(ورقة2!$H$2=ورقة1!I778,ورقة2!$F$2=ورقة1!H778,ورقة1!G778=\"بنت\"),1,0)","v":0},{"$f":"IF(D778=0,\"\",SUM($D$2:D778))","v":""},null,"بنت",3]
[null,{"$f":"IF(AND(ورقة2!$H$2=ورقة1!I779,ورقة2!$F$2=ورقة1!H779,ورقة1!G779=\"ولد\"),1,0)","v":0},{"$f":"IF(B779=0,\"\",SUM($B$2:B779))","v":""},{"$f":"IF(AND(ورقة2!$H$2=ورقة1!I779,ورقة2!$F$2=ورقة1!H779,ورقة1!G779=\"بنت\"),1,0)","v":0},{"$f":"IF(D779=0,\"\",SUM($D$2:D779))","v":""},null,"بنت",3]
[null,{"$f":"IF(AND(ورقة2!$H$2=ورقة1!I780,ورقة2!$F$2=ورقة1!H780,ورقة1!G780=\"ولد\"),1,0)","v":0},{"$f":"IF(B780=0,\"\",SUM($B$2:B780))","v":""},{"$f":"IF(AND(ورقة2!$H$2=ورقة1!I780,ورقة2!$F$2=ورقة1!H780,ورقة1!G780=\"بنت\"),1,0)","v":0},{"$f":"IF(D780=0,\"\",SUM($D$2:D780))","v":""},null,"بنت",3]
[null,{"$f":"IF(AND(ورقة2!$H$2=ورقة1!I781,ورقة2!$F$2=ورقة1!H781,ورقة1!G781=\"ولد\"),1,0)","v":0},{"$f":"IF(B781=0,\"\",SUM($B$2:B781))","v":""},{"$f":"IF(AND(ورقة2!$H$2=ورقة1!I781,ورقة2!$F$2=ورقة1!H781,ورقة1!G781=\"بنت\"),1,0)","v":0},{"$f":"IF(D781=0,\"\",SUM($D$2:D781))","v":""},null,"بنت",3]
[null,{"$f":"IF(AND(ورقة2!$H$2=ورقة1!I782,ورقة2!$F$2=ورقة1!H782,ورقة1!G782=\"ولد\"),1,0)","v":0},{"$f":"IF(B782=0,\"\",SUM($B$2:B782))","v":""},{"$f":"IF(AND(ورقة2!$H$2=ورقة1!I782,ورقة2!$F$2=ورقة1!H782,ورقة1!G782=\"بنت\"),1,0)","v":0},{"$f":"IF(D782=0,\"\",SUM($D$2:D782))","v":""},null,"بنت",3]
[null,{"$f":"IF(AND(ورقة2!$H$2=ورقة1!I783,ورقة2!$F$2=ورقة1!H783,ورقة1!G783=\"ولد\"),1,0)","v":0},{"$f":"IF(B783=0,\"\",SUM($B$2:B783))","v":""},{"$f":"IF(AND(ورقة2!$H$2=ورقة1!I783,ورقة2!$F$2=ورقة1!H783,ورقة1!G783=\"بنت\"),1,0)","v":0},{"$f":"IF(D783=0,\"\",SUM($D$2:D783))","v":""},null,"بنت",3]
[null,{"$f":"IF(AND(ورقة2!$H$2=ورقة1!I784,ورقة2!$F$2=ورقة1!H784,ورقة1!G784=\"ولد\"),1,0)","v":0},{"$f":"IF(B784=0,\"\",SUM($B$2:B784))","v":""},{"$f":"IF(AND(ورقة2!$H$2=ورقة1!I784,ورقة2!$F$2=ورقة1!H784,ورقة1!G784=\"بنت\"),1,0)","v":0},{"$f":"IF(D784=0,\"\",SUM($D$2:D784))","v":""},null,"بنت",3]
[null,{"$f":"IF(AND(ورقة2!$H$2=ورقة1!I785,ورقة2!$F$2=ورقة1!H785,ورقة1!G785=\"ولد\"),1,0)","v":0},{"$f":"IF(B785=0,\"\",SUM($B$2:B785))","v":""},{"$f":"IF(AND(ورقة2!$H$2=ورقة1!I785,ورقة2!$F$2=ورقة1!H785,ورقة1!G785=\"بنت\"),1,0)","v":0},{"$f":"IF(D785=0,\"\",SUM($D$2:D785))","v":""},null,"بنت",3]
[null,{"$f":"IF(AND(ورقة2!$H$2=ورقة1!I786,ورقة2!$F$2=ورقة1!H786,ورقة1!G786=\"ولد\"),1,0)","v":0},{"$f":"IF(B786=0,\"\",SUM($B$2:B786))","v":""},{"$f":"IF(AND(ورقة2!$H$2=ورقة1!I786,ورقة2!$F$2=ورقة1!H786,ورقة1!G786=\"بنت\"),1,0)","v":0},{"$f":"IF(D786=0,\"\",SUM($D$2:D786))","v":""},null,"بنت",3]
[null,{"$f":"IF(AND(ورقة2!$H$2=ورقة1!I787,ورقة2!$F$2=ورقة1!H787,ورقة1!G787=\"ولد\"),1,0)","v":0},{"$f":"IF(B787=0,\"\",SUM($B$2:B787))","v":""},{"$f":"IF(AND(ورقة2!$H$2=ورقة1!I787,ورقة2!$F$2=ورقة1!H787,ورقة1!G787=\"بنت\"),1,0)","v":0},{"$f":"IF(D787=0,\"\",SUM($D$2:D787))","v":""},null,"بنت",3]
[null,{"$f":"IF(AND(ورقة2!$H$2=ورقة1!I788,ورقة2!$F$2=ورقة1!H788,ورقة1!G788=\"ولد\"),1,0)","v":0},{"$f":"IF(B788=0,\"\",SUM($B$2:B788))","v":""},{"$f":"IF(AND(ورقة2!$H$2=ورقة1!I788,ورقة2!$F$2=ورقة1!H788,ورقة1!G788=\"بنت\"),1,0)","v":0},{"$f":"IF(D788=0,\"\",SUM($D$2:D788))","v":""},null,"بنت",3]
[null,{"$f":"IF(AND(ورقة2!$H$2=ورقة1!I789,ورقة2!$F$2=ورقة1!H789,ورقة1!G789=\"ولد\"),1,0)","v":0},{"$f":"IF(B789=0,\"\",SUM($B$2:B789))","v":""},{"$f":"IF(AND(ورقة2!$H$2=ورقة1!I789,ورقة2!$F$2=ورقة1!H789,ورقة1!G789=\"بنت\"),1,0)","v":0},{"$f":"IF(D789=0,\"\",SUM($D$2:D789))","v":""},null,"بنت",3]
[null,{"$f":"IF(AND(ورقة2!$H$2=ورقة1!I790,ورقة2!$F$2=ورقة1!H790,ورقة1!G790=\"ولد\"),1,0)","v":0},{"$f":"IF(B790=0,\"\",SUM($B$2:B790))","v":""},{"$f":"IF(AND(ورقة2!$H$2=ورقة1!I790,ورقة2!$F$2=ورقة1!H790,ورقة1!G790=\"بنت\"),1,0)","v":0},{"$f":"IF(D790=0,\"\",SUM($D$2:D790))","v":""},null,"بنت",3]
[null,{"$f":"IF(AND(ورقة2!$H$2=ورقة1!I791,ورقة2!$F$2=ورقة1!H791,ورقة1!G791=\"ولد\"),1,0)","v":0},{"$f":"IF(B791=0,\"\",SUM($B$2:B791))","v":""},{"$f":"IF(AND(ورقة2!$H$2=ورقة1!I791,ورقة2!$F$2=ورقة1!H791,ورقة1!G791=\"بنت\"),1,0)","v":0},{"$f":"IF(D791=0,\"\",SUM($D$2:D791))","v":""},null,"بنت",3]
[null,{"$f":"IF(AND(ورقة2!$H$2=ورقة1!I792,ورقة2!$F$2=ورقة1!H792,ورقة1!G792=\"ولد\"),1,0)","v":0},{"$f":"IF(B792=0,\"\",SUM($B$2:B792))","v":""},{"$f":"IF(AND(ورقة2!$H$2=ورقة1!I792,ورقة2!$F$2=ورقة1!H792,ورقة1!G792=\"بنت\"),1,0)","v":0},{"$f":"IF(D792=0,\"\",SUM($D$2:D792))","v":""},null,"بنت",3]
[null,{"$f":"IF(AND(ورقة2!$H$2=ورقة1!I793,ورقة2!$F$2=ورقة1!H793,ورقة1!G793=\"ولد\"),1,0)","v":0},{"$f":"IF(B793=0,\"\",SUM($B$2:B793))","v":""},{"$f":"IF(AND(ورقة2!$H$2=ورقة1!I793,ورقة2!$F$2=ورقة1!H793,ورقة1!G793=\"بنت\"),1,0)","v":0},{"$f":"IF(D793=0,\"\",SUM($D$2:D793))","v":""},null,"بنت",3]
[null,{"$f":"IF(AND(ورقة2!$H$2=ورقة1!I794,ورقة2!$F$2=ورقة1!H794,ورقة1!G794=\"ولد\"),1,0)","v":0},{"$f":"IF(B794=0,\"\",SUM($B$2:B794))","v":""},{"$f":"IF(AND(ورقة2!$H$2=ورقة1!I794,ورقة2!$F$2=ورقة1!H794,ورقة1!G794=\"بنت\"),1,0)","v":0},{"$f":"IF(D794=0,\"\",SUM($D$2:D794))","v":""},null,"بنت",3]
[null,{"$f":"IF(AND(ورقة2!$H$2=ورقة1!I795,ورقة2!$F$2=ورقة1!H795,ورقة1!G795=\"ولد\"),1,0)","v":0},{"$f":"IF(B795=0,\"\",SUM($B$2:B795))","v":""},{"$f":"IF(AND(ورقة2!$H$2=ورقة1!I795,ورقة2!$F$2=ورقة1!H795,ورقة1!G795=\"بنت\"),1,0)","v":0},{"$f":"IF(D795=0,\"\",SUM($D$2:D795))","v":""},null,"بنت",3]
[null,{"$f":"IF(AND(ورقة2!$H$2=ورقة1!I796,ورقة2!$F$2=ورقة1!H796,ورقة1!G796=\"ولد\"),1,0)","v":0},{"$f":"IF(B796=0,\"\",SUM($B$2:B796))","v":""},{"$f":"IF(AND(ورقة2!$H$2=ورقة1!I796,ورقة2!$F$2=ورقة1!H796,ورقة1!G796=\"بنت\"),1,0)","v":0},{"$f":"IF(D796=0,\"\",SUM($D$2:D796))","v":""},null,"بنت",3]
[null,{"$f":"IF(AND(ورقة2!$H$2=ورقة1!I797,ورقة2!$F$2=ورقة1!H797,ورقة1!G797=\"ولد\"),1,0)","v":0},{"$f":"IF(B797=0,\"\",SUM($B$2:B797))","v":""},{"$f":"IF(AND(ورقة2!$H$2=ورقة1!I797,ورقة2!$F$2=ورقة1!H797,ورقة1!G797=\"بنت\"),1,0)","v":0},{"$f":"IF(D797=0,\"\",SUM($D$2:D797))","v":""},null,"بنت",3]
[null,{"$f":"IF(AND(ورقة2!$H$2=ورقة1!I798,ورقة2!$F$2=ورقة1!H798,ورقة1!G798=\"ولد\"),1,0)","v":0},{"$f":"IF(B798=0,\"\",SUM($B$2:B798))","v":""},{"$f":"IF(AND(ورقة2!$H$2=ورقة1!I798,ورقة2!$F$2=ورقة1!H798,ورقة1!G798=\"بنت\"),1,0)","v":0},{"$f":"IF(D798=0,\"\",SUM($D$2:D798))","v":""},null,"بنت",3]
[null,{"$f":"IF(AND(ورقة2!$H$2=ورقة1!I799,ورقة2!$F$2=ورقة1!H799,ورقة1!G799=\"ولد\"),1,0)","v":0},{"$f":"IF(B799=0,\"\",SUM($B$2:B799))","v":""},{"$f":"IF(AND(ورقة2!$H$2=ورقة1!I799,ورقة2!$F$2=ورقة1!H799,ورقة1!G799=\"بنت\"),1,0)","v":0},{"$f":"IF(D799=0,\"\",SUM($D$2:D799))","v":""},null,"بنت",3]
[null,{"$f":"IF(AND(ورقة2!$H$2=ورقة1!I800,ورقة2!$F$2=ورقة1!H800,ورقة1!G800=\"ولد\"),1,0)","v":0},{"$f":"IF(B800=0,\"\",SUM($B$2:B800))","v":""},{"$f":"IF(AND(ورقة2!$H$2=ورقة1!I800,ورقة2!$F$2=ورقة1!H800,ورقة1!G800=\"بنت\"),1,0)","v":0},{"$f":"IF(D800=0,\"\",SUM($D$2:D800))","v":""},null,"بنت",3]
[null,{"$f":"IF(AND(ورقة2!$H$2=ورقة1!I801,ورقة2!$F$2=ورقة1!H801,ورقة1!G801=\"ولد\"),1,0)","v":0},{"$f":"IF(B801=0,\"\",SUM($B$2:B801))","v":""},{"$f":"IF(AND(ورقة2!$H$2=ورقة1!I801,ورقة2!$F$2=ورقة1!H801,ورقة1!G801=\"بنت\"),1,0)","v":0},{"$f":"IF(D801=0,\"\",SUM($D$2:D801))","v":""},null,"بنت",3]
[null,{"$f":"IF(AND(ورقة2!$H$2=ورقة1!I802,ورقة2!$F$2=ورقة1!H802,ورقة1!G802=\"ولد\"),1,0)","v":0},{"$f":"IF(B802=0,\"\",SUM($B$2:B802))","v":""},{"$f":"IF(AND(ورقة2!$H$2=ورقة1!I802,ورقة2!$F$2=ورقة1!H802,ورقة1!G802=\"بنت\"),1,0)","v":0},{"$f":"IF(D802=0,\"\",SUM($D$2:D802))","v":""},null,"بنت",3]
[null,{"$f":"IF(AND(ورقة2!$H$2=ورقة1!I803,ورقة2!$F$2=ورقة1!H803,ورقة1!G803=\"ولد\"),1,0)","v":0},{"$f":"IF(B803=0,\"\",SUM($B$2:B803))","v":""},{"$f":"IF(AND(ورقة2!$H$2=ورقة1!I803,ورقة2!$F$2=ورقة1!H803,ورقة1!G803=\"بنت\"),1,0)","v":0},{"$f":"IF(D803=0,\"\",SUM($D$2:D803))","v":""},null,"بنت",3]
[null,{"$f":"IF(AND(ورقة2!$H$2=ورقة1!I804,ورقة2!$F$2=ورقة1!H804,ورقة1!G804=\"ولد\"),1,0)","v":0},{"$f":"IF(B804=0,\"\",SUM($B$2:B804))","v":""},{"$f":"IF(AND(ورقة2!$H$2=ورقة1!I804,ورقة2!$F$2=ورقة1!H804,ورقة1!G804=\"بنت\"),1,0)","v":0},{"$f":"IF(D804=0,\"\",SUM($D$2:D804))","v":""},null,"بنت",3]
[null,{"$f":"IF(AND(ورقة2!$H$2=ورقة1!I805,ورقة2!$F$2=ورقة1!H805,ورقة1!G805=\"ولد\"),1,0)","v":0},{"$f":"IF(B805=0,\"\",SUM($B$2:B805))","v":""},{"$f":"IF(AND(ورقة2!$H$2=ورقة1!I805,ورقة2!$F$2=ورقة1!H805,ورقة1!G805=\"بنت\"),1,0)","v":0},{"$f":"IF(D805=0,\"\",SUM($D$2:D805))","v":""},null,"بنت",3]
[null,{"$f":"IF(AND(ورقة2!$H$2=ورقة1!I806,ورقة2!$F$2=ورقة1!H806,ورقة1!G806=\"ولد\"),1,0)","v":0},{"$f":"IF(B806=0,\"\",SUM($B$2:B806))","v":""},{"$f":"IF(AND(ورقة2!$H$2=ورقة1!I806,ورقة2!$F$2=ورقة1!H806,ورقة1!G806=\"بنت\"),1,0)","v":0},{"$f":"IF(D806=0,\"\",SUM($D$2:D806))","v":""},null,"بنت",3]
[null,{"$f":"IF(AND(ورقة2!$H$2=ورقة1!I807,ورقة2!$F$2=ورقة1!H807,ورقة1!G807=\"ولد\"),1,0)","v":0},{"$f":"IF(B807=0,\"\",SUM($B$2:B807))","v":""},{"$f":"IF(AND(ورقة2!$H$2=ورقة1!I807,ورقة2!$F$2=ورقة1!H807,ورقة1!G807=\"بنت\"),1,0)","v":0},{"$f":"IF(D807=0,\"\",SUM($D$2:D807))","v":""},null,"بنت",3]
[null,{"$f":"IF(AND(ورقة2!$H$2=ورقة1!I808,ورقة2!$F$2=ورقة1!H808,ورقة1!G808=\"ولد\"),1,0)","v":0},{"$f":"IF(B808=0,\"\",SUM($B$2:B808))","v":""},{"$f":"IF(AND(ورقة2!$H$2=ورقة1!I808,ورقة2!$F$2=ورقة1!H808,ورقة1!G808=\"بنت\"),1,0)","v":0},{"$f":"IF(D808=0,\"\",SUM($D$2:D808))","v":""},null,"بنت",3]
[null,{"$f":"IF(AND(ورقة2!$H$2=ورقة1!I809,ورقة2!$F$2=ورقة1!H809,ورقة1!G809=\"ولد\"),1,0)","v":0},{"$f":"IF(B809=0,\"\",SUM($B$2:B809))","v":""},{"$f":"IF(AND(ورقة2!$H$2=ورقة1!I809,ورقة2!$F$2=ورقة1!H809,ورقة1!G809=\"بنت\"),1,0)","v":0},{"$f":"IF(D809=0,\"\",SUM($D$2:D809))","v":""},null,"بنت",3]
[null,{"$f":"IF(AND(ورقة2!$H$2=ورقة1!I810,ورقة2!$F$2=ورقة1!H810,ورقة1!G810=\"ولد\"),1,0)","v":0},{"$f":"IF(B810=0,\"\",SUM($B$2:B810))","v":""},{"$f":"IF(AND(ورقة2!$H$2=ورقة1!I810,ورقة2!$F$2=ورقة1!H810,ورقة1!G810=\"بنت\"),1,0)","v":0},{"$f":"IF(D810=0,\"\",SUM($D$2:D810))","v":""},null,"بنت",3]
[null,{"$f":"IF(AND(ورقة2!$H$2=ورقة1!I811,ورقة2!$F$2=ورقة1!H811,ورقة1!G811=\"ولد\"),1,0)","v":0},{"$f":"IF(B811=0,\"\",SUM($B$2:B811))","v":""},{"$f":"IF(AND(ورقة2!$H$2=ورقة1!I811,ورقة2!$F$2=ورقة1!H811,ورقة1!G811=\"بنت\"),1,0)","v":0},{"$f":"IF(D811=0,\"\",SUM($D$2:D811))","v":""},null,"بنت",3]
[null,{"$f":"IF(AND(ورقة2!$H$2=ورقة1!I812,ورقة2!$F$2=ورقة1!H812,ورقة1!G812=\"ولد\"),1,0)","v":0},{"$f":"IF(B812=0,\"\",SUM($B$2:B812))","v":""},{"$f":"IF(AND(ورقة2!$H$2=ورقة1!I812,ورقة2!$F$2=ورقة1!H812,ورقة1!G812=\"بنت\"),1,0)","v":0},{"$f":"IF(D812=0,\"\",SUM($D$2:D812))","v":""},null,"بنت",3]
[null,{"$f":"IF(AND(ورقة2!$H$2=ورقة1!I813,ورقة2!$F$2=ورقة1!H813,ورقة1!G813=\"ولد\"),1,0)","v":0},{"$f":"IF(B813=0,\"\",SUM($B$2:B813))","v":""},{"$f":"IF(AND(ورقة2!$H$2=ورقة1!I813,ورقة2!$F$2=ورقة1!H813,ورقة1!G813=\"بنت\"),1,0)","v":0},{"$f":"IF(D813=0,\"\",SUM($D$2:D813))","v":""},null,"بنت",3]
[null,{"$f":"IF(AND(ورقة2!$H$2=ورقة1!I814,ورقة2!$F$2=ورقة1!H814,ورقة1!G814=\"ولد\"),1,0)","v":0},{"$f":"IF(B814=0,\"\",SUM($B$2:B814))","v":""},{"$f":"IF(AND(ورقة2!$H$2=ورقة1!I814,ورقة2!$F$2=ورقة1!H814,ورقة1!G814=\"بنت\"),1,0)","v":0},{"$f":"IF(D814=0,\"\",SUM($D$2:D814))","v":""},null,"بنت",3]
[null,{"$f":"IF(AND(ورقة2!$H$2=ورقة1!I815,ورقة2!$F$2=ورقة1!H815,ورقة1!G815=\"ولد\"),1,0)","v":0},{"$f":"IF(B815=0,\"\",SUM($B$2:B815))","v":""},{"$f":"IF(AND(ورقة2!$H$2=ورقة1!I815,ورقة2!$F$2=ورقة1!H815,ورقة1!G815=\"بنت\"),1,0)","v":0},{"$f":"IF(D815=0,\"\",SUM($D$2:D815))","v":""},null,"بنت",3]
[null,{"$f":"IF(AND(ورقة2!$H$2=ورقة1!I816,ورقة2!$F$2=ورقة1!H816,ورقة1!G816=\"ولد\"),1,0)","v":0},{"$f":"IF(B816=0,\"\",SUM($B$2:B816))","v":""},{"$f":"IF(AND(ورقة2!$H$2=ورقة1!I816,ورقة2!$F$2=ورقة1!H816,ورقة1!G816=\"بنت\"),1,0)","v":0},{"$f":"IF(D816=0,\"\",SUM($D$2:D816))","v":""},null,"بنت",3]
[null,{"$f":"IF(AND(ورقة2!$H$2=ورقة1!I817,ورقة2!$F$2=ورقة1!H817,ورقة1!G817=\"ولد\"),1,0)","v":0},{"$f":"IF(B817=0,\"\",SUM($B$2:B817))","v":""},{"$f":"IF(AND(ورقة2!$H$2=ورقة1!I817,ورقة2!$F$2=ورقة1!H817,ورقة1!G817=\"بنت\"),1,0)","v":0},{"$f":"IF(D817=0,\"\",SUM($D$2:D817))","v":""},null,"بنت",3]
[null,{"$f":"IF(AND(ورقة2!$H$2=ورقة1!I818,ورقة2!$F$2=ورقة1!H818,ورقة1!G818=\"ولد\"),1,0)","v":0},{"$f":"IF(B818=0,\"\",SUM($B$2:B818))","v":""},{"$f":"IF(AND(ورقة2!$H$2=ورقة1!I818,ورقة2!$F$2=ورقة1!H818,ورقة1!G818=\"بنت\"),1,0)","v":0},{"$f":"IF(D818=0,\"\",SUM($D$2:D818))","v":""},null,"بنت",3]
[null,{"$f":"IF(AND(ورقة2!$H$2=ورقة1!I819,ورقة2!$F$2=ورقة1!H819,ورقة1!G819=\"ولد\"),1,0)","v":0},{"$f":"IF(B819=0,\"\",SUM($B$2:B819))","v":""},{"$f":"IF(AND(ورقة2!$H$2=ورقة1!I819,ورقة2!$F$2=ورقة1!H819,ورقة1!G819=\"بنت\"),1,0)","v":0},{"$f":"IF(D819=0,\"\",SUM($D$2:D819))","v":""},null,"بنت",3]
[null,{"$f":"IF(AND(ورقة2!$H$2=ورقة1!I820,ورقة2!$F$2=ورقة1!H820,ورقة1!G820=\"ولد\"),1,0)","v":0},{"$f":"IF(B820=0,\"\",SUM($B$2:B820))","v":""},{"$f":"IF(AND(ورقة2!$H$2=ورقة1!I820,ورقة2!$F$2=ورقة1!H820,ورقة1!G820=\"بنت\"),1,0)","v":0},{"$f":"IF(D820=0,\"\",SUM($D$2:D820))","v":""},null,"بنت",3]
[null,{"$f":"IF(AND(ورقة2!$H$2=ورقة1!I821,ورقة2!$F$2=ورقة1!H821,ورقة1!G821=\"ولد\"),1,0)","v":0},{"$f":"IF(B821=0,\"\",SUM($B$2:B821))","v":""},{"$f":"IF(AND(ورقة2!$H$2=ورقة1!I821,ورقة2!$F$2=ورقة1!H821,ورقة1!G821=\"بنت\"),1,0)","v":0},{"$f":"IF(D821=0,\"\",SUM($D$2:D821))","v":""},null,"بنت",3]
[null,{"$f":"IF(AND(ورقة2!$H$2=ورقة1!I822,ورقة2!$F$2=ورقة1!H822,ورقة1!G822=\"ولد\"),1,0)","v":0},{"$f":"IF(B822=0,\"\",SUM($B$2:B822))","v":""},{"$f":"IF(AND(ورقة2!$H$2=ورقة1!I822,ورقة2!$F$2=ورقة1!H822,ورقة1!G822=\"بنت\"),1,0)","v":0},{"$f":"IF(D822=0,\"\",SUM($D$2:D822))","v":""},null,"بنت",3]
[null,{"$f":"IF(AND(ورقة2!$H$2=ورقة1!I823,ورقة2!$F$2=ورقة1!H823,ورقة1!G823=\"ولد\"),1,0)","v":0},{"$f":"IF(B823=0,\"\",SUM($B$2:B823))","v":""},{"$f":"IF(AND(ورقة2!$H$2=ورقة1!I823,ورقة2!$F$2=ورقة1!H823,ورقة1!G823=\"بنت\"),1,0)","v":0},{"$f":"IF(D823=0,\"\",SUM($D$2:D823))","v":""},null,"بنت",3]
[null,{"$f":"IF(AND(ورقة2!$H$2=ورقة1!I824,ورقة2!$F$2=ورقة1!H824,ورقة1!G824=\"ولد\"),1,0)","v":0},{"$f":"IF(B824=0,\"\",SUM($B$2:B824))","v":""},{"$f":"IF(AND(ورقة2!$H$2=ورقة1!I824,ورقة2!$F$2=ورقة1!H824,ورقة1!G824=\"بنت\"),1,0)","v":0},{"$f":"IF(D824=0,\"\",SUM($D$2:D824))","v":""},null,"بنت",3]
[null,{"$f":"IF(AND(ورقة2!$H$2=ورقة1!I825,ورقة2!$F$2=ورقة1!H825,ورقة1!G825=\"ولد\"),1,0)","v":0},{"$f":"IF(B825=0,\"\",SUM($B$2:B825))","v":""},{"$f":"IF(AND(ورقة2!$H$2=ورقة1!I825,ورقة2!$F$2=ورقة1!H825,ورقة1!G825=\"بنت\"),1,0)","v":0},{"$f":"IF(D825=0,\"\",SUM($D$2:D825))","v":""},null,"بنت",3]
[null,{"$f":"IF(AND(ورقة2!$H$2=ورقة1!I826,ورقة2!$F$2=ورقة1!H826,ورقة1!G826=\"ولد\"),1,0)","v":0},{"$f":"IF(B826=0,\"\",SUM($B$2:B826))","v":""},{"$f":"IF(AND(ورقة2!$H$2=ورقة1!I826,ورقة2!$F$2=ورقة1!H826,ورقة1!G826=\"بنت\"),1,0)","v":0},{"$f":"IF(D826=0,\"\",SUM($D$2:D826))","v":""},null,"بنت",3]
[null,{"$f":"IF(AND(ورقة2!$H$2=ورقة1!I827,ورقة2!$F$2=ورقة1!H827,ورقة1!G827=\"ولد\"),1,0)","v":0},{"$f":"IF(B827=0,\"\",SUM($B$2:B827))","v":""},{"$f":"IF(AND(ورقة2!$H$2=ورقة1!I827,ورقة2!$F$2=ورقة1!H827,ورقة1!G827=\"بنت\"),1,0)","v":0},{"$f":"IF(D827=0,\"\",SUM($D$2:D827))","v":""},null,"بنت",3]
[null,{"$f":"IF(AND(ورقة2!$H$2=ورقة1!I828,ورقة2!$F$2=ورقة1!H828,ورقة1!G828=\"ولد\"),1,0)","v":0},{"$f":"IF(B828=0,\"\",SUM($B$2:B828))","v":""},{"$f":"IF(AND(ورقة2!$H$2=ورقة1!I828,ورقة2!$F$2=ورقة1!H828,ورقة1!G828=\"بنت\"),1,0)","v":0},{"$f":"IF(D828=0,\"\",SUM($D$2:D828))","v":""},null,"بنت",3]
[null,{"$f":"IF(AND(ورقة2!$H$2=ورقة1!I829,ورقة2!$F$2=ورقة1!H829,ورقة1!G829=\"ولد\"),1,0)","v":0},{"$f":"IF(B829=0,\"\",SUM($B$2:B829))","v":""},{"$f":"IF(AND(ورقة2!$H$2=ورقة1!I829,ورقة2!$F$2=ورقة1!H829,ورقة1!G829=\"بنت\"),1,0)","v":0},{"$f":"IF(D829=0,\"\",SUM($D$2:D829))","v":""},null,"بنت",3]
[null,{"$f":"IF(AND(ورقة2!$H$2=ورقة1!I830,ورقة2!$F$2=ورقة1!H830,ورقة1!G830=\"ولد\"),1,0)","v":0},{"$f":"IF(B830=0,\"\",SUM($B$2:B830))","v":""},{"$f":"IF(AND(ورقة2!$H$2=ورقة1!I830,ورقة2!$F$2=ورقة1!H830,ورقة1!G830=\"بنت\"),1,0)","v":0},{"$f":"IF(D830=0,\"\",SUM($D$2:D830))","v":""},null,"بنت",3]
[null,{"$f":"IF(AND(ورقة2!$H$2=ورقة1!I831,ورقة2!$F$2=ورقة1!H831,ورقة1!G831=\"ولد\"),1,0)","v":0},{"$f":"IF(B831=0,\"\",SUM($B$2:B831))","v":""},{"$f":"IF(AND(ورقة2!$H$2=ورقة1!I831,ورقة2!$F$2=ورقة1!H831,ورقة1!G831=\"بنت\"),1,0)","v":0},{"$f":"IF(D831=0,\"\",SUM($D$2:D831))","v":""},null,"بنت",3]
[null,{"$f":"IF(AND(ورقة2!$H$2=ورقة1!I832,ورقة2!$F$2=ورقة1!H832,ورقة1!G832=\"ولد\"),1,0)","v":0},{"$f":"IF(B832=0,\"\",SUM($B$2:B832))","v":""},{"$f":"IF(AND(ورقة2!$H$2=ورقة1!I832,ورقة2!$F$2=ورقة1!H832,ورقة1!G832=\"بنت\"),1,0)","v":0},{"$f":"IF(D832=0,\"\",SUM($D$2:D832))","v":""},null,"بنت",3]
[null,{"$f":"IF(AND(ورقة2!$H$2=ورقة1!I833,ورقة2!$F$2=ورقة1!H833,ورقة1!G833=\"ولد\"),1,0)","v":0},{"$f":"IF(B833=0,\"\",SUM($B$2:B833))","v":""},{"$f":"IF(AND(ورقة2!$H$2=ورقة1!I833,ورقة2!$F$2=ورقة1!H833,ورقة1!G833=\"بنت\"),1,0)","v":0},{"$f":"IF(D833=0,\"\",SUM($D$2:D833))","v":""},null,"بنت",3]
[null,{"$f":"IF(AND(ورقة2!$H$2=ورقة1!I834,ورقة2!$F$2=ورقة1!H834,ورقة1!G834=\"ولد\"),1,0)","v":0},{"$f":"IF(B834=0,\"\",SUM($B$2:B834))","v":""},{"$f":"IF(AND(ورقة2!$H$2=ورقة1!I834,ورقة2!$F$2=ورقة1!H834,ورقة1!G834=\"بنت\"),1,0)","v":0},{"$f":"IF(D834=0,\"\",SUM($D$2:D834))","v":""},null,"بنت",3]
[null,{"$f":"IF(AND(ورقة2!$H$2=ورقة1!I835,ورقة2!$F$2=ورقة1!H835,ورقة1!G835=\"ولد\"),1,0)","v":0},{"$f":"IF(B835=0,\"\",SUM($B$2:B835))","v":""},{"$f":"IF(AND(ورقة2!$H$2=ورقة1!I835,ورقة2!$F$2=ورقة1!H835,ورقة1!G835=\"بنت\"),1,0)","v":0},{"$f":"IF(D835=0,\"\",SUM($D$2:D835))","v":""},null,"بنت",3]
[null,{"$f":"IF(AND(ورقة2!$H$2=ورقة1!I836,ورقة2!$F$2=ورقة1!H836,ورقة1!G836=\"ولد\"),1,0)","v":0},{"$f":"IF(B836=0,\"\",SUM($B$2:B836))","v":""},{"$f":"IF(AND(ورقة2!$H$2=ورقة1!I836,ورقة2!$F$2=ورقة1!H836,ورقة1!G836=\"بنت\"),1,0)","v":0},{"$f":"IF(D836=0,\"\",SUM($D$2:D836))","v":""},null,"بنت",3]
[null,{"$f":"IF(AND(ورقة2!$H$2=ورقة1!I837,ورقة2!$F$2=ورقة1!H837,ورقة1!G837=\"ولد\"),1,0)","v":0},{"$f":"IF(B837=0,\"\",SUM($B$2:B837))","v":""},{"$f":"IF(AND(ورقة2!$H$2=ورقة1!I837,ورقة2!$F$2=ورقة1!H837,ورقة1!G837=\"بنت\"),1,0)","v":0},{"$f":"IF(D837=0,\"\",SUM($D$2:D837))","v":""},null,"بنت",3]
[null,{"$f":"IF(AND(ورقة2!$H$2=ورقة1!I838,ورقة2!$F$2=ورقة1!H838,ورقة1!G838=\"ولد\"),1,0)","v":0},{"$f":"IF(B838=0,\"\",SUM($B$2:B838))","v":""},{"$f":"IF(AND(ورقة2!$H$2=ورقة1!I838,ورقة2!$F$2=ورقة1!H838,ورقة1!G838=\"بنت\"),1,0)","v":0},{"$f":"IF(D838=0,\"\",SUM($D$2:D838))","v":""},null,"بنت",3]
[null,{"$f":"IF(AND(ورقة2!$H$2=ورقة1!I839,ورقة2!$F$2=ورقة1!H839,ورقة1!G839=\"ولد\"),1,0)","v":0},{"$f":"IF(B839=0,\"\",SUM($B$2:B839))","v":""},{"$f":"IF(AND(ورقة2!$H$2=ورقة1!I839,ورقة2!$F$2=ورقة1!H839,ورقة1!G839=\"بنت\"),1,0)","v":0},{"$f":"IF(D839=0,\"\",SUM($D$2:D839))","v":""},null,"بنت",3]
[null,{"$f":"IF(AND(ورقة2!$H$2=ورقة1!I840,ورقة2!$F$2=ورقة1!H840,ورقة1!G840=\"ولد\"),1,0)","v":0},{"$f":"IF(B840=0,\"\",SUM($B$2:B840))","v":""},{"$f":"IF(AND(ورقة2!$H$2=ورقة1!I840,ورقة2!$F$2=ورقة1!H840,ورقة1!G840=\"بنت\"),1,0)","v":0},{"$f":"IF(D840=0,\"\",SUM($D$2:D840))","v":""},null,"بنت",3]
[null,{"$f":"IF(AND(ورقة2!$H$2=ورقة1!I841,ورقة2!$F$2=ورقة1!H841,ورقة1!G841=\"ولد\"),1,0)","v":0},{"$f":"IF(B841=0,\"\",SUM($B$2:B841))","v":""},{"$f":"IF(AND(ورقة2!$H$2=ورقة1!I841,ورقة2!$F$2=ورقة1!H841,ورقة1!G841=\"بنت\"),1,0)","v":0},{"$f":"IF(D841=0,\"\",SUM($D$2:D841))","v":""},null,"بنت",3]
[null,{"$f":"IF(AND(ورقة2!$H$2=ورقة1!I842,ورقة2!$F$2=ورقة1!H842,ورقة1!G842=\"ولد\"),1,0)","v":0},{"$f":"IF(B842=0,\"\",SUM($B$2:B842))","v":""},{"$f":"IF(AND(ورقة2!$H$2=ورقة1!I842,ورقة2!$F$2=ورقة1!H842,ورقة1!G842=\"بنت\"),1,0)","v":0},{"$f":"IF(D842=0,\"\",SUM($D$2:D842))","v":""},null,"بنت",3]
[null,{"$f":"IF(AND(ورقة2!$H$2=ورقة1!I843,ورقة2!$F$2=ورقة1!H843,ورقة1!G843=\"ولد\"),1,0)","v":0},{"$f":"IF(B843=0,\"\",SUM($B$2:B843))","v":""},{"$f":"IF(AND(ورقة2!$H$2=ورقة1!I843,ورقة2!$F$2=ورقة1!H843,ورقة1!G843=\"بنت\"),1,0)","v":0},{"$f":"IF(D843=0,\"\",SUM($D$2:D843))","v":""},null,"بنت",3]
[null,{"$f":"IF(AND(ورقة2!$H$2=ورقة1!I844,ورقة2!$F$2=ورقة1!H844,ورقة1!G844=\"ولد\"),1,0)","v":0},{"$f":"IF(B844=0,\"\",SUM($B$2:B844))","v":""},{"$f":"IF(AND(ورقة2!$H$2=ورقة1!I844,ورقة2!$F$2=ورقة1!H844,ورقة1!G844=\"بنت\"),1,0)","v":0},{"$f":"IF(D844=0,\"\",SUM($D$2:D844))","v":""},null,"بنت",3]
[null,{"$f":"IF(AND(ورقة2!$H$2=ورقة1!I845,ورقة2!$F$2=ورقة1!H845,ورقة1!G845=\"ولد\"),1,0)","v":0},{"$f":"IF(B845=0,\"\",SUM($B$2:B845))","v":""},{"$f":"IF(AND(ورقة2!$H$2=ورقة1!I845,ورقة2!$F$2=ورقة1!H845,ورقة1!G845=\"بنت\"),1,0)","v":0},{"$f":"IF(D845=0,\"\",SUM($D$2:D845))","v":""},null,"بنت",3]
[null,{"$f":"IF(AND(ورقة2!$H$2=ورقة1!I846,ورقة2!$F$2=ورقة1!H846,ورقة1!G846=\"ولد\"),1,0)","v":0},{"$f":"IF(B846=0,\"\",SUM($B$2:B846))","v":""},{"$f":"IF(AND(ورقة2!$H$2=ورقة1!I846,ورقة2!$F$2=ورقة1!H846,ورقة1!G846=\"بنت\"),1,0)","v":0},{"$f":"IF(D846=0,\"\",SUM($D$2:D846))","v":""},null,"بنت",3]
[null,{"$f":"IF(AND(ورقة2!$H$2=ورقة1!I847,ورقة2!$F$2=ورقة1!H847,ورقة1!G847=\"ولد\"),1,0)","v":0},{"$f":"IF(B847=0,\"\",SUM($B$2:B847))","v":""},{"$f":"IF(AND(ورقة2!$H$2=ورقة1!I847,ورقة2!$F$2=ورقة1!H847,ورقة1!G847=\"بنت\"),1,0)","v":0},{"$f":"IF(D847=0,\"\",SUM($D$2:D847))","v":""},null,"بنت",3]
[null,{"$f":"IF(AND(ورقة2!$H$2=ورقة1!I848,ورقة2!$F$2=ورقة1!H848,ورقة1!G848=\"ولد\"),1,0)","v":0},{"$f":"IF(B848=0,\"\",SUM($B$2:B848))","v":""},{"$f":"IF(AND(ورقة2!$H$2=ورقة1!I848,ورقة2!$F$2=ورقة1!H848,ورقة1!G848=\"بنت\"),1,0)","v":0},{"$f":"IF(D848=0,\"\",SUM($D$2:D848))","v":""},null,"بنت",3]
[null,{"$f":"IF(AND(ورقة2!$H$2=ورقة1!I849,ورقة2!$F$2=ورقة1!H849,ورقة1!G849=\"ولد\"),1,0)","v":0},{"$f":"IF(B849=0,\"\",SUM($B$2:B849))","v":""},{"$f":"IF(AND(ورقة2!$H$2=ورقة1!I849,ورقة2!$F$2=ورقة1!H849,ورقة1!G849=\"بنت\"),1,0)","v":0},{"$f":"IF(D849=0,\"\",SUM($D$2:D849))","v":""},null,"بنت",3]
[null,{"$f":"IF(AND(ورقة2!$H$2=ورقة1!I850,ورقة2!$F$2=ورقة1!H850,ورقة1!G850=\"ولد\"),1,0)","v":0},{"$f":"IF(B850=0,\"\",SUM($B$2:B850))","v":""},{"$f":"IF(AND(ورقة2!$H$2=ورقة1!I850,ورقة2!$F$2=ورقة1!H850,ورقة1!G850=\"بنت\"),1,0)","v":0},{"$f":"IF(D850=0,\"\",SUM($D$2:D850))","v":""},null,"بنت",3]
[null,{"$f":"IF(AND(ورقة2!$H$2=ورقة1!I851,ورقة2!$F$2=ورقة1!H851,ورقة1!G851=\"ولد\"),1,0)","v":0},{"$f":"IF(B851=0,\"\",SUM($B$2:B851))","v":""},{"$f":"IF(AND(ورقة2!$H$2=ورقة1!I851,ورقة2!$F$2=ورقة1!H851,ورقة1!G851=\"بنت\"),1,0)","v":0},{"$f":"IF(D851=0,\"\",SUM($D$2:D851))","v":""},null,"بنت",3]
[null,{"$f":"IF(AND(ورقة2!$H$2=ورقة1!I852,ورقة2!$F$2=ورقة1!H852,ورقة1!G852=\"ولد\"),1,0)","v":0},{"$f":"IF(B852=0,\"\",SUM($B$2:B852))","v":""},{"$f":"IF(AND(ورقة2!$H$2=ورقة1!I852,ورقة2!$F$2=ورقة1!H852,ورقة1!G852=\"بنت\"),1,0)","v":0},{"$f":"IF(D852=0,\"\",SUM($D$2:D852))","v":""},null,"بنت",3]
[null,{"$f":"IF(AND(ورقة2!$H$2=ورقة1!I853,ورقة2!$F$2=ورقة1!H853,ورقة1!G853=\"ولد\"),1,0)","v":0},{"$f":"IF(B853=0,\"\",SUM($B$2:B853))","v":""},{"$f":"IF(AND(ورقة2!$H$2=ورقة1!I853,ورقة2!$F$2=ورقة1!H853,ورقة1!G853=\"بنت\"),1,0)","v":0},{"$f":"IF(D853=0,\"\",SUM($D$2:D853))","v":""},null,"بنت",3]
[null,{"$f":"IF(AND(ورقة2!$H$2=ورقة1!I854,ورقة2!$F$2=ورقة1!H854,ورقة1!G854=\"ولد\"),1,0)","v":0},{"$f":"IF(B854=0,\"\",SUM($B$2:B854))","v":""},{"$f":"IF(AND(ورقة2!$H$2=ورقة1!I854,ورقة2!$F$2=ورقة1!H854,ورقة1!G854=\"بنت\"),1,0)","v":0},{"$f":"IF(D854=0,\"\",SUM($D$2:D854))","v":""},null,"بنت",3]
[null,{"$f":"IF(AND(ورقة2!$H$2=ورقة1!I855,ورقة2!$F$2=ورقة1!H855,ورقة1!G855=\"ولد\"),1,0)","v":0},{"$f":"IF(B855=0,\"\",SUM($B$2:B855))","v":""},{"$f":"IF(AND(ورقة2!$H$2=ورقة1!I855,ورقة2!$F$2=ورقة1!H855,ورقة1!G855=\"بنت\"),1,0)","v":0},{"$f":"IF(D855=0,\"\",SUM($D$2:D855))","v":""},null,"بنت",3]
[null,{"$f":"IF(AND(ورقة2!$H$2=ورقة1!I856,ورقة2!$F$2=ورقة1!H856,ورقة1!G856=\"ولد\"),1,0)","v":0},{"$f":"IF(B856=0,\"\",SUM($B$2:B856))","v":""},{"$f":"IF(AND(ورقة2!$H$2=ورقة1!I856,ورقة2!$F$2=ورقة1!H856,ورقة1!G856=\"بنت\"),1,0)","v":0},{"$f":"IF(D856=0,\"\",SUM($D$2:D856))","v":""},null,"بنت",3]
[null,{"$f":"IF(AND(ورقة2!$H$2=ورقة1!I857,ورقة2!$F$2=ورقة1!H857,ورقة1!G857=\"ولد\"),1,0)","v":0},{"$f":"IF(B857=0,\"\",SUM($B$2:B857))","v":""},{"$f":"IF(AND(ورقة2!$H$2=ورقة1!I857,ورقة2!$F$2=ورقة1!H857,ورقة1!G857=\"بنت\"),1,0)","v":0},{"$f":"IF(D857=0,\"\",SUM($D$2:D857))","v":""},null,"بنت",3]
[null,{"$f":"IF(AND(ورقة2!$H$2=ورقة1!I858,ورقة2!$F$2=ورقة1!H858,ورقة1!G858=\"ولد\"),1,0)","v":0},{"$f":"IF(B858=0,\"\",SUM($B$2:B858))","v":""},{"$f":"IF(AND(ورقة2!$H$2=ورقة1!I858,ورقة2!$F$2=ورقة1!H858,ورقة1!G858=\"بنت\"),1,0)","v":0},{"$f":"IF(D858=0,\"\",SUM($D$2:D858))","v":""},null,"بنت",3]
[null,{"$f":"IF(AND(ورقة2!$H$2=ورقة1!I859,ورقة2!$F$2=ورقة1!H859,ورقة1!G859=\"ولد\"),1,0)","v":0},{"$f":"IF(B859=0,\"\",SUM($B$2:B859))","v":""},{"$f":"IF(AND(ورقة2!$H$2=ورقة1!I859,ورقة2!$F$2=ورقة1!H859,ورقة1!G859=\"بنت\"),1,0)","v":0},{"$f":"IF(D859=0,\"\",SUM($D$2:D859))","v":""},null,"بنت",3]
[null,{"$f":"IF(AND(ورقة2!$H$2=ورقة1!I860,ورقة2!$F$2=ورقة1!H860,ورقة1!G860=\"ولد\"),1,0)","v":0},{"$f":"IF(B860=0,\"\",SUM($B$2:B860))","v":""},{"$f":"IF(AND(ورقة2!$H$2=ورقة1!I860,ورقة2!$F$2=ورقة1!H860,ورقة1!G860=\"بنت\"),1,0)","v":0},{"$f":"IF(D860=0,\"\",SUM($D$2:D860))","v":""},null,"بنت",3]
[null,{"$f":"IF(AND(ورقة2!$H$2=ورقة1!I861,ورقة2!$F$2=ورقة1!H861,ورقة1!G861=\"ولد\"),1,0)","v":0},{"$f":"IF(B861=0,\"\",SUM($B$2:B861))","v":""},{"$f":"IF(AND(ورقة2!$H$2=ورقة1!I861,ورقة2!$F$2=ورقة1!H861,ورقة1!G861=\"بنت\"),1,0)","v":0},{"$f":"IF(D861=0,\"\",SUM($D$2:D861))","v":""},null,"بنت",3]
[null,{"$f":"IF(AND(ورقة2!$H$2=ورقة1!I862,ورقة2!$F$2=ورقة1!H862,ورقة1!G862=\"ولد\"),1,0)","v":0},{"$f":"IF(B862=0,\"\",SUM($B$2:B862))","v":""},{"$f":"IF(AND(ورقة2!$H$2=ورقة1!I862,ورقة2!$F$2=ورقة1!H862,ورقة1!G862=\"بنت\"),1,0)","v":0},{"$f":"IF(D862=0,\"\",SUM($D$2:D862))","v":""},null,"بنت",3]
[null,{"$f":"IF(AND(ورقة2!$H$2=ورقة1!I863,ورقة2!$F$2=ورقة1!H863,ورقة1!G863=\"ولد\"),1,0)","v":0},{"$f":"IF(B863=0,\"\",SUM($B$2:B863))","v":""},{"$f":"IF(AND(ورقة2!$H$2=ورقة1!I863,ورقة2!$F$2=ورقة1!H863,ورقة1!G863=\"بنت\"),1,0)","v":0},{"$f":"IF(D863=0,\"\",SUM($D$2:D863))","v":""},null,"بنت",3]
[null,{"$f":"IF(AND(ورقة2!$H$2=ورقة1!I864,ورقة2!$F$2=ورقة1!H864,ورقة1!G864=\"ولد\"),1,0)","v":0},{"$f":"IF(B864=0,\"\",SUM($B$2:B864))","v":""},{"$f":"IF(AND(ورقة2!$H$2=ورقة1!I864,ورقة2!$F$2=ورقة1!H864,ورقة1!G864=\"بنت\"),1,0)","v":0},{"$f":"IF(D864=0,\"\",SUM($D$2:D864))","v":""},null,"بنت",3]
[null,{"$f":"IF(AND(ورقة2!$H$2=ورقة1!I865,ورقة2!$F$2=ورقة1!H865,ورقة1!G865=\"ولد\"),1,0)","v":0},{"$f":"IF(B865=0,\"\",SUM($B$2:B865))","v":""},{"$f":"IF(AND(ورقة2!$H$2=ورقة1!I865,ورقة2!$F$2=ورقة1!H865,ورقة1!G865=\"بنت\"),1,0)","v":0},{"$f":"IF(D865=0,\"\",SUM($D$2:D865))","v":""},null,"بنت",3]
[null,{"$f":"IF(AND(ورقة2!$H$2=ورقة1!I866,ورقة2!$F$2=ورقة1!H866,ورقة1!G866=\"ولد\"),1,0)","v":0},{"$f":"IF(B866=0,\"\",SUM($B$2:B866))","v":""},{"$f":"IF(AND(ورقة2!$H$2=ورقة1!I866,ورقة2!$F$2=ورقة1!H866,ورقة1!G866=\"بنت\"),1,0)","v":0},{"$f":"IF(D866=0,\"\",SUM($D$2:D866))","v":""},null,"بنت",3]
[null,{"$f":"IF(AND(ورقة2!$H$2=ورقة1!I867,ورقة2!$F$2=ورقة1!H867,ورقة1!G867=\"ولد\"),1,0)","v":0},{"$f":"IF(B867=0,\"\",SUM($B$2:B867))","v":""},{"$f":"IF(AND(ورقة2!$H$2=ورقة1!I867,ورقة2!$F$2=ورقة1!H867,ورقة1!G867=\"بنت\"),1,0)","v":0},{"$f":"IF(D867=0,\"\",SUM($D$2:D867))","v":""},null,"بنت",3]
[null,{"$f":"IF(AND(ورقة2!$H$2=ورقة1!I868,ورقة2!$F$2=ورقة1!H868,ورقة1!G868=\"ولد\"),1,0)","v":0},{"$f":"IF(B868=0,\"\",SUM($B$2:B868))","v":""},{"$f":"IF(AND(ورقة2!$H$2=ورقة1!I868,ورقة2!$F$2=ورقة1!H868,ورقة1!G868=\"بنت\"),1,0)","v":0},{"$f":"IF(D868=0,\"\",SUM($D$2:D868))","v":""},null,"بنت",3]
[null,{"$f":"IF(AND(ورقة2!$H$2=ورقة1!I869,ورقة2!$F$2=ورقة1!H869,ورقة1!G869=\"ولد\"),1,0)","v":0},{"$f":"IF(B869=0,\"\",SUM($B$2:B869))","v":""},{"$f":"IF(AND(ورقة2!$H$2=ورقة1!I869,ورقة2!$F$2=ورقة1!H869,ورقة1!G869=\"بنت\"),1,0)","v":0},{"$f":"IF(D869=0,\"\",SUM($D$2:D869))","v":""},null,"بنت",3]
[null,{"$f":"IF(AND(ورقة2!$H$2=ورقة1!I870,ورقة2!$F$2=ورقة1!H870,ورقة1!G870=\"ولد\"),1,0)","v":0},{"$f":"IF(B870=0,\"\",SUM($B$2:B870))","v":""},{"$f":"IF(AND(ورقة2!$H$2=ورقة1!I870,ورقة2!$F$2=ورقة1!H870,ورقة1!G870=\"بنت\"),1,0)","v":0},{"$f":"IF(D870=0,\"\",SUM($D$2:D870))","v":""},null,"بنت",3]
[null,{"$f":"IF(AND(ورقة2!$H$2=ورقة1!I871,ورقة2!$F$2=ورقة1!H871,ورقة1!G871=\"ولد\"),1,0)","v":0},{"$f":"IF(B871=0,\"\",SUM($B$2:B871))","v":""},{"$f":"IF(AND(ورقة2!$H$2=ورقة1!I871,ورقة2!$F$2=ورقة1!H871,ورقة1!G871=\"بنت\"),1,0)","v":0},{"$f":"IF(D871=0,\"\",SUM($D$2:D871))","v":""},null,"بنت",3]
[null,{"$f":"IF(AND(ورقة2!$H$2=ورقة1!I872,ورقة2!$F$2=ورقة1!H872,ورقة1!G872=\"ولد\"),1,0)","v":0},{"$f":"IF(B872=0,\"\",SUM($B$2:B872))","v":""},{"$f":"IF(AND(ورقة2!$H$2=ورقة1!I872,ورقة2!$F$2=ورقة1!H872,ورقة1!G872=\"بنت\"),1,0)","v":0},{"$f":"IF(D872=0,\"\",SUM($D$2:D872))","v":""},null,"بنت",3]
[null,{"$f":"IF(AND(ورقة2!$H$2=ورقة1!I873,ورقة2!$F$2=ورقة1!H873,ورقة1!G873=\"ولد\"),1,0)","v":0},{"$f":"IF(B873=0,\"\",SUM($B$2:B873))","v":""},{"$f":"IF(AND(ورقة2!$H$2=ورقة1!I873,ورقة2!$F$2=ورقة1!H873,ورقة1!G873=\"بنت\"),1,0)","v":0},{"$f":"IF(D873=0,\"\",SUM($D$2:D873))","v":""},null,"بنت",3]
[null,{"$f":"IF(AND(ورقة2!$H$2=ورقة1!I874,ورقة2!$F$2=ورقة1!H874,ورقة1!G874=\"ولد\"),1,0)","v":0},{"$f":"IF(B874=0,\"\",SUM($B$2:B874))","v":""},{"$f":"IF(AND(ورقة2!$H$2=ورقة1!I874,ورقة2!$F$2=ورقة1!H874,ورقة1!G874=\"بنت\"),1,0)","v":0},{"$f":"IF(D874=0,\"\",SUM($D$2:D874))","v":""},null,"بنت",3]
[null,{"$f":"IF(AND(ورقة2!$H$2=ورقة1!I875,ورقة2!$F$2=ورقة1!H875,ورقة1!G875=\"ولد\"),1,0)","v":0},{"$f":"IF(B875=0,\"\",SUM($B$2:B875))","v":""},{"$f":"IF(AND(ورقة2!$H$2=ورقة1!I875,ورقة2!$F$2=ورقة1!H875,ورقة1!G875=\"بنت\"),1,0)","v":0},{"$f":"IF(D875=0,\"\",SUM($D$2:D875))","v":""},null,"بنت",3]
[null,{"$f":"IF(AND(ورقة2!$H$2=ورقة1!I876,ورقة2!$F$2=ورقة1!H876,ورقة1!G876=\"ولد\"),1,0)","v":0},{"$f":"IF(B876=0,\"\",SUM($B$2:B876))","v":""},{"$f":"IF(AND(ورقة2!$H$2=ورقة1!I876,ورقة2!$F$2=ورقة1!H876,ورقة1!G876=\"بنت\"),1,0)","v":0},{"$f":"IF(D876=0,\"\",SUM($D$2:D876))","v":""},null,"بنت",3]
[null,{"$f":"IF(AND(ورقة2!$H$2=ورقة1!I877,ورقة2!$F$2=ورقة1!H877,ورقة1!G877=\"ولد\"),1,0)","v":0},{"$f":"IF(B877=0,\"\",SUM($B$2:B877))","v":""},{"$f":"IF(AND(ورقة2!$H$2=ورقة1!I877,ورقة2!$F$2=ورقة1!H877,ورقة1!G877=\"بنت\"),1,0)","v":0},{"$f":"IF(D877=0,\"\",SUM($D$2:D877))","v":""},null,"بنت",3]
[null,{"$f":"IF(AND(ورقة2!$H$2=ورقة1!I878,ورقة2!$F$2=ورقة1!H878,ورقة1!G878=\"ولد\"),1,0)","v":0},{"$f":"IF(B878=0,\"\",SUM($B$2:B878))","v":""},{"$f":"IF(AND(ورقة2!$H$2=ورقة1!I878,ورقة2!$F$2=ورقة1!H878,ورقة1!G878=\"بنت\"),1,0)","v":0},{"$f":"IF(D878=0,\"\",SUM($D$2:D878))","v":""},null,"بنت",3]
[null,{"$f":"IF(AND(ورقة2!$H$2=ورقة1!I879,ورقة2!$F$2=ورقة1!H879,ورقة1!G879=\"ولد\"),1,0)","v":0},{"$f":"IF(B879=0,\"\",SUM($B$2:B879))","v":""},{"$f":"IF(AND(ورقة2!$H$2=ورقة1!I879,ورقة2!$F$2=ورقة1!H879,ورقة1!G879=\"بنت\"),1,0)","v":0},{"$f":"IF(D879=0,\"\",SUM($D$2:D879))","v":""},null,"بنت",3]
[null,{"$f":"IF(AND(ورقة2!$H$2=ورقة1!I880,ورقة2!$F$2=ورقة1!H880,ورقة1!G880=\"ولد\"),1,0)","v":0},{"$f":"IF(B880=0,\"\",SUM($B$2:B880))","v":""},{"$f":"IF(AND(ورقة2!$H$2=ورقة1!I880,ورقة2!$F$2=ورقة1!H880,ورقة1!G880=\"بنت\"),1,0)","v":0},{"$f":"IF(D880=0,\"\",SUM($D$2:D880))","v":""},null,"بنت",3]
[null,{"$f":"IF(AND(ورقة2!$H$2=ورقة1!I881,ورقة2!$F$2=ورقة1!H881,ورقة1!G881=\"ولد\"),1,0)","v":0},{"$f":"IF(B881=0,\"\",SUM($B$2:B881))","v":""},{"$f":"IF(AND(ورقة2!$H$2=ورقة1!I881,ورقة2!$F$2=ورقة1!H881,ورقة1!G881=\"بنت\"),1,0)","v":0},{"$f":"IF(D881=0,\"\",SUM($D$2:D881))","v":""},null,"بنت",3]
[null,{"$f":"IF(AND(ورقة2!$H$2=ورقة1!I882,ورقة2!$F$2=ورقة1!H882,ورقة1!G882=\"ولد\"),1,0)","v":0},{"$f":"IF(B882=0,\"\",SUM($B$2:B882))","v":""},{"$f":"IF(AND(ورقة2!$H$2=ورقة1!I882,ورقة2!$F$2=ورقة1!H882,ورقة1!G882=\"بنت\"),1,0)","v":0},{"$f":"IF(D882=0,\"\",SUM($D$2:D882))","v":""},null,"بنت",3]
[null,{"$f":"IF(AND(ورقة2!$H$2=ورقة1!I883,ورقة2!$F$2=ورقة1!H883,ورقة1!G883=\"ولد\"),1,0)","v":0},{"$f":"IF(B883=0,\"\",SUM($B$2:B883))","v":""},{"$f":"IF(AND(ورقة2!$H$2=ورقة1!I883,ورقة2!$F$2=ورقة1!H883,ورقة1!G883=\"بنت\"),1,0)","v":0},{"$f":"IF(D883=0,\"\",SUM($D$2:D883))","v":""},null,"بنت",3]
[null,{"$f":"IF(AND(ورقة2!$H$2=ورقة1!I884,ورقة2!$F$2=ورقة1!H884,ورقة1!G884=\"ولد\"),1,0)","v":0},{"$f":"IF(B884=0,\"\",SUM($B$2:B884))","v":""},{"$f":"IF(AND(ورقة2!$H$2=ورقة1!I884,ورقة2!$F$2=ورقة1!H884,ورقة1!G884=\"بنت\"),1,0)","v":0},{"$f":"IF(D884=0,\"\",SUM($D$2:D884))","v":""},null,"بنت",3]
[null,{"$f":"IF(AND(ورقة2!$H$2=ورقة1!I885,ورقة2!$F$2=ورقة1!H885,ورقة1!G885=\"ولد\"),1,0)","v":0},{"$f":"IF(B885=0,\"\",SUM($B$2:B885))","v":""},{"$f":"IF(AND(ورقة2!$H$2=ورقة1!I885,ورقة2!$F$2=ورقة1!H885,ورقة1!G885=\"بنت\"),1,0)","v":0},{"$f":"IF(D885=0,\"\",SUM($D$2:D885))","v":""},null,"بنت",3]
[null,{"$f":"IF(AND(ورقة2!$H$2=ورقة1!I886,ورقة2!$F$2=ورقة1!H886,ورقة1!G886=\"ولد\"),1,0)","v":0},{"$f":"IF(B886=0,\"\",SUM($B$2:B886))","v":""},{"$f":"IF(AND(ورقة2!$H$2=ورقة1!I886,ورقة2!$F$2=ورقة1!H886,ورقة1!G886=\"بنت\"),1,0)","v":0},{"$f":"IF(D886=0,\"\",SUM($D$2:D886))","v":""},null,"بنت",3]
[null,{"$f":"IF(AND(ورقة2!$H$2=ورقة1!I887,ورقة2!$F$2=ورقة1!H887,ورقة1!G887=\"ولد\"),1,0)","v":0},{"$f":"IF(B887=0,\"\",SUM($B$2:B887))","v":""},{"$f":"IF(AND(ورقة2!$H$2=ورقة1!I887,ورقة2!$F$2=ورقة1!H887,ورقة1!G887=\"بنت\"),1,0)","v":0},{"$f":"IF(D887=0,\"\",SUM($D$2:D887))","v":""},null,"بنت",3]
[null,{"$f":"IF(AND(ورقة2!$H$2=ورقة1!I888,ورقة2!$F$2=ورقة1!H888,ورقة1!G888=\"ولد\"),1,0)","v":0},{"$f":"IF(B888=0,\"\",SUM($B$2:B888))","v":""},{"$f":"IF(AND(ورقة2!$H$2=ورقة1!I888,ورقة2!$F$2=ورقة1!H888,ورقة1!G888=\"بنت\"),1,0)","v":0},{"$f":"IF(D888=0,\"\",SUM($D$2:D888))","v":""},null,"بنت",3]
[null,{"$f":"IF(AND(ورقة2!$H$2=ورقة1!I889,ورقة2!$F$2=ورقة1!H889,ورقة1!G889=\"ولد\"),1,0)","v":0},{"$f":"IF(B889=0,\"\",SUM($B$2:B889))","v":""},{"$f":"IF(AND(ورقة2!$H$2=ورقة1!I889,ورقة2!$F$2=ورقة1!H889,ورقة1!G889=\"بنت\"),1,0)","v":0},{"$f":"IF(D889=0,\"\",SUM($D$2:D889))","v":""},null,"بنت",3]
[null,{"$f":"IF(AND(ورقة2!$H$2=ورقة1!I890,ورقة2!$F$2=ورقة1!H890,ورقة1!G890=\"ولد\"),1,0)","v":0},{"$f":"IF(B890=0,\"\",SUM($B$2:B890))","v":""},{"$f":"IF(AND(ورقة2!$H$2=ورقة1!I890,ورقة2!$F$2=ورقة1!H890,ورقة1!G890=\"بنت\"),1,0)","v":0},{"$f":"IF(D890=0,\"\",SUM($D$2:D890))","v":""},null,"بنت",3]
[null,{"$f":"IF(AND(ورقة2!$H$2=ورقة1!I891,ورقة2!$F$2=ورقة1!H891,ورقة1!G891=\"ولد\"),1,0)","v":0},{"$f":"IF(B891=0,\"\",SUM($B$2:B891))","v":""},{"$f":"IF(AND(ورقة2!$H$2=ورقة1!I891,ورقة2!$F$2=ورقة1!H891,ورقة1!G891=\"بنت\"),1,0)","v":0},{"$f":"IF(D891=0,\"\",SUM($D$2:D891))","v":""},null,"بنت",3]
[null,{"$f":"IF(AND(ورقة2!$H$2=ورقة1!I892,ورقة2!$F$2=ورقة1!H892,ورقة1!G892=\"ولد\"),1,0)","v":0},{"$f":"IF(B892=0,\"\",SUM($B$2:B892))","v":""},{"$f":"IF(AND(ورقة2!$H$2=ورقة1!I892,ورقة2!$F$2=ورقة1!H892,ورقة1!G892=\"بنت\"),1,0)","v":0},{"$f":"IF(D892=0,\"\",SUM($D$2:D892))","v":""},null,"بنت",3]
[null,{"$f":"IF(AND(ورقة2!$H$2=ورقة1!I893,ورقة2!$F$2=ورقة1!H893,ورقة1!G893=\"ولد\"),1,0)","v":0},{"$f":"IF(B893=0,\"\",SUM($B$2:B893))","v":""},{"$f":"IF(AND(ورقة2!$H$2=ورقة1!I893,ورقة2!$F$2=ورقة1!H893,ورقة1!G893=\"بنت\"),1,0)","v":0},{"$f":"IF(D893=0,\"\",SUM($D$2:D893))","v":""},null,"بنت",3]
[null,{"$f":"IF(AND(ورقة2!$H$2=ورقة1!I894,ورقة2!$F$2=ورقة1!H894,ورقة1!G894=\"ولد\"),1,0)","v":0},{"$f":"IF(B894=0,\"\",SUM($B$2:B894))","v":""},{"$f":"IF(AND(ورقة2!$H$2=ورقة1!I894,ورقة2!$F$2=ورقة1!H894,ورقة1!G894=\"بنت\"),1,0)","v":0},{"$f":"IF(D894=0,\"\",SUM($D$2:D894))","v":""},null,"بنت",3]
[null,{"$f":"IF(AND(ورقة2!$H$2=ورقة1!I895,ورقة2!$F$2=ورقة1!H895,ورقة1!G895=\"ولد\"),1,0)","v":0},{"$f":"IF(B895=0,\"\",SUM($B$2:B895))","v":""},{"$f":"IF(AND(ورقة2!$H$2=ورقة1!I895,ورقة2!$F$2=ورقة1!H895,ورقة1!G895=\"بنت\"),1,0)","v":0},{"$f":"IF(D895=0,\"\",SUM($D$2:D895))","v":""},null,"بنت",3]
[null,{"$f":"IF(AND(ورقة2!$H$2=ورقة1!I896,ورقة2!$F$2=ورقة1!H896,ورقة1!G896=\"ولد\"),1,0)","v":0},{"$f":"IF(B896=0,\"\",SUM($B$2:B896))","v":""},{"$f":"IF(AND(ورقة2!$H$2=ورقة1!I896,ورقة2!$F$2=ورقة1!H896,ورقة1!G896=\"بنت\"),1,0)","v":0},{"$f":"IF(D896=0,\"\",SUM($D$2:D896))","v":""},null,"بنت",3]
[null,{"$f":"IF(AND(ورقة2!$H$2=ورقة1!I897,ورقة2!$F$2=ورقة1!H897,ورقة1!G897=\"ولد\"),1,0)","v":0},{"$f":"IF(B897=0,\"\",SUM($B$2:B897))","v":""},{"$f":"IF(AND(ورقة2!$H$2=ورقة1!I897,ورقة2!$F$2=ورقة1!H897,ورقة1!G897=\"بنت\"),1,0)","v":0},{"$f":"IF(D897=0,\"\",SUM($D$2:D897))","v":""},null,"بنت",3]
[null,{"$f":"IF(AND(ورقة2!$H$2=ورقة1!I898,ورقة2!$F$2=ورقة1!H898,ورقة1!G898=\"ولد\"),1,0)","v":0},{"$f":"IF(B898=0,\"\",SUM($B$2:B898))","v":""},{"$f":"IF(AND(ورقة2!$H$2=ورقة1!I898,ورقة2!$F$2=ورقة1!H898,ورقة1!G898=\"بنت\"),1,0)","v":0},{"$f":"IF(D898=0,\"\",SUM($D$2:D898))","v":""},null,"بنت",3]
[null,{"$f":"IF(AND(ورقة2!$H$2=ورقة1!I899,ورقة2!$F$2=ورقة1!H899,ورقة1!G899=\"ولد\"),1,0)","v":0},{"$f":"IF(B899=0,\"\",SUM($B$2:B899))","v":""},{"$f":"IF(AND(ورقة2!$H$2=ورقة1!I899,ورقة2!$F$2=ورقة1!H899,ورقة1!G899=\"بنت\"),1,0)","v":0},{"$f":"IF(D899=0,\"\",SUM($D$2:D899))","v":""},null,"بنت",3]
[null,{"$f":"IF(AND(ورقة2!$H$2=ورقة1!I900,ورقة2!$F$2=ورقة1!H900,ورقة1!G900=\"ولد\"),1,0)","v":0},{"$f":"IF(B900=0,\"\",SUM($B$2:B900))","v":""},{"$f":"IF(AND(ورقة2!$H$2=ورقة1!I900,ورقة2!$F$2=ورقة1!H900,ورقة1!G900=\"بنت\"),1,0)","v":0},{"$f":"IF(D900=0,\"\",SUM($D$2:D900))","v":""},null,"بنت",3]
[null,{"$f":"IF(AND(ورقة2!$H$2=ورقة1!I901,ورقة2!$F$2=ورقة1!H901,ورقة1!G901=\"ولد\"),1,0)","v":0},{"$f":"IF(B901=0,\"\",SUM($B$2:B901))","v":""},{"$f":"IF(AND(ورقة2!$H$2=ورقة1!I901,ورقة2!$F$2=ورقة1!H901,ورقة1!G901=\"بنت\"),1,0)","v":0},{"$f":"IF(D901=0,\"\",SUM($D$2:D901))","v":""},null,"بنت",3]
[null,{"$f":"IF(AND(ورقة2!$H$2=ورقة1!I902,ورقة2!$F$2=ورقة1!H902,ورقة1!G902=\"ولد\"),1,0)","v":0},{"$f":"IF(B902=0,\"\",SUM($B$2:B902))","v":""},{"$f":"IF(AND(ورقة2!$H$2=ورقة1!I902,ورقة2!$F$2=ورقة1!H902,ورقة1!G902=\"بنت\"),1,0)","v":0},{"$f":"IF(D902=0,\"\",SUM($D$2:D902))","v":""},null,"بنت",3]
[null,{"$f":"IF(AND(ورقة2!$H$2=ورقة1!I903,ورقة2!$F$2=ورقة1!H903,ورقة1!G903=\"ولد\"),1,0)","v":0},{"$f":"IF(B903=0,\"\",SUM($B$2:B903))","v":""},{"$f":"IF(AND(ورقة2!$H$2=ورقة1!I903,ورقة2!$F$2=ورقة1!H903,ورقة1!G903=\"بنت\"),1,0)","v":0},{"$f":"IF(D903=0,\"\",SUM($D$2:D903))","v":""},null,"بنت",3]
[null,{"$f":"IF(AND(ورقة2!$H$2=ورقة1!I904,ورقة2!$F$2=ورقة1!H904,ورقة1!G904=\"ولد\"),1,0)","v":0},{"$f":"IF(B904=0,\"\",SUM($B$2:B904))","v":""},{"$f":"IF(AND(ورقة2!$H$2=ورقة1!I904,ورقة2!$F$2=ورقة1!H904,ورقة1!G904=\"بنت\"),1,0)","v":0},{"$f":"IF(D904=0,\"\",SUM($D$2:D904))","v":""},null,"بنت",3]
[null,{"$f":"IF(AND(ورقة2!$H$2=ورقة1!I905,ورقة2!$F$2=ورقة1!H905,ورقة1!G905=\"ولد\"),1,0)","v":0},{"$f":"IF(B905=0,\"\",SUM($B$2:B905))","v":""},{"$f":"IF(AND(ورقة2!$H$2=ورقة1!I905,ورقة2!$F$2=ورقة1!H905,ورقة1!G905=\"بنت\"),1,0)","v":0},{"$f":"IF(D905=0,\"\",SUM($D$2:D905))","v":""},null,"بنت",3]
[null,{"$f":"IF(AND(ورقة2!$H$2=ورقة1!I906,ورقة2!$F$2=ورقة1!H906,ورقة1!G906=\"ولد\"),1,0)","v":0},{"$f":"IF(B906=0,\"\",SUM($B$2:B906))","v":""},{"$f":"IF(AND(ورقة2!$H$2=ورقة1!I906,ورقة2!$F$2=ورقة1!H906,ورقة1!G906=\"بنت\"),1,0)","v":0},{"$f":"IF(D906=0,\"\",SUM($D$2:D906))","v":""},null,"بنت",3]
[null,{"$f":"IF(AND(ورقة2!$H$2=ورقة1!I907,ورقة2!$F$2=ورقة1!H907,ورقة1!G907=\"ولد\"),1,0)","v":0},{"$f":"IF(B907=0,\"\",SUM($B$2:B907))","v":""},{"$f":"IF(AND(ورقة2!$H$2=ورقة1!I907,ورقة2!$F$2=ورقة1!H907,ورقة1!G907=\"بنت\"),1,0)","v":0},{"$f":"IF(D907=0,\"\",SUM($D$2:D907))","v":""},null,"بنت",3]
[null,{"$f":"IF(AND(ورقة2!$H$2=ورقة1!I908,ورقة2!$F$2=ورقة1!H908,ورقة1!G908=\"ولد\"),1,0)","v":0},{"$f":"IF(B908=0,\"\",SUM($B$2:B908))","v":""},{"$f":"IF(AND(ورقة2!$H$2=ورقة1!I908,ورقة2!$F$2=ورقة1!H908,ورقة1!G908=\"بنت\"),1,0)","v":0},{"$f":"IF(D908=0,\"\",SUM($D$2:D908))","v":""},null,"بنت",3]
[null,{"$f":"IF(AND(ورقة2!$H$2=ورقة1!I909,ورقة2!$F$2=ورقة1!H909,ورقة1!G909=\"ولد\"),1,0)","v":0},{"$f":"IF(B909=0,\"\",SUM($B$2:B909))","v":""},{"$f":"IF(AND(ورقة2!$H$2=ورقة1!I909,ورقة2!$F$2=ورقة1!H909,ورقة1!G909=\"بنت\"),1,0)","v":0},{"$f":"IF(D909=0,\"\",SUM($D$2:D909))","v":""},null,"بنت",3]
[null,{"$f":"IF(AND(ورقة2!$H$2=ورقة1!I910,ورقة2!$F$2=ورقة1!H910,ورقة1!G910=\"ولد\"),1,0)","v":0},{"$f":"IF(B910=0,\"\",SUM($B$2:B910))","v":""},{"$f":"IF(AND(ورقة2!$H$2=ورقة1!I910,ورقة2!$F$2=ورقة1!H910,ورقة1!G910=\"بنت\"),1,0)","v":0},{"$f":"IF(D910=0,\"\",SUM($D$2:D910))","v":""},null,"بنت",3]
[null,{"$f":"IF(AND(ورقة2!$H$2=ورقة1!I911,ورقة2!$F$2=ورقة1!H911,ورقة1!G911=\"ولد\"),1,0)","v":0},{"$f":"IF(B911=0,\"\",SUM($B$2:B911))","v":""},{"$f":"IF(AND(ورقة2!$H$2=ورقة1!I911,ورقة2!$F$2=ورقة1!H911,ورقة1!G911=\"بنت\"),1,0)","v":0},{"$f":"IF(D911=0,\"\",SUM($D$2:D911))","v":""},null,"بنت",3]
[null,{"$f":"IF(AND(ورقة2!$H$2=ورقة1!I912,ورقة2!$F$2=ورقة1!H912,ورقة1!G912=\"ولد\"),1,0)","v":0},{"$f":"IF(B912=0,\"\",SUM($B$2:B912))","v":""},{"$f":"IF(AND(ورقة2!$H$2=ورقة1!I912,ورقة2!$F$2=ورقة1!H912,ورقة1!G912=\"بنت\"),1,0)","v":0},{"$f":"IF(D912=0,\"\",SUM($D$2:D912))","v":""},null,"بنت",3]
[null,{"$f":"IF(AND(ورقة2!$H$2=ورقة1!I913,ورقة2!$F$2=ورقة1!H913,ورقة1!G913=\"ولد\"),1,0)","v":0},{"$f":"IF(B913=0,\"\",SUM($B$2:B913))","v":""},{"$f":"IF(AND(ورقة2!$H$2=ورقة1!I913,ورقة2!$F$2=ورقة1!H913,ورقة1!G913=\"بنت\"),1,0)","v":0},{"$f":"IF(D913=0,\"\",SUM($D$2:D913))","v":""},null,"بنت",3]
[null,{"$f":"IF(AND(ورقة2!$H$2=ورقة1!I914,ورقة2!$F$2=ورقة1!H914,ورقة1!G914=\"ولد\"),1,0)","v":0},{"$f":"IF(B914=0,\"\",SUM($B$2:B914))","v":""},{"$f":"IF(AND(ورقة2!$H$2=ورقة1!I914,ورقة2!$F$2=ورقة1!H914,ورقة1!G914=\"بنت\"),1,0)","v":0},{"$f":"IF(D914=0,\"\",SUM($D$2:D914))","v":""},null,"بنت",3]
[null,{"$f":"IF(AND(ورقة2!$H$2=ورقة1!I915,ورقة2!$F$2=ورقة1!H915,ورقة1!G915=\"ولد\"),1,0)","v":0},{"$f":"IF(B915=0,\"\",SUM($B$2:B915))","v":""},{"$f":"IF(AND(ورقة2!$H$2=ورقة1!I915,ورقة2!$F$2=ورقة1!H915,ورقة1!G915=\"بنت\"),1,0)","v":0},{"$f":"IF(D915=0,\"\",SUM($D$2:D915))","v":""},null,"بنت",3]
[null,{"$f":"IF(AND(ورقة2!$H$2=ورقة1!I916,ورقة2!$F$2=ورقة1!H916,ورقة1!G916=\"ولد\"),1,0)","v":0},{"$f":"IF(B916=0,\"\",SUM($B$2:B916))","v":""},{"$f":"IF(AND(ورقة2!$H$2=ورقة1!I916,ورقة2!$F$2=ورقة1!H916,ورقة1!G916=\"بنت\"),1,0)","v":0},{"$f":"IF(D916=0,\"\",SUM($D$2:D916))","v":""},null,"بنت",3]
[null,{"$f":"IF(AND(ورقة2!$H$2=ورقة1!I917,ورقة2!$F$2=ورقة1!H917,ورقة1!G917=\"ولد\"),1,0)","v":0},{"$f":"IF(B917=0,\"\",SUM($B$2:B917))","v":""},{"$f":"IF(AND(ورقة2!$H$2=ورقة1!I917,ورقة2!$F$2=ورقة1!H917,ورقة1!G917=\"بنت\"),1,0)","v":0},{"$f":"IF(D917=0,\"\",SUM($D$2:D917))","v":""},null,"بنت",3]
[null,{"$f":"IF(AND(ورقة2!$H$2=ورقة1!I918,ورقة2!$F$2=ورقة1!H918,ورقة1!G918=\"ولد\"),1,0)","v":0},{"$f":"IF(B918=0,\"\",SUM($B$2:B918))","v":""},{"$f":"IF(AND(ورقة2!$H$2=ورقة1!I918,ورقة2!$F$2=ورقة1!H918,ورقة1!G918=\"بنت\"),1,0)","v":0},{"$f":"IF(D918=0,\"\",SUM($D$2:D918))","v":""},null,"بنت",3]
[null,{"$f":"IF(AND(ورقة2!$H$2=ورقة1!I919,ورقة2!$F$2=ورقة1!H919,ورقة1!G919=\"ولد\"),1,0)","v":0},{"$f":"IF(B919=0,\"\",SUM($B$2:B919))","v":""},{"$f":"IF(AND(ورقة2!$H$2=ورقة1!I919,ورقة2!$F$2=ورقة1!H919,ورقة1!G919=\"بنت\"),1,0)","v":0},{"$f":"IF(D919=0,\"\",SUM($D$2:D919))","v":""},null,"بنت",3]
[null,{"$f":"IF(AND(ورقة2!$H$2=ورقة1!I920,ورقة2!$F$2=ورقة1!H920,ورقة1!G920=\"ولد\"),1,0)","v":0},{"$f":"IF(B920=0,\"\",SUM($B$2:B920))","v":""},{"$f":"IF(AND(ورقة2!$H$2=ورقة1!I920,ورقة2!$F$2=ورقة1!H920,ورقة1!G920=\"بنت\"),1,0)","v":0},{"$f":"IF(D920=0,\"\",SUM($D$2:D920))","v":""},null,"بنت",3]
[null,{"$f":"IF(AND(ورقة2!$H$2=ورقة1!I921,ورقة2!$F$2=ورقة1!H921,ورقة1!G921=\"ولد\"),1,0)","v":0},{"$f":"IF(B921=0,\"\",SUM($B$2:B921))","v":""},{"$f":"IF(AND(ورقة2!$H$2=ورقة1!I921,ورقة2!$F$2=ورقة1!H921,ورقة1!G921=\"بنت\"),1,0)","v":0},{"$f":"IF(D921=0,\"\",SUM($D$2:D921))","v":""},null,"بنت",3]
[null,{"$f":"IF(AND(ورقة2!$H$2=ورقة1!I922,ورقة2!$F$2=ورقة1!H922,ورقة1!G922=\"ولد\"),1,0)","v":0},{"$f":"IF(B922=0,\"\",SUM($B$2:B922))","v":""},{"$f":"IF(AND(ورقة2!$H$2=ورقة1!I922,ورقة2!$F$2=ورقة1!H922,ورقة1!G922=\"بنت\"),1,0)","v":0},{"$f":"IF(D922=0,\"\",SUM($D$2:D922))","v":""},null,"بنت",3]
[null,{"$f":"IF(AND(ورقة2!$H$2=ورقة1!I923,ورقة2!$F$2=ورقة1!H923,ورقة1!G923=\"ولد\"),1,0)","v":0},{"$f":"IF(B923=0,\"\",SUM($B$2:B923))","v":""},{"$f":"IF(AND(ورقة2!$H$2=ورقة1!I923,ورقة2!$F$2=ورقة1!H923,ورقة1!G923=\"بنت\"),1,0)","v":0},{"$f":"IF(D923=0,\"\",SUM($D$2:D923))","v":""},null,"بنت",3]
[null,{"$f":"IF(AND(ورقة2!$H$2=ورقة1!I924,ورقة2!$F$2=ورقة1!H924,ورقة1!G924=\"ولد\"),1,0)","v":0},{"$f":"IF(B924=0,\"\",SUM($B$2:B924))","v":""},{"$f":"IF(AND(ورقة2!$H$2=ورقة1!I924,ورقة2!$F$2=ورقة1!H924,ورقة1!G924=\"بنت\"),1,0)","v":0},{"$f":"IF(D924=0,\"\",SUM($D$2:D924))","v":""},null,"بنت",3]
[null,{"$f":"IF(AND(ورقة2!$H$2=ورقة1!I925,ورقة2!$F$2=ورقة1!H925,ورقة1!G925=\"ولد\"),1,0)","v":0},{"$f":"IF(B925=0,\"\",SUM($B$2:B925))","v":""},{"$f":"IF(AND(ورقة2!$H$2=ورقة1!I925,ورقة2!$F$2=ورقة1!H925,ورقة1!G925=\"بنت\"),1,0)","v":0},{"$f":"IF(D925=0,\"\",SUM($D$2:D925))","v":""},null,"بنت",3]
[null,{"$f":"IF(AND(ورقة2!$H$2=ورقة1!I926,ورقة2!$F$2=ورقة1!H926,ورقة1!G926=\"ولد\"),1,0)","v":0},{"$f":"IF(B926=0,\"\",SUM($B$2:B926))","v":""},{"$f":"IF(AND(ورقة2!$H$2=ورقة1!I926,ورقة2!$F$2=ورقة1!H926,ورقة1!G926=\"بنت\"),1,0)","v":0},{"$f":"IF(D926=0,\"\",SUM($D$2:D926))","v":""},null,"بنت",3]
[null,{"$f":"IF(AND(ورقة2!$H$2=ورقة1!I927,ورقة2!$F$2=ورقة1!H927,ورقة1!G927=\"ولد\"),1,0)","v":0},{"$f":"IF(B927=0,\"\",SUM($B$2:B927))","v":""},{"$f":"IF(AND(ورقة2!$H$2=ورقة1!I927,ورقة2!$F$2=ورقة1!H927,ورقة1!G927=\"بنت\"),1,0)","v":0},{"$f":"IF(D927=0,\"\",SUM($D$2:D927))","v":""},null,"بنت",3]
[null,{"$f":"IF(AND(ورقة2!$H$2=ورقة1!I928,ورقة2!$F$2=ورقة1!H928,ورقة1!G928=\"ولد\"),1,0)","v":0},{"$f":"IF(B928=0,\"\",SUM($B$2:B928))","v":""},{"$f":"IF(AND(ورقة2!$H$2=ورقة1!I928,ورقة2!$F$2=ورقة1!H928,ورقة1!G928=\"بنت\"),1,0)","v":0},{"$f":"IF(D928=0,\"\",SUM($D$2:D928))","v":""},null,"بنت",3]
[null,{"$f":"IF(AND(ورقة2!$H$2=ورقة1!I929,ورقة2!$F$2=ورقة1!H929,ورقة1!G929=\"ولد\"),1,0)","v":0},{"$f":"IF(B929=0,\"\",SUM($B$2:B929))","v":""},{"$f":"IF(AND(ورقة2!$H$2=ورقة1!I929,ورقة2!$F$2=ورقة1!H929,ورقة1!G929=\"بنت\"),1,0)","v":0},{"$f":"IF(D929=0,\"\",SUM($D$2:D929))","v":""},null,"بنت",3]
[null,{"$f":"IF(AND(ورقة2!$H$2=ورقة1!I930,ورقة2!$F$2=ورقة1!H930,ورقة1!G930=\"ولد\"),1,0)","v":0},{"$f":"IF(B930=0,\"\",SUM($B$2:B930))","v":""},{"$f":"IF(AND(ورقة2!$H$2=ورقة1!I930,ورقة2!$F$2=ورقة1!H930,ورقة1!G930=\"بنت\"),1,0)","v":0},{"$f":"IF(D930=0,\"\",SUM($D$2:D930))","v":""},null,"بنت",3]
[null,{"$f":"IF(AND(ورقة2!$H$2=ورقة1!I931,ورقة2!$F$2=ورقة1!H931,ورقة1!G931=\"ولد\"),1,0)","v":0},{"$f":"IF(B931=0,\"\",SUM($B$2:B931))","v":""},{"$f":"IF(AND(ورقة2!$H$2=ورقة1!I931,ورقة2!$F$2=ورقة1!H931,ورقة1!G931=\"بنت\"),1,0)","v":0},{"$f":"IF(D931=0,\"\",SUM($D$2:D931))","v":""},null,"بنت",3]
[null,{"$f":"IF(AND(ورقة2!$H$2=ورقة1!I932,ورقة2!$F$2=ورقة1!H932,ورقة1!G932=\"ولد\"),1,0)","v":0},{"$f":"IF(B932=0,\"\",SUM($B$2:B932))","v":""},{"$f":"IF(AND(ورقة2!$H$2=ورقة1!I932,ورقة2!$F$2=ورقة1!H932,ورقة1!G932=\"بنت\"),1,0)","v":0},{"$f":"IF(D932=0,\"\",SUM($D$2:D932))","v":""},null,"بنت",3]
[null,{"$f":"IF(AND(ورقة2!$H$2=ورقة1!I933,ورقة2!$F$2=ورقة1!H933,ورقة1!G933=\"ولد\"),1,0)","v":0},{"$f":"IF(B933=0,\"\",SUM($B$2:B933))","v":""},{"$f":"IF(AND(ورقة2!$H$2=ورقة1!I933,ورقة2!$F$2=ورقة1!H933,ورقة1!G933=\"بنت\"),1,0)","v":0},{"$f":"IF(D933=0,\"\",SUM($D$2:D933))","v":""},null,"بنت",3]
[null,{"$f":"IF(AND(ورقة2!$H$2=ورقة1!I934,ورقة2!$F$2=ورقة1!H934,ورقة1!G934=\"ولد\"),1,0)","v":0},{"$f":"IF(B934=0,\"\",SUM($B$2:B934))","v":""},{"$f":"IF(AND(ورقة2!$H$2=ورقة1!I934,ورقة2!$F$2=ورقة1!H934,ورقة1!G934=\"بنت\"),1,0)","v":0},{"$f":"IF(D934=0,\"\",SUM($D$2:D934))","v":""},null,"بنت",3]
[null,{"$f":"IF(AND(ورقة2!$H$2=ورقة1!I935,ورقة2!$F$2=ورقة1!H935,ورقة1!G935=\"ولد\"),1,0)","v":0},{"$f":"IF(B935=0,\"\",SUM($B$2:B935))","v":""},{"$f":"IF(AND(ورقة2!$H$2=ورقة1!I935,ورقة2!$F$2=ورقة1!H935,ورقة1!G935=\"بنت\"),1,0)","v":0},{"$f":"IF(D935=0,\"\",SUM($D$2:D935))","v":""},null,"بنت",3]
[null,{"$f":"IF(AND(ورقة2!$H$2=ورقة1!I936,ورقة2!$F$2=ورقة1!H936,ورقة1!G936=\"ولد\"),1,0)","v":0},{"$f":"IF(B936=0,\"\",SUM($B$2:B936))","v":""},{"$f":"IF(AND(ورقة2!$H$2=ورقة1!I936,ورقة2!$F$2=ورقة1!H936,ورقة1!G936=\"بنت\"),1,0)","v":0},{"$f":"IF(D936=0,\"\",SUM($D$2:D936))","v":""},null,"بنت",3]
[null,{"$f":"IF(AND(ورقة2!$H$2=ورقة1!I937,ورقة2!$F$2=ورقة1!H937,ورقة1!G937=\"ولد\"),1,0)","v":0},{"$f":"IF(B937=0,\"\",SUM($B$2:B937))","v":""},{"$f":"IF(AND(ورقة2!$H$2=ورقة1!I937,ورقة2!$F$2=ورقة1!H937,ورقة1!G937=\"بنت\"),1,0)","v":0},{"$f":"IF(D937=0,\"\",SUM($D$2:D937))","v":""},null,"بنت",3]
[null,{"$f":"IF(AND(ورقة2!$H$2=ورقة1!I938,ورقة2!$F$2=ورقة1!H938,ورقة1!G938=\"ولد\"),1,0)","v":0},{"$f":"IF(B938=0,\"\",SUM($B$2:B938))","v":""},{"$f":"IF(AND(ورقة2!$H$2=ورقة1!I938,ورقة2!$F$2=ورقة1!H938,ورقة1!G938=\"بنت\"),1,0)","v":0},{"$f":"IF(D938=0,\"\",SUM($D$2:D938))","v":""},null,"بنت",3]
[null,{"$f":"IF(AND(ورقة2!$H$2=ورقة1!I939,ورقة2!$F$2=ورقة1!H939,ورقة1!G939=\"ولد\"),1,0)","v":0},{"$f":"IF(B939=0,\"\",SUM($B$2:B939))","v":""},{"$f":"IF(AND(ورقة2!$H$2=ورقة1!I939,ورقة2!$F$2=ورقة1!H939,ورقة1!G939=\"بنت\"),1,0)","v":0},{"$f":"IF(D939=0,\"\",SUM($D$2:D939))","v":""},null,"بنت",3]
[null,{"$f":"IF(AND(ورقة2!$H$2=ورقة1!I940,ورقة2!$F$2=ورقة1!H940,ورقة1!G940=\"ولد\"),1,0)","v":0},{"$f":"IF(B940=0,\"\",SUM($B$2:B940))","v":""},{"$f":"IF(AND(ورقة2!$H$2=ورقة1!I940,ورقة2!$F$2=ورقة1!H940,ورقة1!G940=\"بنت\"),1,0)","v":0},{"$f":"IF(D940=0,\"\",SUM($D$2:D940))","v":""},null,"بنت",3]
[null,{"$f":"IF(AND(ورقة2!$H$2=ورقة1!I941,ورقة2!$F$2=ورقة1!H941,ورقة1!G941=\"ولد\"),1,0)","v":0},{"$f":"IF(B941=0,\"\",SUM($B$2:B941))","v":""},{"$f":"IF(AND(ورقة2!$H$2=ورقة1!I941,ورقة2!$F$2=ورقة1!H941,ورقة1!G941=\"بنت\"),1,0)","v":0},{"$f":"IF(D941=0,\"\",SUM($D$2:D941))","v":""},null,"بنت",3]
[null,{"$f":"IF(AND(ورقة2!$H$2=ورقة1!I942,ورقة2!$F$2=ورقة1!H942,ورقة1!G942=\"ولد\"),1,0)","v":0},{"$f":"IF(B942=0,\"\",SUM($B$2:B942))","v":""},{"$f":"IF(AND(ورقة2!$H$2=ورقة1!I942,ورقة2!$F$2=ورقة1!H942,ورقة1!G942=\"بنت\"),1,0)","v":0},{"$f":"IF(D942=0,\"\",SUM($D$2:D942))","v":""},null,"بنت",3]
[null,{"$f":"IF(AND(ورقة2!$H$2=ورقة1!I943,ورقة2!$F$2=ورقة1!H943,ورقة1!G943=\"ولد\"),1,0)","v":0},{"$f":"IF(B943=0,\"\",SUM($B$2:B943))","v":""},{"$f":"IF(AND(ورقة2!$H$2=ورقة1!I943,ورقة2!$F$2=ورقة1!H943,ورقة1!G943=\"بنت\"),1,0)","v":0},{"$f":"IF(D943=0,\"\",SUM($D$2:D943))","v":""},null,"بنت",3]
[null,{"$f":"IF(AND(ورقة2!$H$2=ورقة1!I944,ورقة2!$F$2=ورقة1!H944,ورقة1!G944=\"ولد\"),1,0)","v":0},{"$f":"IF(B944=0,\"\",SUM($B$2:B944))","v":""},{"$f":"IF(AND(ورقة2!$H$2=ورقة1!I944,ورقة2!$F$2=ورقة1!H944,ورقة1!G944=\"بنت\"),1,0)","v":0},{"$f":"IF(D944=0,\"\",SUM($D$2:D944))","v":""},null,"بنت",3]
[null,{"$f":"IF(AND(ورقة2!$H$2=ورقة1!I945,ورقة2!$F$2=ورقة1!H945,ورقة1!G945=\"ولد\"),1,0)","v":0},{"$f":"IF(B945=0,\"\",SUM($B$2:B945))","v":""},{"$f":"IF(AND(ورقة2!$H$2=ورقة1!I945,ورقة2!$F$2=ورقة1!H945,ورقة1!G945=\"بنت\"),1,0)","v":0},{"$f":"IF(D945=0,\"\",SUM($D$2:D945))","v":""},null,"بنت",3]
[null,{"$f":"IF(AND(ورقة2!$H$2=ورقة1!I946,ورقة2!$F$2=ورقة1!H946,ورقة1!G946=\"ولد\"),1,0)","v":0},{"$f":"IF(B946=0,\"\",SUM($B$2:B946))","v":""},{"$f":"IF(AND(ورقة2!$H$2=ورقة1!I946,ورقة2!$F$2=ورقة1!H946,ورقة1!G946=\"بنت\"),1,0)","v":0},{"$f":"IF(D946=0,\"\",SUM($D$2:D946))","v":""},null,"بنت",3]
[null,{"$f":"IF(AND(ورقة2!$H$2=ورقة1!I947,ورقة2!$F$2=ورقة1!H947,ورقة1!G947=\"ولد\"),1,0)","v":0},{"$f":"IF(B947=0,\"\",SUM($B$2:B947))","v":""},{"$f":"IF(AND(ورقة2!$H$2=ورقة1!I947,ورقة2!$F$2=ورقة1!H947,ورقة1!G947=\"بنت\"),1,0)","v":0},{"$f":"IF(D947=0,\"\",SUM($D$2:D947))","v":""},null,"بنت",3]
[null,{"$f":"IF(AND(ورقة2!$H$2=ورقة1!I948,ورقة2!$F$2=ورقة1!H948,ورقة1!G948=\"ولد\"),1,0)","v":0},{"$f":"IF(B948=0,\"\",SUM($B$2:B948))","v":""},{"$f":"IF(AND(ورقة2!$H$2=ورقة1!I948,ورقة2!$F$2=ورقة1!H948,ورقة1!G948=\"بنت\"),1,0)","v":0},{"$f":"IF(D948=0,\"\",SUM($D$2:D948))","v":""},null,"بنت",3]
[null,{"$f":"IF(AND(ورقة2!$H$2=ورقة1!I949,ورقة2!$F$2=ورقة1!H949,ورقة1!G949=\"ولد\"),1,0)","v":0},{"$f":"IF(B949=0,\"\",SUM($B$2:B949))","v":""},{"$f":"IF(AND(ورقة2!$H$2=ورقة1!I949,ورقة2!$F$2=ورقة1!H949,ورقة1!G949=\"بنت\"),1,0)","v":0},{"$f":"IF(D949=0,\"\",SUM($D$2:D949))","v":""},null,"بنت",3]
[null,{"$f":"IF(AND(ورقة2!$H$2=ورقة1!I950,ورقة2!$F$2=ورقة1!H950,ورقة1!G950=\"ولد\"),1,0)","v":0},{"$f":"IF(B950=0,\"\",SUM($B$2:B950))","v":""},{"$f":"IF(AND(ورقة2!$H$2=ورقة1!I950,ورقة2!$F$2=ورقة1!H950,ورقة1!G950=\"بنت\"),1,0)","v":0},{"$f":"IF(D950=0,\"\",SUM($D$2:D950))","v":""},null,"بنت",3]
[null,{"$f":"IF(AND(ورقة2!$H$2=ورقة1!I951,ورقة2!$F$2=ورقة1!H951,ورقة1!G951=\"ولد\"),1,0)","v":0},{"$f":"IF(B951=0,\"\",SUM($B$2:B951))","v":""},{"$f":"IF(AND(ورقة2!$H$2=ورقة1!I951,ورقة2!$F$2=ورقة1!H951,ورقة1!G951=\"بنت\"),1,0)","v":0},{"$f":"IF(D951=0,\"\",SUM($D$2:D951))","v":""},null,"بنت",3]
[null,{"$f":"IF(AND(ورقة2!$H$2=ورقة1!I952,ورقة2!$F$2=ورقة1!H952,ورقة1!G952=\"ولد\"),1,0)","v":0},{"$f":"IF(B952=0,\"\",SUM($B$2:B952))","v":""},{"$f":"IF(AND(ورقة2!$H$2=ورقة1!I952,ورقة2!$F$2=ورقة1!H952,ورقة1!G952=\"بنت\"),1,0)","v":0},{"$f":"IF(D952=0,\"\",SUM($D$2:D952))","v":""},null,"بنت",3]
[null,{"$f":"IF(AND(ورقة2!$H$2=ورقة1!I953,ورقة2!$F$2=ورقة1!H953,ورقة1!G953=\"ولد\"),1,0)","v":0},{"$f":"IF(B953=0,\"\",SUM($B$2:B953))","v":""},{"$f":"IF(AND(ورقة2!$H$2=ورقة1!I953,ورقة2!$F$2=ورقة1!H953,ورقة1!G953=\"بنت\"),1,0)","v":0},{"$f":"IF(D953=0,\"\",SUM($D$2:D953))","v":""},null,"بنت",3]
[null,{"$f":"IF(AND(ورقة2!$H$2=ورقة1!I954,ورقة2!$F$2=ورقة1!H954,ورقة1!G954=\"ولد\"),1,0)","v":0},{"$f":"IF(B954=0,\"\",SUM($B$2:B954))","v":""},{"$f":"IF(AND(ورقة2!$H$2=ورقة1!I954,ورقة2!$F$2=ورقة1!H954,ورقة1!G954=\"بنت\"),1,0)","v":0},{"$f":"IF(D954=0,\"\",SUM($D$2:D954))","v":""},null,"بنت",3]
[null,{"$f":"IF(AND(ورقة2!$H$2=ورقة1!I955,ورقة2!$F$2=ورقة1!H955,ورقة1!G955=\"ولد\"),1,0)","v":0},{"$f":"IF(B955=0,\"\",SUM($B$2:B955))","v":""},{"$f":"IF(AND(ورقة2!$H$2=ورقة1!I955,ورقة2!$F$2=ورقة1!H955,ورقة1!G955=\"بنت\"),1,0)","v":0},{"$f":"IF(D955=0,\"\",SUM($D$2:D955))","v":""},null,"بنت",3]
[null,{"$f":"IF(AND(ورقة2!$H$2=ورقة1!I956,ورقة2!$F$2=ورقة1!H956,ورقة1!G956=\"ولد\"),1,0)","v":0},{"$f":"IF(B956=0,\"\",SUM($B$2:B956))","v":""},{"$f":"IF(AND(ورقة2!$H$2=ورقة1!I956,ورقة2!$F$2=ورقة1!H956,ورقة1!G956=\"بنت\"),1,0)","v":0},{"$f":"IF(D956=0,\"\",SUM($D$2:D956))","v":""},null,"بنت",3]
[null,{"$f":"IF(AND(ورقة2!$H$2=ورقة1!I957,ورقة2!$F$2=ورقة1!H957,ورقة1!G957=\"ولد\"),1,0)","v":0},{"$f":"IF(B957=0,\"\",SUM($B$2:B957))","v":""},{"$f":"IF(AND(ورقة2!$H$2=ورقة1!I957,ورقة2!$F$2=ورقة1!H957,ورقة1!G957=\"بنت\"),1,0)","v":0},{"$f":"IF(D957=0,\"\",SUM($D$2:D957))","v":""},null,"بنت",3]
[null,{"$f":"IF(AND(ورقة2!$H$2=ورقة1!I958,ورقة2!$F$2=ورقة1!H958,ورقة1!G958=\"ولد\"),1,0)","v":0},{"$f":"IF(B958=0,\"\",SUM($B$2:B958))","v":""},{"$f":"IF(AND(ورقة2!$H$2=ورقة1!I958,ورقة2!$F$2=ورقة1!H958,ورقة1!G958=\"بنت\"),1,0)","v":0},{"$f":"IF(D958=0,\"\",SUM($D$2:D958))","v":""},null,"بنت",3]
[null,{"$f":"IF(AND(ورقة2!$H$2=ورقة1!I959,ورقة2!$F$2=ورقة1!H959,ورقة1!G959=\"ولد\"),1,0)","v":0},{"$f":"IF(B959=0,\"\",SUM($B$2:B959))","v":""},{"$f":"IF(AND(ورقة2!$H$2=ورقة1!I959,ورقة2!$F$2=ورقة1!H959,ورقة1!G959=\"بنت\"),1,0)","v":0},{"$f":"IF(D959=0,\"\",SUM($D$2:D959))","v":""},null,"بنت",3]
[null,{"$f":"IF(AND(ورقة2!$H$2=ورقة1!I960,ورقة2!$F$2=ورقة1!H960,ورقة1!G960=\"ولد\"),1,0)","v":0},{"$f":"IF(B960=0,\"\",SUM($B$2:B960))","v":""},{"$f":"IF(AND(ورقة2!$H$2=ورقة1!I960,ورقة2!$F$2=ورقة1!H960,ورقة1!G960=\"بنت\"),1,0)","v":0},{"$f":"IF(D960=0,\"\",SUM($D$2:D960))","v":""},null,"بنت",3]
[null,{"$f":"IF(AND(ورقة2!$H$2=ورقة1!I961,ورقة2!$F$2=ورقة1!H961,ورقة1!G961=\"ولد\"),1,0)","v":0},{"$f":"IF(B961=0,\"\",SUM($B$2:B961))","v":""},{"$f":"IF(AND(ورقة2!$H$2=ورقة1!I961,ورقة2!$F$2=ورقة1!H961,ورقة1!G961=\"بنت\"),1,0)","v":0},{"$f":"IF(D961=0,\"\",SUM($D$2:D961))","v":""},null,"بنت",3]
[null,{"$f":"IF(AND(ورقة2!$H$2=ورقة1!I962,ورقة2!$F$2=ورقة1!H962,ورقة1!G962=\"ولد\"),1,0)","v":0},{"$f":"IF(B962=0,\"\",SUM($B$2:B962))","v":""},{"$f":"IF(AND(ورقة2!$H$2=ورقة1!I962,ورقة2!$F$2=ورقة1!H962,ورقة1!G962=\"بنت\"),1,0)","v":0},{"$f":"IF(D962=0,\"\",SUM($D$2:D962))","v":""},null,"بنت",3]
[null,{"$f":"IF(AND(ورقة2!$H$2=ورقة1!I963,ورقة2!$F$2=ورقة1!H963,ورقة1!G963=\"ولد\"),1,0)","v":0},{"$f":"IF(B963=0,\"\",SUM($B$2:B963))","v":""},{"$f":"IF(AND(ورقة2!$H$2=ورقة1!I963,ورقة2!$F$2=ورقة1!H963,ورقة1!G963=\"بنت\"),1,0)","v":0},{"$f":"IF(D963=0,\"\",SUM($D$2:D963))","v":""},null,"بنت",3]
[null,{"$f":"IF(AND(ورقة2!$H$2=ورقة1!I964,ورقة2!$F$2=ورقة1!H964,ورقة1!G964=\"ولد\"),1,0)","v":0},{"$f":"IF(B964=0,\"\",SUM($B$2:B964))","v":""},{"$f":"IF(AND(ورقة2!$H$2=ورقة1!I964,ورقة2!$F$2=ورقة1!H964,ورقة1!G964=\"بنت\"),1,0)","v":0},{"$f":"IF(D964=0,\"\",SUM($D$2:D964))","v":""},null,"بنت",3]
[null,{"$f":"IF(AND(ورقة2!$H$2=ورقة1!I965,ورقة2!$F$2=ورقة1!H965,ورقة1!G965=\"ولد\"),1,0)","v":0},{"$f":"IF(B965=0,\"\",SUM($B$2:B965))","v":""},{"$f":"IF(AND(ورقة2!$H$2=ورقة1!I965,ورقة2!$F$2=ورقة1!H965,ورقة1!G965=\"بنت\"),1,0)","v":0},{"$f":"IF(D965=0,\"\",SUM($D$2:D965))","v":""},null,"بنت",3]
[null,{"$f":"IF(AND(ورقة2!$H$2=ورقة1!I966,ورقة2!$F$2=ورقة1!H966,ورقة1!G966=\"ولد\"),1,0)","v":0},{"$f":"IF(B966=0,\"\",SUM($B$2:B966))","v":""},{"$f":"IF(AND(ورقة2!$H$2=ورقة1!I966,ورقة2!$F$2=ورقة1!H966,ورقة1!G966=\"بنت\"),1,0)","v":0},{"$f":"IF(D966=0,\"\",SUM($D$2:D966))","v":""},null,"بنت",3]
[null,{"$f":"IF(AND(ورقة2!$H$2=ورقة1!I967,ورقة2!$F$2=ورقة1!H967,ورقة1!G967=\"ولد\"),1,0)","v":0},{"$f":"IF(B967=0,\"\",SUM($B$2:B967))","v":""},{"$f":"IF(AND(ورقة2!$H$2=ورقة1!I967,ورقة2!$F$2=ورقة1!H967,ورقة1!G967=\"بنت\"),1,0)","v":0},{"$f":"IF(D967=0,\"\",SUM($D$2:D967))","v":""},null,"بنت",3]
[null,{"$f":"IF(AND(ورقة2!$H$2=ورقة1!I968,ورقة2!$F$2=ورقة1!H968,ورقة1!G968=\"ولد\"),1,0)","v":0},{"$f":"IF(B968=0,\"\",SUM($B$2:B968))","v":""},{"$f":"IF(AND(ورقة2!$H$2=ورقة1!I968,ورقة2!$F$2=ورقة1!H968,ورقة1!G968=\"بنت\"),1,0)","v":0},{"$f":"IF(D968=0,\"\",SUM($D$2:D968))","v":""},null,"بنت",3]
[null,{"$f":"IF(AND(ورقة2!$H$2=ورقة1!I969,ورقة2!$F$2=ورقة1!H969,ورقة1!G969=\"ولد\"),1,0)","v":0},{"$f":"IF(B969=0,\"\",SUM($B$2:B969))","v":""},{"$f":"IF(AND(ورقة2!$H$2=ورقة1!I969,ورقة2!$F$2=ورقة1!H969,ورقة1!G969=\"بنت\"),1,0)","v":0},{"$f":"IF(D969=0,\"\",SUM($D$2:D969))","v":""},null,"بنت",3]
[null,{"$f":"IF(AND(ورقة2!$H$2=ورقة1!I970,ورقة2!$F$2=ورقة1!H970,ورقة1!G970=\"ولد\"),1,0)","v":0},{"$f":"IF(B970=0,\"\",SUM($B$2:B970))","v":""},{"$f":"IF(AND(ورقة2!$H$2=ورقة1!I970,ورقة2!$F$2=ورقة1!H970,ورقة1!G970=\"بنت\"),1,0)","v":0},{"$f":"IF(D970=0,\"\",SUM($D$2:D970))","v":""},null,"بنت",3]
[null,{"$f":"IF(AND(ورقة2!$H$2=ورقة1!I971,ورقة2!$F$2=ورقة1!H971,ورقة1!G971=\"ولد\"),1,0)","v":0},{"$f":"IF(B971=0,\"\",SUM($B$2:B971))","v":""},{"$f":"IF(AND(ورقة2!$H$2=ورقة1!I971,ورقة2!$F$2=ورقة1!H971,ورقة1!G971=\"بنت\"),1,0)","v":0},{"$f":"IF(D971=0,\"\",SUM($D$2:D971))","v":""},null,"بنت",3]
[null,{"$f":"IF(AND(ورقة2!$H$2=ورقة1!I972,ورقة2!$F$2=ورقة1!H972,ورقة1!G972=\"ولد\"),1,0)","v":0},{"$f":"IF(B972=0,\"\",SUM($B$2:B972))","v":""},{"$f":"IF(AND(ورقة2!$H$2=ورقة1!I972,ورقة2!$F$2=ورقة1!H972,ورقة1!G972=\"بنت\"),1,0)","v":0},{"$f":"IF(D972=0,\"\",SUM($D$2:D972))","v":""},null,"بنت",3]
[null,{"$f":"IF(AND(ورقة2!$H$2=ورقة1!I973,ورقة2!$F$2=ورقة1!H973,ورقة1!G973=\"ولد\"),1,0)","v":0},{"$f":"IF(B973=0,\"\",SUM($B$2:B973))","v":""},{"$f":"IF(AND(ورقة2!$H$2=ورقة1!I973,ورقة2!$F$2=ورقة1!H973,ورقة1!G973=\"بنت\"),1,0)","v":0},{"$f":"IF(D973=0,\"\",SUM($D$2:D973))","v":""},null,"بنت",3]
[null,{"$f":"IF(AND(ورقة2!$H$2=ورقة1!I974,ورقة2!$F$2=ورقة1!H974,ورقة1!G974=\"ولد\"),1,0)","v":0},{"$f":"IF(B974=0,\"\",SUM($B$2:B974))","v":""},{"$f":"IF(AND(ورقة2!$H$2=ورقة1!I974,ورقة2!$F$2=ورقة1!H974,ورقة1!G974=\"بنت\"),1,0)","v":0},{"$f":"IF(D974=0,\"\",SUM($D$2:D974))","v":""},null,"بنت",3]
[null,{"$f":"IF(AND(ورقة2!$H$2=ورقة1!I975,ورقة2!$F$2=ورقة1!H975,ورقة1!G975=\"ولد\"),1,0)","v":0},{"$f":"IF(B975=0,\"\",SUM($B$2:B975))","v":""},{"$f":"IF(AND(ورقة2!$H$2=ورقة1!I975,ورقة2!$F$2=ورقة1!H975,ورقة1!G975=\"بنت\"),1,0)","v":0},{"$f":"IF(D975=0,\"\",SUM($D$2:D975))","v":""},null,"بنت",3]
[null,{"$f":"IF(AND(ورقة2!$H$2=ورقة1!I976,ورقة2!$F$2=ورقة1!H976,ورقة1!G976=\"ولد\"),1,0)","v":0},{"$f":"IF(B976=0,\"\",SUM($B$2:B976))","v":""},{"$f":"IF(AND(ورقة2!$H$2=ورقة1!I976,ورقة2!$F$2=ورقة1!H976,ورقة1!G976=\"بنت\"),1,0)","v":0},{"$f":"IF(D976=0,\"\",SUM($D$2:D976))","v":""},null,"بنت",3]
[null,{"$f":"IF(AND(ورقة2!$H$2=ورقة1!I977,ورقة2!$F$2=ورقة1!H977,ورقة1!G977=\"ولد\"),1,0)","v":0},{"$f":"IF(B977=0,\"\",SUM($B$2:B977))","v":""},{"$f":"IF(AND(ورقة2!$H$2=ورقة1!I977,ورقة2!$F$2=ورقة1!H977,ورقة1!G977=\"بنت\"),1,0)","v":0},{"$f":"IF(D977=0,\"\",SUM($D$2:D977))","v":""},null,"بنت",3]
[null,{"$f":"IF(AND(ورقة2!$H$2=ورقة1!I978,ورقة2!$F$2=ورقة1!H978,ورقة1!G978=\"ولد\"),1,0)","v":0},{"$f":"IF(B978=0,\"\",SUM($B$2:B978))","v":""},{"$f":"IF(AND(ورقة2!$H$2=ورقة1!I978,ورقة2!$F$2=ورقة1!H978,ورقة1!G978=\"بنت\"),1,0)","v":0},{"$f":"IF(D978=0,\"\",SUM($D$2:D978))","v":""},null,"بنت",3]
[null,{"$f":"IF(AND(ورقة2!$H$2=ورقة1!I979,ورقة2!$F$2=ورقة1!H979,ورقة1!G979=\"ولد\"),1,0)","v":0},{"$f":"IF(B979=0,\"\",SUM($B$2:B979))","v":""},{"$f":"IF(AND(ورقة2!$H$2=ورقة1!I979,ورقة2!$F$2=ورقة1!H979,ورقة1!G979=\"بنت\"),1,0)","v":0},{"$f":"IF(D979=0,\"\",SUM($D$2:D979))","v":""},null,"بنت",3]
[null,{"$f":"IF(AND(ورقة2!$H$2=ورقة1!I980,ورقة2!$F$2=ورقة1!H980,ورقة1!G980=\"ولد\"),1,0)","v":0},{"$f":"IF(B980=0,\"\",SUM($B$2:B980))","v":""},{"$f":"IF(AND(ورقة2!$H$2=ورقة1!I980,ورقة2!$F$2=ورقة1!H980,ورقة1!G980=\"بنت\"),1,0)","v":0},{"$f":"IF(D980=0,\"\",SUM($D$2:D980))","v":""},null,"بنت",3]
[null,{"$f":"IF(AND(ورقة2!$H$2=ورقة1!I981,ورقة2!$F$2=ورقة1!H981,ورقة1!G981=\"ولد\"),1,0)","v":0},{"$f":"IF(B981=0,\"\",SUM($B$2:B981))","v":""},{"$f":"IF(AND(ورقة2!$H$2=ورقة1!I981,ورقة2!$F$2=ورقة1!H981,ورقة1!G981=\"بنت\"),1,0)","v":0},{"$f":"IF(D981=0,\"\",SUM($D$2:D981))","v":""},null,"بنت",3]
[null,{"$f":"IF(AND(ورقة2!$H$2=ورقة1!I982,ورقة2!$F$2=ورقة1!H982,ورقة1!G982=\"ولد\"),1,0)","v":0},{"$f":"IF(B982=0,\"\",SUM($B$2:B982))","v":""},{"$f":"IF(AND(ورقة2!$H$2=ورقة1!I982,ورقة2!$F$2=ورقة1!H982,ورقة1!G982=\"بنت\"),1,0)","v":0},{"$f":"IF(D982=0,\"\",SUM($D$2:D982))","v":""},null,"بنت",3]
[null,{"$f":"IF(AND(ورقة2!$H$2=ورقة1!I983,ورقة2!$F$2=ورقة1!H983,ورقة1!G983=\"ولد\"),1,0)","v":0},{"$f":"IF(B983=0,\"\",SUM($B$2:B983))","v":""},{"$f":"IF(AND(ورقة2!$H$2=ورقة1!I983,ورقة2!$F$2=ورقة1!H983,ورقة1!G983=\"بنت\"),1,0)","v":0},{"$f":"IF(D983=0,\"\",SUM($D$2:D983))","v":""},null,"بنت",3]
[null,{"$f":"IF(AND(ورقة2!$H$2=ورقة1!I984,ورقة2!$F$2=ورقة1!H984,ورقة1!G984=\"ولد\"),1,0)","v":0},{"$f":"IF(B984=0,\"\",SUM($B$2:B984))","v":""},{"$f":"IF(AND(ورقة2!$H$2=ورقة1!I984,ورقة2!$F$2=ورقة1!H984,ورقة1!G984=\"بنت\"),1,0)","v":0},{"$f":"IF(D984=0,\"\",SUM($D$2:D984))","v":""},null,"بنت",3]
[null,{"$f":"IF(AND(ورقة2!$H$2=ورقة1!I985,ورقة2!$F$2=ورقة1!H985,ورقة1!G985=\"ولد\"),1,0)","v":0},{"$f":"IF(B985=0,\"\",SUM($B$2:B985))","v":""},{"$f":"IF(AND(ورقة2!$H$2=ورقة1!I985,ورقة2!$F$2=ورقة1!H985,ورقة1!G985=\"بنت\"),1,0)","v":0},{"$f":"IF(D985=0,\"\",SUM($D$2:D985))","v":""},null,"بنت",3]
[null,{"$f":"IF(AND(ورقة2!$H$2=ورقة1!I986,ورقة2!$F$2=ورقة1!H986,ورقة1!G986=\"ولد\"),1,0)","v":0},{"$f":"IF(B986=0,\"\",SUM($B$2:B986))","v":""},{"$f":"IF(AND(ورقة2!$H$2=ورقة1!I986,ورقة2!$F$2=ورقة1!H986,ورقة1!G986=\"بنت\"),1,0)","v":0},{"$f":"IF(D986=0,\"\",SUM($D$2:D986))","v":""},null,"بنت",3]
[null,{"$f":"IF(AND(ورقة2!$H$2=ورقة1!I987,ورقة2!$F$2=ورقة1!H987,ورقة1!G987=\"ولد\"),1,0)","v":0},{"$f":"IF(B987=0,\"\",SUM($B$2:B987))","v":""},{"$f":"IF(AND(ورقة2!$H$2=ورقة1!I987,ورقة2!$F$2=ورقة1!H987,ورقة1!G987=\"بنت\"),1,0)","v":0},{"$f":"IF(D987=0,\"\",SUM($D$2:D987))","v":""},null,"بنت",3]
[null,{"$f":"IF(AND(ورقة2!$H$2=ورقة1!I988,ورقة2!$F$2=ورقة1!H988,ورقة1!G988=\"ولد\"),1,0)","v":0},{"$f":"IF(B988=0,\"\",SUM($B$2:B988))","v":""},{"$f":"IF(AND(ورقة2!$H$2=ورقة1!I988,ورقة2!$F$2=ورقة1!H988,ورقة1!G988=\"بنت\"),1,0)","v":0},{"$f":"IF(D988=0,\"\",SUM($D$2:D988))","v":""},null,"بنت",3]
[null,{"$f":"IF(AND(ورقة2!$H$2=ورقة1!I989,ورقة2!$F$2=ورقة1!H989,ورقة1!G989=\"ولد\"),1,0)","v":0},{"$f":"IF(B989=0,\"\",SUM($B$2:B989))","v":""},{"$f":"IF(AND(ورقة2!$H$2=ورقة1!I989,ورقة2!$F$2=ورقة1!H989,ورقة1!G989=\"بنت\"),1,0)","v":0},{"$f":"IF(D989=0,\"\",SUM($D$2:D989))","v":""},null,"بنت",3]
[null,{"$f":"IF(AND(ورقة2!$H$2=ورقة1!I990,ورقة2!$F$2=ورقة1!H990,ورقة1!G990=\"ولد\"),1,0)","v":0},{"$f":"IF(B990=0,\"\",SUM($B$2:B990))","v":""},{"$f":"IF(AND(ورقة2!$H$2=ورقة1!I990,ورقة2!$F$2=ورقة1!H990,ورقة1!G990=\"بنت\"),1,0)","v":0},{"$f":"IF(D990=0,\"\",SUM($D$2:D990))","v":""},null,"بنت",3]
[null,{"$f":"IF(AND(ورقة2!$H$2=ورقة1!I991,ورقة2!$F$2=ورقة1!H991,ورقة1!G991=\"ولد\"),1,0)","v":0},{"$f":"IF(B991=0,\"\",SUM($B$2:B991))","v":""},{"$f":"IF(AND(ورقة2!$H$2=ورقة1!I991,ورقة2!$F$2=ورقة1!H991,ورقة1!G991=\"بنت\"),1,0)","v":0},{"$f":"IF(D991=0,\"\",SUM($D$2:D991))","v":""},null,"بنت",3]
[null,{"$f":"IF(AND(ورقة2!$H$2=ورقة1!I992,ورقة2!$F$2=ورقة1!H992,ورقة1!G992=\"ولد\"),1,0)","v":0},{"$f":"IF(B992=0,\"\",SUM($B$2:B992))","v":""},{"$f":"IF(AND(ورقة2!$H$2=ورقة1!I992,ورقة2!$F$2=ورقة1!H992,ورقة1!G992=\"بنت\"),1,0)","v":0},{"$f":"IF(D992=0,\"\",SUM($D$2:D992))","v":""},null,"بنت",3]
[null,{"$f":"IF(AND(ورقة2!$H$2=ورقة1!I993,ورقة2!$F$2=ورقة1!H993,ورقة1!G993=\"ولد\"),1,0)","v":0},{"$f":"IF(B993=0,\"\",SUM($B$2:B993))","v":""},{"$f":"IF(AND(ورقة2!$H$2=ورقة1!I993,ورقة2!$F$2=ورقة1!H993,ورقة1!G993=\"بنت\"),1,0)","v":0},{"$f":"IF(D993=0,\"\",SUM($D$2:D993))","v":""},null,"بنت",3]
[null,{"$f":"IF(AND(ورقة2!$H$2=ورقة1!I994,ورقة2!$F$2=ورقة1!H994,ورقة1!G994=\"ولد\"),1,0)","v":0},{"$f":"IF(B994=0,\"\",SUM($B$2:B994))","v":""},{"$f":"IF(AND(ورقة2!$H$2=ورقة1!I994,ورقة2!$F$2=ورقة1!H994,ورقة1!G994=\"بنت\"),1,0)","v":0},{"$f":"IF(D994=0,\"\",SUM($D$2:D994))","v":""},null,"بنت",3]
[null,{"$f":"IF(AND(ورقة2!$H$2=ورقة1!I995,ورقة2!$F$2=ورقة1!H995,ورقة1!G995=\"ولد\"),1,0)","v":0},{"$f":"IF(B995=0,\"\",SUM($B$2:B995))","v":""},{"$f":"IF(AND(ورقة2!$H$2=ورقة1!I995,ورقة2!$F$2=ورقة1!H995,ورقة1!G995=\"بنت\"),1,0)","v":0},{"$f":"IF(D995=0,\"\",SUM($D$2:D995))","v":""},null,"بنت",3]
[null,{"$f":"IF(AND(ورقة2!$H$2=ورقة1!I996,ورقة2!$F$2=ورقة1!H996,ورقة1!G996=\"ولد\"),1,0)","v":0},{"$f":"IF(B996=0,\"\",SUM($B$2:B996))","v":""},{"$f":"IF(AND(ورقة2!$H$2=ورقة1!I996,ورقة2!$F$2=ورقة1!H996,ورقة1!G996=\"بنت\"),1,0)","v":0},{"$f":"IF(D996=0,\"\",SUM($D$2:D996))","v":""},null,"بنت",3]
[null,{"$f":"IF(AND(ورقة2!$H$2=ورقة1!I997,ورقة2!$F$2=ورقة1!H997,ورقة1!G997=\"ولد\"),1,0)","v":0},{"$f":"IF(B997=0,\"\",SUM($B$2:B997))","v":""},{"$f":"IF(AND(ورقة2!$H$2=ورقة1!I997,ورقة2!$F$2=ورقة1!H997,ورقة1!G997=\"بنت\"),1,0)","v":0},{"$f":"IF(D997=0,\"\",SUM($D$2:D997))","v":""},null,"بنت",3]
[null,{"$f":"IF(AND(ورقة2!$H$2=ورقة1!I998,ورقة2!$F$2=ورقة1!H998,ورقة1!G998=\"ولد\"),1,0)","v":0},{"$f":"IF(B998=0,\"\",SUM($B$2:B998))","v":""},{"$f":"IF(AND(ورقة2!$H$2=ورقة1!I998,ورقة2!$F$2=ورقة1!H998,ورقة1!G998=\"بنت\"),1,0)","v":0},{"$f":"IF(D998=0,\"\",SUM($D$2:D998))","v":""},null,"بنت",3]
[null,{"$f":"IF(AND(ورقة2!$H$2=ورقة1!I999,ورقة2!$F$2=ورقة1!H999,ورقة1!G999=\"ولد\"),1,0)","v":0},{"$f":"IF(B999=0,\"\",SUM($B$2:B999))","v":""},{"$f":"IF(AND(ورقة2!$H$2=ورقة1!I999,ورقة2!$F$2=ورقة1!H999,ورقة1!G999=\"بنت\"),1,0)","v":0},{"$f":"IF(D999=0,\"\",SUM($D$2:D999))","v":""},null,"بنت",3]
[null,{"$f":"IF(AND(ورقة2!$H$2=ورقة1!I1000,ورقة2!$F$2=ورقة1!H1000,ورقة1!G1000=\"ولد\"),1,0)","v":0},{"$f":"IF(B1000=0,\"\",SUM($B$2:B1000))","v":""},{"$f":"IF(AND(ورقة2!$H$2=ورقة1!I1000,ورقة2!$F$2=ورقة1!H1000,ورقة1!G1000=\"بنت\"),1,0)","v":0},{"$f":"IF(D1000=0,\"\",SUM($D$2:D1000))","v":""},null,"بنت",3]
[null,{"$f":"IF(AND(ورقة2!$H$2=ورقة1!I1001,ورقة2!$F$2=ورقة1!H1001,ورقة1!G1001=\"ولد\"),1,0)","v":0},{"$f":"IF(B1001=0,\"\",SUM($B$2:B1001))","v":""},{"$f":"IF(AND(ورقة2!$H$2=ورقة1!I1001,ورقة2!$F$2=ورقة1!H1001,ورقة1!G1001=\"بنت\"),1,0)","v":0},{"$f":"IF(D1001=0,\"\",SUM($D$2:D1001))","v":""},null,"بنت",3]
[null,{"$f":"IF(AND(ورقة2!$H$2=ورقة1!I1002,ورقة2!$F$2=ورقة1!H1002,ورقة1!G1002=\"ولد\"),1,0)","v":0},{"$f":"IF(B1002=0,\"\",SUM($B$2:B1002))","v":""},{"$f":"IF(AND(ورقة2!$H$2=ورقة1!I1002,ورقة2!$F$2=ورقة1!H1002,ورقة1!G1002=\"بنت\"),1,0)","v":0},{"$f":"IF(D1002=0,\"\",SUM($D$2:D1002))","v":""},null,"بنت",3]
[null,{"$f":"IF(AND(ورقة2!$H$2=ورقة1!I1003,ورقة2!$F$2=ورقة1!H1003,ورقة1!G1003=\"ولد\"),1,0)","v":0},{"$f":"IF(B1003=0,\"\",SUM($B$2:B1003))","v":""},{"$f":"IF(AND(ورقة2!$H$2=ورقة1!I1003,ورقة2!$F$2=ورقة1!H1003,ورقة1!G1003=\"بنت\"),1,0)","v":0},{"$f":"IF(D1003=0,\"\",SUM($D$2:D1003))","v":""},null,"بنت",3]
[null,{"$f":"IF(AND(ورقة2!$H$2=ورقة1!I1004,ورقة2!$F$2=ورقة1!H1004,ورقة1!G1004=\"ولد\"),1,0)","v":0},{"$f":"IF(B1004=0,\"\",SUM($B$2:B1004))","v":""},{"$f":"IF(AND(ورقة2!$H$2=ورقة1!I1004,ورقة2!$F$2=ورقة1!H1004,ورقة1!G1004=\"بنت\"),1,0)","v":0},{"$f":"IF(D1004=0,\"\",SUM($D$2:D1004))","v":""},null,"بنت",3]
[null,{"$f":"IF(AND(ورقة2!$H$2=ورقة1!I1005,ورقة2!$F$2=ورقة1!H1005,ورقة1!G1005=\"ولد\"),1,0)","v":0},{"$f":"IF(B1005=0,\"\",SUM($B$2:B1005))","v":""},{"$f":"IF(AND(ورقة2!$H$2=ورقة1!I1005,ورقة2!$F$2=ورقة1!H1005,ورقة1!G1005=\"بنت\"),1,0)","v":0},{"$f":"IF(D1005=0,\"\",SUM($D$2:D1005))","v":""},null,"بنت",3]
[null,{"$f":"IF(AND(ورقة2!$H$2=ورقة1!I1006,ورقة2!$F$2=ورقة1!H1006,ورقة1!G1006=\"ولد\"),1,0)","v":0},{"$f":"IF(B1006=0,\"\",SUM($B$2:B1006))","v":""},{"$f":"IF(AND(ورقة2!$H$2=ورقة1!I1006,ورقة2!$F$2=ورقة1!H1006,ورقة1!G1006=\"بنت\"),1,0)","v":0},{"$f":"IF(D1006=0,\"\",SUM($D$2:D1006))","v":""},null,"بنت",3]
[null,{"$f":"IF(AND(ورقة2!$H$2=ورقة1!I1007,ورقة2!$F$2=ورقة1!H1007,ورقة1!G1007=\"ولد\"),1,0)","v":0},{"$f":"IF(B1007=0,\"\",SUM($B$2:B1007))","v":""},{"$f":"IF(AND(ورقة2!$H$2=ورقة1!I1007,ورقة2!$F$2=ورقة1!H1007,ورقة1!G1007=\"بنت\"),1,0)","v":0},{"$f":"IF(D1007=0,\"\",SUM($D$2:D1007))","v":""},null,"بنت",3]
[null,{"$f":"IF(AND(ورقة2!$H$2=ورقة1!I1008,ورقة2!$F$2=ورقة1!H1008,ورقة1!G1008=\"ولد\"),1,0)","v":0},{"$f":"IF(B1008=0,\"\",SUM($B$2:B1008))","v":""},{"$f":"IF(AND(ورقة2!$H$2=ورقة1!I1008,ورقة2!$F$2=ورقة1!H1008,ورقة1!G1008=\"بنت\"),1,0)","v":0},{"$f":"IF(D1008=0,\"\",SUM($D$2:D1008))","v":""},null,"بنت",3]
[null,{"$f":"IF(AND(ورقة2!$H$2=ورقة1!I1009,ورقة2!$F$2=ورقة1!H1009,ورقة1!G1009=\"ولد\"),1,0)","v":0},{"$f":"IF(B1009=0,\"\",SUM($B$2:B1009))","v":""},{"$f":"IF(AND(ورقة2!$H$2=ورقة1!I1009,ورقة2!$F$2=ورقة1!H1009,ورقة1!G1009=\"بنت\"),1,0)","v":0},{"$f":"IF(D1009=0,\"\",SUM($D$2:D1009))","v":""},null,"بنت",3]
[null,{"$f":"IF(AND(ورقة2!$H$2=ورقة1!I1010,ورقة2!$F$2=ورقة1!H1010,ورقة1!G1010=\"ولد\"),1,0)","v":0},{"$f":"IF(B1010=0,\"\",SUM($B$2:B1010))","v":""},{"$f":"IF(AND(ورقة2!$H$2=ورقة1!I1010,ورقة2!$F$2=ورقة1!H1010,ورقة1!G1010=\"بنت\"),1,0)","v":0},{"$f":"IF(D1010=0,\"\",SUM($D$2:D1010))","v":""},null,"بنت",3]
[null,{"$f":"IF(AND(ورقة2!$H$2=ورقة1!I1011,ورقة2!$F$2=ورقة1!H1011,ورقة1!G1011=\"ولد\"),1,0)","v":0},{"$f":"IF(B1011=0,\"\",SUM($B$2:B1011))","v":""},{"$f":"IF(AND(ورقة2!$H$2=ورقة1!I1011,ورقة2!$F$2=ورقة1!H1011,ورقة1!G1011=\"بنت\"),1,0)","v":0},{"$f":"IF(D1011=0,\"\",SUM($D$2:D1011))","v":""},null,"بنت",3]
[null,{"$f":"IF(AND(ورقة2!$H$2=ورقة1!I1012,ورقة2!$F$2=ورقة1!H1012,ورقة1!G1012=\"ولد\"),1,0)","v":0},{"$f":"IF(B1012=0,\"\",SUM($B$2:B1012))","v":""},{"$f":"IF(AND(ورقة2!$H$2=ورقة1!I1012,ورقة2!$F$2=ورقة1!H1012,ورقة1!G1012=\"بنت\"),1,0)","v":0},{"$f":"IF(D1012=0,\"\",SUM($D$2:D1012))","v":""},null,"بنت",3]
[null,{"$f":"IF(AND(ورقة2!$H$2=ورقة1!I1013,ورقة2!$F$2=ورقة1!H1013,ورقة1!G1013=\"ولد\"),1,0)","v":0},{"$f":"IF(B1013=0,\"\",SUM($B$2:B1013))","v":""},{"$f":"IF(AND(ورقة2!$H$2=ورقة1!I1013,ورقة2!$F$2=ورقة1!H1013,ورقة1!G1013=\"بنت\"),1,0)","v":0},{"$f":"IF(D1013=0,\"\",SUM($D$2:D1013))","v":""},null,"بنت",3]
[null,{"$f":"IF(AND(ورقة2!$H$2=ورقة1!I1014,ورقة2!$F$2=ورقة1!H1014,ورقة1!G1014=\"ولد\"),1,0)","v":0},{"$f":"IF(B1014=0,\"\",SUM($B$2:B1014))","v":""},{"$f":"IF(AND(ورقة2!$H$2=ورقة1!I1014,ورقة2!$F$2=ورقة1!H1014,ورقة1!G1014=\"بنت\"),1,0)","v":0},{"$f":"IF(D1014=0,\"\",SUM($D$2:D1014))","v":""},null,"بنت",3]
[null,{"$f":"IF(AND(ورقة2!$H$2=ورقة1!I1015,ورقة2!$F$2=ورقة1!H1015,ورقة1!G1015=\"ولد\"),1,0)","v":0},{"$f":"IF(B1015=0,\"\",SUM($B$2:B1015))","v":""},{"$f":"IF(AND(ورقة2!$H$2=ورقة1!I1015,ورقة2!$F$2=ورقة1!H1015,ورقة1!G1015=\"بنت\"),1,0)","v":0},{"$f":"IF(D1015=0,\"\",SUM($D$2:D1015))","v":""},null,"بنت",3]
[null,{"$f":"IF(AND(ورقة2!$H$2=ورقة1!I1016,ورقة2!$F$2=ورقة1!H1016,ورقة1!G1016=\"ولد\"),1,0)","v":0},{"$f":"IF(B1016=0,\"\",SUM($B$2:B1016))","v":""},{"$f":"IF(AND(ورقة2!$H$2=ورقة1!I1016,ورقة2!$F$2=ورقة1!H1016,ورقة1!G1016=\"بنت\"),1,0)","v":0},{"$f":"IF(D1016=0,\"\",SUM($D$2:D1016))","v":""},null,"بنت",3]
[null,{"$f":"IF(AND(ورقة2!$H$2=ورقة1!I1017,ورقة2!$F$2=ورقة1!H1017,ورقة1!G1017=\"ولد\"),1,0)","v":0},{"$f":"IF(B1017=0,\"\",SUM($B$2:B1017))","v":""},{"$f":"IF(AND(ورقة2!$H$2=ورقة1!I1017,ورقة2!$F$2=ورقة1!H1017,ورقة1!G1017=\"بنت\"),1,0)","v":0},{"$f":"IF(D1017=0,\"\",SUM($D$2:D1017))","v":""},null,"بنت",3]
[null,{"$f":"IF(AND(ورقة2!$H$2=ورقة1!I1018,ورقة2!$F$2=ورقة1!H1018,ورقة1!G1018=\"ولد\"),1,0)","v":0},{"$f":"IF(B1018=0,\"\",SUM($B$2:B1018))","v":""},{"$f":"IF(AND(ورقة2!$H$2=ورقة1!I1018,ورقة2!$F$2=ورقة1!H1018,ورقة1!G1018=\"بنت\"),1,0)","v":0},{"$f":"IF(D1018=0,\"\",SUM($D$2:D1018))","v":""},null,"بنت",3]
[null,{"$f":"IF(AND(ورقة2!$H$2=ورقة1!I1019,ورقة2!$F$2=ورقة1!H1019,ورقة1!G1019=\"ولد\"),1,0)","v":0},{"$f":"IF(B1019=0,\"\",SUM($B$2:B1019))","v":""},{"$f":"IF(AND(ورقة2!$H$2=ورقة1!I1019,ورقة2!$F$2=ورقة1!H1019,ورقة1!G1019=\"بنت\"),1,0)","v":0},{"$f":"IF(D1019=0,\"\",SUM($D$2:D1019))","v":""},null,"بنت",3]
[null,{"$f":"IF(AND(ورقة2!$H$2=ورقة1!I1020,ورقة2!$F$2=ورقة1!H1020,ورقة1!G1020=\"ولد\"),1,0)","v":0},{"$f":"IF(B1020=0,\"\",SUM($B$2:B1020))","v":""},{"$f":"IF(AND(ورقة2!$H$2=ورقة1!I1020,ورقة2!$F$2=ورقة1!H1020,ورقة1!G1020=\"بنت\"),1,0)","v":0},{"$f":"IF(D1020=0,\"\",SUM($D$2:D1020))","v":""},null,"بنت",3]
[null,{"$f":"IF(AND(ورقة2!$H$2=ورقة1!I1021,ورقة2!$F$2=ورقة1!H1021,ورقة1!G1021=\"ولد\"),1,0)","v":0},{"$f":"IF(B1021=0,\"\",SUM($B$2:B1021))","v":""},{"$f":"IF(AND(ورقة2!$H$2=ورقة1!I1021,ورقة2!$F$2=ورقة1!H1021,ورقة1!G1021=\"بنت\"),1,0)","v":0},{"$f":"IF(D1021=0,\"\",SUM($D$2:D1021))","v":""},null,"بنت",3]
[null,{"$f":"IF(AND(ورقة2!$H$2=ورقة1!I1022,ورقة2!$F$2=ورقة1!H1022,ورقة1!G1022=\"ولد\"),1,0)","v":0},{"$f":"IF(B1022=0,\"\",SUM($B$2:B1022))","v":""},{"$f":"IF(AND(ورقة2!$H$2=ورقة1!I1022,ورقة2!$F$2=ورقة1!H1022,ورقة1!G1022=\"بنت\"),1,0)","v":0},{"$f":"IF(D1022=0,\"\",SUM($D$2:D1022))","v":""},null,"بنت",3]
[null,{"$f":"IF(AND(ورقة2!$H$2=ورقة1!I1023,ورقة2!$F$2=ورقة1!H1023,ورقة1!G1023=\"ولد\"),1,0)","v":0},{"$f":"IF(B1023=0,\"\",SUM($B$2:B1023))","v":""},{"$f":"IF(AND(ورقة2!$H$2=ورقة1!I1023,ورقة2!$F$2=ورقة1!H1023,ورقة1!G1023=\"بنت\"),1,0)","v":0},{"$f":"IF(D1023=0,\"\",SUM($D$2:D1023))","v":""},null,"بنت",3]
[null,{"$f":"IF(AND(ورقة2!$H$2=ورقة1!I1024,ورقة2!$F$2=ورقة1!H1024,ورقة1!G1024=\"ولد\"),1,0)","v":0},{"$f":"IF(B1024=0,\"\",SUM($B$2:B1024))","v":""},{"$f":"IF(AND(ورقة2!$H$2=ورقة1!I1024,ورقة2!$F$2=ورقة1!H1024,ورقة1!G1024=\"بنت\"),1,0)","v":0},{"$f":"IF(D1024=0,\"\",SUM($D$2:D1024))","v":""},null,"بنت",3]
[null,{"$f":"IF(AND(ورقة2!$H$2=ورقة1!I1025,ورقة2!$F$2=ورقة1!H1025,ورقة1!G1025=\"ولد\"),1,0)","v":0},{"$f":"IF(B1025=0,\"\",SUM($B$2:B1025))","v":""},{"$f":"IF(AND(ورقة2!$H$2=ورقة1!I1025,ورقة2!$F$2=ورقة1!H1025,ورقة1!G1025=\"بنت\"),1,0)","v":0},{"$f":"IF(D1025=0,\"\",SUM($D$2:D1025))","v":""},null,"بنت",3]
[null,{"$f":"IF(AND(ورقة2!$H$2=ورقة1!I1026,ورقة2!$F$2=ورقة1!H1026,ورقة1!G1026=\"ولد\"),1,0)","v":0},{"$f":"IF(B1026=0,\"\",SUM($B$2:B1026))","v":""},{"$f":"IF(AND(ورقة2!$H$2=ورقة1!I1026,ورقة2!$F$2=ورقة1!H1026,ورقة1!G1026=\"بنت\"),1,0)","v":0},{"$f":"IF(D1026=0,\"\",SUM($D$2:D1026))","v":""},null,"بنت",3]
[null,{"$f":"IF(AND(ورقة2!$H$2=ورقة1!I1027,ورقة2!$F$2=ورقة1!H1027,ورقة1!G1027=\"ولد\"),1,0)","v":0},{"$f":"IF(B1027=0,\"\",SUM($B$2:B1027))","v":""},{"$f":"IF(AND(ورقة2!$H$2=ورقة1!I1027,ورقة2!$F$2=ورقة1!H1027,ورقة1!G1027=\"بنت\"),1,0)","v":0},{"$f":"IF(D1027=0,\"\",SUM($D$2:D1027))","v":""},null,"بنت",3]
[null,{"$f":"IF(AND(ورقة2!$H$2=ورقة1!I1028,ورقة2!$F$2=ورقة1!H1028,ورقة1!G1028=\"ولد\"),1,0)","v":0},{"$f":"IF(B1028=0,\"\",SUM($B$2:B1028))","v":""},{"$f":"IF(AND(ورقة2!$H$2=ورقة1!I1028,ورقة2!$F$2=ورقة1!H1028,ورقة1!G1028=\"بنت\"),1,0)","v":0},{"$f":"IF(D1028=0,\"\",SUM($D$2:D1028))","v":""},null,"بنت",3]
[null,{"$f":"IF(AND(ورقة2!$H$2=ورقة1!I1029,ورقة2!$F$2=ورقة1!H1029,ورقة1!G1029=\"ولد\"),1,0)","v":0},{"$f":"IF(B1029=0,\"\",SUM($B$2:B1029))","v":""},{"$f":"IF(AND(ورقة2!$H$2=ورقة1!I1029,ورقة2!$F$2=ورقة1!H1029,ورقة1!G1029=\"بنت\"),1,0)","v":0},{"$f":"IF(D1029=0,\"\",SUM($D$2:D1029))","v":""},null,"بنت",3]
[null,{"$f":"IF(AND(ورقة2!$H$2=ورقة1!I1030,ورقة2!$F$2=ورقة1!H1030,ورقة1!G1030=\"ولد\"),1,0)","v":0},{"$f":"IF(B1030=0,\"\",SUM($B$2:B1030))","v":""},{"$f":"IF(AND(ورقة2!$H$2=ورقة1!I1030,ورقة2!$F$2=ورقة1!H1030,ورقة1!G1030=\"بنت\"),1,0)","v":0},{"$f":"IF(D1030=0,\"\",SUM($D$2:D1030))","v":""},null,"بنت",3]
[null,{"$f":"IF(AND(ورقة2!$H$2=ورقة1!I1031,ورقة2!$F$2=ورقة1!H1031,ورقة1!G1031=\"ولد\"),1,0)","v":0},{"$f":"IF(B1031=0,\"\",SUM($B$2:B1031))","v":""},{"$f":"IF(AND(ورقة2!$H$2=ورقة1!I1031,ورقة2!$F$2=ورقة1!H1031,ورقة1!G1031=\"بنت\"),1,0)","v":0},{"$f":"IF(D1031=0,\"\",SUM($D$2:D1031))","v":""},null,"بنت",3]
[null,{"$f":"IF(AND(ورقة2!$H$2=ورقة1!I1032,ورقة2!$F$2=ورقة1!H1032,ورقة1!G1032=\"ولد\"),1,0)","v":0},{"$f":"IF(B1032=0,\"\",SUM($B$2:B1032))","v":""},{"$f":"IF(AND(ورقة2!$H$2=ورقة1!I1032,ورقة2!$F$2=ورقة1!H1032,ورقة1!G1032=\"بنت\"),1,0)","v":0},{"$f":"IF(D1032=0,\"\",SUM($D$2:D1032))","v":""},null,"بنت",3]
[null,{"$f":"IF(AND(ورقة2!$H$2=ورقة1!I1033,ورقة2!$F$2=ورقة1!H1033,ورقة1!G1033=\"ولد\"),1,0)","v":0},{"$f":"IF(B1033=0,\"\",SUM($B$2:B1033))","v":""},{"$f":"IF(AND(ورقة2!$H$2=ورقة1!I1033,ورقة2!$F$2=ورقة1!H1033,ورقة1!G1033=\"بنت\"),1,0)","v":0},{"$f":"IF(D1033=0,\"\",SUM($D$2:D1033))","v":""},null,"بنت",3]
[null,{"$f":"IF(AND(ورقة2!$H$2=ورقة1!I1034,ورقة2!$F$2=ورقة1!H1034,ورقة1!G1034=\"ولد\"),1,0)","v":0},{"$f":"IF(B1034=0,\"\",SUM($B$2:B1034))","v":""},{"$f":"IF(AND(ورقة2!$H$2=ورقة1!I1034,ورقة2!$F$2=ورقة1!H1034,ورقة1!G1034=\"بنت\"),1,0)","v":0},{"$f":"IF(D1034=0,\"\",SUM($D$2:D1034))","v":""},null,"بنت",3]
[null,{"$f":"IF(AND(ورقة2!$H$2=ورقة1!I1035,ورقة2!$F$2=ورقة1!H1035,ورقة1!G1035=\"ولد\"),1,0)","v":0},{"$f":"IF(B1035=0,\"\",SUM($B$2:B1035))","v":""},{"$f":"IF(AND(ورقة2!$H$2=ورقة1!I1035,ورقة2!$F$2=ورقة1!H1035,ورقة1!G1035=\"بنت\"),1,0)","v":0},{"$f":"IF(D1035=0,\"\",SUM($D$2:D1035))","v":""},null,"بنت",3]
[null,{"$f":"IF(AND(ورقة2!$H$2=ورقة1!I1036,ورقة2!$F$2=ورقة1!H1036,ورقة1!G1036=\"ولد\"),1,0)","v":0},{"$f":"IF(B1036=0,\"\",SUM($B$2:B1036))","v":""},{"$f":"IF(AND(ورقة2!$H$2=ورقة1!I1036,ورقة2!$F$2=ورقة1!H1036,ورقة1!G1036=\"بنت\"),1,0)","v":0},{"$f":"IF(D1036=0,\"\",SUM($D$2:D1036))","v":""},null,"بنت",3]
[null,{"$f":"IF(AND(ورقة2!$H$2=ورقة1!I1037,ورقة2!$F$2=ورقة1!H1037,ورقة1!G1037=\"ولد\"),1,0)","v":0},{"$f":"IF(B1037=0,\"\",SUM($B$2:B1037))","v":""},{"$f":"IF(AND(ورقة2!$H$2=ورقة1!I1037,ورقة2!$F$2=ورقة1!H1037,ورقة1!G1037=\"بنت\"),1,0)","v":0},{"$f":"IF(D1037=0,\"\",SUM($D$2:D1037))","v":""},null,"بنت",3]
[null,{"$f":"IF(AND(ورقة2!$H$2=ورقة1!I1038,ورقة2!$F$2=ورقة1!H1038,ورقة1!G1038=\"ولد\"),1,0)","v":0},{"$f":"IF(B1038=0,\"\",SUM($B$2:B1038))","v":""},{"$f":"IF(AND(ورقة2!$H$2=ورقة1!I1038,ورقة2!$F$2=ورقة1!H1038,ورقة1!G1038=\"بنت\"),1,0)","v":0},{"$f":"IF(D1038=0,\"\",SUM($D$2:D1038))","v":""},null,"بنت",3]
[null,{"$f":"IF(AND(ورقة2!$H$2=ورقة1!I1039,ورقة2!$F$2=ورقة1!H1039,ورقة1!G1039=\"ولد\"),1,0)","v":0},{"$f":"IF(B1039=0,\"\",SUM($B$2:B1039))","v":""},{"$f":"IF(AND(ورقة2!$H$2=ورقة1!I1039,ورقة2!$F$2=ورقة1!H1039,ورقة1!G1039=\"بنت\"),1,0)","v":0},{"$f":"IF(D1039=0,\"\",SUM($D$2:D1039))","v":""},null,"بنت",3]
[null,{"$f":"IF(AND(ورقة2!$H$2=ورقة1!I1040,ورقة2!$F$2=ورقة1!H1040,ورقة1!G1040=\"ولد\"),1,0)","v":0},{"$f":"IF(B1040=0,\"\",SUM($B$2:B1040))","v":""},{"$f":"IF(AND(ورقة2!$H$2=ورقة1!I1040,ورقة2!$F$2=ورقة1!H1040,ورقة1!G1040=\"بنت\"),1,0)","v":0},{"$f":"IF(D1040=0,\"\",SUM($D$2:D1040))","v":""},null,"بنت",3]
[null,{"$f":"IF(AND(ورقة2!$H$2=ورقة1!I1041,ورقة2!$F$2=ورقة1!H1041,ورقة1!G1041=\"ولد\"),1,0)","v":0},{"$f":"IF(B1041=0,\"\",SUM($B$2:B1041))","v":""},{"$f":"IF(AND(ورقة2!$H$2=ورقة1!I1041,ورقة2!$F$2=ورقة1!H1041,ورقة1!G1041=\"بنت\"),1,0)","v":0},{"$f":"IF(D1041=0,\"\",SUM($D$2:D1041))","v":""},null,"بنت",3]
[null,{"$f":"IF(AND(ورقة2!$H$2=ورقة1!I1042,ورقة2!$F$2=ورقة1!H1042,ورقة1!G1042=\"ولد\"),1,0)","v":0},{"$f":"IF(B1042=0,\"\",SUM($B$2:B1042))","v":""},{"$f":"IF(AND(ورقة2!$H$2=ورقة1!I1042,ورقة2!$F$2=ورقة1!H1042,ورقة1!G1042=\"بنت\"),1,0)","v":0},{"$f":"IF(D1042=0,\"\",SUM($D$2:D1042))","v":""},null,"بنت",3]
[null,{"$f":"IF(AND(ورقة2!$H$2=ورقة1!I1043,ورقة2!$F$2=ورقة1!H1043,ورقة1!G1043=\"ولد\"),1,0)","v":0},{"$f":"IF(B1043=0,\"\",SUM($B$2:B1043))","v":""},{"$f":"IF(AND(ورقة2!$H$2=ورقة1!I1043,ورقة2!$F$2=ورقة1!H1043,ورقة1!G1043=\"بنت\"),1,0)","v":0},{"$f":"IF(D1043=0,\"\",SUM($D$2:D1043))","v":""},null,"بنت",3]
[null,{"$f":"IF(AND(ورقة2!$H$2=ورقة1!I1044,ورقة2!$F$2=ورقة1!H1044,ورقة1!G1044=\"ولد\"),1,0)","v":0},{"$f":"IF(B1044=0,\"\",SUM($B$2:B1044))","v":""},{"$f":"IF(AND(ورقة2!$H$2=ورقة1!I1044,ورقة2!$F$2=ورقة1!H1044,ورقة1!G1044=\"بنت\"),1,0)","v":0},{"$f":"IF(D1044=0,\"\",SUM($D$2:D1044))","v":""},null,"بنت",3]
[null,{"$f":"IF(AND(ورقة2!$H$2=ورقة1!I1045,ورقة2!$F$2=ورقة1!H1045,ورقة1!G1045=\"ولد\"),1,0)","v":0},{"$f":"IF(B1045=0,\"\",SUM($B$2:B1045))","v":""},{"$f":"IF(AND(ورقة2!$H$2=ورقة1!I1045,ورقة2!$F$2=ورقة1!H1045,ورقة1!G1045=\"بنت\"),1,0)","v":0},{"$f":"IF(D1045=0,\"\",SUM($D$2:D1045))","v":""},null,"بنت",3]
[null,{"$f":"IF(AND(ورقة2!$H$2=ورقة1!I1046,ورقة2!$F$2=ورقة1!H1046,ورقة1!G1046=\"ولد\"),1,0)","v":0},{"$f":"IF(B1046=0,\"\",SUM($B$2:B1046))","v":""},{"$f":"IF(AND(ورقة2!$H$2=ورقة1!I1046,ورقة2!$F$2=ورقة1!H1046,ورقة1!G1046=\"بنت\"),1,0)","v":0},{"$f":"IF(D1046=0,\"\",SUM($D$2:D1046))","v":""},null,"بنت",3]
[null,{"$f":"IF(AND(ورقة2!$H$2=ورقة1!I1047,ورقة2!$F$2=ورقة1!H1047,ورقة1!G1047=\"ولد\"),1,0)","v":0},{"$f":"IF(B1047=0,\"\",SUM($B$2:B1047))","v":""},{"$f":"IF(AND(ورقة2!$H$2=ورقة1!I1047,ورقة2!$F$2=ورقة1!H1047,ورقة1!G1047=\"بنت\"),1,0)","v":0},{"$f":"IF(D1047=0,\"\",SUM($D$2:D1047))","v":""},null,"بنت",3]
[null,{"$f":"IF(AND(ورقة2!$H$2=ورقة1!I1048,ورقة2!$F$2=ورقة1!H1048,ورقة1!G1048=\"ولد\"),1,0)","v":0},{"$f":"IF(B1048=0,\"\",SUM($B$2:B1048))","v":""},{"$f":"IF(AND(ورقة2!$H$2=ورقة1!I1048,ورقة2!$F$2=ورقة1!H1048,ورقة1!G1048=\"بنت\"),1,0)","v":0},{"$f":"IF(D1048=0,\"\",SUM($D$2:D1048))","v":""},null,"بنت",3]
[null,{"$f":"IF(AND(ورقة2!$H$2=ورقة1!I1049,ورقة2!$F$2=ورقة1!H1049,ورقة1!G1049=\"ولد\"),1,0)","v":0},{"$f":"IF(B1049=0,\"\",SUM($B$2:B1049))","v":""},{"$f":"IF(AND(ورقة2!$H$2=ورقة1!I1049,ورقة2!$F$2=ورقة1!H1049,ورقة1!G1049=\"بنت\"),1,0)","v":0},{"$f":"IF(D1049=0,\"\",SUM($D$2:D1049))","v":""},null,"بنت",3]
[null,{"$f":"IF(AND(ورقة2!$H$2=ورقة1!I1050,ورقة2!$F$2=ورقة1!H1050,ورقة1!G1050=\"ولد\"),1,0)","v":0},{"$f":"IF(B1050=0,\"\",SUM($B$2:B1050))","v":""},{"$f":"IF(AND(ورقة2!$H$2=ورقة1!I1050,ورقة2!$F$2=ورقة1!H1050,ورقة1!G1050=\"بنت\"),1,0)","v":0},{"$f":"IF(D1050=0,\"\",SUM($D$2:D1050))","v":""},null,"بنت",3]
[null,{"$f":"IF(AND(ورقة2!$H$2=ورقة1!I1051,ورقة2!$F$2=ورقة1!H1051,ورقة1!G1051=\"ولد\"),1,0)","v":0},{"$f":"IF(B1051=0,\"\",SUM($B$2:B1051))","v":""},{"$f":"IF(AND(ورقة2!$H$2=ورقة1!I1051,ورقة2!$F$2=ورقة1!H1051,ورقة1!G1051=\"بنت\"),1,0)","v":0},{"$f":"IF(D1051=0,\"\",SUM($D$2:D1051))","v":""},null,"بنت",3]
[null,{"$f":"IF(AND(ورقة2!$H$2=ورقة1!I1052,ورقة2!$F$2=ورقة1!H1052,ورقة1!G1052=\"ولد\"),1,0)","v":0},{"$f":"IF(B1052=0,\"\",SUM($B$2:B1052))","v":""},{"$f":"IF(AND(ورقة2!$H$2=ورقة1!I1052,ورقة2!$F$2=ورقة1!H1052,ورقة1!G1052=\"بنت\"),1,0)","v":0},{"$f":"IF(D1052=0,\"\",SUM($D$2:D1052))","v":""},null,"بنت",3]
[null,{"$f":"IF(AND(ورقة2!$H$2=ورقة1!I1053,ورقة2!$F$2=ورقة1!H1053,ورقة1!G1053=\"ولد\"),1,0)","v":0},{"$f":"IF(B1053=0,\"\",SUM($B$2:B1053))","v":""},{"$f":"IF(AND(ورقة2!$H$2=ورقة1!I1053,ورقة2!$F$2=ورقة1!H1053,ورقة1!G1053=\"بنت\"),1,0)","v":0},{"$f":"IF(D1053=0,\"\",SUM($D$2:D1053))","v":""},null,"بنت",3]
[null,{"$f":"IF(AND(ورقة2!$H$2=ورقة1!I1054,ورقة2!$F$2=ورقة1!H1054,ورقة1!G1054=\"ولد\"),1,0)","v":0},{"$f":"IF(B1054=0,\"\",SUM($B$2:B1054))","v":""},{"$f":"IF(AND(ورقة2!$H$2=ورقة1!I1054,ورقة2!$F$2=ورقة1!H1054,ورقة1!G1054=\"بنت\"),1,0)","v":0},{"$f":"IF(D1054=0,\"\",SUM($D$2:D1054))","v":""},null,"بنت",3]
[null,{"$f":"IF(AND(ورقة2!$H$2=ورقة1!I1055,ورقة2!$F$2=ورقة1!H1055,ورقة1!G1055=\"ولد\"),1,0)","v":0},{"$f":"IF(B1055=0,\"\",SUM($B$2:B1055))","v":""},{"$f":"IF(AND(ورقة2!$H$2=ورقة1!I1055,ورقة2!$F$2=ورقة1!H1055,ورقة1!G1055=\"بنت\"),1,0)","v":0},{"$f":"IF(D1055=0,\"\",SUM($D$2:D1055))","v":""},null,"بنت",3]
[null,{"$f":"IF(AND(ورقة2!$H$2=ورقة1!I1056,ورقة2!$F$2=ورقة1!H1056,ورقة1!G1056=\"ولد\"),1,0)","v":0},{"$f":"IF(B1056=0,\"\",SUM($B$2:B1056))","v":""},{"$f":"IF(AND(ورقة2!$H$2=ورقة1!I1056,ورقة2!$F$2=ورقة1!H1056,ورقة1!G1056=\"بنت\"),1,0)","v":0},{"$f":"IF(D1056=0,\"\",SUM($D$2:D1056))","v":""},null,"بنت",3]
[null,{"$f":"IF(AND(ورقة2!$H$2=ورقة1!I1057,ورقة2!$F$2=ورقة1!H1057,ورقة1!G1057=\"ولد\"),1,0)","v":0},{"$f":"IF(B1057=0,\"\",SUM($B$2:B1057))","v":""},{"$f":"IF(AND(ورقة2!$H$2=ورقة1!I1057,ورقة2!$F$2=ورقة1!H1057,ورقة1!G1057=\"بنت\"),1,0)","v":0},{"$f":"IF(D1057=0,\"\",SUM($D$2:D1057))","v":""},null,"بنت",3]
[null,{"$f":"IF(AND(ورقة2!$H$2=ورقة1!I1058,ورقة2!$F$2=ورقة1!H1058,ورقة1!G1058=\"ولد\"),1,0)","v":0},{"$f":"IF(B1058=0,\"\",SUM($B$2:B1058))","v":""},{"$f":"IF(AND(ورقة2!$H$2=ورقة1!I1058,ورقة2!$F$2=ورقة1!H1058,ورقة1!G1058=\"بنت\"),1,0)","v":0},{"$f":"IF(D1058=0,\"\",SUM($D$2:D1058))","v":""},null,"بنت",3]
[null,{"$f":"IF(AND(ورقة2!$H$2=ورقة1!I1059,ورقة2!$F$2=ورقة1!H1059,ورقة1!G1059=\"ولد\"),1,0)","v":0},{"$f":"IF(B1059=0,\"\",SUM($B$2:B1059))","v":""},{"$f":"IF(AND(ورقة2!$H$2=ورقة1!I1059,ورقة2!$F$2=ورقة1!H1059,ورقة1!G1059=\"بنت\"),1,0)","v":0},{"$f":"IF(D1059=0,\"\",SUM($D$2:D1059))","v":""},null,"بنت",3]
[null,{"$f":"IF(AND(ورقة2!$H$2=ورقة1!I1060,ورقة2!$F$2=ورقة1!H1060,ورقة1!G1060=\"ولد\"),1,0)","v":0},{"$f":"IF(B1060=0,\"\",SUM($B$2:B1060))","v":""},{"$f":"IF(AND(ورقة2!$H$2=ورقة1!I1060,ورقة2!$F$2=ورقة1!H1060,ورقة1!G1060=\"بنت\"),1,0)","v":0},{"$f":"IF(D1060=0,\"\",SUM($D$2:D1060))","v":""},null,"بنت",3]
[null,{"$f":"IF(AND(ورقة2!$H$2=ورقة1!I1061,ورقة2!$F$2=ورقة1!H1061,ورقة1!G1061=\"ولد\"),1,0)","v":0},{"$f":"IF(B1061=0,\"\",SUM($B$2:B1061))","v":""},{"$f":"IF(AND(ورقة2!$H$2=ورقة1!I1061,ورقة2!$F$2=ورقة1!H1061,ورقة1!G1061=\"بنت\"),1,0)","v":0},{"$f":"IF(D1061=0,\"\",SUM($D$2:D1061))","v":""},null,"بنت",3]
[null,{"$f":"IF(AND(ورقة2!$H$2=ورقة1!I1062,ورقة2!$F$2=ورقة1!H1062,ورقة1!G1062=\"ولد\"),1,0)","v":0},{"$f":"IF(B1062=0,\"\",SUM($B$2:B1062))","v":""},{"$f":"IF(AND(ورقة2!$H$2=ورقة1!I1062,ورقة2!$F$2=ورقة1!H1062,ورقة1!G1062=\"بنت\"),1,0)","v":0},{"$f":"IF(D1062=0,\"\",SUM($D$2:D1062))","v":""},null,"بنت",3]
[null,{"$f":"IF(AND(ورقة2!$H$2=ورقة1!I1063,ورقة2!$F$2=ورقة1!H1063,ورقة1!G1063=\"ولد\"),1,0)","v":0},{"$f":"IF(B1063=0,\"\",SUM($B$2:B1063))","v":""},{"$f":"IF(AND(ورقة2!$H$2=ورقة1!I1063,ورقة2!$F$2=ورقة1!H1063,ورقة1!G1063=\"بنت\"),1,0)","v":0},{"$f":"IF(D1063=0,\"\",SUM($D$2:D1063))","v":""},null,"بنت",3]
[null,{"$f":"IF(AND(ورقة2!$H$2=ورقة1!I1064,ورقة2!$F$2=ورقة1!H1064,ورقة1!G1064=\"ولد\"),1,0)","v":0},{"$f":"IF(B1064=0,\"\",SUM($B$2:B1064))","v":""},{"$f":"IF(AND(ورقة2!$H$2=ورقة1!I1064,ورقة2!$F$2=ورقة1!H1064,ورقة1!G1064=\"بنت\"),1,0)","v":0},{"$f":"IF(D1064=0,\"\",SUM($D$2:D1064))","v":""},null,"بنت",3]
[null,{"$f":"IF(AND(ورقة2!$H$2=ورقة1!I1065,ورقة2!$F$2=ورقة1!H1065,ورقة1!G1065=\"ولد\"),1,0)","v":0},{"$f":"IF(B1065=0,\"\",SUM($B$2:B1065))","v":""},{"$f":"IF(AND(ورقة2!$H$2=ورقة1!I1065,ورقة2!$F$2=ورقة1!H1065,ورقة1!G1065=\"بنت\"),1,0)","v":0},{"$f":"IF(D1065=0,\"\",SUM($D$2:D1065))","v":""},null,"بنت",3]
[null,{"$f":"IF(AND(ورقة2!$H$2=ورقة1!I1066,ورقة2!$F$2=ورقة1!H1066,ورقة1!G1066=\"ولد\"),1,0)","v":0},{"$f":"IF(B1066=0,\"\",SUM($B$2:B1066))","v":""},{"$f":"IF(AND(ورقة2!$H$2=ورقة1!I1066,ورقة2!$F$2=ورقة1!H1066,ورقة1!G1066=\"بنت\"),1,0)","v":0},{"$f":"IF(D1066=0,\"\",SUM($D$2:D1066))","v":""},null,"بنت",3]
[null,{"$f":"IF(AND(ورقة2!$H$2=ورقة1!I1067,ورقة2!$F$2=ورقة1!H1067,ورقة1!G1067=\"ولد\"),1,0)","v":0},{"$f":"IF(B1067=0,\"\",SUM($B$2:B1067))","v":""},{"$f":"IF(AND(ورقة2!$H$2=ورقة1!I1067,ورقة2!$F$2=ورقة1!H1067,ورقة1!G1067=\"بنت\"),1,0)","v":0},{"$f":"IF(D1067=0,\"\",SUM($D$2:D1067))","v":""},null,"بنت",3]
[null,{"$f":"IF(AND(ورقة2!$H$2=ورقة1!I1068,ورقة2!$F$2=ورقة1!H1068,ورقة1!G1068=\"ولد\"),1,0)","v":0},{"$f":"IF(B1068=0,\"\",SUM($B$2:B1068))","v":""},{"$f":"IF(AND(ورقة2!$H$2=ورقة1!I1068,ورقة2!$F$2=ورقة1!H1068,ورقة1!G1068=\"بنت\"),1,0)","v":0},{"$f":"IF(D1068=0,\"\",SUM($D$2:D1068))","v":""},null,"بنت",3]
[null,{"$f":"IF(AND(ورقة2!$H$2=ورقة1!I1069,ورقة2!$F$2=ورقة1!H1069,ورقة1!G1069=\"ولد\"),1,0)","v":0},{"$f":"IF(B1069=0,\"\",SUM($B$2:B1069))","v":""},{"$f":"IF(AND(ورقة2!$H$2=ورقة1!I1069,ورقة2!$F$2=ورقة1!H1069,ورقة1!G1069=\"بنت\"),1,0)","v":0},{"$f":"IF(D1069=0,\"\",SUM($D$2:D1069))","v":""},null,"بنت",3]
[null,{"$f":"IF(AND(ورقة2!$H$2=ورقة1!I1070,ورقة2!$F$2=ورقة1!H1070,ورقة1!G1070=\"ولد\"),1,0)","v":0},{"$f":"IF(B1070=0,\"\",SUM($B$2:B1070))","v":""},{"$f":"IF(AND(ورقة2!$H$2=ورقة1!I1070,ورقة2!$F$2=ورقة1!H1070,ورقة1!G1070=\"بنت\"),1,0)","v":0},{"$f":"IF(D1070=0,\"\",SUM($D$2:D1070))","v":""},null,"بنت",3]
[null,{"$f":"IF(AND(ورقة2!$H$2=ورقة1!I1071,ورقة2!$F$2=ورقة1!H1071,ورقة1!G1071=\"ولد\"),1,0)","v":0},{"$f":"IF(B1071=0,\"\",SUM($B$2:B1071))","v":""},{"$f":"IF(AND(ورقة2!$H$2=ورقة1!I1071,ورقة2!$F$2=ورقة1!H1071,ورقة1!G1071=\"بنت\"),1,0)","v":0},{"$f":"IF(D1071=0,\"\",SUM($D$2:D1071))","v":""},null,"بنت",3]
[null,{"$f":"IF(AND(ورقة2!$H$2=ورقة1!I1072,ورقة2!$F$2=ورقة1!H1072,ورقة1!G1072=\"ولد\"),1,0)","v":0},{"$f":"IF(B1072=0,\"\",SUM($B$2:B1072))","v":""},{"$f":"IF(AND(ورقة2!$H$2=ورقة1!I1072,ورقة2!$F$2=ورقة1!H1072,ورقة1!G1072=\"بنت\"),1,0)","v":0},{"$f":"IF(D1072=0,\"\",SUM($D$2:D1072))","v":""},null,"بنت",3]
[null,{"$f":"IF(AND(ورقة2!$H$2=ورقة1!I1073,ورقة2!$F$2=ورقة1!H1073,ورقة1!G1073=\"ولد\"),1,0)","v":0},{"$f":"IF(B1073=0,\"\",SUM($B$2:B1073))","v":""},{"$f":"IF(AND(ورقة2!$H$2=ورقة1!I1073,ورقة2!$F$2=ورقة1!H1073,ورقة1!G1073=\"بنت\"),1,0)","v":0},{"$f":"IF(D1073=0,\"\",SUM($D$2:D1073))","v":""},null,"بنت",3]
[null,{"$f":"IF(AND(ورقة2!$H$2=ورقة1!I1074,ورقة2!$F$2=ورقة1!H1074,ورقة1!G1074=\"ولد\"),1,0)","v":0},{"$f":"IF(B1074=0,\"\",SUM($B$2:B1074))","v":""},{"$f":"IF(AND(ورقة2!$H$2=ورقة1!I1074,ورقة2!$F$2=ورقة1!H1074,ورقة1!G1074=\"بنت\"),1,0)","v":0},{"$f":"IF(D1074=0,\"\",SUM($D$2:D1074))","v":""},null,"بنت",3]
[null,{"$f":"IF(AND(ورقة2!$H$2=ورقة1!I1075,ورقة2!$F$2=ورقة1!H1075,ورقة1!G1075=\"ولد\"),1,0)","v":0},{"$f":"IF(B1075=0,\"\",SUM($B$2:B1075))","v":""},{"$f":"IF(AND(ورقة2!$H$2=ورقة1!I1075,ورقة2!$F$2=ورقة1!H1075,ورقة1!G1075=\"بنت\"),1,0)","v":0},{"$f":"IF(D1075=0,\"\",SUM($D$2:D1075))","v":""},null,"بنت",3]
[null,{"$f":"IF(AND(ورقة2!$H$2=ورقة1!I1076,ورقة2!$F$2=ورقة1!H1076,ورقة1!G1076=\"ولد\"),1,0)","v":0},{"$f":"IF(B1076=0,\"\",SUM($B$2:B1076))","v":""},{"$f":"IF(AND(ورقة2!$H$2=ورقة1!I1076,ورقة2!$F$2=ورقة1!H1076,ورقة1!G1076=\"بنت\"),1,0)","v":0},{"$f":"IF(D1076=0,\"\",SUM($D$2:D1076))","v":""},null,"بنت",3]
[null,{"$f":"IF(AND(ورقة2!$H$2=ورقة1!I1077,ورقة2!$F$2=ورقة1!H1077,ورقة1!G1077=\"ولد\"),1,0)","v":0},{"$f":"IF(B1077=0,\"\",SUM($B$2:B1077))","v":""},{"$f":"IF(AND(ورقة2!$H$2=ورقة1!I1077,ورقة2!$F$2=ورقة1!H1077,ورقة1!G1077=\"بنت\"),1,0)","v":0},{"$f":"IF(D1077=0,\"\",SUM($D$2:D1077))","v":""},null,"بنت",3]
[null,{"$f":"IF(AND(ورقة2!$H$2=ورقة1!I1078,ورقة2!$F$2=ورقة1!H1078,ورقة1!G1078=\"ولد\"),1,0)","v":0},{"$f":"IF(B1078=0,\"\",SUM($B$2:B1078))","v":""},{"$f":"IF(AND(ورقة2!$H$2=ورقة1!I1078,ورقة2!$F$2=ورقة1!H1078,ورقة1!G1078=\"بنت\"),1,0)","v":0},{"$f":"IF(D1078=0,\"\",SUM($D$2:D1078))","v":""},null,"بنت",3]
[null,{"$f":"IF(AND(ورقة2!$H$2=ورقة1!I1079,ورقة2!$F$2=ورقة1!H1079,ورقة1!G1079=\"ولد\"),1,0)","v":0},{"$f":"IF(B1079=0,\"\",SUM($B$2:B1079))","v":""},{"$f":"IF(AND(ورقة2!$H$2=ورقة1!I1079,ورقة2!$F$2=ورقة1!H1079,ورقة1!G1079=\"بنت\"),1,0)","v":0},{"$f":"IF(D1079=0,\"\",SUM($D$2:D1079))","v":""},null,"بنت",3]
[null,{"$f":"IF(AND(ورقة2!$H$2=ورقة1!I1080,ورقة2!$F$2=ورقة1!H1080,ورقة1!G1080=\"ولد\"),1,0)","v":0},{"$f":"IF(B1080=0,\"\",SUM($B$2:B1080))","v":""},{"$f":"IF(AND(ورقة2!$H$2=ورقة1!I1080,ورقة2!$F$2=ورقة1!H1080,ورقة1!G1080=\"بنت\"),1,0)","v":0},{"$f":"IF(D1080=0,\"\",SUM($D$2:D1080))","v":""},null,"بنت",3]
[null,{"$f":"IF(AND(ورقة2!$H$2=ورقة1!I1081,ورقة2!$F$2=ورقة1!H1081,ورقة1!G1081=\"ولد\"),1,0)","v":0},{"$f":"IF(B1081=0,\"\",SUM($B$2:B1081))","v":""},{"$f":"IF(AND(ورقة2!$H$2=ورقة1!I1081,ورقة2!$F$2=ورقة1!H1081,ورقة1!G1081=\"بنت\"),1,0)","v":0},{"$f":"IF(D1081=0,\"\",SUM($D$2:D1081))","v":""},null,"بنت",3]
[null,{"$f":"IF(AND(ورقة2!$H$2=ورقة1!I1082,ورقة2!$F$2=ورقة1!H1082,ورقة1!G1082=\"ولد\"),1,0)","v":0},{"$f":"IF(B1082=0,\"\",SUM($B$2:B1082))","v":""},{"$f":"IF(AND(ورقة2!$H$2=ورقة1!I1082,ورقة2!$F$2=ورقة1!H1082,ورقة1!G1082=\"بنت\"),1,0)","v":0},{"$f":"IF(D1082=0,\"\",SUM($D$2:D1082))","v":""},null,"بنت",3]
[null,{"$f":"IF(AND(ورقة2!$H$2=ورقة1!I1083,ورقة2!$F$2=ورقة1!H1083,ورقة1!G1083=\"ولد\"),1,0)","v":0},{"$f":"IF(B1083=0,\"\",SUM($B$2:B1083))","v":""},{"$f":"IF(AND(ورقة2!$H$2=ورقة1!I1083,ورقة2!$F$2=ورقة1!H1083,ورقة1!G1083=\"بنت\"),1,0)","v":0},{"$f":"IF(D1083=0,\"\",SUM($D$2:D1083))","v":""},null,"بنت",3]
[null,{"$f":"IF(AND(ورقة2!$H$2=ورقة1!I1084,ورقة2!$F$2=ورقة1!H1084,ورقة1!G1084=\"ولد\"),1,0)","v":0},{"$f":"IF(B1084=0,\"\",SUM($B$2:B1084))","v":""},{"$f":"IF(AND(ورقة2!$H$2=ورقة1!I1084,ورقة2!$F$2=ورقة1!H1084,ورقة1!G1084=\"بنت\"),1,0)","v":0},{"$f":"IF(D1084=0,\"\",SUM($D$2:D1084))","v":""},null,"بنت",3]
[null,{"$f":"IF(AND(ورقة2!$H$2=ورقة1!I1085,ورقة2!$F$2=ورقة1!H1085,ورقة1!G1085=\"ولد\"),1,0)","v":0},{"$f":"IF(B1085=0,\"\",SUM($B$2:B1085))","v":""},{"$f":"IF(AND(ورقة2!$H$2=ورقة1!I1085,ورقة2!$F$2=ورقة1!H1085,ورقة1!G1085=\"بنت\"),1,0)","v":0},{"$f":"IF(D1085=0,\"\",SUM($D$2:D1085))","v":""},null,"بنت",3]
[null,{"$f":"IF(AND(ورقة2!$H$2=ورقة1!I1086,ورقة2!$F$2=ورقة1!H1086,ورقة1!G1086=\"ولد\"),1,0)","v":0},{"$f":"IF(B1086=0,\"\",SUM($B$2:B1086))","v":""},{"$f":"IF(AND(ورقة2!$H$2=ورقة1!I1086,ورقة2!$F$2=ورقة1!H1086,ورقة1!G1086=\"بنت\"),1,0)","v":0},{"$f":"IF(D1086=0,\"\",SUM($D$2:D1086))","v":""},null,"بنت",3]
[null,{"$f":"IF(AND(ورقة2!$H$2=ورقة1!I1087,ورقة2!$F$2=ورقة1!H1087,ورقة1!G1087=\"ولد\"),1,0)","v":0},{"$f":"IF(B1087=0,\"\",SUM($B$2:B1087))","v":""},{"$f":"IF(AND(ورقة2!$H$2=ورقة1!I1087,ورقة2!$F$2=ورقة1!H1087,ورقة1!G1087=\"بنت\"),1,0)","v":0},{"$f":"IF(D1087=0,\"\",SUM($D$2:D1087))","v":""},null,"بنت",3]
[null,{"$f":"IF(AND(ورقة2!$H$2=ورقة1!I1088,ورقة2!$F$2=ورقة1!H1088,ورقة1!G1088=\"ولد\"),1,0)","v":0},{"$f":"IF(B1088=0,\"\",SUM($B$2:B1088))","v":""},{"$f":"IF(AND(ورقة2!$H$2=ورقة1!I1088,ورقة2!$F$2=ورقة1!H1088,ورقة1!G1088=\"بنت\"),1,0)","v":0},{"$f":"IF(D1088=0,\"\",SUM($D$2:D1088))","v":""},null,"بنت",3]
[null,{"$f":"IF(AND(ورقة2!$H$2=ورقة1!I1089,ورقة2!$F$2=ورقة1!H1089,ورقة1!G1089=\"ولد\"),1,0)","v":0},{"$f":"IF(B1089=0,\"\",SUM($B$2:B1089))","v":""},{"$f":"IF(AND(ورقة2!$H$2=ورقة1!I1089,ورقة2!$F$2=ورقة1!H1089,ورقة1!G1089=\"بنت\"),1,0)","v":0},{"$f":"IF(D1089=0,\"\",SUM($D$2:D1089))","v":""},null,"بنت",3]
[null,{"$f":"IF(AND(ورقة2!$H$2=ورقة1!I1090,ورقة2!$F$2=ورقة1!H1090,ورقة1!G1090=\"ولد\"),1,0)","v":0},{"$f":"IF(B1090=0,\"\",SUM($B$2:B1090))","v":""},{"$f":"IF(AND(ورقة2!$H$2=ورقة1!I1090,ورقة2!$F$2=ورقة1!H1090,ورقة1!G1090=\"بنت\"),1,0)","v":0},{"$f":"IF(D1090=0,\"\",SUM($D$2:D1090))","v":""},null,"بنت",3]
[null,{"$f":"IF(AND(ورقة2!$H$2=ورقة1!I1091,ورقة2!$F$2=ورقة1!H1091,ورقة1!G1091=\"ولد\"),1,0)","v":0},{"$f":"IF(B1091=0,\"\",SUM($B$2:B1091))","v":""},{"$f":"IF(AND(ورقة2!$H$2=ورقة1!I1091,ورقة2!$F$2=ورقة1!H1091,ورقة1!G1091=\"بنت\"),1,0)","v":0},{"$f":"IF(D1091=0,\"\",SUM($D$2:D1091))","v":""},null,"بنت",3]
[null,{"$f":"IF(AND(ورقة2!$H$2=ورقة1!I1092,ورقة2!$F$2=ورقة1!H1092,ورقة1!G1092=\"ولد\"),1,0)","v":0},{"$f":"IF(B1092=0,\"\",SUM($B$2:B1092))","v":""},{"$f":"IF(AND(ورقة2!$H$2=ورقة1!I1092,ورقة2!$F$2=ورقة1!H1092,ورقة1!G1092=\"بنت\"),1,0)","v":0},{"$f":"IF(D1092=0,\"\",SUM($D$2:D1092))","v":""},null,"بنت",3]
[null,{"$f":"IF(AND(ورقة2!$H$2=ورقة1!I1093,ورقة2!$F$2=ورقة1!H1093,ورقة1!G1093=\"ولد\"),1,0)","v":0},{"$f":"IF(B1093=0,\"\",SUM($B$2:B1093))","v":""},{"$f":"IF(AND(ورقة2!$H$2=ورقة1!I1093,ورقة2!$F$2=ورقة1!H1093,ورقة1!G1093=\"بنت\"),1,0)","v":0},{"$f":"IF(D1093=0,\"\",SUM($D$2:D1093))","v":""},null,"بنت",3]
[null,{"$f":"IF(AND(ورقة2!$H$2=ورقة1!I1094,ورقة2!$F$2=ورقة1!H1094,ورقة1!G1094=\"ولد\"),1,0)","v":0},{"$f":"IF(B1094=0,\"\",SUM($B$2:B1094))","v":""},{"$f":"IF(AND(ورقة2!$H$2=ورقة1!I1094,ورقة2!$F$2=ورقة1!H1094,ورقة1!G1094=\"بنت\"),1,0)","v":0},{"$f":"IF(D1094=0,\"\",SUM($D$2:D1094))","v":""},null,"بنت",3]
[null,{"$f":"IF(AND(ورقة2!$H$2=ورقة1!I1095,ورقة2!$F$2=ورقة1!H1095,ورقة1!G1095=\"ولد\"),1,0)","v":0},{"$f":"IF(B1095=0,\"\",SUM($B$2:B1095))","v":""},{"$f":"IF(AND(ورقة2!$H$2=ورقة1!I1095,ورقة2!$F$2=ورقة1!H1095,ورقة1!G1095=\"بنت\"),1,0)","v":0},{"$f":"IF(D1095=0,\"\",SUM($D$2:D1095))","v":""},null,"بنت",3]
[null,{"$f":"IF(AND(ورقة2!$H$2=ورقة1!I1096,ورقة2!$F$2=ورقة1!H1096,ورقة1!G1096=\"ولد\"),1,0)","v":0},{"$f":"IF(B1096=0,\"\",SUM($B$2:B1096))","v":""},{"$f":"IF(AND(ورقة2!$H$2=ورقة1!I1096,ورقة2!$F$2=ورقة1!H1096,ورقة1!G1096=\"بنت\"),1,0)","v":0},{"$f":"IF(D1096=0,\"\",SUM($D$2:D1096))","v":""},null,"بنت",3]
[null,{"$f":"IF(AND(ورقة2!$H$2=ورقة1!I1097,ورقة2!$F$2=ورقة1!H1097,ورقة1!G1097=\"ولد\"),1,0)","v":0},{"$f":"IF(B1097=0,\"\",SUM($B$2:B1097))","v":""},{"$f":"IF(AND(ورقة2!$H$2=ورقة1!I1097,ورقة2!$F$2=ورقة1!H1097,ورقة1!G1097=\"بنت\"),1,0)","v":0},{"$f":"IF(D1097=0,\"\",SUM($D$2:D1097))","v":""},null,"بنت",3]
[null,{"$f":"IF(AND(ورقة2!$H$2=ورقة1!I1098,ورقة2!$F$2=ورقة1!H1098,ورقة1!G1098=\"ولد\"),1,0)","v":0},{"$f":"IF(B1098=0,\"\",SUM($B$2:B1098))","v":""},{"$f":"IF(AND(ورقة2!$H$2=ورقة1!I1098,ورقة2!$F$2=ورقة1!H1098,ورقة1!G1098=\"بنت\"),1,0)","v":0},{"$f":"IF(D1098=0,\"\",SUM($D$2:D1098))","v":""},null,"بنت",3]
[null,{"$f":"IF(AND(ورقة2!$H$2=ورقة1!I1099,ورقة2!$F$2=ورقة1!H1099,ورقة1!G1099=\"ولد\"),1,0)","v":0},{"$f":"IF(B1099=0,\"\",SUM($B$2:B1099))","v":""},{"$f":"IF(AND(ورقة2!$H$2=ورقة1!I1099,ورقة2!$F$2=ورقة1!H1099,ورقة1!G1099=\"بنت\"),1,0)","v":0},{"$f":"IF(D1099=0,\"\",SUM($D$2:D1099))","v":""},null,"بنت",3]
[null,{"$f":"IF(AND(ورقة2!$H$2=ورقة1!I1100,ورقة2!$F$2=ورقة1!H1100,ورقة1!G1100=\"ولد\"),1,0)","v":0},{"$f":"IF(B1100=0,\"\",SUM($B$2:B1100))","v":""},{"$f":"IF(AND(ورقة2!$H$2=ورقة1!I1100,ورقة2!$F$2=ورقة1!H1100,ورقة1!G1100=\"بنت\"),1,0)","v":0},{"$f":"IF(D1100=0,\"\",SUM($D$2:D1100))","v":""},null,"بنت",3]
[null,{"$f":"IF(AND(ورقة2!$H$2=ورقة1!I1101,ورقة2!$F$2=ورقة1!H1101,ورقة1!G1101=\"ولد\"),1,0)","v":0},{"$f":"IF(B1101=0,\"\",SUM($B$2:B1101))","v":""},{"$f":"IF(AND(ورقة2!$H$2=ورقة1!I1101,ورقة2!$F$2=ورقة1!H1101,ورقة1!G1101=\"بنت\"),1,0)","v":0},{"$f":"IF(D1101=0,\"\",SUM($D$2:D1101))","v":""},null,"بنت",3]
[null,{"$f":"IF(AND(ورقة2!$H$2=ورقة1!I1102,ورقة2!$F$2=ورقة1!H1102,ورقة1!G1102=\"ولد\"),1,0)","v":0},{"$f":"IF(B1102=0,\"\",SUM($B$2:B1102))","v":""},{"$f":"IF(AND(ورقة2!$H$2=ورقة1!I1102,ورقة2!$F$2=ورقة1!H1102,ورقة1!G1102=\"بنت\"),1,0)","v":0},{"$f":"IF(D1102=0,\"\",SUM($D$2:D1102))","v":""},null,"بنت",3]
[null,{"$f":"IF(AND(ورقة2!$H$2=ورقة1!I1103,ورقة2!$F$2=ورقة1!H1103,ورقة1!G1103=\"ولد\"),1,0)","v":0},{"$f":"IF(B1103=0,\"\",SUM($B$2:B1103))","v":""},{"$f":"IF(AND(ورقة2!$H$2=ورقة1!I1103,ورقة2!$F$2=ورقة1!H1103,ورقة1!G1103=\"بنت\"),1,0)","v":0},{"$f":"IF(D1103=0,\"\",SUM($D$2:D1103))","v":""},null,"بنت",3]
[null,{"$f":"IF(AND(ورقة2!$H$2=ورقة1!I1104,ورقة2!$F$2=ورقة1!H1104,ورقة1!G1104=\"ولد\"),1,0)","v":0},{"$f":"IF(B1104=0,\"\",SUM($B$2:B1104))","v":""},{"$f":"IF(AND(ورقة2!$H$2=ورقة1!I1104,ورقة2!$F$2=ورقة1!H1104,ورقة1!G1104=\"بنت\"),1,0)","v":0},{"$f":"IF(D1104=0,\"\",SUM($D$2:D1104))","v":""},null,"بنت",3]
[null,{"$f":"IF(AND(ورقة2!$H$2=ورقة1!I1105,ورقة2!$F$2=ورقة1!H1105,ورقة1!G1105=\"ولد\"),1,0)","v":0},{"$f":"IF(B1105=0,\"\",SUM($B$2:B1105))","v":""},{"$f":"IF(AND(ورقة2!$H$2=ورقة1!I1105,ورقة2!$F$2=ورقة1!H1105,ورقة1!G1105=\"بنت\"),1,0)","v":0},{"$f":"IF(D1105=0,\"\",SUM($D$2:D1105))","v":""},null,"بنت",3]
[null,{"$f":"IF(AND(ورقة2!$H$2=ورقة1!I1106,ورقة2!$F$2=ورقة1!H1106,ورقة1!G1106=\"ولد\"),1,0)","v":0},{"$f":"IF(B1106=0,\"\",SUM($B$2:B1106))","v":""},{"$f":"IF(AND(ورقة2!$H$2=ورقة1!I1106,ورقة2!$F$2=ورقة1!H1106,ورقة1!G1106=\"بنت\"),1,0)","v":0},{"$f":"IF(D1106=0,\"\",SUM($D$2:D1106))","v":""},null,"بنت",3]
[null,{"$f":"IF(AND(ورقة2!$H$2=ورقة1!I1107,ورقة2!$F$2=ورقة1!H1107,ورقة1!G1107=\"ولد\"),1,0)","v":0},{"$f":"IF(B1107=0,\"\",SUM($B$2:B1107))","v":""},{"$f":"IF(AND(ورقة2!$H$2=ورقة1!I1107,ورقة2!$F$2=ورقة1!H1107,ورقة1!G1107=\"بنت\"),1,0)","v":0},{"$f":"IF(D1107=0,\"\",SUM($D$2:D1107))","v":""},null,"بنت",3]
[null,{"$f":"IF(AND(ورقة2!$H$2=ورقة1!I1108,ورقة2!$F$2=ورقة1!H1108,ورقة1!G1108=\"ولد\"),1,0)","v":0},{"$f":"IF(B1108=0,\"\",SUM($B$2:B1108))","v":""},{"$f":"IF(AND(ورقة2!$H$2=ورقة1!I1108,ورقة2!$F$2=ورقة1!H1108,ورقة1!G1108=\"بنت\"),1,0)","v":0},{"$f":"IF(D1108=0,\"\",SUM($D$2:D1108))","v":""},null,"بنت",3]
[null,{"$f":"IF(AND(ورقة2!$H$2=ورقة1!I1109,ورقة2!$F$2=ورقة1!H1109,ورقة1!G1109=\"ولد\"),1,0)","v":0},{"$f":"IF(B1109=0,\"\",SUM($B$2:B1109))","v":""},{"$f":"IF(AND(ورقة2!$H$2=ورقة1!I1109,ورقة2!$F$2=ورقة1!H1109,ورقة1!G1109=\"بنت\"),1,0)","v":0},{"$f":"IF(D1109=0,\"\",SUM($D$2:D1109))","v":""},null,"بنت",3]
[null,{"$f":"IF(AND(ورقة2!$H$2=ورقة1!I1110,ورقة2!$F$2=ورقة1!H1110,ورقة1!G1110=\"ولد\"),1,0)","v":0},{"$f":"IF(B1110=0,\"\",SUM($B$2:B1110))","v":""},{"$f":"IF(AND(ورقة2!$H$2=ورقة1!I1110,ورقة2!$F$2=ورقة1!H1110,ورقة1!G1110=\"بنت\"),1,0)","v":0},{"$f":"IF(D1110=0,\"\",SUM($D$2:D1110))","v":""},null,"بنت",3]
[null,{"$f":"IF(AND(ورقة2!$H$2=ورقة1!I1111,ورقة2!$F$2=ورقة1!H1111,ورقة1!G1111=\"ولد\"),1,0)","v":0},{"$f":"IF(B1111=0,\"\",SUM($B$2:B1111))","v":""},{"$f":"IF(AND(ورقة2!$H$2=ورقة1!I1111,ورقة2!$F$2=ورقة1!H1111,ورقة1!G1111=\"بنت\"),1,0)","v":0},{"$f":"IF(D1111=0,\"\",SUM($D$2:D1111))","v":""},null,"بنت",3]
[null,{"$f":"IF(AND(ورقة2!$H$2=ورقة1!I1112,ورقة2!$F$2=ورقة1!H1112,ورقة1!G1112=\"ولد\"),1,0)","v":0},{"$f":"IF(B1112=0,\"\",SUM($B$2:B1112))","v":""},{"$f":"IF(AND(ورقة2!$H$2=ورقة1!I1112,ورقة2!$F$2=ورقة1!H1112,ورقة1!G1112=\"بنت\"),1,0)","v":0},{"$f":"IF(D1112=0,\"\",SUM($D$2:D1112))","v":""},null,"بنت",3]
[null,{"$f":"IF(AND(ورقة2!$H$2=ورقة1!I1113,ورقة2!$F$2=ورقة1!H1113,ورقة1!G1113=\"ولد\"),1,0)","v":0},{"$f":"IF(B1113=0,\"\",SUM($B$2:B1113))","v":""},{"$f":"IF(AND(ورقة2!$H$2=ورقة1!I1113,ورقة2!$F$2=ورقة1!H1113,ورقة1!G1113=\"بنت\"),1,0)","v":0},{"$f":"IF(D1113=0,\"\",SUM($D$2:D1113))","v":""},null,"بنت",3]
[null,{"$f":"IF(AND(ورقة2!$H$2=ورقة1!I1114,ورقة2!$F$2=ورقة1!H1114,ورقة1!G1114=\"ولد\"),1,0)","v":0},{"$f":"IF(B1114=0,\"\",SUM($B$2:B1114))","v":""},{"$f":"IF(AND(ورقة2!$H$2=ورقة1!I1114,ورقة2!$F$2=ورقة1!H1114,ورقة1!G1114=\"بنت\"),1,0)","v":0},{"$f":"IF(D1114=0,\"\",SUM($D$2:D1114))","v":""},null,"بنت",3]
[null,{"$f":"IF(AND(ورقة2!$H$2=ورقة1!I1115,ورقة2!$F$2=ورقة1!H1115,ورقة1!G1115=\"ولد\"),1,0)","v":0},{"$f":"IF(B1115=0,\"\",SUM($B$2:B1115))","v":""},{"$f":"IF(AND(ورقة2!$H$2=ورقة1!I1115,ورقة2!$F$2=ورقة1!H1115,ورقة1!G1115=\"بنت\"),1,0)","v":0},{"$f":"IF(D1115=0,\"\",SUM($D$2:D1115))","v":""},null,"بنت",3]
[null,{"$f":"IF(AND(ورقة2!$H$2=ورقة1!I1116,ورقة2!$F$2=ورقة1!H1116,ورقة1!G1116=\"ولد\"),1,0)","v":0},{"$f":"IF(B1116=0,\"\",SUM($B$2:B1116))","v":""},{"$f":"IF(AND(ورقة2!$H$2=ورقة1!I1116,ورقة2!$F$2=ورقة1!H1116,ورقة1!G1116=\"بنت\"),1,0)","v":0},{"$f":"IF(D1116=0,\"\",SUM($D$2:D1116))","v":""},null,"بنت",3]
[null,{"$f":"IF(AND(ورقة2!$H$2=ورقة1!I1117,ورقة2!$F$2=ورقة1!H1117,ورقة1!G1117=\"ولد\"),1,0)","v":0},{"$f":"IF(B1117=0,\"\",SUM($B$2:B1117))","v":""},{"$f":"IF(AND(ورقة2!$H$2=ورقة1!I1117,ورقة2!$F$2=ورقة1!H1117,ورقة1!G1117=\"بنت\"),1,0)","v":0},{"$f":"IF(D1117=0,\"\",SUM($D$2:D1117))","v":""},null,"بنت",3]
[null,{"$f":"IF(AND(ورقة2!$H$2=ورقة1!I1118,ورقة2!$F$2=ورقة1!H1118,ورقة1!G1118=\"ولد\"),1,0)","v":0},{"$f":"IF(B1118=0,\"\",SUM($B$2:B1118))","v":""},{"$f":"IF(AND(ورقة2!$H$2=ورقة1!I1118,ورقة2!$F$2=ورقة1!H1118,ورقة1!G1118=\"بنت\"),1,0)","v":0},{"$f":"IF(D1118=0,\"\",SUM($D$2:D1118))","v":""},null,"بنت",3]
[null,{"$f":"IF(AND(ورقة2!$H$2=ورقة1!I1119,ورقة2!$F$2=ورقة1!H1119,ورقة1!G1119=\"ولد\"),1,0)","v":0},{"$f":"IF(B1119=0,\"\",SUM($B$2:B1119))","v":""},{"$f":"IF(AND(ورقة2!$H$2=ورقة1!I1119,ورقة2!$F$2=ورقة1!H1119,ورقة1!G1119=\"بنت\"),1,0)","v":0},{"$f":"IF(D1119=0,\"\",SUM($D$2:D1119))","v":""},null,"بنت",3]
[null,{"$f":"IF(AND(ورقة2!$H$2=ورقة1!I1120,ورقة2!$F$2=ورقة1!H1120,ورقة1!G1120=\"ولد\"),1,0)","v":0},{"$f":"IF(B1120=0,\"\",SUM($B$2:B1120))","v":""},{"$f":"IF(AND(ورقة2!$H$2=ورقة1!I1120,ورقة2!$F$2=ورقة1!H1120,ورقة1!G1120=\"بنت\"),1,0)","v":0},{"$f":"IF(D1120=0,\"\",SUM($D$2:D1120))","v":""},null,"بنت",3]
[null,{"$f":"IF(AND(ورقة2!$H$2=ورقة1!I1121,ورقة2!$F$2=ورقة1!H1121,ورقة1!G1121=\"ولد\"),1,0)","v":0},{"$f":"IF(B1121=0,\"\",SUM($B$2:B1121))","v":""},{"$f":"IF(AND(ورقة2!$H$2=ورقة1!I1121,ورقة2!$F$2=ورقة1!H1121,ورقة1!G1121=\"بنت\"),1,0)","v":0},{"$f":"IF(D1121=0,\"\",SUM($D$2:D1121))","v":""},null,"بنت",3]
[null,{"$f":"IF(AND(ورقة2!$H$2=ورقة1!I1122,ورقة2!$F$2=ورقة1!H1122,ورقة1!G1122=\"ولد\"),1,0)","v":0},{"$f":"IF(B1122=0,\"\",SUM($B$2:B1122))","v":""},{"$f":"IF(AND(ورقة2!$H$2=ورقة1!I1122,ورقة2!$F$2=ورقة1!H1122,ورقة1!G1122=\"بنت\"),1,0)","v":0},{"$f":"IF(D1122=0,\"\",SUM($D$2:D1122))","v":""},null,"بنت",3]
[null,{"$f":"IF(AND(ورقة2!$H$2=ورقة1!I1123,ورقة2!$F$2=ورقة1!H1123,ورقة1!G1123=\"ولد\"),1,0)","v":0},{"$f":"IF(B1123=0,\"\",SUM($B$2:B1123))","v":""},{"$f":"IF(AND(ورقة2!$H$2=ورقة1!I1123,ورقة2!$F$2=ورقة1!H1123,ورقة1!G1123=\"بنت\"),1,0)","v":0},{"$f":"IF(D1123=0,\"\",SUM($D$2:D1123))","v":""},null,"بنت",3]
[null,{"$f":"IF(AND(ورقة2!$H$2=ورقة1!I1124,ورقة2!$F$2=ورقة1!H1124,ورقة1!G1124=\"ولد\"),1,0)","v":0},{"$f":"IF(B1124=0,\"\",SUM($B$2:B1124))","v":""},{"$f":"IF(AND(ورقة2!$H$2=ورقة1!I1124,ورقة2!$F$2=ورقة1!H1124,ورقة1!G1124=\"بنت\"),1,0)","v":0},{"$f":"IF(D1124=0,\"\",SUM($D$2:D1124))","v":""},null,"بنت",3]
[null,{"$f":"IF(AND(ورقة2!$H$2=ورقة1!I1125,ورقة2!$F$2=ورقة1!H1125,ورقة1!G1125=\"ولد\"),1,0)","v":0},{"$f":"IF(B1125=0,\"\",SUM($B$2:B1125))","v":""},{"$f":"IF(AND(ورقة2!$H$2=ورقة1!I1125,ورقة2!$F$2=ورقة1!H1125,ورقة1!G1125=\"بنت\"),1,0)","v":0},{"$f":"IF(D1125=0,\"\",SUM($D$2:D1125))","v":""},null,"بنت",3]
[null,{"$f":"IF(AND(ورقة2!$H$2=ورقة1!I1126,ورقة2!$F$2=ورقة1!H1126,ورقة1!G1126=\"ولد\"),1,0)","v":0},{"$f":"IF(B1126=0,\"\",SUM($B$2:B1126))","v":""},{"$f":"IF(AND(ورقة2!$H$2=ورقة1!I1126,ورقة2!$F$2=ورقة1!H1126,ورقة1!G1126=\"بنت\"),1,0)","v":0},{"$f":"IF(D1126=0,\"\",SUM($D$2:D1126))","v":""},null,"بنت",3]
[null,{"$f":"IF(AND(ورقة2!$H$2=ورقة1!I1127,ورقة2!$F$2=ورقة1!H1127,ورقة1!G1127=\"ولد\"),1,0)","v":0},{"$f":"IF(B1127=0,\"\",SUM($B$2:B1127))","v":""},{"$f":"IF(AND(ورقة2!$H$2=ورقة1!I1127,ورقة2!$F$2=ورقة1!H1127,ورقة1!G1127=\"بنت\"),1,0)","v":0},{"$f":"IF(D1127=0,\"\",SUM($D$2:D1127))","v":""},null,"بنت",3]
[null,{"$f":"IF(AND(ورقة2!$H$2=ورقة1!I1128,ورقة2!$F$2=ورقة1!H1128,ورقة1!G1128=\"ولد\"),1,0)","v":0},{"$f":"IF(B1128=0,\"\",SUM($B$2:B1128))","v":""},{"$f":"IF(AND(ورقة2!$H$2=ورقة1!I1128,ورقة2!$F$2=ورقة1!H1128,ورقة1!G1128=\"بنت\"),1,0)","v":0},{"$f":"IF(D1128=0,\"\",SUM($D$2:D1128))","v":""},null,"بنت",3]
[null,{"$f":"IF(AND(ورقة2!$H$2=ورقة1!I1129,ورقة2!$F$2=ورقة1!H1129,ورقة1!G1129=\"ولد\"),1,0)","v":0},{"$f":"IF(B1129=0,\"\",SUM($B$2:B1129))","v":""},{"$f":"IF(AND(ورقة2!$H$2=ورقة1!I1129,ورقة2!$F$2=ورقة1!H1129,ورقة1!G1129=\"بنت\"),1,0)","v":0},{"$f":"IF(D1129=0,\"\",SUM($D$2:D1129))","v":""},null,"بنت",3]
[null,{"$f":"IF(AND(ورقة2!$H$2=ورقة1!I1130,ورقة2!$F$2=ورقة1!H1130,ورقة1!G1130=\"ولد\"),1,0)","v":0},{"$f":"IF(B1130=0,\"\",SUM($B$2:B1130))","v":""},{"$f":"IF(AND(ورقة2!$H$2=ورقة1!I1130,ورقة2!$F$2=ورقة1!H1130,ورقة1!G1130=\"بنت\"),1,0)","v":0},{"$f":"IF(D1130=0,\"\",SUM($D$2:D1130))","v":""},null,"بنت",3]
[null,{"$f":"IF(AND(ورقة2!$H$2=ورقة1!I1131,ورقة2!$F$2=ورقة1!H1131,ورقة1!G1131=\"ولد\"),1,0)","v":0},{"$f":"IF(B1131=0,\"\",SUM($B$2:B1131))","v":""},{"$f":"IF(AND(ورقة2!$H$2=ورقة1!I1131,ورقة2!$F$2=ورقة1!H1131,ورقة1!G1131=\"بنت\"),1,0)","v":0},{"$f":"IF(D1131=0,\"\",SUM($D$2:D1131))","v":""},null,"بنت",3]
[null,{"$f":"IF(AND(ورقة2!$H$2=ورقة1!I1132,ورقة2!$F$2=ورقة1!H1132,ورقة1!G1132=\"ولد\"),1,0)","v":0},{"$f":"IF(B1132=0,\"\",SUM($B$2:B1132))","v":""},{"$f":"IF(AND(ورقة2!$H$2=ورقة1!I1132,ورقة2!$F$2=ورقة1!H1132,ورقة1!G1132=\"بنت\"),1,0)","v":0},{"$f":"IF(D1132=0,\"\",SUM($D$2:D1132))","v":""},null,"بنت",3]
[null,{"$f":"IF(AND(ورقة2!$H$2=ورقة1!I1133,ورقة2!$F$2=ورقة1!H1133,ورقة1!G1133=\"ولد\"),1,0)","v":0},{"$f":"IF(B1133=0,\"\",SUM($B$2:B1133))","v":""},{"$f":"IF(AND(ورقة2!$H$2=ورقة1!I1133,ورقة2!$F$2=ورقة1!H1133,ورقة1!G1133=\"بنت\"),1,0)","v":0},{"$f":"IF(D1133=0,\"\",SUM($D$2:D1133))","v":""},null,"بنت",3]
[null,{"$f":"IF(AND(ورقة2!$H$2=ورقة1!I1134,ورقة2!$F$2=ورقة1!H1134,ورقة1!G1134=\"ولد\"),1,0)","v":0},{"$f":"IF(B1134=0,\"\",SUM($B$2:B1134))","v":""},{"$f":"IF(AND(ورقة2!$H$2=ورقة1!I1134,ورقة2!$F$2=ورقة1!H1134,ورقة1!G1134=\"بنت\"),1,0)","v":0},{"$f":"IF(D1134=0,\"\",SUM($D$2:D1134))","v":""},null,"بنت",3]
[null,{"$f":"IF(AND(ورقة2!$H$2=ورقة1!I1135,ورقة2!$F$2=ورقة1!H1135,ورقة1!G1135=\"ولد\"),1,0)","v":0},{"$f":"IF(B1135=0,\"\",SUM($B$2:B1135))","v":""},{"$f":"IF(AND(ورقة2!$H$2=ورقة1!I1135,ورقة2!$F$2=ورقة1!H1135,ورقة1!G1135=\"بنت\"),1,0)","v":0},{"$f":"IF(D1135=0,\"\",SUM($D$2:D1135))","v":""},null,"بنت",3]
[null,{"$f":"IF(AND(ورقة2!$H$2=ورقة1!I1136,ورقة2!$F$2=ورقة1!H1136,ورقة1!G1136=\"ولد\"),1,0)","v":0},{"$f":"IF(B1136=0,\"\",SUM($B$2:B1136))","v":""},{"$f":"IF(AND(ورقة2!$H$2=ورقة1!I1136,ورقة2!$F$2=ورقة1!H1136,ورقة1!G1136=\"بنت\"),1,0)","v":0},{"$f":"IF(D1136=0,\"\",SUM($D$2:D1136))","v":""},null,"بنت",3]
[null,{"$f":"IF(AND(ورقة2!$H$2=ورقة1!I1137,ورقة2!$F$2=ورقة1!H1137,ورقة1!G1137=\"ولد\"),1,0)","v":0},{"$f":"IF(B1137=0,\"\",SUM($B$2:B1137))","v":""},{"$f":"IF(AND(ورقة2!$H$2=ورقة1!I1137,ورقة2!$F$2=ورقة1!H1137,ورقة1!G1137=\"بنت\"),1,0)","v":0},{"$f":"IF(D1137=0,\"\",SUM($D$2:D1137))","v":""},null,"بنت",3]
[null,{"$f":"IF(AND(ورقة2!$H$2=ورقة1!I1138,ورقة2!$F$2=ورقة1!H1138,ورقة1!G1138=\"ولد\"),1,0)","v":0},{"$f":"IF(B1138=0,\"\",SUM($B$2:B1138))","v":""},{"$f":"IF(AND(ورقة2!$H$2=ورقة1!I1138,ورقة2!$F$2=ورقة1!H1138,ورقة1!G1138=\"بنت\"),1,0)","v":0},{"$f":"IF(D1138=0,\"\",SUM($D$2:D1138))","v":""},null,"بنت",3]
[null,{"$f":"IF(AND(ورقة2!$H$2=ورقة1!I1139,ورقة2!$F$2=ورقة1!H1139,ورقة1!G1139=\"ولد\"),1,0)","v":0},{"$f":"IF(B1139=0,\"\",SUM($B$2:B1139))","v":""},{"$f":"IF(AND(ورقة2!$H$2=ورقة1!I1139,ورقة2!$F$2=ورقة1!H1139,ورقة1!G1139=\"بنت\"),1,0)","v":0},{"$f":"IF(D1139=0,\"\",SUM($D$2:D1139))","v":""},null,"بنت",3]
[null,{"$f":"IF(AND(ورقة2!$H$2=ورقة1!I1140,ورقة2!$F$2=ورقة1!H1140,ورقة1!G1140=\"ولد\"),1,0)","v":0},{"$f":"IF(B1140=0,\"\",SUM($B$2:B1140))","v":""},{"$f":"IF(AND(ورقة2!$H$2=ورقة1!I1140,ورقة2!$F$2=ورقة1!H1140,ورقة1!G1140=\"بنت\"),1,0)","v":0},{"$f":"IF(D1140=0,\"\",SUM($D$2:D1140))","v":""},null,"بنت",3]
[null,{"$f":"IF(AND(ورقة2!$H$2=ورقة1!I1141,ورقة2!$F$2=ورقة1!H1141,ورقة1!G1141=\"ولد\"),1,0)","v":0},{"$f":"IF(B1141=0,\"\",SUM($B$2:B1141))","v":""},{"$f":"IF(AND(ورقة2!$H$2=ورقة1!I1141,ورقة2!$F$2=ورقة1!H1141,ورقة1!G1141=\"بنت\"),1,0)","v":0},{"$f":"IF(D1141=0,\"\",SUM($D$2:D1141))","v":""},null,"بنت",3]
[null,{"$f":"IF(AND(ورقة2!$H$2=ورقة1!I1142,ورقة2!$F$2=ورقة1!H1142,ورقة1!G1142=\"ولد\"),1,0)","v":0},{"$f":"IF(B1142=0,\"\",SUM($B$2:B1142))","v":""},{"$f":"IF(AND(ورقة2!$H$2=ورقة1!I1142,ورقة2!$F$2=ورقة1!H1142,ورقة1!G1142=\"بنت\"),1,0)","v":0},{"$f":"IF(D1142=0,\"\",SUM($D$2:D1142))","v":""},null,"بنت",3]
[null,{"$f":"IF(AND(ورقة2!$H$2=ورقة1!I1143,ورقة2!$F$2=ورقة1!H1143,ورقة1!G1143=\"ولد\"),1,0)","v":0},{"$f":"IF(B1143=0,\"\",SUM($B$2:B1143))","v":""},{"$f":"IF(AND(ورقة2!$H$2=ورقة1!I1143,ورقة2!$F$2=ورقة1!H1143,ورقة1!G1143=\"بنت\"),1,0)","v":0},{"$f":"IF(D1143=0,\"\",SUM($D$2:D1143))","v":""},null,"بنت",3]
[null,{"$f":"IF(AND(ورقة2!$H$2=ورقة1!I1144,ورقة2!$F$2=ورقة1!H1144,ورقة1!G1144=\"ولد\"),1,0)","v":0},{"$f":"IF(B1144=0,\"\",SUM($B$2:B1144))","v":""},{"$f":"IF(AND(ورقة2!$H$2=ورقة1!I1144,ورقة2!$F$2=ورقة1!H1144,ورقة1!G1144=\"بنت\"),1,0)","v":0},{"$f":"IF(D1144=0,\"\",SUM($D$2:D1144))","v":""},null,"بنت",3]
[null,{"$f":"IF(AND(ورقة2!$H$2=ورقة1!I1145,ورقة2!$F$2=ورقة1!H1145,ورقة1!G1145=\"ولد\"),1,0)","v":0},{"$f":"IF(B1145=0,\"\",SUM($B$2:B1145))","v":""},{"$f":"IF(AND(ورقة2!$H$2=ورقة1!I1145,ورقة2!$F$2=ورقة1!H1145,ورقة1!G1145=\"بنت\"),1,0)","v":0},{"$f":"IF(D1145=0,\"\",SUM($D$2:D1145))","v":""},null,"بنت",3]
[null,{"$f":"IF(AND(ورقة2!$H$2=ورقة1!I1146,ورقة2!$F$2=ورقة1!H1146,ورقة1!G1146=\"ولد\"),1,0)","v":0},{"$f":"IF(B1146=0,\"\",SUM($B$2:B1146))","v":""},{"$f":"IF(AND(ورقة2!$H$2=ورقة1!I1146,ورقة2!$F$2=ورقة1!H1146,ورقة1!G1146=\"بنت\"),1,0)","v":0},{"$f":"IF(D1146=0,\"\",SUM($D$2:D1146))","v":""},null,"بنت",3]
[null,{"$f":"IF(AND(ورقة2!$H$2=ورقة1!I1147,ورقة2!$F$2=ورقة1!H1147,ورقة1!G1147=\"ولد\"),1,0)","v":0},{"$f":"IF(B1147=0,\"\",SUM($B$2:B1147))","v":""},{"$f":"IF(AND(ورقة2!$H$2=ورقة1!I1147,ورقة2!$F$2=ورقة1!H1147,ورقة1!G1147=\"بنت\"),1,0)","v":0},{"$f":"IF(D1147=0,\"\",SUM($D$2:D1147))","v":""},null,"بنت",3]
[null,{"$f":"IF(AND(ورقة2!$H$2=ورقة1!I1148,ورقة2!$F$2=ورقة1!H1148,ورقة1!G1148=\"ولد\"),1,0)","v":0},{"$f":"IF(B1148=0,\"\",SUM($B$2:B1148))","v":""},{"$f":"IF(AND(ورقة2!$H$2=ورقة1!I1148,ورقة2!$F$2=ورقة1!H1148,ورقة1!G1148=\"بنت\"),1,0)","v":0},{"$f":"IF(D1148=0,\"\",SUM($D$2:D1148))","v":""},null,"بنت",3]
[null,{"$f":"IF(AND(ورقة2!$H$2=ورقة1!I1149,ورقة2!$F$2=ورقة1!H1149,ورقة1!G1149=\"ولد\"),1,0)","v":0},{"$f":"IF(B1149=0,\"\",SUM($B$2:B1149))","v":""},{"$f":"IF(AND(ورقة2!$H$2=ورقة1!I1149,ورقة2!$F$2=ورقة1!H1149,ورقة1!G1149=\"بنت\"),1,0)","v":0},{"$f":"IF(D1149=0,\"\",SUM($D$2:D1149))","v":""},null,"بنت",3]
[null,{"$f":"IF(AND(ورقة2!$H$2=ورقة1!I1150,ورقة2!$F$2=ورقة1!H1150,ورقة1!G1150=\"ولد\"),1,0)","v":0},{"$f":"IF(B1150=0,\"\",SUM($B$2:B1150))","v":""},{"$f":"IF(AND(ورقة2!$H$2=ورقة1!I1150,ورقة2!$F$2=ورقة1!H1150,ورقة1!G1150=\"بنت\"),1,0)","v":0},{"$f":"IF(D1150=0,\"\",SUM($D$2:D1150))","v":""},null,"بنت",3]
[null,{"$f":"IF(AND(ورقة2!$H$2=ورقة1!I1151,ورقة2!$F$2=ورقة1!H1151,ورقة1!G1151=\"ولد\"),1,0)","v":0},{"$f":"IF(B1151=0,\"\",SUM($B$2:B1151))","v":""},{"$f":"IF(AND(ورقة2!$H$2=ورقة1!I1151,ورقة2!$F$2=ورقة1!H1151,ورقة1!G1151=\"بنت\"),1,0)","v":0},{"$f":"IF(D1151=0,\"\",SUM($D$2:D1151))","v":""},null,"بنت",3]
[null,{"$f":"IF(AND(ورقة2!$H$2=ورقة1!I1152,ورقة2!$F$2=ورقة1!H1152,ورقة1!G1152=\"ولد\"),1,0)","v":0},{"$f":"IF(B1152=0,\"\",SUM($B$2:B1152))","v":""},{"$f":"IF(AND(ورقة2!$H$2=ورقة1!I1152,ورقة2!$F$2=ورقة1!H1152,ورقة1!G1152=\"بنت\"),1,0)","v":0},{"$f":"IF(D1152=0,\"\",SUM($D$2:D1152))","v":""},null,"بنت",3]
[null,{"$f":"IF(AND(ورقة2!$H$2=ورقة1!I1153,ورقة2!$F$2=ورقة1!H1153,ورقة1!G1153=\"ولد\"),1,0)","v":0},{"$f":"IF(B1153=0,\"\",SUM($B$2:B1153))","v":""},{"$f":"IF(AND(ورقة2!$H$2=ورقة1!I1153,ورقة2!$F$2=ورقة1!H1153,ورقة1!G1153=\"بنت\"),1,0)","v":0},{"$f":"IF(D1153=0,\"\",SUM($D$2:D1153))","v":""},null,"بنت",3]
[null,{"$f":"IF(AND(ورقة2!$H$2=ورقة1!I1154,ورقة2!$F$2=ورقة1!H1154,ورقة1!G1154=\"ولد\"),1,0)","v":0},{"$f":"IF(B1154=0,\"\",SUM($B$2:B1154))","v":""},{"$f":"IF(AND(ورقة2!$H$2=ورقة1!I1154,ورقة2!$F$2=ورقة1!H1154,ورقة1!G1154=\"بنت\"),1,0)","v":0},{"$f":"IF(D1154=0,\"\",SUM($D$2:D1154))","v":""},null,"بنت",3]
[null,{"$f":"IF(AND(ورقة2!$H$2=ورقة1!I1155,ورقة2!$F$2=ورقة1!H1155,ورقة1!G1155=\"ولد\"),1,0)","v":0},{"$f":"IF(B1155=0,\"\",SUM($B$2:B1155))","v":""},{"$f":"IF(AND(ورقة2!$H$2=ورقة1!I1155,ورقة2!$F$2=ورقة1!H1155,ورقة1!G1155=\"بنت\"),1,0)","v":0},{"$f":"IF(D1155=0,\"\",SUM($D$2:D1155))","v":""},null,"بنت",3]
[null,{"$f":"IF(AND(ورقة2!$H$2=ورقة1!I1156,ورقة2!$F$2=ورقة1!H1156,ورقة1!G1156=\"ولد\"),1,0)","v":0},{"$f":"IF(B1156=0,\"\",SUM($B$2:B1156))","v":""},{"$f":"IF(AND(ورقة2!$H$2=ورقة1!I1156,ورقة2!$F$2=ورقة1!H1156,ورقة1!G1156=\"بنت\"),1,0)","v":0},{"$f":"IF(D1156=0,\"\",SUM($D$2:D1156))","v":""},null,"بنت",3]
[null,{"$f":"IF(AND(ورقة2!$H$2=ورقة1!I1157,ورقة2!$F$2=ورقة1!H1157,ورقة1!G1157=\"ولد\"),1,0)","v":0},{"$f":"IF(B1157=0,\"\",SUM($B$2:B1157))","v":""},{"$f":"IF(AND(ورقة2!$H$2=ورقة1!I1157,ورقة2!$F$2=ورقة1!H1157,ورقة1!G1157=\"بنت\"),1,0)","v":0},{"$f":"IF(D1157=0,\"\",SUM($D$2:D1157))","v":""},null,"بنت",3]
[null,{"$f":"IF(AND(ورقة2!$H$2=ورقة1!I1158,ورقة2!$F$2=ورقة1!H1158,ورقة1!G1158=\"ولد\"),1,0)","v":0},{"$f":"IF(B1158=0,\"\",SUM($B$2:B1158))","v":""},{"$f":"IF(AND(ورقة2!$H$2=ورقة1!I1158,ورقة2!$F$2=ورقة1!H1158,ورقة1!G1158=\"بنت\"),1,0)","v":0},{"$f":"IF(D1158=0,\"\",SUM($D$2:D1158))","v":""},null,"بنت",3]
[null,{"$f":"IF(AND(ورقة2!$H$2=ورقة1!I1159,ورقة2!$F$2=ورقة1!H1159,ورقة1!G1159=\"ولد\"),1,0)","v":0},{"$f":"IF(B1159=0,\"\",SUM($B$2:B1159))","v":""},{"$f":"IF(AND(ورقة2!$H$2=ورقة1!I1159,ورقة2!$F$2=ورقة1!H1159,ورقة1!G1159=\"بنت\"),1,0)","v":0},{"$f":"IF(D1159=0,\"\",SUM($D$2:D1159))","v":""},null,"بنت",3]
[null,{"$f":"IF(AND(ورقة2!$H$2=ورقة1!I1160,ورقة2!$F$2=ورقة1!H1160,ورقة1!G1160=\"ولد\"),1,0)","v":0},{"$f":"IF(B1160=0,\"\",SUM($B$2:B1160))","v":""},{"$f":"IF(AND(ورقة2!$H$2=ورقة1!I1160,ورقة2!$F$2=ورقة1!H1160,ورقة1!G1160=\"بنت\"),1,0)","v":0},{"$f":"IF(D1160=0,\"\",SUM($D$2:D1160))","v":""},null,"بنت",3]
[null,{"$f":"IF(AND(ورقة2!$H$2=ورقة1!I1161,ورقة2!$F$2=ورقة1!H1161,ورقة1!G1161=\"ولد\"),1,0)","v":0},{"$f":"IF(B1161=0,\"\",SUM($B$2:B1161))","v":""},{"$f":"IF(AND(ورقة2!$H$2=ورقة1!I1161,ورقة2!$F$2=ورقة1!H1161,ورقة1!G1161=\"بنت\"),1,0)","v":0},{"$f":"IF(D1161=0,\"\",SUM($D$2:D1161))","v":""},null,"بنت",3]
[null,{"$f":"IF(AND(ورقة2!$H$2=ورقة1!I1162,ورقة2!$F$2=ورقة1!H1162,ورقة1!G1162=\"ولد\"),1,0)","v":0},{"$f":"IF(B1162=0,\"\",SUM($B$2:B1162))","v":""},{"$f":"IF(AND(ورقة2!$H$2=ورقة1!I1162,ورقة2!$F$2=ورقة1!H1162,ورقة1!G1162=\"بنت\"),1,0)","v":0},{"$f":"IF(D1162=0,\"\",SUM($D$2:D1162))","v":""},null,"بنت",3]
[null,{"$f":"IF(AND(ورقة2!$H$2=ورقة1!I1163,ورقة2!$F$2=ورقة1!H1163,ورقة1!G1163=\"ولد\"),1,0)","v":0},{"$f":"IF(B1163=0,\"\",SUM($B$2:B1163))","v":""},{"$f":"IF(AND(ورقة2!$H$2=ورقة1!I1163,ورقة2!$F$2=ورقة1!H1163,ورقة1!G1163=\"بنت\"),1,0)","v":0},{"$f":"IF(D1163=0,\"\",SUM($D$2:D1163))","v":""},null,"بنت",3]
[null,{"$f":"IF(AND(ورقة2!$H$2=ورقة1!I1164,ورقة2!$F$2=ورقة1!H1164,ورقة1!G1164=\"ولد\"),1,0)","v":0},{"$f":"IF(B1164=0,\"\",SUM($B$2:B1164))","v":""},{"$f":"IF(AND(ورقة2!$H$2=ورقة1!I1164,ورقة2!$F$2=ورقة1!H1164,ورقة1!G1164=\"بنت\"),1,0)","v":0},{"$f":"IF(D1164=0,\"\",SUM($D$2:D1164))","v":""},null,"بنت",3]
[null,{"$f":"IF(AND(ورقة2!$H$2=ورقة1!I1165,ورقة2!$F$2=ورقة1!H1165,ورقة1!G1165=\"ولد\"),1,0)","v":0},{"$f":"IF(B1165=0,\"\",SUM($B$2:B1165))","v":""},{"$f":"IF(AND(ورقة2!$H$2=ورقة1!I1165,ورقة2!$F$2=ورقة1!H1165,ورقة1!G1165=\"بنت\"),1,0)","v":0},{"$f":"IF(D1165=0,\"\",SUM($D$2:D1165))","v":""},null,"بنت",3]
[null,{"$f":"IF(AND(ورقة2!$H$2=ورقة1!I1166,ورقة2!$F$2=ورقة1!H1166,ورقة1!G1166=\"ولد\"),1,0)","v":0},{"$f":"IF(B1166=0,\"\",SUM($B$2:B1166))","v":""},{"$f":"IF(AND(ورقة2!$H$2=ورقة1!I1166,ورقة2!$F$2=ورقة1!H1166,ورقة1!G1166=\"بنت\"),1,0)","v":0},{"$f":"IF(D1166=0,\"\",SUM($D$2:D1166))","v":""},null,"بنت",3]
[null,{"$f":"IF(AND(ورقة2!$H$2=ورقة1!I1167,ورقة2!$F$2=ورقة1!H1167,ورقة1!G1167=\"ولد\"),1,0)","v":0},{"$f":"IF(B1167=0,\"\",SUM($B$2:B1167))","v":""},{"$f":"IF(AND(ورقة2!$H$2=ورقة1!I1167,ورقة2!$F$2=ورقة1!H1167,ورقة1!G1167=\"بنت\"),1,0)","v":0},{"$f":"IF(D1167=0,\"\",SUM($D$2:D1167))","v":""},null,"بنت",3]
[null,{"$f":"IF(AND(ورقة2!$H$2=ورقة1!I1168,ورقة2!$F$2=ورقة1!H1168,ورقة1!G1168=\"ولد\"),1,0)","v":0},{"$f":"IF(B1168=0,\"\",SUM($B$2:B1168))","v":""},{"$f":"IF(AND(ورقة2!$H$2=ورقة1!I1168,ورقة2!$F$2=ورقة1!H1168,ورقة1!G1168=\"بنت\"),1,0)","v":0},{"$f":"IF(D1168=0,\"\",SUM($D$2:D1168))","v":""},null,"بنت",3]
[null,{"$f":"IF(AND(ورقة2!$H$2=ورقة1!I1169,ورقة2!$F$2=ورقة1!H1169,ورقة1!G1169=\"ولد\"),1,0)","v":0},{"$f":"IF(B1169=0,\"\",SUM($B$2:B1169))","v":""},{"$f":"IF(AND(ورقة2!$H$2=ورقة1!I1169,ورقة2!$F$2=ورقة1!H1169,ورقة1!G1169=\"بنت\"),1,0)","v":0},{"$f":"IF(D1169=0,\"\",SUM($D$2:D1169))","v":""},null,"بنت",3]
[null,{"$f":"IF(AND(ورقة2!$H$2=ورقة1!I1170,ورقة2!$F$2=ورقة1!H1170,ورقة1!G1170=\"ولد\"),1,0)","v":0},{"$f":"IF(B1170=0,\"\",SUM($B$2:B1170))","v":""},{"$f":"IF(AND(ورقة2!$H$2=ورقة1!I1170,ورقة2!$F$2=ورقة1!H1170,ورقة1!G1170=\"بنت\"),1,0)","v":0},{"$f":"IF(D1170=0,\"\",SUM($D$2:D1170))","v":""},null,"بنت",3]
[null,{"$f":"IF(AND(ورقة2!$H$2=ورقة1!I1171,ورقة2!$F$2=ورقة1!H1171,ورقة1!G1171=\"ولد\"),1,0)","v":0},{"$f":"IF(B1171=0,\"\",SUM($B$2:B1171))","v":""},{"$f":"IF(AND(ورقة2!$H$2=ورقة1!I1171,ورقة2!$F$2=ورقة1!H1171,ورقة1!G1171=\"بنت\"),1,0)","v":0},{"$f":"IF(D1171=0,\"\",SUM($D$2:D1171))","v":""},null,"بنت",3]
[null,{"$f":"IF(AND(ورقة2!$H$2=ورقة1!I1172,ورقة2!$F$2=ورقة1!H1172,ورقة1!G1172=\"ولد\"),1,0)","v":0},{"$f":"IF(B1172=0,\"\",SUM($B$2:B1172))","v":""},{"$f":"IF(AND(ورقة2!$H$2=ورقة1!I1172,ورقة2!$F$2=ورقة1!H1172,ورقة1!G1172=\"بنت\"),1,0)","v":0},{"$f":"IF(D1172=0,\"\",SUM($D$2:D1172))","v":""},null,"بنت",3]
[null,{"$f":"IF(AND(ورقة2!$H$2=ورقة1!I1173,ورقة2!$F$2=ورقة1!H1173,ورقة1!G1173=\"ولد\"),1,0)","v":0},{"$f":"IF(B1173=0,\"\",SUM($B$2:B1173))","v":""},{"$f":"IF(AND(ورقة2!$H$2=ورقة1!I1173,ورقة2!$F$2=ورقة1!H1173,ورقة1!G1173=\"بنت\"),1,0)","v":0},{"$f":"IF(D1173=0,\"\",SUM($D$2:D1173))","v":""},null,"بنت",3]
[null,{"$f":"IF(AND(ورقة2!$H$2=ورقة1!I1174,ورقة2!$F$2=ورقة1!H1174,ورقة1!G1174=\"ولد\"),1,0)","v":0},{"$f":"IF(B1174=0,\"\",SUM($B$2:B1174))","v":""},{"$f":"IF(AND(ورقة2!$H$2=ورقة1!I1174,ورقة2!$F$2=ورقة1!H1174,ورقة1!G1174=\"بنت\"),1,0)","v":0},{"$f":"IF(D1174=0,\"\",SUM($D$2:D1174))","v":""},null,"بنت",3]
[null,{"$f":"IF(AND(ورقة2!$H$2=ورقة1!I1175,ورقة2!$F$2=ورقة1!H1175,ورقة1!G1175=\"ولد\"),1,0)","v":0},{"$f":"IF(B1175=0,\"\",SUM($B$2:B1175))","v":""},{"$f":"IF(AND(ورقة2!$H$2=ورقة1!I1175,ورقة2!$F$2=ورقة1!H1175,ورقة1!G1175=\"بنت\"),1,0)","v":0},{"$f":"IF(D1175=0,\"\",SUM($D$2:D1175))","v":""},null,"بنت",3]
[null,{"$f":"IF(AND(ورقة2!$H$2=ورقة1!I1176,ورقة2!$F$2=ورقة1!H1176,ورقة1!G1176=\"ولد\"),1,0)","v":0},{"$f":"IF(B1176=0,\"\",SUM($B$2:B1176))","v":""},{"$f":"IF(AND(ورقة2!$H$2=ورقة1!I1176,ورقة2!$F$2=ورقة1!H1176,ورقة1!G1176=\"بنت\"),1,0)","v":0},{"$f":"IF(D1176=0,\"\",SUM($D$2:D1176))","v":""},null,"بنت",3]
[null,{"$f":"IF(AND(ورقة2!$H$2=ورقة1!I1177,ورقة2!$F$2=ورقة1!H1177,ورقة1!G1177=\"ولد\"),1,0)","v":0},{"$f":"IF(B1177=0,\"\",SUM($B$2:B1177))","v":""},{"$f":"IF(AND(ورقة2!$H$2=ورقة1!I1177,ورقة2!$F$2=ورقة1!H1177,ورقة1!G1177=\"بنت\"),1,0)","v":0},{"$f":"IF(D1177=0,\"\",SUM($D$2:D1177))","v":""},null,"بنت",3]
[null,{"$f":"IF(AND(ورقة2!$H$2=ورقة1!I1178,ورقة2!$F$2=ورقة1!H1178,ورقة1!G1178=\"ولد\"),1,0)","v":0},{"$f":"IF(B1178=0,\"\",SUM($B$2:B1178))","v":""},{"$f":"IF(AND(ورقة2!$H$2=ورقة1!I1178,ورقة2!$F$2=ورقة1!H1178,ورقة1!G1178=\"بنت\"),1,0)","v":0},{"$f":"IF(D1178=0,\"\",SUM($D$2:D1178))","v":""},null,"بنت",3]
[null,{"$f":"IF(AND(ورقة2!$H$2=ورقة1!I1179,ورقة2!$F$2=ورقة1!H1179,ورقة1!G1179=\"ولد\"),1,0)","v":0},{"$f":"IF(B1179=0,\"\",SUM($B$2:B1179))","v":""},{"$f":"IF(AND(ورقة2!$H$2=ورقة1!I1179,ورقة2!$F$2=ورقة1!H1179,ورقة1!G1179=\"بنت\"),1,0)","v":0},{"$f":"IF(D1179=0,\"\",SUM($D$2:D1179))","v":""},null,"بنت",3]
[null,{"$f":"IF(AND(ورقة2!$H$2=ورقة1!I1180,ورقة2!$F$2=ورقة1!H1180,ورقة1!G1180=\"ولد\"),1,0)","v":0},{"$f":"IF(B1180=0,\"\",SUM($B$2:B1180))","v":""},{"$f":"IF(AND(ورقة2!$H$2=ورقة1!I1180,ورقة2!$F$2=ورقة1!H1180,ورقة1!G1180=\"بنت\"),1,0)","v":0},{"$f":"IF(D1180=0,\"\",SUM($D$2:D1180))","v":""},null,"بنت",3]
[null,{"$f":"IF(AND(ورقة2!$H$2=ورقة1!I1181,ورقة2!$F$2=ورقة1!H1181,ورقة1!G1181=\"ولد\"),1,0)","v":0},{"$f":"IF(B1181=0,\"\",SUM($B$2:B1181))","v":""},{"$f":"IF(AND(ورقة2!$H$2=ورقة1!I1181,ورقة2!$F$2=ورقة1!H1181,ورقة1!G1181=\"بنت\"),1,0)","v":0},{"$f":"IF(D1181=0,\"\",SUM($D$2:D1181))","v":""},null,"بنت",3]
[null,{"$f":"IF(AND(ورقة2!$H$2=ورقة1!I1182,ورقة2!$F$2=ورقة1!H1182,ورقة1!G1182=\"ولد\"),1,0)","v":0},{"$f":"IF(B1182=0,\"\",SUM($B$2:B1182))","v":""},{"$f":"IF(AND(ورقة2!$H$2=ورقة1!I1182,ورقة2!$F$2=ورقة1!H1182,ورقة1!G1182=\"بنت\"),1,0)","v":0},{"$f":"IF(D1182=0,\"\",SUM($D$2:D1182))","v":""},null,"بنت",3]
[null,{"$f":"IF(AND(ورقة2!$H$2=ورقة1!I1183,ورقة2!$F$2=ورقة1!H1183,ورقة1!G1183=\"ولد\"),1,0)","v":0},{"$f":"IF(B1183=0,\"\",SUM($B$2:B1183))","v":""},{"$f":"IF(AND(ورقة2!$H$2=ورقة1!I1183,ورقة2!$F$2=ورقة1!H1183,ورقة1!G1183=\"بنت\"),1,0)","v":0},{"$f":"IF(D1183=0,\"\",SUM($D$2:D1183))","v":""},null,"بنت",3]
[null,{"$f":"IF(AND(ورقة2!$H$2=ورقة1!I1184,ورقة2!$F$2=ورقة1!H1184,ورقة1!G1184=\"ولد\"),1,0)","v":0},{"$f":"IF(B1184=0,\"\",SUM($B$2:B1184))","v":""},{"$f":"IF(AND(ورقة2!$H$2=ورقة1!I1184,ورقة2!$F$2=ورقة1!H1184,ورقة1!G1184=\"بنت\"),1,0)","v":0},{"$f":"IF(D1184=0,\"\",SUM($D$2:D1184))","v":""},null,"بنت",3]
[null,{"$f":"IF(AND(ورقة2!$H$2=ورقة1!I1185,ورقة2!$F$2=ورقة1!H1185,ورقة1!G1185=\"ولد\"),1,0)","v":0},{"$f":"IF(B1185=0,\"\",SUM($B$2:B1185))","v":""},{"$f":"IF(AND(ورقة2!$H$2=ورقة1!I1185,ورقة2!$F$2=ورقة1!H1185,ورقة1!G1185=\"بنت\"),1,0)","v":0},{"$f":"IF(D1185=0,\"\",SUM($D$2:D1185))","v":""},null,"بنت",3]
[null,{"$f":"IF(AND(ورقة2!$H$2=ورقة1!I1186,ورقة2!$F$2=ورقة1!H1186,ورقة1!G1186=\"ولد\"),1,0)","v":0},{"$f":"IF(B1186=0,\"\",SUM($B$2:B1186))","v":""},{"$f":"IF(AND(ورقة2!$H$2=ورقة1!I1186,ورقة2!$F$2=ورقة1!H1186,ورقة1!G1186=\"بنت\"),1,0)","v":0},{"$f":"IF(D1186=0,\"\",SUM($D$2:D1186))","v":""},null,"بنت",3]
[null,{"$f":"IF(AND(ورقة2!$H$2=ورقة1!I1187,ورقة2!$F$2=ورقة1!H1187,ورقة1!G1187=\"ولد\"),1,0)","v":0},{"$f":"IF(B1187=0,\"\",SUM($B$2:B1187))","v":""},{"$f":"IF(AND(ورقة2!$H$2=ورقة1!I1187,ورقة2!$F$2=ورقة1!H1187,ورقة1!G1187=\"بنت\"),1,0)","v":0},{"$f":"IF(D1187=0,\"\",SUM($D$2:D1187))","v":""},null,"بنت",3]
[null,{"$f":"IF(AND(ورقة2!$H$2=ورقة1!I1188,ورقة2!$F$2=ورقة1!H1188,ورقة1!G1188=\"ولد\"),1,0)","v":0},{"$f":"IF(B1188=0,\"\",SUM($B$2:B1188))","v":""},{"$f":"IF(AND(ورقة2!$H$2=ورقة1!I1188,ورقة2!$F$2=ورقة1!H1188,ورقة1!G1188=\"بنت\"),1,0)","v":0},{"$f":"IF(D1188=0,\"\",SUM($D$2:D1188))","v":""},null,"بنت",3]
[null,{"$f":"IF(AND(ورقة2!$H$2=ورقة1!I1189,ورقة2!$F$2=ورقة1!H1189,ورقة1!G1189=\"ولد\"),1,0)","v":0},{"$f":"IF(B1189=0,\"\",SUM($B$2:B1189))","v":""},{"$f":"IF(AND(ورقة2!$H$2=ورقة1!I1189,ورقة2!$F$2=ورقة1!H1189,ورقة1!G1189=\"بنت\"),1,0)","v":0},{"$f":"IF(D1189=0,\"\",SUM($D$2:D1189))","v":""},null,"بنت",3]
[null,{"$f":"IF(AND(ورقة2!$H$2=ورقة1!I1190,ورقة2!$F$2=ورقة1!H1190,ورقة1!G1190=\"ولد\"),1,0)","v":0},{"$f":"IF(B1190=0,\"\",SUM($B$2:B1190))","v":""},{"$f":"IF(AND(ورقة2!$H$2=ورقة1!I1190,ورقة2!$F$2=ورقة1!H1190,ورقة1!G1190=\"بنت\"),1,0)","v":0},{"$f":"IF(D1190=0,\"\",SUM($D$2:D1190))","v":""},null,"بنت",3]
[null,{"$f":"IF(AND(ورقة2!$H$2=ورقة1!I1191,ورقة2!$F$2=ورقة1!H1191,ورقة1!G1191=\"ولد\"),1,0)","v":0},{"$f":"IF(B1191=0,\"\",SUM($B$2:B1191))","v":""},{"$f":"IF(AND(ورقة2!$H$2=ورقة1!I1191,ورقة2!$F$2=ورقة1!H1191,ورقة1!G1191=\"بنت\"),1,0)","v":0},{"$f":"IF(D1191=0,\"\",SUM($D$2:D1191))","v":""},null,"بنت",3]
[null,{"$f":"IF(AND(ورقة2!$H$2=ورقة1!I1192,ورقة2!$F$2=ورقة1!H1192,ورقة1!G1192=\"ولد\"),1,0)","v":0},{"$f":"IF(B1192=0,\"\",SUM($B$2:B1192))","v":""},{"$f":"IF(AND(ورقة2!$H$2=ورقة1!I1192,ورقة2!$F$2=ورقة1!H1192,ورقة1!G1192=\"بنت\"),1,0)","v":0},{"$f":"IF(D1192=0,\"\",SUM($D$2:D1192))","v":""},null,"بنت",3]
[null,{"$f":"IF(AND(ورقة2!$H$2=ورقة1!I1193,ورقة2!$F$2=ورقة1!H1193,ورقة1!G1193=\"ولد\"),1,0)","v":0},{"$f":"IF(B1193=0,\"\",SUM($B$2:B1193))","v":""},{"$f":"IF(AND(ورقة2!$H$2=ورقة1!I1193,ورقة2!$F$2=ورقة1!H1193,ورقة1!G1193=\"بنت\"),1,0)","v":0},{"$f":"IF(D1193=0,\"\",SUM($D$2:D1193))","v":""},null,"بنت",3]
[null,{"$f":"IF(AND(ورقة2!$H$2=ورقة1!I1194,ورقة2!$F$2=ورقة1!H1194,ورقة1!G1194=\"ولد\"),1,0)","v":0},{"$f":"IF(B1194=0,\"\",SUM($B$2:B1194))","v":""},{"$f":"IF(AND(ورقة2!$H$2=ورقة1!I1194,ورقة2!$F$2=ورقة1!H1194,ورقة1!G1194=\"بنت\"),1,0)","v":0},{"$f":"IF(D1194=0,\"\",SUM($D$2:D1194))","v":""},null,"بنت",3]
[null,{"$f":"IF(AND(ورقة2!$H$2=ورقة1!I1195,ورقة2!$F$2=ورقة1!H1195,ورقة1!G1195=\"ولد\"),1,0)","v":0},{"$f":"IF(B1195=0,\"\",SUM($B$2:B1195))","v":""},{"$f":"IF(AND(ورقة2!$H$2=ورقة1!I1195,ورقة2!$F$2=ورقة1!H1195,ورقة1!G1195=\"بنت\"),1,0)","v":0},{"$f":"IF(D1195=0,\"\",SUM($D$2:D1195))","v":""},null,"بنت",3]
[null,{"$f":"IF(AND(ورقة2!$H$2=ورقة1!I1196,ورقة2!$F$2=ورقة1!H1196,ورقة1!G1196=\"ولد\"),1,0)","v":0},{"$f":"IF(B1196=0,\"\",SUM($B$2:B1196))","v":""},{"$f":"IF(AND(ورقة2!$H$2=ورقة1!I1196,ورقة2!$F$2=ورقة1!H1196,ورقة1!G1196=\"بنت\"),1,0)","v":0},{"$f":"IF(D1196=0,\"\",SUM($D$2:D1196))","v":""},null,"بنت",3]
[null,{"$f":"IF(AND(ورقة2!$H$2=ورقة1!I1197,ورقة2!$F$2=ورقة1!H1197,ورقة1!G1197=\"ولد\"),1,0)","v":0},{"$f":"IF(B1197=0,\"\",SUM($B$2:B1197))","v":""},{"$f":"IF(AND(ورقة2!$H$2=ورقة1!I1197,ورقة2!$F$2=ورقة1!H1197,ورقة1!G1197=\"بنت\"),1,0)","v":0},{"$f":"IF(D1197=0,\"\",SUM($D$2:D1197))","v":""},null,"بنت",3]
[null,{"$f":"IF(AND(ورقة2!$H$2=ورقة1!I1198,ورقة2!$F$2=ورقة1!H1198,ورقة1!G1198=\"ولد\"),1,0)","v":0},{"$f":"IF(B1198=0,\"\",SUM($B$2:B1198))","v":""},{"$f":"IF(AND(ورقة2!$H$2=ورقة1!I1198,ورقة2!$F$2=ورقة1!H1198,ورقة1!G1198=\"بنت\"),1,0)","v":0},{"$f":"IF(D1198=0,\"\",SUM($D$2:D1198))","v":""},null,"بنت",3]
[null,{"$f":"IF(AND(ورقة2!$H$2=ورقة1!I1199,ورقة2!$F$2=ورقة1!H1199,ورقة1!G1199=\"ولد\"),1,0)","v":0},{"$f":"IF(B1199=0,\"\",SUM($B$2:B1199))","v":""},{"$f":"IF(AND(ورقة2!$H$2=ورقة1!I1199,ورقة2!$F$2=ورقة1!H1199,ورقة1!G1199=\"بنت\"),1,0)","v":0},{"$f":"IF(D1199=0,\"\",SUM($D$2:D1199))","v":""},null,"بنت",3]
[null,{"$f":"IF(AND(ورقة2!$H$2=ورقة1!I1200,ورقة2!$F$2=ورقة1!H1200,ورقة1!G1200=\"ولد\"),1,0)","v":0},{"$f":"IF(B1200=0,\"\",SUM($B$2:B1200))","v":""},{"$f":"IF(AND(ورقة2!$H$2=ورقة1!I1200,ورقة2!$F$2=ورقة1!H1200,ورقة1!G1200=\"بنت\"),1,0)","v":0},{"$f":"IF(D1200=0,\"\",SUM($D$2:D1200))","v":""},null,"بنت",3]
[null,{"$f":"IF(AND(ورقة2!$H$2=ورقة1!I1201,ورقة2!$F$2=ورقة1!H1201,ورقة1!G1201=\"ولد\"),1,0)","v":0},{"$f":"IF(B1201=0,\"\",SUM($B$2:B1201))","v":""},{"$f":"IF(AND(ورقة2!$H$2=ورقة1!I1201,ورقة2!$F$2=ورقة1!H1201,ورقة1!G1201=\"بنت\"),1,0)","v":0},{"$f":"IF(D1201=0,\"\",SUM($D$2:D1201))","v":""},null,"بنت",3]
[null,{"$f":"IF(AND(ورقة2!$H$2=ورقة1!I1202,ورقة2!$F$2=ورقة1!H1202,ورقة1!G1202=\"ولد\"),1,0)","v":0},{"$f":"IF(B1202=0,\"\",SUM($B$2:B1202))","v":""},{"$f":"IF(AND(ورقة2!$H$2=ورقة1!I1202,ورقة2!$F$2=ورقة1!H1202,ورقة1!G1202=\"بنت\"),1,0)","v":0},{"$f":"IF(D1202=0,\"\",SUM($D$2:D1202))","v":""},null,"بنت",3]
[null,{"$f":"IF(AND(ورقة2!$H$2=ورقة1!I1203,ورقة2!$F$2=ورقة1!H1203,ورقة1!G1203=\"ولد\"),1,0)","v":0},{"$f":"IF(B1203=0,\"\",SUM($B$2:B1203))","v":""},{"$f":"IF(AND(ورقة2!$H$2=ورقة1!I1203,ورقة2!$F$2=ورقة1!H1203,ورقة1!G1203=\"بنت\"),1,0)","v":0},{"$f":"IF(D1203=0,\"\",SUM($D$2:D1203))","v":""},null,"بنت",3]
[null,{"$f":"IF(AND(ورقة2!$H$2=ورقة1!I1204,ورقة2!$F$2=ورقة1!H1204,ورقة1!G1204=\"ولد\"),1,0)","v":0},{"$f":"IF(B1204=0,\"\",SUM($B$2:B1204))","v":""},{"$f":"IF(AND(ورقة2!$H$2=ورقة1!I1204,ورقة2!$F$2=ورقة1!H1204,ورقة1!G1204=\"بنت\"),1,0)","v":0},{"$f":"IF(D1204=0,\"\",SUM($D$2:D1204))","v":""},null,"بنت",3]
[null,{"$f":"IF(AND(ورقة2!$H$2=ورقة1!I1205,ورقة2!$F$2=ورقة1!H1205,ورقة1!G1205=\"ولد\"),1,0)","v":0},{"$f":"IF(B1205=0,\"\",SUM($B$2:B1205))","v":""},{"$f":"IF(AND(ورقة2!$H$2=ورقة1!I1205,ورقة2!$F$2=ورقة1!H1205,ورقة1!G1205=\"بنت\"),1,0)","v":0},{"$f":"IF(D1205=0,\"\",SUM($D$2:D1205))","v":""},null,"بنت",3]
[null,{"$f":"IF(AND(ورقة2!$H$2=ورقة1!I1206,ورقة2!$F$2=ورقة1!H1206,ورقة1!G1206=\"ولد\"),1,0)","v":0},{"$f":"IF(B1206=0,\"\",SUM($B$2:B1206))","v":""},{"$f":"IF(AND(ورقة2!$H$2=ورقة1!I1206,ورقة2!$F$2=ورقة1!H1206,ورقة1!G1206=\"بنت\"),1,0)","v":0},{"$f":"IF(D1206=0,\"\",SUM($D$2:D1206))","v":""},null,"بنت",3]
[null,{"$f":"IF(AND(ورقة2!$H$2=ورقة1!I1207,ورقة2!$F$2=ورقة1!H1207,ورقة1!G1207=\"ولد\"),1,0)","v":0},{"$f":"IF(B1207=0,\"\",SUM($B$2:B1207))","v":""},{"$f":"IF(AND(ورقة2!$H$2=ورقة1!I1207,ورقة2!$F$2=ورقة1!H1207,ورقة1!G1207=\"بنت\"),1,0)","v":0},{"$f":"IF(D1207=0,\"\",SUM($D$2:D1207))","v":""},null,"بنت",3]
[null,{"$f":"IF(AND(ورقة2!$H$2=ورقة1!I1208,ورقة2!$F$2=ورقة1!H1208,ورقة1!G1208=\"ولد\"),1,0)","v":0},{"$f":"IF(B1208=0,\"\",SUM($B$2:B1208))","v":""},{"$f":"IF(AND(ورقة2!$H$2=ورقة1!I1208,ورقة2!$F$2=ورقة1!H1208,ورقة1!G1208=\"بنت\"),1,0)","v":0},{"$f":"IF(D1208=0,\"\",SUM($D$2:D1208))","v":""},null,"بنت",3]
[null,{"$f":"IF(AND(ورقة2!$H$2=ورقة1!I1209,ورقة2!$F$2=ورقة1!H1209,ورقة1!G1209=\"ولد\"),1,0)","v":0},{"$f":"IF(B1209=0,\"\",SUM($B$2:B1209))","v":""},{"$f":"IF(AND(ورقة2!$H$2=ورقة1!I1209,ورقة2!$F$2=ورقة1!H1209,ورقة1!G1209=\"بنت\"),1,0)","v":0},{"$f":"IF(D1209=0,\"\",SUM($D$2:D1209))","v":""},null,"بنت",3]
[null,{"$f":"IF(AND(ورقة2!$H$2=ورقة1!I1210,ورقة2!$F$2=ورقة1!H1210,ورقة1!G1210=\"ولد\"),1,0)","v":0},{"$f":"IF(B1210=0,\"\",SUM($B$2:B1210))","v":""},{"$f":"IF(AND(ورقة2!$H$2=ورقة1!I1210,ورقة2!$F$2=ورقة1!H1210,ورقة1!G1210=\"بنت\"),1,0)","v":0},{"$f":"IF(D1210=0,\"\",SUM($D$2:D1210))","v":""},null,"بنت",3]
[null,{"$f":"IF(AND(ورقة2!$H$2=ورقة1!I1211,ورقة2!$F$2=ورقة1!H1211,ورقة1!G1211=\"ولد\"),1,0)","v":0},{"$f":"IF(B1211=0,\"\",SUM($B$2:B1211))","v":""},{"$f":"IF(AND(ورقة2!$H$2=ورقة1!I1211,ورقة2!$F$2=ورقة1!H1211,ورقة1!G1211=\"بنت\"),1,0)","v":0},{"$f":"IF(D1211=0,\"\",SUM($D$2:D1211))","v":""},null,"بنت",3]
[null,{"$f":"IF(AND(ورقة2!$H$2=ورقة1!I1212,ورقة2!$F$2=ورقة1!H1212,ورقة1!G1212=\"ولد\"),1,0)","v":0},{"$f":"IF(B1212=0,\"\",SUM($B$2:B1212))","v":""},{"$f":"IF(AND(ورقة2!$H$2=ورقة1!I1212,ورقة2!$F$2=ورقة1!H1212,ورقة1!G1212=\"بنت\"),1,0)","v":0},{"$f":"IF(D1212=0,\"\",SUM($D$2:D1212))","v":""},null,"بنت",3]
[null,{"$f":"IF(AND(ورقة2!$H$2=ورقة1!I1213,ورقة2!$F$2=ورقة1!H1213,ورقة1!G1213=\"ولد\"),1,0)","v":0},{"$f":"IF(B1213=0,\"\",SUM($B$2:B1213))","v":""},{"$f":"IF(AND(ورقة2!$H$2=ورقة1!I1213,ورقة2!$F$2=ورقة1!H1213,ورقة1!G1213=\"بنت\"),1,0)","v":0},{"$f":"IF(D1213=0,\"\",SUM($D$2:D1213))","v":""},null,"بنت",3]
[null,{"$f":"IF(AND(ورقة2!$H$2=ورقة1!I1214,ورقة2!$F$2=ورقة1!H1214,ورقة1!G1214=\"ولد\"),1,0)","v":0},{"$f":"IF(B1214=0,\"\",SUM($B$2:B1214))","v":""},{"$f":"IF(AND(ورقة2!$H$2=ورقة1!I1214,ورقة2!$F$2=ورقة1!H1214,ورقة1!G1214=\"بنت\"),1,0)","v":0},{"$f":"IF(D1214=0,\"\",SUM($D$2:D1214))","v":""},null,"بنت",3]
[null,{"$f":"IF(AND(ورقة2!$H$2=ورقة1!I1215,ورقة2!$F$2=ورقة1!H1215,ورقة1!G1215=\"ولد\"),1,0)","v":0},{"$f":"IF(B1215=0,\"\",SUM($B$2:B1215))","v":""},{"$f":"IF(AND(ورقة2!$H$2=ورقة1!I1215,ورقة2!$F$2=ورقة1!H1215,ورقة1!G1215=\"بنت\"),1,0)","v":0},{"$f":"IF(D1215=0,\"\",SUM($D$2:D1215))","v":""},null,"بنت",3]
[null,{"$f":"IF(AND(ورقة2!$H$2=ورقة1!I1216,ورقة2!$F$2=ورقة1!H1216,ورقة1!G1216=\"ولد\"),1,0)","v":0},{"$f":"IF(B1216=0,\"\",SUM($B$2:B1216))","v":""},{"$f":"IF(AND(ورقة2!$H$2=ورقة1!I1216,ورقة2!$F$2=ورقة1!H1216,ورقة1!G1216=\"بنت\"),1,0)","v":0},{"$f":"IF(D1216=0,\"\",SUM($D$2:D1216))","v":""},null,"بنت",3]
[null,{"$f":"IF(AND(ورقة2!$H$2=ورقة1!I1217,ورقة2!$F$2=ورقة1!H1217,ورقة1!G1217=\"ولد\"),1,0)","v":0},{"$f":"IF(B1217=0,\"\",SUM($B$2:B1217))","v":""},{"$f":"IF(AND(ورقة2!$H$2=ورقة1!I1217,ورقة2!$F$2=ورقة1!H1217,ورقة1!G1217=\"بنت\"),1,0)","v":0},{"$f":"IF(D1217=0,\"\",SUM($D$2:D1217))","v":""},null,"بنت",3]
[null,{"$f":"IF(AND(ورقة2!$H$2=ورقة1!I1218,ورقة2!$F$2=ورقة1!H1218,ورقة1!G1218=\"ولد\"),1,0)","v":0},{"$f":"IF(B1218=0,\"\",SUM($B$2:B1218))","v":""},{"$f":"IF(AND(ورقة2!$H$2=ورقة1!I1218,ورقة2!$F$2=ورقة1!H1218,ورقة1!G1218=\"بنت\"),1,0)","v":0},{"$f":"IF(D1218=0,\"\",SUM($D$2:D1218))","v":""},null,"بنت",3]
[null,{"$f":"IF(AND(ورقة2!$H$2=ورقة1!I1219,ورقة2!$F$2=ورقة1!H1219,ورقة1!G1219=\"ولد\"),1,0)","v":0},{"$f":"IF(B1219=0,\"\",SUM($B$2:B1219))","v":""},{"$f":"IF(AND(ورقة2!$H$2=ورقة1!I1219,ورقة2!$F$2=ورقة1!H1219,ورقة1!G1219=\"بنت\"),1,0)","v":0},{"$f":"IF(D1219=0,\"\",SUM($D$2:D1219))","v":""},null,"بنت",3]
[null,{"$f":"IF(AND(ورقة2!$H$2=ورقة1!I1220,ورقة2!$F$2=ورقة1!H1220,ورقة1!G1220=\"ولد\"),1,0)","v":0},{"$f":"IF(B1220=0,\"\",SUM($B$2:B1220))","v":""},{"$f":"IF(AND(ورقة2!$H$2=ورقة1!I1220,ورقة2!$F$2=ورقة1!H1220,ورقة1!G1220=\"بنت\"),1,0)","v":0},{"$f":"IF(D1220=0,\"\",SUM($D$2:D1220))","v":""},null,"بنت",3]
[null,{"$f":"IF(AND(ورقة2!$H$2=ورقة1!I1221,ورقة2!$F$2=ورقة1!H1221,ورقة1!G1221=\"ولد\"),1,0)","v":0},{"$f":"IF(B1221=0,\"\",SUM($B$2:B1221))","v":""},{"$f":"IF(AND(ورقة2!$H$2=ورقة1!I1221,ورقة2!$F$2=ورقة1!H1221,ورقة1!G1221=\"بنت\"),1,0)","v":0},{"$f":"IF(D1221=0,\"\",SUM($D$2:D1221))","v":""},null,"بنت",3]
[null,{"$f":"IF(AND(ورقة2!$H$2=ورقة1!I1222,ورقة2!$F$2=ورقة1!H1222,ورقة1!G1222=\"ولد\"),1,0)","v":0},{"$f":"IF(B1222=0,\"\",SUM($B$2:B1222))","v":""},{"$f":"IF(AND(ورقة2!$H$2=ورقة1!I1222,ورقة2!$F$2=ورقة1!H1222,ورقة1!G1222=\"بنت\"),1,0)","v":0},{"$f":"IF(D1222=0,\"\",SUM($D$2:D1222))","v":""},null,"بنت",3]
[null,{"$f":"IF(AND(ورقة2!$H$2=ورقة1!I1223,ورقة2!$F$2=ورقة1!H1223,ورقة1!G1223=\"ولد\"),1,0)","v":0},{"$f":"IF(B1223=0,\"\",SUM($B$2:B1223))","v":""},{"$f":"IF(AND(ورقة2!$H$2=ورقة1!I1223,ورقة2!$F$2=ورقة1!H1223,ورقة1!G1223=\"بنت\"),1,0)","v":0},{"$f":"IF(D1223=0,\"\",SUM($D$2:D1223))","v":""},null,"بنت",3]
[null,{"$f":"IF(AND(ورقة2!$H$2=ورقة1!I1224,ورقة2!$F$2=ورقة1!H1224,ورقة1!G1224=\"ولد\"),1,0)","v":0},{"$f":"IF(B1224=0,\"\",SUM($B$2:B1224))","v":""},{"$f":"IF(AND(ورقة2!$H$2=ورقة1!I1224,ورقة2!$F$2=ورقة1!H1224,ورقة1!G1224=\"بنت\"),1,0)","v":0},{"$f":"IF(D1224=0,\"\",SUM($D$2:D1224))","v":""},null,"بنت",3]
[null,{"$f":"IF(AND(ورقة2!$H$2=ورقة1!I1225,ورقة2!$F$2=ورقة1!H1225,ورقة1!G1225=\"ولد\"),1,0)","v":0},{"$f":"IF(B1225=0,\"\",SUM($B$2:B1225))","v":""},{"$f":"IF(AND(ورقة2!$H$2=ورقة1!I1225,ورقة2!$F$2=ورقة1!H1225,ورقة1!G1225=\"بنت\"),1,0)","v":0},{"$f":"IF(D1225=0,\"\",SUM($D$2:D1225))","v":""},null,"بنت",3]
[null,{"$f":"IF(AND(ورقة2!$H$2=ورقة1!I1226,ورقة2!$F$2=ورقة1!H1226,ورقة1!G1226=\"ولد\"),1,0)","v":0},{"$f":"IF(B1226=0,\"\",SUM($B$2:B1226))","v":""},{"$f":"IF(AND(ورقة2!$H$2=ورقة1!I1226,ورقة2!$F$2=ورقة1!H1226,ورقة1!G1226=\"بنت\"),1,0)","v":0},{"$f":"IF(D1226=0,\"\",SUM($D$2:D1226))","v":""},null,"بنت",3]
[null,{"$f":"IF(AND(ورقة2!$H$2=ورقة1!I1227,ورقة2!$F$2=ورقة1!H1227,ورقة1!G1227=\"ولد\"),1,0)","v":0},{"$f":"IF(B1227=0,\"\",SUM($B$2:B1227))","v":""},{"$f":"IF(AND(ورقة2!$H$2=ورقة1!I1227,ورقة2!$F$2=ورقة1!H1227,ورقة1!G1227=\"بنت\"),1,0)","v":0},{"$f":"IF(D1227=0,\"\",SUM($D$2:D1227))","v":""},null,"بنت",3]
[null,{"$f":"IF(AND(ورقة2!$H$2=ورقة1!I1228,ورقة2!$F$2=ورقة1!H1228,ورقة1!G1228=\"ولد\"),1,0)","v":0},{"$f":"IF(B1228=0,\"\",SUM($B$2:B1228))","v":""},{"$f":"IF(AND(ورقة2!$H$2=ورقة1!I1228,ورقة2!$F$2=ورقة1!H1228,ورقة1!G1228=\"بنت\"),1,0)","v":0},{"$f":"IF(D1228=0,\"\",SUM($D$2:D1228))","v":""},null,"بنت",3]
[null,{"$f":"IF(AND(ورقة2!$H$2=ورقة1!I1229,ورقة2!$F$2=ورقة1!H1229,ورقة1!G1229=\"ولد\"),1,0)","v":0},{"$f":"IF(B1229=0,\"\",SUM($B$2:B1229))","v":""},{"$f":"IF(AND(ورقة2!$H$2=ورقة1!I1229,ورقة2!$F$2=ورقة1!H1229,ورقة1!G1229=\"بنت\"),1,0)","v":0},{"$f":"IF(D1229=0,\"\",SUM($D$2:D1229))","v":""},null,"بنت",3]
[null,{"$f":"IF(AND(ورقة2!$H$2=ورقة1!I1230,ورقة2!$F$2=ورقة1!H1230,ورقة1!G1230=\"ولد\"),1,0)","v":0},{"$f":"IF(B1230=0,\"\",SUM($B$2:B1230))","v":""},{"$f":"IF(AND(ورقة2!$H$2=ورقة1!I1230,ورقة2!$F$2=ورقة1!H1230,ورقة1!G1230=\"بنت\"),1,0)","v":0},{"$f":"IF(D1230=0,\"\",SUM($D$2:D1230))","v":""},null,"بنت",3]
[null,{"$f":"IF(AND(ورقة2!$H$2=ورقة1!I1231,ورقة2!$F$2=ورقة1!H1231,ورقة1!G1231=\"ولد\"),1,0)","v":0},{"$f":"IF(B1231=0,\"\",SUM($B$2:B1231))","v":""},{"$f":"IF(AND(ورقة2!$H$2=ورقة1!I1231,ورقة2!$F$2=ورقة1!H1231,ورقة1!G1231=\"بنت\"),1,0)","v":0},{"$f":"IF(D1231=0,\"\",SUM($D$2:D1231))","v":""},null,"بنت",3]
[null,{"$f":"IF(AND(ورقة2!$H$2=ورقة1!I1232,ورقة2!$F$2=ورقة1!H1232,ورقة1!G1232=\"ولد\"),1,0)","v":0},{"$f":"IF(B1232=0,\"\",SUM($B$2:B1232))","v":""},{"$f":"IF(AND(ورقة2!$H$2=ورقة1!I1232,ورقة2!$F$2=ورقة1!H1232,ورقة1!G1232=\"بنت\"),1,0)","v":0},{"$f":"IF(D1232=0,\"\",SUM($D$2:D1232))","v":""},null,"بنت",3]
[null,{"$f":"IF(AND(ورقة2!$H$2=ورقة1!I1233,ورقة2!$F$2=ورقة1!H1233,ورقة1!G1233=\"ولد\"),1,0)","v":0},{"$f":"IF(B1233=0,\"\",SUM($B$2:B1233))","v":""},{"$f":"IF(AND(ورقة2!$H$2=ورقة1!I1233,ورقة2!$F$2=ورقة1!H1233,ورقة1!G1233=\"بنت\"),1,0)","v":0},{"$f":"IF(D1233=0,\"\",SUM($D$2:D1233))","v":""},null,"بنت",3]
[null,{"$f":"IF(AND(ورقة2!$H$2=ورقة1!I1234,ورقة2!$F$2=ورقة1!H1234,ورقة1!G1234=\"ولد\"),1,0)","v":0},{"$f":"IF(B1234=0,\"\",SUM($B$2:B1234))","v":""},{"$f":"IF(AND(ورقة2!$H$2=ورقة1!I1234,ورقة2!$F$2=ورقة1!H1234,ورقة1!G1234=\"بنت\"),1,0)","v":0},{"$f":"IF(D1234=0,\"\",SUM($D$2:D1234))","v":""},null,"بنت",3]
[null,{"$f":"IF(AND(ورقة2!$H$2=ورقة1!I1235,ورقة2!$F$2=ورقة1!H1235,ورقة1!G1235=\"ولد\"),1,0)","v":0},{"$f":"IF(B1235=0,\"\",SUM($B$2:B1235))","v":""},{"$f":"IF(AND(ورقة2!$H$2=ورقة1!I1235,ورقة2!$F$2=ورقة1!H1235,ورقة1!G1235=\"بنت\"),1,0)","v":0},{"$f":"IF(D1235=0,\"\",SUM($D$2:D1235))","v":""},null,"بنت",3]
[null,{"$f":"IF(AND(ورقة2!$H$2=ورقة1!I1236,ورقة2!$F$2=ورقة1!H1236,ورقة1!G1236=\"ولد\"),1,0)","v":0},{"$f":"IF(B1236=0,\"\",SUM($B$2:B1236))","v":""},{"$f":"IF(AND(ورقة2!$H$2=ورقة1!I1236,ورقة2!$F$2=ورقة1!H1236,ورقة1!G1236=\"بنت\"),1,0)","v":0},{"$f":"IF(D1236=0,\"\",SUM($D$2:D1236))","v":""},null,"بنت",3]
[null,{"$f":"IF(AND(ورقة2!$H$2=ورقة1!I1237,ورقة2!$F$2=ورقة1!H1237,ورقة1!G1237=\"ولد\"),1,0)","v":0},{"$f":"IF(B1237=0,\"\",SUM($B$2:B1237))","v":""},{"$f":"IF(AND(ورقة2!$H$2=ورقة1!I1237,ورقة2!$F$2=ورقة1!H1237,ورقة1!G1237=\"بنت\"),1,0)","v":0},{"$f":"IF(D1237=0,\"\",SUM($D$2:D1237))","v":""},null,"بنت",3]
[null,{"$f":"IF(AND(ورقة2!$H$2=ورقة1!I1238,ورقة2!$F$2=ورقة1!H1238,ورقة1!G1238=\"ولد\"),1,0)","v":0},{"$f":"IF(B1238=0,\"\",SUM($B$2:B1238))","v":""},{"$f":"IF(AND(ورقة2!$H$2=ورقة1!I1238,ورقة2!$F$2=ورقة1!H1238,ورقة1!G1238=\"بنت\"),1,0)","v":0},{"$f":"IF(D1238=0,\"\",SUM($D$2:D1238))","v":""},null,"بنت",3]
[null,{"$f":"IF(AND(ورقة2!$H$2=ورقة1!I1239,ورقة2!$F$2=ورقة1!H1239,ورقة1!G1239=\"ولد\"),1,0)","v":0},{"$f":"IF(B1239=0,\"\",SUM($B$2:B1239))","v":""},{"$f":"IF(AND(ورقة2!$H$2=ورقة1!I1239,ورقة2!$F$2=ورقة1!H1239,ورقة1!G1239=\"بنت\"),1,0)","v":0},{"$f":"IF(D1239=0,\"\",SUM($D$2:D1239))","v":""},null,"بنت",3]
[null,{"$f":"IF(AND(ورقة2!$H$2=ورقة1!I1240,ورقة2!$F$2=ورقة1!H1240,ورقة1!G1240=\"ولد\"),1,0)","v":0},{"$f":"IF(B1240=0,\"\",SUM($B$2:B1240))","v":""},{"$f":"IF(AND(ورقة2!$H$2=ورقة1!I1240,ورقة2!$F$2=ورقة1!H1240,ورقة1!G1240=\"بنت\"),1,0)","v":0},{"$f":"IF(D1240=0,\"\",SUM($D$2:D1240))","v":""},null,"بنت",3]
[null,{"$f":"IF(AND(ورقة2!$H$2=ورقة1!I1241,ورقة2!$F$2=ورقة1!H1241,ورقة1!G1241=\"ولد\"),1,0)","v":0},{"$f":"IF(B1241=0,\"\",SUM($B$2:B1241))","v":""},{"$f":"IF(AND(ورقة2!$H$2=ورقة1!I1241,ورقة2!$F$2=ورقة1!H1241,ورقة1!G1241=\"بنت\"),1,0)","v":0},{"$f":"IF(D1241=0,\"\",SUM($D$2:D1241))","v":""},null,"بنت",3]
[null,{"$f":"IF(AND(ورقة2!$H$2=ورقة1!I1242,ورقة2!$F$2=ورقة1!H1242,ورقة1!G1242=\"ولد\"),1,0)","v":0},{"$f":"IF(B1242=0,\"\",SUM($B$2:B1242))","v":""},{"$f":"IF(AND(ورقة2!$H$2=ورقة1!I1242,ورقة2!$F$2=ورقة1!H1242,ورقة1!G1242=\"بنت\"),1,0)","v":0},{"$f":"IF(D1242=0,\"\",SUM($D$2:D1242))","v":""},null,"بنت",3]
[null,{"$f":"IF(AND(ورقة2!$H$2=ورقة1!I1243,ورقة2!$F$2=ورقة1!H1243,ورقة1!G1243=\"ولد\"),1,0)","v":0},{"$f":"IF(B1243=0,\"\",SUM($B$2:B1243))","v":""},{"$f":"IF(AND(ورقة2!$H$2=ورقة1!I1243,ورقة2!$F$2=ورقة1!H1243,ورقة1!G1243=\"بنت\"),1,0)","v":0},{"$f":"IF(D1243=0,\"\",SUM($D$2:D1243))","v":""},null,"بنت",3]
[null,{"$f":"IF(AND(ورقة2!$H$2=ورقة1!I1244,ورقة2!$F$2=ورقة1!H1244,ورقة1!G1244=\"ولد\"),1,0)","v":0},{"$f":"IF(B1244=0,\"\",SUM($B$2:B1244))","v":""},{"$f":"IF(AND(ورقة2!$H$2=ورقة1!I1244,ورقة2!$F$2=ورقة1!H1244,ورقة1!G1244=\"بنت\"),1,0)","v":0},{"$f":"IF(D1244=0,\"\",SUM($D$2:D1244))","v":""},null,"بنت",3]
[null,{"$f":"IF(AND(ورقة2!$H$2=ورقة1!I1245,ورقة2!$F$2=ورقة1!H1245,ورقة1!G1245=\"ولد\"),1,0)","v":0},{"$f":"IF(B1245=0,\"\",SUM($B$2:B1245))","v":""},{"$f":"IF(AND(ورقة2!$H$2=ورقة1!I1245,ورقة2!$F$2=ورقة1!H1245,ورقة1!G1245=\"بنت\"),1,0)","v":0},{"$f":"IF(D1245=0,\"\",SUM($D$2:D1245))","v":""},null,"بنت",3]
[null,{"$f":"IF(AND(ورقة2!$H$2=ورقة1!I1246,ورقة2!$F$2=ورقة1!H1246,ورقة1!G1246=\"ولد\"),1,0)","v":0},{"$f":"IF(B1246=0,\"\",SUM($B$2:B1246))","v":""},{"$f":"IF(AND(ورقة2!$H$2=ورقة1!I1246,ورقة2!$F$2=ورقة1!H1246,ورقة1!G1246=\"بنت\"),1,0)","v":0},{"$f":"IF(D1246=0,\"\",SUM($D$2:D1246))","v":""},null,"بنت",3]
[null,{"$f":"IF(AND(ورقة2!$H$2=ورقة1!I1247,ورقة2!$F$2=ورقة1!H1247,ورقة1!G1247=\"ولد\"),1,0)","v":0},{"$f":"IF(B1247=0,\"\",SUM($B$2:B1247))","v":""},{"$f":"IF(AND(ورقة2!$H$2=ورقة1!I1247,ورقة2!$F$2=ورقة1!H1247,ورقة1!G1247=\"بنت\"),1,0)","v":0},{"$f":"IF(D1247=0,\"\",SUM($D$2:D1247))","v":""},null,"بنت",3]
[null,{"$f":"IF(AND(ورقة2!$H$2=ورقة1!I1248,ورقة2!$F$2=ورقة1!H1248,ورقة1!G1248=\"ولد\"),1,0)","v":0},{"$f":"IF(B1248=0,\"\",SUM($B$2:B1248))","v":""},{"$f":"IF(AND(ورقة2!$H$2=ورقة1!I1248,ورقة2!$F$2=ورقة1!H1248,ورقة1!G1248=\"بنت\"),1,0)","v":0},{"$f":"IF(D1248=0,\"\",SUM($D$2:D1248))","v":""},null,"بنت",3]
[null,{"$f":"IF(AND(ورقة2!$H$2=ورقة1!I1249,ورقة2!$F$2=ورقة1!H1249,ورقة1!G1249=\"ولد\"),1,0)","v":0},{"$f":"IF(B1249=0,\"\",SUM($B$2:B1249))","v":""},{"$f":"IF(AND(ورقة2!$H$2=ورقة1!I1249,ورقة2!$F$2=ورقة1!H1249,ورقة1!G1249=\"بنت\"),1,0)","v":0},{"$f":"IF(D1249=0,\"\",SUM($D$2:D1249))","v":""},null,"بنت",3]
[null,{"$f":"IF(AND(ورقة2!$H$2=ورقة1!I1250,ورقة2!$F$2=ورقة1!H1250,ورقة1!G1250=\"ولد\"),1,0)","v":0},{"$f":"IF(B1250=0,\"\",SUM($B$2:B1250))","v":""},{"$f":"IF(AND(ورقة2!$H$2=ورقة1!I1250,ورقة2!$F$2=ورقة1!H1250,ورقة1!G1250=\"بنت\"),1,0)","v":0},{"$f":"IF(D1250=0,\"\",SUM($D$2:D1250))","v":""},null,"بنت",3]
[null,{"$f":"IF(AND(ورقة2!$H$2=ورقة1!I1251,ورقة2!$F$2=ورقة1!H1251,ورقة1!G1251=\"ولد\"),1,0)","v":0},{"$f":"IF(B1251=0,\"\",SUM($B$2:B1251))","v":""},{"$f":"IF(AND(ورقة2!$H$2=ورقة1!I1251,ورقة2!$F$2=ورقة1!H1251,ورقة1!G1251=\"بنت\"),1,0)","v":0},{"$f":"IF(D1251=0,\"\",SUM($D$2:D1251))","v":""},null,"بنت",3]
[null,{"$f":"IF(AND(ورقة2!$H$2=ورقة1!I1252,ورقة2!$F$2=ورقة1!H1252,ورقة1!G1252=\"ولد\"),1,0)","v":0},{"$f":"IF(B1252=0,\"\",SUM($B$2:B1252))","v":""},{"$f":"IF(AND(ورقة2!$H$2=ورقة1!I1252,ورقة2!$F$2=ورقة1!H1252,ورقة1!G1252=\"بنت\"),1,0)","v":0},{"$f":"IF(D1252=0,\"\",SUM($D$2:D1252))","v":""},null,"بنت",3]
[null,{"$f":"IF(AND(ورقة2!$H$2=ورقة1!I1253,ورقة2!$F$2=ورقة1!H1253,ورقة1!G1253=\"ولد\"),1,0)","v":0},{"$f":"IF(B1253=0,\"\",SUM($B$2:B1253))","v":""},{"$f":"IF(AND(ورقة2!$H$2=ورقة1!I1253,ورقة2!$F$2=ورقة1!H1253,ورقة1!G1253=\"بنت\"),1,0)","v":0},{"$f":"IF(D1253=0,\"\",SUM($D$2:D1253))","v":""},null,"بنت",3]
[null,{"$f":"IF(AND(ورقة2!$H$2=ورقة1!I1254,ورقة2!$F$2=ورقة1!H1254,ورقة1!G1254=\"ولد\"),1,0)","v":0},{"$f":"IF(B1254=0,\"\",SUM($B$2:B1254))","v":""},{"$f":"IF(AND(ورقة2!$H$2=ورقة1!I1254,ورقة2!$F$2=ورقة1!H1254,ورقة1!G1254=\"بنت\"),1,0)","v":0},{"$f":"IF(D1254=0,\"\",SUM($D$2:D1254))","v":""},null,"بنت",3]
[null,{"$f":"IF(AND(ورقة2!$H$2=ورقة1!I1255,ورقة2!$F$2=ورقة1!H1255,ورقة1!G1255=\"ولد\"),1,0)","v":0},{"$f":"IF(B1255=0,\"\",SUM($B$2:B1255))","v":""},{"$f":"IF(AND(ورقة2!$H$2=ورقة1!I1255,ورقة2!$F$2=ورقة1!H1255,ورقة1!G1255=\"بنت\"),1,0)","v":0},{"$f":"IF(D1255=0,\"\",SUM($D$2:D1255))","v":""},null,"بنت",3]
[null,{"$f":"IF(AND(ورقة2!$H$2=ورقة1!I1256,ورقة2!$F$2=ورقة1!H1256,ورقة1!G1256=\"ولد\"),1,0)","v":0},{"$f":"IF(B1256=0,\"\",SUM($B$2:B1256))","v":""},{"$f":"IF(AND(ورقة2!$H$2=ورقة1!I1256,ورقة2!$F$2=ورقة1!H1256,ورقة1!G1256=\"بنت\"),1,0)","v":0},{"$f":"IF(D1256=0,\"\",SUM($D$2:D1256))","v":""},null,"بنت",3]
[null,{"$f":"IF(AND(ورقة2!$H$2=ورقة1!I1257,ورقة2!$F$2=ورقة1!H1257,ورقة1!G1257=\"ولد\"),1,0)","v":0},{"$f":"IF(B1257=0,\"\",SUM($B$2:B1257))","v":""},{"$f":"IF(AND(ورقة2!$H$2=ورقة1!I1257,ورقة2!$F$2=ورقة1!H1257,ورقة1!G1257=\"بنت\"),1,0)","v":0},{"$f":"IF(D1257=0,\"\",SUM($D$2:D1257))","v":""},null,"بنت",3]
[null,{"$f":"IF(AND(ورقة2!$H$2=ورقة1!I1258,ورقة2!$F$2=ورقة1!H1258,ورقة1!G1258=\"ولد\"),1,0)","v":0},{"$f":"IF(B1258=0,\"\",SUM($B$2:B1258))","v":""},{"$f":"IF(AND(ورقة2!$H$2=ورقة1!I1258,ورقة2!$F$2=ورقة1!H1258,ورقة1!G1258=\"بنت\"),1,0)","v":0},{"$f":"IF(D1258=0,\"\",SUM($D$2:D1258))","v":""},null,"بنت",3]
[null,{"$f":"IF(AND(ورقة2!$H$2=ورقة1!I1259,ورقة2!$F$2=ورقة1!H1259,ورقة1!G1259=\"ولد\"),1,0)","v":0},{"$f":"IF(B1259=0,\"\",SUM($B$2:B1259))","v":""},{"$f":"IF(AND(ورقة2!$H$2=ورقة1!I1259,ورقة2!$F$2=ورقة1!H1259,ورقة1!G1259=\"بنت\"),1,0)","v":0},{"$f":"IF(D1259=0,\"\",SUM($D$2:D1259))","v":""},null,"بنت",3]
[null,{"$f":"IF(AND(ورقة2!$H$2=ورقة1!I1260,ورقة2!$F$2=ورقة1!H1260,ورقة1!G1260=\"ولد\"),1,0)","v":0},{"$f":"IF(B1260=0,\"\",SUM($B$2:B1260))","v":""},{"$f":"IF(AND(ورقة2!$H$2=ورقة1!I1260,ورقة2!$F$2=ورقة1!H1260,ورقة1!G1260=\"بنت\"),1,0)","v":0},{"$f":"IF(D1260=0,\"\",SUM($D$2:D1260))","v":""},null,"بنت",3]
[null,{"$f":"IF(AND(ورقة2!$H$2=ورقة1!I1261,ورقة2!$F$2=ورقة1!H1261,ورقة1!G1261=\"ولد\"),1,0)","v":0},{"$f":"IF(B1261=0,\"\",SUM($B$2:B1261))","v":""},{"$f":"IF(AND(ورقة2!$H$2=ورقة1!I1261,ورقة2!$F$2=ورقة1!H1261,ورقة1!G1261=\"بنت\"),1,0)","v":0},{"$f":"IF(D1261=0,\"\",SUM($D$2:D1261))","v":""},null,"بنت",3]
[null,{"$f":"IF(AND(ورقة2!$H$2=ورقة1!I1262,ورقة2!$F$2=ورقة1!H1262,ورقة1!G1262=\"ولد\"),1,0)","v":0},{"$f":"IF(B1262=0,\"\",SUM($B$2:B1262))","v":""},{"$f":"IF(AND(ورقة2!$H$2=ورقة1!I1262,ورقة2!$F$2=ورقة1!H1262,ورقة1!G1262=\"بنت\"),1,0)","v":0},{"$f":"IF(D1262=0,\"\",SUM($D$2:D1262))","v":""},null,"بنت",3]
[null,{"$f":"IF(AND(ورقة2!$H$2=ورقة1!I1263,ورقة2!$F$2=ورقة1!H1263,ورقة1!G1263=\"ولد\"),1,0)","v":0},{"$f":"IF(B1263=0,\"\",SUM($B$2:B1263))","v":""},{"$f":"IF(AND(ورقة2!$H$2=ورقة1!I1263,ورقة2!$F$2=ورقة1!H1263,ورقة1!G1263=\"بنت\"),1,0)","v":0},{"$f":"IF(D1263=0,\"\",SUM($D$2:D1263))","v":""},null,"بنت",3]
[null,{"$f":"IF(AND(ورقة2!$H$2=ورقة1!I1264,ورقة2!$F$2=ورقة1!H1264,ورقة1!G1264=\"ولد\"),1,0)","v":0},{"$f":"IF(B1264=0,\"\",SUM($B$2:B1264))","v":""},{"$f":"IF(AND(ورقة2!$H$2=ورقة1!I1264,ورقة2!$F$2=ورقة1!H1264,ورقة1!G1264=\"بنت\"),1,0)","v":0},{"$f":"IF(D1264=0,\"\",SUM($D$2:D1264))","v":""},null,"بنت",3]
[null,{"$f":"IF(AND(ورقة2!$H$2=ورقة1!I1265,ورقة2!$F$2=ورقة1!H1265,ورقة1!G1265=\"ولد\"),1,0)","v":0},{"$f":"IF(B1265=0,\"\",SUM($B$2:B1265))","v":""},{"$f":"IF(AND(ورقة2!$H$2=ورقة1!I1265,ورقة2!$F$2=ورقة1!H1265,ورقة1!G1265=\"بنت\"),1,0)","v":0},{"$f":"IF(D1265=0,\"\",SUM($D$2:D1265))","v":""},null,"بنت",3]
[null,{"$f":"IF(AND(ورقة2!$H$2=ورقة1!I1266,ورقة2!$F$2=ورقة1!H1266,ورقة1!G1266=\"ولد\"),1,0)","v":0},{"$f":"IF(B1266=0,\"\",SUM($B$2:B1266))","v":""},{"$f":"IF(AND(ورقة2!$H$2=ورقة1!I1266,ورقة2!$F$2=ورقة1!H1266,ورقة1!G1266=\"بنت\"),1,0)","v":0},{"$f":"IF(D1266=0,\"\",SUM($D$2:D1266))","v":""},null,"بنت",3]
[null,{"$f":"IF(AND(ورقة2!$H$2=ورقة1!I1267,ورقة2!$F$2=ورقة1!H1267,ورقة1!G1267=\"ولد\"),1,0)","v":0},{"$f":"IF(B1267=0,\"\",SUM($B$2:B1267))","v":""},{"$f":"IF(AND(ورقة2!$H$2=ورقة1!I1267,ورقة2!$F$2=ورقة1!H1267,ورقة1!G1267=\"بنت\"),1,0)","v":0},{"$f":"IF(D1267=0,\"\",SUM($D$2:D1267))","v":""},null,"بنت",3]
[null,{"$f":"IF(AND(ورقة2!$H$2=ورقة1!I1268,ورقة2!$F$2=ورقة1!H1268,ورقة1!G1268=\"ولد\"),1,0)","v":0},{"$f":"IF(B1268=0,\"\",SUM($B$2:B1268))","v":""},{"$f":"IF(AND(ورقة2!$H$2=ورقة1!I1268,ورقة2!$F$2=ورقة1!H1268,ورقة1!G1268=\"بنت\"),1,0)","v":0},{"$f":"IF(D1268=0,\"\",SUM($D$2:D1268))","v":""},null,"بنت",3]
[null,{"$f":"IF(AND(ورقة2!$H$2=ورقة1!I1269,ورقة2!$F$2=ورقة1!H1269,ورقة1!G1269=\"ولد\"),1,0)","v":0},{"$f":"IF(B1269=0,\"\",SUM($B$2:B1269))","v":""},{"$f":"IF(AND(ورقة2!$H$2=ورقة1!I1269,ورقة2!$F$2=ورقة1!H1269,ورقة1!G1269=\"بنت\"),1,0)","v":0},{"$f":"IF(D1269=0,\"\",SUM($D$2:D1269))","v":""},null,"بنت",3]
[null,{"$f":"IF(AND(ورقة2!$H$2=ورقة1!I1270,ورقة2!$F$2=ورقة1!H1270,ورقة1!G1270=\"ولد\"),1,0)","v":0},{"$f":"IF(B1270=0,\"\",SUM($B$2:B1270))","v":""},{"$f":"IF(AND(ورقة2!$H$2=ورقة1!I1270,ورقة2!$F$2=ورقة1!H1270,ورقة1!G1270=\"بنت\"),1,0)","v":0},{"$f":"IF(D1270=0,\"\",SUM($D$2:D1270))","v":""},null,"بنت",3]
[null,{"$f":"IF(AND(ورقة2!$H$2=ورقة1!I1271,ورقة2!$F$2=ورقة1!H1271,ورقة1!G1271=\"ولد\"),1,0)","v":0},{"$f":"IF(B1271=0,\"\",SUM($B$2:B1271))","v":""},{"$f":"IF(AND(ورقة2!$H$2=ورقة1!I1271,ورقة2!$F$2=ورقة1!H1271,ورقة1!G1271=\"بنت\"),1,0)","v":0},{"$f":"IF(D1271=0,\"\",SUM($D$2:D1271))","v":""},null,"بنت",3]
[null,{"$f":"IF(AND(ورقة2!$H$2=ورقة1!I1272,ورقة2!$F$2=ورقة1!H1272,ورقة1!G1272=\"ولد\"),1,0)","v":0},{"$f":"IF(B1272=0,\"\",SUM($B$2:B1272))","v":""},{"$f":"IF(AND(ورقة2!$H$2=ورقة1!I1272,ورقة2!$F$2=ورقة1!H1272,ورقة1!G1272=\"بنت\"),1,0)","v":0},{"$f":"IF(D1272=0,\"\",SUM($D$2:D1272))","v":""},null,"بنت",3]
[null,{"$f":"IF(AND(ورقة2!$H$2=ورقة1!I1273,ورقة2!$F$2=ورقة1!H1273,ورقة1!G1273=\"ولد\"),1,0)","v":0},{"$f":"IF(B1273=0,\"\",SUM($B$2:B1273))","v":""},{"$f":"IF(AND(ورقة2!$H$2=ورقة1!I1273,ورقة2!$F$2=ورقة1!H1273,ورقة1!G1273=\"بنت\"),1,0)","v":0},{"$f":"IF(D1273=0,\"\",SUM($D$2:D1273))","v":""},null,"بنت",3]
[null,{"$f":"IF(AND(ورقة2!$H$2=ورقة1!I1274,ورقة2!$F$2=ورقة1!H1274,ورقة1!G1274=\"ولد\"),1,0)","v":0},{"$f":"IF(B1274=0,\"\",SUM($B$2:B1274))","v":""},{"$f":"IF(AND(ورقة2!$H$2=ورقة1!I1274,ورقة2!$F$2=ورقة1!H1274,ورقة1!G1274=\"بنت\"),1,0)","v":0},{"$f":"IF(D1274=0,\"\",SUM($D$2:D1274))","v":""},null,"بنت",3]
[null,{"$f":"IF(AND(ورقة2!$H$2=ورقة1!I1275,ورقة2!$F$2=ورقة1!H1275,ورقة1!G1275=\"ولد\"),1,0)","v":0},{"$f":"IF(B1275=0,\"\",SUM($B$2:B1275))","v":""},{"$f":"IF(AND(ورقة2!$H$2=ورقة1!I1275,ورقة2!$F$2=ورقة1!H1275,ورقة1!G1275=\"بنت\"),1,0)","v":0},{"$f":"IF(D1275=0,\"\",SUM($D$2:D1275))","v":""},null,"بنت",3]
[null,{"$f":"IF(AND(ورقة2!$H$2=ورقة1!I1276,ورقة2!$F$2=ورقة1!H1276,ورقة1!G1276=\"ولد\"),1,0)","v":0},{"$f":"IF(B1276=0,\"\",SUM($B$2:B1276))","v":""},{"$f":"IF(AND(ورقة2!$H$2=ورقة1!I1276,ورقة2!$F$2=ورقة1!H1276,ورقة1!G1276=\"بنت\"),1,0)","v":0},{"$f":"IF(D1276=0,\"\",SUM($D$2:D1276))","v":""},null,"بنت",3]
[null,{"$f":"IF(AND(ورقة2!$H$2=ورقة1!I1277,ورقة2!$F$2=ورقة1!H1277,ورقة1!G1277=\"ولد\"),1,0)","v":0},{"$f":"IF(B1277=0,\"\",SUM($B$2:B1277))","v":""},{"$f":"IF(AND(ورقة2!$H$2=ورقة1!I1277,ورقة2!$F$2=ورقة1!H1277,ورقة1!G1277=\"بنت\"),1,0)","v":0},{"$f":"IF(D1277=0,\"\",SUM($D$2:D1277))","v":""},null,"بنت",3]
[null,{"$f":"IF(AND(ورقة2!$H$2=ورقة1!I1278,ورقة2!$F$2=ورقة1!H1278,ورقة1!G1278=\"ولد\"),1,0)","v":0},{"$f":"IF(B1278=0,\"\",SUM($B$2:B1278))","v":""},{"$f":"IF(AND(ورقة2!$H$2=ورقة1!I1278,ورقة2!$F$2=ورقة1!H1278,ورقة1!G1278=\"بنت\"),1,0)","v":0},{"$f":"IF(D1278=0,\"\",SUM($D$2:D1278))","v":""},null,"بنت",3]
[null,{"$f":"IF(AND(ورقة2!$H$2=ورقة1!I1279,ورقة2!$F$2=ورقة1!H1279,ورقة1!G1279=\"ولد\"),1,0)","v":0},{"$f":"IF(B1279=0,\"\",SUM($B$2:B1279))","v":""},{"$f":"IF(AND(ورقة2!$H$2=ورقة1!I1279,ورقة2!$F$2=ورقة1!H1279,ورقة1!G1279=\"بنت\"),1,0)","v":0},{"$f":"IF(D1279=0,\"\",SUM($D$2:D1279))","v":""},null,"بنت",3]
[null,{"$f":"IF(AND(ورقة2!$H$2=ورقة1!I1280,ورقة2!$F$2=ورقة1!H1280,ورقة1!G1280=\"ولد\"),1,0)","v":0},{"$f":"IF(B1280=0,\"\",SUM($B$2:B1280))","v":""},{"$f":"IF(AND(ورقة2!$H$2=ورقة1!I1280,ورقة2!$F$2=ورقة1!H1280,ورقة1!G1280=\"بنت\"),1,0)","v":0},{"$f":"IF(D1280=0,\"\",SUM($D$2:D1280))","v":""},null,"بنت",3]
[null,{"$f":"IF(AND(ورقة2!$H$2=ورقة1!I1281,ورقة2!$F$2=ورقة1!H1281,ورقة1!G1281=\"ولد\"),1,0)","v":0},{"$f":"IF(B1281=0,\"\",SUM($B$2:B1281))","v":""},{"$f":"IF(AND(ورقة2!$H$2=ورقة1!I1281,ورقة2!$F$2=ورقة1!H1281,ورقة1!G1281=\"بنت\"),1,0)","v":0},{"$f":"IF(D1281=0,\"\",SUM($D$2:D1281))","v":""},null,"بنت",3]
[null,{"$f":"IF(AND(ورقة2!$H$2=ورقة1!I1282,ورقة2!$F$2=ورقة1!H1282,ورقة1!G1282=\"ولد\"),1,0)","v":0},{"$f":"IF(B1282=0,\"\",SUM($B$2:B1282))","v":""},{"$f":"IF(AND(ورقة2!$H$2=ورقة1!I1282,ورقة2!$F$2=ورقة1!H1282,ورقة1!G1282=\"بنت\"),1,0)","v":0},{"$f":"IF(D1282=0,\"\",SUM($D$2:D1282))","v":""},null,"بنت",3]
[null,{"$f":"IF(AND(ورقة2!$H$2=ورقة1!I1283,ورقة2!$F$2=ورقة1!H1283,ورقة1!G1283=\"ولد\"),1,0)","v":0},{"$f":"IF(B1283=0,\"\",SUM($B$2:B1283))","v":""},{"$f":"IF(AND(ورقة2!$H$2=ورقة1!I1283,ورقة2!$F$2=ورقة1!H1283,ورقة1!G1283=\"بنت\"),1,0)","v":0},{"$f":"IF(D1283=0,\"\",SUM($D$2:D1283))","v":""},null,"بنت",3]
[null,{"$f":"IF(AND(ورقة2!$H$2=ورقة1!I1284,ورقة2!$F$2=ورقة1!H1284,ورقة1!G1284=\"ولد\"),1,0)","v":0},{"$f":"IF(B1284=0,\"\",SUM($B$2:B1284))","v":""},{"$f":"IF(AND(ورقة2!$H$2=ورقة1!I1284,ورقة2!$F$2=ورقة1!H1284,ورقة1!G1284=\"بنت\"),1,0)","v":0},{"$f":"IF(D1284=0,\"\",SUM($D$2:D1284))","v":""},null,"بنت",3]
[null,{"$f":"IF(AND(ورقة2!$H$2=ورقة1!I1285,ورقة2!$F$2=ورقة1!H1285,ورقة1!G1285=\"ولد\"),1,0)","v":0},{"$f":"IF(B1285=0,\"\",SUM($B$2:B1285))","v":""},{"$f":"IF(AND(ورقة2!$H$2=ورقة1!I1285,ورقة2!$F$2=ورقة1!H1285,ورقة1!G1285=\"بنت\"),1,0)","v":0},{"$f":"IF(D1285=0,\"\",SUM($D$2:D1285))","v":""},null,"بنت",3]
[null,{"$f":"IF(AND(ورقة2!$H$2=ورقة1!I1286,ورقة2!$F$2=ورقة1!H1286,ورقة1!G1286=\"ولد\"),1,0)","v":0},{"$f":"IF(B1286=0,\"\",SUM($B$2:B1286))","v":""},{"$f":"IF(AND(ورقة2!$H$2=ورقة1!I1286,ورقة2!$F$2=ورقة1!H1286,ورقة1!G1286=\"بنت\"),1,0)","v":0},{"$f":"IF(D1286=0,\"\",SUM($D$2:D1286))","v":""},null,"بنت",3]
[null,{"$f":"IF(AND(ورقة2!$H$2=ورقة1!I1287,ورقة2!$F$2=ورقة1!H1287,ورقة1!G1287=\"ولد\"),1,0)","v":0},{"$f":"IF(B1287=0,\"\",SUM($B$2:B1287))","v":""},{"$f":"IF(AND(ورقة2!$H$2=ورقة1!I1287,ورقة2!$F$2=ورقة1!H1287,ورقة1!G1287=\"بنت\"),1,0)","v":0},{"$f":"IF(D1287=0,\"\",SUM($D$2:D1287))","v":""},null,"بنت",3]
[null,{"$f":"IF(AND(ورقة2!$H$2=ورقة1!I1288,ورقة2!$F$2=ورقة1!H1288,ورقة1!G1288=\"ولد\"),1,0)","v":0},{"$f":"IF(B1288=0,\"\",SUM($B$2:B1288))","v":""},{"$f":"IF(AND(ورقة2!$H$2=ورقة1!I1288,ورقة2!$F$2=ورقة1!H1288,ورقة1!G1288=\"بنت\"),1,0)","v":0},{"$f":"IF(D1288=0,\"\",SUM($D$2:D1288))","v":""},null,"بنت",3]
[null,{"$f":"IF(AND(ورقة2!$H$2=ورقة1!I1289,ورقة2!$F$2=ورقة1!H1289,ورقة1!G1289=\"ولد\"),1,0)","v":0},{"$f":"IF(B1289=0,\"\",SUM($B$2:B1289))","v":""},{"$f":"IF(AND(ورقة2!$H$2=ورقة1!I1289,ورقة2!$F$2=ورقة1!H1289,ورقة1!G1289=\"بنت\"),1,0)","v":0},{"$f":"IF(D1289=0,\"\",SUM($D$2:D1289))","v":""},null,"بنت",3]
[null,{"$f":"IF(AND(ورقة2!$H$2=ورقة1!I1290,ورقة2!$F$2=ورقة1!H1290,ورقة1!G1290=\"ولد\"),1,0)","v":0},{"$f":"IF(B1290=0,\"\",SUM($B$2:B1290))","v":""},{"$f":"IF(AND(ورقة2!$H$2=ورقة1!I1290,ورقة2!$F$2=ورقة1!H1290,ورقة1!G1290=\"بنت\"),1,0)","v":0},{"$f":"IF(D1290=0,\"\",SUM($D$2:D1290))","v":""},null,"بنت",3]
[null,{"$f":"IF(AND(ورقة2!$H$2=ورقة1!I1291,ورقة2!$F$2=ورقة1!H1291,ورقة1!G1291=\"ولد\"),1,0)","v":0},{"$f":"IF(B1291=0,\"\",SUM($B$2:B1291))","v":""},{"$f":"IF(AND(ورقة2!$H$2=ورقة1!I1291,ورقة2!$F$2=ورقة1!H1291,ورقة1!G1291=\"بنت\"),1,0)","v":0},{"$f":"IF(D1291=0,\"\",SUM($D$2:D1291))","v":""},null,"بنت",3]
[null,{"$f":"IF(AND(ورقة2!$H$2=ورقة1!I1292,ورقة2!$F$2=ورقة1!H1292,ورقة1!G1292=\"ولد\"),1,0)","v":0},{"$f":"IF(B1292=0,\"\",SUM($B$2:B1292))","v":""},{"$f":"IF(AND(ورقة2!$H$2=ورقة1!I1292,ورقة2!$F$2=ورقة1!H1292,ورقة1!G1292=\"بنت\"),1,0)","v":0},{"$f":"IF(D1292=0,\"\",SUM($D$2:D1292))","v":""},null,"بنت",3]
[null,{"$f":"IF(AND(ورقة2!$H$2=ورقة1!I1293,ورقة2!$F$2=ورقة1!H1293,ورقة1!G1293=\"ولد\"),1,0)","v":0},{"$f":"IF(B1293=0,\"\",SUM($B$2:B1293))","v":""},{"$f":"IF(AND(ورقة2!$H$2=ورقة1!I1293,ورقة2!$F$2=ورقة1!H1293,ورقة1!G1293=\"بنت\"),1,0)","v":0},{"$f":"IF(D1293=0,\"\",SUM($D$2:D1293))","v":""},null,"بنت",3]
[null,{"$f":"IF(AND(ورقة2!$H$2=ورقة1!I1294,ورقة2!$F$2=ورقة1!H1294,ورقة1!G1294=\"ولد\"),1,0)","v":0},{"$f":"IF(B1294=0,\"\",SUM($B$2:B1294))","v":""},{"$f":"IF(AND(ورقة2!$H$2=ورقة1!I1294,ورقة2!$F$2=ورقة1!H1294,ورقة1!G1294=\"بنت\"),1,0)","v":0},{"$f":"IF(D1294=0,\"\",SUM($D$2:D1294))","v":""},null,"بنت",3]
[null,{"$f":"IF(AND(ورقة2!$H$2=ورقة1!I1295,ورقة2!$F$2=ورقة1!H1295,ورقة1!G1295=\"ولد\"),1,0)","v":0},{"$f":"IF(B1295=0,\"\",SUM($B$2:B1295))","v":""},{"$f":"IF(AND(ورقة2!$H$2=ورقة1!I1295,ورقة2!$F$2=ورقة1!H1295,ورقة1!G1295=\"بنت\"),1,0)","v":0},{"$f":"IF(D1295=0,\"\",SUM($D$2:D1295))","v":""},null,"بنت",3]
[null,{"$f":"IF(AND(ورقة2!$H$2=ورقة1!I1296,ورقة2!$F$2=ورقة1!H1296,ورقة1!G1296=\"ولد\"),1,0)","v":0},{"$f":"IF(B1296=0,\"\",SUM($B$2:B1296))","v":""},{"$f":"IF(AND(ورقة2!$H$2=ورقة1!I1296,ورقة2!$F$2=ورقة1!H1296,ورقة1!G1296=\"بنت\"),1,0)","v":0},{"$f":"IF(D1296=0,\"\",SUM($D$2:D1296))","v":""},null,"بنت",3]
[null,{"$f":"IF(AND(ورقة2!$H$2=ورقة1!I1297,ورقة2!$F$2=ورقة1!H1297,ورقة1!G1297=\"ولد\"),1,0)","v":0},{"$f":"IF(B1297=0,\"\",SUM($B$2:B1297))","v":""},{"$f":"IF(AND(ورقة2!$H$2=ورقة1!I1297,ورقة2!$F$2=ورقة1!H1297,ورقة1!G1297=\"بنت\"),1,0)","v":0},{"$f":"IF(D1297=0,\"\",SUM($D$2:D1297))","v":""},null,"بنت",3]
[null,{"$f":"IF(AND(ورقة2!$H$2=ورقة1!I1298,ورقة2!$F$2=ورقة1!H1298,ورقة1!G1298=\"ولد\"),1,0)","v":0},{"$f":"IF(B1298=0,\"\",SUM($B$2:B1298))","v":""},{"$f":"IF(AND(ورقة2!$H$2=ورقة1!I1298,ورقة2!$F$2=ورقة1!H1298,ورقة1!G1298=\"بنت\"),1,0)","v":0},{"$f":"IF(D1298=0,\"\",SUM($D$2:D1298))","v":""},null,"بنت",3]
[null,{"$f":"IF(AND(ورقة2!$H$2=ورقة1!I1299,ورقة2!$F$2=ورقة1!H1299,ورقة1!G1299=\"ولد\"),1,0)","v":0},{"$f":"IF(B1299=0,\"\",SUM($B$2:B1299))","v":""},{"$f":"IF(AND(ورقة2!$H$2=ورقة1!I1299,ورقة2!$F$2=ورقة1!H1299,ورقة1!G1299=\"بنت\"),1,0)","v":0},{"$f":"IF(D1299=0,\"\",SUM($D$2:D1299))","v":""},null,"بنت",3]
[null,{"$f":"IF(AND(ورقة2!$H$2=ورقة1!I1300,ورقة2!$F$2=ورقة1!H1300,ورقة1!G1300=\"ولد\"),1,0)","v":0},{"$f":"IF(B1300=0,\"\",SUM($B$2:B1300))","v":""},{"$f":"IF(AND(ورقة2!$H$2=ورقة1!I1300,ورقة2!$F$2=ورقة1!H1300,ورقة1!G1300=\"بنت\"),1,0)","v":0},{"$f":"IF(D1300=0,\"\",SUM($D$2:D1300))","v":""},null,"بنت",3]
[null,{"$f":"IF(AND(ورقة2!$H$2=ورقة1!I1301,ورقة2!$F$2=ورقة1!H1301,ورقة1!G1301=\"ولد\"),1,0)","v":0},{"$f":"IF(B1301=0,\"\",SUM($B$2:B1301))","v":""},{"$f":"IF(AND(ورقة2!$H$2=ورقة1!I1301,ورقة2!$F$2=ورقة1!H1301,ورقة1!G1301=\"بنت\"),1,0)","v":0},{"$f":"IF(D1301=0,\"\",SUM($D$2:D1301))","v":""},null,"بنت",3]
[null,{"$f":"IF(AND(ورقة2!$H$2=ورقة1!I1302,ورقة2!$F$2=ورقة1!H1302,ورقة1!G1302=\"ولد\"),1,0)","v":0},{"$f":"IF(B1302=0,\"\",SUM($B$2:B1302))","v":""},{"$f":"IF(AND(ورقة2!$H$2=ورقة1!I1302,ورقة2!$F$2=ورقة1!H1302,ورقة1!G1302=\"بنت\"),1,0)","v":0},{"$f":"IF(D1302=0,\"\",SUM($D$2:D1302))","v":""},null,"بنت",3]
[null,{"$f":"IF(AND(ورقة2!$H$2=ورقة1!I1303,ورقة2!$F$2=ورقة1!H1303,ورقة1!G1303=\"ولد\"),1,0)","v":0},{"$f":"IF(B1303=0,\"\",SUM($B$2:B1303))","v":""},{"$f":"IF(AND(ورقة2!$H$2=ورقة1!I1303,ورقة2!$F$2=ورقة1!H1303,ورقة1!G1303=\"بنت\"),1,0)","v":0},{"$f":"IF(D1303=0,\"\",SUM($D$2:D1303))","v":""},null,"بنت",3]
[null,{"$f":"IF(AND(ورقة2!$H$2=ورقة1!I1304,ورقة2!$F$2=ورقة1!H1304,ورقة1!G1304=\"ولد\"),1,0)","v":0},{"$f":"IF(B1304=0,\"\",SUM($B$2:B1304))","v":""},{"$f":"IF(AND(ورقة2!$H$2=ورقة1!I1304,ورقة2!$F$2=ورقة1!H1304,ورقة1!G1304=\"بنت\"),1,0)","v":0},{"$f":"IF(D1304=0,\"\",SUM($D$2:D1304))","v":""},null,"بنت",3]
[null,{"$f":"IF(AND(ورقة2!$H$2=ورقة1!I1305,ورقة2!$F$2=ورقة1!H1305,ورقة1!G1305=\"ولد\"),1,0)","v":0},{"$f":"IF(B1305=0,\"\",SUM($B$2:B1305))","v":""},{"$f":"IF(AND(ورقة2!$H$2=ورقة1!I1305,ورقة2!$F$2=ورقة1!H1305,ورقة1!G1305=\"بنت\"),1,0)","v":0},{"$f":"IF(D1305=0,\"\",SUM($D$2:D1305))","v":""},null,"بنت",3]
[null,{"$f":"IF(AND(ورقة2!$H$2=ورقة1!I1306,ورقة2!$F$2=ورقة1!H1306,ورقة1!G1306=\"ولد\"),1,0)","v":0},{"$f":"IF(B1306=0,\"\",SUM($B$2:B1306))","v":""},{"$f":"IF(AND(ورقة2!$H$2=ورقة1!I1306,ورقة2!$F$2=ورقة1!H1306,ورقة1!G1306=\"بنت\"),1,0)","v":0},{"$f":"IF(D1306=0,\"\",SUM($D$2:D1306))","v":""},null,"بنت",3]
[null,{"$f":"IF(AND(ورقة2!$H$2=ورقة1!I1307,ورقة2!$F$2=ورقة1!H1307,ورقة1!G1307=\"ولد\"),1,0)","v":0},{"$f":"IF(B1307=0,\"\",SUM($B$2:B1307))","v":""},{"$f":"IF(AND(ورقة2!$H$2=ورقة1!I1307,ورقة2!$F$2=ورقة1!H1307,ورقة1!G1307=\"بنت\"),1,0)","v":0},{"$f":"IF(D1307=0,\"\",SUM($D$2:D1307))","v":""},null,"بنت",3]
[null,{"$f":"IF(AND(ورقة2!$H$2=ورقة1!I1308,ورقة2!$F$2=ورقة1!H1308,ورقة1!G1308=\"ولد\"),1,0)","v":0},{"$f":"IF(B1308=0,\"\",SUM($B$2:B1308))","v":""},{"$f":"IF(AND(ورقة2!$H$2=ورقة1!I1308,ورقة2!$F$2=ورقة1!H1308,ورقة1!G1308=\"بنت\"),1,0)","v":0},{"$f":"IF(D1308=0,\"\",SUM($D$2:D1308))","v":""},null,"بنت",3]
[null,{"$f":"IF(AND(ورقة2!$H$2=ورقة1!I1309,ورقة2!$F$2=ورقة1!H1309,ورقة1!G1309=\"ولد\"),1,0)","v":0},{"$f":"IF(B1309=0,\"\",SUM($B$2:B1309))","v":""},{"$f":"IF(AND(ورقة2!$H$2=ورقة1!I1309,ورقة2!$F$2=ورقة1!H1309,ورقة1!G1309=\"بنت\"),1,0)","v":0},{"$f":"IF(D1309=0,\"\",SUM($D$2:D1309))","v":""},null,"بنت",3]
[null,{"$f":"IF(AND(ورقة2!$H$2=ورقة1!I1310,ورقة2!$F$2=ورقة1!H1310,ورقة1!G1310=\"ولد\"),1,0)","v":0},{"$f":"IF(B1310=0,\"\",SUM($B$2:B1310))","v":""},{"$f":"IF(AND(ورقة2!$H$2=ورقة1!I1310,ورقة2!$F$2=ورقة1!H1310,ورقة1!G1310=\"بنت\"),1,0)","v":0},{"$f":"IF(D1310=0,\"\",SUM($D$2:D1310))","v":""},null,"بنت",3]
[null,{"$f":"IF(AND(ورقة2!$H$2=ورقة1!I1311,ورقة2!$F$2=ورقة1!H1311,ورقة1!G1311=\"ولد\"),1,0)","v":0},{"$f":"IF(B1311=0,\"\",SUM($B$2:B1311))","v":""},{"$f":"IF(AND(ورقة2!$H$2=ورقة1!I1311,ورقة2!$F$2=ورقة1!H1311,ورقة1!G1311=\"بنت\"),1,0)","v":0},{"$f":"IF(D1311=0,\"\",SUM($D$2:D1311))","v":""},null,"بنت",3]
[null,{"$f":"IF(AND(ورقة2!$H$2=ورقة1!I1312,ورقة2!$F$2=ورقة1!H1312,ورقة1!G1312=\"ولد\"),1,0)","v":0},{"$f":"IF(B1312=0,\"\",SUM($B$2:B1312))","v":""},{"$f":"IF(AND(ورقة2!$H$2=ورقة1!I1312,ورقة2!$F$2=ورقة1!H1312,ورقة1!G1312=\"بنت\"),1,0)","v":0},{"$f":"IF(D1312=0,\"\",SUM($D$2:D1312))","v":""},null,"بنت",3]
[null,{"$f":"IF(AND(ورقة2!$H$2=ورقة1!I1313,ورقة2!$F$2=ورقة1!H1313,ورقة1!G1313=\"ولد\"),1,0)","v":0},{"$f":"IF(B1313=0,\"\",SUM($B$2:B1313))","v":""},{"$f":"IF(AND(ورقة2!$H$2=ورقة1!I1313,ورقة2!$F$2=ورقة1!H1313,ورقة1!G1313=\"بنت\"),1,0)","v":0},{"$f":"IF(D1313=0,\"\",SUM($D$2:D1313))","v":""},null,"بنت",3]
[null,{"$f":"IF(AND(ورقة2!$H$2=ورقة1!I1314,ورقة2!$F$2=ورقة1!H1314,ورقة1!G1314=\"ولد\"),1,0)","v":0},{"$f":"IF(B1314=0,\"\",SUM($B$2:B1314))","v":""},{"$f":"IF(AND(ورقة2!$H$2=ورقة1!I1314,ورقة2!$F$2=ورقة1!H1314,ورقة1!G1314=\"بنت\"),1,0)","v":0},{"$f":"IF(D1314=0,\"\",SUM($D$2:D1314))","v":""},null,"بنت",3]
[null,{"$f":"IF(AND(ورقة2!$H$2=ورقة1!I1315,ورقة2!$F$2=ورقة1!H1315,ورقة1!G1315=\"ولد\"),1,0)","v":0},{"$f":"IF(B1315=0,\"\",SUM($B$2:B1315))","v":""},{"$f":"IF(AND(ورقة2!$H$2=ورقة1!I1315,ورقة2!$F$2=ورقة1!H1315,ورقة1!G1315=\"بنت\"),1,0)","v":0},{"$f":"IF(D1315=0,\"\",SUM($D$2:D1315))","v":""},null,"بنت",3]
[null,{"$f":"IF(AND(ورقة2!$H$2=ورقة1!I1316,ورقة2!$F$2=ورقة1!H1316,ورقة1!G1316=\"ولد\"),1,0)","v":0},{"$f":"IF(B1316=0,\"\",SUM($B$2:B1316))","v":""},{"$f":"IF(AND(ورقة2!$H$2=ورقة1!I1316,ورقة2!$F$2=ورقة1!H1316,ورقة1!G1316=\"بنت\"),1,0)","v":0},{"$f":"IF(D1316=0,\"\",SUM($D$2:D1316))","v":""},null,"بنت",3]
[null,{"$f":"IF(AND(ورقة2!$H$2=ورقة1!I1317,ورقة2!$F$2=ورقة1!H1317,ورقة1!G1317=\"ولد\"),1,0)","v":0},{"$f":"IF(B1317=0,\"\",SUM($B$2:B1317))","v":""},{"$f":"IF(AND(ورقة2!$H$2=ورقة1!I1317,ورقة2!$F$2=ورقة1!H1317,ورقة1!G1317=\"بنت\"),1,0)","v":0},{"$f":"IF(D1317=0,\"\",SUM($D$2:D1317))","v":""},null,"بنت",3]
[null,{"$f":"IF(AND(ورقة2!$H$2=ورقة1!I1318,ورقة2!$F$2=ورقة1!H1318,ورقة1!G1318=\"ولد\"),1,0)","v":0},{"$f":"IF(B1318=0,\"\",SUM($B$2:B1318))","v":""},{"$f":"IF(AND(ورقة2!$H$2=ورقة1!I1318,ورقة2!$F$2=ورقة1!H1318,ورقة1!G1318=\"بنت\"),1,0)","v":0},{"$f":"IF(D1318=0,\"\",SUM($D$2:D1318))","v":""},null,"بنت",3]
[null,{"$f":"IF(AND(ورقة2!$H$2=ورقة1!I1319,ورقة2!$F$2=ورقة1!H1319,ورقة1!G1319=\"ولد\"),1,0)","v":0},{"$f":"IF(B1319=0,\"\",SUM($B$2:B1319))","v":""},{"$f":"IF(AND(ورقة2!$H$2=ورقة1!I1319,ورقة2!$F$2=ورقة1!H1319,ورقة1!G1319=\"بنت\"),1,0)","v":0},{"$f":"IF(D1319=0,\"\",SUM($D$2:D1319))","v":""},null,"بنت",3]
[null,{"$f":"IF(AND(ورقة2!$H$2=ورقة1!I1320,ورقة2!$F$2=ورقة1!H1320,ورقة1!G1320=\"ولد\"),1,0)","v":0},{"$f":"IF(B1320=0,\"\",SUM($B$2:B1320))","v":""},{"$f":"IF(AND(ورقة2!$H$2=ورقة1!I1320,ورقة2!$F$2=ورقة1!H1320,ورقة1!G1320=\"بنت\"),1,0)","v":0},{"$f":"IF(D1320=0,\"\",SUM($D$2:D1320))","v":""},null,"بنت",3]
[null,{"$f":"IF(AND(ورقة2!$H$2=ورقة1!I1321,ورقة2!$F$2=ورقة1!H1321,ورقة1!G1321=\"ولد\"),1,0)","v":0},{"$f":"IF(B1321=0,\"\",SUM($B$2:B1321))","v":""},{"$f":"IF(AND(ورقة2!$H$2=ورقة1!I1321,ورقة2!$F$2=ورقة1!H1321,ورقة1!G1321=\"بنت\"),1,0)","v":0},{"$f":"IF(D1321=0,\"\",SUM($D$2:D1321))","v":""},null,"بنت",3]
[null,{"$f":"IF(AND(ورقة2!$H$2=ورقة1!I1322,ورقة2!$F$2=ورقة1!H1322,ورقة1!G1322=\"ولد\"),1,0)","v":0},{"$f":"IF(B1322=0,\"\",SUM($B$2:B1322))","v":""},{"$f":"IF(AND(ورقة2!$H$2=ورقة1!I1322,ورقة2!$F$2=ورقة1!H1322,ورقة1!G1322=\"بنت\"),1,0)","v":0},{"$f":"IF(D1322=0,\"\",SUM($D$2:D1322))","v":""},null,"بنت",3]
[null,{"$f":"IF(AND(ورقة2!$H$2=ورقة1!I1323,ورقة2!$F$2=ورقة1!H1323,ورقة1!G1323=\"ولد\"),1,0)","v":0},{"$f":"IF(B1323=0,\"\",SUM($B$2:B1323))","v":""},{"$f":"IF(AND(ورقة2!$H$2=ورقة1!I1323,ورقة2!$F$2=ورقة1!H1323,ورقة1!G1323=\"بنت\"),1,0)","v":0},{"$f":"IF(D1323=0,\"\",SUM($D$2:D1323))","v":""},null,"بنت",3]
[null,{"$f":"IF(AND(ورقة2!$H$2=ورقة1!I1324,ورقة2!$F$2=ورقة1!H1324,ورقة1!G1324=\"ولد\"),1,0)","v":0},{"$f":"IF(B1324=0,\"\",SUM($B$2:B1324))","v":""},{"$f":"IF(AND(ورقة2!$H$2=ورقة1!I1324,ورقة2!$F$2=ورقة1!H1324,ورقة1!G1324=\"بنت\"),1,0)","v":0},{"$f":"IF(D1324=0,\"\",SUM($D$2:D1324))","v":""},null,"بنت",3]
[null,{"$f":"IF(AND(ورقة2!$H$2=ورقة1!I1325,ورقة2!$F$2=ورقة1!H1325,ورقة1!G1325=\"ولد\"),1,0)","v":0},{"$f":"IF(B1325=0,\"\",SUM($B$2:B1325))","v":""},{"$f":"IF(AND(ورقة2!$H$2=ورقة1!I1325,ورقة2!$F$2=ورقة1!H1325,ورقة1!G1325=\"بنت\"),1,0)","v":0},{"$f":"IF(D1325=0,\"\",SUM($D$2:D1325))","v":""},null,"بنت",3]
[null,{"$f":"IF(AND(ورقة2!$H$2=ورقة1!I1326,ورقة2!$F$2=ورقة1!H1326,ورقة1!G1326=\"ولد\"),1,0)","v":0},{"$f":"IF(B1326=0,\"\",SUM($B$2:B1326))","v":""},{"$f":"IF(AND(ورقة2!$H$2=ورقة1!I1326,ورقة2!$F$2=ورقة1!H1326,ورقة1!G1326=\"بنت\"),1,0)","v":0},{"$f":"IF(D1326=0,\"\",SUM($D$2:D1326))","v":""},null,"بنت",3]
[null,{"$f":"IF(AND(ورقة2!$H$2=ورقة1!I1327,ورقة2!$F$2=ورقة1!H1327,ورقة1!G1327=\"ولد\"),1,0)","v":0},{"$f":"IF(B1327=0,\"\",SUM($B$2:B1327))","v":""},{"$f":"IF(AND(ورقة2!$H$2=ورقة1!I1327,ورقة2!$F$2=ورقة1!H1327,ورقة1!G1327=\"بنت\"),1,0)","v":0},{"$f":"IF(D1327=0,\"\",SUM($D$2:D1327))","v":""},null,"بنت",3]
[null,{"$f":"IF(AND(ورقة2!$H$2=ورقة1!I1328,ورقة2!$F$2=ورقة1!H1328,ورقة1!G1328=\"ولد\"),1,0)","v":0},{"$f":"IF(B1328=0,\"\",SUM($B$2:B1328))","v":""},{"$f":"IF(AND(ورقة2!$H$2=ورقة1!I1328,ورقة2!$F$2=ورقة1!H1328,ورقة1!G1328=\"بنت\"),1,0)","v":0},{"$f":"IF(D1328=0,\"\",SUM($D$2:D1328))","v":""},null,"بنت",3]
[null,{"$f":"IF(AND(ورقة2!$H$2=ورقة1!I1329,ورقة2!$F$2=ورقة1!H1329,ورقة1!G1329=\"ولد\"),1,0)","v":0},{"$f":"IF(B1329=0,\"\",SUM($B$2:B1329))","v":""},{"$f":"IF(AND(ورقة2!$H$2=ورقة1!I1329,ورقة2!$F$2=ورقة1!H1329,ورقة1!G1329=\"بنت\"),1,0)","v":0},{"$f":"IF(D1329=0,\"\",SUM($D$2:D1329))","v":""},null,"بنت",3]
[null,{"$f":"IF(AND(ورقة2!$H$2=ورقة1!I1330,ورقة2!$F$2=ورقة1!H1330,ورقة1!G1330=\"ولد\"),1,0)","v":0},{"$f":"IF(B1330=0,\"\",SUM($B$2:B1330))","v":""},{"$f":"IF(AND(ورقة2!$H$2=ورقة1!I1330,ورقة2!$F$2=ورقة1!H1330,ورقة1!G1330=\"بنت\"),1,0)","v":0},{"$f":"IF(D1330=0,\"\",SUM($D$2:D1330))","v":""},null,"بنت",3]
[null,{"$f":"IF(AND(ورقة2!$H$2=ورقة1!I1331,ورقة2!$F$2=ورقة1!H1331,ورقة1!G1331=\"ولد\"),1,0)","v":0},{"$f":"IF(B1331=0,\"\",SUM($B$2:B1331))","v":""},{"$f":"IF(AND(ورقة2!$H$2=ورقة1!I1331,ورقة2!$F$2=ورقة1!H1331,ورقة1!G1331=\"بنت\"),1,0)","v":0},{"$f":"IF(D1331=0,\"\",SUM($D$2:D1331))","v":""},null,"بنت",3]
[null,{"$f":"IF(AND(ورقة2!$H$2=ورقة1!I1332,ورقة2!$F$2=ورقة1!H1332,ورقة1!G1332=\"ولد\"),1,0)","v":0},{"$f":"IF(B1332=0,\"\",SUM($B$2:B1332))","v":""},{"$f":"IF(AND(ورقة2!$H$2=ورقة1!I1332,ورقة2!$F$2=ورقة1!H1332,ورقة1!G1332=\"بنت\"),1,0)","v":0},{"$f":"IF(D1332=0,\"\",SUM($D$2:D1332))","v":""},null,"بنت",3]
[null,{"$f":"IF(AND(ورقة2!$H$2=ورقة1!I1333,ورقة2!$F$2=ورقة1!H1333,ورقة1!G1333=\"ولد\"),1,0)","v":0},{"$f":"IF(B1333=0,\"\",SUM($B$2:B1333))","v":""},{"$f":"IF(AND(ورقة2!$H$2=ورقة1!I1333,ورقة2!$F$2=ورقة1!H1333,ورقة1!G1333=\"بنت\"),1,0)","v":0},{"$f":"IF(D1333=0,\"\",SUM($D$2:D1333))","v":""},null,"بنت",3]
[null,{"$f":"IF(AND(ورقة2!$H$2=ورقة1!I1334,ورقة2!$F$2=ورقة1!H1334,ورقة1!G1334=\"ولد\"),1,0)","v":0},{"$f":"IF(B1334=0,\"\",SUM($B$2:B1334))","v":""},{"$f":"IF(AND(ورقة2!$H$2=ورقة1!I1334,ورقة2!$F$2=ورقة1!H1334,ورقة1!G1334=\"بنت\"),1,0)","v":0},{"$f":"IF(D1334=0,\"\",SUM($D$2:D1334))","v":""},null,"بنت",3]
[null,{"$f":"IF(AND(ورقة2!$H$2=ورقة1!I1335,ورقة2!$F$2=ورقة1!H1335,ورقة1!G1335=\"ولد\"),1,0)","v":0},{"$f":"IF(B1335=0,\"\",SUM($B$2:B1335))","v":""},{"$f":"IF(AND(ورقة2!$H$2=ورقة1!I1335,ورقة2!$F$2=ورقة1!H1335,ورقة1!G1335=\"بنت\"),1,0)","v":0},{"$f":"IF(D1335=0,\"\",SUM($D$2:D1335))","v":""},null,"بنت",3]
[null,{"$f":"IF(AND(ورقة2!$H$2=ورقة1!I1336,ورقة2!$F$2=ورقة1!H1336,ورقة1!G1336=\"ولد\"),1,0)","v":0},{"$f":"IF(B1336=0,\"\",SUM($B$2:B1336))","v":""},{"$f":"IF(AND(ورقة2!$H$2=ورقة1!I1336,ورقة2!$F$2=ورقة1!H1336,ورقة1!G1336=\"بنت\"),1,0)","v":0},{"$f":"IF(D1336=0,\"\",SUM($D$2:D1336))","v":""},null,"بنت",3]
[null,{"$f":"IF(AND(ورقة2!$H$2=ورقة1!I1337,ورقة2!$F$2=ورقة1!H1337,ورقة1!G1337=\"ولد\"),1,0)","v":0},{"$f":"IF(B1337=0,\"\",SUM($B$2:B1337))","v":""},{"$f":"IF(AND(ورقة2!$H$2=ورقة1!I1337,ورقة2!$F$2=ورقة1!H1337,ورقة1!G1337=\"بنت\"),1,0)","v":0},{"$f":"IF(D1337=0,\"\",SUM($D$2:D1337))","v":""},null,"بنت",3]
[null,{"$f":"IF(AND(ورقة2!$H$2=ورقة1!I1338,ورقة2!$F$2=ورقة1!H1338,ورقة1!G1338=\"ولد\"),1,0)","v":0},{"$f":"IF(B1338=0,\"\",SUM($B$2:B1338))","v":""},{"$f":"IF(AND(ورقة2!$H$2=ورقة1!I1338,ورقة2!$F$2=ورقة1!H1338,ورقة1!G1338=\"بنت\"),1,0)","v":0},{"$f":"IF(D1338=0,\"\",SUM($D$2:D1338))","v":""},null,"بنت",3]
[null,{"$f":"IF(AND(ورقة2!$H$2=ورقة1!I1339,ورقة2!$F$2=ورقة1!H1339,ورقة1!G1339=\"ولد\"),1,0)","v":0},{"$f":"IF(B1339=0,\"\",SUM($B$2:B1339))","v":""},{"$f":"IF(AND(ورقة2!$H$2=ورقة1!I1339,ورقة2!$F$2=ورقة1!H1339,ورقة1!G1339=\"بنت\"),1,0)","v":0},{"$f":"IF(D1339=0,\"\",SUM($D$2:D1339))","v":""},null,"بنت",3]
[null,{"$f":"IF(AND(ورقة2!$H$2=ورقة1!I1340,ورقة2!$F$2=ورقة1!H1340,ورقة1!G1340=\"ولد\"),1,0)","v":0},{"$f":"IF(B1340=0,\"\",SUM($B$2:B1340))","v":""},{"$f":"IF(AND(ورقة2!$H$2=ورقة1!I1340,ورقة2!$F$2=ورقة1!H1340,ورقة1!G1340=\"بنت\"),1,0)","v":0},{"$f":"IF(D1340=0,\"\",SUM($D$2:D1340))","v":""},null,"بنت",3]
[null,{"$f":"IF(AND(ورقة2!$H$2=ورقة1!I1341,ورقة2!$F$2=ورقة1!H1341,ورقة1!G1341=\"ولد\"),1,0)","v":0},{"$f":"IF(B1341=0,\"\",SUM($B$2:B1341))","v":""},{"$f":"IF(AND(ورقة2!$H$2=ورقة1!I1341,ورقة2!$F$2=ورقة1!H1341,ورقة1!G1341=\"بنت\"),1,0)","v":0},{"$f":"IF(D1341=0,\"\",SUM($D$2:D1341))","v":""},null,"بنت",3]
[null,{"$f":"IF(AND(ورقة2!$H$2=ورقة1!I1342,ورقة2!$F$2=ورقة1!H1342,ورقة1!G1342=\"ولد\"),1,0)","v":0},{"$f":"IF(B1342=0,\"\",SUM($B$2:B1342))","v":""},{"$f":"IF(AND(ورقة2!$H$2=ورقة1!I1342,ورقة2!$F$2=ورقة1!H1342,ورقة1!G1342=\"بنت\"),1,0)","v":0},{"$f":"IF(D1342=0,\"\",SUM($D$2:D1342))","v":""},null,"بنت",3]
[null,{"$f":"IF(AND(ورقة2!$H$2=ورقة1!I1343,ورقة2!$F$2=ورقة1!H1343,ورقة1!G1343=\"ولد\"),1,0)","v":0},{"$f":"IF(B1343=0,\"\",SUM($B$2:B1343))","v":""},{"$f":"IF(AND(ورقة2!$H$2=ورقة1!I1343,ورقة2!$F$2=ورقة1!H1343,ورقة1!G1343=\"بنت\"),1,0)","v":0},{"$f":"IF(D1343=0,\"\",SUM($D$2:D1343))","v":""},null,"بنت",3]
[null,{"$f":"IF(AND(ورقة2!$H$2=ورقة1!I1344,ورقة2!$F$2=ورقة1!H1344,ورقة1!G1344=\"ولد\"),1,0)","v":0},{"$f":"IF(B1344=0,\"\",SUM($B$2:B1344))","v":""},{"$f":"IF(AND(ورقة2!$H$2=ورقة1!I1344,ورقة2!$F$2=ورقة1!H1344,ورقة1!G1344=\"بنت\"),1,0)","v":0},{"$f":"IF(D1344=0,\"\",SUM($D$2:D1344))","v":""},null,"بنت",3]
[null,{"$f":"IF(AND(ورقة2!$H$2=ورقة1!I1345,ورقة2!$F$2=ورقة1!H1345,ورقة1!G1345=\"ولد\"),1,0)","v":0},{"$f":"IF(B1345=0,\"\",SUM($B$2:B1345))","v":""},{"$f":"IF(AND(ورقة2!$H$2=ورقة1!I1345,ورقة2!$F$2=ورقة1!H1345,ورقة1!G1345=\"بنت\"),1,0)","v":0},{"$f":"IF(D1345=0,\"\",SUM($D$2:D1345))","v":""},null,"بنت",3]
[null,{"$f":"IF(AND(ورقة2!$H$2=ورقة1!I1346,ورقة2!$F$2=ورقة1!H1346,ورقة1!G1346=\"ولد\"),1,0)","v":0},{"$f":"IF(B1346=0,\"\",SUM($B$2:B1346))","v":""},{"$f":"IF(AND(ورقة2!$H$2=ورقة1!I1346,ورقة2!$F$2=ورقة1!H1346,ورقة1!G1346=\"بنت\"),1,0)","v":0},{"$f":"IF(D1346=0,\"\",SUM($D$2:D1346))","v":""},null,"بنت",3]
[null,{"$f":"IF(AND(ورقة2!$H$2=ورقة1!I1347,ورقة2!$F$2=ورقة1!H1347,ورقة1!G1347=\"ولد\"),1,0)","v":0},{"$f":"IF(B1347=0,\"\",SUM($B$2:B1347))","v":""},{"$f":"IF(AND(ورقة2!$H$2=ورقة1!I1347,ورقة2!$F$2=ورقة1!H1347,ورقة1!G1347=\"بنت\"),1,0)","v":0},{"$f":"IF(D1347=0,\"\",SUM($D$2:D1347))","v":""},null,"بنت",3]
[null,{"$f":"IF(AND(ورقة2!$H$2=ورقة1!I1348,ورقة2!$F$2=ورقة1!H1348,ورقة1!G1348=\"ولد\"),1,0)","v":0},{"$f":"IF(B1348=0,\"\",SUM($B$2:B1348))","v":""},{"$f":"IF(AND(ورقة2!$H$2=ورقة1!I1348,ورقة2!$F$2=ورقة1!H1348,ورقة1!G1348=\"بنت\"),1,0)","v":0},{"$f":"IF(D1348=0,\"\",SUM($D$2:D1348))","v":""},null,"بنت",3]
[null,{"$f":"IF(AND(ورقة2!$H$2=ورقة1!I1349,ورقة2!$F$2=ورقة1!H1349,ورقة1!G1349=\"ولد\"),1,0)","v":0},{"$f":"IF(B1349=0,\"\",SUM($B$2:B1349))","v":""},{"$f":"IF(AND(ورقة2!$H$2=ورقة1!I1349,ورقة2!$F$2=ورقة1!H1349,ورقة1!G1349=\"بنت\"),1,0)","v":0},{"$f":"IF(D1349=0,\"\",SUM($D$2:D1349))","v":""},null,"بنت",3]
[null,{"$f":"IF(AND(ورقة2!$H$2=ورقة1!I1350,ورقة2!$F$2=ورقة1!H1350,ورقة1!G1350=\"ولد\"),1,0)","v":0},{"$f":"IF(B1350=0,\"\",SUM($B$2:B1350))","v":""},{"$f":"IF(AND(ورقة2!$H$2=ورقة1!I1350,ورقة2!$F$2=ورقة1!H1350,ورقة1!G1350=\"بنت\"),1,0)","v":0},{"$f":"IF(D1350=0,\"\",SUM($D$2:D1350))","v":""},null,"بنت",3]
[null,{"$f":"IF(AND(ورقة2!$H$2=ورقة1!I1351,ورقة2!$F$2=ورقة1!H1351,ورقة1!G1351=\"ولد\"),1,0)","v":0},{"$f":"IF(B1351=0,\"\",SUM($B$2:B1351))","v":""},{"$f":"IF(AND(ورقة2!$H$2=ورقة1!I1351,ورقة2!$F$2=ورقة1!H1351,ورقة1!G1351=\"بنت\"),1,0)","v":0},{"$f":"IF(D1351=0,\"\",SUM($D$2:D1351))","v":""},null,"بنت",3]
[null,{"$f":"IF(AND(ورقة2!$H$2=ورقة1!I1352,ورقة2!$F$2=ورقة1!H1352,ورقة1!G1352=\"ولد\"),1,0)","v":0},{"$f":"IF(B1352=0,\"\",SUM($B$2:B1352))","v":""},{"$f":"IF(AND(ورقة2!$H$2=ورقة1!I1352,ورقة2!$F$2=ورقة1!H1352,ورقة1!G1352=\"بنت\"),1,0)","v":0},{"$f":"IF(D1352=0,\"\",SUM($D$2:D1352))","v":""},null,"بنت",3]
[null,{"$f":"IF(AND(ورقة2!$H$2=ورقة1!I1353,ورقة2!$F$2=ورقة1!H1353,ورقة1!G1353=\"ولد\"),1,0)","v":0},{"$f":"IF(B1353=0,\"\",SUM($B$2:B1353))","v":""},{"$f":"IF(AND(ورقة2!$H$2=ورقة1!I1353,ورقة2!$F$2=ورقة1!H1353,ورقة1!G1353=\"بنت\"),1,0)","v":0},{"$f":"IF(D1353=0,\"\",SUM($D$2:D1353))","v":""},null,"بنت",3]
[null,{"$f":"IF(AND(ورقة2!$H$2=ورقة1!I1354,ورقة2!$F$2=ورقة1!H1354,ورقة1!G1354=\"ولد\"),1,0)","v":0},{"$f":"IF(B1354=0,\"\",SUM($B$2:B1354))","v":""},{"$f":"IF(AND(ورقة2!$H$2=ورقة1!I1354,ورقة2!$F$2=ورقة1!H1354,ورقة1!G1354=\"بنت\"),1,0)","v":0},{"$f":"IF(D1354=0,\"\",SUM($D$2:D1354))","v":""},null,"بنت",3]
[null,{"$f":"IF(AND(ورقة2!$H$2=ورقة1!I1355,ورقة2!$F$2=ورقة1!H1355,ورقة1!G1355=\"ولد\"),1,0)","v":0},{"$f":"IF(B1355=0,\"\",SUM($B$2:B1355))","v":""},{"$f":"IF(AND(ورقة2!$H$2=ورقة1!I1355,ورقة2!$F$2=ورقة1!H1355,ورقة1!G1355=\"بنت\"),1,0)","v":0},{"$f":"IF(D1355=0,\"\",SUM($D$2:D1355))","v":""},null,"بنت",3]
[null,{"$f":"IF(AND(ورقة2!$H$2=ورقة1!I1356,ورقة2!$F$2=ورقة1!H1356,ورقة1!G1356=\"ولد\"),1,0)","v":0},{"$f":"IF(B1356=0,\"\",SUM($B$2:B1356))","v":""},{"$f":"IF(AND(ورقة2!$H$2=ورقة1!I1356,ورقة2!$F$2=ورقة1!H1356,ورقة1!G1356=\"بنت\"),1,0)","v":0},{"$f":"IF(D1356=0,\"\",SUM($D$2:D1356))","v":""},null,"بنت",3]
[null,{"$f":"IF(AND(ورقة2!$H$2=ورقة1!I1357,ورقة2!$F$2=ورقة1!H1357,ورقة1!G1357=\"ولد\"),1,0)","v":0},{"$f":"IF(B1357=0,\"\",SUM($B$2:B1357))","v":""},{"$f":"IF(AND(ورقة2!$H$2=ورقة1!I1357,ورقة2!$F$2=ورقة1!H1357,ورقة1!G1357=\"بنت\"),1,0)","v":0},{"$f":"IF(D1357=0,\"\",SUM($D$2:D1357))","v":""},null,"بنت",3]
[null,{"$f":"IF(AND(ورقة2!$H$2=ورقة1!I1358,ورقة2!$F$2=ورقة1!H1358,ورقة1!G1358=\"ولد\"),1,0)","v":0},{"$f":"IF(B1358=0,\"\",SUM($B$2:B1358))","v":""},{"$f":"IF(AND(ورقة2!$H$2=ورقة1!I1358,ورقة2!$F$2=ورقة1!H1358,ورقة1!G1358=\"بنت\"),1,0)","v":0},{"$f":"IF(D1358=0,\"\",SUM($D$2:D1358))","v":""},null,"بنت",3]
[null,{"$f":"IF(AND(ورقة2!$H$2=ورقة1!I1359,ورقة2!$F$2=ورقة1!H1359,ورقة1!G1359=\"ولد\"),1,0)","v":0},{"$f":"IF(B1359=0,\"\",SUM($B$2:B1359))","v":""},{"$f":"IF(AND(ورقة2!$H$2=ورقة1!I1359,ورقة2!$F$2=ورقة1!H1359,ورقة1!G1359=\"بنت\"),1,0)","v":0},{"$f":"IF(D1359=0,\"\",SUM($D$2:D1359))","v":""},null,"بنت",3]
[null,{"$f":"IF(AND(ورقة2!$H$2=ورقة1!I1360,ورقة2!$F$2=ورقة1!H1360,ورقة1!G1360=\"ولد\"),1,0)","v":0},{"$f":"IF(B1360=0,\"\",SUM($B$2:B1360))","v":""},{"$f":"IF(AND(ورقة2!$H$2=ورقة1!I1360,ورقة2!$F$2=ورقة1!H1360,ورقة1!G1360=\"بنت\"),1,0)","v":0},{"$f":"IF(D1360=0,\"\",SUM($D$2:D1360))","v":""},null,"بنت",3]
[null,{"$f":"IF(AND(ورقة2!$H$2=ورقة1!I1361,ورقة2!$F$2=ورقة1!H1361,ورقة1!G1361=\"ولد\"),1,0)","v":0},{"$f":"IF(B1361=0,\"\",SUM($B$2:B1361))","v":""},{"$f":"IF(AND(ورقة2!$H$2=ورقة1!I1361,ورقة2!$F$2=ورقة1!H1361,ورقة1!G1361=\"بنت\"),1,0)","v":0},{"$f":"IF(D1361=0,\"\",SUM($D$2:D1361))","v":""},null,"بنت",3]
[null,{"$f":"IF(AND(ورقة2!$H$2=ورقة1!I1362,ورقة2!$F$2=ورقة1!H1362,ورقة1!G1362=\"ولد\"),1,0)","v":0},{"$f":"IF(B1362=0,\"\",SUM($B$2:B1362))","v":""},{"$f":"IF(AND(ورقة2!$H$2=ورقة1!I1362,ورقة2!$F$2=ورقة1!H1362,ورقة1!G1362=\"بنت\"),1,0)","v":0},{"$f":"IF(D1362=0,\"\",SUM($D$2:D1362))","v":""},null,"بنت",3]
[null,{"$f":"IF(AND(ورقة2!$H$2=ورقة1!I1363,ورقة2!$F$2=ورقة1!H1363,ورقة1!G1363=\"ولد\"),1,0)","v":0},{"$f":"IF(B1363=0,\"\",SUM($B$2:B1363))","v":""},{"$f":"IF(AND(ورقة2!$H$2=ورقة1!I1363,ورقة2!$F$2=ورقة1!H1363,ورقة1!G1363=\"بنت\"),1,0)","v":0},{"$f":"IF(D1363=0,\"\",SUM($D$2:D1363))","v":""},null,"بنت",3]
[null,{"$f":"IF(AND(ورقة2!$H$2=ورقة1!I1364,ورقة2!$F$2=ورقة1!H1364,ورقة1!G1364=\"ولد\"),1,0)","v":0},{"$f":"IF(B1364=0,\"\",SUM($B$2:B1364))","v":""},{"$f":"IF(AND(ورقة2!$H$2=ورقة1!I1364,ورقة2!$F$2=ورقة1!H1364,ورقة1!G1364=\"بنت\"),1,0)","v":0},{"$f":"IF(D1364=0,\"\",SUM($D$2:D1364))","v":""},null,"بنت",3]
[null,{"$f":"IF(AND(ورقة2!$H$2=ورقة1!I1365,ورقة2!$F$2=ورقة1!H1365,ورقة1!G1365=\"ولد\"),1,0)","v":0},{"$f":"IF(B1365=0,\"\",SUM($B$2:B1365))","v":""},{"$f":"IF(AND(ورقة2!$H$2=ورقة1!I1365,ورقة2!$F$2=ورقة1!H1365,ورقة1!G1365=\"بنت\"),1,0)","v":0},{"$f":"IF(D1365=0,\"\",SUM($D$2:D1365))","v":""},null,"بنت",3]
[null,{"$f":"IF(AND(ورقة2!$H$2=ورقة1!I1366,ورقة2!$F$2=ورقة1!H1366,ورقة1!G1366=\"ولد\"),1,0)","v":0},{"$f":"IF(B1366=0,\"\",SUM($B$2:B1366))","v":""},{"$f":"IF(AND(ورقة2!$H$2=ورقة1!I1366,ورقة2!$F$2=ورقة1!H1366,ورقة1!G1366=\"بنت\"),1,0)","v":0},{"$f":"IF(D1366=0,\"\",SUM($D$2:D1366))","v":""},null,"بنت",3]
[null,{"$f":"IF(AND(ورقة2!$H$2=ورقة1!I1367,ورقة2!$F$2=ورقة1!H1367,ورقة1!G1367=\"ولد\"),1,0)","v":0},{"$f":"IF(B1367=0,\"\",SUM($B$2:B1367))","v":""},{"$f":"IF(AND(ورقة2!$H$2=ورقة1!I1367,ورقة2!$F$2=ورقة1!H1367,ورقة1!G1367=\"بنت\"),1,0)","v":0},{"$f":"IF(D1367=0,\"\",SUM($D$2:D1367))","v":""},null,"بنت",3]
[null,{"$f":"IF(AND(ورقة2!$H$2=ورقة1!I1368,ورقة2!$F$2=ورقة1!H1368,ورقة1!G1368=\"ولد\"),1,0)","v":0},{"$f":"IF(B1368=0,\"\",SUM($B$2:B1368))","v":""},{"$f":"IF(AND(ورقة2!$H$2=ورقة1!I1368,ورقة2!$F$2=ورقة1!H1368,ورقة1!G1368=\"بنت\"),1,0)","v":0},{"$f":"IF(D1368=0,\"\",SUM($D$2:D1368))","v":""},null,"بنت",3]
[null,{"$f":"IF(AND(ورقة2!$H$2=ورقة1!I1369,ورقة2!$F$2=ورقة1!H1369,ورقة1!G1369=\"ولد\"),1,0)","v":0},{"$f":"IF(B1369=0,\"\",SUM($B$2:B1369))","v":""},{"$f":"IF(AND(ورقة2!$H$2=ورقة1!I1369,ورقة2!$F$2=ورقة1!H1369,ورقة1!G1369=\"بنت\"),1,0)","v":0},{"$f":"IF(D1369=0,\"\",SUM($D$2:D1369))","v":""},null,"بنت",3]
[null,{"$f":"IF(AND(ورقة2!$H$2=ورقة1!I1370,ورقة2!$F$2=ورقة1!H1370,ورقة1!G1370=\"ولد\"),1,0)","v":0},{"$f":"IF(B1370=0,\"\",SUM($B$2:B1370))","v":""},{"$f":"IF(AND(ورقة2!$H$2=ورقة1!I1370,ورقة2!$F$2=ورقة1!H1370,ورقة1!G1370=\"بنت\"),1,0)","v":0},{"$f":"IF(D1370=0,\"\",SUM($D$2:D1370))","v":""},null,"بنت",3]
[null,{"$f":"IF(AND(ورقة2!$H$2=ورقة1!I1371,ورقة2!$F$2=ورقة1!H1371,ورقة1!G1371=\"ولد\"),1,0)","v":0},{"$f":"IF(B1371=0,\"\",SUM($B$2:B1371))","v":""},{"$f":"IF(AND(ورقة2!$H$2=ورقة1!I1371,ورقة2!$F$2=ورقة1!H1371,ورقة1!G1371=\"بنت\"),1,0)","v":0},{"$f":"IF(D1371=0,\"\",SUM($D$2:D1371))","v":""},null,"بنت",3]
[null,{"$f":"IF(AND(ورقة2!$H$2=ورقة1!I1372,ورقة2!$F$2=ورقة1!H1372,ورقة1!G1372=\"ولد\"),1,0)","v":0},{"$f":"IF(B1372=0,\"\",SUM($B$2:B1372))","v":""},{"$f":"IF(AND(ورقة2!$H$2=ورقة1!I1372,ورقة2!$F$2=ورقة1!H1372,ورقة1!G1372=\"بنت\"),1,0)","v":0},{"$f":"IF(D1372=0,\"\",SUM($D$2:D1372))","v":""},null,"بنت",3]
[null,{"$f":"IF(AND(ورقة2!$H$2=ورقة1!I1373,ورقة2!$F$2=ورقة1!H1373,ورقة1!G1373=\"ولد\"),1,0)","v":0},{"$f":"IF(B1373=0,\"\",SUM($B$2:B1373))","v":""},{"$f":"IF(AND(ورقة2!$H$2=ورقة1!I1373,ورقة2!$F$2=ورقة1!H1373,ورقة1!G1373=\"بنت\"),1,0)","v":0},{"$f":"IF(D1373=0,\"\",SUM($D$2:D1373))","v":""},null,"بنت",3]
[null,{"$f":"IF(AND(ورقة2!$H$2=ورقة1!I1374,ورقة2!$F$2=ورقة1!H1374,ورقة1!G1374=\"ولد\"),1,0)","v":0},{"$f":"IF(B1374=0,\"\",SUM($B$2:B1374))","v":""},{"$f":"IF(AND(ورقة2!$H$2=ورقة1!I1374,ورقة2!$F$2=ورقة1!H1374,ورقة1!G1374=\"بنت\"),1,0)","v":0},{"$f":"IF(D1374=0,\"\",SUM($D$2:D1374))","v":""},null,"بنت",3]
[null,{"$f":"IF(AND(ورقة2!$H$2=ورقة1!I1375,ورقة2!$F$2=ورقة1!H1375,ورقة1!G1375=\"ولد\"),1,0)","v":0},{"$f":"IF(B1375=0,\"\",SUM($B$2:B1375))","v":""},{"$f":"IF(AND(ورقة2!$H$2=ورقة1!I1375,ورقة2!$F$2=ورقة1!H1375,ورقة1!G1375=\"بنت\"),1,0)","v":0},{"$f":"IF(D1375=0,\"\",SUM($D$2:D1375))","v":""},null,"بنت",3]
[null,{"$f":"IF(AND(ورقة2!$H$2=ورقة1!I1376,ورقة2!$F$2=ورقة1!H1376,ورقة1!G1376=\"ولد\"),1,0)","v":0},{"$f":"IF(B1376=0,\"\",SUM($B$2:B1376))","v":""},{"$f":"IF(AND(ورقة2!$H$2=ورقة1!I1376,ورقة2!$F$2=ورقة1!H1376,ورقة1!G1376=\"بنت\"),1,0)","v":0},{"$f":"IF(D1376=0,\"\",SUM($D$2:D1376))","v":""},null,"بنت",3]
[null,{"$f":"IF(AND(ورقة2!$H$2=ورقة1!I1377,ورقة2!$F$2=ورقة1!H1377,ورقة1!G1377=\"ولد\"),1,0)","v":0},{"$f":"IF(B1377=0,\"\",SUM($B$2:B1377))","v":""},{"$f":"IF(AND(ورقة2!$H$2=ورقة1!I1377,ورقة2!$F$2=ورقة1!H1377,ورقة1!G1377=\"بنت\"),1,0)","v":0},{"$f":"IF(D1377=0,\"\",SUM($D$2:D1377))","v":""},null,"بنت",3]
[null,{"$f":"IF(AND(ورقة2!$H$2=ورقة1!I1378,ورقة2!$F$2=ورقة1!H1378,ورقة1!G1378=\"ولد\"),1,0)","v":0},{"$f":"IF(B1378=0,\"\",SUM($B$2:B1378))","v":""},{"$f":"IF(AND(ورقة2!$H$2=ورقة1!I1378,ورقة2!$F$2=ورقة1!H1378,ورقة1!G1378=\"بنت\"),1,0)","v":0},{"$f":"IF(D1378=0,\"\",SUM($D$2:D1378))","v":""},null,"بنت",3]
[null,{"$f":"IF(AND(ورقة2!$H$2=ورقة1!I1379,ورقة2!$F$2=ورقة1!H1379,ورقة1!G1379=\"ولد\"),1,0)","v":0},{"$f":"IF(B1379=0,\"\",SUM($B$2:B1379))","v":""},{"$f":"IF(AND(ورقة2!$H$2=ورقة1!I1379,ورقة2!$F$2=ورقة1!H1379,ورقة1!G1379=\"بنت\"),1,0)","v":0},{"$f":"IF(D1379=0,\"\",SUM($D$2:D1379))","v":""},null,"بنت",3]
[null,{"$f":"IF(AND(ورقة2!$H$2=ورقة1!I1380,ورقة2!$F$2=ورقة1!H1380,ورقة1!G1380=\"ولد\"),1,0)","v":0},{"$f":"IF(B1380=0,\"\",SUM($B$2:B1380))","v":""},{"$f":"IF(AND(ورقة2!$H$2=ورقة1!I1380,ورقة2!$F$2=ورقة1!H1380,ورقة1!G1380=\"بنت\"),1,0)","v":0},{"$f":"IF(D1380=0,\"\",SUM($D$2:D1380))","v":""},null,"بنت",3]
[null,{"$f":"IF(AND(ورقة2!$H$2=ورقة1!I1381,ورقة2!$F$2=ورقة1!H1381,ورقة1!G1381=\"ولد\"),1,0)","v":0},{"$f":"IF(B1381=0,\"\",SUM($B$2:B1381))","v":""},{"$f":"IF(AND(ورقة2!$H$2=ورقة1!I1381,ورقة2!$F$2=ورقة1!H1381,ورقة1!G1381=\"بنت\"),1,0)","v":0},{"$f":"IF(D1381=0,\"\",SUM($D$2:D1381))","v":""},null,"بنت",3]
[null,{"$f":"IF(AND(ورقة2!$H$2=ورقة1!I1382,ورقة2!$F$2=ورقة1!H1382,ورقة1!G1382=\"ولد\"),1,0)","v":0},{"$f":"IF(B1382=0,\"\",SUM($B$2:B1382))","v":""},{"$f":"IF(AND(ورقة2!$H$2=ورقة1!I1382,ورقة2!$F$2=ورقة1!H1382,ورقة1!G1382=\"بنت\"),1,0)","v":0},{"$f":"IF(D1382=0,\"\",SUM($D$2:D1382))","v":""},null,"بنت",3]
[null,{"$f":"IF(AND(ورقة2!$H$2=ورقة1!I1383,ورقة2!$F$2=ورقة1!H1383,ورقة1!G1383=\"ولد\"),1,0)","v":0},{"$f":"IF(B1383=0,\"\",SUM($B$2:B1383))","v":""},{"$f":"IF(AND(ورقة2!$H$2=ورقة1!I1383,ورقة2!$F$2=ورقة1!H1383,ورقة1!G1383=\"بنت\"),1,0)","v":0},{"$f":"IF(D1383=0,\"\",SUM($D$2:D1383))","v":""},null,"بنت",3]
[null,{"$f":"IF(AND(ورقة2!$H$2=ورقة1!I1384,ورقة2!$F$2=ورقة1!H1384,ورقة1!G1384=\"ولد\"),1,0)","v":0},{"$f":"IF(B1384=0,\"\",SUM($B$2:B1384))","v":""},{"$f":"IF(AND(ورقة2!$H$2=ورقة1!I1384,ورقة2!$F$2=ورقة1!H1384,ورقة1!G1384=\"بنت\"),1,0)","v":0},{"$f":"IF(D1384=0,\"\",SUM($D$2:D1384))","v":""},null,"بنت",3]
[null,{"$f":"IF(AND(ورقة2!$H$2=ورقة1!I1385,ورقة2!$F$2=ورقة1!H1385,ورقة1!G1385=\"ولد\"),1,0)","v":0},{"$f":"IF(B1385=0,\"\",SUM($B$2:B1385))","v":""},{"$f":"IF(AND(ورقة2!$H$2=ورقة1!I1385,ورقة2!$F$2=ورقة1!H1385,ورقة1!G1385=\"بنت\"),1,0)","v":0},{"$f":"IF(D1385=0,\"\",SUM($D$2:D1385))","v":""},null,"بنت",3]
[null,{"$f":"IF(AND(ورقة2!$H$2=ورقة1!I1386,ورقة2!$F$2=ورقة1!H1386,ورقة1!G1386=\"ولد\"),1,0)","v":0},{"$f":"IF(B1386=0,\"\",SUM($B$2:B1386))","v":""},{"$f":"IF(AND(ورقة2!$H$2=ورقة1!I1386,ورقة2!$F$2=ورقة1!H1386,ورقة1!G1386=\"بنت\"),1,0)","v":0},{"$f":"IF(D1386=0,\"\",SUM($D$2:D1386))","v":""},null,"بنت",3]
[null,{"$f":"IF(AND(ورقة2!$H$2=ورقة1!I1387,ورقة2!$F$2=ورقة1!H1387,ورقة1!G1387=\"ولد\"),1,0)","v":0},{"$f":"IF(B1387=0,\"\",SUM($B$2:B1387))","v":""},{"$f":"IF(AND(ورقة2!$H$2=ورقة1!I1387,ورقة2!$F$2=ورقة1!H1387,ورقة1!G1387=\"بنت\"),1,0)","v":0},{"$f":"IF(D1387=0,\"\",SUM($D$2:D1387))","v":""},null,"بنت",3]
[null,{"$f":"IF(AND(ورقة2!$H$2=ورقة1!I1388,ورقة2!$F$2=ورقة1!H1388,ورقة1!G1388=\"ولد\"),1,0)","v":0},{"$f":"IF(B1388=0,\"\",SUM($B$2:B1388))","v":""},{"$f":"IF(AND(ورقة2!$H$2=ورقة1!I1388,ورقة2!$F$2=ورقة1!H1388,ورقة1!G1388=\"بنت\"),1,0)","v":0},{"$f":"IF(D1388=0,\"\",SUM($D$2:D1388))","v":""},null,"بنت",3]
[null,{"$f":"IF(AND(ورقة2!$H$2=ورقة1!I1389,ورقة2!$F$2=ورقة1!H1389,ورقة1!G1389=\"ولد\"),1,0)","v":0},{"$f":"IF(B1389=0,\"\",SUM($B$2:B1389))","v":""},{"$f":"IF(AND(ورقة2!$H$2=ورقة1!I1389,ورقة2!$F$2=ورقة1!H1389,ورقة1!G1389=\"بنت\"),1,0)","v":0},{"$f":"IF(D1389=0,\"\",SUM($D$2:D1389))","v":""},null,"بنت",3]
[null,{"$f":"IF(AND(ورقة2!$H$2=ورقة1!I1390,ورقة2!$F$2=ورقة1!H1390,ورقة1!G1390=\"ولد\"),1,0)","v":0},{"$f":"IF(B1390=0,\"\",SUM($B$2:B1390))","v":""},{"$f":"IF(AND(ورقة2!$H$2=ورقة1!I1390,ورقة2!$F$2=ورقة1!H1390,ورقة1!G1390=\"بنت\"),1,0)","v":0},{"$f":"IF(D1390=0,\"\",SUM($D$2:D1390))","v":""},null,"بنت",3]
[null,{"$f":"IF(AND(ورقة2!$H$2=ورقة1!I1391,ورقة2!$F$2=ورقة1!H1391,ورقة1!G1391=\"ولد\"),1,0)","v":0},{"$f":"IF(B1391=0,\"\",SUM($B$2:B1391))","v":""},{"$f":"IF(AND(ورقة2!$H$2=ورقة1!I1391,ورقة2!$F$2=ورقة1!H1391,ورقة1!G1391=\"بنت\"),1,0)","v":0},{"$f":"IF(D1391=0,\"\",SUM($D$2:D1391))","v":""},null,"بنت",3]
[null,{"$f":"IF(AND(ورقة2!$H$2=ورقة1!I1392,ورقة2!$F$2=ورقة1!H1392,ورقة1!G1392=\"ولد\"),1,0)","v":0},{"$f":"IF(B1392=0,\"\",SUM($B$2:B1392))","v":""},{"$f":"IF(AND(ورقة2!$H$2=ورقة1!I1392,ورقة2!$F$2=ورقة1!H1392,ورقة1!G1392=\"بنت\"),1,0)","v":0},{"$f":"IF(D1392=0,\"\",SUM($D$2:D1392))","v":""},null,"بنت",3]
[null,{"$f":"IF(AND(ورقة2!$H$2=ورقة1!I1393,ورقة2!$F$2=ورقة1!H1393,ورقة1!G1393=\"ولد\"),1,0)","v":0},{"$f":"IF(B1393=0,\"\",SUM($B$2:B1393))","v":""},{"$f":"IF(AND(ورقة2!$H$2=ورقة1!I1393,ورقة2!$F$2=ورقة1!H1393,ورقة1!G1393=\"بنت\"),1,0)","v":0},{"$f":"IF(D1393=0,\"\",SUM($D$2:D1393))","v":""},null,"بنت",3]
[null,{"$f":"IF(AND(ورقة2!$H$2=ورقة1!I1394,ورقة2!$F$2=ورقة1!H1394,ورقة1!G1394=\"ولد\"),1,0)","v":0},{"$f":"IF(B1394=0,\"\",SUM($B$2:B1394))","v":""},{"$f":"IF(AND(ورقة2!$H$2=ورقة1!I1394,ورقة2!$F$2=ورقة1!H1394,ورقة1!G1394=\"بنت\"),1,0)","v":0},{"$f":"IF(D1394=0,\"\",SUM($D$2:D1394))","v":""},null,"بنت",3]
[null,{"$f":"IF(AND(ورقة2!$H$2=ورقة1!I1395,ورقة2!$F$2=ورقة1!H1395,ورقة1!G1395=\"ولد\"),1,0)","v":0},{"$f":"IF(B1395=0,\"\",SUM($B$2:B1395))","v":""},{"$f":"IF(AND(ورقة2!$H$2=ورقة1!I1395,ورقة2!$F$2=ورقة1!H1395,ورقة1!G1395=\"بنت\"),1,0)","v":0},{"$f":"IF(D1395=0,\"\",SUM($D$2:D1395))","v":""},null,"بنت",3]
[null,{"$f":"IF(AND(ورقة2!$H$2=ورقة1!I1396,ورقة2!$F$2=ورقة1!H1396,ورقة1!G1396=\"ولد\"),1,0)","v":0},{"$f":"IF(B1396=0,\"\",SUM($B$2:B1396))","v":""},{"$f":"IF(AND(ورقة2!$H$2=ورقة1!I1396,ورقة2!$F$2=ورقة1!H1396,ورقة1!G1396=\"بنت\"),1,0)","v":0},{"$f":"IF(D1396=0,\"\",SUM($D$2:D1396))","v":""},null,"بنت",3]
[null,{"$f":"IF(AND(ورقة2!$H$2=ورقة1!I1397,ورقة2!$F$2=ورقة1!H1397,ورقة1!G1397=\"ولد\"),1,0)","v":0},{"$f":"IF(B1397=0,\"\",SUM($B$2:B1397))","v":""},{"$f":"IF(AND(ورقة2!$H$2=ورقة1!I1397,ورقة2!$F$2=ورقة1!H1397,ورقة1!G1397=\"بنت\"),1,0)","v":0},{"$f":"IF(D1397=0,\"\",SUM($D$2:D1397))","v":""},null,"بنت",3]
[null,{"$f":"IF(AND(ورقة2!$H$2=ورقة1!I1398,ورقة2!$F$2=ورقة1!H1398,ورقة1!G1398=\"ولد\"),1,0)","v":0},{"$f":"IF(B1398=0,\"\",SUM($B$2:B1398))","v":""},{"$f":"IF(AND(ورقة2!$H$2=ورقة1!I1398,ورقة2!$F$2=ورقة1!H1398,ورقة1!G1398=\"بنت\"),1,0)","v":0},{"$f":"IF(D1398=0,\"\",SUM($D$2:D1398))","v":""},null,"بنت",3]
[null,{"$f":"IF(AND(ورقة2!$H$2=ورقة1!I1399,ورقة2!$F$2=ورقة1!H1399,ورقة1!G1399=\"ولد\"),1,0)","v":0},{"$f":"IF(B1399=0,\"\",SUM($B$2:B1399))","v":""},{"$f":"IF(AND(ورقة2!$H$2=ورقة1!I1399,ورقة2!$F$2=ورقة1!H1399,ورقة1!G1399=\"بنت\"),1,0)","v":0},{"$f":"IF(D1399=0,\"\",SUM($D$2:D1399))","v":""},null,"بنت",3]
[null,{"$f":"IF(AND(ورقة2!$H$2=ورقة1!I1400,ورقة2!$F$2=ورقة1!H1400,ورقة1!G1400=\"ولد\"),1,0)","v":0},{"$f":"IF(B1400=0,\"\",SUM($B$2:B1400))","v":""},{"$f":"IF(AND(ورقة2!$H$2=ورقة1!I1400,ورقة2!$F$2=ورقة1!H1400,ورقة1!G1400=\"بنت\"),1,0)","v":0},{"$f":"IF(D1400=0,\"\",SUM($D$2:D1400))","v":""},null,"بنت",3]
[null,{"$f":"IF(AND(ورقة2!$H$2=ورقة1!I1401,ورقة2!$F$2=ورقة1!H1401,ورقة1!G1401=\"ولد\"),1,0)","v":0},{"$f":"IF(B1401=0,\"\",SUM($B$2:B1401))","v":""},{"$f":"IF(AND(ورقة2!$H$2=ورقة1!I1401,ورقة2!$F$2=ورقة1!H1401,ورقة1!G1401=\"بنت\"),1,0)","v":0},{"$f":"IF(D1401=0,\"\",SUM($D$2:D1401))","v":""},null,"بنت",3]
[null,{"$f":"IF(AND(ورقة2!$H$2=ورقة1!I1402,ورقة2!$F$2=ورقة1!H1402,ورقة1!G1402=\"ولد\"),1,0)","v":0},{"$f":"IF(B1402=0,\"\",SUM($B$2:B1402))","v":""},{"$f":"IF(AND(ورقة2!$H$2=ورقة1!I1402,ورقة2!$F$2=ورقة1!H1402,ورقة1!G1402=\"بنت\"),1,0)","v":0},{"$f":"IF(D1402=0,\"\",SUM($D$2:D1402))","v":""},null,"بنت",3]
[null,{"$f":"IF(AND(ورقة2!$H$2=ورقة1!I1403,ورقة2!$F$2=ورقة1!H1403,ورقة1!G1403=\"ولد\"),1,0)","v":0},{"$f":"IF(B1403=0,\"\",SUM($B$2:B1403))","v":""},{"$f":"IF(AND(ورقة2!$H$2=ورقة1!I1403,ورقة2!$F$2=ورقة1!H1403,ورقة1!G1403=\"بنت\"),1,0)","v":0},{"$f":"IF(D1403=0,\"\",SUM($D$2:D1403))","v":""},null,"بنت",3]
[null,{"$f":"IF(AND(ورقة2!$H$2=ورقة1!I1404,ورقة2!$F$2=ورقة1!H1404,ورقة1!G1404=\"ولد\"),1,0)","v":0},{"$f":"IF(B1404=0,\"\",SUM($B$2:B1404))","v":""},{"$f":"IF(AND(ورقة2!$H$2=ورقة1!I1404,ورقة2!$F$2=ورقة1!H1404,ورقة1!G1404=\"بنت\"),1,0)","v":0},{"$f":"IF(D1404=0,\"\",SUM($D$2:D1404))","v":""},null,"بنت",3]
[null,{"$f":"IF(AND(ورقة2!$H$2=ورقة1!I1405,ورقة2!$F$2=ورقة1!H1405,ورقة1!G1405=\"ولد\"),1,0)","v":0},{"$f":"IF(B1405=0,\"\",SUM($B$2:B1405))","v":""},{"$f":"IF(AND(ورقة2!$H$2=ورقة1!I1405,ورقة2!$F$2=ورقة1!H1405,ورقة1!G1405=\"بنت\"),1,0)","v":0},{"$f":"IF(D1405=0,\"\",SUM($D$2:D1405))","v":""},null,"بنت",3]
[null,{"$f":"IF(AND(ورقة2!$H$2=ورقة1!I1406,ورقة2!$F$2=ورقة1!H1406,ورقة1!G1406=\"ولد\"),1,0)","v":0},{"$f":"IF(B1406=0,\"\",SUM($B$2:B1406))","v":""},{"$f":"IF(AND(ورقة2!$H$2=ورقة1!I1406,ورقة2!$F$2=ورقة1!H1406,ورقة1!G1406=\"بنت\"),1,0)","v":0},{"$f":"IF(D1406=0,\"\",SUM($D$2:D1406))","v":""},null,"بنت",3]
[null,{"$f":"IF(AND(ورقة2!$H$2=ورقة1!I1407,ورقة2!$F$2=ورقة1!H1407,ورقة1!G1407=\"ولد\"),1,0)","v":0},{"$f":"IF(B1407=0,\"\",SUM($B$2:B1407))","v":""},{"$f":"IF(AND(ورقة2!$H$2=ورقة1!I1407,ورقة2!$F$2=ورقة1!H1407,ورقة1!G1407=\"بنت\"),1,0)","v":0},{"$f":"IF(D1407=0,\"\",SUM($D$2:D1407))","v":""},null,"بنت",3]

{"sheet":"ورقة2","index":1,"n_rows":59,"n_cols":10,"rows_kept":59,"cut":false,"hidden":false,"merged":[[0,4,1,4]]}
[null,null,null,null,{"$f":"\"قائمة فصل\"&\" \" &F2&\" \"&\"/\"&\" \"&H2","v":"قائمة فصل 3 / 4"}]
[null,null,null,null,null,3,"ــــ",4]
[null,"م","الاســــــــــــــــــــــــــــــــــــــــــــــــــــــم","م",{"$f":"C3","v":"الاســــــــــــــــــــــــــــــــــــــــــــــــــــــم"}]
[1,{"$f":"IF(C4=\"\",\"\",SUBTOTAL(3,$C$4:C4))","v":1},{"$f":"IFERROR(VLOOKUP(A4,ورقة1!$C$2:$F$3029,4,0),\"\")","v":"حسنى اكمل حسنى محمد فريد حشيش"},{"$f":"IF(C4=\"\",\"\",MAX($B$4:$B$35)+1)","v":33},{"$f":"IFERROR(VLOOKUP(A4,ورقة1!$E$2:$F$3029,2,0),\"\")","v":"بسملة محمد عبد المجيد عبد الجواد المستكاوى"}]
[2,{"$f":"IF(C5=\"\",\"\",SUBTOTAL(3,$C$4:C5))","v":2},{"$f":"IFERROR(VLOOKUP(A5,ورقة1!$C$2:$F$3029,4,0),\"\")","v":"على عماد على محمد على دومة"},{"$f":"IF(E5=\"\",\"\",D4+1)","v":34},{"$f":"IFERROR(VLOOKUP(A5,ورقة1!$E$2:$F$3029,2,0),\"\")","v":"جنا محمود عبدالمنعم زكى المستكاوى"}]
[3,{"$f":"IF(C6=\"\",\"\",SUBTOTAL(3,$C$4:C6))","v":3},{"$f":"IFERROR(VLOOKUP(A6,ورقة1!$C$2:$F$3029,4,0),\"\")","v":"كريم طه محمد امام عسكر"},{"$f":"IF(E6=\"\",\"\",D5+1)","v":35},{"$f":"IFERROR(VLOOKUP(A6,ورقة1!$E$2:$F$3029,2,0),\"\")","v":"مريم ادهم محمد محمد محمد سليمان"}]
[4,{"$f":"IF(C7=\"\",\"\",SUBTOTAL(3,$C$4:C7))","v":4},{"$f":"IFERROR(VLOOKUP(A7,ورقة1!$C$2:$F$3029,4,0),\"\")","v":"كريم هانى فاروق حسن احمد"},36,{"$f":"IFERROR(VLOOKUP(A7,ورقة1!$E$2:$F$3029,2,0),\"\")","v":"مريم اسلام عبد الجواد عليوة عبد الجواد"}]
[5,{"$f":"IF(C8=\"\",\"\",SUBTOTAL(3,$C$4:C8))","v":5},{"$f":"IFERROR(VLOOKUP(A8,ورقة1!$C$2:$F$3029,4,0),\"\")","v":"كريم وليد امين سعيد امين هاشم"},37,{"$f":"IFERROR(VLOOKUP(A8,ورقة1!$E$2:$F$3029,2,0),\"\")","v":"مريم سامح عفيفى محمد احمد عيد"}]
[6,{"$f":"IF(C9=\"\",\"\",SUBTOTAL(3,$C$4:C9))","v":6},{"$f":"IFERROR(VLOOKUP(A9,ورقة1!$C$2:$F$3029,4,0),\"\")","v":"كمال محمد كامل طه احمد عامر"},38,{"$f":"IFERROR(VLOOKUP(A9,ورقة1!$E$2:$F$3029,2,0),\"\")","v":"مريم صلاح محمد عبدالله محمد"}]
[7,{"$f":"IF(C10=\"\",\"\",SUBTOTAL(3,$C$4:C10))","v":7},{"$f":"IFERROR(VLOOKUP(A10,ورقة1!$C$2:$F$3029,4,0),\"\")","v":"مامون احمد مامون احمد ابراهيم العرضى"},39,{"$f":"IFERROR(VLOOKUP(A10,ورقة1!$E$2:$F$3029,2,0),\"\")","v":"مريم محمد عبد المنعم احمد كردى"}]
[8,{"$f":"IF(C11=\"\",\"\",SUBTOTAL(3,$C$4:C11))","v":8},{"$f":"IFERROR(VLOOKUP(A11,ورقة1!$C$2:$F$3029,4,0),\"\")","v":"محمد احمد فوزى مطهر السعيد"},40,{"$f":"IFERROR(VLOOKUP(A11,ورقة1!$E$2:$F$3029,2,0),\"\")","v":"مريم منصور عبدالمنعم احمد جاد منصور"}]
[9,{"$f":"IF(C12=\"\",\"\",SUBTOTAL(3,$C$4:C12))","v":9},{"$f":"IFERROR(VLOOKUP(A12,ورقة1!$C$2:$F$3029,4,0),\"\")","v":"محمد اسلام السيد السعيد مصطفى"},41,{"$f":"IFERROR(VLOOKUP(A12,ورقة1!$E$2:$F$3029,2,0),\"\")","v":"ملك احمد بدوى مكى محمد صالح"}]
[10,{"$f":"IF(C13=\"\",\"\",SUBTOTAL(3,$C$4:C13))","v":10},{"$f":"IFERROR(VLOOKUP(A13,ورقة1!$C$2:$F$3029,4,0),\"\")","v":"محمد اشرف عمرو عطا محمد"},42,{"$f":"IFERROR(VLOOKUP(A13,ورقة1!$E$2:$F$3029,2,0),\"\")","v":"ملك حماده عبدالرحمن عبدالمعطى"}]
[11,{"$f":"IF(C14=\"\",\"\",SUBTOTAL(3,$C$4:C14))","v":11},{"$f":"IFERROR(VLOOKUP(A14,ورقة1!$C$2:$F$3029,4,0),\"\")","v":"محمد اشرف محمد محمود قدوسة"},43,{"$f":"IFERROR(VLOOKUP(A14,ورقة1!$E$2:$F$3029,2,0),\"\")","v":"ملك سامح الصياد محمد الصياد حلوة"}]
[12,{"$f":"IF(C15=\"\",\"\",SUBTOTAL(3,$C$4:C15))","v":12},{"$f":"IFERROR(VLOOKUP(A15,ورقة1!$C$2:$F$3029,4,0),\"\")","v":"محمد السعيد محمد سعيد المستكاوى"},44,{"$f":"IFERROR(VLOOKUP(A15,ورقة1!$E$2:$F$3029,2,0),\"\")","v":"ملك سامح محمد معاز حسين"}]
[13,{"$f":"IF(C16=\"\",\"\",SUBTOTAL(3,$C$4:C16))","v":13},{"$f":"IFERROR(VLOOKUP(A16,ورقة1!$C$2:$F$3029,4,0),\"\")","v":"محمد السيد على السيد حلوة"},45,{"$f":"IFERROR(VLOOKUP(A16,ورقة1!$E$2:$F$3029,2,0),\"\")","v":"ملك شريف محمد رفاعى ابراهيم"}]
[14,{"$f":"IF(C17=\"\",\"\",SUBTOTAL(3,$C$4:C17))","v":14},{"$f":"IFERROR(VLOOKUP(A17,ورقة1!$C$2:$F$3029,4,0),\"\")","v":"محمد ايهاب جمال عبد المعز شافعى"},46,{"$f":"IFERROR(VLOOKUP(A17,ورقة1!$E$2:$F$3029,2,0),\"\")","v":"ملك عبد الفتاح عبد اللطيف عبد الفتاح الصوابى"}]
[15,{"$f":"IF(C18=\"\",\"\",SUBTOTAL(3,$C$4:C18))","v":15},{"$f":"IFERROR(VLOOKUP(A18,ورقة1!$C$2:$F$3029,4,0),\"\")","v":"محمد ايهاب طه سعيد امام"},47,{"$f":"IFERROR(VLOOKUP(A18,ورقة1!$E$2:$F$3029,2,0),\"\")","v":"ملك محمد سعد محمد ضرار"}]
[16,{"$f":"IF(C19=\"\",\"\",SUBTOTAL(3,$C$4:C19))","v":16},{"$f":"IFERROR(VLOOKUP(A19,ورقة1!$C$2:$F$3029,4,0),\"\")","v":"محمد تامر سمير هلول رمضان شلبى"},48,{"$f":"IFERROR(VLOOKUP(A19,ورقة1!$E$2:$F$3029,2,0),\"\")","v":"ملك محمد نجيب رزق طه نجيب"}]
[17,{"$f":"IF(C20=\"\",\"\",SUBTOTAL(3,$C$4:C20))","v":17},{"$f":"IFERROR(VLOOKUP(A20,ورقة1!$C$2:$F$3029,4,0),\"\")","v":"محمد جابر محمد محمد سليمان زيدان"},49,{"$f":"IFERROR(VLOOKUP(A20,ورقة1!$E$2:$F$3029,2,0),\"\")","v":"ملك مصلح محمد الهادى احمد السيد"}]
[18,{"$f":"IF(C21=\"\",\"\",SUBTOTAL(3,$C$4:C21))","v":18},{"$f":"IFERROR(VLOOKUP(A21,ورقة1!$C$2:$F$3029,4,0),\"\")","v":"محمد حازم سعيد عبد الحى محمد سليمان"},50,{"$f":"IFERROR(VLOOKUP(A21,ورقة1!$E$2:$F$3029,2,0),\"\")","v":"ملك ناصر عبد الحميد سليمان"}]
[19,{"$f":"IF(C22=\"\",\"\",SUBTOTAL(3,$C$4:C22))","v":19},{"$f":"IFERROR(VLOOKUP(A22,ورقة1!$C$2:$F$3029,4,0),\"\")","v":"محمد حسن محمد حسن النجار"},51,{"$f":"IFERROR(VLOOKUP(A22,ورقة1!$E$2:$F$3029,2,0),\"\")","v":"ملك هانى فهمى عبد المعز محمد قنديل"}]
[20,{"$f":"IF(C23=\"\",\"\",SUBTOTAL(3,$C$4:C23))","v":20},{"$f":"IFERROR(VLOOKUP(A23,ورقة1!$C$2:$F$3029,4,0),\"\")","v":"محمد سامح مجدى فرحات عبدالرؤوف"},52,{"$f":"IFERROR(VLOOKUP(A23,ورقة1!$E$2:$F$3029,2,0),\"\")","v":"منه الله السعيد سلامة السعيد امين"}]
[21,{"$f":"IF(C24=\"\",\"\",SUBTOTAL(3,$C$4:C24))","v":21},{"$f":"IFERROR(VLOOKUP(A24,ورقة1!$C$2:$F$3029,4,0),\"\")","v":"محمد سمير محمد عبد البر محمد"},53,{"$f":"IFERROR(VLOOKUP(A24,ورقة1!$E$2:$F$3029,2,0),\"\")","v":"منه ايمن الطوخى الصادق عيسوى"}]
[22,{"$f":"IF(C25=\"\",\"\",SUBTOTAL(3,$C$4:C25))","v":22},{"$f":"IFERROR(VLOOKUP(A25,ورقة1!$C$2:$F$3029,4,0),\"\")","v":"محمد شريف محمد عبد العزيز مامزن بدوى"},54,{"$f":"IFERROR(VLOOKUP(A25,ورقة1!$E$2:$F$3029,2,0),\"\")","v":"منه طه عبدالمجيد امين سويلم"}]
[23,{"$f":"IF(C26=\"\",\"\",SUBTOTAL(3,$C$4:C26))","v":23},{"$f":"IFERROR(VLOOKUP(A26,ورقة1!$C$2:$F$3029,4,0),\"\")","v":"محمد صلاح عبد الهادى محمد حسن سرحان"},55,{"$f":"IFERROR(VLOOKUP(A26,ورقة1!$E$2:$F$3029,2,0),\"\")","v":"مى عبدالله السيد عبدالحميد زيدان"}]
[24,{"$f":"IF(C27=\"\",\"\",SUBTOTAL(3,$C$4:C27))","v":24},{"$f":"IFERROR(VLOOKUP(A27,ورقة1!$C$2:$F$3029,4,0),\"\")","v":"محمد طلعت عبد العاطى سليم على"},56,{"$f":"IFERROR(VLOOKUP(A27,ورقة1!$E$2:$F$3029,2,0),\"\")","v":"مى محمد عز العرب محمد عبدالرؤوف"}]
[25,{"$f":"IF(C28=\"\",\"\",SUBTOTAL(3,$C$4:C28))","v":25},{"$f":"IFERROR(VLOOKUP(A28,ورقة1!$C$2:$F$3029,4,0),\"\")","v":"محمد طه عبدالمجيد امين سويلم"},57,{"$f":"IFERROR(VLOOKUP(A28,ورقة1!$E$2:$F$3029,2,0),\"\")","v":"ميرنا خالد صبحى حافظ عبد المقصود"}]
[26,{"$f":"IF(C29=\"\",\"\",SUBTOTAL(3,$C$4:C29))","v":26},{"$f":"IFERROR(VLOOKUP(A29,ورقة1!$C$2:$F$3029,4,0),\"\")","v":"محمد عبد الرحمن حمادة عبد الرحمن السندنهورى"},58,{"$f":"IFERROR(VLOOKUP(A29,ورقة1!$E$2:$F$3029,2,0),\"\")","v":"ميرنا محمد صلاح عبد الفتاح عابد زيدان"}]
[27,{"$f":"IF(C30=\"\",\"\",SUBTOTAL(3,$C$4:C30))","v":27},{"$f":"IFERROR(VLOOKUP(A30,ورقة1!$C$2:$F$3029,4,0),\"\")","v":"محمد عبدالفتاح عبدالهادى عبدالفتاح"},"",{"$f":"IFERROR(VLOOKUP(A30,ورقة1!$E$2:$F$3029,2,0),\"\")","v":""}]
[28,{"$f":"IF(C31=\"\",\"\",SUBTOTAL(3,$C$4:C31))","v":28},{"$f":"IFERROR(VLOOKUP(A31,ورقة1!$C$2:$F$3029,4,0),\"\")","v":"محمد عمرو محمد عبد السميع شافعى"},"",{"$f":"IFERROR(VLOOKUP(A31,ورقة1!$E$2:$F$3029,2,0),\"\")","v":""}]
[29,{"$f":"IF(C32=\"\",\"\",SUBTOTAL(3,$C$4:C32))","v":29},{"$f":"IFERROR(VLOOKUP(A32,ورقة1!$C$2:$F$3029,4,0),\"\")","v":"محمد كمال محمد عبدالفتاح غلاب"},"",{"$f":"IFERROR(VLOOKUP(A32,ورقة1!$E$2:$F$3029,2,0),\"\")","v":""}]
[30,{"$f":"IF(C33=\"\",\"\",SUBTOTAL(3,$C$4:C33))","v":30},{"$f":"IFERROR(VLOOKUP(A33,ورقة1!$C$2:$F$3029,4,0),\"\")","v":"محمد هانى محمد رمضان موسى"},"",{"$f":"IFERROR(VLOOKUP(A33,ورقة1!$E$2:$F$3029,2,0),\"\")","v":""}]
[31,{"$f":"IF(C34=\"\",\"\",SUBTOTAL(3,$C$4:C34))","v":31},{"$f":"IFERROR(VLOOKUP(A34,ورقة1!$C$2:$F$3029,4,0),\"\")","v":"محمود طه محمد عبد العزيز مامون"},"",{"$f":"IFERROR(VLOOKUP(A34,ورقة1!$E$2:$F$3029,2,0),\"\")","v":""}]
[32,{"$f":"IF(C35=\"\",\"\",SUBTOTAL(3,$C$4:C35))","v":32},{"$f":"IFERROR(VLOOKUP(A35,ورقة1!$C$2:$F$3029,4,0),\"\")","v":"محمود محمد عزالعرب محمد عبدالرؤوف"},"",{"$f":"IFERROR(VLOOKUP(A35,ورقة1!$E$2:$F$3029,2,0),\"\")","v":""}]
[]
[]
[]
[]
[]
[]
[]
[]
[]
[]
[null,null,null,null,null,null,null,null,null,""]
[null,null,null,null,null,null,null,null,null,""]
[null,null,null,null,null,null,null,null,null,""]
[null,null,null,null,null,null,null,null,null,""]
[null,null,null,null,null,null,null,null,null,""]
[null,null,null,null,null,null,null,null,null,""]
[null,null,null,null,null,null,null,null,null,""]
[null,null,null,null,null,null,null,null,null,""]
[null,null,null,null,null,null,null,null,null,""]
[null,null,null,null,null,null,null,null,null,""]
[null,null,null,null,null,null,null,null,null,""]
[null,null,null,null,null,null,null,null,null,""]
[null,null,null,null,null,null,null,null,null,""]
[null,null,null,null,null,null,null,null,null,""]

{"sheet":"ورقة3","index":2,"n_rows":50,"n_cols":8,"rows_kept":50,"cut":false,"hidden":false,"merged":[[37,6,37,7],[39,1,40,1],[41,1,42,1],[43,1,44,1],[4,1,5,1],[4,2,5,3],[4,4,5,4],[4,5,5,7],[45,1,46,1],[47,1,48,1],[2,1,3,4],[37,1,38,1],[37,4,37,5]]}
[null,"ادارة "]
[null,"مدرسة     ",null,null,null,"بنين","بنات","جملة"]
[null,{"$f":"ورقة2!E1","v":"قائمة فصل 3 / 4"},null,null,null,{"$f":"MAX(B7:B36)","v":30},{"$f":"COUNT(E7:E36)","v":26},{"$f":"SUM(F3:G3)","v":56}]
[]
[null,"م","الاسم",null,"م","الاسم"]
[]
[null,{"$f":"ورقة2!B4","v":1},{"$f":"ورقة2!C4","v":"حسنى اكمل حسنى محمد فريد حشيش"},null,{"$f":"ورقة2!D4","v":33},{"$f":"ورقة2!E4","v":"بسملة محمد عبد المجيد عبد الجواد المستكاوى"}]
[null,{"$f":"ورقة2!B5","v":2},{"$f":"ورقة2!C5","v":"على عماد على محمد على دومة"},null,{"$f":"ورقة2!D5","v":34},{"$f":"ورقة2!E5","v":"جنا محمود عبدالمنعم زكى المستكاوى"}]
[null,{"$f":"ورقة2!B6","v":3},{"$f":"ورقة2!C6","v":"كريم طه محمد امام عسكر"},null,{"$f":"ورقة2!D6","v":35},{"$f":"ورقة2!E6","v":"مريم ادهم محمد محمد محمد سليمان"}]
[null,{"$f":"ورقة2!B7","v":4},{"$f":"ورقة2!C7","v":"كريم هانى فاروق حسن احمد"},null,{"$f":"ورقة2!D7","v":36},{"$f":"ورقة2!E7","v":"مريم اسلام عبد الجواد عليوة عبد الجواد"}]
[null,{"$f":"ورقة2!B8","v":5},{"$f":"ورقة2!C8","v":"كريم وليد امين سعيد امين هاشم"},null,{"$f":"ورقة2!D8","v":37},{"$f":"ورقة2!E8","v":"مريم سامح عفيفى محمد احمد عيد"}]
[null,{"$f":"ورقة2!B9","v":6},{"$f":"ورقة2!C9","v":"كمال محمد كامل طه احمد عامر"},null,{"$f":"ورقة2!D9","v":38},{"$f":"ورقة2!E9","v":"مريم صلاح محمد عبدالله محمد"}]
[null,{"$f":"ورقة2!B10","v":7},{"$f":"ورقة2!C10","v":"مامون احمد مامون احمد ابراهيم العرضى"},null,{"$f":"ورقة2!D10","v":39},{"$f":"ورقة2!E10","v":"مريم محمد عبد المنعم احمد كردى"}]
[null,{"$f":"ورقة2!B11","v":8},{"$f":"ورقة2!C11","v":"محمد احمد فوزى مطهر السعيد"},null,{"$f":"ورقة2!D11","v":40},{"$f":"ورقة2!E11","v":"مريم منصور عبدالمنعم احمد جاد منصور"}]
[null,{"$f":"ورقة2!B12","v":9},{"$f":"ورقة2!C12","v":"محمد اسلام السيد السعيد مصطفى"},null,{"$f":"ورقة2!D12","v":41},{"$f":"ورقة2!E12","v":"ملك احمد بدوى مكى محمد صالح"}]
[null,{"$f":"ورقة2!B13","v":10},{"$f":"ورقة2!C13","v":"محمد اشرف عمرو عطا محمد"},null,{"$f":"ورقة2!D13","v":42},{"$f":"ورقة2!E13","v":"ملك حماده عبدالرحمن عبدالمعطى"}]
[null,{"$f":"ورقة2!B14","v":11},{"$f":"ورقة2!C14","v":"محمد اشرف محمد محمود قدوسة"},null,{"$f":"ورقة2!D14","v":43},{"$f":"ورقة2!E14","v":"ملك سامح الصياد محمد الصياد حلوة"}]
[null,{"$f":"ورقة2!B15","v":12},{"$f":"ورقة2!C15","v":"محمد السعيد محمد سعيد المستكاوى"},null,{"$f":"ورقة2!D15","v":44},{"$f":"ورقة2!E15","v":"ملك سامح محمد معاز حسين"}]
[null,{"$f":"ورقة2!B16","v":13},{"$f":"ورقة2!C16","v":"محمد السيد على السيد حلوة"},null,{"$f":"ورقة2!D16","v":45},{"$f":"ورقة2!E16","v":"ملك شريف محمد رفاعى ابراهيم"}]
[null,{"$f":"ورقة2!B17","v":14},{"$f":"ورقة2!C17","v":"محمد ايهاب جمال عبد المعز شافعى"},null,{"$f":"ورقة2!D17","v":46},{"$f":"ورقة2!E17","v":"ملك عبد الفتاح عبد اللطيف عبد الفتاح الصوابى"}]
[null,{"$f":"ورقة2!B18","v":15},{"$f":"ورقة2!C18","v":"محمد ايهاب طه سعيد امام"},null,{"$f":"ورقة2!D18","v":47},{"$f":"ورقة2!E18","v":"ملك محمد سعد محمد ضرار"}]
[null,{"$f":"ورقة2!B19","v":16},{"$f":"ورقة2!C19","v":"محمد تامر سمير هلول رمضان شلبى"},null,{"$f":"ورقة2!D19","v":48},{"$f":"ورقة2!E19","v":"ملك محمد نجيب رزق طه نجيب"}]
[null,{"$f":"ورقة2!B20","v":17},{"$f":"ورقة2!C20","v":"محمد جابر محمد محمد سليمان زيدان"},null,{"$f":"ورقة2!D20","v":49},{"$f":"ورقة2!E20","v":"ملك مصلح محمد الهادى احمد السيد"}]
[null,{"$f":"ورقة2!B21","v":18},{"$f":"ورقة2!C21","v":"محمد حازم سعيد عبد الحى محمد سليمان"},null,{"$f":"ورقة2!D21","v":50},{"$f":"ورقة2!E21","v":"ملك ناصر عبد الحميد سليمان"}]
[null,{"$f":"ورقة2!B22","v":19},{"$f":"ورقة2!C22","v":"محمد حسن محمد حسن النجار"},null,{"$f":"ورقة2!D22","v":51},{"$f":"ورقة2!E22","v":"ملك هانى فهمى عبد المعز محمد قنديل"}]
[null,{"$f":"ورقة2!B23","v":20},{"$f":"ورقة2!C23","v":"محمد سامح مجدى فرحات عبدالرؤوف"},null,{"$f":"ورقة2!D23","v":52},{"$f":"ورقة2!E23","v":"منه الله السعيد سلامة السعيد امين"}]
[null,{"$f":"ورقة2!B24","v":21},{"$f":"ورقة2!C24","v":"محمد سمير محمد عبد البر محمد"},null,{"$f":"ورقة2!D24","v":53},{"$f":"ورقة2!E24","v":"منه ايمن الطوخى الصادق عيسوى"}]
[null,{"$f":"ورقة2!B25","v":22},{"$f":"ورقة2!C25","v":"محمد شريف محمد عبد العزيز مامزن بدوى"},null,{"$f":"ورقة2!D25","v":54},{"$f":"ورقة2!E25","v":"منه طه عبدالمجيد امين سويلم"}]
[null,{"$f":"ورقة2!B26","v":23},{"$f":"ورقة2!C26","v":"محمد صلاح عبد الهادى محمد حسن سرحان"},null,{"$f":"ورقة2!D26","v":55},{"$f":"ورقة2!E26","v":"مى عبدالله السيد عبدالحميد زيدان"}]
[null,{"$f":"ورقة2!B27","v":24},{"$f":"ورقة2!C27","v":"محمد طلعت عبد العاطى سليم على"},null,{"$f":"ورقة2!D27","v":56},{"$f":"ورقة2!E27","v":"مى محمد عز العرب محمد عبدالرؤوف"}]
[null,{"$f":"ورقة2!B28","v":25},{"$f":"ورقة2!C28","v":"محمد طه عبدالمجيد امين سويلم"},null,{"$f":"ورقة2!D28","v":57},{"$f":"ورقة2!E28","v":"ميرنا خالد صبحى حافظ عبد المقصود"}]
[null,{"$f":"ورقة2!B29","v":26},{"$f":"ورقة2!C29","v":"محمد عبد الرحمن حمادة عبد الرحمن السندنهورى"},null,{"$f":"ورقة2!D29","v":58},{"$f":"ورقة2!E29","v":"ميرنا محمد صلاح عبد الفتاح عابد زيدان"}]
[null,{"$f":"ورقة2!B30","v":27},{"$f":"ورقة2!C30","v":"محمد عبدالفتاح عبدالهادى عبدالفتاح"},null,{"$f":"ورقة2!D30","v":""},{"$f":"ورقة2!E30","v":""}]
[null,{"$f":"ورقة2!B31","v":28},{"$f":"ورقة2!C31","v":"محمد عمرو محمد عبد السميع شافعى"},null,{"$f":"ورقة2!D31","v":""},{"$f":"ورقة2!E31","v":""}]
[null,{"$f":"ورقة2!B32","v":29},{"$f":"ورقة2!C32","v":"محمد كمال محمد عبدالفتاح غلاب"},null,{"$f":"ورقة2!D32","v":""},{"$f":"ورقة2!E32","v":""}]
[null,{"$f":"ورقة2!B33","v":30},{"$f":"ورقة2!C33","v":"محمد هانى محمد رمضان موسى"},null,{"$f":"ورقة2!D33","v":""},{"$f":"ورقة2!E33","v":""}]
[]
[null,"اليوم","ف 1","ف2","ف3",null,"ف4"]
[null,null,"7  - 8:15","8:15 - 9:30","9:30 -10:5","10:5 - 10:40","10:40 - 11:15","11:15 - 12:00"]
[null,"الاحد"]
[]
[null,"الاثنين"]
[]
[null,"الثلاثاء"]
[]
[null,"الأربعاء"]
[]
[null,"الخميس"]
[]
[null,"ش / ط",null,null,"رائد الفصل",null,"مدير المدرسة"]

{"sheet":"الطباعة","index":3,"n_rows":536,"n_cols":15,"rows_kept":536,"cut":false,"hidden":false,"merged":[[4,7,6,11],[0,5,0,6],[3,0,3,6],[5,6,6,6],[5,0,7,0],[5,1,7,1],[5,2,5,4]]}
["وزارة التربية والتعليم",null,null,null,null,"اختار جلب عدد الأسماء",null,4]
["قطاع التعليم العام",null,null,null,null,null,null,null,null,"الصف","الفصل",null,"ش / ط","رائد الفصل","مدير المدرسة"]
["مكتب تنمية مادة الدراسات الاجتماعية",null,"سجل تقيم المهام للتلميذ",null,null,null,null,null,null,3,2]
[{"$f":"\"كشف درجات تلاميذ فصل\"&\"  \"&\": \"&J3&\" / \"&K3&\"   \"&\"الابتدائى في مادة الدراسات\"","v":"كشف درجات تلاميذ فصل  : 3 / 2   الابتدائى في مادة الدراسات"},null,null,null,null,null,null,null,null,null,null,null,"اختار من هنا قائمة الفصل"]
["الفصل الدراسى :",null,"للعام الدراسى :",null,null,null,null,"السلام عليكم ورحمة الله وبركاته بعد اذن استاذتنا الكرام هل ممكن فعل هذا بالاكسيل اريد عند جلب الأسماء ان تجلب الأسماء اعتماد على الخلية H1 ان يكون الاسم رباعى او الاسم ثلاثى بمعنى ان كتبت في الخلية H1 مثلا 4 يجلب الأسماء رباعية ومثلا ان كتبت في الخلية H1 مثلا 3 يجلب لى الاسم ثلاثى  حسب ما يكتب فى الخلية  H1 وجزاكم الله خير"]
["م","الاسم","تقيمات خلال الفصل الدراسى /",null,null,"اختبار نهاية الفصل الدراسى","المجموع"]
[null,null,"المهام الفردية","المهام الجماعية","المهام الشفهية","اختبار تحريرى"]
[null,null,25,25,20,30,100,null,{"$f":"IF(AND($J$3=ورقة1!H2,الطباعة!$K$3=ورقة1!I2),1,0)","v":0},{"$f":"IF(I8=0,\"\",SUM($I$8:I8))","v":""},"بنون","بنات"]
[{"$f":"IF(B9=\"\",\"\",SUBTOTAL(3,$B$9:B9))","v":1},{"$f":"IFERROR(INDEX(ورقة1!$F$2:$F$500,MATCH(ROW()-8,الطباعة!$J$8:$J$536,0)),\"\")","v":"السيد محمد السيد عبد العظيم عبد الوهاب"},null,null,null,null,null,null,{"$f":"IF(AND($J$3=ورقة1!H3,الطباعة!$K$3=ورقة1!I3),1,0)","v":0},{"$f":"IF(I9=0,\"\",SUM($I$8:I9))","v":""},{"$f":"ورقة3!F3","v":30},{"$f":"ورقة3!G3","v":26}]
[{"$f":"IF(B10=\"\",\"\",SUBTOTAL(3,$B$9:B10))","v":2},{"$f":"IFERROR(INDEX(ورقة1!$F$2:$F$500,MATCH(ROW()-8,الطباعة!$J$8:$J$536,0)),\"\")","v":"ايهاب محمد حلمى مهدى حلمى"},null,null,null,null,null,null,{"$f":"IF(AND($J$3=ورقة1!H4,الطباعة!$K$3=ورقة1!I4),1,0)","v":0},{"$f":"IF(I10=0,\"\",SUM($I$8:I10))","v":""}]
[{"$f":"IF(B11=\"\",\"\",SUBTOTAL(3,$B$9:B11))","v":3},{"$f":"IFERROR(INDEX(ورقة1!$F$2:$F$500,MATCH(ROW()-8,الطباعة!$J$8:$J$536,0)),\"\")","v":"بدر محمد بدر محمد سرحان"},null,null,null,null,null,null,{"$f":"IF(AND($J$3=ورقة1!H5,الطباعة!$K$3=ورقة1!I5),1,0)","v":0},{"$f":"IF(I11=0,\"\",SUM($I$8:I11))","v":""}]
[{"$f":"IF(B12=\"\",\"\",SUBTOTAL(3,$B$9:B12))","v":4},{"$f":"IFERROR(INDEX(ورقة1!$F$2:$F$500,MATCH(ROW()-8,الطباعة!$J$8:$J$536,0)),\"\")","v":"بدر محمد محمود محمد عبد الصبور"},null,null,null,null,null,null,{"$f":"IF(AND($J$3=ورقة1!H6,الطباعة!$K$3=ورقة1!I6),1,0)","v":0},{"$f":"IF(I12=0,\"\",SUM($I$8:I12))","v":""}]
[{"$f":"IF(B13=\"\",\"\",SUBTOTAL(3,$B$9:B13))","v":5},{"$f":"IFERROR(INDEX(ورقة1!$F$2:$F$500,MATCH(ROW()-8,الطباعة!$J$8:$J$536,0)),\"\")","v":"جلال عابد جلال زيدان"},null,null,null,null,null,null,{"$f":"IF(AND($J$3=ورقة1!H7,الطباعة!$K$3=ورقة1!I7),1,0)","v":0},{"$f":"IF(I13=0,\"\",SUM($I$8:I13))","v":""}]
[{"$f":"IF(B14=\"\",\"\",SUBTOTAL(3,$B$9:B14))","v":6},{"$f":"IFERROR(INDEX(ورقة1!$F$2:$F$500,MATCH(ROW()-8,الطباعة!$J$8:$J$536,0)),\"\")","v":"جمال محمد احمد على ابوالعينين"},null,null,null,null,null,null,{"$f":"IF(AND($J$3=ورقة1!H8,الطباعة!$K$3=ورقة1!I8),1,0)","v":0},{"$f":"IF(I14=0,\"\",SUM($I$8:I14))","v":""}]
[{"$f":"IF(B15=\"\",\"\",SUBTOTAL(3,$B$9:B15))","v":7},{"$f":"IFERROR(INDEX(ورقة1!$F$2:$F$500,MATCH(ROW()-8,الطباعة!$J$8:$J$536,0)),\"\")","v":"حسن محمد حسن الصياد كليب"},null,null,null,null,null,null,{"$f":"IF(AND($J$3=ورقة1!H9,الطباعة!$K$3=ورقة1!I9),1,0)","v":0},{"$f":"IF(I15=0,\"\",SUM($I$8:I15))","v":""}]
[{"$f":"IF(B16=\"\",\"\",SUBTOTAL(3,$B$9:B16))","v":8},{"$f":"IFERROR(INDEX(ورقة1!$F$2:$F$500,MATCH(ROW()-8,الطباعة!$J$8:$J$536,0)),\"\")","v":"حمد جبر جمال محمد الصياد حلوة"},null,null,null,null,null,null,{"$f":"IF(AND($J$3=ورقة1!H10,الطباعة!$K$3=ورقة1!I10),1,0)","v":0},{"$f":"IF(I16=0,\"\",SUM($I$8:I16))","v":""}]
[{"$f":"IF(B17=\"\",\"\",SUBTOTAL(3,$B$9:B17))","v":9},{"$f":"IFERROR(INDEX(ورقة1!$F$2:$F$500,MATCH(ROW()-8,الطباعة!$J$8:$J$536,0)),\"\")","v":"حمدان طه حمدان طه محمد قدوسة"},null,null,null,null,null,null,{"$f":"IF(AND($J$3=ورقة1!H11,الطباعة!$K$3=ورقة1!I11),1,0)","v":0},{"$f":"IF(I17=0,\"\",SUM($I$8:I17))","v":""}]
[{"$f":"IF(B18=\"\",\"\",SUBTOTAL(3,$B$9:B18))","v":10},{"$f":"IFERROR(INDEX(ورقة1!$F$2:$F$500,MATCH(ROW()-8,الطباعة!$J$8:$J$536,0)),\"\")","v":"حمزة عمار اسماعيل الشحات مصطفى"},null,null,null,null,null,null,{"$f":"IF(AND($J$3=ورقة1!H12,الطباعة!$K$3=ورقة1!I12),1,0)","v":0},{"$f":"IF(I18=0,\"\",SUM($I$8:I18))","v":""}]
[{"$f":"IF(B19=\"\",\"\",SUBTOTAL(3,$B$9:B19))","v":11},{"$f":"IFERROR(INDEX(ورقة1!$F$2:$F$500,MATCH(ROW()-8,الطباعة!$J$8:$J$536,0)),\"\")","v":"رمضان خالد رمضان السيد السيد عتمان"},null,null,null,null,null,null,{"$f":"IF(AND($J$3=ورقة1!H13,الطباعة!$K$3=ورقة1!I13),1,0)","v":0},{"$f":"IF(I19=0,\"\",SUM($I$8:I19))","v":""}]
[{"$f":"IF(B20=\"\",\"\",SUBTOTAL(3,$B$9:B20))","v":12},{"$f":"IFERROR(INDEX(ورقة1!$F$2:$F$500,MATCH(ROW()-8,الطباعة!$J$8:$J$536,0)),\"\")","v":"زياد اسلام احمد محمد حينى عبد الفتاح"},null,null,null,null,null,null,{"$f":"IF(AND($J$3=ورقة1!H14,الطباعة!$K$3=ورقة1!I14),1,0)","v":0},{"$f":"IF(I20=0,\"\",SUM($I$8:I20))","v":""}]
[{"$f":"IF(B21=\"\",\"\",SUBTOTAL(3,$B$9:B21))","v":13},{"$f":"IFERROR(INDEX(ورقة1!$F$2:$F$500,MATCH(ROW()-8,الطباعة!$J$8:$J$536,0)),\"\")","v":"زياد عبد العظيم السيد عبد العظيم عبد الوهاب"},null,null,null,null,null,null,{"$f":"IF(AND($J$3=ورقة1!H15,الطباعة!$K$3=ورقة1!I15),1,0)","v":0},{"$f":"IF(I21=0,\"\",SUM($I$8:I21))","v":""}]
[{"$f":"IF(B22=\"\",\"\",SUBTOTAL(3,$B$9:B22))","v":14},{"$f":"IFERROR(INDEX(ورقة1!$F$2:$F$500,MATCH(ROW()-8,الطباعة!$J$8:$J$536,0)),\"\")","v":"زياد وائل مصلح عبدالمعطى خميس"},null,null,null,null,null,null,{"$f":"IF(AND($J$3=ورقة1!H16,الطباعة!$K$3=ورقة1!I16),1,0)","v":0},{"$f":"IF(I22=0,\"\",SUM($I$8:I22))","v":""}]
[{"$f":"IF(B23=\"\",\"\",SUBTOTAL(3,$B$9:B23))","v":15},{"$f":"IFERROR(INDEX(ورقة1!$F$2:$F$500,MATCH(ROW()-8,الطباعة!$J$8:$J$536,0)),\"\")","v":"سعد محمد سعد احمدعبد الرحمن خفاجى"},null,null,null,null,null,null,{"$f":"IF(AND($J$3=ورقة1!H17,الطباعة!$K$3=ورقة1!I17),1,0)","v":0},{"$f":"IF(I23=0,\"\",SUM($I$8:I23))","v":""}]
[{"$f":"IF(B24=\"\",\"\",SUBTOTAL(3,$B$9:B24))","v":16},{"$f":"IFERROR(INDEX(ورقة1!$F$2:$F$500,MATCH(ROW()-8,الطباعة!$J$8:$J$536,0)),\"\")","v":"سيف اسلام محمد محمود محمد قدوسة"},null,null,null,null,null,null,{"$f":"IF(AND($J$3=ورقة1!H18,الطباعة!$K$3=ورقة1!I18),1,0)","v":0},{"$f":"IF(I24=0,\"\",SUM($I$8:I24))","v":""}]
[{"$f":"IF(B25=\"\",\"\",SUBTOTAL(3,$B$9:B25))","v":17},{"$f":"IFERROR(INDEX(ورقة1!$F$2:$F$500,MATCH(ROW()-8,الطباعة!$J$8:$J$536,0)),\"\")","v":"شهاب الدين محمد سعيد عبدالرحمن"},null,null,null,null,null,null,{"$f":"IF(AND($J$3=ورقة1!H19,الطباعة!$K$3=ورقة1!I19),1,0)","v":0},{"$f":"IF(I25=0,\"\",SUM($I$8:I25))","v":""}]
[{"$f":"IF(B26=\"\",\"\",SUBTOTAL(3,$B$9:B26))","v":18},{"$f":"IFERROR(INDEX(ورقة1!$F$2:$F$500,MATCH(ROW()-8,الطباعة!$J$8:$J$536,0)),\"\")","v":"عابد محمد عابد سليمان زيدان"},null,null,null,null,null,null,{"$f":"IF(AND($J$3=ورقة1!H20,الطباعة!$K$3=ورقة1!I20),1,0)","v":0},{"$f":"IF(I26=0,\"\",SUM($I$8:I26))","v":""}]
[{"$f":"IF(B27=\"\",\"\",SUBTOTAL(3,$B$9:B27))","v":19},{"$f":"IFERROR(INDEX(ورقة1!$F$2:$F$500,MATCH(ROW()-8,الطباعة!$J$8:$J$536,0)),\"\")","v":"عادل وائل عبدالغنى السيد عمارة"},null,null,null,null,null,null,{"$f":"IF(AND($J$3=ورقة1!H21,الطباعة!$K$3=ورقة1!I21),1,0)","v":0},{"$f":"IF(I27=0,\"\",SUM($I$8:I27))","v":""}]
[{"$f":"IF(B28=\"\",\"\",SUBTOTAL(3,$B$9:B28))","v":20},{"$f":"IFERROR(INDEX(ورقة1!$F$2:$F$500,MATCH(ROW()-8,الطباعة!$J$8:$J$536,0)),\"\")","v":"عبد الحميد تامر برقوقى عبد الحميد عبد الرحمن زيدان"},null,null,null,null,null,null,{"$f":"IF(AND($J$3=ورقة1!H22,الطباعة!$K$3=ورقة1!I22),1,0)","v":0},{"$f":"IF(I28=0,\"\",SUM($I$8:I28))","v":""}]
[{"$f":"IF(B29=\"\",\"\",SUBTOTAL(3,$B$9:B29))","v":21},{"$f":"IFERROR(INDEX(ورقة1!$F$2:$F$500,MATCH(ROW()-8,الطباعة!$J$8:$J$536,0)),\"\")","v":"عبد الرحمن اسامة محمد عبد البر محمد شرف الدين"},null,null,null,null,null,null,{"$f":"IF(AND($J$3=ورقة1!H23,الطباعة!$K$3=ورقة1!I23),1,0)","v":0},{"$f":"IF(I29=0,\"\",SUM($I$8:I29))","v":""}]
[{"$f":"IF(B30=\"\",\"\",SUBTOTAL(3,$B$9:B30))","v":22},{"$f":"IFERROR(INDEX(ورقة1!$F$2:$F$500,MATCH(ROW()-8,الطباعة!$J$8:$J$536,0)),\"\")","v":"عبد الرحمن حامد احمد عبد الرحمن السيد شرع"},null,null,null,null,null,null,{"$f":"IF(AND($J$3=ورقة1!H24,الطباعة!$K$3=ورقة1!I24),1,0)","v":0},{"$f":"IF(I30=0,\"\",SUM($I$8:I30))","v":""}]
[{"$f":"IF(B31=\"\",\"\",SUBTOTAL(3,$B$9:B31))","v":23},{"$f":"IFERROR(INDEX(ورقة1!$F$2:$F$500,MATCH(ROW()-8,الطباعة!$J$8:$J$536,0)),\"\")","v":"عبد الرحمن ماهر عبد الرحمن محمد عفيفى"},null,null,null,null,null,null,{"$f":"IF(AND($J$3=ورقة1!H25,الطباعة!$K$3=ورقة1!I25),1,0)","v":0},{"$f":"IF(I31=0,\"\",SUM($I$8:I31))","v":""}]
[{"$f":"IF(B32=\"\",\"\",SUBTOTAL(3,$B$9:B32))","v":24},{"$f":"IFERROR(INDEX(ورقة1!$F$2:$F$500,MATCH(ROW()-8,الطباعة!$J$8:$J$536,0)),\"\")","v":"عبد الرحمن محمد شرف محمد شرف"},null,null,null,null,null,null,{"$f":"IF(AND($J$3=ورقة1!H26,الطباعة!$K$3=ورقة1!I26),1,0)","v":0},{"$f":"IF(I32=0,\"\",SUM($I$8:I32))","v":""}]
[{"$f":"IF(B33=\"\",\"\",SUBTOTAL(3,$B$9:B33))","v":25},{"$f":"IFERROR(INDEX(ورقة1!$F$2:$F$500,MATCH(ROW()-8,الطباعة!$J$8:$J$536,0)),\"\")","v":"عبد الرحمن محمد عبد الرحمن على محمد عبد الناصر"},null,null,null,null,null,null,{"$f":"IF(AND($J$3=ورقة1!H27,الطباعة!$K$3=ورقة1!I27),1,0)","v":0},{"$f":"IF(I33=0,\"\",SUM($I$8:I33))","v":""}]
[{"$f":"IF(B34=\"\",\"\",SUBTOTAL(3,$B$9:B34))","v":26},{"$f":"IFERROR(INDEX(ورقة1!$F$2:$F$500,MATCH(ROW()-8,الطباعة!$J$8:$J$536,0)),\"\")","v":"عبد الرحمن ممدوح عبد الهادى كمال حسنين"},null,null,null,null,null,null,{"$f":"IF(AND($J$3=ورقة1!H28,الطباعة!$K$3=ورقة1!I28),1,0)","v":0},{"$f":"IF(I34=0,\"\",SUM($I$8:I34))","v":""}]
[{"$f":"IF(B35=\"\",\"\",SUBTOTAL(3,$B$9:B35))","v":27},{"$f":"IFERROR(INDEX(ورقة1!$F$2:$F$500,MATCH(ROW()-8,الطباعة!$J$8:$J$536,0)),\"\")","v":"عبد الفتاح سمير عبد الفتاح سالم كليب"},null,null,null,null,null,null,{"$f":"IF(AND($J$3=ورقة1!H29,الطباعة!$K$3=ورقة1!I29),1,0)","v":0},{"$f":"IF(I35=0,\"\",SUM($I$8:I35))","v":""}]
[{"$f":"IF(B36=\"\",\"\",SUBTOTAL(3,$B$9:B36))","v":28},{"$f":"IFERROR(INDEX(ورقة1!$F$2:$F$500,MATCH(ROW()-8,الطباعة!$J$8:$J$536,0)),\"\")","v":"عبد الفتاح محمد عبد الفتاح عفيفى عبد الرحمن"},null,null,null,null,null,null,{"$f":"IF(AND($J$3=ورقة1!H30,الطباعة!$K$3=ورقة1!I30),1,0)","v":0},{"$f":"IF(I36=0,\"\",SUM($I$8:I36))","v":""}]
[{"$f":"IF(B37=\"\",\"\",SUBTOTAL(3,$B$9:B37))","v":29},{"$f":"IFERROR(INDEX(ورقة1!$F$2:$F$500,MATCH(ROW()-8,الطباعة!$J$8:$J$536,0)),\"\")","v":"عبد الوهاب صلاح احمد عبد الجواد المستكاوى"},null,null,null,null,null,null,{"$f":"IF(AND($J$3=ورقة1!H31,الطباعة!$K$3=ورقة1!I31),1,0)","v":0},{"$f":"IF(I37=0,\"\",SUM($I$8:I37))","v":""}]
[{"$f":"IF(B38=\"\",\"\",SUBTOTAL(3,$B$9:B38))","v":30},{"$f":"IFERROR(INDEX(ورقة1!$F$2:$F$500,MATCH(ROW()-8,الطباعة!$J$8:$J$536,0)),\"\")","v":"عمر محمد سعد منصور ابراهيم"},null,null,null,null,null,null,{"$f":"IF(AND($J$3=ورقة1!H32,الطباعة!$K$3=ورقة1!I32),1,0)","v":0},{"$f":"IF(I38=0,\"\",SUM($I$8:I38))","v":""}]
[{"$f":"IF(B39=\"\",\"\",SUBTOTAL(3,$B$9:B39))","v":31},{"$f":"IFERROR(INDEX(ورقة1!$F$2:$F$500,MATCH(ROW()-8,الطباعة!$J$8:$J$536,0)),\"\")","v":"محمد فرحات عبد الفتاح كمال حسنين عمر"},null,null,null,null,null,null,{"$f":"IF(AND($J$3=ورقة1!H33,الطباعة!$K$3=ورقة1!I33),1,0)","v":1},{"$f":"IF(I39=0,\"\",SUM($I$8:I39))","v":1}]
[{"$f":"IF(B40=\"\",\"\",SUBTOTAL(3,$B$9:B40))","v":32},{"$f":"IFERROR(INDEX(ورقة1!$F$2:$F$500,MATCH(ROW()-8,الطباعة!$J$8:$J$536,0)),\"\")","v":"يوسف ياسر عبد الفتاح سالم محمد كليب"},null,null,null,null,null,null,{"$f":"IF(AND($J$3=ورقة1!H34,الطباعة!$K$3=ورقة1!I34),1,0)","v":1},{"$f":"IF(I40=0,\"\",SUM($I$8:I40))","v":2}]
[{"$f":"IF(B41=\"\",\"\",SUBTOTAL(3,$B$9:B41))","v":33},{"$f":"IFERROR(INDEX(ورقة1!$F$2:$F$500,MATCH(ROW()-8,الطباعة!$J$8:$J$536,0)),\"\")","v":"بسنت السيد جمعه السيد ابراهيم الزاز"},null,null,null,null,null,null,{"$f":"IF(AND($J$3=ورقة1!H35,الطباعة!$K$3=ورقة1!I35),1,0)","v":1},{"$f":"IF(I41=0,\"\",SUM($I$8:I41))","v":3}]
[{"$f":"IF(B42=\"\",\"\",SUBTOTAL(3,$B$9:B42))","v":34},{"$f":"IFERROR(INDEX(ورقة1!$F$2:$F$500,MATCH(ROW()-8,الطباعة!$J$8:$J$536,0)),\"\")","v":"جنا يسرى عبد الله عبد الجيد العرضى"},null,null,null,null,null,null,{"$f":"IF(AND($J$3=ورقة1!H36,الطباعة!$K$3=ورقة1!I36),1,0)","v":1},{"$f":"IF(I42=0,\"\",SUM($I$8:I42))","v":4}]
[{"$f":"IF(B43=\"\",\"\",SUBTOTAL(3,$B$9:B43))","v":35},{"$f":"IFERROR(INDEX(ورقة1!$F$2:$F$500,MATCH(ROW()-8,الطباعة!$J$8:$J$536,0)),\"\")","v":"جنى طلعت مجاهد منصور مجاهد"},null,null,null,null,null,null,{"$f":"IF(AND($J$3=ورقة1!H37,الطباعة!$K$3=ورقة1!I37),1,0)","v":1},{"$f":"IF(I43=0,\"\",SUM($I$8:I43))","v":5}]
[{"$f":"IF(B44=\"\",\"\",SUBTOTAL(3,$B$9:B44))","v":36},{"$f":"IFERROR(INDEX(ورقة1!$F$2:$F$500,MATCH(ROW()-8,الطباعة!$J$8:$J$536,0)),\"\")","v":"جنى عمادالدين جودة عبد الهادى عبد الفتاح سرحان"},null,null,null,null,null,null,{"$f":"IF(AND($J$3=ورقة1!H38,الطباعة!$K$3=ورقة1!I38),1,0)","v":1},{"$f":"IF(I44=0,\"\",SUM($I$8:I44))","v":6}]
[{"$f":"IF(B45=\"\",\"\",SUBTOTAL(3,$B$9:B45))","v":37},{"$f":"IFERROR(INDEX(ورقة1!$F$2:$F$500,MATCH(ROW()-8,الطباعة!$J$8:$J$536,0)),\"\")","v":"حبيبة صلاح عبد الرحمن عبد المنعم محمد الديب"},null,null,null,null,null,null,{"$f":"IF(AND($J$3=ورقة1!H39,الطباعة!$K$3=ورقة1!I39),1,0)","v":1},{"$f":"IF(I45=0,\"\",SUM($I$8:I45))","v":7}]
[{"$f":"IF(B46=\"\",\"\",SUBTOTAL(3,$B$9:B46))","v":38},{"$f":"IFERROR(INDEX(ورقة1!$F$2:$F$500,MATCH(ROW()-8,الطباعة!$J$8:$J$536,0)),\"\")","v":"حبيبة مجدى امام احمد امام"},null,null,null,null,null,null,{"$f":"IF(AND($J$3=ورقة1!H40,الطباعة!$K$3=ورقة1!I40),1,0)","v":0},{"$f":"IF(I46=0,\"\",SUM($I$8:I46))","v":""}]
[{"$f":"IF(B47=\"\",\"\",SUBTOTAL(3,$B$9:B47))","v":39},{"$f":"IFERROR(INDEX(ورقة1!$F$2:$F$500,MATCH(ROW()-8,الطباعة!$J$8:$J$536,0)),\"\")","v":"حبيبة هانى محمود حامد محمود الشيخ"},null,null,null,null,null,null,{"$f":"IF(AND($J$3=ورقة1!H41,الطباعة!$K$3=ورقة1!I41),1,0)","v":1},{"$f":"IF(I47=0,\"\",SUM($I$8:I47))","v":8}]
[{"$f":"IF(B48=\"\",\"\",SUBTOTAL(3,$B$9:B48))","v":40},{"$f":"IFERROR(INDEX(ورقة1!$F$2:$F$500,MATCH(ROW()-8,الطباعة!$J$8:$J$536,0)),\"\")","v":"حبيبه حازم طه سعيد حسين"},null,null,null,null,null,null,{"$f":"IF(AND($J$3=ورقة1!H42,الطباعة!$K$3=ورقة1!I42),1,0)","v":1},{"$f":"IF(I48=0,\"\",SUM($I$8:I48))","v":9}]
[{"$f":"IF(B49=\"\",\"\",SUBTOTAL(3,$B$9:B49))","v":41},{"$f":"IFERROR(INDEX(ورقة1!$F$2:$F$500,MATCH(ROW()-8,الطباعة!$J$8:$J$536,0)),\"\")","v":"حنين مجدى عبد الفتاح السيد اسماعيل بدر الدين"},null,null,null,null,null,null,{"$f":"IF(AND($J$3=ورقة1!H43,الطباعة!$K$3=ورقة1!I43),1,0)","v":1},{"$f":"IF(I49=0,\"\",SUM($I$8:I49))","v":10}]
[{"$f":"IF(B50=\"\",\"\",SUBTOTAL(3,$B$9:B50))","v":42},{"$f":"IFERROR(INDEX(ورقة1!$F$2:$F$500,MATCH(ROW()-8,الطباعة!$J$8:$J$536,0)),\"\")","v":"حنين محمد صلاح مسعد السعيد زيدان"},null,null,null,null,null,null,{"$f":"IF(AND($J$3=ورقة1!H44,الطباعة!$K$3=ورقة1!I44),1,0)","v":0},{"$f":"IF(I50=0,\"\",SUM($I$8:I50))","v":""}]
[{"$f":"IF(B51=\"\",\"\",SUBTOTAL(3,$B$9:B51))","v":43},{"$f":"IFERROR(INDEX(ورقة1!$F$2:$F$500,MATCH(ROW()-8,الطباعة!$J$8:$J$536,0)),\"\")","v":"حنين وائل طه عفيفى سرحان"},null,null,null,null,null,null,{"$f":"IF(AND($J$3=ورقة1!H45,الطباعة!$K$3=ورقة1!I45),1,0)","v":1},{"$f":"IF(I51=0,\"\",SUM($I$8:I51))","v":11}]
[{"$f":"IF(B52=\"\",\"\",SUBTOTAL(3,$B$9:B52))","v":44},{"$f":"IFERROR(INDEX(ورقة1!$F$2:$F$500,MATCH(ROW()-8,الطباعة!$J$8:$J$536,0)),\"\")","v":"دنيا على عبد الرحمن رشاد محمد بدران"},null,null,null,null,null,null,{"$f":"IF(AND($J$3=ورقة1!H46,الطباعة!$K$3=ورقة1!I46),1,0)","v":1},{"$f":"IF(I52=0,\"\",SUM($I$8:I52))","v":12}]
[{"$f":"IF(B53=\"\",\"\",SUBTOTAL(3,$B$9:B53))","v":45},{"$f":"IFERROR(INDEX(ورقة1!$F$2:$F$500,MATCH(ROW()-8,الطباعة!$J$8:$J$536,0)),\"\")","v":"رانا محمد طه محمود دمرداش"},null,null,null,null,null,null,{"$f":"IF(AND($J$3=ورقة1!H47,الطباعة!$K$3=ورقة1!I47),1,0)","v":1},{"$f":"IF(I53=0,\"\",SUM($I$8:I53))","v":13}]
[{"$f":"IF(B54=\"\",\"\",SUBTOTAL(3,$B$9:B54))","v":46},{"$f":"IFERROR(INDEX(ورقة1!$F$2:$F$500,MATCH(ROW()-8,الطباعة!$J$8:$J$536,0)),\"\")","v":"رحمة السيد عطية السيد محمد النجار"},null,null,null,null,null,null,{"$f":"IF(AND($J$3=ورقة1!H48,الطباعة!$K$3=ورقة1!I48),1,0)","v":1},{"$f":"IF(I54=0,\"\",SUM($I$8:I54))","v":14}]
[{"$f":"IF(B55=\"\",\"\",SUBTOTAL(3,$B$9:B55))","v":47},{"$f":"IFERROR(INDEX(ورقة1!$F$2:$F$500,MATCH(ROW()-8,الطباعة!$J$8:$J$536,0)),\"\")","v":"رحمة مسعود كمال يس محمد عفيفى"},null,null,null,null,null,null,{"$f":"IF(AND($J$3=ورقة1!H49,الطباعة!$K$3=ورقة1!I49),1,0)","v":1},{"$f":"IF(I55=0,\"\",SUM($I$8:I55))","v":15}]
[{"$f":"IF(B56=\"\",\"\",SUBTOTAL(3,$B$9:B56))","v":48},{"$f":"IFERROR(INDEX(ورقة1!$F$2:$F$500,MATCH(ROW()-8,الطباعة!$J$8:$J$536,0)),\"\")","v":"رحمه شريف صلاح عبدالرحمن السعيد المستكاوى"},null,null,null,null,null,null,{"$f":"IF(AND($J$3=ورقة1!H50,الطباعة!$K$3=ورقة1!I50),1,0)","v":0},{"$f":"IF(I56=0,\"\",SUM($I$8:I56))","v":""}]
[{"$f":"IF(B57=\"\",\"\",SUBTOTAL(3,$B$9:B57))","v":49},{"$f":"IFERROR(INDEX(ورقة1!$F$2:$F$500,MATCH(ROW()-8,الطباعة!$J$8:$J$536,0)),\"\")","v":"رضوى محمود شاكر محمود حسينى حشيش"},null,null,null,null,null,null,{"$f":"IF(AND($J$3=ورقة1!H51,الطباعة!$K$3=ورقة1!I51),1,0)","v":1},{"$f":"IF(I57=0,\"\",SUM($I$8:I57))","v":16}]
[{"$f":"IF(B58=\"\",\"\",SUBTOTAL(3,$B$9:B58))","v":50},{"$f":"IFERROR(INDEX(ورقة1!$F$2:$F$500,MATCH(ROW()-8,الطباعة!$J$8:$J$536,0)),\"\")","v":"روان عبدالمجيد محمد عبدالمجيد حطب"},null,null,null,null,null,null,{"$f":"IF(AND($J$3=ورقة1!H52,الطباعة!$K$3=ورقة1!I52),1,0)","v":1},{"$f":"IF(I58=0,\"\",SUM($I$8:I58))","v":17}]
[{"$f":"IF(B59=\"\",\"\",SUBTOTAL(3,$B$9:B59))","v":51},{"$f":"IFERROR(INDEX(ورقة1!$F$2:$F$500,MATCH(ROW()-8,الطباعة!$J$8:$J$536,0)),\"\")","v":"روان هانى سعد عبد الفتاح محمد عبا"},null,null,null,null,null,null,{"$f":"IF(AND($J$3=ورقة1!H53,الطباعة!$K$3=ورقة1!I53),1,0)","v":1},{"$f":"IF(I59=0,\"\",SUM($I$8:I59))","v":18}]
[{"$f":"IF(B60=\"\",\"\",SUBTOTAL(3,$B$9:B60))","v":52},{"$f":"IFERROR(INDEX(ورقة1!$F$2:$F$500,MATCH(ROW()-8,الطباعة!$J$8:$J$536,0)),\"\")","v":"روضه صالح فتحى عبد الرحمن احمد خفاجى"},null,null,null,null,null,null,{"$f":"IF(AND($J$3=ورقة1!H54,الطباعة!$K$3=ورقة1!I54),1,0)","v":1},{"$f":"IF(I60=0,\"\",SUM($I$8:I60))","v":19}]
[{"$f":"IF(B61=\"\",\"\",SUBTOTAL(3,$B$9:B61))","v":53},{"$f":"IFERROR(INDEX(ورقة1!$F$2:$F$500,MATCH(ROW()-8,الطباعة!$J$8:$J$536,0)),\"\")","v":"روينا عبد المنعم شوقى عبد المنعم امام راشد"},null,null,null,null,null,null,{"$f":"IF(AND($J$3=ورقة1!H55,الطباعة!$K$3=ورقة1!I55),1,0)","v":1},{"$f":"IF(I61=0,\"\",SUM($I$8:I61))","v":20}]
[{"$f":"IF(B62=\"\",\"\",SUBTOTAL(3,$B$9:B62))","v":54},{"$f":"IFERROR(INDEX(ورقة1!$F$2:$F$500,MATCH(ROW()-8,الطباعة!$J$8:$J$536,0)),\"\")","v":"زهراء مجدى فتحى عبد السلام صوابى"},null,null,null,null,null,null,{"$f":"IF(AND($J$3=ورقة1!H56,الطباعة!$K$3=ورقة1!I56),1,0)","v":1},{"$f":"IF(I62=0,\"\",SUM($I$8:I62))","v":21}]
[{"$f":"IF(B63=\"\",\"\",SUBTOTAL(3,$B$9:B63))","v":55},{"$f":"IFERROR(INDEX(ورقة1!$F$2:$F$500,MATCH(ROW()-8,الطباعة!$J$8:$J$536,0)),\"\")","v":"سارة السيد محمد عبد البر محمد شرف الدين"},null,null,null,null,null,null,{"$f":"IF(AND($J$3=ورقة1!H57,الطباعة!$K$3=ورقة1!I57),1,0)","v":1},{"$f":"IF(I63=0,\"\",SUM($I$8:I63))","v":22}]
[{"$f":"IF(B64=\"\",\"\",SUBTOTAL(3,$B$9:B64))","v":56},{"$f":"IFERROR(INDEX(ورقة1!$F$2:$F$500,MATCH(ROW()-8,الطباعة!$J$8:$J$536,0)),\"\")","v":"سلمى رزق السعيد جبر منصور الشيخ"},null,null,null,null,null,null,{"$f":"IF(AND($J$3=ورقة1!H58,الطباعة!$K$3=ورقة1!I58),1,0)","v":1},{"$f":"IF(I64=0,\"\",SUM($I$8:I64))","v":23}]
[{"$f":"IF(B65=\"\",\"\",SUBTOTAL(3,$B$9:B65))","v":57},{"$f":"IFERROR(INDEX(ورقة1!$F$2:$F$500,MATCH(ROW()-8,الطباعة!$J$8:$J$536,0)),\"\")","v":"سلمى محمد احمد محمد عفيفى"},null,null,null,null,null,null,{"$f":"IF(AND($J$3=ورقة1!H59,الطباعة!$K$3=ورقة1!I59),1,0)","v":1},{"$f":"IF(I65=0,\"\",SUM($I$8:I65))","v":24}]
[{"$f":"IF(B66=\"\",\"\",SUBTOTAL(3,$B$9:B66))","v":58},{"$f":"IFERROR(INDEX(ورقة1!$F$2:$F$500,MATCH(ROW()-8,الطباعة!$J$8:$J$536,0)),\"\")","v":"سلمى وليد فوزى ابوالعينين على"},null,null,null,null,null,null,{"$f":"IF(AND($J$3=ورقة1!H60,الطباعة!$K$3=ورقة1!I60),1,0)","v":1},{"$f":"IF(I66=0,\"\",SUM($I$8:I66))","v":25}]
[{"$f":"IF(B67=\"\",\"\",SUBTOTAL(3,$B$9:B67))","v":59},{"$f":"IFERROR(INDEX(ورقة1!$F$2:$F$500,MATCH(ROW()-8,الطباعة!$J$8:$J$536,0)),\"\")","v":"سما سمير رمضان حسن كفافى"},null,null,null,null,null,null,{"$f":"IF(AND($J$3=ورقة1!H61,الطباعة!$K$3=ورقة1!I61),1,0)","v":1},{"$f":"IF(I67=0,\"\",SUM($I$8:I67))","v":26}]
[{"$f":"IF(B68=\"\",\"\",SUBTOTAL(3,$B$9:B68))","v":60},{"$f":"IFERROR(INDEX(ورقة1!$F$2:$F$500,MATCH(ROW()-8,الطباعة!$J$8:$J$536,0)),\"\")","v":"مريم طارق عبدالرحمن عبدالمرضى بدوى"},null,null,null,null,null,null,{"$f":"IF(AND($J$3=ورقة1!H62,الطباعة!$K$3=ورقة1!I62),1,0)","v":1},{"$f":"IF(I68=0,\"\",SUM($I$8:I68))","v":27}]
[{"$f":"IF(B69=\"\",\"\",SUBTOTAL(3,$B$9:B69))","v":61},{"$f":"IFERROR(INDEX(ورقة1!$F$2:$F$500,MATCH(ROW()-8,الطباعة!$J$8:$J$536,0)),\"\")","v":"مها عبدالفتاح عبدالمجيد امين سويلم"},null,null,null,null,null,null,{"$f":"IF(AND($J$3=ورقة1!H63,الطباعة!$K$3=ورقة1!I63),1,0)","v":1},{"$f":"IF(I69=0,\"\",SUM($I$8:I69))","v":28}]
[{"$f":"IF(B70=\"\",\"\",SUBTOTAL(3,$B$9:B70))","v":62},{"$f":"IFERROR(INDEX(ورقة1!$F$2:$F$500,MATCH(ROW()-8,الطباعة!$J$8:$J$536,0)),\"\")","v":"نور محمد فرحات على محمد عامر"},null,null,null,null,null,null,{"$f":"IF(AND($J$3=ورقة1!H64,الطباعة!$K$3=ورقة1!I64),1,0)","v":0},{"$f":"IF(I70=0,\"\",SUM($I$8:I70))","v":""}]
[{"$f":"IF(B71=\"\",\"\",SUBTOTAL(3,$B$9:B71))","v":63},{"$f":"IFERROR(INDEX(ورقة1!$F$2:$F$500,MATCH(ROW()-8,الطباعة!$J$8:$J$536,0)),\"\")","v":"وفاء عبد العليم جلال فتحى عبد العليم عياد"},null,null,null,null,null,null,{"$f":"IF(AND($J$3=ورقة1!H65,الطباعة!$K$3=ورقة1!I65),1,0)","v":0},{"$f":"IF(I71=0,\"\",SUM($I$8:I71))","v":""}]
[{"$f":"IF(B72=\"\",\"\",SUBTOTAL(3,$B$9:B72))","v":64},{"$f":"IFERROR(INDEX(ورقة1!$F$2:$F$500,MATCH(ROW()-8,الطباعة!$J$8:$J$536,0)),\"\")","v":"ياسمين اشرف فتحى حسين حسن عمار"},null,null,null,null,null,null,{"$f":"IF(AND($J$3=ورقة1!H66,الطباعة!$K$3=ورقة1!I66),1,0)","v":0},{"$f":"IF(I72=0,\"\",SUM($I$8:I72))","v":""}]
[{"$f":"IF(B73=\"\",\"\",SUBTOTAL(3,$B$9:B73))","v":""},{"$f":"IFERROR(INDEX(ورقة1!$F$2:$F$500,MATCH(ROW()-8,الطباعة!$J$8:$J$536,0)),\"\")","v":""},null,null,null,null,null,null,{"$f":"IF(AND($J$3=ورقة1!H67,الطباعة!$K$3=ورقة1!I67),1,0)","v":0},{"$f":"IF(I73=0,\"\",SUM($I$8:I73))","v":""}]
[{"$f":"IF(B74=\"\",\"\",SUBTOTAL(3,$B$9:B74))","v":""},{"$f":"IFERROR(INDEX(ورقة1!$F$2:$F$500,MATCH(ROW()-8,الطباعة!$J$8:$J$536,0)),\"\")","v":""},null,null,null,null,null,null,{"$f":"IF(AND($J$3=ورقة1!H68,الطباعة!$K$3=ورقة1!I68),1,0)","v":0},{"$f":"IF(I74=0,\"\",SUM($I$8:I74))","v":""}]
[{"$f":"IF(B75=\"\",\"\",SUBTOTAL(3,$B$9:B75))","v":""},{"$f":"IFERROR(INDEX(ورقة1!$F$2:$F$500,MATCH(ROW()-8,الطباعة!$J$8:$J$536,0)),\"\")","v":""},null,null,null,null,null,null,{"$f":"IF(AND($J$3=ورقة1!H69,الطباعة!$K$3=ورقة1!I69),1,0)","v":0},{"$f":"IF(I75=0,\"\",SUM($I$8:I75))","v":""}]
[{"$f":"IF(B76=\"\",\"\",SUBTOTAL(3,$B$9:B76))","v":""},{"$f":"IFERROR(INDEX(ورقة1!$F$2:$F$500,MATCH(ROW()-8,الطباعة!$J$8:$J$536,0)),\"\")","v":""},null,null,null,null,null,null,{"$f":"IF(AND($J$3=ورقة1!H70,الطباعة!$K$3=ورقة1!I70),1,0)","v":1},{"$f":"IF(I76=0,\"\",SUM($I$8:I76))","v":29}]
[{"$f":"IF(B77=\"\",\"\",SUBTOTAL(3,$B$9:B77))","v":""},{"$f":"IFERROR(INDEX(ورقة1!$F$2:$F$500,MATCH(ROW()-8,الطباعة!$J$8:$J$536,0)),\"\")","v":""},null,null,null,null,null,null,{"$f":"IF(AND($J$3=ورقة1!H71,الطباعة!$K$3=ورقة1!I71),1,0)","v":0},{"$f":"IF(I77=0,\"\",SUM($I$8:I77))","v":""}]
[{"$f":"IF(B78=\"\",\"\",SUBTOTAL(3,$B$9:B78))","v":""},{"$f":"IFERROR(INDEX(ورقة1!$F$2:$F$500,MATCH(ROW()-8,الطباعة!$J$8:$J$536,0)),\"\")","v":""},null,null,null,null,null,null,{"$f":"IF(AND($J$3=ورقة1!H72,الطباعة!$K$3=ورقة1!I72),1,0)","v":0},{"$f":"IF(I78=0,\"\",SUM($I$8:I78))","v":""}]
[{"$f":"IF(B79=\"\",\"\",SUBTOTAL(3,$B$9:B79))","v":""},{"$f":"IFERROR(INDEX(ورقة1!$F$2:$F$500,MATCH(ROW()-8,الطباعة!$J$8:$J$536,0)),\"\")","v":""},null,null,null,null,null,null,{"$f":"IF(AND($J$3=ورقة1!H73,الطباعة!$K$3=ورقة1!I73),1,0)","v":0},{"$f":"IF(I79=0,\"\",SUM($I$8:I79))","v":""}]
[{"$f":"IF(B80=\"\",\"\",SUBTOTAL(3,$B$9:B80))","v":""},{"$f":"IFERROR(INDEX(ورقة1!$F$2:$F$500,MATCH(ROW()-8,الطباعة!$J$8:$J$536,0)),\"\")","v":""},null,null,null,null,null,null,{"$f":"IF(AND($J$3=ورقة1!H74,الطباعة!$K$3=ورقة1!I74),1,0)","v":0},{"$f":"IF(I80=0,\"\",SUM($I$8:I80))","v":""}]
[{"$f":"IF(B81=\"\",\"\",SUBTOTAL(3,$B$9:B81))","v":""},{"$f":"IFERROR(INDEX(ورقة1!$F$2:$F$500,MATCH(ROW()-8,الطباعة!$J$8:$J$536,0)),\"\")","v":""},null,null,null,null,null,null,{"$f":"IF(AND($J$3=ورقة1!H75,الطباعة!$K$3=ورقة1!I75),1,0)","v":0},{"$f":"IF(I81=0,\"\",SUM($I$8:I81))","v":""}]
[{"$f":"IF(B82=\"\",\"\",SUBTOTAL(3,$B$9:B82))","v":""},{"$f":"IFERROR(INDEX(ورقة1!$F$2:$F$500,MATCH(ROW()-8,الطباعة!$J$8:$J$536,0)),\"\")","v":""},null,null,null,null,null,null,{"$f":"IF(AND($J$3=ورقة1!H76,الطباعة!$K$3=ورقة1!I76),1,0)","v":0},{"$f":"IF(I82=0,\"\",SUM($I$8:I82))","v":""}]
[{"$f":"IF(B83=\"\",\"\",SUBTOTAL(3,$B$9:B83))","v":""},{"$f":"IFERROR(INDEX(ورقة1!$F$2:$F$500,MATCH(ROW()-8,الطباعة!$J$8:$J$536,0)),\"\")","v":""},null,null,null,null,null,null,{"$f":"IF(AND($J$3=ورقة1!H77,الطباعة!$K$3=ورقة1!I77),1,0)","v":0},{"$f":"IF(I83=0,\"\",SUM($I$8:I83))","v":""}]
[{"$f":"IF(B84=\"\",\"\",SUBTOTAL(3,$B$9:B84))","v":""},{"$f":"IFERROR(INDEX(ورقة1!$F$2:$F$500,MATCH(ROW()-8,الطباعة!$J$8:$J$536,0)),\"\")","v":""},null,null,null,null,null,null,{"$f":"IF(AND($J$3=ورقة1!H78,الطباعة!$K$3=ورقة1!I78),1,0)","v":0},{"$f":"IF(I84=0,\"\",SUM($I$8:I84))","v":""}]
[{"$f":"IF(B85=\"\",\"\",SUBTOTAL(3,$B$9:B85))","v":""},{"$f":"IFERROR(INDEX(ورقة1!$F$2:$F$500,MATCH(ROW()-8,الطباعة!$J$8:$J$536,0)),\"\")","v":""},null,null,null,null,null,null,{"$f":"IF(AND($J$3=ورقة1!H79,الطباعة!$K$3=ورقة1!I79),1,0)","v":0},{"$f":"IF(I85=0,\"\",SUM($I$8:I85))","v":""}]
[{"$f":"IF(B86=\"\",\"\",SUBTOTAL(3,$B$9:B86))","v":""},{"$f":"IFERROR(INDEX(ورقة1!$F$2:$F$500,MATCH(ROW()-8,الطباعة!$J$8:$J$536,0)),\"\")","v":""},null,null,null,null,null,null,{"$f":"IF(AND($J$3=ورقة1!H80,الطباعة!$K$3=ورقة1!I80),1,0)","v":0},{"$f":"IF(I86=0,\"\",SUM($I$8:I86))","v":""}]
[{"$f":"IF(B87=\"\",\"\",SUBTOTAL(3,$B$9:B87))","v":""},{"$f":"IFERROR(INDEX(ورقة1!$F$2:$F$500,MATCH(ROW()-8,الطباعة!$J$8:$J$536,0)),\"\")","v":""},null,null,null,null,null,null,{"$f":"IF(AND($J$3=ورقة1!H81,الطباعة!$K$3=ورقة1!I81),1,0)","v":0},{"$f":"IF(I87=0,\"\",SUM($I$8:I87))","v":""}]
[{"$f":"IF(B88=\"\",\"\",SUBTOTAL(3,$B$9:B88))","v":""},{"$f":"IFERROR(INDEX(ورقة1!$F$2:$F$500,MATCH(ROW()-8,الطباعة!$J$8:$J$536,0)),\"\")","v":""},null,null,null,null,null,null,{"$f":"IF(AND($J$3=ورقة1!H82,الطباعة!$K$3=ورقة1!I82),1,0)","v":0},{"$f":"IF(I88=0,\"\",SUM($I$8:I88))","v":""}]
[{"$f":"IF(B89=\"\",\"\",SUBTOTAL(3,$B$9:B89))","v":""},{"$f":"IFERROR(INDEX(ورقة1!$F$2:$F$500,MATCH(ROW()-8,الطباعة!$J$8:$J$536,0)),\"\")","v":""},null,null,null,null,null,null,{"$f":"IF(AND($J$3=ورقة1!H83,الطباعة!$K$3=ورقة1!I83),1,0)","v":0},{"$f":"IF(I89=0,\"\",SUM($I$8:I89))","v":""}]
[{"$f":"IF(B90=\"\",\"\",SUBTOTAL(3,$B$9:B90))","v":""},{"$f":"IFERROR(INDEX(ورقة1!$F$2:$F$500,MATCH(ROW()-8,الطباعة!$J$8:$J$536,0)),\"\")","v":""},null,null,null,null,null,null,{"$f":"IF(AND($J$3=ورقة1!H84,الطباعة!$K$3=ورقة1!I84),1,0)","v":0},{"$f":"IF(I90=0,\"\",SUM($I$8:I90))","v":""}]
[{"$f":"IF(B91=\"\",\"\",SUBTOTAL(3,$B$9:B91))","v":""},{"$f":"IFERROR(INDEX(ورقة1!$F$2:$F$500,MATCH(ROW()-8,الطباعة!$J$8:$J$536,0)),\"\")","v":""},null,null,null,null,null,null,{"$f":"IF(AND($J$3=ورقة1!H85,الطباعة!$K$3=ورقة1!I85),1,0)","v":0},{"$f":"IF(I91=0,\"\",SUM($I$8:I91))","v":""}]
[{"$f":"IF(B92=\"\",\"\",SUBTOTAL(3,$B$9:B92))","v":""},{"$f":"IFERROR(INDEX(ورقة1!$F$2:$F$500,MATCH(ROW()-8,الطباعة!$J$8:$J$536,0)),\"\")","v":""},null,null,null,null,null,null,{"$f":"IF(AND($J$3=ورقة1!H86,الطباعة!$K$3=ورقة1!I86),1,0)","v":0},{"$f":"IF(I92=0,\"\",SUM($I$8:I92))","v":""}]
[{"$f":"IF(B93=\"\",\"\",SUBTOTAL(3,$B$9:B93))","v":""},{"$f":"IFERROR(INDEX(ورقة1!$F$2:$F$500,MATCH(ROW()-8,الطباعة!$J$8:$J$536,0)),\"\")","v":""},null,null,null,null,null,null,{"$f":"IF(AND($J$3=ورقة1!H87,الطباعة!$K$3=ورقة1!I87),1,0)","v":1},{"$f":"IF(I93=0,\"\",SUM($I$8:I93))","v":30}]
[{"$f":"IF(B94=\"\",\"\",SUBTOTAL(3,$B$9:B94))","v":""},{"$f":"IFERROR(INDEX(ورقة1!$F$2:$F$500,MATCH(ROW()-8,الطباعة!$J$8:$J$536,0)),\"\")","v":""},null,null,null,null,null,null,{"$f":"IF(AND($J$3=ورقة1!H88,الطباعة!$K$3=ورقة1!I88),1,0)","v":0},{"$f":"IF(I94=0,\"\",SUM($I$8:I94))","v":""}]
[{"$f":"IF(B95=\"\",\"\",SUBTOTAL(3,$B$9:B95))","v":""},{"$f":"IFERROR(INDEX(ورقة1!$F$2:$F$500,MATCH(ROW()-8,الطباعة!$J$8:$J$536,0)),\"\")","v":""},null,null,null,null,null,null,{"$f":"IF(AND($J$3=ورقة1!H89,الطباعة!$K$3=ورقة1!I89),1,0)","v":0},{"$f":"IF(I95=0,\"\",SUM($I$8:I95))","v":""}]
[{"$f":"IF(B96=\"\",\"\",SUBTOTAL(3,$B$9:B96))","v":""},{"$f":"IFERROR(INDEX(ورقة1!$F$2:$F$500,MATCH(ROW()-8,الطباعة!$J$8:$J$536,0)),\"\")","v":""},null,null,null,null,null,null,{"$f":"IF(AND($J$3=ورقة1!H90,الطباعة!$K$3=ورقة1!I90),1,0)","v":0},{"$f":"IF(I96=0,\"\",SUM($I$8:I96))","v":""}]
[{"$f":"IF(B97=\"\",\"\",SUBTOTAL(3,$B$9:B97))","v":""},{"$f":"IFERROR(INDEX(ورقة1!$F$2:$F$500,MATCH(ROW()-8,الطباعة!$J$8:$J$536,0)),\"\")","v":""},null,null,null,null,null,null,{"$f":"IF(AND($J$3=ورقة1!H91,الطباعة!$K$3=ورقة1!I91),1,0)","v":0},{"$f":"IF(I97=0,\"\",SUM($I$8:I97))","v":""}]
[{"$f":"IF(B98=\"\",\"\",SUBTOTAL(3,$B$9:B98))","v":""},{"$f":"IFERROR(INDEX(ورقة1!$F$2:$F$500,MATCH(ROW()-8,الطباعة!$J$8:$J$536,0)),\"\")","v":""},null,null,null,null,null,null,{"$f":"IF(AND($J$3=ورقة1!H92,الطباعة!$K$3=ورقة1!I92),1,0)","v":0},{"$f":"IF(I98=0,\"\",SUM($I$8:I98))","v":""}]
[{"$f":"IF(B99=\"\",\"\",SUBTOTAL(3,$B$9:B99))","v":""},{"$f":"IFERROR(INDEX(ورقة1!$F$2:$F$500,MATCH(ROW()-8,الطباعة!$J$8:$J$536,0)),\"\")","v":""},null,null,null,null,null,null,{"$f":"IF(AND($J$3=ورقة1!H93,الطباعة!$K$3=ورقة1!I93),1,0)","v":0},{"$f":"IF(I99=0,\"\",SUM($I$8:I99))","v":""}]
[{"$f":"IF(B100=\"\",\"\",SUBTOTAL(3,$B$9:B100))","v":""},{"$f":"IFERROR(INDEX(ورقة1!$F$2:$F$500,MATCH(ROW()-8,الطباعة!$J$8:$J$536,0)),\"\")","v":""},null,null,null,null,null,null,{"$f":"IF(AND($J$3=ورقة1!H94,الطباعة!$K$3=ورقة1!I94),1,0)","v":0},{"$f":"IF(I100=0,\"\",SUM($I$8:I100))","v":""}]
[{"$f":"IF(B101=\"\",\"\",SUBTOTAL(3,$B$9:B101))","v":""},{"$f":"IFERROR(INDEX(ورقة1!$F$2:$F$500,MATCH(ROW()-8,الطباعة!$J$8:$J$536,0)),\"\")","v":""},null,null,null,null,null,null,{"$f":"IF(AND($J$3=ورقة1!H95,الطباعة!$K$3=ورقة1!I95),1,0)","v":0},{"$f":"IF(I101=0,\"\",SUM($I$8:I101))","v":""}]
[{"$f":"IF(B102=\"\",\"\",SUBTOTAL(3,$B$9:B102))","v":""},{"$f":"IFERROR(INDEX(ورقة1!$F$2:$F$500,MATCH(ROW()-8,الطباعة!$J$8:$J$536,0)),\"\")","v":""},null,null,null,null,null,null,{"$f":"IF(AND($J$3=ورقة1!H96,الطباعة!$K$3=ورقة1!I96),1,0)","v":0},{"$f":"IF(I102=0,\"\",SUM($I$8:I102))","v":""}]
[{"$f":"IF(B103=\"\",\"\",SUBTOTAL(3,$B$9:B103))","v":""},{"$f":"IFERROR(INDEX(ورقة1!$F$2:$F$500,MATCH(ROW()-8,الطباعة!$J$8:$J$536,0)),\"\")","v":""},null,null,null,null,null,null,{"$f":"IF(AND($J$3=ورقة1!H97,الطباعة!$K$3=ورقة1!I97),1,0)","v":0},{"$f":"IF(I103=0,\"\",SUM($I$8:I103))","v":""}]
[{"$f":"IF(B104=\"\",\"\",SUBTOTAL(3,$B$9:B104))","v":""},{"$f":"IFERROR(INDEX(ورقة1!$F$2:$F$500,MATCH(ROW()-8,الطباعة!$J$8:$J$536,0)),\"\")","v":""},null,null,null,null,null,null,{"$f":"IF(AND($J$3=ورقة1!H98,الطباعة!$K$3=ورقة1!I98),1,0)","v":0},{"$f":"IF(I104=0,\"\",SUM($I$8:I104))","v":""}]
[{"$f":"IF(B105=\"\",\"\",SUBTOTAL(3,$B$9:B105))","v":""},{"$f":"IFERROR(INDEX(ورقة1!$F$2:$F$500,MATCH(ROW()-8,الطباعة!$J$8:$J$536,0)),\"\")","v":""},null,null,null,null,null,null,{"$f":"IF(AND($J$3=ورقة1!H99,الطباعة!$K$3=ورقة1!I99),1,0)","v":0},{"$f":"IF(I105=0,\"\",SUM($I$8:I105))","v":""}]
[{"$f":"IF(B106=\"\",\"\",SUBTOTAL(3,$B$9:B106))","v":""},{"$f":"IFERROR(INDEX(ورقة1!$F$2:$F$500,MATCH(ROW()-8,الطباعة!$J$8:$J$536,0)),\"\")","v":""},null,null,null,null,null,null,{"$f":"IF(AND($J$3=ورقة1!H100,الطباعة!$K$3=ورقة1!I100),1,0)","v":0},{"$f":"IF(I106=0,\"\",SUM($I$8:I106))","v":""}]
[{"$f":"IF(B107=\"\",\"\",SUBTOTAL(3,$B$9:B107))","v":""},{"$f":"IFERROR(INDEX(ورقة1!$F$2:$F$500,MATCH(ROW()-8,الطباعة!$J$8:$J$536,0)),\"\")","v":""},null,null,null,null,null,null,{"$f":"IF(AND($J$3=ورقة1!H101,الطباعة!$K$3=ورقة1!I101),1,0)","v":0},{"$f":"IF(I107=0,\"\",SUM($I$8:I107))","v":""}]
[{"$f":"IF(B108=\"\",\"\",SUBTOTAL(3,$B$9:B108))","v":""},{"$f":"IFERROR(INDEX(ورقة1!$F$2:$F$500,MATCH(ROW()-8,الطباعة!$J$8:$J$536,0)),\"\")","v":""},null,null,null,null,null,null,{"$f":"IF(AND($J$3=ورقة1!H102,الطباعة!$K$3=ورقة1!I102),1,0)","v":0},{"$f":"IF(I108=0,\"\",SUM($I$8:I108))","v":""}]
[{"$f":"IF(B109=\"\",\"\",SUBTOTAL(3,$B$9:B109))","v":""},{"$f":"IFERROR(INDEX(ورقة1!$F$2:$F$500,MATCH(ROW()-8,الطباعة!$J$8:$J$536,0)),\"\")","v":""},null,null,null,null,null,null,{"$f":"IF(AND($J$3=ورقة1!H103,الطباعة!$K$3=ورقة1!I103),1,0)","v":0},{"$f":"IF(I109=0,\"\",SUM($I$8:I109))","v":""}]
[{"$f":"IF(B110=\"\",\"\",SUBTOTAL(3,$B$9:B110))","v":""},{"$f":"IFERROR(INDEX(ورقة1!$F$2:$F$500,MATCH(ROW()-8,الطباعة!$J$8:$J$536,0)),\"\")","v":""},null,null,null,null,null,null,{"$f":"IF(AND($J$3=ورقة1!H104,الطباعة!$K$3=ورقة1!I104),1,0)","v":0},{"$f":"IF(I110=0,\"\",SUM($I$8:I110))","v":""}]
[{"$f":"IF(B111=\"\",\"\",SUBTOTAL(3,$B$9:B111))","v":""},{"$f":"IFERROR(INDEX(ورقة1!$F$2:$F$500,MATCH(ROW()-8,الطباعة!$J$8:$J$536,0)),\"\")","v":""},null,null,null,null,null,null,{"$f":"IF(AND($J$3=ورقة1!H105,الطباعة!$K$3=ورقة1!I105),1,0)","v":0},{"$f":"IF(I111=0,\"\",SUM($I$8:I111))","v":""}]
[{"$f":"IF(B112=\"\",\"\",SUBTOTAL(3,$B$9:B112))","v":""},{"$f":"IFERROR(INDEX(ورقة1!$F$2:$F$500,MATCH(ROW()-8,الطباعة!$J$8:$J$536,0)),\"\")","v":""},null,null,null,null,null,null,{"$f":"IF(AND($J$3=ورقة1!H106,الطباعة!$K$3=ورقة1!I106),1,0)","v":0},{"$f":"IF(I112=0,\"\",SUM($I$8:I112))","v":""}]
[{"$f":"IF(B113=\"\",\"\",SUBTOTAL(3,$B$9:B113))","v":""},{"$f":"IFERROR(INDEX(ورقة1!$F$2:$F$500,MATCH(ROW()-8,الطباعة!$J$8:$J$536,0)),\"\")","v":""},null,null,null,null,null,null,{"$f":"IF(AND($J$3=ورقة1!H107,الطباعة!$K$3=ورقة1!I107),1,0)","v":0},{"$f":"IF(I113=0,\"\",SUM($I$8:I113))","v":""}]
[{"$f":"IF(B114=\"\",\"\",SUBTOTAL(3,$B$9:B114))","v":""},{"$f":"IFERROR(INDEX(ورقة1!$F$2:$F$500,MATCH(ROW()-8,الطباعة!$J$8:$J$536,0)),\"\")","v":""},null,null,null,null,null,null,{"$f":"IF(AND($J$3=ورقة1!H108,الطباعة!$K$3=ورقة1!I108),1,0)","v":0},{"$f":"IF(I114=0,\"\",SUM($I$8:I114))","v":""}]
[{"$f":"IF(B115=\"\",\"\",SUBTOTAL(3,$B$9:B115))","v":""},{"$f":"IFERROR(INDEX(ورقة1!$F$2:$F$500,MATCH(ROW()-8,الطباعة!$J$8:$J$536,0)),\"\")","v":""},null,null,null,null,null,null,{"$f":"IF(AND($J$3=ورقة1!H109,الطباعة!$K$3=ورقة1!I109),1,0)","v":0},{"$f":"IF(I115=0,\"\",SUM($I$8:I115))","v":""}]
[{"$f":"IF(B116=\"\",\"\",SUBTOTAL(3,$B$9:B116))","v":""},{"$f":"IFERROR(INDEX(ورقة1!$F$2:$F$500,MATCH(ROW()-8,الطباعة!$J$8:$J$536,0)),\"\")","v":""},null,null,null,null,null,null,{"$f":"IF(AND($J$3=ورقة1!H110,الطباعة!$K$3=ورقة1!I110),1,0)","v":0},{"$f":"IF(I116=0,\"\",SUM($I$8:I116))","v":""}]
[{"$f":"IF(B117=\"\",\"\",SUBTOTAL(3,$B$9:B117))","v":""},{"$f":"IFERROR(INDEX(ورقة1!$F$2:$F$500,MATCH(ROW()-8,الطباعة!$J$8:$J$536,0)),\"\")","v":""},null,null,null,null,null,null,{"$f":"IF(AND($J$3=ورقة1!H111,الطباعة!$K$3=ورقة1!I111),1,0)","v":0},{"$f":"IF(I117=0,\"\",SUM($I$8:I117))","v":""}]
[{"$f":"IF(B118=\"\",\"\",SUBTOTAL(3,$B$9:B118))","v":""},{"$f":"IFERROR(INDEX(ورقة1!$F$2:$F$500,MATCH(ROW()-8,الطباعة!$J$8:$J$536,0)),\"\")","v":""},null,null,null,null,null,null,{"$f":"IF(AND($J$3=ورقة1!H112,الطباعة!$K$3=ورقة1!I112),1,0)","v":0},{"$f":"IF(I118=0,\"\",SUM($I$8:I118))","v":""}]
[{"$f":"IF(B119=\"\",\"\",SUBTOTAL(3,$B$9:B119))","v":""},{"$f":"IFERROR(INDEX(ورقة1!$F$2:$F$500,MATCH(ROW()-8,الطباعة!$J$8:$J$536,0)),\"\")","v":""},null,null,null,null,null,null,{"$f":"IF(AND($J$3=ورقة1!H113,الطباعة!$K$3=ورقة1!I113),1,0)","v":0},{"$f":"IF(I119=0,\"\",SUM($I$8:I119))","v":""}]
[{"$f":"IF(B120=\"\",\"\",SUBTOTAL(3,$B$9:B120))","v":""},{"$f":"IFERROR(INDEX(ورقة1!$F$2:$F$500,MATCH(ROW()-8,الطباعة!$J$8:$J$536,0)),\"\")","v":""},null,null,null,null,null,null,{"$f":"IF(AND($J$3=ورقة1!H114,الطباعة!$K$3=ورقة1!I114),1,0)","v":0},{"$f":"IF(I120=0,\"\",SUM($I$8:I120))","v":""}]
[{"$f":"IF(B121=\"\",\"\",SUBTOTAL(3,$B$9:B121))","v":""},{"$f":"IFERROR(INDEX(ورقة1!$F$2:$F$500,MATCH(ROW()-8,الطباعة!$J$8:$J$536,0)),\"\")","v":""},null,null,null,null,null,null,{"$f":"IF(AND($J$3=ورقة1!H115,الطباعة!$K$3=ورقة1!I115),1,0)","v":0},{"$f":"IF(I121=0,\"\",SUM($I$8:I121))","v":""}]
[{"$f":"IF(B122=\"\",\"\",SUBTOTAL(3,$B$9:B122))","v":""},{"$f":"IFERROR(INDEX(ورقة1!$F$2:$F$500,MATCH(ROW()-8,الطباعة!$J$8:$J$536,0)),\"\")","v":""},null,null,null,null,null,null,{"$f":"IF(AND($J$3=ورقة1!H116,الطباعة!$K$3=ورقة1!I116),1,0)","v":0},{"$f":"IF(I122=0,\"\",SUM($I$8:I122))","v":""}]
[{"$f":"IF(B123=\"\",\"\",SUBTOTAL(3,$B$9:B123))","v":""},{"$f":"IFERROR(INDEX(ورقة1!$F$2:$F$500,MATCH(ROW()-8,الطباعة!$J$8:$J$536,0)),\"\")","v":""},null,null,null,null,null,null,{"$f":"IF(AND($J$3=ورقة1!H117,الطباعة!$K$3=ورقة1!I117),1,0)","v":0},{"$f":"IF(I123=0,\"\",SUM($I$8:I123))","v":""}]
[{"$f":"IF(B124=\"\",\"\",SUBTOTAL(3,$B$9:B124))","v":""},{"$f":"IFERROR(INDEX(ورقة1!$F$2:$F$500,MATCH(ROW()-8,الطباعة!$J$8:$J$536,0)),\"\")","v":""},null,null,null,null,null,null,{"$f":"IF(AND($J$3=ورقة1!H118,الطباعة!$K$3=ورقة1!I118),1,0)","v":0},{"$f":"IF(I124=0,\"\",SUM($I$8:I124))","v":""}]
[{"$f":"IF(B125=\"\",\"\",SUBTOTAL(3,$B$9:B125))","v":""},{"$f":"IFERROR(INDEX(ورقة1!$F$2:$F$500,MATCH(ROW()-8,الطباعة!$J$8:$J$536,0)),\"\")","v":""},null,null,null,null,null,null,{"$f":"IF(AND($J$3=ورقة1!H119,الطباعة!$K$3=ورقة1!I119),1,0)","v":0},{"$f":"IF(I125=0,\"\",SUM($I$8:I125))","v":""}]
[{"$f":"IF(B126=\"\",\"\",SUBTOTAL(3,$B$9:B126))","v":""},{"$f":"IFERROR(INDEX(ورقة1!$F$2:$F$500,MATCH(ROW()-8,الطباعة!$J$8:$J$536,0)),\"\")","v":""},null,null,null,null,null,null,{"$f":"IF(AND($J$3=ورقة1!H120,الطباعة!$K$3=ورقة1!I120),1,0)","v":0},{"$f":"IF(I126=0,\"\",SUM($I$8:I126))","v":""}]
[{"$f":"IF(B127=\"\",\"\",SUBTOTAL(3,$B$9:B127))","v":""},{"$f":"IFERROR(INDEX(ورقة1!$F$2:$F$500,MATCH(ROW()-8,الطباعة!$J$8:$J$536,0)),\"\")","v":""},null,null,null,null,null,null,{"$f":"IF(AND($J$3=ورقة1!H121,الطباعة!$K$3=ورقة1!I121),1,0)","v":0},{"$f":"IF(I127=0,\"\",SUM($I$8:I127))","v":""}]
[{"$f":"IF(B128=\"\",\"\",SUBTOTAL(3,$B$9:B128))","v":""},{"$f":"IFERROR(INDEX(ورقة1!$F$2:$F$500,MATCH(ROW()-8,الطباعة!$J$8:$J$536,0)),\"\")","v":""},null,null,null,null,null,null,{"$f":"IF(AND($J$3=ورقة1!H122,الطباعة!$K$3=ورقة1!I122),1,0)","v":0},{"$f":"IF(I128=0,\"\",SUM($I$8:I128))","v":""}]
[{"$f":"IF(B129=\"\",\"\",SUBTOTAL(3,$B$9:B129))","v":""},{"$f":"IFERROR(INDEX(ورقة1!$F$2:$F$500,MATCH(ROW()-8,الطباعة!$J$8:$J$536,0)),\"\")","v":""},null,null,null,null,null,null,{"$f":"IF(AND($J$3=ورقة1!H123,الطباعة!$K$3=ورقة1!I123),1,0)","v":0},{"$f":"IF(I129=0,\"\",SUM($I$8:I129))","v":""}]
[{"$f":"IF(B130=\"\",\"\",SUBTOTAL(3,$B$9:B130))","v":""},{"$f":"IFERROR(INDEX(ورقة1!$F$2:$F$500,MATCH(ROW()-8,الطباعة!$J$8:$J$536,0)),\"\")","v":""},null,null,null,null,null,null,{"$f":"IF(AND($J$3=ورقة1!H124,الطباعة!$K$3=ورقة1!I124),1,0)","v":0},{"$f":"IF(I130=0,\"\",SUM($I$8:I130))","v":""}]
[{"$f":"IF(B131=\"\",\"\",SUBTOTAL(3,$B$9:B131))","v":""},{"$f":"IFERROR(INDEX(ورقة1!$F$2:$F$500,MATCH(ROW()-8,الطباعة!$J$8:$J$536,0)),\"\")","v":""},null,null,null,null,null,null,{"$f":"IF(AND($J$3=ورقة1!H125,الطباعة!$K$3=ورقة1!I125),1,0)","v":0},{"$f":"IF(I131=0,\"\",SUM($I$8:I131))","v":""}]
[{"$f":"IF(B132=\"\",\"\",SUBTOTAL(3,$B$9:B132))","v":""},{"$f":"IFERROR(INDEX(ورقة1!$F$2:$F$500,MATCH(ROW()-8,الطباعة!$J$8:$J$536,0)),\"\")","v":""},null,null,null,null,null,null,{"$f":"IF(AND($J$3=ورقة1!H126,الطباعة!$K$3=ورقة1!I126),1,0)","v":1},{"$f":"IF(I132=0,\"\",SUM($I$8:I132))","v":31}]
[{"$f":"IF(B133=\"\",\"\",SUBTOTAL(3,$B$9:B133))","v":""},{"$f":"IFERROR(INDEX(ورقة1!$F$2:$F$500,MATCH(ROW()-8,الطباعة!$J$8:$J$536,0)),\"\")","v":""},null,null,null,null,null,null,{"$f":"IF(AND($J$3=ورقة1!H127,الطباعة!$K$3=ورقة1!I127),1,0)","v":0},{"$f":"IF(I133=0,\"\",SUM($I$8:I133))","v":""}]
[{"$f":"IF(B134=\"\",\"\",SUBTOTAL(3,$B$9:B134))","v":""},{"$f":"IFERROR(INDEX(ورقة1!$F$2:$F$500,MATCH(ROW()-8,الطباعة!$J$8:$J$536,0)),\"\")","v":""},null,null,null,null,null,null,{"$f":"IF(AND($J$3=ورقة1!H128,الطباعة!$K$3=ورقة1!I128),1,0)","v":0},{"$f":"IF(I134=0,\"\",SUM($I$8:I134))","v":""}]
[{"$f":"IF(B135=\"\",\"\",SUBTOTAL(3,$B$9:B135))","v":""},{"$f":"IFERROR(INDEX(ورقة1!$F$2:$F$500,MATCH(ROW()-8,الطباعة!$J$8:$J$536,0)),\"\")","v":""},null,null,null,null,null,null,{"$f":"IF(AND($J$3=ورقة1!H129,الطباعة!$K$3=ورقة1!I129),1,0)","v":0},{"$f":"IF(I135=0,\"\",SUM($I$8:I135))","v":""}]
[{"$f":"IF(B136=\"\",\"\",SUBTOTAL(3,$B$9:B136))","v":""},{"$f":"IFERROR(INDEX(ورقة1!$F$2:$F$500,MATCH(ROW()-8,الطباعة!$J$8:$J$536,0)),\"\")","v":""},null,null,null,null,null,null,{"$f":"IF(AND($J$3=ورقة1!H130,الطباعة!$K$3=ورقة1!I130),1,0)","v":0},{"$f":"IF(I136=0,\"\",SUM($I$8:I136))","v":""}]
[{"$f":"IF(B137=\"\",\"\",SUBTOTAL(3,$B$9:B137))","v":""},{"$f":"IFERROR(INDEX(ورقة1!$F$2:$F$500,MATCH(ROW()-8,الطباعة!$J$8:$J$536,0)),\"\")","v":""},null,null,null,null,null,null,{"$f":"IF(AND($J$3=ورقة1!H131,الطباعة!$K$3=ورقة1!I131),1,0)","v":0},{"$f":"IF(I137=0,\"\",SUM($I$8:I137))","v":""}]
[{"$f":"IF(B138=\"\",\"\",SUBTOTAL(3,$B$9:B138))","v":""},{"$f":"IFERROR(INDEX(ورقة1!$F$2:$F$500,MATCH(ROW()-8,الطباعة!$J$8:$J$536,0)),\"\")","v":""},null,null,null,null,null,null,{"$f":"IF(AND($J$3=ورقة1!H132,الطباعة!$K$3=ورقة1!I132),1,0)","v":0},{"$f":"IF(I138=0,\"\",SUM($I$8:I138))","v":""}]
[{"$f":"IF(B139=\"\",\"\",SUBTOTAL(3,$B$9:B139))","v":""},{"$f":"IFERROR(INDEX(ورقة1!$F$2:$F$500,MATCH(ROW()-8,الطباعة!$J$8:$J$536,0)),\"\")","v":""},null,null,null,null,null,null,{"$f":"IF(AND($J$3=ورقة1!H133,الطباعة!$K$3=ورقة1!I133),1,0)","v":0},{"$f":"IF(I139=0,\"\",SUM($I$8:I139))","v":""}]
[{"$f":"IF(B140=\"\",\"\",SUBTOTAL(3,$B$9:B140))","v":""},{"$f":"IFERROR(INDEX(ورقة1!$F$2:$F$500,MATCH(ROW()-8,الطباعة!$J$8:$J$536,0)),\"\")","v":""},null,null,null,null,null,null,{"$f":"IF(AND($J$3=ورقة1!H134,الطباعة!$K$3=ورقة1!I134),1,0)","v":0},{"$f":"IF(I140=0,\"\",SUM($I$8:I140))","v":""}]
[{"$f":"IF(B141=\"\",\"\",SUBTOTAL(3,$B$9:B141))","v":""},{"$f":"IFERROR(INDEX(ورقة1!$F$2:$F$500,MATCH(ROW()-8,الطباعة!$J$8:$J$536,0)),\"\")","v":""},null,null,null,null,null,null,{"$f":"IF(AND($J$3=ورقة1!H135,الطباعة!$K$3=ورقة1!I135),1,0)","v":0},{"$f":"IF(I141=0,\"\",SUM($I$8:I141))","v":""}]
[{"$f":"IF(B142=\"\",\"\",SUBTOTAL(3,$B$9:B142))","v":""},{"$f":"IFERROR(INDEX(ورقة1!$F$2:$F$500,MATCH(ROW()-8,الطباعة!$J$8:$J$536,0)),\"\")","v":""},null,null,null,null,null,null,{"$f":"IF(AND($J$3=ورقة1!H136,الطباعة!$K$3=ورقة1!I136),1,0)","v":0},{"$f":"IF(I142=0,\"\",SUM($I$8:I142))","v":""}]
[{"$f":"IF(B143=\"\",\"\",SUBTOTAL(3,$B$9:B143))","v":""},{"$f":"IFERROR(INDEX(ورقة1!$F$2:$F$500,MATCH(ROW()-8,الطباعة!$J$8:$J$536,0)),\"\")","v":""},null,null,null,null,null,null,{"$f":"IF(AND($J$3=ورقة1!H137,الطباعة!$K$3=ورقة1!I137),1,0)","v":0},{"$f":"IF(I143=0,\"\",SUM($I$8:I143))","v":""}]
[{"$f":"IF(B144=\"\",\"\",SUBTOTAL(3,$B$9:B144))","v":""},{"$f":"IFERROR(INDEX(ورقة1!$F$2:$F$500,MATCH(ROW()-8,الطباعة!$J$8:$J$536,0)),\"\")","v":""},null,null,null,null,null,null,{"$f":"IF(AND($J$3=ورقة1!H138,الطباعة!$K$3=ورقة1!I138),1,0)","v":0},{"$f":"IF(I144=0,\"\",SUM($I$8:I144))","v":""}]
[{"$f":"IF(B145=\"\",\"\",SUBTOTAL(3,$B$9:B145))","v":""},{"$f":"IFERROR(INDEX(ورقة1!$F$2:$F$500,MATCH(ROW()-8,الطباعة!$J$8:$J$536,0)),\"\")","v":""},null,null,null,null,null,null,{"$f":"IF(AND($J$3=ورقة1!H139,الطباعة!$K$3=ورقة1!I139),1,0)","v":0},{"$f":"IF(I145=0,\"\",SUM($I$8:I145))","v":""}]
[{"$f":"IF(B146=\"\",\"\",SUBTOTAL(3,$B$9:B146))","v":""},{"$f":"IFERROR(INDEX(ورقة1!$F$2:$F$500,MATCH(ROW()-8,الطباعة!$J$8:$J$536,0)),\"\")","v":""},null,null,null,null,null,null,{"$f":"IF(AND($J$3=ورقة1!H140,الطباعة!$K$3=ورقة1!I140),1,0)","v":0},{"$f":"IF(I146=0,\"\",SUM($I$8:I146))","v":""}]
[{"$f":"IF(B147=\"\",\"\",SUBTOTAL(3,$B$9:B147))","v":""},{"$f":"IFERROR(INDEX(ورقة1!$F$2:$F$500,MATCH(ROW()-8,الطباعة!$J$8:$J$536,0)),\"\")","v":""},null,null,null,null,null,null,{"$f":"IF(AND($J$3=ورقة1!H141,الطباعة!$K$3=ورقة1!I141),1,0)","v":0},{"$f":"IF(I147=0,\"\",SUM($I$8:I147))","v":""}]
[{"$f":"IF(B148=\"\",\"\",SUBTOTAL(3,$B$9:B148))","v":""},{"$f":"IFERROR(INDEX(ورقة1!$F$2:$F$500,MATCH(ROW()-8,الطباعة!$J$8:$J$536,0)),\"\")","v":""},null,null,null,null,null,null,{"$f":"IF(AND($J$3=ورقة1!H142,الطباعة!$K$3=ورقة1!I142),1,0)","v":0},{"$f":"IF(I148=0,\"\",SUM($I$8:I148))","v":""}]
[{"$f":"IF(B149=\"\",\"\",SUBTOTAL(3,$B$9:B149))","v":""},{"$f":"IFERROR(INDEX(ورقة1!$F$2:$F$500,MATCH(ROW()-8,الطباعة!$J$8:$J$536,0)),\"\")","v":""},null,null,null,null,null,null,{"$f":"IF(AND($J$3=ورقة1!H143,الطباعة!$K$3=ورقة1!I143),1,0)","v":0},{"$f":"IF(I149=0,\"\",SUM($I$8:I149))","v":""}]
[{"$f":"IF(B150=\"\",\"\",SUBTOTAL(3,$B$9:B150))","v":""},{"$f":"IFERROR(INDEX(ورقة1!$F$2:$F$500,MATCH(ROW()-8,الطباعة!$J$8:$J$536,0)),\"\")","v":""},null,null,null,null,null,null,{"$f":"IF(AND($J$3=ورقة1!H144,الطباعة!$K$3=ورقة1!I144),1,0)","v":0},{"$f":"IF(I150=0,\"\",SUM($I$8:I150))","v":""}]
[{"$f":"IF(B151=\"\",\"\",SUBTOTAL(3,$B$9:B151))","v":""},{"$f":"IFERROR(INDEX(ورقة1!$F$2:$F$500,MATCH(ROW()-8,الطباعة!$J$8:$J$536,0)),\"\")","v":""},null,null,null,null,null,null,{"$f":"IF(AND($J$3=ورقة1!H145,الطباعة!$K$3=ورقة1!I145),1,0)","v":0},{"$f":"IF(I151=0,\"\",SUM($I$8:I151))","v":""}]
[{"$f":"IF(B152=\"\",\"\",SUBTOTAL(3,$B$9:B152))","v":""},{"$f":"IFERROR(INDEX(ورقة1!$F$2:$F$500,MATCH(ROW()-8,الطباعة!$J$8:$J$536,0)),\"\")","v":""},null,null,null,null,null,null,{"$f":"IF(AND($J$3=ورقة1!H146,الطباعة!$K$3=ورقة1!I146),1,0)","v":0},{"$f":"IF(I152=0,\"\",SUM($I$8:I152))","v":""}]
[{"$f":"IF(B153=\"\",\"\",SUBTOTAL(3,$B$9:B153))","v":""},{"$f":"IFERROR(INDEX(ورقة1!$F$2:$F$500,MATCH(ROW()-8,الطباعة!$J$8:$J$536,0)),\"\")","v":""},null,null,null,null,null,null,{"$f":"IF(AND($J$3=ورقة1!H147,الطباعة!$K$3=ورقة1!I147),1,0)","v":0},{"$f":"IF(I153=0,\"\",SUM($I$8:I153))","v":""}]
[{"$f":"IF(B154=\"\",\"\",SUBTOTAL(3,$B$9:B154))","v":""},{"$f":"IFERROR(INDEX(ورقة1!$F$2:$F$500,MATCH(ROW()-8,الطباعة!$J$8:$J$536,0)),\"\")","v":""},null,null,null,null,null,null,{"$f":"IF(AND($J$3=ورقة1!H148,الطباعة!$K$3=ورقة1!I148),1,0)","v":0},{"$f":"IF(I154=0,\"\",SUM($I$8:I154))","v":""}]
[{"$f":"IF(B155=\"\",\"\",SUBTOTAL(3,$B$9:B155))","v":""},{"$f":"IFERROR(INDEX(ورقة1!$F$2:$F$500,MATCH(ROW()-8,الطباعة!$J$8:$J$536,0)),\"\")","v":""},null,null,null,null,null,null,{"$f":"IF(AND($J$3=ورقة1!H149,الطباعة!$K$3=ورقة1!I149),1,0)","v":0},{"$f":"IF(I155=0,\"\",SUM($I$8:I155))","v":""}]
[{"$f":"IF(B156=\"\",\"\",SUBTOTAL(3,$B$9:B156))","v":""},{"$f":"IFERROR(INDEX(ورقة1!$F$2:$F$500,MATCH(ROW()-8,الطباعة!$J$8:$J$536,0)),\"\")","v":""},null,null,null,null,null,null,{"$f":"IF(AND($J$3=ورقة1!H150,الطباعة!$K$3=ورقة1!I150),1,0)","v":0},{"$f":"IF(I156=0,\"\",SUM($I$8:I156))","v":""}]
[{"$f":"IF(B157=\"\",\"\",SUBTOTAL(3,$B$9:B157))","v":""},{"$f":"IFERROR(INDEX(ورقة1!$F$2:$F$500,MATCH(ROW()-8,الطباعة!$J$8:$J$536,0)),\"\")","v":""},null,null,null,null,null,null,{"$f":"IF(AND($J$3=ورقة1!H151,الطباعة!$K$3=ورقة1!I151),1,0)","v":0},{"$f":"IF(I157=0,\"\",SUM($I$8:I157))","v":""}]
[{"$f":"IF(B158=\"\",\"\",SUBTOTAL(3,$B$9:B158))","v":""},{"$f":"IFERROR(INDEX(ورقة1!$F$2:$F$500,MATCH(ROW()-8,الطباعة!$J$8:$J$536,0)),\"\")","v":""},null,null,null,null,null,null,{"$f":"IF(AND($J$3=ورقة1!H152,الطباعة!$K$3=ورقة1!I152),1,0)","v":0},{"$f":"IF(I158=0,\"\",SUM($I$8:I158))","v":""}]
[{"$f":"IF(B159=\"\",\"\",SUBTOTAL(3,$B$9:B159))","v":""},{"$f":"IFERROR(INDEX(ورقة1!$F$2:$F$500,MATCH(ROW()-8,الطباعة!$J$8:$J$536,0)),\"\")","v":""},null,null,null,null,null,null,{"$f":"IF(AND($J$3=ورقة1!H153,الطباعة!$K$3=ورقة1!I153),1,0)","v":0},{"$f":"IF(I159=0,\"\",SUM($I$8:I159))","v":""}]
[{"$f":"IF(B160=\"\",\"\",SUBTOTAL(3,$B$9:B160))","v":""},{"$f":"IFERROR(INDEX(ورقة1!$F$2:$F$500,MATCH(ROW()-8,الطباعة!$J$8:$J$536,0)),\"\")","v":""},null,null,null,null,null,null,{"$f":"IF(AND($J$3=ورقة1!H154,الطباعة!$K$3=ورقة1!I154),1,0)","v":0},{"$f":"IF(I160=0,\"\",SUM($I$8:I160))","v":""}]
[{"$f":"IF(B161=\"\",\"\",SUBTOTAL(3,$B$9:B161))","v":""},{"$f":"IFERROR(INDEX(ورقة1!$F$2:$F$500,MATCH(ROW()-8,الطباعة!$J$8:$J$536,0)),\"\")","v":""},null,null,null,null,null,null,{"$f":"IF(AND($J$3=ورقة1!H155,الطباعة!$K$3=ورقة1!I155),1,0)","v":0},{"$f":"IF(I161=0,\"\",SUM($I$8:I161))","v":""}]
[{"$f":"IF(B162=\"\",\"\",SUBTOTAL(3,$B$9:B162))","v":""},{"$f":"IFERROR(INDEX(ورقة1!$F$2:$F$500,MATCH(ROW()-8,الطباعة!$J$8:$J$536,0)),\"\")","v":""},null,null,null,null,null,null,{"$f":"IF(AND($J$3=ورقة1!H156,الطباعة!$K$3=ورقة1!I156),1,0)","v":0},{"$f":"IF(I162=0,\"\",SUM($I$8:I162))","v":""}]
[{"$f":"IF(B163=\"\",\"\",SUBTOTAL(3,$B$9:B163))","v":""},{"$f":"IFERROR(INDEX(ورقة1!$F$2:$F$500,MATCH(ROW()-8,الطباعة!$J$8:$J$536,0)),\"\")","v":""},null,null,null,null,null,null,{"$f":"IF(AND($J$3=ورقة1!H157,الطباعة!$K$3=ورقة1!I157),1,0)","v":0},{"$f":"IF(I163=0,\"\",SUM($I$8:I163))","v":""}]
[{"$f":"IF(B164=\"\",\"\",SUBTOTAL(3,$B$9:B164))","v":""},{"$f":"IFERROR(INDEX(ورقة1!$F$2:$F$500,MATCH(ROW()-8,الطباعة!$J$8:$J$536,0)),\"\")","v":""},null,null,null,null,null,null,{"$f":"IF(AND($J$3=ورقة1!H158,الطباعة!$K$3=ورقة1!I158),1,0)","v":0},{"$f":"IF(I164=0,\"\",SUM($I$8:I164))","v":""}]
[{"$f":"IF(B165=\"\",\"\",SUBTOTAL(3,$B$9:B165))","v":""},{"$f":"IFERROR(INDEX(ورقة1!$F$2:$F$500,MATCH(ROW()-8,الطباعة!$J$8:$J$536,0)),\"\")","v":""},null,null,null,null,null,null,{"$f":"IF(AND($J$3=ورقة1!H159,الطباعة!$K$3=ورقة1!I159),1,0)","v":0},{"$f":"IF(I165=0,\"\",SUM($I$8:I165))","v":""}]
[{"$f":"IF(B166=\"\",\"\",SUBTOTAL(3,$B$9:B166))","v":""},{"$f":"IFERROR(INDEX(ورقة1!$F$2:$F$500,MATCH(ROW()-8,الطباعة!$J$8:$J$536,0)),\"\")","v":""},null,null,null,null,null,null,{"$f":"IF(AND($J$3=ورقة1!H160,الطباعة!$K$3=ورقة1!I160),1,0)","v":0},{"$f":"IF(I166=0,\"\",SUM($I$8:I166))","v":""}]
[{"$f":"IF(B167=\"\",\"\",SUBTOTAL(3,$B$9:B167))","v":""},{"$f":"IFERROR(INDEX(ورقة1!$F$2:$F$500,MATCH(ROW()-8,الطباعة!$J$8:$J$536,0)),\"\")","v":""},null,null,null,null,null,null,{"$f":"IF(AND($J$3=ورقة1!H161,الطباعة!$K$3=ورقة1!I161),1,0)","v":0},{"$f":"IF(I167=0,\"\",SUM($I$8:I167))","v":""}]
[{"$f":"IF(B168=\"\",\"\",SUBTOTAL(3,$B$9:B168))","v":""},{"$f":"IFERROR(INDEX(ورقة1!$F$2:$F$500,MATCH(ROW()-8,الطباعة!$J$8:$J$536,0)),\"\")","v":""},null,null,null,null,null,null,{"$f":"IF(AND($J$3=ورقة1!H162,الطباعة!$K$3=ورقة1!I162),1,0)","v":0},{"$f":"IF(I168=0,\"\",SUM($I$8:I168))","v":""}]
[{"$f":"IF(B169=\"\",\"\",SUBTOTAL(3,$B$9:B169))","v":""},{"$f":"IFERROR(INDEX(ورقة1!$F$2:$F$500,MATCH(ROW()-8,الطباعة!$J$8:$J$536,0)),\"\")","v":""},null,null,null,null,null,null,{"$f":"IF(AND($J$3=ورقة1!H163,الطباعة!$K$3=ورقة1!I163),1,0)","v":0},{"$f":"IF(I169=0,\"\",SUM($I$8:I169))","v":""}]
[{"$f":"IF(B170=\"\",\"\",SUBTOTAL(3,$B$9:B170))","v":""},{"$f":"IFERROR(INDEX(ورقة1!$F$2:$F$500,MATCH(ROW()-8,الطباعة!$J$8:$J$536,0)),\"\")","v":""},null,null,null,null,null,null,{"$f":"IF(AND($J$3=ورقة1!H164,الطباعة!$K$3=ورقة1!I164),1,0)","v":0},{"$f":"IF(I170=0,\"\",SUM($I$8:I170))","v":""}]
[{"$f":"IF(B171=\"\",\"\",SUBTOTAL(3,$B$9:B171))","v":""},{"$f":"IFERROR(INDEX(ورقة1!$F$2:$F$500,MATCH(ROW()-8,الطباعة!$J$8:$J$536,0)),\"\")","v":""},null,null,null,null,null,null,{"$f":"IF(AND($J$3=ورقة1!H165,الطباعة!$K$3=ورقة1!I165),1,0)","v":0},{"$f":"IF(I171=0,\"\",SUM($I$8:I171))","v":""}]
[{"$f":"IF(B172=\"\",\"\",SUBTOTAL(3,$B$9:B172))","v":""},{"$f":"IFERROR(INDEX(ورقة1!$F$2:$F$500,MATCH(ROW()-8,الطباعة!$J$8:$J$536,0)),\"\")","v":""},null,null,null,null,null,null,{"$f":"IF(AND($J$3=ورقة1!H166,الطباعة!$K$3=ورقة1!I166),1,0)","v":0},{"$f":"IF(I172=0,\"\",SUM($I$8:I172))","v":""}]
[{"$f":"IF(B173=\"\",\"\",SUBTOTAL(3,$B$9:B173))","v":""},{"$f":"IFERROR(INDEX(ورقة1!$F$2:$F$500,MATCH(ROW()-8,الطباعة!$J$8:$J$536,0)),\"\")","v":""},null,null,null,null,null,null,{"$f":"IF(AND($J$3=ورقة1!H167,الطباعة!$K$3=ورقة1!I167),1,0)","v":0},{"$f":"IF(I173=0,\"\",SUM($I$8:I173))","v":""}]
[{"$f":"IF(B174=\"\",\"\",SUBTOTAL(3,$B$9:B174))","v":""},{"$f":"IFERROR(INDEX(ورقة1!$F$2:$F$500,MATCH(ROW()-8,الطباعة!$J$8:$J$536,0)),\"\")","v":""},null,null,null,null,null,null,{"$f":"IF(AND($J$3=ورقة1!H168,الطباعة!$K$3=ورقة1!I168),1,0)","v":0},{"$f":"IF(I174=0,\"\",SUM($I$8:I174))","v":""}]
[{"$f":"IF(B175=\"\",\"\",SUBTOTAL(3,$B$9:B175))","v":""},{"$f":"IFERROR(INDEX(ورقة1!$F$2:$F$500,MATCH(ROW()-8,الطباعة!$J$8:$J$536,0)),\"\")","v":""},null,null,null,null,null,null,{"$f":"IF(AND($J$3=ورقة1!H169,الطباعة!$K$3=ورقة1!I169),1,0)","v":0},{"$f":"IF(I175=0,\"\",SUM($I$8:I175))","v":""}]
[{"$f":"IF(B176=\"\",\"\",SUBTOTAL(3,$B$9:B176))","v":""},{"$f":"IFERROR(INDEX(ورقة1!$F$2:$F$500,MATCH(ROW()-8,الطباعة!$J$8:$J$536,0)),\"\")","v":""},null,null,null,null,null,null,{"$f":"IF(AND($J$3=ورقة1!H170,الطباعة!$K$3=ورقة1!I170),1,0)","v":0},{"$f":"IF(I176=0,\"\",SUM($I$8:I176))","v":""}]
[{"$f":"IF(B177=\"\",\"\",SUBTOTAL(3,$B$9:B177))","v":""},{"$f":"IFERROR(INDEX(ورقة1!$F$2:$F$500,MATCH(ROW()-8,الطباعة!$J$8:$J$536,0)),\"\")","v":""},null,null,null,null,null,null,{"$f":"IF(AND($J$3=ورقة1!H171,الطباعة!$K$3=ورقة1!I171),1,0)","v":1},{"$f":"IF(I177=0,\"\",SUM($I$8:I177))","v":32}]
[{"$f":"IF(B178=\"\",\"\",SUBTOTAL(3,$B$9:B178))","v":""},{"$f":"IFERROR(INDEX(ورقة1!$F$2:$F$500,MATCH(ROW()-8,الطباعة!$J$8:$J$536,0)),\"\")","v":""},null,null,null,null,null,null,{"$f":"IF(AND($J$3=ورقة1!H172,الطباعة!$K$3=ورقة1!I172),1,0)","v":0},{"$f":"IF(I178=0,\"\",SUM($I$8:I178))","v":""}]
[{"$f":"IF(B179=\"\",\"\",SUBTOTAL(3,$B$9:B179))","v":""},{"$f":"IFERROR(INDEX(ورقة1!$F$2:$F$500,MATCH(ROW()-8,الطباعة!$J$8:$J$536,0)),\"\")","v":""},null,null,null,null,null,null,{"$f":"IF(AND($J$3=ورقة1!H173,الطباعة!$K$3=ورقة1!I173),1,0)","v":0},{"$f":"IF(I179=0,\"\",SUM($I$8:I179))","v":""}]
[{"$f":"IF(B180=\"\",\"\",SUBTOTAL(3,$B$9:B180))","v":""},{"$f":"IFERROR(INDEX(ورقة1!$F$2:$F$500,MATCH(ROW()-8,الطباعة!$J$8:$J$536,0)),\"\")","v":""},null,null,null,null,null,null,{"$f":"IF(AND($J$3=ورقة1!H174,الطباعة!$K$3=ورقة1!I174),1,0)","v":0},{"$f":"IF(I180=0,\"\",SUM($I$8:I180))","v":""}]
[{"$f":"IF(B181=\"\",\"\",SUBTOTAL(3,$B$9:B181))","v":""},{"$f":"IFERROR(INDEX(ورقة1!$F$2:$F$500,MATCH(ROW()-8,الطباعة!$J$8:$J$536,0)),\"\")","v":""},null,null,null,null,null,null,{"$f":"IF(AND($J$3=ورقة1!H175,الطباعة!$K$3=ورقة1!I175),1,0)","v":0},{"$f":"IF(I181=0,\"\",SUM($I$8:I181))","v":""}]
[{"$f":"IF(B182=\"\",\"\",SUBTOTAL(3,$B$9:B182))","v":""},{"$f":"IFERROR(INDEX(ورقة1!$F$2:$F$500,MATCH(ROW()-8,الطباعة!$J$8:$J$536,0)),\"\")","v":""},null,null,null,null,null,null,{"$f":"IF(AND($J$3=ورقة1!H176,الطباعة!$K$3=ورقة1!I176),1,0)","v":0},{"$f":"IF(I182=0,\"\",SUM($I$8:I182))","v":""}]
[{"$f":"IF(B183=\"\",\"\",SUBTOTAL(3,$B$9:B183))","v":""},{"$f":"IFERROR(INDEX(ورقة1!$F$2:$F$500,MATCH(ROW()-8,الطباعة!$J$8:$J$536,0)),\"\")","v":""},null,null,null,null,null,null,{"$f":"IF(AND($J$3=ورقة1!H177,الطباعة!$K$3=ورقة1!I177),1,0)","v":0},{"$f":"IF(I183=0,\"\",SUM($I$8:I183))","v":""}]
[{"$f":"IF(B184=\"\",\"\",SUBTOTAL(3,$B$9:B184))","v":""},{"$f":"IFERROR(INDEX(ورقة1!$F$2:$F$500,MATCH(ROW()-8,الطباعة!$J$8:$J$536,0)),\"\")","v":""},null,null,null,null,null,null,{"$f":"IF(AND($J$3=ورقة1!H178,الطباعة!$K$3=ورقة1!I178),1,0)","v":0},{"$f":"IF(I184=0,\"\",SUM($I$8:I184))","v":""}]
[{"$f":"IF(B185=\"\",\"\",SUBTOTAL(3,$B$9:B185))","v":""},{"$f":"IFERROR(INDEX(ورقة1!$F$2:$F$500,MATCH(ROW()-8,الطباعة!$J$8:$J$536,0)),\"\")","v":""},null,null,null,null,null,null,{"$f":"IF(AND($J$3=ورقة1!H179,الطباعة!$K$3=ورقة1!I179),1,0)","v":0},{"$f":"IF(I185=0,\"\",SUM($I$8:I185))","v":""}]
[{"$f":"IF(B186=\"\",\"\",SUBTOTAL(3,$B$9:B186))","v":""},{"$f":"IFERROR(INDEX(ورقة1!$F$2:$F$500,MATCH(ROW()-8,الطباعة!$J$8:$J$536,0)),\"\")","v":""},null,null,null,null,null,null,{"$f":"IF(AND($J$3=ورقة1!H180,الطباعة!$K$3=ورقة1!I180),1,0)","v":0},{"$f":"IF(I186=0,\"\",SUM($I$8:I186))","v":""}]
[{"$f":"IF(B187=\"\",\"\",SUBTOTAL(3,$B$9:B187))","v":""},{"$f":"IFERROR(INDEX(ورقة1!$F$2:$F$500,MATCH(ROW()-8,الطباعة!$J$8:$J$536,0)),\"\")","v":""},null,null,null,null,null,null,{"$f":"IF(AND($J$3=ورقة1!H181,الطباعة!$K$3=ورقة1!I181),1,0)","v":0},{"$f":"IF(I187=0,\"\",SUM($I$8:I187))","v":""}]
[{"$f":"IF(B188=\"\",\"\",SUBTOTAL(3,$B$9:B188))","v":""},{"$f":"IFERROR(INDEX(ورقة1!$F$2:$F$500,MATCH(ROW()-8,الطباعة!$J$8:$J$536,0)),\"\")","v":""},null,null,null,null,null,null,{"$f":"IF(AND($J$3=ورقة1!H182,الطباعة!$K$3=ورقة1!I182),1,0)","v":0},{"$f":"IF(I188=0,\"\",SUM($I$8:I188))","v":""}]
[{"$f":"IF(B189=\"\",\"\",SUBTOTAL(3,$B$9:B189))","v":""},{"$f":"IFERROR(INDEX(ورقة1!$F$2:$F$500,MATCH(ROW()-8,الطباعة!$J$8:$J$536,0)),\"\")","v":""},null,null,null,null,null,null,{"$f":"IF(AND($J$3=ورقة1!H183,الطباعة!$K$3=ورقة1!I183),1,0)","v":0},{"$f":"IF(I189=0,\"\",SUM($I$8:I189))","v":""}]
[{"$f":"IF(B190=\"\",\"\",SUBTOTAL(3,$B$9:B190))","v":""},{"$f":"IFERROR(INDEX(ورقة1!$F$2:$F$500,MATCH(ROW()-8,الطباعة!$J$8:$J$536,0)),\"\")","v":""},null,null,null,null,null,null,{"$f":"IF(AND($J$3=ورقة1!H184,الطباعة!$K$3=ورقة1!I184),1,0)","v":0},{"$f":"IF(I190=0,\"\",SUM($I$8:I190))","v":""}]
[{"$f":"IF(B191=\"\",\"\",SUBTOTAL(3,$B$9:B191))","v":""},{"$f":"IFERROR(INDEX(ورقة1!$F$2:$F$500,MATCH(ROW()-8,الطباعة!$J$8:$J$536,0)),\"\")","v":""},null,null,null,null,null,null,{"$f":"IF(AND($J$3=ورقة1!H185,الطباعة!$K$3=ورقة1!I185),1,0)","v":0},{"$f":"IF(I191=0,\"\",SUM($I$8:I191))","v":""}]
[{"$f":"IF(B192=\"\",\"\",SUBTOTAL(3,$B$9:B192))","v":""},{"$f":"IFERROR(INDEX(ورقة1!$F$2:$F$500,MATCH(ROW()-8,الطباعة!$J$8:$J$536,0)),\"\")","v":""},null,null,null,null,null,null,{"$f":"IF(AND($J$3=ورقة1!H186,الطباعة!$K$3=ورقة1!I186),1,0)","v":0},{"$f":"IF(I192=0,\"\",SUM($I$8:I192))","v":""}]
[{"$f":"IF(B193=\"\",\"\",SUBTOTAL(3,$B$9:B193))","v":""},{"$f":"IFERROR(INDEX(ورقة1!$F$2:$F$500,MATCH(ROW()-8,الطباعة!$J$8:$J$536,0)),\"\")","v":""},null,null,null,null,null,null,{"$f":"IF(AND($J$3=ورقة1!H187,الطباعة!$K$3=ورقة1!I187),1,0)","v":0},{"$f":"IF(I193=0,\"\",SUM($I$8:I193))","v":""}]
[{"$f":"IF(B194=\"\",\"\",SUBTOTAL(3,$B$9:B194))","v":""},{"$f":"IFERROR(INDEX(ورقة1!$F$2:$F$500,MATCH(ROW()-8,الطباعة!$J$8:$J$536,0)),\"\")","v":""},null,null,null,null,null,null,{"$f":"IF(AND($J$3=ورقة1!H188,الطباعة!$K$3=ورقة1!I188),1,0)","v":0},{"$f":"IF(I194=0,\"\",SUM($I$8:I194))","v":""}]
[{"$f":"IF(B195=\"\",\"\",SUBTOTAL(3,$B$9:B195))","v":""},{"$f":"IFERROR(INDEX(ورقة1!$F$2:$F$500,MATCH(ROW()-8,الطباعة!$J$8:$J$536,0)),\"\")","v":""},null,null,null,null,null,null,{"$f":"IF(AND($J$3=ورقة1!H189,الطباعة!$K$3=ورقة1!I189),1,0)","v":0},{"$f":"IF(I195=0,\"\",SUM($I$8:I195))","v":""}]
[{"$f":"IF(B196=\"\",\"\",SUBTOTAL(3,$B$9:B196))","v":""},{"$f":"IFERROR(INDEX(ورقة1!$F$2:$F$500,MATCH(ROW()-8,الطباعة!$J$8:$J$536,0)),\"\")","v":""},null,null,null,null,null,null,{"$f":"IF(AND($J$3=ورقة1!H190,الطباعة!$K$3=ورقة1!I190),1,0)","v":0},{"$f":"IF(I196=0,\"\",SUM($I$8:I196))","v":""}]
[{"$f":"IF(B197=\"\",\"\",SUBTOTAL(3,$B$9:B197))","v":""},{"$f":"IFERROR(INDEX(ورقة1!$F$2:$F$500,MATCH(ROW()-8,الطباعة!$J$8:$J$536,0)),\"\")","v":""},null,null,null,null,null,null,{"$f":"IF(AND($J$3=ورقة1!H191,الطباعة!$K$3=ورقة1!I191),1,0)","v":0},{"$f":"IF(I197=0,\"\",SUM($I$8:I197))","v":""}]
[{"$f":"IF(B198=\"\",\"\",SUBTOTAL(3,$B$9:B198))","v":""},{"$f":"IFERROR(INDEX(ورقة1!$F$2:$F$500,MATCH(ROW()-8,الطباعة!$J$8:$J$536,0)),\"\")","v":""},null,null,null,null,null,null,{"$f":"IF(AND($J$3=ورقة1!H192,الطباعة!$K$3=ورقة1!I192),1,0)","v":1},{"$f":"IF(I198=0,\"\",SUM($I$8:I198))","v":33}]
[{"$f":"IF(B199=\"\",\"\",SUBTOTAL(3,$B$9:B199))","v":""},{"$f":"IFERROR(INDEX(ورقة1!$F$2:$F$500,MATCH(ROW()-8,الطباعة!$J$8:$J$536,0)),\"\")","v":""},null,null,null,null,null,null,{"$f":"IF(AND($J$3=ورقة1!H193,الطباعة!$K$3=ورقة1!I193),1,0)","v":0},{"$f":"IF(I199=0,\"\",SUM($I$8:I199))","v":""}]
[{"$f":"IF(B200=\"\",\"\",SUBTOTAL(3,$B$9:B200))","v":""},{"$f":"IFERROR(INDEX(ورقة1!$F$2:$F$500,MATCH(ROW()-8,الطباعة!$J$8:$J$536,0)),\"\")","v":""},null,null,null,null,null,null,{"$f":"IF(AND($J$3=ورقة1!H194,الطباعة!$K$3=ورقة1!I194),1,0)","v":0},{"$f":"IF(I200=0,\"\",SUM($I$8:I200))","v":""}]
[{"$f":"IF(B201=\"\",\"\",SUBTOTAL(3,$B$9:B201))","v":""},{"$f":"IFERROR(INDEX(ورقة1!$F$2:$F$500,MATCH(ROW()-8,الطباعة!$J$8:$J$536,0)),\"\")","v":""},null,null,null,null,null,null,{"$f":"IF(AND($J$3=ورقة1!H195,الطباعة!$K$3=ورقة1!I195),1,0)","v":0},{"$f":"IF(I201=0,\"\",SUM($I$8:I201))","v":""}]
[{"$f":"IF(B202=\"\",\"\",SUBTOTAL(3,$B$9:B202))","v":""},{"$f":"IFERROR(INDEX(ورقة1!$F$2:$F$500,MATCH(ROW()-8,الطباعة!$J$8:$J$536,0)),\"\")","v":""},null,null,null,null,null,null,{"$f":"IF(AND($J$3=ورقة1!H196,الطباعة!$K$3=ورقة1!I196),1,0)","v":0},{"$f":"IF(I202=0,\"\",SUM($I$8:I202))","v":""}]
[{"$f":"IF(B203=\"\",\"\",SUBTOTAL(3,$B$9:B203))","v":""},{"$f":"IFERROR(INDEX(ورقة1!$F$2:$F$500,MATCH(ROW()-8,الطباعة!$J$8:$J$536,0)),\"\")","v":""},null,null,null,null,null,null,{"$f":"IF(AND($J$3=ورقة1!H197,الطباعة!$K$3=ورقة1!I197),1,0)","v":0},{"$f":"IF(I203=0,\"\",SUM($I$8:I203))","v":""}]
[{"$f":"IF(B204=\"\",\"\",SUBTOTAL(3,$B$9:B204))","v":""},{"$f":"IFERROR(INDEX(ورقة1!$F$2:$F$500,MATCH(ROW()-8,الطباعة!$J$8:$J$536,0)),\"\")","v":""},null,null,null,null,null,null,{"$f":"IF(AND($J$3=ورقة1!H198,الطباعة!$K$3=ورقة1!I198),1,0)","v":1},{"$f":"IF(I204=0,\"\",SUM($I$8:I204))","v":34}]
[{"$f":"IF(B205=\"\",\"\",SUBTOTAL(3,$B$9:B205))","v":""},{"$f":"IFERROR(INDEX(ورقة1!$F$2:$F$500,MATCH(ROW()-8,الطباعة!$J$8:$J$536,0)),\"\")","v":""},null,null,null,null,null,null,{"$f":"IF(AND($J$3=ورقة1!H199,الطباعة!$K$3=ورقة1!I199),1,0)","v":0},{"$f":"IF(I205=0,\"\",SUM($I$8:I205))","v":""}]
[{"$f":"IF(B206=\"\",\"\",SUBTOTAL(3,$B$9:B206))","v":""},{"$f":"IFERROR(INDEX(ورقة1!$F$2:$F$500,MATCH(ROW()-8,الطباعة!$J$8:$J$536,0)),\"\")","v":""},null,null,null,null,null,null,{"$f":"IF(AND($J$3=ورقة1!H200,الطباعة!$K$3=ورقة1!I200),1,0)","v":1},{"$f":"IF(I206=0,\"\",SUM($I$8:I206))","v":35}]
[{"$f":"IF(B207=\"\",\"\",SUBTOTAL(3,$B$9:B207))","v":""},{"$f":"IFERROR(INDEX(ورقة1!$F$2:$F$500,MATCH(ROW()-8,الطباعة!$J$8:$J$536,0)),\"\")","v":""},null,null,null,null,null,null,{"$f":"IF(AND($J$3=ورقة1!H201,الطباعة!$K$3=ورقة1!I201),1,0)","v":1},{"$f":"IF(I207=0,\"\",SUM($I$8:I207))","v":36}]
[{"$f":"IF(B208=\"\",\"\",SUBTOTAL(3,$B$9:B208))","v":""},{"$f":"IFERROR(INDEX(ورقة1!$F$2:$F$500,MATCH(ROW()-8,الطباعة!$J$8:$J$536,0)),\"\")","v":""},null,null,null,null,null,null,{"$f":"IF(AND($J$3=ورقة1!H202,الطباعة!$K$3=ورقة1!I202),1,0)","v":1},{"$f":"IF(I208=0,\"\",SUM($I$8:I208))","v":37}]
[{"$f":"IF(B209=\"\",\"\",SUBTOTAL(3,$B$9:B209))","v":""},{"$f":"IFERROR(INDEX(ورقة1!$F$2:$F$500,MATCH(ROW()-8,الطباعة!$J$8:$J$536,0)),\"\")","v":""},null,null,null,null,null,null,{"$f":"IF(AND($J$3=ورقة1!H203,الطباعة!$K$3=ورقة1!I203),1,0)","v":1},{"$f":"IF(I209=0,\"\",SUM($I$8:I209))","v":38}]
[{"$f":"IF(B210=\"\",\"\",SUBTOTAL(3,$B$9:B210))","v":""},{"$f":"IFERROR(INDEX(ورقة1!$F$2:$F$500,MATCH(ROW()-8,الطباعة!$J$8:$J$536,0)),\"\")","v":""},null,null,null,null,null,null,{"$f":"IF(AND($J$3=ورقة1!H204,الطباعة!$K$3=ورقة1!I204),1,0)","v":1},{"$f":"IF(I210=0,\"\",SUM($I$8:I210))","v":39}]
[{"$f":"IF(B211=\"\",\"\",SUBTOTAL(3,$B$9:B211))","v":""},{"$f":"IFERROR(INDEX(ورقة1!$F$2:$F$500,MATCH(ROW()-8,الطباعة!$J$8:$J$536,0)),\"\")","v":""},null,null,null,null,null,null,{"$f":"IF(AND($J$3=ورقة1!H205,الطباعة!$K$3=ورقة1!I205),1,0)","v":1},{"$f":"IF(I211=0,\"\",SUM($I$8:I211))","v":40}]
[{"$f":"IF(B212=\"\",\"\",SUBTOTAL(3,$B$9:B212))","v":""},{"$f":"IFERROR(INDEX(ورقة1!$F$2:$F$500,MATCH(ROW()-8,الطباعة!$J$8:$J$536,0)),\"\")","v":""},null,null,null,null,null,null,{"$f":"IF(AND($J$3=ورقة1!H206,الطباعة!$K$3=ورقة1!I206),1,0)","v":1},{"$f":"IF(I212=0,\"\",SUM($I$8:I212))","v":41}]
[{"$f":"IF(B213=\"\",\"\",SUBTOTAL(3,$B$9:B213))","v":""},{"$f":"IFERROR(INDEX(ورقة1!$F$2:$F$500,MATCH(ROW()-8,الطباعة!$J$8:$J$536,0)),\"\")","v":""},null,null,null,null,null,null,{"$f":"IF(AND($J$3=ورقة1!H207,الطباعة!$K$3=ورقة1!I207),1,0)","v":1},{"$f":"IF(I213=0,\"\",SUM($I$8:I213))","v":42}]
[{"$f":"IF(B214=\"\",\"\",SUBTOTAL(3,$B$9:B214))","v":""},{"$f":"IFERROR(INDEX(ورقة1!$F$2:$F$500,MATCH(ROW()-8,الطباعة!$J$8:$J$536,0)),\"\")","v":""},null,null,null,null,null,null,{"$f":"IF(AND($J$3=ورقة1!H208,الطباعة!$K$3=ورقة1!I208),1,0)","v":1},{"$f":"IF(I214=0,\"\",SUM($I$8:I214))","v":43}]
[{"$f":"IF(B215=\"\",\"\",SUBTOTAL(3,$B$9:B215))","v":""},{"$f":"IFERROR(INDEX(ورقة1!$F$2:$F$500,MATCH(ROW()-8,الطباعة!$J$8:$J$536,0)),\"\")","v":""},null,null,null,null,null,null,{"$f":"IF(AND($J$3=ورقة1!H209,الطباعة!$K$3=ورقة1!I209),1,0)","v":1},{"$f":"IF(I215=0,\"\",SUM($I$8:I215))","v":44}]
[{"$f":"IF(B216=\"\",\"\",SUBTOTAL(3,$B$9:B216))","v":""},{"$f":"IFERROR(INDEX(ورقة1!$F$2:$F$500,MATCH(ROW()-8,الطباعة!$J$8:$J$536,0)),\"\")","v":""},null,null,null,null,null,null,{"$f":"IF(AND($J$3=ورقة1!H210,الطباعة!$K$3=ورقة1!I210),1,0)","v":1},{"$f":"IF(I216=0,\"\",SUM($I$8:I216))","v":45}]
[{"$f":"IF(B217=\"\",\"\",SUBTOTAL(3,$B$9:B217))","v":""},{"$f":"IFERROR(INDEX(ورقة1!$F$2:$F$500,MATCH(ROW()-8,الطباعة!$J$8:$J$536,0)),\"\")","v":""},null,null,null,null,null,null,{"$f":"IF(AND($J$3=ورقة1!H211,الطباعة!$K$3=ورقة1!I211),1,0)","v":1},{"$f":"IF(I217=0,\"\",SUM($I$8:I217))","v":46}]
[{"$f":"IF(B218=\"\",\"\",SUBTOTAL(3,$B$9:B218))","v":""},{"$f":"IFERROR(INDEX(ورقة1!$F$2:$F$500,MATCH(ROW()-8,الطباعة!$J$8:$J$536,0)),\"\")","v":""},null,null,null,null,null,null,{"$f":"IF(AND($J$3=ورقة1!H212,الطباعة!$K$3=ورقة1!I212),1,0)","v":1},{"$f":"IF(I218=0,\"\",SUM($I$8:I218))","v":47}]
[{"$f":"IF(B219=\"\",\"\",SUBTOTAL(3,$B$9:B219))","v":""},{"$f":"IFERROR(INDEX(ورقة1!$F$2:$F$500,MATCH(ROW()-8,الطباعة!$J$8:$J$536,0)),\"\")","v":""},null,null,null,null,null,null,{"$f":"IF(AND($J$3=ورقة1!H213,الطباعة!$K$3=ورقة1!I213),1,0)","v":0},{"$f":"IF(I219=0,\"\",SUM($I$8:I219))","v":""}]
[{"$f":"IF(B220=\"\",\"\",SUBTOTAL(3,$B$9:B220))","v":""},{"$f":"IFERROR(INDEX(ورقة1!$F$2:$F$500,MATCH(ROW()-8,الطباعة!$J$8:$J$536,0)),\"\")","v":""},null,null,null,null,null,null,{"$f":"IF(AND($J$3=ورقة1!H214,الطباعة!$K$3=ورقة1!I214),1,0)","v":1},{"$f":"IF(I220=0,\"\",SUM($I$8:I220))","v":48}]
[{"$f":"IF(B221=\"\",\"\",SUBTOTAL(3,$B$9:B221))","v":""},{"$f":"IFERROR(INDEX(ورقة1!$F$2:$F$500,MATCH(ROW()-8,الطباعة!$J$8:$J$536,0)),\"\")","v":""},null,null,null,null,null,null,{"$f":"IF(AND($J$3=ورقة1!H215,الطباعة!$K$3=ورقة1!I215),1,0)","v":1},{"$f":"IF(I221=0,\"\",SUM($I$8:I221))","v":49}]
[{"$f":"IF(B222=\"\",\"\",SUBTOTAL(3,$B$9:B222))","v":""},{"$f":"IFERROR(INDEX(ورقة1!$F$2:$F$500,MATCH(ROW()-8,الطباعة!$J$8:$J$536,0)),\"\")","v":""},null,null,null,null,null,null,{"$f":"IF(AND($J$3=ورقة1!H216,الطباعة!$K$3=ورقة1!I216),1,0)","v":1},{"$f":"IF(I222=0,\"\",SUM($I$8:I222))","v":50}]
[{"$f":"IF(B223=\"\",\"\",SUBTOTAL(3,$B$9:B223))","v":""},{"$f":"IFERROR(INDEX(ورقة1!$F$2:$F$500,MATCH(ROW()-8,الطباعة!$J$8:$J$536,0)),\"\")","v":""},null,null,null,null,null,null,{"$f":"IF(AND($J$3=ورقة1!H217,الطباعة!$K$3=ورقة1!I217),1,0)","v":1},{"$f":"IF(I223=0,\"\",SUM($I$8:I223))","v":51}]
[{"$f":"IF(B224=\"\",\"\",SUBTOTAL(3,$B$9:B224))","v":""},{"$f":"IFERROR(INDEX(ورقة1!$F$2:$F$500,MATCH(ROW()-8,الطباعة!$J$8:$J$536,0)),\"\")","v":""},null,null,null,null,null,null,{"$f":"IF(AND($J$3=ورقة1!H218,الطباعة!$K$3=ورقة1!I218),1,0)","v":0},{"$f":"IF(I224=0,\"\",SUM($I$8:I224))","v":""}]
[{"$f":"IF(B225=\"\",\"\",SUBTOTAL(3,$B$9:B225))","v":""},{"$f":"IFERROR(INDEX(ورقة1!$F$2:$F$500,MATCH(ROW()-8,الطباعة!$J$8:$J$536,0)),\"\")","v":""},null,null,null,null,null,null,{"$f":"IF(AND($J$3=ورقة1!H219,الطباعة!$K$3=ورقة1!I219),1,0)","v":1},{"$f":"IF(I225=0,\"\",SUM($I$8:I225))","v":52}]
[{"$f":"IF(B226=\"\",\"\",SUBTOTAL(3,$B$9:B226))","v":""},{"$f":"IFERROR(INDEX(ورقة1!$F$2:$F$500,MATCH(ROW()-8,الطباعة!$J$8:$J$536,0)),\"\")","v":""},null,null,null,null,null,null,{"$f":"IF(AND($J$3=ورقة1!H220,الطباعة!$K$3=ورقة1!I220),1,0)","v":1},{"$f":"IF(I226=0,\"\",SUM($I$8:I226))","v":53}]
[{"$f":"IF(B227=\"\",\"\",SUBTOTAL(3,$B$9:B227))","v":""},{"$f":"IFERROR(INDEX(ورقة1!$F$2:$F$500,MATCH(ROW()-8,الطباعة!$J$8:$J$536,0)),\"\")","v":""},null,null,null,null,null,null,{"$f":"IF(AND($J$3=ورقة1!H221,الطباعة!$K$3=ورقة1!I221),1,0)","v":0},{"$f":"IF(I227=0,\"\",SUM($I$8:I227))","v":""}]
[{"$f":"IF(B228=\"\",\"\",SUBTOTAL(3,$B$9:B228))","v":""},{"$f":"IFERROR(INDEX(ورقة1!$F$2:$F$500,MATCH(ROW()-8,الطباعة!$J$8:$J$536,0)),\"\")","v":""},null,null,null,null,null,null,{"$f":"IF(AND($J$3=ورقة1!H222,الطباعة!$K$3=ورقة1!I222),1,0)","v":1},{"$f":"IF(I228=0,\"\",SUM($I$8:I228))","v":54}]
[{"$f":"IF(B229=\"\",\"\",SUBTOTAL(3,$B$9:B229))","v":""},{"$f":"IFERROR(INDEX(ورقة1!$F$2:$F$500,MATCH(ROW()-8,الطباعة!$J$8:$J$536,0)),\"\")","v":""},null,null,null,null,null,null,{"$f":"IF(AND($J$3=ورقة1!H223,الطباعة!$K$3=ورقة1!I223),1,0)","v":1},{"$f":"IF(I229=0,\"\",SUM($I$8:I229))","v":55}]
[{"$f":"IF(B230=\"\",\"\",SUBTOTAL(3,$B$9:B230))","v":""},{"$f":"IFERROR(INDEX(ورقة1!$F$2:$F$500,MATCH(ROW()-8,الطباعة!$J$8:$J$536,0)),\"\")","v":""},null,null,null,null,null,null,{"$f":"IF(AND($J$3=ورقة1!H224,الطباعة!$K$3=ورقة1!I224),1,0)","v":0},{"$f":"IF(I230=0,\"\",SUM($I$8:I230))","v":""}]
[{"$f":"IF(B231=\"\",\"\",SUBTOTAL(3,$B$9:B231))","v":""},{"$f":"IFERROR(INDEX(ورقة1!$F$2:$F$500,MATCH(ROW()-8,الطباعة!$J$8:$J$536,0)),\"\")","v":""},null,null,null,null,null,null,{"$f":"IF(AND($J$3=ورقة1!H225,الطباعة!$K$3=ورقة1!I225),1,0)","v":1},{"$f":"IF(I231=0,\"\",SUM($I$8:I231))","v":56}]
[{"$f":"IF(B232=\"\",\"\",SUBTOTAL(3,$B$9:B232))","v":""},{"$f":"IFERROR(INDEX(ورقة1!$F$2:$F$500,MATCH(ROW()-8,الطباعة!$J$8:$J$536,0)),\"\")","v":""},null,null,null,null,null,null,{"$f":"IF(AND($J$3=ورقة1!H226,الطباعة!$K$3=ورقة1!I226),1,0)","v":1},{"$f":"IF(I232=0,\"\",SUM($I$8:I232))","v":57}]
[{"$f":"IF(B233=\"\",\"\",SUBTOTAL(3,$B$9:B233))","v":""},{"$f":"IFERROR(INDEX(ورقة1!$F$2:$F$500,MATCH(ROW()-8,الطباعة!$J$8:$J$536,0)),\"\")","v":""},null,null,null,null,null,null,{"$f":"IF(AND($J$3=ورقة1!H227,الطباعة!$K$3=ورقة1!I227),1,0)","v":0},{"$f":"IF(I233=0,\"\",SUM($I$8:I233))","v":""}]
[{"$f":"IF(B234=\"\",\"\",SUBTOTAL(3,$B$9:B234))","v":""},{"$f":"IFERROR(INDEX(ورقة1!$F$2:$F$500,MATCH(ROW()-8,الطباعة!$J$8:$J$536,0)),\"\")","v":""},null,null,null,null,null,null,{"$f":"IF(AND($J$3=ورقة1!H228,الطباعة!$K$3=ورقة1!I228),1,0)","v":1},{"$f":"IF(I234=0,\"\",SUM($I$8:I234))","v":58}]
[{"$f":"IF(B235=\"\",\"\",SUBTOTAL(3,$B$9:B235))","v":""},{"$f":"IFERROR(INDEX(ورقة1!$F$2:$F$500,MATCH(ROW()-8,الطباعة!$J$8:$J$536,0)),\"\")","v":""},null,null,null,null,null,null,{"$f":"IF(AND($J$3=ورقة1!H229,الطباعة!$K$3=ورقة1!I229),1,0)","v":0},{"$f":"IF(I235=0,\"\",SUM($I$8:I235))","v":""}]
[{"$f":"IF(B236=\"\",\"\",SUBTOTAL(3,$B$9:B236))","v":""},{"$f":"IFERROR(INDEX(ورقة1!$F$2:$F$500,MATCH(ROW()-8,الطباعة!$J$8:$J$536,0)),\"\")","v":""},null,null,null,null,null,null,{"$f":"IF(AND($J$3=ورقة1!H230,الطباعة!$K$3=ورقة1!I230),1,0)","v":1},{"$f":"IF(I236=0,\"\",SUM($I$8:I236))","v":59}]
[{"$f":"IF(B237=\"\",\"\",SUBTOTAL(3,$B$9:B237))","v":""},{"$f":"IFERROR(INDEX(ورقة1!$F$2:$F$500,MATCH(ROW()-8,الطباعة!$J$8:$J$536,0)),\"\")","v":""},null,null,null,null,null,null,{"$f":"IF(AND($J$3=ورقة1!H231,الطباعة!$K$3=ورقة1!I231),1,0)","v":0},{"$f":"IF(I237=0,\"\",SUM($I$8:I237))","v":""}]
[{"$f":"IF(B238=\"\",\"\",SUBTOTAL(3,$B$9:B238))","v":""},{"$f":"IFERROR(INDEX(ورقة1!$F$2:$F$500,MATCH(ROW()-8,الطباعة!$J$8:$J$536,0)),\"\")","v":""},null,null,null,null,null,null,{"$f":"IF(AND($J$3=ورقة1!H232,الطباعة!$K$3=ورقة1!I232),1,0)","v":0},{"$f":"IF(I238=0,\"\",SUM($I$8:I238))","v":""}]
[{"$f":"IF(B239=\"\",\"\",SUBTOTAL(3,$B$9:B239))","v":""},{"$f":"IFERROR(INDEX(ورقة1!$F$2:$F$500,MATCH(ROW()-8,الطباعة!$J$8:$J$536,0)),\"\")","v":""},null,null,null,null,null,null,{"$f":"IF(AND($J$3=ورقة1!H233,الطباعة!$K$3=ورقة1!I233),1,0)","v":0},{"$f":"IF(I239=0,\"\",SUM($I$8:I239))","v":""}]
[{"$f":"IF(B240=\"\",\"\",SUBTOTAL(3,$B$9:B240))","v":""},{"$f":"IFERROR(INDEX(ورقة1!$F$2:$F$500,MATCH(ROW()-8,الطباعة!$J$8:$J$536,0)),\"\")","v":""},null,null,null,null,null,null,{"$f":"IF(AND($J$3=ورقة1!H234,الطباعة!$K$3=ورقة1!I234),1,0)","v":0},{"$f":"IF(I240=0,\"\",SUM($I$8:I240))","v":""}]
[{"$f":"IF(B241=\"\",\"\",SUBTOTAL(3,$B$9:B241))","v":""},{"$f":"IFERROR(INDEX(ورقة1!$F$2:$F$500,MATCH(ROW()-8,الطباعة!$J$8:$J$536,0)),\"\")","v":""},null,null,null,null,null,null,{"$f":"IF(AND($J$3=ورقة1!H235,الطباعة!$K$3=ورقة1!I235),1,0)","v":0},{"$f":"IF(I241=0,\"\",SUM($I$8:I241))","v":""}]
[{"$f":"IF(B242=\"\",\"\",SUBTOTAL(3,$B$9:B242))","v":""},{"$f":"IFERROR(INDEX(ورقة1!$F$2:$F$500,MATCH(ROW()-8,الطباعة!$J$8:$J$536,0)),\"\")","v":""},null,null,null,null,null,null,{"$f":"IF(AND($J$3=ورقة1!H236,الطباعة!$K$3=ورقة1!I236),1,0)","v":0},{"$f":"IF(I242=0,\"\",SUM($I$8:I242))","v":""}]
[{"$f":"IF(B243=\"\",\"\",SUBTOTAL(3,$B$9:B243))","v":""},{"$f":"IFERROR(INDEX(ورقة1!$F$2:$F$500,MATCH(ROW()-8,الطباعة!$J$8:$J$536,0)),\"\")","v":""},null,null,null,null,null,null,{"$f":"IF(AND($J$3=ورقة1!H237,الطباعة!$K$3=ورقة1!I237),1,0)","v":0},{"$f":"IF(I243=0,\"\",SUM($I$8:I243))","v":""}]
[{"$f":"IF(B244=\"\",\"\",SUBTOTAL(3,$B$9:B244))","v":""},{"$f":"IFERROR(INDEX(ورقة1!$F$2:$F$500,MATCH(ROW()-8,الطباعة!$J$8:$J$536,0)),\"\")","v":""},null,null,null,null,null,null,{"$f":"IF(AND($J$3=ورقة1!H238,الطباعة!$K$3=ورقة1!I238),1,0)","v":0},{"$f":"IF(I244=0,\"\",SUM($I$8:I244))","v":""}]
[{"$f":"IF(B245=\"\",\"\",SUBTOTAL(3,$B$9:B245))","v":""},{"$f":"IFERROR(INDEX(ورقة1!$F$2:$F$500,MATCH(ROW()-8,الطباعة!$J$8:$J$536,0)),\"\")","v":""},null,null,null,null,null,null,{"$f":"IF(AND($J$3=ورقة1!H239,الطباعة!$K$3=ورقة1!I239),1,0)","v":0},{"$f":"IF(I245=0,\"\",SUM($I$8:I245))","v":""}]
[{"$f":"IF(B246=\"\",\"\",SUBTOTAL(3,$B$9:B246))","v":""},{"$f":"IFERROR(INDEX(ورقة1!$F$2:$F$500,MATCH(ROW()-8,الطباعة!$J$8:$J$536,0)),\"\")","v":""},null,null,null,null,null,null,{"$f":"IF(AND($J$3=ورقة1!H240,الطباعة!$K$3=ورقة1!I240),1,0)","v":0},{"$f":"IF(I246=0,\"\",SUM($I$8:I246))","v":""}]
[{"$f":"IF(B247=\"\",\"\",SUBTOTAL(3,$B$9:B247))","v":""},{"$f":"IFERROR(INDEX(ورقة1!$F$2:$F$500,MATCH(ROW()-8,الطباعة!$J$8:$J$536,0)),\"\")","v":""},null,null,null,null,null,null,{"$f":"IF(AND($J$3=ورقة1!H241,الطباعة!$K$3=ورقة1!I241),1,0)","v":0},{"$f":"IF(I247=0,\"\",SUM($I$8:I247))","v":""}]
[{"$f":"IF(B248=\"\",\"\",SUBTOTAL(3,$B$9:B248))","v":""},{"$f":"IFERROR(INDEX(ورقة1!$F$2:$F$500,MATCH(ROW()-8,الطباعة!$J$8:$J$536,0)),\"\")","v":""},null,null,null,null,null,null,{"$f":"IF(AND($J$3=ورقة1!H242,الطباعة!$K$3=ورقة1!I242),1,0)","v":0},{"$f":"IF(I248=0,\"\",SUM($I$8:I248))","v":""}]
[{"$f":"IF(B249=\"\",\"\",SUBTOTAL(3,$B$9:B249))","v":""},{"$f":"IFERROR(INDEX(ورقة1!$F$2:$F$500,MATCH(ROW()-8,الطباعة!$J$8:$J$536,0)),\"\")","v":""},null,null,null,null,null,null,{"$f":"IF(AND($J$3=ورقة1!H243,الطباعة!$K$3=ورقة1!I243),1,0)","v":0},{"$f":"IF(I249=0,\"\",SUM($I$8:I249))","v":""}]
[{"$f":"IF(B250=\"\",\"\",SUBTOTAL(3,$B$9:B250))","v":""},{"$f":"IFERROR(INDEX(ورقة1!$F$2:$F$500,MATCH(ROW()-8,الطباعة!$J$8:$J$536,0)),\"\")","v":""},null,null,null,null,null,null,{"$f":"IF(AND($J$3=ورقة1!H244,الطباعة!$K$3=ورقة1!I244),1,0)","v":0},{"$f":"IF(I250=0,\"\",SUM($I$8:I250))","v":""}]
[{"$f":"IF(B251=\"\",\"\",SUBTOTAL(3,$B$9:B251))","v":""},{"$f":"IFERROR(INDEX(ورقة1!$F$2:$F$500,MATCH(ROW()-8,الطباعة!$J$8:$J$536,0)),\"\")","v":""},null,null,null,null,null,null,{"$f":"IF(AND($J$3=ورقة1!H245,الطباعة!$K$3=ورقة1!I245),1,0)","v":0},{"$f":"IF(I251=0,\"\",SUM($I$8:I251))","v":""}]
[{"$f":"IF(B252=\"\",\"\",SUBTOTAL(3,$B$9:B252))","v":""},{"$f":"IFERROR(INDEX(ورقة1!$F$2:$F$500,MATCH(ROW()-8,الطباعة!$J$8:$J$536,0)),\"\")","v":""},null,null,null,null,null,null,{"$f":"IF(AND($J$3=ورقة1!H246,الطباعة!$K$3=ورقة1!I246),1,0)","v":0},{"$f":"IF(I252=0,\"\",SUM($I$8:I252))","v":""}]
[{"$f":"IF(B253=\"\",\"\",SUBTOTAL(3,$B$9:B253))","v":""},{"$f":"IFERROR(INDEX(ورقة1!$F$2:$F$500,MATCH(ROW()-8,الطباعة!$J$8:$J$536,0)),\"\")","v":""},null,null,null,null,null,null,{"$f":"IF(AND($J$3=ورقة1!H247,الطباعة!$K$3=ورقة1!I247),1,0)","v":0},{"$f":"IF(I253=0,\"\",SUM($I$8:I253))","v":""}]
[{"$f":"IF(B254=\"\",\"\",SUBTOTAL(3,$B$9:B254))","v":""},{"$f":"IFERROR(INDEX(ورقة1!$F$2:$F$500,MATCH(ROW()-8,الطباعة!$J$8:$J$536,0)),\"\")","v":""},null,null,null,null,null,null,{"$f":"IF(AND($J$3=ورقة1!H248,الطباعة!$K$3=ورقة1!I248),1,0)","v":0},{"$f":"IF(I254=0,\"\",SUM($I$8:I254))","v":""}]
[{"$f":"IF(B255=\"\",\"\",SUBTOTAL(3,$B$9:B255))","v":""},{"$f":"IFERROR(INDEX(ورقة1!$F$2:$F$500,MATCH(ROW()-8,الطباعة!$J$8:$J$536,0)),\"\")","v":""},null,null,null,null,null,null,{"$f":"IF(AND($J$3=ورقة1!H249,الطباعة!$K$3=ورقة1!I249),1,0)","v":0},{"$f":"IF(I255=0,\"\",SUM($I$8:I255))","v":""}]
[{"$f":"IF(B256=\"\",\"\",SUBTOTAL(3,$B$9:B256))","v":""},{"$f":"IFERROR(INDEX(ورقة1!$F$2:$F$500,MATCH(ROW()-8,الطباعة!$J$8:$J$536,0)),\"\")","v":""},null,null,null,null,null,null,{"$f":"IF(AND($J$3=ورقة1!H250,الطباعة!$K$3=ورقة1!I250),1,0)","v":0},{"$f":"IF(I256=0,\"\",SUM($I$8:I256))","v":""}]
[{"$f":"IF(B257=\"\",\"\",SUBTOTAL(3,$B$9:B257))","v":""},{"$f":"IFERROR(INDEX(ورقة1!$F$2:$F$500,MATCH(ROW()-8,الطباعة!$J$8:$J$536,0)),\"\")","v":""},null,null,null,null,null,null,{"$f":"IF(AND($J$3=ورقة1!H251,الطباعة!$K$3=ورقة1!I251),1,0)","v":0},{"$f":"IF(I257=0,\"\",SUM($I$8:I257))","v":""}]
[{"$f":"IF(B258=\"\",\"\",SUBTOTAL(3,$B$9:B258))","v":""},{"$f":"IFERROR(INDEX(ورقة1!$F$2:$F$500,MATCH(ROW()-8,الطباعة!$J$8:$J$536,0)),\"\")","v":""},null,null,null,null,null,null,{"$f":"IF(AND($J$3=ورقة1!H252,الطباعة!$K$3=ورقة1!I252),1,0)","v":0},{"$f":"IF(I258=0,\"\",SUM($I$8:I258))","v":""}]
[{"$f":"IF(B259=\"\",\"\",SUBTOTAL(3,$B$9:B259))","v":""},{"$f":"IFERROR(INDEX(ورقة1!$F$2:$F$500,MATCH(ROW()-8,الطباعة!$J$8:$J$536,0)),\"\")","v":""},null,null,null,null,null,null,{"$f":"IF(AND($J$3=ورقة1!H253,الطباعة!$K$3=ورقة1!I253),1,0)","v":0},{"$f":"IF(I259=0,\"\",SUM($I$8:I259))","v":""}]
[{"$f":"IF(B260=\"\",\"\",SUBTOTAL(3,$B$9:B260))","v":""},{"$f":"IFERROR(INDEX(ورقة1!$F$2:$F$500,MATCH(ROW()-8,الطباعة!$J$8:$J$536,0)),\"\")","v":""},null,null,null,null,null,null,{"$f":"IF(AND($J$3=ورقة1!H254,الطباعة!$K$3=ورقة1!I254),1,0)","v":0},{"$f":"IF(I260=0,\"\",SUM($I$8:I260))","v":""}]
[{"$f":"IF(B261=\"\",\"\",SUBTOTAL(3,$B$9:B261))","v":""},{"$f":"IFERROR(INDEX(ورقة1!$F$2:$F$500,MATCH(ROW()-8,الطباعة!$J$8:$J$536,0)),\"\")","v":""},null,null,null,null,null,null,{"$f":"IF(AND($J$3=ورقة1!H255,الطباعة!$K$3=ورقة1!I255),1,0)","v":0},{"$f":"IF(I261=0,\"\",SUM($I$8:I261))","v":""}]
[{"$f":"IF(B262=\"\",\"\",SUBTOTAL(3,$B$9:B262))","v":""},{"$f":"IFERROR(INDEX(ورقة1!$F$2:$F$500,MATCH(ROW()-8,الطباعة!$J$8:$J$536,0)),\"\")","v":""},null,null,null,null,null,null,{"$f":"IF(AND($J$3=ورقة1!H256,الطباعة!$K$3=ورقة1!I256),1,0)","v":0},{"$f":"IF(I262=0,\"\",SUM($I$8:I262))","v":""}]
[{"$f":"IF(B263=\"\",\"\",SUBTOTAL(3,$B$9:B263))","v":""},{"$f":"IFERROR(INDEX(ورقة1!$F$2:$F$500,MATCH(ROW()-8,الطباعة!$J$8:$J$536,0)),\"\")","v":""},null,null,null,null,null,null,{"$f":"IF(AND($J$3=ورقة1!H257,الطباعة!$K$3=ورقة1!I257),1,0)","v":0},{"$f":"IF(I263=0,\"\",SUM($I$8:I263))","v":""}]
[{"$f":"IF(B264=\"\",\"\",SUBTOTAL(3,$B$9:B264))","v":""},{"$f":"IFERROR(INDEX(ورقة1!$F$2:$F$500,MATCH(ROW()-8,الطباعة!$J$8:$J$536,0)),\"\")","v":""},null,null,null,null,null,null,{"$f":"IF(AND($J$3=ورقة1!H258,الطباعة!$K$3=ورقة1!I258),1,0)","v":0},{"$f":"IF(I264=0,\"\",SUM($I$8:I264))","v":""}]
[{"$f":"IF(B265=\"\",\"\",SUBTOTAL(3,$B$9:B265))","v":""},{"$f":"IFERROR(INDEX(ورقة1!$F$2:$F$500,MATCH(ROW()-8,الطباعة!$J$8:$J$536,0)),\"\")","v":""},null,null,null,null,null,null,{"$f":"IF(AND($J$3=ورقة1!H259,الطباعة!$K$3=ورقة1!I259),1,0)","v":0},{"$f":"IF(I265=0,\"\",SUM($I$8:I265))","v":""}]
[{"$f":"IF(B266=\"\",\"\",SUBTOTAL(3,$B$9:B266))","v":""},{"$f":"IFERROR(INDEX(ورقة1!$F$2:$F$500,MATCH(ROW()-8,الطباعة!$J$8:$J$536,0)),\"\")","v":""},null,null,null,null,null,null,{"$f":"IF(AND($J$3=ورقة1!H260,الطباعة!$K$3=ورقة1!I260),1,0)","v":0},{"$f":"IF(I266=0,\"\",SUM($I$8:I266))","v":""}]
[{"$f":"IF(B267=\"\",\"\",SUBTOTAL(3,$B$9:B267))","v":""},{"$f":"IFERROR(INDEX(ورقة1!$F$2:$F$500,MATCH(ROW()-8,الطباعة!$J$8:$J$536,0)),\"\")","v":""},null,null,null,null,null,null,{"$f":"IF(AND($J$3=ورقة1!H261,الطباعة!$K$3=ورقة1!I261),1,0)","v":0},{"$f":"IF(I267=0,\"\",SUM($I$8:I267))","v":""}]
[{"$f":"IF(B268=\"\",\"\",SUBTOTAL(3,$B$9:B268))","v":""},{"$f":"IFERROR(INDEX(ورقة1!$F$2:$F$500,MATCH(ROW()-8,الطباعة!$J$8:$J$536,0)),\"\")","v":""},null,null,null,null,null,null,{"$f":"IF(AND($J$3=ورقة1!H262,الطباعة!$K$3=ورقة1!I262),1,0)","v":0},{"$f":"IF(I268=0,\"\",SUM($I$8:I268))","v":""}]
[{"$f":"IF(B269=\"\",\"\",SUBTOTAL(3,$B$9:B269))","v":""},{"$f":"IFERROR(INDEX(ورقة1!$F$2:$F$500,MATCH(ROW()-8,الطباعة!$J$8:$J$536,0)),\"\")","v":""},null,null,null,null,null,null,{"$f":"IF(AND($J$3=ورقة1!H263,الطباعة!$K$3=ورقة1!I263),1,0)","v":1},{"$f":"IF(I269=0,\"\",SUM($I$8:I269))","v":60}]
[{"$f":"IF(B270=\"\",\"\",SUBTOTAL(3,$B$9:B270))","v":""},{"$f":"IFERROR(INDEX(ورقة1!$F$2:$F$500,MATCH(ROW()-8,الطباعة!$J$8:$J$536,0)),\"\")","v":""},null,null,null,null,null,null,{"$f":"IF(AND($J$3=ورقة1!H264,الطباعة!$K$3=ورقة1!I264),1,0)","v":0},{"$f":"IF(I270=0,\"\",SUM($I$8:I270))","v":""}]
[{"$f":"IF(B271=\"\",\"\",SUBTOTAL(3,$B$9:B271))","v":""},{"$f":"IFERROR(INDEX(ورقة1!$F$2:$F$500,MATCH(ROW()-8,الطباعة!$J$8:$J$536,0)),\"\")","v":""},null,null,null,null,null,null,{"$f":"IF(AND($J$3=ورقة1!H265,الطباعة!$K$3=ورقة1!I265),1,0)","v":0},{"$f":"IF(I271=0,\"\",SUM($I$8:I271))","v":""}]
[{"$f":"IF(B272=\"\",\"\",SUBTOTAL(3,$B$9:B272))","v":""},{"$f":"IFERROR(INDEX(ورقة1!$F$2:$F$500,MATCH(ROW()-8,الطباعة!$J$8:$J$536,0)),\"\")","v":""},null,null,null,null,null,null,{"$f":"IF(AND($J$3=ورقة1!H266,الطباعة!$K$3=ورقة1!I266),1,0)","v":0},{"$f":"IF(I272=0,\"\",SUM($I$8:I272))","v":""}]
[{"$f":"IF(B273=\"\",\"\",SUBTOTAL(3,$B$9:B273))","v":""},{"$f":"IFERROR(INDEX(ورقة1!$F$2:$F$500,MATCH(ROW()-8,الطباعة!$J$8:$J$536,0)),\"\")","v":""},null,null,null,null,null,null,{"$f":"IF(AND($J$3=ورقة1!H267,الطباعة!$K$3=ورقة1!I267),1,0)","v":0},{"$f":"IF(I273=0,\"\",SUM($I$8:I273))","v":""}]
[{"$f":"IF(B274=\"\",\"\",SUBTOTAL(3,$B$9:B274))","v":""},{"$f":"IFERROR(INDEX(ورقة1!$F$2:$F$500,MATCH(ROW()-8,الطباعة!$J$8:$J$536,0)),\"\")","v":""},null,null,null,null,null,null,{"$f":"IF(AND($J$3=ورقة1!H268,الطباعة!$K$3=ورقة1!I268),1,0)","v":0},{"$f":"IF(I274=0,\"\",SUM($I$8:I274))","v":""}]
[{"$f":"IF(B275=\"\",\"\",SUBTOTAL(3,$B$9:B275))","v":""},{"$f":"IFERROR(INDEX(ورقة1!$F$2:$F$500,MATCH(ROW()-8,الطباعة!$J$8:$J$536,0)),\"\")","v":""},null,null,null,null,null,null,{"$f":"IF(AND($J$3=ورقة1!H269,الطباعة!$K$3=ورقة1!I269),1,0)","v":0},{"$f":"IF(I275=0,\"\",SUM($I$8:I275))","v":""}]
[{"$f":"IF(B276=\"\",\"\",SUBTOTAL(3,$B$9:B276))","v":""},{"$f":"IFERROR(INDEX(ورقة1!$F$2:$F$500,MATCH(ROW()-8,الطباعة!$J$8:$J$536,0)),\"\")","v":""},null,null,null,null,null,null,{"$f":"IF(AND($J$3=ورقة1!H270,الطباعة!$K$3=ورقة1!I270),1,0)","v":0},{"$f":"IF(I276=0,\"\",SUM($I$8:I276))","v":""}]
[{"$f":"IF(B277=\"\",\"\",SUBTOTAL(3,$B$9:B277))","v":""},{"$f":"IFERROR(INDEX(ورقة1!$F$2:$F$500,MATCH(ROW()-8,الطباعة!$J$8:$J$536,0)),\"\")","v":""},null,null,null,null,null,null,{"$f":"IF(AND($J$3=ورقة1!H271,الطباعة!$K$3=ورقة1!I271),1,0)","v":0},{"$f":"IF(I277=0,\"\",SUM($I$8:I277))","v":""}]
[{"$f":"IF(B278=\"\",\"\",SUBTOTAL(3,$B$9:B278))","v":""},{"$f":"IFERROR(INDEX(ورقة1!$F$2:$F$500,MATCH(ROW()-8,الطباعة!$J$8:$J$536,0)),\"\")","v":""},null,null,null,null,null,null,{"$f":"IF(AND($J$3=ورقة1!H272,الطباعة!$K$3=ورقة1!I272),1,0)","v":0},{"$f":"IF(I278=0,\"\",SUM($I$8:I278))","v":""}]
[{"$f":"IF(B279=\"\",\"\",SUBTOTAL(3,$B$9:B279))","v":""},{"$f":"IFERROR(INDEX(ورقة1!$F$2:$F$500,MATCH(ROW()-8,الطباعة!$J$8:$J$536,0)),\"\")","v":""},null,null,null,null,null,null,{"$f":"IF(AND($J$3=ورقة1!H273,الطباعة!$K$3=ورقة1!I273),1,0)","v":0},{"$f":"IF(I279=0,\"\",SUM($I$8:I279))","v":""}]
[{"$f":"IF(B280=\"\",\"\",SUBTOTAL(3,$B$9:B280))","v":""},{"$f":"IFERROR(INDEX(ورقة1!$F$2:$F$500,MATCH(ROW()-8,الطباعة!$J$8:$J$536,0)),\"\")","v":""},null,null,null,null,null,null,{"$f":"IF(AND($J$3=ورقة1!H274,الطباعة!$K$3=ورقة1!I274),1,0)","v":0},{"$f":"IF(I280=0,\"\",SUM($I$8:I280))","v":""}]
[{"$f":"IF(B281=\"\",\"\",SUBTOTAL(3,$B$9:B281))","v":""},{"$f":"IFERROR(INDEX(ورقة1!$F$2:$F$500,MATCH(ROW()-8,الطباعة!$J$8:$J$536,0)),\"\")","v":""},null,null,null,null,null,null,{"$f":"IF(AND($J$3=ورقة1!H275,الطباعة!$K$3=ورقة1!I275),1,0)","v":0},{"$f":"IF(I281=0,\"\",SUM($I$8:I281))","v":""}]
[{"$f":"IF(B282=\"\",\"\",SUBTOTAL(3,$B$9:B282))","v":""},{"$f":"IFERROR(INDEX(ورقة1!$F$2:$F$500,MATCH(ROW()-8,الطباعة!$J$8:$J$536,0)),\"\")","v":""},null,null,null,null,null,null,{"$f":"IF(AND($J$3=ورقة1!H276,الطباعة!$K$3=ورقة1!I276),1,0)","v":0},{"$f":"IF(I282=0,\"\",SUM($I$8:I282))","v":""}]
[{"$f":"IF(B283=\"\",\"\",SUBTOTAL(3,$B$9:B283))","v":""},{"$f":"IFERROR(INDEX(ورقة1!$F$2:$F$500,MATCH(ROW()-8,الطباعة!$J$8:$J$536,0)),\"\")","v":""},null,null,null,null,null,null,{"$f":"IF(AND($J$3=ورقة1!H277,الطباعة!$K$3=ورقة1!I277),1,0)","v":0},{"$f":"IF(I283=0,\"\",SUM($I$8:I283))","v":""}]
[{"$f":"IF(B284=\"\",\"\",SUBTOTAL(3,$B$9:B284))","v":""},{"$f":"IFERROR(INDEX(ورقة1!$F$2:$F$500,MATCH(ROW()-8,الطباعة!$J$8:$J$536,0)),\"\")","v":""},null,null,null,null,null,null,{"$f":"IF(AND($J$3=ورقة1!H278,الطباعة!$K$3=ورقة1!I278),1,0)","v":0},{"$f":"IF(I284=0,\"\",SUM($I$8:I284))","v":""}]
[{"$f":"IF(B285=\"\",\"\",SUBTOTAL(3,$B$9:B285))","v":""},{"$f":"IFERROR(INDEX(ورقة1!$F$2:$F$500,MATCH(ROW()-8,الطباعة!$J$8:$J$536,0)),\"\")","v":""},null,null,null,null,null,null,{"$f":"IF(AND($J$3=ورقة1!H279,الطباعة!$K$3=ورقة1!I279),1,0)","v":0},{"$f":"IF(I285=0,\"\",SUM($I$8:I285))","v":""}]
[{"$f":"IF(B286=\"\",\"\",SUBTOTAL(3,$B$9:B286))","v":""},{"$f":"IFERROR(INDEX(ورقة1!$F$2:$F$500,MATCH(ROW()-8,الطباعة!$J$8:$J$536,0)),\"\")","v":""},null,null,null,null,null,null,{"$f":"IF(AND($J$3=ورقة1!H280,الطباعة!$K$3=ورقة1!I280),1,0)","v":0},{"$f":"IF(I286=0,\"\",SUM($I$8:I286))","v":""}]
[{"$f":"IF(B287=\"\",\"\",SUBTOTAL(3,$B$9:B287))","v":""},{"$f":"IFERROR(INDEX(ورقة1!$F$2:$F$500,MATCH(ROW()-8,الطباعة!$J$8:$J$536,0)),\"\")","v":""},null,null,null,null,null,null,{"$f":"IF(AND($J$3=ورقة1!H281,الطباعة!$K$3=ورقة1!I281),1,0)","v":0},{"$f":"IF(I287=0,\"\",SUM($I$8:I287))","v":""}]
[{"$f":"IF(B288=\"\",\"\",SUBTOTAL(3,$B$9:B288))","v":""},{"$f":"IFERROR(INDEX(ورقة1!$F$2:$F$500,MATCH(ROW()-8,الطباعة!$J$8:$J$536,0)),\"\")","v":""},null,null,null,null,null,null,{"$f":"IF(AND($J$3=ورقة1!H282,الطباعة!$K$3=ورقة1!I282),1,0)","v":0},{"$f":"IF(I288=0,\"\",SUM($I$8:I288))","v":""}]
[{"$f":"IF(B289=\"\",\"\",SUBTOTAL(3,$B$9:B289))","v":""},{"$f":"IFERROR(INDEX(ورقة1!$F$2:$F$500,MATCH(ROW()-8,الطباعة!$J$8:$J$536,0)),\"\")","v":""},null,null,null,null,null,null,{"$f":"IF(AND($J$3=ورقة1!H283,الطباعة!$K$3=ورقة1!I283),1,0)","v":0},{"$f":"IF(I289=0,\"\",SUM($I$8:I289))","v":""}]
[{"$f":"IF(B290=\"\",\"\",SUBTOTAL(3,$B$9:B290))","v":""},{"$f":"IFERROR(INDEX(ورقة1!$F$2:$F$500,MATCH(ROW()-8,الطباعة!$J$8:$J$536,0)),\"\")","v":""},null,null,null,null,null,null,{"$f":"IF(AND($J$3=ورقة1!H284,الطباعة!$K$3=ورقة1!I284),1,0)","v":0},{"$f":"IF(I290=0,\"\",SUM($I$8:I290))","v":""}]
[{"$f":"IF(B291=\"\",\"\",SUBTOTAL(3,$B$9:B291))","v":""},{"$f":"IFERROR(INDEX(ورقة1!$F$2:$F$500,MATCH(ROW()-8,الطباعة!$J$8:$J$536,0)),\"\")","v":""},null,null,null,null,null,null,{"$f":"IF(AND($J$3=ورقة1!H285,الطباعة!$K$3=ورقة1!I285),1,0)","v":1},{"$f":"IF(I291=0,\"\",SUM($I$8:I291))","v":61}]
[{"$f":"IF(B292=\"\",\"\",SUBTOTAL(3,$B$9:B292))","v":""},{"$f":"IFERROR(INDEX(ورقة1!$F$2:$F$500,MATCH(ROW()-8,الطباعة!$J$8:$J$536,0)),\"\")","v":""},null,null,null,null,null,null,{"$f":"IF(AND($J$3=ورقة1!H286,الطباعة!$K$3=ورقة1!I286),1,0)","v":0},{"$f":"IF(I292=0,\"\",SUM($I$8:I292))","v":""}]
[{"$f":"IF(B293=\"\",\"\",SUBTOTAL(3,$B$9:B293))","v":""},{"$f":"IFERROR(INDEX(ورقة1!$F$2:$F$500,MATCH(ROW()-8,الطباعة!$J$8:$J$536,0)),\"\")","v":""},null,null,null,null,null,null,{"$f":"IF(AND($J$3=ورقة1!H287,الطباعة!$K$3=ورقة1!I287),1,0)","v":0},{"$f":"IF(I293=0,\"\",SUM($I$8:I293))","v":""}]
[{"$f":"IF(B294=\"\",\"\",SUBTOTAL(3,$B$9:B294))","v":""},{"$f":"IFERROR(INDEX(ورقة1!$F$2:$F$500,MATCH(ROW()-8,الطباعة!$J$8:$J$536,0)),\"\")","v":""},null,null,null,null,null,null,{"$f":"IF(AND($J$3=ورقة1!H288,الطباعة!$K$3=ورقة1!I288),1,0)","v":0},{"$f":"IF(I294=0,\"\",SUM($I$8:I294))","v":""}]
[{"$f":"IF(B295=\"\",\"\",SUBTOTAL(3,$B$9:B295))","v":""},{"$f":"IFERROR(INDEX(ورقة1!$F$2:$F$500,MATCH(ROW()-8,الطباعة!$J$8:$J$536,0)),\"\")","v":""},null,null,null,null,null,null,{"$f":"IF(AND($J$3=ورقة1!H289,الطباعة!$K$3=ورقة1!I289),1,0)","v":0},{"$f":"IF(I295=0,\"\",SUM($I$8:I295))","v":""}]
[{"$f":"IF(B296=\"\",\"\",SUBTOTAL(3,$B$9:B296))","v":""},{"$f":"IFERROR(INDEX(ورقة1!$F$2:$F$500,MATCH(ROW()-8,الطباعة!$J$8:$J$536,0)),\"\")","v":""},null,null,null,null,null,null,{"$f":"IF(AND($J$3=ورقة1!H290,الطباعة!$K$3=ورقة1!I290),1,0)","v":0},{"$f":"IF(I296=0,\"\",SUM($I$8:I296))","v":""}]
[{"$f":"IF(B297=\"\",\"\",SUBTOTAL(3,$B$9:B297))","v":""},{"$f":"IFERROR(INDEX(ورقة1!$F$2:$F$500,MATCH(ROW()-8,الطباعة!$J$8:$J$536,0)),\"\")","v":""},null,null,null,null,null,null,{"$f":"IF(AND($J$3=ورقة1!H291,الطباعة!$K$3=ورقة1!I291),1,0)","v":0},{"$f":"IF(I297=0,\"\",SUM($I$8:I297))","v":""}]
[{"$f":"IF(B298=\"\",\"\",SUBTOTAL(3,$B$9:B298))","v":""},{"$f":"IFERROR(INDEX(ورقة1!$F$2:$F$500,MATCH(ROW()-8,الطباعة!$J$8:$J$536,0)),\"\")","v":""},null,null,null,null,null,null,{"$f":"IF(AND($J$3=ورقة1!H292,الطباعة!$K$3=ورقة1!I292),1,0)","v":0},{"$f":"IF(I298=0,\"\",SUM($I$8:I298))","v":""}]
[{"$f":"IF(B299=\"\",\"\",SUBTOTAL(3,$B$9:B299))","v":""},{"$f":"IFERROR(INDEX(ورقة1!$F$2:$F$500,MATCH(ROW()-8,الطباعة!$J$8:$J$536,0)),\"\")","v":""},null,null,null,null,null,null,{"$f":"IF(AND($J$3=ورقة1!H293,الطباعة!$K$3=ورقة1!I293),1,0)","v":0},{"$f":"IF(I299=0,\"\",SUM($I$8:I299))","v":""}]
[{"$f":"IF(B300=\"\",\"\",SUBTOTAL(3,$B$9:B300))","v":""},{"$f":"IFERROR(INDEX(ورقة1!$F$2:$F$500,MATCH(ROW()-8,الطباعة!$J$8:$J$536,0)),\"\")","v":""},null,null,null,null,null,null,{"$f":"IF(AND($J$3=ورقة1!H294,الطباعة!$K$3=ورقة1!I294),1,0)","v":0},{"$f":"IF(I300=0,\"\",SUM($I$8:I300))","v":""}]
[{"$f":"IF(B301=\"\",\"\",SUBTOTAL(3,$B$9:B301))","v":""},{"$f":"IFERROR(INDEX(ورقة1!$F$2:$F$500,MATCH(ROW()-8,الطباعة!$J$8:$J$536,0)),\"\")","v":""},null,null,null,null,null,null,{"$f":"IF(AND($J$3=ورقة1!H295,الطباعة!$K$3=ورقة1!I295),1,0)","v":0},{"$f":"IF(I301=0,\"\",SUM($I$8:I301))","v":""}]
[{"$f":"IF(B302=\"\",\"\",SUBTOTAL(3,$B$9:B302))","v":""},{"$f":"IFERROR(INDEX(ورقة1!$F$2:$F$500,MATCH(ROW()-8,الطباعة!$J$8:$J$536,0)),\"\")","v":""},null,null,null,null,null,null,{"$f":"IF(AND($J$3=ورقة1!H296,الطباعة!$K$3=ورقة1!I296),1,0)","v":1},{"$f":"IF(I302=0,\"\",SUM($I$8:I302))","v":62}]
[{"$f":"IF(B303=\"\",\"\",SUBTOTAL(3,$B$9:B303))","v":""},{"$f":"IFERROR(INDEX(ورقة1!$F$2:$F$500,MATCH(ROW()-8,الطباعة!$J$8:$J$536,0)),\"\")","v":""},null,null,null,null,null,null,{"$f":"IF(AND($J$3=ورقة1!H297,الطباعة!$K$3=ورقة1!I297),1,0)","v":0},{"$f":"IF(I303=0,\"\",SUM($I$8:I303))","v":""}]
[{"$f":"IF(B304=\"\",\"\",SUBTOTAL(3,$B$9:B304))","v":""},{"$f":"IFERROR(INDEX(ورقة1!$F$2:$F$500,MATCH(ROW()-8,الطباعة!$J$8:$J$536,0)),\"\")","v":""},null,null,null,null,null,null,{"$f":"IF(AND($J$3=ورقة1!H298,الطباعة!$K$3=ورقة1!I298),1,0)","v":0},{"$f":"IF(I304=0,\"\",SUM($I$8:I304))","v":""}]
[{"$f":"IF(B305=\"\",\"\",SUBTOTAL(3,$B$9:B305))","v":""},{"$f":"IFERROR(INDEX(ورقة1!$F$2:$F$500,MATCH(ROW()-8,الطباعة!$J$8:$J$536,0)),\"\")","v":""},null,null,null,null,null,null,{"$f":"IF(AND($J$3=ورقة1!H299,الطباعة!$K$3=ورقة1!I299),1,0)","v":0},{"$f":"IF(I305=0,\"\",SUM($I$8:I305))","v":""}]
[{"$f":"IF(B306=\"\",\"\",SUBTOTAL(3,$B$9:B306))","v":""},{"$f":"IFERROR(INDEX(ورقة1!$F$2:$F$500,MATCH(ROW()-8,الطباعة!$J$8:$J$536,0)),\"\")","v":""},null,null,null,null,null,null,{"$f":"IF(AND($J$3=ورقة1!H300,الطباعة!$K$3=ورقة1!I300),1,0)","v":0},{"$f":"IF(I306=0,\"\",SUM($I$8:I306))","v":""}]
[{"$f":"IF(B307=\"\",\"\",SUBTOTAL(3,$B$9:B307))","v":""},{"$f":"IFERROR(INDEX(ورقة1!$F$2:$F$500,MATCH(ROW()-8,الطباعة!$J$8:$J$536,0)),\"\")","v":""},null,null,null,null,null,null,{"$f":"IF(AND($J$3=ورقة1!H301,الطباعة!$K$3=ورقة1!I301),1,0)","v":0},{"$f":"IF(I307=0,\"\",SUM($I$8:I307))","v":""}]
[{"$f":"IF(B308=\"\",\"\",SUBTOTAL(3,$B$9:B308))","v":""},{"$f":"IFERROR(INDEX(ورقة1!$F$2:$F$500,MATCH(ROW()-8,الطباعة!$J$8:$J$536,0)),\"\")","v":""},null,null,null,null,null,null,{"$f":"IF(AND($J$3=ورقة1!H302,الطباعة!$K$3=ورقة1!I302),1,0)","v":0},{"$f":"IF(I308=0,\"\",SUM($I$8:I308))","v":""}]
[{"$f":"IF(B309=\"\",\"\",SUBTOTAL(3,$B$9:B309))","v":""},{"$f":"IFERROR(INDEX(ورقة1!$F$2:$F$500,MATCH(ROW()-8,الطباعة!$J$8:$J$536,0)),\"\")","v":""},null,null,null,null,null,null,{"$f":"IF(AND($J$3=ورقة1!H303,الطباعة!$K$3=ورقة1!I303),1,0)","v":0},{"$f":"IF(I309=0,\"\",SUM($I$8:I309))","v":""}]
[{"$f":"IF(B310=\"\",\"\",SUBTOTAL(3,$B$9:B310))","v":""},{"$f":"IFERROR(INDEX(ورقة1!$F$2:$F$500,MATCH(ROW()-8,الطباعة!$J$8:$J$536,0)),\"\")","v":""},null,null,null,null,null,null,{"$f":"IF(AND($J$3=ورقة1!H304,الطباعة!$K$3=ورقة1!I304),1,0)","v":0},{"$f":"IF(I310=0,\"\",SUM($I$8:I310))","v":""}]
[{"$f":"IF(B311=\"\",\"\",SUBTOTAL(3,$B$9:B311))","v":""},{"$f":"IFERROR(INDEX(ورقة1!$F$2:$F$500,MATCH(ROW()-8,الطباعة!$J$8:$J$536,0)),\"\")","v":""},null,null,null,null,null,null,{"$f":"IF(AND($J$3=ورقة1!H305,الطباعة!$K$3=ورقة1!I305),1,0)","v":0},{"$f":"IF(I311=0,\"\",SUM($I$8:I311))","v":""}]
[{"$f":"IF(B312=\"\",\"\",SUBTOTAL(3,$B$9:B312))","v":""},{"$f":"IFERROR(INDEX(ورقة1!$F$2:$F$500,MATCH(ROW()-8,الطباعة!$J$8:$J$536,0)),\"\")","v":""},null,null,null,null,null,null,{"$f":"IF(AND($J$3=ورقة1!H306,الطباعة!$K$3=ورقة1!I306),1,0)","v":0},{"$f":"IF(I312=0,\"\",SUM($I$8:I312))","v":""}]
[{"$f":"IF(B313=\"\",\"\",SUBTOTAL(3,$B$9:B313))","v":""},{"$f":"IFERROR(INDEX(ورقة1!$F$2:$F$500,MATCH(ROW()-8,الطباعة!$J$8:$J$536,0)),\"\")","v":""},null,null,null,null,null,null,{"$f":"IF(AND($J$3=ورقة1!H307,الطباعة!$K$3=ورقة1!I307),1,0)","v":1},{"$f":"IF(I313=0,\"\",SUM($I$8:I313))","v":63}]
[{"$f":"IF(B314=\"\",\"\",SUBTOTAL(3,$B$9:B314))","v":""},{"$f":"IFERROR(INDEX(ورقة1!$F$2:$F$500,MATCH(ROW()-8,الطباعة!$J$8:$J$536,0)),\"\")","v":""},null,null,null,null,null,null,{"$f":"IF(AND($J$3=ورقة1!H308,الطباعة!$K$3=ورقة1!I308),1,0)","v":1},{"$f":"IF(I314=0,\"\",SUM($I$8:I314))","v":64}]
[{"$f":"IF(B315=\"\",\"\",SUBTOTAL(3,$B$9:B315))","v":""},{"$f":"IFERROR(INDEX(ورقة1!$F$2:$F$500,MATCH(ROW()-8,الطباعة!$J$8:$J$536,0)),\"\")","v":""},null,null,null,null,null,null,{"$f":"IF(AND($J$3=ورقة1!H309,الطباعة!$K$3=ورقة1!I309),1,0)","v":0},{"$f":"IF(I315=0,\"\",SUM($I$8:I315))","v":""}]
[{"$f":"IF(B316=\"\",\"\",SUBTOTAL(3,$B$9:B316))","v":""},{"$f":"IFERROR(INDEX(ورقة1!$F$2:$F$500,MATCH(ROW()-8,الطباعة!$J$8:$J$536,0)),\"\")","v":""},null,null,null,null,null,null,{"$f":"IF(AND($J$3=ورقة1!H310,الطباعة!$K$3=ورقة1!I310),1,0)","v":0},{"$f":"IF(I316=0,\"\",SUM($I$8:I316))","v":""}]
[{"$f":"IF(B317=\"\",\"\",SUBTOTAL(3,$B$9:B317))","v":""},{"$f":"IFERROR(INDEX(ورقة1!$F$2:$F$500,MATCH(ROW()-8,الطباعة!$J$8:$J$536,0)),\"\")","v":""},null,null,null,null,null,null,{"$f":"IF(AND($J$3=ورقة1!H311,الطباعة!$K$3=ورقة1!I311),1,0)","v":0},{"$f":"IF(I317=0,\"\",SUM($I$8:I317))","v":""}]
[{"$f":"IF(B318=\"\",\"\",SUBTOTAL(3,$B$9:B318))","v":""},{"$f":"IFERROR(INDEX(ورقة1!$F$2:$F$500,MATCH(ROW()-8,الطباعة!$J$8:$J$536,0)),\"\")","v":""},null,null,null,null,null,null,{"$f":"IF(AND($J$3=ورقة1!H312,الطباعة!$K$3=ورقة1!I312),1,0)","v":0},{"$f":"IF(I318=0,\"\",SUM($I$8:I318))","v":""}]
[{"$f":"IF(B319=\"\",\"\",SUBTOTAL(3,$B$9:B319))","v":""},{"$f":"IFERROR(INDEX(ورقة1!$F$2:$F$500,MATCH(ROW()-8,الطباعة!$J$8:$J$536,0)),\"\")","v":""},null,null,null,null,null,null,{"$f":"IF(AND($J$3=ورقة1!H313,الطباعة!$K$3=ورقة1!I313),1,0)","v":0},{"$f":"IF(I319=0,\"\",SUM($I$8:I319))","v":""}]
[{"$f":"IF(B320=\"\",\"\",SUBTOTAL(3,$B$9:B320))","v":""},{"$f":"IFERROR(INDEX(ورقة1!$F$2:$F$500,MATCH(ROW()-8,الطباعة!$J$8:$J$536,0)),\"\")","v":""},null,null,null,null,null,null,{"$f":"IF(AND($J$3=ورقة1!H314,الطباعة!$K$3=ورقة1!I314),1,0)","v":0},{"$f":"IF(I320=0,\"\",SUM($I$8:I320))","v":""}]
[{"$f":"IF(B321=\"\",\"\",SUBTOTAL(3,$B$9:B321))","v":""},{"$f":"IFERROR(INDEX(ورقة1!$F$2:$F$500,MATCH(ROW()-8,الطباعة!$J$8:$J$536,0)),\"\")","v":""},null,null,null,null,null,null,{"$f":"IF(AND($J$3=ورقة1!H315,الطباعة!$K$3=ورقة1!I315),1,0)","v":0},{"$f":"IF(I321=0,\"\",SUM($I$8:I321))","v":""}]
[{"$f":"IF(B322=\"\",\"\",SUBTOTAL(3,$B$9:B322))","v":""},{"$f":"IFERROR(INDEX(ورقة1!$F$2:$F$500,MATCH(ROW()-8,الطباعة!$J$8:$J$536,0)),\"\")","v":""},null,null,null,null,null,null,{"$f":"IF(AND($J$3=ورقة1!H316,الطباعة!$K$3=ورقة1!I316),1,0)","v":0},{"$f":"IF(I322=0,\"\",SUM($I$8:I322))","v":""}]
[{"$f":"IF(B323=\"\",\"\",SUBTOTAL(3,$B$9:B323))","v":""},{"$f":"IFERROR(INDEX(ورقة1!$F$2:$F$500,MATCH(ROW()-8,الطباعة!$J$8:$J$536,0)),\"\")","v":""},null,null,null,null,null,null,{"$f":"IF(AND($J$3=ورقة1!H317,الطباعة!$K$3=ورقة1!I317),1,0)","v":0},{"$f":"IF(I323=0,\"\",SUM($I$8:I323))","v":""}]
[{"$f":"IF(B324=\"\",\"\",SUBTOTAL(3,$B$9:B324))","v":""},{"$f":"IFERROR(INDEX(ورقة1!$F$2:$F$500,MATCH(ROW()-8,الطباعة!$J$8:$J$536,0)),\"\")","v":""},null,null,null,null,null,null,{"$f":"IF(AND($J$3=ورقة1!H318,الطباعة!$K$3=ورقة1!I318),1,0)","v":0},{"$f":"IF(I324=0,\"\",SUM($I$8:I324))","v":""}]
[{"$f":"IF(B325=\"\",\"\",SUBTOTAL(3,$B$9:B325))","v":""},{"$f":"IFERROR(INDEX(ورقة1!$F$2:$F$500,MATCH(ROW()-8,الطباعة!$J$8:$J$536,0)),\"\")","v":""},null,null,null,null,null,null,{"$f":"IF(AND($J$3=ورقة1!H319,الطباعة!$K$3=ورقة1!I319),1,0)","v":0},{"$f":"IF(I325=0,\"\",SUM($I$8:I325))","v":""}]
[{"$f":"IF(B326=\"\",\"\",SUBTOTAL(3,$B$9:B326))","v":""},{"$f":"IFERROR(INDEX(ورقة1!$F$2:$F$500,MATCH(ROW()-8,الطباعة!$J$8:$J$536,0)),\"\")","v":""},null,null,null,null,null,null,{"$f":"IF(AND($J$3=ورقة1!H320,الطباعة!$K$3=ورقة1!I320),1,0)","v":0},{"$f":"IF(I326=0,\"\",SUM($I$8:I326))","v":""}]
[{"$f":"IF(B327=\"\",\"\",SUBTOTAL(3,$B$9:B327))","v":""},{"$f":"IFERROR(INDEX(ورقة1!$F$2:$F$500,MATCH(ROW()-8,الطباعة!$J$8:$J$536,0)),\"\")","v":""},null,null,null,null,null,null,{"$f":"IF(AND($J$3=ورقة1!H321,الطباعة!$K$3=ورقة1!I321),1,0)","v":0},{"$f":"IF(I327=0,\"\",SUM($I$8:I327))","v":""}]
[{"$f":"IF(B328=\"\",\"\",SUBTOTAL(3,$B$9:B328))","v":""},{"$f":"IFERROR(INDEX(ورقة1!$F$2:$F$500,MATCH(ROW()-8,الطباعة!$J$8:$J$536,0)),\"\")","v":""},null,null,null,null,null,null,{"$f":"IF(AND($J$3=ورقة1!H322,الطباعة!$K$3=ورقة1!I322),1,0)","v":0},{"$f":"IF(I328=0,\"\",SUM($I$8:I328))","v":""}]
[{"$f":"IF(B329=\"\",\"\",SUBTOTAL(3,$B$9:B329))","v":""},{"$f":"IFERROR(INDEX(ورقة1!$F$2:$F$500,MATCH(ROW()-8,الطباعة!$J$8:$J$536,0)),\"\")","v":""},null,null,null,null,null,null,{"$f":"IF(AND($J$3=ورقة1!H323,الطباعة!$K$3=ورقة1!I323),1,0)","v":0},{"$f":"IF(I329=0,\"\",SUM($I$8:I329))","v":""}]
[{"$f":"IF(B330=\"\",\"\",SUBTOTAL(3,$B$9:B330))","v":""},{"$f":"IFERROR(INDEX(ورقة1!$F$2:$F$500,MATCH(ROW()-8,الطباعة!$J$8:$J$536,0)),\"\")","v":""},null,null,null,null,null,null,{"$f":"IF(AND($J$3=ورقة1!H324,الطباعة!$K$3=ورقة1!I324),1,0)","v":0},{"$f":"IF(I330=0,\"\",SUM($I$8:I330))","v":""}]
[{"$f":"IF(B331=\"\",\"\",SUBTOTAL(3,$B$9:B331))","v":""},{"$f":"IFERROR(INDEX(ورقة1!$F$2:$F$500,MATCH(ROW()-8,الطباعة!$J$8:$J$536,0)),\"\")","v":""},null,null,null,null,null,null,{"$f":"IF(AND($J$3=ورقة1!H325,الطباعة!$K$3=ورقة1!I325),1,0)","v":0},{"$f":"IF(I331=0,\"\",SUM($I$8:I331))","v":""}]
[{"$f":"IF(B332=\"\",\"\",SUBTOTAL(3,$B$9:B332))","v":""},{"$f":"IFERROR(INDEX(ورقة1!$F$2:$F$500,MATCH(ROW()-8,الطباعة!$J$8:$J$536,0)),\"\")","v":""},null,null,null,null,null,null,{"$f":"IF(AND($J$3=ورقة1!H326,الطباعة!$K$3=ورقة1!I326),1,0)","v":0},{"$f":"IF(I332=0,\"\",SUM($I$8:I332))","v":""}]
[{"$f":"IF(B333=\"\",\"\",SUBTOTAL(3,$B$9:B333))","v":""},{"$f":"IFERROR(INDEX(ورقة1!$F$2:$F$500,MATCH(ROW()-8,الطباعة!$J$8:$J$536,0)),\"\")","v":""},null,null,null,null,null,null,{"$f":"IF(AND($J$3=ورقة1!H327,الطباعة!$K$3=ورقة1!I327),1,0)","v":0},{"$f":"IF(I333=0,\"\",SUM($I$8:I333))","v":""}]
[{"$f":"IF(B334=\"\",\"\",SUBTOTAL(3,$B$9:B334))","v":""},{"$f":"IFERROR(INDEX(ورقة1!$F$2:$F$500,MATCH(ROW()-8,الطباعة!$J$8:$J$536,0)),\"\")","v":""},null,null,null,null,null,null,{"$f":"IF(AND($J$3=ورقة1!H328,الطباعة!$K$3=ورقة1!I328),1,0)","v":0},{"$f":"IF(I334=0,\"\",SUM($I$8:I334))","v":""}]
[{"$f":"IF(B335=\"\",\"\",SUBTOTAL(3,$B$9:B335))","v":""},{"$f":"IFERROR(INDEX(ورقة1!$F$2:$F$500,MATCH(ROW()-8,الطباعة!$J$8:$J$536,0)),\"\")","v":""},null,null,null,null,null,null,{"$f":"IF(AND($J$3=ورقة1!H329,الطباعة!$K$3=ورقة1!I329),1,0)","v":0},{"$f":"IF(I335=0,\"\",SUM($I$8:I335))","v":""}]
[{"$f":"IF(B336=\"\",\"\",SUBTOTAL(3,$B$9:B336))","v":""},{"$f":"IFERROR(INDEX(ورقة1!$F$2:$F$500,MATCH(ROW()-8,الطباعة!$J$8:$J$536,0)),\"\")","v":""},null,null,null,null,null,null,{"$f":"IF(AND($J$3=ورقة1!H330,الطباعة!$K$3=ورقة1!I330),1,0)","v":0},{"$f":"IF(I336=0,\"\",SUM($I$8:I336))","v":""}]
[{"$f":"IF(B337=\"\",\"\",SUBTOTAL(3,$B$9:B337))","v":""},{"$f":"IFERROR(INDEX(ورقة1!$F$2:$F$500,MATCH(ROW()-8,الطباعة!$J$8:$J$536,0)),\"\")","v":""},null,null,null,null,null,null,{"$f":"IF(AND($J$3=ورقة1!H331,الطباعة!$K$3=ورقة1!I331),1,0)","v":0},{"$f":"IF(I337=0,\"\",SUM($I$8:I337))","v":""}]
[{"$f":"IF(B338=\"\",\"\",SUBTOTAL(3,$B$9:B338))","v":""},{"$f":"IFERROR(INDEX(ورقة1!$F$2:$F$500,MATCH(ROW()-8,الطباعة!$J$8:$J$536,0)),\"\")","v":""},null,null,null,null,null,null,{"$f":"IF(AND($J$3=ورقة1!H332,الطباعة!$K$3=ورقة1!I332),1,0)","v":0},{"$f":"IF(I338=0,\"\",SUM($I$8:I338))","v":""}]
[{"$f":"IF(B339=\"\",\"\",SUBTOTAL(3,$B$9:B339))","v":""},{"$f":"IFERROR(INDEX(ورقة1!$F$2:$F$500,MATCH(ROW()-8,الطباعة!$J$8:$J$536,0)),\"\")","v":""},null,null,null,null,null,null,{"$f":"IF(AND($J$3=ورقة1!H333,الطباعة!$K$3=ورقة1!I333),1,0)","v":0},{"$f":"IF(I339=0,\"\",SUM($I$8:I339))","v":""}]
[{"$f":"IF(B340=\"\",\"\",SUBTOTAL(3,$B$9:B340))","v":""},{"$f":"IFERROR(INDEX(ورقة1!$F$2:$F$500,MATCH(ROW()-8,الطباعة!$J$8:$J$536,0)),\"\")","v":""},null,null,null,null,null,null,{"$f":"IF(AND($J$3=ورقة1!H334,الطباعة!$K$3=ورقة1!I334),1,0)","v":0},{"$f":"IF(I340=0,\"\",SUM($I$8:I340))","v":""}]
[{"$f":"IF(B341=\"\",\"\",SUBTOTAL(3,$B$9:B341))","v":""},{"$f":"IFERROR(INDEX(ورقة1!$F$2:$F$500,MATCH(ROW()-8,الطباعة!$J$8:$J$536,0)),\"\")","v":""},null,null,null,null,null,null,{"$f":"IF(AND($J$3=ورقة1!H335,الطباعة!$K$3=ورقة1!I335),1,0)","v":0},{"$f":"IF(I341=0,\"\",SUM($I$8:I341))","v":""}]
[{"$f":"IF(B342=\"\",\"\",SUBTOTAL(3,$B$9:B342))","v":""},{"$f":"IFERROR(INDEX(ورقة1!$F$2:$F$500,MATCH(ROW()-8,الطباعة!$J$8:$J$536,0)),\"\")","v":""},null,null,null,null,null,null,{"$f":"IF(AND($J$3=ورقة1!H336,الطباعة!$K$3=ورقة1!I336),1,0)","v":0},{"$f":"IF(I342=0,\"\",SUM($I$8:I342))","v":""}]
[{"$f":"IF(B343=\"\",\"\",SUBTOTAL(3,$B$9:B343))","v":""},{"$f":"IFERROR(INDEX(ورقة1!$F$2:$F$500,MATCH(ROW()-8,الطباعة!$J$8:$J$536,0)),\"\")","v":""},null,null,null,null,null,null,{"$f":"IF(AND($J$3=ورقة1!H337,الطباعة!$K$3=ورقة1!I337),1,0)","v":0},{"$f":"IF(I343=0,\"\",SUM($I$8:I343))","v":""}]
[{"$f":"IF(B344=\"\",\"\",SUBTOTAL(3,$B$9:B344))","v":""},{"$f":"IFERROR(INDEX(ورقة1!$F$2:$F$500,MATCH(ROW()-8,الطباعة!$J$8:$J$536,0)),\"\")","v":""},null,null,null,null,null,null,{"$f":"IF(AND($J$3=ورقة1!H338,الطباعة!$K$3=ورقة1!I338),1,0)","v":0},{"$f":"IF(I344=0,\"\",SUM($I$8:I344))","v":""}]
[{"$f":"IF(B345=\"\",\"\",SUBTOTAL(3,$B$9:B345))","v":""},{"$f":"IFERROR(INDEX(ورقة1!$F$2:$F$500,MATCH(ROW()-8,الطباعة!$J$8:$J$536,0)),\"\")","v":""},null,null,null,null,null,null,{"$f":"IF(AND($J$3=ورقة1!H339,الطباعة!$K$3=ورقة1!I339),1,0)","v":0},{"$f":"IF(I345=0,\"\",SUM($I$8:I345))","v":""}]
[{"$f":"IF(B346=\"\",\"\",SUBTOTAL(3,$B$9:B346))","v":""},{"$f":"IFERROR(INDEX(ورقة1!$F$2:$F$500,MATCH(ROW()-8,الطباعة!$J$8:$J$536,0)),\"\")","v":""},null,null,null,null,null,null,{"$f":"IF(AND($J$3=ورقة1!H340,الطباعة!$K$3=ورقة1!I340),1,0)","v":0},{"$f":"IF(I346=0,\"\",SUM($I$8:I346))","v":""}]
[{"$f":"IF(B347=\"\",\"\",SUBTOTAL(3,$B$9:B347))","v":""},{"$f":"IFERROR(INDEX(ورقة1!$F$2:$F$500,MATCH(ROW()-8,الطباعة!$J$8:$J$536,0)),\"\")","v":""},null,null,null,null,null,null,{"$f":"IF(AND($J$3=ورقة1!H341,الطباعة!$K$3=ورقة1!I341),1,0)","v":0},{"$f":"IF(I347=0,\"\",SUM($I$8:I347))","v":""}]
[{"$f":"IF(B348=\"\",\"\",SUBTOTAL(3,$B$9:B348))","v":""},{"$f":"IFERROR(INDEX(ورقة1!$F$2:$F$500,MATCH(ROW()-8,الطباعة!$J$8:$J$536,0)),\"\")","v":""},null,null,null,null,null,null,{"$f":"IF(AND($J$3=ورقة1!H342,الطباعة!$K$3=ورقة1!I342),1,0)","v":0},{"$f":"IF(I348=0,\"\",SUM($I$8:I348))","v":""}]
[{"$f":"IF(B349=\"\",\"\",SUBTOTAL(3,$B$9:B349))","v":""},{"$f":"IFERROR(INDEX(ورقة1!$F$2:$F$500,MATCH(ROW()-8,الطباعة!$J$8:$J$536,0)),\"\")","v":""},null,null,null,null,null,null,{"$f":"IF(AND($J$3=ورقة1!H343,الطباعة!$K$3=ورقة1!I343),1,0)","v":0},{"$f":"IF(I349=0,\"\",SUM($I$8:I349))","v":""}]
[{"$f":"IF(B350=\"\",\"\",SUBTOTAL(3,$B$9:B350))","v":""},{"$f":"IFERROR(INDEX(ورقة1!$F$2:$F$500,MATCH(ROW()-8,الطباعة!$J$8:$J$536,0)),\"\")","v":""},null,null,null,null,null,null,{"$f":"IF(AND($J$3=ورقة1!H344,الطباعة!$K$3=ورقة1!I344),1,0)","v":0},{"$f":"IF(I350=0,\"\",SUM($I$8:I350))","v":""}]
[{"$f":"IF(B351=\"\",\"\",SUBTOTAL(3,$B$9:B351))","v":""},{"$f":"IFERROR(INDEX(ورقة1!$F$2:$F$500,MATCH(ROW()-8,الطباعة!$J$8:$J$536,0)),\"\")","v":""},null,null,null,null,null,null,{"$f":"IF(AND($J$3=ورقة1!H345,الطباعة!$K$3=ورقة1!I345),1,0)","v":0},{"$f":"IF(I351=0,\"\",SUM($I$8:I351))","v":""}]
[{"$f":"IF(B352=\"\",\"\",SUBTOTAL(3,$B$9:B352))","v":""},{"$f":"IFERROR(INDEX(ورقة1!$F$2:$F$500,MATCH(ROW()-8,الطباعة!$J$8:$J$536,0)),\"\")","v":""},null,null,null,null,null,null,{"$f":"IF(AND($J$3=ورقة1!H346,الطباعة!$K$3=ورقة1!I346),1,0)","v":0},{"$f":"IF(I352=0,\"\",SUM($I$8:I352))","v":""}]
[{"$f":"IF(B353=\"\",\"\",SUBTOTAL(3,$B$9:B353))","v":""},{"$f":"IFERROR(INDEX(ورقة1!$F$2:$F$500,MATCH(ROW()-8,الطباعة!$J$8:$J$536,0)),\"\")","v":""},null,null,null,null,null,null,{"$f":"IF(AND($J$3=ورقة1!H347,الطباعة!$K$3=ورقة1!I347),1,0)","v":0},{"$f":"IF(I353=0,\"\",SUM($I$8:I353))","v":""}]
[{"$f":"IF(B354=\"\",\"\",SUBTOTAL(3,$B$9:B354))","v":""},{"$f":"IFERROR(INDEX(ورقة1!$F$2:$F$500,MATCH(ROW()-8,الطباعة!$J$8:$J$536,0)),\"\")","v":""},null,null,null,null,null,null,{"$f":"IF(AND($J$3=ورقة1!H348,الطباعة!$K$3=ورقة1!I348),1,0)","v":0},{"$f":"IF(I354=0,\"\",SUM($I$8:I354))","v":""}]
[{"$f":"IF(B355=\"\",\"\",SUBTOTAL(3,$B$9:B355))","v":""},{"$f":"IFERROR(INDEX(ورقة1!$F$2:$F$500,MATCH(ROW()-8,الطباعة!$J$8:$J$536,0)),\"\")","v":""},null,null,null,null,null,null,{"$f":"IF(AND($J$3=ورقة1!H349,الطباعة!$K$3=ورقة1!I349),1,0)","v":0},{"$f":"IF(I355=0,\"\",SUM($I$8:I355))","v":""}]
[{"$f":"IF(B356=\"\",\"\",SUBTOTAL(3,$B$9:B356))","v":""},{"$f":"IFERROR(INDEX(ورقة1!$F$2:$F$500,MATCH(ROW()-8,الطباعة!$J$8:$J$536,0)),\"\")","v":""},null,null,null,null,null,null,{"$f":"IF(AND($J$3=ورقة1!H350,الطباعة!$K$3=ورقة1!I350),1,0)","v":0},{"$f":"IF(I356=0,\"\",SUM($I$8:I356))","v":""}]
[{"$f":"IF(B357=\"\",\"\",SUBTOTAL(3,$B$9:B357))","v":""},{"$f":"IFERROR(INDEX(ورقة1!$F$2:$F$500,MATCH(ROW()-8,الطباعة!$J$8:$J$536,0)),\"\")","v":""},null,null,null,null,null,null,{"$f":"IF(AND($J$3=ورقة1!H351,الطباعة!$K$3=ورقة1!I351),1,0)","v":0},{"$f":"IF(I357=0,\"\",SUM($I$8:I357))","v":""}]
[{"$f":"IF(B358=\"\",\"\",SUBTOTAL(3,$B$9:B358))","v":""},{"$f":"IFERROR(INDEX(ورقة1!$F$2:$F$500,MATCH(ROW()-8,الطباعة!$J$8:$J$536,0)),\"\")","v":""},null,null,null,null,null,null,{"$f":"IF(AND($J$3=ورقة1!H352,الطباعة!$K$3=ورقة1!I352),1,0)","v":0},{"$f":"IF(I358=0,\"\",SUM($I$8:I358))","v":""}]
[{"$f":"IF(B359=\"\",\"\",SUBTOTAL(3,$B$9:B359))","v":""},{"$f":"IFERROR(INDEX(ورقة1!$F$2:$F$500,MATCH(ROW()-8,الطباعة!$J$8:$J$536,0)),\"\")","v":""},null,null,null,null,null,null,{"$f":"IF(AND($J$3=ورقة1!H353,الطباعة!$K$3=ورقة1!I353),1,0)","v":0},{"$f":"IF(I359=0,\"\",SUM($I$8:I359))","v":""}]
[{"$f":"IF(B360=\"\",\"\",SUBTOTAL(3,$B$9:B360))","v":""},{"$f":"IFERROR(INDEX(ورقة1!$F$2:$F$500,MATCH(ROW()-8,الطباعة!$J$8:$J$536,0)),\"\")","v":""},null,null,null,null,null,null,{"$f":"IF(AND($J$3=ورقة1!H354,الطباعة!$K$3=ورقة1!I354),1,0)","v":0},{"$f":"IF(I360=0,\"\",SUM($I$8:I360))","v":""}]
[{"$f":"IF(B361=\"\",\"\",SUBTOTAL(3,$B$9:B361))","v":""},{"$f":"IFERROR(INDEX(ورقة1!$F$2:$F$500,MATCH(ROW()-8,الطباعة!$J$8:$J$536,0)),\"\")","v":""},null,null,null,null,null,null,{"$f":"IF(AND($J$3=ورقة1!H355,الطباعة!$K$3=ورقة1!I355),1,0)","v":0},{"$f":"IF(I361=0,\"\",SUM($I$8:I361))","v":""}]
[{"$f":"IF(B362=\"\",\"\",SUBTOTAL(3,$B$9:B362))","v":""},{"$f":"IFERROR(INDEX(ورقة1!$F$2:$F$500,MATCH(ROW()-8,الطباعة!$J$8:$J$536,0)),\"\")","v":""},null,null,null,null,null,null,{"$f":"IF(AND($J$3=ورقة1!H356,الطباعة!$K$3=ورقة1!I356),1,0)","v":0},{"$f":"IF(I362=0,\"\",SUM($I$8:I362))","v":""}]
[{"$f":"IF(B363=\"\",\"\",SUBTOTAL(3,$B$9:B363))","v":""},{"$f":"IFERROR(INDEX(ورقة1!$F$2:$F$500,MATCH(ROW()-8,الطباعة!$J$8:$J$536,0)),\"\")","v":""},null,null,null,null,null,null,{"$f":"IF(AND($J$3=ورقة1!H357,الطباعة!$K$3=ورقة1!I357),1,0)","v":0},{"$f":"IF(I363=0,\"\",SUM($I$8:I363))","v":""}]
[{"$f":"IF(B364=\"\",\"\",SUBTOTAL(3,$B$9:B364))","v":""},{"$f":"IFERROR(INDEX(ورقة1!$F$2:$F$500,MATCH(ROW()-8,الطباعة!$J$8:$J$536,0)),\"\")","v":""},null,null,null,null,null,null,{"$f":"IF(AND($J$3=ورقة1!H358,الطباعة!$K$3=ورقة1!I358),1,0)","v":0},{"$f":"IF(I364=0,\"\",SUM($I$8:I364))","v":""}]
[{"$f":"IF(B365=\"\",\"\",SUBTOTAL(3,$B$9:B365))","v":""},{"$f":"IFERROR(INDEX(ورقة1!$F$2:$F$500,MATCH(ROW()-8,الطباعة!$J$8:$J$536,0)),\"\")","v":""},null,null,null,null,null,null,{"$f":"IF(AND($J$3=ورقة1!H359,الطباعة!$K$3=ورقة1!I359),1,0)","v":0},{"$f":"IF(I365=0,\"\",SUM($I$8:I365))","v":""}]
[{"$f":"IF(B366=\"\",\"\",SUBTOTAL(3,$B$9:B366))","v":""},{"$f":"IFERROR(INDEX(ورقة1!$F$2:$F$500,MATCH(ROW()-8,الطباعة!$J$8:$J$536,0)),\"\")","v":""},null,null,null,null,null,null,{"$f":"IF(AND($J$3=ورقة1!H360,الطباعة!$K$3=ورقة1!I360),1,0)","v":0},{"$f":"IF(I366=0,\"\",SUM($I$8:I366))","v":""}]
[{"$f":"IF(B367=\"\",\"\",SUBTOTAL(3,$B$9:B367))","v":""},{"$f":"IFERROR(INDEX(ورقة1!$F$2:$F$500,MATCH(ROW()-8,الطباعة!$J$8:$J$536,0)),\"\")","v":""},null,null,null,null,null,null,{"$f":"IF(AND($J$3=ورقة1!H361,الطباعة!$K$3=ورقة1!I361),1,0)","v":0},{"$f":"IF(I367=0,\"\",SUM($I$8:I367))","v":""}]
[{"$f":"IF(B368=\"\",\"\",SUBTOTAL(3,$B$9:B368))","v":""},{"$f":"IFERROR(INDEX(ورقة1!$F$2:$F$500,MATCH(ROW()-8,الطباعة!$J$8:$J$536,0)),\"\")","v":""},null,null,null,null,null,null,{"$f":"IF(AND($J$3=ورقة1!H362,الطباعة!$K$3=ورقة1!I362),1,0)","v":0},{"$f":"IF(I368=0,\"\",SUM($I$8:I368))","v":""}]
[{"$f":"IF(B369=\"\",\"\",SUBTOTAL(3,$B$9:B369))","v":""},{"$f":"IFERROR(INDEX(ورقة1!$F$2:$F$500,MATCH(ROW()-8,الطباعة!$J$8:$J$536,0)),\"\")","v":""},null,null,null,null,null,null,{"$f":"IF(AND($J$3=ورقة1!H363,الطباعة!$K$3=ورقة1!I363),1,0)","v":0},{"$f":"IF(I369=0,\"\",SUM($I$8:I369))","v":""}]
[{"$f":"IF(B370=\"\",\"\",SUBTOTAL(3,$B$9:B370))","v":""},{"$f":"IFERROR(INDEX(ورقة1!$F$2:$F$500,MATCH(ROW()-8,الطباعة!$J$8:$J$536,0)),\"\")","v":""},null,null,null,null,null,null,{"$f":"IF(AND($J$3=ورقة1!H364,الطباعة!$K$3=ورقة1!I364),1,0)","v":0},{"$f":"IF(I370=0,\"\",SUM($I$8:I370))","v":""}]
[{"$f":"IF(B371=\"\",\"\",SUBTOTAL(3,$B$9:B371))","v":""},{"$f":"IFERROR(INDEX(ورقة1!$F$2:$F$500,MATCH(ROW()-8,الطباعة!$J$8:$J$536,0)),\"\")","v":""},null,null,null,null,null,null,{"$f":"IF(AND($J$3=ورقة1!H365,الطباعة!$K$3=ورقة1!I365),1,0)","v":0},{"$f":"IF(I371=0,\"\",SUM($I$8:I371))","v":""}]
[{"$f":"IF(B372=\"\",\"\",SUBTOTAL(3,$B$9:B372))","v":""},{"$f":"IFERROR(INDEX(ورقة1!$F$2:$F$500,MATCH(ROW()-8,الطباعة!$J$8:$J$536,0)),\"\")","v":""},null,null,null,null,null,null,{"$f":"IF(AND($J$3=ورقة1!H366,الطباعة!$K$3=ورقة1!I366),1,0)","v":0},{"$f":"IF(I372=0,\"\",SUM($I$8:I372))","v":""}]
[{"$f":"IF(B373=\"\",\"\",SUBTOTAL(3,$B$9:B373))","v":""},{"$f":"IFERROR(INDEX(ورقة1!$F$2:$F$500,MATCH(ROW()-8,الطباعة!$J$8:$J$536,0)),\"\")","v":""},null,null,null,null,null,null,{"$f":"IF(AND($J$3=ورقة1!H367,الطباعة!$K$3=ورقة1!I367),1,0)","v":0},{"$f":"IF(I373=0,\"\",SUM($I$8:I373))","v":""}]
[{"$f":"IF(B374=\"\",\"\",SUBTOTAL(3,$B$9:B374))","v":""},{"$f":"IFERROR(INDEX(ورقة1!$F$2:$F$500,MATCH(ROW()-8,الطباعة!$J$8:$J$536,0)),\"\")","v":""},null,null,null,null,null,null,{"$f":"IF(AND($J$3=ورقة1!H368,الطباعة!$K$3=ورقة1!I368),1,0)","v":0},{"$f":"IF(I374=0,\"\",SUM($I$8:I374))","v":""}]
[{"$f":"IF(B375=\"\",\"\",SUBTOTAL(3,$B$9:B375))","v":""},{"$f":"IFERROR(INDEX(ورقة1!$F$2:$F$500,MATCH(ROW()-8,الطباعة!$J$8:$J$536,0)),\"\")","v":""},null,null,null,null,null,null,{"$f":"IF(AND($J$3=ورقة1!H369,الطباعة!$K$3=ورقة1!I369),1,0)","v":0},{"$f":"IF(I375=0,\"\",SUM($I$8:I375))","v":""}]
[{"$f":"IF(B376=\"\",\"\",SUBTOTAL(3,$B$9:B376))","v":""},{"$f":"IFERROR(INDEX(ورقة1!$F$2:$F$500,MATCH(ROW()-8,الطباعة!$J$8:$J$536,0)),\"\")","v":""},null,null,null,null,null,null,{"$f":"IF(AND($J$3=ورقة1!H370,الطباعة!$K$3=ورقة1!I370),1,0)","v":0},{"$f":"IF(I376=0,\"\",SUM($I$8:I376))","v":""}]
[{"$f":"IF(B377=\"\",\"\",SUBTOTAL(3,$B$9:B377))","v":""},{"$f":"IFERROR(INDEX(ورقة1!$F$2:$F$500,MATCH(ROW()-8,الطباعة!$J$8:$J$536,0)),\"\")","v":""},null,null,null,null,null,null,{"$f":"IF(AND($J$3=ورقة1!H371,الطباعة!$K$3=ورقة1!I371),1,0)","v":0},{"$f":"IF(I377=0,\"\",SUM($I$8:I377))","v":""}]
[{"$f":"IF(B378=\"\",\"\",SUBTOTAL(3,$B$9:B378))","v":""},{"$f":"IFERROR(INDEX(ورقة1!$F$2:$F$500,MATCH(ROW()-8,الطباعة!$J$8:$J$536,0)),\"\")","v":""},null,null,null,null,null,null,{"$f":"IF(AND($J$3=ورقة1!H372,الطباعة!$K$3=ورقة1!I372),1,0)","v":0},{"$f":"IF(I378=0,\"\",SUM($I$8:I378))","v":""}]
[{"$f":"IF(B379=\"\",\"\",SUBTOTAL(3,$B$9:B379))","v":""},{"$f":"IFERROR(INDEX(ورقة1!$F$2:$F$500,MATCH(ROW()-8,الطباعة!$J$8:$J$536,0)),\"\")","v":""},null,null,null,null,null,null,{"$f":"IF(AND($J$3=ورقة1!H373,الطباعة!$K$3=ورقة1!I373),1,0)","v":0},{"$f":"IF(I379=0,\"\",SUM($I$8:I379))","v":""}]
[{"$f":"IF(B380=\"\",\"\",SUBTOTAL(3,$B$9:B380))","v":""},{"$f":"IFERROR(INDEX(ورقة1!$F$2:$F$500,MATCH(ROW()-8,الطباعة!$J$8:$J$536,0)),\"\")","v":""},null,null,null,null,null,null,{"$f":"IF(AND($J$3=ورقة1!H374,الطباعة!$K$3=ورقة1!I374),1,0)","v":0},{"$f":"IF(I380=0,\"\",SUM($I$8:I380))","v":""}]
[{"$f":"IF(B381=\"\",\"\",SUBTOTAL(3,$B$9:B381))","v":""},{"$f":"IFERROR(INDEX(ورقة1!$F$2:$F$500,MATCH(ROW()-8,الطباعة!$J$8:$J$536,0)),\"\")","v":""},null,null,null,null,null,null,{"$f":"IF(AND($J$3=ورقة1!H375,الطباعة!$K$3=ورقة1!I375),1,0)","v":0},{"$f":"IF(I381=0,\"\",SUM($I$8:I381))","v":""}]
[{"$f":"IF(B382=\"\",\"\",SUBTOTAL(3,$B$9:B382))","v":""},{"$f":"IFERROR(INDEX(ورقة1!$F$2:$F$500,MATCH(ROW()-8,الطباعة!$J$8:$J$536,0)),\"\")","v":""},null,null,null,null,null,null,{"$f":"IF(AND($J$3=ورقة1!H376,الطباعة!$K$3=ورقة1!I376),1,0)","v":0},{"$f":"IF(I382=0,\"\",SUM($I$8:I382))","v":""}]
[{"$f":"IF(B383=\"\",\"\",SUBTOTAL(3,$B$9:B383))","v":""},{"$f":"IFERROR(INDEX(ورقة1!$F$2:$F$500,MATCH(ROW()-8,الطباعة!$J$8:$J$536,0)),\"\")","v":""},null,null,null,null,null,null,{"$f":"IF(AND($J$3=ورقة1!H377,الطباعة!$K$3=ورقة1!I377),1,0)","v":0},{"$f":"IF(I383=0,\"\",SUM($I$8:I383))","v":""}]
[{"$f":"IF(B384=\"\",\"\",SUBTOTAL(3,$B$9:B384))","v":""},{"$f":"IFERROR(INDEX(ورقة1!$F$2:$F$500,MATCH(ROW()-8,الطباعة!$J$8:$J$536,0)),\"\")","v":""},null,null,null,null,null,null,{"$f":"IF(AND($J$3=ورقة1!H378,الطباعة!$K$3=ورقة1!I378),1,0)","v":0},{"$f":"IF(I384=0,\"\",SUM($I$8:I384))","v":""}]
[{"$f":"IF(B385=\"\",\"\",SUBTOTAL(3,$B$9:B385))","v":""},{"$f":"IFERROR(INDEX(ورقة1!$F$2:$F$500,MATCH(ROW()-8,الطباعة!$J$8:$J$536,0)),\"\")","v":""},null,null,null,null,null,null,{"$f":"IF(AND($J$3=ورقة1!H379,الطباعة!$K$3=ورقة1!I379),1,0)","v":0},{"$f":"IF(I385=0,\"\",SUM($I$8:I385))","v":""}]
[{"$f":"IF(B386=\"\",\"\",SUBTOTAL(3,$B$9:B386))","v":""},{"$f":"IFERROR(INDEX(ورقة1!$F$2:$F$500,MATCH(ROW()-8,الطباعة!$J$8:$J$536,0)),\"\")","v":""},null,null,null,null,null,null,{"$f":"IF(AND($J$3=ورقة1!H380,الطباعة!$K$3=ورقة1!I380),1,0)","v":0},{"$f":"IF(I386=0,\"\",SUM($I$8:I386))","v":""}]
[{"$f":"IF(B387=\"\",\"\",SUBTOTAL(3,$B$9:B387))","v":""},{"$f":"IFERROR(INDEX(ورقة1!$F$2:$F$500,MATCH(ROW()-8,الطباعة!$J$8:$J$536,0)),\"\")","v":""},null,null,null,null,null,null,{"$f":"IF(AND($J$3=ورقة1!H381,الطباعة!$K$3=ورقة1!I381),1,0)","v":0},{"$f":"IF(I387=0,\"\",SUM($I$8:I387))","v":""}]
[{"$f":"IF(B388=\"\",\"\",SUBTOTAL(3,$B$9:B388))","v":""},{"$f":"IFERROR(INDEX(ورقة1!$F$2:$F$500,MATCH(ROW()-8,الطباعة!$J$8:$J$536,0)),\"\")","v":""},null,null,null,null,null,null,{"$f":"IF(AND($J$3=ورقة1!H382,الطباعة!$K$3=ورقة1!I382),1,0)","v":0},{"$f":"IF(I388=0,\"\",SUM($I$8:I388))","v":""}]
[{"$f":"IF(B389=\"\",\"\",SUBTOTAL(3,$B$9:B389))","v":""},{"$f":"IFERROR(INDEX(ورقة1!$F$2:$F$500,MATCH(ROW()-8,الطباعة!$J$8:$J$536,0)),\"\")","v":""},null,null,null,null,null,null,{"$f":"IF(AND($J$3=ورقة1!H383,الطباعة!$K$3=ورقة1!I383),1,0)","v":0},{"$f":"IF(I389=0,\"\",SUM($I$8:I389))","v":""}]
[{"$f":"IF(B390=\"\",\"\",SUBTOTAL(3,$B$9:B390))","v":""},{"$f":"IFERROR(INDEX(ورقة1!$F$2:$F$500,MATCH(ROW()-8,الطباعة!$J$8:$J$536,0)),\"\")","v":""},null,null,null,null,null,null,{"$f":"IF(AND($J$3=ورقة1!H384,الطباعة!$K$3=ورقة1!I384),1,0)","v":0},{"$f":"IF(I390=0,\"\",SUM($I$8:I390))","v":""}]
[{"$f":"IF(B391=\"\",\"\",SUBTOTAL(3,$B$9:B391))","v":""},{"$f":"IFERROR(INDEX(ورقة1!$F$2:$F$500,MATCH(ROW()-8,الطباعة!$J$8:$J$536,0)),\"\")","v":""},null,null,null,null,null,null,{"$f":"IF(AND($J$3=ورقة1!H385,الطباعة!$K$3=ورقة1!I385),1,0)","v":0},{"$f":"IF(I391=0,\"\",SUM($I$8:I391))","v":""}]
[{"$f":"IF(B392=\"\",\"\",SUBTOTAL(3,$B$9:B392))","v":""},{"$f":"IFERROR(INDEX(ورقة1!$F$2:$F$500,MATCH(ROW()-8,الطباعة!$J$8:$J$536,0)),\"\")","v":""},null,null,null,null,null,null,{"$f":"IF(AND($J$3=ورقة1!H386,الطباعة!$K$3=ورقة1!I386),1,0)","v":0},{"$f":"IF(I392=0,\"\",SUM($I$8:I392))","v":""}]
[{"$f":"IF(B393=\"\",\"\",SUBTOTAL(3,$B$9:B393))","v":""},{"$f":"IFERROR(INDEX(ورقة1!$F$2:$F$500,MATCH(ROW()-8,الطباعة!$J$8:$J$536,0)),\"\")","v":""},null,null,null,null,null,null,{"$f":"IF(AND($J$3=ورقة1!H387,الطباعة!$K$3=ورقة1!I387),1,0)","v":0},{"$f":"IF(I393=0,\"\",SUM($I$8:I393))","v":""}]
[{"$f":"IF(B394=\"\",\"\",SUBTOTAL(3,$B$9:B394))","v":""},{"$f":"IFERROR(INDEX(ورقة1!$F$2:$F$500,MATCH(ROW()-8,الطباعة!$J$8:$J$536,0)),\"\")","v":""},null,null,null,null,null,null,{"$f":"IF(AND($J$3=ورقة1!H388,الطباعة!$K$3=ورقة1!I388),1,0)","v":0},{"$f":"IF(I394=0,\"\",SUM($I$8:I394))","v":""}]
[{"$f":"IF(B395=\"\",\"\",SUBTOTAL(3,$B$9:B395))","v":""},{"$f":"IFERROR(INDEX(ورقة1!$F$2:$F$500,MATCH(ROW()-8,الطباعة!$J$8:$J$536,0)),\"\")","v":""},null,null,null,null,null,null,{"$f":"IF(AND($J$3=ورقة1!H389,الطباعة!$K$3=ورقة1!I389),1,0)","v":0},{"$f":"IF(I395=0,\"\",SUM($I$8:I395))","v":""}]
[{"$f":"IF(B396=\"\",\"\",SUBTOTAL(3,$B$9:B396))","v":""},{"$f":"IFERROR(INDEX(ورقة1!$F$2:$F$500,MATCH(ROW()-8,الطباعة!$J$8:$J$536,0)),\"\")","v":""},null,null,null,null,null,null,{"$f":"IF(AND($J$3=ورقة1!H390,الطباعة!$K$3=ورقة1!I390),1,0)","v":0},{"$f":"IF(I396=0,\"\",SUM($I$8:I396))","v":""}]
[{"$f":"IF(B397=\"\",\"\",SUBTOTAL(3,$B$9:B397))","v":""},{"$f":"IFERROR(INDEX(ورقة1!$F$2:$F$500,MATCH(ROW()-8,الطباعة!$J$8:$J$536,0)),\"\")","v":""},null,null,null,null,null,null,{"$f":"IF(AND($J$3=ورقة1!H391,الطباعة!$K$3=ورقة1!I391),1,0)","v":0},{"$f":"IF(I397=0,\"\",SUM($I$8:I397))","v":""}]
[{"$f":"IF(B398=\"\",\"\",SUBTOTAL(3,$B$9:B398))","v":""},{"$f":"IFERROR(INDEX(ورقة1!$F$2:$F$500,MATCH(ROW()-8,الطباعة!$J$8:$J$536,0)),\"\")","v":""},null,null,null,null,null,null,{"$f":"IF(AND($J$3=ورقة1!H392,الطباعة!$K$3=ورقة1!I392),1,0)","v":0},{"$f":"IF(I398=0,\"\",SUM($I$8:I398))","v":""}]
[{"$f":"IF(B399=\"\",\"\",SUBTOTAL(3,$B$9:B399))","v":""},{"$f":"IFERROR(INDEX(ورقة1!$F$2:$F$500,MATCH(ROW()-8,الطباعة!$J$8:$J$536,0)),\"\")","v":""},null,null,null,null,null,null,{"$f":"IF(AND($J$3=ورقة1!H393,الطباعة!$K$3=ورقة1!I393),1,0)","v":0},{"$f":"IF(I399=0,\"\",SUM($I$8:I399))","v":""}]
[{"$f":"IF(B400=\"\",\"\",SUBTOTAL(3,$B$9:B400))","v":""},{"$f":"IFERROR(INDEX(ورقة1!$F$2:$F$500,MATCH(ROW()-8,الطباعة!$J$8:$J$536,0)),\"\")","v":""},null,null,null,null,null,null,{"$f":"IF(AND($J$3=ورقة1!H394,الطباعة!$K$3=ورقة1!I394),1,0)","v":0},{"$f":"IF(I400=0,\"\",SUM($I$8:I400))","v":""}]
[{"$f":"IF(B401=\"\",\"\",SUBTOTAL(3,$B$9:B401))","v":""},{"$f":"IFERROR(INDEX(ورقة1!$F$2:$F$500,MATCH(ROW()-8,الطباعة!$J$8:$J$536,0)),\"\")","v":""},null,null,null,null,null,null,{"$f":"IF(AND($J$3=ورقة1!H395,الطباعة!$K$3=ورقة1!I395),1,0)","v":0},{"$f":"IF(I401=0,\"\",SUM($I$8:I401))","v":""}]
[{"$f":"IF(B402=\"\",\"\",SUBTOTAL(3,$B$9:B402))","v":""},{"$f":"IFERROR(INDEX(ورقة1!$F$2:$F$500,MATCH(ROW()-8,الطباعة!$J$8:$J$536,0)),\"\")","v":""},null,null,null,null,null,null,{"$f":"IF(AND($J$3=ورقة1!H396,الطباعة!$K$3=ورقة1!I396),1,0)","v":0},{"$f":"IF(I402=0,\"\",SUM($I$8:I402))","v":""}]
[{"$f":"IF(B403=\"\",\"\",SUBTOTAL(3,$B$9:B403))","v":""},{"$f":"IFERROR(INDEX(ورقة1!$F$2:$F$500,MATCH(ROW()-8,الطباعة!$J$8:$J$536,0)),\"\")","v":""},null,null,null,null,null,null,{"$f":"IF(AND($J$3=ورقة1!H397,الطباعة!$K$3=ورقة1!I397),1,0)","v":0},{"$f":"IF(I403=0,\"\",SUM($I$8:I403))","v":""}]
[{"$f":"IF(B404=\"\",\"\",SUBTOTAL(3,$B$9:B404))","v":""},{"$f":"IFERROR(INDEX(ورقة1!$F$2:$F$500,MATCH(ROW()-8,الطباعة!$J$8:$J$536,0)),\"\")","v":""},null,null,null,null,null,null,{"$f":"IF(AND($J$3=ورقة1!H398,الطباعة!$K$3=ورقة1!I398),1,0)","v":0},{"$f":"IF(I404=0,\"\",SUM($I$8:I404))","v":""}]
[{"$f":"IF(B405=\"\",\"\",SUBTOTAL(3,$B$9:B405))","v":""},{"$f":"IFERROR(INDEX(ورقة1!$F$2:$F$500,MATCH(ROW()-8,الطباعة!$J$8:$J$536,0)),\"\")","v":""},null,null,null,null,null,null,{"$f":"IF(AND($J$3=ورقة1!H399,الطباعة!$K$3=ورقة1!I399),1,0)","v":0},{"$f":"IF(I405=0,\"\",SUM($I$8:I405))","v":""}]
[{"$f":"IF(B406=\"\",\"\",SUBTOTAL(3,$B$9:B406))","v":""},{"$f":"IFERROR(INDEX(ورقة1!$F$2:$F$500,MATCH(ROW()-8,الطباعة!$J$8:$J$536,0)),\"\")","v":""},null,null,null,null,null,null,{"$f":"IF(AND($J$3=ورقة1!H400,الطباعة!$K$3=ورقة1!I400),1,0)","v":0},{"$f":"IF(I406=0,\"\",SUM($I$8:I406))","v":""}]
[{"$f":"IF(B407=\"\",\"\",SUBTOTAL(3,$B$9:B407))","v":""},{"$f":"IFERROR(INDEX(ورقة1!$F$2:$F$500,MATCH(ROW()-8,الطباعة!$J$8:$J$536,0)),\"\")","v":""},null,null,null,null,null,null,{"$f":"IF(AND($J$3=ورقة1!H401,الطباعة!$K$3=ورقة1!I401),1,0)","v":0},{"$f":"IF(I407=0,\"\",SUM($I$8:I407))","v":""}]
[{"$f":"IF(B408=\"\",\"\",SUBTOTAL(3,$B$9:B408))","v":""},{"$f":"IFERROR(INDEX(ورقة1!$F$2:$F$500,MATCH(ROW()-8,الطباعة!$J$8:$J$536,0)),\"\")","v":""},null,null,null,null,null,null,{"$f":"IF(AND($J$3=ورقة1!H402,الطباعة!$K$3=ورقة1!I402),1,0)","v":0},{"$f":"IF(I408=0,\"\",SUM($I$8:I408))","v":""}]
[{"$f":"IF(B409=\"\",\"\",SUBTOTAL(3,$B$9:B409))","v":""},{"$f":"IFERROR(INDEX(ورقة1!$F$2:$F$500,MATCH(ROW()-8,الطباعة!$J$8:$J$536,0)),\"\")","v":""},null,null,null,null,null,null,{"$f":"IF(AND($J$3=ورقة1!H403,الطباعة!$K$3=ورقة1!I403),1,0)","v":0},{"$f":"IF(I409=0,\"\",SUM($I$8:I409))","v":""}]
[{"$f":"IF(B410=\"\",\"\",SUBTOTAL(3,$B$9:B410))","v":""},{"$f":"IFERROR(INDEX(ورقة1!$F$2:$F$500,MATCH(ROW()-8,الطباعة!$J$8:$J$536,0)),\"\")","v":""},null,null,null,null,null,null,{"$f":"IF(AND($J$3=ورقة1!H404,الطباعة!$K$3=ورقة1!I404),1,0)","v":0},{"$f":"IF(I410=0,\"\",SUM($I$8:I410))","v":""}]
[{"$f":"IF(B411=\"\",\"\",SUBTOTAL(3,$B$9:B411))","v":""},{"$f":"IFERROR(INDEX(ورقة1!$F$2:$F$500,MATCH(ROW()-8,الطباعة!$J$8:$J$536,0)),\"\")","v":""},null,null,null,null,null,null,{"$f":"IF(AND($J$3=ورقة1!H405,الطباعة!$K$3=ورقة1!I405),1,0)","v":0},{"$f":"IF(I411=0,\"\",SUM($I$8:I411))","v":""}]
[{"$f":"IF(B412=\"\",\"\",SUBTOTAL(3,$B$9:B412))","v":""},{"$f":"IFERROR(INDEX(ورقة1!$F$2:$F$500,MATCH(ROW()-8,الطباعة!$J$8:$J$536,0)),\"\")","v":""},null,null,null,null,null,null,{"$f":"IF(AND($J$3=ورقة1!H406,الطباعة!$K$3=ورقة1!I406),1,0)","v":0},{"$f":"IF(I412=0,\"\",SUM($I$8:I412))","v":""}]
[{"$f":"IF(B413=\"\",\"\",SUBTOTAL(3,$B$9:B413))","v":""},{"$f":"IFERROR(INDEX(ورقة1!$F$2:$F$500,MATCH(ROW()-8,الطباعة!$J$8:$J$536,0)),\"\")","v":""},null,null,null,null,null,null,{"$f":"IF(AND($J$3=ورقة1!H407,الطباعة!$K$3=ورقة1!I407),1,0)","v":0},{"$f":"IF(I413=0,\"\",SUM($I$8:I413))","v":""}]
[{"$f":"IF(B414=\"\",\"\",SUBTOTAL(3,$B$9:B414))","v":""},{"$f":"IFERROR(INDEX(ورقة1!$F$2:$F$500,MATCH(ROW()-8,الطباعة!$J$8:$J$536,0)),\"\")","v":""},null,null,null,null,null,null,{"$f":"IF(AND($J$3=ورقة1!H408,الطباعة!$K$3=ورقة1!I408),1,0)","v":0},{"$f":"IF(I414=0,\"\",SUM($I$8:I414))","v":""}]
[{"$f":"IF(B415=\"\",\"\",SUBTOTAL(3,$B$9:B415))","v":""},{"$f":"IFERROR(INDEX(ورقة1!$F$2:$F$500,MATCH(ROW()-8,الطباعة!$J$8:$J$536,0)),\"\")","v":""},null,null,null,null,null,null,{"$f":"IF(AND($J$3=ورقة1!H409,الطباعة!$K$3=ورقة1!I409),1,0)","v":0},{"$f":"IF(I415=0,\"\",SUM($I$8:I415))","v":""}]
[{"$f":"IF(B416=\"\",\"\",SUBTOTAL(3,$B$9:B416))","v":""},{"$f":"IFERROR(INDEX(ورقة1!$F$2:$F$500,MATCH(ROW()-8,الطباعة!$J$8:$J$536,0)),\"\")","v":""},null,null,null,null,null,null,{"$f":"IF(AND($J$3=ورقة1!H410,الطباعة!$K$3=ورقة1!I410),1,0)","v":0},{"$f":"IF(I416=0,\"\",SUM($I$8:I416))","v":""}]
[{"$f":"IF(B417=\"\",\"\",SUBTOTAL(3,$B$9:B417))","v":""},{"$f":"IFERROR(INDEX(ورقة1!$F$2:$F$500,MATCH(ROW()-8,الطباعة!$J$8:$J$536,0)),\"\")","v":""},null,null,null,null,null,null,{"$f":"IF(AND($J$3=ورقة1!H411,الطباعة!$K$3=ورقة1!I411),1,0)","v":0},{"$f":"IF(I417=0,\"\",SUM($I$8:I417))","v":""}]
[{"$f":"IF(B418=\"\",\"\",SUBTOTAL(3,$B$9:B418))","v":""},{"$f":"IFERROR(INDEX(ورقة1!$F$2:$F$500,MATCH(ROW()-8,الطباعة!$J$8:$J$536,0)),\"\")","v":""},null,null,null,null,null,null,{"$f":"IF(AND($J$3=ورقة1!H412,الطباعة!$K$3=ورقة1!I412),1,0)","v":0},{"$f":"IF(I418=0,\"\",SUM($I$8:I418))","v":""}]
[{"$f":"IF(B419=\"\",\"\",SUBTOTAL(3,$B$9:B419))","v":""},{"$f":"IFERROR(INDEX(ورقة1!$F$2:$F$500,MATCH(ROW()-8,الطباعة!$J$8:$J$536,0)),\"\")","v":""},null,null,null,null,null,null,{"$f":"IF(AND($J$3=ورقة1!H413,الطباعة!$K$3=ورقة1!I413),1,0)","v":0},{"$f":"IF(I419=0,\"\",SUM($I$8:I419))","v":""}]
[{"$f":"IF(B420=\"\",\"\",SUBTOTAL(3,$B$9:B420))","v":""},{"$f":"IFERROR(INDEX(ورقة1!$F$2:$F$500,MATCH(ROW()-8,الطباعة!$J$8:$J$536,0)),\"\")","v":""},null,null,null,null,null,null,{"$f":"IF(AND($J$3=ورقة1!H414,الطباعة!$K$3=ورقة1!I414),1,0)","v":0},{"$f":"IF(I420=0,\"\",SUM($I$8:I420))","v":""}]
[{"$f":"IF(B421=\"\",\"\",SUBTOTAL(3,$B$9:B421))","v":""},{"$f":"IFERROR(INDEX(ورقة1!$F$2:$F$500,MATCH(ROW()-8,الطباعة!$J$8:$J$536,0)),\"\")","v":""},null,null,null,null,null,null,{"$f":"IF(AND($J$3=ورقة1!H415,الطباعة!$K$3=ورقة1!I415),1,0)","v":0},{"$f":"IF(I421=0,\"\",SUM($I$8:I421))","v":""}]
[{"$f":"IF(B422=\"\",\"\",SUBTOTAL(3,$B$9:B422))","v":""},{"$f":"IFERROR(INDEX(ورقة1!$F$2:$F$500,MATCH(ROW()-8,الطباعة!$J$8:$J$536,0)),\"\")","v":""},null,null,null,null,null,null,{"$f":"IF(AND($J$3=ورقة1!H416,الطباعة!$K$3=ورقة1!I416),1,0)","v":0},{"$f":"IF(I422=0,\"\",SUM($I$8:I422))","v":""}]
[{"$f":"IF(B423=\"\",\"\",SUBTOTAL(3,$B$9:B423))","v":""},{"$f":"IFERROR(INDEX(ورقة1!$F$2:$F$500,MATCH(ROW()-8,الطباعة!$J$8:$J$536,0)),\"\")","v":""},null,null,null,null,null,null,{"$f":"IF(AND($J$3=ورقة1!H417,الطباعة!$K$3=ورقة1!I417),1,0)","v":0},{"$f":"IF(I423=0,\"\",SUM($I$8:I423))","v":""}]
[{"$f":"IF(B424=\"\",\"\",SUBTOTAL(3,$B$9:B424))","v":""},{"$f":"IFERROR(INDEX(ورقة1!$F$2:$F$500,MATCH(ROW()-8,الطباعة!$J$8:$J$536,0)),\"\")","v":""},null,null,null,null,null,null,{"$f":"IF(AND($J$3=ورقة1!H418,الطباعة!$K$3=ورقة1!I418),1,0)","v":0},{"$f":"IF(I424=0,\"\",SUM($I$8:I424))","v":""}]
[{"$f":"IF(B425=\"\",\"\",SUBTOTAL(3,$B$9:B425))","v":""},{"$f":"IFERROR(INDEX(ورقة1!$F$2:$F$500,MATCH(ROW()-8,الطباعة!$J$8:$J$536,0)),\"\")","v":""},null,null,null,null,null,null,{"$f":"IF(AND($J$3=ورقة1!H419,الطباعة!$K$3=ورقة1!I419),1,0)","v":0},{"$f":"IF(I425=0,\"\",SUM($I$8:I425))","v":""}]
[{"$f":"IF(B426=\"\",\"\",SUBTOTAL(3,$B$9:B426))","v":""},{"$f":"IFERROR(INDEX(ورقة1!$F$2:$F$500,MATCH(ROW()-8,الطباعة!$J$8:$J$536,0)),\"\")","v":""},null,null,null,null,null,null,{"$f":"IF(AND($J$3=ورقة1!H420,الطباعة!$K$3=ورقة1!I420),1,0)","v":0},{"$f":"IF(I426=0,\"\",SUM($I$8:I426))","v":""}]
[{"$f":"IF(B427=\"\",\"\",SUBTOTAL(3,$B$9:B427))","v":""},{"$f":"IFERROR(INDEX(ورقة1!$F$2:$F$500,MATCH(ROW()-8,الطباعة!$J$8:$J$536,0)),\"\")","v":""},null,null,null,null,null,null,{"$f":"IF(AND($J$3=ورقة1!H421,الطباعة!$K$3=ورقة1!I421),1,0)","v":0},{"$f":"IF(I427=0,\"\",SUM($I$8:I427))","v":""}]
[{"$f":"IF(B428=\"\",\"\",SUBTOTAL(3,$B$9:B428))","v":""},{"$f":"IFERROR(INDEX(ورقة1!$F$2:$F$500,MATCH(ROW()-8,الطباعة!$J$8:$J$536,0)),\"\")","v":""},null,null,null,null,null,null,{"$f":"IF(AND($J$3=ورقة1!H422,الطباعة!$K$3=ورقة1!I422),1,0)","v":0},{"$f":"IF(I428=0,\"\",SUM($I$8:I428))","v":""}]
[{"$f":"IF(B429=\"\",\"\",SUBTOTAL(3,$B$9:B429))","v":""},{"$f":"IFERROR(INDEX(ورقة1!$F$2:$F$500,MATCH(ROW()-8,الطباعة!$J$8:$J$536,0)),\"\")","v":""},null,null,null,null,null,null,{"$f":"IF(AND($J$3=ورقة1!H423,الطباعة!$K$3=ورقة1!I423),1,0)","v":0},{"$f":"IF(I429=0,\"\",SUM($I$8:I429))","v":""}]
[{"$f":"IF(B430=\"\",\"\",SUBTOTAL(3,$B$9:B430))","v":""},{"$f":"IFERROR(INDEX(ورقة1!$F$2:$F$500,MATCH(ROW()-8,الطباعة!$J$8:$J$536,0)),\"\")","v":""},null,null,null,null,null,null,{"$f":"IF(AND($J$3=ورقة1!H424,الطباعة!$K$3=ورقة1!I424),1,0)","v":0},{"$f":"IF(I430=0,\"\",SUM($I$8:I430))","v":""}]
[{"$f":"IF(B431=\"\",\"\",SUBTOTAL(3,$B$9:B431))","v":""},{"$f":"IFERROR(INDEX(ورقة1!$F$2:$F$500,MATCH(ROW()-8,الطباعة!$J$8:$J$536,0)),\"\")","v":""},null,null,null,null,null,null,{"$f":"IF(AND($J$3=ورقة1!H425,الطباعة!$K$3=ورقة1!I425),1,0)","v":0},{"$f":"IF(I431=0,\"\",SUM($I$8:I431))","v":""}]
[{"$f":"IF(B432=\"\",\"\",SUBTOTAL(3,$B$9:B432))","v":""},{"$f":"IFERROR(INDEX(ورقة1!$F$2:$F$500,MATCH(ROW()-8,الطباعة!$J$8:$J$536,0)),\"\")","v":""},null,null,null,null,null,null,{"$f":"IF(AND($J$3=ورقة1!H426,الطباعة!$K$3=ورقة1!I426),1,0)","v":0},{"$f":"IF(I432=0,\"\",SUM($I$8:I432))","v":""}]
[{"$f":"IF(B433=\"\",\"\",SUBTOTAL(3,$B$9:B433))","v":""},{"$f":"IFERROR(INDEX(ورقة1!$F$2:$F$500,MATCH(ROW()-8,الطباعة!$J$8:$J$536,0)),\"\")","v":""},null,null,null,null,null,null,{"$f":"IF(AND($J$3=ورقة1!H427,الطباعة!$K$3=ورقة1!I427),1,0)","v":0},{"$f":"IF(I433=0,\"\",SUM($I$8:I433))","v":""}]
[{"$f":"IF(B434=\"\",\"\",SUBTOTAL(3,$B$9:B434))","v":""},{"$f":"IFERROR(INDEX(ورقة1!$F$2:$F$500,MATCH(ROW()-8,الطباعة!$J$8:$J$536,0)),\"\")","v":""},null,null,null,null,null,null,{"$f":"IF(AND($J$3=ورقة1!H428,الطباعة!$K$3=ورقة1!I428),1,0)","v":0},{"$f":"IF(I434=0,\"\",SUM($I$8:I434))","v":""}]
[{"$f":"IF(B435=\"\",\"\",SUBTOTAL(3,$B$9:B435))","v":""},{"$f":"IFERROR(INDEX(ورقة1!$F$2:$F$500,MATCH(ROW()-8,الطباعة!$J$8:$J$536,0)),\"\")","v":""},null,null,null,null,null,null,{"$f":"IF(AND($J$3=ورقة1!H429,الطباعة!$K$3=ورقة1!I429),1,0)","v":0},{"$f":"IF(I435=0,\"\",SUM($I$8:I435))","v":""}]
[{"$f":"IF(B436=\"\",\"\",SUBTOTAL(3,$B$9:B436))","v":""},{"$f":"IFERROR(INDEX(ورقة1!$F$2:$F$500,MATCH(ROW()-8,الطباعة!$J$8:$J$536,0)),\"\")","v":""},null,null,null,null,null,null,{"$f":"IF(AND($J$3=ورقة1!H430,الطباعة!$K$3=ورقة1!I430),1,0)","v":0},{"$f":"IF(I436=0,\"\",SUM($I$8:I436))","v":""}]
[{"$f":"IF(B437=\"\",\"\",SUBTOTAL(3,$B$9:B437))","v":""},{"$f":"IFERROR(INDEX(ورقة1!$F$2:$F$500,MATCH(ROW()-8,الطباعة!$J$8:$J$536,0)),\"\")","v":""},null,null,null,null,null,null,{"$f":"IF(AND($J$3=ورقة1!H431,الطباعة!$K$3=ورقة1!I431),1,0)","v":0},{"$f":"IF(I437=0,\"\",SUM($I$8:I437))","v":""}]
[{"$f":"IF(B438=\"\",\"\",SUBTOTAL(3,$B$9:B438))","v":""},{"$f":"IFERROR(INDEX(ورقة1!$F$2:$F$500,MATCH(ROW()-8,الطباعة!$J$8:$J$536,0)),\"\")","v":""},null,null,null,null,null,null,{"$f":"IF(AND($J$3=ورقة1!H432,الطباعة!$K$3=ورقة1!I432),1,0)","v":0},{"$f":"IF(I438=0,\"\",SUM($I$8:I438))","v":""}]
[{"$f":"IF(B439=\"\",\"\",SUBTOTAL(3,$B$9:B439))","v":""},{"$f":"IFERROR(INDEX(ورقة1!$F$2:$F$500,MATCH(ROW()-8,الطباعة!$J$8:$J$536,0)),\"\")","v":""},null,null,null,null,null,null,{"$f":"IF(AND($J$3=ورقة1!H433,الطباعة!$K$3=ورقة1!I433),1,0)","v":0},{"$f":"IF(I439=0,\"\",SUM($I$8:I439))","v":""}]
[{"$f":"IF(B440=\"\",\"\",SUBTOTAL(3,$B$9:B440))","v":""},{"$f":"IFERROR(INDEX(ورقة1!$F$2:$F$500,MATCH(ROW()-8,الطباعة!$J$8:$J$536,0)),\"\")","v":""},null,null,null,null,null,null,{"$f":"IF(AND($J$3=ورقة1!H434,الطباعة!$K$3=ورقة1!I434),1,0)","v":0},{"$f":"IF(I440=0,\"\",SUM($I$8:I440))","v":""}]
[{"$f":"IF(B441=\"\",\"\",SUBTOTAL(3,$B$9:B441))","v":""},{"$f":"IFERROR(INDEX(ورقة1!$F$2:$F$500,MATCH(ROW()-8,الطباعة!$J$8:$J$536,0)),\"\")","v":""},null,null,null,null,null,null,{"$f":"IF(AND($J$3=ورقة1!H435,الطباعة!$K$3=ورقة1!I435),1,0)","v":0},{"$f":"IF(I441=0,\"\",SUM($I$8:I441))","v":""}]
[{"$f":"IF(B442=\"\",\"\",SUBTOTAL(3,$B$9:B442))","v":""},{"$f":"IFERROR(INDEX(ورقة1!$F$2:$F$500,MATCH(ROW()-8,الطباعة!$J$8:$J$536,0)),\"\")","v":""},null,null,null,null,null,null,{"$f":"IF(AND($J$3=ورقة1!H436,الطباعة!$K$3=ورقة1!I436),1,0)","v":0},{"$f":"IF(I442=0,\"\",SUM($I$8:I442))","v":""}]
[{"$f":"IF(B443=\"\",\"\",SUBTOTAL(3,$B$9:B443))","v":""},{"$f":"IFERROR(INDEX(ورقة1!$F$2:$F$500,MATCH(ROW()-8,الطباعة!$J$8:$J$536,0)),\"\")","v":""},null,null,null,null,null,null,{"$f":"IF(AND($J$3=ورقة1!H437,الطباعة!$K$3=ورقة1!I437),1,0)","v":0},{"$f":"IF(I443=0,\"\",SUM($I$8:I443))","v":""}]
[{"$f":"IF(B444=\"\",\"\",SUBTOTAL(3,$B$9:B444))","v":""},{"$f":"IFERROR(INDEX(ورقة1!$F$2:$F$500,MATCH(ROW()-8,الطباعة!$J$8:$J$536,0)),\"\")","v":""},null,null,null,null,null,null,{"$f":"IF(AND($J$3=ورقة1!H438,الطباعة!$K$3=ورقة1!I438),1,0)","v":0},{"$f":"IF(I444=0,\"\",SUM($I$8:I444))","v":""}]
[{"$f":"IF(B445=\"\",\"\",SUBTOTAL(3,$B$9:B445))","v":""},{"$f":"IFERROR(INDEX(ورقة1!$F$2:$F$500,MATCH(ROW()-8,الطباعة!$J$8:$J$536,0)),\"\")","v":""},null,null,null,null,null,null,{"$f":"IF(AND($J$3=ورقة1!H439,الطباعة!$K$3=ورقة1!I439),1,0)","v":0},{"$f":"IF(I445=0,\"\",SUM($I$8:I445))","v":""}]
[{"$f":"IF(B446=\"\",\"\",SUBTOTAL(3,$B$9:B446))","v":""},{"$f":"IFERROR(INDEX(ورقة1!$F$2:$F$500,MATCH(ROW()-8,الطباعة!$J$8:$J$536,0)),\"\")","v":""},null,null,null,null,null,null,{"$f":"IF(AND($J$3=ورقة1!H440,الطباعة!$K$3=ورقة1!I440),1,0)","v":0},{"$f":"IF(I446=0,\"\",SUM($I$8:I446))","v":""}]
[{"$f":"IF(B447=\"\",\"\",SUBTOTAL(3,$B$9:B447))","v":""},{"$f":"IFERROR(INDEX(ورقة1!$F$2:$F$500,MATCH(ROW()-8,الطباعة!$J$8:$J$536,0)),\"\")","v":""},null,null,null,null,null,null,{"$f":"IF(AND($J$3=ورقة1!H441,الطباعة!$K$3=ورقة1!I441),1,0)","v":0},{"$f":"IF(I447=0,\"\",SUM($I$8:I447))","v":""}]
[{"$f":"IF(B448=\"\",\"\",SUBTOTAL(3,$B$9:B448))","v":""},{"$f":"IFERROR(INDEX(ورقة1!$F$2:$F$500,MATCH(ROW()-8,الطباعة!$J$8:$J$536,0)),\"\")","v":""},null,null,null,null,null,null,{"$f":"IF(AND($J$3=ورقة1!H442,الطباعة!$K$3=ورقة1!I442),1,0)","v":0},{"$f":"IF(I448=0,\"\",SUM($I$8:I448))","v":""}]
[{"$f":"IF(B449=\"\",\"\",SUBTOTAL(3,$B$9:B449))","v":""},{"$f":"IFERROR(INDEX(ورقة1!$F$2:$F$500,MATCH(ROW()-8,الطباعة!$J$8:$J$536,0)),\"\")","v":""},null,null,null,null,null,null,{"$f":"IF(AND($J$3=ورقة1!H443,الطباعة!$K$3=ورقة1!I443),1,0)","v":0},{"$f":"IF(I449=0,\"\",SUM($I$8:I449))","v":""}]
[{"$f":"IF(B450=\"\",\"\",SUBTOTAL(3,$B$9:B450))","v":""},{"$f":"IFERROR(INDEX(ورقة1!$F$2:$F$500,MATCH(ROW()-8,الطباعة!$J$8:$J$536,0)),\"\")","v":""},null,null,null,null,null,null,{"$f":"IF(AND($J$3=ورقة1!H444,الطباعة!$K$3=ورقة1!I444),1,0)","v":0},{"$f":"IF(I450=0,\"\",SUM($I$8:I450))","v":""}]
[{"$f":"IF(B451=\"\",\"\",SUBTOTAL(3,$B$9:B451))","v":""},{"$f":"IFERROR(INDEX(ورقة1!$F$2:$F$500,MATCH(ROW()-8,الطباعة!$J$8:$J$536,0)),\"\")","v":""},null,null,null,null,null,null,{"$f":"IF(AND($J$3=ورقة1!H445,الطباعة!$K$3=ورقة1!I445),1,0)","v":0},{"$f":"IF(I451=0,\"\",SUM($I$8:I451))","v":""}]
[{"$f":"IF(B452=\"\",\"\",SUBTOTAL(3,$B$9:B452))","v":""},{"$f":"IFERROR(INDEX(ورقة1!$F$2:$F$500,MATCH(ROW()-8,الطباعة!$J$8:$J$536,0)),\"\")","v":""},null,null,null,null,null,null,{"$f":"IF(AND($J$3=ورقة1!H446,الطباعة!$K$3=ورقة1!I446),1,0)","v":0},{"$f":"IF(I452=0,\"\",SUM($I$8:I452))","v":""}]
[{"$f":"IF(B453=\"\",\"\",SUBTOTAL(3,$B$9:B453))","v":""},{"$f":"IFERROR(INDEX(ورقة1!$F$2:$F$500,MATCH(ROW()-8,الطباعة!$J$8:$J$536,0)),\"\")","v":""},null,null,null,null,null,null,{"$f":"IF(AND($J$3=ورقة1!H447,الطباعة!$K$3=ورقة1!I447),1,0)","v":0},{"$f":"IF(I453=0,\"\",SUM($I$8:I453))","v":""}]
[{"$f":"IF(B454=\"\",\"\",SUBTOTAL(3,$B$9:B454))","v":""},{"$f":"IFERROR(INDEX(ورقة1!$F$2:$F$500,MATCH(ROW()-8,الطباعة!$J$8:$J$536,0)),\"\")","v":""},null,null,null,null,null,null,{"$f":"IF(AND($J$3=ورقة1!H448,الطباعة!$K$3=ورقة1!I448),1,0)","v":0},{"$f":"IF(I454=0,\"\",SUM($I$8:I454))","v":""}]
[{"$f":"IF(B455=\"\",\"\",SUBTOTAL(3,$B$9:B455))","v":""},{"$f":"IFERROR(INDEX(ورقة1!$F$2:$F$500,MATCH(ROW()-8,الطباعة!$J$8:$J$536,0)),\"\")","v":""},null,null,null,null,null,null,{"$f":"IF(AND($J$3=ورقة1!H449,الطباعة!$K$3=ورقة1!I449),1,0)","v":0},{"$f":"IF(I455=0,\"\",SUM($I$8:I455))","v":""}]
[{"$f":"IF(B456=\"\",\"\",SUBTOTAL(3,$B$9:B456))","v":""},{"$f":"IFERROR(INDEX(ورقة1!$F$2:$F$500,MATCH(ROW()-8,الطباعة!$J$8:$J$536,0)),\"\")","v":""},null,null,null,null,null,null,{"$f":"IF(AND($J$3=ورقة1!H450,الطباعة!$K$3=ورقة1!I450),1,0)","v":0},{"$f":"IF(I456=0,\"\",SUM($I$8:I456))","v":""}]
[{"$f":"IF(B457=\"\",\"\",SUBTOTAL(3,$B$9:B457))","v":""},{"$f":"IFERROR(INDEX(ورقة1!$F$2:$F$500,MATCH(ROW()-8,الطباعة!$J$8:$J$536,0)),\"\")","v":""},null,null,null,null,null,null,{"$f":"IF(AND($J$3=ورقة1!H451,الطباعة!$K$3=ورقة1!I451),1,0)","v":0},{"$f":"IF(I457=0,\"\",SUM($I$8:I457))","v":""}]
[{"$f":"IF(B458=\"\",\"\",SUBTOTAL(3,$B$9:B458))","v":""},{"$f":"IFERROR(INDEX(ورقة1!$F$2:$F$500,MATCH(ROW()-8,الطباعة!$J$8:$J$536,0)),\"\")","v":""},null,null,null,null,null,null,{"$f":"IF(AND($J$3=ورقة1!H452,الطباعة!$K$3=ورقة1!I452),1,0)","v":0},{"$f":"IF(I458=0,\"\",SUM($I$8:I458))","v":""}]
[{"$f":"IF(B459=\"\",\"\",SUBTOTAL(3,$B$9:B459))","v":""},{"$f":"IFERROR(INDEX(ورقة1!$F$2:$F$500,MATCH(ROW()-8,الطباعة!$J$8:$J$536,0)),\"\")","v":""},null,null,null,null,null,null,{"$f":"IF(AND($J$3=ورقة1!H453,الطباعة!$K$3=ورقة1!I453),1,0)","v":0},{"$f":"IF(I459=0,\"\",SUM($I$8:I459))","v":""}]
[{"$f":"IF(B460=\"\",\"\",SUBTOTAL(3,$B$9:B460))","v":""},{"$f":"IFERROR(INDEX(ورقة1!$F$2:$F$500,MATCH(ROW()-8,الطباعة!$J$8:$J$536,0)),\"\")","v":""},null,null,null,null,null,null,{"$f":"IF(AND($J$3=ورقة1!H454,الطباعة!$K$3=ورقة1!I454),1,0)","v":0},{"$f":"IF(I460=0,\"\",SUM($I$8:I460))","v":""}]
[{"$f":"IF(B461=\"\",\"\",SUBTOTAL(3,$B$9:B461))","v":""},{"$f":"IFERROR(INDEX(ورقة1!$F$2:$F$500,MATCH(ROW()-8,الطباعة!$J$8:$J$536,0)),\"\")","v":""},null,null,null,null,null,null,{"$f":"IF(AND($J$3=ورقة1!H455,الطباعة!$K$3=ورقة1!I455),1,0)","v":0},{"$f":"IF(I461=0,\"\",SUM($I$8:I461))","v":""}]
[{"$f":"IF(B462=\"\",\"\",SUBTOTAL(3,$B$9:B462))","v":""},{"$f":"IFERROR(INDEX(ورقة1!$F$2:$F$500,MATCH(ROW()-8,الطباعة!$J$8:$J$536,0)),\"\")","v":""},null,null,null,null,null,null,{"$f":"IF(AND($J$3=ورقة1!H456,الطباعة!$K$3=ورقة1!I456),1,0)","v":0},{"$f":"IF(I462=0,\"\",SUM($I$8:I462))","v":""}]
[{"$f":"IF(B463=\"\",\"\",SUBTOTAL(3,$B$9:B463))","v":""},{"$f":"IFERROR(INDEX(ورقة1!$F$2:$F$500,MATCH(ROW()-8,الطباعة!$J$8:$J$536,0)),\"\")","v":""},null,null,null,null,null,null,{"$f":"IF(AND($J$3=ورقة1!H457,الطباعة!$K$3=ورقة1!I457),1,0)","v":0},{"$f":"IF(I463=0,\"\",SUM($I$8:I463))","v":""}]
[{"$f":"IF(B464=\"\",\"\",SUBTOTAL(3,$B$9:B464))","v":""},{"$f":"IFERROR(INDEX(ورقة1!$F$2:$F$500,MATCH(ROW()-8,الطباعة!$J$8:$J$536,0)),\"\")","v":""},null,null,null,null,null,null,{"$f":"IF(AND($J$3=ورقة1!H458,الطباعة!$K$3=ورقة1!I458),1,0)","v":0},{"$f":"IF(I464=0,\"\",SUM($I$8:I464))","v":""}]
[{"$f":"IF(B465=\"\",\"\",SUBTOTAL(3,$B$9:B465))","v":""},{"$f":"IFERROR(INDEX(ورقة1!$F$2:$F$500,MATCH(ROW()-8,الطباعة!$J$8:$J$536,0)),\"\")","v":""},null,null,null,null,null,null,{"$f":"IF(AND($J$3=ورقة1!H459,الطباعة!$K$3=ورقة1!I459),1,0)","v":0},{"$f":"IF(I465=0,\"\",SUM($I$8:I465))","v":""}]
[{"$f":"IF(B466=\"\",\"\",SUBTOTAL(3,$B$9:B466))","v":""},{"$f":"IFERROR(INDEX(ورقة1!$F$2:$F$500,MATCH(ROW()-8,الطباعة!$J$8:$J$536,0)),\"\")","v":""},null,null,null,null,null,null,{"$f":"IF(AND($J$3=ورقة1!H460,الطباعة!$K$3=ورقة1!I460),1,0)","v":0},{"$f":"IF(I466=0,\"\",SUM($I$8:I466))","v":""}]
[{"$f":"IF(B467=\"\",\"\",SUBTOTAL(3,$B$9:B467))","v":""},{"$f":"IFERROR(INDEX(ورقة1!$F$2:$F$500,MATCH(ROW()-8,الطباعة!$J$8:$J$536,0)),\"\")","v":""},null,null,null,null,null,null,{"$f":"IF(AND($J$3=ورقة1!H461,الطباعة!$K$3=ورقة1!I461),1,0)","v":0},{"$f":"IF(I467=0,\"\",SUM($I$8:I467))","v":""}]
[{"$f":"IF(B468=\"\",\"\",SUBTOTAL(3,$B$9:B468))","v":""},{"$f":"IFERROR(INDEX(ورقة1!$F$2:$F$500,MATCH(ROW()-8,الطباعة!$J$8:$J$536,0)),\"\")","v":""},null,null,null,null,null,null,{"$f":"IF(AND($J$3=ورقة1!H462,الطباعة!$K$3=ورقة1!I462),1,0)","v":0},{"$f":"IF(I468=0,\"\",SUM($I$8:I468))","v":""}]
[{"$f":"IF(B469=\"\",\"\",SUBTOTAL(3,$B$9:B469))","v":""},{"$f":"IFERROR(INDEX(ورقة1!$F$2:$F$500,MATCH(ROW()-8,الطباعة!$J$8:$J$536,0)),\"\")","v":""},null,null,null,null,null,null,{"$f":"IF(AND($J$3=ورقة1!H463,الطباعة!$K$3=ورقة1!I463),1,0)","v":0},{"$f":"IF(I469=0,\"\",SUM($I$8:I469))","v":""}]
[{"$f":"IF(B470=\"\",\"\",SUBTOTAL(3,$B$9:B470))","v":""},{"$f":"IFERROR(INDEX(ورقة1!$F$2:$F$500,MATCH(ROW()-8,الطباعة!$J$8:$J$536,0)),\"\")","v":""},null,null,null,null,null,null,{"$f":"IF(AND($J$3=ورقة1!H464,الطباعة!$K$3=ورقة1!I464),1,0)","v":0},{"$f":"IF(I470=0,\"\",SUM($I$8:I470))","v":""}]
[{"$f":"IF(B471=\"\",\"\",SUBTOTAL(3,$B$9:B471))","v":""},{"$f":"IFERROR(INDEX(ورقة1!$F$2:$F$500,MATCH(ROW()-8,الطباعة!$J$8:$J$536,0)),\"\")","v":""},null,null,null,null,null,null,{"$f":"IF(AND($J$3=ورقة1!H465,الطباعة!$K$3=ورقة1!I465),1,0)","v":0},{"$f":"IF(I471=0,\"\",SUM($I$8:I471))","v":""}]
[{"$f":"IF(B472=\"\",\"\",SUBTOTAL(3,$B$9:B472))","v":""},{"$f":"IFERROR(INDEX(ورقة1!$F$2:$F$500,MATCH(ROW()-8,الطباعة!$J$8:$J$536,0)),\"\")","v":""},null,null,null,null,null,null,{"$f":"IF(AND($J$3=ورقة1!H466,الطباعة!$K$3=ورقة1!I466),1,0)","v":0},{"$f":"IF(I472=0,\"\",SUM($I$8:I472))","v":""}]
[{"$f":"IF(B473=\"\",\"\",SUBTOTAL(3,$B$9:B473))","v":""},{"$f":"IFERROR(INDEX(ورقة1!$F$2:$F$500,MATCH(ROW()-8,الطباعة!$J$8:$J$536,0)),\"\")","v":""},null,null,null,null,null,null,{"$f":"IF(AND($J$3=ورقة1!H467,الطباعة!$K$3=ورقة1!I467),1,0)","v":0},{"$f":"IF(I473=0,\"\",SUM($I$8:I473))","v":""}]
[{"$f":"IF(B474=\"\",\"\",SUBTOTAL(3,$B$9:B474))","v":""},{"$f":"IFERROR(INDEX(ورقة1!$F$2:$F$500,MATCH(ROW()-8,الطباعة!$J$8:$J$536,0)),\"\")","v":""},null,null,null,null,null,null,{"$f":"IF(AND($J$3=ورقة1!H468,الطباعة!$K$3=ورقة1!I468),1,0)","v":0},{"$f":"IF(I474=0,\"\",SUM($I$8:I474))","v":""}]
[{"$f":"IF(B475=\"\",\"\",SUBTOTAL(3,$B$9:B475))","v":""},{"$f":"IFERROR(INDEX(ورقة1!$F$2:$F$500,MATCH(ROW()-8,الطباعة!$J$8:$J$536,0)),\"\")","v":""},null,null,null,null,null,null,{"$f":"IF(AND($J$3=ورقة1!H469,الطباعة!$K$3=ورقة1!I469),1,0)","v":0},{"$f":"IF(I475=0,\"\",SUM($I$8:I475))","v":""}]
[{"$f":"IF(B476=\"\",\"\",SUBTOTAL(3,$B$9:B476))","v":""},{"$f":"IFERROR(INDEX(ورقة1!$F$2:$F$500,MATCH(ROW()-8,الطباعة!$J$8:$J$536,0)),\"\")","v":""},null,null,null,null,null,null,{"$f":"IF(AND($J$3=ورقة1!H470,الطباعة!$K$3=ورقة1!I470),1,0)","v":0},{"$f":"IF(I476=0,\"\",SUM($I$8:I476))","v":""}]
[{"$f":"IF(B477=\"\",\"\",SUBTOTAL(3,$B$9:B477))","v":""},{"$f":"IFERROR(INDEX(ورقة1!$F$2:$F$500,MATCH(ROW()-8,الطباعة!$J$8:$J$536,0)),\"\")","v":""},null,null,null,null,null,null,{"$f":"IF(AND($J$3=ورقة1!H471,الطباعة!$K$3=ورقة1!I471),1,0)","v":0},{"$f":"IF(I477=0,\"\",SUM($I$8:I477))","v":""}]
[{"$f":"IF(B478=\"\",\"\",SUBTOTAL(3,$B$9:B478))","v":""},{"$f":"IFERROR(INDEX(ورقة1!$F$2:$F$500,MATCH(ROW()-8,الطباعة!$J$8:$J$536,0)),\"\")","v":""},null,null,null,null,null,null,{"$f":"IF(AND($J$3=ورقة1!H472,الطباعة!$K$3=ورقة1!I472),1,0)","v":0},{"$f":"IF(I478=0,\"\",SUM($I$8:I478))","v":""}]
[{"$f":"IF(B479=\"\",\"\",SUBTOTAL(3,$B$9:B479))","v":""},{"$f":"IFERROR(INDEX(ورقة1!$F$2:$F$500,MATCH(ROW()-8,الطباعة!$J$8:$J$536,0)),\"\")","v":""},null,null,null,null,null,null,{"$f":"IF(AND($J$3=ورقة1!H473,الطباعة!$K$3=ورقة1!I473),1,0)","v":0},{"$f":"IF(I479=0,\"\",SUM($I$8:I479))","v":""}]
[{"$f":"IF(B480=\"\",\"\",SUBTOTAL(3,$B$9:B480))","v":""},{"$f":"IFERROR(INDEX(ورقة1!$F$2:$F$500,MATCH(ROW()-8,الطباعة!$J$8:$J$536,0)),\"\")","v":""},null,null,null,null,null,null,{"$f":"IF(AND($J$3=ورقة1!H474,الطباعة!$K$3=ورقة1!I474),1,0)","v":0},{"$f":"IF(I480=0,\"\",SUM($I$8:I480))","v":""}]
[null,null,null,null,null,null,null,null,{"$f":"IF(AND($J$3=ورقة1!H475,الطباعة!$K$3=ورقة1!I475),1,0)","v":0},{"$f":"IF(I481=0,\"\",SUM($I$8:I481))","v":""}]
[null,null,null,null,null,null,null,null,{"$f":"IF(AND($J$3=ورقة1!H476,الطباعة!$K$3=ورقة1!I476),1,0)","v":0},{"$f":"IF(I482=0,\"\",SUM($I$8:I482))","v":""}]
[null,null,null,null,null,null,null,null,{"$f":"IF(AND($J$3=ورقة1!H477,الطباعة!$K$3=ورقة1!I477),1,0)","v":0},{"$f":"IF(I483=0,\"\",SUM($I$8:I483))","v":""}]
[null,null,null,null,null,null,null,null,{"$f":"IF(AND($J$3=ورقة1!H478,الطباعة!$K$3=ورقة1!I478),1,0)","v":0},{"$f":"IF(I484=0,\"\",SUM($I$8:I484))","v":""}]
[null,null,null,null,null,null,null,null,{"$f":"IF(AND($J$3=ورقة1!H479,الطباعة!$K$3=ورقة1!I479),1,0)","v":0},{"$f":"IF(I485=0,\"\",SUM($I$8:I485))","v":""}]
[null,null,null,null,null,null,null,null,{"$f":"IF(AND($J$3=ورقة1!H480,الطباعة!$K$3=ورقة1!I480),1,0)","v":0},{"$f":"IF(I486=0,\"\",SUM($I$8:I486))","v":""}]
[null,null,null,null,null,null,null,null,{"$f":"IF(AND($J$3=ورقة1!H481,الطباعة!$K$3=ورقة1!I481),1,0)","v":0},{"$f":"IF(I487=0,\"\",SUM($I$8:I487))","v":""}]
[null,null,null,null,null,null,null,null,{"$f":"IF(AND($J$3=ورقة1!H482,الطباعة!$K$3=ورقة1!I482),1,0)","v":0},{"$f":"IF(I488=0,\"\",SUM($I$8:I488))","v":""}]
[null,null,null,null,null,null,null,null,{"$f":"IF(AND($J$3=ورقة1!H483,الطباعة!$K$3=ورقة1!I483),1,0)","v":0},{"$f":"IF(I489=0,\"\",SUM($I$8:I489))","v":""}]
[null,null,null,null,null,null,null,null,{"$f":"IF(AND($J$3=ورقة1!H484,الطباعة!$K$3=ورقة1!I484),1,0)","v":0},{"$f":"IF(I490=0,\"\",SUM($I$8:I490))","v":""}]
[null,null,null,null,null,null,null,null,{"$f":"IF(AND($J$3=ورقة1!H485,الطباعة!$K$3=ورقة1!I485),1,0)","v":0},{"$f":"IF(I491=0,\"\",SUM($I$8:I491))","v":""}]
[null,null,null,null,null,null,null,null,{"$f":"IF(AND($J$3=ورقة1!H486,الطباعة!$K$3=ورقة1!I486),1,0)","v":0},{"$f":"IF(I492=0,\"\",SUM($I$8:I492))","v":""}]
[null,null,null,null,null,null,null,null,{"$f":"IF(AND($J$3=ورقة1!H487,الطباعة!$K$3=ورقة1!I487),1,0)","v":0},{"$f":"IF(I493=0,\"\",SUM($I$8:I493))","v":""}]
[null,null,null,null,null,null,null,null,{"$f":"IF(AND($J$3=ورقة1!H488,الطباعة!$K$3=ورقة1!I488),1,0)","v":0},{"$f":"IF(I494=0,\"\",SUM($I$8:I494))","v":""}]
[null,null,null,null,null,null,null,null,{"$f":"IF(AND($J$3=ورقة1!H489,الطباعة!$K$3=ورقة1!I489),1,0)","v":0},{"$f":"IF(I495=0,\"\",SUM($I$8:I495))","v":""}]
[null,null,null,null,null,null,null,null,{"$f":"IF(AND($J$3=ورقة1!H490,الطباعة!$K$3=ورقة1!I490),1,0)","v":0},{"$f":"IF(I496=0,\"\",SUM($I$8:I496))","v":""}]
[null,null,null,null,null,null,null,null,{"$f":"IF(AND($J$3=ورقة1!H491,الطباعة!$K$3=ورقة1!I491),1,0)","v":0},{"$f":"IF(I497=0,\"\",SUM($I$8:I497))","v":""}]
[null,null,null,null,null,null,null,null,{"$f":"IF(AND($J$3=ورقة1!H492,الطباعة!$K$3=ورقة1!I492),1,0)","v":0},{"$f":"IF(I498=0,\"\",SUM($I$8:I498))","v":""}]
[null,null,null,null,null,null,null,null,{"$f":"IF(AND($J$3=ورقة1!H493,الطباعة!$K$3=ورقة1!I493),1,0)","v":0},{"$f":"IF(I499=0,\"\",SUM($I$8:I499))","v":""}]
[null,null,null,null,null,null,null,null,{"$f":"IF(AND($J$3=ورقة1!H494,الطباعة!$K$3=ورقة1!I494),1,0)","v":0},{"$f":"IF(I500=0,\"\",SUM($I$8:I500))","v":""}]
[null,null,null,null,null,null,null,null,{"$f":"IF(AND($J$3=ورقة1!H495,الطباعة!$K$3=ورقة1!I495),1,0)","v":0},{"$f":"IF(I501=0,\"\",SUM($I$8:I501))","v":""}]
[null,null,null,null,null,null,null,null,{"$f":"IF(AND($J$3=ورقة1!H496,الطباعة!$K$3=ورقة1!I496),1,0)","v":0},{"$f":"IF(I502=0,\"\",SUM($I$8:I502))","v":""}]
[null,null,null,null,null,null,null,null,{"$f":"IF(AND($J$3=ورقة1!H497,الطباعة!$K$3=ورقة1!I497),1,0)","v":0},{"$f":"IF(I503=0,\"\",SUM($I$8:I503))","v":""}]
[null,null,null,null,null,null,null,null,{"$f":"IF(AND($J$3=ورقة1!H498,الطباعة!$K$3=ورقة1!I498),1,0)","v":0},{"$f":"IF(I504=0,\"\",SUM($I$8:I504))","v":""}]
[null,null,null,null,null,null,null,null,{"$f":"IF(AND($J$3=ورقة1!H499,الطباعة!$K$3=ورقة1!I499),1,0)","v":0},{"$f":"IF(I505=0,\"\",SUM($I$8:I505))","v":""}]
[null,null,null,null,null,null,null,null,{"$f":"IF(AND($J$3=ورقة1!H500,الطباعة!$K$3=ورقة1!I500),1,0)","v":0},{"$f":"IF(I506=0,\"\",SUM($I$8:I506))","v":""}]
[null,null,null,null,null,null,null,null,{"$f":"IF(AND($J$3=ورقة1!H501,الطباعة!$K$3=ورقة1!I501),1,0)","v":0},{"$f":"IF(I507=0,\"\",SUM($I$8:I507))","v":""}]
[null,null,null,null,null,null,null,null,{"$f":"IF(AND($J$3=ورقة1!H502,الطباعة!$K$3=ورقة1!I502),1,0)","v":0},{"$f":"IF(I508=0,\"\",SUM($I$8:I508))","v":""}]
[null,null,null,null,null,null,null,null,{"$f":"IF(AND($J$3=ورقة1!H503,الطباعة!$K$3=ورقة1!I503),1,0)","v":0},{"$f":"IF(I509=0,\"\",SUM($I$8:I509))","v":""}]
[null,null,null,null,null,null,null,null,{"$f":"IF(AND($J$3=ورقة1!H504,الطباعة!$K$3=ورقة1!I504),1,0)","v":0},{"$f":"IF(I510=0,\"\",SUM($I$8:I510))","v":""}]
[null,null,null,null,null,null,null,null,{"$f":"IF(AND($J$3=ورقة1!H505,الطباعة!$K$3=ورقة1!I505),1,0)","v":0},{"$f":"IF(I511=0,\"\",SUM($I$8:I511))","v":""}]
[null,null,null,null,null,null,null,null,{"$f":"IF(AND($J$3=ورقة1!H506,الطباعة!$K$3=ورقة1!I506),1,0)","v":0},{"$f":"IF(I512=0,\"\",SUM($I$8:I512))","v":""}]
[null,null,null,null,null,null,null,null,{"$f":"IF(AND($J$3=ورقة1!H507,الطباعة!$K$3=ورقة1!I507),1,0)","v":0},{"$f":"IF(I513=0,\"\",SUM($I$8:I513))","v":""}]
[null,null,null,null,null,null,null,null,{"$f":"IF(AND($J$3=ورقة1!H508,الطباعة!$K$3=ورقة1!I508),1,0)","v":0},{"$f":"IF(I514=0,\"\",SUM($I$8:I514))","v":""}]
[null,null,null,null,null,null,null,null,{"$f":"IF(AND($J$3=ورقة1!H509,الطباعة!$K$3=ورقة1!I509),1,0)","v":0},{"$f":"IF(I515=0,\"\",SUM($I$8:I515))","v":""}]
[null,null,null,null,null,null,null,null,{"$f":"IF(AND($J$3=ورقة1!H510,الطباعة!$K$3=ورقة1!I510),1,0)","v":0},{"$f":"IF(I516=0,\"\",SUM($I$8:I516))","v":""}]
[null,null,null,null,null,null,null,null,{"$f":"IF(AND($J$3=ورقة1!H511,الطباعة!$K$3=ورقة1!I511),1,0)","v":0},{"$f":"IF(I517=0,\"\",SUM($I$8:I517))","v":""}]
[null,null,null,null,null,null,null,null,{"$f":"IF(AND($J$3=ورقة1!H512,الطباعة!$K$3=ورقة1!I512),1,0)","v":0},{"$f":"IF(I518=0,\"\",SUM($I$8:I518))","v":""}]
[null,null,null,null,null,null,null,null,{"$f":"IF(AND($J$3=ورقة1!H513,الطباعة!$K$3=ورقة1!I513),1,0)","v":0},{"$f":"IF(I519=0,\"\",SUM($I$8:I519))","v":""}]
[null,null,null,null,null,null,null,null,{"$f":"IF(AND($J$3=ورقة1!H514,الطباعة!$K$3=ورقة1!I514),1,0)","v":0},{"$f":"IF(I520=0,\"\",SUM($I$8:I520))","v":""}]
[null,null,null,null,null,null,null,null,{"$f":"IF(AND($J$3=ورقة1!H515,الطباعة!$K$3=ورقة1!I515),1,0)","v":0},{"$f":"IF(I521=0,\"\",SUM($I$8:I521))","v":""}]
[null,null,null,null,null,null,null,null,{"$f":"IF(AND($J$3=ورقة1!H516,الطباعة!$K$3=ورقة1!I516),1,0)","v":0},{"$f":"IF(I522=0,\"\",SUM($I$8:I522))","v":""}]
[null,null,null,null,null,null,null,null,{"$f":"IF(AND($J$3=ورقة1!H517,الطباعة!$K$3=ورقة1!I517),1,0)","v":0},{"$f":"IF(I523=0,\"\",SUM($I$8:I523))","v":""}]
[null,null,null,null,null,null,null,null,{"$f":"IF(AND($J$3=ورقة1!H518,الطباعة!$K$3=ورقة1!I518),1,0)","v":0},{"$f":"IF(I524=0,\"\",SUM($I$8:I524))","v":""}]
[null,null,null,null,null,null,null,null,{"$f":"IF(AND($J$3=ورقة1!H519,الطباعة!$K$3=ورقة1!I519),1,0)","v":0},{"$f":"IF(I525=0,\"\",SUM($I$8:I525))","v":""}]
[null,null,null,null,null,null,null,null,{"$f":"IF(AND($J$3=ورقة1!H520,الطباعة!$K$3=ورقة1!I520),1,0)","v":0},{"$f":"IF(I526=0,\"\",SUM($I$8:I526))","v":""}]
[null,null,null,null,null,null,null,null,{"$f":"IF(AND($J$3=ورقة1!H521,الطباعة!$K$3=ورقة1!I521),1,0)","v":0},{"$f":"IF(I527=0,\"\",SUM($I$8:I527))","v":""}]
[null,null,null,null,null,null,null,null,{"$f":"IF(AND($J$3=ورقة1!H522,الطباعة!$K$3=ورقة1!I522),1,0)","v":0},{"$f":"IF(I528=0,\"\",SUM($I$8:I528))","v":""}]
[null,null,null,null,null,null,null,null,{"$f":"IF(AND($J$3=ورقة1!H523,الطباعة!$K$3=ورقة1!I523),1,0)","v":0},{"$f":"IF(I529=0,\"\",SUM($I$8:I529))","v":""}]
[null,null,null,null,null,null,null,null,{"$f":"IF(AND($J$3=ورقة1!H524,الطباعة!$K$3=ورقة1!I524),1,0)","v":0},{"$f":"IF(I530=0,\"\",SUM($I$8:I530))","v":""}]
[null,null,null,null,null,null,null,null,{"$f":"IF(AND($J$3=ورقة1!H525,الطباعة!$K$3=ورقة1!I525),1,0)","v":0},{"$f":"IF(I531=0,\"\",SUM($I$8:I531))","v":""}]
[null,null,null,null,null,null,null,null,{"$f":"IF(AND($J$3=ورقة1!H526,الطباعة!$K$3=ورقة1!I526),1,0)","v":0},{"$f":"IF(I532=0,\"\",SUM($I$8:I532))","v":""}]
[null,null,null,null,null,null,null,null,{"$f":"IF(AND($J$3=ورقة1!H527,الطباعة!$K$3=ورقة1!I527),1,0)","v":0},{"$f":"IF(I533=0,\"\",SUM($I$8:I533))","v":""}]
[null,null,null,null,null,null,null,null,{"$f":"IF(AND($J$3=ورقة1!H528,الطباعة!$K$3=ورقة1!I528),1,0)","v":0},{"$f":"IF(I534=0,\"\",SUM($I$8:I534))","v":""}]
[null,null,null,null,null,null,null,null,{"$f":"IF(AND($J$3=ورقة1!H529,الطباعة!$K$3=ورقة1!I529),1,0)","v":0},{"$f":"IF(I535=0,\"\",SUM($I$8:I535))","v":""}]
[null,null,null,null,null,null,null,null,{"$f":"IF(AND($J$3=ورقة1!H530,الطباعة!$K$3=ورقة1!I530),1,0)","v":0},{"$f":"IF(I536=0,\"\",SUM($I$8:I536))","v":""}]

{"sheet":"Sheet1","index":4,"n_rows":32,"n_cols":21,"rows_kept":32,"cut":false,"hidden":false,"merged":[[3,17,4,17],[3,18,4,18],[3,19,4,19],[3,20,4,20],[2,0,2,20],[3,2,3,6],[3,7,3,11],[3,12,3,16],[3,1,5,1],[3,0,5,0]]}
["ادارة ",null,null,null,null,null,null,null,"فصل 3 / 4",null,null,null,null,null,"العام الدراسى / 2018 / 2019"]
["مدرسة ",null,null,null,null,null,null,null,"الفصل الدراسى / الثانى",null,null,null,null,null,"مادة / الرياضيات"]
["كشف تجميعى درجات الانشطة الصفية ( ملف تقيم ) الصف الثالث الابتدائى"]
["م","اسم التلميذ","شهر فبراير",null,null,null,null,"شهر مارس",null,null,null,null,"شهر ابريل",null,null,null,null,"مجموع الاشهر","المتوسط","امتحان اخر العام","الدرجة النهائية"]
[null,null,"مهمام فردية","انشطة مصاحبة","انشطة مستدامة","تقيمات شفهية","مجموع","مهمام فردية","انشطة مصاحبة","انشطة مستدامة","تقيمات شفهية","مجموع","مهمام فردية","انشطة مصاحبة","انشطة مستدامة","تقيمات شفهية","مجموع"]
[null,null,25,10,15,25,75,25,10,15,25,75,25,10,15,25,75,225,75,25,100]
[1,"بسملة محمد عبد المجيد عبد الجواد "]
[2,"جنا محمود عبدالمنعم زكى المستكاوى"]
[3,"مريم ادهم محمد محمد محمد سليمان"]
[4,"مريم اسلام عبد الجواد عليوة "]
[5,"مريم سامح عفيفى محمد احمد عيد"]
[6,"مريم صلاح محمد عبدالله محمد"]
[7,"مريم محمد عبد المنعم احمد كردى"]
[8,"مريم منصور عبدالمنعم احمد جاد منصور"]
[9,"ملك احمد بدوى مكى محمد صالح"]
[10,"ملك حماده عبدالرحمن عبدالمعطى"]
[11,"ملك سامح الصياد محمد الصياد حلوة"]
[12,"ملك سامح محمد معاز حسين"]
[13,"ملك شريف محمد رفاعى ابراهيم"]
[14,"ملك عبد الفتاح عبد اللطيف عبد الفتاح "]
[15,"ملك محمد سعد محمد ضرار"]
[16,"ملك محمد نجيب رزق طه نجيب"]
[17,"ملك مصلح محمد الهادى احمد السيد"]
[18,"ملك ناصر عبد الحميد سليمان"]
[19,"ملك هانى فهمى عبد المعز محمد قنديل"]
[20,"منه الله السعيد سلامة السعيد امين"]
[21,"منه ايمن الطوخى الصادق عيسوى"]
[22,"منه طه عبدالمجيد امين سويلم"]
[23,"مى عبدالله السيد عبدالحميد زيدان"]
[24,"مى محمد عز العرب محمد عبدالرؤوف"]
[25,"ميرنا خالد صبحى حافظ عبد المقصود"]
[26,"ميرنا محمد صلاح عبد الفتاح عابد زيدان"]