{"text_format":"1","workbook":"xlsx","n_sheets":10,"sheets":["Sheet1","شيكات فيبر","شيكات بلاستيك","نقدية فيبر","نقدية بلاستيك","أ د فيبر","أ د بلاستيك","كشف بنك ","الوطنية","Sheet2"],"not_rendered":{"charts":0,"images":0,"macros":1,"external_links":0,"defined_names":18,"comments":0,"pivot_tables":0},"unopened":[],"bounds":{"document_bytes":16777216,"sheet_cells":100000,"rows_first":2000,"rows_last":500,"rows_between":2000,"halvings":0,"cell_chars":16384,"cell_head_chars":4096},"cells_cut":0,"cells_raw":0,"read":"whole","date_system":"1900"}

{"sheet":"Sheet1","index":0,"n_rows":69,"n_cols":38,"rows_kept":69,"cut":false,"hidden":false,"merged":[]}
[1,2,3,4,5,6,7,8,9,10,11,12,13,14,15]
[null,null,null,null,null,null,null,null,null,null,null,null,null,null,null,null,null,null,null,null,null,null,null,{"$f":"'نقدية فيبر'!$K$2000","v":142}]
["عملاء الفيبر",null,"عملاء البلاستيك",null,"موردين الفيبر",null,"موردين البلاستيك",null,"البنوك",null,"بنوك الشركة",null,"اسم المندوب",null,"حالة الشيك",null,"اسماء الموظفين",null,"الاجمالى الكلى فبير",null,"الاجمالى الكلى البلاستيك",null,null,{"$f":"'نقدية بلاستيك'!$K$2000","v":30893.5}]
["لاغى",1,"لاغى",null,"لاغى",null,"لاغى",null,"HSBC",null,"بنك الامارات دبى NBD",null,"محمد خالد ",null,"مؤجل",null,null,"نقدية",{"$f":"'نقدية فيبر'!$K$2000","v":142},null,null,null,null,{"$f":"SUM(X2:X3)","v":31035.5},null,null,null,null,null,null,null,null,null,null,null,null,null,"Application.Goto Reference:=\"R2001C17\""]
["الاسكندرية لتوزيع الكهرباء",2,"ارت فيرت - حسين هاشم",null,"المغاورى",null,"عهدة م / تامر",null,"الاهلى القطرى (QNB)",null,"بنك الامارات دبى NBD (وطنية)",null,"احمد محمود",null,"تحت التحصيل",null,null,"تحت",{"$f":"'شيكات فيبر'!$Q$2001","v":252520.3},null,null,null,null,null,null,null,null,null,null,null,null,null,null,null,null,null,null,"    ActiveCell.FormulaR1C1 = \"=SUM(R[-1995]C:R[-1]C)\""]
["المالية و الصناعية",3,"اسكندرية لصناعة الزجاج",null,"جارى صاحب المنشاةء",null,"شزى جرافيك",null,"الامارات دبى الوطنى-NBD",null,"بنك المصرى الخليجى EGB",null,"عادل عبد العزيز",null,"محصل",null,null,"مؤجلة",{"$f":"'شيكات فيبر'!$AD$2001","v":8892}]
["جارى بلاستيك",4,"اسكندرية للادوية",null,"بنك ابو العباس",null,"الحسين",null,"CIB",null,"بنك الاستثمار العربى",null,"محمد قاسم",null,"مرتد",null,null,"مرتدة",{"$f":"'شيكات فيبر'!$AR$2001","v":0}]
["سداد سلف العاملين",5,"اكسبريس",null," م/ احمد شوقى",null,"القادسية",null,"CITI",null,"بنك البركة",null,"اسلام ",null,"يصرف نقدا",null,null,"رصيد البنك",{"$f":"'كشف بنك '!$L$1998","v":29990},null,null,null,null,null,null,null,null,null,null,null,null,null,null,null,null,null,null,"Application.Goto Reference:=\"R2001C30\""]
["الشركة المصرية للتجارة",6,"الاخوه العرب",null,"جارى بلاستيك",null,"الاخوة العرب",null,"الاهلى المصرى",null,"المصرف المتحد",null,"الحسن الباجورى",null,"ايداع نقدى",null,null,"الاجمالى",{"$f":"SUM(S4:S8)","v":291544.3},null,null,null,null,null,null,null,null,null,null,null,null,null,null,null,null,null,null,"    ActiveCell.FormulaR1C1 = \"=SUM(R[-1995]C:R[-1]C)\""]
["ايرادات اخرى يومية",7,"الاسكندرية للبناء",null,"شركة تراست",null,"بنك الاستثمار العربى",null,"كريدى اجريكول ",null,null,null,"على حسن"]
["شركة ابوقير للاسمدة",8,"البرج",null,"ثروت محمد السيد",null,"ثروت محمد السيد",null,"القاهرة",null,null,null,"شيرين"]
["شركة السرايا انتربليد",9,"الجرس",null,"مرتبات مكتب الفيبر",null,"المغاورى",null,"الاسكندرية",null,null,null,"شريف"]
["سلف مؤقتة",10,"الحسين",null,"طارق سعد",null,"محمد ممدوح يوسف",null,"ابوظبى",null,null,null,"المكتب "]
["رويال",11,"الشرق للمواد الكيماوية اورنيت",null,"الطباخ",null,"محمود حسنى عبد الغنى سليمان",null,"البركة",null,null,null,"مصنع الفيبر"]
["HTCللمكرونة",12,"الكان",null,"صندوق اعانات الطوارىء للعمال",null,"اشيلية لخدمات الطباعة",null,"العربى الافريقى",null,null,null,"مصنع البلاستيك"]
["بيرميدز",13,"المصرية السويسرية سيسك",null,"سلف مؤقتة",null,"جنرال سيلندرز",null,"باركليز",null,null,null,"ميدل ايست"]
["سرحان للصلب",14,"النرويجية",null,"عمرو للاستراد",null,"الاسكندرية لصناعة البوليمر",null,"بلوم مصر",null,null,null,"اى جى اكسبريس"]
["رمضان شعبان",15,"الهلال",null,"الاسكندرية لتوزيع الكهرباء",null,"عبد الله",null,"مصر",null,null,null,"م / شريف"]
["بنك الامارات NBD",16,"الوطنية للمنسوجات",null,"سلفة / محمد قاسم",null,"سلف مؤقتة",null,"فيصل الاسلامى",null,null,null,"كارم"]
["اباظة",17,"ام سى اى",null,"شركة مصر لصناعة الكيماويات",null,"سلفة / محمد رمضان",null,"بنك الاتحاد الوطنى مصر",null,null,null,"فرج"]
["ثروت  محمد السيد",18,"انكانا لصناعة الاحبار",null,"معاش م / خالد",null,"الايمان لوجيستك",null,"المصرى للتنمية الصادرات"]
["عهدة  م / احمد شوقى",19,"ايرادات اخرى",null,"انور",null,"الحسين",null,"قناة السويس"]
["سداد سلف الموطفين بالمكتب",20,"ايزى سويت",null,null,null,"ببب",null,"الخليج"]
["شركة الفادى",null,"ايفرجرو",null,null,null,"بنك الامارات",null,"المصرى الخليجى"]
["سلفة رمضان",null,"ايفرجرو السادات",null,null,null,"اسكندرية لصناعة الزجاج",null,"بنك الاسكان و التعمير"]
["شيرين",null,"ايليت",null,null,null,"جارى م / خالد",null,"التنمية الصناعية و العمال مصر"]
["شركة الفادى",null,"باسيف",null,null,null,"شركة النحاس المصرية",null,"المركزى المصرى"]
["حديد عز",null,"بروكيم",null,null,null,"جارى كريم",null,"الكويت الوطنى"]
["فارما اوفرسيز",null,"بريمكس",null,null,null,"الفاروق",null,"المصرف المتحد"]
["البتروكيماويات المصرية",null,"بنك الاستثمار العربى",null,null,null,"سلفة  / اميرة عبدة",null,"بيريوس-مصر"]
["شركة حسن حسنى للمقاولات",null,"بنك الامارت",null,null,null,"نيو سمارت",null,"الاهلى المتحد"]
["رد عهدة المغاورى",null,"بنك المصرى الخليجى",null,null,null,"السويدى",null,"عودة"]
["بيع براميل",null,"بينرا",null,null,null,"جارى م / شريف",null,"الاهلى الكويتى- مصر"]
["بنك الوطنية",null,"ثرى ستار",null,null,null,"انكانا لصناعة الاحبار",null,"المشرق"]
["فتحى محمود",null,"جارى أ / كريم",null,null,null,"شركة صدارة",null,"البنك العربى"]
["شركة طيبة",null,"جارى فيبر",null,null,null,"جارى فيبر",null,"التجارى وفا بنك"]
["فندق جدة",null,"جارى م / شريف",null,null,null,"سلفة / محمود حمروش",null,"ابوظبى الاول FAB"]
["سلفة / السيد الشافعى",null,"جارى م / خالد",null,null,null,"ثروت العامرية",null,"الاهلى اليونانى NBG"]
["اسامة ابو زيد",null,"جريت فودز",null,null,null,"ابوللوكيم"]
["الصرف الصحى",null,"د / محمد الطيبى",null,null,null,"ابو ريدة"]
["شركة اليكس باك",null,"رد عهدة م / تامر طه",null,null,null,"ايميرود ايجيبت"]
["ينك مصر",null,"روبيرد",null,null,null,"ايجار المصنع"]
["ايرادات متنوعة",null,"روبيرد خالد"]
["صبرى سليمان الشهاوى",null,"زيوركيم"]
["مستشفى زمزم",null,"سكيب"]
["مارينا لسقالات",null,"سلف مؤقتة"]
["فيلا / يحيى قاسم",null,"سويت جيل"]
["جارى صاحب المنشاءة",null,"سيراميك ارت"]
["سلفة / محمد قاسم",null,"سيراميك الفا"]
["شركة ماس",null,"سيراميك الدولية"]
["شركة الوجه القبلى للكهرباء (الكريمات)",null,"شركة الهدى محمد النجار"]
["ليسيكو",null,"عشرا تكس"]
["م / نيفين",null,"على قماح"]
["د / يحيى عثمان",null,"عملاء بيع هوالك"]
["سلفة / محمد خالد",null,"فارا بروف"]
["عمرو موسى",null,"فور سيزون"]
["مجمع الكرنك",null,"كيم ارت"]
["مصر الخليج",null,"كينج بلاست"]
[null,null,"ليسيكو"]
[null,null,"ميدو للدهانات"]
[null,null,"ثروت العامرية"]
[null,null,"د / شريف الطيبى"]
[null,null,"الجامعة الالمانية"]
[null,null,"لورد"]
[null,null,"ابو ريدة"]
[null,null,"كابسى"]
[null,null,"بروتال للبويات"]
[null,null,"شركة النحاس المصرية"]
[null,null,"كومبتكس"]

{"sheet":"شيكات فيبر","index":1,"n_rows":2001,"n_cols":51,"rows_kept":2001,"cut":false,"hidden":false,"merged":[]}
[]
[null,null,null,null,null,null,null,null,null,null,null,null,null,"اسم العميل","رقم الاذن","تاريخ الاستحقاق","القيمة","رقم الشيك","تاريخ الاستلام","اسم البنك","حالة الشيك","اسم المندوب","ملاحظات","بنك التحصيل",null,null,"اسم العميل","رقم الاذن","تاريخ الاستحقاق","القيمة","رقم الشيك","تاريخ الاستلام","اسم البنك","حالة الشيك","اسم المندوب","ملاحظات","بنك التحصيل",null,null,null,"اسم العميل","رقم الاذن","تاريخ الاستحقاق","القيمة","رقم الشيك","تاريخ الاستلام","اسم البنك","حالة الشيك","اسم المندوب","ملاحظات","بنك التحصيل"]
[null,null,null,null,null,null,null,null,null,null,null,null,null,null,null,null,null,null,null,null,"تحت التحصيل",null,null,null,null,null,null,null,null,null,null,null,null,"مؤجل",null,null,null,null,null,null,null,null,null,null,null,null,null,"مرتدة"]
[]
["اسم العميل","رقم الاذن","تاريخ الاستحقاق","القيمة","رقم الشيك","تاريخ الاستلام","اسم البنك","حالة الشيك","اسم المندوب","ملاحظات","بنك التحصيل",null,null,"اسم العميل","رقم الاذن","تاريخ الاستحقاق","القيمة","رقم الشيك","تاريخ الاستلام","اسم البنك","حالة الشيك","اسم المندوب","ملاحظات","بنك التحصيل",null,null,"اسم العميل","رقم الاذن","تاريخ الاستحقاق","القيمة","رقم الشيك","تاريخ الاستلام","اسم البنك","حالة الشيك","اسم المندوب","ملاحظات","بنك التحصيل",null,null,null,"اسم العميل","رقم الاذن","تاريخ الاستحقاق","القيمة","رقم الشيك","تاريخ الاستلام","اسم البنك","حالة الشيك","اسم المندوب","ملاحظات","بنك التحصيل"]
["الاسكندرية لتوزيع الكهرباء",2418,"2019-01-08",37767.5,18101100173,"2019-01-09","الاسكندرية","محصل","عادل عبد العزيز","امر توريد 2019/2018/132توريد100علبة كهرباء","بنك الامارات دبى NBD",null,null,"شركة الوجه القبلى للكهرباء (الكريمات)",2424,"13-12-2018",3000,35623507,"2019-04-03","الاهلى القطرى (QNB)","تحت التحصيل","احمد محمود","رد تامين ابتدائى","بنك الامارات دبى NBD",null,null,"شركة ماس",2423,"2019-04-11",8892,23151511,"2019-02-03","كريدى اجريكول ","مؤجل","محمد قاسم","حساب توريد فلانشات + اصلاح","بنك الامارات دبى NBD",{"$f":"IFERROR(DATEDIF(TODAY(),AC6,\"d\"),\"\")","v":29}]
["حديد عز",2419,"28/1/2019",43834.080000000002,181127003272,"30/1/2019","الاسكندرية","محصل","احمد محمود","من تحت حساب المديونية","بنك الامارات دبى NBD",null,null,"ليسيكو",2425,"2019-03-02",15469.8,1663583,"2019-04-03","ابوظبى الاول FAB","تحت التحصيل","على حسن","خامات وطنية","بنك الامارات دبى NBD (وطنية)",null,null,null,null,null,null,null,null,null,null,null,null,null,""]
["فارما اوفرسيز",2420,"23/1/2019",92500,4362091,"30/1/2019","العربى الافريقى","محصل","محمد قاسم","من تحت حساب المديونية","بنك الامارات دبى NBD",null,null,"ليسيكو",2426,"2019-03-03",15133.5,504029229,"2019-06-03","CIB","تحت التحصيل","على حسن","خامات وطنية","بنك الامارات دبى NBD (وطنية)",null,null,null,null,null,null,null,null,null,null,null,null,null,""]
["البتروكيماويات المصرية",2421,"23/1/2019",21470,17000064692,"30/1/2019","الاهلى المصرى","محصل","عادل عبد العزيز","شيك وطنية خامات","بنك الامارات دبى NBD (وطنية)",null,null,"الاسكندرية لتوزيع الكهرباء",2427,"2019-03-06",218917,44050323,"2019-03-09","التنمية الصناعية و العمال مصر","تحت التحصيل","عادل عبد العزيز","توريد 400علب ",null,null,null,null,null,null,null,null,null,null,null,null,null,null,""]
["شركة حسن حسنى للمقاولات",2422,"2019-02-10",50000,null,"2019-02-10","الامارات دبى الوطنى-NBD","ايداع نقدى",null,"ايدع فى بنك الامارات دبى","بنك الامارات دبى NBD",null,null,null,null,null,null,null,null,null,null,null,null,null,null,null,null,null,null,null,null,null,null,null,null,null,null,""]
["شركة ماس",2423,"2019-04-11",8892,23151511,"2019-02-03","كريدى اجريكول ","مؤجل","محمد قاسم","حساب توريد فلانشات + اصلاح","بنك الامارات دبى NBD",null,null,null,null,null,null,null,null,null,null,null,null,null,null,null,null,null,null,null,null,null,null,null,null,null,null,""]
["شركة الوجه القبلى للكهرباء (الكريمات)",2424,"13-12-2018",3000,35623507,"2019-04-03","الاهلى القطرى (QNB)","تحت التحصيل","احمد محمود","رد تامين ابتدائى","بنك الامارات دبى NBD",null,null,null,null,null,null,null,null,null,null,null,null,null,null,null,null,null,null,null,null,null,null,null,null,null,null,""]
["ليسيكو",2425,"2019-03-02",15469.8,1663583,"2019-04-03","ابوظبى الاول FAB","تحت التحصيل","على حسن","خامات وطنية","بنك الامارات دبى NBD (وطنية)",null,null,null,null,null,null,null,null,null,null,null,null,null,null,null,null,null,null,null,null,null,null,null,null,null,null,""]
["ليسيكو",2426,"2019-03-03",15133.5,504029229,"2019-06-03","CIB","تحت التحصيل","على حسن","خامات وطنية","بنك الامارات دبى NBD (وطنية)",null,null,null,null,null,null,null,null,null,null,null,null,null,null,null,null,null,null,null,null,null,null,null,null,null,null,""]
["الاسكندرية لتوزيع الكهرباء",2427,"2019-03-06",218917,44050323,"2019-03-09","التنمية الصناعية و العمال مصر","تحت التحصيل","عادل عبد العزيز","توريد 400علب ",null,null,null,null,null,null,null,null,null,null,null,null,null,null,null,null,null,null,null,null,null,null,null,null,null,null,null,""]
[null,null,null,null,null,null,null,null,null,null,null,null,null,null,null,null,null,null,null,null,null,null,null,null,null,null,null,null,null,null,null,null,null,null,null,null,null,""]
[null,null,null,null,null,null,null,null,null,null,null,null,null,null,null,null,null,null,null,null,null,null,null,null,null,null,null,null,null,null,null,null,null,null,null,null,null,""]
[null,null,null,null,null,null,null,null,null,null,null,null,null,null,null,null,null,null,null,null,null,null,null,null,null,null,null,null,null,null,null,null,null,null,null,null,null,""]
[null,null,null,null,null,null,null,null,null,null,null,null,null,null,null,null,null,null,null,null,null,null,null,null,null,null,null,null,null,null,null,null,null,null,null,null,null,""]
[null,null,null,null,null,null,null,null,null,null,null,null,null,null,null,null,null,null,null,null,null,null,null,null,null,null,null,null,null,null,null,null,null,null,null,null,null,""]
[null,null,null,null,null,null,null,null,null,null,null,null,null,null,null,null,null,null,null,null,null,null,null,null,null,null,null,null,null,null,null,null,null,null,null,null,null,""]
[null,null,null,null,null,null,null,null,null,null,null,null,null,null,null,null,null,null,null,null,null,null,null,null,null,null,null,null,null,null,null,null,null,null,null,null,null,""]
[null,null,null,null,null,null,null,null,null,null,null,null,null,null,null,null,null,null,null,null,null,null,null,null,null,null,null,null,null,null,null,null,null,null,null,null,null,""]
[null,null,null,null,null,null,null,null,null,null,null,null,null,null,null,null,null,null,null,null,null,null,null,null,null,null,null,null,null,null,null,null,null,null,null,null,null,""]
[null,null,null,null,null,null,null,null,null,null,null,null,null,null,null,null,null,null,null,null,null,null,null,null,null,null,null,null,null,null,null,null,null,null,null,null,null,""]
[null,null,null,null,null,null,null,null,null,null,null,null,null,null,null,null,null,null,null,null,null,null,null,null,null,null,null,null,null,null,null,null,null,null,null,null,null,""]
[null,null,null,null,null,null,null,null,null,null,null,null,null,null,null,null,null,null,null,null,null,null,null,null,null,null,null,null,null,null,null,null,null,null,null,null,null,""]
[null,null,null,null,null,null,null,null,null,null,null,null,null,null,null,null,null,null,null,null,null,null,null,null,null,null,null,null,null,null,null,null,null,null,null,null,null,""]
[null,null,null,null,null,null,null,null,null,null,null,null,null,null,null,null,null,null,null,null,null,null,null,null,null,null,null,null,null,null,null,null,null,null,null,null,null,""]
[null,null,null,null,null,null,null,null,null,null,null,null,null,null,null,null,null,null,null,null,null,null,null,null,null,null,null,null,null,null,null,null,null,null,null,null,null,""]
[]
[]
[]
[]
[]
[]
[]
[]
[]
[]
[]
[]
[]
[]
[]
[]
[]
[]
[]
[]
[]
[]
[]
[]
[]
[]
[]
[]
[]
[]
[]
[]
[]
[]
[]
[]
[]
[]
[]
[]
[]
[]
[]
[]
[]
[]
[]
[]
[]
[]
[]
[]
[]
[]
[]
[]
[]
[]
[]
[]
[]
[]
[]
[]
[]
[]
[]
[]
[]
[]
[]
[]
[]
[]
[]
[]
[]
[]
[]
[]
[]
[]
[]
[]
[]
[]
[]
[]
[]
[]
[]
[]
[]
[]
[]
[]
[]
[]
[]
[]
[]
[]
[]
[]
[]
[]
[]
[]
[]
[]
[]
[]
[]
[]
[]
[]
[]
[]
[]
[]
[]
[]
[]
[]
[]
[]
[]
[]
[]
[]
[]
[]
[]
[]
[]
[]
[]
[]
[]
[]
[]
[]
[]
[]
[]
[]
[]
[]
[]
[]
[]
[]
[]
[]
[]
[]
[]
[]
[]
[]
[]
[]
[]
[]
[]
[]
[]
[]
[]
[]
[]
[]
[]
[]
[]
[]
[]
[]
[]
[]
[]
[]
[]
[]
[]
[]
[]
[]
[]
[]
[]
[]
[]
[]
[]
[]
[]
[]
[]
[]
[]
[]
[]
[]
[]
[]
[]
[]
[]
[]
[]
[]
[]
[]
[]
[]
[]
[]
[]
[]
[]
[]
[]
[]
[]
[]
[]
[]
[]
[]
[]
[]
[]
[]
[]
[]
[]
[]
[]
[]
[]
[]
[]
[]
[]
[]
[]
[]
[]
[]
[]
[]
[]
[]
[]
[]
[]
[]
[]
[]
[]
[]
[]
[]
[]
[]
[]
[]
[]
[]
[]
[]
[]
[]
[]
[]
[]
[]
[]
[]
[]
[]
[]
[]
[]
[]
[]
[]
[]
[]
[]
[]
[]
[]
[]
[]
[]
[]
[]
[]
[]
[]
[]
[]
[]
[]
[]
[]
[]
[]
[]
[]
[]
[]
[]
[]
[]
[]
[]
[]
[]
[]
[]
[]
[]
[]
[]
[]
[]
[]
[]
[]
[]
[]
[]
[]
[]
[]
[]
[]
[]
[]
[]
[]
[]
[]
[]
[]
[]
[]
[]
[]
[]
[]
[]
[]
[]
[]
[]
[]
[]
[]
[]
[]
[]
[]
[]
[]
[]
[]
[]
[]
[]
[]
[]
[]
[]
[]
[]
[]
[]
[]
[]
[]
[]
[]
[]
[]
[]
[]
[]
[]
[]
[]
[]
[]
[]
[]
[]
[]
[]
[]
[]
[]
[]
[]
[]
[]
[]
[]
[]
[]
[]
[]
[]
[]
[]
[]
[]
[]
[]
[]
[]
[]
[]
[]
[]
[]
[]
[]
[]
[]
[]
[]
[]
[]
[]
[]
[]
[]
[]
[]
[]
[]
[]
[]
[]
[]
[]
[]
[]
[]
[]
[]
[]
[]
[]
[]
[]
[]
[]
[]
[]
[]
[]
[]
[]
[]
[]
[]
[]
[]
[]
[]
[]
[]
[]
[]
[]
[]
[]
[]
[]
[]
[]
[]
[]
[]
[]
[]
[]
[]
[]
[]
[]
[]
[]
[]
[]
[]
[]
[]
[]
[]
[]
[]
[]
[]
[]
[]
[]
[]
[]
[]
[]
[]
[]
[]
[]
[]
[]
[]
[]
[]
[]
[]
[]
[]
[]
[]
[]
[]
[]
[]
[]
[]
[]
[]
[]
[]
[]
[]
[]
[]
[]
[]
[]
[]
[]
[]
[]
[]
[]
[]
[]
[]
[]
[]
[]
[]
[]
[]
[]
[]
[]
[]
[]
[]
[]
[]
[]
[]
[]
[]
[]
[]
[]
[]
[]
[]
[]
[]
[]
[]
[]
[]
[]
[]
[]
[]
[]
[]
[]
[]
[]
[]
[]
[]
[]
[]
[]
[]
[]
[]
[]
[]
[]
[]
[]
[]
[]
[]
[]
[]
[]
[]
[]
[]
[]
[]
[]
[]
[]
[]
[]
[]
[]
[]
[]
[]
[]
[]
[]
[]
[]
[]
[]
[]
[]
[]
[]
[]
[]
[]
[]
[]
[]
[]
[]
[]
[]
[]
[]
[]
[]
[]
[]
[]
[]
[]
[]
[]
[]
[]
[]
[]
[]
[]
[]
[]
[]
[]
[]
[]
[]
[]
[]
[]
[]
[]
[]
[]
[]
[]
[]
[]
[]
[]
[]
[]
[]
[]
[]
[]
[]
[]
[]
[]
[]
[]
[]
[]
[]
[]
[]
[]
[]
[]
[]
[]
[]
[]
[]
[]
[]
[]
[]
[]
[]
[]
[]
[]
[]
[]
[]
[]
[]
[]
[]
[]
[]
[]
[]
[]
[]
[]
[]
[]
[]
[]
[]
[]
[]
[]
[]
[]
[]
[]
[]
[]
[]
[]
[]
[]
[]
[]
[]
[]
[]
[]
[]
[]
[]
[]
[]
[]
[]
[]
[]
[]
[]
[]
[]
[]
[]
[]
[]
[]
[]
[]
[]
[]
[]
[]
[]
[]
[]
[]
[]
[]
[]
[]
[]
[]
[]
[]
[]
[]
[]
[]
[]
[]
[]
[]
[]
[]
[]
[]
[]
[]
[]
[]
[]
[]
[]
[]
[]
[]
[]
[]
[]
[]
[]
[]
[]
[]
[]
[]
[]
[]
[]
[]
[]
[]
[]
[]
[]
[]
[]
[]
[]
[]
[]
[]
[]
[]
[]
[]
[]
[]
[]
[]
[]
[]
[]
[]
[]
[]
[]
[]
[]
[]
[]
[]
[]
[]
[]
[]
[]
[]
[]
[]
[]
[]
[]
[]
[]
[]
[]
[]
[]
[]
[]
[]
[]
[]
[]
[]
[]
[]
[]
[]
[]
[]
[]
[]
[]
[]
[]
[]
[]
[]
[]
[]
[]
[]
[]
[]
[]
[]
[]
[]
[]
[]
[]
[]
[]
[]
[]
[]
[]
[]
[]
[]
[]
[]
[]
[]
[]
[]
[]
[]
[]
[]
[]
[]
[]
[]
[]
[]
[]
[]
[]
[]
[]
[]
[]
[]
[]
[]
[]
[]
[]
[]
[]
[]
[]
[]
[]
[]
[]
[]
[]
[]
[]
[]
[]
[]
[]
[]
[]
[]
[]
[]
[]
[]
[]
[]
[]
[]
[]
[]
[]
[]
[]
[]
[]
[]
[]
[]
[]
[]
[]
[]
[]
[]
[]
[]
[]
[]
[]
[]
[]
[]
[]
[]
[]
[]
[]
[]
[]
[]
[]
[]
[]
[]
[]
[]
[]
[]
[]
[]
[]
[]
[]
[]
[]
[]
[]
[]
[]
[]
[]
[]
[]
[]
[]
[]
[]
[]
[]
[]
[]
[]
[]
[]
[]
[]
[]
[]
[]
[]
[]
[]
[]
[]
[]
[]
[]
[]
[]
[]
[]
[]
[]
[]
[]
[]
[]
[]
[]
[]
[]
[]
[]
[]
[]
[]
[]
[]
[]
[]
[]
[]
[]
[]
[]
[]
[]
[]
[]
[]
[]
[]
[]
[]
[]
[]
[]
[]
[]
[]
[]
[]
[]
[]
[]
[]
[]
[]
[]
[]
[]
[]
[]
[]
[]
[]
[]
[]
[]
[]
[]
[]
[]
[]
[]
[]
[]
[]
[]
[]
[]
[]
[]
[]
[]
[]
[]
[]
[]
[]
[]
[]
[]
[]
[]
[]
[]
[]
[]
[]
[]
[]
[]
[]
[]
[]
[]
[]
[]
[]
[]
[]
[]
[]
[]
[]
[]
[]
[]
[]
[]
[]
[]
[]
[]
[]
[]
[]
[]
[]
[]
[]
[]
[]
[]
[]
[]
[]
[]
[]
[]
[]
[]
[]
[]
[]
[]
[]
[]
[]
[]
[]
[]
[]
[]
[]
[]
[]
[]
[]
[]
[]
[]
[]
[]
[]
[]
[]
[]
[]
[]
[]
[]
[]
[]
[]
[]
[]
[]
[]
[]
[]
[]
[]
[]
[]
[]
[]
[]
[]
[]
[]
[]
[]
[]
[]
[]
[]
[]
[]
[]
[]
[]
[]
[]
[]
[]
[]
[]
[]
[]
[]
[]
[]
[]
[]
[]
[]
[]
[]
[]
[]
[]
[]
[]
[]
[]
[]
[]
[]
[]
[]
[]
[]
[]
[]
[]
[]
[]
[]
[]
[]
[]
[]
[]
[]
[]
[]
[]
[]
[]
[]
[]
[]
[]
[]
[]
[]
[]
[]
[]
[]
[]
[]
[]
[]
[]
[]
[]
[]
[]
[]
[]
[]
[]
[]
[]
[]
[]
[]
[]
[]
[]
[]
[]
[]
[]
[]
[]
[]
[]
[]
[]
[]
[]
[]
[]
[]
[]
[]
[]
[]
[]
[]
[]
[]
[]
[]
[]
[]
[]
[]
[]
[]
[]
[]
[]
[]
[]
[]
[]
[]
[]
[]
[]
[]
[]
[]
[]
[]
[]
[]
[]
[]
[]
[]
[]
[]
[]
[]
[]
[]
[]
[]
[]
[]
[]
[]
[]
[]
[]
[]
[]
[]
[]
[]
[]
[]
[]
[]
[]
[]
[]
[]
[]
[]
[]
[]
[]
[]
[]
[]
[]
[]
[]
[]
[]
[]
[]
[]
[]
[]
[]
[]
[]
[]
[]
[]
[]
[]
[]
[]
[]
[]
[]
[]
[]
[]
[]
[]
[]
[]
[]
[]
[]
[]
[]
[]
[]
[]
[]
[]
[]
[]
[]
[]
[]
[]
[]
[]
[]
[]
[]
[]
[]
[]
[]
[]
[]
[]
[]
[]
[]
[]
[]
[]
[]
[]
[]
[]
[]
[]
[]
[]
[]
[]
[]
[]
[]
[]
[]
[]
[]
[]
[]
[]
[]
[]
[]
[]
[]
[]
[]
[]
[]
[]
[]
[]
[]
[]
[]
[]
[]
[]
[]
[]
[]
[]
[]
[]
[]
[]
[]
[]
[]
[]
[]
[]
[]
[]
[]
[]
[]
[]
[]
[]
[]
[]
[]
[]
[]
[]
[]
[]
[]
[]
[]
[]
[]
[]
[]
[]
[]
[]
[]
[]
[]
[]
[]
[]
[]
[]
[]
[]
[]
[]
[]
[]
[]
[]
[]
[]
[]
[]
[]
[]
[]
[]
[]
[]
[]
[]
[]
[]
[]
[]
[]
[]
[]
[]
[]
[]
[]
[]
[]
[]
[]
[]
[]
[]
[]
[]
[]
[]
[]
[]
[]
[]
[]
[]
[]
[]
[]
[]
[]
[]
[]
[]
[]
[]
[]
[]
[]
[]
[]
[]
[]
[]
[]
[]
[]
[]
[]
[]
[]
[]
[]
[]
[]
[]
[]
[]
[]
[]
[]
[]
[]
[]
[]
[]
[]
[]
[]
[]
[]
[]
[]
[]
[]
[]
[]
[]
[]
[]
[]
[]
[]
[]
[]
[]
[]
[]
[]
[]
[]
[]
[]
[]
[]
[]
[]
[]
[]
[]
[]
[]
[]
[]
[]
[]
[]
[]
[]
[]
[]
[]
[]
[]
[]
[]
[]
[]
[]
[]
[]
[]
[]
[]
[]
[]
[]
[]
[]
[]
[]
[]
[]
[]
[]
[]
[]
[]
[]
[]
[]
[]
[]
[]
[]
[]
[]
[]
[]
[]
[]
[]
[]
[]
[]
[]
[]
[]
[]
[]
[]
[]
[]
[]
[]
[]
[]
[]
[]
[]
[]
[]
[]
[]
[]
[]
[]
[]
[]
[]
[]
[]
[]
[]
[]
[]
[]
[]
[]
[]
[]
[]
[]
[]
[]
[]
[]
[]
[]
[]
[]
[]
[]
[]
[]
[]
[]
[]
[]
[]
[]
[]
[]
[]
[]
[]
[]
[]
[]
[]
[]
[]
[]
[]
[]
[]
[]
[]
[]
[]
[]
[]
[]
[]
[]
[]
[]
[]
[]
[]
[]
[]
[]
[]
[]
[]
[]
[]
[]
[]
[]
[]
[]
[]
[]
[]
[]
[]
[]
[]
[]
[]
[]
[]
[]
[]
[]
[]
[]
[]
[]
[]
[]
[]
[]
[]
[]
[]
[]
[]
[]
[]
[]
[]
[]
[]
[]
[]
[]
[]
[]
[]
[]
[]
[]
[]
[]
[]
[]
[]
[]
[]
[]
[]
[]
[]
[]
[]
[]
[]
[]
[]
[]
[]
[]
[]
[]
[]
[]
[]
[]
[]
[]
[]
[]
[]
[]
[]
[]
[]
[]
[]
[]
[]
[]
[]
[]
[]
[]
[]
[]
[]
[]
[]
[]
[]
[]
[]
[]
[]
[]
[]
[]
[]
[]
[]
[]
[]
[]
[]
[]
[]
[]
[]
[]
[]
[]
[]
[]
[]
[]
[]
[]
[]
[null,null,null,null,null,null,null,null,null,null,null,null,null,null,null,null,{"$f":"SUM(Q6:Q2000)","v":252520.3},null,null,null,null,null,null,null,null,null,null,null,null,{"$f":"SUM(AD6:AD2000)","v":8892},null,null,null,null,null,null,null,null,null,null,null,null,null,{"$f":"SUM(AR6:AR2000)","v":0}]

{"sheet":"شيكات بلاستيك","index":2,"n_rows":108,"n_cols":38,"rows_kept":108,"cut":false,"hidden":false,"merged":[]}
[]
[null,null,null,null,null,null,null,null,null,null,null,null,"اسم العميل","رقم الاذن","تاريخ الاستحقاق","القيمة","رقم الشيك","تاريخ الاستلام","اسم البنك","حالة الشيك","اسم المندوب","ملاحظات","بنك التحصيل",null,null,"اسم العميل","رقم الاذن","تاريخ الاستحقاق","القيمة","رقم الشيك","تاريخ الاستلام","اسم البنك","حالة الشيك","اسم المندوب","ملاحظات","بنك التحصيل"]
[null,null,null,null,null,null,null,null,null,null,null,null,null,null,null,null,null,null,null,"تحت التحصيل",null,null,null,null,null,null,null,null,null,null,null,null,"مؤجل"]
[null,null,null,null,null,null,null,null,null,null,null,null,null,null,null,null,null,null,null,null,null,null,null,null,null,null,null,null,null,null,null,null,null,null,null,null,null,{"$f":"SUM(AC6:AC40)","v":1702344.05}]
["اسم العميل","رقم الاذن","تاريخ الاستحقاق","القيمة","رقم الشيك","تاريخ الاستلام","اسم البنك","حالة الشيك","اسم المندوب","ملاحظات","بنك التحصيل",null,"اسم العميل","رقم الاذن","تاريخ الاستحقاق","القيمة","رقم الشيك","تاريخ الاستلام","اسم البنك","حالة الشيك","اسم المندوب","ملاحظات","بنك التحصيل",null,null,"اسم العميل","رقم الاذن","تاريخ الاستحقاق","القيمة","رقم الشيك","تاريخ الاستلام","اسم البنك","حالة الشيك","اسم المندوب","ملاحظات","بنك التحصيل","لايام"]
["ايفرجرو",5851,"26/12/2018",250000,4141700051269,"27/12/2018","الاهلى المصرى","تحت التحصيل","حسن الباجورى","سداد جزء من المديونية",null,null,"ايفرجرو",5851,"26/12/2018",250000,4141700051269,"27/12/2018","الاهلى المصرى","تحت التحصيل","حسن الباجورى","سداد جزء من المديونية",null,null,null,"سكيب",2948,"2019-03-14",132741.6,34760482,"2019-03-10","الاهلى القطرى (QNB)","مؤجل","الحسن الباجورى","سداد جزء من المديونية",null,{"$f":"IFERROR(DATEDIF(TODAY(),AB6,\"d\"),\"\")","v":1}]
["عشرا تكس",5852,"29/12/2018",49753.5,659453,"29/12/2018","HSBC","يصرف نقدا","حسن الباجورى","فاتورة رقم4558","بنك الاستثمار العربى",null,"بينرا",5856,"2019-05-03",45000,504509770,"30/12/2018","CIB","تحت التحصيل","على حسن","سداد جزء من المديونية",null,null,null,"سيراميك ارت",2915,"15/3/2019",45586.29,37763008,"18/2/2019","الاهلى القطرى (QNB)","مؤجل","المكتب","سداد جزء من المديونية",null,2]
["بينرا",5853,"18/1/2019",41000,504509772,"30/12/2018","CIB","محصل","على حسن","سداد جزء من المديونية",null,null,"بينرا",5857,"2019-12-03",45000,504509771,"30/12/2018","CIB","تحت التحصيل","على حسن","سداد جزء من المديونية",null,null,null,"بينرا",2897,"17/3/2019",50000,505146144,"31/1/2019","CIB","مؤجل","على حسن","سداد جزء من المديونية",null,4]
["بينرا",5854,"2019-07-02",45000,504509768,"30/12/2018","CIB","محصل","على حسن","سداد جزء من المديونية",null,null,"ايليت",5858,"23/12/2018",42625,2401777,"31/12/2018","كريدى اجريكول ","تحت التحصيل",null,"فاتورة رقم 4628و 4631",null,null,null,"ايفرجرو السادات",2891,"18/3/2019",474240,171401,"29/1/2019","HSBC","مؤجل","المكتب","سداد جزء من المديونية",null,5]
["بينرا",5855,"22/2/2019",45000,504509769,"30-12-2019","CIB","محصل","على حسن","سداد جزء من المدوينة",null,null,"بروكيم",5860,"2019-08-01",2827.2,38123163,"31/12/2018","الاهلى القطرى (QNB)","تحت التحصيل","حسن الباجورى","فاتورة رقم 4617",null,null,null,"جريت فودز",2924,"20/3/2019",75841.919999999998,47,"19/2/2019","ابوظبى","مؤجل","المكتب","سداد جزء من المديونية",null,7]
["بينرا",5856,"2019-05-03",45000,504509770,"30/12/2018","CIB","تحت التحصيل","على حسن","سداد جزء من المديونية",null,null,"ايفرجرو",2890,"20/2/2019",13469.1,171402,"29/1/2019","HSBC","تحت التحصيل","المكتب","سداد جزء من المديونية",null,null,null,"ايفرجرو السادات",2931,"24/3/2019",56153.59,171474,"26/2/2019","HSBC","مؤجل","ميدل ايست","سداد جزء من المديونية",null,11]
["بينرا",5857,"2019-12-03",45000,504509771,"30/12/2018","CIB","تحت التحصيل","على حسن","سداد جزء من المديونية",null,null,"ايزى سويت",2900,"24/2/2019",40629.599999999999,30085,"31/1/2019","التجارى وفا بنك","تحت التحصيل","حسن الباجورى","سداد جزء من المديونية",null,null,null,"سيراميك الفا",2953,"2019-03-25",14104.65,44371512,"2019-03-13","المصرى للتنمية الصادرات","مؤجل","ميدل ايست","سداد جزء من المديونية",null,12]
["ايليت",5858,"23/12/2018",42625,2401777,"31/12/2018","كريدى اجريكول ","تحت التحصيل",null,"فاتورة رقم 4628و 4631",null,null,"بروكيم",2911,"22/2/2019",52039.519999999997,38123237,"13/2/2019","الاهلى القطرى (QNB)","تحت التحصيل","حسن الباجورى","سداد جزء من المديونية",null,null,null,"الشرق للمواد الكيماوية اورنيت",2909,"30/3/2019",34345,6182,"13/2/2019","التنمية الصناعية و العمال مصر","مؤجل","المكتب","سداد جزء من المديونية",null,17]
["ايليت",5859,"23/12/2018",null,null,null,null,null,null,"لاغى",null,null,"البرج",2914,"18/2/2019",55189.2,4104797731,"17/2/2019","الكويت الوطنى","تحت التحصيل","حسن الباجورى","سداد جزء من المديونية",null,null,null,"ام سى اى",2916,"31/3/2019",65451,51266443,"18/2/2019","مصر","مؤجل","المكتب","سداد جزء من المديونية",null,18]
["بروكيم",5860,"2019-08-01",2827.2,38123163,"31/12/2018","الاهلى القطرى (QNB)","تحت التحصيل","حسن الباجورى","فاتورة رقم 4617",null,null,"ايزى سويت",2917,"14/2/2019",20000,1419,"18/2/2019","المصرى للتنمية الصادرات","تحت التحصيل","كارم","سداد جزء من المديونية",null,null,null,"ايفرجرو السادات",2892,"2019-04-01",503880,171403,"29/1/2019","HSBC","مؤجل","المكتب","سداد جزء من المديونية",null,19]
["بروكيم",5861,"2019-08-01",23253.72,38123164,"31/12/2018","الاهلى القطرى (QNB)","محصل","حسن الباجورى","باقى فاتورة 4617",null,null,"ايزى سويت",2918,"14/2/2019",30000,1366,"18/2/2019","التنمية الصناعية و العمال مصر","تحت التحصيل","كارم","سداد جزء من المديونية",null,null,null,"بينرا",2898,"2019-04-04",50000,505146145,"31/1/2019","CIB","مؤجل","على حسن","سداد جزء من المديونية",null,22]
["الكان",5862,"16/12/2018",15500,38123660,"31/12/2018","الاهلى القطرى (QNB)","محصل","حسن الباجورى","سداد جزء من المديونية",null,null,"ايزى سويت",2919,"19/2/2019",33099,1367,"18/2/2019","التنمية الصناعية و العمال مصر","تحت التحصيل","كارم","سداد جزء من المديونية",null,null,null,"بينرا",2951,"2019-04-08",50000,505693859,"2019-03-12","CIB","مؤجل","المكتب ","سداد جزء من المديونية",null,26]
["ثرى ستار",5863,"2019-01-01",29504.6,38142390,"31/12/2018","الاهلى القطرى (QNB)","محصل","حسن الباجورى","سداد جزء من المديونية",null,null,"ايزى سويت",2920,"21/2/2019",25075.03,1420,"18/2/2019","التنمية الصناعية و العمال مصر","تحت التحصيل","كارم","سداد جزء من المديونية",null,null,null,"بينرا",2934,"13-4-2019",50000,505146126,"27/2/2019","CIB","مؤجل","على حسن","سداد جزء من المديونية",null,31]
["ثرى ستار",5864,"2019-10-01",13383.5,38142391,"31/12/2018","الاهلى القطرى (QNB)","محصل","حسن الباجورى","سداد جزء من المديونية",null,null,"فور سيزون",2921,"2019-02-11",10070.120000000001,121038356,"19/2/2019","ابوظبى الاول FAB","تحت التحصيل","المكتب","سداد جزء من المديونية",null,null,null,"بينرا",2952,"2019-04-23",50000,505693860,"2019-03-12","CIB","مؤجل","المكتب ","سداد جزء من المديونية",null,41]
["اسكندرية للادوية",5865,"29/12/2018",20698,50225721,"31/12/2018","مصر","محصل","المكتب","سداد جزء من المديونية",null,null,"زيوركيم",2922,"15/2/2019",18713.099999999999,21717000057300,"19/2/2019","الاهلى المصرى","تحت التحصيل","المكتب","سداد جزء من المديونية",null,null,null,"بينرا",2933,"26/4/2019",50000,505146125,"27/2/2019","CIB","مؤجل","على حسن","سداد جزء من المديونية",null,44]
["البرج",5866,"2019-07-01",75240,10100202413790,43617,"كريدى اجريكول ","محصل","المكتب","سداد جزء من المديونية",null,null,"الهلال",2925,"2019-10-03",5515.32,3638776,"20/2/2019","الاهلى القطرى (QNB)","تحت التحصيل","المكتب","سداد جزء من المديونية",null,null,null,null,null,null,null,null,null,null,null,null,null,null,""]
["البرج",2867,"22/1/2019",18057.599999999999,410797649,43617,"الكويت الوطنى","محصل","كارم","سداد جزء من المديونية",null,null,"الكان",2926,"2019-03-10",30000,38123704,"21/2/2019","الاهلى القطرى (QNB)","تحت التحصيل",null,"سداد جزء من المديونية",null,null,null,null,null,null,null,null,null,null,null,null,null,null,""]
["الوطنية للمنسوجات",2868,"15/1/2019",10000,2121700003578,43739,"الاهلى المصرى","محصل","المكتب","سداد جزء من المديونية",null,null,"سكيب",2930,"2019-03-11",162700.79999999999,34760428,"25/2/2019","الاهلى القطرى (QNB)","تحت التحصيل","الحسن الباجورى","سداد جزء من المديونية","بنك المصرى الخليجى",null,null,null,null,null,null,null,null,null,null,null,null,null,""]
["كينج بلاست",2869,"2019-05-01",19006.080000000002,10400027052604,43739,"كريدى اجريكول ","محصل","المكتب","سداد جزء من المديونية",null,null,"الكان",2932,"2019-08-02",9418.5,38123712,"26/2/2019","الاهلى القطرى (QNB)","تحت التحصيل","الحسن الباجورى","سداد جزء من المديونية",null,null,null,null,null,null,null,null,null,null,null,null,null,null,""]
["ايزى سويت",2870,"20/12/2018",40189.279999999999,29498,43739,"التجارى وفا بنك","محصل","حسن الباجورى","فاتورة رقم 4483",null,null,"ايفرجرو",2935,"2019-03-11",250000,42749842,"2019-02-27","مصر","تحت التحصيل","الحسن الباجورى","سداد جزء من المديونية"," بنك المصرى الخليجى",null,null,null,null,null,null,null,null,null,null,null,null,null,""]
["ايفرجرو",2871,"16/1/2019",500000,171302,43800,"HSBC","محصل","المكتب","سداد جزء من المديونية",null,null,"ايفرجرو",2936,"2019-03-04",250000,52749841,"2019-02-27","مصر","تحت التحصيل","الحسن الباجورى","سداد جزء من المديونية","بنك المصرى الخليجى",null,null,null,null,null,null,null,null,null,null,null,null,null,""]
["سكيب",2872,"17/1/2019",199899,34759929,"14/1/2019","الاهلى القطرى (QNB)","محصل","المكتب","سداد جزء من المديونية",null,null,"بروتال للبويات",2941,"2019-02-28",21732.73,38176738,"2019-03-04","الاهلى القطرى (QNB)","تحت التحصيل","الحسن الباجورى","سداد جزء من المديونية","بنك المصرى الخليجى EGB",null,null,null,null,null,null,null,null,null,null,null,null,null,""]
["سويت جيل",2873,"30/1/2019",62656,36701669,"14/1/2019","الاهلى القطرى (QNB)","محصل","المكتب","سداد جزء من المديونية",null,null,"شركة النحاس المصرية",2947,"2019-03-02",2690.4,17000024564,"2019-03-06","الاهلى المصرى","تحت التحصيل","كارم","سداد جزء من المديونية","بنك المصرى الخليجى EGB",null,null,null,null,null,null,null,null,null,null,null,null,null,""]
["ايليت",2874,"2019-09-01",122357.81,100202406711,"14/1/2019","كريدى اجريكول ","محصل","المكتب","سداد جزء من المديونية",null,null,"كومبتكس",2950,"2019-03-09",11325.6,180917006826,"2019-03-11","الاسكندرية","تحت التحصيل","الحسن الباجورى","سداد جزء من المديونية",null,null,null,null,null,null,null,null,null,null,null,null,null,null,""]
["ام سى اى",2875,"15/2/2019",66624,51266198,"15/1/2019","مصر","محصل","المكتب","من تحت الحساب","الامارات",null,null,null,null,null,null,null,null,null,null,null,null,null,null,null,null,null,null,null,null,null,null,null,null,null,""]
["الهلال",2876,"2019-10-02",18797.05,36387733,"16/1/2019","الاهلى القطرى (QNB)","محصل","المكتب","سداد جزء من المديونية",null,null,null,null,null,null,null,null,null,null,null,null,null,null,null,null,null,null,null,null,null,null,null,null,null,null,""]
["ليسيكو",2877,"15/1/2019",83985.55,504028699,"19/1/2019","CIB","محصل","حسن الباجورى","سداد جزء من المديونية",null,null,null,null,null,null,null,null,null,null,null,null,null,null,null,null,null,null,null,null,null,null,null,null,null,null,""]
["سكيب",2878,"25/1/2019",153036.45000000001,34760000,"21/1/2019","الاهلى القطرى (QNB)","محصل","حسن الباجورى","سداد جزء من المديونية",null,null,null,null,null,null,null,null,null,null,null,null,null,null,null,null,null,null,null,null,null,null,null,null,null,null,""]
["سكيب",2879,"31/1/2019",212680.13,34760075,"21/1/2019","الاهلى القطرى (QNB)","محصل","حسن الباجورى","سداد جزء من المديونية",null,null,null,null,null,null,null,null,null,null,null,null,null,null,null,null,null,null,null,null,null,null,null,null,null,null,""]
["فور سيزون",2880,"13/1/2019",3897.5,121038085,"22/1/2019","ابوظبى","محصل","كارم","سداد جزء من المديونية",null,null,null,null,null,null,null,null,null,null,null,null,null,null,null,null,null,null,null,null,null,null,null,null,null,null,""]
["الكان",2881,"31/12/2018",31000,38123682,"22/1/2019","الاهلى القطرى (QNB)","محصل","المكتب","سداد جزء من المديونية",null,null,null,null,null,null,null,null,null,null,null,null,null,null,null,null,null,null,null,null,null,null,null,null,null,null,""]
["جريت فوز",2882,"14/2/2019",37777.32,1404402259,"22/1/2019","الامارات دبى الوطنى-NBD","محصل","المكتب","سداد جزء من المديونية",null,null,null,null,null,null,null,null,null,null,null,null,null,null,null,null,null,null,null,null,null,null,null,null,null,null,""]
["بروكيم",2883,"31/1/2019",38874,38123173,"26/1/2019","الاهلى القطرى (QNB)","محصل","حسن الباجورى","سداد جزء من المديونية",null,null,null,null,null,null,null,null,null,null,null,null,null,null,null,null,null,null,null,null,null,null,null,null,null,null,{"$f":"IFERROR(DATEDIF(TODAY(),AB38,\"d\"),\"\")","v":""}]
["بروكيم",2884,"2019-07-02",20581.560000000001,38123174,"26/1/2019","الاهلى القطرى (QNB)","محصل","حسن الباجورى","سداد جزء من المديونية",null,null,null,null,null,null,null,null,null,null,null,null,null,null,null,null,null,null,null,null,null,null,null,null,null,null,""]
["روبيرد",2885,"29/1/2019",5810,44524811,"26/1/2019","المصرى للتنمية الصادرات","محصل","المكتب","سداد جزء من المديونية",null,null,null,null,null,null,null,null,null,null,null,null,null,null,null,null,null,null,null,null,null,null,null,null,null,null,""]
["ثرى ستار",2886,"31/1/2019",109571,37086453,"27/1/2019","الاهلى القطرى (QNB)","محصل","حسن الباجورى","سداد جزء من المديونية",null,null,null,null,null,null,null,null,null,null,null,null,null,null,null,null,null,null,null,null,null,null,null,null,null,null,""]
["ثرى ستار",2887,"28/2/2019",100345.60000000001,37086454,"27/1/2019","الاهلى القطرى (QNB)","محصل","حسن الباجورى","سداد جزء من المديونية",null,null,null,null,null,null,null,null,null,null,null,null,null,null,null,null,null,null,null,null,null,null,null,null,null,null,""]
["بروكيم",2888,"28/1/2019",47985,38123178,"28/1/2019","الاهلى القطرى (QNB)","محصل","حسن الباجورى","سداد جزء من المديونية",null,null,null,null,null,null,null,null,null,null,null,null,null,null,null,null,null,null,null,null,null,null,null,null,null,null,""]
["روبيرد",2889,"17/2/2019",40442.5,44524822,"29/1/2019","المصرى للتنمية الصادرات","محصل","المكتب","سداد جزء من المديونية",null,null,null,null,null,null,null,null,null,null,null,null,null,null,null,null,null,null,null,null,null,null,null,null,null,null,""]
["ايفرجرو",2890,"20/2/2019",13469.1,171402,"29/1/2019","HSBC","تحت التحصيل","المكتب","سداد جزء من المديونية",null,null,null,null,null,null,null,null,null,null,null,null,null,null,null,null,null,null,null,null,null,null,null,null,null,null,""]
["ايفرجرو السادات",2891,"18/3/2019",474240,171401,"29/1/2019","HSBC","مؤجل","المكتب","سداد جزء من المديونية",null,null,null,null,null,null,null,null,null,null,null,null,null,null,null,null,null,null,null,null,null,null,null,null,null,null,""]
["ايفرجرو السادات",2892,"2019-04-01",503880,171403,"29/1/2019","HSBC","مؤجل","المكتب","سداد جزء من المديونية",null,null,null,null,null,null,null,null,null,null,null,null,null,null,null,null,null,null,null,null,null,null,null,null,null,null,""]
["ايليت",2893,"20/1/2019",47721.09,10100202406731,"19/1/2019","كريدى اجريكول ","محصل","حسن الباجورى","سداد جزء من المديونية",null,null,null,null,null,null,null,null,null,null,null,null,null,null,null,null,null,null,null,null,null,null,null,null,null,null,""]
["عشرا تكس",2894,"23/1/2019",41475,656500,"31/1/2019","HSBC","محصل","المكتب","سداد جزء من المديونية",null,null,null,null,null,null,null,null,null,null,null,null,null,null,null,null,null,null,null,null,null,null,null,null,null,null,""]
["بينرا",2895,"16/2/2019",50000,505146142,"31/1/2019","CIB","محصل","على حسن","سداد جزء من المديونية",null,null,null,null,null,null,null,null,null,null,null,null,null,null,null,null,null,null,null,null,null,null,null,null,null,null,""]
["بينرا",2896,"26/2/2019",50000,505146143,"31/1/2019","CIB","محصل","على حسن","سداد جزء من المديونية",null,null,null,null,null,null,null,null,null,null,null,null,null,null,null,null,null,null,null,null,null,null,null,null,null,null,""]
["بينرا",2897,"17/3/2019",50000,505146144,"31/1/2019","CIB","مؤجل","على حسن","سداد جزء من المديونية",null,null,null,null,null,null,null,null,null,null,null,null,null,null,null,null,null,null,null,null,null,null,null,null,null,null,""]
["بينرا",2898,"2019-04-04",50000,505146145,"31/1/2019","CIB","مؤجل","على حسن","سداد جزء من المديونية",null,null,null,null,null,null,null,null,null,null,null,null,null,null,null,null,null,null,null,null,null,null,null,null,null,null,""]
["ايزى سويت",2899,"2019-09-02",8310.6,30084,"31/1/2019","التجارى وفا بنك","محصل","حسن الباجورى","سداد جزء من المديونية",null,null,null,null,null,null,null,null,null,null,null,null,null,null,null,null,null,null,null,null,null,null,null,null,null,null,""]
["ايزى سويت",2900,"24/2/2019",40629.599999999999,30085,"31/1/2019","التجارى وفا بنك","تحت التحصيل","حسن الباجورى","سداد جزء من المديونية",null,null,null,null,null,null,null,null,null,null,null,null,null,null,null,null,null,null,null,null,null,null,null,null,null,null,""]
["الكان",2901,"2019-10-01",9020,38123691,43618,"الاهلى القطرى (QNB)","محصل","حسن الباجورى","سداد جزء من المديونية",null,null,null,null,null,null,null,null,null,null,null,null,null,null,null,null,null,null,null,null,null,null,null,null,null,null,""]
["المصرية السويسرية سيسك",2902,"17/2/2019",19229.21,36964419,43710,"الاهلى القطرى (QNB)","محصل","كارم","سداد جزء من المديونية",null,null,null,null,null,null,null,null,null,null,null,null,null,null,null,null,null,null,null,null,null,null,null,null,null,null,""]
["ايفرجرو",2903,"31/1/2019",250000,37928830,43648,"الاهلى القطرى (QNB)","محصل","حسن الباجورى","سداد جزء من المديونية",null,null,null,null,null,null,null,null,null,null,null,null,null,null,null,null,null,null,null,null,null,null,null,null,null,null,""]
["سكيب",2904,"13/2/2019",169290,34760159,"2019-11-02","الاهلى القطرى (QNB)","محصل","حسن الباجورى","سداد جزء من المديونية",null,null,null,null,null,null,null,null,null,null,null,null,null,null,null,null,null,null,null,null,null,null,null,null,null,null,""]
["الكان",2905,"2019-10-01",15500,38123690,43801,"الاهلى القطرى (QNB)","محصل","حسن الباجورى","سداد جزء من المديونية",null,null,null,null,null,null,null,null,null,null,null,null,null,null,null,null,null,null,null,null,null,null,null,null,null,null,""]
["ايليت",2906,"2019-02-02",34170.47,10100202416583,43801,"كريدى اجريكول ","محصل","حسن الباجورى","سداد جزء من المديونية",null,null,null,null,null,null,null,null,null,null,null,null,null,null,null,null,null,null,null,null,null,null,null,null,null,null,""]
["ايليت",2907,"2019-07-02",46777.5,100202416597,43801,"كريدى اجريكول ","يصرف نقدا","حسن الباجورى","سداد جزء من المديونية",null,null,null,null,null,null,null,null,null,null,null,null,null,null,null,null,null,null,null,null,null,null,null,null,null,null,""]
["سيراميك الفا",2908,"15/2/2019",14104.65,783782,"13/2/2019","الاهلى اليونانى NBG","محصل","المكتب","سداد جزء من المديونية",null,null,null,null,null,null,null,null,null,null,null,null,null,null,null,null,null,null,null,null,null,null,null,null,null,null,""]
["الشرق للمواد الكيماوية اورنيت",2909,"30/3/2019",34345,6182,"13/2/2019","التنمية الصناعية و العمال مصر","مؤجل","المكتب","سداد جزء من المديونية",null,null,null,null,null,null,null,null,null,null,null,null,null,null,null,null,null,null,null,null,null,null,null,null,null,null,""]
["بروكيم",2910,"15/2/2019",63337.26,38123236,"13/2/2019","الاهلى القطرى (QNB)","محصل","حسن الباجورى","سداد جزء من المديونية",null,null,null,null,null,null,null,null,null,null,null,null,null,null,null,null,null,null,null,null,null,null,null,null,null,null,""]
["بروكيم",2911,"22/2/2019",52039.519999999997,38123237,"13/2/2019","الاهلى القطرى (QNB)","تحت التحصيل","حسن الباجورى","سداد جزء من المديونية",null,null,null,null,null,null,null,null,null,null,null,null,null,null,null,null,null,null,null,null,null,null,null,null,null,null,""]
["الاسكندرية للبناء",2912,"13/2/2019",4519,4103650290,"14/2/2019","الكويت الوطنى","محصل","كارم","سداد جزء من المديونية"]
["سويت جيل",2913,"28/2/2019",130635,36701748,"14/2/2019","الاهلى القطرى (QNB)","محصل","المكتب","سداد جزء من المديونية"]
["البرج",2914,"18/2/2019",55189.2,4104797731,"17/2/2019","الكويت الوطنى","تحت التحصيل","حسن الباجورى","سداد جزء من المديونية"]
["سيراميك ارت",2915,"15/3/2019",45586.29,37763008,"18/2/2019","الاهلى القطرى (QNB)","مؤجل","المكتب","سداد جزء من المديونية"]
["ام سى اى",2916,"31/3/2019",65451,51266443,"18/2/2019","مصر","مؤجل","المكتب","سداد جزء من المديونية"]
["ايزى سويت",2917,"14/2/2019",20000,1419,"18/2/2019","المصرى للتنمية الصادرات","تحت التحصيل","كارم","سداد جزء من المديونية"]
["ايزى سويت",2918,"14/2/2019",30000,1366,"18/2/2019","التنمية الصناعية و العمال مصر","تحت التحصيل","كارم","سداد جزء من المديونية"]
["ايزى سويت",2919,"19/2/2019",33099,1367,"18/2/2019","التنمية الصناعية و العمال مصر","تحت التحصيل","كارم","سداد جزء من المديونية"]
["ايزى سويت",2920,"21/2/2019",25075.03,1420,"18/2/2019","التنمية الصناعية و العمال مصر","تحت التحصيل","كارم","سداد جزء من المديونية"]
["فور سيزون",2921,"2019-02-11",10070.120000000001,121038356,"19/2/2019","ابوظبى الاول FAB","تحت التحصيل","المكتب","سداد جزء من المديونية"]
["زيوركيم",2922,"15/2/2019",18713.099999999999,21717000057300,"19/2/2019","الاهلى المصرى","تحت التحصيل","المكتب","سداد جزء من المديونية"]
["باسيف",2923,"2019-02-11",99948.5,401424,"19/2/2019","HSBC","يصرف نقدا","المكتب","سداد جزء من المديونية"]
["جريت فودز",2924,"20/3/2019",75841.919999999998,47,"19/2/2019","ابوظبى","مؤجل","المكتب","سداد جزء من المديونية"]
["الهلال",2925,"2019-10-03",5515.32,3638776,"20/2/2019","الاهلى القطرى (QNB)","تحت التحصيل","المكتب","سداد جزء من المديونية"]
["الكان",2926,"2019-03-10",30000,38123704,"21/2/2019","الاهلى القطرى (QNB)","تحت التحصيل",null,"سداد جزء من المديونية"]
["الجامعة الالمانية",2927,"17/2/2019",165686.25,503976472,"24/2/2019","CIB","محصل","ميدل ايست","سداد جزء من المديونية"]
["سكيب",2928,"20-2-2019",46056,34760309,"25/2/2019","الاهلى القطرى (QNB)","محصل","الحسن الباجورى","سداد جزء من المديونية"]
["سكيب",2929,"28/2/2019",135090,34760308,"25/2/2019","الاهلى القطرى (QNB)","محصل","الحسن الباجورى","سداد جزء من المديونية"]
["سكيب",2930,"2019-03-11",162700.79999999999,34760428,"25/2/2019","الاهلى القطرى (QNB)","تحت التحصيل","الحسن الباجورى","سداد جزء من المديونية","بنك المصرى الخليجى"]
["ايفرجرو السادات",2931,"24/3/2019",56153.59,171474,"26/2/2019","HSBC","مؤجل","ميدل ايست","سداد جزء من المديونية"]
["الكان",2932,"2019-08-02",9418.5,38123712,"26/2/2019","الاهلى القطرى (QNB)","تحت التحصيل","الحسن الباجورى","سداد جزء من المديونية"]
["بينرا",2933,"26/4/2019",50000,505146125,"27/2/2019","CIB","مؤجل","على حسن","سداد جزء من المديونية"]
["بينرا",2934,"13-4-2019",50000,505146126,"27/2/2019","CIB","مؤجل","على حسن","سداد جزء من المديونية"]
["ايفرجرو",2935,"2019-03-11",250000,42749842,"2019-02-27","مصر","تحت التحصيل","الحسن الباجورى","سداد جزء من المديونية"," بنك المصرى الخليجى"]
["ايفرجرو",2936,"2019-03-04",250000,52749841,"2019-02-27","مصر","تحت التحصيل","الحسن الباجورى","سداد جزء من المديونية","بنك المصرى الخليجى"]
["لورد",2937,"2019-02-27",56000,36223576,"2019-02-28","الاهلى القطرى (QNB)","محصل","الحسن الباجورى","سداد جزء من المديونية","بنك المصرى الخليجى EGB"]
["ابو ريدة",2938,"2019-02-14",95250,596703,"2019-02-28","مصر","محصل",null,"سداد جزء من المديونية","بنك المصرى الخليجى EGB"]
["ايزى سويت",2939,"2019-02-24",20930.400000000001,30083,"2019-03-02","التجارى وفا بنك","محصل","كارم","سداد جزء من المديونية","بنك المصرى الخليجى EGB"]
["كابسى",2940,"2019-02-25",182332,1404837229,"2019-03-02","الامارات دبى الوطنى-NBD","محصل","ميدل ايست","سداد جزء من المديونية","بنك الامارات دبى NBD"]
["بروتال للبويات",2941,"2019-02-28",21732.73,38176738,"2019-03-04","الاهلى القطرى (QNB)","تحت التحصيل","الحسن الباجورى","سداد جزء من المديونية","بنك المصرى الخليجى EGB"]
["سيراميك الدولية",2942,"2019-03-02",61015,18377793,"2019-03-02","العربى الافريقى","محصل","الحسن الباجورى","سداد جزء من المديونية","بنك المصرى الخليجى EGB"]
["ايليت",2943,"2019-03-02",149762.25,1002406540,"2019-03-04","كريدى اجريكول ","محصل","على حسن","سداد جزء من المديونية","بنك المصرى الخليجى EGB"]
["ايليت",2944,"2019-03-02",50052.97,1002406542,"2019-03-04","كريدى اجريكول ","يصرف نقدا","على حسن","سداد جزء من المديونية"]
["ايليت",2945,"2019-03-02",62187.47,100202406550,"2019-03-04","كريدى اجريكول ","يصرف نقدا","على حسن","سداد جزء من المديونية"]
["البرج",2946,"2019-03-07",114666.75,1404774104,"2019-03-06","الامارات دبى الوطنى-NBD","محصل","الحسن الباجورى","سداد جزء من المديونية","بنك الامارات دبى NBD"]
["شركة النحاس المصرية",2947,"2019-03-02",2690.4,17000024564,"2019-03-06","الاهلى المصرى","تحت التحصيل","كارم","سداد جزء من المديونية","بنك المصرى الخليجى EGB"]
["سكيب",2948,"2019-03-14",132741.6,34760482,"2019-03-10","الاهلى القطرى (QNB)","مؤجل","الحسن الباجورى","سداد جزء من المديونية"]
["الكان",2949,"2019-02-21",30147.5,38123739,"2019-11-03","الاهلى القطرى qnb","تحت التحصل","الحسن الباجورى"]
["كومبتكس",2950,"2019-03-09",11325.6,180917006826,"2019-03-11","الاسكندرية","تحت التحصيل","الحسن الباجورى","سداد جزء من المديونية"]
["بينرا",2951,"2019-04-08",50000,505693859,"2019-03-12","CIB","مؤجل","المكتب ","سداد جزء من المديونية"]
["بينرا",2952,"2019-04-23",50000,505693860,"2019-03-12","CIB","مؤجل","المكتب ","سداد جزء من المديونية"]
["سيراميك الفا",2953,"2019-03-25",14104.65,44371512,"2019-03-13","المصرى للتنمية الصادرات","مؤجل","ميدل ايست","سداد جزء من المديونية"]

{"sheet":"نقدية فيبر","index":3,"n_rows":2000,"n_cols":12,"rows_kept":2000,"cut":false,"hidden":false,"merged":[[3,7,4,8]]}
[]
[]
[]
[null,null,null,null,null,null,null,{"$f":"$K$2000","v":142}]
[null,null,"كشف حساب خزينة الفيبر "]
[]
["اسم العميل","رقم الاذن","المبلغ","اسم المندزب","البيان","اسم المورد / العهدة","رقم الاذن","المبلغ ","البيان","التاريخ","الرصيد","مجمع عملاء"]
["رصيد اول",null,17505,null,"رصيد اول يناير2019",null,null,null,null,null,{"$f":"SUMPRODUCT($C$8:C8-$H$8:H8)","v":17505}]
["شركة الفادى",1356,46000,null,null,"المغاورى",2496,15000,null,"2019-01-03",{"$f":"SUMPRODUCT($C$8:C9-$H$8:H9)","v":48505}]
["سداد سلفة رمضان بيطيخ",1357,100,null,null,"الطباخ",2497,50000,null,"2019-01-03",{"$f":"SUMPRODUCT($C$8:C10-$H$8:H10)","v":-1395}]
["البنك",1358,80000,null,"صرف شيك","جارى صاحب المنشاءة",2498,20000,null,"2019-01-03",{"$f":"SUMPRODUCT($C$8:C11-$H$8:H11)","v":58605}]
[null,null,null,null,null,"احمد شوقى",2499,7065.25,null,"2019-01-03",{"$f":"SUMPRODUCT($C$8:C12-$H$8:H12)","v":51539.75}]
[null,null,null,null,null,"احمد شوقى",2500,3000,null,"2019-01-03",{"$f":"SUMPRODUCT($C$8:C13-$H$8:H13)","v":48539.75}]
["ايرادات اخرى يومية",1359,26750,null,null,"طارق سعد",2501,20000,null,"2019-01-06",{"$f":"SUMPRODUCT($C$8:C14-$H$8:H14)","v":55289.75}]
[null,null,null,null,null,"المغاورى",2502,29535.5,null,"2019-01-06",{"$f":"SUMPRODUCT($C$8:C15-$H$8:H15)","v":25754.25}]
[null,null,null,null,null,"المغاورى",2503,5560,null,"2019-01-06",{"$f":"SUMPRODUCT($C$8:C16-$H$8:H16)","v":20194.25}]
["عمارة جراند تاور",1360,3000,null,null,"المغاورى",2504,4000,null,"2019-01-08",{"$f":"SUMPRODUCT($C$8:C17-$H$8:H17)","v":19194.25}]
["عمارة رقم 147",1361,450,"رمضان","اصلاح","الطباخ",2505,62000,null,"2019-01-09",{"$f":"SUMPRODUCT($C$8:C18-$H$8:H18)","v":-42355.75}]
["البنك",1362,50000,null,"صرف شيك","سلفة سامح وطنية",2506,2000,null,"2019-01-09",{"$f":"SUMPRODUCT($C$8:C19-$H$8:H19)","v":5644.25}]
["سداد سلفة سامح وطنية",1363,500,"المكتب","سداد وهمى",null,null,null,null,"2019-01-09",{"$f":"SUMPRODUCT($C$8:C20-$H$8:H20)","v":6144.25}]
["ايرادات متنوعة",1364,300,null,null,"المغاورى",2507,20850,null,"2019-01-12",{"$f":"SUMPRODUCT($C$8:C21-$H$8:H21)","v":-14405.75}]
["ايرادات اخرى يومية",1365,30939.5,null,null,"المغاورى",2508,9530,null,"2019-01-12",{"$f":"SUMPRODUCT($C$8:C22-$H$8:H22)","v":7003.75}]
[null,null,null,null,null,"لاغى",2509,null,null,"2019-01-12",{"$f":"SUMPRODUCT($C$8:C23-$H$8:H23)","v":7003.75}]
[null,null,null,null,null,"سلف مؤقتة",2510,900,null,"2019-01-12",{"$f":"SUMPRODUCT($C$8:C24-$H$8:H24)","v":6103.75}]
[null,null,null,null,null,"لاغى",2511,null,null,"2019-01-12",{"$f":"SUMPRODUCT($C$8:C25-$H$8:H25)","v":6103.75}]
["البنك",1366,33000,null,"صرف شيك","المغاورى",2512,5000,null,"2019-01-15",{"$f":"SUMPRODUCT($C$8:C26-$H$8:H26)","v":34103.75}]
["عمارة جراند تاور",1367,10500,"قاسم","من تحت الحساب","تامين مصر لصناعة الكيماويات",2513,4000,null,"2019-01-15",{"$f":"SUMPRODUCT($C$8:C27-$H$8:H27)","v":40603.75}]
["احمد الشريف",1368,500,"المكتب","اصلاح","الطباخ",2514,33750,null,"2019-01-15",{"$f":"SUMPRODUCT($C$8:C28-$H$8:H28)","v":7353.75}]
["شركة الفادى",1369,23000,"محمد قاسم","من تحت الحساب","طارق سعد",2515,15000,null,"2019-01-17",{"$f":"SUMPRODUCT($C$8:C29-$H$8:H29)","v":15353.75}]
[null,null,null,null,null,"المغاورى",2516,2000,null,"2019-01-17",{"$f":"SUMPRODUCT($C$8:C30-$H$8:H30)","v":13353.75}]
[null,null,null,null,null,"المغاورى",2517,8800,null,"2019-01-17",{"$f":"SUMPRODUCT($C$8:C31-$H$8:H31)","v":4553.75}]
["ايرادات اخرى يومية",1370,31790.25,null,null,"الطباخ",2518,6200,null,"2019-01-17",{"$f":"SUMPRODUCT($C$8:C32-$H$8:H32)","v":30144}]
["شركة الفادى",1371,23000,null,null,"المغاورى",2519,7000,null,"2019-01-19",{"$f":"SUMPRODUCT($C$8:C33-$H$8:H33)","v":46144}]
[null,null,null,null,null,"المغاورى",2520,10685,null,"2019-01-19",{"$f":"SUMPRODUCT($C$8:C34-$H$8:H34)","v":35459}]
[null,null,null,null,null,"طارق سعد",2521,15000,null,"2019-01-20",{"$f":"SUMPRODUCT($C$8:C35-$H$8:H35)","v":20459}]
[null,null,null,null,null,"المغاورى",2522,10000,null,"2019-01-26",{"$f":"SUMPRODUCT($C$8:C36-$H$8:H36)","v":10459}]
["ايرادات اخرى يومية",1372,70260,null,null,"المغاورى",2523,8215,null,"2019-01-27",{"$f":"SUMPRODUCT($C$8:C37-$H$8:H37)","v":72504}]
[null,null,null,null,null,"المغاورى",2524,6975,null,"2019-01-27",{"$f":"SUMPRODUCT($C$8:C38-$H$8:H38)","v":65529}]
[null,null,null,null,null,"سلف مؤقتة",2525,750,null,"2019-01-27",{"$f":"SUMPRODUCT($C$8:C39-$H$8:H39)","v":64779}]
[null,null,null,null,null,"احمد شوقى",2526,2275,null,"2019-01-27",{"$f":"SUMPRODUCT($C$8:C40-$H$8:H40)","v":62504}]
["البنك",1373,35000,null,"صرف شيك","الطباخ",2527,30000,null,"2019-01-29",{"$f":"SUMPRODUCT($C$8:C41-$H$8:H41)","v":67504}]
["سلف مؤقتة",1374,1650,"المكتب","سلف مؤقتة","المغاورى",2528,7304,null,"2019-01-29","2019-01-29"]
["البنك",1375,50000,null,"صرف شيك","المغاورى",2529,71855,null,"2019-01-29",{"$f":"SUMPRODUCT($C$8:C43-$H$8:H43)","v":39995}]
["سداد سلف العاملين",1376,4150,null,null,"طارق سعد",2530,10000,null,"2019-01-30",{"$f":"SUMPRODUCT($C$8:C44-$H$8:H44)","v":34145}]
["سداد سلف المكتب",1377,750,null,null,"احمد شوقى مع محمود",2531,4000,null,"2019-01-30",{"$f":"SUMPRODUCT($C$8:C45-$H$8:H45)","v":30895}]
["ايرادات اخرى يومية",1378,70522,null,null,"سلفة محمد رمضان",2532,1000,null,"2019-01-31",{"$f":"SUMPRODUCT($C$8:C46-$H$8:H46)","v":100417}]
[null,null,null,null,null,"الطباخ",2533,54000,null,"2019-01-31",{"$f":"SUMPRODUCT($C$8:C47-$H$8:H47)","v":46417}]
[null,null,null,null,null,"المغاورى",2534,6603.5,null,"2019-01-31",{"$f":"SUMPRODUCT($C$8:C48-$H$8:H48)","v":39813.5}]
[null,null,null,null,null,"المغاورى- شيرين",2535,1725,null,"2019-01-31",{"$f":"SUMPRODUCT($C$8:C49-$H$8:H49)","v":38088.5}]
[null,null,null,null,null,"المغاورى",2536,25750,null,"2019-01-03","2019-01-03"]
[null,null,null,null,null,"جارى صاحب المنشاءة",2537,15000,null,"2019-02-03","2019-02-03"]
[null,null,null,null,null,"المغاورى",2538,7820,null,"2019-02-03",{"$f":"SUMPRODUCT($C$8:C52-$H$8:H52)","v":-10481.5}]
[null,null,null,null,null,"المغاورى",2539,20000,null,"2019-02-05",{"$f":"SUMPRODUCT($C$8:C53-$H$8:H53)","v":-30481.5}]
[null,null,null,null,null,"المغاورى",2540,36400,null,"2019-02-05",{"$f":"SUMPRODUCT($C$8:C54-$H$8:H54)","v":-66881.5}]
[null,null,null,null,null,"طارق سعد",2541,25000,null,"2019-02-07","2019-02-07"]
[null,null,null,null,null,"الوطنية",2542,30956.75,null,"2019-02-07","2019-02-07"]
[null,null,null,null,null,"حسن مصطفى",2543,9043.25,null,"2019-02-07",{"$f":"SUMPRODUCT($C$8:C57-$H$8:H57)","v":-131881.5}]
[null,null,null,null,null,"جارى صاحب المنشاءة",2544,15000,null,"2019-02-07",{"$f":"SUMPRODUCT($C$8:C58-$H$8:H58)","v":-146881.5}]
[null,null,null,null,null,"المغاورى",2545,12550,null,"2019-02-07",{"$f":"SUMPRODUCT($C$8:C59-$H$8:H59)","v":-159431.5}]
[null,null,null,null,null,"طارق سعد",2546,20000,null,"2019-02-07",{"$f":"SUMPRODUCT($C$8:C60-$H$8:H60)","v":-179431.5}]
[null,null,null,null,null,"جارى صاحب المنشاءة",2547,250000,null,"2019-02-07",{"$f":"SUMPRODUCT($C$8:C61-$H$8:H61)","v":-429431.5}]
[null,null,null,null,null,"سلف مؤقتة",2548,150,"سلف مؤقتة بمعرفة شيرين","2019-07-02",{"$f":"SUMPRODUCT($C$8:C62-$H$8:H62)","v":-429581.5}]
[null,null,null,null,null,"المغاورى",2549,9789,"مصاريف المصنع بمعرفة شيرين6-2-2019","2019-07-02",{"$f":"SUMPRODUCT($C$8:C63-$H$8:H63)","v":-439370.5}]
["بنك الوطنية",1379,10500,"المكتب","من تحت حساب المديونية",null,null,null,null,"2019-03-02",{"$f":"SUMPRODUCT($C$8:C64-$H$8:H64)","v":-428870.5}]
["فتحى محمود",1380,17640,"المكتب","من تحت حساب المديونية",null,null,null,null,"2019-03-02",{"$f":"SUMPRODUCT($C$8:C65-$H$8:H65)","v":-411230.5}]
["بنك الوطنية",1381,40000,"المكتب","من تحت حساب المديونية",null,null,null,null,"2019-05-02",{"$f":"SUMPRODUCT($C$8:C66-$H$8:H66)","v":-371230.5}]
["شركة طيبة",1382,2000,"عادل عبد العزيز","من تحت حساب المديونية",null,null,null,null,"2019-05-02",{"$f":"SUMPRODUCT($C$8:C67-$H$8:H67)","v":-369230.5}]
["جارى بلاستيك",1383,145000,"المكتب","من تحت حساب المديونية",null,null,null,null,"2019-07-02",{"$f":"SUMPRODUCT($C$8:C68-$H$8:H68)","v":-224230.5}]
["رد عهدة المغاورى",1384,355000,"المكتب","من تحت حساب المديونية",null,null,null,null,"2019-07-02",{"$f":"SUMPRODUCT($C$8:C69-$H$8:H69)","v":130769.5}]
["بيع براميل",1385,2475,"المكتب","39-6*75=2475",null,null,null,null,"2019-07-02",{"$f":"SUMPRODUCT($C$8:C70-$H$8:H70)","v":133244.5}]
["ايرادات اخرى يومية",1386,58012.75,"المكتب","ايرادات الوطنية من رقم 27الى32",null,null,null,null,"2019-07-02",{"$f":"SUMPRODUCT($C$8:C71-$H$8:H71)","v":191257.25}]
["فندق جدة",1387,500,"المكتب","توريد غطاء جزان",null,null,null,null,"2019-12-02",{"$f":"SUMPRODUCT($C$8:C72-$H$8:H72)","v":191757.25}]
["سلفة / السيد الشافعى",1388,10000,"المكتب","سداد سلف",null,null,null,null,"2019-12-02",{"$f":"SUMPRODUCT($C$8:C73-$H$8:H73)","v":201757.25}]
[null,null,null,null,null,null,null,null,null,"2019-12-02",{"$f":"SUMPRODUCT($C$8:C74-$H$8:H74)","v":201757.25}]
[null,null,null,null,null,"المغاورى",2550,35000,"19100مكافات مكتب +15900نقدا","2019-12-02",{"$f":"SUMPRODUCT($C$8:C75-$H$8:H75)","v":166757.25}]
[null,null,null,null,null,"طارق سعد",2551,40000,"من تحت الحساب","2019-12-02",{"$f":"SUMPRODUCT($C$8:C76-$H$8:H76)","v":126757.25}]
[null,null,null,null,null,"عمرو للاستراد",2552,50000,"من تحت الحساب","2019-12-02",{"$f":"SUMPRODUCT($C$8:C77-$H$8:H77)","v":76757.25}]
[null,null,null,null,null,"الاسكندرية لتوزيع الكهرباء",2553,12125,"تامين","2019-12-02",{"$f":"SUMPRODUCT($C$8:C78-$H$8:H78)","v":64632.25}]
[null,null,null,null,null,"سلفة / محمد قاسم",2554,1000,"سلفة قاسم ","2019-12-02",{"$f":"SUMPRODUCT($C$8:C79-$H$8:H79)","v":63632.25}]
[null,null,null,null,null,"المغاورى",2555,9010,"عهدة بدل اجازات المصنع","2019-12-02",{"$f":"SUMPRODUCT($C$8:C80-$H$8:H80)","v":54622.25}]
["شركة طيبة",1389,5600,"عادل عبد العزيز","من تحت حساب المديونية",null,null,null,null,"14/2/2019",{"$f":"SUMPRODUCT($C$8:C81-$H$8:H81)","v":60222.25}]
[null,null,null,null,null,"المغاورى",2556,10000,"عهدة مالية نقدا","14/2/2019",{"$f":"SUMPRODUCT($C$8:C82-$H$8:H82)","v":50222.25}]
[null,null,null,null,null,"عمرو للاستراد",2557,40000,"من تحت حساب المديونية","14/2/2019",{"$f":"SUMPRODUCT($C$8:C83-$H$8:H83)","v":10222.25}]
[null,null,null,null,null,"سلف مؤقتة",2558,170,null,"14/2/2019",{"$f":"SUMPRODUCT($C$8:C84-$H$8:H84)","v":10052.25}]
[null,null,null,null,null,"المغاورى",2559,6725,"مصاريف المصنع بمعرفة شيرين","14/2/2019",{"$f":"SUMPRODUCT($C$8:C85-$H$8:H85)","v":3327.25}]
[null,null,null,null,null," م/ احمد شوقى",2560,3000,"عهدة مالية نقدا","14/2/2019",{"$f":"SUMPRODUCT($C$8:C86-$H$8:H86)","v":327.25}]
["ايرادات اخرى يومية",1390,37044.5,"المكتب","من تحت حساب المديونية من 33الى 41",null,null,null,null,"17/2/2019",{"$f":"SUMPRODUCT($C$8:C87-$H$8:H87)","v":37371.75}]
["بنك الامارات NBD",1391,70000,"المكتب","من تحت حساب المديونية",null,null,null,null,"17/2/2019",{"$f":"SUMPRODUCT($C$8:C88-$H$8:H88)","v":107371.75}]
[null,null,null,null,null,"طارق سعد",2561,20000,"من تحت الحساب","17/2/2019",{"$f":"SUMPRODUCT($C$8:C89-$H$8:H89)","v":87371.75}]
[null,null,null,null,null,"الطباخ",2562,56000,"من تحت الحساب","17/2/2019",{"$f":"SUMPRODUCT($C$8:C90-$H$8:H90)","v":31371.75}]
[null,null,null,null,null," م/ احمد شوقى",2563,2000,"عهدة مالية نقدا ليد م /خالد","17/2/2019",{"$f":"SUMPRODUCT($C$8:C91-$H$8:H91)","v":29371.75}]
["الصرف الصحى",1392,37455,null,"من تحت حساب المديونية",null,null,null,null,"17/2/2019",{"$f":"SUMPRODUCT($C$8:C92-$H$8:H92)","v":66826.75}]
[null,null,null,null,null,"المغاورى",2564,5000,"عهدة مالية نقدا","17/2/2019",{"$f":"SUMPRODUCT($C$8:C93-$H$8:H93)","v":61826.75}]
[null,null,null,null,null,"شركة مصر لصناعة الكيماويات",2565,17546,"استكمال تامين","17/2/2019",{"$f":"SUMPRODUCT($C$8:C94-$H$8:H94)","v":44280.75}]
[null,null,null,null,null,"طارق سعد",2566,25000,null,"19/2/2019",{"$f":"SUMPRODUCT($C$8:C95-$H$8:H95)","v":19280.75}]
[null,null,null,null,null,"المغاورى",2567,15000,"12950مصاريف +2050نقدا","19/2/2019",{"$f":"SUMPRODUCT($C$8:C96-$H$8:H96)","v":4280.75}]
["اسامة ابو زيد",1393,550,null,"من تحت حساب المديونية",null,null,null,null,"21/2/2019",{"$f":"SUMPRODUCT($C$8:C97-$H$8:H97)","v":4830.75}]
["شركة اليكس باك",1394,30000,"محمدقاسم","من تحت حساب المديونية",null,null,null,null,"21/2/2019",{"$f":"SUMPRODUCT($C$8:C98-$H$8:H98)","v":34830.75}]
[null,null,null,null,null,"المغاورى",2568,7000,"عهدة مالية","21/2/2019",{"$f":"SUMPRODUCT($C$8:C99-$H$8:H99)","v":27830.75}]
[null,null,null,null,null,"المغاورى",2569,3300,"عهدة خالد","21/2/2019",{"$f":"SUMPRODUCT($C$8:C100-$H$8:H100)","v":24530.75}]
[null,null,null,null,null," م/ احمد شوقى",2570,7000,"عهدة مالية","21/2/2019",{"$f":"SUMPRODUCT($C$8:C101-$H$8:H101)","v":17530.75}]
[null,null,null,null,null,"المغاورى",2571,6975,"مصاريف شيرين بالمصنع","21/2/2019",{"$f":"SUMPRODUCT($C$8:C102-$H$8:H102)","v":10555.75}]
[null,null,null,null,null,"سلف مؤقتة",2572,350,null,"21/2/2019",{"$f":"SUMPRODUCT($C$8:C103-$H$8:H103)","v":10205.75}]
[null,null,null,null,null," م/ احمد شوقى",2573,3000,"عهدة مالية","21/2/2019",{"$f":"SUMPRODUCT($C$8:C104-$H$8:H104)","v":7205.75}]
["ينك مصر",1395,20000,"المكتب","سحب بمعرفة م/ خالد (المعاش)",null,null,null,null,"22/2/2019",{"$f":"SUMPRODUCT($C$8:C105-$H$8:H105)","v":27205.75}]
["ايرادات اخرى يومية",1396,62471.5,null,"الوطنية من 42 الى 47",null,null,null,null,"22/2/2019",{"$f":"SUMPRODUCT($C$8:C106-$H$8:H106)","v":89677.25}]
[null,null,null,null,null,"معاش م / خالد",2574,19718,"معاش م خالدمن يناير2017 حتى مارس 2019","22/2/2019",{"$f":"SUMPRODUCT($C$8:C107-$H$8:H107)","v":69959.25}]
["بنك الامارات NBD",1397,60000,null,"سحب من البنك",null,null,null,null,"24/2/2019",{"$f":"SUMPRODUCT($C$8:C108-$H$8:H108)","v":129959.25}]
[null,null,null,null,null,"طارق سعد",2575,20000,"فى بنك الامارات","24/2/2019",{"$f":"SUMPRODUCT($C$8:C109-$H$8:H109)","v":109959.25}]
[null,null,null,null,null,"عمرو للاستراد",2576,39205,"فى بنك saib","24/2/2019",{"$f":"SUMPRODUCT($C$8:C110-$H$8:H110)","v":70754.25}]
[null,null,null,null,null,"الاسكندرية لتوزيع الكهرباء",2577,12780,"تامين سلالم الكهرباء","24/2/2019",{"$f":"SUMPRODUCT($C$8:C111-$H$8:H111)","v":57974.25}]
["ايرادات متنوعة",1398,300,"المكتب ","الحاج مصطفى  فرق حصوة",null,null,null,null,"25/2/2019",{"$f":"SUMPRODUCT($C$8:C112-$H$8:H112)","v":58274.25}]
["صبرى سليمان الشهاوى",1399,1200,"المكتب ","2عطاء خزان 5متر القاهرة",null,null,null,null,"25/2/2019",{"$f":"SUMPRODUCT($C$8:C113-$H$8:H113)","v":59474.25}]
["مستشفى زمزم",1400,3000,"محمد قاسم","دفعة مقدمة من 1 فى 7.5متر م بسعر 6000",null,null,null,null,"25/2/2019",{"$f":"SUMPRODUCT($C$8:C114-$H$8:H114)","v":62474.25}]
[null,null,null,null,null,null,null,null,null,"25/2/2019",{"$f":"SUMPRODUCT($C$8:C115-$H$8:H115)","v":62474.25}]
[null,null,null,null,null,"المغاورى",2578,17000,"عهدة مالية نقدا","25/2/2019",{"$f":"SUMPRODUCT($C$8:C116-$H$8:H116)","v":45474.25}]
[null,null,null,null,null,"المغاورى",2579,2500,"عهدة فرج لشراء معدات","25/2/2019",{"$f":"SUMPRODUCT($C$8:C117-$H$8:H117)","v":42974.25}]
[null,null,null,null,null,"عمرو للاستراد",2580,45000,"ايدع فى بنك  ","27/2/2019",{"$f":"SUMPRODUCT($C$8:C118-$H$8:H118)","v":-2025.75}]
["فيلا / يحيى قاسم",1401,5000,"محمد قاسم ","من تحت حساب المديونية ",null,null,null,null,"25/2/2019",{"$f":"SUMPRODUCT($C$8:C119-$H$8:H119)","v":2974.25}]
["سلف مؤقتة",1402,670,"المكتب ","من تحت حساب المديونية",null,null,null,null,"25/2/2019",{"$f":"SUMPRODUCT($C$8:C120-$H$8:H120)","v":3644.25}]
["جارى صاحب المنشاءة",1403,200000,"المكتب ","من تحت حساب المديونية",null,null,null,null,"27/2/2019",{"$f":"SUMPRODUCT($C$8:C121-$H$8:H121)","v":203644.25}]
["بنك الامارات NBD",1404,50000,"المكتب ","من تحت حساب المديونية",null,null,null,null,"27/2/2019",{"$f":"SUMPRODUCT($C$8:C122-$H$8:H122)","v":253644.25}]
["مارينا لسقالات",1405,44040,"اسلام ","من تحت حساب المديونية",null,null,null,null,"27/2/2019",{"$f":"SUMPRODUCT($C$8:C123-$H$8:H123)","v":297684.25}]
["سداد سلف العاملين",1406,2050,"مصنع الفيبر","من تحت حساب المديونية",null,null,null,null,"28/2/2019",{"$f":"SUMPRODUCT($C$8:C124-$H$8:H124)","v":299734.25}]
["ايرادات اخرى يومية",1407,14711.5,"المكتب ","ايرادات الوطنية من 48الى53",null,null,null,null,"28/2/2019",{"$f":"SUMPRODUCT($C$8:C125-$H$8:H125)","v":314445.75}]
[null,null,null,null,null,"المغاورى",2581,2000,"عهدة مالية نقدا","28/2/2019",{"$f":"SUMPRODUCT($C$8:C126-$H$8:H126)","v":312445.75}]
[null,null,null,null,null,"المغاورى",2582,3000,"عهدة مالية نقدا","28/2/2019",{"$f":"SUMPRODUCT($C$8:C127-$H$8:H127)","v":309445.75}]
[null,null,null,null,null,"المغاورى",2583,67985,"عهدة مرتبات المصنع","28/2/2019",{"$f":"SUMPRODUCT($C$8:C128-$H$8:H128)","v":241460.75}]
[null,null,null,null,null,"لاغى",2584,0,null,"28/2/2019",{"$f":"SUMPRODUCT($C$8:C129-$H$8:H129)","v":241460.75}]
[null,null,null,null,null,"المغاورى",2585,13150,"مكافات المصنع الدفعة التانية","28/2/2019",{"$f":"SUMPRODUCT($C$8:C130-$H$8:H130)","v":228310.75}]
[null,null,null,null,null,"شركة تراست",2586,75000,"ايداع فى بنك ابو ظبى","28/2/2019",{"$f":"SUMPRODUCT($C$8:C131-$H$8:H131)","v":153310.75}]
[null,null,null,null,null,"المغاورى",2587,9775,"مصاريف مصنع الفيبر بمعرفة شيرين28/2","2019-02-28",{"$f":"SUMPRODUCT($C$8:C132-$H$8:H132)","v":143535.75}]
[null,null,null,null,null," م/ احمد شوقى",2588,2812,"عهدة مالية من تحصلات","2019-02-28",{"$f":"SUMPRODUCT($C$8:C133-$H$8:H133)","v":140723.75}]
["سلفة /  محمد قاسم",1408,2000,"المكتب ","من تحت حساب السلفة وباقى 4000",null,null,null,null,"2019-03-02",{"$f":"SUMPRODUCT($C$8:C134-$H$8:H134)","v":142723.75}]
["سداد سلف الموطفين بالمكتب",1409,750,"المكتب ","من تحت حساب المديونية",null,null,null,null,"2019-03-02",{"$f":"SUMPRODUCT($C$8:C135-$H$8:H135)","v":143473.75}]
[null,null,null,null,null,"المغاورى",2589,24645,"مرتبات المكتب","2019-03-02",{"$f":"SUMPRODUCT($C$8:C136-$H$8:H136)","v":118828.75}]
[null,null,null,null,null,"جارى صاحب المنشاةء",2590,40000,null,"2019-03-02",{"$f":"SUMPRODUCT($C$8:C137-$H$8:H137)","v":78828.75}]
["م / نيفين",1410,550,"المكتب ","اصلاح و تركيب",null,null,null,null,"2019-03-04",{"$f":"SUMPRODUCT($C$8:C138-$H$8:H138)","v":79378.75}]
["سلف مؤقتة",1411,600,"المكتب ","رد سلفة احمد على",null,null,null,null,"2019-03-04",{"$f":"SUMPRODUCT($C$8:C139-$H$8:H139)","v":79978.75}]
["د / يحيى عثمان",1412,550,"المكتب ","اصلاح و تركيب",null,null,null,null,"2019-03-04",{"$f":"SUMPRODUCT($C$8:C140-$H$8:H140)","v":80528.75}]
["سلفة / محمد خالد",1413,2811,"المكتب ","7900-2811يكون الباقى 5089",null,null,null,null,"2019-03-04",{"$f":"SUMPRODUCT($C$8:C141-$H$8:H141)","v":83339.75}]
["بنك الامارات NBD",1414,29000,"المكتب ","صرف شيك",null,null,null,null,"2019-03-04",{"$f":"SUMPRODUCT($C$8:C142-$H$8:H142)","v":112339.75}]
[null,null,null,null,null,"المغاورى",2591,6633,"مصاريف بمعرفة ثروت","2019-03-04",{"$f":"SUMPRODUCT($C$8:C143-$H$8:H143)","v":105706.75}]
[null,null,null,null,null,"طارق سعد",2592,15000,"ايدع فى بنك الامارات","2019-03-04",{"$f":"SUMPRODUCT($C$8:C144-$H$8:H144)","v":90706.75}]
[null,null,null,null,null,"شركة تراست",2593,75000,"ايدع فى بنك ابو ظبى","2019-03-04",{"$f":"SUMPRODUCT($C$8:C145-$H$8:H145)","v":15706.75}]
["عمرو موسى",1415,2812,"مصنع الفيبر","الوح ايكون",null,null,null,null,"2019-03-06",{"$f":"SUMPRODUCT($C$8:C146-$H$8:H146)","v":18518.75}]
["مجمع الكرنك",1416,6566,"مصنع الفيبر","الوح ايكون",null,null,null,null,"2019-03-06",{"$f":"SUMPRODUCT($C$8:C147-$H$8:H147)","v":25084.75}]
["اباظة",1417,4850,"مصنع الفيبر","عدد 6 الوح ايكون",null,null,null,null,"2019-03-06",{"$f":"SUMPRODUCT($C$8:C148-$H$8:H148)","v":29934.75}]
["مصر الخليج",1418,7500,"مصنع الفيبر","عدد 42 الوح ايكون",null,null,null,null,"2019-03-06",{"$f":"SUMPRODUCT($C$8:C149-$H$8:H149)","v":37434.75}]
["مستشفى زمزم",1419,3000,"محمد قاسم","من تحت الحساب",null,null,null,null,"2019-03-06",{"$f":"SUMPRODUCT($C$8:C150-$H$8:H150)","v":40434.75}]
[null,null,null,null,null,"المغاورى",2594,17000,"7411.75بمعرفة ثروت و 9588.25نقدا","2019-03-06",{"$f":"SUMPRODUCT($C$8:C151-$H$8:H151)","v":23434.75}]
["بيع براميل",1420,4310,"مصنع الفيبر","من تحت حساب المديونية",null,null,null,null,"2019-03-10",{"$f":"SUMPRODUCT($C$8:C152-$H$8:H152)","v":27744.75}]
["ايرادات اخرى يومية",1421,10739.5,"المكتب ","ايراد الوطنية من 54الى58",null,null,null,null,"2019-03-10",{"$f":"SUMPRODUCT($C$8:C153-$H$8:H153)","v":38484.25}]
["شركة اليكس باك",1422,25000,"محمد قاسم","محم تحت الحساب",null,null,null,null,"2019-03-10",{"$f":"SUMPRODUCT($C$8:C154-$H$8:H154)","v":63484.25}]
["ايرادات متنوعة",1423,25,"مصنع الفيبر","عدد 2 ببة",null,null,null,null,"2019-03-10",{"$f":"SUMPRODUCT($C$8:C155-$H$8:H155)","v":63509.25}]
["ايرادات اخرى يومية",1424,39669.75,"المكتب ","ايراد الوطنية من59الى61",null,null,null,null,"2019-03-10",{"$f":"SUMPRODUCT($C$8:C156-$H$8:H156)","v":103179}]
[null,null,null,null,null,"لاغى",2595,0,null,"2019-03-10",{"$f":"SUMPRODUCT($C$8:C157-$H$8:H157)","v":103179}]
[null,null,null,null,null,"عمرو للاستراد",2596,30000,"ايدع فى بنك saib","2019-03-10",{"$f":"SUMPRODUCT($C$8:C158-$H$8:H158)","v":73179}]
[null,null,null,null,null," م/ احمد شوقى",2597,4190,"عهدة مالية","2019-03-10",{"$f":"SUMPRODUCT($C$8:C159-$H$8:H159)","v":68989}]
[null,null,null,null,null," م/ احمد شوقى",2598,11900,"عهدة مالية","2019-03-10",{"$f":"SUMPRODUCT($C$8:C160-$H$8:H160)","v":57089}]
[null,null,null,null,null,"المغاورى",2599,14600,"مصاريف + 12000عهدة مشتريات","2019-03-10",{"$f":"SUMPRODUCT($C$8:C161-$H$8:H161)","v":42489}]
[null,null,null,null,null,"المغاورى",2600,4027,"عهدة مالية","2019-03-10",{"$f":"SUMPRODUCT($C$8:C162-$H$8:H162)","v":38462}]
[null,null,null,null,null,"انور",2601,3000,"فيبرحصيرة","2019-03-10",{"$f":"SUMPRODUCT($C$8:C163-$H$8:H163)","v":35462}]
[null,null,null,null,null,"طارق سعد",2602,20000,"من تحت الحساب","2019-03-10",{"$f":"SUMPRODUCT($C$8:C164-$H$8:H164)","v":15462}]
[null,null,null,null,null,"شركة مصر لصناعة الكيماويات",2603,3500,"تامين مناقصة توريد تنك","2019-03-10",{"$f":"SUMPRODUCT($C$8:C165-$H$8:H165)","v":11962}]
[null,null,null,null,null,"المغاورى",2604,1820,"1250+570","2019-03-10",{"$f":"SUMPRODUCT($C$8:C166-$H$8:H166)","v":10142}]
["فيلا / يحيى قاسم",1425,5000,"محمد قاسم","باقى الحساب خالص",null,null,null,null,"2019-03-12",{"$f":"SUMPRODUCT($C$8:C167-$H$8:H167)","v":15142}]
[null,null,null,null,null,"المغاورى",2605,15000,"12000عهدة ربط تامنى +843.5مكافاة اسلام+2156.5نقدا","2019-03-12",{"$f":"SUMPRODUCT($C$8:C168-$H$8:H168)","v":142}]
[null,null,null,null,null,null,null,null,null,null,{"$f":"SUMPRODUCT($C$8:C169-$H$8:H169)","v":142}]
[null,null,null,null,null,null,null,null,null,null,{"$f":"SUMPRODUCT($C$8:C170-$H$8:H170)","v":142}]
[null,null,null,null,null,null,null,null,null,null,{"$f":"SUMPRODUCT($C$8:C171-$H$8:H171)","v":142}]
[null,null,null,null,null,null,null,null,null,null,{"$f":"SUMPRODUCT($C$8:C172-$H$8:H172)","v":142}]
[null,null,null,null,null,null,null,null,null,null,{"$f":"SUMPRODUCT($C$8:C173-$H$8:H173)","v":142}]
[null,null,null,null,null,null,null,null,null,null,{"$f":"SUMPRODUCT($C$8:C174-$H$8:H174)","v":142}]
[null,null,null,null,null,null,null,null,null,null,{"$f":"SUMPRODUCT($C$8:C175-$H$8:H175)","v":142}]
[null,null,null,null,null,null,null,null,null,null,{"$f":"SUMPRODUCT($C$8:C176-$H$8:H176)","v":142}]
[null,null,null,null,null,null,null,null,null,null,{"$f":"SUMPRODUCT($C$8:C177-$H$8:H177)","v":142}]
[null,null,null,null,null,null,null,null,null,null,{"$f":"SUMPRODUCT($C$8:C178-$H$8:H178)","v":142}]
[null,null,null,null,null,null,null,null,null,null,{"$f":"SUMPRODUCT($C$8:C179-$H$8:H179)","v":142}]
[null,null,null,null,null,null,null,null,null,null,{"$f":"SUMPRODUCT($C$8:C180-$H$8:H180)","v":142}]
[null,null,null,null,null,null,null,null,null,null,{"$f":"SUMPRODUCT($C$8:C181-$H$8:H181)","v":142}]
[null,null,null,null,null,null,null,null,null,null,{"$f":"SUMPRODUCT($C$8:C182-$H$8:H182)","v":142}]
[null,null,null,null,null,null,null,null,null,null,{"$f":"SUMPRODUCT($C$8:C183-$H$8:H183)","v":142}]
[null,null,null,null,null,null,null,null,null,null,{"$f":"SUMPRODUCT($C$8:C184-$H$8:H184)","v":142}]
[null,null,null,null,null,null,null,null,null,null,{"$f":"SUMPRODUCT($C$8:C185-$H$8:H185)","v":142}]
[null,null,null,null,null,null,null,null,null,null,{"$f":"SUMPRODUCT($C$8:C186-$H$8:H186)","v":142}]
[null,null,null,null,null,null,null,null,null,null,{"$f":"SUMPRODUCT($C$8:C187-$H$8:H187)","v":142}]
[null,null,null,null,null,null,null,null,null,null,{"$f":"SUMPRODUCT($C$8:C188-$H$8:H188)","v":142}]
[null,null,null,null,null,null,null,null,null,null,{"$f":"SUMPRODUCT($C$8:C189-$H$8:H189)","v":142}]
[null,null,null,null,null,null,null,null,null,null,{"$f":"SUMPRODUCT($C$8:C190-$H$8:H190)","v":142}]
[null,null,null,null,null,null,null,null,null,null,{"$f":"SUMPRODUCT($C$8:C191-$H$8:H191)","v":142}]
[null,null,null,null,null,null,null,null,null,null,{"$f":"SUMPRODUCT($C$8:C192-$H$8:H192)","v":142}]
[null,null,null,null,null,null,null,null,null,null,{"$f":"SUMPRODUCT($C$8:C193-$H$8:H193)","v":142}]
[null,null,null,null,null,null,null,null,null,null,{"$f":"SUMPRODUCT($C$8:C194-$H$8:H194)","v":142}]
[null,null,null,null,null,null,null,null,null,null,{"$f":"SUMPRODUCT($C$8:C195-$H$8:H195)","v":142}]
[null,null,null,null,null,null,null,null,null,null,{"$f":"SUMPRODUCT($C$8:C196-$H$8:H196)","v":142}]
[null,null,null,null,null,null,null,null,null,null,{"$f":"SUMPRODUCT($C$8:C197-$H$8:H197)","v":142}]
[null,null,null,null,null,null,null,null,null,null,{"$f":"SUMPRODUCT($C$8:C198-$H$8:H198)","v":142}]
[null,null,null,null,null,null,null,null,null,null,{"$f":"SUMPRODUCT($C$8:C199-$H$8:H199)","v":142}]
[null,null,null,null,null,null,null,null,null,null,{"$f":"SUMPRODUCT($C$8:C200-$H$8:H200)","v":142}]
[null,null,null,null,null,null,null,null,null,null,{"$f":"SUMPRODUCT($C$8:C201-$H$8:H201)","v":142}]
[null,null,null,null,null,null,null,null,null,null,{"$f":"SUMPRODUCT($C$8:C202-$H$8:H202)","v":142}]
[null,null,null,null,null,null,null,null,null,null,{"$f":"SUMPRODUCT($C$8:C203-$H$8:H203)","v":142}]
[null,null,null,null,null,null,null,null,null,null,{"$f":"SUMPRODUCT($C$8:C204-$H$8:H204)","v":142}]
[null,null,null,null,null,null,null,null,null,null,{"$f":"SUMPRODUCT($C$8:C205-$H$8:H205)","v":142}]
[null,null,null,null,null,null,null,null,null,null,{"$f":"SUMPRODUCT($C$8:C206-$H$8:H206)","v":142}]
[null,null,null,null,null,null,null,null,null,null,{"$f":"SUMPRODUCT($C$8:C207-$H$8:H207)","v":142}]
[null,null,null,null,null,null,null,null,null,null,{"$f":"SUMPRODUCT($C$8:C208-$H$8:H208)","v":142}]
[null,null,null,null,null,null,null,null,null,null,{"$f":"SUMPRODUCT($C$8:C209-$H$8:H209)","v":142}]
[null,null,null,null,null,null,null,null,null,null,{"$f":"SUMPRODUCT($C$8:C210-$H$8:H210)","v":142}]
[null,null,null,null,null,null,null,null,null,null,{"$f":"SUMPRODUCT($C$8:C211-$H$8:H211)","v":142}]
[null,null,null,null,null,null,null,null,null,null,{"$f":"SUMPRODUCT($C$8:C212-$H$8:H212)","v":142}]
[null,null,null,null,null,null,null,null,null,null,{"$f":"SUMPRODUCT($C$8:C213-$H$8:H213)","v":142}]
[null,null,null,null,null,null,null,null,null,null,{"$f":"SUMPRODUCT($C$8:C214-$H$8:H214)","v":142}]
[null,null,null,null,null,null,null,null,null,null,{"$f":"SUMPRODUCT($C$8:C215-$H$8:H215)","v":142}]
[null,null,null,null,null,null,null,null,null,null,{"$f":"SUMPRODUCT($C$8:C216-$H$8:H216)","v":142}]
[null,null,null,null,null,null,null,null,null,null,{"$f":"SUMPRODUCT($C$8:C217-$H$8:H217)","v":142}]
[null,null,null,null,null,null,null,null,null,null,{"$f":"SUMPRODUCT($C$8:C218-$H$8:H218)","v":142}]
[null,null,null,null,null,null,null,null,null,null,{"$f":"SUMPRODUCT($C$8:C219-$H$8:H219)","v":142}]
[null,null,null,null,null,null,null,null,null,null,{"$f":"SUMPRODUCT($C$8:C220-$H$8:H220)","v":142}]
[null,null,null,null,null,null,null,null,null,null,{"$f":"SUMPRODUCT($C$8:C221-$H$8:H221)","v":142}]
[null,null,null,null,null,null,null,null,null,null,{"$f":"SUMPRODUCT($C$8:C222-$H$8:H222)","v":142}]
[null,null,null,null,null,null,null,null,null,null,{"$f":"SUMPRODUCT($C$8:C223-$H$8:H223)","v":142}]
[null,null,null,null,null,null,null,null,null,null,{"$f":"SUMPRODUCT($C$8:C224-$H$8:H224)","v":142}]
[null,null,null,null,null,null,null,null,null,null,{"$f":"SUMPRODUCT($C$8:C225-$H$8:H225)","v":142}]
[null,null,null,null,null,null,null,null,null,null,{"$f":"SUMPRODUCT($C$8:C226-$H$8:H226)","v":142}]
[null,null,null,null,null,null,null,null,null,null,{"$f":"SUMPRODUCT($C$8:C227-$H$8:H227)","v":142}]
[null,null,null,null,null,null,null,null,null,null,{"$f":"SUMPRODUCT($C$8:C228-$H$8:H228)","v":142}]
[null,null,null,null,null,null,null,null,null,null,{"$f":"SUMPRODUCT($C$8:C229-$H$8:H229)","v":142}]
[null,null,null,null,null,null,null,null,null,null,{"$f":"SUMPRODUCT($C$8:C230-$H$8:H230)","v":142}]
[null,null,null,null,null,null,null,null,null,null,{"$f":"SUMPRODUCT($C$8:C231-$H$8:H231)","v":142}]
[null,null,null,null,null,null,null,null,null,null,{"$f":"SUMPRODUCT($C$8:C232-$H$8:H232)","v":142}]
[null,null,null,null,null,null,null,null,null,null,{"$f":"SUMPRODUCT($C$8:C233-$H$8:H233)","v":142}]
[null,null,null,null,null,null,null,null,null,null,{"$f":"SUMPRODUCT($C$8:C234-$H$8:H234)","v":142}]
[null,null,null,null,null,null,null,null,null,null,{"$f":"SUMPRODUCT($C$8:C235-$H$8:H235)","v":142}]
[null,null,null,null,null,null,null,null,null,null,{"$f":"SUMPRODUCT($C$8:C236-$H$8:H236)","v":142}]
[null,null,null,null,null,null,null,null,null,null,{"$f":"SUMPRODUCT($C$8:C237-$H$8:H237)","v":142}]
[null,null,null,null,null,null,null,null,null,null,{"$f":"SUMPRODUCT($C$8:C238-$H$8:H238)","v":142}]
[null,null,null,null,null,null,null,null,null,null,{"$f":"SUMPRODUCT($C$8:C239-$H$8:H239)","v":142}]
[null,null,null,null,null,null,null,null,null,null,{"$f":"SUMPRODUCT($C$8:C240-$H$8:H240)","v":142}]
[null,null,null,null,null,null,null,null,null,null,{"$f":"SUMPRODUCT($C$8:C241-$H$8:H241)","v":142}]
[null,null,null,null,null,null,null,null,null,null,{"$f":"SUMPRODUCT($C$8:C242-$H$8:H242)","v":142}]
[null,null,null,null,null,null,null,null,null,null,{"$f":"SUMPRODUCT($C$8:C243-$H$8:H243)","v":142}]
[null,null,null,null,null,null,null,null,null,null,{"$f":"SUMPRODUCT($C$8:C244-$H$8:H244)","v":142}]
[null,null,null,null,null,null,null,null,null,null,{"$f":"SUMPRODUCT($C$8:C245-$H$8:H245)","v":142}]
[null,null,null,null,null,null,null,null,null,null,{"$f":"SUMPRODUCT($C$8:C246-$H$8:H246)","v":142}]
[null,null,null,null,null,null,null,null,null,null,{"$f":"SUMPRODUCT($C$8:C247-$H$8:H247)","v":142}]
[null,null,null,null,null,null,null,null,null,null,{"$f":"SUMPRODUCT($C$8:C248-$H$8:H248)","v":142}]
[null,null,null,null,null,null,null,null,null,null,{"$f":"SUMPRODUCT($C$8:C249-$H$8:H249)","v":142}]
[null,null,null,null,null,null,null,null,null,null,{"$f":"SUMPRODUCT($C$8:C250-$H$8:H250)","v":142}]
[null,null,null,null,null,null,null,null,null,null,{"$f":"SUMPRODUCT($C$8:C251-$H$8:H251)","v":142}]
[null,null,null,null,null,null,null,null,null,null,{"$f":"SUMPRODUCT($C$8:C252-$H$8:H252)","v":142}]
[null,null,null,null,null,null,null,null,null,null,{"$f":"SUMPRODUCT($C$8:C253-$H$8:H253)","v":142}]
[null,null,null,null,null,null,null,null,null,null,{"$f":"SUMPRODUCT($C$8:C254-$H$8:H254)","v":142}]
[null,null,null,null,null,null,null,null,null,null,{"$f":"SUMPRODUCT($C$8:C255-$H$8:H255)","v":142}]
[null,null,null,null,null,null,null,null,null,null,{"$f":"SUMPRODUCT($C$8:C256-$H$8:H256)","v":142}]
[null,null,null,null,null,null,null,null,null,null,{"$f":"SUMPRODUCT($C$8:C257-$H$8:H257)","v":142}]
[null,null,null,null,null,null,null,null,null,null,{"$f":"SUMPRODUCT($C$8:C258-$H$8:H258)","v":142}]
[null,null,null,null,null,null,null,null,null,null,{"$f":"SUMPRODUCT($C$8:C259-$H$8:H259)","v":142}]
[null,null,null,null,null,null,null,null,null,null,{"$f":"SUMPRODUCT($C$8:C260-$H$8:H260)","v":142}]
[null,null,null,null,null,null,null,null,null,null,{"$f":"SUMPRODUCT($C$8:C261-$H$8:H261)","v":142}]
[null,null,null,null,null,null,null,null,null,null,{"$f":"SUMPRODUCT($C$8:C262-$H$8:H262)","v":142}]
[null,null,null,null,null,null,null,null,null,null,{"$f":"SUMPRODUCT($C$8:C263-$H$8:H263)","v":142}]
[null,null,null,null,null,null,null,null,null,null,{"$f":"SUMPRODUCT($C$8:C264-$H$8:H264)","v":142}]
[null,null,null,null,null,null,null,null,null,null,{"$f":"SUMPRODUCT($C$8:C265-$H$8:H265)","v":142}]
[null,null,null,null,null,null,null,null,null,null,{"$f":"SUMPRODUCT($C$8:C266-$H$8:H266)","v":142}]
[null,null,null,null,null,null,null,null,null,null,{"$f":"SUMPRODUCT($C$8:C267-$H$8:H267)","v":142}]
[null,null,null,null,null,null,null,null,null,null,{"$f":"SUMPRODUCT($C$8:C268-$H$8:H268)","v":142}]
[null,null,null,null,null,null,null,null,null,null,{"$f":"SUMPRODUCT($C$8:C269-$H$8:H269)","v":142}]
[null,null,null,null,null,null,null,null,null,null,{"$f":"SUMPRODUCT($C$8:C270-$H$8:H270)","v":142}]
[null,null,null,null,null,null,null,null,null,null,{"$f":"SUMPRODUCT($C$8:C271-$H$8:H271)","v":142}]
[null,null,null,null,null,null,null,null,null,null,{"$f":"SUMPRODUCT($C$8:C272-$H$8:H272)","v":142}]
[null,null,null,null,null,null,null,null,null,null,{"$f":"SUMPRODUCT($C$8:C273-$H$8:H273)","v":142}]
[null,null,null,null,null,null,null,null,null,null,{"$f":"SUMPRODUCT($C$8:C274-$H$8:H274)","v":142}]
[null,null,null,null,null,null,null,null,null,null,{"$f":"SUMPRODUCT($C$8:C275-$H$8:H275)","v":142}]
[null,null,null,null,null,null,null,null,null,null,{"$f":"SUMPRODUCT($C$8:C276-$H$8:H276)","v":142}]
[null,null,null,null,null,null,null,null,null,null,{"$f":"SUMPRODUCT($C$8:C277-$H$8:H277)","v":142}]
[null,null,null,null,null,null,null,null,null,null,{"$f":"SUMPRODUCT($C$8:C278-$H$8:H278)","v":142}]
[null,null,null,null,null,null,null,null,null,null,{"$f":"SUMPRODUCT($C$8:C279-$H$8:H279)","v":142}]
[null,null,null,null,null,null,null,null,null,null,{"$f":"SUMPRODUCT($C$8:C280-$H$8:H280)","v":142}]
[null,null,null,null,null,null,null,null,null,null,{"$f":"SUMPRODUCT($C$8:C281-$H$8:H281)","v":142}]
[null,null,null,null,null,null,null,null,null,null,{"$f":"SUMPRODUCT($C$8:C282-$H$8:H282)","v":142}]
[null,null,null,null,null,null,null,null,null,null,{"$f":"SUMPRODUCT($C$8:C283-$H$8:H283)","v":142}]
[null,null,null,null,null,null,null,null,null,null,{"$f":"SUMPRODUCT($C$8:C284-$H$8:H284)","v":142}]
[null,null,null,null,null,null,null,null,null,null,{"$f":"SUMPRODUCT($C$8:C285-$H$8:H285)","v":142}]
[null,null,null,null,null,null,null,null,null,null,{"$f":"SUMPRODUCT($C$8:C286-$H$8:H286)","v":142}]
[null,null,null,null,null,null,null,null,null,null,{"$f":"SUMPRODUCT($C$8:C287-$H$8:H287)","v":142}]
[null,null,null,null,null,null,null,null,null,null,{"$f":"SUMPRODUCT($C$8:C288-$H$8:H288)","v":142}]
[null,null,null,null,null,null,null,null,null,null,{"$f":"SUMPRODUCT($C$8:C289-$H$8:H289)","v":142}]
[null,null,null,null,null,null,null,null,null,null,{"$f":"SUMPRODUCT($C$8:C290-$H$8:H290)","v":142}]
[null,null,null,null,null,null,null,null,null,null,{"$f":"SUMPRODUCT($C$8:C291-$H$8:H291)","v":142}]
[null,null,null,null,null,null,null,null,null,null,{"$f":"SUMPRODUCT($C$8:C292-$H$8:H292)","v":142}]
[null,null,null,null,null,null,null,null,null,null,{"$f":"SUMPRODUCT($C$8:C293-$H$8:H293)","v":142}]
[null,null,null,null,null,null,null,null,null,null,{"$f":"SUMPRODUCT($C$8:C294-$H$8:H294)","v":142}]
[null,null,null,null,null,null,null,null,null,null,{"$f":"SUMPRODUCT($C$8:C295-$H$8:H295)","v":142}]
[null,null,null,null,null,null,null,null,null,null,{"$f":"SUMPRODUCT($C$8:C296-$H$8:H296)","v":142}]
[null,null,null,null,null,null,null,null,null,null,{"$f":"SUMPRODUCT($C$8:C297-$H$8:H297)","v":142}]
[null,null,null,null,null,null,null,null,null,null,{"$f":"SUMPRODUCT($C$8:C298-$H$8:H298)","v":142}]
[null,null,null,null,null,null,null,null,null,null,{"$f":"SUMPRODUCT($C$8:C299-$H$8:H299)","v":142}]
[null,null,null,null,null,null,null,null,null,null,{"$f":"SUMPRODUCT($C$8:C300-$H$8:H300)","v":142}]
[null,null,null,null,null,null,null,null,null,null,{"$f":"SUMPRODUCT($C$8:C301-$H$8:H301)","v":142}]
[null,null,null,null,null,null,null,null,null,null,{"$f":"SUMPRODUCT($C$8:C302-$H$8:H302)","v":142}]
[null,null,null,null,null,null,null,null,null,null,{"$f":"SUMPRODUCT($C$8:C303-$H$8:H303)","v":142}]
[null,null,null,null,null,null,null,null,null,null,{"$f":"SUMPRODUCT($C$8:C304-$H$8:H304)","v":142}]
[null,null,null,null,null,null,null,null,null,null,{"$f":"SUMPRODUCT($C$8:C305-$H$8:H305)","v":142}]
[null,null,null,null,null,null,null,null,null,null,{"$f":"SUMPRODUCT($C$8:C306-$H$8:H306)","v":142}]
[null,null,null,null,null,null,null,null,null,null,{"$f":"SUMPRODUCT($C$8:C307-$H$8:H307)","v":142}]
[null,null,null,null,null,null,null,null,null,null,{"$f":"SUMPRODUCT($C$8:C308-$H$8:H308)","v":142}]
[null,null,null,null,null,null,null,null,null,null,{"$f":"SUMPRODUCT($C$8:C309-$H$8:H309)","v":142}]
[null,null,null,null,null,null,null,null,null,null,{"$f":"SUMPRODUCT($C$8:C310-$H$8:H310)","v":142}]
[null,null,null,null,null,null,null,null,null,null,{"$f":"SUMPRODUCT($C$8:C311-$H$8:H311)","v":142}]
[null,null,null,null,null,null,null,null,null,null,{"$f":"SUMPRODUCT($C$8:C312-$H$8:H312)","v":142}]
[null,null,null,null,null,null,null,null,null,null,{"$f":"SUMPRODUCT($C$8:C313-$H$8:H313)","v":142}]
[null,null,null,null,null,null,null,null,null,null,{"$f":"SUMPRODUCT($C$8:C314-$H$8:H314)","v":142}]
[null,null,null,null,null,null,null,null,null,null,{"$f":"SUMPRODUCT($C$8:C315-$H$8:H315)","v":142}]
[null,null,null,null,null,null,null,null,null,null,{"$f":"SUMPRODUCT($C$8:C316-$H$8:H316)","v":142}]
[null,null,null,null,null,null,null,null,null,null,{"$f":"SUMPRODUCT($C$8:C317-$H$8:H317)","v":142}]
[null,null,null,null,null,null,null,null,null,null,{"$f":"SUMPRODUCT($C$8:C318-$H$8:H318)","v":142}]
[null,null,null,null,null,null,null,null,null,null,{"$f":"SUMPRODUCT($C$8:C319-$H$8:H319)","v":142}]
[null,null,null,null,null,null,null,null,null,null,{"$f":"SUMPRODUCT($C$8:C320-$H$8:H320)","v":142}]
[null,null,null,null,null,null,null,null,null,null,{"$f":"SUMPRODUCT($C$8:C321-$H$8:H321)","v":142}]
[null,null,null,null,null,null,null,null,null,null,{"$f":"SUMPRODUCT($C$8:C322-$H$8:H322)","v":142}]
[null,null,null,null,null,null,null,null,null,null,{"$f":"SUMPRODUCT($C$8:C323-$H$8:H323)","v":142}]
[null,null,null,null,null,null,null,null,null,null,{"$f":"SUMPRODUCT($C$8:C324-$H$8:H324)","v":142}]
[null,null,null,null,null,null,null,null,null,null,{"$f":"SUMPRODUCT($C$8:C325-$H$8:H325)","v":142}]
[null,null,null,null,null,null,null,null,null,null,{"$f":"SUMPRODUCT($C$8:C326-$H$8:H326)","v":142}]
[null,null,null,null,null,null,null,null,null,null,{"$f":"SUMPRODUCT($C$8:C327-$H$8:H327)","v":142}]
[null,null,null,null,null,null,null,null,null,null,{"$f":"SUMPRODUCT($C$8:C328-$H$8:H328)","v":142}]
[null,null,null,null,null,null,null,null,null,null,{"$f":"SUMPRODUCT($C$8:C329-$H$8:H329)","v":142}]
[null,null,null,null,null,null,null,null,null,null,{"$f":"SUMPRODUCT($C$8:C330-$H$8:H330)","v":142}]
[null,null,null,null,null,null,null,null,null,null,{"$f":"SUMPRODUCT($C$8:C331-$H$8:H331)","v":142}]
[null,null,null,null,null,null,null,null,null,null,{"$f":"SUMPRODUCT($C$8:C332-$H$8:H332)","v":142}]
[null,null,null,null,null,null,null,null,null,null,{"$f":"SUMPRODUCT($C$8:C333-$H$8:H333)","v":142}]
[null,null,null,null,null,null,null,null,null,null,{"$f":"SUMPRODUCT($C$8:C334-$H$8:H334)","v":142}]
[null,null,null,null,null,null,null,null,null,null,{"$f":"SUMPRODUCT($C$8:C335-$H$8:H335)","v":142}]
[null,null,null,null,null,null,null,null,null,null,{"$f":"SUMPRODUCT($C$8:C336-$H$8:H336)","v":142}]
[null,null,null,null,null,null,null,null,null,null,{"$f":"SUMPRODUCT($C$8:C337-$H$8:H337)","v":142}]
[null,null,null,null,null,null,null,null,null,null,{"$f":"SUMPRODUCT($C$8:C338-$H$8:H338)","v":142}]
[null,null,null,null,null,null,null,null,null,null,{"$f":"SUMPRODUCT($C$8:C339-$H$8:H339)","v":142}]
[null,null,null,null,null,null,null,null,null,null,{"$f":"SUMPRODUCT($C$8:C340-$H$8:H340)","v":142}]
[null,null,null,null,null,null,null,null,null,null,{"$f":"SUMPRODUCT($C$8:C341-$H$8:H341)","v":142}]
[null,null,null,null,null,null,null,null,null,null,{"$f":"SUMPRODUCT($C$8:C342-$H$8:H342)","v":142}]
[null,null,null,null,null,null,null,null,null,null,{"$f":"SUMPRODUCT($C$8:C343-$H$8:H343)","v":142}]
[null,null,null,null,null,null,null,null,null,null,{"$f":"SUMPRODUCT($C$8:C344-$H$8:H344)","v":142}]
[null,null,null,null,null,null,null,null,null,null,{"$f":"SUMPRODUCT($C$8:C345-$H$8:H345)","v":142}]
[null,null,null,null,null,null,null,null,null,null,{"$f":"SUMPRODUCT($C$8:C346-$H$8:H346)","v":142}]
[null,null,null,null,null,null,null,null,null,null,{"$f":"SUMPRODUCT($C$8:C347-$H$8:H347)","v":142}]
[null,null,null,null,null,null,null,null,null,null,{"$f":"SUMPRODUCT($C$8:C348-$H$8:H348)","v":142}]
[null,null,null,null,null,null,null,null,null,null,{"$f":"SUMPRODUCT($C$8:C349-$H$8:H349)","v":142}]
[null,null,null,null,null,null,null,null,null,null,{"$f":"SUMPRODUCT($C$8:C350-$H$8:H350)","v":142}]
[null,null,null,null,null,null,null,null,null,null,{"$f":"SUMPRODUCT($C$8:C351-$H$8:H351)","v":142}]
[null,null,null,null,null,null,null,null,null,null,{"$f":"SUMPRODUCT($C$8:C352-$H$8:H352)","v":142}]
[null,null,null,null,null,null,null,null,null,null,{"$f":"SUMPRODUCT($C$8:C353-$H$8:H353)","v":142}]
[null,null,null,null,null,null,null,null,null,null,{"$f":"SUMPRODUCT($C$8:C354-$H$8:H354)","v":142}]
[null,null,null,null,null,null,null,null,null,null,{"$f":"SUMPRODUCT($C$8:C355-$H$8:H355)","v":142}]
[null,null,null,null,null,null,null,null,null,null,{"$f":"SUMPRODUCT($C$8:C356-$H$8:H356)","v":142}]
[null,null,null,null,null,null,null,null,null,null,{"$f":"SUMPRODUCT($C$8:C357-$H$8:H357)","v":142}]
[null,null,null,null,null,null,null,null,null,null,{"$f":"SUMPRODUCT($C$8:C358-$H$8:H358)","v":142}]
[null,null,null,null,null,null,null,null,null,null,{"$f":"SUMPRODUCT($C$8:C359-$H$8:H359)","v":142}]
[null,null,null,null,null,null,null,null,null,null,{"$f":"SUMPRODUCT($C$8:C360-$H$8:H360)","v":142}]
[null,null,null,null,null,null,null,null,null,null,{"$f":"SUMPRODUCT($C$8:C361-$H$8:H361)","v":142}]
[null,null,null,null,null,null,null,null,null,null,{"$f":"SUMPRODUCT($C$8:C362-$H$8:H362)","v":142}]
[null,null,null,null,null,null,null,null,null,null,{"$f":"SUMPRODUCT($C$8:C363-$H$8:H363)","v":142}]
[null,null,null,null,null,null,null,null,null,null,{"$f":"SUMPRODUCT($C$8:C364-$H$8:H364)","v":142}]
[null,null,null,null,null,null,null,null,null,null,{"$f":"SUMPRODUCT($C$8:C365-$H$8:H365)","v":142}]
[null,null,null,null,null,null,null,null,null,null,{"$f":"SUMPRODUCT($C$8:C366-$H$8:H366)","v":142}]
[null,null,null,null,null,null,null,null,null,null,{"$f":"SUMPRODUCT($C$8:C367-$H$8:H367)","v":142}]
[null,null,null,null,null,null,null,null,null,null,{"$f":"SUMPRODUCT($C$8:C368-$H$8:H368)","v":142}]
[null,null,null,null,null,null,null,null,null,null,{"$f":"SUMPRODUCT($C$8:C369-$H$8:H369)","v":142}]
[null,null,null,null,null,null,null,null,null,null,{"$f":"SUMPRODUCT($C$8:C370-$H$8:H370)","v":142}]
[null,null,null,null,null,null,null,null,null,null,{"$f":"SUMPRODUCT($C$8:C371-$H$8:H371)","v":142}]
[null,null,null,null,null,null,null,null,null,null,{"$f":"SUMPRODUCT($C$8:C372-$H$8:H372)","v":142}]
[null,null,null,null,null,null,null,null,null,null,{"$f":"SUMPRODUCT($C$8:C373-$H$8:H373)","v":142}]
[null,null,null,null,null,null,null,null,null,null,{"$f":"SUMPRODUCT($C$8:C374-$H$8:H374)","v":142}]
[null,null,null,null,null,null,null,null,null,null,{"$f":"SUMPRODUCT($C$8:C375-$H$8:H375)","v":142}]
[null,null,null,null,null,null,null,null,null,null,{"$f":"SUMPRODUCT($C$8:C376-$H$8:H376)","v":142}]
[null,null,null,null,null,null,null,null,null,null,{"$f":"SUMPRODUCT($C$8:C377-$H$8:H377)","v":142}]
[null,null,null,null,null,null,null,null,null,null,{"$f":"SUMPRODUCT($C$8:C378-$H$8:H378)","v":142}]
[null,null,null,null,null,null,null,null,null,null,{"$f":"SUMPRODUCT($C$8:C379-$H$8:H379)","v":142}]
[null,null,null,null,null,null,null,null,null,null,{"$f":"SUMPRODUCT($C$8:C380-$H$8:H380)","v":142}]
[null,null,null,null,null,null,null,null,null,null,{"$f":"SUMPRODUCT($C$8:C381-$H$8:H381)","v":142}]
[null,null,null,null,null,null,null,null,null,null,{"$f":"SUMPRODUCT($C$8:C382-$H$8:H382)","v":142}]
[null,null,null,null,null,null,null,null,null,null,{"$f":"SUMPRODUCT($C$8:C383-$H$8:H383)","v":142}]
[null,null,null,null,null,null,null,null,null,null,{"$f":"SUMPRODUCT($C$8:C384-$H$8:H384)","v":142}]
[null,null,null,null,null,null,null,null,null,null,{"$f":"SUMPRODUCT($C$8:C385-$H$8:H385)","v":142}]
[null,null,null,null,null,null,null,null,null,null,{"$f":"SUMPRODUCT($C$8:C386-$H$8:H386)","v":142}]
[null,null,null,null,null,null,null,null,null,null,{"$f":"SUMPRODUCT($C$8:C387-$H$8:H387)","v":142}]
[null,null,null,null,null,null,null,null,null,null,{"$f":"SUMPRODUCT($C$8:C388-$H$8:H388)","v":142}]
[null,null,null,null,null,null,null,null,null,null,{"$f":"SUMPRODUCT($C$8:C389-$H$8:H389)","v":142}]
[null,null,null,null,null,null,null,null,null,null,{"$f":"SUMPRODUCT($C$8:C390-$H$8:H390)","v":142}]
[null,null,null,null,null,null,null,null,null,null,{"$f":"SUMPRODUCT($C$8:C391-$H$8:H391)","v":142}]
[null,null,null,null,null,null,null,null,null,null,{"$f":"SUMPRODUCT($C$8:C392-$H$8:H392)","v":142}]
[null,null,null,null,null,null,null,null,null,null,{"$f":"SUMPRODUCT($C$8:C393-$H$8:H393)","v":142}]
[null,null,null,null,null,null,null,null,null,null,{"$f":"SUMPRODUCT($C$8:C394-$H$8:H394)","v":142}]
[null,null,null,null,null,null,null,null,null,null,{"$f":"SUMPRODUCT($C$8:C395-$H$8:H395)","v":142}]
[null,null,null,null,null,null,null,null,null,null,{"$f":"SUMPRODUCT($C$8:C396-$H$8:H396)","v":142}]
[null,null,null,null,null,null,null,null,null,null,{"$f":"SUMPRODUCT($C$8:C397-$H$8:H397)","v":142}]
[null,null,null,null,null,null,null,null,null,null,{"$f":"SUMPRODUCT($C$8:C398-$H$8:H398)","v":142}]
[null,null,null,null,null,null,null,null,null,null,{"$f":"SUMPRODUCT($C$8:C399-$H$8:H399)","v":142}]
[null,null,null,null,null,null,null,null,null,null,{"$f":"SUMPRODUCT($C$8:C400-$H$8:H400)","v":142}]
[null,null,null,null,null,null,null,null,null,null,{"$f":"SUMPRODUCT($C$8:C401-$H$8:H401)","v":142}]
[null,null,null,null,null,null,null,null,null,null,{"$f":"SUMPRODUCT($C$8:C402-$H$8:H402)","v":142}]
[null,null,null,null,null,null,null,null,null,null,{"$f":"SUMPRODUCT($C$8:C403-$H$8:H403)","v":142}]
[null,null,null,null,null,null,null,null,null,null,{"$f":"SUMPRODUCT($C$8:C404-$H$8:H404)","v":142}]
[null,null,null,null,null,null,null,null,null,null,{"$f":"SUMPRODUCT($C$8:C405-$H$8:H405)","v":142}]
[null,null,null,null,null,null,null,null,null,null,{"$f":"SUMPRODUCT($C$8:C406-$H$8:H406)","v":142}]
[null,null,null,null,null,null,null,null,null,null,{"$f":"SUMPRODUCT($C$8:C407-$H$8:H407)","v":142}]
[null,null,null,null,null,null,null,null,null,null,{"$f":"SUMPRODUCT($C$8:C408-$H$8:H408)","v":142}]
[null,null,null,null,null,null,null,null,null,null,{"$f":"SUMPRODUCT($C$8:C409-$H$8:H409)","v":142}]
[null,null,null,null,null,null,null,null,null,null,{"$f":"SUMPRODUCT($C$8:C410-$H$8:H410)","v":142}]
[null,null,null,null,null,null,null,null,null,null,{"$f":"SUMPRODUCT($C$8:C411-$H$8:H411)","v":142}]
[null,null,null,null,null,null,null,null,null,null,{"$f":"SUMPRODUCT($C$8:C412-$H$8:H412)","v":142}]
[null,null,null,null,null,null,null,null,null,null,{"$f":"SUMPRODUCT($C$8:C413-$H$8:H413)","v":142}]
[null,null,null,null,null,null,null,null,null,null,{"$f":"SUMPRODUCT($C$8:C414-$H$8:H414)","v":142}]
[null,null,null,null,null,null,null,null,null,null,{"$f":"SUMPRODUCT($C$8:C415-$H$8:H415)","v":142}]
[null,null,null,null,null,null,null,null,null,null,{"$f":"SUMPRODUCT($C$8:C416-$H$8:H416)","v":142}]
[null,null,null,null,null,null,null,null,null,null,{"$f":"SUMPRODUCT($C$8:C417-$H$8:H417)","v":142}]
[null,null,null,null,null,null,null,null,null,null,{"$f":"SUMPRODUCT($C$8:C418-$H$8:H418)","v":142}]
[null,null,null,null,null,null,null,null,null,null,{"$f":"SUMPRODUCT($C$8:C419-$H$8:H419)","v":142}]
[null,null,null,null,null,null,null,null,null,null,{"$f":"SUMPRODUCT($C$8:C420-$H$8:H420)","v":142}]
[null,null,null,null,null,null,null,null,null,null,{"$f":"SUMPRODUCT($C$8:C421-$H$8:H421)","v":142}]
[null,null,null,null,null,null,null,null,null,null,{"$f":"SUMPRODUCT($C$8:C422-$H$8:H422)","v":142}]
[null,null,null,null,null,null,null,null,null,null,{"$f":"SUMPRODUCT($C$8:C423-$H$8:H423)","v":142}]
[null,null,null,null,null,null,null,null,null,null,{"$f":"SUMPRODUCT($C$8:C424-$H$8:H424)","v":142}]
[null,null,null,null,null,null,null,null,null,null,{"$f":"SUMPRODUCT($C$8:C425-$H$8:H425)","v":142}]
[null,null,null,null,null,null,null,null,null,null,{"$f":"SUMPRODUCT($C$8:C426-$H$8:H426)","v":142}]
[null,null,null,null,null,null,null,null,null,null,{"$f":"SUMPRODUCT($C$8:C427-$H$8:H427)","v":142}]
[null,null,null,null,null,null,null,null,null,null,{"$f":"SUMPRODUCT($C$8:C428-$H$8:H428)","v":142}]
[null,null,null,null,null,null,null,null,null,null,{"$f":"SUMPRODUCT($C$8:C429-$H$8:H429)","v":142}]
[null,null,null,null,null,null,null,null,null,null,{"$f":"SUMPRODUCT($C$8:C430-$H$8:H430)","v":142}]
[null,null,null,null,null,null,null,null,null,null,{"$f":"SUMPRODUCT($C$8:C431-$H$8:H431)","v":142}]
[null,null,null,null,null,null,null,null,null,null,{"$f":"SUMPRODUCT($C$8:C432-$H$8:H432)","v":142}]
[null,null,null,null,null,null,null,null,null,null,{"$f":"SUMPRODUCT($C$8:C433-$H$8:H433)","v":142}]
[null,null,null,null,null,null,null,null,null,null,{"$f":"SUMPRODUCT($C$8:C434-$H$8:H434)","v":142}]
[null,null,null,null,null,null,null,null,null,null,{"$f":"SUMPRODUCT($C$8:C435-$H$8:H435)","v":142}]
[null,null,null,null,null,null,null,null,null,null,{"$f":"SUMPRODUCT($C$8:C436-$H$8:H436)","v":142}]
[null,null,null,null,null,null,null,null,null,null,{"$f":"SUMPRODUCT($C$8:C437-$H$8:H437)","v":142}]
[null,null,null,null,null,null,null,null,null,null,{"$f":"SUMPRODUCT($C$8:C438-$H$8:H438)","v":142}]
[null,null,null,null,null,null,null,null,null,null,{"$f":"SUMPRODUCT($C$8:C439-$H$8:H439)","v":142}]
[null,null,null,null,null,null,null,null,null,null,{"$f":"SUMPRODUCT($C$8:C440-$H$8:H440)","v":142}]
[null,null,null,null,null,null,null,null,null,null,{"$f":"SUMPRODUCT($C$8:C441-$H$8:H441)","v":142}]
[null,null,null,null,null,null,null,null,null,null,{"$f":"SUMPRODUCT($C$8:C442-$H$8:H442)","v":142}]
[null,null,null,null,null,null,null,null,null,null,{"$f":"SUMPRODUCT($C$8:C443-$H$8:H443)","v":142}]
[null,null,null,null,null,null,null,null,null,null,{"$f":"SUMPRODUCT($C$8:C444-$H$8:H444)","v":142}]
[null,null,null,null,null,null,null,null,null,null,{"$f":"SUMPRODUCT($C$8:C445-$H$8:H445)","v":142}]
[null,null,null,null,null,null,null,null,null,null,{"$f":"SUMPRODUCT($C$8:C446-$H$8:H446)","v":142}]
[null,null,null,null,null,null,null,null,null,null,{"$f":"SUMPRODUCT($C$8:C447-$H$8:H447)","v":142}]
[null,null,null,null,null,null,null,null,null,null,{"$f":"SUMPRODUCT($C$8:C448-$H$8:H448)","v":142}]
[null,null,null,null,null,null,null,null,null,null,{"$f":"SUMPRODUCT($C$8:C449-$H$8:H449)","v":142}]
[null,null,null,null,null,null,null,null,null,null,{"$f":"SUMPRODUCT($C$8:C450-$H$8:H450)","v":142}]
[null,null,null,null,null,null,null,null,null,null,{"$f":"SUMPRODUCT($C$8:C451-$H$8:H451)","v":142}]
[null,null,null,null,null,null,null,null,null,null,{"$f":"SUMPRODUCT($C$8:C452-$H$8:H452)","v":142}]
[null,null,null,null,null,null,null,null,null,null,{"$f":"SUMPRODUCT($C$8:C453-$H$8:H453)","v":142}]
[null,null,null,null,null,null,null,null,null,null,{"$f":"SUMPRODUCT($C$8:C454-$H$8:H454)","v":142}]
[null,null,null,null,null,null,null,null,null,null,{"$f":"SUMPRODUCT($C$8:C455-$H$8:H455)","v":142}]
[null,null,null,null,null,null,null,null,null,null,{"$f":"SUMPRODUCT($C$8:C456-$H$8:H456)","v":142}]
[null,null,null,null,null,null,null,null,null,null,{"$f":"SUMPRODUCT($C$8:C457-$H$8:H457)","v":142}]
[null,null,null,null,null,null,null,null,null,null,{"$f":"SUMPRODUCT($C$8:C458-$H$8:H458)","v":142}]
[null,null,null,null,null,null,null,null,null,null,{"$f":"SUMPRODUCT($C$8:C459-$H$8:H459)","v":142}]
[null,null,null,null,null,null,null,null,null,null,{"$f":"SUMPRODUCT($C$8:C460-$H$8:H460)","v":142}]
[null,null,null,null,null,null,null,null,null,null,{"$f":"SUMPRODUCT($C$8:C461-$H$8:H461)","v":142}]
[null,null,null,null,null,null,null,null,null,null,{"$f":"SUMPRODUCT($C$8:C462-$H$8:H462)","v":142}]
[null,null,null,null,null,null,null,null,null,null,{"$f":"SUMPRODUCT($C$8:C463-$H$8:H463)","v":142}]
[null,null,null,null,null,null,null,null,null,null,{"$f":"SUMPRODUCT($C$8:C464-$H$8:H464)","v":142}]
[null,null,null,null,null,null,null,null,null,null,{"$f":"SUMPRODUCT($C$8:C465-$H$8:H465)","v":142}]
[null,null,null,null,null,null,null,null,null,null,{"$f":"SUMPRODUCT($C$8:C466-$H$8:H466)","v":142}]
[null,null,null,null,null,null,null,null,null,null,{"$f":"SUMPRODUCT($C$8:C467-$H$8:H467)","v":142}]
[null,null,null,null,null,null,null,null,null,null,{"$f":"SUMPRODUCT($C$8:C468-$H$8:H468)","v":142}]
[null,null,null,null,null,null,null,null,null,null,{"$f":"SUMPRODUCT($C$8:C469-$H$8:H469)","v":142}]
[null,null,null,null,null,null,null,null,null,null,{"$f":"SUMPRODUCT($C$8:C470-$H$8:H470)","v":142}]
[null,null,null,null,null,null,null,null,null,null,{"$f":"SUMPRODUCT($C$8:C471-$H$8:H471)","v":142}]
[null,null,null,null,null,null,null,null,null,null,{"$f":"SUMPRODUCT($C$8:C472-$H$8:H472)","v":142}]
[null,null,null,null,null,null,null,null,null,null,{"$f":"SUMPRODUCT($C$8:C473-$H$8:H473)","v":142}]
[null,null,null,null,null,null,null,null,null,null,{"$f":"SUMPRODUCT($C$8:C474-$H$8:H474)","v":142}]
[null,null,null,null,null,null,null,null,null,null,{"$f":"SUMPRODUCT($C$8:C475-$H$8:H475)","v":142}]
[null,null,null,null,null,null,null,null,null,null,{"$f":"SUMPRODUCT($C$8:C476-$H$8:H476)","v":142}]
[null,null,null,null,null,null,null,null,null,null,{"$f":"SUMPRODUCT($C$8:C477-$H$8:H477)","v":142}]
[null,null,null,null,null,null,null,null,null,null,{"$f":"SUMPRODUCT($C$8:C478-$H$8:H478)","v":142}]
[null,null,null,null,null,null,null,null,null,null,{"$f":"SUMPRODUCT($C$8:C479-$H$8:H479)","v":142}]
[null,null,null,null,null,null,null,null,null,null,{"$f":"SUMPRODUCT($C$8:C480-$H$8:H480)","v":142}]
[null,null,null,null,null,null,null,null,null,null,{"$f":"SUMPRODUCT($C$8:C481-$H$8:H481)","v":142}]
[null,null,null,null,null,null,null,null,null,null,{"$f":"SUMPRODUCT($C$8:C482-$H$8:H482)","v":142}]
[null,null,null,null,null,null,null,null,null,null,{"$f":"SUMPRODUCT($C$8:C483-$H$8:H483)","v":142}]
[null,null,null,null,null,null,null,null,null,null,{"$f":"SUMPRODUCT($C$8:C484-$H$8:H484)","v":142}]
[null,null,null,null,null,null,null,null,null,null,{"$f":"SUMPRODUCT($C$8:C485-$H$8:H485)","v":142}]
[null,null,null,null,null,null,null,null,null,null,{"$f":"SUMPRODUCT($C$8:C486-$H$8:H486)","v":142}]
[null,null,null,null,null,null,null,null,null,null,{"$f":"SUMPRODUCT($C$8:C487-$H$8:H487)","v":142}]
[null,null,null,null,null,null,null,null,null,null,{"$f":"SUMPRODUCT($C$8:C488-$H$8:H488)","v":142}]
[null,null,null,null,null,null,null,null,null,null,{"$f":"SUMPRODUCT($C$8:C489-$H$8:H489)","v":142}]
[null,null,null,null,null,null,null,null,null,null,{"$f":"SUMPRODUCT($C$8:C490-$H$8:H490)","v":142}]
[null,null,null,null,null,null,null,null,null,null,{"$f":"SUMPRODUCT($C$8:C491-$H$8:H491)","v":142}]
[null,null,null,null,null,null,null,null,null,null,{"$f":"SUMPRODUCT($C$8:C492-$H$8:H492)","v":142}]
[null,null,null,null,null,null,null,null,null,null,{"$f":"SUMPRODUCT($C$8:C493-$H$8:H493)","v":142}]
[null,null,null,null,null,null,null,null,null,null,{"$f":"SUMPRODUCT($C$8:C494-$H$8:H494)","v":142}]
[null,null,null,null,null,null,null,null,null,null,{"$f":"SUMPRODUCT($C$8:C495-$H$8:H495)","v":142}]
[null,null,null,null,null,null,null,null,null,null,{"$f":"SUMPRODUCT($C$8:C496-$H$8:H496)","v":142}]
[null,null,null,null,null,null,null,null,null,null,{"$f":"SUMPRODUCT($C$8:C497-$H$8:H497)","v":142}]
[null,null,null,null,null,null,null,null,null,null,{"$f":"SUMPRODUCT($C$8:C498-$H$8:H498)","v":142}]
[null,null,null,null,null,null,null,null,null,null,{"$f":"SUMPRODUCT($C$8:C499-$H$8:H499)","v":142}]
[null,null,null,null,null,null,null,null,null,null,{"$f":"SUMPRODUCT($C$8:C500-$H$8:H500)","v":142}]
[null,null,null,null,null,null,null,null,null,null,{"$f":"SUMPRODUCT($C$8:C501-$H$8:H501)","v":142}]
[null,null,null,null,null,null,null,null,null,null,{"$f":"SUMPRODUCT($C$8:C502-$H$8:H502)","v":142}]
[null,null,null,null,null,null,null,null,null,null,{"$f":"SUMPRODUCT($C$8:C503-$H$8:H503)","v":142}]
[null,null,null,null,null,null,null,null,null,null,{"$f":"SUMPRODUCT($C$8:C504-$H$8:H504)","v":142}]
[null,null,null,null,null,null,null,null,null,null,{"$f":"SUMPRODUCT($C$8:C505-$H$8:H505)","v":142}]
[null,null,null,null,null,null,null,null,null,null,{"$f":"SUMPRODUCT($C$8:C506-$H$8:H506)","v":142}]
[null,null,null,null,null,null,null,null,null,null,{"$f":"SUMPRODUCT($C$8:C507-$H$8:H507)","v":142}]
[null,null,null,null,null,null,null,null,null,null,{"$f":"SUMPRODUCT($C$8:C508-$H$8:H508)","v":142}]
[null,null,null,null,null,null,null,null,null,null,{"$f":"SUMPRODUCT($C$8:C509-$H$8:H509)","v":142}]
[null,null,null,null,null,null,null,null,null,null,{"$f":"SUMPRODUCT($C$8:C510-$H$8:H510)","v":142}]
[null,null,null,null,null,null,null,null,null,null,{"$f":"SUMPRODUCT($C$8:C511-$H$8:H511)","v":142}]
[null,null,null,null,null,null,null,null,null,null,{"$f":"SUMPRODUCT($C$8:C512-$H$8:H512)","v":142}]
[null,null,null,null,null,null,null,null,null,null,{"$f":"SUMPRODUCT($C$8:C513-$H$8:H513)","v":142}]
[null,null,null,null,null,null,null,null,null,null,{"$f":"SUMPRODUCT($C$8:C514-$H$8:H514)","v":142}]
[null,null,null,null,null,null,null,null,null,null,{"$f":"SUMPRODUCT($C$8:C515-$H$8:H515)","v":142}]
[null,null,null,null,null,null,null,null,null,null,{"$f":"SUMPRODUCT($C$8:C516-$H$8:H516)","v":142}]
[null,null,null,null,null,null,null,null,null,null,{"$f":"SUMPRODUCT($C$8:C517-$H$8:H517)","v":142}]
[null,null,null,null,null,null,null,null,null,null,{"$f":"SUMPRODUCT($C$8:C518-$H$8:H518)","v":142}]
[null,null,null,null,null,null,null,null,null,null,{"$f":"SUMPRODUCT($C$8:C519-$H$8:H519)","v":142}]
[null,null,null,null,null,null,null,null,null,null,{"$f":"SUMPRODUCT($C$8:C520-$H$8:H520)","v":142}]
[null,null,null,null,null,null,null,null,null,null,{"$f":"SUMPRODUCT($C$8:C521-$H$8:H521)","v":142}]
[null,null,null,null,null,null,null,null,null,null,{"$f":"SUMPRODUCT($C$8:C522-$H$8:H522)","v":142}]
[null,null,null,null,null,null,null,null,null,null,{"$f":"SUMPRODUCT($C$8:C523-$H$8:H523)","v":142}]
[null,null,null,null,null,null,null,null,null,null,{"$f":"SUMPRODUCT($C$8:C524-$H$8:H524)","v":142}]
[null,null,null,null,null,null,null,null,null,null,{"$f":"SUMPRODUCT($C$8:C525-$H$8:H525)","v":142}]
[null,null,null,null,null,null,null,null,null,null,{"$f":"SUMPRODUCT($C$8:C526-$H$8:H526)","v":142}]
[null,null,null,null,null,null,null,null,null,null,{"$f":"SUMPRODUCT($C$8:C527-$H$8:H527)","v":142}]
[null,null,null,null,null,null,null,null,null,null,{"$f":"SUMPRODUCT($C$8:C528-$H$8:H528)","v":142}]
[null,null,null,null,null,null,null,null,null,null,{"$f":"SUMPRODUCT($C$8:C529-$H$8:H529)","v":142}]
[null,null,null,null,null,null,null,null,null,null,{"$f":"SUMPRODUCT($C$8:C530-$H$8:H530)","v":142}]
[null,null,null,null,null,null,null,null,null,null,{"$f":"SUMPRODUCT($C$8:C531-$H$8:H531)","v":142}]
[null,null,null,null,null,null,null,null,null,null,{"$f":"SUMPRODUCT($C$8:C532-$H$8:H532)","v":142}]
[null,null,null,null,null,null,null,null,null,null,{"$f":"SUMPRODUCT($C$8:C533-$H$8:H533)","v":142}]
[null,null,null,null,null,null,null,null,null,null,{"$f":"SUMPRODUCT($C$8:C534-$H$8:H534)","v":142}]
[null,null,null,null,null,null,null,null,null,null,{"$f":"SUMPRODUCT($C$8:C535-$H$8:H535)","v":142}]
[null,null,null,null,null,null,null,null,null,null,{"$f":"SUMPRODUCT($C$8:C536-$H$8:H536)","v":142}]
[null,null,null,null,null,null,null,null,null,null,{"$f":"SUMPRODUCT($C$8:C537-$H$8:H537)","v":142}]
[null,null,null,null,null,null,null,null,null,null,{"$f":"SUMPRODUCT($C$8:C538-$H$8:H538)","v":142}]
[null,null,null,null,null,null,null,null,null,null,{"$f":"SUMPRODUCT($C$8:C539-$H$8:H539)","v":142}]
[null,null,null,null,null,null,null,null,null,null,{"$f":"SUMPRODUCT($C$8:C540-$H$8:H540)","v":142}]
[null,null,null,null,null,null,null,null,null,null,{"$f":"SUMPRODUCT($C$8:C541-$H$8:H541)","v":142}]
[null,null,null,null,null,null,null,null,null,null,{"$f":"SUMPRODUCT($C$8:C542-$H$8:H542)","v":142}]
[null,null,null,null,null,null,null,null,null,null,{"$f":"SUMPRODUCT($C$8:C543-$H$8:H543)","v":142}]
[null,null,null,null,null,null,null,null,null,null,{"$f":"SUMPRODUCT($C$8:C544-$H$8:H544)","v":142}]
[null,null,null,null,null,null,null,null,null,null,{"$f":"SUMPRODUCT($C$8:C545-$H$8:H545)","v":142}]
[null,null,null,null,null,null,null,null,null,null,{"$f":"SUMPRODUCT($C$8:C546-$H$8:H546)","v":142}]
[null,null,null,null,null,null,null,null,null,null,{"$f":"SUMPRODUCT($C$8:C547-$H$8:H547)","v":142}]
[null,null,null,null,null,null,null,null,null,null,{"$f":"SUMPRODUCT($C$8:C548-$H$8:H548)","v":142}]
[null,null,null,null,null,null,null,null,null,null,{"$f":"SUMPRODUCT($C$8:C549-$H$8:H549)","v":142}]
[null,null,null,null,null,null,null,null,null,null,{"$f":"SUMPRODUCT($C$8:C550-$H$8:H550)","v":142}]
[null,null,null,null,null,null,null,null,null,null,{"$f":"SUMPRODUCT($C$8:C551-$H$8:H551)","v":142}]
[null,null,null,null,null,null,null,null,null,null,{"$f":"SUMPRODUCT($C$8:C552-$H$8:H552)","v":142}]
[null,null,null,null,null,null,null,null,null,null,{"$f":"SUMPRODUCT($C$8:C553-$H$8:H553)","v":142}]
[null,null,null,null,null,null,null,null,null,null,{"$f":"SUMPRODUCT($C$8:C554-$H$8:H554)","v":142}]
[null,null,null,null,null,null,null,null,null,null,{"$f":"SUMPRODUCT($C$8:C555-$H$8:H555)","v":142}]
[null,null,null,null,null,null,null,null,null,null,{"$f":"SUMPRODUCT($C$8:C556-$H$8:H556)","v":142}]
[null,null,null,null,null,null,null,null,null,null,{"$f":"SUMPRODUCT($C$8:C557-$H$8:H557)","v":142}]
[null,null,null,null,null,null,null,null,null,null,{"$f":"SUMPRODUCT($C$8:C558-$H$8:H558)","v":142}]
[null,null,null,null,null,null,null,null,null,null,{"$f":"SUMPRODUCT($C$8:C559-$H$8:H559)","v":142}]
[null,null,null,null,null,null,null,null,null,null,{"$f":"SUMPRODUCT($C$8:C560-$H$8:H560)","v":142}]
[null,null,null,null,null,null,null,null,null,null,{"$f":"SUMPRODUCT($C$8:C561-$H$8:H561)","v":142}]
[null,null,null,null,null,null,null,null,null,null,{"$f":"SUMPRODUCT($C$8:C562-$H$8:H562)","v":142}]
[null,null,null,null,null,null,null,null,null,null,{"$f":"SUMPRODUCT($C$8:C563-$H$8:H563)","v":142}]
[null,null,null,null,null,null,null,null,null,null,{"$f":"SUMPRODUCT($C$8:C564-$H$8:H564)","v":142}]
[null,null,null,null,null,null,null,null,null,null,{"$f":"SUMPRODUCT($C$8:C565-$H$8:H565)","v":142}]
[null,null,null,null,null,null,null,null,null,null,{"$f":"SUMPRODUCT($C$8:C566-$H$8:H566)","v":142}]
[null,null,null,null,null,null,null,null,null,null,{"$f":"SUMPRODUCT($C$8:C567-$H$8:H567)","v":142}]
[null,null,null,null,null,null,null,null,null,null,{"$f":"SUMPRODUCT($C$8:C568-$H$8:H568)","v":142}]
[null,null,null,null,null,null,null,null,null,null,{"$f":"SUMPRODUCT($C$8:C569-$H$8:H569)","v":142}]
[null,null,null,null,null,null,null,null,null,null,{"$f":"SUMPRODUCT($C$8:C570-$H$8:H570)","v":142}]
[null,null,null,null,null,null,null,null,null,null,{"$f":"SUMPRODUCT($C$8:C571-$H$8:H571)","v":142}]
[null,null,null,null,null,null,null,null,null,null,{"$f":"SUMPRODUCT($C$8:C572-$H$8:H572)","v":142}]
[null,null,null,null,null,null,null,null,null,null,{"$f":"SUMPRODUCT($C$8:C573-$H$8:H573)","v":142}]
[null,null,null,null,null,null,null,null,null,null,{"$f":"SUMPRODUCT($C$8:C574-$H$8:H574)","v":142}]
[null,null,null,null,null,null,null,null,null,null,{"$f":"SUMPRODUCT($C$8:C575-$H$8:H575)","v":142}]
[null,null,null,null,null,null,null,null,null,null,{"$f":"SUMPRODUCT($C$8:C576-$H$8:H576)","v":142}]
[null,null,null,null,null,null,null,null,null,null,{"$f":"SUMPRODUCT($C$8:C577-$H$8:H577)","v":142}]
[null,null,null,null,null,null,null,null,null,null,{"$f":"SUMPRODUCT($C$8:C578-$H$8:H578)","v":142}]
[null,null,null,null,null,null,null,null,null,null,{"$f":"SUMPRODUCT($C$8:C579-$H$8:H579)","v":142}]
[null,null,null,null,null,null,null,null,null,null,{"$f":"SUMPRODUCT($C$8:C580-$H$8:H580)","v":142}]
[null,null,null,null,null,null,null,null,null,null,{"$f":"SUMPRODUCT($C$8:C581-$H$8:H581)","v":142}]
[null,null,null,null,null,null,null,null,null,null,{"$f":"SUMPRODUCT($C$8:C582-$H$8:H582)","v":142}]
[null,null,null,null,null,null,null,null,null,null,{"$f":"SUMPRODUCT($C$8:C583-$H$8:H583)","v":142}]
[null,null,null,null,null,null,null,null,null,null,{"$f":"SUMPRODUCT($C$8:C584-$H$8:H584)","v":142}]
[null,null,null,null,null,null,null,null,null,null,{"$f":"SUMPRODUCT($C$8:C585-$H$8:H585)","v":142}]
[null,null,null,null,null,null,null,null,null,null,{"$f":"SUMPRODUCT($C$8:C586-$H$8:H586)","v":142}]
[null,null,null,null,null,null,null,null,null,null,{"$f":"SUMPRODUCT($C$8:C587-$H$8:H587)","v":142}]
[null,null,null,null,null,null,null,null,null,null,{"$f":"SUMPRODUCT($C$8:C588-$H$8:H588)","v":142}]
[null,null,null,null,null,null,null,null,null,null,{"$f":"SUMPRODUCT($C$8:C589-$H$8:H589)","v":142}]
[null,null,null,null,null,null,null,null,null,null,{"$f":"SUMPRODUCT($C$8:C590-$H$8:H590)","v":142}]
[null,null,null,null,null,null,null,null,null,null,{"$f":"SUMPRODUCT($C$8:C591-$H$8:H591)","v":142}]
[null,null,null,null,null,null,null,null,null,null,{"$f":"SUMPRODUCT($C$8:C592-$H$8:H592)","v":142}]
[null,null,null,null,null,null,null,null,null,null,{"$f":"SUMPRODUCT($C$8:C593-$H$8:H593)","v":142}]
[null,null,null,null,null,null,null,null,null,null,{"$f":"SUMPRODUCT($C$8:C594-$H$8:H594)","v":142}]
[null,null,null,null,null,null,null,null,null,null,{"$f":"SUMPRODUCT($C$8:C595-$H$8:H595)","v":142}]
[null,null,null,null,null,null,null,null,null,null,{"$f":"SUMPRODUCT($C$8:C596-$H$8:H596)","v":142}]
[null,null,null,null,null,null,null,null,null,null,{"$f":"SUMPRODUCT($C$8:C597-$H$8:H597)","v":142}]
[null,null,null,null,null,null,null,null,null,null,{"$f":"SUMPRODUCT($C$8:C598-$H$8:H598)","v":142}]
[null,null,null,null,null,null,null,null,null,null,{"$f":"SUMPRODUCT($C$8:C599-$H$8:H599)","v":142}]
[null,null,null,null,null,null,null,null,null,null,{"$f":"SUMPRODUCT($C$8:C600-$H$8:H600)","v":142}]
[null,null,null,null,null,null,null,null,null,null,{"$f":"SUMPRODUCT($C$8:C601-$H$8:H601)","v":142}]
[null,null,null,null,null,null,null,null,null,null,{"$f":"SUMPRODUCT($C$8:C602-$H$8:H602)","v":142}]
[null,null,null,null,null,null,null,null,null,null,{"$f":"SUMPRODUCT($C$8:C603-$H$8:H603)","v":142}]
[null,null,null,null,null,null,null,null,null,null,{"$f":"SUMPRODUCT($C$8:C604-$H$8:H604)","v":142}]
[null,null,null,null,null,null,null,null,null,null,{"$f":"SUMPRODUCT($C$8:C605-$H$8:H605)","v":142}]
[null,null,null,null,null,null,null,null,null,null,{"$f":"SUMPRODUCT($C$8:C606-$H$8:H606)","v":142}]
[null,null,null,null,null,null,null,null,null,null,{"$f":"SUMPRODUCT($C$8:C607-$H$8:H607)","v":142}]
[null,null,null,null,null,null,null,null,null,null,{"$f":"SUMPRODUCT($C$8:C608-$H$8:H608)","v":142}]
[null,null,null,null,null,null,null,null,null,null,{"$f":"SUMPRODUCT($C$8:C609-$H$8:H609)","v":142}]
[null,null,null,null,null,null,null,null,null,null,{"$f":"SUMPRODUCT($C$8:C610-$H$8:H610)","v":142}]
[null,null,null,null,null,null,null,null,null,null,{"$f":"SUMPRODUCT($C$8:C611-$H$8:H611)","v":142}]
[null,null,null,null,null,null,null,null,null,null,{"$f":"SUMPRODUCT($C$8:C612-$H$8:H612)","v":142}]
[null,null,null,null,null,null,null,null,null,null,{"$f":"SUMPRODUCT($C$8:C613-$H$8:H613)","v":142}]
[null,null,null,null,null,null,null,null,null,null,{"$f":"SUMPRODUCT($C$8:C614-$H$8:H614)","v":142}]
[null,null,null,null,null,null,null,null,null,null,{"$f":"SUMPRODUCT($C$8:C615-$H$8:H615)","v":142}]
[null,null,null,null,null,null,null,null,null,null,{"$f":"SUMPRODUCT($C$8:C616-$H$8:H616)","v":142}]
[null,null,null,null,null,null,null,null,null,null,{"$f":"SUMPRODUCT($C$8:C617-$H$8:H617)","v":142}]
[null,null,null,null,null,null,null,null,null,null,{"$f":"SUMPRODUCT($C$8:C618-$H$8:H618)","v":142}]
[null,null,null,null,null,null,null,null,null,null,{"$f":"SUMPRODUCT($C$8:C619-$H$8:H619)","v":142}]
[null,null,null,null,null,null,null,null,null,null,{"$f":"SUMPRODUCT($C$8:C620-$H$8:H620)","v":142}]
[null,null,null,null,null,null,null,null,null,null,{"$f":"SUMPRODUCT($C$8:C621-$H$8:H621)","v":142}]
[null,null,null,null,null,null,null,null,null,null,{"$f":"SUMPRODUCT($C$8:C622-$H$8:H622)","v":142}]
[null,null,null,null,null,null,null,null,null,null,{"$f":"SUMPRODUCT($C$8:C623-$H$8:H623)","v":142}]
[null,null,null,null,null,null,null,null,null,null,{"$f":"SUMPRODUCT($C$8:C624-$H$8:H624)","v":142}]
[null,null,null,null,null,null,null,null,null,null,{"$f":"SUMPRODUCT($C$8:C625-$H$8:H625)","v":142}]
[null,null,null,null,null,null,null,null,null,null,{"$f":"SUMPRODUCT($C$8:C626-$H$8:H626)","v":142}]
[null,null,null,null,null,null,null,null,null,null,{"$f":"SUMPRODUCT($C$8:C627-$H$8:H627)","v":142}]
[null,null,null,null,null,null,null,null,null,null,{"$f":"SUMPRODUCT($C$8:C628-$H$8:H628)","v":142}]
[null,null,null,null,null,null,null,null,null,null,{"$f":"SUMPRODUCT($C$8:C629-$H$8:H629)","v":142}]
[null,null,null,null,null,null,null,null,null,null,{"$f":"SUMPRODUCT($C$8:C630-$H$8:H630)","v":142}]
[null,null,null,null,null,null,null,null,null,null,{"$f":"SUMPRODUCT($C$8:C631-$H$8:H631)","v":142}]
[null,null,null,null,null,null,null,null,null,null,{"$f":"SUMPRODUCT($C$8:C632-$H$8:H632)","v":142}]
[null,null,null,null,null,null,null,null,null,null,{"$f":"SUMPRODUCT($C$8:C633-$H$8:H633)","v":142}]
[null,null,null,null,null,null,null,null,null,null,{"$f":"SUMPRODUCT($C$8:C634-$H$8:H634)","v":142}]
[null,null,null,null,null,null,null,null,null,null,{"$f":"SUMPRODUCT($C$8:C635-$H$8:H635)","v":142}]
[null,null,null,null,null,null,null,null,null,null,{"$f":"SUMPRODUCT($C$8:C636-$H$8:H636)","v":142}]
[null,null,null,null,null,null,null,null,null,null,{"$f":"SUMPRODUCT($C$8:C637-$H$8:H637)","v":142}]
[null,null,null,null,null,null,null,null,null,null,{"$f":"SUMPRODUCT($C$8:C638-$H$8:H638)","v":142}]
[null,null,null,null,null,null,null,null,null,null,{"$f":"SUMPRODUCT($C$8:C639-$H$8:H639)","v":142}]
[null,null,null,null,null,null,null,null,null,null,{"$f":"SUMPRODUCT($C$8:C640-$H$8:H640)","v":142}]
[null,null,null,null,null,null,null,null,null,null,{"$f":"SUMPRODUCT($C$8:C641-$H$8:H641)","v":142}]
[null,null,null,null,null,null,null,null,null,null,{"$f":"SUMPRODUCT($C$8:C642-$H$8:H642)","v":142}]
[null,null,null,null,null,null,null,null,null,null,{"$f":"SUMPRODUCT($C$8:C643-$H$8:H643)","v":142}]
[null,null,null,null,null,null,null,null,null,null,{"$f":"SUMPRODUCT($C$8:C644-$H$8:H644)","v":142}]
[null,null,null,null,null,null,null,null,null,null,{"$f":"SUMPRODUCT($C$8:C645-$H$8:H645)","v":142}]
[null,null,null,null,null,null,null,null,null,null,{"$f":"SUMPRODUCT($C$8:C646-$H$8:H646)","v":142}]
[null,null,null,null,null,null,null,null,null,null,{"$f":"SUMPRODUCT($C$8:C647-$H$8:H647)","v":142}]
[null,null,null,null,null,null,null,null,null,null,{"$f":"SUMPRODUCT($C$8:C648-$H$8:H648)","v":142}]
[null,null,null,null,null,null,null,null,null,null,{"$f":"SUMPRODUCT($C$8:C649-$H$8:H649)","v":142}]
[null,null,null,null,null,null,null,null,null,null,{"$f":"SUMPRODUCT($C$8:C650-$H$8:H650)","v":142}]
[null,null,null,null,null,null,null,null,null,null,{"$f":"SUMPRODUCT($C$8:C651-$H$8:H651)","v":142}]
[null,null,null,null,null,null,null,null,null,null,{"$f":"SUMPRODUCT($C$8:C652-$H$8:H652)","v":142}]
[null,null,null,null,null,null,null,null,null,null,{"$f":"SUMPRODUCT($C$8:C653-$H$8:H653)","v":142}]
[null,null,null,null,null,null,null,null,null,null,{"$f":"SUMPRODUCT($C$8:C654-$H$8:H654)","v":142}]
[null,null,null,null,null,null,null,null,null,null,{"$f":"SUMPRODUCT($C$8:C655-$H$8:H655)","v":142}]
[null,null,null,null,null,null,null,null,null,null,{"$f":"SUMPRODUCT($C$8:C656-$H$8:H656)","v":142}]
[null,null,null,null,null,null,null,null,null,null,{"$f":"SUMPRODUCT($C$8:C657-$H$8:H657)","v":142}]
[null,null,null,null,null,null,null,null,null,null,{"$f":"SUMPRODUCT($C$8:C658-$H$8:H658)","v":142}]
[null,null,null,null,null,null,null,null,null,null,{"$f":"SUMPRODUCT($C$8:C659-$H$8:H659)","v":142}]
[null,null,null,null,null,null,null,null,null,null,{"$f":"SUMPRODUCT($C$8:C660-$H$8:H660)","v":142}]
[null,null,null,null,null,null,null,null,null,null,{"$f":"SUMPRODUCT($C$8:C661-$H$8:H661)","v":142}]
[null,null,null,null,null,null,null,null,null,null,{"$f":"SUMPRODUCT($C$8:C662-$H$8:H662)","v":142}]
[null,null,null,null,null,null,null,null,null,null,{"$f":"SUMPRODUCT($C$8:C663-$H$8:H663)","v":142}]
[null,null,null,null,null,null,null,null,null,null,{"$f":"SUMPRODUCT($C$8:C664-$H$8:H664)","v":142}]
[null,null,null,null,null,null,null,null,null,null,{"$f":"SUMPRODUCT($C$8:C665-$H$8:H665)","v":142}]
[null,null,null,null,null,null,null,null,null,null,{"$f":"SUMPRODUCT($C$8:C666-$H$8:H666)","v":142}]
[null,null,null,null,null,null,null,null,null,null,{"$f":"SUMPRODUCT($C$8:C667-$H$8:H667)","v":142}]
[null,null,null,null,null,null,null,null,null,null,{"$f":"SUMPRODUCT($C$8:C668-$H$8:H668)","v":142}]
[null,null,null,null,null,null,null,null,null,null,{"$f":"SUMPRODUCT($C$8:C669-$H$8:H669)","v":142}]
[null,null,null,null,null,null,null,null,null,null,{"$f":"SUMPRODUCT($C$8:C670-$H$8:H670)","v":142}]
[null,null,null,null,null,null,null,null,null,null,{"$f":"SUMPRODUCT($C$8:C671-$H$8:H671)","v":142}]
[null,null,null,null,null,null,null,null,null,null,{"$f":"SUMPRODUCT($C$8:C672-$H$8:H672)","v":142}]
[null,null,null,null,null,null,null,null,null,null,{"$f":"SUMPRODUCT($C$8:C673-$H$8:H673)","v":142}]
[null,null,null,null,null,null,null,null,null,null,{"$f":"SUMPRODUCT($C$8:C674-$H$8:H674)","v":142}]
[null,null,null,null,null,null,null,null,null,null,{"$f":"SUMPRODUCT($C$8:C675-$H$8:H675)","v":142}]
[null,null,null,null,null,null,null,null,null,null,{"$f":"SUMPRODUCT($C$8:C676-$H$8:H676)","v":142}]
[null,null,null,null,null,null,null,null,null,null,{"$f":"SUMPRODUCT($C$8:C677-$H$8:H677)","v":142}]
[null,null,null,null,null,null,null,null,null,null,{"$f":"SUMPRODUCT($C$8:C678-$H$8:H678)","v":142}]
[null,null,null,null,null,null,null,null,null,null,{"$f":"SUMPRODUCT($C$8:C679-$H$8:H679)","v":142}]
[null,null,null,null,null,null,null,null,null,null,{"$f":"SUMPRODUCT($C$8:C680-$H$8:H680)","v":142}]
[null,null,null,null,null,null,null,null,null,null,{"$f":"SUMPRODUCT($C$8:C681-$H$8:H681)","v":142}]
[null,null,null,null,null,null,null,null,null,null,{"$f":"SUMPRODUCT($C$8:C682-$H$8:H682)","v":142}]
[null,null,null,null,null,null,null,null,null,null,{"$f":"SUMPRODUCT($C$8:C683-$H$8:H683)","v":142}]
[null,null,null,null,null,null,null,null,null,null,{"$f":"SUMPRODUCT($C$8:C684-$H$8:H684)","v":142}]
[null,null,null,null,null,null,null,null,null,null,{"$f":"SUMPRODUCT($C$8:C685-$H$8:H685)","v":142}]
[null,null,null,null,null,null,null,null,null,null,{"$f":"SUMPRODUCT($C$8:C686-$H$8:H686)","v":142}]
[null,null,null,null,null,null,null,null,null,null,{"$f":"SUMPRODUCT($C$8:C687-$H$8:H687)","v":142}]
[null,null,null,null,null,null,null,null,null,null,{"$f":"SUMPRODUCT($C$8:C688-$H$8:H688)","v":142}]
[null,null,null,null,null,null,null,null,null,null,{"$f":"SUMPRODUCT($C$8:C689-$H$8:H689)","v":142}]
[null,null,null,null,null,null,null,null,null,null,{"$f":"SUMPRODUCT($C$8:C690-$H$8:H690)","v":142}]
[null,null,null,null,null,null,null,null,null,null,{"$f":"SUMPRODUCT($C$8:C691-$H$8:H691)","v":142}]
[null,null,null,null,null,null,null,null,null,null,{"$f":"SUMPRODUCT($C$8:C692-$H$8:H692)","v":142}]
[null,null,null,null,null,null,null,null,null,null,{"$f":"SUMPRODUCT($C$8:C693-$H$8:H693)","v":142}]
[null,null,null,null,null,null,null,null,null,null,{"$f":"SUMPRODUCT($C$8:C694-$H$8:H694)","v":142}]
[null,null,null,null,null,null,null,null,null,null,{"$f":"SUMPRODUCT($C$8:C695-$H$8:H695)","v":142}]
[null,null,null,null,null,null,null,null,null,null,{"$f":"SUMPRODUCT($C$8:C696-$H$8:H696)","v":142}]
[null,null,null,null,null,null,null,null,null,null,{"$f":"SUMPRODUCT($C$8:C697-$H$8:H697)","v":142}]
[null,null,null,null,null,null,null,null,null,null,{"$f":"SUMPRODUCT($C$8:C698-$H$8:H698)","v":142}]
[null,null,null,null,null,null,null,null,null,null,{"$f":"SUMPRODUCT($C$8:C699-$H$8:H699)","v":142}]
[null,null,null,null,null,null,null,null,null,null,{"$f":"SUMPRODUCT($C$8:C700-$H$8:H700)","v":142}]
[null,null,null,null,null,null,null,null,null,null,{"$f":"SUMPRODUCT($C$8:C701-$H$8:H701)","v":142}]
[null,null,null,null,null,null,null,null,null,null,{"$f":"SUMPRODUCT($C$8:C702-$H$8:H702)","v":142}]
[null,null,null,null,null,null,null,null,null,null,{"$f":"SUMPRODUCT($C$8:C703-$H$8:H703)","v":142}]
[null,null,null,null,null,null,null,null,null,null,{"$f":"SUMPRODUCT($C$8:C704-$H$8:H704)","v":142}]
[null,null,null,null,null,null,null,null,null,null,{"$f":"SUMPRODUCT($C$8:C705-$H$8:H705)","v":142}]
[null,null,null,null,null,null,null,null,null,null,{"$f":"SUMPRODUCT($C$8:C706-$H$8:H706)","v":142}]
[null,null,null,null,null,null,null,null,null,null,{"$f":"SUMPRODUCT($C$8:C707-$H$8:H707)","v":142}]
[null,null,null,null,null,null,null,null,null,null,{"$f":"SUMPRODUCT($C$8:C708-$H$8:H708)","v":142}]
[null,null,null,null,null,null,null,null,null,null,{"$f":"SUMPRODUCT($C$8:C709-$H$8:H709)","v":142}]
[null,null,null,null,null,null,null,null,null,null,{"$f":"SUMPRODUCT($C$8:C710-$H$8:H710)","v":142}]
[null,null,null,null,null,null,null,null,null,null,{"$f":"SUMPRODUCT($C$8:C711-$H$8:H711)","v":142}]
[null,null,null,null,null,null,null,null,null,null,{"$f":"SUMPRODUCT($C$8:C712-$H$8:H712)","v":142}]
[null,null,null,null,null,null,null,null,null,null,{"$f":"SUMPRODUCT($C$8:C713-$H$8:H713)","v":142}]
[null,null,null,null,null,null,null,null,null,null,{"$f":"SUMPRODUCT($C$8:C714-$H$8:H714)","v":142}]
[null,null,null,null,null,null,null,null,null,null,{"$f":"SUMPRODUCT($C$8:C715-$H$8:H715)","v":142}]
[null,null,null,null,null,null,null,null,null,null,{"$f":"SUMPRODUCT($C$8:C716-$H$8:H716)","v":142}]
[null,null,null,null,null,null,null,null,null,null,{"$f":"SUMPRODUCT($C$8:C717-$H$8:H717)","v":142}]
[null,null,null,null,null,null,null,null,null,null,{"$f":"SUMPRODUCT($C$8:C718-$H$8:H718)","v":142}]
[null,null,null,null,null,null,null,null,null,null,{"$f":"SUMPRODUCT($C$8:C719-$H$8:H719)","v":142}]
[null,null,null,null,null,null,null,null,null,null,{"$f":"SUMPRODUCT($C$8:C720-$H$8:H720)","v":142}]
[null,null,null,null,null,null,null,null,null,null,{"$f":"SUMPRODUCT($C$8:C721-$H$8:H721)","v":142}]
[null,null,null,null,null,null,null,null,null,null,{"$f":"SUMPRODUCT($C$8:C722-$H$8:H722)","v":142}]
[null,null,null,null,null,null,null,null,null,null,{"$f":"SUMPRODUCT($C$8:C723-$H$8:H723)","v":142}]
[null,null,null,null,null,null,null,null,null,null,{"$f":"SUMPRODUCT($C$8:C724-$H$8:H724)","v":142}]
[null,null,null,null,null,null,null,null,null,null,{"$f":"SUMPRODUCT($C$8:C725-$H$8:H725)","v":142}]
[null,null,null,null,null,null,null,null,null,null,{"$f":"SUMPRODUCT($C$8:C726-$H$8:H726)","v":142}]
[null,null,null,null,null,null,null,null,null,null,{"$f":"SUMPRODUCT($C$8:C727-$H$8:H727)","v":142}]
[null,null,null,null,null,null,null,null,null,null,{"$f":"SUMPRODUCT($C$8:C728-$H$8:H728)","v":142}]
[null,null,null,null,null,null,null,null,null,null,{"$f":"SUMPRODUCT($C$8:C729-$H$8:H729)","v":142}]
[null,null,null,null,null,null,null,null,null,null,{"$f":"SUMPRODUCT($C$8:C730-$H$8:H730)","v":142}]
[null,null,null,null,null,null,null,null,null,null,{"$f":"SUMPRODUCT($C$8:C731-$H$8:H731)","v":142}]
[null,null,null,null,null,null,null,null,null,null,{"$f":"SUMPRODUCT($C$8:C732-$H$8:H732)","v":142}]
[null,null,null,null,null,null,null,null,null,null,{"$f":"SUMPRODUCT($C$8:C733-$H$8:H733)","v":142}]
[null,null,null,null,null,null,null,null,null,null,{"$f":"SUMPRODUCT($C$8:C734-$H$8:H734)","v":142}]
[null,null,null,null,null,null,null,null,null,null,{"$f":"SUMPRODUCT($C$8:C735-$H$8:H735)","v":142}]
[null,null,null,null,null,null,null,null,null,null,{"$f":"SUMPRODUCT($C$8:C736-$H$8:H736)","v":142}]
[null,null,null,null,null,null,null,null,null,null,{"$f":"SUMPRODUCT($C$8:C737-$H$8:H737)","v":142}]
[null,null,null,null,null,null,null,null,null,null,{"$f":"SUMPRODUCT($C$8:C738-$H$8:H738)","v":142}]
[null,null,null,null,null,null,null,null,null,null,{"$f":"SUMPRODUCT($C$8:C739-$H$8:H739)","v":142}]
[null,null,null,null,null,null,null,null,null,null,{"$f":"SUMPRODUCT($C$8:C740-$H$8:H740)","v":142}]
[null,null,null,null,null,null,null,null,null,null,{"$f":"SUMPRODUCT($C$8:C741-$H$8:H741)","v":142}]
[null,null,null,null,null,null,null,null,null,null,{"$f":"SUMPRODUCT($C$8:C742-$H$8:H742)","v":142}]
[null,null,null,null,null,null,null,null,null,null,{"$f":"SUMPRODUCT($C$8:C743-$H$8:H743)","v":142}]
[null,null,null,null,null,null,null,null,null,null,{"$f":"SUMPRODUCT($C$8:C744-$H$8:H744)","v":142}]
[null,null,null,null,null,null,null,null,null,null,{"$f":"SUMPRODUCT($C$8:C745-$H$8:H745)","v":142}]
[null,null,null,null,null,null,null,null,null,null,{"$f":"SUMPRODUCT($C$8:C746-$H$8:H746)","v":142}]
[null,null,null,null,null,null,null,null,null,null,{"$f":"SUMPRODUCT($C$8:C747-$H$8:H747)","v":142}]
[null,null,null,null,null,null,null,null,null,null,{"$f":"SUMPRODUCT($C$8:C748-$H$8:H748)","v":142}]
[null,null,null,null,null,null,null,null,null,null,{"$f":"SUMPRODUCT($C$8:C749-$H$8:H749)","v":142}]
[null,null,null,null,null,null,null,null,null,null,{"$f":"SUMPRODUCT($C$8:C750-$H$8:H750)","v":142}]
[null,null,null,null,null,null,null,null,null,null,{"$f":"SUMPRODUCT($C$8:C751-$H$8:H751)","v":142}]
[null,null,null,null,null,null,null,null,null,null,{"$f":"SUMPRODUCT($C$8:C752-$H$8:H752)","v":142}]
[null,null,null,null,null,null,null,null,null,null,{"$f":"SUMPRODUCT($C$8:C753-$H$8:H753)","v":142}]
[null,null,null,null,null,null,null,null,null,null,{"$f":"SUMPRODUCT($C$8:C754-$H$8:H754)","v":142}]
[null,null,null,null,null,null,null,null,null,null,{"$f":"SUMPRODUCT($C$8:C755-$H$8:H755)","v":142}]
[null,null,null,null,null,null,null,null,null,null,{"$f":"SUMPRODUCT($C$8:C756-$H$8:H756)","v":142}]
[null,null,null,null,null,null,null,null,null,null,{"$f":"SUMPRODUCT($C$8:C757-$H$8:H757)","v":142}]
[null,null,null,null,null,null,null,null,null,null,{"$f":"SUMPRODUCT($C$8:C758-$H$8:H758)","v":142}]
[null,null,null,null,null,null,null,null,null,null,{"$f":"SUMPRODUCT($C$8:C759-$H$8:H759)","v":142}]
[null,null,null,null,null,null,null,null,null,null,{"$f":"SUMPRODUCT($C$8:C760-$H$8:H760)","v":142}]
[null,null,null,null,null,null,null,null,null,null,{"$f":"SUMPRODUCT($C$8:C761-$H$8:H761)","v":142}]
[null,null,null,null,null,null,null,null,null,null,{"$f":"SUMPRODUCT($C$8:C762-$H$8:H762)","v":142}]
[null,null,null,null,null,null,null,null,null,null,{"$f":"SUMPRODUCT($C$8:C763-$H$8:H763)","v":142}]
[null,null,null,null,null,null,null,null,null,null,{"$f":"SUMPRODUCT($C$8:C764-$H$8:H764)","v":142}]
[null,null,null,null,null,null,null,null,null,null,{"$f":"SUMPRODUCT($C$8:C765-$H$8:H765)","v":142}]
[null,null,null,null,null,null,null,null,null,null,{"$f":"SUMPRODUCT($C$8:C766-$H$8:H766)","v":142}]
[null,null,null,null,null,null,null,null,null,null,{"$f":"SUMPRODUCT($C$8:C767-$H$8:H767)","v":142}]
[null,null,null,null,null,null,null,null,null,null,{"$f":"SUMPRODUCT($C$8:C768-$H$8:H768)","v":142}]
[null,null,null,null,null,null,null,null,null,null,{"$f":"SUMPRODUCT($C$8:C769-$H$8:H769)","v":142}]
[null,null,null,null,null,null,null,null,null,null,{"$f":"SUMPRODUCT($C$8:C770-$H$8:H770)","v":142}]
[null,null,null,null,null,null,null,null,null,null,{"$f":"SUMPRODUCT($C$8:C771-$H$8:H771)","v":142}]
[null,null,null,null,null,null,null,null,null,null,{"$f":"SUMPRODUCT($C$8:C772-$H$8:H772)","v":142}]
[null,null,null,null,null,null,null,null,null,null,{"$f":"SUMPRODUCT($C$8:C773-$H$8:H773)","v":142}]
[null,null,null,null,null,null,null,null,null,null,{"$f":"SUMPRODUCT($C$8:C774-$H$8:H774)","v":142}]
[null,null,null,null,null,null,null,null,null,null,{"$f":"SUMPRODUCT($C$8:C775-$H$8:H775)","v":142}]
[null,null,null,null,null,null,null,null,null,null,{"$f":"SUMPRODUCT($C$8:C776-$H$8:H776)","v":142}]
[null,null,null,null,null,null,null,null,null,null,{"$f":"SUMPRODUCT($C$8:C777-$H$8:H777)","v":142}]
[null,null,null,null,null,null,null,null,null,null,{"$f":"SUMPRODUCT($C$8:C778-$H$8:H778)","v":142}]
[null,null,null,null,null,null,null,null,null,null,{"$f":"SUMPRODUCT($C$8:C779-$H$8:H779)","v":142}]
[null,null,null,null,null,null,null,null,null,null,{"$f":"SUMPRODUCT($C$8:C780-$H$8:H780)","v":142}]
[null,null,null,null,null,null,null,null,null,null,{"$f":"SUMPRODUCT($C$8:C781-$H$8:H781)","v":142}]
[null,null,null,null,null,null,null,null,null,null,{"$f":"SUMPRODUCT($C$8:C782-$H$8:H782)","v":142}]
[null,null,null,null,null,null,null,null,null,null,{"$f":"SUMPRODUCT($C$8:C783-$H$8:H783)","v":142}]
[null,null,null,null,null,null,null,null,null,null,{"$f":"SUMPRODUCT($C$8:C784-$H$8:H784)","v":142}]
[null,null,null,null,null,null,null,null,null,null,{"$f":"SUMPRODUCT($C$8:C785-$H$8:H785)","v":142}]
[null,null,null,null,null,null,null,null,null,null,{"$f":"SUMPRODUCT($C$8:C786-$H$8:H786)","v":142}]
[null,null,null,null,null,null,null,null,null,null,{"$f":"SUMPRODUCT($C$8:C787-$H$8:H787)","v":142}]
[null,null,null,null,null,null,null,null,null,null,{"$f":"SUMPRODUCT($C$8:C788-$H$8:H788)","v":142}]
[null,null,null,null,null,null,null,null,null,null,{"$f":"SUMPRODUCT($C$8:C789-$H$8:H789)","v":142}]
[null,null,null,null,null,null,null,null,null,null,{"$f":"SUMPRODUCT($C$8:C790-$H$8:H790)","v":142}]
[null,null,null,null,null,null,null,null,null,null,{"$f":"SUMPRODUCT($C$8:C791-$H$8:H791)","v":142}]
[null,null,null,null,null,null,null,null,null,null,{"$f":"SUMPRODUCT($C$8:C792-$H$8:H792)","v":142}]
[null,null,null,null,null,null,null,null,null,null,{"$f":"SUMPRODUCT($C$8:C793-$H$8:H793)","v":142}]
[null,null,null,null,null,null,null,null,null,null,{"$f":"SUMPRODUCT($C$8:C794-$H$8:H794)","v":142}]
[null,null,null,null,null,null,null,null,null,null,{"$f":"SUMPRODUCT($C$8:C795-$H$8:H795)","v":142}]
[null,null,null,null,null,null,null,null,null,null,{"$f":"SUMPRODUCT($C$8:C796-$H$8:H796)","v":142}]
[null,null,null,null,null,null,null,null,null,null,{"$f":"SUMPRODUCT($C$8:C797-$H$8:H797)","v":142}]
[null,null,null,null,null,null,null,null,null,null,{"$f":"SUMPRODUCT($C$8:C798-$H$8:H798)","v":142}]
[null,null,null,null,null,null,null,null,null,null,{"$f":"SUMPRODUCT($C$8:C799-$H$8:H799)","v":142}]
[null,null,null,null,null,null,null,null,null,null,{"$f":"SUMPRODUCT($C$8:C800-$H$8:H800)","v":142}]
[null,null,null,null,null,null,null,null,null,null,{"$f":"SUMPRODUCT($C$8:C801-$H$8:H801)","v":142}]
[null,null,null,null,null,null,null,null,null,null,{"$f":"SUMPRODUCT($C$8:C802-$H$8:H802)","v":142}]
[null,null,null,null,null,null,null,null,null,null,{"$f":"SUMPRODUCT($C$8:C803-$H$8:H803)","v":142}]
[null,null,null,null,null,null,null,null,null,null,{"$f":"SUMPRODUCT($C$8:C804-$H$8:H804)","v":142}]
[null,null,null,null,null,null,null,null,null,null,{"$f":"SUMPRODUCT($C$8:C805-$H$8:H805)","v":142}]
[null,null,null,null,null,null,null,null,null,null,{"$f":"SUMPRODUCT($C$8:C806-$H$8:H806)","v":142}]
[null,null,null,null,null,null,null,null,null,null,{"$f":"SUMPRODUCT($C$8:C807-$H$8:H807)","v":142}]
[null,null,null,null,null,null,null,null,null,null,{"$f":"SUMPRODUCT($C$8:C808-$H$8:H808)","v":142}]
[null,null,null,null,null,null,null,null,null,null,{"$f":"SUMPRODUCT($C$8:C809-$H$8:H809)","v":142}]
[null,null,null,null,null,null,null,null,null,null,{"$f":"SUMPRODUCT($C$8:C810-$H$8:H810)","v":142}]
[null,null,null,null,null,null,null,null,null,null,{"$f":"SUMPRODUCT($C$8:C811-$H$8:H811)","v":142}]
[null,null,null,null,null,null,null,null,null,null,{"$f":"SUMPRODUCT($C$8:C812-$H$8:H812)","v":142}]
[null,null,null,null,null,null,null,null,null,null,{"$f":"SUMPRODUCT($C$8:C813-$H$8:H813)","v":142}]
[null,null,null,null,null,null,null,null,null,null,{"$f":"SUMPRODUCT($C$8:C814-$H$8:H814)","v":142}]
[null,null,null,null,null,null,null,null,null,null,{"$f":"SUMPRODUCT($C$8:C815-$H$8:H815)","v":142}]
[null,null,null,null,null,null,null,null,null,null,{"$f":"SUMPRODUCT($C$8:C816-$H$8:H816)","v":142}]
[null,null,null,null,null,null,null,null,null,null,{"$f":"SUMPRODUCT($C$8:C817-$H$8:H817)","v":142}]
[null,null,null,null,null,null,null,null,null,null,{"$f":"SUMPRODUCT($C$8:C818-$H$8:H818)","v":142}]
[null,null,null,null,null,null,null,null,null,null,{"$f":"SUMPRODUCT($C$8:C819-$H$8:H819)","v":142}]
[null,null,null,null,null,null,null,null,null,null,{"$f":"SUMPRODUCT($C$8:C820-$H$8:H820)","v":142}]
[null,null,null,null,null,null,null,null,null,null,{"$f":"SUMPRODUCT($C$8:C821-$H$8:H821)","v":142}]
[null,null,null,null,null,null,null,null,null,null,{"$f":"SUMPRODUCT($C$8:C822-$H$8:H822)","v":142}]
[null,null,null,null,null,null,null,null,null,null,{"$f":"SUMPRODUCT($C$8:C823-$H$8:H823)","v":142}]
[null,null,null,null,null,null,null,null,null,null,{"$f":"SUMPRODUCT($C$8:C824-$H$8:H824)","v":142}]
[null,null,null,null,null,null,null,null,null,null,{"$f":"SUMPRODUCT($C$8:C825-$H$8:H825)","v":142}]
[null,null,null,null,null,null,null,null,null,null,{"$f":"SUMPRODUCT($C$8:C826-$H$8:H826)","v":142}]
[null,null,null,null,null,null,null,null,null,null,{"$f":"SUMPRODUCT($C$8:C827-$H$8:H827)","v":142}]
[null,null,null,null,null,null,null,null,null,null,{"$f":"SUMPRODUCT($C$8:C828-$H$8:H828)","v":142}]
[null,null,null,null,null,null,null,null,null,null,{"$f":"SUMPRODUCT($C$8:C829-$H$8:H829)","v":142}]
[null,null,null,null,null,null,null,null,null,null,{"$f":"SUMPRODUCT($C$8:C830-$H$8:H830)","v":142}]
[null,null,null,null,null,null,null,null,null,null,{"$f":"SUMPRODUCT($C$8:C831-$H$8:H831)","v":142}]
[null,null,null,null,null,null,null,null,null,null,{"$f":"SUMPRODUCT($C$8:C832-$H$8:H832)","v":142}]
[null,null,null,null,null,null,null,null,null,null,{"$f":"SUMPRODUCT($C$8:C833-$H$8:H833)","v":142}]
[null,null,null,null,null,null,null,null,null,null,{"$f":"SUMPRODUCT($C$8:C834-$H$8:H834)","v":142}]
[null,null,null,null,null,null,null,null,null,null,{"$f":"SUMPRODUCT($C$8:C835-$H$8:H835)","v":142}]
[null,null,null,null,null,null,null,null,null,null,{"$f":"SUMPRODUCT($C$8:C836-$H$8:H836)","v":142}]
[null,null,null,null,null,null,null,null,null,null,{"$f":"SUMPRODUCT($C$8:C837-$H$8:H837)","v":142}]
[null,null,null,null,null,null,null,null,null,null,{"$f":"SUMPRODUCT($C$8:C838-$H$8:H838)","v":142}]
[null,null,null,null,null,null,null,null,null,null,{"$f":"SUMPRODUCT($C$8:C839-$H$8:H839)","v":142}]
[null,null,null,null,null,null,null,null,null,null,{"$f":"SUMPRODUCT($C$8:C840-$H$8:H840)","v":142}]
[null,null,null,null,null,null,null,null,null,null,{"$f":"SUMPRODUCT($C$8:C841-$H$8:H841)","v":142}]
[null,null,null,null,null,null,null,null,null,null,{"$f":"SUMPRODUCT($C$8:C842-$H$8:H842)","v":142}]
[null,null,null,null,null,null,null,null,null,null,{"$f":"SUMPRODUCT($C$8:C843-$H$8:H843)","v":142}]
[null,null,null,null,null,null,null,null,null,null,{"$f":"SUMPRODUCT($C$8:C844-$H$8:H844)","v":142}]
[null,null,null,null,null,null,null,null,null,null,{"$f":"SUMPRODUCT($C$8:C845-$H$8:H845)","v":142}]
[null,null,null,null,null,null,null,null,null,null,{"$f":"SUMPRODUCT($C$8:C846-$H$8:H846)","v":142}]
[null,null,null,null,null,null,null,null,null,null,{"$f":"SUMPRODUCT($C$8:C847-$H$8:H847)","v":142}]
[null,null,null,null,null,null,null,null,null,null,{"$f":"SUMPRODUCT($C$8:C848-$H$8:H848)","v":142}]
[null,null,null,null,null,null,null,null,null,null,{"$f":"SUMPRODUCT($C$8:C849-$H$8:H849)","v":142}]
[null,null,null,null,null,null,null,null,null,null,{"$f":"SUMPRODUCT($C$8:C850-$H$8:H850)","v":142}]
[null,null,null,null,null,null,null,null,null,null,{"$f":"SUMPRODUCT($C$8:C851-$H$8:H851)","v":142}]
[null,null,null,null,null,null,null,null,null,null,{"$f":"SUMPRODUCT($C$8:C852-$H$8:H852)","v":142}]
[null,null,null,null,null,null,null,null,null,null,{"$f":"SUMPRODUCT($C$8:C853-$H$8:H853)","v":142}]
[null,null,null,null,null,null,null,null,null,null,{"$f":"SUMPRODUCT($C$8:C854-$H$8:H854)","v":142}]
[null,null,null,null,null,null,null,null,null,null,{"$f":"SUMPRODUCT($C$8:C855-$H$8:H855)","v":142}]
[null,null,null,null,null,null,null,null,null,null,{"$f":"SUMPRODUCT($C$8:C856-$H$8:H856)","v":142}]
[null,null,null,null,null,null,null,null,null,null,{"$f":"SUMPRODUCT($C$8:C857-$H$8:H857)","v":142}]
[null,null,null,null,null,null,null,null,null,null,{"$f":"SUMPRODUCT($C$8:C858-$H$8:H858)","v":142}]
[null,null,null,null,null,null,null,null,null,null,{"$f":"SUMPRODUCT($C$8:C859-$H$8:H859)","v":142}]
[null,null,null,null,null,null,null,null,null,null,{"$f":"SUMPRODUCT($C$8:C860-$H$8:H860)","v":142}]
[null,null,null,null,null,null,null,null,null,null,{"$f":"SUMPRODUCT($C$8:C861-$H$8:H861)","v":142}]
[null,null,null,null,null,null,null,null,null,null,{"$f":"SUMPRODUCT($C$8:C862-$H$8:H862)","v":142}]
[null,null,null,null,null,null,null,null,null,null,{"$f":"SUMPRODUCT($C$8:C863-$H$8:H863)","v":142}]
[null,null,null,null,null,null,null,null,null,null,{"$f":"SUMPRODUCT($C$8:C864-$H$8:H864)","v":142}]
[null,null,null,null,null,null,null,null,null,null,{"$f":"SUMPRODUCT($C$8:C865-$H$8:H865)","v":142}]
[null,null,null,null,null,null,null,null,null,null,{"$f":"SUMPRODUCT($C$8:C866-$H$8:H866)","v":142}]
[null,null,null,null,null,null,null,null,null,null,{"$f":"SUMPRODUCT($C$8:C867-$H$8:H867)","v":142}]
[null,null,null,null,null,null,null,null,null,null,{"$f":"SUMPRODUCT($C$8:C868-$H$8:H868)","v":142}]
[null,null,null,null,null,null,null,null,null,null,{"$f":"SUMPRODUCT($C$8:C869-$H$8:H869)","v":142}]
[null,null,null,null,null,null,null,null,null,null,{"$f":"SUMPRODUCT($C$8:C870-$H$8:H870)","v":142}]
[null,null,null,null,null,null,null,null,null,null,{"$f":"SUMPRODUCT($C$8:C871-$H$8:H871)","v":142}]
[null,null,null,null,null,null,null,null,null,null,{"$f":"SUMPRODUCT($C$8:C872-$H$8:H872)","v":142}]
[null,null,null,null,null,null,null,null,null,null,{"$f":"SUMPRODUCT($C$8:C873-$H$8:H873)","v":142}]
[null,null,null,null,null,null,null,null,null,null,{"$f":"SUMPRODUCT($C$8:C874-$H$8:H874)","v":142}]
[null,null,null,null,null,null,null,null,null,null,{"$f":"SUMPRODUCT($C$8:C875-$H$8:H875)","v":142}]
[null,null,null,null,null,null,null,null,null,null,{"$f":"SUMPRODUCT($C$8:C876-$H$8:H876)","v":142}]
[null,null,null,null,null,null,null,null,null,null,{"$f":"SUMPRODUCT($C$8:C877-$H$8:H877)","v":142}]
[null,null,null,null,null,null,null,null,null,null,{"$f":"SUMPRODUCT($C$8:C878-$H$8:H878)","v":142}]
[null,null,null,null,null,null,null,null,null,null,{"$f":"SUMPRODUCT($C$8:C879-$H$8:H879)","v":142}]
[null,null,null,null,null,null,null,null,null,null,{"$f":"SUMPRODUCT($C$8:C880-$H$8:H880)","v":142}]
[null,null,null,null,null,null,null,null,null,null,{"$f":"SUMPRODUCT($C$8:C881-$H$8:H881)","v":142}]
[null,null,null,null,null,null,null,null,null,null,{"$f":"SUMPRODUCT($C$8:C882-$H$8:H882)","v":142}]
[null,null,null,null,null,null,null,null,null,null,{"$f":"SUMPRODUCT($C$8:C883-$H$8:H883)","v":142}]
[null,null,null,null,null,null,null,null,null,null,{"$f":"SUMPRODUCT($C$8:C884-$H$8:H884)","v":142}]
[null,null,null,null,null,null,null,null,null,null,{"$f":"SUMPRODUCT($C$8:C885-$H$8:H885)","v":142}]
[null,null,null,null,null,null,null,null,null,null,{"$f":"SUMPRODUCT($C$8:C886-$H$8:H886)","v":142}]
[null,null,null,null,null,null,null,null,null,null,{"$f":"SUMPRODUCT($C$8:C887-$H$8:H887)","v":142}]
[null,null,null,null,null,null,null,null,null,null,{"$f":"SUMPRODUCT($C$8:C888-$H$8:H888)","v":142}]
[null,null,null,null,null,null,null,null,null,null,{"$f":"SUMPRODUCT($C$8:C889-$H$8:H889)","v":142}]
[null,null,null,null,null,null,null,null,null,null,{"$f":"SUMPRODUCT($C$8:C890-$H$8:H890)","v":142}]
[null,null,null,null,null,null,null,null,null,null,{"$f":"SUMPRODUCT($C$8:C891-$H$8:H891)","v":142}]
[null,null,null,null,null,null,null,null,null,null,{"$f":"SUMPRODUCT($C$8:C892-$H$8:H892)","v":142}]
[null,null,null,null,null,null,null,null,null,null,{"$f":"SUMPRODUCT($C$8:C893-$H$8:H893)","v":142}]
[null,null,null,null,null,null,null,null,null,null,{"$f":"SUMPRODUCT($C$8:C894-$H$8:H894)","v":142}]
[null,null,null,null,null,null,null,null,null,null,{"$f":"SUMPRODUCT($C$8:C895-$H$8:H895)","v":142}]
[null,null,null,null,null,null,null,null,null,null,{"$f":"SUMPRODUCT($C$8:C896-$H$8:H896)","v":142}]
[null,null,null,null,null,null,null,null,null,null,{"$f":"SUMPRODUCT($C$8:C897-$H$8:H897)","v":142}]
[null,null,null,null,null,null,null,null,null,null,{"$f":"SUMPRODUCT($C$8:C898-$H$8:H898)","v":142}]
[null,null,null,null,null,null,null,null,null,null,{"$f":"SUMPRODUCT($C$8:C899-$H$8:H899)","v":142}]
[null,null,null,null,null,null,null,null,null,null,{"$f":"SUMPRODUCT($C$8:C900-$H$8:H900)","v":142}]
[null,null,null,null,null,null,null,null,null,null,{"$f":"SUMPRODUCT($C$8:C901-$H$8:H901)","v":142}]
[null,null,null,null,null,null,null,null,null,null,{"$f":"SUMPRODUCT($C$8:C902-$H$8:H902)","v":142}]
[null,null,null,null,null,null,null,null,null,null,{"$f":"SUMPRODUCT($C$8:C903-$H$8:H903)","v":142}]
[null,null,null,null,null,null,null,null,null,null,{"$f":"SUMPRODUCT($C$8:C904-$H$8:H904)","v":142}]
[null,null,null,null,null,null,null,null,null,null,{"$f":"SUMPRODUCT($C$8:C905-$H$8:H905)","v":142}]
[null,null,null,null,null,null,null,null,null,null,{"$f":"SUMPRODUCT($C$8:C906-$H$8:H906)","v":142}]
[null,null,null,null,null,null,null,null,null,null,{"$f":"SUMPRODUCT($C$8:C907-$H$8:H907)","v":142}]
[null,null,null,null,null,null,null,null,null,null,{"$f":"SUMPRODUCT($C$8:C908-$H$8:H908)","v":142}]
[null,null,null,null,null,null,null,null,null,null,{"$f":"SUMPRODUCT($C$8:C909-$H$8:H909)","v":142}]
[null,null,null,null,null,null,null,null,null,null,{"$f":"SUMPRODUCT($C$8:C910-$H$8:H910)","v":142}]
[null,null,null,null,null,null,null,null,null,null,{"$f":"SUMPRODUCT($C$8:C911-$H$8:H911)","v":142}]
[null,null,null,null,null,null,null,null,null,null,{"$f":"SUMPRODUCT($C$8:C912-$H$8:H912)","v":142}]
[null,null,null,null,null,null,null,null,null,null,{"$f":"SUMPRODUCT($C$8:C913-$H$8:H913)","v":142}]
[null,null,null,null,null,null,null,null,null,null,{"$f":"SUMPRODUCT($C$8:C914-$H$8:H914)","v":142}]
[null,null,null,null,null,null,null,null,null,null,{"$f":"SUMPRODUCT($C$8:C915-$H$8:H915)","v":142}]
[null,null,null,null,null,null,null,null,null,null,{"$f":"SUMPRODUCT($C$8:C916-$H$8:H916)","v":142}]
[null,null,null,null,null,null,null,null,null,null,{"$f":"SUMPRODUCT($C$8:C917-$H$8:H917)","v":142}]
[null,null,null,null,null,null,null,null,null,null,{"$f":"SUMPRODUCT($C$8:C918-$H$8:H918)","v":142}]
[null,null,null,null,null,null,null,null,null,null,{"$f":"SUMPRODUCT($C$8:C919-$H$8:H919)","v":142}]
[null,null,null,null,null,null,null,null,null,null,{"$f":"SUMPRODUCT($C$8:C920-$H$8:H920)","v":142}]
[null,null,null,null,null,null,null,null,null,null,{"$f":"SUMPRODUCT($C$8:C921-$H$8:H921)","v":142}]
[null,null,null,null,null,null,null,null,null,null,{"$f":"SUMPRODUCT($C$8:C922-$H$8:H922)","v":142}]
[null,null,null,null,null,null,null,null,null,null,{"$f":"SUMPRODUCT($C$8:C923-$H$8:H923)","v":142}]
[null,null,null,null,null,null,null,null,null,null,{"$f":"SUMPRODUCT($C$8:C924-$H$8:H924)","v":142}]
[null,null,null,null,null,null,null,null,null,null,{"$f":"SUMPRODUCT($C$8:C925-$H$8:H925)","v":142}]
[null,null,null,null,null,null,null,null,null,null,{"$f":"SUMPRODUCT($C$8:C926-$H$8:H926)","v":142}]
[null,null,null,null,null,null,null,null,null,null,{"$f":"SUMPRODUCT($C$8:C927-$H$8:H927)","v":142}]
[null,null,null,null,null,null,null,null,null,null,{"$f":"SUMPRODUCT($C$8:C928-$H$8:H928)","v":142}]
[null,null,null,null,null,null,null,null,null,null,{"$f":"SUMPRODUCT($C$8:C929-$H$8:H929)","v":142}]
[null,null,null,null,null,null,null,null,null,null,{"$f":"SUMPRODUCT($C$8:C930-$H$8:H930)","v":142}]
[null,null,null,null,null,null,null,null,null,null,{"$f":"SUMPRODUCT($C$8:C931-$H$8:H931)","v":142}]
[null,null,null,null,null,null,null,null,null,null,{"$f":"SUMPRODUCT($C$8:C932-$H$8:H932)","v":142}]
[null,null,null,null,null,null,null,null,null,null,{"$f":"SUMPRODUCT($C$8:C933-$H$8:H933)","v":142}]
[null,null,null,null,null,null,null,null,null,null,{"$f":"SUMPRODUCT($C$8:C934-$H$8:H934)","v":142}]
[null,null,null,null,null,null,null,null,null,null,{"$f":"SUMPRODUCT($C$8:C935-$H$8:H935)","v":142}]
[null,null,null,null,null,null,null,null,null,null,{"$f":"SUMPRODUCT($C$8:C936-$H$8:H936)","v":142}]
[null,null,null,null,null,null,null,null,null,null,{"$f":"SUMPRODUCT($C$8:C937-$H$8:H937)","v":142}]
[null,null,null,null,null,null,null,null,null,null,{"$f":"SUMPRODUCT($C$8:C938-$H$8:H938)","v":142}]
[null,null,null,null,null,null,null,null,null,null,{"$f":"SUMPRODUCT($C$8:C939-$H$8:H939)","v":142}]
[null,null,null,null,null,null,null,null,null,null,{"$f":"SUMPRODUCT($C$8:C940-$H$8:H940)","v":142}]
[null,null,null,null,null,null,null,null,null,null,{"$f":"SUMPRODUCT($C$8:C941-$H$8:H941)","v":142}]
[null,null,null,null,null,null,null,null,null,null,{"$f":"SUMPRODUCT($C$8:C942-$H$8:H942)","v":142}]
[null,null,null,null,null,null,null,null,null,null,{"$f":"SUMPRODUCT($C$8:C943-$H$8:H943)","v":142}]
[null,null,null,null,null,null,null,null,null,null,{"$f":"SUMPRODUCT($C$8:C944-$H$8:H944)","v":142}]
[null,null,null,null,null,null,null,null,null,null,{"$f":"SUMPRODUCT($C$8:C945-$H$8:H945)","v":142}]
[null,null,null,null,null,null,null,null,null,null,{"$f":"SUMPRODUCT($C$8:C946-$H$8:H946)","v":142}]
[null,null,null,null,null,null,null,null,null,null,{"$f":"SUMPRODUCT($C$8:C947-$H$8:H947)","v":142}]
[null,null,null,null,null,null,null,null,null,null,{"$f":"SUMPRODUCT($C$8:C948-$H$8:H948)","v":142}]
[null,null,null,null,null,null,null,null,null,null,{"$f":"SUMPRODUCT($C$8:C949-$H$8:H949)","v":142}]
[null,null,null,null,null,null,null,null,null,null,{"$f":"SUMPRODUCT($C$8:C950-$H$8:H950)","v":142}]
[null,null,null,null,null,null,null,null,null,null,{"$f":"SUMPRODUCT($C$8:C951-$H$8:H951)","v":142}]
[null,null,null,null,null,null,null,null,null,null,{"$f":"SUMPRODUCT($C$8:C952-$H$8:H952)","v":142}]
[null,null,null,null,null,null,null,null,null,null,{"$f":"SUMPRODUCT($C$8:C953-$H$8:H953)","v":142}]
[null,null,null,null,null,null,null,null,null,null,{"$f":"SUMPRODUCT($C$8:C954-$H$8:H954)","v":142}]
[null,null,null,null,null,null,null,null,null,null,{"$f":"SUMPRODUCT($C$8:C955-$H$8:H955)","v":142}]
[null,null,null,null,null,null,null,null,null,null,{"$f":"SUMPRODUCT($C$8:C956-$H$8:H956)","v":142}]
[null,null,null,null,null,null,null,null,null,null,{"$f":"SUMPRODUCT($C$8:C957-$H$8:H957)","v":142}]
[null,null,null,null,null,null,null,null,null,null,{"$f":"SUMPRODUCT($C$8:C958-$H$8:H958)","v":142}]
[null,null,null,null,null,null,null,null,null,null,{"$f":"SUMPRODUCT($C$8:C959-$H$8:H959)","v":142}]
[null,null,null,null,null,null,null,null,null,null,{"$f":"SUMPRODUCT($C$8:C960-$H$8:H960)","v":142}]
[null,null,null,null,null,null,null,null,null,null,{"$f":"SUMPRODUCT($C$8:C961-$H$8:H961)","v":142}]
[null,null,null,null,null,null,null,null,null,null,{"$f":"SUMPRODUCT($C$8:C962-$H$8:H962)","v":142}]
[null,null,null,null,null,null,null,null,null,null,{"$f":"SUMPRODUCT($C$8:C963-$H$8:H963)","v":142}]
[null,null,null,null,null,null,null,null,null,null,{"$f":"SUMPRODUCT($C$8:C964-$H$8:H964)","v":142}]
[null,null,null,null,null,null,null,null,null,null,{"$f":"SUMPRODUCT($C$8:C965-$H$8:H965)","v":142}]
[null,null,null,null,null,null,null,null,null,null,{"$f":"SUMPRODUCT($C$8:C966-$H$8:H966)","v":142}]
[null,null,null,null,null,null,null,null,null,null,{"$f":"SUMPRODUCT($C$8:C967-$H$8:H967)","v":142}]
[null,null,null,null,null,null,null,null,null,null,{"$f":"SUMPRODUCT($C$8:C968-$H$8:H968)","v":142}]
[null,null,null,null,null,null,null,null,null,null,{"$f":"SUMPRODUCT($C$8:C969-$H$8:H969)","v":142}]
[null,null,null,null,null,null,null,null,null,null,{"$f":"SUMPRODUCT($C$8:C970-$H$8:H970)","v":142}]
[null,null,null,null,null,null,null,null,null,null,{"$f":"SUMPRODUCT($C$8:C971-$H$8:H971)","v":142}]
[null,null,null,null,null,null,null,null,null,null,{"$f":"SUMPRODUCT($C$8:C972-$H$8:H972)","v":142}]
[null,null,null,null,null,null,null,null,null,null,{"$f":"SUMPRODUCT($C$8:C973-$H$8:H973)","v":142}]
[null,null,null,null,null,null,null,null,null,null,{"$f":"SUMPRODUCT($C$8:C974-$H$8:H974)","v":142}]
[null,null,null,null,null,null,null,null,null,null,{"$f":"SUMPRODUCT($C$8:C975-$H$8:H975)","v":142}]
[null,null,null,null,null,null,null,null,null,null,{"$f":"SUMPRODUCT($C$8:C976-$H$8:H976)","v":142}]
[null,null,null,null,null,null,null,null,null,null,{"$f":"SUMPRODUCT($C$8:C977-$H$8:H977)","v":142}]
[null,null,null,null,null,null,null,null,null,null,{"$f":"SUMPRODUCT($C$8:C978-$H$8:H978)","v":142}]
[null,null,null,null,null,null,null,null,null,null,{"$f":"SUMPRODUCT($C$8:C979-$H$8:H979)","v":142}]
[null,null,null,null,null,null,null,null,null,null,{"$f":"SUMPRODUCT($C$8:C980-$H$8:H980)","v":142}]
[null,null,null,null,null,null,null,null,null,null,{"$f":"SUMPRODUCT($C$8:C981-$H$8:H981)","v":142}]
[null,null,null,null,null,null,null,null,null,null,{"$f":"SUMPRODUCT($C$8:C982-$H$8:H982)","v":142}]
[null,null,null,null,null,null,null,null,null,null,{"$f":"SUMPRODUCT($C$8:C983-$H$8:H983)","v":142}]
[null,null,null,null,null,null,null,null,null,null,{"$f":"SUMPRODUCT($C$8:C984-$H$8:H984)","v":142}]
[null,null,null,null,null,null,null,null,null,null,{"$f":"SUMPRODUCT($C$8:C985-$H$8:H985)","v":142}]
[null,null,null,null,null,null,null,null,null,null,{"$f":"SUMPRODUCT($C$8:C986-$H$8:H986)","v":142}]
[null,null,null,null,null,null,null,null,null,null,{"$f":"SUMPRODUCT($C$8:C987-$H$8:H987)","v":142}]
[null,null,null,null,null,null,null,null,null,null,{"$f":"SUMPRODUCT($C$8:C988-$H$8:H988)","v":142}]
[null,null,null,null,null,null,null,null,null,null,{"$f":"SUMPRODUCT($C$8:C989-$H$8:H989)","v":142}]
[null,null,null,null,null,null,null,null,null,null,{"$f":"SUMPRODUCT($C$8:C990-$H$8:H990)","v":142}]
[null,null,null,null,null,null,null,null,null,null,{"$f":"SUMPRODUCT($C$8:C991-$H$8:H991)","v":142}]
[null,null,null,null,null,null,null,null,null,null,{"$f":"SUMPRODUCT($C$8:C992-$H$8:H992)","v":142}]
[null,null,null,null,null,null,null,null,null,null,{"$f":"SUMPRODUCT($C$8:C993-$H$8:H993)","v":142}]
[null,null,null,null,null,null,null,null,null,null,{"$f":"SUMPRODUCT($C$8:C994-$H$8:H994)","v":142}]
[null,null,null,null,null,null,null,null,null,null,{"$f":"SUMPRODUCT($C$8:C995-$H$8:H995)","v":142}]
[null,null,null,null,null,null,null,null,null,null,{"$f":"SUMPRODUCT($C$8:C996-$H$8:H996)","v":142}]
[null,null,null,null,null,null,null,null,null,null,{"$f":"SUMPRODUCT($C$8:C997-$H$8:H997)","v":142}]
[null,null,null,null,null,null,null,null,null,null,{"$f":"SUMPRODUCT($C$8:C998-$H$8:H998)","v":142}]
[null,null,null,null,null,null,null,null,null,null,{"$f":"SUMPRODUCT($C$8:C999-$H$8:H999)","v":142}]
[null,null,null,null,null,null,null,null,null,null,{"$f":"SUMPRODUCT($C$8:C1000-$H$8:H1000)","v":142}]
[null,null,null,null,null,null,null,null,null,null,{"$f":"SUMPRODUCT($C$8:C1001-$H$8:H1001)","v":142}]
[null,null,null,null,null,null,null,null,null,null,{"$f":"SUMPRODUCT($C$8:C1002-$H$8:H1002)","v":142}]
[null,null,null,null,null,null,null,null,null,null,{"$f":"SUMPRODUCT($C$8:C1003-$H$8:H1003)","v":142}]
[null,null,null,null,null,null,null,null,null,null,{"$f":"SUMPRODUCT($C$8:C1004-$H$8:H1004)","v":142}]
[null,null,null,null,null,null,null,null,null,null,{"$f":"SUMPRODUCT($C$8:C1005-$H$8:H1005)","v":142}]
[null,null,null,null,null,null,null,null,null,null,{"$f":"SUMPRODUCT($C$8:C1006-$H$8:H1006)","v":142}]
[null,null,null,null,null,null,null,null,null,null,{"$f":"SUMPRODUCT($C$8:C1007-$H$8:H1007)","v":142}]
[null,null,null,null,null,null,null,null,null,null,{"$f":"SUMPRODUCT($C$8:C1008-$H$8:H1008)","v":142}]
[null,null,null,null,null,null,null,null,null,null,{"$f":"SUMPRODUCT($C$8:C1009-$H$8:H1009)","v":142}]
[null,null,null,null,null,null,null,null,null,null,{"$f":"SUMPRODUCT($C$8:C1010-$H$8:H1010)","v":142}]
[null,null,null,null,null,null,null,null,null,null,{"$f":"SUMPRODUCT($C$8:C1011-$H$8:H1011)","v":142}]
[null,null,null,null,null,null,null,null,null,null,{"$f":"SUMPRODUCT($C$8:C1012-$H$8:H1012)","v":142}]
[null,null,null,null,null,null,null,null,null,null,{"$f":"SUMPRODUCT($C$8:C1013-$H$8:H1013)","v":142}]
[null,null,null,null,null,null,null,null,null,null,{"$f":"SUMPRODUCT($C$8:C1014-$H$8:H1014)","v":142}]
[null,null,null,null,null,null,null,null,null,null,{"$f":"SUMPRODUCT($C$8:C1015-$H$8:H1015)","v":142}]
[null,null,null,null,null,null,null,null,null,null,{"$f":"SUMPRODUCT($C$8:C1016-$H$8:H1016)","v":142}]
[null,null,null,null,null,null,null,null,null,null,{"$f":"SUMPRODUCT($C$8:C1017-$H$8:H1017)","v":142}]
[null,null,null,null,null,null,null,null,null,null,{"$f":"SUMPRODUCT($C$8:C1018-$H$8:H1018)","v":142}]
[null,null,null,null,null,null,null,null,null,null,{"$f":"SUMPRODUCT($C$8:C1019-$H$8:H1019)","v":142}]
[null,null,null,null,null,null,null,null,null,null,{"$f":"SUMPRODUCT($C$8:C1020-$H$8:H1020)","v":142}]
[null,null,null,null,null,null,null,null,null,null,{"$f":"SUMPRODUCT($C$8:C1021-$H$8:H1021)","v":142}]
[null,null,null,null,null,null,null,null,null,null,{"$f":"SUMPRODUCT($C$8:C1022-$H$8:H1022)","v":142}]
[null,null,null,null,null,null,null,null,null,null,{"$f":"SUMPRODUCT($C$8:C1023-$H$8:H1023)","v":142}]
[null,null,null,null,null,null,null,null,null,null,{"$f":"SUMPRODUCT($C$8:C1024-$H$8:H1024)","v":142}]
[null,null,null,null,null,null,null,null,null,null,{"$f":"SUMPRODUCT($C$8:C1025-$H$8:H1025)","v":142}]
[null,null,null,null,null,null,null,null,null,null,{"$f":"SUMPRODUCT($C$8:C1026-$H$8:H1026)","v":142}]
[null,null,null,null,null,null,null,null,null,null,{"$f":"SUMPRODUCT($C$8:C1027-$H$8:H1027)","v":142}]
[null,null,null,null,null,null,null,null,null,null,{"$f":"SUMPRODUCT($C$8:C1028-$H$8:H1028)","v":142}]
[null,null,null,null,null,null,null,null,null,null,{"$f":"SUMPRODUCT($C$8:C1029-$H$8:H1029)","v":142}]
[null,null,null,null,null,null,null,null,null,null,{"$f":"SUMPRODUCT($C$8:C1030-$H$8:H1030)","v":142}]
[null,null,null,null,null,null,null,null,null,null,{"$f":"SUMPRODUCT($C$8:C1031-$H$8:H1031)","v":142}]
[null,null,null,null,null,null,null,null,null,null,{"$f":"SUMPRODUCT($C$8:C1032-$H$8:H1032)","v":142}]
[null,null,null,null,null,null,null,null,null,null,{"$f":"SUMPRODUCT($C$8:C1033-$H$8:H1033)","v":142}]
[null,null,null,null,null,null,null,null,null,null,{"$f":"SUMPRODUCT($C$8:C1034-$H$8:H1034)","v":142}]
[null,null,null,null,null,null,null,null,null,null,{"$f":"SUMPRODUCT($C$8:C1035-$H$8:H1035)","v":142}]
[null,null,null,null,null,null,null,null,null,null,{"$f":"SUMPRODUCT($C$8:C1036-$H$8:H1036)","v":142}]
[null,null,null,null,null,null,null,null,null,null,{"$f":"SUMPRODUCT($C$8:C1037-$H$8:H1037)","v":142}]
[null,null,null,null,null,null,null,null,null,null,{"$f":"SUMPRODUCT($C$8:C1038-$H$8:H1038)","v":142}]
[null,null,null,null,null,null,null,null,null,null,{"$f":"SUMPRODUCT($C$8:C1039-$H$8:H1039)","v":142}]
[null,null,null,null,null,null,null,null,null,null,{"$f":"SUMPRODUCT($C$8:C1040-$H$8:H1040)","v":142}]
[null,null,null,null,null,null,null,null,null,null,{"$f":"SUMPRODUCT($C$8:C1041-$H$8:H1041)","v":142}]
[null,null,null,null,null,null,null,null,null,null,{"$f":"SUMPRODUCT($C$8:C1042-$H$8:H1042)","v":142}]
[null,null,null,null,null,null,null,null,null,null,{"$f":"SUMPRODUCT($C$8:C1043-$H$8:H1043)","v":142}]
[null,null,null,null,null,null,null,null,null,null,{"$f":"SUMPRODUCT($C$8:C1044-$H$8:H1044)","v":142}]
[null,null,null,null,null,null,null,null,null,null,{"$f":"SUMPRODUCT($C$8:C1045-$H$8:H1045)","v":142}]
[null,null,null,null,null,null,null,null,null,null,{"$f":"SUMPRODUCT($C$8:C1046-$H$8:H1046)","v":142}]
[null,null,null,null,null,null,null,null,null,null,{"$f":"SUMPRODUCT($C$8:C1047-$H$8:H1047)","v":142}]
[null,null,null,null,null,null,null,null,null,null,{"$f":"SUMPRODUCT($C$8:C1048-$H$8:H1048)","v":142}]
[null,null,null,null,null,null,null,null,null,null,{"$f":"SUMPRODUCT($C$8:C1049-$H$8:H1049)","v":142}]
[null,null,null,null,null,null,null,null,null,null,{"$f":"SUMPRODUCT($C$8:C1050-$H$8:H1050)","v":142}]
[null,null,null,null,null,null,null,null,null,null,{"$f":"SUMPRODUCT($C$8:C1051-$H$8:H1051)","v":142}]
[null,null,null,null,null,null,null,null,null,null,{"$f":"SUMPRODUCT($C$8:C1052-$H$8:H1052)","v":142}]
[null,null,null,null,null,null,null,null,null,null,{"$f":"SUMPRODUCT($C$8:C1053-$H$8:H1053)","v":142}]
[null,null,null,null,null,null,null,null,null,null,{"$f":"SUMPRODUCT($C$8:C1054-$H$8:H1054)","v":142}]
[null,null,null,null,null,null,null,null,null,null,{"$f":"SUMPRODUCT($C$8:C1055-$H$8:H1055)","v":142}]
[null,null,null,null,null,null,null,null,null,null,{"$f":"SUMPRODUCT($C$8:C1056-$H$8:H1056)","v":142}]
[null,null,null,null,null,null,null,null,null,null,{"$f":"SUMPRODUCT($C$8:C1057-$H$8:H1057)","v":142}]
[null,null,null,null,null,null,null,null,null,null,{"$f":"SUMPRODUCT($C$8:C1058-$H$8:H1058)","v":142}]
[null,null,null,null,null,null,null,null,null,null,{"$f":"SUMPRODUCT($C$8:C1059-$H$8:H1059)","v":142}]
[null,null,null,null,null,null,null,null,null,null,{"$f":"SUMPRODUCT($C$8:C1060-$H$8:H1060)","v":142}]
[null,null,null,null,null,null,null,null,null,null,{"$f":"SUMPRODUCT($C$8:C1061-$H$8:H1061)","v":142}]
[null,null,null,null,null,null,null,null,null,null,{"$f":"SUMPRODUCT($C$8:C1062-$H$8:H1062)","v":142}]
[null,null,null,null,null,null,null,null,null,null,{"$f":"SUMPRODUCT($C$8:C1063-$H$8:H1063)","v":142}]
[null,null,null,null,null,null,null,null,null,null,{"$f":"SUMPRODUCT($C$8:C1064-$H$8:H1064)","v":142}]
[null,null,null,null,null,null,null,null,null,null,{"$f":"SUMPRODUCT($C$8:C1065-$H$8:H1065)","v":142}]
[null,null,null,null,null,null,null,null,null,null,{"$f":"SUMPRODUCT($C$8:C1066-$H$8:H1066)","v":142}]
[null,null,null,null,null,null,null,null,null,null,{"$f":"SUMPRODUCT($C$8:C1067-$H$8:H1067)","v":142}]
[null,null,null,null,null,null,null,null,null,null,{"$f":"SUMPRODUCT($C$8:C1068-$H$8:H1068)","v":142}]
[null,null,null,null,null,null,null,null,null,null,{"$f":"SUMPRODUCT($C$8:C1069-$H$8:H1069)","v":142}]
[null,null,null,null,null,null,null,null,null,null,{"$f":"SUMPRODUCT($C$8:C1070-$H$8:H1070)","v":142}]
[null,null,null,null,null,null,null,null,null,null,{"$f":"SUMPRODUCT($C$8:C1071-$H$8:H1071)","v":142}]
[null,null,null,null,null,null,null,null,null,null,{"$f":"SUMPRODUCT($C$8:C1072-$H$8:H1072)","v":142}]
[null,null,null,null,null,null,null,null,null,null,{"$f":"SUMPRODUCT($C$8:C1073-$H$8:H1073)","v":142}]
[null,null,null,null,null,null,null,null,null,null,{"$f":"SUMPRODUCT($C$8:C1074-$H$8:H1074)","v":142}]
[null,null,null,null,null,null,null,null,null,null,{"$f":"SUMPRODUCT($C$8:C1075-$H$8:H1075)","v":142}]
[null,null,null,null,null,null,null,null,null,null,{"$f":"SUMPRODUCT($C$8:C1076-$H$8:H1076)","v":142}]
[null,null,null,null,null,null,null,null,null,null,{"$f":"SUMPRODUCT($C$8:C1077-$H$8:H1077)","v":142}]
[null,null,null,null,null,null,null,null,null,null,{"$f":"SUMPRODUCT($C$8:C1078-$H$8:H1078)","v":142}]
[null,null,null,null,null,null,null,null,null,null,{"$f":"SUMPRODUCT($C$8:C1079-$H$8:H1079)","v":142}]
[null,null,null,null,null,null,null,null,null,null,{"$f":"SUMPRODUCT($C$8:C1080-$H$8:H1080)","v":142}]
[null,null,null,null,null,null,null,null,null,null,{"$f":"SUMPRODUCT($C$8:C1081-$H$8:H1081)","v":142}]
[null,null,null,null,null,null,null,null,null,null,{"$f":"SUMPRODUCT($C$8:C1082-$H$8:H1082)","v":142}]
[null,null,null,null,null,null,null,null,null,null,{"$f":"SUMPRODUCT($C$8:C1083-$H$8:H1083)","v":142}]
[null,null,null,null,null,null,null,null,null,null,{"$f":"SUMPRODUCT($C$8:C1084-$H$8:H1084)","v":142}]
[null,null,null,null,null,null,null,null,null,null,{"$f":"SUMPRODUCT($C$8:C1085-$H$8:H1085)","v":142}]
[null,null,null,null,null,null,null,null,null,null,{"$f":"SUMPRODUCT($C$8:C1086-$H$8:H1086)","v":142}]
[null,null,null,null,null,null,null,null,null,null,{"$f":"SUMPRODUCT($C$8:C1087-$H$8:H1087)","v":142}]
[null,null,null,null,null,null,null,null,null,null,{"$f":"SUMPRODUCT($C$8:C1088-$H$8:H1088)","v":142}]
[null,null,null,null,null,null,null,null,null,null,{"$f":"SUMPRODUCT($C$8:C1089-$H$8:H1089)","v":142}]
[null,null,null,null,null,null,null,null,null,null,{"$f":"SUMPRODUCT($C$8:C1090-$H$8:H1090)","v":142}]
[null,null,null,null,null,null,null,null,null,null,{"$f":"SUMPRODUCT($C$8:C1091-$H$8:H1091)","v":142}]
[null,null,null,null,null,null,null,null,null,null,{"$f":"SUMPRODUCT($C$8:C1092-$H$8:H1092)","v":142}]
[null,null,null,null,null,null,null,null,null,null,{"$f":"SUMPRODUCT($C$8:C1093-$H$8:H1093)","v":142}]
[null,null,null,null,null,null,null,null,null,null,{"$f":"SUMPRODUCT($C$8:C1094-$H$8:H1094)","v":142}]
[null,null,null,null,null,null,null,null,null,null,{"$f":"SUMPRODUCT($C$8:C1095-$H$8:H1095)","v":142}]
[null,null,null,null,null,null,null,null,null,null,{"$f":"SUMPRODUCT($C$8:C1096-$H$8:H1096)","v":142}]
[null,null,null,null,null,null,null,null,null,null,{"$f":"SUMPRODUCT($C$8:C1097-$H$8:H1097)","v":142}]
[null,null,null,null,null,null,null,null,null,null,{"$f":"SUMPRODUCT($C$8:C1098-$H$8:H1098)","v":142}]
[null,null,null,null,null,null,null,null,null,null,{"$f":"SUMPRODUCT($C$8:C1099-$H$8:H1099)","v":142}]
[null,null,null,null,null,null,null,null,null,null,{"$f":"SUMPRODUCT($C$8:C1100-$H$8:H1100)","v":142}]
[null,null,null,null,null,null,null,null,null,null,{"$f":"SUMPRODUCT($C$8:C1101-$H$8:H1101)","v":142}]
[null,null,null,null,null,null,null,null,null,null,{"$f":"SUMPRODUCT($C$8:C1102-$H$8:H1102)","v":142}]
[null,null,null,null,null,null,null,null,null,null,{"$f":"SUMPRODUCT($C$8:C1103-$H$8:H1103)","v":142}]
[null,null,null,null,null,null,null,null,null,null,{"$f":"SUMPRODUCT($C$8:C1104-$H$8:H1104)","v":142}]
[null,null,null,null,null,null,null,null,null,null,{"$f":"SUMPRODUCT($C$8:C1105-$H$8:H1105)","v":142}]
[null,null,null,null,null,null,null,null,null,null,{"$f":"SUMPRODUCT($C$8:C1106-$H$8:H1106)","v":142}]
[null,null,null,null,null,null,null,null,null,null,{"$f":"SUMPRODUCT($C$8:C1107-$H$8:H1107)","v":142}]
[null,null,null,null,null,null,null,null,null,null,{"$f":"SUMPRODUCT($C$8:C1108-$H$8:H1108)","v":142}]
[null,null,null,null,null,null,null,null,null,null,{"$f":"SUMPRODUCT($C$8:C1109-$H$8:H1109)","v":142}]
[null,null,null,null,null,null,null,null,null,null,{"$f":"SUMPRODUCT($C$8:C1110-$H$8:H1110)","v":142}]
[null,null,null,null,null,null,null,null,null,null,{"$f":"SUMPRODUCT($C$8:C1111-$H$8:H1111)","v":142}]
[null,null,null,null,null,null,null,null,null,null,{"$f":"SUMPRODUCT($C$8:C1112-$H$8:H1112)","v":142}]
[null,null,null,null,null,null,null,null,null,null,{"$f":"SUMPRODUCT($C$8:C1113-$H$8:H1113)","v":142}]
[null,null,null,null,null,null,null,null,null,null,{"$f":"SUMPRODUCT($C$8:C1114-$H$8:H1114)","v":142}]
[null,null,null,null,null,null,null,null,null,null,{"$f":"SUMPRODUCT($C$8:C1115-$H$8:H1115)","v":142}]
[null,null,null,null,null,null,null,null,null,null,{"$f":"SUMPRODUCT($C$8:C1116-$H$8:H1116)","v":142}]
[null,null,null,null,null,null,null,null,null,null,{"$f":"SUMPRODUCT($C$8:C1117-$H$8:H1117)","v":142}]
[null,null,null,null,null,null,null,null,null,null,{"$f":"SUMPRODUCT($C$8:C1118-$H$8:H1118)","v":142}]
[null,null,null,null,null,null,null,null,null,null,{"$f":"SUMPRODUCT($C$8:C1119-$H$8:H1119)","v":142}]
[null,null,null,null,null,null,null,null,null,null,{"$f":"SUMPRODUCT($C$8:C1120-$H$8:H1120)","v":142}]
[null,null,null,null,null,null,null,null,null,null,{"$f":"SUMPRODUCT($C$8:C1121-$H$8:H1121)","v":142}]
[null,null,null,null,null,null,null,null,null,null,{"$f":"SUMPRODUCT($C$8:C1122-$H$8:H1122)","v":142}]
[null,null,null,null,null,null,null,null,null,null,{"$f":"SUMPRODUCT($C$8:C1123-$H$8:H1123)","v":142}]
[null,null,null,null,null,null,null,null,null,null,{"$f":"SUMPRODUCT($C$8:C1124-$H$8:H1124)","v":142}]
[null,null,null,null,null,null,null,null,null,null,{"$f":"SUMPRODUCT($C$8:C1125-$H$8:H1125)","v":142}]
[null,null,null,null,null,null,null,null,null,null,{"$f":"SUMPRODUCT($C$8:C1126-$H$8:H1126)","v":142}]
[null,null,null,null,null,null,null,null,null,null,{"$f":"SUMPRODUCT($C$8:C1127-$H$8:H1127)","v":142}]
[null,null,null,null,null,null,null,null,null,null,{"$f":"SUMPRODUCT($C$8:C1128-$H$8:H1128)","v":142}]
[null,null,null,null,null,null,null,null,null,null,{"$f":"SUMPRODUCT($C$8:C1129-$H$8:H1129)","v":142}]
[null,null,null,null,null,null,null,null,null,null,{"$f":"SUMPRODUCT($C$8:C1130-$H$8:H1130)","v":142}]
[null,null,null,null,null,null,null,null,null,null,{"$f":"SUMPRODUCT($C$8:C1131-$H$8:H1131)","v":142}]
[null,null,null,null,null,null,null,null,null,null,{"$f":"SUMPRODUCT($C$8:C1132-$H$8:H1132)","v":142}]
[null,null,null,null,null,null,null,null,null,null,{"$f":"SUMPRODUCT($C$8:C1133-$H$8:H1133)","v":142}]
[null,null,null,null,null,null,null,null,null,null,{"$f":"SUMPRODUCT($C$8:C1134-$H$8:H1134)","v":142}]
[null,null,null,null,null,null,null,null,null,null,{"$f":"SUMPRODUCT($C$8:C1135-$H$8:H1135)","v":142}]
[null,null,null,null,null,null,null,null,null,null,{"$f":"SUMPRODUCT($C$8:C1136-$H$8:H1136)","v":142}]
[null,null,null,null,null,null,null,null,null,null,{"$f":"SUMPRODUCT($C$8:C1137-$H$8:H1137)","v":142}]
[null,null,null,null,null,null,null,null,null,null,{"$f":"SUMPRODUCT($C$8:C1138-$H$8:H1138)","v":142}]
[null,null,null,null,null,null,null,null,null,null,{"$f":"SUMPRODUCT($C$8:C1139-$H$8:H1139)","v":142}]
[null,null,null,null,null,null,null,null,null,null,{"$f":"SUMPRODUCT($C$8:C1140-$H$8:H1140)","v":142}]
[null,null,null,null,null,null,null,null,null,null,{"$f":"SUMPRODUCT($C$8:C1141-$H$8:H1141)","v":142}]
[null,null,null,null,null,null,null,null,null,null,{"$f":"SUMPRODUCT($C$8:C1142-$H$8:H1142)","v":142}]
[null,null,null,null,null,null,null,null,null,null,{"$f":"SUMPRODUCT($C$8:C1143-$H$8:H1143)","v":142}]
[null,null,null,null,null,null,null,null,null,null,{"$f":"SUMPRODUCT($C$8:C1144-$H$8:H1144)","v":142}]
[null,null,null,null,null,null,null,null,null,null,{"$f":"SUMPRODUCT($C$8:C1145-$H$8:H1145)","v":142}]
[null,null,null,null,null,null,null,null,null,null,{"$f":"SUMPRODUCT($C$8:C1146-$H$8:H1146)","v":142}]
[null,null,null,null,null,null,null,null,null,null,{"$f":"SUMPRODUCT($C$8:C1147-$H$8:H1147)","v":142}]
[null,null,null,null,null,null,null,null,null,null,{"$f":"SUMPRODUCT($C$8:C1148-$H$8:H1148)","v":142}]
[null,null,null,null,null,null,null,null,null,null,{"$f":"SUMPRODUCT($C$8:C1149-$H$8:H1149)","v":142}]
[null,null,null,null,null,null,null,null,null,null,{"$f":"SUMPRODUCT($C$8:C1150-$H$8:H1150)","v":142}]
[null,null,null,null,null,null,null,null,null,null,{"$f":"SUMPRODUCT($C$8:C1151-$H$8:H1151)","v":142}]
[null,null,null,null,null,null,null,null,null,null,{"$f":"SUMPRODUCT($C$8:C1152-$H$8:H1152)","v":142}]
[null,null,null,null,null,null,null,null,null,null,{"$f":"SUMPRODUCT($C$8:C1153-$H$8:H1153)","v":142}]
[null,null,null,null,null,null,null,null,null,null,{"$f":"SUMPRODUCT($C$8:C1154-$H$8:H1154)","v":142}]
[null,null,null,null,null,null,null,null,null,null,{"$f":"SUMPRODUCT($C$8:C1155-$H$8:H1155)","v":142}]
[null,null,null,null,null,null,null,null,null,null,{"$f":"SUMPRODUCT($C$8:C1156-$H$8:H1156)","v":142}]
[null,null,null,null,null,null,null,null,null,null,{"$f":"SUMPRODUCT($C$8:C1157-$H$8:H1157)","v":142}]
[null,null,null,null,null,null,null,null,null,null,{"$f":"SUMPRODUCT($C$8:C1158-$H$8:H1158)","v":142}]
[null,null,null,null,null,null,null,null,null,null,{"$f":"SUMPRODUCT($C$8:C1159-$H$8:H1159)","v":142}]
[null,null,null,null,null,null,null,null,null,null,{"$f":"SUMPRODUCT($C$8:C1160-$H$8:H1160)","v":142}]
[null,null,null,null,null,null,null,null,null,null,{"$f":"SUMPRODUCT($C$8:C1161-$H$8:H1161)","v":142}]
[null,null,null,null,null,null,null,null,null,null,{"$f":"SUMPRODUCT($C$8:C1162-$H$8:H1162)","v":142}]
[null,null,null,null,null,null,null,null,null,null,{"$f":"SUMPRODUCT($C$8:C1163-$H$8:H1163)","v":142}]
[null,null,null,null,null,null,null,null,null,null,{"$f":"SUMPRODUCT($C$8:C1164-$H$8:H1164)","v":142}]
[null,null,null,null,null,null,null,null,null,null,{"$f":"SUMPRODUCT($C$8:C1165-$H$8:H1165)","v":142}]
[null,null,null,null,null,null,null,null,null,null,{"$f":"SUMPRODUCT($C$8:C1166-$H$8:H1166)","v":142}]
[null,null,null,null,null,null,null,null,null,null,{"$f":"SUMPRODUCT($C$8:C1167-$H$8:H1167)","v":142}]
[null,null,null,null,null,null,null,null,null,null,{"$f":"SUMPRODUCT($C$8:C1168-$H$8:H1168)","v":142}]
[null,null,null,null,null,null,null,null,null,null,{"$f":"SUMPRODUCT($C$8:C1169-$H$8:H1169)","v":142}]
[null,null,null,null,null,null,null,null,null,null,{"$f":"SUMPRODUCT($C$8:C1170-$H$8:H1170)","v":142}]
[null,null,null,null,null,null,null,null,null,null,{"$f":"SUMPRODUCT($C$8:C1171-$H$8:H1171)","v":142}]
[null,null,null,null,null,null,null,null,null,null,{"$f":"SUMPRODUCT($C$8:C1172-$H$8:H1172)","v":142}]
[null,null,null,null,null,null,null,null,null,null,{"$f":"SUMPRODUCT($C$8:C1173-$H$8:H1173)","v":142}]
[null,null,null,null,null,null,null,null,null,null,{"$f":"SUMPRODUCT($C$8:C1174-$H$8:H1174)","v":142}]
[null,null,null,null,null,null,null,null,null,null,{"$f":"SUMPRODUCT($C$8:C1175-$H$8:H1175)","v":142}]
[null,null,null,null,null,null,null,null,null,null,{"$f":"SUMPRODUCT($C$8:C1176-$H$8:H1176)","v":142}]
[null,null,null,null,null,null,null,null,null,null,{"$f":"SUMPRODUCT($C$8:C1177-$H$8:H1177)","v":142}]
[null,null,null,null,null,null,null,null,null,null,{"$f":"SUMPRODUCT($C$8:C1178-$H$8:H1178)","v":142}]
[null,null,null,null,null,null,null,null,null,null,{"$f":"SUMPRODUCT($C$8:C1179-$H$8:H1179)","v":142}]
[null,null,null,null,null,null,null,null,null,null,{"$f":"SUMPRODUCT($C$8:C1180-$H$8:H1180)","v":142}]
[null,null,null,null,null,null,null,null,null,null,{"$f":"SUMPRODUCT($C$8:C1181-$H$8:H1181)","v":142}]
[null,null,null,null,null,null,null,null,null,null,{"$f":"SUMPRODUCT($C$8:C1182-$H$8:H1182)","v":142}]
[null,null,null,null,null,null,null,null,null,null,{"$f":"SUMPRODUCT($C$8:C1183-$H$8:H1183)","v":142}]
[null,null,null,null,null,null,null,null,null,null,{"$f":"SUMPRODUCT($C$8:C1184-$H$8:H1184)","v":142}]
[null,null,null,null,null,null,null,null,null,null,{"$f":"SUMPRODUCT($C$8:C1185-$H$8:H1185)","v":142}]
[null,null,null,null,null,null,null,null,null,null,{"$f":"SUMPRODUCT($C$8:C1186-$H$8:H1186)","v":142}]
[null,null,null,null,null,null,null,null,null,null,{"$f":"SUMPRODUCT($C$8:C1187-$H$8:H1187)","v":142}]
[null,null,null,null,null,null,null,null,null,null,{"$f":"SUMPRODUCT($C$8:C1188-$H$8:H1188)","v":142}]
[null,null,null,null,null,null,null,null,null,null,{"$f":"SUMPRODUCT($C$8:C1189-$H$8:H1189)","v":142}]
[null,null,null,null,null,null,null,null,null,null,{"$f":"SUMPRODUCT($C$8:C1190-$H$8:H1190)","v":142}]
[null,null,null,null,null,null,null,null,null,null,{"$f":"SUMPRODUCT($C$8:C1191-$H$8:H1191)","v":142}]
[null,null,null,null,null,null,null,null,null,null,{"$f":"SUMPRODUCT($C$8:C1192-$H$8:H1192)","v":142}]
[null,null,null,null,null,null,null,null,null,null,{"$f":"SUMPRODUCT($C$8:C1193-$H$8:H1193)","v":142}]
[null,null,null,null,null,null,null,null,null,null,{"$f":"SUMPRODUCT($C$8:C1194-$H$8:H1194)","v":142}]
[null,null,null,null,null,null,null,null,null,null,{"$f":"SUMPRODUCT($C$8:C1195-$H$8:H1195)","v":142}]
[null,null,null,null,null,null,null,null,null,null,{"$f":"SUMPRODUCT($C$8:C1196-$H$8:H1196)","v":142}]
[null,null,null,null,null,null,null,null,null,null,{"$f":"SUMPRODUCT($C$8:C1197-$H$8:H1197)","v":142}]
[null,null,null,null,null,null,null,null,null,null,{"$f":"SUMPRODUCT($C$8:C1198-$H$8:H1198)","v":142}]
[null,null,null,null,null,null,null,null,null,null,{"$f":"SUMPRODUCT($C$8:C1199-$H$8:H1199)","v":142}]
[null,null,null,null,null,null,null,null,null,null,{"$f":"SUMPRODUCT($C$8:C1200-$H$8:H1200)","v":142}]
[null,null,null,null,null,null,null,null,null,null,{"$f":"SUMPRODUCT($C$8:C1201-$H$8:H1201)","v":142}]
[null,null,null,null,null,null,null,null,null,null,{"$f":"SUMPRODUCT($C$8:C1202-$H$8:H1202)","v":142}]
[null,null,null,null,null,null,null,null,null,null,{"$f":"SUMPRODUCT($C$8:C1203-$H$8:H1203)","v":142}]
[null,null,null,null,null,null,null,null,null,null,{"$f":"SUMPRODUCT($C$8:C1204-$H$8:H1204)","v":142}]
[null,null,null,null,null,null,null,null,null,null,{"$f":"SUMPRODUCT($C$8:C1205-$H$8:H1205)","v":142}]
[null,null,null,null,null,null,null,null,null,null,{"$f":"SUMPRODUCT($C$8:C1206-$H$8:H1206)","v":142}]
[null,null,null,null,null,null,null,null,null,null,{"$f":"SUMPRODUCT($C$8:C1207-$H$8:H1207)","v":142}]
[null,null,null,null,null,null,null,null,null,null,{"$f":"SUMPRODUCT($C$8:C1208-$H$8:H1208)","v":142}]
[null,null,null,null,null,null,null,null,null,null,{"$f":"SUMPRODUCT($C$8:C1209-$H$8:H1209)","v":142}]
[null,null,null,null,null,null,null,null,null,null,{"$f":"SUMPRODUCT($C$8:C1210-$H$8:H1210)","v":142}]
[null,null,null,null,null,null,null,null,null,null,{"$f":"SUMPRODUCT($C$8:C1211-$H$8:H1211)","v":142}]
[null,null,null,null,null,null,null,null,null,null,{"$f":"SUMPRODUCT($C$8:C1212-$H$8:H1212)","v":142}]
[null,null,null,null,null,null,null,null,null,null,{"$f":"SUMPRODUCT($C$8:C1213-$H$8:H1213)","v":142}]
[null,null,null,null,null,null,null,null,null,null,{"$f":"SUMPRODUCT($C$8:C1214-$H$8:H1214)","v":142}]
[null,null,null,null,null,null,null,null,null,null,{"$f":"SUMPRODUCT($C$8:C1215-$H$8:H1215)","v":142}]
[null,null,null,null,null,null,null,null,null,null,{"$f":"SUMPRODUCT($C$8:C1216-$H$8:H1216)","v":142}]
[null,null,null,null,null,null,null,null,null,null,{"$f":"SUMPRODUCT($C$8:C1217-$H$8:H1217)","v":142}]
[null,null,null,null,null,null,null,null,null,null,{"$f":"SUMPRODUCT($C$8:C1218-$H$8:H1218)","v":142}]
[null,null,null,null,null,null,null,null,null,null,{"$f":"SUMPRODUCT($C$8:C1219-$H$8:H1219)","v":142}]
[null,null,null,null,null,null,null,null,null,null,{"$f":"SUMPRODUCT($C$8:C1220-$H$8:H1220)","v":142}]
[null,null,null,null,null,null,null,null,null,null,{"$f":"SUMPRODUCT($C$8:C1221-$H$8:H1221)","v":142}]
[null,null,null,null,null,null,null,null,null,null,{"$f":"SUMPRODUCT($C$8:C1222-$H$8:H1222)","v":142}]
[null,null,null,null,null,null,null,null,null,null,{"$f":"SUMPRODUCT($C$8:C1223-$H$8:H1223)","v":142}]
[null,null,null,null,null,null,null,null,null,null,{"$f":"SUMPRODUCT($C$8:C1224-$H$8:H1224)","v":142}]
[null,null,null,null,null,null,null,null,null,null,{"$f":"SUMPRODUCT($C$8:C1225-$H$8:H1225)","v":142}]
[null,null,null,null,null,null,null,null,null,null,{"$f":"SUMPRODUCT($C$8:C1226-$H$8:H1226)","v":142}]
[null,null,null,null,null,null,null,null,null,null,{"$f":"SUMPRODUCT($C$8:C1227-$H$8:H1227)","v":142}]
[null,null,null,null,null,null,null,null,null,null,{"$f":"SUMPRODUCT($C$8:C1228-$H$8:H1228)","v":142}]
[null,null,null,null,null,null,null,null,null,null,{"$f":"SUMPRODUCT($C$8:C1229-$H$8:H1229)","v":142}]
[null,null,null,null,null,null,null,null,null,null,{"$f":"SUMPRODUCT($C$8:C1230-$H$8:H1230)","v":142}]
[null,null,null,null,null,null,null,null,null,null,{"$f":"SUMPRODUCT($C$8:C1231-$H$8:H1231)","v":142}]
[null,null,null,null,null,null,null,null,null,null,{"$f":"SUMPRODUCT($C$8:C1232-$H$8:H1232)","v":142}]
[null,null,null,null,null,null,null,null,null,null,{"$f":"SUMPRODUCT($C$8:C1233-$H$8:H1233)","v":142}]
[null,null,null,null,null,null,null,null,null,null,{"$f":"SUMPRODUCT($C$8:C1234-$H$8:H1234)","v":142}]
[null,null,null,null,null,null,null,null,null,null,{"$f":"SUMPRODUCT($C$8:C1235-$H$8:H1235)","v":142}]
[null,null,null,null,null,null,null,null,null,null,{"$f":"SUMPRODUCT($C$8:C1236-$H$8:H1236)","v":142}]
[null,null,null,null,null,null,null,null,null,null,{"$f":"SUMPRODUCT($C$8:C1237-$H$8:H1237)","v":142}]
[null,null,null,null,null,null,null,null,null,null,{"$f":"SUMPRODUCT($C$8:C1238-$H$8:H1238)","v":142}]
[null,null,null,null,null,null,null,null,null,null,{"$f":"SUMPRODUCT($C$8:C1239-$H$8:H1239)","v":142}]
[null,null,null,null,null,null,null,null,null,null,{"$f":"SUMPRODUCT($C$8:C1240-$H$8:H1240)","v":142}]
[null,null,null,null,null,null,null,null,null,null,{"$f":"SUMPRODUCT($C$8:C1241-$H$8:H1241)","v":142}]
[null,null,null,null,null,null,null,null,null,null,{"$f":"SUMPRODUCT($C$8:C1242-$H$8:H1242)","v":142}]
[null,null,null,null,null,null,null,null,null,null,{"$f":"SUMPRODUCT($C$8:C1243-$H$8:H1243)","v":142}]
[null,null,null,null,null,null,null,null,null,null,{"$f":"SUMPRODUCT($C$8:C1244-$H$8:H1244)","v":142}]
[null,null,null,null,null,null,null,null,null,null,{"$f":"SUMPRODUCT($C$8:C1245-$H$8:H1245)","v":142}]
[null,null,null,null,null,null,null,null,null,null,{"$f":"SUMPRODUCT($C$8:C1246-$H$8:H1246)","v":142}]
[null,null,null,null,null,null,null,null,null,null,{"$f":"SUMPRODUCT($C$8:C1247-$H$8:H1247)","v":142}]
[null,null,null,null,null,null,null,null,null,null,{"$f":"SUMPRODUCT($C$8:C1248-$H$8:H1248)","v":142}]
[null,null,null,null,null,null,null,null,null,null,{"$f":"SUMPRODUCT($C$8:C1249-$H$8:H1249)","v":142}]
[null,null,null,null,null,null,null,null,null,null,{"$f":"SUMPRODUCT($C$8:C1250-$H$8:H1250)","v":142}]
[null,null,null,null,null,null,null,null,null,null,{"$f":"SUMPRODUCT($C$8:C1251-$H$8:H1251)","v":142}]
[null,null,null,null,null,null,null,null,null,null,{"$f":"SUMPRODUCT($C$8:C1252-$H$8:H1252)","v":142}]
[null,null,null,null,null,null,null,null,null,null,{"$f":"SUMPRODUCT($C$8:C1253-$H$8:H1253)","v":142}]
[null,null,null,null,null,null,null,null,null,null,{"$f":"SUMPRODUCT($C$8:C1254-$H$8:H1254)","v":142}]
[null,null,null,null,null,null,null,null,null,null,{"$f":"SUMPRODUCT($C$8:C1255-$H$8:H1255)","v":142}]
[null,null,null,null,null,null,null,null,null,null,{"$f":"SUMPRODUCT($C$8:C1256-$H$8:H1256)","v":142}]
[null,null,null,null,null,null,null,null,null,null,{"$f":"SUMPRODUCT($C$8:C1257-$H$8:H1257)","v":142}]
[null,null,null,null,null,null,null,null,null,null,{"$f":"SUMPRODUCT($C$8:C1258-$H$8:H1258)","v":142}]
[null,null,null,null,null,null,null,null,null,null,{"$f":"SUMPRODUCT($C$8:C1259-$H$8:H1259)","v":142}]
[null,null,null,null,null,null,null,null,null,null,{"$f":"SUMPRODUCT($C$8:C1260-$H$8:H1260)","v":142}]
[null,null,null,null,null,null,null,null,null,null,{"$f":"SUMPRODUCT($C$8:C1261-$H$8:H1261)","v":142}]
[null,null,null,null,null,null,null,null,null,null,{"$f":"SUMPRODUCT($C$8:C1262-$H$8:H1262)","v":142}]
[null,null,null,null,null,null,null,null,null,null,{"$f":"SUMPRODUCT($C$8:C1263-$H$8:H1263)","v":142}]
[null,null,null,null,null,null,null,null,null,null,{"$f":"SUMPRODUCT($C$8:C1264-$H$8:H1264)","v":142}]
[null,null,null,null,null,null,null,null,null,null,{"$f":"SUMPRODUCT($C$8:C1265-$H$8:H1265)","v":142}]
[null,null,null,null,null,null,null,null,null,null,{"$f":"SUMPRODUCT($C$8:C1266-$H$8:H1266)","v":142}]
[null,null,null,null,null,null,null,null,null,null,{"$f":"SUMPRODUCT($C$8:C1267-$H$8:H1267)","v":142}]
[null,null,null,null,null,null,null,null,null,null,{"$f":"SUMPRODUCT($C$8:C1268-$H$8:H1268)","v":142}]
[null,null,null,null,null,null,null,null,null,null,{"$f":"SUMPRODUCT($C$8:C1269-$H$8:H1269)","v":142}]
[null,null,null,null,null,null,null,null,null,null,{"$f":"SUMPRODUCT($C$8:C1270-$H$8:H1270)","v":142}]
[null,null,null,null,null,null,null,null,null,null,{"$f":"SUMPRODUCT($C$8:C1271-$H$8:H1271)","v":142}]
[null,null,null,null,null,null,null,null,null,null,{"$f":"SUMPRODUCT($C$8:C1272-$H$8:H1272)","v":142}]
[null,null,null,null,null,null,null,null,null,null,{"$f":"SUMPRODUCT($C$8:C1273-$H$8:H1273)","v":142}]
[null,null,null,null,null,null,null,null,null,null,{"$f":"SUMPRODUCT($C$8:C1274-$H$8:H1274)","v":142}]
[null,null,null,null,null,null,null,null,null,null,{"$f":"SUMPRODUCT($C$8:C1275-$H$8:H1275)","v":142}]
[null,null,null,null,null,null,null,null,null,null,{"$f":"SUMPRODUCT($C$8:C1276-$H$8:H1276)","v":142}]
[null,null,null,null,null,null,null,null,null,null,{"$f":"SUMPRODUCT($C$8:C1277-$H$8:H1277)","v":142}]
[null,null,null,null,null,null,null,null,null,null,{"$f":"SUMPRODUCT($C$8:C1278-$H$8:H1278)","v":142}]
[null,null,null,null,null,null,null,null,null,null,{"$f":"SUMPRODUCT($C$8:C1279-$H$8:H1279)","v":142}]
[null,null,null,null,null,null,null,null,null,null,{"$f":"SUMPRODUCT($C$8:C1280-$H$8:H1280)","v":142}]
[null,null,null,null,null,null,null,null,null,null,{"$f":"SUMPRODUCT($C$8:C1281-$H$8:H1281)","v":142}]
[null,null,null,null,null,null,null,null,null,null,{"$f":"SUMPRODUCT($C$8:C1282-$H$8:H1282)","v":142}]
[null,null,null,null,null,null,null,null,null,null,{"$f":"SUMPRODUCT($C$8:C1283-$H$8:H1283)","v":142}]
[null,null,null,null,null,null,null,null,null,null,{"$f":"SUMPRODUCT($C$8:C1284-$H$8:H1284)","v":142}]
[null,null,null,null,null,null,null,null,null,null,{"$f":"SUMPRODUCT($C$8:C1285-$H$8:H1285)","v":142}]
[null,null,null,null,null,null,null,null,null,null,{"$f":"SUMPRODUCT($C$8:C1286-$H$8:H1286)","v":142}]
[null,null,null,null,null,null,null,null,null,null,{"$f":"SUMPRODUCT($C$8:C1287-$H$8:H1287)","v":142}]
[null,null,null,null,null,null,null,null,null,null,{"$f":"SUMPRODUCT($C$8:C1288-$H$8:H1288)","v":142}]
[null,null,null,null,null,null,null,null,null,null,{"$f":"SUMPRODUCT($C$8:C1289-$H$8:H1289)","v":142}]
[null,null,null,null,null,null,null,null,null,null,{"$f":"SUMPRODUCT($C$8:C1290-$H$8:H1290)","v":142}]
[null,null,null,null,null,null,null,null,null,null,{"$f":"SUMPRODUCT($C$8:C1291-$H$8:H1291)","v":142}]
[null,null,null,null,null,null,null,null,null,null,{"$f":"SUMPRODUCT($C$8:C1292-$H$8:H1292)","v":142}]
[null,null,null,null,null,null,null,null,null,null,{"$f":"SUMPRODUCT($C$8:C1293-$H$8:H1293)","v":142}]
[null,null,null,null,null,null,null,null,null,null,{"$f":"SUMPRODUCT($C$8:C1294-$H$8:H1294)","v":142}]
[null,null,null,null,null,null,null,null,null,null,{"$f":"SUMPRODUCT($C$8:C1295-$H$8:H1295)","v":142}]
[null,null,null,null,null,null,null,null,null,null,{"$f":"SUMPRODUCT($C$8:C1296-$H$8:H1296)","v":142}]
[null,null,null,null,null,null,null,null,null,null,{"$f":"SUMPRODUCT($C$8:C1297-$H$8:H1297)","v":142}]
[null,null,null,null,null,null,null,null,null,null,{"$f":"SUMPRODUCT($C$8:C1298-$H$8:H1298)","v":142}]
[null,null,null,null,null,null,null,null,null,null,{"$f":"SUMPRODUCT($C$8:C1299-$H$8:H1299)","v":142}]
[null,null,null,null,null,null,null,null,null,null,{"$f":"SUMPRODUCT($C$8:C1300-$H$8:H1300)","v":142}]
[null,null,null,null,null,null,null,null,null,null,{"$f":"SUMPRODUCT($C$8:C1301-$H$8:H1301)","v":142}]
[null,null,null,null,null,null,null,null,null,null,{"$f":"SUMPRODUCT($C$8:C1302-$H$8:H1302)","v":142}]
[null,null,null,null,null,null,null,null,null,null,{"$f":"SUMPRODUCT($C$8:C1303-$H$8:H1303)","v":142}]
[null,null,null,null,null,null,null,null,null,null,{"$f":"SUMPRODUCT($C$8:C1304-$H$8:H1304)","v":142}]
[null,null,null,null,null,null,null,null,null,null,{"$f":"SUMPRODUCT($C$8:C1305-$H$8:H1305)","v":142}]
[null,null,null,null,null,null,null,null,null,null,{"$f":"SUMPRODUCT($C$8:C1306-$H$8:H1306)","v":142}]
[null,null,null,null,null,null,null,null,null,null,{"$f":"SUMPRODUCT($C$8:C1307-$H$8:H1307)","v":142}]
[null,null,null,null,null,null,null,null,null,null,{"$f":"SUMPRODUCT($C$8:C1308-$H$8:H1308)","v":142}]
[null,null,null,null,null,null,null,null,null,null,{"$f":"SUMPRODUCT($C$8:C1309-$H$8:H1309)","v":142}]
[null,null,null,null,null,null,null,null,null,null,{"$f":"SUMPRODUCT($C$8:C1310-$H$8:H1310)","v":142}]
[null,null,null,null,null,null,null,null,null,null,{"$f":"SUMPRODUCT($C$8:C1311-$H$8:H1311)","v":142}]
[null,null,null,null,null,null,null,null,null,null,{"$f":"SUMPRODUCT($C$8:C1312-$H$8:H1312)","v":142}]
[null,null,null,null,null,null,null,null,null,null,{"$f":"SUMPRODUCT($C$8:C1313-$H$8:H1313)","v":142}]
[null,null,null,null,null,null,null,null,null,null,{"$f":"SUMPRODUCT($C$8:C1314-$H$8:H1314)","v":142}]
[null,null,null,null,null,null,null,null,null,null,{"$f":"SUMPRODUCT($C$8:C1315-$H$8:H1315)","v":142}]
[null,null,null,null,null,null,null,null,null,null,{"$f":"SUMPRODUCT($C$8:C1316-$H$8:H1316)","v":142}]
[null,null,null,null,null,null,null,null,null,null,{"$f":"SUMPRODUCT($C$8:C1317-$H$8:H1317)","v":142}]
[null,null,null,null,null,null,null,null,null,null,{"$f":"SUMPRODUCT($C$8:C1318-$H$8:H1318)","v":142}]
[null,null,null,null,null,null,null,null,null,null,{"$f":"SUMPRODUCT($C$8:C1319-$H$8:H1319)","v":142}]
[null,null,null,null,null,null,null,null,null,null,{"$f":"SUMPRODUCT($C$8:C1320-$H$8:H1320)","v":142}]
[null,null,null,null,null,null,null,null,null,null,{"$f":"SUMPRODUCT($C$8:C1321-$H$8:H1321)","v":142}]
[null,null,null,null,null,null,null,null,null,null,{"$f":"SUMPRODUCT($C$8:C1322-$H$8:H1322)","v":142}]
[null,null,null,null,null,null,null,null,null,null,{"$f":"SUMPRODUCT($C$8:C1323-$H$8:H1323)","v":142}]
[null,null,null,null,null,null,null,null,null,null,{"$f":"SUMPRODUCT($C$8:C1324-$H$8:H1324)","v":142}]
[null,null,null,null,null,null,null,null,null,null,{"$f":"SUMPRODUCT($C$8:C1325-$H$8:H1325)","v":142}]
[null,null,null,null,null,null,null,null,null,null,{"$f":"SUMPRODUCT($C$8:C1326-$H$8:H1326)","v":142}]
[null,null,null,null,null,null,null,null,null,null,{"$f":"SUMPRODUCT($C$8:C1327-$H$8:H1327)","v":142}]
[null,null,null,null,null,null,null,null,null,null,{"$f":"SUMPRODUCT($C$8:C1328-$H$8:H1328)","v":142}]
[null,null,null,null,null,null,null,null,null,null,{"$f":"SUMPRODUCT($C$8:C1329-$H$8:H1329)","v":142}]
[null,null,null,null,null,null,null,null,null,null,{"$f":"SUMPRODUCT($C$8:C1330-$H$8:H1330)","v":142}]
[null,null,null,null,null,null,null,null,null,null,{"$f":"SUMPRODUCT($C$8:C1331-$H$8:H1331)","v":142}]
[null,null,null,null,null,null,null,null,null,null,{"$f":"SUMPRODUCT($C$8:C1332-$H$8:H1332)","v":142}]
[null,null,null,null,null,null,null,null,null,null,{"$f":"SUMPRODUCT($C$8:C1333-$H$8:H1333)","v":142}]
[null,null,null,null,null,null,null,null,null,null,{"$f":"SUMPRODUCT($C$8:C1334-$H$8:H1334)","v":142}]
[null,null,null,null,null,null,null,null,null,null,{"$f":"SUMPRODUCT($C$8:C1335-$H$8:H1335)","v":142}]
[null,null,null,null,null,null,null,null,null,null,{"$f":"SUMPRODUCT($C$8:C1336-$H$8:H1336)","v":142}]
[null,null,null,null,null,null,null,null,null,null,{"$f":"SUMPRODUCT($C$8:C1337-$H$8:H1337)","v":142}]
[null,null,null,null,null,null,null,null,null,null,{"$f":"SUMPRODUCT($C$8:C1338-$H$8:H1338)","v":142}]
[null,null,null,null,null,null,null,null,null,null,{"$f":"SUMPRODUCT($C$8:C1339-$H$8:H1339)","v":142}]
[null,null,null,null,null,null,null,null,null,null,{"$f":"SUMPRODUCT($C$8:C1340-$H$8:H1340)","v":142}]
[null,null,null,null,null,null,null,null,null,null,{"$f":"SUMPRODUCT($C$8:C1341-$H$8:H1341)","v":142}]
[null,null,null,null,null,null,null,null,null,null,{"$f":"SUMPRODUCT($C$8:C1342-$H$8:H1342)","v":142}]
[null,null,null,null,null,null,null,null,null,null,{"$f":"SUMPRODUCT($C$8:C1343-$H$8:H1343)","v":142}]
[null,null,null,null,null,null,null,null,null,null,{"$f":"SUMPRODUCT($C$8:C1344-$H$8:H1344)","v":142}]
[null,null,null,null,null,null,null,null,null,null,{"$f":"SUMPRODUCT($C$8:C1345-$H$8:H1345)","v":142}]
[null,null,null,null,null,null,null,null,null,null,{"$f":"SUMPRODUCT($C$8:C1346-$H$8:H1346)","v":142}]
[null,null,null,null,null,null,null,null,null,null,{"$f":"SUMPRODUCT($C$8:C1347-$H$8:H1347)","v":142}]
[null,null,null,null,null,null,null,null,null,null,{"$f":"SUMPRODUCT($C$8:C1348-$H$8:H1348)","v":142}]
[null,null,null,null,null,null,null,null,null,null,{"$f":"SUMPRODUCT($C$8:C1349-$H$8:H1349)","v":142}]
[null,null,null,null,null,null,null,null,null,null,{"$f":"SUMPRODUCT($C$8:C1350-$H$8:H1350)","v":142}]
[null,null,null,null,null,null,null,null,null,null,{"$f":"SUMPRODUCT($C$8:C1351-$H$8:H1351)","v":142}]
[null,null,null,null,null,null,null,null,null,null,{"$f":"SUMPRODUCT($C$8:C1352-$H$8:H1352)","v":142}]
[null,null,null,null,null,null,null,null,null,null,{"$f":"SUMPRODUCT($C$8:C1353-$H$8:H1353)","v":142}]
[null,null,null,null,null,null,null,null,null,null,{"$f":"SUMPRODUCT($C$8:C1354-$H$8:H1354)","v":142}]
[null,null,null,null,null,null,null,null,null,null,{"$f":"SUMPRODUCT($C$8:C1355-$H$8:H1355)","v":142}]
[null,null,null,null,null,null,null,null,null,null,{"$f":"SUMPRODUCT($C$8:C1356-$H$8:H1356)","v":142}]
[null,null,null,null,null,null,null,null,null,null,{"$f":"SUMPRODUCT($C$8:C1357-$H$8:H1357)","v":142}]
[null,null,null,null,null,null,null,null,null,null,{"$f":"SUMPRODUCT($C$8:C1358-$H$8:H1358)","v":142}]
[null,null,null,null,null,null,null,null,null,null,{"$f":"SUMPRODUCT($C$8:C1359-$H$8:H1359)","v":142}]
[null,null,null,null,null,null,null,null,null,null,{"$f":"SUMPRODUCT($C$8:C1360-$H$8:H1360)","v":142}]
[null,null,null,null,null,null,null,null,null,null,{"$f":"SUMPRODUCT($C$8:C1361-$H$8:H1361)","v":142}]
[null,null,null,null,null,null,null,null,null,null,{"$f":"SUMPRODUCT($C$8:C1362-$H$8:H1362)","v":142}]
[null,null,null,null,null,null,null,null,null,null,{"$f":"SUMPRODUCT($C$8:C1363-$H$8:H1363)","v":142}]
[null,null,null,null,null,null,null,null,null,null,{"$f":"SUMPRODUCT($C$8:C1364-$H$8:H1364)","v":142}]
[null,null,null,null,null,null,null,null,null,null,{"$f":"SUMPRODUCT($C$8:C1365-$H$8:H1365)","v":142}]
[null,null,null,null,null,null,null,null,null,null,{"$f":"SUMPRODUCT($C$8:C1366-$H$8:H1366)","v":142}]
[null,null,null,null,null,null,null,null,null,null,{"$f":"SUMPRODUCT($C$8:C1367-$H$8:H1367)","v":142}]
[null,null,null,null,null,null,null,null,null,null,{"$f":"SUMPRODUCT($C$8:C1368-$H$8:H1368)","v":142}]
[null,null,null,null,null,null,null,null,null,null,{"$f":"SUMPRODUCT($C$8:C1369-$H$8:H1369)","v":142}]
[null,null,null,null,null,null,null,null,null,null,{"$f":"SUMPRODUCT($C$8:C1370-$H$8:H1370)","v":142}]
[null,null,null,null,null,null,null,null,null,null,{"$f":"SUMPRODUCT($C$8:C1371-$H$8:H1371)","v":142}]
[null,null,null,null,null,null,null,null,null,null,{"$f":"SUMPRODUCT($C$8:C1372-$H$8:H1372)","v":142}]
[null,null,null,null,null,null,null,null,null,null,{"$f":"SUMPRODUCT($C$8:C1373-$H$8:H1373)","v":142}]
[null,null,null,null,null,null,null,null,null,null,{"$f":"SUMPRODUCT($C$8:C1374-$H$8:H1374)","v":142}]
[null,null,null,null,null,null,null,null,null,null,{"$f":"SUMPRODUCT($C$8:C1375-$H$8:H1375)","v":142}]
[null,null,null,null,null,null,null,null,null,null,{"$f":"SUMPRODUCT($C$8:C1376-$H$8:H1376)","v":142}]
[null,null,null,null,null,null,null,null,null,null,{"$f":"SUMPRODUCT($C$8:C1377-$H$8:H1377)","v":142}]
[null,null,null,null,null,null,null,null,null,null,{"$f":"SUMPRODUCT($C$8:C1378-$H$8:H1378)","v":142}]
[null,null,null,null,null,null,null,null,null,null,{"$f":"SUMPRODUCT($C$8:C1379-$H$8:H1379)","v":142}]
[null,null,null,null,null,null,null,null,null,null,{"$f":"SUMPRODUCT($C$8:C1380-$H$8:H1380)","v":142}]
[null,null,null,null,null,null,null,null,null,null,{"$f":"SUMPRODUCT($C$8:C1381-$H$8:H1381)","v":142}]
[null,null,null,null,null,null,null,null,null,null,{"$f":"SUMPRODUCT($C$8:C1382-$H$8:H1382)","v":142}]
[null,null,null,null,null,null,null,null,null,null,{"$f":"SUMPRODUCT($C$8:C1383-$H$8:H1383)","v":142}]
[null,null,null,null,null,null,null,null,null,null,{"$f":"SUMPRODUCT($C$8:C1384-$H$8:H1384)","v":142}]
[null,null,null,null,null,null,null,null,null,null,{"$f":"SUMPRODUCT($C$8:C1385-$H$8:H1385)","v":142}]
[null,null,null,null,null,null,null,null,null,null,{"$f":"SUMPRODUCT($C$8:C1386-$H$8:H1386)","v":142}]
[null,null,null,null,null,null,null,null,null,null,{"$f":"SUMPRODUCT($C$8:C1387-$H$8:H1387)","v":142}]
[null,null,null,null,null,null,null,null,null,null,{"$f":"SUMPRODUCT($C$8:C1388-$H$8:H1388)","v":142}]
[null,null,null,null,null,null,null,null,null,null,{"$f":"SUMPRODUCT($C$8:C1389-$H$8:H1389)","v":142}]
[null,null,null,null,null,null,null,null,null,null,{"$f":"SUMPRODUCT($C$8:C1390-$H$8:H1390)","v":142}]
[null,null,null,null,null,null,null,null,null,null,{"$f":"SUMPRODUCT($C$8:C1391-$H$8:H1391)","v":142}]
[null,null,null,null,null,null,null,null,null,null,{"$f":"SUMPRODUCT($C$8:C1392-$H$8:H1392)","v":142}]
[null,null,null,null,null,null,null,null,null,null,{"$f":"SUMPRODUCT($C$8:C1393-$H$8:H1393)","v":142}]
[null,null,null,null,null,null,null,null,null,null,{"$f":"SUMPRODUCT($C$8:C1394-$H$8:H1394)","v":142}]
[null,null,null,null,null,null,null,null,null,null,{"$f":"SUMPRODUCT($C$8:C1395-$H$8:H1395)","v":142}]
[null,null,null,null,null,null,null,null,null,null,{"$f":"SUMPRODUCT($C$8:C1396-$H$8:H1396)","v":142}]
[null,null,null,null,null,null,null,null,null,null,{"$f":"SUMPRODUCT($C$8:C1397-$H$8:H1397)","v":142}]
[null,null,null,null,null,null,null,null,null,null,{"$f":"SUMPRODUCT($C$8:C1398-$H$8:H1398)","v":142}]
[null,null,null,null,null,null,null,null,null,null,{"$f":"SUMPRODUCT($C$8:C1399-$H$8:H1399)","v":142}]
[null,null,null,null,null,null,null,null,null,null,{"$f":"SUMPRODUCT($C$8:C1400-$H$8:H1400)","v":142}]
[null,null,null,null,null,null,null,null,null,null,{"$f":"SUMPRODUCT($C$8:C1401-$H$8:H1401)","v":142}]
[null,null,null,null,null,null,null,null,null,null,{"$f":"SUMPRODUCT($C$8:C1402-$H$8:H1402)","v":142}]
[null,null,null,null,null,null,null,null,null,null,{"$f":"SUMPRODUCT($C$8:C1403-$H$8:H1403)","v":142}]
[null,null,null,null,null,null,null,null,null,null,{"$f":"SUMPRODUCT($C$8:C1404-$H$8:H1404)","v":142}]
[null,null,null,null,null,null,null,null,null,null,{"$f":"SUMPRODUCT($C$8:C1405-$H$8:H1405)","v":142}]
[null,null,null,null,null,null,null,null,null,null,{"$f":"SUMPRODUCT($C$8:C1406-$H$8:H1406)","v":142}]
[null,null,null,null,null,null,null,null,null,null,{"$f":"SUMPRODUCT($C$8:C1407-$H$8:H1407)","v":142}]
[null,null,null,null,null,null,null,null,null,null,{"$f":"SUMPRODUCT($C$8:C1408-$H$8:H1408)","v":142}]
[null,null,null,null,null,null,null,null,null,null,{"$f":"SUMPRODUCT($C$8:C1409-$H$8:H1409)","v":142}]
[null,null,null,null,null,null,null,null,null,null,{"$f":"SUMPRODUCT($C$8:C1410-$H$8:H1410)","v":142}]
[null,null,null,null,null,null,null,null,null,null,{"$f":"SUMPRODUCT($C$8:C1411-$H$8:H1411)","v":142}]
[null,null,null,null,null,null,null,null,null,null,{"$f":"SUMPRODUCT($C$8:C1412-$H$8:H1412)","v":142}]
[null,null,null,null,null,null,null,null,null,null,{"$f":"SUMPRODUCT($C$8:C1413-$H$8:H1413)","v":142}]
[null,null,null,null,null,null,null,null,null,null,{"$f":"SUMPRODUCT($C$8:C1414-$H$8:H1414)","v":142}]
[null,null,null,null,null,null,null,null,null,null,{"$f":"SUMPRODUCT($C$8:C1415-$H$8:H1415)","v":142}]
[null,null,null,null,null,null,null,null,null,null,{"$f":"SUMPRODUCT($C$8:C1416-$H$8:H1416)","v":142}]
[null,null,null,null,null,null,null,null,null,null,{"$f":"SUMPRODUCT($C$8:C1417-$H$8:H1417)","v":142}]
[null,null,null,null,null,null,null,null,null,null,{"$f":"SUMPRODUCT($C$8:C1418-$H$8:H1418)","v":142}]
[null,null,null,null,null,null,null,null,null,null,{"$f":"SUMPRODUCT($C$8:C1419-$H$8:H1419)","v":142}]
[null,null,null,null,null,null,null,null,null,null,{"$f":"SUMPRODUCT($C$8:C1420-$H$8:H1420)","v":142}]
[null,null,null,null,null,null,null,null,null,null,{"$f":"SUMPRODUCT($C$8:C1421-$H$8:H1421)","v":142}]
[null,null,null,null,null,null,null,null,null,null,{"$f":"SUMPRODUCT($C$8:C1422-$H$8:H1422)","v":142}]
[null,null,null,null,null,null,null,null,null,null,{"$f":"SUMPRODUCT($C$8:C1423-$H$8:H1423)","v":142}]
[null,null,null,null,null,null,null,null,null,null,{"$f":"SUMPRODUCT($C$8:C1424-$H$8:H1424)","v":142}]
[null,null,null,null,null,null,null,null,null,null,{"$f":"SUMPRODUCT($C$8:C1425-$H$8:H1425)","v":142}]
[null,null,null,null,null,null,null,null,null,null,{"$f":"SUMPRODUCT($C$8:C1426-$H$8:H1426)","v":142}]
[null,null,null,null,null,null,null,null,null,null,{"$f":"SUMPRODUCT($C$8:C1427-$H$8:H1427)","v":142}]
[null,null,null,null,null,null,null,null,null,null,{"$f":"SUMPRODUCT($C$8:C1428-$H$8:H1428)","v":142}]
[null,null,null,null,null,null,null,null,null,null,{"$f":"SUMPRODUCT($C$8:C1429-$H$8:H1429)","v":142}]
[null,null,null,null,null,null,null,null,null,null,{"$f":"SUMPRODUCT($C$8:C1430-$H$8:H1430)","v":142}]
[null,null,null,null,null,null,null,null,null,null,{"$f":"SUMPRODUCT($C$8:C1431-$H$8:H1431)","v":142}]
[null,null,null,null,null,null,null,null,null,null,{"$f":"SUMPRODUCT($C$8:C1432-$H$8:H1432)","v":142}]
[null,null,null,null,null,null,null,null,null,null,{"$f":"SUMPRODUCT($C$8:C1433-$H$8:H1433)","v":142}]
[null,null,null,null,null,null,null,null,null,null,{"$f":"SUMPRODUCT($C$8:C1434-$H$8:H1434)","v":142}]
[null,null,null,null,null,null,null,null,null,null,{"$f":"SUMPRODUCT($C$8:C1435-$H$8:H1435)","v":142}]
[null,null,null,null,null,null,null,null,null,null,{"$f":"SUMPRODUCT($C$8:C1436-$H$8:H1436)","v":142}]
[null,null,null,null,null,null,null,null,null,null,{"$f":"SUMPRODUCT($C$8:C1437-$H$8:H1437)","v":142}]
[null,null,null,null,null,null,null,null,null,null,{"$f":"SUMPRODUCT($C$8:C1438-$H$8:H1438)","v":142}]
[null,null,null,null,null,null,null,null,null,null,{"$f":"SUMPRODUCT($C$8:C1439-$H$8:H1439)","v":142}]
[null,null,null,null,null,null,null,null,null,null,{"$f":"SUMPRODUCT($C$8:C1440-$H$8:H1440)","v":142}]
[null,null,null,null,null,null,null,null,null,null,{"$f":"SUMPRODUCT($C$8:C1441-$H$8:H1441)","v":142}]
[null,null,null,null,null,null,null,null,null,null,{"$f":"SUMPRODUCT($C$8:C1442-$H$8:H1442)","v":142}]
[null,null,null,null,null,null,null,null,null,null,{"$f":"SUMPRODUCT($C$8:C1443-$H$8:H1443)","v":142}]
[null,null,null,null,null,null,null,null,null,null,{"$f":"SUMPRODUCT($C$8:C1444-$H$8:H1444)","v":142}]
[null,null,null,null,null,null,null,null,null,null,{"$f":"SUMPRODUCT($C$8:C1445-$H$8:H1445)","v":142}]
[null,null,null,null,null,null,null,null,null,null,{"$f":"SUMPRODUCT($C$8:C1446-$H$8:H1446)","v":142}]
[null,null,null,null,null,null,null,null,null,null,{"$f":"SUMPRODUCT($C$8:C1447-$H$8:H1447)","v":142}]
[null,null,null,null,null,null,null,null,null,null,{"$f":"SUMPRODUCT($C$8:C1448-$H$8:H1448)","v":142}]
[null,null,null,null,null,null,null,null,null,null,{"$f":"SUMPRODUCT($C$8:C1449-$H$8:H1449)","v":142}]
[null,null,null,null,null,null,null,null,null,null,{"$f":"SUMPRODUCT($C$8:C1450-$H$8:H1450)","v":142}]
[null,null,null,null,null,null,null,null,null,null,{"$f":"SUMPRODUCT($C$8:C1451-$H$8:H1451)","v":142}]
[null,null,null,null,null,null,null,null,null,null,{"$f":"SUMPRODUCT($C$8:C1452-$H$8:H1452)","v":142}]
[null,null,null,null,null,null,null,null,null,null,{"$f":"SUMPRODUCT($C$8:C1453-$H$8:H1453)","v":142}]
[null,null,null,null,null,null,null,null,null,null,{"$f":"SUMPRODUCT($C$8:C1454-$H$8:H1454)","v":142}]
[null,null,null,null,null,null,null,null,null,null,{"$f":"SUMPRODUCT($C$8:C1455-$H$8:H1455)","v":142}]
[null,null,null,null,null,null,null,null,null,null,{"$f":"SUMPRODUCT($C$8:C1456-$H$8:H1456)","v":142}]
[null,null,null,null,null,null,null,null,null,null,{"$f":"SUMPRODUCT($C$8:C1457-$H$8:H1457)","v":142}]
[null,null,null,null,null,null,null,null,null,null,{"$f":"SUMPRODUCT($C$8:C1458-$H$8:H1458)","v":142}]
[null,null,null,null,null,null,null,null,null,null,{"$f":"SUMPRODUCT($C$8:C1459-$H$8:H1459)","v":142}]
[null,null,null,null,null,null,null,null,null,null,{"$f":"SUMPRODUCT($C$8:C1460-$H$8:H1460)","v":142}]
[null,null,null,null,null,null,null,null,null,null,{"$f":"SUMPRODUCT($C$8:C1461-$H$8:H1461)","v":142}]
[null,null,null,null,null,null,null,null,null,null,{"$f":"SUMPRODUCT($C$8:C1462-$H$8:H1462)","v":142}]
[null,null,null,null,null,null,null,null,null,null,{"$f":"SUMPRODUCT($C$8:C1463-$H$8:H1463)","v":142}]
[null,null,null,null,null,null,null,null,null,null,{"$f":"SUMPRODUCT($C$8:C1464-$H$8:H1464)","v":142}]
[null,null,null,null,null,null,null,null,null,null,{"$f":"SUMPRODUCT($C$8:C1465-$H$8:H1465)","v":142}]
[null,null,null,null,null,null,null,null,null,null,{"$f":"SUMPRODUCT($C$8:C1466-$H$8:H1466)","v":142}]
[null,null,null,null,null,null,null,null,null,null,{"$f":"SUMPRODUCT($C$8:C1467-$H$8:H1467)","v":142}]
[null,null,null,null,null,null,null,null,null,null,{"$f":"SUMPRODUCT($C$8:C1468-$H$8:H1468)","v":142}]
[null,null,null,null,null,null,null,null,null,null,{"$f":"SUMPRODUCT($C$8:C1469-$H$8:H1469)","v":142}]
[null,null,null,null,null,null,null,null,null,null,{"$f":"SUMPRODUCT($C$8:C1470-$H$8:H1470)","v":142}]
[null,null,null,null,null,null,null,null,null,null,{"$f":"SUMPRODUCT($C$8:C1471-$H$8:H1471)","v":142}]
[null,null,null,null,null,null,null,null,null,null,{"$f":"SUMPRODUCT($C$8:C1472-$H$8:H1472)","v":142}]
[null,null,null,null,null,null,null,null,null,null,{"$f":"SUMPRODUCT($C$8:C1473-$H$8:H1473)","v":142}]
[null,null,null,null,null,null,null,null,null,null,{"$f":"SUMPRODUCT($C$8:C1474-$H$8:H1474)","v":142}]
[null,null,null,null,null,null,null,null,null,null,{"$f":"SUMPRODUCT($C$8:C1475-$H$8:H1475)","v":142}]
[null,null,null,null,null,null,null,null,null,null,{"$f":"SUMPRODUCT($C$8:C1476-$H$8:H1476)","v":142}]
[null,null,null,null,null,null,null,null,null,null,{"$f":"SUMPRODUCT($C$8:C1477-$H$8:H1477)","v":142}]
[null,null,null,null,null,null,null,null,null,null,{"$f":"SUMPRODUCT($C$8:C1478-$H$8:H1478)","v":142}]
[null,null,null,null,null,null,null,null,null,null,{"$f":"SUMPRODUCT($C$8:C1479-$H$8:H1479)","v":142}]
[null,null,null,null,null,null,null,null,null,null,{"$f":"SUMPRODUCT($C$8:C1480-$H$8:H1480)","v":142}]
[null,null,null,null,null,null,null,null,null,null,{"$f":"SUMPRODUCT($C$8:C1481-$H$8:H1481)","v":142}]
[null,null,null,null,null,null,null,null,null,null,{"$f":"SUMPRODUCT($C$8:C1482-$H$8:H1482)","v":142}]
[null,null,null,null,null,null,null,null,null,null,{"$f":"SUMPRODUCT($C$8:C1483-$H$8:H1483)","v":142}]
[null,null,null,null,null,null,null,null,null,null,{"$f":"SUMPRODUCT($C$8:C1484-$H$8:H1484)","v":142}]
[null,null,null,null,null,null,null,null,null,null,{"$f":"SUMPRODUCT($C$8:C1485-$H$8:H1485)","v":142}]
[null,null,null,null,null,null,null,null,null,null,{"$f":"SUMPRODUCT($C$8:C1486-$H$8:H1486)","v":142}]
[null,null,null,null,null,null,null,null,null,null,{"$f":"SUMPRODUCT($C$8:C1487-$H$8:H1487)","v":142}]
[null,null,null,null,null,null,null,null,null,null,{"$f":"SUMPRODUCT($C$8:C1488-$H$8:H1488)","v":142}]
[null,null,null,null,null,null,null,null,null,null,{"$f":"SUMPRODUCT($C$8:C1489-$H$8:H1489)","v":142}]
[null,null,null,null,null,null,null,null,null,null,{"$f":"SUMPRODUCT($C$8:C1490-$H$8:H1490)","v":142}]
[null,null,null,null,null,null,null,null,null,null,{"$f":"SUMPRODUCT($C$8:C1491-$H$8:H1491)","v":142}]
[null,null,null,null,null,null,null,null,null,null,{"$f":"SUMPRODUCT($C$8:C1492-$H$8:H1492)","v":142}]
[null,null,null,null,null,null,null,null,null,null,{"$f":"SUMPRODUCT($C$8:C1493-$H$8:H1493)","v":142}]
[null,null,null,null,null,null,null,null,null,null,{"$f":"SUMPRODUCT($C$8:C1494-$H$8:H1494)","v":142}]
[null,null,null,null,null,null,null,null,null,null,{"$f":"SUMPRODUCT($C$8:C1495-$H$8:H1495)","v":142}]
[null,null,null,null,null,null,null,null,null,null,{"$f":"SUMPRODUCT($C$8:C1496-$H$8:H1496)","v":142}]
[null,null,null,null,null,null,null,null,null,null,{"$f":"SUMPRODUCT($C$8:C1497-$H$8:H1497)","v":142}]
[null,null,null,null,null,null,null,null,null,null,{"$f":"SUMPRODUCT($C$8:C1498-$H$8:H1498)","v":142}]
[null,null,null,null,null,null,null,null,null,null,{"$f":"SUMPRODUCT($C$8:C1499-$H$8:H1499)","v":142}]
[null,null,null,null,null,null,null,null,null,null,{"$f":"SUMPRODUCT($C$8:C1500-$H$8:H1500)","v":142}]
[null,null,null,null,null,null,null,null,null,null,{"$f":"SUMPRODUCT($C$8:C1501-$H$8:H1501)","v":142}]
[null,null,null,null,null,null,null,null,null,null,{"$f":"SUMPRODUCT($C$8:C1502-$H$8:H1502)","v":142}]
[null,null,null,null,null,null,null,null,null,null,{"$f":"SUMPRODUCT($C$8:C1503-$H$8:H1503)","v":142}]
[null,null,null,null,null,null,null,null,null,null,{"$f":"SUMPRODUCT($C$8:C1504-$H$8:H1504)","v":142}]
[null,null,null,null,null,null,null,null,null,null,{"$f":"SUMPRODUCT($C$8:C1505-$H$8:H1505)","v":142}]
[null,null,null,null,null,null,null,null,null,null,{"$f":"SUMPRODUCT($C$8:C1506-$H$8:H1506)","v":142}]
[null,null,null,null,null,null,null,null,null,null,{"$f":"SUMPRODUCT($C$8:C1507-$H$8:H1507)","v":142}]
[null,null,null,null,null,null,null,null,null,null,{"$f":"SUMPRODUCT($C$8:C1508-$H$8:H1508)","v":142}]
[null,null,null,null,null,null,null,null,null,null,{"$f":"SUMPRODUCT($C$8:C1509-$H$8:H1509)","v":142}]
[null,null,null,null,null,null,null,null,null,null,{"$f":"SUMPRODUCT($C$8:C1510-$H$8:H1510)","v":142}]
[null,null,null,null,null,null,null,null,null,null,{"$f":"SUMPRODUCT($C$8:C1511-$H$8:H1511)","v":142}]
[null,null,null,null,null,null,null,null,null,null,{"$f":"SUMPRODUCT($C$8:C1512-$H$8:H1512)","v":142}]
[null,null,null,null,null,null,null,null,null,null,{"$f":"SUMPRODUCT($C$8:C1513-$H$8:H1513)","v":142}]
[null,null,null,null,null,null,null,null,null,null,{"$f":"SUMPRODUCT($C$8:C1514-$H$8:H1514)","v":142}]
[null,null,null,null,null,null,null,null,null,null,{"$f":"SUMPRODUCT($C$8:C1515-$H$8:H1515)","v":142}]
[null,null,null,null,null,null,null,null,null,null,{"$f":"SUMPRODUCT($C$8:C1516-$H$8:H1516)","v":142}]
[null,null,null,null,null,null,null,null,null,null,{"$f":"SUMPRODUCT($C$8:C1517-$H$8:H1517)","v":142}]
[null,null,null,null,null,null,null,null,null,null,{"$f":"SUMPRODUCT($C$8:C1518-$H$8:H1518)","v":142}]
[null,null,null,null,null,null,null,null,null,null,{"$f":"SUMPRODUCT($C$8:C1519-$H$8:H1519)","v":142}]
[null,null,null,null,null,null,null,null,null,null,{"$f":"SUMPRODUCT($C$8:C1520-$H$8:H1520)","v":142}]
[null,null,null,null,null,null,null,null,null,null,{"$f":"SUMPRODUCT($C$8:C1521-$H$8:H1521)","v":142}]
[null,null,null,null,null,null,null,null,null,null,{"$f":"SUMPRODUCT($C$8:C1522-$H$8:H1522)","v":142}]
[null,null,null,null,null,null,null,null,null,null,{"$f":"SUMPRODUCT($C$8:C1523-$H$8:H1523)","v":142}]
[null,null,null,null,null,null,null,null,null,null,{"$f":"SUMPRODUCT($C$8:C1524-$H$8:H1524)","v":142}]
[null,null,null,null,null,null,null,null,null,null,{"$f":"SUMPRODUCT($C$8:C1525-$H$8:H1525)","v":142}]
[null,null,null,null,null,null,null,null,null,null,{"$f":"SUMPRODUCT($C$8:C1526-$H$8:H1526)","v":142}]
[null,null,null,null,null,null,null,null,null,null,{"$f":"SUMPRODUCT($C$8:C1527-$H$8:H1527)","v":142}]
[null,null,null,null,null,null,null,null,null,null,{"$f":"SUMPRODUCT($C$8:C1528-$H$8:H1528)","v":142}]
[null,null,null,null,null,null,null,null,null,null,{"$f":"SUMPRODUCT($C$8:C1529-$H$8:H1529)","v":142}]
[null,null,null,null,null,null,null,null,null,null,{"$f":"SUMPRODUCT($C$8:C1530-$H$8:H1530)","v":142}]
[null,null,null,null,null,null,null,null,null,null,{"$f":"SUMPRODUCT($C$8:C1531-$H$8:H1531)","v":142}]
[null,null,null,null,null,null,null,null,null,null,{"$f":"SUMPRODUCT($C$8:C1532-$H$8:H1532)","v":142}]
[null,null,null,null,null,null,null,null,null,null,{"$f":"SUMPRODUCT($C$8:C1533-$H$8:H1533)","v":142}]
[null,null,null,null,null,null,null,null,null,null,{"$f":"SUMPRODUCT($C$8:C1534-$H$8:H1534)","v":142}]
[null,null,null,null,null,null,null,null,null,null,{"$f":"SUMPRODUCT($C$8:C1535-$H$8:H1535)","v":142}]
[null,null,null,null,null,null,null,null,null,null,{"$f":"SUMPRODUCT($C$8:C1536-$H$8:H1536)","v":142}]
[null,null,null,null,null,null,null,null,null,null,{"$f":"SUMPRODUCT($C$8:C1537-$H$8:H1537)","v":142}]
[null,null,null,null,null,null,null,null,null,null,{"$f":"SUMPRODUCT($C$8:C1538-$H$8:H1538)","v":142}]
[null,null,null,null,null,null,null,null,null,null,{"$f":"SUMPRODUCT($C$8:C1539-$H$8:H1539)","v":142}]
[null,null,null,null,null,null,null,null,null,null,{"$f":"SUMPRODUCT($C$8:C1540-$H$8:H1540)","v":142}]
[null,null,null,null,null,null,null,null,null,null,{"$f":"SUMPRODUCT($C$8:C1541-$H$8:H1541)","v":142}]
[null,null,null,null,null,null,null,null,null,null,{"$f":"SUMPRODUCT($C$8:C1542-$H$8:H1542)","v":142}]
[null,null,null,null,null,null,null,null,null,null,{"$f":"SUMPRODUCT($C$8:C1543-$H$8:H1543)","v":142}]
[null,null,null,null,null,null,null,null,null,null,{"$f":"SUMPRODUCT($C$8:C1544-$H$8:H1544)","v":142}]
[null,null,null,null,null,null,null,null,null,null,{"$f":"SUMPRODUCT($C$8:C1545-$H$8:H1545)","v":142}]
[null,null,null,null,null,null,null,null,null,null,{"$f":"SUMPRODUCT($C$8:C1546-$H$8:H1546)","v":142}]
[null,null,null,null,null,null,null,null,null,null,{"$f":"SUMPRODUCT($C$8:C1547-$H$8:H1547)","v":142}]
[null,null,null,null,null,null,null,null,null,null,{"$f":"SUMPRODUCT($C$8:C1548-$H$8:H1548)","v":142}]
[null,null,null,null,null,null,null,null,null,null,{"$f":"SUMPRODUCT($C$8:C1549-$H$8:H1549)","v":142}]
[null,null,null,null,null,null,null,null,null,null,{"$f":"SUMPRODUCT($C$8:C1550-$H$8:H1550)","v":142}]
[null,null,null,null,null,null,null,null,null,null,{"$f":"SUMPRODUCT($C$8:C1551-$H$8:H1551)","v":142}]
[null,null,null,null,null,null,null,null,null,null,{"$f":"SUMPRODUCT($C$8:C1552-$H$8:H1552)","v":142}]
[null,null,null,null,null,null,null,null,null,null,{"$f":"SUMPRODUCT($C$8:C1553-$H$8:H1553)","v":142}]
[null,null,null,null,null,null,null,null,null,null,{"$f":"SUMPRODUCT($C$8:C1554-$H$8:H1554)","v":142}]
[null,null,null,null,null,null,null,null,null,null,{"$f":"SUMPRODUCT($C$8:C1555-$H$8:H1555)","v":142}]
[null,null,null,null,null,null,null,null,null,null,{"$f":"SUMPRODUCT($C$8:C1556-$H$8:H1556)","v":142}]
[null,null,null,null,null,null,null,null,null,null,{"$f":"SUMPRODUCT($C$8:C1557-$H$8:H1557)","v":142}]
[null,null,null,null,null,null,null,null,null,null,{"$f":"SUMPRODUCT($C$8:C1558-$H$8:H1558)","v":142}]
[null,null,null,null,null,null,null,null,null,null,{"$f":"SUMPRODUCT($C$8:C1559-$H$8:H1559)","v":142}]
[null,null,null,null,null,null,null,null,null,null,{"$f":"SUMPRODUCT($C$8:C1560-$H$8:H1560)","v":142}]
[null,null,null,null,null,null,null,null,null,null,{"$f":"SUMPRODUCT($C$8:C1561-$H$8:H1561)","v":142}]
[null,null,null,null,null,null,null,null,null,null,{"$f":"SUMPRODUCT($C$8:C1562-$H$8:H1562)","v":142}]
[null,null,null,null,null,null,null,null,null,null,{"$f":"SUMPRODUCT($C$8:C1563-$H$8:H1563)","v":142}]
[null,null,null,null,null,null,null,null,null,null,{"$f":"SUMPRODUCT($C$8:C1564-$H$8:H1564)","v":142}]
[null,null,null,null,null,null,null,null,null,null,{"$f":"SUMPRODUCT($C$8:C1565-$H$8:H1565)","v":142}]
[null,null,null,null,null,null,null,null,null,null,{"$f":"SUMPRODUCT($C$8:C1566-$H$8:H1566)","v":142}]
[null,null,null,null,null,null,null,null,null,null,{"$f":"SUMPRODUCT($C$8:C1567-$H$8:H1567)","v":142}]
[null,null,null,null,null,null,null,null,null,null,{"$f":"SUMPRODUCT($C$8:C1568-$H$8:H1568)","v":142}]
[null,null,null,null,null,null,null,null,null,null,{"$f":"SUMPRODUCT($C$8:C1569-$H$8:H1569)","v":142}]
[null,null,null,null,null,null,null,null,null,null,{"$f":"SUMPRODUCT($C$8:C1570-$H$8:H1570)","v":142}]
[null,null,null,null,null,null,null,null,null,null,{"$f":"SUMPRODUCT($C$8:C1571-$H$8:H1571)","v":142}]
[null,null,null,null,null,null,null,null,null,null,{"$f":"SUMPRODUCT($C$8:C1572-$H$8:H1572)","v":142}]
[null,null,null,null,null,null,null,null,null,null,{"$f":"SUMPRODUCT($C$8:C1573-$H$8:H1573)","v":142}]
[null,null,null,null,null,null,null,null,null,null,{"$f":"SUMPRODUCT($C$8:C1574-$H$8:H1574)","v":142}]
[null,null,null,null,null,null,null,null,null,null,{"$f":"SUMPRODUCT($C$8:C1575-$H$8:H1575)","v":142}]
[null,null,null,null,null,null,null,null,null,null,{"$f":"SUMPRODUCT($C$8:C1576-$H$8:H1576)","v":142}]
[null,null,null,null,null,null,null,null,null,null,{"$f":"SUMPRODUCT($C$8:C1577-$H$8:H1577)","v":142}]
[null,null,null,null,null,null,null,null,null,null,{"$f":"SUMPRODUCT($C$8:C1578-$H$8:H1578)","v":142}]
[null,null,null,null,null,null,null,null,null,null,{"$f":"SUMPRODUCT($C$8:C1579-$H$8:H1579)","v":142}]
[null,null,null,null,null,null,null,null,null,null,{"$f":"SUMPRODUCT($C$8:C1580-$H$8:H1580)","v":142}]
[null,null,null,null,null,null,null,null,null,null,{"$f":"SUMPRODUCT($C$8:C1581-$H$8:H1581)","v":142}]
[null,null,null,null,null,null,null,null,null,null,{"$f":"SUMPRODUCT($C$8:C1582-$H$8:H1582)","v":142}]
[null,null,null,null,null,null,null,null,null,null,{"$f":"SUMPRODUCT($C$8:C1583-$H$8:H1583)","v":142}]
[null,null,null,null,null,null,null,null,null,null,{"$f":"SUMPRODUCT($C$8:C1584-$H$8:H1584)","v":142}]
[null,null,null,null,null,null,null,null,null,null,{"$f":"SUMPRODUCT($C$8:C1585-$H$8:H1585)","v":142}]
[null,null,null,null,null,null,null,null,null,null,{"$f":"SUMPRODUCT($C$8:C1586-$H$8:H1586)","v":142}]
[null,null,null,null,null,null,null,null,null,null,{"$f":"SUMPRODUCT($C$8:C1587-$H$8:H1587)","v":142}]
[null,null,null,null,null,null,null,null,null,null,{"$f":"SUMPRODUCT($C$8:C1588-$H$8:H1588)","v":142}]
[null,null,null,null,null,null,null,null,null,null,{"$f":"SUMPRODUCT($C$8:C1589-$H$8:H1589)","v":142}]
[null,null,null,null,null,null,null,null,null,null,{"$f":"SUMPRODUCT($C$8:C1590-$H$8:H1590)","v":142}]
[null,null,null,null,null,null,null,null,null,null,{"$f":"SUMPRODUCT($C$8:C1591-$H$8:H1591)","v":142}]
[null,null,null,null,null,null,null,null,null,null,{"$f":"SUMPRODUCT($C$8:C1592-$H$8:H1592)","v":142}]
[null,null,null,null,null,null,null,null,null,null,{"$f":"SUMPRODUCT($C$8:C1593-$H$8:H1593)","v":142}]
[null,null,null,null,null,null,null,null,null,null,{"$f":"SUMPRODUCT($C$8:C1594-$H$8:H1594)","v":142}]
[null,null,null,null,null,null,null,null,null,null,{"$f":"SUMPRODUCT($C$8:C1595-$H$8:H1595)","v":142}]
[null,null,null,null,null,null,null,null,null,null,{"$f":"SUMPRODUCT($C$8:C1596-$H$8:H1596)","v":142}]
[null,null,null,null,null,null,null,null,null,null,{"$f":"SUMPRODUCT($C$8:C1597-$H$8:H1597)","v":142}]
[null,null,null,null,null,null,null,null,null,null,{"$f":"SUMPRODUCT($C$8:C1598-$H$8:H1598)","v":142}]
[null,null,null,null,null,null,null,null,null,null,{"$f":"SUMPRODUCT($C$8:C1599-$H$8:H1599)","v":142}]
[null,null,null,null,null,null,null,null,null,null,{"$f":"SUMPRODUCT($C$8:C1600-$H$8:H1600)","v":142}]
[null,null,null,null,null,null,null,null,null,null,{"$f":"SUMPRODUCT($C$8:C1601-$H$8:H1601)","v":142}]
[null,null,null,null,null,null,null,null,null,null,{"$f":"SUMPRODUCT($C$8:C1602-$H$8:H1602)","v":142}]
[null,null,null,null,null,null,null,null,null,null,{"$f":"SUMPRODUCT($C$8:C1603-$H$8:H1603)","v":142}]
[null,null,null,null,null,null,null,null,null,null,{"$f":"SUMPRODUCT($C$8:C1604-$H$8:H1604)","v":142}]
[null,null,null,null,null,null,null,null,null,null,{"$f":"SUMPRODUCT($C$8:C1605-$H$8:H1605)","v":142}]
[null,null,null,null,null,null,null,null,null,null,{"$f":"SUMPRODUCT($C$8:C1606-$H$8:H1606)","v":142}]
[null,null,null,null,null,null,null,null,null,null,{"$f":"SUMPRODUCT($C$8:C1607-$H$8:H1607)","v":142}]
[null,null,null,null,null,null,null,null,null,null,{"$f":"SUMPRODUCT($C$8:C1608-$H$8:H1608)","v":142}]
[null,null,null,null,null,null,null,null,null,null,{"$f":"SUMPRODUCT($C$8:C1609-$H$8:H1609)","v":142}]
[null,null,null,null,null,null,null,null,null,null,{"$f":"SUMPRODUCT($C$8:C1610-$H$8:H1610)","v":142}]
[null,null,null,null,null,null,null,null,null,null,{"$f":"SUMPRODUCT($C$8:C1611-$H$8:H1611)","v":142}]
[null,null,null,null,null,null,null,null,null,null,{"$f":"SUMPRODUCT($C$8:C1612-$H$8:H1612)","v":142}]
[null,null,null,null,null,null,null,null,null,null,{"$f":"SUMPRODUCT($C$8:C1613-$H$8:H1613)","v":142}]
[null,null,null,null,null,null,null,null,null,null,{"$f":"SUMPRODUCT($C$8:C1614-$H$8:H1614)","v":142}]
[null,null,null,null,null,null,null,null,null,null,{"$f":"SUMPRODUCT($C$8:C1615-$H$8:H1615)","v":142}]
[null,null,null,null,null,null,null,null,null,null,{"$f":"SUMPRODUCT($C$8:C1616-$H$8:H1616)","v":142}]
[null,null,null,null,null,null,null,null,null,null,{"$f":"SUMPRODUCT($C$8:C1617-$H$8:H1617)","v":142}]
[null,null,null,null,null,null,null,null,null,null,{"$f":"SUMPRODUCT($C$8:C1618-$H$8:H1618)","v":142}]
[null,null,null,null,null,null,null,null,null,null,{"$f":"SUMPRODUCT($C$8:C1619-$H$8:H1619)","v":142}]
[null,null,null,null,null,null,null,null,null,null,{"$f":"SUMPRODUCT($C$8:C1620-$H$8:H1620)","v":142}]
[null,null,null,null,null,null,null,null,null,null,{"$f":"SUMPRODUCT($C$8:C1621-$H$8:H1621)","v":142}]
[null,null,null,null,null,null,null,null,null,null,{"$f":"SUMPRODUCT($C$8:C1622-$H$8:H1622)","v":142}]
[null,null,null,null,null,null,null,null,null,null,{"$f":"SUMPRODUCT($C$8:C1623-$H$8:H1623)","v":142}]
[null,null,null,null,null,null,null,null,null,null,{"$f":"SUMPRODUCT($C$8:C1624-$H$8:H1624)","v":142}]
[null,null,null,null,null,null,null,null,null,null,{"$f":"SUMPRODUCT($C$8:C1625-$H$8:H1625)","v":142}]
[null,null,null,null,null,null,null,null,null,null,{"$f":"SUMPRODUCT($C$8:C1626-$H$8:H1626)","v":142}]
[null,null,null,null,null,null,null,null,null,null,{"$f":"SUMPRODUCT($C$8:C1627-$H$8:H1627)","v":142}]
[null,null,null,null,null,null,null,null,null,null,{"$f":"SUMPRODUCT($C$8:C1628-$H$8:H1628)","v":142}]
[null,null,null,null,null,null,null,null,null,null,{"$f":"SUMPRODUCT($C$8:C1629-$H$8:H1629)","v":142}]
[null,null,null,null,null,null,null,null,null,null,{"$f":"SUMPRODUCT($C$8:C1630-$H$8:H1630)","v":142}]
[null,null,null,null,null,null,null,null,null,null,{"$f":"SUMPRODUCT($C$8:C1631-$H$8:H1631)","v":142}]
[null,null,null,null,null,null,null,null,null,null,{"$f":"SUMPRODUCT($C$8:C1632-$H$8:H1632)","v":142}]
[null,null,null,null,null,null,null,null,null,null,{"$f":"SUMPRODUCT($C$8:C1633-$H$8:H1633)","v":142}]
[null,null,null,null,null,null,null,null,null,null,{"$f":"SUMPRODUCT($C$8:C1634-$H$8:H1634)","v":142}]
[null,null,null,null,null,null,null,null,null,null,{"$f":"SUMPRODUCT($C$8:C1635-$H$8:H1635)","v":142}]
[null,null,null,null,null,null,null,null,null,null,{"$f":"SUMPRODUCT($C$8:C1636-$H$8:H1636)","v":142}]
[null,null,null,null,null,null,null,null,null,null,{"$f":"SUMPRODUCT($C$8:C1637-$H$8:H1637)","v":142}]
[null,null,null,null,null,null,null,null,null,null,{"$f":"SUMPRODUCT($C$8:C1638-$H$8:H1638)","v":142}]
[null,null,null,null,null,null,null,null,null,null,{"$f":"SUMPRODUCT($C$8:C1639-$H$8:H1639)","v":142}]
[null,null,null,null,null,null,null,null,null,null,{"$f":"SUMPRODUCT($C$8:C1640-$H$8:H1640)","v":142}]
[null,null,null,null,null,null,null,null,null,null,{"$f":"SUMPRODUCT($C$8:C1641-$H$8:H1641)","v":142}]
[null,null,null,null,null,null,null,null,null,null,{"$f":"SUMPRODUCT($C$8:C1642-$H$8:H1642)","v":142}]
[null,null,null,null,null,null,null,null,null,null,{"$f":"SUMPRODUCT($C$8:C1643-$H$8:H1643)","v":142}]
[null,null,null,null,null,null,null,null,null,null,{"$f":"SUMPRODUCT($C$8:C1644-$H$8:H1644)","v":142}]
[null,null,null,null,null,null,null,null,null,null,{"$f":"SUMPRODUCT($C$8:C1645-$H$8:H1645)","v":142}]
[null,null,null,null,null,null,null,null,null,null,{"$f":"SUMPRODUCT($C$8:C1646-$H$8:H1646)","v":142}]
[null,null,null,null,null,null,null,null,null,null,{"$f":"SUMPRODUCT($C$8:C1647-$H$8:H1647)","v":142}]
[null,null,null,null,null,null,null,null,null,null,{"$f":"SUMPRODUCT($C$8:C1648-$H$8:H1648)","v":142}]
[null,null,null,null,null,null,null,null,null,null,{"$f":"SUMPRODUCT($C$8:C1649-$H$8:H1649)","v":142}]
[null,null,null,null,null,null,null,null,null,null,{"$f":"SUMPRODUCT($C$8:C1650-$H$8:H1650)","v":142}]
[null,null,null,null,null,null,null,null,null,null,{"$f":"SUMPRODUCT($C$8:C1651-$H$8:H1651)","v":142}]
[null,null,null,null,null,null,null,null,null,null,{"$f":"SUMPRODUCT($C$8:C1652-$H$8:H1652)","v":142}]
[null,null,null,null,null,null,null,null,null,null,{"$f":"SUMPRODUCT($C$8:C1653-$H$8:H1653)","v":142}]
[null,null,null,null,null,null,null,null,null,null,{"$f":"SUMPRODUCT($C$8:C1654-$H$8:H1654)","v":142}]
[null,null,null,null,null,null,null,null,null,null,{"$f":"SUMPRODUCT($C$8:C1655-$H$8:H1655)","v":142}]
[null,null,null,null,null,null,null,null,null,null,{"$f":"SUMPRODUCT($C$8:C1656-$H$8:H1656)","v":142}]
[null,null,null,null,null,null,null,null,null,null,{"$f":"SUMPRODUCT($C$8:C1657-$H$8:H1657)","v":142}]
[null,null,null,null,null,null,null,null,null,null,{"$f":"SUMPRODUCT($C$8:C1658-$H$8:H1658)","v":142}]
[null,null,null,null,null,null,null,null,null,null,{"$f":"SUMPRODUCT($C$8:C1659-$H$8:H1659)","v":142}]
[null,null,null,null,null,null,null,null,null,null,{"$f":"SUMPRODUCT($C$8:C1660-$H$8:H1660)","v":142}]
[null,null,null,null,null,null,null,null,null,null,{"$f":"SUMPRODUCT($C$8:C1661-$H$8:H1661)","v":142}]
[null,null,null,null,null,null,null,null,null,null,{"$f":"SUMPRODUCT($C$8:C1662-$H$8:H1662)","v":142}]
[null,null,null,null,null,null,null,null,null,null,{"$f":"SUMPRODUCT($C$8:C1663-$H$8:H1663)","v":142}]
[null,null,null,null,null,null,null,null,null,null,{"$f":"SUMPRODUCT($C$8:C1664-$H$8:H1664)","v":142}]
[null,null,null,null,null,null,null,null,null,null,{"$f":"SUMPRODUCT($C$8:C1665-$H$8:H1665)","v":142}]
[null,null,null,null,null,null,null,null,null,null,{"$f":"SUMPRODUCT($C$8:C1666-$H$8:H1666)","v":142}]
[null,null,null,null,null,null,null,null,null,null,{"$f":"SUMPRODUCT($C$8:C1667-$H$8:H1667)","v":142}]
[null,null,null,null,null,null,null,null,null,null,{"$f":"SUMPRODUCT($C$8:C1668-$H$8:H1668)","v":142}]
[null,null,null,null,null,null,null,null,null,null,{"$f":"SUMPRODUCT($C$8:C1669-$H$8:H1669)","v":142}]
[null,null,null,null,null,null,null,null,null,null,{"$f":"SUMPRODUCT($C$8:C1670-$H$8:H1670)","v":142}]
[null,null,null,null,null,null,null,null,null,null,{"$f":"SUMPRODUCT($C$8:C1671-$H$8:H1671)","v":142}]
[null,null,null,null,null,null,null,null,null,null,{"$f":"SUMPRODUCT($C$8:C1672-$H$8:H1672)","v":142}]
[null,null,null,null,null,null,null,null,null,null,{"$f":"SUMPRODUCT($C$8:C1673-$H$8:H1673)","v":142}]
[null,null,null,null,null,null,null,null,null,null,{"$f":"SUMPRODUCT($C$8:C1674-$H$8:H1674)","v":142}]
[null,null,null,null,null,null,null,null,null,null,{"$f":"SUMPRODUCT($C$8:C1675-$H$8:H1675)","v":142}]
[null,null,null,null,null,null,null,null,null,null,{"$f":"SUMPRODUCT($C$8:C1676-$H$8:H1676)","v":142}]
[null,null,null,null,null,null,null,null,null,null,{"$f":"SUMPRODUCT($C$8:C1677-$H$8:H1677)","v":142}]
[null,null,null,null,null,null,null,null,null,null,{"$f":"SUMPRODUCT($C$8:C1678-$H$8:H1678)","v":142}]
[null,null,null,null,null,null,null,null,null,null,{"$f":"SUMPRODUCT($C$8:C1679-$H$8:H1679)","v":142}]
[null,null,null,null,null,null,null,null,null,null,{"$f":"SUMPRODUCT($C$8:C1680-$H$8:H1680)","v":142}]
[null,null,null,null,null,null,null,null,null,null,{"$f":"SUMPRODUCT($C$8:C1681-$H$8:H1681)","v":142}]
[null,null,null,null,null,null,null,null,null,null,{"$f":"SUMPRODUCT($C$8:C1682-$H$8:H1682)","v":142}]
[null,null,null,null,null,null,null,null,null,null,{"$f":"SUMPRODUCT($C$8:C1683-$H$8:H1683)","v":142}]
[null,null,null,null,null,null,null,null,null,null,{"$f":"SUMPRODUCT($C$8:C1684-$H$8:H1684)","v":142}]
[null,null,null,null,null,null,null,null,null,null,{"$f":"SUMPRODUCT($C$8:C1685-$H$8:H1685)","v":142}]
[null,null,null,null,null,null,null,null,null,null,{"$f":"SUMPRODUCT($C$8:C1686-$H$8:H1686)","v":142}]
[null,null,null,null,null,null,null,null,null,null,{"$f":"SUMPRODUCT($C$8:C1687-$H$8:H1687)","v":142}]
[null,null,null,null,null,null,null,null,null,null,{"$f":"SUMPRODUCT($C$8:C1688-$H$8:H1688)","v":142}]
[null,null,null,null,null,null,null,null,null,null,{"$f":"SUMPRODUCT($C$8:C1689-$H$8:H1689)","v":142}]
[null,null,null,null,null,null,null,null,null,null,{"$f":"SUMPRODUCT($C$8:C1690-$H$8:H1690)","v":142}]
[null,null,null,null,null,null,null,null,null,null,{"$f":"SUMPRODUCT($C$8:C1691-$H$8:H1691)","v":142}]
[null,null,null,null,null,null,null,null,null,null,{"$f":"SUMPRODUCT($C$8:C1692-$H$8:H1692)","v":142}]
[null,null,null,null,null,null,null,null,null,null,{"$f":"SUMPRODUCT($C$8:C1693-$H$8:H1693)","v":142}]
[null,null,null,null,null,null,null,null,null,null,{"$f":"SUMPRODUCT($C$8:C1694-$H$8:H1694)","v":142}]
[null,null,null,null,null,null,null,null,null,null,{"$f":"SUMPRODUCT($C$8:C1695-$H$8:H1695)","v":142}]
[null,null,null,null,null,null,null,null,null,null,{"$f":"SUMPRODUCT($C$8:C1696-$H$8:H1696)","v":142}]
[null,null,null,null,null,null,null,null,null,null,{"$f":"SUMPRODUCT($C$8:C1697-$H$8:H1697)","v":142}]
[null,null,null,null,null,null,null,null,null,null,{"$f":"SUMPRODUCT($C$8:C1698-$H$8:H1698)","v":142}]
[null,null,null,null,null,null,null,null,null,null,{"$f":"SUMPRODUCT($C$8:C1699-$H$8:H1699)","v":142}]
[null,null,null,null,null,null,null,null,null,null,{"$f":"SUMPRODUCT($C$8:C1700-$H$8:H1700)","v":142}]
[null,null,null,null,null,null,null,null,null,null,{"$f":"SUMPRODUCT($C$8:C1701-$H$8:H1701)","v":142}]
[null,null,null,null,null,null,null,null,null,null,{"$f":"SUMPRODUCT($C$8:C1702-$H$8:H1702)","v":142}]
[null,null,null,null,null,null,null,null,null,null,{"$f":"SUMPRODUCT($C$8:C1703-$H$8:H1703)","v":142}]
[null,null,null,null,null,null,null,null,null,null,{"$f":"SUMPRODUCT($C$8:C1704-$H$8:H1704)","v":142}]
[null,null,null,null,null,null,null,null,null,null,{"$f":"SUMPRODUCT($C$8:C1705-$H$8:H1705)","v":142}]
[null,null,null,null,null,null,null,null,null,null,{"$f":"SUMPRODUCT($C$8:C1706-$H$8:H1706)","v":142}]
[null,null,null,null,null,null,null,null,null,null,{"$f":"SUMPRODUCT($C$8:C1707-$H$8:H1707)","v":142}]
[null,null,null,null,null,null,null,null,null,null,{"$f":"SUMPRODUCT($C$8:C1708-$H$8:H1708)","v":142}]
[null,null,null,null,null,null,null,null,null,null,{"$f":"SUMPRODUCT($C$8:C1709-$H$8:H1709)","v":142}]
[null,null,null,null,null,null,null,null,null,null,{"$f":"SUMPRODUCT($C$8:C1710-$H$8:H1710)","v":142}]
[null,null,null,null,null,null,null,null,null,null,{"$f":"SUMPRODUCT($C$8:C1711-$H$8:H1711)","v":142}]
[null,null,null,null,null,null,null,null,null,null,{"$f":"SUMPRODUCT($C$8:C1712-$H$8:H1712)","v":142}]
[null,null,null,null,null,null,null,null,null,null,{"$f":"SUMPRODUCT($C$8:C1713-$H$8:H1713)","v":142}]
[null,null,null,null,null,null,null,null,null,null,{"$f":"SUMPRODUCT($C$8:C1714-$H$8:H1714)","v":142}]
[null,null,null,null,null,null,null,null,null,null,{"$f":"SUMPRODUCT($C$8:C1715-$H$8:H1715)","v":142}]
[null,null,null,null,null,null,null,null,null,null,{"$f":"SUMPRODUCT($C$8:C1716-$H$8:H1716)","v":142}]
[null,null,null,null,null,null,null,null,null,null,{"$f":"SUMPRODUCT($C$8:C1717-$H$8:H1717)","v":142}]
[null,null,null,null,null,null,null,null,null,null,{"$f":"SUMPRODUCT($C$8:C1718-$H$8:H1718)","v":142}]
[null,null,null,null,null,null,null,null,null,null,{"$f":"SUMPRODUCT($C$8:C1719-$H$8:H1719)","v":142}]
[null,null,null,null,null,null,null,null,null,null,{"$f":"SUMPRODUCT($C$8:C1720-$H$8:H1720)","v":142}]
[null,null,null,null,null,null,null,null,null,null,{"$f":"SUMPRODUCT($C$8:C1721-$H$8:H1721)","v":142}]
[null,null,null,null,null,null,null,null,null,null,{"$f":"SUMPRODUCT($C$8:C1722-$H$8:H1722)","v":142}]
[null,null,null,null,null,null,null,null,null,null,{"$f":"SUMPRODUCT($C$8:C1723-$H$8:H1723)","v":142}]
[null,null,null,null,null,null,null,null,null,null,{"$f":"SUMPRODUCT($C$8:C1724-$H$8:H1724)","v":142}]
[null,null,null,null,null,null,null,null,null,null,{"$f":"SUMPRODUCT($C$8:C1725-$H$8:H1725)","v":142}]
[null,null,null,null,null,null,null,null,null,null,{"$f":"SUMPRODUCT($C$8:C1726-$H$8:H1726)","v":142}]
[null,null,null,null,null,null,null,null,null,null,{"$f":"SUMPRODUCT($C$8:C1727-$H$8:H1727)","v":142}]
[null,null,null,null,null,null,null,null,null,null,{"$f":"SUMPRODUCT($C$8:C1728-$H$8:H1728)","v":142}]
[null,null,null,null,null,null,null,null,null,null,{"$f":"SUMPRODUCT($C$8:C1729-$H$8:H1729)","v":142}]
[null,null,null,null,null,null,null,null,null,null,{"$f":"SUMPRODUCT($C$8:C1730-$H$8:H1730)","v":142}]
[null,null,null,null,null,null,null,null,null,null,{"$f":"SUMPRODUCT($C$8:C1731-$H$8:H1731)","v":142}]
[null,null,null,null,null,null,null,null,null,null,{"$f":"SUMPRODUCT($C$8:C1732-$H$8:H1732)","v":142}]
[null,null,null,null,null,null,null,null,null,null,{"$f":"SUMPRODUCT($C$8:C1733-$H$8:H1733)","v":142}]
[null,null,null,null,null,null,null,null,null,null,{"$f":"SUMPRODUCT($C$8:C1734-$H$8:H1734)","v":142}]
[null,null,null,null,null,null,null,null,null,null,{"$f":"SUMPRODUCT($C$8:C1735-$H$8:H1735)","v":142}]
[null,null,null,null,null,null,null,null,null,null,{"$f":"SUMPRODUCT($C$8:C1736-$H$8:H1736)","v":142}]
[null,null,null,null,null,null,null,null,null,null,{"$f":"SUMPRODUCT($C$8:C1737-$H$8:H1737)","v":142}]
[null,null,null,null,null,null,null,null,null,null,{"$f":"SUMPRODUCT($C$8:C1738-$H$8:H1738)","v":142}]
[null,null,null,null,null,null,null,null,null,null,{"$f":"SUMPRODUCT($C$8:C1739-$H$8:H1739)","v":142}]
[null,null,null,null,null,null,null,null,null,null,{"$f":"SUMPRODUCT($C$8:C1740-$H$8:H1740)","v":142}]
[null,null,null,null,null,null,null,null,null,null,{"$f":"SUMPRODUCT($C$8:C1741-$H$8:H1741)","v":142}]
[null,null,null,null,null,null,null,null,null,null,{"$f":"SUMPRODUCT($C$8:C1742-$H$8:H1742)","v":142}]
[null,null,null,null,null,null,null,null,null,null,{"$f":"SUMPRODUCT($C$8:C1743-$H$8:H1743)","v":142}]
[null,null,null,null,null,null,null,null,null,null,{"$f":"SUMPRODUCT($C$8:C1744-$H$8:H1744)","v":142}]
[null,null,null,null,null,null,null,null,null,null,{"$f":"SUMPRODUCT($C$8:C1745-$H$8:H1745)","v":142}]
[null,null,null,null,null,null,null,null,null,null,{"$f":"SUMPRODUCT($C$8:C1746-$H$8:H1746)","v":142}]
[null,null,null,null,null,null,null,null,null,null,{"$f":"SUMPRODUCT($C$8:C1747-$H$8:H1747)","v":142}]
[null,null,null,null,null,null,null,null,null,null,{"$f":"SUMPRODUCT($C$8:C1748-$H$8:H1748)","v":142}]
[null,null,null,null,null,null,null,null,null,null,{"$f":"SUMPRODUCT($C$8:C1749-$H$8:H1749)","v":142}]
[null,null,null,null,null,null,null,null,null,null,{"$f":"SUMPRODUCT($C$8:C1750-$H$8:H1750)","v":142}]
[null,null,null,null,null,null,null,null,null,null,{"$f":"SUMPRODUCT($C$8:C1751-$H$8:H1751)","v":142}]
[null,null,null,null,null,null,null,null,null,null,{"$f":"SUMPRODUCT($C$8:C1752-$H$8:H1752)","v":142}]
[null,null,null,null,null,null,null,null,null,null,{"$f":"SUMPRODUCT($C$8:C1753-$H$8:H1753)","v":142}]
[null,null,null,null,null,null,null,null,null,null,{"$f":"SUMPRODUCT($C$8:C1754-$H$8:H1754)","v":142}]
[null,null,null,null,null,null,null,null,null,null,{"$f":"SUMPRODUCT($C$8:C1755-$H$8:H1755)","v":142}]
[null,null,null,null,null,null,null,null,null,null,{"$f":"SUMPRODUCT($C$8:C1756-$H$8:H1756)","v":142}]
[null,null,null,null,null,null,null,null,null,null,{"$f":"SUMPRODUCT($C$8:C1757-$H$8:H1757)","v":142}]
[null,null,null,null,null,null,null,null,null,null,{"$f":"SUMPRODUCT($C$8:C1758-$H$8:H1758)","v":142}]
[null,null,null,null,null,null,null,null,null,null,{"$f":"SUMPRODUCT($C$8:C1759-$H$8:H1759)","v":142}]
[null,null,null,null,null,null,null,null,null,null,{"$f":"SUMPRODUCT($C$8:C1760-$H$8:H1760)","v":142}]
[null,null,null,null,null,null,null,null,null,null,{"$f":"SUMPRODUCT($C$8:C1761-$H$8:H1761)","v":142}]
[null,null,null,null,null,null,null,null,null,null,{"$f":"SUMPRODUCT($C$8:C1762-$H$8:H1762)","v":142}]
[null,null,null,null,null,null,null,null,null,null,{"$f":"SUMPRODUCT($C$8:C1763-$H$8:H1763)","v":142}]
[null,null,null,null,null,null,null,null,null,null,{"$f":"SUMPRODUCT($C$8:C1764-$H$8:H1764)","v":142}]
[null,null,null,null,null,null,null,null,null,null,{"$f":"SUMPRODUCT($C$8:C1765-$H$8:H1765)","v":142}]
[null,null,null,null,null,null,null,null,null,null,{"$f":"SUMPRODUCT($C$8:C1766-$H$8:H1766)","v":142}]
[null,null,null,null,null,null,null,null,null,null,{"$f":"SUMPRODUCT($C$8:C1767-$H$8:H1767)","v":142}]
[null,null,null,null,null,null,null,null,null,null,{"$f":"SUMPRODUCT($C$8:C1768-$H$8:H1768)","v":142}]
[null,null,null,null,null,null,null,null,null,null,{"$f":"SUMPRODUCT($C$8:C1769-$H$8:H1769)","v":142}]
[null,null,null,null,null,null,null,null,null,null,{"$f":"SUMPRODUCT($C$8:C1770-$H$8:H1770)","v":142}]
[null,null,null,null,null,null,null,null,null,null,{"$f":"SUMPRODUCT($C$8:C1771-$H$8:H1771)","v":142}]
[null,null,null,null,null,null,null,null,null,null,{"$f":"SUMPRODUCT($C$8:C1772-$H$8:H1772)","v":142}]
[null,null,null,null,null,null,null,null,null,null,{"$f":"SUMPRODUCT($C$8:C1773-$H$8:H1773)","v":142}]
[null,null,null,null,null,null,null,null,null,null,{"$f":"SUMPRODUCT($C$8:C1774-$H$8:H1774)","v":142}]
[null,null,null,null,null,null,null,null,null,null,{"$f":"SUMPRODUCT($C$8:C1775-$H$8:H1775)","v":142}]
[null,null,null,null,null,null,null,null,null,null,{"$f":"SUMPRODUCT($C$8:C1776-$H$8:H1776)","v":142}]
[null,null,null,null,null,null,null,null,null,null,{"$f":"SUMPRODUCT($C$8:C1777-$H$8:H1777)","v":142}]
[null,null,null,null,null,null,null,null,null,null,{"$f":"SUMPRODUCT($C$8:C1778-$H$8:H1778)","v":142}]
[null,null,null,null,null,null,null,null,null,null,{"$f":"SUMPRODUCT($C$8:C1779-$H$8:H1779)","v":142}]
[null,null,null,null,null,null,null,null,null,null,{"$f":"SUMPRODUCT($C$8:C1780-$H$8:H1780)","v":142}]
[null,null,null,null,null,null,null,null,null,null,{"$f":"SUMPRODUCT($C$8:C1781-$H$8:H1781)","v":142}]
[null,null,null,null,null,null,null,null,null,null,{"$f":"SUMPRODUCT($C$8:C1782-$H$8:H1782)","v":142}]
[null,null,null,null,null,null,null,null,null,null,{"$f":"SUMPRODUCT($C$8:C1783-$H$8:H1783)","v":142}]
[null,null,null,null,null,null,null,null,null,null,{"$f":"SUMPRODUCT($C$8:C1784-$H$8:H1784)","v":142}]
[null,null,null,null,null,null,null,null,null,null,{"$f":"SUMPRODUCT($C$8:C1785-$H$8:H1785)","v":142}]
[null,null,null,null,null,null,null,null,null,null,{"$f":"SUMPRODUCT($C$8:C1786-$H$8:H1786)","v":142}]
[null,null,null,null,null,null,null,null,null,null,{"$f":"SUMPRODUCT($C$8:C1787-$H$8:H1787)","v":142}]
[null,null,null,null,null,null,null,null,null,null,{"$f":"SUMPRODUCT($C$8:C1788-$H$8:H1788)","v":142}]
[null,null,null,null,null,null,null,null,null,null,{"$f":"SUMPRODUCT($C$8:C1789-$H$8:H1789)","v":142}]
[null,null,null,null,null,null,null,null,null,null,{"$f":"SUMPRODUCT($C$8:C1790-$H$8:H1790)","v":142}]
[null,null,null,null,null,null,null,null,null,null,{"$f":"SUMPRODUCT($C$8:C1791-$H$8:H1791)","v":142}]
[null,null,null,null,null,null,null,null,null,null,{"$f":"SUMPRODUCT($C$8:C1792-$H$8:H1792)","v":142}]
[null,null,null,null,null,null,null,null,null,null,{"$f":"SUMPRODUCT($C$8:C1793-$H$8:H1793)","v":142}]
[null,null,null,null,null,null,null,null,null,null,{"$f":"SUMPRODUCT($C$8:C1794-$H$8:H1794)","v":142}]
[null,null,null,null,null,null,null,null,null,null,{"$f":"SUMPRODUCT($C$8:C1795-$H$8:H1795)","v":142}]
[null,null,null,null,null,null,null,null,null,null,{"$f":"SUMPRODUCT($C$8:C1796-$H$8:H1796)","v":142}]
[null,null,null,null,null,null,null,null,null,null,{"$f":"SUMPRODUCT($C$8:C1797-$H$8:H1797)","v":142}]
[null,null,null,null,null,null,null,null,null,null,{"$f":"SUMPRODUCT($C$8:C1798-$H$8:H1798)","v":142}]
[null,null,null,null,null,null,null,null,null,null,{"$f":"SUMPRODUCT($C$8:C1799-$H$8:H1799)","v":142}]
[null,null,null,null,null,null,null,null,null,null,{"$f":"SUMPRODUCT($C$8:C1800-$H$8:H1800)","v":142}]
[null,null,null,null,null,null,null,null,null,null,{"$f":"SUMPRODUCT($C$8:C1801-$H$8:H1801)","v":142}]
[null,null,null,null,null,null,null,null,null,null,{"$f":"SUMPRODUCT($C$8:C1802-$H$8:H1802)","v":142}]
[null,null,null,null,null,null,null,null,null,null,{"$f":"SUMPRODUCT($C$8:C1803-$H$8:H1803)","v":142}]
[null,null,null,null,null,null,null,null,null,null,{"$f":"SUMPRODUCT($C$8:C1804-$H$8:H1804)","v":142}]
[null,null,null,null,null,null,null,null,null,null,{"$f":"SUMPRODUCT($C$8:C1805-$H$8:H1805)","v":142}]
[null,null,null,null,null,null,null,null,null,null,{"$f":"SUMPRODUCT($C$8:C1806-$H$8:H1806)","v":142}]
[null,null,null,null,null,null,null,null,null,null,{"$f":"SUMPRODUCT($C$8:C1807-$H$8:H1807)","v":142}]
[null,null,null,null,null,null,null,null,null,null,{"$f":"SUMPRODUCT($C$8:C1808-$H$8:H1808)","v":142}]
[null,null,null,null,null,null,null,null,null,null,{"$f":"SUMPRODUCT($C$8:C1809-$H$8:H1809)","v":142}]
[null,null,null,null,null,null,null,null,null,null,{"$f":"SUMPRODUCT($C$8:C1810-$H$8:H1810)","v":142}]
[null,null,null,null,null,null,null,null,null,null,{"$f":"SUMPRODUCT($C$8:C1811-$H$8:H1811)","v":142}]
[null,null,null,null,null,null,null,null,null,null,{"$f":"SUMPRODUCT($C$8:C1812-$H$8:H1812)","v":142}]
[null,null,null,null,null,null,null,null,null,null,{"$f":"SUMPRODUCT($C$8:C1813-$H$8:H1813)","v":142}]
[null,null,null,null,null,null,null,null,null,null,{"$f":"SUMPRODUCT($C$8:C1814-$H$8:H1814)","v":142}]
[null,null,null,null,null,null,null,null,null,null,{"$f":"SUMPRODUCT($C$8:C1815-$H$8:H1815)","v":142}]
[null,null,null,null,null,null,null,null,null,null,{"$f":"SUMPRODUCT($C$8:C1816-$H$8:H1816)","v":142}]
[null,null,null,null,null,null,null,null,null,null,{"$f":"SUMPRODUCT($C$8:C1817-$H$8:H1817)","v":142}]
[null,null,null,null,null,null,null,null,null,null,{"$f":"SUMPRODUCT($C$8:C1818-$H$8:H1818)","v":142}]
[null,null,null,null,null,null,null,null,null,null,{"$f":"SUMPRODUCT($C$8:C1819-$H$8:H1819)","v":142}]
[null,null,null,null,null,null,null,null,null,null,{"$f":"SUMPRODUCT($C$8:C1820-$H$8:H1820)","v":142}]
[null,null,null,null,null,null,null,null,null,null,{"$f":"SUMPRODUCT($C$8:C1821-$H$8:H1821)","v":142}]
[null,null,null,null,null,null,null,null,null,null,{"$f":"SUMPRODUCT($C$8:C1822-$H$8:H1822)","v":142}]
[null,null,null,null,null,null,null,null,null,null,{"$f":"SUMPRODUCT($C$8:C1823-$H$8:H1823)","v":142}]
[null,null,null,null,null,null,null,null,null,null,{"$f":"SUMPRODUCT($C$8:C1824-$H$8:H1824)","v":142}]
[null,null,null,null,null,null,null,null,null,null,{"$f":"SUMPRODUCT($C$8:C1825-$H$8:H1825)","v":142}]
[null,null,null,null,null,null,null,null,null,null,{"$f":"SUMPRODUCT($C$8:C1826-$H$8:H1826)","v":142}]
[null,null,null,null,null,null,null,null,null,null,{"$f":"SUMPRODUCT($C$8:C1827-$H$8:H1827)","v":142}]
[null,null,null,null,null,null,null,null,null,null,{"$f":"SUMPRODUCT($C$8:C1828-$H$8:H1828)","v":142}]
[null,null,null,null,null,null,null,null,null,null,{"$f":"SUMPRODUCT($C$8:C1829-$H$8:H1829)","v":142}]
[null,null,null,null,null,null,null,null,null,null,{"$f":"SUMPRODUCT($C$8:C1830-$H$8:H1830)","v":142}]
[null,null,null,null,null,null,null,null,null,null,{"$f":"SUMPRODUCT($C$8:C1831-$H$8:H1831)","v":142}]
[null,null,null,null,null,null,null,null,null,null,{"$f":"SUMPRODUCT($C$8:C1832-$H$8:H1832)","v":142}]
[null,null,null,null,null,null,null,null,null,null,{"$f":"SUMPRODUCT($C$8:C1833-$H$8:H1833)","v":142}]
[null,null,null,null,null,null,null,null,null,null,{"$f":"SUMPRODUCT($C$8:C1834-$H$8:H1834)","v":142}]
[null,null,null,null,null,null,null,null,null,null,{"$f":"SUMPRODUCT($C$8:C1835-$H$8:H1835)","v":142}]
[null,null,null,null,null,null,null,null,null,null,{"$f":"SUMPRODUCT($C$8:C1836-$H$8:H1836)","v":142}]
[null,null,null,null,null,null,null,null,null,null,{"$f":"SUMPRODUCT($C$8:C1837-$H$8:H1837)","v":142}]
[null,null,null,null,null,null,null,null,null,null,{"$f":"SUMPRODUCT($C$8:C1838-$H$8:H1838)","v":142}]
[null,null,null,null,null,null,null,null,null,null,{"$f":"SUMPRODUCT($C$8:C1839-$H$8:H1839)","v":142}]
[null,null,null,null,null,null,null,null,null,null,{"$f":"SUMPRODUCT($C$8:C1840-$H$8:H1840)","v":142}]
[null,null,null,null,null,null,null,null,null,null,{"$f":"SUMPRODUCT($C$8:C1841-$H$8:H1841)","v":142}]
[null,null,null,null,null,null,null,null,null,null,{"$f":"SUMPRODUCT($C$8:C1842-$H$8:H1842)","v":142}]
[null,null,null,null,null,null,null,null,null,null,{"$f":"SUMPRODUCT($C$8:C1843-$H$8:H1843)","v":142}]
[null,null,null,null,null,null,null,null,null,null,{"$f":"SUMPRODUCT($C$8:C1844-$H$8:H1844)","v":142}]
[null,null,null,null,null,null,null,null,null,null,{"$f":"SUMPRODUCT($C$8:C1845-$H$8:H1845)","v":142}]
[null,null,null,null,null,null,null,null,null,null,{"$f":"SUMPRODUCT($C$8:C1846-$H$8:H1846)","v":142}]
[null,null,null,null,null,null,null,null,null,null,{"$f":"SUMPRODUCT($C$8:C1847-$H$8:H1847)","v":142}]
[null,null,null,null,null,null,null,null,null,null,{"$f":"SUMPRODUCT($C$8:C1848-$H$8:H1848)","v":142}]
[null,null,null,null,null,null,null,null,null,null,{"$f":"SUMPRODUCT($C$8:C1849-$H$8:H1849)","v":142}]
[null,null,null,null,null,null,null,null,null,null,{"$f":"SUMPRODUCT($C$8:C1850-$H$8:H1850)","v":142}]
[null,null,null,null,null,null,null,null,null,null,{"$f":"SUMPRODUCT($C$8:C1851-$H$8:H1851)","v":142}]
[null,null,null,null,null,null,null,null,null,null,{"$f":"SUMPRODUCT($C$8:C1852-$H$8:H1852)","v":142}]
[null,null,null,null,null,null,null,null,null,null,{"$f":"SUMPRODUCT($C$8:C1853-$H$8:H1853)","v":142}]
[null,null,null,null,null,null,null,null,null,null,{"$f":"SUMPRODUCT($C$8:C1854-$H$8:H1854)","v":142}]
[null,null,null,null,null,null,null,null,null,null,{"$f":"SUMPRODUCT($C$8:C1855-$H$8:H1855)","v":142}]
[null,null,null,null,null,null,null,null,null,null,{"$f":"SUMPRODUCT($C$8:C1856-$H$8:H1856)","v":142}]
[null,null,null,null,null,null,null,null,null,null,{"$f":"SUMPRODUCT($C$8:C1857-$H$8:H1857)","v":142}]
[null,null,null,null,null,null,null,null,null,null,{"$f":"SUMPRODUCT($C$8:C1858-$H$8:H1858)","v":142}]
[null,null,null,null,null,null,null,null,null,null,{"$f":"SUMPRODUCT($C$8:C1859-$H$8:H1859)","v":142}]
[null,null,null,null,null,null,null,null,null,null,{"$f":"SUMPRODUCT($C$8:C1860-$H$8:H1860)","v":142}]
[null,null,null,null,null,null,null,null,null,null,{"$f":"SUMPRODUCT($C$8:C1861-$H$8:H1861)","v":142}]
[null,null,null,null,null,null,null,null,null,null,{"$f":"SUMPRODUCT($C$8:C1862-$H$8:H1862)","v":142}]
[null,null,null,null,null,null,null,null,null,null,{"$f":"SUMPRODUCT($C$8:C1863-$H$8:H1863)","v":142}]
[null,null,null,null,null,null,null,null,null,null,{"$f":"SUMPRODUCT($C$8:C1864-$H$8:H1864)","v":142}]
[null,null,null,null,null,null,null,null,null,null,{"$f":"SUMPRODUCT($C$8:C1865-$H$8:H1865)","v":142}]
[null,null,null,null,null,null,null,null,null,null,{"$f":"SUMPRODUCT($C$8:C1866-$H$8:H1866)","v":142}]
[null,null,null,null,null,null,null,null,null,null,{"$f":"SUMPRODUCT($C$8:C1867-$H$8:H1867)","v":142}]
[null,null,null,null,null,null,null,null,null,null,{"$f":"SUMPRODUCT($C$8:C1868-$H$8:H1868)","v":142}]
[null,null,null,null,null,null,null,null,null,null,{"$f":"SUMPRODUCT($C$8:C1869-$H$8:H1869)","v":142}]
[null,null,null,null,null,null,null,null,null,null,{"$f":"SUMPRODUCT($C$8:C1870-$H$8:H1870)","v":142}]
[null,null,null,null,null,null,null,null,null,null,{"$f":"SUMPRODUCT($C$8:C1871-$H$8:H1871)","v":142}]
[null,null,null,null,null,null,null,null,null,null,{"$f":"SUMPRODUCT($C$8:C1872-$H$8:H1872)","v":142}]
[null,null,null,null,null,null,null,null,null,null,{"$f":"SUMPRODUCT($C$8:C1873-$H$8:H1873)","v":142}]
[null,null,null,null,null,null,null,null,null,null,{"$f":"SUMPRODUCT($C$8:C1874-$H$8:H1874)","v":142}]
[null,null,null,null,null,null,null,null,null,null,{"$f":"SUMPRODUCT($C$8:C1875-$H$8:H1875)","v":142}]
[null,null,null,null,null,null,null,null,null,null,{"$f":"SUMPRODUCT($C$8:C1876-$H$8:H1876)","v":142}]
[null,null,null,null,null,null,null,null,null,null,{"$f":"SUMPRODUCT($C$8:C1877-$H$8:H1877)","v":142}]
[null,null,null,null,null,null,null,null,null,null,{"$f":"SUMPRODUCT($C$8:C1878-$H$8:H1878)","v":142}]
[null,null,null,null,null,null,null,null,null,null,{"$f":"SUMPRODUCT($C$8:C1879-$H$8:H1879)","v":142}]
[null,null,null,null,null,null,null,null,null,null,{"$f":"SUMPRODUCT($C$8:C1880-$H$8:H1880)","v":142}]
[null,null,null,null,null,null,null,null,null,null,{"$f":"SUMPRODUCT($C$8:C1881-$H$8:H1881)","v":142}]
[null,null,null,null,null,null,null,null,null,null,{"$f":"SUMPRODUCT($C$8:C1882-$H$8:H1882)","v":142}]
[null,null,null,null,null,null,null,null,null,null,{"$f":"SUMPRODUCT($C$8:C1883-$H$8:H1883)","v":142}]
[null,null,null,null,null,null,null,null,null,null,{"$f":"SUMPRODUCT($C$8:C1884-$H$8:H1884)","v":142}]
[null,null,null,null,null,null,null,null,null,null,{"$f":"SUMPRODUCT($C$8:C1885-$H$8:H1885)","v":142}]
[null,null,null,null,null,null,null,null,null,null,{"$f":"SUMPRODUCT($C$8:C1886-$H$8:H1886)","v":142}]
[null,null,null,null,null,null,null,null,null,null,{"$f":"SUMPRODUCT($C$8:C1887-$H$8:H1887)","v":142}]
[null,null,null,null,null,null,null,null,null,null,{"$f":"SUMPRODUCT($C$8:C1888-$H$8:H1888)","v":142}]
[null,null,null,null,null,null,null,null,null,null,{"$f":"SUMPRODUCT($C$8:C1889-$H$8:H1889)","v":142}]
[null,null,null,null,null,null,null,null,null,null,{"$f":"SUMPRODUCT($C$8:C1890-$H$8:H1890)","v":142}]
[null,null,null,null,null,null,null,null,null,null,{"$f":"SUMPRODUCT($C$8:C1891-$H$8:H1891)","v":142}]
[null,null,null,null,null,null,null,null,null,null,{"$f":"SUMPRODUCT($C$8:C1892-$H$8:H1892)","v":142}]
[null,null,null,null,null,null,null,null,null,null,{"$f":"SUMPRODUCT($C$8:C1893-$H$8:H1893)","v":142}]
[null,null,null,null,null,null,null,null,null,null,{"$f":"SUMPRODUCT($C$8:C1894-$H$8:H1894)","v":142}]
[null,null,null,null,null,null,null,null,null,null,{"$f":"SUMPRODUCT($C$8:C1895-$H$8:H1895)","v":142}]
[null,null,null,null,null,null,null,null,null,null,{"$f":"SUMPRODUCT($C$8:C1896-$H$8:H1896)","v":142}]
[null,null,null,null,null,null,null,null,null,null,{"$f":"SUMPRODUCT($C$8:C1897-$H$8:H1897)","v":142}]
[null,null,null,null,null,null,null,null,null,null,{"$f":"SUMPRODUCT($C$8:C1898-$H$8:H1898)","v":142}]
[null,null,null,null,null,null,null,null,null,null,{"$f":"SUMPRODUCT($C$8:C1899-$H$8:H1899)","v":142}]
[null,null,null,null,null,null,null,null,null,null,{"$f":"SUMPRODUCT($C$8:C1900-$H$8:H1900)","v":142}]
[null,null,null,null,null,null,null,null,null,null,{"$f":"SUMPRODUCT($C$8:C1901-$H$8:H1901)","v":142}]
[null,null,null,null,null,null,null,null,null,null,{"$f":"SUMPRODUCT($C$8:C1902-$H$8:H1902)","v":142}]
[null,null,null,null,null,null,null,null,null,null,{"$f":"SUMPRODUCT($C$8:C1903-$H$8:H1903)","v":142}]
[null,null,null,null,null,null,null,null,null,null,{"$f":"SUMPRODUCT($C$8:C1904-$H$8:H1904)","v":142}]
[null,null,null,null,null,null,null,null,null,null,{"$f":"SUMPRODUCT($C$8:C1905-$H$8:H1905)","v":142}]
[null,null,null,null,null,null,null,null,null,null,{"$f":"SUMPRODUCT($C$8:C1906-$H$8:H1906)","v":142}]
[null,null,null,null,null,null,null,null,null,null,{"$f":"SUMPRODUCT($C$8:C1907-$H$8:H1907)","v":142}]
[null,null,null,null,null,null,null,null,null,null,{"$f":"SUMPRODUCT($C$8:C1908-$H$8:H1908)","v":142}]
[null,null,null,null,null,null,null,null,null,null,{"$f":"SUMPRODUCT($C$8:C1909-$H$8:H1909)","v":142}]
[null,null,null,null,null,null,null,null,null,null,{"$f":"SUMPRODUCT($C$8:C1910-$H$8:H1910)","v":142}]
[null,null,null,null,null,null,null,null,null,null,{"$f":"SUMPRODUCT($C$8:C1911-$H$8:H1911)","v":142}]
[null,null,null,null,null,null,null,null,null,null,{"$f":"SUMPRODUCT($C$8:C1912-$H$8:H1912)","v":142}]
[null,null,null,null,null,null,null,null,null,null,{"$f":"SUMPRODUCT($C$8:C1913-$H$8:H1913)","v":142}]
[null,null,null,null,null,null,null,null,null,null,{"$f":"SUMPRODUCT($C$8:C1914-$H$8:H1914)","v":142}]
[null,null,null,null,null,null,null,null,null,null,{"$f":"SUMPRODUCT($C$8:C1915-$H$8:H1915)","v":142}]
[null,null,null,null,null,null,null,null,null,null,{"$f":"SUMPRODUCT($C$8:C1916-$H$8:H1916)","v":142}]
[null,null,null,null,null,null,null,null,null,null,{"$f":"SUMPRODUCT($C$8:C1917-$H$8:H1917)","v":142}]
[null,null,null,null,null,null,null,null,null,null,{"$f":"SUMPRODUCT($C$8:C1918-$H$8:H1918)","v":142}]
[null,null,null,null,null,null,null,null,null,null,{"$f":"SUMPRODUCT($C$8:C1919-$H$8:H1919)","v":142}]
[null,null,null,null,null,null,null,null,null,null,{"$f":"SUMPRODUCT($C$8:C1920-$H$8:H1920)","v":142}]
[null,null,null,null,null,null,null,null,null,null,{"$f":"SUMPRODUCT($C$8:C1921-$H$8:H1921)","v":142}]
[null,null,null,null,null,null,null,null,null,null,{"$f":"SUMPRODUCT($C$8:C1922-$H$8:H1922)","v":142}]
[null,null,null,null,null,null,null,null,null,null,{"$f":"SUMPRODUCT($C$8:C1923-$H$8:H1923)","v":142}]
[null,null,null,null,null,null,null,null,null,null,{"$f":"SUMPRODUCT($C$8:C1924-$H$8:H1924)","v":142}]
[null,null,null,null,null,null,null,null,null,null,{"$f":"SUMPRODUCT($C$8:C1925-$H$8:H1925)","v":142}]
[null,null,null,null,null,null,null,null,null,null,{"$f":"SUMPRODUCT($C$8:C1926-$H$8:H1926)","v":142}]
[null,null,null,null,null,null,null,null,null,null,{"$f":"SUMPRODUCT($C$8:C1927-$H$8:H1927)","v":142}]
[null,null,null,null,null,null,null,null,null,null,{"$f":"SUMPRODUCT($C$8:C1928-$H$8:H1928)","v":142}]
[null,null,null,null,null,null,null,null,null,null,{"$f":"SUMPRODUCT($C$8:C1929-$H$8:H1929)","v":142}]
[null,null,null,null,null,null,null,null,null,null,{"$f":"SUMPRODUCT($C$8:C1930-$H$8:H1930)","v":142}]
[null,null,null,null,null,null,null,null,null,null,{"$f":"SUMPRODUCT($C$8:C1931-$H$8:H1931)","v":142}]
[null,null,null,null,null,null,null,null,null,null,{"$f":"SUMPRODUCT($C$8:C1932-$H$8:H1932)","v":142}]
[null,null,null,null,null,null,null,null,null,null,{"$f":"SUMPRODUCT($C$8:C1933-$H$8:H1933)","v":142}]
[null,null,null,null,null,null,null,null,null,null,{"$f":"SUMPRODUCT($C$8:C1934-$H$8:H1934)","v":142}]
[null,null,null,null,null,null,null,null,null,null,{"$f":"SUMPRODUCT($C$8:C1935-$H$8:H1935)","v":142}]
[null,null,null,null,null,null,null,null,null,null,{"$f":"SUMPRODUCT($C$8:C1936-$H$8:H1936)","v":142}]
[null,null,null,null,null,null,null,null,null,null,{"$f":"SUMPRODUCT($C$8:C1937-$H$8:H1937)","v":142}]
[null,null,null,null,null,null,null,null,null,null,{"$f":"SUMPRODUCT($C$8:C1938-$H$8:H1938)","v":142}]
[null,null,null,null,null,null,null,null,null,null,{"$f":"SUMPRODUCT($C$8:C1939-$H$8:H1939)","v":142}]
[null,null,null,null,null,null,null,null,null,null,{"$f":"SUMPRODUCT($C$8:C1940-$H$8:H1940)","v":142}]
[null,null,null,null,null,null,null,null,null,null,{"$f":"SUMPRODUCT($C$8:C1941-$H$8:H1941)","v":142}]
[null,null,null,null,null,null,null,null,null,null,{"$f":"SUMPRODUCT($C$8:C1942-$H$8:H1942)","v":142}]
[null,null,null,null,null,null,null,null,null,null,{"$f":"SUMPRODUCT($C$8:C1943-$H$8:H1943)","v":142}]
[null,null,null,null,null,null,null,null,null,null,{"$f":"SUMPRODUCT($C$8:C1944-$H$8:H1944)","v":142}]
[null,null,null,null,null,null,null,null,null,null,{"$f":"SUMPRODUCT($C$8:C1945-$H$8:H1945)","v":142}]
[null,null,null,null,null,null,null,null,null,null,{"$f":"SUMPRODUCT($C$8:C1946-$H$8:H1946)","v":142}]
[null,null,null,null,null,null,null,null,null,null,{"$f":"SUMPRODUCT($C$8:C1947-$H$8:H1947)","v":142}]
[null,null,null,null,null,null,null,null,null,null,{"$f":"SUMPRODUCT($C$8:C1948-$H$8:H1948)","v":142}]
[null,null,null,null,null,null,null,null,null,null,{"$f":"SUMPRODUCT($C$8:C1949-$H$8:H1949)","v":142}]
[null,null,null,null,null,null,null,null,null,null,{"$f":"SUMPRODUCT($C$8:C1950-$H$8:H1950)","v":142}]
[null,null,null,null,null,null,null,null,null,null,{"$f":"SUMPRODUCT($C$8:C1951-$H$8:H1951)","v":142}]
[null,null,null,null,null,null,null,null,null,null,{"$f":"SUMPRODUCT($C$8:C1952-$H$8:H1952)","v":142}]
[null,null,null,null,null,null,null,null,null,null,{"$f":"SUMPRODUCT($C$8:C1953-$H$8:H1953)","v":142}]
[null,null,null,null,null,null,null,null,null,null,{"$f":"SUMPRODUCT($C$8:C1954-$H$8:H1954)","v":142}]
[null,null,null,null,null,null,null,null,null,null,{"$f":"SUMPRODUCT($C$8:C1955-$H$8:H1955)","v":142}]
[null,null,null,null,null,null,null,null,null,null,{"$f":"SUMPRODUCT($C$8:C1956-$H$8:H1956)","v":142}]
[null,null,null,null,null,null,null,null,null,null,{"$f":"SUMPRODUCT($C$8:C1957-$H$8:H1957)","v":142}]
[null,null,null,null,null,null,null,null,null,null,{"$f":"SUMPRODUCT($C$8:C1958-$H$8:H1958)","v":142}]
[null,null,null,null,null,null,null,null,null,null,{"$f":"SUMPRODUCT($C$8:C1959-$H$8:H1959)","v":142}]
[null,null,null,null,null,null,null,null,null,null,{"$f":"SUMPRODUCT($C$8:C1960-$H$8:H1960)","v":142}]
[null,null,null,null,null,null,null,null,null,null,{"$f":"SUMPRODUCT($C$8:C1961-$H$8:H1961)","v":142}]
[null,null,null,null,null,null,null,null,null,null,{"$f":"SUMPRODUCT($C$8:C1962-$H$8:H1962)","v":142}]
[null,null,null,null,null,null,null,null,null,null,{"$f":"SUMPRODUCT($C$8:C1963-$H$8:H1963)","v":142}]
[null,null,null,null,null,null,null,null,null,null,{"$f":"SUMPRODUCT($C$8:C1964-$H$8:H1964)","v":142}]
[null,null,null,null,null,null,null,null,null,null,{"$f":"SUMPRODUCT($C$8:C1965-$H$8:H1965)","v":142}]
[null,null,null,null,null,null,null,null,null,null,{"$f":"SUMPRODUCT($C$8:C1966-$H$8:H1966)","v":142}]
[null,null,null,null,null,null,null,null,null,null,{"$f":"SUMPRODUCT($C$8:C1967-$H$8:H1967)","v":142}]
[null,null,null,null,null,null,null,null,null,null,{"$f":"SUMPRODUCT($C$8:C1968-$H$8:H1968)","v":142}]
[null,null,null,null,null,null,null,null,null,null,{"$f":"SUMPRODUCT($C$8:C1969-$H$8:H1969)","v":142}]
[null,null,null,null,null,null,null,null,null,null,{"$f":"SUMPRODUCT($C$8:C1970-$H$8:H1970)","v":142}]
[null,null,null,null,null,null,null,null,null,null,{"$f":"SUMPRODUCT($C$8:C1971-$H$8:H1971)","v":142}]
[null,null,null,null,null,null,null,null,null,null,{"$f":"SUMPRODUCT($C$8:C1972-$H$8:H1972)","v":142}]
[null,null,null,null,null,null,null,null,null,null,{"$f":"SUMPRODUCT($C$8:C1973-$H$8:H1973)","v":142}]
[null,null,null,null,null,null,null,null,null,null,{"$f":"SUMPRODUCT($C$8:C1974-$H$8:H1974)","v":142}]
[null,null,null,null,null,null,null,null,null,null,{"$f":"SUMPRODUCT($C$8:C1975-$H$8:H1975)","v":142}]
[null,null,null,null,null,null,null,null,null,null,{"$f":"SUMPRODUCT($C$8:C1976-$H$8:H1976)","v":142}]
[null,null,null,null,null,null,null,null,null,null,{"$f":"SUMPRODUCT($C$8:C1977-$H$8:H1977)","v":142}]
[null,null,null,null,null,null,null,null,null,null,{"$f":"SUMPRODUCT($C$8:C1978-$H$8:H1978)","v":142}]
[null,null,null,null,null,null,null,null,null,null,{"$f":"SUMPRODUCT($C$8:C1979-$H$8:H1979)","v":142}]
[null,null,null,null,null,null,null,null,null,null,{"$f":"SUMPRODUCT($C$8:C1980-$H$8:H1980)","v":142}]
[null,null,null,null,null,null,null,null,null,null,{"$f":"SUMPRODUCT($C$8:C1981-$H$8:H1981)","v":142}]
[null,null,null,null,null,null,null,null,null,null,{"$f":"SUMPRODUCT($C$8:C1982-$H$8:H1982)","v":142}]
[null,null,null,null,null,null,null,null,null,null,{"$f":"SUMPRODUCT($C$8:C1983-$H$8:H1983)","v":142}]
[null,null,null,null,null,null,null,null,null,null,{"$f":"SUMPRODUCT($C$8:C1984-$H$8:H1984)","v":142}]
[null,null,null,null,null,null,null,null,null,null,{"$f":"SUMPRODUCT($C$8:C1985-$H$8:H1985)","v":142}]
[null,null,null,null,null,null,null,null,null,null,{"$f":"SUMPRODUCT($C$8:C1986-$H$8:H1986)","v":142}]
[null,null,null,null,null,null,null,null,null,null,{"$f":"SUMPRODUCT($C$8:C1987-$H$8:H1987)","v":142}]
[null,null,null,null,null,null,null,null,null,null,{"$f":"SUMPRODUCT($C$8:C1988-$H$8:H1988)","v":142}]
[null,null,null,null,null,null,null,null,null,null,{"$f":"SUMPRODUCT($C$8:C1989-$H$8:H1989)","v":142}]
[null,null,null,null,null,null,null,null,null,null,{"$f":"SUMPRODUCT($C$8:C1990-$H$8:H1990)","v":142}]
[null,null,null,null,null,null,null,null,null,null,{"$f":"SUMPRODUCT($C$8:C1991-$H$8:H1991)","v":142}]
[null,null,null,null,null,null,null,null,null,null,{"$f":"SUMPRODUCT($C$8:C1992-$H$8:H1992)","v":142}]
[null,null,null,null,null,null,null,null,null,null,{"$f":"SUMPRODUCT($C$8:C1993-$H$8:H1993)","v":142}]
[null,null,null,null,null,null,null,null,null,null,{"$f":"SUMPRODUCT($C$8:C1994-$H$8:H1994)","v":142}]
[null,null,null,null,null,null,null,null,null,null,{"$f":"SUMPRODUCT($C$8:C1995-$H$8:H1995)","v":142}]
[null,null,null,null,null,null,null,null,null,null,{"$f":"SUMPRODUCT($C$8:C1996-$H$8:H1996)","v":142}]
[null,null,null,null,null,null,null,null,null,null,{"$f":"SUMPRODUCT($C$8:C1997-$H$8:H1997)","v":142}]
[null,null,null,null,null,null,null,null,null,null,{"$f":"SUMPRODUCT($C$8:C1998-$H$8:H1998)","v":142}]
[null,null,null,null,null,null,null,null,null,null,{"$f":"SUMPRODUCT($C$8:C1999-$H$8:H1999)","v":142}]
[null,null,null,null,null,null,null,null,null,null,{"$f":"SUMPRODUCT($C$8:C2000-$H$8:H2000)","v":142}]

{"sheet":"نقدية بلاستيك","index":4,"n_rows":2000,"n_cols":19,"rows_kept":2000,"cut":false,"hidden":false,"merged":[]}
[]
[]
[]
[]
[]
[]
["التاريخ","رقم الاذن","اسم العميل","المبلغ","اسم المندوب","البيان","رقم الاذن","اسم المورد / العهدة","المبلغ ","البيان","الرصيد","مجمع عملاء"]
[null,null,"رصيد اول",190857,null,null,null,null,null,null,{"$f":"SUMPRODUCT($D$8:D8-$I$8:I8)","v":190857}]
["2019-02-01",2927,"بنك المصرى الخليجى",100000,"المكتب","من تحت حساب المديونية",null,null,null,null,{"$f":"SUMPRODUCT($D$8:D9-$I$8:I9)","v":290857}]
[null,null,null,null,null,null,2769,"بنك الاستثمار العربى",105000,"ايدع فى بنك الاستثمار",{"$f":"SUMPRODUCT($D$8:D10-$I$8:I10)","v":185857}]
["2019-03-01",2928,"ام سى اى",20000,"المكتب","ايدع فى بنك الاستثمار",null,null,null,null,{"$f":"SUMPRODUCT($D$8:D11-$I$8:I11)","v":205857}]
["2019-03-01",2929,"بنك المصرى الخليجى",370000,"المكتب","صرف شيك",null,null,null,null,{"$f":"SUMPRODUCT($D$8:D12-$I$8:I12)","v":575857}]
["2019-03-01",2930,"جارى م / خالد",40000,"المكتب","جارى م / خالد(الدكتورة)",null,null,null,null,{"$f":"SUMPRODUCT($D$8:D13-$I$8:I13)","v":615857},null,null,null,null,null,null,null,"  "]
["2019-03-01",2931,"جارى م / خالد",360000,"المكتب","جارى م / خالد(20000$بسعر18ج)د / شريف",null,null,null,null,{"$f":"SUMPRODUCT($D$8:D14-$I$8:I14)","v":975857}]
["2019-03-01",null,null,null,null,null,2770,"بنك الاستثمار العربى",20000,"ايدع ام سى اى ",{"$f":"SUMPRODUCT($D$8:D15-$I$8:I15)","v":955857}]
["2019-06-01",2932,"جارى م / خالد",25000,"المكتب","جارى م / خالد",null,null,null,null,{"$f":"SUMPRODUCT($D$8:D16-$I$8:I16)","v":980857}]
["2019-06-01",null,null,null,null,null,2771,"المغاورى",8150,"مكافات بمعرفة م / شريف",{"$f":"SUMPRODUCT($D$8:D17-$I$8:I17)","v":972707}]
["2019-06-01",null,null,null,null,null,2772,"بنك الاستثمار العربى",570000,"ايداع فى بنك الاستثمار",{"$f":"SUMPRODUCT($D$8:D18-$I$8:I18)","v":402707}]
["2019-06-01",null,null,null,null,null,2773,"بنك الاستثمار العربى",360000,"ايداع ما يعادل 20000$ بسعر18ج",{"$f":"SUMPRODUCT($D$8:D19-$I$8:I19)","v":42707}]
["2019-06-01",null,null,null,null,null,2774,"بنك الاستثمار العربى",920000,"ايداع فى بنك الاستثمار",{"$f":"SUMPRODUCT($D$8:D20-$I$8:I20)","v":-877293}]
["2019-06-01",null,null,null,null,null,2775,"بنك الاستثمار العربى",25000,"ايداع فى بنك الاستثمار",{"$f":"SUMPRODUCT($D$8:D21-$I$8:I21)","v":-902293}]
["2019-06-01",2933,"كيم ارت",5000,"حسن الباجورى","مح تحت الحساب",null,null,null,null,{"$f":"SUMPRODUCT($D$8:D22-$I$8:I22)","v":-897293}]
["2019-06-01",2934,"بنك الامارت",270000,"المكتب","من تحت حساب المديونية",null,null,null,null,{"$f":"SUMPRODUCT($D$8:D23-$I$8:I23)","v":-627293}]
["2019-06-01",2935,"جارى أ / كريم",650000,"المكتب","من تحت حساب المديونية",null,null,null,null,{"$f":"SUMPRODUCT($D$8:D24-$I$8:I24)","v":22707}]
["2019-08-01",2936,"النرويجية",2000,"شريف السيد","من تحت حساب المديونية",null,null,null,null,{"$f":"SUMPRODUCT($D$8:D25-$I$8:I25)","v":24707}]
["2019-10-01",2937,"روبيرد خالد",19000,"على حسن","من تحت حساب المديونية",null,null,null,null,{"$f":"SUMPRODUCT($D$8:D26-$I$8:I26)","v":43707}]
["30/1/2019",2938,"رد عهدة م / تامر طه",20765,null,null,null,null,null,null,{"$f":"SUMPRODUCT($D$8:D27-$I$8:I27)","v":64472}]
["2019-10-01",2939,"رد عهدة م / تامر طه",3500,"المكتب","من تحت حساب المديونية",null,null,null,null,{"$f":"SUMPRODUCT($D$8:D28-$I$8:I28)","v":67972}]
["2019-10-01",2940,"الوطنية للمنسوجات",500,null,"من تحت حساب المديونية",null,null,null,null,{"$f":"SUMPRODUCT($D$8:D29-$I$8:I29)","v":68472}]
["2019-10-01",2941,"عملاء بيع هوالك",5000,null,"من تحت حساب المديونية",null,null,null,null,{"$f":"SUMPRODUCT($D$8:D30-$I$8:I30)","v":73472}]
["2019-10-01",2942,"عملاء بيع هوالك",7630,"المصنع","من تحت حساب المديونية",null,null,null,null,{"$f":"SUMPRODUCT($D$8:D31-$I$8:I31)","v":81102}]
["2019-10-01",null,null,null,null,null,2776,"المغاورى",25185.5,"مصاريف مصنع البلاستيك بمعرفة شيرين",{"$f":"SUMPRODUCT($D$8:D32-$I$8:I32)","v":55916.5}]
["2019-10-01",null,null,null,null,null,2777,"عبد الله",680,"شراء 170كجم كرتونبسعر4ج",{"$f":"SUMPRODUCT($D$8:D33-$I$8:I33)","v":55236.5}]
["2019-10-01",null,null,null,null,null,2778,"سلف مؤقتة",5900,"سلف مؤقتة",{"$f":"SUMPRODUCT($D$8:D34-$I$8:I34)","v":49336.5}]
["2019-10-01",null,null,null,null,null,2779,"سلفة / محمد رمضان",3500,"اخر دفعة من سلفة محمد رمضان",{"$f":"SUMPRODUCT($D$8:D35-$I$8:I35)","v":45836.5}]
["2019-10-01",null,null,null,null,null,2780,"عهدة م / تامر",13130,"من متحصلات",{"$f":"SUMPRODUCT($D$8:D36-$I$8:I36)","v":32706.5}]
["14/1/2019",2943,"بنك الامارت",300000,"المكتب","من تحت حساب المديونية",null,null,null,null,{"$f":"SUMPRODUCT($D$8:D37-$I$8:I37)","v":332706.5}]
["14/1/2019",2944,"ايليت",122357.75,null,"صرف شيك",null,null,null,null,{"$f":"SUMPRODUCT($D$8:D38-$I$8:I38)","v":455064.25}]
["14/1/2019",2945,"الحسين",646,null,"ضرائب",null,null,null,null,{"$f":"SUMPRODUCT($D$8:D39-$I$8:I39)","v":455710.25}]
["14/1/2019",2946,"لاغى",null,null,"من تحت حساب المديونية",null,null,null,null,{"$f":"SUMPRODUCT($D$8:D40-$I$8:I40)","v":455710.25}]
["14/1/2019",2947,"ام سى اى",22455,null,"من تحت حساب المديونية",null,null,null,null,{"$f":"SUMPRODUCT($D$8:D41-$I$8:I41)","v":478165.25}]
["14/1/2019",null,null,null,null,null,2781,"الايمان لوجيستك",310000,"ايداع فى بنك الامارات",{"$f":"SUMPRODUCT($D$8:D42-$I$8:I42)","v":168165.25}]
["14/1/2019",null,null,null,null,null,2782,"الايمان لوجيستك",50000,"ايداع فى بنك سى اى بى",{"$f":"SUMPRODUCT($D$8:D43-$I$8:I43)","v":118165.25}]
["14/1/2019",null,null,null,null,null,2783,"لاغى",null,null,{"$f":"SUMPRODUCT($D$8:D44-$I$8:I44)","v":118165.25}]
["14/1/2019",null,null,null,null,null,2784,"الحسين",12250,"نصف طن ",{"$f":"SUMPRODUCT($D$8:D45-$I$8:I45)","v":105915.25}]
["14/1/2019",null,null,null,null,null,2785,"بنك الاستثمار العربى",22455,"ايداع فى بنك الاستثمار",{"$f":"SUMPRODUCT($D$8:D46-$I$8:I46)","v":83460.25}]
["14/1/2019",2948,"د / محمد الطيبى",825,"المكتب","من تحت حساب المديونية",null,null,null,null,{"$f":"SUMPRODUCT($D$8:D47-$I$8:I47)","v":84285.25}]
["16/1/2019",2949,"بنك المصرى الخليجى",298000,null,"من تحت حساب المديونية",null,null,null,null,{"$f":"SUMPRODUCT($D$8:D48-$I$8:I48)","v":382285.25}]
["16/1/2019",2950,"بنك الامارت",115000,null,"من تحت حساب المديونية",null,null,null,null,{"$f":"SUMPRODUCT($D$8:D49-$I$8:I49)","v":497285.25}]
["16/1/2019",null,null,null,null,null,2786,"القادسية",141400,"ايداع فى بنك سى اى بى",{"$f":"SUMPRODUCT($D$8:D50-$I$8:I50)","v":355885.25}]
["16/1/2019",null,null,null,null,null,2787,"بنك الاستثمار العربى",316000,"ايداع فى بنك الاستثمار",{"$f":"SUMPRODUCT($D$8:D51-$I$8:I51)","v":39885.25}]
["19/1/2019",2951,"رد عهدة م / تامر طه",25806,null,"تصفية مع شيرين",null,null,null,null,{"$f":"SUMPRODUCT($D$8:D52-$I$8:I52)","v":65691.25}]
["19/1/2019",2952,"عملاء بيع هوالك",15000,"المكتب","من تحت حساب شراء خرز",null,null,null,null,{"$f":"SUMPRODUCT($D$8:D53-$I$8:I53)","v":80691.25}]
["19/1/2019",2953,"بريمكس",10000,"المكتب","من تحت حساب المديونية",null,null,null,null,{"$f":"SUMPRODUCT($D$8:D54-$I$8:I54)","v":90691.25}]
["19/1/2019",null,null,null,null,null,2788,"المغاورى",33816,"مصاريف المصنع بمعرفة شيرين",{"$f":"SUMPRODUCT($D$8:D55-$I$8:I55)","v":56875.25}]
["19/1/2019",null,null,null,null,null,2789,"سلف مؤقتة",3450,null,{"$f":"SUMPRODUCT($D$8:D56-$I$8:I56)","v":53425.25}]
["19/1/2019",null,null,null,null,null,2790,"عهدة م / تامر",25000,"من متحصلات",{"$f":"SUMPRODUCT($D$8:D57-$I$8:I57)","v":28425.25}]
["20/1/2019",2954,"ارت فيرت - حسين هاشم",9000,"كارم","من تحت حساب المديونية",null,null,null,null,{"$f":"SUMPRODUCT($D$8:D58-$I$8:I58)","v":37425.25}]
["20/1/2019",2955,"الاخوه العرب",50000,"المكتب","من تحت حساب المديونية (ايداع فى بنك الامارات",null,null,null,null,{"$f":"SUMPRODUCT($D$8:D59-$I$8:I59)","v":87425.25}]
["20/1/2019",2956,"الجرس",10150,"كارم","من تحت حساب المديونية ",null,null,null,null,{"$f":"SUMPRODUCT($D$8:D60-$I$8:I60)","v":97575.25}]
["20/1/2019",2957,"اسندرية لصناعة الزجاج",26962.5,"المكتب","من تحت حساب المديونية ",null,null,null,null,{"$f":"SUMPRODUCT($D$8:D61-$I$8:I61)","v":124537.75}]
["20/1/2019",2958,"اسندرية لصناعة الزجاج",28452.3,"المكتب","من تحت حساب المديونية ",null,null,null,null,{"$f":"SUMPRODUCT($D$8:D62-$I$8:I62)","v":152990.04999999999}]
["20/1/2019",2959,"بريمكس",10000,"على حسن","من تحت حساب المديونية",null,null,null,null,{"$f":"SUMPRODUCT($D$8:D63-$I$8:I63)","v":162990.04999999999}]
["20/1/2019",null,null,null,null,null,2791,"بنك الامارات",50000,"ايداع بمعرفة الاخوة العرب",{"$f":"SUMPRODUCT($D$8:D64-$I$8:I64)","v":112990.04999999999}]
["20/1/2019",null,null,null,null,null,2792,"اسكندرية لصناعة الزجاج",26962.5,"شراء خامات",{"$f":"SUMPRODUCT($D$8:D65-$I$8:I65)","v":86027.549999999988}]
["20/1/2019",null,null,null,null,null,2793,"اسكندرية لصناعة الزجاج",28452.3,"شراء خامات",{"$f":"SUMPRODUCT($D$8:D66-$I$8:I66)","v":57575.249999999985}]
["20/1/2019",null,null,null,null,null,2794,"جارى م / خالد",40000,"جارى م / خالد (الدكتورة)",{"$f":"SUMPRODUCT($D$8:D67-$I$8:I67)","v":17575.249999999985}]
["20/1/2019",null,null,null,null,null,2795,"شركة النحاس المصرية",2690.5,"تامين",{"$f":"SUMPRODUCT($D$8:D68-$I$8:I68)","v":14884.749999999985}]
["22/1/2019",null,null,null,null,null,2796,"الحسين",6480,"60 ك حبر ايطالى",{"$f":"SUMPRODUCT($D$8:D69-$I$8:I69)","v":8404.7499999999854}]
["22/1/2019",null,null,null,null,null,2797,"عهدة م / تامر",5000,"عهدة مالية",{"$f":"SUMPRODUCT($D$8:D70-$I$8:I70)","v":3404.7499999999854}]
["23/1/2019",2960,"بنك المصرى الخليجى",100000,"المكتب","من تحت حساب المديونية",null,null,null,null,{"$f":"SUMPRODUCT($D$8:D71-$I$8:I71)","v":103404.74999999999}]
["23/1/2019",2961,"بنك المصرى الخليجى",687000,"المكتب","من تحت حساب المديونية",null,null,null,null,{"$f":"SUMPRODUCT($D$8:D72-$I$8:I72)","v":790404.75}]
["23/1/2019",2962,"اكسبريس",24350.5,"حسن الباجورى","من تحت حساب المديونية",null,null,null,null,{"$f":"SUMPRODUCT($D$8:D73-$I$8:I73)","v":814755.25}]
["23/1/2019",null,null,null,null,null,2798,"جارى كريم",650000,"جارى ا / كريم",{"$f":"SUMPRODUCT($D$8:D74-$I$8:I74)","v":164755.25}]
["27/1/2019",2963,"رد عهدة م / تامر طه",15470,"المكتب","من تحت حساب المديونية تصفية مع شيرين",null,null,null,null,{"$f":"SUMPRODUCT($D$8:D75-$I$8:I75)","v":180225.25}]
["27/1/2019",2964,"عملاء بيع هوالك",8500,"المكتب","من تحت حساب المديونية  ",null,null,null,null,{"$f":"SUMPRODUCT($D$8:D76-$I$8:I76)","v":188725.25}]
["27/1/2019",2965,"بنك الامارت",50000,"المكتب","من تحت حساب المديونية  ",null,null,null,null,{"$f":"SUMPRODUCT($D$8:D77-$I$8:I77)","v":238725.25}]
["27/1/2019",2966,"بنك المصرى الخليجى",537000,"المكتب","من تحت حساب المديونية  ",null,null,null,null,{"$f":"SUMPRODUCT($D$8:D78-$I$8:I78)","v":775725.25}]
["27/1/2019",2967,"جارى كريم",650000,"المكتب","من تحت حساب المديونية  ",null,null,null,null,{"$f":"SUMPRODUCT($D$8:D79-$I$8:I79)","v":1425725.25}]
["27/1/2019",null,null,null,null,null,2799,"الفاروق",55000,"شراء خامات",{"$f":"SUMPRODUCT($D$8:D80-$I$8:I80)","v":1370725.25}]
["27/1/2019",null,null,null,null,null,2800,"الايمان لوجيستك",52155,"مصاريف جمركية (ارضيات)",{"$f":"SUMPRODUCT($D$8:D81-$I$8:I81)","v":1318570.25}]
["27/1/2019",null,null,null,null,null,2801,"المغاورى",33095,"مصاريف المصنع بمعرفة شيرين",{"$f":"SUMPRODUCT($D$8:D82-$I$8:I82)","v":1285475.25}]
["27/1/2019",null,null,null,null,null,2802,"سلف مؤقتة",3200,null,{"$f":"SUMPRODUCT($D$8:D83-$I$8:I83)","v":1282275.25}]
["27/1/2019",null,null,null,null,null,2803,"عبد الله",750,"187 ك كرتون",{"$f":"SUMPRODUCT($D$8:D84-$I$8:I84)","v":1281525.25}]
["27/1/2019",null,null,null,null,null,2804,"عهدة م / تامر",15000,"عهدة مالية",{"$f":"SUMPRODUCT($D$8:D85-$I$8:I85)","v":1266525.25}]
["27/1/2019",null,null,null,null,null,2805,"سلفة  / اميرة عبدة",700,"سلفة على 4 اقساط",{"$f":"SUMPRODUCT($D$8:D86-$I$8:I86)","v":1265825.25}]
["27/1/2019",null,null,null,null,null,2806,"عهدة م / تامر",8500,"من متحصلات",{"$f":"SUMPRODUCT($D$8:D87-$I$8:I87)","v":1257325.25}]
["30/1/2019",2968,"سلف مؤقتة",13450,"المكتب","من تحت حساب المديونية",null,null,null,null,{"$f":"SUMPRODUCT($D$8:D88-$I$8:I88)","v":1270775.25}]
["30/1/2019",2969,"عشرا تكس",41475,null,"من تحت حساب المديونية",null,null,null,null,{"$f":"SUMPRODUCT($D$8:D89-$I$8:I89)","v":1312250.25}]
["30/1/2019",2970,"رد عهدة م / تامر طه",24784,null,"من تحت حساب المديونية",null,null,null,null,{"$f":"SUMPRODUCT($D$8:D90-$I$8:I90)","v":1337034.25}]
["30/1/2019",2971,"ايرادات اخرى",1500,null,"من تحت حساب المديونية",null,null,null,null,{"$f":"SUMPRODUCT($D$8:D91-$I$8:I91)","v":1338534.25}]
["30/1/2019",2972,"عملاء بيع هوالك",1590,null,"من تحت حساب المديونية",null,null,null,null,{"$f":"SUMPRODUCT($D$8:D92-$I$8:I92)","v":1340124.25}]
["30/1/2019",2973,"عملاء بيع هوالك",8000,null,"من تحت حساب المديونية",null,null,null,null,{"$f":"SUMPRODUCT($D$8:D93-$I$8:I93)","v":1348124.25}]
["30/1/2019",2974,"ارت فيرت - حسين هاشم",4000,null,"من تحت حساب المديونية",null,null,null,null,{"$f":"SUMPRODUCT($D$8:D94-$I$8:I94)","v":1352124.25}]
["31/1/2019",null,null,null,null,null,2807,"المغاورى",50000,"عهدة مالية للضراءب",{"$f":"SUMPRODUCT($D$8:D95-$I$8:I95)","v":1302124.25}]
["31/1/2019",null,null,null,null,null,2808,"المغاورى",118595,"مرتبات مكتب و مصنع",{"$f":"SUMPRODUCT($D$8:D96-$I$8:I96)","v":1183529.25}]
["31/1/2019",null,null,null,null,null,2809,"نيو سمارت",5593.5,"ايداع فى بنكqnb",{"$f":"SUMPRODUCT($D$8:D97-$I$8:I97)","v":1177935.75}]
["31/1/2019",null,null,null,null,null,2810,"بنك الاستثمار العربى",1030000,"ايداع",{"$f":"SUMPRODUCT($D$8:D98-$I$8:I98)","v":147935.75}]
["31/1/2019",null,null,null,null,null,2811,"السويدى",26770,null,{"$f":"SUMPRODUCT($D$8:D99-$I$8:I99)","v":121165.75}]
["31/1/2019",null,null,null,null,null,2812,"المغاورى",55079,"مصاريف المصنع بمعرفة شيرين",{"$f":"SUMPRODUCT($D$8:D100-$I$8:I100)","v":66086.75}]
["31/1/2019",null,null,null,null,null,2813,"سلف مؤقتة",500,null,{"$f":"SUMPRODUCT($D$8:D101-$I$8:I101)","v":65586.75}]
["31/1/2019",null,null,null,null,null,2814,"عبد الله",700,"175ك كرتونفى 4ج",{"$f":"SUMPRODUCT($D$8:D102-$I$8:I102)","v":64886.75}]
["31/1/2019",null,null,null,null,null,2815,"عهدة م / تامر",3300,null,{"$f":"SUMPRODUCT($D$8:D103-$I$8:I103)","v":61586.75}]
["31/1/2019",null,null,null,null,null,2816,"الفاروق",55000,null,{"$f":"SUMPRODUCT($D$8:D104-$I$8:I104)","v":6586.75}]
["31/1/2019",null,null,null,null,null,2817,"جارى م / شريف",10000,"من تحت حساب المديونية",{"$f":"SUMPRODUCT($D$8:D105-$I$8:I105)","v":-3413.25}]
["31/1/2019",null,null,null,null,null,2818,"عهدة م / تامر",7845,"من تحت حساب المديونية",{"$f":"SUMPRODUCT($D$8:D106-$I$8:I106)","v":-11258.25}]
["31/1/2019",null,null,null,null,null,2819,"لاغى",null,"من تحت حساب المديونية",{"$f":"SUMPRODUCT($D$8:D107-$I$8:I107)","v":-11258.25}]
["31/1/2019",null,null,null,null,null,2820,"عهدة م / تامر",15090,"من تحت حساب المديونية",{"$f":"SUMPRODUCT($D$8:D108-$I$8:I108)","v":-26348.25}]
["2019-05-02",2975,"فارا بروف",14960,"على حسن","من تحت حساب المديونية",null,null,null,null,{"$f":"SUMPRODUCT($D$8:D109-$I$8:I109)","v":-11388.25}]
["2019-05-02",2976,"بنك المصرى الخليجى",41000,null,"من تحت حساب المديونية",null,null,null,null,{"$f":"SUMPRODUCT($D$8:D110-$I$8:I110)","v":29611.75}]
["2019-02-05",2977,"شركة الهدى محمد النجار",2508000,"المكتب","من تحت حساب المديونية",null,null,null,null,{"$f":"SUMPRODUCT($D$8:D111-$I$8:I111)","v":2537611.75}]
["2019-02-05",2978,"بنك المصرى الخليجى",480000,"المكتب","من تحت حساب المديونية",null,null,null,null,{"$f":"SUMPRODUCT($D$8:D112-$I$8:I112)","v":3017611.75}]
["2019-02-05",null,null,null,null,null,2821,"انكانا لصناعة الاحبار",10955,"من تحت حساب المديونية",{"$f":"SUMPRODUCT($D$8:D113-$I$8:I113)","v":3006656.75}]
["2019-02-05",null,null,null,null,null,2822,"جارى كريم",650000,"من تحت حساب المديونية",{"$f":"SUMPRODUCT($D$8:D114-$I$8:I114)","v":2356656.75}]
["2019-02-06",null,null,null,null,null,2823,"بنك الاستثمار العربى",735000,"من تحت حساب المديونية",{"$f":"SUMPRODUCT($D$8:D115-$I$8:I115)","v":1621656.75}]
["2019-02-06",null,null,null,null,null,2824,"جارى م / خالد",500000,"من تحت حساب المديونية",{"$f":"SUMPRODUCT($D$8:D116-$I$8:I116)","v":1121656.75}]
["2019-02-06",null,null,null,null,null,2825,"شركة صدارة",315000,"من تحت حساب المديونية",{"$f":"SUMPRODUCT($D$8:D117-$I$8:I117)","v":806656.75}]
["2019-02-06",null,null,null,null,null,2826,"جارى فيبر",145000,"من تحت حساب المديونية",{"$f":"SUMPRODUCT($D$8:D118-$I$8:I118)","v":661656.75}]
["2019-02-06",null,null,null,null,null,2827,"المغاورى",355000,"من تحت حساب المديونية",{"$f":"SUMPRODUCT($D$8:D119-$I$8:I119)","v":306656.75}]
["2019-02-07",2979,"رد عهدة م / تامر طه",15764.75,null,"من تحت حساب المديونية",null,null,null,null,{"$f":"SUMPRODUCT($D$8:D120-$I$8:I120)","v":322421.5}]
["2019-02-07",2980,"عملاء بيع هوالك",4000,null,"من تحت حساب المديونية",null,null,null,null,{"$f":"SUMPRODUCT($D$8:D121-$I$8:I121)","v":326421.5}]
["2019-02-07",2981,"كيم ارت",10000,"المكتب","من تحت حساب المديونية",null,null,null,null,{"$f":"SUMPRODUCT($D$8:D122-$I$8:I122)","v":336421.5}]
["2019-02-07",2982,"بريمكس",15000,"المكتب","من تحت حساب المديونية",null,null,null,null,{"$f":"SUMPRODUCT($D$8:D123-$I$8:I123)","v":351421.5}]
["2019-02-07",null,null,null,null,null,2828,"سلف مؤقتة",1100,"من تحت حساب المديونية",{"$f":"SUMPRODUCT($D$8:D124-$I$8:I124)","v":350321.5}]
["2019-02-07",null,null,null,null,null,2829,"المغاورى",29350.5,"من تحت حساب المديونية",{"$f":"SUMPRODUCT($D$8:D125-$I$8:I125)","v":320971}]
["2019-02-07",null,null,null,null,null,2830,"عهدة م / تامر",8745,"من تحت حساب المديونية",{"$f":"SUMPRODUCT($D$8:D126-$I$8:I126)","v":312226}]
["2019-02-07",null,null,null,null,null,2831,"عهدة م / تامر",4000,"من تحت حساب المديونية",{"$f":"SUMPRODUCT($D$8:D127-$I$8:I127)","v":308226}]
["2019-02-07",null,null,null,null,null,2832,"بنك الامارات",15000,"من تحت حساب المديونية",{"$f":"SUMPRODUCT($D$8:D128-$I$8:I128)","v":293226}]
["2019-02-10",2983,"ايليت",34170.5,null,"من تحت حساب المديونية",null,null,null,null,{"$f":"SUMPRODUCT($D$8:D129-$I$8:I129)","v":327396.5}]
["2019-02-10",2984,"ايليت",46777.5,null,"من تحت حساب المديونية",null,null,null,null,{"$f":"SUMPRODUCT($D$8:D130-$I$8:I130)","v":374174}]
["2019-02-13",2985,"رد عهدة م / تامر طه",31130,null,"من تحت حساب المديونية",null,null,null,null,{"$f":"SUMPRODUCT($D$8:D131-$I$8:I131)","v":405304}]
["2019-02-13",2986,"على قماح",13750,null,"من تحت حساب المديونية",null,null,null,null,{"$f":"SUMPRODUCT($D$8:D132-$I$8:I132)","v":419054}]
["2019-02-13",2987,"عملاء بيع هوالك",18000,"مصنع البلاستيك","من تحت حساب المديونية",null,null,null,null,{"$f":"SUMPRODUCT($D$8:D133-$I$8:I133)","v":437054}]
["2019-02-13",2988,"كيم ارت",10000,"مصنع البلاستيك","من تحت حساب المديونية",null,null,null,null,{"$f":"SUMPRODUCT($D$8:D134-$I$8:I134)","v":447054}]
["2019-02-10",null,null,null,null,null,2833,"الاسكندرية لصناعة البوليمر",45000,"من تحت حساب المديونية",{"$f":"SUMPRODUCT($D$8:D135-$I$8:I135)","v":402054}]
["2019-02-10",null,null,null,null,null,2834,"المغاورى",30000,"من تحت حساب المديونية",{"$f":"SUMPRODUCT($D$8:D136-$I$8:I136)","v":372054}]
["2019-02-10",null,null,null,null,null,2835,"المغاورى",2110,"من تحت حساب المديونية",{"$f":"SUMPRODUCT($D$8:D137-$I$8:I137)","v":369944}]
["2019-02-10",null,null,null,null,null,2836,"بنك الاستثمار العربى",84000,"من تحت حساب المديونية",{"$f":"SUMPRODUCT($D$8:D138-$I$8:I138)","v":285944}]
["2019-02-12",null,null,null,null,null,2837,"الفاروق",110000,"من تحت حساب المديونية",{"$f":"SUMPRODUCT($D$8:D139-$I$8:I139)","v":175944}]
["2019-02-12",null,null,null,null,null,2838,"المغاورى",18605,"من تحت حساب المديونية",{"$f":"SUMPRODUCT($D$8:D140-$I$8:I140)","v":157339}]
["2019-02-13",null,null,null,null,null,2839,"سلف مؤقتة",2635,"من تحت حساب المديونية",{"$f":"SUMPRODUCT($D$8:D141-$I$8:I141)","v":154704}]
["2019-02-13",null,null,null,null,null,2840,"المغاورى",27595,"من تحت حساب المديونية",{"$f":"SUMPRODUCT($D$8:D142-$I$8:I142)","v":127109}]
["2019-02-13",null,null,null,null,null,2841,"سلفة / محمود حمروش",1000,"من تحت حساب المديونية",{"$f":"SUMPRODUCT($D$8:D143-$I$8:I143)","v":126109}]
["2019-02-13",null,null,null,null,null,2842,"عهدة م / تامر",41750,"من تحت حساب المديونية",{"$f":"SUMPRODUCT($D$8:D144-$I$8:I144)","v":84359}]
["2019-02-13",null,null,null,null,null,2843,"المغاورى",14000,"من تحت حساب المديونية",{"$f":"SUMPRODUCT($D$8:D145-$I$8:I145)","v":70359}]
["2019-02-13",null,null,null,null,null,2844,"بنك الامارات",18787,"من تحت حساب المديونية",{"$f":"SUMPRODUCT($D$8:D146-$I$8:I146)","v":51572}]
["2019-02-13",null,null,null,null,null,2845,"الايمان لوجيستك",20726,"من تحت حساب المديونية",{"$f":"SUMPRODUCT($D$8:D147-$I$8:I147)","v":30846}]
["2019-02-17",2989,"بنك الامارت",108000,"المكتب","من تحت حساب المديونية",null,null,null,null,{"$f":"SUMPRODUCT($D$8:D148-$I$8:I148)","v":138846}]
["2019-02-17",2990,"ميدو للدهانات",18787,"المكتب","من تحت حساب المديونية",null,null,null,null,{"$f":"SUMPRODUCT($D$8:D149-$I$8:I149)","v":157633}]
["2019-02-18",null,null,null,null,null,2846,"السويدى",63670,"من تحت حساب المديونية",{"$f":"SUMPRODUCT($D$8:D150-$I$8:I150)","v":93963}]
["2019-02-19",2991,"بريمكس",15000,"المكتب","من تحت حساب المديونية",null,null,null,null,{"$f":"SUMPRODUCT($D$8:D151-$I$8:I151)","v":108963}]
["2019-02-19",null,null,null,null,null,2847,"بنك الامارات",15000,"من تحت حساب المديونية",{"$f":"SUMPRODUCT($D$8:D152-$I$8:I152)","v":93963}]
["2019-02-19",2992,"باسيف",99948.5,"المكتب","صرف شيك",null,null,null,null,{"$f":"SUMPRODUCT($D$8:D153-$I$8:I153)","v":193911.5}]
["2019-02-19",2993,"بنك المصرى الخليجى",300000,null,"من تحت حساب المديونية",null,null,null,null,{"$f":"SUMPRODUCT($D$8:D154-$I$8:I154)","v":493911.5}]
["2019-02-19",2994,"بنك الامارت",33000,null,"من تحت حساب المديونية",null,null,null,null,{"$f":"SUMPRODUCT($D$8:D155-$I$8:I155)","v":526911.5}]
["2019-02-19",null,null,null,null,null,2848,"جارى م / خالد",493000,"من تحت حساب المديونية",{"$f":"SUMPRODUCT($D$8:D156-$I$8:I156)","v":33911.5}]
["2019-02-21",2995,"ام سى اى",30000,null,"من تحت حساب المديونية",null,null,null,null,{"$f":"SUMPRODUCT($D$8:D157-$I$8:I157)","v":63911.5}]
["2019-02-21",2996,"رد عهدة م / تامر طه",42160.5,null,"من تحت حساب المديونية",null,null,null,null,{"$f":"SUMPRODUCT($D$8:D158-$I$8:I158)","v":106072}]
["2019-02-21",2997,"ثروت العامرية",760,null,"من تحت حساب المديونية",null,null,null,null,{"$f":"SUMPRODUCT($D$8:D159-$I$8:I159)","v":106832}]
["2019-02-21",2998,"روبيرد خالد",19000,null,"من تحت حساب المديونية",null,null,null,null,{"$f":"SUMPRODUCT($D$8:D160-$I$8:I160)","v":125832}]
["2019-02-21",2999,"عملاء بيع هوالك",13000,null,"من تحت حساب المديونية",null,null,null,null,{"$f":"SUMPRODUCT($D$8:D161-$I$8:I161)","v":138832}]
["2019-02-21",3000,"د / شريف الطيبى",2800,null,"من تحت حساب المديونية",null,null,null,null,{"$f":"SUMPRODUCT($D$8:D162-$I$8:I162)","v":141632}]
["2019-02-21",3001,"ايرادات اخرى",540,null,"من تحت حساب المديونية",null,null,null,null,{"$f":"SUMPRODUCT($D$8:D163-$I$8:I163)","v":142172}]
["2019-02-21",null,null,null,null,null,2849,"بنك الاستثمار العربى",30000,"من تحت حساب المديونية",{"$f":"SUMPRODUCT($D$8:D164-$I$8:I164)","v":112172}]
["2019-02-21",null,null,null,null,null,2850,"المغاورى",35415.5,"من تحت حساب المديونية",{"$f":"SUMPRODUCT($D$8:D165-$I$8:I165)","v":76756.5}]
["2019-02-21",null,null,null,null,null,2851,"سلف مؤقتة",3890,"من تحت حساب المديونية",{"$f":"SUMPRODUCT($D$8:D166-$I$8:I166)","v":72866.5}]
["2019-02-21",null,null,null,null,null,2852,"ثروت العامرية",2940,"من تحت حساب المديونية",{"$f":"SUMPRODUCT($D$8:D167-$I$8:I167)","v":69926.5}]
["2019-02-21",null,null,null,null,null,2853,"ثروت العامرية",760,"من تحت حساب المديونية",{"$f":"SUMPRODUCT($D$8:D168-$I$8:I168)","v":69166.5}]
["2019-02-21",null,null,null,null,null,2854,"عهدة م / تامر",32000,"من تحت حساب المديونية",{"$f":"SUMPRODUCT($D$8:D169-$I$8:I169)","v":37166.5}]
["2019-02-21",null,null,null,null,null,2855,"جارى م / شريف",10000,"من تحت حساب المديونية",{"$f":"SUMPRODUCT($D$8:D170-$I$8:I170)","v":27166.5}]
["2019-02-26",3002,"كيم ارت",7700,"الحسن الباجورى","من تحت حساب المديونية",null,null,null,null,{"$f":"SUMPRODUCT($D$8:D171-$I$8:I171)","v":34866.5}]
["2019-02-27",3003,"بنك المصرى الخليجى",685000,"المكتب ","من تحت حساب المديونية",null,null,null,null,{"$f":"SUMPRODUCT($D$8:D172-$I$8:I172)","v":719866.5}]
["2019-02-27",3004,"سلف مؤقتة",8125,"المكتب ","من تحت حساب المديونية",null,null,null,null,{"$f":"SUMPRODUCT($D$8:D173-$I$8:I173)","v":727991.5}]
["2019-02-27",3005,"الحسين",164.25,"المكتب ","من تحت حساب المديونية",null,null,null,null,{"$f":"SUMPRODUCT($D$8:D174-$I$8:I174)","v":728155.75}]
["2019-02-27",null,null,null,null,null,2856,"جارى فيبر",1200,"من تحت حساب المديونية",{"$f":"SUMPRODUCT($D$8:D175-$I$8:I175)","v":726955.75}]
["2019-02-27",null,null,null,null,null,2857,"ابوللوكيم",14150,"من تحت حساب المديونية",{"$f":"SUMPRODUCT($D$8:D176-$I$8:I176)","v":712805.75}]
["2019-02-27",null,null,null,null,null,2858,"جارى م / خالد",450000,"من تحت حساب المديونية",{"$f":"SUMPRODUCT($D$8:D177-$I$8:I177)","v":262805.75}]
["2019-02-27",null,null,null,null,null,2859,"بنك الامارات",24000,"من تحت حساب المديونية",{"$f":"SUMPRODUCT($D$8:D178-$I$8:I178)","v":238805.75}]
["2019-02-27",null,null,null,null,null,2860,"بنك الامارات",25000,"من تحت حساب المديونية",{"$f":"SUMPRODUCT($D$8:D179-$I$8:I179)","v":213805.75}]
["2019-02-27",null,null,null,null,null,2861,"المغاورى",26737.5,"من تحت حساب المديونية",{"$f":"SUMPRODUCT($D$8:D180-$I$8:I180)","v":187068.25}]
["2019-02-27",null,null,null,null,null,2862,"بنك الاستثمار العربى",12000,"من تحت حساب المديونية",{"$f":"SUMPRODUCT($D$8:D181-$I$8:I181)","v":175068.25}]
["2019-02-27",null,null,null,null,null,2863,"الحسين",5950,"من تحت حساب المديونية",{"$f":"SUMPRODUCT($D$8:D182-$I$8:I182)","v":169118.25}]
["2019-02-28",3006,"النرويجية",2000,"المكتب ","من تحت حساب المديونية",null,null,null,null,{"$f":"SUMPRODUCT($D$8:D183-$I$8:I183)","v":171118.25}]
["2019-02-28",3007,"رد عهدة م / تامر طه",33100.5,"المكتب ","من تحت حساب المديونية",null,null,null,null,{"$f":"SUMPRODUCT($D$8:D184-$I$8:I184)","v":204218.75}]
["2019-02-28",3008,"عملاء بيع هوالك",14000,"المكتب ","من تحت حساب المديونية",null,null,null,null,{"$f":"SUMPRODUCT($D$8:D185-$I$8:I185)","v":218218.75}]
["2019-02-28",3009,"عملاء بيع هوالك",17000,"المكتب ","من تحت حساب المديونية",null,null,null,null,{"$f":"SUMPRODUCT($D$8:D186-$I$8:I186)","v":235218.75}]
["2019-02-28",3010,"ارت فيرت - حسين هاشم",4050,"المكتب ","من تحت حساب المديونية",null,null,null,null,{"$f":"SUMPRODUCT($D$8:D187-$I$8:I187)","v":239268.75}]
["2019-02-28",3011,"ايرادات اخرى",750,"المكتب ","من تحت حساب المديونية",null,null,null,null,{"$f":"SUMPRODUCT($D$8:D188-$I$8:I188)","v":240018.75}]
["2019-02-28",null,null,null,null,null,2864,"المغاورى",146765,"من تحت حساب المديونية",{"$f":"SUMPRODUCT($D$8:D189-$I$8:I189)","v":93253.75}]
["2019-02-28",null,null,null,null,null,2865,"المغاورى",32850.5,"من تحت حساب المديونية",{"$f":"SUMPRODUCT($D$8:D190-$I$8:I190)","v":60403.25}]
["2019-02-28",null,null,null,null,null,2866,"لاغى",null,"من تحت حساب المديونية",{"$f":"SUMPRODUCT($D$8:D191-$I$8:I191)","v":60403.25}]
["2019-02-28",null,null,null,null,null,2867,"عهدة م / تامر",35800,"من تحت حساب المديونية",{"$f":"SUMPRODUCT($D$8:D192-$I$8:I192)","v":24603.25}]
["2019-03-03",3012,"بنك الامارت",182000,null,"من تحت حساب المديونية",null,null,null,null,{"$f":"SUMPRODUCT($D$8:D193-$I$8:I193)","v":206603.25}]
["2019-03-03",3013,"بنك المصرى الخليجى",300000,null,"من تحت حساب المديونية",null,null,null,null,{"$f":"SUMPRODUCT($D$8:D194-$I$8:I194)","v":506603.25}]
["3019-03-03",null,null,null,null,null,2868,"القادسية",106584,"من تحت حساب المديونية",{"$f":"SUMPRODUCT($D$8:D195-$I$8:I195)","v":400019.25}]
["2019-03-04",3014,"اكسبريس",3210.25,null,"من تحت حساب المديونية",null,null,null,null,{"$f":"SUMPRODUCT($D$8:D196-$I$8:I196)","v":403229.5}]
["3019-03-04",null,null,null,null,null,2869,"ابو ريدة",30000,"من تحت حساب المديونية",{"$f":"SUMPRODUCT($D$8:D197-$I$8:I197)","v":373229.5}]
["3019-03-04",null,null,null,null,null,2870,"ايميرود ايجيبت",121029,"من تحت حساب المديونية",{"$f":"SUMPRODUCT($D$8:D198-$I$8:I198)","v":252200.5}]
["3019-03-04",null,null,null,null,null,2871,"الحسين",4320,"من تحت حساب المديونية",{"$f":"SUMPRODUCT($D$8:D199-$I$8:I199)","v":247880.5}]
["2019-03-05",3015,"كيم ارت",10000,"الحسن الباجورى","من تحت حساب المديونية",null,null,null,null,{"$f":"SUMPRODUCT($D$8:D200-$I$8:I200)","v":257880.5}]
["2019-03-05",3016,"ايليت",149762.25,null,"من تحت حساب المديونية",null,null,null,null,{"$f":"SUMPRODUCT($D$8:D201-$I$8:I201)","v":407642.75}]
["2019-03-05",3017,"ايليت",50052.78,null,"من تحت حساب المديونية",null,null,null,null,{"$f":"SUMPRODUCT($D$8:D202-$I$8:I202)","v":457695.53}]
["2019-03-05",3018,"ايليت",62187.47,null,"من تحت حساب المديونية",null,null,null,null,{"$f":"SUMPRODUCT($D$8:D203-$I$8:I203)","v":519883}]
["3019-03-05",null,null,null,null,null,2872,"الفاروق",110000,"من تحت حساب المديونية",{"$f":"SUMPRODUCT($D$8:D204-$I$8:I204)","v":409883}]
["3019-03-05",null,null,null,null,null,2873,"جارى م / شريف",10000,"من تحت حساب المديونية",{"$f":"SUMPRODUCT($D$8:D205-$I$8:I205)","v":399883}]
["2019-03-06",3019,"بريمكس",10000,null,"من تحت حساب المديونية",null,null,null,null,{"$f":"SUMPRODUCT($D$8:D206-$I$8:I206)","v":409883}]
["3019-03-06",null,null,null,null,null,2874,"جارى م / خالد",78000,"من تحت حساب المديونية",{"$f":"SUMPRODUCT($D$8:D207-$I$8:I207)","v":331883}]
["3019-03-06",null,null,null,null,null,2875,"جارى م / خالد",60000,"من تحت حساب المديونية",{"$f":"SUMPRODUCT($D$8:D208-$I$8:I208)","v":271883}]
["3019-03-06",null,null,null,null,null,2876,"ايجار المصنع",120000,"ايجار المصنع من يناير حتى مارس 2019",{"$f":"SUMPRODUCT($D$8:D209-$I$8:I209)","v":151883}]
["3019-03-06",null,null,null,null,null,2877,"المغاورى",32000,"مكافات بمعرفة م / شريف",{"$f":"SUMPRODUCT($D$8:D210-$I$8:I210)","v":119883}]
["3019-03-06",null,null,null,null,null,2878,"بنك الامارات",10000,"ايدع بريمكس",{"$f":"SUMPRODUCT($D$8:D211-$I$8:I211)","v":109883}]
["3019-03-06",null,null,null,null,null,2879,"المغاورى",7040,"مكافات م/ شريف",{"$f":"SUMPRODUCT($D$8:D212-$I$8:I212)","v":102843}]
["2019-03-07",3020,"الجرس",14566,"الحسن الباجورى","من تحت حساب المديونية",null,null,null,null,{"$f":"SUMPRODUCT($D$8:D213-$I$8:I213)","v":117409}]
["2019-03-07",3021,"رد عهدة م / تامر طه",26336,"شيرين","من تحت حساب المديونية",null,null,null,null,{"$f":"SUMPRODUCT($D$8:D214-$I$8:I214)","v":143745}]
["2019-03-07",3022,"عملاء بيع هوالك",14000,"شيرين","من تحت حساب المديونية",null,null,null,null,{"$f":"SUMPRODUCT($D$8:D215-$I$8:I215)","v":157745}]
["2019-03-07",3023,"عملاء بيع هوالك",7000,"شيرين","من تحت حساب المديونية",null,null,null,null,{"$f":"SUMPRODUCT($D$8:D216-$I$8:I216)","v":164745}]
["2019-03-07",3024,"عملاء بيع هوالك",4350,"شيرين","من تحت حساب المديونية",null,null,null,null,{"$f":"SUMPRODUCT($D$8:D217-$I$8:I217)","v":169095}]
["2019-03-07",null,null,null,null,null,2880,"المغاورى",6000,"من تحت حساب المديونية",{"$f":"SUMPRODUCT($D$8:D218-$I$8:I218)","v":163095}]
["2019-03-07",null,null,null,null,null,2881,"المغاورى",33986.5,"من تحت حساب المديونية",{"$f":"SUMPRODUCT($D$8:D219-$I$8:I219)","v":129108.5}]
["2019-03-07",null,null,null,null,null,2882,"سلف مؤقتة",2350,"من تحت حساب المديونية",{"$f":"SUMPRODUCT($D$8:D220-$I$8:I220)","v":126758.5}]
["2019-03-07",null,null,null,null,null,2883,"عهدة م / تامر",25350,"من تحت حساب المديونية",{"$f":"SUMPRODUCT($D$8:D221-$I$8:I221)","v":101408.5}]
["2019-03-07",null,null,null,null,null,2884,"جارى م / شريف",10000,"من تحت حساب المديونية",{"$f":"SUMPRODUCT($D$8:D222-$I$8:I222)","v":91408.5}]
["2019-03-11",null,null,null,null,null,2885,"ايميرود ايجيبت",60515,"من تحت حساب المديونية",{"$f":"SUMPRODUCT($D$8:D223-$I$8:I223)","v":30893.5}]
[null,null,null,null,null,null,null,null,null,null,{"$f":"SUMPRODUCT($D$8:D224-$I$8:I224)","v":30893.5}]
[null,null,null,null,null,null,null,null,null,null,{"$f":"SUMPRODUCT($D$8:D225-$I$8:I225)","v":30893.5}]
[null,null,null,null,null,null,null,null,null,null,{"$f":"SUMPRODUCT($D$8:D226-$I$8:I226)","v":30893.5}]
[null,null,null,null,null,null,null,null,null,null,{"$f":"SUMPRODUCT($D$8:D227-$I$8:I227)","v":30893.5}]
[null,null,null,null,null,null,null,null,null,null,{"$f":"SUMPRODUCT($D$8:D228-$I$8:I228)","v":30893.5}]
[null,null,null,null,null,null,null,null,null,null,{"$f":"SUMPRODUCT($D$8:D229-$I$8:I229)","v":30893.5}]
[null,null,null,null,null,null,null,null,null,null,{"$f":"SUMPRODUCT($D$8:D230-$I$8:I230)","v":30893.5}]
[null,null,null,null,null,null,null,null,null,null,{"$f":"SUMPRODUCT($D$8:D231-$I$8:I231)","v":30893.5}]
[null,null,null,null,null,null,null,null,null,null,{"$f":"SUMPRODUCT($D$8:D232-$I$8:I232)","v":30893.5}]
[null,null,null,null,null,null,null,null,null,null,{"$f":"SUMPRODUCT($D$8:D233-$I$8:I233)","v":30893.5}]
[null,null,null,null,null,null,null,null,null,null,{"$f":"SUMPRODUCT($D$8:D234-$I$8:I234)","v":30893.5}]
[null,null,null,null,null,null,null,null,null,null,{"$f":"SUMPRODUCT($D$8:D235-$I$8:I235)","v":30893.5}]
[null,null,null,null,null,null,null,null,null,null,{"$f":"SUMPRODUCT($D$8:D236-$I$8:I236)","v":30893.5}]
[null,null,null,null,null,null,null,null,null,null,{"$f":"SUMPRODUCT($D$8:D237-$I$8:I237)","v":30893.5}]
[null,null,null,null,null,null,null,null,null,null,{"$f":"SUMPRODUCT($D$8:D238-$I$8:I238)","v":30893.5}]
[null,null,null,null,null,null,null,null,null,null,{"$f":"SUMPRODUCT($D$8:D239-$I$8:I239)","v":30893.5}]
[null,null,null,null,null,null,null,null,null,null,{"$f":"SUMPRODUCT($D$8:D240-$I$8:I240)","v":30893.5}]
[null,null,null,null,null,null,null,null,null,null,{"$f":"SUMPRODUCT($D$8:D241-$I$8:I241)","v":30893.5}]
[null,null,null,null,null,null,null,null,null,null,{"$f":"SUMPRODUCT($D$8:D242-$I$8:I242)","v":30893.5}]
[null,null,null,null,null,null,null,null,null,null,{"$f":"SUMPRODUCT($D$8:D243-$I$8:I243)","v":30893.5}]
[null,null,null,null,null,null,null,null,null,null,{"$f":"SUMPRODUCT($D$8:D244-$I$8:I244)","v":30893.5}]
[null,null,null,null,null,null,null,null,null,null,{"$f":"SUMPRODUCT($D$8:D245-$I$8:I245)","v":30893.5}]
[null,null,null,null,null,null,null,null,null,null,{"$f":"SUMPRODUCT($D$8:D246-$I$8:I246)","v":30893.5}]
[null,null,null,null,null,null,null,null,null,null,{"$f":"SUMPRODUCT($D$8:D247-$I$8:I247)","v":30893.5}]
[null,null,null,null,null,null,null,null,null,null,{"$f":"SUMPRODUCT($D$8:D248-$I$8:I248)","v":30893.5}]
[null,null,null,null,null,null,null,null,null,null,{"$f":"SUMPRODUCT($D$8:D249-$I$8:I249)","v":30893.5}]
[null,null,null,null,null,null,null,null,null,null,{"$f":"SUMPRODUCT($D$8:D250-$I$8:I250)","v":30893.5}]
[null,null,null,null,null,null,null,null,null,null,{"$f":"SUMPRODUCT($D$8:D251-$I$8:I251)","v":30893.5}]
[null,null,null,null,null,null,null,null,null,null,{"$f":"SUMPRODUCT($D$8:D252-$I$8:I252)","v":30893.5}]
[null,null,null,null,null,null,null,null,null,null,{"$f":"SUMPRODUCT($D$8:D253-$I$8:I253)","v":30893.5}]
[null,null,null,null,null,null,null,null,null,null,{"$f":"SUMPRODUCT($D$8:D254-$I$8:I254)","v":30893.5}]
[null,null,null,null,null,null,null,null,null,null,{"$f":"SUMPRODUCT($D$8:D255-$I$8:I255)","v":30893.5}]
[null,null,null,null,null,null,null,null,null,null,{"$f":"SUMPRODUCT($D$8:D256-$I$8:I256)","v":30893.5}]
[null,null,null,null,null,null,null,null,null,null,{"$f":"SUMPRODUCT($D$8:D257-$I$8:I257)","v":30893.5}]
[null,null,null,null,null,null,null,null,null,null,{"$f":"SUMPRODUCT($D$8:D258-$I$8:I258)","v":30893.5}]
[null,null,null,null,null,null,null,null,null,null,{"$f":"SUMPRODUCT($D$8:D259-$I$8:I259)","v":30893.5}]
[null,null,null,null,null,null,null,null,null,null,{"$f":"SUMPRODUCT($D$8:D260-$I$8:I260)","v":30893.5}]
[null,null,null,null,null,null,null,null,null,null,{"$f":"SUMPRODUCT($D$8:D261-$I$8:I261)","v":30893.5}]
[null,null,null,null,null,null,null,null,null,null,{"$f":"SUMPRODUCT($D$8:D262-$I$8:I262)","v":30893.5}]
[null,null,null,null,null,null,null,null,null,null,{"$f":"SUMPRODUCT($D$8:D263-$I$8:I263)","v":30893.5}]
[null,null,null,null,null,null,null,null,null,null,{"$f":"SUMPRODUCT($D$8:D264-$I$8:I264)","v":30893.5}]
[null,null,null,null,null,null,null,null,null,null,{"$f":"SUMPRODUCT($D$8:D265-$I$8:I265)","v":30893.5}]
[null,null,null,null,null,null,null,null,null,null,{"$f":"SUMPRODUCT($D$8:D266-$I$8:I266)","v":30893.5}]
[null,null,null,null,null,null,null,null,null,null,{"$f":"SUMPRODUCT($D$8:D267-$I$8:I267)","v":30893.5}]
[null,null,null,null,null,null,null,null,null,null,{"$f":"SUMPRODUCT($D$8:D268-$I$8:I268)","v":30893.5}]
[null,null,null,null,null,null,null,null,null,null,{"$f":"SUMPRODUCT($D$8:D269-$I$8:I269)","v":30893.5}]
[null,null,null,null,null,null,null,null,null,null,{"$f":"SUMPRODUCT($D$8:D270-$I$8:I270)","v":30893.5}]
[null,null,null,null,null,null,null,null,null,null,{"$f":"SUMPRODUCT($D$8:D271-$I$8:I271)","v":30893.5}]
[null,null,null,null,null,null,null,null,null,null,{"$f":"SUMPRODUCT($D$8:D272-$I$8:I272)","v":30893.5}]
[null,null,null,null,null,null,null,null,null,null,{"$f":"SUMPRODUCT($D$8:D273-$I$8:I273)","v":30893.5}]
[null,null,null,null,null,null,null,null,null,null,{"$f":"SUMPRODUCT($D$8:D274-$I$8:I274)","v":30893.5}]
[null,null,null,null,null,null,null,null,null,null,{"$f":"SUMPRODUCT($D$8:D275-$I$8:I275)","v":30893.5}]
[null,null,null,null,null,null,null,null,null,null,{"$f":"SUMPRODUCT($D$8:D276-$I$8:I276)","v":30893.5}]
[null,null,null,null,null,null,null,null,null,null,{"$f":"SUMPRODUCT($D$8:D277-$I$8:I277)","v":30893.5}]
[null,null,null,null,null,null,null,null,null,null,{"$f":"SUMPRODUCT($D$8:D278-$I$8:I278)","v":30893.5}]
[null,null,null,null,null,null,null,null,null,null,{"$f":"SUMPRODUCT($D$8:D279-$I$8:I279)","v":30893.5}]
[null,null,null,null,null,null,null,null,null,null,{"$f":"SUMPRODUCT($D$8:D280-$I$8:I280)","v":30893.5}]
[null,null,null,null,null,null,null,null,null,null,{"$f":"SUMPRODUCT($D$8:D281-$I$8:I281)","v":30893.5}]
[null,null,null,null,null,null,null,null,null,null,{"$f":"SUMPRODUCT($D$8:D282-$I$8:I282)","v":30893.5}]
[null,null,null,null,null,null,null,null,null,null,{"$f":"SUMPRODUCT($D$8:D283-$I$8:I283)","v":30893.5}]
[null,null,null,null,null,null,null,null,null,null,{"$f":"SUMPRODUCT($D$8:D284-$I$8:I284)","v":30893.5}]
[null,null,null,null,null,null,null,null,null,null,{"$f":"SUMPRODUCT($D$8:D285-$I$8:I285)","v":30893.5}]
[null,null,null,null,null,null,null,null,null,null,{"$f":"SUMPRODUCT($D$8:D286-$I$8:I286)","v":30893.5}]
[null,null,null,null,null,null,null,null,null,null,{"$f":"SUMPRODUCT($D$8:D287-$I$8:I287)","v":30893.5}]
[null,null,null,null,null,null,null,null,null,null,{"$f":"SUMPRODUCT($D$8:D288-$I$8:I288)","v":30893.5}]
[null,null,null,null,null,null,null,null,null,null,{"$f":"SUMPRODUCT($D$8:D289-$I$8:I289)","v":30893.5}]
[null,null,null,null,null,null,null,null,null,null,{"$f":"SUMPRODUCT($D$8:D290-$I$8:I290)","v":30893.5}]
[null,null,null,null,null,null,null,null,null,null,{"$f":"SUMPRODUCT($D$8:D291-$I$8:I291)","v":30893.5}]
[null,null,null,null,null,null,null,null,null,null,{"$f":"SUMPRODUCT($D$8:D292-$I$8:I292)","v":30893.5}]
[null,null,null,null,null,null,null,null,null,null,{"$f":"SUMPRODUCT($D$8:D293-$I$8:I293)","v":30893.5}]
[null,null,null,null,null,null,null,null,null,null,{"$f":"SUMPRODUCT($D$8:D294-$I$8:I294)","v":30893.5}]
[null,null,null,null,null,null,null,null,null,null,{"$f":"SUMPRODUCT($D$8:D295-$I$8:I295)","v":30893.5}]
[null,null,null,null,null,null,null,null,null,null,{"$f":"SUMPRODUCT($D$8:D296-$I$8:I296)","v":30893.5}]
[null,null,null,null,null,null,null,null,null,null,{"$f":"SUMPRODUCT($D$8:D297-$I$8:I297)","v":30893.5}]
[null,null,null,null,null,null,null,null,null,null,{"$f":"SUMPRODUCT($D$8:D298-$I$8:I298)","v":30893.5}]
[null,null,null,null,null,null,null,null,null,null,{"$f":"SUMPRODUCT($D$8:D299-$I$8:I299)","v":30893.5}]
[null,null,null,null,null,null,null,null,null,null,{"$f":"SUMPRODUCT($D$8:D300-$I$8:I300)","v":30893.5}]
[null,null,null,null,null,null,null,null,null,null,{"$f":"SUMPRODUCT($D$8:D301-$I$8:I301)","v":30893.5}]
[null,null,null,null,null,null,null,null,null,null,{"$f":"SUMPRODUCT($D$8:D302-$I$8:I302)","v":30893.5}]
[null,null,null,null,null,null,null,null,null,null,{"$f":"SUMPRODUCT($D$8:D303-$I$8:I303)","v":30893.5}]
[null,null,null,null,null,null,null,null,null,null,{"$f":"SUMPRODUCT($D$8:D304-$I$8:I304)","v":30893.5}]
[null,null,null,null,null,null,null,null,null,null,{"$f":"SUMPRODUCT($D$8:D305-$I$8:I305)","v":30893.5}]
[null,null,null,null,null,null,null,null,null,null,{"$f":"SUMPRODUCT($D$8:D306-$I$8:I306)","v":30893.5}]
[null,null,null,null,null,null,null,null,null,null,{"$f":"SUMPRODUCT($D$8:D307-$I$8:I307)","v":30893.5}]
[null,null,null,null,null,null,null,null,null,null,{"$f":"SUMPRODUCT($D$8:D308-$I$8:I308)","v":30893.5}]
[null,null,null,null,null,null,null,null,null,null,{"$f":"SUMPRODUCT($D$8:D309-$I$8:I309)","v":30893.5}]
[null,null,null,null,null,null,null,null,null,null,{"$f":"SUMPRODUCT($D$8:D310-$I$8:I310)","v":30893.5}]
[null,null,null,null,null,null,null,null,null,null,{"$f":"SUMPRODUCT($D$8:D311-$I$8:I311)","v":30893.5}]
[null,null,null,null,null,null,null,null,null,null,{"$f":"SUMPRODUCT($D$8:D312-$I$8:I312)","v":30893.5}]
[null,null,null,null,null,null,null,null,null,null,{"$f":"SUMPRODUCT($D$8:D313-$I$8:I313)","v":30893.5}]
[null,null,null,null,null,null,null,null,null,null,{"$f":"SUMPRODUCT($D$8:D314-$I$8:I314)","v":30893.5}]
[null,null,null,null,null,null,null,null,null,null,{"$f":"SUMPRODUCT($D$8:D315-$I$8:I315)","v":30893.5}]
[null,null,null,null,null,null,null,null,null,null,{"$f":"SUMPRODUCT($D$8:D316-$I$8:I316)","v":30893.5}]
[null,null,null,null,null,null,null,null,null,null,{"$f":"SUMPRODUCT($D$8:D317-$I$8:I317)","v":30893.5}]
[null,null,null,null,null,null,null,null,null,null,{"$f":"SUMPRODUCT($D$8:D318-$I$8:I318)","v":30893.5}]
[null,null,null,null,null,null,null,null,null,null,{"$f":"SUMPRODUCT($D$8:D319-$I$8:I319)","v":30893.5}]
[null,null,null,null,null,null,null,null,null,null,{"$f":"SUMPRODUCT($D$8:D320-$I$8:I320)","v":30893.5}]
[null,null,null,null,null,null,null,null,null,null,{"$f":"SUMPRODUCT($D$8:D321-$I$8:I321)","v":30893.5}]
[null,null,null,null,null,null,null,null,null,null,{"$f":"SUMPRODUCT($D$8:D322-$I$8:I322)","v":30893.5}]
[null,null,null,null,null,null,null,null,null,null,{"$f":"SUMPRODUCT($D$8:D323-$I$8:I323)","v":30893.5}]
[null,null,null,null,null,null,null,null,null,null,{"$f":"SUMPRODUCT($D$8:D324-$I$8:I324)","v":30893.5}]
[null,null,null,null,null,null,null,null,null,null,{"$f":"SUMPRODUCT($D$8:D325-$I$8:I325)","v":30893.5}]
[null,null,null,null,null,null,null,null,null,null,{"$f":"SUMPRODUCT($D$8:D326-$I$8:I326)","v":30893.5}]
[null,null,null,null,null,null,null,null,null,null,{"$f":"SUMPRODUCT($D$8:D327-$I$8:I327)","v":30893.5}]
[null,null,null,null,null,null,null,null,null,null,{"$f":"SUMPRODUCT($D$8:D328-$I$8:I328)","v":30893.5}]
[null,null,null,null,null,null,null,null,null,null,{"$f":"SUMPRODUCT($D$8:D329-$I$8:I329)","v":30893.5}]
[null,null,null,null,null,null,null,null,null,null,{"$f":"SUMPRODUCT($D$8:D330-$I$8:I330)","v":30893.5}]
[null,null,null,null,null,null,null,null,null,null,{"$f":"SUMPRODUCT($D$8:D331-$I$8:I331)","v":30893.5}]
[null,null,null,null,null,null,null,null,null,null,{"$f":"SUMPRODUCT($D$8:D332-$I$8:I332)","v":30893.5}]
[null,null,null,null,null,null,null,null,null,null,{"$f":"SUMPRODUCT($D$8:D333-$I$8:I333)","v":30893.5}]
[null,null,null,null,null,null,null,null,null,null,{"$f":"SUMPRODUCT($D$8:D334-$I$8:I334)","v":30893.5}]
[null,null,null,null,null,null,null,null,null,null,{"$f":"SUMPRODUCT($D$8:D335-$I$8:I335)","v":30893.5}]
[null,null,null,null,null,null,null,null,null,null,{"$f":"SUMPRODUCT($D$8:D336-$I$8:I336)","v":30893.5}]
[null,null,null,null,null,null,null,null,null,null,{"$f":"SUMPRODUCT($D$8:D337-$I$8:I337)","v":30893.5}]
[null,null,null,null,null,null,null,null,null,null,{"$f":"SUMPRODUCT($D$8:D338-$I$8:I338)","v":30893.5}]
[null,null,null,null,null,null,null,null,null,null,{"$f":"SUMPRODUCT($D$8:D339-$I$8:I339)","v":30893.5}]
[null,null,null,null,null,null,null,null,null,null,{"$f":"SUMPRODUCT($D$8:D340-$I$8:I340)","v":30893.5}]
[null,null,null,null,null,null,null,null,null,null,{"$f":"SUMPRODUCT($D$8:D341-$I$8:I341)","v":30893.5}]
[null,null,null,null,null,null,null,null,null,null,{"$f":"SUMPRODUCT($D$8:D342-$I$8:I342)","v":30893.5}]
[null,null,null,null,null,null,null,null,null,null,{"$f":"SUMPRODUCT($D$8:D343-$I$8:I343)","v":30893.5}]
[null,null,null,null,null,null,null,null,null,null,{"$f":"SUMPRODUCT($D$8:D344-$I$8:I344)","v":30893.5}]
[null,null,null,null,null,null,null,null,null,null,{"$f":"SUMPRODUCT($D$8:D345-$I$8:I345)","v":30893.5}]
[null,null,null,null,null,null,null,null,null,null,{"$f":"SUMPRODUCT($D$8:D346-$I$8:I346)","v":30893.5}]
[null,null,null,null,null,null,null,null,null,null,{"$f":"SUMPRODUCT($D$8:D347-$I$8:I347)","v":30893.5}]
[null,null,null,null,null,null,null,null,null,null,{"$f":"SUMPRODUCT($D$8:D348-$I$8:I348)","v":30893.5}]
[null,null,null,null,null,null,null,null,null,null,{"$f":"SUMPRODUCT($D$8:D349-$I$8:I349)","v":30893.5}]
[null,null,null,null,null,null,null,null,null,null,{"$f":"SUMPRODUCT($D$8:D350-$I$8:I350)","v":30893.5}]
[null,null,null,null,null,null,null,null,null,null,{"$f":"SUMPRODUCT($D$8:D351-$I$8:I351)","v":30893.5}]
[null,null,null,null,null,null,null,null,null,null,{"$f":"SUMPRODUCT($D$8:D352-$I$8:I352)","v":30893.5}]
[null,null,null,null,null,null,null,null,null,null,{"$f":"SUMPRODUCT($D$8:D353-$I$8:I353)","v":30893.5}]
[null,null,null,null,null,null,null,null,null,null,{"$f":"SUMPRODUCT($D$8:D354-$I$8:I354)","v":30893.5}]
[null,null,null,null,null,null,null,null,null,null,{"$f":"SUMPRODUCT($D$8:D355-$I$8:I355)","v":30893.5}]
[null,null,null,null,null,null,null,null,null,null,{"$f":"SUMPRODUCT($D$8:D356-$I$8:I356)","v":30893.5}]
[null,null,null,null,null,null,null,null,null,null,{"$f":"SUMPRODUCT($D$8:D357-$I$8:I357)","v":30893.5}]
[null,null,null,null,null,null,null,null,null,null,{"$f":"SUMPRODUCT($D$8:D358-$I$8:I358)","v":30893.5}]
[null,null,null,null,null,null,null,null,null,null,{"$f":"SUMPRODUCT($D$8:D359-$I$8:I359)","v":30893.5}]
[null,null,null,null,null,null,null,null,null,null,{"$f":"SUMPRODUCT($D$8:D360-$I$8:I360)","v":30893.5}]
[null,null,null,null,null,null,null,null,null,null,{"$f":"SUMPRODUCT($D$8:D361-$I$8:I361)","v":30893.5}]
[null,null,null,null,null,null,null,null,null,null,{"$f":"SUMPRODUCT($D$8:D362-$I$8:I362)","v":30893.5}]
[null,null,null,null,null,null,null,null,null,null,{"$f":"SUMPRODUCT($D$8:D363-$I$8:I363)","v":30893.5}]
[null,null,null,null,null,null,null,null,null,null,{"$f":"SUMPRODUCT($D$8:D364-$I$8:I364)","v":30893.5}]
[null,null,null,null,null,null,null,null,null,null,{"$f":"SUMPRODUCT($D$8:D365-$I$8:I365)","v":30893.5}]
[null,null,null,null,null,null,null,null,null,null,{"$f":"SUMPRODUCT($D$8:D366-$I$8:I366)","v":30893.5}]
[null,null,null,null,null,null,null,null,null,null,{"$f":"SUMPRODUCT($D$8:D367-$I$8:I367)","v":30893.5}]
[null,null,null,null,null,null,null,null,null,null,{"$f":"SUMPRODUCT($D$8:D368-$I$8:I368)","v":30893.5}]
[null,null,null,null,null,null,null,null,null,null,{"$f":"SUMPRODUCT($D$8:D369-$I$8:I369)","v":30893.5}]
[null,null,null,null,null,null,null,null,null,null,{"$f":"SUMPRODUCT($D$8:D370-$I$8:I370)","v":30893.5}]
[null,null,null,null,null,null,null,null,null,null,{"$f":"SUMPRODUCT($D$8:D371-$I$8:I371)","v":30893.5}]
[null,null,null,null,null,null,null,null,null,null,{"$f":"SUMPRODUCT($D$8:D372-$I$8:I372)","v":30893.5}]
[null,null,null,null,null,null,null,null,null,null,{"$f":"SUMPRODUCT($D$8:D373-$I$8:I373)","v":30893.5}]
[null,null,null,null,null,null,null,null,null,null,{"$f":"SUMPRODUCT($D$8:D374-$I$8:I374)","v":30893.5}]
[null,null,null,null,null,null,null,null,null,null,{"$f":"SUMPRODUCT($D$8:D375-$I$8:I375)","v":30893.5}]
[null,null,null,null,null,null,null,null,null,null,{"$f":"SUMPRODUCT($D$8:D376-$I$8:I376)","v":30893.5}]
[null,null,null,null,null,null,null,null,null,null,{"$f":"SUMPRODUCT($D$8:D377-$I$8:I377)","v":30893.5}]
[null,null,null,null,null,null,null,null,null,null,{"$f":"SUMPRODUCT($D$8:D378-$I$8:I378)","v":30893.5}]
[null,null,null,null,null,null,null,null,null,null,{"$f":"SUMPRODUCT($D$8:D379-$I$8:I379)","v":30893.5}]
[null,null,null,null,null,null,null,null,null,null,{"$f":"SUMPRODUCT($D$8:D380-$I$8:I380)","v":30893.5}]
[null,null,null,null,null,null,null,null,null,null,{"$f":"SUMPRODUCT($D$8:D381-$I$8:I381)","v":30893.5}]
[null,null,null,null,null,null,null,null,null,null,{"$f":"SUMPRODUCT($D$8:D382-$I$8:I382)","v":30893.5}]
[null,null,null,null,null,null,null,null,null,null,{"$f":"SUMPRODUCT($D$8:D383-$I$8:I383)","v":30893.5}]
[null,null,null,null,null,null,null,null,null,null,{"$f":"SUMPRODUCT($D$8:D384-$I$8:I384)","v":30893.5}]
[null,null,null,null,null,null,null,null,null,null,{"$f":"SUMPRODUCT($D$8:D385-$I$8:I385)","v":30893.5}]
[null,null,null,null,null,null,null,null,null,null,{"$f":"SUMPRODUCT($D$8:D386-$I$8:I386)","v":30893.5}]
[null,null,null,null,null,null,null,null,null,null,{"$f":"SUMPRODUCT($D$8:D387-$I$8:I387)","v":30893.5}]
[null,null,null,null,null,null,null,null,null,null,{"$f":"SUMPRODUCT($D$8:D388-$I$8:I388)","v":30893.5}]
[null,null,null,null,null,null,null,null,null,null,{"$f":"SUMPRODUCT($D$8:D389-$I$8:I389)","v":30893.5}]
[null,null,null,null,null,null,null,null,null,null,{"$f":"SUMPRODUCT($D$8:D390-$I$8:I390)","v":30893.5}]
[null,null,null,null,null,null,null,null,null,null,{"$f":"SUMPRODUCT($D$8:D391-$I$8:I391)","v":30893.5}]
[null,null,null,null,null,null,null,null,null,null,{"$f":"SUMPRODUCT($D$8:D392-$I$8:I392)","v":30893.5}]
[null,null,null,null,null,null,null,null,null,null,{"$f":"SUMPRODUCT($D$8:D393-$I$8:I393)","v":30893.5}]
[null,null,null,null,null,null,null,null,null,null,{"$f":"SUMPRODUCT($D$8:D394-$I$8:I394)","v":30893.5}]
[null,null,null,null,null,null,null,null,null,null,{"$f":"SUMPRODUCT($D$8:D395-$I$8:I395)","v":30893.5}]
[null,null,null,null,null,null,null,null,null,null,{"$f":"SUMPRODUCT($D$8:D396-$I$8:I396)","v":30893.5}]
[null,null,null,null,null,null,null,null,null,null,{"$f":"SUMPRODUCT($D$8:D397-$I$8:I397)","v":30893.5}]
[null,null,null,null,null,null,null,null,null,null,{"$f":"SUMPRODUCT($D$8:D398-$I$8:I398)","v":30893.5}]
[null,null,null,null,null,null,null,null,null,null,{"$f":"SUMPRODUCT($D$8:D399-$I$8:I399)","v":30893.5}]
[null,null,null,null,null,null,null,null,null,null,{"$f":"SUMPRODUCT($D$8:D400-$I$8:I400)","v":30893.5}]
[null,null,null,null,null,null,null,null,null,null,{"$f":"SUMPRODUCT($D$8:D401-$I$8:I401)","v":30893.5}]
[null,null,null,null,null,null,null,null,null,null,{"$f":"SUMPRODUCT($D$8:D402-$I$8:I402)","v":30893.5}]
[null,null,null,null,null,null,null,null,null,null,{"$f":"SUMPRODUCT($D$8:D403-$I$8:I403)","v":30893.5}]
[null,null,null,null,null,null,null,null,null,null,{"$f":"SUMPRODUCT($D$8:D404-$I$8:I404)","v":30893.5}]
[null,null,null,null,null,null,null,null,null,null,{"$f":"SUMPRODUCT($D$8:D405-$I$8:I405)","v":30893.5}]
[null,null,null,null,null,null,null,null,null,null,{"$f":"SUMPRODUCT($D$8:D406-$I$8:I406)","v":30893.5}]
[null,null,null,null,null,null,null,null,null,null,{"$f":"SUMPRODUCT($D$8:D407-$I$8:I407)","v":30893.5}]
[null,null,null,null,null,null,null,null,null,null,{"$f":"SUMPRODUCT($D$8:D408-$I$8:I408)","v":30893.5}]
[null,null,null,null,null,null,null,null,null,null,{"$f":"SUMPRODUCT($D$8:D409-$I$8:I409)","v":30893.5}]
[null,null,null,null,null,null,null,null,null,null,{"$f":"SUMPRODUCT($D$8:D410-$I$8:I410)","v":30893.5}]
[null,null,null,null,null,null,null,null,null,null,{"$f":"SUMPRODUCT($D$8:D411-$I$8:I411)","v":30893.5}]
[null,null,null,null,null,null,null,null,null,null,{"$f":"SUMPRODUCT($D$8:D412-$I$8:I412)","v":30893.5}]
[null,null,null,null,null,null,null,null,null,null,{"$f":"SUMPRODUCT($D$8:D413-$I$8:I413)","v":30893.5}]
[null,null,null,null,null,null,null,null,null,null,{"$f":"SUMPRODUCT($D$8:D414-$I$8:I414)","v":30893.5}]
[null,null,null,null,null,null,null,null,null,null,{"$f":"SUMPRODUCT($D$8:D415-$I$8:I415)","v":30893.5}]
[null,null,null,null,null,null,null,null,null,null,{"$f":"SUMPRODUCT($D$8:D416-$I$8:I416)","v":30893.5}]
[null,null,null,null,null,null,null,null,null,null,{"$f":"SUMPRODUCT($D$8:D417-$I$8:I417)","v":30893.5}]
[null,null,null,null,null,null,null,null,null,null,{"$f":"SUMPRODUCT($D$8:D418-$I$8:I418)","v":30893.5}]
[null,null,null,null,null,null,null,null,null,null,{"$f":"SUMPRODUCT($D$8:D419-$I$8:I419)","v":30893.5}]
[null,null,null,null,null,null,null,null,null,null,{"$f":"SUMPRODUCT($D$8:D420-$I$8:I420)","v":30893.5}]
[null,null,null,null,null,null,null,null,null,null,{"$f":"SUMPRODUCT($D$8:D421-$I$8:I421)","v":30893.5}]
[null,null,null,null,null,null,null,null,null,null,{"$f":"SUMPRODUCT($D$8:D422-$I$8:I422)","v":30893.5}]
[null,null,null,null,null,null,null,null,null,null,{"$f":"SUMPRODUCT($D$8:D423-$I$8:I423)","v":30893.5}]
[null,null,null,null,null,null,null,null,null,null,{"$f":"SUMPRODUCT($D$8:D424-$I$8:I424)","v":30893.5}]
[null,null,null,null,null,null,null,null,null,null,{"$f":"SUMPRODUCT($D$8:D425-$I$8:I425)","v":30893.5}]
[null,null,null,null,null,null,null,null,null,null,{"$f":"SUMPRODUCT($D$8:D426-$I$8:I426)","v":30893.5}]
[null,null,null,null,null,null,null,null,null,null,{"$f":"SUMPRODUCT($D$8:D427-$I$8:I427)","v":30893.5}]
[null,null,null,null,null,null,null,null,null,null,{"$f":"SUMPRODUCT($D$8:D428-$I$8:I428)","v":30893.5}]
[null,null,null,null,null,null,null,null,null,null,{"$f":"SUMPRODUCT($D$8:D429-$I$8:I429)","v":30893.5}]
[null,null,null,null,null,null,null,null,null,null,{"$f":"SUMPRODUCT($D$8:D430-$I$8:I430)","v":30893.5}]
[null,null,null,null,null,null,null,null,null,null,{"$f":"SUMPRODUCT($D$8:D431-$I$8:I431)","v":30893.5}]
[null,null,null,null,null,null,null,null,null,null,{"$f":"SUMPRODUCT($D$8:D432-$I$8:I432)","v":30893.5}]
[null,null,null,null,null,null,null,null,null,null,{"$f":"SUMPRODUCT($D$8:D433-$I$8:I433)","v":30893.5}]
[null,null,null,null,null,null,null,null,null,null,{"$f":"SUMPRODUCT($D$8:D434-$I$8:I434)","v":30893.5}]
[null,null,null,null,null,null,null,null,null,null,{"$f":"SUMPRODUCT($D$8:D435-$I$8:I435)","v":30893.5}]
[null,null,null,null,null,null,null,null,null,null,{"$f":"SUMPRODUCT($D$8:D436-$I$8:I436)","v":30893.5}]
[null,null,null,null,null,null,null,null,null,null,{"$f":"SUMPRODUCT($D$8:D437-$I$8:I437)","v":30893.5}]
[null,null,null,null,null,null,null,null,null,null,{"$f":"SUMPRODUCT($D$8:D438-$I$8:I438)","v":30893.5}]
[null,null,null,null,null,null,null,null,null,null,{"$f":"SUMPRODUCT($D$8:D439-$I$8:I439)","v":30893.5}]
[null,null,null,null,null,null,null,null,null,null,{"$f":"SUMPRODUCT($D$8:D440-$I$8:I440)","v":30893.5}]
[null,null,null,null,null,null,null,null,null,null,{"$f":"SUMPRODUCT($D$8:D441-$I$8:I441)","v":30893.5}]
[null,null,null,null,null,null,null,null,null,null,{"$f":"SUMPRODUCT($D$8:D442-$I$8:I442)","v":30893.5}]
[null,null,null,null,null,null,null,null,null,null,{"$f":"SUMPRODUCT($D$8:D443-$I$8:I443)","v":30893.5}]
[null,null,null,null,null,null,null,null,null,null,{"$f":"SUMPRODUCT($D$8:D444-$I$8:I444)","v":30893.5}]
[null,null,null,null,null,null,null,null,null,null,{"$f":"SUMPRODUCT($D$8:D445-$I$8:I445)","v":30893.5}]
[null,null,null,null,null,null,null,null,null,null,{"$f":"SUMPRODUCT($D$8:D446-$I$8:I446)","v":30893.5}]
[null,null,null,null,null,null,null,null,null,null,{"$f":"SUMPRODUCT($D$8:D447-$I$8:I447)","v":30893.5}]
[null,null,null,null,null,null,null,null,null,null,{"$f":"SUMPRODUCT($D$8:D448-$I$8:I448)","v":30893.5}]
[null,null,null,null,null,null,null,null,null,null,{"$f":"SUMPRODUCT($D$8:D449-$I$8:I449)","v":30893.5}]
[null,null,null,null,null,null,null,null,null,null,{"$f":"SUMPRODUCT($D$8:D450-$I$8:I450)","v":30893.5}]
[null,null,null,null,null,null,null,null,null,null,{"$f":"SUMPRODUCT($D$8:D451-$I$8:I451)","v":30893.5}]
[null,null,null,null,null,null,null,null,null,null,{"$f":"SUMPRODUCT($D$8:D452-$I$8:I452)","v":30893.5}]
[null,null,null,null,null,null,null,null,null,null,{"$f":"SUMPRODUCT($D$8:D453-$I$8:I453)","v":30893.5}]
[null,null,null,null,null,null,null,null,null,null,{"$f":"SUMPRODUCT($D$8:D454-$I$8:I454)","v":30893.5}]
[null,null,null,null,null,null,null,null,null,null,{"$f":"SUMPRODUCT($D$8:D455-$I$8:I455)","v":30893.5}]
[null,null,null,null,null,null,null,null,null,null,{"$f":"SUMPRODUCT($D$8:D456-$I$8:I456)","v":30893.5}]
[null,null,null,null,null,null,null,null,null,null,{"$f":"SUMPRODUCT($D$8:D457-$I$8:I457)","v":30893.5}]
[null,null,null,null,null,null,null,null,null,null,{"$f":"SUMPRODUCT($D$8:D458-$I$8:I458)","v":30893.5}]
[null,null,null,null,null,null,null,null,null,null,{"$f":"SUMPRODUCT($D$8:D459-$I$8:I459)","v":30893.5}]
[null,null,null,null,null,null,null,null,null,null,{"$f":"SUMPRODUCT($D$8:D460-$I$8:I460)","v":30893.5}]
[null,null,null,null,null,null,null,null,null,null,{"$f":"SUMPRODUCT($D$8:D461-$I$8:I461)","v":30893.5}]
[null,null,null,null,null,null,null,null,null,null,{"$f":"SUMPRODUCT($D$8:D462-$I$8:I462)","v":30893.5}]
[null,null,null,null,null,null,null,null,null,null,{"$f":"SUMPRODUCT($D$8:D463-$I$8:I463)","v":30893.5}]
[null,null,null,null,null,null,null,null,null,null,{"$f":"SUMPRODUCT($D$8:D464-$I$8:I464)","v":30893.5}]
[null,null,null,null,null,null,null,null,null,null,{"$f":"SUMPRODUCT($D$8:D465-$I$8:I465)","v":30893.5}]
[null,null,null,null,null,null,null,null,null,null,{"$f":"SUMPRODUCT($D$8:D466-$I$8:I466)","v":30893.5}]
[null,null,null,null,null,null,null,null,null,null,{"$f":"SUMPRODUCT($D$8:D467-$I$8:I467)","v":30893.5}]
[null,null,null,null,null,null,null,null,null,null,{"$f":"SUMPRODUCT($D$8:D468-$I$8:I468)","v":30893.5}]
[null,null,null,null,null,null,null,null,null,null,{"$f":"SUMPRODUCT($D$8:D469-$I$8:I469)","v":30893.5}]
[null,null,null,null,null,null,null,null,null,null,{"$f":"SUMPRODUCT($D$8:D470-$I$8:I470)","v":30893.5}]
[null,null,null,null,null,null,null,null,null,null,{"$f":"SUMPRODUCT($D$8:D471-$I$8:I471)","v":30893.5}]
[null,null,null,null,null,null,null,null,null,null,{"$f":"SUMPRODUCT($D$8:D472-$I$8:I472)","v":30893.5}]
[null,null,null,null,null,null,null,null,null,null,{"$f":"SUMPRODUCT($D$8:D473-$I$8:I473)","v":30893.5}]
[null,null,null,null,null,null,null,null,null,null,{"$f":"SUMPRODUCT($D$8:D474-$I$8:I474)","v":30893.5}]
[null,null,null,null,null,null,null,null,null,null,{"$f":"SUMPRODUCT($D$8:D475-$I$8:I475)","v":30893.5}]
[null,null,null,null,null,null,null,null,null,null,{"$f":"SUMPRODUCT($D$8:D476-$I$8:I476)","v":30893.5}]
[null,null,null,null,null,null,null,null,null,null,{"$f":"SUMPRODUCT($D$8:D477-$I$8:I477)","v":30893.5}]
[null,null,null,null,null,null,null,null,null,null,{"$f":"SUMPRODUCT($D$8:D478-$I$8:I478)","v":30893.5}]
[null,null,null,null,null,null,null,null,null,null,{"$f":"SUMPRODUCT($D$8:D479-$I$8:I479)","v":30893.5}]
[null,null,null,null,null,null,null,null,null,null,{"$f":"SUMPRODUCT($D$8:D480-$I$8:I480)","v":30893.5}]
[null,null,null,null,null,null,null,null,null,null,{"$f":"SUMPRODUCT($D$8:D481-$I$8:I481)","v":30893.5}]
[null,null,null,null,null,null,null,null,null,null,{"$f":"SUMPRODUCT($D$8:D482-$I$8:I482)","v":30893.5}]
[null,null,null,null,null,null,null,null,null,null,{"$f":"SUMPRODUCT($D$8:D483-$I$8:I483)","v":30893.5}]
[null,null,null,null,null,null,null,null,null,null,{"$f":"SUMPRODUCT($D$8:D484-$I$8:I484)","v":30893.5}]
[null,null,null,null,null,null,null,null,null,null,{"$f":"SUMPRODUCT($D$8:D485-$I$8:I485)","v":30893.5}]
[null,null,null,null,null,null,null,null,null,null,{"$f":"SUMPRODUCT($D$8:D486-$I$8:I486)","v":30893.5}]
[null,null,null,null,null,null,null,null,null,null,{"$f":"SUMPRODUCT($D$8:D487-$I$8:I487)","v":30893.5}]
[null,null,null,null,null,null,null,null,null,null,{"$f":"SUMPRODUCT($D$8:D488-$I$8:I488)","v":30893.5}]
[null,null,null,null,null,null,null,null,null,null,{"$f":"SUMPRODUCT($D$8:D489-$I$8:I489)","v":30893.5}]
[null,null,null,null,null,null,null,null,null,null,{"$f":"SUMPRODUCT($D$8:D490-$I$8:I490)","v":30893.5}]
[null,null,null,null,null,null,null,null,null,null,{"$f":"SUMPRODUCT($D$8:D491-$I$8:I491)","v":30893.5}]
[null,null,null,null,null,null,null,null,null,null,{"$f":"SUMPRODUCT($D$8:D492-$I$8:I492)","v":30893.5}]
[null,null,null,null,null,null,null,null,null,null,{"$f":"SUMPRODUCT($D$8:D493-$I$8:I493)","v":30893.5}]
[null,null,null,null,null,null,null,null,null,null,{"$f":"SUMPRODUCT($D$8:D494-$I$8:I494)","v":30893.5}]
[null,null,null,null,null,null,null,null,null,null,{"$f":"SUMPRODUCT($D$8:D495-$I$8:I495)","v":30893.5}]
[null,null,null,null,null,null,null,null,null,null,{"$f":"SUMPRODUCT($D$8:D496-$I$8:I496)","v":30893.5}]
[null,null,null,null,null,null,null,null,null,null,{"$f":"SUMPRODUCT($D$8:D497-$I$8:I497)","v":30893.5}]
[null,null,null,null,null,null,null,null,null,null,{"$f":"SUMPRODUCT($D$8:D498-$I$8:I498)","v":30893.5}]
[null,null,null,null,null,null,null,null,null,null,{"$f":"SUMPRODUCT($D$8:D499-$I$8:I499)","v":30893.5}]
[null,null,null,null,null,null,null,null,null,null,{"$f":"SUMPRODUCT($D$8:D500-$I$8:I500)","v":30893.5}]
[null,null,null,null,null,null,null,null,null,null,{"$f":"SUMPRODUCT($D$8:D501-$I$8:I501)","v":30893.5}]
[null,null,null,null,null,null,null,null,null,null,{"$f":"SUMPRODUCT($D$8:D502-$I$8:I502)","v":30893.5}]
[null,null,null,null,null,null,null,null,null,null,{"$f":"SUMPRODUCT($D$8:D503-$I$8:I503)","v":30893.5}]
[null,null,null,null,null,null,null,null,null,null,{"$f":"SUMPRODUCT($D$8:D504-$I$8:I504)","v":30893.5}]
[null,null,null,null,null,null,null,null,null,null,{"$f":"SUMPRODUCT($D$8:D505-$I$8:I505)","v":30893.5}]
[null,null,null,null,null,null,null,null,null,null,{"$f":"SUMPRODUCT($D$8:D506-$I$8:I506)","v":30893.5}]
[null,null,null,null,null,null,null,null,null,null,{"$f":"SUMPRODUCT($D$8:D507-$I$8:I507)","v":30893.5}]
[null,null,null,null,null,null,null,null,null,null,{"$f":"SUMPRODUCT($D$8:D508-$I$8:I508)","v":30893.5}]
[null,null,null,null,null,null,null,null,null,null,{"$f":"SUMPRODUCT($D$8:D509-$I$8:I509)","v":30893.5}]
[null,null,null,null,null,null,null,null,null,null,{"$f":"SUMPRODUCT($D$8:D510-$I$8:I510)","v":30893.5}]
[null,null,null,null,null,null,null,null,null,null,{"$f":"SUMPRODUCT($D$8:D511-$I$8:I511)","v":30893.5}]
[null,null,null,null,null,null,null,null,null,null,{"$f":"SUMPRODUCT($D$8:D512-$I$8:I512)","v":30893.5}]
[null,null,null,null,null,null,null,null,null,null,{"$f":"SUMPRODUCT($D$8:D513-$I$8:I513)","v":30893.5}]
[null,null,null,null,null,null,null,null,null,null,{"$f":"SUMPRODUCT($D$8:D514-$I$8:I514)","v":30893.5}]
[null,null,null,null,null,null,null,null,null,null,{"$f":"SUMPRODUCT($D$8:D515-$I$8:I515)","v":30893.5}]
[null,null,null,null,null,null,null,null,null,null,{"$f":"SUMPRODUCT($D$8:D516-$I$8:I516)","v":30893.5}]
[null,null,null,null,null,null,null,null,null,null,{"$f":"SUMPRODUCT($D$8:D517-$I$8:I517)","v":30893.5}]
[null,null,null,null,null,null,null,null,null,null,{"$f":"SUMPRODUCT($D$8:D518-$I$8:I518)","v":30893.5}]
[null,null,null,null,null,null,null,null,null,null,{"$f":"SUMPRODUCT($D$8:D519-$I$8:I519)","v":30893.5}]
[null,null,null,null,null,null,null,null,null,null,{"$f":"SUMPRODUCT($D$8:D520-$I$8:I520)","v":30893.5}]
[null,null,null,null,null,null,null,null,null,null,{"$f":"SUMPRODUCT($D$8:D521-$I$8:I521)","v":30893.5}]
[null,null,null,null,null,null,null,null,null,null,{"$f":"SUMPRODUCT($D$8:D522-$I$8:I522)","v":30893.5}]
[null,null,null,null,null,null,null,null,null,null,{"$f":"SUMPRODUCT($D$8:D523-$I$8:I523)","v":30893.5}]
[null,null,null,null,null,null,null,null,null,null,{"$f":"SUMPRODUCT($D$8:D524-$I$8:I524)","v":30893.5}]
[null,null,null,null,null,null,null,null,null,null,{"$f":"SUMPRODUCT($D$8:D525-$I$8:I525)","v":30893.5}]
[null,null,null,null,null,null,null,null,null,null,{"$f":"SUMPRODUCT($D$8:D526-$I$8:I526)","v":30893.5}]
[null,null,null,null,null,null,null,null,null,null,{"$f":"SUMPRODUCT($D$8:D527-$I$8:I527)","v":30893.5}]
[null,null,null,null,null,null,null,null,null,null,{"$f":"SUMPRODUCT($D$8:D528-$I$8:I528)","v":30893.5}]
[null,null,null,null,null,null,null,null,null,null,{"$f":"SUMPRODUCT($D$8:D529-$I$8:I529)","v":30893.5}]
[null,null,null,null,null,null,null,null,null,null,{"$f":"SUMPRODUCT($D$8:D530-$I$8:I530)","v":30893.5}]
[null,null,null,null,null,null,null,null,null,null,{"$f":"SUMPRODUCT($D$8:D531-$I$8:I531)","v":30893.5}]
[null,null,null,null,null,null,null,null,null,null,{"$f":"SUMPRODUCT($D$8:D532-$I$8:I532)","v":30893.5}]
[null,null,null,null,null,null,null,null,null,null,{"$f":"SUMPRODUCT($D$8:D533-$I$8:I533)","v":30893.5}]
[null,null,null,null,null,null,null,null,null,null,{"$f":"SUMPRODUCT($D$8:D534-$I$8:I534)","v":30893.5}]
[null,null,null,null,null,null,null,null,null,null,{"$f":"SUMPRODUCT($D$8:D535-$I$8:I535)","v":30893.5}]
[null,null,null,null,null,null,null,null,null,null,{"$f":"SUMPRODUCT($D$8:D536-$I$8:I536)","v":30893.5}]
[null,null,null,null,null,null,null,null,null,null,{"$f":"SUMPRODUCT($D$8:D537-$I$8:I537)","v":30893.5}]
[null,null,null,null,null,null,null,null,null,null,{"$f":"SUMPRODUCT($D$8:D538-$I$8:I538)","v":30893.5}]
[null,null,null,null,null,null,null,null,null,null,{"$f":"SUMPRODUCT($D$8:D539-$I$8:I539)","v":30893.5}]
[null,null,null,null,null,null,null,null,null,null,{"$f":"SUMPRODUCT($D$8:D540-$I$8:I540)","v":30893.5}]
[null,null,null,null,null,null,null,null,null,null,{"$f":"SUMPRODUCT($D$8:D541-$I$8:I541)","v":30893.5}]
[null,null,null,null,null,null,null,null,null,null,{"$f":"SUMPRODUCT($D$8:D542-$I$8:I542)","v":30893.5}]
[null,null,null,null,null,null,null,null,null,null,{"$f":"SUMPRODUCT($D$8:D543-$I$8:I543)","v":30893.5}]
[null,null,null,null,null,null,null,null,null,null,{"$f":"SUMPRODUCT($D$8:D544-$I$8:I544)","v":30893.5}]
[null,null,null,null,null,null,null,null,null,null,{"$f":"SUMPRODUCT($D$8:D545-$I$8:I545)","v":30893.5}]
[null,null,null,null,null,null,null,null,null,null,{"$f":"SUMPRODUCT($D$8:D546-$I$8:I546)","v":30893.5}]
[null,null,null,null,null,null,null,null,null,null,{"$f":"SUMPRODUCT($D$8:D547-$I$8:I547)","v":30893.5}]
[null,null,null,null,null,null,null,null,null,null,{"$f":"SUMPRODUCT($D$8:D548-$I$8:I548)","v":30893.5}]
[null,null,null,null,null,null,null,null,null,null,{"$f":"SUMPRODUCT($D$8:D549-$I$8:I549)","v":30893.5}]
[null,null,null,null,null,null,null,null,null,null,{"$f":"SUMPRODUCT($D$8:D550-$I$8:I550)","v":30893.5}]
[null,null,null,null,null,null,null,null,null,null,{"$f":"SUMPRODUCT($D$8:D551-$I$8:I551)","v":30893.5}]
[null,null,null,null,null,null,null,null,null,null,{"$f":"SUMPRODUCT($D$8:D552-$I$8:I552)","v":30893.5}]
[null,null,null,null,null,null,null,null,null,null,{"$f":"SUMPRODUCT($D$8:D553-$I$8:I553)","v":30893.5}]
[null,null,null,null,null,null,null,null,null,null,{"$f":"SUMPRODUCT($D$8:D554-$I$8:I554)","v":30893.5}]
[null,null,null,null,null,null,null,null,null,null,{"$f":"SUMPRODUCT($D$8:D555-$I$8:I555)","v":30893.5}]
[null,null,null,null,null,null,null,null,null,null,{"$f":"SUMPRODUCT($D$8:D556-$I$8:I556)","v":30893.5}]
[null,null,null,null,null,null,null,null,null,null,{"$f":"SUMPRODUCT($D$8:D557-$I$8:I557)","v":30893.5}]
[null,null,null,null,null,null,null,null,null,null,{"$f":"SUMPRODUCT($D$8:D558-$I$8:I558)","v":30893.5}]
[null,null,null,null,null,null,null,null,null,null,{"$f":"SUMPRODUCT($D$8:D559-$I$8:I559)","v":30893.5}]
[null,null,null,null,null,null,null,null,null,null,{"$f":"SUMPRODUCT($D$8:D560-$I$8:I560)","v":30893.5}]
[null,null,null,null,null,null,null,null,null,null,{"$f":"SUMPRODUCT($D$8:D561-$I$8:I561)","v":30893.5}]
[null,null,null,null,null,null,null,null,null,null,{"$f":"SUMPRODUCT($D$8:D562-$I$8:I562)","v":30893.5}]
[null,null,null,null,null,null,null,null,null,null,{"$f":"SUMPRODUCT($D$8:D563-$I$8:I563)","v":30893.5}]
[null,null,null,null,null,null,null,null,null,null,{"$f":"SUMPRODUCT($D$8:D564-$I$8:I564)","v":30893.5}]
[null,null,null,null,null,null,null,null,null,null,{"$f":"SUMPRODUCT($D$8:D565-$I$8:I565)","v":30893.5}]
[null,null,null,null,null,null,null,null,null,null,{"$f":"SUMPRODUCT($D$8:D566-$I$8:I566)","v":30893.5}]
[null,null,null,null,null,null,null,null,null,null,{"$f":"SUMPRODUCT($D$8:D567-$I$8:I567)","v":30893.5}]
[null,null,null,null,null,null,null,null,null,null,{"$f":"SUMPRODUCT($D$8:D568-$I$8:I568)","v":30893.5}]
[null,null,null,null,null,null,null,null,null,null,{"$f":"SUMPRODUCT($D$8:D569-$I$8:I569)","v":30893.5}]
[null,null,null,null,null,null,null,null,null,null,{"$f":"SUMPRODUCT($D$8:D570-$I$8:I570)","v":30893.5}]
[null,null,null,null,null,null,null,null,null,null,{"$f":"SUMPRODUCT($D$8:D571-$I$8:I571)","v":30893.5}]
[null,null,null,null,null,null,null,null,null,null,{"$f":"SUMPRODUCT($D$8:D572-$I$8:I572)","v":30893.5}]
[null,null,null,null,null,null,null,null,null,null,{"$f":"SUMPRODUCT($D$8:D573-$I$8:I573)","v":30893.5}]
[null,null,null,null,null,null,null,null,null,null,{"$f":"SUMPRODUCT($D$8:D574-$I$8:I574)","v":30893.5}]
[null,null,null,null,null,null,null,null,null,null,{"$f":"SUMPRODUCT($D$8:D575-$I$8:I575)","v":30893.5}]
[null,null,null,null,null,null,null,null,null,null,{"$f":"SUMPRODUCT($D$8:D576-$I$8:I576)","v":30893.5}]
[null,null,null,null,null,null,null,null,null,null,{"$f":"SUMPRODUCT($D$8:D577-$I$8:I577)","v":30893.5}]
[null,null,null,null,null,null,null,null,null,null,{"$f":"SUMPRODUCT($D$8:D578-$I$8:I578)","v":30893.5}]
[null,null,null,null,null,null,null,null,null,null,{"$f":"SUMPRODUCT($D$8:D579-$I$8:I579)","v":30893.5}]
[null,null,null,null,null,null,null,null,null,null,{"$f":"SUMPRODUCT($D$8:D580-$I$8:I580)","v":30893.5}]
[null,null,null,null,null,null,null,null,null,null,{"$f":"SUMPRODUCT($D$8:D581-$I$8:I581)","v":30893.5}]
[null,null,null,null,null,null,null,null,null,null,{"$f":"SUMPRODUCT($D$8:D582-$I$8:I582)","v":30893.5}]
[null,null,null,null,null,null,null,null,null,null,{"$f":"SUMPRODUCT($D$8:D583-$I$8:I583)","v":30893.5}]
[null,null,null,null,null,null,null,null,null,null,{"$f":"SUMPRODUCT($D$8:D584-$I$8:I584)","v":30893.5}]
[null,null,null,null,null,null,null,null,null,null,{"$f":"SUMPRODUCT($D$8:D585-$I$8:I585)","v":30893.5}]
[null,null,null,null,null,null,null,null,null,null,{"$f":"SUMPRODUCT($D$8:D586-$I$8:I586)","v":30893.5}]
[null,null,null,null,null,null,null,null,null,null,{"$f":"SUMPRODUCT($D$8:D587-$I$8:I587)","v":30893.5}]
[null,null,null,null,null,null,null,null,null,null,{"$f":"SUMPRODUCT($D$8:D588-$I$8:I588)","v":30893.5}]
[null,null,null,null,null,null,null,null,null,null,{"$f":"SUMPRODUCT($D$8:D589-$I$8:I589)","v":30893.5}]
[null,null,null,null,null,null,null,null,null,null,{"$f":"SUMPRODUCT($D$8:D590-$I$8:I590)","v":30893.5}]
[null,null,null,null,null,null,null,null,null,null,{"$f":"SUMPRODUCT($D$8:D591-$I$8:I591)","v":30893.5}]
[null,null,null,null,null,null,null,null,null,null,{"$f":"SUMPRODUCT($D$8:D592-$I$8:I592)","v":30893.5}]
[null,null,null,null,null,null,null,null,null,null,{"$f":"SUMPRODUCT($D$8:D593-$I$8:I593)","v":30893.5}]
[null,null,null,null,null,null,null,null,null,null,{"$f":"SUMPRODUCT($D$8:D594-$I$8:I594)","v":30893.5}]
[null,null,null,null,null,null,null,null,null,null,{"$f":"SUMPRODUCT($D$8:D595-$I$8:I595)","v":30893.5}]
[null,null,null,null,null,null,null,null,null,null,{"$f":"SUMPRODUCT($D$8:D596-$I$8:I596)","v":30893.5}]
[null,null,null,null,null,null,null,null,null,null,{"$f":"SUMPRODUCT($D$8:D597-$I$8:I597)","v":30893.5}]
[null,null,null,null,null,null,null,null,null,null,{"$f":"SUMPRODUCT($D$8:D598-$I$8:I598)","v":30893.5}]
[null,null,null,null,null,null,null,null,null,null,{"$f":"SUMPRODUCT($D$8:D599-$I$8:I599)","v":30893.5}]
[null,null,null,null,null,null,null,null,null,null,{"$f":"SUMPRODUCT($D$8:D600-$I$8:I600)","v":30893.5}]
[null,null,null,null,null,null,null,null,null,null,{"$f":"SUMPRODUCT($D$8:D601-$I$8:I601)","v":30893.5}]
[null,null,null,null,null,null,null,null,null,null,{"$f":"SUMPRODUCT($D$8:D602-$I$8:I602)","v":30893.5}]
[null,null,null,null,null,null,null,null,null,null,{"$f":"SUMPRODUCT($D$8:D603-$I$8:I603)","v":30893.5}]
[null,null,null,null,null,null,null,null,null,null,{"$f":"SUMPRODUCT($D$8:D604-$I$8:I604)","v":30893.5}]
[null,null,null,null,null,null,null,null,null,null,{"$f":"SUMPRODUCT($D$8:D605-$I$8:I605)","v":30893.5}]
[null,null,null,null,null,null,null,null,null,null,{"$f":"SUMPRODUCT($D$8:D606-$I$8:I606)","v":30893.5}]
[null,null,null,null,null,null,null,null,null,null,{"$f":"SUMPRODUCT($D$8:D607-$I$8:I607)","v":30893.5}]
[null,null,null,null,null,null,null,null,null,null,{"$f":"SUMPRODUCT($D$8:D608-$I$8:I608)","v":30893.5}]
[null,null,null,null,null,null,null,null,null,null,{"$f":"SUMPRODUCT($D$8:D609-$I$8:I609)","v":30893.5}]
[null,null,null,null,null,null,null,null,null,null,{"$f":"SUMPRODUCT($D$8:D610-$I$8:I610)","v":30893.5}]
[null,null,null,null,null,null,null,null,null,null,{"$f":"SUMPRODUCT($D$8:D611-$I$8:I611)","v":30893.5}]
[null,null,null,null,null,null,null,null,null,null,{"$f":"SUMPRODUCT($D$8:D612-$I$8:I612)","v":30893.5}]
[null,null,null,null,null,null,null,null,null,null,{"$f":"SUMPRODUCT($D$8:D613-$I$8:I613)","v":30893.5}]
[null,null,null,null,null,null,null,null,null,null,{"$f":"SUMPRODUCT($D$8:D614-$I$8:I614)","v":30893.5}]
[null,null,null,null,null,null,null,null,null,null,{"$f":"SUMPRODUCT($D$8:D615-$I$8:I615)","v":30893.5}]
[null,null,null,null,null,null,null,null,null,null,{"$f":"SUMPRODUCT($D$8:D616-$I$8:I616)","v":30893.5}]
[null,null,null,null,null,null,null,null,null,null,{"$f":"SUMPRODUCT($D$8:D617-$I$8:I617)","v":30893.5}]
[null,null,null,null,null,null,null,null,null,null,{"$f":"SUMPRODUCT($D$8:D618-$I$8:I618)","v":30893.5}]
[null,null,null,null,null,null,null,null,null,null,{"$f":"SUMPRODUCT($D$8:D619-$I$8:I619)","v":30893.5}]
[null,null,null,null,null,null,null,null,null,null,{"$f":"SUMPRODUCT($D$8:D620-$I$8:I620)","v":30893.5}]
[null,null,null,null,null,null,null,null,null,null,{"$f":"SUMPRODUCT($D$8:D621-$I$8:I621)","v":30893.5}]
[null,null,null,null,null,null,null,null,null,null,{"$f":"SUMPRODUCT($D$8:D622-$I$8:I622)","v":30893.5}]
[null,null,null,null,null,null,null,null,null,null,{"$f":"SUMPRODUCT($D$8:D623-$I$8:I623)","v":30893.5}]
[null,null,null,null,null,null,null,null,null,null,{"$f":"SUMPRODUCT($D$8:D624-$I$8:I624)","v":30893.5}]
[null,null,null,null,null,null,null,null,null,null,{"$f":"SUMPRODUCT($D$8:D625-$I$8:I625)","v":30893.5}]
[null,null,null,null,null,null,null,null,null,null,{"$f":"SUMPRODUCT($D$8:D626-$I$8:I626)","v":30893.5}]
[null,null,null,null,null,null,null,null,null,null,{"$f":"SUMPRODUCT($D$8:D627-$I$8:I627)","v":30893.5}]
[null,null,null,null,null,null,null,null,null,null,{"$f":"SUMPRODUCT($D$8:D628-$I$8:I628)","v":30893.5}]
[null,null,null,null,null,null,null,null,null,null,{"$f":"SUMPRODUCT($D$8:D629-$I$8:I629)","v":30893.5}]
[null,null,null,null,null,null,null,null,null,null,{"$f":"SUMPRODUCT($D$8:D630-$I$8:I630)","v":30893.5}]
[null,null,null,null,null,null,null,null,null,null,{"$f":"SUMPRODUCT($D$8:D631-$I$8:I631)","v":30893.5}]
[null,null,null,null,null,null,null,null,null,null,{"$f":"SUMPRODUCT($D$8:D632-$I$8:I632)","v":30893.5}]
[null,null,null,null,null,null,null,null,null,null,{"$f":"SUMPRODUCT($D$8:D633-$I$8:I633)","v":30893.5}]
[null,null,null,null,null,null,null,null,null,null,{"$f":"SUMPRODUCT($D$8:D634-$I$8:I634)","v":30893.5}]
[null,null,null,null,null,null,null,null,null,null,{"$f":"SUMPRODUCT($D$8:D635-$I$8:I635)","v":30893.5}]
[null,null,null,null,null,null,null,null,null,null,{"$f":"SUMPRODUCT($D$8:D636-$I$8:I636)","v":30893.5}]
[null,null,null,null,null,null,null,null,null,null,{"$f":"SUMPRODUCT($D$8:D637-$I$8:I637)","v":30893.5}]
[null,null,null,null,null,null,null,null,null,null,{"$f":"SUMPRODUCT($D$8:D638-$I$8:I638)","v":30893.5}]
[null,null,null,null,null,null,null,null,null,null,{"$f":"SUMPRODUCT($D$8:D639-$I$8:I639)","v":30893.5}]
[null,null,null,null,null,null,null,null,null,null,{"$f":"SUMPRODUCT($D$8:D640-$I$8:I640)","v":30893.5}]
[null,null,null,null,null,null,null,null,null,null,{"$f":"SUMPRODUCT($D$8:D641-$I$8:I641)","v":30893.5}]
[null,null,null,null,null,null,null,null,null,null,{"$f":"SUMPRODUCT($D$8:D642-$I$8:I642)","v":30893.5}]
[null,null,null,null,null,null,null,null,null,null,{"$f":"SUMPRODUCT($D$8:D643-$I$8:I643)","v":30893.5}]
[null,null,null,null,null,null,null,null,null,null,{"$f":"SUMPRODUCT($D$8:D644-$I$8:I644)","v":30893.5}]
[null,null,null,null,null,null,null,null,null,null,{"$f":"SUMPRODUCT($D$8:D645-$I$8:I645)","v":30893.5}]
[null,null,null,null,null,null,null,null,null,null,{"$f":"SUMPRODUCT($D$8:D646-$I$8:I646)","v":30893.5}]
[null,null,null,null,null,null,null,null,null,null,{"$f":"SUMPRODUCT($D$8:D647-$I$8:I647)","v":30893.5}]
[null,null,null,null,null,null,null,null,null,null,{"$f":"SUMPRODUCT($D$8:D648-$I$8:I648)","v":30893.5}]
[null,null,null,null,null,null,null,null,null,null,{"$f":"SUMPRODUCT($D$8:D649-$I$8:I649)","v":30893.5}]
[null,null,null,null,null,null,null,null,null,null,{"$f":"SUMPRODUCT($D$8:D650-$I$8:I650)","v":30893.5}]
[null,null,null,null,null,null,null,null,null,null,{"$f":"SUMPRODUCT($D$8:D651-$I$8:I651)","v":30893.5}]
[null,null,null,null,null,null,null,null,null,null,{"$f":"SUMPRODUCT($D$8:D652-$I$8:I652)","v":30893.5}]
[null,null,null,null,null,null,null,null,null,null,{"$f":"SUMPRODUCT($D$8:D653-$I$8:I653)","v":30893.5}]
[null,null,null,null,null,null,null,null,null,null,{"$f":"SUMPRODUCT($D$8:D654-$I$8:I654)","v":30893.5}]
[null,null,null,null,null,null,null,null,null,null,{"$f":"SUMPRODUCT($D$8:D655-$I$8:I655)","v":30893.5}]
[null,null,null,null,null,null,null,null,null,null,{"$f":"SUMPRODUCT($D$8:D656-$I$8:I656)","v":30893.5}]
[null,null,null,null,null,null,null,null,null,null,{"$f":"SUMPRODUCT($D$8:D657-$I$8:I657)","v":30893.5}]
[null,null,null,null,null,null,null,null,null,null,{"$f":"SUMPRODUCT($D$8:D658-$I$8:I658)","v":30893.5}]
[null,null,null,null,null,null,null,null,null,null,{"$f":"SUMPRODUCT($D$8:D659-$I$8:I659)","v":30893.5}]
[null,null,null,null,null,null,null,null,null,null,{"$f":"SUMPRODUCT($D$8:D660-$I$8:I660)","v":30893.5}]
[null,null,null,null,null,null,null,null,null,null,{"$f":"SUMPRODUCT($D$8:D661-$I$8:I661)","v":30893.5}]
[null,null,null,null,null,null,null,null,null,null,{"$f":"SUMPRODUCT($D$8:D662-$I$8:I662)","v":30893.5}]
[null,null,null,null,null,null,null,null,null,null,{"$f":"SUMPRODUCT($D$8:D663-$I$8:I663)","v":30893.5}]
[null,null,null,null,null,null,null,null,null,null,{"$f":"SUMPRODUCT($D$8:D664-$I$8:I664)","v":30893.5}]
[null,null,null,null,null,null,null,null,null,null,{"$f":"SUMPRODUCT($D$8:D665-$I$8:I665)","v":30893.5}]
[null,null,null,null,null,null,null,null,null,null,{"$f":"SUMPRODUCT($D$8:D666-$I$8:I666)","v":30893.5}]
[null,null,null,null,null,null,null,null,null,null,{"$f":"SUMPRODUCT($D$8:D667-$I$8:I667)","v":30893.5}]
[null,null,null,null,null,null,null,null,null,null,{"$f":"SUMPRODUCT($D$8:D668-$I$8:I668)","v":30893.5}]
[null,null,null,null,null,null,null,null,null,null,{"$f":"SUMPRODUCT($D$8:D669-$I$8:I669)","v":30893.5}]
[null,null,null,null,null,null,null,null,null,null,{"$f":"SUMPRODUCT($D$8:D670-$I$8:I670)","v":30893.5}]
[null,null,null,null,null,null,null,null,null,null,{"$f":"SUMPRODUCT($D$8:D671-$I$8:I671)","v":30893.5}]
[null,null,null,null,null,null,null,null,null,null,{"$f":"SUMPRODUCT($D$8:D672-$I$8:I672)","v":30893.5}]
[null,null,null,null,null,null,null,null,null,null,{"$f":"SUMPRODUCT($D$8:D673-$I$8:I673)","v":30893.5}]
[null,null,null,null,null,null,null,null,null,null,{"$f":"SUMPRODUCT($D$8:D674-$I$8:I674)","v":30893.5}]
[null,null,null,null,null,null,null,null,null,null,{"$f":"SUMPRODUCT($D$8:D675-$I$8:I675)","v":30893.5}]
[null,null,null,null,null,null,null,null,null,null,{"$f":"SUMPRODUCT($D$8:D676-$I$8:I676)","v":30893.5}]
[null,null,null,null,null,null,null,null,null,null,{"$f":"SUMPRODUCT($D$8:D677-$I$8:I677)","v":30893.5}]
[null,null,null,null,null,null,null,null,null,null,{"$f":"SUMPRODUCT($D$8:D678-$I$8:I678)","v":30893.5}]
[null,null,null,null,null,null,null,null,null,null,{"$f":"SUMPRODUCT($D$8:D679-$I$8:I679)","v":30893.5}]
[null,null,null,null,null,null,null,null,null,null,{"$f":"SUMPRODUCT($D$8:D680-$I$8:I680)","v":30893.5}]
[null,null,null,null,null,null,null,null,null,null,{"$f":"SUMPRODUCT($D$8:D681-$I$8:I681)","v":30893.5}]
[null,null,null,null,null,null,null,null,null,null,{"$f":"SUMPRODUCT($D$8:D682-$I$8:I682)","v":30893.5}]
[null,null,null,null,null,null,null,null,null,null,{"$f":"SUMPRODUCT($D$8:D683-$I$8:I683)","v":30893.5}]
[null,null,null,null,null,null,null,null,null,null,{"$f":"SUMPRODUCT($D$8:D684-$I$8:I684)","v":30893.5}]
[null,null,null,null,null,null,null,null,null,null,{"$f":"SUMPRODUCT($D$8:D685-$I$8:I685)","v":30893.5}]
[null,null,null,null,null,null,null,null,null,null,{"$f":"SUMPRODUCT($D$8:D686-$I$8:I686)","v":30893.5}]
[null,null,null,null,null,null,null,null,null,null,{"$f":"SUMPRODUCT($D$8:D687-$I$8:I687)","v":30893.5}]
[null,null,null,null,null,null,null,null,null,null,{"$f":"SUMPRODUCT($D$8:D688-$I$8:I688)","v":30893.5}]
[null,null,null,null,null,null,null,null,null,null,{"$f":"SUMPRODUCT($D$8:D689-$I$8:I689)","v":30893.5}]
[null,null,null,null,null,null,null,null,null,null,{"$f":"SUMPRODUCT($D$8:D690-$I$8:I690)","v":30893.5}]
[null,null,null,null,null,null,null,null,null,null,{"$f":"SUMPRODUCT($D$8:D691-$I$8:I691)","v":30893.5}]
[null,null,null,null,null,null,null,null,null,null,{"$f":"SUMPRODUCT($D$8:D692-$I$8:I692)","v":30893.5}]
[null,null,null,null,null,null,null,null,null,null,{"$f":"SUMPRODUCT($D$8:D693-$I$8:I693)","v":30893.5}]
[null,null,null,null,null,null,null,null,null,null,{"$f":"SUMPRODUCT($D$8:D694-$I$8:I694)","v":30893.5}]
[null,null,null,null,null,null,null,null,null,null,{"$f":"SUMPRODUCT($D$8:D695-$I$8:I695)","v":30893.5}]
[null,null,null,null,null,null,null,null,null,null,{"$f":"SUMPRODUCT($D$8:D696-$I$8:I696)","v":30893.5}]
[null,null,null,null,null,null,null,null,null,null,{"$f":"SUMPRODUCT($D$8:D697-$I$8:I697)","v":30893.5}]
[null,null,null,null,null,null,null,null,null,null,{"$f":"SUMPRODUCT($D$8:D698-$I$8:I698)","v":30893.5}]
[null,null,null,null,null,null,null,null,null,null,{"$f":"SUMPRODUCT($D$8:D699-$I$8:I699)","v":30893.5}]
[null,null,null,null,null,null,null,null,null,null,{"$f":"SUMPRODUCT($D$8:D700-$I$8:I700)","v":30893.5}]
[null,null,null,null,null,null,null,null,null,null,{"$f":"SUMPRODUCT($D$8:D701-$I$8:I701)","v":30893.5}]
[null,null,null,null,null,null,null,null,null,null,{"$f":"SUMPRODUCT($D$8:D702-$I$8:I702)","v":30893.5}]
[null,null,null,null,null,null,null,null,null,null,{"$f":"SUMPRODUCT($D$8:D703-$I$8:I703)","v":30893.5}]
[null,null,null,null,null,null,null,null,null,null,{"$f":"SUMPRODUCT($D$8:D704-$I$8:I704)","v":30893.5}]
[null,null,null,null,null,null,null,null,null,null,{"$f":"SUMPRODUCT($D$8:D705-$I$8:I705)","v":30893.5}]
[null,null,null,null,null,null,null,null,null,null,{"$f":"SUMPRODUCT($D$8:D706-$I$8:I706)","v":30893.5}]
[null,null,null,null,null,null,null,null,null,null,{"$f":"SUMPRODUCT($D$8:D707-$I$8:I707)","v":30893.5}]
[null,null,null,null,null,null,null,null,null,null,{"$f":"SUMPRODUCT($D$8:D708-$I$8:I708)","v":30893.5}]
[null,null,null,null,null,null,null,null,null,null,{"$f":"SUMPRODUCT($D$8:D709-$I$8:I709)","v":30893.5}]
[null,null,null,null,null,null,null,null,null,null,{"$f":"SUMPRODUCT($D$8:D710-$I$8:I710)","v":30893.5}]
[null,null,null,null,null,null,null,null,null,null,{"$f":"SUMPRODUCT($D$8:D711-$I$8:I711)","v":30893.5}]
[null,null,null,null,null,null,null,null,null,null,{"$f":"SUMPRODUCT($D$8:D712-$I$8:I712)","v":30893.5}]
[null,null,null,null,null,null,null,null,null,null,{"$f":"SUMPRODUCT($D$8:D713-$I$8:I713)","v":30893.5}]
[null,null,null,null,null,null,null,null,null,null,{"$f":"SUMPRODUCT($D$8:D714-$I$8:I714)","v":30893.5}]
[null,null,null,null,null,null,null,null,null,null,{"$f":"SUMPRODUCT($D$8:D715-$I$8:I715)","v":30893.5}]
[null,null,null,null,null,null,null,null,null,null,{"$f":"SUMPRODUCT($D$8:D716-$I$8:I716)","v":30893.5}]
[null,null,null,null,null,null,null,null,null,null,{"$f":"SUMPRODUCT($D$8:D717-$I$8:I717)","v":30893.5}]
[null,null,null,null,null,null,null,null,null,null,{"$f":"SUMPRODUCT($D$8:D718-$I$8:I718)","v":30893.5}]
[null,null,null,null,null,null,null,null,null,null,{"$f":"SUMPRODUCT($D$8:D719-$I$8:I719)","v":30893.5}]
[null,null,null,null,null,null,null,null,null,null,{"$f":"SUMPRODUCT($D$8:D720-$I$8:I720)","v":30893.5}]
[null,null,null,null,null,null,null,null,null,null,{"$f":"SUMPRODUCT($D$8:D721-$I$8:I721)","v":30893.5}]
[null,null,null,null,null,null,null,null,null,null,{"$f":"SUMPRODUCT($D$8:D722-$I$8:I722)","v":30893.5}]
[null,null,null,null,null,null,null,null,null,null,{"$f":"SUMPRODUCT($D$8:D723-$I$8:I723)","v":30893.5}]
[null,null,null,null,null,null,null,null,null,null,{"$f":"SUMPRODUCT($D$8:D724-$I$8:I724)","v":30893.5}]
[null,null,null,null,null,null,null,null,null,null,{"$f":"SUMPRODUCT($D$8:D725-$I$8:I725)","v":30893.5}]
[null,null,null,null,null,null,null,null,null,null,{"$f":"SUMPRODUCT($D$8:D726-$I$8:I726)","v":30893.5}]
[null,null,null,null,null,null,null,null,null,null,{"$f":"SUMPRODUCT($D$8:D727-$I$8:I727)","v":30893.5}]
[null,null,null,null,null,null,null,null,null,null,{"$f":"SUMPRODUCT($D$8:D728-$I$8:I728)","v":30893.5}]
[null,null,null,null,null,null,null,null,null,null,{"$f":"SUMPRODUCT($D$8:D729-$I$8:I729)","v":30893.5}]
[null,null,null,null,null,null,null,null,null,null,{"$f":"SUMPRODUCT($D$8:D730-$I$8:I730)","v":30893.5}]
[null,null,null,null,null,null,null,null,null,null,{"$f":"SUMPRODUCT($D$8:D731-$I$8:I731)","v":30893.5}]
[null,null,null,null,null,null,null,null,null,null,{"$f":"SUMPRODUCT($D$8:D732-$I$8:I732)","v":30893.5}]
[null,null,null,null,null,null,null,null,null,null,{"$f":"SUMPRODUCT($D$8:D733-$I$8:I733)","v":30893.5}]
[null,null,null,null,null,null,null,null,null,null,{"$f":"SUMPRODUCT($D$8:D734-$I$8:I734)","v":30893.5}]
[null,null,null,null,null,null,null,null,null,null,{"$f":"SUMPRODUCT($D$8:D735-$I$8:I735)","v":30893.5}]
[null,null,null,null,null,null,null,null,null,null,{"$f":"SUMPRODUCT($D$8:D736-$I$8:I736)","v":30893.5}]
[null,null,null,null,null,null,null,null,null,null,{"$f":"SUMPRODUCT($D$8:D737-$I$8:I737)","v":30893.5}]
[null,null,null,null,null,null,null,null,null,null,{"$f":"SUMPRODUCT($D$8:D738-$I$8:I738)","v":30893.5}]
[null,null,null,null,null,null,null,null,null,null,{"$f":"SUMPRODUCT($D$8:D739-$I$8:I739)","v":30893.5}]
[null,null,null,null,null,null,null,null,null,null,{"$f":"SUMPRODUCT($D$8:D740-$I$8:I740)","v":30893.5}]
[null,null,null,null,null,null,null,null,null,null,{"$f":"SUMPRODUCT($D$8:D741-$I$8:I741)","v":30893.5}]
[null,null,null,null,null,null,null,null,null,null,{"$f":"SUMPRODUCT($D$8:D742-$I$8:I742)","v":30893.5}]
[null,null,null,null,null,null,null,null,null,null,{"$f":"SUMPRODUCT($D$8:D743-$I$8:I743)","v":30893.5}]
[null,null,null,null,null,null,null,null,null,null,{"$f":"SUMPRODUCT($D$8:D744-$I$8:I744)","v":30893.5}]
[null,null,null,null,null,null,null,null,null,null,{"$f":"SUMPRODUCT($D$8:D745-$I$8:I745)","v":30893.5}]
[null,null,null,null,null,null,null,null,null,null,{"$f":"SUMPRODUCT($D$8:D746-$I$8:I746)","v":30893.5}]
[null,null,null,null,null,null,null,null,null,null,{"$f":"SUMPRODUCT($D$8:D747-$I$8:I747)","v":30893.5}]
[null,null,null,null,null,null,null,null,null,null,{"$f":"SUMPRODUCT($D$8:D748-$I$8:I748)","v":30893.5}]
[null,null,null,null,null,null,null,null,null,null,{"$f":"SUMPRODUCT($D$8:D749-$I$8:I749)","v":30893.5}]
[null,null,null,null,null,null,null,null,null,null,{"$f":"SUMPRODUCT($D$8:D750-$I$8:I750)","v":30893.5}]
[null,null,null,null,null,null,null,null,null,null,{"$f":"SUMPRODUCT($D$8:D751-$I$8:I751)","v":30893.5}]
[null,null,null,null,null,null,null,null,null,null,{"$f":"SUMPRODUCT($D$8:D752-$I$8:I752)","v":30893.5}]
[null,null,null,null,null,null,null,null,null,null,{"$f":"SUMPRODUCT($D$8:D753-$I$8:I753)","v":30893.5}]
[null,null,null,null,null,null,null,null,null,null,{"$f":"SUMPRODUCT($D$8:D754-$I$8:I754)","v":30893.5}]
[null,null,null,null,null,null,null,null,null,null,{"$f":"SUMPRODUCT($D$8:D755-$I$8:I755)","v":30893.5}]
[null,null,null,null,null,null,null,null,null,null,{"$f":"SUMPRODUCT($D$8:D756-$I$8:I756)","v":30893.5}]
[null,null,null,null,null,null,null,null,null,null,{"$f":"SUMPRODUCT($D$8:D757-$I$8:I757)","v":30893.5}]
[null,null,null,null,null,null,null,null,null,null,{"$f":"SUMPRODUCT($D$8:D758-$I$8:I758)","v":30893.5}]
[null,null,null,null,null,null,null,null,null,null,{"$f":"SUMPRODUCT($D$8:D759-$I$8:I759)","v":30893.5}]
[null,null,null,null,null,null,null,null,null,null,{"$f":"SUMPRODUCT($D$8:D760-$I$8:I760)","v":30893.5}]
[null,null,null,null,null,null,null,null,null,null,{"$f":"SUMPRODUCT($D$8:D761-$I$8:I761)","v":30893.5}]
[null,null,null,null,null,null,null,null,null,null,{"$f":"SUMPRODUCT($D$8:D762-$I$8:I762)","v":30893.5}]
[null,null,null,null,null,null,null,null,null,null,{"$f":"SUMPRODUCT($D$8:D763-$I$8:I763)","v":30893.5}]
[null,null,null,null,null,null,null,null,null,null,{"$f":"SUMPRODUCT($D$8:D764-$I$8:I764)","v":30893.5}]
[null,null,null,null,null,null,null,null,null,null,{"$f":"SUMPRODUCT($D$8:D765-$I$8:I765)","v":30893.5}]
[null,null,null,null,null,null,null,null,null,null,{"$f":"SUMPRODUCT($D$8:D766-$I$8:I766)","v":30893.5}]
[null,null,null,null,null,null,null,null,null,null,{"$f":"SUMPRODUCT($D$8:D767-$I$8:I767)","v":30893.5}]
[null,null,null,null,null,null,null,null,null,null,{"$f":"SUMPRODUCT($D$8:D768-$I$8:I768)","v":30893.5}]
[null,null,null,null,null,null,null,null,null,null,{"$f":"SUMPRODUCT($D$8:D769-$I$8:I769)","v":30893.5}]
[null,null,null,null,null,null,null,null,null,null,{"$f":"SUMPRODUCT($D$8:D770-$I$8:I770)","v":30893.5}]
[null,null,null,null,null,null,null,null,null,null,{"$f":"SUMPRODUCT($D$8:D771-$I$8:I771)","v":30893.5}]
[null,null,null,null,null,null,null,null,null,null,{"$f":"SUMPRODUCT($D$8:D772-$I$8:I772)","v":30893.5}]
[null,null,null,null,null,null,null,null,null,null,{"$f":"SUMPRODUCT($D$8:D773-$I$8:I773)","v":30893.5}]
[null,null,null,null,null,null,null,null,null,null,{"$f":"SUMPRODUCT($D$8:D774-$I$8:I774)","v":30893.5}]
[null,null,null,null,null,null,null,null,null,null,{"$f":"SUMPRODUCT($D$8:D775-$I$8:I775)","v":30893.5}]
[null,null,null,null,null,null,null,null,null,null,{"$f":"SUMPRODUCT($D$8:D776-$I$8:I776)","v":30893.5}]
[null,null,null,null,null,null,null,null,null,null,{"$f":"SUMPRODUCT($D$8:D777-$I$8:I777)","v":30893.5}]
[null,null,null,null,null,null,null,null,null,null,{"$f":"SUMPRODUCT($D$8:D778-$I$8:I778)","v":30893.5}]
[null,null,null,null,null,null,null,null,null,null,{"$f":"SUMPRODUCT($D$8:D779-$I$8:I779)","v":30893.5}]
[null,null,null,null,null,null,null,null,null,null,{"$f":"SUMPRODUCT($D$8:D780-$I$8:I780)","v":30893.5}]
[null,null,null,null,null,null,null,null,null,null,{"$f":"SUMPRODUCT($D$8:D781-$I$8:I781)","v":30893.5}]
[null,null,null,null,null,null,null,null,null,null,{"$f":"SUMPRODUCT($D$8:D782-$I$8:I782)","v":30893.5}]
[null,null,null,null,null,null,null,null,null,null,{"$f":"SUMPRODUCT($D$8:D783-$I$8:I783)","v":30893.5}]
[null,null,null,null,null,null,null,null,null,null,{"$f":"SUMPRODUCT($D$8:D784-$I$8:I784)","v":30893.5}]
[null,null,null,null,null,null,null,null,null,null,{"$f":"SUMPRODUCT($D$8:D785-$I$8:I785)","v":30893.5}]
[null,null,null,null,null,null,null,null,null,null,{"$f":"SUMPRODUCT($D$8:D786-$I$8:I786)","v":30893.5}]
[null,null,null,null,null,null,null,null,null,null,{"$f":"SUMPRODUCT($D$8:D787-$I$8:I787)","v":30893.5}]
[null,null,null,null,null,null,null,null,null,null,{"$f":"SUMPRODUCT($D$8:D788-$I$8:I788)","v":30893.5}]
[null,null,null,null,null,null,null,null,null,null,{"$f":"SUMPRODUCT($D$8:D789-$I$8:I789)","v":30893.5}]
[null,null,null,null,null,null,null,null,null,null,{"$f":"SUMPRODUCT($D$8:D790-$I$8:I790)","v":30893.5}]
[null,null,null,null,null,null,null,null,null,null,{"$f":"SUMPRODUCT($D$8:D791-$I$8:I791)","v":30893.5}]
[null,null,null,null,null,null,null,null,null,null,{"$f":"SUMPRODUCT($D$8:D792-$I$8:I792)","v":30893.5}]
[null,null,null,null,null,null,null,null,null,null,{"$f":"SUMPRODUCT($D$8:D793-$I$8:I793)","v":30893.5}]
[null,null,null,null,null,null,null,null,null,null,{"$f":"SUMPRODUCT($D$8:D794-$I$8:I794)","v":30893.5}]
[null,null,null,null,null,null,null,null,null,null,{"$f":"SUMPRODUCT($D$8:D795-$I$8:I795)","v":30893.5}]
[null,null,null,null,null,null,null,null,null,null,{"$f":"SUMPRODUCT($D$8:D796-$I$8:I796)","v":30893.5}]
[null,null,null,null,null,null,null,null,null,null,{"$f":"SUMPRODUCT($D$8:D797-$I$8:I797)","v":30893.5}]
[null,null,null,null,null,null,null,null,null,null,{"$f":"SUMPRODUCT($D$8:D798-$I$8:I798)","v":30893.5}]
[null,null,null,null,null,null,null,null,null,null,{"$f":"SUMPRODUCT($D$8:D799-$I$8:I799)","v":30893.5}]
[null,null,null,null,null,null,null,null,null,null,{"$f":"SUMPRODUCT($D$8:D800-$I$8:I800)","v":30893.5}]
[null,null,null,null,null,null,null,null,null,null,{"$f":"SUMPRODUCT($D$8:D801-$I$8:I801)","v":30893.5}]
[null,null,null,null,null,null,null,null,null,null,{"$f":"SUMPRODUCT($D$8:D802-$I$8:I802)","v":30893.5}]
[null,null,null,null,null,null,null,null,null,null,{"$f":"SUMPRODUCT($D$8:D803-$I$8:I803)","v":30893.5}]
[null,null,null,null,null,null,null,null,null,null,{"$f":"SUMPRODUCT($D$8:D804-$I$8:I804)","v":30893.5}]
[null,null,null,null,null,null,null,null,null,null,{"$f":"SUMPRODUCT($D$8:D805-$I$8:I805)","v":30893.5}]
[null,null,null,null,null,null,null,null,null,null,{"$f":"SUMPRODUCT($D$8:D806-$I$8:I806)","v":30893.5}]
[null,null,null,null,null,null,null,null,null,null,{"$f":"SUMPRODUCT($D$8:D807-$I$8:I807)","v":30893.5}]
[null,null,null,null,null,null,null,null,null,null,{"$f":"SUMPRODUCT($D$8:D808-$I$8:I808)","v":30893.5}]
[null,null,null,null,null,null,null,null,null,null,{"$f":"SUMPRODUCT($D$8:D809-$I$8:I809)","v":30893.5}]
[null,null,null,null,null,null,null,null,null,null,{"$f":"SUMPRODUCT($D$8:D810-$I$8:I810)","v":30893.5}]
[null,null,null,null,null,null,null,null,null,null,{"$f":"SUMPRODUCT($D$8:D811-$I$8:I811)","v":30893.5}]
[null,null,null,null,null,null,null,null,null,null,{"$f":"SUMPRODUCT($D$8:D812-$I$8:I812)","v":30893.5}]
[null,null,null,null,null,null,null,null,null,null,{"$f":"SUMPRODUCT($D$8:D813-$I$8:I813)","v":30893.5}]
[null,null,null,null,null,null,null,null,null,null,{"$f":"SUMPRODUCT($D$8:D814-$I$8:I814)","v":30893.5}]
[null,null,null,null,null,null,null,null,null,null,{"$f":"SUMPRODUCT($D$8:D815-$I$8:I815)","v":30893.5}]
[null,null,null,null,null,null,null,null,null,null,{"$f":"SUMPRODUCT($D$8:D816-$I$8:I816)","v":30893.5}]
[null,null,null,null,null,null,null,null,null,null,{"$f":"SUMPRODUCT($D$8:D817-$I$8:I817)","v":30893.5}]
[null,null,null,null,null,null,null,null,null,null,{"$f":"SUMPRODUCT($D$8:D818-$I$8:I818)","v":30893.5}]
[null,null,null,null,null,null,null,null,null,null,{"$f":"SUMPRODUCT($D$8:D819-$I$8:I819)","v":30893.5}]
[null,null,null,null,null,null,null,null,null,null,{"$f":"SUMPRODUCT($D$8:D820-$I$8:I820)","v":30893.5}]
[null,null,null,null,null,null,null,null,null,null,{"$f":"SUMPRODUCT($D$8:D821-$I$8:I821)","v":30893.5}]
[null,null,null,null,null,null,null,null,null,null,{"$f":"SUMPRODUCT($D$8:D822-$I$8:I822)","v":30893.5}]
[null,null,null,null,null,null,null,null,null,null,{"$f":"SUMPRODUCT($D$8:D823-$I$8:I823)","v":30893.5}]
[null,null,null,null,null,null,null,null,null,null,{"$f":"SUMPRODUCT($D$8:D824-$I$8:I824)","v":30893.5}]
[null,null,null,null,null,null,null,null,null,null,{"$f":"SUMPRODUCT($D$8:D825-$I$8:I825)","v":30893.5}]
[null,null,null,null,null,null,null,null,null,null,{"$f":"SUMPRODUCT($D$8:D826-$I$8:I826)","v":30893.5}]
[null,null,null,null,null,null,null,null,null,null,{"$f":"SUMPRODUCT($D$8:D827-$I$8:I827)","v":30893.5}]
[null,null,null,null,null,null,null,null,null,null,{"$f":"SUMPRODUCT($D$8:D828-$I$8:I828)","v":30893.5}]
[null,null,null,null,null,null,null,null,null,null,{"$f":"SUMPRODUCT($D$8:D829-$I$8:I829)","v":30893.5}]
[null,null,null,null,null,null,null,null,null,null,{"$f":"SUMPRODUCT($D$8:D830-$I$8:I830)","v":30893.5}]
[null,null,null,null,null,null,null,null,null,null,{"$f":"SUMPRODUCT($D$8:D831-$I$8:I831)","v":30893.5}]
[null,null,null,null,null,null,null,null,null,null,{"$f":"SUMPRODUCT($D$8:D832-$I$8:I832)","v":30893.5}]
[null,null,null,null,null,null,null,null,null,null,{"$f":"SUMPRODUCT($D$8:D833-$I$8:I833)","v":30893.5}]
[null,null,null,null,null,null,null,null,null,null,{"$f":"SUMPRODUCT($D$8:D834-$I$8:I834)","v":30893.5}]
[null,null,null,null,null,null,null,null,null,null,{"$f":"SUMPRODUCT($D$8:D835-$I$8:I835)","v":30893.5}]
[null,null,null,null,null,null,null,null,null,null,{"$f":"SUMPRODUCT($D$8:D836-$I$8:I836)","v":30893.5}]
[null,null,null,null,null,null,null,null,null,null,{"$f":"SUMPRODUCT($D$8:D837-$I$8:I837)","v":30893.5}]
[null,null,null,null,null,null,null,null,null,null,{"$f":"SUMPRODUCT($D$8:D838-$I$8:I838)","v":30893.5}]
[null,null,null,null,null,null,null,null,null,null,{"$f":"SUMPRODUCT($D$8:D839-$I$8:I839)","v":30893.5}]
[null,null,null,null,null,null,null,null,null,null,{"$f":"SUMPRODUCT($D$8:D840-$I$8:I840)","v":30893.5}]
[null,null,null,null,null,null,null,null,null,null,{"$f":"SUMPRODUCT($D$8:D841-$I$8:I841)","v":30893.5}]
[null,null,null,null,null,null,null,null,null,null,{"$f":"SUMPRODUCT($D$8:D842-$I$8:I842)","v":30893.5}]
[null,null,null,null,null,null,null,null,null,null,{"$f":"SUMPRODUCT($D$8:D843-$I$8:I843)","v":30893.5}]
[null,null,null,null,null,null,null,null,null,null,{"$f":"SUMPRODUCT($D$8:D844-$I$8:I844)","v":30893.5}]
[null,null,null,null,null,null,null,null,null,null,{"$f":"SUMPRODUCT($D$8:D845-$I$8:I845)","v":30893.5}]
[null,null,null,null,null,null,null,null,null,null,{"$f":"SUMPRODUCT($D$8:D846-$I$8:I846)","v":30893.5}]
[null,null,null,null,null,null,null,null,null,null,{"$f":"SUMPRODUCT($D$8:D847-$I$8:I847)","v":30893.5}]
[null,null,null,null,null,null,null,null,null,null,{"$f":"SUMPRODUCT($D$8:D848-$I$8:I848)","v":30893.5}]
[null,null,null,null,null,null,null,null,null,null,{"$f":"SUMPRODUCT($D$8:D849-$I$8:I849)","v":30893.5}]
[null,null,null,null,null,null,null,null,null,null,{"$f":"SUMPRODUCT($D$8:D850-$I$8:I850)","v":30893.5}]
[null,null,null,null,null,null,null,null,null,null,{"$f":"SUMPRODUCT($D$8:D851-$I$8:I851)","v":30893.5}]
[null,null,null,null,null,null,null,null,null,null,{"$f":"SUMPRODUCT($D$8:D852-$I$8:I852)","v":30893.5}]
[null,null,null,null,null,null,null,null,null,null,{"$f":"SUMPRODUCT($D$8:D853-$I$8:I853)","v":30893.5}]
[null,null,null,null,null,null,null,null,null,null,{"$f":"SUMPRODUCT($D$8:D854-$I$8:I854)","v":30893.5}]
[null,null,null,null,null,null,null,null,null,null,{"$f":"SUMPRODUCT($D$8:D855-$I$8:I855)","v":30893.5}]
[null,null,null,null,null,null,null,null,null,null,{"$f":"SUMPRODUCT($D$8:D856-$I$8:I856)","v":30893.5}]
[null,null,null,null,null,null,null,null,null,null,{"$f":"SUMPRODUCT($D$8:D857-$I$8:I857)","v":30893.5}]
[null,null,null,null,null,null,null,null,null,null,{"$f":"SUMPRODUCT($D$8:D858-$I$8:I858)","v":30893.5}]
[null,null,null,null,null,null,null,null,null,null,{"$f":"SUMPRODUCT($D$8:D859-$I$8:I859)","v":30893.5}]
[null,null,null,null,null,null,null,null,null,null,{"$f":"SUMPRODUCT($D$8:D860-$I$8:I860)","v":30893.5}]
[null,null,null,null,null,null,null,null,null,null,{"$f":"SUMPRODUCT($D$8:D861-$I$8:I861)","v":30893.5}]
[null,null,null,null,null,null,null,null,null,null,{"$f":"SUMPRODUCT($D$8:D862-$I$8:I862)","v":30893.5}]
[null,null,null,null,null,null,null,null,null,null,{"$f":"SUMPRODUCT($D$8:D863-$I$8:I863)","v":30893.5}]
[null,null,null,null,null,null,null,null,null,null,{"$f":"SUMPRODUCT($D$8:D864-$I$8:I864)","v":30893.5}]
[null,null,null,null,null,null,null,null,null,null,{"$f":"SUMPRODUCT($D$8:D865-$I$8:I865)","v":30893.5}]
[null,null,null,null,null,null,null,null,null,null,{"$f":"SUMPRODUCT($D$8:D866-$I$8:I866)","v":30893.5}]
[null,null,null,null,null,null,null,null,null,null,{"$f":"SUMPRODUCT($D$8:D867-$I$8:I867)","v":30893.5}]
[null,null,null,null,null,null,null,null,null,null,{"$f":"SUMPRODUCT($D$8:D868-$I$8:I868)","v":30893.5}]
[null,null,null,null,null,null,null,null,null,null,{"$f":"SUMPRODUCT($D$8:D869-$I$8:I869)","v":30893.5}]
[null,null,null,null,null,null,null,null,null,null,{"$f":"SUMPRODUCT($D$8:D870-$I$8:I870)","v":30893.5}]
[null,null,null,null,null,null,null,null,null,null,{"$f":"SUMPRODUCT($D$8:D871-$I$8:I871)","v":30893.5}]
[null,null,null,null,null,null,null,null,null,null,{"$f":"SUMPRODUCT($D$8:D872-$I$8:I872)","v":30893.5}]
[null,null,null,null,null,null,null,null,null,null,{"$f":"SUMPRODUCT($D$8:D873-$I$8:I873)","v":30893.5}]
[null,null,null,null,null,null,null,null,null,null,{"$f":"SUMPRODUCT($D$8:D874-$I$8:I874)","v":30893.5}]
[null,null,null,null,null,null,null,null,null,null,{"$f":"SUMPRODUCT($D$8:D875-$I$8:I875)","v":30893.5}]
[null,null,null,null,null,null,null,null,null,null,{"$f":"SUMPRODUCT($D$8:D876-$I$8:I876)","v":30893.5}]
[null,null,null,null,null,null,null,null,null,null,{"$f":"SUMPRODUCT($D$8:D877-$I$8:I877)","v":30893.5}]
[null,null,null,null,null,null,null,null,null,null,{"$f":"SUMPRODUCT($D$8:D878-$I$8:I878)","v":30893.5}]
[null,null,null,null,null,null,null,null,null,null,{"$f":"SUMPRODUCT($D$8:D879-$I$8:I879)","v":30893.5}]
[null,null,null,null,null,null,null,null,null,null,{"$f":"SUMPRODUCT($D$8:D880-$I$8:I880)","v":30893.5}]
[null,null,null,null,null,null,null,null,null,null,{"$f":"SUMPRODUCT($D$8:D881-$I$8:I881)","v":30893.5}]
[null,null,null,null,null,null,null,null,null,null,{"$f":"SUMPRODUCT($D$8:D882-$I$8:I882)","v":30893.5}]
[null,null,null,null,null,null,null,null,null,null,{"$f":"SUMPRODUCT($D$8:D883-$I$8:I883)","v":30893.5}]
[null,null,null,null,null,null,null,null,null,null,{"$f":"SUMPRODUCT($D$8:D884-$I$8:I884)","v":30893.5}]
[null,null,null,null,null,null,null,null,null,null,{"$f":"SUMPRODUCT($D$8:D885-$I$8:I885)","v":30893.5}]
[null,null,null,null,null,null,null,null,null,null,{"$f":"SUMPRODUCT($D$8:D886-$I$8:I886)","v":30893.5}]
[null,null,null,null,null,null,null,null,null,null,{"$f":"SUMPRODUCT($D$8:D887-$I$8:I887)","v":30893.5}]
[null,null,null,null,null,null,null,null,null,null,{"$f":"SUMPRODUCT($D$8:D888-$I$8:I888)","v":30893.5}]
[null,null,null,null,null,null,null,null,null,null,{"$f":"SUMPRODUCT($D$8:D889-$I$8:I889)","v":30893.5}]
[null,null,null,null,null,null,null,null,null,null,{"$f":"SUMPRODUCT($D$8:D890-$I$8:I890)","v":30893.5}]
[null,null,null,null,null,null,null,null,null,null,{"$f":"SUMPRODUCT($D$8:D891-$I$8:I891)","v":30893.5}]
[null,null,null,null,null,null,null,null,null,null,{"$f":"SUMPRODUCT($D$8:D892-$I$8:I892)","v":30893.5}]
[null,null,null,null,null,null,null,null,null,null,{"$f":"SUMPRODUCT($D$8:D893-$I$8:I893)","v":30893.5}]
[null,null,null,null,null,null,null,null,null,null,{"$f":"SUMPRODUCT($D$8:D894-$I$8:I894)","v":30893.5}]
[null,null,null,null,null,null,null,null,null,null,{"$f":"SUMPRODUCT($D$8:D895-$I$8:I895)","v":30893.5}]
[null,null,null,null,null,null,null,null,null,null,{"$f":"SUMPRODUCT($D$8:D896-$I$8:I896)","v":30893.5}]
[null,null,null,null,null,null,null,null,null,null,{"$f":"SUMPRODUCT($D$8:D897-$I$8:I897)","v":30893.5}]
[null,null,null,null,null,null,null,null,null,null,{"$f":"SUMPRODUCT($D$8:D898-$I$8:I898)","v":30893.5}]
[null,null,null,null,null,null,null,null,null,null,{"$f":"SUMPRODUCT($D$8:D899-$I$8:I899)","v":30893.5}]
[null,null,null,null,null,null,null,null,null,null,{"$f":"SUMPRODUCT($D$8:D900-$I$8:I900)","v":30893.5}]
[null,null,null,null,null,null,null,null,null,null,{"$f":"SUMPRODUCT($D$8:D901-$I$8:I901)","v":30893.5}]
[null,null,null,null,null,null,null,null,null,null,{"$f":"SUMPRODUCT($D$8:D902-$I$8:I902)","v":30893.5}]
[null,null,null,null,null,null,null,null,null,null,{"$f":"SUMPRODUCT($D$8:D903-$I$8:I903)","v":30893.5}]
[null,null,null,null,null,null,null,null,null,null,{"$f":"SUMPRODUCT($D$8:D904-$I$8:I904)","v":30893.5}]
[null,null,null,null,null,null,null,null,null,null,{"$f":"SUMPRODUCT($D$8:D905-$I$8:I905)","v":30893.5}]
[null,null,null,null,null,null,null,null,null,null,{"$f":"SUMPRODUCT($D$8:D906-$I$8:I906)","v":30893.5}]
[null,null,null,null,null,null,null,null,null,null,{"$f":"SUMPRODUCT($D$8:D907-$I$8:I907)","v":30893.5}]
[null,null,null,null,null,null,null,null,null,null,{"$f":"SUMPRODUCT($D$8:D908-$I$8:I908)","v":30893.5}]
[null,null,null,null,null,null,null,null,null,null,{"$f":"SUMPRODUCT($D$8:D909-$I$8:I909)","v":30893.5}]
[null,null,null,null,null,null,null,null,null,null,{"$f":"SUMPRODUCT($D$8:D910-$I$8:I910)","v":30893.5}]
[null,null,null,null,null,null,null,null,null,null,{"$f":"SUMPRODUCT($D$8:D911-$I$8:I911)","v":30893.5}]
[null,null,null,null,null,null,null,null,null,null,{"$f":"SUMPRODUCT($D$8:D912-$I$8:I912)","v":30893.5}]
[null,null,null,null,null,null,null,null,null,null,{"$f":"SUMPRODUCT($D$8:D913-$I$8:I913)","v":30893.5}]
[null,null,null,null,null,null,null,null,null,null,{"$f":"SUMPRODUCT($D$8:D914-$I$8:I914)","v":30893.5}]
[null,null,null,null,null,null,null,null,null,null,{"$f":"SUMPRODUCT($D$8:D915-$I$8:I915)","v":30893.5}]
[null,null,null,null,null,null,null,null,null,null,{"$f":"SUMPRODUCT($D$8:D916-$I$8:I916)","v":30893.5}]
[null,null,null,null,null,null,null,null,null,null,{"$f":"SUMPRODUCT($D$8:D917-$I$8:I917)","v":30893.5}]
[null,null,null,null,null,null,null,null,null,null,{"$f":"SUMPRODUCT($D$8:D918-$I$8:I918)","v":30893.5}]
[null,null,null,null,null,null,null,null,null,null,{"$f":"SUMPRODUCT($D$8:D919-$I$8:I919)","v":30893.5}]
[null,null,null,null,null,null,null,null,null,null,{"$f":"SUMPRODUCT($D$8:D920-$I$8:I920)","v":30893.5}]
[null,null,null,null,null,null,null,null,null,null,{"$f":"SUMPRODUCT($D$8:D921-$I$8:I921)","v":30893.5}]
[null,null,null,null,null,null,null,null,null,null,{"$f":"SUMPRODUCT($D$8:D922-$I$8:I922)","v":30893.5}]
[null,null,null,null,null,null,null,null,null,null,{"$f":"SUMPRODUCT($D$8:D923-$I$8:I923)","v":30893.5}]
[null,null,null,null,null,null,null,null,null,null,{"$f":"SUMPRODUCT($D$8:D924-$I$8:I924)","v":30893.5}]
[null,null,null,null,null,null,null,null,null,null,{"$f":"SUMPRODUCT($D$8:D925-$I$8:I925)","v":30893.5}]
[null,null,null,null,null,null,null,null,null,null,{"$f":"SUMPRODUCT($D$8:D926-$I$8:I926)","v":30893.5}]
[null,null,null,null,null,null,null,null,null,null,{"$f":"SUMPRODUCT($D$8:D927-$I$8:I927)","v":30893.5}]
[null,null,null,null,null,null,null,null,null,null,{"$f":"SUMPRODUCT($D$8:D928-$I$8:I928)","v":30893.5}]
[null,null,null,null,null,null,null,null,null,null,{"$f":"SUMPRODUCT($D$8:D929-$I$8:I929)","v":30893.5}]
[null,null,null,null,null,null,null,null,null,null,{"$f":"SUMPRODUCT($D$8:D930-$I$8:I930)","v":30893.5}]
[null,null,null,null,null,null,null,null,null,null,{"$f":"SUMPRODUCT($D$8:D931-$I$8:I931)","v":30893.5}]
[null,null,null,null,null,null,null,null,null,null,{"$f":"SUMPRODUCT($D$8:D932-$I$8:I932)","v":30893.5}]
[null,null,null,null,null,null,null,null,null,null,{"$f":"SUMPRODUCT($D$8:D933-$I$8:I933)","v":30893.5}]
[null,null,null,null,null,null,null,null,null,null,{"$f":"SUMPRODUCT($D$8:D934-$I$8:I934)","v":30893.5}]
[null,null,null,null,null,null,null,null,null,null,{"$f":"SUMPRODUCT($D$8:D935-$I$8:I935)","v":30893.5}]
[null,null,null,null,null,null,null,null,null,null,{"$f":"SUMPRODUCT($D$8:D936-$I$8:I936)","v":30893.5}]
[null,null,null,null,null,null,null,null,null,null,{"$f":"SUMPRODUCT($D$8:D937-$I$8:I937)","v":30893.5}]
[null,null,null,null,null,null,null,null,null,null,{"$f":"SUMPRODUCT($D$8:D938-$I$8:I938)","v":30893.5}]
[null,null,null,null,null,null,null,null,null,null,{"$f":"SUMPRODUCT($D$8:D939-$I$8:I939)","v":30893.5}]
[null,null,null,null,null,null,null,null,null,null,{"$f":"SUMPRODUCT($D$8:D940-$I$8:I940)","v":30893.5}]
[null,null,null,null,null,null,null,null,null,null,{"$f":"SUMPRODUCT($D$8:D941-$I$8:I941)","v":30893.5}]
[null,null,null,null,null,null,null,null,null,null,{"$f":"SUMPRODUCT($D$8:D942-$I$8:I942)","v":30893.5}]
[null,null,null,null,null,null,null,null,null,null,{"$f":"SUMPRODUCT($D$8:D943-$I$8:I943)","v":30893.5}]
[null,null,null,null,null,null,null,null,null,null,{"$f":"SUMPRODUCT($D$8:D944-$I$8:I944)","v":30893.5}]
[null,null,null,null,null,null,null,null,null,null,{"$f":"SUMPRODUCT($D$8:D945-$I$8:I945)","v":30893.5}]
[null,null,null,null,null,null,null,null,null,null,{"$f":"SUMPRODUCT($D$8:D946-$I$8:I946)","v":30893.5}]
[null,null,null,null,null,null,null,null,null,null,{"$f":"SUMPRODUCT($D$8:D947-$I$8:I947)","v":30893.5}]
[null,null,null,null,null,null,null,null,null,null,{"$f":"SUMPRODUCT($D$8:D948-$I$8:I948)","v":30893.5}]
[null,null,null,null,null,null,null,null,null,null,{"$f":"SUMPRODUCT($D$8:D949-$I$8:I949)","v":30893.5}]
[null,null,null,null,null,null,null,null,null,null,{"$f":"SUMPRODUCT($D$8:D950-$I$8:I950)","v":30893.5}]
[null,null,null,null,null,null,null,null,null,null,{"$f":"SUMPRODUCT($D$8:D951-$I$8:I951)","v":30893.5}]
[null,null,null,null,null,null,null,null,null,null,{"$f":"SUMPRODUCT($D$8:D952-$I$8:I952)","v":30893.5}]
[null,null,null,null,null,null,null,null,null,null,{"$f":"SUMPRODUCT($D$8:D953-$I$8:I953)","v":30893.5}]
[null,null,null,null,null,null,null,null,null,null,{"$f":"SUMPRODUCT($D$8:D954-$I$8:I954)","v":30893.5}]
[null,null,null,null,null,null,null,null,null,null,{"$f":"SUMPRODUCT($D$8:D955-$I$8:I955)","v":30893.5}]
[null,null,null,null,null,null,null,null,null,null,{"$f":"SUMPRODUCT($D$8:D956-$I$8:I956)","v":30893.5}]
[null,null,null,null,null,null,null,null,null,null,{"$f":"SUMPRODUCT($D$8:D957-$I$8:I957)","v":30893.5}]
[null,null,null,null,null,null,null,null,null,null,{"$f":"SUMPRODUCT($D$8:D958-$I$8:I958)","v":30893.5}]
[null,null,null,null,null,null,null,null,null,null,{"$f":"SUMPRODUCT($D$8:D959-$I$8:I959)","v":30893.5}]
[null,null,null,null,null,null,null,null,null,null,{"$f":"SUMPRODUCT($D$8:D960-$I$8:I960)","v":30893.5}]
[null,null,null,null,null,null,null,null,null,null,{"$f":"SUMPRODUCT($D$8:D961-$I$8:I961)","v":30893.5}]
[null,null,null,null,null,null,null,null,null,null,{"$f":"SUMPRODUCT($D$8:D962-$I$8:I962)","v":30893.5}]
[null,null,null,null,null,null,null,null,null,null,{"$f":"SUMPRODUCT($D$8:D963-$I$8:I963)","v":30893.5}]
[null,null,null,null,null,null,null,null,null,null,{"$f":"SUMPRODUCT($D$8:D964-$I$8:I964)","v":30893.5}]
[null,null,null,null,null,null,null,null,null,null,{"$f":"SUMPRODUCT($D$8:D965-$I$8:I965)","v":30893.5}]
[null,null,null,null,null,null,null,null,null,null,{"$f":"SUMPRODUCT($D$8:D966-$I$8:I966)","v":30893.5}]
[null,null,null,null,null,null,null,null,null,null,{"$f":"SUMPRODUCT($D$8:D967-$I$8:I967)","v":30893.5}]
[null,null,null,null,null,null,null,null,null,null,{"$f":"SUMPRODUCT($D$8:D968-$I$8:I968)","v":30893.5}]
[null,null,null,null,null,null,null,null,null,null,{"$f":"SUMPRODUCT($D$8:D969-$I$8:I969)","v":30893.5}]
[null,null,null,null,null,null,null,null,null,null,{"$f":"SUMPRODUCT($D$8:D970-$I$8:I970)","v":30893.5}]
[null,null,null,null,null,null,null,null,null,null,{"$f":"SUMPRODUCT($D$8:D971-$I$8:I971)","v":30893.5}]
[null,null,null,null,null,null,null,null,null,null,{"$f":"SUMPRODUCT($D$8:D972-$I$8:I972)","v":30893.5}]
[null,null,null,null,null,null,null,null,null,null,{"$f":"SUMPRODUCT($D$8:D973-$I$8:I973)","v":30893.5}]
[null,null,null,null,null,null,null,null,null,null,{"$f":"SUMPRODUCT($D$8:D974-$I$8:I974)","v":30893.5}]
[null,null,null,null,null,null,null,null,null,null,{"$f":"SUMPRODUCT($D$8:D975-$I$8:I975)","v":30893.5}]
[null,null,null,null,null,null,null,null,null,null,{"$f":"SUMPRODUCT($D$8:D976-$I$8:I976)","v":30893.5}]
[null,null,null,null,null,null,null,null,null,null,{"$f":"SUMPRODUCT($D$8:D977-$I$8:I977)","v":30893.5}]
[null,null,null,null,null,null,null,null,null,null,{"$f":"SUMPRODUCT($D$8:D978-$I$8:I978)","v":30893.5}]
[null,null,null,null,null,null,null,null,null,null,{"$f":"SUMPRODUCT($D$8:D979-$I$8:I979)","v":30893.5}]
[null,null,null,null,null,null,null,null,null,null,{"$f":"SUMPRODUCT($D$8:D980-$I$8:I980)","v":30893.5}]
[null,null,null,null,null,null,null,null,null,null,{"$f":"SUMPRODUCT($D$8:D981-$I$8:I981)","v":30893.5}]
[null,null,null,null,null,null,null,null,null,null,{"$f":"SUMPRODUCT($D$8:D982-$I$8:I982)","v":30893.5}]
[null,null,null,null,null,null,null,null,null,null,{"$f":"SUMPRODUCT($D$8:D983-$I$8:I983)","v":30893.5}]
[null,null,null,null,null,null,null,null,null,null,{"$f":"SUMPRODUCT($D$8:D984-$I$8:I984)","v":30893.5}]
[null,null,null,null,null,null,null,null,null,null,{"$f":"SUMPRODUCT($D$8:D985-$I$8:I985)","v":30893.5}]
[null,null,null,null,null,null,null,null,null,null,{"$f":"SUMPRODUCT($D$8:D986-$I$8:I986)","v":30893.5}]
[null,null,null,null,null,null,null,null,null,null,{"$f":"SUMPRODUCT($D$8:D987-$I$8:I987)","v":30893.5}]
[null,null,null,null,null,null,null,null,null,null,{"$f":"SUMPRODUCT($D$8:D988-$I$8:I988)","v":30893.5}]
[null,null,null,null,null,null,null,null,null,null,{"$f":"SUMPRODUCT($D$8:D989-$I$8:I989)","v":30893.5}]
[null,null,null,null,null,null,null,null,null,null,{"$f":"SUMPRODUCT($D$8:D990-$I$8:I990)","v":30893.5}]
[null,null,null,null,null,null,null,null,null,null,{"$f":"SUMPRODUCT($D$8:D991-$I$8:I991)","v":30893.5}]
[null,null,null,null,null,null,null,null,null,null,{"$f":"SUMPRODUCT($D$8:D992-$I$8:I992)","v":30893.5}]
[null,null,null,null,null,null,null,null,null,null,{"$f":"SUMPRODUCT($D$8:D993-$I$8:I993)","v":30893.5}]
[null,null,null,null,null,null,null,null,null,null,{"$f":"SUMPRODUCT($D$8:D994-$I$8:I994)","v":30893.5}]
[null,null,null,null,null,null,null,null,null,null,{"$f":"SUMPRODUCT($D$8:D995-$I$8:I995)","v":30893.5}]
[null,null,null,null,null,null,null,null,null,null,{"$f":"SUMPRODUCT($D$8:D996-$I$8:I996)","v":30893.5}]
[null,null,null,null,null,null,null,null,null,null,{"$f":"SUMPRODUCT($D$8:D997-$I$8:I997)","v":30893.5}]
[null,null,null,null,null,null,null,null,null,null,{"$f":"SUMPRODUCT($D$8:D998-$I$8:I998)","v":30893.5}]
[null,null,null,null,null,null,null,null,null,null,{"$f":"SUMPRODUCT($D$8:D999-$I$8:I999)","v":30893.5}]
[null,null,null,null,null,null,null,null,null,null,{"$f":"SUMPRODUCT($D$8:D1000-$I$8:I1000)","v":30893.5}]
[null,null,null,null,null,null,null,null,null,null,{"$f":"SUMPRODUCT($D$8:D1001-$I$8:I1001)","v":30893.5}]
[null,null,null,null,null,null,null,null,null,null,{"$f":"SUMPRODUCT($D$8:D1002-$I$8:I1002)","v":30893.5}]
[null,null,null,null,null,null,null,null,null,null,{"$f":"SUMPRODUCT($D$8:D1003-$I$8:I1003)","v":30893.5}]
[null,null,null,null,null,null,null,null,null,null,{"$f":"SUMPRODUCT($D$8:D1004-$I$8:I1004)","v":30893.5}]
[null,null,null,null,null,null,null,null,null,null,{"$f":"SUMPRODUCT($D$8:D1005-$I$8:I1005)","v":30893.5}]
[null,null,null,null,null,null,null,null,null,null,{"$f":"SUMPRODUCT($D$8:D1006-$I$8:I1006)","v":30893.5}]
[null,null,null,null,null,null,null,null,null,null,{"$f":"SUMPRODUCT($D$8:D1007-$I$8:I1007)","v":30893.5}]
[null,null,null,null,null,null,null,null,null,null,{"$f":"SUMPRODUCT($D$8:D1008-$I$8:I1008)","v":30893.5}]
[null,null,null,null,null,null,null,null,null,null,{"$f":"SUMPRODUCT($D$8:D1009-$I$8:I1009)","v":30893.5}]
[null,null,null,null,null,null,null,null,null,null,{"$f":"SUMPRODUCT($D$8:D1010-$I$8:I1010)","v":30893.5}]
[null,null,null,null,null,null,null,null,null,null,{"$f":"SUMPRODUCT($D$8:D1011-$I$8:I1011)","v":30893.5}]
[null,null,null,null,null,null,null,null,null,null,{"$f":"SUMPRODUCT($D$8:D1012-$I$8:I1012)","v":30893.5}]
[null,null,null,null,null,null,null,null,null,null,{"$f":"SUMPRODUCT($D$8:D1013-$I$8:I1013)","v":30893.5}]
[null,null,null,null,null,null,null,null,null,null,{"$f":"SUMPRODUCT($D$8:D1014-$I$8:I1014)","v":30893.5}]
[null,null,null,null,null,null,null,null,null,null,{"$f":"SUMPRODUCT($D$8:D1015-$I$8:I1015)","v":30893.5}]
[null,null,null,null,null,null,null,null,null,null,{"$f":"SUMPRODUCT($D$8:D1016-$I$8:I1016)","v":30893.5}]
[null,null,null,null,null,null,null,null,null,null,{"$f":"SUMPRODUCT($D$8:D1017-$I$8:I1017)","v":30893.5}]
[null,null,null,null,null,null,null,null,null,null,{"$f":"SUMPRODUCT($D$8:D1018-$I$8:I1018)","v":30893.5}]
[null,null,null,null,null,null,null,null,null,null,{"$f":"SUMPRODUCT($D$8:D1019-$I$8:I1019)","v":30893.5}]
[null,null,null,null,null,null,null,null,null,null,{"$f":"SUMPRODUCT($D$8:D1020-$I$8:I1020)","v":30893.5}]
[null,null,null,null,null,null,null,null,null,null,{"$f":"SUMPRODUCT($D$8:D1021-$I$8:I1021)","v":30893.5}]
[null,null,null,null,null,null,null,null,null,null,{"$f":"SUMPRODUCT($D$8:D1022-$I$8:I1022)","v":30893.5}]
[null,null,null,null,null,null,null,null,null,null,{"$f":"SUMPRODUCT($D$8:D1023-$I$8:I1023)","v":30893.5}]
[null,null,null,null,null,null,null,null,null,null,{"$f":"SUMPRODUCT($D$8:D1024-$I$8:I1024)","v":30893.5}]
[null,null,null,null,null,null,null,null,null,null,{"$f":"SUMPRODUCT($D$8:D1025-$I$8:I1025)","v":30893.5}]
[null,null,null,null,null,null,null,null,null,null,{"$f":"SUMPRODUCT($D$8:D1026-$I$8:I1026)","v":30893.5}]
[null,null,null,null,null,null,null,null,null,null,{"$f":"SUMPRODUCT($D$8:D1027-$I$8:I1027)","v":30893.5}]
[null,null,null,null,null,null,null,null,null,null,{"$f":"SUMPRODUCT($D$8:D1028-$I$8:I1028)","v":30893.5}]
[null,null,null,null,null,null,null,null,null,null,{"$f":"SUMPRODUCT($D$8:D1029-$I$8:I1029)","v":30893.5}]
[null,null,null,null,null,null,null,null,null,null,{"$f":"SUMPRODUCT($D$8:D1030-$I$8:I1030)","v":30893.5}]
[null,null,null,null,null,null,null,null,null,null,{"$f":"SUMPRODUCT($D$8:D1031-$I$8:I1031)","v":30893.5}]
[null,null,null,null,null,null,null,null,null,null,{"$f":"SUMPRODUCT($D$8:D1032-$I$8:I1032)","v":30893.5}]
[null,null,null,null,null,null,null,null,null,null,{"$f":"SUMPRODUCT($D$8:D1033-$I$8:I1033)","v":30893.5}]
[null,null,null,null,null,null,null,null,null,null,{"$f":"SUMPRODUCT($D$8:D1034-$I$8:I1034)","v":30893.5}]
[null,null,null,null,null,null,null,null,null,null,{"$f":"SUMPRODUCT($D$8:D1035-$I$8:I1035)","v":30893.5}]
[null,null,null,null,null,null,null,null,null,null,{"$f":"SUMPRODUCT($D$8:D1036-$I$8:I1036)","v":30893.5}]
[null,null,null,null,null,null,null,null,null,null,{"$f":"SUMPRODUCT($D$8:D1037-$I$8:I1037)","v":30893.5}]
[null,null,null,null,null,null,null,null,null,null,{"$f":"SUMPRODUCT($D$8:D1038-$I$8:I1038)","v":30893.5}]
[null,null,null,null,null,null,null,null,null,null,{"$f":"SUMPRODUCT($D$8:D1039-$I$8:I1039)","v":30893.5}]
[null,null,null,null,null,null,null,null,null,null,{"$f":"SUMPRODUCT($D$8:D1040-$I$8:I1040)","v":30893.5}]
[null,null,null,null,null,null,null,null,null,null,{"$f":"SUMPRODUCT($D$8:D1041-$I$8:I1041)","v":30893.5}]
[null,null,null,null,null,null,null,null,null,null,{"$f":"SUMPRODUCT($D$8:D1042-$I$8:I1042)","v":30893.5}]
[null,null,null,null,null,null,null,null,null,null,{"$f":"SUMPRODUCT($D$8:D1043-$I$8:I1043)","v":30893.5}]
[null,null,null,null,null,null,null,null,null,null,{"$f":"SUMPRODUCT($D$8:D1044-$I$8:I1044)","v":30893.5}]
[null,null,null,null,null,null,null,null,null,null,{"$f":"SUMPRODUCT($D$8:D1045-$I$8:I1045)","v":30893.5}]
[null,null,null,null,null,null,null,null,null,null,{"$f":"SUMPRODUCT($D$8:D1046-$I$8:I1046)","v":30893.5}]
[null,null,null,null,null,null,null,null,null,null,{"$f":"SUMPRODUCT($D$8:D1047-$I$8:I1047)","v":30893.5}]
[null,null,null,null,null,null,null,null,null,null,{"$f":"SUMPRODUCT($D$8:D1048-$I$8:I1048)","v":30893.5}]
[null,null,null,null,null,null,null,null,null,null,{"$f":"SUMPRODUCT($D$8:D1049-$I$8:I1049)","v":30893.5}]
[null,null,null,null,null,null,null,null,null,null,{"$f":"SUMPRODUCT($D$8:D1050-$I$8:I1050)","v":30893.5}]
[null,null,null,null,null,null,null,null,null,null,{"$f":"SUMPRODUCT($D$8:D1051-$I$8:I1051)","v":30893.5}]
[null,null,null,null,null,null,null,null,null,null,{"$f":"SUMPRODUCT($D$8:D1052-$I$8:I1052)","v":30893.5}]
[null,null,null,null,null,null,null,null,null,null,{"$f":"SUMPRODUCT($D$8:D1053-$I$8:I1053)","v":30893.5}]
[null,null,null,null,null,null,null,null,null,null,{"$f":"SUMPRODUCT($D$8:D1054-$I$8:I1054)","v":30893.5}]
[null,null,null,null,null,null,null,null,null,null,{"$f":"SUMPRODUCT($D$8:D1055-$I$8:I1055)","v":30893.5}]
[null,null,null,null,null,null,null,null,null,null,{"$f":"SUMPRODUCT($D$8:D1056-$I$8:I1056)","v":30893.5}]
[null,null,null,null,null,null,null,null,null,null,{"$f":"SUMPRODUCT($D$8:D1057-$I$8:I1057)","v":30893.5}]
[null,null,null,null,null,null,null,null,null,null,{"$f":"SUMPRODUCT($D$8:D1058-$I$8:I1058)","v":30893.5}]
[null,null,null,null,null,null,null,null,null,null,{"$f":"SUMPRODUCT($D$8:D1059-$I$8:I1059)","v":30893.5}]
[null,null,null,null,null,null,null,null,null,null,{"$f":"SUMPRODUCT($D$8:D1060-$I$8:I1060)","v":30893.5}]
[null,null,null,null,null,null,null,null,null,null,{"$f":"SUMPRODUCT($D$8:D1061-$I$8:I1061)","v":30893.5}]
[null,null,null,null,null,null,null,null,null,null,{"$f":"SUMPRODUCT($D$8:D1062-$I$8:I1062)","v":30893.5}]
[null,null,null,null,null,null,null,null,null,null,{"$f":"SUMPRODUCT($D$8:D1063-$I$8:I1063)","v":30893.5}]
[null,null,null,null,null,null,null,null,null,null,{"$f":"SUMPRODUCT($D$8:D1064-$I$8:I1064)","v":30893.5}]
[null,null,null,null,null,null,null,null,null,null,{"$f":"SUMPRODUCT($D$8:D1065-$I$8:I1065)","v":30893.5}]
[null,null,null,null,null,null,null,null,null,null,{"$f":"SUMPRODUCT($D$8:D1066-$I$8:I1066)","v":30893.5}]
[null,null,null,null,null,null,null,null,null,null,{"$f":"SUMPRODUCT($D$8:D1067-$I$8:I1067)","v":30893.5}]
[null,null,null,null,null,null,null,null,null,null,{"$f":"SUMPRODUCT($D$8:D1068-$I$8:I1068)","v":30893.5}]
[null,null,null,null,null,null,null,null,null,null,{"$f":"SUMPRODUCT($D$8:D1069-$I$8:I1069)","v":30893.5}]
[null,null,null,null,null,null,null,null,null,null,{"$f":"SUMPRODUCT($D$8:D1070-$I$8:I1070)","v":30893.5}]
[null,null,null,null,null,null,null,null,null,null,{"$f":"SUMPRODUCT($D$8:D1071-$I$8:I1071)","v":30893.5}]
[null,null,null,null,null,null,null,null,null,null,{"$f":"SUMPRODUCT($D$8:D1072-$I$8:I1072)","v":30893.5}]
[null,null,null,null,null,null,null,null,null,null,{"$f":"SUMPRODUCT($D$8:D1073-$I$8:I1073)","v":30893.5}]
[null,null,null,null,null,null,null,null,null,null,{"$f":"SUMPRODUCT($D$8:D1074-$I$8:I1074)","v":30893.5}]
[null,null,null,null,null,null,null,null,null,null,{"$f":"SUMPRODUCT($D$8:D1075-$I$8:I1075)","v":30893.5}]
[null,null,null,null,null,null,null,null,null,null,{"$f":"SUMPRODUCT($D$8:D1076-$I$8:I1076)","v":30893.5}]
[null,null,null,null,null,null,null,null,null,null,{"$f":"SUMPRODUCT($D$8:D1077-$I$8:I1077)","v":30893.5}]
[null,null,null,null,null,null,null,null,null,null,{"$f":"SUMPRODUCT($D$8:D1078-$I$8:I1078)","v":30893.5}]
[null,null,null,null,null,null,null,null,null,null,{"$f":"SUMPRODUCT($D$8:D1079-$I$8:I1079)","v":30893.5}]
[null,null,null,null,null,null,null,null,null,null,{"$f":"SUMPRODUCT($D$8:D1080-$I$8:I1080)","v":30893.5}]
[null,null,null,null,null,null,null,null,null,null,{"$f":"SUMPRODUCT($D$8:D1081-$I$8:I1081)","v":30893.5}]
[null,null,null,null,null,null,null,null,null,null,{"$f":"SUMPRODUCT($D$8:D1082-$I$8:I1082)","v":30893.5}]
[null,null,null,null,null,null,null,null,null,null,{"$f":"SUMPRODUCT($D$8:D1083-$I$8:I1083)","v":30893.5}]
[null,null,null,null,null,null,null,null,null,null,{"$f":"SUMPRODUCT($D$8:D1084-$I$8:I1084)","v":30893.5}]
[null,null,null,null,null,null,null,null,null,null,{"$f":"SUMPRODUCT($D$8:D1085-$I$8:I1085)","v":30893.5}]
[null,null,null,null,null,null,null,null,null,null,{"$f":"SUMPRODUCT($D$8:D1086-$I$8:I1086)","v":30893.5}]
[null,null,null,null,null,null,null,null,null,null,{"$f":"SUMPRODUCT($D$8:D1087-$I$8:I1087)","v":30893.5}]
[null,null,null,null,null,null,null,null,null,null,{"$f":"SUMPRODUCT($D$8:D1088-$I$8:I1088)","v":30893.5}]
[null,null,null,null,null,null,null,null,null,null,{"$f":"SUMPRODUCT($D$8:D1089-$I$8:I1089)","v":30893.5}]
[null,null,null,null,null,null,null,null,null,null,{"$f":"SUMPRODUCT($D$8:D1090-$I$8:I1090)","v":30893.5}]
[null,null,null,null,null,null,null,null,null,null,{"$f":"SUMPRODUCT($D$8:D1091-$I$8:I1091)","v":30893.5}]
[null,null,null,null,null,null,null,null,null,null,{"$f":"SUMPRODUCT($D$8:D1092-$I$8:I1092)","v":30893.5}]
[null,null,null,null,null,null,null,null,null,null,{"$f":"SUMPRODUCT($D$8:D1093-$I$8:I1093)","v":30893.5}]
[null,null,null,null,null,null,null,null,null,null,{"$f":"SUMPRODUCT($D$8:D1094-$I$8:I1094)","v":30893.5}]
[null,null,null,null,null,null,null,null,null,null,{"$f":"SUMPRODUCT($D$8:D1095-$I$8:I1095)","v":30893.5}]
[null,null,null,null,null,null,null,null,null,null,{"$f":"SUMPRODUCT($D$8:D1096-$I$8:I1096)","v":30893.5}]
[null,null,null,null,null,null,null,null,null,null,{"$f":"SUMPRODUCT($D$8:D1097-$I$8:I1097)","v":30893.5}]
[null,null,null,null,null,null,null,null,null,null,{"$f":"SUMPRODUCT($D$8:D1098-$I$8:I1098)","v":30893.5}]
[null,null,null,null,null,null,null,null,null,null,{"$f":"SUMPRODUCT($D$8:D1099-$I$8:I1099)","v":30893.5}]
[null,null,null,null,null,null,null,null,null,null,{"$f":"SUMPRODUCT($D$8:D1100-$I$8:I1100)","v":30893.5}]
[null,null,null,null,null,null,null,null,null,null,{"$f":"SUMPRODUCT($D$8:D1101-$I$8:I1101)","v":30893.5}]
[null,null,null,null,null,null,null,null,null,null,{"$f":"SUMPRODUCT($D$8:D1102-$I$8:I1102)","v":30893.5}]
[null,null,null,null,null,null,null,null,null,null,{"$f":"SUMPRODUCT($D$8:D1103-$I$8:I1103)","v":30893.5}]
[null,null,null,null,null,null,null,null,null,null,{"$f":"SUMPRODUCT($D$8:D1104-$I$8:I1104)","v":30893.5}]
[null,null,null,null,null,null,null,null,null,null,{"$f":"SUMPRODUCT($D$8:D1105-$I$8:I1105)","v":30893.5}]
[null,null,null,null,null,null,null,null,null,null,{"$f":"SUMPRODUCT($D$8:D1106-$I$8:I1106)","v":30893.5}]
[null,null,null,null,null,null,null,null,null,null,{"$f":"SUMPRODUCT($D$8:D1107-$I$8:I1107)","v":30893.5}]
[null,null,null,null,null,null,null,null,null,null,{"$f":"SUMPRODUCT($D$8:D1108-$I$8:I1108)","v":30893.5}]
[null,null,null,null,null,null,null,null,null,null,{"$f":"SUMPRODUCT($D$8:D1109-$I$8:I1109)","v":30893.5}]
[null,null,null,null,null,null,null,null,null,null,{"$f":"SUMPRODUCT($D$8:D1110-$I$8:I1110)","v":30893.5}]
[null,null,null,null,null,null,null,null,null,null,{"$f":"SUMPRODUCT($D$8:D1111-$I$8:I1111)","v":30893.5}]
[null,null,null,null,null,null,null,null,null,null,{"$f":"SUMPRODUCT($D$8:D1112-$I$8:I1112)","v":30893.5}]
[null,null,null,null,null,null,null,null,null,null,{"$f":"SUMPRODUCT($D$8:D1113-$I$8:I1113)","v":30893.5}]
[null,null,null,null,null,null,null,null,null,null,{"$f":"SUMPRODUCT($D$8:D1114-$I$8:I1114)","v":30893.5}]
[null,null,null,null,null,null,null,null,null,null,{"$f":"SUMPRODUCT($D$8:D1115-$I$8:I1115)","v":30893.5}]
[null,null,null,null,null,null,null,null,null,null,{"$f":"SUMPRODUCT($D$8:D1116-$I$8:I1116)","v":30893.5}]
[null,null,null,null,null,null,null,null,null,null,{"$f":"SUMPRODUCT($D$8:D1117-$I$8:I1117)","v":30893.5}]
[null,null,null,null,null,null,null,null,null,null,{"$f":"SUMPRODUCT($D$8:D1118-$I$8:I1118)","v":30893.5}]
[null,null,null,null,null,null,null,null,null,null,{"$f":"SUMPRODUCT($D$8:D1119-$I$8:I1119)","v":30893.5}]
[null,null,null,null,null,null,null,null,null,null,{"$f":"SUMPRODUCT($D$8:D1120-$I$8:I1120)","v":30893.5}]
[null,null,null,null,null,null,null,null,null,null,{"$f":"SUMPRODUCT($D$8:D1121-$I$8:I1121)","v":30893.5}]
[null,null,null,null,null,null,null,null,null,null,{"$f":"SUMPRODUCT($D$8:D1122-$I$8:I1122)","v":30893.5}]
[null,null,null,null,null,null,null,null,null,null,{"$f":"SUMPRODUCT($D$8:D1123-$I$8:I1123)","v":30893.5}]
[null,null,null,null,null,null,null,null,null,null,{"$f":"SUMPRODUCT($D$8:D1124-$I$8:I1124)","v":30893.5}]
[null,null,null,null,null,null,null,null,null,null,{"$f":"SUMPRODUCT($D$8:D1125-$I$8:I1125)","v":30893.5}]
[null,null,null,null,null,null,null,null,null,null,{"$f":"SUMPRODUCT($D$8:D1126-$I$8:I1126)","v":30893.5}]
[null,null,null,null,null,null,null,null,null,null,{"$f":"SUMPRODUCT($D$8:D1127-$I$8:I1127)","v":30893.5}]
[null,null,null,null,null,null,null,null,null,null,{"$f":"SUMPRODUCT($D$8:D1128-$I$8:I1128)","v":30893.5}]
[null,null,null,null,null,null,null,null,null,null,{"$f":"SUMPRODUCT($D$8:D1129-$I$8:I1129)","v":30893.5}]
[null,null,null,null,null,null,null,null,null,null,{"$f":"SUMPRODUCT($D$8:D1130-$I$8:I1130)","v":30893.5}]
[null,null,null,null,null,null,null,null,null,null,{"$f":"SUMPRODUCT($D$8:D1131-$I$8:I1131)","v":30893.5}]
[null,null,null,null,null,null,null,null,null,null,{"$f":"SUMPRODUCT($D$8:D1132-$I$8:I1132)","v":30893.5}]
[null,null,null,null,null,null,null,null,null,null,{"$f":"SUMPRODUCT($D$8:D1133-$I$8:I1133)","v":30893.5}]
[null,null,null,null,null,null,null,null,null,null,{"$f":"SUMPRODUCT($D$8:D1134-$I$8:I1134)","v":30893.5}]
[null,null,null,null,null,null,null,null,null,null,{"$f":"SUMPRODUCT($D$8:D1135-$I$8:I1135)","v":30893.5}]
[null,null,null,null,null,null,null,null,null,null,{"$f":"SUMPRODUCT($D$8:D1136-$I$8:I1136)","v":30893.5}]
[null,null,null,null,null,null,null,null,null,null,{"$f":"SUMPRODUCT($D$8:D1137-$I$8:I1137)","v":30893.5}]
[null,null,null,null,null,null,null,null,null,null,{"$f":"SUMPRODUCT($D$8:D1138-$I$8:I1138)","v":30893.5}]
[null,null,null,null,null,null,null,null,null,null,{"$f":"SUMPRODUCT($D$8:D1139-$I$8:I1139)","v":30893.5}]
[null,null,null,null,null,null,null,null,null,null,{"$f":"SUMPRODUCT($D$8:D1140-$I$8:I1140)","v":30893.5}]
[null,null,null,null,null,null,null,null,null,null,{"$f":"SUMPRODUCT($D$8:D1141-$I$8:I1141)","v":30893.5}]
[null,null,null,null,null,null,null,null,null,null,{"$f":"SUMPRODUCT($D$8:D1142-$I$8:I1142)","v":30893.5}]
[null,null,null,null,null,null,null,null,null,null,{"$f":"SUMPRODUCT($D$8:D1143-$I$8:I1143)","v":30893.5}]
[null,null,null,null,null,null,null,null,null,null,{"$f":"SUMPRODUCT($D$8:D1144-$I$8:I1144)","v":30893.5}]
[null,null,null,null,null,null,null,null,null,null,{"$f":"SUMPRODUCT($D$8:D1145-$I$8:I1145)","v":30893.5}]
[null,null,null,null,null,null,null,null,null,null,{"$f":"SUMPRODUCT($D$8:D1146-$I$8:I1146)","v":30893.5}]
[null,null,null,null,null,null,null,null,null,null,{"$f":"SUMPRODUCT($D$8:D1147-$I$8:I1147)","v":30893.5}]
[null,null,null,null,null,null,null,null,null,null,{"$f":"SUMPRODUCT($D$8:D1148-$I$8:I1148)","v":30893.5}]
[null,null,null,null,null,null,null,null,null,null,{"$f":"SUMPRODUCT($D$8:D1149-$I$8:I1149)","v":30893.5}]
[null,null,null,null,null,null,null,null,null,null,{"$f":"SUMPRODUCT($D$8:D1150-$I$8:I1150)","v":30893.5}]
[null,null,null,null,null,null,null,null,null,null,{"$f":"SUMPRODUCT($D$8:D1151-$I$8:I1151)","v":30893.5}]
[null,null,null,null,null,null,null,null,null,null,{"$f":"SUMPRODUCT($D$8:D1152-$I$8:I1152)","v":30893.5}]
[null,null,null,null,null,null,null,null,null,null,{"$f":"SUMPRODUCT($D$8:D1153-$I$8:I1153)","v":30893.5}]
[null,null,null,null,null,null,null,null,null,null,{"$f":"SUMPRODUCT($D$8:D1154-$I$8:I1154)","v":30893.5}]
[null,null,null,null,null,null,null,null,null,null,{"$f":"SUMPRODUCT($D$8:D1155-$I$8:I1155)","v":30893.5}]
[null,null,null,null,null,null,null,null,null,null,{"$f":"SUMPRODUCT($D$8:D1156-$I$8:I1156)","v":30893.5}]
[null,null,null,null,null,null,null,null,null,null,{"$f":"SUMPRODUCT($D$8:D1157-$I$8:I1157)","v":30893.5}]
[null,null,null,null,null,null,null,null,null,null,{"$f":"SUMPRODUCT($D$8:D1158-$I$8:I1158)","v":30893.5}]
[null,null,null,null,null,null,null,null,null,null,{"$f":"SUMPRODUCT($D$8:D1159-$I$8:I1159)","v":30893.5}]
[null,null,null,null,null,null,null,null,null,null,{"$f":"SUMPRODUCT($D$8:D1160-$I$8:I1160)","v":30893.5}]
[null,null,null,null,null,null,null,null,null,null,{"$f":"SUMPRODUCT($D$8:D1161-$I$8:I1161)","v":30893.5}]
[null,null,null,null,null,null,null,null,null,null,{"$f":"SUMPRODUCT($D$8:D1162-$I$8:I1162)","v":30893.5}]
[null,null,null,null,null,null,null,null,null,null,{"$f":"SUMPRODUCT($D$8:D1163-$I$8:I1163)","v":30893.5}]
[null,null,null,null,null,null,null,null,null,null,{"$f":"SUMPRODUCT($D$8:D1164-$I$8:I1164)","v":30893.5}]
[null,null,null,null,null,null,null,null,null,null,{"$f":"SUMPRODUCT($D$8:D1165-$I$8:I1165)","v":30893.5}]
[null,null,null,null,null,null,null,null,null,null,{"$f":"SUMPRODUCT($D$8:D1166-$I$8:I1166)","v":30893.5}]
[null,null,null,null,null,null,null,null,null,null,{"$f":"SUMPRODUCT($D$8:D1167-$I$8:I1167)","v":30893.5}]
[null,null,null,null,null,null,null,null,null,null,{"$f":"SUMPRODUCT($D$8:D1168-$I$8:I1168)","v":30893.5}]
[null,null,null,null,null,null,null,null,null,null,{"$f":"SUMPRODUCT($D$8:D1169-$I$8:I1169)","v":30893.5}]
[null,null,null,null,null,null,null,null,null,null,{"$f":"SUMPRODUCT($D$8:D1170-$I$8:I1170)","v":30893.5}]
[null,null,null,null,null,null,null,null,null,null,{"$f":"SUMPRODUCT($D$8:D1171-$I$8:I1171)","v":30893.5}]
[null,null,null,null,null,null,null,null,null,null,{"$f":"SUMPRODUCT($D$8:D1172-$I$8:I1172)","v":30893.5}]
[null,null,null,null,null,null,null,null,null,null,{"$f":"SUMPRODUCT($D$8:D1173-$I$8:I1173)","v":30893.5}]
[null,null,null,null,null,null,null,null,null,null,{"$f":"SUMPRODUCT($D$8:D1174-$I$8:I1174)","v":30893.5}]
[null,null,null,null,null,null,null,null,null,null,{"$f":"SUMPRODUCT($D$8:D1175-$I$8:I1175)","v":30893.5}]
[null,null,null,null,null,null,null,null,null,null,{"$f":"SUMPRODUCT($D$8:D1176-$I$8:I1176)","v":30893.5}]
[null,null,null,null,null,null,null,null,null,null,{"$f":"SUMPRODUCT($D$8:D1177-$I$8:I1177)","v":30893.5}]
[null,null,null,null,null,null,null,null,null,null,{"$f":"SUMPRODUCT($D$8:D1178-$I$8:I1178)","v":30893.5}]
[null,null,null,null,null,null,null,null,null,null,{"$f":"SUMPRODUCT($D$8:D1179-$I$8:I1179)","v":30893.5}]
[null,null,null,null,null,null,null,null,null,null,{"$f":"SUMPRODUCT($D$8:D1180-$I$8:I1180)","v":30893.5}]
[null,null,null,null,null,null,null,null,null,null,{"$f":"SUMPRODUCT($D$8:D1181-$I$8:I1181)","v":30893.5}]
[null,null,null,null,null,null,null,null,null,null,{"$f":"SUMPRODUCT($D$8:D1182-$I$8:I1182)","v":30893.5}]
[null,null,null,null,null,null,null,null,null,null,{"$f":"SUMPRODUCT($D$8:D1183-$I$8:I1183)","v":30893.5}]
[null,null,null,null,null,null,null,null,null,null,{"$f":"SUMPRODUCT($D$8:D1184-$I$8:I1184)","v":30893.5}]
[null,null,null,null,null,null,null,null,null,null,{"$f":"SUMPRODUCT($D$8:D1185-$I$8:I1185)","v":30893.5}]
[null,null,null,null,null,null,null,null,null,null,{"$f":"SUMPRODUCT($D$8:D1186-$I$8:I1186)","v":30893.5}]
[null,null,null,null,null,null,null,null,null,null,{"$f":"SUMPRODUCT($D$8:D1187-$I$8:I1187)","v":30893.5}]
[null,null,null,null,null,null,null,null,null,null,{"$f":"SUMPRODUCT($D$8:D1188-$I$8:I1188)","v":30893.5}]
[null,null,null,null,null,null,null,null,null,null,{"$f":"SUMPRODUCT($D$8:D1189-$I$8:I1189)","v":30893.5}]
[null,null,null,null,null,null,null,null,null,null,{"$f":"SUMPRODUCT($D$8:D1190-$I$8:I1190)","v":30893.5}]
[null,null,null,null,null,null,null,null,null,null,{"$f":"SUMPRODUCT($D$8:D1191-$I$8:I1191)","v":30893.5}]
[null,null,null,null,null,null,null,null,null,null,{"$f":"SUMPRODUCT($D$8:D1192-$I$8:I1192)","v":30893.5}]
[null,null,null,null,null,null,null,null,null,null,{"$f":"SUMPRODUCT($D$8:D1193-$I$8:I1193)","v":30893.5}]
[null,null,null,null,null,null,null,null,null,null,{"$f":"SUMPRODUCT($D$8:D1194-$I$8:I1194)","v":30893.5}]
[null,null,null,null,null,null,null,null,null,null,{"$f":"SUMPRODUCT($D$8:D1195-$I$8:I1195)","v":30893.5}]
[null,null,null,null,null,null,null,null,null,null,{"$f":"SUMPRODUCT($D$8:D1196-$I$8:I1196)","v":30893.5}]
[null,null,null,null,null,null,null,null,null,null,{"$f":"SUMPRODUCT($D$8:D1197-$I$8:I1197)","v":30893.5}]
[null,null,null,null,null,null,null,null,null,null,{"$f":"SUMPRODUCT($D$8:D1198-$I$8:I1198)","v":30893.5}]
[null,null,null,null,null,null,null,null,null,null,{"$f":"SUMPRODUCT($D$8:D1199-$I$8:I1199)","v":30893.5}]
[null,null,null,null,null,null,null,null,null,null,{"$f":"SUMPRODUCT($D$8:D1200-$I$8:I1200)","v":30893.5}]
[null,null,null,null,null,null,null,null,null,null,{"$f":"SUMPRODUCT($D$8:D1201-$I$8:I1201)","v":30893.5}]
[null,null,null,null,null,null,null,null,null,null,{"$f":"SUMPRODUCT($D$8:D1202-$I$8:I1202)","v":30893.5}]
[null,null,null,null,null,null,null,null,null,null,{"$f":"SUMPRODUCT($D$8:D1203-$I$8:I1203)","v":30893.5}]
[null,null,null,null,null,null,null,null,null,null,{"$f":"SUMPRODUCT($D$8:D1204-$I$8:I1204)","v":30893.5}]
[null,null,null,null,null,null,null,null,null,null,{"$f":"SUMPRODUCT($D$8:D1205-$I$8:I1205)","v":30893.5}]
[null,null,null,null,null,null,null,null,null,null,{"$f":"SUMPRODUCT($D$8:D1206-$I$8:I1206)","v":30893.5}]
[null,null,null,null,null,null,null,null,null,null,{"$f":"SUMPRODUCT($D$8:D1207-$I$8:I1207)","v":30893.5}]
[null,null,null,null,null,null,null,null,null,null,{"$f":"SUMPRODUCT($D$8:D1208-$I$8:I1208)","v":30893.5}]
[null,null,null,null,null,null,null,null,null,null,{"$f":"SUMPRODUCT($D$8:D1209-$I$8:I1209)","v":30893.5}]
[null,null,null,null,null,null,null,null,null,null,{"$f":"SUMPRODUCT($D$8:D1210-$I$8:I1210)","v":30893.5}]
[null,null,null,null,null,null,null,null,null,null,{"$f":"SUMPRODUCT($D$8:D1211-$I$8:I1211)","v":30893.5}]
[null,null,null,null,null,null,null,null,null,null,{"$f":"SUMPRODUCT($D$8:D1212-$I$8:I1212)","v":30893.5}]
[null,null,null,null,null,null,null,null,null,null,{"$f":"SUMPRODUCT($D$8:D1213-$I$8:I1213)","v":30893.5}]
[null,null,null,null,null,null,null,null,null,null,{"$f":"SUMPRODUCT($D$8:D1214-$I$8:I1214)","v":30893.5}]
[null,null,null,null,null,null,null,null,null,null,{"$f":"SUMPRODUCT($D$8:D1215-$I$8:I1215)","v":30893.5}]
[null,null,null,null,null,null,null,null,null,null,{"$f":"SUMPRODUCT($D$8:D1216-$I$8:I1216)","v":30893.5}]
[null,null,null,null,null,null,null,null,null,null,{"$f":"SUMPRODUCT($D$8:D1217-$I$8:I1217)","v":30893.5}]
[null,null,null,null,null,null,null,null,null,null,{"$f":"SUMPRODUCT($D$8:D1218-$I$8:I1218)","v":30893.5}]
[null,null,null,null,null,null,null,null,null,null,{"$f":"SUMPRODUCT($D$8:D1219-$I$8:I1219)","v":30893.5}]
[null,null,null,null,null,null,null,null,null,null,{"$f":"SUMPRODUCT($D$8:D1220-$I$8:I1220)","v":30893.5}]
[null,null,null,null,null,null,null,null,null,null,{"$f":"SUMPRODUCT($D$8:D1221-$I$8:I1221)","v":30893.5}]
[null,null,null,null,null,null,null,null,null,null,{"$f":"SUMPRODUCT($D$8:D1222-$I$8:I1222)","v":30893.5}]
[null,null,null,null,null,null,null,null,null,null,{"$f":"SUMPRODUCT($D$8:D1223-$I$8:I1223)","v":30893.5}]
[null,null,null,null,null,null,null,null,null,null,{"$f":"SUMPRODUCT($D$8:D1224-$I$8:I1224)","v":30893.5}]
[null,null,null,null,null,null,null,null,null,null,{"$f":"SUMPRODUCT($D$8:D1225-$I$8:I1225)","v":30893.5}]
[null,null,null,null,null,null,null,null,null,null,{"$f":"SUMPRODUCT($D$8:D1226-$I$8:I1226)","v":30893.5}]
[null,null,null,null,null,null,null,null,null,null,{"$f":"SUMPRODUCT($D$8:D1227-$I$8:I1227)","v":30893.5}]
[null,null,null,null,null,null,null,null,null,null,{"$f":"SUMPRODUCT($D$8:D1228-$I$8:I1228)","v":30893.5}]
[null,null,null,null,null,null,null,null,null,null,{"$f":"SUMPRODUCT($D$8:D1229-$I$8:I1229)","v":30893.5}]
[null,null,null,null,null,null,null,null,null,null,{"$f":"SUMPRODUCT($D$8:D1230-$I$8:I1230)","v":30893.5}]
[null,null,null,null,null,null,null,null,null,null,{"$f":"SUMPRODUCT($D$8:D1231-$I$8:I1231)","v":30893.5}]
[null,null,null,null,null,null,null,null,null,null,{"$f":"SUMPRODUCT($D$8:D1232-$I$8:I1232)","v":30893.5}]
[null,null,null,null,null,null,null,null,null,null,{"$f":"SUMPRODUCT($D$8:D1233-$I$8:I1233)","v":30893.5}]
[null,null,null,null,null,null,null,null,null,null,{"$f":"SUMPRODUCT($D$8:D1234-$I$8:I1234)","v":30893.5}]
[null,null,null,null,null,null,null,null,null,null,{"$f":"SUMPRODUCT($D$8:D1235-$I$8:I1235)","v":30893.5}]
[null,null,null,null,null,null,null,null,null,null,{"$f":"SUMPRODUCT($D$8:D1236-$I$8:I1236)","v":30893.5}]
[null,null,null,null,null,null,null,null,null,null,{"$f":"SUMPRODUCT($D$8:D1237-$I$8:I1237)","v":30893.5}]
[null,null,null,null,null,null,null,null,null,null,{"$f":"SUMPRODUCT($D$8:D1238-$I$8:I1238)","v":30893.5}]
[null,null,null,null,null,null,null,null,null,null,{"$f":"SUMPRODUCT($D$8:D1239-$I$8:I1239)","v":30893.5}]
[null,null,null,null,null,null,null,null,null,null,{"$f":"SUMPRODUCT($D$8:D1240-$I$8:I1240)","v":30893.5}]
[null,null,null,null,null,null,null,null,null,null,{"$f":"SUMPRODUCT($D$8:D1241-$I$8:I1241)","v":30893.5}]
[null,null,null,null,null,null,null,null,null,null,{"$f":"SUMPRODUCT($D$8:D1242-$I$8:I1242)","v":30893.5}]
[null,null,null,null,null,null,null,null,null,null,{"$f":"SUMPRODUCT($D$8:D1243-$I$8:I1243)","v":30893.5}]
[null,null,null,null,null,null,null,null,null,null,{"$f":"SUMPRODUCT($D$8:D1244-$I$8:I1244)","v":30893.5}]
[null,null,null,null,null,null,null,null,null,null,{"$f":"SUMPRODUCT($D$8:D1245-$I$8:I1245)","v":30893.5}]
[null,null,null,null,null,null,null,null,null,null,{"$f":"SUMPRODUCT($D$8:D1246-$I$8:I1246)","v":30893.5}]
[null,null,null,null,null,null,null,null,null,null,{"$f":"SUMPRODUCT($D$8:D1247-$I$8:I1247)","v":30893.5}]
[null,null,null,null,null,null,null,null,null,null,{"$f":"SUMPRODUCT($D$8:D1248-$I$8:I1248)","v":30893.5}]
[null,null,null,null,null,null,null,null,null,null,{"$f":"SUMPRODUCT($D$8:D1249-$I$8:I1249)","v":30893.5}]
[null,null,null,null,null,null,null,null,null,null,{"$f":"SUMPRODUCT($D$8:D1250-$I$8:I1250)","v":30893.5}]
[null,null,null,null,null,null,null,null,null,null,{"$f":"SUMPRODUCT($D$8:D1251-$I$8:I1251)","v":30893.5}]
[null,null,null,null,null,null,null,null,null,null,{"$f":"SUMPRODUCT($D$8:D1252-$I$8:I1252)","v":30893.5}]
[null,null,null,null,null,null,null,null,null,null,{"$f":"SUMPRODUCT($D$8:D1253-$I$8:I1253)","v":30893.5}]
[null,null,null,null,null,null,null,null,null,null,{"$f":"SUMPRODUCT($D$8:D1254-$I$8:I1254)","v":30893.5}]
[null,null,null,null,null,null,null,null,null,null,{"$f":"SUMPRODUCT($D$8:D1255-$I$8:I1255)","v":30893.5}]
[null,null,null,null,null,null,null,null,null,null,{"$f":"SUMPRODUCT($D$8:D1256-$I$8:I1256)","v":30893.5}]
[null,null,null,null,null,null,null,null,null,null,{"$f":"SUMPRODUCT($D$8:D1257-$I$8:I1257)","v":30893.5}]
[null,null,null,null,null,null,null,null,null,null,{"$f":"SUMPRODUCT($D$8:D1258-$I$8:I1258)","v":30893.5}]
[null,null,null,null,null,null,null,null,null,null,{"$f":"SUMPRODUCT($D$8:D1259-$I$8:I1259)","v":30893.5}]
[null,null,null,null,null,null,null,null,null,null,{"$f":"SUMPRODUCT($D$8:D1260-$I$8:I1260)","v":30893.5}]
[null,null,null,null,null,null,null,null,null,null,{"$f":"SUMPRODUCT($D$8:D1261-$I$8:I1261)","v":30893.5}]
[null,null,null,null,null,null,null,null,null,null,{"$f":"SUMPRODUCT($D$8:D1262-$I$8:I1262)","v":30893.5}]
[null,null,null,null,null,null,null,null,null,null,{"$f":"SUMPRODUCT($D$8:D1263-$I$8:I1263)","v":30893.5}]
[null,null,null,null,null,null,null,null,null,null,{"$f":"SUMPRODUCT($D$8:D1264-$I$8:I1264)","v":30893.5}]
[null,null,null,null,null,null,null,null,null,null,{"$f":"SUMPRODUCT($D$8:D1265-$I$8:I1265)","v":30893.5}]
[null,null,null,null,null,null,null,null,null,null,{"$f":"SUMPRODUCT($D$8:D1266-$I$8:I1266)","v":30893.5}]
[null,null,null,null,null,null,null,null,null,null,{"$f":"SUMPRODUCT($D$8:D1267-$I$8:I1267)","v":30893.5}]
[null,null,null,null,null,null,null,null,null,null,{"$f":"SUMPRODUCT($D$8:D1268-$I$8:I1268)","v":30893.5}]
[null,null,null,null,null,null,null,null,null,null,{"$f":"SUMPRODUCT($D$8:D1269-$I$8:I1269)","v":30893.5}]
[null,null,null,null,null,null,null,null,null,null,{"$f":"SUMPRODUCT($D$8:D1270-$I$8:I1270)","v":30893.5}]
[null,null,null,null,null,null,null,null,null,null,{"$f":"SUMPRODUCT($D$8:D1271-$I$8:I1271)","v":30893.5}]
[null,null,null,null,null,null,null,null,null,null,{"$f":"SUMPRODUCT($D$8:D1272-$I$8:I1272)","v":30893.5}]
[null,null,null,null,null,null,null,null,null,null,{"$f":"SUMPRODUCT($D$8:D1273-$I$8:I1273)","v":30893.5}]
[null,null,null,null,null,null,null,null,null,null,{"$f":"SUMPRODUCT($D$8:D1274-$I$8:I1274)","v":30893.5}]
[null,null,null,null,null,null,null,null,null,null,{"$f":"SUMPRODUCT($D$8:D1275-$I$8:I1275)","v":30893.5}]
[null,null,null,null,null,null,null,null,null,null,{"$f":"SUMPRODUCT($D$8:D1276-$I$8:I1276)","v":30893.5}]
[null,null,null,null,null,null,null,null,null,null,{"$f":"SUMPRODUCT($D$8:D1277-$I$8:I1277)","v":30893.5}]
[null,null,null,null,null,null,null,null,null,null,{"$f":"SUMPRODUCT($D$8:D1278-$I$8:I1278)","v":30893.5}]
[null,null,null,null,null,null,null,null,null,null,{"$f":"SUMPRODUCT($D$8:D1279-$I$8:I1279)","v":30893.5}]
[null,null,null,null,null,null,null,null,null,null,{"$f":"SUMPRODUCT($D$8:D1280-$I$8:I1280)","v":30893.5}]
[null,null,null,null,null,null,null,null,null,null,{"$f":"SUMPRODUCT($D$8:D1281-$I$8:I1281)","v":30893.5}]
[null,null,null,null,null,null,null,null,null,null,{"$f":"SUMPRODUCT($D$8:D1282-$I$8:I1282)","v":30893.5}]
[null,null,null,null,null,null,null,null,null,null,{"$f":"SUMPRODUCT($D$8:D1283-$I$8:I1283)","v":30893.5}]
[null,null,null,null,null,null,null,null,null,null,{"$f":"SUMPRODUCT($D$8:D1284-$I$8:I1284)","v":30893.5}]
[null,null,null,null,null,null,null,null,null,null,{"$f":"SUMPRODUCT($D$8:D1285-$I$8:I1285)","v":30893.5}]
[null,null,null,null,null,null,null,null,null,null,{"$f":"SUMPRODUCT($D$8:D1286-$I$8:I1286)","v":30893.5}]
[null,null,null,null,null,null,null,null,null,null,{"$f":"SUMPRODUCT($D$8:D1287-$I$8:I1287)","v":30893.5}]
[null,null,null,null,null,null,null,null,null,null,{"$f":"SUMPRODUCT($D$8:D1288-$I$8:I1288)","v":30893.5}]
[null,null,null,null,null,null,null,null,null,null,{"$f":"SUMPRODUCT($D$8:D1289-$I$8:I1289)","v":30893.5}]
[null,null,null,null,null,null,null,null,null,null,{"$f":"SUMPRODUCT($D$8:D1290-$I$8:I1290)","v":30893.5}]
[null,null,null,null,null,null,null,null,null,null,{"$f":"SUMPRODUCT($D$8:D1291-$I$8:I1291)","v":30893.5}]
[null,null,null,null,null,null,null,null,null,null,{"$f":"SUMPRODUCT($D$8:D1292-$I$8:I1292)","v":30893.5}]
[null,null,null,null,null,null,null,null,null,null,{"$f":"SUMPRODUCT($D$8:D1293-$I$8:I1293)","v":30893.5}]
[null,null,null,null,null,null,null,null,null,null,{"$f":"SUMPRODUCT($D$8:D1294-$I$8:I1294)","v":30893.5}]
[null,null,null,null,null,null,null,null,null,null,{"$f":"SUMPRODUCT($D$8:D1295-$I$8:I1295)","v":30893.5}]
[null,null,null,null,null,null,null,null,null,null,{"$f":"SUMPRODUCT($D$8:D1296-$I$8:I1296)","v":30893.5}]
[null,null,null,null,null,null,null,null,null,null,{"$f":"SUMPRODUCT($D$8:D1297-$I$8:I1297)","v":30893.5}]
[null,null,null,null,null,null,null,null,null,null,{"$f":"SUMPRODUCT($D$8:D1298-$I$8:I1298)","v":30893.5}]
[null,null,null,null,null,null,null,null,null,null,{"$f":"SUMPRODUCT($D$8:D1299-$I$8:I1299)","v":30893.5}]
[null,null,null,null,null,null,null,null,null,null,{"$f":"SUMPRODUCT($D$8:D1300-$I$8:I1300)","v":30893.5}]
[null,null,null,null,null,null,null,null,null,null,{"$f":"SUMPRODUCT($D$8:D1301-$I$8:I1301)","v":30893.5}]
[null,null,null,null,null,null,null,null,null,null,{"$f":"SUMPRODUCT($D$8:D1302-$I$8:I1302)","v":30893.5}]
[null,null,null,null,null,null,null,null,null,null,{"$f":"SUMPRODUCT($D$8:D1303-$I$8:I1303)","v":30893.5}]
[null,null,null,null,null,null,null,null,null,null,{"$f":"SUMPRODUCT($D$8:D1304-$I$8:I1304)","v":30893.5}]
[null,null,null,null,null,null,null,null,null,null,{"$f":"SUMPRODUCT($D$8:D1305-$I$8:I1305)","v":30893.5}]
[null,null,null,null,null,null,null,null,null,null,{"$f":"SUMPRODUCT($D$8:D1306-$I$8:I1306)","v":30893.5}]
[null,null,null,null,null,null,null,null,null,null,{"$f":"SUMPRODUCT($D$8:D1307-$I$8:I1307)","v":30893.5}]
[null,null,null,null,null,null,null,null,null,null,{"$f":"SUMPRODUCT($D$8:D1308-$I$8:I1308)","v":30893.5}]
[null,null,null,null,null,null,null,null,null,null,{"$f":"SUMPRODUCT($D$8:D1309-$I$8:I1309)","v":30893.5}]
[null,null,null,null,null,null,null,null,null,null,{"$f":"SUMPRODUCT($D$8:D1310-$I$8:I1310)","v":30893.5}]
[null,null,null,null,null,null,null,null,null,null,{"$f":"SUMPRODUCT($D$8:D1311-$I$8:I1311)","v":30893.5}]
[null,null,null,null,null,null,null,null,null,null,{"$f":"SUMPRODUCT($D$8:D1312-$I$8:I1312)","v":30893.5}]
[null,null,null,null,null,null,null,null,null,null,{"$f":"SUMPRODUCT($D$8:D1313-$I$8:I1313)","v":30893.5}]
[null,null,null,null,null,null,null,null,null,null,{"$f":"SUMPRODUCT($D$8:D1314-$I$8:I1314)","v":30893.5}]
[null,null,null,null,null,null,null,null,null,null,{"$f":"SUMPRODUCT($D$8:D1315-$I$8:I1315)","v":30893.5}]
[null,null,null,null,null,null,null,null,null,null,{"$f":"SUMPRODUCT($D$8:D1316-$I$8:I1316)","v":30893.5}]
[null,null,null,null,null,null,null,null,null,null,{"$f":"SUMPRODUCT($D$8:D1317-$I$8:I1317)","v":30893.5}]
[null,null,null,null,null,null,null,null,null,null,{"$f":"SUMPRODUCT($D$8:D1318-$I$8:I1318)","v":30893.5}]
[null,null,null,null,null,null,null,null,null,null,{"$f":"SUMPRODUCT($D$8:D1319-$I$8:I1319)","v":30893.5}]
[null,null,null,null,null,null,null,null,null,null,{"$f":"SUMPRODUCT($D$8:D1320-$I$8:I1320)","v":30893.5}]
[null,null,null,null,null,null,null,null,null,null,{"$f":"SUMPRODUCT($D$8:D1321-$I$8:I1321)","v":30893.5}]
[null,null,null,null,null,null,null,null,null,null,{"$f":"SUMPRODUCT($D$8:D1322-$I$8:I1322)","v":30893.5}]
[null,null,null,null,null,null,null,null,null,null,{"$f":"SUMPRODUCT($D$8:D1323-$I$8:I1323)","v":30893.5}]
[null,null,null,null,null,null,null,null,null,null,{"$f":"SUMPRODUCT($D$8:D1324-$I$8:I1324)","v":30893.5}]
[null,null,null,null,null,null,null,null,null,null,{"$f":"SUMPRODUCT($D$8:D1325-$I$8:I1325)","v":30893.5}]
[null,null,null,null,null,null,null,null,null,null,{"$f":"SUMPRODUCT($D$8:D1326-$I$8:I1326)","v":30893.5}]
[null,null,null,null,null,null,null,null,null,null,{"$f":"SUMPRODUCT($D$8:D1327-$I$8:I1327)","v":30893.5}]
[null,null,null,null,null,null,null,null,null,null,{"$f":"SUMPRODUCT($D$8:D1328-$I$8:I1328)","v":30893.5}]
[null,null,null,null,null,null,null,null,null,null,{"$f":"SUMPRODUCT($D$8:D1329-$I$8:I1329)","v":30893.5}]
[null,null,null,null,null,null,null,null,null,null,{"$f":"SUMPRODUCT($D$8:D1330-$I$8:I1330)","v":30893.5}]
[null,null,null,null,null,null,null,null,null,null,{"$f":"SUMPRODUCT($D$8:D1331-$I$8:I1331)","v":30893.5}]
[null,null,null,null,null,null,null,null,null,null,{"$f":"SUMPRODUCT($D$8:D1332-$I$8:I1332)","v":30893.5}]
[null,null,null,null,null,null,null,null,null,null,{"$f":"SUMPRODUCT($D$8:D1333-$I$8:I1333)","v":30893.5}]
[null,null,null,null,null,null,null,null,null,null,{"$f":"SUMPRODUCT($D$8:D1334-$I$8:I1334)","v":30893.5}]
[null,null,null,null,null,null,null,null,null,null,{"$f":"SUMPRODUCT($D$8:D1335-$I$8:I1335)","v":30893.5}]
[null,null,null,null,null,null,null,null,null,null,{"$f":"SUMPRODUCT($D$8:D1336-$I$8:I1336)","v":30893.5}]
[null,null,null,null,null,null,null,null,null,null,{"$f":"SUMPRODUCT($D$8:D1337-$I$8:I1337)","v":30893.5}]
[null,null,null,null,null,null,null,null,null,null,{"$f":"SUMPRODUCT($D$8:D1338-$I$8:I1338)","v":30893.5}]
[null,null,null,null,null,null,null,null,null,null,{"$f":"SUMPRODUCT($D$8:D1339-$I$8:I1339)","v":30893.5}]
[null,null,null,null,null,null,null,null,null,null,{"$f":"SUMPRODUCT($D$8:D1340-$I$8:I1340)","v":30893.5}]
[null,null,null,null,null,null,null,null,null,null,{"$f":"SUMPRODUCT($D$8:D1341-$I$8:I1341)","v":30893.5}]
[null,null,null,null,null,null,null,null,null,null,{"$f":"SUMPRODUCT($D$8:D1342-$I$8:I1342)","v":30893.5}]
[null,null,null,null,null,null,null,null,null,null,{"$f":"SUMPRODUCT($D$8:D1343-$I$8:I1343)","v":30893.5}]
[null,null,null,null,null,null,null,null,null,null,{"$f":"SUMPRODUCT($D$8:D1344-$I$8:I1344)","v":30893.5}]
[null,null,null,null,null,null,null,null,null,null,{"$f":"SUMPRODUCT($D$8:D1345-$I$8:I1345)","v":30893.5}]
[null,null,null,null,null,null,null,null,null,null,{"$f":"SUMPRODUCT($D$8:D1346-$I$8:I1346)","v":30893.5}]
[null,null,null,null,null,null,null,null,null,null,{"$f":"SUMPRODUCT($D$8:D1347-$I$8:I1347)","v":30893.5}]
[null,null,null,null,null,null,null,null,null,null,{"$f":"SUMPRODUCT($D$8:D1348-$I$8:I1348)","v":30893.5}]
[null,null,null,null,null,null,null,null,null,null,{"$f":"SUMPRODUCT($D$8:D1349-$I$8:I1349)","v":30893.5}]
[null,null,null,null,null,null,null,null,null,null,{"$f":"SUMPRODUCT($D$8:D1350-$I$8:I1350)","v":30893.5}]
[null,null,null,null,null,null,null,null,null,null,{"$f":"SUMPRODUCT($D$8:D1351-$I$8:I1351)","v":30893.5}]
[null,null,null,null,null,null,null,null,null,null,{"$f":"SUMPRODUCT($D$8:D1352-$I$8:I1352)","v":30893.5}]
[null,null,null,null,null,null,null,null,null,null,{"$f":"SUMPRODUCT($D$8:D1353-$I$8:I1353)","v":30893.5}]
[null,null,null,null,null,null,null,null,null,null,{"$f":"SUMPRODUCT($D$8:D1354-$I$8:I1354)","v":30893.5}]
[null,null,null,null,null,null,null,null,null,null,{"$f":"SUMPRODUCT($D$8:D1355-$I$8:I1355)","v":30893.5}]
[null,null,null,null,null,null,null,null,null,null,{"$f":"SUMPRODUCT($D$8:D1356-$I$8:I1356)","v":30893.5}]
[null,null,null,null,null,null,null,null,null,null,{"$f":"SUMPRODUCT($D$8:D1357-$I$8:I1357)","v":30893.5}]
[null,null,null,null,null,null,null,null,null,null,{"$f":"SUMPRODUCT($D$8:D1358-$I$8:I1358)","v":30893.5}]
[null,null,null,null,null,null,null,null,null,null,{"$f":"SUMPRODUCT($D$8:D1359-$I$8:I1359)","v":30893.5}]
[null,null,null,null,null,null,null,null,null,null,{"$f":"SUMPRODUCT($D$8:D1360-$I$8:I1360)","v":30893.5}]
[null,null,null,null,null,null,null,null,null,null,{"$f":"SUMPRODUCT($D$8:D1361-$I$8:I1361)","v":30893.5}]
[null,null,null,null,null,null,null,null,null,null,{"$f":"SUMPRODUCT($D$8:D1362-$I$8:I1362)","v":30893.5}]
[null,null,null,null,null,null,null,null,null,null,{"$f":"SUMPRODUCT($D$8:D1363-$I$8:I1363)","v":30893.5}]
[null,null,null,null,null,null,null,null,null,null,{"$f":"SUMPRODUCT($D$8:D1364-$I$8:I1364)","v":30893.5}]
[null,null,null,null,null,null,null,null,null,null,{"$f":"SUMPRODUCT($D$8:D1365-$I$8:I1365)","v":30893.5}]
[null,null,null,null,null,null,null,null,null,null,{"$f":"SUMPRODUCT($D$8:D1366-$I$8:I1366)","v":30893.5}]
[null,null,null,null,null,null,null,null,null,null,{"$f":"SUMPRODUCT($D$8:D1367-$I$8:I1367)","v":30893.5}]
[null,null,null,null,null,null,null,null,null,null,{"$f":"SUMPRODUCT($D$8:D1368-$I$8:I1368)","v":30893.5}]
[null,null,null,null,null,null,null,null,null,null,{"$f":"SUMPRODUCT($D$8:D1369-$I$8:I1369)","v":30893.5}]
[null,null,null,null,null,null,null,null,null,null,{"$f":"SUMPRODUCT($D$8:D1370-$I$8:I1370)","v":30893.5}]
[null,null,null,null,null,null,null,null,null,null,{"$f":"SUMPRODUCT($D$8:D1371-$I$8:I1371)","v":30893.5}]
[null,null,null,null,null,null,null,null,null,null,{"$f":"SUMPRODUCT($D$8:D1372-$I$8:I1372)","v":30893.5}]
[null,null,null,null,null,null,null,null,null,null,{"$f":"SUMPRODUCT($D$8:D1373-$I$8:I1373)","v":30893.5}]
[null,null,null,null,null,null,null,null,null,null,{"$f":"SUMPRODUCT($D$8:D1374-$I$8:I1374)","v":30893.5}]
[null,null,null,null,null,null,null,null,null,null,{"$f":"SUMPRODUCT($D$8:D1375-$I$8:I1375)","v":30893.5}]
[null,null,null,null,null,null,null,null,null,null,{"$f":"SUMPRODUCT($D$8:D1376-$I$8:I1376)","v":30893.5}]
[null,null,null,null,null,null,null,null,null,null,{"$f":"SUMPRODUCT($D$8:D1377-$I$8:I1377)","v":30893.5}]
[null,null,null,null,null,null,null,null,null,null,{"$f":"SUMPRODUCT($D$8:D1378-$I$8:I1378)","v":30893.5}]
[null,null,null,null,null,null,null,null,null,null,{"$f":"SUMPRODUCT($D$8:D1379-$I$8:I1379)","v":30893.5}]
[null,null,null,null,null,null,null,null,null,null,{"$f":"SUMPRODUCT($D$8:D1380-$I$8:I1380)","v":30893.5}]
[null,null,null,null,null,null,null,null,null,null,{"$f":"SUMPRODUCT($D$8:D1381-$I$8:I1381)","v":30893.5}]
[null,null,null,null,null,null,null,null,null,null,{"$f":"SUMPRODUCT($D$8:D1382-$I$8:I1382)","v":30893.5}]
[null,null,null,null,null,null,null,null,null,null,{"$f":"SUMPRODUCT($D$8:D1383-$I$8:I1383)","v":30893.5}]
[null,null,null,null,null,null,null,null,null,null,{"$f":"SUMPRODUCT($D$8:D1384-$I$8:I1384)","v":30893.5}]
[null,null,null,null,null,null,null,null,null,null,{"$f":"SUMPRODUCT($D$8:D1385-$I$8:I1385)","v":30893.5}]
[null,null,null,null,null,null,null,null,null,null,{"$f":"SUMPRODUCT($D$8:D1386-$I$8:I1386)","v":30893.5}]
[null,null,null,null,null,null,null,null,null,null,{"$f":"SUMPRODUCT($D$8:D1387-$I$8:I1387)","v":30893.5}]
[null,null,null,null,null,null,null,null,null,null,{"$f":"SUMPRODUCT($D$8:D1388-$I$8:I1388)","v":30893.5}]
[null,null,null,null,null,null,null,null,null,null,{"$f":"SUMPRODUCT($D$8:D1389-$I$8:I1389)","v":30893.5}]
[null,null,null,null,null,null,null,null,null,null,{"$f":"SUMPRODUCT($D$8:D1390-$I$8:I1390)","v":30893.5}]
[null,null,null,null,null,null,null,null,null,null,{"$f":"SUMPRODUCT($D$8:D1391-$I$8:I1391)","v":30893.5}]
[null,null,null,null,null,null,null,null,null,null,{"$f":"SUMPRODUCT($D$8:D1392-$I$8:I1392)","v":30893.5}]
[null,null,null,null,null,null,null,null,null,null,{"$f":"SUMPRODUCT($D$8:D1393-$I$8:I1393)","v":30893.5}]
[null,null,null,null,null,null,null,null,null,null,{"$f":"SUMPRODUCT($D$8:D1394-$I$8:I1394)","v":30893.5}]
[null,null,null,null,null,null,null,null,null,null,{"$f":"SUMPRODUCT($D$8:D1395-$I$8:I1395)","v":30893.5}]
[null,null,null,null,null,null,null,null,null,null,{"$f":"SUMPRODUCT($D$8:D1396-$I$8:I1396)","v":30893.5}]
[null,null,null,null,null,null,null,null,null,null,{"$f":"SUMPRODUCT($D$8:D1397-$I$8:I1397)","v":30893.5}]
[null,null,null,null,null,null,null,null,null,null,{"$f":"SUMPRODUCT($D$8:D1398-$I$8:I1398)","v":30893.5}]
[null,null,null,null,null,null,null,null,null,null,{"$f":"SUMPRODUCT($D$8:D1399-$I$8:I1399)","v":30893.5}]
[null,null,null,null,null,null,null,null,null,null,{"$f":"SUMPRODUCT($D$8:D1400-$I$8:I1400)","v":30893.5}]
[null,null,null,null,null,null,null,null,null,null,{"$f":"SUMPRODUCT($D$8:D1401-$I$8:I1401)","v":30893.5}]
[null,null,null,null,null,null,null,null,null,null,{"$f":"SUMPRODUCT($D$8:D1402-$I$8:I1402)","v":30893.5}]
[null,null,null,null,null,null,null,null,null,null,{"$f":"SUMPRODUCT($D$8:D1403-$I$8:I1403)","v":30893.5}]
[null,null,null,null,null,null,null,null,null,null,{"$f":"SUMPRODUCT($D$8:D1404-$I$8:I1404)","v":30893.5}]
[null,null,null,null,null,null,null,null,null,null,{"$f":"SUMPRODUCT($D$8:D1405-$I$8:I1405)","v":30893.5}]
[null,null,null,null,null,null,null,null,null,null,{"$f":"SUMPRODUCT($D$8:D1406-$I$8:I1406)","v":30893.5}]
[null,null,null,null,null,null,null,null,null,null,{"$f":"SUMPRODUCT($D$8:D1407-$I$8:I1407)","v":30893.5}]
[null,null,null,null,null,null,null,null,null,null,{"$f":"SUMPRODUCT($D$8:D1408-$I$8:I1408)","v":30893.5}]
[null,null,null,null,null,null,null,null,null,null,{"$f":"SUMPRODUCT($D$8:D1409-$I$8:I1409)","v":30893.5}]
[null,null,null,null,null,null,null,null,null,null,{"$f":"SUMPRODUCT($D$8:D1410-$I$8:I1410)","v":30893.5}]
[null,null,null,null,null,null,null,null,null,null,{"$f":"SUMPRODUCT($D$8:D1411-$I$8:I1411)","v":30893.5}]
[null,null,null,null,null,null,null,null,null,null,{"$f":"SUMPRODUCT($D$8:D1412-$I$8:I1412)","v":30893.5}]
[null,null,null,null,null,null,null,null,null,null,{"$f":"SUMPRODUCT($D$8:D1413-$I$8:I1413)","v":30893.5}]
[null,null,null,null,null,null,null,null,null,null,{"$f":"SUMPRODUCT($D$8:D1414-$I$8:I1414)","v":30893.5}]
[null,null,null,null,null,null,null,null,null,null,{"$f":"SUMPRODUCT($D$8:D1415-$I$8:I1415)","v":30893.5}]
[null,null,null,null,null,null,null,null,null,null,{"$f":"SUMPRODUCT($D$8:D1416-$I$8:I1416)","v":30893.5}]
[null,null,null,null,null,null,null,null,null,null,{"$f":"SUMPRODUCT($D$8:D1417-$I$8:I1417)","v":30893.5}]
[null,null,null,null,null,null,null,null,null,null,{"$f":"SUMPRODUCT($D$8:D1418-$I$8:I1418)","v":30893.5}]
[null,null,null,null,null,null,null,null,null,null,{"$f":"SUMPRODUCT($D$8:D1419-$I$8:I1419)","v":30893.5}]
[null,null,null,null,null,null,null,null,null,null,{"$f":"SUMPRODUCT($D$8:D1420-$I$8:I1420)","v":30893.5}]
[null,null,null,null,null,null,null,null,null,null,{"$f":"SUMPRODUCT($D$8:D1421-$I$8:I1421)","v":30893.5}]
[null,null,null,null,null,null,null,null,null,null,{"$f":"SUMPRODUCT($D$8:D1422-$I$8:I1422)","v":30893.5}]
[null,null,null,null,null,null,null,null,null,null,{"$f":"SUMPRODUCT($D$8:D1423-$I$8:I1423)","v":30893.5}]
[null,null,null,null,null,null,null,null,null,null,{"$f":"SUMPRODUCT($D$8:D1424-$I$8:I1424)","v":30893.5}]
[null,null,null,null,null,null,null,null,null,null,{"$f":"SUMPRODUCT($D$8:D1425-$I$8:I1425)","v":30893.5}]
[null,null,null,null,null,null,null,null,null,null,{"$f":"SUMPRODUCT($D$8:D1426-$I$8:I1426)","v":30893.5}]
[null,null,null,null,null,null,null,null,null,null,{"$f":"SUMPRODUCT($D$8:D1427-$I$8:I1427)","v":30893.5}]
[null,null,null,null,null,null,null,null,null,null,{"$f":"SUMPRODUCT($D$8:D1428-$I$8:I1428)","v":30893.5}]
[null,null,null,null,null,null,null,null,null,null,{"$f":"SUMPRODUCT($D$8:D1429-$I$8:I1429)","v":30893.5}]
[null,null,null,null,null,null,null,null,null,null,{"$f":"SUMPRODUCT($D$8:D1430-$I$8:I1430)","v":30893.5}]
[null,null,null,null,null,null,null,null,null,null,{"$f":"SUMPRODUCT($D$8:D1431-$I$8:I1431)","v":30893.5}]
[null,null,null,null,null,null,null,null,null,null,{"$f":"SUMPRODUCT($D$8:D1432-$I$8:I1432)","v":30893.5}]
[null,null,null,null,null,null,null,null,null,null,{"$f":"SUMPRODUCT($D$8:D1433-$I$8:I1433)","v":30893.5}]
[null,null,null,null,null,null,null,null,null,null,{"$f":"SUMPRODUCT($D$8:D1434-$I$8:I1434)","v":30893.5}]
[null,null,null,null,null,null,null,null,null,null,{"$f":"SUMPRODUCT($D$8:D1435-$I$8:I1435)","v":30893.5}]
[null,null,null,null,null,null,null,null,null,null,{"$f":"SUMPRODUCT($D$8:D1436-$I$8:I1436)","v":30893.5}]
[null,null,null,null,null,null,null,null,null,null,{"$f":"SUMPRODUCT($D$8:D1437-$I$8:I1437)","v":30893.5}]
[null,null,null,null,null,null,null,null,null,null,{"$f":"SUMPRODUCT($D$8:D1438-$I$8:I1438)","v":30893.5}]
[null,null,null,null,null,null,null,null,null,null,{"$f":"SUMPRODUCT($D$8:D1439-$I$8:I1439)","v":30893.5}]
[null,null,null,null,null,null,null,null,null,null,{"$f":"SUMPRODUCT($D$8:D1440-$I$8:I1440)","v":30893.5}]
[null,null,null,null,null,null,null,null,null,null,{"$f":"SUMPRODUCT($D$8:D1441-$I$8:I1441)","v":30893.5}]
[null,null,null,null,null,null,null,null,null,null,{"$f":"SUMPRODUCT($D$8:D1442-$I$8:I1442)","v":30893.5}]
[null,null,null,null,null,null,null,null,null,null,{"$f":"SUMPRODUCT($D$8:D1443-$I$8:I1443)","v":30893.5}]
[null,null,null,null,null,null,null,null,null,null,{"$f":"SUMPRODUCT($D$8:D1444-$I$8:I1444)","v":30893.5}]
[null,null,null,null,null,null,null,null,null,null,{"$f":"SUMPRODUCT($D$8:D1445-$I$8:I1445)","v":30893.5}]
[null,null,null,null,null,null,null,null,null,null,{"$f":"SUMPRODUCT($D$8:D1446-$I$8:I1446)","v":30893.5}]
[null,null,null,null,null,null,null,null,null,null,{"$f":"SUMPRODUCT($D$8:D1447-$I$8:I1447)","v":30893.5}]
[null,null,null,null,null,null,null,null,null,null,{"$f":"SUMPRODUCT($D$8:D1448-$I$8:I1448)","v":30893.5}]
[null,null,null,null,null,null,null,null,null,null,{"$f":"SUMPRODUCT($D$8:D1449-$I$8:I1449)","v":30893.5}]
[null,null,null,null,null,null,null,null,null,null,{"$f":"SUMPRODUCT($D$8:D1450-$I$8:I1450)","v":30893.5}]
[null,null,null,null,null,null,null,null,null,null,{"$f":"SUMPRODUCT($D$8:D1451-$I$8:I1451)","v":30893.5}]
[null,null,null,null,null,null,null,null,null,null,{"$f":"SUMPRODUCT($D$8:D1452-$I$8:I1452)","v":30893.5}]
[null,null,null,null,null,null,null,null,null,null,{"$f":"SUMPRODUCT($D$8:D1453-$I$8:I1453)","v":30893.5}]
[null,null,null,null,null,null,null,null,null,null,{"$f":"SUMPRODUCT($D$8:D1454-$I$8:I1454)","v":30893.5}]
[null,null,null,null,null,null,null,null,null,null,{"$f":"SUMPRODUCT($D$8:D1455-$I$8:I1455)","v":30893.5}]
[null,null,null,null,null,null,null,null,null,null,{"$f":"SUMPRODUCT($D$8:D1456-$I$8:I1456)","v":30893.5}]
[null,null,null,null,null,null,null,null,null,null,{"$f":"SUMPRODUCT($D$8:D1457-$I$8:I1457)","v":30893.5}]
[null,null,null,null,null,null,null,null,null,null,{"$f":"SUMPRODUCT($D$8:D1458-$I$8:I1458)","v":30893.5}]
[null,null,null,null,null,null,null,null,null,null,{"$f":"SUMPRODUCT($D$8:D1459-$I$8:I1459)","v":30893.5}]
[null,null,null,null,null,null,null,null,null,null,{"$f":"SUMPRODUCT($D$8:D1460-$I$8:I1460)","v":30893.5}]
[null,null,null,null,null,null,null,null,null,null,{"$f":"SUMPRODUCT($D$8:D1461-$I$8:I1461)","v":30893.5}]
[null,null,null,null,null,null,null,null,null,null,{"$f":"SUMPRODUCT($D$8:D1462-$I$8:I1462)","v":30893.5}]
[null,null,null,null,null,null,null,null,null,null,{"$f":"SUMPRODUCT($D$8:D1463-$I$8:I1463)","v":30893.5}]
[null,null,null,null,null,null,null,null,null,null,{"$f":"SUMPRODUCT($D$8:D1464-$I$8:I1464)","v":30893.5}]
[null,null,null,null,null,null,null,null,null,null,{"$f":"SUMPRODUCT($D$8:D1465-$I$8:I1465)","v":30893.5}]
[null,null,null,null,null,null,null,null,null,null,{"$f":"SUMPRODUCT($D$8:D1466-$I$8:I1466)","v":30893.5}]
[null,null,null,null,null,null,null,null,null,null,{"$f":"SUMPRODUCT($D$8:D1467-$I$8:I1467)","v":30893.5}]
[null,null,null,null,null,null,null,null,null,null,{"$f":"SUMPRODUCT($D$8:D1468-$I$8:I1468)","v":30893.5}]
[null,null,null,null,null,null,null,null,null,null,{"$f":"SUMPRODUCT($D$8:D1469-$I$8:I1469)","v":30893.5}]
[null,null,null,null,null,null,null,null,null,null,{"$f":"SUMPRODUCT($D$8:D1470-$I$8:I1470)","v":30893.5}]
[null,null,null,null,null,null,null,null,null,null,{"$f":"SUMPRODUCT($D$8:D1471-$I$8:I1471)","v":30893.5}]
[null,null,null,null,null,null,null,null,null,null,{"$f":"SUMPRODUCT($D$8:D1472-$I$8:I1472)","v":30893.5}]
[null,null,null,null,null,null,null,null,null,null,{"$f":"SUMPRODUCT($D$8:D1473-$I$8:I1473)","v":30893.5}]
[null,null,null,null,null,null,null,null,null,null,{"$f":"SUMPRODUCT($D$8:D1474-$I$8:I1474)","v":30893.5}]
[null,null,null,null,null,null,null,null,null,null,{"$f":"SUMPRODUCT($D$8:D1475-$I$8:I1475)","v":30893.5}]
[null,null,null,null,null,null,null,null,null,null,{"$f":"SUMPRODUCT($D$8:D1476-$I$8:I1476)","v":30893.5}]
[null,null,null,null,null,null,null,null,null,null,{"$f":"SUMPRODUCT($D$8:D1477-$I$8:I1477)","v":30893.5}]
[null,null,null,null,null,null,null,null,null,null,{"$f":"SUMPRODUCT($D$8:D1478-$I$8:I1478)","v":30893.5}]
[null,null,null,null,null,null,null,null,null,null,{"$f":"SUMPRODUCT($D$8:D1479-$I$8:I1479)","v":30893.5}]
[null,null,null,null,null,null,null,null,null,null,{"$f":"SUMPRODUCT($D$8:D1480-$I$8:I1480)","v":30893.5}]
[null,null,null,null,null,null,null,null,null,null,{"$f":"SUMPRODUCT($D$8:D1481-$I$8:I1481)","v":30893.5}]
[null,null,null,null,null,null,null,null,null,null,{"$f":"SUMPRODUCT($D$8:D1482-$I$8:I1482)","v":30893.5}]
[null,null,null,null,null,null,null,null,null,null,{"$f":"SUMPRODUCT($D$8:D1483-$I$8:I1483)","v":30893.5}]
[null,null,null,null,null,null,null,null,null,null,{"$f":"SUMPRODUCT($D$8:D1484-$I$8:I1484)","v":30893.5}]
[null,null,null,null,null,null,null,null,null,null,{"$f":"SUMPRODUCT($D$8:D1485-$I$8:I1485)","v":30893.5}]
[null,null,null,null,null,null,null,null,null,null,{"$f":"SUMPRODUCT($D$8:D1486-$I$8:I1486)","v":30893.5}]
[null,null,null,null,null,null,null,null,null,null,{"$f":"SUMPRODUCT($D$8:D1487-$I$8:I1487)","v":30893.5}]
[null,null,null,null,null,null,null,null,null,null,{"$f":"SUMPRODUCT($D$8:D1488-$I$8:I1488)","v":30893.5}]
[null,null,null,null,null,null,null,null,null,null,{"$f":"SUMPRODUCT($D$8:D1489-$I$8:I1489)","v":30893.5}]
[null,null,null,null,null,null,null,null,null,null,{"$f":"SUMPRODUCT($D$8:D1490-$I$8:I1490)","v":30893.5}]
[null,null,null,null,null,null,null,null,null,null,{"$f":"SUMPRODUCT($D$8:D1491-$I$8:I1491)","v":30893.5}]
[null,null,null,null,null,null,null,null,null,null,{"$f":"SUMPRODUCT($D$8:D1492-$I$8:I1492)","v":30893.5}]
[null,null,null,null,null,null,null,null,null,null,{"$f":"SUMPRODUCT($D$8:D1493-$I$8:I1493)","v":30893.5}]
[null,null,null,null,null,null,null,null,null,null,{"$f":"SUMPRODUCT($D$8:D1494-$I$8:I1494)","v":30893.5}]
[null,null,null,null,null,null,null,null,null,null,{"$f":"SUMPRODUCT($D$8:D1495-$I$8:I1495)","v":30893.5}]
[null,null,null,null,null,null,null,null,null,null,{"$f":"SUMPRODUCT($D$8:D1496-$I$8:I1496)","v":30893.5}]
[null,null,null,null,null,null,null,null,null,null,{"$f":"SUMPRODUCT($D$8:D1497-$I$8:I1497)","v":30893.5}]
[null,null,null,null,null,null,null,null,null,null,{"$f":"SUMPRODUCT($D$8:D1498-$I$8:I1498)","v":30893.5}]
[null,null,null,null,null,null,null,null,null,null,{"$f":"SUMPRODUCT($D$8:D1499-$I$8:I1499)","v":30893.5}]
[null,null,null,null,null,null,null,null,null,null,{"$f":"SUMPRODUCT($D$8:D1500-$I$8:I1500)","v":30893.5}]
[null,null,null,null,null,null,null,null,null,null,{"$f":"SUMPRODUCT($D$8:D1501-$I$8:I1501)","v":30893.5}]
[null,null,null,null,null,null,null,null,null,null,{"$f":"SUMPRODUCT($D$8:D1502-$I$8:I1502)","v":30893.5}]
[null,null,null,null,null,null,null,null,null,null,{"$f":"SUMPRODUCT($D$8:D1503-$I$8:I1503)","v":30893.5}]
[null,null,null,null,null,null,null,null,null,null,{"$f":"SUMPRODUCT($D$8:D1504-$I$8:I1504)","v":30893.5}]
[null,null,null,null,null,null,null,null,null,null,{"$f":"SUMPRODUCT($D$8:D1505-$I$8:I1505)","v":30893.5}]
[null,null,null,null,null,null,null,null,null,null,{"$f":"SUMPRODUCT($D$8:D1506-$I$8:I1506)","v":30893.5}]
[null,null,null,null,null,null,null,null,null,null,{"$f":"SUMPRODUCT($D$8:D1507-$I$8:I1507)","v":30893.5}]
[null,null,null,null,null,null,null,null,null,null,{"$f":"SUMPRODUCT($D$8:D1508-$I$8:I1508)","v":30893.5}]
[null,null,null,null,null,null,null,null,null,null,{"$f":"SUMPRODUCT($D$8:D1509-$I$8:I1509)","v":30893.5}]
[null,null,null,null,null,null,null,null,null,null,{"$f":"SUMPRODUCT($D$8:D1510-$I$8:I1510)","v":30893.5}]
[null,null,null,null,null,null,null,null,null,null,{"$f":"SUMPRODUCT($D$8:D1511-$I$8:I1511)","v":30893.5}]
[null,null,null,null,null,null,null,null,null,null,{"$f":"SUMPRODUCT($D$8:D1512-$I$8:I1512)","v":30893.5}]
[null,null,null,null,null,null,null,null,null,null,{"$f":"SUMPRODUCT($D$8:D1513-$I$8:I1513)","v":30893.5}]
[null,null,null,null,null,null,null,null,null,null,{"$f":"SUMPRODUCT($D$8:D1514-$I$8:I1514)","v":30893.5}]
[null,null,null,null,null,null,null,null,null,null,{"$f":"SUMPRODUCT($D$8:D1515-$I$8:I1515)","v":30893.5}]
[null,null,null,null,null,null,null,null,null,null,{"$f":"SUMPRODUCT($D$8:D1516-$I$8:I1516)","v":30893.5}]
[null,null,null,null,null,null,null,null,null,null,{"$f":"SUMPRODUCT($D$8:D1517-$I$8:I1517)","v":30893.5}]
[null,null,null,null,null,null,null,null,null,null,{"$f":"SUMPRODUCT($D$8:D1518-$I$8:I1518)","v":30893.5}]
[null,null,null,null,null,null,null,null,null,null,{"$f":"SUMPRODUCT($D$8:D1519-$I$8:I1519)","v":30893.5}]
[null,null,null,null,null,null,null,null,null,null,{"$f":"SUMPRODUCT($D$8:D1520-$I$8:I1520)","v":30893.5}]
[null,null,null,null,null,null,null,null,null,null,{"$f":"SUMPRODUCT($D$8:D1521-$I$8:I1521)","v":30893.5}]
[null,null,null,null,null,null,null,null,null,null,{"$f":"SUMPRODUCT($D$8:D1522-$I$8:I1522)","v":30893.5}]
[null,null,null,null,null,null,null,null,null,null,{"$f":"SUMPRODUCT($D$8:D1523-$I$8:I1523)","v":30893.5}]
[null,null,null,null,null,null,null,null,null,null,{"$f":"SUMPRODUCT($D$8:D1524-$I$8:I1524)","v":30893.5}]
[null,null,null,null,null,null,null,null,null,null,{"$f":"SUMPRODUCT($D$8:D1525-$I$8:I1525)","v":30893.5}]
[null,null,null,null,null,null,null,null,null,null,{"$f":"SUMPRODUCT($D$8:D1526-$I$8:I1526)","v":30893.5}]
[null,null,null,null,null,null,null,null,null,null,{"$f":"SUMPRODUCT($D$8:D1527-$I$8:I1527)","v":30893.5}]
[null,null,null,null,null,null,null,null,null,null,{"$f":"SUMPRODUCT($D$8:D1528-$I$8:I1528)","v":30893.5}]
[null,null,null,null,null,null,null,null,null,null,{"$f":"SUMPRODUCT($D$8:D1529-$I$8:I1529)","v":30893.5}]
[null,null,null,null,null,null,null,null,null,null,{"$f":"SUMPRODUCT($D$8:D1530-$I$8:I1530)","v":30893.5}]
[null,null,null,null,null,null,null,null,null,null,{"$f":"SUMPRODUCT($D$8:D1531-$I$8:I1531)","v":30893.5}]
[null,null,null,null,null,null,null,null,null,null,{"$f":"SUMPRODUCT($D$8:D1532-$I$8:I1532)","v":30893.5}]
[null,null,null,null,null,null,null,null,null,null,{"$f":"SUMPRODUCT($D$8:D1533-$I$8:I1533)","v":30893.5}]
[null,null,null,null,null,null,null,null,null,null,{"$f":"SUMPRODUCT($D$8:D1534-$I$8:I1534)","v":30893.5}]
[null,null,null,null,null,null,null,null,null,null,{"$f":"SUMPRODUCT($D$8:D1535-$I$8:I1535)","v":30893.5}]
[null,null,null,null,null,null,null,null,null,null,{"$f":"SUMPRODUCT($D$8:D1536-$I$8:I1536)","v":30893.5}]
[null,null,null,null,null,null,null,null,null,null,{"$f":"SUMPRODUCT($D$8:D1537-$I$8:I1537)","v":30893.5}]
[null,null,null,null,null,null,null,null,null,null,{"$f":"SUMPRODUCT($D$8:D1538-$I$8:I1538)","v":30893.5}]
[null,null,null,null,null,null,null,null,null,null,{"$f":"SUMPRODUCT($D$8:D1539-$I$8:I1539)","v":30893.5}]
[null,null,null,null,null,null,null,null,null,null,{"$f":"SUMPRODUCT($D$8:D1540-$I$8:I1540)","v":30893.5}]
[null,null,null,null,null,null,null,null,null,null,{"$f":"SUMPRODUCT($D$8:D1541-$I$8:I1541)","v":30893.5}]
[null,null,null,null,null,null,null,null,null,null,{"$f":"SUMPRODUCT($D$8:D1542-$I$8:I1542)","v":30893.5}]
[null,null,null,null,null,null,null,null,null,null,{"$f":"SUMPRODUCT($D$8:D1543-$I$8:I1543)","v":30893.5}]
[null,null,null,null,null,null,null,null,null,null,{"$f":"SUMPRODUCT($D$8:D1544-$I$8:I1544)","v":30893.5}]
[null,null,null,null,null,null,null,null,null,null,{"$f":"SUMPRODUCT($D$8:D1545-$I$8:I1545)","v":30893.5}]
[null,null,null,null,null,null,null,null,null,null,{"$f":"SUMPRODUCT($D$8:D1546-$I$8:I1546)","v":30893.5}]
[null,null,null,null,null,null,null,null,null,null,{"$f":"SUMPRODUCT($D$8:D1547-$I$8:I1547)","v":30893.5}]
[null,null,null,null,null,null,null,null,null,null,{"$f":"SUMPRODUCT($D$8:D1548-$I$8:I1548)","v":30893.5}]
[null,null,null,null,null,null,null,null,null,null,{"$f":"SUMPRODUCT($D$8:D1549-$I$8:I1549)","v":30893.5}]
[null,null,null,null,null,null,null,null,null,null,{"$f":"SUMPRODUCT($D$8:D1550-$I$8:I1550)","v":30893.5}]
[null,null,null,null,null,null,null,null,null,null,{"$f":"SUMPRODUCT($D$8:D1551-$I$8:I1551)","v":30893.5}]
[null,null,null,null,null,null,null,null,null,null,{"$f":"SUMPRODUCT($D$8:D1552-$I$8:I1552)","v":30893.5}]
[null,null,null,null,null,null,null,null,null,null,{"$f":"SUMPRODUCT($D$8:D1553-$I$8:I1553)","v":30893.5}]
[null,null,null,null,null,null,null,null,null,null,{"$f":"SUMPRODUCT($D$8:D1554-$I$8:I1554)","v":30893.5}]
[null,null,null,null,null,null,null,null,null,null,{"$f":"SUMPRODUCT($D$8:D1555-$I$8:I1555)","v":30893.5}]
[null,null,null,null,null,null,null,null,null,null,{"$f":"SUMPRODUCT($D$8:D1556-$I$8:I1556)","v":30893.5}]
[null,null,null,null,null,null,null,null,null,null,{"$f":"SUMPRODUCT($D$8:D1557-$I$8:I1557)","v":30893.5}]
[null,null,null,null,null,null,null,null,null,null,{"$f":"SUMPRODUCT($D$8:D1558-$I$8:I1558)","v":30893.5}]
[null,null,null,null,null,null,null,null,null,null,{"$f":"SUMPRODUCT($D$8:D1559-$I$8:I1559)","v":30893.5}]
[null,null,null,null,null,null,null,null,null,null,{"$f":"SUMPRODUCT($D$8:D1560-$I$8:I1560)","v":30893.5}]
[null,null,null,null,null,null,null,null,null,null,{"$f":"SUMPRODUCT($D$8:D1561-$I$8:I1561)","v":30893.5}]
[null,null,null,null,null,null,null,null,null,null,{"$f":"SUMPRODUCT($D$8:D1562-$I$8:I1562)","v":30893.5}]
[null,null,null,null,null,null,null,null,null,null,{"$f":"SUMPRODUCT($D$8:D1563-$I$8:I1563)","v":30893.5}]
[null,null,null,null,null,null,null,null,null,null,{"$f":"SUMPRODUCT($D$8:D1564-$I$8:I1564)","v":30893.5}]
[null,null,null,null,null,null,null,null,null,null,{"$f":"SUMPRODUCT($D$8:D1565-$I$8:I1565)","v":30893.5}]
[null,null,null,null,null,null,null,null,null,null,{"$f":"SUMPRODUCT($D$8:D1566-$I$8:I1566)","v":30893.5}]
[null,null,null,null,null,null,null,null,null,null,{"$f":"SUMPRODUCT($D$8:D1567-$I$8:I1567)","v":30893.5}]
[null,null,null,null,null,null,null,null,null,null,{"$f":"SUMPRODUCT($D$8:D1568-$I$8:I1568)","v":30893.5}]
[null,null,null,null,null,null,null,null,null,null,{"$f":"SUMPRODUCT($D$8:D1569-$I$8:I1569)","v":30893.5}]
[null,null,null,null,null,null,null,null,null,null,{"$f":"SUMPRODUCT($D$8:D1570-$I$8:I1570)","v":30893.5}]
[null,null,null,null,null,null,null,null,null,null,{"$f":"SUMPRODUCT($D$8:D1571-$I$8:I1571)","v":30893.5}]
[null,null,null,null,null,null,null,null,null,null,{"$f":"SUMPRODUCT($D$8:D1572-$I$8:I1572)","v":30893.5}]
[null,null,null,null,null,null,null,null,null,null,{"$f":"SUMPRODUCT($D$8:D1573-$I$8:I1573)","v":30893.5}]
[null,null,null,null,null,null,null,null,null,null,{"$f":"SUMPRODUCT($D$8:D1574-$I$8:I1574)","v":30893.5}]
[null,null,null,null,null,null,null,null,null,null,{"$f":"SUMPRODUCT($D$8:D1575-$I$8:I1575)","v":30893.5}]
[null,null,null,null,null,null,null,null,null,null,{"$f":"SUMPRODUCT($D$8:D1576-$I$8:I1576)","v":30893.5}]
[null,null,null,null,null,null,null,null,null,null,{"$f":"SUMPRODUCT($D$8:D1577-$I$8:I1577)","v":30893.5}]
[null,null,null,null,null,null,null,null,null,null,{"$f":"SUMPRODUCT($D$8:D1578-$I$8:I1578)","v":30893.5}]
[null,null,null,null,null,null,null,null,null,null,{"$f":"SUMPRODUCT($D$8:D1579-$I$8:I1579)","v":30893.5}]
[null,null,null,null,null,null,null,null,null,null,{"$f":"SUMPRODUCT($D$8:D1580-$I$8:I1580)","v":30893.5}]
[null,null,null,null,null,null,null,null,null,null,{"$f":"SUMPRODUCT($D$8:D1581-$I$8:I1581)","v":30893.5}]
[null,null,null,null,null,null,null,null,null,null,{"$f":"SUMPRODUCT($D$8:D1582-$I$8:I1582)","v":30893.5}]
[null,null,null,null,null,null,null,null,null,null,{"$f":"SUMPRODUCT($D$8:D1583-$I$8:I1583)","v":30893.5}]
[null,null,null,null,null,null,null,null,null,null,{"$f":"SUMPRODUCT($D$8:D1584-$I$8:I1584)","v":30893.5}]
[null,null,null,null,null,null,null,null,null,null,{"$f":"SUMPRODUCT($D$8:D1585-$I$8:I1585)","v":30893.5}]
[null,null,null,null,null,null,null,null,null,null,{"$f":"SUMPRODUCT($D$8:D1586-$I$8:I1586)","v":30893.5}]
[null,null,null,null,null,null,null,null,null,null,{"$f":"SUMPRODUCT($D$8:D1587-$I$8:I1587)","v":30893.5}]
[null,null,null,null,null,null,null,null,null,null,{"$f":"SUMPRODUCT($D$8:D1588-$I$8:I1588)","v":30893.5}]
[null,null,null,null,null,null,null,null,null,null,{"$f":"SUMPRODUCT($D$8:D1589-$I$8:I1589)","v":30893.5}]
[null,null,null,null,null,null,null,null,null,null,{"$f":"SUMPRODUCT($D$8:D1590-$I$8:I1590)","v":30893.5}]
[null,null,null,null,null,null,null,null,null,null,{"$f":"SUMPRODUCT($D$8:D1591-$I$8:I1591)","v":30893.5}]
[null,null,null,null,null,null,null,null,null,null,{"$f":"SUMPRODUCT($D$8:D1592-$I$8:I1592)","v":30893.5}]
[null,null,null,null,null,null,null,null,null,null,{"$f":"SUMPRODUCT($D$8:D1593-$I$8:I1593)","v":30893.5}]
[null,null,null,null,null,null,null,null,null,null,{"$f":"SUMPRODUCT($D$8:D1594-$I$8:I1594)","v":30893.5}]
[null,null,null,null,null,null,null,null,null,null,{"$f":"SUMPRODUCT($D$8:D1595-$I$8:I1595)","v":30893.5}]
[null,null,null,null,null,null,null,null,null,null,{"$f":"SUMPRODUCT($D$8:D1596-$I$8:I1596)","v":30893.5}]
[null,null,null,null,null,null,null,null,null,null,{"$f":"SUMPRODUCT($D$8:D1597-$I$8:I1597)","v":30893.5}]
[null,null,null,null,null,null,null,null,null,null,{"$f":"SUMPRODUCT($D$8:D1598-$I$8:I1598)","v":30893.5}]
[null,null,null,null,null,null,null,null,null,null,{"$f":"SUMPRODUCT($D$8:D1599-$I$8:I1599)","v":30893.5}]
[null,null,null,null,null,null,null,null,null,null,{"$f":"SUMPRODUCT($D$8:D1600-$I$8:I1600)","v":30893.5}]
[null,null,null,null,null,null,null,null,null,null,{"$f":"SUMPRODUCT($D$8:D1601-$I$8:I1601)","v":30893.5}]
[null,null,null,null,null,null,null,null,null,null,{"$f":"SUMPRODUCT($D$8:D1602-$I$8:I1602)","v":30893.5}]
[null,null,null,null,null,null,null,null,null,null,{"$f":"SUMPRODUCT($D$8:D1603-$I$8:I1603)","v":30893.5}]
[null,null,null,null,null,null,null,null,null,null,{"$f":"SUMPRODUCT($D$8:D1604-$I$8:I1604)","v":30893.5}]
[null,null,null,null,null,null,null,null,null,null,{"$f":"SUMPRODUCT($D$8:D1605-$I$8:I1605)","v":30893.5}]
[null,null,null,null,null,null,null,null,null,null,{"$f":"SUMPRODUCT($D$8:D1606-$I$8:I1606)","v":30893.5}]
[null,null,null,null,null,null,null,null,null,null,{"$f":"SUMPRODUCT($D$8:D1607-$I$8:I1607)","v":30893.5}]
[null,null,null,null,null,null,null,null,null,null,{"$f":"SUMPRODUCT($D$8:D1608-$I$8:I1608)","v":30893.5}]
[null,null,null,null,null,null,null,null,null,null,{"$f":"SUMPRODUCT($D$8:D1609-$I$8:I1609)","v":30893.5}]
[null,null,null,null,null,null,null,null,null,null,{"$f":"SUMPRODUCT($D$8:D1610-$I$8:I1610)","v":30893.5}]
[null,null,null,null,null,null,null,null,null,null,{"$f":"SUMPRODUCT($D$8:D1611-$I$8:I1611)","v":30893.5}]
[null,null,null,null,null,null,null,null,null,null,{"$f":"SUMPRODUCT($D$8:D1612-$I$8:I1612)","v":30893.5}]
[null,null,null,null,null,null,null,null,null,null,{"$f":"SUMPRODUCT($D$8:D1613-$I$8:I1613)","v":30893.5}]
[null,null,null,null,null,null,null,null,null,null,{"$f":"SUMPRODUCT($D$8:D1614-$I$8:I1614)","v":30893.5}]
[null,null,null,null,null,null,null,null,null,null,{"$f":"SUMPRODUCT($D$8:D1615-$I$8:I1615)","v":30893.5}]
[null,null,null,null,null,null,null,null,null,null,{"$f":"SUMPRODUCT($D$8:D1616-$I$8:I1616)","v":30893.5}]
[null,null,null,null,null,null,null,null,null,null,{"$f":"SUMPRODUCT($D$8:D1617-$I$8:I1617)","v":30893.5}]
[null,null,null,null,null,null,null,null,null,null,{"$f":"SUMPRODUCT($D$8:D1618-$I$8:I1618)","v":30893.5}]
[null,null,null,null,null,null,null,null,null,null,{"$f":"SUMPRODUCT($D$8:D1619-$I$8:I1619)","v":30893.5}]
[null,null,null,null,null,null,null,null,null,null,{"$f":"SUMPRODUCT($D$8:D1620-$I$8:I1620)","v":30893.5}]
[null,null,null,null,null,null,null,null,null,null,{"$f":"SUMPRODUCT($D$8:D1621-$I$8:I1621)","v":30893.5}]
[null,null,null,null,null,null,null,null,null,null,{"$f":"SUMPRODUCT($D$8:D1622-$I$8:I1622)","v":30893.5}]
[null,null,null,null,null,null,null,null,null,null,{"$f":"SUMPRODUCT($D$8:D1623-$I$8:I1623)","v":30893.5}]
[null,null,null,null,null,null,null,null,null,null,{"$f":"SUMPRODUCT($D$8:D1624-$I$8:I1624)","v":30893.5}]
[null,null,null,null,null,null,null,null,null,null,{"$f":"SUMPRODUCT($D$8:D1625-$I$8:I1625)","v":30893.5}]
[null,null,null,null,null,null,null,null,null,null,{"$f":"SUMPRODUCT($D$8:D1626-$I$8:I1626)","v":30893.5}]
[null,null,null,null,null,null,null,null,null,null,{"$f":"SUMPRODUCT($D$8:D1627-$I$8:I1627)","v":30893.5}]
[null,null,null,null,null,null,null,null,null,null,{"$f":"SUMPRODUCT($D$8:D1628-$I$8:I1628)","v":30893.5}]
[null,null,null,null,null,null,null,null,null,null,{"$f":"SUMPRODUCT($D$8:D1629-$I$8:I1629)","v":30893.5}]
[null,null,null,null,null,null,null,null,null,null,{"$f":"SUMPRODUCT($D$8:D1630-$I$8:I1630)","v":30893.5}]
[null,null,null,null,null,null,null,null,null,null,{"$f":"SUMPRODUCT($D$8:D1631-$I$8:I1631)","v":30893.5}]
[null,null,null,null,null,null,null,null,null,null,{"$f":"SUMPRODUCT($D$8:D1632-$I$8:I1632)","v":30893.5}]
[null,null,null,null,null,null,null,null,null,null,{"$f":"SUMPRODUCT($D$8:D1633-$I$8:I1633)","v":30893.5}]
[null,null,null,null,null,null,null,null,null,null,{"$f":"SUMPRODUCT($D$8:D1634-$I$8:I1634)","v":30893.5}]
[null,null,null,null,null,null,null,null,null,null,{"$f":"SUMPRODUCT($D$8:D1635-$I$8:I1635)","v":30893.5}]
[null,null,null,null,null,null,null,null,null,null,{"$f":"SUMPRODUCT($D$8:D1636-$I$8:I1636)","v":30893.5}]
[null,null,null,null,null,null,null,null,null,null,{"$f":"SUMPRODUCT($D$8:D1637-$I$8:I1637)","v":30893.5}]
[null,null,null,null,null,null,null,null,null,null,{"$f":"SUMPRODUCT($D$8:D1638-$I$8:I1638)","v":30893.5}]
[null,null,null,null,null,null,null,null,null,null,{"$f":"SUMPRODUCT($D$8:D1639-$I$8:I1639)","v":30893.5}]
[null,null,null,null,null,null,null,null,null,null,{"$f":"SUMPRODUCT($D$8:D1640-$I$8:I1640)","v":30893.5}]
[null,null,null,null,null,null,null,null,null,null,{"$f":"SUMPRODUCT($D$8:D1641-$I$8:I1641)","v":30893.5}]
[null,null,null,null,null,null,null,null,null,null,{"$f":"SUMPRODUCT($D$8:D1642-$I$8:I1642)","v":30893.5}]
[null,null,null,null,null,null,null,null,null,null,{"$f":"SUMPRODUCT($D$8:D1643-$I$8:I1643)","v":30893.5}]
[null,null,null,null,null,null,null,null,null,null,{"$f":"SUMPRODUCT($D$8:D1644-$I$8:I1644)","v":30893.5}]
[null,null,null,null,null,null,null,null,null,null,{"$f":"SUMPRODUCT($D$8:D1645-$I$8:I1645)","v":30893.5}]
[null,null,null,null,null,null,null,null,null,null,{"$f":"SUMPRODUCT($D$8:D1646-$I$8:I1646)","v":30893.5}]
[null,null,null,null,null,null,null,null,null,null,{"$f":"SUMPRODUCT($D$8:D1647-$I$8:I1647)","v":30893.5}]
[null,null,null,null,null,null,null,null,null,null,{"$f":"SUMPRODUCT($D$8:D1648-$I$8:I1648)","v":30893.5}]
[null,null,null,null,null,null,null,null,null,null,{"$f":"SUMPRODUCT($D$8:D1649-$I$8:I1649)","v":30893.5}]
[null,null,null,null,null,null,null,null,null,null,{"$f":"SUMPRODUCT($D$8:D1650-$I$8:I1650)","v":30893.5}]
[null,null,null,null,null,null,null,null,null,null,{"$f":"SUMPRODUCT($D$8:D1651-$I$8:I1651)","v":30893.5}]
[null,null,null,null,null,null,null,null,null,null,{"$f":"SUMPRODUCT($D$8:D1652-$I$8:I1652)","v":30893.5}]
[null,null,null,null,null,null,null,null,null,null,{"$f":"SUMPRODUCT($D$8:D1653-$I$8:I1653)","v":30893.5}]
[null,null,null,null,null,null,null,null,null,null,{"$f":"SUMPRODUCT($D$8:D1654-$I$8:I1654)","v":30893.5}]
[null,null,null,null,null,null,null,null,null,null,{"$f":"SUMPRODUCT($D$8:D1655-$I$8:I1655)","v":30893.5}]
[null,null,null,null,null,null,null,null,null,null,{"$f":"SUMPRODUCT($D$8:D1656-$I$8:I1656)","v":30893.5}]
[null,null,null,null,null,null,null,null,null,null,{"$f":"SUMPRODUCT($D$8:D1657-$I$8:I1657)","v":30893.5}]
[null,null,null,null,null,null,null,null,null,null,{"$f":"SUMPRODUCT($D$8:D1658-$I$8:I1658)","v":30893.5}]
[null,null,null,null,null,null,null,null,null,null,{"$f":"SUMPRODUCT($D$8:D1659-$I$8:I1659)","v":30893.5}]
[null,null,null,null,null,null,null,null,null,null,{"$f":"SUMPRODUCT($D$8:D1660-$I$8:I1660)","v":30893.5}]
[null,null,null,null,null,null,null,null,null,null,{"$f":"SUMPRODUCT($D$8:D1661-$I$8:I1661)","v":30893.5}]
[null,null,null,null,null,null,null,null,null,null,{"$f":"SUMPRODUCT($D$8:D1662-$I$8:I1662)","v":30893.5}]
[null,null,null,null,null,null,null,null,null,null,{"$f":"SUMPRODUCT($D$8:D1663-$I$8:I1663)","v":30893.5}]
[null,null,null,null,null,null,null,null,null,null,{"$f":"SUMPRODUCT($D$8:D1664-$I$8:I1664)","v":30893.5}]
[null,null,null,null,null,null,null,null,null,null,{"$f":"SUMPRODUCT($D$8:D1665-$I$8:I1665)","v":30893.5}]
[null,null,null,null,null,null,null,null,null,null,{"$f":"SUMPRODUCT($D$8:D1666-$I$8:I1666)","v":30893.5}]
[null,null,null,null,null,null,null,null,null,null,{"$f":"SUMPRODUCT($D$8:D1667-$I$8:I1667)","v":30893.5}]
[null,null,null,null,null,null,null,null,null,null,{"$f":"SUMPRODUCT($D$8:D1668-$I$8:I1668)","v":30893.5}]
[null,null,null,null,null,null,null,null,null,null,{"$f":"SUMPRODUCT($D$8:D1669-$I$8:I1669)","v":30893.5}]
[null,null,null,null,null,null,null,null,null,null,{"$f":"SUMPRODUCT($D$8:D1670-$I$8:I1670)","v":30893.5}]
[null,null,null,null,null,null,null,null,null,null,{"$f":"SUMPRODUCT($D$8:D1671-$I$8:I1671)","v":30893.5}]
[null,null,null,null,null,null,null,null,null,null,{"$f":"SUMPRODUCT($D$8:D1672-$I$8:I1672)","v":30893.5}]
[null,null,null,null,null,null,null,null,null,null,{"$f":"SUMPRODUCT($D$8:D1673-$I$8:I1673)","v":30893.5}]
[null,null,null,null,null,null,null,null,null,null,{"$f":"SUMPRODUCT($D$8:D1674-$I$8:I1674)","v":30893.5}]
[null,null,null,null,null,null,null,null,null,null,{"$f":"SUMPRODUCT($D$8:D1675-$I$8:I1675)","v":30893.5}]
[null,null,null,null,null,null,null,null,null,null,{"$f":"SUMPRODUCT($D$8:D1676-$I$8:I1676)","v":30893.5}]
[null,null,null,null,null,null,null,null,null,null,{"$f":"SUMPRODUCT($D$8:D1677-$I$8:I1677)","v":30893.5}]
[null,null,null,null,null,null,null,null,null,null,{"$f":"SUMPRODUCT($D$8:D1678-$I$8:I1678)","v":30893.5}]
[null,null,null,null,null,null,null,null,null,null,{"$f":"SUMPRODUCT($D$8:D1679-$I$8:I1679)","v":30893.5}]
[null,null,null,null,null,null,null,null,null,null,{"$f":"SUMPRODUCT($D$8:D1680-$I$8:I1680)","v":30893.5}]
[null,null,null,null,null,null,null,null,null,null,{"$f":"SUMPRODUCT($D$8:D1681-$I$8:I1681)","v":30893.5}]
[null,null,null,null,null,null,null,null,null,null,{"$f":"SUMPRODUCT($D$8:D1682-$I$8:I1682)","v":30893.5}]
[null,null,null,null,null,null,null,null,null,null,{"$f":"SUMPRODUCT($D$8:D1683-$I$8:I1683)","v":30893.5}]
[null,null,null,null,null,null,null,null,null,null,{"$f":"SUMPRODUCT($D$8:D1684-$I$8:I1684)","v":30893.5}]
[null,null,null,null,null,null,null,null,null,null,{"$f":"SUMPRODUCT($D$8:D1685-$I$8:I1685)","v":30893.5}]
[null,null,null,null,null,null,null,null,null,null,{"$f":"SUMPRODUCT($D$8:D1686-$I$8:I1686)","v":30893.5}]
[null,null,null,null,null,null,null,null,null,null,{"$f":"SUMPRODUCT($D$8:D1687-$I$8:I1687)","v":30893.5}]
[null,null,null,null,null,null,null,null,null,null,{"$f":"SUMPRODUCT($D$8:D1688-$I$8:I1688)","v":30893.5}]
[null,null,null,null,null,null,null,null,null,null,{"$f":"SUMPRODUCT($D$8:D1689-$I$8:I1689)","v":30893.5}]
[null,null,null,null,null,null,null,null,null,null,{"$f":"SUMPRODUCT($D$8:D1690-$I$8:I1690)","v":30893.5}]
[null,null,null,null,null,null,null,null,null,null,{"$f":"SUMPRODUCT($D$8:D1691-$I$8:I1691)","v":30893.5}]
[null,null,null,null,null,null,null,null,null,null,{"$f":"SUMPRODUCT($D$8:D1692-$I$8:I1692)","v":30893.5}]
[null,null,null,null,null,null,null,null,null,null,{"$f":"SUMPRODUCT($D$8:D1693-$I$8:I1693)","v":30893.5}]
[null,null,null,null,null,null,null,null,null,null,{"$f":"SUMPRODUCT($D$8:D1694-$I$8:I1694)","v":30893.5}]
[null,null,null,null,null,null,null,null,null,null,{"$f":"SUMPRODUCT($D$8:D1695-$I$8:I1695)","v":30893.5}]
[null,null,null,null,null,null,null,null,null,null,{"$f":"SUMPRODUCT($D$8:D1696-$I$8:I1696)","v":30893.5}]
[null,null,null,null,null,null,null,null,null,null,{"$f":"SUMPRODUCT($D$8:D1697-$I$8:I1697)","v":30893.5}]
[null,null,null,null,null,null,null,null,null,null,{"$f":"SUMPRODUCT($D$8:D1698-$I$8:I1698)","v":30893.5}]
[null,null,null,null,null,null,null,null,null,null,{"$f":"SUMPRODUCT($D$8:D1699-$I$8:I1699)","v":30893.5}]
[null,null,null,null,null,null,null,null,null,null,{"$f":"SUMPRODUCT($D$8:D1700-$I$8:I1700)","v":30893.5}]
[null,null,null,null,null,null,null,null,null,null,{"$f":"SUMPRODUCT($D$8:D1701-$I$8:I1701)","v":30893.5}]
[null,null,null,null,null,null,null,null,null,null,{"$f":"SUMPRODUCT($D$8:D1702-$I$8:I1702)","v":30893.5}]
[null,null,null,null,null,null,null,null,null,null,{"$f":"SUMPRODUCT($D$8:D1703-$I$8:I1703)","v":30893.5}]
[null,null,null,null,null,null,null,null,null,null,{"$f":"SUMPRODUCT($D$8:D1704-$I$8:I1704)","v":30893.5}]
[null,null,null,null,null,null,null,null,null,null,{"$f":"SUMPRODUCT($D$8:D1705-$I$8:I1705)","v":30893.5}]
[null,null,null,null,null,null,null,null,null,null,{"$f":"SUMPRODUCT($D$8:D1706-$I$8:I1706)","v":30893.5}]
[null,null,null,null,null,null,null,null,null,null,{"$f":"SUMPRODUCT($D$8:D1707-$I$8:I1707)","v":30893.5}]
[null,null,null,null,null,null,null,null,null,null,{"$f":"SUMPRODUCT($D$8:D1708-$I$8:I1708)","v":30893.5}]
[null,null,null,null,null,null,null,null,null,null,{"$f":"SUMPRODUCT($D$8:D1709-$I$8:I1709)","v":30893.5}]
[null,null,null,null,null,null,null,null,null,null,{"$f":"SUMPRODUCT($D$8:D1710-$I$8:I1710)","v":30893.5}]
[null,null,null,null,null,null,null,null,null,null,{"$f":"SUMPRODUCT($D$8:D1711-$I$8:I1711)","v":30893.5}]
[null,null,null,null,null,null,null,null,null,null,{"$f":"SUMPRODUCT($D$8:D1712-$I$8:I1712)","v":30893.5}]
[null,null,null,null,null,null,null,null,null,null,{"$f":"SUMPRODUCT($D$8:D1713-$I$8:I1713)","v":30893.5}]
[null,null,null,null,null,null,null,null,null,null,{"$f":"SUMPRODUCT($D$8:D1714-$I$8:I1714)","v":30893.5}]
[null,null,null,null,null,null,null,null,null,null,{"$f":"SUMPRODUCT($D$8:D1715-$I$8:I1715)","v":30893.5}]
[null,null,null,null,null,null,null,null,null,null,{"$f":"SUMPRODUCT($D$8:D1716-$I$8:I1716)","v":30893.5}]
[null,null,null,null,null,null,null,null,null,null,{"$f":"SUMPRODUCT($D$8:D1717-$I$8:I1717)","v":30893.5}]
[null,null,null,null,null,null,null,null,null,null,{"$f":"SUMPRODUCT($D$8:D1718-$I$8:I1718)","v":30893.5}]
[null,null,null,null,null,null,null,null,null,null,{"$f":"SUMPRODUCT($D$8:D1719-$I$8:I1719)","v":30893.5}]
[null,null,null,null,null,null,null,null,null,null,{"$f":"SUMPRODUCT($D$8:D1720-$I$8:I1720)","v":30893.5}]
[null,null,null,null,null,null,null,null,null,null,{"$f":"SUMPRODUCT($D$8:D1721-$I$8:I1721)","v":30893.5}]
[null,null,null,null,null,null,null,null,null,null,{"$f":"SUMPRODUCT($D$8:D1722-$I$8:I1722)","v":30893.5}]
[null,null,null,null,null,null,null,null,null,null,{"$f":"SUMPRODUCT($D$8:D1723-$I$8:I1723)","v":30893.5}]
[null,null,null,null,null,null,null,null,null,null,{"$f":"SUMPRODUCT($D$8:D1724-$I$8:I1724)","v":30893.5}]
[null,null,null,null,null,null,null,null,null,null,{"$f":"SUMPRODUCT($D$8:D1725-$I$8:I1725)","v":30893.5}]
[null,null,null,null,null,null,null,null,null,null,{"$f":"SUMPRODUCT($D$8:D1726-$I$8:I1726)","v":30893.5}]
[null,null,null,null,null,null,null,null,null,null,{"$f":"SUMPRODUCT($D$8:D1727-$I$8:I1727)","v":30893.5}]
[null,null,null,null,null,null,null,null,null,null,{"$f":"SUMPRODUCT($D$8:D1728-$I$8:I1728)","v":30893.5}]
[null,null,null,null,null,null,null,null,null,null,{"$f":"SUMPRODUCT($D$8:D1729-$I$8:I1729)","v":30893.5}]
[null,null,null,null,null,null,null,null,null,null,{"$f":"SUMPRODUCT($D$8:D1730-$I$8:I1730)","v":30893.5}]
[null,null,null,null,null,null,null,null,null,null,{"$f":"SUMPRODUCT($D$8:D1731-$I$8:I1731)","v":30893.5}]
[null,null,null,null,null,null,null,null,null,null,{"$f":"SUMPRODUCT($D$8:D1732-$I$8:I1732)","v":30893.5}]
[null,null,null,null,null,null,null,null,null,null,{"$f":"SUMPRODUCT($D$8:D1733-$I$8:I1733)","v":30893.5}]
[null,null,null,null,null,null,null,null,null,null,{"$f":"SUMPRODUCT($D$8:D1734-$I$8:I1734)","v":30893.5}]
[null,null,null,null,null,null,null,null,null,null,{"$f":"SUMPRODUCT($D$8:D1735-$I$8:I1735)","v":30893.5}]
[null,null,null,null,null,null,null,null,null,null,{"$f":"SUMPRODUCT($D$8:D1736-$I$8:I1736)","v":30893.5}]
[null,null,null,null,null,null,null,null,null,null,{"$f":"SUMPRODUCT($D$8:D1737-$I$8:I1737)","v":30893.5}]
[null,null,null,null,null,null,null,null,null,null,{"$f":"SUMPRODUCT($D$8:D1738-$I$8:I1738)","v":30893.5}]
[null,null,null,null,null,null,null,null,null,null,{"$f":"SUMPRODUCT($D$8:D1739-$I$8:I1739)","v":30893.5}]
[null,null,null,null,null,null,null,null,null,null,{"$f":"SUMPRODUCT($D$8:D1740-$I$8:I1740)","v":30893.5}]
[null,null,null,null,null,null,null,null,null,null,{"$f":"SUMPRODUCT($D$8:D1741-$I$8:I1741)","v":30893.5}]
[null,null,null,null,null,null,null,null,null,null,{"$f":"SUMPRODUCT($D$8:D1742-$I$8:I1742)","v":30893.5}]
[null,null,null,null,null,null,null,null,null,null,{"$f":"SUMPRODUCT($D$8:D1743-$I$8:I1743)","v":30893.5}]
[null,null,null,null,null,null,null,null,null,null,{"$f":"SUMPRODUCT($D$8:D1744-$I$8:I1744)","v":30893.5}]
[null,null,null,null,null,null,null,null,null,null,{"$f":"SUMPRODUCT($D$8:D1745-$I$8:I1745)","v":30893.5}]
[null,null,null,null,null,null,null,null,null,null,{"$f":"SUMPRODUCT($D$8:D1746-$I$8:I1746)","v":30893.5}]
[null,null,null,null,null,null,null,null,null,null,{"$f":"SUMPRODUCT($D$8:D1747-$I$8:I1747)","v":30893.5}]
[null,null,null,null,null,null,null,null,null,null,{"$f":"SUMPRODUCT($D$8:D1748-$I$8:I1748)","v":30893.5}]
[null,null,null,null,null,null,null,null,null,null,{"$f":"SUMPRODUCT($D$8:D1749-$I$8:I1749)","v":30893.5}]
[null,null,null,null,null,null,null,null,null,null,{"$f":"SUMPRODUCT($D$8:D1750-$I$8:I1750)","v":30893.5}]
[null,null,null,null,null,null,null,null,null,null,{"$f":"SUMPRODUCT($D$8:D1751-$I$8:I1751)","v":30893.5}]
[null,null,null,null,null,null,null,null,null,null,{"$f":"SUMPRODUCT($D$8:D1752-$I$8:I1752)","v":30893.5}]
[null,null,null,null,null,null,null,null,null,null,{"$f":"SUMPRODUCT($D$8:D1753-$I$8:I1753)","v":30893.5}]
[null,null,null,null,null,null,null,null,null,null,{"$f":"SUMPRODUCT($D$8:D1754-$I$8:I1754)","v":30893.5}]
[null,null,null,null,null,null,null,null,null,null,{"$f":"SUMPRODUCT($D$8:D1755-$I$8:I1755)","v":30893.5}]
[null,null,null,null,null,null,null,null,null,null,{"$f":"SUMPRODUCT($D$8:D1756-$I$8:I1756)","v":30893.5}]
[null,null,null,null,null,null,null,null,null,null,{"$f":"SUMPRODUCT($D$8:D1757-$I$8:I1757)","v":30893.5}]
[null,null,null,null,null,null,null,null,null,null,{"$f":"SUMPRODUCT($D$8:D1758-$I$8:I1758)","v":30893.5}]
[null,null,null,null,null,null,null,null,null,null,{"$f":"SUMPRODUCT($D$8:D1759-$I$8:I1759)","v":30893.5}]
[null,null,null,null,null,null,null,null,null,null,{"$f":"SUMPRODUCT($D$8:D1760-$I$8:I1760)","v":30893.5}]
[null,null,null,null,null,null,null,null,null,null,{"$f":"SUMPRODUCT($D$8:D1761-$I$8:I1761)","v":30893.5}]
[null,null,null,null,null,null,null,null,null,null,{"$f":"SUMPRODUCT($D$8:D1762-$I$8:I1762)","v":30893.5}]
[null,null,null,null,null,null,null,null,null,null,{"$f":"SUMPRODUCT($D$8:D1763-$I$8:I1763)","v":30893.5}]
[null,null,null,null,null,null,null,null,null,null,{"$f":"SUMPRODUCT($D$8:D1764-$I$8:I1764)","v":30893.5}]
[null,null,null,null,null,null,null,null,null,null,{"$f":"SUMPRODUCT($D$8:D1765-$I$8:I1765)","v":30893.5}]
[null,null,null,null,null,null,null,null,null,null,{"$f":"SUMPRODUCT($D$8:D1766-$I$8:I1766)","v":30893.5}]
[null,null,null,null,null,null,null,null,null,null,{"$f":"SUMPRODUCT($D$8:D1767-$I$8:I1767)","v":30893.5}]
[null,null,null,null,null,null,null,null,null,null,{"$f":"SUMPRODUCT($D$8:D1768-$I$8:I1768)","v":30893.5}]
[null,null,null,null,null,null,null,null,null,null,{"$f":"SUMPRODUCT($D$8:D1769-$I$8:I1769)","v":30893.5}]
[null,null,null,null,null,null,null,null,null,null,{"$f":"SUMPRODUCT($D$8:D1770-$I$8:I1770)","v":30893.5}]
[null,null,null,null,null,null,null,null,null,null,{"$f":"SUMPRODUCT($D$8:D1771-$I$8:I1771)","v":30893.5}]
[null,null,null,null,null,null,null,null,null,null,{"$f":"SUMPRODUCT($D$8:D1772-$I$8:I1772)","v":30893.5}]
[null,null,null,null,null,null,null,null,null,null,{"$f":"SUMPRODUCT($D$8:D1773-$I$8:I1773)","v":30893.5}]
[null,null,null,null,null,null,null,null,null,null,{"$f":"SUMPRODUCT($D$8:D1774-$I$8:I1774)","v":30893.5}]
[null,null,null,null,null,null,null,null,null,null,{"$f":"SUMPRODUCT($D$8:D1775-$I$8:I1775)","v":30893.5}]
[null,null,null,null,null,null,null,null,null,null,{"$f":"SUMPRODUCT($D$8:D1776-$I$8:I1776)","v":30893.5}]
[null,null,null,null,null,null,null,null,null,null,{"$f":"SUMPRODUCT($D$8:D1777-$I$8:I1777)","v":30893.5}]
[null,null,null,null,null,null,null,null,null,null,{"$f":"SUMPRODUCT($D$8:D1778-$I$8:I1778)","v":30893.5}]
[null,null,null,null,null,null,null,null,null,null,{"$f":"SUMPRODUCT($D$8:D1779-$I$8:I1779)","v":30893.5}]
[null,null,null,null,null,null,null,null,null,null,{"$f":"SUMPRODUCT($D$8:D1780-$I$8:I1780)","v":30893.5}]
[null,null,null,null,null,null,null,null,null,null,{"$f":"SUMPRODUCT($D$8:D1781-$I$8:I1781)","v":30893.5}]
[null,null,null,null,null,null,null,null,null,null,{"$f":"SUMPRODUCT($D$8:D1782-$I$8:I1782)","v":30893.5}]
[null,null,null,null,null,null,null,null,null,null,{"$f":"SUMPRODUCT($D$8:D1783-$I$8:I1783)","v":30893.5}]
[null,null,null,null,null,null,null,null,null,null,{"$f":"SUMPRODUCT($D$8:D1784-$I$8:I1784)","v":30893.5}]
[null,null,null,null,null,null,null,null,null,null,{"$f":"SUMPRODUCT($D$8:D1785-$I$8:I1785)","v":30893.5}]
[null,null,null,null,null,null,null,null,null,null,{"$f":"SUMPRODUCT($D$8:D1786-$I$8:I1786)","v":30893.5}]
[null,null,null,null,null,null,null,null,null,null,{"$f":"SUMPRODUCT($D$8:D1787-$I$8:I1787)","v":30893.5}]
[null,null,null,null,null,null,null,null,null,null,{"$f":"SUMPRODUCT($D$8:D1788-$I$8:I1788)","v":30893.5}]
[null,null,null,null,null,null,null,null,null,null,{"$f":"SUMPRODUCT($D$8:D1789-$I$8:I1789)","v":30893.5}]
[null,null,null,null,null,null,null,null,null,null,{"$f":"SUMPRODUCT($D$8:D1790-$I$8:I1790)","v":30893.5}]
[null,null,null,null,null,null,null,null,null,null,{"$f":"SUMPRODUCT($D$8:D1791-$I$8:I1791)","v":30893.5}]
[null,null,null,null,null,null,null,null,null,null,{"$f":"SUMPRODUCT($D$8:D1792-$I$8:I1792)","v":30893.5}]
[null,null,null,null,null,null,null,null,null,null,{"$f":"SUMPRODUCT($D$8:D1793-$I$8:I1793)","v":30893.5}]
[null,null,null,null,null,null,null,null,null,null,{"$f":"SUMPRODUCT($D$8:D1794-$I$8:I1794)","v":30893.5}]
[null,null,null,null,null,null,null,null,null,null,{"$f":"SUMPRODUCT($D$8:D1795-$I$8:I1795)","v":30893.5}]
[null,null,null,null,null,null,null,null,null,null,{"$f":"SUMPRODUCT($D$8:D1796-$I$8:I1796)","v":30893.5}]
[null,null,null,null,null,null,null,null,null,null,{"$f":"SUMPRODUCT($D$8:D1797-$I$8:I1797)","v":30893.5}]
[null,null,null,null,null,null,null,null,null,null,{"$f":"SUMPRODUCT($D$8:D1798-$I$8:I1798)","v":30893.5}]
[null,null,null,null,null,null,null,null,null,null,{"$f":"SUMPRODUCT($D$8:D1799-$I$8:I1799)","v":30893.5}]
[null,null,null,null,null,null,null,null,null,null,{"$f":"SUMPRODUCT($D$8:D1800-$I$8:I1800)","v":30893.5}]
[null,null,null,null,null,null,null,null,null,null,{"$f":"SUMPRODUCT($D$8:D1801-$I$8:I1801)","v":30893.5}]
[null,null,null,null,null,null,null,null,null,null,{"$f":"SUMPRODUCT($D$8:D1802-$I$8:I1802)","v":30893.5}]
[null,null,null,null,null,null,null,null,null,null,{"$f":"SUMPRODUCT($D$8:D1803-$I$8:I1803)","v":30893.5}]
[null,null,null,null,null,null,null,null,null,null,{"$f":"SUMPRODUCT($D$8:D1804-$I$8:I1804)","v":30893.5}]
[null,null,null,null,null,null,null,null,null,null,{"$f":"SUMPRODUCT($D$8:D1805-$I$8:I1805)","v":30893.5}]
[null,null,null,null,null,null,null,null,null,null,{"$f":"SUMPRODUCT($D$8:D1806-$I$8:I1806)","v":30893.5}]
[null,null,null,null,null,null,null,null,null,null,{"$f":"SUMPRODUCT($D$8:D1807-$I$8:I1807)","v":30893.5}]
[null,null,null,null,null,null,null,null,null,null,{"$f":"SUMPRODUCT($D$8:D1808-$I$8:I1808)","v":30893.5}]
[null,null,null,null,null,null,null,null,null,null,{"$f":"SUMPRODUCT($D$8:D1809-$I$8:I1809)","v":30893.5}]
[null,null,null,null,null,null,null,null,null,null,{"$f":"SUMPRODUCT($D$8:D1810-$I$8:I1810)","v":30893.5}]
[null,null,null,null,null,null,null,null,null,null,{"$f":"SUMPRODUCT($D$8:D1811-$I$8:I1811)","v":30893.5}]
[null,null,null,null,null,null,null,null,null,null,{"$f":"SUMPRODUCT($D$8:D1812-$I$8:I1812)","v":30893.5}]
[null,null,null,null,null,null,null,null,null,null,{"$f":"SUMPRODUCT($D$8:D1813-$I$8:I1813)","v":30893.5}]
[null,null,null,null,null,null,null,null,null,null,{"$f":"SUMPRODUCT($D$8:D1814-$I$8:I1814)","v":30893.5}]
[null,null,null,null,null,null,null,null,null,null,{"$f":"SUMPRODUCT($D$8:D1815-$I$8:I1815)","v":30893.5}]
[null,null,null,null,null,null,null,null,null,null,{"$f":"SUMPRODUCT($D$8:D1816-$I$8:I1816)","v":30893.5}]
[null,null,null,null,null,null,null,null,null,null,{"$f":"SUMPRODUCT($D$8:D1817-$I$8:I1817)","v":30893.5}]
[null,null,null,null,null,null,null,null,null,null,{"$f":"SUMPRODUCT($D$8:D1818-$I$8:I1818)","v":30893.5}]
[null,null,null,null,null,null,null,null,null,null,{"$f":"SUMPRODUCT($D$8:D1819-$I$8:I1819)","v":30893.5}]
[null,null,null,null,null,null,null,null,null,null,{"$f":"SUMPRODUCT($D$8:D1820-$I$8:I1820)","v":30893.5}]
[null,null,null,null,null,null,null,null,null,null,{"$f":"SUMPRODUCT($D$8:D1821-$I$8:I1821)","v":30893.5}]
[null,null,null,null,null,null,null,null,null,null,{"$f":"SUMPRODUCT($D$8:D1822-$I$8:I1822)","v":30893.5}]
[null,null,null,null,null,null,null,null,null,null,{"$f":"SUMPRODUCT($D$8:D1823-$I$8:I1823)","v":30893.5}]
[null,null,null,null,null,null,null,null,null,null,{"$f":"SUMPRODUCT($D$8:D1824-$I$8:I1824)","v":30893.5}]
[null,null,null,null,null,null,null,null,null,null,{"$f":"SUMPRODUCT($D$8:D1825-$I$8:I1825)","v":30893.5}]
[null,null,null,null,null,null,null,null,null,null,{"$f":"SUMPRODUCT($D$8:D1826-$I$8:I1826)","v":30893.5}]
[null,null,null,null,null,null,null,null,null,null,{"$f":"SUMPRODUCT($D$8:D1827-$I$8:I1827)","v":30893.5}]
[null,null,null,null,null,null,null,null,null,null,{"$f":"SUMPRODUCT($D$8:D1828-$I$8:I1828)","v":30893.5}]
[null,null,null,null,null,null,null,null,null,null,{"$f":"SUMPRODUCT($D$8:D1829-$I$8:I1829)","v":30893.5}]
[null,null,null,null,null,null,null,null,null,null,{"$f":"SUMPRODUCT($D$8:D1830-$I$8:I1830)","v":30893.5}]
[null,null,null,null,null,null,null,null,null,null,{"$f":"SUMPRODUCT($D$8:D1831-$I$8:I1831)","v":30893.5}]
[null,null,null,null,null,null,null,null,null,null,{"$f":"SUMPRODUCT($D$8:D1832-$I$8:I1832)","v":30893.5}]
[null,null,null,null,null,null,null,null,null,null,{"$f":"SUMPRODUCT($D$8:D1833-$I$8:I1833)","v":30893.5}]
[null,null,null,null,null,null,null,null,null,null,{"$f":"SUMPRODUCT($D$8:D1834-$I$8:I1834)","v":30893.5}]
[null,null,null,null,null,null,null,null,null,null,{"$f":"SUMPRODUCT($D$8:D1835-$I$8:I1835)","v":30893.5}]
[null,null,null,null,null,null,null,null,null,null,{"$f":"SUMPRODUCT($D$8:D1836-$I$8:I1836)","v":30893.5}]
[null,null,null,null,null,null,null,null,null,null,{"$f":"SUMPRODUCT($D$8:D1837-$I$8:I1837)","v":30893.5}]
[null,null,null,null,null,null,null,null,null,null,{"$f":"SUMPRODUCT($D$8:D1838-$I$8:I1838)","v":30893.5}]
[null,null,null,null,null,null,null,null,null,null,{"$f":"SUMPRODUCT($D$8:D1839-$I$8:I1839)","v":30893.5}]
[null,null,null,null,null,null,null,null,null,null,{"$f":"SUMPRODUCT($D$8:D1840-$I$8:I1840)","v":30893.5}]
[null,null,null,null,null,null,null,null,null,null,{"$f":"SUMPRODUCT($D$8:D1841-$I$8:I1841)","v":30893.5}]
[null,null,null,null,null,null,null,null,null,null,{"$f":"SUMPRODUCT($D$8:D1842-$I$8:I1842)","v":30893.5}]
[null,null,null,null,null,null,null,null,null,null,{"$f":"SUMPRODUCT($D$8:D1843-$I$8:I1843)","v":30893.5}]
[null,null,null,null,null,null,null,null,null,null,{"$f":"SUMPRODUCT($D$8:D1844-$I$8:I1844)","v":30893.5}]
[null,null,null,null,null,null,null,null,null,null,{"$f":"SUMPRODUCT($D$8:D1845-$I$8:I1845)","v":30893.5}]
[null,null,null,null,null,null,null,null,null,null,{"$f":"SUMPRODUCT($D$8:D1846-$I$8:I1846)","v":30893.5}]
[null,null,null,null,null,null,null,null,null,null,{"$f":"SUMPRODUCT($D$8:D1847-$I$8:I1847)","v":30893.5}]
[null,null,null,null,null,null,null,null,null,null,{"$f":"SUMPRODUCT($D$8:D1848-$I$8:I1848)","v":30893.5}]
[null,null,null,null,null,null,null,null,null,null,{"$f":"SUMPRODUCT($D$8:D1849-$I$8:I1849)","v":30893.5}]
[null,null,null,null,null,null,null,null,null,null,{"$f":"SUMPRODUCT($D$8:D1850-$I$8:I1850)","v":30893.5}]
[null,null,null,null,null,null,null,null,null,null,{"$f":"SUMPRODUCT($D$8:D1851-$I$8:I1851)","v":30893.5}]
[null,null,null,null,null,null,null,null,null,null,{"$f":"SUMPRODUCT($D$8:D1852-$I$8:I1852)","v":30893.5}]
[null,null,null,null,null,null,null,null,null,null,{"$f":"SUMPRODUCT($D$8:D1853-$I$8:I1853)","v":30893.5}]
[null,null,null,null,null,null,null,null,null,null,{"$f":"SUMPRODUCT($D$8:D1854-$I$8:I1854)","v":30893.5}]
[null,null,null,null,null,null,null,null,null,null,{"$f":"SUMPRODUCT($D$8:D1855-$I$8:I1855)","v":30893.5}]
[null,null,null,null,null,null,null,null,null,null,{"$f":"SUMPRODUCT($D$8:D1856-$I$8:I1856)","v":30893.5}]
[null,null,null,null,null,null,null,null,null,null,{"$f":"SUMPRODUCT($D$8:D1857-$I$8:I1857)","v":30893.5}]
[null,null,null,null,null,null,null,null,null,null,{"$f":"SUMPRODUCT($D$8:D1858-$I$8:I1858)","v":30893.5}]
[null,null,null,null,null,null,null,null,null,null,{"$f":"SUMPRODUCT($D$8:D1859-$I$8:I1859)","v":30893.5}]
[null,null,null,null,null,null,null,null,null,null,{"$f":"SUMPRODUCT($D$8:D1860-$I$8:I1860)","v":30893.5}]
[null,null,null,null,null,null,null,null,null,null,{"$f":"SUMPRODUCT($D$8:D1861-$I$8:I1861)","v":30893.5}]
[null,null,null,null,null,null,null,null,null,null,{"$f":"SUMPRODUCT($D$8:D1862-$I$8:I1862)","v":30893.5}]
[null,null,null,null,null,null,null,null,null,null,{"$f":"SUMPRODUCT($D$8:D1863-$I$8:I1863)","v":30893.5}]
[null,null,null,null,null,null,null,null,null,null,{"$f":"SUMPRODUCT($D$8:D1864-$I$8:I1864)","v":30893.5}]
[null,null,null,null,null,null,null,null,null,null,{"$f":"SUMPRODUCT($D$8:D1865-$I$8:I1865)","v":30893.5}]
[null,null,null,null,null,null,null,null,null,null,{"$f":"SUMPRODUCT($D$8:D1866-$I$8:I1866)","v":30893.5}]
[null,null,null,null,null,null,null,null,null,null,{"$f":"SUMPRODUCT($D$8:D1867-$I$8:I1867)","v":30893.5}]
[null,null,null,null,null,null,null,null,null,null,{"$f":"SUMPRODUCT($D$8:D1868-$I$8:I1868)","v":30893.5}]
[null,null,null,null,null,null,null,null,null,null,{"$f":"SUMPRODUCT($D$8:D1869-$I$8:I1869)","v":30893.5}]
[null,null,null,null,null,null,null,null,null,null,{"$f":"SUMPRODUCT($D$8:D1870-$I$8:I1870)","v":30893.5}]
[null,null,null,null,null,null,null,null,null,null,{"$f":"SUMPRODUCT($D$8:D1871-$I$8:I1871)","v":30893.5}]
[null,null,null,null,null,null,null,null,null,null,{"$f":"SUMPRODUCT($D$8:D1872-$I$8:I1872)","v":30893.5}]
[null,null,null,null,null,null,null,null,null,null,{"$f":"SUMPRODUCT($D$8:D1873-$I$8:I1873)","v":30893.5}]
[null,null,null,null,null,null,null,null,null,null,{"$f":"SUMPRODUCT($D$8:D1874-$I$8:I1874)","v":30893.5}]
[null,null,null,null,null,null,null,null,null,null,{"$f":"SUMPRODUCT($D$8:D1875-$I$8:I1875)","v":30893.5}]
[null,null,null,null,null,null,null,null,null,null,{"$f":"SUMPRODUCT($D$8:D1876-$I$8:I1876)","v":30893.5}]
[null,null,null,null,null,null,null,null,null,null,{"$f":"SUMPRODUCT($D$8:D1877-$I$8:I1877)","v":30893.5}]
[null,null,null,null,null,null,null,null,null,null,{"$f":"SUMPRODUCT($D$8:D1878-$I$8:I1878)","v":30893.5}]
[null,null,null,null,null,null,null,null,null,null,{"$f":"SUMPRODUCT($D$8:D1879-$I$8:I1879)","v":30893.5}]
[null,null,null,null,null,null,null,null,null,null,{"$f":"SUMPRODUCT($D$8:D1880-$I$8:I1880)","v":30893.5}]
[null,null,null,null,null,null,null,null,null,null,{"$f":"SUMPRODUCT($D$8:D1881-$I$8:I1881)","v":30893.5}]
[null,null,null,null,null,null,null,null,null,null,{"$f":"SUMPRODUCT($D$8:D1882-$I$8:I1882)","v":30893.5}]
[null,null,null,null,null,null,null,null,null,null,{"$f":"SUMPRODUCT($D$8:D1883-$I$8:I1883)","v":30893.5}]
[null,null,null,null,null,null,null,null,null,null,{"$f":"SUMPRODUCT($D$8:D1884-$I$8:I1884)","v":30893.5}]
[null,null,null,null,null,null,null,null,null,null,{"$f":"SUMPRODUCT($D$8:D1885-$I$8:I1885)","v":30893.5}]
[null,null,null,null,null,null,null,null,null,null,{"$f":"SUMPRODUCT($D$8:D1886-$I$8:I1886)","v":30893.5}]
[null,null,null,null,null,null,null,null,null,null,{"$f":"SUMPRODUCT($D$8:D1887-$I$8:I1887)","v":30893.5}]
[null,null,null,null,null,null,null,null,null,null,{"$f":"SUMPRODUCT($D$8:D1888-$I$8:I1888)","v":30893.5}]
[null,null,null,null,null,null,null,null,null,null,{"$f":"SUMPRODUCT($D$8:D1889-$I$8:I1889)","v":30893.5}]
[null,null,null,null,null,null,null,null,null,null,{"$f":"SUMPRODUCT($D$8:D1890-$I$8:I1890)","v":30893.5}]
[null,null,null,null,null,null,null,null,null,null,{"$f":"SUMPRODUCT($D$8:D1891-$I$8:I1891)","v":30893.5}]
[null,null,null,null,null,null,null,null,null,null,{"$f":"SUMPRODUCT($D$8:D1892-$I$8:I1892)","v":30893.5}]
[null,null,null,null,null,null,null,null,null,null,{"$f":"SUMPRODUCT($D$8:D1893-$I$8:I1893)","v":30893.5}]
[null,null,null,null,null,null,null,null,null,null,{"$f":"SUMPRODUCT($D$8:D1894-$I$8:I1894)","v":30893.5}]
[null,null,null,null,null,null,null,null,null,null,{"$f":"SUMPRODUCT($D$8:D1895-$I$8:I1895)","v":30893.5}]
[null,null,null,null,null,null,null,null,null,null,{"$f":"SUMPRODUCT($D$8:D1896-$I$8:I1896)","v":30893.5}]
[null,null,null,null,null,null,null,null,null,null,{"$f":"SUMPRODUCT($D$8:D1897-$I$8:I1897)","v":30893.5}]
[null,null,null,null,null,null,null,null,null,null,{"$f":"SUMPRODUCT($D$8:D1898-$I$8:I1898)","v":30893.5}]
[null,null,null,null,null,null,null,null,null,null,{"$f":"SUMPRODUCT($D$8:D1899-$I$8:I1899)","v":30893.5}]
[null,null,null,null,null,null,null,null,null,null,{"$f":"SUMPRODUCT($D$8:D1900-$I$8:I1900)","v":30893.5}]
[null,null,null,null,null,null,null,null,null,null,{"$f":"SUMPRODUCT($D$8:D1901-$I$8:I1901)","v":30893.5}]
[null,null,null,null,null,null,null,null,null,null,{"$f":"SUMPRODUCT($D$8:D1902-$I$8:I1902)","v":30893.5}]
[null,null,null,null,null,null,null,null,null,null,{"$f":"SUMPRODUCT($D$8:D1903-$I$8:I1903)","v":30893.5}]
[null,null,null,null,null,null,null,null,null,null,{"$f":"SUMPRODUCT($D$8:D1904-$I$8:I1904)","v":30893.5}]
[null,null,null,null,null,null,null,null,null,null,{"$f":"SUMPRODUCT($D$8:D1905-$I$8:I1905)","v":30893.5}]
[null,null,null,null,null,null,null,null,null,null,{"$f":"SUMPRODUCT($D$8:D1906-$I$8:I1906)","v":30893.5}]
[null,null,null,null,null,null,null,null,null,null,{"$f":"SUMPRODUCT($D$8:D1907-$I$8:I1907)","v":30893.5}]
[null,null,null,null,null,null,null,null,null,null,{"$f":"SUMPRODUCT($D$8:D1908-$I$8:I1908)","v":30893.5}]
[null,null,null,null,null,null,null,null,null,null,{"$f":"SUMPRODUCT($D$8:D1909-$I$8:I1909)","v":30893.5}]
[null,null,null,null,null,null,null,null,null,null,{"$f":"SUMPRODUCT($D$8:D1910-$I$8:I1910)","v":30893.5}]
[null,null,null,null,null,null,null,null,null,null,{"$f":"SUMPRODUCT($D$8:D1911-$I$8:I1911)","v":30893.5}]
[null,null,null,null,null,null,null,null,null,null,{"$f":"SUMPRODUCT($D$8:D1912-$I$8:I1912)","v":30893.5}]
[null,null,null,null,null,null,null,null,null,null,{"$f":"SUMPRODUCT($D$8:D1913-$I$8:I1913)","v":30893.5}]
[null,null,null,null,null,null,null,null,null,null,{"$f":"SUMPRODUCT($D$8:D1914-$I$8:I1914)","v":30893.5}]
[null,null,null,null,null,null,null,null,null,null,{"$f":"SUMPRODUCT($D$8:D1915-$I$8:I1915)","v":30893.5}]
[null,null,null,null,null,null,null,null,null,null,{"$f":"SUMPRODUCT($D$8:D1916-$I$8:I1916)","v":30893.5}]
[null,null,null,null,null,null,null,null,null,null,{"$f":"SUMPRODUCT($D$8:D1917-$I$8:I1917)","v":30893.5}]
[null,null,null,null,null,null,null,null,null,null,{"$f":"SUMPRODUCT($D$8:D1918-$I$8:I1918)","v":30893.5}]
[null,null,null,null,null,null,null,null,null,null,{"$f":"SUMPRODUCT($D$8:D1919-$I$8:I1919)","v":30893.5}]
[null,null,null,null,null,null,null,null,null,null,{"$f":"SUMPRODUCT($D$8:D1920-$I$8:I1920)","v":30893.5}]
[null,null,null,null,null,null,null,null,null,null,{"$f":"SUMPRODUCT($D$8:D1921-$I$8:I1921)","v":30893.5}]
[null,null,null,null,null,null,null,null,null,null,{"$f":"SUMPRODUCT($D$8:D1922-$I$8:I1922)","v":30893.5}]
[null,null,null,null,null,null,null,null,null,null,{"$f":"SUMPRODUCT($D$8:D1923-$I$8:I1923)","v":30893.5}]
[null,null,null,null,null,null,null,null,null,null,{"$f":"SUMPRODUCT($D$8:D1924-$I$8:I1924)","v":30893.5}]
[null,null,null,null,null,null,null,null,null,null,{"$f":"SUMPRODUCT($D$8:D1925-$I$8:I1925)","v":30893.5}]
[null,null,null,null,null,null,null,null,null,null,{"$f":"SUMPRODUCT($D$8:D1926-$I$8:I1926)","v":30893.5}]
[null,null,null,null,null,null,null,null,null,null,{"$f":"SUMPRODUCT($D$8:D1927-$I$8:I1927)","v":30893.5}]
[null,null,null,null,null,null,null,null,null,null,{"$f":"SUMPRODUCT($D$8:D1928-$I$8:I1928)","v":30893.5}]
[null,null,null,null,null,null,null,null,null,null,{"$f":"SUMPRODUCT($D$8:D1929-$I$8:I1929)","v":30893.5}]
[null,null,null,null,null,null,null,null,null,null,{"$f":"SUMPRODUCT($D$8:D1930-$I$8:I1930)","v":30893.5}]
[null,null,null,null,null,null,null,null,null,null,{"$f":"SUMPRODUCT($D$8:D1931-$I$8:I1931)","v":30893.5}]
[null,null,null,null,null,null,null,null,null,null,{"$f":"SUMPRODUCT($D$8:D1932-$I$8:I1932)","v":30893.5}]
[null,null,null,null,null,null,null,null,null,null,{"$f":"SUMPRODUCT($D$8:D1933-$I$8:I1933)","v":30893.5}]
[null,null,null,null,null,null,null,null,null,null,{"$f":"SUMPRODUCT($D$8:D1934-$I$8:I1934)","v":30893.5}]
[null,null,null,null,null,null,null,null,null,null,{"$f":"SUMPRODUCT($D$8:D1935-$I$8:I1935)","v":30893.5}]
[null,null,null,null,null,null,null,null,null,null,{"$f":"SUMPRODUCT($D$8:D1936-$I$8:I1936)","v":30893.5}]
[null,null,null,null,null,null,null,null,null,null,{"$f":"SUMPRODUCT($D$8:D1937-$I$8:I1937)","v":30893.5}]
[null,null,null,null,null,null,null,null,null,null,{"$f":"SUMPRODUCT($D$8:D1938-$I$8:I1938)","v":30893.5}]
[null,null,null,null,null,null,null,null,null,null,{"$f":"SUMPRODUCT($D$8:D1939-$I$8:I1939)","v":30893.5}]
[null,null,null,null,null,null,null,null,null,null,{"$f":"SUMPRODUCT($D$8:D1940-$I$8:I1940)","v":30893.5}]
[null,null,null,null,null,null,null,null,null,null,{"$f":"SUMPRODUCT($D$8:D1941-$I$8:I1941)","v":30893.5}]
[null,null,null,null,null,null,null,null,null,null,{"$f":"SUMPRODUCT($D$8:D1942-$I$8:I1942)","v":30893.5}]
[null,null,null,null,null,null,null,null,null,null,{"$f":"SUMPRODUCT($D$8:D1943-$I$8:I1943)","v":30893.5}]
[null,null,null,null,null,null,null,null,null,null,{"$f":"SUMPRODUCT($D$8:D1944-$I$8:I1944)","v":30893.5}]
[null,null,null,null,null,null,null,null,null,null,{"$f":"SUMPRODUCT($D$8:D1945-$I$8:I1945)","v":30893.5}]
[null,null,null,null,null,null,null,null,null,null,{"$f":"SUMPRODUCT($D$8:D1946-$I$8:I1946)","v":30893.5}]
[null,null,null,null,null,null,null,null,null,null,{"$f":"SUMPRODUCT($D$8:D1947-$I$8:I1947)","v":30893.5}]
[null,null,null,null,null,null,null,null,null,null,{"$f":"SUMPRODUCT($D$8:D1948-$I$8:I1948)","v":30893.5}]
[null,null,null,null,null,null,null,null,null,null,{"$f":"SUMPRODUCT($D$8:D1949-$I$8:I1949)","v":30893.5}]
[null,null,null,null,null,null,null,null,null,null,{"$f":"SUMPRODUCT($D$8:D1950-$I$8:I1950)","v":30893.5}]
[null,null,null,null,null,null,null,null,null,null,{"$f":"SUMPRODUCT($D$8:D1951-$I$8:I1951)","v":30893.5}]
[null,null,null,null,null,null,null,null,null,null,{"$f":"SUMPRODUCT($D$8:D1952-$I$8:I1952)","v":30893.5}]
[null,null,null,null,null,null,null,null,null,null,{"$f":"SUMPRODUCT($D$8:D1953-$I$8:I1953)","v":30893.5}]
[null,null,null,null,null,null,null,null,null,null,{"$f":"SUMPRODUCT($D$8:D1954-$I$8:I1954)","v":30893.5}]
[null,null,null,null,null,null,null,null,null,null,{"$f":"SUMPRODUCT($D$8:D1955-$I$8:I1955)","v":30893.5}]
[null,null,null,null,null,null,null,null,null,null,{"$f":"SUMPRODUCT($D$8:D1956-$I$8:I1956)","v":30893.5}]
[null,null,null,null,null,null,null,null,null,null,{"$f":"SUMPRODUCT($D$8:D1957-$I$8:I1957)","v":30893.5}]
[null,null,null,null,null,null,null,null,null,null,{"$f":"SUMPRODUCT($D$8:D1958-$I$8:I1958)","v":30893.5}]
[null,null,null,null,null,null,null,null,null,null,{"$f":"SUMPRODUCT($D$8:D1959-$I$8:I1959)","v":30893.5}]
[null,null,null,null,null,null,null,null,null,null,{"$f":"SUMPRODUCT($D$8:D1960-$I$8:I1960)","v":30893.5}]
[null,null,null,null,null,null,null,null,null,null,{"$f":"SUMPRODUCT($D$8:D1961-$I$8:I1961)","v":30893.5}]
[null,null,null,null,null,null,null,null,null,null,{"$f":"SUMPRODUCT($D$8:D1962-$I$8:I1962)","v":30893.5}]
[null,null,null,null,null,null,null,null,null,null,{"$f":"SUMPRODUCT($D$8:D1963-$I$8:I1963)","v":30893.5}]
[null,null,null,null,null,null,null,null,null,null,{"$f":"SUMPRODUCT($D$8:D1964-$I$8:I1964)","v":30893.5}]
[null,null,null,null,null,null,null,null,null,null,{"$f":"SUMPRODUCT($D$8:D1965-$I$8:I1965)","v":30893.5}]
[null,null,null,null,null,null,null,null,null,null,{"$f":"SUMPRODUCT($D$8:D1966-$I$8:I1966)","v":30893.5}]
[null,null,null,null,null,null,null,null,null,null,{"$f":"SUMPRODUCT($D$8:D1967-$I$8:I1967)","v":30893.5}]
[null,null,null,null,null,null,null,null,null,null,{"$f":"SUMPRODUCT($D$8:D1968-$I$8:I1968)","v":30893.5}]
[null,null,null,null,null,null,null,null,null,null,{"$f":"SUMPRODUCT($D$8:D1969-$I$8:I1969)","v":30893.5}]
[null,null,null,null,null,null,null,null,null,null,{"$f":"SUMPRODUCT($D$8:D1970-$I$8:I1970)","v":30893.5}]
[null,null,null,null,null,null,null,null,null,null,{"$f":"SUMPRODUCT($D$8:D1971-$I$8:I1971)","v":30893.5}]
[null,null,null,null,null,null,null,null,null,null,{"$f":"SUMPRODUCT($D$8:D1972-$I$8:I1972)","v":30893.5}]
[null,null,null,null,null,null,null,null,null,null,{"$f":"SUMPRODUCT($D$8:D1973-$I$8:I1973)","v":30893.5}]
[null,null,null,null,null,null,null,null,null,null,{"$f":"SUMPRODUCT($D$8:D1974-$I$8:I1974)","v":30893.5}]
[null,null,null,null,null,null,null,null,null,null,{"$f":"SUMPRODUCT($D$8:D1975-$I$8:I1975)","v":30893.5}]
[null,null,null,null,null,null,null,null,null,null,{"$f":"SUMPRODUCT($D$8:D1976-$I$8:I1976)","v":30893.5}]
[null,null,null,null,null,null,null,null,null,null,{"$f":"SUMPRODUCT($D$8:D1977-$I$8:I1977)","v":30893.5}]
[null,null,null,null,null,null,null,null,null,null,{"$f":"SUMPRODUCT($D$8:D1978-$I$8:I1978)","v":30893.5}]
[null,null,null,null,null,null,null,null,null,null,{"$f":"SUMPRODUCT($D$8:D1979-$I$8:I1979)","v":30893.5}]
[null,null,null,null,null,null,null,null,null,null,{"$f":"SUMPRODUCT($D$8:D1980-$I$8:I1980)","v":30893.5}]
[null,null,null,null,null,null,null,null,null,null,{"$f":"SUMPRODUCT($D$8:D1981-$I$8:I1981)","v":30893.5}]
[null,null,null,null,null,null,null,null,null,null,{"$f":"SUMPRODUCT($D$8:D1982-$I$8:I1982)","v":30893.5}]
[null,null,null,null,null,null,null,null,null,null,{"$f":"SUMPRODUCT($D$8:D1983-$I$8:I1983)","v":30893.5}]
[null,null,null,null,null,null,null,null,null,null,{"$f":"SUMPRODUCT($D$8:D1984-$I$8:I1984)","v":30893.5}]
[null,null,null,null,null,null,null,null,null,null,{"$f":"SUMPRODUCT($D$8:D1985-$I$8:I1985)","v":30893.5}]
[null,null,null,null,null,null,null,null,null,null,{"$f":"SUMPRODUCT($D$8:D1986-$I$8:I1986)","v":30893.5}]
[null,null,null,null,null,null,null,null,null,null,{"$f":"SUMPRODUCT($D$8:D1987-$I$8:I1987)","v":30893.5}]
[null,null,null,null,null,null,null,null,null,null,{"$f":"SUMPRODUCT($D$8:D1988-$I$8:I1988)","v":30893.5}]
[null,null,null,null,null,null,null,null,null,null,{"$f":"SUMPRODUCT($D$8:D1989-$I$8:I1989)","v":30893.5}]
[null,null,null,null,null,null,null,null,null,null,{"$f":"SUMPRODUCT($D$8:D1990-$I$8:I1990)","v":30893.5}]
[null,null,null,null,null,null,null,null,null,null,{"$f":"SUMPRODUCT($D$8:D1991-$I$8:I1991)","v":30893.5}]
[null,null,null,null,null,null,null,null,null,null,{"$f":"SUMPRODUCT($D$8:D1992-$I$8:I1992)","v":30893.5}]
[null,null,null,null,null,null,null,null,null,null,{"$f":"SUMPRODUCT($D$8:D1993-$I$8:I1993)","v":30893.5}]
[null,null,null,null,null,null,null,null,null,null,{"$f":"SUMPRODUCT($D$8:D1994-$I$8:I1994)","v":30893.5}]
[null,null,null,null,null,null,null,null,null,null,{"$f":"SUMPRODUCT($D$8:D1995-$I$8:I1995)","v":30893.5}]
[null,null,null,null,null,null,null,null,null,null,{"$f":"SUMPRODUCT($D$8:D1996-$I$8:I1996)","v":30893.5}]
[null,null,null,null,null,null,null,null,null,null,{"$f":"SUMPRODUCT($D$8:D1997-$I$8:I1997)","v":30893.5}]
[null,null,null,null,null,null,null,null,null,null,{"$f":"SUMPRODUCT($D$8:D1998-$I$8:I1998)","v":30893.5}]
[null,null,null,null,null,null,null,null,null,null,{"$f":"SUMPRODUCT($D$8:D1999-$I$8:I1999)","v":30893.5}]
[null,null,null,null,null,null,null,null,null,null,{"$f":"SUMPRODUCT($D$8:D2000-$I$8:I2000)","v":30893.5}]

{"sheet":"أ د فيبر","index":5,"n_rows":17,"n_cols":19,"rows_kept":17,"cut":false,"hidden":false,"merged":[]}
[]
[]
[null,null,null,null,null,null,null,null,null,null,"كشف اوراق دفع الفيبر"]
[]
["اسم العميل","رقم الاذن","تاريخ الاستحقاق","القيمة","رقم الشيك","تاريخ الاستلام",null,"اسم البنك","حالة الشيك","الملاحظات"]
["ثروت  محمد السيد",125,"2019-02-01",80000,14038265535,"2019-02-01",null,"بنك الامارات دبى NBD","محصل","تمويل خزينة"]
["ثروت  محمد السيد",126,"2019-08-01",50000,1403856554,"2019-08-01",null,"بنك الامارات دبى NBD","محصل","تمويل خزينة"]
["صندوق اعانات الطوارىء للعمال",127,"2019-12-01",143,1403856555,"2019-12-01",null,"بنك الامارات دبى NBD","محصل","تمويل خزينة"]
["ثروت محمد السيد",128,"14/1/2019",33000,140356556,"14-1-2019",null,"بنك الامارات دبى NBD","محصل","تمويل خزينة"]
["ثروت محمد السيد",129,"28/1/2019",35000,1403856557,"28/1/2019",null,"بنك الامارات دبى NBD","محصل","تمويل خزينة"]
["ثروت محمد السيد",130,"30/1/2019",50000,1403856558,"30/1/2019",null,"بنك الامارات دبى NBD","محصل","تمويل خزينة"]
["ثروت محمد السيد",131,"2019-03-02",10500,1402935439,"2019-03-02",null,"بنك الامارات دبى NBD","محصل","تمويل خزينة (شيك وطنية)"]
["ثروت محمد السيد",132,"2019-05-02",40000,1402935440,"2019-03-02",null,"بنك الامارات دبى NBD","محصل","تمويل خزينة (شيك وطنية)"]
["صندوق اعانات الطوارىء للعمال",133,"2019-09-02",153,1403856559,"2019-09-02",null,"بنك الامارات دبى NBD","محصل","تمويل خزينة ",null,null,null,null,"بنك الامارات دبى NBD","يصرف نقدا","تمويل خزينة",null,"ث"]
["ثروت محمد السيد",134,"14/2/2019",70000,1403856560,"2019-09-02",null,"بنك الامارات دبى NBD","محصل","تمويل خزينة "]
["ثروت محمد السيد",135,"24/2/2019",60000,1403856561,"24/2/2019",null,"بنك الامارات دبى NBD","محصل","تمويل خزينة"]
["ثروت محمد السيد",136,"25/2/2019",50000,1403856562,"25/2/2019",null,"بنك الامارات دبى NBD","محصل","تمويل خزينة"]

{"sheet":"أ د بلاستيك","index":6,"n_rows":1998,"n_cols":14,"rows_kept":1998,"cut":false,"hidden":false,"merged":[]}
[]
[]
[]
[]
["اسم العميل","رقم الاذن","تاريخ الاستحقاق","القيمة","رقم الشيك","تاريخ الاستلام",null,"اسم البنك","حالة الشيك","الملاحظات"]
["ثروت محمد السيد",2382,"2019-02-01",100000,1241,"2019-02-01",null,"بنك المصرى الخليجى EGB","يصرف نقدا","تمويل خزينة",null,null,null,{"$f":"IFERROR(DATEDIF(TODAY(),F6,\"d\"),\"\")","v":""}]
["لاغى",2383,"2019-02-01",0,null,null,null,null,null,"لاغى",null,null,null,""]
["ثروت محمد السيد",2384,"2019-02-01",270000,1403856421,"2019-02-01",null,"بنك الامارات دبى NBD","يصرف نقدا","تمويل خزينة",null,null,null,""]
["ثروت محمد السيد",2385,"2019-02-01",370000,1243,"2019-02-01",null,"بنك المصرى الخليجى EGB","يصرف نقدا","تمويل خزينة",null,null,null,""]
["محمد ممدوح يوسف",2386,"2019-09-01",55000,1429166,"2019-09-01",null,"بنك الاستثمار العربى","تحت التحصيل","شراء خامات",null,null,null,172]
["محمود حسنى عبد الغنى سليمان",2387,"31/1/2019",20000,1244,"2019-10-01",null,"بنك المصرى الخليجى EGB","مؤجل","شراء خامات",null,null,null,202]
["اشيلية لخدمات الطباعة",2388,"31/1/2019",25433,1245,"2019-10-01",null,"بنك المصرى الخليجى EGB","مؤجل","شراء خامات",null,null,null,202]
["جنرال سيلندرز",2389,"31/1/2019",15368,1246,"2019-10-01",null,"بنك المصرى الخليجى EGB","مؤجل","شراء خامات",null,null,null,202]
["محمود حسنى عبد الغنى سليمان",2390,"15/2/2019",19000,1247,"2019-10-01",null,"بنك المصرى الخليجى EGB","مؤجل","شراء خامات",null,null,null,202]
[null,null,null,null,null,null,null,null,null,null,null,null,null,""]
[null,null,null,null,null,null,null,null,null,null,null,null,null,""]
[null,null,null,null,null,null,null,null,null,null,null,null,null,""]
[null,null,null,null,null,null,null,null,null,null,null,null,null,""]
[null,null,null,null,null,null,null,null,null,null,null,null,null,""]
[null,null,null,null,null,null,null,null,null,null,null,null,null,""]
[null,null,null,null,null,null,null,null,null,null,null,null,null,""]
[null,null,null,null,null,null,null,null,null,null,null,null,null,""]
[null,null,null,null,null,null,null,null,null,null,null,null,null,""]
[null,null,null,null,null,null,null,null,null,null,null,null,null,""]
[null,null,null,null,null,null,null,null,null,null,null,null,null,""]
[null,null,null,null,null,null,null,null,null,null,null,null,null,""]
[null,null,null,null,null,null,null,null,null,null,null,null,null,""]
[null,null,null,null,null,null,null,null,null,null,null,null,null,""]
[null,null,null,null,null,null,null,null,null,null,null,null,null,""]
[null,null,null,null,null,null,null,null,null,null,null,null,null,""]
[null,null,null,null,null,null,null,null,null,null,null,null,null,""]
[null,null,null,null,null,null,null,null,null,null,null,null,null,""]
[null,null,null,null,null,null,null,null,null,null,null,null,null,""]
[null,null,null,null,null,null,null,null,null,null,null,null,null,""]
[null,null,null,null,null,null,null,null,null,null,null,null,null,""]
[null,null,null,null,null,null,null,null,null,null,null,null,null,""]
[null,null,null,null,null,null,null,null,null,null,null,null,null,""]
[null,null,null,null,null,null,null,null,null,null,null,null,null,""]
[null,null,null,null,null,null,null,null,null,null,null,null,null,""]
[null,null,null,null,null,null,null,null,null,null,null,null,null,""]
[null,null,null,null,null,null,null,null,null,null,null,null,null,""]
[null,null,null,null,null,null,null,null,null,null,null,null,null,""]
[null,null,null,null,null,null,null,null,null,null,null,null,null,""]
[null,null,null,null,null,null,null,null,null,null,null,null,null,""]
[null,null,null,null,null,null,null,null,null,null,null,null,null,""]
[null,null,null,null,null,null,null,null,null,null,null,null,null,""]
[null,null,null,null,null,null,null,null,null,null,null,null,null,""]
[null,null,null,null,null,null,null,null,null,null,null,null,null,""]
[null,null,null,null,null,null,null,null,null,null,null,null,null,""]
[null,null,null,null,null,null,null,null,null,null,null,null,null,""]
[null,null,null,null,null,null,null,null,null,null,null,null,null,""]
[null,null,null,null,null,null,null,null,null,null,null,null,null,""]
[null,null,null,null,null,null,null,null,null,null,null,null,null,""]
[null,null,null,null,null,null,null,null,null,null,null,null,null,""]
[null,null,null,null,null,null,null,null,null,null,null,null,null,""]
[null,null,null,null,null,null,null,null,null,null,null,null,null,""]
[null,null,null,null,null,null,null,null,null,null,null,null,null,""]
[null,null,null,null,null,null,null,null,null,null,null,null,null,""]
[null,null,null,null,null,null,null,null,null,null,null,null,null,""]
[null,null,null,null,null,null,null,null,null,null,null,null,null,""]
[null,null,null,null,null,null,null,null,null,null,null,null,null,""]
[null,null,null,null,null,null,null,null,null,null,null,null,null,""]
[null,null,null,null,null,null,null,null,null,null,null,null,null,""]
[null,null,null,null,null,null,null,null,null,null,null,null,null,""]
[null,null,null,null,null,null,null,null,null,null,null,null,null,""]
[null,null,null,null,null,null,null,null,null,null,null,null,null,""]
[null,null,null,null,null,null,null,null,null,null,null,null,null,""]
[null,null,null,null,null,null,null,null,null,null,null,null,null,""]
[null,null,null,null,null,null,null,null,null,null,null,null,null,""]
[null,null,null,null,null,null,null,null,null,null,null,null,null,{"$f":"IFERROR(DATEDIF(TODAY(),F70,\"d\"),\"\")","v":""}]
[null,null,null,null,null,null,null,null,null,null,null,null,null,""]
[null,null,null,null,null,null,null,null,null,null,null,null,null,""]
[null,null,null,null,null,null,null,null,null,null,null,null,null,""]
[null,null,null,null,null,null,null,null,null,null,null,null,null,""]
[null,null,null,null,null,null,null,null,null,null,null,null,null,""]
[null,null,null,null,null,null,null,null,null,null,null,null,null,""]
[null,null,null,null,null,null,null,null,null,null,null,null,null,""]
[null,null,null,null,null,null,null,null,null,null,null,null,null,""]
[null,null,null,null,null,null,null,null,null,null,null,null,null,""]
[null,null,null,null,null,null,null,null,null,null,null,null,null,""]
[null,null,null,null,null,null,null,null,null,null,null,null,null,""]
[null,null,null,null,null,null,null,null,null,null,null,null,null,""]
[null,null,null,null,null,null,null,null,null,null,null,null,null,""]
[null,null,null,null,null,null,null,null,null,null,null,null,null,""]
[null,null,null,null,null,null,null,null,null,null,null,null,null,""]
[null,null,null,null,null,null,null,null,null,null,null,null,null,""]
[null,null,null,null,null,null,null,null,null,null,null,null,null,""]
[null,null,null,null,null,null,null,null,null,null,null,null,null,""]
[null,null,null,null,null,null,null,null,null,null,null,null,null,""]
[null,null,null,null,null,null,null,null,null,null,null,null,null,""]
[null,null,null,null,null,null,null,null,null,null,null,null,null,""]
[null,null,null,null,null,null,null,null,null,null,null,null,null,""]
[null,null,null,null,null,null,null,null,null,null,null,null,null,""]
[null,null,null,null,null,null,null,null,null,null,null,null,null,""]
[null,null,null,null,null,null,null,null,null,null,null,null,null,""]
[null,null,null,null,null,null,null,null,null,null,null,null,null,""]
[null,null,null,null,null,null,null,null,null,null,null,null,null,""]
[null,null,null,null,null,null,null,null,null,null,null,null,null,""]
[null,null,null,null,null,null,null,null,null,null,null,null,null,""]
[null,null,null,null,null,null,null,null,null,null,null,null,null,""]
[null,null,null,null,null,null,null,null,null,null,null,null,null,""]
[null,null,null,null,null,null,null,null,null,null,null,null,null,""]
[null,null,null,null,null,null,null,null,null,null,null,null,null,""]
[null,null,null,null,null,null,null,null,null,null,null,null,null,""]
[null,null,null,null,null,null,null,null,null,null,null,null,null,""]
[null,null,null,null,null,null,null,null,null,null,null,null,null,""]
[null,null,null,null,null,null,null,null,null,null,null,null,null,""]
[null,null,null,null,null,null,null,null,null,null,null,null,null,""]
[null,null,null,null,null,null,null,null,null,null,null,null,null,""]
[null,null,null,null,null,null,null,null,null,null,null,null,null,""]
[null,null,null,null,null,null,null,null,null,null,null,null,null,""]
[null,null,null,null,null,null,null,null,null,null,null,null,null,""]
[null,null,null,null,null,null,null,null,null,null,null,null,null,""]
[null,null,null,null,null,null,null,null,null,null,null,null,null,""]
[null,null,null,null,null,null,null,null,null,null,null,null,null,""]
[null,null,null,null,null,null,null,null,null,null,null,null,null,""]
[null,null,null,null,null,null,null,null,null,null,null,null,null,""]
[null,null,null,null,null,null,null,null,null,null,null,null,null,""]
[null,null,null,null,null,null,null,null,null,null,null,null,null,""]
[null,null,null,null,null,null,null,null,null,null,null,null,null,""]
[null,null,null,null,null,null,null,null,null,null,null,null,null,""]
[null,null,null,null,null,null,null,null,null,null,null,null,null,""]
[null,null,null,null,null,null,null,null,null,null,null,null,null,""]
[null,null,null,null,null,null,null,null,null,null,null,null,null,""]
[null,null,null,null,null,null,null,null,null,null,null,null,null,""]
[null,null,null,null,null,null,null,null,null,null,null,null,null,""]
[null,null,null,null,null,null,null,null,null,null,null,null,null,""]
[null,null,null,null,null,null,null,null,null,null,null,null,null,""]
[null,null,null,null,null,null,null,null,null,null,null,null,null,""]
[null,null,null,null,null,null,null,null,null,null,null,null,null,""]
[null,null,null,null,null,null,null,null,null,null,null,null,null,""]
[null,null,null,null,null,null,null,null,null,null,null,null,null,""]
[null,null,null,null,null,null,null,null,null,null,null,null,null,""]
[null,null,null,null,null,null,null,null,null,null,null,null,null,{"$f":"IFERROR(DATEDIF(TODAY(),F134,\"d\"),\"\")","v":""}]
[null,null,null,null,null,null,null,null,null,null,null,null,null,""]
[null,null,null,null,null,null,null,null,null,null,null,null,null,""]
[null,null,null,null,null,null,null,null,null,null,null,null,null,""]
[null,null,null,null,null,null,null,null,null,null,null,null,null,""]
[null,null,null,null,null,null,null,null,null,null,null,null,null,""]
[null,null,null,null,null,null,null,null,null,null,null,null,null,""]
[null,null,null,null,null,null,null,null,null,null,null,null,null,""]
[null,null,null,null,null,null,null,null,null,null,null,null,null,""]
[null,null,null,null,null,null,null,null,null,null,null,null,null,""]
[null,null,null,null,null,null,null,null,null,null,null,null,null,""]
[null,null,null,null,null,null,null,null,null,null,null,null,null,""]
[null,null,null,null,null,null,null,null,null,null,null,null,null,""]
[null,null,null,null,null,null,null,null,null,null,null,null,null,""]
[null,null,null,null,null,null,null,null,null,null,null,null,null,""]
[null,null,null,null,null,null,null,null,null,null,null,null,null,""]
[null,null,null,null,null,null,null,null,null,null,null,null,null,""]
[null,null,null,null,null,null,null,null,null,null,null,null,null,""]
[null,null,null,null,null,null,null,null,null,null,null,null,null,""]
[null,null,null,null,null,null,null,null,null,null,null,null,null,""]
[null,null,null,null,null,null,null,null,null,null,null,null,null,""]
[null,null,null,null,null,null,null,null,null,null,null,null,null,""]
[null,null,null,null,null,null,null,null,null,null,null,null,null,""]
[null,null,null,null,null,null,null,null,null,null,null,null,null,""]
[null,null,null,null,null,null,null,null,null,null,null,null,null,""]
[null,null,null,null,null,null,null,null,null,null,null,null,null,""]
[null,null,null,null,null,null,null,null,null,null,null,null,null,""]
[null,null,null,null,null,null,null,null,null,null,null,null,null,""]
[null,null,null,null,null,null,null,null,null,null,null,null,null,""]
[null,null,null,null,null,null,null,null,null,null,null,null,null,""]
[null,null,null,null,null,null,null,null,null,null,null,null,null,""]
[null,null,null,null,null,null,null,null,null,null,null,null,null,""]
[null,null,null,null,null,null,null,null,null,null,null,null,null,""]
[null,null,null,null,null,null,null,null,null,null,null,null,null,""]
[null,null,null,null,null,null,null,null,null,null,null,null,null,""]
[null,null,null,null,null,null,null,null,null,null,null,null,null,""]
[null,null,null,null,null,null,null,null,null,null,null,null,null,""]
[null,null,null,null,null,null,null,null,null,null,null,null,null,""]
[null,null,null,null,null,null,null,null,null,null,null,null,null,""]
[null,null,null,null,null,null,null,null,null,null,null,null,null,""]
[null,null,null,null,null,null,null,null,null,null,null,null,null,""]
[null,null,null,null,null,null,null,null,null,null,null,null,null,""]
[null,null,null,null,null,null,null,null,null,null,null,null,null,""]
[null,null,null,null,null,null,null,null,null,null,null,null,null,""]
[null,null,null,null,null,null,null,null,null,null,null,null,null,""]
[null,null,null,null,null,null,null,null,null,null,null,null,null,""]
[null,null,null,null,null,null,null,null,null,null,null,null,null,""]
[null,null,null,null,null,null,null,null,null,null,null,null,null,""]
[null,null,null,null,null,null,null,null,null,null,null,null,null,""]
[null,null,null,null,null,null,null,null,null,null,null,null,null,""]
[null,null,null,null,null,null,null,null,null,null,null,null,null,""]
[null,null,null,null,null,null,null,null,null,null,null,null,null,""]
[null,null,null,null,null,null,null,null,null,null,null,null,null,""]
[null,null,null,null,null,null,null,null,null,null,null,null,null,""]
[null,null,null,null,null,null,null,null,null,null,null,null,null,""]
[null,null,null,null,null,null,null,null,null,null,null,null,null,""]
[null,null,null,null,null,null,null,null,null,null,null,null,null,""]
[null,null,null,null,null,null,null,null,null,null,null,null,null,""]
[null,null,null,null,null,null,null,null,null,null,null,null,null,""]
[null,null,null,null,null,null,null,null,null,null,null,null,null,""]
[null,null,null,null,null,null,null,null,null,null,null,null,null,""]
[null,null,null,null,null,null,null,null,null,null,null,null,null,""]
[null,null,null,null,null,null,null,null,null,null,null,null,null,""]
[null,null,null,null,null,null,null,null,null,null,null,null,null,""]
[null,null,null,null,null,null,null,null,null,null,null,null,null,{"$f":"IFERROR(DATEDIF(TODAY(),F198,\"d\"),\"\")","v":""}]
[null,null,null,null,null,null,null,null,null,null,null,null,null,""]
[null,null,null,null,null,null,null,null,null,null,null,null,null,""]
[null,null,null,null,null,null,null,null,null,null,null,null,null,""]
[null,null,null,null,null,null,null,null,null,null,null,null,null,""]
[null,null,null,null,null,null,null,null,null,null,null,null,null,""]
[null,null,null,null,null,null,null,null,null,null,null,null,null,""]
[null,null,null,null,null,null,null,null,null,null,null,null,null,""]
[null,null,null,null,null,null,null,null,null,null,null,null,null,""]
[null,null,null,null,null,null,null,null,null,null,null,null,null,""]
[null,null,null,null,null,null,null,null,null,null,null,null,null,""]
[null,null,null,null,null,null,null,null,null,null,null,null,null,""]
[null,null,null,null,null,null,null,null,null,null,null,null,null,""]
[null,null,null,null,null,null,null,null,null,null,null,null,null,""]
[null,null,null,null,null,null,null,null,null,null,null,null,null,""]
[null,null,null,null,null,null,null,null,null,null,null,null,null,""]
[null,null,null,null,null,null,null,null,null,null,null,null,null,""]
[null,null,null,null,null,null,null,null,null,null,null,null,null,""]
[null,null,null,null,null,null,null,null,null,null,null,null,null,""]
[null,null,null,null,null,null,null,null,null,null,null,null,null,""]
[null,null,null,null,null,null,null,null,null,null,null,null,null,""]
[null,null,null,null,null,null,null,null,null,null,null,null,null,""]
[null,null,null,null,null,null,null,null,null,null,null,null,null,""]
[null,null,null,null,null,null,null,null,null,null,null,null,null,""]
[null,null,null,null,null,null,null,null,null,null,null,null,null,""]
[null,null,null,null,null,null,null,null,null,null,null,null,null,""]
[null,null,null,null,null,null,null,null,null,null,null,null,null,""]
[null,null,null,null,null,null,null,null,null,null,null,null,null,""]
[null,null,null,null,null,null,null,null,null,null,null,null,null,""]
[null,null,null,null,null,null,null,null,null,null,null,null,null,""]
[null,null,null,null,null,null,null,null,null,null,null,null,null,""]
[null,null,null,null,null,null,null,null,null,null,null,null,null,""]
[null,null,null,null,null,null,null,null,null,null,null,null,null,""]
[null,null,null,null,null,null,null,null,null,null,null,null,null,""]
[null,null,null,null,null,null,null,null,null,null,null,null,null,""]
[null,null,null,null,null,null,null,null,null,null,null,null,null,""]
[null,null,null,null,null,null,null,null,null,null,null,null,null,""]
[null,null,null,null,null,null,null,null,null,null,null,null,null,""]
[null,null,null,null,null,null,null,null,null,null,null,null,null,""]
[null,null,null,null,null,null,null,null,null,null,null,null,null,""]
[null,null,null,null,null,null,null,null,null,null,null,null,null,""]
[null,null,null,null,null,null,null,null,null,null,null,null,null,""]
[null,null,null,null,null,null,null,null,null,null,null,null,null,""]
[null,null,null,null,null,null,null,null,null,null,null,null,null,""]
[null,null,null,null,null,null,null,null,null,null,null,null,null,""]
[null,null,null,null,null,null,null,null,null,null,null,null,null,""]
[null,null,null,null,null,null,null,null,null,null,null,null,null,""]
[null,null,null,null,null,null,null,null,null,null,null,null,null,""]
[null,null,null,null,null,null,null,null,null,null,null,null,null,""]
[null,null,null,null,null,null,null,null,null,null,null,null,null,""]
[null,null,null,null,null,null,null,null,null,null,null,null,null,""]
[null,null,null,null,null,null,null,null,null,null,null,null,null,""]
[null,null,null,null,null,null,null,null,null,null,null,null,null,""]
[null,null,null,null,null,null,null,null,null,null,null,null,null,""]
[null,null,null,null,null,null,null,null,null,null,null,null,null,""]
[null,null,null,null,null,null,null,null,null,null,null,null,null,""]
[null,null,null,null,null,null,null,null,null,null,null,null,null,""]
[null,null,null,null,null,null,null,null,null,null,null,null,null,""]
[null,null,null,null,null,null,null,null,null,null,null,null,null,""]
[null,null,null,null,null,null,null,null,null,null,null,null,null,""]
[null,null,null,null,null,null,null,null,null,null,null,null,null,""]
[null,null,null,null,null,null,null,null,null,null,null,null,null,""]
[null,null,null,null,null,null,null,null,null,null,null,null,null,""]
[null,null,null,null,null,null,null,null,null,null,null,null,null,""]
[null,null,null,null,null,null,null,null,null,null,null,null,null,{"$f":"IFERROR(DATEDIF(TODAY(),F262,\"d\"),\"\")","v":""}]
[null,null,null,null,null,null,null,null,null,null,null,null,null,""]
[null,null,null,null,null,null,null,null,null,null,null,null,null,""]
[null,null,null,null,null,null,null,null,null,null,null,null,null,""]
[null,null,null,null,null,null,null,null,null,null,null,null,null,""]
[null,null,null,null,null,null,null,null,null,null,null,null,null,""]
[null,null,null,null,null,null,null,null,null,null,null,null,null,""]
[null,null,null,null,null,null,null,null,null,null,null,null,null,""]
[null,null,null,null,null,null,null,null,null,null,null,null,null,""]
[null,null,null,null,null,null,null,null,null,null,null,null,null,""]
[null,null,null,null,null,null,null,null,null,null,null,null,null,""]
[null,null,null,null,null,null,null,null,null,null,null,null,null,""]
[null,null,null,null,null,null,null,null,null,null,null,null,null,""]
[null,null,null,null,null,null,null,null,null,null,null,null,null,""]
[null,null,null,null,null,null,null,null,null,null,null,null,null,""]
[null,null,null,null,null,null,null,null,null,null,null,null,null,""]
[null,null,null,null,null,null,null,null,null,null,null,null,null,""]
[null,null,null,null,null,null,null,null,null,null,null,null,null,""]
[null,null,null,null,null,null,null,null,null,null,null,null,null,""]
[null,null,null,null,null,null,null,null,null,null,null,null,null,""]
[null,null,null,null,null,null,null,null,null,null,null,null,null,""]
[null,null,null,null,null,null,null,null,null,null,null,null,null,""]
[null,null,null,null,null,null,null,null,null,null,null,null,null,""]
[null,null,null,null,null,null,null,null,null,null,null,null,null,""]
[null,null,null,null,null,null,null,null,null,null,null,null,null,""]
[null,null,null,null,null,null,null,null,null,null,null,null,null,""]
[null,null,null,null,null,null,null,null,null,null,null,null,null,""]
[null,null,null,null,null,null,null,null,null,null,null,null,null,""]
[null,null,null,null,null,null,null,null,null,null,null,null,null,""]
[null,null,null,null,null,null,null,null,null,null,null,null,null,""]
[null,null,null,null,null,null,null,null,null,null,null,null,null,""]
[null,null,null,null,null,null,null,null,null,null,null,null,null,""]
[null,null,null,null,null,null,null,null,null,null,null,null,null,""]
[null,null,null,null,null,null,null,null,null,null,null,null,null,""]
[null,null,null,null,null,null,null,null,null,null,null,null,null,""]
[null,null,null,null,null,null,null,null,null,null,null,null,null,""]
[null,null,null,null,null,null,null,null,null,null,null,null,null,""]
[null,null,null,null,null,null,null,null,null,null,null,null,null,""]
[null,null,null,null,null,null,null,null,null,null,null,null,null,""]
[null,null,null,null,null,null,null,null,null,null,null,null,null,""]
[null,null,null,null,null,null,null,null,null,null,null,null,null,""]
[null,null,null,null,null,null,null,null,null,null,null,null,null,""]
[null,null,null,null,null,null,null,null,null,null,null,null,null,""]
[null,null,null,null,null,null,null,null,null,null,null,null,null,""]
[null,null,null,null,null,null,null,null,null,null,null,null,null,""]
[null,null,null,null,null,null,null,null,null,null,null,null,null,""]
[null,null,null,null,null,null,null,null,null,null,null,null,null,""]
[null,null,null,null,null,null,null,null,null,null,null,null,null,""]
[null,null,null,null,null,null,null,null,null,null,null,null,null,""]
[null,null,null,null,null,null,null,null,null,null,null,null,null,""]
[null,null,null,null,null,null,null,null,null,null,null,null,null,""]
[null,null,null,null,null,null,null,null,null,null,null,null,null,""]
[null,null,null,null,null,null,null,null,null,null,null,null,null,""]
[null,null,null,null,null,null,null,null,null,null,null,null,null,""]
[null,null,null,null,null,null,null,null,null,null,null,null,null,""]
[null,null,null,null,null,null,null,null,null,null,null,null,null,""]
[null,null,null,null,null,null,null,null,null,null,null,null,null,""]
[null,null,null,null,null,null,null,null,null,null,null,null,null,""]
[null,null,null,null,null,null,null,null,null,null,null,null,null,""]
[null,null,null,null,null,null,null,null,null,null,null,null,null,""]
[null,null,null,null,null,null,null,null,null,null,null,null,null,""]
[null,null,null,null,null,null,null,null,null,null,null,null,null,""]
[null,null,null,null,null,null,null,null,null,null,null,null,null,""]
[null,null,null,null,null,null,null,null,null,null,null,null,null,""]
[null,null,null,null,null,null,null,null,null,null,null,null,null,{"$f":"IFERROR(DATEDIF(TODAY(),F326,\"d\"),\"\")","v":""}]
[null,null,null,null,null,null,null,null,null,null,null,null,null,""]
[null,null,null,null,null,null,null,null,null,null,null,null,null,""]
[null,null,null,null,null,null,null,null,null,null,null,null,null,""]
[null,null,null,null,null,null,null,null,null,null,null,null,null,""]
[null,null,null,null,null,null,null,null,null,null,null,null,null,""]
[null,null,null,null,null,null,null,null,null,null,null,null,null,""]
[null,null,null,null,null,null,null,null,null,null,null,null,null,""]
[null,null,null,null,null,null,null,null,null,null,null,null,null,""]
[null,null,null,null,null,null,null,null,null,null,null,null,null,""]
[null,null,null,null,null,null,null,null,null,null,null,null,null,""]
[null,null,null,null,null,null,null,null,null,null,null,null,null,""]
[null,null,null,null,null,null,null,null,null,null,null,null,null,""]
[null,null,null,null,null,null,null,null,null,null,null,null,null,""]
[null,null,null,null,null,null,null,null,null,null,null,null,null,""]
[null,null,null,null,null,null,null,null,null,null,null,null,null,""]
[null,null,null,null,null,null,null,null,null,null,null,null,null,""]
[null,null,null,null,null,null,null,null,null,null,null,null,null,""]
[null,null,null,null,null,null,null,null,null,null,null,null,null,""]
[null,null,null,null,null,null,null,null,null,null,null,null,null,""]
[null,null,null,null,null,null,null,null,null,null,null,null,null,""]
[null,null,null,null,null,null,null,null,null,null,null,null,null,""]
[null,null,null,null,null,null,null,null,null,null,null,null,null,""]
[null,null,null,null,null,null,null,null,null,null,null,null,null,""]
[null,null,null,null,null,null,null,null,null,null,null,null,null,""]
[null,null,null,null,null,null,null,null,null,null,null,null,null,""]
[null,null,null,null,null,null,null,null,null,null,null,null,null,""]
[null,null,null,null,null,null,null,null,null,null,null,null,null,""]
[null,null,null,null,null,null,null,null,null,null,null,null,null,""]
[null,null,null,null,null,null,null,null,null,null,null,null,null,""]
[null,null,null,null,null,null,null,null,null,null,null,null,null,""]
[null,null,null,null,null,null,null,null,null,null,null,null,null,""]
[null,null,null,null,null,null,null,null,null,null,null,null,null,""]
[null,null,null,null,null,null,null,null,null,null,null,null,null,""]
[null,null,null,null,null,null,null,null,null,null,null,null,null,""]
[null,null,null,null,null,null,null,null,null,null,null,null,null,""]
[null,null,null,null,null,null,null,null,null,null,null,null,null,""]
[null,null,null,null,null,null,null,null,null,null,null,null,null,""]
[null,null,null,null,null,null,null,null,null,null,null,null,null,""]
[null,null,null,null,null,null,null,null,null,null,null,null,null,""]
[null,null,null,null,null,null,null,null,null,null,null,null,null,""]
[null,null,null,null,null,null,null,null,null,null,null,null,null,""]
[null,null,null,null,null,null,null,null,null,null,null,null,null,""]
[null,null,null,null,null,null,null,null,null,null,null,null,null,""]
[null,null,null,null,null,null,null,null,null,null,null,null,null,""]
[null,null,null,null,null,null,null,null,null,null,null,null,null,""]
[null,null,null,null,null,null,null,null,null,null,null,null,null,""]
[null,null,null,null,null,null,null,null,null,null,null,null,null,""]
[null,null,null,null,null,null,null,null,null,null,null,null,null,""]
[null,null,null,null,null,null,null,null,null,null,null,null,null,""]
[null,null,null,null,null,null,null,null,null,null,null,null,null,""]
[null,null,null,null,null,null,null,null,null,null,null,null,null,""]
[null,null,null,null,null,null,null,null,null,null,null,null,null,""]
[null,null,null,null,null,null,null,null,null,null,null,null,null,""]
[null,null,null,null,null,null,null,null,null,null,null,null,null,""]
[null,null,null,null,null,null,null,null,null,null,null,null,null,""]
[null,null,null,null,null,null,null,null,null,null,null,null,null,""]
[null,null,null,null,null,null,null,null,null,null,null,null,null,""]
[null,null,null,null,null,null,null,null,null,null,null,null,null,""]
[null,null,null,null,null,null,null,null,null,null,null,null,null,""]
[null,null,null,null,null,null,null,null,null,null,null,null,null,""]
[null,null,null,null,null,null,null,null,null,null,null,null,null,""]
[null,null,null,null,null,null,null,null,null,null,null,null,null,""]
[null,null,null,null,null,null,null,null,null,null,null,null,null,""]
[null,null,null,null,null,null,null,null,null,null,null,null,null,{"$f":"IFERROR(DATEDIF(TODAY(),F390,\"d\"),\"\")","v":""}]
[null,null,null,null,null,null,null,null,null,null,null,null,null,""]
[null,null,null,null,null,null,null,null,null,null,null,null,null,""]
[null,null,null,null,null,null,null,null,null,null,null,null,null,""]
[null,null,null,null,null,null,null,null,null,null,null,null,null,""]
[null,null,null,null,null,null,null,null,null,null,null,null,null,""]
[null,null,null,null,null,null,null,null,null,null,null,null,null,""]
[null,null,null,null,null,null,null,null,null,null,null,null,null,""]
[null,null,null,null,null,null,null,null,null,null,null,null,null,""]
[null,null,null,null,null,null,null,null,null,null,null,null,null,""]
[null,null,null,null,null,null,null,null,null,null,null,null,null,""]
[null,null,null,null,null,null,null,null,null,null,null,null,null,""]
[null,null,null,null,null,null,null,null,null,null,null,null,null,""]
[null,null,null,null,null,null,null,null,null,null,null,null,null,""]
[null,null,null,null,null,null,null,null,null,null,null,null,null,""]
[null,null,null,null,null,null,null,null,null,null,null,null,null,""]
[null,null,null,null,null,null,null,null,null,null,null,null,null,""]
[null,null,null,null,null,null,null,null,null,null,null,null,null,""]
[null,null,null,null,null,null,null,null,null,null,null,null,null,""]
[null,null,null,null,null,null,null,null,null,null,null,null,null,""]
[null,null,null,null,null,null,null,null,null,null,null,null,null,""]
[null,null,null,null,null,null,null,null,null,null,null,null,null,""]
[null,null,null,null,null,null,null,null,null,null,null,null,null,""]
[null,null,null,null,null,null,null,null,null,null,null,null,null,""]
[null,null,null,null,null,null,null,null,null,null,null,null,null,""]
[null,null,null,null,null,null,null,null,null,null,null,null,null,""]
[null,null,null,null,null,null,null,null,null,null,null,null,null,""]
[null,null,null,null,null,null,null,null,null,null,null,null,null,""]
[null,null,null,null,null,null,null,null,null,null,null,null,null,""]
[null,null,null,null,null,null,null,null,null,null,null,null,null,""]
[null,null,null,null,null,null,null,null,null,null,null,null,null,""]
[null,null,null,null,null,null,null,null,null,null,null,null,null,""]
[null,null,null,null,null,null,null,null,null,null,null,null,null,""]
[null,null,null,null,null,null,null,null,null,null,null,null,null,""]
[null,null,null,null,null,null,null,null,null,null,null,null,null,""]
[null,null,null,null,null,null,null,null,null,null,null,null,null,""]
[null,null,null,null,null,null,null,null,null,null,null,null,null,""]
[null,null,null,null,null,null,null,null,null,null,null,null,null,""]
[null,null,null,null,null,null,null,null,null,null,null,null,null,""]
[null,null,null,null,null,null,null,null,null,null,null,null,null,""]
[null,null,null,null,null,null,null,null,null,null,null,null,null,""]
[null,null,null,null,null,null,null,null,null,null,null,null,null,""]
[null,null,null,null,null,null,null,null,null,null,null,null,null,""]
[null,null,null,null,null,null,null,null,null,null,null,null,null,""]
[null,null,null,null,null,null,null,null,null,null,null,null,null,""]
[null,null,null,null,null,null,null,null,null,null,null,null,null,""]
[null,null,null,null,null,null,null,null,null,null,null,null,null,""]
[null,null,null,null,null,null,null,null,null,null,null,null,null,""]
[null,null,null,null,null,null,null,null,null,null,null,null,null,""]
[null,null,null,null,null,null,null,null,null,null,null,null,null,""]
[null,null,null,null,null,null,null,null,null,null,null,null,null,""]
[null,null,null,null,null,null,null,null,null,null,null,null,null,""]
[null,null,null,null,null,null,null,null,null,null,null,null,null,""]
[null,null,null,null,null,null,null,null,null,null,null,null,null,""]
[null,null,null,null,null,null,null,null,null,null,null,null,null,""]
[null,null,null,null,null,null,null,null,null,null,null,null,null,""]
[null,null,null,null,null,null,null,null,null,null,null,null,null,""]
[null,null,null,null,null,null,null,null,null,null,null,null,null,""]
[null,null,null,null,null,null,null,null,null,null,null,null,null,""]
[null,null,null,null,null,null,null,null,null,null,null,null,null,""]
[null,null,null,null,null,null,null,null,null,null,null,null,null,""]
[null,null,null,null,null,null,null,null,null,null,null,null,null,""]
[null,null,null,null,null,null,null,null,null,null,null,null,null,""]
[null,null,null,null,null,null,null,null,null,null,null,null,null,""]
[null,null,null,null,null,null,null,null,null,null,null,null,null,{"$f":"IFERROR(DATEDIF(TODAY(),F454,\"d\"),\"\")","v":""}]
[null,null,null,null,null,null,null,null,null,null,null,null,null,""]
[null,null,null,null,null,null,null,null,null,null,null,null,null,""]
[null,null,null,null,null,null,null,null,null,null,null,null,null,""]
[null,null,null,null,null,null,null,null,null,null,null,null,null,""]
[null,null,null,null,null,null,null,null,null,null,null,null,null,""]
[null,null,null,null,null,null,null,null,null,null,null,null,null,""]
[null,null,null,null,null,null,null,null,null,null,null,null,null,""]
[null,null,null,null,null,null,null,null,null,null,null,null,null,""]
[null,null,null,null,null,null,null,null,null,null,null,null,null,""]
[null,null,null,null,null,null,null,null,null,null,null,null,null,""]
[null,null,null,null,null,null,null,null,null,null,null,null,null,""]
[null,null,null,null,null,null,null,null,null,null,null,null,null,""]
[null,null,null,null,null,null,null,null,null,null,null,null,null,""]
[null,null,null,null,null,null,null,null,null,null,null,null,null,""]
[null,null,null,null,null,null,null,null,null,null,null,null,null,""]
[null,null,null,null,null,null,null,null,null,null,null,null,null,""]
[null,null,null,null,null,null,null,null,null,null,null,null,null,""]
[null,null,null,null,null,null,null,null,null,null,null,null,null,""]
[null,null,null,null,null,null,null,null,null,null,null,null,null,""]
[null,null,null,null,null,null,null,null,null,null,null,null,null,""]
[null,null,null,null,null,null,null,null,null,null,null,null,null,""]
[null,null,null,null,null,null,null,null,null,null,null,null,null,""]
[null,null,null,null,null,null,null,null,null,null,null,null,null,""]
[null,null,null,null,null,null,null,null,null,null,null,null,null,""]
[null,null,null,null,null,null,null,null,null,null,null,null,null,""]
[null,null,null,null,null,null,null,null,null,null,null,null,null,""]
[null,null,null,null,null,null,null,null,null,null,null,null,null,""]
[null,null,null,null,null,null,null,null,null,null,null,null,null,""]
[null,null,null,null,null,null,null,null,null,null,null,null,null,""]
[null,null,null,null,null,null,null,null,null,null,null,null,null,""]
[null,null,null,null,null,null,null,null,null,null,null,null,null,""]
[null,null,null,null,null,null,null,null,null,null,null,null,null,""]
[null,null,null,null,null,null,null,null,null,null,null,null,null,""]
[null,null,null,null,null,null,null,null,null,null,null,null,null,""]
[null,null,null,null,null,null,null,null,null,null,null,null,null,""]
[null,null,null,null,null,null,null,null,null,null,null,null,null,""]
[null,null,null,null,null,null,null,null,null,null,null,null,null,""]
[null,null,null,null,null,null,null,null,null,null,null,null,null,""]
[null,null,null,null,null,null,null,null,null,null,null,null,null,""]
[null,null,null,null,null,null,null,null,null,null,null,null,null,""]
[null,null,null,null,null,null,null,null,null,null,null,null,null,""]
[null,null,null,null,null,null,null,null,null,null,null,null,null,""]
[null,null,null,null,null,null,null,null,null,null,null,null,null,""]
[null,null,null,null,null,null,null,null,null,null,null,null,null,""]
[null,null,null,null,null,null,null,null,null,null,null,null,null,""]
[null,null,null,null,null,null,null,null,null,null,null,null,null,""]
[null,null,null,null,null,null,null,null,null,null,null,null,null,""]
[null,null,null,null,null,null,null,null,null,null,null,null,null,""]
[null,null,null,null,null,null,null,null,null,null,null,null,null,""]
[null,null,null,null,null,null,null,null,null,null,null,null,null,""]
[null,null,null,null,null,null,null,null,null,null,null,null,null,""]
[null,null,null,null,null,null,null,null,null,null,null,null,null,""]
[null,null,null,null,null,null,null,null,null,null,null,null,null,""]
[null,null,null,null,null,null,null,null,null,null,null,null,null,""]
[null,null,null,null,null,null,null,null,null,null,null,null,null,""]
[null,null,null,null,null,null,null,null,null,null,null,null,null,""]
[null,null,null,null,null,null,null,null,null,null,null,null,null,""]
[null,null,null,null,null,null,null,null,null,null,null,null,null,""]
[null,null,null,null,null,null,null,null,null,null,null,null,null,""]
[null,null,null,null,null,null,null,null,null,null,null,null,null,""]
[null,null,null,null,null,null,null,null,null,null,null,null,null,""]
[null,null,null,null,null,null,null,null,null,null,null,null,null,""]
[null,null,null,null,null,null,null,null,null,null,null,null,null,""]
[null,null,null,null,null,null,null,null,null,null,null,null,null,{"$f":"IFERROR(DATEDIF(TODAY(),F518,\"d\"),\"\")","v":""}]
[null,null,null,null,null,null,null,null,null,null,null,null,null,""]
[null,null,null,null,null,null,null,null,null,null,null,null,null,""]
[null,null,null,null,null,null,null,null,null,null,null,null,null,""]
[null,null,null,null,null,null,null,null,null,null,null,null,null,""]
[null,null,null,null,null,null,null,null,null,null,null,null,null,""]
[null,null,null,null,null,null,null,null,null,null,null,null,null,""]
[null,null,null,null,null,null,null,null,null,null,null,null,null,""]
[null,null,null,null,null,null,null,null,null,null,null,null,null,""]
[null,null,null,null,null,null,null,null,null,null,null,null,null,""]
[null,null,null,null,null,null,null,null,null,null,null,null,null,""]
[null,null,null,null,null,null,null,null,null,null,null,null,null,""]
[null,null,null,null,null,null,null,null,null,null,null,null,null,""]
[null,null,null,null,null,null,null,null,null,null,null,null,null,""]
[null,null,null,null,null,null,null,null,null,null,null,null,null,""]
[null,null,null,null,null,null,null,null,null,null,null,null,null,""]
[null,null,null,null,null,null,null,null,null,null,null,null,null,""]
[null,null,null,null,null,null,null,null,null,null,null,null,null,""]
[null,null,null,null,null,null,null,null,null,null,null,null,null,""]
[null,null,null,null,null,null,null,null,null,null,null,null,null,""]
[null,null,null,null,null,null,null,null,null,null,null,null,null,""]
[null,null,null,null,null,null,null,null,null,null,null,null,null,""]
[null,null,null,null,null,null,null,null,null,null,null,null,null,""]
[null,null,null,null,null,null,null,null,null,null,null,null,null,""]
[null,null,null,null,null,null,null,null,null,null,null,null,null,""]
[null,null,null,null,null,null,null,null,null,null,null,null,null,""]
[null,null,null,null,null,null,null,null,null,null,null,null,null,""]
[null,null,null,null,null,null,null,null,null,null,null,null,null,""]
[null,null,null,null,null,null,null,null,null,null,null,null,null,""]
[null,null,null,null,null,null,null,null,null,null,null,null,null,""]
[null,null,null,null,null,null,null,null,null,null,null,null,null,""]
[null,null,null,null,null,null,null,null,null,null,null,null,null,""]
[null,null,null,null,null,null,null,null,null,null,null,null,null,""]
[null,null,null,null,null,null,null,null,null,null,null,null,null,""]
[null,null,null,null,null,null,null,null,null,null,null,null,null,""]
[null,null,null,null,null,null,null,null,null,null,null,null,null,""]
[null,null,null,null,null,null,null,null,null,null,null,null,null,""]
[null,null,null,null,null,null,null,null,null,null,null,null,null,""]
[null,null,null,null,null,null,null,null,null,null,null,null,null,""]
[null,null,null,null,null,null,null,null,null,null,null,null,null,""]
[null,null,null,null,null,null,null,null,null,null,null,null,null,""]
[null,null,null,null,null,null,null,null,null,null,null,null,null,""]
[null,null,null,null,null,null,null,null,null,null,null,null,null,""]
[null,null,null,null,null,null,null,null,null,null,null,null,null,""]
[null,null,null,null,null,null,null,null,null,null,null,null,null,""]
[null,null,null,null,null,null,null,null,null,null,null,null,null,""]
[null,null,null,null,null,null,null,null,null,null,null,null,null,""]
[null,null,null,null,null,null,null,null,null,null,null,null,null,""]
[null,null,null,null,null,null,null,null,null,null,null,null,null,""]
[null,null,null,null,null,null,null,null,null,null,null,null,null,""]
[null,null,null,null,null,null,null,null,null,null,null,null,null,""]
[null,null,null,null,null,null,null,null,null,null,null,null,null,""]
[null,null,null,null,null,null,null,null,null,null,null,null,null,""]
[null,null,null,null,null,null,null,null,null,null,null,null,null,""]
[null,null,null,null,null,null,null,null,null,null,null,null,null,""]
[null,null,null,null,null,null,null,null,null,null,null,null,null,""]
[null,null,null,null,null,null,null,null,null,null,null,null,null,""]
[null,null,null,null,null,null,null,null,null,null,null,null,null,""]
[null,null,null,null,null,null,null,null,null,null,null,null,null,""]
[null,null,null,null,null,null,null,null,null,null,null,null,null,""]
[null,null,null,null,null,null,null,null,null,null,null,null,null,""]
[null,null,null,null,null,null,null,null,null,null,null,null,null,""]
[null,null,null,null,null,null,null,null,null,null,null,null,null,""]
[null,null,null,null,null,null,null,null,null,null,null,null,null,""]
[null,null,null,null,null,null,null,null,null,null,null,null,null,{"$f":"IFERROR(DATEDIF(TODAY(),F582,\"d\"),\"\")","v":""}]
[null,null,null,null,null,null,null,null,null,null,null,null,null,""]
[null,null,null,null,null,null,null,null,null,null,null,null,null,""]
[null,null,null,null,null,null,null,null,null,null,null,null,null,""]
[null,null,null,null,null,null,null,null,null,null,null,null,null,""]
[null,null,null,null,null,null,null,null,null,null,null,null,null,""]
[null,null,null,null,null,null,null,null,null,null,null,null,null,""]
[null,null,null,null,null,null,null,null,null,null,null,null,null,""]
[null,null,null,null,null,null,null,null,null,null,null,null,null,""]
[null,null,null,null,null,null,null,null,null,null,null,null,null,""]
[null,null,null,null,null,null,null,null,null,null,null,null,null,""]
[null,null,null,null,null,null,null,null,null,null,null,null,null,""]
[null,null,null,null,null,null,null,null,null,null,null,null,null,""]
[null,null,null,null,null,null,null,null,null,null,null,null,null,""]
[null,null,null,null,null,null,null,null,null,null,null,null,null,""]
[null,null,null,null,null,null,null,null,null,null,null,null,null,""]
[null,null,null,null,null,null,null,null,null,null,null,null,null,""]
[null,null,null,null,null,null,null,null,null,null,null,null,null,""]
[null,null,null,null,null,null,null,null,null,null,null,null,null,""]
[null,null,null,null,null,null,null,null,null,null,null,null,null,""]
[null,null,null,null,null,null,null,null,null,null,null,null,null,""]
[null,null,null,null,null,null,null,null,null,null,null,null,null,""]
[null,null,null,null,null,null,null,null,null,null,null,null,null,""]
[null,null,null,null,null,null,null,null,null,null,null,null,null,""]
[null,null,null,null,null,null,null,null,null,null,null,null,null,""]
[null,null,null,null,null,null,null,null,null,null,null,null,null,""]
[null,null,null,null,null,null,null,null,null,null,null,null,null,""]
[null,null,null,null,null,null,null,null,null,null,null,null,null,""]
[null,null,null,null,null,null,null,null,null,null,null,null,null,""]
[null,null,null,null,null,null,null,null,null,null,null,null,null,""]
[null,null,null,null,null,null,null,null,null,null,null,null,null,""]
[null,null,null,null,null,null,null,null,null,null,null,null,null,""]
[null,null,null,null,null,null,null,null,null,null,null,null,null,""]
[null,null,null,null,null,null,null,null,null,null,null,null,null,""]
[null,null,null,null,null,null,null,null,null,null,null,null,null,""]
[null,null,null,null,null,null,null,null,null,null,null,null,null,""]
[null,null,null,null,null,null,null,null,null,null,null,null,null,""]
[null,null,null,null,null,null,null,null,null,null,null,null,null,""]
[null,null,null,null,null,null,null,null,null,null,null,null,null,""]
[null,null,null,null,null,null,null,null,null,null,null,null,null,""]
[null,null,null,null,null,null,null,null,null,null,null,null,null,""]
[null,null,null,null,null,null,null,null,null,null,null,null,null,""]
[null,null,null,null,null,null,null,null,null,null,null,null,null,""]
[null,null,null,null,null,null,null,null,null,null,null,null,null,""]
[null,null,null,null,null,null,null,null,null,null,null,null,null,""]
[null,null,null,null,null,null,null,null,null,null,null,null,null,""]
[null,null,null,null,null,null,null,null,null,null,null,null,null,""]
[null,null,null,null,null,null,null,null,null,null,null,null,null,""]
[null,null,null,null,null,null,null,null,null,null,null,null,null,""]
[null,null,null,null,null,null,null,null,null,null,null,null,null,""]
[null,null,null,null,null,null,null,null,null,null,null,null,null,""]
[null,null,null,null,null,null,null,null,null,null,null,null,null,""]
[null,null,null,null,null,null,null,null,null,null,null,null,null,""]
[null,null,null,null,null,null,null,null,null,null,null,null,null,""]
[null,null,null,null,null,null,null,null,null,null,null,null,null,""]
[null,null,null,null,null,null,null,null,null,null,null,null,null,""]
[null,null,null,null,null,null,null,null,null,null,null,null,null,""]
[null,null,null,null,null,null,null,null,null,null,null,null,null,""]
[null,null,null,null,null,null,null,null,null,null,null,null,null,""]
[null,null,null,null,null,null,null,null,null,null,null,null,null,""]
[null,null,null,null,null,null,null,null,null,null,null,null,null,""]
[null,null,null,null,null,null,null,null,null,null,null,null,null,""]
[null,null,null,null,null,null,null,null,null,null,null,null,null,""]
[null,null,null,null,null,null,null,null,null,null,null,null,null,""]
[null,null,null,null,null,null,null,null,null,null,null,null,null,{"$f":"IFERROR(DATEDIF(TODAY(),F646,\"d\"),\"\")","v":""}]
[null,null,null,null,null,null,null,null,null,null,null,null,null,""]
[null,null,null,null,null,null,null,null,null,null,null,null,null,""]
[null,null,null,null,null,null,null,null,null,null,null,null,null,""]
[null,null,null,null,null,null,null,null,null,null,null,null,null,""]
[null,null,null,null,null,null,null,null,null,null,null,null,null,""]
[null,null,null,null,null,null,null,null,null,null,null,null,null,""]
[null,null,null,null,null,null,null,null,null,null,null,null,null,""]
[null,null,null,null,null,null,null,null,null,null,null,null,null,""]
[null,null,null,null,null,null,null,null,null,null,null,null,null,""]
[null,null,null,null,null,null,null,null,null,null,null,null,null,""]
[null,null,null,null,null,null,null,null,null,null,null,null,null,""]
[null,null,null,null,null,null,null,null,null,null,null,null,null,""]
[null,null,null,null,null,null,null,null,null,null,null,null,null,""]
[null,null,null,null,null,null,null,null,null,null,null,null,null,""]
[null,null,null,null,null,null,null,null,null,null,null,null,null,""]
[null,null,null,null,null,null,null,null,null,null,null,null,null,""]
[null,null,null,null,null,null,null,null,null,null,null,null,null,""]
[null,null,null,null,null,null,null,null,null,null,null,null,null,""]
[null,null,null,null,null,null,null,null,null,null,null,null,null,""]
[null,null,null,null,null,null,null,null,null,null,null,null,null,""]
[null,null,null,null,null,null,null,null,null,null,null,null,null,""]
[null,null,null,null,null,null,null,null,null,null,null,null,null,""]
[null,null,null,null,null,null,null,null,null,null,null,null,null,""]
[null,null,null,null,null,null,null,null,null,null,null,null,null,""]
[null,null,null,null,null,null,null,null,null,null,null,null,null,""]
[null,null,null,null,null,null,null,null,null,null,null,null,null,""]
[null,null,null,null,null,null,null,null,null,null,null,null,null,""]
[null,null,null,null,null,null,null,null,null,null,null,null,null,""]
[null,null,null,null,null,null,null,null,null,null,null,null,null,""]
[null,null,null,null,null,null,null,null,null,null,null,null,null,""]
[null,null,null,null,null,null,null,null,null,null,null,null,null,""]
[null,null,null,null,null,null,null,null,null,null,null,null,null,""]
[null,null,null,null,null,null,null,null,null,null,null,null,null,""]
[null,null,null,null,null,null,null,null,null,null,null,null,null,""]
[null,null,null,null,null,null,null,null,null,null,null,null,null,""]
[null,null,null,null,null,null,null,null,null,null,null,null,null,""]
[null,null,null,null,null,null,null,null,null,null,null,null,null,""]
[null,null,null,null,null,null,null,null,null,null,null,null,null,""]
[null,null,null,null,null,null,null,null,null,null,null,null,null,""]
[null,null,null,null,null,null,null,null,null,null,null,null,null,""]
[null,null,null,null,null,null,null,null,null,null,null,null,null,""]
[null,null,null,null,null,null,null,null,null,null,null,null,null,""]
[null,null,null,null,null,null,null,null,null,null,null,null,null,""]
[null,null,null,null,null,null,null,null,null,null,null,null,null,""]
[null,null,null,null,null,null,null,null,null,null,null,null,null,""]
[null,null,null,null,null,null,null,null,null,null,null,null,null,""]
[null,null,null,null,null,null,null,null,null,null,null,null,null,""]
[null,null,null,null,null,null,null,null,null,null,null,null,null,""]
[null,null,null,null,null,null,null,null,null,null,null,null,null,""]
[null,null,null,null,null,null,null,null,null,null,null,null,null,""]
[null,null,null,null,null,null,null,null,null,null,null,null,null,""]
[null,null,null,null,null,null,null,null,null,null,null,null,null,""]
[null,null,null,null,null,null,null,null,null,null,null,null,null,""]
[null,null,null,null,null,null,null,null,null,null,null,null,null,""]
[null,null,null,null,null,null,null,null,null,null,null,null,null,""]
[null,null,null,null,null,null,null,null,null,null,null,null,null,""]
[null,null,null,null,null,null,null,null,null,null,null,null,null,""]
[null,null,null,null,null,null,null,null,null,null,null,null,null,""]
[null,null,null,null,null,null,null,null,null,null,null,null,null,""]
[null,null,null,null,null,null,null,null,null,null,null,null,null,""]
[null,null,null,null,null,null,null,null,null,null,null,null,null,""]
[null,null,null,null,null,null,null,null,null,null,null,null,null,""]
[null,null,null,null,null,null,null,null,null,null,null,null,null,""]
[null,null,null,null,null,null,null,null,null,null,null,null,null,{"$f":"IFERROR(DATEDIF(TODAY(),F710,\"d\"),\"\")","v":""}]
[null,null,null,null,null,null,null,null,null,null,null,null,null,""]
[null,null,null,null,null,null,null,null,null,null,null,null,null,""]
[null,null,null,null,null,null,null,null,null,null,null,null,null,""]
[null,null,null,null,null,null,null,null,null,null,null,null,null,""]
[null,null,null,null,null,null,null,null,null,null,null,null,null,""]
[null,null,null,null,null,null,null,null,null,null,null,null,null,""]
[null,null,null,null,null,null,null,null,null,null,null,null,null,""]
[null,null,null,null,null,null,null,null,null,null,null,null,null,""]
[null,null,null,null,null,null,null,null,null,null,null,null,null,""]
[null,null,null,null,null,null,null,null,null,null,null,null,null,""]
[null,null,null,null,null,null,null,null,null,null,null,null,null,""]
[null,null,null,null,null,null,null,null,null,null,null,null,null,""]
[null,null,null,null,null,null,null,null,null,null,null,null,null,""]
[null,null,null,null,null,null,null,null,null,null,null,null,null,""]
[null,null,null,null,null,null,null,null,null,null,null,null,null,""]
[null,null,null,null,null,null,null,null,null,null,null,null,null,""]
[null,null,null,null,null,null,null,null,null,null,null,null,null,""]
[null,null,null,null,null,null,null,null,null,null,null,null,null,""]
[null,null,null,null,null,null,null,null,null,null,null,null,null,""]
[null,null,null,null,null,null,null,null,null,null,null,null,null,""]
[null,null,null,null,null,null,null,null,null,null,null,null,null,""]
[null,null,null,null,null,null,null,null,null,null,null,null,null,""]
[null,null,null,null,null,null,null,null,null,null,null,null,null,""]
[null,null,null,null,null,null,null,null,null,null,null,null,null,""]
[null,null,null,null,null,null,null,null,null,null,null,null,null,""]
[null,null,null,null,null,null,null,null,null,null,null,null,null,""]
[null,null,null,null,null,null,null,null,null,null,null,null,null,""]
[null,null,null,null,null,null,null,null,null,null,null,null,null,""]
[null,null,null,null,null,null,null,null,null,null,null,null,null,""]
[null,null,null,null,null,null,null,null,null,null,null,null,null,""]
[null,null,null,null,null,null,null,null,null,null,null,null,null,""]
[null,null,null,null,null,null,null,null,null,null,null,null,null,""]
[null,null,null,null,null,null,null,null,null,null,null,null,null,""]
[null,null,null,null,null,null,null,null,null,null,null,null,null,""]
[null,null,null,null,null,null,null,null,null,null,null,null,null,""]
[null,null,null,null,null,null,null,null,null,null,null,null,null,""]
[null,null,null,null,null,null,null,null,null,null,null,null,null,""]
[null,null,null,null,null,null,null,null,null,null,null,null,null,""]
[null,null,null,null,null,null,null,null,null,null,null,null,null,""]
[null,null,null,null,null,null,null,null,null,null,null,null,null,""]
[null,null,null,null,null,null,null,null,null,null,null,null,null,""]
[null,null,null,null,null,null,null,null,null,null,null,null,null,""]
[null,null,null,null,null,null,null,null,null,null,null,null,null,""]
[null,null,null,null,null,null,null,null,null,null,null,null,null,""]
[null,null,null,null,null,null,null,null,null,null,null,null,null,""]
[null,null,null,null,null,null,null,null,null,null,null,null,null,""]
[null,null,null,null,null,null,null,null,null,null,null,null,null,""]
[null,null,null,null,null,null,null,null,null,null,null,null,null,""]
[null,null,null,null,null,null,null,null,null,null,null,null,null,""]
[null,null,null,null,null,null,null,null,null,null,null,null,null,""]
[null,null,null,null,null,null,null,null,null,null,null,null,null,""]
[null,null,null,null,null,null,null,null,null,null,null,null,null,""]
[null,null,null,null,null,null,null,null,null,null,null,null,null,""]
[null,null,null,null,null,null,null,null,null,null,null,null,null,""]
[null,null,null,null,null,null,null,null,null,null,null,null,null,""]
[null,null,null,null,null,null,null,null,null,null,null,null,null,""]
[null,null,null,null,null,null,null,null,null,null,null,null,null,""]
[null,null,null,null,null,null,null,null,null,null,null,null,null,""]
[null,null,null,null,null,null,null,null,null,null,null,null,null,""]
[null,null,null,null,null,null,null,null,null,null,null,null,null,""]
[null,null,null,null,null,null,null,null,null,null,null,null,null,""]
[null,null,null,null,null,null,null,null,null,null,null,null,null,""]
[null,null,null,null,null,null,null,null,null,null,null,null,null,""]
[null,null,null,null,null,null,null,null,null,null,null,null,null,{"$f":"IFERROR(DATEDIF(TODAY(),F774,\"d\"),\"\")","v":""}]
[null,null,null,null,null,null,null,null,null,null,null,null,null,""]
[null,null,null,null,null,null,null,null,null,null,null,null,null,""]
[null,null,null,null,null,null,null,null,null,null,null,null,null,""]
[null,null,null,null,null,null,null,null,null,null,null,null,null,""]
[null,null,null,null,null,null,null,null,null,null,null,null,null,""]
[null,null,null,null,null,null,null,null,null,null,null,null,null,""]
[null,null,null,null,null,null,null,null,null,null,null,null,null,""]
[null,null,null,null,null,null,null,null,null,null,null,null,null,""]
[null,null,null,null,null,null,null,null,null,null,null,null,null,""]
[null,null,null,null,null,null,null,null,null,null,null,null,null,""]
[null,null,null,null,null,null,null,null,null,null,null,null,null,""]
[null,null,null,null,null,null,null,null,null,null,null,null,null,""]
[null,null,null,null,null,null,null,null,null,null,null,null,null,""]
[null,null,null,null,null,null,null,null,null,null,null,null,null,""]
[null,null,null,null,null,null,null,null,null,null,null,null,null,""]
[null,null,null,null,null,null,null,null,null,null,null,null,null,""]
[null,null,null,null,null,null,null,null,null,null,null,null,null,""]
[null,null,null,null,null,null,null,null,null,null,null,null,null,""]
[null,null,null,null,null,null,null,null,null,null,null,null,null,""]
[null,null,null,null,null,null,null,null,null,null,null,null,null,""]
[null,null,null,null,null,null,null,null,null,null,null,null,null,""]
[null,null,null,null,null,null,null,null,null,null,null,null,null,""]
[null,null,null,null,null,null,null,null,null,null,null,null,null,""]
[null,null,null,null,null,null,null,null,null,null,null,null,null,""]
[null,null,null,null,null,null,null,null,null,null,null,null,null,""]
[null,null,null,null,null,null,null,null,null,null,null,null,null,""]
[null,null,null,null,null,null,null,null,null,null,null,null,null,""]
[null,null,null,null,null,null,null,null,null,null,null,null,null,""]
[null,null,null,null,null,null,null,null,null,null,null,null,null,""]
[null,null,null,null,null,null,null,null,null,null,null,null,null,""]
[null,null,null,null,null,null,null,null,null,null,null,null,null,""]
[null,null,null,null,null,null,null,null,null,null,null,null,null,""]
[null,null,null,null,null,null,null,null,null,null,null,null,null,""]
[null,null,null,null,null,null,null,null,null,null,null,null,null,""]
[null,null,null,null,null,null,null,null,null,null,null,null,null,""]
[null,null,null,null,null,null,null,null,null,null,null,null,null,""]
[null,null,null,null,null,null,null,null,null,null,null,null,null,""]
[null,null,null,null,null,null,null,null,null,null,null,null,null,""]
[null,null,null,null,null,null,null,null,null,null,null,null,null,""]
[null,null,null,null,null,null,null,null,null,null,null,null,null,""]
[null,null,null,null,null,null,null,null,null,null,null,null,null,""]
[null,null,null,null,null,null,null,null,null,null,null,null,null,""]
[null,null,null,null,null,null,null,null,null,null,null,null,null,""]
[null,null,null,null,null,null,null,null,null,null,null,null,null,""]
[null,null,null,null,null,null,null,null,null,null,null,null,null,""]
[null,null,null,null,null,null,null,null,null,null,null,null,null,""]
[null,null,null,null,null,null,null,null,null,null,null,null,null,""]
[null,null,null,null,null,null,null,null,null,null,null,null,null,""]
[null,null,null,null,null,null,null,null,null,null,null,null,null,""]
[null,null,null,null,null,null,null,null,null,null,null,null,null,""]
[null,null,null,null,null,null,null,null,null,null,null,null,null,""]
[null,null,null,null,null,null,null,null,null,null,null,null,null,""]
[null,null,null,null,null,null,null,null,null,null,null,null,null,""]
[null,null,null,null,null,null,null,null,null,null,null,null,null,""]
[null,null,null,null,null,null,null,null,null,null,null,null,null,""]
[null,null,null,null,null,null,null,null,null,null,null,null,null,""]
[null,null,null,null,null,null,null,null,null,null,null,null,null,""]
[null,null,null,null,null,null,null,null,null,null,null,null,null,""]
[null,null,null,null,null,null,null,null,null,null,null,null,null,""]
[null,null,null,null,null,null,null,null,null,null,null,null,null,""]
[null,null,null,null,null,null,null,null,null,null,null,null,null,""]
[null,null,null,null,null,null,null,null,null,null,null,null,null,""]
[null,null,null,null,null,null,null,null,null,null,null,null,null,""]
[null,null,null,null,null,null,null,null,null,null,null,null,null,{"$f":"IFERROR(DATEDIF(TODAY(),F838,\"d\"),\"\")","v":""}]
[null,null,null,null,null,null,null,null,null,null,null,null,null,""]
[null,null,null,null,null,null,null,null,null,null,null,null,null,""]
[null,null,null,null,null,null,null,null,null,null,null,null,null,""]
[null,null,null,null,null,null,null,null,null,null,null,null,null,""]
[null,null,null,null,null,null,null,null,null,null,null,null,null,""]
[null,null,null,null,null,null,null,null,null,null,null,null,null,""]
[null,null,null,null,null,null,null,null,null,null,null,null,null,""]
[null,null,null,null,null,null,null,null,null,null,null,null,null,""]
[null,null,null,null,null,null,null,null,null,null,null,null,null,""]
[null,null,null,null,null,null,null,null,null,null,null,null,null,""]
[null,null,null,null,null,null,null,null,null,null,null,null,null,""]
[null,null,null,null,null,null,null,null,null,null,null,null,null,""]
[null,null,null,null,null,null,null,null,null,null,null,null,null,""]
[null,null,null,null,null,null,null,null,null,null,null,null,null,""]
[null,null,null,null,null,null,null,null,null,null,null,null,null,""]
[null,null,null,null,null,null,null,null,null,null,null,null,null,""]
[null,null,null,null,null,null,null,null,null,null,null,null,null,""]
[null,null,null,null,null,null,null,null,null,null,null,null,null,""]
[null,null,null,null,null,null,null,null,null,null,null,null,null,""]
[null,null,null,null,null,null,null,null,null,null,null,null,null,""]
[null,null,null,null,null,null,null,null,null,null,null,null,null,""]
[null,null,null,null,null,null,null,null,null,null,null,null,null,""]
[null,null,null,null,null,null,null,null,null,null,null,null,null,""]
[null,null,null,null,null,null,null,null,null,null,null,null,null,""]
[null,null,null,null,null,null,null,null,null,null,null,null,null,""]
[null,null,null,null,null,null,null,null,null,null,null,null,null,""]
[null,null,null,null,null,null,null,null,null,null,null,null,null,""]
[null,null,null,null,null,null,null,null,null,null,null,null,null,""]
[null,null,null,null,null,null,null,null,null,null,null,null,null,""]
[null,null,null,null,null,null,null,null,null,null,null,null,null,""]
[null,null,null,null,null,null,null,null,null,null,null,null,null,""]
[null,null,null,null,null,null,null,null,null,null,null,null,null,""]
[null,null,null,null,null,null,null,null,null,null,null,null,null,""]
[null,null,null,null,null,null,null,null,null,null,null,null,null,""]
[null,null,null,null,null,null,null,null,null,null,null,null,null,""]
[null,null,null,null,null,null,null,null,null,null,null,null,null,""]
[null,null,null,null,null,null,null,null,null,null,null,null,null,""]
[null,null,null,null,null,null,null,null,null,null,null,null,null,""]
[null,null,null,null,null,null,null,null,null,null,null,null,null,""]
[null,null,null,null,null,null,null,null,null,null,null,null,null,""]
[null,null,null,null,null,null,null,null,null,null,null,null,null,""]
[null,null,null,null,null,null,null,null,null,null,null,null,null,""]
[null,null,null,null,null,null,null,null,null,null,null,null,null,""]
[null,null,null,null,null,null,null,null,null,null,null,null,null,""]
[null,null,null,null,null,null,null,null,null,null,null,null,null,""]
[null,null,null,null,null,null,null,null,null,null,null,null,null,""]
[null,null,null,null,null,null,null,null,null,null,null,null,null,""]
[null,null,null,null,null,null,null,null,null,null,null,null,null,""]
[null,null,null,null,null,null,null,null,null,null,null,null,null,""]
[null,null,null,null,null,null,null,null,null,null,null,null,null,""]
[null,null,null,null,null,null,null,null,null,null,null,null,null,""]
[null,null,null,null,null,null,null,null,null,null,null,null,null,""]
[null,null,null,null,null,null,null,null,null,null,null,null,null,""]
[null,null,null,null,null,null,null,null,null,null,null,null,null,""]
[null,null,null,null,null,null,null,null,null,null,null,null,null,""]
[null,null,null,null,null,null,null,null,null,null,null,null,null,""]
[null,null,null,null,null,null,null,null,null,null,null,null,null,""]
[null,null,null,null,null,null,null,null,null,null,null,null,null,""]
[null,null,null,null,null,null,null,null,null,null,null,null,null,""]
[null,null,null,null,null,null,null,null,null,null,null,null,null,""]
[null,null,null,null,null,null,null,null,null,null,null,null,null,""]
[null,null,null,null,null,null,null,null,null,null,null,null,null,""]
[null,null,null,null,null,null,null,null,null,null,null,null,null,""]
[null,null,null,null,null,null,null,null,null,null,null,null,null,{"$f":"IFERROR(DATEDIF(TODAY(),F902,\"d\"),\"\")","v":""}]
[null,null,null,null,null,null,null,null,null,null,null,null,null,""]
[null,null,null,null,null,null,null,null,null,null,null,null,null,""]
[null,null,null,null,null,null,null,null,null,null,null,null,null,""]
[null,null,null,null,null,null,null,null,null,null,null,null,null,""]
[null,null,null,null,null,null,null,null,null,null,null,null,null,""]
[null,null,null,null,null,null,null,null,null,null,null,null,null,""]
[null,null,null,null,null,null,null,null,null,null,null,null,null,""]
[null,null,null,null,null,null,null,null,null,null,null,null,null,""]
[null,null,null,null,null,null,null,null,null,null,null,null,null,""]
[null,null,null,null,null,null,null,null,null,null,null,null,null,""]
[null,null,null,null,null,null,null,null,null,null,null,null,null,""]
[null,null,null,null,null,null,null,null,null,null,null,null,null,""]
[null,null,null,null,null,null,null,null,null,null,null,null,null,""]
[null,null,null,null,null,null,null,null,null,null,null,null,null,""]
[null,null,null,null,null,null,null,null,null,null,null,null,null,""]
[null,null,null,null,null,null,null,null,null,null,null,null,null,""]
[null,null,null,null,null,null,null,null,null,null,null,null,null,""]
[null,null,null,null,null,null,null,null,null,null,null,null,null,""]
[null,null,null,null,null,null,null,null,null,null,null,null,null,""]
[null,null,null,null,null,null,null,null,null,null,null,null,null,""]
[null,null,null,null,null,null,null,null,null,null,null,null,null,""]
[null,null,null,null,null,null,null,null,null,null,null,null,null,""]
[null,null,null,null,null,null,null,null,null,null,null,null,null,""]
[null,null,null,null,null,null,null,null,null,null,null,null,null,""]
[null,null,null,null,null,null,null,null,null,null,null,null,null,""]
[null,null,null,null,null,null,null,null,null,null,null,null,null,""]
[null,null,null,null,null,null,null,null,null,null,null,null,null,""]
[null,null,null,null,null,null,null,null,null,null,null,null,null,""]
[null,null,null,null,null,null,null,null,null,null,null,null,null,""]
[null,null,null,null,null,null,null,null,null,null,null,null,null,""]
[null,null,null,null,null,null,null,null,null,null,null,null,null,""]
[null,null,null,null,null,null,null,null,null,null,null,null,null,""]
[null,null,null,null,null,null,null,null,null,null,null,null,null,""]
[null,null,null,null,null,null,null,null,null,null,null,null,null,""]
[null,null,null,null,null,null,null,null,null,null,null,null,null,""]
[null,null,null,null,null,null,null,null,null,null,null,null,null,""]
[null,null,null,null,null,null,null,null,null,null,null,null,null,""]
[null,null,null,null,null,null,null,null,null,null,null,null,null,""]
[null,null,null,null,null,null,null,null,null,null,null,null,null,""]
[null,null,null,null,null,null,null,null,null,null,null,null,null,""]
[null,null,null,null,null,null,null,null,null,null,null,null,null,""]
[null,null,null,null,null,null,null,null,null,null,null,null,null,""]
[null,null,null,null,null,null,null,null,null,null,null,null,null,""]
[null,null,null,null,null,null,null,null,null,null,null,null,null,""]
[null,null,null,null,null,null,null,null,null,null,null,null,null,""]
[null,null,null,null,null,null,null,null,null,null,null,null,null,""]
[null,null,null,null,null,null,null,null,null,null,null,null,null,""]
[null,null,null,null,null,null,null,null,null,null,null,null,null,""]
[null,null,null,null,null,null,null,null,null,null,null,null,null,""]
[null,null,null,null,null,null,null,null,null,null,null,null,null,""]
[null,null,null,null,null,null,null,null,null,null,null,null,null,""]
[null,null,null,null,null,null,null,null,null,null,null,null,null,""]
[null,null,null,null,null,null,null,null,null,null,null,null,null,""]
[null,null,null,null,null,null,null,null,null,null,null,null,null,""]
[null,null,null,null,null,null,null,null,null,null,null,null,null,""]
[null,null,null,null,null,null,null,null,null,null,null,null,null,""]
[null,null,null,null,null,null,null,null,null,null,null,null,null,""]
[null,null,null,null,null,null,null,null,null,null,null,null,null,""]
[null,null,null,null,null,null,null,null,null,null,null,null,null,""]
[null,null,null,null,null,null,null,null,null,null,null,null,null,""]
[null,null,null,null,null,null,null,null,null,null,null,null,null,""]
[null,null,null,null,null,null,null,null,null,null,null,null,null,""]
[null,null,null,null,null,null,null,null,null,null,null,null,null,""]
[null,null,null,null,null,null,null,null,null,null,null,null,null,{"$f":"IFERROR(DATEDIF(TODAY(),F966,\"d\"),\"\")","v":""}]
[null,null,null,null,null,null,null,null,null,null,null,null,null,""]
[null,null,null,null,null,null,null,null,null,null,null,null,null,""]
[null,null,null,null,null,null,null,null,null,null,null,null,null,""]
[null,null,null,null,null,null,null,null,null,null,null,null,null,""]
[null,null,null,null,null,null,null,null,null,null,null,null,null,""]
[null,null,null,null,null,null,null,null,null,null,null,null,null,""]
[null,null,null,null,null,null,null,null,null,null,null,null,null,""]
[null,null,null,null,null,null,null,null,null,null,null,null,null,""]
[null,null,null,null,null,null,null,null,null,null,null,null,null,""]
[null,null,null,null,null,null,null,null,null,null,null,null,null,""]
[null,null,null,null,null,null,null,null,null,null,null,null,null,""]
[null,null,null,null,null,null,null,null,null,null,null,null,null,""]
[null,null,null,null,null,null,null,null,null,null,null,null,null,""]
[null,null,null,null,null,null,null,null,null,null,null,null,null,""]
[null,null,null,null,null,null,null,null,null,null,null,null,null,""]
[null,null,null,null,null,null,null,null,null,null,null,null,null,""]
[null,null,null,null,null,null,null,null,null,null,null,null,null,""]
[null,null,null,null,null,null,null,null,null,null,null,null,null,""]
[null,null,null,null,null,null,null,null,null,null,null,null,null,""]
[null,null,null,null,null,null,null,null,null,null,null,null,null,""]
[null,null,null,null,null,null,null,null,null,null,null,null,null,""]
[null,null,null,null,null,null,null,null,null,null,null,null,null,""]
[null,null,null,null,null,null,null,null,null,null,null,null,null,""]
[null,null,null,null,null,null,null,null,null,null,null,null,null,""]
[null,null,null,null,null,null,null,null,null,null,null,null,null,""]
[null,null,null,null,null,null,null,null,null,null,null,null,null,""]
[null,null,null,null,null,null,null,null,null,null,null,null,null,""]
[null,null,null,null,null,null,null,null,null,null,null,null,null,""]
[null,null,null,null,null,null,null,null,null,null,null,null,null,""]
[null,null,null,null,null,null,null,null,null,null,null,null,null,""]
[null,null,null,null,null,null,null,null,null,null,null,null,null,""]
[null,null,null,null,null,null,null,null,null,null,null,null,null,""]
[null,null,null,null,null,null,null,null,null,null,null,null,null,""]
[null,null,null,null,null,null,null,null,null,null,null,null,null,""]
[null,null,null,null,null,null,null,null,null,null,null,null,null,""]
[null,null,null,null,null,null,null,null,null,null,null,null,null,""]
[null,null,null,null,null,null,null,null,null,null,null,null,null,""]
[null,null,null,null,null,null,null,null,null,null,null,null,null,""]
[null,null,null,null,null,null,null,null,null,null,null,null,null,""]
[null,null,null,null,null,null,null,null,null,null,null,null,null,""]
[null,null,null,null,null,null,null,null,null,null,null,null,null,""]
[null,null,null,null,null,null,null,null,null,null,null,null,null,""]
[null,null,null,null,null,null,null,null,null,null,null,null,null,""]
[null,null,null,null,null,null,null,null,null,null,null,null,null,""]
[null,null,null,null,null,null,null,null,null,null,null,null,null,""]
[null,null,null,null,null,null,null,null,null,null,null,null,null,""]
[null,null,null,null,null,null,null,null,null,null,null,null,null,""]
[null,null,null,null,null,null,null,null,null,null,null,null,null,""]
[null,null,null,null,null,null,null,null,null,null,null,null,null,""]
[null,null,null,null,null,null,null,null,null,null,null,null,null,""]
[null,null,null,null,null,null,null,null,null,null,null,null,null,""]
[null,null,null,null,null,null,null,null,null,null,null,null,null,""]
[null,null,null,null,null,null,null,null,null,null,null,null,null,""]
[null,null,null,null,null,null,null,null,null,null,null,null,null,""]
[null,null,null,null,null,null,null,null,null,null,null,null,null,""]
[null,null,null,null,null,null,null,null,null,null,null,null,null,""]
[null,null,null,null,null,null,null,null,null,null,null,null,null,""]
[null,null,null,null,null,null,null,null,null,null,null,null,null,""]
[null,null,null,null,null,null,null,null,null,null,null,null,null,""]
[null,null,null,null,null,null,null,null,null,null,null,null,null,""]
[null,null,null,null,null,null,null,null,null,null,null,null,null,""]
[null,null,null,null,null,null,null,null,null,null,null,null,null,""]
[null,null,null,null,null,null,null,null,null,null,null,null,null,""]
[null,null,null,null,null,null,null,null,null,null,null,null,null,{"$f":"IFERROR(DATEDIF(TODAY(),F1030,\"d\"),\"\")","v":""}]
[null,null,null,null,null,null,null,null,null,null,null,null,null,""]
[null,null,null,null,null,null,null,null,null,null,null,null,null,""]
[null,null,null,null,null,null,null,null,null,null,null,null,null,""]
[null,null,null,null,null,null,null,null,null,null,null,null,null,""]
[null,null,null,null,null,null,null,null,null,null,null,null,null,""]
[null,null,null,null,null,null,null,null,null,null,null,null,null,""]
[null,null,null,null,null,null,null,null,null,null,null,null,null,""]
[null,null,null,null,null,null,null,null,null,null,null,null,null,""]
[null,null,null,null,null,null,null,null,null,null,null,null,null,""]
[null,null,null,null,null,null,null,null,null,null,null,null,null,""]
[null,null,null,null,null,null,null,null,null,null,null,null,null,""]
[null,null,null,null,null,null,null,null,null,null,null,null,null,""]
[null,null,null,null,null,null,null,null,null,null,null,null,null,""]
[null,null,null,null,null,null,null,null,null,null,null,null,null,""]
[null,null,null,null,null,null,null,null,null,null,null,null,null,""]
[null,null,null,null,null,null,null,null,null,null,null,null,null,""]
[null,null,null,null,null,null,null,null,null,null,null,null,null,""]
[null,null,null,null,null,null,null,null,null,null,null,null,null,""]
[null,null,null,null,null,null,null,null,null,null,null,null,null,""]
[null,null,null,null,null,null,null,null,null,null,null,null,null,""]
[null,null,null,null,null,null,null,null,null,null,null,null,null,""]
[null,null,null,null,null,null,null,null,null,null,null,null,null,""]
[null,null,null,null,null,null,null,null,null,null,null,null,null,""]
[null,null,null,null,null,null,null,null,null,null,null,null,null,""]
[null,null,null,null,null,null,null,null,null,null,null,null,null,""]
[null,null,null,null,null,null,null,null,null,null,null,null,null,""]
[null,null,null,null,null,null,null,null,null,null,null,null,null,""]
[null,null,null,null,null,null,null,null,null,null,null,null,null,""]
[null,null,null,null,null,null,null,null,null,null,null,null,null,""]
[null,null,null,null,null,null,null,null,null,null,null,null,null,""]
[null,null,null,null,null,null,null,null,null,null,null,null,null,""]
[null,null,null,null,null,null,null,null,null,null,null,null,null,""]
[null,null,null,null,null,null,null,null,null,null,null,null,null,""]
[null,null,null,null,null,null,null,null,null,null,null,null,null,""]
[null,null,null,null,null,null,null,null,null,null,null,null,null,""]
[null,null,null,null,null,null,null,null,null,null,null,null,null,""]
[null,null,null,null,null,null,null,null,null,null,null,null,null,""]
[null,null,null,null,null,null,null,null,null,null,null,null,null,""]
[null,null,null,null,null,null,null,null,null,null,null,null,null,""]
[null,null,null,null,null,null,null,null,null,null,null,null,null,""]
[null,null,null,null,null,null,null,null,null,null,null,null,null,""]
[null,null,null,null,null,null,null,null,null,null,null,null,null,""]
[null,null,null,null,null,null,null,null,null,null,null,null,null,""]
[null,null,null,null,null,null,null,null,null,null,null,null,null,""]
[null,null,null,null,null,null,null,null,null,null,null,null,null,""]
[null,null,null,null,null,null,null,null,null,null,null,null,null,""]
[null,null,null,null,null,null,null,null,null,null,null,null,null,""]
[null,null,null,null,null,null,null,null,null,null,null,null,null,""]
[null,null,null,null,null,null,null,null,null,null,null,null,null,""]
[null,null,null,null,null,null,null,null,null,null,null,null,null,""]
[null,null,null,null,null,null,null,null,null,null,null,null,null,""]
[null,null,null,null,null,null,null,null,null,null,null,null,null,""]
[null,null,null,null,null,null,null,null,null,null,null,null,null,""]
[null,null,null,null,null,null,null,null,null,null,null,null,null,""]
[null,null,null,null,null,null,null,null,null,null,null,null,null,""]
[null,null,null,null,null,null,null,null,null,null,null,null,null,""]
[null,null,null,null,null,null,null,null,null,null,null,null,null,""]
[null,null,null,null,null,null,null,null,null,null,null,null,null,""]
[null,null,null,null,null,null,null,null,null,null,null,null,null,""]
[null,null,null,null,null,null,null,null,null,null,null,null,null,""]
[null,null,null,null,null,null,null,null,null,null,null,null,null,""]
[null,null,null,null,null,null,null,null,null,null,null,null,null,""]
[null,null,null,null,null,null,null,null,null,null,null,null,null,""]
[null,null,null,null,null,null,null,null,null,null,null,null,null,{"$f":"IFERROR(DATEDIF(TODAY(),F1094,\"d\"),\"\")","v":""}]
[null,null,null,null,null,null,null,null,null,null,null,null,null,""]
[null,null,null,null,null,null,null,null,null,null,null,null,null,""]
[null,null,null,null,null,null,null,null,null,null,null,null,null,""]
[null,null,null,null,null,null,null,null,null,null,null,null,null,""]
[null,null,null,null,null,null,null,null,null,null,null,null,null,""]
[null,null,null,null,null,null,null,null,null,null,null,null,null,""]
[null,null,null,null,null,null,null,null,null,null,null,null,null,""]
[null,null,null,null,null,null,null,null,null,null,null,null,null,""]
[null,null,null,null,null,null,null,null,null,null,null,null,null,""]
[null,null,null,null,null,null,null,null,null,null,null,null,null,""]
[null,null,null,null,null,null,null,null,null,null,null,null,null,""]
[null,null,null,null,null,null,null,null,null,null,null,null,null,""]
[null,null,null,null,null,null,null,null,null,null,null,null,null,""]
[null,null,null,null,null,null,null,null,null,null,null,null,null,""]
[null,null,null,null,null,null,null,null,null,null,null,null,null,""]
[null,null,null,null,null,null,null,null,null,null,null,null,null,""]
[null,null,null,null,null,null,null,null,null,null,null,null,null,""]
[null,null,null,null,null,null,null,null,null,null,null,null,null,""]
[null,null,null,null,null,null,null,null,null,null,null,null,null,""]
[null,null,null,null,null,null,null,null,null,null,null,null,null,""]
[null,null,null,null,null,null,null,null,null,null,null,null,null,""]
[null,null,null,null,null,null,null,null,null,null,null,null,null,""]
[null,null,null,null,null,null,null,null,null,null,null,null,null,""]
[null,null,null,null,null,null,null,null,null,null,null,null,null,""]
[null,null,null,null,null,null,null,null,null,null,null,null,null,""]
[null,null,null,null,null,null,null,null,null,null,null,null,null,""]
[null,null,null,null,null,null,null,null,null,null,null,null,null,""]
[null,null,null,null,null,null,null,null,null,null,null,null,null,""]
[null,null,null,null,null,null,null,null,null,null,null,null,null,""]
[null,null,null,null,null,null,null,null,null,null,null,null,null,""]
[null,null,null,null,null,null,null,null,null,null,null,null,null,""]
[null,null,null,null,null,null,null,null,null,null,null,null,null,""]
[null,null,null,null,null,null,null,null,null,null,null,null,null,""]
[null,null,null,null,null,null,null,null,null,null,null,null,null,""]
[null,null,null,null,null,null,null,null,null,null,null,null,null,""]
[null,null,null,null,null,null,null,null,null,null,null,null,null,""]
[null,null,null,null,null,null,null,null,null,null,null,null,null,""]
[null,null,null,null,null,null,null,null,null,null,null,null,null,""]
[null,null,null,null,null,null,null,null,null,null,null,null,null,""]
[null,null,null,null,null,null,null,null,null,null,null,null,null,""]
[null,null,null,null,null,null,null,null,null,null,null,null,null,""]
[null,null,null,null,null,null,null,null,null,null,null,null,null,""]
[null,null,null,null,null,null,null,null,null,null,null,null,null,""]
[null,null,null,null,null,null,null,null,null,null,null,null,null,""]
[null,null,null,null,null,null,null,null,null,null,null,null,null,""]
[null,null,null,null,null,null,null,null,null,null,null,null,null,""]
[null,null,null,null,null,null,null,null,null,null,null,null,null,""]
[null,null,null,null,null,null,null,null,null,null,null,null,null,""]
[null,null,null,null,null,null,null,null,null,null,null,null,null,""]
[null,null,null,null,null,null,null,null,null,null,null,null,null,""]
[null,null,null,null,null,null,null,null,null,null,null,null,null,""]
[null,null,null,null,null,null,null,null,null,null,null,null,null,""]
[null,null,null,null,null,null,null,null,null,null,null,null,null,""]
[null,null,null,null,null,null,null,null,null,null,null,null,null,""]
[null,null,null,null,null,null,null,null,null,null,null,null,null,""]
[null,null,null,null,null,null,null,null,null,null,null,null,null,""]
[null,null,null,null,null,null,null,null,null,null,null,null,null,""]
[null,null,null,null,null,null,null,null,null,null,null,null,null,""]
[null,null,null,null,null,null,null,null,null,null,null,null,null,""]
[null,null,null,null,null,null,null,null,null,null,null,null,null,""]
[null,null,null,null,null,null,null,null,null,null,null,null,null,""]
[null,null,null,null,null,null,null,null,null,null,null,null,null,""]
[null,null,null,null,null,null,null,null,null,null,null,null,null,""]
[null,null,null,null,null,null,null,null,null,null,null,null,null,{"$f":"IFERROR(DATEDIF(TODAY(),F1158,\"d\"),\"\")","v":""}]
[null,null,null,null,null,null,null,null,null,null,null,null,null,""]
[null,null,null,null,null,null,null,null,null,null,null,null,null,""]
[null,null,null,null,null,null,null,null,null,null,null,null,null,""]
[null,null,null,null,null,null,null,null,null,null,null,null,null,""]
[null,null,null,null,null,null,null,null,null,null,null,null,null,""]
[null,null,null,null,null,null,null,null,null,null,null,null,null,""]
[null,null,null,null,null,null,null,null,null,null,null,null,null,""]
[null,null,null,null,null,null,null,null,null,null,null,null,null,""]
[null,null,null,null,null,null,null,null,null,null,null,null,null,""]
[null,null,null,null,null,null,null,null,null,null,null,null,null,""]
[null,null,null,null,null,null,null,null,null,null,null,null,null,""]
[null,null,null,null,null,null,null,null,null,null,null,null,null,""]
[null,null,null,null,null,null,null,null,null,null,null,null,null,""]
[null,null,null,null,null,null,null,null,null,null,null,null,null,""]
[null,null,null,null,null,null,null,null,null,null,null,null,null,""]
[null,null,null,null,null,null,null,null,null,null,null,null,null,""]
[null,null,null,null,null,null,null,null,null,null,null,null,null,""]
[null,null,null,null,null,null,null,null,null,null,null,null,null,""]
[null,null,null,null,null,null,null,null,null,null,null,null,null,""]
[null,null,null,null,null,null,null,null,null,null,null,null,null,""]
[null,null,null,null,null,null,null,null,null,null,null,null,null,""]
[null,null,null,null,null,null,null,null,null,null,null,null,null,""]
[null,null,null,null,null,null,null,null,null,null,null,null,null,""]
[null,null,null,null,null,null,null,null,null,null,null,null,null,""]
[null,null,null,null,null,null,null,null,null,null,null,null,null,""]
[null,null,null,null,null,null,null,null,null,null,null,null,null,""]
[null,null,null,null,null,null,null,null,null,null,null,null,null,""]
[null,null,null,null,null,null,null,null,null,null,null,null,null,""]
[null,null,null,null,null,null,null,null,null,null,null,null,null,""]
[null,null,null,null,null,null,null,null,null,null,null,null,null,""]
[null,null,null,null,null,null,null,null,null,null,null,null,null,""]
[null,null,null,null,null,null,null,null,null,null,null,null,null,""]
[null,null,null,null,null,null,null,null,null,null,null,null,null,""]
[null,null,null,null,null,null,null,null,null,null,null,null,null,""]
[null,null,null,null,null,null,null,null,null,null,null,null,null,""]
[null,null,null,null,null,null,null,null,null,null,null,null,null,""]
[null,null,null,null,null,null,null,null,null,null,null,null,null,""]
[null,null,null,null,null,null,null,null,null,null,null,null,null,""]
[null,null,null,null,null,null,null,null,null,null,null,null,null,""]
[null,null,null,null,null,null,null,null,null,null,null,null,null,""]
[null,null,null,null,null,null,null,null,null,null,null,null,null,""]
[null,null,null,null,null,null,null,null,null,null,null,null,null,""]
[null,null,null,null,null,null,null,null,null,null,null,null,null,""]
[null,null,null,null,null,null,null,null,null,null,null,null,null,""]
[null,null,null,null,null,null,null,null,null,null,null,null,null,""]
[null,null,null,null,null,null,null,null,null,null,null,null,null,""]
[null,null,null,null,null,null,null,null,null,null,null,null,null,""]
[null,null,null,null,null,null,null,null,null,null,null,null,null,""]
[null,null,null,null,null,null,null,null,null,null,null,null,null,""]
[null,null,null,null,null,null,null,null,null,null,null,null,null,""]
[null,null,null,null,null,null,null,null,null,null,null,null,null,""]
[null,null,null,null,null,null,null,null,null,null,null,null,null,""]
[null,null,null,null,null,null,null,null,null,null,null,null,null,""]
[null,null,null,null,null,null,null,null,null,null,null,null,null,""]
[null,null,null,null,null,null,null,null,null,null,null,null,null,""]
[null,null,null,null,null,null,null,null,null,null,null,null,null,""]
[null,null,null,null,null,null,null,null,null,null,null,null,null,""]
[null,null,null,null,null,null,null,null,null,null,null,null,null,""]
[null,null,null,null,null,null,null,null,null,null,null,null,null,""]
[null,null,null,null,null,null,null,null,null,null,null,null,null,""]
[null,null,null,null,null,null,null,null,null,null,null,null,null,""]
[null,null,null,null,null,null,null,null,null,null,null,null,null,""]
[null,null,null,null,null,null,null,null,null,null,null,null,null,""]
[null,null,null,null,null,null,null,null,null,null,null,null,null,{"$f":"IFERROR(DATEDIF(TODAY(),F1222,\"d\"),\"\")","v":""}]
[null,null,null,null,null,null,null,null,null,null,null,null,null,""]
[null,null,null,null,null,null,null,null,null,null,null,null,null,""]
[null,null,null,null,null,null,null,null,null,null,null,null,null,""]
[null,null,null,null,null,null,null,null,null,null,null,null,null,""]
[null,null,null,null,null,null,null,null,null,null,null,null,null,""]
[null,null,null,null,null,null,null,null,null,null,null,null,null,""]
[null,null,null,null,null,null,null,null,null,null,null,null,null,""]
[null,null,null,null,null,null,null,null,null,null,null,null,null,""]
[null,null,null,null,null,null,null,null,null,null,null,null,null,""]
[null,null,null,null,null,null,null,null,null,null,null,null,null,""]
[null,null,null,null,null,null,null,null,null,null,null,null,null,""]
[null,null,null,null,null,null,null,null,null,null,null,null,null,""]
[null,null,null,null,null,null,null,null,null,null,null,null,null,""]
[null,null,null,null,null,null,null,null,null,null,null,null,null,""]
[null,null,null,null,null,null,null,null,null,null,null,null,null,""]
[null,null,null,null,null,null,null,null,null,null,null,null,null,""]
[null,null,null,null,null,null,null,null,null,null,null,null,null,""]
[null,null,null,null,null,null,null,null,null,null,null,null,null,""]
[null,null,null,null,null,null,null,null,null,null,null,null,null,""]
[null,null,null,null,null,null,null,null,null,null,null,null,null,""]
[null,null,null,null,null,null,null,null,null,null,null,null,null,""]
[null,null,null,null,null,null,null,null,null,null,null,null,null,""]
[null,null,null,null,null,null,null,null,null,null,null,null,null,""]
[null,null,null,null,null,null,null,null,null,null,null,null,null,""]
[null,null,null,null,null,null,null,null,null,null,null,null,null,""]
[null,null,null,null,null,null,null,null,null,null,null,null,null,""]
[null,null,null,null,null,null,null,null,null,null,null,null,null,""]
[null,null,null,null,null,null,null,null,null,null,null,null,null,""]
[null,null,null,null,null,null,null,null,null,null,null,null,null,""]
[null,null,null,null,null,null,null,null,null,null,null,null,null,""]
[null,null,null,null,null,null,null,null,null,null,null,null,null,""]
[null,null,null,null,null,null,null,null,null,null,null,null,null,""]
[null,null,null,null,null,null,null,null,null,null,null,null,null,""]
[null,null,null,null,null,null,null,null,null,null,null,null,null,""]
[null,null,null,null,null,null,null,null,null,null,null,null,null,""]
[null,null,null,null,null,null,null,null,null,null,null,null,null,""]
[null,null,null,null,null,null,null,null,null,null,null,null,null,""]
[null,null,null,null,null,null,null,null,null,null,null,null,null,""]
[null,null,null,null,null,null,null,null,null,null,null,null,null,""]
[null,null,null,null,null,null,null,null,null,null,null,null,null,""]
[null,null,null,null,null,null,null,null,null,null,null,null,null,""]
[null,null,null,null,null,null,null,null,null,null,null,null,null,""]
[null,null,null,null,null,null,null,null,null,null,null,null,null,""]
[null,null,null,null,null,null,null,null,null,null,null,null,null,""]
[null,null,null,null,null,null,null,null,null,null,null,null,null,""]
[null,null,null,null,null,null,null,null,null,null,null,null,null,""]
[null,null,null,null,null,null,null,null,null,null,null,null,null,""]
[null,null,null,null,null,null,null,null,null,null,null,null,null,""]
[null,null,null,null,null,null,null,null,null,null,null,null,null,""]
[null,null,null,null,null,null,null,null,null,null,null,null,null,""]
[null,null,null,null,null,null,null,null,null,null,null,null,null,""]
[null,null,null,null,null,null,null,null,null,null,null,null,null,""]
[null,null,null,null,null,null,null,null,null,null,null,null,null,""]
[null,null,null,null,null,null,null,null,null,null,null,null,null,""]
[null,null,null,null,null,null,null,null,null,null,null,null,null,""]
[null,null,null,null,null,null,null,null,null,null,null,null,null,""]
[null,null,null,null,null,null,null,null,null,null,null,null,null,""]
[null,null,null,null,null,null,null,null,null,null,null,null,null,""]
[null,null,null,null,null,null,null,null,null,null,null,null,null,""]
[null,null,null,null,null,null,null,null,null,null,null,null,null,""]
[null,null,null,null,null,null,null,null,null,null,null,null,null,""]
[null,null,null,null,null,null,null,null,null,null,null,null,null,""]
[null,null,null,null,null,null,null,null,null,null,null,null,null,""]
[null,null,null,null,null,null,null,null,null,null,null,null,null,{"$f":"IFERROR(DATEDIF(TODAY(),F1286,\"d\"),\"\")","v":""}]
[null,null,null,null,null,null,null,null,null,null,null,null,null,""]
[null,null,null,null,null,null,null,null,null,null,null,null,null,""]
[null,null,null,null,null,null,null,null,null,null,null,null,null,""]
[null,null,null,null,null,null,null,null,null,null,null,null,null,""]
[null,null,null,null,null,null,null,null,null,null,null,null,null,""]
[null,null,null,null,null,null,null,null,null,null,null,null,null,""]
[null,null,null,null,null,null,null,null,null,null,null,null,null,""]
[null,null,null,null,null,null,null,null,null,null,null,null,null,""]
[null,null,null,null,null,null,null,null,null,null,null,null,null,""]
[null,null,null,null,null,null,null,null,null,null,null,null,null,""]
[null,null,null,null,null,null,null,null,null,null,null,null,null,""]
[null,null,null,null,null,null,null,null,null,null,null,null,null,""]
[null,null,null,null,null,null,null,null,null,null,null,null,null,""]
[null,null,null,null,null,null,null,null,null,null,null,null,null,""]
[null,null,null,null,null,null,null,null,null,null,null,null,null,""]
[null,null,null,null,null,null,null,null,null,null,null,null,null,""]
[null,null,null,null,null,null,null,null,null,null,null,null,null,""]
[null,null,null,null,null,null,null,null,null,null,null,null,null,""]
[null,null,null,null,null,null,null,null,null,null,null,null,null,""]
[null,null,null,null,null,null,null,null,null,null,null,null,null,""]
[null,null,null,null,null,null,null,null,null,null,null,null,null,""]
[null,null,null,null,null,null,null,null,null,null,null,null,null,""]
[null,null,null,null,null,null,null,null,null,null,null,null,null,""]
[null,null,null,null,null,null,null,null,null,null,null,null,null,""]
[null,null,null,null,null,null,null,null,null,null,null,null,null,""]
[null,null,null,null,null,null,null,null,null,null,null,null,null,""]
[null,null,null,null,null,null,null,null,null,null,null,null,null,""]
[null,null,null,null,null,null,null,null,null,null,null,null,null,""]
[null,null,null,null,null,null,null,null,null,null,null,null,null,""]
[null,null,null,null,null,null,null,null,null,null,null,null,null,""]
[null,null,null,null,null,null,null,null,null,null,null,null,null,""]
[null,null,null,null,null,null,null,null,null,null,null,null,null,""]
[null,null,null,null,null,null,null,null,null,null,null,null,null,""]
[null,null,null,null,null,null,null,null,null,null,null,null,null,""]
[null,null,null,null,null,null,null,null,null,null,null,null,null,""]
[null,null,null,null,null,null,null,null,null,null,null,null,null,""]
[null,null,null,null,null,null,null,null,null,null,null,null,null,""]
[null,null,null,null,null,null,null,null,null,null,null,null,null,""]
[null,null,null,null,null,null,null,null,null,null,null,null,null,""]
[null,null,null,null,null,null,null,null,null,null,null,null,null,""]
[null,null,null,null,null,null,null,null,null,null,null,null,null,""]
[null,null,null,null,null,null,null,null,null,null,null,null,null,""]
[null,null,null,null,null,null,null,null,null,null,null,null,null,""]
[null,null,null,null,null,null,null,null,null,null,null,null,null,""]
[null,null,null,null,null,null,null,null,null,null,null,null,null,""]
[null,null,null,null,null,null,null,null,null,null,null,null,null,""]
[null,null,null,null,null,null,null,null,null,null,null,null,null,""]
[null,null,null,null,null,null,null,null,null,null,null,null,null,""]
[null,null,null,null,null,null,null,null,null,null,null,null,null,""]
[null,null,null,null,null,null,null,null,null,null,null,null,null,""]
[null,null,null,null,null,null,null,null,null,null,null,null,null,""]
[null,null,null,null,null,null,null,null,null,null,null,null,null,""]
[null,null,null,null,null,null,null,null,null,null,null,null,null,""]
[null,null,null,null,null,null,null,null,null,null,null,null,null,""]
[null,null,null,null,null,null,null,null,null,null,null,null,null,""]
[null,null,null,null,null,null,null,null,null,null,null,null,null,""]
[null,null,null,null,null,null,null,null,null,null,null,null,null,""]
[null,null,null,null,null,null,null,null,null,null,null,null,null,""]
[null,null,null,null,null,null,null,null,null,null,null,null,null,""]
[null,null,null,null,null,null,null,null,null,null,null,null,null,""]
[null,null,null,null,null,null,null,null,null,null,null,null,null,""]
[null,null,null,null,null,null,null,null,null,null,null,null,null,""]
[null,null,null,null,null,null,null,null,null,null,null,null,null,""]
[null,null,null,null,null,null,null,null,null,null,null,null,null,{"$f":"IFERROR(DATEDIF(TODAY(),F1350,\"d\"),\"\")","v":""}]
[null,null,null,null,null,null,null,null,null,null,null,null,null,""]
[null,null,null,null,null,null,null,null,null,null,null,null,null,""]
[null,null,null,null,null,null,null,null,null,null,null,null,null,""]
[null,null,null,null,null,null,null,null,null,null,null,null,null,""]
[null,null,null,null,null,null,null,null,null,null,null,null,null,""]
[null,null,null,null,null,null,null,null,null,null,null,null,null,""]
[null,null,null,null,null,null,null,null,null,null,null,null,null,""]
[null,null,null,null,null,null,null,null,null,null,null,null,null,""]
[null,null,null,null,null,null,null,null,null,null,null,null,null,""]
[null,null,null,null,null,null,null,null,null,null,null,null,null,""]
[null,null,null,null,null,null,null,null,null,null,null,null,null,""]
[null,null,null,null,null,null,null,null,null,null,null,null,null,""]
[null,null,null,null,null,null,null,null,null,null,null,null,null,""]
[null,null,null,null,null,null,null,null,null,null,null,null,null,""]
[null,null,null,null,null,null,null,null,null,null,null,null,null,""]
[null,null,null,null,null,null,null,null,null,null,null,null,null,""]
[null,null,null,null,null,null,null,null,null,null,null,null,null,""]
[null,null,null,null,null,null,null,null,null,null,null,null,null,""]
[null,null,null,null,null,null,null,null,null,null,null,null,null,""]
[null,null,null,null,null,null,null,null,null,null,null,null,null,""]
[null,null,null,null,null,null,null,null,null,null,null,null,null,""]
[null,null,null,null,null,null,null,null,null,null,null,null,null,""]
[null,null,null,null,null,null,null,null,null,null,null,null,null,""]
[null,null,null,null,null,null,null,null,null,null,null,null,null,""]
[null,null,null,null,null,null,null,null,null,null,null,null,null,""]
[null,null,null,null,null,null,null,null,null,null,null,null,null,""]
[null,null,null,null,null,null,null,null,null,null,null,null,null,""]
[null,null,null,null,null,null,null,null,null,null,null,null,null,""]
[null,null,null,null,null,null,null,null,null,null,null,null,null,""]
[null,null,null,null,null,null,null,null,null,null,null,null,null,""]
[null,null,null,null,null,null,null,null,null,null,null,null,null,""]
[null,null,null,null,null,null,null,null,null,null,null,null,null,""]
[null,null,null,null,null,null,null,null,null,null,null,null,null,""]
[null,null,null,null,null,null,null,null,null,null,null,null,null,""]
[null,null,null,null,null,null,null,null,null,null,null,null,null,""]
[null,null,null,null,null,null,null,null,null,null,null,null,null,""]
[null,null,null,null,null,null,null,null,null,null,null,null,null,""]
[null,null,null,null,null,null,null,null,null,null,null,null,null,""]
[null,null,null,null,null,null,null,null,null,null,null,null,null,""]
[null,null,null,null,null,null,null,null,null,null,null,null,null,""]
[null,null,null,null,null,null,null,null,null,null,null,null,null,""]
[null,null,null,null,null,null,null,null,null,null,null,null,null,""]
[null,null,null,null,null,null,null,null,null,null,null,null,null,""]
[null,null,null,null,null,null,null,null,null,null,null,null,null,""]
[null,null,null,null,null,null,null,null,null,null,null,null,null,""]
[null,null,null,null,null,null,null,null,null,null,null,null,null,""]
[null,null,null,null,null,null,null,null,null,null,null,null,null,""]
[null,null,null,null,null,null,null,null,null,null,null,null,null,""]
[null,null,null,null,null,null,null,null,null,null,null,null,null,""]
[null,null,null,null,null,null,null,null,null,null,null,null,null,""]
[null,null,null,null,null,null,null,null,null,null,null,null,null,""]
[null,null,null,null,null,null,null,null,null,null,null,null,null,""]
[null,null,null,null,null,null,null,null,null,null,null,null,null,""]
[null,null,null,null,null,null,null,null,null,null,null,null,null,""]
[null,null,null,null,null,null,null,null,null,null,null,null,null,""]
[null,null,null,null,null,null,null,null,null,null,null,null,null,""]
[null,null,null,null,null,null,null,null,null,null,null,null,null,""]
[null,null,null,null,null,null,null,null,null,null,null,null,null,""]
[null,null,null,null,null,null,null,null,null,null,null,null,null,""]
[null,null,null,null,null,null,null,null,null,null,null,null,null,""]
[null,null,null,null,null,null,null,null,null,null,null,null,null,""]
[null,null,null,null,null,null,null,null,null,null,null,null,null,""]
[null,null,null,null,null,null,null,null,null,null,null,null,null,""]
[null,null,null,null,null,null,null,null,null,null,null,null,null,{"$f":"IFERROR(DATEDIF(TODAY(),F1414,\"d\"),\"\")","v":""}]
[null,null,null,null,null,null,null,null,null,null,null,null,null,""]
[null,null,null,null,null,null,null,null,null,null,null,null,null,""]
[null,null,null,null,null,null,null,null,null,null,null,null,null,""]
[null,null,null,null,null,null,null,null,null,null,null,null,null,""]
[null,null,null,null,null,null,null,null,null,null,null,null,null,""]
[null,null,null,null,null,null,null,null,null,null,null,null,null,""]
[null,null,null,null,null,null,null,null,null,null,null,null,null,""]
[null,null,null,null,null,null,null,null,null,null,null,null,null,""]
[null,null,null,null,null,null,null,null,null,null,null,null,null,""]
[null,null,null,null,null,null,null,null,null,null,null,null,null,""]
[null,null,null,null,null,null,null,null,null,null,null,null,null,""]
[null,null,null,null,null,null,null,null,null,null,null,null,null,""]
[null,null,null,null,null,null,null,null,null,null,null,null,null,""]
[null,null,null,null,null,null,null,null,null,null,null,null,null,""]
[null,null,null,null,null,null,null,null,null,null,null,null,null,""]
[null,null,null,null,null,null,null,null,null,null,null,null,null,""]
[null,null,null,null,null,null,null,null,null,null,null,null,null,""]
[null,null,null,null,null,null,null,null,null,null,null,null,null,""]
[null,null,null,null,null,null,null,null,null,null,null,null,null,""]
[null,null,null,null,null,null,null,null,null,null,null,null,null,""]
[null,null,null,null,null,null,null,null,null,null,null,null,null,""]
[null,null,null,null,null,null,null,null,null,null,null,null,null,""]
[null,null,null,null,null,null,null,null,null,null,null,null,null,""]
[null,null,null,null,null,null,null,null,null,null,null,null,null,""]
[null,null,null,null,null,null,null,null,null,null,null,null,null,""]
[null,null,null,null,null,null,null,null,null,null,null,null,null,""]
[null,null,null,null,null,null,null,null,null,null,null,null,null,""]
[null,null,null,null,null,null,null,null,null,null,null,null,null,""]
[null,null,null,null,null,null,null,null,null,null,null,null,null,""]
[null,null,null,null,null,null,null,null,null,null,null,null,null,""]
[null,null,null,null,null,null,null,null,null,null,null,null,null,""]
[null,null,null,null,null,null,null,null,null,null,null,null,null,""]
[null,null,null,null,null,null,null,null,null,null,null,null,null,""]
[null,null,null,null,null,null,null,null,null,null,null,null,null,""]
[null,null,null,null,null,null,null,null,null,null,null,null,null,""]
[null,null,null,null,null,null,null,null,null,null,null,null,null,""]
[null,null,null,null,null,null,null,null,null,null,null,null,null,""]
[null,null,null,null,null,null,null,null,null,null,null,null,null,""]
[null,null,null,null,null,null,null,null,null,null,null,null,null,""]
[null,null,null,null,null,null,null,null,null,null,null,null,null,""]
[null,null,null,null,null,null,null,null,null,null,null,null,null,""]
[null,null,null,null,null,null,null,null,null,null,null,null,null,""]
[null,null,null,null,null,null,null,null,null,null,null,null,null,""]
[null,null,null,null,null,null,null,null,null,null,null,null,null,""]
[null,null,null,null,null,null,null,null,null,null,null,null,null,""]
[null,null,null,null,null,null,null,null,null,null,null,null,null,""]
[null,null,null,null,null,null,null,null,null,null,null,null,null,""]
[null,null,null,null,null,null,null,null,null,null,null,null,null,""]
[null,null,null,null,null,null,null,null,null,null,null,null,null,""]
[null,null,null,null,null,null,null,null,null,null,null,null,null,""]
[null,null,null,null,null,null,null,null,null,null,null,null,null,""]
[null,null,null,null,null,null,null,null,null,null,null,null,null,""]
[null,null,null,null,null,null,null,null,null,null,null,null,null,""]
[null,null,null,null,null,null,null,null,null,null,null,null,null,""]
[null,null,null,null,null,null,null,null,null,null,null,null,null,""]
[null,null,null,null,null,null,null,null,null,null,null,null,null,""]
[null,null,null,null,null,null,null,null,null,null,null,null,null,""]
[null,null,null,null,null,null,null,null,null,null,null,null,null,""]
[null,null,null,null,null,null,null,null,null,null,null,null,null,""]
[null,null,null,null,null,null,null,null,null,null,null,null,null,""]
[null,null,null,null,null,null,null,null,null,null,null,null,null,""]
[null,null,null,null,null,null,null,null,null,null,null,null,null,""]
[null,null,null,null,null,null,null,null,null,null,null,null,null,""]
[null,null,null,null,null,null,null,null,null,null,null,null,null,{"$f":"IFERROR(DATEDIF(TODAY(),F1478,\"d\"),\"\")","v":""}]
[null,null,null,null,null,null,null,null,null,null,null,null,null,""]
[null,null,null,null,null,null,null,null,null,null,null,null,null,""]
[null,null,null,null,null,null,null,null,null,null,null,null,null,""]
[null,null,null,null,null,null,null,null,null,null,null,null,null,""]
[null,null,null,null,null,null,null,null,null,null,null,null,null,""]
[null,null,null,null,null,null,null,null,null,null,null,null,null,""]
[null,null,null,null,null,null,null,null,null,null,null,null,null,""]
[null,null,null,null,null,null,null,null,null,null,null,null,null,""]
[null,null,null,null,null,null,null,null,null,null,null,null,null,""]
[null,null,null,null,null,null,null,null,null,null,null,null,null,""]
[null,null,null,null,null,null,null,null,null,null,null,null,null,""]
[null,null,null,null,null,null,null,null,null,null,null,null,null,""]
[null,null,null,null,null,null,null,null,null,null,null,null,null,""]
[null,null,null,null,null,null,null,null,null,null,null,null,null,""]
[null,null,null,null,null,null,null,null,null,null,null,null,null,""]
[null,null,null,null,null,null,null,null,null,null,null,null,null,""]
[null,null,null,null,null,null,null,null,null,null,null,null,null,""]
[null,null,null,null,null,null,null,null,null,null,null,null,null,""]
[null,null,null,null,null,null,null,null,null,null,null,null,null,""]
[null,null,null,null,null,null,null,null,null,null,null,null,null,""]
[null,null,null,null,null,null,null,null,null,null,null,null,null,""]
[null,null,null,null,null,null,null,null,null,null,null,null,null,""]
[null,null,null,null,null,null,null,null,null,null,null,null,null,""]
[null,null,null,null,null,null,null,null,null,null,null,null,null,""]
[null,null,null,null,null,null,null,null,null,null,null,null,null,""]
[null,null,null,null,null,null,null,null,null,null,null,null,null,""]
[null,null,null,null,null,null,null,null,null,null,null,null,null,""]
[null,null,null,null,null,null,null,null,null,null,null,null,null,""]
[null,null,null,null,null,null,null,null,null,null,null,null,null,""]
[null,null,null,null,null,null,null,null,null,null,null,null,null,""]
[null,null,null,null,null,null,null,null,null,null,null,null,null,""]
[null,null,null,null,null,null,null,null,null,null,null,null,null,""]
[null,null,null,null,null,null,null,null,null,null,null,null,null,""]
[null,null,null,null,null,null,null,null,null,null,null,null,null,""]
[null,null,null,null,null,null,null,null,null,null,null,null,null,""]
[null,null,null,null,null,null,null,null,null,null,null,null,null,""]
[null,null,null,null,null,null,null,null,null,null,null,null,null,""]
[null,null,null,null,null,null,null,null,null,null,null,null,null,""]
[null,null,null,null,null,null,null,null,null,null,null,null,null,""]
[null,null,null,null,null,null,null,null,null,null,null,null,null,""]
[null,null,null,null,null,null,null,null,null,null,null,null,null,""]
[null,null,null,null,null,null,null,null,null,null,null,null,null,""]
[null,null,null,null,null,null,null,null,null,null,null,null,null,""]
[null,null,null,null,null,null,null,null,null,null,null,null,null,""]
[null,null,null,null,null,null,null,null,null,null,null,null,null,""]
[null,null,null,null,null,null,null,null,null,null,null,null,null,""]
[null,null,null,null,null,null,null,null,null,null,null,null,null,""]
[null,null,null,null,null,null,null,null,null,null,null,null,null,""]
[null,null,null,null,null,null,null,null,null,null,null,null,null,""]
[null,null,null,null,null,null,null,null,null,null,null,null,null,""]
[null,null,null,null,null,null,null,null,null,null,null,null,null,""]
[null,null,null,null,null,null,null,null,null,null,null,null,null,""]
[null,null,null,null,null,null,null,null,null,null,null,null,null,""]
[null,null,null,null,null,null,null,null,null,null,null,null,null,""]
[null,null,null,null,null,null,null,null,null,null,null,null,null,""]
[null,null,null,null,null,null,null,null,null,null,null,null,null,""]
[null,null,null,null,null,null,null,null,null,null,null,null,null,""]
[null,null,null,null,null,null,null,null,null,null,null,null,null,""]
[null,null,null,null,null,null,null,null,null,null,null,null,null,""]
[null,null,null,null,null,null,null,null,null,null,null,null,null,""]
[null,null,null,null,null,null,null,null,null,null,null,null,null,""]
[null,null,null,null,null,null,null,null,null,null,null,null,null,""]
[null,null,null,null,null,null,null,null,null,null,null,null,null,""]
[null,null,null,null,null,null,null,null,null,null,null,null,null,{"$f":"IFERROR(DATEDIF(TODAY(),F1542,\"d\"),\"\")","v":""}]
[null,null,null,null,null,null,null,null,null,null,null,null,null,""]
[null,null,null,null,null,null,null,null,null,null,null,null,null,""]
[null,null,null,null,null,null,null,null,null,null,null,null,null,""]
[null,null,null,null,null,null,null,null,null,null,null,null,null,""]
[null,null,null,null,null,null,null,null,null,null,null,null,null,""]
[null,null,null,null,null,null,null,null,null,null,null,null,null,""]
[null,null,null,null,null,null,null,null,null,null,null,null,null,""]
[null,null,null,null,null,null,null,null,null,null,null,null,null,""]
[null,null,null,null,null,null,null,null,null,null,null,null,null,""]
[null,null,null,null,null,null,null,null,null,null,null,null,null,""]
[null,null,null,null,null,null,null,null,null,null,null,null,null,""]
[null,null,null,null,null,null,null,null,null,null,null,null,null,""]
[null,null,null,null,null,null,null,null,null,null,null,null,null,""]
[null,null,null,null,null,null,null,null,null,null,null,null,null,""]
[null,null,null,null,null,null,null,null,null,null,null,null,null,""]
[null,null,null,null,null,null,null,null,null,null,null,null,null,""]
[null,null,null,null,null,null,null,null,null,null,null,null,null,""]
[null,null,null,null,null,null,null,null,null,null,null,null,null,""]
[null,null,null,null,null,null,null,null,null,null,null,null,null,""]
[null,null,null,null,null,null,null,null,null,null,null,null,null,""]
[null,null,null,null,null,null,null,null,null,null,null,null,null,""]
[null,null,null,null,null,null,null,null,null,null,null,null,null,""]
[null,null,null,null,null,null,null,null,null,null,null,null,null,""]
[null,null,null,null,null,null,null,null,null,null,null,null,null,""]
[null,null,null,null,null,null,null,null,null,null,null,null,null,""]
[null,null,null,null,null,null,null,null,null,null,null,null,null,""]
[null,null,null,null,null,null,null,null,null,null,null,null,null,""]
[null,null,null,null,null,null,null,null,null,null,null,null,null,""]
[null,null,null,null,null,null,null,null,null,null,null,null,null,""]
[null,null,null,null,null,null,null,null,null,null,null,null,null,""]
[null,null,null,null,null,null,null,null,null,null,null,null,null,""]
[null,null,null,null,null,null,null,null,null,null,null,null,null,""]
[null,null,null,null,null,null,null,null,null,null,null,null,null,""]
[null,null,null,null,null,null,null,null,null,null,null,null,null,""]
[null,null,null,null,null,null,null,null,null,null,null,null,null,""]
[null,null,null,null,null,null,null,null,null,null,null,null,null,""]
[null,null,null,null,null,null,null,null,null,null,null,null,null,""]
[null,null,null,null,null,null,null,null,null,null,null,null,null,""]
[null,null,null,null,null,null,null,null,null,null,null,null,null,""]
[null,null,null,null,null,null,null,null,null,null,null,null,null,""]
[null,null,null,null,null,null,null,null,null,null,null,null,null,""]
[null,null,null,null,null,null,null,null,null,null,null,null,null,""]
[null,null,null,null,null,null,null,null,null,null,null,null,null,""]
[null,null,null,null,null,null,null,null,null,null,null,null,null,""]
[null,null,null,null,null,null,null,null,null,null,null,null,null,""]
[null,null,null,null,null,null,null,null,null,null,null,null,null,""]
[null,null,null,null,null,null,null,null,null,null,null,null,null,""]
[null,null,null,null,null,null,null,null,null,null,null,null,null,""]
[null,null,null,null,null,null,null,null,null,null,null,null,null,""]
[null,null,null,null,null,null,null,null,null,null,null,null,null,""]
[null,null,null,null,null,null,null,null,null,null,null,null,null,""]
[null,null,null,null,null,null,null,null,null,null,null,null,null,""]
[null,null,null,null,null,null,null,null,null,null,null,null,null,""]
[null,null,null,null,null,null,null,null,null,null,null,null,null,""]
[null,null,null,null,null,null,null,null,null,null,null,null,null,""]
[null,null,null,null,null,null,null,null,null,null,null,null,null,""]
[null,null,null,null,null,null,null,null,null,null,null,null,null,""]
[null,null,null,null,null,null,null,null,null,null,null,null,null,""]
[null,null,null,null,null,null,null,null,null,null,null,null,null,""]
[null,null,null,null,null,null,null,null,null,null,null,null,null,""]
[null,null,null,null,null,null,null,null,null,null,null,null,null,""]
[null,null,null,null,null,null,null,null,null,null,null,null,null,""]
[null,null,null,null,null,null,null,null,null,null,null,null,null,""]
[null,null,null,null,null,null,null,null,null,null,null,null,null,{"$f":"IFERROR(DATEDIF(TODAY(),F1606,\"d\"),\"\")","v":""}]
[null,null,null,null,null,null,null,null,null,null,null,null,null,""]
[null,null,null,null,null,null,null,null,null,null,null,null,null,""]
[null,null,null,null,null,null,null,null,null,null,null,null,null,""]
[null,null,null,null,null,null,null,null,null,null,null,null,null,""]
[null,null,null,null,null,null,null,null,null,null,null,null,null,""]
[null,null,null,null,null,null,null,null,null,null,null,null,null,""]
[null,null,null,null,null,null,null,null,null,null,null,null,null,""]
[null,null,null,null,null,null,null,null,null,null,null,null,null,""]
[null,null,null,null,null,null,null,null,null,null,null,null,null,""]
[null,null,null,null,null,null,null,null,null,null,null,null,null,""]
[null,null,null,null,null,null,null,null,null,null,null,null,null,""]
[null,null,null,null,null,null,null,null,null,null,null,null,null,""]
[null,null,null,null,null,null,null,null,null,null,null,null,null,""]
[null,null,null,null,null,null,null,null,null,null,null,null,null,""]
[null,null,null,null,null,null,null,null,null,null,null,null,null,""]
[null,null,null,null,null,null,null,null,null,null,null,null,null,""]
[null,null,null,null,null,null,null,null,null,null,null,null,null,""]
[null,null,null,null,null,null,null,null,null,null,null,null,null,""]
[null,null,null,null,null,null,null,null,null,null,null,null,null,""]
[null,null,null,null,null,null,null,null,null,null,null,null,null,""]
[null,null,null,null,null,null,null,null,null,null,null,null,null,""]
[null,null,null,null,null,null,null,null,null,null,null,null,null,""]
[null,null,null,null,null,null,null,null,null,null,null,null,null,""]
[null,null,null,null,null,null,null,null,null,null,null,null,null,""]
[null,null,null,null,null,null,null,null,null,null,null,null,null,""]
[null,null,null,null,null,null,null,null,null,null,null,null,null,""]
[null,null,null,null,null,null,null,null,null,null,null,null,null,""]
[null,null,null,null,null,null,null,null,null,null,null,null,null,""]
[null,null,null,null,null,null,null,null,null,null,null,null,null,""]
[null,null,null,null,null,null,null,null,null,null,null,null,null,""]
[null,null,null,null,null,null,null,null,null,null,null,null,null,""]
[null,null,null,null,null,null,null,null,null,null,null,null,null,""]
[null,null,null,null,null,null,null,null,null,null,null,null,null,""]
[null,null,null,null,null,null,null,null,null,null,null,null,null,""]
[null,null,null,null,null,null,null,null,null,null,null,null,null,""]
[null,null,null,null,null,null,null,null,null,null,null,null,null,""]
[null,null,null,null,null,null,null,null,null,null,null,null,null,""]
[null,null,null,null,null,null,null,null,null,null,null,null,null,""]
[null,null,null,null,null,null,null,null,null,null,null,null,null,""]
[null,null,null,null,null,null,null,null,null,null,null,null,null,""]
[null,null,null,null,null,null,null,null,null,null,null,null,null,""]
[null,null,null,null,null,null,null,null,null,null,null,null,null,""]
[null,null,null,null,null,null,null,null,null,null,null,null,null,""]
[null,null,null,null,null,null,null,null,null,null,null,null,null,""]
[null,null,null,null,null,null,null,null,null,null,null,null,null,""]
[null,null,null,null,null,null,null,null,null,null,null,null,null,""]
[null,null,null,null,null,null,null,null,null,null,null,null,null,""]
[null,null,null,null,null,null,null,null,null,null,null,null,null,""]
[null,null,null,null,null,null,null,null,null,null,null,null,null,""]
[null,null,null,null,null,null,null,null,null,null,null,null,null,""]
[null,null,null,null,null,null,null,null,null,null,null,null,null,""]
[null,null,null,null,null,null,null,null,null,null,null,null,null,""]
[null,null,null,null,null,null,null,null,null,null,null,null,null,""]
[null,null,null,null,null,null,null,null,null,null,null,null,null,""]
[null,null,null,null,null,null,null,null,null,null,null,null,null,""]
[null,null,null,null,null,null,null,null,null,null,null,null,null,""]
[null,null,null,null,null,null,null,null,null,null,null,null,null,""]
[null,null,null,null,null,null,null,null,null,null,null,null,null,""]
[null,null,null,null,null,null,null,null,null,null,null,null,null,""]
[null,null,null,null,null,null,null,null,null,null,null,null,null,""]
[null,null,null,null,null,null,null,null,null,null,null,null,null,""]
[null,null,null,null,null,null,null,null,null,null,null,null,null,""]
[null,null,null,null,null,null,null,null,null,null,null,null,null,""]
[null,null,null,null,null,null,null,null,null,null,null,null,null,{"$f":"IFERROR(DATEDIF(TODAY(),F1670,\"d\"),\"\")","v":""}]
[null,null,null,null,null,null,null,null,null,null,null,null,null,""]
[null,null,null,null,null,null,null,null,null,null,null,null,null,""]
[null,null,null,null,null,null,null,null,null,null,null,null,null,""]
[null,null,null,null,null,null,null,null,null,null,null,null,null,""]
[null,null,null,null,null,null,null,null,null,null,null,null,null,""]
[null,null,null,null,null,null,null,null,null,null,null,null,null,""]
[null,null,null,null,null,null,null,null,null,null,null,null,null,""]
[null,null,null,null,null,null,null,null,null,null,null,null,null,""]
[null,null,null,null,null,null,null,null,null,null,null,null,null,""]
[null,null,null,null,null,null,null,null,null,null,null,null,null,""]
[null,null,null,null,null,null,null,null,null,null,null,null,null,""]
[null,null,null,null,null,null,null,null,null,null,null,null,null,""]
[null,null,null,null,null,null,null,null,null,null,null,null,null,""]
[null,null,null,null,null,null,null,null,null,null,null,null,null,""]
[null,null,null,null,null,null,null,null,null,null,null,null,null,""]
[null,null,null,null,null,null,null,null,null,null,null,null,null,""]
[null,null,null,null,null,null,null,null,null,null,null,null,null,""]
[null,null,null,null,null,null,null,null,null,null,null,null,null,""]
[null,null,null,null,null,null,null,null,null,null,null,null,null,""]
[null,null,null,null,null,null,null,null,null,null,null,null,null,""]
[null,null,null,null,null,null,null,null,null,null,null,null,null,""]
[null,null,null,null,null,null,null,null,null,null,null,null,null,""]
[null,null,null,null,null,null,null,null,null,null,null,null,null,""]
[null,null,null,null,null,null,null,null,null,null,null,null,null,""]
[null,null,null,null,null,null,null,null,null,null,null,null,null,""]
[null,null,null,null,null,null,null,null,null,null,null,null,null,""]
[null,null,null,null,null,null,null,null,null,null,null,null,null,""]
[null,null,null,null,null,null,null,null,null,null,null,null,null,""]
[null,null,null,null,null,null,null,null,null,null,null,null,null,""]
[null,null,null,null,null,null,null,null,null,null,null,null,null,""]
[null,null,null,null,null,null,null,null,null,null,null,null,null,""]
[null,null,null,null,null,null,null,null,null,null,null,null,null,""]
[null,null,null,null,null,null,null,null,null,null,null,null,null,""]
[null,null,null,null,null,null,null,null,null,null,null,null,null,""]
[null,null,null,null,null,null,null,null,null,null,null,null,null,""]
[null,null,null,null,null,null,null,null,null,null,null,null,null,""]
[null,null,null,null,null,null,null,null,null,null,null,null,null,""]
[null,null,null,null,null,null,null,null,null,null,null,null,null,""]
[null,null,null,null,null,null,null,null,null,null,null,null,null,""]
[null,null,null,null,null,null,null,null,null,null,null,null,null,""]
[null,null,null,null,null,null,null,null,null,null,null,null,null,""]
[null,null,null,null,null,null,null,null,null,null,null,null,null,""]
[null,null,null,null,null,null,null,null,null,null,null,null,null,""]
[null,null,null,null,null,null,null,null,null,null,null,null,null,""]
[null,null,null,null,null,null,null,null,null,null,null,null,null,""]
[null,null,null,null,null,null,null,null,null,null,null,null,null,""]
[null,null,null,null,null,null,null,null,null,null,null,null,null,""]
[null,null,null,null,null,null,null,null,null,null,null,null,null,""]
[null,null,null,null,null,null,null,null,null,null,null,null,null,""]
[null,null,null,null,null,null,null,null,null,null,null,null,null,""]
[null,null,null,null,null,null,null,null,null,null,null,null,null,""]
[null,null,null,null,null,null,null,null,null,null,null,null,null,""]
[null,null,null,null,null,null,null,null,null,null,null,null,null,""]
[null,null,null,null,null,null,null,null,null,null,null,null,null,""]
[null,null,null,null,null,null,null,null,null,null,null,null,null,""]
[null,null,null,null,null,null,null,null,null,null,null,null,null,""]
[null,null,null,null,null,null,null,null,null,null,null,null,null,""]
[null,null,null,null,null,null,null,null,null,null,null,null,null,""]
[null,null,null,null,null,null,null,null,null,null,null,null,null,""]
[null,null,null,null,null,null,null,null,null,null,null,null,null,""]
[null,null,null,null,null,null,null,null,null,null,null,null,null,""]
[null,null,null,null,null,null,null,null,null,null,null,null,null,""]
[null,null,null,null,null,null,null,null,null,null,null,null,null,""]
[null,null,null,null,null,null,null,null,null,null,null,null,null,{"$f":"IFERROR(DATEDIF(TODAY(),F1734,\"d\"),\"\")","v":""}]
[null,null,null,null,null,null,null,null,null,null,null,null,null,""]
[null,null,null,null,null,null,null,null,null,null,null,null,null,""]
[null,null,null,null,null,null,null,null,null,null,null,null,null,""]
[null,null,null,null,null,null,null,null,null,null,null,null,null,""]
[null,null,null,null,null,null,null,null,null,null,null,null,null,""]
[null,null,null,null,null,null,null,null,null,null,null,null,null,""]
[null,null,null,null,null,null,null,null,null,null,null,null,null,""]
[null,null,null,null,null,null,null,null,null,null,null,null,null,""]
[null,null,null,null,null,null,null,null,null,null,null,null,null,""]
[null,null,null,null,null,null,null,null,null,null,null,null,null,""]
[null,null,null,null,null,null,null,null,null,null,null,null,null,""]
[null,null,null,null,null,null,null,null,null,null,null,null,null,""]
[null,null,null,null,null,null,null,null,null,null,null,null,null,""]
[null,null,null,null,null,null,null,null,null,null,null,null,null,""]
[null,null,null,null,null,null,null,null,null,null,null,null,null,""]
[null,null,null,null,null,null,null,null,null,null,null,null,null,""]
[null,null,null,null,null,null,null,null,null,null,null,null,null,""]
[null,null,null,null,null,null,null,null,null,null,null,null,null,""]
[null,null,null,null,null,null,null,null,null,null,null,null,null,""]
[null,null,null,null,null,null,null,null,null,null,null,null,null,""]
[null,null,null,null,null,null,null,null,null,null,null,null,null,""]
[null,null,null,null,null,null,null,null,null,null,null,null,null,""]
[null,null,null,null,null,null,null,null,null,null,null,null,null,""]
[null,null,null,null,null,null,null,null,null,null,null,null,null,""]
[null,null,null,null,null,null,null,null,null,null,null,null,null,""]
[null,null,null,null,null,null,null,null,null,null,null,null,null,""]
[null,null,null,null,null,null,null,null,null,null,null,null,null,""]
[null,null,null,null,null,null,null,null,null,null,null,null,null,""]
[null,null,null,null,null,null,null,null,null,null,null,null,null,""]
[null,null,null,null,null,null,null,null,null,null,null,null,null,""]
[null,null,null,null,null,null,null,null,null,null,null,null,null,""]
[null,null,null,null,null,null,null,null,null,null,null,null,null,""]
[null,null,null,null,null,null,null,null,null,null,null,null,null,""]
[null,null,null,null,null,null,null,null,null,null,null,null,null,""]
[null,null,null,null,null,null,null,null,null,null,null,null,null,""]
[null,null,null,null,null,null,null,null,null,null,null,null,null,""]
[null,null,null,null,null,null,null,null,null,null,null,null,null,""]
[null,null,null,null,null,null,null,null,null,null,null,null,null,""]
[null,null,null,null,null,null,null,null,null,null,null,null,null,""]
[null,null,null,null,null,null,null,null,null,null,null,null,null,""]
[null,null,null,null,null,null,null,null,null,null,null,null,null,""]
[null,null,null,null,null,null,null,null,null,null,null,null,null,""]
[null,null,null,null,null,null,null,null,null,null,null,null,null,""]
[null,null,null,null,null,null,null,null,null,null,null,null,null,""]
[null,null,null,null,null,null,null,null,null,null,null,null,null,""]
[null,null,null,null,null,null,null,null,null,null,null,null,null,""]
[null,null,null,null,null,null,null,null,null,null,null,null,null,""]
[null,null,null,null,null,null,null,null,null,null,null,null,null,""]
[null,null,null,null,null,null,null,null,null,null,null,null,null,""]
[null,null,null,null,null,null,null,null,null,null,null,null,null,""]
[null,null,null,null,null,null,null,null,null,null,null,null,null,""]
[null,null,null,null,null,null,null,null,null,null,null,null,null,""]
[null,null,null,null,null,null,null,null,null,null,null,null,null,""]
[null,null,null,null,null,null,null,null,null,null,null,null,null,""]
[null,null,null,null,null,null,null,null,null,null,null,null,null,""]
[null,null,null,null,null,null,null,null,null,null,null,null,null,""]
[null,null,null,null,null,null,null,null,null,null,null,null,null,""]
[null,null,null,null,null,null,null,null,null,null,null,null,null,""]
[null,null,null,null,null,null,null,null,null,null,null,null,null,""]
[null,null,null,null,null,null,null,null,null,null,null,null,null,""]
[null,null,null,null,null,null,null,null,null,null,null,null,null,""]
[null,null,null,null,null,null,null,null,null,null,null,null,null,""]
[null,null,null,null,null,null,null,null,null,null,null,null,null,""]
[null,null,null,null,null,null,null,null,null,null,null,null,null,{"$f":"IFERROR(DATEDIF(TODAY(),F1798,\"d\"),\"\")","v":""}]
[null,null,null,null,null,null,null,null,null,null,null,null,null,""]
[null,null,null,null,null,null,null,null,null,null,null,null,null,""]
[null,null,null,null,null,null,null,null,null,null,null,null,null,""]
[null,null,null,null,null,null,null,null,null,null,null,null,null,""]
[null,null,null,null,null,null,null,null,null,null,null,null,null,""]
[null,null,null,null,null,null,null,null,null,null,null,null,null,""]
[null,null,null,null,null,null,null,null,null,null,null,null,null,""]
[null,null,null,null,null,null,null,null,null,null,null,null,null,""]
[null,null,null,null,null,null,null,null,null,null,null,null,null,""]
[null,null,null,null,null,null,null,null,null,null,null,null,null,""]
[null,null,null,null,null,null,null,null,null,null,null,null,null,""]
[null,null,null,null,null,null,null,null,null,null,null,null,null,""]
[null,null,null,null,null,null,null,null,null,null,null,null,null,""]
[null,null,null,null,null,null,null,null,null,null,null,null,null,""]
[null,null,null,null,null,null,null,null,null,null,null,null,null,""]
[null,null,null,null,null,null,null,null,null,null,null,null,null,""]
[null,null,null,null,null,null,null,null,null,null,null,null,null,""]
[null,null,null,null,null,null,null,null,null,null,null,null,null,""]
[null,null,null,null,null,null,null,null,null,null,null,null,null,""]
[null,null,null,null,null,null,null,null,null,null,null,null,null,""]
[null,null,null,null,null,null,null,null,null,null,null,null,null,""]
[null,null,null,null,null,null,null,null,null,null,null,null,null,""]
[null,null,null,null,null,null,null,null,null,null,null,null,null,""]
[null,null,null,null,null,null,null,null,null,null,null,null,null,""]
[null,null,null,null,null,null,null,null,null,null,null,null,null,""]
[null,null,null,null,null,null,null,null,null,null,null,null,null,""]
[null,null,null,null,null,null,null,null,null,null,null,null,null,""]
[null,null,null,null,null,null,null,null,null,null,null,null,null,""]
[null,null,null,null,null,null,null,null,null,null,null,null,null,""]
[null,null,null,null,null,null,null,null,null,null,null,null,null,""]
[null,null,null,null,null,null,null,null,null,null,null,null,null,""]
[null,null,null,null,null,null,null,null,null,null,null,null,null,""]
[null,null,null,null,null,null,null,null,null,null,null,null,null,""]
[null,null,null,null,null,null,null,null,null,null,null,null,null,""]
[null,null,null,null,null,null,null,null,null,null,null,null,null,""]
[null,null,null,null,null,null,null,null,null,null,null,null,null,""]
[null,null,null,null,null,null,null,null,null,null,null,null,null,""]
[null,null,null,null,null,null,null,null,null,null,null,null,null,""]
[null,null,null,null,null,null,null,null,null,null,null,null,null,""]
[null,null,null,null,null,null,null,null,null,null,null,null,null,""]
[null,null,null,null,null,null,null,null,null,null,null,null,null,""]
[null,null,null,null,null,null,null,null,null,null,null,null,null,""]
[null,null,null,null,null,null,null,null,null,null,null,null,null,""]
[null,null,null,null,null,null,null,null,null,null,null,null,null,""]
[null,null,null,null,null,null,null,null,null,null,null,null,null,""]
[null,null,null,null,null,null,null,null,null,null,null,null,null,""]
[null,null,null,null,null,null,null,null,null,null,null,null,null,""]
[null,null,null,null,null,null,null,null,null,null,null,null,null,""]
[null,null,null,null,null,null,null,null,null,null,null,null,null,""]
[null,null,null,null,null,null,null,null,null,null,null,null,null,""]
[null,null,null,null,null,null,null,null,null,null,null,null,null,""]
[null,null,null,null,null,null,null,null,null,null,null,null,null,""]
[null,null,null,null,null,null,null,null,null,null,null,null,null,""]
[null,null,null,null,null,null,null,null,null,null,null,null,null,""]
[null,null,null,null,null,null,null,null,null,null,null,null,null,""]
[null,null,null,null,null,null,null,null,null,null,null,null,null,""]
[null,null,null,null,null,null,null,null,null,null,null,null,null,""]
[null,null,null,null,null,null,null,null,null,null,null,null,null,""]
[null,null,null,null,null,null,null,null,null,null,null,null,null,""]
[null,null,null,null,null,null,null,null,null,null,null,null,null,""]
[null,null,null,null,null,null,null,null,null,null,null,null,null,""]
[null,null,null,null,null,null,null,null,null,null,null,null,null,""]
[null,null,null,null,null,null,null,null,null,null,null,null,null,""]
[null,null,null,null,null,null,null,null,null,null,null,null,null,{"$f":"IFERROR(DATEDIF(TODAY(),F1862,\"d\"),\"\")","v":""}]
[null,null,null,null,null,null,null,null,null,null,null,null,null,""]
[null,null,null,null,null,null,null,null,null,null,null,null,null,""]
[null,null,null,null,null,null,null,null,null,null,null,null,null,""]
[null,null,null,null,null,null,null,null,null,null,null,null,null,""]
[null,null,null,null,null,null,null,null,null,null,null,null,null,""]
[null,null,null,null,null,null,null,null,null,null,null,null,null,""]
[null,null,null,null,null,null,null,null,null,null,null,null,null,""]
[null,null,null,null,null,null,null,null,null,null,null,null,null,""]
[null,null,null,null,null,null,null,null,null,null,null,null,null,""]
[null,null,null,null,null,null,null,null,null,null,null,null,null,""]
[null,null,null,null,null,null,null,null,null,null,null,null,null,""]
[null,null,null,null,null,null,null,null,null,null,null,null,null,""]
[null,null,null,null,null,null,null,null,null,null,null,null,null,""]
[null,null,null,null,null,null,null,null,null,null,null,null,null,""]
[null,null,null,null,null,null,null,null,null,null,null,null,null,""]
[null,null,null,null,null,null,null,null,null,null,null,null,null,""]
[null,null,null,null,null,null,null,null,null,null,null,null,null,""]
[null,null,null,null,null,null,null,null,null,null,null,null,null,""]
[null,null,null,null,null,null,null,null,null,null,null,null,null,""]
[null,null,null,null,null,null,null,null,null,null,null,null,null,""]
[null,null,null,null,null,null,null,null,null,null,null,null,null,""]
[null,null,null,null,null,null,null,null,null,null,null,null,null,""]
[null,null,null,null,null,null,null,null,null,null,null,null,null,""]
[null,null,null,null,null,null,null,null,null,null,null,null,null,""]
[null,null,null,null,null,null,null,null,null,null,null,null,null,""]
[null,null,null,null,null,null,null,null,null,null,null,null,null,""]
[null,null,null,null,null,null,null,null,null,null,null,null,null,""]
[null,null,null,null,null,null,null,null,null,null,null,null,null,""]
[null,null,null,null,null,null,null,null,null,null,null,null,null,""]
[null,null,null,null,null,null,null,null,null,null,null,null,null,""]
[null,null,null,null,null,null,null,null,null,null,null,null,null,""]
[null,null,null,null,null,null,null,null,null,null,null,null,null,""]
[null,null,null,null,null,null,null,null,null,null,null,null,null,""]
[null,null,null,null,null,null,null,null,null,null,null,null,null,""]
[null,null,null,null,null,null,null,null,null,null,null,null,null,""]
[null,null,null,null,null,null,null,null,null,null,null,null,null,""]
[null,null,null,null,null,null,null,null,null,null,null,null,null,""]
[null,null,null,null,null,null,null,null,null,null,null,null,null,""]
[null,null,null,null,null,null,null,null,null,null,null,null,null,""]
[null,null,null,null,null,null,null,null,null,null,null,null,null,""]
[null,null,null,null,null,null,null,null,null,null,null,null,null,""]
[null,null,null,null,null,null,null,null,null,null,null,null,null,""]
[null,null,null,null,null,null,null,null,null,null,null,null,null,""]
[null,null,null,null,null,null,null,null,null,null,null,null,null,""]
[null,null,null,null,null,null,null,null,null,null,null,null,null,""]
[null,null,null,null,null,null,null,null,null,null,null,null,null,""]
[null,null,null,null,null,null,null,null,null,null,null,null,null,""]
[null,null,null,null,null,null,null,null,null,null,null,null,null,""]
[null,null,null,null,null,null,null,null,null,null,null,null,null,""]
[null,null,null,null,null,null,null,null,null,null,null,null,null,""]
[null,null,null,null,null,null,null,null,null,null,null,null,null,""]
[null,null,null,null,null,null,null,null,null,null,null,null,null,""]
[null,null,null,null,null,null,null,null,null,null,null,null,null,""]
[null,null,null,null,null,null,null,null,null,null,null,null,null,""]
[null,null,null,null,null,null,null,null,null,null,null,null,null,""]
[null,null,null,null,null,null,null,null,null,null,null,null,null,""]
[null,null,null,null,null,null,null,null,null,null,null,null,null,""]
[null,null,null,null,null,null,null,null,null,null,null,null,null,""]
[null,null,null,null,null,null,null,null,null,null,null,null,null,""]
[null,null,null,null,null,null,null,null,null,null,null,null,null,""]
[null,null,null,null,null,null,null,null,null,null,null,null,null,""]
[null,null,null,null,null,null,null,null,null,null,null,null,null,""]
[null,null,null,null,null,null,null,null,null,null,null,null,null,""]
[null,null,null,null,null,null,null,null,null,null,null,null,null,{"$f":"IFERROR(DATEDIF(TODAY(),F1926,\"d\"),\"\")","v":""}]
[null,null,null,null,null,null,null,null,null,null,null,null,null,""]
[null,null,null,null,null,null,null,null,null,null,null,null,null,""]
[null,null,null,null,null,null,null,null,null,null,null,null,null,""]
[null,null,null,null,null,null,null,null,null,null,null,null,null,""]
[null,null,null,null,null,null,null,null,null,null,null,null,null,""]
[null,null,null,null,null,null,null,null,null,null,null,null,null,""]
[null,null,null,null,null,null,null,null,null,null,null,null,null,""]
[null,null,null,null,null,null,null,null,null,null,null,null,null,""]
[null,null,null,null,null,null,null,null,null,null,null,null,null,""]
[null,null,null,null,null,null,null,null,null,null,null,null,null,""]
[null,null,null,null,null,null,null,null,null,null,null,null,null,""]
[null,null,null,null,null,null,null,null,null,null,null,null,null,""]
[null,null,null,null,null,null,null,null,null,null,null,null,null,""]
[null,null,null,null,null,null,null,null,null,null,null,null,null,""]
[null,null,null,null,null,null,null,null,null,null,null,null,null,""]
[null,null,null,null,null,null,null,null,null,null,null,null,null,""]
[null,null,null,null,null,null,null,null,null,null,null,null,null,""]
[null,null,null,null,null,null,null,null,null,null,null,null,null,""]
[null,null,null,null,null,null,null,null,null,null,null,null,null,""]
[null,null,null,null,null,null,null,null,null,null,null,null,null,""]
[null,null,null,null,null,null,null,null,null,null,null,null,null,""]
[null,null,null,null,null,null,null,null,null,null,null,null,null,""]
[null,null,null,null,null,null,null,null,null,null,null,null,null,""]
[null,null,null,null,null,null,null,null,null,null,null,null,null,""]
[null,null,null,null,null,null,null,null,null,null,null,null,null,""]
[null,null,null,null,null,null,null,null,null,null,null,null,null,""]
[null,null,null,null,null,null,null,null,null,null,null,null,null,""]
[null,null,null,null,null,null,null,null,null,null,null,null,null,""]
[null,null,null,null,null,null,null,null,null,null,null,null,null,""]
[null,null,null,null,null,null,null,null,null,null,null,null,null,""]
[null,null,null,null,null,null,null,null,null,null,null,null,null,""]
[null,null,null,null,null,null,null,null,null,null,null,null,null,""]
[null,null,null,null,null,null,null,null,null,null,null,null,null,""]
[null,null,null,null,null,null,null,null,null,null,null,null,null,""]
[null,null,null,null,null,null,null,null,null,null,null,null,null,""]
[null,null,null,null,null,null,null,null,null,null,null,null,null,""]
[null,null,null,null,null,null,null,null,null,null,null,null,null,""]
[null,null,null,null,null,null,null,null,null,null,null,null,null,""]
[null,null,null,null,null,null,null,null,null,null,null,null,null,""]
[null,null,null,null,null,null,null,null,null,null,null,null,null,""]
[null,null,null,null,null,null,null,null,null,null,null,null,null,""]
[null,null,null,null,null,null,null,null,null,null,null,null,null,""]
[null,null,null,null,null,null,null,null,null,null,null,null,null,""]
[null,null,null,null,null,null,null,null,null,null,null,null,null,""]
[null,null,null,null,null,null,null,null,null,null,null,null,null,""]
[null,null,null,null,null,null,null,null,null,null,null,null,null,""]
[null,null,null,null,null,null,null,null,null,null,null,null,null,""]
[null,null,null,null,null,null,null,null,null,null,null,null,null,""]
[null,null,null,null,null,null,null,null,null,null,null,null,null,""]
[null,null,null,null,null,null,null,null,null,null,null,null,null,""]
[null,null,null,null,null,null,null,null,null,null,null,null,null,""]
[null,null,null,null,null,null,null,null,null,null,null,null,null,""]
[null,null,null,null,null,null,null,null,null,null,null,null,null,""]
[null,null,null,null,null,null,null,null,null,null,null,null,null,""]
[null,null,null,null,null,null,null,null,null,null,null,null,null,""]
[null,null,null,null,null,null,null,null,null,null,null,null,null,""]
[null,null,null,null,null,null,null,null,null,null,null,null,null,""]
[null,null,null,null,null,null,null,null,null,null,null,null,null,""]
[null,null,null,null,null,null,null,null,null,null,null,null,null,""]
[null,null,null,null,null,null,null,null,null,null,null,null,null,""]
[null,null,null,null,null,null,null,null,null,null,null,null,null,""]
[null,null,null,null,null,null,null,null,null,null,null,null,null,""]
[null,null,null,null,null,null,null,null,null,null,null,null,null,""]
[null,null,null,null,null,null,null,null,null,null,null,null,null,{"$f":"IFERROR(DATEDIF(TODAY(),F1990,\"d\"),\"\")","v":""}]
[null,null,null,null,null,null,null,null,null,null,null,null,null,""]
[null,null,null,null,null,null,null,null,null,null,null,null,null,""]
[null,null,null,null,null,null,null,null,null,null,null,null,null,""]
[null,null,null,null,null,null,null,null,null,null,null,null,null,""]
[null,null,null,null,null,null,null,null,null,null,null,null,null,""]
[null,null,null,null,null,null,null,null,null,null,null,null,null,""]
[null,null,null,null,null,null,null,null,null,null,null,null,null,""]
[null,null,null,null,null,null,null,null,null,null,null,null,null,""]

{"sheet":"كشف بنك ","index":7,"n_rows":1998,"n_cols":12,"rows_kept":1998,"cut":false,"hidden":false,"merged":[[5,0,5,5],[5,6,5,10]]}
[]
[]
[]
[]
[]
["شيكات مرسلها للتحصيل",null,null,null,null,null,"شيكات مرسلها لخصم"]
["التاريخ","رقم الاذن","البيان","القيمة","رقم الشيك","رقم الاذن ","البيان","القيمة","رقم الشيك","مصاريف","اجمالى السحب","الرصيد"]
["2019-02-28",null,"رصيد اول",29990,null,null,null,null,null,null,null,{"$f":"SUMPRODUCT($D$8:D8-$H$8:H8)","v":29990}]
[null,null,null,null,null,null,null,null,null,null,null,{"$f":"SUMPRODUCT($D$8:D9-$H$8:H9)","v":29990}]
[null,null,null,null,null,null,null,null,null,null,null,{"$f":"SUMPRODUCT($D$8:D10-$H$8:H10)","v":29990}]
[null,null,null,null,null,null,null,null,null,null,null,{"$f":"SUMPRODUCT($D$8:D11-$H$8:H11)","v":29990}]
[null,null,null,null,null,null,null,null,null,null,null,{"$f":"SUMPRODUCT($D$8:D12-$H$8:H12)","v":29990}]
[null,null,null,null,null,null,null,null,null,null,null,{"$f":"SUMPRODUCT($D$8:D13-$H$8:H13)","v":29990}]
[null,null,null,null,null,null,null,null,null,null,null,{"$f":"SUMPRODUCT($D$8:D14-$H$8:H14)","v":29990}]
[null,null,null,null,null,null,null,null,null,null,null,{"$f":"SUMPRODUCT($D$8:D15-$H$8:H15)","v":29990}]
[null,null,null,null,null,null,null,null,null,null,null,{"$f":"SUMPRODUCT($D$8:D16-$H$8:H16)","v":29990}]
[null,null,null,null,null,null,null,null,null,null,null,{"$f":"SUMPRODUCT($D$8:D17-$H$8:H17)","v":29990}]
[null,null,null,null,null,null,null,null,null,null,null,{"$f":"SUMPRODUCT($D$8:D18-$H$8:H18)","v":29990}]
[null,null,null,null,null,null,null,null,null,null,null,{"$f":"SUMPRODUCT($D$8:D19-$H$8:H19)","v":29990}]
[null,null,null,null,null,null,null,null,null,null,null,{"$f":"SUMPRODUCT($D$8:D20-$H$8:H20)","v":29990}]
[null,null,null,null,null,null,null,null,null,null,null,{"$f":"SUMPRODUCT($D$8:D21-$H$8:H21)","v":29990}]
[null,null,null,null,null,null,null,null,null,null,null,{"$f":"SUMPRODUCT($D$8:D22-$H$8:H22)","v":29990}]
[null,null,null,null,null,null,null,null,null,null,null,{"$f":"SUMPRODUCT($D$8:D23-$H$8:H23)","v":29990}]
[null,null,null,null,null,null,null,null,null,null,null,{"$f":"SUMPRODUCT($D$8:D24-$H$8:H24)","v":29990}]
[null,null,null,null,null,null,null,null,null,null,null,{"$f":"SUMPRODUCT($D$8:D25-$H$8:H25)","v":29990}]
[null,null,null,null,null,null,null,null,null,null,null,{"$f":"SUMPRODUCT($D$8:D26-$H$8:H26)","v":29990}]
[null,null,null,null,null,null,null,null,null,null,null,{"$f":"SUMPRODUCT($D$8:D27-$H$8:H27)","v":29990}]
[null,null,null,null,null,null,null,null,null,null,null,{"$f":"SUMPRODUCT($D$8:D28-$H$8:H28)","v":29990}]
[null,null,null,null,null,null,null,null,null,null,null,{"$f":"SUMPRODUCT($D$8:D29-$H$8:H29)","v":29990}]
[null,null,null,null,null,null,null,null,null,null,null,{"$f":"SUMPRODUCT($D$8:D30-$H$8:H30)","v":29990}]
[null,null,null,null,null,null,null,null,null,null,null,{"$f":"SUMPRODUCT($D$8:D31-$H$8:H31)","v":29990}]
[null,null,null,null,null,null,null,null,null,null,null,{"$f":"SUMPRODUCT($D$8:D32-$H$8:H32)","v":29990}]
[null,null,null,null,null,null,null,null,null,null,null,{"$f":"SUMPRODUCT($D$8:D33-$H$8:H33)","v":29990}]
[null,null,null,null,null,null,null,null,null,null,null,{"$f":"SUMPRODUCT($D$8:D34-$H$8:H34)","v":29990}]
[null,null,null,null,null,null,null,null,null,null,null,{"$f":"SUMPRODUCT($D$8:D35-$H$8:H35)","v":29990}]
[null,null,null,null,null,null,null,null,null,null,null,{"$f":"SUMPRODUCT($D$8:D36-$H$8:H36)","v":29990}]
[null,null,null,null,null,null,null,null,null,null,null,{"$f":"SUMPRODUCT($D$8:D37-$H$8:H37)","v":29990}]
[null,null,null,null,null,null,null,null,null,null,null,{"$f":"SUMPRODUCT($D$8:D38-$H$8:H38)","v":29990}]
[null,null,null,null,null,null,null,null,null,null,null,{"$f":"SUMPRODUCT($D$8:D39-$H$8:H39)","v":29990}]
[null,null,null,null,null,null,null,null,null,null,null,{"$f":"SUMPRODUCT($D$8:D40-$H$8:H40)","v":29990}]
[null,null,null,null,null,null,null,null,null,null,null,{"$f":"SUMPRODUCT($D$8:D41-$H$8:H41)","v":29990}]
[null,null,null,null,null,null,null,null,null,null,null,{"$f":"SUMPRODUCT($D$8:D42-$H$8:H42)","v":29990}]
[null,null,null,null,null,null,null,null,null,null,null,{"$f":"SUMPRODUCT($D$8:D43-$H$8:H43)","v":29990}]
[null,null,null,null,null,null,null,null,null,null,null,{"$f":"SUMPRODUCT($D$8:D44-$H$8:H44)","v":29990}]
[null,null,null,null,null,null,null,null,null,null,null,{"$f":"SUMPRODUCT($D$8:D45-$H$8:H45)","v":29990}]
[null,null,null,null,null,null,null,null,null,null,null,{"$f":"SUMPRODUCT($D$8:D46-$H$8:H46)","v":29990}]
[null,null,null,null,null,null,null,null,null,null,null,{"$f":"SUMPRODUCT($D$8:D47-$H$8:H47)","v":29990}]
[null,null,null,null,null,null,null,null,null,null,null,{"$f":"SUMPRODUCT($D$8:D48-$H$8:H48)","v":29990}]
[null,null,null,null,null,null,null,null,null,null,null,{"$f":"SUMPRODUCT($D$8:D49-$H$8:H49)","v":29990}]
[null,null,null,null,null,null,null,null,null,null,null,{"$f":"SUMPRODUCT($D$8:D50-$H$8:H50)","v":29990}]
[null,null,null,null,null,null,null,null,null,null,null,{"$f":"SUMPRODUCT($D$8:D51-$H$8:H51)","v":29990}]
[null,null,null,null,null,null,null,null,null,null,null,{"$f":"SUMPRODUCT($D$8:D52-$H$8:H52)","v":29990}]
[null,null,null,null,null,null,null,null,null,null,null,{"$f":"SUMPRODUCT($D$8:D53-$H$8:H53)","v":29990}]
[null,null,null,null,null,null,null,null,null,null,null,{"$f":"SUMPRODUCT($D$8:D54-$H$8:H54)","v":29990}]
[null,null,null,null,null,null,null,null,null,null,null,{"$f":"SUMPRODUCT($D$8:D55-$H$8:H55)","v":29990}]
[null,null,null,null,null,null,null,null,null,null,null,{"$f":"SUMPRODUCT($D$8:D56-$H$8:H56)","v":29990}]
[null,null,null,null,null,null,null,null,null,null,null,{"$f":"SUMPRODUCT($D$8:D57-$H$8:H57)","v":29990}]
[null,null,null,null,null,null,null,null,null,null,null,{"$f":"SUMPRODUCT($D$8:D58-$H$8:H58)","v":29990}]
[null,null,null,null,null,null,null,null,null,null,null,{"$f":"SUMPRODUCT($D$8:D59-$H$8:H59)","v":29990}]
[null,null,null,null,null,null,null,null,null,null,null,{"$f":"SUMPRODUCT($D$8:D60-$H$8:H60)","v":29990}]
[null,null,null,null,null,null,null,null,null,null,null,{"$f":"SUMPRODUCT($D$8:D61-$H$8:H61)","v":29990}]
[null,null,null,null,null,null,null,null,null,null,null,{"$f":"SUMPRODUCT($D$8:D62-$H$8:H62)","v":29990}]
[null,null,null,null,null,null,null,null,null,null,null,{"$f":"SUMPRODUCT($D$8:D63-$H$8:H63)","v":29990}]
[null,null,null,null,null,null,null,null,null,null,null,{"$f":"SUMPRODUCT($D$8:D64-$H$8:H64)","v":29990}]
[null,null,null,null,null,null,null,null,null,null,null,{"$f":"SUMPRODUCT($D$8:D65-$H$8:H65)","v":29990}]
[null,null,null,null,null,null,null,null,null,null,null,{"$f":"SUMPRODUCT($D$8:D66-$H$8:H66)","v":29990}]
[null,null,null,null,null,null,null,null,null,null,null,{"$f":"SUMPRODUCT($D$8:D67-$H$8:H67)","v":29990}]
[null,null,null,null,null,null,null,null,null,null,null,{"$f":"SUMPRODUCT($D$8:D68-$H$8:H68)","v":29990}]
[null,null,null,null,null,null,null,null,null,null,null,{"$f":"SUMPRODUCT($D$8:D69-$H$8:H69)","v":29990}]
[null,null,null,null,null,null,null,null,null,null,null,{"$f":"SUMPRODUCT($D$8:D70-$H$8:H70)","v":29990}]
[null,null,null,null,null,null,null,null,null,null,null,{"$f":"SUMPRODUCT($D$8:D71-$H$8:H71)","v":29990}]
[null,null,null,null,null,null,null,null,null,null,null,{"$f":"SUMPRODUCT($D$8:D72-$H$8:H72)","v":29990}]
[null,null,null,null,null,null,null,null,null,null,null,{"$f":"SUMPRODUCT($D$8:D73-$H$8:H73)","v":29990}]
[null,null,null,null,null,null,null,null,null,null,null,{"$f":"SUMPRODUCT($D$8:D74-$H$8:H74)","v":29990}]
[null,null,null,null,null,null,null,null,null,null,null,{"$f":"SUMPRODUCT($D$8:D75-$H$8:H75)","v":29990}]
[null,null,null,null,null,null,null,null,null,null,null,{"$f":"SUMPRODUCT($D$8:D76-$H$8:H76)","v":29990}]
[null,null,null,null,null,null,null,null,null,null,null,{"$f":"SUMPRODUCT($D$8:D77-$H$8:H77)","v":29990}]
[null,null,null,null,null,null,null,null,null,null,null,{"$f":"SUMPRODUCT($D$8:D78-$H$8:H78)","v":29990}]
[null,null,null,null,null,null,null,null,null,null,null,{"$f":"SUMPRODUCT($D$8:D79-$H$8:H79)","v":29990}]
[null,null,null,null,null,null,null,null,null,null,null,{"$f":"SUMPRODUCT($D$8:D80-$H$8:H80)","v":29990}]
[null,null,null,null,null,null,null,null,null,null,null,{"$f":"SUMPRODUCT($D$8:D81-$H$8:H81)","v":29990}]
[null,null,null,null,null,null,null,null,null,null,null,{"$f":"SUMPRODUCT($D$8:D82-$H$8:H82)","v":29990}]
[null,null,null,null,null,null,null,null,null,null,null,{"$f":"SUMPRODUCT($D$8:D83-$H$8:H83)","v":29990}]
[null,null,null,null,null,null,null,null,null,null,null,{"$f":"SUMPRODUCT($D$8:D84-$H$8:H84)","v":29990}]
[null,null,null,null,null,null,null,null,null,null,null,{"$f":"SUMPRODUCT($D$8:D85-$H$8:H85)","v":29990}]
[null,null,null,null,null,null,null,null,null,null,null,{"$f":"SUMPRODUCT($D$8:D86-$H$8:H86)","v":29990}]
[null,null,null,null,null,null,null,null,null,null,null,{"$f":"SUMPRODUCT($D$8:D87-$H$8:H87)","v":29990}]
[null,null,null,null,null,null,null,null,null,null,null,{"$f":"SUMPRODUCT($D$8:D88-$H$8:H88)","v":29990}]
[null,null,null,null,null,null,null,null,null,null,null,{"$f":"SUMPRODUCT($D$8:D89-$H$8:H89)","v":29990}]
[null,null,null,null,null,null,null,null,null,null,null,{"$f":"SUMPRODUCT($D$8:D90-$H$8:H90)","v":29990}]
[null,null,null,null,null,null,null,null,null,null,null,{"$f":"SUMPRODUCT($D$8:D91-$H$8:H91)","v":29990}]
[null,null,null,null,null,null,null,null,null,null,null,{"$f":"SUMPRODUCT($D$8:D92-$H$8:H92)","v":29990}]
[null,null,null,null,null,null,null,null,null,null,null,{"$f":"SUMPRODUCT($D$8:D93-$H$8:H93)","v":29990}]
[null,null,null,null,null,null,null,null,null,null,null,{"$f":"SUMPRODUCT($D$8:D94-$H$8:H94)","v":29990}]
[null,null,null,null,null,null,null,null,null,null,null,{"$f":"SUMPRODUCT($D$8:D95-$H$8:H95)","v":29990}]
[null,null,null,null,null,null,null,null,null,null,null,{"$f":"SUMPRODUCT($D$8:D96-$H$8:H96)","v":29990}]
[null,null,null,null,null,null,null,null,null,null,null,{"$f":"SUMPRODUCT($D$8:D97-$H$8:H97)","v":29990}]
[null,null,null,null,null,null,null,null,null,null,null,{"$f":"SUMPRODUCT($D$8:D98-$H$8:H98)","v":29990}]
[null,null,null,null,null,null,null,null,null,null,null,{"$f":"SUMPRODUCT($D$8:D99-$H$8:H99)","v":29990}]
[null,null,null,null,null,null,null,null,null,null,null,{"$f":"SUMPRODUCT($D$8:D100-$H$8:H100)","v":29990}]
[null,null,null,null,null,null,null,null,null,null,null,{"$f":"SUMPRODUCT($D$8:D101-$H$8:H101)","v":29990}]
[null,null,null,null,null,null,null,null,null,null,null,{"$f":"SUMPRODUCT($D$8:D102-$H$8:H102)","v":29990}]
[null,null,null,null,null,null,null,null,null,null,null,{"$f":"SUMPRODUCT($D$8:D103-$H$8:H103)","v":29990}]
[null,null,null,null,null,null,null,null,null,null,null,{"$f":"SUMPRODUCT($D$8:D104-$H$8:H104)","v":29990}]
[null,null,null,null,null,null,null,null,null,null,null,{"$f":"SUMPRODUCT($D$8:D105-$H$8:H105)","v":29990}]
[null,null,null,null,null,null,null,null,null,null,null,{"$f":"SUMPRODUCT($D$8:D106-$H$8:H106)","v":29990}]
[null,null,null,null,null,null,null,null,null,null,null,{"$f":"SUMPRODUCT($D$8:D107-$H$8:H107)","v":29990}]
[null,null,null,null,null,null,null,null,null,null,null,{"$f":"SUMPRODUCT($D$8:D108-$H$8:H108)","v":29990}]
[null,null,null,null,null,null,null,null,null,null,null,{"$f":"SUMPRODUCT($D$8:D109-$H$8:H109)","v":29990}]
[null,null,null,null,null,null,null,null,null,null,null,{"$f":"SUMPRODUCT($D$8:D110-$H$8:H110)","v":29990}]
[null,null,null,null,null,null,null,null,null,null,null,{"$f":"SUMPRODUCT($D$8:D111-$H$8:H111)","v":29990}]
[null,null,null,null,null,null,null,null,null,null,null,{"$f":"SUMPRODUCT($D$8:D112-$H$8:H112)","v":29990}]
[null,null,null,null,null,null,null,null,null,null,null,{"$f":"SUMPRODUCT($D$8:D113-$H$8:H113)","v":29990}]
[null,null,null,null,null,null,null,null,null,null,null,{"$f":"SUMPRODUCT($D$8:D114-$H$8:H114)","v":29990}]
[null,null,null,null,null,null,null,null,null,null,null,{"$f":"SUMPRODUCT($D$8:D115-$H$8:H115)","v":29990}]
[null,null,null,null,null,null,null,null,null,null,null,{"$f":"SUMPRODUCT($D$8:D116-$H$8:H116)","v":29990}]
[null,null,null,null,null,null,null,null,null,null,null,{"$f":"SUMPRODUCT($D$8:D117-$H$8:H117)","v":29990}]
[null,null,null,null,null,null,null,null,null,null,null,{"$f":"SUMPRODUCT($D$8:D118-$H$8:H118)","v":29990}]
[null,null,null,null,null,null,null,null,null,null,null,{"$f":"SUMPRODUCT($D$8:D119-$H$8:H119)","v":29990}]
[null,null,null,null,null,null,null,null,null,null,null,{"$f":"SUMPRODUCT($D$8:D120-$H$8:H120)","v":29990}]
[null,null,null,null,null,null,null,null,null,null,null,{"$f":"SUMPRODUCT($D$8:D121-$H$8:H121)","v":29990}]
[null,null,null,null,null,null,null,null,null,null,null,{"$f":"SUMPRODUCT($D$8:D122-$H$8:H122)","v":29990}]
[null,null,null,null,null,null,null,null,null,null,null,{"$f":"SUMPRODUCT($D$8:D123-$H$8:H123)","v":29990}]
[null,null,null,null,null,null,null,null,null,null,null,{"$f":"SUMPRODUCT($D$8:D124-$H$8:H124)","v":29990}]
[null,null,null,null,null,null,null,null,null,null,null,{"$f":"SUMPRODUCT($D$8:D125-$H$8:H125)","v":29990}]
[null,null,null,null,null,null,null,null,null,null,null,{"$f":"SUMPRODUCT($D$8:D126-$H$8:H126)","v":29990}]
[null,null,null,null,null,null,null,null,null,null,null,{"$f":"SUMPRODUCT($D$8:D127-$H$8:H127)","v":29990}]
[null,null,null,null,null,null,null,null,null,null,null,{"$f":"SUMPRODUCT($D$8:D128-$H$8:H128)","v":29990}]
[null,null,null,null,null,null,null,null,null,null,null,{"$f":"SUMPRODUCT($D$8:D129-$H$8:H129)","v":29990}]
[null,null,null,null,null,null,null,null,null,null,null,{"$f":"SUMPRODUCT($D$8:D130-$H$8:H130)","v":29990}]
[null,null,null,null,null,null,null,null,null,null,null,{"$f":"SUMPRODUCT($D$8:D131-$H$8:H131)","v":29990}]
[null,null,null,null,null,null,null,null,null,null,null,{"$f":"SUMPRODUCT($D$8:D132-$H$8:H132)","v":29990}]
[null,null,null,null,null,null,null,null,null,null,null,{"$f":"SUMPRODUCT($D$8:D133-$H$8:H133)","v":29990}]
[null,null,null,null,null,null,null,null,null,null,null,{"$f":"SUMPRODUCT($D$8:D134-$H$8:H134)","v":29990}]
[null,null,null,null,null,null,null,null,null,null,null,{"$f":"SUMPRODUCT($D$8:D135-$H$8:H135)","v":29990}]
[null,null,null,null,null,null,null,null,null,null,null,{"$f":"SUMPRODUCT($D$8:D136-$H$8:H136)","v":29990}]
[null,null,null,null,null,null,null,null,null,null,null,{"$f":"SUMPRODUCT($D$8:D137-$H$8:H137)","v":29990}]
[null,null,null,null,null,null,null,null,null,null,null,{"$f":"SUMPRODUCT($D$8:D138-$H$8:H138)","v":29990}]
[null,null,null,null,null,null,null,null,null,null,null,{"$f":"SUMPRODUCT($D$8:D139-$H$8:H139)","v":29990}]
[null,null,null,null,null,null,null,null,null,null,null,{"$f":"SUMPRODUCT($D$8:D140-$H$8:H140)","v":29990}]
[null,null,null,null,null,null,null,null,null,null,null,{"$f":"SUMPRODUCT($D$8:D141-$H$8:H141)","v":29990}]
[null,null,null,null,null,null,null,null,null,null,null,{"$f":"SUMPRODUCT($D$8:D142-$H$8:H142)","v":29990}]
[null,null,null,null,null,null,null,null,null,null,null,{"$f":"SUMPRODUCT($D$8:D143-$H$8:H143)","v":29990}]
[null,null,null,null,null,null,null,null,null,null,null,{"$f":"SUMPRODUCT($D$8:D144-$H$8:H144)","v":29990}]
[null,null,null,null,null,null,null,null,null,null,null,{"$f":"SUMPRODUCT($D$8:D145-$H$8:H145)","v":29990}]
[null,null,null,null,null,null,null,null,null,null,null,{"$f":"SUMPRODUCT($D$8:D146-$H$8:H146)","v":29990}]
[null,null,null,null,null,null,null,null,null,null,null,{"$f":"SUMPRODUCT($D$8:D147-$H$8:H147)","v":29990}]
[null,null,null,null,null,null,null,null,null,null,null,{"$f":"SUMPRODUCT($D$8:D148-$H$8:H148)","v":29990}]
[null,null,null,null,null,null,null,null,null,null,null,{"$f":"SUMPRODUCT($D$8:D149-$H$8:H149)","v":29990}]
[null,null,null,null,null,null,null,null,null,null,null,{"$f":"SUMPRODUCT($D$8:D150-$H$8:H150)","v":29990}]
[null,null,null,null,null,null,null,null,null,null,null,{"$f":"SUMPRODUCT($D$8:D151-$H$8:H151)","v":29990}]
[null,null,null,null,null,null,null,null,null,null,null,{"$f":"SUMPRODUCT($D$8:D152-$H$8:H152)","v":29990}]
[null,null,null,null,null,null,null,null,null,null,null,{"$f":"SUMPRODUCT($D$8:D153-$H$8:H153)","v":29990}]
[null,null,null,null,null,null,null,null,null,null,null,{"$f":"SUMPRODUCT($D$8:D154-$H$8:H154)","v":29990}]
[null,null,null,null,null,null,null,null,null,null,null,{"$f":"SUMPRODUCT($D$8:D155-$H$8:H155)","v":29990}]
[null,null,null,null,null,null,null,null,null,null,null,{"$f":"SUMPRODUCT($D$8:D156-$H$8:H156)","v":29990}]
[null,null,null,null,null,null,null,null,null,null,null,{"$f":"SUMPRODUCT($D$8:D157-$H$8:H157)","v":29990}]
[null,null,null,null,null,null,null,null,null,null,null,{"$f":"SUMPRODUCT($D$8:D158-$H$8:H158)","v":29990}]
[null,null,null,null,null,null,null,null,null,null,null,{"$f":"SUMPRODUCT($D$8:D159-$H$8:H159)","v":29990}]
[null,null,null,null,null,null,null,null,null,null,null,{"$f":"SUMPRODUCT($D$8:D160-$H$8:H160)","v":29990}]
[null,null,null,null,null,null,null,null,null,null,null,{"$f":"SUMPRODUCT($D$8:D161-$H$8:H161)","v":29990}]
[null,null,null,null,null,null,null,null,null,null,null,{"$f":"SUMPRODUCT($D$8:D162-$H$8:H162)","v":29990}]
[null,null,null,null,null,null,null,null,null,null,null,{"$f":"SUMPRODUCT($D$8:D163-$H$8:H163)","v":29990}]
[null,null,null,null,null,null,null,null,null,null,null,{"$f":"SUMPRODUCT($D$8:D164-$H$8:H164)","v":29990}]
[null,null,null,null,null,null,null,null,null,null,null,{"$f":"SUMPRODUCT($D$8:D165-$H$8:H165)","v":29990}]
[null,null,null,null,null,null,null,null,null,null,null,{"$f":"SUMPRODUCT($D$8:D166-$H$8:H166)","v":29990}]
[null,null,null,null,null,null,null,null,null,null,null,{"$f":"SUMPRODUCT($D$8:D167-$H$8:H167)","v":29990}]
[null,null,null,null,null,null,null,null,null,null,null,{"$f":"SUMPRODUCT($D$8:D168-$H$8:H168)","v":29990}]
[null,null,null,null,null,null,null,null,null,null,null,{"$f":"SUMPRODUCT($D$8:D169-$H$8:H169)","v":29990}]
[null,null,null,null,null,null,null,null,null,null,null,{"$f":"SUMPRODUCT($D$8:D170-$H$8:H170)","v":29990}]
[null,null,null,null,null,null,null,null,null,null,null,{"$f":"SUMPRODUCT($D$8:D171-$H$8:H171)","v":29990}]
[null,null,null,null,null,null,null,null,null,null,null,{"$f":"SUMPRODUCT($D$8:D172-$H$8:H172)","v":29990}]
[null,null,null,null,null,null,null,null,null,null,null,{"$f":"SUMPRODUCT($D$8:D173-$H$8:H173)","v":29990}]
[null,null,null,null,null,null,null,null,null,null,null,{"$f":"SUMPRODUCT($D$8:D174-$H$8:H174)","v":29990}]
[null,null,null,null,null,null,null,null,null,null,null,{"$f":"SUMPRODUCT($D$8:D175-$H$8:H175)","v":29990}]
[null,null,null,null,null,null,null,null,null,null,null,{"$f":"SUMPRODUCT($D$8:D176-$H$8:H176)","v":29990}]
[null,null,null,null,null,null,null,null,null,null,null,{"$f":"SUMPRODUCT($D$8:D177-$H$8:H177)","v":29990}]
[null,null,null,null,null,null,null,null,null,null,null,{"$f":"SUMPRODUCT($D$8:D178-$H$8:H178)","v":29990}]
[null,null,null,null,null,null,null,null,null,null,null,{"$f":"SUMPRODUCT($D$8:D179-$H$8:H179)","v":29990}]
[null,null,null,null,null,null,null,null,null,null,null,{"$f":"SUMPRODUCT($D$8:D180-$H$8:H180)","v":29990}]
[null,null,null,null,null,null,null,null,null,null,null,{"$f":"SUMPRODUCT($D$8:D181-$H$8:H181)","v":29990}]
[null,null,null,null,null,null,null,null,null,null,null,{"$f":"SUMPRODUCT($D$8:D182-$H$8:H182)","v":29990}]
[null,null,null,null,null,null,null,null,null,null,null,{"$f":"SUMPRODUCT($D$8:D183-$H$8:H183)","v":29990}]
[null,null,null,null,null,null,null,null,null,null,null,{"$f":"SUMPRODUCT($D$8:D184-$H$8:H184)","v":29990}]
[null,null,null,null,null,null,null,null,null,null,null,{"$f":"SUMPRODUCT($D$8:D185-$H$8:H185)","v":29990}]
[null,null,null,null,null,null,null,null,null,null,null,{"$f":"SUMPRODUCT($D$8:D186-$H$8:H186)","v":29990}]
[null,null,null,null,null,null,null,null,null,null,null,{"$f":"SUMPRODUCT($D$8:D187-$H$8:H187)","v":29990}]
[null,null,null,null,null,null,null,null,null,null,null,{"$f":"SUMPRODUCT($D$8:D188-$H$8:H188)","v":29990}]
[null,null,null,null,null,null,null,null,null,null,null,{"$f":"SUMPRODUCT($D$8:D189-$H$8:H189)","v":29990}]
[null,null,null,null,null,null,null,null,null,null,null,{"$f":"SUMPRODUCT($D$8:D190-$H$8:H190)","v":29990}]
[null,null,null,null,null,null,null,null,null,null,null,{"$f":"SUMPRODUCT($D$8:D191-$H$8:H191)","v":29990}]
[null,null,null,null,null,null,null,null,null,null,null,{"$f":"SUMPRODUCT($D$8:D192-$H$8:H192)","v":29990}]
[null,null,null,null,null,null,null,null,null,null,null,{"$f":"SUMPRODUCT($D$8:D193-$H$8:H193)","v":29990}]
[null,null,null,null,null,null,null,null,null,null,null,{"$f":"SUMPRODUCT($D$8:D194-$H$8:H194)","v":29990}]
[null,null,null,null,null,null,null,null,null,null,null,{"$f":"SUMPRODUCT($D$8:D195-$H$8:H195)","v":29990}]
[null,null,null,null,null,null,null,null,null,null,null,{"$f":"SUMPRODUCT($D$8:D196-$H$8:H196)","v":29990}]
[null,null,null,null,null,null,null,null,null,null,null,{"$f":"SUMPRODUCT($D$8:D197-$H$8:H197)","v":29990}]
[null,null,null,null,null,null,null,null,null,null,null,{"$f":"SUMPRODUCT($D$8:D198-$H$8:H198)","v":29990}]
[null,null,null,null,null,null,null,null,null,null,null,{"$f":"SUMPRODUCT($D$8:D199-$H$8:H199)","v":29990}]
[null,null,null,null,null,null,null,null,null,null,null,{"$f":"SUMPRODUCT($D$8:D200-$H$8:H200)","v":29990}]
[null,null,null,null,null,null,null,null,null,null,null,{"$f":"SUMPRODUCT($D$8:D201-$H$8:H201)","v":29990}]
[null,null,null,null,null,null,null,null,null,null,null,{"$f":"SUMPRODUCT($D$8:D202-$H$8:H202)","v":29990}]
[null,null,null,null,null,null,null,null,null,null,null,{"$f":"SUMPRODUCT($D$8:D203-$H$8:H203)","v":29990}]
[null,null,null,null,null,null,null,null,null,null,null,{"$f":"SUMPRODUCT($D$8:D204-$H$8:H204)","v":29990}]
[null,null,null,null,null,null,null,null,null,null,null,{"$f":"SUMPRODUCT($D$8:D205-$H$8:H205)","v":29990}]
[null,null,null,null,null,null,null,null,null,null,null,{"$f":"SUMPRODUCT($D$8:D206-$H$8:H206)","v":29990}]
[null,null,null,null,null,null,null,null,null,null,null,{"$f":"SUMPRODUCT($D$8:D207-$H$8:H207)","v":29990}]
[null,null,null,null,null,null,null,null,null,null,null,{"$f":"SUMPRODUCT($D$8:D208-$H$8:H208)","v":29990}]
[null,null,null,null,null,null,null,null,null,null,null,{"$f":"SUMPRODUCT($D$8:D209-$H$8:H209)","v":29990}]
[null,null,null,null,null,null,null,null,null,null,null,{"$f":"SUMPRODUCT($D$8:D210-$H$8:H210)","v":29990}]
[null,null,null,null,null,null,null,null,null,null,null,{"$f":"SUMPRODUCT($D$8:D211-$H$8:H211)","v":29990}]
[null,null,null,null,null,null,null,null,null,null,null,{"$f":"SUMPRODUCT($D$8:D212-$H$8:H212)","v":29990}]
[null,null,null,null,null,null,null,null,null,null,null,{"$f":"SUMPRODUCT($D$8:D213-$H$8:H213)","v":29990}]
[null,null,null,null,null,null,null,null,null,null,null,{"$f":"SUMPRODUCT($D$8:D214-$H$8:H214)","v":29990}]
[null,null,null,null,null,null,null,null,null,null,null,{"$f":"SUMPRODUCT($D$8:D215-$H$8:H215)","v":29990}]
[null,null,null,null,null,null,null,null,null,null,null,{"$f":"SUMPRODUCT($D$8:D216-$H$8:H216)","v":29990}]
[null,null,null,null,null,null,null,null,null,null,null,{"$f":"SUMPRODUCT($D$8:D217-$H$8:H217)","v":29990}]
[null,null,null,null,null,null,null,null,null,null,null,{"$f":"SUMPRODUCT($D$8:D218-$H$8:H218)","v":29990}]
[null,null,null,null,null,null,null,null,null,null,null,{"$f":"SUMPRODUCT($D$8:D219-$H$8:H219)","v":29990}]
[null,null,null,null,null,null,null,null,null,null,null,{"$f":"SUMPRODUCT($D$8:D220-$H$8:H220)","v":29990}]
[null,null,null,null,null,null,null,null,null,null,null,{"$f":"SUMPRODUCT($D$8:D221-$H$8:H221)","v":29990}]
[null,null,null,null,null,null,null,null,null,null,null,{"$f":"SUMPRODUCT($D$8:D222-$H$8:H222)","v":29990}]
[null,null,null,null,null,null,null,null,null,null,null,{"$f":"SUMPRODUCT($D$8:D223-$H$8:H223)","v":29990}]
[null,null,null,null,null,null,null,null,null,null,null,{"$f":"SUMPRODUCT($D$8:D224-$H$8:H224)","v":29990}]
[null,null,null,null,null,null,null,null,null,null,null,{"$f":"SUMPRODUCT($D$8:D225-$H$8:H225)","v":29990}]
[null,null,null,null,null,null,null,null,null,null,null,{"$f":"SUMPRODUCT($D$8:D226-$H$8:H226)","v":29990}]
[null,null,null,null,null,null,null,null,null,null,null,{"$f":"SUMPRODUCT($D$8:D227-$H$8:H227)","v":29990}]
[null,null,null,null,null,null,null,null,null,null,null,{"$f":"SUMPRODUCT($D$8:D228-$H$8:H228)","v":29990}]
[null,null,null,null,null,null,null,null,null,null,null,{"$f":"SUMPRODUCT($D$8:D229-$H$8:H229)","v":29990}]
[null,null,null,null,null,null,null,null,null,null,null,{"$f":"SUMPRODUCT($D$8:D230-$H$8:H230)","v":29990}]
[null,null,null,null,null,null,null,null,null,null,null,{"$f":"SUMPRODUCT($D$8:D231-$H$8:H231)","v":29990}]
[null,null,null,null,null,null,null,null,null,null,null,{"$f":"SUMPRODUCT($D$8:D232-$H$8:H232)","v":29990}]
[null,null,null,null,null,null,null,null,null,null,null,{"$f":"SUMPRODUCT($D$8:D233-$H$8:H233)","v":29990}]
[null,null,null,null,null,null,null,null,null,null,null,{"$f":"SUMPRODUCT($D$8:D234-$H$8:H234)","v":29990}]
[null,null,null,null,null,null,null,null,null,null,null,{"$f":"SUMPRODUCT($D$8:D235-$H$8:H235)","v":29990}]
[null,null,null,null,null,null,null,null,null,null,null,{"$f":"SUMPRODUCT($D$8:D236-$H$8:H236)","v":29990}]
[null,null,null,null,null,null,null,null,null,null,null,{"$f":"SUMPRODUCT($D$8:D237-$H$8:H237)","v":29990}]
[null,null,null,null,null,null,null,null,null,null,null,{"$f":"SUMPRODUCT($D$8:D238-$H$8:H238)","v":29990}]
[null,null,null,null,null,null,null,null,null,null,null,{"$f":"SUMPRODUCT($D$8:D239-$H$8:H239)","v":29990}]
[null,null,null,null,null,null,null,null,null,null,null,{"$f":"SUMPRODUCT($D$8:D240-$H$8:H240)","v":29990}]
[null,null,null,null,null,null,null,null,null,null,null,{"$f":"SUMPRODUCT($D$8:D241-$H$8:H241)","v":29990}]
[null,null,null,null,null,null,null,null,null,null,null,{"$f":"SUMPRODUCT($D$8:D242-$H$8:H242)","v":29990}]
[null,null,null,null,null,null,null,null,null,null,null,{"$f":"SUMPRODUCT($D$8:D243-$H$8:H243)","v":29990}]
[null,null,null,null,null,null,null,null,null,null,null,{"$f":"SUMPRODUCT($D$8:D244-$H$8:H244)","v":29990}]
[null,null,null,null,null,null,null,null,null,null,null,{"$f":"SUMPRODUCT($D$8:D245-$H$8:H245)","v":29990}]
[null,null,null,null,null,null,null,null,null,null,null,{"$f":"SUMPRODUCT($D$8:D246-$H$8:H246)","v":29990}]
[null,null,null,null,null,null,null,null,null,null,null,{"$f":"SUMPRODUCT($D$8:D247-$H$8:H247)","v":29990}]
[null,null,null,null,null,null,null,null,null,null,null,{"$f":"SUMPRODUCT($D$8:D248-$H$8:H248)","v":29990}]
[null,null,null,null,null,null,null,null,null,null,null,{"$f":"SUMPRODUCT($D$8:D249-$H$8:H249)","v":29990}]
[null,null,null,null,null,null,null,null,null,null,null,{"$f":"SUMPRODUCT($D$8:D250-$H$8:H250)","v":29990}]
[null,null,null,null,null,null,null,null,null,null,null,{"$f":"SUMPRODUCT($D$8:D251-$H$8:H251)","v":29990}]
[null,null,null,null,null,null,null,null,null,null,null,{"$f":"SUMPRODUCT($D$8:D252-$H$8:H252)","v":29990}]
[null,null,null,null,null,null,null,null,null,null,null,{"$f":"SUMPRODUCT($D$8:D253-$H$8:H253)","v":29990}]
[null,null,null,null,null,null,null,null,null,null,null,{"$f":"SUMPRODUCT($D$8:D254-$H$8:H254)","v":29990}]
[null,null,null,null,null,null,null,null,null,null,null,{"$f":"SUMPRODUCT($D$8:D255-$H$8:H255)","v":29990}]
[null,null,null,null,null,null,null,null,null,null,null,{"$f":"SUMPRODUCT($D$8:D256-$H$8:H256)","v":29990}]
[null,null,null,null,null,null,null,null,null,null,null,{"$f":"SUMPRODUCT($D$8:D257-$H$8:H257)","v":29990}]
[null,null,null,null,null,null,null,null,null,null,null,{"$f":"SUMPRODUCT($D$8:D258-$H$8:H258)","v":29990}]
[null,null,null,null,null,null,null,null,null,null,null,{"$f":"SUMPRODUCT($D$8:D259-$H$8:H259)","v":29990}]
[null,null,null,null,null,null,null,null,null,null,null,{"$f":"SUMPRODUCT($D$8:D260-$H$8:H260)","v":29990}]
[null,null,null,null,null,null,null,null,null,null,null,{"$f":"SUMPRODUCT($D$8:D261-$H$8:H261)","v":29990}]
[null,null,null,null,null,null,null,null,null,null,null,{"$f":"SUMPRODUCT($D$8:D262-$H$8:H262)","v":29990}]
[null,null,null,null,null,null,null,null,null,null,null,{"$f":"SUMPRODUCT($D$8:D263-$H$8:H263)","v":29990}]
[null,null,null,null,null,null,null,null,null,null,null,{"$f":"SUMPRODUCT($D$8:D264-$H$8:H264)","v":29990}]
[null,null,null,null,null,null,null,null,null,null,null,{"$f":"SUMPRODUCT($D$8:D265-$H$8:H265)","v":29990}]
[null,null,null,null,null,null,null,null,null,null,null,{"$f":"SUMPRODUCT($D$8:D266-$H$8:H266)","v":29990}]
[null,null,null,null,null,null,null,null,null,null,null,{"$f":"SUMPRODUCT($D$8:D267-$H$8:H267)","v":29990}]
[null,null,null,null,null,null,null,null,null,null,null,{"$f":"SUMPRODUCT($D$8:D268-$H$8:H268)","v":29990}]
[null,null,null,null,null,null,null,null,null,null,null,{"$f":"SUMPRODUCT($D$8:D269-$H$8:H269)","v":29990}]
[null,null,null,null,null,null,null,null,null,null,null,{"$f":"SUMPRODUCT($D$8:D270-$H$8:H270)","v":29990}]
[null,null,null,null,null,null,null,null,null,null,null,{"$f":"SUMPRODUCT($D$8:D271-$H$8:H271)","v":29990}]
[null,null,null,null,null,null,null,null,null,null,null,{"$f":"SUMPRODUCT($D$8:D272-$H$8:H272)","v":29990}]
[null,null,null,null,null,null,null,null,null,null,null,{"$f":"SUMPRODUCT($D$8:D273-$H$8:H273)","v":29990}]
[null,null,null,null,null,null,null,null,null,null,null,{"$f":"SUMPRODUCT($D$8:D274-$H$8:H274)","v":29990}]
[null,null,null,null,null,null,null,null,null,null,null,{"$f":"SUMPRODUCT($D$8:D275-$H$8:H275)","v":29990}]
[null,null,null,null,null,null,null,null,null,null,null,{"$f":"SUMPRODUCT($D$8:D276-$H$8:H276)","v":29990}]
[null,null,null,null,null,null,null,null,null,null,null,{"$f":"SUMPRODUCT($D$8:D277-$H$8:H277)","v":29990}]
[null,null,null,null,null,null,null,null,null,null,null,{"$f":"SUMPRODUCT($D$8:D278-$H$8:H278)","v":29990}]
[null,null,null,null,null,null,null,null,null,null,null,{"$f":"SUMPRODUCT($D$8:D279-$H$8:H279)","v":29990}]
[null,null,null,null,null,null,null,null,null,null,null,{"$f":"SUMPRODUCT($D$8:D280-$H$8:H280)","v":29990}]
[null,null,null,null,null,null,null,null,null,null,null,{"$f":"SUMPRODUCT($D$8:D281-$H$8:H281)","v":29990}]
[null,null,null,null,null,null,null,null,null,null,null,{"$f":"SUMPRODUCT($D$8:D282-$H$8:H282)","v":29990}]
[null,null,null,null,null,null,null,null,null,null,null,{"$f":"SUMPRODUCT($D$8:D283-$H$8:H283)","v":29990}]
[null,null,null,null,null,null,null,null,null,null,null,{"$f":"SUMPRODUCT($D$8:D284-$H$8:H284)","v":29990}]
[null,null,null,null,null,null,null,null,null,null,null,{"$f":"SUMPRODUCT($D$8:D285-$H$8:H285)","v":29990}]
[null,null,null,null,null,null,null,null,null,null,null,{"$f":"SUMPRODUCT($D$8:D286-$H$8:H286)","v":29990}]
[null,null,null,null,null,null,null,null,null,null,null,{"$f":"SUMPRODUCT($D$8:D287-$H$8:H287)","v":29990}]
[null,null,null,null,null,null,null,null,null,null,null,{"$f":"SUMPRODUCT($D$8:D288-$H$8:H288)","v":29990}]
[null,null,null,null,null,null,null,null,null,null,null,{"$f":"SUMPRODUCT($D$8:D289-$H$8:H289)","v":29990}]
[null,null,null,null,null,null,null,null,null,null,null,{"$f":"SUMPRODUCT($D$8:D290-$H$8:H290)","v":29990}]
[null,null,null,null,null,null,null,null,null,null,null,{"$f":"SUMPRODUCT($D$8:D291-$H$8:H291)","v":29990}]
[null,null,null,null,null,null,null,null,null,null,null,{"$f":"SUMPRODUCT($D$8:D292-$H$8:H292)","v":29990}]
[null,null,null,null,null,null,null,null,null,null,null,{"$f":"SUMPRODUCT($D$8:D293-$H$8:H293)","v":29990}]
[null,null,null,null,null,null,null,null,null,null,null,{"$f":"SUMPRODUCT($D$8:D294-$H$8:H294)","v":29990}]
[null,null,null,null,null,null,null,null,null,null,null,{"$f":"SUMPRODUCT($D$8:D295-$H$8:H295)","v":29990}]
[null,null,null,null,null,null,null,null,null,null,null,{"$f":"SUMPRODUCT($D$8:D296-$H$8:H296)","v":29990}]
[null,null,null,null,null,null,null,null,null,null,null,{"$f":"SUMPRODUCT($D$8:D297-$H$8:H297)","v":29990}]
[null,null,null,null,null,null,null,null,null,null,null,{"$f":"SUMPRODUCT($D$8:D298-$H$8:H298)","v":29990}]
[null,null,null,null,null,null,null,null,null,null,null,{"$f":"SUMPRODUCT($D$8:D299-$H$8:H299)","v":29990}]
[null,null,null,null,null,null,null,null,null,null,null,{"$f":"SUMPRODUCT($D$8:D300-$H$8:H300)","v":29990}]
[null,null,null,null,null,null,null,null,null,null,null,{"$f":"SUMPRODUCT($D$8:D301-$H$8:H301)","v":29990}]
[null,null,null,null,null,null,null,null,null,null,null,{"$f":"SUMPRODUCT($D$8:D302-$H$8:H302)","v":29990}]
[null,null,null,null,null,null,null,null,null,null,null,{"$f":"SUMPRODUCT($D$8:D303-$H$8:H303)","v":29990}]
[null,null,null,null,null,null,null,null,null,null,null,{"$f":"SUMPRODUCT($D$8:D304-$H$8:H304)","v":29990}]
[null,null,null,null,null,null,null,null,null,null,null,{"$f":"SUMPRODUCT($D$8:D305-$H$8:H305)","v":29990}]
[null,null,null,null,null,null,null,null,null,null,null,{"$f":"SUMPRODUCT($D$8:D306-$H$8:H306)","v":29990}]
[null,null,null,null,null,null,null,null,null,null,null,{"$f":"SUMPRODUCT($D$8:D307-$H$8:H307)","v":29990}]
[null,null,null,null,null,null,null,null,null,null,null,{"$f":"SUMPRODUCT($D$8:D308-$H$8:H308)","v":29990}]
[null,null,null,null,null,null,null,null,null,null,null,{"$f":"SUMPRODUCT($D$8:D309-$H$8:H309)","v":29990}]
[null,null,null,null,null,null,null,null,null,null,null,{"$f":"SUMPRODUCT($D$8:D310-$H$8:H310)","v":29990}]
[null,null,null,null,null,null,null,null,null,null,null,{"$f":"SUMPRODUCT($D$8:D311-$H$8:H311)","v":29990}]
[null,null,null,null,null,null,null,null,null,null,null,{"$f":"SUMPRODUCT($D$8:D312-$H$8:H312)","v":29990}]
[null,null,null,null,null,null,null,null,null,null,null,{"$f":"SUMPRODUCT($D$8:D313-$H$8:H313)","v":29990}]
[null,null,null,null,null,null,null,null,null,null,null,{"$f":"SUMPRODUCT($D$8:D314-$H$8:H314)","v":29990}]
[null,null,null,null,null,null,null,null,null,null,null,{"$f":"SUMPRODUCT($D$8:D315-$H$8:H315)","v":29990}]
[null,null,null,null,null,null,null,null,null,null,null,{"$f":"SUMPRODUCT($D$8:D316-$H$8:H316)","v":29990}]
[null,null,null,null,null,null,null,null,null,null,null,{"$f":"SUMPRODUCT($D$8:D317-$H$8:H317)","v":29990}]
[null,null,null,null,null,null,null,null,null,null,null,{"$f":"SUMPRODUCT($D$8:D318-$H$8:H318)","v":29990}]
[null,null,null,null,null,null,null,null,null,null,null,{"$f":"SUMPRODUCT($D$8:D319-$H$8:H319)","v":29990}]
[null,null,null,null,null,null,null,null,null,null,null,{"$f":"SUMPRODUCT($D$8:D320-$H$8:H320)","v":29990}]
[null,null,null,null,null,null,null,null,null,null,null,{"$f":"SUMPRODUCT($D$8:D321-$H$8:H321)","v":29990}]
[null,null,null,null,null,null,null,null,null,null,null,{"$f":"SUMPRODUCT($D$8:D322-$H$8:H322)","v":29990}]
[null,null,null,null,null,null,null,null,null,null,null,{"$f":"SUMPRODUCT($D$8:D323-$H$8:H323)","v":29990}]
[null,null,null,null,null,null,null,null,null,null,null,{"$f":"SUMPRODUCT($D$8:D324-$H$8:H324)","v":29990}]
[null,null,null,null,null,null,null,null,null,null,null,{"$f":"SUMPRODUCT($D$8:D325-$H$8:H325)","v":29990}]
[null,null,null,null,null,null,null,null,null,null,null,{"$f":"SUMPRODUCT($D$8:D326-$H$8:H326)","v":29990}]
[null,null,null,null,null,null,null,null,null,null,null,{"$f":"SUMPRODUCT($D$8:D327-$H$8:H327)","v":29990}]
[null,null,null,null,null,null,null,null,null,null,null,{"$f":"SUMPRODUCT($D$8:D328-$H$8:H328)","v":29990}]
[null,null,null,null,null,null,null,null,null,null,null,{"$f":"SUMPRODUCT($D$8:D329-$H$8:H329)","v":29990}]
[null,null,null,null,null,null,null,null,null,null,null,{"$f":"SUMPRODUCT($D$8:D330-$H$8:H330)","v":29990}]
[null,null,null,null,null,null,null,null,null,null,null,{"$f":"SUMPRODUCT($D$8:D331-$H$8:H331)","v":29990}]
[null,null,null,null,null,null,null,null,null,null,null,{"$f":"SUMPRODUCT($D$8:D332-$H$8:H332)","v":29990}]
[null,null,null,null,null,null,null,null,null,null,null,{"$f":"SUMPRODUCT($D$8:D333-$H$8:H333)","v":29990}]
[null,null,null,null,null,null,null,null,null,null,null,{"$f":"SUMPRODUCT($D$8:D334-$H$8:H334)","v":29990}]
[null,null,null,null,null,null,null,null,null,null,null,{"$f":"SUMPRODUCT($D$8:D335-$H$8:H335)","v":29990}]
[null,null,null,null,null,null,null,null,null,null,null,{"$f":"SUMPRODUCT($D$8:D336-$H$8:H336)","v":29990}]
[null,null,null,null,null,null,null,null,null,null,null,{"$f":"SUMPRODUCT($D$8:D337-$H$8:H337)","v":29990}]
[null,null,null,null,null,null,null,null,null,null,null,{"$f":"SUMPRODUCT($D$8:D338-$H$8:H338)","v":29990}]
[null,null,null,null,null,null,null,null,null,null,null,{"$f":"SUMPRODUCT($D$8:D339-$H$8:H339)","v":29990}]
[null,null,null,null,null,null,null,null,null,null,null,{"$f":"SUMPRODUCT($D$8:D340-$H$8:H340)","v":29990}]
[null,null,null,null,null,null,null,null,null,null,null,{"$f":"SUMPRODUCT($D$8:D341-$H$8:H341)","v":29990}]
[null,null,null,null,null,null,null,null,null,null,null,{"$f":"SUMPRODUCT($D$8:D342-$H$8:H342)","v":29990}]
[null,null,null,null,null,null,null,null,null,null,null,{"$f":"SUMPRODUCT($D$8:D343-$H$8:H343)","v":29990}]
[null,null,null,null,null,null,null,null,null,null,null,{"$f":"SUMPRODUCT($D$8:D344-$H$8:H344)","v":29990}]
[null,null,null,null,null,null,null,null,null,null,null,{"$f":"SUMPRODUCT($D$8:D345-$H$8:H345)","v":29990}]
[null,null,null,null,null,null,null,null,null,null,null,{"$f":"SUMPRODUCT($D$8:D346-$H$8:H346)","v":29990}]
[null,null,null,null,null,null,null,null,null,null,null,{"$f":"SUMPRODUCT($D$8:D347-$H$8:H347)","v":29990}]
[null,null,null,null,null,null,null,null,null,null,null,{"$f":"SUMPRODUCT($D$8:D348-$H$8:H348)","v":29990}]
[null,null,null,null,null,null,null,null,null,null,null,{"$f":"SUMPRODUCT($D$8:D349-$H$8:H349)","v":29990}]
[null,null,null,null,null,null,null,null,null,null,null,{"$f":"SUMPRODUCT($D$8:D350-$H$8:H350)","v":29990}]
[null,null,null,null,null,null,null,null,null,null,null,{"$f":"SUMPRODUCT($D$8:D351-$H$8:H351)","v":29990}]
[null,null,null,null,null,null,null,null,null,null,null,{"$f":"SUMPRODUCT($D$8:D352-$H$8:H352)","v":29990}]
[null,null,null,null,null,null,null,null,null,null,null,{"$f":"SUMPRODUCT($D$8:D353-$H$8:H353)","v":29990}]
[null,null,null,null,null,null,null,null,null,null,null,{"$f":"SUMPRODUCT($D$8:D354-$H$8:H354)","v":29990}]
[null,null,null,null,null,null,null,null,null,null,null,{"$f":"SUMPRODUCT($D$8:D355-$H$8:H355)","v":29990}]
[null,null,null,null,null,null,null,null,null,null,null,{"$f":"SUMPRODUCT($D$8:D356-$H$8:H356)","v":29990}]
[null,null,null,null,null,null,null,null,null,null,null,{"$f":"SUMPRODUCT($D$8:D357-$H$8:H357)","v":29990}]
[null,null,null,null,null,null,null,null,null,null,null,{"$f":"SUMPRODUCT($D$8:D358-$H$8:H358)","v":29990}]
[null,null,null,null,null,null,null,null,null,null,null,{"$f":"SUMPRODUCT($D$8:D359-$H$8:H359)","v":29990}]
[null,null,null,null,null,null,null,null,null,null,null,{"$f":"SUMPRODUCT($D$8:D360-$H$8:H360)","v":29990}]
[null,null,null,null,null,null,null,null,null,null,null,{"$f":"SUMPRODUCT($D$8:D361-$H$8:H361)","v":29990}]
[null,null,null,null,null,null,null,null,null,null,null,{"$f":"SUMPRODUCT($D$8:D362-$H$8:H362)","v":29990}]
[null,null,null,null,null,null,null,null,null,null,null,{"$f":"SUMPRODUCT($D$8:D363-$H$8:H363)","v":29990}]
[null,null,null,null,null,null,null,null,null,null,null,{"$f":"SUMPRODUCT($D$8:D364-$H$8:H364)","v":29990}]
[null,null,null,null,null,null,null,null,null,null,null,{"$f":"SUMPRODUCT($D$8:D365-$H$8:H365)","v":29990}]
[null,null,null,null,null,null,null,null,null,null,null,{"$f":"SUMPRODUCT($D$8:D366-$H$8:H366)","v":29990}]
[null,null,null,null,null,null,null,null,null,null,null,{"$f":"SUMPRODUCT($D$8:D367-$H$8:H367)","v":29990}]
[null,null,null,null,null,null,null,null,null,null,null,{"$f":"SUMPRODUCT($D$8:D368-$H$8:H368)","v":29990}]
[null,null,null,null,null,null,null,null,null,null,null,{"$f":"SUMPRODUCT($D$8:D369-$H$8:H369)","v":29990}]
[null,null,null,null,null,null,null,null,null,null,null,{"$f":"SUMPRODUCT($D$8:D370-$H$8:H370)","v":29990}]
[null,null,null,null,null,null,null,null,null,null,null,{"$f":"SUMPRODUCT($D$8:D371-$H$8:H371)","v":29990}]
[null,null,null,null,null,null,null,null,null,null,null,{"$f":"SUMPRODUCT($D$8:D372-$H$8:H372)","v":29990}]
[null,null,null,null,null,null,null,null,null,null,null,{"$f":"SUMPRODUCT($D$8:D373-$H$8:H373)","v":29990}]
[null,null,null,null,null,null,null,null,null,null,null,{"$f":"SUMPRODUCT($D$8:D374-$H$8:H374)","v":29990}]
[null,null,null,null,null,null,null,null,null,null,null,{"$f":"SUMPRODUCT($D$8:D375-$H$8:H375)","v":29990}]
[null,null,null,null,null,null,null,null,null,null,null,{"$f":"SUMPRODUCT($D$8:D376-$H$8:H376)","v":29990}]
[null,null,null,null,null,null,null,null,null,null,null,{"$f":"SUMPRODUCT($D$8:D377-$H$8:H377)","v":29990}]
[null,null,null,null,null,null,null,null,null,null,null,{"$f":"SUMPRODUCT($D$8:D378-$H$8:H378)","v":29990}]
[null,null,null,null,null,null,null,null,null,null,null,{"$f":"SUMPRODUCT($D$8:D379-$H$8:H379)","v":29990}]
[null,null,null,null,null,null,null,null,null,null,null,{"$f":"SUMPRODUCT($D$8:D380-$H$8:H380)","v":29990}]
[null,null,null,null,null,null,null,null,null,null,null,{"$f":"SUMPRODUCT($D$8:D381-$H$8:H381)","v":29990}]
[null,null,null,null,null,null,null,null,null,null,null,{"$f":"SUMPRODUCT($D$8:D382-$H$8:H382)","v":29990}]
[null,null,null,null,null,null,null,null,null,null,null,{"$f":"SUMPRODUCT($D$8:D383-$H$8:H383)","v":29990}]
[null,null,null,null,null,null,null,null,null,null,null,{"$f":"SUMPRODUCT($D$8:D384-$H$8:H384)","v":29990}]
[null,null,null,null,null,null,null,null,null,null,null,{"$f":"SUMPRODUCT($D$8:D385-$H$8:H385)","v":29990}]
[null,null,null,null,null,null,null,null,null,null,null,{"$f":"SUMPRODUCT($D$8:D386-$H$8:H386)","v":29990}]
[null,null,null,null,null,null,null,null,null,null,null,{"$f":"SUMPRODUCT($D$8:D387-$H$8:H387)","v":29990}]
[null,null,null,null,null,null,null,null,null,null,null,{"$f":"SUMPRODUCT($D$8:D388-$H$8:H388)","v":29990}]
[null,null,null,null,null,null,null,null,null,null,null,{"$f":"SUMPRODUCT($D$8:D389-$H$8:H389)","v":29990}]
[null,null,null,null,null,null,null,null,null,null,null,{"$f":"SUMPRODUCT($D$8:D390-$H$8:H390)","v":29990}]
[null,null,null,null,null,null,null,null,null,null,null,{"$f":"SUMPRODUCT($D$8:D391-$H$8:H391)","v":29990}]
[null,null,null,null,null,null,null,null,null,null,null,{"$f":"SUMPRODUCT($D$8:D392-$H$8:H392)","v":29990}]
[null,null,null,null,null,null,null,null,null,null,null,{"$f":"SUMPRODUCT($D$8:D393-$H$8:H393)","v":29990}]
[null,null,null,null,null,null,null,null,null,null,null,{"$f":"SUMPRODUCT($D$8:D394-$H$8:H394)","v":29990}]
[null,null,null,null,null,null,null,null,null,null,null,{"$f":"SUMPRODUCT($D$8:D395-$H$8:H395)","v":29990}]
[null,null,null,null,null,null,null,null,null,null,null,{"$f":"SUMPRODUCT($D$8:D396-$H$8:H396)","v":29990}]
[null,null,null,null,null,null,null,null,null,null,null,{"$f":"SUMPRODUCT($D$8:D397-$H$8:H397)","v":29990}]
[null,null,null,null,null,null,null,null,null,null,null,{"$f":"SUMPRODUCT($D$8:D398-$H$8:H398)","v":29990}]
[null,null,null,null,null,null,null,null,null,null,null,{"$f":"SUMPRODUCT($D$8:D399-$H$8:H399)","v":29990}]
[null,null,null,null,null,null,null,null,null,null,null,{"$f":"SUMPRODUCT($D$8:D400-$H$8:H400)","v":29990}]
[null,null,null,null,null,null,null,null,null,null,null,{"$f":"SUMPRODUCT($D$8:D401-$H$8:H401)","v":29990}]
[null,null,null,null,null,null,null,null,null,null,null,{"$f":"SUMPRODUCT($D$8:D402-$H$8:H402)","v":29990}]
[null,null,null,null,null,null,null,null,null,null,null,{"$f":"SUMPRODUCT($D$8:D403-$H$8:H403)","v":29990}]
[null,null,null,null,null,null,null,null,null,null,null,{"$f":"SUMPRODUCT($D$8:D404-$H$8:H404)","v":29990}]
[null,null,null,null,null,null,null,null,null,null,null,{"$f":"SUMPRODUCT($D$8:D405-$H$8:H405)","v":29990}]
[null,null,null,null,null,null,null,null,null,null,null,{"$f":"SUMPRODUCT($D$8:D406-$H$8:H406)","v":29990}]
[null,null,null,null,null,null,null,null,null,null,null,{"$f":"SUMPRODUCT($D$8:D407-$H$8:H407)","v":29990}]
[null,null,null,null,null,null,null,null,null,null,null,{"$f":"SUMPRODUCT($D$8:D408-$H$8:H408)","v":29990}]
[null,null,null,null,null,null,null,null,null,null,null,{"$f":"SUMPRODUCT($D$8:D409-$H$8:H409)","v":29990}]
[null,null,null,null,null,null,null,null,null,null,null,{"$f":"SUMPRODUCT($D$8:D410-$H$8:H410)","v":29990}]
[null,null,null,null,null,null,null,null,null,null,null,{"$f":"SUMPRODUCT($D$8:D411-$H$8:H411)","v":29990}]
[null,null,null,null,null,null,null,null,null,null,null,{"$f":"SUMPRODUCT($D$8:D412-$H$8:H412)","v":29990}]
[null,null,null,null,null,null,null,null,null,null,null,{"$f":"SUMPRODUCT($D$8:D413-$H$8:H413)","v":29990}]
[null,null,null,null,null,null,null,null,null,null,null,{"$f":"SUMPRODUCT($D$8:D414-$H$8:H414)","v":29990}]
[null,null,null,null,null,null,null,null,null,null,null,{"$f":"SUMPRODUCT($D$8:D415-$H$8:H415)","v":29990}]
[null,null,null,null,null,null,null,null,null,null,null,{"$f":"SUMPRODUCT($D$8:D416-$H$8:H416)","v":29990}]
[null,null,null,null,null,null,null,null,null,null,null,{"$f":"SUMPRODUCT($D$8:D417-$H$8:H417)","v":29990}]
[null,null,null,null,null,null,null,null,null,null,null,{"$f":"SUMPRODUCT($D$8:D418-$H$8:H418)","v":29990}]
[null,null,null,null,null,null,null,null,null,null,null,{"$f":"SUMPRODUCT($D$8:D419-$H$8:H419)","v":29990}]
[null,null,null,null,null,null,null,null,null,null,null,{"$f":"SUMPRODUCT($D$8:D420-$H$8:H420)","v":29990}]
[null,null,null,null,null,null,null,null,null,null,null,{"$f":"SUMPRODUCT($D$8:D421-$H$8:H421)","v":29990}]
[null,null,null,null,null,null,null,null,null,null,null,{"$f":"SUMPRODUCT($D$8:D422-$H$8:H422)","v":29990}]
[null,null,null,null,null,null,null,null,null,null,null,{"$f":"SUMPRODUCT($D$8:D423-$H$8:H423)","v":29990}]
[null,null,null,null,null,null,null,null,null,null,null,{"$f":"SUMPRODUCT($D$8:D424-$H$8:H424)","v":29990}]
[null,null,null,null,null,null,null,null,null,null,null,{"$f":"SUMPRODUCT($D$8:D425-$H$8:H425)","v":29990}]
[null,null,null,null,null,null,null,null,null,null,null,{"$f":"SUMPRODUCT($D$8:D426-$H$8:H426)","v":29990}]
[null,null,null,null,null,null,null,null,null,null,null,{"$f":"SUMPRODUCT($D$8:D427-$H$8:H427)","v":29990}]
[null,null,null,null,null,null,null,null,null,null,null,{"$f":"SUMPRODUCT($D$8:D428-$H$8:H428)","v":29990}]
[null,null,null,null,null,null,null,null,null,null,null,{"$f":"SUMPRODUCT($D$8:D429-$H$8:H429)","v":29990}]
[null,null,null,null,null,null,null,null,null,null,null,{"$f":"SUMPRODUCT($D$8:D430-$H$8:H430)","v":29990}]
[null,null,null,null,null,null,null,null,null,null,null,{"$f":"SUMPRODUCT($D$8:D431-$H$8:H431)","v":29990}]
[null,null,null,null,null,null,null,null,null,null,null,{"$f":"SUMPRODUCT($D$8:D432-$H$8:H432)","v":29990}]
[null,null,null,null,null,null,null,null,null,null,null,{"$f":"SUMPRODUCT($D$8:D433-$H$8:H433)","v":29990}]
[null,null,null,null,null,null,null,null,null,null,null,{"$f":"SUMPRODUCT($D$8:D434-$H$8:H434)","v":29990}]
[null,null,null,null,null,null,null,null,null,null,null,{"$f":"SUMPRODUCT($D$8:D435-$H$8:H435)","v":29990}]
[null,null,null,null,null,null,null,null,null,null,null,{"$f":"SUMPRODUCT($D$8:D436-$H$8:H436)","v":29990}]
[null,null,null,null,null,null,null,null,null,null,null,{"$f":"SUMPRODUCT($D$8:D437-$H$8:H437)","v":29990}]
[null,null,null,null,null,null,null,null,null,null,null,{"$f":"SUMPRODUCT($D$8:D438-$H$8:H438)","v":29990}]
[null,null,null,null,null,null,null,null,null,null,null,{"$f":"SUMPRODUCT($D$8:D439-$H$8:H439)","v":29990}]
[null,null,null,null,null,null,null,null,null,null,null,{"$f":"SUMPRODUCT($D$8:D440-$H$8:H440)","v":29990}]
[null,null,null,null,null,null,null,null,null,null,null,{"$f":"SUMPRODUCT($D$8:D441-$H$8:H441)","v":29990}]
[null,null,null,null,null,null,null,null,null,null,null,{"$f":"SUMPRODUCT($D$8:D442-$H$8:H442)","v":29990}]
[null,null,null,null,null,null,null,null,null,null,null,{"$f":"SUMPRODUCT($D$8:D443-$H$8:H443)","v":29990}]
[null,null,null,null,null,null,null,null,null,null,null,{"$f":"SUMPRODUCT($D$8:D444-$H$8:H444)","v":29990}]
[null,null,null,null,null,null,null,null,null,null,null,{"$f":"SUMPRODUCT($D$8:D445-$H$8:H445)","v":29990}]
[null,null,null,null,null,null,null,null,null,null,null,{"$f":"SUMPRODUCT($D$8:D446-$H$8:H446)","v":29990}]
[null,null,null,null,null,null,null,null,null,null,null,{"$f":"SUMPRODUCT($D$8:D447-$H$8:H447)","v":29990}]
[null,null,null,null,null,null,null,null,null,null,null,{"$f":"SUMPRODUCT($D$8:D448-$H$8:H448)","v":29990}]
[null,null,null,null,null,null,null,null,null,null,null,{"$f":"SUMPRODUCT($D$8:D449-$H$8:H449)","v":29990}]
[null,null,null,null,null,null,null,null,null,null,null,{"$f":"SUMPRODUCT($D$8:D450-$H$8:H450)","v":29990}]
[null,null,null,null,null,null,null,null,null,null,null,{"$f":"SUMPRODUCT($D$8:D451-$H$8:H451)","v":29990}]
[null,null,null,null,null,null,null,null,null,null,null,{"$f":"SUMPRODUCT($D$8:D452-$H$8:H452)","v":29990}]
[null,null,null,null,null,null,null,null,null,null,null,{"$f":"SUMPRODUCT($D$8:D453-$H$8:H453)","v":29990}]
[null,null,null,null,null,null,null,null,null,null,null,{"$f":"SUMPRODUCT($D$8:D454-$H$8:H454)","v":29990}]
[null,null,null,null,null,null,null,null,null,null,null,{"$f":"SUMPRODUCT($D$8:D455-$H$8:H455)","v":29990}]
[null,null,null,null,null,null,null,null,null,null,null,{"$f":"SUMPRODUCT($D$8:D456-$H$8:H456)","v":29990}]
[null,null,null,null,null,null,null,null,null,null,null,{"$f":"SUMPRODUCT($D$8:D457-$H$8:H457)","v":29990}]
[null,null,null,null,null,null,null,null,null,null,null,{"$f":"SUMPRODUCT($D$8:D458-$H$8:H458)","v":29990}]
[null,null,null,null,null,null,null,null,null,null,null,{"$f":"SUMPRODUCT($D$8:D459-$H$8:H459)","v":29990}]
[null,null,null,null,null,null,null,null,null,null,null,{"$f":"SUMPRODUCT($D$8:D460-$H$8:H460)","v":29990}]
[null,null,null,null,null,null,null,null,null,null,null,{"$f":"SUMPRODUCT($D$8:D461-$H$8:H461)","v":29990}]
[null,null,null,null,null,null,null,null,null,null,null,{"$f":"SUMPRODUCT($D$8:D462-$H$8:H462)","v":29990}]
[null,null,null,null,null,null,null,null,null,null,null,{"$f":"SUMPRODUCT($D$8:D463-$H$8:H463)","v":29990}]
[null,null,null,null,null,null,null,null,null,null,null,{"$f":"SUMPRODUCT($D$8:D464-$H$8:H464)","v":29990}]
[null,null,null,null,null,null,null,null,null,null,null,{"$f":"SUMPRODUCT($D$8:D465-$H$8:H465)","v":29990}]
[null,null,null,null,null,null,null,null,null,null,null,{"$f":"SUMPRODUCT($D$8:D466-$H$8:H466)","v":29990}]
[null,null,null,null,null,null,null,null,null,null,null,{"$f":"SUMPRODUCT($D$8:D467-$H$8:H467)","v":29990}]
[null,null,null,null,null,null,null,null,null,null,null,{"$f":"SUMPRODUCT($D$8:D468-$H$8:H468)","v":29990}]
[null,null,null,null,null,null,null,null,null,null,null,{"$f":"SUMPRODUCT($D$8:D469-$H$8:H469)","v":29990}]
[null,null,null,null,null,null,null,null,null,null,null,{"$f":"SUMPRODUCT($D$8:D470-$H$8:H470)","v":29990}]
[null,null,null,null,null,null,null,null,null,null,null,{"$f":"SUMPRODUCT($D$8:D471-$H$8:H471)","v":29990}]
[null,null,null,null,null,null,null,null,null,null,null,{"$f":"SUMPRODUCT($D$8:D472-$H$8:H472)","v":29990}]
[null,null,null,null,null,null,null,null,null,null,null,{"$f":"SUMPRODUCT($D$8:D473-$H$8:H473)","v":29990}]
[null,null,null,null,null,null,null,null,null,null,null,{"$f":"SUMPRODUCT($D$8:D474-$H$8:H474)","v":29990}]
[null,null,null,null,null,null,null,null,null,null,null,{"$f":"SUMPRODUCT($D$8:D475-$H$8:H475)","v":29990}]
[null,null,null,null,null,null,null,null,null,null,null,{"$f":"SUMPRODUCT($D$8:D476-$H$8:H476)","v":29990}]
[null,null,null,null,null,null,null,null,null,null,null,{"$f":"SUMPRODUCT($D$8:D477-$H$8:H477)","v":29990}]
[null,null,null,null,null,null,null,null,null,null,null,{"$f":"SUMPRODUCT($D$8:D478-$H$8:H478)","v":29990}]
[null,null,null,null,null,null,null,null,null,null,null,{"$f":"SUMPRODUCT($D$8:D479-$H$8:H479)","v":29990}]
[null,null,null,null,null,null,null,null,null,null,null,{"$f":"SUMPRODUCT($D$8:D480-$H$8:H480)","v":29990}]
[null,null,null,null,null,null,null,null,null,null,null,{"$f":"SUMPRODUCT($D$8:D481-$H$8:H481)","v":29990}]
[null,null,null,null,null,null,null,null,null,null,null,{"$f":"SUMPRODUCT($D$8:D482-$H$8:H482)","v":29990}]
[null,null,null,null,null,null,null,null,null,null,null,{"$f":"SUMPRODUCT($D$8:D483-$H$8:H483)","v":29990}]
[null,null,null,null,null,null,null,null,null,null,null,{"$f":"SUMPRODUCT($D$8:D484-$H$8:H484)","v":29990}]
[null,null,null,null,null,null,null,null,null,null,null,{"$f":"SUMPRODUCT($D$8:D485-$H$8:H485)","v":29990}]
[null,null,null,null,null,null,null,null,null,null,null,{"$f":"SUMPRODUCT($D$8:D486-$H$8:H486)","v":29990}]
[null,null,null,null,null,null,null,null,null,null,null,{"$f":"SUMPRODUCT($D$8:D487-$H$8:H487)","v":29990}]
[null,null,null,null,null,null,null,null,null,null,null,{"$f":"SUMPRODUCT($D$8:D488-$H$8:H488)","v":29990}]
[null,null,null,null,null,null,null,null,null,null,null,{"$f":"SUMPRODUCT($D$8:D489-$H$8:H489)","v":29990}]
[null,null,null,null,null,null,null,null,null,null,null,{"$f":"SUMPRODUCT($D$8:D490-$H$8:H490)","v":29990}]
[null,null,null,null,null,null,null,null,null,null,null,{"$f":"SUMPRODUCT($D$8:D491-$H$8:H491)","v":29990}]
[null,null,null,null,null,null,null,null,null,null,null,{"$f":"SUMPRODUCT($D$8:D492-$H$8:H492)","v":29990}]
[null,null,null,null,null,null,null,null,null,null,null,{"$f":"SUMPRODUCT($D$8:D493-$H$8:H493)","v":29990}]
[null,null,null,null,null,null,null,null,null,null,null,{"$f":"SUMPRODUCT($D$8:D494-$H$8:H494)","v":29990}]
[null,null,null,null,null,null,null,null,null,null,null,{"$f":"SUMPRODUCT($D$8:D495-$H$8:H495)","v":29990}]
[null,null,null,null,null,null,null,null,null,null,null,{"$f":"SUMPRODUCT($D$8:D496-$H$8:H496)","v":29990}]
[null,null,null,null,null,null,null,null,null,null,null,{"$f":"SUMPRODUCT($D$8:D497-$H$8:H497)","v":29990}]
[null,null,null,null,null,null,null,null,null,null,null,{"$f":"SUMPRODUCT($D$8:D498-$H$8:H498)","v":29990}]
[null,null,null,null,null,null,null,null,null,null,null,{"$f":"SUMPRODUCT($D$8:D499-$H$8:H499)","v":29990}]
[null,null,null,null,null,null,null,null,null,null,null,{"$f":"SUMPRODUCT($D$8:D500-$H$8:H500)","v":29990}]
[null,null,null,null,null,null,null,null,null,null,null,{"$f":"SUMPRODUCT($D$8:D501-$H$8:H501)","v":29990}]
[null,null,null,null,null,null,null,null,null,null,null,{"$f":"SUMPRODUCT($D$8:D502-$H$8:H502)","v":29990}]
[null,null,null,null,null,null,null,null,null,null,null,{"$f":"SUMPRODUCT($D$8:D503-$H$8:H503)","v":29990}]
[null,null,null,null,null,null,null,null,null,null,null,{"$f":"SUMPRODUCT($D$8:D504-$H$8:H504)","v":29990}]
[null,null,null,null,null,null,null,null,null,null,null,{"$f":"SUMPRODUCT($D$8:D505-$H$8:H505)","v":29990}]
[null,null,null,null,null,null,null,null,null,null,null,{"$f":"SUMPRODUCT($D$8:D506-$H$8:H506)","v":29990}]
[null,null,null,null,null,null,null,null,null,null,null,{"$f":"SUMPRODUCT($D$8:D507-$H$8:H507)","v":29990}]
[null,null,null,null,null,null,null,null,null,null,null,{"$f":"SUMPRODUCT($D$8:D508-$H$8:H508)","v":29990}]
[null,null,null,null,null,null,null,null,null,null,null,{"$f":"SUMPRODUCT($D$8:D509-$H$8:H509)","v":29990}]
[null,null,null,null,null,null,null,null,null,null,null,{"$f":"SUMPRODUCT($D$8:D510-$H$8:H510)","v":29990}]
[null,null,null,null,null,null,null,null,null,null,null,{"$f":"SUMPRODUCT($D$8:D511-$H$8:H511)","v":29990}]
[null,null,null,null,null,null,null,null,null,null,null,{"$f":"SUMPRODUCT($D$8:D512-$H$8:H512)","v":29990}]
[null,null,null,null,null,null,null,null,null,null,null,{"$f":"SUMPRODUCT($D$8:D513-$H$8:H513)","v":29990}]
[null,null,null,null,null,null,null,null,null,null,null,{"$f":"SUMPRODUCT($D$8:D514-$H$8:H514)","v":29990}]
[null,null,null,null,null,null,null,null,null,null,null,{"$f":"SUMPRODUCT($D$8:D515-$H$8:H515)","v":29990}]
[null,null,null,null,null,null,null,null,null,null,null,{"$f":"SUMPRODUCT($D$8:D516-$H$8:H516)","v":29990}]
[null,null,null,null,null,null,null,null,null,null,null,{"$f":"SUMPRODUCT($D$8:D517-$H$8:H517)","v":29990}]
[null,null,null,null,null,null,null,null,null,null,null,{"$f":"SUMPRODUCT($D$8:D518-$H$8:H518)","v":29990}]
[null,null,null,null,null,null,null,null,null,null,null,{"$f":"SUMPRODUCT($D$8:D519-$H$8:H519)","v":29990}]
[null,null,null,null,null,null,null,null,null,null,null,{"$f":"SUMPRODUCT($D$8:D520-$H$8:H520)","v":29990}]
[null,null,null,null,null,null,null,null,null,null,null,{"$f":"SUMPRODUCT($D$8:D521-$H$8:H521)","v":29990}]
[null,null,null,null,null,null,null,null,null,null,null,{"$f":"SUMPRODUCT($D$8:D522-$H$8:H522)","v":29990}]
[null,null,null,null,null,null,null,null,null,null,null,{"$f":"SUMPRODUCT($D$8:D523-$H$8:H523)","v":29990}]
[null,null,null,null,null,null,null,null,null,null,null,{"$f":"SUMPRODUCT($D$8:D524-$H$8:H524)","v":29990}]
[null,null,null,null,null,null,null,null,null,null,null,{"$f":"SUMPRODUCT($D$8:D525-$H$8:H525)","v":29990}]
[null,null,null,null,null,null,null,null,null,null,null,{"$f":"SUMPRODUCT($D$8:D526-$H$8:H526)","v":29990}]
[null,null,null,null,null,null,null,null,null,null,null,{"$f":"SUMPRODUCT($D$8:D527-$H$8:H527)","v":29990}]
[null,null,null,null,null,null,null,null,null,null,null,{"$f":"SUMPRODUCT($D$8:D528-$H$8:H528)","v":29990}]
[null,null,null,null,null,null,null,null,null,null,null,{"$f":"SUMPRODUCT($D$8:D529-$H$8:H529)","v":29990}]
[null,null,null,null,null,null,null,null,null,null,null,{"$f":"SUMPRODUCT($D$8:D530-$H$8:H530)","v":29990}]
[null,null,null,null,null,null,null,null,null,null,null,{"$f":"SUMPRODUCT($D$8:D531-$H$8:H531)","v":29990}]
[null,null,null,null,null,null,null,null,null,null,null,{"$f":"SUMPRODUCT($D$8:D532-$H$8:H532)","v":29990}]
[null,null,null,null,null,null,null,null,null,null,null,{"$f":"SUMPRODUCT($D$8:D533-$H$8:H533)","v":29990}]
[null,null,null,null,null,null,null,null,null,null,null,{"$f":"SUMPRODUCT($D$8:D534-$H$8:H534)","v":29990}]
[null,null,null,null,null,null,null,null,null,null,null,{"$f":"SUMPRODUCT($D$8:D535-$H$8:H535)","v":29990}]
[null,null,null,null,null,null,null,null,null,null,null,{"$f":"SUMPRODUCT($D$8:D536-$H$8:H536)","v":29990}]
[null,null,null,null,null,null,null,null,null,null,null,{"$f":"SUMPRODUCT($D$8:D537-$H$8:H537)","v":29990}]
[null,null,null,null,null,null,null,null,null,null,null,{"$f":"SUMPRODUCT($D$8:D538-$H$8:H538)","v":29990}]
[null,null,null,null,null,null,null,null,null,null,null,{"$f":"SUMPRODUCT($D$8:D539-$H$8:H539)","v":29990}]
[null,null,null,null,null,null,null,null,null,null,null,{"$f":"SUMPRODUCT($D$8:D540-$H$8:H540)","v":29990}]
[null,null,null,null,null,null,null,null,null,null,null,{"$f":"SUMPRODUCT($D$8:D541-$H$8:H541)","v":29990}]
[null,null,null,null,null,null,null,null,null,null,null,{"$f":"SUMPRODUCT($D$8:D542-$H$8:H542)","v":29990}]
[null,null,null,null,null,null,null,null,null,null,null,{"$f":"SUMPRODUCT($D$8:D543-$H$8:H543)","v":29990}]
[null,null,null,null,null,null,null,null,null,null,null,{"$f":"SUMPRODUCT($D$8:D544-$H$8:H544)","v":29990}]
[null,null,null,null,null,null,null,null,null,null,null,{"$f":"SUMPRODUCT($D$8:D545-$H$8:H545)","v":29990}]
[null,null,null,null,null,null,null,null,null,null,null,{"$f":"SUMPRODUCT($D$8:D546-$H$8:H546)","v":29990}]
[null,null,null,null,null,null,null,null,null,null,null,{"$f":"SUMPRODUCT($D$8:D547-$H$8:H547)","v":29990}]
[null,null,null,null,null,null,null,null,null,null,null,{"$f":"SUMPRODUCT($D$8:D548-$H$8:H548)","v":29990}]
[null,null,null,null,null,null,null,null,null,null,null,{"$f":"SUMPRODUCT($D$8:D549-$H$8:H549)","v":29990}]
[null,null,null,null,null,null,null,null,null,null,null,{"$f":"SUMPRODUCT($D$8:D550-$H$8:H550)","v":29990}]
[null,null,null,null,null,null,null,null,null,null,null,{"$f":"SUMPRODUCT($D$8:D551-$H$8:H551)","v":29990}]
[null,null,null,null,null,null,null,null,null,null,null,{"$f":"SUMPRODUCT($D$8:D552-$H$8:H552)","v":29990}]
[null,null,null,null,null,null,null,null,null,null,null,{"$f":"SUMPRODUCT($D$8:D553-$H$8:H553)","v":29990}]
[null,null,null,null,null,null,null,null,null,null,null,{"$f":"SUMPRODUCT($D$8:D554-$H$8:H554)","v":29990}]
[null,null,null,null,null,null,null,null,null,null,null,{"$f":"SUMPRODUCT($D$8:D555-$H$8:H555)","v":29990}]
[null,null,null,null,null,null,null,null,null,null,null,{"$f":"SUMPRODUCT($D$8:D556-$H$8:H556)","v":29990}]
[null,null,null,null,null,null,null,null,null,null,null,{"$f":"SUMPRODUCT($D$8:D557-$H$8:H557)","v":29990}]
[null,null,null,null,null,null,null,null,null,null,null,{"$f":"SUMPRODUCT($D$8:D558-$H$8:H558)","v":29990}]
[null,null,null,null,null,null,null,null,null,null,null,{"$f":"SUMPRODUCT($D$8:D559-$H$8:H559)","v":29990}]
[null,null,null,null,null,null,null,null,null,null,null,{"$f":"SUMPRODUCT($D$8:D560-$H$8:H560)","v":29990}]
[null,null,null,null,null,null,null,null,null,null,null,{"$f":"SUMPRODUCT($D$8:D561-$H$8:H561)","v":29990}]
[null,null,null,null,null,null,null,null,null,null,null,{"$f":"SUMPRODUCT($D$8:D562-$H$8:H562)","v":29990}]
[null,null,null,null,null,null,null,null,null,null,null,{"$f":"SUMPRODUCT($D$8:D563-$H$8:H563)","v":29990}]
[null,null,null,null,null,null,null,null,null,null,null,{"$f":"SUMPRODUCT($D$8:D564-$H$8:H564)","v":29990}]
[null,null,null,null,null,null,null,null,null,null,null,{"$f":"SUMPRODUCT($D$8:D565-$H$8:H565)","v":29990}]
[null,null,null,null,null,null,null,null,null,null,null,{"$f":"SUMPRODUCT($D$8:D566-$H$8:H566)","v":29990}]
[null,null,null,null,null,null,null,null,null,null,null,{"$f":"SUMPRODUCT($D$8:D567-$H$8:H567)","v":29990}]
[null,null,null,null,null,null,null,null,null,null,null,{"$f":"SUMPRODUCT($D$8:D568-$H$8:H568)","v":29990}]
[null,null,null,null,null,null,null,null,null,null,null,{"$f":"SUMPRODUCT($D$8:D569-$H$8:H569)","v":29990}]
[null,null,null,null,null,null,null,null,null,null,null,{"$f":"SUMPRODUCT($D$8:D570-$H$8:H570)","v":29990}]
[null,null,null,null,null,null,null,null,null,null,null,{"$f":"SUMPRODUCT($D$8:D571-$H$8:H571)","v":29990}]
[null,null,null,null,null,null,null,null,null,null,null,{"$f":"SUMPRODUCT($D$8:D572-$H$8:H572)","v":29990}]
[null,null,null,null,null,null,null,null,null,null,null,{"$f":"SUMPRODUCT($D$8:D573-$H$8:H573)","v":29990}]
[null,null,null,null,null,null,null,null,null,null,null,{"$f":"SUMPRODUCT($D$8:D574-$H$8:H574)","v":29990}]
[null,null,null,null,null,null,null,null,null,null,null,{"$f":"SUMPRODUCT($D$8:D575-$H$8:H575)","v":29990}]
[null,null,null,null,null,null,null,null,null,null,null,{"$f":"SUMPRODUCT($D$8:D576-$H$8:H576)","v":29990}]
[null,null,null,null,null,null,null,null,null,null,null,{"$f":"SUMPRODUCT($D$8:D577-$H$8:H577)","v":29990}]
[null,null,null,null,null,null,null,null,null,null,null,{"$f":"SUMPRODUCT($D$8:D578-$H$8:H578)","v":29990}]
[null,null,null,null,null,null,null,null,null,null,null,{"$f":"SUMPRODUCT($D$8:D579-$H$8:H579)","v":29990}]
[null,null,null,null,null,null,null,null,null,null,null,{"$f":"SUMPRODUCT($D$8:D580-$H$8:H580)","v":29990}]
[null,null,null,null,null,null,null,null,null,null,null,{"$f":"SUMPRODUCT($D$8:D581-$H$8:H581)","v":29990}]
[null,null,null,null,null,null,null,null,null,null,null,{"$f":"SUMPRODUCT($D$8:D582-$H$8:H582)","v":29990}]
[null,null,null,null,null,null,null,null,null,null,null,{"$f":"SUMPRODUCT($D$8:D583-$H$8:H583)","v":29990}]
[null,null,null,null,null,null,null,null,null,null,null,{"$f":"SUMPRODUCT($D$8:D584-$H$8:H584)","v":29990}]
[null,null,null,null,null,null,null,null,null,null,null,{"$f":"SUMPRODUCT($D$8:D585-$H$8:H585)","v":29990}]
[null,null,null,null,null,null,null,null,null,null,null,{"$f":"SUMPRODUCT($D$8:D586-$H$8:H586)","v":29990}]
[null,null,null,null,null,null,null,null,null,null,null,{"$f":"SUMPRODUCT($D$8:D587-$H$8:H587)","v":29990}]
[null,null,null,null,null,null,null,null,null,null,null,{"$f":"SUMPRODUCT($D$8:D588-$H$8:H588)","v":29990}]
[null,null,null,null,null,null,null,null,null,null,null,{"$f":"SUMPRODUCT($D$8:D589-$H$8:H589)","v":29990}]
[null,null,null,null,null,null,null,null,null,null,null,{"$f":"SUMPRODUCT($D$8:D590-$H$8:H590)","v":29990}]
[null,null,null,null,null,null,null,null,null,null,null,{"$f":"SUMPRODUCT($D$8:D591-$H$8:H591)","v":29990}]
[null,null,null,null,null,null,null,null,null,null,null,{"$f":"SUMPRODUCT($D$8:D592-$H$8:H592)","v":29990}]
[null,null,null,null,null,null,null,null,null,null,null,{"$f":"SUMPRODUCT($D$8:D593-$H$8:H593)","v":29990}]
[null,null,null,null,null,null,null,null,null,null,null,{"$f":"SUMPRODUCT($D$8:D594-$H$8:H594)","v":29990}]
[null,null,null,null,null,null,null,null,null,null,null,{"$f":"SUMPRODUCT($D$8:D595-$H$8:H595)","v":29990}]
[null,null,null,null,null,null,null,null,null,null,null,{"$f":"SUMPRODUCT($D$8:D596-$H$8:H596)","v":29990}]
[null,null,null,null,null,null,null,null,null,null,null,{"$f":"SUMPRODUCT($D$8:D597-$H$8:H597)","v":29990}]
[null,null,null,null,null,null,null,null,null,null,null,{"$f":"SUMPRODUCT($D$8:D598-$H$8:H598)","v":29990}]
[null,null,null,null,null,null,null,null,null,null,null,{"$f":"SUMPRODUCT($D$8:D599-$H$8:H599)","v":29990}]
[null,null,null,null,null,null,null,null,null,null,null,{"$f":"SUMPRODUCT($D$8:D600-$H$8:H600)","v":29990}]
[null,null,null,null,null,null,null,null,null,null,null,{"$f":"SUMPRODUCT($D$8:D601-$H$8:H601)","v":29990}]
[null,null,null,null,null,null,null,null,null,null,null,{"$f":"SUMPRODUCT($D$8:D602-$H$8:H602)","v":29990}]
[null,null,null,null,null,null,null,null,null,null,null,{"$f":"SUMPRODUCT($D$8:D603-$H$8:H603)","v":29990}]
[null,null,null,null,null,null,null,null,null,null,null,{"$f":"SUMPRODUCT($D$8:D604-$H$8:H604)","v":29990}]
[null,null,null,null,null,null,null,null,null,null,null,{"$f":"SUMPRODUCT($D$8:D605-$H$8:H605)","v":29990}]
[null,null,null,null,null,null,null,null,null,null,null,{"$f":"SUMPRODUCT($D$8:D606-$H$8:H606)","v":29990}]
[null,null,null,null,null,null,null,null,null,null,null,{"$f":"SUMPRODUCT($D$8:D607-$H$8:H607)","v":29990}]
[null,null,null,null,null,null,null,null,null,null,null,{"$f":"SUMPRODUCT($D$8:D608-$H$8:H608)","v":29990}]
[null,null,null,null,null,null,null,null,null,null,null,{"$f":"SUMPRODUCT($D$8:D609-$H$8:H609)","v":29990}]
[null,null,null,null,null,null,null,null,null,null,null,{"$f":"SUMPRODUCT($D$8:D610-$H$8:H610)","v":29990}]
[null,null,null,null,null,null,null,null,null,null,null,{"$f":"SUMPRODUCT($D$8:D611-$H$8:H611)","v":29990}]
[null,null,null,null,null,null,null,null,null,null,null,{"$f":"SUMPRODUCT($D$8:D612-$H$8:H612)","v":29990}]
[null,null,null,null,null,null,null,null,null,null,null,{"$f":"SUMPRODUCT($D$8:D613-$H$8:H613)","v":29990}]
[null,null,null,null,null,null,null,null,null,null,null,{"$f":"SUMPRODUCT($D$8:D614-$H$8:H614)","v":29990}]
[null,null,null,null,null,null,null,null,null,null,null,{"$f":"SUMPRODUCT($D$8:D615-$H$8:H615)","v":29990}]
[null,null,null,null,null,null,null,null,null,null,null,{"$f":"SUMPRODUCT($D$8:D616-$H$8:H616)","v":29990}]
[null,null,null,null,null,null,null,null,null,null,null,{"$f":"SUMPRODUCT($D$8:D617-$H$8:H617)","v":29990}]
[null,null,null,null,null,null,null,null,null,null,null,{"$f":"SUMPRODUCT($D$8:D618-$H$8:H618)","v":29990}]
[null,null,null,null,null,null,null,null,null,null,null,{"$f":"SUMPRODUCT($D$8:D619-$H$8:H619)","v":29990}]
[null,null,null,null,null,null,null,null,null,null,null,{"$f":"SUMPRODUCT($D$8:D620-$H$8:H620)","v":29990}]
[null,null,null,null,null,null,null,null,null,null,null,{"$f":"SUMPRODUCT($D$8:D621-$H$8:H621)","v":29990}]
[null,null,null,null,null,null,null,null,null,null,null,{"$f":"SUMPRODUCT($D$8:D622-$H$8:H622)","v":29990}]
[null,null,null,null,null,null,null,null,null,null,null,{"$f":"SUMPRODUCT($D$8:D623-$H$8:H623)","v":29990}]
[null,null,null,null,null,null,null,null,null,null,null,{"$f":"SUMPRODUCT($D$8:D624-$H$8:H624)","v":29990}]
[null,null,null,null,null,null,null,null,null,null,null,{"$f":"SUMPRODUCT($D$8:D625-$H$8:H625)","v":29990}]
[null,null,null,null,null,null,null,null,null,null,null,{"$f":"SUMPRODUCT($D$8:D626-$H$8:H626)","v":29990}]
[null,null,null,null,null,null,null,null,null,null,null,{"$f":"SUMPRODUCT($D$8:D627-$H$8:H627)","v":29990}]
[null,null,null,null,null,null,null,null,null,null,null,{"$f":"SUMPRODUCT($D$8:D628-$H$8:H628)","v":29990}]
[null,null,null,null,null,null,null,null,null,null,null,{"$f":"SUMPRODUCT($D$8:D629-$H$8:H629)","v":29990}]
[null,null,null,null,null,null,null,null,null,null,null,{"$f":"SUMPRODUCT($D$8:D630-$H$8:H630)","v":29990}]
[null,null,null,null,null,null,null,null,null,null,null,{"$f":"SUMPRODUCT($D$8:D631-$H$8:H631)","v":29990}]
[null,null,null,null,null,null,null,null,null,null,null,{"$f":"SUMPRODUCT($D$8:D632-$H$8:H632)","v":29990}]
[null,null,null,null,null,null,null,null,null,null,null,{"$f":"SUMPRODUCT($D$8:D633-$H$8:H633)","v":29990}]
[null,null,null,null,null,null,null,null,null,null,null,{"$f":"SUMPRODUCT($D$8:D634-$H$8:H634)","v":29990}]
[null,null,null,null,null,null,null,null,null,null,null,{"$f":"SUMPRODUCT($D$8:D635-$H$8:H635)","v":29990}]
[null,null,null,null,null,null,null,null,null,null,null,{"$f":"SUMPRODUCT($D$8:D636-$H$8:H636)","v":29990}]
[null,null,null,null,null,null,null,null,null,null,null,{"$f":"SUMPRODUCT($D$8:D637-$H$8:H637)","v":29990}]
[null,null,null,null,null,null,null,null,null,null,null,{"$f":"SUMPRODUCT($D$8:D638-$H$8:H638)","v":29990}]
[null,null,null,null,null,null,null,null,null,null,null,{"$f":"SUMPRODUCT($D$8:D639-$H$8:H639)","v":29990}]
[null,null,null,null,null,null,null,null,null,null,null,{"$f":"SUMPRODUCT($D$8:D640-$H$8:H640)","v":29990}]
[null,null,null,null,null,null,null,null,null,null,null,{"$f":"SUMPRODUCT($D$8:D641-$H$8:H641)","v":29990}]
[null,null,null,null,null,null,null,null,null,null,null,{"$f":"SUMPRODUCT($D$8:D642-$H$8:H642)","v":29990}]
[null,null,null,null,null,null,null,null,null,null,null,{"$f":"SUMPRODUCT($D$8:D643-$H$8:H643)","v":29990}]
[null,null,null,null,null,null,null,null,null,null,null,{"$f":"SUMPRODUCT($D$8:D644-$H$8:H644)","v":29990}]
[null,null,null,null,null,null,null,null,null,null,null,{"$f":"SUMPRODUCT($D$8:D645-$H$8:H645)","v":29990}]
[null,null,null,null,null,null,null,null,null,null,null,{"$f":"SUMPRODUCT($D$8:D646-$H$8:H646)","v":29990}]
[null,null,null,null,null,null,null,null,null,null,null,{"$f":"SUMPRODUCT($D$8:D647-$H$8:H647)","v":29990}]
[null,null,null,null,null,null,null,null,null,null,null,{"$f":"SUMPRODUCT($D$8:D648-$H$8:H648)","v":29990}]
[null,null,null,null,null,null,null,null,null,null,null,{"$f":"SUMPRODUCT($D$8:D649-$H$8:H649)","v":29990}]
[null,null,null,null,null,null,null,null,null,null,null,{"$f":"SUMPRODUCT($D$8:D650-$H$8:H650)","v":29990}]
[null,null,null,null,null,null,null,null,null,null,null,{"$f":"SUMPRODUCT($D$8:D651-$H$8:H651)","v":29990}]
[null,null,null,null,null,null,null,null,null,null,null,{"$f":"SUMPRODUCT($D$8:D652-$H$8:H652)","v":29990}]
[null,null,null,null,null,null,null,null,null,null,null,{"$f":"SUMPRODUCT($D$8:D653-$H$8:H653)","v":29990}]
[null,null,null,null,null,null,null,null,null,null,null,{"$f":"SUMPRODUCT($D$8:D654-$H$8:H654)","v":29990}]
[null,null,null,null,null,null,null,null,null,null,null,{"$f":"SUMPRODUCT($D$8:D655-$H$8:H655)","v":29990}]
[null,null,null,null,null,null,null,null,null,null,null,{"$f":"SUMPRODUCT($D$8:D656-$H$8:H656)","v":29990}]
[null,null,null,null,null,null,null,null,null,null,null,{"$f":"SUMPRODUCT($D$8:D657-$H$8:H657)","v":29990}]
[null,null,null,null,null,null,null,null,null,null,null,{"$f":"SUMPRODUCT($D$8:D658-$H$8:H658)","v":29990}]
[null,null,null,null,null,null,null,null,null,null,null,{"$f":"SUMPRODUCT($D$8:D659-$H$8:H659)","v":29990}]
[null,null,null,null,null,null,null,null,null,null,null,{"$f":"SUMPRODUCT($D$8:D660-$H$8:H660)","v":29990}]
[null,null,null,null,null,null,null,null,null,null,null,{"$f":"SUMPRODUCT($D$8:D661-$H$8:H661)","v":29990}]
[null,null,null,null,null,null,null,null,null,null,null,{"$f":"SUMPRODUCT($D$8:D662-$H$8:H662)","v":29990}]
[null,null,null,null,null,null,null,null,null,null,null,{"$f":"SUMPRODUCT($D$8:D663-$H$8:H663)","v":29990}]
[null,null,null,null,null,null,null,null,null,null,null,{"$f":"SUMPRODUCT($D$8:D664-$H$8:H664)","v":29990}]
[null,null,null,null,null,null,null,null,null,null,null,{"$f":"SUMPRODUCT($D$8:D665-$H$8:H665)","v":29990}]
[null,null,null,null,null,null,null,null,null,null,null,{"$f":"SUMPRODUCT($D$8:D666-$H$8:H666)","v":29990}]
[null,null,null,null,null,null,null,null,null,null,null,{"$f":"SUMPRODUCT($D$8:D667-$H$8:H667)","v":29990}]
[null,null,null,null,null,null,null,null,null,null,null,{"$f":"SUMPRODUCT($D$8:D668-$H$8:H668)","v":29990}]
[null,null,null,null,null,null,null,null,null,null,null,{"$f":"SUMPRODUCT($D$8:D669-$H$8:H669)","v":29990}]
[null,null,null,null,null,null,null,null,null,null,null,{"$f":"SUMPRODUCT($D$8:D670-$H$8:H670)","v":29990}]
[null,null,null,null,null,null,null,null,null,null,null,{"$f":"SUMPRODUCT($D$8:D671-$H$8:H671)","v":29990}]
[null,null,null,null,null,null,null,null,null,null,null,{"$f":"SUMPRODUCT($D$8:D672-$H$8:H672)","v":29990}]
[null,null,null,null,null,null,null,null,null,null,null,{"$f":"SUMPRODUCT($D$8:D673-$H$8:H673)","v":29990}]
[null,null,null,null,null,null,null,null,null,null,null,{"$f":"SUMPRODUCT($D$8:D674-$H$8:H674)","v":29990}]
[null,null,null,null,null,null,null,null,null,null,null,{"$f":"SUMPRODUCT($D$8:D675-$H$8:H675)","v":29990}]
[null,null,null,null,null,null,null,null,null,null,null,{"$f":"SUMPRODUCT($D$8:D676-$H$8:H676)","v":29990}]
[null,null,null,null,null,null,null,null,null,null,null,{"$f":"SUMPRODUCT($D$8:D677-$H$8:H677)","v":29990}]
[null,null,null,null,null,null,null,null,null,null,null,{"$f":"SUMPRODUCT($D$8:D678-$H$8:H678)","v":29990}]
[null,null,null,null,null,null,null,null,null,null,null,{"$f":"SUMPRODUCT($D$8:D679-$H$8:H679)","v":29990}]
[null,null,null,null,null,null,null,null,null,null,null,{"$f":"SUMPRODUCT($D$8:D680-$H$8:H680)","v":29990}]
[null,null,null,null,null,null,null,null,null,null,null,{"$f":"SUMPRODUCT($D$8:D681-$H$8:H681)","v":29990}]
[null,null,null,null,null,null,null,null,null,null,null,{"$f":"SUMPRODUCT($D$8:D682-$H$8:H682)","v":29990}]
[null,null,null,null,null,null,null,null,null,null,null,{"$f":"SUMPRODUCT($D$8:D683-$H$8:H683)","v":29990}]
[null,null,null,null,null,null,null,null,null,null,null,{"$f":"SUMPRODUCT($D$8:D684-$H$8:H684)","v":29990}]
[null,null,null,null,null,null,null,null,null,null,null,{"$f":"SUMPRODUCT($D$8:D685-$H$8:H685)","v":29990}]
[null,null,null,null,null,null,null,null,null,null,null,{"$f":"SUMPRODUCT($D$8:D686-$H$8:H686)","v":29990}]
[null,null,null,null,null,null,null,null,null,null,null,{"$f":"SUMPRODUCT($D$8:D687-$H$8:H687)","v":29990}]
[null,null,null,null,null,null,null,null,null,null,null,{"$f":"SUMPRODUCT($D$8:D688-$H$8:H688)","v":29990}]
[null,null,null,null,null,null,null,null,null,null,null,{"$f":"SUMPRODUCT($D$8:D689-$H$8:H689)","v":29990}]
[null,null,null,null,null,null,null,null,null,null,null,{"$f":"SUMPRODUCT($D$8:D690-$H$8:H690)","v":29990}]
[null,null,null,null,null,null,null,null,null,null,null,{"$f":"SUMPRODUCT($D$8:D691-$H$8:H691)","v":29990}]
[null,null,null,null,null,null,null,null,null,null,null,{"$f":"SUMPRODUCT($D$8:D692-$H$8:H692)","v":29990}]
[null,null,null,null,null,null,null,null,null,null,null,{"$f":"SUMPRODUCT($D$8:D693-$H$8:H693)","v":29990}]
[null,null,null,null,null,null,null,null,null,null,null,{"$f":"SUMPRODUCT($D$8:D694-$H$8:H694)","v":29990}]
[null,null,null,null,null,null,null,null,null,null,null,{"$f":"SUMPRODUCT($D$8:D695-$H$8:H695)","v":29990}]
[null,null,null,null,null,null,null,null,null,null,null,{"$f":"SUMPRODUCT($D$8:D696-$H$8:H696)","v":29990}]
[null,null,null,null,null,null,null,null,null,null,null,{"$f":"SUMPRODUCT($D$8:D697-$H$8:H697)","v":29990}]
[null,null,null,null,null,null,null,null,null,null,null,{"$f":"SUMPRODUCT($D$8:D698-$H$8:H698)","v":29990}]
[null,null,null,null,null,null,null,null,null,null,null,{"$f":"SUMPRODUCT($D$8:D699-$H$8:H699)","v":29990}]
[null,null,null,null,null,null,null,null,null,null,null,{"$f":"SUMPRODUCT($D$8:D700-$H$8:H700)","v":29990}]
[null,null,null,null,null,null,null,null,null,null,null,{"$f":"SUMPRODUCT($D$8:D701-$H$8:H701)","v":29990}]
[null,null,null,null,null,null,null,null,null,null,null,{"$f":"SUMPRODUCT($D$8:D702-$H$8:H702)","v":29990}]
[null,null,null,null,null,null,null,null,null,null,null,{"$f":"SUMPRODUCT($D$8:D703-$H$8:H703)","v":29990}]
[null,null,null,null,null,null,null,null,null,null,null,{"$f":"SUMPRODUCT($D$8:D704-$H$8:H704)","v":29990}]
[null,null,null,null,null,null,null,null,null,null,null,{"$f":"SUMPRODUCT($D$8:D705-$H$8:H705)","v":29990}]
[null,null,null,null,null,null,null,null,null,null,null,{"$f":"SUMPRODUCT($D$8:D706-$H$8:H706)","v":29990}]
[null,null,null,null,null,null,null,null,null,null,null,{"$f":"SUMPRODUCT($D$8:D707-$H$8:H707)","v":29990}]
[null,null,null,null,null,null,null,null,null,null,null,{"$f":"SUMPRODUCT($D$8:D708-$H$8:H708)","v":29990}]
[null,null,null,null,null,null,null,null,null,null,null,{"$f":"SUMPRODUCT($D$8:D709-$H$8:H709)","v":29990}]
[null,null,null,null,null,null,null,null,null,null,null,{"$f":"SUMPRODUCT($D$8:D710-$H$8:H710)","v":29990}]
[null,null,null,null,null,null,null,null,null,null,null,{"$f":"SUMPRODUCT($D$8:D711-$H$8:H711)","v":29990}]
[null,null,null,null,null,null,null,null,null,null,null,{"$f":"SUMPRODUCT($D$8:D712-$H$8:H712)","v":29990}]
[null,null,null,null,null,null,null,null,null,null,null,{"$f":"SUMPRODUCT($D$8:D713-$H$8:H713)","v":29990}]
[null,null,null,null,null,null,null,null,null,null,null,{"$f":"SUMPRODUCT($D$8:D714-$H$8:H714)","v":29990}]
[null,null,null,null,null,null,null,null,null,null,null,{"$f":"SUMPRODUCT($D$8:D715-$H$8:H715)","v":29990}]
[null,null,null,null,null,null,null,null,null,null,null,{"$f":"SUMPRODUCT($D$8:D716-$H$8:H716)","v":29990}]
[null,null,null,null,null,null,null,null,null,null,null,{"$f":"SUMPRODUCT($D$8:D717-$H$8:H717)","v":29990}]
[null,null,null,null,null,null,null,null,null,null,null,{"$f":"SUMPRODUCT($D$8:D718-$H$8:H718)","v":29990}]
[null,null,null,null,null,null,null,null,null,null,null,{"$f":"SUMPRODUCT($D$8:D719-$H$8:H719)","v":29990}]
[null,null,null,null,null,null,null,null,null,null,null,{"$f":"SUMPRODUCT($D$8:D720-$H$8:H720)","v":29990}]
[null,null,null,null,null,null,null,null,null,null,null,{"$f":"SUMPRODUCT($D$8:D721-$H$8:H721)","v":29990}]
[null,null,null,null,null,null,null,null,null,null,null,{"$f":"SUMPRODUCT($D$8:D722-$H$8:H722)","v":29990}]
[null,null,null,null,null,null,null,null,null,null,null,{"$f":"SUMPRODUCT($D$8:D723-$H$8:H723)","v":29990}]
[null,null,null,null,null,null,null,null,null,null,null,{"$f":"SUMPRODUCT($D$8:D724-$H$8:H724)","v":29990}]
[null,null,null,null,null,null,null,null,null,null,null,{"$f":"SUMPRODUCT($D$8:D725-$H$8:H725)","v":29990}]
[null,null,null,null,null,null,null,null,null,null,null,{"$f":"SUMPRODUCT($D$8:D726-$H$8:H726)","v":29990}]
[null,null,null,null,null,null,null,null,null,null,null,{"$f":"SUMPRODUCT($D$8:D727-$H$8:H727)","v":29990}]
[null,null,null,null,null,null,null,null,null,null,null,{"$f":"SUMPRODUCT($D$8:D728-$H$8:H728)","v":29990}]
[null,null,null,null,null,null,null,null,null,null,null,{"$f":"SUMPRODUCT($D$8:D729-$H$8:H729)","v":29990}]
[null,null,null,null,null,null,null,null,null,null,null,{"$f":"SUMPRODUCT($D$8:D730-$H$8:H730)","v":29990}]
[null,null,null,null,null,null,null,null,null,null,null,{"$f":"SUMPRODUCT($D$8:D731-$H$8:H731)","v":29990}]
[null,null,null,null,null,null,null,null,null,null,null,{"$f":"SUMPRODUCT($D$8:D732-$H$8:H732)","v":29990}]
[null,null,null,null,null,null,null,null,null,null,null,{"$f":"SUMPRODUCT($D$8:D733-$H$8:H733)","v":29990}]
[null,null,null,null,null,null,null,null,null,null,null,{"$f":"SUMPRODUCT($D$8:D734-$H$8:H734)","v":29990}]
[null,null,null,null,null,null,null,null,null,null,null,{"$f":"SUMPRODUCT($D$8:D735-$H$8:H735)","v":29990}]
[null,null,null,null,null,null,null,null,null,null,null,{"$f":"SUMPRODUCT($D$8:D736-$H$8:H736)","v":29990}]
[null,null,null,null,null,null,null,null,null,null,null,{"$f":"SUMPRODUCT($D$8:D737-$H$8:H737)","v":29990}]
[null,null,null,null,null,null,null,null,null,null,null,{"$f":"SUMPRODUCT($D$8:D738-$H$8:H738)","v":29990}]
[null,null,null,null,null,null,null,null,null,null,null,{"$f":"SUMPRODUCT($D$8:D739-$H$8:H739)","v":29990}]
[null,null,null,null,null,null,null,null,null,null,null,{"$f":"SUMPRODUCT($D$8:D740-$H$8:H740)","v":29990}]
[null,null,null,null,null,null,null,null,null,null,null,{"$f":"SUMPRODUCT($D$8:D741-$H$8:H741)","v":29990}]
[null,null,null,null,null,null,null,null,null,null,null,{"$f":"SUMPRODUCT($D$8:D742-$H$8:H742)","v":29990}]
[null,null,null,null,null,null,null,null,null,null,null,{"$f":"SUMPRODUCT($D$8:D743-$H$8:H743)","v":29990}]
[null,null,null,null,null,null,null,null,null,null,null,{"$f":"SUMPRODUCT($D$8:D744-$H$8:H744)","v":29990}]
[null,null,null,null,null,null,null,null,null,null,null,{"$f":"SUMPRODUCT($D$8:D745-$H$8:H745)","v":29990}]
[null,null,null,null,null,null,null,null,null,null,null,{"$f":"SUMPRODUCT($D$8:D746-$H$8:H746)","v":29990}]
[null,null,null,null,null,null,null,null,null,null,null,{"$f":"SUMPRODUCT($D$8:D747-$H$8:H747)","v":29990}]
[null,null,null,null,null,null,null,null,null,null,null,{"$f":"SUMPRODUCT($D$8:D748-$H$8:H748)","v":29990}]
[null,null,null,null,null,null,null,null,null,null,null,{"$f":"SUMPRODUCT($D$8:D749-$H$8:H749)","v":29990}]
[null,null,null,null,null,null,null,null,null,null,null,{"$f":"SUMPRODUCT($D$8:D750-$H$8:H750)","v":29990}]
[null,null,null,null,null,null,null,null,null,null,null,{"$f":"SUMPRODUCT($D$8:D751-$H$8:H751)","v":29990}]
[null,null,null,null,null,null,null,null,null,null,null,{"$f":"SUMPRODUCT($D$8:D752-$H$8:H752)","v":29990}]
[null,null,null,null,null,null,null,null,null,null,null,{"$f":"SUMPRODUCT($D$8:D753-$H$8:H753)","v":29990}]
[null,null,null,null,null,null,null,null,null,null,null,{"$f":"SUMPRODUCT($D$8:D754-$H$8:H754)","v":29990}]
[null,null,null,null,null,null,null,null,null,null,null,{"$f":"SUMPRODUCT($D$8:D755-$H$8:H755)","v":29990}]
[null,null,null,null,null,null,null,null,null,null,null,{"$f":"SUMPRODUCT($D$8:D756-$H$8:H756)","v":29990}]
[null,null,null,null,null,null,null,null,null,null,null,{"$f":"SUMPRODUCT($D$8:D757-$H$8:H757)","v":29990}]
[null,null,null,null,null,null,null,null,null,null,null,{"$f":"SUMPRODUCT($D$8:D758-$H$8:H758)","v":29990}]
[null,null,null,null,null,null,null,null,null,null,null,{"$f":"SUMPRODUCT($D$8:D759-$H$8:H759)","v":29990}]
[null,null,null,null,null,null,null,null,null,null,null,{"$f":"SUMPRODUCT($D$8:D760-$H$8:H760)","v":29990}]
[null,null,null,null,null,null,null,null,null,null,null,{"$f":"SUMPRODUCT($D$8:D761-$H$8:H761)","v":29990}]
[null,null,null,null,null,null,null,null,null,null,null,{"$f":"SUMPRODUCT($D$8:D762-$H$8:H762)","v":29990}]
[null,null,null,null,null,null,null,null,null,null,null,{"$f":"SUMPRODUCT($D$8:D763-$H$8:H763)","v":29990}]
[null,null,null,null,null,null,null,null,null,null,null,{"$f":"SUMPRODUCT($D$8:D764-$H$8:H764)","v":29990}]
[null,null,null,null,null,null,null,null,null,null,null,{"$f":"SUMPRODUCT($D$8:D765-$H$8:H765)","v":29990}]
[null,null,null,null,null,null,null,null,null,null,null,{"$f":"SUMPRODUCT($D$8:D766-$H$8:H766)","v":29990}]
[null,null,null,null,null,null,null,null,null,null,null,{"$f":"SUMPRODUCT($D$8:D767-$H$8:H767)","v":29990}]
[null,null,null,null,null,null,null,null,null,null,null,{"$f":"SUMPRODUCT($D$8:D768-$H$8:H768)","v":29990}]
[null,null,null,null,null,null,null,null,null,null,null,{"$f":"SUMPRODUCT($D$8:D769-$H$8:H769)","v":29990}]
[null,null,null,null,null,null,null,null,null,null,null,{"$f":"SUMPRODUCT($D$8:D770-$H$8:H770)","v":29990}]
[null,null,null,null,null,null,null,null,null,null,null,{"$f":"SUMPRODUCT($D$8:D771-$H$8:H771)","v":29990}]
[null,null,null,null,null,null,null,null,null,null,null,{"$f":"SUMPRODUCT($D$8:D772-$H$8:H772)","v":29990}]
[null,null,null,null,null,null,null,null,null,null,null,{"$f":"SUMPRODUCT($D$8:D773-$H$8:H773)","v":29990}]
[null,null,null,null,null,null,null,null,null,null,null,{"$f":"SUMPRODUCT($D$8:D774-$H$8:H774)","v":29990}]
[null,null,null,null,null,null,null,null,null,null,null,{"$f":"SUMPRODUCT($D$8:D775-$H$8:H775)","v":29990}]
[null,null,null,null,null,null,null,null,null,null,null,{"$f":"SUMPRODUCT($D$8:D776-$H$8:H776)","v":29990}]
[null,null,null,null,null,null,null,null,null,null,null,{"$f":"SUMPRODUCT($D$8:D777-$H$8:H777)","v":29990}]
[null,null,null,null,null,null,null,null,null,null,null,{"$f":"SUMPRODUCT($D$8:D778-$H$8:H778)","v":29990}]
[null,null,null,null,null,null,null,null,null,null,null,{"$f":"SUMPRODUCT($D$8:D779-$H$8:H779)","v":29990}]
[null,null,null,null,null,null,null,null,null,null,null,{"$f":"SUMPRODUCT($D$8:D780-$H$8:H780)","v":29990}]
[null,null,null,null,null,null,null,null,null,null,null,{"$f":"SUMPRODUCT($D$8:D781-$H$8:H781)","v":29990}]
[null,null,null,null,null,null,null,null,null,null,null,{"$f":"SUMPRODUCT($D$8:D782-$H$8:H782)","v":29990}]
[null,null,null,null,null,null,null,null,null,null,null,{"$f":"SUMPRODUCT($D$8:D783-$H$8:H783)","v":29990}]
[null,null,null,null,null,null,null,null,null,null,null,{"$f":"SUMPRODUCT($D$8:D784-$H$8:H784)","v":29990}]
[null,null,null,null,null,null,null,null,null,null,null,{"$f":"SUMPRODUCT($D$8:D785-$H$8:H785)","v":29990}]
[null,null,null,null,null,null,null,null,null,null,null,{"$f":"SUMPRODUCT($D$8:D786-$H$8:H786)","v":29990}]
[null,null,null,null,null,null,null,null,null,null,null,{"$f":"SUMPRODUCT($D$8:D787-$H$8:H787)","v":29990}]
[null,null,null,null,null,null,null,null,null,null,null,{"$f":"SUMPRODUCT($D$8:D788-$H$8:H788)","v":29990}]
[null,null,null,null,null,null,null,null,null,null,null,{"$f":"SUMPRODUCT($D$8:D789-$H$8:H789)","v":29990}]
[null,null,null,null,null,null,null,null,null,null,null,{"$f":"SUMPRODUCT($D$8:D790-$H$8:H790)","v":29990}]
[null,null,null,null,null,null,null,null,null,null,null,{"$f":"SUMPRODUCT($D$8:D791-$H$8:H791)","v":29990}]
[null,null,null,null,null,null,null,null,null,null,null,{"$f":"SUMPRODUCT($D$8:D792-$H$8:H792)","v":29990}]
[null,null,null,null,null,null,null,null,null,null,null,{"$f":"SUMPRODUCT($D$8:D793-$H$8:H793)","v":29990}]
[null,null,null,null,null,null,null,null,null,null,null,{"$f":"SUMPRODUCT($D$8:D794-$H$8:H794)","v":29990}]
[null,null,null,null,null,null,null,null,null,null,null,{"$f":"SUMPRODUCT($D$8:D795-$H$8:H795)","v":29990}]
[null,null,null,null,null,null,null,null,null,null,null,{"$f":"SUMPRODUCT($D$8:D796-$H$8:H796)","v":29990}]
[null,null,null,null,null,null,null,null,null,null,null,{"$f":"SUMPRODUCT($D$8:D797-$H$8:H797)","v":29990}]
[null,null,null,null,null,null,null,null,null,null,null,{"$f":"SUMPRODUCT($D$8:D798-$H$8:H798)","v":29990}]
[null,null,null,null,null,null,null,null,null,null,null,{"$f":"SUMPRODUCT($D$8:D799-$H$8:H799)","v":29990}]
[null,null,null,null,null,null,null,null,null,null,null,{"$f":"SUMPRODUCT($D$8:D800-$H$8:H800)","v":29990}]
[null,null,null,null,null,null,null,null,null,null,null,{"$f":"SUMPRODUCT($D$8:D801-$H$8:H801)","v":29990}]
[null,null,null,null,null,null,null,null,null,null,null,{"$f":"SUMPRODUCT($D$8:D802-$H$8:H802)","v":29990}]
[null,null,null,null,null,null,null,null,null,null,null,{"$f":"SUMPRODUCT($D$8:D803-$H$8:H803)","v":29990}]
[null,null,null,null,null,null,null,null,null,null,null,{"$f":"SUMPRODUCT($D$8:D804-$H$8:H804)","v":29990}]
[null,null,null,null,null,null,null,null,null,null,null,{"$f":"SUMPRODUCT($D$8:D805-$H$8:H805)","v":29990}]
[null,null,null,null,null,null,null,null,null,null,null,{"$f":"SUMPRODUCT($D$8:D806-$H$8:H806)","v":29990}]
[null,null,null,null,null,null,null,null,null,null,null,{"$f":"SUMPRODUCT($D$8:D807-$H$8:H807)","v":29990}]
[null,null,null,null,null,null,null,null,null,null,null,{"$f":"SUMPRODUCT($D$8:D808-$H$8:H808)","v":29990}]
[null,null,null,null,null,null,null,null,null,null,null,{"$f":"SUMPRODUCT($D$8:D809-$H$8:H809)","v":29990}]
[null,null,null,null,null,null,null,null,null,null,null,{"$f":"SUMPRODUCT($D$8:D810-$H$8:H810)","v":29990}]
[null,null,null,null,null,null,null,null,null,null,null,{"$f":"SUMPRODUCT($D$8:D811-$H$8:H811)","v":29990}]
[null,null,null,null,null,null,null,null,null,null,null,{"$f":"SUMPRODUCT($D$8:D812-$H$8:H812)","v":29990}]
[null,null,null,null,null,null,null,null,null,null,null,{"$f":"SUMPRODUCT($D$8:D813-$H$8:H813)","v":29990}]
[null,null,null,null,null,null,null,null,null,null,null,{"$f":"SUMPRODUCT($D$8:D814-$H$8:H814)","v":29990}]
[null,null,null,null,null,null,null,null,null,null,null,{"$f":"SUMPRODUCT($D$8:D815-$H$8:H815)","v":29990}]
[null,null,null,null,null,null,null,null,null,null,null,{"$f":"SUMPRODUCT($D$8:D816-$H$8:H816)","v":29990}]
[null,null,null,null,null,null,null,null,null,null,null,{"$f":"SUMPRODUCT($D$8:D817-$H$8:H817)","v":29990}]
[null,null,null,null,null,null,null,null,null,null,null,{"$f":"SUMPRODUCT($D$8:D818-$H$8:H818)","v":29990}]
[null,null,null,null,null,null,null,null,null,null,null,{"$f":"SUMPRODUCT($D$8:D819-$H$8:H819)","v":29990}]
[null,null,null,null,null,null,null,null,null,null,null,{"$f":"SUMPRODUCT($D$8:D820-$H$8:H820)","v":29990}]
[null,null,null,null,null,null,null,null,null,null,null,{"$f":"SUMPRODUCT($D$8:D821-$H$8:H821)","v":29990}]
[null,null,null,null,null,null,null,null,null,null,null,{"$f":"SUMPRODUCT($D$8:D822-$H$8:H822)","v":29990}]
[null,null,null,null,null,null,null,null,null,null,null,{"$f":"SUMPRODUCT($D$8:D823-$H$8:H823)","v":29990}]
[null,null,null,null,null,null,null,null,null,null,null,{"$f":"SUMPRODUCT($D$8:D824-$H$8:H824)","v":29990}]
[null,null,null,null,null,null,null,null,null,null,null,{"$f":"SUMPRODUCT($D$8:D825-$H$8:H825)","v":29990}]
[null,null,null,null,null,null,null,null,null,null,null,{"$f":"SUMPRODUCT($D$8:D826-$H$8:H826)","v":29990}]
[null,null,null,null,null,null,null,null,null,null,null,{"$f":"SUMPRODUCT($D$8:D827-$H$8:H827)","v":29990}]
[null,null,null,null,null,null,null,null,null,null,null,{"$f":"SUMPRODUCT($D$8:D828-$H$8:H828)","v":29990}]
[null,null,null,null,null,null,null,null,null,null,null,{"$f":"SUMPRODUCT($D$8:D829-$H$8:H829)","v":29990}]
[null,null,null,null,null,null,null,null,null,null,null,{"$f":"SUMPRODUCT($D$8:D830-$H$8:H830)","v":29990}]
[null,null,null,null,null,null,null,null,null,null,null,{"$f":"SUMPRODUCT($D$8:D831-$H$8:H831)","v":29990}]
[null,null,null,null,null,null,null,null,null,null,null,{"$f":"SUMPRODUCT($D$8:D832-$H$8:H832)","v":29990}]
[null,null,null,null,null,null,null,null,null,null,null,{"$f":"SUMPRODUCT($D$8:D833-$H$8:H833)","v":29990}]
[null,null,null,null,null,null,null,null,null,null,null,{"$f":"SUMPRODUCT($D$8:D834-$H$8:H834)","v":29990}]
[null,null,null,null,null,null,null,null,null,null,null,{"$f":"SUMPRODUCT($D$8:D835-$H$8:H835)","v":29990}]
[null,null,null,null,null,null,null,null,null,null,null,{"$f":"SUMPRODUCT($D$8:D836-$H$8:H836)","v":29990}]
[null,null,null,null,null,null,null,null,null,null,null,{"$f":"SUMPRODUCT($D$8:D837-$H$8:H837)","v":29990}]
[null,null,null,null,null,null,null,null,null,null,null,{"$f":"SUMPRODUCT($D$8:D838-$H$8:H838)","v":29990}]
[null,null,null,null,null,null,null,null,null,null,null,{"$f":"SUMPRODUCT($D$8:D839-$H$8:H839)","v":29990}]
[null,null,null,null,null,null,null,null,null,null,null,{"$f":"SUMPRODUCT($D$8:D840-$H$8:H840)","v":29990}]
[null,null,null,null,null,null,null,null,null,null,null,{"$f":"SUMPRODUCT($D$8:D841-$H$8:H841)","v":29990}]
[null,null,null,null,null,null,null,null,null,null,null,{"$f":"SUMPRODUCT($D$8:D842-$H$8:H842)","v":29990}]
[null,null,null,null,null,null,null,null,null,null,null,{"$f":"SUMPRODUCT($D$8:D843-$H$8:H843)","v":29990}]
[null,null,null,null,null,null,null,null,null,null,null,{"$f":"SUMPRODUCT($D$8:D844-$H$8:H844)","v":29990}]
[null,null,null,null,null,null,null,null,null,null,null,{"$f":"SUMPRODUCT($D$8:D845-$H$8:H845)","v":29990}]
[null,null,null,null,null,null,null,null,null,null,null,{"$f":"SUMPRODUCT($D$8:D846-$H$8:H846)","v":29990}]
[null,null,null,null,null,null,null,null,null,null,null,{"$f":"SUMPRODUCT($D$8:D847-$H$8:H847)","v":29990}]
[null,null,null,null,null,null,null,null,null,null,null,{"$f":"SUMPRODUCT($D$8:D848-$H$8:H848)","v":29990}]
[null,null,null,null,null,null,null,null,null,null,null,{"$f":"SUMPRODUCT($D$8:D849-$H$8:H849)","v":29990}]
[null,null,null,null,null,null,null,null,null,null,null,{"$f":"SUMPRODUCT($D$8:D850-$H$8:H850)","v":29990}]
[null,null,null,null,null,null,null,null,null,null,null,{"$f":"SUMPRODUCT($D$8:D851-$H$8:H851)","v":29990}]
[null,null,null,null,null,null,null,null,null,null,null,{"$f":"SUMPRODUCT($D$8:D852-$H$8:H852)","v":29990}]
[null,null,null,null,null,null,null,null,null,null,null,{"$f":"SUMPRODUCT($D$8:D853-$H$8:H853)","v":29990}]
[null,null,null,null,null,null,null,null,null,null,null,{"$f":"SUMPRODUCT($D$8:D854-$H$8:H854)","v":29990}]
[null,null,null,null,null,null,null,null,null,null,null,{"$f":"SUMPRODUCT($D$8:D855-$H$8:H855)","v":29990}]
[null,null,null,null,null,null,null,null,null,null,null,{"$f":"SUMPRODUCT($D$8:D856-$H$8:H856)","v":29990}]
[null,null,null,null,null,null,null,null,null,null,null,{"$f":"SUMPRODUCT($D$8:D857-$H$8:H857)","v":29990}]
[null,null,null,null,null,null,null,null,null,null,null,{"$f":"SUMPRODUCT($D$8:D858-$H$8:H858)","v":29990}]
[null,null,null,null,null,null,null,null,null,null,null,{"$f":"SUMPRODUCT($D$8:D859-$H$8:H859)","v":29990}]
[null,null,null,null,null,null,null,null,null,null,null,{"$f":"SUMPRODUCT($D$8:D860-$H$8:H860)","v":29990}]
[null,null,null,null,null,null,null,null,null,null,null,{"$f":"SUMPRODUCT($D$8:D861-$H$8:H861)","v":29990}]
[null,null,null,null,null,null,null,null,null,null,null,{"$f":"SUMPRODUCT($D$8:D862-$H$8:H862)","v":29990}]
[null,null,null,null,null,null,null,null,null,null,null,{"$f":"SUMPRODUCT($D$8:D863-$H$8:H863)","v":29990}]
[null,null,null,null,null,null,null,null,null,null,null,{"$f":"SUMPRODUCT($D$8:D864-$H$8:H864)","v":29990}]
[null,null,null,null,null,null,null,null,null,null,null,{"$f":"SUMPRODUCT($D$8:D865-$H$8:H865)","v":29990}]
[null,null,null,null,null,null,null,null,null,null,null,{"$f":"SUMPRODUCT($D$8:D866-$H$8:H866)","v":29990}]
[null,null,null,null,null,null,null,null,null,null,null,{"$f":"SUMPRODUCT($D$8:D867-$H$8:H867)","v":29990}]
[null,null,null,null,null,null,null,null,null,null,null,{"$f":"SUMPRODUCT($D$8:D868-$H$8:H868)","v":29990}]
[null,null,null,null,null,null,null,null,null,null,null,{"$f":"SUMPRODUCT($D$8:D869-$H$8:H869)","v":29990}]
[null,null,null,null,null,null,null,null,null,null,null,{"$f":"SUMPRODUCT($D$8:D870-$H$8:H870)","v":29990}]
[null,null,null,null,null,null,null,null,null,null,null,{"$f":"SUMPRODUCT($D$8:D871-$H$8:H871)","v":29990}]
[null,null,null,null,null,null,null,null,null,null,null,{"$f":"SUMPRODUCT($D$8:D872-$H$8:H872)","v":29990}]
[null,null,null,null,null,null,null,null,null,null,null,{"$f":"SUMPRODUCT($D$8:D873-$H$8:H873)","v":29990}]
[null,null,null,null,null,null,null,null,null,null,null,{"$f":"SUMPRODUCT($D$8:D874-$H$8:H874)","v":29990}]
[null,null,null,null,null,null,null,null,null,null,null,{"$f":"SUMPRODUCT($D$8:D875-$H$8:H875)","v":29990}]
[null,null,null,null,null,null,null,null,null,null,null,{"$f":"SUMPRODUCT($D$8:D876-$H$8:H876)","v":29990}]
[null,null,null,null,null,null,null,null,null,null,null,{"$f":"SUMPRODUCT($D$8:D877-$H$8:H877)","v":29990}]
[null,null,null,null,null,null,null,null,null,null,null,{"$f":"SUMPRODUCT($D$8:D878-$H$8:H878)","v":29990}]
[null,null,null,null,null,null,null,null,null,null,null,{"$f":"SUMPRODUCT($D$8:D879-$H$8:H879)","v":29990}]
[null,null,null,null,null,null,null,null,null,null,null,{"$f":"SUMPRODUCT($D$8:D880-$H$8:H880)","v":29990}]
[null,null,null,null,null,null,null,null,null,null,null,{"$f":"SUMPRODUCT($D$8:D881-$H$8:H881)","v":29990}]
[null,null,null,null,null,null,null,null,null,null,null,{"$f":"SUMPRODUCT($D$8:D882-$H$8:H882)","v":29990}]
[null,null,null,null,null,null,null,null,null,null,null,{"$f":"SUMPRODUCT($D$8:D883-$H$8:H883)","v":29990}]
[null,null,null,null,null,null,null,null,null,null,null,{"$f":"SUMPRODUCT($D$8:D884-$H$8:H884)","v":29990}]
[null,null,null,null,null,null,null,null,null,null,null,{"$f":"SUMPRODUCT($D$8:D885-$H$8:H885)","v":29990}]
[null,null,null,null,null,null,null,null,null,null,null,{"$f":"SUMPRODUCT($D$8:D886-$H$8:H886)","v":29990}]
[null,null,null,null,null,null,null,null,null,null,null,{"$f":"SUMPRODUCT($D$8:D887-$H$8:H887)","v":29990}]
[null,null,null,null,null,null,null,null,null,null,null,{"$f":"SUMPRODUCT($D$8:D888-$H$8:H888)","v":29990}]
[null,null,null,null,null,null,null,null,null,null,null,{"$f":"SUMPRODUCT($D$8:D889-$H$8:H889)","v":29990}]
[null,null,null,null,null,null,null,null,null,null,null,{"$f":"SUMPRODUCT($D$8:D890-$H$8:H890)","v":29990}]
[null,null,null,null,null,null,null,null,null,null,null,{"$f":"SUMPRODUCT($D$8:D891-$H$8:H891)","v":29990}]
[null,null,null,null,null,null,null,null,null,null,null,{"$f":"SUMPRODUCT($D$8:D892-$H$8:H892)","v":29990}]
[null,null,null,null,null,null,null,null,null,null,null,{"$f":"SUMPRODUCT($D$8:D893-$H$8:H893)","v":29990}]
[null,null,null,null,null,null,null,null,null,null,null,{"$f":"SUMPRODUCT($D$8:D894-$H$8:H894)","v":29990}]
[null,null,null,null,null,null,null,null,null,null,null,{"$f":"SUMPRODUCT($D$8:D895-$H$8:H895)","v":29990}]
[null,null,null,null,null,null,null,null,null,null,null,{"$f":"SUMPRODUCT($D$8:D896-$H$8:H896)","v":29990}]
[null,null,null,null,null,null,null,null,null,null,null,{"$f":"SUMPRODUCT($D$8:D897-$H$8:H897)","v":29990}]
[null,null,null,null,null,null,null,null,null,null,null,{"$f":"SUMPRODUCT($D$8:D898-$H$8:H898)","v":29990}]
[null,null,null,null,null,null,null,null,null,null,null,{"$f":"SUMPRODUCT($D$8:D899-$H$8:H899)","v":29990}]
[null,null,null,null,null,null,null,null,null,null,null,{"$f":"SUMPRODUCT($D$8:D900-$H$8:H900)","v":29990}]
[null,null,null,null,null,null,null,null,null,null,null,{"$f":"SUMPRODUCT($D$8:D901-$H$8:H901)","v":29990}]
[null,null,null,null,null,null,null,null,null,null,null,{"$f":"SUMPRODUCT($D$8:D902-$H$8:H902)","v":29990}]
[null,null,null,null,null,null,null,null,null,null,null,{"$f":"SUMPRODUCT($D$8:D903-$H$8:H903)","v":29990}]
[null,null,null,null,null,null,null,null,null,null,null,{"$f":"SUMPRODUCT($D$8:D904-$H$8:H904)","v":29990}]
[null,null,null,null,null,null,null,null,null,null,null,{"$f":"SUMPRODUCT($D$8:D905-$H$8:H905)","v":29990}]
[null,null,null,null,null,null,null,null,null,null,null,{"$f":"SUMPRODUCT($D$8:D906-$H$8:H906)","v":29990}]
[null,null,null,null,null,null,null,null,null,null,null,{"$f":"SUMPRODUCT($D$8:D907-$H$8:H907)","v":29990}]
[null,null,null,null,null,null,null,null,null,null,null,{"$f":"SUMPRODUCT($D$8:D908-$H$8:H908)","v":29990}]
[null,null,null,null,null,null,null,null,null,null,null,{"$f":"SUMPRODUCT($D$8:D909-$H$8:H909)","v":29990}]
[null,null,null,null,null,null,null,null,null,null,null,{"$f":"SUMPRODUCT($D$8:D910-$H$8:H910)","v":29990}]
[null,null,null,null,null,null,null,null,null,null,null,{"$f":"SUMPRODUCT($D$8:D911-$H$8:H911)","v":29990}]
[null,null,null,null,null,null,null,null,null,null,null,{"$f":"SUMPRODUCT($D$8:D912-$H$8:H912)","v":29990}]
[null,null,null,null,null,null,null,null,null,null,null,{"$f":"SUMPRODUCT($D$8:D913-$H$8:H913)","v":29990}]
[null,null,null,null,null,null,null,null,null,null,null,{"$f":"SUMPRODUCT($D$8:D914-$H$8:H914)","v":29990}]
[null,null,null,null,null,null,null,null,null,null,null,{"$f":"SUMPRODUCT($D$8:D915-$H$8:H915)","v":29990}]
[null,null,null,null,null,null,null,null,null,null,null,{"$f":"SUMPRODUCT($D$8:D916-$H$8:H916)","v":29990}]
[null,null,null,null,null,null,null,null,null,null,null,{"$f":"SUMPRODUCT($D$8:D917-$H$8:H917)","v":29990}]
[null,null,null,null,null,null,null,null,null,null,null,{"$f":"SUMPRODUCT($D$8:D918-$H$8:H918)","v":29990}]
[null,null,null,null,null,null,null,null,null,null,null,{"$f":"SUMPRODUCT($D$8:D919-$H$8:H919)","v":29990}]
[null,null,null,null,null,null,null,null,null,null,null,{"$f":"SUMPRODUCT($D$8:D920-$H$8:H920)","v":29990}]
[null,null,null,null,null,null,null,null,null,null,null,{"$f":"SUMPRODUCT($D$8:D921-$H$8:H921)","v":29990}]
[null,null,null,null,null,null,null,null,null,null,null,{"$f":"SUMPRODUCT($D$8:D922-$H$8:H922)","v":29990}]
[null,null,null,null,null,null,null,null,null,null,null,{"$f":"SUMPRODUCT($D$8:D923-$H$8:H923)","v":29990}]
[null,null,null,null,null,null,null,null,null,null,null,{"$f":"SUMPRODUCT($D$8:D924-$H$8:H924)","v":29990}]
[null,null,null,null,null,null,null,null,null,null,null,{"$f":"SUMPRODUCT($D$8:D925-$H$8:H925)","v":29990}]
[null,null,null,null,null,null,null,null,null,null,null,{"$f":"SUMPRODUCT($D$8:D926-$H$8:H926)","v":29990}]
[null,null,null,null,null,null,null,null,null,null,null,{"$f":"SUMPRODUCT($D$8:D927-$H$8:H927)","v":29990}]
[null,null,null,null,null,null,null,null,null,null,null,{"$f":"SUMPRODUCT($D$8:D928-$H$8:H928)","v":29990}]
[null,null,null,null,null,null,null,null,null,null,null,{"$f":"SUMPRODUCT($D$8:D929-$H$8:H929)","v":29990}]
[null,null,null,null,null,null,null,null,null,null,null,{"$f":"SUMPRODUCT($D$8:D930-$H$8:H930)","v":29990}]
[null,null,null,null,null,null,null,null,null,null,null,{"$f":"SUMPRODUCT($D$8:D931-$H$8:H931)","v":29990}]
[null,null,null,null,null,null,null,null,null,null,null,{"$f":"SUMPRODUCT($D$8:D932-$H$8:H932)","v":29990}]
[null,null,null,null,null,null,null,null,null,null,null,{"$f":"SUMPRODUCT($D$8:D933-$H$8:H933)","v":29990}]
[null,null,null,null,null,null,null,null,null,null,null,{"$f":"SUMPRODUCT($D$8:D934-$H$8:H934)","v":29990}]
[null,null,null,null,null,null,null,null,null,null,null,{"$f":"SUMPRODUCT($D$8:D935-$H$8:H935)","v":29990}]
[null,null,null,null,null,null,null,null,null,null,null,{"$f":"SUMPRODUCT($D$8:D936-$H$8:H936)","v":29990}]
[null,null,null,null,null,null,null,null,null,null,null,{"$f":"SUMPRODUCT($D$8:D937-$H$8:H937)","v":29990}]
[null,null,null,null,null,null,null,null,null,null,null,{"$f":"SUMPRODUCT($D$8:D938-$H$8:H938)","v":29990}]
[null,null,null,null,null,null,null,null,null,null,null,{"$f":"SUMPRODUCT($D$8:D939-$H$8:H939)","v":29990}]
[null,null,null,null,null,null,null,null,null,null,null,{"$f":"SUMPRODUCT($D$8:D940-$H$8:H940)","v":29990}]
[null,null,null,null,null,null,null,null,null,null,null,{"$f":"SUMPRODUCT($D$8:D941-$H$8:H941)","v":29990}]
[null,null,null,null,null,null,null,null,null,null,null,{"$f":"SUMPRODUCT($D$8:D942-$H$8:H942)","v":29990}]
[null,null,null,null,null,null,null,null,null,null,null,{"$f":"SUMPRODUCT($D$8:D943-$H$8:H943)","v":29990}]
[null,null,null,null,null,null,null,null,null,null,null,{"$f":"SUMPRODUCT($D$8:D944-$H$8:H944)","v":29990}]
[null,null,null,null,null,null,null,null,null,null,null,{"$f":"SUMPRODUCT($D$8:D945-$H$8:H945)","v":29990}]
[null,null,null,null,null,null,null,null,null,null,null,{"$f":"SUMPRODUCT($D$8:D946-$H$8:H946)","v":29990}]
[null,null,null,null,null,null,null,null,null,null,null,{"$f":"SUMPRODUCT($D$8:D947-$H$8:H947)","v":29990}]
[null,null,null,null,null,null,null,null,null,null,null,{"$f":"SUMPRODUCT($D$8:D948-$H$8:H948)","v":29990}]
[null,null,null,null,null,null,null,null,null,null,null,{"$f":"SUMPRODUCT($D$8:D949-$H$8:H949)","v":29990}]
[null,null,null,null,null,null,null,null,null,null,null,{"$f":"SUMPRODUCT($D$8:D950-$H$8:H950)","v":29990}]
[null,null,null,null,null,null,null,null,null,null,null,{"$f":"SUMPRODUCT($D$8:D951-$H$8:H951)","v":29990}]
[null,null,null,null,null,null,null,null,null,null,null,{"$f":"SUMPRODUCT($D$8:D952-$H$8:H952)","v":29990}]
[null,null,null,null,null,null,null,null,null,null,null,{"$f":"SUMPRODUCT($D$8:D953-$H$8:H953)","v":29990}]
[null,null,null,null,null,null,null,null,null,null,null,{"$f":"SUMPRODUCT($D$8:D954-$H$8:H954)","v":29990}]
[null,null,null,null,null,null,null,null,null,null,null,{"$f":"SUMPRODUCT($D$8:D955-$H$8:H955)","v":29990}]
[null,null,null,null,null,null,null,null,null,null,null,{"$f":"SUMPRODUCT($D$8:D956-$H$8:H956)","v":29990}]
[null,null,null,null,null,null,null,null,null,null,null,{"$f":"SUMPRODUCT($D$8:D957-$H$8:H957)","v":29990}]
[null,null,null,null,null,null,null,null,null,null,null,{"$f":"SUMPRODUCT($D$8:D958-$H$8:H958)","v":29990}]
[null,null,null,null,null,null,null,null,null,null,null,{"$f":"SUMPRODUCT($D$8:D959-$H$8:H959)","v":29990}]
[null,null,null,null,null,null,null,null,null,null,null,{"$f":"SUMPRODUCT($D$8:D960-$H$8:H960)","v":29990}]
[null,null,null,null,null,null,null,null,null,null,null,{"$f":"SUMPRODUCT($D$8:D961-$H$8:H961)","v":29990}]
[null,null,null,null,null,null,null,null,null,null,null,{"$f":"SUMPRODUCT($D$8:D962-$H$8:H962)","v":29990}]
[null,null,null,null,null,null,null,null,null,null,null,{"$f":"SUMPRODUCT($D$8:D963-$H$8:H963)","v":29990}]
[null,null,null,null,null,null,null,null,null,null,null,{"$f":"SUMPRODUCT($D$8:D964-$H$8:H964)","v":29990}]
[null,null,null,null,null,null,null,null,null,null,null,{"$f":"SUMPRODUCT($D$8:D965-$H$8:H965)","v":29990}]
[null,null,null,null,null,null,null,null,null,null,null,{"$f":"SUMPRODUCT($D$8:D966-$H$8:H966)","v":29990}]
[null,null,null,null,null,null,null,null,null,null,null,{"$f":"SUMPRODUCT($D$8:D967-$H$8:H967)","v":29990}]
[null,null,null,null,null,null,null,null,null,null,null,{"$f":"SUMPRODUCT($D$8:D968-$H$8:H968)","v":29990}]
[null,null,null,null,null,null,null,null,null,null,null,{"$f":"SUMPRODUCT($D$8:D969-$H$8:H969)","v":29990}]
[null,null,null,null,null,null,null,null,null,null,null,{"$f":"SUMPRODUCT($D$8:D970-$H$8:H970)","v":29990}]
[null,null,null,null,null,null,null,null,null,null,null,{"$f":"SUMPRODUCT($D$8:D971-$H$8:H971)","v":29990}]
[null,null,null,null,null,null,null,null,null,null,null,{"$f":"SUMPRODUCT($D$8:D972-$H$8:H972)","v":29990}]
[null,null,null,null,null,null,null,null,null,null,null,{"$f":"SUMPRODUCT($D$8:D973-$H$8:H973)","v":29990}]
[null,null,null,null,null,null,null,null,null,null,null,{"$f":"SUMPRODUCT($D$8:D974-$H$8:H974)","v":29990}]
[null,null,null,null,null,null,null,null,null,null,null,{"$f":"SUMPRODUCT($D$8:D975-$H$8:H975)","v":29990}]
[null,null,null,null,null,null,null,null,null,null,null,{"$f":"SUMPRODUCT($D$8:D976-$H$8:H976)","v":29990}]
[null,null,null,null,null,null,null,null,null,null,null,{"$f":"SUMPRODUCT($D$8:D977-$H$8:H977)","v":29990}]
[null,null,null,null,null,null,null,null,null,null,null,{"$f":"SUMPRODUCT($D$8:D978-$H$8:H978)","v":29990}]
[null,null,null,null,null,null,null,null,null,null,null,{"$f":"SUMPRODUCT($D$8:D979-$H$8:H979)","v":29990}]
[null,null,null,null,null,null,null,null,null,null,null,{"$f":"SUMPRODUCT($D$8:D980-$H$8:H980)","v":29990}]
[null,null,null,null,null,null,null,null,null,null,null,{"$f":"SUMPRODUCT($D$8:D981-$H$8:H981)","v":29990}]
[null,null,null,null,null,null,null,null,null,null,null,{"$f":"SUMPRODUCT($D$8:D982-$H$8:H982)","v":29990}]
[null,null,null,null,null,null,null,null,null,null,null,{"$f":"SUMPRODUCT($D$8:D983-$H$8:H983)","v":29990}]
[null,null,null,null,null,null,null,null,null,null,null,{"$f":"SUMPRODUCT($D$8:D984-$H$8:H984)","v":29990}]
[null,null,null,null,null,null,null,null,null,null,null,{"$f":"SUMPRODUCT($D$8:D985-$H$8:H985)","v":29990}]
[null,null,null,null,null,null,null,null,null,null,null,{"$f":"SUMPRODUCT($D$8:D986-$H$8:H986)","v":29990}]
[null,null,null,null,null,null,null,null,null,null,null,{"$f":"SUMPRODUCT($D$8:D987-$H$8:H987)","v":29990}]
[null,null,null,null,null,null,null,null,null,null,null,{"$f":"SUMPRODUCT($D$8:D988-$H$8:H988)","v":29990}]
[null,null,null,null,null,null,null,null,null,null,null,{"$f":"SUMPRODUCT($D$8:D989-$H$8:H989)","v":29990}]
[null,null,null,null,null,null,null,null,null,null,null,{"$f":"SUMPRODUCT($D$8:D990-$H$8:H990)","v":29990}]
[null,null,null,null,null,null,null,null,null,null,null,{"$f":"SUMPRODUCT($D$8:D991-$H$8:H991)","v":29990}]
[null,null,null,null,null,null,null,null,null,null,null,{"$f":"SUMPRODUCT($D$8:D992-$H$8:H992)","v":29990}]
[null,null,null,null,null,null,null,null,null,null,null,{"$f":"SUMPRODUCT($D$8:D993-$H$8:H993)","v":29990}]
[null,null,null,null,null,null,null,null,null,null,null,{"$f":"SUMPRODUCT($D$8:D994-$H$8:H994)","v":29990}]
[null,null,null,null,null,null,null,null,null,null,null,{"$f":"SUMPRODUCT($D$8:D995-$H$8:H995)","v":29990}]
[null,null,null,null,null,null,null,null,null,null,null,{"$f":"SUMPRODUCT($D$8:D996-$H$8:H996)","v":29990}]
[null,null,null,null,null,null,null,null,null,null,null,{"$f":"SUMPRODUCT($D$8:D997-$H$8:H997)","v":29990}]
[null,null,null,null,null,null,null,null,null,null,null,{"$f":"SUMPRODUCT($D$8:D998-$H$8:H998)","v":29990}]
[null,null,null,null,null,null,null,null,null,null,null,{"$f":"SUMPRODUCT($D$8:D999-$H$8:H999)","v":29990}]
[null,null,null,null,null,null,null,null,null,null,null,{"$f":"SUMPRODUCT($D$8:D1000-$H$8:H1000)","v":29990}]
[null,null,null,null,null,null,null,null,null,null,null,{"$f":"SUMPRODUCT($D$8:D1001-$H$8:H1001)","v":29990}]
[null,null,null,null,null,null,null,null,null,null,null,{"$f":"SUMPRODUCT($D$8:D1002-$H$8:H1002)","v":29990}]
[null,null,null,null,null,null,null,null,null,null,null,{"$f":"SUMPRODUCT($D$8:D1003-$H$8:H1003)","v":29990}]
[null,null,null,null,null,null,null,null,null,null,null,{"$f":"SUMPRODUCT($D$8:D1004-$H$8:H1004)","v":29990}]
[null,null,null,null,null,null,null,null,null,null,null,{"$f":"SUMPRODUCT($D$8:D1005-$H$8:H1005)","v":29990}]
[null,null,null,null,null,null,null,null,null,null,null,{"$f":"SUMPRODUCT($D$8:D1006-$H$8:H1006)","v":29990}]
[null,null,null,null,null,null,null,null,null,null,null,{"$f":"SUMPRODUCT($D$8:D1007-$H$8:H1007)","v":29990}]
[null,null,null,null,null,null,null,null,null,null,null,{"$f":"SUMPRODUCT($D$8:D1008-$H$8:H1008)","v":29990}]
[null,null,null,null,null,null,null,null,null,null,null,{"$f":"SUMPRODUCT($D$8:D1009-$H$8:H1009)","v":29990}]
[null,null,null,null,null,null,null,null,null,null,null,{"$f":"SUMPRODUCT($D$8:D1010-$H$8:H1010)","v":29990}]
[null,null,null,null,null,null,null,null,null,null,null,{"$f":"SUMPRODUCT($D$8:D1011-$H$8:H1011)","v":29990}]
[null,null,null,null,null,null,null,null,null,null,null,{"$f":"SUMPRODUCT($D$8:D1012-$H$8:H1012)","v":29990}]
[null,null,null,null,null,null,null,null,null,null,null,{"$f":"SUMPRODUCT($D$8:D1013-$H$8:H1013)","v":29990}]
[null,null,null,null,null,null,null,null,null,null,null,{"$f":"SUMPRODUCT($D$8:D1014-$H$8:H1014)","v":29990}]
[null,null,null,null,null,null,null,null,null,null,null,{"$f":"SUMPRODUCT($D$8:D1015-$H$8:H1015)","v":29990}]
[null,null,null,null,null,null,null,null,null,null,null,{"$f":"SUMPRODUCT($D$8:D1016-$H$8:H1016)","v":29990}]
[null,null,null,null,null,null,null,null,null,null,null,{"$f":"SUMPRODUCT($D$8:D1017-$H$8:H1017)","v":29990}]
[null,null,null,null,null,null,null,null,null,null,null,{"$f":"SUMPRODUCT($D$8:D1018-$H$8:H1018)","v":29990}]
[null,null,null,null,null,null,null,null,null,null,null,{"$f":"SUMPRODUCT($D$8:D1019-$H$8:H1019)","v":29990}]
[null,null,null,null,null,null,null,null,null,null,null,{"$f":"SUMPRODUCT($D$8:D1020-$H$8:H1020)","v":29990}]
[null,null,null,null,null,null,null,null,null,null,null,{"$f":"SUMPRODUCT($D$8:D1021-$H$8:H1021)","v":29990}]
[null,null,null,null,null,null,null,null,null,null,null,{"$f":"SUMPRODUCT($D$8:D1022-$H$8:H1022)","v":29990}]
[null,null,null,null,null,null,null,null,null,null,null,{"$f":"SUMPRODUCT($D$8:D1023-$H$8:H1023)","v":29990}]
[null,null,null,null,null,null,null,null,null,null,null,{"$f":"SUMPRODUCT($D$8:D1024-$H$8:H1024)","v":29990}]
[null,null,null,null,null,null,null,null,null,null,null,{"$f":"SUMPRODUCT($D$8:D1025-$H$8:H1025)","v":29990}]
[null,null,null,null,null,null,null,null,null,null,null,{"$f":"SUMPRODUCT($D$8:D1026-$H$8:H1026)","v":29990}]
[null,null,null,null,null,null,null,null,null,null,null,{"$f":"SUMPRODUCT($D$8:D1027-$H$8:H1027)","v":29990}]
[null,null,null,null,null,null,null,null,null,null,null,{"$f":"SUMPRODUCT($D$8:D1028-$H$8:H1028)","v":29990}]
[null,null,null,null,null,null,null,null,null,null,null,{"$f":"SUMPRODUCT($D$8:D1029-$H$8:H1029)","v":29990}]
[null,null,null,null,null,null,null,null,null,null,null,{"$f":"SUMPRODUCT($D$8:D1030-$H$8:H1030)","v":29990}]
[null,null,null,null,null,null,null,null,null,null,null,{"$f":"SUMPRODUCT($D$8:D1031-$H$8:H1031)","v":29990}]
[null,null,null,null,null,null,null,null,null,null,null,{"$f":"SUMPRODUCT($D$8:D1032-$H$8:H1032)","v":29990}]
[null,null,null,null,null,null,null,null,null,null,null,{"$f":"SUMPRODUCT($D$8:D1033-$H$8:H1033)","v":29990}]
[null,null,null,null,null,null,null,null,null,null,null,{"$f":"SUMPRODUCT($D$8:D1034-$H$8:H1034)","v":29990}]
[null,null,null,null,null,null,null,null,null,null,null,{"$f":"SUMPRODUCT($D$8:D1035-$H$8:H1035)","v":29990}]
[null,null,null,null,null,null,null,null,null,null,null,{"$f":"SUMPRODUCT($D$8:D1036-$H$8:H1036)","v":29990}]
[null,null,null,null,null,null,null,null,null,null,null,{"$f":"SUMPRODUCT($D$8:D1037-$H$8:H1037)","v":29990}]
[null,null,null,null,null,null,null,null,null,null,null,{"$f":"SUMPRODUCT($D$8:D1038-$H$8:H1038)","v":29990}]
[null,null,null,null,null,null,null,null,null,null,null,{"$f":"SUMPRODUCT($D$8:D1039-$H$8:H1039)","v":29990}]
[null,null,null,null,null,null,null,null,null,null,null,{"$f":"SUMPRODUCT($D$8:D1040-$H$8:H1040)","v":29990}]
[null,null,null,null,null,null,null,null,null,null,null,{"$f":"SUMPRODUCT($D$8:D1041-$H$8:H1041)","v":29990}]
[null,null,null,null,null,null,null,null,null,null,null,{"$f":"SUMPRODUCT($D$8:D1042-$H$8:H1042)","v":29990}]
[null,null,null,null,null,null,null,null,null,null,null,{"$f":"SUMPRODUCT($D$8:D1043-$H$8:H1043)","v":29990}]
[null,null,null,null,null,null,null,null,null,null,null,{"$f":"SUMPRODUCT($D$8:D1044-$H$8:H1044)","v":29990}]
[null,null,null,null,null,null,null,null,null,null,null,{"$f":"SUMPRODUCT($D$8:D1045-$H$8:H1045)","v":29990}]
[null,null,null,null,null,null,null,null,null,null,null,{"$f":"SUMPRODUCT($D$8:D1046-$H$8:H1046)","v":29990}]
[null,null,null,null,null,null,null,null,null,null,null,{"$f":"SUMPRODUCT($D$8:D1047-$H$8:H1047)","v":29990}]
[null,null,null,null,null,null,null,null,null,null,null,{"$f":"SUMPRODUCT($D$8:D1048-$H$8:H1048)","v":29990}]
[null,null,null,null,null,null,null,null,null,null,null,{"$f":"SUMPRODUCT($D$8:D1049-$H$8:H1049)","v":29990}]
[null,null,null,null,null,null,null,null,null,null,null,{"$f":"SUMPRODUCT($D$8:D1050-$H$8:H1050)","v":29990}]
[null,null,null,null,null,null,null,null,null,null,null,{"$f":"SUMPRODUCT($D$8:D1051-$H$8:H1051)","v":29990}]
[null,null,null,null,null,null,null,null,null,null,null,{"$f":"SUMPRODUCT($D$8:D1052-$H$8:H1052)","v":29990}]
[null,null,null,null,null,null,null,null,null,null,null,{"$f":"SUMPRODUCT($D$8:D1053-$H$8:H1053)","v":29990}]
[null,null,null,null,null,null,null,null,null,null,null,{"$f":"SUMPRODUCT($D$8:D1054-$H$8:H1054)","v":29990}]
[null,null,null,null,null,null,null,null,null,null,null,{"$f":"SUMPRODUCT($D$8:D1055-$H$8:H1055)","v":29990}]
[null,null,null,null,null,null,null,null,null,null,null,{"$f":"SUMPRODUCT($D$8:D1056-$H$8:H1056)","v":29990}]
[null,null,null,null,null,null,null,null,null,null,null,{"$f":"SUMPRODUCT($D$8:D1057-$H$8:H1057)","v":29990}]
[null,null,null,null,null,null,null,null,null,null,null,{"$f":"SUMPRODUCT($D$8:D1058-$H$8:H1058)","v":29990}]
[null,null,null,null,null,null,null,null,null,null,null,{"$f":"SUMPRODUCT($D$8:D1059-$H$8:H1059)","v":29990}]
[null,null,null,null,null,null,null,null,null,null,null,{"$f":"SUMPRODUCT($D$8:D1060-$H$8:H1060)","v":29990}]
[null,null,null,null,null,null,null,null,null,null,null,{"$f":"SUMPRODUCT($D$8:D1061-$H$8:H1061)","v":29990}]
[null,null,null,null,null,null,null,null,null,null,null,{"$f":"SUMPRODUCT($D$8:D1062-$H$8:H1062)","v":29990}]
[null,null,null,null,null,null,null,null,null,null,null,{"$f":"SUMPRODUCT($D$8:D1063-$H$8:H1063)","v":29990}]
[null,null,null,null,null,null,null,null,null,null,null,{"$f":"SUMPRODUCT($D$8:D1064-$H$8:H1064)","v":29990}]
[null,null,null,null,null,null,null,null,null,null,null,{"$f":"SUMPRODUCT($D$8:D1065-$H$8:H1065)","v":29990}]
[null,null,null,null,null,null,null,null,null,null,null,{"$f":"SUMPRODUCT($D$8:D1066-$H$8:H1066)","v":29990}]
[null,null,null,null,null,null,null,null,null,null,null,{"$f":"SUMPRODUCT($D$8:D1067-$H$8:H1067)","v":29990}]
[null,null,null,null,null,null,null,null,null,null,null,{"$f":"SUMPRODUCT($D$8:D1068-$H$8:H1068)","v":29990}]
[null,null,null,null,null,null,null,null,null,null,null,{"$f":"SUMPRODUCT($D$8:D1069-$H$8:H1069)","v":29990}]
[null,null,null,null,null,null,null,null,null,null,null,{"$f":"SUMPRODUCT($D$8:D1070-$H$8:H1070)","v":29990}]
[null,null,null,null,null,null,null,null,null,null,null,{"$f":"SUMPRODUCT($D$8:D1071-$H$8:H1071)","v":29990}]
[null,null,null,null,null,null,null,null,null,null,null,{"$f":"SUMPRODUCT($D$8:D1072-$H$8:H1072)","v":29990}]
[null,null,null,null,null,null,null,null,null,null,null,{"$f":"SUMPRODUCT($D$8:D1073-$H$8:H1073)","v":29990}]
[null,null,null,null,null,null,null,null,null,null,null,{"$f":"SUMPRODUCT($D$8:D1074-$H$8:H1074)","v":29990}]
[null,null,null,null,null,null,null,null,null,null,null,{"$f":"SUMPRODUCT($D$8:D1075-$H$8:H1075)","v":29990}]
[null,null,null,null,null,null,null,null,null,null,null,{"$f":"SUMPRODUCT($D$8:D1076-$H$8:H1076)","v":29990}]
[null,null,null,null,null,null,null,null,null,null,null,{"$f":"SUMPRODUCT($D$8:D1077-$H$8:H1077)","v":29990}]
[null,null,null,null,null,null,null,null,null,null,null,{"$f":"SUMPRODUCT($D$8:D1078-$H$8:H1078)","v":29990}]
[null,null,null,null,null,null,null,null,null,null,null,{"$f":"SUMPRODUCT($D$8:D1079-$H$8:H1079)","v":29990}]
[null,null,null,null,null,null,null,null,null,null,null,{"$f":"SUMPRODUCT($D$8:D1080-$H$8:H1080)","v":29990}]
[null,null,null,null,null,null,null,null,null,null,null,{"$f":"SUMPRODUCT($D$8:D1081-$H$8:H1081)","v":29990}]
[null,null,null,null,null,null,null,null,null,null,null,{"$f":"SUMPRODUCT($D$8:D1082-$H$8:H1082)","v":29990}]
[null,null,null,null,null,null,null,null,null,null,null,{"$f":"SUMPRODUCT($D$8:D1083-$H$8:H1083)","v":29990}]
[null,null,null,null,null,null,null,null,null,null,null,{"$f":"SUMPRODUCT($D$8:D1084-$H$8:H1084)","v":29990}]
[null,null,null,null,null,null,null,null,null,null,null,{"$f":"SUMPRODUCT($D$8:D1085-$H$8:H1085)","v":29990}]
[null,null,null,null,null,null,null,null,null,null,null,{"$f":"SUMPRODUCT($D$8:D1086-$H$8:H1086)","v":29990}]
[null,null,null,null,null,null,null,null,null,null,null,{"$f":"SUMPRODUCT($D$8:D1087-$H$8:H1087)","v":29990}]
[null,null,null,null,null,null,null,null,null,null,null,{"$f":"SUMPRODUCT($D$8:D1088-$H$8:H1088)","v":29990}]
[null,null,null,null,null,null,null,null,null,null,null,{"$f":"SUMPRODUCT($D$8:D1089-$H$8:H1089)","v":29990}]
[null,null,null,null,null,null,null,null,null,null,null,{"$f":"SUMPRODUCT($D$8:D1090-$H$8:H1090)","v":29990}]
[null,null,null,null,null,null,null,null,null,null,null,{"$f":"SUMPRODUCT($D$8:D1091-$H$8:H1091)","v":29990}]
[null,null,null,null,null,null,null,null,null,null,null,{"$f":"SUMPRODUCT($D$8:D1092-$H$8:H1092)","v":29990}]
[null,null,null,null,null,null,null,null,null,null,null,{"$f":"SUMPRODUCT($D$8:D1093-$H$8:H1093)","v":29990}]
[null,null,null,null,null,null,null,null,null,null,null,{"$f":"SUMPRODUCT($D$8:D1094-$H$8:H1094)","v":29990}]
[null,null,null,null,null,null,null,null,null,null,null,{"$f":"SUMPRODUCT($D$8:D1095-$H$8:H1095)","v":29990}]
[null,null,null,null,null,null,null,null,null,null,null,{"$f":"SUMPRODUCT($D$8:D1096-$H$8:H1096)","v":29990}]
[null,null,null,null,null,null,null,null,null,null,null,{"$f":"SUMPRODUCT($D$8:D1097-$H$8:H1097)","v":29990}]
[null,null,null,null,null,null,null,null,null,null,null,{"$f":"SUMPRODUCT($D$8:D1098-$H$8:H1098)","v":29990}]
[null,null,null,null,null,null,null,null,null,null,null,{"$f":"SUMPRODUCT($D$8:D1099-$H$8:H1099)","v":29990}]
[null,null,null,null,null,null,null,null,null,null,null,{"$f":"SUMPRODUCT($D$8:D1100-$H$8:H1100)","v":29990}]
[null,null,null,null,null,null,null,null,null,null,null,{"$f":"SUMPRODUCT($D$8:D1101-$H$8:H1101)","v":29990}]
[null,null,null,null,null,null,null,null,null,null,null,{"$f":"SUMPRODUCT($D$8:D1102-$H$8:H1102)","v":29990}]
[null,null,null,null,null,null,null,null,null,null,null,{"$f":"SUMPRODUCT($D$8:D1103-$H$8:H1103)","v":29990}]
[null,null,null,null,null,null,null,null,null,null,null,{"$f":"SUMPRODUCT($D$8:D1104-$H$8:H1104)","v":29990}]
[null,null,null,null,null,null,null,null,null,null,null,{"$f":"SUMPRODUCT($D$8:D1105-$H$8:H1105)","v":29990}]
[null,null,null,null,null,null,null,null,null,null,null,{"$f":"SUMPRODUCT($D$8:D1106-$H$8:H1106)","v":29990}]
[null,null,null,null,null,null,null,null,null,null,null,{"$f":"SUMPRODUCT($D$8:D1107-$H$8:H1107)","v":29990}]
[null,null,null,null,null,null,null,null,null,null,null,{"$f":"SUMPRODUCT($D$8:D1108-$H$8:H1108)","v":29990}]
[null,null,null,null,null,null,null,null,null,null,null,{"$f":"SUMPRODUCT($D$8:D1109-$H$8:H1109)","v":29990}]
[null,null,null,null,null,null,null,null,null,null,null,{"$f":"SUMPRODUCT($D$8:D1110-$H$8:H1110)","v":29990}]
[null,null,null,null,null,null,null,null,null,null,null,{"$f":"SUMPRODUCT($D$8:D1111-$H$8:H1111)","v":29990}]
[null,null,null,null,null,null,null,null,null,null,null,{"$f":"SUMPRODUCT($D$8:D1112-$H$8:H1112)","v":29990}]
[null,null,null,null,null,null,null,null,null,null,null,{"$f":"SUMPRODUCT($D$8:D1113-$H$8:H1113)","v":29990}]
[null,null,null,null,null,null,null,null,null,null,null,{"$f":"SUMPRODUCT($D$8:D1114-$H$8:H1114)","v":29990}]
[null,null,null,null,null,null,null,null,null,null,null,{"$f":"SUMPRODUCT($D$8:D1115-$H$8:H1115)","v":29990}]
[null,null,null,null,null,null,null,null,null,null,null,{"$f":"SUMPRODUCT($D$8:D1116-$H$8:H1116)","v":29990}]
[null,null,null,null,null,null,null,null,null,null,null,{"$f":"SUMPRODUCT($D$8:D1117-$H$8:H1117)","v":29990}]
[null,null,null,null,null,null,null,null,null,null,null,{"$f":"SUMPRODUCT($D$8:D1118-$H$8:H1118)","v":29990}]
[null,null,null,null,null,null,null,null,null,null,null,{"$f":"SUMPRODUCT($D$8:D1119-$H$8:H1119)","v":29990}]
[null,null,null,null,null,null,null,null,null,null,null,{"$f":"SUMPRODUCT($D$8:D1120-$H$8:H1120)","v":29990}]
[null,null,null,null,null,null,null,null,null,null,null,{"$f":"SUMPRODUCT($D$8:D1121-$H$8:H1121)","v":29990}]
[null,null,null,null,null,null,null,null,null,null,null,{"$f":"SUMPRODUCT($D$8:D1122-$H$8:H1122)","v":29990}]
[null,null,null,null,null,null,null,null,null,null,null,{"$f":"SUMPRODUCT($D$8:D1123-$H$8:H1123)","v":29990}]
[null,null,null,null,null,null,null,null,null,null,null,{"$f":"SUMPRODUCT($D$8:D1124-$H$8:H1124)","v":29990}]
[null,null,null,null,null,null,null,null,null,null,null,{"$f":"SUMPRODUCT($D$8:D1125-$H$8:H1125)","v":29990}]
[null,null,null,null,null,null,null,null,null,null,null,{"$f":"SUMPRODUCT($D$8:D1126-$H$8:H1126)","v":29990}]
[null,null,null,null,null,null,null,null,null,null,null,{"$f":"SUMPRODUCT($D$8:D1127-$H$8:H1127)","v":29990}]
[null,null,null,null,null,null,null,null,null,null,null,{"$f":"SUMPRODUCT($D$8:D1128-$H$8:H1128)","v":29990}]
[null,null,null,null,null,null,null,null,null,null,null,{"$f":"SUMPRODUCT($D$8:D1129-$H$8:H1129)","v":29990}]
[null,null,null,null,null,null,null,null,null,null,null,{"$f":"SUMPRODUCT($D$8:D1130-$H$8:H1130)","v":29990}]
[null,null,null,null,null,null,null,null,null,null,null,{"$f":"SUMPRODUCT($D$8:D1131-$H$8:H1131)","v":29990}]
[null,null,null,null,null,null,null,null,null,null,null,{"$f":"SUMPRODUCT($D$8:D1132-$H$8:H1132)","v":29990}]
[null,null,null,null,null,null,null,null,null,null,null,{"$f":"SUMPRODUCT($D$8:D1133-$H$8:H1133)","v":29990}]
[null,null,null,null,null,null,null,null,null,null,null,{"$f":"SUMPRODUCT($D$8:D1134-$H$8:H1134)","v":29990}]
[null,null,null,null,null,null,null,null,null,null,null,{"$f":"SUMPRODUCT($D$8:D1135-$H$8:H1135)","v":29990}]
[null,null,null,null,null,null,null,null,null,null,null,{"$f":"SUMPRODUCT($D$8:D1136-$H$8:H1136)","v":29990}]
[null,null,null,null,null,null,null,null,null,null,null,{"$f":"SUMPRODUCT($D$8:D1137-$H$8:H1137)","v":29990}]
[null,null,null,null,null,null,null,null,null,null,null,{"$f":"SUMPRODUCT($D$8:D1138-$H$8:H1138)","v":29990}]
[null,null,null,null,null,null,null,null,null,null,null,{"$f":"SUMPRODUCT($D$8:D1139-$H$8:H1139)","v":29990}]
[null,null,null,null,null,null,null,null,null,null,null,{"$f":"SUMPRODUCT($D$8:D1140-$H$8:H1140)","v":29990}]
[null,null,null,null,null,null,null,null,null,null,null,{"$f":"SUMPRODUCT($D$8:D1141-$H$8:H1141)","v":29990}]
[null,null,null,null,null,null,null,null,null,null,null,{"$f":"SUMPRODUCT($D$8:D1142-$H$8:H1142)","v":29990}]
[null,null,null,null,null,null,null,null,null,null,null,{"$f":"SUMPRODUCT($D$8:D1143-$H$8:H1143)","v":29990}]
[null,null,null,null,null,null,null,null,null,null,null,{"$f":"SUMPRODUCT($D$8:D1144-$H$8:H1144)","v":29990}]
[null,null,null,null,null,null,null,null,null,null,null,{"$f":"SUMPRODUCT($D$8:D1145-$H$8:H1145)","v":29990}]
[null,null,null,null,null,null,null,null,null,null,null,{"$f":"SUMPRODUCT($D$8:D1146-$H$8:H1146)","v":29990}]
[null,null,null,null,null,null,null,null,null,null,null,{"$f":"SUMPRODUCT($D$8:D1147-$H$8:H1147)","v":29990}]
[null,null,null,null,null,null,null,null,null,null,null,{"$f":"SUMPRODUCT($D$8:D1148-$H$8:H1148)","v":29990}]
[null,null,null,null,null,null,null,null,null,null,null,{"$f":"SUMPRODUCT($D$8:D1149-$H$8:H1149)","v":29990}]
[null,null,null,null,null,null,null,null,null,null,null,{"$f":"SUMPRODUCT($D$8:D1150-$H$8:H1150)","v":29990}]
[null,null,null,null,null,null,null,null,null,null,null,{"$f":"SUMPRODUCT($D$8:D1151-$H$8:H1151)","v":29990}]
[null,null,null,null,null,null,null,null,null,null,null,{"$f":"SUMPRODUCT($D$8:D1152-$H$8:H1152)","v":29990}]
[null,null,null,null,null,null,null,null,null,null,null,{"$f":"SUMPRODUCT($D$8:D1153-$H$8:H1153)","v":29990}]
[null,null,null,null,null,null,null,null,null,null,null,{"$f":"SUMPRODUCT($D$8:D1154-$H$8:H1154)","v":29990}]
[null,null,null,null,null,null,null,null,null,null,null,{"$f":"SUMPRODUCT($D$8:D1155-$H$8:H1155)","v":29990}]
[null,null,null,null,null,null,null,null,null,null,null,{"$f":"SUMPRODUCT($D$8:D1156-$H$8:H1156)","v":29990}]
[null,null,null,null,null,null,null,null,null,null,null,{"$f":"SUMPRODUCT($D$8:D1157-$H$8:H1157)","v":29990}]
[null,null,null,null,null,null,null,null,null,null,null,{"$f":"SUMPRODUCT($D$8:D1158-$H$8:H1158)","v":29990}]
[null,null,null,null,null,null,null,null,null,null,null,{"$f":"SUMPRODUCT($D$8:D1159-$H$8:H1159)","v":29990}]
[null,null,null,null,null,null,null,null,null,null,null,{"$f":"SUMPRODUCT($D$8:D1160-$H$8:H1160)","v":29990}]
[null,null,null,null,null,null,null,null,null,null,null,{"$f":"SUMPRODUCT($D$8:D1161-$H$8:H1161)","v":29990}]
[null,null,null,null,null,null,null,null,null,null,null,{"$f":"SUMPRODUCT($D$8:D1162-$H$8:H1162)","v":29990}]
[null,null,null,null,null,null,null,null,null,null,null,{"$f":"SUMPRODUCT($D$8:D1163-$H$8:H1163)","v":29990}]
[null,null,null,null,null,null,null,null,null,null,null,{"$f":"SUMPRODUCT($D$8:D1164-$H$8:H1164)","v":29990}]
[null,null,null,null,null,null,null,null,null,null,null,{"$f":"SUMPRODUCT($D$8:D1165-$H$8:H1165)","v":29990}]
[null,null,null,null,null,null,null,null,null,null,null,{"$f":"SUMPRODUCT($D$8:D1166-$H$8:H1166)","v":29990}]
[null,null,null,null,null,null,null,null,null,null,null,{"$f":"SUMPRODUCT($D$8:D1167-$H$8:H1167)","v":29990}]
[null,null,null,null,null,null,null,null,null,null,null,{"$f":"SUMPRODUCT($D$8:D1168-$H$8:H1168)","v":29990}]
[null,null,null,null,null,null,null,null,null,null,null,{"$f":"SUMPRODUCT($D$8:D1169-$H$8:H1169)","v":29990}]
[null,null,null,null,null,null,null,null,null,null,null,{"$f":"SUMPRODUCT($D$8:D1170-$H$8:H1170)","v":29990}]
[null,null,null,null,null,null,null,null,null,null,null,{"$f":"SUMPRODUCT($D$8:D1171-$H$8:H1171)","v":29990}]
[null,null,null,null,null,null,null,null,null,null,null,{"$f":"SUMPRODUCT($D$8:D1172-$H$8:H1172)","v":29990}]
[null,null,null,null,null,null,null,null,null,null,null,{"$f":"SUMPRODUCT($D$8:D1173-$H$8:H1173)","v":29990}]
[null,null,null,null,null,null,null,null,null,null,null,{"$f":"SUMPRODUCT($D$8:D1174-$H$8:H1174)","v":29990}]
[null,null,null,null,null,null,null,null,null,null,null,{"$f":"SUMPRODUCT($D$8:D1175-$H$8:H1175)","v":29990}]
[null,null,null,null,null,null,null,null,null,null,null,{"$f":"SUMPRODUCT($D$8:D1176-$H$8:H1176)","v":29990}]
[null,null,null,null,null,null,null,null,null,null,null,{"$f":"SUMPRODUCT($D$8:D1177-$H$8:H1177)","v":29990}]
[null,null,null,null,null,null,null,null,null,null,null,{"$f":"SUMPRODUCT($D$8:D1178-$H$8:H1178)","v":29990}]
[null,null,null,null,null,null,null,null,null,null,null,{"$f":"SUMPRODUCT($D$8:D1179-$H$8:H1179)","v":29990}]
[null,null,null,null,null,null,null,null,null,null,null,{"$f":"SUMPRODUCT($D$8:D1180-$H$8:H1180)","v":29990}]
[null,null,null,null,null,null,null,null,null,null,null,{"$f":"SUMPRODUCT($D$8:D1181-$H$8:H1181)","v":29990}]
[null,null,null,null,null,null,null,null,null,null,null,{"$f":"SUMPRODUCT($D$8:D1182-$H$8:H1182)","v":29990}]
[null,null,null,null,null,null,null,null,null,null,null,{"$f":"SUMPRODUCT($D$8:D1183-$H$8:H1183)","v":29990}]
[null,null,null,null,null,null,null,null,null,null,null,{"$f":"SUMPRODUCT($D$8:D1184-$H$8:H1184)","v":29990}]
[null,null,null,null,null,null,null,null,null,null,null,{"$f":"SUMPRODUCT($D$8:D1185-$H$8:H1185)","v":29990}]
[null,null,null,null,null,null,null,null,null,null,null,{"$f":"SUMPRODUCT($D$8:D1186-$H$8:H1186)","v":29990}]
[null,null,null,null,null,null,null,null,null,null,null,{"$f":"SUMPRODUCT($D$8:D1187-$H$8:H1187)","v":29990}]
[null,null,null,null,null,null,null,null,null,null,null,{"$f":"SUMPRODUCT($D$8:D1188-$H$8:H1188)","v":29990}]
[null,null,null,null,null,null,null,null,null,null,null,{"$f":"SUMPRODUCT($D$8:D1189-$H$8:H1189)","v":29990}]
[null,null,null,null,null,null,null,null,null,null,null,{"$f":"SUMPRODUCT($D$8:D1190-$H$8:H1190)","v":29990}]
[null,null,null,null,null,null,null,null,null,null,null,{"$f":"SUMPRODUCT($D$8:D1191-$H$8:H1191)","v":29990}]
[null,null,null,null,null,null,null,null,null,null,null,{"$f":"SUMPRODUCT($D$8:D1192-$H$8:H1192)","v":29990}]
[null,null,null,null,null,null,null,null,null,null,null,{"$f":"SUMPRODUCT($D$8:D1193-$H$8:H1193)","v":29990}]
[null,null,null,null,null,null,null,null,null,null,null,{"$f":"SUMPRODUCT($D$8:D1194-$H$8:H1194)","v":29990}]
[null,null,null,null,null,null,null,null,null,null,null,{"$f":"SUMPRODUCT($D$8:D1195-$H$8:H1195)","v":29990}]
[null,null,null,null,null,null,null,null,null,null,null,{"$f":"SUMPRODUCT($D$8:D1196-$H$8:H1196)","v":29990}]
[null,null,null,null,null,null,null,null,null,null,null,{"$f":"SUMPRODUCT($D$8:D1197-$H$8:H1197)","v":29990}]
[null,null,null,null,null,null,null,null,null,null,null,{"$f":"SUMPRODUCT($D$8:D1198-$H$8:H1198)","v":29990}]
[null,null,null,null,null,null,null,null,null,null,null,{"$f":"SUMPRODUCT($D$8:D1199-$H$8:H1199)","v":29990}]
[null,null,null,null,null,null,null,null,null,null,null,{"$f":"SUMPRODUCT($D$8:D1200-$H$8:H1200)","v":29990}]
[null,null,null,null,null,null,null,null,null,null,null,{"$f":"SUMPRODUCT($D$8:D1201-$H$8:H1201)","v":29990}]
[null,null,null,null,null,null,null,null,null,null,null,{"$f":"SUMPRODUCT($D$8:D1202-$H$8:H1202)","v":29990}]
[null,null,null,null,null,null,null,null,null,null,null,{"$f":"SUMPRODUCT($D$8:D1203-$H$8:H1203)","v":29990}]
[null,null,null,null,null,null,null,null,null,null,null,{"$f":"SUMPRODUCT($D$8:D1204-$H$8:H1204)","v":29990}]
[null,null,null,null,null,null,null,null,null,null,null,{"$f":"SUMPRODUCT($D$8:D1205-$H$8:H1205)","v":29990}]
[null,null,null,null,null,null,null,null,null,null,null,{"$f":"SUMPRODUCT($D$8:D1206-$H$8:H1206)","v":29990}]
[null,null,null,null,null,null,null,null,null,null,null,{"$f":"SUMPRODUCT($D$8:D1207-$H$8:H1207)","v":29990}]
[null,null,null,null,null,null,null,null,null,null,null,{"$f":"SUMPRODUCT($D$8:D1208-$H$8:H1208)","v":29990}]
[null,null,null,null,null,null,null,null,null,null,null,{"$f":"SUMPRODUCT($D$8:D1209-$H$8:H1209)","v":29990}]
[null,null,null,null,null,null,null,null,null,null,null,{"$f":"SUMPRODUCT($D$8:D1210-$H$8:H1210)","v":29990}]
[null,null,null,null,null,null,null,null,null,null,null,{"$f":"SUMPRODUCT($D$8:D1211-$H$8:H1211)","v":29990}]
[null,null,null,null,null,null,null,null,null,null,null,{"$f":"SUMPRODUCT($D$8:D1212-$H$8:H1212)","v":29990}]
[null,null,null,null,null,null,null,null,null,null,null,{"$f":"SUMPRODUCT($D$8:D1213-$H$8:H1213)","v":29990}]
[null,null,null,null,null,null,null,null,null,null,null,{"$f":"SUMPRODUCT($D$8:D1214-$H$8:H1214)","v":29990}]
[null,null,null,null,null,null,null,null,null,null,null,{"$f":"SUMPRODUCT($D$8:D1215-$H$8:H1215)","v":29990}]
[null,null,null,null,null,null,null,null,null,null,null,{"$f":"SUMPRODUCT($D$8:D1216-$H$8:H1216)","v":29990}]
[null,null,null,null,null,null,null,null,null,null,null,{"$f":"SUMPRODUCT($D$8:D1217-$H$8:H1217)","v":29990}]
[null,null,null,null,null,null,null,null,null,null,null,{"$f":"SUMPRODUCT($D$8:D1218-$H$8:H1218)","v":29990}]
[null,null,null,null,null,null,null,null,null,null,null,{"$f":"SUMPRODUCT($D$8:D1219-$H$8:H1219)","v":29990}]
[null,null,null,null,null,null,null,null,null,null,null,{"$f":"SUMPRODUCT($D$8:D1220-$H$8:H1220)","v":29990}]
[null,null,null,null,null,null,null,null,null,null,null,{"$f":"SUMPRODUCT($D$8:D1221-$H$8:H1221)","v":29990}]
[null,null,null,null,null,null,null,null,null,null,null,{"$f":"SUMPRODUCT($D$8:D1222-$H$8:H1222)","v":29990}]
[null,null,null,null,null,null,null,null,null,null,null,{"$f":"SUMPRODUCT($D$8:D1223-$H$8:H1223)","v":29990}]
[null,null,null,null,null,null,null,null,null,null,null,{"$f":"SUMPRODUCT($D$8:D1224-$H$8:H1224)","v":29990}]
[null,null,null,null,null,null,null,null,null,null,null,{"$f":"SUMPRODUCT($D$8:D1225-$H$8:H1225)","v":29990}]
[null,null,null,null,null,null,null,null,null,null,null,{"$f":"SUMPRODUCT($D$8:D1226-$H$8:H1226)","v":29990}]
[null,null,null,null,null,null,null,null,null,null,null,{"$f":"SUMPRODUCT($D$8:D1227-$H$8:H1227)","v":29990}]
[null,null,null,null,null,null,null,null,null,null,null,{"$f":"SUMPRODUCT($D$8:D1228-$H$8:H1228)","v":29990}]
[null,null,null,null,null,null,null,null,null,null,null,{"$f":"SUMPRODUCT($D$8:D1229-$H$8:H1229)","v":29990}]
[null,null,null,null,null,null,null,null,null,null,null,{"$f":"SUMPRODUCT($D$8:D1230-$H$8:H1230)","v":29990}]
[null,null,null,null,null,null,null,null,null,null,null,{"$f":"SUMPRODUCT($D$8:D1231-$H$8:H1231)","v":29990}]
[null,null,null,null,null,null,null,null,null,null,null,{"$f":"SUMPRODUCT($D$8:D1232-$H$8:H1232)","v":29990}]
[null,null,null,null,null,null,null,null,null,null,null,{"$f":"SUMPRODUCT($D$8:D1233-$H$8:H1233)","v":29990}]
[null,null,null,null,null,null,null,null,null,null,null,{"$f":"SUMPRODUCT($D$8:D1234-$H$8:H1234)","v":29990}]
[null,null,null,null,null,null,null,null,null,null,null,{"$f":"SUMPRODUCT($D$8:D1235-$H$8:H1235)","v":29990}]
[null,null,null,null,null,null,null,null,null,null,null,{"$f":"SUMPRODUCT($D$8:D1236-$H$8:H1236)","v":29990}]
[null,null,null,null,null,null,null,null,null,null,null,{"$f":"SUMPRODUCT($D$8:D1237-$H$8:H1237)","v":29990}]
[null,null,null,null,null,null,null,null,null,null,null,{"$f":"SUMPRODUCT($D$8:D1238-$H$8:H1238)","v":29990}]
[null,null,null,null,null,null,null,null,null,null,null,{"$f":"SUMPRODUCT($D$8:D1239-$H$8:H1239)","v":29990}]
[null,null,null,null,null,null,null,null,null,null,null,{"$f":"SUMPRODUCT($D$8:D1240-$H$8:H1240)","v":29990}]
[null,null,null,null,null,null,null,null,null,null,null,{"$f":"SUMPRODUCT($D$8:D1241-$H$8:H1241)","v":29990}]
[null,null,null,null,null,null,null,null,null,null,null,{"$f":"SUMPRODUCT($D$8:D1242-$H$8:H1242)","v":29990}]
[null,null,null,null,null,null,null,null,null,null,null,{"$f":"SUMPRODUCT($D$8:D1243-$H$8:H1243)","v":29990}]
[null,null,null,null,null,null,null,null,null,null,null,{"$f":"SUMPRODUCT($D$8:D1244-$H$8:H1244)","v":29990}]
[null,null,null,null,null,null,null,null,null,null,null,{"$f":"SUMPRODUCT($D$8:D1245-$H$8:H1245)","v":29990}]
[null,null,null,null,null,null,null,null,null,null,null,{"$f":"SUMPRODUCT($D$8:D1246-$H$8:H1246)","v":29990}]
[null,null,null,null,null,null,null,null,null,null,null,{"$f":"SUMPRODUCT($D$8:D1247-$H$8:H1247)","v":29990}]
[null,null,null,null,null,null,null,null,null,null,null,{"$f":"SUMPRODUCT($D$8:D1248-$H$8:H1248)","v":29990}]
[null,null,null,null,null,null,null,null,null,null,null,{"$f":"SUMPRODUCT($D$8:D1249-$H$8:H1249)","v":29990}]
[null,null,null,null,null,null,null,null,null,null,null,{"$f":"SUMPRODUCT($D$8:D1250-$H$8:H1250)","v":29990}]
[null,null,null,null,null,null,null,null,null,null,null,{"$f":"SUMPRODUCT($D$8:D1251-$H$8:H1251)","v":29990}]
[null,null,null,null,null,null,null,null,null,null,null,{"$f":"SUMPRODUCT($D$8:D1252-$H$8:H1252)","v":29990}]
[null,null,null,null,null,null,null,null,null,null,null,{"$f":"SUMPRODUCT($D$8:D1253-$H$8:H1253)","v":29990}]
[null,null,null,null,null,null,null,null,null,null,null,{"$f":"SUMPRODUCT($D$8:D1254-$H$8:H1254)","v":29990}]
[null,null,null,null,null,null,null,null,null,null,null,{"$f":"SUMPRODUCT($D$8:D1255-$H$8:H1255)","v":29990}]
[null,null,null,null,null,null,null,null,null,null,null,{"$f":"SUMPRODUCT($D$8:D1256-$H$8:H1256)","v":29990}]
[null,null,null,null,null,null,null,null,null,null,null,{"$f":"SUMPRODUCT($D$8:D1257-$H$8:H1257)","v":29990}]
[null,null,null,null,null,null,null,null,null,null,null,{"$f":"SUMPRODUCT($D$8:D1258-$H$8:H1258)","v":29990}]
[null,null,null,null,null,null,null,null,null,null,null,{"$f":"SUMPRODUCT($D$8:D1259-$H$8:H1259)","v":29990}]
[null,null,null,null,null,null,null,null,null,null,null,{"$f":"SUMPRODUCT($D$8:D1260-$H$8:H1260)","v":29990}]
[null,null,null,null,null,null,null,null,null,null,null,{"$f":"SUMPRODUCT($D$8:D1261-$H$8:H1261)","v":29990}]
[null,null,null,null,null,null,null,null,null,null,null,{"$f":"SUMPRODUCT($D$8:D1262-$H$8:H1262)","v":29990}]
[null,null,null,null,null,null,null,null,null,null,null,{"$f":"SUMPRODUCT($D$8:D1263-$H$8:H1263)","v":29990}]
[null,null,null,null,null,null,null,null,null,null,null,{"$f":"SUMPRODUCT($D$8:D1264-$H$8:H1264)","v":29990}]
[null,null,null,null,null,null,null,null,null,null,null,{"$f":"SUMPRODUCT($D$8:D1265-$H$8:H1265)","v":29990}]
[null,null,null,null,null,null,null,null,null,null,null,{"$f":"SUMPRODUCT($D$8:D1266-$H$8:H1266)","v":29990}]
[null,null,null,null,null,null,null,null,null,null,null,{"$f":"SUMPRODUCT($D$8:D1267-$H$8:H1267)","v":29990}]
[null,null,null,null,null,null,null,null,null,null,null,{"$f":"SUMPRODUCT($D$8:D1268-$H$8:H1268)","v":29990}]
[null,null,null,null,null,null,null,null,null,null,null,{"$f":"SUMPRODUCT($D$8:D1269-$H$8:H1269)","v":29990}]
[null,null,null,null,null,null,null,null,null,null,null,{"$f":"SUMPRODUCT($D$8:D1270-$H$8:H1270)","v":29990}]
[null,null,null,null,null,null,null,null,null,null,null,{"$f":"SUMPRODUCT($D$8:D1271-$H$8:H1271)","v":29990}]
[null,null,null,null,null,null,null,null,null,null,null,{"$f":"SUMPRODUCT($D$8:D1272-$H$8:H1272)","v":29990}]
[null,null,null,null,null,null,null,null,null,null,null,{"$f":"SUMPRODUCT($D$8:D1273-$H$8:H1273)","v":29990}]
[null,null,null,null,null,null,null,null,null,null,null,{"$f":"SUMPRODUCT($D$8:D1274-$H$8:H1274)","v":29990}]
[null,null,null,null,null,null,null,null,null,null,null,{"$f":"SUMPRODUCT($D$8:D1275-$H$8:H1275)","v":29990}]
[null,null,null,null,null,null,null,null,null,null,null,{"$f":"SUMPRODUCT($D$8:D1276-$H$8:H1276)","v":29990}]
[null,null,null,null,null,null,null,null,null,null,null,{"$f":"SUMPRODUCT($D$8:D1277-$H$8:H1277)","v":29990}]
[null,null,null,null,null,null,null,null,null,null,null,{"$f":"SUMPRODUCT($D$8:D1278-$H$8:H1278)","v":29990}]
[null,null,null,null,null,null,null,null,null,null,null,{"$f":"SUMPRODUCT($D$8:D1279-$H$8:H1279)","v":29990}]
[null,null,null,null,null,null,null,null,null,null,null,{"$f":"SUMPRODUCT($D$8:D1280-$H$8:H1280)","v":29990}]
[null,null,null,null,null,null,null,null,null,null,null,{"$f":"SUMPRODUCT($D$8:D1281-$H$8:H1281)","v":29990}]
[null,null,null,null,null,null,null,null,null,null,null,{"$f":"SUMPRODUCT($D$8:D1282-$H$8:H1282)","v":29990}]
[null,null,null,null,null,null,null,null,null,null,null,{"$f":"SUMPRODUCT($D$8:D1283-$H$8:H1283)","v":29990}]
[null,null,null,null,null,null,null,null,null,null,null,{"$f":"SUMPRODUCT($D$8:D1284-$H$8:H1284)","v":29990}]
[null,null,null,null,null,null,null,null,null,null,null,{"$f":"SUMPRODUCT($D$8:D1285-$H$8:H1285)","v":29990}]
[null,null,null,null,null,null,null,null,null,null,null,{"$f":"SUMPRODUCT($D$8:D1286-$H$8:H1286)","v":29990}]
[null,null,null,null,null,null,null,null,null,null,null,{"$f":"SUMPRODUCT($D$8:D1287-$H$8:H1287)","v":29990}]
[null,null,null,null,null,null,null,null,null,null,null,{"$f":"SUMPRODUCT($D$8:D1288-$H$8:H1288)","v":29990}]
[null,null,null,null,null,null,null,null,null,null,null,{"$f":"SUMPRODUCT($D$8:D1289-$H$8:H1289)","v":29990}]
[null,null,null,null,null,null,null,null,null,null,null,{"$f":"SUMPRODUCT($D$8:D1290-$H$8:H1290)","v":29990}]
[null,null,null,null,null,null,null,null,null,null,null,{"$f":"SUMPRODUCT($D$8:D1291-$H$8:H1291)","v":29990}]
[null,null,null,null,null,null,null,null,null,null,null,{"$f":"SUMPRODUCT($D$8:D1292-$H$8:H1292)","v":29990}]
[null,null,null,null,null,null,null,null,null,null,null,{"$f":"SUMPRODUCT($D$8:D1293-$H$8:H1293)","v":29990}]
[null,null,null,null,null,null,null,null,null,null,null,{"$f":"SUMPRODUCT($D$8:D1294-$H$8:H1294)","v":29990}]
[null,null,null,null,null,null,null,null,null,null,null,{"$f":"SUMPRODUCT($D$8:D1295-$H$8:H1295)","v":29990}]
[null,null,null,null,null,null,null,null,null,null,null,{"$f":"SUMPRODUCT($D$8:D1296-$H$8:H1296)","v":29990}]
[null,null,null,null,null,null,null,null,null,null,null,{"$f":"SUMPRODUCT($D$8:D1297-$H$8:H1297)","v":29990}]
[null,null,null,null,null,null,null,null,null,null,null,{"$f":"SUMPRODUCT($D$8:D1298-$H$8:H1298)","v":29990}]
[null,null,null,null,null,null,null,null,null,null,null,{"$f":"SUMPRODUCT($D$8:D1299-$H$8:H1299)","v":29990}]
[null,null,null,null,null,null,null,null,null,null,null,{"$f":"SUMPRODUCT($D$8:D1300-$H$8:H1300)","v":29990}]
[null,null,null,null,null,null,null,null,null,null,null,{"$f":"SUMPRODUCT($D$8:D1301-$H$8:H1301)","v":29990}]
[null,null,null,null,null,null,null,null,null,null,null,{"$f":"SUMPRODUCT($D$8:D1302-$H$8:H1302)","v":29990}]
[null,null,null,null,null,null,null,null,null,null,null,{"$f":"SUMPRODUCT($D$8:D1303-$H$8:H1303)","v":29990}]
[null,null,null,null,null,null,null,null,null,null,null,{"$f":"SUMPRODUCT($D$8:D1304-$H$8:H1304)","v":29990}]
[null,null,null,null,null,null,null,null,null,null,null,{"$f":"SUMPRODUCT($D$8:D1305-$H$8:H1305)","v":29990}]
[null,null,null,null,null,null,null,null,null,null,null,{"$f":"SUMPRODUCT($D$8:D1306-$H$8:H1306)","v":29990}]
[null,null,null,null,null,null,null,null,null,null,null,{"$f":"SUMPRODUCT($D$8:D1307-$H$8:H1307)","v":29990}]
[null,null,null,null,null,null,null,null,null,null,null,{"$f":"SUMPRODUCT($D$8:D1308-$H$8:H1308)","v":29990}]
[null,null,null,null,null,null,null,null,null,null,null,{"$f":"SUMPRODUCT($D$8:D1309-$H$8:H1309)","v":29990}]
[null,null,null,null,null,null,null,null,null,null,null,{"$f":"SUMPRODUCT($D$8:D1310-$H$8:H1310)","v":29990}]
[null,null,null,null,null,null,null,null,null,null,null,{"$f":"SUMPRODUCT($D$8:D1311-$H$8:H1311)","v":29990}]
[null,null,null,null,null,null,null,null,null,null,null,{"$f":"SUMPRODUCT($D$8:D1312-$H$8:H1312)","v":29990}]
[null,null,null,null,null,null,null,null,null,null,null,{"$f":"SUMPRODUCT($D$8:D1313-$H$8:H1313)","v":29990}]
[null,null,null,null,null,null,null,null,null,null,null,{"$f":"SUMPRODUCT($D$8:D1314-$H$8:H1314)","v":29990}]
[null,null,null,null,null,null,null,null,null,null,null,{"$f":"SUMPRODUCT($D$8:D1315-$H$8:H1315)","v":29990}]
[null,null,null,null,null,null,null,null,null,null,null,{"$f":"SUMPRODUCT($D$8:D1316-$H$8:H1316)","v":29990}]
[null,null,null,null,null,null,null,null,null,null,null,{"$f":"SUMPRODUCT($D$8:D1317-$H$8:H1317)","v":29990}]
[null,null,null,null,null,null,null,null,null,null,null,{"$f":"SUMPRODUCT($D$8:D1318-$H$8:H1318)","v":29990}]
[null,null,null,null,null,null,null,null,null,null,null,{"$f":"SUMPRODUCT($D$8:D1319-$H$8:H1319)","v":29990}]
[null,null,null,null,null,null,null,null,null,null,null,{"$f":"SUMPRODUCT($D$8:D1320-$H$8:H1320)","v":29990}]
[null,null,null,null,null,null,null,null,null,null,null,{"$f":"SUMPRODUCT($D$8:D1321-$H$8:H1321)","v":29990}]
[null,null,null,null,null,null,null,null,null,null,null,{"$f":"SUMPRODUCT($D$8:D1322-$H$8:H1322)","v":29990}]
[null,null,null,null,null,null,null,null,null,null,null,{"$f":"SUMPRODUCT($D$8:D1323-$H$8:H1323)","v":29990}]
[null,null,null,null,null,null,null,null,null,null,null,{"$f":"SUMPRODUCT($D$8:D1324-$H$8:H1324)","v":29990}]
[null,null,null,null,null,null,null,null,null,null,null,{"$f":"SUMPRODUCT($D$8:D1325-$H$8:H1325)","v":29990}]
[null,null,null,null,null,null,null,null,null,null,null,{"$f":"SUMPRODUCT($D$8:D1326-$H$8:H1326)","v":29990}]
[null,null,null,null,null,null,null,null,null,null,null,{"$f":"SUMPRODUCT($D$8:D1327-$H$8:H1327)","v":29990}]
[null,null,null,null,null,null,null,null,null,null,null,{"$f":"SUMPRODUCT($D$8:D1328-$H$8:H1328)","v":29990}]
[null,null,null,null,null,null,null,null,null,null,null,{"$f":"SUMPRODUCT($D$8:D1329-$H$8:H1329)","v":29990}]
[null,null,null,null,null,null,null,null,null,null,null,{"$f":"SUMPRODUCT($D$8:D1330-$H$8:H1330)","v":29990}]
[null,null,null,null,null,null,null,null,null,null,null,{"$f":"SUMPRODUCT($D$8:D1331-$H$8:H1331)","v":29990}]
[null,null,null,null,null,null,null,null,null,null,null,{"$f":"SUMPRODUCT($D$8:D1332-$H$8:H1332)","v":29990}]
[null,null,null,null,null,null,null,null,null,null,null,{"$f":"SUMPRODUCT($D$8:D1333-$H$8:H1333)","v":29990}]
[null,null,null,null,null,null,null,null,null,null,null,{"$f":"SUMPRODUCT($D$8:D1334-$H$8:H1334)","v":29990}]
[null,null,null,null,null,null,null,null,null,null,null,{"$f":"SUMPRODUCT($D$8:D1335-$H$8:H1335)","v":29990}]
[null,null,null,null,null,null,null,null,null,null,null,{"$f":"SUMPRODUCT($D$8:D1336-$H$8:H1336)","v":29990}]
[null,null,null,null,null,null,null,null,null,null,null,{"$f":"SUMPRODUCT($D$8:D1337-$H$8:H1337)","v":29990}]
[null,null,null,null,null,null,null,null,null,null,null,{"$f":"SUMPRODUCT($D$8:D1338-$H$8:H1338)","v":29990}]
[null,null,null,null,null,null,null,null,null,null,null,{"$f":"SUMPRODUCT($D$8:D1339-$H$8:H1339)","v":29990}]
[null,null,null,null,null,null,null,null,null,null,null,{"$f":"SUMPRODUCT($D$8:D1340-$H$8:H1340)","v":29990}]
[null,null,null,null,null,null,null,null,null,null,null,{"$f":"SUMPRODUCT($D$8:D1341-$H$8:H1341)","v":29990}]
[null,null,null,null,null,null,null,null,null,null,null,{"$f":"SUMPRODUCT($D$8:D1342-$H$8:H1342)","v":29990}]
[null,null,null,null,null,null,null,null,null,null,null,{"$f":"SUMPRODUCT($D$8:D1343-$H$8:H1343)","v":29990}]
[null,null,null,null,null,null,null,null,null,null,null,{"$f":"SUMPRODUCT($D$8:D1344-$H$8:H1344)","v":29990}]
[null,null,null,null,null,null,null,null,null,null,null,{"$f":"SUMPRODUCT($D$8:D1345-$H$8:H1345)","v":29990}]
[null,null,null,null,null,null,null,null,null,null,null,{"$f":"SUMPRODUCT($D$8:D1346-$H$8:H1346)","v":29990}]
[null,null,null,null,null,null,null,null,null,null,null,{"$f":"SUMPRODUCT($D$8:D1347-$H$8:H1347)","v":29990}]
[null,null,null,null,null,null,null,null,null,null,null,{"$f":"SUMPRODUCT($D$8:D1348-$H$8:H1348)","v":29990}]
[null,null,null,null,null,null,null,null,null,null,null,{"$f":"SUMPRODUCT($D$8:D1349-$H$8:H1349)","v":29990}]
[null,null,null,null,null,null,null,null,null,null,null,{"$f":"SUMPRODUCT($D$8:D1350-$H$8:H1350)","v":29990}]
[null,null,null,null,null,null,null,null,null,null,null,{"$f":"SUMPRODUCT($D$8:D1351-$H$8:H1351)","v":29990}]
[null,null,null,null,null,null,null,null,null,null,null,{"$f":"SUMPRODUCT($D$8:D1352-$H$8:H1352)","v":29990}]
[null,null,null,null,null,null,null,null,null,null,null,{"$f":"SUMPRODUCT($D$8:D1353-$H$8:H1353)","v":29990}]
[null,null,null,null,null,null,null,null,null,null,null,{"$f":"SUMPRODUCT($D$8:D1354-$H$8:H1354)","v":29990}]
[null,null,null,null,null,null,null,null,null,null,null,{"$f":"SUMPRODUCT($D$8:D1355-$H$8:H1355)","v":29990}]
[null,null,null,null,null,null,null,null,null,null,null,{"$f":"SUMPRODUCT($D$8:D1356-$H$8:H1356)","v":29990}]
[null,null,null,null,null,null,null,null,null,null,null,{"$f":"SUMPRODUCT($D$8:D1357-$H$8:H1357)","v":29990}]
[null,null,null,null,null,null,null,null,null,null,null,{"$f":"SUMPRODUCT($D$8:D1358-$H$8:H1358)","v":29990}]
[null,null,null,null,null,null,null,null,null,null,null,{"$f":"SUMPRODUCT($D$8:D1359-$H$8:H1359)","v":29990}]
[null,null,null,null,null,null,null,null,null,null,null,{"$f":"SUMPRODUCT($D$8:D1360-$H$8:H1360)","v":29990}]
[null,null,null,null,null,null,null,null,null,null,null,{"$f":"SUMPRODUCT($D$8:D1361-$H$8:H1361)","v":29990}]
[null,null,null,null,null,null,null,null,null,null,null,{"$f":"SUMPRODUCT($D$8:D1362-$H$8:H1362)","v":29990}]
[null,null,null,null,null,null,null,null,null,null,null,{"$f":"SUMPRODUCT($D$8:D1363-$H$8:H1363)","v":29990}]
[null,null,null,null,null,null,null,null,null,null,null,{"$f":"SUMPRODUCT($D$8:D1364-$H$8:H1364)","v":29990}]
[null,null,null,null,null,null,null,null,null,null,null,{"$f":"SUMPRODUCT($D$8:D1365-$H$8:H1365)","v":29990}]
[null,null,null,null,null,null,null,null,null,null,null,{"$f":"SUMPRODUCT($D$8:D1366-$H$8:H1366)","v":29990}]
[null,null,null,null,null,null,null,null,null,null,null,{"$f":"SUMPRODUCT($D$8:D1367-$H$8:H1367)","v":29990}]
[null,null,null,null,null,null,null,null,null,null,null,{"$f":"SUMPRODUCT($D$8:D1368-$H$8:H1368)","v":29990}]
[null,null,null,null,null,null,null,null,null,null,null,{"$f":"SUMPRODUCT($D$8:D1369-$H$8:H1369)","v":29990}]
[null,null,null,null,null,null,null,null,null,null,null,{"$f":"SUMPRODUCT($D$8:D1370-$H$8:H1370)","v":29990}]
[null,null,null,null,null,null,null,null,null,null,null,{"$f":"SUMPRODUCT($D$8:D1371-$H$8:H1371)","v":29990}]
[null,null,null,null,null,null,null,null,null,null,null,{"$f":"SUMPRODUCT($D$8:D1372-$H$8:H1372)","v":29990}]
[null,null,null,null,null,null,null,null,null,null,null,{"$f":"SUMPRODUCT($D$8:D1373-$H$8:H1373)","v":29990}]
[null,null,null,null,null,null,null,null,null,null,null,{"$f":"SUMPRODUCT($D$8:D1374-$H$8:H1374)","v":29990}]
[null,null,null,null,null,null,null,null,null,null,null,{"$f":"SUMPRODUCT($D$8:D1375-$H$8:H1375)","v":29990}]
[null,null,null,null,null,null,null,null,null,null,null,{"$f":"SUMPRODUCT($D$8:D1376-$H$8:H1376)","v":29990}]
[null,null,null,null,null,null,null,null,null,null,null,{"$f":"SUMPRODUCT($D$8:D1377-$H$8:H1377)","v":29990}]
[null,null,null,null,null,null,null,null,null,null,null,{"$f":"SUMPRODUCT($D$8:D1378-$H$8:H1378)","v":29990}]
[null,null,null,null,null,null,null,null,null,null,null,{"$f":"SUMPRODUCT($D$8:D1379-$H$8:H1379)","v":29990}]
[null,null,null,null,null,null,null,null,null,null,null,{"$f":"SUMPRODUCT($D$8:D1380-$H$8:H1380)","v":29990}]
[null,null,null,null,null,null,null,null,null,null,null,{"$f":"SUMPRODUCT($D$8:D1381-$H$8:H1381)","v":29990}]
[null,null,null,null,null,null,null,null,null,null,null,{"$f":"SUMPRODUCT($D$8:D1382-$H$8:H1382)","v":29990}]
[null,null,null,null,null,null,null,null,null,null,null,{"$f":"SUMPRODUCT($D$8:D1383-$H$8:H1383)","v":29990}]
[null,null,null,null,null,null,null,null,null,null,null,{"$f":"SUMPRODUCT($D$8:D1384-$H$8:H1384)","v":29990}]
[null,null,null,null,null,null,null,null,null,null,null,{"$f":"SUMPRODUCT($D$8:D1385-$H$8:H1385)","v":29990}]
[null,null,null,null,null,null,null,null,null,null,null,{"$f":"SUMPRODUCT($D$8:D1386-$H$8:H1386)","v":29990}]
[null,null,null,null,null,null,null,null,null,null,null,{"$f":"SUMPRODUCT($D$8:D1387-$H$8:H1387)","v":29990}]
[null,null,null,null,null,null,null,null,null,null,null,{"$f":"SUMPRODUCT($D$8:D1388-$H$8:H1388)","v":29990}]
[null,null,null,null,null,null,null,null,null,null,null,{"$f":"SUMPRODUCT($D$8:D1389-$H$8:H1389)","v":29990}]
[null,null,null,null,null,null,null,null,null,null,null,{"$f":"SUMPRODUCT($D$8:D1390-$H$8:H1390)","v":29990}]
[null,null,null,null,null,null,null,null,null,null,null,{"$f":"SUMPRODUCT($D$8:D1391-$H$8:H1391)","v":29990}]
[null,null,null,null,null,null,null,null,null,null,null,{"$f":"SUMPRODUCT($D$8:D1392-$H$8:H1392)","v":29990}]
[null,null,null,null,null,null,null,null,null,null,null,{"$f":"SUMPRODUCT($D$8:D1393-$H$8:H1393)","v":29990}]
[null,null,null,null,null,null,null,null,null,null,null,{"$f":"SUMPRODUCT($D$8:D1394-$H$8:H1394)","v":29990}]
[null,null,null,null,null,null,null,null,null,null,null,{"$f":"SUMPRODUCT($D$8:D1395-$H$8:H1395)","v":29990}]
[null,null,null,null,null,null,null,null,null,null,null,{"$f":"SUMPRODUCT($D$8:D1396-$H$8:H1396)","v":29990}]
[null,null,null,null,null,null,null,null,null,null,null,{"$f":"SUMPRODUCT($D$8:D1397-$H$8:H1397)","v":29990}]
[null,null,null,null,null,null,null,null,null,null,null,{"$f":"SUMPRODUCT($D$8:D1398-$H$8:H1398)","v":29990}]
[null,null,null,null,null,null,null,null,null,null,null,{"$f":"SUMPRODUCT($D$8:D1399-$H$8:H1399)","v":29990}]
[null,null,null,null,null,null,null,null,null,null,null,{"$f":"SUMPRODUCT($D$8:D1400-$H$8:H1400)","v":29990}]
[null,null,null,null,null,null,null,null,null,null,null,{"$f":"SUMPRODUCT($D$8:D1401-$H$8:H1401)","v":29990}]
[null,null,null,null,null,null,null,null,null,null,null,{"$f":"SUMPRODUCT($D$8:D1402-$H$8:H1402)","v":29990}]
[null,null,null,null,null,null,null,null,null,null,null,{"$f":"SUMPRODUCT($D$8:D1403-$H$8:H1403)","v":29990}]
[null,null,null,null,null,null,null,null,null,null,null,{"$f":"SUMPRODUCT($D$8:D1404-$H$8:H1404)","v":29990}]
[null,null,null,null,null,null,null,null,null,null,null,{"$f":"SUMPRODUCT($D$8:D1405-$H$8:H1405)","v":29990}]
[null,null,null,null,null,null,null,null,null,null,null,{"$f":"SUMPRODUCT($D$8:D1406-$H$8:H1406)","v":29990}]
[null,null,null,null,null,null,null,null,null,null,null,{"$f":"SUMPRODUCT($D$8:D1407-$H$8:H1407)","v":29990}]
[null,null,null,null,null,null,null,null,null,null,null,{"$f":"SUMPRODUCT($D$8:D1408-$H$8:H1408)","v":29990}]
[null,null,null,null,null,null,null,null,null,null,null,{"$f":"SUMPRODUCT($D$8:D1409-$H$8:H1409)","v":29990}]
[null,null,null,null,null,null,null,null,null,null,null,{"$f":"SUMPRODUCT($D$8:D1410-$H$8:H1410)","v":29990}]
[null,null,null,null,null,null,null,null,null,null,null,{"$f":"SUMPRODUCT($D$8:D1411-$H$8:H1411)","v":29990}]
[null,null,null,null,null,null,null,null,null,null,null,{"$f":"SUMPRODUCT($D$8:D1412-$H$8:H1412)","v":29990}]
[null,null,null,null,null,null,null,null,null,null,null,{"$f":"SUMPRODUCT($D$8:D1413-$H$8:H1413)","v":29990}]
[null,null,null,null,null,null,null,null,null,null,null,{"$f":"SUMPRODUCT($D$8:D1414-$H$8:H1414)","v":29990}]
[null,null,null,null,null,null,null,null,null,null,null,{"$f":"SUMPRODUCT($D$8:D1415-$H$8:H1415)","v":29990}]
[null,null,null,null,null,null,null,null,null,null,null,{"$f":"SUMPRODUCT($D$8:D1416-$H$8:H1416)","v":29990}]
[null,null,null,null,null,null,null,null,null,null,null,{"$f":"SUMPRODUCT($D$8:D1417-$H$8:H1417)","v":29990}]
[null,null,null,null,null,null,null,null,null,null,null,{"$f":"SUMPRODUCT($D$8:D1418-$H$8:H1418)","v":29990}]
[null,null,null,null,null,null,null,null,null,null,null,{"$f":"SUMPRODUCT($D$8:D1419-$H$8:H1419)","v":29990}]
[null,null,null,null,null,null,null,null,null,null,null,{"$f":"SUMPRODUCT($D$8:D1420-$H$8:H1420)","v":29990}]
[null,null,null,null,null,null,null,null,null,null,null,{"$f":"SUMPRODUCT($D$8:D1421-$H$8:H1421)","v":29990}]
[null,null,null,null,null,null,null,null,null,null,null,{"$f":"SUMPRODUCT($D$8:D1422-$H$8:H1422)","v":29990}]
[null,null,null,null,null,null,null,null,null,null,null,{"$f":"SUMPRODUCT($D$8:D1423-$H$8:H1423)","v":29990}]
[null,null,null,null,null,null,null,null,null,null,null,{"$f":"SUMPRODUCT($D$8:D1424-$H$8:H1424)","v":29990}]
[null,null,null,null,null,null,null,null,null,null,null,{"$f":"SUMPRODUCT($D$8:D1425-$H$8:H1425)","v":29990}]
[null,null,null,null,null,null,null,null,null,null,null,{"$f":"SUMPRODUCT($D$8:D1426-$H$8:H1426)","v":29990}]
[null,null,null,null,null,null,null,null,null,null,null,{"$f":"SUMPRODUCT($D$8:D1427-$H$8:H1427)","v":29990}]
[null,null,null,null,null,null,null,null,null,null,null,{"$f":"SUMPRODUCT($D$8:D1428-$H$8:H1428)","v":29990}]
[null,null,null,null,null,null,null,null,null,null,null,{"$f":"SUMPRODUCT($D$8:D1429-$H$8:H1429)","v":29990}]
[null,null,null,null,null,null,null,null,null,null,null,{"$f":"SUMPRODUCT($D$8:D1430-$H$8:H1430)","v":29990}]
[null,null,null,null,null,null,null,null,null,null,null,{"$f":"SUMPRODUCT($D$8:D1431-$H$8:H1431)","v":29990}]
[null,null,null,null,null,null,null,null,null,null,null,{"$f":"SUMPRODUCT($D$8:D1432-$H$8:H1432)","v":29990}]
[null,null,null,null,null,null,null,null,null,null,null,{"$f":"SUMPRODUCT($D$8:D1433-$H$8:H1433)","v":29990}]
[null,null,null,null,null,null,null,null,null,null,null,{"$f":"SUMPRODUCT($D$8:D1434-$H$8:H1434)","v":29990}]
[null,null,null,null,null,null,null,null,null,null,null,{"$f":"SUMPRODUCT($D$8:D1435-$H$8:H1435)","v":29990}]
[null,null,null,null,null,null,null,null,null,null,null,{"$f":"SUMPRODUCT($D$8:D1436-$H$8:H1436)","v":29990}]
[null,null,null,null,null,null,null,null,null,null,null,{"$f":"SUMPRODUCT($D$8:D1437-$H$8:H1437)","v":29990}]
[null,null,null,null,null,null,null,null,null,null,null,{"$f":"SUMPRODUCT($D$8:D1438-$H$8:H1438)","v":29990}]
[null,null,null,null,null,null,null,null,null,null,null,{"$f":"SUMPRODUCT($D$8:D1439-$H$8:H1439)","v":29990}]
[null,null,null,null,null,null,null,null,null,null,null,{"$f":"SUMPRODUCT($D$8:D1440-$H$8:H1440)","v":29990}]
[null,null,null,null,null,null,null,null,null,null,null,{"$f":"SUMPRODUCT($D$8:D1441-$H$8:H1441)","v":29990}]
[null,null,null,null,null,null,null,null,null,null,null,{"$f":"SUMPRODUCT($D$8:D1442-$H$8:H1442)","v":29990}]
[null,null,null,null,null,null,null,null,null,null,null,{"$f":"SUMPRODUCT($D$8:D1443-$H$8:H1443)","v":29990}]
[null,null,null,null,null,null,null,null,null,null,null,{"$f":"SUMPRODUCT($D$8:D1444-$H$8:H1444)","v":29990}]
[null,null,null,null,null,null,null,null,null,null,null,{"$f":"SUMPRODUCT($D$8:D1445-$H$8:H1445)","v":29990}]
[null,null,null,null,null,null,null,null,null,null,null,{"$f":"SUMPRODUCT($D$8:D1446-$H$8:H1446)","v":29990}]
[null,null,null,null,null,null,null,null,null,null,null,{"$f":"SUMPRODUCT($D$8:D1447-$H$8:H1447)","v":29990}]
[null,null,null,null,null,null,null,null,null,null,null,{"$f":"SUMPRODUCT($D$8:D1448-$H$8:H1448)","v":29990}]
[null,null,null,null,null,null,null,null,null,null,null,{"$f":"SUMPRODUCT($D$8:D1449-$H$8:H1449)","v":29990}]
[null,null,null,null,null,null,null,null,null,null,null,{"$f":"SUMPRODUCT($D$8:D1450-$H$8:H1450)","v":29990}]
[null,null,null,null,null,null,null,null,null,null,null,{"$f":"SUMPRODUCT($D$8:D1451-$H$8:H1451)","v":29990}]
[null,null,null,null,null,null,null,null,null,null,null,{"$f":"SUMPRODUCT($D$8:D1452-$H$8:H1452)","v":29990}]
[null,null,null,null,null,null,null,null,null,null,null,{"$f":"SUMPRODUCT($D$8:D1453-$H$8:H1453)","v":29990}]
[null,null,null,null,null,null,null,null,null,null,null,{"$f":"SUMPRODUCT($D$8:D1454-$H$8:H1454)","v":29990}]
[null,null,null,null,null,null,null,null,null,null,null,{"$f":"SUMPRODUCT($D$8:D1455-$H$8:H1455)","v":29990}]
[null,null,null,null,null,null,null,null,null,null,null,{"$f":"SUMPRODUCT($D$8:D1456-$H$8:H1456)","v":29990}]
[null,null,null,null,null,null,null,null,null,null,null,{"$f":"SUMPRODUCT($D$8:D1457-$H$8:H1457)","v":29990}]
[null,null,null,null,null,null,null,null,null,null,null,{"$f":"SUMPRODUCT($D$8:D1458-$H$8:H1458)","v":29990}]
[null,null,null,null,null,null,null,null,null,null,null,{"$f":"SUMPRODUCT($D$8:D1459-$H$8:H1459)","v":29990}]
[null,null,null,null,null,null,null,null,null,null,null,{"$f":"SUMPRODUCT($D$8:D1460-$H$8:H1460)","v":29990}]
[null,null,null,null,null,null,null,null,null,null,null,{"$f":"SUMPRODUCT($D$8:D1461-$H$8:H1461)","v":29990}]
[null,null,null,null,null,null,null,null,null,null,null,{"$f":"SUMPRODUCT($D$8:D1462-$H$8:H1462)","v":29990}]
[null,null,null,null,null,null,null,null,null,null,null,{"$f":"SUMPRODUCT($D$8:D1463-$H$8:H1463)","v":29990}]
[null,null,null,null,null,null,null,null,null,null,null,{"$f":"SUMPRODUCT($D$8:D1464-$H$8:H1464)","v":29990}]
[null,null,null,null,null,null,null,null,null,null,null,{"$f":"SUMPRODUCT($D$8:D1465-$H$8:H1465)","v":29990}]
[null,null,null,null,null,null,null,null,null,null,null,{"$f":"SUMPRODUCT($D$8:D1466-$H$8:H1466)","v":29990}]
[null,null,null,null,null,null,null,null,null,null,null,{"$f":"SUMPRODUCT($D$8:D1467-$H$8:H1467)","v":29990}]
[null,null,null,null,null,null,null,null,null,null,null,{"$f":"SUMPRODUCT($D$8:D1468-$H$8:H1468)","v":29990}]
[null,null,null,null,null,null,null,null,null,null,null,{"$f":"SUMPRODUCT($D$8:D1469-$H$8:H1469)","v":29990}]
[null,null,null,null,null,null,null,null,null,null,null,{"$f":"SUMPRODUCT($D$8:D1470-$H$8:H1470)","v":29990}]
[null,null,null,null,null,null,null,null,null,null,null,{"$f":"SUMPRODUCT($D$8:D1471-$H$8:H1471)","v":29990}]
[null,null,null,null,null,null,null,null,null,null,null,{"$f":"SUMPRODUCT($D$8:D1472-$H$8:H1472)","v":29990}]
[null,null,null,null,null,null,null,null,null,null,null,{"$f":"SUMPRODUCT($D$8:D1473-$H$8:H1473)","v":29990}]
[null,null,null,null,null,null,null,null,null,null,null,{"$f":"SUMPRODUCT($D$8:D1474-$H$8:H1474)","v":29990}]
[null,null,null,null,null,null,null,null,null,null,null,{"$f":"SUMPRODUCT($D$8:D1475-$H$8:H1475)","v":29990}]
[null,null,null,null,null,null,null,null,null,null,null,{"$f":"SUMPRODUCT($D$8:D1476-$H$8:H1476)","v":29990}]
[null,null,null,null,null,null,null,null,null,null,null,{"$f":"SUMPRODUCT($D$8:D1477-$H$8:H1477)","v":29990}]
[null,null,null,null,null,null,null,null,null,null,null,{"$f":"SUMPRODUCT($D$8:D1478-$H$8:H1478)","v":29990}]
[null,null,null,null,null,null,null,null,null,null,null,{"$f":"SUMPRODUCT($D$8:D1479-$H$8:H1479)","v":29990}]
[null,null,null,null,null,null,null,null,null,null,null,{"$f":"SUMPRODUCT($D$8:D1480-$H$8:H1480)","v":29990}]
[null,null,null,null,null,null,null,null,null,null,null,{"$f":"SUMPRODUCT($D$8:D1481-$H$8:H1481)","v":29990}]
[null,null,null,null,null,null,null,null,null,null,null,{"$f":"SUMPRODUCT($D$8:D1482-$H$8:H1482)","v":29990}]
[null,null,null,null,null,null,null,null,null,null,null,{"$f":"SUMPRODUCT($D$8:D1483-$H$8:H1483)","v":29990}]
[null,null,null,null,null,null,null,null,null,null,null,{"$f":"SUMPRODUCT($D$8:D1484-$H$8:H1484)","v":29990}]
[null,null,null,null,null,null,null,null,null,null,null,{"$f":"SUMPRODUCT($D$8:D1485-$H$8:H1485)","v":29990}]
[null,null,null,null,null,null,null,null,null,null,null,{"$f":"SUMPRODUCT($D$8:D1486-$H$8:H1486)","v":29990}]
[null,null,null,null,null,null,null,null,null,null,null,{"$f":"SUMPRODUCT($D$8:D1487-$H$8:H1487)","v":29990}]
[null,null,null,null,null,null,null,null,null,null,null,{"$f":"SUMPRODUCT($D$8:D1488-$H$8:H1488)","v":29990}]
[null,null,null,null,null,null,null,null,null,null,null,{"$f":"SUMPRODUCT($D$8:D1489-$H$8:H1489)","v":29990}]
[null,null,null,null,null,null,null,null,null,null,null,{"$f":"SUMPRODUCT($D$8:D1490-$H$8:H1490)","v":29990}]
[null,null,null,null,null,null,null,null,null,null,null,{"$f":"SUMPRODUCT($D$8:D1491-$H$8:H1491)","v":29990}]
[null,null,null,null,null,null,null,null,null,null,null,{"$f":"SUMPRODUCT($D$8:D1492-$H$8:H1492)","v":29990}]
[null,null,null,null,null,null,null,null,null,null,null,{"$f":"SUMPRODUCT($D$8:D1493-$H$8:H1493)","v":29990}]
[null,null,null,null,null,null,null,null,null,null,null,{"$f":"SUMPRODUCT($D$8:D1494-$H$8:H1494)","v":29990}]
[null,null,null,null,null,null,null,null,null,null,null,{"$f":"SUMPRODUCT($D$8:D1495-$H$8:H1495)","v":29990}]
[null,null,null,null,null,null,null,null,null,null,null,{"$f":"SUMPRODUCT($D$8:D1496-$H$8:H1496)","v":29990}]
[null,null,null,null,null,null,null,null,null,null,null,{"$f":"SUMPRODUCT($D$8:D1497-$H$8:H1497)","v":29990}]
[null,null,null,null,null,null,null,null,null,null,null,{"$f":"SUMPRODUCT($D$8:D1498-$H$8:H1498)","v":29990}]
[null,null,null,null,null,null,null,null,null,null,null,{"$f":"SUMPRODUCT($D$8:D1499-$H$8:H1499)","v":29990}]
[null,null,null,null,null,null,null,null,null,null,null,{"$f":"SUMPRODUCT($D$8:D1500-$H$8:H1500)","v":29990}]
[null,null,null,null,null,null,null,null,null,null,null,{"$f":"SUMPRODUCT($D$8:D1501-$H$8:H1501)","v":29990}]
[null,null,null,null,null,null,null,null,null,null,null,{"$f":"SUMPRODUCT($D$8:D1502-$H$8:H1502)","v":29990}]
[null,null,null,null,null,null,null,null,null,null,null,{"$f":"SUMPRODUCT($D$8:D1503-$H$8:H1503)","v":29990}]
[null,null,null,null,null,null,null,null,null,null,null,{"$f":"SUMPRODUCT($D$8:D1504-$H$8:H1504)","v":29990}]
[null,null,null,null,null,null,null,null,null,null,null,{"$f":"SUMPRODUCT($D$8:D1505-$H$8:H1505)","v":29990}]
[null,null,null,null,null,null,null,null,null,null,null,{"$f":"SUMPRODUCT($D$8:D1506-$H$8:H1506)","v":29990}]
[null,null,null,null,null,null,null,null,null,null,null,{"$f":"SUMPRODUCT($D$8:D1507-$H$8:H1507)","v":29990}]
[null,null,null,null,null,null,null,null,null,null,null,{"$f":"SUMPRODUCT($D$8:D1508-$H$8:H1508)","v":29990}]
[null,null,null,null,null,null,null,null,null,null,null,{"$f":"SUMPRODUCT($D$8:D1509-$H$8:H1509)","v":29990}]
[null,null,null,null,null,null,null,null,null,null,null,{"$f":"SUMPRODUCT($D$8:D1510-$H$8:H1510)","v":29990}]
[null,null,null,null,null,null,null,null,null,null,null,{"$f":"SUMPRODUCT($D$8:D1511-$H$8:H1511)","v":29990}]
[null,null,null,null,null,null,null,null,null,null,null,{"$f":"SUMPRODUCT($D$8:D1512-$H$8:H1512)","v":29990}]
[null,null,null,null,null,null,null,null,null,null,null,{"$f":"SUMPRODUCT($D$8:D1513-$H$8:H1513)","v":29990}]
[null,null,null,null,null,null,null,null,null,null,null,{"$f":"SUMPRODUCT($D$8:D1514-$H$8:H1514)","v":29990}]
[null,null,null,null,null,null,null,null,null,null,null,{"$f":"SUMPRODUCT($D$8:D1515-$H$8:H1515)","v":29990}]
[null,null,null,null,null,null,null,null,null,null,null,{"$f":"SUMPRODUCT($D$8:D1516-$H$8:H1516)","v":29990}]
[null,null,null,null,null,null,null,null,null,null,null,{"$f":"SUMPRODUCT($D$8:D1517-$H$8:H1517)","v":29990}]
[null,null,null,null,null,null,null,null,null,null,null,{"$f":"SUMPRODUCT($D$8:D1518-$H$8:H1518)","v":29990}]
[null,null,null,null,null,null,null,null,null,null,null,{"$f":"SUMPRODUCT($D$8:D1519-$H$8:H1519)","v":29990}]
[null,null,null,null,null,null,null,null,null,null,null,{"$f":"SUMPRODUCT($D$8:D1520-$H$8:H1520)","v":29990}]
[null,null,null,null,null,null,null,null,null,null,null,{"$f":"SUMPRODUCT($D$8:D1521-$H$8:H1521)","v":29990}]
[null,null,null,null,null,null,null,null,null,null,null,{"$f":"SUMPRODUCT($D$8:D1522-$H$8:H1522)","v":29990}]
[null,null,null,null,null,null,null,null,null,null,null,{"$f":"SUMPRODUCT($D$8:D1523-$H$8:H1523)","v":29990}]
[null,null,null,null,null,null,null,null,null,null,null,{"$f":"SUMPRODUCT($D$8:D1524-$H$8:H1524)","v":29990}]
[null,null,null,null,null,null,null,null,null,null,null,{"$f":"SUMPRODUCT($D$8:D1525-$H$8:H1525)","v":29990}]
[null,null,null,null,null,null,null,null,null,null,null,{"$f":"SUMPRODUCT($D$8:D1526-$H$8:H1526)","v":29990}]
[null,null,null,null,null,null,null,null,null,null,null,{"$f":"SUMPRODUCT($D$8:D1527-$H$8:H1527)","v":29990}]
[null,null,null,null,null,null,null,null,null,null,null,{"$f":"SUMPRODUCT($D$8:D1528-$H$8:H1528)","v":29990}]
[null,null,null,null,null,null,null,null,null,null,null,{"$f":"SUMPRODUCT($D$8:D1529-$H$8:H1529)","v":29990}]
[null,null,null,null,null,null,null,null,null,null,null,{"$f":"SUMPRODUCT($D$8:D1530-$H$8:H1530)","v":29990}]
[null,null,null,null,null,null,null,null,null,null,null,{"$f":"SUMPRODUCT($D$8:D1531-$H$8:H1531)","v":29990}]
[null,null,null,null,null,null,null,null,null,null,null,{"$f":"SUMPRODUCT($D$8:D1532-$H$8:H1532)","v":29990}]
[null,null,null,null,null,null,null,null,null,null,null,{"$f":"SUMPRODUCT($D$8:D1533-$H$8:H1533)","v":29990}]
[null,null,null,null,null,null,null,null,null,null,null,{"$f":"SUMPRODUCT($D$8:D1534-$H$8:H1534)","v":29990}]
[null,null,null,null,null,null,null,null,null,null,null,{"$f":"SUMPRODUCT($D$8:D1535-$H$8:H1535)","v":29990}]
[null,null,null,null,null,null,null,null,null,null,null,{"$f":"SUMPRODUCT($D$8:D1536-$H$8:H1536)","v":29990}]
[null,null,null,null,null,null,null,null,null,null,null,{"$f":"SUMPRODUCT($D$8:D1537-$H$8:H1537)","v":29990}]
[null,null,null,null,null,null,null,null,null,null,null,{"$f":"SUMPRODUCT($D$8:D1538-$H$8:H1538)","v":29990}]
[null,null,null,null,null,null,null,null,null,null,null,{"$f":"SUMPRODUCT($D$8:D1539-$H$8:H1539)","v":29990}]
[null,null,null,null,null,null,null,null,null,null,null,{"$f":"SUMPRODUCT($D$8:D1540-$H$8:H1540)","v":29990}]
[null,null,null,null,null,null,null,null,null,null,null,{"$f":"SUMPRODUCT($D$8:D1541-$H$8:H1541)","v":29990}]
[null,null,null,null,null,null,null,null,null,null,null,{"$f":"SUMPRODUCT($D$8:D1542-$H$8:H1542)","v":29990}]
[null,null,null,null,null,null,null,null,null,null,null,{"$f":"SUMPRODUCT($D$8:D1543-$H$8:H1543)","v":29990}]
[null,null,null,null,null,null,null,null,null,null,null,{"$f":"SUMPRODUCT($D$8:D1544-$H$8:H1544)","v":29990}]
[null,null,null,null,null,null,null,null,null,null,null,{"$f":"SUMPRODUCT($D$8:D1545-$H$8:H1545)","v":29990}]
[null,null,null,null,null,null,null,null,null,null,null,{"$f":"SUMPRODUCT($D$8:D1546-$H$8:H1546)","v":29990}]
[null,null,null,null,null,null,null,null,null,null,null,{"$f":"SUMPRODUCT($D$8:D1547-$H$8:H1547)","v":29990}]
[null,null,null,null,null,null,null,null,null,null,null,{"$f":"SUMPRODUCT($D$8:D1548-$H$8:H1548)","v":29990}]
[null,null,null,null,null,null,null,null,null,null,null,{"$f":"SUMPRODUCT($D$8:D1549-$H$8:H1549)","v":29990}]
[null,null,null,null,null,null,null,null,null,null,null,{"$f":"SUMPRODUCT($D$8:D1550-$H$8:H1550)","v":29990}]
[null,null,null,null,null,null,null,null,null,null,null,{"$f":"SUMPRODUCT($D$8:D1551-$H$8:H1551)","v":29990}]
[null,null,null,null,null,null,null,null,null,null,null,{"$f":"SUMPRODUCT($D$8:D1552-$H$8:H1552)","v":29990}]
[null,null,null,null,null,null,null,null,null,null,null,{"$f":"SUMPRODUCT($D$8:D1553-$H$8:H1553)","v":29990}]
[null,null,null,null,null,null,null,null,null,null,null,{"$f":"SUMPRODUCT($D$8:D1554-$H$8:H1554)","v":29990}]
[null,null,null,null,null,null,null,null,null,null,null,{"$f":"SUMPRODUCT($D$8:D1555-$H$8:H1555)","v":29990}]
[null,null,null,null,null,null,null,null,null,null,null,{"$f":"SUMPRODUCT($D$8:D1556-$H$8:H1556)","v":29990}]
[null,null,null,null,null,null,null,null,null,null,null,{"$f":"SUMPRODUCT($D$8:D1557-$H$8:H1557)","v":29990}]
[null,null,null,null,null,null,null,null,null,null,null,{"$f":"SUMPRODUCT($D$8:D1558-$H$8:H1558)","v":29990}]
[null,null,null,null,null,null,null,null,null,null,null,{"$f":"SUMPRODUCT($D$8:D1559-$H$8:H1559)","v":29990}]
[null,null,null,null,null,null,null,null,null,null,null,{"$f":"SUMPRODUCT($D$8:D1560-$H$8:H1560)","v":29990}]
[null,null,null,null,null,null,null,null,null,null,null,{"$f":"SUMPRODUCT($D$8:D1561-$H$8:H1561)","v":29990}]
[null,null,null,null,null,null,null,null,null,null,null,{"$f":"SUMPRODUCT($D$8:D1562-$H$8:H1562)","v":29990}]
[null,null,null,null,null,null,null,null,null,null,null,{"$f":"SUMPRODUCT($D$8:D1563-$H$8:H1563)","v":29990}]
[null,null,null,null,null,null,null,null,null,null,null,{"$f":"SUMPRODUCT($D$8:D1564-$H$8:H1564)","v":29990}]
[null,null,null,null,null,null,null,null,null,null,null,{"$f":"SUMPRODUCT($D$8:D1565-$H$8:H1565)","v":29990}]
[null,null,null,null,null,null,null,null,null,null,null,{"$f":"SUMPRODUCT($D$8:D1566-$H$8:H1566)","v":29990}]
[null,null,null,null,null,null,null,null,null,null,null,{"$f":"SUMPRODUCT($D$8:D1567-$H$8:H1567)","v":29990}]
[null,null,null,null,null,null,null,null,null,null,null,{"$f":"SUMPRODUCT($D$8:D1568-$H$8:H1568)","v":29990}]
[null,null,null,null,null,null,null,null,null,null,null,{"$f":"SUMPRODUCT($D$8:D1569-$H$8:H1569)","v":29990}]
[null,null,null,null,null,null,null,null,null,null,null,{"$f":"SUMPRODUCT($D$8:D1570-$H$8:H1570)","v":29990}]
[null,null,null,null,null,null,null,null,null,null,null,{"$f":"SUMPRODUCT($D$8:D1571-$H$8:H1571)","v":29990}]
[null,null,null,null,null,null,null,null,null,null,null,{"$f":"SUMPRODUCT($D$8:D1572-$H$8:H1572)","v":29990}]
[null,null,null,null,null,null,null,null,null,null,null,{"$f":"SUMPRODUCT($D$8:D1573-$H$8:H1573)","v":29990}]
[null,null,null,null,null,null,null,null,null,null,null,{"$f":"SUMPRODUCT($D$8:D1574-$H$8:H1574)","v":29990}]
[null,null,null,null,null,null,null,null,null,null,null,{"$f":"SUMPRODUCT($D$8:D1575-$H$8:H1575)","v":29990}]
[null,null,null,null,null,null,null,null,null,null,null,{"$f":"SUMPRODUCT($D$8:D1576-$H$8:H1576)","v":29990}]
[null,null,null,null,null,null,null,null,null,null,null,{"$f":"SUMPRODUCT($D$8:D1577-$H$8:H1577)","v":29990}]
[null,null,null,null,null,null,null,null,null,null,null,{"$f":"SUMPRODUCT($D$8:D1578-$H$8:H1578)","v":29990}]
[null,null,null,null,null,null,null,null,null,null,null,{"$f":"SUMPRODUCT($D$8:D1579-$H$8:H1579)","v":29990}]
[null,null,null,null,null,null,null,null,null,null,null,{"$f":"SUMPRODUCT($D$8:D1580-$H$8:H1580)","v":29990}]
[null,null,null,null,null,null,null,null,null,null,null,{"$f":"SUMPRODUCT($D$8:D1581-$H$8:H1581)","v":29990}]
[null,null,null,null,null,null,null,null,null,null,null,{"$f":"SUMPRODUCT($D$8:D1582-$H$8:H1582)","v":29990}]
[null,null,null,null,null,null,null,null,null,null,null,{"$f":"SUMPRODUCT($D$8:D1583-$H$8:H1583)","v":29990}]
[null,null,null,null,null,null,null,null,null,null,null,{"$f":"SUMPRODUCT($D$8:D1584-$H$8:H1584)","v":29990}]
[null,null,null,null,null,null,null,null,null,null,null,{"$f":"SUMPRODUCT($D$8:D1585-$H$8:H1585)","v":29990}]
[null,null,null,null,null,null,null,null,null,null,null,{"$f":"SUMPRODUCT($D$8:D1586-$H$8:H1586)","v":29990}]
[null,null,null,null,null,null,null,null,null,null,null,{"$f":"SUMPRODUCT($D$8:D1587-$H$8:H1587)","v":29990}]
[null,null,null,null,null,null,null,null,null,null,null,{"$f":"SUMPRODUCT($D$8:D1588-$H$8:H1588)","v":29990}]
[null,null,null,null,null,null,null,null,null,null,null,{"$f":"SUMPRODUCT($D$8:D1589-$H$8:H1589)","v":29990}]
[null,null,null,null,null,null,null,null,null,null,null,{"$f":"SUMPRODUCT($D$8:D1590-$H$8:H1590)","v":29990}]
[null,null,null,null,null,null,null,null,null,null,null,{"$f":"SUMPRODUCT($D$8:D1591-$H$8:H1591)","v":29990}]
[null,null,null,null,null,null,null,null,null,null,null,{"$f":"SUMPRODUCT($D$8:D1592-$H$8:H1592)","v":29990}]
[null,null,null,null,null,null,null,null,null,null,null,{"$f":"SUMPRODUCT($D$8:D1593-$H$8:H1593)","v":29990}]
[null,null,null,null,null,null,null,null,null,null,null,{"$f":"SUMPRODUCT($D$8:D1594-$H$8:H1594)","v":29990}]
[null,null,null,null,null,null,null,null,null,null,null,{"$f":"SUMPRODUCT($D$8:D1595-$H$8:H1595)","v":29990}]
[null,null,null,null,null,null,null,null,null,null,null,{"$f":"SUMPRODUCT($D$8:D1596-$H$8:H1596)","v":29990}]
[null,null,null,null,null,null,null,null,null,null,null,{"$f":"SUMPRODUCT($D$8:D1597-$H$8:H1597)","v":29990}]
[null,null,null,null,null,null,null,null,null,null,null,{"$f":"SUMPRODUCT($D$8:D1598-$H$8:H1598)","v":29990}]
[null,null,null,null,null,null,null,null,null,null,null,{"$f":"SUMPRODUCT($D$8:D1599-$H$8:H1599)","v":29990}]
[null,null,null,null,null,null,null,null,null,null,null,{"$f":"SUMPRODUCT($D$8:D1600-$H$8:H1600)","v":29990}]
[null,null,null,null,null,null,null,null,null,null,null,{"$f":"SUMPRODUCT($D$8:D1601-$H$8:H1601)","v":29990}]
[null,null,null,null,null,null,null,null,null,null,null,{"$f":"SUMPRODUCT($D$8:D1602-$H$8:H1602)","v":29990}]
[null,null,null,null,null,null,null,null,null,null,null,{"$f":"SUMPRODUCT($D$8:D1603-$H$8:H1603)","v":29990}]
[null,null,null,null,null,null,null,null,null,null,null,{"$f":"SUMPRODUCT($D$8:D1604-$H$8:H1604)","v":29990}]
[null,null,null,null,null,null,null,null,null,null,null,{"$f":"SUMPRODUCT($D$8:D1605-$H$8:H1605)","v":29990}]
[null,null,null,null,null,null,null,null,null,null,null,{"$f":"SUMPRODUCT($D$8:D1606-$H$8:H1606)","v":29990}]
[null,null,null,null,null,null,null,null,null,null,null,{"$f":"SUMPRODUCT($D$8:D1607-$H$8:H1607)","v":29990}]
[null,null,null,null,null,null,null,null,null,null,null,{"$f":"SUMPRODUCT($D$8:D1608-$H$8:H1608)","v":29990}]
[null,null,null,null,null,null,null,null,null,null,null,{"$f":"SUMPRODUCT($D$8:D1609-$H$8:H1609)","v":29990}]
[null,null,null,null,null,null,null,null,null,null,null,{"$f":"SUMPRODUCT($D$8:D1610-$H$8:H1610)","v":29990}]
[null,null,null,null,null,null,null,null,null,null,null,{"$f":"SUMPRODUCT($D$8:D1611-$H$8:H1611)","v":29990}]
[null,null,null,null,null,null,null,null,null,null,null,{"$f":"SUMPRODUCT($D$8:D1612-$H$8:H1612)","v":29990}]
[null,null,null,null,null,null,null,null,null,null,null,{"$f":"SUMPRODUCT($D$8:D1613-$H$8:H1613)","v":29990}]
[null,null,null,null,null,null,null,null,null,null,null,{"$f":"SUMPRODUCT($D$8:D1614-$H$8:H1614)","v":29990}]
[null,null,null,null,null,null,null,null,null,null,null,{"$f":"SUMPRODUCT($D$8:D1615-$H$8:H1615)","v":29990}]
[null,null,null,null,null,null,null,null,null,null,null,{"$f":"SUMPRODUCT($D$8:D1616-$H$8:H1616)","v":29990}]
[null,null,null,null,null,null,null,null,null,null,null,{"$f":"SUMPRODUCT($D$8:D1617-$H$8:H1617)","v":29990}]
[null,null,null,null,null,null,null,null,null,null,null,{"$f":"SUMPRODUCT($D$8:D1618-$H$8:H1618)","v":29990}]
[null,null,null,null,null,null,null,null,null,null,null,{"$f":"SUMPRODUCT($D$8:D1619-$H$8:H1619)","v":29990}]
[null,null,null,null,null,null,null,null,null,null,null,{"$f":"SUMPRODUCT($D$8:D1620-$H$8:H1620)","v":29990}]
[null,null,null,null,null,null,null,null,null,null,null,{"$f":"SUMPRODUCT($D$8:D1621-$H$8:H1621)","v":29990}]
[null,null,null,null,null,null,null,null,null,null,null,{"$f":"SUMPRODUCT($D$8:D1622-$H$8:H1622)","v":29990}]
[null,null,null,null,null,null,null,null,null,null,null,{"$f":"SUMPRODUCT($D$8:D1623-$H$8:H1623)","v":29990}]
[null,null,null,null,null,null,null,null,null,null,null,{"$f":"SUMPRODUCT($D$8:D1624-$H$8:H1624)","v":29990}]
[null,null,null,null,null,null,null,null,null,null,null,{"$f":"SUMPRODUCT($D$8:D1625-$H$8:H1625)","v":29990}]
[null,null,null,null,null,null,null,null,null,null,null,{"$f":"SUMPRODUCT($D$8:D1626-$H$8:H1626)","v":29990}]
[null,null,null,null,null,null,null,null,null,null,null,{"$f":"SUMPRODUCT($D$8:D1627-$H$8:H1627)","v":29990}]
[null,null,null,null,null,null,null,null,null,null,null,{"$f":"SUMPRODUCT($D$8:D1628-$H$8:H1628)","v":29990}]
[null,null,null,null,null,null,null,null,null,null,null,{"$f":"SUMPRODUCT($D$8:D1629-$H$8:H1629)","v":29990}]
[null,null,null,null,null,null,null,null,null,null,null,{"$f":"SUMPRODUCT($D$8:D1630-$H$8:H1630)","v":29990}]
[null,null,null,null,null,null,null,null,null,null,null,{"$f":"SUMPRODUCT($D$8:D1631-$H$8:H1631)","v":29990}]
[null,null,null,null,null,null,null,null,null,null,null,{"$f":"SUMPRODUCT($D$8:D1632-$H$8:H1632)","v":29990}]
[null,null,null,null,null,null,null,null,null,null,null,{"$f":"SUMPRODUCT($D$8:D1633-$H$8:H1633)","v":29990}]
[null,null,null,null,null,null,null,null,null,null,null,{"$f":"SUMPRODUCT($D$8:D1634-$H$8:H1634)","v":29990}]
[null,null,null,null,null,null,null,null,null,null,null,{"$f":"SUMPRODUCT($D$8:D1635-$H$8:H1635)","v":29990}]
[null,null,null,null,null,null,null,null,null,null,null,{"$f":"SUMPRODUCT($D$8:D1636-$H$8:H1636)","v":29990}]
[null,null,null,null,null,null,null,null,null,null,null,{"$f":"SUMPRODUCT($D$8:D1637-$H$8:H1637)","v":29990}]
[null,null,null,null,null,null,null,null,null,null,null,{"$f":"SUMPRODUCT($D$8:D1638-$H$8:H1638)","v":29990}]
[null,null,null,null,null,null,null,null,null,null,null,{"$f":"SUMPRODUCT($D$8:D1639-$H$8:H1639)","v":29990}]
[null,null,null,null,null,null,null,null,null,null,null,{"$f":"SUMPRODUCT($D$8:D1640-$H$8:H1640)","v":29990}]
[null,null,null,null,null,null,null,null,null,null,null,{"$f":"SUMPRODUCT($D$8:D1641-$H$8:H1641)","v":29990}]
[null,null,null,null,null,null,null,null,null,null,null,{"$f":"SUMPRODUCT($D$8:D1642-$H$8:H1642)","v":29990}]
[null,null,null,null,null,null,null,null,null,null,null,{"$f":"SUMPRODUCT($D$8:D1643-$H$8:H1643)","v":29990}]
[null,null,null,null,null,null,null,null,null,null,null,{"$f":"SUMPRODUCT($D$8:D1644-$H$8:H1644)","v":29990}]
[null,null,null,null,null,null,null,null,null,null,null,{"$f":"SUMPRODUCT($D$8:D1645-$H$8:H1645)","v":29990}]
[null,null,null,null,null,null,null,null,null,null,null,{"$f":"SUMPRODUCT($D$8:D1646-$H$8:H1646)","v":29990}]
[null,null,null,null,null,null,null,null,null,null,null,{"$f":"SUMPRODUCT($D$8:D1647-$H$8:H1647)","v":29990}]
[null,null,null,null,null,null,null,null,null,null,null,{"$f":"SUMPRODUCT($D$8:D1648-$H$8:H1648)","v":29990}]
[null,null,null,null,null,null,null,null,null,null,null,{"$f":"SUMPRODUCT($D$8:D1649-$H$8:H1649)","v":29990}]
[null,null,null,null,null,null,null,null,null,null,null,{"$f":"SUMPRODUCT($D$8:D1650-$H$8:H1650)","v":29990}]
[null,null,null,null,null,null,null,null,null,null,null,{"$f":"SUMPRODUCT($D$8:D1651-$H$8:H1651)","v":29990}]
[null,null,null,null,null,null,null,null,null,null,null,{"$f":"SUMPRODUCT($D$8:D1652-$H$8:H1652)","v":29990}]
[null,null,null,null,null,null,null,null,null,null,null,{"$f":"SUMPRODUCT($D$8:D1653-$H$8:H1653)","v":29990}]
[null,null,null,null,null,null,null,null,null,null,null,{"$f":"SUMPRODUCT($D$8:D1654-$H$8:H1654)","v":29990}]
[null,null,null,null,null,null,null,null,null,null,null,{"$f":"SUMPRODUCT($D$8:D1655-$H$8:H1655)","v":29990}]
[null,null,null,null,null,null,null,null,null,null,null,{"$f":"SUMPRODUCT($D$8:D1656-$H$8:H1656)","v":29990}]
[null,null,null,null,null,null,null,null,null,null,null,{"$f":"SUMPRODUCT($D$8:D1657-$H$8:H1657)","v":29990}]
[null,null,null,null,null,null,null,null,null,null,null,{"$f":"SUMPRODUCT($D$8:D1658-$H$8:H1658)","v":29990}]
[null,null,null,null,null,null,null,null,null,null,null,{"$f":"SUMPRODUCT($D$8:D1659-$H$8:H1659)","v":29990}]
[null,null,null,null,null,null,null,null,null,null,null,{"$f":"SUMPRODUCT($D$8:D1660-$H$8:H1660)","v":29990}]
[null,null,null,null,null,null,null,null,null,null,null,{"$f":"SUMPRODUCT($D$8:D1661-$H$8:H1661)","v":29990}]
[null,null,null,null,null,null,null,null,null,null,null,{"$f":"SUMPRODUCT($D$8:D1662-$H$8:H1662)","v":29990}]
[null,null,null,null,null,null,null,null,null,null,null,{"$f":"SUMPRODUCT($D$8:D1663-$H$8:H1663)","v":29990}]
[null,null,null,null,null,null,null,null,null,null,null,{"$f":"SUMPRODUCT($D$8:D1664-$H$8:H1664)","v":29990}]
[null,null,null,null,null,null,null,null,null,null,null,{"$f":"SUMPRODUCT($D$8:D1665-$H$8:H1665)","v":29990}]
[null,null,null,null,null,null,null,null,null,null,null,{"$f":"SUMPRODUCT($D$8:D1666-$H$8:H1666)","v":29990}]
[null,null,null,null,null,null,null,null,null,null,null,{"$f":"SUMPRODUCT($D$8:D1667-$H$8:H1667)","v":29990}]
[null,null,null,null,null,null,null,null,null,null,null,{"$f":"SUMPRODUCT($D$8:D1668-$H$8:H1668)","v":29990}]
[null,null,null,null,null,null,null,null,null,null,null,{"$f":"SUMPRODUCT($D$8:D1669-$H$8:H1669)","v":29990}]
[null,null,null,null,null,null,null,null,null,null,null,{"$f":"SUMPRODUCT($D$8:D1670-$H$8:H1670)","v":29990}]
[null,null,null,null,null,null,null,null,null,null,null,{"$f":"SUMPRODUCT($D$8:D1671-$H$8:H1671)","v":29990}]
[null,null,null,null,null,null,null,null,null,null,null,{"$f":"SUMPRODUCT($D$8:D1672-$H$8:H1672)","v":29990}]
[null,null,null,null,null,null,null,null,null,null,null,{"$f":"SUMPRODUCT($D$8:D1673-$H$8:H1673)","v":29990}]
[null,null,null,null,null,null,null,null,null,null,null,{"$f":"SUMPRODUCT($D$8:D1674-$H$8:H1674)","v":29990}]
[null,null,null,null,null,null,null,null,null,null,null,{"$f":"SUMPRODUCT($D$8:D1675-$H$8:H1675)","v":29990}]
[null,null,null,null,null,null,null,null,null,null,null,{"$f":"SUMPRODUCT($D$8:D1676-$H$8:H1676)","v":29990}]
[null,null,null,null,null,null,null,null,null,null,null,{"$f":"SUMPRODUCT($D$8:D1677-$H$8:H1677)","v":29990}]
[null,null,null,null,null,null,null,null,null,null,null,{"$f":"SUMPRODUCT($D$8:D1678-$H$8:H1678)","v":29990}]
[null,null,null,null,null,null,null,null,null,null,null,{"$f":"SUMPRODUCT($D$8:D1679-$H$8:H1679)","v":29990}]
[null,null,null,null,null,null,null,null,null,null,null,{"$f":"SUMPRODUCT($D$8:D1680-$H$8:H1680)","v":29990}]
[null,null,null,null,null,null,null,null,null,null,null,{"$f":"SUMPRODUCT($D$8:D1681-$H$8:H1681)","v":29990}]
[null,null,null,null,null,null,null,null,null,null,null,{"$f":"SUMPRODUCT($D$8:D1682-$H$8:H1682)","v":29990}]
[null,null,null,null,null,null,null,null,null,null,null,{"$f":"SUMPRODUCT($D$8:D1683-$H$8:H1683)","v":29990}]
[null,null,null,null,null,null,null,null,null,null,null,{"$f":"SUMPRODUCT($D$8:D1684-$H$8:H1684)","v":29990}]
[null,null,null,null,null,null,null,null,null,null,null,{"$f":"SUMPRODUCT($D$8:D1685-$H$8:H1685)","v":29990}]
[null,null,null,null,null,null,null,null,null,null,null,{"$f":"SUMPRODUCT($D$8:D1686-$H$8:H1686)","v":29990}]
[null,null,null,null,null,null,null,null,null,null,null,{"$f":"SUMPRODUCT($D$8:D1687-$H$8:H1687)","v":29990}]
[null,null,null,null,null,null,null,null,null,null,null,{"$f":"SUMPRODUCT($D$8:D1688-$H$8:H1688)","v":29990}]
[null,null,null,null,null,null,null,null,null,null,null,{"$f":"SUMPRODUCT($D$8:D1689-$H$8:H1689)","v":29990}]
[null,null,null,null,null,null,null,null,null,null,null,{"$f":"SUMPRODUCT($D$8:D1690-$H$8:H1690)","v":29990}]
[null,null,null,null,null,null,null,null,null,null,null,{"$f":"SUMPRODUCT($D$8:D1691-$H$8:H1691)","v":29990}]
[null,null,null,null,null,null,null,null,null,null,null,{"$f":"SUMPRODUCT($D$8:D1692-$H$8:H1692)","v":29990}]
[null,null,null,null,null,null,null,null,null,null,null,{"$f":"SUMPRODUCT($D$8:D1693-$H$8:H1693)","v":29990}]
[null,null,null,null,null,null,null,null,null,null,null,{"$f":"SUMPRODUCT($D$8:D1694-$H$8:H1694)","v":29990}]
[null,null,null,null,null,null,null,null,null,null,null,{"$f":"SUMPRODUCT($D$8:D1695-$H$8:H1695)","v":29990}]
[null,null,null,null,null,null,null,null,null,null,null,{"$f":"SUMPRODUCT($D$8:D1696-$H$8:H1696)","v":29990}]
[null,null,null,null,null,null,null,null,null,null,null,{"$f":"SUMPRODUCT($D$8:D1697-$H$8:H1697)","v":29990}]
[null,null,null,null,null,null,null,null,null,null,null,{"$f":"SUMPRODUCT($D$8:D1698-$H$8:H1698)","v":29990}]
[null,null,null,null,null,null,null,null,null,null,null,{"$f":"SUMPRODUCT($D$8:D1699-$H$8:H1699)","v":29990}]
[null,null,null,null,null,null,null,null,null,null,null,{"$f":"SUMPRODUCT($D$8:D1700-$H$8:H1700)","v":29990}]
[null,null,null,null,null,null,null,null,null,null,null,{"$f":"SUMPRODUCT($D$8:D1701-$H$8:H1701)","v":29990}]
[null,null,null,null,null,null,null,null,null,null,null,{"$f":"SUMPRODUCT($D$8:D1702-$H$8:H1702)","v":29990}]
[null,null,null,null,null,null,null,null,null,null,null,{"$f":"SUMPRODUCT($D$8:D1703-$H$8:H1703)","v":29990}]
[null,null,null,null,null,null,null,null,null,null,null,{"$f":"SUMPRODUCT($D$8:D1704-$H$8:H1704)","v":29990}]
[null,null,null,null,null,null,null,null,null,null,null,{"$f":"SUMPRODUCT($D$8:D1705-$H$8:H1705)","v":29990}]
[null,null,null,null,null,null,null,null,null,null,null,{"$f":"SUMPRODUCT($D$8:D1706-$H$8:H1706)","v":29990}]
[null,null,null,null,null,null,null,null,null,null,null,{"$f":"SUMPRODUCT($D$8:D1707-$H$8:H1707)","v":29990}]
[null,null,null,null,null,null,null,null,null,null,null,{"$f":"SUMPRODUCT($D$8:D1708-$H$8:H1708)","v":29990}]
[null,null,null,null,null,null,null,null,null,null,null,{"$f":"SUMPRODUCT($D$8:D1709-$H$8:H1709)","v":29990}]
[null,null,null,null,null,null,null,null,null,null,null,{"$f":"SUMPRODUCT($D$8:D1710-$H$8:H1710)","v":29990}]
[null,null,null,null,null,null,null,null,null,null,null,{"$f":"SUMPRODUCT($D$8:D1711-$H$8:H1711)","v":29990}]
[null,null,null,null,null,null,null,null,null,null,null,{"$f":"SUMPRODUCT($D$8:D1712-$H$8:H1712)","v":29990}]
[null,null,null,null,null,null,null,null,null,null,null,{"$f":"SUMPRODUCT($D$8:D1713-$H$8:H1713)","v":29990}]
[null,null,null,null,null,null,null,null,null,null,null,{"$f":"SUMPRODUCT($D$8:D1714-$H$8:H1714)","v":29990}]
[null,null,null,null,null,null,null,null,null,null,null,{"$f":"SUMPRODUCT($D$8:D1715-$H$8:H1715)","v":29990}]
[null,null,null,null,null,null,null,null,null,null,null,{"$f":"SUMPRODUCT($D$8:D1716-$H$8:H1716)","v":29990}]
[null,null,null,null,null,null,null,null,null,null,null,{"$f":"SUMPRODUCT($D$8:D1717-$H$8:H1717)","v":29990}]
[null,null,null,null,null,null,null,null,null,null,null,{"$f":"SUMPRODUCT($D$8:D1718-$H$8:H1718)","v":29990}]
[null,null,null,null,null,null,null,null,null,null,null,{"$f":"SUMPRODUCT($D$8:D1719-$H$8:H1719)","v":29990}]
[null,null,null,null,null,null,null,null,null,null,null,{"$f":"SUMPRODUCT($D$8:D1720-$H$8:H1720)","v":29990}]
[null,null,null,null,null,null,null,null,null,null,null,{"$f":"SUMPRODUCT($D$8:D1721-$H$8:H1721)","v":29990}]
[null,null,null,null,null,null,null,null,null,null,null,{"$f":"SUMPRODUCT($D$8:D1722-$H$8:H1722)","v":29990}]
[null,null,null,null,null,null,null,null,null,null,null,{"$f":"SUMPRODUCT($D$8:D1723-$H$8:H1723)","v":29990}]
[null,null,null,null,null,null,null,null,null,null,null,{"$f":"SUMPRODUCT($D$8:D1724-$H$8:H1724)","v":29990}]
[null,null,null,null,null,null,null,null,null,null,null,{"$f":"SUMPRODUCT($D$8:D1725-$H$8:H1725)","v":29990}]
[null,null,null,null,null,null,null,null,null,null,null,{"$f":"SUMPRODUCT($D$8:D1726-$H$8:H1726)","v":29990}]
[null,null,null,null,null,null,null,null,null,null,null,{"$f":"SUMPRODUCT($D$8:D1727-$H$8:H1727)","v":29990}]
[null,null,null,null,null,null,null,null,null,null,null,{"$f":"SUMPRODUCT($D$8:D1728-$H$8:H1728)","v":29990}]
[null,null,null,null,null,null,null,null,null,null,null,{"$f":"SUMPRODUCT($D$8:D1729-$H$8:H1729)","v":29990}]
[null,null,null,null,null,null,null,null,null,null,null,{"$f":"SUMPRODUCT($D$8:D1730-$H$8:H1730)","v":29990}]
[null,null,null,null,null,null,null,null,null,null,null,{"$f":"SUMPRODUCT($D$8:D1731-$H$8:H1731)","v":29990}]
[null,null,null,null,null,null,null,null,null,null,null,{"$f":"SUMPRODUCT($D$8:D1732-$H$8:H1732)","v":29990}]
[null,null,null,null,null,null,null,null,null,null,null,{"$f":"SUMPRODUCT($D$8:D1733-$H$8:H1733)","v":29990}]
[null,null,null,null,null,null,null,null,null,null,null,{"$f":"SUMPRODUCT($D$8:D1734-$H$8:H1734)","v":29990}]
[null,null,null,null,null,null,null,null,null,null,null,{"$f":"SUMPRODUCT($D$8:D1735-$H$8:H1735)","v":29990}]
[null,null,null,null,null,null,null,null,null,null,null,{"$f":"SUMPRODUCT($D$8:D1736-$H$8:H1736)","v":29990}]
[null,null,null,null,null,null,null,null,null,null,null,{"$f":"SUMPRODUCT($D$8:D1737-$H$8:H1737)","v":29990}]
[null,null,null,null,null,null,null,null,null,null,null,{"$f":"SUMPRODUCT($D$8:D1738-$H$8:H1738)","v":29990}]
[null,null,null,null,null,null,null,null,null,null,null,{"$f":"SUMPRODUCT($D$8:D1739-$H$8:H1739)","v":29990}]
[null,null,null,null,null,null,null,null,null,null,null,{"$f":"SUMPRODUCT($D$8:D1740-$H$8:H1740)","v":29990}]
[null,null,null,null,null,null,null,null,null,null,null,{"$f":"SUMPRODUCT($D$8:D1741-$H$8:H1741)","v":29990}]
[null,null,null,null,null,null,null,null,null,null,null,{"$f":"SUMPRODUCT($D$8:D1742-$H$8:H1742)","v":29990}]
[null,null,null,null,null,null,null,null,null,null,null,{"$f":"SUMPRODUCT($D$8:D1743-$H$8:H1743)","v":29990}]
[null,null,null,null,null,null,null,null,null,null,null,{"$f":"SUMPRODUCT($D$8:D1744-$H$8:H1744)","v":29990}]
[null,null,null,null,null,null,null,null,null,null,null,{"$f":"SUMPRODUCT($D$8:D1745-$H$8:H1745)","v":29990}]
[null,null,null,null,null,null,null,null,null,null,null,{"$f":"SUMPRODUCT($D$8:D1746-$H$8:H1746)","v":29990}]
[null,null,null,null,null,null,null,null,null,null,null,{"$f":"SUMPRODUCT($D$8:D1747-$H$8:H1747)","v":29990}]
[null,null,null,null,null,null,null,null,null,null,null,{"$f":"SUMPRODUCT($D$8:D1748-$H$8:H1748)","v":29990}]
[null,null,null,null,null,null,null,null,null,null,null,{"$f":"SUMPRODUCT($D$8:D1749-$H$8:H1749)","v":29990}]
[null,null,null,null,null,null,null,null,null,null,null,{"$f":"SUMPRODUCT($D$8:D1750-$H$8:H1750)","v":29990}]
[null,null,null,null,null,null,null,null,null,null,null,{"$f":"SUMPRODUCT($D$8:D1751-$H$8:H1751)","v":29990}]
[null,null,null,null,null,null,null,null,null,null,null,{"$f":"SUMPRODUCT($D$8:D1752-$H$8:H1752)","v":29990}]
[null,null,null,null,null,null,null,null,null,null,null,{"$f":"SUMPRODUCT($D$8:D1753-$H$8:H1753)","v":29990}]
[null,null,null,null,null,null,null,null,null,null,null,{"$f":"SUMPRODUCT($D$8:D1754-$H$8:H1754)","v":29990}]
[null,null,null,null,null,null,null,null,null,null,null,{"$f":"SUMPRODUCT($D$8:D1755-$H$8:H1755)","v":29990}]
[null,null,null,null,null,null,null,null,null,null,null,{"$f":"SUMPRODUCT($D$8:D1756-$H$8:H1756)","v":29990}]
[null,null,null,null,null,null,null,null,null,null,null,{"$f":"SUMPRODUCT($D$8:D1757-$H$8:H1757)","v":29990}]
[null,null,null,null,null,null,null,null,null,null,null,{"$f":"SUMPRODUCT($D$8:D1758-$H$8:H1758)","v":29990}]
[null,null,null,null,null,null,null,null,null,null,null,{"$f":"SUMPRODUCT($D$8:D1759-$H$8:H1759)","v":29990}]
[null,null,null,null,null,null,null,null,null,null,null,{"$f":"SUMPRODUCT($D$8:D1760-$H$8:H1760)","v":29990}]
[null,null,null,null,null,null,null,null,null,null,null,{"$f":"SUMPRODUCT($D$8:D1761-$H$8:H1761)","v":29990}]
[null,null,null,null,null,null,null,null,null,null,null,{"$f":"SUMPRODUCT($D$8:D1762-$H$8:H1762)","v":29990}]
[null,null,null,null,null,null,null,null,null,null,null,{"$f":"SUMPRODUCT($D$8:D1763-$H$8:H1763)","v":29990}]
[null,null,null,null,null,null,null,null,null,null,null,{"$f":"SUMPRODUCT($D$8:D1764-$H$8:H1764)","v":29990}]
[null,null,null,null,null,null,null,null,null,null,null,{"$f":"SUMPRODUCT($D$8:D1765-$H$8:H1765)","v":29990}]
[null,null,null,null,null,null,null,null,null,null,null,{"$f":"SUMPRODUCT($D$8:D1766-$H$8:H1766)","v":29990}]
[null,null,null,null,null,null,null,null,null,null,null,{"$f":"SUMPRODUCT($D$8:D1767-$H$8:H1767)","v":29990}]
[null,null,null,null,null,null,null,null,null,null,null,{"$f":"SUMPRODUCT($D$8:D1768-$H$8:H1768)","v":29990}]
[null,null,null,null,null,null,null,null,null,null,null,{"$f":"SUMPRODUCT($D$8:D1769-$H$8:H1769)","v":29990}]
[null,null,null,null,null,null,null,null,null,null,null,{"$f":"SUMPRODUCT($D$8:D1770-$H$8:H1770)","v":29990}]
[null,null,null,null,null,null,null,null,null,null,null,{"$f":"SUMPRODUCT($D$8:D1771-$H$8:H1771)","v":29990}]
[null,null,null,null,null,null,null,null,null,null,null,{"$f":"SUMPRODUCT($D$8:D1772-$H$8:H1772)","v":29990}]
[null,null,null,null,null,null,null,null,null,null,null,{"$f":"SUMPRODUCT($D$8:D1773-$H$8:H1773)","v":29990}]
[null,null,null,null,null,null,null,null,null,null,null,{"$f":"SUMPRODUCT($D$8:D1774-$H$8:H1774)","v":29990}]
[null,null,null,null,null,null,null,null,null,null,null,{"$f":"SUMPRODUCT($D$8:D1775-$H$8:H1775)","v":29990}]
[null,null,null,null,null,null,null,null,null,null,null,{"$f":"SUMPRODUCT($D$8:D1776-$H$8:H1776)","v":29990}]
[null,null,null,null,null,null,null,null,null,null,null,{"$f":"SUMPRODUCT($D$8:D1777-$H$8:H1777)","v":29990}]
[null,null,null,null,null,null,null,null,null,null,null,{"$f":"SUMPRODUCT($D$8:D1778-$H$8:H1778)","v":29990}]
[null,null,null,null,null,null,null,null,null,null,null,{"$f":"SUMPRODUCT($D$8:D1779-$H$8:H1779)","v":29990}]
[null,null,null,null,null,null,null,null,null,null,null,{"$f":"SUMPRODUCT($D$8:D1780-$H$8:H1780)","v":29990}]
[null,null,null,null,null,null,null,null,null,null,null,{"$f":"SUMPRODUCT($D$8:D1781-$H$8:H1781)","v":29990}]
[null,null,null,null,null,null,null,null,null,null,null,{"$f":"SUMPRODUCT($D$8:D1782-$H$8:H1782)","v":29990}]
[null,null,null,null,null,null,null,null,null,null,null,{"$f":"SUMPRODUCT($D$8:D1783-$H$8:H1783)","v":29990}]
[null,null,null,null,null,null,null,null,null,null,null,{"$f":"SUMPRODUCT($D$8:D1784-$H$8:H1784)","v":29990}]
[null,null,null,null,null,null,null,null,null,null,null,{"$f":"SUMPRODUCT($D$8:D1785-$H$8:H1785)","v":29990}]
[null,null,null,null,null,null,null,null,null,null,null,{"$f":"SUMPRODUCT($D$8:D1786-$H$8:H1786)","v":29990}]
[null,null,null,null,null,null,null,null,null,null,null,{"$f":"SUMPRODUCT($D$8:D1787-$H$8:H1787)","v":29990}]
[null,null,null,null,null,null,null,null,null,null,null,{"$f":"SUMPRODUCT($D$8:D1788-$H$8:H1788)","v":29990}]
[null,null,null,null,null,null,null,null,null,null,null,{"$f":"SUMPRODUCT($D$8:D1789-$H$8:H1789)","v":29990}]
[null,null,null,null,null,null,null,null,null,null,null,{"$f":"SUMPRODUCT($D$8:D1790-$H$8:H1790)","v":29990}]
[null,null,null,null,null,null,null,null,null,null,null,{"$f":"SUMPRODUCT($D$8:D1791-$H$8:H1791)","v":29990}]
[null,null,null,null,null,null,null,null,null,null,null,{"$f":"SUMPRODUCT($D$8:D1792-$H$8:H1792)","v":29990}]
[null,null,null,null,null,null,null,null,null,null,null,{"$f":"SUMPRODUCT($D$8:D1793-$H$8:H1793)","v":29990}]
[null,null,null,null,null,null,null,null,null,null,null,{"$f":"SUMPRODUCT($D$8:D1794-$H$8:H1794)","v":29990}]
[null,null,null,null,null,null,null,null,null,null,null,{"$f":"SUMPRODUCT($D$8:D1795-$H$8:H1795)","v":29990}]
[null,null,null,null,null,null,null,null,null,null,null,{"$f":"SUMPRODUCT($D$8:D1796-$H$8:H1796)","v":29990}]
[null,null,null,null,null,null,null,null,null,null,null,{"$f":"SUMPRODUCT($D$8:D1797-$H$8:H1797)","v":29990}]
[null,null,null,null,null,null,null,null,null,null,null,{"$f":"SUMPRODUCT($D$8:D1798-$H$8:H1798)","v":29990}]
[null,null,null,null,null,null,null,null,null,null,null,{"$f":"SUMPRODUCT($D$8:D1799-$H$8:H1799)","v":29990}]
[null,null,null,null,null,null,null,null,null,null,null,{"$f":"SUMPRODUCT($D$8:D1800-$H$8:H1800)","v":29990}]
[null,null,null,null,null,null,null,null,null,null,null,{"$f":"SUMPRODUCT($D$8:D1801-$H$8:H1801)","v":29990}]
[null,null,null,null,null,null,null,null,null,null,null,{"$f":"SUMPRODUCT($D$8:D1802-$H$8:H1802)","v":29990}]
[null,null,null,null,null,null,null,null,null,null,null,{"$f":"SUMPRODUCT($D$8:D1803-$H$8:H1803)","v":29990}]
[null,null,null,null,null,null,null,null,null,null,null,{"$f":"SUMPRODUCT($D$8:D1804-$H$8:H1804)","v":29990}]
[null,null,null,null,null,null,null,null,null,null,null,{"$f":"SUMPRODUCT($D$8:D1805-$H$8:H1805)","v":29990}]
[null,null,null,null,null,null,null,null,null,null,null,{"$f":"SUMPRODUCT($D$8:D1806-$H$8:H1806)","v":29990}]
[null,null,null,null,null,null,null,null,null,null,null,{"$f":"SUMPRODUCT($D$8:D1807-$H$8:H1807)","v":29990}]
[null,null,null,null,null,null,null,null,null,null,null,{"$f":"SUMPRODUCT($D$8:D1808-$H$8:H1808)","v":29990}]
[null,null,null,null,null,null,null,null,null,null,null,{"$f":"SUMPRODUCT($D$8:D1809-$H$8:H1809)","v":29990}]
[null,null,null,null,null,null,null,null,null,null,null,{"$f":"SUMPRODUCT($D$8:D1810-$H$8:H1810)","v":29990}]
[null,null,null,null,null,null,null,null,null,null,null,{"$f":"SUMPRODUCT($D$8:D1811-$H$8:H1811)","v":29990}]
[null,null,null,null,null,null,null,null,null,null,null,{"$f":"SUMPRODUCT($D$8:D1812-$H$8:H1812)","v":29990}]
[null,null,null,null,null,null,null,null,null,null,null,{"$f":"SUMPRODUCT($D$8:D1813-$H$8:H1813)","v":29990}]
[null,null,null,null,null,null,null,null,null,null,null,{"$f":"SUMPRODUCT($D$8:D1814-$H$8:H1814)","v":29990}]
[null,null,null,null,null,null,null,null,null,null,null,{"$f":"SUMPRODUCT($D$8:D1815-$H$8:H1815)","v":29990}]
[null,null,null,null,null,null,null,null,null,null,null,{"$f":"SUMPRODUCT($D$8:D1816-$H$8:H1816)","v":29990}]
[null,null,null,null,null,null,null,null,null,null,null,{"$f":"SUMPRODUCT($D$8:D1817-$H$8:H1817)","v":29990}]
[null,null,null,null,null,null,null,null,null,null,null,{"$f":"SUMPRODUCT($D$8:D1818-$H$8:H1818)","v":29990}]
[null,null,null,null,null,null,null,null,null,null,null,{"$f":"SUMPRODUCT($D$8:D1819-$H$8:H1819)","v":29990}]
[null,null,null,null,null,null,null,null,null,null,null,{"$f":"SUMPRODUCT($D$8:D1820-$H$8:H1820)","v":29990}]
[null,null,null,null,null,null,null,null,null,null,null,{"$f":"SUMPRODUCT($D$8:D1821-$H$8:H1821)","v":29990}]
[null,null,null,null,null,null,null,null,null,null,null,{"$f":"SUMPRODUCT($D$8:D1822-$H$8:H1822)","v":29990}]
[null,null,null,null,null,null,null,null,null,null,null,{"$f":"SUMPRODUCT($D$8:D1823-$H$8:H1823)","v":29990}]
[null,null,null,null,null,null,null,null,null,null,null,{"$f":"SUMPRODUCT($D$8:D1824-$H$8:H1824)","v":29990}]
[null,null,null,null,null,null,null,null,null,null,null,{"$f":"SUMPRODUCT($D$8:D1825-$H$8:H1825)","v":29990}]
[null,null,null,null,null,null,null,null,null,null,null,{"$f":"SUMPRODUCT($D$8:D1826-$H$8:H1826)","v":29990}]
[null,null,null,null,null,null,null,null,null,null,null,{"$f":"SUMPRODUCT($D$8:D1827-$H$8:H1827)","v":29990}]
[null,null,null,null,null,null,null,null,null,null,null,{"$f":"SUMPRODUCT($D$8:D1828-$H$8:H1828)","v":29990}]
[null,null,null,null,null,null,null,null,null,null,null,{"$f":"SUMPRODUCT($D$8:D1829-$H$8:H1829)","v":29990}]
[null,null,null,null,null,null,null,null,null,null,null,{"$f":"SUMPRODUCT($D$8:D1830-$H$8:H1830)","v":29990}]
[null,null,null,null,null,null,null,null,null,null,null,{"$f":"SUMPRODUCT($D$8:D1831-$H$8:H1831)","v":29990}]
[null,null,null,null,null,null,null,null,null,null,null,{"$f":"SUMPRODUCT($D$8:D1832-$H$8:H1832)","v":29990}]
[null,null,null,null,null,null,null,null,null,null,null,{"$f":"SUMPRODUCT($D$8:D1833-$H$8:H1833)","v":29990}]
[null,null,null,null,null,null,null,null,null,null,null,{"$f":"SUMPRODUCT($D$8:D1834-$H$8:H1834)","v":29990}]
[null,null,null,null,null,null,null,null,null,null,null,{"$f":"SUMPRODUCT($D$8:D1835-$H$8:H1835)","v":29990}]
[null,null,null,null,null,null,null,null,null,null,null,{"$f":"SUMPRODUCT($D$8:D1836-$H$8:H1836)","v":29990}]
[null,null,null,null,null,null,null,null,null,null,null,{"$f":"SUMPRODUCT($D$8:D1837-$H$8:H1837)","v":29990}]
[null,null,null,null,null,null,null,null,null,null,null,{"$f":"SUMPRODUCT($D$8:D1838-$H$8:H1838)","v":29990}]
[null,null,null,null,null,null,null,null,null,null,null,{"$f":"SUMPRODUCT($D$8:D1839-$H$8:H1839)","v":29990}]
[null,null,null,null,null,null,null,null,null,null,null,{"$f":"SUMPRODUCT($D$8:D1840-$H$8:H1840)","v":29990}]
[null,null,null,null,null,null,null,null,null,null,null,{"$f":"SUMPRODUCT($D$8:D1841-$H$8:H1841)","v":29990}]
[null,null,null,null,null,null,null,null,null,null,null,{"$f":"SUMPRODUCT($D$8:D1842-$H$8:H1842)","v":29990}]
[null,null,null,null,null,null,null,null,null,null,null,{"$f":"SUMPRODUCT($D$8:D1843-$H$8:H1843)","v":29990}]
[null,null,null,null,null,null,null,null,null,null,null,{"$f":"SUMPRODUCT($D$8:D1844-$H$8:H1844)","v":29990}]
[null,null,null,null,null,null,null,null,null,null,null,{"$f":"SUMPRODUCT($D$8:D1845-$H$8:H1845)","v":29990}]
[null,null,null,null,null,null,null,null,null,null,null,{"$f":"SUMPRODUCT($D$8:D1846-$H$8:H1846)","v":29990}]
[null,null,null,null,null,null,null,null,null,null,null,{"$f":"SUMPRODUCT($D$8:D1847-$H$8:H1847)","v":29990}]
[null,null,null,null,null,null,null,null,null,null,null,{"$f":"SUMPRODUCT($D$8:D1848-$H$8:H1848)","v":29990}]
[null,null,null,null,null,null,null,null,null,null,null,{"$f":"SUMPRODUCT($D$8:D1849-$H$8:H1849)","v":29990}]
[null,null,null,null,null,null,null,null,null,null,null,{"$f":"SUMPRODUCT($D$8:D1850-$H$8:H1850)","v":29990}]
[null,null,null,null,null,null,null,null,null,null,null,{"$f":"SUMPRODUCT($D$8:D1851-$H$8:H1851)","v":29990}]
[null,null,null,null,null,null,null,null,null,null,null,{"$f":"SUMPRODUCT($D$8:D1852-$H$8:H1852)","v":29990}]
[null,null,null,null,null,null,null,null,null,null,null,{"$f":"SUMPRODUCT($D$8:D1853-$H$8:H1853)","v":29990}]
[null,null,null,null,null,null,null,null,null,null,null,{"$f":"SUMPRODUCT($D$8:D1854-$H$8:H1854)","v":29990}]
[null,null,null,null,null,null,null,null,null,null,null,{"$f":"SUMPRODUCT($D$8:D1855-$H$8:H1855)","v":29990}]
[null,null,null,null,null,null,null,null,null,null,null,{"$f":"SUMPRODUCT($D$8:D1856-$H$8:H1856)","v":29990}]
[null,null,null,null,null,null,null,null,null,null,null,{"$f":"SUMPRODUCT($D$8:D1857-$H$8:H1857)","v":29990}]
[null,null,null,null,null,null,null,null,null,null,null,{"$f":"SUMPRODUCT($D$8:D1858-$H$8:H1858)","v":29990}]
[null,null,null,null,null,null,null,null,null,null,null,{"$f":"SUMPRODUCT($D$8:D1859-$H$8:H1859)","v":29990}]
[null,null,null,null,null,null,null,null,null,null,null,{"$f":"SUMPRODUCT($D$8:D1860-$H$8:H1860)","v":29990}]
[null,null,null,null,null,null,null,null,null,null,null,{"$f":"SUMPRODUCT($D$8:D1861-$H$8:H1861)","v":29990}]
[null,null,null,null,null,null,null,null,null,null,null,{"$f":"SUMPRODUCT($D$8:D1862-$H$8:H1862)","v":29990}]
[null,null,null,null,null,null,null,null,null,null,null,{"$f":"SUMPRODUCT($D$8:D1863-$H$8:H1863)","v":29990}]
[null,null,null,null,null,null,null,null,null,null,null,{"$f":"SUMPRODUCT($D$8:D1864-$H$8:H1864)","v":29990}]
[null,null,null,null,null,null,null,null,null,null,null,{"$f":"SUMPRODUCT($D$8:D1865-$H$8:H1865)","v":29990}]
[null,null,null,null,null,null,null,null,null,null,null,{"$f":"SUMPRODUCT($D$8:D1866-$H$8:H1866)","v":29990}]
[null,null,null,null,null,null,null,null,null,null,null,{"$f":"SUMPRODUCT($D$8:D1867-$H$8:H1867)","v":29990}]
[null,null,null,null,null,null,null,null,null,null,null,{"$f":"SUMPRODUCT($D$8:D1868-$H$8:H1868)","v":29990}]
[null,null,null,null,null,null,null,null,null,null,null,{"$f":"SUMPRODUCT($D$8:D1869-$H$8:H1869)","v":29990}]
[null,null,null,null,null,null,null,null,null,null,null,{"$f":"SUMPRODUCT($D$8:D1870-$H$8:H1870)","v":29990}]
[null,null,null,null,null,null,null,null,null,null,null,{"$f":"SUMPRODUCT($D$8:D1871-$H$8:H1871)","v":29990}]
[null,null,null,null,null,null,null,null,null,null,null,{"$f":"SUMPRODUCT($D$8:D1872-$H$8:H1872)","v":29990}]
[null,null,null,null,null,null,null,null,null,null,null,{"$f":"SUMPRODUCT($D$8:D1873-$H$8:H1873)","v":29990}]
[null,null,null,null,null,null,null,null,null,null,null,{"$f":"SUMPRODUCT($D$8:D1874-$H$8:H1874)","v":29990}]
[null,null,null,null,null,null,null,null,null,null,null,{"$f":"SUMPRODUCT($D$8:D1875-$H$8:H1875)","v":29990}]
[null,null,null,null,null,null,null,null,null,null,null,{"$f":"SUMPRODUCT($D$8:D1876-$H$8:H1876)","v":29990}]
[null,null,null,null,null,null,null,null,null,null,null,{"$f":"SUMPRODUCT($D$8:D1877-$H$8:H1877)","v":29990}]
[null,null,null,null,null,null,null,null,null,null,null,{"$f":"SUMPRODUCT($D$8:D1878-$H$8:H1878)","v":29990}]
[null,null,null,null,null,null,null,null,null,null,null,{"$f":"SUMPRODUCT($D$8:D1879-$H$8:H1879)","v":29990}]
[null,null,null,null,null,null,null,null,null,null,null,{"$f":"SUMPRODUCT($D$8:D1880-$H$8:H1880)","v":29990}]
[null,null,null,null,null,null,null,null,null,null,null,{"$f":"SUMPRODUCT($D$8:D1881-$H$8:H1881)","v":29990}]
[null,null,null,null,null,null,null,null,null,null,null,{"$f":"SUMPRODUCT($D$8:D1882-$H$8:H1882)","v":29990}]
[null,null,null,null,null,null,null,null,null,null,null,{"$f":"SUMPRODUCT($D$8:D1883-$H$8:H1883)","v":29990}]
[null,null,null,null,null,null,null,null,null,null,null,{"$f":"SUMPRODUCT($D$8:D1884-$H$8:H1884)","v":29990}]
[null,null,null,null,null,null,null,null,null,null,null,{"$f":"SUMPRODUCT($D$8:D1885-$H$8:H1885)","v":29990}]
[null,null,null,null,null,null,null,null,null,null,null,{"$f":"SUMPRODUCT($D$8:D1886-$H$8:H1886)","v":29990}]
[null,null,null,null,null,null,null,null,null,null,null,{"$f":"SUMPRODUCT($D$8:D1887-$H$8:H1887)","v":29990}]
[null,null,null,null,null,null,null,null,null,null,null,{"$f":"SUMPRODUCT($D$8:D1888-$H$8:H1888)","v":29990}]
[null,null,null,null,null,null,null,null,null,null,null,{"$f":"SUMPRODUCT($D$8:D1889-$H$8:H1889)","v":29990}]
[null,null,null,null,null,null,null,null,null,null,null,{"$f":"SUMPRODUCT($D$8:D1890-$H$8:H1890)","v":29990}]
[null,null,null,null,null,null,null,null,null,null,null,{"$f":"SUMPRODUCT($D$8:D1891-$H$8:H1891)","v":29990}]
[null,null,null,null,null,null,null,null,null,null,null,{"$f":"SUMPRODUCT($D$8:D1892-$H$8:H1892)","v":29990}]
[null,null,null,null,null,null,null,null,null,null,null,{"$f":"SUMPRODUCT($D$8:D1893-$H$8:H1893)","v":29990}]
[null,null,null,null,null,null,null,null,null,null,null,{"$f":"SUMPRODUCT($D$8:D1894-$H$8:H1894)","v":29990}]
[null,null,null,null,null,null,null,null,null,null,null,{"$f":"SUMPRODUCT($D$8:D1895-$H$8:H1895)","v":29990}]
[null,null,null,null,null,null,null,null,null,null,null,{"$f":"SUMPRODUCT($D$8:D1896-$H$8:H1896)","v":29990}]
[null,null,null,null,null,null,null,null,null,null,null,{"$f":"SUMPRODUCT($D$8:D1897-$H$8:H1897)","v":29990}]
[null,null,null,null,null,null,null,null,null,null,null,{"$f":"SUMPRODUCT($D$8:D1898-$H$8:H1898)","v":29990}]
[null,null,null,null,null,null,null,null,null,null,null,{"$f":"SUMPRODUCT($D$8:D1899-$H$8:H1899)","v":29990}]
[null,null,null,null,null,null,null,null,null,null,null,{"$f":"SUMPRODUCT($D$8:D1900-$H$8:H1900)","v":29990}]
[null,null,null,null,null,null,null,null,null,null,null,{"$f":"SUMPRODUCT($D$8:D1901-$H$8:H1901)","v":29990}]
[null,null,null,null,null,null,null,null,null,null,null,{"$f":"SUMPRODUCT($D$8:D1902-$H$8:H1902)","v":29990}]
[null,null,null,null,null,null,null,null,null,null,null,{"$f":"SUMPRODUCT($D$8:D1903-$H$8:H1903)","v":29990}]
[null,null,null,null,null,null,null,null,null,null,null,{"$f":"SUMPRODUCT($D$8:D1904-$H$8:H1904)","v":29990}]
[null,null,null,null,null,null,null,null,null,null,null,{"$f":"SUMPRODUCT($D$8:D1905-$H$8:H1905)","v":29990}]
[null,null,null,null,null,null,null,null,null,null,null,{"$f":"SUMPRODUCT($D$8:D1906-$H$8:H1906)","v":29990}]
[null,null,null,null,null,null,null,null,null,null,null,{"$f":"SUMPRODUCT($D$8:D1907-$H$8:H1907)","v":29990}]
[null,null,null,null,null,null,null,null,null,null,null,{"$f":"SUMPRODUCT($D$8:D1908-$H$8:H1908)","v":29990}]
[null,null,null,null,null,null,null,null,null,null,null,{"$f":"SUMPRODUCT($D$8:D1909-$H$8:H1909)","v":29990}]
[null,null,null,null,null,null,null,null,null,null,null,{"$f":"SUMPRODUCT($D$8:D1910-$H$8:H1910)","v":29990}]
[null,null,null,null,null,null,null,null,null,null,null,{"$f":"SUMPRODUCT($D$8:D1911-$H$8:H1911)","v":29990}]
[null,null,null,null,null,null,null,null,null,null,null,{"$f":"SUMPRODUCT($D$8:D1912-$H$8:H1912)","v":29990}]
[null,null,null,null,null,null,null,null,null,null,null,{"$f":"SUMPRODUCT($D$8:D1913-$H$8:H1913)","v":29990}]
[null,null,null,null,null,null,null,null,null,null,null,{"$f":"SUMPRODUCT($D$8:D1914-$H$8:H1914)","v":29990}]
[null,null,null,null,null,null,null,null,null,null,null,{"$f":"SUMPRODUCT($D$8:D1915-$H$8:H1915)","v":29990}]
[null,null,null,null,null,null,null,null,null,null,null,{"$f":"SUMPRODUCT($D$8:D1916-$H$8:H1916)","v":29990}]
[null,null,null,null,null,null,null,null,null,null,null,{"$f":"SUMPRODUCT($D$8:D1917-$H$8:H1917)","v":29990}]
[null,null,null,null,null,null,null,null,null,null,null,{"$f":"SUMPRODUCT($D$8:D1918-$H$8:H1918)","v":29990}]
[null,null,null,null,null,null,null,null,null,null,null,{"$f":"SUMPRODUCT($D$8:D1919-$H$8:H1919)","v":29990}]
[null,null,null,null,null,null,null,null,null,null,null,{"$f":"SUMPRODUCT($D$8:D1920-$H$8:H1920)","v":29990}]
[null,null,null,null,null,null,null,null,null,null,null,{"$f":"SUMPRODUCT($D$8:D1921-$H$8:H1921)","v":29990}]
[null,null,null,null,null,null,null,null,null,null,null,{"$f":"SUMPRODUCT($D$8:D1922-$H$8:H1922)","v":29990}]
[null,null,null,null,null,null,null,null,null,null,null,{"$f":"SUMPRODUCT($D$8:D1923-$H$8:H1923)","v":29990}]
[null,null,null,null,null,null,null,null,null,null,null,{"$f":"SUMPRODUCT($D$8:D1924-$H$8:H1924)","v":29990}]
[null,null,null,null,null,null,null,null,null,null,null,{"$f":"SUMPRODUCT($D$8:D1925-$H$8:H1925)","v":29990}]
[null,null,null,null,null,null,null,null,null,null,null,{"$f":"SUMPRODUCT($D$8:D1926-$H$8:H1926)","v":29990}]
[null,null,null,null,null,null,null,null,null,null,null,{"$f":"SUMPRODUCT($D$8:D1927-$H$8:H1927)","v":29990}]
[null,null,null,null,null,null,null,null,null,null,null,{"$f":"SUMPRODUCT($D$8:D1928-$H$8:H1928)","v":29990}]
[null,null,null,null,null,null,null,null,null,null,null,{"$f":"SUMPRODUCT($D$8:D1929-$H$8:H1929)","v":29990}]
[null,null,null,null,null,null,null,null,null,null,null,{"$f":"SUMPRODUCT($D$8:D1930-$H$8:H1930)","v":29990}]
[null,null,null,null,null,null,null,null,null,null,null,{"$f":"SUMPRODUCT($D$8:D1931-$H$8:H1931)","v":29990}]
[null,null,null,null,null,null,null,null,null,null,null,{"$f":"SUMPRODUCT($D$8:D1932-$H$8:H1932)","v":29990}]
[null,null,null,null,null,null,null,null,null,null,null,{"$f":"SUMPRODUCT($D$8:D1933-$H$8:H1933)","v":29990}]
[null,null,null,null,null,null,null,null,null,null,null,{"$f":"SUMPRODUCT($D$8:D1934-$H$8:H1934)","v":29990}]
[null,null,null,null,null,null,null,null,null,null,null,{"$f":"SUMPRODUCT($D$8:D1935-$H$8:H1935)","v":29990}]
[null,null,null,null,null,null,null,null,null,null,null,{"$f":"SUMPRODUCT($D$8:D1936-$H$8:H1936)","v":29990}]
[null,null,null,null,null,null,null,null,null,null,null,{"$f":"SUMPRODUCT($D$8:D1937-$H$8:H1937)","v":29990}]
[null,null,null,null,null,null,null,null,null,null,null,{"$f":"SUMPRODUCT($D$8:D1938-$H$8:H1938)","v":29990}]
[null,null,null,null,null,null,null,null,null,null,null,{"$f":"SUMPRODUCT($D$8:D1939-$H$8:H1939)","v":29990}]
[null,null,null,null,null,null,null,null,null,null,null,{"$f":"SUMPRODUCT($D$8:D1940-$H$8:H1940)","v":29990}]
[null,null,null,null,null,null,null,null,null,null,null,{"$f":"SUMPRODUCT($D$8:D1941-$H$8:H1941)","v":29990}]
[null,null,null,null,null,null,null,null,null,null,null,{"$f":"SUMPRODUCT($D$8:D1942-$H$8:H1942)","v":29990}]
[null,null,null,null,null,null,null,null,null,null,null,{"$f":"SUMPRODUCT($D$8:D1943-$H$8:H1943)","v":29990}]
[null,null,null,null,null,null,null,null,null,null,null,{"$f":"SUMPRODUCT($D$8:D1944-$H$8:H1944)","v":29990}]
[null,null,null,null,null,null,null,null,null,null,null,{"$f":"SUMPRODUCT($D$8:D1945-$H$8:H1945)","v":29990}]
[null,null,null,null,null,null,null,null,null,null,null,{"$f":"SUMPRODUCT($D$8:D1946-$H$8:H1946)","v":29990}]
[null,null,null,null,null,null,null,null,null,null,null,{"$f":"SUMPRODUCT($D$8:D1947-$H$8:H1947)","v":29990}]
[null,null,null,null,null,null,null,null,null,null,null,{"$f":"SUMPRODUCT($D$8:D1948-$H$8:H1948)","v":29990}]
[null,null,null,null,null,null,null,null,null,null,null,{"$f":"SUMPRODUCT($D$8:D1949-$H$8:H1949)","v":29990}]
[null,null,null,null,null,null,null,null,null,null,null,{"$f":"SUMPRODUCT($D$8:D1950-$H$8:H1950)","v":29990}]
[null,null,null,null,null,null,null,null,null,null,null,{"$f":"SUMPRODUCT($D$8:D1951-$H$8:H1951)","v":29990}]
[null,null,null,null,null,null,null,null,null,null,null,{"$f":"SUMPRODUCT($D$8:D1952-$H$8:H1952)","v":29990}]
[null,null,null,null,null,null,null,null,null,null,null,{"$f":"SUMPRODUCT($D$8:D1953-$H$8:H1953)","v":29990}]
[null,null,null,null,null,null,null,null,null,null,null,{"$f":"SUMPRODUCT($D$8:D1954-$H$8:H1954)","v":29990}]
[null,null,null,null,null,null,null,null,null,null,null,{"$f":"SUMPRODUCT($D$8:D1955-$H$8:H1955)","v":29990}]
[null,null,null,null,null,null,null,null,null,null,null,{"$f":"SUMPRODUCT($D$8:D1956-$H$8:H1956)","v":29990}]
[null,null,null,null,null,null,null,null,null,null,null,{"$f":"SUMPRODUCT($D$8:D1957-$H$8:H1957)","v":29990}]
[null,null,null,null,null,null,null,null,null,null,null,{"$f":"SUMPRODUCT($D$8:D1958-$H$8:H1958)","v":29990}]
[null,null,null,null,null,null,null,null,null,null,null,{"$f":"SUMPRODUCT($D$8:D1959-$H$8:H1959)","v":29990}]
[null,null,null,null,null,null,null,null,null,null,null,{"$f":"SUMPRODUCT($D$8:D1960-$H$8:H1960)","v":29990}]
[null,null,null,null,null,null,null,null,null,null,null,{"$f":"SUMPRODUCT($D$8:D1961-$H$8:H1961)","v":29990}]
[null,null,null,null,null,null,null,null,null,null,null,{"$f":"SUMPRODUCT($D$8:D1962-$H$8:H1962)","v":29990}]
[null,null,null,null,null,null,null,null,null,null,null,{"$f":"SUMPRODUCT($D$8:D1963-$H$8:H1963)","v":29990}]
[null,null,null,null,null,null,null,null,null,null,null,{"$f":"SUMPRODUCT($D$8:D1964-$H$8:H1964)","v":29990}]
[null,null,null,null,null,null,null,null,null,null,null,{"$f":"SUMPRODUCT($D$8:D1965-$H$8:H1965)","v":29990}]
[null,null,null,null,null,null,null,null,null,null,null,{"$f":"SUMPRODUCT($D$8:D1966-$H$8:H1966)","v":29990}]
[null,null,null,null,null,null,null,null,null,null,null,{"$f":"SUMPRODUCT($D$8:D1967-$H$8:H1967)","v":29990}]
[null,null,null,null,null,null,null,null,null,null,null,{"$f":"SUMPRODUCT($D$8:D1968-$H$8:H1968)","v":29990}]
[null,null,null,null,null,null,null,null,null,null,null,{"$f":"SUMPRODUCT($D$8:D1969-$H$8:H1969)","v":29990}]
[null,null,null,null,null,null,null,null,null,null,null,{"$f":"SUMPRODUCT($D$8:D1970-$H$8:H1970)","v":29990}]
[null,null,null,null,null,null,null,null,null,null,null,{"$f":"SUMPRODUCT($D$8:D1971-$H$8:H1971)","v":29990}]
[null,null,null,null,null,null,null,null,null,null,null,{"$f":"SUMPRODUCT($D$8:D1972-$H$8:H1972)","v":29990}]
[null,null,null,null,null,null,null,null,null,null,null,{"$f":"SUMPRODUCT($D$8:D1973-$H$8:H1973)","v":29990}]
[null,null,null,null,null,null,null,null,null,null,null,{"$f":"SUMPRODUCT($D$8:D1974-$H$8:H1974)","v":29990}]
[null,null,null,null,null,null,null,null,null,null,null,{"$f":"SUMPRODUCT($D$8:D1975-$H$8:H1975)","v":29990}]
[null,null,null,null,null,null,null,null,null,null,null,{"$f":"SUMPRODUCT($D$8:D1976-$H$8:H1976)","v":29990}]
[null,null,null,null,null,null,null,null,null,null,null,{"$f":"SUMPRODUCT($D$8:D1977-$H$8:H1977)","v":29990}]
[null,null,null,null,null,null,null,null,null,null,null,{"$f":"SUMPRODUCT($D$8:D1978-$H$8:H1978)","v":29990}]
[null,null,null,null,null,null,null,null,null,null,null,{"$f":"SUMPRODUCT($D$8:D1979-$H$8:H1979)","v":29990}]
[null,null,null,null,null,null,null,null,null,null,null,{"$f":"SUMPRODUCT($D$8:D1980-$H$8:H1980)","v":29990}]
[null,null,null,null,null,null,null,null,null,null,null,{"$f":"SUMPRODUCT($D$8:D1981-$H$8:H1981)","v":29990}]
[null,null,null,null,null,null,null,null,null,null,null,{"$f":"SUMPRODUCT($D$8:D1982-$H$8:H1982)","v":29990}]
[null,null,null,null,null,null,null,null,null,null,null,{"$f":"SUMPRODUCT($D$8:D1983-$H$8:H1983)","v":29990}]
[null,null,null,null,null,null,null,null,null,null,null,{"$f":"SUMPRODUCT($D$8:D1984-$H$8:H1984)","v":29990}]
[null,null,null,null,null,null,null,null,null,null,null,{"$f":"SUMPRODUCT($D$8:D1985-$H$8:H1985)","v":29990}]
[null,null,null,null,null,null,null,null,null,null,null,{"$f":"SUMPRODUCT($D$8:D1986-$H$8:H1986)","v":29990}]
[null,null,null,null,null,null,null,null,null,null,null,{"$f":"SUMPRODUCT($D$8:D1987-$H$8:H1987)","v":29990}]
[null,null,null,null,null,null,null,null,null,null,null,{"$f":"SUMPRODUCT($D$8:D1988-$H$8:H1988)","v":29990}]
[null,null,null,null,null,null,null,null,null,null,null,{"$f":"SUMPRODUCT($D$8:D1989-$H$8:H1989)","v":29990}]
[null,null,null,null,null,null,null,null,null,null,null,{"$f":"SUMPRODUCT($D$8:D1990-$H$8:H1990)","v":29990}]
[null,null,null,null,null,null,null,null,null,null,null,{"$f":"SUMPRODUCT($D$8:D1991-$H$8:H1991)","v":29990}]
[null,null,null,null,null,null,null,null,null,null,null,{"$f":"SUMPRODUCT($D$8:D1992-$H$8:H1992)","v":29990}]
[null,null,null,null,null,null,null,null,null,null,null,{"$f":"SUMPRODUCT($D$8:D1993-$H$8:H1993)","v":29990}]
[null,null,null,null,null,null,null,null,null,null,null,{"$f":"SUMPRODUCT($D$8:D1994-$H$8:H1994)","v":29990}]
[null,null,null,null,null,null,null,null,null,null,null,{"$f":"SUMPRODUCT($D$8:D1995-$H$8:H1995)","v":29990}]
[null,null,null,null,null,null,null,null,null,null,null,{"$f":"SUMPRODUCT($D$8:D1996-$H$8:H1996)","v":29990}]
[null,null,null,null,null,null,null,null,null,null,null,{"$f":"SUMPRODUCT($D$8:D1997-$H$8:H1997)","v":29990}]
[null,null,null,null,null,null,null,null,null,null,null,{"$f":"SUMPRODUCT($D$8:D1998-$H$8:H1998)","v":29990}]

{"sheet":"الوطنية","index":8,"n_rows":10,"n_cols":3,"rows_kept":10,"cut":false,"hidden":false,"merged":[]}
[]
[null,6666,"1918-04-01"]
[]
[]
["رقم الايصال","المبلغ","التاريخ"]
[1,246,"1900-09-02"]
[2,1567,"2019-02-01"]
[3,1679,"2019-03-01"]
["لااا",1222,"1915-03-17"]
[555,55,"1900-02-24"]

{"sheet":"Sheet2","index":9,"n_rows":0,"n_cols":0,"rows_kept":0,"cut":false,"hidden":false,"merged":[]}