{"text_format":"1","workbook":"xlsx","n_sheets":3,"sheets":["تسديدات الشهر","Feuil2","Feuil3"],"not_rendered":{"charts":0,"images":0,"macros":1,"external_links":0,"defined_names":0,"comments":0,"pivot_tables":0},"unopened":[],"bounds":{"document_bytes":16777216,"sheet_cells":100000,"rows_first":2000,"rows_last":500,"rows_between":2000,"halvings":0,"cell_chars":16384,"cell_head_chars":4096},"cells_cut":0,"cells_raw":0,"read":"whole","date_system":"1900"}

{"sheet":"تسديدات الشهر","index":0,"n_rows":80,"n_cols":5,"rows_kept":80,"cut":false,"hidden":false,"merged":[]}
[]
[null,null,null,null,"سلام عليكم"]
[]
[null,null,null,null,"سادة واعضاء المنتدى كيف حالكم اتمنى ان تكونوا في احسن حال وفي صحة جيدة ان شاء الله"]
[]
[null,null,null,null,"الذي ابحث عنه ليس حذف البرنامج تلقائيا او توقف بعد عدد معين من مرات فتحه او تاريخ انتهاء الصلاحية والتدمير الذاتي لملف إكسيل ..."]
[null,null,null,null,"الدي ابحث عنه هو كود يوقف عمل جميع الاكواد الاخرى التي في البرنامج هذا الكود بكون محدد بتاريخ ( تاريخ يوقف البرنامج) اي "]
[null,null,null,null,"يوقف عمل الاكواد التي في البرنامج "]
["الاسم","المبلغ","تاريخ التسديد",null,"اي في ذلك التاريخ عند الدخول الى البرنامج تجد كل شئ طبيعي الاعمال التي سجلتها سابقا تبقى لا يتغير شئ و الاكواد تبقى لكن "]
["علي",2000,"2019-01-15",null,"لا تعمل اي ا انه عند العمل و تنفيذ الاعمال التي تتطلب الماكرو   يتوقف الماكرو الخاص بها عن العمل"]
["رضا ",8000,"2019-03-23",null,"وعند الدخول الى الكود او الماكرو المسؤول عن توقف جميع الاكواد عن العمل  واقوم بتغير تاريخ الصلاحيةالى تاريخ جديد فانه يستانف "]
["سليم",5000,"2019-04-06",null,"العمل بطريقة عادية كما كان وهذا  الى ذلك التاريخ"]
["وليد",12500,"2019-03-18"]
[null,null,null,null,"في هذه الصفحة نقوم بادخال البيانات في صفحة تسديدات الشهر تنتقل المعلومات الى الصقحة الموالية "]
[null,null,null,null," اريد تطبيق انتهاء صلاحية البرنامج  في 04/04/2019 او تاريخ اخر"]
[null,null,null,null,"في انتظار ردكم تقبلو مني فائق التقدير والاحترام"]
[]
[null,null,null,null,"تمنى ان اجد الجواب   "]
[]
[null,null,null,null,"وفي انتظار ردكم تقبلو مني فائق التفدير والاحنرام"]
[]
[]
[]
[null,null,null,null,"والسلام عليكم ورحمة الله تعالى وبركاته"]
[]
[]
[]
[]
[]
[]
[]
[]
[]
[]
[]
[]
["6F"]
["ZE"]
["EZ "]
[]
[]
[]
[]
[]
[]
[]
[]
[]
[]
[]
[]
[]
[]
[]
[]
[]
[]
[]
[]
[]
[]
[]
[]
[]
[]
[]
[]
[]
[]
[546]
[]
[]
[]
[]
[]
[]
[]
[]
[]
[315]

{"sheet":"Feuil2","index":1,"n_rows":92,"n_cols":10,"rows_kept":92,"cut":false,"hidden":false,"merged":[]}
[]
[]
[]
[]
[]
[]
[]
[]
["الاسم","المبلغ","تاريخ التسديد"]
[{"$f":"IF('تسديدات الشهر'!A10=\"\",\"\",'تسديدات الشهر'!A10)","v":"علي"},{"$f":"'تسديدات الشهر'!B10","v":2000},{"$f":"IF(B10>0,'تسديدات الشهر'!B10,\" \")","v":"1905-06-22"}]
[{"$f":"IF('تسديدات الشهر'!A11=\"\",\"\",'تسديدات الشهر'!A11)","v":"رضا "},{"$f":"'تسديدات الشهر'!B11","v":8000},{"$f":"IF(B11>0,'تسديدات الشهر'!B11,\" \")","v":"1921-11-25"}]
[{"$f":"IF('تسديدات الشهر'!A12=\"\",\"\",'تسديدات الشهر'!A12)","v":"سليم"},{"$f":"'تسديدات الشهر'!B12","v":5000},{"$f":"IF(B12>0,'تسديدات الشهر'!B12,\" \")","v":"1913-09-08"}]
[{"$f":"IF('تسديدات الشهر'!A13=\"\",\"\",'تسديدات الشهر'!A13)","v":"وليد"},{"$f":"'تسديدات الشهر'!B13","v":12500},{"$f":"IF(B13>0,'تسديدات الشهر'!B13,\" \")","v":"1934-03-22"}]
[{"$f":"IF('تسديدات الشهر'!A14=\"\",\"\",'تسديدات الشهر'!A14)","v":""},{"$f":"'تسديدات الشهر'!B14","v":0},{"$f":"IF(B14>0,'تسديدات الشهر'!B14,\" \")","v":" "}]
[{"$f":"IF('تسديدات الشهر'!A15=\"\",\"\",'تسديدات الشهر'!A15)","v":""},{"$f":"'تسديدات الشهر'!B15","v":0},{"$f":"IF(B15>0,'تسديدات الشهر'!B15,\" \")","v":" "}]
[{"$f":"IF('تسديدات الشهر'!A16=\"\",\"\",'تسديدات الشهر'!A16)","v":""},{"$f":"'تسديدات الشهر'!B16","v":0},{"$f":"IF(B16>0,'تسديدات الشهر'!B16,\" \")","v":" "}]
[{"$f":"IF('تسديدات الشهر'!A17=\"\",\"\",'تسديدات الشهر'!A17)","v":""},{"$f":"'تسديدات الشهر'!B17","v":0},{"$f":"IF(B17>0,'تسديدات الشهر'!B17,\" \")","v":" "}]
[{"$f":"IF('تسديدات الشهر'!A18=\"\",\"\",'تسديدات الشهر'!A18)","v":""},{"$f":"'تسديدات الشهر'!B18","v":0},{"$f":"IF(B18>0,'تسديدات الشهر'!B18,\" \")","v":" "}]
[{"$f":"IF('تسديدات الشهر'!A19=\"\",\"\",'تسديدات الشهر'!A19)","v":""},{"$f":"'تسديدات الشهر'!B19","v":0},{"$f":"IF(B19>0,'تسديدات الشهر'!B19,\" \")","v":" "}]
[{"$f":"IF('تسديدات الشهر'!A20=\"\",\"\",'تسديدات الشهر'!A20)","v":""},{"$f":"'تسديدات الشهر'!B20","v":0},{"$f":"IF(B20>0,'تسديدات الشهر'!B20,\" \")","v":" "}]
[{"$f":"IF('تسديدات الشهر'!A21=\"\",\"\",'تسديدات الشهر'!A21)","v":""},{"$f":"'تسديدات الشهر'!B21","v":0},{"$f":"IF(B21>0,'تسديدات الشهر'!B21,\" \")","v":" "}]
[{"$f":"IF('تسديدات الشهر'!A22=\"\",\"\",'تسديدات الشهر'!A22)","v":""},{"$f":"'تسديدات الشهر'!B22","v":0},{"$f":"IF(B22>0,'تسديدات الشهر'!B22,\" \")","v":" "}]
[{"$f":"IF('تسديدات الشهر'!A23=\"\",\"\",'تسديدات الشهر'!A23)","v":""},{"$f":"'تسديدات الشهر'!B23","v":0},{"$f":"IF(B23>0,'تسديدات الشهر'!B23,\" \")","v":" "}]
[{"$f":"IF('تسديدات الشهر'!A24=\"\",\"\",'تسديدات الشهر'!A24)","v":""},{"$f":"'تسديدات الشهر'!B24","v":0},{"$f":"IF(B24>0,'تسديدات الشهر'!B24,\" \")","v":" "}]
[{"$f":"IF('تسديدات الشهر'!A25=\"\",\"\",'تسديدات الشهر'!A25)","v":""},{"$f":"'تسديدات الشهر'!B25","v":0},{"$f":"IF(B25>0,'تسديدات الشهر'!B25,\" \")","v":" "}]
[{"$f":"IF('تسديدات الشهر'!A26=\"\",\"\",'تسديدات الشهر'!A26)","v":""},{"$f":"'تسديدات الشهر'!B26","v":0},{"$f":"IF(B26>0,'تسديدات الشهر'!B26,\" \")","v":" "}]
[{"$f":"IF('تسديدات الشهر'!A27=\"\",\"\",'تسديدات الشهر'!A27)","v":""},{"$f":"'تسديدات الشهر'!B27","v":0},{"$f":"IF(B27>0,'تسديدات الشهر'!B27,\" \")","v":" "}]
[{"$f":"IF('تسديدات الشهر'!A28=\"\",\"\",'تسديدات الشهر'!A28)","v":""},{"$f":"'تسديدات الشهر'!B28","v":0},{"$f":"IF(B28>0,'تسديدات الشهر'!B28,\" \")","v":" "}]
[{"$f":"IF('تسديدات الشهر'!A29=\"\",\"\",'تسديدات الشهر'!A29)","v":""},{"$f":"'تسديدات الشهر'!B29","v":0},{"$f":"IF(B29>0,'تسديدات الشهر'!B29,\" \")","v":" "}]
[{"$f":"IF('تسديدات الشهر'!A30=\"\",\"\",'تسديدات الشهر'!A30)","v":""},{"$f":"'تسديدات الشهر'!B30","v":0},{"$f":"IF(B30>0,'تسديدات الشهر'!B30,\" \")","v":" "}]
[{"$f":"IF('تسديدات الشهر'!A31=\"\",\"\",'تسديدات الشهر'!A31)","v":""},{"$f":"'تسديدات الشهر'!B31","v":0},{"$f":"IF(B31>0,'تسديدات الشهر'!B31,\" \")","v":" "}]
[{"$f":"IF('تسديدات الشهر'!A32=\"\",\"\",'تسديدات الشهر'!A32)","v":""},{"$f":"'تسديدات الشهر'!B32","v":0},{"$f":"IF(B32>0,'تسديدات الشهر'!B32,\" \")","v":" "}]
[{"$f":"IF('تسديدات الشهر'!A33=\"\",\"\",'تسديدات الشهر'!A33)","v":""},{"$f":"'تسديدات الشهر'!B33","v":0},{"$f":"IF(B33>0,'تسديدات الشهر'!B33,\" \")","v":" "}]
[{"$f":"IF('تسديدات الشهر'!A34=\"\",\"\",'تسديدات الشهر'!A34)","v":""},{"$f":"'تسديدات الشهر'!B34","v":0},{"$f":"IF(B34>0,'تسديدات الشهر'!B34,\" \")","v":" "}]
[{"$f":"IF('تسديدات الشهر'!A35=\"\",\"\",'تسديدات الشهر'!A35)","v":""},{"$f":"'تسديدات الشهر'!B35","v":0},{"$f":"IF(B35>0,'تسديدات الشهر'!B35,\" \")","v":" "}]
[{"$f":"IF('تسديدات الشهر'!A36=\"\",\"\",'تسديدات الشهر'!A36)","v":""},{"$f":"'تسديدات الشهر'!B36","v":0},{"$f":"IF(B36>0,'تسديدات الشهر'!B36,\" \")","v":" "}]
[null,{"$f":"'تسديدات الشهر'!B37","v":0},{"$f":"IF(B37>0,'تسديدات الشهر'!B37,\" \")","v":" "}]
[null,{"$f":"'تسديدات الشهر'!B38","v":0},{"$f":"IF(B38>0,'تسديدات الشهر'!B38,\" \")","v":" "}]
[null,{"$f":"'تسديدات الشهر'!B39","v":0},{"$f":"IF(B39>0,'تسديدات الشهر'!B39,\" \")","v":" "}]
[null,{"$f":"'تسديدات الشهر'!B40","v":0},{"$f":"IF(B40>0,'تسديدات الشهر'!B40,\" \")","v":" "}]
[null,null,null,null,null,null,null,null,null,"وجزاكم الله خيراا"]
[null,{"$f":"'تسديدات الشهر'!B42","v":0},{"$f":"IF(B42>0,'تسديدات الشهر'!B42,\" \")","v":" "},null,null,null,null,null,null,"والسلام عليكم  ورحمة الله تعالى وبركاته"]
[null,{"$f":"'تسديدات الشهر'!B43","v":0},{"$f":"IF(B43>0,'تسديدات الشهر'!B43,\" \")","v":" "}]
[null,{"$f":"'تسديدات الشهر'!B44","v":0},{"$f":"IF(B44>0,'تسديدات الشهر'!B44,\" \")","v":" "}]
[null,{"$f":"'تسديدات الشهر'!B45","v":0},{"$f":"IF(B45>0,'تسديدات الشهر'!B45,\" \")","v":" "}]
[null,{"$f":"'تسديدات الشهر'!B46","v":0},{"$f":"IF(B46>0,'تسديدات الشهر'!B46,\" \")","v":" "}]
[null,{"$f":"'تسديدات الشهر'!B47","v":0},{"$f":"IF(B47>0,'تسديدات الشهر'!B47,\" \")","v":" "}]
[null,{"$f":"'تسديدات الشهر'!B48","v":0},{"$f":"IF(B48>0,'تسديدات الشهر'!B48,\" \")","v":" "}]
[null,{"$f":"'تسديدات الشهر'!B49","v":0},{"$f":"IF(B49>0,'تسديدات الشهر'!B49,\" \")","v":" "}]
[null,{"$f":"'تسديدات الشهر'!B50","v":0},{"$f":"IF(B50>0,'تسديدات الشهر'!B50,\" \")","v":" "}]
[null,{"$f":"'تسديدات الشهر'!B51","v":0},{"$f":"IF(B51>0,'تسديدات الشهر'!B51,\" \")","v":" "}]
[null,{"$f":"'تسديدات الشهر'!B52","v":0},{"$f":"IF(B52>0,'تسديدات الشهر'!B52,\" \")","v":" "}]
[null,{"$f":"'تسديدات الشهر'!B53","v":0},{"$f":"IF(B53>0,'تسديدات الشهر'!B53,\" \")","v":" "}]
[null,{"$f":"'تسديدات الشهر'!B54","v":0},{"$f":"IF(B54>0,'تسديدات الشهر'!B54,\" \")","v":" "}]
[null,{"$f":"'تسديدات الشهر'!B55","v":0},{"$f":"IF(B55>0,'تسديدات الشهر'!B55,\" \")","v":" "}]
[null,{"$f":"'تسديدات الشهر'!B56","v":0},{"$f":"IF(B56>0,'تسديدات الشهر'!B56,\" \")","v":" "}]
[null,{"$f":"'تسديدات الشهر'!B57","v":0},{"$f":"IF(B57>0,'تسديدات الشهر'!B57,\" \")","v":" "}]
[null,{"$f":"'تسديدات الشهر'!B58","v":0},{"$f":"IF(B58>0,'تسديدات الشهر'!B58,\" \")","v":" "}]
[null,{"$f":"'تسديدات الشهر'!B59","v":0},{"$f":"IF(B59>0,'تسديدات الشهر'!B59,\" \")","v":" "}]
[null,{"$f":"'تسديدات الشهر'!B60","v":0},{"$f":"IF(B60>0,'تسديدات الشهر'!B60,\" \")","v":" "}]
[null,{"$f":"'تسديدات الشهر'!B61","v":0},{"$f":"IF(B61>0,'تسديدات الشهر'!B61,\" \")","v":" "}]
[null,{"$f":"'تسديدات الشهر'!B62","v":0},{"$f":"IF(B62>0,'تسديدات الشهر'!B62,\" \")","v":" "}]
[null,{"$f":"'تسديدات الشهر'!B63","v":0},{"$f":"IF(B63>0,'تسديدات الشهر'!B63,\" \")","v":" "}]
[null,{"$f":"'تسديدات الشهر'!B64","v":0},{"$f":"IF(B64>0,'تسديدات الشهر'!B64,\" \")","v":" "}]
[null,{"$f":"'تسديدات الشهر'!B65","v":0},{"$f":"IF(B65>0,'تسديدات الشهر'!B65,\" \")","v":" "}]
[null,{"$f":"'تسديدات الشهر'!B66","v":0},{"$f":"IF(B66>0,'تسديدات الشهر'!B66,\" \")","v":" "}]
[null,{"$f":"'تسديدات الشهر'!B67","v":0},{"$f":"IF(B67>0,'تسديدات الشهر'!B67,\" \")","v":" "}]
[null,{"$f":"'تسديدات الشهر'!B68","v":0},{"$f":"IF(B68>0,'تسديدات الشهر'!B68,\" \")","v":" "}]
[null,{"$f":"'تسديدات الشهر'!B69","v":0},{"$f":"IF(B69>0,'تسديدات الشهر'!B69,\" \")","v":" "}]
[null,{"$f":"'تسديدات الشهر'!B70","v":0},{"$f":"IF(B70>0,'تسديدات الشهر'!B70,\" \")","v":" "}]
[null,{"$f":"'تسديدات الشهر'!B71","v":0},{"$f":"IF(B71>0,'تسديدات الشهر'!B71,\" \")","v":" "}]
[null,{"$f":"'تسديدات الشهر'!B72","v":0},{"$f":"IF(B72>0,'تسديدات الشهر'!B72,\" \")","v":" "}]
[null,{"$f":"'تسديدات الشهر'!B73","v":0},{"$f":"IF(B73>0,'تسديدات الشهر'!B73,\" \")","v":" "}]
[null,{"$f":"'تسديدات الشهر'!B74","v":0},{"$f":"IF(B74>0,'تسديدات الشهر'!B74,\" \")","v":" "}]
[null,{"$f":"'تسديدات الشهر'!B75","v":0},{"$f":"IF(B75>0,'تسديدات الشهر'!B75,\" \")","v":" "}]
[null,{"$f":"'تسديدات الشهر'!B76","v":0},{"$f":"IF(B76>0,'تسديدات الشهر'!B76,\" \")","v":" "}]
[null,{"$f":"'تسديدات الشهر'!B77","v":0},{"$f":"IF(B77>0,'تسديدات الشهر'!B77,\" \")","v":" "}]
[null,{"$f":"'تسديدات الشهر'!B78","v":0},{"$f":"IF(B78>0,'تسديدات الشهر'!B78,\" \")","v":" "}]
[null,{"$f":"'تسديدات الشهر'!B79","v":0},{"$f":"IF(B79>0,'تسديدات الشهر'!B79,\" \")","v":" "}]
[null,{"$f":"'تسديدات الشهر'!B80","v":0},{"$f":"IF(B80>0,'تسديدات الشهر'!B80,\" \")","v":" "}]
[{"$f":"IF('تسديدات الشهر'!A81=\"\",\"\",'تسديدات الشهر'!A81)","v":""},{"$f":"'تسديدات الشهر'!B81","v":0},{"$f":"IF(B81>0,'تسديدات الشهر'!B81,\" \")","v":" "}]
[{"$f":"IF('تسديدات الشهر'!A82=\"\",\"\",'تسديدات الشهر'!A82)","v":""},{"$f":"'تسديدات الشهر'!B82","v":0},{"$f":"IF(B82>0,'تسديدات الشهر'!B82,\" \")","v":" "}]
[{"$f":"IF('تسديدات الشهر'!A83=\"\",\"\",'تسديدات الشهر'!A83)","v":""},{"$f":"'تسديدات الشهر'!B83","v":0},{"$f":"IF(B83>0,'تسديدات الشهر'!B83,\" \")","v":" "}]
[{"$f":"IF('تسديدات الشهر'!A84=\"\",\"\",'تسديدات الشهر'!A84)","v":""},{"$f":"'تسديدات الشهر'!B84","v":0},{"$f":"IF(B84>0,'تسديدات الشهر'!B84,\" \")","v":" "}]
[{"$f":"IF('تسديدات الشهر'!A85=\"\",\"\",'تسديدات الشهر'!A85)","v":""},{"$f":"'تسديدات الشهر'!B85","v":0},{"$f":"IF(B85>0,'تسديدات الشهر'!B85,\" \")","v":" "}]
[{"$f":"IF('تسديدات الشهر'!A86=\"\",\"\",'تسديدات الشهر'!A86)","v":""},{"$f":"'تسديدات الشهر'!B86","v":0},{"$f":"IF(B86>0,'تسديدات الشهر'!B86,\" \")","v":" "}]
[{"$f":"IF('تسديدات الشهر'!A87=\"\",\"\",'تسديدات الشهر'!A87)","v":""},{"$f":"'تسديدات الشهر'!B87","v":0},{"$f":"IF(B87>0,'تسديدات الشهر'!B87,\" \")","v":" "}]
[{"$f":"IF('تسديدات الشهر'!A88=\"\",\"\",'تسديدات الشهر'!A88)","v":""},{"$f":"'تسديدات الشهر'!B88","v":0},{"$f":"IF(B88>0,'تسديدات الشهر'!B88,\" \")","v":" "}]
[{"$f":"IF('تسديدات الشهر'!A89=\"\",\"\",'تسديدات الشهر'!A89)","v":""},{"$f":"'تسديدات الشهر'!B89","v":0},{"$f":"IF(B89>0,'تسديدات الشهر'!B89,\" \")","v":" "}]
[{"$f":"IF('تسديدات الشهر'!A90=\"\",\"\",'تسديدات الشهر'!A90)","v":""},{"$f":"'تسديدات الشهر'!B90","v":0},{"$f":"IF(B90>0,'تسديدات الشهر'!B90,\" \")","v":" "}]
[]
["L",{"$f":"SUM(B10:B91)","v":27500}]

{"sheet":"Feuil3","index":2,"n_rows":0,"n_cols":0,"rows_kept":0,"cut":false,"hidden":false,"merged":[]}