{"text_format":"1","workbook":"xlsx","n_sheets":2,"sheets":["ورقة2","ورقة1"],"not_rendered":{"charts":0,"images":2,"macros":0,"external_links":1,"defined_names":2,"comments":0,"pivot_tables":0},"unopened":[],"bounds":{"document_bytes":16777216,"sheet_cells":100000,"rows_first":2000,"rows_last":500,"rows_between":2000,"halvings":0,"cell_chars":16384,"cell_head_chars":4096},"cells_cut":0,"cells_raw":0,"read":"whole","date_system":"1900"}

{"sheet":"ورقة2","index":0,"n_rows":22,"n_cols":18,"rows_kept":22,"cut":false,"hidden":false,"merged":[[4,3,5,3],[4,4,5,4],[4,5,5,5],[19,12,19,16],[9,4,11,4],[4,16,5,16],[4,17,5,17],[6,0,8,0],[6,2,8,2],[6,3,8,3],[6,4,8,4],[6,5,8,5],[6,13,8,13],[4,6,5,6],[4,13,5,13],[4,14,5,14],[4,15,5,15],[4,0,5,0],[4,1,5,1],[4,2,5,2],[6,1,8,1],[9,0,11,0],[9,1,11,1],[9,2,11,2],[9,3,11,3],[9,17,11,17],[6,14,8,14],[6,15,8,15],[6,16,8,16],[6,17,8,17],[17,12,17,16],[21,12,21,16],[9,5,11,5],[9,13,11,13],[9,14,11,14],[9,15,11,15],[9,16,11,16]]}
[]
[]
[]
[]
["م","اسم الطالب","اسم السورة","مقدار الحفظ اليومي","يبدأ الحفظ من ","عدد أيام المراجعة",null,"مـــــــــــــــن",null,null,"إلــــــــــــــــــــــــى",null,null,"تم الانتهاء من الدرس","الدروس المتبقية","تاريخ الانتهاء من الخطة"," تسبق خطتك","متأخر عن الخطة"]
[null,null,null,null,null,null,null,"السورة","الآية","نص الآية","السورة","الآية","نص الآية"]
[1,null,null,null,null,null,"الحفظ الجديد",{"$f":"IFERROR(VLOOKUP($C7,[1]Sheet1!$B$3:$W$247,5,0),\"\")","v":""},{"$f":"IFERROR(VLOOKUP($C7,[1]Sheet1!$B$3:$W$247,6,0),\"\")","v":""},{"$f":"IFERROR(VLOOKUP($C7,[1]Sheet1!$B$3:$W$247,7,0),\"\")","v":""},{"$f":"IFERROR(VLOOKUP($C7,[1]Sheet1!$B$3:$W$247,8,0),\"\")","v":""},{"$f":"IFERROR(VLOOKUP($C7,[1]Sheet1!$B$3:$W$247,9,0),\"\")","v":""},{"$f":"IFERROR(VLOOKUP($C7,[1]Sheet1!$B$3:$W$247,10,0),\"\")","v":""}]
[null,null,null,null,null,null,"المراجعة الصغرى",{"$f":"IFERROR(VLOOKUP($C7,[1]Sheet1!$B$3:$W$247,11,0),\"\")","v":""},{"$f":"IFERROR(VLOOKUP($C7,[1]Sheet1!$B$3:$W$247,12,0),\"\")","v":""},{"$f":"IFERROR(VLOOKUP($C7,[1]Sheet1!$B$3:$W$247,13,0),\"\")","v":""},{"$f":"IFERROR(VLOOKUP($C7,[1]Sheet1!$B$3:$W$247,14,0),\"\")","v":""},{"$f":"IFERROR(VLOOKUP($C7,[1]Sheet1!$B$3:$W$247,15,0),\"\")","v":""},{"$f":"IFERROR(VLOOKUP($C7,[1]Sheet1!$B$3:$W$247,16,0),\"\")","v":""}]
[null,null,null,null,null,null,"المراجعة الكبرى",{"$f":"IFERROR(VLOOKUP($C7,[1]Sheet1!$B$3:$W$247,17,0),\"\")","v":""},{"$f":"IFERROR(VLOOKUP($C7,[1]Sheet1!$B$3:$W$247,18,0),\"\")","v":""},{"$f":"IFERROR(VLOOKUP($C7,[1]Sheet1!$B$3:$W$247,19,0),\"\")","v":""},{"$f":"IFERROR(VLOOKUP($C7,[1]Sheet1!$B$3:$W$247,20,0),\"\")","v":""},{"$f":"IFERROR(VLOOKUP($C7,[1]Sheet1!$B$3:$W$247,21,0),\"\")","v":""},{"$f":"IFERROR(VLOOKUP($C7,[1]Sheet1!$B$3:$W$247,22,0),\"\")","v":""}]
[2,null,null,null,null,null,"الحفظ الجديد",{"$f":"IFERROR(VLOOKUP($C10,[1]Sheet1!$B$3:$W$247,5,0),\"\")","v":""},{"$f":"IFERROR(VLOOKUP($C10,[1]Sheet1!$B$3:$W$247,6,0),\"\")","v":""},{"$f":"IFERROR(VLOOKUP($C10,[1]Sheet1!$B$3:$W$247,7,0),\"\")","v":""},{"$f":"IFERROR(VLOOKUP($C10,[1]Sheet1!$B$3:$W$247,8,0),\"\")","v":""},{"$f":"IFERROR(VLOOKUP($C10,[1]Sheet1!$B$3:$W$247,9,0),\"\")","v":""},{"$f":"IFERROR(VLOOKUP($C10,[1]Sheet1!$B$3:$W$247,10,0),\"\")","v":""}]
[null,null,null,null,null,null,"المراجعة الصغرى",{"$f":"IFERROR(VLOOKUP($C10,[1]Sheet1!$B$3:$W$247,11,0),\"\")","v":""},{"$f":"IFERROR(VLOOKUP($C10,[1]Sheet1!$B$3:$W$247,12,0),\"\")","v":""},{"$f":"IFERROR(VLOOKUP($C10,[1]Sheet1!$B$3:$W$247,13,0),\"\")","v":""},{"$f":"IFERROR(VLOOKUP($C10,[1]Sheet1!$B$3:$W$247,14,0),\"\")","v":""},{"$f":"IFERROR(VLOOKUP($C10,[1]Sheet1!$B$3:$W$247,15,0),\"\")","v":""},{"$f":"IFERROR(VLOOKUP($C10,[1]Sheet1!$B$3:$W$247,16,0),\"\")","v":""}]
[null,null,null,null,null,null,"المراجعة الكبرى",{"$f":"IFERROR(VLOOKUP($C10,[1]Sheet1!$B$3:$W$247,17,0),\"\")","v":""},{"$f":"IFERROR(VLOOKUP($C10,[1]Sheet1!$B$3:$W$247,18,0),\"\")","v":""},{"$f":"IFERROR(VLOOKUP($C10,[1]Sheet1!$B$3:$W$247,19,0),\"\")","v":""},{"$f":"IFERROR(VLOOKUP($C10,[1]Sheet1!$B$3:$W$247,20,0),\"\")","v":""},{"$f":"IFERROR(VLOOKUP($C10,[1]Sheet1!$B$3:$W$247,21,0),\"\")","v":""},{"$f":"IFERROR(VLOOKUP($C10,[1]Sheet1!$B$3:$W$247,22,0),\"\")","v":""}]
[]
[]
[]
[]
[]
[null,null,null,null,null,null,null,null,null,null,null,null,"المطلوب عمل رز للضغط عليه حال الانتهاء من درس اليوم حتى يقوم بالانتقال للدري التالي"]
[]
[null,null,null,null,null,null,null,null,null,null,null,null,"للعلم هذه الخطة تعمل لكل طالب على حدة وبخائص تتوافق مع سنه وقدرته على الحفظ"]
[]
[null,null,null,null,null,null,null,null,null,null,null,null,"الرجاء فتح الورقة 1 لمعرفة المطلوب "]

{"sheet":"ورقة1","index":1,"n_rows":62,"n_cols":26,"rows_kept":62,"cut":false,"hidden":false,"merged":[[2,19,2,20],[3,19,3,20],[4,19,4,20],[5,19,5,20],[6,19,6,20],[2,15,2,16],[3,15,3,16],[4,15,4,16],[5,15,5,16],[6,15,6,16],[5,25,7,25],[11,20,11,27],[10,20,10,26],[7,19,7,20],[5,11,7,11],[5,21,7,21],[5,22,7,22],[5,23,7,23],[5,24,7,24],[7,15,7,16],[5,0,7,0],[5,8,7,8],[5,9,7,9],[5,10,7,10],[5,1,7,7],[0,24,1,24],[0,25,1,25],[2,0,4,0],[2,8,4,8],[2,9,4,9],[2,10,4,10],[2,11,4,11],[2,21,4,21],[2,22,4,22],[2,23,4,23],[2,24,4,24],[2,25,4,25],[0,1,1,7],[2,1,4,7],[0,13,0,16],[0,11,1,11],[0,12,1,12],[0,21,1,21],[0,22,1,22],[0,23,1,23],[1,15,1,16],[0,17,0,20],[1,19,1,20],[0,0,1,0],[0,8,1,8],[0,9,1,9],[0,10,1,10],[41,16,42,22],[18,15,18,22],[19,15,19,22],[20,15,21,22],[26,16,27,22]]}
["م","اسم الطالب",null,null,null,null,null,null,"اسم السورة","مقدار الحفظ اليومي","يبدأ الحفظ من ","عدد أيام المراجعة",null,"مـــــــــــــــن",null,null,null,"إلــــــــــــــــــــــــى",null,null,null,"تم الانتهاء من الدرس","الدروس المتبقية","تاريخ الانتهاء من الخطة"," تسبق خطتك","متأخر عن الخطة"]
[null,null,null,null,null,null,null,null,null,null,null,null,null,"السورة","الآية","نص الآية",null,"السورة","الآية","نص الآية"]
[1,"عبدالرحمن صالح",null,null,null,null,null,null,"التغابن","صفحة واحدة","الناس إلى البقرة",2,"الحفظ الجديد",{"$f":"IFERROR(VLOOKUP($I3,[1]Sheet1!$B$3:$W$247,5,0),\"\")","v":""},{"$f":"IFERROR(VLOOKUP($I3,[1]Sheet1!$B$3:$W$247,6,0),\"\")","v":""},{"$f":"IFERROR(VLOOKUP($I3,[1]Sheet1!$B$3:$W$247,7,0),\"\")","v":""},null,{"$f":"IFERROR(VLOOKUP($I3,[1]Sheet1!$B$3:$W$247,8,0),\"\")","v":""},{"$f":"IFERROR(VLOOKUP($I3,[1]Sheet1!$B$3:$W$247,9,0),\"\")","v":""},{"$f":"IFERROR(VLOOKUP($I3,[1]Sheet1!$B$3:$W$247,10,0),\"\")","v":""}]
[null,null,null,null,null,null,null,null,null,null,null,null,"المراجعة الصغرى",{"$f":"IFERROR(VLOOKUP($I3,[1]Sheet1!$B$3:$W$247,11,0),\"\")","v":""},{"$f":"IFERROR(VLOOKUP($I3,[1]Sheet1!$B$3:$W$247,12,0),\"\")","v":""},{"$f":"IFERROR(VLOOKUP($I3,[1]Sheet1!$B$3:$W$247,13,0),\"\")","v":""},null,{"$f":"IFERROR(VLOOKUP($I3,[1]Sheet1!$B$3:$W$247,14,0),\"\")","v":""},{"$f":"IFERROR(VLOOKUP($I3,[1]Sheet1!$B$3:$W$247,15,0),\"\")","v":""},{"$f":"IFERROR(VLOOKUP($I3,[1]Sheet1!$B$3:$W$247,16,0),\"\")","v":""}]
[null,null,null,null,null,null,null,null,null,null,null,null,"المراجعة الكبرى",{"$f":"IFERROR(VLOOKUP($I3,[1]Sheet1!$B$3:$W$247,17,0),\"\")","v":""},{"$f":"IFERROR(VLOOKUP($I3,[1]Sheet1!$B$3:$W$247,18,0),\"\")","v":""},{"$f":"IFERROR(VLOOKUP($I3,[1]Sheet1!$B$3:$W$247,19,0),\"\")","v":""},null,{"$f":"IFERROR(VLOOKUP($I3,[1]Sheet1!$B$3:$W$247,20,0),\"\")","v":""},{"$f":"IFERROR(VLOOKUP($I3,[1]Sheet1!$B$3:$W$247,21,0),\"\")","v":""},{"$f":"IFERROR(VLOOKUP($I3,[1]Sheet1!$B$3:$W$247,22,0),\"\")","v":""}]
[2,"خالد وليد",null,null,null,null,null,null,"الممتحنة","نصف صفحة","البقرة إلى الناس",3,"الحفظ الجديد",{"$f":"IFERROR(VLOOKUP($I6,[1]Sheet1!$B$3:$W$247,5,0),\"\")","v":""},{"$f":"IFERROR(VLOOKUP($I6,[1]Sheet1!$B$3:$W$247,6,0),\"\")","v":""},{"$f":"IFERROR(VLOOKUP($I6,[1]Sheet1!$B$3:$W$247,7,0),\"\")","v":""},null,{"$f":"IFERROR(VLOOKUP($I6,[1]Sheet1!$B$3:$W$247,8,0),\"\")","v":""},{"$f":"IFERROR(VLOOKUP($I6,[1]Sheet1!$B$3:$W$247,9,0),\"\")","v":""},{"$f":"IFERROR(VLOOKUP($I6,[1]Sheet1!$B$3:$W$247,10,0),\"\")","v":""}]
[null,null,null,null,null,null,null,null,null,null,null,null,"المراجعة الصغرى",{"$f":"IFERROR(VLOOKUP($I6,[1]Sheet1!$B$3:$W$247,11,0),\"\")","v":""},{"$f":"IFERROR(VLOOKUP($I6,[1]Sheet1!$B$3:$W$247,12,0),\"\")","v":""},{"$f":"IFERROR(VLOOKUP($I6,[1]Sheet1!$B$3:$W$247,13,0),\"\")","v":""},null,{"$f":"IFERROR(VLOOKUP($I6,[1]Sheet1!$B$3:$W$247,14,0),\"\")","v":""},{"$f":"IFERROR(VLOOKUP($I6,[1]Sheet1!$B$3:$W$247,15,0),\"\")","v":""},{"$f":"IFERROR(VLOOKUP($I6,[1]Sheet1!$B$3:$W$247,16,0),\"\")","v":""}]
[null,null,null,null,null,null,null,null,null,null,null,null,"المراجعة الكبرى",{"$f":"IFERROR(VLOOKUP($I6,[1]Sheet1!$B$3:$W$247,17,0),\"\")","v":""},{"$f":"IFERROR(VLOOKUP($I6,[1]Sheet1!$B$3:$W$247,18,0),\"\")","v":""},{"$f":"IFERROR(VLOOKUP($I6,[1]Sheet1!$B$3:$W$247,19,0),\"\")","v":""},null,{"$f":"IFERROR(VLOOKUP($I6,[1]Sheet1!$B$3:$W$247,20,0),\"\")","v":""},{"$f":"IFERROR(VLOOKUP($I6,[1]Sheet1!$B$3:$W$247,21,0),\"\")","v":""},{"$f":"IFERROR(VLOOKUP($I6,[1]Sheet1!$B$3:$W$247,22,0),\"\")","v":""}]
[]
[]
[null,null,null,null,null,null,null,null,null,null,null,null,null,null,null,null,null,null,null,null,"المطلوب عمل رز للضغط عليه حال الانتهاء من درس اليوم حتى يقوم بالانتقال للدري التالي"]
[null,null,null,null,null,null,null,null,null,null,null,null,null,null,null,null,null,null,null,null,"وللعلم هذه الخطة تعمل لكل طالب على حدة وبخائص تتوافق مع سنه وقدرته على الحفظ"]
[]
[null,"الحفظ",null,null,null,"المراجعة الصغرى",null,null,null,"المراجعة الكبرى"]
[null,"من",null,"إلى",null,"من",null,"إلى",null,"من",null,"إلى"]
[1,"التحريم",1,"التحريم",7,null,null,null,null,"الناس",1,"البينة",8]
[2,"التحريم",8,"التحريم",12,"التحريم",1,"التحريم",7,"البينة",8,"الفجر",14]
[3,"الطلاق",1,"الطلاق",7,"التحريم",1,"التحريم",12,"الفجر",14,"الانشقاق",7,null,null,null,null,"المطلوب"]
[4,"الطلاق",8,"التغابن",5,"التحريم",8,"الطلاق",7,"الانشقاق",7,"عبس",13,null,null,"عندي خطة لحفظ ومراجعة القرآن الكريم في جداول جاهزة وهي تعمل كالتالي مقدار الحفظ اليومي ( صفحة - أو نصف صفحة - أو ثلث صفحة )"]
[5,"التغابن",6,"التغابن",14,"الطلاق",1,"التغابن",5,"عبس",13,"المرسلات",9,null,null,"المراجعة الصغرى عبارة عن آخر درسين أو صفحتين تم حفظها"]
[null,null,null,null,null,"الطلاق",8,"التغابن",14,"المرسلات",9,"القيامة",29,null,null,"المراجعة الكبرى عبارة عن أربع دروس تبدأ من آخر المصحف أو من بدايته حسب اختيار الطالب ( مثلاَ : يحفظ من جزء تبارك والمراجعة من جزء عم فيقوم البرنامج بتحديد أربع صفحات من آخر جزء عم . وعند الانتقال للدرس الجديد يحدد الأربع الصفحات التي تليها إلى أن يصل إلى صفحات الحفظ الجديد فيقوم البرنامج بإعادة المراجعة من البداية وهكذا "]
[null,null,null,null,null,"الطلاق",8,"التغابن",14,"القيامة",29,"المزمل",20]
[6,"التغابن",15,"المنافقون",5,"الطلاق",8,"التغابن",14,"المزمل",20,"المعارج",9]
[7,"المنافقون",6,"المنافقون",11,"التغابن",6,"المنافقون",5,"المعارج",9,"القلم",16]
[8,"الجمعة",1,"الجمعة",9,"التغابن",15,"المنافقون",11,"القلم",16,"الملك",30]
[9,"الجمعة",10,"الصف",8,"المنافقون",6,"الجمعة",9,"الملك",30,"الطلاق",12]
[10,"الصف",9,"الصف",14,"الجمعة",1,"الصف",8,"الطلاق",12,"الجمعة",4,null,null,null,"الملاحظ عند وصول البرنامج إلى هذا السطر قام بعمل مقارنة مع الحفظ الجديد أو مع المراجعة الصغرى وعندما لم يكن الطالب قد جاوز حفظة الجديد هذه المنطقة  قام بإعادة المراجعة من الناس وهكذا إلى الانتهاء من ختم القرآن ختم القرآن الكريم"]
[null,null,null,null,null,"الجمعة",10,"الصف",14,"الناس",1,"البينة",8]
[null,null,null,null,null,"الجمعة",10,"الصف",14,"البينة",8,"الفجر",14]
[11,"الممتحنة",1,"الممتحنة",8,"الجمعة",10,"الصف",14,"الفجر",14,"الانشقاق",7]
[12,"الممتحنة",9,"الممتحنة",13,"الصف",9,"الممتحنة",8,"الانشقاق",7,"عبس",13,null,null,null,null,null," "]
[13,"الحشر",1,"الحشر",7,"الممتحنة",1,"الممتحنة",13,"عبس",13,"المرسلات",9]
[14,"الحشر",8,"الحشر",14,"الممتحنة",9,"الحشر",7,"المرسلات",9,"القيامة",29,null,null,null,null,null,"فالمرجو عمل كود بهذه الخصائص "]
[15,"الحشر",15,"الحشر",24,"الحشر",1,"الحشر",14,"القيامة",29,"المزمل",20]
[null,null,null,null,null,"الحشر",8,"الحشر",24,"المزمل",20,"المعارج",9,null,null,null,null,null,"في حال عدم وضوح المطلوب الرجاء إرسال رسالة على الايميل mymn2026@gmail.com"]
[null,null,null,null,null,"الحشر",8,"الحشر",24,"المعارج",9,"القلم",16]
[16,"المجادلة",1,"المجادلة",7,"الحشر",8,"الحشر",24,"القلم",16,"الملك",30]
[17,"المجادلة",8,"المجادلة",16,"الحشر",15,"المجادلة",7,"الملك",30,"الطلاق",12]
[18,"المجادلة",17,"المجادلة",22,"المجادلة",1,"المجادلة",16,"الطلاق",12,"الجمعة",4]
[19,"الحديد",1,"الحديد",10,"المجادلة",8,"المجادلة",22,"الجمعة",4,"الممتحنة",9]
[20,"الحديد",11,"الحديد",18,"المجادلة",17,"الحديد",10,"الممتحنة",9,"الحشر",20]
[null,null,null,null,null,"الحديد",1,"الحديد",18,"الحشر",20,"المجادلة",22,null,null,null,"وهنا نفس العمل "]
[null,null,null,null,null,"الحديد",1,"الحديد",18,"الناس",1,"البينة",8]
[]
[]
[]
[]
[]
[]
[]
[]
[]
[null,null,null,"التحريم","صفحة واحدة"]
[null,null,null,"الطلاق","نصف صفحة","الناس إلى البقرة",2]
[null,null,null,"التغابن","ثلث صفحة","البقرة إلى الناس",3]
[null,null,null,"المنافقون","ربع صفحة"]
[null,null,null,"الجمعة"]
[null,null,null,"الصف"]
[null,null,null,"الممتحنة"]
[null,null,null,"الحشر"]
[null,null,null,"المجادلة"]
[null,null,null,"الحديد"]