{"text_format":"1","workbook":"xlsx","n_sheets":3,"sheets":["شعبة التسزيق","القانون","ورقة3"],"not_rendered":{"charts":0,"images":0,"macros":0,"external_links":2,"defined_names":0,"comments":0,"pivot_tables":0},"unopened":[],"bounds":{"document_bytes":16777216,"sheet_cells":100000,"rows_first":2000,"rows_last":500,"rows_between":2000,"halvings":0,"cell_chars":16384,"cell_head_chars":4096},"cells_cut":0,"cells_raw":0,"read":"whole","date_system":"1900"}

{"sheet":"شعبة التسزيق","index":0,"n_rows":701,"n_cols":92,"rows_kept":701,"cut":false,"hidden":false,"merged":[[5,62,6,62],[5,63,6,63],[5,64,6,64],[5,65,6,65],[5,66,6,66],[5,67,6,67],[5,54,5,55],[5,56,6,56],[5,57,6,57],[5,58,6,58],[5,60,6,60],[5,61,6,61],[5,46,6,46],[5,47,6,47],[5,48,6,48],[5,49,6,49],[5,50,5,51],[5,52,5,53],[5,36,6,36],[5,37,6,37],[5,38,6,38],[5,39,6,39],[5,40,6,40],[5,41,6,41],[5,30,6,30],[5,31,6,31],[5,32,6,32],[5,33,6,33],[5,34,6,34],[5,35,6,35],[5,24,6,24],[5,25,6,25],[5,26,6,26],[5,27,6,27],[5,28,6,28],[5,29,6,29],[5,18,6,18],[5,19,6,19],[5,20,6,20],[5,21,6,21],[5,22,6,22],[5,23,6,23],[5,12,6,12],[5,13,6,13],[5,14,6,14],[5,15,6,15],[5,16,6,16],[5,17,6,17],[5,6,6,6],[5,7,6,7],[5,8,6,8],[5,9,6,9],[5,10,6,10],[5,11,6,11],[4,85,8,85],[4,86,8,86],[4,87,8,87],[4,88,8,88],[4,89,8,89],[4,91,8,91],[4,68,8,68],[4,69,8,69],[4,70,8,70],[4,75,8,75],[4,76,8,76],[4,77,8,77],[4,42,4,45],[4,46,4,49],[4,50,4,58],[4,59,6,59],[4,60,4,63],[4,64,4,67],[5,42,6,42],[5,43,6,43],[5,44,6,44],[5,45,6,45],[4,18,4,21],[4,22,4,25],[4,26,4,29],[4,30,4,33],[4,34,4,37],[4,38,4,41],[2,91,3,91],[4,0,8,0],[4,1,8,1],[4,2,8,2],[4,3,8,3],[4,4,8,4],[4,5,6,5],[4,6,4,9],[4,10,4,13],[4,14,4,17],[4,81,8,81],[4,82,8,82],[4,83,8,83],[4,84,8,84],[4,78,8,78],[4,79,8,79],[4,80,8,80]]}
[null,"بسم الله الرحمن الرحيم",null,null,null,null,null,null,null,null,null,null,null,null,null,null,null,null,null,null,null,null,"شيت كنترول للعام الدراسى 2017 / 2018","شيت كنترول للعام الدراسى 2018/ 2019"]
[null,null,"ادارة  التعليمية",null,null,null,null,null,null,null,null,null,null,null,null,null,null,null,null,null,null,null,"الصف الثانى - شعبة تسويق"]
[null,null,"مدرسة  التجارية"]
[]
["مسلسل","رقم جلوس","الاســــــــــــــم","الفصــــــــــل","الحالــــــــة","السرى","لغة عربية",null,null,null,"لغة انجليزية",null,null,null,"لغة فرنسية",null,null,null,"محاسبة مالية",null,null,null,"تسويق",null,null,null,"رياضة مالية",null,null,null,"اقتصاد",null,null,null,"اعمال وساطة",null,null,null,"سكرتارية اجنبية",null,null,null,"دعاية واعلان",null,null,null,"سوق اوراق مالية",null,null,null,"حاسب آلى",null,null,null,null,null,null,null,null,"مجموع كلى","مواطنة وحقوق انسان",null,null,null,"تربية دينية",null,null,null,"نتيجة","مواد الرسوب","عدد المواد",null,null,null,null,"عربى","انجليزى","فرنسى","محاسبة","احصاء","رياضة مالية","اقتصاد","سكرتارية . ع","سكرتارية . ف","مشروعات","مخازن","حاسب","مواطنة","دين","مجموع",null,"مجموع نصف العام"]
[null,null,null,null,null,null,"اعمال السنة","نصف العام","آخر العام","المجموع","اعمال السنة","نصف العام","آخر العام","المجموع","اعمال السنة","نصف العام","آخر العام","المجموع","اعمال السنة","نصف العام","آخر العام","المجموع","اعمال السنة","نصف العام","آخر العام","المجموع","اعمال السنة","نصف العام","آخر العام","المجموع","اعمال السنة","نصف العام","آخر العام","المجموع","اعمال السنة","نصف العام","آخر العام","المجموع","اعمال السنة","نصف العام","آخر العام","المجموع","اعمال السنة","نصف العام","آخر العام","المجموع","اعمال السنة","نصف العام","آخر العام","المجموع","اعمال السنة",null,"نصف العام",null,"آخر العام",null,"مجموع عملى","مجموع تحريرى","مجموع حاسب",null,"اعمال السنة","نصف العام","آخر العام","المجموع","اعمال السنة","نصف العام","نصف العام","المجموع"]
[null,null,null,null,null,null,null,null,null,null,null,null,null,null,null,null,null,null,null,null,null,null,null,null,null,null,null,null,null,null,null,null,null,null,null,null,null,null,null,null,null,null,null,null,null,null,null,null,null,null,"عملى","تحريرى","عملى","تحريرى","عملى","تحريرى"]
[null,null,null,null,null,"عظمى",10,20,20,50,10,20,20,50,6,12,12,30,10,20,20,50,10,20,20,50,10,20,20,50,10,20,20,50,10,20,20,50,10,20,20,50,10,20,20,50,10,20,20,50,4,6,8,12,8,12,20,30,50,580,4,8,8,20,4,8,8,20]
[null,null,null,null,null,"صغرى",0,0,5,25,0,0,5,20,0,0,3,9,0,0,5,25,0,0,5,25,0,0,5,25,0,0,5,25,0,0,5,25,0,0,5,20,0,0,5,25,0,0,5,25,0,0,0,0,2,3,10,15,25,290,0,0,2,10,0,0,0,10]
[1,501,"طالبة تسويق 1","1/2","مستجدة",625,8,10.5,"غ",{"$f":"SUM(G10:I10)","v":18.5},8.5,8.4,"غ",{"$f":"SUM(K10:M10)","v":16.899999999999999},4.5,6.8,6.8,{"$f":"SUM(O10:Q10)","v":18.100000000000001},9,8,12,{"$f":"SUM(S10:U10)","v":29},8.5,17,15,{"$f":"SUM(W10:Y10)","v":40.5},{"$f":"'[1]شعبة التسزيق'!AJ10","v":16},{"$f":"'[1]شعبة التسزيق'!AK10","v":13.5},{"$f":"'[1]شعبة التسزيق'!AL10","v":38.5},{"$f":"SUM(AA10:AC10)","v":68},8.5,13,15,{"$f":"SUM(AE10:AG10)","v":36.5},9,15,11.5,{"$f":"SUM(AI10:AK10)","v":35.5},8.5,13.5,10.5,{"$f":"SUM(AM10:AO10)","v":32.5},9,15,8,{"$f":"SUM(AQ10:AS10)","v":32},9,8,12,{"$f":"SUM(AU10:AW10)","v":29},3,4,6,7,5,8,{"$f":"IF($C10=\"\",\"\",SUM(AY10,BA10,BC10))","v":14},19,{"$f":"IF($C10=\"\",\"\",SUM(BE10,BF10))","v":33},{"$f":"IF($C10=\"\",\"\",SUM(J10,N10,R10,V10,Z10,AD10,AH10,AL10,AP10,AT10,AX10,BG10))","v":389.5},{"$f":"'[1]شعبة التسزيق'!BS10","v":8},0,"غ",{"$f":"SUM(BI10:BK10)","v":8},5,5,"غ",{"$f":"SUM(BM10:BO10)","v":10},{"$f":"IF($C10=\"\",\"\",IF(BS10=0,\"ناجحة\",IF(BS10<=2,\"دورثان\",\"راسبة\")))","v":"راسبة"},{"$f":"IF($C10=\"\",\"\",IF(BS10=0,\"ومنقولة للصف الثالث\",IF(BS10>0,\"فى  :  \"&CONCATENATE(BX10,BY10,BZ10,CA10,CB10,CC10,CD10,CE10,CF10,CG10,CH10,CI10,CJ10,CK10,CL10),CONCATENATE(BX10,BY10,BZ10,CA10,CB10,CC10,CD10,CE10,CF10,CG10,CH10,CI10,CJ10,CK10,CL10))))","v":"فى  :  عربى - انجليزى - مواطنة - دين - "},{"$f":"IF($C10=\"\",\"\",COUNTA($BX10:$CL10)-COUNTBLANK($BX10:$CL10))","v":4},null,null,null,null,{"$f":"IF($C10=\"\",\"\",IF(OR(I10<$I$9,I10=\"غ\",J10<$J$9),$BX$5&\" - \",\"\"))","v":"عربى - "},{"$f":"IF($C10=\"\",\"\",IF(OR(M10<$M$9,M10=\"غ\",N10<$N$9),$BY$5&\" - \",\"\"))","v":"انجليزى - "},{"$f":"IF($C10=\"\",\"\",IF(OR(Q10<$Q$9,Q10=\"غ\",R10<$R$9),BZ$5&\" - \",\"\"))","v":""},{"$f":"IF($C10=\"\",\"\",IF(OR(U10<$U$9,U10=\"غ\",V10<$V$9),CA$5&\" - \",\"\"))","v":""},{"$f":"IF($C10=\"\",\"\",IF(OR(Y10<$Y$9,Y10=\"غ\",Z10<$Z$9),CB$5&\" - \",\"\"))","v":""},{"$f":"IF($C10=\"\",\"\",IF(OR(AC10<$AC$9,AC10=\"غ\",AD10<$AD$9),CC$5&\" - \",\"\"))","v":""},{"$f":"IF($C10=\"\",\"\",IF(OR(AG10<$AG$9,AG10=\"غ\",AH10<$AH$9),CD$5&\" - \",\"\"))","v":""},{"$f":"IF($C10=\"\",\"\",IF(OR(AK10<$AK$9,AK10=\"غ\",AL10<$AL$9),CE$5&\" - \",\"\"))","v":""},{"$f":"IF($C10=\"\",\"\",IF(OR(AO10<$AO$9,AO10=\"غ\",AP10<$AP$9),CF$5&\" - \",\"\"))","v":""},{"$f":"IF($C10=\"\",\"\",IF(OR(AS10<$AS$9,AS10=\"غ\",AT10<$AT$9),CG$5&\" - \",\"\"))","v":""},{"$f":"IF($C10=\"\",\"\",IF(OR(AW10<$AW$9,AW10=\"غ\",AX10<$AX$9),CH$5&\" - \",\"\"))","v":""},{"$f":"IF($C10=\"\",\"\",IF(OR(BE10<$BE$9,BE10=\"غ\",BF10<$BF$9,BF10=\"غ\",BG10<$BG$9),CI$5&\" - \",\"\"))","v":""},{"$f":"IF($C10=\"\",\"\",IF(OR(BK10<$BK$9,BK10=\"غ\",BL10<$BL$9),CJ$5&\" - \",\"\"))","v":"مواطنة - "},{"$f":"IF($C10=\"\",\"\",IF(OR(BO10<$BO$9,BO10=\"غ\",BP10<$BP$9),CK$5&\" - \",\"\"))","v":"دين - "},{"$f":"IF($C10=\"\",\"\",IF(BH10<$BH$9,CL$5,\"\"))","v":""},null,{"$f":"IF($C10=\"\",\"\",SUM(H10,L10,P10,T10,X10,AB10,AF10,AJ10,AN10,AR10,AV10,BA10,BB10))","v":141.69999999999999}]
[2,502,"طالبة تسويق 2","1/2","مستجدة",626,8,13,10,{"$f":"SUM(G11:I11)","v":31},8.5,10.4,12.8,31.7,5,9.1999999999999993,7.6,21.799999999999997,9,16,14.5,39.5,9.5,12.5,14,36,{"$f":"'[1]شعبة التسزيق'!AJ11","v":15},{"$f":"'[1]شعبة التسزيق'!AK11","v":14.5},{"$f":"'[1]شعبة التسزيق'!AL11","v":38.5},68,8.5,17,17,42.5,9,18,15.5,42.5,9,15.5,15.5,40,9,16,12,37,9,12,12,33,3,4,6,7,5,8,14,19,33,456,{"$f":"'[1]شعبة التسزيق'!BS11","v":7},5,"غ",12,5,5,"غ",10,"دورثان","فى  :  مواطنة - دين - ",2,null,null,null,null,"","","","","","","","","","","","","مواطنة - ","دين - ","",null,167.1]
[3,503,"طالبة تسويق 3","1/2","مستجدة",627,8,13,9.5,30.5,8,10.4,14,32.4,5,8.8000000000000007,8,21.8,9,13.5,11.5,34,9.5,12.5,15,37,{"$f":"'[1]شعبة التسزيق'!AJ12","v":14},{"$f":"'[1]شعبة التسزيق'!AK12","v":13},{"$f":"'[1]شعبة التسزيق'!AL12","v":36},63,8.5,11,17,36.5,9,14,16,39,8.5,15.5,12,36,9,15,13,37,9,9,13,31,3,4,6,6,5,8,14,18,32,430.2,{"$f":"'[1]شعبة التسزيق'!BS12","v":9},5,5,19,5,5,5,15,"ناجحة","ومنقولة للصف الثالث",0,null,null,null,null,"","","","","","","","","","","","","","","",null,147.69999999999999]
[4,504,"طالبة تسويق 4","1/2","مستجدة",628,8,11,9,28,8.5,5.6,12,26.1,4.5,8,8,20.5,9,15.5,13.5,38,9.5,8,14,31.5,{"$f":"'[1]شعبة التسزيق'!AJ13","v":12},{"$f":"'[1]شعبة التسزيق'!AK13","v":12},{"$f":"'[1]شعبة التسزيق'!AL13","v":33},57,8.5,12,16,36.5,9,11,14,34,8.5,10,8.5,27,9.5,17,11,37.5,9,4,12,25,3,4,6,5.5,6,8,15,17.5,32.5,393.6,{"$f":"'[1]شعبة التسزيق'!BS13","v":9},5,5,19,5,5,5,15,"ناجحة","ومنقولة للصف الثالث",0,null,null,null,null,"","","","","","","","","","","","","","","",null,125.6]
[5,505,"طالبة تسويق 5","1/2","مستجدة",629,8,11,13,32,8.5,7.2,12.4,28.1,4.5,7.6,8.4,20.5,9,13,12,34,8.5,15,14,37.5,{"$f":"'[1]شعبة التسزيق'!AJ14","v":16},{"$f":"'[1]شعبة التسزيق'!AK14","v":11.5},{"$f":"'[1]شعبة التسزيق'!AL14","v":36.5},64,8.5,13,18,39.5,9,16,13.5,38.5,8.5,9.5,13.5,31.5,8.5,13,13,34.5,9,5,11,25,3,4,6,7,6,7,15,18,33,418.1,{"$f":"'[1]شعبة التسزيق'!BS14","v":9},5,5,19,5,5,5,15,"ناجحة","ومنقولة للصف الثالث",0,null,null,null,null,"","","","","","","","","","","","","","","",null,134.80000000000001]
[6,506,"طالبة تسويق 6","1/2","مستجدة",630,8,13,12,33,8.5,10.8,14,33.299999999999997,5,8,8.8000000000000007,21.8,9,15,14,38,9,20,17,46,{"$f":"'[1]شعبة التسزيق'!AJ15","v":15.5},{"$f":"'[1]شعبة التسزيق'!AK15","v":12.5},{"$f":"'[1]شعبة التسزيق'!AL15","v":37.5},65.5,8.5,16,15,39.5,9,15,14.5,38.5,9,12,13.5,34.5,9.5,16,13,38.5,9,11,10,30,3,4,6,10,5,8,14,22,36,454.6,{"$f":"'[1]شعبة التسزيق'!BS15","v":14},5,5,24,5,5,5,15,"ناجحة","ومنقولة للصف الثالث",0,null,null,null,null,"","","","","","","","","","","","","","","",null,165.3]
[7,507,"طالبة تسويق 7","1/2","مستجدة",631,8,11.5,10,29.5,8,8,14,30,4.5,8.4,8,20.9,9,11.5,13.5,34,9.5,12,15,36.5,{"$f":"'[1]شعبة التسزيق'!AJ16","v":17},{"$f":"'[1]شعبة التسزيق'!AK16","v":13.5},{"$f":"'[1]شعبة التسزيق'!AL16","v":40},70.5,8.5,11,14,33.5,9,14,13,36,8.5,9,13,30.5,9.5,16,5,30.5,9,4,13,26,3,4,5,7,6,7,14,18,32,409.9,{"$f":"'[1]شعبة التسزيق'!BS16","v":9},5,5,19,5,5,5,15,"ناجحة","ومنقولة للصف الثالث",0,null,null,null,null,"","","","","","","","","","","","","","","",null,130.9]
[8,508,"طالبة تسويق 8","1/2","مستجدة",632,8,12.5,13.5,34,8.5,8,12.4,28.9,5,8,8.4,21.4,9,14.5,14,37.5,9,13,14,36,{"$f":"'[1]شعبة التسزيق'!AJ17","v":16},{"$f":"'[1]شعبة التسزيق'!AK17","v":13},{"$f":"'[1]شعبة التسزيق'!AL17","v":38.5},67.5,8.5,15,14,37.5,9,12,12,33,8.5,10.5,10,29,9.5,16,5,30.5,9,4,13,26,3,4,6,5,5,7,14,16,30,411.3,{"$f":"'[1]شعبة التسزيق'!BS17","v":9},5,5,19,5,5,5,15,"ناجحة","ومنقولة للصف الثالث",0,null,null,null,null,"","","","","","","","","","","","","","","",null,137.5]
[9,509,"طالبة تسويق 9","1/2","مستجدة",633,8,12.5,12.5,33,8.5,11.6,15.2,35.299999999999997,5,7.6,8,20.6,9,16,13.5,38.5,9.5,15,11,35.5,{"$f":"'[1]شعبة التسزيق'!AJ18","v":17},{"$f":"'[1]شعبة التسزيق'!AK18","v":14.5},{"$f":"'[1]شعبة التسزيق'!AL18","v":40.5},72,8.5,11,13,32.5,9,16,11.5,36.5,8.5,14,14.5,37,9.5,16,8,33.5,9,6,13,28,3,4,5,6,6,9,14,19,33,435.4,{"$f":"'[1]شعبة التسزيق'!BS18","v":9},5,5,19,5,5,5,15,"ناجحة","ومنقولة للصف الثالث",0,null,null,null,null,"","","","","","","","","","","","","","","",null,151.19999999999999]
[10,510,"طالبة تسويق 10","1/2","مستجدة",634,8,9,9,26,8.5,6,13.6,28.1,5,6.4,8,19.399999999999999,9,10,14.5,33.5,9,11,13,33,{"$f":"'[1]شعبة التسزيق'!AJ19","v":18},{"$f":"'[1]شعبة التسزيق'!AK19","v":14.5},{"$f":"'[1]شعبة التسزيق'!AL19","v":42},74.5,8.5,9,14,31.5,9.5,15.5,12.5,37.5,9,2.5,10,21.5,9,16,11,36,9,5,11,25,3,4,6,4.5,5,8,14,16.5,30.5,396.5,{"$f":"'[1]شعبة التسزيق'!BS19","v":12},5,5,22,5,5,5,15,"ناجحة","ومنقولة للصف الثالث",0,null,null,null,null,"","","","","","","","","","","","","","","",null,115.4]
[11,511,"طالبة تسويق 11","1/2","مستجدة",635,8,13.5,13.5,35,8.5,12,13.6,34.1,5,8.4,8,21.4,9,14.5,14.5,38,9,12,14,35,{"$f":"'[1]شعبة التسزيق'!AJ20","v":19},{"$f":"'[1]شعبة التسزيق'!AK20","v":12.5},{"$f":"'[1]شعبة التسزيق'!AL20","v":40.5},72,8.5,10,14,32.5,9.5,17,13.5,40,9,5,14,28,9,15,7,31,9,9,11,29,3,4,6,6.5,5,8,14,18.5,32.5,428.5,{"$f":"'[1]شعبة التسزيق'!BS20","v":9},5,5,19,5,5,5,15,"ناجحة","ومنقولة للصف الثالث",0,null,null,null,null,"","","","","","","","","","","","","","","",null,141.4]
[12,512,"طالبة تسويق 12","1/2","مستجدة",636,8,13,13.5,34.5,8.5,11.2,13.6,33.299999999999997,4.5,7.6,8,20.100000000000001,9,16,15,40,9.5,12,14,35.5,{"$f":"'[1]شعبة التسزيق'!AJ21","v":16},{"$f":"'[1]شعبة التسزيق'!AK21","v":13},{"$f":"'[1]شعبة التسزيق'!AL21","v":38},67,8.5,14,14,36.5,9.5,16,13,38.5,9,11.5,13.5,34,9.5,15,9,33.5,9,8,14,31,3,4,5,6.5,5,8,13,18.5,31.5,435.4,{"$f":"'[1]شعبة التسزيق'!BS21","v":9},5,5,19,5,5,5,15,"ناجحة","ومنقولة للصف الثالث",0,null,null,null,null,"","","","","","","","","","","","","","","",null,148.80000000000001]
[13,513,"طالبة تسويق 13","1/2","مستجدة",637,8,11.5,9,28.5,8,7.2,13.6,28.799999999999997,5,7.6,7.2,19.8,9,12.5,13.5,35,8,17,14,39,{"$f":"'[1]شعبة التسزيق'!AJ22","v":19},{"$f":"'[1]شعبة التسزيق'!AK22","v":13},{"$f":"'[1]شعبة التسزيق'!AL22","v":41},73,8.5,11,14,33.5,9,17,14.5,40.5,9,10.5,8.5,28,9,11,5,25,9,6,14,29,3,4,6,7.5,5,9,14,20.5,34.5,414.6,{"$f":"'[1]شعبة التسزيق'!BS22","v":9},5,5,19,5,5,5,15,"ناجحة","ومنقولة للصف الثالث",0,null,null,null,null,"","","","","","","","","","","","","","","",null,137.80000000000001]
[14,514,"طالبة تسويق 14","1/2","مستجدة",638,8,12.5,10.5,31,8.5,8.4,10.4,27.299999999999997,4.5,8.8000000000000007,7.2,20.5,9,11,11,31,9,18,15,42,{"$f":"'[1]شعبة التسزيق'!AJ23","v":20},{"$f":"'[1]شعبة التسزيق'!AK23","v":11.5},{"$f":"'[1]شعبة التسزيق'!AL23","v":40.5},72,8.5,11,14,33.5,9.5,18,14.5,42,9,10,5,24,9,15,7,31,9,7,9,25,3,4,5,6.5,6,9,14,19.5,33.5,412.8,{"$f":"'[1]شعبة التسزيق'!BS23","v":10},5,5,20,5,5,5,15,"ناجحة","ومنقولة للصف الثالث",0,null,null,null,null,"","","","","","","","","","","","","","","",null,142.69999999999999]
[15,515,"طالبة تسويق 15","1/2","مستجدة",639,8,13.5,17,38.5,9,6,14.8,29.8,4.5,6,8,18.5,9,13.5,16,38.5,9,15,15,39,{"$f":"'[1]شعبة التسزيق'!AJ24","v":17},{"$f":"'[1]شعبة التسزيق'!AK24","v":11},{"$f":"'[1]شعبة التسزيق'!AL24","v":37},65,8.5,15,14,37.5,9,19,12.5,40.5,9,12.5,15,36.5,9.5,12,10,31.5,9,14,19,42,3,4,5,11,5,9,13,24,37,454.3,{"$f":"'[1]شعبة التسزيق'!BS24","v":8},5,5,18,5,5,{"$f":"'[1]شعبة التسزيق'!BY24","v":""},10,"ناجحة","ومنقولة للصف الثالث",0,null,null,null,null,"","","","","","","","","","","","","","","",null,153.5]
[16,516,"طالبة تسويق 16","1/2","مستجدة",640,8,13,15,36,8.5,8,15.6,32.1,5,7.2,7.6,19.799999999999997,9,17.5,15.5,42,9,17,16,42,{"$f":"'[1]شعبة التسزيق'!AJ25","v":16},{"$f":"'[1]شعبة التسزيق'!AK25","v":11},{"$f":"'[1]شعبة التسزيق'!AL25","v":36},63,8.5,15,15,38.5,9,16,13,38,9,13.5,14,36.5,8.5,14,12,34.5,9,15,17,41,3,4,6,11,5,9,14,24,38,461.4,{"$f":"'[1]شعبة التسزيق'!BS25","v":8},5,5,18,5,5,{"$f":"'[1]شعبة التسزيق'!BY25","v":""},10,"ناجحة","ومنقولة للصف الثالث",0,null,null,null,null,"","","","","","","","","","","","","","","",null,164.2]
[17,517,"طالبة تسويق 17","1/2","مستجدة",641,8,16,12.5,36.5,8.5,7.6,14,30.1,5,6.4,8.4,19.8,9,10,11.5,30.5,9.5,17,16,42.5,{"$f":"'[1]شعبة التسزيق'!AJ26","v":16},{"$f":"'[1]شعبة التسزيق'!AK26","v":10.5},{"$f":"'[1]شعبة التسزيق'!AL26","v":35.5},62,8.5,19,17,44.5,9,19,13,41,9,12.5,11,32.5,9.5,15,14,38.5,9,13,10,32,3,4,5,6,5,8,13,18,31,440.9,{"$f":"'[1]شعبة التسزيق'!BS26","v":8},5,5,18,5,5,{"$f":"'[1]شعبة التسزيق'!BY26","v":""},10,"ناجحة","ومنقولة للصف الثالث",0,null,null,null,null,"","","","","","","","","","","","","","","",null,157]
[18,518,"طالبة تسويق 18","1/2","مستجدة",642,8,12,13,33,9,6.4,14,29.4,4.5,6,8,18.5,9,9.5,12.5,31,9.5,16,15,40.5,{"$f":"'[1]شعبة التسزيق'!AJ27","v":16},{"$f":"'[1]شعبة التسزيق'!AK27","v":7},{"$f":"'[1]شعبة التسزيق'!AL27","v":32},55,8.5,17,18,43.5,9,20,11.5,40.5,8.5,13,8,29.5,9,15,17,41,9,11,10,30,3,4,5,7,6,8,14,19,33,424.9,{"$f":"'[1]شعبة التسزيق'!BS27","v":8},5,5,18,5,5,{"$f":"'[1]شعبة التسزيق'!BY27","v":""},10,"ناجحة","ومنقولة للصف الثالث",0,null,null,null,null,"","","","","","","","","","","","","","","",null,144.9]
[19,519,"طالبة تسويق 19","1/2","مستجدة",643,8,11,15.5,34.5,8.5,5.2,13.6,27.299999999999997,5,6.8,8.4,20.200000000000003,9,11.5,11,31.5,9.5,13,16,38.5,{"$f":"'[1]شعبة التسزيق'!AJ28","v":17},{"$f":"'[1]شعبة التسزيق'!AK28","v":7.5},{"$f":"'[1]شعبة التسزيق'!AL28","v":33.5},58,8.5,15,17,40.5,9,17,11,37,9,13.5,10,32.5,9,14,17,40,9,15,17,41,3,4,5,9,6,8,14,21,35,436,{"$f":"'[1]شعبة التسزيق'!BS28","v":8},5,5,18,5,5,{"$f":"'[1]شعبة التسزيق'!BY28","v":" - "},10,"ناجحة","ومنقولة للصف الثالث",0,null,null,null,null,"","","","","","","","","","","","","","","",null,143.5]
[20,520,"طالبة تسويق 20","1/2","مستجدة",644,8,10.5,12.5,31,8.5,10,13.2,31.7,4.5,6.4,8.4,19.3,9.5,17,14.5,41,9,16,15,40,{"$f":"'[1]شعبة التسزيق'!AJ29","v":17},{"$f":"'[1]شعبة التسزيق'!AK29","v":9.5},{"$f":"'[1]شعبة التسزيق'!AL29","v":35},61.5,8.5,16,15,39.5,9,16,11,36,8.5,13,15,36.5,9,14,18,41,9,9,19,37,3,4,5,8.5,5,8,13,20.5,33.5,448,{"$f":"'[1]شعبة التسزيق'!BS29","v":12},5,5,22,5,5,{"$f":"'[1]شعبة التسزيق'!BY29","v":" - "},10,"ناجحة","ومنقولة للصف الثالث",0,null,null,null,null,"","","","","","","","","","","","","","","",null,150.9]
[21,521,"طالبة تسويق 21","1/2","مستجدة",645,8,14.5,16,38.5,8.5,8.4,13.2,30.099999999999998,5,6.4,8.4,19.8,9,13.5,14.5,37,9.5,18,19,46.5,{"$f":"'[1]شعبة التسزيق'!AJ30","v":20},{"$f":"'[1]شعبة التسزيق'!AK30","v":12},{"$f":"'[1]شعبة التسزيق'!AL30","v":41},73,8.5,14,16,38.5,9,16,10.5,35.5,8.5,14.5,12,35,9.5,16,19,44.5,9,17,19,45,3,4,6,8,5,8,14,20,34,477.4,{"$f":"'[1]شعبة التسزيق'!BS30","v":7},5,5,17,{"$f":"'[1]شعبة التسزيق'!BW30","v":{"$error":"#REF!"}},{"$f":"'[1]شعبة التسزيق'!BX30","v":""},{"$f":"'[1]شعبة التسزيق'!BY30","v":""},{"$error":"#REF!"},"دورثان",{"$error":"#REF!"},1,null,null,null,null,"","","","","","","","","","","","","",{"$error":"#REF!"},"",null,164.3]
[22,522,"طالبة تسويق 22","1/2","مستجدة",646,8,14,13.5,35.5,8.5,9.6,14.4,32.5,5,5.6,8,18.600000000000001,9,15,8,32,9,18,16,43,{"$f":"'[1]شعبة التسزيق'!AJ31","v":20},{"$f":"'[1]شعبة التسزيق'!AK31","v":12.5},{"$f":"'[1]شعبة التسزيق'!AL31","v":42},74.5,8.5,14,17,39.5,9,16,7,32,9,14,9.5,32.5,9,18,16,43,9,13,18,40,3,4,5,8,6,8,14,20,34,457.1,{"$f":"'[1]شعبة التسزيق'!BS31","v":8},5,5,18,{"$f":"'[1]شعبة التسزيق'!BW31","v":{"$error":"#REF!"}},{"$f":"'[1]شعبة التسزيق'!BX31","v":""},{"$f":"'[1]شعبة التسزيق'!BY31","v":""},{"$error":"#REF!"},"دورثان",{"$error":"#REF!"},1,null,null,null,null,"","","","","","","","","","","","","",{"$error":"#REF!"},"",null,162.69999999999999]
[23,523,"طالبة تسويق 23","1/2","مستجدة",647,8,15,11.5,34.5,8,4,12.8,24.8,5,7.2,8.4,20.6,9,15.5,11.5,36,8.5,18,18,44.5,{"$f":"'[1]شعبة التسزيق'!AJ32","v":19},{"$f":"'[1]شعبة التسزيق'!AK32","v":11},{"$f":"'[1]شعبة التسزيق'!AL32","v":39.5},69.5,8.5,14,15,37.5,9,17,7.5,33.5,9,10,9,28,9,17,19,45,9,15,19,43,3,4,6,9,6,8,15,21,36,452.9,{"$f":"'[1]شعبة التسزيق'!BS32","v":9},5,5,19,{"$f":"'[1]شعبة التسزيق'!BW32","v":{"$error":"#REF!"}},{"$f":"'[1]شعبة التسزيق'!BX32","v":""},{"$f":"'[1]شعبة التسزيق'!BY32","v":""},{"$error":"#REF!"},"دورثان",{"$error":"#REF!"},1,null,null,null,null,"","","","","","","","","","","","","",{"$error":"#REF!"},"",null,158.69999999999999]
[24,524,"طالبة تسويق 24","1/2","مستجدة",648,7.5,7.5,11,26,8.5,4.8,9.6,22.9,4.5,6.4,8.4,19.3,9,12,7.5,28.5,8.5,14,13,35.5,{"$f":"'[1]شعبة التسزيق'!AJ33","v":14},{"$f":"'[1]شعبة التسزيق'!AK33","v":12},{"$f":"'[1]شعبة التسزيق'!AL33","v":35},61,8.5,14,16,38.5,8.5,17,9.5,35,9,4.5,6.5,20,9,15,19,43,9,7,17,33,3,4,5,8,5,8,13,20,33,395.7,{"$f":"'[1]شعبة التسزيق'!BS33","v":10},5,5,20,{"$f":"'[1]شعبة التسزيق'!BW33","v":{"$error":"#REF!"}},{"$f":"'[1]شعبة التسزيق'!BX33","v":""},{"$f":"'[1]شعبة التسزيق'!BY33","v":""},{"$error":"#REF!"},"دورثان",{"$error":"#REF!"},1,null,null,null,null,"","","","","","","","","","","","","",{"$error":"#REF!"},"",null,127.2]
[25,525,"طالبة تسويق 25","1/2","مستجدة",649,8.5,12.5,15.5,36.5,8.5,8,14.8,31.3,4.5,6,8,18.5,9,18.5,8,35.5,9.5,17,15,41.5,{"$f":"'[1]شعبة التسزيق'!AJ34","v":14},{"$f":"'[1]شعبة التسزيق'!AK34","v":13},{"$f":"'[1]شعبة التسزيق'!AL34","v":36.5},63.5,8.5,17,16,41.5,9,20,12,41,9,12.5,10,31.5,9,14,16,39,9,16,19,44,3,4,6,10,6,8,15,22,37,460.8,{"$f":"'[1]شعبة التسزيق'!BS34","v":10},5,5,20,{"$f":"'[1]شعبة التسزيق'!BW34","v":{"$error":"#REF!"}},{"$f":"'[1]شعبة التسزيق'!BX34","v":""},{"$f":"'[1]شعبة التسزيق'!BY34","v":" - "},{"$error":"#REF!"},"دورثان",{"$error":"#REF!"},1,null,null,null,null,"","","","","","","","","","","","","",{"$error":"#REF!"},"",null,170.5]
[26,526,"طالبة تسويق 26","1/2","مستجدة",650,8,15,16.5,39.5,8.5,7.6,14.4,30.5,4.5,6,6.8,17.3,9,19,15,43,9,19,16,44,{"$f":"'[1]شعبة التسزيق'!AJ35","v":8.5},{"$f":"'[1]شعبة التسزيق'!AK35","v":13},{"$f":"'[1]شعبة التسزيق'!AL35","v":30.5},52,8.5,19,14,41.5,9.5,20,12.5,42,9,15,17.5,41.5,9.5,16,14,39.5,9,15,18,42,3,4,5,10,5,8,13,22,35,467.8,{"$f":"'[1]شعبة التسزيق'!BS35","v":14},5,5,24,{"$f":"'[1]شعبة التسزيق'!BW35","v":{"$error":"#REF!"}},{"$f":"'[1]شعبة التسزيق'!BX35","v":" - "},{"$f":"'[1]شعبة التسزيق'!BY35","v":" - "},{"$error":"#REF!"},"دورثان",{"$error":"#REF!"},1,null,null,null,null,"","","","","","","","","","","","","",{"$error":"#REF!"},"",null,179.6]
[27,527,"طالبة تسويق 27","1/2","مستجدة",651,8,14.5,15,37.5,8.5,6.4,13.2,28.1,5,5.6,6.4,17,9,19,15.5,43.5,9,16,16,41,{"$f":"'[1]شعبة التسزيق'!AJ36","v":14},{"$f":"'[1]شعبة التسزيق'!AK36","v":16.5},{"$f":"'[1]شعبة التسزيق'!AL36","v":40},70.5,8.5,17,15,40.5,9.5,19,11,39.5,9,13.5,14.5,37,9,14,12,35,9,15,18,42,3,4,5,11,5,9,13,24,37,468.6,{"$f":"'[1]شعبة التسزيق'!BS36","v":6},5,5,16,{"$f":"'[1]شعبة التسزيق'!BW36","v":{"$error":"#REF!"}},{"$f":"'[1]شعبة التسزيق'!BX36","v":""},{"$f":"'[1]شعبة التسزيق'!BY36","v":""},{"$error":"#REF!"},"دورثان",{"$error":"#REF!"},1,null,null,null,null,"","","","","","","","","","","","","",{"$error":"#REF!"},"",null,172.5]
[28,528,"طالبة تسويق 28","1/2","مستجدة",652,8,7.5,14,29.5,9,6.4,13.2,28.6,5,4.8,7.6,17.399999999999999,9,7.5,8.5,25,8.5,13,18,39.5,{"$f":"'[1]شعبة التسزيق'!AJ37","v":10.5},{"$f":"'[1]شعبة التسزيق'!AK37","v":"غ"},{"$f":"'[1]شعبة التسزيق'!AL37","v":19.5},30,8.5,15,13,36.5,9,14,12,35,9,8,10.5,27.5,9,15,13,37,9,13,12,34,3,4,5,11,5,7,13,22,35,375,{"$f":"'[1]شعبة التسزيق'!BS37","v":15},5,5,25,{"$f":"'[1]شعبة التسزيق'!BW37","v":{"$error":"#REF!"}},{"$f":"'[1]شعبة التسزيق'!BX37","v":" - "},{"$f":"'[1]شعبة التسزيق'!BY37","v":" - "},{"$error":"#REF!"},"دورثان",{"$error":"#REF!"},1,null,null,null,null,"","","","","","","","","","","","","",{"$error":"#REF!"},"",null,120.2]
[29,529,"طالبة تسويق 29","1/2","مستجدة",653,8.5,11,13.5,33,9,10,10.8,29.8,5,7.2,7.6,19.799999999999997,9,14,16.5,39.5,9,17,17,43,{"$f":"'[1]شعبة التسزيق'!AJ38","v":13.5},{"$f":"'[1]شعبة التسزيق'!AK38","v":14},{"$f":"'[1]شعبة التسزيق'!AL38","v":36.5},64,8.5,11,18,37.5,9.5,14,13,36.5,9,9.5,13.5,32,9.5,10,10,29.5,9,15,9,33,3,4,5,10,6,8,14,22,36,433.6,{"$f":"'[1]شعبة التسزيق'!BS38","v":9},{"$f":"'[1]شعبة التسزيق'!BT38","v":{"$error":"#REF!"}},{"$f":"'[1]شعبة التسزيق'!BU38","v":0},{"$error":"#REF!"},{"$f":"'[1]شعبة التسزيق'!BW38","v":{"$error":"#REF!"}},{"$f":"'[1]شعبة التسزيق'!BX38","v":""},{"$f":"'[1]شعبة التسزيق'!BY38","v":""},{"$error":"#REF!"},"دورثان",{"$error":"#REF!"},2,null,null,null,null,"","","","","","","","","","","","",{"$error":"#REF!"},{"$error":"#REF!"},"",null,147.69999999999999]
[30,530,"طالبة تسويق 30","1/2","مستجدة",654,8,7,10,25,8.5,4.8,11.6,24.9,5,6,7.6,18.600000000000001,9,8,4.5,21.5,9,16,16,41,{"$f":"'[1]شعبة التسزيق'!AJ39","v":13},{"$f":"'[1]شعبة التسزيق'!AK39","v":13},{"$f":"'[1]شعبة التسزيق'!AL39","v":35},61,8.5,9,16,33.5,9,8.5,13,30.5,9,7,8,24,9,9,12,30,9,15,8,32,3,4,5,10,6,8,14,22,36,378,{"$f":"'[1]شعبة التسزيق'!BS39","v":11},{"$f":"'[1]شعبة التسزيق'!BT39","v":{"$error":"#REF!"}},{"$f":"'[1]شعبة التسزيق'!BU39","v":0},{"$error":"#REF!"},{"$f":"'[1]شعبة التسزيق'!BW39","v":{"$error":"#REF!"}},{"$f":"'[1]شعبة التسزيق'!BX39","v":""},{"$f":"'[1]شعبة التسزيق'!BY39","v":""},{"$error":"#REF!"},"راسبة",{"$error":"#REF!"},3,null,null,null,null,"","","","محاسبة - ","","","","","","","","",{"$error":"#REF!"},{"$error":"#REF!"},"",null,118.3]
[31,531,"طالبة تسويق 31","1/2","مستجدة",655,8,16,15,39,9,8.4,13.6,31,5,8.8000000000000007,8,21.8,9.5,19,17.5,46,9,18,18,45,{"$f":"'[1]شعبة التسزيق'!AJ40","v":16},{"$f":"'[1]شعبة التسزيق'!AK40","v":13},{"$f":"'[1]شعبة التسزيق'!AL40","v":38},67,8.5,12,17,37.5,9.5,14,16.5,40,9,15.5,13,37.5,9.5,16,14,39.5,9,18,8,35,3,4,5,11,6,9,14,24,38,477.3,{"$f":"'[1]شعبة التسزيق'!BS40","v":9},{"$f":"'[1]شعبة التسزيق'!BT40","v":{"$error":"#REF!"}},{"$f":"'[1]شعبة التسزيق'!BU40","v":0},{"$error":"#REF!"},{"$f":"'[1]شعبة التسزيق'!BW40","v":{"$error":"#REF!"}},{"$f":"'[1]شعبة التسزيق'!BX40","v":""},{"$f":"'[1]شعبة التسزيق'!BY40","v":" - "},{"$error":"#REF!"},"دورثان",{"$error":"#REF!"},2,null,null,null,null,"","","","","","","","","","","","",{"$error":"#REF!"},{"$error":"#REF!"},"",null,174.7]
[32,532,"طالبة تسويق 32","1/2","مستجدة",656,8,13,"غ",21,8.5,8.4,"غ",16.899999999999999,4.5,6.4,"غ",10.9,9,12.5,"غ",21.5,8.5,18,"غ",26.5,{"$f":"'[1]شعبة التسزيق'!AJ41","v":10},{"$f":"'[1]شعبة التسزيق'!AK41","v":12.5},{"$f":"'[1]شعبة التسزيق'!AL41","v":32},54.5,8.5,4,"غ",12.5,9,10.5,"غ",19.5,8.5,2.5,"غ",11,9,19,"غ",28,9,16,"غ",25,3,4,5,11,"غ","غ",8,15,23,270.3,{"$f":"'[1]شعبة التسزيق'!BS41","v":11},{"$f":"'[1]شعبة التسزيق'!BT41","v":{"$error":"#REF!"}},{"$f":"'[1]شعبة التسزيق'!BU41","v":0},{"$error":"#REF!"},{"$f":"'[1]شعبة التسزيق'!BW41","v":{"$error":"#REF!"}},{"$f":"'[1]شعبة التسزيق'!BX41","v":""},{"$f":"'[1]شعبة التسزيق'!BY41","v":""},{"$error":"#REF!"},"راسبة",{"$error":"#REF!"},14,null,null,null,null,"عربى - ","انجليزى - ","فرنسى - ","محاسبة - ","احصاء - ","","اقتصاد - ","سكرتارية . ع - ","سكرتارية . ف - ","مشروعات - ","مخازن - ","حاسب - ",{"$error":"#REF!"},{"$error":"#REF!"},"مجموع",null,138.80000000000001]
[33,533,"طالبة تسويق 33","1/2","مستجدة",657,8,13,13.5,34.5,9,9.6,14.4,33,5,8.4,6.8,20.2,9,18.5,14.5,42,9,17,11,37,{"$f":"'[1]شعبة التسزيق'!AJ42","v":14},{"$f":"'[1]شعبة التسزيق'!AK42","v":11.5},{"$f":"'[1]شعبة التسزيق'!AL42","v":34.5},60,8.5,10,17,35.5,9,13.5,14,36.5,8.5,16.5,17,42,9,17,12,38,9,18,8,35,3,4,6,10,5,8,{"$f":"IF($C42=\"\",\"\",SUM(AY42,BA42,BC42))","v":14},22,36,449.7,{"$f":"'[1]شعبة التسزيق'!BS42","v":11},{"$f":"'[1]شعبة التسزيق'!BT42","v":{"$error":"#REF!"}},{"$f":"'[1]شعبة التسزيق'!BU42","v":0},{"$error":"#REF!"},{"$f":"'[1]شعبة التسزيق'!BW42","v":{"$error":"#REF!"}},{"$f":"'[1]شعبة التسزيق'!BX42","v":""},{"$f":"'[1]شعبة التسزيق'!BY42","v":" - "},{"$error":"#REF!"},"دورثان",{"$error":"#REF!"},2,null,null,null,null,"","","","","","","","","","","","",{"$error":"#REF!"},{"$error":"#REF!"},"",null,169]
[34,534,"طالبة تسويق 34","1/2","مستجدة",658,8,13,13.5,34.5,8.5,9.6,13.2,31.3,4,8.4,7.6,20,9,18.5,10.5,38,9.5,17,11,37.5,{"$f":"'[1]شعبة التسزيق'!AJ43","v":5},{"$f":"'[1]شعبة التسزيق'!AK43","v":13},{"$f":"'[1]شعبة التسزيق'!AL43","v":27.5},45.5,8.5,15,14,37.5,9,13,13,35,9,12.5,14.5,36,9.5,17,13,39.5,9,17,9,35,3,4,6,10,5,8,14,22,36,425.8,{"$f":"'[1]شعبة التسزيق'!BS43","v":11},{"$f":"'[1]شعبة التسزيق'!BT43","v":{"$error":"#REF!"}},{"$f":"'[1]شعبة التسزيق'!BU43","v":0},{"$error":"#REF!"},{"$f":"'[1]شعبة التسزيق'!BW43","v":{"$error":"#REF!"}},{"$f":"'[1]شعبة التسزيق'!BX43","v":""},{"$f":"'[1]شعبة التسزيق'!BY43","v":" - "},{"$error":"#REF!"},"دورثان",{"$error":"#REF!"},2,null,null,null,null,"","","","","","","","","","","","",{"$error":"#REF!"},{"$error":"#REF!"},"",null,170]
[35,535,"طالبة تسويق 35","1/2","مستجدة",659,8,16,16,40,8.5,10.4,11.6,30.5,5,8,8,21,9,16.5,16,41.5,9.5,17,10,36.5,{"$f":"'[1]شعبة التسزيق'!AJ44","v":17},{"$f":"'[1]شعبة التسزيق'!AK44","v":13.5},{"$f":"'[1]شعبة التسزيق'!AL44","v":40},70.5,8.5,15,16,39.5,9,16,13,38,9,13.5,11,33.5,9.5,15,14,38.5,9,14,5,28,3,4,5,10,5,8,13,22,35,452.5,{"$f":"'[1]شعبة التسزيق'!BS44","v":11},{"$f":"'[1]شعبة التسزيق'!BT44","v":{"$error":"#REF!"}},{"$f":"'[1]شعبة التسزيق'!BU44","v":0},{"$error":"#REF!"},{"$f":"'[1]شعبة التسزيق'!BW44","v":{"$error":"#REF!"}},{"$f":"'[1]شعبة التسزيق'!BX44","v":""},{"$f":"'[1]شعبة التسزيق'!BY44","v":""},{"$error":"#REF!"},"دورثان",{"$error":"#REF!"},2,null,null,null,null,"","","","","","","","","","","","",{"$error":"#REF!"},{"$error":"#REF!"},"",null,169.9]
[36,536,"طالبة تسويق 36","1/2","مستجدة",660,8,12.5,12.5,33,8.5,8.4,13.6,30.5,5,8,7.2,20.2,9,12,11,32,9,17,9,35,{"$f":"'[1]شعبة التسزيق'!AJ45","v":10},{"$f":"'[1]شعبة التسزيق'!AK45","v":12},{"$f":"'[1]شعبة التسزيق'!AL45","v":31},53,8.5,6,10.5,25,9.5,10,12.5,32,9,9.5,13,31.5,9.5,15,14,38.5,9,12,8,29,3,4,5,9,6,8,14,21,35,394.7,{"$f":"'[1]شعبة التسزيق'!BS45","v":12},{"$f":"'[1]شعبة التسزيق'!BT45","v":{"$error":"#REF!"}},{"$f":"'[1]شعبة التسزيق'!BU45","v":0},{"$error":"#REF!"},{"$f":"'[1]شعبة التسزيق'!BW45","v":{"$error":"#REF!"}},{"$f":"'[1]شعبة التسزيق'!BX45","v":""},{"$f":"'[1]شعبة التسزيق'!BY45","v":""},{"$error":"#REF!"},"دورثان",{"$error":"#REF!"},2,null,null,null,null,"","","","","","","","","","","","",{"$error":"#REF!"},{"$error":"#REF!"},"",null,136.4]
[37,537,"طالبة تسويق 37","1/2","مستجدة",661,8.5,10.5,13.5,32.5,8.5,8,10.8,27.3,4.5,6.4,7.6,18.5,9,14.5,5,28.5,9.5,14,15,38.5,{"$f":"'[1]شعبة التسزيق'!AJ46","v":10},{"$f":"'[1]شعبة التسزيق'!AK46","v":13},{"$f":"'[1]شعبة التسزيق'!AL46","v":32},55,8.5,7,16,31.5,9,14,11.5,34.5,9,15.5,8.5,33,9.5,17,13,39.5,9,14,9,32,3,4,5,10,6,8,14,22,36,406.8,{"$f":"'[1]شعبة التسزيق'!BS46","v":10},{"$f":"'[1]شعبة التسزيق'!BT46","v":{"$error":"#REF!"}},{"$f":"'[1]شعبة التسزيق'!BU46","v":0},{"$error":"#REF!"},{"$f":"'[1]شعبة التسزيق'!BW46","v":{"$error":"#REF!"}},{"$f":"'[1]شعبة التسزيق'!BX46","v":""},{"$f":"'[1]شعبة التسزيق'!BY46","v":""},{"$error":"#REF!"},"دورثان",{"$error":"#REF!"},2,null,null,null,null,"","","","","","","","","","","","",{"$error":"#REF!"},{"$error":"#REF!"},"",null,148.9]
[38,538,"طالبة تسويق 38","1/2","مستجدة",662,8,13.5,15,36.5,8.5,9.6,11.2,29.3,5,7.2,6.8,19,9,18.5,5,32.5,9.5,15,18,42.5,{"$f":"'[1]شعبة التسزيق'!AJ47","v":10},{"$f":"'[1]شعبة التسزيق'!AK47","v":12},{"$f":"'[1]شعبة التسزيق'!AL47","v":31},53,8.5,9,14,31.5,9.5,5,13,27.5,8.5,13.5,9,31,9.5,15,12,36.5,9,15,9,33,3,4,6,11,6,8,15,23,38,410.3,{"$f":"'[1]شعبة التسزيق'!BS47","v":11},{"$f":"'[1]شعبة التسزيق'!BT47","v":{"$error":"#REF!"}},{"$f":"'[1]شعبة التسزيق'!BU47","v":0},{"$error":"#REF!"},{"$f":"'[1]شعبة التسزيق'!BW47","v":{"$error":"#REF!"}},{"$f":"'[1]شعبة التسزيق'!BX47","v":""},{"$f":"'[1]شعبة التسزيق'!BY47","v":""},{"$error":"#REF!"},"دورثان",{"$error":"#REF!"},2,null,null,null,null,"","","","","","","","","","","","",{"$error":"#REF!"},{"$error":"#REF!"},"",null,150.30000000000001]
[39,539,"طالبة تسويق 39","1/2","مستجدة",663,8,14,14.5,36.5,8,9.1999999999999993,13.2,30.4,4.5,7.6,6.8,18.899999999999999,9,19,5,33,9,11,19,39,{"$f":"'[1]شعبة التسزيق'!AJ48","v":17},{"$f":"'[1]شعبة التسزيق'!AK48","v":12},{"$f":"'[1]شعبة التسزيق'!AL48","v":38},67,8.5,12,15,35.5,9.5,17,13.5,40,9,15,9.5,33.5,8.5,15,12,35.5,9,14,9,32,3,4,5,11,5,8,13,23,36,437.3,{"$f":"'[1]شعبة التسزيق'!BS48","v":12},{"$f":"'[1]شعبة التسزيق'!BT48","v":{"$error":"#REF!"}},{"$f":"'[1]شعبة التسزيق'!BU48","v":0},{"$error":"#REF!"},{"$f":"'[1]شعبة التسزيق'!BW48","v":{"$error":"#REF!"}},{"$f":"'[1]شعبة التسزيق'!BX48","v":""},{"$f":"'[1]شعبة التسزيق'!BY48","v":""},{"$error":"#REF!"},"دورثان",{"$error":"#REF!"},2,null,null,null,null,"","","","","","","","","","","","",{"$error":"#REF!"},{"$error":"#REF!"},"",null,161.80000000000001]
[40,540,"طالبة تسويق 40","1/2","مستجدة",664,8,9,12,29,8.5,6,13.6,28.1,4.5,8,7.2,19.7,9.5,5,3,17.5,9,13,19,41,{"$f":"'[1]شعبة التسزيق'!AJ49","v":18},{"$f":"'[1]شعبة التسزيق'!AK49","v":13.5},{"$f":"'[1]شعبة التسزيق'!AL49","v":41},72.5,8.5,4,16,28.5,9,10,12,31,9,8,6.5,23.5,9.5,12,12,33.5,9,14,8,31,3,4,4,10.5,5,8,12,22.5,34.5,389.8,{"$f":"'[1]شعبة التسزيق'!BS49","v":7},{"$f":"'[1]شعبة التسزيق'!BT49","v":{"$error":"#REF!"}},{"$f":"'[1]شعبة التسزيق'!BU49","v":0},{"$error":"#REF!"},{"$f":"'[1]شعبة التسزيق'!BW49","v":{"$error":"#REF!"}},{"$f":"'[1]شعبة التسزيق'!BX49","v":""},{"$f":"'[1]شعبة التسزيق'!BY49","v":""},{"$error":"#REF!"},"راسبة",{"$error":"#REF!"},3,null,null,null,null,"","","","محاسبة - ","","","","","","","","",{"$error":"#REF!"},{"$error":"#REF!"},"",null,117]
[41,541,"طالبة تسويق 41","1/2","مستجدة",665,8,9.5,14.5,32,8.5,9.1999999999999993,13.6,31.299999999999997,4.5,8,8,20.5,9,16,11,36,9,14,19,42,{"$f":"'[1]شعبة التسزيق'!AJ50","v":16},{"$f":"'[1]شعبة التسزيق'!AK50","v":13.5},{"$f":"'[1]شعبة التسزيق'!AL50","v":39},68.5,8.5,9,15,32.5,9,10,13,32,9,10.5,9.5,29,9,13,13,35,9,15,8,32,3,4,6,10,5,8,14,22,36,426.8,{"$f":"'[1]شعبة التسزيق'!BS50","v":10},{"$f":"'[1]شعبة التسزيق'!BT50","v":{"$error":"#REF!"}},{"$f":"'[1]شعبة التسزيق'!BU50","v":0},{"$error":"#REF!"},{"$f":"'[1]شعبة التسزيق'!BW50","v":{"$error":"#REF!"}},{"$f":"'[1]شعبة التسزيق'!BX50","v":""},{"$f":"'[1]شعبة التسزيق'!BY50","v":""},{"$error":"#REF!"},"دورثان",{"$error":"#REF!"},2,null,null,null,null,"","","","","","","","","","","","",{"$error":"#REF!"},{"$error":"#REF!"},"",null,143.69999999999999]
[42,542,"طالبة تسويق 42","1/2","مستجدة",666,8,11,14.5,33.5,8,6.4,13.2,27.6,5,7.2,6.8,19,9.5,16.5,5,31,8.5,16,19,43.5,{"$f":"'[1]شعبة التسزيق'!AJ51","v":15},{"$f":"'[1]شعبة التسزيق'!AK51","v":13},{"$f":"'[1]شعبة التسزيق'!AL51","v":37},65,8.5,8,16,32.5,9,10,12,31,9,11.5,10.5,31,9,14,12,35,9,13,9,31,3,4,5,10.5,5,8,13,22.5,35.5,415.6,{"$f":"'[1]شعبة التسزيق'!BS51","v":8},{"$f":"'[1]شعبة التسزيق'!BT51","v":{"$error":"#REF!"}},{"$f":"'[1]شعبة التسزيق'!BU51","v":0},{"$error":"#REF!"},{"$f":"'[1]شعبة التسزيق'!BW51","v":{"$error":"#REF!"}},{"$f":"'[1]شعبة التسزيق'!BX51","v":""},{"$f":"'[1]شعبة التسزيق'!BY51","v":""},{"$error":"#REF!"},"دورثان",{"$error":"#REF!"},2,null,null,null,null,"","","","","","","","","","","","",{"$error":"#REF!"},{"$error":"#REF!"},"",null,142.1]
[43,543,"طالبة تسويق 43","1/2","مستجدة",667,8,11,9,28,8,6.4,16.8,31.200000000000003,4.5,7.2,8,19.7,9,0,4,13,8,19,"غ",27,{"$f":"'[1]شعبة التسزيق'!AJ52","v":13},{"$f":"'[1]شعبة التسزيق'!AK52","v":12},{"$f":"'[1]شعبة التسزيق'!AL52","v":34.5},59.5,8.5,10,14,32.5,9,17,12,38,9,0.5,0,9.5,9,13,8,30,9,8,14,31,3,4,5,4,6,10,14,18,32,351.4,{"$f":"'[1]شعبة التسزيق'!BS52","v":14},{"$f":"'[1]شعبة التسزيق'!BT52","v":{"$error":"#REF!"}},{"$f":"'[1]شعبة التسزيق'!BU52","v":0},{"$error":"#REF!"},{"$f":"'[1]شعبة التسزيق'!BW52","v":{"$error":"#REF!"}},{"$f":"'[1]شعبة التسزيق'!BX52","v":" - "},{"$f":"'[1]شعبة التسزيق'!BY52","v":""},{"$error":"#REF!"},"راسبة",{"$error":"#REF!"},5,null,null,null,null,"","","","محاسبة - ","احصاء - ","","","","سكرتارية . ف - ","","","",{"$error":"#REF!"},{"$error":"#REF!"},"",null,113.1]
[44,544,"طالبة تسويق 44","1/2","مستجدة",668,8,13.5,12.5,34,8,13.2,17.2,38.4,5,7.6,8,20.6,9,17,15,41,9.5,19,16,44.5,{"$f":"'[1]شعبة التسزيق'!AJ53","v":14},{"$f":"'[1]شعبة التسزيق'!AK53","v":14},{"$f":"'[1]شعبة التسزيق'!AL53","v":37},65,8.5,13,17,38.5,9.5,18,13.5,41,9,12.5,11.5,33,9,12,16,37,9,10,14,33,3,4,6,4,5,10,14,18,32,458,{"$f":"'[1]شعبة التسزيق'!BS53","v":8},{"$f":"'[1]شعبة التسزيق'!BT53","v":{"$error":"#REF!"}},{"$f":"'[1]شعبة التسزيق'!BU53","v":0},{"$error":"#REF!"},{"$f":"'[1]شعبة التسزيق'!BW53","v":{"$error":"#REF!"}},{"$f":"'[1]شعبة التسزيق'!BX53","v":""},{"$f":"'[1]شعبة التسزيق'!BY53","v":""},{"$error":"#REF!"},"دورثان",{"$error":"#REF!"},2,null,null,null,null,"","","","","","","","","","","","",{"$error":"#REF!"},{"$error":"#REF!"},"",null,159.80000000000001]
[45,545,"طالبة تسويق 45","1/2","مستجدة",669,8,11,10.5,29.5,8.5,10.8,18,37.299999999999997,4.5,6.8,8.4,19.700000000000003,9,8,8.5,25.5,8.5,17,15,40.5,{"$f":"'[1]شعبة التسزيق'!AJ54","v":17},{"$f":"'[1]شعبة التسزيق'!AK54","v":14.5},{"$f":"'[1]شعبة التسزيق'!AL54","v":41},72.5,8.5,11,14,33.5,9.5,16,13.5,39,9,10,5.5,24.5,8,13,8,29,9,9,13,31,3,4,6,4,6,10,15,18,33,415,{"$f":"'[1]شعبة التسزيق'!BS54","v":7},{"$f":"'[1]شعبة التسزيق'!BT54","v":{"$error":"#REF!"}},{"$f":"'[1]شعبة التسزيق'!BU54","v":0},{"$error":"#REF!"},{"$f":"'[1]شعبة التسزيق'!BW54","v":{"$error":"#REF!"}},{"$f":"'[1]شعبة التسزيق'!BX54","v":""},{"$f":"'[1]شعبة التسزيق'!BY54","v":""},{"$error":"#REF!"},"دورثان",{"$error":"#REF!"},2,null,null,null,null,"","","","","","","","","","","","",{"$error":"#REF!"},{"$error":"#REF!"},"",null,137.1]
[46,546,"طالبة تسويق 46","1/2","مستجدة",670,8,14,11.5,33.5,8,13.6,16.8,38.400000000000006,5,7.2,7.2,19.399999999999999,9,14.5,14.5,38,8.5,19,14,41.5,{"$f":"'[1]شعبة التسزيق'!AJ55","v":{"$error":"#REF!"}},{"$f":"'[1]شعبة التسزيق'!AK55","v":{"$error":"#REF!"}},{"$f":"'[1]شعبة التسزيق'!AL55","v":{"$error":"#REF!"}},{"$error":"#REF!"},8.5,15,12,35.5,9,15,13,37,9,13.5,8.5,31,9,13,17,39,9,12,16,37,3,4,6,5,6,8,15,17,32,{"$error":"#REF!"},{"$f":"'[1]شعبة التسزيق'!BS55","v":{"$error":"#REF!"}},{"$f":"'[1]شعبة التسزيق'!BT55","v":{"$error":"#REF!"}},{"$f":"'[1]شعبة التسزيق'!BU55","v":{"$error":"#REF!"}},{"$error":"#REF!"},{"$f":"'[1]شعبة التسزيق'!BW55","v":{"$error":"#REF!"}},{"$f":"'[1]شعبة التسزيق'!BX55","v":{"$error":"#REF!"}},{"$f":"'[1]شعبة التسزيق'!BY55","v":{"$error":"#REF!"}},{"$error":"#REF!"},{"$f":"IF($C55=\"\",\"\",IF(BS55=0,\"ناجحة\",IF(BS55<=2,\"دورثان\",\"راسبة\")))","v":"راسبة"},{"$f":"IF($C55=\"\",\"\",IF(BS55=0,\"ومنقولة للصف الثالث\",IF(BS55>0,\"فى  :  \"&CONCATENATE(BX55,BY55,BZ55,CA55,CB55,CC55,CD55,CE55,CF55,CG55,CH55,CI55,CJ55,CK55,CL55),CONCATENATE(BX55,BY55,BZ55,CA55,CB55,CC55,CD55,CE55,CF55,CG55,CH55,CI55,CJ55,CK55,CL55))))","v":{"$error":"#REF!"}},4,null,null,null,null,"","","","","",{"$error":"#REF!"},"","","","","","",{"$error":"#REF!"},{"$error":"#REF!"},{"$error":"#REF!"},null,{"$error":"#REF!"}]
[47,547,"طالبة تسويق 47","1/2","مستجدة",671,8,9,8,25,8,8.4,14.8,31.2,4.5,6.4,7.6,18.5,9.5,10.5,5.5,25.5,9.5,19,5,33.5,{"$f":"'[1]شعبة التسزيق'!AJ56","v":{"$error":"#REF!"}},{"$f":"'[1]شعبة التسزيق'!AK56","v":{"$error":"#REF!"}},{"$f":"'[1]شعبة التسزيق'!AL56","v":{"$error":"#REF!"}},{"$error":"#REF!"},8.5,16,9,33.5,9.5,13,12,34.5,9,4,4.5,17.5,9.5,14,5,28.5,9,9,10,28,3,4,5,5,5,8,13,17,30,{"$error":"#REF!"},{"$f":"'[1]شعبة التسزيق'!BS56","v":{"$error":"#REF!"}},{"$f":"'[1]شعبة التسزيق'!BT56","v":{"$error":"#REF!"}},{"$f":"'[1]شعبة التسزيق'!BU56","v":{"$error":"#REF!"}},{"$error":"#REF!"},{"$f":"'[1]شعبة التسزيق'!BW56","v":{"$error":"#REF!"}},{"$f":"'[1]شعبة التسزيق'!BX56","v":{"$error":"#REF!"}},{"$f":"'[1]شعبة التسزيق'!BY56","v":{"$error":"#REF!"}},{"$error":"#REF!"},"راسبة",{"$error":"#REF!"},5,null,null,null,null,"","","","","",{"$error":"#REF!"},"","","سكرتارية . ف - ","","","",{"$error":"#REF!"},{"$error":"#REF!"},{"$error":"#REF!"},null,{"$error":"#REF!"}]
[48,548,"طالبة تسويق 48","1/2","مستجدة",672,8,14,13,35,8,12.4,18,38.4,5,8.4,6.4,19.8,9,18.5,16,43.5,9,19,12,40,{"$f":"'[1]شعبة التسزيق'!AJ57","v":{"$error":"#REF!"}},{"$f":"'[1]شعبة التسزيق'!AK57","v":{"$error":"#REF!"}},{"$f":"'[1]شعبة التسزيق'!AL57","v":{"$error":"#REF!"}},{"$error":"#REF!"},8.5,14,18,40.5,9,14,14,37,9,14.5,15,38.5,9,14,13,36,9,11,15,35,3,4,5,8,6,9,14,21,35,{"$error":"#REF!"},{"$f":"'[1]شعبة التسزيق'!BS57","v":{"$error":"#REF!"}},{"$f":"'[1]شعبة التسزيق'!BT57","v":{"$error":"#REF!"}},{"$f":"'[1]شعبة التسزيق'!BU57","v":{"$error":"#REF!"}},{"$error":"#REF!"},{"$f":"'[1]شعبة التسزيق'!BW57","v":{"$error":"#REF!"}},{"$f":"'[1]شعبة التسزيق'!BX57","v":{"$error":"#REF!"}},{"$f":"'[1]شعبة التسزيق'!BY57","v":{"$error":"#REF!"}},{"$error":"#REF!"},"راسبة",{"$error":"#REF!"},4,null,null,null,null,"","","","","",{"$error":"#REF!"},"","","","","","",{"$error":"#REF!"},{"$error":"#REF!"},{"$error":"#REF!"},null,{"$error":"#REF!"}]
[49,549,"طالبة تسويق 49","1/2","مستجدة",673,8,11.5,11.5,31,8.5,13.2,18.399999999999999,40.099999999999994,5,8.4,6.8,20.2,9.5,15,16,40.5,9.5,19,13,41.5,{"$f":"'[1]شعبة التسزيق'!AJ58","v":{"$error":"#REF!"}},{"$f":"'[1]شعبة التسزيق'!AK58","v":{"$error":"#REF!"}},{"$f":"'[1]شعبة التسزيق'!AL58","v":{"$error":"#REF!"}},{"$error":"#REF!"},8.5,15,18,41.5,9.5,17,14.5,41,9,14.5,10,33.5,9.5,16,16,41.5,9,11,16,36,3,4,6,4,5,9,14,17,31,{"$error":"#REF!"},{"$f":"'[1]شعبة التسزيق'!BS58","v":{"$error":"#REF!"}},{"$f":"'[1]شعبة التسزيق'!BT58","v":{"$error":"#REF!"}},{"$f":"'[1]شعبة التسزيق'!BU58","v":{"$error":"#REF!"}},{"$error":"#REF!"},{"$f":"'[1]شعبة التسزيق'!BW58","v":{"$error":"#REF!"}},{"$f":"'[1]شعبة التسزيق'!BX58","v":{"$error":"#REF!"}},{"$f":"'[1]شعبة التسزيق'!BY58","v":{"$error":"#REF!"}},{"$error":"#REF!"},"راسبة",{"$error":"#REF!"},4,null,null,null,null,"","","","","",{"$error":"#REF!"},"","","","","","",{"$error":"#REF!"},{"$error":"#REF!"},{"$error":"#REF!"},null,{"$error":"#REF!"}]
[50,550,"طالبة تسويق 50","1/2","مستجدة",674,8.5,15.5,12,36,9,12,18.399999999999999,39.4,4.5,8.4,6.8,19.7,9.5,17,14.5,41,9,19,17,45,{"$f":"'[1]شعبة التسزيق'!AJ59","v":{"$error":"#REF!"}},{"$f":"'[1]شعبة التسزيق'!AK59","v":{"$error":"#REF!"}},{"$f":"'[1]شعبة التسزيق'!AL59","v":{"$error":"#REF!"}},{"$error":"#REF!"},8.5,14,18,40.5,9,15,10.5,34.5,9,14,15,38,9,15,14,38,9,7,18,34,3,4,5,8,6,10,14,22,36,{"$error":"#REF!"},{"$f":"'[1]شعبة التسزيق'!BS59","v":{"$error":"#REF!"}},{"$f":"'[1]شعبة التسزيق'!BT59","v":{"$error":"#REF!"}},{"$f":"'[1]شعبة التسزيق'!BU59","v":{"$error":"#REF!"}},{"$error":"#REF!"},{"$f":"'[1]شعبة التسزيق'!BW59","v":{"$error":"#REF!"}},{"$f":"'[1]شعبة التسزيق'!BX59","v":{"$error":"#REF!"}},{"$f":"'[1]شعبة التسزيق'!BY59","v":{"$error":"#REF!"}},{"$error":"#REF!"},"راسبة",{"$error":"#REF!"},4,null,null,null,null,"","","","","",{"$error":"#REF!"},"","","","","","",{"$error":"#REF!"},{"$error":"#REF!"},{"$error":"#REF!"},null,{"$error":"#REF!"}]
[51,551,"طالبة تسويق 51","1/2","مستجدة",675,8.5,15,16,39.5,9,14,18.399999999999999,41.4,5,8.8000000000000007,7.6,21.4,9.5,19,18,46.5,9,19,13,41,{"$f":"'[1]شعبة التسزيق'!AJ60","v":{"$error":"#REF!"}},{"$f":"'[1]شعبة التسزيق'!AK60","v":{"$error":"#REF!"}},{"$f":"'[1]شعبة التسزيق'!AL60","v":{"$error":"#REF!"}},{"$error":"#REF!"},8.5,14,18,40.5,9,16,13.5,38.5,9.5,18.5,18.5,46.5,9,13,16,38,9,9,18,36,3,4,6,9,6,10,15,23,38,{"$error":"#REF!"},{"$f":"'[1]شعبة التسزيق'!BS60","v":{"$error":"#REF!"}},{"$f":"'[1]شعبة التسزيق'!BT60","v":{"$error":"#REF!"}},{"$f":"'[1]شعبة التسزيق'!BU60","v":{"$error":"#REF!"}},{"$error":"#REF!"},{"$f":"'[1]شعبة التسزيق'!BW60","v":{"$error":"#REF!"}},{"$f":"'[1]شعبة التسزيق'!BX60","v":{"$error":"#REF!"}},{"$f":"'[1]شعبة التسزيق'!BY60","v":{"$error":"#REF!"}},{"$error":"#REF!"},"راسبة",{"$error":"#REF!"},4,null,null,null,null,"","","","","",{"$error":"#REF!"},"","","","","","",{"$error":"#REF!"},{"$error":"#REF!"},{"$error":"#REF!"},null,{"$error":"#REF!"}]
[52,552,"طالبة تسويق 52","2/2","مستجدة",676,8,14.5,14.5,37,8.5,14.8,18.399999999999999,41.7,4.5,9.1999999999999993,8.4,22.1,8.5,13,13,34.5,9,19,14,42,{"$f":"'[1]شعبة التسزيق'!AJ61","v":{"$error":"#REF!"}},{"$f":"'[1]شعبة التسزيق'!AK61","v":{"$error":"#REF!"}},{"$f":"'[1]شعبة التسزيق'!AL61","v":{"$error":"#REF!"}},{"$error":"#REF!"},8.5,17,18,43.5,9,18,15.5,42.5,9,14.5,16,39.5,9.5,16,17,42.5,9,15,17,41,3,4.5,5,9,5,10,13,23.5,36.5,{"$error":"#REF!"},{"$f":"'[1]شعبة التسزيق'!BS61","v":{"$error":"#REF!"}},{"$f":"'[1]شعبة التسزيق'!BT61","v":{"$error":"#REF!"}},{"$f":"'[1]شعبة التسزيق'!BU61","v":{"$error":"#REF!"}},{"$error":"#REF!"},{"$f":"'[1]شعبة التسزيق'!BW61","v":{"$error":"#REF!"}},{"$f":"'[1]شعبة التسزيق'!BX61","v":{"$error":"#REF!"}},{"$f":"'[1]شعبة التسزيق'!BY61","v":{"$error":"#REF!"}},{"$error":"#REF!"},"راسبة",{"$error":"#REF!"},4,null,null,null,null,"","","","","",{"$error":"#REF!"},"","","","","","",{"$error":"#REF!"},{"$error":"#REF!"},{"$error":"#REF!"},null,{"$error":"#REF!"}]
[53,553,"طالبة تسويق 53","2/2","مستجدة",677,8,15.5,16,39.5,8,12.8,18.8,39.6,4.5,8.4,6.8,19.7,9,4.5,11.5,25,9,19,15,43,{"$f":"'[1]شعبة التسزيق'!AJ62","v":{"$error":"#REF!"}},{"$f":"'[1]شعبة التسزيق'!AK62","v":{"$error":"#REF!"}},{"$f":"'[1]شعبة التسزيق'!AL62","v":{"$error":"#REF!"}},{"$error":"#REF!"},8.5,16,17,41.5,9,17,14.5,40.5,9,12.5,8,29.5,9.5,11,13,33.5,9,14,13,36,2.5,4.5,5,9,6,10,13.5,23.5,37,{"$error":"#REF!"},{"$f":"'[1]شعبة التسزيق'!BS62","v":{"$error":"#REF!"}},{"$f":"'[1]شعبة التسزيق'!BT62","v":{"$error":"#REF!"}},{"$f":"'[1]شعبة التسزيق'!BU62","v":{"$error":"#REF!"}},{"$error":"#REF!"},{"$f":"'[1]شعبة التسزيق'!BW62","v":{"$error":"#REF!"}},{"$f":"'[1]شعبة التسزيق'!BX62","v":{"$error":"#REF!"}},{"$f":"'[1]شعبة التسزيق'!BY62","v":{"$error":"#REF!"}},{"$error":"#REF!"},"راسبة",{"$error":"#REF!"},4,null,null,null,null,"","","","","",{"$error":"#REF!"},"","","","","","",{"$error":"#REF!"},{"$error":"#REF!"},{"$error":"#REF!"},null,{"$error":"#REF!"}]
[54,554,"طالبة تسويق 54","2/2","مستجدة",678,8.5,13,14,35.5,9,12,17.600000000000001,38.6,4.5,8.4,7.2,20.100000000000001,9,17.5,14.5,41,8,19,16,43,{"$f":"'[1]شعبة التسزيق'!AJ63","v":{"$error":"#REF!"}},{"$f":"'[1]شعبة التسزيق'!AK63","v":{"$error":"#REF!"}},{"$f":"'[1]شعبة التسزيق'!AL63","v":{"$error":"#REF!"}},{"$error":"#REF!"},8.5,12,16,36.5,9,19,14.5,42.5,9,15,11,35,9,11,18,38,9,10,11,30,3,4.5,5,6,6,10,14,20.5,34.5,{"$error":"#REF!"},{"$f":"'[1]شعبة التسزيق'!BS63","v":{"$error":"#REF!"}},{"$f":"'[1]شعبة التسزيق'!BT63","v":{"$error":"#REF!"}},{"$f":"'[1]شعبة التسزيق'!BU63","v":{"$error":"#REF!"}},{"$error":"#REF!"},{"$f":"'[1]شعبة التسزيق'!BW63","v":{"$error":"#REF!"}},{"$f":"'[1]شعبة التسزيق'!BX63","v":{"$error":"#REF!"}},{"$f":"'[1]شعبة التسزيق'!BY63","v":{"$error":"#REF!"}},{"$error":"#REF!"},"راسبة",{"$error":"#REF!"},4,null,null,null,null,"","","","","",{"$error":"#REF!"},"","","","","","",{"$error":"#REF!"},{"$error":"#REF!"},{"$error":"#REF!"},null,{"$error":"#REF!"}]
[55,555,"طالبة تسويق 55","2/2","مستجدة",679,8.5,13,15.5,37,9,14,19.2,42.2,4.5,9.1999999999999993,8.4,22.1,9,18.5,16,43.5,9.5,18,20,47.5,{"$f":"'[1]شعبة التسزيق'!AJ64","v":{"$error":"#REF!"}},{"$f":"'[1]شعبة التسزيق'!AK64","v":{"$error":"#REF!"}},{"$f":"'[1]شعبة التسزيق'!AL64","v":{"$error":"#REF!"}},{"$error":"#REF!"},8.5,11,16,35.5,9,17,16.5,42.5,9,20,17.5,46.5,9.5,14,17,40.5,9,11,15,35,3,4.5,6,5,6,10,15,19.5,34.5,{"$error":"#REF!"},{"$f":"'[1]شعبة التسزيق'!BS64","v":{"$error":"#REF!"}},{"$f":"'[1]شعبة التسزيق'!BT64","v":{"$error":"#REF!"}},{"$f":"'[1]شعبة التسزيق'!BU64","v":{"$error":"#REF!"}},{"$error":"#REF!"},{"$f":"'[1]شعبة التسزيق'!BW64","v":{"$error":"#REF!"}},{"$f":"'[1]شعبة التسزيق'!BX64","v":{"$error":"#REF!"}},{"$f":"'[1]شعبة التسزيق'!BY64","v":{"$error":"#REF!"}},{"$error":"#REF!"},"راسبة",{"$error":"#REF!"},4,null,null,null,null,"","","","","",{"$error":"#REF!"},"","","","","","",{"$error":"#REF!"},{"$error":"#REF!"},{"$error":"#REF!"},null,{"$error":"#REF!"}]
[56,556,"طالبة تسويق 56","2/2","مستجدة",680,8,13.5,15,36.5,8,12,18,38,4.5,8.4,7.6,20.5,8.5,14,12,34.5,8.5,19,11,38.5,{"$f":"'[1]شعبة التسزيق'!AJ65","v":{"$error":"#REF!"}},{"$f":"'[1]شعبة التسزيق'!AK65","v":{"$error":"#REF!"}},{"$f":"'[1]شعبة التسزيق'!AL65","v":{"$error":"#REF!"}},{"$error":"#REF!"},8.5,16,15,39.5,9,14,14,37,9,10.5,5,24.5,9,5,17,31,9,7,12,28,3,4.5,5,9,6,10,14,23.5,37.5,{"$error":"#REF!"},{"$f":"'[1]شعبة التسزيق'!BS65","v":{"$error":"#REF!"}},{"$f":"'[1]شعبة التسزيق'!BT65","v":{"$error":"#REF!"}},{"$f":"'[1]شعبة التسزيق'!BU65","v":{"$error":"#REF!"}},{"$error":"#REF!"},{"$f":"'[1]شعبة التسزيق'!BW65","v":{"$error":"#REF!"}},{"$f":"'[1]شعبة التسزيق'!BX65","v":{"$error":"#REF!"}},{"$f":"'[1]شعبة التسزيق'!BY65","v":{"$error":"#REF!"}},{"$error":"#REF!"},"راسبة",{"$error":"#REF!"},4,null,null,null,null,"","","","","",{"$error":"#REF!"},"","","","","","",{"$error":"#REF!"},{"$error":"#REF!"},{"$error":"#REF!"},null,{"$error":"#REF!"}]
[57,557,"طالبة تسويق 57","2/2","مستجدة",681,8,14.5,12.5,35,8,7.6,17.600000000000001,33.200000000000003,4.5,4.8,7.2,16.5,8.5,17.5,16,42,9.5,19,19,47.5,{"$f":"'[1]شعبة التسزيق'!AJ66","v":{"$error":"#REF!"}},{"$f":"'[1]شعبة التسزيق'!AK66","v":{"$error":"#REF!"}},{"$f":"'[1]شعبة التسزيق'!AL66","v":{"$error":"#REF!"}},{"$error":"#REF!"},8.5,17,17,42.5,9,18,12,39,9,15,10,34,9.5,17,17,43.5,9,16,17,42,2.5,4.5,5,10,5,7,12.5,21.5,34,{"$error":"#REF!"},{"$f":"'[1]شعبة التسزيق'!BS66","v":{"$error":"#REF!"}},{"$f":"'[1]شعبة التسزيق'!BT66","v":{"$error":"#REF!"}},{"$f":"'[1]شعبة التسزيق'!BU66","v":{"$error":"#REF!"}},{"$error":"#REF!"},{"$f":"'[1]شعبة التسزيق'!BW66","v":{"$error":"#REF!"}},{"$f":"'[1]شعبة التسزيق'!BX66","v":{"$error":"#REF!"}},{"$f":"'[1]شعبة التسزيق'!BY66","v":{"$error":"#REF!"}},{"$error":"#REF!"},"راسبة",{"$error":"#REF!"},4,null,null,null,null,"","","","","",{"$error":"#REF!"},"","","","","","",{"$error":"#REF!"},{"$error":"#REF!"},{"$error":"#REF!"},null,{"$error":"#REF!"}]
[58,558,"طالبة تسويق 58","2/2","مستجدة",682,8,10,12,30,8,6.8,16.8,31.6,4.5,6,6.4,16.899999999999999,9,17,15,41,9.5,19,18,46.5,{"$f":"'[1]شعبة التسزيق'!AJ67","v":{"$error":"#REF!"}},{"$f":"'[1]شعبة التسزيق'!AK67","v":{"$error":"#REF!"}},{"$f":"'[1]شعبة التسزيق'!AL67","v":{"$error":"#REF!"}},{"$error":"#REF!"},8.5,17,17,42.5,9,17,12,38,9,13.5,8,30.5,9.5,17,17,43.5,9,17,17,43,2.5,4.5,5,10,5,7,12.5,21.5,34,{"$error":"#REF!"},{"$f":"'[1]شعبة التسزيق'!BS67","v":{"$error":"#REF!"}},{"$f":"'[1]شعبة التسزيق'!BT67","v":{"$error":"#REF!"}},{"$f":"'[1]شعبة التسزيق'!BU67","v":{"$error":"#REF!"}},{"$error":"#REF!"},{"$f":"'[1]شعبة التسزيق'!BW67","v":{"$error":"#REF!"}},{"$f":"'[1]شعبة التسزيق'!BX67","v":{"$error":"#REF!"}},{"$f":"'[1]شعبة التسزيق'!BY67","v":{"$error":"#REF!"}},{"$error":"#REF!"},"راسبة",{"$error":"#REF!"},4,null,null,null,null,"","","","","",{"$error":"#REF!"},"","","","","","",{"$error":"#REF!"},{"$error":"#REF!"},{"$error":"#REF!"},null,{"$error":"#REF!"}]
[59,559,"طالبة تسويق 59","2/2","مستجدة",683,8,11,13,32,7,9.6,16.8,33.400000000000006,4.5,7.2,6.8,18.5,9,16,15.5,40.5,8.5,19,16,43.5,{"$f":"'[1]شعبة التسزيق'!AJ68","v":{"$error":"#REF!"}},{"$f":"'[1]شعبة التسزيق'!AK68","v":{"$error":"#REF!"}},{"$f":"'[1]شعبة التسزيق'!AL68","v":{"$error":"#REF!"}},{"$error":"#REF!"},9,18,17,44,9,16,13.5,38.5,9,12.5,8,29.5,9,16,17,42,9,16,17,42,2.5,4.5,6,10,5,6,13.5,20.5,34,{"$error":"#REF!"},{"$f":"'[1]شعبة التسزيق'!BS68","v":{"$error":"#REF!"}},{"$f":"'[1]شعبة التسزيق'!BT68","v":{"$error":"#REF!"}},{"$f":"'[1]شعبة التسزيق'!BU68","v":{"$error":"#REF!"}},{"$error":"#REF!"},{"$f":"'[1]شعبة التسزيق'!BW68","v":{"$error":"#REF!"}},{"$f":"'[1]شعبة التسزيق'!BX68","v":{"$error":"#REF!"}},{"$f":"'[1]شعبة التسزيق'!BY68","v":{"$error":"#REF!"}},{"$error":"#REF!"},"راسبة",{"$error":"#REF!"},4,null,null,null,null,"","","","","",{"$error":"#REF!"},"","","","","","",{"$error":"#REF!"},{"$error":"#REF!"},{"$error":"#REF!"},null,{"$error":"#REF!"}]
[60,560,"طالبة تسويق 60","2/2","مستجدة",684,8,11.5,11.5,31,7.5,8.8000000000000007,12,28.3,4.5,6,6.8,17.3,8.5,13.5,13,35,8.5,14,14,36.5,{"$f":"'[1]شعبة التسزيق'!AJ69","v":{"$error":"#REF!"}},{"$f":"'[1]شعبة التسزيق'!AK69","v":{"$error":"#REF!"}},{"$f":"'[1]شعبة التسزيق'!AL69","v":{"$error":"#REF!"}},{"$error":"#REF!"},8.5,17,16,41.5,9,16,11.5,36.5,9,12.5,9.5,31,9,18,17,44,9,15,16,40,2.5,4.5,6,10,6,6,14.5,20.5,35,{"$error":"#REF!"},{"$f":"'[1]شعبة التسزيق'!BS69","v":{"$error":"#REF!"}},{"$f":"'[1]شعبة التسزيق'!BT69","v":{"$error":"#REF!"}},{"$f":"'[1]شعبة التسزيق'!BU69","v":{"$error":"#REF!"}},{"$error":"#REF!"},{"$f":"'[1]شعبة التسزيق'!BW69","v":{"$error":"#REF!"}},{"$f":"'[1]شعبة التسزيق'!BX69","v":{"$error":"#REF!"}},{"$f":"'[1]شعبة التسزيق'!BY69","v":{"$error":"#REF!"}},{"$error":"#REF!"},"راسبة",{"$error":"#REF!"},4,null,null,null,null,"","","","","",{"$error":"#REF!"},"","","","","","",{"$error":"#REF!"},{"$error":"#REF!"},{"$error":"#REF!"},null,{"$error":"#REF!"}]
[61,561,"طالبة تسويق 61","2/2","مستجدة",685,8.5,13,13.5,35,9,8.8000000000000007,18.8,36.6,4.5,7.2,6.8,18.5,8.5,20,15.5,44,9.5,19,13,41.5,{"$f":"'[1]شعبة التسزيق'!AJ70","v":{"$error":"#REF!"}},{"$f":"'[1]شعبة التسزيق'!AK70","v":{"$error":"#REF!"}},{"$f":"'[1]شعبة التسزيق'!AL70","v":{"$error":"#REF!"}},{"$error":"#REF!"},8.5,15,16,39.5,9,18,14.5,41.5,9,17.5,17,43.5,9.5,19,17,45.5,9,16,18,43,3,4.5,6,10,6,8,15,22.5,37.5,{"$error":"#REF!"},{"$f":"'[1]شعبة التسزيق'!BS70","v":{"$error":"#REF!"}},{"$f":"'[1]شعبة التسزيق'!BT70","v":{"$error":"#REF!"}},{"$f":"'[1]شعبة التسزيق'!BU70","v":{"$error":"#REF!"}},{"$error":"#REF!"},{"$f":"'[1]شعبة التسزيق'!BW70","v":{"$error":"#REF!"}},{"$f":"'[1]شعبة التسزيق'!BX70","v":{"$error":"#REF!"}},{"$f":"'[1]شعبة التسزيق'!BY70","v":{"$error":"#REF!"}},{"$error":"#REF!"},"راسبة",{"$error":"#REF!"},4,null,null,null,null,"","","","","",{"$error":"#REF!"},"","","","","","",{"$error":"#REF!"},{"$error":"#REF!"},{"$error":"#REF!"},null,{"$error":"#REF!"}]
[62,562,"طالبة تسويق 62","2/2","مستجدة",686,8.5,15,16,39.5,9,7.2,18.399999999999999,34.599999999999994,5,7.6,7.5,20.100000000000001,8.5,20,17,45.5,9.5,19,13,41.5,{"$f":"'[1]شعبة التسزيق'!AJ71","v":{"$error":"#REF!"}},{"$f":"'[1]شعبة التسزيق'!AK71","v":{"$error":"#REF!"}},{"$f":"'[1]شعبة التسزيق'!AL71","v":{"$error":"#REF!"}},{"$error":"#REF!"},8.5,17,16,41.5,9,19,15,43,9,20,17,46,9,19,18,46,9,13,17,39,3,4.5,6,10,6,8,15,22.5,37.5,{"$error":"#REF!"},{"$f":"'[1]شعبة التسزيق'!BS71","v":{"$error":"#REF!"}},{"$f":"'[1]شعبة التسزيق'!BT71","v":{"$error":"#REF!"}},{"$f":"'[1]شعبة التسزيق'!BU71","v":{"$error":"#REF!"}},{"$error":"#REF!"},{"$f":"'[1]شعبة التسزيق'!BW71","v":{"$error":"#REF!"}},{"$f":"'[1]شعبة التسزيق'!BX71","v":{"$error":"#REF!"}},{"$f":"'[1]شعبة التسزيق'!BY71","v":{"$error":"#REF!"}},{"$error":"#REF!"},"راسبة",{"$error":"#REF!"},4,null,null,null,null,"","","","","",{"$error":"#REF!"},"","","","","","",{"$error":"#REF!"},{"$error":"#REF!"},{"$error":"#REF!"},null,{"$error":"#REF!"}]
[63,563,"طالبة تسويق 63","2/2","مستجدة",687,8,11.5,12.5,32,8,9.1999999999999993,16.399999999999999,33.599999999999994,4.5,8,6.4,18.899999999999999,8.5,15,13.5,37,9,17,10,36,{"$f":"'[1]شعبة التسزيق'!AJ72","v":{"$error":"#REF!"}},{"$f":"'[1]شعبة التسزيق'!AK72","v":{"$error":"#REF!"}},{"$f":"'[1]شعبة التسزيق'!AL72","v":{"$error":"#REF!"}},{"$error":"#REF!"},9,17,17,43,9,20,13.5,42.5,9,13.5,11.5,34,9,13,17,39,9,16,12,37,3,4.5,5,8,6,7,14,19.5,33.5,{"$error":"#REF!"},{"$f":"'[1]شعبة التسزيق'!BS72","v":{"$error":"#REF!"}},{"$f":"'[1]شعبة التسزيق'!BT72","v":{"$error":"#REF!"}},{"$f":"'[1]شعبة التسزيق'!BU72","v":{"$error":"#REF!"}},{"$error":"#REF!"},{"$f":"'[1]شعبة التسزيق'!BW72","v":{"$error":"#REF!"}},{"$f":"'[1]شعبة التسزيق'!BX72","v":{"$error":"#REF!"}},{"$f":"'[1]شعبة التسزيق'!BY72","v":{"$error":"#REF!"}},{"$error":"#REF!"},"راسبة",{"$error":"#REF!"},4,null,null,null,null,"","","","","",{"$error":"#REF!"},"","","","","","",{"$error":"#REF!"},{"$error":"#REF!"},{"$error":"#REF!"},null,{"$error":"#REF!"}]
[64,564,"طالبة تسويق 64","2/2","مستجدة",688,8,10,10.5,28.5,7.5,6.4,15.6,29.5,4.5,6.4,6.8,17.7,8.5,14,14,36.5,9,17,12,38,{"$f":"'[1]شعبة التسزيق'!AJ73","v":{"$error":"#REF!"}},{"$f":"'[1]شعبة التسزيق'!AK73","v":{"$error":"#REF!"}},{"$f":"'[1]شعبة التسزيق'!AL73","v":{"$error":"#REF!"}},{"$error":"#REF!"},8.5,14,17,39.5,9,15,12,36,9,10.5,5,24.5,8.5,12,17,37.5,9,15,14,38,3,4.5,5,8,5,6,13,18.5,31.5,{"$error":"#REF!"},{"$f":"'[1]شعبة التسزيق'!BS73","v":{"$error":"#REF!"}},{"$f":"'[1]شعبة التسزيق'!BT73","v":{"$error":"#REF!"}},{"$f":"'[1]شعبة التسزيق'!BU73","v":{"$error":"#REF!"}},{"$error":"#REF!"},{"$f":"'[1]شعبة التسزيق'!BW73","v":{"$error":"#REF!"}},{"$f":"'[1]شعبة التسزيق'!BX73","v":{"$error":"#REF!"}},{"$f":"'[1]شعبة التسزيق'!BY73","v":{"$error":"#REF!"}},{"$error":"#REF!"},"راسبة",{"$error":"#REF!"},4,null,null,null,null,"","","","","",{"$error":"#REF!"},"","","","","","",{"$error":"#REF!"},{"$error":"#REF!"},{"$error":"#REF!"},null,{"$error":"#REF!"}]
[65,565,"طالبة تسويق 65","2/2","مستجدة",689,8,7.5,9.5,25,8,10.8,16.8,{"$f":"SUM(K74:M74)","v":35.6},4.5,6,6.4,{"$f":"SUM(O74:Q74)","v":16.899999999999999},8.5,17,15.5,{"$f":"SUM(S74:U74)","v":41},9,19,16,{"$f":"SUM(W74:Y74)","v":44},{"$f":"'[1]شعبة التسزيق'!AJ74","v":{"$error":"#REF!"}},{"$f":"'[1]شعبة التسزيق'!AK74","v":{"$error":"#REF!"}},{"$f":"'[1]شعبة التسزيق'!AL74","v":{"$error":"#REF!"}},{"$f":"SUM(AA74:AC74)","v":{"$error":"#REF!"}},8.5,14,14,{"$f":"SUM(AE74:AG74)","v":36.5},9,17,14.5,{"$f":"SUM(AI74:AK74)","v":40.5},9,15,12,{"$f":"SUM(AM74:AO74)","v":36},9.5,17,16,{"$f":"SUM(AQ74:AS74)","v":42.5},9,12,16,{"$f":"SUM(AU74:AW74)","v":37},3,4.5,5,10,5,6,{"$f":"IF($C74=\"\",\"\",SUM(AY74,BA74,BC74))","v":13},20.5,{"$f":"IF($C74=\"\",\"\",SUM(BE74,BF74))","v":33.5},{"$f":"IF($C74=\"\",\"\",SUM(J74,N74,R74,V74,Z74,AD74,AH74,AL74,AP74,AT74,AX74,BG74))","v":{"$error":"#REF!"}},{"$f":"'[1]شعبة التسزيق'!BS74","v":{"$error":"#REF!"}},{"$f":"'[1]شعبة التسزيق'!BT74","v":{"$error":"#REF!"}},{"$f":"'[1]شعبة التسزيق'!BU74","v":{"$error":"#REF!"}},{"$f":"SUM(BI74:BK74)","v":{"$error":"#REF!"}},{"$f":"'[1]شعبة التسزيق'!BW74","v":{"$error":"#REF!"}},{"$f":"'[1]شعبة التسزيق'!BX74","v":{"$error":"#REF!"}},{"$f":"'[1]شعبة التسزيق'!BY74","v":{"$error":"#REF!"}},{"$f":"SUM(BM74:BO74)","v":{"$error":"#REF!"}},"راسبة",{"$error":"#REF!"},{"$f":"IF($C74=\"\",\"\",COUNTA($BX74:$CL74)-COUNTBLANK($BX74:$CL74))","v":4},null,null,null,null,{"$f":"IF($C74=\"\",\"\",IF(OR(I74<$I$9,I74=\"غ\",J74<$J$9),$BX$5&\" - \",\"\"))","v":""},{"$f":"IF($C74=\"\",\"\",IF(OR(M74<$M$9,M74=\"غ\",N74<$N$9),$BY$5&\" - \",\"\"))","v":""},{"$f":"IF($C74=\"\",\"\",IF(OR(Q74<$Q$9,Q74=\"غ\",R74<$R$9),BZ$5&\" - \",\"\"))","v":""},{"$f":"IF($C74=\"\",\"\",IF(OR(U74<$U$9,U74=\"غ\",V74<$V$9),CA$5&\" - \",\"\"))","v":""},{"$f":"IF($C74=\"\",\"\",IF(OR(Y74<$Y$9,Y74=\"غ\",Z74<$Z$9),CB$5&\" - \",\"\"))","v":""},{"$f":"IF($C74=\"\",\"\",IF(OR(AC74<$AC$9,AC74=\"غ\",AD74<$AD$9),CC$5&\" - \",\"\"))","v":{"$error":"#REF!"}},{"$f":"IF($C74=\"\",\"\",IF(OR(AG74<$AG$9,AG74=\"غ\",AH74<$AH$9),CD$5&\" - \",\"\"))","v":""},{"$f":"IF($C74=\"\",\"\",IF(OR(AK74<$AK$9,AK74=\"غ\",AL74<$AL$9),CE$5&\" - \",\"\"))","v":""},{"$f":"IF($C74=\"\",\"\",IF(OR(AO74<$AO$9,AO74=\"غ\",AP74<$AP$9),CF$5&\" - \",\"\"))","v":""},{"$f":"IF($C74=\"\",\"\",IF(OR(AS74<$AS$9,AS74=\"غ\",AT74<$AT$9),CG$5&\" - \",\"\"))","v":""},{"$f":"IF($C74=\"\",\"\",IF(OR(AW74<$AW$9,AW74=\"غ\",AX74<$AX$9),CH$5&\" - \",\"\"))","v":""},{"$f":"IF($C74=\"\",\"\",IF(OR(BE74<$BE$9,BE74=\"غ\",BF74<$BF$9,BF74=\"غ\",BG74<$BG$9),CI$5&\" - \",\"\"))","v":""},{"$f":"IF($C74=\"\",\"\",IF(OR(BK74<$BK$9,BK74=\"غ\",BL74<$BL$9),CJ$5&\" - \",\"\"))","v":{"$error":"#REF!"}},{"$f":"IF($C74=\"\",\"\",IF(OR(BO74<$BO$9,BO74=\"غ\",BP74<$BP$9),CK$5&\" - \",\"\"))","v":{"$error":"#REF!"}},{"$f":"IF($C74=\"\",\"\",IF(BH74<$BH$9,CL$5,\"\"))","v":{"$error":"#REF!"}},null,{"$f":"IF($C74=\"\",\"\",SUM(H74,L74,P74,T74,X74,AB74,AF74,AJ74,AN74,AR74,AV74,BA74,BB74))","v":{"$error":"#REF!"}}]
[66,566,"طالبة تسويق 66","2/2","مستجدة",690,8,14.5,17,{"$f":"SUM(G75:I75)","v":39.5},9,13.2,18.8,41,4.5,6.8,6.8,18.100000000000001,8.5,19.5,16.5,44.5,9.5,19,17,45.5,{"$f":"'[1]شعبة التسزيق'!AJ75","v":{"$error":"#REF!"}},{"$f":"'[1]شعبة التسزيق'!AK75","v":{"$error":"#REF!"}},{"$f":"'[1]شعبة التسزيق'!AL75","v":{"$error":"#REF!"}},{"$error":"#REF!"},8.5,17,15,40.5,9,20,16,45,9,19,16.5,44.5,9.5,19,16,44.5,9,15,18,42,3,4.5,5,10,6,8,14,22.5,36.5,{"$error":"#REF!"},{"$f":"'[1]شعبة التسزيق'!BS75","v":{"$error":"#REF!"}},{"$f":"'[1]شعبة التسزيق'!BT75","v":{"$error":"#REF!"}},{"$f":"'[1]شعبة التسزيق'!BU75","v":{"$error":"#REF!"}},{"$error":"#REF!"},{"$f":"'[1]شعبة التسزيق'!BW75","v":{"$error":"#REF!"}},{"$f":"'[1]شعبة التسزيق'!BX75","v":{"$error":"#REF!"}},{"$f":"'[1]شعبة التسزيق'!BY75","v":{"$error":"#REF!"}},{"$error":"#REF!"},"راسبة",{"$error":"#REF!"},4,null,null,null,null,"","","","","",{"$error":"#REF!"},"","","","","","",{"$error":"#REF!"},{"$error":"#REF!"},{"$error":"#REF!"},null,{"$error":"#REF!"}]
[67,567,"طالبة تسويق 67","2/2","مستجدة",691,8,11.5,11.5,31,9,8.8000000000000007,17.2,35,4.5,6.8,6.8,18.100000000000001,8.5,16,16.5,41,9,19,16,44,{"$f":"'[1]شعبة التسزيق'!AJ76","v":{"$error":"#REF!"}},{"$f":"'[1]شعبة التسزيق'!AK76","v":{"$error":"#REF!"}},{"$f":"'[1]شعبة التسزيق'!AL76","v":{"$error":"#REF!"}},{"$error":"#REF!"},8.5,17,16,41.5,9,18,14.5,41.5,9,13,12,34,9.5,16,17,42.5,9,15,17,41,3,4.5,5,10,5,7,13,21.5,34.5,{"$error":"#REF!"},{"$f":"'[1]شعبة التسزيق'!BS76","v":{"$error":"#REF!"}},{"$f":"'[1]شعبة التسزيق'!BT76","v":{"$error":"#REF!"}},{"$f":"'[1]شعبة التسزيق'!BU76","v":{"$error":"#REF!"}},{"$error":"#REF!"},{"$f":"'[1]شعبة التسزيق'!BW76","v":{"$error":"#REF!"}},{"$f":"'[1]شعبة التسزيق'!BX76","v":{"$error":"#REF!"}},{"$f":"'[1]شعبة التسزيق'!BY76","v":{"$error":"#REF!"}},{"$error":"#REF!"},"راسبة",{"$error":"#REF!"},4,null,null,null,null,"","","","","",{"$error":"#REF!"},"","","","","","",{"$error":"#REF!"},{"$error":"#REF!"},{"$error":"#REF!"},null,{"$error":"#REF!"}]
[68,568,"طالبة تسويق 68","2/2","مستجدة",692,8,9.5,13,30.5,8,9.1999999999999993,17.2,34.4,4.5,6.8,7.2,18.5,8.5,16.5,16.5,41.5,9.5,19,18,46.5,{"$f":"'[1]شعبة التسزيق'!AJ77","v":{"$error":"#REF!"}},{"$f":"'[1]شعبة التسزيق'!AK77","v":{"$error":"#REF!"}},{"$f":"'[1]شعبة التسزيق'!AL77","v":{"$error":"#REF!"}},{"$error":"#REF!"},8.5,17,16,41.5,9,19,13.5,41.5,9,14,11,34,9.5,17,18,44.5,9,17,16,42,3,4.5,5,10,6,7,14,21.5,35.5,{"$error":"#REF!"},{"$f":"'[1]شعبة التسزيق'!BS77","v":{"$error":"#REF!"}},{"$f":"'[1]شعبة التسزيق'!BT77","v":{"$error":"#REF!"}},{"$f":"'[1]شعبة التسزيق'!BU77","v":{"$error":"#REF!"}},{"$error":"#REF!"},{"$f":"'[1]شعبة التسزيق'!BW77","v":{"$error":"#REF!"}},{"$f":"'[1]شعبة التسزيق'!BX77","v":{"$error":"#REF!"}},{"$f":"'[1]شعبة التسزيق'!BY77","v":{"$error":"#REF!"}},{"$error":"#REF!"},"راسبة",{"$error":"#REF!"},4,null,null,null,null,"","","","","",{"$error":"#REF!"},"","","","","","",{"$error":"#REF!"},{"$error":"#REF!"},{"$error":"#REF!"},null,{"$error":"#REF!"}]
[69,569,"طالبة تسويق 69","2/2","مستجدة",693,8,11,13,32,8,9.6,17.2,34.799999999999997,4.5,6,7.2,17.7,9,12,15,36,9.5,17,19,45.5,{"$f":"'[1]شعبة التسزيق'!AJ78","v":{"$error":"#REF!"}},{"$f":"'[1]شعبة التسزيق'!AK78","v":{"$error":"#REF!"}},{"$f":"'[1]شعبة التسزيق'!AL78","v":{"$error":"#REF!"}},{"$error":"#REF!"},8.5,17,17,42.5,9,20,15,44,9,14.5,12,35.5,9.5,17,18,44.5,9,16,17,42,3,4.5,6,10,6,7,15,21.5,36.5,{"$error":"#REF!"},{"$f":"'[1]شعبة التسزيق'!BS78","v":{"$error":"#REF!"}},{"$f":"'[1]شعبة التسزيق'!BT78","v":{"$error":"#REF!"}},{"$f":"'[1]شعبة التسزيق'!BU78","v":{"$error":"#REF!"}},{"$error":"#REF!"},{"$f":"'[1]شعبة التسزيق'!BW78","v":{"$error":"#REF!"}},{"$f":"'[1]شعبة التسزيق'!BX78","v":{"$error":"#REF!"}},{"$f":"'[1]شعبة التسزيق'!BY78","v":{"$error":"#REF!"}},{"$error":"#REF!"},"راسبة",{"$error":"#REF!"},4,null,null,null,null,"","","","","",{"$error":"#REF!"},"","","","","","",{"$error":"#REF!"},{"$error":"#REF!"},{"$error":"#REF!"},null,{"$error":"#REF!"}]
[70,570,"طالبة تسويق 70","2/2","مستجدة",694,8,11,13,32,8,9.6,16.8,34.400000000000006,4.5,5.2,7.6,17.299999999999997,8.5,16,14.5,39,9.5,16,18,43.5,{"$f":"'[1]شعبة التسزيق'!AJ79","v":{"$error":"#REF!"}},{"$f":"'[1]شعبة التسزيق'!AK79","v":{"$error":"#REF!"}},{"$f":"'[1]شعبة التسزيق'!AL79","v":{"$error":"#REF!"}},{"$error":"#REF!"},8.5,17,17,42.5,9,18,12.5,39.5,9,16.5,11,36.5,9.5,17,18,44.5,9,16,8,33,3,4.5,6,10,6,6,15,20.5,35.5,{"$error":"#REF!"},{"$f":"'[1]شعبة التسزيق'!BS79","v":{"$error":"#REF!"}},{"$f":"'[1]شعبة التسزيق'!BT79","v":{"$error":"#REF!"}},{"$f":"'[1]شعبة التسزيق'!BU79","v":{"$error":"#REF!"}},{"$error":"#REF!"},{"$f":"'[1]شعبة التسزيق'!BW79","v":{"$error":"#REF!"}},{"$f":"'[1]شعبة التسزيق'!BX79","v":{"$error":"#REF!"}},{"$f":"'[1]شعبة التسزيق'!BY79","v":{"$error":"#REF!"}},{"$error":"#REF!"},"راسبة",{"$error":"#REF!"},4,null,null,null,null,"","","","","",{"$error":"#REF!"},"","","","","","",{"$error":"#REF!"},{"$error":"#REF!"},{"$error":"#REF!"},null,{"$error":"#REF!"}]
[71,571,"طالبة تسويق 71","2/2","مستجدة",695,8,13,7,28,7,8,15.2,30.2,4.5,8,8.8000000000000007,21.3,9,17.5,5.5,32,8.5,19,16,43.5,{"$f":"'[1]شعبة التسزيق'!AJ80","v":{"$error":"#REF!"}},{"$f":"'[1]شعبة التسزيق'!AK80","v":{"$error":"#REF!"}},{"$f":"'[1]شعبة التسزيق'!AL80","v":{"$error":"#REF!"}},{"$error":"#REF!"},8.5,17,11,36.5,9,19,10.5,38.5,9,16,7,32,8.5,18,14,40.5,9,15,13,37,2.5,4,5,11,5,11,12.5,26,38.5,{"$error":"#REF!"},{"$f":"'[1]شعبة التسزيق'!BS80","v":{"$error":"#REF!"}},{"$f":"'[1]شعبة التسزيق'!BT80","v":{"$error":"#REF!"}},{"$f":"'[1]شعبة التسزيق'!BU80","v":{"$error":"#REF!"}},{"$error":"#REF!"},{"$f":"'[1]شعبة التسزيق'!BW80","v":{"$error":"#REF!"}},{"$f":"'[1]شعبة التسزيق'!BX80","v":{"$error":"#REF!"}},{"$f":"'[1]شعبة التسزيق'!BY80","v":{"$error":"#REF!"}},{"$error":"#REF!"},"راسبة",{"$error":"#REF!"},4,null,null,null,null,"","","","","",{"$error":"#REF!"},"","","","","","",{"$error":"#REF!"},{"$error":"#REF!"},{"$error":"#REF!"},null,{"$error":"#REF!"}]
[72,572,"طالبة تسويق 72","2/2","مستجدة",696,8,14.5,14,36.5,7,7.6,17.2,31.799999999999997,4.5,8.4,8.4,21.3,8.5,17.5,6.5,32.5,9,19,16,44,{"$f":"'[1]شعبة التسزيق'!AJ81","v":{"$error":"#REF!"}},{"$f":"'[1]شعبة التسزيق'!AK81","v":{"$error":"#REF!"}},{"$f":"'[1]شعبة التسزيق'!AL81","v":{"$error":"#REF!"}},{"$error":"#REF!"},8.5,17,13,38.5,9,19,12.5,40.5,9,17,12.5,38.5,9,18,19,46,9,15,15,39,2.5,4.5,6,10.5,5,10,13.5,25,38.5,{"$error":"#REF!"},{"$f":"'[1]شعبة التسزيق'!BS81","v":{"$error":"#REF!"}},{"$f":"'[1]شعبة التسزيق'!BT81","v":{"$error":"#REF!"}},{"$f":"'[1]شعبة التسزيق'!BU81","v":{"$error":"#REF!"}},{"$error":"#REF!"},{"$f":"'[1]شعبة التسزيق'!BW81","v":{"$error":"#REF!"}},{"$f":"'[1]شعبة التسزيق'!BX81","v":{"$error":"#REF!"}},{"$f":"'[1]شعبة التسزيق'!BY81","v":{"$error":"#REF!"}},{"$error":"#REF!"},"راسبة",{"$error":"#REF!"},4,null,null,null,null,"","","","","",{"$error":"#REF!"},"","","","","","",{"$error":"#REF!"},{"$error":"#REF!"},{"$error":"#REF!"},null,{"$error":"#REF!"}]
[73,573,"طالبة تسويق 73","2/2","مستجدة",697,8,13,12.5,33.5,7,8.4,17.600000000000001,33,4.5,8.8000000000000007,8.4,21.700000000000003,8.5,17.5,5,31,9.5,19,17,45.5,{"$f":"'[1]شعبة التسزيق'!AJ82","v":{"$error":"#REF!"}},{"$f":"'[1]شعبة التسزيق'!AK82","v":{"$error":"#REF!"}},{"$f":"'[1]شعبة التسزيق'!AL82","v":{"$error":"#REF!"}},{"$error":"#REF!"},8.5,16,7,31.5,9,19,11,39,9,15,8,32,9.5,18,19,46.5,9,14,14,37,2.5,4.5,5,10.5,7,10,14.5,25,39.5,{"$error":"#REF!"},{"$f":"'[1]شعبة التسزيق'!BS82","v":{"$error":"#REF!"}},{"$f":"'[1]شعبة التسزيق'!BT82","v":{"$error":"#REF!"}},{"$f":"'[1]شعبة التسزيق'!BU82","v":{"$error":"#REF!"}},{"$error":"#REF!"},{"$f":"'[1]شعبة التسزيق'!BW82","v":{"$error":"#REF!"}},{"$f":"'[1]شعبة التسزيق'!BX82","v":{"$error":"#REF!"}},{"$f":"'[1]شعبة التسزيق'!BY82","v":{"$error":"#REF!"}},{"$error":"#REF!"},"راسبة",{"$error":"#REF!"},4,null,null,null,null,"","","","","",{"$error":"#REF!"},"","","","","","",{"$error":"#REF!"},{"$error":"#REF!"},{"$error":"#REF!"},null,{"$error":"#REF!"}]
[74,574,"طالبة تسويق 74","2/2","مستجدة",698,8,13.5,12.5,34,8,8.4,16.8,33.200000000000003,4.5,6.4,7.6,18.5,8.5,16.5,5,30,9.5,19,16,44.5,{"$f":"'[1]شعبة التسزيق'!AJ83","v":{"$error":"#REF!"}},{"$f":"'[1]شعبة التسزيق'!AK83","v":{"$error":"#REF!"}},{"$f":"'[1]شعبة التسزيق'!AL83","v":{"$error":"#REF!"}},{"$error":"#REF!"},8.5,17,8,33.5,9,17,7.5,33.5,9,17,8.5,34.5,9,14,19,42,9,13,13,35,2.5,4.5,5,11,7,11,14.5,26.5,41,{"$error":"#REF!"},{"$f":"'[1]شعبة التسزيق'!BS83","v":{"$error":"#REF!"}},{"$f":"'[1]شعبة التسزيق'!BT83","v":{"$error":"#REF!"}},{"$f":"'[1]شعبة التسزيق'!BU83","v":{"$error":"#REF!"}},{"$error":"#REF!"},{"$f":"'[1]شعبة التسزيق'!BW83","v":{"$error":"#REF!"}},{"$f":"'[1]شعبة التسزيق'!BX83","v":{"$error":"#REF!"}},{"$f":"'[1]شعبة التسزيق'!BY83","v":{"$error":"#REF!"}},{"$error":"#REF!"},"راسبة",{"$error":"#REF!"},4,null,null,null,null,"","","","","",{"$error":"#REF!"},"","","","","","",{"$error":"#REF!"},{"$error":"#REF!"},{"$error":"#REF!"},null,{"$error":"#REF!"}]
[75,575,"طالبة تسويق 75","2/2","مستجدة",699,8,15,11,34,8,6.8,17.600000000000001,32.400000000000006,4.5,7.6,6,18.100000000000001,8.5,15,9,32.5,9,18,18,45,{"$f":"'[1]شعبة التسزيق'!AJ84","v":{"$error":"#REF!"}},{"$f":"'[1]شعبة التسزيق'!AK84","v":{"$error":"#REF!"}},{"$f":"'[1]شعبة التسزيق'!AL84","v":{"$error":"#REF!"}},{"$error":"#REF!"},8.5,17,9,34.5,9,17,13,39,9,14,10,33,9,15,19,43,9,15,15,39,3,4.5,6,11,8,11,17,26.5,43.5,{"$error":"#REF!"},{"$f":"'[1]شعبة التسزيق'!BS84","v":{"$error":"#REF!"}},{"$f":"'[1]شعبة التسزيق'!BT84","v":{"$error":"#REF!"}},{"$f":"'[1]شعبة التسزيق'!BU84","v":{"$error":"#REF!"}},{"$error":"#REF!"},{"$f":"'[1]شعبة التسزيق'!BW84","v":{"$error":"#REF!"}},{"$f":"'[1]شعبة التسزيق'!BX84","v":{"$error":"#REF!"}},{"$f":"'[1]شعبة التسزيق'!BY84","v":{"$error":"#REF!"}},{"$error":"#REF!"},"راسبة",{"$error":"#REF!"},4,null,null,null,null,"","","","","",{"$error":"#REF!"},"","","","","","",{"$error":"#REF!"},{"$error":"#REF!"},{"$error":"#REF!"},null,{"$error":"#REF!"}]
[76,576,"طالبة تسويق 76","2/2","مستجدة",700,8,13,14.5,35.5,8,9.1999999999999993,16,33.200000000000003,4.5,7.2,8,19.7,9,18.5,16.5,44,9.5,19,14,42.5,{"$f":"'[1]شعبة التسزيق'!AJ85","v":{"$error":"#REF!"}},{"$f":"'[1]شعبة التسزيق'!AK85","v":{"$error":"#REF!"}},{"$f":"'[1]شعبة التسزيق'!AL85","v":{"$error":"#REF!"}},{"$error":"#REF!"},8.5,17,8,33.5,9,20,12,41,9,16.5,14.5,40,9.5,17,14,40.5,9,16,16,41,3,4.5,5,11,7,11,15,26.5,41.5,{"$error":"#REF!"},{"$f":"'[1]شعبة التسزيق'!BS85","v":{"$error":"#REF!"}},{"$f":"'[1]شعبة التسزيق'!BT85","v":{"$error":"#REF!"}},{"$f":"'[1]شعبة التسزيق'!BU85","v":{"$error":"#REF!"}},{"$error":"#REF!"},{"$f":"'[1]شعبة التسزيق'!BW85","v":{"$error":"#REF!"}},{"$f":"'[1]شعبة التسزيق'!BX85","v":{"$error":"#REF!"}},{"$f":"'[1]شعبة التسزيق'!BY85","v":{"$error":"#REF!"}},{"$error":"#REF!"},"راسبة",{"$error":"#REF!"},4,null,null,null,null,"","","","","",{"$error":"#REF!"},"","","","","","",{"$error":"#REF!"},{"$error":"#REF!"},{"$error":"#REF!"},null,{"$error":"#REF!"}]
[77,577,"طالبة تسويق 77","2/2","مستجدة",701,8,14.5,15,37.5,8.5,10.8,18.8,38.1,5,8.4,7.2,20.6,9,18.5,13,40.5,9,19,17,45,{"$f":"'[1]شعبة التسزيق'!AJ86","v":{"$error":"#REF!"}},{"$f":"'[1]شعبة التسزيق'!AK86","v":{"$error":"#REF!"}},{"$f":"'[1]شعبة التسزيق'!AL86","v":{"$error":"#REF!"}},{"$error":"#REF!"},8.5,17,14,39.5,9,20,17,46,9,16,17.5,42.5,9,19,18,46,9,19,17,45,3,4.5,6,11,7,11,16,26.5,42.5,{"$error":"#REF!"},{"$f":"'[1]شعبة التسزيق'!BS86","v":{"$error":"#REF!"}},{"$f":"'[1]شعبة التسزيق'!BT86","v":{"$error":"#REF!"}},{"$f":"'[1]شعبة التسزيق'!BU86","v":{"$error":"#REF!"}},{"$error":"#REF!"},{"$f":"'[1]شعبة التسزيق'!BW86","v":{"$error":"#REF!"}},{"$f":"'[1]شعبة التسزيق'!BX86","v":{"$error":"#REF!"}},{"$f":"'[1]شعبة التسزيق'!BY86","v":{"$error":"#REF!"}},{"$error":"#REF!"},"راسبة",{"$error":"#REF!"},4,null,null,null,null,"","","","","",{"$error":"#REF!"},"","","","","","",{"$error":"#REF!"},{"$error":"#REF!"},{"$error":"#REF!"},null,{"$error":"#REF!"}]
[78,578,"طالبة تسويق 78","2/2","مستجدة",702,8,16.5,15,39.5,8.5,9.6,18.399999999999999,36.5,4.5,8,7.6,20.100000000000001,8.5,17.5,16.5,42.5,9,18,17,44,{"$f":"'[1]شعبة التسزيق'!AJ87","v":{"$error":"#REF!"}},{"$f":"'[1]شعبة التسزيق'!AK87","v":{"$error":"#REF!"}},{"$f":"'[1]شعبة التسزيق'!AL87","v":{"$error":"#REF!"}},{"$error":"#REF!"},8.5,17,8,33.5,9,16,13,38,9,16.5,11,36.5,9.5,17,17,43.5,9,15,16,40,2.5,4.5,5,11,7,10,14.5,25.5,40,{"$error":"#REF!"},{"$f":"'[1]شعبة التسزيق'!BS87","v":{"$error":"#REF!"}},{"$f":"'[1]شعبة التسزيق'!BT87","v":{"$error":"#REF!"}},{"$f":"'[1]شعبة التسزيق'!BU87","v":{"$error":"#REF!"}},{"$error":"#REF!"},{"$f":"'[1]شعبة التسزيق'!BW87","v":{"$error":"#REF!"}},{"$f":"'[1]شعبة التسزيق'!BX87","v":{"$error":"#REF!"}},{"$f":"'[1]شعبة التسزيق'!BY87","v":{"$error":"#REF!"}},{"$error":"#REF!"},"راسبة",{"$error":"#REF!"},4,null,null,null,null,"","","","","",{"$error":"#REF!"},"","","","","","",{"$error":"#REF!"},{"$error":"#REF!"},{"$error":"#REF!"},null,{"$error":"#REF!"}]
[79,579,"طالبة تسويق 79","2/2","مستجدة",703,8,13.5,13.5,35,7.5,9.1999999999999993,17.2,33.9,4.5,7.2,7.6,19.299999999999997,8.5,16,5,29.5,8.5,19,18,45.5,{"$f":"'[1]شعبة التسزيق'!AJ88","v":{"$error":"#REF!"}},{"$f":"'[1]شعبة التسزيق'!AK88","v":{"$error":"#REF!"}},{"$f":"'[1]شعبة التسزيق'!AL88","v":{"$error":"#REF!"}},{"$error":"#REF!"},8.5,17,11,36.5,9,16,12,37,9,16,12,37,9,17,16,42,9,14,15,38,2.5,4,5,11,8,10,15.5,25,40.5,{"$error":"#REF!"},{"$f":"'[1]شعبة التسزيق'!BS88","v":{"$error":"#REF!"}},{"$f":"'[1]شعبة التسزيق'!BT88","v":{"$error":"#REF!"}},{"$f":"'[1]شعبة التسزيق'!BU88","v":{"$error":"#REF!"}},{"$error":"#REF!"},{"$f":"'[1]شعبة التسزيق'!BW88","v":{"$error":"#REF!"}},{"$f":"'[1]شعبة التسزيق'!BX88","v":{"$error":"#REF!"}},{"$f":"'[1]شعبة التسزيق'!BY88","v":{"$error":"#REF!"}},{"$error":"#REF!"},{"$f":"IF($C88=\"\",\"\",IF(BS88=0,\"ناجحة\",IF(BS88<=2,\"دورثان\",\"راسبة\")))","v":"راسبة"},{"$f":"IF($C88=\"\",\"\",IF(BS88=0,\"ومنقولة للصف الثالث\",IF(BS88>0,\"فى  :  \"&CONCATENATE(BX88,BY88,BZ88,CA88,CB88,CC88,CD88,CE88,CF88,CG88,CH88,CI88,CJ88,CK88,CL88),CONCATENATE(BX88,BY88,BZ88,CA88,CB88,CC88,CD88,CE88,CF88,CG88,CH88,CI88,CJ88,CK88,CL88))))","v":{"$error":"#REF!"}},{"$f":"IF($C88=\"\",\"\",COUNTA($BX88:$CL88)-COUNTBLANK($BX88:$CL88))","v":4},null,null,null,null,"","","","","",{"$error":"#REF!"},"","","","","","",{"$error":"#REF!"},{"$error":"#REF!"},{"$error":"#REF!"},null,{"$error":"#REF!"}]
[80,580,"طالبة تسويق 80","2/2","مستجدة",704,8,12.5,13.5,34,8,8.4,17.2,33.599999999999994,4.5,8,8.4,20.9,8.5,14.5,5,28,9,19,18,46,{"$f":"'[1]شعبة التسزيق'!AJ89","v":{"$error":"#REF!"}},{"$f":"'[1]شعبة التسزيق'!AK89","v":{"$error":"#REF!"}},{"$f":"'[1]شعبة التسزيق'!AL89","v":{"$error":"#REF!"}},{"$error":"#REF!"},8.5,18,9,35.5,9,16,13,38,9,14.5,11,34.5,9.5,17,18,44.5,9,15,16,40,2.5,4,5,11,8,10,15.5,25,40.5,{"$error":"#REF!"},{"$f":"'[1]شعبة التسزيق'!BS89","v":{"$error":"#REF!"}},{"$f":"'[1]شعبة التسزيق'!BT89","v":{"$error":"#REF!"}},{"$f":"'[1]شعبة التسزيق'!BU89","v":{"$error":"#REF!"}},{"$error":"#REF!"},{"$f":"'[1]شعبة التسزيق'!BW89","v":{"$error":"#REF!"}},{"$f":"'[1]شعبة التسزيق'!BX89","v":{"$error":"#REF!"}},{"$f":"'[1]شعبة التسزيق'!BY89","v":{"$error":"#REF!"}},{"$error":"#REF!"},"راسبة",{"$error":"#REF!"},4,null,null,null,null,"","","","","",{"$error":"#REF!"},"","","","","","",{"$error":"#REF!"},{"$error":"#REF!"},{"$error":"#REF!"},null,{"$error":"#REF!"}]
[81,581,"طالبة تسويق 81","2/2","مستجدة",705,8,13,14,35,8,8.8000000000000007,18,34.799999999999997,4.5,7.6,7.6,19.7,9,14.5,5,28.5,9,19,18,46,{"$f":"'[1]شعبة التسزيق'!AJ90","v":{"$error":"#REF!"}},{"$f":"'[1]شعبة التسزيق'!AK90","v":{"$error":"#REF!"}},{"$f":"'[1]شعبة التسزيق'!AL90","v":{"$error":"#REF!"}},{"$error":"#REF!"},8.5,17,9,34.5,9,16,14,39,9,14.5,11,34.5,9.5,17,19,45.5,9,14,16,39,3,4.5,6,11,7,11,16,26.5,42.5,{"$error":"#REF!"},{"$f":"'[1]شعبة التسزيق'!BS90","v":{"$error":"#REF!"}},{"$f":"'[1]شعبة التسزيق'!BT90","v":{"$error":"#REF!"}},{"$f":"'[1]شعبة التسزيق'!BU90","v":{"$error":"#REF!"}},{"$error":"#REF!"},{"$f":"'[1]شعبة التسزيق'!BW90","v":{"$error":"#REF!"}},{"$f":"'[1]شعبة التسزيق'!BX90","v":{"$error":"#REF!"}},{"$f":"'[1]شعبة التسزيق'!BY90","v":{"$error":"#REF!"}},{"$error":"#REF!"},"راسبة",{"$error":"#REF!"},4,null,null,null,null,"","","","","",{"$error":"#REF!"},"","","","","","",{"$error":"#REF!"},{"$error":"#REF!"},{"$error":"#REF!"},null,{"$error":"#REF!"}]
[82,582,"طالبة تسويق 82","2/2","مستجدة",706,8,12.5,13,33.5,7,8.8000000000000007,18,33.799999999999997,4.5,7.6,6.4,18.5,8.5,14,2,24.5,9,19,17,45,{"$f":"'[1]شعبة التسزيق'!AJ91","v":{"$error":"#REF!"}},{"$f":"'[1]شعبة التسزيق'!AK91","v":{"$error":"#REF!"}},{"$f":"'[1]شعبة التسزيق'!AL91","v":{"$error":"#REF!"}},{"$error":"#REF!"},8.5,17,9,34.5,9,15,9,33,9,15,12,36,8.5,17,17,42.5,9,14,15,38,2.5,4,5,11,7,10,14.5,25,39.5,{"$error":"#REF!"},{"$f":"'[1]شعبة التسزيق'!BS91","v":{"$error":"#REF!"}},{"$f":"'[1]شعبة التسزيق'!BT91","v":{"$error":"#REF!"}},{"$f":"'[1]شعبة التسزيق'!BU91","v":{"$error":"#REF!"}},{"$error":"#REF!"},{"$f":"'[1]شعبة التسزيق'!BW91","v":{"$error":"#REF!"}},{"$f":"'[1]شعبة التسزيق'!BX91","v":{"$error":"#REF!"}},{"$f":"'[1]شعبة التسزيق'!BY91","v":{"$error":"#REF!"}},{"$error":"#REF!"},"راسبة",{"$error":"#REF!"},5,null,null,null,null,"","","","محاسبة - ","",{"$error":"#REF!"},"","","","","","",{"$error":"#REF!"},{"$error":"#REF!"},{"$error":"#REF!"},null,{"$error":"#REF!"}]
[83,583,"طالبة تسويق 83","2/2","مستجدة",707,8,14,15,37,8.5,10.8,14.4,33.700000000000003,4.5,6,8.4,18.899999999999999,8,4.5,6,18.5,9,15,19,43,{"$f":"'[1]شعبة التسزيق'!AJ92","v":{"$error":"#REF!"}},{"$f":"'[1]شعبة التسزيق'!AK92","v":{"$error":"#REF!"}},{"$f":"'[1]شعبة التسزيق'!AL92","v":{"$error":"#REF!"}},{"$error":"#REF!"},8.5,11,10,29.5,9,12.5,12.5,34,9,11.5,11,31.5,9,10,9,28,9,6,14,29,3,4.5,6,8,7,5,16,17.5,33.5,{"$error":"#REF!"},{"$f":"'[1]شعبة التسزيق'!BS92","v":{"$error":"#REF!"}},{"$f":"'[1]شعبة التسزيق'!BT92","v":{"$error":"#REF!"}},{"$f":"'[1]شعبة التسزيق'!BU92","v":{"$error":"#REF!"}},{"$error":"#REF!"},{"$f":"'[1]شعبة التسزيق'!BW92","v":{"$error":"#REF!"}},{"$f":"'[1]شعبة التسزيق'!BX92","v":{"$error":"#REF!"}},{"$f":"'[1]شعبة التسزيق'!BY92","v":{"$error":"#REF!"}},{"$error":"#REF!"},"راسبة",{"$error":"#REF!"},5,null,null,null,null,"","","","محاسبة - ","",{"$error":"#REF!"},"","","","","","",{"$error":"#REF!"},{"$error":"#REF!"},{"$error":"#REF!"},null,{"$error":"#REF!"}]
[84,584,"طالبة تسويق 84","2/2","مستجدة",708,8,10,11,29,7,8,13.2,28.2,4.5,5.6,6,16.100000000000001,8.5,8,8.5,25,9,11,18,38,{"$f":"'[1]شعبة التسزيق'!AJ93","v":{"$error":"#REF!"}},{"$f":"'[1]شعبة التسزيق'!AK93","v":{"$error":"#REF!"}},{"$f":"'[1]شعبة التسزيق'!AL93","v":{"$error":"#REF!"}},{"$error":"#REF!"},8.5,11,9,28.5,9,7,10.5,26.5,9,7,6,22,8.5,11,7,26.5,9,5,15,29,3,4.5,5,8,8,5,16,17.5,33.5,{"$error":"#REF!"},{"$f":"'[1]شعبة التسزيق'!BS93","v":{"$error":"#REF!"}},{"$f":"'[1]شعبة التسزيق'!BT93","v":{"$error":"#REF!"}},{"$f":"'[1]شعبة التسزيق'!BU93","v":{"$error":"#REF!"}},{"$error":"#REF!"},{"$f":"'[1]شعبة التسزيق'!BW93","v":{"$error":"#REF!"}},{"$f":"'[1]شعبة التسزيق'!BX93","v":{"$error":"#REF!"}},{"$f":"'[1]شعبة التسزيق'!BY93","v":{"$error":"#REF!"}},{"$error":"#REF!"},"راسبة",{"$error":"#REF!"},4,null,null,null,null,"","","","","",{"$error":"#REF!"},"","","","","","",{"$error":"#REF!"},{"$error":"#REF!"},{"$error":"#REF!"},null,{"$error":"#REF!"}]
[85,585,"طالبة تسويق 85","2/2","مستجدة",709,8,11,14,33,7,11.6,14,32.6,4.5,8,8,20.5,8,7.5,3.5,19,9,15,19,43,{"$f":"'[1]شعبة التسزيق'!AJ94","v":{"$error":"#REF!"}},{"$f":"'[1]شعبة التسزيق'!AK94","v":{"$error":"#REF!"}},{"$f":"'[1]شعبة التسزيق'!AL94","v":{"$error":"#REF!"}},{"$error":"#REF!"},8.5,10,8,26.5,9,9,7.5,25.5,9,3.5,7.5,20,9.5,12,9,30.5,9,3,13,25,2.5,4,5,9,8,6,15.5,19,34.5,{"$error":"#REF!"},{"$f":"'[1]شعبة التسزيق'!BS94","v":{"$error":"#REF!"}},{"$f":"'[1]شعبة التسزيق'!BT94","v":{"$error":"#REF!"}},{"$f":"'[1]شعبة التسزيق'!BU94","v":{"$error":"#REF!"}},{"$error":"#REF!"},{"$f":"'[1]شعبة التسزيق'!BW94","v":{"$error":"#REF!"}},{"$f":"'[1]شعبة التسزيق'!BX94","v":{"$error":"#REF!"}},{"$f":"'[1]شعبة التسزيق'!BY94","v":{"$error":"#REF!"}},{"$error":"#REF!"},"راسبة",{"$error":"#REF!"},5,null,null,null,null,"","","","محاسبة - ","",{"$error":"#REF!"},"","","","","","",{"$error":"#REF!"},{"$error":"#REF!"},{"$error":"#REF!"},null,{"$error":"#REF!"}]
[86,586,"طالبة تسويق 86","2/2","مستجدة",710,8,13,13.5,34.5,9,13.2,13.6,35.799999999999997,4.5,6.4,7.6,18.5,8.5,8.5,3.5,20.5,9.5,11,18,38.5,{"$f":"'[1]شعبة التسزيق'!AJ95","v":{"$error":"#REF!"}},{"$f":"'[1]شعبة التسزيق'!AK95","v":{"$error":"#REF!"}},{"$f":"'[1]شعبة التسزيق'!AL95","v":{"$error":"#REF!"}},{"$error":"#REF!"},8.5,7,9.5,25,9,10,13,32,9,11,9,29,9,14,8,31,9,1,16,26,3,4.5,5,8,7,6,15,18.5,33.5,{"$error":"#REF!"},{"$f":"'[1]شعبة التسزيق'!BS95","v":{"$error":"#REF!"}},{"$f":"'[1]شعبة التسزيق'!BT95","v":{"$error":"#REF!"}},{"$f":"'[1]شعبة التسزيق'!BU95","v":{"$error":"#REF!"}},{"$error":"#REF!"},{"$f":"'[1]شعبة التسزيق'!BW95","v":{"$error":"#REF!"}},{"$f":"'[1]شعبة التسزيق'!BX95","v":{"$error":"#REF!"}},{"$f":"'[1]شعبة التسزيق'!BY95","v":{"$error":"#REF!"}},{"$error":"#REF!"},"راسبة",{"$error":"#REF!"},5,null,null,null,null,"","","","محاسبة - ","",{"$error":"#REF!"},"","","","","","",{"$error":"#REF!"},{"$error":"#REF!"},{"$error":"#REF!"},null,{"$error":"#REF!"}]
[87,587,"طالبة تسويق 87","2/2","مستجدة",711,7.5,6.5,11.5,25.5,7,6,11.2,24.2,4.5,6,6.8,17.3,8,7.5,0,15.5,9.5,0,15.5,25,{"$f":"'[1]شعبة التسزيق'!AJ96","v":{"$error":"#REF!"}},{"$f":"'[1]شعبة التسزيق'!AK96","v":{"$error":"#REF!"}},{"$f":"'[1]شعبة التسزيق'!AL96","v":{"$error":"#REF!"}},{"$error":"#REF!"},8.5,8,4,20.5,9,9,7.5,25.5,9,2,6,17,8.5,13,6,27.5,9,0,16,25,2.5,4,6,7,8,6,16.5,17,33.5,{"$error":"#REF!"},{"$f":"'[1]شعبة التسزيق'!BS96","v":{"$error":"#REF!"}},{"$f":"'[1]شعبة التسزيق'!BT96","v":{"$error":"#REF!"}},{"$f":"'[1]شعبة التسزيق'!BU96","v":{"$error":"#REF!"}},{"$error":"#REF!"},{"$f":"'[1]شعبة التسزيق'!BW96","v":{"$error":"#REF!"}},{"$f":"'[1]شعبة التسزيق'!BX96","v":{"$error":"#REF!"}},{"$f":"'[1]شعبة التسزيق'!BY96","v":{"$error":"#REF!"}},{"$error":"#REF!"},"راسبة",{"$error":"#REF!"},7,null,null,null,null,"","","","محاسبة - ","",{"$error":"#REF!"},"اقتصاد - ","","سكرتارية . ف - ","","","",{"$error":"#REF!"},{"$error":"#REF!"},{"$error":"#REF!"},null,{"$error":"#REF!"}]
[88,588,"طالبة تسويق 88","2/2","مستجدة",712,7.5,9.5,13,30,8,14.8,15.6,38.4,4.5,6,7.6,18.100000000000001,8,5,5.5,18.5,9,8,16,33,{"$f":"'[1]شعبة التسزيق'!AJ97","v":{"$error":"#REF!"}},{"$f":"'[1]شعبة التسزيق'!AK97","v":{"$error":"#REF!"}},{"$f":"'[1]شعبة التسزيق'!AL97","v":{"$error":"#REF!"}},{"$error":"#REF!"},8.5,11,7,26.5,9,8,11.5,28.5,9,5.5,11.5,26,9,10,6,25,9,4,15,28,3,4,5,7,8,6,16,17,33,{"$error":"#REF!"},{"$f":"'[1]شعبة التسزيق'!BS97","v":{"$error":"#REF!"}},{"$f":"'[1]شعبة التسزيق'!BT97","v":{"$error":"#REF!"}},{"$f":"'[1]شعبة التسزيق'!BU97","v":{"$error":"#REF!"}},{"$error":"#REF!"},{"$f":"'[1]شعبة التسزيق'!BW97","v":{"$error":"#REF!"}},{"$f":"'[1]شعبة التسزيق'!BX97","v":{"$error":"#REF!"}},{"$f":"'[1]شعبة التسزيق'!BY97","v":{"$error":"#REF!"}},{"$error":"#REF!"},"راسبة",{"$error":"#REF!"},5,null,null,null,null,"","","","محاسبة - ","",{"$error":"#REF!"},"","","","","","",{"$error":"#REF!"},{"$error":"#REF!"},{"$error":"#REF!"},null,{"$error":"#REF!"}]
[89,589,"طالبة تسويق 89","2/2","مستجدة",713,7.5,10.5,14.5,32.5,7,12.4,15.2,34.599999999999994,4.5,6,9.1999999999999993,19.7,8,16,14,38,9.5,11,19,39.5,{"$f":"'[1]شعبة التسزيق'!AJ98","v":{"$error":"#REF!"}},{"$f":"'[1]شعبة التسزيق'!AK98","v":{"$error":"#REF!"}},{"$f":"'[1]شعبة التسزيق'!AL98","v":{"$error":"#REF!"}},{"$error":"#REF!"},8.5,9,8,25.5,9,8,14.5,31.5,9,10.5,14.5,34,9.5,13,9,31.5,9,4,16,29,3,4.5,5,8,7,6,15,18.5,33.5,{"$error":"#REF!"},{"$f":"'[1]شعبة التسزيق'!BS98","v":{"$error":"#REF!"}},{"$f":"'[1]شعبة التسزيق'!BT98","v":{"$error":"#REF!"}},{"$f":"'[1]شعبة التسزيق'!BU98","v":{"$error":"#REF!"}},{"$error":"#REF!"},{"$f":"'[1]شعبة التسزيق'!BW98","v":{"$error":"#REF!"}},{"$f":"'[1]شعبة التسزيق'!BX98","v":{"$error":"#REF!"}},{"$f":"'[1]شعبة التسزيق'!BY98","v":{"$error":"#REF!"}},{"$error":"#REF!"},"راسبة",{"$error":"#REF!"},4,null,null,null,null,"","","","","",{"$error":"#REF!"},"","","","","","",{"$error":"#REF!"},{"$error":"#REF!"},{"$error":"#REF!"},null,{"$error":"#REF!"}]
[90,590,"طالبة تسويق 90","2/2","مستجدة",714,8,10.5,12.5,31,8,14.4,16,38.4,4.5,5.2,7.2,16.899999999999999,8.5,17.5,17.5,43.5,9.5,13,18,40.5,{"$f":"'[1]شعبة التسزيق'!AJ99","v":{"$error":"#REF!"}},{"$f":"'[1]شعبة التسزيق'!AK99","v":{"$error":"#REF!"}},{"$f":"'[1]شعبة التسزيق'!AL99","v":{"$error":"#REF!"}},{"$error":"#REF!"},8.5,11,11,30.5,9,10,13.5,32.5,9,12,14,35,9.5,14,13,36.5,9,5,14,28,3,4.5,6,8,8,6,17,18.5,35.5,{"$error":"#REF!"},{"$f":"'[1]شعبة التسزيق'!BS99","v":{"$error":"#REF!"}},{"$f":"'[1]شعبة التسزيق'!BT99","v":{"$error":"#REF!"}},{"$f":"'[1]شعبة التسزيق'!BU99","v":{"$error":"#REF!"}},{"$error":"#REF!"},{"$f":"'[1]شعبة التسزيق'!BW99","v":{"$error":"#REF!"}},{"$f":"'[1]شعبة التسزيق'!BX99","v":{"$error":"#REF!"}},{"$f":"'[1]شعبة التسزيق'!BY99","v":{"$error":"#REF!"}},{"$error":"#REF!"},"راسبة",{"$error":"#REF!"},4,null,null,null,null,"","","","","",{"$error":"#REF!"},"","","","","","",{"$error":"#REF!"},{"$error":"#REF!"},{"$error":"#REF!"},null,{"$error":"#REF!"}]
[91,591,"طالبة تسويق 91","2/2","مستجدة",715,8,11,12.5,31.5,8,12.4,16.8,37.200000000000003,4.5,6,7.6,18.100000000000001,8.5,8,8.5,25,9.5,11,19,39.5,{"$f":"'[1]شعبة التسزيق'!AJ100","v":{"$error":"#REF!"}},{"$f":"'[1]شعبة التسزيق'!AK100","v":{"$error":"#REF!"}},{"$f":"'[1]شعبة التسزيق'!AL100","v":{"$error":"#REF!"}},{"$error":"#REF!"},8.5,9,9,26.5,9,9.5,9.5,28,9,6.5,11.5,27,9.5,12,9,30.5,9,4,15,28,3,4.5,6,8,8,5,17,17.5,34.5,{"$error":"#REF!"},{"$f":"'[1]شعبة التسزيق'!BS100","v":{"$error":"#REF!"}},{"$f":"'[1]شعبة التسزيق'!BT100","v":{"$error":"#REF!"}},{"$f":"'[1]شعبة التسزيق'!BU100","v":{"$error":"#REF!"}},{"$error":"#REF!"},{"$f":"'[1]شعبة التسزيق'!BW100","v":{"$error":"#REF!"}},{"$f":"'[1]شعبة التسزيق'!BX100","v":{"$error":"#REF!"}},{"$f":"'[1]شعبة التسزيق'!BY100","v":{"$error":"#REF!"}},{"$error":"#REF!"},"راسبة",{"$error":"#REF!"},4,null,null,null,null,"","","","","",{"$error":"#REF!"},"","","","","","",{"$error":"#REF!"},{"$error":"#REF!"},{"$error":"#REF!"},null,{"$error":"#REF!"}]
[92,592,"طالبة تسويق 92","2/2","مستجدة",716,8,11,13,32,7.5,9.1999999999999993,16,32.700000000000003,4.5,6.8,7.6,18.899999999999999,8.5,8.5,2.5,19.5,9,5,19,33,{"$f":"'[1]شعبة التسزيق'!AJ101","v":{"$error":"#REF!"}},{"$f":"'[1]شعبة التسزيق'!AK101","v":{"$error":"#REF!"}},{"$f":"'[1]شعبة التسزيق'!AL101","v":{"$error":"#REF!"}},{"$error":"#REF!"},8.5,12,5,25.5,9,8,10.5,27.5,9,6.5,11.5,27,9,14,7,30,9,3,16,28,3,4.5,5,8,8,4,16,16.5,32.5,{"$error":"#REF!"},{"$f":"'[1]شعبة التسزيق'!BS101","v":{"$error":"#REF!"}},{"$f":"'[1]شعبة التسزيق'!BT101","v":{"$error":"#REF!"}},{"$f":"'[1]شعبة التسزيق'!BU101","v":{"$error":"#REF!"}},{"$error":"#REF!"},{"$f":"'[1]شعبة التسزيق'!BW101","v":{"$error":"#REF!"}},{"$f":"'[1]شعبة التسزيق'!BX101","v":{"$error":"#REF!"}},{"$f":"'[1]شعبة التسزيق'!BY101","v":{"$error":"#REF!"}},{"$error":"#REF!"},"راسبة",{"$error":"#REF!"},5,null,null,null,null,"","","","محاسبة - ","",{"$error":"#REF!"},"","","","","","",{"$error":"#REF!"},{"$error":"#REF!"},{"$error":"#REF!"},null,{"$error":"#REF!"}]
[93,593,"طالبة تسويق 93","2/2","مستجدة",717,8,10.5,13,31.5,7.5,12.8,15.6,35.9,4.5,6.8,8.8000000000000007,20.100000000000001,9,10,11,30,9,11,19,39,{"$f":"'[1]شعبة التسزيق'!AJ102","v":{"$error":"#REF!"}},{"$f":"'[1]شعبة التسزيق'!AK102","v":{"$error":"#REF!"}},{"$f":"'[1]شعبة التسزيق'!AL102","v":{"$error":"#REF!"}},{"$error":"#REF!"},8.5,7,5,20.5,9,8.5,12.5,30,9,11,10,30,9.5,14,7,30.5,9,5,15,29,3,4.5,6,8,7,5,16,17.5,33.5,{"$error":"#REF!"},{"$f":"'[1]شعبة التسزيق'!BS102","v":{"$error":"#REF!"}},{"$f":"'[1]شعبة التسزيق'!BT102","v":{"$error":"#REF!"}},{"$f":"'[1]شعبة التسزيق'!BU102","v":{"$error":"#REF!"}},{"$error":"#REF!"},{"$f":"'[1]شعبة التسزيق'!BW102","v":{"$error":"#REF!"}},{"$f":"'[1]شعبة التسزيق'!BX102","v":{"$error":"#REF!"}},{"$f":"'[1]شعبة التسزيق'!BY102","v":{"$error":"#REF!"}},{"$error":"#REF!"},"راسبة",{"$error":"#REF!"},5,null,null,null,null,"","","","","",{"$error":"#REF!"},"اقتصاد - ","","","","","",{"$error":"#REF!"},{"$error":"#REF!"},{"$error":"#REF!"},null,{"$error":"#REF!"}]
[94,594,"طالبة تسويق 94","2/2","مستجدة",718,8,12,15.5,35.5,7.5,14.4,17.2,39.099999999999994,4.5,6.4,9.1999999999999993,20.100000000000001,8.5,15,14.5,38,9.5,16,19,44.5,{"$f":"'[1]شعبة التسزيق'!AJ103","v":{"$error":"#REF!"}},{"$f":"'[1]شعبة التسزيق'!AK103","v":{"$error":"#REF!"}},{"$f":"'[1]شعبة التسزيق'!AL103","v":{"$error":"#REF!"}},{"$error":"#REF!"},8.5,9,10,27.5,9,8,12,29,9,17.5,17.5,44,9.5,15,10,34.5,9,11,16,36,3,4.5,6,8,7,6,16,18.5,34.5,{"$error":"#REF!"},{"$f":"'[1]شعبة التسزيق'!BS103","v":{"$error":"#REF!"}},{"$f":"'[1]شعبة التسزيق'!BT103","v":{"$error":"#REF!"}},{"$f":"'[1]شعبة التسزيق'!BU103","v":{"$error":"#REF!"}},{"$error":"#REF!"},{"$f":"'[1]شعبة التسزيق'!BW103","v":{"$error":"#REF!"}},{"$f":"'[1]شعبة التسزيق'!BX103","v":{"$error":"#REF!"}},{"$f":"'[1]شعبة التسزيق'!BY103","v":{"$error":"#REF!"}},{"$error":"#REF!"},"راسبة",{"$error":"#REF!"},4,null,null,null,null,"","","","","",{"$error":"#REF!"},"","","","","","",{"$error":"#REF!"},{"$error":"#REF!"},{"$error":"#REF!"},null,{"$error":"#REF!"}]
[95,595,"طالبة تسويق 95","2/2","مستجدة",719,8,10.5,13,31.5,8,11.2,13.6,32.799999999999997,4.5,6.8,8.8000000000000007,20.100000000000001,8.5,10.5,15,34,9,12,19,40,{"$f":"'[1]شعبة التسزيق'!AJ104","v":{"$error":"#REF!"}},{"$f":"'[1]شعبة التسزيق'!AK104","v":{"$error":"#REF!"}},{"$f":"'[1]شعبة التسزيق'!AL104","v":{"$error":"#REF!"}},{"$error":"#REF!"},8.5,9,11,28.5,9,11.5,11.5,32,9,11,11.5,31.5,9.5,15,9,33.5,9,5,14,28,2.5,4.5,5,8,7,4,14.5,16.5,31,{"$error":"#REF!"},{"$f":"'[1]شعبة التسزيق'!BS104","v":{"$error":"#REF!"}},{"$f":"'[1]شعبة التسزيق'!BT104","v":{"$error":"#REF!"}},{"$f":"'[1]شعبة التسزيق'!BU104","v":{"$error":"#REF!"}},{"$error":"#REF!"},{"$f":"'[1]شعبة التسزيق'!BW104","v":{"$error":"#REF!"}},{"$f":"'[1]شعبة التسزيق'!BX104","v":{"$error":"#REF!"}},{"$f":"'[1]شعبة التسزيق'!BY104","v":{"$error":"#REF!"}},{"$error":"#REF!"},"راسبة",{"$error":"#REF!"},4,null,null,null,null,"","","","","",{"$error":"#REF!"},"","","","","","",{"$error":"#REF!"},{"$error":"#REF!"},{"$error":"#REF!"},null,{"$error":"#REF!"}]
[96,596,"طالبة تسويق 96","2/2","مستجدة",720,8,13,13,34,8.5,11.6,16,36.1,4.5,7.2,9.1999999999999993,20.9,8.5,10,12,30.5,9,9,19,37,{"$f":"'[1]شعبة التسزيق'!AJ105","v":{"$error":"#REF!"}},{"$f":"'[1]شعبة التسزيق'!AK105","v":{"$error":"#REF!"}},{"$f":"'[1]شعبة التسزيق'!AL105","v":{"$error":"#REF!"}},{"$error":"#REF!"},8.5,12,14,34.5,9,10,11,30,9,9,9,27,9.5,13,7,29.5,9,4,15,28,3,4.5,6,8,7,6,16,18.5,34.5,{"$error":"#REF!"},{"$f":"'[1]شعبة التسزيق'!BS105","v":{"$error":"#REF!"}},{"$f":"'[1]شعبة التسزيق'!BT105","v":{"$error":"#REF!"}},{"$f":"'[1]شعبة التسزيق'!BU105","v":{"$error":"#REF!"}},{"$error":"#REF!"},{"$f":"'[1]شعبة التسزيق'!BW105","v":{"$error":"#REF!"}},{"$f":"'[1]شعبة التسزيق'!BX105","v":{"$error":"#REF!"}},{"$f":"'[1]شعبة التسزيق'!BY105","v":{"$error":"#REF!"}},{"$error":"#REF!"},"راسبة",{"$error":"#REF!"},4,null,null,null,null,"","","","","",{"$error":"#REF!"},"","","","","","",{"$error":"#REF!"},{"$error":"#REF!"},{"$error":"#REF!"},null,{"$error":"#REF!"}]
[97,597,"طالبة تسويق 97","2/2","مستجدة",721,8,9,12.5,29.5,8,9.1999999999999993,11.2,28.4,4.5,3.6,7.6,15.7,8.5,7,9.5,25,8.5,18,18,44.5,{"$f":"'[1]شعبة التسزيق'!AJ106","v":{"$error":"#REF!"}},{"$f":"'[1]شعبة التسزيق'!AK106","v":{"$error":"#REF!"}},{"$f":"'[1]شعبة التسزيق'!AL106","v":{"$error":"#REF!"}},{"$error":"#REF!"},8.5,11,19,38.5,9,8,10.5,27.5,9,5,13,27,9,12,16,37,9,10,10,29,2.5,4.5,5,5,7,7,{"$f":"IF($C106=\"\",\"\",SUM(AY106,BA106,BC106))","v":14.5},16.5,31,{"$error":"#REF!"},{"$f":"'[1]شعبة التسزيق'!BS106","v":{"$error":"#REF!"}},{"$f":"'[1]شعبة التسزيق'!BT106","v":{"$error":"#REF!"}},{"$f":"'[1]شعبة التسزيق'!BU106","v":{"$error":"#REF!"}},{"$error":"#REF!"},{"$f":"'[1]شعبة التسزيق'!BW106","v":{"$error":"#REF!"}},{"$f":"'[1]شعبة التسزيق'!BX106","v":{"$error":"#REF!"}},{"$f":"'[1]شعبة التسزيق'!BY106","v":{"$error":"#REF!"}},{"$error":"#REF!"},"راسبة",{"$error":"#REF!"},4,null,null,null,null,"","","","","",{"$error":"#REF!"},"","","","","","",{"$error":"#REF!"},{"$error":"#REF!"},{"$error":"#REF!"},null,{"$error":"#REF!"}]
[98,598,"طالبة تسويق 98","2/2","مستجدة",722,8,12,17,37,8,5.6,14,27.6,4.5,4,8.4,16.899999999999999,9,11,13.5,33.5,9.5,18,18,45.5,{"$f":"'[1]شعبة التسزيق'!AJ107","v":{"$error":"#REF!"}},{"$f":"'[1]شعبة التسزيق'!AK107","v":{"$error":"#REF!"}},{"$f":"'[1]شعبة التسزيق'!AL107","v":{"$error":"#REF!"}},{"$error":"#REF!"},8.5,15,19,42.5,9,5,14.5,28.5,9,12,9,30,9.5,11,13,33.5,9,13,5,27,2.5,4.5,5,5,6,8,13.5,17.5,31,{"$error":"#REF!"},{"$f":"'[1]شعبة التسزيق'!BS107","v":{"$error":"#REF!"}},{"$f":"'[1]شعبة التسزيق'!BT107","v":{"$error":"#REF!"}},{"$f":"'[1]شعبة التسزيق'!BU107","v":{"$error":"#REF!"}},{"$error":"#REF!"},{"$f":"'[1]شعبة التسزيق'!BW107","v":{"$error":"#REF!"}},{"$f":"'[1]شعبة التسزيق'!BX107","v":{"$error":"#REF!"}},{"$f":"'[1]شعبة التسزيق'!BY107","v":{"$error":"#REF!"}},{"$error":"#REF!"},"راسبة",{"$error":"#REF!"},4,null,null,null,null,"","","","","",{"$error":"#REF!"},"","","","","","",{"$error":"#REF!"},{"$error":"#REF!"},{"$error":"#REF!"},null,{"$error":"#REF!"}]
[99,599,"طالبة تسويق 99","2/2","مستجدة",723,8,12.5,18,38.5,7.5,10,15.2,32.700000000000003,4.5,4.4000000000000004,8.4,17.3,8.5,9.5,9.5,27.5,9.5,20,18,47.5,{"$f":"'[1]شعبة التسزيق'!AJ108","v":{"$error":"#REF!"}},{"$f":"'[1]شعبة التسزيق'!AK108","v":{"$error":"#REF!"}},{"$f":"'[1]شعبة التسزيق'!AL108","v":{"$error":"#REF!"}},{"$error":"#REF!"},8.5,13,19,40.5,9,10.5,14.5,34,9,12,10,31,9.5,13,16,38.5,9,14,8,31,2.5,4.5,5,4,5,8,12.5,16.5,29,{"$error":"#REF!"},{"$f":"'[1]شعبة التسزيق'!BS108","v":{"$error":"#REF!"}},{"$f":"'[1]شعبة التسزيق'!BT108","v":{"$error":"#REF!"}},{"$f":"'[1]شعبة التسزيق'!BU108","v":{"$error":"#REF!"}},{"$error":"#REF!"},{"$f":"'[1]شعبة التسزيق'!BW108","v":{"$error":"#REF!"}},{"$f":"'[1]شعبة التسزيق'!BX108","v":{"$error":"#REF!"}},{"$f":"'[1]شعبة التسزيق'!BY108","v":{"$error":"#REF!"}},{"$error":"#REF!"},"راسبة",{"$error":"#REF!"},4,null,null,null,null,"","","","","",{"$error":"#REF!"},"","","","","","",{"$error":"#REF!"},{"$error":"#REF!"},{"$error":"#REF!"},null,{"$error":"#REF!"}]
[100,600,"طالبة تسويق 100","2/2","مستجدة",724,7.5,11,17,35.5,8,10.8,16.399999999999999,35.200000000000003,5,4.8,10,19.8,8.5,16.5,16,41,9.5,20,18,47.5,{"$f":"'[1]شعبة التسزيق'!AJ109","v":{"$error":"#REF!"}},{"$f":"'[1]شعبة التسزيق'!AK109","v":{"$error":"#REF!"}},{"$f":"'[1]شعبة التسزيق'!AL109","v":{"$error":"#REF!"}},{"$error":"#REF!"},8.5,11,19,38.5,9,10.5,15,34.5,9,17.5,15.5,42,9.5,12,16,37.5,9,14,12,35,3,4.5,5,5,5,8,13,17.5,30.5,{"$error":"#REF!"},{"$f":"'[1]شعبة التسزيق'!BS109","v":{"$error":"#REF!"}},{"$f":"'[1]شعبة التسزيق'!BT109","v":{"$error":"#REF!"}},{"$f":"'[1]شعبة التسزيق'!BU109","v":{"$error":"#REF!"}},{"$error":"#REF!"},{"$f":"'[1]شعبة التسزيق'!BW109","v":{"$error":"#REF!"}},{"$f":"'[1]شعبة التسزيق'!BX109","v":{"$error":"#REF!"}},{"$f":"'[1]شعبة التسزيق'!BY109","v":{"$error":"#REF!"}},{"$error":"#REF!"},"راسبة",{"$error":"#REF!"},4,null,null,null,null,"","","","","",{"$error":"#REF!"},"","","","","","",{"$error":"#REF!"},{"$error":"#REF!"},{"$error":"#REF!"},null,{"$error":"#REF!"}]
[101,601,"طالبة تسويق 101","2/2","مستجدة",725,8.5,12.5,16.5,37.5,9,9.6,15.6,34.200000000000003,4.5,3.6,9.6,17.7,8.5,12,15,35.5,9,16,18,43,{"$f":"'[1]شعبة التسزيق'!AJ110","v":{"$error":"#REF!"}},{"$f":"'[1]شعبة التسزيق'!AK110","v":{"$error":"#REF!"}},{"$f":"'[1]شعبة التسزيق'!AL110","v":{"$error":"#REF!"}},{"$error":"#REF!"},8.5,15,18,41.5,9,10.5,14.5,34,9,11,14.5,34.5,9.5,10,15,34.5,9,10,10,29,3,4.5,6,4,6,8,15,16.5,31.5,{"$error":"#REF!"},{"$f":"'[1]شعبة التسزيق'!BS110","v":{"$error":"#REF!"}},{"$f":"'[1]شعبة التسزيق'!BT110","v":{"$error":"#REF!"}},{"$f":"'[1]شعبة التسزيق'!BU110","v":{"$error":"#REF!"}},{"$error":"#REF!"},{"$f":"'[1]شعبة التسزيق'!BW110","v":{"$error":"#REF!"}},{"$f":"'[1]شعبة التسزيق'!BX110","v":{"$error":"#REF!"}},{"$f":"'[1]شعبة التسزيق'!BY110","v":{"$error":"#REF!"}},{"$error":"#REF!"},"راسبة",{"$error":"#REF!"},4,null,null,null,null,"","","","","",{"$error":"#REF!"},"","","","","","",{"$error":"#REF!"},{"$error":"#REF!"},{"$error":"#REF!"},null,{"$error":"#REF!"}]
[102,602,"طالبة تسويق 102","2/2","مستجدة",726,8,11,15.5,34.5,9,8,14.4,31.4,4.5,3.2,8.4,16.100000000000001,8.5,8.5,14.5,31.5,9,15,16,40,{"$f":"'[1]شعبة التسزيق'!AJ111","v":{"$error":"#REF!"}},{"$f":"'[1]شعبة التسزيق'!AK111","v":{"$error":"#REF!"}},{"$f":"'[1]شعبة التسزيق'!AL111","v":{"$error":"#REF!"}},{"$error":"#REF!"},8.5,11,17,36.5,9,5.5,14,28.5,9,8,10,27,9.5,11,12,32.5,9,11,11,31,2.5,4.5,5,3,5,8,12.5,15.5,28,{"$error":"#REF!"},{"$f":"'[1]شعبة التسزيق'!BS111","v":{"$error":"#REF!"}},{"$f":"'[1]شعبة التسزيق'!BT111","v":{"$error":"#REF!"}},{"$f":"'[1]شعبة التسزيق'!BU111","v":{"$error":"#REF!"}},{"$error":"#REF!"},{"$f":"'[1]شعبة التسزيق'!BW111","v":{"$error":"#REF!"}},{"$f":"'[1]شعبة التسزيق'!BX111","v":{"$error":"#REF!"}},{"$f":"'[1]شعبة التسزيق'!BY111","v":{"$error":"#REF!"}},{"$error":"#REF!"},"راسبة",{"$error":"#REF!"},4,null,null,null,null,"","","","","",{"$error":"#REF!"},"","","","","","",{"$error":"#REF!"},{"$error":"#REF!"},{"$error":"#REF!"},null,{"$error":"#REF!"}]
[103,603,"طالبة تسويق 103","2/2","مستجدة",727,7.5,11.5,15.5,34.5,7.5,5.6,13.6,26.7,4.5,5.6,9.1999999999999993,19.299999999999997,8.5,8,13.5,30,9,19,17,45,{"$f":"'[1]شعبة التسزيق'!AJ112","v":{"$error":"#REF!"}},{"$f":"'[1]شعبة التسزيق'!AK112","v":{"$error":"#REF!"}},{"$f":"'[1]شعبة التسزيق'!AL112","v":{"$error":"#REF!"}},{"$error":"#REF!"},8.5,7,18,33.5,9,7,9,25,9,8.5,8,25.5,9.5,12,12,33.5,9,8,11,28,3,4.5,5,5,6,8,14,17.5,31.5,{"$error":"#REF!"},{"$f":"'[1]شعبة التسزيق'!BS112","v":{"$error":"#REF!"}},{"$f":"'[1]شعبة التسزيق'!BT112","v":{"$error":"#REF!"}},{"$f":"'[1]شعبة التسزيق'!BU112","v":{"$error":"#REF!"}},{"$error":"#REF!"},{"$f":"'[1]شعبة التسزيق'!BW112","v":{"$error":"#REF!"}},{"$f":"'[1]شعبة التسزيق'!BX112","v":{"$error":"#REF!"}},{"$f":"'[1]شعبة التسزيق'!BY112","v":{"$error":"#REF!"}},{"$error":"#REF!"},"راسبة",{"$error":"#REF!"},4,null,null,null,null,"","","","","",{"$error":"#REF!"},"","","","","","",{"$error":"#REF!"},{"$error":"#REF!"},{"$error":"#REF!"},null,{"$error":"#REF!"}]
[104,604,"طالبة تسويق 104","3/2","مستجدة",728,8,13,16.5,37.5,7,12.4,16.399999999999999,35.799999999999997,4.5,5.2,8.8000000000000007,18.5,8,9.5,18.5,36,8,20,17,45,{"$f":"'[1]شعبة التسزيق'!AJ113","v":{"$error":"#REF!"}},{"$f":"'[1]شعبة التسزيق'!AK113","v":{"$error":"#REF!"}},{"$f":"'[1]شعبة التسزيق'!AL113","v":{"$error":"#REF!"}},{"$error":"#REF!"},8.5,17,16,41.5,9,11,16,36,8.5,11.5,13,33,8,14,14,36,9,16,7,32,3,4,5,7,5,8,13,19,32,{"$error":"#REF!"},{"$f":"'[1]شعبة التسزيق'!BS113","v":{"$error":"#REF!"}},{"$f":"'[1]شعبة التسزيق'!BT113","v":{"$error":"#REF!"}},{"$f":"'[1]شعبة التسزيق'!BU113","v":{"$error":"#REF!"}},{"$error":"#REF!"},{"$f":"'[1]شعبة التسزيق'!BW113","v":{"$error":"#REF!"}},{"$f":"'[1]شعبة التسزيق'!BX113","v":{"$error":"#REF!"}},{"$f":"'[1]شعبة التسزيق'!BY113","v":{"$error":"#REF!"}},{"$error":"#REF!"},"راسبة",{"$error":"#REF!"},4,null,null,null,null,"","","","","",{"$error":"#REF!"},"","","","","","",{"$error":"#REF!"},{"$error":"#REF!"},{"$error":"#REF!"},null,{"$error":"#REF!"}]
[105,605,"طالبة تسويق 105","3/2","مستجدة",729,8,13,18,39,9.5,11.2,16.8,37.5,5,4.8,9.1999999999999993,19,8,19.5,18.5,46,9,20,19,48,{"$f":"'[1]شعبة التسزيق'!AJ114","v":{"$error":"#REF!"}},{"$f":"'[1]شعبة التسزيق'!AK114","v":{"$error":"#REF!"}},{"$f":"'[1]شعبة التسزيق'!AL114","v":{"$error":"#REF!"}},{"$error":"#REF!"},8.5,15,19,42.5,9,8,16,33,8.5,17.5,15.5,41.5,9,14,13,36,9,16,12,37,3,4,5,8,6,8,14,20,34,{"$error":"#REF!"},{"$f":"'[1]شعبة التسزيق'!BS114","v":{"$error":"#REF!"}},{"$f":"'[1]شعبة التسزيق'!BT114","v":{"$error":"#REF!"}},{"$f":"'[1]شعبة التسزيق'!BU114","v":{"$error":"#REF!"}},{"$error":"#REF!"},{"$f":"'[1]شعبة التسزيق'!BW114","v":{"$error":"#REF!"}},{"$f":"'[1]شعبة التسزيق'!BX114","v":{"$error":"#REF!"}},{"$f":"'[1]شعبة التسزيق'!BY114","v":{"$error":"#REF!"}},{"$error":"#REF!"},"راسبة",{"$error":"#REF!"},4,null,null,null,null,"","","","","",{"$error":"#REF!"},"","","","","","",{"$error":"#REF!"},{"$error":"#REF!"},{"$error":"#REF!"},null,{"$error":"#REF!"}]
[106,606,"طالبة تسويق 106","3/2","مستجدة",730,8,11.5,14,33.5,9.5,5.6,14,29.1,5,6,8,19,8,15,19,42,8.5,20,17,45.5,{"$f":"'[1]شعبة التسزيق'!AJ115","v":{"$error":"#REF!"}},{"$f":"'[1]شعبة التسزيق'!AK115","v":{"$error":"#REF!"}},{"$f":"'[1]شعبة التسزيق'!AL115","v":{"$error":"#REF!"}},{"$error":"#REF!"},8.5,17,19,44.5,9,8,16,33,8,11.5,14.5,34,9,13,14,36,9,17,10,36,3,4,6,7,5,8,14,19,33,{"$error":"#REF!"},{"$f":"'[1]شعبة التسزيق'!BS115","v":{"$error":"#REF!"}},{"$f":"'[1]شعبة التسزيق'!BT115","v":{"$error":"#REF!"}},{"$f":"'[1]شعبة التسزيق'!BU115","v":{"$error":"#REF!"}},{"$error":"#REF!"},{"$f":"'[1]شعبة التسزيق'!BW115","v":{"$error":"#REF!"}},{"$f":"'[1]شعبة التسزيق'!BX115","v":{"$error":"#REF!"}},{"$f":"'[1]شعبة التسزيق'!BY115","v":{"$error":"#REF!"}},{"$error":"#REF!"},"راسبة",{"$error":"#REF!"},4,null,null,null,null,"","","","","",{"$error":"#REF!"},"","","","","","",{"$error":"#REF!"},{"$error":"#REF!"},{"$error":"#REF!"},null,{"$error":"#REF!"}]
[107,607,"طالبة تسويق 107","3/2","مستجدة",731,8.5,11.5,18,38,7,10.8,16.399999999999999,34.200000000000003,4.5,6,8,18.5,8,16,18.5,42.5,9,20,16,45,{"$f":"'[1]شعبة التسزيق'!AJ116","v":{"$error":"#REF!"}},{"$f":"'[1]شعبة التسزيق'!AK116","v":{"$error":"#REF!"}},{"$f":"'[1]شعبة التسزيق'!AL116","v":{"$error":"#REF!"}},{"$error":"#REF!"},8.5,17,17,42.5,9,8,12.5,29.5,8,11.5,15,34.5,8.5,12,14,34.5,9,17,12,38,3,4,6,5,5,8,14,17,31,{"$error":"#REF!"},{"$f":"'[1]شعبة التسزيق'!BS116","v":{"$error":"#REF!"}},{"$f":"'[1]شعبة التسزيق'!BT116","v":{"$error":"#REF!"}},{"$f":"'[1]شعبة التسزيق'!BU116","v":{"$error":"#REF!"}},{"$error":"#REF!"},{"$f":"'[1]شعبة التسزيق'!BW116","v":{"$error":"#REF!"}},{"$f":"'[1]شعبة التسزيق'!BX116","v":{"$error":"#REF!"}},{"$f":"'[1]شعبة التسزيق'!BY116","v":{"$error":"#REF!"}},{"$error":"#REF!"},"راسبة",{"$error":"#REF!"},4,null,null,null,null,"","","","","",{"$error":"#REF!"},"","","","","","",{"$error":"#REF!"},{"$error":"#REF!"},{"$error":"#REF!"},null,{"$error":"#REF!"}]
[108,608,"طالبة تسويق 108","3/2","مستجدة",732,8.5,10,17.5,36,7,8.4,15.6,31,4.5,2.8,8,15.3,8,13,14.5,35.5,9,18,17,44,{"$f":"'[1]شعبة التسزيق'!AJ117","v":{"$error":"#REF!"}},{"$f":"'[1]شعبة التسزيق'!AK117","v":{"$error":"#REF!"}},{"$f":"'[1]شعبة التسزيق'!AL117","v":{"$error":"#REF!"}},{"$error":"#REF!"},8.5,14,19,41.5,9,8,16,33,8.5,10.5,11.5,30.5,8.5,8,13,29.5,9,14,11,34,3,4,6,4,6,8,15,16,31,{"$error":"#REF!"},{"$f":"'[1]شعبة التسزيق'!BS117","v":{"$error":"#REF!"}},{"$f":"'[1]شعبة التسزيق'!BT117","v":{"$error":"#REF!"}},{"$f":"'[1]شعبة التسزيق'!BU117","v":{"$error":"#REF!"}},{"$error":"#REF!"},{"$f":"'[1]شعبة التسزيق'!BW117","v":{"$error":"#REF!"}},{"$f":"'[1]شعبة التسزيق'!BX117","v":{"$error":"#REF!"}},{"$f":"'[1]شعبة التسزيق'!BY117","v":{"$error":"#REF!"}},{"$error":"#REF!"},"راسبة",{"$error":"#REF!"},4,null,null,null,null,"","","","","",{"$error":"#REF!"},"","","","","","",{"$error":"#REF!"},{"$error":"#REF!"},{"$error":"#REF!"},null,{"$error":"#REF!"}]
[109,609,"طالبة تسويق 109","3/2","مستجدة",733,8.5,9,15,32.5,7,6.8,14.8,28.6,5,5.2,8.8000000000000007,19,8,11,18.5,37.5,9,18,18,45,{"$f":"'[1]شعبة التسزيق'!AJ118","v":{"$error":"#REF!"}},{"$f":"'[1]شعبة التسزيق'!AK118","v":{"$error":"#REF!"}},{"$f":"'[1]شعبة التسزيق'!AL118","v":{"$error":"#REF!"}},{"$error":"#REF!"},8.5,8,18,34.5,9,5.5,11,25.5,8.5,8,14.5,31,9,10,14,33,9,9,14,32,3,4,5,4,6,8,14,16,30,{"$error":"#REF!"},{"$f":"'[1]شعبة التسزيق'!BS118","v":{"$error":"#REF!"}},{"$f":"'[1]شعبة التسزيق'!BT118","v":{"$error":"#REF!"}},{"$f":"'[1]شعبة التسزيق'!BU118","v":{"$error":"#REF!"}},{"$error":"#REF!"},{"$f":"'[1]شعبة التسزيق'!BW118","v":{"$error":"#REF!"}},{"$f":"'[1]شعبة التسزيق'!BX118","v":{"$error":"#REF!"}},{"$f":"'[1]شعبة التسزيق'!BY118","v":{"$error":"#REF!"}},{"$error":"#REF!"},"راسبة",{"$error":"#REF!"},4,null,null,null,null,"","","","","",{"$error":"#REF!"},"","","","","","",{"$error":"#REF!"},{"$error":"#REF!"},{"$error":"#REF!"},null,{"$error":"#REF!"}]
[110,610,"طالبة تسويق 110","3/2","مستجدة",734,8.5,12,18.5,39,9,10.8,12.8,32.6,5,6.8,8.4,20.200000000000003,8,19.5,19,46.5,9.5,19,19,47.5,{"$f":"'[1]شعبة التسزيق'!AJ119","v":{"$error":"#REF!"}},{"$f":"'[1]شعبة التسزيق'!AK119","v":{"$error":"#REF!"}},{"$f":"'[1]شعبة التسزيق'!AL119","v":{"$error":"#REF!"}},{"$error":"#REF!"},8.5,13,19,40.5,9,11.5,18.5,39,8.5,19,19,46.5,9.5,15,16,40.5,9,12,11,32,3,4,6,8,5,8,14,20,34,{"$error":"#REF!"},{"$f":"'[1]شعبة التسزيق'!BS119","v":{"$error":"#REF!"}},{"$f":"'[1]شعبة التسزيق'!BT119","v":{"$error":"#REF!"}},{"$f":"'[1]شعبة التسزيق'!BU119","v":{"$error":"#REF!"}},{"$error":"#REF!"},{"$f":"'[1]شعبة التسزيق'!BW119","v":{"$error":"#REF!"}},{"$f":"'[1]شعبة التسزيق'!BX119","v":{"$error":"#REF!"}},{"$f":"'[1]شعبة التسزيق'!BY119","v":{"$error":"#REF!"}},{"$error":"#REF!"},"راسبة",{"$error":"#REF!"},4,null,null,null,null,"","","","","",{"$error":"#REF!"},"","","","","","",{"$error":"#REF!"},{"$error":"#REF!"},{"$error":"#REF!"},null,{"$error":"#REF!"}]
[111,611,"طالبة تسويق 111","3/2","مستجدة",735,8,14.5,12,34.5,7,13.2,14,34.200000000000003,4.5,4.8,7.2,16.5,8,17.5,10.5,36,9,16,15,40,{"$f":"'[1]شعبة التسزيق'!AJ120","v":{"$error":"#REF!"}},{"$f":"'[1]شعبة التسزيق'!AK120","v":{"$error":"#REF!"}},{"$f":"'[1]شعبة التسزيق'!AL120","v":{"$error":"#REF!"}},{"$error":"#REF!"},8.5,8,13,29.5,9,6,13,28,8.5,14.5,11.5,34.5,9.5,11,13,33.5,9,11,5,25,3,4,5,5,5,8,13,17,30,{"$error":"#REF!"},{"$f":"'[1]شعبة التسزيق'!BS120","v":{"$error":"#REF!"}},{"$f":"'[1]شعبة التسزيق'!BT120","v":{"$error":"#REF!"}},{"$f":"'[1]شعبة التسزيق'!BU120","v":{"$error":"#REF!"}},{"$error":"#REF!"},{"$f":"'[1]شعبة التسزيق'!BW120","v":{"$error":"#REF!"}},{"$f":"'[1]شعبة التسزيق'!BX120","v":{"$error":"#REF!"}},{"$f":"'[1]شعبة التسزيق'!BY120","v":{"$error":"#REF!"}},{"$error":"#REF!"},"راسبة",{"$error":"#REF!"},4,null,null,null,null,"","","","","",{"$error":"#REF!"},"","","","","","",{"$error":"#REF!"},{"$error":"#REF!"},{"$error":"#REF!"},null,{"$error":"#REF!"}]
[112,612,"طالبة تسويق 112","3/2","مستجدة",736,8,8.5,9.5,26,7,8,10.4,25.4,4.5,4.4000000000000004,7.6,16.5,8,1,0,9,9,18,17,44,{"$f":"'[1]شعبة التسزيق'!AJ121","v":{"$error":"#REF!"}},{"$f":"'[1]شعبة التسزيق'!AK121","v":{"$error":"#REF!"}},{"$f":"'[1]شعبة التسزيق'!AL121","v":{"$error":"#REF!"}},{"$error":"#REF!"},8.5,8,14,30.5,9,10,12,31,8.5,5,6.5,20,8.5,13,13,34.5,9,9,7,25,3,4,5,5,6,8,14,17,31,{"$error":"#REF!"},{"$f":"'[1]شعبة التسزيق'!BS121","v":{"$error":"#REF!"}},{"$f":"'[1]شعبة التسزيق'!BT121","v":{"$error":"#REF!"}},{"$f":"'[1]شعبة التسزيق'!BU121","v":{"$error":"#REF!"}},{"$error":"#REF!"},{"$f":"'[1]شعبة التسزيق'!BW121","v":{"$error":"#REF!"}},{"$f":"'[1]شعبة التسزيق'!BX121","v":{"$error":"#REF!"}},{"$f":"'[1]شعبة التسزيق'!BY121","v":{"$error":"#REF!"}},{"$error":"#REF!"},"راسبة",{"$error":"#REF!"},5,null,null,null,null,"","","","محاسبة - ","",{"$error":"#REF!"},"","","","","","",{"$error":"#REF!"},{"$error":"#REF!"},{"$error":"#REF!"},null,{"$error":"#REF!"}]
[113,613,"طالبة تسويق 113","3/2","مستجدة",737,8,9.5,12.5,30,7,13.2,11.6,31.799999999999997,4.5,5.2,8.4,18.100000000000001,8,2.5,0,10.5,9,16,14,39,{"$f":"'[1]شعبة التسزيق'!AJ122","v":{"$error":"#REF!"}},{"$f":"'[1]شعبة التسزيق'!AK122","v":{"$error":"#REF!"}},{"$f":"'[1]شعبة التسزيق'!AL122","v":{"$error":"#REF!"}},{"$error":"#REF!"},8.5,7,12,27.5,9,9,15,33,8.5,6.5,5.5,20.5,8.5,13,13,34.5,9,8,8,25,3,4,6,5,5,8,14,17,31,{"$error":"#REF!"},{"$f":"'[1]شعبة التسزيق'!BS122","v":{"$error":"#REF!"}},{"$f":"'[1]شعبة التسزيق'!BT122","v":{"$error":"#REF!"}},{"$f":"'[1]شعبة التسزيق'!BU122","v":{"$error":"#REF!"}},{"$error":"#REF!"},{"$f":"'[1]شعبة التسزيق'!BW122","v":{"$error":"#REF!"}},{"$f":"'[1]شعبة التسزيق'!BX122","v":{"$error":"#REF!"}},{"$f":"'[1]شعبة التسزيق'!BY122","v":{"$error":"#REF!"}},{"$error":"#REF!"},"راسبة",{"$error":"#REF!"},5,null,null,null,null,"","","","محاسبة - ","",{"$error":"#REF!"},"","","","","","",{"$error":"#REF!"},{"$error":"#REF!"},{"$error":"#REF!"},null,{"$error":"#REF!"}]
[114,614,"طالبة تسويق 114","3/2","مستجدة",738,8.5,11.5,12,32,7,10.8,10.8,28.6,4.5,6,8,18.5,8,1,5,14,8.5,15,13,36.5,{"$f":"'[1]شعبة التسزيق'!AJ123","v":{"$error":"#REF!"}},{"$f":"'[1]شعبة التسزيق'!AK123","v":{"$error":"#REF!"}},{"$f":"'[1]شعبة التسزيق'!AL123","v":{"$error":"#REF!"}},{"$error":"#REF!"},8.5,6,14,28.5,9,9,11.5,29.5,8.5,9,7,24.5,8.5,11,12,31.5,9,11,5,25,3,4,5,4,5,8,13,16,29,{"$error":"#REF!"},{"$f":"'[1]شعبة التسزيق'!BS123","v":{"$error":"#REF!"}},{"$f":"'[1]شعبة التسزيق'!BT123","v":{"$error":"#REF!"}},{"$f":"'[1]شعبة التسزيق'!BU123","v":{"$error":"#REF!"}},{"$error":"#REF!"},{"$f":"'[1]شعبة التسزيق'!BW123","v":{"$error":"#REF!"}},{"$f":"'[1]شعبة التسزيق'!BX123","v":{"$error":"#REF!"}},{"$f":"'[1]شعبة التسزيق'!BY123","v":{"$error":"#REF!"}},{"$error":"#REF!"},"راسبة",{"$error":"#REF!"},5,null,null,null,null,"","","","محاسبة - ","",{"$error":"#REF!"},"","","","","","",{"$error":"#REF!"},{"$error":"#REF!"},{"$error":"#REF!"},null,{"$error":"#REF!"}]
[115,615,"طالبة تسويق 115","3/2","مستجدة",739,8.5,7.5,12,28,8.5,9.6,8.4,26.5,4.5,5.6,6.8,16.899999999999999,8,4,0.5,12.5,8.5,16,15,39.5,{"$f":"'[1]شعبة التسزيق'!AJ124","v":{"$error":"#REF!"}},{"$f":"'[1]شعبة التسزيق'!AK124","v":{"$error":"#REF!"}},{"$f":"'[1]شعبة التسزيق'!AL124","v":{"$error":"#REF!"}},{"$error":"#REF!"},8.5,7,16,31.5,9,11,11.5,31.5,8.5,7,6,21.5,9,12,14,35,9,8,8,25,3,4,6,4,6,8,15,16,31,{"$error":"#REF!"},{"$f":"'[1]شعبة التسزيق'!BS124","v":{"$error":"#REF!"}},{"$f":"'[1]شعبة التسزيق'!BT124","v":{"$error":"#REF!"}},{"$f":"'[1]شعبة التسزيق'!BU124","v":{"$error":"#REF!"}},{"$error":"#REF!"},{"$f":"'[1]شعبة التسزيق'!BW124","v":{"$error":"#REF!"}},{"$f":"'[1]شعبة التسزيق'!BX124","v":{"$error":"#REF!"}},{"$f":"'[1]شعبة التسزيق'!BY124","v":{"$error":"#REF!"}},{"$error":"#REF!"},"راسبة",{"$error":"#REF!"},5,null,null,null,null,"","","","محاسبة - ","",{"$error":"#REF!"},"","","","","","",{"$error":"#REF!"},{"$error":"#REF!"},{"$error":"#REF!"},null,{"$error":"#REF!"}]
[116,616,"طالبة تسويق 116","3/2","مستجدة",740,8.5,10.5,12.5,31.5,8.5,11.2,10.8,30.5,4.5,6.4,7.6,18.5,8,5,0,13,9,16,14,39,{"$f":"'[1]شعبة التسزيق'!AJ125","v":{"$error":"#REF!"}},{"$f":"'[1]شعبة التسزيق'!AK125","v":{"$error":"#REF!"}},{"$f":"'[1]شعبة التسزيق'!AL125","v":{"$error":"#REF!"}},{"$error":"#REF!"},8.5,7,15,30.5,9,11,11,31,8.5,6.5,5,20,9.5,14,14,37.5,9,11,5,25,3,4,6,4,6,8,15,16,31,{"$error":"#REF!"},{"$f":"'[1]شعبة التسزيق'!BS125","v":{"$error":"#REF!"}},{"$f":"'[1]شعبة التسزيق'!BT125","v":{"$error":"#REF!"}},{"$f":"'[1]شعبة التسزيق'!BU125","v":{"$error":"#REF!"}},{"$error":"#REF!"},{"$f":"'[1]شعبة التسزيق'!BW125","v":{"$error":"#REF!"}},{"$f":"'[1]شعبة التسزيق'!BX125","v":{"$error":"#REF!"}},{"$f":"'[1]شعبة التسزيق'!BY125","v":{"$error":"#REF!"}},{"$error":"#REF!"},"راسبة",{"$error":"#REF!"},5,null,null,null,null,"","","","محاسبة - ","",{"$error":"#REF!"},"","","","","","",{"$error":"#REF!"},{"$error":"#REF!"},{"$error":"#REF!"},null,{"$error":"#REF!"}]
[117,617,"طالبة تسويق 117","3/2","مستجدة",741,8.5,11.5,11,31,8.5,10,10.8,29.3,5,5.2,7.6,17.799999999999997,8,0,0.5,8.5,9,15,13,37,{"$f":"'[1]شعبة التسزيق'!AJ126","v":{"$error":"#REF!"}},{"$f":"'[1]شعبة التسزيق'!AK126","v":{"$error":"#REF!"}},{"$f":"'[1]شعبة التسزيق'!AL126","v":{"$error":"#REF!"}},{"$error":"#REF!"},8.5,9,16,33.5,9,9,12.5,30.5,8.5,11.5,6.5,26.5,8.5,13,12,33.5,9,9,7,25,3,4,6,4,5,8,14,16,30,{"$error":"#REF!"},{"$f":"'[1]شعبة التسزيق'!BS126","v":{"$error":"#REF!"}},{"$f":"'[1]شعبة التسزيق'!BT126","v":{"$error":"#REF!"}},{"$f":"'[1]شعبة التسزيق'!BU126","v":{"$error":"#REF!"}},{"$error":"#REF!"},{"$f":"'[1]شعبة التسزيق'!BW126","v":{"$error":"#REF!"}},{"$f":"'[1]شعبة التسزيق'!BX126","v":{"$error":"#REF!"}},{"$f":"'[1]شعبة التسزيق'!BY126","v":{"$error":"#REF!"}},{"$error":"#REF!"},"راسبة",{"$error":"#REF!"},5,null,null,null,null,"","","","محاسبة - ","",{"$error":"#REF!"},"","","","","","",{"$error":"#REF!"},{"$error":"#REF!"},{"$error":"#REF!"},null,{"$error":"#REF!"}]
[118,618,"طالبة تسويق 118","3/2","مستجدة",742,8.5,8,11,27.5,7.5,5.2,7.6,20.299999999999997,4.5,5.2,7.2,16.899999999999999,8,4.5,1.5,14,9,19,13,41,{"$f":"'[1]شعبة التسزيق'!AJ127","v":{"$error":"#REF!"}},{"$f":"'[1]شعبة التسزيق'!AK127","v":{"$error":"#REF!"}},{"$f":"'[1]شعبة التسزيق'!AL127","v":{"$error":"#REF!"}},{"$error":"#REF!"},8.5,6,12,26.5,9,8,13,30,8.5,3,8.5,20,9,12,11,32,9,10,7,26,3,4,6,4,6,7,15,15,30,{"$error":"#REF!"},{"$f":"'[1]شعبة التسزيق'!BS127","v":{"$error":"#REF!"}},{"$f":"'[1]شعبة التسزيق'!BT127","v":{"$error":"#REF!"}},{"$f":"'[1]شعبة التسزيق'!BU127","v":{"$error":"#REF!"}},{"$error":"#REF!"},{"$f":"'[1]شعبة التسزيق'!BW127","v":{"$error":"#REF!"}},{"$f":"'[1]شعبة التسزيق'!BX127","v":{"$error":"#REF!"}},{"$f":"'[1]شعبة التسزيق'!BY127","v":{"$error":"#REF!"}},{"$error":"#REF!"},"راسبة",{"$error":"#REF!"},5,null,null,null,null,"","","","محاسبة - ","",{"$error":"#REF!"},"","","","","","",{"$error":"#REF!"},{"$error":"#REF!"},{"$error":"#REF!"},null,{"$error":"#REF!"}]
[119,619,"طالبة تسويق 119","3/2","مستجدة",743,8.5,12,13,33.5,9,12,10.8,31.8,4.5,6.4,8,18.899999999999999,8,15,6,29,9,19,12,40,{"$f":"'[1]شعبة التسزيق'!AJ128","v":{"$error":"#REF!"}},{"$f":"'[1]شعبة التسزيق'!AK128","v":{"$error":"#REF!"}},{"$f":"'[1]شعبة التسزيق'!AL128","v":{"$error":"#REF!"}},{"$error":"#REF!"},8.5,9,16,33.5,9,9.5,13.5,32,8.5,16,12,36.5,8.5,14,12,34.5,9,12,9,30,3,4,6,3,5,8,14,15,29,{"$error":"#REF!"},{"$f":"'[1]شعبة التسزيق'!BS128","v":{"$error":"#REF!"}},{"$f":"'[1]شعبة التسزيق'!BT128","v":{"$error":"#REF!"}},{"$f":"'[1]شعبة التسزيق'!BU128","v":{"$error":"#REF!"}},{"$error":"#REF!"},{"$f":"'[1]شعبة التسزيق'!BW128","v":{"$error":"#REF!"}},{"$f":"'[1]شعبة التسزيق'!BX128","v":{"$error":"#REF!"}},{"$f":"'[1]شعبة التسزيق'!BY128","v":{"$error":"#REF!"}},{"$error":"#REF!"},"راسبة",{"$error":"#REF!"},4,null,null,null,null,"","","","","",{"$error":"#REF!"},"","","","","","",{"$error":"#REF!"},{"$error":"#REF!"},{"$error":"#REF!"},null,{"$error":"#REF!"}]
[120,620,"طالبة تسويق 120","3/2","مستجدة",744,8.5,11,10.5,30,7,7.6,11.6,26.2,4.5,6,6.4,16.899999999999999,8,3,0,11,8.5,18,9,35.5,{"$f":"'[1]شعبة التسزيق'!AJ129","v":{"$error":"#REF!"}},{"$f":"'[1]شعبة التسزيق'!AK129","v":{"$error":"#REF!"}},{"$f":"'[1]شعبة التسزيق'!AL129","v":{"$error":"#REF!"}},{"$error":"#REF!"},8.5,12,16,36.5,9,10,15,34,9,12.5,7,28.5,9,12,12,33,9,7,9,25,3,4,6,7,6,6,15,17,32,{"$error":"#REF!"},{"$f":"'[1]شعبة التسزيق'!BS129","v":{"$error":"#REF!"}},{"$f":"'[1]شعبة التسزيق'!BT129","v":{"$error":"#REF!"}},{"$f":"'[1]شعبة التسزيق'!BU129","v":{"$error":"#REF!"}},{"$error":"#REF!"},{"$f":"'[1]شعبة التسزيق'!BW129","v":{"$error":"#REF!"}},{"$f":"'[1]شعبة التسزيق'!BX129","v":{"$error":"#REF!"}},{"$f":"'[1]شعبة التسزيق'!BY129","v":{"$error":"#REF!"}},{"$error":"#REF!"},"راسبة",{"$error":"#REF!"},5,null,null,null,null,"","","","محاسبة - ","",{"$error":"#REF!"},"","","","","","",{"$error":"#REF!"},{"$error":"#REF!"},{"$error":"#REF!"},null,{"$error":"#REF!"}]
[121,621,"طالبة تسويق 121","3/2","مستجدة",745,8,7.5,9.5,25,8.5,5.6,10.8,24.9,5,5.6,8,18.600000000000001,8,16.5,16,40.5,8.5,18,13,39.5,{"$f":"'[1]شعبة التسزيق'!AJ130","v":{"$error":"#REF!"}},{"$f":"'[1]شعبة التسزيق'!AK130","v":{"$error":"#REF!"}},{"$f":"'[1]شعبة التسزيق'!AL130","v":{"$error":"#REF!"}},{"$error":"#REF!"},8.5,5,15,28.5,9,11,14,34,9,13,10.5,32.5,9,11,14,34,9,10,10,29,3,4,6,7,5,8,14,19,33,{"$error":"#REF!"},{"$f":"'[1]شعبة التسزيق'!BS130","v":{"$error":"#REF!"}},{"$f":"'[1]شعبة التسزيق'!BT130","v":{"$error":"#REF!"}},{"$f":"'[1]شعبة التسزيق'!BU130","v":{"$error":"#REF!"}},{"$error":"#REF!"},{"$f":"'[1]شعبة التسزيق'!BW130","v":{"$error":"#REF!"}},{"$f":"'[1]شعبة التسزيق'!BX130","v":{"$error":"#REF!"}},{"$f":"'[1]شعبة التسزيق'!BY130","v":{"$error":"#REF!"}},{"$error":"#REF!"},"راسبة",{"$error":"#REF!"},4,null,null,null,null,"","","","","",{"$error":"#REF!"},"","","","","","",{"$error":"#REF!"},{"$error":"#REF!"},{"$error":"#REF!"},null,{"$error":"#REF!"}]
[122,622,"طالبة تسويق 122","3/2","مستجدة",746,8.5,7.5,9.5,25.5,7.5,9.6,10.8,27.900000000000002,4.5,5.6,7.2,17.3,8,2.5,5.5,16,9,15,12,36,{"$f":"'[1]شعبة التسزيق'!AJ131","v":{"$error":"#REF!"}},{"$f":"'[1]شعبة التسزيق'!AK131","v":{"$error":"#REF!"}},{"$f":"'[1]شعبة التسزيق'!AL131","v":{"$error":"#REF!"}},{"$error":"#REF!"},8.5,9,13,30.5,9,11,9,29,9,9.5,9,27.5,9,12,13,34,9,10,9,28,3,4,5,6,5,7,13,17,30,{"$error":"#REF!"},{"$f":"'[1]شعبة التسزيق'!BS131","v":{"$error":"#REF!"}},{"$f":"'[1]شعبة التسزيق'!BT131","v":{"$error":"#REF!"}},{"$f":"'[1]شعبة التسزيق'!BU131","v":{"$error":"#REF!"}},{"$error":"#REF!"},{"$f":"'[1]شعبة التسزيق'!BW131","v":{"$error":"#REF!"}},{"$f":"'[1]شعبة التسزيق'!BX131","v":{"$error":"#REF!"}},{"$f":"'[1]شعبة التسزيق'!BY131","v":{"$error":"#REF!"}},{"$error":"#REF!"},"راسبة",{"$error":"#REF!"},5,null,null,null,null,"","","","محاسبة - ","",{"$error":"#REF!"},"","","","","","",{"$error":"#REF!"},{"$error":"#REF!"},{"$error":"#REF!"},null,{"$error":"#REF!"}]
[123,623,"طالبة تسويق 123","3/2","مستجدة",747,8,11.5,13.5,33,8,9.6,14.8,32.400000000000006,4.5,6.4,7.6,18.5,8,14,13.5,35.5,9,16,15,40,{"$f":"'[1]شعبة التسزيق'!AJ132","v":{"$error":"#REF!"}},{"$f":"'[1]شعبة التسزيق'!AK132","v":{"$error":"#REF!"}},{"$f":"'[1]شعبة التسزيق'!AL132","v":{"$error":"#REF!"}},{"$error":"#REF!"},8.5,12,16,36.5,9,12,16,37,8.5,13.5,12.5,34.5,9,13,12,34,9,9,9,27,3,4,5,7,6,8,14,19,33,{"$error":"#REF!"},{"$f":"'[1]شعبة التسزيق'!BS132","v":{"$error":"#REF!"}},{"$f":"'[1]شعبة التسزيق'!BT132","v":{"$error":"#REF!"}},{"$f":"'[1]شعبة التسزيق'!BU132","v":{"$error":"#REF!"}},{"$error":"#REF!"},{"$f":"'[1]شعبة التسزيق'!BW132","v":{"$error":"#REF!"}},{"$f":"'[1]شعبة التسزيق'!BX132","v":{"$error":"#REF!"}},{"$f":"'[1]شعبة التسزيق'!BY132","v":{"$error":"#REF!"}},{"$error":"#REF!"},"راسبة",{"$error":"#REF!"},4,null,null,null,null,"","","","","",{"$error":"#REF!"},"","","","","","",{"$error":"#REF!"},{"$error":"#REF!"},{"$error":"#REF!"},null,{"$error":"#REF!"}]
[124,624,"طالبة تسويق 124","3/2","مستجدة",748,8.5,12,13,33.5,8,9.6,13.2,30.8,4.5,6.8,7.2,18.5,8,11.5,5.5,25,9,17,15,41,{"$f":"'[1]شعبة التسزيق'!AJ133","v":{"$error":"#REF!"}},{"$f":"'[1]شعبة التسزيق'!AK133","v":{"$error":"#REF!"}},{"$f":"'[1]شعبة التسزيق'!AL133","v":{"$error":"#REF!"}},{"$error":"#REF!"},8.5,12,16,36.5,9,10,15.5,34.5,8.5,11.5,10.5,30.5,8.5,13,12,33.5,9,9,9,27,3,4,4,7,5,8,12,19,31,{"$error":"#REF!"},{"$f":"'[1]شعبة التسزيق'!BS133","v":{"$error":"#REF!"}},{"$f":"'[1]شعبة التسزيق'!BT133","v":{"$error":"#REF!"}},{"$f":"'[1]شعبة التسزيق'!BU133","v":{"$error":"#REF!"}},{"$error":"#REF!"},{"$f":"'[1]شعبة التسزيق'!BW133","v":{"$error":"#REF!"}},{"$f":"'[1]شعبة التسزيق'!BX133","v":{"$error":"#REF!"}},{"$f":"'[1]شعبة التسزيق'!BY133","v":{"$error":"#REF!"}},{"$error":"#REF!"},"راسبة",{"$error":"#REF!"},4,null,null,null,null,"","","","","",{"$error":"#REF!"},"","","","","","",{"$error":"#REF!"},{"$error":"#REF!"},{"$error":"#REF!"},null,{"$error":"#REF!"}]
[125,625,"طالبة تسويق 125","3/2","مستجدة",749,8.5,11.5,16,36,9.5,15.6,18,43.1,5,7.2,9.1999999999999993,21.4,8,12.5,13.5,34,9.5,19,19,47.5,{"$f":"'[1]شعبة التسزيق'!AJ134","v":{"$error":"#REF!"}},{"$f":"'[1]شعبة التسزيق'!AK134","v":{"$error":"#REF!"}},{"$f":"'[1]شعبة التسزيق'!AL134","v":{"$error":"#REF!"}},{"$error":"#REF!"},8.5,18,14,40.5,9,12.5,11.5,33,9,17.5,13.5,40,9.5,13,18,40.5,9,14,17,40,3,4,6,5,5,7,14,16,30,{"$error":"#REF!"},{"$f":"'[1]شعبة التسزيق'!BS134","v":{"$error":"#REF!"}},{"$f":"'[1]شعبة التسزيق'!BT134","v":{"$error":"#REF!"}},{"$f":"'[1]شعبة التسزيق'!BU134","v":{"$error":"#REF!"}},{"$error":"#REF!"},{"$f":"'[1]شعبة التسزيق'!BW134","v":{"$error":"#REF!"}},{"$f":"'[1]شعبة التسزيق'!BX134","v":{"$error":"#REF!"}},{"$f":"'[1]شعبة التسزيق'!BY134","v":{"$error":"#REF!"}},{"$error":"#REF!"},"راسبة",{"$error":"#REF!"},4,null,null,null,null,"","","","","",{"$error":"#REF!"},"","","","","","",{"$error":"#REF!"},{"$error":"#REF!"},{"$error":"#REF!"},null,{"$error":"#REF!"}]
[126,626,"طالبة تسويق 126","3/2","مستجدة",750,8.5,14,13,35.5,8.5,12.8,12.4,33.700000000000003,4.5,6.4,8.8000000000000007,19.700000000000003,8,7.5,9.5,25,8.5,17,13,38.5,{"$f":"'[1]شعبة التسزيق'!AJ135","v":{"$error":"#REF!"}},{"$f":"'[1]شعبة التسزيق'!AK135","v":{"$error":"#REF!"}},{"$f":"'[1]شعبة التسزيق'!AL135","v":{"$error":"#REF!"}},{"$error":"#REF!"},8.5,12,10,30.5,9,15,13,37,8.5,13.5,5.5,27.5,9,13,14,36,9,9,14,32,3,4,5,3,6,8,14,15,29,{"$error":"#REF!"},{"$f":"'[1]شعبة التسزيق'!BS135","v":{"$error":"#REF!"}},{"$f":"'[1]شعبة التسزيق'!BT135","v":{"$error":"#REF!"}},{"$f":"'[1]شعبة التسزيق'!BU135","v":{"$error":"#REF!"}},{"$error":"#REF!"},{"$f":"'[1]شعبة التسزيق'!BW135","v":{"$error":"#REF!"}},{"$f":"'[1]شعبة التسزيق'!BX135","v":{"$error":"#REF!"}},{"$f":"'[1]شعبة التسزيق'!BY135","v":{"$error":"#REF!"}},{"$error":"#REF!"},"راسبة",{"$error":"#REF!"},4,null,null,null,null,"","","","","",{"$error":"#REF!"},"","","","","","",{"$error":"#REF!"},{"$error":"#REF!"},{"$error":"#REF!"},null,{"$error":"#REF!"}]
[127,627,"طالبة تسويق 127","3/2","مستجدة",751,8.5,13.5,14,36,8.5,14.8,16.8,40.1,4.5,5.6,9.1999999999999993,19.299999999999997,8,7.5,9.5,25,8,17,14,39,{"$f":"'[1]شعبة التسزيق'!AJ136","v":{"$error":"#REF!"}},{"$f":"'[1]شعبة التسزيق'!AK136","v":{"$error":"#REF!"}},{"$f":"'[1]شعبة التسزيق'!AL136","v":{"$error":"#REF!"}},{"$error":"#REF!"},8.5,15,14,37.5,9,17.5,17,43.5,8.5,12,9,29.5,9,8,18,35,9,11,15,35,3,4,5,3,6,8,14,15,29,{"$error":"#REF!"},{"$f":"'[1]شعبة التسزيق'!BS136","v":{"$error":"#REF!"}},{"$f":"'[1]شعبة التسزيق'!BT136","v":{"$error":"#REF!"}},{"$f":"'[1]شعبة التسزيق'!BU136","v":{"$error":"#REF!"}},{"$error":"#REF!"},{"$f":"'[1]شعبة التسزيق'!BW136","v":{"$error":"#REF!"}},{"$f":"'[1]شعبة التسزيق'!BX136","v":{"$error":"#REF!"}},{"$f":"'[1]شعبة التسزيق'!BY136","v":{"$error":"#REF!"}},{"$error":"#REF!"},"راسبة",{"$error":"#REF!"},4,null,null,null,null,"","","","","",{"$error":"#REF!"},"","","","","","",{"$error":"#REF!"},{"$error":"#REF!"},{"$error":"#REF!"},null,{"$error":"#REF!"}]
[128,628,"طالبة تسويق 128","3/2","مستجدة",752,8.5,11,11.5,31,8.5,9.6,18,36.1,4.5,7.6,9.6,21.7,8,10,7,25,9,17,15,41,{"$f":"'[1]شعبة التسزيق'!AJ137","v":{"$error":"#REF!"}},{"$f":"'[1]شعبة التسزيق'!AK137","v":{"$error":"#REF!"}},{"$f":"'[1]شعبة التسزيق'!AL137","v":{"$error":"#REF!"}},{"$error":"#REF!"},8.5,9,9,26.5,9,8,16,33,8.5,12.5,7,28,9,15,19,43,9,6,10,25,3,4,5,5,6,7,14,16,30,{"$error":"#REF!"},{"$f":"'[1]شعبة التسزيق'!BS137","v":{"$error":"#REF!"}},{"$f":"'[1]شعبة التسزيق'!BT137","v":{"$error":"#REF!"}},{"$f":"'[1]شعبة التسزيق'!BU137","v":{"$error":"#REF!"}},{"$error":"#REF!"},{"$f":"'[1]شعبة التسزيق'!BW137","v":{"$error":"#REF!"}},{"$f":"'[1]شعبة التسزيق'!BX137","v":{"$error":"#REF!"}},{"$f":"'[1]شعبة التسزيق'!BY137","v":{"$error":"#REF!"}},{"$error":"#REF!"},"راسبة",{"$error":"#REF!"},4,null,null,null,null,"","","","","",{"$error":"#REF!"},"","","","","","",{"$error":"#REF!"},{"$error":"#REF!"},{"$error":"#REF!"},null,{"$error":"#REF!"}]
[129,629,"طالبة تسويق 129","3/2","مستجدة",753,8.5,10.5,9.5,28.5,8.5,11.2,16.399999999999999,{"$f":"SUM(K138:M138)","v":36.099999999999994},4.5,8,8.8000000000000007,{"$f":"SUM(O138:Q138)","v":21.3},8,4.5,12.5,{"$f":"SUM(S138:U138)","v":25},9.5,17,12,{"$f":"SUM(W138:Y138)","v":38.5},{"$f":"'[1]شعبة التسزيق'!AJ138","v":{"$error":"#REF!"}},{"$f":"'[1]شعبة التسزيق'!AK138","v":{"$error":"#REF!"}},{"$f":"'[1]شعبة التسزيق'!AL138","v":{"$error":"#REF!"}},{"$f":"SUM(AA138:AC138)","v":{"$error":"#REF!"}},8.5,7,10,{"$f":"SUM(AE138:AG138)","v":25.5},9,12,11.5,{"$f":"SUM(AI138:AK138)","v":32.5},8.5,10,5.5,{"$f":"SUM(AM138:AO138)","v":24},9,13,17,{"$f":"SUM(AQ138:AS138)","v":39},9,10,15,{"$f":"SUM(AU138:AW138)","v":34},3,4,5,5,6,7,{"$f":"IF($C138=\"\",\"\",SUM(AY138,BA138,BC138))","v":14},16,{"$f":"IF($C138=\"\",\"\",SUM(BE138,BF138))","v":30},{"$f":"IF($C138=\"\",\"\",SUM(J138,N138,R138,V138,Z138,AD138,AH138,AL138,AP138,AT138,AX138,BG138))","v":{"$error":"#REF!"}},{"$f":"'[1]شعبة التسزيق'!BS138","v":{"$error":"#REF!"}},{"$f":"'[1]شعبة التسزيق'!BT138","v":{"$error":"#REF!"}},{"$f":"'[1]شعبة التسزيق'!BU138","v":{"$error":"#REF!"}},{"$f":"SUM(BI138:BK138)","v":{"$error":"#REF!"}},{"$f":"'[1]شعبة التسزيق'!BW138","v":{"$error":"#REF!"}},{"$f":"'[1]شعبة التسزيق'!BX138","v":{"$error":"#REF!"}},{"$f":"'[1]شعبة التسزيق'!BY138","v":{"$error":"#REF!"}},{"$f":"SUM(BM138:BO138)","v":{"$error":"#REF!"}},{"$f":"IF($C138=\"\",\"\",IF(BS138=0,\"ناجحة\",IF(BS138<=2,\"دورثان\",\"راسبة\")))","v":"راسبة"},{"$f":"IF($C138=\"\",\"\",IF(BS138=0,\"ومنقولة للصف الثالث\",IF(BS138>0,\"فى  :  \"&CONCATENATE(BX138,BY138,BZ138,CA138,CB138,CC138,CD138,CE138,CF138,CG138,CH138,CI138,CJ138,CK138,CL138),CONCATENATE(BX138,BY138,BZ138,CA138,CB138,CC138,CD138,CE138,CF138,CG138,CH138,CI138,CJ138,CK138,CL138))))","v":{"$error":"#REF!"}},{"$f":"IF($C138=\"\",\"\",COUNTA($BX138:$CL138)-COUNTBLANK($BX138:$CL138))","v":4},null,null,null,null,{"$f":"IF($C138=\"\",\"\",IF(OR(I138<$I$9,I138=\"غ\",J138<$J$9),$BX$5&\" - \",\"\"))","v":""},{"$f":"IF($C138=\"\",\"\",IF(OR(M138<$M$9,M138=\"غ\",N138<$N$9),$BY$5&\" - \",\"\"))","v":""},{"$f":"IF($C138=\"\",\"\",IF(OR(Q138<$Q$9,Q138=\"غ\",R138<$R$9),BZ$5&\" - \",\"\"))","v":""},{"$f":"IF($C138=\"\",\"\",IF(OR(U138<$U$9,U138=\"غ\",V138<$V$9),CA$5&\" - \",\"\"))","v":""},{"$f":"IF($C138=\"\",\"\",IF(OR(Y138<$Y$9,Y138=\"غ\",Z138<$Z$9),CB$5&\" - \",\"\"))","v":""},{"$f":"IF($C138=\"\",\"\",IF(OR(AC138<$AC$9,AC138=\"غ\",AD138<$AD$9),CC$5&\" - \",\"\"))","v":{"$error":"#REF!"}},{"$f":"IF($C138=\"\",\"\",IF(OR(AG138<$AG$9,AG138=\"غ\",AH138<$AH$9),CD$5&\" - \",\"\"))","v":""},{"$f":"IF($C138=\"\",\"\",IF(OR(AK138<$AK$9,AK138=\"غ\",AL138<$AL$9),CE$5&\" - \",\"\"))","v":""},{"$f":"IF($C138=\"\",\"\",IF(OR(AO138<$AO$9,AO138=\"غ\",AP138<$AP$9),CF$5&\" - \",\"\"))","v":""},{"$f":"IF($C138=\"\",\"\",IF(OR(AS138<$AS$9,AS138=\"غ\",AT138<$AT$9),CG$5&\" - \",\"\"))","v":""},{"$f":"IF($C138=\"\",\"\",IF(OR(AW138<$AW$9,AW138=\"غ\",AX138<$AX$9),CH$5&\" - \",\"\"))","v":""},{"$f":"IF($C138=\"\",\"\",IF(OR(BE138<$BE$9,BE138=\"غ\",BF138<$BF$9,BF138=\"غ\",BG138<$BG$9),CI$5&\" - \",\"\"))","v":""},{"$f":"IF($C138=\"\",\"\",IF(OR(BK138<$BK$9,BK138=\"غ\",BL138<$BL$9),CJ$5&\" - \",\"\"))","v":{"$error":"#REF!"}},{"$f":"IF($C138=\"\",\"\",IF(OR(BO138<$BO$9,BO138=\"غ\",BP138<$BP$9),CK$5&\" - \",\"\"))","v":{"$error":"#REF!"}},{"$f":"IF($C138=\"\",\"\",IF(BH138<$BH$9,CL$5,\"\"))","v":{"$error":"#REF!"}},null,{"$f":"IF($C138=\"\",\"\",SUM(H138,L138,P138,T138,X138,AB138,AF138,AJ138,AN138,AR138,AV138,BA138,BB138))","v":{"$error":"#REF!"}}]
[130,630,"طالبة تسويق 130","3/2","مستجدة",754,8.5,10.5,10.5,{"$f":"SUM(G139:I139)","v":29.5},9,12.8,14,35.799999999999997,4.5,6.8,8.4,19.700000000000003,8,0,7.5,15.5,9,16,13,38,{"$f":"'[1]شعبة التسزيق'!AJ139","v":{"$error":"#REF!"}},{"$f":"'[1]شعبة التسزيق'!AK139","v":{"$error":"#REF!"}},{"$f":"'[1]شعبة التسزيق'!AL139","v":{"$error":"#REF!"}},{"$error":"#REF!"},8.5,11,8,27.5,9,7,14.5,30.5,9,7,5,21,8.5,14,13,35.5,9,8,16,33,3,4,6,5.5,5,7,14,16.5,30.5,{"$error":"#REF!"},{"$f":"'[1]شعبة التسزيق'!BS139","v":{"$error":"#REF!"}},{"$f":"'[1]شعبة التسزيق'!BT139","v":{"$error":"#REF!"}},{"$f":"'[1]شعبة التسزيق'!BU139","v":{"$error":"#REF!"}},{"$error":"#REF!"},{"$f":"'[1]شعبة التسزيق'!BW139","v":{"$error":"#REF!"}},{"$f":"'[1]شعبة التسزيق'!BX139","v":{"$error":"#REF!"}},{"$f":"'[1]شعبة التسزيق'!BY139","v":{"$error":"#REF!"}},{"$error":"#REF!"},"راسبة",{"$error":"#REF!"},5,null,null,null,null,"","","","محاسبة - ","",{"$error":"#REF!"},"","","","","","",{"$error":"#REF!"},{"$error":"#REF!"},{"$error":"#REF!"},null,{"$error":"#REF!"}]
[131,631,"طالبة تسويق 131","3/2","مستجدة",755,8.5,11,12.5,32,7,12.4,14.4,33.799999999999997,4.5,7.6,8.4,20.5,8,8,10,26,9,17,16,42,{"$f":"'[1]شعبة التسزيق'!AJ140","v":{"$error":"#REF!"}},{"$f":"'[1]شعبة التسزيق'!AK140","v":{"$error":"#REF!"}},{"$f":"'[1]شعبة التسزيق'!AL140","v":{"$error":"#REF!"}},{"$error":"#REF!"},8.5,9,18,35.5,9,12,13.5,34.5,8.5,6,7,21.5,9,10,16,35,9,5,12,26,3,4,4,5,6,7,13,16,29,{"$error":"#REF!"},{"$f":"'[1]شعبة التسزيق'!BS140","v":{"$error":"#REF!"}},{"$f":"'[1]شعبة التسزيق'!BT140","v":{"$error":"#REF!"}},{"$f":"'[1]شعبة التسزيق'!BU140","v":{"$error":"#REF!"}},{"$error":"#REF!"},{"$f":"'[1]شعبة التسزيق'!BW140","v":{"$error":"#REF!"}},{"$f":"'[1]شعبة التسزيق'!BX140","v":{"$error":"#REF!"}},{"$f":"'[1]شعبة التسزيق'!BY140","v":{"$error":"#REF!"}},{"$error":"#REF!"},"راسبة",{"$error":"#REF!"},4,null,null,null,null,"","","","","",{"$error":"#REF!"},"","","","","","",{"$error":"#REF!"},{"$error":"#REF!"},{"$error":"#REF!"},null,{"$error":"#REF!"}]
[132,632,"طالبة تسويق 132","3/2","مستجدة",756,8.5,13.5,13,35,8,10,15.2,33.200000000000003,4.5,6.8,8.8000000000000007,20.100000000000001,8,6.5,11.5,26,9,19,16,44,{"$f":"'[1]شعبة التسزيق'!AJ141","v":{"$error":"#REF!"}},{"$f":"'[1]شعبة التسزيق'!AK141","v":{"$error":"#REF!"}},{"$f":"'[1]شعبة التسزيق'!AL141","v":{"$error":"#REF!"}},{"$error":"#REF!"},8.5,13,17,38.5,9,12,17,38,8.5,6.5,10,25,9,11,16,36,9,8,11,28,3,4,6,3,5,8,14,15,29,{"$error":"#REF!"},{"$f":"'[1]شعبة التسزيق'!BS141","v":{"$error":"#REF!"}},{"$f":"'[1]شعبة التسزيق'!BT141","v":{"$error":"#REF!"}},{"$f":"'[1]شعبة التسزيق'!BU141","v":{"$error":"#REF!"}},{"$error":"#REF!"},{"$f":"'[1]شعبة التسزيق'!BW141","v":{"$error":"#REF!"}},{"$f":"'[1]شعبة التسزيق'!BX141","v":{"$error":"#REF!"}},{"$f":"'[1]شعبة التسزيق'!BY141","v":{"$error":"#REF!"}},{"$error":"#REF!"},"راسبة",{"$error":"#REF!"},4,null,null,null,null,"","","","","",{"$error":"#REF!"},"","","","","","",{"$error":"#REF!"},{"$error":"#REF!"},{"$error":"#REF!"},null,{"$error":"#REF!"}]
[133,633,"طالبة تسويق 133","3/2","مستجدة",757,8,11.5,14,33.5,8.5,13.6,18,40.1,4.5,6.8,8.4,19.700000000000003,8,18,15,41,9.5,19,10,38.5,{"$f":"'[1]شعبة التسزيق'!AJ142","v":{"$error":"#REF!"}},{"$f":"'[1]شعبة التسزيق'!AK142","v":{"$error":"#REF!"}},{"$f":"'[1]شعبة التسزيق'!AL142","v":{"$error":"#REF!"}},{"$error":"#REF!"},8.5,13,11,32.5,9,12,16.5,37.5,8.5,12.5,12.5,33.5,9,9,15,33,9,8,17,34,3,4,5,5,5,7,13,16,29,{"$error":"#REF!"},{"$f":"'[1]شعبة التسزيق'!BS142","v":{"$error":"#REF!"}},{"$f":"'[1]شعبة التسزيق'!BT142","v":{"$error":"#REF!"}},{"$f":"'[1]شعبة التسزيق'!BU142","v":{"$error":"#REF!"}},{"$error":"#REF!"},{"$f":"'[1]شعبة التسزيق'!BW142","v":{"$error":"#REF!"}},{"$f":"'[1]شعبة التسزيق'!BX142","v":{"$error":"#REF!"}},{"$f":"'[1]شعبة التسزيق'!BY142","v":{"$error":"#REF!"}},{"$error":"#REF!"},"راسبة",{"$error":"#REF!"},4,null,null,null,null,"","","","","",{"$error":"#REF!"},"","","","","","",{"$error":"#REF!"},{"$error":"#REF!"},{"$error":"#REF!"},null,{"$error":"#REF!"}]
[134,634,"طالبة تسويق 134","3/2","مستجدة",758,8.5,19,13,40.5,7,14.8,16.8,38.6,4.5,10.8,8.8000000000000007,24.1,8,16,13,37,9,17.5,11,37.5,{"$f":"'[1]شعبة التسزيق'!AJ143","v":{"$error":"#REF!"}},{"$f":"'[1]شعبة التسزيق'!AK143","v":{"$error":"#REF!"}},{"$f":"'[1]شعبة التسزيق'!AL143","v":{"$error":"#REF!"}},{"$error":"#REF!"},8.5,12,11,31.5,9,18,10,37,9,10.5,12.5,32,9,17.5,17,43.5,9,7,18,34,3,4,5,10,5,8,13,22,35,{"$error":"#REF!"},{"$f":"'[1]شعبة التسزيق'!BS143","v":{"$error":"#REF!"}},{"$f":"'[1]شعبة التسزيق'!BT143","v":{"$error":"#REF!"}},{"$f":"'[1]شعبة التسزيق'!BU143","v":{"$error":"#REF!"}},{"$error":"#REF!"},{"$f":"'[1]شعبة التسزيق'!BW143","v":{"$error":"#REF!"}},{"$f":"'[1]شعبة التسزيق'!BX143","v":{"$error":"#REF!"}},{"$f":"'[1]شعبة التسزيق'!BY143","v":{"$error":"#REF!"}},{"$error":"#REF!"},"راسبة",{"$error":"#REF!"},4,null,null,null,null,"","","","","",{"$error":"#REF!"},"","","","","","",{"$error":"#REF!"},{"$error":"#REF!"},{"$error":"#REF!"},null,{"$error":"#REF!"}]
[135,635,"طالبة تسويق 135","3/2","مستجدة",759,8.5,12.5,14.5,35.5,9.5,16,17.600000000000001,43.1,4.5,7.2,8.4,20.100000000000001,8,15.5,15,38.5,9.5,16,14,39.5,{"$f":"'[1]شعبة التسزيق'!AJ144","v":{"$error":"#REF!"}},{"$f":"'[1]شعبة التسزيق'!AK144","v":{"$error":"#REF!"}},{"$f":"'[1]شعبة التسزيق'!AL144","v":{"$error":"#REF!"}},{"$error":"#REF!"},8.5,12,7,27.5,9,15.5,16.5,41,8.5,15,15,38.5,9,12,13,34,9,10,16,35,3,4,5,5,6,7,14,16,30,{"$error":"#REF!"},{"$f":"'[1]شعبة التسزيق'!BS144","v":{"$error":"#REF!"}},{"$f":"'[1]شعبة التسزيق'!BT144","v":{"$error":"#REF!"}},{"$f":"'[1]شعبة التسزيق'!BU144","v":{"$error":"#REF!"}},{"$error":"#REF!"},{"$f":"'[1]شعبة التسزيق'!BW144","v":{"$error":"#REF!"}},{"$f":"'[1]شعبة التسزيق'!BX144","v":{"$error":"#REF!"}},{"$f":"'[1]شعبة التسزيق'!BY144","v":{"$error":"#REF!"}},{"$error":"#REF!"},"راسبة",{"$error":"#REF!"},4,null,null,null,null,"","","","","",{"$error":"#REF!"},"","","","","","",{"$error":"#REF!"},{"$error":"#REF!"},{"$error":"#REF!"},null,{"$error":"#REF!"}]
[136,636,"طالبة تسويق 136","3/2","مستجدة",760,8.5,12.5,15.5,36.5,8.5,15.2,17.2,40.9,4.5,8,8,20.5,8,5.5,11.5,25,9,17,11,37,{"$f":"'[1]شعبة التسزيق'!AJ145","v":{"$error":"#REF!"}},{"$f":"'[1]شعبة التسزيق'!AK145","v":{"$error":"#REF!"}},{"$f":"'[1]شعبة التسزيق'!AL145","v":{"$error":"#REF!"}},{"$error":"#REF!"},8.5,9,15,32.5,9,13,11.5,33.5,9,14.5,7.5,31,9,12,19,40,9,6,17,32,3,4,6,6,5,7,14,17,31,{"$error":"#REF!"},{"$f":"'[1]شعبة التسزيق'!BS145","v":{"$error":"#REF!"}},{"$f":"'[1]شعبة التسزيق'!BT145","v":{"$error":"#REF!"}},{"$f":"'[1]شعبة التسزيق'!BU145","v":{"$error":"#REF!"}},{"$error":"#REF!"},{"$f":"'[1]شعبة التسزيق'!BW145","v":{"$error":"#REF!"}},{"$f":"'[1]شعبة التسزيق'!BX145","v":{"$error":"#REF!"}},{"$f":"'[1]شعبة التسزيق'!BY145","v":{"$error":"#REF!"}},{"$error":"#REF!"},"راسبة",{"$error":"#REF!"},4,null,null,null,null,"","","","","",{"$error":"#REF!"},"","","","","","",{"$error":"#REF!"},{"$error":"#REF!"},{"$error":"#REF!"},null,{"$error":"#REF!"}]
[137,637,"طالبة تسويق 137","3/2","مستجدة",761,8.5,11,11.5,31,9,14.4,15.6,39,4.5,7.2,7.6,19.299999999999997,8,7,5.5,20.5,9,16,11,36,{"$f":"'[1]شعبة التسزيق'!AJ146","v":{"$error":"#REF!"}},{"$f":"'[1]شعبة التسزيق'!AK146","v":{"$error":"#REF!"}},{"$f":"'[1]شعبة التسزيق'!AL146","v":{"$error":"#REF!"}},{"$error":"#REF!"},8.5,9,7.5,25,9,11,8.5,28.5,8.5,9.5,6,24,9,10,15,34,9,7,12,28,3,4,5,6,6,7,14,17,31,{"$error":"#REF!"},{"$f":"'[1]شعبة التسزيق'!BS146","v":{"$error":"#REF!"}},{"$f":"'[1]شعبة التسزيق'!BT146","v":{"$error":"#REF!"}},{"$f":"'[1]شعبة التسزيق'!BU146","v":{"$error":"#REF!"}},{"$error":"#REF!"},{"$f":"'[1]شعبة التسزيق'!BW146","v":{"$error":"#REF!"}},{"$f":"'[1]شعبة التسزيق'!BX146","v":{"$error":"#REF!"}},{"$f":"'[1]شعبة التسزيق'!BY146","v":{"$error":"#REF!"}},{"$error":"#REF!"},"راسبة",{"$error":"#REF!"},5,null,null,null,null,"","","","محاسبة - ","",{"$error":"#REF!"},"","","","","","",{"$error":"#REF!"},{"$error":"#REF!"},{"$error":"#REF!"},null,{"$error":"#REF!"}]
[138,638,"طالبة تسويق 138","3/2","مستجدة",762,8.5,13.5,13.5,35.5,8,14.4,17.600000000000001,40,4.5,7.2,8.4,20.100000000000001,8,15,15.5,38.5,9,19,10,38,{"$f":"'[1]شعبة التسزيق'!AJ147","v":{"$error":"#REF!"}},{"$f":"'[1]شعبة التسزيق'!AK147","v":{"$error":"#REF!"}},{"$f":"'[1]شعبة التسزيق'!AL147","v":{"$error":"#REF!"}},{"$error":"#REF!"},8.5,8,8.5,25,9,14,16,39,8.5,8.5,7,24,9,13,14,36,9,7,16,32,3,4,5,5,5,7,13,16,29,{"$error":"#REF!"},{"$f":"'[1]شعبة التسزيق'!BS147","v":{"$error":"#REF!"}},{"$f":"'[1]شعبة التسزيق'!BT147","v":{"$error":"#REF!"}},{"$f":"'[1]شعبة التسزيق'!BU147","v":{"$error":"#REF!"}},{"$error":"#REF!"},{"$f":"'[1]شعبة التسزيق'!BW147","v":{"$error":"#REF!"}},{"$f":"'[1]شعبة التسزيق'!BX147","v":{"$error":"#REF!"}},{"$f":"'[1]شعبة التسزيق'!BY147","v":{"$error":"#REF!"}},{"$error":"#REF!"},"راسبة",{"$error":"#REF!"},4,null,null,null,null,"","","","","",{"$error":"#REF!"},"","","","","","",{"$error":"#REF!"},{"$error":"#REF!"},{"$error":"#REF!"},null,{"$error":"#REF!"}]
[139,639,"طالبة تسويق 139","3/2","مستجدة",763,8.5,11.5,11.5,31.5,8,10,15.6,33.6,4.5,4.4000000000000004,8,16.899999999999999,8,11,7,26,9.5,18,17,44.5,{"$f":"'[1]شعبة التسزيق'!AJ148","v":{"$error":"#REF!"}},{"$f":"'[1]شعبة التسزيق'!AK148","v":{"$error":"#REF!"}},{"$f":"'[1]شعبة التسزيق'!AL148","v":{"$error":"#REF!"}},{"$error":"#REF!"},8.5,17,15,40.5,9,19,13,41,8,11.5,10,29.5,9,12,15,36,9,15,13,37,3,4,6,5,6,6,15,15,30,{"$error":"#REF!"},{"$f":"'[1]شعبة التسزيق'!BS148","v":{"$error":"#REF!"}},{"$f":"'[1]شعبة التسزيق'!BT148","v":{"$error":"#REF!"}},{"$f":"'[1]شعبة التسزيق'!BU148","v":{"$error":"#REF!"}},{"$error":"#REF!"},{"$f":"'[1]شعبة التسزيق'!BW148","v":{"$error":"#REF!"}},{"$f":"'[1]شعبة التسزيق'!BX148","v":{"$error":"#REF!"}},{"$f":"'[1]شعبة التسزيق'!BY148","v":{"$error":"#REF!"}},{"$error":"#REF!"},"راسبة",{"$error":"#REF!"},4,null,null,null,null,"","","","","",{"$error":"#REF!"},"","","","","","",{"$error":"#REF!"},{"$error":"#REF!"},{"$error":"#REF!"},null,{"$error":"#REF!"}]
[140,640,"طالبة تسويق 140","3/2","مستجدة",764,8.5,10.5,14.5,33.5,9.5,12,17.2,38.700000000000003,4.5,6.8,8.8000000000000007,20.100000000000001,8,10,11.5,29.5,9,19,18,46,{"$f":"'[1]شعبة التسزيق'!AJ149","v":{"$error":"#REF!"}},{"$f":"'[1]شعبة التسزيق'!AK149","v":{"$error":"#REF!"}},{"$f":"'[1]شعبة التسزيق'!AL149","v":{"$error":"#REF!"}},{"$error":"#REF!"},8.5,19,19,46.5,9,17,14.5,40.5,8.5,16.5,13,38,9,15,15,39,9,12,14,35,3,4,5,7,5,8,13,19,32,{"$error":"#REF!"},{"$f":"'[1]شعبة التسزيق'!BS149","v":{"$error":"#REF!"}},{"$f":"'[1]شعبة التسزيق'!BT149","v":{"$error":"#REF!"}},{"$f":"'[1]شعبة التسزيق'!BU149","v":{"$error":"#REF!"}},{"$error":"#REF!"},{"$f":"'[1]شعبة التسزيق'!BW149","v":{"$error":"#REF!"}},{"$f":"'[1]شعبة التسزيق'!BX149","v":{"$error":"#REF!"}},{"$f":"'[1]شعبة التسزيق'!BY149","v":{"$error":"#REF!"}},{"$error":"#REF!"},"راسبة",{"$error":"#REF!"},4,null,null,null,null,"","","","","",{"$error":"#REF!"},"","","","","","",{"$error":"#REF!"},{"$error":"#REF!"},{"$error":"#REF!"},null,{"$error":"#REF!"}]
[141,641,"طالبة تسويق 141","3/2","مستجدة",765,8.5,11.5,12,32,7,7.6,17.2,31.799999999999997,4.5,4.4000000000000004,8.8000000000000007,17.700000000000003,8,6,11,25,9,19,18,46,{"$f":"'[1]شعبة التسزيق'!AJ150","v":{"$error":"#REF!"}},{"$f":"'[1]شعبة التسزيق'!AK150","v":{"$error":"#REF!"}},{"$f":"'[1]شعبة التسزيق'!AL150","v":{"$error":"#REF!"}},{"$error":"#REF!"},8.5,17,19,44.5,9,19.5,15,43.5,9,12.5,8.5,30,9,12,18,39,9,12,14,35,3,4,5,6,5,8,13,18,31,{"$error":"#REF!"},{"$f":"'[1]شعبة التسزيق'!BS150","v":{"$error":"#REF!"}},{"$f":"'[1]شعبة التسزيق'!BT150","v":{"$error":"#REF!"}},{"$f":"'[1]شعبة التسزيق'!BU150","v":{"$error":"#REF!"}},{"$error":"#REF!"},{"$f":"'[1]شعبة التسزيق'!BW150","v":{"$error":"#REF!"}},{"$f":"'[1]شعبة التسزيق'!BX150","v":{"$error":"#REF!"}},{"$f":"'[1]شعبة التسزيق'!BY150","v":{"$error":"#REF!"}},{"$error":"#REF!"},"راسبة",{"$error":"#REF!"},4,null,null,null,null,"","","","","",{"$error":"#REF!"},"","","","","","",{"$error":"#REF!"},{"$error":"#REF!"},{"$error":"#REF!"},null,{"$error":"#REF!"}]
[142,642,"طالبة تسويق 142","3/2","مستجدة",766,8.5,10.5,13.5,32.5,9,14.8,16.399999999999999,40.200000000000003,4.5,4.4000000000000004,7.2,16.100000000000001,8,5.5,11.5,25,9,16,16,41,{"$f":"'[1]شعبة التسزيق'!AJ151","v":{"$error":"#REF!"}},{"$f":"'[1]شعبة التسزيق'!AK151","v":{"$error":"#REF!"}},{"$f":"'[1]شعبة التسزيق'!AL151","v":{"$error":"#REF!"}},{"$error":"#REF!"},8.5,19,19,46.5,9,18,11,38,9,15.5,10.5,35,9,12,18,39,9,17,11,37,3,4,5,7,6,6,14,17,31,{"$error":"#REF!"},{"$f":"'[1]شعبة التسزيق'!BS151","v":{"$error":"#REF!"}},{"$f":"'[1]شعبة التسزيق'!BT151","v":{"$error":"#REF!"}},{"$f":"'[1]شعبة التسزيق'!BU151","v":{"$error":"#REF!"}},{"$error":"#REF!"},{"$f":"'[1]شعبة التسزيق'!BW151","v":{"$error":"#REF!"}},{"$f":"'[1]شعبة التسزيق'!BX151","v":{"$error":"#REF!"}},{"$f":"'[1]شعبة التسزيق'!BY151","v":{"$error":"#REF!"}},{"$error":"#REF!"},"راسبة",{"$error":"#REF!"},4,null,null,null,null,"","","","","",{"$error":"#REF!"},"","","","","","",{"$error":"#REF!"},{"$error":"#REF!"},{"$error":"#REF!"},null,{"$error":"#REF!"}]
[143,643,"طالبة تسويق 143","3/2","مستجدة",767,8.5,10.5,13,32,9.5,12.4,17.600000000000001,39.5,4.5,5.6,8,18.100000000000001,8,9.5,11.5,29,9.5,16,16,41.5,{"$f":"'[1]شعبة التسزيق'!AJ152","v":{"$error":"#REF!"}},{"$f":"'[1]شعبة التسزيق'!AK152","v":{"$error":"#REF!"}},{"$f":"'[1]شعبة التسزيق'!AL152","v":{"$error":"#REF!"}},{"$error":"#REF!"},8.5,19,18,45.5,9,17.5,12.5,39,8.5,15.5,13,37,9.5,17,18,44.5,9,16,12,37,3,4,5,7,6,6,14,17,31,{"$error":"#REF!"},{"$f":"'[1]شعبة التسزيق'!BS152","v":{"$error":"#REF!"}},{"$f":"'[1]شعبة التسزيق'!BT152","v":{"$error":"#REF!"}},{"$f":"'[1]شعبة التسزيق'!BU152","v":{"$error":"#REF!"}},{"$error":"#REF!"},{"$f":"'[1]شعبة التسزيق'!BW152","v":{"$error":"#REF!"}},{"$f":"'[1]شعبة التسزيق'!BX152","v":{"$error":"#REF!"}},{"$f":"'[1]شعبة التسزيق'!BY152","v":{"$error":"#REF!"}},{"$error":"#REF!"},"راسبة",{"$error":"#REF!"},4,null,null,null,null,"","","","","",{"$error":"#REF!"},"","","","","","",{"$error":"#REF!"},{"$error":"#REF!"},{"$error":"#REF!"},null,{"$error":"#REF!"}]
[144,644,"طالبة تسويق 144","3/2","مستجدة",768,8.5,12,14.5,35,8.5,14,16.8,39.299999999999997,4.5,6.4,8.4,19.3,8,14,8,30,9,17,16,42,{"$f":"'[1]شعبة التسزيق'!AJ153","v":{"$error":"#REF!"}},{"$f":"'[1]شعبة التسزيق'!AK153","v":{"$error":"#REF!"}},{"$f":"'[1]شعبة التسزيق'!AL153","v":{"$error":"#REF!"}},{"$error":"#REF!"},8.5,15,16,39.5,9,20,15,44,8.5,13.5,11,33,9.5,16,17,42.5,9,11,13,33,3,4,6,7,5,7,14,18,32,{"$error":"#REF!"},{"$f":"'[1]شعبة التسزيق'!BS153","v":{"$error":"#REF!"}},{"$f":"'[1]شعبة التسزيق'!BT153","v":{"$error":"#REF!"}},{"$f":"'[1]شعبة التسزيق'!BU153","v":{"$error":"#REF!"}},{"$error":"#REF!"},{"$f":"'[1]شعبة التسزيق'!BW153","v":{"$error":"#REF!"}},{"$f":"'[1]شعبة التسزيق'!BX153","v":{"$error":"#REF!"}},{"$f":"'[1]شعبة التسزيق'!BY153","v":{"$error":"#REF!"}},{"$error":"#REF!"},"راسبة",{"$error":"#REF!"},4,null,null,null,null,"","","","","",{"$error":"#REF!"},"","","","","","",{"$error":"#REF!"},{"$error":"#REF!"},{"$error":"#REF!"},null,{"$error":"#REF!"}]
[145,645,"طالبة تسويق 145","3/2","مستجدة",769,8.5,12.5,15.5,36.5,9.5,14.4,16.399999999999999,40.299999999999997,4.5,6.8,8.8000000000000007,20.100000000000001,8,14.5,12.5,35,9.5,19,17,45.5,{"$f":"'[1]شعبة التسزيق'!AJ154","v":{"$error":"#REF!"}},{"$f":"'[1]شعبة التسزيق'!AK154","v":{"$error":"#REF!"}},{"$f":"'[1]شعبة التسزيق'!AL154","v":{"$error":"#REF!"}},{"$error":"#REF!"},8.5,14,18,40.5,9,20,15.5,44.5,8.5,13,11.5,33,9.5,17,18,44.5,9,16,10,35,3,4,5,7,6,7,14,18,32,{"$error":"#REF!"},{"$f":"'[1]شعبة التسزيق'!BS154","v":{"$error":"#REF!"}},{"$f":"'[1]شعبة التسزيق'!BT154","v":{"$error":"#REF!"}},{"$f":"'[1]شعبة التسزيق'!BU154","v":{"$error":"#REF!"}},{"$error":"#REF!"},{"$f":"'[1]شعبة التسزيق'!BW154","v":{"$error":"#REF!"}},{"$f":"'[1]شعبة التسزيق'!BX154","v":{"$error":"#REF!"}},{"$f":"'[1]شعبة التسزيق'!BY154","v":{"$error":"#REF!"}},{"$error":"#REF!"},"راسبة",{"$error":"#REF!"},4,null,null,null,null,"","","","","",{"$error":"#REF!"},"","","","","","",{"$error":"#REF!"},{"$error":"#REF!"},{"$error":"#REF!"},null,{"$error":"#REF!"}]
[146,646,"طالبة تسويق 146","3/2","مستجدة",770,8.5,12.5,16.5,37.5,9.5,14.8,17.600000000000001,41.900000000000006,4.5,6.4,8,18.899999999999999,8,10,11,29,9,17,16,42,{"$f":"'[1]شعبة التسزيق'!AJ155","v":{"$error":"#REF!"}},{"$f":"'[1]شعبة التسزيق'!AK155","v":{"$error":"#REF!"}},{"$f":"'[1]شعبة التسزيق'!AL155","v":{"$error":"#REF!"}},{"$error":"#REF!"},8.5,19,18,45.5,9,19,13,41,9,17.5,12.5,39,9.5,17,17,43.5,9,15,13,37,3,4,6,7,6,7,15,18,33,{"$error":"#REF!"},{"$f":"'[1]شعبة التسزيق'!BS155","v":{"$error":"#REF!"}},{"$f":"'[1]شعبة التسزيق'!BT155","v":{"$error":"#REF!"}},{"$f":"'[1]شعبة التسزيق'!BU155","v":{"$error":"#REF!"}},{"$error":"#REF!"},{"$f":"'[1]شعبة التسزيق'!BW155","v":{"$error":"#REF!"}},{"$f":"'[1]شعبة التسزيق'!BX155","v":{"$error":"#REF!"}},{"$f":"'[1]شعبة التسزيق'!BY155","v":{"$error":"#REF!"}},{"$error":"#REF!"},"راسبة",{"$error":"#REF!"},4,null,null,null,null,"","","","","",{"$error":"#REF!"},"","","","","","",{"$error":"#REF!"},{"$error":"#REF!"},{"$error":"#REF!"},null,{"$error":"#REF!"}]
[147,647,"طالبة تسويق 147","3/2","مستجدة",771,8.5,10,12,30.5,9.5,13.6,16,39.1,4.5,5.6,7.2,17.3,8,12.5,14,34.5,9,19,13,41,{"$f":"'[1]شعبة التسزيق'!AJ156","v":{"$error":"#REF!"}},{"$f":"'[1]شعبة التسزيق'!AK156","v":{"$error":"#REF!"}},{"$f":"'[1]شعبة التسزيق'!AL156","v":{"$error":"#REF!"}},{"$error":"#REF!"},8.5,19,18,45.5,9,16.5,15,40.5,8.5,14.5,10.5,33.5,9,13,18,40,9,15,12,36,3,4,5,7,5,7,13,18,31,{"$error":"#REF!"},{"$f":"'[1]شعبة التسزيق'!BS156","v":{"$error":"#REF!"}},{"$f":"'[1]شعبة التسزيق'!BT156","v":{"$error":"#REF!"}},{"$f":"'[1]شعبة التسزيق'!BU156","v":{"$error":"#REF!"}},{"$error":"#REF!"},{"$f":"'[1]شعبة التسزيق'!BW156","v":{"$error":"#REF!"}},{"$f":"'[1]شعبة التسزيق'!BX156","v":{"$error":"#REF!"}},{"$f":"'[1]شعبة التسزيق'!BY156","v":{"$error":"#REF!"}},{"$error":"#REF!"},"راسبة",{"$error":"#REF!"},4,null,null,null,null,"","","","","",{"$error":"#REF!"},"","","","","","",{"$error":"#REF!"},{"$error":"#REF!"},{"$error":"#REF!"},null,{"$error":"#REF!"}]
[148,648,"طالبة تسويق 148","3/2","مستجدة",772,8.5,12.5,13.5,34.5,8.5,16.399999999999999,16,40.9,4.5,5.6,8,18.100000000000001,8,12.5,13.5,34,9,18,16,43,{"$f":"'[1]شعبة التسزيق'!AJ157","v":{"$error":"#REF!"}},{"$f":"'[1]شعبة التسزيق'!AK157","v":{"$error":"#REF!"}},{"$f":"'[1]شعبة التسزيق'!AL157","v":{"$error":"#REF!"}},{"$error":"#REF!"},8.5,18,15,41.5,9,15,11,35,8.5,15,12,35.5,9,16,18,43,9,14,13,36,3,4,5,6,6,7,14,17,31,{"$error":"#REF!"},{"$f":"'[1]شعبة التسزيق'!BS157","v":{"$error":"#REF!"}},{"$f":"'[1]شعبة التسزيق'!BT157","v":{"$error":"#REF!"}},{"$f":"'[1]شعبة التسزيق'!BU157","v":{"$error":"#REF!"}},{"$error":"#REF!"},{"$f":"'[1]شعبة التسزيق'!BW157","v":{"$error":"#REF!"}},{"$f":"'[1]شعبة التسزيق'!BX157","v":{"$error":"#REF!"}},{"$f":"'[1]شعبة التسزيق'!BY157","v":{"$error":"#REF!"}},{"$error":"#REF!"},"راسبة",{"$error":"#REF!"},4,null,null,null,null,"","","","","",{"$error":"#REF!"},"","","","","","",{"$error":"#REF!"},{"$error":"#REF!"},{"$error":"#REF!"},null,{"$error":"#REF!"}]
[149,649,"طالبة تسويق 149","3/2","مستجدة",773,8.5,12.5,13,34,9.5,18,17.2,44.7,4.5,6.8,9.1999999999999993,20.5,8,16,14,38,9,19,16,44,{"$f":"'[1]شعبة التسزيق'!AJ158","v":{"$error":"#REF!"}},{"$f":"'[1]شعبة التسزيق'!AK158","v":{"$error":"#REF!"}},{"$f":"'[1]شعبة التسزيق'!AL158","v":{"$error":"#REF!"}},{"$error":"#REF!"},8.5,19,20,47.5,9,17,16.5,42.5,9,15,16,40,9.5,16,19,44.5,9,18,14,41,3,4,6,7,5,7,14,18,32,{"$error":"#REF!"},{"$f":"'[1]شعبة التسزيق'!BS158","v":{"$error":"#REF!"}},{"$f":"'[1]شعبة التسزيق'!BT158","v":{"$error":"#REF!"}},{"$f":"'[1]شعبة التسزيق'!BU158","v":{"$error":"#REF!"}},{"$error":"#REF!"},{"$f":"'[1]شعبة التسزيق'!BW158","v":{"$error":"#REF!"}},{"$f":"'[1]شعبة التسزيق'!BX158","v":{"$error":"#REF!"}},{"$f":"'[1]شعبة التسزيق'!BY158","v":{"$error":"#REF!"}},{"$error":"#REF!"},"راسبة",{"$error":"#REF!"},4,null,null,null,null,"","","","","",{"$error":"#REF!"},"","","","","","",{"$error":"#REF!"},{"$error":"#REF!"},{"$error":"#REF!"},null,{"$error":"#REF!"}]
[150,650,"طالبة تسويق 150","3/2","مستجدة",774,8.5,13.5,14,36,7.5,15.2,16.8,39.5,4.5,4,10,18.5,8,14,15,37,9.5,16,16,41.5,{"$f":"'[1]شعبة التسزيق'!AJ159","v":{"$error":"#REF!"}},{"$f":"'[1]شعبة التسزيق'!AK159","v":{"$error":"#REF!"}},{"$f":"'[1]شعبة التسزيق'!AL159","v":{"$error":"#REF!"}},{"$error":"#REF!"},8.5,19,19,46.5,9,16,13,38,9,17.5,12,38.5,9,12,18,39,9,18,15,42,3,4,5,6,6,8,14,18,32,{"$error":"#REF!"},{"$f":"'[1]شعبة التسزيق'!BS159","v":{"$error":"#REF!"}},{"$f":"'[1]شعبة التسزيق'!BT159","v":{"$error":"#REF!"}},{"$f":"'[1]شعبة التسزيق'!BU159","v":{"$error":"#REF!"}},{"$error":"#REF!"},{"$f":"'[1]شعبة التسزيق'!BW159","v":{"$error":"#REF!"}},{"$f":"'[1]شعبة التسزيق'!BX159","v":{"$error":"#REF!"}},{"$f":"'[1]شعبة التسزيق'!BY159","v":{"$error":"#REF!"}},{"$error":"#REF!"},"راسبة",{"$error":"#REF!"},4,null,null,null,null,"","","","","",{"$error":"#REF!"},"","","","","","",{"$error":"#REF!"},{"$error":"#REF!"},{"$error":"#REF!"},null,{"$error":"#REF!"}]
[151,651,"طالبة تسويق 151","3/2","مستجدة",775,8.5,14.5,15.5,38.5,7,15.2,18,40.200000000000003,4.5,5.2,8.4,18.100000000000001,8,15,14.5,37.5,9,19,14,42,{"$f":"'[1]شعبة التسزيق'!AJ160","v":{"$error":"#REF!"}},{"$f":"'[1]شعبة التسزيق'!AK160","v":{"$error":"#REF!"}},{"$f":"'[1]شعبة التسزيق'!AL160","v":{"$error":"#REF!"}},{"$error":"#REF!"},8.5,18,18,44.5,9,20,14,43,9,18,13.5,40.5,9,14,19,42,9,18,14,41,3,4,6,7,5,8,14,19,33,{"$error":"#REF!"},{"$f":"'[1]شعبة التسزيق'!BS160","v":{"$error":"#REF!"}},{"$f":"'[1]شعبة التسزيق'!BT160","v":{"$error":"#REF!"}},{"$f":"'[1]شعبة التسزيق'!BU160","v":{"$error":"#REF!"}},{"$error":"#REF!"},{"$f":"'[1]شعبة التسزيق'!BW160","v":{"$error":"#REF!"}},{"$f":"'[1]شعبة التسزيق'!BX160","v":{"$error":"#REF!"}},{"$f":"'[1]شعبة التسزيق'!BY160","v":{"$error":"#REF!"}},{"$error":"#REF!"},"راسبة",{"$error":"#REF!"},4,null,null,null,null,"","","","","",{"$error":"#REF!"},"","","","","","",{"$error":"#REF!"},{"$error":"#REF!"},{"$error":"#REF!"},null,{"$error":"#REF!"}]
[152,652,"طالبة تسويق 152","3/2","مستجدة",776,8.5,12.5,13.5,34.5,7.5,14,16.8,38.299999999999997,4.5,5.2,8.4,18.100000000000001,8,13.5,14.5,36,9,19,15,43,{"$f":"'[1]شعبة التسزيق'!AJ161","v":{"$error":"#REF!"}},{"$f":"'[1]شعبة التسزيق'!AK161","v":{"$error":"#REF!"}},{"$f":"'[1]شعبة التسزيق'!AL161","v":{"$error":"#REF!"}},{"$error":"#REF!"},8.5,18,18,44.5,9,20,11.5,40.5,8.5,17.5,12.5,38.5,8.5,15,18,41.5,9,18,13,40,3,4,6,7,6,8,15,19,34,{"$error":"#REF!"},{"$f":"'[1]شعبة التسزيق'!BS161","v":{"$error":"#REF!"}},{"$f":"'[1]شعبة التسزيق'!BT161","v":{"$error":"#REF!"}},{"$f":"'[1]شعبة التسزيق'!BU161","v":{"$error":"#REF!"}},{"$error":"#REF!"},{"$f":"'[1]شعبة التسزيق'!BW161","v":{"$error":"#REF!"}},{"$f":"'[1]شعبة التسزيق'!BX161","v":{"$error":"#REF!"}},{"$f":"'[1]شعبة التسزيق'!BY161","v":{"$error":"#REF!"}},{"$error":"#REF!"},"راسبة",{"$error":"#REF!"},4,null,null,null,null,"","","","","",{"$error":"#REF!"},"","","","","","",{"$error":"#REF!"},{"$error":"#REF!"},{"$error":"#REF!"},null,{"$error":"#REF!"}]
[153,653,"طالبة تسويق 153","3/2","مستجدة",777,8.5,12.5,15.5,36.5,8.5,15.2,17.600000000000001,41.3,4.5,4.4000000000000004,7.2,16.100000000000001,8,16,13.5,37.5,8,19,16,43,{"$f":"'[1]شعبة التسزيق'!AJ162","v":{"$error":"#REF!"}},{"$f":"'[1]شعبة التسزيق'!AK162","v":{"$error":"#REF!"}},{"$f":"'[1]شعبة التسزيق'!AL162","v":{"$error":"#REF!"}},{"$error":"#REF!"},8.5,14,18,40.5,9,20,15.5,44.5,8.5,13.5,11.5,33.5,8.5,16,19,43.5,9,18,14,41,3,4,5,7,5,8,13,19,32,{"$error":"#REF!"},{"$f":"'[1]شعبة التسزيق'!BS162","v":{"$error":"#REF!"}},{"$f":"'[1]شعبة التسزيق'!BT162","v":{"$error":"#REF!"}},{"$f":"'[1]شعبة التسزيق'!BU162","v":{"$error":"#REF!"}},{"$error":"#REF!"},{"$f":"'[1]شعبة التسزيق'!BW162","v":{"$error":"#REF!"}},{"$f":"'[1]شعبة التسزيق'!BX162","v":{"$error":"#REF!"}},{"$f":"'[1]شعبة التسزيق'!BY162","v":{"$error":"#REF!"}},{"$error":"#REF!"},"راسبة",{"$error":"#REF!"},4,null,null,null,null,"","","","","",{"$error":"#REF!"},"","","","","","",{"$error":"#REF!"},{"$error":"#REF!"},{"$error":"#REF!"},null,{"$error":"#REF!"}]
[154,654,"طالبة تسويق 154","3/2","مستجدة",778,8.5,10,13.5,32,7,10.4,11.2,28.599999999999998,4.5,6.4,8.4,19.3,8,16,14,38,8,20,17,45,{"$f":"'[1]شعبة التسزيق'!AJ163","v":{"$error":"#REF!"}},{"$f":"'[1]شعبة التسزيق'!AK163","v":{"$error":"#REF!"}},{"$f":"'[1]شعبة التسزيق'!AL163","v":{"$error":"#REF!"}},{"$error":"#REF!"},8.5,17,17,42.5,9,14.5,11.5,35,8.5,4,4.5,17,9,12,13,34,9,16,10,35,3,4,5,4.5,6,7,14,15.5,29.5,{"$error":"#REF!"},{"$f":"'[1]شعبة التسزيق'!BS163","v":{"$error":"#REF!"}},{"$f":"'[1]شعبة التسزيق'!BT163","v":{"$error":"#REF!"}},{"$f":"'[1]شعبة التسزيق'!BU163","v":{"$error":"#REF!"}},{"$error":"#REF!"},{"$f":"'[1]شعبة التسزيق'!BW163","v":{"$error":"#REF!"}},{"$f":"'[1]شعبة التسزيق'!BX163","v":{"$error":"#REF!"}},{"$f":"'[1]شعبة التسزيق'!BY163","v":{"$error":"#REF!"}},{"$error":"#REF!"},"راسبة",{"$error":"#REF!"},5,null,null,null,null,"","","","","",{"$error":"#REF!"},"","","سكرتارية . ف - ","","","",{"$error":"#REF!"},{"$error":"#REF!"},{"$error":"#REF!"},null,{"$error":"#REF!"}]
[155,655,"طالبة تسويق 155","منازل عمال","مستجدة",779,0,14.5,17.5,32,0,18,19.5,37.5,0,9.5,11.5,21,0,21.5,19,40.5,0,25,20,45,{"$f":"'[1]شعبة التسزيق'!AJ164","v":{"$error":"#REF!"}},{"$f":"'[1]شعبة التسزيق'!AK164","v":{"$error":"#REF!"}},{"$f":"'[1]شعبة التسزيق'!AL164","v":{"$error":"#REF!"}},{"$error":"#REF!"},null,22.5,16.5,39,0,19.5,19,38.5,0,17.5,10,27.5,null,19,16.5,35.5,0,20,13.5,33.5,null,null,8,6.5,8,9,16,15.5,31.5,{"$error":"#REF!"},{"$f":"'[1]شعبة التسزيق'!BS164","v":{"$error":"#REF!"}},{"$f":"'[1]شعبة التسزيق'!BT164","v":{"$error":"#REF!"}},{"$f":"'[1]شعبة التسزيق'!BU164","v":{"$error":"#REF!"}},{"$error":"#REF!"},{"$f":"'[1]شعبة التسزيق'!BW164","v":{"$error":"#REF!"}},{"$f":"'[1]شعبة التسزيق'!BX164","v":{"$error":"#REF!"}},{"$f":"'[1]شعبة التسزيق'!BY164","v":{"$error":"#REF!"}},{"$error":"#REF!"},"راسبة",{"$error":"#REF!"},4,null,null,null,null,"","","","","",{"$error":"#REF!"},"","","","","","",{"$error":"#REF!"},{"$error":"#REF!"},{"$error":"#REF!"},null,{"$error":"#REF!"}]
[156,656,"طالبة تسويق 156","منازل عمال","مستجدة",780,0,12.5,16.5,29,0,18,16.5,34.5,0,8.5,11,19.5,0,22.5,17.5,40,0,25,22.5,47.5,{"$f":"'[1]شعبة التسزيق'!AJ165","v":{"$error":"#REF!"}},{"$f":"'[1]شعبة التسزيق'!AK165","v":{"$error":"#REF!"}},{"$f":"'[1]شعبة التسزيق'!AL165","v":{"$error":"#REF!"}},{"$error":"#REF!"},null,19,19,38,0,19.5,16.5,36,0,17,8.5,25.5,null,16.5,22.5,39,0,20,12.5,32.5,0,0,7,6.5,7,9,14,15.5,29.5,{"$error":"#REF!"},{"$f":"'[1]شعبة التسزيق'!BS165","v":{"$error":"#REF!"}},{"$f":"'[1]شعبة التسزيق'!BT165","v":{"$error":"#REF!"}},{"$f":"'[1]شعبة التسزيق'!BU165","v":{"$error":"#REF!"}},{"$error":"#REF!"},{"$f":"'[1]شعبة التسزيق'!BW165","v":{"$error":"#REF!"}},{"$f":"'[1]شعبة التسزيق'!BX165","v":{"$error":"#REF!"}},{"$f":"'[1]شعبة التسزيق'!BY165","v":{"$error":"#REF!"}},{"$error":"#REF!"},"راسبة",{"$error":"#REF!"},4,null,null,null,null,"","","","","",{"$error":"#REF!"},"","","","","","",{"$error":"#REF!"},{"$error":"#REF!"},{"$error":"#REF!"},null,{"$error":"#REF!"}]
[157,657,"طالبة تسويق 157","منازل عمال","مستجدة",781,0,14.5,23,37.5,0,21.5,21.5,43,0,9.5,12,21.5,0,23.5,20,43.5,0,25,20,45,{"$f":"'[1]شعبة التسزيق'!AJ166","v":{"$error":"#REF!"}},{"$f":"'[1]شعبة التسزيق'!AK166","v":{"$error":"#REF!"}},{"$f":"'[1]شعبة التسزيق'!AL166","v":{"$error":"#REF!"}},{"$error":"#REF!"},null,21.5,17.5,39,0,19,16,35,0,17,10.5,27.5,null,19,17.5,36.5,0,20,12.5,32.5,0,0,8,6.5,8,9,16,15.5,31.5,{"$error":"#REF!"},{"$f":"'[1]شعبة التسزيق'!BS166","v":{"$error":"#REF!"}},{"$f":"'[1]شعبة التسزيق'!BT166","v":{"$error":"#REF!"}},{"$f":"'[1]شعبة التسزيق'!BU166","v":{"$error":"#REF!"}},{"$error":"#REF!"},{"$f":"'[1]شعبة التسزيق'!BW166","v":{"$error":"#REF!"}},{"$f":"'[1]شعبة التسزيق'!BX166","v":{"$error":"#REF!"}},{"$f":"'[1]شعبة التسزيق'!BY166","v":{"$error":"#REF!"}},{"$error":"#REF!"},"راسبة",{"$error":"#REF!"},4,null,null,null,null,"","","","","",{"$error":"#REF!"},"","","","","","",{"$error":"#REF!"},{"$error":"#REF!"},{"$error":"#REF!"},null,{"$error":"#REF!"}]
[158,658,"طالبة تسويق 158","منازل عمال","مستجدة",782,0,17,20,37,0,13.5,20.5,34,0,8,11.5,19.5,0,21.5,16.5,38,0,25,20,45,{"$f":"'[1]شعبة التسزيق'!AJ167","v":{"$error":"#REF!"}},{"$f":"'[1]شعبة التسزيق'!AK167","v":{"$error":"#REF!"}},{"$f":"'[1]شعبة التسزيق'!AL167","v":{"$error":"#REF!"}},{"$error":"#REF!"},null,22.5,19,41.5,0,22,17,39,0,19.5,9.5,29,null,20,17.5,37.5,0,20,12.5,32.5,0,0,7,6.5,8,9,15,15.5,30.5,{"$error":"#REF!"},{"$f":"'[1]شعبة التسزيق'!BS167","v":{"$error":"#REF!"}},{"$f":"'[1]شعبة التسزيق'!BT167","v":{"$error":"#REF!"}},{"$f":"'[1]شعبة التسزيق'!BU167","v":{"$error":"#REF!"}},{"$error":"#REF!"},{"$f":"'[1]شعبة التسزيق'!BW167","v":{"$error":"#REF!"}},{"$f":"'[1]شعبة التسزيق'!BX167","v":{"$error":"#REF!"}},{"$f":"'[1]شعبة التسزيق'!BY167","v":{"$error":"#REF!"}},{"$error":"#REF!"},"راسبة",{"$error":"#REF!"},4,null,null,null,null,"","","","","",{"$error":"#REF!"},"","","","","","",{"$error":"#REF!"},{"$error":"#REF!"},{"$error":"#REF!"},null,{"$error":"#REF!"}]
[159,659,"طالبة تسويق 159","منازل عمال","مستجدة",783,0,18,20.5,38.5,0,23,21,44,0,12,11.5,23.5,0,20,19,39,0,25,20,45,{"$f":"'[1]شعبة التسزيق'!AJ168","v":{"$error":"#REF!"}},{"$f":"'[1]شعبة التسزيق'!AK168","v":{"$error":"#REF!"}},{"$f":"'[1]شعبة التسزيق'!AL168","v":{"$error":"#REF!"}},{"$error":"#REF!"},null,19,20,39,0,24,19.5,43.5,0,19.5,10.5,30,null,19,24,43,0,20,17.5,37.5,0,0,8,6.5,8,9,16,15.5,31.5,{"$error":"#REF!"},{"$f":"'[1]شعبة التسزيق'!BS168","v":{"$error":"#REF!"}},{"$f":"'[1]شعبة التسزيق'!BT168","v":{"$error":"#REF!"}},{"$f":"'[1]شعبة التسزيق'!BU168","v":{"$error":"#REF!"}},{"$error":"#REF!"},{"$f":"'[1]شعبة التسزيق'!BW168","v":{"$error":"#REF!"}},{"$f":"'[1]شعبة التسزيق'!BX168","v":{"$error":"#REF!"}},{"$f":"'[1]شعبة التسزيق'!BY168","v":{"$error":"#REF!"}},{"$error":"#REF!"},"راسبة",{"$error":"#REF!"},4,null,null,null,null,"","","","","",{"$error":"#REF!"},"","","","","","",{"$error":"#REF!"},{"$error":"#REF!"},{"$error":"#REF!"},null,{"$error":"#REF!"}]
[160,660,"طالبة تسويق 160","منازل عمال","مستجدة",784,0,15.5,17.5,33,0,20.5,21,41.5,0,10,11.5,21.5,0,14.5,19,33.5,0,25,20,45,{"$f":"'[1]شعبة التسزيق'!AJ169","v":{"$error":"#REF!"}},{"$f":"'[1]شعبة التسزيق'!AK169","v":{"$error":"#REF!"}},{"$f":"'[1]شعبة التسزيق'!AL169","v":{"$error":"#REF!"}},{"$error":"#REF!"},null,22.5,16.5,39,0,23,15,38,0,15,7.5,22.5,null,19,17.5,36.5,0,20,11.5,31.5,0,0,8,6.5,8,9,16,15.5,31.5,{"$error":"#REF!"},{"$f":"'[1]شعبة التسزيق'!BS169","v":{"$error":"#REF!"}},{"$f":"'[1]شعبة التسزيق'!BT169","v":{"$error":"#REF!"}},{"$f":"'[1]شعبة التسزيق'!BU169","v":{"$error":"#REF!"}},{"$error":"#REF!"},{"$f":"'[1]شعبة التسزيق'!BW169","v":{"$error":"#REF!"}},{"$f":"'[1]شعبة التسزيق'!BX169","v":{"$error":"#REF!"}},{"$f":"'[1]شعبة التسزيق'!BY169","v":{"$error":"#REF!"}},{"$error":"#REF!"},"راسبة",{"$error":"#REF!"},4,null,null,null,null,"","","","","",{"$error":"#REF!"},"","","","","","",{"$error":"#REF!"},{"$error":"#REF!"},{"$error":"#REF!"},null,{"$error":"#REF!"}]
[161,661,"طالبة تسويق 161","منازل عمال","مستجدة",785,0,17,20,37,0,21.5,20,41.5,0,9.5,12,21.5,0,17.5,20,37.5,0,24,19,43,{"$f":"'[1]شعبة التسزيق'!AJ170","v":{"$error":"#REF!"}},{"$f":"'[1]شعبة التسزيق'!AK170","v":{"$error":"#REF!"}},{"$f":"'[1]شعبة التسزيق'!AL170","v":{"$error":"#REF!"}},{"$error":"#REF!"},null,22.5,17.5,40,0,23,15.5,38.5,0,17,8.5,25.5,null,19,18.5,37.5,0,19,12.5,31.5,0,0,8,6.5,8,9,16,15.5,31.5,{"$error":"#REF!"},{"$f":"'[1]شعبة التسزيق'!BS170","v":{"$error":"#REF!"}},{"$f":"'[1]شعبة التسزيق'!BT170","v":{"$error":"#REF!"}},{"$f":"'[1]شعبة التسزيق'!BU170","v":{"$error":"#REF!"}},{"$error":"#REF!"},{"$f":"'[1]شعبة التسزيق'!BW170","v":{"$error":"#REF!"}},{"$f":"'[1]شعبة التسزيق'!BX170","v":{"$error":"#REF!"}},{"$f":"'[1]شعبة التسزيق'!BY170","v":{"$error":"#REF!"}},{"$error":"#REF!"},"راسبة",{"$error":"#REF!"},4,null,null,null,null,"","","","","",{"$error":"#REF!"},"","","","","","",{"$error":"#REF!"},{"$error":"#REF!"},{"$error":"#REF!"},null,{"$error":"#REF!"}]
[162,662,"طالبة تسويق 162","منازل عمال","مستجدة",786,0,12,15,27,0,14.5,15.5,30,0,7,10.5,17.5,0,19,19,38,0,23,21.5,44.5,{"$f":"'[1]شعبة التسزيق'!AJ171","v":{"$error":"#REF!"}},{"$f":"'[1]شعبة التسزيق'!AK171","v":{"$error":"#REF!"}},{"$f":"'[1]شعبة التسزيق'!AL171","v":{"$error":"#REF!"}},{"$error":"#REF!"},null,20,16.5,36.5,0,20,12.5,32.5,0,13,7.5,20.5,null,17.5,14.5,32,0,19,7.5,26.5,0,0,8,6,7,10,15,16,31,{"$error":"#REF!"},{"$f":"'[1]شعبة التسزيق'!BS171","v":{"$error":"#REF!"}},{"$f":"'[1]شعبة التسزيق'!BT171","v":{"$error":"#REF!"}},{"$f":"'[1]شعبة التسزيق'!BU171","v":{"$error":"#REF!"}},{"$error":"#REF!"},{"$f":"'[1]شعبة التسزيق'!BW171","v":{"$error":"#REF!"}},{"$f":"'[1]شعبة التسزيق'!BX171","v":{"$error":"#REF!"}},{"$f":"'[1]شعبة التسزيق'!BY171","v":{"$error":"#REF!"}},{"$error":"#REF!"},"راسبة",{"$error":"#REF!"},4,null,null,null,null,"","","","","",{"$error":"#REF!"},"","","","","","",{"$error":"#REF!"},{"$error":"#REF!"},{"$error":"#REF!"},null,{"$error":"#REF!"}]
[163,663,"طالبة تسويق 163","منازل عمال","مستجدة",787,0,16.5,19.5,36,0,20,19.5,39.5,0,7,11,18,0,19.5,20,39.5,0,25,21.5,46.5,{"$f":"'[1]شعبة التسزيق'!AJ172","v":{"$error":"#REF!"}},{"$f":"'[1]شعبة التسزيق'!AK172","v":{"$error":"#REF!"}},{"$f":"'[1]شعبة التسزيق'!AL172","v":{"$error":"#REF!"}},{"$error":"#REF!"},null,16.5,17.5,34,0,19.5,17.5,37,0,14,6.5,20.5,null,19,17.5,36.5,0,20,12.5,32.5,0,0,7,6.5,7,10,14,16.5,30.5,{"$error":"#REF!"},{"$f":"'[1]شعبة التسزيق'!BS172","v":{"$error":"#REF!"}},{"$f":"'[1]شعبة التسزيق'!BT172","v":{"$error":"#REF!"}},{"$f":"'[1]شعبة التسزيق'!BU172","v":{"$error":"#REF!"}},{"$error":"#REF!"},{"$f":"'[1]شعبة التسزيق'!BW172","v":{"$error":"#REF!"}},{"$f":"'[1]شعبة التسزيق'!BX172","v":{"$error":"#REF!"}},{"$f":"'[1]شعبة التسزيق'!BY172","v":{"$error":"#REF!"}},{"$error":"#REF!"},"راسبة",{"$error":"#REF!"},4,null,null,null,null,"","","","","",{"$error":"#REF!"},"","","","","","",{"$error":"#REF!"},{"$error":"#REF!"},{"$error":"#REF!"},null,{"$error":"#REF!"}]
[164,664,"طالبة تسويق 164","منازل عمال","مستجدة",788,0,10.5,17.5,28,0,12,15,27,0,7,10,17,0,15,19.5,34.5,0,25,20,45,{"$f":"'[1]شعبة التسزيق'!AJ173","v":{"$error":"#REF!"}},{"$f":"'[1]شعبة التسزيق'!AK173","v":{"$error":"#REF!"}},{"$f":"'[1]شعبة التسزيق'!AL173","v":{"$error":"#REF!"}},{"$error":"#REF!"},null,20,14,34,0,20,13.5,33.5,0,16.5,5,21.5,null,19,14,33,0,20,14,34,0,0,8,6.5,8,10,16,16.5,32.5,{"$error":"#REF!"},{"$f":"'[1]شعبة التسزيق'!BS173","v":{"$error":"#REF!"}},{"$f":"'[1]شعبة التسزيق'!BT173","v":{"$error":"#REF!"}},{"$f":"'[1]شعبة التسزيق'!BU173","v":{"$error":"#REF!"}},{"$error":"#REF!"},{"$f":"'[1]شعبة التسزيق'!BW173","v":{"$error":"#REF!"}},{"$f":"'[1]شعبة التسزيق'!BX173","v":{"$error":"#REF!"}},{"$f":"'[1]شعبة التسزيق'!BY173","v":{"$error":"#REF!"}},{"$error":"#REF!"},"راسبة",{"$error":"#REF!"},4,null,null,null,null,"","","","","",{"$error":"#REF!"},"","","","","","",{"$error":"#REF!"},{"$error":"#REF!"},{"$error":"#REF!"},null,{"$error":"#REF!"}]
[165,665,"طالبة تسويق 165","منازل عمال","مستجدة",789,0,14,14,28,0,20,18,38,0,7,10.5,17.5,0,14.5,19.5,34,0,25,20,45,{"$f":"'[1]شعبة التسزيق'!AJ174","v":{"$error":"#REF!"}},{"$f":"'[1]شعبة التسزيق'!AK174","v":{"$error":"#REF!"}},{"$f":"'[1]شعبة التسزيق'!AL174","v":{"$error":"#REF!"}},{"$error":"#REF!"},null,21.5,17.5,39,0,19,13,32,0,12,8,20,null,20,16.5,36.5,0,19,12.5,31.5,0,0,8,6.5,8,10,16,16.5,32.5,{"$error":"#REF!"},{"$f":"'[1]شعبة التسزيق'!BS174","v":{"$error":"#REF!"}},{"$f":"'[1]شعبة التسزيق'!BT174","v":{"$error":"#REF!"}},{"$f":"'[1]شعبة التسزيق'!BU174","v":{"$error":"#REF!"}},{"$error":"#REF!"},{"$f":"'[1]شعبة التسزيق'!BW174","v":{"$error":"#REF!"}},{"$f":"'[1]شعبة التسزيق'!BX174","v":{"$error":"#REF!"}},{"$f":"'[1]شعبة التسزيق'!BY174","v":{"$error":"#REF!"}},{"$error":"#REF!"},"راسبة",{"$error":"#REF!"},4,null,null,null,null,"","","","","",{"$error":"#REF!"},"","","","","","",{"$error":"#REF!"},{"$error":"#REF!"},{"$error":"#REF!"},null,{"$error":"#REF!"}]
[null,null,"طالبة تسويق 166",null,null,null,null,null,null,0,null,null,null,0,null,null,null,0,{"$f":"'[1]شعبة التسزيق'!AB175","v":{"$error":"#REF!"}},{"$f":"'[1]شعبة التسزيق'!AC175","v":{"$error":"#REF!"}},{"$f":"'[1]شعبة التسزيق'!AD175","v":{"$error":"#REF!"}},{"$error":"#REF!"},{"$f":"'[1]شعبة التسزيق'!AF175","v":{"$error":"#REF!"}},{"$f":"'[1]شعبة التسزيق'!AG175","v":{"$error":"#REF!"}},{"$f":"'[1]شعبة التسزيق'!AH175","v":{"$error":"#REF!"}},{"$error":"#REF!"},null,null,null,0,null,null,null,0,null,null,null,0,null,null,null,0,null,null,null,0,null,null,null,0,null,null,null,null,null,null,{"$f":"IF($C175=\"\",\"\",SUM(AY175,BA175,BC175))","v":0},0,0,{"$error":"#REF!"},{"$f":"'[1]شعبة التسزيق'!BS175","v":{"$error":"#REF!"}},{"$f":"'[1]شعبة التسزيق'!BT175","v":{"$error":"#REF!"}},{"$f":"'[1]شعبة التسزيق'!BU175","v":{"$error":"#REF!"}},{"$error":"#REF!"},null,null,null,0,"راسبة",{"$error":"#REF!"},15,null,null,null,null,"عربى - ","انجليزى - ","فرنسى - ",{"$error":"#REF!"},{"$error":"#REF!"},"رياضة مالية - ","اقتصاد - ","سكرتارية . ع - ","سكرتارية . ف - ","مشروعات - ","مخازن - ","حاسب - ",{"$error":"#REF!"},"دين - ",{"$error":"#REF!"},null,{"$error":"#REF!"}]
[null,null,"طالبة تسويق 167",null,null,null,null,null,null,0,{"$f":"'[1]شعبة التسزيق'!T176","v":{"$error":"#REF!"}},{"$f":"'[1]شعبة التسزيق'!U176","v":{"$error":"#REF!"}},{"$f":"'[1]شعبة التسزيق'!V176","v":{"$error":"#REF!"}},{"$error":"#REF!"},null,null,null,0,{"$f":"'[1]شعبة التسزيق'!AB176","v":{"$error":"#REF!"}},{"$f":"'[1]شعبة التسزيق'!AC176","v":{"$error":"#REF!"}},{"$f":"'[1]شعبة التسزيق'!AD176","v":{"$error":"#REF!"}},{"$error":"#REF!"},null,null,null,0,null,null,null,0,null,null,null,0,null,null,null,0,null,null,null,0,null,null,null,0,null,null,null,0,null,null,null,null,null,null,0,0,0,{"$error":"#REF!"},{"$f":"'[1]شعبة التسزيق'!BS176","v":{"$error":"#REF!"}},{"$f":"'[1]شعبة التسزيق'!BT176","v":{"$error":"#REF!"}},{"$f":"'[1]شعبة التسزيق'!BU176","v":{"$error":"#REF!"}},{"$error":"#REF!"},null,null,null,0,"راسبة",{"$error":"#REF!"},15,null,null,null,null,"عربى - ",{"$error":"#REF!"},"فرنسى - ",{"$error":"#REF!"},"احصاء - ","رياضة مالية - ","اقتصاد - ","سكرتارية . ع - ","سكرتارية . ف - ","مشروعات - ","مخازن - ","حاسب - ",{"$error":"#REF!"},"دين - ",{"$error":"#REF!"},null,{"$error":"#REF!"}]
[null,null,"طالبة تسويق 168",null,null,null,null,null,null,0,{"$f":"'[1]شعبة التسزيق'!T177","v":{"$error":"#REF!"}},{"$f":"'[1]شعبة التسزيق'!U177","v":{"$error":"#REF!"}},{"$f":"'[1]شعبة التسزيق'!V177","v":{"$error":"#REF!"}},{"$error":"#REF!"},null,null,null,0,{"$f":"'[1]شعبة التسزيق'!AB177","v":{"$error":"#REF!"}},{"$f":"'[1]شعبة التسزيق'!AC177","v":{"$error":"#REF!"}},{"$f":"'[1]شعبة التسزيق'!AD177","v":{"$error":"#REF!"}},{"$error":"#REF!"},null,null,null,0,null,null,null,0,null,null,null,0,null,null,null,0,null,null,null,0,null,null,null,0,null,null,null,0,null,null,null,null,null,null,0,0,0,{"$error":"#REF!"},{"$f":"'[1]شعبة التسزيق'!BS177","v":{"$error":"#REF!"}},{"$f":"'[1]شعبة التسزيق'!BT177","v":{"$error":"#REF!"}},{"$f":"'[1]شعبة التسزيق'!BU177","v":{"$error":"#REF!"}},{"$error":"#REF!"},null,null,null,0,"راسبة",{"$error":"#REF!"},15,null,null,null,null,"عربى - ",{"$error":"#REF!"},"فرنسى - ",{"$error":"#REF!"},"احصاء - ","رياضة مالية - ","اقتصاد - ","سكرتارية . ع - ","سكرتارية . ف - ","مشروعات - ","مخازن - ","حاسب - ",{"$error":"#REF!"},"دين - ",{"$error":"#REF!"},null,{"$error":"#REF!"}]
[null,null,"طالبة تسويق 169",null,null,null,null,null,null,0,{"$f":"'[1]شعبة التسزيق'!T178","v":{"$error":"#REF!"}},{"$f":"'[1]شعبة التسزيق'!U178","v":{"$error":"#REF!"}},{"$f":"'[1]شعبة التسزيق'!V178","v":{"$error":"#REF!"}},{"$error":"#REF!"},null,null,null,0,{"$f":"'[1]شعبة التسزيق'!AB178","v":{"$error":"#REF!"}},{"$f":"'[1]شعبة التسزيق'!AC178","v":{"$error":"#REF!"}},{"$f":"'[1]شعبة التسزيق'!AD178","v":{"$error":"#REF!"}},{"$error":"#REF!"},null,null,null,0,null,null,null,0,null,null,null,0,null,null,null,0,null,null,null,0,null,null,null,0,null,null,null,0,null,null,null,null,null,null,0,0,0,{"$error":"#REF!"},{"$f":"'[1]شعبة التسزيق'!BS178","v":{"$error":"#REF!"}},{"$f":"'[1]شعبة التسزيق'!BT178","v":{"$error":"#REF!"}},{"$f":"'[1]شعبة التسزيق'!BU178","v":{"$error":"#REF!"}},{"$error":"#REF!"},null,null,null,0,"راسبة",{"$error":"#REF!"},15,null,null,null,null,"عربى - ",{"$error":"#REF!"},"فرنسى - ",{"$error":"#REF!"},"احصاء - ","رياضة مالية - ","اقتصاد - ","سكرتارية . ع - ","سكرتارية . ف - ","مشروعات - ","مخازن - ","حاسب - ",{"$error":"#REF!"},"دين - ",{"$error":"#REF!"},null,{"$error":"#REF!"}]
[null,null,"طالبة تسويق 170",null,null,null,null,null,null,0,{"$f":"'[1]شعبة التسزيق'!T179","v":{"$error":"#REF!"}},{"$f":"'[1]شعبة التسزيق'!U179","v":{"$error":"#REF!"}},{"$f":"'[1]شعبة التسزيق'!V179","v":{"$error":"#REF!"}},{"$error":"#REF!"},null,null,null,0,{"$f":"'[1]شعبة التسزيق'!AB179","v":{"$error":"#REF!"}},{"$f":"'[1]شعبة التسزيق'!AC179","v":{"$error":"#REF!"}},{"$f":"'[1]شعبة التسزيق'!AD179","v":{"$error":"#REF!"}},{"$error":"#REF!"},null,null,null,0,null,null,null,0,null,null,null,0,null,null,null,0,null,null,null,0,null,null,null,0,null,null,null,0,null,null,null,null,null,null,0,0,0,{"$error":"#REF!"},{"$f":"'[1]شعبة التسزيق'!BS179","v":{"$error":"#REF!"}},{"$f":"'[1]شعبة التسزيق'!BT179","v":{"$error":"#REF!"}},{"$f":"'[1]شعبة التسزيق'!BU179","v":{"$error":"#REF!"}},{"$error":"#REF!"},null,null,null,0,"راسبة",{"$error":"#REF!"},15,null,null,null,null,"عربى - ",{"$error":"#REF!"},"فرنسى - ",{"$error":"#REF!"},"احصاء - ","رياضة مالية - ","اقتصاد - ","سكرتارية . ع - ","سكرتارية . ف - ","مشروعات - ","مخازن - ","حاسب - ",{"$error":"#REF!"},"دين - ",{"$error":"#REF!"},null,{"$error":"#REF!"}]
[null,null,"طالبة تسويق 171",null,null,null,null,null,null,0,{"$f":"'[1]شعبة التسزيق'!T180","v":{"$error":"#REF!"}},{"$f":"'[1]شعبة التسزيق'!U180","v":{"$error":"#REF!"}},{"$f":"'[1]شعبة التسزيق'!V180","v":{"$error":"#REF!"}},{"$error":"#REF!"},null,null,null,0,{"$f":"'[1]شعبة التسزيق'!AB180","v":{"$error":"#REF!"}},{"$f":"'[1]شعبة التسزيق'!AC180","v":{"$error":"#REF!"}},{"$f":"'[1]شعبة التسزيق'!AD180","v":{"$error":"#REF!"}},{"$error":"#REF!"},null,null,null,0,null,null,null,0,null,null,null,0,null,null,null,0,null,null,null,0,null,null,null,0,null,null,null,0,null,null,null,null,null,null,0,0,0,{"$error":"#REF!"},{"$f":"'[1]شعبة التسزيق'!BS180","v":{"$error":"#REF!"}},{"$f":"'[1]شعبة التسزيق'!BT180","v":{"$error":"#REF!"}},{"$f":"'[1]شعبة التسزيق'!BU180","v":{"$error":"#REF!"}},{"$error":"#REF!"},null,null,null,0,"راسبة",{"$error":"#REF!"},15,null,null,null,null,"عربى - ",{"$error":"#REF!"},"فرنسى - ",{"$error":"#REF!"},"احصاء - ","رياضة مالية - ","اقتصاد - ","سكرتارية . ع - ","سكرتارية . ف - ","مشروعات - ","مخازن - ","حاسب - ",{"$error":"#REF!"},"دين - ",{"$error":"#REF!"},null,{"$error":"#REF!"}]
[null,null,"طالبة تسويق 172",null,null,null,null,null,null,0,{"$f":"'[1]شعبة التسزيق'!T181","v":{"$error":"#REF!"}},{"$f":"'[1]شعبة التسزيق'!U181","v":{"$error":"#REF!"}},{"$f":"'[1]شعبة التسزيق'!V181","v":{"$error":"#REF!"}},{"$error":"#REF!"},null,null,null,0,{"$f":"'[1]شعبة التسزيق'!AB181","v":{"$error":"#REF!"}},{"$f":"'[1]شعبة التسزيق'!AC181","v":{"$error":"#REF!"}},{"$f":"'[1]شعبة التسزيق'!AD181","v":{"$error":"#REF!"}},{"$error":"#REF!"},null,null,null,0,null,null,null,0,null,null,null,0,null,null,null,0,null,null,null,0,null,null,null,0,null,null,null,0,null,null,null,null,null,null,0,0,0,{"$error":"#REF!"},{"$f":"'[1]شعبة التسزيق'!BS181","v":{"$error":"#REF!"}},{"$f":"'[1]شعبة التسزيق'!BT181","v":{"$error":"#REF!"}},{"$f":"'[1]شعبة التسزيق'!BU181","v":{"$error":"#REF!"}},{"$error":"#REF!"},null,null,null,0,"راسبة",{"$error":"#REF!"},15,null,null,null,null,"عربى - ",{"$error":"#REF!"},"فرنسى - ",{"$error":"#REF!"},"احصاء - ","رياضة مالية - ","اقتصاد - ","سكرتارية . ع - ","سكرتارية . ف - ","مشروعات - ","مخازن - ","حاسب - ",{"$error":"#REF!"},"دين - ",{"$error":"#REF!"},null,{"$error":"#REF!"}]
[null,null,"طالبة تسويق 173",null,null,null,null,null,null,0,{"$f":"'[1]شعبة التسزيق'!T182","v":{"$error":"#REF!"}},{"$f":"'[1]شعبة التسزيق'!U182","v":{"$error":"#REF!"}},{"$f":"'[1]شعبة التسزيق'!V182","v":{"$error":"#REF!"}},{"$error":"#REF!"},null,null,null,0,{"$f":"'[1]شعبة التسزيق'!AB182","v":{"$error":"#REF!"}},{"$f":"'[1]شعبة التسزيق'!AC182","v":{"$error":"#REF!"}},{"$f":"'[1]شعبة التسزيق'!AD182","v":{"$error":"#REF!"}},{"$error":"#REF!"},null,null,null,0,null,null,null,0,null,null,null,0,null,null,null,0,null,null,null,0,null,null,null,0,null,null,null,0,null,null,null,null,null,null,0,0,0,{"$error":"#REF!"},{"$f":"'[1]شعبة التسزيق'!BS182","v":{"$error":"#REF!"}},{"$f":"'[1]شعبة التسزيق'!BT182","v":{"$error":"#REF!"}},{"$f":"'[1]شعبة التسزيق'!BU182","v":{"$error":"#REF!"}},{"$error":"#REF!"},null,null,null,0,"راسبة",{"$error":"#REF!"},15,null,null,null,null,"عربى - ",{"$error":"#REF!"},"فرنسى - ",{"$error":"#REF!"},"احصاء - ","رياضة مالية - ","اقتصاد - ","سكرتارية . ع - ","سكرتارية . ف - ","مشروعات - ","مخازن - ","حاسب - ",{"$error":"#REF!"},"دين - ",{"$error":"#REF!"},null,{"$error":"#REF!"}]
[null,null,"طالبة تسويق 174",null,null,null,null,null,null,0,{"$f":"'[1]شعبة التسزيق'!T183","v":{"$error":"#REF!"}},{"$f":"'[1]شعبة التسزيق'!U183","v":{"$error":"#REF!"}},{"$f":"'[1]شعبة التسزيق'!V183","v":{"$error":"#REF!"}},{"$error":"#REF!"},null,null,null,0,{"$f":"'[1]شعبة التسزيق'!AB183","v":{"$error":"#REF!"}},{"$f":"'[1]شعبة التسزيق'!AC183","v":{"$error":"#REF!"}},{"$f":"'[1]شعبة التسزيق'!AD183","v":{"$error":"#REF!"}},{"$error":"#REF!"},null,null,null,0,null,null,null,0,null,null,null,0,null,null,null,0,null,null,null,0,null,null,null,0,null,null,null,0,null,null,null,null,null,null,0,0,0,{"$error":"#REF!"},{"$f":"'[1]شعبة التسزيق'!BS183","v":{"$error":"#REF!"}},{"$f":"'[1]شعبة التسزيق'!BT183","v":{"$error":"#REF!"}},{"$f":"'[1]شعبة التسزيق'!BU183","v":{"$error":"#REF!"}},{"$error":"#REF!"},null,null,null,0,"راسبة",{"$error":"#REF!"},15,null,null,null,null,"عربى - ",{"$error":"#REF!"},"فرنسى - ",{"$error":"#REF!"},"احصاء - ","رياضة مالية - ","اقتصاد - ","سكرتارية . ع - ","سكرتارية . ف - ","مشروعات - ","مخازن - ","حاسب - ",{"$error":"#REF!"},"دين - ",{"$error":"#REF!"},null,{"$error":"#REF!"}]
[null,null,"طالبة تسويق 175",null,null,null,null,null,null,0,{"$f":"'[1]شعبة التسزيق'!T184","v":{"$error":"#REF!"}},{"$f":"'[1]شعبة التسزيق'!U184","v":{"$error":"#REF!"}},{"$f":"'[1]شعبة التسزيق'!V184","v":{"$error":"#REF!"}},{"$error":"#REF!"},null,null,null,0,{"$f":"'[1]شعبة التسزيق'!AB184","v":{"$error":"#REF!"}},{"$f":"'[1]شعبة التسزيق'!AC184","v":{"$error":"#REF!"}},{"$f":"'[1]شعبة التسزيق'!AD184","v":{"$error":"#REF!"}},{"$error":"#REF!"},null,null,null,0,null,null,null,0,null,null,null,0,null,null,null,0,null,null,null,0,null,null,null,0,null,null,null,0,null,null,null,null,null,null,0,0,0,{"$error":"#REF!"},{"$f":"'[1]شعبة التسزيق'!BS184","v":{"$error":"#REF!"}},{"$f":"'[1]شعبة التسزيق'!BT184","v":{"$error":"#REF!"}},{"$f":"'[1]شعبة التسزيق'!BU184","v":{"$error":"#REF!"}},{"$error":"#REF!"},null,null,null,0,"راسبة",{"$error":"#REF!"},15,null,null,null,null,"عربى - ",{"$error":"#REF!"},"فرنسى - ",{"$error":"#REF!"},"احصاء - ","رياضة مالية - ","اقتصاد - ","سكرتارية . ع - ","سكرتارية . ف - ","مشروعات - ","مخازن - ","حاسب - ",{"$error":"#REF!"},"دين - ",{"$error":"#REF!"},null,{"$error":"#REF!"}]
[null,null,"طالبة تسويق 176",null,null,null,null,null,null,0,{"$f":"'[1]شعبة التسزيق'!T185","v":{"$error":"#REF!"}},{"$f":"'[1]شعبة التسزيق'!U185","v":{"$error":"#REF!"}},{"$f":"'[1]شعبة التسزيق'!V185","v":{"$error":"#REF!"}},{"$error":"#REF!"},null,null,null,0,{"$f":"'[1]شعبة التسزيق'!AB185","v":{"$error":"#REF!"}},{"$f":"'[1]شعبة التسزيق'!AC185","v":{"$error":"#REF!"}},{"$f":"'[1]شعبة التسزيق'!AD185","v":{"$error":"#REF!"}},{"$error":"#REF!"},null,null,null,0,null,null,null,0,null,null,null,0,null,null,null,0,null,null,null,0,null,null,null,0,null,null,null,0,null,null,null,null,null,null,0,0,0,{"$error":"#REF!"},{"$f":"'[1]شعبة التسزيق'!BS185","v":{"$error":"#REF!"}},{"$f":"'[1]شعبة التسزيق'!BT185","v":{"$error":"#REF!"}},{"$f":"'[1]شعبة التسزيق'!BU185","v":{"$error":"#REF!"}},{"$error":"#REF!"},null,null,null,0,"راسبة",{"$error":"#REF!"},15,null,null,null,null,"عربى - ",{"$error":"#REF!"},"فرنسى - ",{"$error":"#REF!"},"احصاء - ","رياضة مالية - ","اقتصاد - ","سكرتارية . ع - ","سكرتارية . ف - ","مشروعات - ","مخازن - ","حاسب - ",{"$error":"#REF!"},"دين - ",{"$error":"#REF!"},null,{"$error":"#REF!"}]
[null,null,"طالبة تسويق 177",null,null,null,null,null,null,0,{"$f":"'[1]شعبة التسزيق'!T186","v":{"$error":"#REF!"}},{"$f":"'[1]شعبة التسزيق'!U186","v":{"$error":"#REF!"}},{"$f":"'[1]شعبة التسزيق'!V186","v":{"$error":"#REF!"}},{"$error":"#REF!"},null,null,null,0,{"$f":"'[1]شعبة التسزيق'!AB186","v":{"$error":"#REF!"}},{"$f":"'[1]شعبة التسزيق'!AC186","v":{"$error":"#REF!"}},{"$f":"'[1]شعبة التسزيق'!AD186","v":{"$error":"#REF!"}},{"$error":"#REF!"},null,null,null,0,null,null,null,0,null,null,null,0,null,null,null,0,null,null,null,0,null,null,null,0,null,null,null,0,null,null,null,null,null,null,0,0,0,{"$error":"#REF!"},{"$f":"'[1]شعبة التسزيق'!BS186","v":{"$error":"#REF!"}},{"$f":"'[1]شعبة التسزيق'!BT186","v":{"$error":"#REF!"}},{"$f":"'[1]شعبة التسزيق'!BU186","v":{"$error":"#REF!"}},{"$error":"#REF!"},null,null,null,0,"راسبة",{"$error":"#REF!"},15,null,null,null,null,"عربى - ",{"$error":"#REF!"},"فرنسى - ",{"$error":"#REF!"},"احصاء - ","رياضة مالية - ","اقتصاد - ","سكرتارية . ع - ","سكرتارية . ف - ","مشروعات - ","مخازن - ","حاسب - ",{"$error":"#REF!"},"دين - ",{"$error":"#REF!"},null,{"$error":"#REF!"}]
[null,null,"طالبة تسويق 178",null,null,null,null,null,null,0,{"$f":"'[1]شعبة التسزيق'!T187","v":{"$error":"#REF!"}},{"$f":"'[1]شعبة التسزيق'!U187","v":{"$error":"#REF!"}},{"$f":"'[1]شعبة التسزيق'!V187","v":{"$error":"#REF!"}},{"$error":"#REF!"},null,null,null,0,{"$f":"'[1]شعبة التسزيق'!AB187","v":{"$error":"#REF!"}},{"$f":"'[1]شعبة التسزيق'!AC187","v":{"$error":"#REF!"}},{"$f":"'[1]شعبة التسزيق'!AD187","v":{"$error":"#REF!"}},{"$error":"#REF!"},null,null,null,0,null,null,null,0,null,null,null,0,null,null,null,0,null,null,null,0,null,null,null,0,null,null,null,0,null,null,null,null,null,null,0,0,0,{"$error":"#REF!"},{"$f":"'[1]شعبة التسزيق'!BS187","v":{"$error":"#REF!"}},{"$f":"'[1]شعبة التسزيق'!BT187","v":{"$error":"#REF!"}},{"$f":"'[1]شعبة التسزيق'!BU187","v":{"$error":"#REF!"}},{"$error":"#REF!"},null,null,null,0,"راسبة",{"$error":"#REF!"},15,null,null,null,null,"عربى - ",{"$error":"#REF!"},"فرنسى - ",{"$error":"#REF!"},"احصاء - ","رياضة مالية - ","اقتصاد - ","سكرتارية . ع - ","سكرتارية . ف - ","مشروعات - ","مخازن - ","حاسب - ",{"$error":"#REF!"},"دين - ",{"$error":"#REF!"},null,{"$error":"#REF!"}]
[null,null,"طالبة تسويق 179",null,null,null,null,null,null,0,{"$f":"'[1]شعبة التسزيق'!T188","v":{"$error":"#REF!"}},{"$f":"'[1]شعبة التسزيق'!U188","v":{"$error":"#REF!"}},{"$f":"'[1]شعبة التسزيق'!V188","v":{"$error":"#REF!"}},{"$error":"#REF!"},null,null,null,0,{"$f":"'[1]شعبة التسزيق'!AB188","v":{"$error":"#REF!"}},{"$f":"'[1]شعبة التسزيق'!AC188","v":{"$error":"#REF!"}},{"$f":"'[1]شعبة التسزيق'!AD188","v":{"$error":"#REF!"}},{"$error":"#REF!"},null,null,null,0,null,null,null,0,null,null,null,0,null,null,null,0,null,null,null,0,null,null,null,0,null,null,null,0,null,null,null,null,null,null,0,0,0,{"$error":"#REF!"},{"$f":"'[1]شعبة التسزيق'!BS188","v":{"$error":"#REF!"}},{"$f":"'[1]شعبة التسزيق'!BT188","v":{"$error":"#REF!"}},{"$f":"'[1]شعبة التسزيق'!BU188","v":{"$error":"#REF!"}},{"$error":"#REF!"},null,null,null,0,"راسبة",{"$error":"#REF!"},15,null,null,null,null,"عربى - ",{"$error":"#REF!"},"فرنسى - ",{"$error":"#REF!"},"احصاء - ","رياضة مالية - ","اقتصاد - ","سكرتارية . ع - ","سكرتارية . ف - ","مشروعات - ","مخازن - ","حاسب - ",{"$error":"#REF!"},"دين - ",{"$error":"#REF!"},null,{"$error":"#REF!"}]
[null,null,"طالبة تسويق 180",null,null,null,null,null,null,0,{"$f":"'[1]شعبة التسزيق'!T189","v":{"$error":"#REF!"}},{"$f":"'[1]شعبة التسزيق'!U189","v":{"$error":"#REF!"}},{"$f":"'[1]شعبة التسزيق'!V189","v":{"$error":"#REF!"}},{"$error":"#REF!"},null,null,null,0,{"$f":"'[1]شعبة التسزيق'!AB189","v":{"$error":"#REF!"}},{"$f":"'[1]شعبة التسزيق'!AC189","v":{"$error":"#REF!"}},{"$f":"'[1]شعبة التسزيق'!AD189","v":{"$error":"#REF!"}},{"$error":"#REF!"},null,null,null,0,null,null,null,0,null,null,null,0,null,null,null,0,null,null,null,0,null,null,null,0,null,null,null,0,null,null,null,null,null,null,0,0,0,{"$error":"#REF!"},{"$f":"'[1]شعبة التسزيق'!BS189","v":{"$error":"#REF!"}},{"$f":"'[1]شعبة التسزيق'!BT189","v":{"$error":"#REF!"}},{"$f":"'[1]شعبة التسزيق'!BU189","v":{"$error":"#REF!"}},{"$error":"#REF!"},null,null,null,0,"راسبة",{"$error":"#REF!"},15,null,null,null,null,"عربى - ",{"$error":"#REF!"},"فرنسى - ",{"$error":"#REF!"},"احصاء - ","رياضة مالية - ","اقتصاد - ","سكرتارية . ع - ","سكرتارية . ف - ","مشروعات - ","مخازن - ","حاسب - ",{"$error":"#REF!"},"دين - ",{"$error":"#REF!"},null,{"$error":"#REF!"}]
[null,null,"طالبة تسويق 181",null,null,null,null,null,null,0,{"$f":"'[1]شعبة التسزيق'!T190","v":{"$error":"#REF!"}},{"$f":"'[1]شعبة التسزيق'!U190","v":{"$error":"#REF!"}},{"$f":"'[1]شعبة التسزيق'!V190","v":{"$error":"#REF!"}},{"$error":"#REF!"},null,null,null,0,{"$f":"'[1]شعبة التسزيق'!AB190","v":{"$error":"#REF!"}},{"$f":"'[1]شعبة التسزيق'!AC190","v":{"$error":"#REF!"}},{"$f":"'[1]شعبة التسزيق'!AD190","v":{"$error":"#REF!"}},{"$error":"#REF!"},null,null,null,0,null,null,null,0,null,null,null,0,null,null,null,0,null,null,null,0,null,null,null,0,null,null,null,0,null,null,null,null,null,null,0,0,0,{"$error":"#REF!"},null,null,null,0,null,null,null,0,"راسبة",{"$error":"#REF!"},15,null,null,null,null,"عربى - ",{"$error":"#REF!"},"فرنسى - ",{"$error":"#REF!"},"احصاء - ","رياضة مالية - ","اقتصاد - ","سكرتارية . ع - ","سكرتارية . ف - ","مشروعات - ","مخازن - ","حاسب - ","مواطنة - ","دين - ",{"$error":"#REF!"},null,{"$error":"#REF!"}]
[null,null,"طالبة تسويق 182",null,null,null,null,null,null,0,{"$f":"'[1]شعبة التسزيق'!T191","v":{"$error":"#REF!"}},{"$f":"'[1]شعبة التسزيق'!U191","v":{"$error":"#REF!"}},{"$f":"'[1]شعبة التسزيق'!V191","v":{"$error":"#REF!"}},{"$error":"#REF!"},null,null,null,0,{"$f":"'[1]شعبة التسزيق'!AB191","v":{"$error":"#REF!"}},{"$f":"'[1]شعبة التسزيق'!AC191","v":{"$error":"#REF!"}},{"$f":"'[1]شعبة التسزيق'!AD191","v":{"$error":"#REF!"}},{"$error":"#REF!"},null,null,null,0,null,null,null,0,null,null,null,0,null,null,null,0,null,null,null,0,null,null,null,0,null,null,null,0,null,null,null,null,null,null,0,0,0,{"$error":"#REF!"},null,null,null,0,null,null,null,0,"راسبة",{"$error":"#REF!"},15,null,null,null,null,"عربى - ",{"$error":"#REF!"},"فرنسى - ",{"$error":"#REF!"},"احصاء - ","رياضة مالية - ","اقتصاد - ","سكرتارية . ع - ","سكرتارية . ف - ","مشروعات - ","مخازن - ","حاسب - ","مواطنة - ","دين - ",{"$error":"#REF!"},null,{"$error":"#REF!"}]
[null,null,"طالبة تسويق 183",null,null,null,null,null,null,0,{"$f":"'[1]شعبة التسزيق'!T192","v":{"$error":"#REF!"}},{"$f":"'[1]شعبة التسزيق'!U192","v":{"$error":"#REF!"}},{"$f":"'[1]شعبة التسزيق'!V192","v":{"$error":"#REF!"}},{"$error":"#REF!"},null,null,null,0,{"$f":"'[1]شعبة التسزيق'!AB192","v":{"$error":"#REF!"}},{"$f":"'[1]شعبة التسزيق'!AC192","v":{"$error":"#REF!"}},{"$f":"'[1]شعبة التسزيق'!AD192","v":{"$error":"#REF!"}},{"$error":"#REF!"},null,null,null,0,null,null,null,0,null,null,null,0,null,null,null,0,null,null,null,0,null,null,null,0,null,null,null,0,null,null,null,null,null,null,0,0,0,{"$error":"#REF!"},null,null,null,0,null,null,null,0,"راسبة",{"$error":"#REF!"},15,null,null,null,null,"عربى - ",{"$error":"#REF!"},"فرنسى - ",{"$error":"#REF!"},"احصاء - ","رياضة مالية - ","اقتصاد - ","سكرتارية . ع - ","سكرتارية . ف - ","مشروعات - ","مخازن - ","حاسب - ","مواطنة - ","دين - ",{"$error":"#REF!"},null,{"$error":"#REF!"}]
[null,null,"طالبة تسويق 184",null,null,null,null,null,null,0,{"$f":"'[1]شعبة التسزيق'!T193","v":{"$error":"#REF!"}},{"$f":"'[1]شعبة التسزيق'!U193","v":{"$error":"#REF!"}},{"$f":"'[1]شعبة التسزيق'!V193","v":{"$error":"#REF!"}},{"$error":"#REF!"},null,null,null,0,{"$f":"'[1]شعبة التسزيق'!AB193","v":{"$error":"#REF!"}},{"$f":"'[1]شعبة التسزيق'!AC193","v":{"$error":"#REF!"}},{"$f":"'[1]شعبة التسزيق'!AD193","v":{"$error":"#REF!"}},{"$error":"#REF!"},null,null,null,0,null,null,null,0,null,null,null,0,null,null,null,0,null,null,null,0,null,null,null,0,null,null,null,0,null,null,null,null,null,null,0,0,0,{"$error":"#REF!"},null,null,null,0,null,null,null,0,"راسبة",{"$error":"#REF!"},15,null,null,null,null,"عربى - ",{"$error":"#REF!"},"فرنسى - ",{"$error":"#REF!"},"احصاء - ","رياضة مالية - ","اقتصاد - ","سكرتارية . ع - ","سكرتارية . ف - ","مشروعات - ","مخازن - ","حاسب - ","مواطنة - ","دين - ",{"$error":"#REF!"},null,{"$error":"#REF!"}]
[null,null,"طالبة تسويق 185",null,null,null,null,null,null,0,{"$f":"'[1]شعبة التسزيق'!T194","v":{"$error":"#REF!"}},{"$f":"'[1]شعبة التسزيق'!U194","v":{"$error":"#REF!"}},{"$f":"'[1]شعبة التسزيق'!V194","v":{"$error":"#REF!"}},{"$error":"#REF!"},null,null,null,0,{"$f":"'[1]شعبة التسزيق'!AB194","v":{"$error":"#REF!"}},{"$f":"'[1]شعبة التسزيق'!AC194","v":{"$error":"#REF!"}},{"$f":"'[1]شعبة التسزيق'!AD194","v":{"$error":"#REF!"}},{"$error":"#REF!"},null,null,null,0,null,null,null,0,null,null,null,0,null,null,null,0,null,null,null,0,null,null,null,0,null,null,null,0,null,null,null,null,null,null,0,0,0,{"$error":"#REF!"},null,null,null,0,null,null,null,0,"راسبة",{"$error":"#REF!"},15,null,null,null,null,"عربى - ",{"$error":"#REF!"},"فرنسى - ",{"$error":"#REF!"},"احصاء - ","رياضة مالية - ","اقتصاد - ","سكرتارية . ع - ","سكرتارية . ف - ","مشروعات - ","مخازن - ","حاسب - ","مواطنة - ","دين - ",{"$error":"#REF!"},null,{"$error":"#REF!"}]
[null,null,"طالبة تسويق 186",null,null,null,null,null,null,0,{"$f":"'[1]شعبة التسزيق'!T195","v":{"$error":"#REF!"}},{"$f":"'[1]شعبة التسزيق'!U195","v":{"$error":"#REF!"}},{"$f":"'[1]شعبة التسزيق'!V195","v":{"$error":"#REF!"}},{"$error":"#REF!"},null,null,null,0,{"$f":"'[1]شعبة التسزيق'!AB195","v":{"$error":"#REF!"}},{"$f":"'[1]شعبة التسزيق'!AC195","v":{"$error":"#REF!"}},{"$f":"'[1]شعبة التسزيق'!AD195","v":{"$error":"#REF!"}},{"$error":"#REF!"},null,null,null,0,null,null,null,0,null,null,null,0,null,null,null,0,null,null,null,0,null,null,null,0,null,null,null,0,null,null,null,null,null,null,0,0,0,{"$error":"#REF!"},null,null,null,0,null,null,null,0,"راسبة",{"$error":"#REF!"},15,null,null,null,null,"عربى - ",{"$error":"#REF!"},"فرنسى - ",{"$error":"#REF!"},"احصاء - ","رياضة مالية - ","اقتصاد - ","سكرتارية . ع - ","سكرتارية . ف - ","مشروعات - ","مخازن - ","حاسب - ","مواطنة - ","دين - ",{"$error":"#REF!"},null,{"$error":"#REF!"}]
[null,null,"طالبة تسويق 187",null,null,null,null,null,null,0,{"$f":"'[1]شعبة التسزيق'!T196","v":{"$error":"#REF!"}},{"$f":"'[1]شعبة التسزيق'!U196","v":{"$error":"#REF!"}},{"$f":"'[1]شعبة التسزيق'!V196","v":{"$error":"#REF!"}},{"$error":"#REF!"},null,null,null,0,{"$f":"'[1]شعبة التسزيق'!AB196","v":{"$error":"#REF!"}},{"$f":"'[1]شعبة التسزيق'!AC196","v":{"$error":"#REF!"}},{"$f":"'[1]شعبة التسزيق'!AD196","v":{"$error":"#REF!"}},{"$error":"#REF!"},null,null,null,0,null,null,null,0,null,null,null,0,null,null,null,0,null,null,null,0,null,null,null,0,null,null,null,0,null,null,null,null,null,null,0,0,0,{"$error":"#REF!"},null,null,null,0,null,null,null,0,"راسبة",{"$error":"#REF!"},15,null,null,null,null,"عربى - ",{"$error":"#REF!"},"فرنسى - ",{"$error":"#REF!"},"احصاء - ","رياضة مالية - ","اقتصاد - ","سكرتارية . ع - ","سكرتارية . ف - ","مشروعات - ","مخازن - ","حاسب - ","مواطنة - ","دين - ",{"$error":"#REF!"},null,{"$error":"#REF!"}]
[null,null,"طالبة تسويق 188",null,null,null,null,null,null,0,{"$f":"'[1]شعبة التسزيق'!T197","v":{"$error":"#REF!"}},{"$f":"'[1]شعبة التسزيق'!U197","v":{"$error":"#REF!"}},{"$f":"'[1]شعبة التسزيق'!V197","v":{"$error":"#REF!"}},{"$error":"#REF!"},null,null,null,0,{"$f":"'[1]شعبة التسزيق'!AB197","v":{"$error":"#REF!"}},{"$f":"'[1]شعبة التسزيق'!AC197","v":{"$error":"#REF!"}},{"$f":"'[1]شعبة التسزيق'!AD197","v":{"$error":"#REF!"}},{"$error":"#REF!"},null,null,null,0,null,null,null,0,null,null,null,0,null,null,null,0,null,null,null,0,null,null,null,0,null,null,null,0,null,null,null,null,null,null,0,0,0,{"$error":"#REF!"},null,null,null,0,null,null,null,0,"راسبة",{"$error":"#REF!"},15,null,null,null,null,"عربى - ",{"$error":"#REF!"},"فرنسى - ",{"$error":"#REF!"},"احصاء - ","رياضة مالية - ","اقتصاد - ","سكرتارية . ع - ","سكرتارية . ف - ","مشروعات - ","مخازن - ","حاسب - ","مواطنة - ","دين - ",{"$error":"#REF!"},null,{"$error":"#REF!"}]
[null,null,"طالبة تسويق 189",null,null,null,null,null,null,0,{"$f":"'[1]شعبة التسزيق'!T198","v":{"$error":"#REF!"}},{"$f":"'[1]شعبة التسزيق'!U198","v":{"$error":"#REF!"}},{"$f":"'[1]شعبة التسزيق'!V198","v":{"$error":"#REF!"}},{"$error":"#REF!"},null,null,null,0,{"$f":"'[1]شعبة التسزيق'!AB198","v":{"$error":"#REF!"}},{"$f":"'[1]شعبة التسزيق'!AC198","v":{"$error":"#REF!"}},{"$f":"'[1]شعبة التسزيق'!AD198","v":{"$error":"#REF!"}},{"$error":"#REF!"},null,null,null,0,null,null,null,0,null,null,null,0,null,null,null,0,null,null,null,0,null,null,null,0,null,null,null,0,null,null,null,null,null,null,0,0,0,{"$error":"#REF!"},null,null,null,0,null,null,null,0,"راسبة",{"$error":"#REF!"},15,null,null,null,null,"عربى - ",{"$error":"#REF!"},"فرنسى - ",{"$error":"#REF!"},"احصاء - ","رياضة مالية - ","اقتصاد - ","سكرتارية . ع - ","سكرتارية . ف - ","مشروعات - ","مخازن - ","حاسب - ","مواطنة - ","دين - ",{"$error":"#REF!"},null,{"$error":"#REF!"}]
[null,null,"طالبة تسويق 190",null,null,null,null,null,null,0,{"$f":"'[1]شعبة التسزيق'!T199","v":{"$error":"#REF!"}},{"$f":"'[1]شعبة التسزيق'!U199","v":{"$error":"#REF!"}},{"$f":"'[1]شعبة التسزيق'!V199","v":{"$error":"#REF!"}},{"$error":"#REF!"},null,null,null,0,{"$f":"'[1]شعبة التسزيق'!AB199","v":{"$error":"#REF!"}},{"$f":"'[1]شعبة التسزيق'!AC199","v":{"$error":"#REF!"}},{"$f":"'[1]شعبة التسزيق'!AD199","v":{"$error":"#REF!"}},{"$error":"#REF!"},null,null,null,0,null,null,null,0,null,null,null,0,null,null,null,0,null,null,null,0,null,null,null,0,null,null,null,0,null,null,null,null,null,null,0,0,0,{"$error":"#REF!"},null,null,null,0,null,null,null,0,"راسبة",{"$error":"#REF!"},15,null,null,null,null,"عربى - ",{"$error":"#REF!"},"فرنسى - ",{"$error":"#REF!"},"احصاء - ","رياضة مالية - ","اقتصاد - ","سكرتارية . ع - ","سكرتارية . ف - ","مشروعات - ","مخازن - ","حاسب - ","مواطنة - ","دين - ",{"$error":"#REF!"},null,{"$error":"#REF!"}]
[null,null,"طالبة تسويق 191",null,null,null,null,null,null,0,{"$f":"'[1]شعبة التسزيق'!T200","v":{"$error":"#REF!"}},{"$f":"'[1]شعبة التسزيق'!U200","v":{"$error":"#REF!"}},{"$f":"'[1]شعبة التسزيق'!V200","v":{"$error":"#REF!"}},{"$error":"#REF!"},null,null,null,0,{"$f":"'[1]شعبة التسزيق'!AB200","v":{"$error":"#REF!"}},{"$f":"'[1]شعبة التسزيق'!AC200","v":{"$error":"#REF!"}},{"$f":"'[1]شعبة التسزيق'!AD200","v":{"$error":"#REF!"}},{"$error":"#REF!"},null,null,null,0,null,null,null,0,null,null,null,0,null,null,null,0,null,null,null,0,null,null,null,0,null,null,null,0,null,null,null,null,null,null,0,0,0,{"$error":"#REF!"},null,null,null,0,null,null,null,0,"راسبة",{"$error":"#REF!"},15,null,null,null,null,"عربى - ",{"$error":"#REF!"},"فرنسى - ",{"$error":"#REF!"},"احصاء - ","رياضة مالية - ","اقتصاد - ","سكرتارية . ع - ","سكرتارية . ف - ","مشروعات - ","مخازن - ","حاسب - ","مواطنة - ","دين - ",{"$error":"#REF!"},null,{"$error":"#REF!"}]
[null,null,"طالبة تسويق 192",null,null,null,null,null,null,0,null,null,null,0,null,null,null,0,{"$f":"'[1]شعبة التسزيق'!AB201","v":{"$error":"#REF!"}},{"$f":"'[1]شعبة التسزيق'!AC201","v":{"$error":"#REF!"}},{"$f":"'[1]شعبة التسزيق'!AD201","v":{"$error":"#REF!"}},{"$error":"#REF!"},null,null,null,0,null,null,null,0,null,null,null,0,null,null,null,0,null,null,null,0,null,null,null,0,null,null,null,0,null,null,null,null,null,null,0,0,0,{"$error":"#REF!"},null,null,null,0,null,null,null,0,"راسبة",{"$error":"#REF!"},15,null,null,null,null,"عربى - ","انجليزى - ","فرنسى - ",{"$error":"#REF!"},"احصاء - ","رياضة مالية - ","اقتصاد - ","سكرتارية . ع - ","سكرتارية . ف - ","مشروعات - ","مخازن - ","حاسب - ","مواطنة - ","دين - ",{"$error":"#REF!"},null,{"$error":"#REF!"}]
[null,null,null,null,null,null,null,null,null,0,null,null,null,{"$f":"SUM(K202:M202)","v":0},null,null,null,{"$f":"SUM(O202:Q202)","v":0},{"$f":"'[1]شعبة التسزيق'!AB202","v":{"$error":"#REF!"}},{"$f":"'[1]شعبة التسزيق'!AC202","v":{"$error":"#REF!"}},{"$f":"'[1]شعبة التسزيق'!AD202","v":{"$error":"#REF!"}},{"$f":"SUM(S202:U202)","v":{"$error":"#REF!"}},null,null,null,{"$f":"SUM(W202:Y202)","v":0},null,null,null,{"$f":"SUM(AA202:AC202)","v":0},null,null,null,{"$f":"SUM(AE202:AG202)","v":0},null,null,null,{"$f":"SUM(AI202:AK202)","v":0},null,null,null,{"$f":"SUM(AM202:AO202)","v":0},null,null,null,{"$f":"SUM(AQ202:AS202)","v":0},null,null,null,{"$f":"SUM(AU202:AW202)","v":0},null,null,null,null,null,null,"","",{"$f":"IF($C202=\"\",\"\",SUM(BE202,BF202))","v":""},{"$f":"IF($C202=\"\",\"\",SUM(J202,N202,R202,V202,Z202,AD202,AH202,AL202,AP202,AT202,AX202,BG202))","v":""},null,null,null,{"$f":"SUM(BI202:BK202)","v":0},null,null,null,{"$f":"SUM(BM202:BO202)","v":0},{"$f":"IF($C202=\"\",\"\",IF(BS202=0,\"ناجحة\",IF(BS202<=2,\"دورثان\",\"راسبة\")))","v":""},{"$f":"IF($C202=\"\",\"\",IF(BS202=0,\"ومنقولة للصف الثالث\",IF(BS202>0,\"فى  :  \"&CONCATENATE(BX202,BY202,BZ202,CA202,CB202,CC202,CD202,CE202,CF202,CG202,CH202,CI202,CJ202,CK202,CL202),CONCATENATE(BX202,BY202,BZ202,CA202,CB202,CC202,CD202,CE202,CF202,CG202,CH202,CI202,CJ202,CK202,CL202))))","v":""},{"$f":"IF($C202=\"\",\"\",COUNTA($BX202:$CL202)-COUNTBLANK($BX202:$CL202))","v":""},null,null,null,null,{"$f":"IF($C202=\"\",\"\",IF(OR(I202<$I$9,I202=\"غ\",J202<$J$9),$BX$5&\" - \",\"\"))","v":""},{"$f":"IF($C202=\"\",\"\",IF(OR(M202<$M$9,M202=\"غ\",N202<$N$9),$BY$5&\" - \",\"\"))","v":""},{"$f":"IF($C202=\"\",\"\",IF(OR(Q202<$Q$9,Q202=\"غ\",R202<$R$9),BZ$5&\" - \",\"\"))","v":""},{"$f":"IF($C202=\"\",\"\",IF(OR(U202<$U$9,U202=\"غ\",V202<$V$9),CA$5&\" - \",\"\"))","v":""},{"$f":"IF($C202=\"\",\"\",IF(OR(Y202<$Y$9,Y202=\"غ\",Z202<$Z$9),CB$5&\" - \",\"\"))","v":""},{"$f":"IF($C202=\"\",\"\",IF(OR(AC202<$AC$9,AC202=\"غ\",AD202<$AD$9),CC$5&\" - \",\"\"))","v":""},{"$f":"IF($C202=\"\",\"\",IF(OR(AG202<$AG$9,AG202=\"غ\",AH202<$AH$9),CD$5&\" - \",\"\"))","v":""},{"$f":"IF($C202=\"\",\"\",IF(OR(AK202<$AK$9,AK202=\"غ\",AL202<$AL$9),CE$5&\" - \",\"\"))","v":""},{"$f":"IF($C202=\"\",\"\",IF(OR(AO202<$AO$9,AO202=\"غ\",AP202<$AP$9),CF$5&\" - \",\"\"))","v":""},{"$f":"IF($C202=\"\",\"\",IF(OR(AS202<$AS$9,AS202=\"غ\",AT202<$AT$9),CG$5&\" - \",\"\"))","v":""},{"$f":"IF($C202=\"\",\"\",IF(OR(AW202<$AW$9,AW202=\"غ\",AX202<$AX$9),CH$5&\" - \",\"\"))","v":""},{"$f":"IF($C202=\"\",\"\",IF(OR(BE202<$BE$9,BE202=\"غ\",BF202<$BF$9,BF202=\"غ\",BG202<$BG$9),CI$5&\" - \",\"\"))","v":""},{"$f":"IF($C202=\"\",\"\",IF(OR(BK202<$BK$9,BK202=\"غ\",BL202<$BL$9),CJ$5&\" - \",\"\"))","v":""},{"$f":"IF($C202=\"\",\"\",IF(OR(BO202<$BO$9,BO202=\"غ\",BP202<$BP$9),CK$5&\" - \",\"\"))","v":""},{"$f":"IF($C202=\"\",\"\",IF(BH202<$BH$9,CL$5,\"\"))","v":""},null,{"$f":"IF($C202=\"\",\"\",SUM(H202,L202,P202,T202,X202,AB202,AF202,AJ202,AN202,AR202,AV202,BA202,BB202))","v":""}]
[null,null,null,null,null,null,null,null,null,{"$f":"SUM(G203:I203)","v":0},null,null,null,0,null,null,null,0,{"$f":"'[1]شعبة التسزيق'!AB203","v":{"$error":"#REF!"}},{"$f":"'[1]شعبة التسزيق'!AC203","v":{"$error":"#REF!"}},{"$f":"'[1]شعبة التسزيق'!AD203","v":{"$error":"#REF!"}},{"$error":"#REF!"},null,null,null,0,null,null,null,0,null,null,null,0,null,null,null,0,null,null,null,0,null,null,null,0,null,null,null,0,null,null,null,null,null,null,{"$f":"IF($C203=\"\",\"\",SUM(AY203,BA203,BC203))","v":""},"","","",null,null,null,0,null,null,null,0,"","","",null,null,null,null,"","","","","","","","","","","","","","","",null,""]
[null,null,null,null,null,null,null,null,null,0,null,null,null,0,null,null,null,0,{"$f":"'[1]شعبة التسزيق'!AB204","v":{"$error":"#REF!"}},{"$f":"'[1]شعبة التسزيق'!AC204","v":{"$error":"#REF!"}},{"$f":"'[1]شعبة التسزيق'!AD204","v":{"$error":"#REF!"}},{"$error":"#REF!"},null,null,null,0,null,null,null,0,null,null,null,0,null,null,null,0,null,null,null,0,null,null,null,0,null,null,null,0,null,null,null,null,null,null,"","","","",null,null,null,0,null,null,null,0,"","","",null,null,null,null,"","","","","","","","","","","","","","","",null,""]
[null,null,null,null,null,null,null,null,null,0,null,null,null,0,null,null,null,0,{"$f":"'[1]شعبة التسزيق'!AB205","v":{"$error":"#REF!"}},{"$f":"'[1]شعبة التسزيق'!AC205","v":{"$error":"#REF!"}},{"$f":"'[1]شعبة التسزيق'!AD205","v":{"$error":"#REF!"}},{"$error":"#REF!"},null,null,null,0,null,null,null,0,null,null,null,0,null,null,null,0,null,null,null,0,null,null,null,0,null,null,null,0,null,null,null,null,null,null,"","","","",null,null,null,0,null,null,null,0,"","","",null,null,null,null,"","","","","","","","","","","","","","","",null,""]
[null,null,null,null,null,null,null,null,null,0,null,null,null,0,null,null,null,0,{"$f":"'[1]شعبة التسزيق'!AB206","v":{"$error":"#REF!"}},{"$f":"'[1]شعبة التسزيق'!AC206","v":{"$error":"#REF!"}},{"$f":"'[1]شعبة التسزيق'!AD206","v":{"$error":"#REF!"}},{"$error":"#REF!"},null,null,null,0,null,null,null,0,null,null,null,0,null,null,null,0,null,null,null,0,null,null,null,0,null,null,null,0,null,null,null,null,null,null,"","","","",null,null,null,0,null,null,null,0,"","","",null,null,null,null,"","","","","","","","","","","","","","","",null,""]
[null,null,null,null,null,null,null,null,null,0,null,null,null,0,null,null,null,0,{"$f":"'[1]شعبة التسزيق'!AB207","v":{"$error":"#REF!"}},{"$f":"'[1]شعبة التسزيق'!AC207","v":{"$error":"#REF!"}},{"$f":"'[1]شعبة التسزيق'!AD207","v":{"$error":"#REF!"}},{"$error":"#REF!"},null,null,null,0,null,null,null,0,null,null,null,0,null,null,null,0,null,null,null,0,null,null,null,0,null,null,null,0,null,null,null,null,null,null,"","","","",null,null,null,0,null,null,null,0,"","","",null,null,null,null,"","","","","","","","","","","","","","","",null,""]
[null,null,null,null,null,null,null,null,null,0,null,null,null,0,null,null,null,0,{"$f":"'[1]شعبة التسزيق'!AB208","v":{"$error":"#REF!"}},{"$f":"'[1]شعبة التسزيق'!AC208","v":{"$error":"#REF!"}},{"$f":"'[1]شعبة التسزيق'!AD208","v":{"$error":"#REF!"}},{"$error":"#REF!"},null,null,null,0,null,null,null,0,null,null,null,0,null,null,null,0,null,null,null,0,null,null,null,0,null,null,null,0,null,null,null,null,null,null,"","","","",null,null,null,0,null,null,null,0,"","","",null,null,null,null,"","","","","","","","","","","","","","","",null,""]
[null,null,null,null,null,null,null,null,null,0,null,null,null,0,null,null,null,0,null,null,null,0,null,null,null,0,null,null,null,0,null,null,null,0,null,null,null,0,null,null,null,0,null,null,null,0,null,null,null,0,null,null,null,null,null,null,"","","","",null,null,null,0,null,null,null,0,"","","",null,null,null,null,"","","","","","","","","","","","","","","",null,""]
[null,null,null,null,null,null,null,null,null,0,null,null,null,0,null,null,null,0,null,null,null,0,null,null,null,0,null,null,null,0,null,null,null,0,null,null,null,0,null,null,null,0,null,null,null,0,null,null,null,0,null,null,null,null,null,null,"","","","",null,null,null,0,null,null,null,0,"","","",null,null,null,null,"","","","","","","","","","","","","","","",null,""]
[null,null,null,null,null,null,null,null,null,0,null,null,null,0,null,null,null,0,null,null,null,0,null,null,null,0,null,null,null,0,null,null,null,0,null,null,null,0,null,null,null,0,null,null,null,0,null,null,null,0,null,null,null,null,null,null,"","","","",null,null,null,0,null,null,null,0,"","","",null,null,null,null,"","","","","","","","","","","","","","","",null,""]
[null,null,null,null,null,null,null,null,null,0,null,null,null,0,null,null,null,0,null,null,null,0,null,null,null,0,null,null,null,0,null,null,null,0,null,null,null,0,null,null,null,0,null,null,null,0,null,null,null,0,null,null,null,null,null,null,"","","","",null,null,null,0,null,null,null,0,"","","",null,null,null,null,"","","","","","","","","","","","","","","",null,""]
[null,null,null,null,null,null,null,null,null,0,null,null,null,0,null,null,null,0,null,null,null,0,null,null,null,0,null,null,null,0,null,null,null,0,null,null,null,0,null,null,null,0,null,null,null,0,null,null,null,0,null,null,null,null,null,null,"","","","",null,null,null,0,null,null,null,0,"","","",null,null,null,null,"","","","","","","","","","","","","","","",null,""]
[null,null,null,null,null,null,null,null,null,0,null,null,null,0,null,null,null,0,null,null,null,0,null,null,null,0,null,null,null,0,null,null,null,0,null,null,null,0,null,null,null,0,null,null,null,0,null,null,null,0,null,null,null,null,null,null,"","","","",null,null,null,0,null,null,null,0,"","","",null,null,null,null,"","","","","","","","","","","","","","","",null,""]
[null,null,null,null,null,null,null,null,null,0,null,null,null,0,null,null,null,0,null,null,null,0,null,null,null,0,null,null,null,0,null,null,null,0,null,null,null,0,null,null,null,0,null,null,null,0,null,null,null,0,null,null,null,null,null,null,"","","","",null,null,null,0,null,null,null,0,"","","",null,null,null,null,"","","","","","","","","","","","","","","",null,""]
[null,null,null,null,null,null,null,null,null,0,null,null,null,0,null,null,null,0,null,null,null,0,null,null,null,0,null,null,null,0,null,null,null,0,null,null,null,0,null,null,null,0,null,null,null,0,null,null,null,0,null,null,null,null,null,null,"","","","",null,null,null,0,null,null,null,0,"","","",null,null,null,null,"","","","","","","","","","","","","","","",null,""]
[null,null,null,null,null,null,null,null,null,0,null,null,null,0,null,null,null,0,null,null,null,0,null,null,null,0,null,null,null,0,null,null,null,0,null,null,null,0,null,null,null,0,null,null,null,0,null,null,null,0,null,null,null,null,null,null,"","","","",null,null,null,0,null,null,null,0,"","","",null,null,null,null,"","","","","","","","","","","","","","","",null,""]
[null,null,null,null,null,null,null,null,null,0,null,null,null,0,null,null,null,0,null,null,null,0,null,null,null,0,null,null,null,0,null,null,null,0,null,null,null,0,null,null,null,0,null,null,null,0,null,null,null,0,null,null,null,null,null,null,"","","","",null,null,null,0,null,null,null,0,"","","",null,null,null,null,"","","","","","","","","","","","","","","",null,""]
[null,null,null,null,null,null,null,null,null,0,null,null,null,0,null,null,null,0,null,null,null,0,null,null,null,0,null,null,null,0,null,null,null,0,null,null,null,0,null,null,null,0,null,null,null,0,null,null,null,0,null,null,null,null,null,null,"","","","",null,null,null,0,null,null,null,0,"","","",null,null,null,null,"","","","","","","","","","","","","","","",null,""]
[null,null,null,null,null,null,null,null,null,0,null,null,null,0,null,null,null,0,null,null,null,0,null,null,null,0,null,null,null,0,null,null,null,0,null,null,null,0,null,null,null,0,null,null,null,0,null,null,null,0,null,null,null,null,null,null,"","","","",null,null,null,0,null,null,null,0,"","","",null,null,null,null,"","","","","","","","","","","","","","","",null,""]
[null,null,null,null,null,null,null,null,null,0,null,null,null,0,null,null,null,0,null,null,null,0,null,null,null,0,null,null,null,0,null,null,null,0,null,null,null,0,null,null,null,0,null,null,null,0,null,null,null,0,null,null,null,null,null,null,"","","","",null,null,null,0,null,null,null,0,"","","",null,null,null,null,"","","","","","","","","","","","","","","",null,""]
[null,null,null,null,null,null,null,null,null,0,null,null,null,0,null,null,null,0,null,null,null,0,null,null,null,0,null,null,null,0,null,null,null,0,null,null,null,0,null,null,null,0,null,null,null,0,null,null,null,0,null,null,null,null,null,null,"","","","",null,null,null,0,null,null,null,0,"","","",null,null,null,null,"","","","","","","","","","","","","","","",null,""]
[null,null,null,null,null,null,null,null,null,0,null,null,null,0,null,null,null,0,null,null,null,0,null,null,null,0,null,null,null,0,null,null,null,0,null,null,null,0,null,null,null,0,null,null,null,0,null,null,null,0,null,null,null,null,null,null,"","","","",null,null,null,0,null,null,null,0,"","","",null,null,null,null,"","","","","","","","","","","","","","","",null,""]
[null,null,null,null,null,null,null,null,null,0,null,null,null,0,null,null,null,0,null,null,null,0,null,null,null,0,null,null,null,0,null,null,null,0,null,null,null,0,null,null,null,0,null,null,null,0,null,null,null,0,null,null,null,null,null,null,"","","","",null,null,null,0,null,null,null,0,"","","",null,null,null,null,"","","","","","","","","","","","","","","",null,""]
[null,null,null,null,null,null,null,null,null,0,null,null,null,0,null,null,null,0,null,null,null,0,null,null,null,0,null,null,null,0,null,null,null,0,null,null,null,0,null,null,null,0,null,null,null,0,null,null,null,0,null,null,null,null,null,null,"","","","",null,null,null,0,null,null,null,0,"","","",null,null,null,null,"","","","","","","","","","","","","","","",null,""]
[null,null,null,null,null,null,null,null,null,0,null,null,null,0,null,null,null,0,null,null,null,0,null,null,null,0,null,null,null,0,null,null,null,0,null,null,null,0,null,null,null,0,null,null,null,0,null,null,null,0,null,null,null,null,null,null,"","","","",null,null,null,0,null,null,null,0,"","","",null,null,null,null,"","","","","","","","","","","","","","","",null,""]
[null,null,null,null,null,null,null,null,null,0,null,null,null,0,null,null,null,0,null,null,null,0,null,null,null,0,null,null,null,0,null,null,null,0,null,null,null,0,null,null,null,0,null,null,null,0,null,null,null,0,null,null,null,null,null,null,"","","","",null,null,null,0,null,null,null,0,"","","",null,null,null,null,"","","","","","","","","","","","","","","",null,""]
[null,null,null,null,null,null,null,null,null,0,null,null,null,0,null,null,null,0,null,null,null,0,null,null,null,0,null,null,null,0,null,null,null,0,null,null,null,0,null,null,null,0,null,null,null,0,null,null,null,0,null,null,null,null,null,null,"","","","",null,null,null,0,null,null,null,0,"","","",null,null,null,null,"","","","","","","","","","","","","","","",null,""]
[null,null,null,null,null,null,null,null,null,0,null,null,null,0,null,null,null,0,null,null,null,0,null,null,null,0,null,null,null,0,null,null,null,0,null,null,null,0,null,null,null,0,null,null,null,0,null,null,null,0,null,null,null,null,null,null,"","","","",null,null,null,0,null,null,null,0,"","","",null,null,null,null,"","","","","","","","","","","","","","","",null,""]
[null,null,null,null,null,null,null,null,null,0,null,null,null,0,null,null,null,0,null,null,null,0,null,null,null,0,null,null,null,0,null,null,null,0,null,null,null,0,null,null,null,0,null,null,null,0,null,null,null,0,null,null,null,null,null,null,"","","","",null,null,null,0,null,null,null,0,"","","",null,null,null,null,"","","","","","","","","","","","","","","",null,""]
[null,null,null,null,null,null,null,null,null,0,null,null,null,0,null,null,null,0,null,null,null,0,null,null,null,0,null,null,null,0,null,null,null,0,null,null,null,0,null,null,null,0,null,null,null,0,null,null,null,0,null,null,null,null,null,null,"","","","",null,null,null,0,null,null,null,0,"","","",null,null,null,null,"","","","","","","","","","","","","","","",null,""]
[null,null,null,null,null,null,null,null,null,0,null,null,null,0,null,null,null,0,null,null,null,0,null,null,null,0,null,null,null,0,null,null,null,0,null,null,null,0,null,null,null,0,null,null,null,0,null,null,null,0,null,null,null,null,null,null,"","","","",null,null,null,0,null,null,null,0,"","","",null,null,null,null,"","","","","","","","","","","","","","","",null,""]
[null,null,null,null,null,null,null,null,null,0,null,null,null,0,null,null,null,0,null,null,null,0,null,null,null,0,null,null,null,0,null,null,null,0,null,null,null,0,null,null,null,0,null,null,null,0,null,null,null,0,null,null,null,null,null,null,"","","","",null,null,null,0,null,null,null,0,"","","",null,null,null,null,"","","","","","","","","","","","","","","",null,""]
[null,null,null,null,null,null,null,null,null,0,null,null,null,0,null,null,null,0,null,null,null,0,null,null,null,0,null,null,null,0,null,null,null,0,null,null,null,0,null,null,null,0,null,null,null,0,null,null,null,0,null,null,null,null,null,null,"","","","",null,null,null,0,null,null,null,0,"","","",null,null,null,null,"","","","","","","","","","","","","","","",null,""]
[null,null,null,null,null,null,null,null,null,0,null,null,null,0,null,null,null,0,null,null,null,0,null,null,null,0,null,null,null,0,null,null,null,0,null,null,null,0,null,null,null,0,null,null,null,0,null,null,null,0,null,null,null,null,null,null,"","","","",null,null,null,0,null,null,null,0,"","","",null,null,null,null,"","","","","","","","","","","","","","","",null,""]
[null,null,null,null,null,null,null,null,null,0,null,null,null,0,null,null,null,0,null,null,null,0,null,null,null,0,null,null,null,0,null,null,null,0,null,null,null,0,null,null,null,0,null,null,null,0,null,null,null,0,null,null,null,null,null,null,"","","","",null,null,null,0,null,null,null,0,"","","",null,null,null,null,"","","","","","","","","","","","","","","",null,""]
[null,null,null,null,null,null,null,null,null,0,null,null,null,0,null,null,null,0,null,null,null,0,null,null,null,0,null,null,null,0,null,null,null,0,null,null,null,0,null,null,null,0,null,null,null,0,null,null,null,0,null,null,null,null,null,null,"","","","",null,null,null,0,null,null,null,0,"","","",null,null,null,null,"","","","","","","","","","","","","","","",null,""]
[null,null,null,null,null,null,null,null,null,0,null,null,null,0,null,null,null,0,null,null,null,0,null,null,null,0,null,null,null,0,null,null,null,0,null,null,null,0,null,null,null,0,null,null,null,0,null,null,null,0,null,null,null,null,null,null,"","","","",null,null,null,0,null,null,null,0,"","","",null,null,null,null,"","","","","","","","","","","","","","","",null,""]
[null,null,null,null,null,null,null,null,null,0,null,null,null,0,null,null,null,0,null,null,null,0,null,null,null,0,null,null,null,0,null,null,null,0,null,null,null,0,null,null,null,0,null,null,null,0,null,null,null,0,null,null,null,null,null,null,"","","","",null,null,null,0,null,null,null,0,"","","",null,null,null,null,"","","","","","","","","","","","","","","",null,""]
[null,null,null,null,null,null,null,null,null,0,null,null,null,0,null,null,null,0,null,null,null,0,null,null,null,0,null,null,null,0,null,null,null,0,null,null,null,0,null,null,null,0,null,null,null,0,null,null,null,0,null,null,null,null,null,null,"","","","",null,null,null,0,null,null,null,0,"","","",null,null,null,null,"","","","","","","","","","","","","","","",null,""]
[null,null,null,null,null,null,null,null,null,0,null,null,null,0,null,null,null,0,null,null,null,0,null,null,null,0,null,null,null,0,null,null,null,0,null,null,null,0,null,null,null,0,null,null,null,0,null,null,null,0,null,null,null,null,null,null,"","","","",null,null,null,0,null,null,null,0,"","","",null,null,null,null,"","","","","","","","","","","","","","","",null,""]
[null,null,null,null,null,null,null,null,null,0,null,null,null,0,null,null,null,0,null,null,null,0,null,null,null,0,null,null,null,0,null,null,null,0,null,null,null,0,null,null,null,0,null,null,null,0,null,null,null,0,null,null,null,null,null,null,"","","","",null,null,null,0,null,null,null,0,"","","",null,null,null,null,"","","","","","","","","","","","","","","",null,""]
[null,null,null,null,null,null,null,null,null,0,null,null,null,0,null,null,null,0,null,null,null,0,null,null,null,0,null,null,null,0,null,null,null,0,null,null,null,0,null,null,null,0,null,null,null,0,null,null,null,0,null,null,null,null,null,null,"","","","",null,null,null,0,null,null,null,0,"","","",null,null,null,null,"","","","","","","","","","","","","","","",null,""]
[null,null,null,null,null,null,null,null,null,0,null,null,null,0,null,null,null,0,null,null,null,0,null,null,null,0,null,null,null,0,null,null,null,0,null,null,null,0,null,null,null,0,null,null,null,0,null,null,null,0,null,null,null,null,null,null,"","","","",null,null,null,0,null,null,null,0,"","","",null,null,null,null,"","","","","","","","","","","","","","","",null,""]
[null,null,null,null,null,null,null,null,null,0,null,null,null,0,null,null,null,0,null,null,null,0,null,null,null,0,null,null,null,0,null,null,null,0,null,null,null,0,null,null,null,0,null,null,null,0,null,null,null,0,null,null,null,null,null,null,"","","","",null,null,null,0,null,null,null,0,"","","",null,null,null,null,"","","","","","","","","","","","","","","",null,""]
[null,null,null,null,null,null,null,null,null,0,null,null,null,0,null,null,null,0,null,null,null,0,null,null,null,0,null,null,null,0,null,null,null,0,null,null,null,0,null,null,null,0,null,null,null,0,null,null,null,0,null,null,null,null,null,null,"","","","",null,null,null,0,null,null,null,0,"","","",null,null,null,null,"","","","","","","","","","","","","","","",null,""]
[null,null,null,null,null,null,null,null,null,0,null,null,null,0,null,null,null,0,null,null,null,0,null,null,null,0,null,null,null,0,null,null,null,0,null,null,null,0,null,null,null,0,null,null,null,0,null,null,null,0,null,null,null,null,null,null,"","","","",null,null,null,0,null,null,null,0,"","","",null,null,null,null,"","","","","","","","","","","","","","","",null,""]
[null,null,null,null,null,null,null,null,null,0,null,null,null,0,null,null,null,0,null,null,null,0,null,null,null,0,null,null,null,0,null,null,null,0,null,null,null,0,null,null,null,0,null,null,null,0,null,null,null,0,null,null,null,null,null,null,"","","","",null,null,null,0,null,null,null,0,"","","",null,null,null,null,"","","","","","","","","","","","","","","",null,""]
[null,null,null,null,null,null,null,null,null,0,null,null,null,0,null,null,null,0,null,null,null,0,null,null,null,0,null,null,null,0,null,null,null,0,null,null,null,0,null,null,null,0,null,null,null,0,null,null,null,0,null,null,null,null,null,null,"","","","",null,null,null,0,null,null,null,0,"","","",null,null,null,null,"","","","","","","","","","","","","","","",null,""]
[null,null,null,null,null,null,null,null,null,0,null,null,null,0,null,null,null,0,null,null,null,0,null,null,null,0,null,null,null,0,null,null,null,0,null,null,null,0,null,null,null,0,null,null,null,0,null,null,null,0,null,null,null,null,null,null,"","","","",null,null,null,0,null,null,null,0,"","","",null,null,null,null,"","","","","","","","","","","","","","","",null,""]
[null,null,null,null,null,null,null,null,null,0,null,null,null,0,null,null,null,0,null,null,null,0,null,null,null,0,null,null,null,0,null,null,null,0,null,null,null,0,null,null,null,0,null,null,null,0,null,null,null,0,null,null,null,null,null,null,"","","","",null,null,null,0,null,null,null,0,"","","",null,null,null,null,"","","","","","","","","","","","","","","",null,""]
[null,null,null,null,null,null,null,null,null,0,null,null,null,0,null,null,null,0,null,null,null,0,null,null,null,0,null,null,null,0,null,null,null,0,null,null,null,0,null,null,null,0,null,null,null,0,null,null,null,0,null,null,null,null,null,null,"","","","",null,null,null,0,null,null,null,0,"","","",null,null,null,null,"","","","","","","","","","","","","","","",null,""]
[null,null,null,null,null,null,null,null,null,0,null,null,null,0,null,null,null,0,null,null,null,0,null,null,null,0,null,null,null,0,null,null,null,0,null,null,null,0,null,null,null,0,null,null,null,0,null,null,null,0,null,null,null,null,null,null,"","","","",null,null,null,0,null,null,null,0,"","","",null,null,null,null,"","","","","","","","","","","","","","","",null,""]
[null,null,null,null,null,null,null,null,null,0,null,null,null,0,null,null,null,0,null,null,null,0,null,null,null,0,null,null,null,0,null,null,null,0,null,null,null,0,null,null,null,0,null,null,null,0,null,null,null,0,null,null,null,null,null,null,"","","","",null,null,null,0,null,null,null,0,"","","",null,null,null,null,"","","","","","","","","","","","","","","",null,""]
[null,null,null,null,null,null,null,null,null,0,null,null,null,0,null,null,null,0,null,null,null,0,null,null,null,0,null,null,null,0,null,null,null,0,null,null,null,0,null,null,null,0,null,null,null,0,null,null,null,0,null,null,null,null,null,null,"","","","",null,null,null,0,null,null,null,0,"","","",null,null,null,null,"","","","","","","","","","","","","","","",null,""]
[null,null,null,null,null,null,null,null,null,0,null,null,null,0,null,null,null,0,null,null,null,0,null,null,null,0,null,null,null,0,null,null,null,0,null,null,null,0,null,null,null,0,null,null,null,0,null,null,null,0,null,null,null,null,null,null,"","","","",null,null,null,0,null,null,null,0,"","","",null,null,null,null,"","","","","","","","","","","","","","","",null,""]
[null,null,null,null,null,null,null,null,null,0,null,null,null,0,null,null,null,0,null,null,null,0,null,null,null,0,null,null,null,0,null,null,null,0,null,null,null,0,null,null,null,0,null,null,null,0,null,null,null,0,null,null,null,null,null,null,"","","","",null,null,null,0,null,null,null,0,"","","",null,null,null,null,"","","","","","","","","","","","","","","",null,""]
[null,null,null,null,null,null,null,null,null,0,null,null,null,0,null,null,null,0,null,null,null,0,null,null,null,0,null,null,null,0,null,null,null,0,null,null,null,0,null,null,null,0,null,null,null,0,null,null,null,0,null,null,null,null,null,null,"","","","",null,null,null,0,null,null,null,0,"","","",null,null,null,null,"","","","","","","","","","","","","","","",null,""]
[null,null,null,null,null,null,null,null,null,0,null,null,null,0,null,null,null,0,null,null,null,0,null,null,null,0,null,null,null,0,null,null,null,0,null,null,null,0,null,null,null,0,null,null,null,0,null,null,null,0,null,null,null,null,null,null,"","","","",null,null,null,0,null,null,null,0,"","","",null,null,null,null,"","","","","","","","","","","","","","","",null,""]
[null,null,null,null,null,null,null,null,null,0,null,null,null,0,null,null,null,0,null,null,null,0,null,null,null,0,null,null,null,0,null,null,null,0,null,null,null,0,null,null,null,0,null,null,null,0,null,null,null,0,null,null,null,null,null,null,"","","","",null,null,null,0,null,null,null,0,"","","",null,null,null,null,"","","","","","","","","","","","","","","",null,""]
[null,null,null,null,null,null,null,null,null,0,null,null,null,0,null,null,null,0,null,null,null,0,null,null,null,0,null,null,null,0,null,null,null,0,null,null,null,0,null,null,null,0,null,null,null,0,null,null,null,0,null,null,null,null,null,null,"","","","",null,null,null,0,null,null,null,0,"","","",null,null,null,null,"","","","","","","","","","","","","","","",null,""]
[null,null,null,null,null,null,null,null,null,0,null,null,null,0,null,null,null,0,null,null,null,0,null,null,null,0,null,null,null,0,null,null,null,0,null,null,null,0,null,null,null,0,null,null,null,0,null,null,null,0,null,null,null,null,null,null,"","","","",null,null,null,0,null,null,null,0,"","","",null,null,null,null,"","","","","","","","","","","","","","","",null,""]
[null,null,null,null,null,null,null,null,null,0,null,null,null,0,null,null,null,0,null,null,null,0,null,null,null,0,null,null,null,0,null,null,null,0,null,null,null,0,null,null,null,0,null,null,null,0,null,null,null,0,null,null,null,null,null,null,"","","","",null,null,null,0,null,null,null,0,"","","",null,null,null,null,"","","","","","","","","","","","","","","",null,""]
[null,null,null,null,null,null,null,null,null,0,null,null,null,0,null,null,null,0,null,null,null,0,null,null,null,0,null,null,null,0,null,null,null,0,null,null,null,0,null,null,null,0,null,null,null,0,null,null,null,0,null,null,null,null,null,null,"","","","",null,null,null,0,null,null,null,0,"","","",null,null,null,null,"","","","","","","","","","","","","","","",null,""]
[null,null,null,null,null,null,null,null,null,0,null,null,null,0,null,null,null,0,null,null,null,0,null,null,null,0,null,null,null,0,null,null,null,0,null,null,null,0,null,null,null,0,null,null,null,0,null,null,null,0,null,null,null,null,null,null,"","","","",null,null,null,0,null,null,null,0,"","","",null,null,null,null,"","","","","","","","","","","","","","","",null,""]
[null,null,null,null,null,null,null,null,null,0,null,null,null,{"$f":"SUM(K266:M266)","v":0},null,null,null,{"$f":"SUM(O266:Q266)","v":0},null,null,null,{"$f":"SUM(S266:U266)","v":0},null,null,null,{"$f":"SUM(W266:Y266)","v":0},null,null,null,{"$f":"SUM(AA266:AC266)","v":0},null,null,null,{"$f":"SUM(AE266:AG266)","v":0},null,null,null,{"$f":"SUM(AI266:AK266)","v":0},null,null,null,{"$f":"SUM(AM266:AO266)","v":0},null,null,null,{"$f":"SUM(AQ266:AS266)","v":0},null,null,null,{"$f":"SUM(AU266:AW266)","v":0},null,null,null,null,null,null,"","",{"$f":"IF($C266=\"\",\"\",SUM(BE266,BF266))","v":""},{"$f":"IF($C266=\"\",\"\",SUM(J266,N266,R266,V266,Z266,AD266,AH266,AL266,AP266,AT266,AX266,BG266))","v":""},null,null,null,{"$f":"SUM(BI266:BK266)","v":0},null,null,null,{"$f":"SUM(BM266:BO266)","v":0},{"$f":"IF($C266=\"\",\"\",IF(BS266=0,\"ناجحة\",IF(BS266<=2,\"دورثان\",\"راسبة\")))","v":""},{"$f":"IF($C266=\"\",\"\",IF(BS266=0,\"ومنقولة للصف الثالث\",IF(BS266>0,\"فى  :  \"&CONCATENATE(BX266,BY266,BZ266,CA266,CB266,CC266,CD266,CE266,CF266,CG266,CH266,CI266,CJ266,CK266,CL266),CONCATENATE(BX266,BY266,BZ266,CA266,CB266,CC266,CD266,CE266,CF266,CG266,CH266,CI266,CJ266,CK266,CL266))))","v":""},{"$f":"IF($C266=\"\",\"\",COUNTA($BX266:$CL266)-COUNTBLANK($BX266:$CL266))","v":""},null,null,null,null,{"$f":"IF($C266=\"\",\"\",IF(OR(I266<$I$9,I266=\"غ\",J266<$J$9),$BX$5&\" - \",\"\"))","v":""},{"$f":"IF($C266=\"\",\"\",IF(OR(M266<$M$9,M266=\"غ\",N266<$N$9),$BY$5&\" - \",\"\"))","v":""},{"$f":"IF($C266=\"\",\"\",IF(OR(Q266<$Q$9,Q266=\"غ\",R266<$R$9),BZ$5&\" - \",\"\"))","v":""},{"$f":"IF($C266=\"\",\"\",IF(OR(U266<$U$9,U266=\"غ\",V266<$V$9),CA$5&\" - \",\"\"))","v":""},{"$f":"IF($C266=\"\",\"\",IF(OR(Y266<$Y$9,Y266=\"غ\",Z266<$Z$9),CB$5&\" - \",\"\"))","v":""},{"$f":"IF($C266=\"\",\"\",IF(OR(AC266<$AC$9,AC266=\"غ\",AD266<$AD$9),CC$5&\" - \",\"\"))","v":""},{"$f":"IF($C266=\"\",\"\",IF(OR(AG266<$AG$9,AG266=\"غ\",AH266<$AH$9),CD$5&\" - \",\"\"))","v":""},{"$f":"IF($C266=\"\",\"\",IF(OR(AK266<$AK$9,AK266=\"غ\",AL266<$AL$9),CE$5&\" - \",\"\"))","v":""},{"$f":"IF($C266=\"\",\"\",IF(OR(AO266<$AO$9,AO266=\"غ\",AP266<$AP$9),CF$5&\" - \",\"\"))","v":""},{"$f":"IF($C266=\"\",\"\",IF(OR(AS266<$AS$9,AS266=\"غ\",AT266<$AT$9),CG$5&\" - \",\"\"))","v":""},{"$f":"IF($C266=\"\",\"\",IF(OR(AW266<$AW$9,AW266=\"غ\",AX266<$AX$9),CH$5&\" - \",\"\"))","v":""},{"$f":"IF($C266=\"\",\"\",IF(OR(BE266<$BE$9,BE266=\"غ\",BF266<$BF$9,BF266=\"غ\",BG266<$BG$9),CI$5&\" - \",\"\"))","v":""},{"$f":"IF($C266=\"\",\"\",IF(OR(BK266<$BK$9,BK266=\"غ\",BL266<$BL$9),CJ$5&\" - \",\"\"))","v":""},{"$f":"IF($C266=\"\",\"\",IF(OR(BO266<$BO$9,BO266=\"غ\",BP266<$BP$9),CK$5&\" - \",\"\"))","v":""},{"$f":"IF($C266=\"\",\"\",IF(BH266<$BH$9,CL$5,\"\"))","v":""},null,{"$f":"IF($C266=\"\",\"\",SUM(H266,L266,P266,T266,X266,AB266,AF266,AJ266,AN266,AR266,AV266,BA266,BB266))","v":""}]
[null,null,null,null,null,null,null,null,null,{"$f":"SUM(G267:I267)","v":0},null,null,null,0,null,null,null,0,null,null,null,0,null,null,null,0,null,null,null,0,null,null,null,0,null,null,null,0,null,null,null,0,null,null,null,0,null,null,null,0,null,null,null,null,null,null,{"$f":"IF($C267=\"\",\"\",SUM(AY267,BA267,BC267))","v":""},"","","",null,null,null,0,null,null,null,0,"","","",null,null,null,null,"","","","","","","","","","","","","","","",null,""]
[null,null,null,null,null,null,null,null,null,0,null,null,null,0,null,null,null,0,null,null,null,0,null,null,null,0,null,null,null,0,null,null,null,0,null,null,null,0,null,null,null,0,null,null,null,0,null,null,null,0,null,null,null,null,null,null,"","","","",null,null,null,0,null,null,null,0,"","","",null,null,null,null,"","","","","","","","","","","","","","","",null,""]
[null,null,null,null,null,null,null,null,null,0,null,null,null,0,null,null,null,0,null,null,null,0,null,null,null,0,null,null,null,0,null,null,null,0,null,null,null,0,null,null,null,0,null,null,null,0,null,null,null,0,null,null,null,null,null,null,"","","","",null,null,null,0,null,null,null,0,"","","",null,null,null,null,"","","","","","","","","","","","","","","",null,""]
[null,null,null,null,null,null,null,null,null,0,null,null,null,0,null,null,null,0,null,null,null,0,null,null,null,0,null,null,null,0,null,null,null,0,null,null,null,0,null,null,null,0,null,null,null,0,null,null,null,0,null,null,null,null,null,null,"","","","",null,null,null,0,null,null,null,0,"","","",null,null,null,null,"","","","","","","","","","","","","","","",null,""]
[null,null,null,null,null,null,null,null,null,0,null,null,null,0,null,null,null,0,null,null,null,0,null,null,null,0,null,null,null,0,null,null,null,0,null,null,null,0,null,null,null,0,null,null,null,0,null,null,null,0,null,null,null,null,null,null,"","","","",null,null,null,0,null,null,null,0,"","","",null,null,null,null,"","","","","","","","","","","","","","","",null,""]
[null,null,null,null,null,null,null,null,null,0,null,null,null,0,null,null,null,0,null,null,null,0,null,null,null,0,null,null,null,0,null,null,null,0,null,null,null,0,null,null,null,0,null,null,null,0,null,null,null,0,null,null,null,null,null,null,"","","","",null,null,null,0,null,null,null,0,"","","",null,null,null,null,"","","","","","","","","","","","","","","",null,""]
[null,null,null,null,null,null,null,null,null,0,null,null,null,0,null,null,null,0,null,null,null,0,null,null,null,0,null,null,null,0,null,null,null,0,null,null,null,0,null,null,null,0,null,null,null,0,null,null,null,0,null,null,null,null,null,null,"","","","",null,null,null,0,null,null,null,0,"","","",null,null,null,null,"","","","","","","","","","","","","","","",null,""]
[null,null,null,null,null,null,null,null,null,0,null,null,null,0,null,null,null,0,null,null,null,0,null,null,null,0,null,null,null,0,null,null,null,0,null,null,null,0,null,null,null,0,null,null,null,0,null,null,null,0,null,null,null,null,null,null,"","","","",null,null,null,0,null,null,null,0,"","","",null,null,null,null,"","","","","","","","","","","","","","","",null,""]
[null,null,null,null,null,null,null,null,null,0,null,null,null,0,null,null,null,0,null,null,null,0,null,null,null,0,null,null,null,0,null,null,null,0,null,null,null,0,null,null,null,0,null,null,null,0,null,null,null,0,null,null,null,null,null,null,"","","","",null,null,null,0,null,null,null,0,"","","",null,null,null,null,"","","","","","","","","","","","","","","",null,""]
[null,null,null,null,null,null,null,null,null,0,null,null,null,0,null,null,null,0,null,null,null,0,null,null,null,0,null,null,null,0,null,null,null,0,null,null,null,0,null,null,null,0,null,null,null,0,null,null,null,0,null,null,null,null,null,null,"","","","",null,null,null,0,null,null,null,0,"","","",null,null,null,null,"","","","","","","","","","","","","","","",null,""]
[null,null,null,null,null,null,null,null,null,0,null,null,null,0,null,null,null,0,null,null,null,0,null,null,null,0,null,null,null,0,null,null,null,0,null,null,null,0,null,null,null,0,null,null,null,0,null,null,null,0,null,null,null,null,null,null,"","","","",null,null,null,0,null,null,null,0,"","","",null,null,null,null,"","","","","","","","","","","","","","","",null,""]
[null,null,null,null,null,null,null,null,null,0,null,null,null,0,null,null,null,0,null,null,null,0,null,null,null,0,null,null,null,0,null,null,null,0,null,null,null,0,null,null,null,0,null,null,null,0,null,null,null,0,null,null,null,null,null,null,"","","","",null,null,null,0,null,null,null,0,"","","",null,null,null,null,"","","","","","","","","","","","","","","",null,""]
[null,null,null,null,null,null,null,null,null,0,null,null,null,0,null,null,null,0,null,null,null,0,null,null,null,0,null,null,null,0,null,null,null,0,null,null,null,0,null,null,null,0,null,null,null,0,null,null,null,0,null,null,null,null,null,null,"","","","",null,null,null,0,null,null,null,0,"","","",null,null,null,null,"","","","","","","","","","","","","","","",null,""]
[null,null,null,null,null,null,null,null,null,0,null,null,null,0,null,null,null,0,null,null,null,0,null,null,null,0,null,null,null,0,null,null,null,0,null,null,null,0,null,null,null,0,null,null,null,0,null,null,null,0,null,null,null,null,null,null,"","","","",null,null,null,0,null,null,null,0,"","","",null,null,null,null,"","","","","","","","","","","","","","","",null,""]
[null,null,null,null,null,null,null,null,null,0,null,null,null,0,null,null,null,0,null,null,null,0,null,null,null,0,null,null,null,0,null,null,null,0,null,null,null,0,null,null,null,0,null,null,null,0,null,null,null,0,null,null,null,null,null,null,"","","","",null,null,null,0,null,null,null,0,"","","",null,null,null,null,"","","","","","","","","","","","","","","",null,""]
[null,null,null,null,null,null,null,null,null,0,null,null,null,0,null,null,null,0,null,null,null,0,null,null,null,0,null,null,null,0,null,null,null,0,null,null,null,0,null,null,null,0,null,null,null,0,null,null,null,0,null,null,null,null,null,null,"","","","",null,null,null,0,null,null,null,0,"","","",null,null,null,null,"","","","","","","","","","","","","","","",null,""]
[null,null,null,null,null,null,null,null,null,0,null,null,null,0,null,null,null,0,null,null,null,0,null,null,null,0,null,null,null,0,null,null,null,0,null,null,null,0,null,null,null,0,null,null,null,0,null,null,null,0,null,null,null,null,null,null,"","","","",null,null,null,0,null,null,null,0,"","","",null,null,null,null,"","","","","","","","","","","","","","","",null,""]
[null,null,null,null,null,null,null,null,null,0,null,null,null,0,null,null,null,0,null,null,null,0,null,null,null,0,null,null,null,0,null,null,null,0,null,null,null,0,null,null,null,0,null,null,null,0,null,null,null,0,null,null,null,null,null,null,"","","","",null,null,null,0,null,null,null,0,"","","",null,null,null,null,"","","","","","","","","","","","","","","",null,""]
[null,null,null,null,null,null,null,null,null,0,null,null,null,0,null,null,null,0,null,null,null,0,null,null,null,0,null,null,null,0,null,null,null,0,null,null,null,0,null,null,null,0,null,null,null,0,null,null,null,0,null,null,null,null,null,null,"","","","",null,null,null,0,null,null,null,0,"","","",null,null,null,null,"","","","","","","","","","","","","","","",null,""]
[null,null,null,null,null,null,null,null,null,0,null,null,null,0,null,null,null,0,null,null,null,0,null,null,null,0,null,null,null,0,null,null,null,0,null,null,null,0,null,null,null,0,null,null,null,0,null,null,null,0,null,null,null,null,null,null,"","","","",null,null,null,0,null,null,null,0,"","","",null,null,null,null,"","","","","","","","","","","","","","","",null,""]
[null,null,null,null,null,null,null,null,null,0,null,null,null,0,null,null,null,0,null,null,null,0,null,null,null,0,null,null,null,0,null,null,null,0,null,null,null,0,null,null,null,0,null,null,null,0,null,null,null,0,null,null,null,null,null,null,"","","","",null,null,null,0,null,null,null,0,"","","",null,null,null,null,"","","","","","","","","","","","","","","",null,""]
[null,null,null,null,null,null,null,null,null,0,null,null,null,0,null,null,null,0,null,null,null,0,null,null,null,0,null,null,null,0,null,null,null,0,null,null,null,0,null,null,null,0,null,null,null,0,null,null,null,0,null,null,null,null,null,null,"","","","",null,null,null,0,null,null,null,0,"","","",null,null,null,null,"","","","","","","","","","","","","","","",null,""]
[null,null,null,null,null,null,null,null,null,0,null,null,null,0,null,null,null,0,null,null,null,0,null,null,null,0,null,null,null,0,null,null,null,0,null,null,null,0,null,null,null,0,null,null,null,0,null,null,null,0,null,null,null,null,null,null,"","","","",null,null,null,0,null,null,null,0,"","","",null,null,null,null,"","","","","","","","","","","","","","","",null,""]
[null,null,null,null,null,null,null,null,null,0,null,null,null,0,null,null,null,0,null,null,null,0,null,null,null,0,null,null,null,0,null,null,null,0,null,null,null,0,null,null,null,0,null,null,null,0,null,null,null,0,null,null,null,null,null,null,"","","","",null,null,null,0,null,null,null,0,"","","",null,null,null,null,"","","","","","","","","","","","","","","",null,""]
[null,null,null,null,null,null,null,null,null,0,null,null,null,0,null,null,null,0,null,null,null,0,null,null,null,0,null,null,null,0,null,null,null,0,null,null,null,0,null,null,null,0,null,null,null,0,null,null,null,0,null,null,null,null,null,null,"","","","",null,null,null,0,null,null,null,0,"","","",null,null,null,null,"","","","","","","","","","","","","","","",null,""]
[null,null,null,null,null,null,null,null,null,0,null,null,null,0,null,null,null,0,null,null,null,0,null,null,null,0,null,null,null,0,null,null,null,0,null,null,null,0,null,null,null,0,null,null,null,0,null,null,null,0,null,null,null,null,null,null,"","","","",null,null,null,0,null,null,null,0,"","","",null,null,null,null,"","","","","","","","","","","","","","","",null,""]
[null,null,null,null,null,null,null,null,null,0,null,null,null,0,null,null,null,0,null,null,null,0,null,null,null,0,null,null,null,0,null,null,null,0,null,null,null,0,null,null,null,0,null,null,null,0,null,null,null,0,null,null,null,null,null,null,"","","","",null,null,null,0,null,null,null,0,"","","",null,null,null,null,"","","","","","","","","","","","","","","",null,""]
[null,null,null,null,null,null,null,null,null,0,null,null,null,0,null,null,null,0,null,null,null,0,null,null,null,0,null,null,null,0,null,null,null,0,null,null,null,0,null,null,null,0,null,null,null,0,null,null,null,0,null,null,null,null,null,null,"","","","",null,null,null,0,null,null,null,0,"","","",null,null,null,null,"","","","","","","","","","","","","","","",null,""]
[null,null,null,null,null,null,null,null,null,0,null,null,null,0,null,null,null,0,null,null,null,0,null,null,null,0,null,null,null,0,null,null,null,0,null,null,null,0,null,null,null,0,null,null,null,0,null,null,null,0,null,null,null,null,null,null,"","","","",null,null,null,0,null,null,null,0,"","","",null,null,null,null,"","","","","","","","","","","","","","","",null,""]
[null,null,null,null,null,null,null,null,null,0,null,null,null,0,null,null,null,0,null,null,null,0,null,null,null,0,null,null,null,0,null,null,null,0,null,null,null,0,null,null,null,0,null,null,null,0,null,null,null,0,null,null,null,null,null,null,"","","","",null,null,null,0,null,null,null,0,"","","",null,null,null,null,"","","","","","","","","","","","","","","",null,""]
[null,null,null,null,null,null,null,null,null,0,null,null,null,0,null,null,null,0,null,null,null,0,null,null,null,0,null,null,null,0,null,null,null,0,null,null,null,0,null,null,null,0,null,null,null,0,null,null,null,0,null,null,null,null,null,null,"","","","",null,null,null,0,null,null,null,0,"","","",null,null,null,null,"","","","","","","","","","","","","","","",null,""]
[null,null,null,null,null,null,null,null,null,0,null,null,null,0,null,null,null,0,null,null,null,0,null,null,null,0,null,null,null,0,null,null,null,0,null,null,null,0,null,null,null,0,null,null,null,0,null,null,null,0,null,null,null,null,null,null,"","","","",null,null,null,0,null,null,null,0,"","","",null,null,null,null,"","","","","","","","","","","","","","","",null,""]
[null,null,null,null,null,null,null,null,null,0,null,null,null,0,null,null,null,0,null,null,null,0,null,null,null,0,null,null,null,0,null,null,null,0,null,null,null,0,null,null,null,0,null,null,null,0,null,null,null,0,null,null,null,null,null,null,"","","","",null,null,null,0,null,null,null,0,"","","",null,null,null,null,"","","","","","","","","","","","","","","",null,""]
[null,null,null,null,null,null,null,null,null,0,null,null,null,0,null,null,null,0,null,null,null,0,null,null,null,0,null,null,null,0,null,null,null,0,null,null,null,0,null,null,null,0,null,null,null,0,null,null,null,0,null,null,null,null,null,null,"","","",{"$f":"IF($C300=\"\",\"\",SUM(I300,M300,Q300,U300,Y300,AC300,AG300,AK300,AO300,AS300,AW300,BF300))","v":""},null,null,null,0,null,null,null,0,"","","",null,null,null,null,"","","","","","","","","","","","","","","",null,""]
[null,null,null,null,null,null,null,null,null,0,null,null,null,0,null,null,null,0,null,null,null,0,null,null,null,0,null,null,null,0,null,null,null,0,null,null,null,0,null,null,null,0,null,null,null,0,null,null,null,0,null,null,null,null,null,null,"","","","",null,null,null,0,null,null,null,0,"","","",null,null,null,null,"","","","","","","","","","","","","","","",null,""]
[null,null,null,null,null,null,null,null,null,0,null,null,null,0,null,null,null,0,null,null,null,0,null,null,null,0,null,null,null,0,null,null,null,0,null,null,null,0,null,null,null,0,null,null,null,0,null,null,null,0,null,null,null,null,null,null,"","","","",null,null,null,0,null,null,null,0,"","","",null,null,null,null,"","","","","","","","","","","","","","","",null,""]
[null,null,null,null,null,null,null,null,null,0,null,null,null,0,null,null,null,0,null,null,null,0,null,null,null,0,null,null,null,0,null,null,null,0,null,null,null,0,null,null,null,0,null,null,null,0,null,null,null,0,null,null,null,null,null,null,"","","","",null,null,null,0,null,null,null,0,"","","",null,null,null,null,"","","","","","","","","","","","","","","",null,""]
[null,null,null,null,null,null,null,null,null,0,null,null,null,0,null,null,null,0,null,null,null,0,null,null,null,0,null,null,null,0,null,null,null,0,null,null,null,0,null,null,null,0,null,null,null,0,null,null,null,0,null,null,null,null,null,null,"","","","",null,null,null,0,null,null,null,0,"","","",null,null,null,null,"","","","","","","","","","","","","","","",null,""]
[null,null,null,null,null,null,null,null,null,0,null,null,null,0,null,null,null,0,null,null,null,0,null,null,null,0,null,null,null,0,null,null,null,0,null,null,null,0,null,null,null,0,null,null,null,0,null,null,null,0,null,null,null,null,null,null,"","","","",null,null,null,0,null,null,null,0,"","","",null,null,null,null,"","","","","","","","","","","","","","","",null,""]
[null,null,null,null,null,null,null,null,null,0,null,null,null,0,null,null,null,0,null,null,null,0,null,null,null,0,null,null,null,0,null,null,null,0,null,null,null,0,null,null,null,0,null,null,null,0,null,null,null,0,null,null,null,null,null,null,"","","","",null,null,null,0,null,null,null,0,"","","",null,null,null,null,"","","","","","","","","","","","","","","",null,""]
[null,null,null,null,null,null,null,null,null,0,null,null,null,0,null,null,null,0,null,null,null,0,null,null,null,0,null,null,null,0,null,null,null,0,null,null,null,0,null,null,null,0,null,null,null,0,null,null,null,0,null,null,null,null,null,null,"","","","",null,null,null,0,null,null,null,0,"","","",null,null,null,null,"","","","","","","","","","","","","","","",null,""]
[null,null,null,null,null,null,null,null,null,0,null,null,null,0,null,null,null,0,null,null,null,0,null,null,null,0,null,null,null,0,null,null,null,0,null,null,null,0,null,null,null,0,null,null,null,0,null,null,null,0,null,null,null,null,null,null,"","","","",null,null,null,0,null,null,null,0,"","","",null,null,null,null,"","","","","","","","","","","","","","","",null,""]
[null,null,null,null,null,null,null,null,null,0,null,null,null,0,null,null,null,0,null,null,null,0,null,null,null,0,null,null,null,0,null,null,null,0,null,null,null,0,null,null,null,0,null,null,null,0,null,null,null,0,null,null,null,null,null,null,"","","","",null,null,null,0,null,null,null,0,"","","",null,null,null,null,"","","","","","","","","","","","","","","",null,""]
[null,null,null,null,null,null,null,null,null,0,null,null,null,0,null,null,null,0,null,null,null,0,null,null,null,0,null,null,null,0,null,null,null,0,null,null,null,0,null,null,null,0,null,null,null,0,null,null,null,0,null,null,null,null,null,null,"","","","",null,null,null,0,null,null,null,0,"","","",null,null,null,null,"","","","","","","","","","","","","","","",null,""]
[null,null,null,null,null,null,null,null,null,0,null,null,null,0,null,null,null,0,null,null,null,0,null,null,null,0,null,null,null,0,null,null,null,0,null,null,null,0,null,null,null,0,null,null,null,0,null,null,null,0,null,null,null,null,null,null,"","","","",null,null,null,0,null,null,null,0,"","","",null,null,null,null,"","","","","","","","","","","","","","","",null,""]
[null,null,null,null,null,null,null,null,null,0,null,null,null,0,null,null,null,0,null,null,null,0,null,null,null,0,null,null,null,0,null,null,null,0,null,null,null,0,null,null,null,0,null,null,null,0,null,null,null,0,null,null,null,null,null,null,"","","","",null,null,null,0,null,null,null,0,"","","",null,null,null,null,"","","","","","","","","","","","","","","",null,""]
[null,null,null,null,null,null,null,null,null,0,null,null,null,0,null,null,null,0,null,null,null,0,null,null,null,0,null,null,null,0,null,null,null,0,null,null,null,0,null,null,null,0,null,null,null,0,null,null,null,0,null,null,null,null,null,null,"","","","",null,null,null,0,null,null,null,0,"","","",null,null,null,null,"","","","","","","","","","","","","","","",null,""]
[null,null,null,null,null,null,null,null,null,0,null,null,null,0,null,null,null,0,null,null,null,0,null,null,null,0,null,null,null,0,null,null,null,0,null,null,null,0,null,null,null,0,null,null,null,0,null,null,null,0,null,null,null,null,null,null,"","","","",null,null,null,0,null,null,null,0,"","","",null,null,null,null,"","","","","","","","","","","","","","","",null,""]
[null,null,null,null,null,null,null,null,null,0,null,null,null,0,null,null,null,0,null,null,null,0,null,null,null,0,null,null,null,0,null,null,null,0,null,null,null,0,null,null,null,0,null,null,null,0,null,null,null,0,null,null,null,null,null,null,"","","","",null,null,null,0,null,null,null,0,"","","",null,null,null,null,"","","","","","","","","","","","","","","",null,""]
[null,null,null,null,null,null,null,null,null,0,null,null,null,0,null,null,null,0,null,null,null,0,null,null,null,0,null,null,null,0,null,null,null,0,null,null,null,0,null,null,null,0,null,null,null,0,null,null,null,0,null,null,null,null,null,null,"","","","",null,null,null,0,null,null,null,0,"","","",null,null,null,null,"","","","","","","","","","","","","","","",null,""]
[null,null,null,null,null,null,null,null,null,0,null,null,null,0,null,null,null,0,null,null,null,0,null,null,null,0,null,null,null,0,null,null,null,0,null,null,null,0,null,null,null,0,null,null,null,0,null,null,null,0,null,null,null,null,null,null,"","","","",null,null,null,0,null,null,null,0,"","","",null,null,null,null,"","","","","","","","","","","","","","","",null,""]
[null,null,null,null,null,null,null,null,null,0,null,null,null,0,null,null,null,0,null,null,null,0,null,null,null,0,null,null,null,0,null,null,null,0,null,null,null,0,null,null,null,0,null,null,null,0,null,null,null,0,null,null,null,null,null,null,"","","","",null,null,null,0,null,null,null,0,"","","",null,null,null,null,"","","","","","","","","","","","","","","",null,""]
[null,null,null,null,null,null,null,null,null,0,null,null,null,0,null,null,null,0,null,null,null,0,null,null,null,0,null,null,null,0,null,null,null,0,null,null,null,0,null,null,null,0,null,null,null,0,null,null,null,0,null,null,null,null,null,null,"","","","",null,null,null,0,null,null,null,0,"","","",null,null,null,null,"","","","","","","","","","","","","","","",null,""]
[null,null,null,null,null,null,null,null,null,0,null,null,null,0,null,null,null,0,null,null,null,0,null,null,null,0,null,null,null,0,null,null,null,0,null,null,null,0,null,null,null,0,null,null,null,0,null,null,null,0,null,null,null,null,null,null,"","","","",null,null,null,0,null,null,null,0,"","","",null,null,null,null,"","","","","","","","","","","","","","","",null,""]
[null,null,null,null,null,null,null,null,null,0,null,null,null,0,null,null,null,0,null,null,null,0,null,null,null,0,null,null,null,0,null,null,null,0,null,null,null,0,null,null,null,0,null,null,null,0,null,null,null,0,null,null,null,null,null,null,"","","","",null,null,null,0,null,null,null,0,"","","",null,null,null,null,"","","","","","","","","","","","","","","",null,""]
[null,null,null,null,null,null,null,null,null,0,null,null,null,0,null,null,null,0,null,null,null,0,null,null,null,0,null,null,null,0,null,null,null,0,null,null,null,0,null,null,null,0,null,null,null,0,null,null,null,0,null,null,null,null,null,null,"","","","",null,null,null,0,null,null,null,0,"","","",null,null,null,null,"","","","","","","","","","","","","","","",null,""]
[null,null,null,null,null,null,null,null,null,0,null,null,null,0,null,null,null,0,null,null,null,0,null,null,null,0,null,null,null,0,null,null,null,0,null,null,null,0,null,null,null,0,null,null,null,0,null,null,null,0,null,null,null,null,null,null,"","","","",null,null,null,0,null,null,null,0,"","","",null,null,null,null,"","","","","","","","","","","","","","","",null,""]
[null,null,null,null,null,null,null,null,null,0,null,null,null,0,null,null,null,0,null,null,null,0,null,null,null,0,null,null,null,0,null,null,null,0,null,null,null,0,null,null,null,0,null,null,null,0,null,null,null,0,null,null,null,null,null,null,"","","","",null,null,null,0,null,null,null,0,"","","",null,null,null,null,"","","","","","","","","","","","","","","",null,""]
[null,null,null,null,null,null,null,null,null,0,null,null,null,0,null,null,null,0,null,null,null,0,null,null,null,0,null,null,null,0,null,null,null,0,null,null,null,0,null,null,null,0,null,null,null,0,null,null,null,0,null,null,null,null,null,null,"","","","",null,null,null,0,null,null,null,0,"","","",null,null,null,null,"","","","","","","","","","","","","","","",null,""]
[null,null,null,null,null,null,null,null,null,0,null,null,null,0,null,null,null,0,null,null,null,0,null,null,null,0,null,null,null,0,null,null,null,0,null,null,null,0,null,null,null,0,null,null,null,0,null,null,null,0,null,null,null,null,null,null,"","","","",null,null,null,0,null,null,null,0,"","","",null,null,null,null,"","","","","","","","","","","","","","","",null,""]
[null,null,null,null,null,null,null,null,null,0,null,null,null,0,null,null,null,0,null,null,null,0,null,null,null,0,null,null,null,0,null,null,null,0,null,null,null,0,null,null,null,0,null,null,null,0,null,null,null,0,null,null,null,null,null,null,"","","","",null,null,null,0,null,null,null,0,"","","",null,null,null,null,"","","","","","","","","","","","","","","",null,""]
[null,null,null,null,null,null,null,null,null,0,null,null,null,0,null,null,null,0,null,null,null,0,null,null,null,0,null,null,null,0,null,null,null,0,null,null,null,0,null,null,null,0,null,null,null,0,null,null,null,0,null,null,null,null,null,null,"","","","",null,null,null,0,null,null,null,0,"","","",null,null,null,null,"","","","","","","","","","","","","","","",null,""]
[null,null,null,null,null,null,null,null,null,0,null,null,null,0,null,null,null,0,null,null,null,0,null,null,null,0,null,null,null,0,null,null,null,0,null,null,null,0,null,null,null,0,null,null,null,0,null,null,null,0,null,null,null,null,null,null,"","","","",null,null,null,0,null,null,null,0,"","","",null,null,null,null,"","","","","","","","","","","","","","","",null,""]
[null,null,null,null,null,null,null,null,null,0,null,null,null,{"$f":"SUM(K330:M330)","v":0},null,null,null,{"$f":"SUM(O330:Q330)","v":0},null,null,null,{"$f":"SUM(S330:U330)","v":0},null,null,null,{"$f":"SUM(W330:Y330)","v":0},null,null,null,{"$f":"SUM(AA330:AC330)","v":0},null,null,null,{"$f":"SUM(AE330:AG330)","v":0},null,null,null,{"$f":"SUM(AI330:AK330)","v":0},null,null,null,{"$f":"SUM(AM330:AO330)","v":0},null,null,null,{"$f":"SUM(AQ330:AS330)","v":0},null,null,null,{"$f":"SUM(AU330:AW330)","v":0},null,null,null,null,null,null,"","",{"$f":"IF($C330=\"\",\"\",SUM(BE330,BF330))","v":""},"",null,null,null,{"$f":"SUM(BI330:BK330)","v":0},null,null,null,{"$f":"SUM(BM330:BO330)","v":0},{"$f":"IF($C330=\"\",\"\",IF(BS330=0,\"ناجحة\",IF(BS330<=2,\"دورثان\",\"راسبة\")))","v":""},{"$f":"IF($C330=\"\",\"\",IF(BS330=0,\"ومنقولة للصف الثالث\",IF(BS330>0,\"فى  :  \"&CONCATENATE(BX330,BY330,BZ330,CA330,CB330,CC330,CD330,CE330,CF330,CG330,CH330,CI330,CJ330,CK330,CL330),CONCATENATE(BX330,BY330,BZ330,CA330,CB330,CC330,CD330,CE330,CF330,CG330,CH330,CI330,CJ330,CK330,CL330))))","v":""},{"$f":"IF($C330=\"\",\"\",COUNTA($BX330:$CL330)-COUNTBLANK($BX330:$CL330))","v":""},null,null,null,null,{"$f":"IF($C330=\"\",\"\",IF(OR(I330<$I$9,I330=\"غ\",J330<$J$9),$BX$5&\" - \",\"\"))","v":""},{"$f":"IF($C330=\"\",\"\",IF(OR(M330<$M$9,M330=\"غ\",N330<$N$9),$BY$5&\" - \",\"\"))","v":""},{"$f":"IF($C330=\"\",\"\",IF(OR(Q330<$Q$9,Q330=\"غ\",R330<$R$9),BZ$5&\" - \",\"\"))","v":""},{"$f":"IF($C330=\"\",\"\",IF(OR(U330<$U$9,U330=\"غ\",V330<$V$9),CA$5&\" - \",\"\"))","v":""},{"$f":"IF($C330=\"\",\"\",IF(OR(Y330<$Y$9,Y330=\"غ\",Z330<$Z$9),CB$5&\" - \",\"\"))","v":""},{"$f":"IF($C330=\"\",\"\",IF(OR(AC330<$AC$9,AC330=\"غ\",AD330<$AD$9),CC$5&\" - \",\"\"))","v":""},{"$f":"IF($C330=\"\",\"\",IF(OR(AG330<$AG$9,AG330=\"غ\",AH330<$AH$9),CD$5&\" - \",\"\"))","v":""},{"$f":"IF($C330=\"\",\"\",IF(OR(AK330<$AK$9,AK330=\"غ\",AL330<$AL$9),CE$5&\" - \",\"\"))","v":""},{"$f":"IF($C330=\"\",\"\",IF(OR(AO330<$AO$9,AO330=\"غ\",AP330<$AP$9),CF$5&\" - \",\"\"))","v":""},{"$f":"IF($C330=\"\",\"\",IF(OR(AS330<$AS$9,AS330=\"غ\",AT330<$AT$9),CG$5&\" - \",\"\"))","v":""},{"$f":"IF($C330=\"\",\"\",IF(OR(AW330<$AW$9,AW330=\"غ\",AX330<$AX$9),CH$5&\" - \",\"\"))","v":""},{"$f":"IF($C330=\"\",\"\",IF(OR(BE330<$BE$9,BE330=\"غ\",BF330<$BF$9,BF330=\"غ\",BG330<$BG$9),CI$5&\" - \",\"\"))","v":""},{"$f":"IF($C330=\"\",\"\",IF(OR(BK330<$BK$9,BK330=\"غ\",BL330<$BL$9),CJ$5&\" - \",\"\"))","v":""},{"$f":"IF($C330=\"\",\"\",IF(OR(BO330<$BO$9,BO330=\"غ\",BP330<$BP$9),CK$5&\" - \",\"\"))","v":""},{"$f":"IF($C330=\"\",\"\",IF(BH330<$BH$9,CL$5,\"\"))","v":""},null,{"$f":"IF($C330=\"\",\"\",SUM(H330,L330,P330,T330,X330,AB330,AF330,AJ330,AN330,AR330,AV330,BA330,BB330))","v":""}]
[null,null,null,null,null,null,null,null,null,{"$f":"SUM(G331:I331)","v":0},null,null,null,0,null,null,null,0,null,null,null,0,null,null,null,0,null,null,null,0,null,null,null,0,null,null,null,0,null,null,null,0,null,null,null,0,null,null,null,0,null,null,null,null,null,null,{"$f":"IF($C331=\"\",\"\",SUM(AY331,BA331,BC331))","v":""},"","","",null,null,null,0,null,null,null,0,"","","",null,null,null,null,"","","","","","","","","","","","","","","",null,""]
[null,null,null,null,null,null,null,null,null,0,null,null,null,0,null,null,null,0,null,null,null,0,null,null,null,0,null,null,null,0,null,null,null,0,null,null,null,0,null,null,null,0,null,null,null,0,null,null,null,0,null,null,null,null,null,null,"","","","",null,null,null,0,null,null,null,0,"","","",null,null,null,null,"","","","","","","","","","","","","","","",null,""]
[null,null,null,null,null,null,null,null,null,0,null,null,null,0,null,null,null,0,null,null,null,0,null,null,null,0,null,null,null,0,null,null,null,0,null,null,null,0,null,null,null,0,null,null,null,0,null,null,null,0,null,null,null,null,null,null,"","","","",null,null,null,0,null,null,null,0,"","","",null,null,null,null,"","","","","","","","","","","","","","","",null,""]
[null,null,null,null,null,null,null,null,null,0,null,null,null,0,null,null,null,0,null,null,null,0,null,null,null,0,null,null,null,0,null,null,null,0,null,null,null,0,null,null,null,0,null,null,null,0,null,null,null,0,null,null,null,null,null,null,"","","","",null,null,null,0,null,null,null,0,"","","",null,null,null,null,"","","","","","","","","","","","","","","",null,""]
[null,null,null,null,null,null,null,null,null,0,null,null,null,0,null,null,null,0,null,null,null,0,null,null,null,0,null,null,null,0,null,null,null,0,null,null,null,0,null,null,null,0,null,null,null,0,null,null,null,0,null,null,null,null,null,null,"","","","",null,null,null,0,null,null,null,0,"","","",null,null,null,null,"","","","","","","","","","","","","","","",null,""]
[null,null,null,null,null,null,null,null,null,0,null,null,null,0,null,null,null,0,null,null,null,0,null,null,null,0,null,null,null,0,null,null,null,0,null,null,null,0,null,null,null,0,null,null,null,0,null,null,null,0,null,null,null,null,null,null,"","","","",null,null,null,0,null,null,null,0,"","","",null,null,null,null,"","","","","","","","","","","","","","","",null,""]
[null,null,null,null,null,null,null,null,null,0,null,null,null,0,null,null,null,0,null,null,null,0,null,null,null,0,null,null,null,0,null,null,null,0,null,null,null,0,null,null,null,0,null,null,null,0,null,null,null,0,null,null,null,null,null,null,"","","","",null,null,null,0,null,null,null,0,"","","",null,null,null,null,"","","","","","","","","","","","","","","",null,""]
[null,null,null,null,null,null,null,null,null,0,null,null,null,0,null,null,null,0,null,null,null,0,null,null,null,0,null,null,null,0,null,null,null,0,null,null,null,0,null,null,null,0,null,null,null,0,null,null,null,0,null,null,null,null,null,null,"","","","",null,null,null,0,null,null,null,0,"","","",null,null,null,null,"","","","","","","","","","","","","","","",null,""]
[null,null,null,null,null,null,null,null,null,0,null,null,null,0,null,null,null,0,null,null,null,0,null,null,null,0,null,null,null,0,null,null,null,0,null,null,null,0,null,null,null,0,null,null,null,0,null,null,null,0,null,null,null,null,null,null,"","","","",null,null,null,0,null,null,null,0,"","","",null,null,null,null,"","","","","","","","","","","","","","","",null,""]
[null,null,null,null,null,null,null,null,null,0,null,null,null,0,null,null,null,0,null,null,null,0,null,null,null,0,null,null,null,0,null,null,null,0,null,null,null,0,null,null,null,0,null,null,null,0,null,null,null,0,null,null,null,null,null,null,"","","","",null,null,null,0,null,null,null,0,"","","",null,null,null,null,"","","","","","","","","","","","","","","",null,""]
[null,null,null,null,null,null,null,null,null,0,null,null,null,0,null,null,null,0,null,null,null,0,null,null,null,0,null,null,null,0,null,null,null,0,null,null,null,0,null,null,null,0,null,null,null,0,null,null,null,0,null,null,null,null,null,null,"","","","",null,null,null,0,null,null,null,0,"","","",null,null,null,null,"","","","","","","","","","","","","","","",null,""]
[null,null,null,null,null,null,null,null,null,0,null,null,null,0,null,null,null,0,null,null,null,0,null,null,null,0,null,null,null,0,null,null,null,0,null,null,null,0,null,null,null,0,null,null,null,0,null,null,null,0,null,null,null,null,null,null,"","","","",null,null,null,0,null,null,null,0,"","","",null,null,null,null,"","","","","","","","","","","","","","","",null,""]
[null,null,null,null,null,null,null,null,null,0,null,null,null,0,null,null,null,0,null,null,null,0,null,null,null,0,null,null,null,0,null,null,null,0,null,null,null,0,null,null,null,0,null,null,null,0,null,null,null,0,null,null,null,null,null,null,"","","","",null,null,null,0,null,null,null,0,"","","",null,null,null,null,"","","","","","","","","","","","","","","",null,""]
[null,null,null,null,null,null,null,null,null,0,null,null,null,0,null,null,null,0,null,null,null,0,null,null,null,0,null,null,null,0,null,null,null,0,null,null,null,0,null,null,null,0,null,null,null,0,null,null,null,0,null,null,null,null,null,null,"","","","",null,null,null,0,null,null,null,0,"","","",null,null,null,null,"","","","","","","","","","","","","","","",null,""]
[null,null,null,null,null,null,null,null,null,0,null,null,null,0,null,null,null,0,null,null,null,0,null,null,null,0,null,null,null,0,null,null,null,0,null,null,null,0,null,null,null,0,null,null,null,0,null,null,null,0,null,null,null,null,null,null,"","","","",null,null,null,0,null,null,null,0,"","","",null,null,null,null,"","","","","","","","","","","","","","","",null,""]
[null,null,null,null,null,null,null,null,null,0,null,null,null,0,null,null,null,0,null,null,null,0,null,null,null,0,null,null,null,0,null,null,null,0,null,null,null,0,null,null,null,0,null,null,null,0,null,null,null,0,null,null,null,null,null,null,"","","","",null,null,null,0,null,null,null,0,"","","",null,null,null,null,"","","","","","","","","","","","","","","",null,""]
[null,null,null,null,null,null,null,null,null,0,null,null,null,0,null,null,null,0,null,null,null,0,null,null,null,0,null,null,null,0,null,null,null,0,null,null,null,0,null,null,null,0,null,null,null,0,null,null,null,0,null,null,null,null,null,null,"","","","",null,null,null,0,null,null,null,0,"","","",null,null,null,null,"","","","","","","","","","","","","","","",null,""]
[null,null,null,null,null,null,null,null,null,0,null,null,null,0,null,null,null,0,null,null,null,0,null,null,null,0,null,null,null,0,null,null,null,0,null,null,null,0,null,null,null,0,null,null,null,0,null,null,null,0,null,null,null,null,null,null,"","","","",null,null,null,0,null,null,null,0,"","","",null,null,null,null,"","","","","","","","","","","","","","","",null,""]
[null,null,null,null,null,null,null,null,null,0,null,null,null,0,null,null,null,0,null,null,null,0,null,null,null,0,null,null,null,0,null,null,null,0,null,null,null,0,null,null,null,0,null,null,null,0,null,null,null,0,null,null,null,null,null,null,"","","","",null,null,null,0,null,null,null,0,"","","",null,null,null,null,"","","","","","","","","","","","","","","",null,""]
[null,null,null,null,null,null,null,null,null,0,null,null,null,0,null,null,null,0,null,null,null,0,null,null,null,0,null,null,null,0,null,null,null,0,null,null,null,0,null,null,null,0,null,null,null,0,null,null,null,0,null,null,null,null,null,null,"","","","",null,null,null,0,null,null,null,0,"","","",null,null,null,null,"","","","","","","","","","","","","","","",null,""]
[null,null,null,null,null,null,null,null,null,0,null,null,null,0,null,null,null,0,null,null,null,0,null,null,null,0,null,null,null,0,null,null,null,0,null,null,null,0,null,null,null,0,null,null,null,0,null,null,null,0,null,null,null,null,null,null,"","","","",null,null,null,0,null,null,null,0,"","","",null,null,null,null,"","","","","","","","","","","","","","","",null,""]
[null,null,null,null,null,null,null,null,null,0,null,null,null,0,null,null,null,0,null,null,null,0,null,null,null,0,null,null,null,0,null,null,null,0,null,null,null,0,null,null,null,0,null,null,null,0,null,null,null,0,null,null,null,null,null,null,"","","","",null,null,null,0,null,null,null,0,"","","",null,null,null,null,"","","","","","","","","","","","","","","",null,""]
[null,null,null,null,null,null,null,null,null,0,null,null,null,0,null,null,null,0,null,null,null,0,null,null,null,0,null,null,null,0,null,null,null,0,null,null,null,0,null,null,null,0,null,null,null,0,null,null,null,0,null,null,null,null,null,null,"","","","",null,null,null,0,null,null,null,0,"","","",null,null,null,null,"","","","","","","","","","","","","","","",null,""]
[null,null,null,null,null,null,null,null,null,0,null,null,null,0,null,null,null,0,null,null,null,0,null,null,null,0,null,null,null,0,null,null,null,0,null,null,null,0,null,null,null,0,null,null,null,0,null,null,null,0,null,null,null,null,null,null,"","","","",null,null,null,0,null,null,null,0,"","","",null,null,null,null,"","","","","","","","","","","","","","","",null,""]
[null,null,null,null,null,null,null,null,null,0,null,null,null,0,null,null,null,0,null,null,null,0,null,null,null,0,null,null,null,0,null,null,null,0,null,null,null,0,null,null,null,0,null,null,null,0,null,null,null,0,null,null,null,null,null,null,"","","","",null,null,null,0,null,null,null,0,"","","",null,null,null,null,"","","","","","","","","","","","","","","",null,""]
[null,null,null,null,null,null,null,null,null,0,null,null,null,0,null,null,null,0,null,null,null,0,null,null,null,0,null,null,null,0,null,null,null,0,null,null,null,0,null,null,null,0,null,null,null,0,null,null,null,0,null,null,null,null,null,null,"","","","",null,null,null,0,null,null,null,0,"","","",null,null,null,null,"","","","","","","","","","","","","","","",null,""]
[null,null,null,null,null,null,null,null,null,0,null,null,null,0,null,null,null,0,null,null,null,0,null,null,null,0,null,null,null,0,null,null,null,0,null,null,null,0,null,null,null,0,null,null,null,0,null,null,null,0,null,null,null,null,null,null,"","","","",null,null,null,0,null,null,null,0,"","","",null,null,null,null,"","","","","","","","","","","","","","","",null,""]
[null,null,null,null,null,null,null,null,null,0,null,null,null,0,null,null,null,0,null,null,null,0,null,null,null,0,null,null,null,0,null,null,null,0,null,null,null,0,null,null,null,0,null,null,null,0,null,null,null,0,null,null,null,null,null,null,"","","","",null,null,null,0,null,null,null,0,"","","",null,null,null,null,"","","","","","","","","","","","","","","",null,""]
[null,null,null,null,null,null,null,null,null,0,null,null,null,0,null,null,null,0,null,null,null,0,null,null,null,0,null,null,null,0,null,null,null,0,null,null,null,0,null,null,null,0,null,null,null,0,null,null,null,0,null,null,null,null,null,null,"","","","",null,null,null,0,null,null,null,0,"","","",null,null,null,null,"","","","","","","","","","","","","","","",null,""]
[null,null,null,null,null,null,null,null,null,0,null,null,null,0,null,null,null,0,null,null,null,0,null,null,null,0,null,null,null,0,null,null,null,0,null,null,null,0,null,null,null,0,null,null,null,0,null,null,null,0,null,null,null,null,null,null,"","","","",null,null,null,0,null,null,null,0,"","","",null,null,null,null,"","","","","","","","","","","","","","","",null,""]
[null,null,null,null,null,null,null,null,null,0,null,null,null,0,null,null,null,0,null,null,null,0,null,null,null,0,null,null,null,0,null,null,null,0,null,null,null,0,null,null,null,0,null,null,null,0,null,null,null,0,null,null,null,null,null,null,"","","","",null,null,null,0,null,null,null,0,"","","",null,null,null,null,"","","","","","","","","","","","","","","",null,""]
[null,null,null,null,null,null,null,null,null,0,null,null,null,0,null,null,null,0,null,null,null,0,null,null,null,0,null,null,null,0,null,null,null,0,null,null,null,0,null,null,null,0,null,null,null,0,null,null,null,0,null,null,null,null,null,null,"","","","",null,null,null,0,null,null,null,0,"","","",null,null,null,null,"","","","","","","","","","","","","","","",null,""]
[null,null,null,null,null,null,null,null,null,0,null,null,null,0,null,null,null,0,null,null,null,0,null,null,null,0,null,null,null,0,null,null,null,0,null,null,null,0,null,null,null,0,null,null,null,0,null,null,null,0,null,null,null,null,null,null,"","","","",null,null,null,0,null,null,null,0,"","","",null,null,null,null,"","","","","","","","","","","","","","","",null,""]
[null,null,null,null,null,null,null,null,null,0,null,null,null,0,null,null,null,0,null,null,null,0,null,null,null,0,null,null,null,0,null,null,null,0,null,null,null,0,null,null,null,0,null,null,null,0,null,null,null,0,null,null,null,null,null,null,"","","",{"$f":"IF($C364=\"\",\"\",SUM(I364,M364,Q364,U364,Y364,AC364,AG364,AK364,AO364,AS364,AW364,BF364))","v":""},null,null,null,0,null,null,null,0,"","","",null,null,null,null,"","","","","","","","","","","","","","","",null,""]
[null,null,null,null,null,null,null,null,null,0,null,null,null,0,null,null,null,0,null,null,null,0,null,null,null,0,null,null,null,0,null,null,null,0,null,null,null,0,null,null,null,0,null,null,null,0,null,null,null,0,null,null,null,null,null,null,"","","","",null,null,null,0,null,null,null,0,"","","",null,null,null,null,"","","","","","","","","","","","","","","",null,""]
[null,null,null,null,null,null,null,null,null,0,null,null,null,0,null,null,null,0,null,null,null,0,null,null,null,0,null,null,null,0,null,null,null,0,null,null,null,0,null,null,null,0,null,null,null,0,null,null,null,0,null,null,null,null,null,null,"","","","",null,null,null,0,null,null,null,0,"","","",null,null,null,null,"","","","","","","","","","","","","","","",null,""]
[null,null,null,null,null,null,null,null,null,0,null,null,null,0,null,null,null,0,null,null,null,0,null,null,null,0,null,null,null,0,null,null,null,0,null,null,null,0,null,null,null,0,null,null,null,0,null,null,null,0,null,null,null,null,null,null,"","","","",null,null,null,0,null,null,null,0,"","","",null,null,null,null,"","","","","","","","","","","","","","","",null,""]
[null,null,null,null,null,null,null,null,null,0,null,null,null,0,null,null,null,0,null,null,null,0,null,null,null,0,null,null,null,0,null,null,null,0,null,null,null,0,null,null,null,0,null,null,null,0,null,null,null,0,null,null,null,null,null,null,"","","","",null,null,null,0,null,null,null,0,"","","",null,null,null,null,"","","","","","","","","","","","","","","",null,""]
[null,null,null,null,null,null,null,null,null,0,null,null,null,0,null,null,null,0,null,null,null,0,null,null,null,0,null,null,null,0,null,null,null,0,null,null,null,0,null,null,null,0,null,null,null,0,null,null,null,0,null,null,null,null,null,null,"","","","",null,null,null,0,null,null,null,0,"","","",null,null,null,null,"","","","","","","","","","","","","","","",null,""]
[null,null,null,null,null,null,null,null,null,0,null,null,null,0,null,null,null,0,null,null,null,0,null,null,null,0,null,null,null,0,null,null,null,0,null,null,null,0,null,null,null,0,null,null,null,0,null,null,null,0,null,null,null,null,null,null,"","","","",null,null,null,0,null,null,null,0,"","","",null,null,null,null,"","","","","","","","","","","","","","","",null,""]
[null,null,null,null,null,null,null,null,null,0,null,null,null,0,null,null,null,0,null,null,null,0,null,null,null,0,null,null,null,0,null,null,null,0,null,null,null,0,null,null,null,0,null,null,null,0,null,null,null,0,null,null,null,null,null,null,"","","","",null,null,null,0,null,null,null,0,"","","",null,null,null,null,"","","","","","","","","","","","","","","",null,""]
[null,null,null,null,null,null,null,null,null,0,null,null,null,0,null,null,null,0,null,null,null,0,null,null,null,0,null,null,null,0,null,null,null,0,null,null,null,0,null,null,null,0,null,null,null,0,null,null,null,0,null,null,null,null,null,null,"","","","",null,null,null,0,null,null,null,0,"","","",null,null,null,null,"","","","","","","","","","","","","","","",null,""]
[null,null,null,null,null,null,null,null,null,0,null,null,null,0,null,null,null,0,null,null,null,0,null,null,null,0,null,null,null,0,null,null,null,0,null,null,null,0,null,null,null,0,null,null,null,0,null,null,null,0,null,null,null,null,null,null,{"$f":"IF($C373=\"\",\"\",SUM(AY373,BA373,BC373))","v":""},"","",{"$f":"IF($C373=\"\",\"\",SUM(J373,N373,R373,V373,Z373,AD373,AH373,AL373,AP373,AT373,AX373,BG373))","v":""},null,null,null,0,null,null,null,0,"","","",null,null,null,null,"","","","","","","","","","","","","","","",null,""]
[null,null,null,null,null,null,null,null,null,0,null,null,null,0,null,null,null,0,null,null,null,0,null,null,null,0,null,null,null,0,null,null,null,0,null,null,null,0,null,null,null,0,null,null,null,0,null,null,null,0,null,null,null,null,null,null,"","","","",null,null,null,0,null,null,null,0,"","","",null,null,null,null,"","","","","","","","","","","","","","","",null,""]
[null,null,null,null,null,null,null,null,null,0,null,null,null,0,null,null,null,0,null,null,null,0,null,null,null,0,null,null,null,0,null,null,null,0,null,null,null,0,null,null,null,0,null,null,null,0,null,null,null,0,null,null,null,null,null,null,"","","","",null,null,null,0,null,null,null,0,"","","",null,null,null,null,"","","","","","","","","","","","","","","",null,""]
[null,null,null,null,null,null,null,null,null,0,null,null,null,0,null,null,null,0,null,null,null,0,null,null,null,0,null,null,null,0,null,null,null,0,null,null,null,0,null,null,null,0,null,null,null,0,null,null,null,0,null,null,null,null,null,null,"","","","",null,null,null,0,null,null,null,0,"","","",null,null,null,null,"","","","","","","","","","","","","","","",null,""]
[null,null,null,null,null,null,null,null,null,0,null,null,null,0,null,null,null,0,null,null,null,0,null,null,null,0,null,null,null,0,null,null,null,0,null,null,null,0,null,null,null,0,null,null,null,0,null,null,null,0,null,null,null,null,null,null,"","","","",null,null,null,0,null,null,null,0,"","","",null,null,null,null,"","","","","","","","","","","","","","","",null,""]
[null,null,null,null,null,null,null,null,null,0,null,null,null,0,null,null,null,0,null,null,null,0,null,null,null,0,null,null,null,0,null,null,null,0,null,null,null,0,null,null,null,0,null,null,null,0,null,null,null,0,null,null,null,null,null,null,"","","","",null,null,null,0,null,null,null,0,"","","",null,null,null,null,"","","","","","","","","","","","","","","",null,""]
[null,null,null,null,null,null,null,null,null,0,null,null,null,0,null,null,null,0,null,null,null,0,null,null,null,0,null,null,null,0,null,null,null,0,null,null,null,0,null,null,null,0,null,null,null,0,null,null,null,0,null,null,null,null,null,null,"","","","",null,null,null,0,null,null,null,0,"","","",null,null,null,null,"","","","","","","","","","","","","","","",null,""]
[null,null,null,null,null,null,null,null,null,0,null,null,null,0,null,null,null,0,null,null,null,0,null,null,null,0,null,null,null,0,null,null,null,0,null,null,null,0,null,null,null,0,null,null,null,0,null,null,null,0,null,null,null,null,null,null,"","","","",null,null,null,0,null,null,null,0,"","","",null,null,null,null,"","","","","","","","","","","","","","","",null,""]
[null,null,null,null,null,null,null,null,null,0,null,null,null,0,null,null,null,0,null,null,null,0,null,null,null,0,null,null,null,0,null,null,null,0,null,null,null,0,null,null,null,0,null,null,null,0,null,null,null,0,null,null,null,null,null,null,"","","","",null,null,null,0,null,null,null,0,"","","",null,null,null,null,"","","","","","","","","","","","","","","",null,""]
[null,null,null,null,null,null,null,null,null,0,null,null,null,0,null,null,null,0,null,null,null,0,null,null,null,0,null,null,null,0,null,null,null,0,null,null,null,0,null,null,null,0,null,null,null,0,null,null,null,0,null,null,null,null,null,null,"","","","",null,null,null,0,null,null,null,0,"","","",null,null,null,null,"","","","","","","","","","","","","","","",null,""]
[null,null,null,null,null,null,null,null,null,0,null,null,null,0,null,null,null,0,null,null,null,0,null,null,null,0,null,null,null,0,null,null,null,0,null,null,null,0,null,null,null,0,null,null,null,0,null,null,null,0,null,null,null,null,null,null,"","","","",null,null,null,0,null,null,null,0,"","","",null,null,null,null,"","","","","","","","","","","","","","","",null,""]
[null,null,null,null,null,null,null,null,null,0,null,null,null,0,null,null,null,0,null,null,null,0,null,null,null,0,null,null,null,0,null,null,null,0,null,null,null,0,null,null,null,0,null,null,null,0,null,null,null,0,null,null,null,null,null,null,"","","","",null,null,null,0,null,null,null,0,"","","",null,null,null,null,"","","","","","","","","","","","","","","",null,""]
[null,null,null,null,null,null,null,null,null,0,null,null,null,0,null,null,null,0,null,null,null,0,null,null,null,0,null,null,null,0,null,null,null,0,null,null,null,0,null,null,null,0,null,null,null,0,null,null,null,0,null,null,null,null,null,null,"","","","",null,null,null,0,null,null,null,0,"","","",null,null,null,null,"","","","","","","","","","","","","","","",null,""]
[null,null,null,null,null,null,null,null,null,0,null,null,null,0,null,null,null,0,null,null,null,0,null,null,null,0,null,null,null,0,null,null,null,0,null,null,null,0,null,null,null,0,null,null,null,0,null,null,null,0,null,null,null,null,null,null,"","","","",null,null,null,0,null,null,null,0,"","","",null,null,null,null,"","","","","","","","","","","","","","","",null,""]
[null,null,null,null,null,null,null,null,null,0,null,null,null,0,null,null,null,0,null,null,null,0,null,null,null,0,null,null,null,0,null,null,null,0,null,null,null,0,null,null,null,0,null,null,null,0,null,null,null,0,null,null,null,null,null,null,"","","","",null,null,null,0,null,null,null,0,"","","",null,null,null,null,"","","","","","","","","","","","","","","",null,""]
[null,null,null,null,null,null,null,null,null,0,null,null,null,0,null,null,null,0,null,null,null,0,null,null,null,0,null,null,null,0,null,null,null,0,null,null,null,0,null,null,null,0,null,null,null,0,null,null,null,0,null,null,null,null,null,null,"","","","",null,null,null,0,null,null,null,0,"","","",null,null,null,null,"","","","","","","","","","","","","","","",null,""]
[null,null,null,null,null,null,null,null,null,0,null,null,null,0,null,null,null,0,null,null,null,0,null,null,null,0,null,null,null,0,null,null,null,0,null,null,null,0,null,null,null,0,null,null,null,0,null,null,null,0,null,null,null,null,null,null,{"$f":"IF($C389=\"\",\"\",SUM(AY389,BA389,BC389))","v":""},"","","",null,null,null,0,null,null,null,0,"","","",null,null,null,null,"","","","","","","","","","","","","","","",null,""]
[null,null,null,null,null,null,null,null,null,0,null,null,null,0,null,null,null,0,null,null,null,0,null,null,null,0,null,null,null,0,null,null,null,0,null,null,null,0,null,null,null,0,null,null,null,0,null,null,null,0,null,null,null,null,null,null,"","","","",null,null,null,0,null,null,null,0,"","","",null,null,null,null,"","","","","","","","","","","","","","","",null,""]
[null,null,null,null,null,null,null,null,null,0,null,null,null,0,null,null,null,0,null,null,null,0,null,null,null,0,null,null,null,0,null,null,null,0,null,null,null,0,null,null,null,0,null,null,null,0,null,null,null,0,null,null,null,null,null,null,"","","","",null,null,null,0,null,null,null,0,"","","",null,null,null,null,"","","","","","","","","","","","","","","",null,""]
[null,null,null,null,null,null,null,null,null,0,null,null,null,0,null,null,null,0,null,null,null,0,null,null,null,0,null,null,null,0,null,null,null,0,null,null,null,0,null,null,null,0,null,null,null,0,null,null,null,0,null,null,null,null,null,null,"","","","",null,null,null,0,null,null,null,0,"","","",null,null,null,null,"","","","","","","","","","","","","","","",null,""]
[null,null,null,null,null,null,null,null,null,0,null,null,null,0,null,null,null,0,null,null,null,0,null,null,null,0,null,null,null,0,null,null,null,0,null,null,null,0,null,null,null,0,null,null,null,0,null,null,null,0,null,null,null,null,null,null,"","","","",null,null,null,0,null,null,null,0,"","","",null,null,null,null,"","","","","","","","","","","","","","","",null,""]
[null,null,null,null,null,null,null,null,null,0,null,null,null,{"$f":"SUM(K394:M394)","v":0},null,null,null,{"$f":"SUM(O394:Q394)","v":0},null,null,null,{"$f":"SUM(S394:U394)","v":0},null,null,null,{"$f":"SUM(W394:Y394)","v":0},null,null,null,{"$f":"SUM(AA394:AC394)","v":0},null,null,null,{"$f":"SUM(AE394:AG394)","v":0},null,null,null,{"$f":"SUM(AI394:AK394)","v":0},null,null,null,{"$f":"SUM(AM394:AO394)","v":0},null,null,null,{"$f":"SUM(AQ394:AS394)","v":0},null,null,null,{"$f":"SUM(AU394:AW394)","v":0},null,null,null,null,null,null,"","",{"$f":"IF($C394=\"\",\"\",SUM(BE394,BF394))","v":""},"",null,null,null,{"$f":"SUM(BI394:BK394)","v":0},null,null,null,{"$f":"SUM(BM394:BO394)","v":0},{"$f":"IF($C394=\"\",\"\",IF(BS394=0,\"ناجحة\",IF(BS394<=2,\"دورثان\",\"راسبة\")))","v":""},{"$f":"IF($C394=\"\",\"\",IF(BS394=0,\"ومنقولة للصف الثالث\",IF(BS394>0,\"فى  :  \"&CONCATENATE(BX394,BY394,BZ394,CA394,CB394,CC394,CD394,CE394,CF394,CG394,CH394,CI394,CJ394,CK394,CL394),CONCATENATE(BX394,BY394,BZ394,CA394,CB394,CC394,CD394,CE394,CF394,CG394,CH394,CI394,CJ394,CK394,CL394))))","v":""},{"$f":"IF($C394=\"\",\"\",COUNTA($BX394:$CL394)-COUNTBLANK($BX394:$CL394))","v":""},null,null,null,null,{"$f":"IF($C394=\"\",\"\",IF(OR(I394<$I$9,I394=\"غ\",J394<$J$9),$BX$5&\" - \",\"\"))","v":""},{"$f":"IF($C394=\"\",\"\",IF(OR(M394<$M$9,M394=\"غ\",N394<$N$9),$BY$5&\" - \",\"\"))","v":""},{"$f":"IF($C394=\"\",\"\",IF(OR(Q394<$Q$9,Q394=\"غ\",R394<$R$9),BZ$5&\" - \",\"\"))","v":""},{"$f":"IF($C394=\"\",\"\",IF(OR(U394<$U$9,U394=\"غ\",V394<$V$9),CA$5&\" - \",\"\"))","v":""},{"$f":"IF($C394=\"\",\"\",IF(OR(Y394<$Y$9,Y394=\"غ\",Z394<$Z$9),CB$5&\" - \",\"\"))","v":""},{"$f":"IF($C394=\"\",\"\",IF(OR(AC394<$AC$9,AC394=\"غ\",AD394<$AD$9),CC$5&\" - \",\"\"))","v":""},{"$f":"IF($C394=\"\",\"\",IF(OR(AG394<$AG$9,AG394=\"غ\",AH394<$AH$9),CD$5&\" - \",\"\"))","v":""},{"$f":"IF($C394=\"\",\"\",IF(OR(AK394<$AK$9,AK394=\"غ\",AL394<$AL$9),CE$5&\" - \",\"\"))","v":""},{"$f":"IF($C394=\"\",\"\",IF(OR(AO394<$AO$9,AO394=\"غ\",AP394<$AP$9),CF$5&\" - \",\"\"))","v":""},{"$f":"IF($C394=\"\",\"\",IF(OR(AS394<$AS$9,AS394=\"غ\",AT394<$AT$9),CG$5&\" - \",\"\"))","v":""},{"$f":"IF($C394=\"\",\"\",IF(OR(AW394<$AW$9,AW394=\"غ\",AX394<$AX$9),CH$5&\" - \",\"\"))","v":""},{"$f":"IF($C394=\"\",\"\",IF(OR(BE394<$BE$9,BE394=\"غ\",BF394<$BF$9,BF394=\"غ\",BG394<$BG$9),CI$5&\" - \",\"\"))","v":""},{"$f":"IF($C394=\"\",\"\",IF(OR(BK394<$BK$9,BK394=\"غ\",BL394<$BL$9),CJ$5&\" - \",\"\"))","v":""},{"$f":"IF($C394=\"\",\"\",IF(OR(BO394<$BO$9,BO394=\"غ\",BP394<$BP$9),CK$5&\" - \",\"\"))","v":""},{"$f":"IF($C394=\"\",\"\",IF(BH394<$BH$9,CL$5,\"\"))","v":""},null,{"$f":"IF($C394=\"\",\"\",SUM(H394,L394,P394,T394,X394,AB394,AF394,AJ394,AN394,AR394,AV394,BA394,BB394))","v":""}]
[null,null,null,null,null,null,null,null,null,{"$f":"SUM(G395:I395)","v":0},null,null,null,0,null,null,null,0,null,null,null,0,null,null,null,0,null,null,null,0,null,null,null,0,null,null,null,0,null,null,null,0,null,null,null,0,null,null,null,0,null,null,null,null,null,null,"","","","",null,null,null,0,null,null,null,0,"","","",null,null,null,null,"","","","","","","","","","","","","","","",null,""]
[null,null,null,null,null,null,null,null,null,0,null,null,null,0,null,null,null,0,null,null,null,0,null,null,null,0,null,null,null,0,null,null,null,0,null,null,null,0,null,null,null,0,null,null,null,0,null,null,null,0,null,null,null,null,null,null,"","","","",null,null,null,0,null,null,null,0,"","","",null,null,null,null,"","","","","","","","","","","","","","","",null,""]
[null,null,null,null,null,null,null,null,null,0,null,null,null,0,null,null,null,0,null,null,null,0,null,null,null,0,null,null,null,0,null,null,null,0,null,null,null,0,null,null,null,0,null,null,null,0,null,null,null,0,null,null,null,null,null,null,"","","","",null,null,null,0,null,null,null,0,"","","",null,null,null,null,"","","","","","","","","","","","","","","",null,""]
[null,null,null,null,null,null,null,null,null,0,null,null,null,0,null,null,null,0,null,null,null,0,null,null,null,0,null,null,null,0,null,null,null,0,null,null,null,0,null,null,null,0,null,null,null,0,null,null,null,0,null,null,null,null,null,null,"","","","",null,null,null,0,null,null,null,0,"","","",null,null,null,null,"","","","","","","","","","","","","","","",null,""]
[null,null,null,null,null,null,null,null,null,0,null,null,null,0,null,null,null,0,null,null,null,0,null,null,null,0,null,null,null,0,null,null,null,0,null,null,null,0,null,null,null,0,null,null,null,0,null,null,null,0,null,null,null,null,null,null,"","","","",null,null,null,0,null,null,null,0,"","","",null,null,null,null,"","","","","","","","","","","","","","","",null,""]
[null,null,null,null,null,null,null,null,null,0,null,null,null,0,null,null,null,0,null,null,null,0,null,null,null,0,null,null,null,0,null,null,null,0,null,null,null,0,null,null,null,0,null,null,null,0,null,null,null,0,null,null,null,null,null,null,"","","","",null,null,null,0,null,null,null,0,"","","",null,null,null,null,"","","","","","","","","","","","","","","",null,""]
[null,null,null,null,null,null,null,null,null,0,null,null,null,0,null,null,null,0,null,null,null,0,null,null,null,0,null,null,null,0,null,null,null,0,null,null,null,0,null,null,null,0,null,null,null,0,null,null,null,0,null,null,null,null,null,null,"","","","",null,null,null,0,null,null,null,0,"","","",null,null,null,null,"","","","","","","","","","","","","","","",null,""]
[null,null,null,null,null,null,null,null,null,0,null,null,null,0,null,null,null,0,null,null,null,0,null,null,null,0,null,null,null,0,null,null,null,0,null,null,null,0,null,null,null,0,null,null,null,0,null,null,null,0,null,null,null,null,null,null,"","","","",null,null,null,0,null,null,null,0,"","","",null,null,null,null,"","","","","","","","","","","","","","","",null,""]
[null,null,null,null,null,null,null,null,null,0,null,null,null,0,null,null,null,0,null,null,null,0,null,null,null,0,null,null,null,0,null,null,null,0,null,null,null,0,null,null,null,0,null,null,null,0,null,null,null,0,null,null,null,null,null,null,"","","","",null,null,null,0,null,null,null,0,"","","",null,null,null,null,"","","","","","","","","","","","","","","",null,""]
[null,null,null,null,null,null,null,null,null,0,null,null,null,0,null,null,null,0,null,null,null,0,null,null,null,0,null,null,null,0,null,null,null,0,null,null,null,0,null,null,null,0,null,null,null,0,null,null,null,0,null,null,null,null,null,null,"","","","",null,null,null,0,null,null,null,0,"","","",null,null,null,null,"","","","","","","","","","","","","","","",null,""]
[null,null,null,null,null,null,null,null,null,0,null,null,null,0,null,null,null,0,null,null,null,0,null,null,null,0,null,null,null,0,null,null,null,0,null,null,null,0,null,null,null,0,null,null,null,0,null,null,null,0,null,null,null,null,null,null,"","","","",null,null,null,0,null,null,null,0,"","","",null,null,null,null,"","","","","","","","","","","","","","","",null,""]
[null,null,null,null,null,null,null,null,null,0,null,null,null,0,null,null,null,0,null,null,null,0,null,null,null,0,null,null,null,0,null,null,null,0,null,null,null,0,null,null,null,0,null,null,null,0,null,null,null,0,null,null,null,null,null,null,"","","","",null,null,null,0,null,null,null,0,"","","",null,null,null,null,"","","","","","","","","","","","","","","",null,""]
[null,null,null,null,null,null,null,null,null,0,null,null,null,0,null,null,null,0,null,null,null,0,null,null,null,0,null,null,null,0,null,null,null,0,null,null,null,0,null,null,null,0,null,null,null,0,null,null,null,0,null,null,null,null,null,null,"","","","",null,null,null,0,null,null,null,0,"","","",null,null,null,null,"","","","","","","","","","","","","","","",null,""]
[null,null,null,null,null,null,null,null,null,0,null,null,null,0,null,null,null,0,null,null,null,0,null,null,null,0,null,null,null,0,null,null,null,0,null,null,null,0,null,null,null,0,null,null,null,0,null,null,null,0,null,null,null,null,null,null,"","","","",null,null,null,0,null,null,null,0,"","","",null,null,null,null,"","","","","","","","","","","","","","","",null,""]
[null,null,null,null,null,null,null,null,null,0,null,null,null,0,null,null,null,0,null,null,null,0,null,null,null,0,null,null,null,0,null,null,null,0,null,null,null,0,null,null,null,0,null,null,null,0,null,null,null,0,null,null,null,null,null,null,"","","","",null,null,null,0,null,null,null,0,"","","",null,null,null,null,"","","","","","","","","","","","","","","",null,""]
[null,null,null,null,null,null,null,null,null,0,null,null,null,0,null,null,null,0,null,null,null,0,null,null,null,0,null,null,null,0,null,null,null,0,null,null,null,0,null,null,null,0,null,null,null,0,null,null,null,0,null,null,null,null,null,null,"","","","",null,null,null,0,null,null,null,0,"","","",null,null,null,null,"","","","","","","","","","","","","","","",null,""]
[null,null,null,null,null,null,null,null,null,0,null,null,null,0,null,null,null,0,null,null,null,0,null,null,null,0,null,null,null,0,null,null,null,0,null,null,null,0,null,null,null,0,null,null,null,0,null,null,null,0,null,null,null,null,null,null,"","","","",null,null,null,0,null,null,null,0,"","","",null,null,null,null,"","","","","","","","","","","","","","","",null,""]
[null,null,null,null,null,null,null,null,null,0,null,null,null,0,null,null,null,0,null,null,null,0,null,null,null,0,null,null,null,0,null,null,null,0,null,null,null,0,null,null,null,0,null,null,null,0,null,null,null,0,null,null,null,null,null,null,"","","","",null,null,null,0,null,null,null,0,"","","",null,null,null,null,"","","","","","","","","","","","","","","",null,""]
[null,null,null,null,null,null,null,null,null,0,null,null,null,0,null,null,null,0,null,null,null,0,null,null,null,0,null,null,null,0,null,null,null,0,null,null,null,0,null,null,null,0,null,null,null,0,null,null,null,0,null,null,null,null,null,null,"","","","",null,null,null,0,null,null,null,0,"","","",null,null,null,null,"","","","","","","","","","","","","","","",null,""]
[null,null,null,null,null,null,null,null,null,0,null,null,null,0,null,null,null,0,null,null,null,0,null,null,null,0,null,null,null,0,null,null,null,0,null,null,null,0,null,null,null,0,null,null,null,0,null,null,null,0,null,null,null,null,null,null,"","","","",null,null,null,0,null,null,null,0,"","","",null,null,null,null,"","","","","","","","","","","","","","","",null,""]
[null,null,null,null,null,null,null,null,null,0,null,null,null,0,null,null,null,0,null,null,null,0,null,null,null,0,null,null,null,0,null,null,null,0,null,null,null,0,null,null,null,0,null,null,null,0,null,null,null,0,null,null,null,null,null,null,"","","","",null,null,null,0,null,null,null,0,"","","",null,null,null,null,"","","","","","","","","","","","","","","",null,""]
[null,null,null,null,null,null,null,null,null,0,null,null,null,0,null,null,null,0,null,null,null,0,null,null,null,0,null,null,null,0,null,null,null,0,null,null,null,0,null,null,null,0,null,null,null,0,null,null,null,0,null,null,null,null,null,null,"","","","",null,null,null,0,null,null,null,0,"","","",null,null,null,null,"","","","","","","","","","","","","","","",null,""]
[null,null,null,null,null,null,null,null,null,0,null,null,null,0,null,null,null,0,null,null,null,0,null,null,null,0,null,null,null,0,null,null,null,0,null,null,null,0,null,null,null,0,null,null,null,0,null,null,null,0,null,null,null,null,null,null,"","","","",null,null,null,0,null,null,null,0,"","","",null,null,null,null,"","","","","","","","","","","","","","","",null,""]
[null,null,null,null,null,null,null,null,null,0,null,null,null,0,null,null,null,0,null,null,null,0,null,null,null,0,null,null,null,0,null,null,null,0,null,null,null,0,null,null,null,0,null,null,null,0,null,null,null,0,null,null,null,null,null,null,"","","","",null,null,null,0,null,null,null,0,"","","",null,null,null,null,"","","","","","","","","","","","","","","",null,""]
[null,null,null,null,null,null,null,null,null,0,null,null,null,0,null,null,null,0,null,null,null,0,null,null,null,0,null,null,null,0,null,null,null,0,null,null,null,0,null,null,null,0,null,null,null,0,null,null,null,0,null,null,null,null,null,null,"","","","",null,null,null,0,null,null,null,0,"","","",null,null,null,null,"","","","","","","","","","","","","","","",null,""]
[null,null,null,null,null,null,null,null,null,0,null,null,null,0,null,null,null,0,null,null,null,0,null,null,null,0,null,null,null,0,null,null,null,0,null,null,null,0,null,null,null,0,null,null,null,0,null,null,null,0,null,null,null,null,null,null,"","","","",null,null,null,0,null,null,null,0,"","","",null,null,null,null,"","","","","","","","","","","","","","","",null,""]
[null,null,null,null,null,null,null,null,null,0,null,null,null,0,null,null,null,0,null,null,null,0,null,null,null,0,null,null,null,0,null,null,null,0,null,null,null,0,null,null,null,0,null,null,null,0,null,null,null,0,null,null,null,null,null,null,"","","","",null,null,null,0,null,null,null,0,"","","",null,null,null,null,"","","","","","","","","","","","","","","",null,""]
[null,null,null,null,null,null,null,null,null,0,null,null,null,0,null,null,null,0,null,null,null,0,null,null,null,0,null,null,null,0,null,null,null,0,null,null,null,0,null,null,null,0,null,null,null,0,null,null,null,0,null,null,null,null,null,null,"","","","",null,null,null,0,null,null,null,0,"","","",null,null,null,null,"","","","","","","","","","","","","","","",null,""]
[null,null,null,null,null,null,null,null,null,0,null,null,null,0,null,null,null,0,null,null,null,0,null,null,null,0,null,null,null,0,null,null,null,0,null,null,null,0,null,null,null,0,null,null,null,0,null,null,null,0,null,null,null,null,null,null,"","","","",null,null,null,0,null,null,null,0,"","","",null,null,null,null,"","","","","","","","","","","","","","","",null,""]
[null,null,null,null,null,null,null,null,null,0,null,null,null,0,null,null,null,0,null,null,null,0,null,null,null,0,null,null,null,0,null,null,null,0,null,null,null,0,null,null,null,0,null,null,null,0,null,null,null,0,null,null,null,null,null,null,"","","","",null,null,null,0,null,null,null,0,"","","",null,null,null,null,"","","","","","","","","","","","","","","",null,""]
[null,null,null,null,null,null,null,null,null,0,null,null,null,0,null,null,null,0,null,null,null,0,null,null,null,0,null,null,null,0,null,null,null,0,null,null,null,0,null,null,null,0,null,null,null,0,null,null,null,0,null,null,null,null,null,null,"","","","",null,null,null,0,null,null,null,0,"","","",null,null,null,null,"","","","","","","","","","","","","","","",null,""]
[null,null,null,null,null,null,null,null,null,0,null,null,null,0,null,null,null,0,null,null,null,0,null,null,null,0,null,null,null,0,null,null,null,0,null,null,null,0,null,null,null,0,null,null,null,0,null,null,null,0,null,null,null,null,null,null,"","","","",null,null,null,0,null,null,null,0,"","","",null,null,null,null,"","","","","","","","","","","","","","","",null,""]
[null,null,null,null,null,null,null,null,null,0,null,null,null,0,null,null,null,0,null,null,null,0,null,null,null,0,null,null,null,0,null,null,null,0,null,null,null,0,null,null,null,0,null,null,null,0,null,null,null,0,null,null,null,null,null,null,"","","","",null,null,null,0,null,null,null,0,"","","",null,null,null,null,"","","","","","","","","","","","","","","",null,""]
[null,null,null,null,null,null,null,null,null,0,null,null,null,0,null,null,null,0,null,null,null,0,null,null,null,0,null,null,null,0,null,null,null,0,null,null,null,0,null,null,null,0,null,null,null,0,null,null,null,0,null,null,null,null,null,null,"","","","",null,null,null,0,null,null,null,0,"","","",null,null,null,null,"","","","","","","","","","","","","","","",null,""]
[null,null,null,null,null,null,null,null,null,0,null,null,null,0,null,null,null,0,null,null,null,0,null,null,null,0,null,null,null,0,null,null,null,0,null,null,null,0,null,null,null,0,null,null,null,0,null,null,null,0,null,null,null,null,null,null,"","","","",null,null,null,0,null,null,null,0,"","","",null,null,null,null,"","","","","","","","","","","","","","","",null,""]
[null,null,null,null,null,null,null,null,null,0,null,null,null,0,null,null,null,0,null,null,null,0,null,null,null,0,null,null,null,0,null,null,null,0,null,null,null,0,null,null,null,0,null,null,null,0,null,null,null,0,null,null,null,null,null,null,"","","","",null,null,null,0,null,null,null,0,"","","",null,null,null,null,"","","","","","","","","","","","","","","",null,""]
[null,null,null,null,null,null,null,null,null,0,null,null,null,0,null,null,null,0,null,null,null,0,null,null,null,0,null,null,null,0,null,null,null,0,null,null,null,0,null,null,null,0,null,null,null,0,null,null,null,0,null,null,null,null,null,null,"","","","",null,null,null,0,null,null,null,0,"","","",null,null,null,null,"","","","","","","","","","","","","","","",null,""]
[null,null,null,null,null,null,null,null,null,0,null,null,null,0,null,null,null,0,null,null,null,0,null,null,null,0,null,null,null,0,null,null,null,0,null,null,null,0,null,null,null,0,null,null,null,0,null,null,null,0,null,null,null,null,null,null,"","","","",null,null,null,0,null,null,null,0,"","","",null,null,null,null,"","","","","","","","","","","","","","","",null,""]
[null,null,null,null,null,null,null,null,null,0,null,null,null,0,null,null,null,0,null,null,null,0,null,null,null,0,null,null,null,0,null,null,null,0,null,null,null,0,null,null,null,0,null,null,null,0,null,null,null,0,null,null,null,null,null,null,"","","","",null,null,null,0,null,null,null,0,"","","",null,null,null,null,"","","","","","","","","","","","","","","",null,""]
[null,null,null,null,null,null,null,null,null,0,null,null,null,0,null,null,null,0,null,null,null,0,null,null,null,0,null,null,null,0,null,null,null,0,null,null,null,0,null,null,null,0,null,null,null,0,null,null,null,0,null,null,null,null,null,null,"","","","",null,null,null,0,null,null,null,0,"","","",null,null,null,null,"","","","","","","","","","","","","","","",null,""]
[null,null,null,null,null,null,null,null,null,0,null,null,null,0,null,null,null,0,null,null,null,0,null,null,null,0,null,null,null,0,null,null,null,0,null,null,null,0,null,null,null,0,null,null,null,0,null,null,null,0,null,null,null,null,null,null,"","","","",null,null,null,0,null,null,null,0,"","","",null,null,null,null,"","","","","","","","","","","","","","","",null,""]
[null,null,null,null,null,null,null,null,null,0,null,null,null,0,null,null,null,0,null,null,null,0,null,null,null,0,null,null,null,0,null,null,null,0,null,null,null,0,null,null,null,0,null,null,null,0,null,null,null,0,null,null,null,null,null,null,"","","","",null,null,null,0,null,null,null,0,"","","",null,null,null,null,"","","","","","","","","","","","","","","",null,""]
[null,null,null,null,null,null,null,null,null,0,null,null,null,0,null,null,null,0,null,null,null,0,null,null,null,0,null,null,null,0,null,null,null,0,null,null,null,0,null,null,null,0,null,null,null,0,null,null,null,0,null,null,null,null,null,null,"","","",{"$f":"IF($C437=\"\",\"\",SUM(J437,N437,R437,V437,Z437,AD437,AH437,AL437,AP437,AT437,AX437,BG437))","v":""},null,null,null,0,null,null,null,0,"","","",null,null,null,null,"","","","","","","","","","","","","","","",null,""]
[null,null,null,null,null,null,null,null,null,0,null,null,null,0,null,null,null,0,null,null,null,0,null,null,null,0,null,null,null,0,null,null,null,0,null,null,null,0,null,null,null,0,null,null,null,0,null,null,null,0,null,null,null,null,null,null,"","","","",null,null,null,0,null,null,null,0,"","","",null,null,null,null,"","","","","","","","","","","","","","","",null,""]
[null,null,null,null,null,null,null,null,null,0,null,null,null,0,null,null,null,0,null,null,null,0,null,null,null,0,null,null,null,0,null,null,null,0,null,null,null,0,null,null,null,0,null,null,null,0,null,null,null,0,null,null,null,null,null,null,"","","","",null,null,null,0,null,null,null,0,"","","",null,null,null,null,"","","","","","","","","","","","","","","",null,""]
[null,null,null,null,null,null,null,null,null,0,null,null,null,0,null,null,null,0,null,null,null,0,null,null,null,0,null,null,null,0,null,null,null,0,null,null,null,0,null,null,null,0,null,null,null,0,null,null,null,0,null,null,null,null,null,null,"","","","",null,null,null,0,null,null,null,0,"","","",null,null,null,null,"","","","","","","","","","","","","","","",null,""]
[null,null,null,null,null,null,null,null,null,0,null,null,null,0,null,null,null,0,null,null,null,0,null,null,null,0,null,null,null,0,null,null,null,0,null,null,null,0,null,null,null,0,null,null,null,0,null,null,null,0,null,null,null,null,null,null,"","","","",null,null,null,0,null,null,null,0,"","","",null,null,null,null,"","","","","","","","","","","","","","","",null,""]
[null,null,null,null,null,null,null,null,null,0,null,null,null,0,null,null,null,0,null,null,null,0,null,null,null,0,null,null,null,0,null,null,null,0,null,null,null,0,null,null,null,0,null,null,null,0,null,null,null,0,null,null,null,null,null,null,"","","","",null,null,null,0,null,null,null,0,"","","",null,null,null,null,"","","","","","","","","","","","","","","",null,""]
[null,null,null,null,null,null,null,null,null,0,null,null,null,0,null,null,null,0,null,null,null,0,null,null,null,0,null,null,null,0,null,null,null,0,null,null,null,0,null,null,null,0,null,null,null,0,null,null,null,0,null,null,null,null,null,null,"","","","",null,null,null,0,null,null,null,0,"","","",null,null,null,null,"","","","","","","","","","","","","","","",null,""]
[null,null,null,null,null,null,null,null,null,0,null,null,null,0,null,null,null,0,null,null,null,0,null,null,null,0,null,null,null,0,null,null,null,0,null,null,null,0,null,null,null,0,null,null,null,0,null,null,null,0,null,null,null,null,null,null,"","","","",null,null,null,0,null,null,null,0,"","","",null,null,null,null,"","","","","","","","","","","","","","","",null,""]
[null,null,null,null,null,null,null,null,null,0,null,null,null,0,null,null,null,0,null,null,null,0,null,null,null,0,null,null,null,0,null,null,null,0,null,null,null,0,null,null,null,0,null,null,null,0,null,null,null,0,null,null,null,null,null,null,"","","","",null,null,null,0,null,null,null,0,"","","",null,null,null,null,"","","","","","","","","","","","","","","",null,""]
[null,null,null,null,null,null,null,null,null,0,null,null,null,0,null,null,null,0,null,null,null,0,null,null,null,0,null,null,null,0,null,null,null,0,null,null,null,0,null,null,null,0,null,null,null,0,null,null,null,0,null,null,null,null,null,null,"","","","",null,null,null,0,null,null,null,0,"","","",null,null,null,null,"","","","","","","","","","","","","","","",null,""]
[null,null,null,null,null,null,null,null,null,0,null,null,null,0,null,null,null,0,null,null,null,0,null,null,null,0,null,null,null,0,null,null,null,0,null,null,null,0,null,null,null,0,null,null,null,0,null,null,null,0,null,null,null,null,null,null,"","","","",null,null,null,0,null,null,null,0,"","","",null,null,null,null,"","","","","","","","","","","","","","","",null,""]
[null,null,null,null,null,null,null,null,null,0,null,null,null,0,null,null,null,0,null,null,null,0,null,null,null,0,null,null,null,0,null,null,null,0,null,null,null,0,null,null,null,0,null,null,null,0,null,null,null,0,null,null,null,null,null,null,"","","","",null,null,null,0,null,null,null,0,"","","",null,null,null,null,"","","","","","","","","","","","","","","",null,""]
[null,null,null,null,null,null,null,null,null,0,null,null,null,0,null,null,null,0,null,null,null,0,null,null,null,0,null,null,null,0,null,null,null,0,null,null,null,0,null,null,null,0,null,null,null,0,null,null,null,0,null,null,null,null,null,null,"","","","",null,null,null,0,null,null,null,0,"","","",null,null,null,null,"","","","","","","","","","","","","","","",null,""]
[null,null,null,null,null,null,null,null,null,0,null,null,null,0,null,null,null,0,null,null,null,0,null,null,null,0,null,null,null,0,null,null,null,0,null,null,null,0,null,null,null,0,null,null,null,0,null,null,null,0,null,null,null,null,null,null,"","","","",null,null,null,0,null,null,null,0,"","","",null,null,null,null,"","","","","","","","","","","","","","","",null,""]
[null,null,null,null,null,null,null,null,null,0,null,null,null,0,null,null,null,0,null,null,null,0,null,null,null,0,null,null,null,0,null,null,null,0,null,null,null,0,null,null,null,0,null,null,null,0,null,null,null,0,null,null,null,null,null,null,"","","","",null,null,null,0,null,null,null,0,"","","",null,null,null,null,"","","","","","","","","","","","","","","",null,""]
[null,null,null,null,null,null,null,null,null,0,null,null,null,0,null,null,null,0,null,null,null,0,null,null,null,0,null,null,null,0,null,null,null,0,null,null,null,0,null,null,null,0,null,null,null,0,null,null,null,0,null,null,null,null,null,null,"","","","",null,null,null,0,null,null,null,0,"","","",null,null,null,null,"","","","","","","","","","","","","","","",null,""]
[null,null,null,null,null,null,null,null,null,0,null,null,null,0,null,null,null,0,null,null,null,0,null,null,null,0,null,null,null,0,null,null,null,0,null,null,null,0,null,null,null,0,null,null,null,0,null,null,null,0,null,null,null,null,null,null,{"$f":"IF($C453=\"\",\"\",SUM(AY453,BA453,BC453))","v":""},"","","",null,null,null,0,null,null,null,0,"","","",null,null,null,null,"","","","","","","","","","","","","","","",null,""]
[null,null,null,null,null,null,null,null,null,0,null,null,null,0,null,null,null,0,null,null,null,0,null,null,null,0,null,null,null,0,null,null,null,0,null,null,null,0,null,null,null,0,null,null,null,0,null,null,null,0,null,null,null,null,null,null,"","","","",null,null,null,0,null,null,null,0,"","","",null,null,null,null,"","","","","","","","","","","","","","","",null,""]
[null,null,null,null,null,null,null,null,null,0,null,null,null,0,null,null,null,0,null,null,null,0,null,null,null,0,null,null,null,0,null,null,null,0,null,null,null,0,null,null,null,0,null,null,null,0,null,null,null,0,null,null,null,null,null,null,"","","","",null,null,null,0,null,null,null,0,"","","",null,null,null,null,"","","","","","","","","","","","","","","",null,""]
[null,null,null,null,null,null,null,null,null,0,null,null,null,0,null,null,null,0,null,null,null,0,null,null,null,0,null,null,null,0,null,null,null,0,null,null,null,0,null,null,null,0,null,null,null,0,null,null,null,0,null,null,null,null,null,null,"","","","",null,null,null,0,null,null,null,0,"","","",null,null,null,null,"","","","","","","","","","","","","","","",null,""]
[null,null,null,null,null,null,null,null,null,0,null,null,null,0,null,null,null,0,null,null,null,0,null,null,null,0,null,null,null,0,null,null,null,0,null,null,null,0,null,null,null,0,null,null,null,0,null,null,null,0,null,null,null,null,null,null,"","","","",null,null,null,0,null,null,null,0,"","","",null,null,null,null,"","","","","","","","","","","","","","","",null,""]
[null,null,null,null,null,null,null,null,null,0,null,null,null,{"$f":"SUM(K458:M458)","v":0},null,null,null,{"$f":"SUM(O458:Q458)","v":0},null,null,null,{"$f":"SUM(S458:U458)","v":0},null,null,null,{"$f":"SUM(W458:Y458)","v":0},null,null,null,{"$f":"SUM(AA458:AC458)","v":0},null,null,null,{"$f":"SUM(AE458:AG458)","v":0},null,null,null,{"$f":"SUM(AI458:AK458)","v":0},null,null,null,{"$f":"SUM(AM458:AO458)","v":0},null,null,null,{"$f":"SUM(AQ458:AS458)","v":0},null,null,null,{"$f":"SUM(AU458:AW458)","v":0},null,null,null,null,null,null,"","",{"$f":"IF($C458=\"\",\"\",SUM(BE458,BF458))","v":""},"",null,null,null,{"$f":"SUM(BI458:BK458)","v":0},null,null,null,{"$f":"SUM(BM458:BO458)","v":0},{"$f":"IF($C458=\"\",\"\",IF(BS458=0,\"ناجحة\",IF(BS458<=2,\"دورثان\",\"راسبة\")))","v":""},{"$f":"IF($C458=\"\",\"\",IF(BS458=0,\"ومنقولة للصف الثالث\",IF(BS458>0,\"فى  :  \"&CONCATENATE(BX458,BY458,BZ458,CA458,CB458,CC458,CD458,CE458,CF458,CG458,CH458,CI458,CJ458,CK458,CL458),CONCATENATE(BX458,BY458,BZ458,CA458,CB458,CC458,CD458,CE458,CF458,CG458,CH458,CI458,CJ458,CK458,CL458))))","v":""},{"$f":"IF($C458=\"\",\"\",COUNTA($BX458:$CL458)-COUNTBLANK($BX458:$CL458))","v":""},null,null,null,null,{"$f":"IF($C458=\"\",\"\",IF(OR(I458<$I$9,I458=\"غ\",J458<$J$9),$BX$5&\" - \",\"\"))","v":""},{"$f":"IF($C458=\"\",\"\",IF(OR(M458<$M$9,M458=\"غ\",N458<$N$9),$BY$5&\" - \",\"\"))","v":""},{"$f":"IF($C458=\"\",\"\",IF(OR(Q458<$Q$9,Q458=\"غ\",R458<$R$9),BZ$5&\" - \",\"\"))","v":""},{"$f":"IF($C458=\"\",\"\",IF(OR(U458<$U$9,U458=\"غ\",V458<$V$9),CA$5&\" - \",\"\"))","v":""},{"$f":"IF($C458=\"\",\"\",IF(OR(Y458<$Y$9,Y458=\"غ\",Z458<$Z$9),CB$5&\" - \",\"\"))","v":""},{"$f":"IF($C458=\"\",\"\",IF(OR(AC458<$AC$9,AC458=\"غ\",AD458<$AD$9),CC$5&\" - \",\"\"))","v":""},{"$f":"IF($C458=\"\",\"\",IF(OR(AG458<$AG$9,AG458=\"غ\",AH458<$AH$9),CD$5&\" - \",\"\"))","v":""},{"$f":"IF($C458=\"\",\"\",IF(OR(AK458<$AK$9,AK458=\"غ\",AL458<$AL$9),CE$5&\" - \",\"\"))","v":""},{"$f":"IF($C458=\"\",\"\",IF(OR(AO458<$AO$9,AO458=\"غ\",AP458<$AP$9),CF$5&\" - \",\"\"))","v":""},{"$f":"IF($C458=\"\",\"\",IF(OR(AS458<$AS$9,AS458=\"غ\",AT458<$AT$9),CG$5&\" - \",\"\"))","v":""},{"$f":"IF($C458=\"\",\"\",IF(OR(AW458<$AW$9,AW458=\"غ\",AX458<$AX$9),CH$5&\" - \",\"\"))","v":""},{"$f":"IF($C458=\"\",\"\",IF(OR(BE458<$BE$9,BE458=\"غ\",BF458<$BF$9,BF458=\"غ\",BG458<$BG$9),CI$5&\" - \",\"\"))","v":""},{"$f":"IF($C458=\"\",\"\",IF(OR(BK458<$BK$9,BK458=\"غ\",BL458<$BL$9),CJ$5&\" - \",\"\"))","v":""},{"$f":"IF($C458=\"\",\"\",IF(OR(BO458<$BO$9,BO458=\"غ\",BP458<$BP$9),CK$5&\" - \",\"\"))","v":""},{"$f":"IF($C458=\"\",\"\",IF(BH458<$BH$9,CL$5,\"\"))","v":""},null,{"$f":"IF($C458=\"\",\"\",SUM(H458,L458,P458,T458,X458,AB458,AF458,AJ458,AN458,AR458,AV458,BA458,BB458))","v":""}]
[null,null,null,null,null,null,null,null,null,{"$f":"SUM(G459:I459)","v":0},null,null,null,0,null,null,null,0,null,null,null,0,null,null,null,0,null,null,null,0,null,null,null,0,null,null,null,0,null,null,null,0,null,null,null,0,null,null,null,0,null,null,null,null,null,null,"","","","",null,null,null,0,null,null,null,0,"","","",null,null,null,null,"","","","","","","","","","","","","","","",null,""]
[null,null,null,null,null,null,null,null,null,0,null,null,null,0,null,null,null,0,null,null,null,0,null,null,null,0,null,null,null,0,null,null,null,0,null,null,null,0,null,null,null,0,null,null,null,0,null,null,null,0,null,null,null,null,null,null,"","","","",null,null,null,0,null,null,null,0,"","","",null,null,null,null,"","","","","","","","","","","","","","","",null,""]
[null,null,null,null,null,null,null,null,null,0,null,null,null,0,null,null,null,0,null,null,null,0,null,null,null,0,null,null,null,0,null,null,null,0,null,null,null,0,null,null,null,0,null,null,null,0,null,null,null,0,null,null,null,null,null,null,"","","","",null,null,null,0,null,null,null,0,"","","",null,null,null,null,"","","","","","","","","","","","","","","",null,""]
[null,null,null,null,null,null,null,null,null,0,null,null,null,0,null,null,null,0,null,null,null,0,null,null,null,0,null,null,null,0,null,null,null,0,null,null,null,0,null,null,null,0,null,null,null,0,null,null,null,0,null,null,null,null,null,null,"","","","",null,null,null,0,null,null,null,0,"","","",null,null,null,null,"","","","","","","","","","","","","","","",null,""]
[null,null,null,null,null,null,null,null,null,0,null,null,null,0,null,null,null,0,null,null,null,0,null,null,null,0,null,null,null,0,null,null,null,0,null,null,null,0,null,null,null,0,null,null,null,0,null,null,null,0,null,null,null,null,null,null,"","","","",null,null,null,0,null,null,null,0,"","","",null,null,null,null,"","","","","","","","","","","","","","","",null,""]
[null,null,null,null,null,null,null,null,null,0,null,null,null,0,null,null,null,0,null,null,null,0,null,null,null,0,null,null,null,0,null,null,null,0,null,null,null,0,null,null,null,0,null,null,null,0,null,null,null,0,null,null,null,null,null,null,"","","","",null,null,null,0,null,null,null,0,"","","",null,null,null,null,"","","","","","","","","","","","","","","",null,""]
[null,null,null,null,null,null,null,null,null,0,null,null,null,0,null,null,null,0,null,null,null,0,null,null,null,0,null,null,null,0,null,null,null,0,null,null,null,0,null,null,null,0,null,null,null,0,null,null,null,0,null,null,null,null,null,null,"","","","",null,null,null,0,null,null,null,0,"","","",null,null,null,null,"","","","","","","","","","","","","","","",null,""]
[null,null,null,null,null,null,null,null,null,0,null,null,null,0,null,null,null,0,null,null,null,0,null,null,null,0,null,null,null,0,null,null,null,0,null,null,null,0,null,null,null,0,null,null,null,0,null,null,null,0,null,null,null,null,null,null,"","","","",null,null,null,0,null,null,null,0,"","","",null,null,null,null,"","","","","","","","","","","","","","","",null,""]
[null,null,null,null,null,null,null,null,null,0,null,null,null,0,null,null,null,0,null,null,null,0,null,null,null,0,null,null,null,0,null,null,null,0,null,null,null,0,null,null,null,0,null,null,null,0,null,null,null,0,null,null,null,null,null,null,"","","","",null,null,null,0,null,null,null,0,"","","",null,null,null,null,"","","","","","","","","","","","","","","",null,""]
[null,null,null,null,null,null,null,null,null,0,null,null,null,0,null,null,null,0,null,null,null,0,null,null,null,0,null,null,null,0,null,null,null,0,null,null,null,0,null,null,null,0,null,null,null,0,null,null,null,0,null,null,null,null,null,null,"","","","",null,null,null,0,null,null,null,0,"","","",null,null,null,null,"","","","","","","","","","","","","","","",null,""]
[null,null,null,null,null,null,null,null,null,0,null,null,null,0,null,null,null,0,null,null,null,0,null,null,null,0,null,null,null,0,null,null,null,0,null,null,null,0,null,null,null,0,null,null,null,0,null,null,null,0,null,null,null,null,null,null,"","","","",null,null,null,0,null,null,null,0,"","","",null,null,null,null,"","","","","","","","","","","","","","","",null,""]
[null,null,null,null,null,null,null,null,null,0,null,null,null,0,null,null,null,0,null,null,null,0,null,null,null,0,null,null,null,0,null,null,null,0,null,null,null,0,null,null,null,0,null,null,null,0,null,null,null,0,null,null,null,null,null,null,"","","","",null,null,null,0,null,null,null,0,"","","",null,null,null,null,"","","","","","","","","","","","","","","",null,""]
[null,null,null,null,null,null,null,null,null,0,null,null,null,0,null,null,null,0,null,null,null,0,null,null,null,0,null,null,null,0,null,null,null,0,null,null,null,0,null,null,null,0,null,null,null,0,null,null,null,0,null,null,null,null,null,null,"","","","",null,null,null,0,null,null,null,0,"","","",null,null,null,null,"","","","","","","","","","","","","","","",null,""]
[null,null,null,null,null,null,null,null,null,0,null,null,null,0,null,null,null,0,null,null,null,0,null,null,null,0,null,null,null,0,null,null,null,0,null,null,null,0,null,null,null,0,null,null,null,0,null,null,null,0,null,null,null,null,null,null,"","","","",null,null,null,0,null,null,null,0,"","","",null,null,null,null,"","","","","","","","","","","","","","","",null,""]
[null,null,null,null,null,null,null,null,null,0,null,null,null,0,null,null,null,0,null,null,null,0,null,null,null,0,null,null,null,0,null,null,null,0,null,null,null,0,null,null,null,0,null,null,null,0,null,null,null,0,null,null,null,null,null,null,"","","","",null,null,null,0,null,null,null,0,"","","",null,null,null,null,"","","","","","","","","","","","","","","",null,""]
[null,null,null,null,null,null,null,null,null,0,null,null,null,0,null,null,null,0,null,null,null,0,null,null,null,0,null,null,null,0,null,null,null,0,null,null,null,0,null,null,null,0,null,null,null,0,null,null,null,0,null,null,null,null,null,null,"","","","",null,null,null,0,null,null,null,0,"","","",null,null,null,null,"","","","","","","","","","","","","","","",null,""]
[null,null,null,null,null,null,null,null,null,0,null,null,null,0,null,null,null,0,null,null,null,0,null,null,null,0,null,null,null,0,null,null,null,0,null,null,null,0,null,null,null,0,null,null,null,0,null,null,null,0,null,null,null,null,null,null,"","","","",null,null,null,0,null,null,null,0,"","","",null,null,null,null,"","","","","","","","","","","","","","","",null,""]
[null,null,null,null,null,null,null,null,null,0,null,null,null,0,null,null,null,0,null,null,null,0,null,null,null,0,null,null,null,0,null,null,null,0,null,null,null,0,null,null,null,0,null,null,null,0,null,null,null,0,null,null,null,null,null,null,"","","","",null,null,null,0,null,null,null,0,"","","",null,null,null,null,"","","","","","","","","","","","","","","",null,""]
[null,null,null,null,null,null,null,null,null,0,null,null,null,0,null,null,null,0,null,null,null,0,null,null,null,0,null,null,null,0,null,null,null,0,null,null,null,0,null,null,null,0,null,null,null,0,null,null,null,0,null,null,null,null,null,null,"","","","",null,null,null,0,null,null,null,0,"","","",null,null,null,null,"","","","","","","","","","","","","","","",null,""]
[null,null,null,null,null,null,null,null,null,0,null,null,null,0,null,null,null,0,null,null,null,0,null,null,null,0,null,null,null,0,null,null,null,0,null,null,null,0,null,null,null,0,null,null,null,0,null,null,null,0,null,null,null,null,null,null,"","","","",null,null,null,0,null,null,null,0,"","","",null,null,null,null,"","","","","","","","","","","","","","","",null,""]
[null,null,null,null,null,null,null,null,null,0,null,null,null,0,null,null,null,0,null,null,null,0,null,null,null,0,null,null,null,0,null,null,null,0,null,null,null,0,null,null,null,0,null,null,null,0,null,null,null,0,null,null,null,null,null,null,"","","","",null,null,null,0,null,null,null,0,"","","",null,null,null,null,"","","","","","","","","","","","","","","",null,""]
[null,null,null,null,null,null,null,null,null,0,null,null,null,0,null,null,null,0,null,null,null,0,null,null,null,0,null,null,null,0,null,null,null,0,null,null,null,0,null,null,null,0,null,null,null,0,null,null,null,0,null,null,null,null,null,null,"","","","",null,null,null,0,null,null,null,0,"","","",null,null,null,null,"","","","","","","","","","","","","","","",null,""]
[null,null,null,null,null,null,null,null,null,0,null,null,null,0,null,null,null,0,null,null,null,0,null,null,null,0,null,null,null,0,null,null,null,0,null,null,null,0,null,null,null,0,null,null,null,0,null,null,null,0,null,null,null,null,null,null,"","","","",null,null,null,0,null,null,null,0,"","","",null,null,null,null,"","","","","","","","","","","","","","","",null,""]
[null,null,null,null,null,null,null,null,null,0,null,null,null,0,null,null,null,0,null,null,null,0,null,null,null,0,null,null,null,0,null,null,null,0,null,null,null,0,null,null,null,0,null,null,null,0,null,null,null,0,null,null,null,null,null,null,"","","","",null,null,null,0,null,null,null,0,"","","",null,null,null,null,"","","","","","","","","","","","","","","",null,""]
[null,null,null,null,null,null,null,null,null,0,null,null,null,0,null,null,null,0,null,null,null,0,null,null,null,0,null,null,null,0,null,null,null,0,null,null,null,0,null,null,null,0,null,null,null,0,null,null,null,0,null,null,null,null,null,null,"","","","",null,null,null,0,null,null,null,0,"","","",null,null,null,null,"","","","","","","","","","","","","","","",null,""]
[null,null,null,null,null,null,null,null,null,0,null,null,null,0,null,null,null,0,null,null,null,0,null,null,null,0,null,null,null,0,null,null,null,0,null,null,null,0,null,null,null,0,null,null,null,0,null,null,null,0,null,null,null,null,null,null,"","","","",null,null,null,0,null,null,null,0,"","","",null,null,null,null,"","","","","","","","","","","","","","","",null,""]
[null,null,null,null,null,null,null,null,null,0,null,null,null,0,null,null,null,0,null,null,null,0,null,null,null,0,null,null,null,0,null,null,null,0,null,null,null,0,null,null,null,0,null,null,null,0,null,null,null,0,null,null,null,null,null,null,"","","","",null,null,null,0,null,null,null,0,"","","",null,null,null,null,"","","","","","","","","","","","","","","",null,""]
[null,null,null,null,null,null,null,null,null,0,null,null,null,0,null,null,null,0,null,null,null,0,null,null,null,0,null,null,null,0,null,null,null,0,null,null,null,0,null,null,null,0,null,null,null,0,null,null,null,0,null,null,null,null,null,null,"","","","",null,null,null,0,null,null,null,0,"","","",null,null,null,null,"","","","","","","","","","","","","","","",null,""]
[null,null,null,null,null,null,null,null,null,0,null,null,null,0,null,null,null,0,null,null,null,0,null,null,null,0,null,null,null,0,null,null,null,0,null,null,null,0,null,null,null,0,null,null,null,0,null,null,null,0,null,null,null,null,null,null,"","","","",null,null,null,0,null,null,null,0,"","","",null,null,null,null,"","","","","","","","","","","","","","","",null,""]
[null,null,null,null,null,null,null,null,null,0,null,null,null,0,null,null,null,0,null,null,null,0,null,null,null,0,null,null,null,0,null,null,null,0,null,null,null,0,null,null,null,0,null,null,null,0,null,null,null,0,null,null,null,null,null,null,"","","","",null,null,null,0,null,null,null,0,"","","",null,null,null,null,"","","","","","","","","","","","","","","",null,""]
[null,null,null,null,null,null,null,null,null,0,null,null,null,0,null,null,null,0,null,null,null,0,null,null,null,0,null,null,null,0,null,null,null,0,null,null,null,0,null,null,null,0,null,null,null,0,null,null,null,0,null,null,null,null,null,null,"","","","",null,null,null,0,null,null,null,0,"","","",null,null,null,null,"","","","","","","","","","","","","","","",null,""]
[null,null,null,null,null,null,null,null,null,0,null,null,null,0,null,null,null,0,null,null,null,0,null,null,null,0,null,null,null,0,null,null,null,0,null,null,null,0,null,null,null,0,null,null,null,0,null,null,null,0,null,null,null,null,null,null,"","","","",null,null,null,0,null,null,null,0,"","","",null,null,null,null,"","","","","","","","","","","","","","","",null,""]
[null,null,null,null,null,null,null,null,null,0,null,null,null,0,null,null,null,0,null,null,null,0,null,null,null,0,null,null,null,0,null,null,null,0,null,null,null,0,null,null,null,0,null,null,null,0,null,null,null,0,null,null,null,null,null,null,"","","","",null,null,null,0,null,null,null,0,"","","",null,null,null,null,"","","","","","","","","","","","","","","",null,""]
[null,null,null,null,null,null,null,null,null,0,null,null,null,0,null,null,null,0,null,null,null,0,null,null,null,0,null,null,null,0,null,null,null,0,null,null,null,0,null,null,null,0,null,null,null,0,null,null,null,0,null,null,null,null,null,null,"","","","",null,null,null,0,null,null,null,0,"","","",null,null,null,null,"","","","","","","","","","","","","","","",null,""]
[null,null,null,null,null,null,null,null,null,0,null,null,null,0,null,null,null,0,null,null,null,0,null,null,null,0,null,null,null,0,null,null,null,0,null,null,null,0,null,null,null,0,null,null,null,0,null,null,null,0,null,null,null,null,null,null,"","","","",null,null,null,0,null,null,null,0,"","","",null,null,null,null,"","","","","","","","","","","","","","","",null,""]
[null,null,null,null,null,null,null,null,null,0,null,null,null,0,null,null,null,0,null,null,null,0,null,null,null,0,null,null,null,0,null,null,null,0,null,null,null,0,null,null,null,0,null,null,null,0,null,null,null,0,null,null,null,null,null,null,"","","","",null,null,null,0,null,null,null,0,"","","",null,null,null,null,"","","","","","","","","","","","","","","",null,""]
[null,null,null,null,null,null,null,null,null,0,null,null,null,0,null,null,null,0,null,null,null,0,null,null,null,0,null,null,null,0,null,null,null,0,null,null,null,0,null,null,null,0,null,null,null,0,null,null,null,0,null,null,null,null,null,null,"","","","",null,null,null,0,null,null,null,0,"","","",null,null,null,null,"","","","","","","","","","","","","","","",null,""]
[null,null,null,null,null,null,null,null,null,0,null,null,null,0,null,null,null,0,null,null,null,0,null,null,null,0,null,null,null,0,null,null,null,0,null,null,null,0,null,null,null,0,null,null,null,0,null,null,null,0,null,null,null,null,null,null,"","","","",null,null,null,0,null,null,null,0,"","","",null,null,null,null,"","","","","","","","","","","","","","","",null,""]
[null,null,null,null,null,null,null,null,null,0,null,null,null,0,null,null,null,0,null,null,null,0,null,null,null,0,null,null,null,0,null,null,null,0,null,null,null,0,null,null,null,0,null,null,null,0,null,null,null,0,null,null,null,null,null,null,"","","","",null,null,null,0,null,null,null,0,"","","",null,null,null,null,"","","","","","","","","","","","","","","",null,""]
[null,null,null,null,null,null,null,null,null,0,null,null,null,0,null,null,null,0,null,null,null,0,null,null,null,0,null,null,null,0,null,null,null,0,null,null,null,0,null,null,null,0,null,null,null,0,null,null,null,0,null,null,null,null,null,null,"","","","",null,null,null,0,null,null,null,0,"","","",null,null,null,null,"","","","","","","","","","","","","","","",null,""]
[null,null,null,null,null,null,null,null,null,0,null,null,null,0,null,null,null,0,null,null,null,0,null,null,null,0,null,null,null,0,null,null,null,0,null,null,null,0,null,null,null,0,null,null,null,0,null,null,null,0,null,null,null,null,null,null,"","","","",null,null,null,0,null,null,null,0,"","","",null,null,null,null,"","","","","","","","","","","","","","","",null,""]
[null,null,null,null,null,null,null,null,null,0,null,null,null,0,null,null,null,0,null,null,null,0,null,null,null,0,null,null,null,0,null,null,null,0,null,null,null,0,null,null,null,0,null,null,null,0,null,null,null,0,null,null,null,null,null,null,"","","","",null,null,null,0,null,null,null,0,"","","",null,null,null,null,"","","","","","","","","","","","","","","",null,""]
[null,null,null,null,null,null,null,null,null,0,null,null,null,0,null,null,null,0,null,null,null,0,null,null,null,0,null,null,null,0,null,null,null,0,null,null,null,0,null,null,null,0,null,null,null,0,null,null,null,0,null,null,null,null,null,null,"","","",{"$f":"IF($C501=\"\",\"\",SUM(J501,N501,R501,V501,Z501,AD501,AH501,AL501,AP501,AT501,AX501,BG501))","v":""},null,null,null,0,null,null,null,0,"","","",null,null,null,null,"","","","","","","","","","","","","","","",null,""]
[null,null,null,null,null,null,null,null,null,0,null,null,null,0,null,null,null,0,null,null,null,0,null,null,null,0,null,null,null,0,null,null,null,0,null,null,null,0,null,null,null,0,null,null,null,0,null,null,null,0,null,null,null,null,null,null,"","","","",null,null,null,0,null,null,null,0,"","","",null,null,null,null,"","","","","","","","","","","","","","","",null,""]
[null,null,null,null,null,null,null,null,null,0,null,null,null,0,null,null,null,0,null,null,null,0,null,null,null,0,null,null,null,0,null,null,null,0,null,null,null,0,null,null,null,0,null,null,null,0,null,null,null,0,null,null,null,null,null,null,"","","","",null,null,null,0,null,null,null,0,"","","",null,null,null,null,"","","","","","","","","","","","","","","",null,""]
[null,null,null,null,null,null,null,null,null,0,null,null,null,0,null,null,null,0,null,null,null,0,null,null,null,0,null,null,null,0,null,null,null,0,null,null,null,0,null,null,null,0,null,null,null,0,null,null,null,0,null,null,null,null,null,null,"","","","",null,null,null,0,null,null,null,0,"","","",null,null,null,null,"","","","","","","","","","","","","","","",null,""]
[null,null,null,null,null,null,null,null,null,0,null,null,null,0,null,null,null,0,null,null,null,0,null,null,null,0,null,null,null,0,null,null,null,0,null,null,null,0,null,null,null,0,null,null,null,0,null,null,null,0,null,null,null,null,null,null,"","","","",null,null,null,0,null,null,null,0,"","","",null,null,null,null,"","","","","","","","","","","","","","","",null,""]
[null,null,null,null,null,null,null,null,null,0,null,null,null,0,null,null,null,0,null,null,null,0,null,null,null,0,null,null,null,0,null,null,null,0,null,null,null,0,null,null,null,0,null,null,null,0,null,null,null,0,null,null,null,null,null,null,"","","","",null,null,null,0,null,null,null,0,"","","",null,null,null,null,"","","","","","","","","","","","","","","",null,""]
[null,null,null,null,null,null,null,null,null,0,null,null,null,0,null,null,null,0,null,null,null,0,null,null,null,0,null,null,null,0,null,null,null,0,null,null,null,0,null,null,null,0,null,null,null,0,null,null,null,0,null,null,null,null,null,null,"","","","",null,null,null,0,null,null,null,0,"","","",null,null,null,null,"","","","","","","","","","","","","","","",null,""]
[null,null,null,null,null,null,null,null,null,0,null,null,null,0,null,null,null,0,null,null,null,0,null,null,null,0,null,null,null,0,null,null,null,0,null,null,null,0,null,null,null,0,null,null,null,0,null,null,null,0,null,null,null,null,null,null,"","","","",null,null,null,0,null,null,null,0,"","","",null,null,null,null,"","","","","","","","","","","","","","","",null,""]
[null,null,null,null,null,null,null,null,null,0,null,null,null,0,null,null,null,0,null,null,null,0,null,null,null,0,null,null,null,0,null,null,null,0,null,null,null,0,null,null,null,0,null,null,null,0,null,null,null,0,null,null,null,null,null,null,"","","","",null,null,null,0,null,null,null,0,"","","",null,null,null,null,"","","","","","","","","","","","","","","",null,""]
[null,null,null,null,null,null,null,null,null,0,null,null,null,0,null,null,null,0,null,null,null,0,null,null,null,0,null,null,null,0,null,null,null,0,null,null,null,0,null,null,null,0,null,null,null,0,null,null,null,0,null,null,null,null,null,null,"","","","",null,null,null,0,null,null,null,0,"","","",null,null,null,null,"","","","","","","","","","","","","","","",null,""]
[null,null,null,null,null,null,null,null,null,0,null,null,null,0,null,null,null,0,null,null,null,0,null,null,null,0,null,null,null,0,null,null,null,0,null,null,null,0,null,null,null,0,null,null,null,0,null,null,null,0,null,null,null,null,null,null,"","","","",null,null,null,0,null,null,null,0,"","","",null,null,null,null,"","","","","","","","","","","","","","","",null,""]
[null,null,null,null,null,null,null,null,null,0,null,null,null,0,null,null,null,0,null,null,null,0,null,null,null,0,null,null,null,0,null,null,null,0,null,null,null,0,null,null,null,0,null,null,null,0,null,null,null,0,null,null,null,null,null,null,"","","","",null,null,null,0,null,null,null,0,"","","",null,null,null,null,"","","","","","","","","","","","","","","",null,""]
[null,null,null,null,null,null,null,null,null,0,null,null,null,0,null,null,null,0,null,null,null,0,null,null,null,0,null,null,null,0,null,null,null,0,null,null,null,0,null,null,null,0,null,null,null,0,null,null,null,0,null,null,null,null,null,null,"","","","",null,null,null,0,null,null,null,0,"","","",null,null,null,null,"","","","","","","","","","","","","","","",null,""]
[null,null,null,null,null,null,null,null,null,0,null,null,null,0,null,null,null,0,null,null,null,0,null,null,null,0,null,null,null,0,null,null,null,0,null,null,null,0,null,null,null,0,null,null,null,0,null,null,null,0,null,null,null,null,null,null,"","","","",null,null,null,0,null,null,null,0,"","","",null,null,null,null,"","","","","","","","","","","","","","","",null,""]
[null,null,null,null,null,null,null,null,null,0,null,null,null,0,null,null,null,0,null,null,null,0,null,null,null,0,null,null,null,0,null,null,null,0,null,null,null,0,null,null,null,0,null,null,null,0,null,null,null,0,null,null,null,null,null,null,"","","","",null,null,null,0,null,null,null,0,"","","",null,null,null,null,"","","","","","","","","","","","","","","",null,""]
[null,null,null,null,null,null,null,null,null,0,null,null,null,0,null,null,null,0,null,null,null,0,null,null,null,0,null,null,null,0,null,null,null,0,null,null,null,0,null,null,null,0,null,null,null,0,null,null,null,0,null,null,null,null,null,null,"","","","",null,null,null,0,null,null,null,0,"","","",null,null,null,null,"","","","","","","","","","","","","","","",null,""]
[null,null,null,null,null,null,null,null,null,0,null,null,null,0,null,null,null,0,null,null,null,0,null,null,null,0,null,null,null,0,null,null,null,0,null,null,null,0,null,null,null,0,null,null,null,0,null,null,null,0,null,null,null,null,null,null,{"$f":"IF($C517=\"\",\"\",SUM(AY517,BA517,BC517))","v":""},"","","",null,null,null,0,null,null,null,0,"","","",null,null,null,null,"","","","","","","","","","","","","","","",null,""]
[null,null,null,null,null,null,null,null,null,0,null,null,null,0,null,null,null,0,null,null,null,0,null,null,null,0,null,null,null,0,null,null,null,0,null,null,null,0,null,null,null,0,null,null,null,0,null,null,null,0,null,null,null,null,null,null,"","","","",null,null,null,0,null,null,null,0,"","","",null,null,null,null,"","","","","","","","","","","","","","","",null,""]
[null,null,null,null,null,null,null,null,null,0,null,null,null,0,null,null,null,0,null,null,null,0,null,null,null,0,null,null,null,0,null,null,null,0,null,null,null,0,null,null,null,0,null,null,null,0,null,null,null,0,null,null,null,null,null,null,"","","","",null,null,null,0,null,null,null,0,"","","",null,null,null,null,"","","","","","","","","","","","","","","",null,""]
[null,null,null,null,null,null,null,null,null,0,null,null,null,0,null,null,null,0,null,null,null,0,null,null,null,0,null,null,null,0,null,null,null,0,null,null,null,0,null,null,null,0,null,null,null,0,null,null,null,0,null,null,null,null,null,null,"","","","",null,null,null,0,null,null,null,0,"","","",null,null,null,null,"","","","","","","","","","","","","","","",null,""]
[null,null,null,null,null,null,null,null,null,0,null,null,null,0,null,null,null,0,null,null,null,0,null,null,null,0,null,null,null,0,null,null,null,0,null,null,null,0,null,null,null,0,null,null,null,0,null,null,null,0,null,null,null,null,null,null,"","","","",null,null,null,0,null,null,null,0,"","","",null,null,null,null,"","","","","","","","","","","","","","","",null,""]
[null,null,null,null,null,null,null,null,null,0,null,null,null,{"$f":"SUM(K522:M522)","v":0},null,null,null,{"$f":"SUM(O522:Q522)","v":0},null,null,null,{"$f":"SUM(S522:U522)","v":0},null,null,null,{"$f":"SUM(W522:Y522)","v":0},null,null,null,{"$f":"SUM(AA522:AC522)","v":0},null,null,null,{"$f":"SUM(AE522:AG522)","v":0},null,null,null,{"$f":"SUM(AI522:AK522)","v":0},null,null,null,{"$f":"SUM(AM522:AO522)","v":0},null,null,null,{"$f":"SUM(AQ522:AS522)","v":0},null,null,null,{"$f":"SUM(AU522:AW522)","v":0},null,null,null,null,null,null,"","",{"$f":"IF($C522=\"\",\"\",SUM(BE522,BF522))","v":""},"",null,null,null,{"$f":"SUM(BI522:BK522)","v":0},null,null,null,{"$f":"SUM(BM522:BO522)","v":0},{"$f":"IF($C522=\"\",\"\",IF(BS522=0,\"ناجحة\",IF(BS522<=2,\"دورثان\",\"راسبة\")))","v":""},{"$f":"IF($C522=\"\",\"\",IF(BS522=0,\"ومنقولة للصف الثالث\",IF(BS522>0,\"فى  :  \"&CONCATENATE(BX522,BY522,BZ522,CA522,CB522,CC522,CD522,CE522,CF522,CG522,CH522,CI522,CJ522,CK522,CL522),CONCATENATE(BX522,BY522,BZ522,CA522,CB522,CC522,CD522,CE522,CF522,CG522,CH522,CI522,CJ522,CK522,CL522))))","v":""},{"$f":"IF($C522=\"\",\"\",COUNTA($BX522:$CL522)-COUNTBLANK($BX522:$CL522))","v":""},null,null,null,null,{"$f":"IF($C522=\"\",\"\",IF(OR(I522<$I$9,I522=\"غ\",J522<$J$9),$BX$5&\" - \",\"\"))","v":""},{"$f":"IF($C522=\"\",\"\",IF(OR(M522<$M$9,M522=\"غ\",N522<$N$9),$BY$5&\" - \",\"\"))","v":""},{"$f":"IF($C522=\"\",\"\",IF(OR(Q522<$Q$9,Q522=\"غ\",R522<$R$9),BZ$5&\" - \",\"\"))","v":""},{"$f":"IF($C522=\"\",\"\",IF(OR(U522<$U$9,U522=\"غ\",V522<$V$9),CA$5&\" - \",\"\"))","v":""},{"$f":"IF($C522=\"\",\"\",IF(OR(Y522<$Y$9,Y522=\"غ\",Z522<$Z$9),CB$5&\" - \",\"\"))","v":""},{"$f":"IF($C522=\"\",\"\",IF(OR(AC522<$AC$9,AC522=\"غ\",AD522<$AD$9),CC$5&\" - \",\"\"))","v":""},{"$f":"IF($C522=\"\",\"\",IF(OR(AG522<$AG$9,AG522=\"غ\",AH522<$AH$9),CD$5&\" - \",\"\"))","v":""},{"$f":"IF($C522=\"\",\"\",IF(OR(AK522<$AK$9,AK522=\"غ\",AL522<$AL$9),CE$5&\" - \",\"\"))","v":""},{"$f":"IF($C522=\"\",\"\",IF(OR(AO522<$AO$9,AO522=\"غ\",AP522<$AP$9),CF$5&\" - \",\"\"))","v":""},{"$f":"IF($C522=\"\",\"\",IF(OR(AS522<$AS$9,AS522=\"غ\",AT522<$AT$9),CG$5&\" - \",\"\"))","v":""},{"$f":"IF($C522=\"\",\"\",IF(OR(AW522<$AW$9,AW522=\"غ\",AX522<$AX$9),CH$5&\" - \",\"\"))","v":""},{"$f":"IF($C522=\"\",\"\",IF(OR(BE522<$BE$9,BE522=\"غ\",BF522<$BF$9,BF522=\"غ\",BG522<$BG$9),CI$5&\" - \",\"\"))","v":""},{"$f":"IF($C522=\"\",\"\",IF(OR(BK522<$BK$9,BK522=\"غ\",BL522<$BL$9),CJ$5&\" - \",\"\"))","v":""},{"$f":"IF($C522=\"\",\"\",IF(OR(BO522<$BO$9,BO522=\"غ\",BP522<$BP$9),CK$5&\" - \",\"\"))","v":""},{"$f":"IF($C522=\"\",\"\",IF(BH522<$BH$9,CL$5,\"\"))","v":""},null,{"$f":"IF($C522=\"\",\"\",SUM(H522,L522,P522,T522,X522,AB522,AF522,AJ522,AN522,AR522,AV522,BA522,BB522))","v":""}]
[null,null,null,null,null,null,null,null,null,{"$f":"SUM(G523:I523)","v":0},null,null,null,0,null,null,null,0,null,null,null,0,null,null,null,0,null,null,null,0,null,null,null,0,null,null,null,0,null,null,null,0,null,null,null,0,null,null,null,0,null,null,null,null,null,null,"","","","",null,null,null,0,null,null,null,0,"","","",null,null,null,null,"","","","","","","","","","","","","","","",null,""]
[null,null,null,null,null,null,null,null,null,0,null,null,null,0,null,null,null,0,null,null,null,0,null,null,null,0,null,null,null,0,null,null,null,0,null,null,null,0,null,null,null,0,null,null,null,0,null,null,null,0,null,null,null,null,null,null,"","","","",null,null,null,0,null,null,null,0,"","","",null,null,null,null,"","","","","","","","","","","","","","","",null,""]
[null,null,null,null,null,null,null,null,null,0,null,null,null,0,null,null,null,0,null,null,null,0,null,null,null,0,null,null,null,0,null,null,null,0,null,null,null,0,null,null,null,0,null,null,null,0,null,null,null,0,null,null,null,null,null,null,"","","","",null,null,null,0,null,null,null,0,"","","",null,null,null,null,"","","","","","","","","","","","","","","",null,""]
[null,null,null,null,null,null,null,null,null,0,null,null,null,0,null,null,null,0,null,null,null,0,null,null,null,0,null,null,null,0,null,null,null,0,null,null,null,0,null,null,null,0,null,null,null,0,null,null,null,0,null,null,null,null,null,null,"","","","",null,null,null,0,null,null,null,0,"","","",null,null,null,null,"","","","","","","","","","","","","","","",null,""]
[null,null,null,null,null,null,null,null,null,0,null,null,null,0,null,null,null,0,null,null,null,0,null,null,null,0,null,null,null,0,null,null,null,0,null,null,null,0,null,null,null,0,null,null,null,0,null,null,null,0,null,null,null,null,null,null,"","","","",null,null,null,0,null,null,null,0,"","","",null,null,null,null,"","","","","","","","","","","","","","","",null,""]
[null,null,null,null,null,null,null,null,null,0,null,null,null,0,null,null,null,0,null,null,null,0,null,null,null,0,null,null,null,0,null,null,null,0,null,null,null,0,null,null,null,0,null,null,null,0,null,null,null,0,null,null,null,null,null,null,"","","","",null,null,null,0,null,null,null,0,"","","",null,null,null,null,"","","","","","","","","","","","","","","",null,""]
[null,null,null,null,null,null,null,null,null,0,null,null,null,0,null,null,null,0,null,null,null,0,null,null,null,0,null,null,null,0,null,null,null,0,null,null,null,0,null,null,null,0,null,null,null,0,null,null,null,0,null,null,null,null,null,null,"","","","",null,null,null,0,null,null,null,0,"","","",null,null,null,null,"","","","","","","","","","","","","","","",null,""]
[null,null,null,null,null,null,null,null,null,0,null,null,null,0,null,null,null,0,null,null,null,0,null,null,null,0,null,null,null,0,null,null,null,0,null,null,null,0,null,null,null,0,null,null,null,0,null,null,null,0,null,null,null,null,null,null,"","","","",null,null,null,0,null,null,null,0,"","","",null,null,null,null,"","","","","","","","","","","","","","","",null,""]
[null,null,null,null,null,null,null,null,null,0,null,null,null,0,null,null,null,0,null,null,null,0,null,null,null,0,null,null,null,0,null,null,null,0,null,null,null,0,null,null,null,0,null,null,null,0,null,null,null,0,null,null,null,null,null,null,"","","","",null,null,null,0,null,null,null,0,"","","",null,null,null,null,"","","","","","","","","","","","","","","",null,""]
[null,null,null,null,null,null,null,null,null,0,null,null,null,0,null,null,null,0,null,null,null,0,null,null,null,0,null,null,null,0,null,null,null,0,null,null,null,0,null,null,null,0,null,null,null,0,null,null,null,0,null,null,null,null,null,null,"","","","",null,null,null,0,null,null,null,0,"","","",null,null,null,null,"","","","","","","","","","","","","","","",null,""]
[null,null,null,null,null,null,null,null,null,0,null,null,null,0,null,null,null,0,null,null,null,0,null,null,null,0,null,null,null,0,null,null,null,0,null,null,null,0,null,null,null,0,null,null,null,0,null,null,null,0,null,null,null,null,null,null,"","","","",null,null,null,0,null,null,null,0,"","","",null,null,null,null,"","","","","","","","","","","","","","","",null,""]
[null,null,null,null,null,null,null,null,null,0,null,null,null,0,null,null,null,0,null,null,null,0,null,null,null,0,null,null,null,0,null,null,null,0,null,null,null,0,null,null,null,0,null,null,null,0,null,null,null,0,null,null,null,null,null,null,"","","","",null,null,null,0,null,null,null,0,"","","",null,null,null,null,"","","","","","","","","","","","","","","",null,""]
[null,null,null,null,null,null,null,null,null,0,null,null,null,0,null,null,null,0,null,null,null,0,null,null,null,0,null,null,null,0,null,null,null,0,null,null,null,0,null,null,null,0,null,null,null,0,null,null,null,0,null,null,null,null,null,null,"","","","",null,null,null,0,null,null,null,0,"","","",null,null,null,null,"","","","","","","","","","","","","","","",null,""]
[null,null,null,null,null,null,null,null,null,0,null,null,null,0,null,null,null,0,null,null,null,0,null,null,null,0,null,null,null,0,null,null,null,0,null,null,null,0,null,null,null,0,null,null,null,0,null,null,null,0,null,null,null,null,null,null,"","","","",null,null,null,0,null,null,null,0,"","","",null,null,null,null,"","","","","","","","","","","","","","","",null,""]
[null,null,null,null,null,null,null,null,null,0,null,null,null,0,null,null,null,0,null,null,null,0,null,null,null,0,null,null,null,0,null,null,null,0,null,null,null,0,null,null,null,0,null,null,null,0,null,null,null,0,null,null,null,null,null,null,"","","","",null,null,null,0,null,null,null,0,"","","",null,null,null,null,"","","","","","","","","","","","","","","",null,""]
[null,null,null,null,null,null,null,null,null,0,null,null,null,0,null,null,null,0,null,null,null,0,null,null,null,0,null,null,null,0,null,null,null,0,null,null,null,0,null,null,null,0,null,null,null,0,null,null,null,0,null,null,null,null,null,null,"","","","",null,null,null,0,null,null,null,0,"","","",null,null,null,null,"","","","","","","","","","","","","","","",null,""]
[null,null,null,null,null,null,null,null,null,0,null,null,null,0,null,null,null,0,null,null,null,0,null,null,null,0,null,null,null,0,null,null,null,0,null,null,null,0,null,null,null,0,null,null,null,0,null,null,null,0,null,null,null,null,null,null,"","","","",null,null,null,0,null,null,null,0,"","","",null,null,null,null,"","","","","","","","","","","","","","","",null,""]
[null,null,null,null,null,null,null,null,null,0,null,null,null,0,null,null,null,0,null,null,null,0,null,null,null,0,null,null,null,0,null,null,null,0,null,null,null,0,null,null,null,0,null,null,null,0,null,null,null,0,null,null,null,null,null,null,"","","","",null,null,null,0,null,null,null,0,"","","",null,null,null,null,"","","","","","","","","","","","","","","",null,""]
[null,null,null,null,null,null,null,null,null,0,null,null,null,0,null,null,null,0,null,null,null,0,null,null,null,0,null,null,null,0,null,null,null,0,null,null,null,0,null,null,null,0,null,null,null,0,null,null,null,0,null,null,null,null,null,null,"","","","",null,null,null,0,null,null,null,0,"","","",null,null,null,null,"","","","","","","","","","","","","","","",null,""]
[null,null,null,null,null,null,null,null,null,0,null,null,null,0,null,null,null,0,null,null,null,0,null,null,null,0,null,null,null,0,null,null,null,0,null,null,null,0,null,null,null,0,null,null,null,0,null,null,null,0,null,null,null,null,null,null,"","","","",null,null,null,0,null,null,null,0,"","","",null,null,null,null,"","","","","","","","","","","","","","","",null,""]
[null,null,null,null,null,null,null,null,null,0,null,null,null,0,null,null,null,0,null,null,null,0,null,null,null,0,null,null,null,0,null,null,null,0,null,null,null,0,null,null,null,0,null,null,null,0,null,null,null,0,null,null,null,null,null,null,"","","","",null,null,null,0,null,null,null,0,"","","",null,null,null,null,"","","","","","","","","","","","","","","",null,""]
[null,null,null,null,null,null,null,null,null,0,null,null,null,0,null,null,null,0,null,null,null,0,null,null,null,0,null,null,null,0,null,null,null,0,null,null,null,0,null,null,null,0,null,null,null,0,null,null,null,0,null,null,null,null,null,null,"","","","",null,null,null,0,null,null,null,0,"","","",null,null,null,null,"","","","","","","","","","","","","","","",null,""]
[null,null,null,null,null,null,null,null,null,0,null,null,null,0,null,null,null,0,null,null,null,0,null,null,null,0,null,null,null,0,null,null,null,0,null,null,null,0,null,null,null,0,null,null,null,0,null,null,null,0,null,null,null,null,null,null,"","","","",null,null,null,0,null,null,null,0,"","","",null,null,null,null,"","","","","","","","","","","","","","","",null,""]
[null,null,null,null,null,null,null,null,null,0,null,null,null,0,null,null,null,0,null,null,null,0,null,null,null,0,null,null,null,0,null,null,null,0,null,null,null,0,null,null,null,0,null,null,null,0,null,null,null,0,null,null,null,null,null,null,"","","","",null,null,null,0,null,null,null,0,"","","",null,null,null,null,"","","","","","","","","","","","","","","",null,""]
[null,null,null,null,null,null,null,null,null,0,null,null,null,0,null,null,null,0,null,null,null,0,null,null,null,0,null,null,null,0,null,null,null,0,null,null,null,0,null,null,null,0,null,null,null,0,null,null,null,0,null,null,null,null,null,null,"","","","",null,null,null,0,null,null,null,0,"","","",null,null,null,null,"","","","","","","","","","","","","","","",null,""]
[null,null,null,null,null,null,null,null,null,0,null,null,null,0,null,null,null,0,null,null,null,0,null,null,null,0,null,null,null,0,null,null,null,0,null,null,null,0,null,null,null,0,null,null,null,0,null,null,null,0,null,null,null,null,null,null,"","","","",null,null,null,0,null,null,null,0,"","","",null,null,null,null,"","","","","","","","","","","","","","","",null,""]
[null,null,null,null,null,null,null,null,null,0,null,null,null,0,null,null,null,0,null,null,null,0,null,null,null,0,null,null,null,0,null,null,null,0,null,null,null,0,null,null,null,0,null,null,null,0,null,null,null,0,null,null,null,null,null,null,"","","","",null,null,null,0,null,null,null,0,"","","",null,null,null,null,"","","","","","","","","","","","","","","",null,""]
[null,null,null,null,null,null,null,null,null,0,null,null,null,0,null,null,null,0,null,null,null,0,null,null,null,0,null,null,null,0,null,null,null,0,null,null,null,0,null,null,null,0,null,null,null,0,null,null,null,0,null,null,null,null,null,null,"","","","",null,null,null,0,null,null,null,0,"","","",null,null,null,null,"","","","","","","","","","","","","","","",null,""]
[null,null,null,null,null,null,null,null,null,0,null,null,null,0,null,null,null,0,null,null,null,0,null,null,null,0,null,null,null,0,null,null,null,0,null,null,null,0,null,null,null,0,null,null,null,0,null,null,null,0,null,null,null,null,null,null,"","","","",null,null,null,0,null,null,null,0,"","","",null,null,null,null,"","","","","","","","","","","","","","","",null,""]
[null,null,null,null,null,null,null,null,null,0,null,null,null,0,null,null,null,0,null,null,null,0,null,null,null,0,null,null,null,0,null,null,null,0,null,null,null,0,null,null,null,0,null,null,null,0,null,null,null,0,null,null,null,null,null,null,"","","","",null,null,null,0,null,null,null,0,"","","",null,null,null,null,"","","","","","","","","","","","","","","",null,""]
[null,null,null,null,null,null,null,null,null,0,null,null,null,0,null,null,null,0,null,null,null,0,null,null,null,0,null,null,null,0,null,null,null,0,null,null,null,0,null,null,null,0,null,null,null,0,null,null,null,0,null,null,null,null,null,null,"","","","",null,null,null,0,null,null,null,0,"","","",null,null,null,null,"","","","","","","","","","","","","","","",null,""]
[null,null,null,null,null,null,null,null,null,0,null,null,null,0,null,null,null,0,null,null,null,0,null,null,null,0,null,null,null,0,null,null,null,0,null,null,null,0,null,null,null,0,null,null,null,0,null,null,null,0,null,null,null,null,null,null,"","","","",null,null,null,0,null,null,null,0,"","","",null,null,null,null,"","","","","","","","","","","","","","","",null,""]
[null,null,null,null,null,null,null,null,null,0,null,null,null,0,null,null,null,0,null,null,null,0,null,null,null,0,null,null,null,0,null,null,null,0,null,null,null,0,null,null,null,0,null,null,null,0,null,null,null,0,null,null,null,null,null,null,"","","","",null,null,null,0,null,null,null,0,"","","",null,null,null,null,"","","","","","","","","","","","","","","",null,""]
[null,null,null,null,null,null,null,null,null,0,null,null,null,0,null,null,null,0,null,null,null,0,null,null,null,0,null,null,null,0,null,null,null,0,null,null,null,0,null,null,null,0,null,null,null,0,null,null,null,0,null,null,null,null,null,null,"","","","",null,null,null,0,null,null,null,0,"","","",null,null,null,null,"","","","","","","","","","","","","","","",null,""]
[null,null,null,null,null,null,null,null,null,0,null,null,null,0,null,null,null,0,null,null,null,0,null,null,null,0,null,null,null,0,null,null,null,0,null,null,null,0,null,null,null,0,null,null,null,0,null,null,null,0,null,null,null,null,null,null,"","","","",null,null,null,0,null,null,null,0,"","","",null,null,null,null,"","","","","","","","","","","","","","","",null,""]
[null,null,null,null,null,null,null,null,null,0,null,null,null,0,null,null,null,0,null,null,null,0,null,null,null,0,null,null,null,0,null,null,null,0,null,null,null,0,null,null,null,0,null,null,null,0,null,null,null,0,null,null,null,null,null,null,"","","","",null,null,null,0,null,null,null,0,"","","",null,null,null,null,"","","","","","","","","","","","","","","",null,""]
[null,null,null,null,null,null,null,null,null,0,null,null,null,0,null,null,null,0,null,null,null,0,null,null,null,0,null,null,null,0,null,null,null,0,null,null,null,0,null,null,null,0,null,null,null,0,null,null,null,0,null,null,null,null,null,null,"","","","",null,null,null,0,null,null,null,0,"","","",null,null,null,null,"","","","","","","","","","","","","","","",null,""]
[null,null,null,null,null,null,null,null,null,0,null,null,null,0,null,null,null,0,null,null,null,0,null,null,null,0,null,null,null,0,null,null,null,0,null,null,null,0,null,null,null,0,null,null,null,0,null,null,null,0,null,null,null,null,null,null,"","","","",null,null,null,0,null,null,null,0,"","","",null,null,null,null,"","","","","","","","","","","","","","","",null,""]
[null,null,null,null,null,null,null,null,null,0,null,null,null,0,null,null,null,0,null,null,null,0,null,null,null,0,null,null,null,0,null,null,null,0,null,null,null,0,null,null,null,0,null,null,null,0,null,null,null,0,null,null,null,null,null,null,"","","","",null,null,null,0,null,null,null,0,"","","",null,null,null,null,"","","","","","","","","","","","","","","",null,""]
[null,null,null,null,null,null,null,null,null,0,null,null,null,0,null,null,null,0,null,null,null,0,null,null,null,0,null,null,null,0,null,null,null,0,null,null,null,0,null,null,null,0,null,null,null,0,null,null,null,0,null,null,null,null,null,null,"","","","",null,null,null,0,null,null,null,0,"","","",null,null,null,null,"","","","","","","","","","","","","","","",null,""]
[null,null,null,null,null,null,null,null,null,0,null,null,null,0,null,null,null,0,null,null,null,0,null,null,null,0,null,null,null,0,null,null,null,0,null,null,null,0,null,null,null,0,null,null,null,0,null,null,null,0,null,null,null,null,null,null,"","","","",null,null,null,0,null,null,null,0,"","","",null,null,null,null,"","","","","","","","","","","","","","","",null,""]
[null,null,null,null,null,null,null,null,null,0,null,null,null,0,null,null,null,0,null,null,null,0,null,null,null,0,null,null,null,0,null,null,null,0,null,null,null,0,null,null,null,0,null,null,null,0,null,null,null,0,null,null,null,null,null,null,"","","","",null,null,null,0,null,null,null,0,"","","",null,null,null,null,"","","","","","","","","","","","","","","",null,""]
[null,null,null,null,null,null,null,null,null,0,null,null,null,0,null,null,null,0,null,null,null,0,null,null,null,0,null,null,null,0,null,null,null,0,null,null,null,0,null,null,null,0,null,null,null,0,null,null,null,0,null,null,null,null,null,null,"","","",{"$f":"IF($C565=\"\",\"\",SUM(J565,N565,R565,V565,Z565,AD565,AH565,AL565,AP565,AT565,AX565,BG565))","v":""},null,null,null,0,null,null,null,0,"","","",null,null,null,null,"","","","","","","","","","","","","","","",null,""]
[null,null,null,null,null,null,null,null,null,0,null,null,null,0,null,null,null,0,null,null,null,0,null,null,null,0,null,null,null,0,null,null,null,0,null,null,null,0,null,null,null,0,null,null,null,0,null,null,null,0,null,null,null,null,null,null,"","","","",null,null,null,0,null,null,null,0,"","","",null,null,null,null,"","","","","","","","","","","","","","","",null,""]
[null,null,null,null,null,null,null,null,null,0,null,null,null,0,null,null,null,0,null,null,null,0,null,null,null,0,null,null,null,0,null,null,null,0,null,null,null,0,null,null,null,0,null,null,null,0,null,null,null,0,null,null,null,null,null,null,"","","","",null,null,null,0,null,null,null,0,"","","",null,null,null,null,"","","","","","","","","","","","","","","",null,""]
[null,null,null,null,null,null,null,null,null,0,null,null,null,0,null,null,null,0,null,null,null,0,null,null,null,0,null,null,null,0,null,null,null,0,null,null,null,0,null,null,null,0,null,null,null,0,null,null,null,0,null,null,null,null,null,null,"","","","",null,null,null,0,null,null,null,0,"","","",null,null,null,null,"","","","","","","","","","","","","","","",null,""]
[null,null,null,null,null,null,null,null,null,0,null,null,null,0,null,null,null,0,null,null,null,0,null,null,null,0,null,null,null,0,null,null,null,0,null,null,null,0,null,null,null,0,null,null,null,0,null,null,null,0,null,null,null,null,null,null,"","","","",null,null,null,0,null,null,null,0,"","","",null,null,null,null,"","","","","","","","","","","","","","","",null,""]
[null,null,null,null,null,null,null,null,null,0,null,null,null,0,null,null,null,0,null,null,null,0,null,null,null,0,null,null,null,0,null,null,null,0,null,null,null,0,null,null,null,0,null,null,null,0,null,null,null,0,null,null,null,null,null,null,"","","","",null,null,null,0,null,null,null,0,"","","",null,null,null,null,"","","","","","","","","","","","","","","",null,""]
[null,null,null,null,null,null,null,null,null,0,null,null,null,0,null,null,null,0,null,null,null,0,null,null,null,0,null,null,null,0,null,null,null,0,null,null,null,0,null,null,null,0,null,null,null,0,null,null,null,0,null,null,null,null,null,null,"","","","",null,null,null,0,null,null,null,0,"","","",null,null,null,null,"","","","","","","","","","","","","","","",null,""]
[null,null,null,null,null,null,null,null,null,0,null,null,null,0,null,null,null,0,null,null,null,0,null,null,null,0,null,null,null,0,null,null,null,0,null,null,null,0,null,null,null,0,null,null,null,0,null,null,null,0,null,null,null,null,null,null,"","","","",null,null,null,0,null,null,null,0,"","","",null,null,null,null,"","","","","","","","","","","","","","","",null,""]
[null,null,null,null,null,null,null,null,null,0,null,null,null,0,null,null,null,0,null,null,null,0,null,null,null,0,null,null,null,0,null,null,null,0,null,null,null,0,null,null,null,0,null,null,null,0,null,null,null,0,null,null,null,null,null,null,"","","","",null,null,null,0,null,null,null,0,"","","",null,null,null,null,"","","","","","","","","","","","","","","",null,""]
[null,null,null,null,null,null,null,null,null,0,null,null,null,0,null,null,null,0,null,null,null,0,null,null,null,0,null,null,null,0,null,null,null,0,null,null,null,0,null,null,null,0,null,null,null,0,null,null,null,0,null,null,null,null,null,null,"","","","",null,null,null,0,null,null,null,0,"","","",null,null,null,null,"","","","","","","","","","","","","","","",null,""]
[null,null,null,null,null,null,null,null,null,0,null,null,null,0,null,null,null,0,null,null,null,0,null,null,null,0,null,null,null,0,null,null,null,0,null,null,null,0,null,null,null,0,null,null,null,0,null,null,null,0,null,null,null,null,null,null,"","","","",null,null,null,0,null,null,null,0,"","","",null,null,null,null,"","","","","","","","","","","","","","","",null,""]
[null,null,null,null,null,null,null,null,null,0,null,null,null,0,null,null,null,0,null,null,null,0,null,null,null,0,null,null,null,0,null,null,null,0,null,null,null,0,null,null,null,0,null,null,null,0,null,null,null,0,null,null,null,null,null,null,"","","","",null,null,null,0,null,null,null,0,"","","",null,null,null,null,"","","","","","","","","","","","","","","",null,""]
[null,null,null,null,null,null,null,null,null,0,null,null,null,0,null,null,null,0,null,null,null,0,null,null,null,0,null,null,null,0,null,null,null,0,null,null,null,0,null,null,null,0,null,null,null,0,null,null,null,0,null,null,null,null,null,null,"","","","",null,null,null,0,null,null,null,0,"","","",null,null,null,null,"","","","","","","","","","","","","","","",null,""]
[null,null,null,null,null,null,null,null,null,0,null,null,null,0,null,null,null,0,null,null,null,0,null,null,null,0,null,null,null,0,null,null,null,0,null,null,null,0,null,null,null,0,null,null,null,0,null,null,null,0,null,null,null,null,null,null,"","","","",null,null,null,0,null,null,null,0,"","","",null,null,null,null,"","","","","","","","","","","","","","","",null,""]
[null,null,null,null,null,null,null,null,null,0,null,null,null,0,null,null,null,0,null,null,null,0,null,null,null,0,null,null,null,0,null,null,null,0,null,null,null,0,null,null,null,0,null,null,null,0,null,null,null,0,null,null,null,null,null,null,"","","","",null,null,null,0,null,null,null,0,"","","",null,null,null,null,"","","","","","","","","","","","","","","",null,""]
[null,null,null,null,null,null,null,null,null,0,null,null,null,0,null,null,null,0,null,null,null,0,null,null,null,0,null,null,null,0,null,null,null,0,null,null,null,0,null,null,null,0,null,null,null,0,null,null,null,0,null,null,null,null,null,null,"","","","",null,null,null,0,null,null,null,0,"","","",null,null,null,null,"","","","","","","","","","","","","","","",null,""]
[null,null,null,null,null,null,null,null,null,0,null,null,null,0,null,null,null,0,null,null,null,0,null,null,null,0,null,null,null,0,null,null,null,0,null,null,null,0,null,null,null,0,null,null,null,0,null,null,null,0,null,null,null,null,null,null,{"$f":"IF($C581=\"\",\"\",SUM(AY581,BA581,BC581))","v":""},"","","",null,null,null,0,null,null,null,0,"","","",null,null,null,null,"","","","","","","","","","","","","","","",null,""]
[null,null,null,null,null,null,null,null,null,0,null,null,null,0,null,null,null,0,null,null,null,0,null,null,null,0,null,null,null,0,null,null,null,0,null,null,null,0,null,null,null,0,null,null,null,0,null,null,null,0,null,null,null,null,null,null,"","","","",null,null,null,0,null,null,null,0,"","","",null,null,null,null,"","","","","","","","","","","","","","","",null,""]
[null,null,null,null,null,null,null,null,null,0,null,null,null,0,null,null,null,0,null,null,null,0,null,null,null,0,null,null,null,0,null,null,null,0,null,null,null,0,null,null,null,0,null,null,null,0,null,null,null,0,null,null,null,null,null,null,"","","","",null,null,null,0,null,null,null,0,"","","",null,null,null,null,"","","","","","","","","","","","","","","",null,""]
[null,null,null,null,null,null,null,null,null,0,null,null,null,0,null,null,null,0,null,null,null,0,null,null,null,0,null,null,null,0,null,null,null,0,null,null,null,0,null,null,null,0,null,null,null,0,null,null,null,0,null,null,null,null,null,null,"","","","",null,null,null,0,null,null,null,0,"","","",null,null,null,null,"","","","","","","","","","","","","","","",null,""]
[null,null,null,null,null,null,null,null,null,0,null,null,null,0,null,null,null,0,null,null,null,0,null,null,null,0,null,null,null,0,null,null,null,0,null,null,null,0,null,null,null,0,null,null,null,0,null,null,null,0,null,null,null,null,null,null,"","","","",null,null,null,0,null,null,null,0,"","","",null,null,null,null,"","","","","","","","","","","","","","","",null,""]
[null,null,null,null,null,null,null,null,null,0,null,null,null,{"$f":"SUM(K586:M586)","v":0},null,null,null,{"$f":"SUM(O586:Q586)","v":0},null,null,null,{"$f":"SUM(S586:U586)","v":0},null,null,null,{"$f":"SUM(W586:Y586)","v":0},null,null,null,{"$f":"SUM(AA586:AC586)","v":0},null,null,null,{"$f":"SUM(AE586:AG586)","v":0},null,null,null,{"$f":"SUM(AI586:AK586)","v":0},null,null,null,{"$f":"SUM(AM586:AO586)","v":0},null,null,null,{"$f":"SUM(AQ586:AS586)","v":0},null,null,null,{"$f":"SUM(AU586:AW586)","v":0},null,null,null,null,null,null,"","",{"$f":"IF($C586=\"\",\"\",SUM(BE586,BF586))","v":""},"",null,null,null,{"$f":"SUM(BI586:BK586)","v":0},null,null,null,{"$f":"SUM(BM586:BO586)","v":0},{"$f":"IF($C586=\"\",\"\",IF(BS586=0,\"ناجحة\",IF(BS586<=2,\"دورثان\",\"راسبة\")))","v":""},{"$f":"IF($C586=\"\",\"\",IF(BS586=0,\"ومنقولة للصف الثالث\",IF(BS586>0,\"فى  :  \"&CONCATENATE(BX586,BY586,BZ586,CA586,CB586,CC586,CD586,CE586,CF586,CG586,CH586,CI586,CJ586,CK586,CL586),CONCATENATE(BX586,BY586,BZ586,CA586,CB586,CC586,CD586,CE586,CF586,CG586,CH586,CI586,CJ586,CK586,CL586))))","v":""},{"$f":"IF($C586=\"\",\"\",COUNTA($BX586:$CL586)-COUNTBLANK($BX586:$CL586))","v":""},null,null,null,null,{"$f":"IF($C586=\"\",\"\",IF(OR(I586<$I$9,I586=\"غ\",J586<$J$9),$BX$5&\" - \",\"\"))","v":""},{"$f":"IF($C586=\"\",\"\",IF(OR(M586<$M$9,M586=\"غ\",N586<$N$9),$BY$5&\" - \",\"\"))","v":""},{"$f":"IF($C586=\"\",\"\",IF(OR(Q586<$Q$9,Q586=\"غ\",R586<$R$9),BZ$5&\" - \",\"\"))","v":""},{"$f":"IF($C586=\"\",\"\",IF(OR(U586<$U$9,U586=\"غ\",V586<$V$9),CA$5&\" - \",\"\"))","v":""},{"$f":"IF($C586=\"\",\"\",IF(OR(Y586<$Y$9,Y586=\"غ\",Z586<$Z$9),CB$5&\" - \",\"\"))","v":""},{"$f":"IF($C586=\"\",\"\",IF(OR(AC586<$AC$9,AC586=\"غ\",AD586<$AD$9),CC$5&\" - \",\"\"))","v":""},{"$f":"IF($C586=\"\",\"\",IF(OR(AG586<$AG$9,AG586=\"غ\",AH586<$AH$9),CD$5&\" - \",\"\"))","v":""},{"$f":"IF($C586=\"\",\"\",IF(OR(AK586<$AK$9,AK586=\"غ\",AL586<$AL$9),CE$5&\" - \",\"\"))","v":""},{"$f":"IF($C586=\"\",\"\",IF(OR(AO586<$AO$9,AO586=\"غ\",AP586<$AP$9),CF$5&\" - \",\"\"))","v":""},{"$f":"IF($C586=\"\",\"\",IF(OR(AS586<$AS$9,AS586=\"غ\",AT586<$AT$9),CG$5&\" - \",\"\"))","v":""},{"$f":"IF($C586=\"\",\"\",IF(OR(AW586<$AW$9,AW586=\"غ\",AX586<$AX$9),CH$5&\" - \",\"\"))","v":""},{"$f":"IF($C586=\"\",\"\",IF(OR(BE586<$BE$9,BE586=\"غ\",BF586<$BF$9,BF586=\"غ\",BG586<$BG$9),CI$5&\" - \",\"\"))","v":""},{"$f":"IF($C586=\"\",\"\",IF(OR(BK586<$BK$9,BK586=\"غ\",BL586<$BL$9),CJ$5&\" - \",\"\"))","v":""},{"$f":"IF($C586=\"\",\"\",IF(OR(BO586<$BO$9,BO586=\"غ\",BP586<$BP$9),CK$5&\" - \",\"\"))","v":""},{"$f":"IF($C586=\"\",\"\",IF(BH586<$BH$9,CL$5,\"\"))","v":""},null,{"$f":"IF($C586=\"\",\"\",SUM(H586,L586,P586,T586,X586,AB586,AF586,AJ586,AN586,AR586,AV586,BA586,BB586))","v":""}]
[null,null,null,null,null,null,null,null,null,{"$f":"SUM(G587:I587)","v":0},null,null,null,0,null,null,null,0,null,null,null,0,null,null,null,0,null,null,null,0,null,null,null,0,null,null,null,0,null,null,null,0,null,null,null,0,null,null,null,0,null,null,null,null,null,null,"","","","",null,null,null,0,null,null,null,0,"","","",null,null,null,null,"","","","","","","","","","","","","","","",null,""]
[null,null,null,null,null,null,null,null,null,0,null,null,null,0,null,null,null,0,null,null,null,0,null,null,null,0,null,null,null,0,null,null,null,0,null,null,null,0,null,null,null,0,null,null,null,0,null,null,null,0,null,null,null,null,null,null,"","","","",null,null,null,0,null,null,null,0,"","","",null,null,null,null,"","","","","","","","","","","","","","","",null,""]
[null,null,null,null,null,null,null,null,null,0,null,null,null,0,null,null,null,0,null,null,null,0,null,null,null,0,null,null,null,0,null,null,null,0,null,null,null,0,null,null,null,0,null,null,null,0,null,null,null,0,null,null,null,null,null,null,"","","","",null,null,null,0,null,null,null,0,"","","",null,null,null,null,"","","","","","","","","","","","","","","",null,""]
[null,null,null,null,null,null,null,null,null,0,null,null,null,0,null,null,null,0,null,null,null,0,null,null,null,0,null,null,null,0,null,null,null,0,null,null,null,0,null,null,null,0,null,null,null,0,null,null,null,0,null,null,null,null,null,null,"","","","",null,null,null,0,null,null,null,0,"","","",null,null,null,null,"","","","","","","","","","","","","","","",null,""]
[null,null,null,null,null,null,null,null,null,0,null,null,null,0,null,null,null,0,null,null,null,0,null,null,null,0,null,null,null,0,null,null,null,0,null,null,null,0,null,null,null,0,null,null,null,0,null,null,null,0,null,null,null,null,null,null,"","","","",null,null,null,0,null,null,null,0,"","","",null,null,null,null,"","","","","","","","","","","","","","","",null,""]
[null,null,null,null,null,null,null,null,null,0,null,null,null,0,null,null,null,0,null,null,null,0,null,null,null,0,null,null,null,0,null,null,null,0,null,null,null,0,null,null,null,0,null,null,null,0,null,null,null,0,null,null,null,null,null,null,"","","","",null,null,null,0,null,null,null,0,"","","",null,null,null,null,"","","","","","","","","","","","","","","",null,""]
[null,null,null,null,null,null,null,null,null,0,null,null,null,0,null,null,null,0,null,null,null,0,null,null,null,0,null,null,null,0,null,null,null,0,null,null,null,0,null,null,null,0,null,null,null,0,null,null,null,0,null,null,null,null,null,null,"","","","",null,null,null,0,null,null,null,0,"","","",null,null,null,null,"","","","","","","","","","","","","","","",null,""]
[null,null,null,null,null,null,null,null,null,0,null,null,null,0,null,null,null,0,null,null,null,0,null,null,null,0,null,null,null,0,null,null,null,0,null,null,null,0,null,null,null,0,null,null,null,0,null,null,null,0,null,null,null,null,null,null,"","","","",null,null,null,0,null,null,null,0,"","","",null,null,null,null,"","","","","","","","","","","","","","","",null,""]
[null,null,null,null,null,null,null,null,null,0,null,null,null,0,null,null,null,0,null,null,null,0,null,null,null,0,null,null,null,0,null,null,null,0,null,null,null,0,null,null,null,0,null,null,null,0,null,null,null,0,null,null,null,null,null,null,"","","","",null,null,null,0,null,null,null,0,"","","",null,null,null,null,"","","","","","","","","","","","","","","",null,""]
[null,null,null,null,null,null,null,null,null,0,null,null,null,0,null,null,null,0,null,null,null,0,null,null,null,0,null,null,null,0,null,null,null,0,null,null,null,0,null,null,null,0,null,null,null,0,null,null,null,0,null,null,null,null,null,null,"","","","",null,null,null,0,null,null,null,0,"","","",null,null,null,null,"","","","","","","","","","","","","","","",null,""]
[null,null,null,null,null,null,null,null,null,0,null,null,null,0,null,null,null,0,null,null,null,0,null,null,null,0,null,null,null,0,null,null,null,0,null,null,null,0,null,null,null,0,null,null,null,0,null,null,null,0,null,null,null,null,null,null,"","","","",null,null,null,0,null,null,null,0,"","","",null,null,null,null,"","","","","","","","","","","","","","","",null,""]
[null,null,null,null,null,null,null,null,null,0,null,null,null,0,null,null,null,0,null,null,null,0,null,null,null,0,null,null,null,0,null,null,null,0,null,null,null,0,null,null,null,0,null,null,null,0,null,null,null,0,null,null,null,null,null,null,"","","","",null,null,null,0,null,null,null,0,"","","",null,null,null,null,"","","","","","","","","","","","","","","",null,""]
[null,null,null,null,null,null,null,null,null,0,null,null,null,0,null,null,null,0,null,null,null,0,null,null,null,0,null,null,null,0,null,null,null,0,null,null,null,0,null,null,null,0,null,null,null,0,null,null,null,0,null,null,null,null,null,null,"","","","",null,null,null,0,null,null,null,0,"","","",null,null,null,null,"","","","","","","","","","","","","","","",null,""]
[null,null,null,null,null,null,null,null,null,0,null,null,null,0,null,null,null,0,null,null,null,0,null,null,null,0,null,null,null,0,null,null,null,0,null,null,null,0,null,null,null,0,null,null,null,0,null,null,null,0,null,null,null,null,null,null,"","","","",null,null,null,0,null,null,null,0,"","","",null,null,null,null,"","","","","","","","","","","","","","","",null,""]
[null,null,null,null,null,null,null,null,null,0,null,null,null,0,null,null,null,0,null,null,null,0,null,null,null,0,null,null,null,0,null,null,null,0,null,null,null,0,null,null,null,0,null,null,null,0,null,null,null,0,null,null,null,null,null,null,"","","","",null,null,null,0,null,null,null,0,"","","",null,null,null,null,"","","","","","","","","","","","","","","",null,""]
[null,null,null,null,null,null,null,null,null,0,null,null,null,0,null,null,null,0,null,null,null,0,null,null,null,0,null,null,null,0,null,null,null,0,null,null,null,0,null,null,null,0,null,null,null,0,null,null,null,0,null,null,null,null,null,null,"","","","",null,null,null,0,null,null,null,0,"","","",null,null,null,null,"","","","","","","","","","","","","","","",null,""]
[null,null,null,null,null,null,null,null,null,0,null,null,null,0,null,null,null,0,null,null,null,0,null,null,null,0,null,null,null,0,null,null,null,0,null,null,null,0,null,null,null,0,null,null,null,0,null,null,null,0,null,null,null,null,null,null,"","","","",null,null,null,0,null,null,null,0,"","","",null,null,null,null,"","","","","","","","","","","","","","","",null,""]
[null,null,null,null,null,null,null,null,null,0,null,null,null,0,null,null,null,0,null,null,null,0,null,null,null,0,null,null,null,0,null,null,null,0,null,null,null,0,null,null,null,0,null,null,null,0,null,null,null,0,null,null,null,null,null,null,"","","","",null,null,null,0,null,null,null,0,"","","",null,null,null,null,"","","","","","","","","","","","","","","",null,""]
[null,null,null,null,null,null,null,null,null,0,null,null,null,0,null,null,null,0,null,null,null,0,null,null,null,0,null,null,null,0,null,null,null,0,null,null,null,0,null,null,null,0,null,null,null,0,null,null,null,0,null,null,null,null,null,null,"","","","",null,null,null,0,null,null,null,0,"","","",null,null,null,null,"","","","","","","","","","","","","","","",null,""]
[null,null,null,null,null,null,null,null,null,0,null,null,null,0,null,null,null,0,null,null,null,0,null,null,null,0,null,null,null,0,null,null,null,0,null,null,null,0,null,null,null,0,null,null,null,0,null,null,null,0,null,null,null,null,null,null,"","","","",null,null,null,0,null,null,null,0,"","","",null,null,null,null,"","","","","","","","","","","","","","","",null,""]
[null,null,null,null,null,null,null,null,null,0,null,null,null,0,null,null,null,0,null,null,null,0,null,null,null,0,null,null,null,0,null,null,null,0,null,null,null,0,null,null,null,0,null,null,null,0,null,null,null,0,null,null,null,null,null,null,"","","","",null,null,null,0,null,null,null,0,"","","",null,null,null,null,"","","","","","","","","","","","","","","",null,""]
[null,null,null,null,null,null,null,null,null,0,null,null,null,0,null,null,null,0,null,null,null,0,null,null,null,0,null,null,null,0,null,null,null,0,null,null,null,0,null,null,null,0,null,null,null,0,null,null,null,0,null,null,null,null,null,null,"","","","",null,null,null,0,null,null,null,0,"","","",null,null,null,null,"","","","","","","","","","","","","","","",null,""]
[null,null,null,null,null,null,null,null,null,0,null,null,null,0,null,null,null,0,null,null,null,0,null,null,null,0,null,null,null,0,null,null,null,0,null,null,null,0,null,null,null,0,null,null,null,0,null,null,null,0,null,null,null,null,null,null,"","","","",null,null,null,0,null,null,null,0,"","","",null,null,null,null,"","","","","","","","","","","","","","","",null,""]
[null,null,null,null,null,null,null,null,null,0,null,null,null,0,null,null,null,0,null,null,null,0,null,null,null,0,null,null,null,0,null,null,null,0,null,null,null,0,null,null,null,0,null,null,null,0,null,null,null,0,null,null,null,null,null,null,"","","","",null,null,null,0,null,null,null,0,"","","",null,null,null,null,"","","","","","","","","","","","","","","",null,""]
[null,null,null,null,null,null,null,null,null,0,null,null,null,0,null,null,null,0,null,null,null,0,null,null,null,0,null,null,null,0,null,null,null,0,null,null,null,0,null,null,null,0,null,null,null,0,null,null,null,0,null,null,null,null,null,null,"","","","",null,null,null,0,null,null,null,0,"","","",null,null,null,null,"","","","","","","","","","","","","","","",null,""]
[null,null,null,null,null,null,null,null,null,0,null,null,null,0,null,null,null,0,null,null,null,0,null,null,null,0,null,null,null,0,null,null,null,0,null,null,null,0,null,null,null,0,null,null,null,0,null,null,null,0,null,null,null,null,null,null,"","","","",null,null,null,0,null,null,null,0,"","","",null,null,null,null,"","","","","","","","","","","","","","","",null,""]
[null,null,null,null,null,null,null,null,null,0,null,null,null,0,null,null,null,0,null,null,null,0,null,null,null,0,null,null,null,0,null,null,null,0,null,null,null,0,null,null,null,0,null,null,null,0,null,null,null,0,null,null,null,null,null,null,"","","","",null,null,null,0,null,null,null,0,"","","",null,null,null,null,"","","","","","","","","","","","","","","",null,""]
[null,null,null,null,null,null,null,null,null,0,null,null,null,0,null,null,null,0,null,null,null,0,null,null,null,0,null,null,null,0,null,null,null,0,null,null,null,0,null,null,null,0,null,null,null,0,null,null,null,0,null,null,null,null,null,null,"","","","",null,null,null,0,null,null,null,0,"","","",null,null,null,null,"","","","","","","","","","","","","","","",null,""]
[null,null,null,null,null,null,null,null,null,0,null,null,null,0,null,null,null,0,null,null,null,0,null,null,null,0,null,null,null,0,null,null,null,0,null,null,null,0,null,null,null,0,null,null,null,0,null,null,null,0,null,null,null,null,null,null,"","","","",null,null,null,0,null,null,null,0,"","","",null,null,null,null,"","","","","","","","","","","","","","","",null,""]
[null,null,null,null,null,null,null,null,null,0,null,null,null,0,null,null,null,0,null,null,null,0,null,null,null,0,null,null,null,0,null,null,null,0,null,null,null,0,null,null,null,0,null,null,null,0,null,null,null,0,null,null,null,null,null,null,"","","","",null,null,null,0,null,null,null,0,"","","",null,null,null,null,"","","","","","","","","","","","","","","",null,""]
[null,null,null,null,null,null,null,null,null,0,null,null,null,0,null,null,null,0,null,null,null,0,null,null,null,0,null,null,null,0,null,null,null,0,null,null,null,0,null,null,null,0,null,null,null,0,null,null,null,0,null,null,null,null,null,null,"","","","",null,null,null,0,null,null,null,0,"","","",null,null,null,null,"","","","","","","","","","","","","","","",null,""]
[null,null,null,null,null,null,null,null,null,0,null,null,null,0,null,null,null,0,null,null,null,0,null,null,null,0,null,null,null,0,null,null,null,0,null,null,null,0,null,null,null,0,null,null,null,0,null,null,null,0,null,null,null,null,null,null,"","","","",null,null,null,0,null,null,null,0,"","","",null,null,null,null,"","","","","","","","","","","","","","","",null,""]
[null,null,null,null,null,null,null,null,null,0,null,null,null,0,null,null,null,0,null,null,null,0,null,null,null,0,null,null,null,0,null,null,null,0,null,null,null,0,null,null,null,0,null,null,null,0,null,null,null,0,null,null,null,null,null,null,"","","","",null,null,null,0,null,null,null,0,"","","",null,null,null,null,"","","","","","","","","","","","","","","",null,""]
[null,null,null,null,null,null,null,null,null,0,null,null,null,0,null,null,null,0,null,null,null,0,null,null,null,0,null,null,null,0,null,null,null,0,null,null,null,0,null,null,null,0,null,null,null,0,null,null,null,0,null,null,null,null,null,null,"","","","",null,null,null,0,null,null,null,0,"","","",null,null,null,null,"","","","","","","","","","","","","","","",null,""]
[null,null,null,null,null,null,null,null,null,0,null,null,null,0,null,null,null,0,null,null,null,0,null,null,null,0,null,null,null,0,null,null,null,0,null,null,null,0,null,null,null,0,null,null,null,0,null,null,null,0,null,null,null,null,null,null,"","","","",null,null,null,0,null,null,null,0,"","","",null,null,null,null,"","","","","","","","","","","","","","","",null,""]
[null,null,null,null,null,null,null,null,null,0,null,null,null,0,null,null,null,0,null,null,null,0,null,null,null,0,null,null,null,0,null,null,null,0,null,null,null,0,null,null,null,0,null,null,null,0,null,null,null,0,null,null,null,null,null,null,"","","","",null,null,null,0,null,null,null,0,"","","",null,null,null,null,"","","","","","","","","","","","","","","",null,""]
[null,null,null,null,null,null,null,null,null,0,null,null,null,0,null,null,null,0,null,null,null,0,null,null,null,0,null,null,null,0,null,null,null,0,null,null,null,0,null,null,null,0,null,null,null,0,null,null,null,0,null,null,null,null,null,null,"","","","",null,null,null,0,null,null,null,0,"","","",null,null,null,null,"","","","","","","","","","","","","","","",null,""]
[null,null,null,null,null,null,null,null,null,0,null,null,null,0,null,null,null,0,null,null,null,0,null,null,null,0,null,null,null,0,null,null,null,0,null,null,null,0,null,null,null,0,null,null,null,0,null,null,null,0,null,null,null,null,null,null,"","","","",null,null,null,0,null,null,null,0,"","","",null,null,null,null,"","","","","","","","","","","","","","","",null,""]
[null,null,null,null,null,null,null,null,null,0,null,null,null,0,null,null,null,0,null,null,null,0,null,null,null,0,null,null,null,0,null,null,null,0,null,null,null,0,null,null,null,0,null,null,null,0,null,null,null,0,null,null,null,null,null,null,"","","","",null,null,null,0,null,null,null,0,"","","",null,null,null,null,"","","","","","","","","","","","","","","",null,""]
[null,null,null,null,null,null,null,null,null,0,null,null,null,0,null,null,null,0,null,null,null,0,null,null,null,0,null,null,null,0,null,null,null,0,null,null,null,0,null,null,null,0,null,null,null,0,null,null,null,0,null,null,null,null,null,null,"","","","",null,null,null,0,null,null,null,0,"","","",null,null,null,null,"","","","","","","","","","","","","","","",null,""]
[null,null,null,null,null,null,null,null,null,0,null,null,null,0,null,null,null,0,null,null,null,0,null,null,null,0,null,null,null,0,null,null,null,0,null,null,null,0,null,null,null,0,null,null,null,0,null,null,null,0,null,null,null,null,null,null,"","","","",null,null,null,0,null,null,null,0,"","","",null,null,null,null,"","","","","","","","","","","","","","","",null,""]
[null,null,null,null,null,null,null,null,null,0,null,null,null,0,null,null,null,0,null,null,null,0,null,null,null,0,null,null,null,0,null,null,null,0,null,null,null,0,null,null,null,0,null,null,null,0,null,null,null,0,null,null,null,null,null,null,"","","","",null,null,null,0,null,null,null,0,"","","",null,null,null,null,"","","","","","","","","","","","","","","",null,""]
[null,null,null,null,null,null,null,null,null,0,null,null,null,0,null,null,null,0,null,null,null,0,null,null,null,0,null,null,null,0,null,null,null,0,null,null,null,0,null,null,null,0,null,null,null,0,null,null,null,0,null,null,null,null,null,null,"","","",{"$f":"IF($C629=\"\",\"\",SUM(J629,N629,R629,V629,Z629,AD629,AH629,AL629,AP629,AT629,AX629,BG629))","v":""},null,null,null,0,null,null,null,0,"","","",null,null,null,null,"","","","","","","","","","","","","","","",null,""]
[null,null,null,null,null,null,null,null,null,0,null,null,null,0,null,null,null,0,null,null,null,0,null,null,null,0,null,null,null,0,null,null,null,0,null,null,null,0,null,null,null,0,null,null,null,0,null,null,null,0,null,null,null,null,null,null,"","","","",null,null,null,0,null,null,null,0,"","","",null,null,null,null,"","","","","","","","","","","","","","","",null,""]
[null,null,null,null,null,null,null,null,null,0,null,null,null,0,null,null,null,0,null,null,null,0,null,null,null,0,null,null,null,0,null,null,null,0,null,null,null,0,null,null,null,0,null,null,null,0,null,null,null,0,null,null,null,null,null,null,"","","","",null,null,null,0,null,null,null,0,"","","",null,null,null,null,"","","","","","","","","","","","","","","",null,""]
[null,null,null,null,null,null,null,null,null,0,null,null,null,0,null,null,null,0,null,null,null,0,null,null,null,0,null,null,null,0,null,null,null,0,null,null,null,0,null,null,null,0,null,null,null,0,null,null,null,0,null,null,null,null,null,null,"","","","",null,null,null,0,null,null,null,0,"","","",null,null,null,null,"","","","","","","","","","","","","","","",null,""]
[null,null,null,null,null,null,null,null,null,0,null,null,null,0,null,null,null,0,null,null,null,0,null,null,null,0,null,null,null,0,null,null,null,0,null,null,null,0,null,null,null,0,null,null,null,0,null,null,null,0,null,null,null,null,null,null,"","","","",null,null,null,0,null,null,null,0,"","","",null,null,null,null,"","","","","","","","","","","","","","","",null,""]
[null,null,null,null,null,null,null,null,null,0,null,null,null,0,null,null,null,0,null,null,null,0,null,null,null,0,null,null,null,0,null,null,null,0,null,null,null,0,null,null,null,0,null,null,null,0,null,null,null,0,null,null,null,null,null,null,"","","","",null,null,null,0,null,null,null,0,"","","",null,null,null,null,"","","","","","","","","","","","","","","",null,""]
[null,null,null,null,null,null,null,null,null,0,null,null,null,0,null,null,null,0,null,null,null,0,null,null,null,0,null,null,null,0,null,null,null,0,null,null,null,0,null,null,null,0,null,null,null,0,null,null,null,0,null,null,null,null,null,null,"","","","",null,null,null,0,null,null,null,0,"","","",null,null,null,null,"","","","","","","","","","","","","","","",null,""]
[null,null,null,null,null,null,null,null,null,0,null,null,null,0,null,null,null,0,null,null,null,0,null,null,null,0,null,null,null,0,null,null,null,0,null,null,null,0,null,null,null,0,null,null,null,0,null,null,null,0,null,null,null,null,null,null,"","","","",null,null,null,0,null,null,null,0,"","","",null,null,null,null,"","","","","","","","","","","","","","","",null,""]
[null,null,null,null,null,null,null,null,null,0,null,null,null,0,null,null,null,0,null,null,null,0,null,null,null,0,null,null,null,0,null,null,null,0,null,null,null,0,null,null,null,0,null,null,null,0,null,null,null,0,null,null,null,null,null,null,"","","","",null,null,null,0,null,null,null,0,"","","",null,null,null,null,"","","","","","","","","","","","","","","",null,""]
[null,null,null,null,null,null,null,null,null,0,null,null,null,0,null,null,null,0,null,null,null,0,null,null,null,0,null,null,null,0,null,null,null,0,null,null,null,0,null,null,null,0,null,null,null,0,null,null,null,0,null,null,null,null,null,null,"","","","",null,null,null,0,null,null,null,0,"","","",null,null,null,null,"","","","","","","","","","","","","","","",null,""]
[null,null,null,null,null,null,null,null,null,0,null,null,null,0,null,null,null,0,null,null,null,0,null,null,null,0,null,null,null,0,null,null,null,0,null,null,null,0,null,null,null,0,null,null,null,0,null,null,null,0,null,null,null,null,null,null,"","","","",null,null,null,0,null,null,null,0,"","","",null,null,null,null,"","","","","","","","","","","","","","","",null,""]
[null,null,null,null,null,null,null,null,null,0,null,null,null,0,null,null,null,0,null,null,null,0,null,null,null,0,null,null,null,0,null,null,null,0,null,null,null,0,null,null,null,0,null,null,null,0,null,null,null,0,null,null,null,null,null,null,"","","","",null,null,null,0,null,null,null,0,"","","",null,null,null,null,"","","","","","","","","","","","","","","",null,""]
[null,null,null,null,null,null,null,null,null,0,null,null,null,0,null,null,null,0,null,null,null,0,null,null,null,0,null,null,null,0,null,null,null,0,null,null,null,0,null,null,null,0,null,null,null,0,null,null,null,0,null,null,null,null,null,null,"","","","",null,null,null,0,null,null,null,0,"","","",null,null,null,null,"","","","","","","","","","","","","","","",null,""]
[null,null,null,null,null,null,null,null,null,0,null,null,null,0,null,null,null,0,null,null,null,0,null,null,null,0,null,null,null,0,null,null,null,0,null,null,null,0,null,null,null,0,null,null,null,0,null,null,null,0,null,null,null,null,null,null,"","","","",null,null,null,0,null,null,null,0,"","","",null,null,null,null,"","","","","","","","","","","","","","","",null,""]
[null,null,null,null,null,null,null,null,null,0,null,null,null,0,null,null,null,0,null,null,null,0,null,null,null,0,null,null,null,0,null,null,null,0,null,null,null,0,null,null,null,0,null,null,null,0,null,null,null,0,null,null,null,null,null,null,"","","","",null,null,null,0,null,null,null,0,"","","",null,null,null,null,"","","","","","","","","","","","","","","",null,""]
[null,null,null,null,null,null,null,null,null,0,null,null,null,0,null,null,null,0,null,null,null,0,null,null,null,0,null,null,null,0,null,null,null,0,null,null,null,0,null,null,null,0,null,null,null,0,null,null,null,0,null,null,null,null,null,null,"","","","",null,null,null,0,null,null,null,0,"","","",null,null,null,null,"","","","","","","","","","","","","","","",null,""]
[null,null,null,null,null,null,null,null,null,0,null,null,null,0,null,null,null,0,null,null,null,0,null,null,null,0,null,null,null,0,null,null,null,0,null,null,null,0,null,null,null,0,null,null,null,0,null,null,null,0,null,null,null,null,null,null,{"$f":"IF($C645=\"\",\"\",SUM(AY645,BA645,BC645))","v":""},"","","",null,null,null,0,null,null,null,0,"","","",null,null,null,null,"","","","","","","","","","","","","","","",null,""]
[null,null,null,null,null,null,null,null,null,0,null,null,null,0,null,null,null,0,null,null,null,0,null,null,null,0,null,null,null,0,null,null,null,0,null,null,null,0,null,null,null,0,null,null,null,0,null,null,null,0,null,null,null,null,null,null,"","","","",null,null,null,0,null,null,null,0,"","","",null,null,null,null,"","","","","","","","","","","","","","","",null,""]
[null,null,null,null,null,null,null,null,null,0,null,null,null,0,null,null,null,0,null,null,null,0,null,null,null,0,null,null,null,0,null,null,null,0,null,null,null,0,null,null,null,0,null,null,null,0,null,null,null,0,null,null,null,null,null,null,"","","","",null,null,null,0,null,null,null,0,"","","",null,null,null,null,"","","","","","","","","","","","","","","",null,""]
[null,null,null,null,null,null,null,null,null,0,null,null,null,0,null,null,null,0,null,null,null,0,null,null,null,0,null,null,null,0,null,null,null,0,null,null,null,0,null,null,null,0,null,null,null,0,null,null,null,0,null,null,null,null,null,null,"","","","",null,null,null,0,null,null,null,0,"","","",null,null,null,null,"","","","","","","","","","","","","","","",null,""]
[null,null,null,null,null,null,null,null,null,0,null,null,null,0,null,null,null,0,null,null,null,0,null,null,null,0,null,null,null,0,null,null,null,0,null,null,null,0,null,null,null,0,null,null,null,0,null,null,null,0,null,null,null,null,null,null,"","","","",null,null,null,0,null,null,null,0,"","","",null,null,null,null,"","","","","","","","","","","","","","","",null,""]
[null,null,null,null,null,null,null,null,null,0,null,null,null,{"$f":"SUM(K650:M650)","v":0},null,null,null,{"$f":"SUM(O650:Q650)","v":0},null,null,null,{"$f":"SUM(S650:U650)","v":0},null,null,null,{"$f":"SUM(W650:Y650)","v":0},null,null,null,{"$f":"SUM(AA650:AC650)","v":0},null,null,null,{"$f":"SUM(AE650:AG650)","v":0},null,null,null,{"$f":"SUM(AI650:AK650)","v":0},null,null,null,{"$f":"SUM(AM650:AO650)","v":0},null,null,null,{"$f":"SUM(AQ650:AS650)","v":0},null,null,null,{"$f":"SUM(AU650:AW650)","v":0},null,null,null,null,null,null,"","",{"$f":"IF($C650=\"\",\"\",SUM(BE650,BF650))","v":""},"",null,null,null,{"$f":"SUM(BI650:BK650)","v":0},null,null,null,{"$f":"SUM(BM650:BO650)","v":0},{"$f":"IF($C650=\"\",\"\",IF(BS650=0,\"ناجحة\",IF(BS650<=2,\"دورثان\",\"راسبة\")))","v":""},{"$f":"IF($C650=\"\",\"\",IF(BS650=0,\"ومنقولة للصف الثالث\",IF(BS650>0,\"فى  :  \"&CONCATENATE(BX650,BY650,BZ650,CA650,CB650,CC650,CD650,CE650,CF650,CG650,CH650,CI650,CJ650,CK650,CL650),CONCATENATE(BX650,BY650,BZ650,CA650,CB650,CC650,CD650,CE650,CF650,CG650,CH650,CI650,CJ650,CK650,CL650))))","v":""},{"$f":"IF($C650=\"\",\"\",COUNTA($BX650:$CL650)-COUNTBLANK($BX650:$CL650))","v":""},null,null,null,null,{"$f":"IF($C650=\"\",\"\",IF(OR(I650<$I$9,I650=\"غ\",J650<$J$9),$BX$5&\" - \",\"\"))","v":""},{"$f":"IF($C650=\"\",\"\",IF(OR(M650<$M$9,M650=\"غ\",N650<$N$9),$BY$5&\" - \",\"\"))","v":""},{"$f":"IF($C650=\"\",\"\",IF(OR(Q650<$Q$9,Q650=\"غ\",R650<$R$9),BZ$5&\" - \",\"\"))","v":""},{"$f":"IF($C650=\"\",\"\",IF(OR(U650<$U$9,U650=\"غ\",V650<$V$9),CA$5&\" - \",\"\"))","v":""},{"$f":"IF($C650=\"\",\"\",IF(OR(Y650<$Y$9,Y650=\"غ\",Z650<$Z$9),CB$5&\" - \",\"\"))","v":""},{"$f":"IF($C650=\"\",\"\",IF(OR(AC650<$AC$9,AC650=\"غ\",AD650<$AD$9),CC$5&\" - \",\"\"))","v":""},{"$f":"IF($C650=\"\",\"\",IF(OR(AG650<$AG$9,AG650=\"غ\",AH650<$AH$9),CD$5&\" - \",\"\"))","v":""},{"$f":"IF($C650=\"\",\"\",IF(OR(AK650<$AK$9,AK650=\"غ\",AL650<$AL$9),CE$5&\" - \",\"\"))","v":""},{"$f":"IF($C650=\"\",\"\",IF(OR(AO650<$AO$9,AO650=\"غ\",AP650<$AP$9),CF$5&\" - \",\"\"))","v":""},{"$f":"IF($C650=\"\",\"\",IF(OR(AS650<$AS$9,AS650=\"غ\",AT650<$AT$9),CG$5&\" - \",\"\"))","v":""},{"$f":"IF($C650=\"\",\"\",IF(OR(AW650<$AW$9,AW650=\"غ\",AX650<$AX$9),CH$5&\" - \",\"\"))","v":""},{"$f":"IF($C650=\"\",\"\",IF(OR(BE650<$BE$9,BE650=\"غ\",BF650<$BF$9,BF650=\"غ\",BG650<$BG$9),CI$5&\" - \",\"\"))","v":""},{"$f":"IF($C650=\"\",\"\",IF(OR(BK650<$BK$9,BK650=\"غ\",BL650<$BL$9),CJ$5&\" - \",\"\"))","v":""},{"$f":"IF($C650=\"\",\"\",IF(OR(BO650<$BO$9,BO650=\"غ\",BP650<$BP$9),CK$5&\" - \",\"\"))","v":""},{"$f":"IF($C650=\"\",\"\",IF(BH650<$BH$9,CL$5,\"\"))","v":""},null,{"$f":"IF($C650=\"\",\"\",SUM(H650,L650,P650,T650,X650,AB650,AF650,AJ650,AN650,AR650,AV650,BA650,BB650))","v":""}]
[null,null,null,null,null,null,null,null,null,{"$f":"SUM(G651:I651)","v":0},null,null,null,0,null,null,null,0,null,null,null,0,null,null,null,0,null,null,null,0,null,null,null,0,null,null,null,0,null,null,null,0,null,null,null,0,null,null,null,0,null,null,null,null,null,null,"","","","",null,null,null,0,null,null,null,0,"","","",null,null,null,null,"","","","","","","","","","","","","","","",null,""]
[null,null,null,null,null,null,null,null,null,0,null,null,null,0,null,null,null,0,null,null,null,0,null,null,null,0,null,null,null,0,null,null,null,0,null,null,null,0,null,null,null,0,null,null,null,0,null,null,null,0,null,null,null,null,null,null,"","","","",null,null,null,0,null,null,null,0,"","","",null,null,null,null,"","","","","","","","","","","","","","","",null,""]
[null,null,null,null,null,null,null,null,null,0,null,null,null,0,null,null,null,0,null,null,null,0,null,null,null,0,null,null,null,0,null,null,null,0,null,null,null,0,null,null,null,0,null,null,null,0,null,null,null,0,null,null,null,null,null,null,"","","","",null,null,null,0,null,null,null,0,"","","",null,null,null,null,"","","","","","","","","","","","","","","",null,""]
[null,null,null,null,null,null,null,null,null,0,null,null,null,0,null,null,null,0,null,null,null,0,null,null,null,0,null,null,null,0,null,null,null,0,null,null,null,0,null,null,null,0,null,null,null,0,null,null,null,0,null,null,null,null,null,null,"","","","",null,null,null,0,null,null,null,0,"","","",null,null,null,null,"","","","","","","","","","","","","","","",null,""]
[null,null,null,null,null,null,null,null,null,0,null,null,null,0,null,null,null,0,null,null,null,0,null,null,null,0,null,null,null,0,null,null,null,0,null,null,null,0,null,null,null,0,null,null,null,0,null,null,null,0,null,null,null,null,null,null,"","","","",null,null,null,0,null,null,null,0,"","","",null,null,null,null,"","","","","","","","","","","","","","","",null,""]
[null,null,null,null,null,null,null,null,null,0,null,null,null,0,null,null,null,0,null,null,null,0,null,null,null,0,null,null,null,0,null,null,null,0,null,null,null,0,null,null,null,0,null,null,null,0,null,null,null,0,null,null,null,null,null,null,"","","","",null,null,null,0,null,null,null,0,"","","",null,null,null,null,"","","","","","","","","","","","","","","",null,""]
[null,null,null,null,null,null,null,null,null,0,null,null,null,0,null,null,null,0,null,null,null,0,null,null,null,0,null,null,null,0,null,null,null,0,null,null,null,0,null,null,null,0,null,null,null,0,null,null,null,0,null,null,null,null,null,null,"","","","",null,null,null,0,null,null,null,0,"","","",null,null,null,null,"","","","","","","","","","","","","","","",null,""]
[null,null,null,null,null,null,null,null,null,0,null,null,null,0,null,null,null,0,null,null,null,0,null,null,null,0,null,null,null,0,null,null,null,0,null,null,null,0,null,null,null,0,null,null,null,0,null,null,null,0,null,null,null,null,null,null,"","","","",null,null,null,0,null,null,null,0,"","","",null,null,null,null,"","","","","","","","","","","","","","","",null,""]
[null,null,null,null,null,null,null,null,null,0,null,null,null,0,null,null,null,0,null,null,null,0,null,null,null,0,null,null,null,0,null,null,null,0,null,null,null,0,null,null,null,0,null,null,null,0,null,null,null,0,null,null,null,null,null,null,"","","","",null,null,null,0,null,null,null,0,"","","",null,null,null,null,"","","","","","","","","","","","","","","",null,""]
[null,null,null,null,null,null,null,null,null,0,null,null,null,0,null,null,null,0,null,null,null,0,null,null,null,0,null,null,null,0,null,null,null,0,null,null,null,0,null,null,null,0,null,null,null,0,null,null,null,0,null,null,null,null,null,null,"","","","",null,null,null,0,null,null,null,0,"","","",null,null,null,null,"","","","","","","","","","","","","","","",null,""]
[null,null,null,null,null,null,null,null,null,0,null,null,null,0,null,null,null,0,null,null,null,0,null,null,null,0,null,null,null,0,null,null,null,0,null,null,null,0,null,null,null,0,null,null,null,0,null,null,null,0,null,null,null,null,null,null,"","","","",null,null,null,0,null,null,null,0,"","","",null,null,null,null,"","","","","","","","","","","","","","","",null,""]
[null,null,null,null,null,null,null,null,null,0,null,null,null,0,null,null,null,0,null,null,null,0,null,null,null,0,null,null,null,0,null,null,null,0,null,null,null,0,null,null,null,0,null,null,null,0,null,null,null,0,null,null,null,null,null,null,"","","","",null,null,null,0,null,null,null,0,"","","",null,null,null,null,"","","","","","","","","","","","","","","",null,""]
[null,null,null,null,null,null,null,null,null,0,null,null,null,0,null,null,null,0,null,null,null,0,null,null,null,0,null,null,null,0,null,null,null,0,null,null,null,0,null,null,null,0,null,null,null,0,null,null,null,0,null,null,null,null,null,null,"","","","",null,null,null,0,null,null,null,0,"","","",null,null,null,null,"","","","","","","","","","","","","","","",null,""]
[null,null,null,null,null,null,null,null,null,0,null,null,null,0,null,null,null,0,null,null,null,0,null,null,null,0,null,null,null,0,null,null,null,0,null,null,null,0,null,null,null,0,null,null,null,0,null,null,null,0,null,null,null,null,null,null,"","","","",null,null,null,0,null,null,null,0,"","","",null,null,null,null,"","","","","","","","","","","","","","","",null,""]
[null,null,null,null,null,null,null,null,null,0,null,null,null,0,null,null,null,0,null,null,null,0,null,null,null,0,null,null,null,0,null,null,null,0,null,null,null,0,null,null,null,0,null,null,null,0,null,null,null,0,null,null,null,null,null,null,"","","","",null,null,null,0,null,null,null,0,"","","",null,null,null,null,"","","","","","","","","","","","","","","",null,""]
[null,null,null,null,null,null,null,null,null,0,null,null,null,0,null,null,null,0,null,null,null,0,null,null,null,0,null,null,null,0,null,null,null,0,null,null,null,0,null,null,null,0,null,null,null,0,null,null,null,0,null,null,null,null,null,null,"","","","",null,null,null,0,null,null,null,0,"","","",null,null,null,null,"","","","","","","","","","","","","","","",null,""]
[null,null,null,null,null,null,null,null,null,0,null,null,null,0,null,null,null,0,null,null,null,0,null,null,null,0,null,null,null,0,null,null,null,0,null,null,null,0,null,null,null,0,null,null,null,0,null,null,null,0,null,null,null,null,null,null,"","","","",null,null,null,0,null,null,null,0,"","","",null,null,null,null,"","","","","","","","","","","","","","","",null,""]
[null,null,null,null,null,null,null,null,null,0,null,null,null,0,null,null,null,0,null,null,null,0,null,null,null,0,null,null,null,0,null,null,null,0,null,null,null,0,null,null,null,0,null,null,null,0,null,null,null,0,null,null,null,null,null,null,"","","","",null,null,null,0,null,null,null,0,"","","",null,null,null,null,"","","","","","","","","","","","","","","",null,""]
[null,null,null,null,null,null,null,null,null,0,null,null,null,0,null,null,null,0,null,null,null,0,null,null,null,0,null,null,null,0,null,null,null,0,null,null,null,0,null,null,null,0,null,null,null,0,null,null,null,0,null,null,null,null,null,null,"","","","",null,null,null,0,null,null,null,0,"","","",null,null,null,null,"","","","","","","","","","","","","","","",null,""]
[null,null,null,null,null,null,null,null,null,0,null,null,null,0,null,null,null,0,null,null,null,0,null,null,null,0,null,null,null,0,null,null,null,0,null,null,null,0,null,null,null,0,null,null,null,0,null,null,null,0,null,null,null,null,null,null,"","","","",null,null,null,0,null,null,null,0,"","","",null,null,null,null,"","","","","","","","","","","","","","","",null,""]
[null,null,null,null,null,null,null,null,null,0,null,null,null,0,null,null,null,0,null,null,null,0,null,null,null,0,null,null,null,0,null,null,null,0,null,null,null,0,null,null,null,0,null,null,null,0,null,null,null,0,null,null,null,null,null,null,"","","","",null,null,null,0,null,null,null,0,"","","",null,null,null,null,"","","","","","","","","","","","","","","",null,""]
[null,null,null,null,null,null,null,null,null,0,null,null,null,0,null,null,null,0,null,null,null,0,null,null,null,0,null,null,null,0,null,null,null,0,null,null,null,0,null,null,null,0,null,null,null,0,null,null,null,0,null,null,null,null,null,null,"","","","",null,null,null,0,null,null,null,0,"","","",null,null,null,null,"","","","","","","","","","","","","","","",null,""]
[null,null,null,null,null,null,null,null,null,0,null,null,null,0,null,null,null,0,null,null,null,0,null,null,null,0,null,null,null,0,null,null,null,0,null,null,null,0,null,null,null,0,null,null,null,0,null,null,null,0,null,null,null,null,null,null,"","","","",null,null,null,0,null,null,null,0,"","","",null,null,null,null,"","","","","","","","","","","","","","","",null,""]
[null,null,null,null,null,null,null,null,null,0,null,null,null,0,null,null,null,0,null,null,null,0,null,null,null,0,null,null,null,0,null,null,null,0,null,null,null,0,null,null,null,0,null,null,null,0,null,null,null,0,null,null,null,null,null,null,"","","","",null,null,null,0,null,null,null,0,"","","",null,null,null,null,"","","","","","","","","","","","","","","",null,""]
[null,null,null,null,null,null,null,null,null,0,null,null,null,0,null,null,null,0,null,null,null,0,null,null,null,0,null,null,null,0,null,null,null,0,null,null,null,0,null,null,null,0,null,null,null,0,null,null,null,0,null,null,null,null,null,null,"","","","",null,null,null,0,null,null,null,0,"","","",null,null,null,null,"","","","","","","","","","","","","","","",null,""]
[null,null,null,null,null,null,null,null,null,0,null,null,null,0,null,null,null,0,null,null,null,0,null,null,null,0,null,null,null,0,null,null,null,0,null,null,null,0,null,null,null,0,null,null,null,0,null,null,null,0,null,null,null,null,null,null,"","","","",null,null,null,0,null,null,null,0,"","","",null,null,null,null,"","","","","","","","","","","","","","","",null,""]
[null,null,null,null,null,null,null,null,null,0,null,null,null,0,null,null,null,0,null,null,null,0,null,null,null,0,null,null,null,0,null,null,null,0,null,null,null,0,null,null,null,0,null,null,null,0,null,null,null,0,null,null,null,null,null,null,"","","","",null,null,null,0,null,null,null,0,"","","",null,null,null,null,"","","","","","","","","","","","","","","",null,""]
[null,null,null,null,null,null,null,null,null,0,null,null,null,0,null,null,null,0,null,null,null,0,null,null,null,0,null,null,null,0,null,null,null,0,null,null,null,0,null,null,null,0,null,null,null,0,null,null,null,0,null,null,null,null,null,null,"","","","",null,null,null,0,null,null,null,0,"","","",null,null,null,null,"","","","","","","","","","","","","","","",null,""]
[null,null,null,null,null,null,null,null,null,0,null,null,null,0,null,null,null,0,null,null,null,0,null,null,null,0,null,null,null,0,null,null,null,0,null,null,null,0,null,null,null,0,null,null,null,0,null,null,null,0,null,null,null,null,null,null,"","","","",null,null,null,0,null,null,null,0,"","","",null,null,null,null,"","","","","","","","","","","","","","","",null,""]
[null,null,null,null,null,null,null,null,null,0,null,null,null,0,null,null,null,0,null,null,null,0,null,null,null,0,null,null,null,0,null,null,null,0,null,null,null,0,null,null,null,0,null,null,null,0,null,null,null,0,null,null,null,null,null,null,"","","","",null,null,null,0,null,null,null,0,"","","",null,null,null,null,"","","","","","","","","","","","","","","",null,""]
[null,null,null,null,null,null,null,null,null,0,null,null,null,0,null,null,null,0,null,null,null,0,null,null,null,0,null,null,null,0,null,null,null,0,null,null,null,0,null,null,null,0,null,null,null,0,null,null,null,0,null,null,null,null,null,null,"","","","",null,null,null,0,null,null,null,0,"","","",null,null,null,null,"","","","","","","","","","","","","","","",null,""]
[null,null,null,null,null,null,null,null,null,0,null,null,null,0,null,null,null,0,null,null,null,0,null,null,null,0,null,null,null,0,null,null,null,0,null,null,null,0,null,null,null,0,null,null,null,0,null,null,null,0,null,null,null,null,null,null,"","","","",null,null,null,0,null,null,null,0,"","","",null,null,null,null,"","","","","","","","","","","","","","","",null,""]
[null,null,null,null,null,null,null,null,null,0,null,null,null,0,null,null,null,0,null,null,null,0,null,null,null,0,null,null,null,0,null,null,null,0,null,null,null,0,null,null,null,0,null,null,null,0,null,null,null,0,null,null,null,null,null,null,"","","","",null,null,null,0,null,null,null,0,"","","",null,null,null,null,"","","","","","","","","","","","","","","",null,""]
[null,null,null,null,null,null,null,null,null,0,null,null,null,0,null,null,null,0,null,null,null,0,null,null,null,0,null,null,null,0,null,null,null,0,null,null,null,0,null,null,null,0,null,null,null,0,null,null,null,0,null,null,null,null,null,null,"","","","",null,null,null,0,null,null,null,0,"","","",null,null,null,null,"","","","","","","","","","","","","","","",null,""]
[null,null,null,null,null,null,null,null,null,0,null,null,null,0,null,null,null,0,null,null,null,0,null,null,null,0,null,null,null,0,null,null,null,0,null,null,null,0,null,null,null,0,null,null,null,0,null,null,null,0,null,null,null,null,null,null,"","","","",null,null,null,0,null,null,null,0,"","","",null,null,null,null,"","","","","","","","","","","","","","","",null,""]
[null,null,null,null,null,null,null,null,null,0,null,null,null,0,null,null,null,0,null,null,null,0,null,null,null,0,null,null,null,0,null,null,null,0,null,null,null,0,null,null,null,0,null,null,null,0,null,null,null,0,null,null,null,null,null,null,"","","","",null,null,null,0,null,null,null,0,"","","",null,null,null,null,"","","","","","","","","","","","","","","",null,""]
[null,null,null,null,null,null,null,null,null,0,null,null,null,0,null,null,null,0,null,null,null,0,null,null,null,0,null,null,null,0,null,null,null,0,null,null,null,0,null,null,null,0,null,null,null,0,null,null,null,0,null,null,null,null,null,null,"","","","",null,null,null,0,null,null,null,0,"","","",null,null,null,null,"","","","","","","","","","","","","","","",null,""]
[null,null,null,null,null,null,null,null,null,0,null,null,null,0,null,null,null,0,null,null,null,0,null,null,null,0,null,null,null,0,null,null,null,0,null,null,null,0,null,null,null,0,null,null,null,0,null,null,null,0,null,null,null,null,null,null,"","","","",null,null,null,0,null,null,null,0,"","","",null,null,null,null,"","","","","","","","","","","","","","","",null,""]
[null,null,null,null,null,null,null,null,null,0,null,null,null,0,null,null,null,0,null,null,null,0,null,null,null,0,null,null,null,0,null,null,null,0,null,null,null,0,null,null,null,0,null,null,null,0,null,null,null,0,null,null,null,null,null,null,"","","","",null,null,null,0,null,null,null,0,"","","",null,null,null,null,"","","","","","","","","","","","","","","",null,""]
[null,null,null,null,null,null,null,null,null,0,null,null,null,0,null,null,null,0,null,null,null,0,null,null,null,0,null,null,null,0,null,null,null,0,null,null,null,0,null,null,null,0,null,null,null,0,null,null,null,0,null,null,null,null,null,null,"","","","",null,null,null,0,null,null,null,0,"","","",null,null,null,null,"","","","","","","","","","","","","","","",null,""]
[null,null,null,null,null,null,null,null,null,0,null,null,null,0,null,null,null,0,null,null,null,0,null,null,null,0,null,null,null,0,null,null,null,0,null,null,null,0,null,null,null,0,null,null,null,0,null,null,null,0,null,null,null,null,null,null,"","","","",null,null,null,0,null,null,null,0,"","","",null,null,null,null,"","","","","","","","","","","","","","","",null,""]
[null,null,null,null,null,null,null,null,null,0,null,null,null,0,null,null,null,0,null,null,null,0,null,null,null,0,null,null,null,0,null,null,null,0,null,null,null,0,null,null,null,0,null,null,null,0,null,null,null,0,null,null,null,null,null,null,"","","","",null,null,null,0,null,null,null,0,"","","",null,null,null,null,"","","","","","","","","","","","","","","",null,""]
[null,null,null,null,null,null,null,null,null,0,null,null,null,0,null,null,null,0,null,null,null,0,null,null,null,0,null,null,null,0,null,null,null,0,null,null,null,0,null,null,null,0,null,null,null,0,null,null,null,0,null,null,null,null,null,null,"","","",{"$f":"IF($C693=\"\",\"\",SUM(J693,N693,R693,V693,Z693,AD693,AH693,AL693,AP693,AT693,AX693,BG693))","v":""},null,null,null,0,null,null,null,0,"","","",null,null,null,null,"","","","","","","","","","","","","","","",null,""]
[null,null,null,null,null,null,null,null,null,0,null,null,null,0,null,null,null,0,null,null,null,0,null,null,null,0,null,null,null,0,null,null,null,0,null,null,null,0,null,null,null,0,null,null,null,0,null,null,null,0,null,null,null,null,null,null,"","","","",null,null,null,0,null,null,null,0,"","","",null,null,null,null,"","","","","","","","","","","","","","","",null,""]
[null,null,null,null,null,null,null,null,null,0,null,null,null,0,null,null,null,0,null,null,null,0,null,null,null,0,null,null,null,0,null,null,null,0,null,null,null,0,null,null,null,0,null,null,null,0,null,null,null,0,null,null,null,null,null,null,"","","","",null,null,null,0,null,null,null,0,"","","",null,null,null,null,"","","","","","","","","","","","","","","",null,""]
[null,null,null,null,null,null,null,null,null,0,null,null,null,0,null,null,null,0,null,null,null,0,null,null,null,0,null,null,null,0,null,null,null,0,null,null,null,0,null,null,null,0,null,null,null,0,null,null,null,0,null,null,null,null,null,null,"","","","",null,null,null,0,null,null,null,0,"","","",null,null,null,null,"","","","","","","","","","","","","","","",null,""]
[null,null,null,null,null,null,null,null,null,0,null,null,null,0,null,null,null,0,null,null,null,0,null,null,null,0,null,null,null,0,null,null,null,0,null,null,null,0,null,null,null,0,null,null,null,0,null,null,null,0,null,null,null,null,null,null,"","","","",null,null,null,0,null,null,null,0,"","","",null,null,null,null,"","","","","","","","","","","","","","","",null,""]
[null,null,null,null,null,null,null,null,null,0,null,null,null,0,null,null,null,0,null,null,null,0,null,null,null,0,null,null,null,0,null,null,null,0,null,null,null,0,null,null,null,0,null,null,null,0,null,null,null,0,null,null,null,null,null,null,"","","","",null,null,null,0,null,null,null,0,"","","",null,null,null,null,"","","","","","","","","","","","","","","",null,""]
[null,null,null,null,null,null,null,null,null,0,null,null,null,0,null,null,null,0,null,null,null,0,null,null,null,0,null,null,null,0,null,null,null,0,null,null,null,0,null,null,null,0,null,null,null,0,null,null,null,0,null,null,null,null,null,null,"","","","",null,null,null,0,null,null,null,0,"","","",null,null,null,null,"","","","","","","","","","","","","","","",null,""]
[null,null,null,null,null,null,null,null,null,0,null,null,null,0,null,null,null,0,null,null,null,0,null,null,null,0,null,null,null,0,null,null,null,0,null,null,null,0,null,null,null,0,null,null,null,0,null,null,null,0,null,null,null,null,null,null,"","","","",null,null,null,0,null,null,null,0,"","","",null,null,null,null,"","","","","","","","","","","","","","","",null,""]
[null,null,null,null,null,null,null,null,null,{"$f":"IF($C701=\"\",\"\",SUM(G701,H701,I701))","v":""},null,null,null,{"$f":"IF($C701=\"\",\"\",SUM(K701,L701,M701))","v":""},null,null,null,{"$f":"IF($C701=\"\",\"\",SUM(O701,P701,Q701))","v":""},null,null,null,{"$f":"IF($C701=\"\",\"\",SUM(S701,T701,U701))","v":""},null,null,null,{"$f":"IF($C701=\"\",\"\",SUM(W701,X701,Y701))","v":""},null,null,null,{"$f":"IF($C701=\"\",\"\",SUM(AA701:AC701))","v":""},null,null,null,{"$f":"IF($C701=\"\",\"\",SUM(AE701,AF701,AG701))","v":""},null,null,null,{"$f":"IF($C701=\"\",\"\",SUM(AI701,AJ701,AK701))","v":""},null,null,null,{"$f":"IF($C701=\"\",\"\",SUM(AM701,AN701,AO701))","v":""},null,null,null,{"$f":"IF($C701=\"\",\"\",SUM(AQ701,AR701,AS701))","v":""},null,null,null,{"$f":"IF($C701=\"\",\"\",SUM(AU701,AV701,AW701))","v":""},null,null,null,null,null,null,"","","","",null,null,null,{"$f":"IF($C701=\"\",\"\",SUM(BI701,BJ701,BK701))","v":""},null,null,null,{"$f":"IF($C701=\"\",\"\",SUM(BM701,BN701,BO701))","v":""},"","","",null,null,null,null,"","","","","","","","","","","","","","",""]

{"sheet":"القانون","index":1,"n_rows":627,"n_cols":92,"rows_kept":627,"cut":false,"hidden":false,"merged":[[4,91,8,91],[4,84,8,84],[4,85,8,85],[4,86,8,86],[4,87,8,87],[4,88,8,88],[4,89,8,89],[2,91,3,91],[4,75,8,75],[4,76,8,76],[4,77,8,77],[4,78,8,78],[4,79,8,79],[4,80,8,80],[4,81,8,81],[4,82,8,82],[4,83,8,83],[5,57,6,57],[5,58,6,58],[5,60,6,60],[5,61,6,61],[5,62,6,62],[5,63,6,63],[5,48,6,48],[5,49,6,49],[5,50,5,51],[5,52,5,53],[5,54,5,55],[5,56,6,56],[5,42,6,42],[5,43,6,43],[5,44,6,44],[5,45,6,45],[5,46,6,46],[5,47,6,47],[5,36,6,36],[5,37,6,37],[5,38,6,38],[5,39,6,39],[5,40,6,40],[5,41,6,41],[5,30,6,30],[5,31,6,31],[5,32,6,32],[5,33,6,33],[5,34,6,34],[5,35,6,35],[5,24,6,24],[5,25,6,25],[5,26,6,26],[5,27,6,27],[5,28,6,28],[5,29,6,29],[5,18,6,18],[5,19,6,19],[5,20,6,20],[5,21,6,21],[5,22,6,22],[5,23,6,23],[5,12,6,12],[5,13,6,13],[5,14,6,14],[5,15,6,15],[5,16,6,16],[5,17,6,17],[5,6,6,6],[5,7,6,7],[5,8,6,8],[5,9,6,9],[5,10,6,10],[5,11,6,11],[4,59,6,59],[4,60,4,63],[4,64,4,67],[4,68,8,68],[4,69,8,69],[4,70,8,70],[5,64,6,64],[5,65,6,65],[5,66,6,66],[5,67,6,67],[4,30,4,33],[4,34,4,37],[4,38,4,41],[4,42,4,45],[4,46,4,49],[4,50,4,58],[4,6,4,9],[4,10,4,13],[4,14,4,17],[4,18,4,21],[4,22,4,25],[4,26,4,29],[4,0,8,0],[4,1,8,1],[4,2,8,2],[4,3,8,3],[4,4,8,4],[4,5,6,5]]}
[null,"بسم الله الرحمن الرحيم"]
[null,null,"ادارة طوخ التعليمية",null,null,null,null,null,null,null,null,null,null,null,null,null,null,null,null,null,null,null,"الصف الثانى - شعبة قانون"]
[null,null,"مدرسة العمار التجارية"]
[]
["مسلسل","رقم جلوس","الاســــــــــــــم","الفصــــــــــل","الحالــــــــة","السرى","لغة عربية",null,null,null,"لغة انجليزية",null,null,null,"لغة فرنسية",null,null,null,"محاسبة مالية",null,null,null,"احصاء",null,null,null,"اعمال وساطة",null,null,null,"قانون تجارى",null,null,null,"قانون مدنى",null,null,null,"قانون عقوبات",null,null,null,"قانون مرافعات",null,null,null,"علم نفس",null,null,null,"حاسب آلى",null,null,null,null,null,null,null,null,"مجموع كلى","مواطنة وحقوق انسان",null,null,null,"تربية دينية",null,null,null,"نتيجة","مواد الرسوب","عدد المواد",null,null,null,null,"عربى","انجليزى","فرنسى","محاسبة","احصاء","اعمال وساطة","قانون تجارى","قانون مدنى","قانون عقوبات","قانون مرافعات","علم نفس","حاسب","مواطنة","دين","مجموع",null,"مجموع نصف العام"]
[null,null,null,null,null,null,"اعمال السنة","نصف العام","آخر العام","المجموع","اعمال السنة","نصف العام","آخر العام","المجموع","اعمال السنة","نصف العام","آخر العام","المجموع","اعمال السنة","نصف العام","آخر العام","المجموع","اعمال السنة","نصف العام","آخر العام","المجموع","اعمال السنة","نصف العام","آخر العام","المجموع","اعمال السنة","نصف العام","آخر العام","المجموع","اعمال السنة","نصف العام","آخر العام","المجموع","اعمال السنة","نصف العام","آخر العام","المجموع","اعمال السنة","نصف العام","آخر العام","المجموع","اعمال السنة","نصف العام","آخر العام","المجموع","اعمال السنة",null,"نصف العام",null,"آخر العام",null,"مجموع عملى","مجموع تحريرى","مجموع",null,"اعمال السنة","نصف العام","آخر العام","المجموع","اعمال السنة","نصف العام","آخر العام","المجموع"]
[null,null,null,null,null,null,null,null,null,null,null,null,null,null,null,null,null,null,null,null,null,null,null,null,null,null,null,null,null,null,null,null,null,null,null,null,null,null,null,null,null,null,null,null,null,null,null,null,null,null,"عملى","تحريرى","عملى","تحريرى","عملى","تحريرى"]
[null,null,null,null,null,"عظمى",10,20,20,50,10,20,20,50,6,12,12,30,10,20,20,50,10,20,20,50,10,20,20,50,10,20,20,50,10,20,20,50,10,20,20,50,10,20,20,50,10,20,20,50,4,6,8,12,8,12,20,30,50,580,4,8,8,20,4,8,8,20]
[null,null,null,null,null,"صغرى",null,0,null,25,0,0,5,20,0,0,3,9,0,0,5,25,0,0,5,25,0,0,5,25,0,0,5,25,0,0,5,25,0,0,5,20,0,0,5,25,0,0,5,25,0,0,0,0,2,3,10,15,25,290,0,0,2,10,0,0,2,10]
[1,701,"ابراهيم السيد رفاعي حسين خميس","4/2","مستجد",501,6.5,9,14,{"$f":"SUM(G10:I10)","v":29.5},8,12.4,10,{"$f":"SUM(K10:M10)","v":30.4},5,8,7.2,{"$f":"SUM(O10:Q10)","v":20.2},8,1,16,{"$f":"SUM(S10:U10)","v":25},9,6,1,{"$f":"SUM(W10:Y10)","v":16},8.5,10.5,11,{"$f":"SUM(AA10:AC10)","v":30},8.5,4,13,{"$f":"SUM(AE10:AG10)","v":25.5},8,14,12,{"$f":"SUM(AI10:AK10)","v":34},8.5,19,10,{"$f":"SUM(AM10:AO10)","v":37.5},8,3,14,{"$f":"SUM(AM10:AP10)","v":75},7,11,15,{"$f":"SUM(AU10:AW10)","v":33},2.5,4,5,9,5,8,{"$f":"IF($C10=\"\",\"\",SUM(AY10,BA10,BC10))","v":12.5},21,{"$f":"IF($C10=\"\",\"\",SUM(BE10,BF10))","v":33.5},{"$f":"IF($C10=\"\",\"\",SUM(J10,N10,R10,V10,Z10,AD10,AH10,AL10,AP10,AT10,AX10,BG10))","v":389.6},4,6.5,"غ",{"$f":"SUM(BI10:BK10)","v":10.5},3,3,"غ",{"$f":"SUM(BM10:BO10)","v":6},{"$f":"IF($C10=\"\",\"\",IF(BS10=0,\"ناجحة\",IF(BS10<=2,\"دورثان\",\"راسبة\")))","v":"راسبة"},{"$f":"IF($C10=\"\",\"\",IF(BS10=0,\"ومنقولة للصف الثالث\",IF(BS10>0,\"فى  :  \"&CONCATENATE(BX10,BY10,BZ10,CA10,CB10,CC10,CD10,CE10,CF10,CG10,CH10,CI10,CJ10,CK10,CL10),CONCATENATE(BX10,BY10,BZ10,CA10,CB10,CC10,CD10,CE10,CF10,CG10,CH10,CI10,CJ10,CK10,CL10))))","v":"فى  :  احصاء - مواطنة - دين - "},{"$f":"IF($C10=\"\",\"\",COUNTA($BX10:$CL10)-COUNTBLANK($BX10:$CL10))","v":3},null,null,null,null,{"$f":"IF($C10=\"\",\"\",IF(OR(I10<$I$9,I10=\"غ\",J10<$J$9),$BX$5&\" - \",\"\"))","v":""},{"$f":"IF($C10=\"\",\"\",IF(OR(M10<$M$9,M10=\"غ\",N10<$N$9),$BY$5&\" - \",\"\"))","v":""},{"$f":"IF($C10=\"\",\"\",IF(OR(Q10<$Q$9,Q10=\"غ\",R10<$R$9),BZ$5&\" - \",\"\"))","v":""},{"$f":"IF($C10=\"\",\"\",IF(OR(U10<$U$9,U10=\"غ\",V10<$V$9),CA$5&\" - \",\"\"))","v":""},{"$f":"IF($C10=\"\",\"\",IF(OR(Y10<$Y$9,Y10=\"غ\",Z10<$Z$9),CB$5&\" - \",\"\"))","v":"احصاء - "},{"$f":"IF($C10=\"\",\"\",IF(OR(AC10<$AC$9,AC10=\"غ\",AD10<$AD$9),CC$5&\" - \",\"\"))","v":""},{"$f":"IF($C10=\"\",\"\",IF(OR(AG10<$AG$9,AG10=\"غ\",AH10<$AH$9),CD$5&\" - \",\"\"))","v":""},{"$f":"IF($C10=\"\",\"\",IF(OR(AK10<$AK$9,AK10=\"غ\",AL10<$AL$9),CE$5&\" - \",\"\"))","v":""},{"$f":"IF($C10=\"\",\"\",IF(OR(AO10<$AO$9,AO10=\"غ\",AP10<$AP$9),CF$5&\" - \",\"\"))","v":""},{"$f":"IF($C10=\"\",\"\",IF(OR(AS10<$AS$9,AS10=\"غ\",AT10<$AT$9),CG$5&\" - \",\"\"))","v":""},{"$f":"IF($C10=\"\",\"\",IF(OR(AW10<$AW$9,AW10=\"غ\",AX10<$AX$9),CH$5&\" - \",\"\"))","v":""},{"$f":"IF($C10=\"\",\"\",IF(OR(BE10<$BE$9,BE10=\"غ\",BF10<$BF$9,BF10=\"غ\",BG10<$BG$9),CI$5&\" - \",\"\"))","v":""},{"$f":"IF($C10=\"\",\"\",IF(OR(BK10<$BK$9,BK10=\"غ\",BL10<$BL$9),CJ$5&\" - \",\"\"))","v":"مواطنة - "},{"$f":"IF($C10=\"\",\"\",IF(OR(BO10<$BO$9,BO10=\"غ\",BP10<$BP$9),CK$5&\" - \",\"\"))","v":"دين - "},{"$f":"IF($C10=\"\",\"\",IF(BH10<$BH$9,CL$5,\"\"))","v":""},null,{"$f":"IF($C10=\"\",\"\",SUM(H10,L10,P10,T10,X10,AB10,AF10,AJ10,AN10,AR10,AV10,BA10,BB10))","v":111.9}]
[2,702,"ابراهيم علي علي امام علي","4/2","مستجد",502,7,12,13,32,8.5,15.6,12.8,36.900000000000006,5,7.2,7.2,19.399999999999999,8,0,17,25,9,7.5,2,18.5,8.5,11,10,29.5,8.5,6,13,27.5,8,12,12,32,8.5,19,14,41.5,8,5,13,{"$f":"SUM(AQ11:AS11)","v":26},7,13,16,36,2.5,4.5,6,9,6,8,14.5,21.5,36,360.3,4,7,"غ",11,3,3.5,"غ",6.5,"راسبة","فى  :  احصاء - مواطنة - دين - ",3,null,null,null,null,"","","","","احصاء - ","","","","","","","","مواطنة - ","دين - ","",null,123.30000000000001]
[3,703,"ابراهيم محمد عبد العليم محمد","4/2","مستجد",503,6,8.5,16,30.5,7.5,13.6,10.8,31.900000000000002,5.5,5.6,6.8,17.899999999999999,8,0,17,25,9,7,10,26,8.5,9,11,28.5,8,3,14,25,8,12,12,32,8,19,12,39,8,3,14,25,7,13,16,36,2.5,4,4,9,5,8,11.5,21,32.5,349.3,4,5.5,"غ",9.5,3,4.5,"غ",7.5,"دورثان","فى  :  مواطنة - دين - ",2,null,null,null,null,"","","","","","","","","","","","","مواطنة - ","دين - ","",null,106.7]
[4,704,"ابراهيم مسعد عبد المرضي عبد السلام","4/2","مستجد",504,6.5,10.5,11.5,28.5,7.5,13.6,11.6,32.700000000000003,5,6,8,19,7.5,0,17.5,25,9,6,5,20,8.5,10,11,29.5,8,5,12,25,8,14,13,35,8,19,14,41,8,0,17,25,7,13,11,31,2.5,4,5,9,5,8,12.5,21,33.5,345.2,4,5,5,14,3,1.5,6,10.5,"دورثان","فى  :  احصاء - ",1,null,null,null,null,"","","","","احصاء - ","","","","","","","","","","",null,111.1]
[5,705,"احمد اشرف السيد عفيفي مصطفى","4/2","مستجد",505,6.5,8,14.5,29,8,12.4,11.2,31.599999999999998,5,6,7.2,18.2,7.5,0,17.5,25,9,6,0,15,8.5,7,11,26.5,8,3,14,25,8,13,11,32,8,19,15,42,8,1,16,25,7,11,16,34,2.5,4,5,9,5,8,12.5,21,33.5,336.8,4,5,5,14,3,2.5,6,11.5,"دورثان","فى  :  احصاء - ",1,null,null,null,null,"","","","","احصاء - ","","","","","","","","","","",null,100.4]
[6,706,"احمد أشرف عبدالسميع على بيومي","4/2","مستجد",506,6.5,9.5,15.5,31.5,7.5,13.6,10.8,31.900000000000002,5,5.6,8.8000000000000007,19.399999999999999,8,0,17,25,9,6,0,15,8.5,9,10,27.5,8,8,12,28,8,13,12,33,8,17,15,40,8,2,15,25,7,10,16,33,2.5,4,6,9,6,8,14.5,21,35.5,344.8,3.5,5.5,5,14,3,2,5.5,10.5,"دورثان","فى  :  احصاء - ",1,null,null,null,null,"","","","","احصاء - ","","","","","","","","","","",null,108.7]
[7,707,"احمد السيد محمد السيد عيسوي","4/2","مستجد",507,6,7,14.5,27.5,7.5,12,11.6,31.1,5,7.6,8,20.6,8,0,17,25,9,7,0,16,8.5,12,11.5,32,8,6,11,25,8,10,11,29,8,18,14,40,8,1,16,25,7,11,15,33,2.5,4,5,9,5,8,12.5,21,33.5,337.7,4,5,5,14,3.5,0,6.5,10,"دورثان","فى  :  احصاء - ",1,null,null,null,null,"","","","","احصاء - ","","","","","","","","","","",null,105.6]
[8,708,"احمد انور عبد الوهاب عبد العظيم","4/2","مستجد",508,7.5,9.5,15,32,7.5,13.6,14,35.1,5.5,7.2,7.2,19.899999999999999,8,1.5,15.5,25,9,9,1,19,8.5,13,10.5,32,8,7,14,29,8.5,12,12,32.5,8,19,14,41,8,4,13,25,7,11,16,34,2.5,4,5,9,5,8,12.5,21,33.5,358,3.5,5,5,13.5,3,3.5,6,12.5,"دورثان","فى  :  احصاء - ",1,null,null,null,null,"","","","","احصاء - ","","","","","","","","","","",null,120.8]
[9,709,"احمد جمال الصادق منصور","4/2","مستجد",509,7,9,14.5,30.5,7.5,11.6,10.8,29.900000000000002,5.5,6.4,6.8,18.7,8,0,17,25,9,6.5,1,16.5,8.5,13,10,31.5,8,4,13,25,8.5,14,10,32.5,8,19,13,40,8,2,15,25,7,11,16,34,2.5,4,5,9,5,7,12.5,20,32.5,341.1,3.5,5,5,13.5,3,1.5,6,10.5,"دورثان","فى  :  احصاء - ",1,null,null,null,null,"","","","","احصاء - ","","","","","","","","","","",null,110.5]
[10,710,"احمد جمال فاروق عبد العليم عجلان","4/2","مستجد",510,7,9,15.5,31.5,8,14.4,11.6,34,5.5,5.2,6.8,17.5,8,0,12.5,20.5,9,6.5,1,16.5,8.5,10,11.5,30,8,5,12,25,8,13,12,33,8,16,14,38,8,2,15,25,7,12,15,34,2.5,4,5,9,5,8,12.5,21,33.5,338.5,3,5,5,13,3,4.5,6,13.5,"دورثان","فى  :  محاسبة - احصاء - ",2,null,null,null,null,"","","","محاسبة - ","احصاء - ","","","","","","","","","","",null,107.1]
[11,711,"احمد جمال محمود علي مصطفى خليل","4/2","مستجد",511,7,11,15,33,8,14.4,11.2,33.599999999999994,5.5,6.4,8,19.899999999999999,8,0,12,20,9,7,1,17,8.5,12,11.5,32,8,5,12,25,8,13,10,31,8,19,14,41,8,4,13,25,7,15,16,38,2.5,4.5,6,10,6,8,14.5,22.5,37,352.5,3,5,5,13,3,4.5,6.5,14,"دورثان","فى  :  محاسبة - احصاء - ",2,null,null,null,null,"","","","محاسبة - ","احصاء - ","","","","","","","","","","",null,122.8]
[12,712,"احمد سعيد عبدالباقي شحاته شكر","4/2","مستجد",512,7.5,10.5,15.5,33.5,8,13.2,12,33.200000000000003,5.5,6.4,7.6,19.5,8,0,17,25,9,8,1,18,8.5,11,11.5,31,8,7,13,28,8,12,11,31,8.5,19,12,39.5,8,4,13,25,7,12,17,36,2.5,4.5,5,10,5,8,12.5,22.5,35,354.7,3.5,5,5,13.5,3,3.5,5,11.5,"دورثان","فى  :  احصاء - ",1,null,null,null,null,"","","","","احصاء - ","","","","","","","","","","",null,118.1]
[13,713,"احمد علي علي امام","4/2","مستجد",513,7,9,13.5,29.5,8.5,12.8,11.2,32.5,5,6,6.4,17.399999999999999,8,0,17,25,9,10,1,20,8.5,13,12.5,34,8,6,12,26,8,13,11,32,8,19,13,40,8,6,11,25,7,13,17,37,2.5,4.5,6,9,6,8,14.5,21.5,36,354.4,3.5,5,5,13.5,3,3.5,5.5,12,"دورثان","فى  :  احصاء - ",1,null,null,null,null,"","","","","احصاء - ","","","","","","","","","","",null,122.8]
[14,714,"احمد محمد سامي حسين","4/2","مستجد",514,7,10.5,13,30.5,8,11.6,14,33.6,5,6,7.2,18.2,8,0,17,25,9,7.5,1,17.5,8.5,10,11.5,30,8.5,3,14,25.5,8.5,11,11,30.5,8.5,19,12,39.5,8,6,11,25,7,12,15,34,2.5,4,6,10,5,8,13.5,22,35.5,344.8,3.5,5.5,4.5,13.5,3,3.5,5.5,12,"دورثان","فى  :  احصاء - ",1,null,null,null,null,"","","","","احصاء - ","","","","","","","","","","",null,112.6]
[15,715,"احمد محمد عبده عطا","4/2","مستجد",515,6.5,4.5,14,25,7.5,12,12.8,32.299999999999997,5.5,6.4,6.8,18.7,8,0,17,25,9,7.5,0,16.5,8.5,9,10.5,28,8,0,17,25,8,9,10,27,8.5,15,12,35.5,8,5,12,25,7,11,16,34,2.5,4,5,10,5,8,12.5,22,34.5,326.5,3,5,4.5,12.5,3,3.5,5,11.5,"دورثان","فى  :  احصاء - ",1,null,null,null,null,"","","","","احصاء - ","","","","","","","","","","",null,94.4]
[16,716,"احمد محمد عزت محمد محمد خالد","4/2","مستجد",516,6.5,6.5,15,28,7.5,13.2,13.2,33.9,5,6,8,19,7.5,0,17.5,25,9,6.5,0,15.5,8.5,6,11,25.5,8.5,8,12,28.5,8,13,12,33,8,19,14,41,8,2,16,26,7,12,16,35,2.5,4,5,10,5,8,12.5,22,34.5,344.9,3.5,5.5,5,14,3,2.5,5.5,11,"دورثان","فى  :  احصاء - ",1,null,null,null,null,"","","","","احصاء - ","","","","","","","","","","",null,107.2]
[17,717,"احمد محمود زكي بربش","4/2","مستجد",517,6.5,9,12.5,28,7.5,10.4,10.8,28.7,5,6.4,7.6,19,7.5,0,12.5,20,9,12,5.5,26.5,8.5,11,11.5,31,8.5,3,14,25.5,8,11,12,31,8,18,12,38,8,1,16,25,7,10,15,32,2.5,4,6,9,6,7,14.5,20,34.5,339.2,3.5,4.5,1,9,3,3.5,6,12.5,"دورثان","فى  :  محاسبة - مواطنة - ",2,null,null,null,null,"","","","محاسبة - ","","","","","","","","","مواطنة - ","","",null,106.8]
[18,718,"احمد محمود عبدالرسول ابراهيم عطيه نصر","4/2","مستجد",518,6.5,10.5,14,31,7,9.1999999999999993,11.6,27.799999999999997,5,6.4,7.6,19,7.5,0,17.5,25,9,9,7,25,8.5,8,11.5,28,8,5,"غ",13,8,9,14,31,8.5,17,14,39.5,8,2,15,25,7,9,14,30,2.5,4,5,8,6,7,13.5,19,32.5,326.8,3.5,6,"غ",9.5,3,3.5,6,12.5,"دورثان","فى  :  قانون تجارى - مواطنة - ",2,null,null,null,null,"","","","","","","قانون تجارى - ","","","","","","مواطنة - ","","",null,98.1]
[19,719,"احمد مصطفي عبد العليم مصطفي يحيي","4/2","مستجد",519,6.5,9.5,11,27,8,12.8,13.2,34,5.5,7.6,6.8,19.899999999999999,8,0,17,25,9,9.5,6.5,25,8.5,8,11.5,28,8,3,14,25,8,10,12,30,8.5,17,14,39.5,8,3,14,25,7,8,16,31,2.5,4,5,7,5,7,12.5,18,30.5,339.9,3.5,5.5,2.5,11.5,3,4,6,13,"ناجحة","ومنقولة للصف الثالث",0,null,null,null,null,"","","","","","","","","","","","","","","",null,100.4]
[20,720,"احمد وحيد فؤاد هلال","4/2","مستجد",520,6,9.5,13,28.5,8,10.8,12,30.8,5.5,5.6,7.6,18.7,8,0,17,25,9,10,8,27,8.5,9,11.5,29,8.5,4,13,25.5,8,7,14,29,8.5,17,14,39.5,8,2,15,25,7,11,13,31,2.5,4.5,6,10,6,8,14.5,22.5,37,346,3.5,5,2.5,11,3,3.5,6,12.5,"ناجحة","ومنقولة للصف الثالث",0,null,null,null,null,"","","","","","","","","","","","","","","",null,101.9]
[21,721,"ادهم رضا عفيفي عفيفي ","4/2","مستجد",521,7,9,12.5,28.5,8,10.4,11.6,30,5.5,7.2,8,20.7,8,0,17,25,9,7,9,25,8.5,9,11.5,29,8.5,5,13,26.5,7.5,9,12,28.5,8.5,17,12,37.5,8,2,15,25,7,5,17,29,3,4,6,8,6,8,15,20,35,339.7,3.5,5,2.5,11,3,3.5,6,12.5,"ناجحة","ومنقولة للصف الثالث",0,null,null,null,null,"","","","","","","","","","","","","","","",null,94.6]
[22,722,"اسامة وحيد السيد متولي","4/2","مستجد",522,6.5,12.5,12.5,31.5,7.5,10.4,10.8,28.7,5.5,6.4,7.6,19.5,8,0,12.5,20.5,9,10.5,8.5,28,8.5,7,11,26.5,8,8,13,29,8,9,12,29,8,16,12,36,8,2,15,25,7,4,16,27,2.5,4,5,10,6,7,13.5,21,34.5,335.2,3.5,6.5,3.5,13.5,3,3.5,6.5,13,"دورثان","فى  :  محاسبة - ",1,null,null,null,null,"","","","محاسبة - ","","","","","","","","","","","",null,100.8]
[23,723,"السيد ابراهيم السيد ابراهيم","4/2","مستجد",523,6,9,"غ",15,8,8,10.8,26.8,5.5,5.6,"غ",11.1,7.5,0,13.5,21,9,"غ","غ",9,8.5,"غ",12,20.5,8,"غ","غ",8,8,10,13,31,8,16,12,36,8,1,16,25,8,"غ",17,25,2.5,4,5,6,5,8,12.5,18,30.5,258.89999999999998,3.5,5,"غ",8.5,3,"غ","غ",3,"راسبة","فى  :  عربى - فرنسى - محاسبة - احصاء - اعمال وساطة - قانون تجارى - مواطنة - دين - مجموع",9,null,null,null,null,"عربى - ","","فرنسى - ","محاسبة - ","احصاء - ","اعمال وساطة - ","قانون تجارى - ","","","","","","مواطنة - ","دين - ","مجموع",null,60.6]
[24,724,"انس أحمد حامد محمد","4/2","مستجد",524,6.5,3,15.5,25,8,8.4,11.6,28,5.5,4.8,8,18.3,8,0,17,25,9,5,7,21,8.5,7,11.5,27,8,0,17,25,8.5,9,12,29.5,8,17,12,37,8,2,15,25,7,"غ",12,19,2.5,4,4,7,5,8,11.5,19,30.5,310.3,3.5,5,3.5,12,3.5,2,4.5,10,"دورثان","فى  :  احصاء - علم نفس - ",2,null,null,null,null,"","","","","احصاء - ","","","","","","علم نفس - ","","","","",null,67.2]
[25,725,"جمال سامي محمد حسن أبو العلا","4/2","مستجد",525,8,13.5,16,37.5,8.5,15.2,16.399999999999999,40.099999999999994,5.5,6.8,7.6,19.899999999999999,8,12,10,30,9,18,9,36,8.5,14,12.5,35,8.5,9,14,31.5,8,13,15,36,8.5,19,16,43.5,8,6.5,14,28.5,7,13,17,37,2.5,4,5,10,5,8,12.5,22,34.5,409.5,3.5,5.5,4.5,13.5,4,4,6,14,"ناجحة","ومنقولة للصف الثالث",0,null,null,null,null,"","","","","","","","","","","","","","","",null,155]
[26,726,"جمال عبد الرسول سلامة موسي","4/2","مستجد",526,6.5,9,12,27.5,8,10.8,10.4,29.200000000000003,5.5,5.6,8,19.100000000000001,7.5,0,17.5,25,9,6.5,9.5,25,8.5,10,10.5,29,9,2,14,25,8,11,11,30,9,17,12,38,8,0,17,25,7,13,13,33,2.5,4,4,8,5,7,11.5,19,30.5,336.3,3.5,5,2.5,11,3,2.5,6,11.5,"ناجحة","ومنقولة للصف الثالث",0,null,null,null,null,"","","","","","","","","","","","","","","",null,96.9]
[27,727,"حسام شحاته محمدي الطوخي","4/2","مستجد",527,6.5,7,11.5,25,7.5,7.2,8.8000000000000007,23.5,5.5,5.6,6.8,17.899999999999999,8,0,9.5,17.5,9,10.5,1,20.5,8.5,10,7.5,26,8,0,17,25,7.5,11,10,28.5,8,17,12,37,8.5,3,13.5,25,7,10,14,31,2.5,4,4,7,5,8,11.5,19,30.5,307.39999999999998,3,4.5,0,7.5,3.5,1,5.5,10,"راسبة","فى  :  محاسبة - احصاء - مواطنة - ",3,null,null,null,null,"","","","محاسبة - ","احصاء - ","","","","","","","","مواطنة - ","","",null,92.3]
[28,728,"حسام عبد الحميد محمد المسعد","4/2","مستجد",528,7.5,13,15.5,36,8,12,12.4,32.4,5,7.2,8,20.2,8,3,14,25,9,8.5,8.5,26,8.5,14,11.5,34,8.5,0,17,25.5,7.5,11,13,31.5,8.5,19,14,41.5,8.5,5.5,13,27,7,12,16,35,2.5,4,4,10,6,8,12.5,22,34.5,368.6,3,5.5,3.5,12,3,4.5,5.5,13,"ناجحة","ومنقولة للصف الثالث",0,null,null,null,null,"","","","","","","","","","","","","","","",null,119.2]
[29,729,"حسام علي عبد الغني علي","4/2","مستجد",529,7,11,15,33,7.5,9.6,15.2,32.299999999999997,5.5,4,6.4,15.9,8,3,14,25,9,9.5,9,27.5,8.5,7,10.5,26,8.5,5,13,26.5,7.5,12,13,32.5,8.5,16,14,38.5,8,2,15,25,7,10,16,33,3,4,5,10,5,8,13,22,35,350.2,3.5,6,3.5,13,3,4,6,13,"ناجحة","ومنقولة للصف الثالث",0,null,null,null,null,"","","","","","","","","","","","","","","",null,104.1]
[30,730,"حسين رجب سليمان حسين","4/2","مستجد",530,7,4.5,13.5,25,7.5,8,12,27.5,5.5,4.8,7.2,17.5,8,0,17,25,9,7,6,22,8.5,9,11.5,29,8.5,7,13,28.5,7.5,12,11,30.5,8.5,15,14,37.5,8,1,16,25,7,12,16,35,2.5,4,4,9,5,8,11.5,21,32.5,335,3,5,3.5,11.5,3,4.5,6,13.5,"دورثان","فى  :  احصاء - ",1,null,null,null,null,"","","","","احصاء - ","","","","","","","","","","",null,93.3]
[31,731,"حلمي أشرف حلمي عبد العظيم","4/2","مستجد",531,8,8,16.5,32.5,7.5,12.4,13.6,33.5,5.5,5.2,"غ",10.7,7.5,0.5,17,25,9,12,9,30,8.5,9,11.5,29,8.5,6,14,28.5,7.5,12,15,34.5,8.5,17,14,{"$f":"[1]ورقة2!AY40","v":0},8,2,15,25,7,10,16,33,2.5,4,4,11,5,8,11.5,23,34.5,316.2,3.5,5,4,12.5,3,4,6,13,"دورثان","فى  :  فرنسى - قانون عقوبات - ",2,null,null,null,null,"","","فرنسى - ","","","","","","قانون عقوبات - ","","","","","","",null,109.1]
[32,732,"حلمي حمادة حلمي محمود","4/2","مستجد",532,6.5,11,14.5,{"$f":"SUM(G41:I41)","v":32},7.5,6.8,8,22.3,5,3.2,7.2,15.399999999999999,8,0,17,25,9,5.5,10.5,25,8.5,11,11.5,31,8,7,13,28,7.5,9,12,28.5,8,17,17,{"$f":"[1]ورقة2!AY41","v":0},8,4,13,25,7,12,14,33,2.5,4,6,7,6,8,{"$f":"IF($C41=\"\",\"\",SUM(AY41,BA41,BC41))","v":14.5},19,33.5,298.7,3,5,3.5,11.5,3,4.5,6.5,14,"دورثان","فى  :  قانون عقوبات - ",1,null,null,null,null,"","","","","","","","","قانون عقوبات - ","","","","","","",null,99.5]
[33,733,"حمدي مصطفي علي مصطفي","4/2","مستجد",533,6.5,9,12.5,28,8,12,14.8,34.799999999999997,5.5,2.4,6.8,14.7,8,10,11.5,29.5,9,11.5,9,29.5,8.5,14,11,33.5,8,11,13,32,8,10,7,25,8,18,14,{"$f":"[1]ورقة2!AY42","v":0},8,5,12,25,7,16,16,39,2.5,4,4,10,6,8,12.5,22,34.5,325.5,3.5,7.5,3.5,14.5,3,5.5,6,14.5,"دورثان","فى  :  قانون عقوبات - ",1,null,null,null,null,"","","","","","","","","قانون عقوبات - ","","","","","","",null,132.9]
[34,734,"حمدي ممدوح حمد السيد","4/2","مستجد",534,7,13,13,33,7.5,12,16.399999999999999,35.9,5.5,4.8,6.4,16.700000000000003,8,10.5,13,31.5,9,12,9.5,30.5,8.5,13,11,32.5,8,8,13,29,8.5,10,8,26.5,8,19,16,{"$f":"[1]ورقة2!AY43","v":0},8,5,12,25,7,12,16,35,2.5,4,5,11,5,8,12.5,23,35.5,331.1,3,7,3.5,13.5,3,5,6.5,14.5,"دورثان","فى  :  قانون عقوبات - ",1,null,null,null,null,"","","","","","","","","قانون عقوبات - ","","","","","","",null,135.30000000000001]
[35,735,"حمدي وائل حمدي عبد العزيز","4/2","مستجد",535,7,13,12,32,7.5,12,14.4,33.9,5.5,3.6,6.4,15.5,8,8.5,12,28.5,9,11,1,21,8.5,14,8,30.5,8.5,6,13,27.5,7.5,4,14,25.5,8.5,20,14,{"$f":"[1]ورقة2!AY44","v":0},8,3,9,20,7,15,17,39,2.5,4,6,11,5,8,13.5,23,36.5,309.89999999999998,3,7,4.5,14.5,3,6,6,15,"راسبة","فى  :  احصاء - قانون عقوبات - قانون مرافعات - ",3,null,null,null,null,"","","","","احصاء - ","","","","قانون عقوبات - ","قانون مرافعات - ","","","","","",null,127.1]
[36,736,"خالد عبد القادر عبد القادر محمد","4/2","مستجد",536,8,15,12.5,35.5,7.5,12.8,16.8,37.1,5.5,4,6.4,15.9,8,12.5,12.5,33,9,14.5,0,23.5,8.5,14,10,32.5,9,6,13,28,8,8,9,25,9,19,14,{"$f":"[1]ورقة2!AY45","v":0},8,5,12,25,7,14,16,37,3,4.5,6,11,6,8,15,23.5,38.5,331,3,7,5.5,15.5,3,6.5,6,15.5,"دورثان","فى  :  احصاء - قانون عقوبات - ",2,null,null,null,null,"","","","","احصاء - ","","","","قانون عقوبات - ","","","","","","",null,141.80000000000001]
[37,737,"خالد محي الدين مظهر عبد المجيد","4/2","مستجد",537,7.5,13,11.5,32,8,14,16.8,38.799999999999997,5.5,4.8,8.4,18.700000000000003,8,9.5,11.5,29,9,11.5,0,20.5,8.5,13,11.5,33,8,9,13,30,8.5,8,12,28.5,8,18,16,{"$f":"[1]ورقة2!AY46","v":0},8,3,10,21,7,15,16,38,3,4.5,6,11,6,7,15,22.5,37.5,327,3.5,7.5,4.5,15.5,3,5,6.5,14.5,"راسبة","فى  :  احصاء - قانون عقوبات - قانون مرافعات - ",3,null,null,null,null,"","","","","احصاء - ","","","","قانون عقوبات - ","قانون مرافعات - ","","","","","",null,135.80000000000001]
[38,738,"خالد يوسف لطفي عبد المحسن","4/2","مستجد",538,7,8,10.5,25.5,8,12,14.4,34.4,5.5,2.8,6.8,15.100000000000001,8,11,11,30,9,11.5,11.5,32,8.5,12.5,11.5,32.5,8.5,9,13,30.5,8,3,14,25,8.5,19,12,{"$f":"[1]ورقة2!AY47","v":0},8,3,7,18,7,11,14,32,2.5,4,5,11,6,8,13.5,23,36.5,311.5,3,6.5,5,14.5,3,4.5,5.5,13,"دورثان","فى  :  قانون عقوبات - قانون مرافعات - ",2,null,null,null,null,"","","","","","","","","قانون عقوبات - ","قانون مرافعات - ","","","","","",null,118.8]
[39,739,"رزق محمد رزق معوض","4/2","مستجد",539,8,12.5,11.5,32,7.5,12,15.6,35.1,5.5,3.6,6.8,15.899999999999999,7.5,11.5,11.5,30.5,9,10.5,11.5,31,8.5,15,10,33.5,8,9,13,30,7.5,9,9,25.5,8,19,14,{"$f":"[1]ورقة2!AY48","v":0},8,3,14,25,7,15,14,36,2.5,4,5,11,5,7,12.5,22,34.5,329,3.5,5,5,13.5,3,5.5,6,14.5,"دورثان","فى  :  قانون عقوبات - ",1,null,null,null,null,"","","","","","","","","قانون عقوبات - ","","","","","","",null,136.1]
[40,740,"سعد مسعد سعد المغازي","4/2","مستجد",540,7.5,10,10.5,28,7.5,14.4,16.399999999999999,38.299999999999997,5.5,6.8,7.6,19.899999999999999,8,9.5,13,30.5,9,11,11,31,8.5,15,10.5,34,8,9,13,30,8,10,13,31,8,16,12,{"$f":"[1]ورقة2!AY49","v":0},8,3,14,25,7,12,15,34,2.5,4.5,6,11,6,8,14.5,23.5,38,339.7,3,8,5,16,3,5,6,14,"دورثان","فى  :  قانون عقوبات - ",1,null,null,null,null,"","","","","","","","","قانون عقوبات - ","","","","","","",null,133.69999999999999]
[41,741,"سليمان مصطفي سليمان عبد العزيز","4/2","مستجد",541,7,9.5,9.5,26,8,12.4,13.2,33.599999999999994,5.5,4.4000000000000004,6.4,16.3,8,8.5,11.5,28,9,12,9,30,8.5,13,11.5,33,8,9,13,30,8,4,13,25,8,19,15,{"$f":"[1]ورقة2!AY50","v":0},8.5,2,14.5,25,7,12,12,31,2.5,4.5,5,10,6,8,13.5,22.5,36,313.89999999999998,3.5,7,5,15.5,3,3,5,11,"دورثان","فى  :  قانون عقوبات - ",1,null,null,null,null,"","","","","","","","","قانون عقوبات - ","","","","","","",null,120.8]
[42,742,"عبد الرحمن سراج الدين محمد عباس","4/2","مستجد",542,7,7.5,10.5,25,8.5,11.2,13.6,33.299999999999997,5.5,5.6,6.4,17.5,8,7,12,27,9,10.5,1,20.5,8.5,13,10,31.5,8.5,9,13,30.5,8,4,13,25,8.5,19,15,{"$f":"[1]ورقة2!AY51","v":0},8.5,4,12.5,25,7,12,12,31,3,4.5,6,10.5,6,8,15,23,38,304.3,3.5,5.5,5,14,3,4.5,6,13.5,"دورثان","فى  :  احصاء - قانون عقوبات - ",2,null,null,null,null,"","","","","احصاء - ","","","","قانون عقوبات - ","","","","","","",null,119.3]
[43,743,"عبد السميع جمال عبد السميع علي","5/2","مستجد",543,7,11.5,10,28.5,8,12.4,16.399999999999999,36.799999999999997,5,4.4000000000000004,5.6,15,7.5,8,13,28.5,9,11,6,26,7.5,14,10,31.5,8.5,9,13,30.5,8,15,5,28,8.5,19,14,{"$f":"[1]ورقة2!AY52","v":0},8.5,3,13.5,25,6.5,15,11,32.5,3,4,5,10.5,5,7,13,21.5,34.5,316.8,3,7,5,15,3,5.5,4.5,13,"دورثان","فى  :  قانون عقوبات - ",1,null,null,null,null,"","","","","","","","","قانون عقوبات - ","","","","","","",null,137.80000000000001]
[44,744,"عبد الفتاح سامي عبد الفتاح يوسف","5/2","مستجد",544,7,12,10.5,29.5,8,12,14.8,34.799999999999997,5,4.8,6,15.8,7.5,10.5,11.5,29.5,9.5,11,9,29.5,7.5,14,11.5,33,8.5,7,13,28.5,8,15,8,31,8.5,18,14,{"$f":"[1]ورقة2!AY53","v":0},8.5,3,13.5,25,6.5,14,15,35.5,3,4,5,11,6,8,14,23,37,329.1,3,6,5,14,3,5,5,13,"دورثان","فى  :  قانون عقوبات - ",1,null,null,null,null,"","","","","","","","","قانون عقوبات - ","","","","","","",null,137.30000000000001]
[45,745,"عبد الله السيد محمد اسماعيل","5/2","مستجد",545,7,12.5,12,31.5,8,12,15.2,35.200000000000003,5,4.8,6.8,16.600000000000001,7.5,10.5,12,30,9.5,10.5,0,20,7.5,14.5,11.5,33.5,9,9,13,31,8,13,10,31,9,19,15,{"$f":"[1]ورقة2!AY54","v":0},8.5,4.5,12,25,6.5,11,15,32.5,3,4,6,11,5,7,14,22,36,322.3,3,5.5,5,13.5,3,5,6,14,"دورثان","فى  :  احصاء - قانون عقوبات - ",2,null,null,null,null,"","","","","احصاء - ","","","","قانون عقوبات - ","","","","","","",null,138.30000000000001]
[46,746,"عبدالله احمد محمد فرج النجار","5/2","مستجد",546,7,9,12,28,8,11.6,16.8,36.400000000000006,5,5.2,6.8,17,7.5,9,11,27.5,9.5,10,1,20.5,8,13,10.5,31.5,8,9,13,30,8,12,9,29,8,19,17,{"$f":"[1]ورقة2!AY55","v":0},8.5,5.5,11,25,6.5,11,15,32.5,3,4,5,11,5,7,13,22,35,312.39999999999998,3,6.5,4.5,14,3,5,5.5,13.5,"دورثان","فى  :  احصاء - قانون عقوبات - ",2,null,null,null,null,"","","","","احصاء - ","","","","قانون عقوبات - ","","","","","","",null,130.30000000000001]
[47,747,"عبد الله سامي محمد البيومي علام","5/2","مستجد",547,7,9,9,25,8,12.4,16,36.4,5.5,4,7.2,16.7,7.5,7.5,13.5,28.5,9.5,11,6.5,27,8,14,12,34,8,7,14,29,7.5,14,5,26.5,8,14,14,{"$f":"[1]ورقة2!AY56","v":0},8.5,3,13.5,25,7,13,16,36,3,4,5,11,5,8,13,23,36,320.10000000000002,3,5,5,13,3,5.5,5,13.5,"دورثان","فى  :  قانون عقوبات - ",1,null,null,null,null,"","","","","","","","","قانون عقوبات - ","","","","","","",null,124.9]
[48,748,"عبد الله طلعت عبد السلام محمد","5/2","مستجد",548,7,12.5,10.5,30,8,12.4,16.8,37.200000000000003,5.5,4,6.8,16.3,8,8.5,11.5,28,9.5,11,6.5,27,7.5,14,12.5,34,8.5,9,13,30.5,8,13,7,28,8.5,18,15,{"$f":"[1]ورقة2!AY57","v":0},8.5,3,13.5,25,7,12,15,34,3,4,6,11,5,8,14,23,37,327,3,6.5,4.5,14,3,5.5,4,12.5,"دورثان","فى  :  قانون عقوبات - ",1,null,null,null,null,"","","","","","","","","قانون عقوبات - ","","","","","","",null,134.4]
[49,749,"عبد الله محمود عبد الرحمن محمد","5/2","مستجد",549,7,12,13,32,8,10.8,13.6,32.4,5,7.2,8,20.2,8,7.5,13,28.5,9.5,17.5,11.5,38.5,8,12,11.5,31.5,8.5,9,13,30.5,8.5,15,15,38.5,8.5,17,14,{"$f":"[1]ورقة2!AY58","v":0},8.5,3.5,13,25,7,14,15,36,3,4,6,9,6,8,15,21,36,349.1,3,6,5,14,3,5.5,5,13.5,"دورثان","فى  :  قانون عقوبات - ",1,null,null,null,null,"","","","","","","","","قانون عقوبات - ","","","","","","",null,140.5]
[50,750,"عبد الله وائل عبد الله سعد حسيني","5/2","مستجد",550,7,6.5,15,28.5,8,8,11.2,27.2,5.5,6.8,7.2,19.5,7.5,4.5,13.5,25.5,9.5,14,10.5,34,7.5,10,11.5,29,8.5,5,12,25.5,7.5,14,14,35.5,8.5,15,12,{"$f":"[1]ورقة2!AY59","v":0},8,3.5,13.5,25,6,13,14,33,3,4,6,8,5,7,14,19,33,315.7,3,4.5,5,12.5,3,4.5,5,12.5,"دورثان","فى  :  قانون عقوبات - ",1,null,null,null,null,"","","","","","","","","قانون عقوبات - ","","","","","","",null,114.3]
[51,751,"عبد الله ياسر عبد الله تهامي","5/2","مستجد",551,7,10.5,16,33.5,8,8.4,12.4,28.799999999999997,5,6,7.2,18.2,7.5,6,13.5,27,9.5,8,8.5,26,7.5,8,11.5,27,8,6,13,27,8,15,12,35,8,17,12,{"$f":"[1]ورقة2!AY60","v":0},8,2,16,26,6.5,11,11,28.5,3,4,6,7,5,7,14,18,32,309,3,4.5,4,11.5,3,4.5,4,11.5,"دورثان","فى  :  قانون عقوبات - ",1,null,null,null,null,"","","","","","","","","قانون عقوبات - ","","","","","","",null,110.9]
[52,752,"عصام جمال عبد الناصر عبد الهادي","5/2","مستجد",552,7,9.5,15,31.5,8,12,16,36,4.5,6,6.8,17.3,8,4,13,25,9.5,12.5,9,31,7.5,8,11.5,27,8,5,12,25,7.5,15,15,37.5,8,17,12,{"$f":"[1]ورقة2!AY61","v":0},8.5,2,15,25.5,6.5,12,13,31.5,3,4,5,10,5,7,13,21,34,321.3,3,6,5,14,3,5.5,5,13.5,"دورثان","فى  :  قانون عقوبات - ",1,null,null,null,null,"","","","","","","","","قانون عقوبات - ","","","","","","",null,118]
[53,753,"علاء مختار فؤاد هلالي","5/2","مستجد",553,7,7,11,25,8,13.2,11.2,32.4,4.5,4.4000000000000004,7.6,16.5,8,3,14,25,9.5,8,4,21.5,8,9,10.5,27.5,8,6,12,26,8,14,14,36,8,18,11,{"$f":"[1]ورقة2!AY62","v":0},8,2,15,25,7,10,13,30,3,4,5,9,5,6,13,19,32,296.89999999999998,3,4.5,4.5,12,3,3.5,4.5,11,"دورثان","فى  :  احصاء - قانون عقوبات - ",2,null,null,null,null,"","","","","احصاء - ","","","","قانون عقوبات - ","","","","","","",null,108.6]
[54,754,"علي السيد علي رجب","5/2","مستجد",554,7,13,9.5,29.5,8,10.8,12.4,31.200000000000003,5,6,7.6,18.600000000000001,8,4.5,13,25.5,9.5,10,7,26.5,7.5,10,11.5,29,8,5,12,25,8,14,14,36,8,17,12,{"$f":"[1]ورقة2!AY63","v":0},8,3,14,25,7,13,14,34,3,4,5,10,5,7,13,21,34,314.3,3,6,5,14,3,5,4.5,12.5,"دورثان","فى  :  قانون عقوبات - ",1,null,null,null,null,"","","","","","","","","قانون عقوبات - ","","","","","","",null,121.3]
[55,755,"عمار عبد الباقي محمد البكري جاد","5/2","مستجد",555,7,11,12.5,30.5,8,12,12.4,32.4,5,6.4,7.6,19,8,4.5,13.5,26,9.5,8,7.5,25,8,10,10.5,28.5,8.5,4,13,25.5,8,14,14,36,8.5,17,12,{"$f":"[1]ورقة2!AY64","v":0},8,2,9,19,7,7,12,26,3,4,5,10,5,7,13,21,34,301.89999999999998,3,7.5,5,15.5,3,4.5,3.5,11,"دورثان","فى  :  قانون عقوبات - قانون مرافعات - ",2,null,null,null,null,"","","","","","","","","قانون عقوبات - ","قانون مرافعات - ","","","","","",null,110.9]
[56,756,"عمر عبد العزيز أحمد أحمد","5/2","مستجد",556,7,7.5,14.5,29,8,7.2,13.2,28.4,5,6.4,7.6,19,7.5,0.5,12,20,9.5,8,7.5,25,7,7,11.5,25.5,8,5,12,25,7.5,13,13,33.5,8,16,12,{"$f":"[1]ورقة2!AY65","v":0},8,0,7,15,7,6,13,26,3,4,5,11,5,7,13,22,35,281.39999999999998,3,4,4,11,3,4,5,12,"راسبة","فى  :  محاسبة - قانون عقوبات - قانون مرافعات - مجموع",4,null,null,null,null,"","","","محاسبة - ","","","","","قانون عقوبات - ","قانون مرافعات - ","","","","","مجموع",null,92.6]
[57,757,"عمر عبد العليم كامل محمود","5/2","مستجد",557,7,8.5,15.5,31,8,9.6,13.2,30.8,5.5,6,6.4,17.899999999999999,7.5,0,13,20.5,9.5,7,6,22.5,8,8,11.5,27.5,8,6,12,26,7.5,12,14,33.5,8,17,14,{"$f":"[1]ورقة2!AY66","v":0},8.5,4,12.5,25,7,9,12,28,3,4,5,11,5,7,13,22,35,297.7,3,4,5,12,3,4.5,5,12.5,"راسبة","فى  :  محاسبة - احصاء - قانون عقوبات - ",3,null,null,null,null,"","","","محاسبة - ","احصاء - ","","","","قانون عقوبات - ","","","","","","",null,103.1]
[58,758,"عمر وائل عمر محمد الشبراوي","5/2","مستجد",558,7,10.5,16.5,34,8,12.8,13.6,34.4,5.5,8.4,8.8000000000000007,22.700000000000003,8,8,12.5,28.5,9.5,15,14,38.5,8,11,11.5,30.5,8.5,7,12,27.5,7.5,13,14,34.5,8.5,18,13,{"$f":"[1]ورقة2!AY67","v":0},8,4,13,25,6.5,13,14,33.5,3,4,5,11,5,7,13,22,35,344.1,3.5,6,5,14.5,3,4.5,5,12.5,"دورثان","فى  :  قانون عقوبات - ",1,null,null,null,null,"","","","","","","","","قانون عقوبات - ","","","","","","",null,136.69999999999999]
[59,759,"عمرو سعيد السيد رضوان علي","5/2","مستجد",559,7,10,15.5,32.5,8,8.8000000000000007,12.4,29.200000000000003,5.5,7.6,6.4,19.5,7.5,7.5,11.5,26.5,9.5,8,8,25.5,8,10,10.5,28.5,8.5,6,13,27.5,7.5,14,14,35.5,8.5,19,14,{"$f":"[1]ورقة2!AY68","v":0},8,5,12,25,6.5,11,16,33.5,3,4,5,11,6,8,14,23,37,320.2,3.5,6,5,14.5,3,5,6.5,14.5,"دورثان","فى  :  قانون عقوبات - ",1,null,null,null,null,"","","","","","","","","قانون عقوبات - ","","","","","","",null,122.9]
[60,760,"عمرو عبد الرحمن عثمان علي","5/2","مستجد",560,7,7,11,25,8,8.4,12,28.4,5.5,6,6.8,18.3,7.5,5.5,12.5,25.5,9.5,9,7,25.5,8,11,11.5,30.5,8.5,4,13,25.5,8,13,14,35,8,19,12,{"$f":"[1]ورقة2!AY69","v":0},8,2,4,14,7,8,"غ",15,3,4,6,10,5,8,14,22,36,278.7,3.5,4.5,5,13,3,4.5,5,12.5,"راسبة","فى  :  قانون عقوبات - قانون مرافعات - علم نفس - مجموع",4,null,null,null,null,"","","","","","","","","قانون عقوبات - ","قانون مرافعات - ","علم نفس - ","","","","مجموع",null,108.9]
[61,761,"فتحي نور الدين فتحي الجوهري","5/2","مستجد",561,7,14,14.5,35.5,8,11.6,14.4,34,5,7.6,7.6,20.2,7.5,9,12.5,29,9.5,14,9,32.5,8,10,11.5,29.5,8,8,13,29,8,13,15,36,8,19,14,{"$f":"[1]ورقة2!AY70","v":0},8.5,5,11.5,25,6.5,11,13,30.5,3,4,5,11,5,8,13,23,36,337.2,3,4,5,12,3,4.5,5.5,13,"دورثان","فى  :  قانون عقوبات - ",1,null,null,null,null,"","","","","","","","","قانون عقوبات - ","","","","","","",null,138.19999999999999]
[62,762,"قاسم محمد قاسم محمد محمد","5/2","مستجد",562,7,12.5,12,31.5,8,11.2,13.6,32.799999999999997,5,8,7.2,20.2,7.5,12,12,31.5,9.5,15,9.5,34,8,13,11.5,32.5,8,7,13,28,8,15,16,39,8,19,14,{"$f":"[1]ورقة2!AY71","v":0},8,8.5,9,25.5,6.5,12,13,31.5,3,4,5,11,5,8,13,23,36,342.5,3.5,3.5,5,12,3,5,5.5,13.5,"دورثان","فى  :  قانون عقوبات - ",1,null,null,null,null,"","","","","","","","","قانون عقوبات - ","","","","","","",null,149.19999999999999]
[63,763,"كريم عربي عبد المعبود محمد","5/2","مستجد",563,7,9.5,12.5,29,8,12.8,16,36.799999999999997,5,4.8,8,17.8,8,0,17,25,9.5,5,3.5,18,8,11,10.5,29.5,8,6,13,27,8,12,12,32,8,17,10,{"$f":"[1]ورقة2!AY72","v":0},8.5,7,11,26.5,6.5,14,16,36.5,3,4,5,4,6,7,14,15,29,307.10000000000002,3,5.5,4,12.5,3,3.5,5,11.5,"دورثان","فى  :  احصاء - قانون عقوبات - ",2,null,null,null,null,"","","","","احصاء - ","","","","قانون عقوبات - ","","","","","","",null,108.1]
[64,764,"مبروك فج النور مبروك اسماعيل","5/2","مستجد",564,7,10.5,10.5,28,8,14.4,14,36.4,5,6.8,6.8,18.600000000000001,7.5,0,17.5,25,9.5,5,0,14.5,8.5,9,7.5,25,8,4,13,25,8,14,11,33,8,18,14,{"$f":"[1]ورقة2!AY73","v":0},8.5,10,11,29.5,6.5,14,16,36.5,3,4,6,4,6,7,{"$f":"IF($C73=\"\",\"\",SUM(AY73,BA73,BC73))","v":15},15,30,301.5,3,6.5,4,13.5,3,4,6.5,13.5,"دورثان","فى  :  احصاء - قانون عقوبات - ",2,null,null,null,null,"","","","","احصاء - ","","","","قانون عقوبات - ","","","","","","",null,115.7]
[65,765,"مجدي أحمد حسين محمد ","5/2","مستجد",565,7,10,13,30,8,15.6,16.399999999999999,{"$f":"SUM(K74:M74)","v":40},5,4.8,6.4,{"$f":"SUM(O74:Q74)","v":16.200000000000003},7.5,0,"غ",{"$f":"SUM(S74:U74)","v":7.5},9.5,5,0,{"$f":"SUM(W74:Y74)","v":14.5},7.5,11,11.5,{"$f":"SUM(AA74:AC74)","v":30},8.5,7,13,{"$f":"SUM(AE74:AG74)","v":28.5},7.5,12,11,{"$f":"SUM(AI74:AK74)","v":30.5},8.5,14,13,{"$f":"[1]ورقة2!AY74","v":0},8,5,12,{"$f":"SUM(AQ74:AS74)","v":25},6.5,14,13,{"$f":"SUM(AU74:AW74)","v":33.5},3,4,5,4,5,7,13,15,{"$f":"IF($C74=\"\",\"\",SUM(BE74,BF74))","v":28},{"$f":"IF($C74=\"\",\"\",SUM(J74,N74,R74,V74,Z74,AD74,AH74,AL74,AP74,AT74,AX74,BG74))","v":283.7},3.5,6.5,4.5,{"$f":"SUM(BI74:BK74)","v":14.5},3,4.5,6,{"$f":"SUM(BM74:BO74)","v":13.5},{"$f":"IF($C74=\"\",\"\",IF(BS74=0,\"ناجحة\",IF(BS74<=2,\"دورثان\",\"راسبة\")))","v":"راسبة"},{"$f":"IF($C74=\"\",\"\",IF(BS74=0,\"ومنقولة للصف الثالث\",IF(BS74>0,\"فى  :  \"&CONCATENATE(BX74,BY74,BZ74,CA74,CB74,CC74,CD74,CE74,CF74,CG74,CH74,CI74,CJ74,CK74,CL74),CONCATENATE(BX74,BY74,BZ74,CA74,CB74,CC74,CD74,CE74,CF74,CG74,CH74,CI74,CJ74,CK74,CL74))))","v":"فى  :  محاسبة - احصاء - قانون عقوبات - مجموع"},{"$f":"IF($C74=\"\",\"\",COUNTA($BX74:$CL74)-COUNTBLANK($BX74:$CL74))","v":4},null,null,null,null,{"$f":"IF($C74=\"\",\"\",IF(OR(I74<$I$9,I74=\"غ\",J74<$J$9),$BX$5&\" - \",\"\"))","v":""},{"$f":"IF($C74=\"\",\"\",IF(OR(M74<$M$9,M74=\"غ\",N74<$N$9),$BY$5&\" - \",\"\"))","v":""},{"$f":"IF($C74=\"\",\"\",IF(OR(Q74<$Q$9,Q74=\"غ\",R74<$R$9),BZ$5&\" - \",\"\"))","v":""},{"$f":"IF($C74=\"\",\"\",IF(OR(U74<$U$9,U74=\"غ\",V74<$V$9),CA$5&\" - \",\"\"))","v":"محاسبة - "},{"$f":"IF($C74=\"\",\"\",IF(OR(Y74<$Y$9,Y74=\"غ\",Z74<$Z$9),CB$5&\" - \",\"\"))","v":"احصاء - "},{"$f":"IF($C74=\"\",\"\",IF(OR(AC74<$AC$9,AC74=\"غ\",AD74<$AD$9),CC$5&\" - \",\"\"))","v":""},{"$f":"IF($C74=\"\",\"\",IF(OR(AG74<$AG$9,AG74=\"غ\",AH74<$AH$9),CD$5&\" - \",\"\"))","v":""},{"$f":"IF($C74=\"\",\"\",IF(OR(AK74<$AK$9,AK74=\"غ\",AL74<$AL$9),CE$5&\" - \",\"\"))","v":""},{"$f":"IF($C74=\"\",\"\",IF(OR(AO74<$AO$9,AO74=\"غ\",AP74<$AP$9),CF$5&\" - \",\"\"))","v":"قانون عقوبات - "},{"$f":"IF($C74=\"\",\"\",IF(OR(AS74<$AS$9,AS74=\"غ\",AT74<$AT$9),CG$5&\" - \",\"\"))","v":""},{"$f":"IF($C74=\"\",\"\",IF(OR(AW74<$AW$9,AW74=\"غ\",AX74<$AX$9),CH$5&\" - \",\"\"))","v":""},{"$f":"IF($C74=\"\",\"\",IF(OR(BE74<$BE$9,BE74=\"غ\",BF74<$BF$9,BF74=\"غ\",BG74<$BG$9),CI$5&\" - \",\"\"))","v":""},{"$f":"IF($C74=\"\",\"\",IF(OR(BK74<$BK$9,BK74=\"غ\",BL74<$BL$9),CJ$5&\" - \",\"\"))","v":""},{"$f":"IF($C74=\"\",\"\",IF(OR(BO74<$BO$9,BO74=\"غ\",BP74<$BP$9),CK$5&\" - \",\"\"))","v":""},{"$f":"IF($C74=\"\",\"\",IF(BH74<$BH$9,CL$5,\"\"))","v":"مجموع"},null,{"$f":"IF($C74=\"\",\"\",SUM(H74,L74,P74,T74,X74,AB74,AF74,AJ74,AN74,AR74,AV74,BA74,BB74))","v":107.4}]
[66,766,"محمد ابراهيم محمد حسانين","5/2","مستجد",566,7,7.5,10.5,25,8,14,12.4,34.4,5,5.2,6.4,16.600000000000001,8,2,15.5,25.5,9.5,3.5,0,13,8,7,10,25,8.5,8,13,29.5,8,12,9,29,8.5,18,13,{"$f":"[1]ورقة2!AY75","v":0},8,4,13,25,6,15,15,36,3,4,6,4,5,7,14,15,29,288,3.5,6.5,5,15,3,4.5,6,13.5,"راسبة","فى  :  احصاء - قانون عقوبات - مجموع",3,null,null,null,null,"","","","","احصاء - ","","","","قانون عقوبات - ","","","","","","مجموع",null,106.2]
[67,767,"محمد احمد شحاته شهوان","5/2","مستجد",567,7,10.5,12.5,30,8,11.6,14,33.6,5,5.2,7.2,17.399999999999999,7.5,0,17.5,25,9.5,6.5,12,28,8,9,11.5,28.5,8,6,13,27,8,12,10,30,8,17,13,{"$f":"[1]ورقة2!AY76","v":0},8,8,10,26,6.5,13,18,37.5,3,4,6,4,6,7,15,15,30,313,3,6.5,4.5,14,3,3.5,6.5,13,"دورثان","فى  :  قانون عقوبات - ",1,null,null,null,null,"","","","","","","","","قانون عقوبات - ","","","","","","",null,108.8]
[68,768,"محمد اسامه محمد يوسف محمد","5/2","مستجد",568,7,11,13.5,31.5,8,17.600000000000001,13.6,39.200000000000003,5,4.4000000000000004,7.2,16.600000000000001,7.5,3.5,15.5,26.5,9.5,8.5,12.5,30.5,8,13,10.5,31.5,8.5,8,13,29.5,8,14,10,32,8.5,18,13,{"$f":"[1]ورقة2!AY77","v":0},8.5,6,11,25.5,6.5,14,17,37.5,3,4,5,4,5,7,13,15,28,328.3,3.5,6.5,4.5,14.5,3,4.5,5,12.5,"دورثان","فى  :  قانون عقوبات - ",1,null,null,null,null,"","","","","","","","","قانون عقوبات - ","","","","","","",null,127]
[69,769,"محمد أحمد محمد محمود","5/2","مستجد",569,7,11,14.5,32.5,8,17.2,15.2,40.4,5,5.2,6,16.2,7.5,0,10.5,18,9.5,7,3.5,20,8,11,11.5,30.5,8,7,13,28,8,12,11,31,8,18,13,{"$f":"[1]ورقة2!AY78","v":0},8,10,10,28,7,11,16,34,3,4,5,4,5,7,13,15,28,306.60000000000002,3.5,6,4,13.5,3,4.5,5.5,13,"راسبة","فى  :  محاسبة - احصاء - قانون عقوبات - ",3,null,null,null,null,"","","","محاسبة - ","احصاء - ","","","","قانون عقوبات - ","","","","","","",null,118.4]
[70,770,"محمد أسامة عزت السيد محمد","5/2","مستجد",570,7,10,15.5,32.5,8,15.2,13.6,36.799999999999997,5,3.6,7.6,16.2,7.5,0,17.5,25,9.5,6,0,15.5,8,10,11.5,29.5,8,5,12,25,8,12,11,31,8,17,13,{"$f":"[1]ورقة2!AY79","v":0},8,8,10,26,6.5,15,17,38.5,3,4,6,4,6,7,15,15,30,306,3,6.5,4,13.5,3,1,6,10,"دورثان","فى  :  احصاء - قانون عقوبات - ",2,null,null,null,null,"","","","","احصاء - ","","","","قانون عقوبات - ","","","","","","",null,111.8]
[71,771,"محمد أيمن سليمان جبر","5/2","مستجد",571,7,11,15,33,8.5,14.4,14,36.9,5,6.4,6.8,18.2,8,1.5,15.5,25,9.5,7,5.5,22,8,13,10.5,31.5,8,7,13,28,8,12,11,31,8,18,13,{"$f":"[1]ورقة2!AY80","v":0},8.5,8,10,26.5,7,15,17,39,3,4,5,4,5,7,13,15,28,319.10000000000002,3,6.5,5.5,15,3,4.5,5.5,13,"دورثان","فى  :  احصاء - قانون عقوبات - ",2,null,null,null,null,"","","","","احصاء - ","","","","قانون عقوبات - ","","","","","","",null,122.3]
[72,772,"محمد أيمن كمال كامل السيد","5/2","مستجد",572,7,12,13.5,32.5,8,15.6,14,37.6,5,6.4,7.2,18.600000000000001,8,0,17.5,25.5,9.5,6,5,20.5,8,11,11.5,30.5,8,6,13,27,8,13,15,36,8,18,13,{"$f":"[1]ورقة2!AY81","v":0},8.5,11,10,29.5,6.5,14,16,36.5,3,4,5,4,6,7,14,15,29,323.2,3,6.5,3.5,13,3,4.5,6.5,14,"دورثان","فى  :  احصاء - قانون عقوبات - ",2,null,null,null,null,"","","","","احصاء - ","","","","قانون عقوبات - ","","","","","","",null,122]
[73,773,"محمد بكري عبد العزيز حسن علي","5/2","مستجد",573,7,13.5,15,35.5,8,16.399999999999999,16.8,41.2,5,8,8.4,21.4,7.5,0,17.5,25,9.5,6.5,5.5,21.5,8,13,11.5,32.5,8,5,14,27,8,12,13,33,8,16,14,{"$f":"[1]ورقة2!AY82","v":0},8.5,7,10,25.5,6.5,14,18,38.5,3,4,5,4,6,7,14,15,29,330.1,3,5.5,4,12.5,3,5,6.5,14.5,"دورثان","فى  :  احصاء - قانون عقوبات - ",2,null,null,null,null,"","","","","احصاء - ","","","","قانون عقوبات - ","","","","","","",null,120.4]
[74,774,"محمد جاد أحمد عبد الرحمن","5/2","مستجد",574,7,11.5,15,33.5,8,16,17.2,41.2,5,7.2,7.2,19.399999999999999,8,0,17.5,25.5,9.5,6,5,20.5,7,10.5,11.5,29,8,6,13,27,8,13,13,34,8,18,12,{"$f":"[1]ورقة2!AY83","v":0},8.5,10,10,28.5,6.5,15,17,38.5,3,4,6,4,6,7,15,15,30,327.10000000000002,3,6.5,4.5,14,3,4.5,6,13.5,"دورثان","فى  :  احصاء - قانون عقوبات - ",2,null,null,null,null,"","","","","احصاء - ","","","","قانون عقوبات - ","","","","","","",null,123.2]
[75,775,"محمد جمال اسماعيل السيد علي","5/2","مستجد",575,7,11,13,31,8,14,9.6,31.6,5.5,6.8,8.4,20.700000000000003,8,0,17.5,25.5,9.5,5.5,0,15,8,10,9,27,8,6,13,27,8,14,11,33,8,17,14,{"$f":"[1]ورقة2!AY84","v":0},8.5,9,10,27.5,6,14,17,37,3,4,5,4,6,7,14,15,29,304.3,3.5,7.5,3.5,14.5,3,5,6,14,"دورثان","فى  :  احصاء - قانون عقوبات - ",2,null,null,null,null,"","","","","احصاء - ","","","","قانون عقوبات - ","","","","","","",null,116.3]
[76,776,"محمد جمال السيد حسن","5/2","مستجد",576,7,14,14,35,9,16.399999999999999,17.2,42.599999999999994,5,8,8.4,21.4,8,2.5,14.5,25,9.5,10.5,7.5,27.5,8,14,14,36,8.5,14,13,35.5,8.5,17,13,38.5,8.5,18,12,{"$f":"[1]ورقة2!AY85","v":0},8.5,12,13,33.5,6.5,15,17,38.5,3,4,5,4,5,7,13,15,28,361.5,4,6.5,5.5,16,3,7.5,7,17.5,"دورثان","فى  :  قانون عقوبات - ",1,null,null,null,null,"","","","","","","","","قانون عقوبات - ","","","","","","",null,150.4]
[77,777,"محمد ربيع السيد شحاته","5/2","مستجد",577,7,13,12.5,32.5,8,16.8,14,38.799999999999997,5,8,8.4,21.4,8,2,11.5,21.5,9.5,7,5,21.5,8,13,13.5,34.5,8.5,4,13,25.5,8,13,13,34,8.5,17,11,{"$f":"[1]ورقة2!AY86","v":0},8,10,13,31,7,14,17,38,3,4,5,4,5,7,13,15,28,326.7,3,6.5,4.5,14,3,5,7,15,"راسبة","فى  :  محاسبة - احصاء - قانون عقوبات - ",3,null,null,null,null,"","","","محاسبة - ","احصاء - ","","","","قانون عقوبات - ","","","","","","",null,126.8]
[78,778,"محمد رضا مصطفي عبد العزيز","5/2","مستجد",578,7,7.5,13,27.5,8,10,13.6,31.6,5,6.4,7.2,18.600000000000001,7.5,0,8,15.5,9.5,5.5,1,16,8,9,11.5,28.5,8,4,13,25,8,10,13,31,8,17,11,{"$f":"[1]ورقة2!AY87","v":0},8,9,10,27,6.5,13,17,36.5,3,4,5,4,5,7,13,15,28,285.2,3,6.5,4.5,14,3,3,7,13,"راسبة","فى  :  محاسبة - احصاء - قانون عقوبات - مجموع",4,null,null,null,null,"","","","محاسبة - ","احصاء - ","","","","قانون عقوبات - ","","","","","","مجموع",null,100.4]
[79,779,"محمد سالم سليمان محمد","5/2","مستجد",579,7,7,12.5,26.5,8,12,11.6,31.6,5,5.2,7.6,17.799999999999997,7.5,0,14,21.5,9.5,11,8,28.5,8,9,10.5,27.5,8,4,14,26,8,15,11,34,8,16,13,{"$f":"[1]ورقة2!AY88","v":0},8.5,8,10,26.5,6,10,14,30,3,4,5,5,5,7,13,16,29,298.89999999999998,3.5,6,4,13.5,3,5,7,15,"دورثان","فى  :  محاسبة - قانون عقوبات - ",2,null,null,null,null,"","","","محاسبة - ","","","","","قانون عقوبات - ","","","","","","",null,107.2]
[80,780,"محمد سمير محمود محمد نصر","5/2","مستجد",580,7,11.5,15,33.5,8,13.2,14,35.200000000000003,5,5.2,7.6,17.799999999999997,7.5,0,11,18.5,9.5,11.5,12.5,33.5,8,9,11.5,28.5,8.5,8,12,28.5,8,15,13,36,8.5,16,16,{"$f":"[1]ورقة2!AY89","v":0},8,5,12,25,6,10,15,31,3,4,5,5,5,7,13,16,29,316.5,3.5,4.5,3.5,11.5,3,5,6.5,14.5,"دورثان","فى  :  محاسبة - قانون عقوبات - ",2,null,null,null,null,"","","","محاسبة - ","","","","","قانون عقوبات - ","","","","","","",null,114.4]
[81,781,"محمد صلاح عفيفي أحمد نصر","5/2","مستجد",581,7,11,14.5,32.5,8,12.4,12.8,33.200000000000003,5,5.2,7.6,17.799999999999997,7.5,0,11,18.5,9.5,9,0,18.5,7,5,13,25,8.5,0,17,25.5,7.5,15,12,34.5,8.5,13,13,{"$f":"[1]ورقة2!AY90","v":0},8,8,10,26,7,9,15,31,3,4,5,5,5,7,13,16,29,291.5,3,5.5,5,13.5,3,4,5.5,12.5,"راسبة","فى  :  محاسبة - احصاء - قانون عقوبات - ",3,null,null,null,null,"","","","محاسبة - ","احصاء - ","","","","قانون عقوبات - ","","","","","","",null,97.6]
[82,782,"محمد عبد الرحمن محمد عبد الغني","5/2","مستجد",582,7,9.5,15,31.5,8,14.4,16,38.4,5,6.4,8.8000000000000007,20.200000000000003,8,0.5,16.5,25,9.5,12,12,33.5,8,10,11.5,29.5,8,9,13,30,8,16,12,36,8,13,13,{"$f":"[1]ورقة2!AY91","v":0},8.5,13,11,32.5,7,14,18,39,3,4,5,5,5,7,13,16,29,344.6,3,6,5,14,3,4.5,7,14.5,"دورثان","فى  :  قانون عقوبات - ",1,null,null,null,null,"","","","","","","","","قانون عقوبات - ","","","","","","",null,127.8]
[83,783,"محمد عبد العزيز عبد الحليم عبد العزيز","6/2","مستجد",583,7,10,15.5,32.5,7,13.2,12.4,32.6,5.5,4.4000000000000004,8,17.899999999999999,7,3,15,25,9,9,10.5,28.5,7.5,6.5,11,25,8.5,5,12,25.5,7.5,15,11,33.5,8.5,12,13,{"$f":"[1]ورقة2!AY92","v":0},8,6,11,25,7,5,13,25,2.5,4,5,6,5,7,12.5,17,29.5,300,3,6.5,3,12.5,3,5,6.5,14.5,"دورثان","فى  :  قانون عقوبات - ",1,null,null,null,null,"","","","","","","","","قانون عقوبات - ","","","","","","",null,100.1]
[84,784,"محمد عرفة محمد عرفة عبد الباقي","6/2","مستجد",584,7.5,7,10.5,25,7,11.2,12,30.2,5.5,4.4000000000000004,7.2,17.100000000000001,7.5,0,11,18.5,9,11,12,32,8,10,10.5,28.5,8.5,7,12,27.5,7.5,15,12,34.5,8.5,13,13,{"$f":"[1]ورقة2!AY93","v":0},8,8,10,26,6,7,15,28,2.5,4,5,6,5,7,12.5,17,29.5,296.8,3,6.5,2.5,12,3,3.5,5.5,12,"دورثان","فى  :  محاسبة - قانون عقوبات - ",2,null,null,null,null,"","","","محاسبة - ","","","","","قانون عقوبات - ","","","","","","",null,104.6]
[85,785,"محمد عزت عبده  محمد عفيفي","6/2","مستجد",585,7,10.5,15,32.5,7,12.4,12.4,31.799999999999997,5.5,5.6,7.2,18.3,7.5,0,17.5,25,9.5,9,11,29.5,7,6.5,11.5,25,8.5,6,12,26.5,7.5,14,12,33.5,8.5,12,13,{"$f":"[1]ورقة2!AY94","v":0},8,7,10,25,7,6,16,29,2.5,4,5,6,5,7,12.5,17,29.5,305.60000000000002,3,6,3.5,12.5,3,4.5,6.5,14,"دورثان","فى  :  قانون عقوبات - ",1,null,null,null,null,"","","","","","","","","قانون عقوبات - ","","","","","","",null,100]
[86,786,"محمد عمر جمعة بيومي","6/2","مستجد",586,7,12,16,35,7,12,15.2,34.200000000000003,5.5,5.2,8.4,19.100000000000001,7.5,4.5,15.5,27.5,9.5,12.5,12.5,34.5,8,13.5,13.5,35,8.5,10,14,32.5,8,14,12,34,8.5,16,13,{"$f":"[1]ورقة2!AY95","v":0},8,6,12,26,6.5,12,18,36.5,2.5,4,4,5,5,7,11.5,16,27.5,341.8,3,6,4,13,3,6,8,17,"دورثان","فى  :  قانون عقوبات - ",1,null,null,null,null,"","","","","","","","","قانون عقوبات - ","","","","","","",null,126.7]
[87,787,"محمد عوني محمد فوزي يوسف","6/2","مستجد",587,7,12.5,16.5,36,9,16,17.2,42.2,5.5,4.8,7.6,17.899999999999999,7.5,16.5,14.5,38.5,9.5,13.5,11.5,34.5,8,13.5,14.5,36,8.5,10,13,31.5,8,15,12,35,8.5,17,13,{"$f":"[1]ورقة2!AY96","v":0},8,5,13,26,5.5,11,18,34.5,2.5,4.5,5,5,6,7,13.5,16.5,30,362.1,3.5,6,4.5,14,3,5,8,16,"دورثان","فى  :  قانون عقوبات - ",1,null,null,null,null,"","","","","","","","","قانون عقوبات - ","","","","","","",null,144.80000000000001]
[88,788,"محمد فهمي عبد الحميد محمد بدر","6/2","مستجد",588,7,10,14,31,9,13.6,14.8,37.400000000000006,5.5,4,8.4,17.899999999999999,7.5,0,17.5,25,9,11.5,12.5,33,8,6,11.5,25.5,8.5,9,13,30.5,8,15,11,34,8.5,15,13,{"$f":"[1]ورقة2!AY97","v":0},8,4,13,25,7,11,14,32,2.5,4.5,6,5,5,7,13.5,16.5,30,321.3,3,6.5,4.5,14,3,6,7.5,16.5,"دورثان","فى  :  قانون عقوبات - ",1,null,null,null,null,"","","","","","","","","قانون عقوبات - ","","","","","","",null,110.1]
[89,789,"محمد فيصل علي ابراهيم عبد العاطي","6/2","مستجد",589,7,8,14.5,29.5,7,10.4,12,29.4,5.5,4,6.4,15.9,7.5,0,17.5,25,9,7,12,28,8,10,11.5,29.5,8,0,17,25,7.5,14,12,33.5,8,13,13,{"$f":"[1]ورقة2!AY98","v":0},8,4,13,25,7,6,17,30,2.5,4,5,5,5,7,12.5,16,28.5,299.3,3.5,6.5,4,14,3,4.5,6.5,14,"دورثان","فى  :  قانون عقوبات - ",1,null,null,null,null,"","","","","","","","","قانون عقوبات - ","","","","","","",null,86.4]
[90,790,"محمد كمال علي موسي علي","6/2","مستجد",590,7,12,15.5,34.5,8.5,13.2,12,33.700000000000003,5.5,4,8,17.5,7.5,0,11.5,19,9,12,0,21,8,8.5,11.5,28,8,3,14,25,7.5,15,12,34.5,8,13,13,{"$f":"[1]ورقة2!AY99","v":0},8,4,13,25,7,12,14,33,2.5,4,5,6,6,7,13.5,17,30.5,301.7,3,4.5,4.5,12,3,4.5,7.5,15,"راسبة","فى  :  محاسبة - احصاء - قانون عقوبات - ",3,null,null,null,null,"","","","محاسبة - ","احصاء - ","","","","قانون عقوبات - ","","","","","","",null,107.7]
[91,791,"محمد ماهر عبد الهادي شكر","6/2","مستجد",591,7,6.5,11.5,25,8.5,8.4,12.8,29.7,5.5,3.6,8,17.100000000000001,7.5,0,17.5,25,9,7.5,12,28.5,8,7,14,29,8,3,14,25,7.5,14,10,31.5,8,16,13,{"$f":"[1]ورقة2!AY100","v":0},8.5,4,12.5,25,7,8,16,31,2.5,4,5,6,5,7,12.5,17,29.5,296.3,3,4.5,4,11.5,3,5.5,7.5,16,"دورثان","فى  :  قانون عقوبات - ",1,null,null,null,null,"","","","","","","","","قانون عقوبات - ","","","","","","",null,89]
[92,792,"محمد مجدي فتحي محمود السيد","6/2","مستجد",592,7,9,14.5,30.5,7,12.8,13.6,33.4,5.5,4.4000000000000004,7.2,17.100000000000001,7.5,0,17.5,25,9,10.5,11.5,31,8,0,11.5,19.5,8,0,17,25,7.5,15,12,34.5,8,15,12,{"$f":"[1]ورقة2!AY101","v":0},8.5,8,10,26.5,5.5,0,12,17.5,2.5,4,4,6,5,7,11.5,17,28.5,288.5,3.5,5,4,12.5,3,5,6,14,"راسبة","فى  :  اعمال وساطة - قانون عقوبات - علم نفس - مجموع",4,null,null,null,null,"","","","","","اعمال وساطة - ","","","قانون عقوبات - ","","علم نفس - ","","","","مجموع",null,84.7]
[93,793,"محمد محمود حمدي عثمان اسماعيل","6/2","مستجد",593,7,10.5,12.5,30,7,"غ",15.2,22.2,5.5,4.8,8,18.3,7.5,0,17.5,25,9,11,12.5,32.5,8,10,11.5,29.5,8.5,5,12,25.5,8,14,12,34,8,13,13,{"$f":"[1]ورقة2!AY102","v":0},8,5,13,26,9,"غ",16,25,2.5,4,6,6,6,7,14.5,17,31.5,299.5,3,3.5,4,10.5,3,3,8,14,"دورثان","فى  :  قانون عقوبات - ",1,null,null,null,null,"","","","","","","","","قانون عقوبات - ","","","","","","",null,85.3]
[94,794,"محمد محمود محمد السعيد","6/2","مستجد",594,7,11,15.5,33.5,8.5,14.4,16,38.9,5.5,6.8,8,20.3,7.5,12,15.5,35,9,13,11.5,33.5,7,9,13,29,8,9,12,29,8,12,13,33,8,15,13,{"$f":"[1]ورقة2!AY103","v":0},8,8,10,26,7,12,14,33,2.5,4,5,4,6,7,13.5,15,28.5,339.7,3,6.5,5.5,15,3,6,8,17,"دورثان","فى  :  قانون عقوبات - ",1,null,null,null,null,"","","","","","","","","قانون عقوبات - ","","","","","","",null,131.19999999999999]
[95,795,"محمد مسعد سعيد عبد القادر","6/2","مستجد",595,7,8.5,14,29.5,7,16.399999999999999,14.8,38.200000000000003,5.5,5.6,7.6,18.7,7,14,13.5,34.5,9,13,0,22,8,6,11.5,25.5,8,7,11,26,7.5,11,9,27.5,8,13,13,{"$f":"[1]ورقة2!AY104","v":0},8,8,10,26,6,12,14,32,3,4.5,5,4,5,7,13,15.5,28.5,308.39999999999998,3,5.5,4.5,13,3,5,7,15,"دورثان","فى  :  احصاء - قانون عقوبات - ",2,null,null,null,null,"","","","","احصاء - ","","","","قانون عقوبات - ","","","","","","",null,123.5]
[96,796,"محمد مغاوري رمضان مغاوري","6/2","مستجد",596,7,8.5,13.5,{"$f":"SUM(G105:I105)","v":29},9,12.8,11.6,33.4,5.5,6,8,19.5,7.5,6,11.5,25,9,12,6.5,27.5,8,10,9.5,27.5,8.5,10,13,31.5,8,12,10,30,8.5,11,13,{"$f":"[1]ورقة2!AY105","v":0},8,7,12,27,7,14,14,35,2.5,4.5,6,4,6,7,{"$f":"IF($C105=\"\",\"\",SUM(AY105,BA105,BC105))","v":14.5},15.5,30,315.39999999999998,3.5,5.5,3.5,12.5,3,5.5,8,16.5,"دورثان","فى  :  قانون عقوبات - ",1,null,null,null,null,"","","","","","","","","قانون عقوبات - ","","","","","","",null,119.3]
[97,797,"محمد منير عبد الوهاب ابو العينين","6/2","مستجد",597,7,11,14,32,8.5,14.8,15.2,38.5,5.5,5.2,7.2,17.899999999999999,7.5,9.5,15,32,9,12.5,5.5,27,8,7,10.5,25.5,8.5,10,12,30.5,7.5,12,10,29.5,8.5,15,14,{"$f":"[1]ورقة2!AY106","v":0},8,7,10,25,7,12,14,33,2.5,4,6,4,5,7,13.5,15,28.5,319.39999999999998,3,4.5,4,11.5,3,5,7,15,"دورثان","فى  :  قانون عقوبات - ",1,null,null,null,null,"","","","","","","","","قانون عقوبات - ","","","","","","",null,126]
[98,798,"محمد ناصر أحمد السيد","6/2","مستجد",598,7,4.5,14,25.5,9,12.8,13.2,35,5.5,5.2,7.2,17.899999999999999,7.5,3.5,15,26,9,10.5,0,19.5,8,11.5,10,29.5,8,3,14,25,7.5,12,8,27.5,8,14,15,{"$f":"[1]ورقة2!AY107","v":0},8,6,11,25,6.5,14,12,32.5,2.5,4,5,4,5,7,12.5,15,27.5,290.89999999999998,3,6,4,13,3,4,6.5,13.5,"دورثان","فى  :  احصاء - قانون عقوبات - ",2,null,null,null,null,"","","","","احصاء - ","","","","قانون عقوبات - ","","","","","","",null,106]
[99,799,"محمد ياسر لبيب احمد طه","6/2","مستجد",599,7,11,13.5,31.5,9.5,16.8,14.4,40.700000000000003,5.5,4,8.4,17.899999999999999,7,11.5,15.5,34,9,12.5,0,21.5,7.5,9,10.5,27,9,10,12,31,8.5,11,12,31.5,9,12,15,{"$f":"[1]ورقة2!AY108","v":0},8,9,10,27,7,13,12,32,3,4.5,6,4,6,7,15,15.5,30.5,324.60000000000002,3.5,5,3.5,12,3,5,7,15,"دورثان","فى  :  احصاء - قانون عقوبات - ",2,null,null,null,null,"","","","","احصاء - ","","","","قانون عقوبات - ","","","","","","",null,129.80000000000001]
[100,800,"محمد يوسف عبد المعطي يوسف","6/2","مستجد",600,7,11,15,33,9.5,18,16.8,44.3,5.5,5.2,8,18.7,8,11.5,15,34.5,9.5,12.5,9,31,8,10,10.5,28.5,9,11,13,33,8.5,12,12,32.5,9,12,14,{"$f":"[1]ورقة2!AY109","v":0},8,8,11,27,7,13,16,36,2.5,4.5,5,4,5,7,12.5,15.5,28,346.5,3,6.5,3.5,13,3,5,7.5,15.5,"دورثان","فى  :  قانون عقوبات - ",1,null,null,null,null,"","","","","","","","","قانون عقوبات - ","","","","","","",null,133.19999999999999]
[101,801,"محمود السيد أحمد عبد العال","6/2","مستجد",601,7,7.5,11,25.5,7,12,15.6,34.6,5.5,5.2,8,18.7,7,7.5,10.5,25,9,10.5,9,28.5,8,7.5,9.5,25,8.5,9,11,28.5,8,12,10,30,8.5,12,13,{"$f":"[1]ورقة2!AY110","v":0},8,7,10,25,7,12,13,32,2.5,4,5,4,5,7,12.5,15,27.5,300.3,3.5,5.5,3,12,3,5,5,13,"دورثان","فى  :  قانون عقوبات - ",1,null,null,null,null,"","","","","","","","","قانون عقوبات - ","","","","","","",null,111.2]
[102,802,"محمود أحمد شعبان عمارة","6/2","مستجد",602,7,10,14.5,31.5,8.5,15.2,14.4,38.1,5.5,3.6,8,17.100000000000001,7.5,10.5,14,32,9,12,6.5,27.5,8,7,11.5,26.5,8,11,13,32,8,12,10,30,8,12,16,{"$f":"[1]ورقة2!AY111","v":0},8,7,12,27,7,17,14,38,2.5,4,5,5,6,7,13.5,16,29.5,329.2,3,6.5,4,13.5,3,6,8,17,"دورثان","فى  :  قانون عقوبات - ",1,null,null,null,null,"","","","","","","","","قانون عقوبات - ","","","","","","",null,127.3]
[103,803,"محمود جمال عبد الغني القطان","6/2","مستجد",603,7,12.5,13,32.5,9,14,15.6,38.6,5.5,4.4000000000000004,7.6,17.5,7.5,12,15,34.5,9,13,5,27,8,9.5,11.5,29,8,11,13,32,8,12,7,27,8,12,15,{"$f":"[1]ورقة2!AY112","v":0},8,7,10,25,5.5,17,14,36.5,2.5,4.5,5,5,5,7,12.5,16.5,29,328.6,3.5,5,3.5,12,3,4,6,13,"دورثان","فى  :  قانون عقوبات - ",1,null,null,null,null,"","","","","","","","","قانون عقوبات - ","","","","","","",null,134.4]
[104,804,"محمود حمدان محمد عبد العزيز","6/2","مستجد",604,7,13,12.5,32.5,7.5,10.4,12.8,30.7,5.5,3.2,7.6,16.299999999999997,7.5,11,13,31.5,9,14,7.5,30.5,8,7.5,10.5,26,8.5,9,14,31.5,8,12,12,32,8.5,14,12,{"$f":"[1]ورقة2!AY113","v":0},8,7,11,26,6.5,17,14,37.5,2.5,4,6,4,6,7,14.5,15,29.5,324,3.5,6,3.5,13,3,4,6.5,13.5,"دورثان","فى  :  قانون عقوبات - ",1,null,null,null,null,"","","","","","","","","قانون عقوبات - ","","","","","","",null,128.1]
[105,805,"محمود رمضان عبد الرسول ابراهيم","6/2","مستجد",605,7.5,4,13.5,25,7,10.8,14,31.8,5.5,4.8,7.6,17.899999999999999,7.5,11,12,30.5,9,10.5,9,28.5,8,9,10.5,27.5,8.5,8,13,29.5,8,12,11,31,8.5,12,15,{"$f":"[1]ورقة2!AY114","v":0},8,8,10,26,7,11,15,33,2.5,4.5,6,4,6,7,14.5,15.5,30,310.7,3,5.5,2,10.5,3,1.5,6.5,11,"دورثان","فى  :  قانون عقوبات - ",1,null,null,null,null,"","","","","","","","","قانون عقوبات - ","","","","","","",null,111.1]
[106,806,"محمود زكريا محمود كامل محمود","6/2","مستجد",606,7.5,7,10.5,25,7,11.6,12,30.6,5.5,2.8,7.2,15.5,7.5,9,15,31.5,9,9.5,0,18.5,8,9,11.5,28.5,8.5,5,13,26.5,7.5,12,7,26.5,8.5,12,14,{"$f":"[1]ورقة2!AY115","v":0},8.5,7,10,25.5,7,11,14,32,2.5,4,5,4,5,7,12.5,15,27.5,287.60000000000002,3,4.5,3,10.5,3,5,7.5,15.5,"راسبة","فى  :  احصاء - قانون عقوبات - مجموع",3,null,null,null,null,"","","","","احصاء - ","","","","قانون عقوبات - ","","","","","","مجموع",null,104.9]
[107,807,"محمود عادل عمر محمود حسانين","6/2","مستجد",607,7,7.5,13,27.5,7,13.2,14.4,34.6,5.5,3.2,8.4,17.100000000000001,7.5,7.5,11.5,26.5,9,12.5,0,21.5,8,8,11.5,27.5,8,3,14,25,7.5,12,8,27.5,8,12,14,{"$f":"[1]ورقة2!AY116","v":0},8.5,9,10,27.5,6.5,10,12,28.5,2.5,4,5,4,5,8,12.5,16,28.5,291.7,3,5.5,2.5,11,3,4.5,6.5,14,"دورثان","فى  :  احصاء - قانون عقوبات - ",2,null,null,null,null,"","","","","احصاء - ","","","","قانون عقوبات - ","","","","","","",null,106.9]
[108,808,"محمود عادل محمد علي السيد","6/2","مستجد",608,7,6.5,14.5,28,7,13.6,15.2,35.799999999999997,5.5,5.6,7.6,18.7,7,10,13.5,30.5,9,8.5,0,17.5,8,7,11.5,26.5,8,10,12,30,7.5,12,7,26.5,8,12,14,{"$f":"[1]ورقة2!AY117","v":0},8.5,7,10,25.5,7,10,13,30,3,4,6,4,5,8,14,16,30,299,3,5.5,2.5,11,3,3,6,12,"دورثان","فى  :  احصاء - قانون عقوبات - ",2,null,null,null,null,"","","","","احصاء - ","","","","قانون عقوبات - ","","","","","","",null,112.2]
[109,809,"محمود عبد الفتاح ابراهيم الدسوقي","6/2","مستجد",609,7.5,6,11.5,25,9.5,12.8,14,36.299999999999997,5.5,6.8,8,20.3,7.5,9,14,30.5,9,11,7,27,7.5,9,11.5,28,8,9,12,29,9,13,6,28,8,12,14,{"$f":"[1]ورقة2!AY118","v":0},8,8,10,26,7,12,13,32,2.5,4,6,4,6,8,14.5,16,30.5,312.60000000000002,3.5,5.5,3.5,12.5,3,3,6,12,"دورثان","فى  :  قانون عقوبات - ",1,null,null,null,null,"","","","","","","","","قانون عقوبات - ","","","","","","",null,118.6]
[110,810,"محمود عصام محمود محمد","6/2","مستجد",610,7,12,11.5,30.5,7,15.6,14.4,37,5.5,7.6,7.6,20.7,7.5,6.5,14,28,9.5,8.5,0,18,8,7,11.5,26.5,8,7,13,28,8,15,5,28,8,14,13,{"$f":"[1]ورقة2!AY119","v":0},8,8,10,26,6.5,9,11,26.5,2.5,4,5,4,5,7,12.5,15,27.5,296.7,3,5.5,4.5,13,3,6,7,16,"دورثان","فى  :  احصاء - قانون عقوبات - ",2,null,null,null,null,"","","","","احصاء - ","","","","قانون عقوبات - ","","","","","","",null,119.2]
[111,811,"محمود عليوه طه عبد السلام","6/2","مستجد",611,7,8,13.5,28.5,7,13.6,14.8,35.400000000000006,5.5,7.6,8,21.1,7,1.5,11,19.5,9,11,12,32,8,11.5,11.5,31,8.5,7,10,25.5,7.5,15,12,34.5,8.5,14,13,{"$f":"[1]ورقة2!AY120","v":0},8,7,11,26,6,12,12,30,2.5,4,5,4,5,7,12.5,15,27.5,311,3,4.5,3.5,11,3,6,5.5,14.5,"دورثان","فى  :  محاسبة - قانون عقوبات - ",2,null,null,null,null,"","","","محاسبة - ","","","","","قانون عقوبات - ","","","","","","",null,117.2]
[112,812,"محمود عماد الدين عبد الوهاب اسماعيل","6/2","مستجد",612,7,10,12.5,29.5,8.5,11.6,15.6,35.700000000000003,5.5,7.6,7.2,20.3,7.5,9.5,12,29,9,10,12,31,8,9.5,10.5,28,8.5,7,11,26.5,8,15,12,35,8.5,15,14,{"$f":"[1]ورقة2!AY121","v":0},8,7,10,25,7,7,13,27,2.5,4,6,4,6,7,14.5,15,29.5,316.5,3,3.5,4.5,11,3,6,5.5,14.5,"دورثان","فى  :  قانون عقوبات - ",1,null,null,null,null,"","","","","","","","","قانون عقوبات - ","","","","","","",null,119.2]
[113,813,"محمود محمد يوسف محمد يوسف","6/2","مستجد",613,7,12,15.5,34.5,7,14.4,16.8,38.200000000000003,5.5,7.6,8.4,21.5,7.5,6.5,15.5,29.5,9,13,12,34,8,9.5,11.5,29,8,6,12,26,7.5,15,12,34.5,8,14,13,{"$f":"[1]ورقة2!AY122","v":0},8,4,13,25,5,12,17,34,2.5,4,5,4,5,7,12.5,15,27.5,333.7,3,5.5,4,12.5,3,6,6.5,15.5,"دورثان","فى  :  قانون عقوبات - ",1,null,null,null,null,"","","","","","","","","قانون عقوبات - ","","","","","","",null,123]
[114,814,"محمود مسعد بحيري السيد نصر","6/2","مستجد",614,7,1.5,17,25.5,8.5,8.8000000000000007,13.2,30.5,5.5,7.6,7.2,20.3,7,6.5,14.5,28,9,10.5,12,31.5,8,10,10.5,28.5,8.5,5,12,25.5,8,15,12,35,8.5,15,14,{"$f":"[1]ورقة2!AY123","v":0},8,0,17,25,7,2,2,11,2.5,4,5,4,6,7,13.5,15,28.5,289.3,3,3.5,3.5,10,3,5.5,5.5,14,"راسبة","فى  :  قانون عقوبات - علم نفس - مجموع",3,null,null,null,null,"","","","","","","","","قانون عقوبات - ","","علم نفس - ","","","","مجموع",null,90.9]
[115,815,"محمود مسعد منصور منصور","6/2","مستجد",615,7,13,14.5,34.5,7,13.6,16.399999999999999,37,5.5,7.6,8,21.1,7.5,7.5,13.5,28.5,9,12.5,12,33.5,8,9,11.5,28.5,8.5,7,13,28.5,8,15,14,37,8.5,14,13,{"$f":"[1]ورقة2!AY124","v":0},8,0,17,25,7,8,15,30,2.5,4,6,4,6,7,14.5,15,29.5,333.1,3,3.5,4,10.5,3,6,6.5,15.5,"دورثان","فى  :  قانون عقوبات - ",1,null,null,null,null,"","","","","","","","","قانون عقوبات - ","","","","","","",null,117.2]
[116,816,"مسعد محمد رضا محمود دسوقي","6/2","مستجد",616,7,12,14.5,33.5,7,14,16.399999999999999,37.4,5.5,7.6,7.2,20.3,7.5,8,11.5,27,9,10.5,10.5,30,8,8,11.5,27.5,8.5,7,12,27.5,7.5,15,14,36.5,8.5,15,13,{"$f":"[1]ورقة2!AY125","v":0},8,9,11,28,5,11,12,28,2.5,4,5,4,5,7,12.5,15,27.5,323.2,3,4.5,4.5,12,3,6,7,16,"دورثان","فى  :  قانون عقوبات - ",1,null,null,null,null,"","","","","","","","","قانون عقوبات - ","","","","","","",null,126.1]
[117,817,"مصطفى عبدالوهاب عبدالوهاب عبدالرحمن الديب","6/2","مستجد",617,7,11,16.5,34.5,7,15.2,16,38.200000000000003,5.5,7.6,7.6,20.7,7,11.5,14,32.5,9,13.5,12,34.5,7.5,8.5,11.5,27.5,8,11,12,31,7.5,15,14,36.5,8,15,13,{"$f":"[1]ورقة2!AY126","v":0},8,12,12,32,4,12,14,30,2.5,4,4,4,5,7,11.5,15,26.5,343.9,3,5,4,12,3,6,7,16,"دورثان","فى  :  قانون عقوبات - ",1,null,null,null,null,"","","","","","","","","قانون عقوبات - ","","","","","","",null,140.30000000000001]
[118,818,"مصطفى مسعد عبد الجيد عبده الضباش","6/2","مستجد",618,7,11.5,14.5,33,7,8.8000000000000007,15.6,31.4,5.5,7.2,8.4,21.1,7,1,17,25,9,11.5,12,32.5,6.5,10.5,11.5,28.5,8,7,13,28,7.5,17,14,38.5,8,15,12,{"$f":"[1]ورقة2!AY127","v":0},8.5,7.5,10,26,4.5,11,12,27.5,2.5,4,5,4,5,7,12.5,15,27.5,319,3,5.5,3.5,12,3,6.5,7,16.5,"دورثان","فى  :  قانون عقوبات - ",1,null,null,null,null,"","","","","","","","","قانون عقوبات - ","","","","","","",null,117]
[119,819,"مصطفى ياسر لبيب احمد طه","6/2","مستجد",619,7,13,17,37,9,14,16,39,5.5,8.8000000000000007,8.4,22.700000000000003,7.5,11.5,15,34,9,13.5,12,34.5,8,10.5,12,30.5,8,7,13,28,8.5,17,14,39.5,8,16,14,{"$f":"[1]ورقة2!AY128","v":0},8,7,12,27,7,13,16,36,2.5,4.5,6,5,6,7,14.5,16.5,31,359.2,3.5,4.5,4,12,3,6.5,6.5,16,"دورثان","فى  :  قانون عقوبات - ",1,null,null,null,null,"","","","","","","","","قانون عقوبات - ","","","","","","",null,142.30000000000001]
[120,820,"نادر السيد السيد عبد العزيز على","6/2","مستجد",620,7,12.5,15.5,35,8,15.2,16.399999999999999,39.599999999999994,5.5,8.8000000000000007,8,22.3,7.5,9,14.5,31,9.5,14,12,35.5,8,10.5,12.5,31,8.5,7,11,26.5,9,17,12,38,8.5,16,15,{"$f":"[1]ورقة2!AY129","v":0},8,9,12,29,4.5,13,15,32.5,2.5,4.5,6,4,6,7,14.5,15.5,30,350.4,3.5,6,4.5,14,3,6.5,6.5,16,"دورثان","فى  :  قانون عقوبات - ",1,null,null,null,null,"","","","","","","","","قانون عقوبات - ","","","","","","",null,142]
[121,821,"نادر سمير سعد جاد الله","6/2","مستجد",621,7,9.5,13,29.5,9.5,11.6,16,37.1,5.5,8.4,7.6,21.5,7.5,10.5,13.5,31.5,9.5,13,12,34.5,8,10,11.5,29.5,8.5,8,13,29.5,8.5,17,11,36.5,8.5,14,13,{"$f":"[1]ورقة2!AY130","v":0},8,7,11,26,7,11,11,29,2.5,4.5,5,4,6,8,13.5,16.5,30,334.6,3,4.5,4.5,12,3,6,7.5,16.5,"دورثان","فى  :  قانون عقوبات - ",1,null,null,null,null,"","","","","","","","","قانون عقوبات - ","","","","","","",null,129]
[122,822,"نادر سيد عيد عبدالمحسن ابراهيم","6/2","مستجد",622,7,13.5,15,35.5,7,15.6,15.2,37.799999999999997,5.5,7.6,6.8,19.899999999999999,8,14.5,12,34.5,9.5,15,12,36.5,8,12.5,15,35.5,8,7,10,25,9,17,12,38,8,15,14,{"$f":"[1]ورقة2!AY131","v":0},8.5,11,10,29.5,7,11,13,31,3,4.5,6,4,6,7,15,15.5,30.5,353.7,4,6.5,4,14.5,3,7,6.5,16.5,"دورثان","فى  :  قانون عقوبات - ",1,null,null,null,null,"","","","","","","","","قانون عقوبات - ","","","","","","",null,149.69999999999999]
[123,823,"هشام رمضان عطية محمد","6/2","مستجد",623,7,11.5,12,30.5,7,8,12.4,27.4,5.5,7.6,6.8,19.899999999999999,7,9,11,27,9,6,10,25,8,9,12,29,8.5,3,14,25.5,7.5,15,12,34.5,8.5,16,13,{"$f":"[1]ورقة2!AY132","v":0},8,7,10,25,7,8,11,26,2.5,4,5,4,5,7,12.5,15,27.5,297.3,3.5,4.5,3,11,3,7,5.5,15.5,"دورثان","فى  :  قانون عقوبات - ",1,null,null,null,null,"","","","","","","","","قانون عقوبات - ","","","","","","",null,109.1]
[124,824,"يوسف منصور محمد حسن","6/2","مستجد",624,7,10.5,11.5,29,7,10,13.2,30.2,5.5,8.8000000000000007,8.4,22.700000000000003,7,9,11.5,27.5,9,11,12,32,8,10,12,30,8.5,3,7,18.5,7.5,14,12,33.5,8.5,16,13,{"$f":"[1]ورقة2!AY133","v":0},8,7,10,25,7,10,12,29,2.5,4,5,4,5,7,12.5,15,27.5,304.89999999999998,3,4.5,4.5,12,3,7,5.5,15.5,"دورثان","فى  :  قانون تجارى - قانون عقوبات - ",2,null,null,null,null,"","","","","","","قانون تجارى - ","","قانون عقوبات - ","","","","","","",null,118.3]
[null,null,null,null,null,null,{"$f":"[1]ورقة2!P134","v":0},{"$f":"[1]ورقة2!Q134","v":0},{"$f":"[1]ورقة2!R134","v":0},0,null,null,null,0,null,null,null,0,{"$f":"[1]ورقة2!AB134","v":0},{"$f":"[1]ورقة2!AC134","v":0},{"$f":"[1]ورقة2!AD134","v":0},0,null,null,null,0,null,null,null,0,null,null,null,0,{"$f":"[1]ورقة2!AR134","v":0},{"$f":"[1]ورقة2!AS134","v":0},{"$f":"[1]ورقة2!AT134","v":0},0,{"$f":"[1]ورقة2!AV134","v":0},{"$f":"[1]ورقة2!AW134","v":0},{"$f":"[1]ورقة2!AX134","v":0},{"$f":"[1]ورقة2!AY134","v":0},null,null,null,0,{"$f":"[1]ورقة2!BD134","v":0},{"$f":"[1]ورقة2!BE134","v":0},{"$f":"[1]ورقة2!BF134","v":0},0,null,null,null,null,null,null,{"$f":"IF($C134=\"\",\"\",SUM(AY134,BA134,BC134))","v":""},"","","",null,null,null,0,{"$f":"[1]ورقة2!BW134","v":0},{"$f":"[1]ورقة2!BX134","v":0},{"$f":"[1]ورقة2!BY134","v":0},0,"","","",null,null,null,null,"","","","","","","","","","","","","","","",null,""]
[null,null,null,null,null,null,{"$f":"[1]ورقة2!P135","v":0},{"$f":"[1]ورقة2!Q135","v":0},{"$f":"[1]ورقة2!R135","v":0},0,null,null,null,0,null,null,null,0,{"$f":"[1]ورقة2!AB135","v":0},{"$f":"[1]ورقة2!AC135","v":0},{"$f":"[1]ورقة2!AD135","v":0},0,null,null,null,0,null,null,null,0,null,null,null,0,{"$f":"[1]ورقة2!AR135","v":0},{"$f":"[1]ورقة2!AS135","v":0},{"$f":"[1]ورقة2!AT135","v":0},0,{"$f":"[1]ورقة2!AV135","v":0},{"$f":"[1]ورقة2!AW135","v":0},{"$f":"[1]ورقة2!AX135","v":0},{"$f":"[1]ورقة2!AY135","v":0},null,null,null,0,{"$f":"[1]ورقة2!BD135","v":0},{"$f":"[1]ورقة2!BE135","v":0},{"$f":"[1]ورقة2!BF135","v":0},0,null,null,null,null,null,null,"","","","",null,null,null,0,null,null,null,0,"","","",null,null,null,null,"","","","","","","","","","","","","","","",null,""]
[null,null,null,null,null,null,{"$f":"[1]ورقة2!P136","v":0},{"$f":"[1]ورقة2!Q136","v":0},{"$f":"[1]ورقة2!R136","v":0},0,null,null,null,0,null,null,null,0,{"$f":"[1]ورقة2!AB136","v":0},{"$f":"[1]ورقة2!AC136","v":0},{"$f":"[1]ورقة2!AD136","v":0},0,null,null,null,0,null,null,null,0,null,null,null,0,{"$f":"[1]ورقة2!AR136","v":0},{"$f":"[1]ورقة2!AS136","v":0},{"$f":"[1]ورقة2!AT136","v":0},0,{"$f":"[1]ورقة2!AV136","v":0},{"$f":"[1]ورقة2!AW136","v":0},{"$f":"[1]ورقة2!AX136","v":0},{"$f":"[1]ورقة2!AY136","v":0},null,null,null,0,{"$f":"[1]ورقة2!BD136","v":0},{"$f":"[1]ورقة2!BE136","v":0},{"$f":"[1]ورقة2!BF136","v":0},0,null,null,null,null,null,null,"","","","",null,null,null,0,null,null,null,0,"","","",null,null,null,null,"","","","","","","","","","","","","","","",null,""]
[null,null,null,null,null,null,{"$f":"[1]ورقة2!P137","v":0},{"$f":"[1]ورقة2!Q137","v":0},{"$f":"[1]ورقة2!R137","v":0},0,null,null,null,0,null,null,null,0,{"$f":"[1]ورقة2!AB137","v":0},{"$f":"[1]ورقة2!AC137","v":0},{"$f":"[1]ورقة2!AD137","v":0},0,null,null,null,0,null,null,null,0,null,null,null,0,{"$f":"[1]ورقة2!AR137","v":0},{"$f":"[1]ورقة2!AS137","v":0},{"$f":"[1]ورقة2!AT137","v":0},0,{"$f":"[1]ورقة2!AV137","v":0},{"$f":"[1]ورقة2!AW137","v":0},{"$f":"[1]ورقة2!AX137","v":0},{"$f":"[1]ورقة2!AY137","v":0},null,null,null,0,{"$f":"[1]ورقة2!BD137","v":0},{"$f":"[1]ورقة2!BE137","v":0},{"$f":"[1]ورقة2!BF137","v":0},0,null,null,null,null,null,null,"","","","",null,null,null,0,null,null,null,0,"","","",null,null,null,null,"","","","","","","","","","","","","","","",null,""]
[null,null,null,null,null,null,{"$f":"[1]ورقة2!P138","v":0},{"$f":"[1]ورقة2!Q138","v":0},{"$f":"[1]ورقة2!R138","v":0},0,null,null,null,{"$f":"SUM(K138:M138)","v":0},null,null,null,{"$f":"SUM(O138:Q138)","v":0},{"$f":"[1]ورقة2!AB138","v":0},{"$f":"[1]ورقة2!AC138","v":0},{"$f":"[1]ورقة2!AD138","v":0},{"$f":"SUM(S138:U138)","v":0},null,null,null,{"$f":"SUM(W138:Y138)","v":0},null,null,null,{"$f":"SUM(AA138:AC138)","v":0},null,null,null,{"$f":"SUM(AE138:AG138)","v":0},{"$f":"[1]ورقة2!AR138","v":0},{"$f":"[1]ورقة2!AS138","v":0},{"$f":"[1]ورقة2!AT138","v":0},{"$f":"SUM(AI138:AK138)","v":0},{"$f":"[1]ورقة2!AV138","v":0},{"$f":"[1]ورقة2!AW138","v":0},{"$f":"[1]ورقة2!AX138","v":0},{"$f":"[1]ورقة2!AY138","v":0},null,null,null,{"$f":"SUM(AQ138:AS138)","v":0},{"$f":"[1]ورقة2!BD138","v":0},{"$f":"[1]ورقة2!BE138","v":0},{"$f":"[1]ورقة2!BF138","v":0},{"$f":"SUM(AU138:AW138)","v":0},null,null,null,null,null,null,"","",{"$f":"IF($C138=\"\",\"\",SUM(BE138,BF138))","v":""},{"$f":"IF($C138=\"\",\"\",SUM(J138,N138,R138,V138,Z138,AD138,AH138,AL138,AP138,AT138,AX138,BG138))","v":""},null,null,null,{"$f":"SUM(BI138:BK138)","v":0},null,null,null,{"$f":"SUM(BM138:BO138)","v":0},{"$f":"IF($C138=\"\",\"\",IF(BS138=0,\"ناجحة\",IF(BS138<=2,\"دورثان\",\"راسبة\")))","v":""},{"$f":"IF($C138=\"\",\"\",IF(BS138=0,\"ومنقولة للصف الثالث\",IF(BS138>0,\"فى  :  \"&CONCATENATE(BX138,BY138,BZ138,CA138,CB138,CC138,CD138,CE138,CF138,CG138,CH138,CI138,CJ138,CK138,CL138),CONCATENATE(BX138,BY138,BZ138,CA138,CB138,CC138,CD138,CE138,CF138,CG138,CH138,CI138,CJ138,CK138,CL138))))","v":""},{"$f":"IF($C138=\"\",\"\",COUNTA($BX138:$CL138)-COUNTBLANK($BX138:$CL138))","v":""},null,null,null,null,{"$f":"IF($C138=\"\",\"\",IF(OR(I138<$I$9,I138=\"غ\",J138<$J$9),$BX$5&\" - \",\"\"))","v":""},{"$f":"IF($C138=\"\",\"\",IF(OR(M138<$M$9,M138=\"غ\",N138<$N$9),$BY$5&\" - \",\"\"))","v":""},{"$f":"IF($C138=\"\",\"\",IF(OR(Q138<$Q$9,Q138=\"غ\",R138<$R$9),BZ$5&\" - \",\"\"))","v":""},{"$f":"IF($C138=\"\",\"\",IF(OR(U138<$U$9,U138=\"غ\",V138<$V$9),CA$5&\" - \",\"\"))","v":""},{"$f":"IF($C138=\"\",\"\",IF(OR(Y138<$Y$9,Y138=\"غ\",Z138<$Z$9),CB$5&\" - \",\"\"))","v":""},{"$f":"IF($C138=\"\",\"\",IF(OR(AC138<$AC$9,AC138=\"غ\",AD138<$AD$9),CC$5&\" - \",\"\"))","v":""},{"$f":"IF($C138=\"\",\"\",IF(OR(AG138<$AG$9,AG138=\"غ\",AH138<$AH$9),CD$5&\" - \",\"\"))","v":""},{"$f":"IF($C138=\"\",\"\",IF(OR(AK138<$AK$9,AK138=\"غ\",AL138<$AL$9),CE$5&\" - \",\"\"))","v":""},{"$f":"IF($C138=\"\",\"\",IF(OR(AO138<$AO$9,AO138=\"غ\",AP138<$AP$9),CF$5&\" - \",\"\"))","v":""},{"$f":"IF($C138=\"\",\"\",IF(OR(AS138<$AS$9,AS138=\"غ\",AT138<$AT$9),CG$5&\" - \",\"\"))","v":""},{"$f":"IF($C138=\"\",\"\",IF(OR(AW138<$AW$9,AW138=\"غ\",AX138<$AX$9),CH$5&\" - \",\"\"))","v":""},{"$f":"IF($C138=\"\",\"\",IF(OR(BE138<$BE$9,BE138=\"غ\",BF138<$BF$9,BF138=\"غ\",BG138<$BG$9),CI$5&\" - \",\"\"))","v":""},{"$f":"IF($C138=\"\",\"\",IF(OR(BK138<$BK$9,BK138=\"غ\",BL138<$BL$9),CJ$5&\" - \",\"\"))","v":""},{"$f":"IF($C138=\"\",\"\",IF(OR(BO138<$BO$9,BO138=\"غ\",BP138<$BP$9),CK$5&\" - \",\"\"))","v":""},{"$f":"IF($C138=\"\",\"\",IF(BH138<$BH$9,CL$5,\"\"))","v":""},null,{"$f":"IF($C138=\"\",\"\",SUM(H138,L138,P138,T138,X138,AB138,AF138,AJ138,AN138,AR138,AV138,BA138,BB138))","v":""}]
[null,null,null,null,null,null,{"$f":"[1]ورقة2!P139","v":0},{"$f":"[1]ورقة2!Q139","v":0},{"$f":"[1]ورقة2!R139","v":0},0,null,null,null,0,null,null,null,0,{"$f":"[1]ورقة2!AB139","v":0},{"$f":"[1]ورقة2!AC139","v":0},{"$f":"[1]ورقة2!AD139","v":0},0,null,null,null,0,null,null,null,0,null,null,null,0,{"$f":"[1]ورقة2!AR139","v":0},{"$f":"[1]ورقة2!AS139","v":0},{"$f":"[1]ورقة2!AT139","v":0},0,{"$f":"[1]ورقة2!AV139","v":0},{"$f":"[1]ورقة2!AW139","v":0},{"$f":"[1]ورقة2!AX139","v":0},{"$f":"[1]ورقة2!AY139","v":0},null,null,null,0,{"$f":"[1]ورقة2!BD139","v":0},{"$f":"[1]ورقة2!BE139","v":0},{"$f":"[1]ورقة2!BF139","v":0},0,null,null,null,null,null,null,"","","","",null,null,null,0,null,null,null,0,"","","",null,null,null,null,"","","","","","","","","","","","","","","",null,""]
[null,null,null,null,null,null,{"$f":"[1]ورقة2!P140","v":0},{"$f":"[1]ورقة2!Q140","v":0},{"$f":"[1]ورقة2!R140","v":0},0,null,null,null,0,null,null,null,0,{"$f":"[1]ورقة2!AB140","v":0},{"$f":"[1]ورقة2!AC140","v":0},{"$f":"[1]ورقة2!AD140","v":0},0,null,null,null,0,null,null,null,0,null,null,null,0,{"$f":"[1]ورقة2!AR140","v":0},{"$f":"[1]ورقة2!AS140","v":0},{"$f":"[1]ورقة2!AT140","v":0},0,{"$f":"[1]ورقة2!AV140","v":0},{"$f":"[1]ورقة2!AW140","v":0},{"$f":"[1]ورقة2!AX140","v":0},{"$f":"[1]ورقة2!AY140","v":0},null,null,null,0,{"$f":"[1]ورقة2!BD140","v":0},{"$f":"[1]ورقة2!BE140","v":0},{"$f":"[1]ورقة2!BF140","v":0},0,null,null,null,null,null,null,"","","","",null,null,null,0,null,null,null,0,"","","",null,null,null,null,"","","","","","","","","","","","","","","",null,""]
[null,null,null,null,null,null,{"$f":"[1]ورقة2!P141","v":0},{"$f":"[1]ورقة2!Q141","v":0},{"$f":"[1]ورقة2!R141","v":0},0,null,null,null,0,null,null,null,0,{"$f":"[1]ورقة2!AB141","v":0},{"$f":"[1]ورقة2!AC141","v":0},{"$f":"[1]ورقة2!AD141","v":0},0,null,null,null,0,null,null,null,0,null,null,null,0,{"$f":"[1]ورقة2!AR141","v":0},{"$f":"[1]ورقة2!AS141","v":0},{"$f":"[1]ورقة2!AT141","v":0},0,{"$f":"[1]ورقة2!AV141","v":0},{"$f":"[1]ورقة2!AW141","v":0},{"$f":"[1]ورقة2!AX141","v":0},{"$f":"[1]ورقة2!AY141","v":0},null,null,null,0,{"$f":"[1]ورقة2!BD141","v":0},{"$f":"[1]ورقة2!BE141","v":0},{"$f":"[1]ورقة2!BF141","v":0},0,null,null,null,null,null,null,"","","","",null,null,null,0,null,null,null,0,"","","",null,null,null,null,"","","","","","","","","","","","","","","",null,""]
[null,null,null,null,null,null,{"$f":"[1]ورقة2!P142","v":0},{"$f":"[1]ورقة2!Q142","v":0},{"$f":"[1]ورقة2!R142","v":0},0,null,null,null,0,null,null,null,0,{"$f":"[1]ورقة2!AB142","v":0},{"$f":"[1]ورقة2!AC142","v":0},{"$f":"[1]ورقة2!AD142","v":0},0,null,null,null,0,null,null,null,0,null,null,null,0,{"$f":"[1]ورقة2!AR142","v":0},{"$f":"[1]ورقة2!AS142","v":0},{"$f":"[1]ورقة2!AT142","v":0},0,{"$f":"[1]ورقة2!AV142","v":0},{"$f":"[1]ورقة2!AW142","v":0},{"$f":"[1]ورقة2!AX142","v":0},{"$f":"[1]ورقة2!AY142","v":0},null,null,null,0,{"$f":"[1]ورقة2!BD142","v":0},{"$f":"[1]ورقة2!BE142","v":0},{"$f":"[1]ورقة2!BF142","v":0},0,null,null,null,null,null,null,"","","","",null,null,null,0,null,null,null,0,"","","",null,null,null,null,"","","","","","","","","","","","","","","",null,""]
[null,null,null,null,null,null,{"$f":"[1]ورقة2!P143","v":0},{"$f":"[1]ورقة2!Q143","v":0},{"$f":"[1]ورقة2!R143","v":0},0,null,null,null,0,null,null,null,0,{"$f":"[1]ورقة2!AB143","v":0},{"$f":"[1]ورقة2!AC143","v":0},{"$f":"[1]ورقة2!AD143","v":0},0,null,null,null,0,null,null,null,0,null,null,null,0,{"$f":"[1]ورقة2!AR143","v":0},{"$f":"[1]ورقة2!AS143","v":0},{"$f":"[1]ورقة2!AT143","v":0},0,{"$f":"[1]ورقة2!AV143","v":0},{"$f":"[1]ورقة2!AW143","v":0},{"$f":"[1]ورقة2!AX143","v":0},{"$f":"[1]ورقة2!AY143","v":0},null,null,null,0,{"$f":"[1]ورقة2!BD143","v":0},{"$f":"[1]ورقة2!BE143","v":0},{"$f":"[1]ورقة2!BF143","v":0},0,null,null,null,null,null,null,"","","","",null,null,null,0,null,null,null,0,"","","",null,null,null,null,"","","","","","","","","","","","","","","",null,""]
[null,null,null,null,null,null,{"$f":"[1]ورقة2!P144","v":0},{"$f":"[1]ورقة2!Q144","v":0},{"$f":"[1]ورقة2!R144","v":0},0,null,null,null,0,null,null,null,0,{"$f":"[1]ورقة2!AB144","v":0},{"$f":"[1]ورقة2!AC144","v":0},{"$f":"[1]ورقة2!AD144","v":0},0,null,null,null,0,null,null,null,0,null,null,null,0,{"$f":"[1]ورقة2!AR144","v":0},{"$f":"[1]ورقة2!AS144","v":0},{"$f":"[1]ورقة2!AT144","v":0},0,{"$f":"[1]ورقة2!AV144","v":0},{"$f":"[1]ورقة2!AW144","v":0},{"$f":"[1]ورقة2!AX144","v":0},{"$f":"[1]ورقة2!AY144","v":0},null,null,null,0,{"$f":"[1]ورقة2!BD144","v":0},{"$f":"[1]ورقة2!BE144","v":0},{"$f":"[1]ورقة2!BF144","v":0},0,null,null,null,null,null,null,"","","","",null,null,null,0,null,null,null,0,"","","",null,null,null,null,"","","","","","","","","","","","","","","",null,""]
[null,null,null,null,null,null,{"$f":"[1]ورقة2!P145","v":0},{"$f":"[1]ورقة2!Q145","v":0},{"$f":"[1]ورقة2!R145","v":0},0,null,null,null,0,null,null,null,0,{"$f":"[1]ورقة2!AB145","v":0},{"$f":"[1]ورقة2!AC145","v":0},{"$f":"[1]ورقة2!AD145","v":0},0,null,null,null,0,null,null,null,0,null,null,null,0,{"$f":"[1]ورقة2!AR145","v":0},{"$f":"[1]ورقة2!AS145","v":0},{"$f":"[1]ورقة2!AT145","v":0},0,{"$f":"[1]ورقة2!AV145","v":0},{"$f":"[1]ورقة2!AW145","v":0},{"$f":"[1]ورقة2!AX145","v":0},{"$f":"[1]ورقة2!AY145","v":0},null,null,null,0,{"$f":"[1]ورقة2!BD145","v":0},{"$f":"[1]ورقة2!BE145","v":0},{"$f":"[1]ورقة2!BF145","v":0},0,null,null,null,null,null,null,"","","","",null,null,null,0,null,null,null,0,"","","",null,null,null,null,"","","","","","","","","","","","","","","",null,""]
[null,null,null,null,null,null,{"$f":"[1]ورقة2!P146","v":0},{"$f":"[1]ورقة2!Q146","v":0},{"$f":"[1]ورقة2!R146","v":0},0,null,null,null,0,null,null,null,0,{"$f":"[1]ورقة2!AB146","v":0},{"$f":"[1]ورقة2!AC146","v":0},{"$f":"[1]ورقة2!AD146","v":0},0,null,null,null,0,null,null,null,0,null,null,null,0,{"$f":"[1]ورقة2!AR146","v":0},{"$f":"[1]ورقة2!AS146","v":0},{"$f":"[1]ورقة2!AT146","v":0},0,{"$f":"[1]ورقة2!AV146","v":0},{"$f":"[1]ورقة2!AW146","v":0},{"$f":"[1]ورقة2!AX146","v":0},{"$f":"[1]ورقة2!AY146","v":0},null,null,null,0,{"$f":"[1]ورقة2!BD146","v":0},{"$f":"[1]ورقة2!BE146","v":0},{"$f":"[1]ورقة2!BF146","v":0},0,null,null,null,null,null,null,"","","","",null,null,null,0,null,null,null,0,"","","",null,null,null,null,"","","","","","","","","","","","","","","",null,""]
[null,null,null,null,null,null,{"$f":"[1]ورقة2!P147","v":0},{"$f":"[1]ورقة2!Q147","v":0},{"$f":"[1]ورقة2!R147","v":0},0,null,null,null,0,null,null,null,0,{"$f":"[1]ورقة2!AB147","v":0},{"$f":"[1]ورقة2!AC147","v":0},{"$f":"[1]ورقة2!AD147","v":0},0,null,null,null,0,null,null,null,0,null,null,null,0,{"$f":"[1]ورقة2!AR147","v":0},{"$f":"[1]ورقة2!AS147","v":0},{"$f":"[1]ورقة2!AT147","v":0},0,{"$f":"[1]ورقة2!AV147","v":0},{"$f":"[1]ورقة2!AW147","v":0},{"$f":"[1]ورقة2!AX147","v":0},{"$f":"[1]ورقة2!AY147","v":0},null,null,null,0,{"$f":"[1]ورقة2!BD147","v":0},{"$f":"[1]ورقة2!BE147","v":0},{"$f":"[1]ورقة2!BF147","v":0},0,null,null,null,null,null,null,"","","","",null,null,null,0,null,null,null,0,"","","",null,null,null,null,"","","","","","","","","","","","","","","",null,""]
[null,null,null,null,null,null,{"$f":"[1]ورقة2!P148","v":0},{"$f":"[1]ورقة2!Q148","v":0},{"$f":"[1]ورقة2!R148","v":0},0,null,null,null,0,null,null,null,0,{"$f":"[1]ورقة2!AB148","v":0},{"$f":"[1]ورقة2!AC148","v":0},{"$f":"[1]ورقة2!AD148","v":0},0,null,null,null,0,null,null,null,0,null,null,null,0,{"$f":"[1]ورقة2!AR148","v":0},{"$f":"[1]ورقة2!AS148","v":0},{"$f":"[1]ورقة2!AT148","v":0},0,{"$f":"[1]ورقة2!AV148","v":0},{"$f":"[1]ورقة2!AW148","v":0},{"$f":"[1]ورقة2!AX148","v":0},{"$f":"[1]ورقة2!AY148","v":0},null,null,null,0,{"$f":"[1]ورقة2!BD148","v":0},{"$f":"[1]ورقة2!BE148","v":0},{"$f":"[1]ورقة2!BF148","v":0},0,null,null,null,null,null,null,"","","","",null,null,null,0,null,null,null,0,"","","",null,null,null,null,"","","","","","","","","","","","","","","",null,""]
[null,null,null,null,null,null,{"$f":"[1]ورقة2!P149","v":0},{"$f":"[1]ورقة2!Q149","v":0},{"$f":"[1]ورقة2!R149","v":0},0,null,null,null,0,null,null,null,0,{"$f":"[1]ورقة2!AB149","v":0},{"$f":"[1]ورقة2!AC149","v":0},{"$f":"[1]ورقة2!AD149","v":0},0,null,null,null,0,null,null,null,0,null,null,null,0,{"$f":"[1]ورقة2!AR149","v":0},{"$f":"[1]ورقة2!AS149","v":0},{"$f":"[1]ورقة2!AT149","v":0},0,{"$f":"[1]ورقة2!AV149","v":0},{"$f":"[1]ورقة2!AW149","v":0},{"$f":"[1]ورقة2!AX149","v":0},{"$f":"[1]ورقة2!AY149","v":0},null,null,null,0,{"$f":"[1]ورقة2!BD149","v":0},{"$f":"[1]ورقة2!BE149","v":0},{"$f":"[1]ورقة2!BF149","v":0},0,null,null,null,null,null,null,"","","","",null,null,null,0,null,null,null,0,"","","",null,null,null,null,"","","","","","","","","","","","","","","",null,""]
[null,null,null,null,null,null,{"$f":"[1]ورقة2!P150","v":0},{"$f":"[1]ورقة2!Q150","v":0},{"$f":"[1]ورقة2!R150","v":0},0,null,null,null,0,null,null,null,0,{"$f":"[1]ورقة2!AB150","v":0},{"$f":"[1]ورقة2!AC150","v":0},{"$f":"[1]ورقة2!AD150","v":0},0,null,null,null,0,null,null,null,0,null,null,null,0,{"$f":"[1]ورقة2!AR150","v":0},{"$f":"[1]ورقة2!AS150","v":0},{"$f":"[1]ورقة2!AT150","v":0},0,{"$f":"[1]ورقة2!AV150","v":0},{"$f":"[1]ورقة2!AW150","v":0},{"$f":"[1]ورقة2!AX150","v":0},{"$f":"[1]ورقة2!AY150","v":0},null,null,null,0,{"$f":"[1]ورقة2!BD150","v":0},{"$f":"[1]ورقة2!BE150","v":0},{"$f":"[1]ورقة2!BF150","v":0},0,null,null,null,null,null,null,"","","","",null,null,null,0,null,null,null,0,"","","",null,null,null,null,"","","","","","","","","","","","","","","",null,""]
[null,null,null,null,null,null,{"$f":"[1]ورقة2!P151","v":0},{"$f":"[1]ورقة2!Q151","v":0},{"$f":"[1]ورقة2!R151","v":0},0,null,null,null,0,null,null,null,0,{"$f":"[1]ورقة2!AB151","v":0},{"$f":"[1]ورقة2!AC151","v":0},{"$f":"[1]ورقة2!AD151","v":0},0,null,null,null,0,null,null,null,0,null,null,null,0,{"$f":"[1]ورقة2!AR151","v":0},{"$f":"[1]ورقة2!AS151","v":0},{"$f":"[1]ورقة2!AT151","v":0},0,{"$f":"[1]ورقة2!AV151","v":0},{"$f":"[1]ورقة2!AW151","v":0},{"$f":"[1]ورقة2!AX151","v":0},{"$f":"[1]ورقة2!AY151","v":0},null,null,null,0,{"$f":"[1]ورقة2!BD151","v":0},{"$f":"[1]ورقة2!BE151","v":0},{"$f":"[1]ورقة2!BF151","v":0},0,null,null,null,null,null,null,"","","","",null,null,null,0,null,null,null,0,"","","",null,null,null,null,"","","","","","","","","","","","","","","",null,""]
[null,null,null,null,null,null,{"$f":"[1]ورقة2!P152","v":0},{"$f":"[1]ورقة2!Q152","v":0},{"$f":"[1]ورقة2!R152","v":0},0,null,null,null,0,null,null,null,0,{"$f":"[1]ورقة2!AB152","v":0},{"$f":"[1]ورقة2!AC152","v":0},{"$f":"[1]ورقة2!AD152","v":0},0,null,null,null,0,null,null,null,0,null,null,null,0,{"$f":"[1]ورقة2!AR152","v":0},{"$f":"[1]ورقة2!AS152","v":0},{"$f":"[1]ورقة2!AT152","v":0},0,{"$f":"[1]ورقة2!AV152","v":0},{"$f":"[1]ورقة2!AW152","v":0},{"$f":"[1]ورقة2!AX152","v":0},{"$f":"[1]ورقة2!AY152","v":0},null,null,null,0,{"$f":"[1]ورقة2!BD152","v":0},{"$f":"[1]ورقة2!BE152","v":0},{"$f":"[1]ورقة2!BF152","v":0},0,null,null,null,null,null,null,"","","","",null,null,null,0,null,null,null,0,"","","",null,null,null,null,"","","","","","","","","","","","","","","",null,""]
[null,null,null,null,null,null,{"$f":"[1]ورقة2!P153","v":0},{"$f":"[1]ورقة2!Q153","v":0},{"$f":"[1]ورقة2!R153","v":0},0,null,null,null,0,null,null,null,0,{"$f":"[1]ورقة2!AB153","v":0},{"$f":"[1]ورقة2!AC153","v":0},{"$f":"[1]ورقة2!AD153","v":0},0,null,null,null,0,null,null,null,0,null,null,null,0,{"$f":"[1]ورقة2!AR153","v":0},{"$f":"[1]ورقة2!AS153","v":0},{"$f":"[1]ورقة2!AT153","v":0},0,{"$f":"[1]ورقة2!AV153","v":0},{"$f":"[1]ورقة2!AW153","v":0},{"$f":"[1]ورقة2!AX153","v":0},{"$f":"[1]ورقة2!AY153","v":0},null,null,null,0,{"$f":"[1]ورقة2!BD153","v":0},{"$f":"[1]ورقة2!BE153","v":0},{"$f":"[1]ورقة2!BF153","v":0},0,null,null,null,null,null,null,"","","","",null,null,null,0,null,null,null,0,"","","",null,null,null,null,"","","","","","","","","","","","","","","",null,""]
[null,null,null,null,null,null,{"$f":"[1]ورقة2!P154","v":0},{"$f":"[1]ورقة2!Q154","v":0},{"$f":"[1]ورقة2!R154","v":0},0,null,null,null,0,null,null,null,0,{"$f":"[1]ورقة2!AB154","v":0},{"$f":"[1]ورقة2!AC154","v":0},{"$f":"[1]ورقة2!AD154","v":0},0,null,null,null,0,null,null,null,0,null,null,null,0,{"$f":"[1]ورقة2!AR154","v":0},{"$f":"[1]ورقة2!AS154","v":0},{"$f":"[1]ورقة2!AT154","v":0},0,{"$f":"[1]ورقة2!AV154","v":0},{"$f":"[1]ورقة2!AW154","v":0},{"$f":"[1]ورقة2!AX154","v":0},{"$f":"[1]ورقة2!AY154","v":0},null,null,null,0,{"$f":"[1]ورقة2!BD154","v":0},{"$f":"[1]ورقة2!BE154","v":0},{"$f":"[1]ورقة2!BF154","v":0},0,null,null,null,null,null,null,"","","","",null,null,null,0,null,null,null,0,"","","",null,null,null,null,"","","","","","","","","","","","","","","",null,""]
[null,null,null,null,null,null,{"$f":"[1]ورقة2!P155","v":0},{"$f":"[1]ورقة2!Q155","v":0},{"$f":"[1]ورقة2!R155","v":0},0,null,null,null,0,null,null,null,0,{"$f":"[1]ورقة2!AB155","v":0},{"$f":"[1]ورقة2!AC155","v":0},{"$f":"[1]ورقة2!AD155","v":0},0,null,null,null,0,null,null,null,0,null,null,null,0,{"$f":"[1]ورقة2!AR155","v":0},{"$f":"[1]ورقة2!AS155","v":0},{"$f":"[1]ورقة2!AT155","v":0},0,{"$f":"[1]ورقة2!AV155","v":0},{"$f":"[1]ورقة2!AW155","v":0},{"$f":"[1]ورقة2!AX155","v":0},{"$f":"[1]ورقة2!AY155","v":0},null,null,null,0,{"$f":"[1]ورقة2!BD155","v":0},{"$f":"[1]ورقة2!BE155","v":0},{"$f":"[1]ورقة2!BF155","v":0},0,null,null,null,null,null,null,"","","","",null,null,null,0,null,null,null,0,"","","",null,null,null,null,"","","","","","","","","","","","","","","",null,""]
[null,null,null,null,null,null,{"$f":"[1]ورقة2!P156","v":0},{"$f":"[1]ورقة2!Q156","v":0},{"$f":"[1]ورقة2!R156","v":0},0,null,null,null,0,null,null,null,0,{"$f":"[1]ورقة2!AB156","v":0},{"$f":"[1]ورقة2!AC156","v":0},{"$f":"[1]ورقة2!AD156","v":0},0,null,null,null,0,null,null,null,0,null,null,null,0,{"$f":"[1]ورقة2!AR156","v":0},{"$f":"[1]ورقة2!AS156","v":0},{"$f":"[1]ورقة2!AT156","v":0},0,{"$f":"[1]ورقة2!AV156","v":0},{"$f":"[1]ورقة2!AW156","v":0},{"$f":"[1]ورقة2!AX156","v":0},{"$f":"[1]ورقة2!AY156","v":0},null,null,null,0,{"$f":"[1]ورقة2!BD156","v":0},{"$f":"[1]ورقة2!BE156","v":0},{"$f":"[1]ورقة2!BF156","v":0},0,null,null,null,null,null,null,"","","","",null,null,null,0,null,null,null,0,"","","",null,null,null,null,"","","","","","","","","","","","","","","",null,""]
[null,null,null,null,null,null,{"$f":"[1]ورقة2!P157","v":0},{"$f":"[1]ورقة2!Q157","v":0},{"$f":"[1]ورقة2!R157","v":0},0,null,null,null,0,null,null,null,0,{"$f":"[1]ورقة2!AB157","v":0},{"$f":"[1]ورقة2!AC157","v":0},{"$f":"[1]ورقة2!AD157","v":0},0,null,null,null,0,null,null,null,0,null,null,null,0,{"$f":"[1]ورقة2!AR157","v":0},{"$f":"[1]ورقة2!AS157","v":0},{"$f":"[1]ورقة2!AT157","v":0},0,{"$f":"[1]ورقة2!AV157","v":0},{"$f":"[1]ورقة2!AW157","v":0},{"$f":"[1]ورقة2!AX157","v":0},{"$f":"[1]ورقة2!AY157","v":0},null,null,null,0,{"$f":"[1]ورقة2!BD157","v":0},{"$f":"[1]ورقة2!BE157","v":0},{"$f":"[1]ورقة2!BF157","v":0},0,null,null,null,null,null,null,"","","","",null,null,null,0,null,null,null,0,"","","",null,null,null,null,"","","","","","","","","","","","","","","",null,""]
[null,null,null,null,null,null,{"$f":"[1]ورقة2!P158","v":0},{"$f":"[1]ورقة2!Q158","v":0},{"$f":"[1]ورقة2!R158","v":0},0,null,null,null,0,null,null,null,0,{"$f":"[1]ورقة2!AB158","v":0},{"$f":"[1]ورقة2!AC158","v":0},{"$f":"[1]ورقة2!AD158","v":0},0,null,null,null,0,null,null,null,0,null,null,null,0,{"$f":"[1]ورقة2!AR158","v":0},{"$f":"[1]ورقة2!AS158","v":0},{"$f":"[1]ورقة2!AT158","v":0},0,{"$f":"[1]ورقة2!AV158","v":0},{"$f":"[1]ورقة2!AW158","v":0},{"$f":"[1]ورقة2!AX158","v":0},{"$f":"[1]ورقة2!AY158","v":0},null,null,null,0,{"$f":"[1]ورقة2!BD158","v":0},{"$f":"[1]ورقة2!BE158","v":0},{"$f":"[1]ورقة2!BF158","v":0},0,null,null,null,null,null,null,"","","","",null,null,null,0,null,null,null,0,"","","",null,null,null,null,"","","","","","","","","","","","","","","",null,""]
[null,null,null,null,null,null,{"$f":"[1]ورقة2!P159","v":0},{"$f":"[1]ورقة2!Q159","v":0},{"$f":"[1]ورقة2!R159","v":0},0,null,null,null,0,null,null,null,0,{"$f":"[1]ورقة2!AB159","v":0},{"$f":"[1]ورقة2!AC159","v":0},{"$f":"[1]ورقة2!AD159","v":0},0,null,null,null,0,null,null,null,0,null,null,null,0,{"$f":"[1]ورقة2!AR159","v":0},{"$f":"[1]ورقة2!AS159","v":0},{"$f":"[1]ورقة2!AT159","v":0},0,{"$f":"[1]ورقة2!AV159","v":0},{"$f":"[1]ورقة2!AW159","v":0},{"$f":"[1]ورقة2!AX159","v":0},{"$f":"[1]ورقة2!AY159","v":0},null,null,null,0,{"$f":"[1]ورقة2!BD159","v":0},{"$f":"[1]ورقة2!BE159","v":0},{"$f":"[1]ورقة2!BF159","v":0},0,null,null,null,null,null,null,"","","","",null,null,null,0,null,null,null,0,"","","",null,null,null,null,"","","","","","","","","","","","","","","",null,""]
[null,null,null,null,null,null,null,null,null,0,null,null,null,0,null,null,null,0,{"$f":"[1]ورقة2!AB160","v":0},{"$f":"[1]ورقة2!AC160","v":0},{"$f":"[1]ورقة2!AD160","v":0},0,null,null,null,0,null,null,null,0,null,null,null,0,{"$f":"[1]ورقة2!AR160","v":0},{"$f":"[1]ورقة2!AS160","v":0},{"$f":"[1]ورقة2!AT160","v":0},0,{"$f":"[1]ورقة2!AV160","v":0},{"$f":"[1]ورقة2!AW160","v":0},{"$f":"[1]ورقة2!AX160","v":0},{"$f":"[1]ورقة2!AY160","v":0},null,null,null,0,{"$f":"[1]ورقة2!BD160","v":0},{"$f":"[1]ورقة2!BE160","v":0},{"$f":"[1]ورقة2!BF160","v":0},0,null,null,null,null,null,null,"","","","",null,null,null,0,null,null,null,0,"","","",null,null,null,null,"","","","","","","","","","","","","","","",null,""]
[null,null,null,null,null,null,null,null,null,0,null,null,null,0,null,null,null,0,{"$f":"[1]ورقة2!AB161","v":0},{"$f":"[1]ورقة2!AC161","v":0},{"$f":"[1]ورقة2!AD161","v":0},0,null,null,null,0,null,null,null,0,null,null,null,0,{"$f":"[1]ورقة2!AR161","v":0},{"$f":"[1]ورقة2!AS161","v":0},{"$f":"[1]ورقة2!AT161","v":0},0,{"$f":"[1]ورقة2!AV161","v":0},{"$f":"[1]ورقة2!AW161","v":0},{"$f":"[1]ورقة2!AX161","v":0},{"$f":"[1]ورقة2!AY161","v":0},null,null,null,0,{"$f":"[1]ورقة2!BD161","v":0},{"$f":"[1]ورقة2!BE161","v":0},{"$f":"[1]ورقة2!BF161","v":0},0,null,null,null,null,null,null,"","","","",null,null,null,0,null,null,null,0,"","","",null,null,null,null,"","","","","","","","","","","","","","","",null,""]
[null,null,null,null,null,null,null,null,null,0,null,null,null,0,null,null,null,0,{"$f":"[1]ورقة2!AB162","v":0},{"$f":"[1]ورقة2!AC162","v":0},{"$f":"[1]ورقة2!AD162","v":0},0,null,null,null,0,null,null,null,0,null,null,null,0,{"$f":"[1]ورقة2!AR162","v":0},{"$f":"[1]ورقة2!AS162","v":0},{"$f":"[1]ورقة2!AT162","v":0},0,{"$f":"[1]ورقة2!AV162","v":0},{"$f":"[1]ورقة2!AW162","v":0},{"$f":"[1]ورقة2!AX162","v":0},{"$f":"[1]ورقة2!AY162","v":0},null,null,null,0,{"$f":"[1]ورقة2!BD162","v":0},{"$f":"[1]ورقة2!BE162","v":0},{"$f":"[1]ورقة2!BF162","v":0},0,null,null,null,null,null,null,"","","","",null,null,null,0,null,null,null,0,"","","",null,null,null,null,"","","","","","","","","","","","","","","",null,""]
[null,null,null,null,null,null,null,null,null,0,null,null,null,0,null,null,null,0,{"$f":"[1]ورقة2!AB163","v":0},{"$f":"[1]ورقة2!AC163","v":0},{"$f":"[1]ورقة2!AD163","v":0},0,null,null,null,0,null,null,null,0,null,null,null,0,{"$f":"[1]ورقة2!AR163","v":0},{"$f":"[1]ورقة2!AS163","v":0},{"$f":"[1]ورقة2!AT163","v":0},0,{"$f":"[1]ورقة2!AV163","v":0},{"$f":"[1]ورقة2!AW163","v":0},{"$f":"[1]ورقة2!AX163","v":0},{"$f":"[1]ورقة2!AY163","v":0},null,null,null,0,{"$f":"[1]ورقة2!BD163","v":0},{"$f":"[1]ورقة2!BE163","v":0},{"$f":"[1]ورقة2!BF163","v":0},0,null,null,null,null,null,null,"","","","",null,null,null,0,null,null,null,0,"","","",null,null,null,null,"","","","","","","","","","","","","","","",null,""]
[null,null,null,null,null,null,null,null,null,0,null,null,null,0,null,null,null,0,{"$f":"[1]ورقة2!AB164","v":0},{"$f":"[1]ورقة2!AC164","v":0},{"$f":"[1]ورقة2!AD164","v":0},0,null,null,null,0,null,null,null,0,null,null,null,0,{"$f":"[1]ورقة2!AR164","v":0},{"$f":"[1]ورقة2!AS164","v":0},{"$f":"[1]ورقة2!AT164","v":0},0,{"$f":"[1]ورقة2!AV164","v":0},{"$f":"[1]ورقة2!AW164","v":0},{"$f":"[1]ورقة2!AX164","v":0},{"$f":"[1]ورقة2!AY164","v":0},null,null,null,0,{"$f":"[1]ورقة2!BD164","v":0},{"$f":"[1]ورقة2!BE164","v":0},{"$f":"[1]ورقة2!BF164","v":0},0,null,null,null,null,null,null,"","","","",null,null,null,0,null,null,null,0,"","","",null,null,null,null,"","","","","","","","","","","","","","","",null,""]
[null,null,null,null,null,null,null,null,null,0,null,null,null,0,null,null,null,0,{"$f":"[1]ورقة2!AB165","v":0},{"$f":"[1]ورقة2!AC165","v":0},{"$f":"[1]ورقة2!AD165","v":0},0,null,null,null,0,null,null,null,0,null,null,null,0,{"$f":"[1]ورقة2!AR165","v":0},{"$f":"[1]ورقة2!AS165","v":0},{"$f":"[1]ورقة2!AT165","v":0},0,{"$f":"[1]ورقة2!AV165","v":0},{"$f":"[1]ورقة2!AW165","v":0},{"$f":"[1]ورقة2!AX165","v":0},{"$f":"[1]ورقة2!AY165","v":0},null,null,null,0,{"$f":"[1]ورقة2!BD165","v":0},{"$f":"[1]ورقة2!BE165","v":0},{"$f":"[1]ورقة2!BF165","v":0},0,null,null,null,null,null,null,"","","","",null,null,null,0,null,null,null,0,"","","",null,null,null,null,"","","","","","","","","","","","","","","",null,""]
[null,null,null,null,null,null,null,null,null,0,null,null,null,0,null,null,null,0,{"$f":"[1]ورقة2!AB166","v":0},{"$f":"[1]ورقة2!AC166","v":0},{"$f":"[1]ورقة2!AD166","v":0},0,null,null,null,0,null,null,null,0,null,null,null,0,{"$f":"[1]ورقة2!AR166","v":0},{"$f":"[1]ورقة2!AS166","v":0},{"$f":"[1]ورقة2!AT166","v":0},0,{"$f":"[1]ورقة2!AV166","v":0},{"$f":"[1]ورقة2!AW166","v":0},{"$f":"[1]ورقة2!AX166","v":0},{"$f":"[1]ورقة2!AY166","v":0},null,null,null,0,{"$f":"[1]ورقة2!BD166","v":0},{"$f":"[1]ورقة2!BE166","v":0},{"$f":"[1]ورقة2!BF166","v":0},0,null,null,null,null,null,null,"","","","",null,null,null,0,null,null,null,0,"","","",null,null,null,null,"","","","","","","","","","","","","","","",null,""]
[null,null,null,null,null,null,null,null,null,0,null,null,null,0,null,null,null,0,{"$f":"[1]ورقة2!AB167","v":0},{"$f":"[1]ورقة2!AC167","v":0},{"$f":"[1]ورقة2!AD167","v":0},0,null,null,null,0,null,null,null,0,null,null,null,0,{"$f":"[1]ورقة2!AR167","v":0},{"$f":"[1]ورقة2!AS167","v":0},{"$f":"[1]ورقة2!AT167","v":0},0,{"$f":"[1]ورقة2!AV167","v":0},{"$f":"[1]ورقة2!AW167","v":0},{"$f":"[1]ورقة2!AX167","v":0},{"$f":"[1]ورقة2!AY167","v":0},null,null,null,0,null,null,null,0,null,null,null,null,null,null,"","","","",null,null,null,0,null,null,null,0,"","","",null,null,null,null,"","","","","","","","","","","","","","","",null,""]
[null,null,null,null,null,null,null,null,null,0,null,null,null,0,null,null,null,0,{"$f":"[1]ورقة2!AB168","v":0},{"$f":"[1]ورقة2!AC168","v":0},{"$f":"[1]ورقة2!AD168","v":0},0,null,null,null,0,null,null,null,0,null,null,null,0,{"$f":"[1]ورقة2!AR168","v":0},{"$f":"[1]ورقة2!AS168","v":0},{"$f":"[1]ورقة2!AT168","v":0},0,{"$f":"[1]ورقة2!AV168","v":0},{"$f":"[1]ورقة2!AW168","v":0},{"$f":"[1]ورقة2!AX168","v":0},{"$f":"[1]ورقة2!AY168","v":0},null,null,null,0,null,null,null,0,null,null,null,null,null,null,"","","","",null,null,null,0,null,null,null,0,"","","",null,null,null,null,"","","","","","","","","","","","","","","",null,""]
[null,null,null,null,null,null,null,null,null,{"$f":"SUM(G169:I169)","v":0},null,null,null,0,null,null,null,0,{"$f":"[1]ورقة2!AB169","v":0},{"$f":"[1]ورقة2!AC169","v":0},{"$f":"[1]ورقة2!AD169","v":0},0,null,null,null,0,null,null,null,0,null,null,null,0,{"$f":"[1]ورقة2!AR169","v":0},{"$f":"[1]ورقة2!AS169","v":0},{"$f":"[1]ورقة2!AT169","v":0},0,{"$f":"[1]ورقة2!AV169","v":0},{"$f":"[1]ورقة2!AW169","v":0},{"$f":"[1]ورقة2!AX169","v":0},{"$f":"[1]ورقة2!AY169","v":0},null,null,null,0,null,null,null,0,null,null,null,null,null,null,"","","","",null,null,null,0,null,null,null,0,"","","",null,null,null,null,"","","","","","","","","","","","","","","",null,""]
[null,null,null,null,null,null,null,null,null,0,null,null,null,0,null,null,null,0,{"$f":"[1]ورقة2!AB170","v":0},{"$f":"[1]ورقة2!AC170","v":0},{"$f":"[1]ورقة2!AD170","v":0},0,null,null,null,0,null,null,null,0,null,null,null,0,{"$f":"[1]ورقة2!AR170","v":0},{"$f":"[1]ورقة2!AS170","v":0},{"$f":"[1]ورقة2!AT170","v":0},0,{"$f":"[1]ورقة2!AV170","v":0},{"$f":"[1]ورقة2!AW170","v":0},{"$f":"[1]ورقة2!AX170","v":0},{"$f":"[1]ورقة2!AY170","v":0},null,null,null,0,null,null,null,0,null,null,null,null,null,null,"","","","",null,null,null,0,null,null,null,0,"","","",null,null,null,null,"","","","","","","","","","","","","","","",null,""]
[null,null,null,null,null,null,null,null,null,0,null,null,null,0,null,null,null,0,{"$f":"[1]ورقة2!AB171","v":0},{"$f":"[1]ورقة2!AC171","v":0},{"$f":"[1]ورقة2!AD171","v":0},0,null,null,null,0,null,null,null,0,null,null,null,0,{"$f":"[1]ورقة2!AR171","v":0},{"$f":"[1]ورقة2!AS171","v":0},{"$f":"[1]ورقة2!AT171","v":0},0,{"$f":"[1]ورقة2!AV171","v":0},{"$f":"[1]ورقة2!AW171","v":0},{"$f":"[1]ورقة2!AX171","v":0},{"$f":"[1]ورقة2!AY171","v":0},null,null,null,0,null,null,null,0,null,null,null,null,null,null,"","","","",null,null,null,0,null,null,null,0,"","","",null,null,null,null,"","","","","","","","","","","","","","","",null,""]
[null,null,null,null,null,null,null,null,null,0,null,null,null,0,null,null,null,0,{"$f":"[1]ورقة2!AB172","v":0},{"$f":"[1]ورقة2!AC172","v":0},{"$f":"[1]ورقة2!AD172","v":0},0,null,null,null,0,null,null,null,0,null,null,null,0,null,null,null,0,{"$f":"[1]ورقة2!AV172","v":0},{"$f":"[1]ورقة2!AW172","v":0},{"$f":"[1]ورقة2!AX172","v":0},{"$f":"[1]ورقة2!AY172","v":0},null,null,null,0,null,null,null,0,null,null,null,null,null,null,"","","","",null,null,null,0,null,null,null,0,"","","",null,null,null,null,"","","","","","","","","","","","","","","",null,""]
[null,null,null,null,null,null,null,null,null,0,null,null,null,0,null,null,null,0,{"$f":"[1]ورقة2!AB173","v":0},{"$f":"[1]ورقة2!AC173","v":0},{"$f":"[1]ورقة2!AD173","v":0},0,null,null,null,0,null,null,null,0,null,null,null,0,null,null,null,0,{"$f":"[1]ورقة2!AV173","v":0},{"$f":"[1]ورقة2!AW173","v":0},{"$f":"[1]ورقة2!AX173","v":0},{"$f":"[1]ورقة2!AY173","v":0},null,null,null,0,null,null,null,0,null,null,null,null,null,null,"","","","",null,null,null,0,null,null,null,0,"","","",null,null,null,null,"","","","","","","","","","","","","","","",null,""]
[null,null,null,null,null,null,null,null,null,0,null,null,null,0,null,null,null,0,{"$f":"[1]ورقة2!AB174","v":0},{"$f":"[1]ورقة2!AC174","v":0},{"$f":"[1]ورقة2!AD174","v":0},0,null,null,null,0,null,null,null,0,null,null,null,0,null,null,null,0,{"$f":"[1]ورقة2!AV174","v":0},{"$f":"[1]ورقة2!AW174","v":0},{"$f":"[1]ورقة2!AX174","v":0},{"$f":"[1]ورقة2!AY174","v":0},null,null,null,0,null,null,null,0,null,null,null,null,null,null,"","","","",null,null,null,0,null,null,null,0,"","","",null,null,null,null,"","","","","","","","","","","","","","","",null,""]
[null,null,null,null,null,null,null,null,null,0,null,null,null,0,null,null,null,0,null,null,null,0,null,null,null,0,null,null,null,0,null,null,null,0,null,null,null,0,{"$f":"[1]ورقة2!AV175","v":0},{"$f":"[1]ورقة2!AW175","v":0},{"$f":"[1]ورقة2!AX175","v":0},{"$f":"[1]ورقة2!AY175","v":0},null,null,null,0,null,null,null,0,null,null,null,null,null,null,"","","","",null,null,null,0,null,null,null,0,"","","",null,null,null,null,"","","","","","","","","","","","","","","",null,""]
[null,null,null,null,null,null,null,null,null,0,null,null,null,0,null,null,null,0,null,null,null,0,null,null,null,0,null,null,null,0,null,null,null,0,null,null,null,0,{"$f":"[1]ورقة2!AV176","v":0},{"$f":"[1]ورقة2!AW176","v":0},{"$f":"[1]ورقة2!AX176","v":0},{"$f":"[1]ورقة2!AY176","v":0},null,null,null,0,null,null,null,0,null,null,null,null,null,null,{"$f":"IF($C176=\"\",\"\",SUM(AY176,BA176,BC176))","v":""},"","","",null,null,null,0,null,null,null,0,"","","",null,null,null,null,"","","","","","","","","","","","","","","",null,""]
[null,null,null,null,null,null,null,null,null,0,null,null,null,0,null,null,null,0,null,null,null,0,null,null,null,0,null,null,null,0,null,null,null,0,null,null,null,0,{"$f":"[1]ورقة2!AV177","v":0},{"$f":"[1]ورقة2!AW177","v":0},{"$f":"[1]ورقة2!AX177","v":0},{"$f":"[1]ورقة2!AY177","v":0},null,null,null,0,null,null,null,0,null,null,null,null,null,null,"","","","",null,null,null,0,null,null,null,0,"","","",null,null,null,null,"","","","","","","","","","","","","","","",null,""]
[null,null,null,null,null,null,null,null,null,0,null,null,null,0,null,null,null,0,null,null,null,0,null,null,null,0,null,null,null,0,null,null,null,0,null,null,null,0,{"$f":"[1]ورقة2!AV178","v":0},{"$f":"[1]ورقة2!AW178","v":0},{"$f":"[1]ورقة2!AX178","v":0},{"$f":"[1]ورقة2!AY178","v":0},null,null,null,0,null,null,null,0,null,null,null,null,null,null,"","","","",null,null,null,0,null,null,null,0,"","","",null,null,null,null,"","","","","","","","","","","","","","","",null,""]
[null,null,null,null,null,null,null,null,null,0,null,null,null,0,null,null,null,0,null,null,null,0,null,null,null,0,null,null,null,0,null,null,null,0,null,null,null,0,{"$f":"[1]ورقة2!AV179","v":0},{"$f":"[1]ورقة2!AW179","v":0},{"$f":"[1]ورقة2!AX179","v":0},{"$f":"[1]ورقة2!AY179","v":0},null,null,null,0,null,null,null,0,null,null,null,null,null,null,"","","","",null,null,null,0,null,null,null,0,"","","",null,null,null,null,"","","","","","","","","","","","","","","",null,""]
[null,null,null,null,null,null,null,null,null,0,null,null,null,0,null,null,null,0,null,null,null,0,null,null,null,0,null,null,null,0,null,null,null,0,null,null,null,0,{"$f":"[1]ورقة2!AV180","v":0},{"$f":"[1]ورقة2!AW180","v":0},{"$f":"[1]ورقة2!AX180","v":0},{"$f":"[1]ورقة2!AY180","v":0},null,null,null,0,null,null,null,0,null,null,null,null,null,null,"","","","",null,null,null,0,null,null,null,0,"","","",null,null,null,null,"","","","","","","","","","","","","","","",null,""]
[null,null,null,null,null,null,null,null,null,0,null,null,null,0,null,null,null,0,null,null,null,0,null,null,null,0,null,null,null,0,null,null,null,0,null,null,null,0,{"$f":"[1]ورقة2!AV181","v":0},{"$f":"[1]ورقة2!AW181","v":0},{"$f":"[1]ورقة2!AX181","v":0},{"$f":"[1]ورقة2!AY181","v":0},null,null,null,0,null,null,null,0,null,null,null,null,null,null,"","","","",null,null,null,0,null,null,null,0,"","","",null,null,null,null,"","","","","","","","","","","","","","","",null,""]
[null,null,null,null,null,null,null,null,null,0,null,null,null,0,null,null,null,0,null,null,null,0,null,null,null,0,null,null,null,0,null,null,null,0,null,null,null,0,{"$f":"[1]ورقة2!AV182","v":0},{"$f":"[1]ورقة2!AW182","v":0},{"$f":"[1]ورقة2!AX182","v":0},{"$f":"[1]ورقة2!AY182","v":0},null,null,null,0,null,null,null,0,null,null,null,null,null,null,"","","","",null,null,null,0,null,null,null,0,"","","",null,null,null,null,"","","","","","","","","","","","","","","",null,""]
[null,null,null,null,null,null,null,null,null,0,null,null,null,0,null,null,null,0,null,null,null,0,null,null,null,0,null,null,null,0,null,null,null,0,null,null,null,0,{"$f":"[1]ورقة2!AV183","v":0},{"$f":"[1]ورقة2!AW183","v":0},{"$f":"[1]ورقة2!AX183","v":0},{"$f":"[1]ورقة2!AY183","v":0},null,null,null,0,null,null,null,0,null,null,null,null,null,null,"","","","",null,null,null,0,null,null,null,0,"","","",null,null,null,null,"","","","","","","","","","","","","","","",null,""]
[null,null,null,null,null,null,null,null,null,0,null,null,null,0,null,null,null,0,null,null,null,0,null,null,null,0,null,null,null,0,null,null,null,0,null,null,null,0,{"$f":"[1]ورقة2!AV184","v":0},{"$f":"[1]ورقة2!AW184","v":0},{"$f":"[1]ورقة2!AX184","v":0},{"$f":"[1]ورقة2!AY184","v":0},null,null,null,0,null,null,null,0,null,null,null,null,null,null,"","","","",null,null,null,0,null,null,null,0,"","","",null,null,null,null,"","","","","","","","","","","","","","","",null,""]
[null,null,null,null,null,null,null,null,null,0,null,null,null,0,null,null,null,0,null,null,null,0,null,null,null,0,null,null,null,0,null,null,null,0,null,null,null,0,{"$f":"[1]ورقة2!AV185","v":0},{"$f":"[1]ورقة2!AW185","v":0},{"$f":"[1]ورقة2!AX185","v":0},{"$f":"[1]ورقة2!AY185","v":0},null,null,null,0,null,null,null,0,null,null,null,null,null,null,"","","","",null,null,null,0,null,null,null,0,"","","",null,null,null,null,"","","","","","","","","","","","","","","",null,""]
[null,null,null,null,null,null,null,null,null,0,null,null,null,0,null,null,null,0,null,null,null,0,null,null,null,0,null,null,null,0,null,null,null,0,null,null,null,0,{"$f":"[1]ورقة2!AV186","v":0},{"$f":"[1]ورقة2!AW186","v":0},{"$f":"[1]ورقة2!AX186","v":0},{"$f":"[1]ورقة2!AY186","v":0},null,null,null,0,null,null,null,0,null,null,null,null,null,null,"","","","",null,null,null,0,null,null,null,0,"","","",null,null,null,null,"","","","","","","","","","","","","","","",null,""]
[null,null,null,null,null,null,null,null,null,0,null,null,null,0,null,null,null,0,null,null,null,0,null,null,null,0,null,null,null,0,null,null,null,0,null,null,null,0,{"$f":"[1]ورقة2!AV187","v":0},{"$f":"[1]ورقة2!AW187","v":0},{"$f":"[1]ورقة2!AX187","v":0},{"$f":"[1]ورقة2!AY187","v":0},null,null,null,0,null,null,null,0,null,null,null,null,null,null,"","","","",null,null,null,0,null,null,null,0,"","","",null,null,null,null,"","","","","","","","","","","","","","","",null,""]
[null,null,null,null,null,null,null,null,null,0,null,null,null,0,null,null,null,0,null,null,null,0,null,null,null,0,null,null,null,0,null,null,null,0,null,null,null,0,{"$f":"[1]ورقة2!AV188","v":0},{"$f":"[1]ورقة2!AW188","v":0},{"$f":"[1]ورقة2!AX188","v":0},{"$f":"[1]ورقة2!AY188","v":0},null,null,null,0,null,null,null,0,null,null,null,null,null,null,"","","","",null,null,null,0,null,null,null,0,"","","",null,null,null,null,"","","","","","","","","","","","","","","",null,""]
[null,null,null,null,null,null,null,null,null,0,null,null,null,0,null,null,null,0,null,null,null,0,null,null,null,0,null,null,null,0,null,null,null,0,null,null,null,0,{"$f":"[1]ورقة2!AV189","v":0},{"$f":"[1]ورقة2!AW189","v":0},{"$f":"[1]ورقة2!AX189","v":0},{"$f":"[1]ورقة2!AY189","v":0},null,null,null,0,null,null,null,0,null,null,null,null,null,null,"","","","",null,null,null,0,null,null,null,0,"","","",null,null,null,null,"","","","","","","","","","","","","","","",null,""]
[null,null,null,null,null,null,null,null,null,0,null,null,null,0,null,null,null,0,null,null,null,0,null,null,null,0,null,null,null,0,null,null,null,0,null,null,null,0,{"$f":"[1]ورقة2!AV190","v":0},{"$f":"[1]ورقة2!AW190","v":0},{"$f":"[1]ورقة2!AX190","v":0},{"$f":"[1]ورقة2!AY190","v":0},null,null,null,0,null,null,null,0,null,null,null,null,null,null,"","","","",null,null,null,0,null,null,null,0,"","","",null,null,null,null,"","","","","","","","","","","","","","","",null,""]
[null,null,null,null,null,null,null,null,null,0,null,null,null,0,null,null,null,0,null,null,null,0,null,null,null,0,null,null,null,0,null,null,null,0,null,null,null,0,{"$f":"[1]ورقة2!AV191","v":0},{"$f":"[1]ورقة2!AW191","v":0},{"$f":"[1]ورقة2!AX191","v":0},{"$f":"[1]ورقة2!AY191","v":0},null,null,null,0,null,null,null,0,null,null,null,null,null,null,"","","","",null,null,null,0,null,null,null,0,"","","",null,null,null,null,"","","","","","","","","","","","","","","",null,""]
[null,null,null,null,null,null,null,null,null,0,null,null,null,0,null,null,null,0,null,null,null,0,null,null,null,0,null,null,null,0,null,null,null,0,null,null,null,0,null,null,null,{"$f":"SUM(AM192:AO192)","v":0},null,null,null,0,null,null,null,0,null,null,null,null,null,null,"","","","",null,null,null,0,null,null,null,0,"","","",null,null,null,null,"","","","","","","","","","","","","","","",null,""]
[null,null,null,null,null,null,null,null,null,0,null,null,null,0,null,null,null,0,null,null,null,0,null,null,null,0,null,null,null,0,null,null,null,0,null,null,null,0,null,null,null,0,null,null,null,0,null,null,null,0,null,null,null,null,null,null,"","","","",null,null,null,0,null,null,null,0,"","","",null,null,null,null,"","","","","","","","","","","","","","","",null,""]
[null,null,null,null,null,null,null,null,null,0,null,null,null,0,null,null,null,0,null,null,null,0,null,null,null,0,null,null,null,0,null,null,null,0,null,null,null,0,null,null,null,0,null,null,null,0,null,null,null,0,null,null,null,null,null,null,"","","","",null,null,null,0,null,null,null,0,"","","",null,null,null,null,"","","","","","","","","","","","","","","",null,""]
[null,null,null,null,null,null,null,null,null,0,null,null,null,0,null,null,null,0,null,null,null,0,null,null,null,0,null,null,null,0,null,null,null,0,null,null,null,0,null,null,null,0,null,null,null,0,null,null,null,0,null,null,null,null,null,null,"","","","",null,null,null,0,null,null,null,0,"","","",null,null,null,null,"","","","","","","","","","","","","","","",null,""]
[null,null,null,null,null,null,null,null,null,0,null,null,null,0,null,null,null,0,null,null,null,0,null,null,null,0,null,null,null,0,null,null,null,0,null,null,null,0,null,null,null,0,null,null,null,0,null,null,null,0,null,null,null,null,null,null,"","","","",null,null,null,0,null,null,null,0,"","","",null,null,null,null,"","","","","","","","","","","","","","","",null,""]
[null,null,null,null,null,null,null,null,null,0,null,null,null,0,null,null,null,0,null,null,null,0,null,null,null,0,null,null,null,0,null,null,null,0,null,null,null,0,null,null,null,0,null,null,null,0,null,null,null,0,null,null,null,null,null,null,"","","","",null,null,null,0,null,null,null,0,"","","",null,null,null,null,"","","","","","","","","","","","","","","",null,""]
[null,null,null,null,null,null,null,null,null,0,null,null,null,0,null,null,null,0,null,null,null,0,null,null,null,0,null,null,null,0,null,null,null,0,null,null,null,0,null,null,null,0,null,null,null,0,null,null,null,0,null,null,null,null,null,null,"","","","",null,null,null,0,null,null,null,0,"","","",null,null,null,null,"","","","","","","","","","","","","","","",null,""]
[null,null,null,null,null,null,null,null,null,0,null,null,null,0,null,null,null,0,null,null,null,0,null,null,null,0,null,null,null,0,null,null,null,0,null,null,null,0,null,null,null,0,null,null,null,0,null,null,null,0,null,null,null,null,null,null,"","","","",null,null,null,0,null,null,null,0,"","","",null,null,null,null,"","","","","","","","","","","","","","","",null,""]
[null,null,null,null,null,null,null,null,null,0,null,null,null,0,null,null,null,0,null,null,null,0,null,null,null,0,null,null,null,0,null,null,null,0,null,null,null,0,null,null,null,0,null,null,null,0,null,null,null,0,null,null,null,null,null,null,"","","","",null,null,null,0,null,null,null,0,"","","",null,null,null,null,"","","","","","","","","","","","","","","",null,""]
[null,null,null,null,null,null,null,null,null,0,null,null,null,0,null,null,null,0,null,null,null,0,null,null,null,0,null,null,null,0,null,null,null,0,null,null,null,0,null,null,null,0,null,null,null,0,null,null,null,0,null,null,null,null,null,null,"","","","",null,null,null,0,null,null,null,0,"","","",null,null,null,null,"","","","","","","","","","","","","","","",null,""]
[null,null,null,null,null,null,null,null,null,0,null,null,null,{"$f":"SUM(K202:M202)","v":0},null,null,null,{"$f":"SUM(O202:Q202)","v":0},null,null,null,{"$f":"SUM(S202:U202)","v":0},null,null,null,{"$f":"SUM(W202:Y202)","v":0},null,null,null,{"$f":"SUM(AA202:AC202)","v":0},null,null,null,{"$f":"SUM(AE202:AG202)","v":0},null,null,null,{"$f":"SUM(AI202:AK202)","v":0},null,null,null,0,null,null,null,{"$f":"SUM(AQ202:AS202)","v":0},null,null,null,{"$f":"SUM(AU202:AW202)","v":0},null,null,null,null,null,null,"","",{"$f":"IF($C202=\"\",\"\",SUM(BE202,BF202))","v":""},{"$f":"IF($C202=\"\",\"\",SUM(J202,N202,R202,V202,Z202,AD202,AH202,AL202,AP202,AT202,AX202,BG202))","v":""},null,null,null,{"$f":"SUM(BI202:BK202)","v":0},null,null,null,{"$f":"SUM(BM202:BO202)","v":0},{"$f":"IF($C202=\"\",\"\",IF(BS202=0,\"ناجحة\",IF(BS202<=2,\"دورثان\",\"راسبة\")))","v":""},{"$f":"IF($C202=\"\",\"\",IF(BS202=0,\"ومنقولة للصف الثالث\",IF(BS202>0,\"فى  :  \"&CONCATENATE(BX202,BY202,BZ202,CA202,CB202,CC202,CD202,CE202,CF202,CG202,CH202,CI202,CJ202,CK202,CL202),CONCATENATE(BX202,BY202,BZ202,CA202,CB202,CC202,CD202,CE202,CF202,CG202,CH202,CI202,CJ202,CK202,CL202))))","v":""},{"$f":"IF($C202=\"\",\"\",COUNTA($BX202:$CL202)-COUNTBLANK($BX202:$CL202))","v":""},null,null,null,null,{"$f":"IF($C202=\"\",\"\",IF(OR(I202<$I$9,I202=\"غ\",J202<$J$9),$BX$5&\" - \",\"\"))","v":""},{"$f":"IF($C202=\"\",\"\",IF(OR(M202<$M$9,M202=\"غ\",N202<$N$9),$BY$5&\" - \",\"\"))","v":""},{"$f":"IF($C202=\"\",\"\",IF(OR(Q202<$Q$9,Q202=\"غ\",R202<$R$9),BZ$5&\" - \",\"\"))","v":""},{"$f":"IF($C202=\"\",\"\",IF(OR(U202<$U$9,U202=\"غ\",V202<$V$9),CA$5&\" - \",\"\"))","v":""},{"$f":"IF($C202=\"\",\"\",IF(OR(Y202<$Y$9,Y202=\"غ\",Z202<$Z$9),CB$5&\" - \",\"\"))","v":""},{"$f":"IF($C202=\"\",\"\",IF(OR(AC202<$AC$9,AC202=\"غ\",AD202<$AD$9),CC$5&\" - \",\"\"))","v":""},{"$f":"IF($C202=\"\",\"\",IF(OR(AG202<$AG$9,AG202=\"غ\",AH202<$AH$9),CD$5&\" - \",\"\"))","v":""},{"$f":"IF($C202=\"\",\"\",IF(OR(AK202<$AK$9,AK202=\"غ\",AL202<$AL$9),CE$5&\" - \",\"\"))","v":""},{"$f":"IF($C202=\"\",\"\",IF(OR(AO202<$AO$9,AO202=\"غ\",AP202<$AP$9),CF$5&\" - \",\"\"))","v":""},{"$f":"IF($C202=\"\",\"\",IF(OR(AS202<$AS$9,AS202=\"غ\",AT202<$AT$9),CG$5&\" - \",\"\"))","v":""},{"$f":"IF($C202=\"\",\"\",IF(OR(AW202<$AW$9,AW202=\"غ\",AX202<$AX$9),CH$5&\" - \",\"\"))","v":""},{"$f":"IF($C202=\"\",\"\",IF(OR(BE202<$BE$9,BE202=\"غ\",BF202<$BF$9,BF202=\"غ\",BG202<$BG$9),CI$5&\" - \",\"\"))","v":""},{"$f":"IF($C202=\"\",\"\",IF(OR(BK202<$BK$9,BK202=\"غ\",BL202<$BL$9),CJ$5&\" - \",\"\"))","v":""},{"$f":"IF($C202=\"\",\"\",IF(OR(BO202<$BO$9,BO202=\"غ\",BP202<$BP$9),CK$5&\" - \",\"\"))","v":""},{"$f":"IF($C202=\"\",\"\",IF(BH202<$BH$9,CL$5,\"\"))","v":""},null,{"$f":"IF($C202=\"\",\"\",SUM(H202,L202,P202,T202,X202,AB202,AF202,AJ202,AN202,AR202,AV202,BA202,BB202))","v":""}]
[null,null,null,null,null,null,null,null,null,0,null,null,null,0,null,null,null,0,null,null,null,0,null,null,null,0,null,null,null,0,null,null,null,0,null,null,null,0,null,null,null,0,null,null,null,0,null,null,null,0,null,null,null,null,null,null,"","","","",null,null,null,0,null,null,null,0,"","","",null,null,null,null,"","","","","","","","","","","","","","","",null,""]
[null,null,null,null,null,null,null,null,null,0,null,null,null,0,null,null,null,0,null,null,null,0,null,null,null,0,null,null,null,0,null,null,null,0,null,null,null,0,null,null,null,0,null,null,null,0,null,null,null,0,null,null,null,null,null,null,"","","","",null,null,null,0,null,null,null,0,"","","",null,null,null,null,"","","","","","","","","","","","","","","",null,""]
[null,null,null,null,null,null,null,null,null,0,null,null,null,0,null,null,null,0,null,null,null,0,null,null,null,0,null,null,null,0,null,null,null,0,null,null,null,0,null,null,null,0,null,null,null,0,null,null,null,0,null,null,null,null,null,null,"","","","",null,null,null,0,null,null,null,0,"","","",null,null,null,null,"","","","","","","","","","","","","","","",null,""]
[null,null,null,null,null,null,null,null,null,0,null,null,null,0,null,null,null,0,null,null,null,0,null,null,null,0,null,null,null,0,null,null,null,0,null,null,null,0,null,null,null,0,null,null,null,0,null,null,null,0,null,null,null,null,null,null,"","","","",null,null,null,0,null,null,null,0,"","","",null,null,null,null,"","","","","","","","","","","","","","","",null,""]
[null,null,null,null,null,null,null,null,null,0,null,null,null,0,null,null,null,0,null,null,null,0,null,null,null,0,null,null,null,0,null,null,null,0,null,null,null,0,null,null,null,0,null,null,null,0,null,null,null,0,null,null,null,null,null,null,"","","","",null,null,null,0,null,null,null,0,"","","",null,null,null,null,"","","","","","","","","","","","","","","",null,""]
[null,null,null,null,null,null,null,null,null,0,null,null,null,0,null,null,null,0,null,null,null,0,null,null,null,0,null,null,null,0,null,null,null,0,null,null,null,0,null,null,null,0,null,null,null,0,null,null,null,0,null,null,null,null,null,null,"","","","",null,null,null,0,null,null,null,0,"","","",null,null,null,null,"","","","","","","","","","","","","","","",null,""]
[null,null,null,null,null,null,null,null,null,0,null,null,null,0,null,null,null,0,null,null,null,0,null,null,null,0,null,null,null,0,null,null,null,0,null,null,null,0,null,null,null,0,null,null,null,0,null,null,null,0,null,null,null,null,null,null,"","","","",null,null,null,0,null,null,null,0,"","","",null,null,null,null,"","","","","","","","","","","","","","","",null,""]
[null,null,null,null,null,null,null,null,null,0,null,null,null,0,null,null,null,0,null,null,null,0,null,null,null,0,null,null,null,0,null,null,null,0,null,null,null,0,null,null,null,0,null,null,null,0,null,null,null,0,null,null,null,null,null,null,"","","","",null,null,null,0,null,null,null,0,"","","",null,null,null,null,"","","","","","","","","","","","","","","",null,""]
[null,null,null,null,null,null,null,null,null,0,null,null,null,0,null,null,null,0,null,null,null,0,null,null,null,0,null,null,null,0,null,null,null,0,null,null,null,0,null,null,null,0,null,null,null,0,null,null,null,0,null,null,null,null,null,null,"","","","",null,null,null,0,null,null,null,0,"","","",null,null,null,null,"","","","","","","","","","","","","","","",null,""]
[null,null,null,null,null,null,null,null,null,0,null,null,null,0,null,null,null,0,null,null,null,0,null,null,null,0,null,null,null,0,null,null,null,0,null,null,null,0,null,null,null,0,null,null,null,0,null,null,null,0,null,null,null,null,null,null,"","","","",null,null,null,0,null,null,null,0,"","","",null,null,null,null,"","","","","","","","","","","","","","","",null,""]
[null,null,null,null,null,null,null,null,null,0,null,null,null,0,null,null,null,0,null,null,null,0,null,null,null,0,null,null,null,0,null,null,null,0,null,null,null,0,null,null,null,0,null,null,null,0,null,null,null,0,null,null,null,null,null,null,"","","","",null,null,null,0,null,null,null,0,"","","",null,null,null,null,"","","","","","","","","","","","","","","",null,""]
[null,null,null,null,null,null,null,null,null,0,null,null,null,0,null,null,null,0,null,null,null,0,null,null,null,0,null,null,null,0,null,null,null,0,null,null,null,0,null,null,null,0,null,null,null,0,null,null,null,0,null,null,null,null,null,null,"","","","",null,null,null,0,null,null,null,0,"","","",null,null,null,null,"","","","","","","","","","","","","","","",null,""]
[null,null,null,null,null,null,null,null,null,0,null,null,null,0,null,null,null,0,null,null,null,0,null,null,null,0,null,null,null,0,null,null,null,0,null,null,null,0,null,null,null,0,null,null,null,0,null,null,null,0,null,null,null,null,null,null,"","","","",null,null,null,0,null,null,null,0,"","","",null,null,null,null,"","","","","","","","","","","","","","","",null,""]
[null,null,null,null,null,null,null,null,null,0,null,null,null,0,null,null,null,0,null,null,null,0,null,null,null,0,null,null,null,0,null,null,null,0,null,null,null,0,null,null,null,0,null,null,null,0,null,null,null,0,null,null,null,null,null,null,"","","","",null,null,null,0,null,null,null,0,"","","",null,null,null,null,"","","","","","","","","","","","","","","",null,""]
[null,null,null,null,null,null,null,null,null,0,null,null,null,0,null,null,null,0,null,null,null,0,null,null,null,0,null,null,null,0,null,null,null,0,null,null,null,0,null,null,null,0,null,null,null,0,null,null,null,0,null,null,null,null,null,null,"","","","",null,null,null,0,null,null,null,0,"","","",null,null,null,null,"","","","","","","","","","","","","","","",null,""]
[null,null,null,null,null,null,null,null,null,0,null,null,null,0,null,null,null,0,null,null,null,0,null,null,null,0,null,null,null,0,null,null,null,0,null,null,null,0,null,null,null,0,null,null,null,0,null,null,null,0,null,null,null,null,null,null,"","","","",null,null,null,0,null,null,null,0,"","","",null,null,null,null,"","","","","","","","","","","","","","","",null,""]
[null,null,null,null,null,null,null,null,null,0,null,null,null,0,null,null,null,0,null,null,null,0,null,null,null,0,null,null,null,0,null,null,null,0,null,null,null,0,null,null,null,0,null,null,null,0,null,null,null,0,null,null,null,null,null,null,"","","","",null,null,null,0,null,null,null,0,"","","",null,null,null,null,"","","","","","","","","","","","","","","",null,""]
[null,null,null,null,null,null,null,null,null,0,null,null,null,0,null,null,null,0,null,null,null,0,null,null,null,0,null,null,null,0,null,null,null,0,null,null,null,0,null,null,null,0,null,null,null,0,null,null,null,0,null,null,null,null,null,null,"","","","",null,null,null,0,null,null,null,0,"","","",null,null,null,null,"","","","","","","","","","","","","","","",null,""]
[null,null,null,null,null,null,null,null,null,0,null,null,null,0,null,null,null,0,null,null,null,0,null,null,null,0,null,null,null,0,null,null,null,0,null,null,null,0,null,null,null,0,null,null,null,0,null,null,null,0,null,null,null,null,null,null,"","","","",null,null,null,0,null,null,null,0,"","","",null,null,null,null,"","","","","","","","","","","","","","","",null,""]
[null,null,null,null,null,null,null,null,null,0,null,null,null,0,null,null,null,0,null,null,null,0,null,null,null,0,null,null,null,0,null,null,null,0,null,null,null,0,null,null,null,0,null,null,null,0,null,null,null,0,null,null,null,null,null,null,"","","","",null,null,null,0,null,null,null,0,"","","",null,null,null,null,"","","","","","","","","","","","","","","",null,""]
[null,null,null,null,null,null,null,null,null,0,null,null,null,0,null,null,null,0,null,null,null,0,null,null,null,0,null,null,null,0,null,null,null,0,null,null,null,0,null,null,null,0,null,null,null,0,null,null,null,0,null,null,null,null,null,null,"","","","",null,null,null,0,null,null,null,0,"","","",null,null,null,null,"","","","","","","","","","","","","","","",null,""]
[null,null,null,null,null,null,null,null,null,0,null,null,null,0,null,null,null,0,null,null,null,0,null,null,null,0,null,null,null,0,null,null,null,0,null,null,null,0,null,null,null,0,null,null,null,0,null,null,null,0,null,null,null,null,null,null,"","","","",null,null,null,0,null,null,null,0,"","","",null,null,null,null,"","","","","","","","","","","","","","","",null,""]
[null,null,null,null,null,null,null,null,null,0,null,null,null,0,null,null,null,0,null,null,null,0,null,null,null,0,null,null,null,0,null,null,null,0,null,null,null,0,null,null,null,0,null,null,null,0,null,null,null,0,null,null,null,null,null,null,"","","","",null,null,null,0,null,null,null,0,"","","",null,null,null,null,"","","","","","","","","","","","","","","",null,""]
[null,null,null,null,null,null,null,null,null,0,null,null,null,0,null,null,null,0,null,null,null,0,null,null,null,0,null,null,null,0,null,null,null,0,null,null,null,0,null,null,null,0,null,null,null,0,null,null,null,0,null,null,null,null,null,null,"","","","",null,null,null,0,null,null,null,0,"","","",null,null,null,null,"","","","","","","","","","","","","","","",null,""]
[null,null,null,null,null,null,null,null,null,0,null,null,null,0,null,null,null,0,null,null,null,0,null,null,null,0,null,null,null,0,null,null,null,0,null,null,null,0,null,null,null,0,null,null,null,0,null,null,null,0,null,null,null,null,null,null,"","","","",null,null,null,0,null,null,null,0,"","","",null,null,null,null,"","","","","","","","","","","","","","","",null,""]
[null,null,null,null,null,null,null,null,null,0,null,null,null,0,null,null,null,0,null,null,null,0,null,null,null,0,null,null,null,0,null,null,null,0,null,null,null,0,null,null,null,0,null,null,null,0,null,null,null,0,null,null,null,null,null,null,"","","","",null,null,null,0,null,null,null,0,"","","",null,null,null,null,"","","","","","","","","","","","","","","",null,""]
[null,null,null,null,null,null,null,null,null,0,null,null,null,0,null,null,null,0,null,null,null,0,null,null,null,0,null,null,null,0,null,null,null,0,null,null,null,0,null,null,null,0,null,null,null,0,null,null,null,0,null,null,null,null,null,null,"","","","",null,null,null,0,null,null,null,0,"","","",null,null,null,null,"","","","","","","","","","","","","","","",null,""]
[null,null,null,null,null,null,null,null,null,0,null,null,null,0,null,null,null,0,null,null,null,0,null,null,null,0,null,null,null,0,null,null,null,0,null,null,null,0,null,null,null,0,null,null,null,0,null,null,null,0,null,null,null,null,null,null,"","","","",null,null,null,0,null,null,null,0,"","","",null,null,null,null,"","","","","","","","","","","","","","","",null,""]
[null,null,null,null,null,null,null,null,null,0,null,null,null,0,null,null,null,0,null,null,null,0,null,null,null,0,null,null,null,0,null,null,null,0,null,null,null,0,null,null,null,0,null,null,null,0,null,null,null,0,null,null,null,null,null,null,"","","","",null,null,null,0,null,null,null,0,"","","",null,null,null,null,"","","","","","","","","","","","","","","",null,""]
[null,null,null,null,null,null,null,null,null,0,null,null,null,0,null,null,null,0,null,null,null,0,null,null,null,0,null,null,null,0,null,null,null,0,null,null,null,0,null,null,null,0,null,null,null,0,null,null,null,0,null,null,null,null,null,null,"","","","",null,null,null,0,null,null,null,0,"","","",null,null,null,null,"","","","","","","","","","","","","","","",null,""]
[null,null,null,null,null,null,null,null,null,{"$f":"SUM(G233:I233)","v":0},null,null,null,0,null,null,null,0,null,null,null,0,null,null,null,0,null,null,null,0,null,null,null,0,null,null,null,0,null,null,null,0,null,null,null,0,null,null,null,0,null,null,null,null,null,null,"","","","",null,null,null,0,null,null,null,0,"","","",null,null,null,null,"","","","","","","","","","","","","","","",null,""]
[null,null,null,null,null,null,null,null,null,0,null,null,null,0,null,null,null,0,null,null,null,0,null,null,null,0,null,null,null,0,null,null,null,0,null,null,null,0,null,null,null,0,null,null,null,0,null,null,null,0,null,null,null,null,null,null,"","","","",null,null,null,0,null,null,null,0,"","","",null,null,null,null,"","","","","","","","","","","","","","","",null,""]
[null,null,null,null,null,null,null,null,null,0,null,null,null,0,null,null,null,0,null,null,null,0,null,null,null,0,null,null,null,0,null,null,null,0,null,null,null,0,null,null,null,0,null,null,null,0,null,null,null,0,null,null,null,null,null,null,"","","","",null,null,null,0,null,null,null,0,"","","",null,null,null,null,"","","","","","","","","","","","","","","",null,""]
[null,null,null,null,null,null,null,null,null,0,null,null,null,0,null,null,null,0,null,null,null,0,null,null,null,0,null,null,null,0,null,null,null,0,null,null,null,0,null,null,null,0,null,null,null,0,null,null,null,0,null,null,null,null,null,null,"","","","",null,null,null,0,null,null,null,0,"","","",null,null,null,null,"","","","","","","","","","","","","","","",null,""]
[null,null,null,null,null,null,null,null,null,0,null,null,null,0,null,null,null,0,null,null,null,0,null,null,null,0,null,null,null,0,null,null,null,0,null,null,null,0,null,null,null,0,null,null,null,0,null,null,null,0,null,null,null,null,null,null,"","","","",null,null,null,0,null,null,null,0,"","","",null,null,null,null,"","","","","","","","","","","","","","","",null,""]
[null,null,null,null,null,null,null,null,null,0,null,null,null,0,null,null,null,0,null,null,null,0,null,null,null,0,null,null,null,0,null,null,null,0,null,null,null,0,null,null,null,0,null,null,null,0,null,null,null,0,null,null,null,null,null,null,"","","","",null,null,null,0,null,null,null,0,"","","",null,null,null,null,"","","","","","","","","","","","","","","",null,""]
[null,null,null,null,null,null,null,null,null,0,null,null,null,0,null,null,null,0,null,null,null,0,null,null,null,0,null,null,null,0,null,null,null,0,null,null,null,0,null,null,null,0,null,null,null,0,null,null,null,0,null,null,null,null,null,null,"","","","",null,null,null,0,null,null,null,0,"","","",null,null,null,null,"","","","","","","","","","","","","","","",null,""]
[null,null,null,null,null,null,null,null,null,0,null,null,null,0,null,null,null,0,null,null,null,0,null,null,null,0,null,null,null,0,null,null,null,0,null,null,null,0,null,null,null,0,null,null,null,0,null,null,null,0,null,null,null,null,null,null,{"$f":"IF($C240=\"\",\"\",SUM(AY240,BA240,BC240))","v":""},"","","",null,null,null,0,null,null,null,0,"","","",null,null,null,null,"","","","","","","","","","","","","","","",null,""]
[null,null,null,null,null,null,null,null,null,0,null,null,null,0,null,null,null,0,null,null,null,0,null,null,null,0,null,null,null,0,null,null,null,0,null,null,null,0,null,null,null,0,null,null,null,0,null,null,null,0,null,null,null,null,null,null,"","","","",null,null,null,0,null,null,null,0,"","","",null,null,null,null,"","","","","","","","","","","","","","","",null,""]
[null,null,null,null,null,null,null,null,null,0,null,null,null,0,null,null,null,0,null,null,null,0,null,null,null,0,null,null,null,0,null,null,null,0,null,null,null,0,null,null,null,0,null,null,null,0,null,null,null,0,null,null,null,null,null,null,"","","","",null,null,null,0,null,null,null,0,"","","",null,null,null,null,"","","","","","","","","","","","","","","",null,""]
[null,null,null,null,null,null,null,null,null,0,null,null,null,0,null,null,null,0,null,null,null,0,null,null,null,0,null,null,null,0,null,null,null,0,null,null,null,0,null,null,null,0,null,null,null,0,null,null,null,0,null,null,null,null,null,null,"","","","",null,null,null,0,null,null,null,0,"","","",null,null,null,null,"","","","","","","","","","","","","","","",null,""]
[null,null,null,null,null,null,null,null,null,0,null,null,null,0,null,null,null,0,null,null,null,0,null,null,null,0,null,null,null,0,null,null,null,0,null,null,null,0,null,null,null,0,null,null,null,0,null,null,null,0,null,null,null,null,null,null,"","","","",null,null,null,0,null,null,null,0,"","","",null,null,null,null,"","","","","","","","","","","","","","","",null,""]
[null,null,null,null,null,null,null,null,null,0,null,null,null,0,null,null,null,0,null,null,null,0,null,null,null,0,null,null,null,0,null,null,null,0,null,null,null,0,null,null,null,0,null,null,null,0,null,null,null,0,null,null,null,null,null,null,"","","","",null,null,null,0,null,null,null,0,"","","",null,null,null,null,"","","","","","","","","","","","","","","",null,""]
[null,null,null,null,null,null,null,null,null,0,null,null,null,0,null,null,null,0,null,null,null,0,null,null,null,0,null,null,null,0,null,null,null,0,null,null,null,0,null,null,null,0,null,null,null,0,null,null,null,0,null,null,null,null,null,null,"","","","",null,null,null,0,null,null,null,0,"","","",null,null,null,null,"","","","","","","","","","","","","","","",null,""]
[null,null,null,null,null,null,null,null,null,0,null,null,null,0,null,null,null,0,null,null,null,0,null,null,null,0,null,null,null,0,null,null,null,0,null,null,null,0,null,null,null,0,null,null,null,0,null,null,null,0,null,null,null,null,null,null,"","","","",null,null,null,0,null,null,null,0,"","","",null,null,null,null,"","","","","","","","","","","","","","","",null,""]
[null,null,null,null,null,null,null,null,null,0,null,null,null,0,null,null,null,0,null,null,null,0,null,null,null,0,null,null,null,0,null,null,null,0,null,null,null,0,null,null,null,0,null,null,null,0,null,null,null,0,null,null,null,null,null,null,"","","","",null,null,null,0,null,null,null,0,"","","",null,null,null,null,"","","","","","","","","","","","","","","",null,""]
[null,null,null,null,null,null,null,null,null,0,null,null,null,0,null,null,null,0,null,null,null,0,null,null,null,0,null,null,null,0,null,null,null,0,null,null,null,0,null,null,null,0,null,null,null,0,null,null,null,0,null,null,null,null,null,null,"","","","",null,null,null,0,null,null,null,0,"","","",null,null,null,null,"","","","","","","","","","","","","","","",null,""]
[null,null,null,null,null,null,null,null,null,0,null,null,null,0,null,null,null,0,null,null,null,0,null,null,null,0,null,null,null,0,null,null,null,0,null,null,null,0,null,null,null,0,null,null,null,0,null,null,null,0,null,null,null,null,null,null,"","","","",null,null,null,0,null,null,null,0,"","","",null,null,null,null,"","","","","","","","","","","","","","","",null,""]
[null,null,null,null,null,null,null,null,null,0,null,null,null,0,null,null,null,0,null,null,null,0,null,null,null,0,null,null,null,0,null,null,null,0,null,null,null,0,null,null,null,0,null,null,null,0,null,null,null,0,null,null,null,null,null,null,"","","","",null,null,null,0,null,null,null,0,"","","",null,null,null,null,"","","","","","","","","","","","","","","",null,""]
[null,null,null,null,null,null,null,null,null,0,null,null,null,0,null,null,null,0,null,null,null,0,null,null,null,0,null,null,null,0,null,null,null,0,null,null,null,0,null,null,null,0,null,null,null,0,null,null,null,0,null,null,null,null,null,null,"","","","",null,null,null,0,null,null,null,0,"","","",null,null,null,null,"","","","","","","","","","","","","","","",null,""]
[null,null,null,null,null,null,null,null,null,0,null,null,null,0,null,null,null,0,null,null,null,0,null,null,null,0,null,null,null,0,null,null,null,0,null,null,null,0,null,null,null,0,null,null,null,0,null,null,null,0,null,null,null,null,null,null,"","","","",null,null,null,0,null,null,null,0,"","","",null,null,null,null,"","","","","","","","","","","","","","","",null,""]
[null,null,null,null,null,null,null,null,null,0,null,null,null,0,null,null,null,0,null,null,null,0,null,null,null,0,null,null,null,0,null,null,null,0,null,null,null,0,null,null,null,0,null,null,null,0,null,null,null,0,null,null,null,null,null,null,"","","","",null,null,null,0,null,null,null,0,"","","",null,null,null,null,"","","","","","","","","","","","","","","",null,""]
[null,null,null,null,null,null,null,null,null,0,null,null,null,0,null,null,null,0,null,null,null,0,null,null,null,0,null,null,null,0,null,null,null,0,null,null,null,0,null,null,null,0,null,null,null,0,null,null,null,0,null,null,null,null,null,null,"","","","",null,null,null,0,null,null,null,0,"","","",null,null,null,null,"","","","","","","","","","","","","","","",null,""]
[null,null,null,null,null,null,null,null,null,0,null,null,null,0,null,null,null,0,null,null,null,0,null,null,null,0,null,null,null,0,null,null,null,0,null,null,null,0,null,null,null,{"$f":"SUM(AM256:AO256)","v":0},null,null,null,0,null,null,null,0,null,null,null,null,null,null,"","","","",null,null,null,0,null,null,null,0,"","","",null,null,null,null,"","","","","","","","","","","","","","","",null,""]
[null,null,null,null,null,null,null,null,null,0,null,null,null,0,null,null,null,0,null,null,null,0,null,null,null,0,null,null,null,0,null,null,null,0,null,null,null,0,null,null,null,0,null,null,null,0,null,null,null,0,null,null,null,null,null,null,"","","","",null,null,null,0,null,null,null,0,"","","",null,null,null,null,"","","","","","","","","","","","","","","",null,""]
[null,null,null,null,null,null,null,null,null,0,null,null,null,0,null,null,null,0,null,null,null,0,null,null,null,0,null,null,null,0,null,null,null,0,null,null,null,0,null,null,null,0,null,null,null,0,null,null,null,0,null,null,null,null,null,null,"","","","",null,null,null,0,null,null,null,0,"","","",null,null,null,null,"","","","","","","","","","","","","","","",null,""]
[null,null,null,null,null,null,null,null,null,0,null,null,null,0,null,null,null,0,null,null,null,0,null,null,null,0,null,null,null,0,null,null,null,0,null,null,null,0,null,null,null,0,null,null,null,0,null,null,null,0,null,null,null,null,null,null,"","","","",null,null,null,0,null,null,null,0,"","","",null,null,null,null,"","","","","","","","","","","","","","","",null,""]
[null,null,null,null,null,null,null,null,null,0,null,null,null,0,null,null,null,0,null,null,null,0,null,null,null,0,null,null,null,0,null,null,null,0,null,null,null,0,null,null,null,0,null,null,null,0,null,null,null,0,null,null,null,null,null,null,"","","","",null,null,null,0,null,null,null,0,"","","",null,null,null,null,"","","","","","","","","","","","","","","",null,""]
[null,null,null,null,null,null,null,null,null,0,null,null,null,0,null,null,null,0,null,null,null,0,null,null,null,0,null,null,null,0,null,null,null,0,null,null,null,0,null,null,null,0,null,null,null,0,null,null,null,0,null,null,null,null,null,null,"","","","",null,null,null,0,null,null,null,0,"","","",null,null,null,null,"","","","","","","","","","","","","","","",null,""]
[null,null,null,null,null,null,null,null,null,0,null,null,null,0,null,null,null,0,null,null,null,0,null,null,null,0,null,null,null,0,null,null,null,0,null,null,null,0,null,null,null,0,null,null,null,0,null,null,null,0,null,null,null,null,null,null,"","","","",null,null,null,0,null,null,null,0,"","","",null,null,null,null,"","","","","","","","","","","","","","","",null,""]
[null,null,null,null,null,null,null,null,null,0,null,null,null,0,null,null,null,0,null,null,null,0,null,null,null,0,null,null,null,0,null,null,null,0,null,null,null,0,null,null,null,0,null,null,null,0,null,null,null,0,null,null,null,null,null,null,"","","","",null,null,null,0,null,null,null,0,"","","",null,null,null,null,"","","","","","","","","","","","","","","",null,""]
[null,null,null,null,null,null,null,null,null,0,null,null,null,0,null,null,null,0,null,null,null,0,null,null,null,0,null,null,null,0,null,null,null,0,null,null,null,0,null,null,null,0,null,null,null,0,null,null,null,0,null,null,null,null,null,null,"","","","",null,null,null,0,null,null,null,0,"","","",null,null,null,null,"","","","","","","","","","","","","","","",null,""]
[null,null,null,null,null,null,null,null,null,0,null,null,null,0,null,null,null,0,null,null,null,0,null,null,null,0,null,null,null,0,null,null,null,0,null,null,null,0,null,null,null,0,null,null,null,0,null,null,null,0,null,null,null,null,null,null,"","","","",null,null,null,0,null,null,null,0,"","","",null,null,null,null,"","","","","","","","","","","","","","","",null,""]
[null,null,null,null,null,null,null,null,null,0,null,null,null,{"$f":"SUM(K266:M266)","v":0},null,null,null,{"$f":"SUM(O266:Q266)","v":0},null,null,null,{"$f":"SUM(S266:U266)","v":0},null,null,null,{"$f":"SUM(W266:Y266)","v":0},null,null,null,{"$f":"SUM(AA266:AC266)","v":0},null,null,null,{"$f":"SUM(AE266:AG266)","v":0},null,null,null,{"$f":"SUM(AI266:AK266)","v":0},null,null,null,0,null,null,null,{"$f":"SUM(AQ266:AS266)","v":0},null,null,null,{"$f":"SUM(AU266:AW266)","v":0},null,null,null,null,null,null,"","",{"$f":"IF($C266=\"\",\"\",SUM(BE266,BF266))","v":""},{"$f":"IF($C266=\"\",\"\",SUM(J266,N266,R266,V266,Z266,AD266,AH266,AL266,AP266,AT266,AX266,BG266))","v":""},null,null,null,{"$f":"SUM(BI266:BK266)","v":0},null,null,null,{"$f":"SUM(BM266:BO266)","v":0},{"$f":"IF($C266=\"\",\"\",IF(BS266=0,\"ناجحة\",IF(BS266<=2,\"دورثان\",\"راسبة\")))","v":""},{"$f":"IF($C266=\"\",\"\",IF(BS266=0,\"ومنقولة للصف الثالث\",IF(BS266>0,\"فى  :  \"&CONCATENATE(BX266,BY266,BZ266,CA266,CB266,CC266,CD266,CE266,CF266,CG266,CH266,CI266,CJ266,CK266,CL266),CONCATENATE(BX266,BY266,BZ266,CA266,CB266,CC266,CD266,CE266,CF266,CG266,CH266,CI266,CJ266,CK266,CL266))))","v":""},{"$f":"IF($C266=\"\",\"\",COUNTA($BX266:$CL266)-COUNTBLANK($BX266:$CL266))","v":""},null,null,null,null,{"$f":"IF($C266=\"\",\"\",IF(OR(I266<$I$9,I266=\"غ\",J266<$J$9),$BX$5&\" - \",\"\"))","v":""},{"$f":"IF($C266=\"\",\"\",IF(OR(M266<$M$9,M266=\"غ\",N266<$N$9),$BY$5&\" - \",\"\"))","v":""},{"$f":"IF($C266=\"\",\"\",IF(OR(Q266<$Q$9,Q266=\"غ\",R266<$R$9),BZ$5&\" - \",\"\"))","v":""},{"$f":"IF($C266=\"\",\"\",IF(OR(U266<$U$9,U266=\"غ\",V266<$V$9),CA$5&\" - \",\"\"))","v":""},{"$f":"IF($C266=\"\",\"\",IF(OR(Y266<$Y$9,Y266=\"غ\",Z266<$Z$9),CB$5&\" - \",\"\"))","v":""},{"$f":"IF($C266=\"\",\"\",IF(OR(AC266<$AC$9,AC266=\"غ\",AD266<$AD$9),CC$5&\" - \",\"\"))","v":""},{"$f":"IF($C266=\"\",\"\",IF(OR(AG266<$AG$9,AG266=\"غ\",AH266<$AH$9),CD$5&\" - \",\"\"))","v":""},{"$f":"IF($C266=\"\",\"\",IF(OR(AK266<$AK$9,AK266=\"غ\",AL266<$AL$9),CE$5&\" - \",\"\"))","v":""},{"$f":"IF($C266=\"\",\"\",IF(OR(AO266<$AO$9,AO266=\"غ\",AP266<$AP$9),CF$5&\" - \",\"\"))","v":""},{"$f":"IF($C266=\"\",\"\",IF(OR(AS266<$AS$9,AS266=\"غ\",AT266<$AT$9),CG$5&\" - \",\"\"))","v":""},{"$f":"IF($C266=\"\",\"\",IF(OR(AW266<$AW$9,AW266=\"غ\",AX266<$AX$9),CH$5&\" - \",\"\"))","v":""},{"$f":"IF($C266=\"\",\"\",IF(OR(BE266<$BE$9,BE266=\"غ\",BF266<$BF$9,BF266=\"غ\",BG266<$BG$9),CI$5&\" - \",\"\"))","v":""},{"$f":"IF($C266=\"\",\"\",IF(OR(BK266<$BK$9,BK266=\"غ\",BL266<$BL$9),CJ$5&\" - \",\"\"))","v":""},{"$f":"IF($C266=\"\",\"\",IF(OR(BO266<$BO$9,BO266=\"غ\",BP266<$BP$9),CK$5&\" - \",\"\"))","v":""},{"$f":"IF($C266=\"\",\"\",IF(BH266<$BH$9,CL$5,\"\"))","v":""},null,{"$f":"IF($C266=\"\",\"\",SUM(H266,L266,P266,T266,X266,AB266,AF266,AJ266,AN266,AR266,AV266,BA266,BB266))","v":""}]
[null,null,null,null,null,null,null,null,null,0,null,null,null,0,null,null,null,0,null,null,null,0,null,null,null,0,null,null,null,0,null,null,null,0,null,null,null,0,null,null,null,0,null,null,null,0,null,null,null,0,null,null,null,null,null,null,"","","","",null,null,null,0,null,null,null,0,"","","",null,null,null,null,"","","","","","","","","","","","","","","",null,""]
[null,null,null,null,null,null,null,null,null,0,null,null,null,0,null,null,null,0,null,null,null,0,null,null,null,0,null,null,null,0,null,null,null,0,null,null,null,0,null,null,null,0,null,null,null,0,null,null,null,0,null,null,null,null,null,null,"","","","",null,null,null,0,null,null,null,0,"","","",null,null,null,null,"","","","","","","","","","","","","","","",null,""]
[null,null,null,null,null,null,null,null,null,0,null,null,null,0,null,null,null,0,null,null,null,0,null,null,null,0,null,null,null,0,null,null,null,0,null,null,null,0,null,null,null,0,null,null,null,0,null,null,null,0,null,null,null,null,null,null,"","","","",null,null,null,0,null,null,null,0,"","","",null,null,null,null,"","","","","","","","","","","","","","","",null,""]
[null,null,null,null,null,null,null,null,null,0,null,null,null,0,null,null,null,0,null,null,null,0,null,null,null,0,null,null,null,0,null,null,null,0,null,null,null,0,null,null,null,0,null,null,null,0,null,null,null,0,null,null,null,null,null,null,"","","","",null,null,null,0,null,null,null,0,"","","",null,null,null,null,"","","","","","","","","","","","","","","",null,""]
[null,null,null,null,null,null,null,null,null,0,null,null,null,0,null,null,null,0,null,null,null,0,null,null,null,0,null,null,null,0,null,null,null,0,null,null,null,0,null,null,null,0,null,null,null,0,null,null,null,0,null,null,null,null,null,null,"","","","",null,null,null,0,null,null,null,0,"","","",null,null,null,null,"","","","","","","","","","","","","","","",null,""]
[null,null,null,null,null,null,null,null,null,0,null,null,null,0,null,null,null,0,null,null,null,0,null,null,null,0,null,null,null,0,null,null,null,0,null,null,null,0,null,null,null,0,null,null,null,0,null,null,null,0,null,null,null,null,null,null,"","","","",null,null,null,0,null,null,null,0,"","","",null,null,null,null,"","","","","","","","","","","","","","","",null,""]
[null,null,null,null,null,null,null,null,null,0,null,null,null,0,null,null,null,0,null,null,null,0,null,null,null,0,null,null,null,0,null,null,null,0,null,null,null,0,null,null,null,0,null,null,null,0,null,null,null,0,null,null,null,null,null,null,"","","","",null,null,null,0,null,null,null,0,"","","",null,null,null,null,"","","","","","","","","","","","","","","",null,""]
[null,null,null,null,null,null,null,null,null,0,null,null,null,0,null,null,null,0,null,null,null,0,null,null,null,0,null,null,null,0,null,null,null,0,null,null,null,0,null,null,null,0,null,null,null,0,null,null,null,0,null,null,null,null,null,null,"","","","",null,null,null,0,null,null,null,0,"","","",null,null,null,null,"","","","","","","","","","","","","","","",null,""]
[null,null,null,null,null,null,null,null,null,0,null,null,null,0,null,null,null,0,null,null,null,0,null,null,null,0,null,null,null,0,null,null,null,0,null,null,null,0,null,null,null,0,null,null,null,0,null,null,null,0,null,null,null,null,null,null,"","","","",null,null,null,0,null,null,null,0,"","","",null,null,null,null,"","","","","","","","","","","","","","","",null,""]
[null,null,null,null,null,null,null,null,null,0,null,null,null,0,null,null,null,0,null,null,null,0,null,null,null,0,null,null,null,0,null,null,null,0,null,null,null,0,null,null,null,0,null,null,null,0,null,null,null,0,null,null,null,null,null,null,"","","","",null,null,null,0,null,null,null,0,"","","",null,null,null,null,"","","","","","","","","","","","","","","",null,""]
[null,null,null,null,null,null,null,null,null,0,null,null,null,0,null,null,null,0,null,null,null,0,null,null,null,0,null,null,null,0,null,null,null,0,null,null,null,0,null,null,null,0,null,null,null,0,null,null,null,0,null,null,null,null,null,null,"","","","",null,null,null,0,null,null,null,0,"","","",null,null,null,null,"","","","","","","","","","","","","","","",null,""]
[null,null,null,null,null,null,null,null,null,0,null,null,null,0,null,null,null,0,null,null,null,0,null,null,null,0,null,null,null,0,null,null,null,0,null,null,null,0,null,null,null,0,null,null,null,0,null,null,null,0,null,null,null,null,null,null,"","","","",null,null,null,0,null,null,null,0,"","","",null,null,null,null,"","","","","","","","","","","","","","","",null,""]
[null,null,null,null,null,null,null,null,null,0,null,null,null,0,null,null,null,0,null,null,null,0,null,null,null,0,null,null,null,0,null,null,null,0,null,null,null,0,null,null,null,0,null,null,null,0,null,null,null,0,null,null,null,null,null,null,"","","","",null,null,null,0,null,null,null,0,"","","",null,null,null,null,"","","","","","","","","","","","","","","",null,""]
[null,null,null,null,null,null,null,null,null,0,null,null,null,0,null,null,null,0,null,null,null,0,null,null,null,0,null,null,null,0,null,null,null,0,null,null,null,0,null,null,null,0,null,null,null,0,null,null,null,0,null,null,null,null,null,null,"","","","",null,null,null,0,null,null,null,0,"","","",null,null,null,null,"","","","","","","","","","","","","","","",null,""]
[null,null,null,null,null,null,null,null,null,0,null,null,null,0,null,null,null,0,null,null,null,0,null,null,null,0,null,null,null,0,null,null,null,0,null,null,null,0,null,null,null,0,null,null,null,0,null,null,null,0,null,null,null,null,null,null,"","","","",null,null,null,0,null,null,null,0,"","","",null,null,null,null,"","","","","","","","","","","","","","","",null,""]
[null,null,null,null,null,null,null,null,null,0,null,null,null,0,null,null,null,0,null,null,null,0,null,null,null,0,null,null,null,0,null,null,null,0,null,null,null,0,null,null,null,0,null,null,null,0,null,null,null,0,null,null,null,null,null,null,"","","","",null,null,null,0,null,null,null,0,"","","",null,null,null,null,"","","","","","","","","","","","","","","",null,""]
[null,null,null,null,null,null,null,null,null,0,null,null,null,0,null,null,null,0,null,null,null,0,null,null,null,0,null,null,null,0,null,null,null,0,null,null,null,0,null,null,null,0,null,null,null,0,null,null,null,0,null,null,null,null,null,null,"","","","",null,null,null,0,null,null,null,0,"","","",null,null,null,null,"","","","","","","","","","","","","","","",null,""]
[null,null,null,null,null,null,null,null,null,0,null,null,null,0,null,null,null,0,null,null,null,0,null,null,null,0,null,null,null,0,null,null,null,0,null,null,null,0,null,null,null,0,null,null,null,0,null,null,null,0,null,null,null,null,null,null,"","","","",null,null,null,0,null,null,null,0,"","","",null,null,null,null,"","","","","","","","","","","","","","","",null,""]
[null,null,null,null,null,null,null,null,null,0,null,null,null,0,null,null,null,0,null,null,null,0,null,null,null,0,null,null,null,0,null,null,null,0,null,null,null,0,null,null,null,0,null,null,null,0,null,null,null,0,null,null,null,null,null,null,"","","","",null,null,null,0,null,null,null,0,"","","",null,null,null,null,"","","","","","","","","","","","","","","",null,""]
[null,null,null,null,null,null,null,null,null,0,null,null,null,0,null,null,null,0,null,null,null,0,null,null,null,0,null,null,null,0,null,null,null,0,null,null,null,0,null,null,null,0,null,null,null,0,null,null,null,0,null,null,null,null,null,null,"","","","",null,null,null,0,null,null,null,0,"","","",null,null,null,null,"","","","","","","","","","","","","","","",null,""]
[null,null,null,null,null,null,null,null,null,0,null,null,null,0,null,null,null,0,null,null,null,0,null,null,null,0,null,null,null,0,null,null,null,0,null,null,null,0,null,null,null,0,null,null,null,0,null,null,null,0,null,null,null,null,null,null,"","","","",null,null,null,0,null,null,null,0,"","","",null,null,null,null,"","","","","","","","","","","","","","","",null,""]
[null,null,null,null,null,null,null,null,null,0,null,null,null,0,null,null,null,0,null,null,null,0,null,null,null,0,null,null,null,0,null,null,null,0,null,null,null,0,null,null,null,0,null,null,null,0,null,null,null,0,null,null,null,null,null,null,"","","","",null,null,null,0,null,null,null,0,"","","",null,null,null,null,"","","","","","","","","","","","","","","",null,""]
[null,null,null,null,null,null,null,null,null,0,null,null,null,0,null,null,null,0,null,null,null,0,null,null,null,0,null,null,null,0,null,null,null,0,null,null,null,0,null,null,null,0,null,null,null,0,null,null,null,0,null,null,null,null,null,null,"","","","",null,null,null,0,null,null,null,0,"","","",null,null,null,null,"","","","","","","","","","","","","","","",null,""]
[null,null,null,null,null,null,null,null,null,0,null,null,null,0,null,null,null,0,null,null,null,0,null,null,null,0,null,null,null,0,null,null,null,0,null,null,null,0,null,null,null,0,null,null,null,0,null,null,null,0,null,null,null,null,null,null,"","","","",null,null,null,0,null,null,null,0,"","","",null,null,null,null,"","","","","","","","","","","","","","","",null,""]
[null,null,null,null,null,null,null,null,null,0,null,null,null,0,null,null,null,0,null,null,null,0,null,null,null,0,null,null,null,0,null,null,null,0,null,null,null,0,null,null,null,0,null,null,null,0,null,null,null,0,null,null,null,null,null,null,"","","","",null,null,null,0,null,null,null,0,"","","",null,null,null,null,"","","","","","","","","","","","","","","",null,""]
[null,null,null,null,null,null,null,null,null,0,null,null,null,0,null,null,null,0,null,null,null,0,null,null,null,0,null,null,null,0,null,null,null,0,null,null,null,0,null,null,null,0,null,null,null,0,null,null,null,0,null,null,null,null,null,null,"","","","",null,null,null,0,null,null,null,0,"","","",null,null,null,null,"","","","","","","","","","","","","","","",null,""]
[null,null,null,null,null,null,null,null,null,0,null,null,null,0,null,null,null,0,null,null,null,0,null,null,null,0,null,null,null,0,null,null,null,0,null,null,null,0,null,null,null,0,null,null,null,0,null,null,null,0,null,null,null,null,null,null,"","","","",null,null,null,0,null,null,null,0,"","","",null,null,null,null,"","","","","","","","","","","","","","","",null,""]
[null,null,null,null,null,null,null,null,null,0,null,null,null,0,null,null,null,0,null,null,null,0,null,null,null,0,null,null,null,0,null,null,null,0,null,null,null,0,null,null,null,0,null,null,null,0,null,null,null,0,null,null,null,null,null,null,"","","","",null,null,null,0,null,null,null,0,"","","",null,null,null,null,"","","","","","","","","","","","","","","",null,""]
[null,null,null,null,null,null,null,null,null,0,null,null,null,0,null,null,null,0,null,null,null,0,null,null,null,0,null,null,null,0,null,null,null,0,null,null,null,0,null,null,null,0,null,null,null,0,null,null,null,0,null,null,null,null,null,null,"","","","",null,null,null,0,null,null,null,0,"","","",null,null,null,null,"","","","","","","","","","","","","","","",null,""]
[null,null,null,null,null,null,null,null,null,0,null,null,null,0,null,null,null,0,null,null,null,0,null,null,null,0,null,null,null,0,null,null,null,0,null,null,null,0,null,null,null,0,null,null,null,0,null,null,null,0,null,null,null,null,null,null,"","","","",null,null,null,0,null,null,null,0,"","","",null,null,null,null,"","","","","","","","","","","","","","","",null,""]
[null,null,null,null,null,null,null,null,null,{"$f":"SUM(G297:I297)","v":0},null,null,null,0,null,null,null,0,null,null,null,0,null,null,null,0,null,null,null,0,null,null,null,0,null,null,null,0,null,null,null,0,null,null,null,0,null,null,null,0,null,null,null,null,null,null,"","","","",null,null,null,0,null,null,null,0,"","","",null,null,null,null,"","","","","","","","","","","","","","","",null,""]
[null,null,null,null,null,null,null,null,null,0,null,null,null,0,null,null,null,0,null,null,null,0,null,null,null,0,null,null,null,0,null,null,null,0,null,null,null,0,null,null,null,0,null,null,null,0,null,null,null,0,null,null,null,null,null,null,"","","","",null,null,null,0,null,null,null,0,"","","",null,null,null,null,"","","","","","","","","","","","","","","",null,""]
[null,null,null,null,null,null,null,null,null,0,null,null,null,0,null,null,null,0,null,null,null,0,null,null,null,0,null,null,null,0,null,null,null,0,null,null,null,0,null,null,null,0,null,null,null,0,null,null,null,0,null,null,null,null,null,null,"","","","",null,null,null,0,null,null,null,0,"","","",null,null,null,null,"","","","","","","","","","","","","","","",null,""]
[null,null,null,null,null,null,null,null,null,0,null,null,null,0,null,null,null,0,null,null,null,0,null,null,null,0,null,null,null,0,null,null,null,0,null,null,null,0,null,null,null,0,null,null,null,0,null,null,null,0,null,null,null,null,null,null,"","","","",null,null,null,0,null,null,null,0,"","","",null,null,null,null,"","","","","","","","","","","","","","","",null,""]
[null,null,null,null,null,null,null,null,null,0,null,null,null,0,null,null,null,0,null,null,null,0,null,null,null,0,null,null,null,0,null,null,null,0,null,null,null,0,null,null,null,0,null,null,null,0,null,null,null,0,null,null,null,null,null,null,"","","","",null,null,null,0,null,null,null,0,"","","",null,null,null,null,"","","","","","","","","","","","","","","",null,""]
[null,null,null,null,null,null,null,null,null,0,null,null,null,0,null,null,null,0,null,null,null,0,null,null,null,0,null,null,null,0,null,null,null,0,null,null,null,0,null,null,null,0,null,null,null,0,null,null,null,0,null,null,null,null,null,null,"","","","",null,null,null,0,null,null,null,0,"","","",null,null,null,null,"","","","","","","","","","","","","","","",null,""]
[null,null,null,null,null,null,null,null,null,0,null,null,null,0,null,null,null,0,null,null,null,0,null,null,null,0,null,null,null,0,null,null,null,0,null,null,null,0,null,null,null,0,null,null,null,0,null,null,null,0,null,null,null,null,null,null,"","","","",null,null,null,0,null,null,null,0,"","","",null,null,null,null,"","","","","","","","","","","","","","","",null,""]
[null,null,null,null,null,null,null,null,null,0,null,null,null,0,null,null,null,0,null,null,null,0,null,null,null,0,null,null,null,0,null,null,null,0,null,null,null,0,null,null,null,0,null,null,null,0,null,null,null,0,null,null,null,null,null,null,{"$f":"IF($C304=\"\",\"\",SUM(AY304,BA304,BC304))","v":""},"","","",null,null,null,0,null,null,null,0,"","","",null,null,null,null,"","","","","","","","","","","","","","","",null,""]
[null,null,null,null,null,null,null,null,null,0,null,null,null,0,null,null,null,0,null,null,null,0,null,null,null,0,null,null,null,0,null,null,null,0,null,null,null,0,null,null,null,0,null,null,null,0,null,null,null,0,null,null,null,null,null,null,"","","","",null,null,null,0,null,null,null,0,"","","",null,null,null,null,"","","","","","","","","","","","","","","",null,""]
[null,null,null,null,null,null,null,null,null,0,null,null,null,0,null,null,null,0,null,null,null,0,null,null,null,0,null,null,null,0,null,null,null,0,null,null,null,0,null,null,null,0,null,null,null,0,null,null,null,0,null,null,null,null,null,null,"","","","",null,null,null,0,null,null,null,0,"","","",null,null,null,null,"","","","","","","","","","","","","","","",null,""]
[null,null,null,null,null,null,null,null,null,0,null,null,null,0,null,null,null,0,null,null,null,0,null,null,null,0,null,null,null,0,null,null,null,0,null,null,null,0,null,null,null,0,null,null,null,0,null,null,null,0,null,null,null,null,null,null,"","","","",null,null,null,0,null,null,null,0,"","","",null,null,null,null,"","","","","","","","","","","","","","","",null,""]
[null,null,null,null,null,null,null,null,null,0,null,null,null,0,null,null,null,0,null,null,null,0,null,null,null,0,null,null,null,0,null,null,null,0,null,null,null,0,null,null,null,0,null,null,null,0,null,null,null,0,null,null,null,null,null,null,"","","","",null,null,null,0,null,null,null,0,"","","",null,null,null,null,"","","","","","","","","","","","","","","",null,""]
[null,null,null,null,null,null,null,null,null,0,null,null,null,0,null,null,null,0,null,null,null,0,null,null,null,0,null,null,null,0,null,null,null,0,null,null,null,0,null,null,null,0,null,null,null,0,null,null,null,0,null,null,null,null,null,null,"","","","",null,null,null,0,null,null,null,0,"","","",null,null,null,null,"","","","","","","","","","","","","","","",null,""]
[null,null,null,null,null,null,null,null,null,0,null,null,null,0,null,null,null,0,null,null,null,0,null,null,null,0,null,null,null,0,null,null,null,0,null,null,null,0,null,null,null,0,null,null,null,0,null,null,null,0,null,null,null,null,null,null,"","","","",null,null,null,0,null,null,null,0,"","","",null,null,null,null,"","","","","","","","","","","","","","","",null,""]
[null,null,null,null,null,null,null,null,null,0,null,null,null,0,null,null,null,0,null,null,null,0,null,null,null,0,null,null,null,0,null,null,null,0,null,null,null,0,null,null,null,0,null,null,null,0,null,null,null,0,null,null,null,null,null,null,"","","","",null,null,null,0,null,null,null,0,"","","",null,null,null,null,"","","","","","","","","","","","","","","",null,""]
[null,null,null,null,null,null,null,null,null,0,null,null,null,0,null,null,null,0,null,null,null,0,null,null,null,0,null,null,null,0,null,null,null,0,null,null,null,0,null,null,null,0,null,null,null,0,null,null,null,0,null,null,null,null,null,null,"","","","",null,null,null,0,null,null,null,0,"","","",null,null,null,null,"","","","","","","","","","","","","","","",null,""]
[null,null,null,null,null,null,null,null,null,0,null,null,null,0,null,null,null,0,null,null,null,0,null,null,null,0,null,null,null,0,null,null,null,0,null,null,null,0,null,null,null,0,null,null,null,0,null,null,null,0,null,null,null,null,null,null,"","","","",null,null,null,0,null,null,null,0,"","","",null,null,null,null,"","","","","","","","","","","","","","","",null,""]
[null,null,null,null,null,null,null,null,null,0,null,null,null,0,null,null,null,0,null,null,null,0,null,null,null,0,null,null,null,0,null,null,null,0,null,null,null,0,null,null,null,0,null,null,null,0,null,null,null,0,null,null,null,null,null,null,"","","","",null,null,null,0,null,null,null,0,"","","",null,null,null,null,"","","","","","","","","","","","","","","",null,""]
[null,null,null,null,null,null,null,null,null,0,null,null,null,0,null,null,null,0,null,null,null,0,null,null,null,0,null,null,null,0,null,null,null,0,null,null,null,0,null,null,null,0,null,null,null,0,null,null,null,0,null,null,null,null,null,null,"","","","",null,null,null,0,null,null,null,0,"","","",null,null,null,null,"","","","","","","","","","","","","","","",null,""]
[null,null,null,null,null,null,null,null,null,0,null,null,null,0,null,null,null,0,null,null,null,0,null,null,null,0,null,null,null,0,null,null,null,0,null,null,null,0,null,null,null,0,null,null,null,0,null,null,null,0,null,null,null,null,null,null,"","","","",null,null,null,0,null,null,null,0,"","","",null,null,null,null,"","","","","","","","","","","","","","","",null,""]
[null,null,null,null,null,null,null,null,null,0,null,null,null,0,null,null,null,0,null,null,null,0,null,null,null,0,null,null,null,0,null,null,null,0,null,null,null,0,null,null,null,0,null,null,null,0,null,null,null,0,null,null,null,null,null,null,"","","","",null,null,null,0,null,null,null,0,"","","",null,null,null,null,"","","","","","","","","","","","","","","",null,""]
[null,null,null,null,null,null,null,null,null,0,null,null,null,0,null,null,null,0,null,null,null,0,null,null,null,0,null,null,null,0,null,null,null,0,null,null,null,0,null,null,null,0,null,null,null,0,null,null,null,0,null,null,null,null,null,null,"","","","",null,null,null,0,null,null,null,0,"","","",null,null,null,null,"","","","","","","","","","","","","","","",null,""]
[null,null,null,null,null,null,null,null,null,0,null,null,null,0,null,null,null,0,null,null,null,0,null,null,null,0,null,null,null,0,null,null,null,0,null,null,null,0,null,null,null,0,null,null,null,0,null,null,null,0,null,null,null,null,null,null,"","","","",null,null,null,0,null,null,null,0,"","","",null,null,null,null,"","","","","","","","","","","","","","","",null,""]
[null,null,null,null,null,null,null,null,null,0,null,null,null,0,null,null,null,0,null,null,null,0,null,null,null,0,null,null,null,0,null,null,null,0,null,null,null,0,null,null,null,{"$f":"SUM(AM320:AO320)","v":0},null,null,null,0,null,null,null,0,null,null,null,null,null,null,"","","","",null,null,null,0,null,null,null,0,"","","",null,null,null,null,"","","","","","","","","","","","","","","",null,""]
[null,null,null,null,null,null,null,null,null,0,null,null,null,0,null,null,null,0,null,null,null,0,null,null,null,0,null,null,null,0,null,null,null,0,null,null,null,0,null,null,null,0,null,null,null,0,null,null,null,0,null,null,null,null,null,null,"","","","",null,null,null,0,null,null,null,0,"","","",null,null,null,null,"","","","","","","","","","","","","","","",null,""]
[null,null,null,null,null,null,null,null,null,0,null,null,null,0,null,null,null,0,null,null,null,0,null,null,null,0,null,null,null,0,null,null,null,0,null,null,null,0,null,null,null,0,null,null,null,0,null,null,null,0,null,null,null,null,null,null,"","","","",null,null,null,0,null,null,null,0,"","","",null,null,null,null,"","","","","","","","","","","","","","","",null,""]
[null,null,null,null,null,null,null,null,null,0,null,null,null,0,null,null,null,0,null,null,null,0,null,null,null,0,null,null,null,0,null,null,null,0,null,null,null,0,null,null,null,0,null,null,null,0,null,null,null,0,null,null,null,null,null,null,"","","","",null,null,null,0,null,null,null,0,"","","",null,null,null,null,"","","","","","","","","","","","","","","",null,""]
[null,null,null,null,null,null,null,null,null,0,null,null,null,0,null,null,null,0,null,null,null,0,null,null,null,0,null,null,null,0,null,null,null,0,null,null,null,0,null,null,null,0,null,null,null,0,null,null,null,0,null,null,null,null,null,null,"","","","",null,null,null,0,null,null,null,0,"","","",null,null,null,null,"","","","","","","","","","","","","","","",null,""]
[null,null,null,null,null,null,null,null,null,0,null,null,null,0,null,null,null,0,null,null,null,0,null,null,null,0,null,null,null,0,null,null,null,0,null,null,null,0,null,null,null,0,null,null,null,0,null,null,null,0,null,null,null,null,null,null,"","","","",null,null,null,0,null,null,null,0,"","","",null,null,null,null,"","","","","","","","","","","","","","","",null,""]
[null,null,null,null,null,null,null,null,null,0,null,null,null,0,null,null,null,0,null,null,null,0,null,null,null,0,null,null,null,0,null,null,null,0,null,null,null,0,null,null,null,0,null,null,null,0,null,null,null,0,null,null,null,null,null,null,"","","","",null,null,null,0,null,null,null,0,"","","",null,null,null,null,"","","","","","","","","","","","","","","",null,""]
[null,null,null,null,null,null,null,null,null,0,null,null,null,0,null,null,null,0,null,null,null,0,null,null,null,0,null,null,null,0,null,null,null,0,null,null,null,0,null,null,null,0,null,null,null,0,null,null,null,0,null,null,null,null,null,null,"","","","",null,null,null,0,null,null,null,0,"","","",null,null,null,null,"","","","","","","","","","","","","","","",null,""]
[null,null,null,null,null,null,null,null,null,0,null,null,null,0,null,null,null,0,null,null,null,0,null,null,null,0,null,null,null,0,null,null,null,0,null,null,null,0,null,null,null,0,null,null,null,0,null,null,null,0,null,null,null,null,null,null,"","","","",null,null,null,0,null,null,null,0,"","","",null,null,null,null,"","","","","","","","","","","","","","","",null,""]
[null,null,null,null,null,null,null,null,null,0,null,null,null,0,null,null,null,0,null,null,null,0,null,null,null,0,null,null,null,0,null,null,null,0,null,null,null,0,null,null,null,0,null,null,null,0,null,null,null,0,null,null,null,null,null,null,"","","","",null,null,null,0,null,null,null,0,"","","",null,null,null,null,"","","","","","","","","","","","","","","",null,""]
[null,null,null,null,null,null,null,null,null,0,null,null,null,{"$f":"SUM(K330:M330)","v":0},null,null,null,{"$f":"SUM(O330:Q330)","v":0},null,null,null,{"$f":"SUM(S330:U330)","v":0},null,null,null,{"$f":"SUM(W330:Y330)","v":0},null,null,null,{"$f":"SUM(AA330:AC330)","v":0},null,null,null,{"$f":"SUM(AE330:AG330)","v":0},null,null,null,{"$f":"SUM(AI330:AK330)","v":0},null,null,null,0,null,null,null,{"$f":"SUM(AQ330:AS330)","v":0},null,null,null,{"$f":"SUM(AU330:AW330)","v":0},null,null,null,null,null,null,"","",{"$f":"IF($C330=\"\",\"\",SUM(BE330,BF330))","v":""},{"$f":"IF($C330=\"\",\"\",SUM(J330,N330,R330,V330,Z330,AD330,AH330,AL330,AP330,AT330,AX330,BG330))","v":""},null,null,null,{"$f":"SUM(BI330:BK330)","v":0},null,null,null,{"$f":"SUM(BM330:BO330)","v":0},{"$f":"IF($C330=\"\",\"\",IF(BS330=0,\"ناجحة\",IF(BS330<=2,\"دورثان\",\"راسبة\")))","v":""},{"$f":"IF($C330=\"\",\"\",IF(BS330=0,\"ومنقولة للصف الثالث\",IF(BS330>0,\"فى  :  \"&CONCATENATE(BX330,BY330,BZ330,CA330,CB330,CC330,CD330,CE330,CF330,CG330,CH330,CI330,CJ330,CK330,CL330),CONCATENATE(BX330,BY330,BZ330,CA330,CB330,CC330,CD330,CE330,CF330,CG330,CH330,CI330,CJ330,CK330,CL330))))","v":""},{"$f":"IF($C330=\"\",\"\",COUNTA($BX330:$CL330)-COUNTBLANK($BX330:$CL330))","v":""},null,null,null,null,{"$f":"IF($C330=\"\",\"\",IF(OR(I330<$I$9,I330=\"غ\",J330<$J$9),$BX$5&\" - \",\"\"))","v":""},{"$f":"IF($C330=\"\",\"\",IF(OR(M330<$M$9,M330=\"غ\",N330<$N$9),$BY$5&\" - \",\"\"))","v":""},{"$f":"IF($C330=\"\",\"\",IF(OR(Q330<$Q$9,Q330=\"غ\",R330<$R$9),BZ$5&\" - \",\"\"))","v":""},{"$f":"IF($C330=\"\",\"\",IF(OR(U330<$U$9,U330=\"غ\",V330<$V$9),CA$5&\" - \",\"\"))","v":""},{"$f":"IF($C330=\"\",\"\",IF(OR(Y330<$Y$9,Y330=\"غ\",Z330<$Z$9),CB$5&\" - \",\"\"))","v":""},{"$f":"IF($C330=\"\",\"\",IF(OR(AC330<$AC$9,AC330=\"غ\",AD330<$AD$9),CC$5&\" - \",\"\"))","v":""},{"$f":"IF($C330=\"\",\"\",IF(OR(AG330<$AG$9,AG330=\"غ\",AH330<$AH$9),CD$5&\" - \",\"\"))","v":""},{"$f":"IF($C330=\"\",\"\",IF(OR(AK330<$AK$9,AK330=\"غ\",AL330<$AL$9),CE$5&\" - \",\"\"))","v":""},{"$f":"IF($C330=\"\",\"\",IF(OR(AO330<$AO$9,AO330=\"غ\",AP330<$AP$9),CF$5&\" - \",\"\"))","v":""},{"$f":"IF($C330=\"\",\"\",IF(OR(AS330<$AS$9,AS330=\"غ\",AT330<$AT$9),CG$5&\" - \",\"\"))","v":""},{"$f":"IF($C330=\"\",\"\",IF(OR(AW330<$AW$9,AW330=\"غ\",AX330<$AX$9),CH$5&\" - \",\"\"))","v":""},{"$f":"IF($C330=\"\",\"\",IF(OR(BE330<$BE$9,BE330=\"غ\",BF330<$BF$9,BF330=\"غ\",BG330<$BG$9),CI$5&\" - \",\"\"))","v":""},{"$f":"IF($C330=\"\",\"\",IF(OR(BK330<$BK$9,BK330=\"غ\",BL330<$BL$9),CJ$5&\" - \",\"\"))","v":""},{"$f":"IF($C330=\"\",\"\",IF(OR(BO330<$BO$9,BO330=\"غ\",BP330<$BP$9),CK$5&\" - \",\"\"))","v":""},{"$f":"IF($C330=\"\",\"\",IF(BH330<$BH$9,CL$5,\"\"))","v":""},null,{"$f":"IF($C330=\"\",\"\",SUM(H330,L330,P330,T330,X330,AB330,AF330,AJ330,AN330,AR330,AV330,BA330,BB330))","v":""}]
[null,null,null,null,null,null,null,null,null,0,null,null,null,0,null,null,null,0,null,null,null,0,null,null,null,0,null,null,null,0,null,null,null,0,null,null,null,0,null,null,null,0,null,null,null,0,null,null,null,0,null,null,null,null,null,null,"","","","",null,null,null,0,null,null,null,0,"","","",null,null,null,null,"","","","","","","","","","","","","","","",null,""]
[null,null,null,null,null,null,null,null,null,0,null,null,null,0,null,null,null,0,null,null,null,0,null,null,null,0,null,null,null,0,null,null,null,0,null,null,null,0,null,null,null,0,null,null,null,0,null,null,null,0,null,null,null,null,null,null,"","","","",null,null,null,0,null,null,null,0,"","","",null,null,null,null,"","","","","","","","","","","","","","","",null,""]
[null,null,null,null,null,null,null,null,null,0,null,null,null,0,null,null,null,0,null,null,null,0,null,null,null,0,null,null,null,0,null,null,null,0,null,null,null,0,null,null,null,0,null,null,null,0,null,null,null,0,null,null,null,null,null,null,"","","","",null,null,null,0,null,null,null,0,"","","",null,null,null,null,"","","","","","","","","","","","","","","",null,""]
[null,null,null,null,null,null,null,null,null,0,null,null,null,0,null,null,null,0,null,null,null,0,null,null,null,0,null,null,null,0,null,null,null,0,null,null,null,0,null,null,null,0,null,null,null,0,null,null,null,0,null,null,null,null,null,null,"","","","",null,null,null,0,null,null,null,0,"","","",null,null,null,null,"","","","","","","","","","","","","","","",null,""]
[null,null,null,null,null,null,null,null,null,0,null,null,null,0,null,null,null,0,null,null,null,0,null,null,null,0,null,null,null,0,null,null,null,0,null,null,null,0,null,null,null,0,null,null,null,0,null,null,null,0,null,null,null,null,null,null,"","","","",null,null,null,0,null,null,null,0,"","","",null,null,null,null,"","","","","","","","","","","","","","","",null,""]
[null,null,null,null,null,null,null,null,null,0,null,null,null,0,null,null,null,0,null,null,null,0,null,null,null,0,null,null,null,0,null,null,null,0,null,null,null,0,null,null,null,0,null,null,null,0,null,null,null,0,null,null,null,null,null,null,"","","","",null,null,null,0,null,null,null,0,"","","",null,null,null,null,"","","","","","","","","","","","","","","",null,""]
[null,null,null,null,null,null,null,null,null,0,null,null,null,0,null,null,null,0,null,null,null,0,null,null,null,0,null,null,null,0,null,null,null,0,null,null,null,0,null,null,null,0,null,null,null,0,null,null,null,0,null,null,null,null,null,null,"","","","",null,null,null,0,null,null,null,0,"","","",null,null,null,null,"","","","","","","","","","","","","","","",null,""]
[null,null,null,null,null,null,null,null,null,0,null,null,null,0,null,null,null,0,null,null,null,0,null,null,null,0,null,null,null,0,null,null,null,0,null,null,null,0,null,null,null,0,null,null,null,0,null,null,null,0,null,null,null,null,null,null,"","","","",null,null,null,0,null,null,null,0,"","","",null,null,null,null,"","","","","","","","","","","","","","","",null,""]
[null,null,null,null,null,null,null,null,null,0,null,null,null,0,null,null,null,0,null,null,null,0,null,null,null,0,null,null,null,0,null,null,null,0,null,null,null,0,null,null,null,0,null,null,null,0,null,null,null,0,null,null,null,null,null,null,"","","","",null,null,null,0,null,null,null,0,"","","",null,null,null,null,"","","","","","","","","","","","","","","",null,""]
[null,null,null,null,null,null,null,null,null,0,null,null,null,0,null,null,null,0,null,null,null,0,null,null,null,0,null,null,null,0,null,null,null,0,null,null,null,0,null,null,null,0,null,null,null,0,null,null,null,0,null,null,null,null,null,null,"","","","",null,null,null,0,null,null,null,0,"","","",null,null,null,null,"","","","","","","","","","","","","","","",null,""]
[null,null,null,null,null,null,null,null,null,0,null,null,null,0,null,null,null,0,null,null,null,0,null,null,null,0,null,null,null,0,null,null,null,0,null,null,null,0,null,null,null,0,null,null,null,0,null,null,null,0,null,null,null,null,null,null,"","","","",null,null,null,0,null,null,null,0,"","","",null,null,null,null,"","","","","","","","","","","","","","","",null,""]
[null,null,null,null,null,null,null,null,null,0,null,null,null,0,null,null,null,0,null,null,null,0,null,null,null,0,null,null,null,0,null,null,null,0,null,null,null,0,null,null,null,0,null,null,null,0,null,null,null,0,null,null,null,null,null,null,"","","","",null,null,null,0,null,null,null,0,"","","",null,null,null,null,"","","","","","","","","","","","","","","",null,""]
[null,null,null,null,null,null,null,null,null,0,null,null,null,0,null,null,null,0,null,null,null,0,null,null,null,0,null,null,null,0,null,null,null,0,null,null,null,0,null,null,null,0,null,null,null,0,null,null,null,0,null,null,null,null,null,null,"","","","",null,null,null,0,null,null,null,0,"","","",null,null,null,null,"","","","","","","","","","","","","","","",null,""]
[null,null,null,null,null,null,null,null,null,0,null,null,null,0,null,null,null,0,null,null,null,0,null,null,null,0,null,null,null,0,null,null,null,0,null,null,null,0,null,null,null,0,null,null,null,0,null,null,null,0,null,null,null,null,null,null,"","","","",null,null,null,0,null,null,null,0,"","","",null,null,null,null,"","","","","","","","","","","","","","","",null,""]
[null,null,null,null,null,null,null,null,null,0,null,null,null,0,null,null,null,0,null,null,null,0,null,null,null,0,null,null,null,0,null,null,null,0,null,null,null,0,null,null,null,0,null,null,null,0,null,null,null,0,null,null,null,null,null,null,"","","","",null,null,null,0,null,null,null,0,"","","",null,null,null,null,"","","","","","","","","","","","","","","",null,""]
[null,null,null,null,null,null,null,null,null,0,null,null,null,0,null,null,null,0,null,null,null,0,null,null,null,0,null,null,null,0,null,null,null,0,null,null,null,0,null,null,null,0,null,null,null,0,null,null,null,0,null,null,null,null,null,null,"","","","",null,null,null,0,null,null,null,0,"","","",null,null,null,null,"","","","","","","","","","","","","","","",null,""]
[null,null,null,null,null,null,null,null,null,0,null,null,null,0,null,null,null,0,null,null,null,0,null,null,null,0,null,null,null,0,null,null,null,0,null,null,null,0,null,null,null,0,null,null,null,0,null,null,null,0,null,null,null,null,null,null,"","","","",null,null,null,0,null,null,null,0,"","","",null,null,null,null,"","","","","","","","","","","","","","","",null,""]
[null,null,null,null,null,null,null,null,null,0,null,null,null,0,null,null,null,0,null,null,null,0,null,null,null,0,null,null,null,0,null,null,null,0,null,null,null,0,null,null,null,0,null,null,null,0,null,null,null,0,null,null,null,null,null,null,"","","","",null,null,null,0,null,null,null,0,"","","",null,null,null,null,"","","","","","","","","","","","","","","",null,""]
[null,null,null,null,null,null,null,null,null,0,null,null,null,0,null,null,null,0,null,null,null,0,null,null,null,0,null,null,null,0,null,null,null,0,null,null,null,0,null,null,null,0,null,null,null,0,null,null,null,0,null,null,null,null,null,null,"","","","",null,null,null,0,null,null,null,0,"","","",null,null,null,null,"","","","","","","","","","","","","","","",null,""]
[null,null,null,null,null,null,null,null,null,0,null,null,null,0,null,null,null,0,null,null,null,0,null,null,null,0,null,null,null,0,null,null,null,0,null,null,null,0,null,null,null,0,null,null,null,0,null,null,null,0,null,null,null,null,null,null,"","","","",null,null,null,0,null,null,null,0,"","","",null,null,null,null,"","","","","","","","","","","","","","","",null,""]
[null,null,null,null,null,null,null,null,null,0,null,null,null,0,null,null,null,0,null,null,null,0,null,null,null,0,null,null,null,0,null,null,null,0,null,null,null,0,null,null,null,0,null,null,null,0,null,null,null,0,null,null,null,null,null,null,"","","","",null,null,null,0,null,null,null,0,"","","",null,null,null,null,"","","","","","","","","","","","","","","",null,""]
[null,null,null,null,null,null,null,null,null,0,null,null,null,0,null,null,null,0,null,null,null,0,null,null,null,0,null,null,null,0,null,null,null,0,null,null,null,0,null,null,null,0,null,null,null,0,null,null,null,0,null,null,null,null,null,null,"","","","",null,null,null,0,null,null,null,0,"","","",null,null,null,null,"","","","","","","","","","","","","","","",null,""]
[null,null,null,null,null,null,null,null,null,0,null,null,null,0,null,null,null,0,null,null,null,0,null,null,null,0,null,null,null,0,null,null,null,0,null,null,null,0,null,null,null,0,null,null,null,0,null,null,null,0,null,null,null,null,null,null,"","","","",null,null,null,0,null,null,null,0,"","","",null,null,null,null,"","","","","","","","","","","","","","","",null,""]
[null,null,null,null,null,null,null,null,null,0,null,null,null,0,null,null,null,0,null,null,null,0,null,null,null,0,null,null,null,0,null,null,null,0,null,null,null,0,null,null,null,0,null,null,null,0,null,null,null,0,null,null,null,null,null,null,"","","","",null,null,null,0,null,null,null,0,"","","",null,null,null,null,"","","","","","","","","","","","","","","",null,""]
[null,null,null,null,null,null,null,null,null,0,null,null,null,0,null,null,null,0,null,null,null,0,null,null,null,0,null,null,null,0,null,null,null,0,null,null,null,0,null,null,null,0,null,null,null,0,null,null,null,0,null,null,null,null,null,null,"","","","",null,null,null,0,null,null,null,0,"","","",null,null,null,null,"","","","","","","","","","","","","","","",null,""]
[null,null,null,null,null,null,null,null,null,0,null,null,null,0,null,null,null,0,null,null,null,0,null,null,null,0,null,null,null,0,null,null,null,0,null,null,null,0,null,null,null,0,null,null,null,0,null,null,null,0,null,null,null,null,null,null,"","","","",null,null,null,0,null,null,null,0,"","","",null,null,null,null,"","","","","","","","","","","","","","","",null,""]
[null,null,null,null,null,null,null,null,null,0,null,null,null,0,null,null,null,0,null,null,null,0,null,null,null,0,null,null,null,0,null,null,null,0,null,null,null,0,null,null,null,0,null,null,null,0,null,null,null,0,null,null,null,null,null,null,"","","","",null,null,null,0,null,null,null,0,"","","",null,null,null,null,"","","","","","","","","","","","","","","",null,""]
[null,null,null,null,null,null,null,null,null,0,null,null,null,0,null,null,null,0,null,null,null,0,null,null,null,0,null,null,null,0,null,null,null,0,null,null,null,0,null,null,null,0,null,null,null,0,null,null,null,0,null,null,null,null,null,null,"","","","",null,null,null,0,null,null,null,0,"","","",null,null,null,null,"","","","","","","","","","","","","","","",null,""]
[null,null,null,null,null,null,null,null,null,0,null,null,null,0,null,null,null,0,null,null,null,0,null,null,null,0,null,null,null,0,null,null,null,0,null,null,null,0,null,null,null,0,null,null,null,0,null,null,null,0,null,null,null,null,null,null,"","","","",null,null,null,0,null,null,null,0,"","","",null,null,null,null,"","","","","","","","","","","","","","","",null,""]
[null,null,null,null,null,null,null,null,null,0,null,null,null,0,null,null,null,0,null,null,null,0,null,null,null,0,null,null,null,0,null,null,null,0,null,null,null,0,null,null,null,0,null,null,null,0,null,null,null,0,null,null,null,null,null,null,"","","","",null,null,null,0,null,null,null,0,"","","",null,null,null,null,"","","","","","","","","","","","","","","",null,""]
[null,null,null,null,null,null,null,null,null,{"$f":"SUM(G361:I361)","v":0},null,null,null,0,null,null,null,0,null,null,null,0,null,null,null,0,null,null,null,0,null,null,null,0,null,null,null,0,null,null,null,0,null,null,null,0,null,null,null,0,null,null,null,null,null,null,"","","","",null,null,null,0,null,null,null,0,"","","",null,null,null,null,"","","","","","","","","","","","","","","",null,""]
[null,null,null,null,null,null,null,null,null,0,null,null,null,0,null,null,null,0,null,null,null,0,null,null,null,0,null,null,null,0,null,null,null,0,null,null,null,0,null,null,null,0,null,null,null,0,null,null,null,0,null,null,null,null,null,null,"","","","",null,null,null,0,null,null,null,0,"","","",null,null,null,null,"","","","","","","","","","","","","","","",null,""]
[null,null,null,null,null,null,null,null,null,0,null,null,null,0,null,null,null,0,null,null,null,0,null,null,null,0,null,null,null,0,null,null,null,0,null,null,null,0,null,null,null,0,null,null,null,0,null,null,null,0,null,null,null,null,null,null,"","","","",null,null,null,0,null,null,null,0,"","","",null,null,null,null,"","","","","","","","","","","","","","","",null,""]
[null,null,null,null,null,null,null,null,null,0,null,null,null,0,null,null,null,0,null,null,null,0,null,null,null,0,null,null,null,0,null,null,null,0,null,null,null,0,null,null,null,0,null,null,null,0,null,null,null,0,null,null,null,null,null,null,"","","","",null,null,null,0,null,null,null,0,"","","",null,null,null,null,"","","","","","","","","","","","","","","",null,""]
[null,null,null,null,null,null,null,null,null,0,null,null,null,0,null,null,null,0,null,null,null,0,null,null,null,0,null,null,null,0,null,null,null,0,null,null,null,0,null,null,null,0,null,null,null,0,null,null,null,0,null,null,null,null,null,null,"","","","",null,null,null,0,null,null,null,0,"","","",null,null,null,null,"","","","","","","","","","","","","","","",null,""]
[null,null,null,null,null,null,null,null,null,0,null,null,null,0,null,null,null,0,null,null,null,0,null,null,null,0,null,null,null,0,null,null,null,0,null,null,null,0,null,null,null,0,null,null,null,0,null,null,null,0,null,null,null,null,null,null,"","","","",null,null,null,0,null,null,null,0,"","","",null,null,null,null,"","","","","","","","","","","","","","","",null,""]
[null,null,null,null,null,null,null,null,null,0,null,null,null,0,null,null,null,0,null,null,null,0,null,null,null,0,null,null,null,0,null,null,null,0,null,null,null,0,null,null,null,0,null,null,null,0,null,null,null,0,null,null,null,null,null,null,"","","","",null,null,null,0,null,null,null,0,"","","",null,null,null,null,"","","","","","","","","","","","","","","",null,""]
[null,null,null,null,null,null,null,null,null,0,null,null,null,0,null,null,null,0,null,null,null,0,null,null,null,0,null,null,null,0,null,null,null,0,null,null,null,0,null,null,null,0,null,null,null,0,null,null,null,0,null,null,null,null,null,null,{"$f":"IF($C368=\"\",\"\",SUM(AY368,BA368,BC368))","v":""},"","","",null,null,null,0,null,null,null,0,"","","",null,null,null,null,"","","","","","","","","","","","","","","",null,""]
[null,null,null,null,null,null,null,null,null,0,null,null,null,0,null,null,null,0,null,null,null,0,null,null,null,0,null,null,null,0,null,null,null,0,null,null,null,0,null,null,null,0,null,null,null,0,null,null,null,0,null,null,null,null,null,null,"","","","",null,null,null,0,null,null,null,0,"","","",null,null,null,null,"","","","","","","","","","","","","","","",null,""]
[null,null,null,null,null,null,null,null,null,0,null,null,null,0,null,null,null,0,null,null,null,0,null,null,null,0,null,null,null,0,null,null,null,0,null,null,null,0,null,null,null,0,null,null,null,0,null,null,null,0,null,null,null,null,null,null,"","","","",null,null,null,0,null,null,null,0,"","","",null,null,null,null,"","","","","","","","","","","","","","","",null,""]
[null,null,null,null,null,null,null,null,null,0,null,null,null,0,null,null,null,0,null,null,null,0,null,null,null,0,null,null,null,0,null,null,null,0,null,null,null,0,null,null,null,0,null,null,null,0,null,null,null,0,null,null,null,null,null,null,"","","","",null,null,null,0,null,null,null,0,"","","",null,null,null,null,"","","","","","","","","","","","","","","",null,""]
[null,null,null,null,null,null,null,null,null,0,null,null,null,0,null,null,null,0,null,null,null,0,null,null,null,0,null,null,null,0,null,null,null,0,null,null,null,0,null,null,null,0,null,null,null,0,null,null,null,0,null,null,null,null,null,null,"","","","",null,null,null,0,null,null,null,0,"","","",null,null,null,null,"","","","","","","","","","","","","","","",null,""]
[null,null,null,null,null,null,null,null,null,0,null,null,null,0,null,null,null,0,null,null,null,0,null,null,null,0,null,null,null,0,null,null,null,0,null,null,null,0,null,null,null,0,null,null,null,0,null,null,null,0,null,null,null,null,null,null,"","","","",null,null,null,0,null,null,null,0,"","","",null,null,null,null,"","","","","","","","","","","","","","","",null,""]
[null,null,null,null,null,null,null,null,null,0,null,null,null,0,null,null,null,0,null,null,null,0,null,null,null,0,null,null,null,0,null,null,null,0,null,null,null,0,null,null,null,0,null,null,null,0,null,null,null,0,null,null,null,null,null,null,"","","","",null,null,null,0,null,null,null,0,"","","",null,null,null,null,"","","","","","","","","","","","","","","",null,""]
[null,null,null,null,null,null,null,null,null,0,null,null,null,0,null,null,null,0,null,null,null,0,null,null,null,0,null,null,null,0,null,null,null,0,null,null,null,0,null,null,null,0,null,null,null,0,null,null,null,0,null,null,null,null,null,null,"","","","",null,null,null,0,null,null,null,0,"","","",null,null,null,null,"","","","","","","","","","","","","","","",null,""]
[null,null,null,null,null,null,null,null,null,0,null,null,null,0,null,null,null,0,null,null,null,0,null,null,null,0,null,null,null,0,null,null,null,0,null,null,null,0,null,null,null,0,null,null,null,0,null,null,null,0,null,null,null,null,null,null,"","","","",null,null,null,0,null,null,null,0,"","","",null,null,null,null,"","","","","","","","","","","","","","","",null,""]
[null,null,null,null,null,null,null,null,null,0,null,null,null,0,null,null,null,0,null,null,null,0,null,null,null,0,null,null,null,0,null,null,null,0,null,null,null,0,null,null,null,0,null,null,null,0,null,null,null,0,null,null,null,null,null,null,"","","","",null,null,null,0,null,null,null,0,"","","",null,null,null,null,"","","","","","","","","","","","","","","",null,""]
[null,null,null,null,null,null,null,null,null,0,null,null,null,0,null,null,null,0,null,null,null,0,null,null,null,0,null,null,null,0,null,null,null,0,null,null,null,0,null,null,null,0,null,null,null,0,null,null,null,0,null,null,null,null,null,null,"","","","",null,null,null,0,null,null,null,0,"","","",null,null,null,null,"","","","","","","","","","","","","","","",null,""]
[null,null,null,null,null,null,null,null,null,0,null,null,null,0,null,null,null,0,null,null,null,0,null,null,null,0,null,null,null,0,null,null,null,0,null,null,null,0,null,null,null,0,null,null,null,0,null,null,null,0,null,null,null,null,null,null,"","","","",null,null,null,0,null,null,null,0,"","","",null,null,null,null,"","","","","","","","","","","","","","","",null,""]
[null,null,null,null,null,null,null,null,null,0,null,null,null,0,null,null,null,0,null,null,null,0,null,null,null,0,null,null,null,0,null,null,null,0,null,null,null,0,null,null,null,0,null,null,null,0,null,null,null,0,null,null,null,null,null,null,"","","","",null,null,null,0,null,null,null,0,"","","",null,null,null,null,"","","","","","","","","","","","","","","",null,""]
[null,null,null,null,null,null,null,null,null,0,null,null,null,0,null,null,null,0,null,null,null,0,null,null,null,0,null,null,null,0,null,null,null,0,null,null,null,0,null,null,null,0,null,null,null,0,null,null,null,0,null,null,null,null,null,null,"","","","",null,null,null,0,null,null,null,0,"","","",null,null,null,null,"","","","","","","","","","","","","","","",null,""]
[null,null,null,null,null,null,null,null,null,0,null,null,null,0,null,null,null,0,null,null,null,0,null,null,null,0,null,null,null,0,null,null,null,0,null,null,null,0,null,null,null,0,null,null,null,0,null,null,null,0,null,null,null,null,null,null,"","","","",null,null,null,0,null,null,null,0,"","","",null,null,null,null,"","","","","","","","","","","","","","","",null,""]
[null,null,null,null,null,null,null,null,null,0,null,null,null,0,null,null,null,0,null,null,null,0,null,null,null,0,null,null,null,0,null,null,null,0,null,null,null,0,null,null,null,0,null,null,null,0,null,null,null,0,null,null,null,null,null,null,"","","","",null,null,null,0,null,null,null,0,"","","",null,null,null,null,"","","","","","","","","","","","","","","",null,""]
[null,null,null,null,null,null,null,null,null,0,null,null,null,0,null,null,null,0,null,null,null,0,null,null,null,0,null,null,null,0,null,null,null,0,null,null,null,0,null,null,null,{"$f":"SUM(AM384:AO384)","v":0},null,null,null,0,null,null,null,0,null,null,null,null,null,null,"","","","",null,null,null,0,null,null,null,0,"","","",null,null,null,null,"","","","","","","","","","","","","","","",null,""]
[null,null,null,null,null,null,null,null,null,0,null,null,null,0,null,null,null,0,null,null,null,0,null,null,null,0,null,null,null,0,null,null,null,0,null,null,null,0,null,null,null,0,null,null,null,0,null,null,null,0,null,null,null,null,null,null,"","","","",null,null,null,0,null,null,null,0,"","","",null,null,null,null,"","","","","","","","","","","","","","","",null,""]
[null,null,null,null,null,null,null,null,null,0,null,null,null,0,null,null,null,0,null,null,null,0,null,null,null,0,null,null,null,0,null,null,null,0,null,null,null,0,null,null,null,0,null,null,null,0,null,null,null,0,null,null,null,null,null,null,"","","","",null,null,null,0,null,null,null,0,"","","",null,null,null,null,"","","","","","","","","","","","","","","",null,""]
[null,null,null,null,null,null,null,null,null,0,null,null,null,0,null,null,null,0,null,null,null,0,null,null,null,0,null,null,null,0,null,null,null,0,null,null,null,0,null,null,null,0,null,null,null,0,null,null,null,0,null,null,null,null,null,null,"","","","",null,null,null,0,null,null,null,0,"","","",null,null,null,null,"","","","","","","","","","","","","","","",null,""]
[null,null,null,null,null,null,null,null,null,0,null,null,null,0,null,null,null,0,null,null,null,0,null,null,null,0,null,null,null,0,null,null,null,0,null,null,null,0,null,null,null,0,null,null,null,0,null,null,null,0,null,null,null,null,null,null,"","","","",null,null,null,0,null,null,null,0,"","","",null,null,null,null,"","","","","","","","","","","","","","","",null,""]
[null,null,null,null,null,null,null,null,null,0,null,null,null,0,null,null,null,0,null,null,null,0,null,null,null,0,null,null,null,0,null,null,null,0,null,null,null,0,null,null,null,0,null,null,null,0,null,null,null,0,null,null,null,null,null,null,"","","","",null,null,null,0,null,null,null,0,"","","",null,null,null,null,"","","","","","","","","","","","","","","",null,""]
[null,null,null,null,null,null,null,null,null,0,null,null,null,0,null,null,null,0,null,null,null,0,null,null,null,0,null,null,null,0,null,null,null,0,null,null,null,0,null,null,null,0,null,null,null,0,null,null,null,0,null,null,null,null,null,null,"","","","",null,null,null,0,null,null,null,0,"","","",null,null,null,null,"","","","","","","","","","","","","","","",null,""]
[null,null,null,null,null,null,null,null,null,0,null,null,null,0,null,null,null,0,null,null,null,0,null,null,null,0,null,null,null,0,null,null,null,0,null,null,null,0,null,null,null,0,null,null,null,0,null,null,null,0,null,null,null,null,null,null,"","","","",null,null,null,0,null,null,null,0,"","","",null,null,null,null,"","","","","","","","","","","","","","","",null,""]
[null,null,null,null,null,null,null,null,null,0,null,null,null,0,null,null,null,0,null,null,null,0,null,null,null,0,null,null,null,0,null,null,null,0,null,null,null,0,null,null,null,0,null,null,null,0,null,null,null,0,null,null,null,null,null,null,"","","","",null,null,null,0,null,null,null,0,"","","",null,null,null,null,"","","","","","","","","","","","","","","",null,""]
[null,null,null,null,null,null,null,null,null,0,null,null,null,0,null,null,null,0,null,null,null,0,null,null,null,0,null,null,null,0,null,null,null,0,null,null,null,0,null,null,null,0,null,null,null,0,null,null,null,0,null,null,null,null,null,null,"","","","",null,null,null,0,null,null,null,0,"","","",null,null,null,null,"","","","","","","","","","","","","","","",null,{"$f":"IF($C393=\"\",\"\",SUM(H393,L393,P393,T393,X393,AB393,AF393,AJ393,AN393,AR393,AV393,BA393,BB393))","v":""}]
[null,null,null,null,null,null,null,null,null,0,null,null,null,{"$f":"SUM(K394:M394)","v":0},null,null,null,{"$f":"SUM(O394:Q394)","v":0},null,null,null,{"$f":"SUM(S394:U394)","v":0},null,null,null,{"$f":"SUM(W394:Y394)","v":0},null,null,null,{"$f":"SUM(AA394:AC394)","v":0},null,null,null,{"$f":"SUM(AE394:AG394)","v":0},null,null,null,{"$f":"SUM(AI394:AK394)","v":0},null,null,null,0,null,null,null,{"$f":"SUM(AQ394:AS394)","v":0},null,null,null,{"$f":"SUM(AU394:AW394)","v":0},null,null,null,null,null,null,"","",{"$f":"IF($C394=\"\",\"\",SUM(BE394,BF394))","v":""},{"$f":"IF($C394=\"\",\"\",SUM(J394,N394,R394,V394,Z394,AD394,AH394,AL394,AP394,AT394,AX394,BG394))","v":""},null,null,null,{"$f":"SUM(BI394:BK394)","v":0},null,null,null,{"$f":"SUM(BM394:BO394)","v":0},{"$f":"IF($C394=\"\",\"\",IF(BS394=0,\"ناجحة\",IF(BS394<=2,\"دورثان\",\"راسبة\")))","v":""},{"$f":"IF($C394=\"\",\"\",IF(BS394=0,\"ومنقولة للصف الثالث\",IF(BS394>0,\"فى  :  \"&CONCATENATE(BX394,BY394,BZ394,CA394,CB394,CC394,CD394,CE394,CF394,CG394,CH394,CI394,CJ394,CK394,CL394),CONCATENATE(BX394,BY394,BZ394,CA394,CB394,CC394,CD394,CE394,CF394,CG394,CH394,CI394,CJ394,CK394,CL394))))","v":""},{"$f":"IF($C394=\"\",\"\",COUNTA($BX394:$CL394)-COUNTBLANK($BX394:$CL394))","v":""},null,null,null,null,{"$f":"IF($C394=\"\",\"\",IF(OR(I394<$I$9,I394=\"غ\",J394<$J$9),$BX$5&\" - \",\"\"))","v":""},{"$f":"IF($C394=\"\",\"\",IF(OR(M394<$M$9,M394=\"غ\",N394<$N$9),$BY$5&\" - \",\"\"))","v":""},{"$f":"IF($C394=\"\",\"\",IF(OR(Q394<$Q$9,Q394=\"غ\",R394<$R$9),BZ$5&\" - \",\"\"))","v":""},{"$f":"IF($C394=\"\",\"\",IF(OR(U394<$U$9,U394=\"غ\",V394<$V$9),CA$5&\" - \",\"\"))","v":""},{"$f":"IF($C394=\"\",\"\",IF(OR(Y394<$Y$9,Y394=\"غ\",Z394<$Z$9),CB$5&\" - \",\"\"))","v":""},{"$f":"IF($C394=\"\",\"\",IF(OR(AC394<$AC$9,AC394=\"غ\",AD394<$AD$9),CC$5&\" - \",\"\"))","v":""},{"$f":"IF($C394=\"\",\"\",IF(OR(AG394<$AG$9,AG394=\"غ\",AH394<$AH$9),CD$5&\" - \",\"\"))","v":""},{"$f":"IF($C394=\"\",\"\",IF(OR(AK394<$AK$9,AK394=\"غ\",AL394<$AL$9),CE$5&\" - \",\"\"))","v":""},{"$f":"IF($C394=\"\",\"\",IF(OR(AO394<$AO$9,AO394=\"غ\",AP394<$AP$9),CF$5&\" - \",\"\"))","v":""},{"$f":"IF($C394=\"\",\"\",IF(OR(AS394<$AS$9,AS394=\"غ\",AT394<$AT$9),CG$5&\" - \",\"\"))","v":""},{"$f":"IF($C394=\"\",\"\",IF(OR(AW394<$AW$9,AW394=\"غ\",AX394<$AX$9),CH$5&\" - \",\"\"))","v":""},{"$f":"IF($C394=\"\",\"\",IF(OR(BE394<$BE$9,BE394=\"غ\",BF394<$BF$9,BF394=\"غ\",BG394<$BG$9),CI$5&\" - \",\"\"))","v":""},{"$f":"IF($C394=\"\",\"\",IF(OR(BK394<$BK$9,BK394=\"غ\",BL394<$BL$9),CJ$5&\" - \",\"\"))","v":""},{"$f":"IF($C394=\"\",\"\",IF(OR(BO394<$BO$9,BO394=\"غ\",BP394<$BP$9),CK$5&\" - \",\"\"))","v":""},{"$f":"IF($C394=\"\",\"\",IF(BH394<$BH$9,CL$5,\"\"))","v":""},null,{"$f":"IF($C394=\"\",\"\",SUM(H394,L394,P394,T394,X394,AB394,AF394,AJ394,AN394,AR394,AV394,BA394,BB394))","v":""}]
[null,null,null,null,null,null,null,null,null,0,null,null,null,0,null,null,null,0,null,null,null,0,null,null,null,0,null,null,null,0,null,null,null,0,null,null,null,0,null,null,null,0,null,null,null,0,null,null,null,0,null,null,null,null,null,null,"","","","",null,null,null,0,null,null,null,0,"","","",null,null,null,null,"","","","","","","","","","","","","","","",null,""]
[null,null,null,null,null,null,null,null,null,0,null,null,null,0,null,null,null,0,null,null,null,0,null,null,null,0,null,null,null,0,null,null,null,0,null,null,null,0,null,null,null,0,null,null,null,0,null,null,null,0,null,null,null,null,null,null,"","","","",null,null,null,0,null,null,null,0,"","","",null,null,null,null,"","","","","","","","","","","","","","","",null,""]
[null,null,null,null,null,null,null,null,null,0,null,null,null,0,null,null,null,0,null,null,null,0,null,null,null,0,null,null,null,0,null,null,null,0,null,null,null,0,null,null,null,0,null,null,null,0,null,null,null,0,null,null,null,null,null,null,"","","","",null,null,null,0,null,null,null,0,"","","",null,null,null,null,"","","","","","","","","","","","","","","",null,""]
[null,null,null,null,null,null,null,null,null,0,null,null,null,0,null,null,null,0,null,null,null,0,null,null,null,0,null,null,null,0,null,null,null,0,null,null,null,0,null,null,null,0,null,null,null,0,null,null,null,0,null,null,null,null,null,null,"","","","",null,null,null,0,null,null,null,0,"","","",null,null,null,null,"","","","","","","","","","","","","","","",null,""]
[null,null,null,null,null,null,null,null,null,0,null,null,null,0,null,null,null,0,null,null,null,0,null,null,null,0,null,null,null,0,null,null,null,0,null,null,null,0,null,null,null,0,null,null,null,0,null,null,null,0,null,null,null,null,null,null,"","","","",null,null,null,0,null,null,null,0,"","","",null,null,null,null,"","","","","","","","","","","","","","","",null,""]
[null,null,null,null,null,null,null,null,null,0,null,null,null,0,null,null,null,0,null,null,null,0,null,null,null,0,null,null,null,0,null,null,null,0,null,null,null,0,null,null,null,0,null,null,null,0,null,null,null,0,null,null,null,null,null,null,"","","","",null,null,null,0,null,null,null,0,"","","",null,null,null,null,"","","","","","","","","","","","","","","",null,""]
[null,null,null,null,null,null,null,null,null,0,null,null,null,0,null,null,null,0,null,null,null,0,null,null,null,0,null,null,null,0,null,null,null,0,null,null,null,0,null,null,null,0,null,null,null,0,null,null,null,0,null,null,null,null,null,null,"","","","",null,null,null,0,null,null,null,0,"","","",null,null,null,null,"","","","","","","","","","","","","","","",null,""]
[null,null,null,null,null,null,null,null,null,0,null,null,null,0,null,null,null,0,null,null,null,0,null,null,null,0,null,null,null,0,null,null,null,0,null,null,null,0,null,null,null,0,null,null,null,0,null,null,null,0,null,null,null,null,null,null,"","","","",null,null,null,0,null,null,null,0,"","","",null,null,null,null,"","","","","","","","","","","","","","","",null,""]
[null,null,null,null,null,null,null,null,null,0,null,null,null,0,null,null,null,0,null,null,null,0,null,null,null,0,null,null,null,0,null,null,null,0,null,null,null,0,null,null,null,0,null,null,null,0,null,null,null,0,null,null,null,null,null,null,"","","","",null,null,null,0,null,null,null,0,"","","",null,null,null,null,"","","","","","","","","","","","","","","",null,""]
[null,null,null,null,null,null,null,null,null,0,null,null,null,0,null,null,null,0,null,null,null,0,null,null,null,0,null,null,null,0,null,null,null,0,null,null,null,0,null,null,null,0,null,null,null,0,null,null,null,0,null,null,null,null,null,null,"","","","",null,null,null,0,null,null,null,0,"","","",null,null,null,null,"","","","","","","","","","","","","","","",null,""]
[null,null,null,null,null,null,null,null,null,0,null,null,null,0,null,null,null,0,null,null,null,0,null,null,null,0,null,null,null,0,null,null,null,0,null,null,null,0,null,null,null,0,null,null,null,0,null,null,null,0,null,null,null,null,null,null,"","","","",null,null,null,0,null,null,null,0,"","","",null,null,null,null,"","","","","","","","","","","","","","","",null,""]
[null,null,null,null,null,null,null,null,null,0,null,null,null,0,null,null,null,0,null,null,null,0,null,null,null,0,null,null,null,0,null,null,null,0,null,null,null,0,null,null,null,0,null,null,null,0,null,null,null,0,null,null,null,null,null,null,"","","","",null,null,null,0,null,null,null,0,"","","",null,null,null,null,"","","","","","","","","","","","","","","",null,""]
[null,null,null,null,null,null,null,null,null,0,null,null,null,0,null,null,null,0,null,null,null,0,null,null,null,0,null,null,null,0,null,null,null,0,null,null,null,0,null,null,null,0,null,null,null,0,null,null,null,0,null,null,null,null,null,null,"","","","",null,null,null,0,null,null,null,0,"","","",null,null,null,null,"","","","","","","","","","","","","","","",null,""]
[null,null,null,null,null,null,null,null,null,0,null,null,null,0,null,null,null,0,null,null,null,0,null,null,null,0,null,null,null,0,null,null,null,0,null,null,null,0,null,null,null,0,null,null,null,0,null,null,null,0,null,null,null,null,null,null,"","","","",null,null,null,0,null,null,null,0,"","","",null,null,null,null,"","","","","","","","","","","","","","","",null,""]
[null,null,null,null,null,null,null,null,null,0,null,null,null,0,null,null,null,0,null,null,null,0,null,null,null,0,null,null,null,0,null,null,null,0,null,null,null,0,null,null,null,0,null,null,null,0,null,null,null,0,null,null,null,null,null,null,"","","","",null,null,null,0,null,null,null,0,"","","",null,null,null,null,"","","","","","","","","","","","","","","",null,""]
[null,null,null,null,null,null,null,null,null,0,null,null,null,0,null,null,null,0,null,null,null,0,null,null,null,0,null,null,null,0,null,null,null,0,null,null,null,0,null,null,null,0,null,null,null,0,null,null,null,0,null,null,null,null,null,null,"","","","",null,null,null,0,null,null,null,0,"","","",null,null,null,null,"","","","","","","","","","","","","","","",null,""]
[null,null,null,null,null,null,null,null,null,0,null,null,null,0,null,null,null,0,null,null,null,0,null,null,null,0,null,null,null,0,null,null,null,0,null,null,null,0,null,null,null,0,null,null,null,0,null,null,null,0,null,null,null,null,null,null,"","","","",null,null,null,0,null,null,null,0,"","","",null,null,null,null,"","","","","","","","","","","","","","","",null,""]
[null,null,null,null,null,null,null,null,null,0,null,null,null,0,null,null,null,0,null,null,null,0,null,null,null,0,null,null,null,0,null,null,null,0,null,null,null,0,null,null,null,0,null,null,null,0,null,null,null,0,null,null,null,null,null,null,"","","","",null,null,null,0,null,null,null,0,"","","",null,null,null,null,"","","","","","","","","","","","","","","",null,""]
[null,null,null,null,null,null,null,null,null,0,null,null,null,0,null,null,null,0,null,null,null,0,null,null,null,0,null,null,null,0,null,null,null,0,null,null,null,0,null,null,null,0,null,null,null,0,null,null,null,0,null,null,null,null,null,null,"","","","",null,null,null,0,null,null,null,0,"","","",null,null,null,null,"","","","","","","","","","","","","","","",null,""]
[null,null,null,null,null,null,null,null,null,0,null,null,null,0,null,null,null,0,null,null,null,0,null,null,null,0,null,null,null,0,null,null,null,0,null,null,null,0,null,null,null,0,null,null,null,0,null,null,null,0,null,null,null,null,null,null,"","","","",null,null,null,0,null,null,null,0,"","","",null,null,null,null,"","","","","","","","","","","","","","","",null,""]
[null,null,null,null,null,null,null,null,null,0,null,null,null,0,null,null,null,0,null,null,null,0,null,null,null,0,null,null,null,0,null,null,null,0,null,null,null,0,null,null,null,0,null,null,null,0,null,null,null,0,null,null,null,null,null,null,"","","","",null,null,null,0,null,null,null,0,"","","",null,null,null,null,"","","","","","","","","","","","","","","",null,""]
[null,null,null,null,null,null,null,null,null,0,null,null,null,0,null,null,null,0,null,null,null,0,null,null,null,0,null,null,null,0,null,null,null,0,null,null,null,0,null,null,null,0,null,null,null,0,null,null,null,0,null,null,null,null,null,null,"","","","",null,null,null,0,null,null,null,0,"","","",null,null,null,null,"","","","","","","","","","","","","","","",null,""]
[null,null,null,null,null,null,null,null,null,0,null,null,null,0,null,null,null,0,null,null,null,0,null,null,null,0,null,null,null,0,null,null,null,0,null,null,null,0,null,null,null,0,null,null,null,0,null,null,null,0,null,null,null,null,null,null,"","","","",null,null,null,0,null,null,null,0,"","","",null,null,null,null,"","","","","","","","","","","","","","","",null,""]
[null,null,null,null,null,null,null,null,null,0,null,null,null,0,null,null,null,0,null,null,null,0,null,null,null,0,null,null,null,0,null,null,null,0,null,null,null,0,null,null,null,0,null,null,null,0,null,null,null,0,null,null,null,null,null,null,"","","","",null,null,null,0,null,null,null,0,"","","",null,null,null,null,"","","","","","","","","","","","","","","",null,""]
[null,null,null,null,null,null,null,null,null,0,null,null,null,0,null,null,null,0,null,null,null,0,null,null,null,0,null,null,null,0,null,null,null,0,null,null,null,0,null,null,null,0,null,null,null,0,null,null,null,0,null,null,null,null,null,null,"","","","",null,null,null,0,null,null,null,0,"","","",null,null,null,null,"","","","","","","","","","","","","","","",null,""]
[null,null,null,null,null,null,null,null,null,0,null,null,null,0,null,null,null,0,null,null,null,0,null,null,null,0,null,null,null,0,null,null,null,0,null,null,null,0,null,null,null,0,null,null,null,0,null,null,null,0,null,null,null,null,null,null,"","","","",null,null,null,0,null,null,null,0,"","","",null,null,null,null,"","","","","","","","","","","","","","","",null,""]
[null,null,null,null,null,null,null,null,null,0,null,null,null,0,null,null,null,0,null,null,null,0,null,null,null,0,null,null,null,0,null,null,null,0,null,null,null,0,null,null,null,0,null,null,null,0,null,null,null,0,null,null,null,null,null,null,"","","","",null,null,null,0,null,null,null,0,"","","",null,null,null,null,"","","","","","","","","","","","","","","",null,""]
[null,null,null,null,null,null,null,null,null,0,null,null,null,0,null,null,null,0,null,null,null,0,null,null,null,0,null,null,null,0,null,null,null,0,null,null,null,0,null,null,null,0,null,null,null,0,null,null,null,0,null,null,null,null,null,null,"","","","",null,null,null,0,null,null,null,0,"","","",null,null,null,null,"","","","","","","","","","","","","","","",null,""]
[null,null,null,null,null,null,null,null,null,0,null,null,null,0,null,null,null,0,null,null,null,0,null,null,null,0,null,null,null,0,null,null,null,0,null,null,null,0,null,null,null,0,null,null,null,0,null,null,null,0,null,null,null,null,null,null,"","","","",null,null,null,0,null,null,null,0,"","","",null,null,null,null,"","","","","","","","","","","","","","","",null,""]
[null,null,null,null,null,null,null,null,null,0,null,null,null,0,null,null,null,0,null,null,null,0,null,null,null,0,null,null,null,0,null,null,null,0,null,null,null,0,null,null,null,0,null,null,null,0,null,null,null,0,null,null,null,null,null,null,"","","","",null,null,null,0,null,null,null,0,"","","",null,null,null,null,"","","","","","","","","","","","","","","",null,""]
[null,null,null,null,null,null,null,null,null,{"$f":"SUM(G425:I425)","v":0},null,null,null,0,null,null,null,0,null,null,null,0,null,null,null,0,null,null,null,0,null,null,null,0,null,null,null,0,null,null,null,0,null,null,null,0,null,null,null,0,null,null,null,null,null,null,"","","","",null,null,null,0,null,null,null,0,"","","",null,null,null,null,"","","","","","","","","","","","","","","",null,""]
[null,null,null,null,null,null,null,null,null,0,null,null,null,0,null,null,null,0,null,null,null,0,null,null,null,0,null,null,null,0,null,null,null,0,null,null,null,0,null,null,null,0,null,null,null,0,null,null,null,0,null,null,null,null,null,null,"","","","",null,null,null,0,null,null,null,0,"","","",null,null,null,null,"","","","","","","","","","","","","","","",null,""]
[null,null,null,null,null,null,null,null,null,0,null,null,null,0,null,null,null,0,null,null,null,0,null,null,null,0,null,null,null,0,null,null,null,0,null,null,null,0,null,null,null,0,null,null,null,0,null,null,null,0,null,null,null,null,null,null,"","","","",null,null,null,0,null,null,null,0,"","","",null,null,null,null,"","","","","","","","","","","","","","","",null,""]
[null,null,null,null,null,null,null,null,null,0,null,null,null,0,null,null,null,0,null,null,null,0,null,null,null,0,null,null,null,0,null,null,null,0,null,null,null,0,null,null,null,0,null,null,null,0,null,null,null,0,null,null,null,null,null,null,"","","","",null,null,null,0,null,null,null,0,"","","",null,null,null,null,"","","","","","","","","","","","","","","",null,""]
[null,null,null,null,null,null,null,null,null,0,null,null,null,0,null,null,null,0,null,null,null,0,null,null,null,0,null,null,null,0,null,null,null,0,null,null,null,0,null,null,null,0,null,null,null,0,null,null,null,0,null,null,null,null,null,null,"","","","",null,null,null,0,null,null,null,0,"","","",null,null,null,null,"","","","","","","","","","","","","","","",null,""]
[null,null,null,null,null,null,null,null,null,0,null,null,null,0,null,null,null,0,null,null,null,0,null,null,null,0,null,null,null,0,null,null,null,0,null,null,null,0,null,null,null,0,null,null,null,0,null,null,null,0,null,null,null,null,null,null,"","","","",null,null,null,0,null,null,null,0,"","","",null,null,null,null,"","","","","","","","","","","","","","","",null,""]
[null,null,null,null,null,null,null,null,null,0,null,null,null,0,null,null,null,0,null,null,null,0,null,null,null,0,null,null,null,0,null,null,null,0,null,null,null,0,null,null,null,0,null,null,null,0,null,null,null,0,null,null,null,null,null,null,"","","","",null,null,null,0,null,null,null,0,"","","",null,null,null,null,"","","","","","","","","","","","","","","",null,""]
[null,null,null,null,null,null,null,null,null,0,null,null,null,0,null,null,null,0,null,null,null,0,null,null,null,0,null,null,null,0,null,null,null,0,null,null,null,0,null,null,null,0,null,null,null,0,null,null,null,0,null,null,null,null,null,null,{"$f":"IF($C432=\"\",\"\",SUM(AY432,BA432,BC432))","v":""},"","","",null,null,null,0,null,null,null,0,"","","",null,null,null,null,"","","","","","","","","","","","","","","",null,""]
[null,null,null,null,null,null,null,null,null,0,null,null,null,0,null,null,null,0,null,null,null,0,null,null,null,0,null,null,null,0,null,null,null,0,null,null,null,0,null,null,null,0,null,null,null,0,null,null,null,0,null,null,null,null,null,null,"","","","",null,null,null,0,null,null,null,0,"","","",null,null,null,null,"","","","","","","","","","","","","","","",null,""]
[null,null,null,null,null,null,null,null,null,0,null,null,null,0,null,null,null,0,null,null,null,0,null,null,null,0,null,null,null,0,null,null,null,0,null,null,null,0,null,null,null,0,null,null,null,0,null,null,null,0,null,null,null,null,null,null,"","","","",null,null,null,0,null,null,null,0,"","","",null,null,null,null,"","","","","","","","","","","","","","","",null,""]
[null,null,null,null,null,null,null,null,null,0,null,null,null,0,null,null,null,0,null,null,null,0,null,null,null,0,null,null,null,0,null,null,null,0,null,null,null,0,null,null,null,0,null,null,null,0,null,null,null,0,null,null,null,null,null,null,"","","","",null,null,null,0,null,null,null,0,"","","",null,null,null,null,"","","","","","","","","","","","","","","",null,""]
[null,null,null,null,null,null,null,null,null,0,null,null,null,0,null,null,null,0,null,null,null,0,null,null,null,0,null,null,null,0,null,null,null,0,null,null,null,0,null,null,null,0,null,null,null,0,null,null,null,0,null,null,null,null,null,null,"","","","",null,null,null,0,null,null,null,0,"","","",null,null,null,null,"","","","","","","","","","","","","","","",null,""]
[null,null,null,null,null,null,null,null,null,0,null,null,null,0,null,null,null,0,null,null,null,0,null,null,null,0,null,null,null,0,null,null,null,0,null,null,null,0,null,null,null,0,null,null,null,0,null,null,null,0,null,null,null,null,null,null,"","","","",null,null,null,0,null,null,null,0,"","","",null,null,null,null,"","","","","","","","","","","","","","","",null,""]
[null,null,null,null,null,null,null,null,null,0,null,null,null,0,null,null,null,0,null,null,null,0,null,null,null,0,null,null,null,0,null,null,null,0,null,null,null,0,null,null,null,0,null,null,null,0,null,null,null,0,null,null,null,null,null,null,"","","","",null,null,null,0,null,null,null,0,"","","",null,null,null,null,"","","","","","","","","","","","","","","",null,""]
[null,null,null,null,null,null,null,null,null,0,null,null,null,0,null,null,null,0,null,null,null,0,null,null,null,0,null,null,null,0,null,null,null,0,null,null,null,0,null,null,null,0,null,null,null,0,null,null,null,0,null,null,null,null,null,null,"","","","",null,null,null,0,null,null,null,0,"","","",null,null,null,null,"","","","","","","","","","","","","","","",null,""]
[null,null,null,null,null,null,null,null,null,0,null,null,null,0,null,null,null,0,null,null,null,0,null,null,null,0,null,null,null,0,null,null,null,0,null,null,null,0,null,null,null,0,null,null,null,0,null,null,null,0,null,null,null,null,null,null,"","","","",null,null,null,0,null,null,null,0,"","","",null,null,null,null,"","","","","","","","","","","","","","","",null,""]
[null,null,null,null,null,null,null,null,null,0,null,null,null,0,null,null,null,0,null,null,null,0,null,null,null,0,null,null,null,0,null,null,null,0,null,null,null,0,null,null,null,0,null,null,null,0,null,null,null,0,null,null,null,null,null,null,"","","","",null,null,null,0,null,null,null,0,"","","",null,null,null,null,"","","","","","","","","","","","","","","",null,""]
[null,null,null,null,null,null,null,null,null,0,null,null,null,0,null,null,null,0,null,null,null,0,null,null,null,0,null,null,null,0,null,null,null,0,null,null,null,0,null,null,null,0,null,null,null,0,null,null,null,0,null,null,null,null,null,null,"","","","",null,null,null,0,null,null,null,0,"","","",null,null,null,null,"","","","","","","","","","","","","","","",null,""]
[null,null,null,null,null,null,null,null,null,0,null,null,null,0,null,null,null,0,null,null,null,0,null,null,null,0,null,null,null,0,null,null,null,0,null,null,null,0,null,null,null,0,null,null,null,0,null,null,null,0,null,null,null,null,null,null,"","","","",null,null,null,0,null,null,null,0,"","","",null,null,null,null,"","","","","","","","","","","","","","","",null,""]
[null,null,null,null,null,null,null,null,null,0,null,null,null,0,null,null,null,0,null,null,null,0,null,null,null,0,null,null,null,0,null,null,null,0,null,null,null,0,null,null,null,0,null,null,null,0,null,null,null,0,null,null,null,null,null,null,"","","","",null,null,null,0,null,null,null,0,"","","",null,null,null,null,"","","","","","","","","","","","","","","",null,""]
[null,null,null,null,null,null,null,null,null,0,null,null,null,0,null,null,null,0,null,null,null,0,null,null,null,0,null,null,null,0,null,null,null,0,null,null,null,0,null,null,null,0,null,null,null,0,null,null,null,0,null,null,null,null,null,null,"","","","",null,null,null,0,null,null,null,0,"","","",null,null,null,null,"","","","","","","","","","","","","","","",null,""]
[null,null,null,null,null,null,null,null,null,0,null,null,null,0,null,null,null,0,null,null,null,0,null,null,null,0,null,null,null,0,null,null,null,0,null,null,null,0,null,null,null,0,null,null,null,0,null,null,null,0,null,null,null,null,null,null,"","","","",null,null,null,0,null,null,null,0,"","","",null,null,null,null,"","","","","","","","","","","","","","","",null,""]
[null,null,null,null,null,null,null,null,null,0,null,null,null,0,null,null,null,0,null,null,null,0,null,null,null,0,null,null,null,0,null,null,null,0,null,null,null,0,null,null,null,0,null,null,null,0,null,null,null,0,null,null,null,null,null,null,"","","","",null,null,null,0,null,null,null,0,"","","",null,null,null,null,"","","","","","","","","","","","","","","",null,""]
[null,null,null,null,null,null,null,null,null,0,null,null,null,0,null,null,null,0,null,null,null,0,null,null,null,0,null,null,null,0,null,null,null,0,null,null,null,0,null,null,null,{"$f":"SUM(AM448:AO448)","v":0},null,null,null,0,null,null,null,0,null,null,null,null,null,null,"","","","",null,null,null,0,null,null,null,0,"","","",null,null,null,null,"","","","","","","","","","","","","","","",null,""]
[null,null,null,null,null,null,null,null,null,0,null,null,null,0,null,null,null,0,null,null,null,0,null,null,null,0,null,null,null,0,null,null,null,0,null,null,null,0,null,null,null,0,null,null,null,0,null,null,null,0,null,null,null,null,null,null,"","","","",null,null,null,0,null,null,null,0,"","","",null,null,null,null,"","","","","","","","","","","","","","","",null,""]
[null,null,null,null,null,null,null,null,null,0,null,null,null,0,null,null,null,0,null,null,null,0,null,null,null,0,null,null,null,0,null,null,null,0,null,null,null,0,null,null,null,0,null,null,null,0,null,null,null,0,null,null,null,null,null,null,"","","","",null,null,null,0,null,null,null,0,"","","",null,null,null,null,"","","","","","","","","","","","","","","",null,""]
[null,null,null,null,null,null,null,null,null,0,null,null,null,0,null,null,null,0,null,null,null,0,null,null,null,0,null,null,null,0,null,null,null,0,null,null,null,0,null,null,null,0,null,null,null,0,null,null,null,0,null,null,null,null,null,null,"","","","",null,null,null,0,null,null,null,0,"","","",null,null,null,null,"","","","","","","","","","","","","","","",null,""]
[null,null,null,null,null,null,null,null,null,0,null,null,null,0,null,null,null,0,null,null,null,0,null,null,null,0,null,null,null,0,null,null,null,0,null,null,null,0,null,null,null,0,null,null,null,0,null,null,null,0,null,null,null,null,null,null,"","","","",null,null,null,0,null,null,null,0,"","","",null,null,null,null,"","","","","","","","","","","","","","","",null,""]
[null,null,null,null,null,null,null,null,null,0,null,null,null,0,null,null,null,0,null,null,null,0,null,null,null,0,null,null,null,0,null,null,null,0,null,null,null,0,null,null,null,0,null,null,null,0,null,null,null,0,null,null,null,null,null,null,"","","","",null,null,null,0,null,null,null,0,"","","",null,null,null,null,"","","","","","","","","","","","","","","",null,""]
[null,null,null,null,null,null,null,null,null,0,null,null,null,0,null,null,null,0,null,null,null,0,null,null,null,0,null,null,null,0,null,null,null,0,null,null,null,0,null,null,null,0,null,null,null,0,null,null,null,0,null,null,null,null,null,null,"","","","",null,null,null,0,null,null,null,0,"","","",null,null,null,null,"","","","","","","","","","","","","","","",null,""]
[null,null,null,null,null,null,null,null,null,0,null,null,null,0,null,null,null,0,null,null,null,0,null,null,null,0,null,null,null,0,null,null,null,0,null,null,null,0,null,null,null,0,null,null,null,0,null,null,null,0,null,null,null,null,null,null,"","","","",null,null,null,0,null,null,null,0,"","","",null,null,null,null,"","","","","","","","","","","","","","","",null,""]
[null,null,null,null,null,null,null,null,null,0,null,null,null,0,null,null,null,0,null,null,null,0,null,null,null,0,null,null,null,0,null,null,null,0,null,null,null,0,null,null,null,0,null,null,null,0,null,null,null,0,null,null,null,null,null,null,"","","","",null,null,null,0,null,null,null,0,"","","",null,null,null,null,"","","","","","","","","","","","","","","",null,""]
[null,null,null,null,null,null,null,null,null,0,null,null,null,0,null,null,null,0,null,null,null,0,null,null,null,0,null,null,null,0,null,null,null,0,null,null,null,0,null,null,null,0,null,null,null,0,null,null,null,0,null,null,null,null,null,null,"","","","",null,null,null,0,null,null,null,0,"","","",null,null,null,null,"","","","","","","","","","","","","","","",null,""]
[null,null,null,null,null,null,null,null,null,0,null,null,null,{"$f":"SUM(K458:M458)","v":0},null,null,null,{"$f":"SUM(O458:Q458)","v":0},null,null,null,{"$f":"SUM(S458:U458)","v":0},null,null,null,{"$f":"SUM(W458:Y458)","v":0},null,null,null,{"$f":"SUM(AA458:AC458)","v":0},null,null,null,{"$f":"SUM(AE458:AG458)","v":0},null,null,null,{"$f":"SUM(AI458:AK458)","v":0},null,null,null,0,null,null,null,{"$f":"SUM(AQ458:AS458)","v":0},null,null,null,{"$f":"SUM(AU458:AW458)","v":0},null,null,null,null,null,null,"","",{"$f":"IF($C458=\"\",\"\",SUM(BE458,BF458))","v":""},{"$f":"IF($C458=\"\",\"\",SUM(J458,N458,R458,V458,Z458,AD458,AH458,AL458,AP458,AT458,AX458,BG458))","v":""},null,null,null,{"$f":"SUM(BI458:BK458)","v":0},null,null,null,{"$f":"SUM(BM458:BO458)","v":0},{"$f":"IF($C458=\"\",\"\",IF(BS458=0,\"ناجحة\",IF(BS458<=2,\"دورثان\",\"راسبة\")))","v":""},{"$f":"IF($C458=\"\",\"\",IF(BS458=0,\"ومنقولة للصف الثالث\",IF(BS458>0,\"فى  :  \"&CONCATENATE(BX458,BY458,BZ458,CA458,CB458,CC458,CD458,CE458,CF458,CG458,CH458,CI458,CJ458,CK458,CL458),CONCATENATE(BX458,BY458,BZ458,CA458,CB458,CC458,CD458,CE458,CF458,CG458,CH458,CI458,CJ458,CK458,CL458))))","v":""},{"$f":"IF($C458=\"\",\"\",COUNTA($BX458:$CL458)-COUNTBLANK($BX458:$CL458))","v":""},null,null,null,null,{"$f":"IF($C458=\"\",\"\",IF(OR(I458<$I$9,I458=\"غ\",J458<$J$9),$BX$5&\" - \",\"\"))","v":""},{"$f":"IF($C458=\"\",\"\",IF(OR(M458<$M$9,M458=\"غ\",N458<$N$9),$BY$5&\" - \",\"\"))","v":""},{"$f":"IF($C458=\"\",\"\",IF(OR(Q458<$Q$9,Q458=\"غ\",R458<$R$9),BZ$5&\" - \",\"\"))","v":""},{"$f":"IF($C458=\"\",\"\",IF(OR(U458<$U$9,U458=\"غ\",V458<$V$9),CA$5&\" - \",\"\"))","v":""},{"$f":"IF($C458=\"\",\"\",IF(OR(Y458<$Y$9,Y458=\"غ\",Z458<$Z$9),CB$5&\" - \",\"\"))","v":""},{"$f":"IF($C458=\"\",\"\",IF(OR(AC458<$AC$9,AC458=\"غ\",AD458<$AD$9),CC$5&\" - \",\"\"))","v":""},{"$f":"IF($C458=\"\",\"\",IF(OR(AG458<$AG$9,AG458=\"غ\",AH458<$AH$9),CD$5&\" - \",\"\"))","v":""},{"$f":"IF($C458=\"\",\"\",IF(OR(AK458<$AK$9,AK458=\"غ\",AL458<$AL$9),CE$5&\" - \",\"\"))","v":""},{"$f":"IF($C458=\"\",\"\",IF(OR(AO458<$AO$9,AO458=\"غ\",AP458<$AP$9),CF$5&\" - \",\"\"))","v":""},{"$f":"IF($C458=\"\",\"\",IF(OR(AS458<$AS$9,AS458=\"غ\",AT458<$AT$9),CG$5&\" - \",\"\"))","v":""},{"$f":"IF($C458=\"\",\"\",IF(OR(AW458<$AW$9,AW458=\"غ\",AX458<$AX$9),CH$5&\" - \",\"\"))","v":""},{"$f":"IF($C458=\"\",\"\",IF(OR(BE458<$BE$9,BE458=\"غ\",BF458<$BF$9,BF458=\"غ\",BG458<$BG$9),CI$5&\" - \",\"\"))","v":""},{"$f":"IF($C458=\"\",\"\",IF(OR(BK458<$BK$9,BK458=\"غ\",BL458<$BL$9),CJ$5&\" - \",\"\"))","v":""},{"$f":"IF($C458=\"\",\"\",IF(OR(BO458<$BO$9,BO458=\"غ\",BP458<$BP$9),CK$5&\" - \",\"\"))","v":""},{"$f":"IF($C458=\"\",\"\",IF(BH458<$BH$9,CL$5,\"\"))","v":""},null,{"$f":"IF($C458=\"\",\"\",SUM(H458,L458,P458,T458,X458,AB458,AF458,AJ458,AN458,AR458,AV458,BA458,BB458))","v":""}]
[null,null,null,null,null,null,null,null,null,0,null,null,null,0,null,null,null,0,null,null,null,0,null,null,null,0,null,null,null,0,null,null,null,0,null,null,null,0,null,null,null,0,null,null,null,0,null,null,null,0,null,null,null,null,null,null,"","","","",null,null,null,0,null,null,null,0,"","","",null,null,null,null,"","","","","","","","","","","","","","","",null,""]
[null,null,null,null,null,null,null,null,null,0,null,null,null,0,null,null,null,0,null,null,null,0,null,null,null,0,null,null,null,0,null,null,null,0,null,null,null,0,null,null,null,0,null,null,null,0,null,null,null,0,null,null,null,null,null,null,"","","","",null,null,null,0,null,null,null,0,"","","",null,null,null,null,"","","","","","","","","","","","","","","",null,""]
[null,null,null,null,null,null,null,null,null,0,null,null,null,0,null,null,null,0,null,null,null,0,null,null,null,0,null,null,null,0,null,null,null,0,null,null,null,0,null,null,null,0,null,null,null,0,null,null,null,0,null,null,null,null,null,null,"","","","",null,null,null,0,null,null,null,0,"","","",null,null,null,null,"","","","","","","","","","","","","","","",null,""]
[null,null,null,null,null,null,null,null,null,0,null,null,null,0,null,null,null,0,null,null,null,0,null,null,null,0,null,null,null,0,null,null,null,0,null,null,null,0,null,null,null,0,null,null,null,0,null,null,null,0,null,null,null,null,null,null,"","","","",null,null,null,0,null,null,null,0,"","","",null,null,null,null,"","","","","","","","","","","","","","","",null,""]
[null,null,null,null,null,null,null,null,null,0,null,null,null,0,null,null,null,0,null,null,null,0,null,null,null,0,null,null,null,0,null,null,null,0,null,null,null,0,null,null,null,0,null,null,null,0,null,null,null,0,null,null,null,null,null,null,"","","","",null,null,null,0,null,null,null,0,"","","",null,null,null,null,"","","","","","","","","","","","","","","",null,""]
[null,null,null,null,null,null,null,null,null,0,null,null,null,0,null,null,null,0,null,null,null,0,null,null,null,0,null,null,null,0,null,null,null,0,null,null,null,0,null,null,null,0,null,null,null,0,null,null,null,0,null,null,null,null,null,null,"","","","",null,null,null,0,null,null,null,0,"","","",null,null,null,null,"","","","","","","","","","","","","","","",null,""]
[null,null,null,null,null,null,null,null,null,0,null,null,null,0,null,null,null,0,null,null,null,0,null,null,null,0,null,null,null,0,null,null,null,0,null,null,null,0,null,null,null,0,null,null,null,0,null,null,null,0,null,null,null,null,null,null,"","","","",null,null,null,0,null,null,null,0,"","","",null,null,null,null,"","","","","","","","","","","","","","","",null,""]
[null,null,null,null,null,null,null,null,null,0,null,null,null,0,null,null,null,0,null,null,null,0,null,null,null,0,null,null,null,0,null,null,null,0,null,null,null,0,null,null,null,0,null,null,null,0,null,null,null,0,null,null,null,null,null,null,"","","","",null,null,null,0,null,null,null,0,"","","",null,null,null,null,"","","","","","","","","","","","","","","",null,""]
[null,null,null,null,null,null,null,null,null,0,null,null,null,0,null,null,null,0,null,null,null,0,null,null,null,0,null,null,null,0,null,null,null,0,null,null,null,0,null,null,null,0,null,null,null,0,null,null,null,0,null,null,null,null,null,null,"","","","",null,null,null,0,null,null,null,0,"","","",null,null,null,null,"","","","","","","","","","","","","","","",null,""]
[null,null,null,null,null,null,null,null,null,0,null,null,null,0,null,null,null,0,null,null,null,0,null,null,null,0,null,null,null,0,null,null,null,0,null,null,null,0,null,null,null,0,null,null,null,0,null,null,null,0,null,null,null,null,null,null,"","","","",null,null,null,0,null,null,null,0,"","","",null,null,null,null,"","","","","","","","","","","","","","","",null,""]
[null,null,null,null,null,null,null,null,null,0,null,null,null,0,null,null,null,0,null,null,null,0,null,null,null,0,null,null,null,0,null,null,null,0,null,null,null,0,null,null,null,0,null,null,null,0,null,null,null,0,null,null,null,null,null,null,"","","","",null,null,null,0,null,null,null,0,"","","",null,null,null,null,"","","","","","","","","","","","","","","",null,""]
[null,null,null,null,null,null,null,null,null,0,null,null,null,0,null,null,null,0,null,null,null,0,null,null,null,0,null,null,null,0,null,null,null,0,null,null,null,0,null,null,null,0,null,null,null,0,null,null,null,0,null,null,null,null,null,null,"","","","",null,null,null,0,null,null,null,0,"","","",null,null,null,null,"","","","","","","","","","","","","","","",null,""]
[null,null,null,null,null,null,null,null,null,0,null,null,null,0,null,null,null,0,null,null,null,0,null,null,null,0,null,null,null,0,null,null,null,0,null,null,null,0,null,null,null,0,null,null,null,0,null,null,null,0,null,null,null,null,null,null,"","","","",null,null,null,0,null,null,null,0,"","","",null,null,null,null,"","","","","","","","","","","","","","","",null,""]
[null,null,null,null,null,null,null,null,null,0,null,null,null,0,null,null,null,0,null,null,null,0,null,null,null,0,null,null,null,0,null,null,null,0,null,null,null,0,null,null,null,0,null,null,null,0,null,null,null,0,null,null,null,null,null,null,"","","","",null,null,null,0,null,null,null,0,"","","",null,null,null,null,"","","","","","","","","","","","","","","",null,""]
[null,null,null,null,null,null,null,null,null,0,null,null,null,0,null,null,null,0,null,null,null,0,null,null,null,0,null,null,null,0,null,null,null,0,null,null,null,0,null,null,null,0,null,null,null,0,null,null,null,0,null,null,null,null,null,null,"","","","",null,null,null,0,null,null,null,0,"","","",null,null,null,null,"","","","","","","","","","","","","","","",null,""]
[null,null,null,null,null,null,null,null,null,0,null,null,null,0,null,null,null,0,null,null,null,0,null,null,null,0,null,null,null,0,null,null,null,0,null,null,null,0,null,null,null,0,null,null,null,0,null,null,null,0,null,null,null,null,null,null,"","","","",null,null,null,0,null,null,null,0,"","","",null,null,null,null,"","","","","","","","","","","","","","","",null,""]
[null,null,null,null,null,null,null,null,null,0,null,null,null,0,null,null,null,0,null,null,null,0,null,null,null,0,null,null,null,0,null,null,null,0,null,null,null,0,null,null,null,0,null,null,null,0,null,null,null,0,null,null,null,null,null,null,"","","","",null,null,null,0,null,null,null,0,"","","",null,null,null,null,"","","","","","","","","","","","","","","",null,""]
[null,null,null,null,null,null,null,null,null,0,null,null,null,0,null,null,null,0,null,null,null,0,null,null,null,0,null,null,null,0,null,null,null,0,null,null,null,0,null,null,null,0,null,null,null,0,null,null,null,0,null,null,null,null,null,null,"","","","",null,null,null,0,null,null,null,0,"","","",null,null,null,null,"","","","","","","","","","","","","","","",null,""]
[null,null,null,null,null,null,null,null,null,0,null,null,null,0,null,null,null,0,null,null,null,0,null,null,null,0,null,null,null,0,null,null,null,0,null,null,null,0,null,null,null,0,null,null,null,0,null,null,null,0,null,null,null,null,null,null,"","","","",null,null,null,0,null,null,null,0,"","","",null,null,null,null,"","","","","","","","","","","","","","","",null,""]
[null,null,null,null,null,null,null,null,null,0,null,null,null,0,null,null,null,0,null,null,null,0,null,null,null,0,null,null,null,0,null,null,null,0,null,null,null,0,null,null,null,0,null,null,null,0,null,null,null,0,null,null,null,null,null,null,"","","","",null,null,null,0,null,null,null,0,"","","",null,null,null,null,"","","","","","","","","","","","","","","",null,""]
[null,null,null,null,null,null,null,null,null,0,null,null,null,0,null,null,null,0,null,null,null,0,null,null,null,0,null,null,null,0,null,null,null,0,null,null,null,0,null,null,null,0,null,null,null,0,null,null,null,0,null,null,null,null,null,null,"","","","",null,null,null,0,null,null,null,0,"","","",null,null,null,null,"","","","","","","","","","","","","","","",null,""]
[null,null,null,null,null,null,null,null,null,0,null,null,null,0,null,null,null,0,null,null,null,0,null,null,null,0,null,null,null,0,null,null,null,0,null,null,null,0,null,null,null,0,null,null,null,0,null,null,null,0,null,null,null,null,null,null,"","","","",null,null,null,0,null,null,null,0,"","","",null,null,null,null,"","","","","","","","","","","","","","","",null,""]
[null,null,null,null,null,null,null,null,null,0,null,null,null,0,null,null,null,0,null,null,null,0,null,null,null,0,null,null,null,0,null,null,null,0,null,null,null,0,null,null,null,0,null,null,null,0,null,null,null,0,null,null,null,null,null,null,"","","","",null,null,null,0,null,null,null,0,"","","",null,null,null,null,"","","","","","","","","","","","","","","",null,""]
[null,null,null,null,null,null,null,null,null,0,null,null,null,0,null,null,null,0,null,null,null,0,null,null,null,0,null,null,null,0,null,null,null,0,null,null,null,0,null,null,null,0,null,null,null,0,null,null,null,0,null,null,null,null,null,null,"","","","",null,null,null,0,null,null,null,0,"","","",null,null,null,null,"","","","","","","","","","","","","","","",null,""]
[null,null,null,null,null,null,null,null,null,0,null,null,null,0,null,null,null,0,null,null,null,0,null,null,null,0,null,null,null,0,null,null,null,0,null,null,null,0,null,null,null,0,null,null,null,0,null,null,null,0,null,null,null,null,null,null,"","","","",null,null,null,0,null,null,null,0,"","","",null,null,null,null,"","","","","","","","","","","","","","","",null,""]
[null,null,null,null,null,null,null,null,null,0,null,null,null,0,null,null,null,0,null,null,null,0,null,null,null,0,null,null,null,0,null,null,null,0,null,null,null,0,null,null,null,0,null,null,null,0,null,null,null,0,null,null,null,null,null,null,"","","","",null,null,null,0,null,null,null,0,"","","",null,null,null,null,"","","","","","","","","","","","","","","",null,""]
[null,null,null,null,null,null,null,null,null,0,null,null,null,0,null,null,null,0,null,null,null,0,null,null,null,0,null,null,null,0,null,null,null,0,null,null,null,0,null,null,null,0,null,null,null,0,null,null,null,0,null,null,null,null,null,null,"","","","",null,null,null,0,null,null,null,0,"","","",null,null,null,null,"","","","","","","","","","","","","","","",null,""]
[null,null,null,null,null,null,null,null,null,0,null,null,null,0,null,null,null,0,null,null,null,0,null,null,null,0,null,null,null,0,null,null,null,0,null,null,null,0,null,null,null,0,null,null,null,0,null,null,null,0,null,null,null,null,null,null,"","","","",null,null,null,0,null,null,null,0,"","","",null,null,null,null,"","","","","","","","","","","","","","","",null,""]
[null,null,null,null,null,null,null,null,null,0,null,null,null,0,null,null,null,0,null,null,null,0,null,null,null,0,null,null,null,0,null,null,null,0,null,null,null,0,null,null,null,0,null,null,null,0,null,null,null,0,null,null,null,null,null,null,"","","","",null,null,null,0,null,null,null,0,"","","",null,null,null,null,"","","","","","","","","","","","","","","",null,""]
[null,null,null,null,null,null,null,null,null,0,null,null,null,0,null,null,null,0,null,null,null,0,null,null,null,0,null,null,null,0,null,null,null,0,null,null,null,0,null,null,null,0,null,null,null,0,null,null,null,0,null,null,null,null,null,null,"","","","",null,null,null,0,null,null,null,0,"","","",null,null,null,null,"","","","","","","","","","","","","","","",null,""]
[null,null,null,null,null,null,null,null,null,{"$f":"SUM(G489:I489)","v":0},null,null,null,0,null,null,null,0,null,null,null,0,null,null,null,0,null,null,null,0,null,null,null,0,null,null,null,0,null,null,null,0,null,null,null,0,null,null,null,0,null,null,null,null,null,null,"","","","",null,null,null,0,null,null,null,0,"","","",null,null,null,null,"","","","","","","","","","","","","","","",null,""]
[null,null,null,null,null,null,null,null,null,0,null,null,null,0,null,null,null,0,null,null,null,0,null,null,null,0,null,null,null,0,null,null,null,0,null,null,null,0,null,null,null,0,null,null,null,0,null,null,null,0,null,null,null,null,null,null,"","","","",null,null,null,0,null,null,null,0,"","","",null,null,null,null,"","","","","","","","","","","","","","","",null,""]
[null,null,null,null,null,null,null,null,null,0,null,null,null,0,null,null,null,0,null,null,null,0,null,null,null,0,null,null,null,0,null,null,null,0,null,null,null,0,null,null,null,0,null,null,null,0,null,null,null,0,null,null,null,null,null,null,"","","","",null,null,null,0,null,null,null,0,"","","",null,null,null,null,"","","","","","","","","","","","","","","",null,""]
[null,null,null,null,null,null,null,null,null,0,null,null,null,0,null,null,null,0,null,null,null,0,null,null,null,0,null,null,null,0,null,null,null,0,null,null,null,0,null,null,null,0,null,null,null,0,null,null,null,0,null,null,null,null,null,null,"","","","",null,null,null,0,null,null,null,0,"","","",null,null,null,null,"","","","","","","","","","","","","","","",null,""]
[null,null,null,null,null,null,null,null,null,0,null,null,null,0,null,null,null,0,null,null,null,0,null,null,null,0,null,null,null,0,null,null,null,0,null,null,null,0,null,null,null,0,null,null,null,0,null,null,null,0,null,null,null,null,null,null,"","","","",null,null,null,0,null,null,null,0,"","","",null,null,null,null,"","","","","","","","","","","","","","","",null,""]
[null,null,null,null,null,null,null,null,null,0,null,null,null,0,null,null,null,0,null,null,null,0,null,null,null,0,null,null,null,0,null,null,null,0,null,null,null,0,null,null,null,0,null,null,null,0,null,null,null,0,null,null,null,null,null,null,"","","","",null,null,null,0,null,null,null,0,"","","",null,null,null,null,"","","","","","","","","","","","","","","",null,""]
[null,null,null,null,null,null,null,null,null,0,null,null,null,0,null,null,null,0,null,null,null,0,null,null,null,0,null,null,null,0,null,null,null,0,null,null,null,0,null,null,null,0,null,null,null,0,null,null,null,0,null,null,null,null,null,null,"","","","",null,null,null,0,null,null,null,0,"","","",null,null,null,null,"","","","","","","","","","","","","","","",null,""]
[null,null,null,null,null,null,null,null,null,0,null,null,null,0,null,null,null,0,null,null,null,0,null,null,null,0,null,null,null,0,null,null,null,0,null,null,null,0,null,null,null,0,null,null,null,0,null,null,null,0,null,null,null,null,null,null,{"$f":"IF($C496=\"\",\"\",SUM(AY496,BA496,BC496))","v":""},"","","",null,null,null,0,null,null,null,0,"","","",null,null,null,null,"","","","","","","","","","","","","","","",null,""]
[null,null,null,null,null,null,null,null,null,0,null,null,null,0,null,null,null,0,null,null,null,0,null,null,null,0,null,null,null,0,null,null,null,0,null,null,null,0,null,null,null,0,null,null,null,0,null,null,null,0,null,null,null,null,null,null,"","","","",null,null,null,0,null,null,null,0,"","","",null,null,null,null,"","","","","","","","","","","","","","","",null,""]
[null,null,null,null,null,null,null,null,null,0,null,null,null,0,null,null,null,0,null,null,null,0,null,null,null,0,null,null,null,0,null,null,null,0,null,null,null,0,null,null,null,0,null,null,null,0,null,null,null,0,null,null,null,null,null,null,"","","","",null,null,null,0,null,null,null,0,"","","",null,null,null,null,"","","","","","","","","","","","","","","",null,""]
[null,null,null,null,null,null,null,null,null,0,null,null,null,0,null,null,null,0,null,null,null,0,null,null,null,0,null,null,null,0,null,null,null,0,null,null,null,0,null,null,null,0,null,null,null,0,null,null,null,0,null,null,null,null,null,null,"","","","",null,null,null,0,null,null,null,0,"","","",null,null,null,null,"","","","","","","","","","","","","","","",null,""]
[null,null,null,null,null,null,null,null,null,0,null,null,null,0,null,null,null,0,null,null,null,0,null,null,null,0,null,null,null,0,null,null,null,0,null,null,null,0,null,null,null,0,null,null,null,0,null,null,null,0,null,null,null,null,null,null,"","","","",null,null,null,0,null,null,null,0,"","","",null,null,null,null,"","","","","","","","","","","","","","","",null,""]
[null,null,null,null,null,null,null,null,null,0,null,null,null,0,null,null,null,0,null,null,null,0,null,null,null,0,null,null,null,0,null,null,null,0,null,null,null,0,null,null,null,0,null,null,null,0,null,null,null,0,null,null,null,null,null,null,"","","","",null,null,null,0,null,null,null,0,"","","",null,null,null,null,"","","","","","","","","","","","","","","",null,""]
[null,null,null,null,null,null,null,null,null,0,null,null,null,0,null,null,null,0,null,null,null,0,null,null,null,0,null,null,null,0,null,null,null,0,null,null,null,0,null,null,null,0,null,null,null,0,null,null,null,0,null,null,null,null,null,null,"","","","",null,null,null,0,null,null,null,0,"","","",null,null,null,null,"","","","","","","","","","","","","","","",null,""]
[null,null,null,null,null,null,null,null,null,0,null,null,null,0,null,null,null,0,null,null,null,0,null,null,null,0,null,null,null,0,null,null,null,0,null,null,null,0,null,null,null,0,null,null,null,0,null,null,null,0,null,null,null,null,null,null,"","","","",null,null,null,0,null,null,null,0,"","","",null,null,null,null,"","","","","","","","","","","","","","","",null,""]
[null,null,null,null,null,null,null,null,null,0,null,null,null,0,null,null,null,0,null,null,null,0,null,null,null,0,null,null,null,0,null,null,null,0,null,null,null,0,null,null,null,0,null,null,null,0,null,null,null,0,null,null,null,null,null,null,"","","","",null,null,null,0,null,null,null,0,"","","",null,null,null,null,"","","","","","","","","","","","","","","",null,""]
[null,null,null,null,null,null,null,null,null,0,null,null,null,0,null,null,null,0,null,null,null,0,null,null,null,0,null,null,null,0,null,null,null,0,null,null,null,0,null,null,null,0,null,null,null,0,null,null,null,0,null,null,null,null,null,null,"","","","",null,null,null,0,null,null,null,0,"","","",null,null,null,null,"","","","","","","","","","","","","","","",null,""]
[null,null,null,null,null,null,null,null,null,0,null,null,null,0,null,null,null,0,null,null,null,0,null,null,null,0,null,null,null,0,null,null,null,0,null,null,null,0,null,null,null,0,null,null,null,0,null,null,null,0,null,null,null,null,null,null,"","","","",null,null,null,0,null,null,null,0,"","","",null,null,null,null,"","","","","","","","","","","","","","","",null,""]
[null,null,null,null,null,null,null,null,null,0,null,null,null,0,null,null,null,0,null,null,null,0,null,null,null,0,null,null,null,0,null,null,null,0,null,null,null,0,null,null,null,0,null,null,null,0,null,null,null,0,null,null,null,null,null,null,"","","","",null,null,null,0,null,null,null,0,"","","",null,null,null,null,"","","","","","","","","","","","","","","",null,""]
[null,null,null,null,null,null,null,null,null,0,null,null,null,0,null,null,null,0,null,null,null,0,null,null,null,0,null,null,null,0,null,null,null,0,null,null,null,0,null,null,null,0,null,null,null,0,null,null,null,0,null,null,null,null,null,null,"","","","",null,null,null,0,null,null,null,0,"","","",null,null,null,null,"","","","","","","","","","","","","","","",null,""]
[null,null,null,null,null,null,null,null,null,0,null,null,null,0,null,null,null,0,null,null,null,0,null,null,null,0,null,null,null,0,null,null,null,0,null,null,null,0,null,null,null,0,null,null,null,0,null,null,null,0,null,null,null,null,null,null,"","","","",null,null,null,0,null,null,null,0,"","","",null,null,null,null,"","","","","","","","","","","","","","","",null,""]
[null,null,null,null,null,null,null,null,null,0,null,null,null,0,null,null,null,0,null,null,null,0,null,null,null,0,null,null,null,0,null,null,null,0,null,null,null,0,null,null,null,0,null,null,null,0,null,null,null,0,null,null,null,null,null,null,"","","","",null,null,null,0,null,null,null,0,"","","",null,null,null,null,"","","","","","","","","","","","","","","",null,""]
[null,null,null,null,null,null,null,null,null,0,null,null,null,0,null,null,null,0,null,null,null,0,null,null,null,0,null,null,null,0,null,null,null,0,null,null,null,0,null,null,null,0,null,null,null,0,null,null,null,0,null,null,null,null,null,null,"","","","",null,null,null,0,null,null,null,0,"","","",null,null,null,null,"","","","","","","","","","","","","","","",null,""]
[null,null,null,null,null,null,null,null,null,0,null,null,null,0,null,null,null,0,null,null,null,0,null,null,null,0,null,null,null,0,null,null,null,0,null,null,null,0,null,null,null,{"$f":"SUM(AM512:AO512)","v":0},null,null,null,0,null,null,null,0,null,null,null,null,null,null,"","","","",null,null,null,0,null,null,null,0,"","","",null,null,null,null,"","","","","","","","","","","","","","","",null,""]
[null,null,null,null,null,null,null,null,null,0,null,null,null,0,null,null,null,0,null,null,null,0,null,null,null,0,null,null,null,0,null,null,null,0,null,null,null,0,null,null,null,0,null,null,null,0,null,null,null,0,null,null,null,null,null,null,"","","","",null,null,null,0,null,null,null,0,"","","",null,null,null,null,"","","","","","","","","","","","","","","",null,""]
[null,null,null,null,null,null,null,null,null,0,null,null,null,0,null,null,null,0,null,null,null,0,null,null,null,0,null,null,null,0,null,null,null,0,null,null,null,0,null,null,null,0,null,null,null,0,null,null,null,0,null,null,null,null,null,null,"","","","",null,null,null,0,null,null,null,0,"","","",null,null,null,null,"","","","","","","","","","","","","","","",null,""]
[null,null,null,null,null,null,null,null,null,0,null,null,null,0,null,null,null,0,null,null,null,0,null,null,null,0,null,null,null,0,null,null,null,0,null,null,null,0,null,null,null,0,null,null,null,0,null,null,null,0,null,null,null,null,null,null,"","","","",null,null,null,0,null,null,null,0,"","","",null,null,null,null,"","","","","","","","","","","","","","","",null,""]
[null,null,null,null,null,null,null,null,null,0,null,null,null,0,null,null,null,0,null,null,null,0,null,null,null,0,null,null,null,0,null,null,null,0,null,null,null,0,null,null,null,0,null,null,null,0,null,null,null,0,null,null,null,null,null,null,"","","","",null,null,null,0,null,null,null,0,"","","",null,null,null,null,"","","","","","","","","","","","","","","",null,""]
[null,null,null,null,null,null,null,null,null,0,null,null,null,0,null,null,null,0,null,null,null,0,null,null,null,0,null,null,null,0,null,null,null,0,null,null,null,0,null,null,null,0,null,null,null,0,null,null,null,0,null,null,null,null,null,null,"","","","",null,null,null,0,null,null,null,0,"","","",null,null,null,null,"","","","","","","","","","","","","","","",null,""]
[null,null,null,null,null,null,null,null,null,0,null,null,null,0,null,null,null,0,null,null,null,0,null,null,null,0,null,null,null,0,null,null,null,0,null,null,null,0,null,null,null,0,null,null,null,0,null,null,null,0,null,null,null,null,null,null,"","","","",null,null,null,0,null,null,null,0,"","","",null,null,null,null,"","","","","","","","","","","","","","","",null,""]
[null,null,null,null,null,null,null,null,null,0,null,null,null,0,null,null,null,0,null,null,null,0,null,null,null,0,null,null,null,0,null,null,null,0,null,null,null,0,null,null,null,0,null,null,null,0,null,null,null,0,null,null,null,null,null,null,"","","","",null,null,null,0,null,null,null,0,"","","",null,null,null,null,"","","","","","","","","","","","","","","",null,""]
[null,null,null,null,null,null,null,null,null,0,null,null,null,0,null,null,null,0,null,null,null,0,null,null,null,0,null,null,null,0,null,null,null,0,null,null,null,0,null,null,null,0,null,null,null,0,null,null,null,0,null,null,null,null,null,null,"","","","",null,null,null,0,null,null,null,0,"","","",null,null,null,null,"","","","","","","","","","","","","","","",null,""]
[null,null,null,null,null,null,null,null,null,0,null,null,null,0,null,null,null,0,null,null,null,0,null,null,null,0,null,null,null,0,null,null,null,0,null,null,null,0,null,null,null,0,null,null,null,0,null,null,null,0,null,null,null,null,null,null,"","","","",null,null,null,0,null,null,null,0,"","","",null,null,null,null,"","","","","","","","","","","","","","","",null,""]
[null,null,null,null,null,null,null,null,null,0,null,null,null,{"$f":"SUM(K522:M522)","v":0},null,null,null,{"$f":"SUM(O522:Q522)","v":0},null,null,null,{"$f":"SUM(S522:U522)","v":0},null,null,null,{"$f":"SUM(W522:Y522)","v":0},null,null,null,{"$f":"SUM(AA522:AC522)","v":0},null,null,null,{"$f":"SUM(AE522:AG522)","v":0},null,null,null,{"$f":"SUM(AI522:AK522)","v":0},null,null,null,0,null,null,null,{"$f":"SUM(AQ522:AS522)","v":0},null,null,null,{"$f":"SUM(AU522:AW522)","v":0},null,null,null,null,null,null,"","",{"$f":"IF($C522=\"\",\"\",SUM(BE522,BF522))","v":""},{"$f":"IF($C522=\"\",\"\",SUM(J522,N522,R522,V522,Z522,AD522,AH522,AL522,AP522,AT522,AX522,BG522))","v":""},null,null,null,{"$f":"SUM(BI522:BK522)","v":0},null,null,null,{"$f":"SUM(BM522:BO522)","v":0},{"$f":"IF($C522=\"\",\"\",IF(BS522=0,\"ناجحة\",IF(BS522<=2,\"دورثان\",\"راسبة\")))","v":""},{"$f":"IF($C522=\"\",\"\",IF(BS522=0,\"ومنقولة للصف الثالث\",IF(BS522>0,\"فى  :  \"&CONCATENATE(BX522,BY522,BZ522,CA522,CB522,CC522,CD522,CE522,CF522,CG522,CH522,CI522,CJ522,CK522,CL522),CONCATENATE(BX522,BY522,BZ522,CA522,CB522,CC522,CD522,CE522,CF522,CG522,CH522,CI522,CJ522,CK522,CL522))))","v":""},{"$f":"IF($C522=\"\",\"\",COUNTA($BX522:$CL522)-COUNTBLANK($BX522:$CL522))","v":""},null,null,null,null,{"$f":"IF($C522=\"\",\"\",IF(OR(I522<$I$9,I522=\"غ\",J522<$J$9),$BX$5&\" - \",\"\"))","v":""},{"$f":"IF($C522=\"\",\"\",IF(OR(M522<$M$9,M522=\"غ\",N522<$N$9),$BY$5&\" - \",\"\"))","v":""},{"$f":"IF($C522=\"\",\"\",IF(OR(Q522<$Q$9,Q522=\"غ\",R522<$R$9),BZ$5&\" - \",\"\"))","v":""},{"$f":"IF($C522=\"\",\"\",IF(OR(U522<$U$9,U522=\"غ\",V522<$V$9),CA$5&\" - \",\"\"))","v":""},{"$f":"IF($C522=\"\",\"\",IF(OR(Y522<$Y$9,Y522=\"غ\",Z522<$Z$9),CB$5&\" - \",\"\"))","v":""},{"$f":"IF($C522=\"\",\"\",IF(OR(AC522<$AC$9,AC522=\"غ\",AD522<$AD$9),CC$5&\" - \",\"\"))","v":""},{"$f":"IF($C522=\"\",\"\",IF(OR(AG522<$AG$9,AG522=\"غ\",AH522<$AH$9),CD$5&\" - \",\"\"))","v":""},{"$f":"IF($C522=\"\",\"\",IF(OR(AK522<$AK$9,AK522=\"غ\",AL522<$AL$9),CE$5&\" - \",\"\"))","v":""},{"$f":"IF($C522=\"\",\"\",IF(OR(AO522<$AO$9,AO522=\"غ\",AP522<$AP$9),CF$5&\" - \",\"\"))","v":""},{"$f":"IF($C522=\"\",\"\",IF(OR(AS522<$AS$9,AS522=\"غ\",AT522<$AT$9),CG$5&\" - \",\"\"))","v":""},{"$f":"IF($C522=\"\",\"\",IF(OR(AW522<$AW$9,AW522=\"غ\",AX522<$AX$9),CH$5&\" - \",\"\"))","v":""},{"$f":"IF($C522=\"\",\"\",IF(OR(BE522<$BE$9,BE522=\"غ\",BF522<$BF$9,BF522=\"غ\",BG522<$BG$9),CI$5&\" - \",\"\"))","v":""},{"$f":"IF($C522=\"\",\"\",IF(OR(BK522<$BK$9,BK522=\"غ\",BL522<$BL$9),CJ$5&\" - \",\"\"))","v":""},{"$f":"IF($C522=\"\",\"\",IF(OR(BO522<$BO$9,BO522=\"غ\",BP522<$BP$9),CK$5&\" - \",\"\"))","v":""},{"$f":"IF($C522=\"\",\"\",IF(BH522<$BH$9,CL$5,\"\"))","v":""},null,{"$f":"IF($C522=\"\",\"\",SUM(H522,L522,P522,T522,X522,AB522,AF522,AJ522,AN522,AR522,AV522,BA522,BB522))","v":""}]
[null,null,null,null,null,null,null,null,null,0,null,null,null,0,null,null,null,0,null,null,null,0,null,null,null,0,null,null,null,0,null,null,null,0,null,null,null,0,null,null,null,0,null,null,null,0,null,null,null,0,null,null,null,null,null,null,"","","","",null,null,null,0,null,null,null,0,"","","",null,null,null,null,"","","","","","","","","","","","","","","",null,""]
[null,null,null,null,null,null,null,null,null,0,null,null,null,0,null,null,null,0,null,null,null,0,null,null,null,0,null,null,null,0,null,null,null,0,null,null,null,0,null,null,null,0,null,null,null,0,null,null,null,0,null,null,null,null,null,null,"","","","",null,null,null,0,null,null,null,0,"","","",null,null,null,null,"","","","","","","","","","","","","","","",null,""]
[null,null,null,null,null,null,null,null,null,0,null,null,null,0,null,null,null,0,null,null,null,0,null,null,null,0,null,null,null,0,null,null,null,0,null,null,null,0,null,null,null,0,null,null,null,0,null,null,null,0,null,null,null,null,null,null,"","","","",null,null,null,0,null,null,null,0,"","","",null,null,null,null,"","","","","","","","","","","","","","","",null,""]
[null,null,null,null,null,null,null,null,null,0,null,null,null,0,null,null,null,0,null,null,null,0,null,null,null,0,null,null,null,0,null,null,null,0,null,null,null,0,null,null,null,0,null,null,null,0,null,null,null,0,null,null,null,null,null,null,"","","","",null,null,null,0,null,null,null,0,"","","",null,null,null,null,"","","","","","","","","","","","","","","",null,""]
[null,null,null,null,null,null,null,null,null,0,null,null,null,0,null,null,null,0,null,null,null,0,null,null,null,0,null,null,null,0,null,null,null,0,null,null,null,0,null,null,null,0,null,null,null,0,null,null,null,0,null,null,null,null,null,null,"","","","",null,null,null,0,null,null,null,0,"","","",null,null,null,null,"","","","","","","","","","","","","","","",null,""]
[null,null,null,null,null,null,null,null,null,0,null,null,null,0,null,null,null,0,null,null,null,0,null,null,null,0,null,null,null,0,null,null,null,0,null,null,null,0,null,null,null,0,null,null,null,0,null,null,null,0,null,null,null,null,null,null,"","","","",null,null,null,0,null,null,null,0,"","","",null,null,null,null,"","","","","","","","","","","","","","","",null,""]
[null,null,null,null,null,null,null,null,null,0,null,null,null,0,null,null,null,0,null,null,null,0,null,null,null,0,null,null,null,0,null,null,null,0,null,null,null,0,null,null,null,0,null,null,null,0,null,null,null,0,null,null,null,null,null,null,"","","","",null,null,null,0,null,null,null,0,"","","",null,null,null,null,"","","","","","","","","","","","","","","",null,""]
[null,null,null,null,null,null,null,null,null,0,null,null,null,0,null,null,null,0,null,null,null,0,null,null,null,0,null,null,null,0,null,null,null,0,null,null,null,0,null,null,null,0,null,null,null,0,null,null,null,0,null,null,null,null,null,null,"","","","",null,null,null,0,null,null,null,0,"","","",null,null,null,null,"","","","","","","","","","","","","","","",null,""]
[null,null,null,null,null,null,null,null,null,0,null,null,null,0,null,null,null,0,null,null,null,0,null,null,null,0,null,null,null,0,null,null,null,0,null,null,null,0,null,null,null,0,null,null,null,0,null,null,null,0,null,null,null,null,null,null,"","","","",null,null,null,0,null,null,null,0,"","","",null,null,null,null,"","","","","","","","","","","","","","","",null,""]
[null,null,null,null,null,null,null,null,null,0,null,null,null,0,null,null,null,0,null,null,null,0,null,null,null,0,null,null,null,0,null,null,null,0,null,null,null,0,null,null,null,0,null,null,null,0,null,null,null,0,null,null,null,null,null,null,"","","","",null,null,null,0,null,null,null,0,"","","",null,null,null,null,"","","","","","","","","","","","","","","",null,""]
[null,null,null,null,null,null,null,null,null,0,null,null,null,0,null,null,null,0,null,null,null,0,null,null,null,0,null,null,null,0,null,null,null,0,null,null,null,0,null,null,null,0,null,null,null,0,null,null,null,0,null,null,null,null,null,null,"","","","",null,null,null,0,null,null,null,0,"","","",null,null,null,null,"","","","","","","","","","","","","","","",null,""]
[null,null,null,null,null,null,null,null,null,0,null,null,null,0,null,null,null,0,null,null,null,0,null,null,null,0,null,null,null,0,null,null,null,0,null,null,null,0,null,null,null,0,null,null,null,0,null,null,null,0,null,null,null,null,null,null,"","","","",null,null,null,0,null,null,null,0,"","","",null,null,null,null,"","","","","","","","","","","","","","","",null,""]
[null,null,null,null,null,null,null,null,null,0,null,null,null,0,null,null,null,0,null,null,null,0,null,null,null,0,null,null,null,0,null,null,null,0,null,null,null,0,null,null,null,0,null,null,null,0,null,null,null,0,null,null,null,null,null,null,"","","","",null,null,null,0,null,null,null,0,"","","",null,null,null,null,"","","","","","","","","","","","","","","",null,""]
[null,null,null,null,null,null,null,null,null,0,null,null,null,0,null,null,null,0,null,null,null,0,null,null,null,0,null,null,null,0,null,null,null,0,null,null,null,0,null,null,null,0,null,null,null,0,null,null,null,0,null,null,null,null,null,null,"","","","",null,null,null,0,null,null,null,0,"","","",null,null,null,null,"","","","","","","","","","","","","","","",null,""]
[null,null,null,null,null,null,null,null,null,0,null,null,null,0,null,null,null,0,null,null,null,0,null,null,null,0,null,null,null,0,null,null,null,0,null,null,null,0,null,null,null,0,null,null,null,0,null,null,null,0,null,null,null,null,null,null,"","","","",null,null,null,0,null,null,null,0,"","","",null,null,null,null,"","","","","","","","","","","","","","","",null,""]
[null,null,null,null,null,null,null,null,null,{"$f":"IF($C538=\"\",\"\",SUM(G538,H538,I538))","v":""},null,null,null,{"$f":"IF($C538=\"\",\"\",SUM(K538,L538,M538))","v":""},null,null,null,{"$f":"IF($C538=\"\",\"\",SUM(O538,P538,Q538))","v":""},null,null,null,{"$f":"IF($C538=\"\",\"\",SUM(S538,T538,U538))","v":""},null,null,null,{"$f":"IF($C538=\"\",\"\",SUM(W538,X538,Y538))","v":""},null,null,null,{"$f":"IF($C538=\"\",\"\",SUM(AA538:AC538))","v":""},null,null,null,{"$f":"IF($C538=\"\",\"\",SUM(AE538,AF538,AG538))","v":""},null,null,null,{"$f":"IF($C538=\"\",\"\",SUM(AI538,AJ538,AK538))","v":""},null,null,null,{"$f":"IF($C538=\"\",\"\",SUM(AM538,AN538,AO538))","v":""},null,null,null,{"$f":"IF($C538=\"\",\"\",SUM(AQ538,AR538,AS538))","v":""},null,null,null,{"$f":"IF($C538=\"\",\"\",SUM(AU538,AV538,AW538))","v":""},null,null,null,null,null,null,{"$f":"IF($C538=\"\",\"\",SUM(AY538,BA538,BC538))","v":""},"","","",null,null,null,{"$f":"IF($C538=\"\",\"\",SUM(BI538,BJ538,BK538))","v":""},null,null,null,{"$f":"IF($C538=\"\",\"\",SUM(BM538,BN538,BO538))","v":""},"","","",null,null,null,null,"","","","","","","","","","","","","","","",null,""]
[null,null,null,null,null,null,null,null,null,"",null,null,null,"",null,null,null,"",null,null,null,"",null,null,null,"",null,null,null,"",null,null,null,"",null,null,null,"",null,null,null,"",null,null,null,"",null,null,null,"",null,null,null,null,null,null,"","","","",null,null,null,"",null,null,null,"","","","",null,null,null,null,"","","","","","","","","","","","","","","",null,""]
[null,null,null,null,null,null,null,null,null,"",null,null,null,"",null,null,null,"",null,null,null,"",null,null,null,"",null,null,null,"",null,null,null,"",null,null,null,"",null,null,null,"",null,null,null,"",null,null,null,"",null,null,null,null,null,null,"","","","",null,null,null,"",null,null,null,"","","","",null,null,null,null,"","","","","","","","","","","","","","","",null,""]
[null,null,null,null,null,null,null,null,null,"",null,null,null,"",null,null,null,"",null,null,null,"",null,null,null,"",null,null,null,"",null,null,null,"",null,null,null,"",null,null,null,"",null,null,null,"",null,null,null,"",null,null,null,null,null,null,"","","","",null,null,null,"",null,null,null,"","","","",null,null,null,null,"","","","","","","","","","","","","","","",null,""]
[null,null,null,null,null,null,null,null,null,"",null,null,null,"",null,null,null,"",null,null,null,"",null,null,null,"",null,null,null,"",null,null,null,"",null,null,null,"",null,null,null,"",null,null,null,"",null,null,null,"",null,null,null,null,null,null,"","","","",null,null,null,"",null,null,null,"","","","",null,null,null,null,"","","","","","","","","","","","","","","",null,""]
[null,null,null,null,null,null,null,null,null,"",null,null,null,"",null,null,null,"",null,null,null,"",null,null,null,"",null,null,null,"",null,null,null,"",null,null,null,"",null,null,null,"",null,null,null,"",null,null,null,"",null,null,null,null,null,null,"","","","",null,null,null,"",null,null,null,"","","","",null,null,null,null,"","","","","","","","","","","","","","","",null,""]
[null,null,null,null,null,null,null,null,null,"",null,null,null,"",null,null,null,"",null,null,null,"",null,null,null,"",null,null,null,"",null,null,null,"",null,null,null,"",null,null,null,"",null,null,null,"",null,null,null,"",null,null,null,null,null,null,"","","","",null,null,null,"",null,null,null,"","","","",null,null,null,null,"","","","","","","","","","","","","","","",null,""]
[null,null,null,null,null,null,null,null,null,"",null,null,null,"",null,null,null,"",null,null,null,"",null,null,null,"",null,null,null,"",null,null,null,"",null,null,null,"",null,null,null,"",null,null,null,"",null,null,null,"",null,null,null,null,null,null,"","","","",null,null,null,"",null,null,null,"","","","",null,null,null,null,"","","","","","","","","","","","","","","",null,""]
[null,null,null,null,null,null,null,null,null,"",null,null,null,"",null,null,null,"",null,null,null,"",null,null,null,"",null,null,null,"",null,null,null,"",null,null,null,"",null,null,null,"",null,null,null,"",null,null,null,"",null,null,null,null,null,null,"","","","",null,null,null,"",null,null,null,"","","","",null,null,null,null,"","","","","","","","","","","","","","","",null,""]
[null,null,null,null,null,null,null,null,null,"",null,null,null,"",null,null,null,"",null,null,null,"",null,null,null,"",null,null,null,"",null,null,null,"",null,null,null,"",null,null,null,"",null,null,null,"",null,null,null,"",null,null,null,null,null,null,"","","","",null,null,null,"",null,null,null,"","","","",null,null,null,null,"","","","","","","","","","","","","","","",null,""]
[null,null,null,null,null,null,null,null,null,"",null,null,null,"",null,null,null,"",null,null,null,"",null,null,null,"",null,null,null,"",null,null,null,"",null,null,null,"",null,null,null,"",null,null,null,"",null,null,null,"",null,null,null,null,null,null,"","","","",null,null,null,"",null,null,null,"","","","",null,null,null,null,"","","","","","","","","","","","","","","",null,""]
[null,null,null,null,null,null,null,null,null,"",null,null,null,"",null,null,null,"",null,null,null,"",null,null,null,"",null,null,null,"",null,null,null,"",null,null,null,"",null,null,null,"",null,null,null,"",null,null,null,"",null,null,null,null,null,null,"","","","",null,null,null,"",null,null,null,"","","","",null,null,null,null,"","","","","","","","","","","","","","","",null,""]
[null,null,null,null,null,null,null,null,null,"",null,null,null,"",null,null,null,"",null,null,null,"",null,null,null,"",null,null,null,"",null,null,null,"",null,null,null,"",null,null,null,"",null,null,null,"",null,null,null,"",null,null,null,null,null,null,"","","","",null,null,null,"",null,null,null,"","","","",null,null,null,null,"","","","","","","","","","","","","","","",null,""]
[null,null,null,null,null,null,null,null,null,"",null,null,null,"",null,null,null,"",null,null,null,"",null,null,null,"",null,null,null,"",null,null,null,"",null,null,null,"",null,null,null,"",null,null,null,"",null,null,null,"",null,null,null,null,null,null,"","","","",null,null,null,"",null,null,null,"","","","",null,null,null,null,"","","","","","","","","","","","","","","",null,{"$f":"IF($C551=\"\",\"\",SUM(H551,L551,P551,T551,X551,AB551,AF551,AJ551,AN551,AR551,AV551,BA551,BB551))","v":""}]
[null,null,null,null,null,null,null,null,null,"",null,null,null,"",null,null,null,"",null,null,null,"",null,null,null,"",null,null,null,"",null,null,null,"",null,null,null,"",null,null,null,"",null,null,null,"",null,null,null,"",null,null,null,null,null,null,"","","","",null,null,null,"",null,null,null,"","","","",null,null,null,null,"","","","","","","","","","","","","","","",null,{"$f":"IF($C552=\"\",\"\",SUM(H552,L552,P552,T552,X552,AB552,AF552,AJ552,AN552,AR552,AV552,BA552,BB552))","v":""}]
[null,null,null,null,null,null,null,null,null,"",null,null,null,"",null,null,null,"",null,null,null,"",null,null,null,"",null,null,null,"",null,null,null,"",null,null,null,"",null,null,null,"",null,null,null,"",null,null,null,"",null,null,null,null,null,null,"","","","",null,null,null,"",null,null,null,"","","","",null,null,null,null,"","","","","","","","","","","","","","","",null,""]
[null,null,null,null,null,null,null,null,null,"",null,null,null,"",null,null,null,"",null,null,null,"",null,null,null,"",null,null,null,"",null,null,null,"",null,null,null,"",null,null,null,"",null,null,null,"",null,null,null,"",null,null,null,null,null,null,"","","","",null,null,null,"",null,null,null,"","","","",null,null,null,null,"","","","","","","","","","","","","","","",null,""]
[null,null,null,null,null,null,null,null,null,"",null,null,null,"",null,null,null,"",null,null,null,"",null,null,null,"",null,null,null,"",null,null,null,"",null,null,null,"",null,null,null,"",null,null,null,"",null,null,null,"",null,null,null,null,null,null,"","","","",null,null,null,"",null,null,null,"","","","",null,null,null,null,"","","","","","","","","","","","","","","",null,""]
[null,null,null,null,null,null,null,null,null,"",null,null,null,"",null,null,null,"",null,null,null,"",null,null,null,"",null,null,null,"",null,null,null,"",null,null,null,"",null,null,null,"",null,null,null,"",null,null,null,"",null,null,null,null,null,null,"","","","",null,null,null,"",null,null,null,"","","","",null,null,null,null,"","","","","","","","","","","","","","","",null,""]
[null,null,null,null,null,null,null,null,null,"",null,null,null,"",null,null,null,"",null,null,null,"",null,null,null,"",null,null,null,"",null,null,null,"",null,null,null,"",null,null,null,"",null,null,null,"",null,null,null,"",null,null,null,null,null,null,"","","","",null,null,null,"",null,null,null,"","","","",null,null,null,null,"","","","","","","","","","","","","","","",null,""]
[null,null,null,null,null,null,null,null,null,"",null,null,null,"",null,null,null,"",null,null,null,"",null,null,null,"",null,null,null,"",null,null,null,"",null,null,null,"",null,null,null,"",null,null,null,"",null,null,null,"",null,null,null,null,null,null,"","","","",null,null,null,"",null,null,null,"","","","",null,null,null,null,"","","","","","","","","","","","","","","",null,""]
[null,null,null,null,null,null,null,null,null,"",null,null,null,"",null,null,null,"",null,null,null,"",null,null,null,"",null,null,null,"",null,null,null,"",null,null,null,"",null,null,null,"",null,null,null,"",null,null,null,"",null,null,null,null,null,null,"","","","",null,null,null,"",null,null,null,"","","","",null,null,null,null,"","","","","","","","","","","","","","","",null,""]
[null,null,null,null,null,null,null,null,null,"",null,null,null,"",null,null,null,"",null,null,null,"",null,null,null,"",null,null,null,"",null,null,null,"",null,null,null,"",null,null,null,"",null,null,null,"",null,null,null,"",null,null,null,null,null,null,"","","","",null,null,null,"",null,null,null,"","","","",null,null,null,null,"","","","","","","","","","","","","","","",null,""]
[null,null,null,null,null,null,null,null,null,"",null,null,null,"",null,null,null,"",null,null,null,"",null,null,null,"",null,null,null,"",null,null,null,"",null,null,null,"",null,null,null,"",null,null,null,"",null,null,null,"",null,null,null,null,null,null,"","","","",null,null,null,"",null,null,null,"","","","",null,null,null,null,"","","","","","","","","","","","","","","",null,""]
[null,null,null,null,null,null,null,null,null,"",null,null,null,"",null,null,null,"",null,null,null,"",null,null,null,"",null,null,null,"",null,null,null,"",null,null,null,"",null,null,null,"",null,null,null,"",null,null,null,"",null,null,null,null,null,null,"","","","",null,null,null,"",null,null,null,"","","","",null,null,null,null,"","","","","","","","","","","","","","","",null,""]
[null,null,null,null,null,null,null,null,null,"",null,null,null,"",null,null,null,"",null,null,null,"",null,null,null,"",null,null,null,"",null,null,null,"",null,null,null,"",null,null,null,"",null,null,null,"",null,null,null,"",null,null,null,null,null,null,"","","","",null,null,null,"",null,null,null,"","","","",null,null,null,null,"","","","","","","","","","","","","","","",null,""]
[null,null,null,null,null,null,null,null,null,"",null,null,null,"",null,null,null,"",null,null,null,"",null,null,null,"",null,null,null,"",null,null,null,"",null,null,null,"",null,null,null,"",null,null,null,"",null,null,null,"",null,null,null,null,null,null,"","","","",null,null,null,"",null,null,null,"","","","",null,null,null,null,"","","","","","","","","","","","","","","",null,""]
[null,null,null,null,null,null,null,null,null,"",null,null,null,"",null,null,null,"",null,null,null,"",null,null,null,"",null,null,null,"",null,null,null,"",null,null,null,"",null,null,null,"",null,null,null,"",null,null,null,"",null,null,null,null,null,null,"","","","",null,null,null,"",null,null,null,"","","","",null,null,null,null,"","","","","","","","","","","","","","","",null,""]
[null,null,null,null,null,null,null,null,null,"",null,null,null,"",null,null,null,"",null,null,null,"",null,null,null,"",null,null,null,"",null,null,null,"",null,null,null,"",null,null,null,"",null,null,null,"",null,null,null,"",null,null,null,null,null,null,"","","","",null,null,null,"",null,null,null,"","","","",null,null,null,null,"","","","","","","","","","","","","","","",null,""]
[null,null,null,null,null,null,null,null,null,"",null,null,null,"",null,null,null,"",null,null,null,"",null,null,null,"",null,null,null,"",null,null,null,"",null,null,null,"",null,null,null,"",null,null,null,"",null,null,null,"",null,null,null,null,null,null,"","","","",null,null,null,"",null,null,null,"","","","",null,null,null,null,"","","","","","","","","","","","","","","",null,""]
[null,null,null,null,null,null,null,null,null,"",null,null,null,"",null,null,null,"",null,null,null,"",null,null,null,"",null,null,null,"",null,null,null,"",null,null,null,"",null,null,null,"",null,null,null,"",null,null,null,"",null,null,null,null,null,null,"","","","",null,null,null,"",null,null,null,"","","","",null,null,null,null,"","","","","","","","","","","","","","","",null,""]
[null,null,null,null,null,null,null,null,null,"",null,null,null,"",null,null,null,"",null,null,null,"",null,null,null,"",null,null,null,"",null,null,null,"",null,null,null,"",null,null,null,"",null,null,null,"",null,null,null,"",null,null,null,null,null,null,"","","","",null,null,null,"",null,null,null,"","","","",null,null,null,null,"","","","","","","","","","","","","","","",null,""]
[null,null,null,null,null,null,null,null,null,"",null,null,null,"",null,null,null,"",null,null,null,"",null,null,null,"",null,null,null,"",null,null,null,"",null,null,null,"",null,null,null,"",null,null,null,"",null,null,null,"",null,null,null,null,null,null,"","","","",null,null,null,"",null,null,null,"","","","",null,null,null,null,"","","","","","","","","","","","","","","",null,""]
[null,null,null,null,null,null,null,null,null,"",null,null,null,"",null,null,null,"",null,null,null,"",null,null,null,"",null,null,null,"",null,null,null,"",null,null,null,"",null,null,null,"",null,null,null,"",null,null,null,"",null,null,null,null,null,null,"","","","",null,null,null,"",null,null,null,"","","","",null,null,null,null,"","","","","","","","","","","","","","","",null,""]
[null,null,null,null,null,null,null,null,null,"",null,null,null,"",null,null,null,"",null,null,null,"",null,null,null,"",null,null,null,"",null,null,null,"",null,null,null,"",null,null,null,"",null,null,null,"",null,null,null,"",null,null,null,null,null,null,"","","","",null,null,null,"",null,null,null,"","","","",null,null,null,null,"","","","","","","","","","","","","","","",null,""]
[null,null,null,null,null,null,null,null,null,"",null,null,null,"",null,null,null,"",null,null,null,"",null,null,null,"",null,null,null,"",null,null,null,"",null,null,null,"",null,null,null,"",null,null,null,"",null,null,null,"",null,null,null,null,null,null,"","","","",null,null,null,"",null,null,null,"","","","",null,null,null,null,"","","","","","","","","","","","","","","",null,""]
[null,null,null,null,null,null,null,null,null,"",null,null,null,"",null,null,null,"",null,null,null,"",null,null,null,"",null,null,null,"",null,null,null,"",null,null,null,"",null,null,null,"",null,null,null,"",null,null,null,"",null,null,null,null,null,null,"","","","",null,null,null,"",null,null,null,"","","","",null,null,null,null,"","","","","","","","","","","","","","","",null,""]
[null,null,null,null,null,null,null,null,null,"",null,null,null,"",null,null,null,"",null,null,null,"",null,null,null,"",null,null,null,"",null,null,null,"",null,null,null,"",null,null,null,"",null,null,null,"",null,null,null,"",null,null,null,null,null,null,"","","","",null,null,null,"",null,null,null,"","","","",null,null,null,null,"","","","","","","","","","","","","","","",null,""]
[null,null,null,null,null,null,null,null,null,"",null,null,null,"",null,null,null,"",null,null,null,"",null,null,null,"",null,null,null,"",null,null,null,"",null,null,null,"",null,null,null,"",null,null,null,"",null,null,null,"",null,null,null,null,null,null,"","","","",null,null,null,"",null,null,null,"","","","",null,null,null,null,"","","","","","","","","","","","","","","",null,""]
[null,null,null,null,null,null,null,null,null,"",null,null,null,"",null,null,null,"",null,null,null,"",null,null,null,"",null,null,null,"",null,null,null,"",null,null,null,"",null,null,null,"",null,null,null,"",null,null,null,"",null,null,null,null,null,null,"","","","",null,null,null,"",null,null,null,"","","","",null,null,null,null,"","","","","","","","","","","","","","","",null,""]
[null,null,null,null,null,null,null,null,null,"",null,null,null,"",null,null,null,"",null,null,null,"",null,null,null,"",null,null,null,"",null,null,null,"",null,null,null,"",null,null,null,"",null,null,null,"",null,null,null,"",null,null,null,null,null,null,{"$f":"IF($C578=\"\",\"\",SUM(AY578,BA578,BC578))","v":""},"","","",null,null,null,"",null,null,null,"","","","",null,null,null,null,"","","","","","","","","","","","","","","",null,""]
[null,null,null,null,null,null,null,null,null,"",null,null,null,"",null,null,null,"",null,null,null,"",null,null,null,"",null,null,null,"",null,null,null,"",null,null,null,"",null,null,null,"",null,null,null,"",null,null,null,"",null,null,null,null,null,null,"","","","",null,null,null,"",null,null,null,"","","","",null,null,null,null,"","","","","","","","","","","","","","","",null,""]
[null,null,null,null,null,null,null,null,null,"",null,null,null,"",null,null,null,"",null,null,null,"",null,null,null,"",null,null,null,"",null,null,null,"",null,null,null,"",null,null,null,"",null,null,null,"",null,null,null,"",null,null,null,null,null,null,"","","","",null,null,null,"",null,null,null,"","","","",null,null,null,null,"","","","","","","","","","","","","","","",null,""]
[null,null,null,null,null,null,null,null,null,"",null,null,null,"",null,null,null,"",null,null,null,"",null,null,null,"",null,null,null,"",null,null,null,"",null,null,null,"",null,null,null,"",null,null,null,"",null,null,null,"",null,null,null,null,null,null,"","","","",null,null,null,"",null,null,null,"","","","",null,null,null,null,"","","","","","","","","","","","","","","",null,""]
[null,null,null,null,null,null,null,null,null,"",null,null,null,"",null,null,null,"",null,null,null,"",null,null,null,"",null,null,null,"",null,null,null,"",null,null,null,"",null,null,null,"",null,null,null,"",null,null,null,"",null,null,null,null,null,null,"","","","",null,null,null,"",null,null,null,"","","","",null,null,null,null,"","","","","","","","","","","","","","","",null,""]
[null,null,null,null,null,null,null,null,null,"",null,null,null,"",null,null,null,"",null,null,null,"",null,null,null,"",null,null,null,"",null,null,null,"",null,null,null,"",null,null,null,"",null,null,null,"",null,null,null,"",null,null,null,null,null,null,"","","","",null,null,null,"",null,null,null,"","","","",null,null,null,null,"","","","","","","","","","","","","","","",null,""]
[null,null,null,null,null,null,null,null,null,"",null,null,null,"",null,null,null,"",null,null,null,"",null,null,null,"",null,null,null,"",null,null,null,"",null,null,null,"",null,null,null,"",null,null,null,"",null,null,null,"",null,null,null,null,null,null,"","","","",null,null,null,"",null,null,null,"","","","",null,null,null,null,"","","","","","","","","","","","","","","",null,""]
[null,null,null,null,null,null,null,null,null,"",null,null,null,"",null,null,null,"",null,null,null,"",null,null,null,"",null,null,null,"",null,null,null,"",null,null,null,"",null,null,null,"",null,null,null,"",null,null,null,"",null,null,null,null,null,null,"","","","",null,null,null,"",null,null,null,"","","","",null,null,null,null,"","","","","","","","","","","","","","","",null,""]
[null,null,null,null,null,null,null,null,null,"",null,null,null,"",null,null,null,"",null,null,null,"",null,null,null,"",null,null,null,"",null,null,null,"",null,null,null,"",null,null,null,"",null,null,null,"",null,null,null,"",null,null,null,null,null,null,"","",{"$f":"IF($C586=\"\",\"\",SUM(BE586,BF586))","v":""},{"$f":"IF($C586=\"\",\"\",SUM(J586,N586,R586,V586,Z586,AD586,AH586,AL586,AP586,AT586,AX586,BG586))","v":""},null,null,null,"",null,null,null,"",{"$f":"IF($C586=\"\",\"\",IF(BS586=0,\"ناجحة\",IF(BS586<=2,\"دورثان\",\"راسبة\")))","v":""},{"$f":"IF($C586=\"\",\"\",IF(BS586=0,\"ومنقولة للصف الثالث\",IF(BS586>0,\"فى  :  \"&CONCATENATE(BX586,BY586,BZ586,CA586,CB586,CC586,CD586,CE586,CF586,CG586,CH586,CI586,CJ586,CK586,CL586),CONCATENATE(BX586,BY586,BZ586,CA586,CB586,CC586,CD586,CE586,CF586,CG586,CH586,CI586,CJ586,CK586,CL586))))","v":""},{"$f":"IF($C586=\"\",\"\",COUNTA($BX586:$CL586)-COUNTBLANK($BX586:$CL586))","v":""},null,null,null,null,{"$f":"IF($C586=\"\",\"\",IF(OR(I586<$I$9,I586=\"غ\",J586<$J$9),$BX$5&\" - \",\"\"))","v":""},{"$f":"IF($C586=\"\",\"\",IF(OR(M586<$M$9,M586=\"غ\",N586<$N$9),$BY$5&\" - \",\"\"))","v":""},{"$f":"IF($C586=\"\",\"\",IF(OR(Q586<$Q$9,Q586=\"غ\",R586<$R$9),BZ$5&\" - \",\"\"))","v":""},{"$f":"IF($C586=\"\",\"\",IF(OR(U586<$U$9,U586=\"غ\",V586<$V$9),CA$5&\" - \",\"\"))","v":""},{"$f":"IF($C586=\"\",\"\",IF(OR(Y586<$Y$9,Y586=\"غ\",Z586<$Z$9),CB$5&\" - \",\"\"))","v":""},{"$f":"IF($C586=\"\",\"\",IF(OR(AC586<$AC$9,AC586=\"غ\",AD586<$AD$9),CC$5&\" - \",\"\"))","v":""},{"$f":"IF($C586=\"\",\"\",IF(OR(AG586<$AG$9,AG586=\"غ\",AH586<$AH$9),CD$5&\" - \",\"\"))","v":""},{"$f":"IF($C586=\"\",\"\",IF(OR(AK586<$AK$9,AK586=\"غ\",AL586<$AL$9),CE$5&\" - \",\"\"))","v":""},{"$f":"IF($C586=\"\",\"\",IF(OR(AO586<$AO$9,AO586=\"غ\",AP586<$AP$9),CF$5&\" - \",\"\"))","v":""},{"$f":"IF($C586=\"\",\"\",IF(OR(AS586<$AS$9,AS586=\"غ\",AT586<$AT$9),CG$5&\" - \",\"\"))","v":""},{"$f":"IF($C586=\"\",\"\",IF(OR(AW586<$AW$9,AW586=\"غ\",AX586<$AX$9),CH$5&\" - \",\"\"))","v":""},{"$f":"IF($C586=\"\",\"\",IF(OR(BE586<$BE$9,BE586=\"غ\",BF586<$BF$9,BF586=\"غ\",BG586<$BG$9),CI$5&\" - \",\"\"))","v":""},{"$f":"IF($C586=\"\",\"\",IF(OR(BK586<$BK$9,BK586=\"غ\",BL586<$BL$9),CJ$5&\" - \",\"\"))","v":""},{"$f":"IF($C586=\"\",\"\",IF(OR(BO586<$BO$9,BO586=\"غ\",BP586<$BP$9),CK$5&\" - \",\"\"))","v":""},{"$f":"IF($C586=\"\",\"\",IF(BH586<$BH$9,CL$5,\"\"))","v":""},null,""]
[null,null,null,null,null,null,null,null,null,"",null,null,null,"",null,null,null,"",null,null,null,"",null,null,null,"",null,null,null,"",null,null,null,"",null,null,null,"",null,null,null,"",null,null,null,"",null,null,null,"",null,null,null,null,null,null,"","","","",null,null,null,"",null,null,null,"","","","",null,null,null,null,"","","","","","","","","","","","","","","",null,""]
[null,null,null,null,null,null,null,null,null,"",null,null,null,"",null,null,null,"",null,null,null,"",null,null,null,"",null,null,null,"",null,null,null,"",null,null,null,"",null,null,null,"",null,null,null,"",null,null,null,"",null,null,null,null,null,null,"","","","",null,null,null,"",null,null,null,"","","","",null,null,null,null,"","","","","","","","","","","","","","","",null,""]
[null,null,null,null,null,null,null,null,null,"",null,null,null,"",null,null,null,"",null,null,null,"",null,null,null,"",null,null,null,"",null,null,null,"",null,null,null,"",null,null,null,"",null,null,null,"",null,null,null,"",null,null,null,null,null,null,"","","","",null,null,null,"",null,null,null,"","","","",null,null,null,null,"","","","","","","","","","","","","","","",null,""]
[null,null,null,null,null,null,null,null,null,"",null,null,null,"",null,null,null,"",null,null,null,"",null,null,null,"",null,null,null,"",null,null,null,"",null,null,null,"",null,null,null,"",null,null,null,"",null,null,null,"",null,null,null,null,null,null,"","","","",null,null,null,"",null,null,null,"","","","",null,null,null,null,"","","","","","","","","","","","","","","",null,""]
[null,null,null,null,null,null,null,null,null,"",null,null,null,"",null,null,null,"",null,null,null,"",null,null,null,"",null,null,null,"",null,null,null,"",null,null,null,"",null,null,null,"",null,null,null,"",null,null,null,"",null,null,null,null,null,null,"","","","",null,null,null,"",null,null,null,"","","","",null,null,null,null,"","","","","","","","","","","","","","","",null,""]
[null,null,null,null,null,null,null,null,null,"",null,null,null,"",null,null,null,"",null,null,null,"",null,null,null,"",null,null,null,"",null,null,null,"",null,null,null,"",null,null,null,"",null,null,null,"",null,null,null,"",null,null,null,null,null,null,"","","","",null,null,null,"",null,null,null,"","","","",null,null,null,null,"","","","","","","","","","","","","","","",null,""]
[null,null,null,null,null,null,null,null,null,"",null,null,null,"",null,null,null,"",null,null,null,"",null,null,null,"",null,null,null,"",null,null,null,"",null,null,null,"",null,null,null,"",null,null,null,"",null,null,null,"",null,null,null,null,null,null,"","","","",null,null,null,"",null,null,null,"","","","",null,null,null,null,"","","","","","","","","","","","","","","",null,""]
[null,null,null,null,null,null,null,null,null,"",null,null,null,"",null,null,null,"",null,null,null,"",null,null,null,"",null,null,null,"",null,null,null,"",null,null,null,"",null,null,null,"",null,null,null,"",null,null,null,"",null,null,null,null,null,null,"","","","",null,null,null,"",null,null,null,"","","","",null,null,null,null,"","","","","","","","","","","","","","","",null,""]
[null,null,null,null,null,null,null,null,null,"",null,null,null,"",null,null,null,"",null,null,null,"",null,null,null,"",null,null,null,"",null,null,null,"",null,null,null,"",null,null,null,"",null,null,null,"",null,null,null,"",null,null,null,null,null,null,"","","","",null,null,null,"",null,null,null,"","","","",null,null,null,null,"","","","","","","","","","","","","","","",null,""]
[null,null,null,null,null,null,null,null,null,"",null,null,null,"",null,null,null,"",null,null,null,"",null,null,null,"",null,null,null,"",null,null,null,"",null,null,null,"",null,null,null,"",null,null,null,"",null,null,null,"",null,null,null,null,null,null,"","","","",null,null,null,"",null,null,null,"","","","",null,null,null,null,"","","","","","","","","","","","","","","",null,""]
[null,null,null,null,null,null,null,null,null,"",null,null,null,"",null,null,null,"",null,null,null,"",null,null,null,"",null,null,null,"",null,null,null,"",null,null,null,"",null,null,null,"",null,null,null,"",null,null,null,"",null,null,null,null,null,null,"","","","",null,null,null,"",null,null,null,"","","","",null,null,null,null,"","","","","","","","","","","","","","","",null,""]
[null,null,null,null,null,null,null,null,null,"",null,null,null,"",null,null,null,"",null,null,null,"",null,null,null,"",null,null,null,"",null,null,null,"",null,null,null,"",null,null,null,"",null,null,null,"",null,null,null,"",null,null,null,null,null,null,"","","","",null,null,null,"",null,null,null,"","","","",null,null,null,null,"","","","","","","","","","","","","","","",null,""]
[null,null,null,null,null,null,null,null,null,"",null,null,null,"",null,null,null,"",null,null,null,"",null,null,null,"",null,null,null,"",null,null,null,"",null,null,null,"",null,null,null,"",null,null,null,"",null,null,null,"",null,null,null,null,null,null,"","","","",null,null,null,"",null,null,null,"","","","",null,null,null,null,"","","","","","","","","","","","","","","",null,""]
[null,null,null,null,null,null,null,null,null,"",null,null,null,"",null,null,null,"",null,null,null,"",null,null,null,"",null,null,null,"",null,null,null,"",null,null,null,"",null,null,null,"",null,null,null,"",null,null,null,"",null,null,null,null,null,null,"","","","",null,null,null,"",null,null,null,"","","","",null,null,null,null,"","","","","","","","","","","","","","","",null,""]
[null,null,null,null,null,null,null,null,null,"",null,null,null,"",null,null,null,"",null,null,null,"",null,null,null,"",null,null,null,"",null,null,null,"",null,null,null,"",null,null,null,"",null,null,null,"",null,null,null,"",null,null,null,null,null,null,"","","","",null,null,null,"",null,null,null,"","","","",null,null,null,null,"","","","","","","","","","","","","","","",null,""]
[null,null,null,null,null,null,null,null,null,{"$f":"IF($C602=\"\",\"\",SUM(G602,H602,I602))","v":""},null,null,null,{"$f":"IF($C602=\"\",\"\",SUM(K602,L602,M602))","v":""},null,null,null,{"$f":"IF($C602=\"\",\"\",SUM(O602,P602,Q602))","v":""},null,null,null,{"$f":"IF($C602=\"\",\"\",SUM(S602,T602,U602))","v":""},null,null,null,{"$f":"IF($C602=\"\",\"\",SUM(W602,X602,Y602))","v":""},null,null,null,{"$f":"IF($C602=\"\",\"\",SUM(AA602:AC602))","v":""},null,null,null,{"$f":"IF($C602=\"\",\"\",SUM(AE602,AF602,AG602))","v":""},null,null,null,{"$f":"IF($C602=\"\",\"\",SUM(AI602,AJ602,AK602))","v":""},null,null,null,{"$f":"IF($C602=\"\",\"\",SUM(AM602,AN602,AO602))","v":""},null,null,null,{"$f":"IF($C602=\"\",\"\",SUM(AQ602,AR602,AS602))","v":""},null,null,null,{"$f":"IF($C602=\"\",\"\",SUM(AU602,AV602,AW602))","v":""},null,null,null,null,null,null,"","","","",null,null,null,{"$f":"IF($C602=\"\",\"\",SUM(BI602,BJ602,BK602))","v":""},null,null,null,{"$f":"IF($C602=\"\",\"\",SUM(BM602,BN602,BO602))","v":""},"","","",null,null,null,null,"","","","","","","","","","","","","","","",null,""]
[null,null,null,null,null,null,null,null,null,"",null,null,null,"",null,null,null,"",null,null,null,"",null,null,null,"",null,null,null,"",null,null,null,"",null,null,null,"",null,null,null,"",null,null,null,"",null,null,null,"",null,null,null,null,null,null,"","","","",null,null,null,"",null,null,null,"","","","",null,null,null,null,"","","","","","","","","","","","","","","",null,""]
[null,null,null,null,null,null,null,null,null,"",null,null,null,"",null,null,null,"",null,null,null,"",null,null,null,"",null,null,null,"",null,null,null,"",null,null,null,"",null,null,null,"",null,null,null,"",null,null,null,"",null,null,null,null,null,null,"","","","",null,null,null,"",null,null,null,"","","","",null,null,null,null,"","","","","","","","","","","","","","","",null,""]
[null,null,null,null,null,null,null,null,null,"",null,null,null,"",null,null,null,"",null,null,null,"",null,null,null,"",null,null,null,"",null,null,null,"",null,null,null,"",null,null,null,"",null,null,null,"",null,null,null,"",null,null,null,null,null,null,"","","","",null,null,null,"",null,null,null,"","","","",null,null,null,null,"","","","","","","","","","","","","","","",null,""]
[null,null,null,null,null,null,null,null,null,"",null,null,null,"",null,null,null,"",null,null,null,"",null,null,null,"",null,null,null,"",null,null,null,"",null,null,null,"",null,null,null,"",null,null,null,"",null,null,null,"",null,null,null,null,null,null,"","","","",null,null,null,"",null,null,null,"","","","",null,null,null,null,"","","","","","","","","","","","","","","",null,{"$f":"IF($C606=\"\",\"\",SUM(H606,L606,P606,T606,X606,AB606,AF606,AJ606,AN606,AR606,AV606,BA606,BB606))","v":""}]
[null,null,null,null,null,null,null,null,null,"",null,null,null,"",null,null,null,"",null,null,null,"",null,null,null,"",null,null,null,"",null,null,null,"",null,null,null,"",null,null,null,"",null,null,null,"",null,null,null,"",null,null,null,null,null,null,"","","","",null,null,null,"",null,null,null,"","","","",null,null,null,null,"","","","","","","","","","","","","","","",null,{"$f":"IF($C607=\"\",\"\",SUM(H607,L607,P607,T607,X607,AB607,AF607,AJ607,AN607,AR607,AV607,BA607,BB607))","v":""}]
[null,null,null,null,null,null,null,null,null,"",null,null,null,"",null,null,null,"",null,null,null,"",null,null,null,"",null,null,null,"",null,null,null,"",null,null,null,"",null,null,null,"",null,null,null,"",null,null,null,"",null,null,null,null,null,null,"","","","",null,null,null,"",null,null,null,"","","","",null,null,null,null,"","","","","","","","","","","","","","","",null,""]
[null,null,null,null,null,null,null,null,null,"",null,null,null,"",null,null,null,"",null,null,null,"",null,null,null,"",null,null,null,"",null,null,null,"",null,null,null,"",null,null,null,"",null,null,null,"",null,null,null,"",null,null,null,null,null,null,"","","","",null,null,null,"",null,null,null,"","","","",null,null,null,null,"","","","","","","","","","","","","","","",null,""]
[null,null,null,null,null,null,null,null,null,"",null,null,null,"",null,null,null,"",null,null,null,"",null,null,null,"",null,null,null,"",null,null,null,"",null,null,null,"",null,null,null,"",null,null,null,"",null,null,null,"",null,null,null,null,null,null,"","","","",null,null,null,"",null,null,null,"","","","",null,null,null,null,"","","","","","","","","","","","","","","",null,""]
[null,null,null,null,null,null,null,null,null,"",null,null,null,"",null,null,null,"",null,null,null,"",null,null,null,"",null,null,null,"",null,null,null,"",null,null,null,"",null,null,null,"",null,null,null,"",null,null,null,"",null,null,null,null,null,null,"","","","",null,null,null,"",null,null,null,"","","","",null,null,null,null,"","","","","","","","","","","","","","","",null,""]
[null,null,null,null,null,null,null,null,null,"",null,null,null,"",null,null,null,"",null,null,null,"",null,null,null,"",null,null,null,"",null,null,null,"",null,null,null,"",null,null,null,"",null,null,null,"",null,null,null,"",null,null,null,null,null,null,"","","","",null,null,null,"",null,null,null,"","","","",null,null,null,null,"","","","","","","","","","","","","","","",null,""]
[null,null,null,null,null,null,null,null,null,"",null,null,null,"",null,null,null,"",null,null,null,"",null,null,null,"",null,null,null,"",null,null,null,"",null,null,null,"",null,null,null,"",null,null,null,"",null,null,null,"",null,null,null,null,null,null,"","","","",null,null,null,"",null,null,null,"","","","",null,null,null,null,"","","","","","","","","","","","","","","",null,""]
[null,null,null,null,null,null,null,null,null,"",null,null,null,"",null,null,null,"",null,null,null,"",null,null,null,"",null,null,null,"",null,null,null,"",null,null,null,"",null,null,null,"",null,null,null,"",null,null,null,"",null,null,null,null,null,null,"","","","",null,null,null,"",null,null,null,"","","","",null,null,null,null,"","","","","","","","","","","","","","","",null,""]
[null,null,null,null,null,null,null,null,null,"",null,null,null,"",null,null,null,"",null,null,null,"",null,null,null,"",null,null,null,"",null,null,null,"",null,null,null,"",null,null,null,"",null,null,null,"",null,null,null,"",null,null,null,null,null,null,"","","","",null,null,null,"",null,null,null,"","","","",null,null,null,null,"","","","","","","","","","","","","","","",null,""]
[null,null,null,null,null,null,null,null,null,"",null,null,null,"",null,null,null,"",null,null,null,"",null,null,null,"",null,null,null,"",null,null,null,"",null,null,null,"",null,null,null,"",null,null,null,"",null,null,null,"",null,null,null,null,null,null,"","","","",null,null,null,"",null,null,null,"","","","",null,null,null,null,"","","","","","","","","","","","","","","",null,""]
[null,null,null,null,null,null,null,null,null,"",null,null,null,"",null,null,null,"",null,null,null,"",null,null,null,"",null,null,null,"",null,null,null,"",null,null,null,"",null,null,null,"",null,null,null,"",null,null,null,"",null,null,null,null,null,null,"","","","",null,null,null,"",null,null,null,"","","","",null,null,null,null,"","","","","","","","","","","","","","","",null,""]
[null,null,null,null,null,null,null,null,null,"",null,null,null,"",null,null,null,"",null,null,null,"",null,null,null,"",null,null,null,"",null,null,null,"",null,null,null,"",null,null,null,"",null,null,null,"",null,null,null,"",null,null,null,null,null,null,"","","","",null,null,null,"",null,null,null,"","","","",null,null,null,null,"","","","","","","","","","","","","","","",null,{"$f":"IF($C618=\"\",\"\",SUM(H618,L618,P618,T618,X618,AB618,AF618,AJ618,AN618,AR618,AV618,BA618,BB618))","v":""}]
[null,null,null,null,null,null,null,null,null,"",null,null,null,"",null,null,null,"",null,null,null,"",null,null,null,"",null,null,null,"",null,null,null,"",null,null,null,"",null,null,null,"",null,null,null,"",null,null,null,"",null,null,null,null,null,null,"","","","",null,null,null,"",null,null,null,"","","","",null,null,null,null,"","","","","","","","","","","","","","","",null,{"$f":"IF($C619=\"\",\"\",SUM(H619,L619,P619,T619,X619,AB619,AF619,AJ619,AN619,AR619,AV619,BA619,BB619))","v":""}]
[null,null,null,null,null,null,null,null,null,"",null,null,null,"",null,null,null,"",null,null,null,"",null,null,null,"",null,null,null,"",null,null,null,"",null,null,null,"",null,null,null,"",null,null,null,"",null,null,null,"",null,null,null,null,null,null,"","","","",null,null,null,"",null,null,null,"","","","",null,null,null,null,"","","","","","","","","","","","","","","",null,""]
[null,null,null,null,null,null,null,null,null,"",null,null,null,"",null,null,null,"",null,null,null,"",null,null,null,"",null,null,null,"",null,null,null,"",null,null,null,"",null,null,null,"",null,null,null,"",null,null,null,"",null,null,null,null,null,null,"","","","",null,null,null,"",null,null,null,"","","","",null,null,null,null,"","","","","","","","","","","","","","","",null,""]
[null,null,null,null,null,null,null,null,null,"",null,null,null,"",null,null,null,"",null,null,null,"",null,null,null,"",null,null,null,"",null,null,null,"",null,null,null,"",null,null,null,"",null,null,null,"",null,null,null,"",null,null,null,null,null,null,"","","","",null,null,null,"",null,null,null,"","","","",null,null,null,null,"","","","","","","","","","","","","","","",null,""]
[null,null,null,null,null,null,null,null,null,"",null,null,null,"",null,null,null,"",null,null,null,"",null,null,null,"",null,null,null,"",null,null,null,"",null,null,null,"",null,null,null,"",null,null,null,"",null,null,null,"",null,null,null,null,null,null,"","","","",null,null,null,"",null,null,null,"","","","",null,null,null,null,"","","","","","","","","","","","","","","",null,""]
[null,null,null,null,null,null,null,null,null,"",null,null,null,"",null,null,null,"",null,null,null,"",null,null,null,"",null,null,null,"",null,null,null,"",null,null,null,"",null,null,null,"",null,null,null,"",null,null,null,"",null,null,null,null,null,null,"","","","",null,null,null,"",null,null,null,"","","","",null,null,null,null,"","","","","","","","","","","","","","","",null,""]
[null,null,null,null,null,null,null,null,null,"",null,null,null,"",null,null,null,"",null,null,null,"",null,null,null,"",null,null,null,"",null,null,null,"",null,null,null,"",null,null,null,"",null,null,null,"",null,null,null,"",null,null,null,null,null,null,"","","","",null,null,null,"",null,null,null,"","","","",null,null,null,null,"","","","","","","","","","","","","","","",null,""]
[null,null,null,null,null,null,null,null,null,"",null,null,null,"",null,null,null,"",null,null,null,"",null,null,null,"",null,null,null,"",null,null,null,"",null,null,null,"",null,null,null,"",null,null,null,"",null,null,null,"",null,null,null,null,null,null,"","","","",null,null,null,"",null,null,null,"","","","",null,null,null,null,"","","","","","","","","","","","","","","",null,""]
[null,null,null,null,null,null,null,null,null,"",null,null,null,"",null,null,null,"",null,null,null,"",null,null,null,"",null,null,null,"",null,null,null,"",null,null,null,"",null,null,null,"",null,null,null,"",null,null,null,"",null,null,null,null,null,null,"","","","",null,null,null,"",null,null,null,"","","","",null,null,null,null,"","","","","","","","","","","","","","","",null,""]

{"sheet":"ورقة3","index":2,"n_rows":0,"n_cols":0,"rows_kept":0,"cut":false,"hidden":false,"merged":[]}