{"text_format":"1","workbook":"xlsx","n_sheets":2,"sheets":["الإدخالات","النتيجة"],"not_rendered":{"charts":0,"images":0,"macros":1,"external_links":0,"defined_names":0,"comments":0,"pivot_tables":0},"unopened":[],"bounds":{"document_bytes":16777216,"sheet_cells":100000,"rows_first":2000,"rows_last":500,"rows_between":2000,"halvings":0,"cell_chars":16384,"cell_head_chars":4096},"cells_cut":0,"cells_raw":0,"read":"whole","date_system":"1900"}

{"sheet":"الإدخالات","index":0,"n_rows":13,"n_cols":20,"rows_kept":13,"cut":false,"hidden":false,"merged":[[2,19,2,20],[3,17,4,19]]}
["الاسم","الحضور","عدد الأوجه","عدد الأجزاء","آخر تسميع","الملاحظات","الانجاز","التأخر","اللبس","الإلتزام بمظهر الحلقة","التعاون مع المعلم والادارة","الانضباط بين الاذان والاقامة","الصلاة في المسجد","نقاطي","مجموع النقاط","Image"]
["مروان ياسر محمد",true,6,null,null,null,1,2,2,4,2,3,5,153,19]
["عبدالله حمدي أبوكرش",true,60,null,null,null,2,2,2,4,2,3,5,159,20,null,null,null,null,"2019-07-12T02:13:12"]
["مصطفى إبراهيم مصطفى",false,null,null,null,null,2,2,2,4,2,3,5,113,20,null,null,"حلقة الفرقان (محمد عالي)"]
["أحمد صبري شعبان",true,40,null,null,null,2,2,2,4,2,3,5,143,20]
["عبدالله عبدالحميد شتلة",true,20,null,null,null,2,2,2,4,2,3,5,157,20]
["محمد السيد سرور",true,20,null,null,null,2,2,2,4,2,3,5,160,20]
["صهيب عبدالله عبدالواحد",true,20,null,null,null,2,2,2,4,2,3,5,133,20]
["حازم محمد الديب",true,20,null,null,null,2,0,2,4,2,3,5,136,18]
["عمرو شريف عبدالسلام",true,20,null,null,null,2,2,2,3,2,3,5,160,19]
["مهند هشام أدهم",true,20,null,null,null,2,2,2,4,2,3,5,160,20]
["محمد علاء الدين علي",true,6,null,null,null,1,2,2,4,2,3,5,157,19]
["مهدي عبدالاله مهدي",true,20,null,null,null,2,2,2,3,2,3,5,158,19]

{"sheet":"النتيجة","index":1,"n_rows":38,"n_cols":21,"rows_kept":38,"cut":false,"hidden":false,"merged":[[2,19,2,20],[3,17,4,19]]}
["الاسم","الحضور","عدد الأوجه","عدد الأجزاء","آخر تسميع","الملاحظات","الانجاز","التأخر","اللبس","الإلتزام بمظهر الحلقة","التعاون مع المعلم والادارة","الانضباط بين الاذان والاقامة","الصلاة في المسجد","نقاطي","مجموع النقاط","Image",null,null,null,null,"اضغط هنا"]
[{"$f":"الإدخالات!A2","v":"مروان ياسر محمد"},{"$f":"الإدخالات!B2","v":true},{"$f":"الإدخالات!C2","v":6},{"$f":"الإدخالات!D2","v":0},{"$f":"الإدخالات!E2","v":0},{"$f":"الإدخالات!F2","v":0},{"$f":"IF($B2=FALSE,0,الإدخالات!G2)","v":1},{"$f":"IF($B2=FALSE,0,الإدخالات!H2)","v":2},{"$f":"IF($B2=FALSE,0,الإدخالات!I2)","v":2},{"$f":"IF($B2=FALSE,0,الإدخالات!J2)","v":4},{"$f":"IF($B2=FALSE,0,الإدخالات!K2)","v":2},{"$f":"IF($B2=FALSE,0,الإدخالات!L2)","v":3},{"$f":"IF($B2=FALSE,0,الإدخالات!M2)","v":5},{"$f":"الإدخالات!N2","v":153},{"$f":"الإدخالات!O2","v":19}]
[{"$f":"الإدخالات!A3","v":"عبدالله حمدي أبوكرش"},{"$f":"الإدخالات!B3","v":true},{"$f":"الإدخالات!C3","v":60},{"$f":"الإدخالات!D3","v":0},{"$f":"الإدخالات!E3","v":0},{"$f":"الإدخالات!F3","v":0},{"$f":"IF($B3=FALSE,0,الإدخالات!G3)","v":2},{"$f":"IF($B3=FALSE,0,الإدخالات!H3)","v":2},{"$f":"IF($B3=FALSE,0,الإدخالات!I3)","v":2},{"$f":"IF($B3=FALSE,0,الإدخالات!J3)","v":4},{"$f":"IF($B3=FALSE,0,الإدخالات!K3)","v":2},{"$f":"IF($B3=FALSE,0,الإدخالات!L3)","v":3},{"$f":"IF($B3=FALSE,0,الإدخالات!M3)","v":5},{"$f":"الإدخالات!N3","v":159},{"$f":"الإدخالات!O3","v":20},null,null,null,null,"2019-07-12T02:13:12"]
[{"$f":"الإدخالات!A4","v":"مصطفى إبراهيم مصطفى"},{"$f":"الإدخالات!B4","v":false},{"$f":"الإدخالات!C4","v":0},{"$f":"الإدخالات!D4","v":0},{"$f":"الإدخالات!E4","v":0},{"$f":"الإدخالات!F4","v":0},{"$f":"IF($B4=FALSE,0,الإدخالات!G4)","v":0},{"$f":"IF($B4=FALSE,0,الإدخالات!H4)","v":0},{"$f":"IF($B4=FALSE,0,الإدخالات!I4)","v":0},{"$f":"IF($B4=FALSE,0,الإدخالات!J4)","v":0},{"$f":"IF($B4=FALSE,0,الإدخالات!K4)","v":0},{"$f":"IF($B4=FALSE,0,الإدخالات!L4)","v":0},{"$f":"IF($B4=FALSE,0,الإدخالات!M4)","v":0},{"$f":"الإدخالات!N4","v":113},{"$f":"الإدخالات!O4","v":20},null,null,"حلقة الفرقان (محمد عالي)"]
[{"$f":"الإدخالات!A5","v":"أحمد صبري شعبان"},{"$f":"الإدخالات!B5","v":true},{"$f":"الإدخالات!C5","v":40},{"$f":"الإدخالات!D5","v":0},{"$f":"الإدخالات!E5","v":0},{"$f":"الإدخالات!F5","v":0},{"$f":"IF($B5=FALSE,0,الإدخالات!G5)","v":2},{"$f":"IF($B5=FALSE,0,الإدخالات!H5)","v":2},{"$f":"IF($B5=FALSE,0,الإدخالات!I5)","v":2},{"$f":"IF($B5=FALSE,0,الإدخالات!J5)","v":4},{"$f":"IF($B5=FALSE,0,الإدخالات!K5)","v":2},{"$f":"IF($B5=FALSE,0,الإدخالات!L5)","v":3},{"$f":"IF($B5=FALSE,0,الإدخالات!M5)","v":5},{"$f":"الإدخالات!N5","v":143},{"$f":"الإدخالات!O5","v":20}]
[{"$f":"الإدخالات!A6","v":"عبدالله عبدالحميد شتلة"},{"$f":"الإدخالات!B6","v":true},{"$f":"الإدخالات!C6","v":20},{"$f":"الإدخالات!D6","v":0},{"$f":"الإدخالات!E6","v":0},{"$f":"الإدخالات!F6","v":0},{"$f":"IF($B6=FALSE,0,الإدخالات!G6)","v":2},{"$f":"IF($B6=FALSE,0,الإدخالات!H6)","v":2},{"$f":"IF($B6=FALSE,0,الإدخالات!I6)","v":2},{"$f":"IF($B6=FALSE,0,الإدخالات!J6)","v":4},{"$f":"IF($B6=FALSE,0,الإدخالات!K6)","v":2},{"$f":"IF($B6=FALSE,0,الإدخالات!L6)","v":3},{"$f":"IF($B6=FALSE,0,الإدخالات!M6)","v":5},{"$f":"الإدخالات!N6","v":157},{"$f":"الإدخالات!O6","v":20}]
[{"$f":"الإدخالات!A7","v":"محمد السيد سرور"},{"$f":"الإدخالات!B7","v":true},{"$f":"الإدخالات!C7","v":20},{"$f":"الإدخالات!D7","v":0},{"$f":"الإدخالات!E7","v":0},{"$f":"الإدخالات!F7","v":0},{"$f":"IF($B7=FALSE,0,الإدخالات!G7)","v":2},{"$f":"IF($B7=FALSE,0,الإدخالات!H7)","v":2},{"$f":"IF($B7=FALSE,0,الإدخالات!I7)","v":2},{"$f":"IF($B7=FALSE,0,الإدخالات!J7)","v":4},{"$f":"IF($B7=FALSE,0,الإدخالات!K7)","v":2},{"$f":"IF($B7=FALSE,0,الإدخالات!L7)","v":3},{"$f":"IF($B7=FALSE,0,الإدخالات!M7)","v":5},{"$f":"الإدخالات!N7","v":160},{"$f":"الإدخالات!O7","v":20}]
[{"$f":"الإدخالات!A8","v":"صهيب عبدالله عبدالواحد"},{"$f":"الإدخالات!B8","v":true},{"$f":"الإدخالات!C8","v":20},{"$f":"الإدخالات!D8","v":0},{"$f":"الإدخالات!E8","v":0},{"$f":"الإدخالات!F8","v":0},{"$f":"IF($B8=FALSE,0,الإدخالات!G8)","v":2},{"$f":"IF($B8=FALSE,0,الإدخالات!H8)","v":2},{"$f":"IF($B8=FALSE,0,الإدخالات!I8)","v":2},{"$f":"IF($B8=FALSE,0,الإدخالات!J8)","v":4},{"$f":"IF($B8=FALSE,0,الإدخالات!K8)","v":2},{"$f":"IF($B8=FALSE,0,الإدخالات!L8)","v":3},{"$f":"IF($B8=FALSE,0,الإدخالات!M8)","v":5},{"$f":"الإدخالات!N8","v":133},{"$f":"الإدخالات!O8","v":20}]
[{"$f":"الإدخالات!A9","v":"حازم محمد الديب"},{"$f":"الإدخالات!B9","v":true},{"$f":"الإدخالات!C9","v":20},{"$f":"الإدخالات!D9","v":0},{"$f":"الإدخالات!E9","v":0},{"$f":"الإدخالات!F9","v":0},{"$f":"IF($B9=FALSE,0,الإدخالات!G9)","v":2},{"$f":"IF($B9=FALSE,0,الإدخالات!H9)","v":0},{"$f":"IF($B9=FALSE,0,الإدخالات!I9)","v":2},{"$f":"IF($B9=FALSE,0,الإدخالات!J9)","v":4},{"$f":"IF($B9=FALSE,0,الإدخالات!K9)","v":2},{"$f":"IF($B9=FALSE,0,الإدخالات!L9)","v":3},{"$f":"IF($B9=FALSE,0,الإدخالات!M9)","v":5},{"$f":"الإدخالات!N9","v":136},{"$f":"الإدخالات!O9","v":18}]
[{"$f":"الإدخالات!A10","v":"عمرو شريف عبدالسلام"},{"$f":"الإدخالات!B10","v":true},{"$f":"الإدخالات!C10","v":20},{"$f":"الإدخالات!D10","v":0},{"$f":"الإدخالات!E10","v":0},{"$f":"الإدخالات!F10","v":0},{"$f":"IF($B10=FALSE,0,الإدخالات!G10)","v":2},{"$f":"IF($B10=FALSE,0,الإدخالات!H10)","v":2},{"$f":"IF($B10=FALSE,0,الإدخالات!I10)","v":2},{"$f":"IF($B10=FALSE,0,الإدخالات!J10)","v":3},{"$f":"IF($B10=FALSE,0,الإدخالات!K10)","v":2},{"$f":"IF($B10=FALSE,0,الإدخالات!L10)","v":3},{"$f":"IF($B10=FALSE,0,الإدخالات!M10)","v":5},{"$f":"الإدخالات!N10","v":160},{"$f":"الإدخالات!O10","v":19}]
[{"$f":"الإدخالات!A11","v":"مهند هشام أدهم"},{"$f":"الإدخالات!B11","v":true},{"$f":"الإدخالات!C11","v":20},{"$f":"الإدخالات!D11","v":0},{"$f":"الإدخالات!E11","v":0},{"$f":"الإدخالات!F11","v":0},{"$f":"IF($B11=FALSE,0,الإدخالات!G11)","v":2},{"$f":"IF($B11=FALSE,0,الإدخالات!H11)","v":2},{"$f":"IF($B11=FALSE,0,الإدخالات!I11)","v":2},{"$f":"IF($B11=FALSE,0,الإدخالات!J11)","v":4},{"$f":"IF($B11=FALSE,0,الإدخالات!K11)","v":2},{"$f":"IF($B11=FALSE,0,الإدخالات!L11)","v":3},{"$f":"IF($B11=FALSE,0,الإدخالات!M11)","v":5},{"$f":"الإدخالات!N11","v":160},{"$f":"الإدخالات!O11","v":20}]
[{"$f":"الإدخالات!A12","v":"محمد علاء الدين علي"},{"$f":"الإدخالات!B12","v":true},{"$f":"الإدخالات!C12","v":6},{"$f":"الإدخالات!D12","v":0},{"$f":"الإدخالات!E12","v":0},{"$f":"الإدخالات!F12","v":0},{"$f":"IF($B12=FALSE,0,الإدخالات!G12)","v":1},{"$f":"IF($B12=FALSE,0,الإدخالات!H12)","v":2},{"$f":"IF($B12=FALSE,0,الإدخالات!I12)","v":2},{"$f":"IF($B12=FALSE,0,الإدخالات!J12)","v":4},{"$f":"IF($B12=FALSE,0,الإدخالات!K12)","v":2},{"$f":"IF($B12=FALSE,0,الإدخالات!L12)","v":3},{"$f":"IF($B12=FALSE,0,الإدخالات!M12)","v":5},{"$f":"الإدخالات!N12","v":157},{"$f":"الإدخالات!O12","v":19}]
[{"$f":"الإدخالات!A13","v":"مهدي عبدالاله مهدي"},{"$f":"الإدخالات!B13","v":true},{"$f":"الإدخالات!C13","v":20},{"$f":"الإدخالات!D13","v":0},{"$f":"الإدخالات!E13","v":0},{"$f":"الإدخالات!F13","v":0},{"$f":"IF($B13=FALSE,0,الإدخالات!G13)","v":2},{"$f":"IF($B13=FALSE,0,الإدخالات!H13)","v":2},{"$f":"IF($B13=FALSE,0,الإدخالات!I13)","v":2},{"$f":"IF($B13=FALSE,0,الإدخالات!J13)","v":3},{"$f":"IF($B13=FALSE,0,الإدخالات!K13)","v":2},{"$f":"IF($B13=FALSE,0,الإدخالات!L13)","v":3},{"$f":"IF($B13=FALSE,0,الإدخالات!M13)","v":5},{"$f":"الإدخالات!N13","v":158},{"$f":"الإدخالات!O13","v":19}]
[{"$f":"الإدخالات!A14","v":0},{"$f":"الإدخالات!B14","v":0},{"$f":"الإدخالات!C14","v":0},{"$f":"الإدخالات!D14","v":0},{"$f":"الإدخالات!E14","v":0},{"$f":"الإدخالات!F14","v":0},{"$f":"IF($B14=FALSE,0,الإدخالات!G14)","v":0},{"$f":"IF($B14=FALSE,0,الإدخالات!H14)","v":0},{"$f":"IF($B14=FALSE,0,الإدخالات!I14)","v":0},{"$f":"IF($B14=FALSE,0,الإدخالات!J14)","v":0},{"$f":"IF($B14=FALSE,0,الإدخالات!K14)","v":0},{"$f":"IF($B14=FALSE,0,الإدخالات!L14)","v":0},{"$f":"IF($B14=FALSE,0,الإدخالات!M14)","v":0},{"$f":"الإدخالات!N14","v":0},{"$f":"الإدخالات!O14","v":0}]
[{"$f":"الإدخالات!A15","v":0},{"$f":"الإدخالات!B15","v":0},{"$f":"الإدخالات!C15","v":0},{"$f":"الإدخالات!D15","v":0},{"$f":"الإدخالات!E15","v":0},{"$f":"الإدخالات!F15","v":0},{"$f":"IF($B15=FALSE,0,الإدخالات!G15)","v":0},{"$f":"IF($B15=FALSE,0,الإدخالات!H15)","v":0},{"$f":"IF($B15=FALSE,0,الإدخالات!I15)","v":0},{"$f":"IF($B15=FALSE,0,الإدخالات!J15)","v":0},{"$f":"IF($B15=FALSE,0,الإدخالات!K15)","v":0},{"$f":"IF($B15=FALSE,0,الإدخالات!L15)","v":0},{"$f":"IF($B15=FALSE,0,الإدخالات!M15)","v":0},{"$f":"الإدخالات!N15","v":0},{"$f":"الإدخالات!O15","v":0}]
[{"$f":"الإدخالات!A16","v":0},{"$f":"الإدخالات!B16","v":0},{"$f":"الإدخالات!C16","v":0},{"$f":"الإدخالات!D16","v":0},{"$f":"الإدخالات!E16","v":0},{"$f":"الإدخالات!F16","v":0},{"$f":"IF($B16=FALSE,0,الإدخالات!G16)","v":0},{"$f":"IF($B16=FALSE,0,الإدخالات!H16)","v":0},{"$f":"IF($B16=FALSE,0,الإدخالات!I16)","v":0},{"$f":"IF($B16=FALSE,0,الإدخالات!J16)","v":0},{"$f":"IF($B16=FALSE,0,الإدخالات!K16)","v":0},{"$f":"IF($B16=FALSE,0,الإدخالات!L16)","v":0},{"$f":"IF($B16=FALSE,0,الإدخالات!M16)","v":0},{"$f":"الإدخالات!N16","v":0},{"$f":"الإدخالات!O16","v":0}]
[{"$f":"الإدخالات!A17","v":0},{"$f":"الإدخالات!B17","v":0},{"$f":"الإدخالات!C17","v":0},{"$f":"الإدخالات!D17","v":0},{"$f":"الإدخالات!E17","v":0},{"$f":"الإدخالات!F17","v":0},{"$f":"IF($B17=FALSE,0,الإدخالات!G17)","v":0},{"$f":"IF($B17=FALSE,0,الإدخالات!H17)","v":0},{"$f":"IF($B17=FALSE,0,الإدخالات!I17)","v":0},{"$f":"IF($B17=FALSE,0,الإدخالات!J17)","v":0},{"$f":"IF($B17=FALSE,0,الإدخالات!K17)","v":0},{"$f":"IF($B17=FALSE,0,الإدخالات!L17)","v":0},{"$f":"IF($B17=FALSE,0,الإدخالات!M17)","v":0},{"$f":"الإدخالات!N17","v":0},{"$f":"الإدخالات!O17","v":0}]
[{"$f":"الإدخالات!A18","v":0},{"$f":"الإدخالات!B18","v":0},{"$f":"الإدخالات!C18","v":0},{"$f":"الإدخالات!D18","v":0},{"$f":"الإدخالات!E18","v":0},{"$f":"الإدخالات!F18","v":0},{"$f":"IF($B18=FALSE,0,الإدخالات!G18)","v":0},{"$f":"IF($B18=FALSE,0,الإدخالات!H18)","v":0},{"$f":"IF($B18=FALSE,0,الإدخالات!I18)","v":0},{"$f":"IF($B18=FALSE,0,الإدخالات!J18)","v":0},{"$f":"IF($B18=FALSE,0,الإدخالات!K18)","v":0},{"$f":"IF($B18=FALSE,0,الإدخالات!L18)","v":0},{"$f":"IF($B18=FALSE,0,الإدخالات!M18)","v":0},{"$f":"الإدخالات!N18","v":0},{"$f":"الإدخالات!O18","v":0}]
[{"$f":"الإدخالات!A19","v":0},{"$f":"الإدخالات!B19","v":0},{"$f":"الإدخالات!C19","v":0},{"$f":"الإدخالات!D19","v":0},{"$f":"الإدخالات!E19","v":0},{"$f":"الإدخالات!F19","v":0},{"$f":"IF($B19=FALSE,0,الإدخالات!G19)","v":0},{"$f":"IF($B19=FALSE,0,الإدخالات!H19)","v":0},{"$f":"IF($B19=FALSE,0,الإدخالات!I19)","v":0},{"$f":"IF($B19=FALSE,0,الإدخالات!J19)","v":0},{"$f":"IF($B19=FALSE,0,الإدخالات!K19)","v":0},{"$f":"IF($B19=FALSE,0,الإدخالات!L19)","v":0},{"$f":"IF($B19=FALSE,0,الإدخالات!M19)","v":0},{"$f":"الإدخالات!N19","v":0},{"$f":"الإدخالات!O19","v":0}]
[{"$f":"الإدخالات!A20","v":0},{"$f":"الإدخالات!B20","v":0},{"$f":"الإدخالات!C20","v":0},{"$f":"الإدخالات!D20","v":0},{"$f":"الإدخالات!E20","v":0},{"$f":"الإدخالات!F20","v":0},{"$f":"IF($B20=FALSE,0,الإدخالات!G20)","v":0},{"$f":"IF($B20=FALSE,0,الإدخالات!H20)","v":0},{"$f":"IF($B20=FALSE,0,الإدخالات!I20)","v":0},{"$f":"IF($B20=FALSE,0,الإدخالات!J20)","v":0},{"$f":"IF($B20=FALSE,0,الإدخالات!K20)","v":0},{"$f":"IF($B20=FALSE,0,الإدخالات!L20)","v":0},{"$f":"IF($B20=FALSE,0,الإدخالات!M20)","v":0},{"$f":"الإدخالات!N20","v":0},{"$f":"الإدخالات!O20","v":0}]
[{"$f":"الإدخالات!A21","v":0},{"$f":"الإدخالات!B21","v":0},{"$f":"الإدخالات!C21","v":0},{"$f":"الإدخالات!D21","v":0},{"$f":"الإدخالات!E21","v":0},{"$f":"الإدخالات!F21","v":0},{"$f":"IF($B21=FALSE,0,الإدخالات!G21)","v":0},{"$f":"IF($B21=FALSE,0,الإدخالات!H21)","v":0},{"$f":"IF($B21=FALSE,0,الإدخالات!I21)","v":0},{"$f":"IF($B21=FALSE,0,الإدخالات!J21)","v":0},{"$f":"IF($B21=FALSE,0,الإدخالات!K21)","v":0},{"$f":"IF($B21=FALSE,0,الإدخالات!L21)","v":0},{"$f":"IF($B21=FALSE,0,الإدخالات!M21)","v":0},{"$f":"الإدخالات!N21","v":0},{"$f":"الإدخالات!O21","v":0}]
[{"$f":"الإدخالات!A22","v":0},{"$f":"الإدخالات!B22","v":0},{"$f":"الإدخالات!C22","v":0},{"$f":"الإدخالات!D22","v":0},{"$f":"الإدخالات!E22","v":0},{"$f":"الإدخالات!F22","v":0},{"$f":"IF($B22=FALSE,0,الإدخالات!G22)","v":0},{"$f":"IF($B22=FALSE,0,الإدخالات!H22)","v":0},{"$f":"IF($B22=FALSE,0,الإدخالات!I22)","v":0},{"$f":"IF($B22=FALSE,0,الإدخالات!J22)","v":0},{"$f":"IF($B22=FALSE,0,الإدخالات!K22)","v":0},{"$f":"IF($B22=FALSE,0,الإدخالات!L22)","v":0},{"$f":"IF($B22=FALSE,0,الإدخالات!M22)","v":0},{"$f":"الإدخالات!N22","v":0},{"$f":"الإدخالات!O22","v":0}]
[{"$f":"الإدخالات!A23","v":0},{"$f":"الإدخالات!B23","v":0},{"$f":"الإدخالات!C23","v":0},{"$f":"الإدخالات!D23","v":0},{"$f":"الإدخالات!E23","v":0},{"$f":"الإدخالات!F23","v":0},{"$f":"IF($B23=FALSE,0,الإدخالات!G23)","v":0},{"$f":"IF($B23=FALSE,0,الإدخالات!H23)","v":0},{"$f":"IF($B23=FALSE,0,الإدخالات!I23)","v":0},{"$f":"IF($B23=FALSE,0,الإدخالات!J23)","v":0},{"$f":"IF($B23=FALSE,0,الإدخالات!K23)","v":0},{"$f":"IF($B23=FALSE,0,الإدخالات!L23)","v":0},{"$f":"IF($B23=FALSE,0,الإدخالات!M23)","v":0},{"$f":"الإدخالات!N23","v":0},{"$f":"الإدخالات!O23","v":0}]
[{"$f":"الإدخالات!A24","v":0},{"$f":"الإدخالات!B24","v":0},{"$f":"الإدخالات!C24","v":0},{"$f":"الإدخالات!D24","v":0},{"$f":"الإدخالات!E24","v":0},{"$f":"الإدخالات!F24","v":0},{"$f":"IF($B24=FALSE,0,الإدخالات!G24)","v":0},{"$f":"IF($B24=FALSE,0,الإدخالات!H24)","v":0},{"$f":"IF($B24=FALSE,0,الإدخالات!I24)","v":0},{"$f":"IF($B24=FALSE,0,الإدخالات!J24)","v":0},{"$f":"IF($B24=FALSE,0,الإدخالات!K24)","v":0},{"$f":"IF($B24=FALSE,0,الإدخالات!L24)","v":0},{"$f":"IF($B24=FALSE,0,الإدخالات!M24)","v":0},{"$f":"الإدخالات!N24","v":0},{"$f":"الإدخالات!O24","v":0}]
[{"$f":"الإدخالات!A25","v":0},{"$f":"الإدخالات!B25","v":0},{"$f":"الإدخالات!C25","v":0},{"$f":"الإدخالات!D25","v":0},{"$f":"الإدخالات!E25","v":0},{"$f":"الإدخالات!F25","v":0},{"$f":"IF($B25=FALSE,0,الإدخالات!G25)","v":0},{"$f":"IF($B25=FALSE,0,الإدخالات!H25)","v":0},{"$f":"IF($B25=FALSE,0,الإدخالات!I25)","v":0},{"$f":"IF($B25=FALSE,0,الإدخالات!J25)","v":0},{"$f":"IF($B25=FALSE,0,الإدخالات!K25)","v":0},{"$f":"IF($B25=FALSE,0,الإدخالات!L25)","v":0},{"$f":"IF($B25=FALSE,0,الإدخالات!M25)","v":0},{"$f":"الإدخالات!N25","v":0},{"$f":"الإدخالات!O25","v":0}]
[{"$f":"الإدخالات!A26","v":0},{"$f":"الإدخالات!B26","v":0},{"$f":"الإدخالات!C26","v":0},{"$f":"الإدخالات!D26","v":0},{"$f":"الإدخالات!E26","v":0},{"$f":"الإدخالات!F26","v":0},{"$f":"IF($B26=FALSE,0,الإدخالات!G26)","v":0},{"$f":"IF($B26=FALSE,0,الإدخالات!H26)","v":0},{"$f":"IF($B26=FALSE,0,الإدخالات!I26)","v":0},{"$f":"IF($B26=FALSE,0,الإدخالات!J26)","v":0},{"$f":"IF($B26=FALSE,0,الإدخالات!K26)","v":0},{"$f":"IF($B26=FALSE,0,الإدخالات!L26)","v":0},{"$f":"IF($B26=FALSE,0,الإدخالات!M26)","v":0},{"$f":"الإدخالات!N26","v":0},{"$f":"الإدخالات!O26","v":0}]
[{"$f":"الإدخالات!A27","v":0},{"$f":"الإدخالات!B27","v":0},{"$f":"الإدخالات!C27","v":0},{"$f":"الإدخالات!D27","v":0},{"$f":"الإدخالات!E27","v":0},{"$f":"الإدخالات!F27","v":0},{"$f":"IF($B27=FALSE,0,الإدخالات!G27)","v":0},{"$f":"IF($B27=FALSE,0,الإدخالات!H27)","v":0},{"$f":"IF($B27=FALSE,0,الإدخالات!I27)","v":0},{"$f":"IF($B27=FALSE,0,الإدخالات!J27)","v":0},{"$f":"IF($B27=FALSE,0,الإدخالات!K27)","v":0},{"$f":"IF($B27=FALSE,0,الإدخالات!L27)","v":0},{"$f":"IF($B27=FALSE,0,الإدخالات!M27)","v":0},{"$f":"الإدخالات!N27","v":0},{"$f":"الإدخالات!O27","v":0}]
[{"$f":"الإدخالات!A28","v":0},{"$f":"الإدخالات!B28","v":0},{"$f":"الإدخالات!C28","v":0},{"$f":"الإدخالات!D28","v":0},{"$f":"الإدخالات!E28","v":0},{"$f":"الإدخالات!F28","v":0},{"$f":"IF($B28=FALSE,0,الإدخالات!G28)","v":0},{"$f":"IF($B28=FALSE,0,الإدخالات!H28)","v":0},{"$f":"IF($B28=FALSE,0,الإدخالات!I28)","v":0},{"$f":"IF($B28=FALSE,0,الإدخالات!J28)","v":0},{"$f":"IF($B28=FALSE,0,الإدخالات!K28)","v":0},{"$f":"IF($B28=FALSE,0,الإدخالات!L28)","v":0},{"$f":"IF($B28=FALSE,0,الإدخالات!M28)","v":0},{"$f":"الإدخالات!N28","v":0},{"$f":"الإدخالات!O28","v":0}]
[{"$f":"الإدخالات!A29","v":0},{"$f":"الإدخالات!B29","v":0},{"$f":"الإدخالات!C29","v":0},{"$f":"الإدخالات!D29","v":0},{"$f":"الإدخالات!E29","v":0},{"$f":"الإدخالات!F29","v":0},{"$f":"IF($B29=FALSE,0,الإدخالات!G29)","v":0},{"$f":"IF($B29=FALSE,0,الإدخالات!H29)","v":0},{"$f":"IF($B29=FALSE,0,الإدخالات!I29)","v":0},{"$f":"IF($B29=FALSE,0,الإدخالات!J29)","v":0},{"$f":"IF($B29=FALSE,0,الإدخالات!K29)","v":0},{"$f":"IF($B29=FALSE,0,الإدخالات!L29)","v":0},{"$f":"IF($B29=FALSE,0,الإدخالات!M29)","v":0},{"$f":"الإدخالات!N29","v":0},{"$f":"الإدخالات!O29","v":0}]
[{"$f":"الإدخالات!A30","v":0},{"$f":"الإدخالات!B30","v":0},{"$f":"الإدخالات!C30","v":0},{"$f":"الإدخالات!D30","v":0},{"$f":"الإدخالات!E30","v":0},{"$f":"الإدخالات!F30","v":0},{"$f":"IF($B30=FALSE,0,الإدخالات!G30)","v":0},{"$f":"IF($B30=FALSE,0,الإدخالات!H30)","v":0},{"$f":"IF($B30=FALSE,0,الإدخالات!I30)","v":0},{"$f":"IF($B30=FALSE,0,الإدخالات!J30)","v":0},{"$f":"IF($B30=FALSE,0,الإدخالات!K30)","v":0},{"$f":"IF($B30=FALSE,0,الإدخالات!L30)","v":0},{"$f":"IF($B30=FALSE,0,الإدخالات!M30)","v":0},{"$f":"الإدخالات!N30","v":0},{"$f":"الإدخالات!O30","v":0}]
[{"$f":"الإدخالات!A31","v":0},{"$f":"الإدخالات!B31","v":0},{"$f":"الإدخالات!C31","v":0},{"$f":"الإدخالات!D31","v":0},{"$f":"الإدخالات!E31","v":0},{"$f":"الإدخالات!F31","v":0},{"$f":"IF($B31=FALSE,0,الإدخالات!G31)","v":0},{"$f":"IF($B31=FALSE,0,الإدخالات!H31)","v":0},{"$f":"IF($B31=FALSE,0,الإدخالات!I31)","v":0},{"$f":"IF($B31=FALSE,0,الإدخالات!J31)","v":0},{"$f":"IF($B31=FALSE,0,الإدخالات!K31)","v":0},{"$f":"IF($B31=FALSE,0,الإدخالات!L31)","v":0},{"$f":"IF($B31=FALSE,0,الإدخالات!M31)","v":0},{"$f":"الإدخالات!N31","v":0},{"$f":"الإدخالات!O31","v":0}]
[{"$f":"الإدخالات!A32","v":0},{"$f":"الإدخالات!B32","v":0},{"$f":"الإدخالات!C32","v":0},{"$f":"الإدخالات!D32","v":0},{"$f":"الإدخالات!E32","v":0},{"$f":"الإدخالات!F32","v":0},{"$f":"IF($B32=FALSE,0,الإدخالات!G32)","v":0},{"$f":"IF($B32=FALSE,0,الإدخالات!H32)","v":0},{"$f":"IF($B32=FALSE,0,الإدخالات!I32)","v":0},{"$f":"IF($B32=FALSE,0,الإدخالات!J32)","v":0},{"$f":"IF($B32=FALSE,0,الإدخالات!K32)","v":0},{"$f":"IF($B32=FALSE,0,الإدخالات!L32)","v":0},{"$f":"IF($B32=FALSE,0,الإدخالات!M32)","v":0},{"$f":"الإدخالات!N32","v":0},{"$f":"الإدخالات!O32","v":0}]
[{"$f":"الإدخالات!A33","v":0},{"$f":"الإدخالات!B33","v":0},{"$f":"الإدخالات!C33","v":0},{"$f":"الإدخالات!D33","v":0},{"$f":"الإدخالات!E33","v":0},{"$f":"الإدخالات!F33","v":0},{"$f":"IF($B33=FALSE,0,الإدخالات!G33)","v":0},{"$f":"IF($B33=FALSE,0,الإدخالات!H33)","v":0},{"$f":"IF($B33=FALSE,0,الإدخالات!I33)","v":0},{"$f":"IF($B33=FALSE,0,الإدخالات!J33)","v":0},{"$f":"IF($B33=FALSE,0,الإدخالات!K33)","v":0},{"$f":"IF($B33=FALSE,0,الإدخالات!L33)","v":0},{"$f":"IF($B33=FALSE,0,الإدخالات!M33)","v":0},{"$f":"الإدخالات!N33","v":0},{"$f":"الإدخالات!O33","v":0}]
[{"$f":"الإدخالات!A34","v":0},{"$f":"الإدخالات!B34","v":0},{"$f":"الإدخالات!C34","v":0},{"$f":"الإدخالات!D34","v":0},{"$f":"الإدخالات!E34","v":0},{"$f":"الإدخالات!F34","v":0},{"$f":"IF($B34=FALSE,0,الإدخالات!G34)","v":0},{"$f":"IF($B34=FALSE,0,الإدخالات!H34)","v":0},{"$f":"IF($B34=FALSE,0,الإدخالات!I34)","v":0},{"$f":"IF($B34=FALSE,0,الإدخالات!J34)","v":0},{"$f":"IF($B34=FALSE,0,الإدخالات!K34)","v":0},{"$f":"IF($B34=FALSE,0,الإدخالات!L34)","v":0},{"$f":"IF($B34=FALSE,0,الإدخالات!M34)","v":0},{"$f":"الإدخالات!N34","v":0},{"$f":"الإدخالات!O34","v":0}]
[{"$f":"الإدخالات!A35","v":0},{"$f":"الإدخالات!B35","v":0},{"$f":"الإدخالات!C35","v":0},{"$f":"الإدخالات!D35","v":0},{"$f":"الإدخالات!E35","v":0},{"$f":"الإدخالات!F35","v":0},{"$f":"IF($B35=FALSE,0,الإدخالات!G35)","v":0},{"$f":"IF($B35=FALSE,0,الإدخالات!H35)","v":0},{"$f":"IF($B35=FALSE,0,الإدخالات!I35)","v":0},{"$f":"IF($B35=FALSE,0,الإدخالات!J35)","v":0},{"$f":"IF($B35=FALSE,0,الإدخالات!K35)","v":0},{"$f":"IF($B35=FALSE,0,الإدخالات!L35)","v":0},{"$f":"IF($B35=FALSE,0,الإدخالات!M35)","v":0},{"$f":"الإدخالات!N35","v":0},{"$f":"الإدخالات!O35","v":0}]
[{"$f":"الإدخالات!A36","v":0},{"$f":"الإدخالات!B36","v":0},{"$f":"الإدخالات!C36","v":0},{"$f":"الإدخالات!D36","v":0},{"$f":"الإدخالات!E36","v":0},{"$f":"الإدخالات!F36","v":0},{"$f":"IF($B36=FALSE,0,الإدخالات!G36)","v":0},{"$f":"IF($B36=FALSE,0,الإدخالات!H36)","v":0},{"$f":"IF($B36=FALSE,0,الإدخالات!I36)","v":0},{"$f":"IF($B36=FALSE,0,الإدخالات!J36)","v":0},{"$f":"IF($B36=FALSE,0,الإدخالات!K36)","v":0},{"$f":"IF($B36=FALSE,0,الإدخالات!L36)","v":0},{"$f":"IF($B36=FALSE,0,الإدخالات!M36)","v":0},{"$f":"الإدخالات!N36","v":0},{"$f":"الإدخالات!O36","v":0}]
[{"$f":"الإدخالات!A37","v":0},{"$f":"الإدخالات!B37","v":0},{"$f":"الإدخالات!C37","v":0},{"$f":"الإدخالات!D37","v":0},{"$f":"الإدخالات!E37","v":0},{"$f":"الإدخالات!F37","v":0},{"$f":"IF($B37=FALSE,0,الإدخالات!G37)","v":0},{"$f":"IF($B37=FALSE,0,الإدخالات!H37)","v":0},{"$f":"IF($B37=FALSE,0,الإدخالات!I37)","v":0},{"$f":"IF($B37=FALSE,0,الإدخالات!J37)","v":0},{"$f":"IF($B37=FALSE,0,الإدخالات!K37)","v":0},{"$f":"IF($B37=FALSE,0,الإدخالات!L37)","v":0},{"$f":"IF($B37=FALSE,0,الإدخالات!M37)","v":0},{"$f":"الإدخالات!N37","v":0},{"$f":"الإدخالات!O37","v":0}]
[{"$f":"الإدخالات!A38","v":0},{"$f":"الإدخالات!B38","v":0},{"$f":"الإدخالات!C38","v":0},{"$f":"الإدخالات!D38","v":0},{"$f":"الإدخالات!E38","v":0},{"$f":"الإدخالات!F38","v":0},{"$f":"IF($B38=FALSE,0,الإدخالات!G38)","v":0},{"$f":"IF($B38=FALSE,0,الإدخالات!H38)","v":0},{"$f":"IF($B38=FALSE,0,الإدخالات!I38)","v":0},{"$f":"IF($B38=FALSE,0,الإدخالات!J38)","v":0},{"$f":"IF($B38=FALSE,0,الإدخالات!K38)","v":0},{"$f":"IF($B38=FALSE,0,الإدخالات!L38)","v":0},{"$f":"IF($B38=FALSE,0,الإدخالات!M38)","v":0},{"$f":"الإدخالات!N38","v":0},{"$f":"الإدخالات!O38","v":0}]