{"text_format":"1","workbook":"xlsx","n_sheets":6,"sheets":["نهاية السنة دور اول خامس أ","نهاية السنة دور ثاني خامس أ","التلاميذ والقيود ","نهاية السنة دور اول خامس ب","نهاية السنة دور ثاني خامس ب","المكملون"],"not_rendered":{"charts":0,"images":0,"macros":1,"external_links":2,"defined_names":39,"comments":0,"pivot_tables":0},"unopened":[],"bounds":{"document_bytes":16777216,"sheet_cells":100000,"rows_first":2000,"rows_last":500,"rows_between":2000,"halvings":0,"cell_chars":16384,"cell_head_chars":4096},"cells_cut":0,"cells_raw":0,"read":"whole","date_system":"1900"}

{"sheet":"نهاية السنة دور اول خامس أ","index":0,"n_rows":63,"n_cols":23,"rows_kept":63,"cut":false,"hidden":false,"merged":[[3,11,3,12],[0,0,0,2],[0,14,0,15],[1,0,1,2],[1,14,1,15],[2,0,2,16],[56,1,56,2],[56,3,56,10],[57,1,57,2],[57,3,57,10],[58,1,58,2],[58,3,58,10],[62,1,62,2],[62,3,62,10],[59,1,59,2],[59,3,59,10],[60,1,60,2],[60,3,60,10],[61,1,61,2],[61,3,61,10]]}
["أدارة مدرسة المناذرة",null,null,null,null,null,null,null,null,null,null,null,null,null,"الصف",null,"الخامس أ"]
["   الابتدائية للبنات",null,null,null,null,null,null,null,null,null,null,null,null,null,"الدور",null,"الأول"]
["للعام الدراسي 2019 - 2020"]
[null,null,null,null,null,null,null,null,null,null,null,"المجموع"]
["ت","رقم القيد","اسم التلميذ","التربية الإسلامية","اللغة العربية","اللغة الإنكليزية","الرياضيات","العلوم","الاجتماعيات","التربية الفنية","التربية الرياضية","رقما","كتابة","النتيجة","الدروس التي اكمل فيها",null,null,null,"المكملون","الناجحون","الراسبون",null,"الدروس التي رسب فيها"]
[1,{"$f":"'[1]التلاميذ والقيود '!B3","v":2787},{"$f":"INDEX('[1]التلاميذ والقيود '!C3,1,1)","v":"آمنه حسين علوان"},100,99,88,77,66,66,60,50,{"$f":"IF(OR(N6=\"ناجح\",N6=\"راسب\"),SUM(D6:K6),\"\")","v":606},{"$f":"IFERROR(IF(L6=100,\"مائة درجة\",B_Only(L6,1,1,2,\"\",\"\",\"\")),\"\")","v":""},{"$f":"IF(D6:K6=\"\",\"\",IF(COUNTIF(D6:K6,\"غ\")+COUNTIF(D6:K6,\"<50\")=0,\"ناجح\",IF(COUNTIF(D6:K6,\"غ\")+COUNTIF(D6:K6,\"<50\")<=3,\"مكمل\",IF(COUNTIF(D6:K6,\"غ\")+COUNTIF(D6:K6,\"<50\")>=4,\"راسب\"))))","v":"ناجح"},{"$f":"IF(N6=\"\",\"\",IF(OR(D6<50,D6=\"غ\"),D$5,\"\")&\" \"&IF(OR(E6<50,E6=\"غ\"),E$5,\"\")&\" \"&IF(OR(F6<50,F6=\"غ\"),F$5,\"\")&\" \"&IF(OR(G6<50,G6=\"غ\"),G$5,\" \")&\" \"&IF(OR(H6<50,H6=\"غ\"),H$5,\"\")&\" \"&IF(OR(I6<50,I6=\"غ\"),I$5,\"\")&\" \"&IF(OR(J6<50,J6=\"غ\"),J$5,\"\")&\" \"&IF(OR(K6<50,K6=\"غ\"),K$5,\"\"))","v":"        "},null,null,null,{"$f":"IF(N6=\"مكمل\",1,\"\")","v":""},{"$f":"IF(N6=\"ناجح\",2,\"\")","v":2},{"$f":"IF(N6=\"راسب\",3,\"\")","v":""}]
[2,{"$f":"'[1]التلاميذ والقيود '!B4","v":2373},{"$f":"INDEX('[1]التلاميذ والقيود '!C4,1,1)","v":"آمنه قاسم ثجيل"},10,3,3,4,6,5,10,10,{"$f":"IF(OR(N7=\"ناجح\",N7=\"راسب\"),SUM(D7:K7),\"\")","v":51},{"$f":"IFERROR(IF(L7=100,\"مائة درجة\",B_Only(L7,1,1,2,\"\",\"\",\"\")),\"\")","v":""},{"$f":"IF(D7:K7=\"\",\"\",IF(COUNTIF(D7:K7,\"غ\")+COUNTIF(D7:K7,\"<50\")=0,\"ناجح\",IF(COUNTIF(D7:K7,\"غ\")+COUNTIF(D7:K7,\"<50\")<=3,\"مكمل\",IF(COUNTIF(D7:K7,\"غ\")+COUNTIF(D7:K7,\"<50\")>=4,\"راسب\"))))","v":"راسب"},{"$f":"IF(N7=\"\",\"\",IF(OR(D7<50,D7=\"غ\"),D$5,\"\")&\" \"&IF(OR(E7<50,E7=\"غ\"),E$5,\"\")&\" \"&IF(OR(F7<50,F7=\"غ\"),F$5,\"\")&\" \"&IF(OR(G7<50,G7=\"غ\"),G$5,\" \")&\" \"&IF(OR(H7<50,H7=\"غ\"),H$5,\"\")&\" \"&IF(OR(I7<50,I7=\"غ\"),I$5,\"\")&\" \"&IF(OR(J7<50,J7=\"غ\"),J$5,\"\")&\" \"&IF(OR(K7<50,K7=\"غ\"),K$5,\"\"))","v":"التربية الإسلامية اللغة العربية اللغة الإنكليزية الرياضيات العلوم الاجتماعيات التربية الفنية التربية الرياضية"},null,null,null,{"$f":"IF(N7=\"مكمل\",1,\"\")","v":""},{"$f":"IF(N7=\"ناجح\",2,\"\")","v":""},{"$f":"IF(N7=\"راسب\",3,\"\")","v":3}]
[3,{"$f":"'[1]التلاميذ والقيود '!B5","v":2430},{"$f":"INDEX('[1]التلاميذ والقيود '!C5,1,1)","v":"ايمان محمد مجبل"},80,50,80,66,55,50,50,60,491,{"$f":"IFERROR(IF(L8=100,\"مائة درجة\",B_Only(L8,1,1,2,\"\",\"\",\"\")),\"\")","v":""},{"$f":"IF(D8:K8=\"\",\"\",IF(COUNTIF(D8:K8,\"غ\")+COUNTIF(D8:K8,\"<50\")=0,\"ناجح\",IF(COUNTIF(D8:K8,\"غ\")+COUNTIF(D8:K8,\"<50\")<=3,\"مكمل\",IF(COUNTIF(D8:K8,\"غ\")+COUNTIF(D8:K8,\"<50\")>=4,\"راسب\"))))","v":"ناجح"},"        ",null,null,null,"",2,""]
[4,{"$f":"'[1]التلاميذ والقيود '!B6","v":2348},{"$f":"INDEX('[1]التلاميذ والقيود '!C6,1,1)","v":"آيه احمد جبار"},4,"غ",50,50,50,50,50,50,"",{"$f":"IFERROR(IF(L9=100,\"مائة درجة\",B_Only(L9,1,1,2,\"\",\"\",\"\")),\"\")","v":""},{"$f":"IF(D9:K9=\"\",\"\",IF(COUNTIF(D9:K9,\"غ\")+COUNTIF(D9:K9,\"<50\")=0,\"ناجح\",IF(COUNTIF(D9:K9,\"غ\")+COUNTIF(D9:K9,\"<50\")<=3,\"مكمل\",IF(COUNTIF(D9:K9,\"غ\")+COUNTIF(D9:K9,\"<50\")>=4,\"راسب\"))))","v":"مكمل"},"التربية الإسلامية اللغة العربية       ",null,null,null,1,"",""]
[5,{"$f":"'[1]التلاميذ والقيود '!B7","v":2539},{"$f":"INDEX('[1]التلاميذ والقيود '!C7,1,1)","v":"آيه حسين حسن"},10,null,null,null,null,null,3,4,"",{"$f":"IFERROR(IF(L10=100,\"مائة درجة\",B_Only(L10,1,1,2,\"\",\"\",\"\")),\"\")","v":""},{"$f":"IF(D10:K10=\"\",\"\",IF(COUNTIF(D10:K10,\"غ\")+COUNTIF(D10:K10,\"<50\")=0,\"ناجح\",IF(COUNTIF(D10:K10,\"غ\")+COUNTIF(D10:K10,\"<50\")<=3,\"مكمل\",IF(COUNTIF(D10:K10,\"غ\")+COUNTIF(D10:K10,\"<50\")>=4,\"راسب\"))))","v":"مكمل"},"التربية الإسلامية اللغة العربية اللغة الإنكليزية الرياضيات العلوم الاجتماعيات التربية الفنية التربية الرياضية",null,null,null,1,"",""]
[6,{"$f":"'[1]التلاميذ والقيود '!B8","v":2561},{"$f":"INDEX('[1]التلاميذ والقيود '!C8,1,1)","v":"آيه علي كاظم"},10,null,null,null,5,null,2,3,20,{"$f":"IFERROR(IF(L11=100,\"مائة درجة\",B_Only(L11,1,1,2,\"\",\"\",\"\")),\"\")","v":""},{"$f":"IF(D11:K11=\"\",\"\",IF(COUNTIF(D11:K11,\"غ\")+COUNTIF(D11:K11,\"<50\")=0,\"ناجح\",IF(COUNTIF(D11:K11,\"غ\")+COUNTIF(D11:K11,\"<50\")<=3,\"مكمل\",IF(COUNTIF(D11:K11,\"غ\")+COUNTIF(D11:K11,\"<50\")>=4,\"راسب\"))))","v":"راسب"},"التربية الإسلامية اللغة العربية اللغة الإنكليزية الرياضيات العلوم الاجتماعيات التربية الفنية التربية الرياضية",null,null,null,"","",3]
[7,{"$f":"'[1]التلاميذ والقيود '!B9","v":2417},{"$f":"INDEX('[1]التلاميذ والقيود '!C9,1,1)","v":"براء سليم مجيد"},10,null,null,null,null,null,null,null,"",{"$f":"IFERROR(IF(L12=100,\"مائة درجة\",B_Only(L12,1,1,2,\"\",\"\",\"\")),\"\")","v":""},{"$f":"IF(D12:K12=\"\",\"\",IF(COUNTIF(D12:K12,\"غ\")+COUNTIF(D12:K12,\"<50\")=0,\"ناجح\",IF(COUNTIF(D12:K12,\"غ\")+COUNTIF(D12:K12,\"<50\")<=3,\"مكمل\",IF(COUNTIF(D12:K12,\"غ\")+COUNTIF(D12:K12,\"<50\")>=4,\"راسب\"))))","v":"مكمل"},"التربية الإسلامية اللغة العربية اللغة الإنكليزية الرياضيات العلوم الاجتماعيات التربية الفنية التربية الرياضية",null,null,null,1,"",""]
[8,{"$f":"'[1]التلاميذ والقيود '!B10","v":2445},{"$f":"INDEX('[1]التلاميذ والقيود '!C10,1,1)","v":"بنين احمد أسعد"},10,null,null,null,null,null,null,null,"",{"$f":"IFERROR(IF(L13=100,\"مائة درجة\",B_Only(L13,1,1,2,\"\",\"\",\"\")),\"\")","v":""},{"$f":"IF(D13:K13=\"\",\"\",IF(COUNTIF(D13:K13,\"غ\")+COUNTIF(D13:K13,\"<50\")=0,\"ناجح\",IF(COUNTIF(D13:K13,\"غ\")+COUNTIF(D13:K13,\"<50\")<=3,\"مكمل\",IF(COUNTIF(D13:K13,\"غ\")+COUNTIF(D13:K13,\"<50\")>=4,\"راسب\"))))","v":"مكمل"},"التربية الإسلامية اللغة العربية اللغة الإنكليزية الرياضيات العلوم الاجتماعيات التربية الفنية التربية الرياضية",null,null,null,1,"",""]
[9,{"$f":"'[1]التلاميذ والقيود '!B11","v":2501},{"$f":"INDEX('[1]التلاميذ والقيود '!C11,1,1)","v":"بنين خضير عباس"},null,null,null,null,null,null,null,null,"",{"$f":"IFERROR(IF(L14=100,\"مائة درجة\",B_Only(L14,1,1,2,\"\",\"\",\"\")),\"\")","v":""},{"$f":"IF(D14:K14=\"\",\"\",IF(COUNTIF(D14:K14,\"غ\")+COUNTIF(D14:K14,\"<50\")=0,\"ناجح\",IF(COUNTIF(D14:K14,\"غ\")+COUNTIF(D14:K14,\"<50\")<=3,\"مكمل\",IF(COUNTIF(D14:K14,\"غ\")+COUNTIF(D14:K14,\"<50\")>=4,\"راسب\"))))","v":""},"",null,null,null,"","",""]
[10,{"$f":"'[1]التلاميذ والقيود '!B12","v":2502},{"$f":"INDEX('[1]التلاميذ والقيود '!C12,1,1)","v":"بنين عامر كاظم"},null,null,null,null,null,null,null,null,"",{"$f":"IFERROR(IF(L15=100,\"مائة درجة\",B_Only(L15,1,1,2,\"\",\"\",\"\")),\"\")","v":""},{"$f":"IF(D15:K15=\"\",\"\",IF(COUNTIF(D15:K15,\"غ\")+COUNTIF(D15:K15,\"<50\")=0,\"ناجح\",IF(COUNTIF(D15:K15,\"غ\")+COUNTIF(D15:K15,\"<50\")<=3,\"مكمل\",IF(COUNTIF(D15:K15,\"غ\")+COUNTIF(D15:K15,\"<50\")>=4,\"راسب\"))))","v":""},"",null,null,null,"","",""]
[11,{"$f":"'[1]التلاميذ والقيود '!B13","v":2610},{"$f":"INDEX('[1]التلاميذ والقيود '!C13,1,1)","v":"جمانه حسين جبار"},null,null,null,null,null,null,null,null,"",{"$f":"IFERROR(IF(L16=100,\"مائة درجة\",B_Only(L16,1,1,2,\"\",\"\",\"\")),\"\")","v":""},{"$f":"IF(D16:K16=\"\",\"\",IF(COUNTIF(D16:K16,\"غ\")+COUNTIF(D16:K16,\"<50\")=0,\"ناجح\",IF(COUNTIF(D16:K16,\"غ\")+COUNTIF(D16:K16,\"<50\")<=3,\"مكمل\",IF(COUNTIF(D16:K16,\"غ\")+COUNTIF(D16:K16,\"<50\")>=4,\"راسب\"))))","v":""},"",null,null,null,"","",""]
[12,{"$f":"'[1]التلاميذ والقيود '!B14","v":2517},{"$f":"INDEX('[1]التلاميذ والقيود '!C14,1,1)","v":"جنه زهير قاسم"},null,null,null,null,null,null,null,null,"",{"$f":"IFERROR(IF(L17=100,\"مائة درجة\",B_Only(L17,1,1,2,\"\",\"\",\"\")),\"\")","v":""},{"$f":"IF(D17:K17=\"\",\"\",IF(COUNTIF(D17:K17,\"غ\")+COUNTIF(D17:K17,\"<50\")=0,\"ناجح\",IF(COUNTIF(D17:K17,\"غ\")+COUNTIF(D17:K17,\"<50\")<=3,\"مكمل\",IF(COUNTIF(D17:K17,\"غ\")+COUNTIF(D17:K17,\"<50\")>=4,\"راسب\"))))","v":""},"",null,null,null,"","",""]
[13,{"$f":"'[1]التلاميذ والقيود '!B15","v":2479},{"$f":"INDEX('[1]التلاميذ والقيود '!C15,1,1)","v":"حوراء رزاق درك"},null,null,null,null,null,null,null,null,"",{"$f":"IFERROR(IF(L18=100,\"مائة درجة\",B_Only(L18,1,1,2,\"\",\"\",\"\")),\"\")","v":""},{"$f":"IF(D18:K18=\"\",\"\",IF(COUNTIF(D18:K18,\"غ\")+COUNTIF(D18:K18,\"<50\")=0,\"ناجح\",IF(COUNTIF(D18:K18,\"غ\")+COUNTIF(D18:K18,\"<50\")<=3,\"مكمل\",IF(COUNTIF(D18:K18,\"غ\")+COUNTIF(D18:K18,\"<50\")>=4,\"راسب\"))))","v":""},"",null,null,null,"","",""]
[14,{"$f":"'[1]التلاميذ والقيود '!B16","v":2559},{"$f":"INDEX('[1]التلاميذ والقيود '!C16,1,1)","v":"حوراء عادل مطشر"},null,null,null,null,null,null,null,null,"",{"$f":"IFERROR(IF(L19=100,\"مائة درجة\",B_Only(L19,1,1,2,\"\",\"\",\"\")),\"\")","v":""},{"$f":"IF(D19:K19=\"\",\"\",IF(COUNTIF(D19:K19,\"غ\")+COUNTIF(D19:K19,\"<50\")=0,\"ناجح\",IF(COUNTIF(D19:K19,\"غ\")+COUNTIF(D19:K19,\"<50\")<=3,\"مكمل\",IF(COUNTIF(D19:K19,\"غ\")+COUNTIF(D19:K19,\"<50\")>=4,\"راسب\"))))","v":""},"",null,null,null,"","",""]
[15,{"$f":"'[1]التلاميذ والقيود '!B17","v":2799},{"$f":"INDEX('[1]التلاميذ والقيود '!C17,1,1)","v":"رتاج علي ناصر حيدر"},null,null,null,null,null,null,null,null,"",{"$f":"IFERROR(IF(L20=100,\"مائة درجة\",B_Only(L20,1,1,2,\"\",\"\",\"\")),\"\")","v":""},{"$f":"IF(D20:K20=\"\",\"\",IF(COUNTIF(D20:K20,\"غ\")+COUNTIF(D20:K20,\"<50\")=0,\"ناجح\",IF(COUNTIF(D20:K20,\"غ\")+COUNTIF(D20:K20,\"<50\")<=3,\"مكمل\",IF(COUNTIF(D20:K20,\"غ\")+COUNTIF(D20:K20,\"<50\")>=4,\"راسب\"))))","v":""},"",null,null,null,"","",""]
[16,{"$f":"'[1]التلاميذ والقيود '!B18","v":2590},{"$f":"INDEX('[1]التلاميذ والقيود '!C18,1,1)","v":"رحمه عباس زغير"},null,null,null,null,null,null,null,null,"",{"$f":"IFERROR(IF(L21=100,\"مائة درجة\",B_Only(L21,1,1,2,\"\",\"\",\"\")),\"\")","v":""},{"$f":"IF(D21:K21=\"\",\"\",IF(COUNTIF(D21:K21,\"غ\")+COUNTIF(D21:K21,\"<50\")=0,\"ناجح\",IF(COUNTIF(D21:K21,\"غ\")+COUNTIF(D21:K21,\"<50\")<=3,\"مكمل\",IF(COUNTIF(D21:K21,\"غ\")+COUNTIF(D21:K21,\"<50\")>=4,\"راسب\"))))","v":""},"",null,null,null,"","",""]
[17,{"$f":"'[1]التلاميذ والقيود '!B19","v":2421},{"$f":"INDEX('[1]التلاميذ والقيود '!C19,1,1)","v":"رقيه رعد سعد"},null,null,null,null,null,null,null,null,"",{"$f":"IFERROR(IF(L22=100,\"مائة درجة\",B_Only(L22,1,1,2,\"\",\"\",\"\")),\"\")","v":""},{"$f":"IF(D22:K22=\"\",\"\",IF(COUNTIF(D22:K22,\"غ\")+COUNTIF(D22:K22,\"<50\")=0,\"ناجح\",IF(COUNTIF(D22:K22,\"غ\")+COUNTIF(D22:K22,\"<50\")<=3,\"مكمل\",IF(COUNTIF(D22:K22,\"غ\")+COUNTIF(D22:K22,\"<50\")>=4,\"راسب\"))))","v":""},"",null,null,null,"","",""]
[18,{"$f":"'[1]التلاميذ والقيود '!B20","v":2440},{"$f":"INDEX('[1]التلاميذ والقيود '!C20,1,1)","v":"رقيه علي مزهر"},null,null,null,null,null,null,null,null,"",{"$f":"IFERROR(IF(L23=100,\"مائة درجة\",B_Only(L23,1,1,2,\"\",\"\",\"\")),\"\")","v":""},{"$f":"IF(D23:K23=\"\",\"\",IF(COUNTIF(D23:K23,\"غ\")+COUNTIF(D23:K23,\"<50\")=0,\"ناجح\",IF(COUNTIF(D23:K23,\"غ\")+COUNTIF(D23:K23,\"<50\")<=3,\"مكمل\",IF(COUNTIF(D23:K23,\"غ\")+COUNTIF(D23:K23,\"<50\")>=4,\"راسب\"))))","v":""},"",null,null,null,"","",""]
[19,{"$f":"'[1]التلاميذ والقيود '!B21","v":2513},{"$f":"INDEX('[1]التلاميذ والقيود '!C21,1,1)","v":"رقيه محمد كاظم"},null,null,null,null,null,null,null,null,"",{"$f":"IFERROR(IF(L24=100,\"مائة درجة\",B_Only(L24,1,1,2,\"\",\"\",\"\")),\"\")","v":""},{"$f":"IF(D24:K24=\"\",\"\",IF(COUNTIF(D24:K24,\"غ\")+COUNTIF(D24:K24,\"<50\")=0,\"ناجح\",IF(COUNTIF(D24:K24,\"غ\")+COUNTIF(D24:K24,\"<50\")<=3,\"مكمل\",IF(COUNTIF(D24:K24,\"غ\")+COUNTIF(D24:K24,\"<50\")>=4,\"راسب\"))))","v":""},"",null,null,null,"","",""]
[20,{"$f":"'[1]التلاميذ والقيود '!B22","v":2580},{"$f":"INDEX('[1]التلاميذ والقيود '!C22,1,1)","v":"روان احمد قاسم"},null,null,null,null,null,null,null,null,"",{"$f":"IFERROR(IF(L25=100,\"مائة درجة\",B_Only(L25,1,1,2,\"\",\"\",\"\")),\"\")","v":""},{"$f":"IF(D25:K25=\"\",\"\",IF(COUNTIF(D25:K25,\"غ\")+COUNTIF(D25:K25,\"<50\")=0,\"ناجح\",IF(COUNTIF(D25:K25,\"غ\")+COUNTIF(D25:K25,\"<50\")<=3,\"مكمل\",IF(COUNTIF(D25:K25,\"غ\")+COUNTIF(D25:K25,\"<50\")>=4,\"راسب\"))))","v":""},"",null,null,null,"","",""]
[21,{"$f":"'[1]التلاميذ والقيود '!B23","v":2585},{"$f":"INDEX('[1]التلاميذ والقيود '!C23,1,1)","v":"روان استبرق جمعه"},null,null,null,null,null,null,null,null,"",{"$f":"IFERROR(IF(L26=100,\"مائة درجة\",B_Only(L26,1,1,2,\"\",\"\",\"\")),\"\")","v":""},{"$f":"IF(D26:K26=\"\",\"\",IF(COUNTIF(D26:K26,\"غ\")+COUNTIF(D26:K26,\"<50\")=0,\"ناجح\",IF(COUNTIF(D26:K26,\"غ\")+COUNTIF(D26:K26,\"<50\")<=3,\"مكمل\",IF(COUNTIF(D26:K26,\"غ\")+COUNTIF(D26:K26,\"<50\")>=4,\"راسب\"))))","v":""},"",null,null,null,"","",""]
[22,{"$f":"'[1]التلاميذ والقيود '!B24","v":2583},{"$f":"INDEX('[1]التلاميذ والقيود '!C24,1,1)","v":"ريتا احمد فاخر"},null,null,null,null,null,null,null,null,"",{"$f":"IFERROR(IF(L27=100,\"مائة درجة\",B_Only(L27,1,1,2,\"\",\"\",\"\")),\"\")","v":""},{"$f":"IF(D27:K27=\"\",\"\",IF(COUNTIF(D27:K27,\"غ\")+COUNTIF(D27:K27,\"<50\")=0,\"ناجح\",IF(COUNTIF(D27:K27,\"غ\")+COUNTIF(D27:K27,\"<50\")<=3,\"مكمل\",IF(COUNTIF(D27:K27,\"غ\")+COUNTIF(D27:K27,\"<50\")>=4,\"راسب\"))))","v":""},"",null,null,null,"","",""]
[23,{"$f":"'[1]التلاميذ والقيود '!B25","v":2134},{"$f":"INDEX('[1]التلاميذ والقيود '!C25,1,1)","v":"زهراء احمد محمود"},null,null,null,null,null,null,null,null,"",{"$f":"IFERROR(IF(L28=100,\"مائة درجة\",B_Only(L28,1,1,2,\"\",\"\",\"\")),\"\")","v":""},{"$f":"IF(D28:K28=\"\",\"\",IF(COUNTIF(D28:K28,\"غ\")+COUNTIF(D28:K28,\"<50\")=0,\"ناجح\",IF(COUNTIF(D28:K28,\"غ\")+COUNTIF(D28:K28,\"<50\")<=3,\"مكمل\",IF(COUNTIF(D28:K28,\"غ\")+COUNTIF(D28:K28,\"<50\")>=4,\"راسب\"))))","v":""},"",null,null,null,"","",""]
[24,{"$f":"'[1]التلاميذ والقيود '!B26","v":2189},{"$f":"INDEX('[1]التلاميذ والقيود '!C26,1,1)","v":"زهراء حيدر لفته"},null,null,null,null,null,null,null,null,"",{"$f":"IFERROR(IF(L29=100,\"مائة درجة\",B_Only(L29,1,1,2,\"\",\"\",\"\")),\"\")","v":""},{"$f":"IF(D29:K29=\"\",\"\",IF(COUNTIF(D29:K29,\"غ\")+COUNTIF(D29:K29,\"<50\")=0,\"ناجح\",IF(COUNTIF(D29:K29,\"غ\")+COUNTIF(D29:K29,\"<50\")<=3,\"مكمل\",IF(COUNTIF(D29:K29,\"غ\")+COUNTIF(D29:K29,\"<50\")>=4,\"راسب\"))))","v":""},"",null,null,null,"","",""]
[25,{"$f":"'[1]التلاميذ والقيود '!B27","v":2427},{"$f":"INDEX('[1]التلاميذ والقيود '!C27,1,1)","v":"زهراء صادق عباس"},null,null,null,null,null,null,null,null,"",{"$f":"IFERROR(IF(L30=100,\"مائة درجة\",B_Only(L30,1,1,2,\"\",\"\",\"\")),\"\")","v":""},{"$f":"IF(D30:K30=\"\",\"\",IF(COUNTIF(D30:K30,\"غ\")+COUNTIF(D30:K30,\"<50\")=0,\"ناجح\",IF(COUNTIF(D30:K30,\"غ\")+COUNTIF(D30:K30,\"<50\")<=3,\"مكمل\",IF(COUNTIF(D30:K30,\"غ\")+COUNTIF(D30:K30,\"<50\")>=4,\"راسب\"))))","v":""},"",null,null,null,"","",""]
[26,{"$f":"'[1]التلاميذ والقيود '!B28","v":2569},{"$f":"INDEX('[1]التلاميذ والقيود '!C28,1,1)","v":"زهراء عباس جبر"},null,null,null,null,null,null,null,null,"",{"$f":"IFERROR(IF(L31=100,\"مائة درجة\",B_Only(L31,1,1,2,\"\",\"\",\"\")),\"\")","v":""},{"$f":"IF(D31:K31=\"\",\"\",IF(COUNTIF(D31:K31,\"غ\")+COUNTIF(D31:K31,\"<50\")=0,\"ناجح\",IF(COUNTIF(D31:K31,\"غ\")+COUNTIF(D31:K31,\"<50\")<=3,\"مكمل\",IF(COUNTIF(D31:K31,\"غ\")+COUNTIF(D31:K31,\"<50\")>=4,\"راسب\"))))","v":""},"",null,null,null,"","",""]
[27,{"$f":"'[1]التلاميذ والقيود '!B29","v":2557},{"$f":"INDEX('[1]التلاميذ والقيود '!C29,1,1)","v":"زهراء علي زامل"},null,null,null,null,null,null,null,null,"",{"$f":"IFERROR(IF(L32=100,\"مائة درجة\",B_Only(L32,1,1,2,\"\",\"\",\"\")),\"\")","v":""},{"$f":"IF(D32:K32=\"\",\"\",IF(COUNTIF(D32:K32,\"غ\")+COUNTIF(D32:K32,\"<50\")=0,\"ناجح\",IF(COUNTIF(D32:K32,\"غ\")+COUNTIF(D32:K32,\"<50\")<=3,\"مكمل\",IF(COUNTIF(D32:K32,\"غ\")+COUNTIF(D32:K32,\"<50\")>=4,\"راسب\"))))","v":""},"",null,null,null,"","",""]
[28,{"$f":"'[1]التلاميذ والقيود '!B30","v":2275},{"$f":"INDEX('[1]التلاميذ والقيود '!C30,1,1)","v":"زينب رزاق درك"},null,null,null,null,null,null,null,null,"",{"$f":"IFERROR(IF(L33=100,\"مائة درجة\",B_Only(L33,1,1,2,\"\",\"\",\"\")),\"\")","v":""},{"$f":"IF(D33:K33=\"\",\"\",IF(COUNTIF(D33:K33,\"غ\")+COUNTIF(D33:K33,\"<50\")=0,\"ناجح\",IF(COUNTIF(D33:K33,\"غ\")+COUNTIF(D33:K33,\"<50\")<=3,\"مكمل\",IF(COUNTIF(D33:K33,\"غ\")+COUNTIF(D33:K33,\"<50\")>=4,\"راسب\"))))","v":""},"",null,null,null,"","",""]
[29,{"$f":"'[1]التلاميذ والقيود '!B31","v":2592},{"$f":"INDEX('[1]التلاميذ والقيود '!C31,1,1)","v":"زينب مشتاق ابراهيم"},null,null,null,null,null,null,null,null,"",{"$f":"IFERROR(IF(L34=100,\"مائة درجة\",B_Only(L34,1,1,2,\"\",\"\",\"\")),\"\")","v":""},{"$f":"IF(D34:K34=\"\",\"\",IF(COUNTIF(D34:K34,\"غ\")+COUNTIF(D34:K34,\"<50\")=0,\"ناجح\",IF(COUNTIF(D34:K34,\"غ\")+COUNTIF(D34:K34,\"<50\")<=3,\"مكمل\",IF(COUNTIF(D34:K34,\"غ\")+COUNTIF(D34:K34,\"<50\")>=4,\"راسب\"))))","v":""},"",null,null,null,"","",""]
[30,{"$f":"'[1]التلاميذ والقيود '!B32","v":2522},{"$f":"INDEX('[1]التلاميذ والقيود '!C32,1,1)","v":"شهد فراس كاظم"},null,null,null,null,null,null,null,null,"",{"$f":"IFERROR(IF(L35=100,\"مائة درجة\",B_Only(L35,1,1,2,\"\",\"\",\"\")),\"\")","v":""},{"$f":"IF(D35:K35=\"\",\"\",IF(COUNTIF(D35:K35,\"غ\")+COUNTIF(D35:K35,\"<50\")=0,\"ناجح\",IF(COUNTIF(D35:K35,\"غ\")+COUNTIF(D35:K35,\"<50\")<=3,\"مكمل\",IF(COUNTIF(D35:K35,\"غ\")+COUNTIF(D35:K35,\"<50\")>=4,\"راسب\"))))","v":""},"",null,null,null,"","",""]
[31,{"$f":"'[1]التلاميذ والقيود '!B33","v":2570},{"$f":"INDEX('[1]التلاميذ والقيود '!C33,1,1)","v":"غدير عادل ثجيل"},null,null,null,null,null,null,null,null,"",{"$f":"IFERROR(IF(L36=100,\"مائة درجة\",B_Only(L36,1,1,2,\"\",\"\",\"\")),\"\")","v":""},{"$f":"IF(D36:K36=\"\",\"\",IF(COUNTIF(D36:K36,\"غ\")+COUNTIF(D36:K36,\"<50\")=0,\"ناجح\",IF(COUNTIF(D36:K36,\"غ\")+COUNTIF(D36:K36,\"<50\")<=3,\"مكمل\",IF(COUNTIF(D36:K36,\"غ\")+COUNTIF(D36:K36,\"<50\")>=4,\"راسب\"))))","v":""},"",null,null,null,"","",""]
[32,{"$f":"'[1]التلاميذ والقيود '!B34","v":2567},{"$f":"INDEX('[1]التلاميذ والقيود '!C34,1,1)","v":"غدير عصام حسن"},null,null,null,null,null,null,null,null,"",{"$f":"IFERROR(IF(L37=100,\"مائة درجة\",B_Only(L37,1,1,2,\"\",\"\",\"\")),\"\")","v":""},{"$f":"IF(D37:K37=\"\",\"\",IF(COUNTIF(D37:K37,\"غ\")+COUNTIF(D37:K37,\"<50\")=0,\"ناجح\",IF(COUNTIF(D37:K37,\"غ\")+COUNTIF(D37:K37,\"<50\")<=3,\"مكمل\",IF(COUNTIF(D37:K37,\"غ\")+COUNTIF(D37:K37,\"<50\")>=4,\"راسب\"))))","v":""},"",null,null,null,"","",""]
[33,{"$f":"'[1]التلاميذ والقيود '!B35","v":2308},{"$f":"INDEX('[1]التلاميذ والقيود '!C35,1,1)","v":"فاطمه خضير دعبول"},null,null,null,null,null,null,null,null,"",{"$f":"IFERROR(IF(L38=100,\"مائة درجة\",B_Only(L38,1,1,2,\"\",\"\",\"\")),\"\")","v":""},{"$f":"IF(D38:K38=\"\",\"\",IF(COUNTIF(D38:K38,\"غ\")+COUNTIF(D38:K38,\"<50\")=0,\"ناجح\",IF(COUNTIF(D38:K38,\"غ\")+COUNTIF(D38:K38,\"<50\")<=3,\"مكمل\",IF(COUNTIF(D38:K38,\"غ\")+COUNTIF(D38:K38,\"<50\")>=4,\"راسب\"))))","v":""},"",null,null,null,"","",""]
[34,{"$f":"'[1]التلاميذ والقيود '!B36","v":2252},{"$f":"INDEX('[1]التلاميذ والقيود '!C36,1,1)","v":"فاطمه علي خشم"},null,null,null,null,null,null,null,null,"",{"$f":"IFERROR(IF(L39=100,\"مائة درجة\",B_Only(L39,1,1,2,\"\",\"\",\"\")),\"\")","v":""},{"$f":"IF(D39:K39=\"\",\"\",IF(COUNTIF(D39:K39,\"غ\")+COUNTIF(D39:K39,\"<50\")=0,\"ناجح\",IF(COUNTIF(D39:K39,\"غ\")+COUNTIF(D39:K39,\"<50\")<=3,\"مكمل\",IF(COUNTIF(D39:K39,\"غ\")+COUNTIF(D39:K39,\"<50\")>=4,\"راسب\"))))","v":""},"",null,null,null,"","",""]
[35,{"$f":"'[1]التلاميذ والقيود '!B37","v":2687},{"$f":"INDEX('[1]التلاميذ والقيود '!C37,1,1)","v":"فاطمه ماجد عبد الحسين"},null,null,null,null,null,null,null,null,"",{"$f":"IFERROR(IF(L40=100,\"مائة درجة\",B_Only(L40,1,1,2,\"\",\"\",\"\")),\"\")","v":""},{"$f":"IF(D40:K40=\"\",\"\",IF(COUNTIF(D40:K40,\"غ\")+COUNTIF(D40:K40,\"<50\")=0,\"ناجح\",IF(COUNTIF(D40:K40,\"غ\")+COUNTIF(D40:K40,\"<50\")<=3,\"مكمل\",IF(COUNTIF(D40:K40,\"غ\")+COUNTIF(D40:K40,\"<50\")>=4,\"راسب\"))))","v":""},"",null,null,null,"","",""]
[36,{"$f":"'[1]التلاميذ والقيود '!B38","v":2562},{"$f":"INDEX('[1]التلاميذ والقيود '!C38,1,1)","v":"فاطمه هادي كاظم"},null,null,null,null,null,null,null,null,"",{"$f":"IFERROR(IF(L41=100,\"مائة درجة\",B_Only(L41,1,1,2,\"\",\"\",\"\")),\"\")","v":""},{"$f":"IF(D41:K41=\"\",\"\",IF(COUNTIF(D41:K41,\"غ\")+COUNTIF(D41:K41,\"<50\")=0,\"ناجح\",IF(COUNTIF(D41:K41,\"غ\")+COUNTIF(D41:K41,\"<50\")<=3,\"مكمل\",IF(COUNTIF(D41:K41,\"غ\")+COUNTIF(D41:K41,\"<50\")>=4,\"راسب\"))))","v":""},"",null,null,null,"","",""]
[37,{"$f":"'[1]التلاميذ والقيود '!B39","v":2589},{"$f":"INDEX('[1]التلاميذ والقيود '!C39,1,1)","v":"فرح عباس زغير"},null,null,null,null,null,null,null,null,"",{"$f":"IFERROR(IF(L42=100,\"مائة درجة\",B_Only(L42,1,1,2,\"\",\"\",\"\")),\"\")","v":""},{"$f":"IF(D42:K42=\"\",\"\",IF(COUNTIF(D42:K42,\"غ\")+COUNTIF(D42:K42,\"<50\")=0,\"ناجح\",IF(COUNTIF(D42:K42,\"غ\")+COUNTIF(D42:K42,\"<50\")<=3,\"مكمل\",IF(COUNTIF(D42:K42,\"غ\")+COUNTIF(D42:K42,\"<50\")>=4,\"راسب\"))))","v":""},"",null,null,null,"","",""]
[38,{"$f":"'[1]التلاميذ والقيود '!B40","v":2523},{"$f":"INDEX('[1]التلاميذ والقيود '!C40,1,1)","v":"لجين حسين علي"},null,null,null,null,null,null,null,null,"",{"$f":"IFERROR(IF(L43=100,\"مائة درجة\",B_Only(L43,1,1,2,\"\",\"\",\"\")),\"\")","v":""},{"$f":"IF(D43:K43=\"\",\"\",IF(COUNTIF(D43:K43,\"غ\")+COUNTIF(D43:K43,\"<50\")=0,\"ناجح\",IF(COUNTIF(D43:K43,\"غ\")+COUNTIF(D43:K43,\"<50\")<=3,\"مكمل\",IF(COUNTIF(D43:K43,\"غ\")+COUNTIF(D43:K43,\"<50\")>=4,\"راسب\"))))","v":""},"",null,null,null,"","",""]
[39,{"$f":"'[1]التلاميذ والقيود '!B41","v":2545},{"$f":"INDEX('[1]التلاميذ والقيود '!C41,1,1)","v":"ليسينيا ميثم فاضل"},null,null,null,null,null,null,null,null,"",{"$f":"IFERROR(IF(L44=100,\"مائة درجة\",B_Only(L44,1,1,2,\"\",\"\",\"\")),\"\")","v":""},{"$f":"IF(D44:K44=\"\",\"\",IF(COUNTIF(D44:K44,\"غ\")+COUNTIF(D44:K44,\"<50\")=0,\"ناجح\",IF(COUNTIF(D44:K44,\"غ\")+COUNTIF(D44:K44,\"<50\")<=3,\"مكمل\",IF(COUNTIF(D44:K44,\"غ\")+COUNTIF(D44:K44,\"<50\")>=4,\"راسب\"))))","v":""},"",null,null,null,"","",""]
[40,{"$f":"'[1]التلاميذ والقيود '!B42","v":2549},{"$f":"INDEX('[1]التلاميذ والقيود '!C42,1,1)","v":"مريم عقيل حنون"},null,null,null,null,null,null,null,null,"",{"$f":"IFERROR(IF(L45=100,\"مائة درجة\",B_Only(L45,1,1,2,\"\",\"\",\"\")),\"\")","v":""},{"$f":"IF(D45:K45=\"\",\"\",IF(COUNTIF(D45:K45,\"غ\")+COUNTIF(D45:K45,\"<50\")=0,\"ناجح\",IF(COUNTIF(D45:K45,\"غ\")+COUNTIF(D45:K45,\"<50\")<=3,\"مكمل\",IF(COUNTIF(D45:K45,\"غ\")+COUNTIF(D45:K45,\"<50\")>=4,\"راسب\"))))","v":""},"",null,null,null,"","",""]
[41,{"$f":"'[1]التلاميذ والقيود '!B43","v":2554},{"$f":"INDEX('[1]التلاميذ والقيود '!C43,1,1)","v":"مريم ماجد رحمه"},null,null,null,null,null,null,null,null,"",{"$f":"IFERROR(IF(L46=100,\"مائة درجة\",B_Only(L46,1,1,2,\"\",\"\",\"\")),\"\")","v":""},{"$f":"IF(D46:K46=\"\",\"\",IF(COUNTIF(D46:K46,\"غ\")+COUNTIF(D46:K46,\"<50\")=0,\"ناجح\",IF(COUNTIF(D46:K46,\"غ\")+COUNTIF(D46:K46,\"<50\")<=3,\"مكمل\",IF(COUNTIF(D46:K46,\"غ\")+COUNTIF(D46:K46,\"<50\")>=4,\"راسب\"))))","v":""},"",null,null,null,"","",""]
[42,{"$f":"'[1]التلاميذ والقيود '!B44","v":2524},{"$f":"INDEX('[1]التلاميذ والقيود '!C44,1,1)","v":"معصومه جواد كاظم"},null,null,null,null,null,null,null,null,"",{"$f":"IFERROR(IF(L47=100,\"مائة درجة\",B_Only(L47,1,1,2,\"\",\"\",\"\")),\"\")","v":""},{"$f":"IF(D47:K47=\"\",\"\",IF(COUNTIF(D47:K47,\"غ\")+COUNTIF(D47:K47,\"<50\")=0,\"ناجح\",IF(COUNTIF(D47:K47,\"غ\")+COUNTIF(D47:K47,\"<50\")<=3,\"مكمل\",IF(COUNTIF(D47:K47,\"غ\")+COUNTIF(D47:K47,\"<50\")>=4,\"راسب\"))))","v":""},"",null,null,null,"","",""]
[43,{"$f":"'[1]التلاميذ والقيود '!B45","v":2372},{"$f":"INDEX('[1]التلاميذ والقيود '!C45,1,1)","v":"ملاك حبيب شمخي"},null,null,null,null,null,null,null,null,"",{"$f":"IFERROR(IF(L48=100,\"مائة درجة\",B_Only(L48,1,1,2,\"\",\"\",\"\")),\"\")","v":""},{"$f":"IF(D48:K48=\"\",\"\",IF(COUNTIF(D48:K48,\"غ\")+COUNTIF(D48:K48,\"<50\")=0,\"ناجح\",IF(COUNTIF(D48:K48,\"غ\")+COUNTIF(D48:K48,\"<50\")<=3,\"مكمل\",IF(COUNTIF(D48:K48,\"غ\")+COUNTIF(D48:K48,\"<50\")>=4,\"راسب\"))))","v":""},"",null,null,null,"","",""]
[44,{"$f":"'[1]التلاميذ والقيود '!B46","v":2535},{"$f":"INDEX('[1]التلاميذ والقيود '!C46,1,1)","v":"ميار حمزة مزهر"},null,null,null,null,null,null,null,null,"",{"$f":"IFERROR(IF(L49=100,\"مائة درجة\",B_Only(L49,1,1,2,\"\",\"\",\"\")),\"\")","v":""},{"$f":"IF(D49:K49=\"\",\"\",IF(COUNTIF(D49:K49,\"غ\")+COUNTIF(D49:K49,\"<50\")=0,\"ناجح\",IF(COUNTIF(D49:K49,\"غ\")+COUNTIF(D49:K49,\"<50\")<=3,\"مكمل\",IF(COUNTIF(D49:K49,\"غ\")+COUNTIF(D49:K49,\"<50\")>=4,\"راسب\"))))","v":""},"",null,null,null,"","",""]
[45,{"$f":"'[1]التلاميذ والقيود '!B47","v":2584},{"$f":"INDEX('[1]التلاميذ والقيود '!C47,1,1)","v":"نبأ احمد عبد الحسين"},null,null,null,null,null,null,null,null,"",{"$f":"IFERROR(IF(L50=100,\"مائة درجة\",B_Only(L50,1,1,2,\"\",\"\",\"\")),\"\")","v":""},{"$f":"IF(D50:K50=\"\",\"\",IF(COUNTIF(D50:K50,\"غ\")+COUNTIF(D50:K50,\"<50\")=0,\"ناجح\",IF(COUNTIF(D50:K50,\"غ\")+COUNTIF(D50:K50,\"<50\")<=3,\"مكمل\",IF(COUNTIF(D50:K50,\"غ\")+COUNTIF(D50:K50,\"<50\")>=4,\"راسب\"))))","v":""},"",null,null,null,"","",""]
[46,{"$f":"'[1]التلاميذ والقيود '!B48","v":2897},{"$f":"INDEX('[1]التلاميذ والقيود '!C48,1,1)","v":"هديل يوسف"},null,null,null,null,null,null,null,null,"",{"$f":"IFERROR(IF(L51=100,\"مائة درجة\",B_Only(L51,1,1,2,\"\",\"\",\"\")),\"\")","v":""},{"$f":"IF(D51:K51=\"\",\"\",IF(COUNTIF(D51:K51,\"غ\")+COUNTIF(D51:K51,\"<50\")=0,\"ناجح\",IF(COUNTIF(D51:K51,\"غ\")+COUNTIF(D51:K51,\"<50\")<=3,\"مكمل\",IF(COUNTIF(D51:K51,\"غ\")+COUNTIF(D51:K51,\"<50\")>=4,\"راسب\"))))","v":""},"",null,null,null,"","",""]
[47,{"$f":"'[1]التلاميذ والقيود '!B49","v":0},{"$f":"INDEX('[1]التلاميذ والقيود '!C49,1,1)","v":0},null,null,null,null,null,null,null,null,"",{"$f":"IFERROR(IF(L52=100,\"مائة درجة\",B_Only(L52,1,1,2,\"\",\"\",\"\")),\"\")","v":""},{"$f":"IF(D52:K52=\"\",\"\",IF(COUNTIF(D52:K52,\"غ\")+COUNTIF(D52:K52,\"<50\")=0,\"ناجح\",IF(COUNTIF(D52:K52,\"غ\")+COUNTIF(D52:K52,\"<50\")<=3,\"مكمل\",IF(COUNTIF(D52:K52,\"غ\")+COUNTIF(D52:K52,\"<50\")>=4,\"راسب\"))))","v":""},"",null,null,null,"","",""]
[48,{"$f":"'[1]التلاميذ والقيود '!B50","v":0},{"$f":"INDEX('[1]التلاميذ والقيود '!C50,1,1)","v":0},null,null,null,null,null,null,null,null,"",{"$f":"IFERROR(IF(L53=100,\"مائة درجة\",B_Only(L53,1,1,2,\"\",\"\",\"\")),\"\")","v":""},{"$f":"IF(D53:K53=\"\",\"\",IF(COUNTIF(D53:K53,\"غ\")+COUNTIF(D53:K53,\"<50\")=0,\"ناجح\",IF(COUNTIF(D53:K53,\"غ\")+COUNTIF(D53:K53,\"<50\")<=3,\"مكمل\",IF(COUNTIF(D53:K53,\"غ\")+COUNTIF(D53:K53,\"<50\")>=4,\"راسب\"))))","v":""},"",null,null,null,"","",""]
[49,{"$f":"'[1]التلاميذ والقيود '!B51","v":0},{"$f":"INDEX('[1]التلاميذ والقيود '!C51,1,1)","v":0},null,null,null,null,null,null,null,null,"",{"$f":"IFERROR(IF(L54=100,\"مائة درجة\",B_Only(L54,1,1,2,\"\",\"\",\"\")),\"\")","v":""},{"$f":"IF(D54:K54=\"\",\"\",IF(COUNTIF(D54:K54,\"غ\")+COUNTIF(D54:K54,\"<50\")=0,\"ناجح\",IF(COUNTIF(D54:K54,\"غ\")+COUNTIF(D54:K54,\"<50\")<=3,\"مكمل\",IF(COUNTIF(D54:K54,\"غ\")+COUNTIF(D54:K54,\"<50\")>=4,\"راسب\"))))","v":""},"",null,null,null,"","",""]
[50,{"$f":"'[1]التلاميذ والقيود '!B52","v":0},{"$f":"INDEX('[1]التلاميذ والقيود '!C52,1,1)","v":0},null,null,null,null,null,null,null,null,"",{"$f":"IFERROR(IF(L55=100,\"مائة درجة\",B_Only(L55,1,1,2,\"\",\"\",\"\")),\"\")","v":""},{"$f":"IF(D55:K55=\"\",\"\",IF(COUNTIF(D55:K55,\"غ\")+COUNTIF(D55:K55,\"<50\")=0,\"ناجح\",IF(COUNTIF(D55:K55,\"غ\")+COUNTIF(D55:K55,\"<50\")<=3,\"مكمل\",IF(COUNTIF(D55:K55,\"غ\")+COUNTIF(D55:K55,\"<50\")>=4,\"راسب\"))))","v":""},"",null,null,null,"","",""]
[]
[null,"المشتركون"]
[null,"الناجحون",null,{"$f":"COUNTIF(T6:T55,\"=2\")","v":2}]
[null,"المكملون",null,{"$f":"COUNTIF(S6:S55,\"=1\")","v":4}]
[null,"الراسبون",null,{"$f":"COUNTIF(U6:U55,\"=3\")","v":2}]
[null,"النسبة المئوية"]
[null,"الغائبون"]
[null,"الممتحنون"]

{"sheet":"نهاية السنة دور ثاني خامس أ","index":1,"n_rows":62,"n_cols":21,"rows_kept":62,"cut":false,"hidden":false,"merged":[[3,11,3,12],[0,0,0,2],[0,14,0,15],[1,0,1,2],[1,14,1,15],[2,0,2,16],[56,1,56,2],[56,3,56,10],[57,1,57,2],[57,3,57,10],[58,1,58,2],[58,3,58,10],[59,1,59,2],[59,3,59,10],[60,1,60,2],[60,3,60,10],[61,1,61,2],[61,3,61,10]]}
["أدارة مدرسة المناذرة",null,null,null,null,null,null,null,null,null,null,null,null,null,"الصف",null,"الخامس أ"]
["   الابتدائية للبنات",null,null,null,null,null,null,null,null,null,null,null,null,null,"الدور",null,"الثاني"]
["للعام الدراسي 2019 - 2020"]
[null,null,null,null,null,null,null,null,null,null,null,"المجموع"]
["ت","رقم القيد","اسم التلميذ","التربية الإسلامية","اللغة العربية","اللغة الإنكليزية","الرياضيات","العلوم","الاجتماعيات","التربية الفنية","التربية الرياضية","رقما","كتابة","النتيجة","الملاحظات",null,null,"احد التفقيط اختر اي منها",null,"الناجحون","الراسبون"]
[1,{"$f":"'[1]التلاميذ والقيود '!B3","v":2787},{"$f":"'[1]التلاميذ والقيود '!C3","v":"آمنه حسين علوان"},77,89,75,75,2,50,50,50,{"$f":"IF(OR(N6=\"ناجح\",N6=\"راسب\"),SUM(D6:K6),\"\")","v":468},{"$f":"IFERROR(IF(L6=100,\"مائة درجة\",B_Only(L6,1,1,2,\"\",\"\",\"\")),\"\")","v":""},{"$f":"IF(D6:K6=\"\",\"\",IF(COUNTIF(D6:K6,\"غ\")+COUNTIF(D6:K6,\"<50\")=0,\"ناجح\",IF(COUNTIF(D6:K6,\"غ\")+COUNTIF(D6:K6,\"<50\")>=1,\"راسب\")))","v":"راسب"},null,null,null,{"$f":"IFERROR(IF(K6=\"\",\"\",IF(K6=0,\"صفر\",n2t(K6))),\"\")","v":""},null,{"$f":"IF(N6=\"ناجح\",2,\"\")","v":""},{"$f":"IF(N6=\"راسب\",3,\"\")","v":3}]
[2,{"$f":"'[1]التلاميذ والقيود '!B4","v":2373},{"$f":"'[1]التلاميذ والقيود '!C4","v":"آمنه قاسم ثجيل"},66,77,82,55,55,22,44,55,{"$f":"IF(OR(N7=\"ناجح\",N7=\"راسب\"),SUM(D7:K7),\"\")","v":456},{"$f":"IFERROR(IF(L7=100,\"مائة درجة\",B_Only(L7,1,1,2,\"\",\"\",\"\")),\"\")","v":""},{"$f":"IF(D7:K7=\"\",\"\",IF(COUNTIF(D7:K7,\"غ\")+COUNTIF(D7:K7,\"<50\")=0,\"ناجح\",IF(COUNTIF(D7:K7,\"غ\")+COUNTIF(D7:K7,\"<50\")>=1,\"راسب\")))","v":"راسب"},null,null,null,{"$f":"IFERROR(IF(K7=\"\",\"\",IF(K7=0,\"صفر\",n2t(K7))),\"\")","v":""},null,{"$f":"IF(N7=\"ناجح\",2,\"\")","v":""},{"$f":"IF(N7=\"راسب\",3,\"\")","v":3}]
[3,{"$f":"'[1]التلاميذ والقيود '!B5","v":2430},{"$f":"'[1]التلاميذ والقيود '!C5","v":"ايمان محمد مجبل"},99,100,55,63,78,54,33,99,581,{"$f":"IFERROR(IF(L8=100,\"مائة درجة\",B_Only(L8,1,1,2,\"\",\"\",\"\")),\"\")","v":""},{"$f":"IF(D8:K8=\"\",\"\",IF(COUNTIF(D8:K8,\"غ\")+COUNTIF(D8:K8,\"<50\")=0,\"ناجح\",IF(COUNTIF(D8:K8,\"غ\")+COUNTIF(D8:K8,\"<50\")>=1,\"راسب\")))","v":"راسب"},null,null,null,{"$f":"IFERROR(IF(K8=\"\",\"\",IF(K8=0,\"صفر\",n2t(K8))),\"\")","v":""},null,"",3]
[4,{"$f":"'[1]التلاميذ والقيود '!B6","v":2348},{"$f":"'[1]التلاميذ والقيود '!C6","v":"آيه احمد جبار"},88,99,57,65,66,51,88,91,605,{"$f":"IFERROR(IF(L9=100,\"مائة درجة\",B_Only(L9,1,1,2,\"\",\"\",\"\")),\"\")","v":""},{"$f":"IF(D9:K9=\"\",\"\",IF(COUNTIF(D9:K9,\"غ\")+COUNTIF(D9:K9,\"<50\")=0,\"ناجح\",IF(COUNTIF(D9:K9,\"غ\")+COUNTIF(D9:K9,\"<50\")>=1,\"راسب\")))","v":"ناجح"},null,null,null,{"$f":"IFERROR(IF(K9=\"\",\"\",IF(K9=0,\"صفر\",n2t(K9))),\"\")","v":""},null,2,""]
[5,{"$f":"'[1]التلاميذ والقيود '!B7","v":2539},{"$f":"'[1]التلاميذ والقيود '!C7","v":"آيه حسين حسن"},77,98,"غ","غ",54,48,77,83,437,{"$f":"IFERROR(IF(L10=100,\"مائة درجة\",B_Only(L10,1,1,2,\"\",\"\",\"\")),\"\")","v":""},{"$f":"IF(D10:K10=\"\",\"\",IF(COUNTIF(D10:K10,\"غ\")+COUNTIF(D10:K10,\"<50\")=0,\"ناجح\",IF(COUNTIF(D10:K10,\"غ\")+COUNTIF(D10:K10,\"<50\")>=1,\"راسب\")))","v":"راسب"},null,null,null,{"$f":"IFERROR(IF(K10=\"\",\"\",IF(K10=0,\"صفر\",n2t(K10))),\"\")","v":""},null,"",3]
[6,{"$f":"'[1]التلاميذ والقيود '!B8","v":2561},{"$f":"'[1]التلاميذ والقيود '!C8","v":"آيه علي كاظم"},"غ",50,50,69,55,77,66,50,417,{"$f":"IFERROR(IF(L11=100,\"مائة درجة\",B_Only(L11,1,1,2,\"\",\"\",\"\")),\"\")","v":""},{"$f":"IF(D11:K11=\"\",\"\",IF(COUNTIF(D11:K11,\"غ\")+COUNTIF(D11:K11,\"<50\")=0,\"ناجح\",IF(COUNTIF(D11:K11,\"غ\")+COUNTIF(D11:K11,\"<50\")>=1,\"راسب\")))","v":"راسب"},null,null,null,{"$f":"IFERROR(IF(K11=\"\",\"\",IF(K11=0,\"صفر\",n2t(K11))),\"\")","v":""},null,"",3]
[7,{"$f":"'[1]التلاميذ والقيود '!B9","v":2417},{"$f":"'[1]التلاميذ والقيود '!C9","v":"براء سليم مجيد"},55,96,"غ",71,30,42,55,67,416,{"$f":"IFERROR(IF(L12=100,\"مائة درجة\",B_Only(L12,1,1,2,\"\",\"\",\"\")),\"\")","v":""},{"$f":"IF(D12:K12=\"\",\"\",IF(COUNTIF(D12:K12,\"غ\")+COUNTIF(D12:K12,\"<50\")=0,\"ناجح\",IF(COUNTIF(D12:K12,\"غ\")+COUNTIF(D12:K12,\"<50\")>=1,\"راسب\")))","v":"راسب"},null,null,null,{"$f":"IFERROR(IF(K12=\"\",\"\",IF(K12=0,\"صفر\",n2t(K12))),\"\")","v":""},null,"",3]
[8,{"$f":"'[1]التلاميذ والقيود '!B10","v":2445},{"$f":"'[1]التلاميذ والقيود '!C10","v":"بنين احمد أسعد"},44,95,65,73,18,39,44,59,437,{"$f":"IFERROR(IF(L13=100,\"مائة درجة\",B_Only(L13,1,1,2,\"\",\"\",\"\")),\"\")","v":""},{"$f":"IF(D13:K13=\"\",\"\",IF(COUNTIF(D13:K13,\"غ\")+COUNTIF(D13:K13,\"<50\")=0,\"ناجح\",IF(COUNTIF(D13:K13,\"غ\")+COUNTIF(D13:K13,\"<50\")>=1,\"راسب\")))","v":"راسب"},null,null,null,{"$f":"IFERROR(IF(K13=\"\",\"\",IF(K13=0,\"صفر\",n2t(K13))),\"\")","v":""},null,"",3]
[9,{"$f":"'[1]التلاميذ والقيود '!B11","v":2501},{"$f":"'[1]التلاميذ والقيود '!C11","v":"بنين خضير عباس"},null,null,null,null,null,null,null,null,"",{"$f":"IFERROR(IF(L14=100,\"مائة درجة\",B_Only(L14,1,1,2,\"\",\"\",\"\")),\"\")","v":""},{"$f":"IF(D14:K14=\"\",\"\",IF(COUNTIF(D14:K14,\"غ\")+COUNTIF(D14:K14,\"<50\")=0,\"ناجح\",IF(COUNTIF(D14:K14,\"غ\")+COUNTIF(D14:K14,\"<50\")>=1,\"راسب\")))","v":""},null,null,null,null,null,"",""]
[10,{"$f":"'[1]التلاميذ والقيود '!B12","v":2502},{"$f":"'[1]التلاميذ والقيود '!C12","v":"بنين عامر كاظم"},null,null,null,null,null,null,null,null,"",{"$f":"IFERROR(IF(L15=100,\"مائة درجة\",B_Only(L15,1,1,2,\"\",\"\",\"\")),\"\")","v":""},{"$f":"IF(D15:K15=\"\",\"\",IF(COUNTIF(D15:K15,\"غ\")+COUNTIF(D15:K15,\"<50\")=0,\"ناجح\",IF(COUNTIF(D15:K15,\"غ\")+COUNTIF(D15:K15,\"<50\")>=1,\"راسب\")))","v":""},null,null,null,null,null,"",""]
[11,{"$f":"'[1]التلاميذ والقيود '!B13","v":2610},{"$f":"'[1]التلاميذ والقيود '!C13","v":"جمانه حسين جبار"},null,null,null,null,null,null,null,null,"",{"$f":"IFERROR(IF(L16=100,\"مائة درجة\",B_Only(L16,1,1,2,\"\",\"\",\"\")),\"\")","v":""},{"$f":"IF(D16:K16=\"\",\"\",IF(COUNTIF(D16:K16,\"غ\")+COUNTIF(D16:K16,\"<50\")=0,\"ناجح\",IF(COUNTIF(D16:K16,\"غ\")+COUNTIF(D16:K16,\"<50\")>=1,\"راسب\")))","v":""},null,null,null,null,null,"",""]
[12,{"$f":"'[1]التلاميذ والقيود '!B14","v":2517},{"$f":"'[1]التلاميذ والقيود '!C14","v":"جنه زهير قاسم"},null,null,null,null,null,null,null,null,"",{"$f":"IFERROR(IF(L17=100,\"مائة درجة\",B_Only(L17,1,1,2,\"\",\"\",\"\")),\"\")","v":""},{"$f":"IF(D17:K17=\"\",\"\",IF(COUNTIF(D17:K17,\"غ\")+COUNTIF(D17:K17,\"<50\")=0,\"ناجح\",IF(COUNTIF(D17:K17,\"غ\")+COUNTIF(D17:K17,\"<50\")>=1,\"راسب\")))","v":""},null,null,null,null,null,"",""]
[13,{"$f":"'[1]التلاميذ والقيود '!B15","v":2479},{"$f":"'[1]التلاميذ والقيود '!C15","v":"حوراء رزاق درك"},null,null,null,null,null,null,null,null,"",{"$f":"IFERROR(IF(L18=100,\"مائة درجة\",B_Only(L18,1,1,2,\"\",\"\",\"\")),\"\")","v":""},{"$f":"IF(D18:K18=\"\",\"\",IF(COUNTIF(D18:K18,\"غ\")+COUNTIF(D18:K18,\"<50\")=0,\"ناجح\",IF(COUNTIF(D18:K18,\"غ\")+COUNTIF(D18:K18,\"<50\")>=1,\"راسب\")))","v":""},null,null,null,null,null,"",""]
[14,{"$f":"'[1]التلاميذ والقيود '!B16","v":2559},{"$f":"'[1]التلاميذ والقيود '!C16","v":"حوراء عادل مطشر"},null,null,null,null,null,null,null,null,"",{"$f":"IFERROR(IF(L19=100,\"مائة درجة\",B_Only(L19,1,1,2,\"\",\"\",\"\")),\"\")","v":""},{"$f":"IF(D19:K19=\"\",\"\",IF(COUNTIF(D19:K19,\"غ\")+COUNTIF(D19:K19,\"<50\")=0,\"ناجح\",IF(COUNTIF(D19:K19,\"غ\")+COUNTIF(D19:K19,\"<50\")>=1,\"راسب\")))","v":""},null,null,null,null,null,"",""]
[15,{"$f":"'[1]التلاميذ والقيود '!B17","v":2799},{"$f":"'[1]التلاميذ والقيود '!C17","v":"رتاج علي ناصر حيدر"},null,null,null,null,null,null,null,null,"",{"$f":"IFERROR(IF(L20=100,\"مائة درجة\",B_Only(L20,1,1,2,\"\",\"\",\"\")),\"\")","v":""},{"$f":"IF(D20:K20=\"\",\"\",IF(COUNTIF(D20:K20,\"غ\")+COUNTIF(D20:K20,\"<50\")=0,\"ناجح\",IF(COUNTIF(D20:K20,\"غ\")+COUNTIF(D20:K20,\"<50\")>=1,\"راسب\")))","v":""},null,null,null,null,null,"",""]
[16,{"$f":"'[1]التلاميذ والقيود '!B18","v":2590},{"$f":"'[1]التلاميذ والقيود '!C18","v":"رحمه عباس زغير"},null,null,null,null,null,null,null,null,"",{"$f":"IFERROR(IF(L21=100,\"مائة درجة\",B_Only(L21,1,1,2,\"\",\"\",\"\")),\"\")","v":""},{"$f":"IF(D21:K21=\"\",\"\",IF(COUNTIF(D21:K21,\"غ\")+COUNTIF(D21:K21,\"<50\")=0,\"ناجح\",IF(COUNTIF(D21:K21,\"غ\")+COUNTIF(D21:K21,\"<50\")>=1,\"راسب\")))","v":""},null,null,null,null,null,"",""]
[17,{"$f":"'[1]التلاميذ والقيود '!B19","v":2421},{"$f":"'[1]التلاميذ والقيود '!C19","v":"رقيه رعد سعد"},null,null,null,null,null,null,null,null,"",{"$f":"IFERROR(IF(L22=100,\"مائة درجة\",B_Only(L22,1,1,2,\"\",\"\",\"\")),\"\")","v":""},{"$f":"IF(D22:K22=\"\",\"\",IF(COUNTIF(D22:K22,\"غ\")+COUNTIF(D22:K22,\"<50\")=0,\"ناجح\",IF(COUNTIF(D22:K22,\"غ\")+COUNTIF(D22:K22,\"<50\")>=1,\"راسب\")))","v":""},null,null,null,null,null,"",""]
[18,{"$f":"'[1]التلاميذ والقيود '!B20","v":2440},{"$f":"'[1]التلاميذ والقيود '!C20","v":"رقيه علي مزهر"},null,null,null,null,null,null,null,null,"",{"$f":"IFERROR(IF(L23=100,\"مائة درجة\",B_Only(L23,1,1,2,\"\",\"\",\"\")),\"\")","v":""},{"$f":"IF(D23:K23=\"\",\"\",IF(COUNTIF(D23:K23,\"غ\")+COUNTIF(D23:K23,\"<50\")=0,\"ناجح\",IF(COUNTIF(D23:K23,\"غ\")+COUNTIF(D23:K23,\"<50\")>=1,\"راسب\")))","v":""},null,null,null,null,null,"",""]
[19,{"$f":"'[1]التلاميذ والقيود '!B21","v":2513},{"$f":"'[1]التلاميذ والقيود '!C21","v":"رقيه محمد كاظم"},null,null,null,null,null,null,null,null,"",{"$f":"IFERROR(IF(L24=100,\"مائة درجة\",B_Only(L24,1,1,2,\"\",\"\",\"\")),\"\")","v":""},{"$f":"IF(D24:K24=\"\",\"\",IF(COUNTIF(D24:K24,\"غ\")+COUNTIF(D24:K24,\"<50\")=0,\"ناجح\",IF(COUNTIF(D24:K24,\"غ\")+COUNTIF(D24:K24,\"<50\")>=1,\"راسب\")))","v":""},null,null,null,null,null,"",""]
[20,{"$f":"'[1]التلاميذ والقيود '!B22","v":2580},{"$f":"'[1]التلاميذ والقيود '!C22","v":"روان احمد قاسم"},null,null,null,null,null,null,null,null,"",{"$f":"IFERROR(IF(L25=100,\"مائة درجة\",B_Only(L25,1,1,2,\"\",\"\",\"\")),\"\")","v":""},{"$f":"IF(D25:K25=\"\",\"\",IF(COUNTIF(D25:K25,\"غ\")+COUNTIF(D25:K25,\"<50\")=0,\"ناجح\",IF(COUNTIF(D25:K25,\"غ\")+COUNTIF(D25:K25,\"<50\")>=1,\"راسب\")))","v":""},null,null,null,null,null,"",""]
[21,{"$f":"'[1]التلاميذ والقيود '!B23","v":2585},{"$f":"'[1]التلاميذ والقيود '!C23","v":"روان استبرق جمعه"},null,null,null,null,null,null,null,null,"",{"$f":"IFERROR(IF(L26=100,\"مائة درجة\",B_Only(L26,1,1,2,\"\",\"\",\"\")),\"\")","v":""},{"$f":"IF(D26:K26=\"\",\"\",IF(COUNTIF(D26:K26,\"غ\")+COUNTIF(D26:K26,\"<50\")=0,\"ناجح\",IF(COUNTIF(D26:K26,\"غ\")+COUNTIF(D26:K26,\"<50\")>=1,\"راسب\")))","v":""},null,null,null,null,null,"",""]
[22,{"$f":"'[1]التلاميذ والقيود '!B24","v":2583},{"$f":"'[1]التلاميذ والقيود '!C24","v":"ريتا احمد فاخر"},null,null,null,null,null,null,null,null,"",{"$f":"IFERROR(IF(L27=100,\"مائة درجة\",B_Only(L27,1,1,2,\"\",\"\",\"\")),\"\")","v":""},{"$f":"IF(D27:K27=\"\",\"\",IF(COUNTIF(D27:K27,\"غ\")+COUNTIF(D27:K27,\"<50\")=0,\"ناجح\",IF(COUNTIF(D27:K27,\"غ\")+COUNTIF(D27:K27,\"<50\")>=1,\"راسب\")))","v":""},null,null,null,null,null,"",""]
[23,{"$f":"'[1]التلاميذ والقيود '!B25","v":2134},{"$f":"'[1]التلاميذ والقيود '!C25","v":"زهراء احمد محمود"},null,null,null,null,null,null,null,null,"",{"$f":"IFERROR(IF(L28=100,\"مائة درجة\",B_Only(L28,1,1,2,\"\",\"\",\"\")),\"\")","v":""},{"$f":"IF(D28:K28=\"\",\"\",IF(COUNTIF(D28:K28,\"غ\")+COUNTIF(D28:K28,\"<50\")=0,\"ناجح\",IF(COUNTIF(D28:K28,\"غ\")+COUNTIF(D28:K28,\"<50\")>=1,\"راسب\")))","v":""},null,null,null,null,null,"",""]
[24,{"$f":"'[1]التلاميذ والقيود '!B26","v":2189},{"$f":"'[1]التلاميذ والقيود '!C26","v":"زهراء حيدر لفته"},null,null,null,null,null,null,null,null,"",{"$f":"IFERROR(IF(L29=100,\"مائة درجة\",B_Only(L29,1,1,2,\"\",\"\",\"\")),\"\")","v":""},{"$f":"IF(D29:K29=\"\",\"\",IF(COUNTIF(D29:K29,\"غ\")+COUNTIF(D29:K29,\"<50\")=0,\"ناجح\",IF(COUNTIF(D29:K29,\"غ\")+COUNTIF(D29:K29,\"<50\")>=1,\"راسب\")))","v":""},null,null,null,null,null,"",""]
[25,{"$f":"'[1]التلاميذ والقيود '!B27","v":2427},{"$f":"'[1]التلاميذ والقيود '!C27","v":"زهراء صادق عباس"},null,null,null,null,null,null,null,null,"",{"$f":"IFERROR(IF(L30=100,\"مائة درجة\",B_Only(L30,1,1,2,\"\",\"\",\"\")),\"\")","v":""},{"$f":"IF(D30:K30=\"\",\"\",IF(COUNTIF(D30:K30,\"غ\")+COUNTIF(D30:K30,\"<50\")=0,\"ناجح\",IF(COUNTIF(D30:K30,\"غ\")+COUNTIF(D30:K30,\"<50\")>=1,\"راسب\")))","v":""},null,null,null,null,null,"",""]
[26,{"$f":"'[1]التلاميذ والقيود '!B28","v":2569},{"$f":"'[1]التلاميذ والقيود '!C28","v":"زهراء عباس جبر"},null,null,null,null,null,null,null,null,"",{"$f":"IFERROR(IF(L31=100,\"مائة درجة\",B_Only(L31,1,1,2,\"\",\"\",\"\")),\"\")","v":""},{"$f":"IF(D31:K31=\"\",\"\",IF(COUNTIF(D31:K31,\"غ\")+COUNTIF(D31:K31,\"<50\")=0,\"ناجح\",IF(COUNTIF(D31:K31,\"غ\")+COUNTIF(D31:K31,\"<50\")>=1,\"راسب\")))","v":""},null,null,null,null,null,"",""]
[27,{"$f":"'[1]التلاميذ والقيود '!B29","v":2557},{"$f":"'[1]التلاميذ والقيود '!C29","v":"زهراء علي زامل"},null,null,null,null,null,null,null,null,"",{"$f":"IFERROR(IF(L32=100,\"مائة درجة\",B_Only(L32,1,1,2,\"\",\"\",\"\")),\"\")","v":""},{"$f":"IF(D32:K32=\"\",\"\",IF(COUNTIF(D32:K32,\"غ\")+COUNTIF(D32:K32,\"<50\")=0,\"ناجح\",IF(COUNTIF(D32:K32,\"غ\")+COUNTIF(D32:K32,\"<50\")>=1,\"راسب\")))","v":""},null,null,null,null,null,"",""]
[28,{"$f":"'[1]التلاميذ والقيود '!B30","v":2275},{"$f":"'[1]التلاميذ والقيود '!C30","v":"زينب رزاق درك"},null,null,null,null,null,null,null,null,"",{"$f":"IFERROR(IF(L33=100,\"مائة درجة\",B_Only(L33,1,1,2,\"\",\"\",\"\")),\"\")","v":""},{"$f":"IF(D33:K33=\"\",\"\",IF(COUNTIF(D33:K33,\"غ\")+COUNTIF(D33:K33,\"<50\")=0,\"ناجح\",IF(COUNTIF(D33:K33,\"غ\")+COUNTIF(D33:K33,\"<50\")>=1,\"راسب\")))","v":""},null,null,null,null,null,"",""]
[29,{"$f":"'[1]التلاميذ والقيود '!B31","v":2592},{"$f":"'[1]التلاميذ والقيود '!C31","v":"زينب مشتاق ابراهيم"},null,null,null,null,null,null,null,null,"",{"$f":"IFERROR(IF(L34=100,\"مائة درجة\",B_Only(L34,1,1,2,\"\",\"\",\"\")),\"\")","v":""},{"$f":"IF(D34:K34=\"\",\"\",IF(COUNTIF(D34:K34,\"غ\")+COUNTIF(D34:K34,\"<50\")=0,\"ناجح\",IF(COUNTIF(D34:K34,\"غ\")+COUNTIF(D34:K34,\"<50\")>=1,\"راسب\")))","v":""},null,null,null,null,null,"",""]
[30,{"$f":"'[1]التلاميذ والقيود '!B32","v":2522},{"$f":"'[1]التلاميذ والقيود '!C32","v":"شهد فراس كاظم"},null,null,null,null,null,null,null,null,"",{"$f":"IFERROR(IF(L35=100,\"مائة درجة\",B_Only(L35,1,1,2,\"\",\"\",\"\")),\"\")","v":""},{"$f":"IF(D35:K35=\"\",\"\",IF(COUNTIF(D35:K35,\"غ\")+COUNTIF(D35:K35,\"<50\")=0,\"ناجح\",IF(COUNTIF(D35:K35,\"غ\")+COUNTIF(D35:K35,\"<50\")>=1,\"راسب\")))","v":""},null,null,null,null,null,"",""]
[31,{"$f":"'[1]التلاميذ والقيود '!B33","v":2570},{"$f":"'[1]التلاميذ والقيود '!C33","v":"غدير عادل ثجيل"},null,null,null,null,null,null,null,null,"",{"$f":"IFERROR(IF(L36=100,\"مائة درجة\",B_Only(L36,1,1,2,\"\",\"\",\"\")),\"\")","v":""},{"$f":"IF(D36:K36=\"\",\"\",IF(COUNTIF(D36:K36,\"غ\")+COUNTIF(D36:K36,\"<50\")=0,\"ناجح\",IF(COUNTIF(D36:K36,\"غ\")+COUNTIF(D36:K36,\"<50\")>=1,\"راسب\")))","v":""},null,null,null,null,null,"",""]
[32,{"$f":"'[1]التلاميذ والقيود '!B34","v":2567},{"$f":"'[1]التلاميذ والقيود '!C34","v":"غدير عصام حسن"},null,null,null,null,null,null,null,null,"",{"$f":"IFERROR(IF(L37=100,\"مائة درجة\",B_Only(L37,1,1,2,\"\",\"\",\"\")),\"\")","v":""},{"$f":"IF(D37:K37=\"\",\"\",IF(COUNTIF(D37:K37,\"غ\")+COUNTIF(D37:K37,\"<50\")=0,\"ناجح\",IF(COUNTIF(D37:K37,\"غ\")+COUNTIF(D37:K37,\"<50\")>=1,\"راسب\")))","v":""},null,null,null,null,null,"",""]
[33,{"$f":"'[1]التلاميذ والقيود '!B35","v":2308},{"$f":"'[1]التلاميذ والقيود '!C35","v":"فاطمه خضير دعبول"},null,null,null,null,null,null,null,null,"",{"$f":"IFERROR(IF(L38=100,\"مائة درجة\",B_Only(L38,1,1,2,\"\",\"\",\"\")),\"\")","v":""},{"$f":"IF(D38:K38=\"\",\"\",IF(COUNTIF(D38:K38,\"غ\")+COUNTIF(D38:K38,\"<50\")=0,\"ناجح\",IF(COUNTIF(D38:K38,\"غ\")+COUNTIF(D38:K38,\"<50\")>=1,\"راسب\")))","v":""},null,null,null,null,null,"",""]
[34,{"$f":"'[1]التلاميذ والقيود '!B36","v":2252},{"$f":"'[1]التلاميذ والقيود '!C36","v":"فاطمه علي خشم"},null,null,null,null,null,null,null,null,"",{"$f":"IFERROR(IF(L39=100,\"مائة درجة\",B_Only(L39,1,1,2,\"\",\"\",\"\")),\"\")","v":""},{"$f":"IF(D39:K39=\"\",\"\",IF(COUNTIF(D39:K39,\"غ\")+COUNTIF(D39:K39,\"<50\")=0,\"ناجح\",IF(COUNTIF(D39:K39,\"غ\")+COUNTIF(D39:K39,\"<50\")>=1,\"راسب\")))","v":""},null,null,null,null,null,"",""]
[35,{"$f":"'[1]التلاميذ والقيود '!B37","v":2687},{"$f":"'[1]التلاميذ والقيود '!C37","v":"فاطمه ماجد عبد الحسين"},null,null,null,null,null,null,null,null,"",{"$f":"IFERROR(IF(L40=100,\"مائة درجة\",B_Only(L40,1,1,2,\"\",\"\",\"\")),\"\")","v":""},{"$f":"IF(D40:K40=\"\",\"\",IF(COUNTIF(D40:K40,\"غ\")+COUNTIF(D40:K40,\"<50\")=0,\"ناجح\",IF(COUNTIF(D40:K40,\"غ\")+COUNTIF(D40:K40,\"<50\")>=1,\"راسب\")))","v":""},null,null,null,null,null,"",""]
[36,{"$f":"'[1]التلاميذ والقيود '!B38","v":2562},{"$f":"'[1]التلاميذ والقيود '!C38","v":"فاطمه هادي كاظم"},null,null,null,null,null,null,null,null,"",{"$f":"IFERROR(IF(L41=100,\"مائة درجة\",B_Only(L41,1,1,2,\"\",\"\",\"\")),\"\")","v":""},{"$f":"IF(D41:K41=\"\",\"\",IF(COUNTIF(D41:K41,\"غ\")+COUNTIF(D41:K41,\"<50\")=0,\"ناجح\",IF(COUNTIF(D41:K41,\"غ\")+COUNTIF(D41:K41,\"<50\")>=1,\"راسب\")))","v":""},null,null,null,null,null,"",""]
[37,{"$f":"'[1]التلاميذ والقيود '!B39","v":2589},{"$f":"'[1]التلاميذ والقيود '!C39","v":"فرح عباس زغير"},null,null,null,null,null,null,null,null,"",{"$f":"IFERROR(IF(L42=100,\"مائة درجة\",B_Only(L42,1,1,2,\"\",\"\",\"\")),\"\")","v":""},{"$f":"IF(D42:K42=\"\",\"\",IF(COUNTIF(D42:K42,\"غ\")+COUNTIF(D42:K42,\"<50\")=0,\"ناجح\",IF(COUNTIF(D42:K42,\"غ\")+COUNTIF(D42:K42,\"<50\")>=1,\"راسب\")))","v":""},null,null,null,null,null,"",""]
[38,{"$f":"'[1]التلاميذ والقيود '!B40","v":2523},{"$f":"'[1]التلاميذ والقيود '!C40","v":"لجين حسين علي"},null,null,null,null,null,null,null,null,"",{"$f":"IFERROR(IF(L43=100,\"مائة درجة\",B_Only(L43,1,1,2,\"\",\"\",\"\")),\"\")","v":""},{"$f":"IF(D43:K43=\"\",\"\",IF(COUNTIF(D43:K43,\"غ\")+COUNTIF(D43:K43,\"<50\")=0,\"ناجح\",IF(COUNTIF(D43:K43,\"غ\")+COUNTIF(D43:K43,\"<50\")>=1,\"راسب\")))","v":""},null,null,null,null,null,"",""]
[39,{"$f":"'[1]التلاميذ والقيود '!B41","v":2545},{"$f":"'[1]التلاميذ والقيود '!C41","v":"ليسينيا ميثم فاضل"},null,null,null,null,null,null,null,null,"",{"$f":"IFERROR(IF(L44=100,\"مائة درجة\",B_Only(L44,1,1,2,\"\",\"\",\"\")),\"\")","v":""},{"$f":"IF(D44:K44=\"\",\"\",IF(COUNTIF(D44:K44,\"غ\")+COUNTIF(D44:K44,\"<50\")=0,\"ناجح\",IF(COUNTIF(D44:K44,\"غ\")+COUNTIF(D44:K44,\"<50\")>=1,\"راسب\")))","v":""},null,null,null,null,null,"",""]
[40,{"$f":"'[1]التلاميذ والقيود '!B42","v":2549},{"$f":"'[1]التلاميذ والقيود '!C42","v":"مريم عقيل حنون"},null,null,null,null,null,null,null,null,"",{"$f":"IFERROR(IF(L45=100,\"مائة درجة\",B_Only(L45,1,1,2,\"\",\"\",\"\")),\"\")","v":""},{"$f":"IF(D45:K45=\"\",\"\",IF(COUNTIF(D45:K45,\"غ\")+COUNTIF(D45:K45,\"<50\")=0,\"ناجح\",IF(COUNTIF(D45:K45,\"غ\")+COUNTIF(D45:K45,\"<50\")>=1,\"راسب\")))","v":""},null,null,null,null,null,"",""]
[41,{"$f":"'[1]التلاميذ والقيود '!B43","v":2554},{"$f":"'[1]التلاميذ والقيود '!C43","v":"مريم ماجد رحمه"},null,null,null,null,null,null,null,null,"",{"$f":"IFERROR(IF(L46=100,\"مائة درجة\",B_Only(L46,1,1,2,\"\",\"\",\"\")),\"\")","v":""},{"$f":"IF(D46:K46=\"\",\"\",IF(COUNTIF(D46:K46,\"غ\")+COUNTIF(D46:K46,\"<50\")=0,\"ناجح\",IF(COUNTIF(D46:K46,\"غ\")+COUNTIF(D46:K46,\"<50\")>=1,\"راسب\")))","v":""},null,null,null,null,null,"",""]
[42,{"$f":"'[1]التلاميذ والقيود '!B44","v":2524},{"$f":"'[1]التلاميذ والقيود '!C44","v":"معصومه جواد كاظم"},null,null,null,null,null,null,null,null,"",{"$f":"IFERROR(IF(L47=100,\"مائة درجة\",B_Only(L47,1,1,2,\"\",\"\",\"\")),\"\")","v":""},{"$f":"IF(D47:K47=\"\",\"\",IF(COUNTIF(D47:K47,\"غ\")+COUNTIF(D47:K47,\"<50\")=0,\"ناجح\",IF(COUNTIF(D47:K47,\"غ\")+COUNTIF(D47:K47,\"<50\")>=1,\"راسب\")))","v":""},null,null,null,null,null,"",""]
[43,{"$f":"'[1]التلاميذ والقيود '!B45","v":2372},{"$f":"'[1]التلاميذ والقيود '!C45","v":"ملاك حبيب شمخي"},null,null,null,null,null,null,null,null,"",{"$f":"IFERROR(IF(L48=100,\"مائة درجة\",B_Only(L48,1,1,2,\"\",\"\",\"\")),\"\")","v":""},{"$f":"IF(D48:K48=\"\",\"\",IF(COUNTIF(D48:K48,\"غ\")+COUNTIF(D48:K48,\"<50\")=0,\"ناجح\",IF(COUNTIF(D48:K48,\"غ\")+COUNTIF(D48:K48,\"<50\")>=1,\"راسب\")))","v":""},null,null,null,null,null,"",""]
[44,{"$f":"'[1]التلاميذ والقيود '!B46","v":2535},{"$f":"'[1]التلاميذ والقيود '!C46","v":"ميار حمزة مزهر"},null,null,null,null,null,null,null,null,"",{"$f":"IFERROR(IF(L49=100,\"مائة درجة\",B_Only(L49,1,1,2,\"\",\"\",\"\")),\"\")","v":""},{"$f":"IF(D49:K49=\"\",\"\",IF(COUNTIF(D49:K49,\"غ\")+COUNTIF(D49:K49,\"<50\")=0,\"ناجح\",IF(COUNTIF(D49:K49,\"غ\")+COUNTIF(D49:K49,\"<50\")>=1,\"راسب\")))","v":""},null,null,null,null,null,"",""]
[45,{"$f":"'[1]التلاميذ والقيود '!B47","v":2584},{"$f":"'[1]التلاميذ والقيود '!C47","v":"نبأ احمد عبد الحسين"},null,null,null,null,null,null,null,null,"",{"$f":"IFERROR(IF(L50=100,\"مائة درجة\",B_Only(L50,1,1,2,\"\",\"\",\"\")),\"\")","v":""},{"$f":"IF(D50:K50=\"\",\"\",IF(COUNTIF(D50:K50,\"غ\")+COUNTIF(D50:K50,\"<50\")=0,\"ناجح\",IF(COUNTIF(D50:K50,\"غ\")+COUNTIF(D50:K50,\"<50\")>=1,\"راسب\")))","v":""},null,null,null,null,null,"",""]
[46,{"$f":"'[1]التلاميذ والقيود '!B48","v":2897},{"$f":"'[1]التلاميذ والقيود '!C48","v":"هديل يوسف"},null,null,null,null,null,null,null,null,"",{"$f":"IFERROR(IF(L51=100,\"مائة درجة\",B_Only(L51,1,1,2,\"\",\"\",\"\")),\"\")","v":""},{"$f":"IF(D51:K51=\"\",\"\",IF(COUNTIF(D51:K51,\"غ\")+COUNTIF(D51:K51,\"<50\")=0,\"ناجح\",IF(COUNTIF(D51:K51,\"غ\")+COUNTIF(D51:K51,\"<50\")>=1,\"راسب\")))","v":""},null,null,null,null,null,"",""]
[47,{"$f":"'[1]التلاميذ والقيود '!B49","v":0},{"$f":"'[1]التلاميذ والقيود '!C49","v":0},null,null,null,null,null,null,null,null,"",{"$f":"IFERROR(IF(L52=100,\"مائة درجة\",B_Only(L52,1,1,2,\"\",\"\",\"\")),\"\")","v":""},{"$f":"IF(D52:K52=\"\",\"\",IF(COUNTIF(D52:K52,\"غ\")+COUNTIF(D52:K52,\"<50\")=0,\"ناجح\",IF(COUNTIF(D52:K52,\"غ\")+COUNTIF(D52:K52,\"<50\")>=1,\"راسب\")))","v":""},null,null,null,null,null,"",""]
[48,{"$f":"'[1]التلاميذ والقيود '!B50","v":0},{"$f":"'[1]التلاميذ والقيود '!C50","v":0},null,null,null,null,null,null,null,null,"",{"$f":"IFERROR(IF(L53=100,\"مائة درجة\",B_Only(L53,1,1,2,\"\",\"\",\"\")),\"\")","v":""},{"$f":"IF(D53:K53=\"\",\"\",IF(COUNTIF(D53:K53,\"غ\")+COUNTIF(D53:K53,\"<50\")=0,\"ناجح\",IF(COUNTIF(D53:K53,\"غ\")+COUNTIF(D53:K53,\"<50\")>=1,\"راسب\")))","v":""},null,null,null,null,null,"",""]
[49,{"$f":"'[1]التلاميذ والقيود '!B51","v":0},{"$f":"'[1]التلاميذ والقيود '!C51","v":0},null,null,null,null,null,null,null,null,"",{"$f":"IFERROR(IF(L54=100,\"مائة درجة\",B_Only(L54,1,1,2,\"\",\"\",\"\")),\"\")","v":""},{"$f":"IF(D54:K54=\"\",\"\",IF(COUNTIF(D54:K54,\"غ\")+COUNTIF(D54:K54,\"<50\")=0,\"ناجح\",IF(COUNTIF(D54:K54,\"غ\")+COUNTIF(D54:K54,\"<50\")>=1,\"راسب\")))","v":""},null,null,null,null,null,"",""]
[50,{"$f":"'[1]التلاميذ والقيود '!B52","v":0},{"$f":"'[1]التلاميذ والقيود '!C52","v":0},null,null,null,null,null,null,null,null,"",{"$f":"IFERROR(IF(L55=100,\"مائة درجة\",B_Only(L55,1,1,2,\"\",\"\",\"\")),\"\")","v":""},{"$f":"IF(D55:K55=\"\",\"\",IF(COUNTIF(D55:K55,\"غ\")+COUNTIF(D55:K55,\"<50\")=0,\"ناجح\",IF(COUNTIF(D55:K55,\"غ\")+COUNTIF(D55:K55,\"<50\")>=1,\"راسب\")))","v":""},null,null,null,null,null,"",""]
[]
[null,"المشتركون"]
[null,"الناجحون",null,{"$f":"COUNTIF(T6:T55,\"=2\")","v":1}]
[null,"الراسبون",null,{"$f":"COUNTIF(U5:U54,\"=3\")","v":7}]
[null,"النسبة المئوية"]
[null,"الغائبون"]
[null,"الممتحنون"]

{"sheet":"التلاميذ والقيود ","index":2,"n_rows":52,"n_cols":7,"rows_kept":52,"cut":false,"hidden":false,"merged":[]}
["الخامس أ",null,null,null,"الخامس ب"]
["ت","رقم القيد","اسم التلميذ",null,"ت","رقم القيد","اسم التلميذ"]
[{"$f":"IF(C3<>\"\",1,\"\")","v":1},2787,"آمنه حسين علوان",null,{"$f":"IF(G3<>\"\",1,\"\")","v":1},2438,"الاء سعد محمد"]
[{"$f":"IF(C4<>\"\",A3+1,\"\")","v":2},2373,"آمنه قاسم ثجيل",null,{"$f":"IF(G4<>\"\",E3+1,\"\")","v":2},2889,"اسينات علي حسين"]
[{"$f":"IF(C5<>\"\",A4+1,\"\")","v":3},2430,"ايمان محمد مجبل",null,{"$f":"IF(G5<>\"\",E4+1,\"\")","v":3},2565,"ايه مصطفى خير الله"]
[4,2348,"آيه احمد جبار",null,4,2521,"جنات عادل فاضل"]
[5,2539,"آيه حسين حسن",null,5,2515,"جنه علي خلف"]
[6,2561,"آيه علي كاظم",null,6,2534,"حوراء ضياء هادي"]
[7,2417,"براء سليم مجيد",null,7,2538,"دينا حسين علي"]
[8,2445,"بنين احمد أسعد",null,8,2403,"راويه رعد حميد"]
[9,2501,"بنين خضير عباس",null,9,2505,"رباب احمد كريم"]
[10,2502,"بنين عامر كاظم",null,10,2165,"رقيه حيدر عبد الكريم"]
[11,2610,"جمانه حسين جبار",null,11,2576,"رقيه علي جعفر"]
[12,2517,"جنه زهير قاسم",null,12,2568,"رقيه علي طاهر"]
[13,2479,"حوراء رزاق درك",null,13,2544,"رند ناصر محسن"]
[14,2559,"حوراء عادل مطشر",null,14,2462,"ريتاج حسين علوان"]
[15,2799,"رتاج علي ناصر حيدر",null,15,2510,"زهراء جواد عبد الكاظم"]
[16,2590,"رحمه عباس زغير",null,16,2504,"زهراء ستار جبار"]
[17,2421,"رقيه رعد سعد",null,17,2578,"زهراء عبد الحسين كريم"]
[18,2440,"رقيه علي مزهر",null,18,2508,"زهراء علي حميد"]
[19,2513,"رقيه محمد كاظم",null,19,2537,"زينب رعد حميد"]
[20,2580,"روان احمد قاسم",null,20,2342,"زينب عباس سعيد"]
[21,2585,"روان استبرق جمعه",null,21,2470,"زينب عبد الله ناصر"]
[22,2583,"ريتا احمد فاخر",null,22,2332,"زينب علي جعفر"]
[23,2134,"زهراء احمد محمود",null,23,2898,"زينب محمد جمعه"]
[24,2189,"زهراء حيدر لفته",null,24,2698,"سبأ محسن عبد الله"]
[25,2427,"زهراء صادق عباس",null,25,2542,"شهد سيف علي"]
[26,2569,"زهراء عباس جبر",null,26,2399,"فاطمة عمار جاسم"]
[27,2557,"زهراء علي زامل",null,27,2543,"فاطمه احمد كريم"]
[28,2275,"زينب رزاق درك",null,28,2520,"فاطمه امير خلاف"]
[29,2592,"زينب مشتاق ابراهيم",null,29,2805,"فاطمه رسول حسين كاظم"]
[30,2522,"شهد فراس كاظم",null,30,2548,"فاطمه علي جاسم"]
[31,2570,"غدير عادل ثجيل",null,31,2533,"فاطمه مصطفى سالم"]
[32,2567,"غدير عصام حسن",null,32,2518,"فرح حيدر عيدان"]
[33,2308,"فاطمه خضير دعبول",null,33,2478,"فرح عقيل مجيد"]
[34,2252,"فاطمه علي خشم",null,34,2804,"مرام رعد محسن عبيد"]
[35,2687,"فاطمه ماجد عبد الحسين",null,35,2461,"مريم احمد عبد الرزاق"]
[36,2562,"فاطمه هادي كاظم",null,36,2572,"مريم علي جاسم"]
[37,2589,"فرح عباس زغير",null,37,2401,"معصومه حيدر جاسم"]
[38,2523,"لجين حسين علي",null,38,2693,"ملكوت علي جاسب"]
[39,2545,"ليسينيا ميثم فاضل",null,39,2525,"منى عباس محسن "]
[40,2549,"مريم عقيل حنون",null,40,2532,"نادين طه هاشم"]
[41,2554,"مريم ماجد رحمه",null,41,2434,"نرجس محمد محسن"]
[42,2524,"معصومه جواد كاظم",null,42,2355,"نور الهدى محمد مجبل"]
[43,2372,"ملاك حبيب شمخي",null,43,1931,"هند علي ياسين"]
[44,2535,"ميار حمزة مزهر",null,44,2531,"يقين حسين علي"]
[45,2584,"نبأ احمد عبد الحسين",null,""]
[46,2897,"هديل يوسف",null,""]
["",null,null,null,""]
["",null,null,null,""]
["",null,null,null,""]
["",null,null,null,""]

{"sheet":"نهاية السنة دور اول خامس ب","index":3,"n_rows":63,"n_cols":23,"rows_kept":63,"cut":false,"hidden":false,"merged":[[3,11,3,12],[0,0,0,2],[0,14,0,15],[1,0,1,2],[1,14,1,15],[2,0,2,16],[56,1,56,2],[56,3,56,10],[57,1,57,2],[57,3,57,10],[58,1,58,2],[58,3,58,10],[62,1,62,2],[62,3,62,10],[59,1,59,2],[59,3,59,10],[60,1,60,2],[60,3,60,10],[61,1,61,2],[61,3,61,10]]}
["أدارة مدرسة المناذرة",null,null,null,null,null,null,null,null,null,null,null,null,null,"الصف",null,"الخامس ب"]
["   الابتدائية للبنات",null,null,null,null,null,null,null,null,null,null,null,null,null,"الدور",null,"الأول"]
["للعام الدراسي 2019 - 2020"]
[null,null,null,null,null,null,null,null,null,null,null,"المجموع",null,"النتيجة"]
["ت","رقم القيد","اسم التلميذ","التربية الإسلامية","اللغة العربية","اللغة الإنكليزية","الرياضيات","العلوم","الاجتماعيات","التربية الفنية","التربية الرياضية","رقما","كتابة","النتيجة","الدروس التي اكمل فيها",null,null,null,"المكملون","الناجحون","الراسبون",null,"الدروس التي رسب فيها"]
[1,{"$f":"'[1]التلاميذ والقيود '!F3","v":2438},{"$f":"'[1]التلاميذ والقيود '!G3","v":"الاء سعد محمد"},88,90,70,70,80,90,100,50,{"$f":"IF(OR(N6=\"ناجح\",N6=\"راسب\"),SUM(D6:K6),\"\")","v":638},{"$f":"IFERROR(IF(L6=100,\"مائة درجة\",B_Only(L6,1,1,2,\"\",\"\",\"\")),\"\")","v":""},{"$f":"IF(D6:K6=\"\",\"\",IF(COUNTIF(D6:K6,\"غ\")+COUNTIF(D6:K6,\"<50\")=0,\"ناجح\",IF(COUNTIF(D6:K6,\"غ\")+COUNTIF(D6:K6,\"<50\")<=3,\"مكمل\",IF(COUNTIF(D6:K6,\"غ\")+COUNTIF(D6:K6,\"<50\")>=4,\"راسب\"))))","v":"ناجح"},{"$f":"IF(N6=\"\",\"\",IF(OR(D6<50,D6=\"غ\"),D$5,\"\")&\" \"&IF(OR(E6<50,E6=\"غ\"),E$5,\"\")&\" \"&IF(OR(F6<50,F6=\"غ\"),F$5,\"\")&\" \"&IF(OR(G6<50,G6=\"غ\"),G$5,\" \")&\" \"&IF(OR(H6<50,H6=\"غ\"),H$5,\"\")&\" \"&IF(OR(I6<50,I6=\"غ\"),I$5,\"\")&\" \"&IF(OR(J6<50,J6=\"غ\"),J$5,\"\")&\" \"&IF(OR(K6<50,K6=\"غ\"),K$5,\"\"))","v":"        "},null,null,null,{"$f":"IF(N6=\"مكمل\",1,\"\")","v":""},{"$f":"IF(N6=\"ناجح\",2,\"\")","v":2},{"$f":"IF(N6=\"راسب\",3,\"\")","v":""}]
[2,{"$f":"'[1]التلاميذ والقيود '!F4","v":2889},{"$f":"'[1]التلاميذ والقيود '!G4","v":"اسينات علي حسين"},10,3,3,4,6,5,10,10,{"$f":"IF(OR(N7=\"ناجح\",N7=\"راسب\"),SUM(D7:K7),\"\")","v":51},{"$f":"IFERROR(IF(L7=100,\"مائة درجة\",B_Only(L7,1,1,2,\"\",\"\",\"\")),\"\")","v":""},{"$f":"IF(D7:K7=\"\",\"\",IF(COUNTIF(D7:K7,\"غ\")+COUNTIF(D7:K7,\"<50\")=0,\"ناجح\",IF(COUNTIF(D7:K7,\"غ\")+COUNTIF(D7:K7,\"<50\")<=3,\"مكمل\",IF(COUNTIF(D7:K7,\"غ\")+COUNTIF(D7:K7,\"<50\")>=4,\"راسب\"))))","v":"راسب"},{"$f":"IF(N7=\"\",\"\",IF(OR(D7<50,D7=\"غ\"),D$5,\"\")&\" \"&IF(OR(E7<50,E7=\"غ\"),E$5,\"\")&\" \"&IF(OR(F7<50,F7=\"غ\"),F$5,\"\")&\" \"&IF(OR(G7<50,G7=\"غ\"),G$5,\" \")&\" \"&IF(OR(H7<50,H7=\"غ\"),H$5,\"\")&\" \"&IF(OR(I7<50,I7=\"غ\"),I$5,\"\")&\" \"&IF(OR(J7<50,J7=\"غ\"),J$5,\"\")&\" \"&IF(OR(K7<50,K7=\"غ\"),K$5,\"\"))","v":"التربية الإسلامية اللغة العربية اللغة الإنكليزية الرياضيات العلوم الاجتماعيات التربية الفنية التربية الرياضية"},null,null,null,{"$f":"IF(N7=\"مكمل\",1,\"\")","v":""},{"$f":"IF(N7=\"ناجح\",2,\"\")","v":""},{"$f":"IF(N7=\"راسب\",3,\"\")","v":3}]
[3,{"$f":"'[1]التلاميذ والقيود '!F5","v":2565},{"$f":"'[1]التلاميذ والقيود '!G5","v":"ايه مصطفى خير الله"},10,5,5,2,5,null,1,10,38,{"$f":"IFERROR(IF(L8=100,\"مائة درجة\",B_Only(L8,1,1,2,\"\",\"\",\"\")),\"\")","v":""},{"$f":"IF(D8:K8=\"\",\"\",IF(COUNTIF(D8:K8,\"غ\")+COUNTIF(D8:K8,\"<50\")=0,\"ناجح\",IF(COUNTIF(D8:K8,\"غ\")+COUNTIF(D8:K8,\"<50\")<=3,\"مكمل\",IF(COUNTIF(D8:K8,\"غ\")+COUNTIF(D8:K8,\"<50\")>=4,\"راسب\"))))","v":"راسب"},"التربية الإسلامية اللغة العربية اللغة الإنكليزية الرياضيات العلوم الاجتماعيات التربية الفنية التربية الرياضية",null,null,null,"","",3]
[4,{"$f":"'[1]التلاميذ والقيود '!F6","v":2521},{"$f":"'[1]التلاميذ والقيود '!G6","v":"جنات عادل فاضل"},50,55,55,50,50,50,50,55,415,{"$f":"IFERROR(IF(L9=100,\"مائة درجة\",B_Only(L9,1,1,2,\"\",\"\",\"\")),\"\")","v":""},{"$f":"IF(D9:K9=\"\",\"\",IF(COUNTIF(D9:K9,\"غ\")+COUNTIF(D9:K9,\"<50\")=0,\"ناجح\",IF(COUNTIF(D9:K9,\"غ\")+COUNTIF(D9:K9,\"<50\")<=3,\"مكمل\",IF(COUNTIF(D9:K9,\"غ\")+COUNTIF(D9:K9,\"<50\")>=4,\"راسب\"))))","v":"ناجح"},{"$f":"IF(N9=\"\",\"\",IF(OR(D9<50,D9=\"غ\"),D$5,\"\")&\" \"&IF(OR(E9<50,E9=\"غ\"),E$5,\"\")&\" \"&IF(OR(F9<50,F9=\"غ\"),F$5,\"\")&\" \"&IF(OR(G9<50,G9=\"غ\"),G$5,\" \")&\" \"&IF(OR(H9<50,H9=\"غ\"),H$5,\"\")&\" \"&IF(OR(I9<50,I9=\"غ\"),I$5,\"\")&\" \"&IF(OR(J9<50,J9=\"غ\"),J$5,\"\")&\" \"&IF(OR(K9<50,K9=\"غ\"),K$5,\"\"))","v":"        "},null,null,null,"",2,""]
[5,{"$f":"'[1]التلاميذ والقيود '!F7","v":2515},{"$f":"'[1]التلاميذ والقيود '!G7","v":"جنه علي خلف"},10,null,null,null,null,null,3,4,"",{"$f":"IFERROR(IF(L10=100,\"مائة درجة\",B_Only(L10,1,1,2,\"\",\"\",\"\")),\"\")","v":""},{"$f":"IF(D10:K10=\"\",\"\",IF(COUNTIF(D10:K10,\"غ\")+COUNTIF(D10:K10,\"<50\")=0,\"ناجح\",IF(COUNTIF(D10:K10,\"غ\")+COUNTIF(D10:K10,\"<50\")<=3,\"مكمل\",IF(COUNTIF(D10:K10,\"غ\")+COUNTIF(D10:K10,\"<50\")>=4,\"راسب\"))))","v":"مكمل"},{"$f":"IF(N10=\"\",\"\",IF(OR(D10<50,D10=\"غ\"),D$5,\"\")&\" \"&IF(OR(E10<50,E10=\"غ\"),E$5,\"\")&\" \"&IF(OR(F10<50,F10=\"غ\"),F$5,\"\")&\" \"&IF(OR(G10<50,G10=\"غ\"),G$5,\" \")&\" \"&IF(OR(H10<50,H10=\"غ\"),H$5,\"\")&\" \"&IF(OR(I10<50,I10=\"غ\"),I$5,\"\")&\" \"&IF(OR(J10<50,J10=\"غ\"),J$5,\"\")&\" \"&IF(OR(K10<50,K10=\"غ\"),K$5,\"\"))","v":"التربية الإسلامية اللغة العربية اللغة الإنكليزية الرياضيات العلوم الاجتماعيات التربية الفنية التربية الرياضية"},null,null,null,1,"",""]
[6,{"$f":"'[1]التلاميذ والقيود '!F8","v":2534},{"$f":"'[1]التلاميذ والقيود '!G8","v":"حوراء ضياء هادي"},10,null,null,null,5,null,2,50,"",{"$f":"IFERROR(IF(L11=100,\"مائة درجة\",B_Only(L11,1,1,2,\"\",\"\",\"\")),\"\")","v":""},{"$f":"IF(D11:K11=\"\",\"\",IF(COUNTIF(D11:K11,\"غ\")+COUNTIF(D11:K11,\"<50\")=0,\"ناجح\",IF(COUNTIF(D11:K11,\"غ\")+COUNTIF(D11:K11,\"<50\")<=3,\"مكمل\",IF(COUNTIF(D11:K11,\"غ\")+COUNTIF(D11:K11,\"<50\")>=4,\"راسب\"))))","v":"مكمل"},"التربية الإسلامية اللغة العربية اللغة الإنكليزية الرياضيات العلوم الاجتماعيات التربية الفنية ",null,null,null,1,"",""]
[7,{"$f":"'[1]التلاميذ والقيود '!F9","v":2538},{"$f":"'[1]التلاميذ والقيود '!G9","v":"دينا حسين علي"},10,null,null,null,null,null,null,null,"",{"$f":"IFERROR(IF(L12=100,\"مائة درجة\",B_Only(L12,1,1,2,\"\",\"\",\"\")),\"\")","v":""},{"$f":"IF(D12:K12=\"\",\"\",IF(COUNTIF(D12:K12,\"غ\")+COUNTIF(D12:K12,\"<50\")=0,\"ناجح\",IF(COUNTIF(D12:K12,\"غ\")+COUNTIF(D12:K12,\"<50\")<=3,\"مكمل\",IF(COUNTIF(D12:K12,\"غ\")+COUNTIF(D12:K12,\"<50\")>=4,\"راسب\"))))","v":"مكمل"},"التربية الإسلامية اللغة العربية اللغة الإنكليزية الرياضيات العلوم الاجتماعيات التربية الفنية التربية الرياضية",null,null,null,1,"",""]
[8,{"$f":"'[1]التلاميذ والقيود '!F10","v":2403},{"$f":"'[1]التلاميذ والقيود '!G10","v":"راويه رعد حميد"},10,null,null,null,null,null,null,null,"",{"$f":"IFERROR(IF(L13=100,\"مائة درجة\",B_Only(L13,1,1,2,\"\",\"\",\"\")),\"\")","v":""},{"$f":"IF(D13:K13=\"\",\"\",IF(COUNTIF(D13:K13,\"غ\")+COUNTIF(D13:K13,\"<50\")=0,\"ناجح\",IF(COUNTIF(D13:K13,\"غ\")+COUNTIF(D13:K13,\"<50\")<=3,\"مكمل\",IF(COUNTIF(D13:K13,\"غ\")+COUNTIF(D13:K13,\"<50\")>=4,\"راسب\"))))","v":"مكمل"},"التربية الإسلامية اللغة العربية اللغة الإنكليزية الرياضيات العلوم الاجتماعيات التربية الفنية التربية الرياضية",null,null,null,1,"",""]
[9,{"$f":"'[1]التلاميذ والقيود '!F11","v":2505},{"$f":"'[1]التلاميذ والقيود '!G11","v":"رباب احمد كريم"},null,null,null,null,null,null,null,null,"",{"$f":"IFERROR(IF(L14=100,\"مائة درجة\",B_Only(L14,1,1,2,\"\",\"\",\"\")),\"\")","v":""},{"$f":"IF(D14:K14=\"\",\"\",IF(COUNTIF(D14:K14,\"غ\")+COUNTIF(D14:K14,\"<50\")=0,\"ناجح\",IF(COUNTIF(D14:K14,\"غ\")+COUNTIF(D14:K14,\"<50\")<=3,\"مكمل\",IF(COUNTIF(D14:K14,\"غ\")+COUNTIF(D14:K14,\"<50\")>=4,\"راسب\"))))","v":""},"",null,null,null,"","",""]
[10,{"$f":"'[1]التلاميذ والقيود '!F12","v":2165},{"$f":"'[1]التلاميذ والقيود '!G12","v":"رقيه حيدر عبد الكريم"},null,null,null,null,null,null,null,null,"",{"$f":"IFERROR(IF(L15=100,\"مائة درجة\",B_Only(L15,1,1,2,\"\",\"\",\"\")),\"\")","v":""},{"$f":"IF(D15:K15=\"\",\"\",IF(COUNTIF(D15:K15,\"غ\")+COUNTIF(D15:K15,\"<50\")=0,\"ناجح\",IF(COUNTIF(D15:K15,\"غ\")+COUNTIF(D15:K15,\"<50\")<=3,\"مكمل\",IF(COUNTIF(D15:K15,\"غ\")+COUNTIF(D15:K15,\"<50\")>=4,\"راسب\"))))","v":""},"",null,null,null,"","",""]
[11,{"$f":"'[1]التلاميذ والقيود '!F13","v":2576},{"$f":"'[1]التلاميذ والقيود '!G13","v":"رقيه علي جعفر"},null,null,null,null,null,null,null,null,"",{"$f":"IFERROR(IF(L16=100,\"مائة درجة\",B_Only(L16,1,1,2,\"\",\"\",\"\")),\"\")","v":""},{"$f":"IF(D16:K16=\"\",\"\",IF(COUNTIF(D16:K16,\"غ\")+COUNTIF(D16:K16,\"<50\")=0,\"ناجح\",IF(COUNTIF(D16:K16,\"غ\")+COUNTIF(D16:K16,\"<50\")<=3,\"مكمل\",IF(COUNTIF(D16:K16,\"غ\")+COUNTIF(D16:K16,\"<50\")>=4,\"راسب\"))))","v":""},"",null,null,null,"","",""]
[12,{"$f":"'[1]التلاميذ والقيود '!F14","v":2568},{"$f":"'[1]التلاميذ والقيود '!G14","v":"رقيه علي طاهر"},null,null,null,null,null,null,null,null,"",{"$f":"IFERROR(IF(L17=100,\"مائة درجة\",B_Only(L17,1,1,2,\"\",\"\",\"\")),\"\")","v":""},{"$f":"IF(D17:K17=\"\",\"\",IF(COUNTIF(D17:K17,\"غ\")+COUNTIF(D17:K17,\"<50\")=0,\"ناجح\",IF(COUNTIF(D17:K17,\"غ\")+COUNTIF(D17:K17,\"<50\")<=3,\"مكمل\",IF(COUNTIF(D17:K17,\"غ\")+COUNTIF(D17:K17,\"<50\")>=4,\"راسب\"))))","v":""},"",null,null,null,"","",""]
[13,{"$f":"'[1]التلاميذ والقيود '!F15","v":2544},{"$f":"'[1]التلاميذ والقيود '!G15","v":"رند ناصر محسن"},null,null,null,null,null,null,null,null,"",{"$f":"IFERROR(IF(L18=100,\"مائة درجة\",B_Only(L18,1,1,2,\"\",\"\",\"\")),\"\")","v":""},{"$f":"IF(D18:K18=\"\",\"\",IF(COUNTIF(D18:K18,\"غ\")+COUNTIF(D18:K18,\"<50\")=0,\"ناجح\",IF(COUNTIF(D18:K18,\"غ\")+COUNTIF(D18:K18,\"<50\")<=3,\"مكمل\",IF(COUNTIF(D18:K18,\"غ\")+COUNTIF(D18:K18,\"<50\")>=4,\"راسب\"))))","v":""},"",null,null,null,"","",""]
[14,{"$f":"'[1]التلاميذ والقيود '!F16","v":2462},{"$f":"'[1]التلاميذ والقيود '!G16","v":"ريتاج حسين علوان"},null,null,null,null,null,null,null,null,"",{"$f":"IFERROR(IF(L19=100,\"مائة درجة\",B_Only(L19,1,1,2,\"\",\"\",\"\")),\"\")","v":""},{"$f":"IF(D19:K19=\"\",\"\",IF(COUNTIF(D19:K19,\"غ\")+COUNTIF(D19:K19,\"<50\")=0,\"ناجح\",IF(COUNTIF(D19:K19,\"غ\")+COUNTIF(D19:K19,\"<50\")<=3,\"مكمل\",IF(COUNTIF(D19:K19,\"غ\")+COUNTIF(D19:K19,\"<50\")>=4,\"راسب\"))))","v":""},"",null,null,null,"","",""]
[15,{"$f":"'[1]التلاميذ والقيود '!F17","v":2510},{"$f":"'[1]التلاميذ والقيود '!G17","v":"زهراء جواد عبد الكاظم"},null,null,null,null,null,null,null,null,"",{"$f":"IFERROR(IF(L20=100,\"مائة درجة\",B_Only(L20,1,1,2,\"\",\"\",\"\")),\"\")","v":""},{"$f":"IF(D20:K20=\"\",\"\",IF(COUNTIF(D20:K20,\"غ\")+COUNTIF(D20:K20,\"<50\")=0,\"ناجح\",IF(COUNTIF(D20:K20,\"غ\")+COUNTIF(D20:K20,\"<50\")<=3,\"مكمل\",IF(COUNTIF(D20:K20,\"غ\")+COUNTIF(D20:K20,\"<50\")>=4,\"راسب\"))))","v":""},"",null,null,null,"","",""]
[16,{"$f":"'[1]التلاميذ والقيود '!F18","v":2504},{"$f":"'[1]التلاميذ والقيود '!G18","v":"زهراء ستار جبار"},null,null,null,null,null,null,null,null,"",{"$f":"IFERROR(IF(L21=100,\"مائة درجة\",B_Only(L21,1,1,2,\"\",\"\",\"\")),\"\")","v":""},{"$f":"IF(D21:K21=\"\",\"\",IF(COUNTIF(D21:K21,\"غ\")+COUNTIF(D21:K21,\"<50\")=0,\"ناجح\",IF(COUNTIF(D21:K21,\"غ\")+COUNTIF(D21:K21,\"<50\")<=3,\"مكمل\",IF(COUNTIF(D21:K21,\"غ\")+COUNTIF(D21:K21,\"<50\")>=4,\"راسب\"))))","v":""},"",null,null,null,"","",""]
[17,{"$f":"'[1]التلاميذ والقيود '!F19","v":2578},{"$f":"'[1]التلاميذ والقيود '!G19","v":"زهراء عبد الحسين كريم"},null,null,null,null,null,null,null,null,"",{"$f":"IFERROR(IF(L22=100,\"مائة درجة\",B_Only(L22,1,1,2,\"\",\"\",\"\")),\"\")","v":""},{"$f":"IF(D22:K22=\"\",\"\",IF(COUNTIF(D22:K22,\"غ\")+COUNTIF(D22:K22,\"<50\")=0,\"ناجح\",IF(COUNTIF(D22:K22,\"غ\")+COUNTIF(D22:K22,\"<50\")<=3,\"مكمل\",IF(COUNTIF(D22:K22,\"غ\")+COUNTIF(D22:K22,\"<50\")>=4,\"راسب\"))))","v":""},"",null,null,null,"","",""]
[18,{"$f":"'[1]التلاميذ والقيود '!F20","v":2508},{"$f":"'[1]التلاميذ والقيود '!G20","v":"زهراء علي حميد"},null,null,null,null,null,null,null,null,"",{"$f":"IFERROR(IF(L23=100,\"مائة درجة\",B_Only(L23,1,1,2,\"\",\"\",\"\")),\"\")","v":""},{"$f":"IF(D23:K23=\"\",\"\",IF(COUNTIF(D23:K23,\"غ\")+COUNTIF(D23:K23,\"<50\")=0,\"ناجح\",IF(COUNTIF(D23:K23,\"غ\")+COUNTIF(D23:K23,\"<50\")<=3,\"مكمل\",IF(COUNTIF(D23:K23,\"غ\")+COUNTIF(D23:K23,\"<50\")>=4,\"راسب\"))))","v":""},"",null,null,null,"","",""]
[19,{"$f":"'[1]التلاميذ والقيود '!F21","v":2537},{"$f":"'[1]التلاميذ والقيود '!G21","v":"زينب رعد حميد"},null,null,null,null,null,null,null,null,"",{"$f":"IFERROR(IF(L24=100,\"مائة درجة\",B_Only(L24,1,1,2,\"\",\"\",\"\")),\"\")","v":""},{"$f":"IF(D24:K24=\"\",\"\",IF(COUNTIF(D24:K24,\"غ\")+COUNTIF(D24:K24,\"<50\")=0,\"ناجح\",IF(COUNTIF(D24:K24,\"غ\")+COUNTIF(D24:K24,\"<50\")<=3,\"مكمل\",IF(COUNTIF(D24:K24,\"غ\")+COUNTIF(D24:K24,\"<50\")>=4,\"راسب\"))))","v":""},"",null,null,null,"","",""]
[20,{"$f":"'[1]التلاميذ والقيود '!F22","v":2342},{"$f":"'[1]التلاميذ والقيود '!G22","v":"زينب عباس سعيد"},null,null,null,null,null,null,null,null,"",{"$f":"IFERROR(IF(L25=100,\"مائة درجة\",B_Only(L25,1,1,2,\"\",\"\",\"\")),\"\")","v":""},{"$f":"IF(D25:K25=\"\",\"\",IF(COUNTIF(D25:K25,\"غ\")+COUNTIF(D25:K25,\"<50\")=0,\"ناجح\",IF(COUNTIF(D25:K25,\"غ\")+COUNTIF(D25:K25,\"<50\")<=3,\"مكمل\",IF(COUNTIF(D25:K25,\"غ\")+COUNTIF(D25:K25,\"<50\")>=4,\"راسب\"))))","v":""},"",null,null,null,"","",""]
[21,{"$f":"'[1]التلاميذ والقيود '!F23","v":2470},{"$f":"'[1]التلاميذ والقيود '!G23","v":"زينب عبد الله ناصر"},null,null,null,null,null,null,null,null,"",{"$f":"IFERROR(IF(L26=100,\"مائة درجة\",B_Only(L26,1,1,2,\"\",\"\",\"\")),\"\")","v":""},{"$f":"IF(D26:K26=\"\",\"\",IF(COUNTIF(D26:K26,\"غ\")+COUNTIF(D26:K26,\"<50\")=0,\"ناجح\",IF(COUNTIF(D26:K26,\"غ\")+COUNTIF(D26:K26,\"<50\")<=3,\"مكمل\",IF(COUNTIF(D26:K26,\"غ\")+COUNTIF(D26:K26,\"<50\")>=4,\"راسب\"))))","v":""},"",null,null,null,"","",""]
[22,{"$f":"'[1]التلاميذ والقيود '!F24","v":2332},{"$f":"'[1]التلاميذ والقيود '!G24","v":"زينب علي جعفر"},null,null,null,null,null,null,null,null,"",{"$f":"IFERROR(IF(L27=100,\"مائة درجة\",B_Only(L27,1,1,2,\"\",\"\",\"\")),\"\")","v":""},{"$f":"IF(D27:K27=\"\",\"\",IF(COUNTIF(D27:K27,\"غ\")+COUNTIF(D27:K27,\"<50\")=0,\"ناجح\",IF(COUNTIF(D27:K27,\"غ\")+COUNTIF(D27:K27,\"<50\")<=3,\"مكمل\",IF(COUNTIF(D27:K27,\"غ\")+COUNTIF(D27:K27,\"<50\")>=4,\"راسب\"))))","v":""},"",null,null,null,"","",""]
[23,{"$f":"'[1]التلاميذ والقيود '!F25","v":2898},{"$f":"'[1]التلاميذ والقيود '!G25","v":"زينب محمد جمعه"},null,null,null,null,null,null,null,null,"",{"$f":"IFERROR(IF(L28=100,\"مائة درجة\",B_Only(L28,1,1,2,\"\",\"\",\"\")),\"\")","v":""},{"$f":"IF(D28:K28=\"\",\"\",IF(COUNTIF(D28:K28,\"غ\")+COUNTIF(D28:K28,\"<50\")=0,\"ناجح\",IF(COUNTIF(D28:K28,\"غ\")+COUNTIF(D28:K28,\"<50\")<=3,\"مكمل\",IF(COUNTIF(D28:K28,\"غ\")+COUNTIF(D28:K28,\"<50\")>=4,\"راسب\"))))","v":""},"",null,null,null,"","",""]
[24,{"$f":"'[1]التلاميذ والقيود '!F26","v":2698},{"$f":"'[1]التلاميذ والقيود '!G26","v":"سبأ محسن عبد الله"},null,null,null,null,null,null,null,null,"",{"$f":"IFERROR(IF(L29=100,\"مائة درجة\",B_Only(L29,1,1,2,\"\",\"\",\"\")),\"\")","v":""},{"$f":"IF(D29:K29=\"\",\"\",IF(COUNTIF(D29:K29,\"غ\")+COUNTIF(D29:K29,\"<50\")=0,\"ناجح\",IF(COUNTIF(D29:K29,\"غ\")+COUNTIF(D29:K29,\"<50\")<=3,\"مكمل\",IF(COUNTIF(D29:K29,\"غ\")+COUNTIF(D29:K29,\"<50\")>=4,\"راسب\"))))","v":""},"",null,null,null,"","",""]
[25,{"$f":"'[1]التلاميذ والقيود '!F27","v":2542},{"$f":"'[1]التلاميذ والقيود '!G27","v":"شهد سيف علي"},null,null,null,null,null,null,null,null,"",{"$f":"IFERROR(IF(L30=100,\"مائة درجة\",B_Only(L30,1,1,2,\"\",\"\",\"\")),\"\")","v":""},{"$f":"IF(D30:K30=\"\",\"\",IF(COUNTIF(D30:K30,\"غ\")+COUNTIF(D30:K30,\"<50\")=0,\"ناجح\",IF(COUNTIF(D30:K30,\"غ\")+COUNTIF(D30:K30,\"<50\")<=3,\"مكمل\",IF(COUNTIF(D30:K30,\"غ\")+COUNTIF(D30:K30,\"<50\")>=4,\"راسب\"))))","v":""},"",null,null,null,"","",""]
[26,{"$f":"'[1]التلاميذ والقيود '!F28","v":2399},{"$f":"'[1]التلاميذ والقيود '!G28","v":"فاطمة عمار جاسم"},null,null,null,null,null,null,null,null,"",{"$f":"IFERROR(IF(L31=100,\"مائة درجة\",B_Only(L31,1,1,2,\"\",\"\",\"\")),\"\")","v":""},{"$f":"IF(D31:K31=\"\",\"\",IF(COUNTIF(D31:K31,\"غ\")+COUNTIF(D31:K31,\"<50\")=0,\"ناجح\",IF(COUNTIF(D31:K31,\"غ\")+COUNTIF(D31:K31,\"<50\")<=3,\"مكمل\",IF(COUNTIF(D31:K31,\"غ\")+COUNTIF(D31:K31,\"<50\")>=4,\"راسب\"))))","v":""},"",null,null,null,"","",""]
[27,{"$f":"'[1]التلاميذ والقيود '!F29","v":2543},{"$f":"'[1]التلاميذ والقيود '!G29","v":"فاطمه احمد كريم"},null,null,null,null,null,null,null,null,"",{"$f":"IFERROR(IF(L32=100,\"مائة درجة\",B_Only(L32,1,1,2,\"\",\"\",\"\")),\"\")","v":""},{"$f":"IF(D32:K32=\"\",\"\",IF(COUNTIF(D32:K32,\"غ\")+COUNTIF(D32:K32,\"<50\")=0,\"ناجح\",IF(COUNTIF(D32:K32,\"غ\")+COUNTIF(D32:K32,\"<50\")<=3,\"مكمل\",IF(COUNTIF(D32:K32,\"غ\")+COUNTIF(D32:K32,\"<50\")>=4,\"راسب\"))))","v":""},"",null,null,null,"","",""]
[28,{"$f":"'[1]التلاميذ والقيود '!F30","v":2520},{"$f":"'[1]التلاميذ والقيود '!G30","v":"فاطمه امير خلاف"},null,null,null,null,null,null,null,null,"",{"$f":"IFERROR(IF(L33=100,\"مائة درجة\",B_Only(L33,1,1,2,\"\",\"\",\"\")),\"\")","v":""},{"$f":"IF(D33:K33=\"\",\"\",IF(COUNTIF(D33:K33,\"غ\")+COUNTIF(D33:K33,\"<50\")=0,\"ناجح\",IF(COUNTIF(D33:K33,\"غ\")+COUNTIF(D33:K33,\"<50\")<=3,\"مكمل\",IF(COUNTIF(D33:K33,\"غ\")+COUNTIF(D33:K33,\"<50\")>=4,\"راسب\"))))","v":""},"",null,null,null,"","",""]
[29,{"$f":"'[1]التلاميذ والقيود '!F31","v":2805},{"$f":"'[1]التلاميذ والقيود '!G31","v":"فاطمه رسول حسين كاظم"},null,null,null,null,null,null,null,null,"",{"$f":"IFERROR(IF(L34=100,\"مائة درجة\",B_Only(L34,1,1,2,\"\",\"\",\"\")),\"\")","v":""},{"$f":"IF(D34:K34=\"\",\"\",IF(COUNTIF(D34:K34,\"غ\")+COUNTIF(D34:K34,\"<50\")=0,\"ناجح\",IF(COUNTIF(D34:K34,\"غ\")+COUNTIF(D34:K34,\"<50\")<=3,\"مكمل\",IF(COUNTIF(D34:K34,\"غ\")+COUNTIF(D34:K34,\"<50\")>=4,\"راسب\"))))","v":""},"",null,null,null,"","",""]
[30,{"$f":"'[1]التلاميذ والقيود '!F32","v":2548},{"$f":"'[1]التلاميذ والقيود '!G32","v":"فاطمه علي جاسم"},null,null,null,null,null,null,null,null,"",{"$f":"IFERROR(IF(L35=100,\"مائة درجة\",B_Only(L35,1,1,2,\"\",\"\",\"\")),\"\")","v":""},{"$f":"IF(D35:K35=\"\",\"\",IF(COUNTIF(D35:K35,\"غ\")+COUNTIF(D35:K35,\"<50\")=0,\"ناجح\",IF(COUNTIF(D35:K35,\"غ\")+COUNTIF(D35:K35,\"<50\")<=3,\"مكمل\",IF(COUNTIF(D35:K35,\"غ\")+COUNTIF(D35:K35,\"<50\")>=4,\"راسب\"))))","v":""},"",null,null,null,"","",""]
[31,{"$f":"'[1]التلاميذ والقيود '!F33","v":2533},{"$f":"'[1]التلاميذ والقيود '!G33","v":"فاطمه مصطفى سالم"},null,null,null,null,null,null,null,null,"",{"$f":"IFERROR(IF(L36=100,\"مائة درجة\",B_Only(L36,1,1,2,\"\",\"\",\"\")),\"\")","v":""},{"$f":"IF(D36:K36=\"\",\"\",IF(COUNTIF(D36:K36,\"غ\")+COUNTIF(D36:K36,\"<50\")=0,\"ناجح\",IF(COUNTIF(D36:K36,\"غ\")+COUNTIF(D36:K36,\"<50\")<=3,\"مكمل\",IF(COUNTIF(D36:K36,\"غ\")+COUNTIF(D36:K36,\"<50\")>=4,\"راسب\"))))","v":""},"",null,null,null,"","",""]
[32,{"$f":"'[1]التلاميذ والقيود '!F34","v":2518},{"$f":"'[1]التلاميذ والقيود '!G34","v":"فرح حيدر عيدان"},null,null,null,null,null,null,null,null,"",{"$f":"IFERROR(IF(L37=100,\"مائة درجة\",B_Only(L37,1,1,2,\"\",\"\",\"\")),\"\")","v":""},{"$f":"IF(D37:K37=\"\",\"\",IF(COUNTIF(D37:K37,\"غ\")+COUNTIF(D37:K37,\"<50\")=0,\"ناجح\",IF(COUNTIF(D37:K37,\"غ\")+COUNTIF(D37:K37,\"<50\")<=3,\"مكمل\",IF(COUNTIF(D37:K37,\"غ\")+COUNTIF(D37:K37,\"<50\")>=4,\"راسب\"))))","v":""},"",null,null,null,"","",""]
[33,{"$f":"'[1]التلاميذ والقيود '!F35","v":2478},{"$f":"'[1]التلاميذ والقيود '!G35","v":"فرح عقيل مجيد"},null,null,null,null,null,null,null,null,"",{"$f":"IFERROR(IF(L38=100,\"مائة درجة\",B_Only(L38,1,1,2,\"\",\"\",\"\")),\"\")","v":""},{"$f":"IF(D38:K38=\"\",\"\",IF(COUNTIF(D38:K38,\"غ\")+COUNTIF(D38:K38,\"<50\")=0,\"ناجح\",IF(COUNTIF(D38:K38,\"غ\")+COUNTIF(D38:K38,\"<50\")<=3,\"مكمل\",IF(COUNTIF(D38:K38,\"غ\")+COUNTIF(D38:K38,\"<50\")>=4,\"راسب\"))))","v":""},"",null,null,null,"","",""]
[34,{"$f":"'[1]التلاميذ والقيود '!F36","v":2804},{"$f":"'[1]التلاميذ والقيود '!G36","v":"مرام رعد محسن عبيد"},null,null,null,null,null,null,null,null,"",{"$f":"IFERROR(IF(L39=100,\"مائة درجة\",B_Only(L39,1,1,2,\"\",\"\",\"\")),\"\")","v":""},{"$f":"IF(D39:K39=\"\",\"\",IF(COUNTIF(D39:K39,\"غ\")+COUNTIF(D39:K39,\"<50\")=0,\"ناجح\",IF(COUNTIF(D39:K39,\"غ\")+COUNTIF(D39:K39,\"<50\")<=3,\"مكمل\",IF(COUNTIF(D39:K39,\"غ\")+COUNTIF(D39:K39,\"<50\")>=4,\"راسب\"))))","v":""},"",null,null,null,"","",""]
[35,{"$f":"'[1]التلاميذ والقيود '!F37","v":2461},{"$f":"'[1]التلاميذ والقيود '!G37","v":"مريم احمد عبد الرزاق"},null,null,null,null,null,null,null,null,"",{"$f":"IFERROR(IF(L40=100,\"مائة درجة\",B_Only(L40,1,1,2,\"\",\"\",\"\")),\"\")","v":""},{"$f":"IF(D40:K40=\"\",\"\",IF(COUNTIF(D40:K40,\"غ\")+COUNTIF(D40:K40,\"<50\")=0,\"ناجح\",IF(COUNTIF(D40:K40,\"غ\")+COUNTIF(D40:K40,\"<50\")<=3,\"مكمل\",IF(COUNTIF(D40:K40,\"غ\")+COUNTIF(D40:K40,\"<50\")>=4,\"راسب\"))))","v":""},"",null,null,null,"","",""]
[36,{"$f":"'[1]التلاميذ والقيود '!F38","v":2572},{"$f":"'[1]التلاميذ والقيود '!G38","v":"مريم علي جاسم"},null,null,null,null,null,null,null,null,"",{"$f":"IFERROR(IF(L41=100,\"مائة درجة\",B_Only(L41,1,1,2,\"\",\"\",\"\")),\"\")","v":""},{"$f":"IF(D41:K41=\"\",\"\",IF(COUNTIF(D41:K41,\"غ\")+COUNTIF(D41:K41,\"<50\")=0,\"ناجح\",IF(COUNTIF(D41:K41,\"غ\")+COUNTIF(D41:K41,\"<50\")<=3,\"مكمل\",IF(COUNTIF(D41:K41,\"غ\")+COUNTIF(D41:K41,\"<50\")>=4,\"راسب\"))))","v":""},"",null,null,null,"","",""]
[37,{"$f":"'[1]التلاميذ والقيود '!F39","v":2401},{"$f":"'[1]التلاميذ والقيود '!G39","v":"معصومه حيدر جاسم"},null,null,null,null,null,null,null,null,"",{"$f":"IFERROR(IF(L42=100,\"مائة درجة\",B_Only(L42,1,1,2,\"\",\"\",\"\")),\"\")","v":""},{"$f":"IF(D42:K42=\"\",\"\",IF(COUNTIF(D42:K42,\"غ\")+COUNTIF(D42:K42,\"<50\")=0,\"ناجح\",IF(COUNTIF(D42:K42,\"غ\")+COUNTIF(D42:K42,\"<50\")<=3,\"مكمل\",IF(COUNTIF(D42:K42,\"غ\")+COUNTIF(D42:K42,\"<50\")>=4,\"راسب\"))))","v":""},"",null,null,null,"","",""]
[38,{"$f":"'[1]التلاميذ والقيود '!F40","v":2693},{"$f":"'[1]التلاميذ والقيود '!G40","v":"ملكوت علي جاسب"},null,null,null,null,null,null,null,null,"",{"$f":"IFERROR(IF(L43=100,\"مائة درجة\",B_Only(L43,1,1,2,\"\",\"\",\"\")),\"\")","v":""},{"$f":"IF(D43:K43=\"\",\"\",IF(COUNTIF(D43:K43,\"غ\")+COUNTIF(D43:K43,\"<50\")=0,\"ناجح\",IF(COUNTIF(D43:K43,\"غ\")+COUNTIF(D43:K43,\"<50\")<=3,\"مكمل\",IF(COUNTIF(D43:K43,\"غ\")+COUNTIF(D43:K43,\"<50\")>=4,\"راسب\"))))","v":""},"",null,null,null,"","",""]
[39,{"$f":"'[1]التلاميذ والقيود '!F41","v":2525},{"$f":"'[1]التلاميذ والقيود '!G41","v":"منى عباس محسن "},null,null,null,null,null,null,null,null,"",{"$f":"IFERROR(IF(L44=100,\"مائة درجة\",B_Only(L44,1,1,2,\"\",\"\",\"\")),\"\")","v":""},{"$f":"IF(D44:K44=\"\",\"\",IF(COUNTIF(D44:K44,\"غ\")+COUNTIF(D44:K44,\"<50\")=0,\"ناجح\",IF(COUNTIF(D44:K44,\"غ\")+COUNTIF(D44:K44,\"<50\")<=3,\"مكمل\",IF(COUNTIF(D44:K44,\"غ\")+COUNTIF(D44:K44,\"<50\")>=4,\"راسب\"))))","v":""},"",null,null,null,"","",""]
[40,{"$f":"'[1]التلاميذ والقيود '!F42","v":2532},{"$f":"'[1]التلاميذ والقيود '!G42","v":"نادين طه هاشم"},null,null,null,null,null,null,null,null,"",{"$f":"IFERROR(IF(L45=100,\"مائة درجة\",B_Only(L45,1,1,2,\"\",\"\",\"\")),\"\")","v":""},{"$f":"IF(D45:K45=\"\",\"\",IF(COUNTIF(D45:K45,\"غ\")+COUNTIF(D45:K45,\"<50\")=0,\"ناجح\",IF(COUNTIF(D45:K45,\"غ\")+COUNTIF(D45:K45,\"<50\")<=3,\"مكمل\",IF(COUNTIF(D45:K45,\"غ\")+COUNTIF(D45:K45,\"<50\")>=4,\"راسب\"))))","v":""},"",null,null,null,"","",""]
[41,{"$f":"'[1]التلاميذ والقيود '!F43","v":2434},{"$f":"'[1]التلاميذ والقيود '!G43","v":"نرجس محمد محسن"},null,null,null,null,null,null,null,null,"",{"$f":"IFERROR(IF(L46=100,\"مائة درجة\",B_Only(L46,1,1,2,\"\",\"\",\"\")),\"\")","v":""},{"$f":"IF(D46:K46=\"\",\"\",IF(COUNTIF(D46:K46,\"غ\")+COUNTIF(D46:K46,\"<50\")=0,\"ناجح\",IF(COUNTIF(D46:K46,\"غ\")+COUNTIF(D46:K46,\"<50\")<=3,\"مكمل\",IF(COUNTIF(D46:K46,\"غ\")+COUNTIF(D46:K46,\"<50\")>=4,\"راسب\"))))","v":""},"",null,null,null,"","",""]
[42,{"$f":"'[1]التلاميذ والقيود '!F44","v":2355},{"$f":"'[1]التلاميذ والقيود '!G44","v":"نور الهدى محمد مجبل"},null,null,null,null,null,null,null,null,"",{"$f":"IFERROR(IF(L47=100,\"مائة درجة\",B_Only(L47,1,1,2,\"\",\"\",\"\")),\"\")","v":""},{"$f":"IF(D47:K47=\"\",\"\",IF(COUNTIF(D47:K47,\"غ\")+COUNTIF(D47:K47,\"<50\")=0,\"ناجح\",IF(COUNTIF(D47:K47,\"غ\")+COUNTIF(D47:K47,\"<50\")<=3,\"مكمل\",IF(COUNTIF(D47:K47,\"غ\")+COUNTIF(D47:K47,\"<50\")>=4,\"راسب\"))))","v":""},"",null,null,null,"","",""]
[43,{"$f":"'[1]التلاميذ والقيود '!F45","v":1931},{"$f":"'[1]التلاميذ والقيود '!G45","v":"هند علي ياسين"},null,null,null,null,null,null,null,null,"",{"$f":"IFERROR(IF(L48=100,\"مائة درجة\",B_Only(L48,1,1,2,\"\",\"\",\"\")),\"\")","v":""},{"$f":"IF(D48:K48=\"\",\"\",IF(COUNTIF(D48:K48,\"غ\")+COUNTIF(D48:K48,\"<50\")=0,\"ناجح\",IF(COUNTIF(D48:K48,\"غ\")+COUNTIF(D48:K48,\"<50\")<=3,\"مكمل\",IF(COUNTIF(D48:K48,\"غ\")+COUNTIF(D48:K48,\"<50\")>=4,\"راسب\"))))","v":""},"",null,null,null,"","",""]
[44,{"$f":"'[1]التلاميذ والقيود '!F46","v":2531},{"$f":"'[1]التلاميذ والقيود '!G46","v":"يقين حسين علي"},null,null,null,null,null,null,null,null,"",{"$f":"IFERROR(IF(L49=100,\"مائة درجة\",B_Only(L49,1,1,2,\"\",\"\",\"\")),\"\")","v":""},{"$f":"IF(D49:K49=\"\",\"\",IF(COUNTIF(D49:K49,\"غ\")+COUNTIF(D49:K49,\"<50\")=0,\"ناجح\",IF(COUNTIF(D49:K49,\"غ\")+COUNTIF(D49:K49,\"<50\")<=3,\"مكمل\",IF(COUNTIF(D49:K49,\"غ\")+COUNTIF(D49:K49,\"<50\")>=4,\"راسب\"))))","v":""},"",null,null,null,"","",""]
[45,{"$f":"'[1]التلاميذ والقيود '!F47","v":0},{"$f":"'[1]التلاميذ والقيود '!G47","v":0},null,null,null,null,null,null,null,null,"",{"$f":"IFERROR(IF(L50=100,\"مائة درجة\",B_Only(L50,1,1,2,\"\",\"\",\"\")),\"\")","v":""},{"$f":"IF(D50:K50=\"\",\"\",IF(COUNTIF(D50:K50,\"غ\")+COUNTIF(D50:K50,\"<50\")=0,\"ناجح\",IF(COUNTIF(D50:K50,\"غ\")+COUNTIF(D50:K50,\"<50\")<=3,\"مكمل\",IF(COUNTIF(D50:K50,\"غ\")+COUNTIF(D50:K50,\"<50\")>=4,\"راسب\"))))","v":""},"",null,null,null,"","",""]
[46,{"$f":"'[1]التلاميذ والقيود '!F48","v":0},{"$f":"'[1]التلاميذ والقيود '!G48","v":0},null,null,null,null,null,null,null,null,"",{"$f":"IFERROR(IF(L51=100,\"مائة درجة\",B_Only(L51,1,1,2,\"\",\"\",\"\")),\"\")","v":""},{"$f":"IF(D51:K51=\"\",\"\",IF(COUNTIF(D51:K51,\"غ\")+COUNTIF(D51:K51,\"<50\")=0,\"ناجح\",IF(COUNTIF(D51:K51,\"غ\")+COUNTIF(D51:K51,\"<50\")<=3,\"مكمل\",IF(COUNTIF(D51:K51,\"غ\")+COUNTIF(D51:K51,\"<50\")>=4,\"راسب\"))))","v":""},"",null,null,null,"","",""]
[47,{"$f":"'[1]التلاميذ والقيود '!F49","v":0},{"$f":"'[1]التلاميذ والقيود '!G49","v":0},null,null,null,null,null,null,null,null,"",{"$f":"IFERROR(IF(L52=100,\"مائة درجة\",B_Only(L52,1,1,2,\"\",\"\",\"\")),\"\")","v":""},{"$f":"IF(D52:K52=\"\",\"\",IF(COUNTIF(D52:K52,\"غ\")+COUNTIF(D52:K52,\"<50\")=0,\"ناجح\",IF(COUNTIF(D52:K52,\"غ\")+COUNTIF(D52:K52,\"<50\")<=3,\"مكمل\",IF(COUNTIF(D52:K52,\"غ\")+COUNTIF(D52:K52,\"<50\")>=4,\"راسب\"))))","v":""},"",null,null,null,"","",""]
[48,{"$f":"'[1]التلاميذ والقيود '!F50","v":0},{"$f":"'[1]التلاميذ والقيود '!G50","v":0},null,null,null,null,null,null,null,null,"",{"$f":"IFERROR(IF(L53=100,\"مائة درجة\",B_Only(L53,1,1,2,\"\",\"\",\"\")),\"\")","v":""},{"$f":"IF(D53:K53=\"\",\"\",IF(COUNTIF(D53:K53,\"غ\")+COUNTIF(D53:K53,\"<50\")=0,\"ناجح\",IF(COUNTIF(D53:K53,\"غ\")+COUNTIF(D53:K53,\"<50\")<=3,\"مكمل\",IF(COUNTIF(D53:K53,\"غ\")+COUNTIF(D53:K53,\"<50\")>=4,\"راسب\"))))","v":""},"",null,null,null,"","",""]
[49,{"$f":"'[1]التلاميذ والقيود '!F51","v":0},{"$f":"'[1]التلاميذ والقيود '!G51","v":0},null,null,null,null,null,null,null,null,"",{"$f":"IFERROR(IF(L54=100,\"مائة درجة\",B_Only(L54,1,1,2,\"\",\"\",\"\")),\"\")","v":""},{"$f":"IF(D54:K54=\"\",\"\",IF(COUNTIF(D54:K54,\"غ\")+COUNTIF(D54:K54,\"<50\")=0,\"ناجح\",IF(COUNTIF(D54:K54,\"غ\")+COUNTIF(D54:K54,\"<50\")<=3,\"مكمل\",IF(COUNTIF(D54:K54,\"غ\")+COUNTIF(D54:K54,\"<50\")>=4,\"راسب\"))))","v":""},"",null,null,null,"","",""]
[50,{"$f":"'[1]التلاميذ والقيود '!F52","v":0},{"$f":"'[1]التلاميذ والقيود '!G52","v":0},null,null,null,null,null,null,null,null,"",{"$f":"IFERROR(IF(L55=100,\"مائة درجة\",B_Only(L55,1,1,2,\"\",\"\",\"\")),\"\")","v":""},{"$f":"IF(D55:K55=\"\",\"\",IF(COUNTIF(D55:K55,\"غ\")+COUNTIF(D55:K55,\"<50\")=0,\"ناجح\",IF(COUNTIF(D55:K55,\"غ\")+COUNTIF(D55:K55,\"<50\")<=3,\"مكمل\",IF(COUNTIF(D55:K55,\"غ\")+COUNTIF(D55:K55,\"<50\")>=4,\"راسب\"))))","v":""},"",null,null,null,"","",""]
[]
[null,"المشتركون"]
[null,"الناجحون",null,{"$f":"COUNTIF(T6:T55,\"=2\")","v":2}]
[null,"المكملون",null,{"$f":"COUNTIF(S6:S55,\"=1\")","v":4}]
[null,"الراسبون",null,{"$f":"COUNTIF(U6:U55,\"=3\")","v":2}]
[null,"النسبة المئوية"]
[null,"الغائبون"]
[null,"الممتحنون"]

{"sheet":"نهاية السنة دور ثاني خامس ب","index":4,"n_rows":62,"n_cols":21,"rows_kept":62,"cut":false,"hidden":false,"merged":[[3,11,3,12],[0,0,0,2],[0,14,0,15],[1,0,1,2],[1,14,1,15],[2,0,2,16],[56,1,56,2],[56,3,56,10],[57,1,57,2],[57,3,57,10],[58,1,58,2],[58,3,58,10],[59,1,59,2],[59,3,59,10],[60,1,60,2],[60,3,60,10],[61,1,61,2],[61,3,61,10]]}
["أدارة مدرسة المناذرة",null,null,null,null,null,null,null,null,null,null,null,null,null,"الصف",null,"الخامس ب"]
["   الابتدائية للبنات",null,null,null,null,null,null,null,null,null,null,null,null,null,"الدور",null,"الثاني"]
["للعام الدراسي 2019 - 2020"]
[null,null,null,null,null,null,null,null,null,null,null,"المجموع"]
["ت","رقم القيد","اسم التلميذ","التربية الإسلامية","اللغة العربية","اللغة الإنكليزية","الرياضيات","العلوم","الاجتماعيات","التربية الفنية","التربية الرياضية","رقما","كتابة","النتيجة","الملاحظات",null,null,"احد التفقيط اختر اي منها",null,"الناجحون","الراسبون"]
[1,{"$f":"'[1]التلاميذ والقيود '!F3","v":2438},{"$f":"'[1]التلاميذ والقيود '!G3","v":"الاء سعد محمد"},77,89,75,75,2,50,50,50,{"$f":"IF(OR(N6=\"ناجح\",N6=\"راسب\"),SUM(D6:K6),\"\")","v":468},{"$f":"IFERROR(IF(L6=100,\"مائة درجة\",B_Only(L6,1,1,2,\"\",\"\",\"\")),\"\")","v":""},{"$f":"IF(D6:K6=\"\",\"\",IF(COUNTIF(D6:K6,\"غ\")+COUNTIF(D6:K6,\"<50\")=0,\"ناجح\",IF(COUNTIF(D6:K6,\"غ\")+COUNTIF(D6:K6,\"<50\")>=1,\"راسب\")))","v":"راسب"},null,null,null,{"$f":"IFERROR(IF(K6=\"\",\"\",IF(K6=0,\"صفر\",n2t(K6))),\"\")","v":""},null,{"$f":"IF(N6=\"ناجح\",2,\"\")","v":""},{"$f":"IF(N6=\"راسب\",3,\"\")","v":3}]
[2,{"$f":"'[1]التلاميذ والقيود '!F4","v":2889},{"$f":"'[1]التلاميذ والقيود '!G4","v":"اسينات علي حسين"},66,77,82,55,55,22,44,55,{"$f":"IF(OR(N7=\"ناجح\",N7=\"راسب\"),SUM(D7:K7),\"\")","v":456},{"$f":"IFERROR(IF(L7=100,\"مائة درجة\",B_Only(L7,1,1,2,\"\",\"\",\"\")),\"\")","v":""},{"$f":"IF(D7:K7=\"\",\"\",IF(COUNTIF(D7:K7,\"غ\")+COUNTIF(D7:K7,\"<50\")=0,\"ناجح\",IF(COUNTIF(D7:K7,\"غ\")+COUNTIF(D7:K7,\"<50\")>=1,\"راسب\")))","v":"راسب"},null,null,null,{"$f":"IFERROR(IF(K7=\"\",\"\",IF(K7=0,\"صفر\",n2t(K7))),\"\")","v":""},null,{"$f":"IF(N7=\"ناجح\",2,\"\")","v":""},{"$f":"IF(N7=\"راسب\",3,\"\")","v":3}]
[3,{"$f":"'[1]التلاميذ والقيود '!F5","v":2565},{"$f":"'[1]التلاميذ والقيود '!G5","v":"ايه مصطفى خير الله"},99,100,55,63,78,54,33,99,581,{"$f":"IFERROR(IF(L8=100,\"مائة درجة\",B_Only(L8,1,1,2,\"\",\"\",\"\")),\"\")","v":""},{"$f":"IF(D8:K8=\"\",\"\",IF(COUNTIF(D8:K8,\"غ\")+COUNTIF(D8:K8,\"<50\")=0,\"ناجح\",IF(COUNTIF(D8:K8,\"غ\")+COUNTIF(D8:K8,\"<50\")>=1,\"راسب\")))","v":"راسب"},null,null,null,{"$f":"IFERROR(IF(K8=\"\",\"\",IF(K8=0,\"صفر\",n2t(K8))),\"\")","v":""},null,"",3]
[4,{"$f":"'[1]التلاميذ والقيود '!F6","v":2521},{"$f":"'[1]التلاميذ والقيود '!G6","v":"جنات عادل فاضل"},88,99,57,65,66,51,88,91,605,{"$f":"IFERROR(IF(L9=100,\"مائة درجة\",B_Only(L9,1,1,2,\"\",\"\",\"\")),\"\")","v":""},{"$f":"IF(D9:K9=\"\",\"\",IF(COUNTIF(D9:K9,\"غ\")+COUNTIF(D9:K9,\"<50\")=0,\"ناجح\",IF(COUNTIF(D9:K9,\"غ\")+COUNTIF(D9:K9,\"<50\")>=1,\"راسب\")))","v":"ناجح"},null,null,null,{"$f":"IFERROR(IF(K9=\"\",\"\",IF(K9=0,\"صفر\",n2t(K9))),\"\")","v":""},null,2,""]
[5,{"$f":"'[1]التلاميذ والقيود '!F7","v":2515},{"$f":"'[1]التلاميذ والقيود '!G7","v":"جنه علي خلف"},77,98,"غ","غ",54,48,77,83,437,{"$f":"IFERROR(IF(L10=100,\"مائة درجة\",B_Only(L10,1,1,2,\"\",\"\",\"\")),\"\")","v":""},{"$f":"IF(D10:K10=\"\",\"\",IF(COUNTIF(D10:K10,\"غ\")+COUNTIF(D10:K10,\"<50\")=0,\"ناجح\",IF(COUNTIF(D10:K10,\"غ\")+COUNTIF(D10:K10,\"<50\")>=1,\"راسب\")))","v":"راسب"},null,null,null,{"$f":"IFERROR(IF(K10=\"\",\"\",IF(K10=0,\"صفر\",n2t(K10))),\"\")","v":""},null,"",3]
[6,{"$f":"'[1]التلاميذ والقيود '!F8","v":2534},{"$f":"'[1]التلاميذ والقيود '!G8","v":"حوراء ضياء هادي"},"غ",50,50,69,55,77,66,50,417,{"$f":"IFERROR(IF(L11=100,\"مائة درجة\",B_Only(L11,1,1,2,\"\",\"\",\"\")),\"\")","v":""},{"$f":"IF(D11:K11=\"\",\"\",IF(COUNTIF(D11:K11,\"غ\")+COUNTIF(D11:K11,\"<50\")=0,\"ناجح\",IF(COUNTIF(D11:K11,\"غ\")+COUNTIF(D11:K11,\"<50\")>=1,\"راسب\")))","v":"راسب"},null,null,null,{"$f":"IFERROR(IF(K11=\"\",\"\",IF(K11=0,\"صفر\",n2t(K11))),\"\")","v":""},null,"",3]
[7,{"$f":"'[1]التلاميذ والقيود '!F9","v":2538},{"$f":"'[1]التلاميذ والقيود '!G9","v":"دينا حسين علي"},55,96,"غ",71,30,42,55,67,416,{"$f":"IFERROR(IF(L12=100,\"مائة درجة\",B_Only(L12,1,1,2,\"\",\"\",\"\")),\"\")","v":""},{"$f":"IF(D12:K12=\"\",\"\",IF(COUNTIF(D12:K12,\"غ\")+COUNTIF(D12:K12,\"<50\")=0,\"ناجح\",IF(COUNTIF(D12:K12,\"غ\")+COUNTIF(D12:K12,\"<50\")>=1,\"راسب\")))","v":"راسب"},null,null,null,{"$f":"IFERROR(IF(K12=\"\",\"\",IF(K12=0,\"صفر\",n2t(K12))),\"\")","v":""},null,"",3]
[8,{"$f":"'[1]التلاميذ والقيود '!F10","v":2403},{"$f":"'[1]التلاميذ والقيود '!G10","v":"راويه رعد حميد"},44,95,65,73,18,39,44,59,437,{"$f":"IFERROR(IF(L13=100,\"مائة درجة\",B_Only(L13,1,1,2,\"\",\"\",\"\")),\"\")","v":""},{"$f":"IF(D13:K13=\"\",\"\",IF(COUNTIF(D13:K13,\"غ\")+COUNTIF(D13:K13,\"<50\")=0,\"ناجح\",IF(COUNTIF(D13:K13,\"غ\")+COUNTIF(D13:K13,\"<50\")>=1,\"راسب\")))","v":"راسب"},null,null,null,{"$f":"IFERROR(IF(K13=\"\",\"\",IF(K13=0,\"صفر\",n2t(K13))),\"\")","v":""},null,"",3]
[9,{"$f":"'[1]التلاميذ والقيود '!F11","v":2505},{"$f":"'[1]التلاميذ والقيود '!G11","v":"رباب احمد كريم"},null,null,null,null,null,null,null,null,"",{"$f":"IFERROR(IF(L14=100,\"مائة درجة\",B_Only(L14,1,1,2,\"\",\"\",\"\")),\"\")","v":""},{"$f":"IF(D14:K14=\"\",\"\",IF(COUNTIF(D14:K14,\"غ\")+COUNTIF(D14:K14,\"<50\")=0,\"ناجح\",IF(COUNTIF(D14:K14,\"غ\")+COUNTIF(D14:K14,\"<50\")>=1,\"راسب\")))","v":""},null,null,null,null,null,"",""]
[10,{"$f":"'[1]التلاميذ والقيود '!F12","v":2165},{"$f":"'[1]التلاميذ والقيود '!G12","v":"رقيه حيدر عبد الكريم"},null,null,null,null,null,null,null,null,"",{"$f":"IFERROR(IF(L15=100,\"مائة درجة\",B_Only(L15,1,1,2,\"\",\"\",\"\")),\"\")","v":""},{"$f":"IF(D15:K15=\"\",\"\",IF(COUNTIF(D15:K15,\"غ\")+COUNTIF(D15:K15,\"<50\")=0,\"ناجح\",IF(COUNTIF(D15:K15,\"غ\")+COUNTIF(D15:K15,\"<50\")>=1,\"راسب\")))","v":""},null,null,null,null,null,"",""]
[11,{"$f":"'[1]التلاميذ والقيود '!F13","v":2576},{"$f":"'[1]التلاميذ والقيود '!G13","v":"رقيه علي جعفر"},null,null,null,null,null,null,null,null,"",{"$f":"IFERROR(IF(L16=100,\"مائة درجة\",B_Only(L16,1,1,2,\"\",\"\",\"\")),\"\")","v":""},{"$f":"IF(D16:K16=\"\",\"\",IF(COUNTIF(D16:K16,\"غ\")+COUNTIF(D16:K16,\"<50\")=0,\"ناجح\",IF(COUNTIF(D16:K16,\"غ\")+COUNTIF(D16:K16,\"<50\")>=1,\"راسب\")))","v":""},null,null,null,null,null,"",""]
[12,{"$f":"'[1]التلاميذ والقيود '!F14","v":2568},{"$f":"'[1]التلاميذ والقيود '!G14","v":"رقيه علي طاهر"},null,null,null,null,null,null,null,null,"",{"$f":"IFERROR(IF(L17=100,\"مائة درجة\",B_Only(L17,1,1,2,\"\",\"\",\"\")),\"\")","v":""},{"$f":"IF(D17:K17=\"\",\"\",IF(COUNTIF(D17:K17,\"غ\")+COUNTIF(D17:K17,\"<50\")=0,\"ناجح\",IF(COUNTIF(D17:K17,\"غ\")+COUNTIF(D17:K17,\"<50\")>=1,\"راسب\")))","v":""},null,null,null,null,null,"",""]
[13,{"$f":"'[1]التلاميذ والقيود '!F15","v":2544},{"$f":"'[1]التلاميذ والقيود '!G15","v":"رند ناصر محسن"},null,null,null,null,null,null,null,null,"",{"$f":"IFERROR(IF(L18=100,\"مائة درجة\",B_Only(L18,1,1,2,\"\",\"\",\"\")),\"\")","v":""},{"$f":"IF(D18:K18=\"\",\"\",IF(COUNTIF(D18:K18,\"غ\")+COUNTIF(D18:K18,\"<50\")=0,\"ناجح\",IF(COUNTIF(D18:K18,\"غ\")+COUNTIF(D18:K18,\"<50\")>=1,\"راسب\")))","v":""},null,null,null,null,null,"",""]
[14,{"$f":"'[1]التلاميذ والقيود '!F16","v":2462},{"$f":"'[1]التلاميذ والقيود '!G16","v":"ريتاج حسين علوان"},null,null,null,null,null,null,null,null,"",{"$f":"IFERROR(IF(L19=100,\"مائة درجة\",B_Only(L19,1,1,2,\"\",\"\",\"\")),\"\")","v":""},{"$f":"IF(D19:K19=\"\",\"\",IF(COUNTIF(D19:K19,\"غ\")+COUNTIF(D19:K19,\"<50\")=0,\"ناجح\",IF(COUNTIF(D19:K19,\"غ\")+COUNTIF(D19:K19,\"<50\")>=1,\"راسب\")))","v":""},null,null,null,null,null,"",""]
[15,{"$f":"'[1]التلاميذ والقيود '!F17","v":2510},{"$f":"'[1]التلاميذ والقيود '!G17","v":"زهراء جواد عبد الكاظم"},null,null,null,null,null,null,null,null,"",{"$f":"IFERROR(IF(L20=100,\"مائة درجة\",B_Only(L20,1,1,2,\"\",\"\",\"\")),\"\")","v":""},{"$f":"IF(D20:K20=\"\",\"\",IF(COUNTIF(D20:K20,\"غ\")+COUNTIF(D20:K20,\"<50\")=0,\"ناجح\",IF(COUNTIF(D20:K20,\"غ\")+COUNTIF(D20:K20,\"<50\")>=1,\"راسب\")))","v":""},null,null,null,null,null,"",""]
[16,{"$f":"'[1]التلاميذ والقيود '!F18","v":2504},{"$f":"'[1]التلاميذ والقيود '!G18","v":"زهراء ستار جبار"},null,null,null,null,null,null,null,null,"",{"$f":"IFERROR(IF(L21=100,\"مائة درجة\",B_Only(L21,1,1,2,\"\",\"\",\"\")),\"\")","v":""},{"$f":"IF(D21:K21=\"\",\"\",IF(COUNTIF(D21:K21,\"غ\")+COUNTIF(D21:K21,\"<50\")=0,\"ناجح\",IF(COUNTIF(D21:K21,\"غ\")+COUNTIF(D21:K21,\"<50\")>=1,\"راسب\")))","v":""},null,null,null,null,null,"",""]
[17,{"$f":"'[1]التلاميذ والقيود '!F19","v":2578},{"$f":"'[1]التلاميذ والقيود '!G19","v":"زهراء عبد الحسين كريم"},null,null,null,null,null,null,null,null,"",{"$f":"IFERROR(IF(L22=100,\"مائة درجة\",B_Only(L22,1,1,2,\"\",\"\",\"\")),\"\")","v":""},{"$f":"IF(D22:K22=\"\",\"\",IF(COUNTIF(D22:K22,\"غ\")+COUNTIF(D22:K22,\"<50\")=0,\"ناجح\",IF(COUNTIF(D22:K22,\"غ\")+COUNTIF(D22:K22,\"<50\")>=1,\"راسب\")))","v":""},null,null,null,null,null,"",""]
[18,{"$f":"'[1]التلاميذ والقيود '!F20","v":2508},{"$f":"'[1]التلاميذ والقيود '!G20","v":"زهراء علي حميد"},null,null,null,null,null,null,null,null,"",{"$f":"IFERROR(IF(L23=100,\"مائة درجة\",B_Only(L23,1,1,2,\"\",\"\",\"\")),\"\")","v":""},{"$f":"IF(D23:K23=\"\",\"\",IF(COUNTIF(D23:K23,\"غ\")+COUNTIF(D23:K23,\"<50\")=0,\"ناجح\",IF(COUNTIF(D23:K23,\"غ\")+COUNTIF(D23:K23,\"<50\")>=1,\"راسب\")))","v":""},null,null,null,null,null,"",""]
[19,{"$f":"'[1]التلاميذ والقيود '!F21","v":2537},{"$f":"'[1]التلاميذ والقيود '!G21","v":"زينب رعد حميد"},null,null,null,null,null,null,null,null,"",{"$f":"IFERROR(IF(L24=100,\"مائة درجة\",B_Only(L24,1,1,2,\"\",\"\",\"\")),\"\")","v":""},{"$f":"IF(D24:K24=\"\",\"\",IF(COUNTIF(D24:K24,\"غ\")+COUNTIF(D24:K24,\"<50\")=0,\"ناجح\",IF(COUNTIF(D24:K24,\"غ\")+COUNTIF(D24:K24,\"<50\")>=1,\"راسب\")))","v":""},null,null,null,null,null,"",""]
[20,{"$f":"'[1]التلاميذ والقيود '!F22","v":2342},{"$f":"'[1]التلاميذ والقيود '!G22","v":"زينب عباس سعيد"},null,null,null,null,null,null,null,null,"",{"$f":"IFERROR(IF(L25=100,\"مائة درجة\",B_Only(L25,1,1,2,\"\",\"\",\"\")),\"\")","v":""},{"$f":"IF(D25:K25=\"\",\"\",IF(COUNTIF(D25:K25,\"غ\")+COUNTIF(D25:K25,\"<50\")=0,\"ناجح\",IF(COUNTIF(D25:K25,\"غ\")+COUNTIF(D25:K25,\"<50\")>=1,\"راسب\")))","v":""},null,null,null,null,null,"",""]
[21,{"$f":"'[1]التلاميذ والقيود '!F23","v":2470},{"$f":"'[1]التلاميذ والقيود '!G23","v":"زينب عبد الله ناصر"},null,null,null,null,null,null,null,null,"",{"$f":"IFERROR(IF(L26=100,\"مائة درجة\",B_Only(L26,1,1,2,\"\",\"\",\"\")),\"\")","v":""},{"$f":"IF(D26:K26=\"\",\"\",IF(COUNTIF(D26:K26,\"غ\")+COUNTIF(D26:K26,\"<50\")=0,\"ناجح\",IF(COUNTIF(D26:K26,\"غ\")+COUNTIF(D26:K26,\"<50\")>=1,\"راسب\")))","v":""},null,null,null,null,null,"",""]
[22,{"$f":"'[1]التلاميذ والقيود '!F24","v":2332},{"$f":"'[1]التلاميذ والقيود '!G24","v":"زينب علي جعفر"},null,null,null,null,null,null,null,null,"",{"$f":"IFERROR(IF(L27=100,\"مائة درجة\",B_Only(L27,1,1,2,\"\",\"\",\"\")),\"\")","v":""},{"$f":"IF(D27:K27=\"\",\"\",IF(COUNTIF(D27:K27,\"غ\")+COUNTIF(D27:K27,\"<50\")=0,\"ناجح\",IF(COUNTIF(D27:K27,\"غ\")+COUNTIF(D27:K27,\"<50\")>=1,\"راسب\")))","v":""},null,null,null,null,null,"",""]
[23,{"$f":"'[1]التلاميذ والقيود '!F25","v":2898},{"$f":"'[1]التلاميذ والقيود '!G25","v":"زينب محمد جمعه"},null,null,null,null,null,null,null,null,"",{"$f":"IFERROR(IF(L28=100,\"مائة درجة\",B_Only(L28,1,1,2,\"\",\"\",\"\")),\"\")","v":""},{"$f":"IF(D28:K28=\"\",\"\",IF(COUNTIF(D28:K28,\"غ\")+COUNTIF(D28:K28,\"<50\")=0,\"ناجح\",IF(COUNTIF(D28:K28,\"غ\")+COUNTIF(D28:K28,\"<50\")>=1,\"راسب\")))","v":""},null,null,null,null,null,"",""]
[24,{"$f":"'[1]التلاميذ والقيود '!F26","v":2698},{"$f":"'[1]التلاميذ والقيود '!G26","v":"سبأ محسن عبد الله"},null,null,null,null,null,null,null,null,"",{"$f":"IFERROR(IF(L29=100,\"مائة درجة\",B_Only(L29,1,1,2,\"\",\"\",\"\")),\"\")","v":""},{"$f":"IF(D29:K29=\"\",\"\",IF(COUNTIF(D29:K29,\"غ\")+COUNTIF(D29:K29,\"<50\")=0,\"ناجح\",IF(COUNTIF(D29:K29,\"غ\")+COUNTIF(D29:K29,\"<50\")>=1,\"راسب\")))","v":""},null,null,null,null,null,"",""]
[25,{"$f":"'[1]التلاميذ والقيود '!F27","v":2542},{"$f":"'[1]التلاميذ والقيود '!G27","v":"شهد سيف علي"},null,null,null,null,null,null,null,null,"",{"$f":"IFERROR(IF(L30=100,\"مائة درجة\",B_Only(L30,1,1,2,\"\",\"\",\"\")),\"\")","v":""},{"$f":"IF(D30:K30=\"\",\"\",IF(COUNTIF(D30:K30,\"غ\")+COUNTIF(D30:K30,\"<50\")=0,\"ناجح\",IF(COUNTIF(D30:K30,\"غ\")+COUNTIF(D30:K30,\"<50\")>=1,\"راسب\")))","v":""},null,null,null,null,null,"",""]
[26,{"$f":"'[1]التلاميذ والقيود '!F28","v":2399},{"$f":"'[1]التلاميذ والقيود '!G28","v":"فاطمة عمار جاسم"},null,null,null,null,null,null,null,null,"",{"$f":"IFERROR(IF(L31=100,\"مائة درجة\",B_Only(L31,1,1,2,\"\",\"\",\"\")),\"\")","v":""},{"$f":"IF(D31:K31=\"\",\"\",IF(COUNTIF(D31:K31,\"غ\")+COUNTIF(D31:K31,\"<50\")=0,\"ناجح\",IF(COUNTIF(D31:K31,\"غ\")+COUNTIF(D31:K31,\"<50\")>=1,\"راسب\")))","v":""},null,null,null,null,null,"",""]
[27,{"$f":"'[1]التلاميذ والقيود '!F29","v":2543},{"$f":"'[1]التلاميذ والقيود '!G29","v":"فاطمه احمد كريم"},null,null,null,null,null,null,null,null,"",{"$f":"IFERROR(IF(L32=100,\"مائة درجة\",B_Only(L32,1,1,2,\"\",\"\",\"\")),\"\")","v":""},{"$f":"IF(D32:K32=\"\",\"\",IF(COUNTIF(D32:K32,\"غ\")+COUNTIF(D32:K32,\"<50\")=0,\"ناجح\",IF(COUNTIF(D32:K32,\"غ\")+COUNTIF(D32:K32,\"<50\")>=1,\"راسب\")))","v":""},null,null,null,null,null,"",""]
[28,{"$f":"'[1]التلاميذ والقيود '!F30","v":2520},{"$f":"'[1]التلاميذ والقيود '!G30","v":"فاطمه امير خلاف"},null,null,null,null,null,null,null,null,"",{"$f":"IFERROR(IF(L33=100,\"مائة درجة\",B_Only(L33,1,1,2,\"\",\"\",\"\")),\"\")","v":""},{"$f":"IF(D33:K33=\"\",\"\",IF(COUNTIF(D33:K33,\"غ\")+COUNTIF(D33:K33,\"<50\")=0,\"ناجح\",IF(COUNTIF(D33:K33,\"غ\")+COUNTIF(D33:K33,\"<50\")>=1,\"راسب\")))","v":""},null,null,null,null,null,"",""]
[29,{"$f":"'[1]التلاميذ والقيود '!F31","v":2805},{"$f":"'[1]التلاميذ والقيود '!G31","v":"فاطمه رسول حسين كاظم"},null,null,null,null,null,null,null,null,"",{"$f":"IFERROR(IF(L34=100,\"مائة درجة\",B_Only(L34,1,1,2,\"\",\"\",\"\")),\"\")","v":""},{"$f":"IF(D34:K34=\"\",\"\",IF(COUNTIF(D34:K34,\"غ\")+COUNTIF(D34:K34,\"<50\")=0,\"ناجح\",IF(COUNTIF(D34:K34,\"غ\")+COUNTIF(D34:K34,\"<50\")>=1,\"راسب\")))","v":""},null,null,null,null,null,"",""]
[30,{"$f":"'[1]التلاميذ والقيود '!F32","v":2548},{"$f":"'[1]التلاميذ والقيود '!G32","v":"فاطمه علي جاسم"},null,null,null,null,null,null,null,null,"",{"$f":"IFERROR(IF(L35=100,\"مائة درجة\",B_Only(L35,1,1,2,\"\",\"\",\"\")),\"\")","v":""},{"$f":"IF(D35:K35=\"\",\"\",IF(COUNTIF(D35:K35,\"غ\")+COUNTIF(D35:K35,\"<50\")=0,\"ناجح\",IF(COUNTIF(D35:K35,\"غ\")+COUNTIF(D35:K35,\"<50\")>=1,\"راسب\")))","v":""},null,null,null,null,null,"",""]
[31,{"$f":"'[1]التلاميذ والقيود '!F33","v":2533},{"$f":"'[1]التلاميذ والقيود '!G33","v":"فاطمه مصطفى سالم"},null,null,null,null,null,null,null,null,"",{"$f":"IFERROR(IF(L36=100,\"مائة درجة\",B_Only(L36,1,1,2,\"\",\"\",\"\")),\"\")","v":""},{"$f":"IF(D36:K36=\"\",\"\",IF(COUNTIF(D36:K36,\"غ\")+COUNTIF(D36:K36,\"<50\")=0,\"ناجح\",IF(COUNTIF(D36:K36,\"غ\")+COUNTIF(D36:K36,\"<50\")>=1,\"راسب\")))","v":""},null,null,null,null,null,"",""]
[32,{"$f":"'[1]التلاميذ والقيود '!F34","v":2518},{"$f":"'[1]التلاميذ والقيود '!G34","v":"فرح حيدر عيدان"},null,null,null,null,null,null,null,null,"",{"$f":"IFERROR(IF(L37=100,\"مائة درجة\",B_Only(L37,1,1,2,\"\",\"\",\"\")),\"\")","v":""},{"$f":"IF(D37:K37=\"\",\"\",IF(COUNTIF(D37:K37,\"غ\")+COUNTIF(D37:K37,\"<50\")=0,\"ناجح\",IF(COUNTIF(D37:K37,\"غ\")+COUNTIF(D37:K37,\"<50\")>=1,\"راسب\")))","v":""},null,null,null,null,null,"",""]
[33,{"$f":"'[1]التلاميذ والقيود '!F35","v":2478},{"$f":"'[1]التلاميذ والقيود '!G35","v":"فرح عقيل مجيد"},null,null,null,null,null,null,null,null,"",{"$f":"IFERROR(IF(L38=100,\"مائة درجة\",B_Only(L38,1,1,2,\"\",\"\",\"\")),\"\")","v":""},{"$f":"IF(D38:K38=\"\",\"\",IF(COUNTIF(D38:K38,\"غ\")+COUNTIF(D38:K38,\"<50\")=0,\"ناجح\",IF(COUNTIF(D38:K38,\"غ\")+COUNTIF(D38:K38,\"<50\")>=1,\"راسب\")))","v":""},null,null,null,null,null,"",""]
[34,{"$f":"'[1]التلاميذ والقيود '!F36","v":2804},{"$f":"'[1]التلاميذ والقيود '!G36","v":"مرام رعد محسن عبيد"},null,null,null,null,null,null,null,null,"",{"$f":"IFERROR(IF(L39=100,\"مائة درجة\",B_Only(L39,1,1,2,\"\",\"\",\"\")),\"\")","v":""},{"$f":"IF(D39:K39=\"\",\"\",IF(COUNTIF(D39:K39,\"غ\")+COUNTIF(D39:K39,\"<50\")=0,\"ناجح\",IF(COUNTIF(D39:K39,\"غ\")+COUNTIF(D39:K39,\"<50\")>=1,\"راسب\")))","v":""},null,null,null,null,null,"",""]
[35,{"$f":"'[1]التلاميذ والقيود '!F37","v":2461},{"$f":"'[1]التلاميذ والقيود '!G37","v":"مريم احمد عبد الرزاق"},null,null,null,null,null,null,null,null,"",{"$f":"IFERROR(IF(L40=100,\"مائة درجة\",B_Only(L40,1,1,2,\"\",\"\",\"\")),\"\")","v":""},{"$f":"IF(D40:K40=\"\",\"\",IF(COUNTIF(D40:K40,\"غ\")+COUNTIF(D40:K40,\"<50\")=0,\"ناجح\",IF(COUNTIF(D40:K40,\"غ\")+COUNTIF(D40:K40,\"<50\")>=1,\"راسب\")))","v":""},null,null,null,null,null,"",""]
[36,{"$f":"'[1]التلاميذ والقيود '!F38","v":2572},{"$f":"'[1]التلاميذ والقيود '!G38","v":"مريم علي جاسم"},null,null,null,null,null,null,null,null,"",{"$f":"IFERROR(IF(L41=100,\"مائة درجة\",B_Only(L41,1,1,2,\"\",\"\",\"\")),\"\")","v":""},{"$f":"IF(D41:K41=\"\",\"\",IF(COUNTIF(D41:K41,\"غ\")+COUNTIF(D41:K41,\"<50\")=0,\"ناجح\",IF(COUNTIF(D41:K41,\"غ\")+COUNTIF(D41:K41,\"<50\")>=1,\"راسب\")))","v":""},null,null,null,null,null,"",""]
[37,{"$f":"'[1]التلاميذ والقيود '!F39","v":2401},{"$f":"'[1]التلاميذ والقيود '!G39","v":"معصومه حيدر جاسم"},null,null,null,null,null,null,null,null,"",{"$f":"IFERROR(IF(L42=100,\"مائة درجة\",B_Only(L42,1,1,2,\"\",\"\",\"\")),\"\")","v":""},{"$f":"IF(D42:K42=\"\",\"\",IF(COUNTIF(D42:K42,\"غ\")+COUNTIF(D42:K42,\"<50\")=0,\"ناجح\",IF(COUNTIF(D42:K42,\"غ\")+COUNTIF(D42:K42,\"<50\")>=1,\"راسب\")))","v":""},null,null,null,null,null,"",""]
[38,{"$f":"'[1]التلاميذ والقيود '!F40","v":2693},{"$f":"'[1]التلاميذ والقيود '!G40","v":"ملكوت علي جاسب"},null,null,null,null,null,null,null,null,"",{"$f":"IFERROR(IF(L43=100,\"مائة درجة\",B_Only(L43,1,1,2,\"\",\"\",\"\")),\"\")","v":""},{"$f":"IF(D43:K43=\"\",\"\",IF(COUNTIF(D43:K43,\"غ\")+COUNTIF(D43:K43,\"<50\")=0,\"ناجح\",IF(COUNTIF(D43:K43,\"غ\")+COUNTIF(D43:K43,\"<50\")>=1,\"راسب\")))","v":""},null,null,null,null,null,"",""]
[39,{"$f":"'[1]التلاميذ والقيود '!F41","v":2525},{"$f":"'[1]التلاميذ والقيود '!G41","v":"منى عباس محسن "},null,null,null,null,null,null,null,null,"",{"$f":"IFERROR(IF(L44=100,\"مائة درجة\",B_Only(L44,1,1,2,\"\",\"\",\"\")),\"\")","v":""},{"$f":"IF(D44:K44=\"\",\"\",IF(COUNTIF(D44:K44,\"غ\")+COUNTIF(D44:K44,\"<50\")=0,\"ناجح\",IF(COUNTIF(D44:K44,\"غ\")+COUNTIF(D44:K44,\"<50\")>=1,\"راسب\")))","v":""},null,null,null,null,null,"",""]
[40,{"$f":"'[1]التلاميذ والقيود '!F42","v":2532},{"$f":"'[1]التلاميذ والقيود '!G42","v":"نادين طه هاشم"},null,null,null,null,null,null,null,null,"",{"$f":"IFERROR(IF(L45=100,\"مائة درجة\",B_Only(L45,1,1,2,\"\",\"\",\"\")),\"\")","v":""},{"$f":"IF(D45:K45=\"\",\"\",IF(COUNTIF(D45:K45,\"غ\")+COUNTIF(D45:K45,\"<50\")=0,\"ناجح\",IF(COUNTIF(D45:K45,\"غ\")+COUNTIF(D45:K45,\"<50\")>=1,\"راسب\")))","v":""},null,null,null,null,null,"",""]
[41,{"$f":"'[1]التلاميذ والقيود '!F43","v":2434},{"$f":"'[1]التلاميذ والقيود '!G43","v":"نرجس محمد محسن"},null,null,null,null,null,null,null,null,"",{"$f":"IFERROR(IF(L46=100,\"مائة درجة\",B_Only(L46,1,1,2,\"\",\"\",\"\")),\"\")","v":""},{"$f":"IF(D46:K46=\"\",\"\",IF(COUNTIF(D46:K46,\"غ\")+COUNTIF(D46:K46,\"<50\")=0,\"ناجح\",IF(COUNTIF(D46:K46,\"غ\")+COUNTIF(D46:K46,\"<50\")>=1,\"راسب\")))","v":""},null,null,null,null,null,"",""]
[42,{"$f":"'[1]التلاميذ والقيود '!F44","v":2355},{"$f":"'[1]التلاميذ والقيود '!G44","v":"نور الهدى محمد مجبل"},null,null,null,null,null,null,null,null,"",{"$f":"IFERROR(IF(L47=100,\"مائة درجة\",B_Only(L47,1,1,2,\"\",\"\",\"\")),\"\")","v":""},{"$f":"IF(D47:K47=\"\",\"\",IF(COUNTIF(D47:K47,\"غ\")+COUNTIF(D47:K47,\"<50\")=0,\"ناجح\",IF(COUNTIF(D47:K47,\"غ\")+COUNTIF(D47:K47,\"<50\")>=1,\"راسب\")))","v":""},null,null,null,null,null,"",""]
[43,{"$f":"'[1]التلاميذ والقيود '!F45","v":1931},{"$f":"'[1]التلاميذ والقيود '!G45","v":"هند علي ياسين"},null,null,null,null,null,null,null,null,"",{"$f":"IFERROR(IF(L48=100,\"مائة درجة\",B_Only(L48,1,1,2,\"\",\"\",\"\")),\"\")","v":""},{"$f":"IF(D48:K48=\"\",\"\",IF(COUNTIF(D48:K48,\"غ\")+COUNTIF(D48:K48,\"<50\")=0,\"ناجح\",IF(COUNTIF(D48:K48,\"غ\")+COUNTIF(D48:K48,\"<50\")>=1,\"راسب\")))","v":""},null,null,null,null,null,"",""]
[44,{"$f":"'[1]التلاميذ والقيود '!F46","v":2531},{"$f":"'[1]التلاميذ والقيود '!G46","v":"يقين حسين علي"},null,null,null,null,null,null,null,null,"",{"$f":"IFERROR(IF(L49=100,\"مائة درجة\",B_Only(L49,1,1,2,\"\",\"\",\"\")),\"\")","v":""},{"$f":"IF(D49:K49=\"\",\"\",IF(COUNTIF(D49:K49,\"غ\")+COUNTIF(D49:K49,\"<50\")=0,\"ناجح\",IF(COUNTIF(D49:K49,\"غ\")+COUNTIF(D49:K49,\"<50\")>=1,\"راسب\")))","v":""},null,null,null,null,null,"",""]
[45,{"$f":"'[1]التلاميذ والقيود '!F47","v":0},{"$f":"'[1]التلاميذ والقيود '!G47","v":0},null,null,null,null,null,null,null,null,"",{"$f":"IFERROR(IF(L50=100,\"مائة درجة\",B_Only(L50,1,1,2,\"\",\"\",\"\")),\"\")","v":""},{"$f":"IF(D50:K50=\"\",\"\",IF(COUNTIF(D50:K50,\"غ\")+COUNTIF(D50:K50,\"<50\")=0,\"ناجح\",IF(COUNTIF(D50:K50,\"غ\")+COUNTIF(D50:K50,\"<50\")>=1,\"راسب\")))","v":""},null,null,null,null,null,"",""]
[46,{"$f":"'[1]التلاميذ والقيود '!F48","v":0},{"$f":"'[1]التلاميذ والقيود '!G48","v":0},null,null,null,null,null,null,null,null,"",{"$f":"IFERROR(IF(L51=100,\"مائة درجة\",B_Only(L51,1,1,2,\"\",\"\",\"\")),\"\")","v":""},{"$f":"IF(D51:K51=\"\",\"\",IF(COUNTIF(D51:K51,\"غ\")+COUNTIF(D51:K51,\"<50\")=0,\"ناجح\",IF(COUNTIF(D51:K51,\"غ\")+COUNTIF(D51:K51,\"<50\")>=1,\"راسب\")))","v":""},null,null,null,null,null,"",""]
[47,{"$f":"'[1]التلاميذ والقيود '!F49","v":0},{"$f":"'[1]التلاميذ والقيود '!G49","v":0},null,null,null,null,null,null,null,null,"",{"$f":"IFERROR(IF(L52=100,\"مائة درجة\",B_Only(L52,1,1,2,\"\",\"\",\"\")),\"\")","v":""},{"$f":"IF(D52:K52=\"\",\"\",IF(COUNTIF(D52:K52,\"غ\")+COUNTIF(D52:K52,\"<50\")=0,\"ناجح\",IF(COUNTIF(D52:K52,\"غ\")+COUNTIF(D52:K52,\"<50\")>=1,\"راسب\")))","v":""},null,null,null,null,null,"",""]
[48,{"$f":"'[1]التلاميذ والقيود '!F50","v":0},{"$f":"'[1]التلاميذ والقيود '!G50","v":0},null,null,null,null,null,null,null,null,"",{"$f":"IFERROR(IF(L53=100,\"مائة درجة\",B_Only(L53,1,1,2,\"\",\"\",\"\")),\"\")","v":""},{"$f":"IF(D53:K53=\"\",\"\",IF(COUNTIF(D53:K53,\"غ\")+COUNTIF(D53:K53,\"<50\")=0,\"ناجح\",IF(COUNTIF(D53:K53,\"غ\")+COUNTIF(D53:K53,\"<50\")>=1,\"راسب\")))","v":""},null,null,null,null,null,"",""]
[49,{"$f":"'[1]التلاميذ والقيود '!F51","v":0},{"$f":"'[1]التلاميذ والقيود '!G51","v":0},null,null,null,null,null,null,null,null,"",{"$f":"IFERROR(IF(L54=100,\"مائة درجة\",B_Only(L54,1,1,2,\"\",\"\",\"\")),\"\")","v":""},{"$f":"IF(D54:K54=\"\",\"\",IF(COUNTIF(D54:K54,\"غ\")+COUNTIF(D54:K54,\"<50\")=0,\"ناجح\",IF(COUNTIF(D54:K54,\"غ\")+COUNTIF(D54:K54,\"<50\")>=1,\"راسب\")))","v":""},null,null,null,null,null,"",""]
[50,{"$f":"'[1]التلاميذ والقيود '!F52","v":0},{"$f":"'[1]التلاميذ والقيود '!G52","v":0},null,null,null,null,null,null,null,null,"",{"$f":"IFERROR(IF(L55=100,\"مائة درجة\",B_Only(L55,1,1,2,\"\",\"\",\"\")),\"\")","v":""},{"$f":"IF(D55:K55=\"\",\"\",IF(COUNTIF(D55:K55,\"غ\")+COUNTIF(D55:K55,\"<50\")=0,\"ناجح\",IF(COUNTIF(D55:K55,\"غ\")+COUNTIF(D55:K55,\"<50\")>=1,\"راسب\")))","v":""},null,null,null,null,null,"",""]
[]
[null,"المشتركون"]
[null,"الناجحون",null,{"$f":"COUNTIF(T6:T55,\"=2\")","v":1}]
[null,"الراسبون",null,{"$f":"COUNTIF(U5:U54,\"=3\")","v":7}]
[null,"النسبة المئوية"]
[null,"الغائبون"]
[null,"الممتحنون"]

{"sheet":"المكملون","index":5,"n_rows":7,"n_cols":7,"rows_kept":7,"cut":false,"hidden":false,"merged":[[5,0,5,6]]}
[]
[]
[]
[]
[]
[" المكملون في الصف الخامس أ + ب"]
["ت","رقم القيد","اسم التلميذ","الدروس التي اكمل فيها","درجة الدور الأول","درجة الدور الثاني","النتيجة"]