{"text_format":"1","workbook":"xlsx","n_sheets":7,"sheets":["Stocks","Entrees","Sorties","Recap Stock","Recap Entree","Recap Sortie","BD"],"not_rendered":{"charts":0,"images":0,"macros":1,"external_links":0,"defined_names":6,"comments":0,"pivot_tables":0},"unopened":[],"bounds":{"document_bytes":16777216,"sheet_cells":100000,"rows_first":2000,"rows_last":500,"rows_between":2000,"halvings":0,"cell_chars":16384,"cell_head_chars":4096},"cells_cut":0,"cells_raw":0,"read":"whole","date_system":"1900"}

{"sheet":"Stocks","index":0,"n_rows":2604,"n_cols":10,"rows_kept":2604,"cut":false,"hidden":false,"merged":[]}
["Réf","Article","Couleur","Stock Initial","Stock Entrée","Stock Sortie","Stock Réel","Stock Mini","État","Dernière Modif"]
["G1","CS2T OR","AUB",50,100,20,{"$f":"D2+E2-F2","v":130},10,{"$f":"IF(G2 = \"\",\"\",IF(G2<=H2,\"Commander\",\"Correct\"))","v":"Correct"},"09/12/2019"]
["G2","CS2T OR","BE",50,null,null,{"$f":"+D3+E3-F3","v":50},10,{"$f":"IF(G3 = \"\",\"\",IF(G3<=H3,\"Commander\",\"Correct\"))","v":"Correct"}]
["G3","CS2T OR","BEOR",50,null,null,50,10,"Correct"]
["G4","CS2T OR","BEF",50,null,null,50,10,"Correct"]
["G5","CS2T OR","BF",50,null,null,50,10,"Correct"]
["G6","CS2T OR","BL",50,null,null,50,10,"Correct"]
["G7","CS2T OR","BLC",50,null,null,50,10,"Correct"]
["G8","CS2T OR","BLCc",50,null,null,50,10,"Correct"]
["G9","CS2T OR","BLR",50,null,null,50,10,"Correct"]
["G10","CS2T OR","BO",50,null,null,null,null,""]
["G11","CS2T OR","BR",50,null,null,null,null,""]
["G12","CS2T OR","CR",50,null,null,null,null,""]
["G13","CS2T OR","CL",50,null,null,null,null,""]
["G14","CS2T OR","CRL",50,null,null,null,null,""]
["G15","CS2T OR","CVT",50,null,null,null,null,""]
["G16","CS2T OR","JP",50,null,null,null,null,""]
["G17","CS2T OR","G0",50,null,null,null,null,""]
["G18","CS2T OR","G2",50,null,null,null,null,""]
["G19","CS2T OR","G3",50,null,null,null,null,""]
["G20","CS2T OR","GF",50,null,null,null,null,""]
["G21","CS2T OR","GR",50,null,null,null,null,""]
["G22","CS2T OR","GRF",50,null,null,null,null,""]
["G23","CS2T OR","MTR",50,null,null,null,null,""]
["G24","CS2T OR","M2 ",50,null,null,null,null,""]
["G25","CS2T OR","MO",50,null,null,null,null,""]
["G26","CS2T OR","MOF",50,null,null,null,null,""]
["G27","CS2T OR","MOV",50,null,null,null,null,""]
["G28","CS2T OR","MR",50,null,null,null,null,""]
["G29","CS2T OR","MRN",50,null,null,null,null,""]
["G30","CS2T OR","NR",50,null,null,null,null,""]
["G31","CS2T OR","OR",50,null,null,null,null,""]
["G32","CS2T OR","PA",50,null,null,null,null,""]
["G33","CS2T OR","PA2",50,null,null,null,null,""]
["G34","CS2T OR","PR",50,null,null,null,null,""]
["G35","CS2T OR","R1",50,null,null,null,null,""]
["G36","CS2T OR","R2",50,null,null,null,null,""]
["G37","CS2T OR","R3",50,null,null,null,null,""]
["G38","CS2T OR","RB",50,null,null,null,null,""]
["G39","CS2T OR","RF",50,null,null,null,null,""]
["G40","CS2T OR","RFF",50,null,null,null,null,""]
["G41","CS2T OR","TA",50,null,null,null,null,""]
["G42","CS2T OR","TR",50,null,null,null,null,""]
["G43","CS2T OR","VA",50,null,null,null,null,""]
["G44","CS2T OR","VD",50,null,null,null,null,""]
["G45","CS2T OR","VEM",50,null,null,null,null,""]
["G46","CS2T OR","VIO",50,null,null,null,null,""]
["G47","CS2T OR","VM",50,null,null,null,null,""]
["G48","CS2T OR","VP",50,null,null,null,null,""]
["G49","CS2T ARG","AUB",50,null,null,null,null,""]
["G50","CS2T ARG","BE",50,null,null,null,null,""]
["G51","CS2T ARG","BEOR",50,null,null,null,null,""]
["G52","CS2T ARG","BEF",50,null,null,null,null,""]
["G53","CS2T ARG","BF",50,null,null,null,null,""]
["G54","CS2T ARG","BL",50,null,null,null,null,""]
["G55","CS2T ARG","BLC",50,null,null,null,null,""]
["G56","CS2T ARG","BLCc",50,null,null,null,null,""]
["G57","CS2T ARG","BLR",50,null,null,null,null,""]
["G58","CS2T ARG","BO",50,null,null,null,null,""]
["G59","CS2T ARG","BR",50,null,null,null,null,""]
["G60","CS2T ARG","CR",50,null,null,null,null,""]
["G61","CS2T ARG","CL",50,null,null,null,null,""]
["G62","CS2T ARG","CRL",50,null,null,null,null,""]
["G63","CS2T ARG","CVT",50,null,null,null,null,""]
["G64","CS2T ARG","JP",50,null,null,null,null,""]
["G65","CS2T ARG","G0",50,null,null,null,null,""]
["G66","CS2T ARG","G2",50,null,null,null,null,{"$f":"IF(G67 = \"\",\"\",IF(G67<=H67,\"Commander\",\"Correct\"))","v":""}]
["G67","CS2T ARG","G3",50,null,null,null,null,""]
["G68","CS2T ARG","GF",50,null,null,null,null,""]
["G69","CS2T ARG","GR",50,null,null,null,null,""]
["G70","CS2T ARG","GRF",50,null,null,null,null,""]
["G71","CS2T ARG","MTR",50,null,null,null,null,""]
["G72","CS2T ARG","M2 ",50,null,null,null,null,""]
["G73","CS2T ARG","MO",50,null,null,null,null,""]
["G74","CS2T ARG","MOF",50,null,null,null,null,""]
["G75","CS2T ARG","MOV",50,null,null,null,null,""]
["G76","CS2T ARG","MR",50,null,null,null,null,""]
["G77","CS2T ARG","MRN",50,null,null,null,null,""]
["G78","CS2T ARG","NR",50,null,null,null,null,""]
["G79","CS2T ARG","OR",50,null,null,null,null,""]
["G80","CS2T ARG","PA",50,null,null,null,null,""]
["G81","CS2T ARG","PA2",50,null,null,null,null,""]
["G82","CS2T ARG","PR",50,null,null,null,null,""]
["G83","CS2T ARG","R1",50,null,null,null,null,""]
["G84","CS2T ARG","R2",50,null,null,null,null,""]
["G85","CS2T ARG","R3",50,null,null,null,null,""]
["G86","CS2T ARG","RB",50,null,null,null,null,""]
["G87","CS2T ARG","RF",50,null,null,null,null,""]
["G88","CS2T ARG","RFF",50,null,null,null,null,""]
["G89","CS2T ARG","TA",50,null,null,null,null,""]
["G90","CS2T ARG","TR",50,null,null,null,null,""]
["G91","CS2T ARG","VA",50,null,null,null,null,""]
["G92","CS2T ARG","VD",50,null,null,null,null,""]
["G93","CS2T ARG","VEM",50,null,null,null,null,""]
["G94","CS2T ARG","VIO",50,null,null,null,null,""]
["G95","CS2T ARG","VM",50,null,null,null,null,""]
["G96","CS2T ARG","VP",50,null,null,null,null,""]
["G97","CS2T NR","AUB",50,null,null,null,null,""]
["G98","CS2T NR","BE",50,null,null,null,null,""]
["G99","CS2T NR","BEOR",50,null,null,null,null,""]
["G100","CS2T NR","BEF",50,null,null,null,null,""]
["G101","CS2T NR","BF",50,null,null,null,null,""]
["G102","CS2T NR","BL",50,null,null,null,null,""]
["G103","CS2T NR","BLC",50,null,null,null,null,""]
["G104","CS2T NR","BLCc",50,null,null,null,null,""]
["G105","CS2T NR","BLR",50,null,null,null,null,""]
["G106","CS2T NR","BO",50,null,null,null,null,""]
["G107","CS2T NR","BR",50,null,null,null,null,""]
["G108","CS2T NR","CR",50,null,null,null,null,""]
["G109","CS2T NR","CL",50,null,null,null,null,""]
["G110","CS2T NR","CRL",50,null,null,null,null,""]
["G111","CS2T NR","CVT",50,null,null,null,null,""]
["G112","CS2T NR","JP",50,null,null,null,null,""]
["G113","CS2T NR","G0",50,null,null,null,null,""]
["G114","CS2T NR","G2",50,null,null,null,null,""]
["G115","CS2T NR","G3",50,null,null,null,null,""]
["G116","CS2T NR","GF",50,null,null,null,null,""]
["G117","CS2T NR","GR",50,null,null,null,null,""]
["G118","CS2T NR","GRF",50,null,null,null,null,""]
["G119","CS2T NR","MTR",50,null,null,null,null,""]
["G120","CS2T NR","M2 ",50,null,null,null,null,""]
["G121","CS2T NR","MO",50,null,null,null,null,""]
["G122","CS2T NR","MOF",50,null,null,null,null,""]
["G123","CS2T NR","MOV",50,null,null,null,null,""]
["G124","CS2T NR","MR",50,null,null,null,null,""]
["G125","CS2T NR","MRN",50,null,null,null,null,""]
["G126","CS2T NR","NR",50,null,null,null,null,""]
["G127","CS2T NR","OR",50,null,null,null,null,""]
["G128","CS2T NR","PA",50,null,null,null,null,""]
["G129","CS2T NR","PA2",50,null,null,null,null,""]
["G130","CS2T NR","PR",50,null,null,null,null,{"$f":"IF(G131 = \"\",\"\",IF(G131<=H131,\"Commander\",\"Correct\"))","v":""}]
["G131","CS2T NR","R1",50,null,null,null,null,""]
["G132","CS2T NR","R2",50,null,null,null,null,""]
["G133","CS2T NR","R3",50,null,null,null,null,""]
["G134","CS2T NR","RB",50,null,null,null,null,""]
["G135","CS2T NR","RF",50,null,null,null,null,""]
["G136","CS2T NR","RFF",50,null,null,null,null,""]
["G137","CS2T NR","TA",50,null,null,null,null,""]
["G138","CS2T NR","TR",50,null,null,null,null,""]
["G139","CS2T NR","VA",50,null,null,null,null,""]
["G140","CS2T NR","VD",50,null,null,null,null,""]
["G141","CS2T NR","VEM",50,null,null,null,null,""]
["G142","CS2T NR","VIO",50,null,null,null,null,""]
["G143","CS2T NR","VM",50,null,null,null,null,""]
["G144","CS2T NR","VP",50,null,null,null,null,""]
["G145","CS2T UNIS","AUB",50,null,null,null,null,""]
["G146","CS2T UNIS","BE",50,null,null,null,null,""]
["G147","CS2T UNIS","BEOR",50,null,null,null,null,""]
["G148","CS2T UNIS","BEF",50,null,null,null,null,""]
["G149","CS2T UNIS","BF",50,null,null,null,null,""]
["G150","CS2T UNIS","BL",50,null,null,null,null,""]
["G151","CS2T UNIS","BLC",50,null,null,null,null,""]
["G152","CS2T UNIS","BLCc",50,null,null,null,null,""]
["G153","CS2T UNIS","BLR",50,null,null,null,null,""]
["G154","CS2T UNIS","BO",50,null,null,null,null,""]
["G155","CS2T UNIS","BR",50,null,null,null,null,""]
["G156","CS2T UNIS","CR",50,null,null,null,null,""]
["G157","CS2T UNIS","CL",50,null,null,null,null,""]
["G158","CS2T UNIS","CRL",50,null,null,null,null,""]
["G159","CS2T UNIS","CVT",50,null,null,null,null,""]
["G160","CS2T UNIS","JP",50,null,null,null,null,""]
["G161","CS2T UNIS","G0",50,null,null,null,null,""]
["G162","CS2T UNIS","G2",50,null,null,null,null,""]
["G163","CS2T UNIS","G3",50,null,null,null,null,""]
["G164","CS2T UNIS","GF",50,null,null,null,null,""]
["G165","CS2T UNIS","GR",50,null,null,null,null,""]
["G166","CS2T UNIS","GRF",50,null,null,null,null,""]
["G167","CS2T UNIS","MTR",50,null,null,null,null,""]
["G168","CS2T UNIS","M2 ",50,null,null,null,null,""]
["G169","CS2T UNIS","MO",50,null,null,null,null,""]
["G170","CS2T UNIS","MOF",50,null,null,null,null,""]
["G171","CS2T UNIS","MOV",50,null,null,null,null,""]
["G172","CS2T UNIS","MR",50,null,null,null,null,""]
["G173","CS2T UNIS","MRN",50,null,null,null,null,""]
["G174","CS2T UNIS","NR",50,null,null,null,null,""]
["G175","CS2T UNIS","OR",50,null,null,null,null,""]
["G176","CS2T UNIS","PA",50,null,null,null,null,""]
["G177","CS2T UNIS","PA2",50,null,null,null,null,""]
["G178","CS2T UNIS","PR",50,null,null,null,null,""]
["G179","CS2T UNIS","R1",50,null,null,null,null,""]
["G180","CS2T UNIS","R2",50,null,null,null,null,""]
["G181","CS2T UNIS","R3",50,null,null,null,null,""]
["G182","CS2T UNIS","RB",50,null,null,null,null,""]
["G183","CS2T UNIS","RF",50,null,null,null,null,""]
["G184","CS2T UNIS","RFF",50,null,null,null,null,""]
["G185","CS2T UNIS","TA",50,null,null,null,null,""]
["G186","CS2T UNIS","TR",50,null,null,null,null,""]
["G187","CS2T UNIS","VA",50,null,null,null,null,""]
["G188","CS2T UNIS","VD",50,null,null,null,null,""]
["G189","CS2T UNIS","VEM",50,null,null,null,null,""]
["G190","CS2T UNIS","VIO",50,null,null,null,null,""]
["G191","CS2T UNIS","VM",50,null,null,null,null,""]
["G192","CS2T UNIS","VP",50,null,null,null,null,""]
["G193","CMK GM","AUB",50,null,null,null,null,""]
["G194","CMK GM","BE",50,null,null,null,null,{"$f":"IF(G195 = \"\",\"\",IF(G195<=H195,\"Commander\",\"Correct\"))","v":""}]
["G195","CMK GM","BEOR",50,null,null,null,null,""]
["G196","CMK GM","BEF",50,null,null,null,null,""]
["G197","CMK GM","BF",50,null,null,null,null,""]
["G198","CMK GM","BL",50,null,null,null,null,""]
["G199","CMK GM","BLC",50,null,null,null,null,""]
["G200","CMK GM","BLCc",50,null,null,null,null,""]
["G201","CMK GM","BLR",50,null,null,null,null,""]
["G202","CMK GM","BO",50,null,null,null,null,""]
["G203","CMK GM","BR",50,null,null,null,null,""]
["G204","CMK GM","CR",50,null,null,null,null,""]
["G205","CMK GM","CL",50,null,null,null,null,""]
["G206","CMK GM","CRL",50,null,null,null,null,""]
["G207","CMK GM","CVT",50,null,null,null,null,""]
["G208","CMK GM","JP",50,null,null,null,null,""]
["G209","CMK GM","G0",50,null,null,null,null,""]
["G210","CMK GM","G2",50,null,null,null,null,""]
["G211","CMK GM","G3",50,null,null,null,null,""]
["G212","CMK GM","GF",50,null,null,null,null,""]
["G213","CMK GM","GR",50,null,null,null,null,""]
["G214","CMK GM","GRF",50,null,null,null,null,""]
["G215","CMK GM","MTR",50,null,null,null,null,""]
["G216","CMK GM","M2 ",50,null,null,null,null,""]
["G217","CMK GM","MO",50,null,null,null,null,""]
["G218","CMK GM","MOF",50,null,null,null,null,""]
["G219","CMK GM","MOV",50,null,null,null,null,""]
["G220","CMK GM","MR",50,null,null,null,null,""]
["G221","CMK GM","MRN",50,null,null,null,null,""]
["G222","CMK GM","NR",50,null,null,null,null,""]
["G223","CMK GM","OR",50,null,null,null,null,""]
["G224","CMK GM","PA",50,null,null,null,null,""]
["G225","CMK GM","PA2",50,null,null,null,null,""]
["G226","CMK GM","PR",50,null,null,null,null,""]
["G227","CMK GM","R1",50,null,null,null,null,""]
["G228","CMK GM","R2",50,null,null,null,null,""]
["G229","CMK GM","R3",50,null,null,null,null,""]
["G230","CMK GM","RB",50,null,null,null,null,""]
["G231","CMK GM","RF",50,null,null,null,null,""]
["G232","CMK GM","RFF",50,null,null,null,null,""]
["G233","CMK GM","TA",50,null,null,null,null,""]
["G234","CMK GM","TR",50,null,null,null,null,""]
["G235","CMK GM","VA",50,null,null,null,null,""]
["G236","CMK GM","VD",50,null,null,null,null,""]
["G237","CMK GM","VEM",50,null,null,null,null,""]
["G238","CMK GM","VIO",50,null,null,null,null,""]
["G239","CMK GM","VM",50,null,null,null,null,""]
["G240","CMK GM","VP",50,null,null,null,null,""]
["G241","CMK ARG","AUB",50,null,null,null,null,""]
["G242","CMK ARG","BE",50,null,null,null,null,""]
["G243","CMK ARG","BEOR",50,null,null,null,null,""]
["G244","CMK ARG","BEF",50,null,null,null,null,""]
["G245","CMK ARG","BF",50,null,null,null,null,""]
["G246","CMK ARG","BL",50,null,null,null,null,""]
["G247","CMK ARG","BLC",50,null,null,null,null,""]
["G248","CMK ARG","BLCc",50,null,null,null,null,""]
["G249","CMK ARG","BLR",50,null,null,null,null,""]
["G250","CMK ARG","BO",50,null,null,null,null,""]
["G251","CMK ARG","BR",50,null,null,null,null,""]
["G252","CMK ARG","CR",50,null,null,null,null,""]
["G253","CMK ARG","CL",50,null,null,null,null,""]
["G254","CMK ARG","CRL",50,null,null,null,null,""]
["G255","CMK ARG","CVT",50,null,null,null,null,""]
["G256","CMK ARG","JP",50,null,null,null,null,""]
["G257","CMK ARG","G0",50,null,null,null,null,""]
["G258","CMK ARG","G2",50,null,null,null,null,{"$f":"IF(G259 = \"\",\"\",IF(G259<=H259,\"Commander\",\"Correct\"))","v":""}]
["G259","CMK ARG","G3",50,null,null,null,null,""]
["G260","CMK ARG","GF",50,null,null,null,null,""]
["G261","CMK ARG","GR",50,null,null,null,null,""]
["G262","CMK ARG","GRF",50,null,null,null,null,""]
["G263","CMK ARG","MTR",50,null,null,null,null,""]
["G264","CMK ARG","M2 ",50,null,null,null,null,""]
["G265","CMK ARG","MO",50,null,null,null,null,""]
["G266","CMK ARG","MOF",50,null,null,null,null,""]
["G267","CMK ARG","MOV",50,null,null,null,null,""]
["G268","CMK ARG","MR",50,null,null,null,null,""]
["G269","CMK ARG","MRN",50,null,null,null,null,""]
["G270","CMK ARG","NR",50,null,null,null,null,""]
["G271","CMK ARG","OR",50,null,null,null,null,""]
["G272","CMK ARG","PA",50,null,null,null,null,""]
["G273","CMK ARG","PA2",50,null,null,null,null,""]
["G274","CMK ARG","PR",50,null,null,null,null,""]
["G275","CMK ARG","R1",50,null,null,null,null,""]
["G276","CMK ARG","R2",50,null,null,null,null,""]
["G277","CMK ARG","R3",50,null,null,null,null,""]
["G278","CMK ARG","RB",50,null,null,null,null,""]
["G279","CMK ARG","RF",50,null,null,null,null,""]
["G280","CMK ARG","RFF",50,null,null,null,null,""]
["G281","CMK ARG","TA",50,null,null,null,null,""]
["G282","CMK ARG","TR",50,null,null,null,null,""]
["G283","CMK ARG","VA",50,null,null,null,null,""]
["G284","CMK ARG","VD",50,null,null,null,null,""]
["G285","CMK ARG","VEM",50,null,null,null,null,""]
["G286","CMK ARG","VIO",50,null,null,null,null,""]
["G287","CMK ARG","VM",50,null,null,null,null,""]
["G288","CMK ARG","VP",50,null,null,null,null,""]
["G289","CMK FIN","AUB",50,null,null,null,null,""]
["G290","CMK FIN","BE",50,null,null,null,null,""]
["G291","CMK FIN","BEOR",50,null,null,null,null,""]
["G292","CMK FIN","BEF",50,null,null,null,null,""]
["G293","CMK FIN","BF",50,null,null,null,null,""]
["G294","CMK FIN","BL",50,null,null,null,null,""]
["G295","CMK FIN","BLC",50,null,null,null,null,""]
["G296","CMK FIN","BLCc",50,null,null,null,null,""]
["G297","CMK FIN","BLR",50,null,null,null,null,""]
["G298","CMK FIN","BO",50,null,null,null,null,""]
["G299","CMK FIN","BR",50,null,null,null,null,""]
["G300","CMK FIN","CR",50,null,null,null,null,""]
["G301","CMK FIN","CL",50,null,null,null,null,""]
["G302","CMK FIN","CRL",50,null,null,null,null,""]
["G303","CMK FIN","CVT",50,null,null,null,null,""]
["G304","CMK FIN","JP",50,null,null,null,null,""]
["G305","CMK FIN","G0",50,null,null,null,null,""]
["G306","CMK FIN","G2",50,null,null,null,null,""]
["G307","CMK FIN","G3",50,null,null,null,null,""]
["G308","CMK FIN","GF",50,null,null,null,null,""]
["G309","CMK FIN","GR",50,null,null,null,null,""]
["G310","CMK FIN","GRF",50,null,null,null,null,""]
["G311","CMK FIN","MTR",50,null,null,null,null,""]
["G312","CMK FIN","M2 ",50,null,null,null,null,""]
["G313","CMK FIN","MO",50,null,null,null,null,""]
["G314","CMK FIN","MOF",50,null,null,null,null,""]
["G315","CMK FIN","MOV",50,null,null,null,null,""]
["G316","CMK FIN","MR",50,null,null,null,null,""]
["G317","CMK FIN","MRN",50,null,null,null,null,""]
["G318","CMK FIN","NR",50,null,null,null,null,""]
["G319","CMK FIN","OR",50,null,null,null,null,""]
["G320","CMK FIN","PA",50,null,null,null,null,""]
["G321","CMK FIN","PA2",50,null,null,null,null,""]
["G322","CMK FIN","PR",50,null,null,null,null,{"$f":"IF(G323 = \"\",\"\",IF(G323<=H323,\"Commander\",\"Correct\"))","v":""}]
["G323","CMK FIN","R1",50,null,null,null,null,""]
["G324","CMK FIN","R2",50,null,null,null,null,""]
["G325","CMK FIN","R3",50,null,null,null,null,""]
["G326","CMK FIN","RB",50,null,null,null,null,""]
["G327","CMK FIN","RF",50,null,null,null,null,""]
["G328","CMK FIN","RFF",50,null,null,null,null,""]
["G329","CMK FIN","TA",50,null,null,null,null,""]
["G330","CMK FIN","TR",50,null,null,null,null,""]
["G331","CMK FIN","VA",50,null,null,null,null,""]
["G332","CMK FIN","VD",50,null,null,null,null,""]
["G333","CMK FIN","VEM",50,null,null,null,null,""]
["G334","CMK FIN","VIO",50,null,null,null,null,""]
["G335","CMK FIN","VM",50,null,null,null,null,""]
["G336","CMK FIN","VP",50,null,null,null,null,""]
["G337","FM04","AUB",50,null,null,null,null,""]
["G338","FM04","BE",50,null,null,null,null,""]
["G339","FM04","BEOR",50,null,null,null,null,""]
["G340","FM04","BEF",50,null,null,null,null,""]
["G341","FM04","BF",50,null,null,null,null,""]
["G342","FM04","BL",50,null,null,null,null,""]
["G343","FM04","BLC",50,null,null,null,null,""]
["G344","FM04","BLCc",50,null,null,null,null,""]
["G345","FM04","BLR",50,null,null,null,null,""]
["G346","FM04","BO",50,null,null,null,null,""]
["G347","FM04","BR",50,null,null,null,null,""]
["G348","FM04","CR",50,null,null,null,null,""]
["G349","FM04","CL",50,null,null,null,null,""]
["G350","FM04","CRL",50,null,null,null,null,""]
["G351","FM04","CVT",50,null,null,null,null,""]
["G352","FM04","JP",50,null,null,null,null,""]
["G353","FM04","G0",50,null,null,null,null,""]
["G354","FM04","G2",50,null,null,null,null,""]
["G355","FM04","G3",50,null,null,null,null,""]
["G356","FM04","GF",50,null,null,null,null,""]
["G357","FM04","GR",50,null,null,null,null,""]
["G358","FM04","GRF",50,null,null,null,null,""]
["G359","FM04","MTR",50,null,null,null,null,""]
["G360","FM04","M2 ",50,null,null,null,null,""]
["G361","FM04","MO",50,null,null,null,null,""]
["G362","FM04","MOF",50,null,null,null,null,""]
["G363","FM04","MOV",50,null,null,null,null,""]
["G364","FM04","MR",50,null,null,null,null,""]
["G365","FM04","MRN",50,null,null,null,null,""]
["G366","FM04","NR",50,null,null,null,null,""]
["G367","FM04","OR",50,null,null,null,null,""]
["G368","FM04","PA",50,null,null,null,null,""]
["G369","FM04","PA2",50,null,null,null,null,""]
["G370","FM04","PR",50,null,null,null,null,""]
["G371","FM04","R1",50,null,null,null,null,""]
["G372","FM04","R2",50,null,null,null,null,""]
["G373","FM04","R3",50,null,null,null,null,""]
["G374","FM04","RB",50,null,null,null,null,""]
["G375","FM04","RF",50,null,null,null,null,""]
["G376","FM04","RFF",50,null,null,null,null,""]
["G377","FM04","TA",50,null,null,null,null,""]
["G378","FM04","TR",50,null,null,null,null,""]
["G379","FM04","VA",50,null,null,null,null,""]
["G380","FM04","VD",50,null,null,null,null,""]
["G381","FM04","VEM",50,null,null,null,null,""]
["G382","FM04","VIO",50,null,null,null,null,""]
["G383","FM04","VM",50,null,null,null,null,""]
["G384","FM04","VP",50,null,null,null,null,""]
["G385","F02 OR","AUB",50,null,null,null,null,""]
["G386","F02 OR","BE",50,null,null,null,null,{"$f":"IF(G387 = \"\",\"\",IF(G387<=H387,\"Commander\",\"Correct\"))","v":""}]
["G387","F02 OR","BEOR",50,null,null,null,null,""]
["G388","F02 OR","BEF",50,null,null,null,null,""]
["G389","F02 OR","BF",50,null,null,null,null,""]
["G390","F02 OR","BL",50,null,null,null,null,""]
["G391","F02 OR","BLC",50,null,null,null,null,""]
["G392","F02 OR","BLCc",50,null,null,null,null,""]
["G393","F02 OR","BLR",50,null,null,null,null,""]
["G394","F02 OR","BO",50,null,null,null,null,""]
["G395","F02 OR","BR",50,null,null,null,null,""]
["G396","F02 OR","CR",50,null,null,null,null,""]
["G397","F02 OR","CL",50,null,null,null,null,""]
["G398","F02 OR","CRL",50,null,null,null,null,""]
["G399","F02 OR","CVT",50,null,null,null,null,""]
["G400","F02 OR","JP",50,null,null,null,null,""]
["G401","F02 OR","G0",50,null,null,null,null,""]
["G402","F02 OR","G2",50,null,null,null,null,""]
["G403","F02 OR","G3",50,null,null,null,null,""]
["G404","F02 OR","GF",50,null,null,null,null,""]
["G405","F02 OR","GR",50,null,null,null,null,""]
["G406","F02 OR","GRF",50,null,null,null,null,""]
["G407","F02 OR","MTR",50,null,null,null,null,""]
["G408","F02 OR","M2 ",50,null,null,null,null,""]
["G409","F02 OR","MO",50,null,null,null,null,""]
["G410","F02 OR","MOF",50,null,null,null,null,""]
["G411","F02 OR","MOV",50,null,null,null,null,""]
["G412","F02 OR","MR",50,null,null,null,null,""]
["G413","F02 OR","MRN",50,null,null,null,null,""]
["G414","F02 OR","NR",50,null,null,null,null,""]
["G415","F02 OR","OR",50,null,null,null,null,""]
["G416","F02 OR","PA",50,null,null,null,null,""]
["G417","F02 OR","PA2",50,null,null,null,null,""]
["G418","F02 OR","PR",50,null,null,null,null,""]
["G419","F02 OR","R1",50,null,null,null,null,""]
["G420","F02 OR","R2",50,null,null,null,null,""]
["G421","F02 OR","R3",50,null,null,null,null,""]
["G422","F02 OR","RB",50,null,null,null,null,""]
["G423","F02 OR","RF",50,null,null,null,null,""]
["G424","F02 OR","RFF",50,null,null,null,null,""]
["G425","F02 OR","TA",50,null,null,null,null,""]
["G426","F02 OR","TR",50,null,null,null,null,""]
["G427","F02 OR","VA",50,null,null,null,null,""]
["G428","F02 OR","VD",50,null,null,null,null,""]
["G429","F02 OR","VEM",50,null,null,null,null,""]
["G430","F02 OR","VIO",50,null,null,null,null,""]
["G431","F02 OR","VM",50,null,null,null,null,""]
["G432","F02 OR","VP",50,null,null,null,null,""]
["G433","F02 ARG","AUB",50,null,null,null,null,""]
["G434","F02 ARG","BE",50,null,null,null,null,""]
["G435","F02 ARG","BEOR",50,null,null,null,null,""]
["G436","F02 ARG","BEF",50,null,null,null,null,""]
["G437","F02 ARG","BF",50,null,null,null,null,""]
["G438","F02 ARG","BL",50,null,null,null,null,""]
["G439","F02 ARG","BLC",50,null,null,null,null,""]
["G440","F02 ARG","BLCc",50,null,null,null,null,""]
["G441","F02 ARG","BLR",50,null,null,null,null,""]
["G442","F02 ARG","BO",50,null,null,null,null,""]
["G443","F02 ARG","BR",50,null,null,null,null,""]
["G444","F02 ARG","CR",50,null,null,null,null,""]
["G445","F02 ARG","CL",50,null,null,null,null,""]
["G446","F02 ARG","CRL",50,null,null,null,null,""]
["G447","F02 ARG","CVT",50,null,null,null,null,""]
["G448","F02 ARG","JP",50,null,null,null,null,""]
["G449","F02 ARG","G0",50,null,null,null,null,""]
["G450","F02 ARG","G2",50,null,null,null,null,{"$f":"IF(G451 = \"\",\"\",IF(G451<=H451,\"Commander\",\"Correct\"))","v":""}]
["G451","F02 ARG","G3",50,null,null,null,null,""]
["G452","F02 ARG","GF",50,null,null,null,null,""]
["G453","F02 ARG","GR",50,null,null,null,null,""]
["G454","F02 ARG","GRF",50,null,null,null,null,""]
["G455","F02 ARG","MTR",50,null,null,null,null,""]
["G456","F02 ARG","M2 ",50,null,null,null,null,""]
["G457","F02 ARG","MO",50,null,null,null,null,""]
["G458","F02 ARG","MOF",50,null,null,null,null,""]
["G459","F02 ARG","MOV",50,null,null,null,null,""]
["G460","F02 ARG","MR",50,null,null,null,null,""]
["G461","F02 ARG","MRN",50,null,null,null,null,""]
["G462","F02 ARG","NR",50,null,null,null,null,""]
["G463","F02 ARG","OR",50,null,null,null,null,""]
["G464","F02 ARG","PA",50,null,null,null,null,""]
["G465","F02 ARG","PA2",50,null,null,null,null,""]
["G466","F02 ARG","PR",50,null,null,null,null,""]
["G467","F02 ARG","R1",50,null,null,null,null,""]
["G468","F02 ARG","R2",50,null,null,null,null,""]
["G469","F02 ARG","R3",50,null,null,null,null,""]
["G470","F02 ARG","RB",50,null,null,null,null,""]
["G471","F02 ARG","RF",50,null,null,null,null,""]
["G472","F02 ARG","RFF",50,null,null,null,null,""]
["G473","F02 ARG","TA",50,null,null,null,null,""]
["G474","F02 ARG","TR",50,null,null,null,null,""]
["G475","F02 ARG","VA",50,null,null,null,null,""]
["G476","F02 ARG","VD",50,null,null,null,null,""]
["G477","F02 ARG","VEM",50,null,null,null,null,""]
["G478","F02 ARG","VIO",50,null,null,null,null,""]
["G479","F02 ARG","VM",50,null,null,null,null,""]
["G480","F02 ARG","VP",50,null,null,null,null,""]
["G481","F02 NR","AUB",50,null,null,null,null,""]
["G482","F02 NR","BE",50,null,null,null,null,""]
["G483","F02 NR","BEOR",50,null,null,null,null,""]
["G484","F02 NR","BEF",50,null,null,null,null,""]
["G485","F02 NR","BF",50,null,null,null,null,""]
["G486","F02 NR","BL",50,null,null,null,null,""]
["G487","F02 NR","BLC",50,null,null,null,null,""]
["G488","F02 NR","BLCc",50,null,null,null,null,""]
["G489","F02 NR","BLR",50,null,null,null,null,""]
["G490","F02 NR","BO",50,null,null,null,null,""]
["G491","F02 NR","BR",50,null,null,null,null,""]
["G492","F02 NR","CR",50,null,null,null,null,""]
["G493","F02 NR","CL",50,null,null,null,null,""]
["G494","F02 NR","CRL",50,null,null,null,null,""]
["G495","F02 NR","CVT",50,null,null,null,null,""]
["G496","F02 NR","JP",50,null,null,null,null,""]
["G497","F02 NR","G0",50,null,null,null,null,""]
["G498","F02 NR","G2",50,null,null,null,null,""]
["G499","F02 NR","G3",50,null,null,null,null,""]
["G500","F02 NR","GF",50,null,null,null,null,""]
["G501","F02 NR","GR",50,null,null,null,null,""]
["G502","F02 NR","GRF",50,null,null,null,null,""]
["G503","F02 NR","MTR",50,null,null,null,null,""]
["G504","F02 NR","M2 ",50,null,null,null,null,""]
["G505","F02 NR","MO",50,null,null,null,null,""]
["G506","F02 NR","MOF",50,null,null,null,null,""]
["G507","F02 NR","MOV",50,null,null,null,null,""]
["G508","F02 NR","MR",50,null,null,null,null,""]
["G509","F02 NR","MRN",50,null,null,null,null,""]
["G510","F02 NR","NR",50,null,null,null,null,""]
["G511","F02 NR","OR",50,null,null,null,null,""]
["G512","F02 NR","PA",50,null,null,null,null,""]
["G513","F02 NR","PA2",50,null,null,null,null,""]
["G514","F02 NR","PR",50,null,null,null,null,{"$f":"IF(G515 = \"\",\"\",IF(G515<=H515,\"Commander\",\"Correct\"))","v":""}]
["G515","F02 NR","R1",50,null,null,null,null,""]
["G516","F02 NR","R2",50,null,null,null,null,""]
["G517","F02 NR","R3",50,null,null,null,null,""]
["G518","F02 NR","RB",50,null,null,null,null,""]
["G519","F02 NR","RF",50,null,null,null,null,""]
["G520","F02 NR","RFF",50,null,null,null,null,""]
["G521","F02 NR","TA",50,null,null,null,null,""]
["G522","F02 NR","TR",50,null,null,null,null,""]
["G523","F02 NR","VA",50,null,null,null,null,""]
["G524","F02 NR","VD",50,null,null,null,null,""]
["G525","F02 NR","VEM",50,null,null,null,null,""]
["G526","F02 NR","VIO",50,null,null,null,null,""]
["G527","F02 NR","VM",50,null,null,null,null,""]
["G528","F02 NR","VP",50,null,null,null,null,""]
["G529","FP 100 OR","AUB",50,null,null,null,null,""]
["G530","FP 100 OR","BE",50,null,null,null,null,""]
["G531","FP 100 OR","BEOR",50,null,null,null,null,""]
["G532","FP 100 OR","BEF",50,null,null,null,null,""]
["G533","FP 100 OR","BF",50,null,null,null,null,""]
["G534","FP 100 OR","BL",50,null,null,null,null,""]
["G535","FP 100 OR","BLC",50,null,null,null,null,""]
["G536","FP 100 OR","BLCc",50,null,null,null,null,""]
["G537","FP 100 OR","BLR",50,null,null,null,null,""]
["G538","FP 100 OR","BO",50,null,null,null,null,""]
["G539","FP 100 OR","BR",50,null,null,null,null,""]
["G540","FP 100 OR","CR",50,null,null,null,null,""]
["G541","FP 100 OR","CL",50,null,null,null,null,""]
["G542","FP 100 OR","CRL",50,null,null,null,null,""]
["G543","FP 100 OR","CVT",50,null,null,null,null,""]
["G544","FP 100 OR","JP",50,null,null,null,null,""]
["G545","FP 100 OR","G0",50,null,null,null,null,""]
["G546","FP 100 OR","G2",50,null,null,null,null,""]
["G547","FP 100 OR","G3",50,null,null,null,null,""]
["G548","FP 100 OR","GF",50,null,null,null,null,""]
["G549","FP 100 OR","GR",50,null,null,null,null,""]
["G550","FP 100 OR","GRF",50,null,null,null,null,""]
["G551","FP 100 OR","MTR",50,null,null,null,null,""]
["G552","FP 100 OR","M2 ",50,null,null,null,null,""]
["G553","FP 100 OR","MO",50,null,null,null,null,""]
["G554","FP 100 OR","MOF",50,null,null,null,null,""]
["G555","FP 100 OR","MOV",50,null,null,null,null,""]
["G556","FP 100 OR","MR",50,null,null,null,null,""]
["G557","FP 100 OR","MRN",50,null,null,null,null,""]
["G558","FP 100 OR","NR",50,null,null,null,null,""]
["G559","FP 100 OR","OR",50,null,null,null,null,""]
["G560","FP 100 OR","PA",50,null,null,null,null,""]
["G561","FP 100 OR","PA2",50,null,null,null,null,""]
["G562","FP 100 OR","PR",50,null,null,null,null,""]
["G563","FP 100 OR","R1",50,null,null,null,null,""]
["G564","FP 100 OR","R2",50,null,null,null,null,""]
["G565","FP 100 OR","R3",50,null,null,null,null,""]
["G566","FP 100 OR","RB",50,null,null,null,null,""]
["G567","FP 100 OR","RF",50,null,null,null,null,""]
["G568","FP 100 OR","RFF",50,null,null,null,null,""]
["G569","FP 100 OR","TA",50,null,null,null,null,""]
["G570","FP 100 OR","TR",50,null,null,null,null,""]
["G571","FP 100 OR","VA",50,null,null,null,null,""]
["G572","FP 100 OR","VD",50,null,null,null,null,""]
["G573","FP 100 OR","VEM",50,null,null,null,null,""]
["G574","FP 100 OR","VIO",50,null,null,null,null,""]
["G575","FP 100 OR","VM",50,null,null,null,null,""]
["G576","FP 100 OR","VP",50,null,null,null,null,""]
["G577","FP 100 ARG","AUB",50,null,null,null,null,""]
["G578","FP 100 ARG","BE",50,null,null,null,null,{"$f":"IF(G579 = \"\",\"\",IF(G579<=H579,\"Commander\",\"Correct\"))","v":""}]
["G579","FP 100 ARG","BEOR",50,null,null,null,null,""]
["G580","FP 100 ARG","BEF",50,null,null,null,null,""]
["G581","FP 100 ARG","BF",50,null,null,null,null,""]
["G582","FP 100 ARG","BL",50,null,null,null,null,""]
["G583","FP 100 ARG","BLC",50,null,null,null,null,""]
["G584","FP 100 ARG","BLCc",50,null,null,null,null,""]
["G585","FP 100 ARG","BLR",50,null,null,null,null,""]
["G586","FP 100 ARG","BO",50,null,null,null,null,""]
["G587","FP 100 ARG","BR",50,null,null,null,null,""]
["G588","FP 100 ARG","CR",50,null,null,null,null,""]
["G589","FP 100 ARG","CL",50,null,null,null,null,""]
["G590","FP 100 ARG","CRL",50,null,null,null,null,""]
["G591","FP 100 ARG","CVT",50,null,null,null,null,""]
["G592","FP 100 ARG","JP",50,null,null,null,null,""]
["G593","FP 100 ARG","G0",50,null,null,null,null,""]
["G594","FP 100 ARG","G2",50,null,null,null,null,""]
["G595","FP 100 ARG","G3",50,null,null,null,null,""]
["G596","FP 100 ARG","GF",50,null,null,null,null,""]
["G597","FP 100 ARG","GR",50,null,null,null,null,""]
["G598","FP 100 ARG","GRF",50,null,null,null,null,""]
["G599","FP 100 ARG","MTR",50,null,null,null,null,""]
["G600","FP 100 ARG","M2 ",50,null,null,null,null,""]
["G601","FP 100 ARG","MO",50,null,null,null,null,""]
["G602","FP 100 ARG","MOF",50,null,null,null,null,""]
["G603","FP 100 ARG","MOV",50,null,null,null,null,""]
["G604","FP 100 ARG","MR",50,null,null,null,null,""]
["G605","FP 100 ARG","MRN",50,null,null,null,null,""]
["G606","FP 100 ARG","NR",50,null,null,null,null,""]
["G607","FP 100 ARG","OR",50,null,null,null,null,""]
["G608","FP 100 ARG","PA",50,null,null,null,null,""]
["G609","FP 100 ARG","PA2",50,null,null,null,null,""]
["G610","FP 100 ARG","PR",50,null,null,null,null,""]
["G611","FP 100 ARG","R1",50,null,null,null,null,""]
["G612","FP 100 ARG","R2",50,null,null,null,null,""]
["G613","FP 100 ARG","R3",50,null,null,null,null,""]
["G614","FP 100 ARG","RB",50,null,null,null,null,""]
["G615","FP 100 ARG","RF",50,null,null,null,null,""]
["G616","FP 100 ARG","RFF",50,null,null,null,null,""]
["G617","FP 100 ARG","TA",50,null,null,null,null,""]
["G618","FP 100 ARG","TR",50,null,null,null,null,""]
["G619","FP 100 ARG","VA",50,null,null,null,null,""]
["G620","FP 100 ARG","VD",50,null,null,null,null,""]
["G621","FP 100 ARG","VEM",50,null,null,null,null,""]
["G622","FP 100 ARG","VIO",50,null,null,null,null,""]
["G623","FP 100 ARG","VM",50,null,null,null,null,""]
["G624","FP 100 ARG","VP",50,null,null,null,null,""]
["G625","FT 08","AUB",50,null,null,null,null,""]
["G626","FT 08","BE",50,null,null,null,null,""]
["G627","FT 08","BEOR",50,null,null,null,null,""]
["G628","FT 08","BEF",50,null,null,null,null,""]
["G629","FT 08","BF",50,null,null,null,null,""]
["G630","FT 08","BL",50,null,null,null,null,""]
["G631","FT 08","BLC",50,null,null,null,null,""]
["G632","FT 08","BLCc",50,null,null,null,null,""]
["G633","FT 08","BLR",50,null,null,null,null,""]
["G634","FT 08","BO",50,null,null,null,null,""]
["G635","FT 08","BR",50,null,null,null,null,""]
["G636","FT 08","CR",50,null,null,null,null,""]
["G637","FT 08","CL",50,null,null,null,null,""]
["G638","FT 08","CRL",50,null,null,null,null,""]
["G639","FT 08","CVT",50,null,null,null,null,""]
["G640","FT 08","JP",50,null,null,null,null,""]
["G641","FT 08","G0",50,null,null,null,null,""]
["G642","FT 08","G2",50,null,null,null,null,{"$f":"IF(G643 = \"\",\"\",IF(G643<=H643,\"Commander\",\"Correct\"))","v":""}]
["G643","FT 08","G3",50,null,null,null,null,""]
["G644","FT 08","GF",50,null,null,null,null,""]
["G645","FT 08","GR",50,null,null,null,null,""]
["G646","FT 08","GRF",50,null,null,null,null,""]
["G647","FT 08","MTR",50,null,null,null,null,""]
["G648","FT 08","M2 ",50,null,null,null,null,""]
["G649","FT 08","MO",50,null,null,null,null,""]
["G650","FT 08","MOF",50,null,null,null,null,""]
["G651","FT 08","MOV",50,null,null,null,null,""]
["G652","FT 08","MR",50,null,null,null,null,""]
["G653","FT 08","MRN",50,null,null,null,null,""]
["G654","FT 08","NR",50,null,null,null,null,""]
["G655","FT 08","OR",50,null,null,null,null,""]
["G656","FT 08","PA",50,null,null,null,null,""]
["G657","FT 08","PA2",50,null,null,null,null,""]
["G658","FT 08","PR",50,null,null,null,null,""]
["G659","FT 08","R1",50,null,null,null,null,""]
["G660","FT 08","R2",50,null,null,null,null,""]
["G661","FT 08","R3",50,null,null,null,null,""]
["G662","FT 08","RB",50,null,null,null,null,""]
["G663","FT 08","RF",50,null,null,null,null,""]
["G664","FT 08","RFF",50,null,null,null,null,""]
["G665","FT 08","TA",50,null,null,null,null,""]
["G666","FT 08","TR",50,null,null,null,null,""]
["G667","FT 08","VA",50,null,null,null,null,""]
["G668","FT 08","VD",50,null,null,null,null,""]
["G669","FT 08","VEM",50,null,null,null,null,""]
["G670","FT 08","VIO",50,null,null,null,null,""]
["G671","FT 08","VM",50,null,null,null,null,""]
["G672","FT 08","VP",50,null,null,null,null,""]
["G673","FT 10","AUB",50,null,null,null,null,""]
["G674","FT 10","BE",50,null,null,null,null,""]
["G675","FT 10","BEOR",50,null,null,null,null,""]
["G676","FT 10","BEF",50,null,null,null,null,""]
["G677","FT 10","BF",50,null,null,null,null,""]
["G678","FT 10","BL",50,null,null,null,null,""]
["G679","FT 10","BLC",50,null,null,null,null,""]
["G680","FT 10","BLCc",50,null,null,null,null,""]
["G681","FT 10","BLR",50,null,null,null,null,""]
["G682","FT 10","BO",50,null,null,null,null,""]
["G683","FT 10","BR",50,null,null,null,null,""]
["G684","FT 10","CR",50,null,null,null,null,""]
["G685","FT 10","CL",50,null,null,null,null,""]
["G686","FT 10","CRL",50,null,null,null,null,""]
["G687","FT 10","CVT",50,null,null,null,null,""]
["G688","FT 10","JP",50,null,null,null,null,""]
["G689","FT 10","G0",50,null,null,null,null,""]
["G690","FT 10","G2",50,null,null,null,null,""]
["G691","FT 10","G3",50,null,null,null,null,""]
["G692","FT 10","GF",50,null,null,null,null,""]
["G693","FT 10","GR",50,null,null,null,null,""]
["G694","FT 10","GRF",50,null,null,null,null,""]
["G695","FT 10","MTR",50,null,null,null,null,""]
["G696","FT 10","M2 ",50,null,null,null,null,""]
["G697","FT 10","MO",50,null,null,null,null,""]
["G698","FT 10","MOF",50,null,null,null,null,""]
["G699","FT 10","MOV",50,null,null,null,null,""]
["G700","FT 10","MR",50,null,null,null,null,""]
["G701","FT 10","MRN",50,null,null,null,null,""]
["G702","FT 10","NR",50,null,null,null,null,""]
["G703","FT 10","OR",50,null,null,null,null,""]
["G704","FT 10","PA",50,null,null,null,null,""]
["G705","FT 10","PA2",50,null,null,null,null,""]
["G706","FT 10","PR",50,null,null,null,null,{"$f":"IF(G707 = \"\",\"\",IF(G707<=H707,\"Commander\",\"Correct\"))","v":""}]
["G707","FT 10","R1",50,null,null,null,null,""]
["G708","FT 10","R2",50,null,null,null,null,""]
["G709","FT 10","R3",50,null,null,null,null,""]
["G710","FT 10","RB",50,null,null,null,null,""]
["G711","FT 10","RF",50,null,null,null,null,""]
["G712","FT 10","RFF",50,null,null,null,null,""]
["G713","FT 10","TA",50,null,null,null,null,""]
["G714","FT 10","TR",50,null,null,null,null,""]
["G715","FT 10","VA",50,null,null,null,null,""]
["G716","FT 10","VD",50,null,null,null,null,""]
["G717","FT 10","VEM",50,null,null,null,null,""]
["G718","FT 10","VIO",50,null,null,null,null,""]
["G719","FT 10","VM",50,null,null,null,null,""]
["G720","FT 10","VP",50,null,null,null,null,""]
["G721","FT 03","AUB",50,null,null,null,null,""]
["G722","FT 03","BE",50,null,null,null,null,""]
["G723","FT 03","BEOR",50,null,null,null,null,""]
["G724","FT 03","BEF",50,null,null,null,null,""]
["G725","FT 03","BF",50,null,null,null,null,""]
["G726","FT 03","BL",50,null,null,null,null,""]
["G727","FT 03","BLC",50,null,null,null,null,""]
["G728","FT 03","BLCc",50,null,null,null,null,""]
["G729","FT 03","BLR",50,null,null,null,null,""]
["G730","FT 03","BO",50,null,null,null,null,""]
["G731","FT 03","BR",50,null,null,null,null,""]
["G732","FT 03","CR",50,null,null,null,null,""]
["G733","FT 03","CL",50,null,null,null,null,""]
["G734","FT 03","CRL",50,null,null,null,null,""]
["G735","FT 03","CVT",50,null,null,null,null,""]
["G736","FT 03","JP",50,null,null,null,null,""]
["G737","FT 03","G0",50,null,null,null,null,""]
["G738","FT 03","G2",50,null,null,null,null,""]
["G739","FT 03","G3",50,null,null,null,null,""]
["G740","FT 03","GF",50,null,null,null,null,""]
["G741","FT 03","GR",50,null,null,null,null,""]
["G742","FT 03","GRF",50,null,null,null,null,""]
["G743","FT 03","MTR",50,null,null,null,null,""]
["G744","FT 03","M2 ",50,null,null,null,null,""]
["G745","FT 03","MO",50,null,null,null,null,""]
["G746","FT 03","MOF",50,null,null,null,null,""]
["G747","FT 03","MOV",50,null,null,null,null,""]
["G748","FT 03","MR",50,null,null,null,null,""]
["G749","FT 03","MRN",50,null,null,null,null,""]
["G750","FT 03","NR",50,null,null,null,null,""]
["G751","FT 03","OR",50,null,null,null,null,""]
["G752","FT 03","PA",50,null,null,null,null,""]
["G753","FT 03","PA2",50,null,null,null,null,""]
["G754","FT 03","PR",50,null,null,null,null,""]
["G755","FT 03","R1",50,null,null,null,null,""]
["G756","FT 03","R2",50,null,null,null,null,""]
["G757","FT 03","R3",50,null,null,null,null,""]
["G758","FT 03","RB",50,null,null,null,null,""]
["G759","FT 03","RF",50,null,null,null,null,""]
["G760","FT 03","RFF",50,null,null,null,null,""]
["G761","FT 03","TA",50,null,null,null,null,""]
["G762","FT 03","TR",50,null,null,null,null,""]
["G763","FT 03","VA",50,null,null,null,null,""]
["G764","FT 03","VD",50,null,null,null,null,""]
["G765","FT 03","VEM",50,null,null,null,null,""]
["G766","FT 03","VIO",50,null,null,null,null,""]
["G767","FT 03","VM",50,null,null,null,null,""]
["G768","FT 03","VP",50,null,null,null,null,""]
["G769","FT +","AUB",50,null,null,null,null,""]
["G770","FT +","BE",50,null,null,null,null,{"$f":"IF(G771 = \"\",\"\",IF(G771<=H771,\"Commander\",\"Correct\"))","v":""}]
["G771","FT +","BEOR",50,null,null,null,null,""]
["G772","FT +","BEF",50,null,null,null,null,""]
["G773","FT +","BF",50,null,null,null,null,""]
["G774","FT +","BL",50,null,null,null,null,""]
["G775","FT +","BLC",50,null,null,null,null,""]
["G776","FT +","BLCc",50,null,null,null,null,""]
["G777","FT +","BLR",50,null,null,null,null,""]
["G778","FT +","BO",50,null,null,null,null,""]
["G779","FT +","BR",50,null,null,null,null,""]
["G780","FT +","CR",50,null,null,null,null,""]
["G781","FT +","CL",50,null,null,null,null,""]
["G782","FT +","CRL",50,null,null,null,null,""]
["G783","FT +","CVT",50,null,null,null,null,""]
["G784","FT +","JP",50,null,null,null,null,""]
["G785","FT +","G0",50,null,null,null,null,""]
["G786","FT +","G2",50,null,null,null,null,""]
["G787","FT +","G3",50,null,null,null,null,""]
["G788","FT +","GF",50,null,null,null,null,""]
["G789","FT +","GR",50,null,null,null,null,""]
["G790","FT +","GRF",50,null,null,null,null,""]
["G791","FT +","MTR",50,null,null,null,null,""]
["G792","FT +","M2 ",50,null,null,null,null,""]
["G793","FT +","MO",50,null,null,null,null,""]
["G794","FT +","MOF",50,null,null,null,null,""]
["G795","FT +","MOV",50,null,null,null,null,""]
["G796","FT +","MR",50,null,null,null,null,""]
["G797","FT +","MRN",50,null,null,null,null,""]
["G798","FT +","NR",50,null,null,null,null,""]
["G799","FT +","OR",50,null,null,null,null,""]
["G800","FT +","PA",50,null,null,null,null,""]
["G801","FT +","PA2",50,null,null,null,null,""]
["G802","FT +","PR",50,null,null,null,null,""]
["G803","FT +","R1",50,null,null,null,null,""]
["G804","FT +","R2",50,null,null,null,null,""]
["G805","FT +","R3",50,null,null,null,null,""]
["G806","FT +","RB",50,null,null,null,null,""]
["G807","FT +","RF",50,null,null,null,null,""]
["G808","FT +","RFF",50,null,null,null,null,""]
["G809","FT +","TA",50,null,null,null,null,""]
["G810","FT +","TR",50,null,null,null,null,""]
["G811","FT +","VA",50,null,null,null,null,""]
["G812","FT +","VD",50,null,null,null,null,""]
["G813","FT +","VEM",50,null,null,null,null,""]
["G814","FT +","VIO",50,null,null,null,null,""]
["G815","FT +","VM",50,null,null,null,null,""]
["G816","FT +","VP",50,null,null,null,null,""]
["G817","FLR 11","AUB",50,null,null,null,null,""]
["G818","FLR 11","BE",50,null,null,null,null,""]
["G819","FLR 11","BEOR",50,null,null,null,null,""]
["G820","FLR 11","BEF",50,null,null,null,null,""]
["G821","FLR 11","BF",50,null,null,null,null,""]
["G822","FLR 11","BL",50,null,null,null,null,""]
["G823","FLR 11","BLC",50,null,null,null,null,""]
["G824","FLR 11","BLCc",50,null,null,null,null,""]
["G825","FLR 11","BLR",50,null,null,null,null,""]
["G826","FLR 11","BO",50,null,null,null,null,""]
["G827","FLR 11","BR",50,null,null,null,null,""]
["G828","FLR 11","CR",50,null,null,null,null,""]
["G829","FLR 11","CL",50,null,null,null,null,""]
["G830","FLR 11","CRL",50,null,null,null,null,""]
["G831","FLR 11","CVT",50,null,null,null,null,""]
["G832","FLR 11","JP",50,null,null,null,null,""]
["G833","FLR 11","G0",50,null,null,null,null,""]
["G834","FLR 11","G2",50,null,null,null,null,{"$f":"IF(G835 = \"\",\"\",IF(G835<=H835,\"Commander\",\"Correct\"))","v":""}]
["G835","FLR 11","G3",50,null,null,null,null,""]
["G836","FLR 11","GF",50,null,null,null,null,""]
["G837","FLR 11","GR",50,null,null,null,null,""]
["G838","FLR 11","GRF",50,null,null,null,null,""]
["G839","FLR 11","MTR",50,null,null,null,null,""]
["G840","FLR 11","M2 ",50,null,null,null,null,""]
["G841","FLR 11","MO",50,null,null,null,null,""]
["G842","FLR 11","MOF",50,null,null,null,null,""]
["G843","FLR 11","MOV",50,null,null,null,null,""]
["G844","FLR 11","MR",50,null,null,null,null,""]
["G845","FLR 11","MRN",50,null,null,null,null,""]
["G846","FLR 11","NR",50,null,null,null,null,""]
["G847","FLR 11","OR",50,null,null,null,null,""]
["G848","FLR 11","PA",50,null,null,null,null,""]
["G849","FLR 11","PA2",50,null,null,null,null,""]
["G850","FLR 11","PR",50,null,null,null,null,""]
["G851","FLR 11","R1",50,null,null,null,null,""]
["G852","FLR 11","R2",50,null,null,null,null,""]
["G853","FLR 11","R3",50,null,null,null,null,""]
["G854","FLR 11","RB",50,null,null,null,null,""]
["G855","FLR 11","RF",50,null,null,null,null,""]
["G856","FLR 11","RFF",50,null,null,null,null,""]
["G857","FLR 11","TA",50,null,null,null,null,""]
["G858","FLR 11","TR",50,null,null,null,null,""]
["G859","FLR 11","VA",50,null,null,null,null,""]
["G860","FLR 11","VD",50,null,null,null,null,""]
["G861","FLR 11","VEM",50,null,null,null,null,""]
["G862","FLR 11","VIO",50,null,null,null,null,""]
["G863","FLR 11","VM",50,null,null,null,null,""]
["G864","FLR 11","VP",50,null,null,null,null,""]
["G865","FLR 11 OR","AUB",50,null,null,null,null,""]
["G866","FLR 11 OR","BE",50,null,null,null,null,""]
["G867","FLR 11 OR","BEOR",50,null,null,null,null,""]
["G868","FLR 11 OR","BEF",50,null,null,null,null,""]
["G869","FLR 11 OR","BF",50,null,null,null,null,""]
["G870","FLR 11 OR","BL",50,null,null,null,null,""]
["G871","FLR 11 OR","BLC",50,null,null,null,null,""]
["G872","FLR 11 OR","BLCc",50,null,null,null,null,""]
["G873","FLR 11 OR","BLR",50,null,null,null,null,""]
["G874","FLR 11 OR","BO",50,null,null,null,null,""]
["G875","FLR 11 OR","BR",50,null,null,null,null,""]
["G876","FLR 11 OR","CR",50,null,null,null,null,""]
["G877","FLR 11 OR","CL",50,null,null,null,null,""]
["G878","FLR 11 OR","CRL",50,null,null,null,null,""]
["G879","FLR 11 OR","CVT",50,null,null,null,null,""]
["G880","FLR 11 OR","JP",50,null,null,null,null,""]
["G881","FLR 11 OR","G0",50,null,null,null,null,""]
["G882","FLR 11 OR","G2",50,null,null,null,null,""]
["G883","FLR 11 OR","G3",50,null,null,null,null,""]
["G884","FLR 11 OR","GF",50,null,null,null,null,""]
["G885","FLR 11 OR","GR",50,null,null,null,null,""]
["G886","FLR 11 OR","GRF",50,null,null,null,null,""]
["G887","FLR 11 OR","MTR",50,null,null,null,null,""]
["G888","FLR 11 OR","M2 ",50,null,null,null,null,""]
["G889","FLR 11 OR","MO",50,null,null,null,null,""]
["G890","FLR 11 OR","MOF",50,null,null,null,null,""]
["G891","FLR 11 OR","MOV",50,null,null,null,null,""]
["G892","FLR 11 OR","MR",50,null,null,null,null,""]
["G893","FLR 11 OR","MRN",50,null,null,null,null,""]
["G894","FLR 11 OR","NR",50,null,null,null,null,""]
["G895","FLR 11 OR","OR",50,null,null,null,null,""]
["G896","FLR 11 OR","PA",50,null,null,null,null,""]
["G897","FLR 11 OR","PA2",50,null,null,null,null,""]
["G898","FLR 11 OR","PR",50,null,null,null,null,{"$f":"IF(G899 = \"\",\"\",IF(G899<=H899,\"Commander\",\"Correct\"))","v":""}]
["G899","FLR 11 OR","R1",50,null,null,null,null,""]
["G900","FLR 11 OR","R2",50,null,null,null,null,""]
["G901","FLR 11 OR","R3",50,null,null,null,null,""]
["G902","FLR 11 OR","RB",50,null,null,null,null,""]
["G903","FLR 11 OR","RF",50,null,null,null,null,""]
["G904","FLR 11 OR","RFF",50,null,null,null,null,""]
["G905","FLR 11 OR","TA",50,null,null,null,null,""]
["G906","FLR 11 OR","TR",50,null,null,null,null,""]
["G907","FLR 11 OR","VA",50,null,null,null,null,""]
["G908","FLR 11 OR","VD",50,null,null,null,null,""]
["G909","FLR 11 OR","VEM",50,null,null,null,null,""]
["G910","FLR 11 OR","VIO",50,null,null,null,null,""]
["G911","FLR 11 OR","VM",50,null,null,null,null,""]
["G912","FLR 11 OR","VP",50,null,null,null,null,""]
["G913","FLR 11 ARG","AUB",50,null,null,null,null,""]
["G914","FLR 11 ARG","BE",50,null,null,null,null,""]
["G915","FLR 11 ARG","BEOR",50,null,null,null,null,""]
["G916","FLR 11 ARG","BEF",50,null,null,null,null,""]
["G917","FLR 11 ARG","BF",50,null,null,null,null,""]
["G918","FLR 11 ARG","BL",50,null,null,null,null,""]
["G919","FLR 11 ARG","BLC",50,null,null,null,null,""]
["G920","FLR 11 ARG","BLCc",50,null,null,null,null,""]
["G921","FLR 11 ARG","BLR",50,null,null,null,null,""]
["G922","FLR 11 ARG","BO",50,null,null,null,null,""]
["G923","FLR 11 ARG","BR",50,null,null,null,null,""]
["G924","FLR 11 ARG","CR",50,null,null,null,null,""]
["G925","FLR 11 ARG","CL",50,null,null,null,null,""]
["G926","FLR 11 ARG","CRL",50,null,null,null,null,""]
["G927","FLR 11 ARG","CVT",50,null,null,null,null,""]
["G928","FLR 11 ARG","JP",50,null,null,null,null,""]
["G929","FLR 11 ARG","G0",50,null,null,null,null,""]
["G930","FLR 11 ARG","G2",50,null,null,null,null,""]
["G931","FLR 11 ARG","G3",50,null,null,null,null,""]
["G932","FLR 11 ARG","GF",50,null,null,null,null,""]
["G933","FLR 11 ARG","GR",50,null,null,null,null,""]
["G934","FLR 11 ARG","GRF",50,null,null,null,null,""]
["G935","FLR 11 ARG","MTR",50,null,null,null,null,""]
["G936","FLR 11 ARG","M2 ",50,null,null,null,null,""]
["G937","FLR 11 ARG","MO",50,null,null,null,null,""]
["G938","FLR 11 ARG","MOF",50,null,null,null,null,""]
["G939","FLR 11 ARG","MOV",50,null,null,null,null,""]
["G940","FLR 11 ARG","MR",50,null,null,null,null,""]
["G941","FLR 11 ARG","MRN",50,null,null,null,null,""]
["G942","FLR 11 ARG","NR",50,null,null,null,null,""]
["G943","FLR 11 ARG","OR",50,null,null,null,null,""]
["G944","FLR 11 ARG","PA",50,null,null,null,null,""]
["G945","FLR 11 ARG","PA2",50,null,null,null,null,""]
["G946","FLR 11 ARG","PR",50,null,null,null,null,""]
["G947","FLR 11 ARG","R1",50,null,null,null,null,""]
["G948","FLR 11 ARG","R2",50,null,null,null,null,""]
["G949","FLR 11 ARG","R3",50,null,null,null,null,""]
["G950","FLR 11 ARG","RB",50,null,null,null,null,""]
["G951","FLR 11 ARG","RF",50,null,null,null,null,""]
["G952","FLR 11 ARG","RFF",50,null,null,null,null,""]
["G953","FLR 11 ARG","TA",50,null,null,null,null,""]
["G954","FLR 11 ARG","TR",50,null,null,null,null,""]
["G955","FLR 11 ARG","VA",50,null,null,null,null,""]
["G956","FLR 11 ARG","VD",50,null,null,null,null,""]
["G957","FLR 11 ARG","VEM",50,null,null,null,null,""]
["G958","FLR 11 ARG","VIO",50,null,null,null,null,""]
["G959","FLR 11 ARG","VM",50,null,null,null,null,""]
["G960","FLR 11 ARG","VP",50,null,null,null,null,""]
["G961","FLR GM","AUB",50,null,null,null,null,""]
["G962","FLR GM","BE",50,null,null,null,null,{"$f":"IF(G963 = \"\",\"\",IF(G963<=H963,\"Commander\",\"Correct\"))","v":""}]
["G963","FLR GM","BEOR",50,null,null,null,null,""]
["G964","FLR GM","BEF",50,null,null,null,null,""]
["G965","FLR GM","BF",50,null,null,null,null,""]
["G966","FLR GM","BL",50,null,null,null,null,""]
["G967","FLR GM","BLC",50,null,null,null,null,""]
["G968","FLR GM","BLCc",50,null,null,null,null,""]
["G969","FLR GM","BLR",50,null,null,null,null,""]
["G970","FLR GM","BO",50,null,null,null,null,""]
["G971","FLR GM","BR",50,null,null,null,null,""]
["G972","FLR GM","CR",50,null,null,null,null,""]
["G973","FLR GM","CL",50,null,null,null,null,""]
["G974","FLR GM","CRL",50,null,null,null,null,""]
["G975","FLR GM","CVT",50,null,null,null,null,""]
["G976","FLR GM","JP",50,null,null,null,null,""]
["G977","FLR GM","G0",50,null,null,null,null,""]
["G978","FLR GM","G2",50,null,null,null,null,""]
["G979","FLR GM","G3",50,null,null,null,null,""]
["G980","FLR GM","GF",50,null,null,null,null,""]
["G981","FLR GM","GR",50,null,null,null,null,""]
["G982","FLR GM","GRF",50,null,null,null,null,""]
["G983","FLR GM","MTR",50,null,null,null,null,""]
["G984","FLR GM","M2 ",50,null,null,null,null,""]
["G985","FLR GM","MO",50,null,null,null,null,""]
["G986","FLR GM","MOF",50,null,null,null,null,""]
["G987","FLR GM","MOV",50,null,null,null,null,""]
["G988","FLR GM","MR",50,null,null,null,null,""]
["G989","FLR GM","MRN",50,null,null,null,null,""]
["G990","FLR GM","NR",50,null,null,null,null,""]
["G991","FLR GM","OR",50,null,null,null,null,""]
["G992","FLR GM","PA",50,null,null,null,null,""]
["G993","FLR GM","PA2",50,null,null,null,null,""]
["G994","FLR GM","PR",50,null,null,null,null,""]
["G995","FLR GM","R1",50,null,null,null,null,""]
["G996","FLR GM","R2",50,null,null,null,null,""]
["G997","FLR GM","R3",50,null,null,null,null,""]
["G998","FLR GM","RB",50,null,null,null,null,""]
["G999","FLR GM","RF",50,null,null,null,null,""]
["G1000","FLR GM","RFF",50,null,null,null,null,""]
["G1001","FLR GM","TA",50,null,null,null,null,""]
["G1002","FLR GM","TR",50,null,null,null,null,""]
["G1003","FLR GM","VA",50,null,null,null,null,""]
["G1004","FLR GM","VD",50,null,null,null,null,""]
["G1005","FLR GM","VEM",50,null,null,null,null,""]
["G1006","FLR GM","VIO",50,null,null,null,null,""]
["G1007","FLR GM","VM",50,null,null,null,null,""]
["G1008","FLR GM","VP",50,null,null,null,null,""]
["G1009","FLR PM","AUB",50,null,null,null,null,""]
["G1010","FLR PM","BE",50,null,null,null,null,""]
["G1011","FLR PM","BEOR",50,null,null,null,null,""]
["G1012","FLR PM","BEF",50,null,null,null,null,""]
["G1013","FLR PM","BF",50,null,null,null,null,""]
["G1014","FLR PM","BL",50,null,null,null,null,""]
["G1015","FLR PM","BLC",50,null,null,null,null,""]
["G1016","FLR PM","BLCc",50,null,null,null,null,""]
["G1017","FLR PM","BLR",50,null,null,null,null,""]
["G1018","FLR PM","BO",50,null,null,null,null,""]
["G1019","FLR PM","BR",50,null,null,null,null,""]
["G1020","FLR PM","CR",50,null,null,null,null,""]
["G1021","FLR PM","CL",50,null,null,null,null,""]
["G1022","FLR PM","CRL",50,null,null,null,null,""]
["G1023","FLR PM","CVT",50,null,null,null,null,""]
["G1024","FLR PM","JP",50,null,null,null,null,""]
["G1025","FLR PM","G0",50,null,null,null,null,""]
["G1026","FLR PM","G2",50,null,null,null,null,{"$f":"IF(G1027 = \"\",\"\",IF(G1027<=H1027,\"Commander\",\"Correct\"))","v":""}]
["G1027","FLR PM","G3",50,null,null,null,null,""]
["G1028","FLR PM","GF",50,null,null,null,null,""]
["G1029","FLR PM","GR",50,null,null,null,null,""]
["G1030","FLR PM","GRF",50,null,null,null,null,""]
["G1031","FLR PM","MTR",50,null,null,null,null,""]
["G1032","FLR PM","M2 ",50,null,null,null,null,""]
["G1033","FLR PM","MO",50,null,null,null,null,""]
["G1034","FLR PM","MOF",50,null,null,null,null,""]
["G1035","FLR PM","MOV",50,null,null,null,null,""]
["G1036","FLR PM","MR",50,null,null,null,null,""]
["G1037","FLR PM","MRN",50,null,null,null,null,""]
["G1038","FLR PM","NR",50,null,null,null,null,""]
["G1039","FLR PM","OR",50,null,null,null,null,""]
["G1040","FLR PM","PA",50,null,null,null,null,""]
["G1041","FLR PM","PA2",50,null,null,null,null,""]
["G1042","FLR PM","PR",50,null,null,null,null,""]
["G1043","FLR PM","R1",50,null,null,null,null,""]
["G1044","FLR PM","R2",50,null,null,null,null,""]
["G1045","FLR PM","R3",50,null,null,null,null,""]
["G1046","FLR PM","RB",50,null,null,null,null,""]
["G1047","FLR PM","RF",50,null,null,null,null,""]
["G1048","FLR PM","RFF",50,null,null,null,null,""]
["G1049","FLR PM","TA",50,null,null,null,null,""]
["G1050","FLR PM","TR",50,null,null,null,null,""]
["G1051","FLR PM","VA",50,null,null,null,null,""]
["G1052","FLR PM","VD",50,null,null,null,null,""]
["G1053","FLR PM","VEM",50,null,null,null,null,""]
["G1054","FLR PM","VIO",50,null,null,null,null,""]
["G1055","FLR PM","VM",50,null,null,null,null,""]
["G1056","FLR PM","VP",50,null,null,null,null,""]
["G1057","FLR 6 CM","AUB",50,null,null,null,null,""]
["G1058","FLR 6 CM","BE",50,null,null,null,null,""]
["G1059","FLR 6 CM","BEOR",50,null,null,null,null,""]
["G1060","FLR 6 CM","BEF",50,null,null,null,null,""]
["G1061","FLR 6 CM","BF",50,null,null,null,null,""]
["G1062","FLR 6 CM","BL",50,null,null,null,null,""]
["G1063","FLR 6 CM","BLC",50,null,null,null,null,""]
["G1064","FLR 6 CM","BLCc",50,null,null,null,null,""]
["G1065","FLR 6 CM","BLR",50,null,null,null,null,""]
["G1066","FLR 6 CM","BO",50,null,null,null,null,""]
["G1067","FLR 6 CM","BR",50,null,null,null,null,""]
["G1068","FLR 6 CM","CR",50,null,null,null,null,""]
["G1069","FLR 6 CM","CL",50,null,null,null,null,""]
["G1070","FLR 6 CM","CRL",50,null,null,null,null,""]
["G1071","FLR 6 CM","CVT",50,null,null,null,null,""]
["G1072","FLR 6 CM","JP",50,null,null,null,null,""]
["G1073","FLR 6 CM","G0",50,null,null,null,null,""]
["G1074","FLR 6 CM","G2",50,null,null,null,null,""]
["G1075","FLR 6 CM","G3",50,null,null,null,null,""]
["G1076","FLR 6 CM","GF",50,null,null,null,null,""]
["G1077","FLR 6 CM","GR",50,null,null,null,null,""]
["G1078","FLR 6 CM","GRF",50,null,null,null,null,""]
["G1079","FLR 6 CM","MTR",50,null,null,null,null,""]
["G1080","FLR 6 CM","M2 ",50,null,null,null,null,""]
["G1081","FLR 6 CM","MO",50,null,null,null,null,""]
["G1082","FLR 6 CM","MOF",50,null,null,null,null,""]
["G1083","FLR 6 CM","MOV",50,null,null,null,null,""]
["G1084","FLR 6 CM","MR",50,null,null,null,null,""]
["G1085","FLR 6 CM","MRN",50,null,null,null,null,""]
["G1086","FLR 6 CM","NR",50,null,null,null,null,""]
["G1087","FLR 6 CM","OR",50,null,null,null,null,""]
["G1088","FLR 6 CM","PA",50,null,null,null,null,""]
["G1089","FLR 6 CM","PA2",50,null,null,null,null,""]
["G1090","FLR 6 CM","PR",50,null,null,null,null,{"$f":"IF(G1091 = \"\",\"\",IF(G1091<=H1091,\"Commander\",\"Correct\"))","v":""}]
["G1091","FLR 6 CM","R1",50,null,null,null,null,""]
["G1092","FLR 6 CM","R2",50,null,null,null,null,""]
["G1093","FLR 6 CM","R3",50,null,null,null,null,""]
["G1094","FLR 6 CM","RB",50,null,null,null,null,""]
["G1095","FLR 6 CM","RF",50,null,null,null,null,""]
["G1096","FLR 6 CM","RFF",50,null,null,null,null,""]
["G1097","FLR 6 CM","TA",50,null,null,null,null,""]
["G1098","FLR 6 CM","TR",50,null,null,null,null,""]
["G1099","FLR 6 CM","VA",50,null,null,null,null,""]
["G1100","FLR 6 CM","VD",50,null,null,null,null,""]
["G1101","FLR 6 CM","VEM",50,null,null,null,null,""]
["G1102","FLR 6 CM","VIO",50,null,null,null,null,""]
["G1103","FLR 6 CM","VM",50,null,null,null,null,""]
["G1104","FLR 6 CM","VP",50,null,null,null,null,""]
["G1105","FLR 8 CM","AUB",50,null,null,null,null,""]
["G1106","FLR 8 CM","BE",50,null,null,null,null,""]
["G1107","FLR 8 CM","BEOR",50,null,null,null,null,""]
["G1108","FLR 8 CM","BEF",50,null,null,null,null,""]
["G1109","FLR 8 CM","BF",50,null,null,null,null,""]
["G1110","FLR 8 CM","BL",50,null,null,null,null,""]
["G1111","FLR 8 CM","BLC",50,null,null,null,null,""]
["G1112","FLR 8 CM","BLCc",50,null,null,null,null,""]
["G1113","FLR 8 CM","BLR",50,null,null,null,null,""]
["G1114","FLR 8 CM","BO",50,null,null,null,null,""]
["G1115","FLR 8 CM","BR",50,null,null,null,null,""]
["G1116","FLR 8 CM","CR",50,null,null,null,null,""]
["G1117","FLR 8 CM","CL",50,null,null,null,null,""]
["G1118","FLR 8 CM","CRL",50,null,null,null,null,""]
["G1119","FLR 8 CM","CVT",50,null,null,null,null,""]
["G1120","FLR 8 CM","JP",50,null,null,null,null,""]
["G1121","FLR 8 CM","G0",50,null,null,null,null,""]
["G1122","FLR 8 CM","G2",50,null,null,null,null,""]
["G1123","FLR 8 CM","G3",50,null,null,null,null,""]
["G1124","FLR 8 CM","GF",50,null,null,null,null,""]
["G1125","FLR 8 CM","GR",50,null,null,null,null,""]
["G1126","FLR 8 CM","GRF",50,null,null,null,null,""]
["G1127","FLR 8 CM","MTR",50,null,null,null,null,""]
["G1128","FLR 8 CM","M2 ",50,null,null,null,null,""]
["G1129","FLR 8 CM","MO",50,null,null,null,null,""]
["G1130","FLR 8 CM","MOF",50,null,null,null,null,""]
["G1131","FLR 8 CM","MOV",50,null,null,null,null,""]
["G1132","FLR 8 CM","MR",50,null,null,null,null,""]
["G1133","FLR 8 CM","MRN",50,null,null,null,null,""]
["G1134","FLR 8 CM","NR",50,null,null,null,null,""]
["G1135","FLR 8 CM","OR",50,null,null,null,null,""]
["G1136","FLR 8 CM","PA",50,null,null,null,null,""]
["G1137","FLR 8 CM","PA2",50,null,null,null,null,""]
["G1138","FLR 8 CM","PR",50,null,null,null,null,""]
["G1139","FLR 8 CM","R1",50,null,null,null,null,""]
["G1140","FLR 8 CM","R2",50,null,null,null,null,""]
["G1141","FLR 8 CM","R3",50,null,null,null,null,""]
["G1142","FLR 8 CM","RB",50,null,null,null,null,""]
["G1143","FLR 8 CM","RF",50,null,null,null,null,""]
["G1144","FLR 8 CM","RFF",50,null,null,null,null,""]
["G1145","FLR 8 CM","TA",50,null,null,null,null,""]
["G1146","FLR 8 CM","TR",50,null,null,null,null,""]
["G1147","FLR 8 CM","VA",50,null,null,null,null,""]
["G1148","FLR 8 CM","VD",50,null,null,null,null,""]
["G1149","FLR 8 CM","VEM",50,null,null,null,null,""]
["G1150","FLR 8 CM","VIO",50,null,null,null,null,""]
["G1151","FLR 8 CM","VM",50,null,null,null,null,""]
["G1152","FLR 8 CM","VP",50,null,null,null,null,""]
["G1153","FLG N°9 OR","AUB",50,null,null,null,null,""]
["G1154","FLG N°9 OR","BE",50,null,null,null,null,{"$f":"IF(G1155 = \"\",\"\",IF(G1155<=H1155,\"Commander\",\"Correct\"))","v":""}]
["G1155","FLG N°9 OR","BEOR",50,null,null,null,null,""]
["G1156","FLG N°9 OR","BEF",50,null,null,null,null,""]
["G1157","FLG N°9 OR","BF",50,null,null,null,null,""]
["G1158","FLG N°9 OR","BL",50,null,null,null,null,""]
["G1159","FLG N°9 OR","BLC",50,null,null,null,null,""]
["G1160","FLG N°9 OR","BLCc",50,null,null,null,null,""]
["G1161","FLG N°9 OR","BLR",50,null,null,null,null,""]
["G1162","FLG N°9 OR","BO",50,null,null,null,null,""]
["G1163","FLG N°9 OR","BR",50,null,null,null,null,""]
["G1164","FLG N°9 OR","CR",50,null,null,null,null,""]
["G1165","FLG N°9 OR","CL",50,null,null,null,null,""]
["G1166","FLG N°9 OR","CRL",50,null,null,null,null,""]
["G1167","FLG N°9 OR","CVT",50,null,null,null,null,""]
["G1168","FLG N°9 OR","JP",50,null,null,null,null,""]
["G1169","FLG N°9 OR","G0",50,null,null,null,null,""]
["G1170","FLG N°9 OR","G2",50,null,null,null,null,""]
["G1171","FLG N°9 OR","G3",50,null,null,null,null,""]
["G1172","FLG N°9 OR","GF",50,null,null,null,null,""]
["G1173","FLG N°9 OR","GR",50,null,null,null,null,""]
["G1174","FLG N°9 OR","GRF",50,null,null,null,null,""]
["G1175","FLG N°9 OR","MTR",50,null,null,null,null,""]
["G1176","FLG N°9 OR","M2 ",50,null,null,null,null,""]
["G1177","FLG N°9 OR","MO",50,null,null,null,null,""]
["G1178","FLG N°9 OR","MOF",50,null,null,null,null,""]
["G1179","FLG N°9 OR","MOV",50,null,null,null,null,""]
["G1180","FLG N°9 OR","MR",50,null,null,null,null,""]
["G1181","FLG N°9 OR","MRN",50,null,null,null,null,""]
["G1182","FLG N°9 OR","NR",50,null,null,null,null,""]
["G1183","FLG N°9 OR","OR",50,null,null,null,null,""]
["G1184","FLG N°9 OR","PA",50,null,null,null,null,""]
["G1185","FLG N°9 OR","PA2",50,null,null,null,null,""]
["G1186","FLG N°9 OR","PR",50,null,null,null,null,""]
["G1187","FLG N°9 OR","R1",50,null,null,null,null,""]
["G1188","FLG N°9 OR","R2",50,null,null,null,null,""]
["G1189","FLG N°9 OR","R3",50,null,null,null,null,""]
["G1190","FLG N°9 OR","RB",50,null,null,null,null,""]
["G1191","FLG N°9 OR","RF",50,null,null,null,null,""]
["G1192","FLG N°9 OR","RFF",50,null,null,null,null,""]
["G1193","FLG N°9 OR","TA",50,null,null,null,null,""]
["G1194","FLG N°9 OR","TR",50,null,null,null,null,""]
["G1195","FLG N°9 OR","VA",50,null,null,null,null,""]
["G1196","FLG N°9 OR","VD",50,null,null,null,null,""]
["G1197","FLG N°9 OR","VEM",50,null,null,null,null,""]
["G1198","FLG N°9 OR","VIO",50,null,null,null,null,""]
["G1199","FLG N°9 OR","VM",50,null,null,null,null,""]
["G1200","FLG N°9 OR","VP",50,null,null,null,null,""]
["G1201","FLG N°9 ARG","AUB",50,null,null,null,null,""]
["G1202","FLG N°9 ARG","BE",50,null,null,null,null,""]
["G1203","FLG N°9 ARG","BEOR",50,null,null,null,null,""]
["G1204","FLG N°9 ARG","BEF",50,null,null,null,null,""]
["G1205","FLG N°9 ARG","BF",50,null,null,null,null,""]
["G1206","FLG N°9 ARG","BL",50,null,null,null,null,""]
["G1207","FLG N°9 ARG","BLC",50,null,null,null,null,""]
["G1208","FLG N°9 ARG","BLCc",50,null,null,null,null,""]
["G1209","FLG N°9 ARG","BLR",50,null,null,null,null,""]
["G1210","FLG N°9 ARG","BO",50,null,null,null,null,""]
["G1211","FLG N°9 ARG","BR",50,null,null,null,null,""]
["G1212","FLG N°9 ARG","CR",50,null,null,null,null,""]
["G1213","FLG N°9 ARG","CL",50,null,null,null,null,""]
["G1214","FLG N°9 ARG","CRL",50,null,null,null,null,""]
["G1215","FLG N°9 ARG","CVT",50,null,null,null,null,""]
["G1216","FLG N°9 ARG","JP",50,null,null,null,null,""]
["G1217","FLG N°9 ARG","G0",50,null,null,null,null,""]
["G1218","FLG N°9 ARG","G2",50,null,null,null,null,{"$f":"IF(G1219 = \"\",\"\",IF(G1219<=H1219,\"Commander\",\"Correct\"))","v":""}]
["G1219","FLG N°9 ARG","G3",50,null,null,null,null,""]
["G1220","FLG N°9 ARG","GF",50,null,null,null,null,""]
["G1221","FLG N°9 ARG","GR",50,null,null,null,null,""]
["G1222","FLG N°9 ARG","GRF",50,null,null,null,null,""]
["G1223","FLG N°9 ARG","MTR",50,null,null,null,null,""]
["G1224","FLG N°9 ARG","M2 ",50,null,null,null,null,""]
["G1225","FLG N°9 ARG","MO",50,null,null,null,null,""]
["G1226","FLG N°9 ARG","MOF",50,null,null,null,null,""]
["G1227","FLG N°9 ARG","MOV",50,null,null,null,null,""]
["G1228","FLG N°9 ARG","MR",50,null,null,null,null,""]
["G1229","FLG N°9 ARG","MRN",50,null,null,null,null,""]
["G1230","FLG N°9 ARG","NR",50,null,null,null,null,""]
["G1231","FLG N°9 ARG","OR",50,null,null,null,null,""]
["G1232","FLG N°9 ARG","PA",50,null,null,null,null,""]
["G1233","FLG N°9 ARG","PA2",50,null,null,null,null,""]
["G1234","FLG N°9 ARG","PR",50,null,null,null,null,""]
["G1235","FLG N°9 ARG","R1",50,null,null,null,null,""]
["G1236","FLG N°9 ARG","R2",50,null,null,null,null,""]
["G1237","FLG N°9 ARG","R3",50,null,null,null,null,""]
["G1238","FLG N°9 ARG","RB",50,null,null,null,null,""]
["G1239","FLG N°9 ARG","RF",50,null,null,null,null,""]
["G1240","FLG N°9 ARG","RFF",50,null,null,null,null,""]
["G1241","FLG N°9 ARG","TA",50,null,null,null,null,""]
["G1242","FLG N°9 ARG","TR",50,null,null,null,null,""]
["G1243","FLG N°9 ARG","VA",50,null,null,null,null,""]
["G1244","FLG N°9 ARG","VD",50,null,null,null,null,""]
["G1245","FLG N°9 ARG","VEM",50,null,null,null,null,""]
["G1246","FLG N°9 ARG","VIO",50,null,null,null,null,""]
["G1247","FLG N°9 ARG","VM",50,null,null,null,null,""]
["G1248","FLG N°9 ARG","VP",50,null,null,null,null,""]
["G1249","FLG N°12 OR","AUB",50,null,null,null,null,""]
["G1250","FLG N°12 OR","BE",50,null,null,null,null,""]
["G1251","FLG N°12 OR","BEOR",50,null,null,null,null,""]
["G1252","FLG N°12 OR","BEF",50,null,null,null,null,""]
["G1253","FLG N°12 OR","BF",50,null,null,null,null,""]
["G1254","FLG N°12 OR","BL",50,null,null,null,null,""]
["G1255","FLG N°12 OR","BLC",50,null,null,null,null,""]
["G1256","FLG N°12 OR","BLCc",50,null,null,null,null,""]
["G1257","FLG N°12 OR","BLR",50,null,null,null,null,""]
["G1258","FLG N°12 OR","BO",50,null,null,null,null,""]
["G1259","FLG N°12 OR","BR",50,null,null,null,null,""]
["G1260","FLG N°12 OR","CR",50,null,null,null,null,""]
["G1261","FLG N°12 OR","CL",50,null,null,null,null,""]
["G1262","FLG N°12 OR","CRL",50,null,null,null,null,""]
["G1263","FLG N°12 OR","CVT",50,null,null,null,null,""]
["G1264","FLG N°12 OR","JP",50,null,null,null,null,""]
["G1265","FLG N°12 OR","G0",50,null,null,null,null,""]
["G1266","FLG N°12 OR","G2",50,null,null,null,null,""]
["G1267","FLG N°12 OR","G3",50,null,null,null,null,""]
["G1268","FLG N°12 OR","GF",50,null,null,null,null,""]
["G1269","FLG N°12 OR","GR",50,null,null,null,null,""]
["G1270","FLG N°12 OR","GRF",50,null,null,null,null,""]
["G1271","FLG N°12 OR","MTR",50,null,null,null,null,""]
["G1272","FLG N°12 OR","M2 ",50,null,null,null,null,""]
["G1273","FLG N°12 OR","MO",50,null,null,null,null,""]
["G1274","FLG N°12 OR","MOF",50,null,null,null,null,""]
["G1275","FLG N°12 OR","MOV",50,null,null,null,null,""]
["G1276","FLG N°12 OR","MR",50,null,null,null,null,""]
["G1277","FLG N°12 OR","MRN",50,null,null,null,null,""]
["G1278","FLG N°12 OR","NR",50,null,null,null,null,""]
["G1279","FLG N°12 OR","OR",50,null,null,null,null,""]
["G1280","FLG N°12 OR","PA",50,null,null,null,null,""]
["G1281","FLG N°12 OR","PA2",50,null,null,null,null,""]
["G1282","FLG N°12 OR","PR",50,null,null,null,null,{"$f":"IF(G1283 = \"\",\"\",IF(G1283<=H1283,\"Commander\",\"Correct\"))","v":""}]
["G1283","FLG N°12 OR","R1",50,null,null,null,null,""]
["G1284","FLG N°12 OR","R2",50,null,null,null,null,""]
["G1285","FLG N°12 OR","R3",50,null,null,null,null,""]
["G1286","FLG N°12 OR","RB",50,null,null,null,null,""]
["G1287","FLG N°12 OR","RF",50,null,null,null,null,""]
["G1288","FLG N°12 OR","RFF",50,null,null,null,null,""]
["G1289","FLG N°12 OR","TA",50,null,null,null,null,""]
["G1290","FLG N°12 OR","TR",50,null,null,null,null,""]
["G1291","FLG N°12 OR","VA",50,null,null,null,null,""]
["G1292","FLG N°12 OR","VD",50,null,null,null,null,""]
["G1293","FLG N°12 OR","VEM",50,null,null,null,null,""]
["G1294","FLG N°12 OR","VIO",50,null,null,null,null,""]
["G1295","FLG N°12 OR","VM",50,null,null,null,null,""]
["G1296","FLG N°12 OR","VP",50,null,null,null,null,""]
["G1297","FLG N°12 ARG","AUB",50,null,null,null,null,""]
["G1298","FLG N°12 ARG","BE",50,null,null,null,null,""]
["G1299","FLG N°12 ARG","BEOR",50,null,null,null,null,""]
["G1300","FLG N°12 ARG","BEF",50,null,null,null,null,""]
["G1301","FLG N°12 ARG","BF",50,null,null,null,null,""]
["G1302","FLG N°12 ARG","BL",50,null,null,null,null,""]
["G1303","FLG N°12 ARG","BLC",50,null,null,null,null,""]
["G1304","FLG N°12 ARG","BLCc",50,null,null,null,null,""]
["G1305","FLG N°12 ARG","BLR",50,null,null,null,null,""]
["G1306","FLG N°12 ARG","BO",50,null,null,null,null,""]
["G1307","FLG N°12 ARG","BR",50,null,null,null,null,""]
["G1308","FLG N°12 ARG","CR",50,null,null,null,null,""]
["G1309","FLG N°12 ARG","CL",50,null,null,null,null,""]
["G1310","FLG N°12 ARG","CRL",50,null,null,null,null,""]
["G1311","FLG N°12 ARG","CVT",50,null,null,null,null,""]
["G1312","FLG N°12 ARG","JP",50,null,null,null,null,""]
["G1313","FLG N°12 ARG","G0",50,null,null,null,null,""]
["G1314","FLG N°12 ARG","G2",50,null,null,null,null,""]
["G1315","FLG N°12 ARG","G3",50,null,null,null,null,""]
["G1316","FLG N°12 ARG","GF",50,null,null,null,null,""]
["G1317","FLG N°12 ARG","GR",50,null,null,null,null,""]
["G1318","FLG N°12 ARG","GRF",50,null,null,null,null,""]
["G1319","FLG N°12 ARG","MTR",50,null,null,null,null,""]
["G1320","FLG N°12 ARG","M2 ",50,null,null,null,null,""]
["G1321","FLG N°12 ARG","MO",50,null,null,null,null,""]
["G1322","FLG N°12 ARG","MOF",50,null,null,null,null,""]
["G1323","FLG N°12 ARG","MOV",50,null,null,null,null,""]
["G1324","FLG N°12 ARG","MR",50,null,null,null,null,""]
["G1325","FLG N°12 ARG","MRN",50,null,null,null,null,""]
["G1326","FLG N°12 ARG","NR",50,null,null,null,null,""]
["G1327","FLG N°12 ARG","OR",50,null,null,null,null,""]
["G1328","FLG N°12 ARG","PA",50,null,null,null,null,""]
["G1329","FLG N°12 ARG","PA2",50,null,null,null,null,""]
["G1330","FLG N°12 ARG","PR",50,null,null,null,null,""]
["G1331","FLG N°12 ARG","R1",50,null,null,null,null,""]
["G1332","FLG N°12 ARG","R2",50,null,null,null,null,""]
["G1333","FLG N°12 ARG","R3",50,null,null,null,null,""]
["G1334","FLG N°12 ARG","RB",50,null,null,null,null,""]
["G1335","FLG N°12 ARG","RF",50,null,null,null,null,""]
["G1336","FLG N°12 ARG","RFF",50,null,null,null,null,""]
["G1337","FLG N°12 ARG","TA",50,null,null,null,null,""]
["G1338","FLG N°12 ARG","TR",50,null,null,null,null,""]
["G1339","FLG N°12 ARG","VA",50,null,null,null,null,""]
["G1340","FLG N°12 ARG","VD",50,null,null,null,null,""]
["G1341","FLG N°12 ARG","VEM",50,null,null,null,null,""]
["G1342","FLG N°12 ARG","VIO",50,null,null,null,null,""]
["G1343","FLG N°12 ARG","VM",50,null,null,null,null,""]
["G1344","FLG N°12 ARG","VP",50,null,null,null,null,""]
["G1345","FLG N°18 OR","AUB",50,null,null,null,null,""]
["G1346","FLG N°18 OR","BE",50,null,null,null,null,{"$f":"IF(G1347 = \"\",\"\",IF(G1347<=H1347,\"Commander\",\"Correct\"))","v":""}]
["G1347","FLG N°18 OR","BEOR",50,null,null,null,null,""]
["G1348","FLG N°18 OR","BEF",50,null,null,null,null,""]
["G1349","FLG N°18 OR","BF",50,null,null,null,null,""]
["G1350","FLG N°18 OR","BL",50,null,null,null,null,""]
["G1351","FLG N°18 OR","BLC",50,null,null,null,null,""]
["G1352","FLG N°18 OR","BLCc",50,null,null,null,null,""]
["G1353","FLG N°18 OR","BLR",50,null,null,null,null,""]
["G1354","FLG N°18 OR","BO",50,null,null,null,null,""]
["G1355","FLG N°18 OR","BR",50,null,null,null,null,""]
["G1356","FLG N°18 OR","CR",50,null,null,null,null,""]
["G1357","FLG N°18 OR","CL",50,null,null,null,null,""]
["G1358","FLG N°18 OR","CRL",50,null,null,null,null,""]
["G1359","FLG N°18 OR","CVT",50,null,null,null,null,""]
["G1360","FLG N°18 OR","JP",50,null,null,null,null,""]
["G1361","FLG N°18 OR","G0",50,null,null,null,null,""]
["G1362","FLG N°18 OR","G2",50,null,null,null,null,""]
["G1363","FLG N°18 OR","G3",50,null,null,null,null,""]
["G1364","FLG N°18 OR","GF",50,null,null,null,null,""]
["G1365","FLG N°18 OR","GR",50,null,null,null,null,""]
["G1366","FLG N°18 OR","GRF",50,null,null,null,null,""]
["G1367","FLG N°18 OR","MTR",50,null,null,null,null,""]
["G1368","FLG N°18 OR","M2 ",50,null,null,null,null,""]
["G1369","FLG N°18 OR","MO",50,null,null,null,null,""]
["G1370","FLG N°18 OR","MOF",50,null,null,null,null,""]
["G1371","FLG N°18 OR","MOV",50,null,null,null,null,""]
["G1372","FLG N°18 OR","MR",50,null,null,null,null,""]
["G1373","FLG N°18 OR","MRN",50,null,null,null,null,""]
["G1374","FLG N°18 OR","NR",50,null,null,null,null,""]
["G1375","FLG N°18 OR","OR",50,null,null,null,null,""]
["G1376","FLG N°18 OR","PA",50,null,null,null,null,""]
["G1377","FLG N°18 OR","PA2",50,null,null,null,null,""]
["G1378","FLG N°18 OR","PR",50,null,null,null,null,""]
["G1379","FLG N°18 OR","R1",50,null,null,null,null,""]
["G1380","FLG N°18 OR","R2",50,null,null,null,null,""]
["G1381","FLG N°18 OR","R3",50,null,null,null,null,""]
["G1382","FLG N°18 OR","RB",50,null,null,null,null,""]
["G1383","FLG N°18 OR","RF",50,null,null,null,null,""]
["G1384","FLG N°18 OR","RFF",50,null,null,null,null,""]
["G1385","FLG N°18 OR","TA",50,null,null,null,null,""]
["G1386","FLG N°18 OR","TR",50,null,null,null,null,""]
["G1387","FLG N°18 OR","VA",50,null,null,null,null,""]
["G1388","FLG N°18 OR","VD",50,null,null,null,null,""]
["G1389","FLG N°18 OR","VEM",50,null,null,null,null,""]
["G1390","FLG N°18 OR","VIO",50,null,null,null,null,""]
["G1391","FLG N°18 OR","VM",50,null,null,null,null,""]
["G1392","FLG N°18 OR","VP",50,null,null,null,null,""]
["G1393","FLG N°18 ARG","AUB",50,null,null,null,null,""]
["G1394","FLG N°18 ARG","BE",50,null,null,null,null,""]
["G1395","FLG N°18 ARG","BEOR",50,null,null,null,null,""]
["G1396","FLG N°18 ARG","BEF",50,null,null,null,null,""]
["G1397","FLG N°18 ARG","BF",50,null,null,null,null,""]
["G1398","FLG N°18 ARG","BL",50,null,null,null,null,""]
["G1399","FLG N°18 ARG","BLC",50,null,null,null,null,""]
["G1400","FLG N°18 ARG","BLCc",50,null,null,null,null,""]
["G1401","FLG N°18 ARG","BLR",50,null,null,null,null,""]
["G1402","FLG N°18 ARG","BO",50,null,null,null,null,""]
["G1403","FLG N°18 ARG","BR",50,null,null,null,null,""]
["G1404","FLG N°18 ARG","CR",50,null,null,null,null,""]
["G1405","FLG N°18 ARG","CL",50,null,null,null,null,""]
["G1406","FLG N°18 ARG","CRL",50,null,null,null,null,""]
["G1407","FLG N°18 ARG","CVT",50,null,null,null,null,""]
["G1408","FLG N°18 ARG","JP",50,null,null,null,null,""]
["G1409","FLG N°18 ARG","G0",50,null,null,null,null,""]
["G1410","FLG N°18 ARG","G2",50,null,null,null,null,{"$f":"IF(G1411 = \"\",\"\",IF(G1411<=H1411,\"Commander\",\"Correct\"))","v":""}]
["G1411","FLG N°18 ARG","G3",50,null,null,null,null,""]
["G1412","FLG N°18 ARG","GF",50,null,null,null,null,""]
["G1413","FLG N°18 ARG","GR",50,null,null,null,null,""]
["G1414","FLG N°18 ARG","GRF",50,null,null,null,null,""]
["G1415","FLG N°18 ARG","MTR",50,null,null,null,null,""]
["G1416","FLG N°18 ARG","M2 ",50,null,null,null,null,""]
["G1417","FLG N°18 ARG","MO",50,null,null,null,null,""]
["G1418","FLG N°18 ARG","MOF",50,null,null,null,null,""]
["G1419","FLG N°18 ARG","MOV",50,null,null,null,null,""]
["G1420","FLG N°18 ARG","MR",50,null,null,null,null,""]
["G1421","FLG N°18 ARG","MRN",50,null,null,null,null,""]
["G1422","FLG N°18 ARG","NR",50,null,null,null,null,""]
["G1423","FLG N°18 ARG","OR",50,null,null,null,null,""]
["G1424","FLG N°18 ARG","PA",50,null,null,null,null,""]
["G1425","FLG N°18 ARG","PA2",50,null,null,null,null,""]
["G1426","FLG N°18 ARG","PR",50,null,null,null,null,""]
["G1427","FLG N°18 ARG","R1",50,null,null,null,null,""]
["G1428","FLG N°18 ARG","R2",50,null,null,null,null,""]
["G1429","FLG N°18 ARG","R3",50,null,null,null,null,""]
["G1430","FLG N°18 ARG","RB",50,null,null,null,null,""]
["G1431","FLG N°18 ARG","RF",50,null,null,null,null,""]
["G1432","FLG N°18 ARG","RFF",50,null,null,null,null,""]
["G1433","FLG N°18 ARG","TA",50,null,null,null,null,""]
["G1434","FLG N°18 ARG","TR",50,null,null,null,null,""]
["G1435","FLG N°18 ARG","VA",50,null,null,null,null,""]
["G1436","FLG N°18 ARG","VD",50,null,null,null,null,""]
["G1437","FLG N°18 ARG","VEM",50,null,null,null,null,""]
["G1438","FLG N°18 ARG","VIO",50,null,null,null,null,""]
["G1439","FLG N°18 ARG","VM",50,null,null,null,null,""]
["G1440","FLG N°18 ARG","VP",50,null,null,null,null,""]
["G1441","FTOUL","AUB",50,null,null,null,null,""]
["G1442","FTOUL","BE",50,null,null,null,null,""]
["G1443","FTOUL","BEOR",50,null,null,null,null,""]
["G1444","FTOUL","BEF",50,null,null,null,null,""]
["G1445","FTOUL","BF",50,null,null,null,null,""]
["G1446","FTOUL","BL",50,null,null,null,null,""]
["G1447","FTOUL","BLC",50,null,null,null,null,""]
["G1448","FTOUL","BLCc",50,null,null,null,null,""]
["G1449","FTOUL","BLR",50,null,null,null,null,""]
["G1450","FTOUL","BO",50,null,null,null,null,""]
["G1451","FTOUL","BR",50,null,null,null,null,""]
["G1452","FTOUL","CR",50,null,null,null,null,""]
["G1453","FTOUL","CL",50,null,null,null,null,""]
["G1454","FTOUL","CRL",50,null,null,null,null,""]
["G1455","FTOUL","CVT",50,null,null,null,null,""]
["G1456","FTOUL","JP",50,null,null,null,null,""]
["G1457","FTOUL","G0",50,null,null,null,null,""]
["G1458","FTOUL","G2",50,null,null,null,null,""]
["G1459","FTOUL","G3",50,null,null,null,null,""]
["G1460","FTOUL","GF",50,null,null,null,null,""]
["G1461","FTOUL","GR",50,null,null,null,null,""]
["G1462","FTOUL","GRF",50,null,null,null,null,""]
["G1463","FTOUL","MTR",50,null,null,null,null,""]
["G1464","FTOUL","M2 ",50,null,null,null,null,""]
["G1465","FTOUL","MO",50,null,null,null,null,""]
["G1466","FTOUL","MOF",50,null,null,null,null,""]
["G1467","FTOUL","MOV",50,null,null,null,null,""]
["G1468","FTOUL","MR",50,null,null,null,null,""]
["G1469","FTOUL","MRN",50,null,null,null,null,""]
["G1470","FTOUL","NR",50,null,null,null,null,""]
["G1471","FTOUL","OR",50,null,null,null,null,""]
["G1472","FTOUL","PA",50,null,null,null,null,""]
["G1473","FTOUL","PA2",50,null,null,null,null,""]
["G1474","FTOUL","PR",50,null,null,null,null,{"$f":"IF(G1475 = \"\",\"\",IF(G1475<=H1475,\"Commander\",\"Correct\"))","v":""}]
["G1475","FTOUL","R1",50,null,null,null,null,""]
["G1476","FTOUL","R2",50,null,null,null,null,""]
["G1477","FTOUL","R3",50,null,null,null,null,""]
["G1478","FTOUL","RB",50,null,null,null,null,""]
["G1479","FTOUL","RF",50,null,null,null,null,""]
["G1480","FTOUL","RFF",50,null,null,null,null,""]
["G1481","FTOUL","TA",50,null,null,null,null,""]
["G1482","FTOUL","TR",50,null,null,null,null,""]
["G1483","FTOUL","VA",50,null,null,null,null,""]
["G1484","FTOUL","VD",50,null,null,null,null,""]
["G1485","FTOUL","VEM",50,null,null,null,null,""]
["G1486","FTOUL","VIO",50,null,null,null,null,""]
["G1487","FTOUL","VM",50,null,null,null,null,""]
["G1488","FTOUL","VP",50,null,null,null,null,""]
["G1489","ACC","AUB",50,null,null,null,null,""]
["G1490","ACC","BE",50,null,null,null,null,""]
["G1491","ACC","BEOR",50,null,null,null,null,""]
["G1492","ACC","BEF",50,null,null,null,null,""]
["G1493","ACC","BF",50,null,null,null,null,""]
["G1494","ACC","BL",50,null,null,null,null,""]
["G1495","ACC","BLC",50,null,null,null,null,""]
["G1496","ACC","BLCc",50,null,null,null,null,""]
["G1497","ACC","BLR",50,null,null,null,null,""]
["G1498","ACC","BO",50,null,null,null,null,""]
["G1499","ACC","BR",50,null,null,null,null,""]
["G1500","ACC","CR",50,null,null,null,null,""]
["G1501","ACC","CL",50,null,null,null,null,""]
["G1502","ACC","CRL",50,null,null,null,null,""]
["G1503","ACC","CVT",50,null,null,null,null,""]
["G1504","ACC","JP",50,null,null,null,null,""]
["G1505","ACC","G0",50,null,null,null,null,""]
["G1506","ACC","G2",50,null,null,null,null,""]
["G1507","ACC","G3",50,null,null,null,null,""]
["G1508","ACC","GF",50,null,null,null,null,""]
["G1509","ACC","GR",50,null,null,null,null,""]
["G1510","ACC","GRF",50,null,null,null,null,""]
["G1511","ACC","MTR",50,null,null,null,null,""]
["G1512","ACC","M2 ",50,null,null,null,null,""]
["G1513","ACC","MO",50,null,null,null,null,""]
["G1514","ACC","MOF",50,null,null,null,null,""]
["G1515","ACC","MOV",50,null,null,null,null,""]
["G1516","ACC","MR",50,null,null,null,null,""]
["G1517","ACC","MRN",50,null,null,null,null,""]
["G1518","ACC","NR",50,null,null,null,null,""]
["G1519","ACC","OR",50,null,null,null,null,""]
["G1520","ACC","PA",50,null,null,null,null,""]
["G1521","ACC","PA2",50,null,null,null,null,""]
["G1522","ACC","PR",50,null,null,null,null,""]
["G1523","ACC","R1",50,null,null,null,null,""]
["G1524","ACC","R2",50,null,null,null,null,""]
["G1525","ACC","R3",50,null,null,null,null,""]
["G1526","ACC","RB",50,null,null,null,null,""]
["G1527","ACC","RF",50,null,null,null,null,""]
["G1528","ACC","RFF",50,null,null,null,null,""]
["G1529","ACC","TA",50,null,null,null,null,""]
["G1530","ACC","TR",50,null,null,null,null,""]
["G1531","ACC","VA",50,null,null,null,null,""]
["G1532","ACC","VD",50,null,null,null,null,""]
["G1533","ACC","VEM",50,null,null,null,null,""]
["G1534","ACC","VIO",50,null,null,null,null,""]
["G1535","ACC","VM",50,null,null,null,null,""]
["G1536","ACC","VP",50,null,null,null,null,""]
["G1537","PONPON POLY","AUB",50,null,null,null,null,""]
["G1538","PONPON POLY","BE",50,null,null,null,null,{"$f":"IF(G1539 = \"\",\"\",IF(G1539<=H1539,\"Commander\",\"Correct\"))","v":""}]
["G1539","PONPON POLY","BEOR",50,null,null,null,null,""]
["G1540","PONPON POLY","BEF",50,null,null,null,null,""]
["G1541","PONPON POLY","BF",50,null,null,null,null,""]
["G1542","PONPON POLY","BL",50,null,null,null,null,""]
["G1543","PONPON POLY","BLC",50,null,null,null,null,""]
["G1544","PONPON POLY","BLCc",50,null,null,null,null,""]
["G1545","PONPON POLY","BLR",50,null,null,null,null,""]
["G1546","PONPON POLY","BO",50,null,null,null,null,""]
["G1547","PONPON POLY","BR",50,null,null,null,null,""]
["G1548","PONPON POLY","CR",50,null,null,null,null,""]
["G1549","PONPON POLY","CL",50,null,null,null,null,""]
["G1550","PONPON POLY","CRL",50,null,null,null,null,""]
["G1551","PONPON POLY","CVT",50,null,null,null,null,""]
["G1552","PONPON POLY","JP",50,null,null,null,null,""]
["G1553","PONPON POLY","G0",50,null,null,null,null,""]
["G1554","PONPON POLY","G2",50,null,null,null,null,""]
["G1555","PONPON POLY","G3",50,null,null,null,null,""]
["G1556","PONPON POLY","GF",50,null,null,null,null,""]
["G1557","PONPON POLY","GR",50,null,null,null,null,""]
["G1558","PONPON POLY","GRF",50,null,null,null,null,""]
["G1559","PONPON POLY","MTR",50,null,null,null,null,""]
["G1560","PONPON POLY","M2 ",50,null,null,null,null,""]
["G1561","PONPON POLY","MO",50,null,null,null,null,""]
["G1562","PONPON POLY","MOF",50,null,null,null,null,""]
["G1563","PONPON POLY","MOV",50,null,null,null,null,""]
["G1564","PONPON POLY","MR",50,null,null,null,null,""]
["G1565","PONPON POLY","MRN",50,null,null,null,null,""]
["G1566","PONPON POLY","NR",50,null,null,null,null,""]
["G1567","PONPON POLY","OR",50,null,null,null,null,""]
["G1568","PONPON POLY","PA",50,null,null,null,null,""]
["G1569","PONPON POLY","PA2",50,null,null,null,null,""]
["G1570","PONPON POLY","PR",50,null,null,null,null,""]
["G1571","PONPON POLY","R1",50,null,null,null,null,""]
["G1572","PONPON POLY","R2",50,null,null,null,null,""]
["G1573","PONPON POLY","R3",50,null,null,null,null,""]
["G1574","PONPON POLY","RB",50,null,null,null,null,""]
["G1575","PONPON POLY","RF",50,null,null,null,null,""]
["G1576","PONPON POLY","RFF",50,null,null,null,null,""]
["G1577","PONPON POLY","TA",50,null,null,null,null,""]
["G1578","PONPON POLY","TR",50,null,null,null,null,""]
["G1579","PONPON POLY","VA",50,null,null,null,null,""]
["G1580","PONPON POLY","VD",50,null,null,null,null,""]
["G1581","PONPON POLY","VEM",50,null,null,null,null,""]
["G1582","PONPON POLY","VIO",50,null,null,null,null,""]
["G1583","PONPON POLY","VM",50,null,null,null,null,""]
["G1584","PONPON POLY","VP",50,null,null,null,null,""]
["G1585","PONPON METAL","AUB",50,null,null,null,null,""]
["G1586","PONPON METAL","BE",50,null,null,null,null,""]
["G1587","PONPON METAL","BEOR",50,null,null,null,null,""]
["G1588","PONPON METAL","BEF",50,null,null,null,null,""]
["G1589","PONPON METAL","BF",50,null,null,null,null,""]
["G1590","PONPON METAL","BL",50,null,null,null,null,""]
["G1591","PONPON METAL","BLC",50,null,null,null,null,""]
["G1592","PONPON METAL","BLCc",50,null,null,null,null,""]
["G1593","PONPON METAL","BLR",50,null,null,null,null,""]
["G1594","PONPON METAL","BO",50,null,null,null,null,""]
["G1595","PONPON METAL","BR",50,null,null,null,null,""]
["G1596","PONPON METAL","CR",50,null,null,null,null,""]
["G1597","PONPON METAL","CL",50,null,null,null,null,""]
["G1598","PONPON METAL","CRL",50,null,null,null,null,""]
["G1599","PONPON METAL","CVT",50,null,null,null,null,""]
["G1600","PONPON METAL","JP",50,null,null,null,null,""]
["G1601","PONPON METAL","G0",50,null,null,null,null,""]
["G1602","PONPON METAL","G2",50,null,null,null,null,{"$f":"IF(G1603 = \"\",\"\",IF(G1603<=H1603,\"Commander\",\"Correct\"))","v":""}]
["G1603","PONPON METAL","G3",50,null,null,null,null,""]
["G1604","PONPON METAL","GF",50,null,null,null,null,""]
["G1605","PONPON METAL","GR",50,null,null,null,null,""]
["G1606","PONPON METAL","GRF",50,null,null,null,null,""]
["G1607","PONPON METAL","MTR",50,null,null,null,null,""]
["G1608","PONPON METAL","M2 ",50,null,null,null,null,""]
["G1609","PONPON METAL","MO",50,null,null,null,null,""]
["G1610","PONPON METAL","MOF",50,null,null,null,null,""]
["G1611","PONPON METAL","MOV",50,null,null,null,null,""]
["G1612","PONPON METAL","MR",50,null,null,null,null,""]
["G1613","PONPON METAL","MRN",50,null,null,null,null,""]
["G1614","PONPON METAL","NR",50,null,null,null,null,""]
["G1615","PONPON METAL","OR",50,null,null,null,null,""]
["G1616","PONPON METAL","PA",50,null,null,null,null,""]
["G1617","PONPON METAL","PA2",50,null,null,null,null,""]
["G1618","PONPON METAL","PR",50,null,null,null,null,""]
["G1619","PONPON METAL","R1",50,null,null,null,null,""]
["G1620","PONPON METAL","R2",50,null,null,null,null,""]
["G1621","PONPON METAL","R3",50,null,null,null,null,""]
["G1622","PONPON METAL","RB",50,null,null,null,null,""]
["G1623","PONPON METAL","RF",50,null,null,null,null,""]
["G1624","PONPON METAL","RFF",50,null,null,null,null,""]
["G1625","PONPON METAL","TA",50,null,null,null,null,""]
["G1626","PONPON METAL","TR",50,null,null,null,null,""]
["G1627","PONPON METAL","VA",50,null,null,null,null,""]
["G1628","PONPON METAL","VD",50,null,null,null,null,""]
["G1629","PONPON METAL","VEM",50,null,null,null,null,""]
["G1630","PONPON METAL","VIO",50,null,null,null,null,""]
["G1631","PONPON METAL","VM",50,null,null,null,null,""]
["G1632","PONPON METAL","VP",50,null,null,null,null,""]
["G1633","PONPON OR","AUB",50,null,null,null,null,""]
["G1634","PONPON OR","BE",50,null,null,null,null,""]
["G1635","PONPON OR","BEOR",50,null,null,null,null,""]
["G1636","PONPON OR","BEF",50,null,null,null,null,""]
["G1637","PONPON OR","BF",50,null,null,null,null,""]
["G1638","PONPON OR","BL",50,null,null,null,null,""]
["G1639","PONPON OR","BLC",50,null,null,null,null,""]
["G1640","PONPON OR","BLCc",50,null,null,null,null,""]
["G1641","PONPON OR","BLR",50,null,null,null,null,""]
["G1642","PONPON OR","BO",50,null,null,null,null,""]
["G1643","PONPON OR","BR",50,null,null,null,null,""]
["G1644","PONPON OR","CR",50,null,null,null,null,""]
["G1645","PONPON OR","CL",50,null,null,null,null,""]
["G1646","PONPON OR","CRL",50,null,null,null,null,""]
["G1647","PONPON OR","CVT",50,null,null,null,null,""]
["G1648","PONPON OR","JP",50,null,null,null,null,""]
["G1649","PONPON OR","G0",50,null,null,null,null,""]
["G1650","PONPON OR","G2",50,null,null,null,null,""]
["G1651","PONPON OR","G3",50,null,null,null,null,""]
["G1652","PONPON OR","GF",50,null,null,null,null,""]
["G1653","PONPON OR","GR",50,null,null,null,null,""]
["G1654","PONPON OR","GRF",50,null,null,null,null,""]
["G1655","PONPON OR","MTR",50,null,null,null,null,""]
["G1656","PONPON OR","M2 ",50,null,null,null,null,""]
["G1657","PONPON OR","MO",50,null,null,null,null,""]
["G1658","PONPON OR","MOF",50,null,null,null,null,""]
["G1659","PONPON OR","MOV",50,null,null,null,null,""]
["G1660","PONPON OR","MR",50,null,null,null,null,""]
["G1661","PONPON OR","MRN",50,null,null,null,null,""]
["G1662","PONPON OR","NR",50,null,null,null,null,""]
["G1663","PONPON OR","OR",50,null,null,null,null,""]
["G1664","PONPON OR","PA",50,null,null,null,null,""]
["G1665","PONPON OR","PA2",50,null,null,null,null,""]
["G1666","PONPON OR","PR",50,null,null,null,null,{"$f":"IF(G1667 = \"\",\"\",IF(G1667<=H1667,\"Commander\",\"Correct\"))","v":""}]
["G1667","PONPON OR","R1",50,null,null,null,null,""]
["G1668","PONPON OR","R2",50,null,null,null,null,""]
["G1669","PONPON OR","R3",50,null,null,null,null,""]
["G1670","PONPON OR","RB",50,null,null,null,null,""]
["G1671","PONPON OR","RF",50,null,null,null,null,""]
["G1672","PONPON OR","RFF",50,null,null,null,null,""]
["G1673","PONPON OR","TA",50,null,null,null,null,""]
["G1674","PONPON OR","TR",50,null,null,null,null,""]
["G1675","PONPON OR","VA",50,null,null,null,null,""]
["G1676","PONPON OR","VD",50,null,null,null,null,""]
["G1677","PONPON OR","VEM",50,null,null,null,null,""]
["G1678","PONPON OR","VIO",50,null,null,null,null,""]
["G1679","PONPON OR","VM",50,null,null,null,null,""]
["G1680","PONPON OR","VP",50,null,null,null,null,""]
["G1681","PONPON ARG","AUB",50,null,null,null,null,""]
["G1682","PONPON ARG","BE",50,null,null,null,null,""]
["G1683","PONPON ARG","BEOR",50,null,null,null,null,""]
["G1684","PONPON ARG","BEF",50,null,null,null,null,""]
["G1685","PONPON ARG","BF",50,null,null,null,null,""]
["G1686","PONPON ARG","BL",50,null,null,null,null,""]
["G1687","PONPON ARG","BLC",50,null,null,null,null,""]
["G1688","PONPON ARG","BLCc",50,null,null,null,null,""]
["G1689","PONPON ARG","BLR",50,null,null,null,null,""]
["G1690","PONPON ARG","BO",50,null,null,null,null,""]
["G1691","PONPON ARG","BR",50,null,null,null,null,""]
["G1692","PONPON ARG","CR",50,null,null,null,null,""]
["G1693","PONPON ARG","CL",50,null,null,null,null,""]
["G1694","PONPON ARG","CRL",50,null,null,null,null,""]
["G1695","PONPON ARG","CVT",50,null,null,null,null,""]
["G1696","PONPON ARG","JP",50,null,null,null,null,""]
["G1697","PONPON ARG","G0",50,null,null,null,null,""]
["G1698","PONPON ARG","G2",50,null,null,null,null,""]
["G1699","PONPON ARG","G3",50,null,null,null,null,""]
["G1700","PONPON ARG","GF",50,null,null,null,null,""]
["G1701","PONPON ARG","GR",50,null,null,null,null,""]
["G1702","PONPON ARG","GRF",50,null,null,null,null,""]
["G1703","PONPON ARG","MTR",50,null,null,null,null,""]
["G1704","PONPON ARG","M2 ",50,null,null,null,null,""]
["G1705","PONPON ARG","MO",50,null,null,null,null,""]
["G1706","PONPON ARG","MOF",50,null,null,null,null,""]
["G1707","PONPON ARG","MOV",50,null,null,null,null,""]
["G1708","PONPON ARG","MR",50,null,null,null,null,""]
["G1709","PONPON ARG","MRN",50,null,null,null,null,""]
["G1710","PONPON ARG","NR",50,null,null,null,null,""]
["G1711","PONPON ARG","OR",50,null,null,null,null,""]
["G1712","PONPON ARG","PA",50,null,null,null,null,""]
["G1713","PONPON ARG","PA2",50,null,null,null,null,""]
["G1714","PONPON ARG","PR",50,null,null,null,null,""]
["G1715","PONPON ARG","R1",50,null,null,null,null,""]
["G1716","PONPON ARG","R2",50,null,null,null,null,""]
["G1717","PONPON ARG","R3",50,null,null,null,null,""]
["G1718","PONPON ARG","RB",50,null,null,null,null,""]
["G1719","PONPON ARG","RF",50,null,null,null,null,""]
["G1720","PONPON ARG","RFF",50,null,null,null,null,""]
["G1721","PONPON ARG","TA",50,null,null,null,null,""]
["G1722","PONPON ARG","TR",50,null,null,null,null,""]
["G1723","PONPON ARG","VA",50,null,null,null,null,""]
["G1724","PONPON ARG","VD",50,null,null,null,null,""]
["G1725","PONPON ARG","VEM",50,null,null,null,null,""]
["G1726","PONPON ARG","VIO",50,null,null,null,null,""]
["G1727","PONPON ARG","VM",50,null,null,null,null,""]
["G1728","PONPON ARG","VP",50,null,null,null,null,""]
["G1729","PONPON PUR","AUB",50,null,null,null,null,""]
["G1730","PONPON PUR","BE",50,null,null,null,null,{"$f":"IF(G1731 = \"\",\"\",IF(G1731<=H1731,\"Commander\",\"Correct\"))","v":""}]
["G1731","PONPON PUR","BEOR",50,null,null,null,null,""]
["G1732","PONPON PUR","BEF",50,null,null,null,null,""]
["G1733","PONPON PUR","BF",50,null,null,null,null,""]
["G1734","PONPON PUR","BL",50,null,null,null,null,""]
["G1735","PONPON PUR","BLC",50,null,null,null,null,""]
["G1736","PONPON PUR","BLCc",50,null,null,null,null,""]
["G1737","PONPON PUR","BLR",50,null,null,null,null,""]
["G1738","PONPON PUR","BO",50,null,null,null,null,""]
["G1739","PONPON PUR","BR",50,null,null,null,null,""]
["G1740","PONPON PUR","CR",50,null,null,null,null,""]
["G1741","PONPON PUR","CL",50,null,null,null,null,""]
["G1742","PONPON PUR","CRL",50,null,null,null,null,""]
["G1743","PONPON PUR","CVT",50,null,null,null,null,""]
["G1744","PONPON PUR","JP",50,null,null,null,null,""]
["G1745","PONPON PUR","G0",50,null,null,null,null,""]
["G1746","PONPON PUR","G2",50,null,null,null,null,""]
["G1747","PONPON PUR","G3",50,null,null,null,null,""]
["G1748","PONPON PUR","GF",50,null,null,null,null,""]
["G1749","PONPON PUR","GR",50,null,null,null,null,""]
["G1750","PONPON PUR","GRF",50,null,null,null,null,""]
["G1751","PONPON PUR","MTR",50,null,null,null,null,""]
["G1752","PONPON PUR","M2 ",50,null,null,null,null,""]
["G1753","PONPON PUR","MO",50,null,null,null,null,""]
["G1754","PONPON PUR","MOF",50,null,null,null,null,""]
["G1755","PONPON PUR","MOV",50,null,null,null,null,""]
["G1756","PONPON PUR","MR",50,null,null,null,null,""]
["G1757","PONPON PUR","MRN",50,null,null,null,null,""]
["G1758","PONPON PUR","NR",50,null,null,null,null,""]
["G1759","PONPON PUR","OR",50,null,null,null,null,""]
["G1760","PONPON PUR","PA",50,null,null,null,null,""]
["G1761","PONPON PUR","PA2",50,null,null,null,null,""]
["G1762","PONPON PUR","PR",50,null,null,null,null,""]
["G1763","PONPON PUR","R1",50,null,null,null,null,""]
["G1764","PONPON PUR","R2",50,null,null,null,null,""]
["G1765","PONPON PUR","R3",50,null,null,null,null,""]
["G1766","PONPON PUR","RB",50,null,null,null,null,""]
["G1767","PONPON PUR","RF",50,null,null,null,null,""]
["G1768","PONPON PUR","RFF",50,null,null,null,null,""]
["G1769","PONPON PUR","TA",50,null,null,null,null,""]
["G1770","PONPON PUR","TR",50,null,null,null,null,""]
["G1771","PONPON PUR","VA",50,null,null,null,null,""]
["G1772","PONPON PUR","VD",50,null,null,null,null,""]
["G1773","PONPON PUR","VEM",50,null,null,null,null,""]
["G1774","PONPON PUR","VIO",50,null,null,null,null,""]
["G1775","PONPON PUR","VM",50,null,null,null,null,""]
["G1776","PONPON PUR","VP",50,null,null,null,null,""]
["G1777","GALON G01P","AUB",50,null,null,null,null,""]
["G1778","GALON G01P","BE",50,null,null,null,null,""]
["G1779","GALON G01P","BEOR",50,null,null,null,null,""]
["G1780","GALON G01P","BEF",50,null,null,null,null,""]
["G1781","GALON G01P","BF",50,null,null,null,null,""]
["G1782","GALON G01P","BL",50,null,null,null,null,""]
["G1783","GALON G01P","BLC",50,null,null,null,null,""]
["G1784","GALON G01P","BLCc",50,null,null,null,null,""]
["G1785","GALON G01P","BLR",50,null,null,null,null,""]
["G1786","GALON G01P","BO",50,null,null,null,null,""]
["G1787","GALON G01P","BR",50,null,null,null,null,""]
["G1788","GALON G01P","CR",50,null,null,null,null,""]
["G1789","GALON G01P","CL",50,null,null,null,null,""]
["G1790","GALON G01P","CRL",50,null,null,null,null,""]
["G1791","GALON G01P","CVT",50,null,null,null,null,""]
["G1792","GALON G01P","JP",50,null,null,null,null,""]
["G1793","GALON G01P","G0",50,null,null,null,null,""]
["G1794","GALON G01P","G2",50,null,null,null,null,{"$f":"IF(G1795 = \"\",\"\",IF(G1795<=H1795,\"Commander\",\"Correct\"))","v":""}]
["G1795","GALON G01P","G3",50,null,null,null,null,""]
["G1796","GALON G01P","GF",50,null,null,null,null,""]
["G1797","GALON G01P","GR",50,null,null,null,null,""]
["G1798","GALON G01P","GRF",50,null,null,null,null,""]
["G1799","GALON G01P","MTR",50,null,null,null,null,""]
["G1800","GALON G01P","M2 ",50,null,null,null,null,""]
["G1801","GALON G01P","MO",50,null,null,null,null,""]
["G1802","GALON G01P","MOF",50,null,null,null,null,""]
["G1803","GALON G01P","MOV",50,null,null,null,null,""]
["G1804","GALON G01P","MR",50,null,null,null,null,""]
["G1805","GALON G01P","MRN",50,null,null,null,null,""]
["G1806","GALON G01P","NR",50,null,null,null,null,""]
["G1807","GALON G01P","OR",50,null,null,null,null,""]
["G1808","GALON G01P","PA",50,null,null,null,null,""]
["G1809","GALON G01P","PA2",50,null,null,null,null,""]
["G1810","GALON G01P","PR",50,null,null,null,null,""]
["G1811","GALON G01P","R1",50,null,null,null,null,""]
["G1812","GALON G01P","R2",50,null,null,null,null,""]
["G1813","GALON G01P","R3",50,null,null,null,null,""]
["G1814","GALON G01P","RB",50,null,null,null,null,""]
["G1815","GALON G01P","RF",50,null,null,null,null,""]
["G1816","GALON G01P","RFF",50,null,null,null,null,""]
["G1817","GALON G01P","TA",50,null,null,null,null,""]
["G1818","GALON G01P","TR",50,null,null,null,null,""]
["G1819","GALON G01P","VA",50,null,null,null,null,""]
["G1820","GALON G01P","VD",50,null,null,null,null,""]
["G1821","GALON G01P","VEM",50,null,null,null,null,""]
["G1822","GALON G01P","VIO",50,null,null,null,null,""]
["G1823","GALON G01P","VM",50,null,null,null,null,""]
["G1824","GALON G01P","VP",50,null,null,null,null,""]
["G1825","GALON G01M","AUB",50,null,null,null,null,""]
["G1826","GALON G01M","BE",50,null,null,null,null,""]
["G1827","GALON G01M","BEOR",50,null,null,null,null,""]
["G1828","GALON G01M","BEF",50,null,null,null,null,""]
["G1829","GALON G01M","BF",50,null,null,null,null,""]
["G1830","GALON G01M","BL",50,null,null,null,null,""]
["G1831","GALON G01M","BLC",50,null,null,null,null,""]
["G1832","GALON G01M","BLCc",50,null,null,null,null,""]
["G1833","GALON G01M","BLR",50,null,null,null,null,""]
["G1834","GALON G01M","BO",50,null,null,null,null,""]
["G1835","GALON G01M","BR",50,null,null,null,null,""]
["G1836","GALON G01M","CR",50,null,null,null,null,""]
["G1837","GALON G01M","CL",50,null,null,null,null,""]
["G1838","GALON G01M","CRL",50,null,null,null,null,""]
["G1839","GALON G01M","CVT",50,null,null,null,null,""]
["G1840","GALON G01M","JP",50,null,null,null,null,""]
["G1841","GALON G01M","G0",50,null,null,null,null,""]
["G1842","GALON G01M","G2",50,null,null,null,null,""]
["G1843","GALON G01M","G3",50,null,null,null,null,""]
["G1844","GALON G01M","GF",50,null,null,null,null,""]
["G1845","GALON G01M","GR",50,null,null,null,null,""]
["G1846","GALON G01M","GRF",50,null,null,null,null,""]
["G1847","GALON G01M","MTR",50,null,null,null,null,""]
["G1848","GALON G01M","M2 ",50,null,null,null,null,""]
["G1849","GALON G01M","MO",50,null,null,null,null,""]
["G1850","GALON G01M","MOF",50,null,null,null,null,""]
["G1851","GALON G01M","MOV",50,null,null,null,null,""]
["G1852","GALON G01M","MR",50,null,null,null,null,""]
["G1853","GALON G01M","MRN",50,null,null,null,null,""]
["G1854","GALON G01M","NR",50,null,null,null,null,""]
["G1855","GALON G01M","OR",50,null,null,null,null,""]
["G1856","GALON G01M","PA",50,null,null,null,null,""]
["G1857","GALON G01M","PA2",50,null,null,null,null,""]
["G1858","GALON G01M","PR",50,null,null,null,null,{"$f":"IF(G1859 = \"\",\"\",IF(G1859<=H1859,\"Commander\",\"Correct\"))","v":""}]
["G1859","GALON G01M","R1",50,null,null,null,null,""]
["G1860","GALON G01M","R2",50,null,null,null,null,""]
["G1861","GALON G01M","R3",50,null,null,null,null,""]
["G1862","GALON G01M","RB",50,null,null,null,null,""]
["G1863","GALON G01M","RF",50,null,null,null,null,""]
["G1864","GALON G01M","RFF",50,null,null,null,null,""]
["G1865","GALON G01M","TA",50,null,null,null,null,""]
["G1866","GALON G01M","TR",50,null,null,null,null,""]
["G1867","GALON G01M","VA",50,null,null,null,null,""]
["G1868","GALON G01M","VD",50,null,null,null,null,""]
["G1869","GALON G01M","VEM",50,null,null,null,null,""]
["G1870","GALON G01M","VIO",50,null,null,null,null,""]
["G1871","GALON G01M","VM",50,null,null,null,null,""]
["G1872","GALON G01M","VP",50,null,null,null,null,""]
["G1873","GALON G01MP","AUB",50,null,null,null,null,""]
["G1874","GALON G01MP","BE",50,null,null,null,null,""]
["G1875","GALON G01MP","BEOR",50,null,null,null,null,""]
["G1876","GALON G01MP","BEF",50,null,null,null,null,""]
["G1877","GALON G01MP","BF",50,null,null,null,null,""]
["G1878","GALON G01MP","BL",50,null,null,null,null,""]
["G1879","GALON G01MP","BLC",50,null,null,null,null,""]
["G1880","GALON G01MP","BLCc",50,null,null,null,null,""]
["G1881","GALON G01MP","BLR",50,null,null,null,null,""]
["G1882","GALON G01MP","BO",50,null,null,null,null,""]
["G1883","GALON G01MP","BR",50,null,null,null,null,""]
["G1884","GALON G01MP","CR",50,null,null,null,null,""]
["G1885","GALON G01MP","CL",50,null,null,null,null,""]
["G1886","GALON G01MP","CRL",50,null,null,null,null,""]
["G1887","GALON G01MP","CVT",50,null,null,null,null,""]
["G1888","GALON G01MP","JP",50,null,null,null,null,""]
["G1889","GALON G01MP","G0",50,null,null,null,null,""]
["G1890","GALON G01MP","G2",50,null,null,null,null,""]
["G1891","GALON G01MP","G3",50,null,null,null,null,""]
["G1892","GALON G01MP","GF",50,null,null,null,null,""]
["G1893","GALON G01MP","GR",50,null,null,null,null,""]
["G1894","GALON G01MP","GRF",50,null,null,null,null,""]
["G1895","GALON G01MP","MTR",50,null,null,null,null,""]
["G1896","GALON G01MP","M2 ",50,null,null,null,null,""]
["G1897","GALON G01MP","MO",50,null,null,null,null,""]
["G1898","GALON G01MP","MOF",50,null,null,null,null,""]
["G1899","GALON G01MP","MOV",50,null,null,null,null,""]
["G1900","GALON G01MP","MR",50,null,null,null,null,""]
["G1901","GALON G01MP","MRN",50,null,null,null,null,""]
["G1902","GALON G01MP","NR",50,null,null,null,null,""]
["G1903","GALON G01MP","OR",50,null,null,null,null,""]
["G1904","GALON G01MP","PA",50,null,null,null,null,""]
["G1905","GALON G01MP","PA2",50,null,null,null,null,""]
["G1906","GALON G01MP","PR",50,null,null,null,null,""]
["G1907","GALON G01MP","R1",50,null,null,null,null,""]
["G1908","GALON G01MP","R2",50,null,null,null,null,""]
["G1909","GALON G01MP","R3",50,null,null,null,null,""]
["G1910","GALON G01MP","RB",50,null,null,null,null,""]
["G1911","GALON G01MP","RF",50,null,null,null,null,""]
["G1912","GALON G01MP","RFF",50,null,null,null,null,""]
["G1913","GALON G01MP","TA",50,null,null,null,null,""]
["G1914","GALON G01MP","TR",50,null,null,null,null,""]
["G1915","GALON G01MP","VA",50,null,null,null,null,""]
["G1916","GALON G01MP","VD",50,null,null,null,null,""]
["G1917","GALON G01MP","VEM",50,null,null,null,null,""]
["G1918","GALON G01MP","VIO",50,null,null,null,null,""]
["G1919","GALON G01MP","VM",50,null,null,null,null,""]
["G1920","GALON G01MP","VP",50,null,null,null,null,""]
["G1921","GALON G02 F OR","AUB",50,null,null,null,null,""]
["G1922","GALON G02 F OR","BE",50,null,null,null,null,{"$f":"IF(G1923 = \"\",\"\",IF(G1923<=H1923,\"Commander\",\"Correct\"))","v":""}]
["G1923","GALON G02 F OR","BEOR",50,null,null,null,null,""]
["G1924","GALON G02 F OR","BEF",50,null,null,null,null,""]
["G1925","GALON G02 F OR","BF",50,null,null,null,null,""]
["G1926","GALON G02 F OR","BL",50,null,null,null,null,""]
["G1927","GALON G02 F OR","BLC",50,null,null,null,null,""]
["G1928","GALON G02 F OR","BLCc",50,null,null,null,null,""]
["G1929","GALON G02 F OR","BLR",50,null,null,null,null,""]
["G1930","GALON G02 F OR","BO",50,null,null,null,null,""]
["G1931","GALON G02 F OR","BR",50,null,null,null,null,""]
["G1932","GALON G02 F OR","CR",50,null,null,null,null,""]
["G1933","GALON G02 F OR","CL",50,null,null,null,null,""]
["G1934","GALON G02 F OR","CRL",50,null,null,null,null,""]
["G1935","GALON G02 F OR","CVT",50,null,null,null,null,""]
["G1936","GALON G02 F OR","JP",50,null,null,null,null,""]
["G1937","GALON G02 F OR","G0",50,null,null,null,null,""]
["G1938","GALON G02 F OR","G2",50,null,null,null,null,""]
["G1939","GALON G02 F OR","G3",50,null,null,null,null,""]
["G1940","GALON G02 F OR","GF",50,null,null,null,null,""]
["G1941","GALON G02 F OR","GR",50,null,null,null,null,""]
["G1942","GALON G02 F OR","GRF",50,null,null,null,null,""]
["G1943","GALON G02 F OR","MTR",50,null,null,null,null,""]
["G1944","GALON G02 F OR","M2 ",50,null,null,null,null,""]
["G1945","GALON G02 F OR","MO",50,null,null,null,null,""]
["G1946","GALON G02 F OR","MOF",50,null,null,null,null,""]
["G1947","GALON G02 F OR","MOV",50,null,null,null,null,""]
["G1948","GALON G02 F OR","MR",50,null,null,null,null,""]
["G1949","GALON G02 F OR","MRN",50,null,null,null,null,""]
["G1950","GALON G02 F OR","NR",50,null,null,null,null,""]
["G1951","GALON G02 F OR","OR",50,null,null,null,null,""]
["G1952","GALON G02 F OR","PA",50,null,null,null,null,""]
["G1953","GALON G02 F OR","PA2",50,null,null,null,null,""]
["G1954","GALON G02 F OR","PR",50,null,null,null,null,""]
["G1955","GALON G02 F OR","R1",50,null,null,null,null,""]
["G1956","GALON G02 F OR","R2",50,null,null,null,null,""]
["G1957","GALON G02 F OR","R3",50,null,null,null,null,""]
["G1958","GALON G02 F OR","RB",50,null,null,null,null,""]
["G1959","GALON G02 F OR","RF",50,null,null,null,null,""]
["G1960","GALON G02 F OR","RFF",50,null,null,null,null,""]
["G1961","GALON G02 F OR","TA",50,null,null,null,null,""]
["G1962","GALON G02 F OR","TR",50,null,null,null,null,""]
["G1963","GALON G02 F OR","VA",50,null,null,null,null,""]
["G1964","GALON G02 F OR","VD",50,null,null,null,null,""]
["G1965","GALON G02 F OR","VEM",50,null,null,null,null,""]
["G1966","GALON G02 F OR","VIO",50,null,null,null,null,""]
["G1967","GALON G02 F OR","VM",50,null,null,null,null,""]
["G1968","GALON G02 F OR","VP",50,null,null,null,null,""]
["G1969","GALON G02 F ARG","AUB",50,null,null,null,null,""]
["G1970","GALON G02 F ARG","BE",50,null,null,null,null,""]
["G1971","GALON G02 F ARG","BEOR",50,null,null,null,null,""]
["G1972","GALON G02 F ARG","BEF",50,null,null,null,null,""]
["G1973","GALON G02 F ARG","BF",50,null,null,null,null,""]
["G1974","GALON G02 F ARG","BL",50,null,null,null,null,""]
["G1975","GALON G02 F ARG","BLC",50,null,null,null,null,""]
["G1976","GALON G02 F ARG","BLCc",50,null,null,null,null,""]
["G1977","GALON G02 F ARG","BLR",50,null,null,null,null,""]
["G1978","GALON G02 F ARG","BO",50,null,null,null,null,""]
["G1979","GALON G02 F ARG","BR",50,null,null,null,null,""]
["G1980","GALON G02 F ARG","CR",50,null,null,null,null,""]
["G1981","GALON G02 F ARG","CL",50,null,null,null,null,""]
["G1982","GALON G02 F ARG","CRL",50,null,null,null,null,""]
["G1983","GALON G02 F ARG","CVT",50,null,null,null,null,""]
["G1984","GALON G02 F ARG","JP",50,null,null,null,null,""]
["G1985","GALON G02 F ARG","G0",50,null,null,null,null,""]
["G1986","GALON G02 F ARG","G2",50,null,null,null,null,{"$f":"IF(G1987 = \"\",\"\",IF(G1987<=H1987,\"Commander\",\"Correct\"))","v":""}]
["G1987","GALON G02 F ARG","G3",50,null,null,null,null,""]
["G1988","GALON G02 F ARG","GF",50,null,null,null,null,""]
["G1989","GALON G02 F ARG","GR",50,null,null,null,null,""]
["G1990","GALON G02 F ARG","GRF",50,null,null,null,null,""]
["G1991","GALON G02 F ARG","MTR",50,null,null,null,null,""]
["G1992","GALON G02 F ARG","M2 ",50,null,null,null,null,""]
["G1993","GALON G02 F ARG","MO",50,null,null,null,null,""]
["G1994","GALON G02 F ARG","MOF",50,null,null,null,null,""]
["G1995","GALON G02 F ARG","MOV",50,null,null,null,null,""]
["G1996","GALON G02 F ARG","MR",50,null,null,null,null,""]
["G1997","GALON G02 F ARG","MRN",50,null,null,null,null,""]
["G1998","GALON G02 F ARG","NR",50,null,null,null,null,""]
["G1999","GALON G02 F ARG","OR",50,null,null,null,null,""]
["G2000","GALON G02 F ARG","PA",50,null,null,null,null,""]
["G2001","GALON G02 F ARG","PA2",50,null,null,null,null,""]
["G2002","GALON G02 F ARG","PR",50,null,null,null,null,""]
["G2003","GALON G02 F ARG","R1",50,null,null,null,null,""]
["G2004","GALON G02 F ARG","R2",50,null,null,null,null,""]
["G2005","GALON G02 F ARG","R3",50,null,null,null,null,""]
["G2006","GALON G02 F ARG","RB",50,null,null,null,null,""]
["G2007","GALON G02 F ARG","RF",50,null,null,null,null,""]
["G2008","GALON G02 F ARG","RFF",50,null,null,null,null,""]
["G2009","GALON G02 F ARG","TA",50,null,null,null,null,""]
["G2010","GALON G02 F ARG","TR",50,null,null,null,null,""]
["G2011","GALON G02 F ARG","VA",50,null,null,null,null,""]
["G2012","GALON G02 F ARG","VD",50,null,null,null,null,""]
["G2013","GALON G02 F ARG","VEM",50,null,null,null,null,""]
["G2014","GALON G02 F ARG","VIO",50,null,null,null,null,""]
["G2015","GALON G02 F ARG","VM",50,null,null,null,null,""]
["G2016","GALON G02 F ARG","VP",50,null,null,null,null,""]
["G2017","GALON G02 F NR","AUB",50,null,null,null,null,""]
["G2018","GALON G02 F NR","BE",50,null,null,null,null,""]
["G2019","GALON G02 F NR","BEOR",50,null,null,null,null,""]
["G2020","GALON G02 F NR","BEF",50,null,null,null,null,""]
["G2021","GALON G02 F NR","BF",50,null,null,null,null,""]
["G2022","GALON G02 F NR","BL",50,null,null,null,null,""]
["G2023","GALON G02 F NR","BLC",50,null,null,null,null,""]
["G2024","GALON G02 F NR","BLCc",50,null,null,null,null,""]
["G2025","GALON G02 F NR","BLR",50,null,null,null,null,""]
["G2026","GALON G02 F NR","BO",50,null,null,null,null,""]
["G2027","GALON G02 F NR","BR",50,null,null,null,null,""]
["G2028","GALON G02 F NR","CR",50,null,null,null,null,""]
["G2029","GALON G02 F NR","CL",50,null,null,null,null,""]
["G2030","GALON G02 F NR","CRL",50,null,null,null,null,""]
["G2031","GALON G02 F NR","CVT",50,null,null,null,null,""]
["G2032","GALON G02 F NR","JP",50,null,null,null,null,""]
["G2033","GALON G02 F NR","G0",50,null,null,null,null,""]
["G2034","GALON G02 F NR","G2",50,null,null,null,null,""]
["G2035","GALON G02 F NR","G3",50,null,null,null,null,""]
["G2036","GALON G02 F NR","GF",50,null,null,null,null,""]
["G2037","GALON G02 F NR","GR",50,null,null,null,null,""]
["G2038","GALON G02 F NR","GRF",50,null,null,null,null,""]
["G2039","GALON G02 F NR","MTR",50,null,null,null,null,""]
["G2040","GALON G02 F NR","M2 ",50,null,null,null,null,""]
["G2041","GALON G02 F NR","MO",50,null,null,null,null,""]
["G2042","GALON G02 F NR","MOF",50,null,null,null,null,""]
["G2043","GALON G02 F NR","MOV",50,null,null,null,null,""]
["G2044","GALON G02 F NR","MR",50,null,null,null,null,""]
["G2045","GALON G02 F NR","MRN",50,null,null,null,null,""]
["G2046","GALON G02 F NR","NR",50,null,null,null,null,""]
["G2047","GALON G02 F NR","OR",50,null,null,null,null,""]
["G2048","GALON G02 F NR","PA",50,null,null,null,null,""]
["G2049","GALON G02 F NR","PA2",50,null,null,null,null,""]
["G2050","GALON G02 F NR","PR",50,null,null,null,null,{"$f":"IF(G2051 = \"\",\"\",IF(G2051<=H2051,\"Commander\",\"Correct\"))","v":""}]
["G2051","GALON G02 F NR","R1",50,null,null,null,null,""]
["G2052","GALON G02 F NR","R2",50,null,null,null,null,""]
["G2053","GALON G02 F NR","R3",50,null,null,null,null,""]
["G2054","GALON G02 F NR","RB",50,null,null,null,null,""]
["G2055","GALON G02 F NR","RF",50,null,null,null,null,""]
["G2056","GALON G02 F NR","RFF",50,null,null,null,null,""]
["G2057","GALON G02 F NR","TA",50,null,null,null,null,""]
["G2058","GALON G02 F NR","TR",50,null,null,null,null,""]
["G2059","GALON G02 F NR","VA",50,null,null,null,null,""]
["G2060","GALON G02 F NR","VD",50,null,null,null,null,""]
["G2061","GALON G02 F NR","VEM",50,null,null,null,null,""]
["G2062","GALON G02 F NR","VIO",50,null,null,null,null,""]
["G2063","GALON G02 F NR","VM",50,null,null,null,null,""]
["G2064","GALON G02 F NR","VP",50,null,null,null,null,""]
["G2065","GALON GPU","AUB",50,null,null,null,null,""]
["G2066","GALON GPU","BE",50,null,null,null,null,""]
["G2067","GALON GPU","BEOR",50,null,null,null,null,""]
["G2068","GALON GPU","BEF",50,null,null,null,null,""]
["G2069","GALON GPU","BF",50,null,null,null,null,""]
["G2070","GALON GPU","BL",50,null,null,null,null,""]
["G2071","GALON GPU","BLC",50,null,null,null,null,""]
["G2072","GALON GPU","BLCc",50,null,null,null,null,""]
["G2073","GALON GPU","BLR",50,null,null,null,null,""]
["G2074","GALON GPU","BO",50,null,null,null,null,""]
["G2075","GALON GPU","BR",50,null,null,null,null,""]
["G2076","GALON GPU","CR",50,null,null,null,null,""]
["G2077","GALON GPU","CL",50,null,null,null,null,""]
["G2078","GALON GPU","CRL",50,null,null,null,null,""]
["G2079","GALON GPU","CVT",50,null,null,null,null,""]
["G2080","GALON GPU","JP",50,null,null,null,null,""]
["G2081","GALON GPU","G0",50,null,null,null,null,""]
["G2082","GALON GPU","G2",50,null,null,null,null,""]
["G2083","GALON GPU","G3",50,null,null,null,null,""]
["G2084","GALON GPU","GF",50,null,null,null,null,""]
["G2085","GALON GPU","GR",50,null,null,null,null,""]
["G2086","GALON GPU","GRF",50,null,null,null,null,""]
["G2087","GALON GPU","MTR",50,null,null,null,null,""]
["G2088","GALON GPU","M2 ",50,null,null,null,null,""]
["G2089","GALON GPU","MO",50,null,null,null,null,""]
["G2090","GALON GPU","MOF",50,null,null,null,null,""]
["G2091","GALON GPU","MOV",50,null,null,null,null,""]
["G2092","GALON GPU","MR",50,null,null,null,null,""]
["G2093","GALON GPU","MRN",50,null,null,null,null,""]
["G2094","GALON GPU","NR",50,null,null,null,null,""]
["G2095","GALON GPU","OR",50,null,null,null,null,""]
["G2096","GALON GPU","PA",50,null,null,null,null,""]
["G2097","GALON GPU","PA2",50,null,null,null,null,""]
["G2098","GALON GPU","PR",50,null,null,null,null,""]
["G2099","GALON GPU","R1",50,null,null,null,null,""]
["G2100","GALON GPU","R2",50,null,null,null,null,""]
["G2101","GALON GPU","R3",50,null,null,null,null,""]
["G2102","GALON GPU","RB",50,null,null,null,null,""]
["G2103","GALON GPU","RF",50,null,null,null,null,""]
["G2104","GALON GPU","RFF",50,null,null,null,null,""]
["G2105","GALON GPU","TA",50,null,null,null,null,""]
["G2106","GALON GPU","TR",50,null,null,null,null,""]
["G2107","GALON GPU","VA",50,null,null,null,null,""]
["G2108","GALON GPU","VD",50,null,null,null,null,""]
["G2109","GALON GPU","VEM",50,null,null,null,null,""]
["G2110","GALON GPU","VIO",50,null,null,null,null,""]
["G2111","GALON GPU","VM",50,null,null,null,null,""]
["G2112","GALON GPU","VP",50,null,null,null,null,""]
["G2113","GALON GP4C ","AUB",50,null,null,null,null,""]
["G2114","GALON GP4C ","BE",50,null,null,null,null,{"$f":"IF(G2115 = \"\",\"\",IF(G2115<=H2115,\"Commander\",\"Correct\"))","v":""}]
["G2115","GALON GP4C ","BEOR",50,null,null,null,null,""]
["G2116","GALON GP4C ","BEF",50,null,null,null,null,""]
["G2117","GALON GP4C ","BF",50,null,null,null,null,""]
["G2118","GALON GP4C ","BL",50,null,null,null,null,""]
["G2119","GALON GP4C ","BLC",50,null,null,null,null,""]
["G2120","GALON GP4C ","BLCc",50,null,null,null,null,""]
["G2121","GALON GP4C ","BLR",50,null,null,null,null,""]
["G2122","GALON GP4C ","BO",50,null,null,null,null,""]
["G2123","GALON GP4C ","BR",50,null,null,null,null,""]
["G2124","GALON GP4C ","CR",50,null,null,null,null,""]
["G2125","GALON GP4C ","CL",50,null,null,null,null,""]
["G2126","GALON GP4C ","CRL",50,null,null,null,null,""]
["G2127","GALON GP4C ","CVT",50,null,null,null,null,""]
["G2128","GALON GP4C ","JP",50,null,null,null,null,""]
["G2129","GALON GP4C ","G0",50,null,null,null,null,""]
["G2130","GALON GP4C ","G2",50,null,null,null,null,""]
["G2131","GALON GP4C ","G3",50,null,null,null,null,""]
["G2132","GALON GP4C ","GF",50,null,null,null,null,""]
["G2133","GALON GP4C ","GR",50,null,null,null,null,""]
["G2134","GALON GP4C ","GRF",50,null,null,null,null,""]
["G2135","GALON GP4C ","MTR",50,null,null,null,null,""]
["G2136","GALON GP4C ","M2 ",50,null,null,null,null,""]
["G2137","GALON GP4C ","MO",50,null,null,null,null,""]
["G2138","GALON GP4C ","MOF",50,null,null,null,null,""]
["G2139","GALON GP4C ","MOV",50,null,null,null,null,""]
["G2140","GALON GP4C ","MR",50,null,null,null,null,""]
["G2141","GALON GP4C ","MRN",50,null,null,null,null,""]
["G2142","GALON GP4C ","NR",50,null,null,null,null,""]
["G2143","GALON GP4C ","OR",50,null,null,null,null,""]
["G2144","GALON GP4C ","PA",50,null,null,null,null,""]
["G2145","GALON GP4C ","PA2",50,null,null,null,null,""]
["G2146","GALON GP4C ","PR",50,null,null,null,null,""]
["G2147","GALON GP4C ","R1",50,null,null,null,null,""]
["G2148","GALON GP4C ","R2",50,null,null,null,null,""]
["G2149","GALON GP4C ","R3",50,null,null,null,null,""]
["G2150","GALON GP4C ","RB",50,null,null,null,null,""]
["G2151","GALON GP4C ","RF",50,null,null,null,null,""]
["G2152","GALON GP4C ","RFF",50,null,null,null,null,""]
["G2153","GALON GP4C ","TA",50,null,null,null,null,""]
["G2154","GALON GP4C ","TR",50,null,null,null,null,""]
["G2155","GALON GP4C ","VA",50,null,null,null,null,""]
["G2156","GALON GP4C ","VD",50,null,null,null,null,""]
["G2157","GALON GP4C ","VEM",50,null,null,null,null,""]
["G2158","GALON GP4C ","VIO",50,null,null,null,null,""]
["G2159","GALON GP4C ","VM",50,null,null,null,null,""]
["G2160","GALON GP4C ","VP",50,null,null,null,null,""]
["G2161","GALON CTN PM","AUB",50,null,null,null,null,""]
["G2162","GALON CTN PM","BE",50,null,null,null,null,""]
["G2163","GALON CTN PM","BEOR",50,null,null,null,null,""]
["G2164","GALON CTN PM","BEF",50,null,null,null,null,""]
["G2165","GALON CTN PM","BF",50,null,null,null,null,""]
["G2166","GALON CTN PM","BL",50,null,null,null,null,""]
["G2167","GALON CTN PM","BLC",50,null,null,null,null,""]
["G2168","GALON CTN PM","BLCc",50,null,null,null,null,""]
["G2169","GALON CTN PM","BLR",50,null,null,null,null,""]
["G2170","GALON CTN PM","BO",50,null,null,null,null,""]
["G2171","GALON CTN PM","BR",50,null,null,null,null,""]
["G2172","GALON CTN PM","CR",50,null,null,null,null,""]
["G2173","GALON CTN PM","CL",50,null,null,null,null,""]
["G2174","GALON CTN PM","CRL",50,null,null,null,null,""]
["G2175","GALON CTN PM","CVT",50,null,null,null,null,""]
["G2176","GALON CTN PM","JP",50,null,null,null,null,""]
["G2177","GALON CTN PM","G0",50,null,null,null,null,""]
["G2178","GALON CTN PM","G2",50,null,null,null,null,{"$f":"IF(G2179 = \"\",\"\",IF(G2179<=H2179,\"Commander\",\"Correct\"))","v":""}]
["G2179","GALON CTN PM","G3",50,null,null,null,null,""]
["G2180","GALON CTN PM","GF",50,null,null,null,null,""]
["G2181","GALON CTN PM","GR",50,null,null,null,null,""]
["G2182","GALON CTN PM","GRF",50,null,null,null,null,""]
["G2183","GALON CTN PM","MTR",50,null,null,null,null,""]
["G2184","GALON CTN PM","M2 ",50,null,null,null,null,""]
["G2185","GALON CTN PM","MO",50,null,null,null,null,""]
["G2186","GALON CTN PM","MOF",50,null,null,null,null,""]
["G2187","GALON CTN PM","MOV",50,null,null,null,null,""]
["G2188","GALON CTN PM","MR",50,null,null,null,null,""]
["G2189","GALON CTN PM","MRN",50,null,null,null,null,""]
["G2190","GALON CTN PM","NR",50,null,null,null,null,""]
["G2191","GALON CTN PM","OR",50,null,null,null,null,""]
["G2192","GALON CTN PM","PA",50,null,null,null,null,""]
["G2193","GALON CTN PM","PA2",50,null,null,null,null,""]
["G2194","GALON CTN PM","PR",50,null,null,null,null,""]
["G2195","GALON CTN PM","R1",50,null,null,null,null,""]
["G2196","GALON CTN PM","R2",50,null,null,null,null,""]
["G2197","GALON CTN PM","R3",50,null,null,null,null,""]
["G2198","GALON CTN PM","RB",50,null,null,null,null,""]
["G2199","GALON CTN PM","RF",50,null,null,null,null,""]
["G2200","GALON CTN PM","RFF",50,null,null,null,null,""]
["G2201","GALON CTN PM","TA",50,null,null,null,null,""]
["G2202","GALON CTN PM","TR",50,null,null,null,null,""]
["G2203","GALON CTN PM","VA",50,null,null,null,null,""]
["G2204","GALON CTN PM","VD",50,null,null,null,null,""]
["G2205","GALON CTN PM","VEM",50,null,null,null,null,""]
["G2206","GALON CTN PM","VIO",50,null,null,null,null,""]
["G2207","GALON CTN PM","VM",50,null,null,null,null,""]
["G2208","GALON CTN PM","VP",50,null,null,null,null,""]
["G2209","GALON CTN GM","AUB",50,null,null,null,null,""]
["G2210","GALON CTN GM","BE",50,null,null,null,null,""]
["G2211","GALON CTN GM","BEOR",50,null,null,null,null,""]
["G2212","GALON CTN GM","BEF",50,null,null,null,null,""]
["G2213","GALON CTN GM","BF",50,null,null,null,null,""]
["G2214","GALON CTN GM","BL",50,null,null,null,null,""]
["G2215","GALON CTN GM","BLC",50,null,null,null,null,""]
["G2216","GALON CTN GM","BLCc",50,null,null,null,null,""]
["G2217","GALON CTN GM","BLR",50,null,null,null,null,""]
["G2218","GALON CTN GM","BO",50,null,null,null,null,""]
["G2219","GALON CTN GM","BR",50,null,null,null,null,""]
["G2220","GALON CTN GM","CR",50,null,null,null,null,""]
["G2221","GALON CTN GM","CL",50,null,null,null,null,""]
["G2222","GALON CTN GM","CRL",50,null,null,null,null,""]
["G2223","GALON CTN GM","CVT",50,null,null,null,null,""]
["G2224","GALON CTN GM","JP",50,null,null,null,null,""]
["G2225","GALON CTN GM","G0",50,null,null,null,null,""]
["G2226","GALON CTN GM","G2",50,null,null,null,null,""]
["G2227","GALON CTN GM","G3",50,null,null,null,null,""]
["G2228","GALON CTN GM","GF",50,null,null,null,null,""]
["G2229","GALON CTN GM","GR",50,null,null,null,null,""]
["G2230","GALON CTN GM","GRF",50,null,null,null,null,""]
["G2231","GALON CTN GM","MTR",50,null,null,null,null,""]
["G2232","GALON CTN GM","M2 ",50,null,null,null,null,""]
["G2233","GALON CTN GM","MO",50,null,null,null,null,""]
["G2234","GALON CTN GM","MOF",50,null,null,null,null,""]
["G2235","GALON CTN GM","MOV",50,null,null,null,null,""]
["G2236","GALON CTN GM","MR",50,null,null,null,null,""]
["G2237","GALON CTN GM","MRN",50,null,null,null,null,""]
["G2238","GALON CTN GM","NR",50,null,null,null,null,""]
["G2239","GALON CTN GM","OR",50,null,null,null,null,""]
["G2240","GALON CTN GM","PA",50,null,null,null,null,""]
["G2241","GALON CTN GM","PA2",50,null,null,null,null,""]
["G2242","GALON CTN GM","PR",50,null,null,null,null,{"$f":"IF(G2243 = \"\",\"\",IF(G2243<=H2243,\"Commander\",\"Correct\"))","v":""}]
["G2243","GALON CTN GM","R1",50,null,null,null,null,""]
["G2244","GALON CTN GM","R2",50,null,null,null,null,""]
["G2245","GALON CTN GM","R3",50,null,null,null,null,""]
["G2246","GALON CTN GM","RB",50,null,null,null,null,""]
["G2247","GALON CTN GM","RF",50,null,null,null,null,""]
["G2248","GALON CTN GM","RFF",50,null,null,null,null,""]
["G2249","GALON CTN GM","TA",50,null,null,null,null,""]
["G2250","GALON CTN GM","TR",50,null,null,null,null,""]
["G2251","GALON CTN GM","VA",50,null,null,null,null,""]
["G2252","GALON CTN GM","VD",50,null,null,null,null,""]
["G2253","GALON CTN GM","VEM",50,null,null,null,null,""]
["G2254","GALON CTN GM","VIO",50,null,null,null,null,""]
["G2255","GALON CTN GM","VM",50,null,null,null,null,""]
["G2256","GALON CTN GM","VP",50,null,null,null,null,""]
["G2257","GALON GFX","AUB",50,null,null,null,null,""]
["G2258","GALON GFX","BE",50,null,null,null,null,""]
["G2259","GALON GFX","BEOR",50,null,null,null,null,""]
["G2260","GALON GFX","BEF",50,null,null,null,null,""]
["G2261","GALON GFX","BF",50,null,null,null,null,""]
["G2262","GALON GFX","BL",50,null,null,null,null,""]
["G2263","GALON GFX","BLC",50,null,null,null,null,""]
["G2264","GALON GFX","BLCc",50,null,null,null,null,""]
["G2265","GALON GFX","BLR",50,null,null,null,null,""]
["G2266","GALON GFX","BO",50,null,null,null,null,""]
["G2267","GALON GFX","BR",50,null,null,null,null,""]
["G2268","GALON GFX","CR",50,null,null,null,null,""]
["G2269","GALON GFX","CL",50,null,null,null,null,""]
["G2270","GALON GFX","CRL",50,null,null,null,null,""]
["G2271","GALON GFX","CVT",50,null,null,null,null,""]
["G2272","GALON GFX","JP",50,null,null,null,null,""]
["G2273","GALON GFX","G0",50,null,null,null,null,""]
["G2274","GALON GFX","G2",50,null,null,null,null,""]
["G2275","GALON GFX","G3",50,null,null,null,null,""]
["G2276","GALON GFX","GF",50,null,null,null,null,""]
["G2277","GALON GFX","GR",50,null,null,null,null,""]
["G2278","GALON GFX","GRF",50,null,null,null,null,""]
["G2279","GALON GFX","MTR",50,null,null,null,null,""]
["G2280","GALON GFX","M2 ",50,null,null,null,null,""]
["G2281","GALON GFX","MO",50,null,null,null,null,""]
["G2282","GALON GFX","MOF",50,null,null,null,null,""]
["G2283","GALON GFX","MOV",50,null,null,null,null,""]
["G2284","GALON GFX","MR",50,null,null,null,null,""]
["G2285","GALON GFX","MRN",50,null,null,null,null,""]
["G2286","GALON GFX","NR",50,null,null,null,null,""]
["G2287","GALON GFX","OR",50,null,null,null,null,""]
["G2288","GALON GFX","PA",50,null,null,null,null,""]
["G2289","GALON GFX","PA2",50,null,null,null,null,""]
["G2290","GALON GFX","PR",50,null,null,null,null,""]
["G2291","GALON GFX","R1",50,null,null,null,null,""]
["G2292","GALON GFX","R2",50,null,null,null,null,""]
["G2293","GALON GFX","R3",50,null,null,null,null,""]
["G2294","GALON GFX","RB",50,null,null,null,null,""]
["G2295","GALON GFX","RF",50,null,null,null,null,""]
["G2296","GALON GFX","RFF",50,null,null,null,null,""]
["G2297","GALON GFX","TA",50,null,null,null,null,""]
["G2298","GALON GFX","TR",50,null,null,null,null,""]
["G2299","GALON GFX","VA",50,null,null,null,null,""]
["G2300","GALON GFX","VD",50,null,null,null,null,""]
["G2301","GALON GFX","VEM",50,null,null,null,null,""]
["G2302","GALON GFX","VIO",50,null,null,null,null,""]
["G2303","GALON GFX","VM",50,null,null,null,null,""]
["G2304","GALON GFX","VP",50,null,null,null,null,""]
["G2305","GALON GFA","AUB",50,null,null,null,null,""]
["G2306","GALON GFA","BE",50,null,null,null,null,{"$f":"IF(G2307 = \"\",\"\",IF(G2307<=H2307,\"Commander\",\"Correct\"))","v":""}]
["G2307","GALON GFA","BEOR",50,null,null,null,null,""]
["G2308","GALON GFA","BEF",50,null,null,null,null,""]
["G2309","GALON GFA","BF",50,null,null,null,null,""]
["G2310","GALON GFA","BL",50,null,null,null,null,""]
["G2311","GALON GFA","BLC",50,null,null,null,null,""]
["G2312","GALON GFA","BLCc",50,null,null,null,null,""]
["G2313","GALON GFA","BLR",50,null,null,null,null,""]
["G2314","GALON GFA","BO",50,null,null,null,null,""]
["G2315","GALON GFA","BR",50,null,null,null,null,""]
["G2316","GALON GFA","CR",50,null,null,null,null,""]
["G2317","GALON GFA","CL",50,null,null,null,null,""]
["G2318","GALON GFA","CRL",50,null,null,null,null,""]
["G2319","GALON GFA","CVT",50,null,null,null,null,""]
["G2320","GALON GFA","JP",50,null,null,null,null,""]
["G2321","GALON GFA","G0",50,null,null,null,null,""]
["G2322","GALON GFA","G2",50,null,null,null,null,""]
["G2323","GALON GFA","G3",50,null,null,null,null,""]
["G2324","GALON GFA","GF",50,null,null,null,null,""]
["G2325","GALON GFA","GR",50,null,null,null,null,""]
["G2326","GALON GFA","GRF",50,null,null,null,null,""]
["G2327","GALON GFA","MTR",50,null,null,null,null,""]
["G2328","GALON GFA","M2 ",50,null,null,null,null,""]
["G2329","GALON GFA","MO",50,null,null,null,null,""]
["G2330","GALON GFA","MOF",50,null,null,null,null,""]
["G2331","GALON GFA","MOV",50,null,null,null,null,""]
["G2332","GALON GFA","MR",50,null,null,null,null,""]
["G2333","GALON GFA","MRN",50,null,null,null,null,""]
["G2334","GALON GFA","NR",50,null,null,null,null,""]
["G2335","GALON GFA","OR",50,null,null,null,null,""]
["G2336","GALON GFA","PA",50,null,null,null,null,""]
["G2337","GALON GFA","PA2",50,null,null,null,null,""]
["G2338","GALON GFA","PR",50,null,null,null,null,""]
["G2339","GALON GFA","R1",50,null,null,null,null,""]
["G2340","GALON GFA","R2",50,null,null,null,null,""]
["G2341","GALON GFA","R3",50,null,null,null,null,""]
["G2342","GALON GFA","RB",50,null,null,null,null,""]
["G2343","GALON GFA","RF",50,null,null,null,null,""]
["G2344","GALON GFA","RFF",50,null,null,null,null,""]
["G2345","GALON GFA","TA",50,null,null,null,null,""]
["G2346","GALON GFA","TR",50,null,null,null,null,""]
["G2347","GALON GFA","VA",50,null,null,null,null,""]
["G2348","GALON GFA","VD",50,null,null,null,null,""]
["G2349","GALON GFA","VEM",50,null,null,null,null,""]
["G2350","GALON GFA","VIO",50,null,null,null,null,""]
["G2351","GALON GFA","VM",50,null,null,null,null,""]
["G2352","GALON GFA","VP",50,null,null,null,null,""]
["G2353","CI N° 06","CI",50,null,null,null,null,{"$f":"IF(G2354 = \"\",\"\",IF(G2354<=H2354,\"Commander\",\"Correct\"))","v":""}]
["G2354","CI N° 08","CI",50,null,null,null,null,""]
["G2355","CI N° 10","CI",50]
["G2356","CI N° 12","CI",50]
["G2357","CI N° 14","CI",50]
["G2358","CI N° 16","CI",50]
["G2359","CI N° 18","CI",50]
["G2360","CA ","BLC",50,null,null,null,null,""]
["G2361","CA ","NR",50,null,null,null,null,""]
["G2362","FK","BLC",50,null,null,null,null,""]
["G2363","FK","NR",50,null,null,null,null,""]
["G2364","CEINTURE CS2T","AUB",50,null,null,null,null,""]
["G2365","CEINTURE CS2T","BE",50,null,null,null,null,""]
["G2366","CEINTURE CS2T","BEOR",50,null,null,null,null,""]
["G2367","CEINTURE CS2T","BEF",50,null,null,null,null,""]
["G2368","CEINTURE CS2T","BF",50,null,null,null,null,""]
["G2369","CEINTURE CS2T","BL",50,null,null,null,null,""]
["G2370","CEINTURE CS2T","BLC",50,null,null,null,null,{"$f":"IF(G2371 = \"\",\"\",IF(G2371<=H2371,\"Commander\",\"Correct\"))","v":""}]
["G2371","CEINTURE CS2T","BLCc",50,null,null,null,null,""]
["G2372","CEINTURE CS2T","BLR",50,null,null,null,null,""]
["G2373","CEINTURE CS2T","BO",50,null,null,null,null,""]
["G2374","CEINTURE CS2T","BR",50,null,null,null,null,""]
["G2375","CEINTURE CS2T","CR",50,null,null,null,null,""]
["G2376","CEINTURE CS2T","CL",50,null,null,null,null,""]
["G2377","CEINTURE CS2T","CRL",50,null,null,null,null,""]
["G2378","CEINTURE CS2T","CVT",50,null,null,null,null,""]
["G2379","CEINTURE CS2T","JP",50,null,null,null,null,""]
["G2380","CEINTURE CS2T","G0",50,null,null,null,null,""]
["G2381","CEINTURE CS2T","G2",50,null,null,null,null,""]
["G2382","CEINTURE CS2T","G3",50,null,null,null,null,""]
["G2383","CEINTURE CS2T","GF",50,null,null,null,null,""]
["G2384","CEINTURE CS2T","GR",50,null,null,null,null,""]
["G2385","CEINTURE CS2T","GRF",50,null,null,null,null,""]
["G2386","CEINTURE CS2T","MTR",50,null,null,null,null,""]
["G2387","CEINTURE CS2T","M2 ",50,null,null,null,null,""]
["G2388","CEINTURE CS2T","MO",50,null,null,null,null,""]
["G2389","CEINTURE CS2T","MOF",50,null,null,null,null,""]
["G2390","CEINTURE CS2T","MOV",50,null,null,null,null,""]
["G2391","CEINTURE CS2T","MR",50,null,null,null,null,""]
["G2392","CEINTURE CS2T","MRN",50,null,null,null,null,""]
["G2393","CEINTURE CS2T","NR",50,null,null,null,null,""]
["G2394","CEINTURE CS2T","OR",50,null,null,null,null,""]
["G2395","CEINTURE CS2T","PA",50,null,null,null,null,""]
["G2396","CEINTURE CS2T","PA2",50,null,null,null,null,""]
["G2397","CEINTURE CS2T","PR",50,null,null,null,null,""]
["G2398","CEINTURE CS2T","R1",50,null,null,null,null,""]
["G2399","CEINTURE CS2T","R2",50,null,null,null,null,""]
["G2400","CEINTURE CS2T","R3",50,null,null,null,null,""]
["G2401","CEINTURE CS2T","RB",50,null,null,null,null,""]
["G2402","CEINTURE CS2T","RF",50,null,null,null,null,""]
["G2403","CEINTURE CS2T","RFF",50,null,null,null,null,""]
["G2404","CEINTURE CS2T","TA",50,null,null,null,null,""]
["G2405","CEINTURE CS2T","TR",50,null,null,null,null,""]
["G2406","CEINTURE CS2T","VA",50,null,null,null,null,""]
["G2407","CEINTURE CS2T","VD",50,null,null,null,null,""]
["G2408","CEINTURE CS2T","VEM",50,null,null,null,null,""]
["G2409","CEINTURE CS2T","VIO",50,null,null,null,null,""]
["G2410","CEINTURE CS2T","VM",50,null,null,null,null,""]
["G2411","CEINTURE CS2T","VP",50,null,null,null,null,""]
["G2412","CEINTURE CS2T SIMPLE","AUB",50,null,null,null,null,""]
["G2413","CEINTURE CS2T SIMPLE","BE",50,null,null,null,null,""]
["G2414","CEINTURE CS2T SIMPLE","BEOR",50,null,null,null,null,""]
["G2415","CEINTURE CS2T SIMPLE","BEF",50,null,null,null,null,""]
["G2416","CEINTURE CS2T SIMPLE","BF",50,null,null,null,null,""]
["G2417","CEINTURE CS2T SIMPLE","BL",50,null,null,null,null,""]
["G2418","CEINTURE CS2T SIMPLE","BLC",50,null,null,null,null,""]
["G2419","CEINTURE CS2T SIMPLE","BLCc",50,null,null,null,null,""]
["G2420","CEINTURE CS2T SIMPLE","BLR",50,null,null,null,null,""]
["G2421","CEINTURE CS2T SIMPLE","BO",50,null,null,null,null,""]
["G2422","CEINTURE CS2T SIMPLE","BR",50,null,null,null,null,""]
["G2423","CEINTURE CS2T SIMPLE","CR",50,null,null,null,null,""]
["G2424","CEINTURE CS2T SIMPLE","CL",50,null,null,null,null,""]
["G2425","CEINTURE CS2T SIMPLE","CRL",50,null,null,null,null,""]
["G2426","CEINTURE CS2T SIMPLE","CVT",50,null,null,null,null,""]
["G2427","CEINTURE CS2T SIMPLE","JP",50,null,null,null,null,""]
["G2428","CEINTURE CS2T SIMPLE","G0",50,null,null,null,null,""]
["G2429","CEINTURE CS2T SIMPLE","G2",50,null,null,null,null,""]
["G2430","CEINTURE CS2T SIMPLE","G3",50,null,null,null,null,""]
["G2431","CEINTURE CS2T SIMPLE","GF",50,null,null,null,null,""]
["G2432","CEINTURE CS2T SIMPLE","GR",50,null,null,null,null,""]
["G2433","CEINTURE CS2T SIMPLE","GRF",50,null,null,null,null,""]
["G2434","CEINTURE CS2T SIMPLE","MTR",50,null,null,null,null,{"$f":"IF(G2435 = \"\",\"\",IF(G2435<=H2435,\"Commander\",\"Correct\"))","v":""}]
["G2435","CEINTURE CS2T SIMPLE","M2 ",50,null,null,null,null,""]
["G2436","CEINTURE CS2T SIMPLE","MO",50,null,null,null,null,""]
["G2437","CEINTURE CS2T SIMPLE","MOF",50,null,null,null,null,""]
["G2438","CEINTURE CS2T SIMPLE","MOV",50,null,null,null,null,""]
["G2439","CEINTURE CS2T SIMPLE","MR",50,null,null,null,null,""]
["G2440","CEINTURE CS2T SIMPLE","MRN",50,null,null,null,null,""]
["G2441","CEINTURE CS2T SIMPLE","NR",50,null,null,null,null,""]
["G2442","CEINTURE CS2T SIMPLE","OR",50,null,null,null,null,""]
["G2443","CEINTURE CS2T SIMPLE","PA",50,null,null,null,null,""]
["G2444","CEINTURE CS2T SIMPLE","PA2",50,null,null,null,null,""]
["G2445","CEINTURE CS2T SIMPLE","PR",50,null,null,null,null,""]
["G2446","CEINTURE CS2T SIMPLE","R1",50,null,null,null,null,""]
["G2447","CEINTURE CS2T SIMPLE","R2",50,null,null,null,null,""]
["G2448","CEINTURE CS2T SIMPLE","R3",50,null,null,null,null,""]
["G2449","CEINTURE CS2T SIMPLE","RB",50,null,null,null,null,""]
["G2450","CEINTURE CS2T SIMPLE","RF",50,null,null,null,null,""]
["G2451","CEINTURE CS2T SIMPLE","RFF",50,null,null,null,null,""]
["G2452","CEINTURE CS2T SIMPLE","TA",50,null,null,null,null,""]
["G2453","CEINTURE CS2T SIMPLE","TR",50,null,null,null,null,""]
["G2454","CEINTURE CS2T SIMPLE","VA",50,null,null,null,null,""]
["G2455","CEINTURE CS2T SIMPLE","VD",50,null,null,null,null,""]
["G2456","CEINTURE CS2T SIMPLE","VEM",50,null,null,null,null,""]
["G2457","CEINTURE CS2T SIMPLE","VIO",50,null,null,null,null,""]
["G2458","CEINTURE CS2T SIMPLE","VM",50,null,null,null,null,""]
["G2459","CEINTURE CS2T SIMPLE","VP",50,null,null,null,null,""]
["G2460","CEINTURE CS2T GM","AUB",50,null,null,null,null,""]
["G2461","CEINTURE CS2T GM","BE",50,null,null,null,null,""]
["G2462","CEINTURE CS2T GM","BEOR",50,null,null,null,null,""]
["G2463","CEINTURE CS2T GM","BEF",50,null,null,null,null,""]
["G2464","CEINTURE CS2T GM","BF",50,null,null,null,null,""]
["G2465","CEINTURE CS2T GM","BL",50,null,null,null,null,""]
["G2466","CEINTURE CS2T GM","BLC",50,null,null,null,null,""]
["G2467","CEINTURE CS2T GM","BLCc",50,null,null,null,null,""]
["G2468","CEINTURE CS2T GM","BLR",50,null,null,null,null,""]
["G2469","CEINTURE CS2T GM","BO",50,null,null,null,null,""]
["G2470","CEINTURE CS2T GM","BR",50,null,null,null,null,""]
["G2471","CEINTURE CS2T GM","CR",50,null,null,null,null,""]
["G2472","CEINTURE CS2T GM","CL",50,null,null,null,null,""]
["G2473","CEINTURE CS2T GM","CRL",50,null,null,null,null,""]
["G2474","CEINTURE CS2T GM","CVT",50,null,null,null,null,""]
["G2475","CEINTURE CS2T GM","JP",50,null,null,null,null,""]
["G2476","CEINTURE CS2T GM","G0",50,null,null,null,null,""]
["G2477","CEINTURE CS2T GM","G2",50,null,null,null,null,""]
["G2478","CEINTURE CS2T GM","G3",50,null,null,null,null,""]
["G2479","CEINTURE CS2T GM","GF",50,null,null,null,null,""]
["G2480","CEINTURE CS2T GM","GR",50,null,null,null,null,""]
["G2481","CEINTURE CS2T GM","GRF",50,null,null,null,null,""]
["G2482","CEINTURE CS2T GM","MTR",50,null,null,null,null,""]
["G2483","CEINTURE CS2T GM","M2 ",50,null,null,null,null,""]
["G2484","CEINTURE CS2T GM","MO",50,null,null,null,null,""]
["G2485","CEINTURE CS2T GM","MOF",50,null,null,null,null,""]
["G2486","CEINTURE CS2T GM","MOV",50,null,null,null,null,""]
["G2487","CEINTURE CS2T GM","MR",50,null,null,null,null,""]
["G2488","CEINTURE CS2T GM","MRN",50,null,null,null,null,""]
["G2489","CEINTURE CS2T GM","NR",50,null,null,null,null,""]
["G2490","CEINTURE CS2T GM","OR",50,null,null,null,null,""]
["G2491","CEINTURE CS2T GM","PA",50,null,null,null,null,""]
["G2492","CEINTURE CS2T GM","PA2",50,null,null,null,null,""]
["G2493","CEINTURE CS2T GM","PR",50,null,null,null,null,""]
["G2494","CEINTURE CS2T GM","R1",50,null,null,null,null,""]
["G2495","CEINTURE CS2T GM","R2",50,null,null,null,null,""]
["G2496","CEINTURE CS2T GM","R3",50,null,null,null,null,""]
["G2497","CEINTURE CS2T GM","RB",50,null,null,null,null,""]
["G2498","CEINTURE CS2T GM","RF",50,null,null,null,null,{"$f":"IF(G2499 = \"\",\"\",IF(G2499<=H2499,\"Commander\",\"Correct\"))","v":""}]
["G2499","CEINTURE CS2T GM","RFF",50,null,null,null,null,""]
["G2500","CEINTURE CS2T GM","TA",50,null,null,null,null,""]
["G2501","CEINTURE CS2T GM","TR",50,null,null,null,null,""]
["G2502","CEINTURE CS2T GM","VA",50,null,null,null,null,""]
["G2503","CEINTURE CS2T GM","VD",50,null,null,null,null,""]
["G2504","CEINTURE CS2T GM","VEM",50,null,null,null,null,""]
["G2505","CEINTURE CS2T GM","VIO",50,null,null,null,null,""]
["G2506","CEINTURE CS2T GM","VM",50,null,null,null,null,""]
["G2507","CEINTURE CS2T GM","VP",50,null,null,null,null,""]
["G2508","CEINTURE CS2T A BOULE","AUB",50,null,null,null,null,""]
["G2509","CEINTURE CS2T A BOULE","BE",50,null,null,null,null,""]
["G2510","CEINTURE CS2T A BOULE","BEOR",50,null,null,null,null,""]
["G2511","CEINTURE CS2T A BOULE","BEF",50,null,null,null,null,""]
["G2512","CEINTURE CS2T A BOULE","BF",50,null,null,null,null,""]
["G2513","CEINTURE CS2T A BOULE","BL",50,null,null,null,null,""]
["G2514","CEINTURE CS2T A BOULE","BLC",50,null,null,null,null,""]
["G2515","CEINTURE CS2T A BOULE","BLCc",50,null,null,null,null,""]
["G2516","CEINTURE CS2T A BOULE","BLR",50,null,null,null,null,""]
["G2517","CEINTURE CS2T A BOULE","BO",50,null,null,null,null,""]
["G2518","CEINTURE CS2T A BOULE","BR",50,null,null,null,null,""]
["G2519","CEINTURE CS2T A BOULE","CR",50,null,null,null,null,""]
["G2520","CEINTURE CS2T A BOULE","CL",50,null,null,null,null,""]
["G2521","CEINTURE CS2T A BOULE","CRL",50,null,null,null,null,""]
["G2522","CEINTURE CS2T A BOULE","CVT",50,null,null,null,null,""]
["G2523","CEINTURE CS2T A BOULE","JP",50,null,null,null,null,""]
["G2524","CEINTURE CS2T A BOULE","G0",50,null,null,null,null,""]
["G2525","CEINTURE CS2T A BOULE","G2",50,null,null,null,null,""]
["G2526","CEINTURE CS2T A BOULE","G3",50,null,null,null,null,""]
["G2527","CEINTURE CS2T A BOULE","GF",50,null,null,null,null,""]
["G2528","CEINTURE CS2T A BOULE","GR",50,null,null,null,null,""]
["G2529","CEINTURE CS2T A BOULE","GRF",50,null,null,null,null,""]
["G2530","CEINTURE CS2T A BOULE","MTR",50,null,null,null,null,""]
["G2531","CEINTURE CS2T A BOULE","M2 ",50,null,null,null,null,""]
["G2532","CEINTURE CS2T A BOULE","MO",50,null,null,null,null,""]
["G2533","CEINTURE CS2T A BOULE","MOF",50,null,null,null,null,""]
["G2534","CEINTURE CS2T A BOULE","MOV",50,null,null,null,null,""]
["G2535","CEINTURE CS2T A BOULE","MR",50,null,null,null,null,""]
["G2536","CEINTURE CS2T A BOULE","MRN",50,null,null,null,null,""]
["G2537","CEINTURE CS2T A BOULE","NR",50,null,null,null,null,""]
["G2538","CEINTURE CS2T A BOULE","OR",50,null,null,null,null,""]
["G2539","CEINTURE CS2T A BOULE","PA",50,null,null,null,null,""]
["G2540","CEINTURE CS2T A BOULE","PA2",50,null,null,null,null,""]
["G2541","CEINTURE CS2T A BOULE","PR",50,null,null,null,null,""]
["G2542","CEINTURE CS2T A BOULE","R1",50,null,null,null,null,""]
["G2543","CEINTURE CS2T A BOULE","R2",50,null,null,null,null,""]
["G2544","CEINTURE CS2T A BOULE","R3",50,null,null,null,null,""]
["G2545","CEINTURE CS2T A BOULE","RB",50,null,null,null,null,""]
["G2546","CEINTURE CS2T A BOULE","RF",50,null,null,null,null,""]
["G2547","CEINTURE CS2T A BOULE","RFF",50,null,null,null,null,""]
["G2548","CEINTURE CS2T A BOULE","TA",50,null,null,null,null,""]
["G2549","CEINTURE CS2T A BOULE","TR",50,null,null,null,null,""]
["G2550","CEINTURE CS2T A BOULE","VA",50,null,null,null,null,""]
["G2551","CEINTURE CS2T A BOULE","VD",50,null,null,null,null,""]
["G2552","CEINTURE CS2T A BOULE","VEM",50,null,null,null,null,""]
["G2553","CEINTURE CS2T A BOULE","VIO",50,null,null,null,null,""]
["G2554","CEINTURE CS2T A BOULE","VM",50,null,null,null,null,""]
["G2555","CEINTURE CS2T A BOULE","VP",50,null,null,null,null,""]
["G2556","CEINTURE METALE","AUB",50,null,null,null,null,""]
["G2557","CEINTURE METALE","BE",50,null,null,null,null,""]
["G2558","CEINTURE METALE","BEOR",50,null,null,null,null,""]
["G2559","CEINTURE METALE","BEF",50,null,null,null,null,""]
["G2560","CEINTURE METALE","BF",50,null,null,null,null,""]
["G2561","CEINTURE METALE","BL",50,null,null,null,null,""]
["G2562","CEINTURE METALE","BLC",50,null,null,null,null,{"$f":"IF(G2563 = \"\",\"\",IF(G2563<=H2563,\"Commander\",\"Correct\"))","v":""}]
["G2563","CEINTURE METALE","BLCc",50,null,null,null,null,""]
["G2564","CEINTURE METALE","BLR",50,null,null,null,null,""]
["G2565","CEINTURE METALE","BO",50,null,null,null,null,""]
["G2566","CEINTURE METALE","BR",50,null,null,null,null,""]
["G2567","CEINTURE METALE","CR",50,null,null,null,null,""]
["G2568","CEINTURE METALE","CL",50,null,null,null,null,""]
["G2569","CEINTURE METALE","CRL",50,null,null,null,null,""]
["G2570","CEINTURE METALE","CVT",50,null,null,null,null,""]
["G2571","CEINTURE METALE","JP",50,null,null,null,null,""]
["G2572","CEINTURE METALE","G0",50,null,null,null,null,""]
["G2573","CEINTURE METALE","G2",50,null,null,null,null,""]
["G2574","CEINTURE METALE","G3",50,null,null,null,null,""]
["G2575","CEINTURE METALE","GF",50,null,null,null,null,""]
["G2576","CEINTURE METALE","GR",50,null,null,null,null,""]
["G2577","CEINTURE METALE","GRF",50,null,null,null,null,""]
["G2578","CEINTURE METALE","MTR",50,null,null,null,null,""]
["G2579","CEINTURE METALE","M2 ",50,null,null,null,null,""]
["G2580","CEINTURE METALE","MO",50,null,null,null,null,""]
["G2581","CEINTURE METALE","MOF",50,null,null,null,null,""]
["G2582","CEINTURE METALE","MOV",50,null,null,null,null,""]
["G2583","CEINTURE METALE","MR",50,null,null,null,null,""]
["G2584","CEINTURE METALE","MRN",50,null,null,null,null,""]
["G2585","CEINTURE METALE","NR",50,null,null,null,null,""]
["G2586","CEINTURE METALE","OR",50,null,null,null,null,""]
["G2587","CEINTURE METALE","PA",50,null,null,null,null,""]
["G2588","CEINTURE METALE","PA2",50,null,null,null,null,""]
["G2589","CEINTURE METALE","PR",50,null,null,null,null,""]
["G2590","CEINTURE METALE","R1",50,null,null,null,null,""]
["G2591","CEINTURE METALE","R2",50,null,null,null,null,""]
["G2592","CEINTURE METALE","R3",50,null,null,null,null,""]
["G2593","CEINTURE METALE","RB",50,null,null,null,null,""]
["G2594","CEINTURE METALE","RF",50,null,null,null,null,""]
["G2595","CEINTURE METALE","RFF",50,null,null,null,null,""]
["G2596","CEINTURE METALE","TA",50,null,null,null,null,""]
["G2597","CEINTURE METALE","TR",50,null,null,null,null,""]
["G2598","CEINTURE METALE","VA",50,null,null,null,null,""]
["G2599","CEINTURE METALE","VD",50,null,null,null,null,""]
["G2600","CEINTURE METALE","VEM",50,null,null,null,null,""]
["G2601","CEINTURE METALE","VIO",50,null,null,null,null,""]
["G2602","CEINTURE METALE","VM",50,null,null,null,null,""]
["G2603","CEINTURE METALE","VP",50,null,null,null,null,""]

{"sheet":"Entrees","index":1,"n_rows":2,"n_cols":6,"rows_kept":2,"cut":false,"hidden":false,"merged":[]}
["N°","Réf","Article","Couleur"," Entrée","Date"]
[1,"G1","CS2T OR","AUB",100,"09/12/2019"]

{"sheet":"Sorties","index":2,"n_rows":2,"n_cols":7,"rows_kept":2,"cut":false,"hidden":false,"merged":[]}
["N°","Référence","Article","Couleur","Sortie","Date","Client"]
[1,"G1","CS2T OR","AUB",20,"09/12/2019","aaa1"]

{"sheet":"Recap Stock","index":3,"n_rows":50,"n_cols":30,"rows_kept":50,"cut":false,"hidden":false,"merged":[]}
[null,"CI N° 06","CI N° 08","CI N° 10","CI N° 12","CI N° 14","CI N° 16","CI N° 18","CS2T OR","CS2T ARG","CS2T NR","CS2T UNIS","CMK GM","CMK ARG","CMK FIN","FM04","F02 OR","F02 ARG","F02 NR","FTOUL",null,null,null,null,null,null,null,"GPU","GP4C","CA"]
["CI",{"$f":"IFERROR(OFFSET(Stocks!$G$1,SUMPRODUCT((Stocks!$B$2:$B$10000=B$1)*(Stocks!$C$2:$C$10000=$A2)*(ROW($3:$10001)-1)),0),\"\")","v":0},{"$f":"IFERROR(OFFSET(Stocks!$G$1,SUMPRODUCT((Stocks!$B$2:$B$10000=C$1)*(Stocks!$C$2:$C$10000=$A2)*(ROW($3:$10001)-1)),0),\"\")","v":0},{"$f":"IFERROR(OFFSET(Stocks!$G$1,SUMPRODUCT((Stocks!$B$2:$B$10000=D$1)*(Stocks!$C$2:$C$10000=$A2)*(ROW($3:$10001)-1)),0),\"\")","v":0},{"$f":"IFERROR(OFFSET(Stocks!$G$1,SUMPRODUCT((Stocks!$B$2:$B$10000=E$1)*(Stocks!$C$2:$C$10000=$A2)*(ROW($3:$10001)-1)),0),\"\")","v":0},{"$f":"IFERROR(OFFSET(Stocks!$G$1,SUMPRODUCT((Stocks!$B$2:$B$10000=F$1)*(Stocks!$C$2:$C$10000=$A2)*(ROW($3:$10001)-1)),0),\"\")","v":0},{"$f":"IFERROR(OFFSET(Stocks!$G$1,SUMPRODUCT((Stocks!$B$2:$B$10000=G$1)*(Stocks!$C$2:$C$10000=$A2)*(ROW($3:$10001)-1)),0),\"\")","v":0},{"$f":"IFERROR(OFFSET(Stocks!$G$1,SUMPRODUCT((Stocks!$B$2:$B$10000=H$1)*(Stocks!$C$2:$C$10000=$A2)*(ROW($3:$10001)-1)),0),\"\")","v":0},null,null,null,null,null,null,null,null,null,null,null,null,{"$f":"IFERROR(OFFSET(Stocks!$G$1,SUMPRODUCT((Stocks!$B$2:$B$10000=U$1)*(Stocks!$C$2:$C$10000=$A2)*(ROW($3:$10001)-1)),0),\"\")","v":"Stock Réel"},{"$f":"IFERROR(OFFSET(Stocks!$G$1,SUMPRODUCT((Stocks!$B$2:$B$10000=V$1)*(Stocks!$C$2:$C$10000=$A2)*(ROW($3:$10001)-1)),0),\"\")","v":"Stock Réel"},{"$f":"IFERROR(OFFSET(Stocks!$G$1,SUMPRODUCT((Stocks!$B$2:$B$10000=W$1)*(Stocks!$C$2:$C$10000=$A2)*(ROW($3:$10001)-1)),0),\"\")","v":"Stock Réel"},{"$f":"IFERROR(OFFSET(Stocks!$G$1,SUMPRODUCT((Stocks!$B$2:$B$10000=X$1)*(Stocks!$C$2:$C$10000=$A2)*(ROW($3:$10001)-1)),0),\"\")","v":"Stock Réel"},{"$f":"IFERROR(OFFSET(Stocks!$G$1,SUMPRODUCT((Stocks!$B$2:$B$10000=Y$1)*(Stocks!$C$2:$C$10000=$A2)*(ROW($3:$10001)-1)),0),\"\")","v":"Stock Réel"},{"$f":"IFERROR(OFFSET(Stocks!$G$1,SUMPRODUCT((Stocks!$B$2:$B$10000=Z$1)*(Stocks!$C$2:$C$10000=$A2)*(ROW($3:$10001)-1)),0),\"\")","v":"Stock Réel"},{"$f":"IFERROR(OFFSET(Stocks!$G$1,SUMPRODUCT((Stocks!$B$2:$B$10000=AA$1)*(Stocks!$C$2:$C$10000=$A2)*(ROW($3:$10001)-1)),0),\"\")","v":"Stock Réel"}]
["AUB",null,null,null,null,null,null,null,{"$f":"IFERROR(OFFSET(Stocks!$G$1,SUMPRODUCT((Stocks!$B$2:$B$10000=I$1)*(Stocks!$C$2:$C$10000=$A3)*(ROW($3:$10001)-1)),0),\"\")","v":50},{"$f":"IFERROR(OFFSET(Stocks!$G$1,SUMPRODUCT((Stocks!$B$2:$B$10000=J$1)*(Stocks!$C$2:$C$10000=$A3)*(ROW($3:$10001)-1)),0),\"\")","v":0},{"$f":"IFERROR(OFFSET(Stocks!$G$1,SUMPRODUCT((Stocks!$B$2:$B$10000=K$1)*(Stocks!$C$2:$C$10000=$A3)*(ROW($3:$10001)-1)),0),\"\")","v":0},{"$f":"IFERROR(OFFSET(Stocks!$G$1,SUMPRODUCT((Stocks!$B$2:$B$10000=L$1)*(Stocks!$C$2:$C$10000=$A3)*(ROW($3:$10001)-1)),0),\"\")","v":0},{"$f":"IFERROR(OFFSET(Stocks!$G$1,SUMPRODUCT((Stocks!$B$2:$B$10000=M$1)*(Stocks!$C$2:$C$10000=$A3)*(ROW($3:$10001)-1)),0),\"\")","v":0},{"$f":"IFERROR(OFFSET(Stocks!$G$1,SUMPRODUCT((Stocks!$B$2:$B$10000=N$1)*(Stocks!$C$2:$C$10000=$A3)*(ROW($3:$10001)-1)),0),\"\")","v":0},{"$f":"IFERROR(OFFSET(Stocks!$G$1,SUMPRODUCT((Stocks!$B$2:$B$10000=O$1)*(Stocks!$C$2:$C$10000=$A3)*(ROW($3:$10001)-1)),0),\"\")","v":0},{"$f":"IFERROR(OFFSET(Stocks!$G$1,SUMPRODUCT((Stocks!$B$2:$B$10000=P$1)*(Stocks!$C$2:$C$10000=$A3)*(ROW($3:$10001)-1)),0),\"\")","v":0},{"$f":"IFERROR(OFFSET(Stocks!$G$1,SUMPRODUCT((Stocks!$B$2:$B$10000=Q$1)*(Stocks!$C$2:$C$10000=$A3)*(ROW($3:$10001)-1)),0),\"\")","v":0},{"$f":"IFERROR(OFFSET(Stocks!$G$1,SUMPRODUCT((Stocks!$B$2:$B$10000=R$1)*(Stocks!$C$2:$C$10000=$A3)*(ROW($3:$10001)-1)),0),\"\")","v":0},{"$f":"IFERROR(OFFSET(Stocks!$G$1,SUMPRODUCT((Stocks!$B$2:$B$10000=S$1)*(Stocks!$C$2:$C$10000=$A3)*(ROW($3:$10001)-1)),0),\"\")","v":0},{"$f":"IFERROR(OFFSET(Stocks!$G$1,SUMPRODUCT((Stocks!$B$2:$B$10000=T$1)*(Stocks!$C$2:$C$10000=$A3)*(ROW($3:$10001)-1)),0),\"\")","v":0},null,null,null,null,null,null,null,{"$f":"IFERROR(OFFSET(Stocks!$G$1,SUMPRODUCT((Stocks!$B$2:$B$10000=AB$1)*(Stocks!$C$2:$C$10000=$A3)*(ROW($3:$10001)-1)),0),\"\")","v":"Stock Réel"},{"$f":"IFERROR(OFFSET(Stocks!$G$1,SUMPRODUCT((Stocks!$B$2:$B$10000=AC$1)*(Stocks!$C$2:$C$10000=$A3)*(ROW($3:$10001)-1)),0),\"\")","v":"Stock Réel"},{"$f":"IFERROR(OFFSET(Stocks!$G$1,SUMPRODUCT((Stocks!$B$2:$B$10000=AD$1)*(Stocks!$C$2:$C$10000=$A3)*(ROW($3:$10001)-1)),0),\"\")","v":"Stock Réel"}]
["BE",null,null,null,null,null,null,null,{"$f":"IFERROR(OFFSET(Stocks!$G$1,SUMPRODUCT((Stocks!$B$2:$B$10000=I$1)*(Stocks!$C$2:$C$10000=$A4)*(ROW($3:$10001)-1)),0),\"\")","v":50},{"$f":"IFERROR(OFFSET(Stocks!$G$1,SUMPRODUCT((Stocks!$B$2:$B$10000=J$1)*(Stocks!$C$2:$C$10000=$A4)*(ROW($3:$10001)-1)),0),\"\")","v":0},{"$f":"IFERROR(OFFSET(Stocks!$G$1,SUMPRODUCT((Stocks!$B$2:$B$10000=K$1)*(Stocks!$C$2:$C$10000=$A4)*(ROW($3:$10001)-1)),0),\"\")","v":0},{"$f":"IFERROR(OFFSET(Stocks!$G$1,SUMPRODUCT((Stocks!$B$2:$B$10000=L$1)*(Stocks!$C$2:$C$10000=$A4)*(ROW($3:$10001)-1)),0),\"\")","v":0},{"$f":"IFERROR(OFFSET(Stocks!$G$1,SUMPRODUCT((Stocks!$B$2:$B$10000=M$1)*(Stocks!$C$2:$C$10000=$A4)*(ROW($3:$10001)-1)),0),\"\")","v":0},{"$f":"IFERROR(OFFSET(Stocks!$G$1,SUMPRODUCT((Stocks!$B$2:$B$10000=N$1)*(Stocks!$C$2:$C$10000=$A4)*(ROW($3:$10001)-1)),0),\"\")","v":0},{"$f":"IFERROR(OFFSET(Stocks!$G$1,SUMPRODUCT((Stocks!$B$2:$B$10000=O$1)*(Stocks!$C$2:$C$10000=$A4)*(ROW($3:$10001)-1)),0),\"\")","v":0},{"$f":"IFERROR(OFFSET(Stocks!$G$1,SUMPRODUCT((Stocks!$B$2:$B$10000=P$1)*(Stocks!$C$2:$C$10000=$A4)*(ROW($3:$10001)-1)),0),\"\")","v":0},{"$f":"IFERROR(OFFSET(Stocks!$G$1,SUMPRODUCT((Stocks!$B$2:$B$10000=Q$1)*(Stocks!$C$2:$C$10000=$A4)*(ROW($3:$10001)-1)),0),\"\")","v":0},{"$f":"IFERROR(OFFSET(Stocks!$G$1,SUMPRODUCT((Stocks!$B$2:$B$10000=R$1)*(Stocks!$C$2:$C$10000=$A4)*(ROW($3:$10001)-1)),0),\"\")","v":0},{"$f":"IFERROR(OFFSET(Stocks!$G$1,SUMPRODUCT((Stocks!$B$2:$B$10000=S$1)*(Stocks!$C$2:$C$10000=$A4)*(ROW($3:$10001)-1)),0),\"\")","v":0},{"$f":"IFERROR(OFFSET(Stocks!$G$1,SUMPRODUCT((Stocks!$B$2:$B$10000=T$1)*(Stocks!$C$2:$C$10000=$A4)*(ROW($3:$10001)-1)),0),\"\")","v":0},null,null,null,null,null,null,null,{"$f":"IFERROR(OFFSET(Stocks!$G$1,SUMPRODUCT((Stocks!$B$2:$B$10000=AB$1)*(Stocks!$C$2:$C$10000=$A4)*(ROW($3:$10001)-1)),0),\"\")","v":"Stock Réel"},{"$f":"IFERROR(OFFSET(Stocks!$G$1,SUMPRODUCT((Stocks!$B$2:$B$10000=AC$1)*(Stocks!$C$2:$C$10000=$A4)*(ROW($3:$10001)-1)),0),\"\")","v":"Stock Réel"},{"$f":"IFERROR(OFFSET(Stocks!$G$1,SUMPRODUCT((Stocks!$B$2:$B$10000=AD$1)*(Stocks!$C$2:$C$10000=$A4)*(ROW($3:$10001)-1)),0),\"\")","v":"Stock Réel"}]
["BEOR",null,null,null,null,null,null,null,{"$f":"IFERROR(OFFSET(Stocks!$G$1,SUMPRODUCT((Stocks!$B$2:$B$10000=I$1)*(Stocks!$C$2:$C$10000=$A5)*(ROW($3:$10001)-1)),0),\"\")","v":50},{"$f":"IFERROR(OFFSET(Stocks!$G$1,SUMPRODUCT((Stocks!$B$2:$B$10000=J$1)*(Stocks!$C$2:$C$10000=$A5)*(ROW($3:$10001)-1)),0),\"\")","v":0},{"$f":"IFERROR(OFFSET(Stocks!$G$1,SUMPRODUCT((Stocks!$B$2:$B$10000=K$1)*(Stocks!$C$2:$C$10000=$A5)*(ROW($3:$10001)-1)),0),\"\")","v":0},{"$f":"IFERROR(OFFSET(Stocks!$G$1,SUMPRODUCT((Stocks!$B$2:$B$10000=L$1)*(Stocks!$C$2:$C$10000=$A5)*(ROW($3:$10001)-1)),0),\"\")","v":0},{"$f":"IFERROR(OFFSET(Stocks!$G$1,SUMPRODUCT((Stocks!$B$2:$B$10000=M$1)*(Stocks!$C$2:$C$10000=$A5)*(ROW($3:$10001)-1)),0),\"\")","v":0},{"$f":"IFERROR(OFFSET(Stocks!$G$1,SUMPRODUCT((Stocks!$B$2:$B$10000=N$1)*(Stocks!$C$2:$C$10000=$A5)*(ROW($3:$10001)-1)),0),\"\")","v":0},{"$f":"IFERROR(OFFSET(Stocks!$G$1,SUMPRODUCT((Stocks!$B$2:$B$10000=O$1)*(Stocks!$C$2:$C$10000=$A5)*(ROW($3:$10001)-1)),0),\"\")","v":0},{"$f":"IFERROR(OFFSET(Stocks!$G$1,SUMPRODUCT((Stocks!$B$2:$B$10000=P$1)*(Stocks!$C$2:$C$10000=$A5)*(ROW($3:$10001)-1)),0),\"\")","v":0},{"$f":"IFERROR(OFFSET(Stocks!$G$1,SUMPRODUCT((Stocks!$B$2:$B$10000=Q$1)*(Stocks!$C$2:$C$10000=$A5)*(ROW($3:$10001)-1)),0),\"\")","v":0},{"$f":"IFERROR(OFFSET(Stocks!$G$1,SUMPRODUCT((Stocks!$B$2:$B$10000=R$1)*(Stocks!$C$2:$C$10000=$A5)*(ROW($3:$10001)-1)),0),\"\")","v":0},{"$f":"IFERROR(OFFSET(Stocks!$G$1,SUMPRODUCT((Stocks!$B$2:$B$10000=S$1)*(Stocks!$C$2:$C$10000=$A5)*(ROW($3:$10001)-1)),0),\"\")","v":0},{"$f":"IFERROR(OFFSET(Stocks!$G$1,SUMPRODUCT((Stocks!$B$2:$B$10000=T$1)*(Stocks!$C$2:$C$10000=$A5)*(ROW($3:$10001)-1)),0),\"\")","v":0},null,null,null,null,null,null,null,{"$f":"IFERROR(OFFSET(Stocks!$G$1,SUMPRODUCT((Stocks!$B$2:$B$10000=AB$1)*(Stocks!$C$2:$C$10000=$A5)*(ROW($3:$10001)-1)),0),\"\")","v":"Stock Réel"},{"$f":"IFERROR(OFFSET(Stocks!$G$1,SUMPRODUCT((Stocks!$B$2:$B$10000=AC$1)*(Stocks!$C$2:$C$10000=$A5)*(ROW($3:$10001)-1)),0),\"\")","v":"Stock Réel"},{"$f":"IFERROR(OFFSET(Stocks!$G$1,SUMPRODUCT((Stocks!$B$2:$B$10000=AD$1)*(Stocks!$C$2:$C$10000=$A5)*(ROW($3:$10001)-1)),0),\"\")","v":"Stock Réel"}]
["BEF",null,null,null,null,null,null,null,{"$f":"IFERROR(OFFSET(Stocks!$G$1,SUMPRODUCT((Stocks!$B$2:$B$10000=I$1)*(Stocks!$C$2:$C$10000=$A6)*(ROW($3:$10001)-1)),0),\"\")","v":50},{"$f":"IFERROR(OFFSET(Stocks!$G$1,SUMPRODUCT((Stocks!$B$2:$B$10000=J$1)*(Stocks!$C$2:$C$10000=$A6)*(ROW($3:$10001)-1)),0),\"\")","v":0},{"$f":"IFERROR(OFFSET(Stocks!$G$1,SUMPRODUCT((Stocks!$B$2:$B$10000=K$1)*(Stocks!$C$2:$C$10000=$A6)*(ROW($3:$10001)-1)),0),\"\")","v":0},{"$f":"IFERROR(OFFSET(Stocks!$G$1,SUMPRODUCT((Stocks!$B$2:$B$10000=L$1)*(Stocks!$C$2:$C$10000=$A6)*(ROW($3:$10001)-1)),0),\"\")","v":0},{"$f":"IFERROR(OFFSET(Stocks!$G$1,SUMPRODUCT((Stocks!$B$2:$B$10000=M$1)*(Stocks!$C$2:$C$10000=$A6)*(ROW($3:$10001)-1)),0),\"\")","v":0},{"$f":"IFERROR(OFFSET(Stocks!$G$1,SUMPRODUCT((Stocks!$B$2:$B$10000=N$1)*(Stocks!$C$2:$C$10000=$A6)*(ROW($3:$10001)-1)),0),\"\")","v":0},{"$f":"IFERROR(OFFSET(Stocks!$G$1,SUMPRODUCT((Stocks!$B$2:$B$10000=O$1)*(Stocks!$C$2:$C$10000=$A6)*(ROW($3:$10001)-1)),0),\"\")","v":0},{"$f":"IFERROR(OFFSET(Stocks!$G$1,SUMPRODUCT((Stocks!$B$2:$B$10000=P$1)*(Stocks!$C$2:$C$10000=$A6)*(ROW($3:$10001)-1)),0),\"\")","v":0},{"$f":"IFERROR(OFFSET(Stocks!$G$1,SUMPRODUCT((Stocks!$B$2:$B$10000=Q$1)*(Stocks!$C$2:$C$10000=$A6)*(ROW($3:$10001)-1)),0),\"\")","v":0},{"$f":"IFERROR(OFFSET(Stocks!$G$1,SUMPRODUCT((Stocks!$B$2:$B$10000=R$1)*(Stocks!$C$2:$C$10000=$A6)*(ROW($3:$10001)-1)),0),\"\")","v":0},{"$f":"IFERROR(OFFSET(Stocks!$G$1,SUMPRODUCT((Stocks!$B$2:$B$10000=S$1)*(Stocks!$C$2:$C$10000=$A6)*(ROW($3:$10001)-1)),0),\"\")","v":0},{"$f":"IFERROR(OFFSET(Stocks!$G$1,SUMPRODUCT((Stocks!$B$2:$B$10000=T$1)*(Stocks!$C$2:$C$10000=$A6)*(ROW($3:$10001)-1)),0),\"\")","v":0},null,null,null,null,null,null,null,{"$f":"IFERROR(OFFSET(Stocks!$G$1,SUMPRODUCT((Stocks!$B$2:$B$10000=AB$1)*(Stocks!$C$2:$C$10000=$A6)*(ROW($3:$10001)-1)),0),\"\")","v":"Stock Réel"},{"$f":"IFERROR(OFFSET(Stocks!$G$1,SUMPRODUCT((Stocks!$B$2:$B$10000=AC$1)*(Stocks!$C$2:$C$10000=$A6)*(ROW($3:$10001)-1)),0),\"\")","v":"Stock Réel"},{"$f":"IFERROR(OFFSET(Stocks!$G$1,SUMPRODUCT((Stocks!$B$2:$B$10000=AD$1)*(Stocks!$C$2:$C$10000=$A6)*(ROW($3:$10001)-1)),0),\"\")","v":"Stock Réel"}]
["BF",null,null,null,null,null,null,null,{"$f":"IFERROR(OFFSET(Stocks!$G$1,SUMPRODUCT((Stocks!$B$2:$B$10000=I$1)*(Stocks!$C$2:$C$10000=$A7)*(ROW($3:$10001)-1)),0),\"\")","v":50},{"$f":"IFERROR(OFFSET(Stocks!$G$1,SUMPRODUCT((Stocks!$B$2:$B$10000=J$1)*(Stocks!$C$2:$C$10000=$A7)*(ROW($3:$10001)-1)),0),\"\")","v":0},{"$f":"IFERROR(OFFSET(Stocks!$G$1,SUMPRODUCT((Stocks!$B$2:$B$10000=K$1)*(Stocks!$C$2:$C$10000=$A7)*(ROW($3:$10001)-1)),0),\"\")","v":0},{"$f":"IFERROR(OFFSET(Stocks!$G$1,SUMPRODUCT((Stocks!$B$2:$B$10000=L$1)*(Stocks!$C$2:$C$10000=$A7)*(ROW($3:$10001)-1)),0),\"\")","v":0},{"$f":"IFERROR(OFFSET(Stocks!$G$1,SUMPRODUCT((Stocks!$B$2:$B$10000=M$1)*(Stocks!$C$2:$C$10000=$A7)*(ROW($3:$10001)-1)),0),\"\")","v":0},{"$f":"IFERROR(OFFSET(Stocks!$G$1,SUMPRODUCT((Stocks!$B$2:$B$10000=N$1)*(Stocks!$C$2:$C$10000=$A7)*(ROW($3:$10001)-1)),0),\"\")","v":0},{"$f":"IFERROR(OFFSET(Stocks!$G$1,SUMPRODUCT((Stocks!$B$2:$B$10000=O$1)*(Stocks!$C$2:$C$10000=$A7)*(ROW($3:$10001)-1)),0),\"\")","v":0},{"$f":"IFERROR(OFFSET(Stocks!$G$1,SUMPRODUCT((Stocks!$B$2:$B$10000=P$1)*(Stocks!$C$2:$C$10000=$A7)*(ROW($3:$10001)-1)),0),\"\")","v":0},{"$f":"IFERROR(OFFSET(Stocks!$G$1,SUMPRODUCT((Stocks!$B$2:$B$10000=Q$1)*(Stocks!$C$2:$C$10000=$A7)*(ROW($3:$10001)-1)),0),\"\")","v":0},{"$f":"IFERROR(OFFSET(Stocks!$G$1,SUMPRODUCT((Stocks!$B$2:$B$10000=R$1)*(Stocks!$C$2:$C$10000=$A7)*(ROW($3:$10001)-1)),0),\"\")","v":0},{"$f":"IFERROR(OFFSET(Stocks!$G$1,SUMPRODUCT((Stocks!$B$2:$B$10000=S$1)*(Stocks!$C$2:$C$10000=$A7)*(ROW($3:$10001)-1)),0),\"\")","v":0},{"$f":"IFERROR(OFFSET(Stocks!$G$1,SUMPRODUCT((Stocks!$B$2:$B$10000=T$1)*(Stocks!$C$2:$C$10000=$A7)*(ROW($3:$10001)-1)),0),\"\")","v":0},null,null,null,null,null,null,null,{"$f":"IFERROR(OFFSET(Stocks!$G$1,SUMPRODUCT((Stocks!$B$2:$B$10000=AB$1)*(Stocks!$C$2:$C$10000=$A7)*(ROW($3:$10001)-1)),0),\"\")","v":"Stock Réel"},{"$f":"IFERROR(OFFSET(Stocks!$G$1,SUMPRODUCT((Stocks!$B$2:$B$10000=AC$1)*(Stocks!$C$2:$C$10000=$A7)*(ROW($3:$10001)-1)),0),\"\")","v":"Stock Réel"},{"$f":"IFERROR(OFFSET(Stocks!$G$1,SUMPRODUCT((Stocks!$B$2:$B$10000=AD$1)*(Stocks!$C$2:$C$10000=$A7)*(ROW($3:$10001)-1)),0),\"\")","v":"Stock Réel"}]
["BL",null,null,null,null,null,null,null,{"$f":"IFERROR(OFFSET(Stocks!$G$1,SUMPRODUCT((Stocks!$B$2:$B$10000=I$1)*(Stocks!$C$2:$C$10000=$A8)*(ROW($3:$10001)-1)),0),\"\")","v":50},{"$f":"IFERROR(OFFSET(Stocks!$G$1,SUMPRODUCT((Stocks!$B$2:$B$10000=J$1)*(Stocks!$C$2:$C$10000=$A8)*(ROW($3:$10001)-1)),0),\"\")","v":0},{"$f":"IFERROR(OFFSET(Stocks!$G$1,SUMPRODUCT((Stocks!$B$2:$B$10000=K$1)*(Stocks!$C$2:$C$10000=$A8)*(ROW($3:$10001)-1)),0),\"\")","v":0},{"$f":"IFERROR(OFFSET(Stocks!$G$1,SUMPRODUCT((Stocks!$B$2:$B$10000=L$1)*(Stocks!$C$2:$C$10000=$A8)*(ROW($3:$10001)-1)),0),\"\")","v":0},{"$f":"IFERROR(OFFSET(Stocks!$G$1,SUMPRODUCT((Stocks!$B$2:$B$10000=M$1)*(Stocks!$C$2:$C$10000=$A8)*(ROW($3:$10001)-1)),0),\"\")","v":0},{"$f":"IFERROR(OFFSET(Stocks!$G$1,SUMPRODUCT((Stocks!$B$2:$B$10000=N$1)*(Stocks!$C$2:$C$10000=$A8)*(ROW($3:$10001)-1)),0),\"\")","v":0},{"$f":"IFERROR(OFFSET(Stocks!$G$1,SUMPRODUCT((Stocks!$B$2:$B$10000=O$1)*(Stocks!$C$2:$C$10000=$A8)*(ROW($3:$10001)-1)),0),\"\")","v":0},{"$f":"IFERROR(OFFSET(Stocks!$G$1,SUMPRODUCT((Stocks!$B$2:$B$10000=P$1)*(Stocks!$C$2:$C$10000=$A8)*(ROW($3:$10001)-1)),0),\"\")","v":0},{"$f":"IFERROR(OFFSET(Stocks!$G$1,SUMPRODUCT((Stocks!$B$2:$B$10000=Q$1)*(Stocks!$C$2:$C$10000=$A8)*(ROW($3:$10001)-1)),0),\"\")","v":0},{"$f":"IFERROR(OFFSET(Stocks!$G$1,SUMPRODUCT((Stocks!$B$2:$B$10000=R$1)*(Stocks!$C$2:$C$10000=$A8)*(ROW($3:$10001)-1)),0),\"\")","v":0},{"$f":"IFERROR(OFFSET(Stocks!$G$1,SUMPRODUCT((Stocks!$B$2:$B$10000=S$1)*(Stocks!$C$2:$C$10000=$A8)*(ROW($3:$10001)-1)),0),\"\")","v":0},{"$f":"IFERROR(OFFSET(Stocks!$G$1,SUMPRODUCT((Stocks!$B$2:$B$10000=T$1)*(Stocks!$C$2:$C$10000=$A8)*(ROW($3:$10001)-1)),0),\"\")","v":0},null,null,null,null,null,null,null,{"$f":"IFERROR(OFFSET(Stocks!$G$1,SUMPRODUCT((Stocks!$B$2:$B$10000=AB$1)*(Stocks!$C$2:$C$10000=$A8)*(ROW($3:$10001)-1)),0),\"\")","v":"Stock Réel"},{"$f":"IFERROR(OFFSET(Stocks!$G$1,SUMPRODUCT((Stocks!$B$2:$B$10000=AC$1)*(Stocks!$C$2:$C$10000=$A8)*(ROW($3:$10001)-1)),0),\"\")","v":"Stock Réel"},{"$f":"IFERROR(OFFSET(Stocks!$G$1,SUMPRODUCT((Stocks!$B$2:$B$10000=AD$1)*(Stocks!$C$2:$C$10000=$A8)*(ROW($3:$10001)-1)),0),\"\")","v":"Stock Réel"}]
["BLC",null,null,null,null,null,null,null,{"$f":"IFERROR(OFFSET(Stocks!$G$1,SUMPRODUCT((Stocks!$B$2:$B$10000=I$1)*(Stocks!$C$2:$C$10000=$A9)*(ROW($3:$10001)-1)),0),\"\")","v":50},{"$f":"IFERROR(OFFSET(Stocks!$G$1,SUMPRODUCT((Stocks!$B$2:$B$10000=J$1)*(Stocks!$C$2:$C$10000=$A9)*(ROW($3:$10001)-1)),0),\"\")","v":0},{"$f":"IFERROR(OFFSET(Stocks!$G$1,SUMPRODUCT((Stocks!$B$2:$B$10000=K$1)*(Stocks!$C$2:$C$10000=$A9)*(ROW($3:$10001)-1)),0),\"\")","v":0},{"$f":"IFERROR(OFFSET(Stocks!$G$1,SUMPRODUCT((Stocks!$B$2:$B$10000=L$1)*(Stocks!$C$2:$C$10000=$A9)*(ROW($3:$10001)-1)),0),\"\")","v":0},{"$f":"IFERROR(OFFSET(Stocks!$G$1,SUMPRODUCT((Stocks!$B$2:$B$10000=M$1)*(Stocks!$C$2:$C$10000=$A9)*(ROW($3:$10001)-1)),0),\"\")","v":0},{"$f":"IFERROR(OFFSET(Stocks!$G$1,SUMPRODUCT((Stocks!$B$2:$B$10000=N$1)*(Stocks!$C$2:$C$10000=$A9)*(ROW($3:$10001)-1)),0),\"\")","v":0},{"$f":"IFERROR(OFFSET(Stocks!$G$1,SUMPRODUCT((Stocks!$B$2:$B$10000=O$1)*(Stocks!$C$2:$C$10000=$A9)*(ROW($3:$10001)-1)),0),\"\")","v":0},{"$f":"IFERROR(OFFSET(Stocks!$G$1,SUMPRODUCT((Stocks!$B$2:$B$10000=P$1)*(Stocks!$C$2:$C$10000=$A9)*(ROW($3:$10001)-1)),0),\"\")","v":0},{"$f":"IFERROR(OFFSET(Stocks!$G$1,SUMPRODUCT((Stocks!$B$2:$B$10000=Q$1)*(Stocks!$C$2:$C$10000=$A9)*(ROW($3:$10001)-1)),0),\"\")","v":0},{"$f":"IFERROR(OFFSET(Stocks!$G$1,SUMPRODUCT((Stocks!$B$2:$B$10000=R$1)*(Stocks!$C$2:$C$10000=$A9)*(ROW($3:$10001)-1)),0),\"\")","v":0},{"$f":"IFERROR(OFFSET(Stocks!$G$1,SUMPRODUCT((Stocks!$B$2:$B$10000=S$1)*(Stocks!$C$2:$C$10000=$A9)*(ROW($3:$10001)-1)),0),\"\")","v":0},{"$f":"IFERROR(OFFSET(Stocks!$G$1,SUMPRODUCT((Stocks!$B$2:$B$10000=T$1)*(Stocks!$C$2:$C$10000=$A9)*(ROW($3:$10001)-1)),0),\"\")","v":0},null,null,null,null,null,null,null,{"$f":"IFERROR(OFFSET(Stocks!$G$1,SUMPRODUCT((Stocks!$B$2:$B$10000=AB$1)*(Stocks!$C$2:$C$10000=$A9)*(ROW($3:$10001)-1)),0),\"\")","v":"Stock Réel"},{"$f":"IFERROR(OFFSET(Stocks!$G$1,SUMPRODUCT((Stocks!$B$2:$B$10000=AC$1)*(Stocks!$C$2:$C$10000=$A9)*(ROW($3:$10001)-1)),0),\"\")","v":"Stock Réel"},{"$f":"IFERROR(OFFSET(Stocks!$G$1,SUMPRODUCT((Stocks!$B$2:$B$10000=AD$1)*(Stocks!$C$2:$C$10000=$A9)*(ROW($3:$10001)-1)),0),\"\")","v":"Stock Réel"}]
["BLCc",null,null,null,null,null,null,null,{"$f":"IFERROR(OFFSET(Stocks!$G$1,SUMPRODUCT((Stocks!$B$2:$B$10000=I$1)*(Stocks!$C$2:$C$10000=$A10)*(ROW($3:$10001)-1)),0),\"\")","v":50},{"$f":"IFERROR(OFFSET(Stocks!$G$1,SUMPRODUCT((Stocks!$B$2:$B$10000=J$1)*(Stocks!$C$2:$C$10000=$A10)*(ROW($3:$10001)-1)),0),\"\")","v":0},{"$f":"IFERROR(OFFSET(Stocks!$G$1,SUMPRODUCT((Stocks!$B$2:$B$10000=K$1)*(Stocks!$C$2:$C$10000=$A10)*(ROW($3:$10001)-1)),0),\"\")","v":0},{"$f":"IFERROR(OFFSET(Stocks!$G$1,SUMPRODUCT((Stocks!$B$2:$B$10000=L$1)*(Stocks!$C$2:$C$10000=$A10)*(ROW($3:$10001)-1)),0),\"\")","v":0},{"$f":"IFERROR(OFFSET(Stocks!$G$1,SUMPRODUCT((Stocks!$B$2:$B$10000=M$1)*(Stocks!$C$2:$C$10000=$A10)*(ROW($3:$10001)-1)),0),\"\")","v":0},{"$f":"IFERROR(OFFSET(Stocks!$G$1,SUMPRODUCT((Stocks!$B$2:$B$10000=N$1)*(Stocks!$C$2:$C$10000=$A10)*(ROW($3:$10001)-1)),0),\"\")","v":0},{"$f":"IFERROR(OFFSET(Stocks!$G$1,SUMPRODUCT((Stocks!$B$2:$B$10000=O$1)*(Stocks!$C$2:$C$10000=$A10)*(ROW($3:$10001)-1)),0),\"\")","v":0},{"$f":"IFERROR(OFFSET(Stocks!$G$1,SUMPRODUCT((Stocks!$B$2:$B$10000=P$1)*(Stocks!$C$2:$C$10000=$A10)*(ROW($3:$10001)-1)),0),\"\")","v":0},{"$f":"IFERROR(OFFSET(Stocks!$G$1,SUMPRODUCT((Stocks!$B$2:$B$10000=Q$1)*(Stocks!$C$2:$C$10000=$A10)*(ROW($3:$10001)-1)),0),\"\")","v":0},{"$f":"IFERROR(OFFSET(Stocks!$G$1,SUMPRODUCT((Stocks!$B$2:$B$10000=R$1)*(Stocks!$C$2:$C$10000=$A10)*(ROW($3:$10001)-1)),0),\"\")","v":0},{"$f":"IFERROR(OFFSET(Stocks!$G$1,SUMPRODUCT((Stocks!$B$2:$B$10000=S$1)*(Stocks!$C$2:$C$10000=$A10)*(ROW($3:$10001)-1)),0),\"\")","v":0},{"$f":"IFERROR(OFFSET(Stocks!$G$1,SUMPRODUCT((Stocks!$B$2:$B$10000=T$1)*(Stocks!$C$2:$C$10000=$A10)*(ROW($3:$10001)-1)),0),\"\")","v":0},null,null,null,null,null,null,null,{"$f":"IFERROR(OFFSET(Stocks!$G$1,SUMPRODUCT((Stocks!$B$2:$B$10000=AB$1)*(Stocks!$C$2:$C$10000=$A10)*(ROW($3:$10001)-1)),0),\"\")","v":"Stock Réel"},{"$f":"IFERROR(OFFSET(Stocks!$G$1,SUMPRODUCT((Stocks!$B$2:$B$10000=AC$1)*(Stocks!$C$2:$C$10000=$A10)*(ROW($3:$10001)-1)),0),\"\")","v":"Stock Réel"},{"$f":"IFERROR(OFFSET(Stocks!$G$1,SUMPRODUCT((Stocks!$B$2:$B$10000=AD$1)*(Stocks!$C$2:$C$10000=$A10)*(ROW($3:$10001)-1)),0),\"\")","v":"Stock Réel"}]
["BLR",null,null,null,null,null,null,null,{"$f":"IFERROR(OFFSET(Stocks!$G$1,SUMPRODUCT((Stocks!$B$2:$B$10000=I$1)*(Stocks!$C$2:$C$10000=$A11)*(ROW($3:$10001)-1)),0),\"\")","v":0},{"$f":"IFERROR(OFFSET(Stocks!$G$1,SUMPRODUCT((Stocks!$B$2:$B$10000=J$1)*(Stocks!$C$2:$C$10000=$A11)*(ROW($3:$10001)-1)),0),\"\")","v":0},{"$f":"IFERROR(OFFSET(Stocks!$G$1,SUMPRODUCT((Stocks!$B$2:$B$10000=K$1)*(Stocks!$C$2:$C$10000=$A11)*(ROW($3:$10001)-1)),0),\"\")","v":0},{"$f":"IFERROR(OFFSET(Stocks!$G$1,SUMPRODUCT((Stocks!$B$2:$B$10000=L$1)*(Stocks!$C$2:$C$10000=$A11)*(ROW($3:$10001)-1)),0),\"\")","v":0},{"$f":"IFERROR(OFFSET(Stocks!$G$1,SUMPRODUCT((Stocks!$B$2:$B$10000=M$1)*(Stocks!$C$2:$C$10000=$A11)*(ROW($3:$10001)-1)),0),\"\")","v":0},{"$f":"IFERROR(OFFSET(Stocks!$G$1,SUMPRODUCT((Stocks!$B$2:$B$10000=N$1)*(Stocks!$C$2:$C$10000=$A11)*(ROW($3:$10001)-1)),0),\"\")","v":0},{"$f":"IFERROR(OFFSET(Stocks!$G$1,SUMPRODUCT((Stocks!$B$2:$B$10000=O$1)*(Stocks!$C$2:$C$10000=$A11)*(ROW($3:$10001)-1)),0),\"\")","v":0},{"$f":"IFERROR(OFFSET(Stocks!$G$1,SUMPRODUCT((Stocks!$B$2:$B$10000=P$1)*(Stocks!$C$2:$C$10000=$A11)*(ROW($3:$10001)-1)),0),\"\")","v":0},{"$f":"IFERROR(OFFSET(Stocks!$G$1,SUMPRODUCT((Stocks!$B$2:$B$10000=Q$1)*(Stocks!$C$2:$C$10000=$A11)*(ROW($3:$10001)-1)),0),\"\")","v":0},{"$f":"IFERROR(OFFSET(Stocks!$G$1,SUMPRODUCT((Stocks!$B$2:$B$10000=R$1)*(Stocks!$C$2:$C$10000=$A11)*(ROW($3:$10001)-1)),0),\"\")","v":0},{"$f":"IFERROR(OFFSET(Stocks!$G$1,SUMPRODUCT((Stocks!$B$2:$B$10000=S$1)*(Stocks!$C$2:$C$10000=$A11)*(ROW($3:$10001)-1)),0),\"\")","v":0},{"$f":"IFERROR(OFFSET(Stocks!$G$1,SUMPRODUCT((Stocks!$B$2:$B$10000=T$1)*(Stocks!$C$2:$C$10000=$A11)*(ROW($3:$10001)-1)),0),\"\")","v":0},null,null,null,null,null,null,null,{"$f":"IFERROR(OFFSET(Stocks!$G$1,SUMPRODUCT((Stocks!$B$2:$B$10000=AB$1)*(Stocks!$C$2:$C$10000=$A11)*(ROW($3:$10001)-1)),0),\"\")","v":"Stock Réel"},{"$f":"IFERROR(OFFSET(Stocks!$G$1,SUMPRODUCT((Stocks!$B$2:$B$10000=AC$1)*(Stocks!$C$2:$C$10000=$A11)*(ROW($3:$10001)-1)),0),\"\")","v":"Stock Réel"},{"$f":"IFERROR(OFFSET(Stocks!$G$1,SUMPRODUCT((Stocks!$B$2:$B$10000=AD$1)*(Stocks!$C$2:$C$10000=$A11)*(ROW($3:$10001)-1)),0),\"\")","v":"Stock Réel"}]
["BO",null,null,null,null,null,null,null,{"$f":"IFERROR(OFFSET(Stocks!$G$1,SUMPRODUCT((Stocks!$B$2:$B$10000=I$1)*(Stocks!$C$2:$C$10000=$A12)*(ROW($3:$10001)-1)),0),\"\")","v":0},{"$f":"IFERROR(OFFSET(Stocks!$G$1,SUMPRODUCT((Stocks!$B$2:$B$10000=J$1)*(Stocks!$C$2:$C$10000=$A12)*(ROW($3:$10001)-1)),0),\"\")","v":0},{"$f":"IFERROR(OFFSET(Stocks!$G$1,SUMPRODUCT((Stocks!$B$2:$B$10000=K$1)*(Stocks!$C$2:$C$10000=$A12)*(ROW($3:$10001)-1)),0),\"\")","v":0},{"$f":"IFERROR(OFFSET(Stocks!$G$1,SUMPRODUCT((Stocks!$B$2:$B$10000=L$1)*(Stocks!$C$2:$C$10000=$A12)*(ROW($3:$10001)-1)),0),\"\")","v":0},{"$f":"IFERROR(OFFSET(Stocks!$G$1,SUMPRODUCT((Stocks!$B$2:$B$10000=M$1)*(Stocks!$C$2:$C$10000=$A12)*(ROW($3:$10001)-1)),0),\"\")","v":0},{"$f":"IFERROR(OFFSET(Stocks!$G$1,SUMPRODUCT((Stocks!$B$2:$B$10000=N$1)*(Stocks!$C$2:$C$10000=$A12)*(ROW($3:$10001)-1)),0),\"\")","v":0},{"$f":"IFERROR(OFFSET(Stocks!$G$1,SUMPRODUCT((Stocks!$B$2:$B$10000=O$1)*(Stocks!$C$2:$C$10000=$A12)*(ROW($3:$10001)-1)),0),\"\")","v":0},{"$f":"IFERROR(OFFSET(Stocks!$G$1,SUMPRODUCT((Stocks!$B$2:$B$10000=P$1)*(Stocks!$C$2:$C$10000=$A12)*(ROW($3:$10001)-1)),0),\"\")","v":0},{"$f":"IFERROR(OFFSET(Stocks!$G$1,SUMPRODUCT((Stocks!$B$2:$B$10000=Q$1)*(Stocks!$C$2:$C$10000=$A12)*(ROW($3:$10001)-1)),0),\"\")","v":0},{"$f":"IFERROR(OFFSET(Stocks!$G$1,SUMPRODUCT((Stocks!$B$2:$B$10000=R$1)*(Stocks!$C$2:$C$10000=$A12)*(ROW($3:$10001)-1)),0),\"\")","v":0},{"$f":"IFERROR(OFFSET(Stocks!$G$1,SUMPRODUCT((Stocks!$B$2:$B$10000=S$1)*(Stocks!$C$2:$C$10000=$A12)*(ROW($3:$10001)-1)),0),\"\")","v":0},{"$f":"IFERROR(OFFSET(Stocks!$G$1,SUMPRODUCT((Stocks!$B$2:$B$10000=T$1)*(Stocks!$C$2:$C$10000=$A12)*(ROW($3:$10001)-1)),0),\"\")","v":0},null,null,null,null,null,null,null,{"$f":"IFERROR(OFFSET(Stocks!$G$1,SUMPRODUCT((Stocks!$B$2:$B$10000=AB$1)*(Stocks!$C$2:$C$10000=$A12)*(ROW($3:$10001)-1)),0),\"\")","v":"Stock Réel"},{"$f":"IFERROR(OFFSET(Stocks!$G$1,SUMPRODUCT((Stocks!$B$2:$B$10000=AC$1)*(Stocks!$C$2:$C$10000=$A12)*(ROW($3:$10001)-1)),0),\"\")","v":"Stock Réel"},{"$f":"IFERROR(OFFSET(Stocks!$G$1,SUMPRODUCT((Stocks!$B$2:$B$10000=AD$1)*(Stocks!$C$2:$C$10000=$A12)*(ROW($3:$10001)-1)),0),\"\")","v":"Stock Réel"}]
["BR",null,null,null,null,null,null,null,{"$f":"IFERROR(OFFSET(Stocks!$G$1,SUMPRODUCT((Stocks!$B$2:$B$10000=I$1)*(Stocks!$C$2:$C$10000=$A13)*(ROW($3:$10001)-1)),0),\"\")","v":0},{"$f":"IFERROR(OFFSET(Stocks!$G$1,SUMPRODUCT((Stocks!$B$2:$B$10000=J$1)*(Stocks!$C$2:$C$10000=$A13)*(ROW($3:$10001)-1)),0),\"\")","v":0},{"$f":"IFERROR(OFFSET(Stocks!$G$1,SUMPRODUCT((Stocks!$B$2:$B$10000=K$1)*(Stocks!$C$2:$C$10000=$A13)*(ROW($3:$10001)-1)),0),\"\")","v":0},{"$f":"IFERROR(OFFSET(Stocks!$G$1,SUMPRODUCT((Stocks!$B$2:$B$10000=L$1)*(Stocks!$C$2:$C$10000=$A13)*(ROW($3:$10001)-1)),0),\"\")","v":0},{"$f":"IFERROR(OFFSET(Stocks!$G$1,SUMPRODUCT((Stocks!$B$2:$B$10000=M$1)*(Stocks!$C$2:$C$10000=$A13)*(ROW($3:$10001)-1)),0),\"\")","v":0},{"$f":"IFERROR(OFFSET(Stocks!$G$1,SUMPRODUCT((Stocks!$B$2:$B$10000=N$1)*(Stocks!$C$2:$C$10000=$A13)*(ROW($3:$10001)-1)),0),\"\")","v":0},{"$f":"IFERROR(OFFSET(Stocks!$G$1,SUMPRODUCT((Stocks!$B$2:$B$10000=O$1)*(Stocks!$C$2:$C$10000=$A13)*(ROW($3:$10001)-1)),0),\"\")","v":0},{"$f":"IFERROR(OFFSET(Stocks!$G$1,SUMPRODUCT((Stocks!$B$2:$B$10000=P$1)*(Stocks!$C$2:$C$10000=$A13)*(ROW($3:$10001)-1)),0),\"\")","v":0},{"$f":"IFERROR(OFFSET(Stocks!$G$1,SUMPRODUCT((Stocks!$B$2:$B$10000=Q$1)*(Stocks!$C$2:$C$10000=$A13)*(ROW($3:$10001)-1)),0),\"\")","v":0},{"$f":"IFERROR(OFFSET(Stocks!$G$1,SUMPRODUCT((Stocks!$B$2:$B$10000=R$1)*(Stocks!$C$2:$C$10000=$A13)*(ROW($3:$10001)-1)),0),\"\")","v":0},{"$f":"IFERROR(OFFSET(Stocks!$G$1,SUMPRODUCT((Stocks!$B$2:$B$10000=S$1)*(Stocks!$C$2:$C$10000=$A13)*(ROW($3:$10001)-1)),0),\"\")","v":0},{"$f":"IFERROR(OFFSET(Stocks!$G$1,SUMPRODUCT((Stocks!$B$2:$B$10000=T$1)*(Stocks!$C$2:$C$10000=$A13)*(ROW($3:$10001)-1)),0),\"\")","v":0},null,null,null,null,null,null,null,{"$f":"IFERROR(OFFSET(Stocks!$G$1,SUMPRODUCT((Stocks!$B$2:$B$10000=AB$1)*(Stocks!$C$2:$C$10000=$A13)*(ROW($3:$10001)-1)),0),\"\")","v":"Stock Réel"},{"$f":"IFERROR(OFFSET(Stocks!$G$1,SUMPRODUCT((Stocks!$B$2:$B$10000=AC$1)*(Stocks!$C$2:$C$10000=$A13)*(ROW($3:$10001)-1)),0),\"\")","v":"Stock Réel"},{"$f":"IFERROR(OFFSET(Stocks!$G$1,SUMPRODUCT((Stocks!$B$2:$B$10000=AD$1)*(Stocks!$C$2:$C$10000=$A13)*(ROW($3:$10001)-1)),0),\"\")","v":"Stock Réel"}]
["CR",null,null,null,null,null,null,null,{"$f":"IFERROR(OFFSET(Stocks!$G$1,SUMPRODUCT((Stocks!$B$2:$B$10000=I$1)*(Stocks!$C$2:$C$10000=$A14)*(ROW($3:$10001)-1)),0),\"\")","v":0},{"$f":"IFERROR(OFFSET(Stocks!$G$1,SUMPRODUCT((Stocks!$B$2:$B$10000=J$1)*(Stocks!$C$2:$C$10000=$A14)*(ROW($3:$10001)-1)),0),\"\")","v":0},{"$f":"IFERROR(OFFSET(Stocks!$G$1,SUMPRODUCT((Stocks!$B$2:$B$10000=K$1)*(Stocks!$C$2:$C$10000=$A14)*(ROW($3:$10001)-1)),0),\"\")","v":0},{"$f":"IFERROR(OFFSET(Stocks!$G$1,SUMPRODUCT((Stocks!$B$2:$B$10000=L$1)*(Stocks!$C$2:$C$10000=$A14)*(ROW($3:$10001)-1)),0),\"\")","v":0},{"$f":"IFERROR(OFFSET(Stocks!$G$1,SUMPRODUCT((Stocks!$B$2:$B$10000=M$1)*(Stocks!$C$2:$C$10000=$A14)*(ROW($3:$10001)-1)),0),\"\")","v":0},{"$f":"IFERROR(OFFSET(Stocks!$G$1,SUMPRODUCT((Stocks!$B$2:$B$10000=N$1)*(Stocks!$C$2:$C$10000=$A14)*(ROW($3:$10001)-1)),0),\"\")","v":0},{"$f":"IFERROR(OFFSET(Stocks!$G$1,SUMPRODUCT((Stocks!$B$2:$B$10000=O$1)*(Stocks!$C$2:$C$10000=$A14)*(ROW($3:$10001)-1)),0),\"\")","v":0},{"$f":"IFERROR(OFFSET(Stocks!$G$1,SUMPRODUCT((Stocks!$B$2:$B$10000=P$1)*(Stocks!$C$2:$C$10000=$A14)*(ROW($3:$10001)-1)),0),\"\")","v":0},{"$f":"IFERROR(OFFSET(Stocks!$G$1,SUMPRODUCT((Stocks!$B$2:$B$10000=Q$1)*(Stocks!$C$2:$C$10000=$A14)*(ROW($3:$10001)-1)),0),\"\")","v":0},{"$f":"IFERROR(OFFSET(Stocks!$G$1,SUMPRODUCT((Stocks!$B$2:$B$10000=R$1)*(Stocks!$C$2:$C$10000=$A14)*(ROW($3:$10001)-1)),0),\"\")","v":0},{"$f":"IFERROR(OFFSET(Stocks!$G$1,SUMPRODUCT((Stocks!$B$2:$B$10000=S$1)*(Stocks!$C$2:$C$10000=$A14)*(ROW($3:$10001)-1)),0),\"\")","v":0},{"$f":"IFERROR(OFFSET(Stocks!$G$1,SUMPRODUCT((Stocks!$B$2:$B$10000=T$1)*(Stocks!$C$2:$C$10000=$A14)*(ROW($3:$10001)-1)),0),\"\")","v":0},null,null,null,null,null,null,null,{"$f":"IFERROR(OFFSET(Stocks!$G$1,SUMPRODUCT((Stocks!$B$2:$B$10000=AB$1)*(Stocks!$C$2:$C$10000=$A14)*(ROW($3:$10001)-1)),0),\"\")","v":"Stock Réel"},{"$f":"IFERROR(OFFSET(Stocks!$G$1,SUMPRODUCT((Stocks!$B$2:$B$10000=AC$1)*(Stocks!$C$2:$C$10000=$A14)*(ROW($3:$10001)-1)),0),\"\")","v":"Stock Réel"},{"$f":"IFERROR(OFFSET(Stocks!$G$1,SUMPRODUCT((Stocks!$B$2:$B$10000=AD$1)*(Stocks!$C$2:$C$10000=$A14)*(ROW($3:$10001)-1)),0),\"\")","v":"Stock Réel"}]
["CL",null,null,null,null,null,null,null,{"$f":"IFERROR(OFFSET(Stocks!$G$1,SUMPRODUCT((Stocks!$B$2:$B$10000=I$1)*(Stocks!$C$2:$C$10000=$A15)*(ROW($3:$10001)-1)),0),\"\")","v":0},{"$f":"IFERROR(OFFSET(Stocks!$G$1,SUMPRODUCT((Stocks!$B$2:$B$10000=J$1)*(Stocks!$C$2:$C$10000=$A15)*(ROW($3:$10001)-1)),0),\"\")","v":0},{"$f":"IFERROR(OFFSET(Stocks!$G$1,SUMPRODUCT((Stocks!$B$2:$B$10000=K$1)*(Stocks!$C$2:$C$10000=$A15)*(ROW($3:$10001)-1)),0),\"\")","v":0},{"$f":"IFERROR(OFFSET(Stocks!$G$1,SUMPRODUCT((Stocks!$B$2:$B$10000=L$1)*(Stocks!$C$2:$C$10000=$A15)*(ROW($3:$10001)-1)),0),\"\")","v":0},{"$f":"IFERROR(OFFSET(Stocks!$G$1,SUMPRODUCT((Stocks!$B$2:$B$10000=M$1)*(Stocks!$C$2:$C$10000=$A15)*(ROW($3:$10001)-1)),0),\"\")","v":0},{"$f":"IFERROR(OFFSET(Stocks!$G$1,SUMPRODUCT((Stocks!$B$2:$B$10000=N$1)*(Stocks!$C$2:$C$10000=$A15)*(ROW($3:$10001)-1)),0),\"\")","v":0},{"$f":"IFERROR(OFFSET(Stocks!$G$1,SUMPRODUCT((Stocks!$B$2:$B$10000=O$1)*(Stocks!$C$2:$C$10000=$A15)*(ROW($3:$10001)-1)),0),\"\")","v":0},{"$f":"IFERROR(OFFSET(Stocks!$G$1,SUMPRODUCT((Stocks!$B$2:$B$10000=P$1)*(Stocks!$C$2:$C$10000=$A15)*(ROW($3:$10001)-1)),0),\"\")","v":0},{"$f":"IFERROR(OFFSET(Stocks!$G$1,SUMPRODUCT((Stocks!$B$2:$B$10000=Q$1)*(Stocks!$C$2:$C$10000=$A15)*(ROW($3:$10001)-1)),0),\"\")","v":0},{"$f":"IFERROR(OFFSET(Stocks!$G$1,SUMPRODUCT((Stocks!$B$2:$B$10000=R$1)*(Stocks!$C$2:$C$10000=$A15)*(ROW($3:$10001)-1)),0),\"\")","v":0},{"$f":"IFERROR(OFFSET(Stocks!$G$1,SUMPRODUCT((Stocks!$B$2:$B$10000=S$1)*(Stocks!$C$2:$C$10000=$A15)*(ROW($3:$10001)-1)),0),\"\")","v":0},{"$f":"IFERROR(OFFSET(Stocks!$G$1,SUMPRODUCT((Stocks!$B$2:$B$10000=T$1)*(Stocks!$C$2:$C$10000=$A15)*(ROW($3:$10001)-1)),0),\"\")","v":0},null,null,null,null,null,null,null,{"$f":"IFERROR(OFFSET(Stocks!$G$1,SUMPRODUCT((Stocks!$B$2:$B$10000=AB$1)*(Stocks!$C$2:$C$10000=$A15)*(ROW($3:$10001)-1)),0),\"\")","v":"Stock Réel"},{"$f":"IFERROR(OFFSET(Stocks!$G$1,SUMPRODUCT((Stocks!$B$2:$B$10000=AC$1)*(Stocks!$C$2:$C$10000=$A15)*(ROW($3:$10001)-1)),0),\"\")","v":"Stock Réel"},{"$f":"IFERROR(OFFSET(Stocks!$G$1,SUMPRODUCT((Stocks!$B$2:$B$10000=AD$1)*(Stocks!$C$2:$C$10000=$A15)*(ROW($3:$10001)-1)),0),\"\")","v":"Stock Réel"}]
["CRL",null,null,null,null,null,null,null,{"$f":"IFERROR(OFFSET(Stocks!$G$1,SUMPRODUCT((Stocks!$B$2:$B$10000=I$1)*(Stocks!$C$2:$C$10000=$A16)*(ROW($3:$10001)-1)),0),\"\")","v":0},{"$f":"IFERROR(OFFSET(Stocks!$G$1,SUMPRODUCT((Stocks!$B$2:$B$10000=J$1)*(Stocks!$C$2:$C$10000=$A16)*(ROW($3:$10001)-1)),0),\"\")","v":0},{"$f":"IFERROR(OFFSET(Stocks!$G$1,SUMPRODUCT((Stocks!$B$2:$B$10000=K$1)*(Stocks!$C$2:$C$10000=$A16)*(ROW($3:$10001)-1)),0),\"\")","v":0},{"$f":"IFERROR(OFFSET(Stocks!$G$1,SUMPRODUCT((Stocks!$B$2:$B$10000=L$1)*(Stocks!$C$2:$C$10000=$A16)*(ROW($3:$10001)-1)),0),\"\")","v":0},{"$f":"IFERROR(OFFSET(Stocks!$G$1,SUMPRODUCT((Stocks!$B$2:$B$10000=M$1)*(Stocks!$C$2:$C$10000=$A16)*(ROW($3:$10001)-1)),0),\"\")","v":0},{"$f":"IFERROR(OFFSET(Stocks!$G$1,SUMPRODUCT((Stocks!$B$2:$B$10000=N$1)*(Stocks!$C$2:$C$10000=$A16)*(ROW($3:$10001)-1)),0),\"\")","v":0},{"$f":"IFERROR(OFFSET(Stocks!$G$1,SUMPRODUCT((Stocks!$B$2:$B$10000=O$1)*(Stocks!$C$2:$C$10000=$A16)*(ROW($3:$10001)-1)),0),\"\")","v":0},{"$f":"IFERROR(OFFSET(Stocks!$G$1,SUMPRODUCT((Stocks!$B$2:$B$10000=P$1)*(Stocks!$C$2:$C$10000=$A16)*(ROW($3:$10001)-1)),0),\"\")","v":0},{"$f":"IFERROR(OFFSET(Stocks!$G$1,SUMPRODUCT((Stocks!$B$2:$B$10000=Q$1)*(Stocks!$C$2:$C$10000=$A16)*(ROW($3:$10001)-1)),0),\"\")","v":0},{"$f":"IFERROR(OFFSET(Stocks!$G$1,SUMPRODUCT((Stocks!$B$2:$B$10000=R$1)*(Stocks!$C$2:$C$10000=$A16)*(ROW($3:$10001)-1)),0),\"\")","v":0},{"$f":"IFERROR(OFFSET(Stocks!$G$1,SUMPRODUCT((Stocks!$B$2:$B$10000=S$1)*(Stocks!$C$2:$C$10000=$A16)*(ROW($3:$10001)-1)),0),\"\")","v":0},{"$f":"IFERROR(OFFSET(Stocks!$G$1,SUMPRODUCT((Stocks!$B$2:$B$10000=T$1)*(Stocks!$C$2:$C$10000=$A16)*(ROW($3:$10001)-1)),0),\"\")","v":0},null,null,null,null,null,null,null,{"$f":"IFERROR(OFFSET(Stocks!$G$1,SUMPRODUCT((Stocks!$B$2:$B$10000=AB$1)*(Stocks!$C$2:$C$10000=$A16)*(ROW($3:$10001)-1)),0),\"\")","v":"Stock Réel"},{"$f":"IFERROR(OFFSET(Stocks!$G$1,SUMPRODUCT((Stocks!$B$2:$B$10000=AC$1)*(Stocks!$C$2:$C$10000=$A16)*(ROW($3:$10001)-1)),0),\"\")","v":"Stock Réel"},{"$f":"IFERROR(OFFSET(Stocks!$G$1,SUMPRODUCT((Stocks!$B$2:$B$10000=AD$1)*(Stocks!$C$2:$C$10000=$A16)*(ROW($3:$10001)-1)),0),\"\")","v":"Stock Réel"}]
["CVT",null,null,null,null,null,null,null,{"$f":"IFERROR(OFFSET(Stocks!$G$1,SUMPRODUCT((Stocks!$B$2:$B$10000=I$1)*(Stocks!$C$2:$C$10000=$A17)*(ROW($3:$10001)-1)),0),\"\")","v":0},{"$f":"IFERROR(OFFSET(Stocks!$G$1,SUMPRODUCT((Stocks!$B$2:$B$10000=J$1)*(Stocks!$C$2:$C$10000=$A17)*(ROW($3:$10001)-1)),0),\"\")","v":0},{"$f":"IFERROR(OFFSET(Stocks!$G$1,SUMPRODUCT((Stocks!$B$2:$B$10000=K$1)*(Stocks!$C$2:$C$10000=$A17)*(ROW($3:$10001)-1)),0),\"\")","v":0},{"$f":"IFERROR(OFFSET(Stocks!$G$1,SUMPRODUCT((Stocks!$B$2:$B$10000=L$1)*(Stocks!$C$2:$C$10000=$A17)*(ROW($3:$10001)-1)),0),\"\")","v":0},{"$f":"IFERROR(OFFSET(Stocks!$G$1,SUMPRODUCT((Stocks!$B$2:$B$10000=M$1)*(Stocks!$C$2:$C$10000=$A17)*(ROW($3:$10001)-1)),0),\"\")","v":0},{"$f":"IFERROR(OFFSET(Stocks!$G$1,SUMPRODUCT((Stocks!$B$2:$B$10000=N$1)*(Stocks!$C$2:$C$10000=$A17)*(ROW($3:$10001)-1)),0),\"\")","v":0},{"$f":"IFERROR(OFFSET(Stocks!$G$1,SUMPRODUCT((Stocks!$B$2:$B$10000=O$1)*(Stocks!$C$2:$C$10000=$A17)*(ROW($3:$10001)-1)),0),\"\")","v":0},{"$f":"IFERROR(OFFSET(Stocks!$G$1,SUMPRODUCT((Stocks!$B$2:$B$10000=P$1)*(Stocks!$C$2:$C$10000=$A17)*(ROW($3:$10001)-1)),0),\"\")","v":0},{"$f":"IFERROR(OFFSET(Stocks!$G$1,SUMPRODUCT((Stocks!$B$2:$B$10000=Q$1)*(Stocks!$C$2:$C$10000=$A17)*(ROW($3:$10001)-1)),0),\"\")","v":0},{"$f":"IFERROR(OFFSET(Stocks!$G$1,SUMPRODUCT((Stocks!$B$2:$B$10000=R$1)*(Stocks!$C$2:$C$10000=$A17)*(ROW($3:$10001)-1)),0),\"\")","v":0},{"$f":"IFERROR(OFFSET(Stocks!$G$1,SUMPRODUCT((Stocks!$B$2:$B$10000=S$1)*(Stocks!$C$2:$C$10000=$A17)*(ROW($3:$10001)-1)),0),\"\")","v":0},{"$f":"IFERROR(OFFSET(Stocks!$G$1,SUMPRODUCT((Stocks!$B$2:$B$10000=T$1)*(Stocks!$C$2:$C$10000=$A17)*(ROW($3:$10001)-1)),0),\"\")","v":0},null,null,null,null,null,null,null,{"$f":"IFERROR(OFFSET(Stocks!$G$1,SUMPRODUCT((Stocks!$B$2:$B$10000=AB$1)*(Stocks!$C$2:$C$10000=$A17)*(ROW($3:$10001)-1)),0),\"\")","v":"Stock Réel"},{"$f":"IFERROR(OFFSET(Stocks!$G$1,SUMPRODUCT((Stocks!$B$2:$B$10000=AC$1)*(Stocks!$C$2:$C$10000=$A17)*(ROW($3:$10001)-1)),0),\"\")","v":"Stock Réel"},{"$f":"IFERROR(OFFSET(Stocks!$G$1,SUMPRODUCT((Stocks!$B$2:$B$10000=AD$1)*(Stocks!$C$2:$C$10000=$A17)*(ROW($3:$10001)-1)),0),\"\")","v":"Stock Réel"}]
["JP",null,null,null,null,null,null,null,{"$f":"IFERROR(OFFSET(Stocks!$G$1,SUMPRODUCT((Stocks!$B$2:$B$10000=I$1)*(Stocks!$C$2:$C$10000=$A18)*(ROW($3:$10001)-1)),0),\"\")","v":0},{"$f":"IFERROR(OFFSET(Stocks!$G$1,SUMPRODUCT((Stocks!$B$2:$B$10000=J$1)*(Stocks!$C$2:$C$10000=$A18)*(ROW($3:$10001)-1)),0),\"\")","v":0},{"$f":"IFERROR(OFFSET(Stocks!$G$1,SUMPRODUCT((Stocks!$B$2:$B$10000=K$1)*(Stocks!$C$2:$C$10000=$A18)*(ROW($3:$10001)-1)),0),\"\")","v":0},{"$f":"IFERROR(OFFSET(Stocks!$G$1,SUMPRODUCT((Stocks!$B$2:$B$10000=L$1)*(Stocks!$C$2:$C$10000=$A18)*(ROW($3:$10001)-1)),0),\"\")","v":0},{"$f":"IFERROR(OFFSET(Stocks!$G$1,SUMPRODUCT((Stocks!$B$2:$B$10000=M$1)*(Stocks!$C$2:$C$10000=$A18)*(ROW($3:$10001)-1)),0),\"\")","v":0},{"$f":"IFERROR(OFFSET(Stocks!$G$1,SUMPRODUCT((Stocks!$B$2:$B$10000=N$1)*(Stocks!$C$2:$C$10000=$A18)*(ROW($3:$10001)-1)),0),\"\")","v":0},{"$f":"IFERROR(OFFSET(Stocks!$G$1,SUMPRODUCT((Stocks!$B$2:$B$10000=O$1)*(Stocks!$C$2:$C$10000=$A18)*(ROW($3:$10001)-1)),0),\"\")","v":0},{"$f":"IFERROR(OFFSET(Stocks!$G$1,SUMPRODUCT((Stocks!$B$2:$B$10000=P$1)*(Stocks!$C$2:$C$10000=$A18)*(ROW($3:$10001)-1)),0),\"\")","v":0},{"$f":"IFERROR(OFFSET(Stocks!$G$1,SUMPRODUCT((Stocks!$B$2:$B$10000=Q$1)*(Stocks!$C$2:$C$10000=$A18)*(ROW($3:$10001)-1)),0),\"\")","v":0},{"$f":"IFERROR(OFFSET(Stocks!$G$1,SUMPRODUCT((Stocks!$B$2:$B$10000=R$1)*(Stocks!$C$2:$C$10000=$A18)*(ROW($3:$10001)-1)),0),\"\")","v":0},{"$f":"IFERROR(OFFSET(Stocks!$G$1,SUMPRODUCT((Stocks!$B$2:$B$10000=S$1)*(Stocks!$C$2:$C$10000=$A18)*(ROW($3:$10001)-1)),0),\"\")","v":0},{"$f":"IFERROR(OFFSET(Stocks!$G$1,SUMPRODUCT((Stocks!$B$2:$B$10000=T$1)*(Stocks!$C$2:$C$10000=$A18)*(ROW($3:$10001)-1)),0),\"\")","v":0},null,null,null,null,null,null,null,{"$f":"IFERROR(OFFSET(Stocks!$G$1,SUMPRODUCT((Stocks!$B$2:$B$10000=AB$1)*(Stocks!$C$2:$C$10000=$A18)*(ROW($3:$10001)-1)),0),\"\")","v":"Stock Réel"},{"$f":"IFERROR(OFFSET(Stocks!$G$1,SUMPRODUCT((Stocks!$B$2:$B$10000=AC$1)*(Stocks!$C$2:$C$10000=$A18)*(ROW($3:$10001)-1)),0),\"\")","v":"Stock Réel"},{"$f":"IFERROR(OFFSET(Stocks!$G$1,SUMPRODUCT((Stocks!$B$2:$B$10000=AD$1)*(Stocks!$C$2:$C$10000=$A18)*(ROW($3:$10001)-1)),0),\"\")","v":"Stock Réel"}]
["G0",null,null,null,null,null,null,null,{"$f":"IFERROR(OFFSET(Stocks!$G$1,SUMPRODUCT((Stocks!$B$2:$B$10000=I$1)*(Stocks!$C$2:$C$10000=$A19)*(ROW($3:$10001)-1)),0),\"\")","v":0},{"$f":"IFERROR(OFFSET(Stocks!$G$1,SUMPRODUCT((Stocks!$B$2:$B$10000=J$1)*(Stocks!$C$2:$C$10000=$A19)*(ROW($3:$10001)-1)),0),\"\")","v":0},{"$f":"IFERROR(OFFSET(Stocks!$G$1,SUMPRODUCT((Stocks!$B$2:$B$10000=K$1)*(Stocks!$C$2:$C$10000=$A19)*(ROW($3:$10001)-1)),0),\"\")","v":0},{"$f":"IFERROR(OFFSET(Stocks!$G$1,SUMPRODUCT((Stocks!$B$2:$B$10000=L$1)*(Stocks!$C$2:$C$10000=$A19)*(ROW($3:$10001)-1)),0),\"\")","v":0},{"$f":"IFERROR(OFFSET(Stocks!$G$1,SUMPRODUCT((Stocks!$B$2:$B$10000=M$1)*(Stocks!$C$2:$C$10000=$A19)*(ROW($3:$10001)-1)),0),\"\")","v":0},{"$f":"IFERROR(OFFSET(Stocks!$G$1,SUMPRODUCT((Stocks!$B$2:$B$10000=N$1)*(Stocks!$C$2:$C$10000=$A19)*(ROW($3:$10001)-1)),0),\"\")","v":0},{"$f":"IFERROR(OFFSET(Stocks!$G$1,SUMPRODUCT((Stocks!$B$2:$B$10000=O$1)*(Stocks!$C$2:$C$10000=$A19)*(ROW($3:$10001)-1)),0),\"\")","v":0},{"$f":"IFERROR(OFFSET(Stocks!$G$1,SUMPRODUCT((Stocks!$B$2:$B$10000=P$1)*(Stocks!$C$2:$C$10000=$A19)*(ROW($3:$10001)-1)),0),\"\")","v":0},{"$f":"IFERROR(OFFSET(Stocks!$G$1,SUMPRODUCT((Stocks!$B$2:$B$10000=Q$1)*(Stocks!$C$2:$C$10000=$A19)*(ROW($3:$10001)-1)),0),\"\")","v":0},{"$f":"IFERROR(OFFSET(Stocks!$G$1,SUMPRODUCT((Stocks!$B$2:$B$10000=R$1)*(Stocks!$C$2:$C$10000=$A19)*(ROW($3:$10001)-1)),0),\"\")","v":0},{"$f":"IFERROR(OFFSET(Stocks!$G$1,SUMPRODUCT((Stocks!$B$2:$B$10000=S$1)*(Stocks!$C$2:$C$10000=$A19)*(ROW($3:$10001)-1)),0),\"\")","v":0},{"$f":"IFERROR(OFFSET(Stocks!$G$1,SUMPRODUCT((Stocks!$B$2:$B$10000=T$1)*(Stocks!$C$2:$C$10000=$A19)*(ROW($3:$10001)-1)),0),\"\")","v":0},null,null,null,null,null,null,null,{"$f":"IFERROR(OFFSET(Stocks!$G$1,SUMPRODUCT((Stocks!$B$2:$B$10000=AB$1)*(Stocks!$C$2:$C$10000=$A19)*(ROW($3:$10001)-1)),0),\"\")","v":"Stock Réel"},{"$f":"IFERROR(OFFSET(Stocks!$G$1,SUMPRODUCT((Stocks!$B$2:$B$10000=AC$1)*(Stocks!$C$2:$C$10000=$A19)*(ROW($3:$10001)-1)),0),\"\")","v":"Stock Réel"},{"$f":"IFERROR(OFFSET(Stocks!$G$1,SUMPRODUCT((Stocks!$B$2:$B$10000=AD$1)*(Stocks!$C$2:$C$10000=$A19)*(ROW($3:$10001)-1)),0),\"\")","v":"Stock Réel"}]
["G2",null,null,null,null,null,null,null,{"$f":"IFERROR(OFFSET(Stocks!$G$1,SUMPRODUCT((Stocks!$B$2:$B$10000=I$1)*(Stocks!$C$2:$C$10000=$A20)*(ROW($3:$10001)-1)),0),\"\")","v":0},{"$f":"IFERROR(OFFSET(Stocks!$G$1,SUMPRODUCT((Stocks!$B$2:$B$10000=J$1)*(Stocks!$C$2:$C$10000=$A20)*(ROW($3:$10001)-1)),0),\"\")","v":0},{"$f":"IFERROR(OFFSET(Stocks!$G$1,SUMPRODUCT((Stocks!$B$2:$B$10000=K$1)*(Stocks!$C$2:$C$10000=$A20)*(ROW($3:$10001)-1)),0),\"\")","v":0},{"$f":"IFERROR(OFFSET(Stocks!$G$1,SUMPRODUCT((Stocks!$B$2:$B$10000=L$1)*(Stocks!$C$2:$C$10000=$A20)*(ROW($3:$10001)-1)),0),\"\")","v":0},{"$f":"IFERROR(OFFSET(Stocks!$G$1,SUMPRODUCT((Stocks!$B$2:$B$10000=M$1)*(Stocks!$C$2:$C$10000=$A20)*(ROW($3:$10001)-1)),0),\"\")","v":0},{"$f":"IFERROR(OFFSET(Stocks!$G$1,SUMPRODUCT((Stocks!$B$2:$B$10000=N$1)*(Stocks!$C$2:$C$10000=$A20)*(ROW($3:$10001)-1)),0),\"\")","v":0},{"$f":"IFERROR(OFFSET(Stocks!$G$1,SUMPRODUCT((Stocks!$B$2:$B$10000=O$1)*(Stocks!$C$2:$C$10000=$A20)*(ROW($3:$10001)-1)),0),\"\")","v":0},{"$f":"IFERROR(OFFSET(Stocks!$G$1,SUMPRODUCT((Stocks!$B$2:$B$10000=P$1)*(Stocks!$C$2:$C$10000=$A20)*(ROW($3:$10001)-1)),0),\"\")","v":0},{"$f":"IFERROR(OFFSET(Stocks!$G$1,SUMPRODUCT((Stocks!$B$2:$B$10000=Q$1)*(Stocks!$C$2:$C$10000=$A20)*(ROW($3:$10001)-1)),0),\"\")","v":0},{"$f":"IFERROR(OFFSET(Stocks!$G$1,SUMPRODUCT((Stocks!$B$2:$B$10000=R$1)*(Stocks!$C$2:$C$10000=$A20)*(ROW($3:$10001)-1)),0),\"\")","v":0},{"$f":"IFERROR(OFFSET(Stocks!$G$1,SUMPRODUCT((Stocks!$B$2:$B$10000=S$1)*(Stocks!$C$2:$C$10000=$A20)*(ROW($3:$10001)-1)),0),\"\")","v":0},{"$f":"IFERROR(OFFSET(Stocks!$G$1,SUMPRODUCT((Stocks!$B$2:$B$10000=T$1)*(Stocks!$C$2:$C$10000=$A20)*(ROW($3:$10001)-1)),0),\"\")","v":0},null,null,null,null,null,null,null,{"$f":"IFERROR(OFFSET(Stocks!$G$1,SUMPRODUCT((Stocks!$B$2:$B$10000=AB$1)*(Stocks!$C$2:$C$10000=$A20)*(ROW($3:$10001)-1)),0),\"\")","v":"Stock Réel"},{"$f":"IFERROR(OFFSET(Stocks!$G$1,SUMPRODUCT((Stocks!$B$2:$B$10000=AC$1)*(Stocks!$C$2:$C$10000=$A20)*(ROW($3:$10001)-1)),0),\"\")","v":"Stock Réel"},{"$f":"IFERROR(OFFSET(Stocks!$G$1,SUMPRODUCT((Stocks!$B$2:$B$10000=AD$1)*(Stocks!$C$2:$C$10000=$A20)*(ROW($3:$10001)-1)),0),\"\")","v":"Stock Réel"}]
["G3",null,null,null,null,null,null,null,{"$f":"IFERROR(OFFSET(Stocks!$G$1,SUMPRODUCT((Stocks!$B$2:$B$10000=I$1)*(Stocks!$C$2:$C$10000=$A21)*(ROW($3:$10001)-1)),0),\"\")","v":0},{"$f":"IFERROR(OFFSET(Stocks!$G$1,SUMPRODUCT((Stocks!$B$2:$B$10000=J$1)*(Stocks!$C$2:$C$10000=$A21)*(ROW($3:$10001)-1)),0),\"\")","v":0},{"$f":"IFERROR(OFFSET(Stocks!$G$1,SUMPRODUCT((Stocks!$B$2:$B$10000=K$1)*(Stocks!$C$2:$C$10000=$A21)*(ROW($3:$10001)-1)),0),\"\")","v":0},{"$f":"IFERROR(OFFSET(Stocks!$G$1,SUMPRODUCT((Stocks!$B$2:$B$10000=L$1)*(Stocks!$C$2:$C$10000=$A21)*(ROW($3:$10001)-1)),0),\"\")","v":0},{"$f":"IFERROR(OFFSET(Stocks!$G$1,SUMPRODUCT((Stocks!$B$2:$B$10000=M$1)*(Stocks!$C$2:$C$10000=$A21)*(ROW($3:$10001)-1)),0),\"\")","v":0},{"$f":"IFERROR(OFFSET(Stocks!$G$1,SUMPRODUCT((Stocks!$B$2:$B$10000=N$1)*(Stocks!$C$2:$C$10000=$A21)*(ROW($3:$10001)-1)),0),\"\")","v":0},{"$f":"IFERROR(OFFSET(Stocks!$G$1,SUMPRODUCT((Stocks!$B$2:$B$10000=O$1)*(Stocks!$C$2:$C$10000=$A21)*(ROW($3:$10001)-1)),0),\"\")","v":0},{"$f":"IFERROR(OFFSET(Stocks!$G$1,SUMPRODUCT((Stocks!$B$2:$B$10000=P$1)*(Stocks!$C$2:$C$10000=$A21)*(ROW($3:$10001)-1)),0),\"\")","v":0},{"$f":"IFERROR(OFFSET(Stocks!$G$1,SUMPRODUCT((Stocks!$B$2:$B$10000=Q$1)*(Stocks!$C$2:$C$10000=$A21)*(ROW($3:$10001)-1)),0),\"\")","v":0},{"$f":"IFERROR(OFFSET(Stocks!$G$1,SUMPRODUCT((Stocks!$B$2:$B$10000=R$1)*(Stocks!$C$2:$C$10000=$A21)*(ROW($3:$10001)-1)),0),\"\")","v":0},{"$f":"IFERROR(OFFSET(Stocks!$G$1,SUMPRODUCT((Stocks!$B$2:$B$10000=S$1)*(Stocks!$C$2:$C$10000=$A21)*(ROW($3:$10001)-1)),0),\"\")","v":0},{"$f":"IFERROR(OFFSET(Stocks!$G$1,SUMPRODUCT((Stocks!$B$2:$B$10000=T$1)*(Stocks!$C$2:$C$10000=$A21)*(ROW($3:$10001)-1)),0),\"\")","v":0},null,null,null,null,null,null,null,{"$f":"IFERROR(OFFSET(Stocks!$G$1,SUMPRODUCT((Stocks!$B$2:$B$10000=AB$1)*(Stocks!$C$2:$C$10000=$A21)*(ROW($3:$10001)-1)),0),\"\")","v":"Stock Réel"},{"$f":"IFERROR(OFFSET(Stocks!$G$1,SUMPRODUCT((Stocks!$B$2:$B$10000=AC$1)*(Stocks!$C$2:$C$10000=$A21)*(ROW($3:$10001)-1)),0),\"\")","v":"Stock Réel"},{"$f":"IFERROR(OFFSET(Stocks!$G$1,SUMPRODUCT((Stocks!$B$2:$B$10000=AD$1)*(Stocks!$C$2:$C$10000=$A21)*(ROW($3:$10001)-1)),0),\"\")","v":"Stock Réel"}]
["GF",null,null,null,null,null,null,null,{"$f":"IFERROR(OFFSET(Stocks!$G$1,SUMPRODUCT((Stocks!$B$2:$B$10000=I$1)*(Stocks!$C$2:$C$10000=$A22)*(ROW($3:$10001)-1)),0),\"\")","v":0},{"$f":"IFERROR(OFFSET(Stocks!$G$1,SUMPRODUCT((Stocks!$B$2:$B$10000=J$1)*(Stocks!$C$2:$C$10000=$A22)*(ROW($3:$10001)-1)),0),\"\")","v":0},{"$f":"IFERROR(OFFSET(Stocks!$G$1,SUMPRODUCT((Stocks!$B$2:$B$10000=K$1)*(Stocks!$C$2:$C$10000=$A22)*(ROW($3:$10001)-1)),0),\"\")","v":0},{"$f":"IFERROR(OFFSET(Stocks!$G$1,SUMPRODUCT((Stocks!$B$2:$B$10000=L$1)*(Stocks!$C$2:$C$10000=$A22)*(ROW($3:$10001)-1)),0),\"\")","v":0},{"$f":"IFERROR(OFFSET(Stocks!$G$1,SUMPRODUCT((Stocks!$B$2:$B$10000=M$1)*(Stocks!$C$2:$C$10000=$A22)*(ROW($3:$10001)-1)),0),\"\")","v":0},{"$f":"IFERROR(OFFSET(Stocks!$G$1,SUMPRODUCT((Stocks!$B$2:$B$10000=N$1)*(Stocks!$C$2:$C$10000=$A22)*(ROW($3:$10001)-1)),0),\"\")","v":0},{"$f":"IFERROR(OFFSET(Stocks!$G$1,SUMPRODUCT((Stocks!$B$2:$B$10000=O$1)*(Stocks!$C$2:$C$10000=$A22)*(ROW($3:$10001)-1)),0),\"\")","v":0},{"$f":"IFERROR(OFFSET(Stocks!$G$1,SUMPRODUCT((Stocks!$B$2:$B$10000=P$1)*(Stocks!$C$2:$C$10000=$A22)*(ROW($3:$10001)-1)),0),\"\")","v":0},{"$f":"IFERROR(OFFSET(Stocks!$G$1,SUMPRODUCT((Stocks!$B$2:$B$10000=Q$1)*(Stocks!$C$2:$C$10000=$A22)*(ROW($3:$10001)-1)),0),\"\")","v":0},{"$f":"IFERROR(OFFSET(Stocks!$G$1,SUMPRODUCT((Stocks!$B$2:$B$10000=R$1)*(Stocks!$C$2:$C$10000=$A22)*(ROW($3:$10001)-1)),0),\"\")","v":0},{"$f":"IFERROR(OFFSET(Stocks!$G$1,SUMPRODUCT((Stocks!$B$2:$B$10000=S$1)*(Stocks!$C$2:$C$10000=$A22)*(ROW($3:$10001)-1)),0),\"\")","v":0},{"$f":"IFERROR(OFFSET(Stocks!$G$1,SUMPRODUCT((Stocks!$B$2:$B$10000=T$1)*(Stocks!$C$2:$C$10000=$A22)*(ROW($3:$10001)-1)),0),\"\")","v":0},null,null,null,null,null,null,null,{"$f":"IFERROR(OFFSET(Stocks!$G$1,SUMPRODUCT((Stocks!$B$2:$B$10000=AB$1)*(Stocks!$C$2:$C$10000=$A22)*(ROW($3:$10001)-1)),0),\"\")","v":"Stock Réel"},{"$f":"IFERROR(OFFSET(Stocks!$G$1,SUMPRODUCT((Stocks!$B$2:$B$10000=AC$1)*(Stocks!$C$2:$C$10000=$A22)*(ROW($3:$10001)-1)),0),\"\")","v":"Stock Réel"},{"$f":"IFERROR(OFFSET(Stocks!$G$1,SUMPRODUCT((Stocks!$B$2:$B$10000=AD$1)*(Stocks!$C$2:$C$10000=$A22)*(ROW($3:$10001)-1)),0),\"\")","v":"Stock Réel"}]
["GR",null,null,null,null,null,null,null,{"$f":"IFERROR(OFFSET(Stocks!$G$1,SUMPRODUCT((Stocks!$B$2:$B$10000=I$1)*(Stocks!$C$2:$C$10000=$A23)*(ROW($3:$10001)-1)),0),\"\")","v":0},{"$f":"IFERROR(OFFSET(Stocks!$G$1,SUMPRODUCT((Stocks!$B$2:$B$10000=J$1)*(Stocks!$C$2:$C$10000=$A23)*(ROW($3:$10001)-1)),0),\"\")","v":0},{"$f":"IFERROR(OFFSET(Stocks!$G$1,SUMPRODUCT((Stocks!$B$2:$B$10000=K$1)*(Stocks!$C$2:$C$10000=$A23)*(ROW($3:$10001)-1)),0),\"\")","v":0},{"$f":"IFERROR(OFFSET(Stocks!$G$1,SUMPRODUCT((Stocks!$B$2:$B$10000=L$1)*(Stocks!$C$2:$C$10000=$A23)*(ROW($3:$10001)-1)),0),\"\")","v":0},{"$f":"IFERROR(OFFSET(Stocks!$G$1,SUMPRODUCT((Stocks!$B$2:$B$10000=M$1)*(Stocks!$C$2:$C$10000=$A23)*(ROW($3:$10001)-1)),0),\"\")","v":0},{"$f":"IFERROR(OFFSET(Stocks!$G$1,SUMPRODUCT((Stocks!$B$2:$B$10000=N$1)*(Stocks!$C$2:$C$10000=$A23)*(ROW($3:$10001)-1)),0),\"\")","v":0},{"$f":"IFERROR(OFFSET(Stocks!$G$1,SUMPRODUCT((Stocks!$B$2:$B$10000=O$1)*(Stocks!$C$2:$C$10000=$A23)*(ROW($3:$10001)-1)),0),\"\")","v":0},{"$f":"IFERROR(OFFSET(Stocks!$G$1,SUMPRODUCT((Stocks!$B$2:$B$10000=P$1)*(Stocks!$C$2:$C$10000=$A23)*(ROW($3:$10001)-1)),0),\"\")","v":0},{"$f":"IFERROR(OFFSET(Stocks!$G$1,SUMPRODUCT((Stocks!$B$2:$B$10000=Q$1)*(Stocks!$C$2:$C$10000=$A23)*(ROW($3:$10001)-1)),0),\"\")","v":0},{"$f":"IFERROR(OFFSET(Stocks!$G$1,SUMPRODUCT((Stocks!$B$2:$B$10000=R$1)*(Stocks!$C$2:$C$10000=$A23)*(ROW($3:$10001)-1)),0),\"\")","v":0},{"$f":"IFERROR(OFFSET(Stocks!$G$1,SUMPRODUCT((Stocks!$B$2:$B$10000=S$1)*(Stocks!$C$2:$C$10000=$A23)*(ROW($3:$10001)-1)),0),\"\")","v":0},{"$f":"IFERROR(OFFSET(Stocks!$G$1,SUMPRODUCT((Stocks!$B$2:$B$10000=T$1)*(Stocks!$C$2:$C$10000=$A23)*(ROW($3:$10001)-1)),0),\"\")","v":0},null,null,null,null,null,null,null,{"$f":"IFERROR(OFFSET(Stocks!$G$1,SUMPRODUCT((Stocks!$B$2:$B$10000=AB$1)*(Stocks!$C$2:$C$10000=$A23)*(ROW($3:$10001)-1)),0),\"\")","v":"Stock Réel"},{"$f":"IFERROR(OFFSET(Stocks!$G$1,SUMPRODUCT((Stocks!$B$2:$B$10000=AC$1)*(Stocks!$C$2:$C$10000=$A23)*(ROW($3:$10001)-1)),0),\"\")","v":"Stock Réel"},{"$f":"IFERROR(OFFSET(Stocks!$G$1,SUMPRODUCT((Stocks!$B$2:$B$10000=AD$1)*(Stocks!$C$2:$C$10000=$A23)*(ROW($3:$10001)-1)),0),\"\")","v":"Stock Réel"}]
["GRF",null,null,null,null,null,null,null,{"$f":"IFERROR(OFFSET(Stocks!$G$1,SUMPRODUCT((Stocks!$B$2:$B$10000=I$1)*(Stocks!$C$2:$C$10000=$A24)*(ROW($3:$10001)-1)),0),\"\")","v":0},{"$f":"IFERROR(OFFSET(Stocks!$G$1,SUMPRODUCT((Stocks!$B$2:$B$10000=J$1)*(Stocks!$C$2:$C$10000=$A24)*(ROW($3:$10001)-1)),0),\"\")","v":0},{"$f":"IFERROR(OFFSET(Stocks!$G$1,SUMPRODUCT((Stocks!$B$2:$B$10000=K$1)*(Stocks!$C$2:$C$10000=$A24)*(ROW($3:$10001)-1)),0),\"\")","v":0},{"$f":"IFERROR(OFFSET(Stocks!$G$1,SUMPRODUCT((Stocks!$B$2:$B$10000=L$1)*(Stocks!$C$2:$C$10000=$A24)*(ROW($3:$10001)-1)),0),\"\")","v":0},{"$f":"IFERROR(OFFSET(Stocks!$G$1,SUMPRODUCT((Stocks!$B$2:$B$10000=M$1)*(Stocks!$C$2:$C$10000=$A24)*(ROW($3:$10001)-1)),0),\"\")","v":0},{"$f":"IFERROR(OFFSET(Stocks!$G$1,SUMPRODUCT((Stocks!$B$2:$B$10000=N$1)*(Stocks!$C$2:$C$10000=$A24)*(ROW($3:$10001)-1)),0),\"\")","v":0},{"$f":"IFERROR(OFFSET(Stocks!$G$1,SUMPRODUCT((Stocks!$B$2:$B$10000=O$1)*(Stocks!$C$2:$C$10000=$A24)*(ROW($3:$10001)-1)),0),\"\")","v":0},{"$f":"IFERROR(OFFSET(Stocks!$G$1,SUMPRODUCT((Stocks!$B$2:$B$10000=P$1)*(Stocks!$C$2:$C$10000=$A24)*(ROW($3:$10001)-1)),0),\"\")","v":0},{"$f":"IFERROR(OFFSET(Stocks!$G$1,SUMPRODUCT((Stocks!$B$2:$B$10000=Q$1)*(Stocks!$C$2:$C$10000=$A24)*(ROW($3:$10001)-1)),0),\"\")","v":0},{"$f":"IFERROR(OFFSET(Stocks!$G$1,SUMPRODUCT((Stocks!$B$2:$B$10000=R$1)*(Stocks!$C$2:$C$10000=$A24)*(ROW($3:$10001)-1)),0),\"\")","v":0},{"$f":"IFERROR(OFFSET(Stocks!$G$1,SUMPRODUCT((Stocks!$B$2:$B$10000=S$1)*(Stocks!$C$2:$C$10000=$A24)*(ROW($3:$10001)-1)),0),\"\")","v":0},{"$f":"IFERROR(OFFSET(Stocks!$G$1,SUMPRODUCT((Stocks!$B$2:$B$10000=T$1)*(Stocks!$C$2:$C$10000=$A24)*(ROW($3:$10001)-1)),0),\"\")","v":0},null,null,null,null,null,null,null,{"$f":"IFERROR(OFFSET(Stocks!$G$1,SUMPRODUCT((Stocks!$B$2:$B$10000=AB$1)*(Stocks!$C$2:$C$10000=$A24)*(ROW($3:$10001)-1)),0),\"\")","v":"Stock Réel"},{"$f":"IFERROR(OFFSET(Stocks!$G$1,SUMPRODUCT((Stocks!$B$2:$B$10000=AC$1)*(Stocks!$C$2:$C$10000=$A24)*(ROW($3:$10001)-1)),0),\"\")","v":"Stock Réel"},{"$f":"IFERROR(OFFSET(Stocks!$G$1,SUMPRODUCT((Stocks!$B$2:$B$10000=AD$1)*(Stocks!$C$2:$C$10000=$A24)*(ROW($3:$10001)-1)),0),\"\")","v":"Stock Réel"}]
["MTR",null,null,null,null,null,null,null,{"$f":"IFERROR(OFFSET(Stocks!$G$1,SUMPRODUCT((Stocks!$B$2:$B$10000=I$1)*(Stocks!$C$2:$C$10000=$A25)*(ROW($3:$10001)-1)),0),\"\")","v":0},{"$f":"IFERROR(OFFSET(Stocks!$G$1,SUMPRODUCT((Stocks!$B$2:$B$10000=J$1)*(Stocks!$C$2:$C$10000=$A25)*(ROW($3:$10001)-1)),0),\"\")","v":0},{"$f":"IFERROR(OFFSET(Stocks!$G$1,SUMPRODUCT((Stocks!$B$2:$B$10000=K$1)*(Stocks!$C$2:$C$10000=$A25)*(ROW($3:$10001)-1)),0),\"\")","v":0},{"$f":"IFERROR(OFFSET(Stocks!$G$1,SUMPRODUCT((Stocks!$B$2:$B$10000=L$1)*(Stocks!$C$2:$C$10000=$A25)*(ROW($3:$10001)-1)),0),\"\")","v":0},{"$f":"IFERROR(OFFSET(Stocks!$G$1,SUMPRODUCT((Stocks!$B$2:$B$10000=M$1)*(Stocks!$C$2:$C$10000=$A25)*(ROW($3:$10001)-1)),0),\"\")","v":0},{"$f":"IFERROR(OFFSET(Stocks!$G$1,SUMPRODUCT((Stocks!$B$2:$B$10000=N$1)*(Stocks!$C$2:$C$10000=$A25)*(ROW($3:$10001)-1)),0),\"\")","v":0},{"$f":"IFERROR(OFFSET(Stocks!$G$1,SUMPRODUCT((Stocks!$B$2:$B$10000=O$1)*(Stocks!$C$2:$C$10000=$A25)*(ROW($3:$10001)-1)),0),\"\")","v":0},{"$f":"IFERROR(OFFSET(Stocks!$G$1,SUMPRODUCT((Stocks!$B$2:$B$10000=P$1)*(Stocks!$C$2:$C$10000=$A25)*(ROW($3:$10001)-1)),0),\"\")","v":0},{"$f":"IFERROR(OFFSET(Stocks!$G$1,SUMPRODUCT((Stocks!$B$2:$B$10000=Q$1)*(Stocks!$C$2:$C$10000=$A25)*(ROW($3:$10001)-1)),0),\"\")","v":0},{"$f":"IFERROR(OFFSET(Stocks!$G$1,SUMPRODUCT((Stocks!$B$2:$B$10000=R$1)*(Stocks!$C$2:$C$10000=$A25)*(ROW($3:$10001)-1)),0),\"\")","v":0},{"$f":"IFERROR(OFFSET(Stocks!$G$1,SUMPRODUCT((Stocks!$B$2:$B$10000=S$1)*(Stocks!$C$2:$C$10000=$A25)*(ROW($3:$10001)-1)),0),\"\")","v":0},{"$f":"IFERROR(OFFSET(Stocks!$G$1,SUMPRODUCT((Stocks!$B$2:$B$10000=T$1)*(Stocks!$C$2:$C$10000=$A25)*(ROW($3:$10001)-1)),0),\"\")","v":0},null,null,null,null,null,null,null,{"$f":"IFERROR(OFFSET(Stocks!$G$1,SUMPRODUCT((Stocks!$B$2:$B$10000=AB$1)*(Stocks!$C$2:$C$10000=$A25)*(ROW($3:$10001)-1)),0),\"\")","v":"Stock Réel"},{"$f":"IFERROR(OFFSET(Stocks!$G$1,SUMPRODUCT((Stocks!$B$2:$B$10000=AC$1)*(Stocks!$C$2:$C$10000=$A25)*(ROW($3:$10001)-1)),0),\"\")","v":"Stock Réel"},{"$f":"IFERROR(OFFSET(Stocks!$G$1,SUMPRODUCT((Stocks!$B$2:$B$10000=AD$1)*(Stocks!$C$2:$C$10000=$A25)*(ROW($3:$10001)-1)),0),\"\")","v":"Stock Réel"}]
["M2 ",null,null,null,null,null,null,null,{"$f":"IFERROR(OFFSET(Stocks!$G$1,SUMPRODUCT((Stocks!$B$2:$B$10000=I$1)*(Stocks!$C$2:$C$10000=$A26)*(ROW($3:$10001)-1)),0),\"\")","v":0},{"$f":"IFERROR(OFFSET(Stocks!$G$1,SUMPRODUCT((Stocks!$B$2:$B$10000=J$1)*(Stocks!$C$2:$C$10000=$A26)*(ROW($3:$10001)-1)),0),\"\")","v":0},{"$f":"IFERROR(OFFSET(Stocks!$G$1,SUMPRODUCT((Stocks!$B$2:$B$10000=K$1)*(Stocks!$C$2:$C$10000=$A26)*(ROW($3:$10001)-1)),0),\"\")","v":0},{"$f":"IFERROR(OFFSET(Stocks!$G$1,SUMPRODUCT((Stocks!$B$2:$B$10000=L$1)*(Stocks!$C$2:$C$10000=$A26)*(ROW($3:$10001)-1)),0),\"\")","v":0},{"$f":"IFERROR(OFFSET(Stocks!$G$1,SUMPRODUCT((Stocks!$B$2:$B$10000=M$1)*(Stocks!$C$2:$C$10000=$A26)*(ROW($3:$10001)-1)),0),\"\")","v":0},{"$f":"IFERROR(OFFSET(Stocks!$G$1,SUMPRODUCT((Stocks!$B$2:$B$10000=N$1)*(Stocks!$C$2:$C$10000=$A26)*(ROW($3:$10001)-1)),0),\"\")","v":0},{"$f":"IFERROR(OFFSET(Stocks!$G$1,SUMPRODUCT((Stocks!$B$2:$B$10000=O$1)*(Stocks!$C$2:$C$10000=$A26)*(ROW($3:$10001)-1)),0),\"\")","v":0},{"$f":"IFERROR(OFFSET(Stocks!$G$1,SUMPRODUCT((Stocks!$B$2:$B$10000=P$1)*(Stocks!$C$2:$C$10000=$A26)*(ROW($3:$10001)-1)),0),\"\")","v":0},{"$f":"IFERROR(OFFSET(Stocks!$G$1,SUMPRODUCT((Stocks!$B$2:$B$10000=Q$1)*(Stocks!$C$2:$C$10000=$A26)*(ROW($3:$10001)-1)),0),\"\")","v":0},{"$f":"IFERROR(OFFSET(Stocks!$G$1,SUMPRODUCT((Stocks!$B$2:$B$10000=R$1)*(Stocks!$C$2:$C$10000=$A26)*(ROW($3:$10001)-1)),0),\"\")","v":0},{"$f":"IFERROR(OFFSET(Stocks!$G$1,SUMPRODUCT((Stocks!$B$2:$B$10000=S$1)*(Stocks!$C$2:$C$10000=$A26)*(ROW($3:$10001)-1)),0),\"\")","v":0},{"$f":"IFERROR(OFFSET(Stocks!$G$1,SUMPRODUCT((Stocks!$B$2:$B$10000=T$1)*(Stocks!$C$2:$C$10000=$A26)*(ROW($3:$10001)-1)),0),\"\")","v":0},null,null,null,null,null,null,null,{"$f":"IFERROR(OFFSET(Stocks!$G$1,SUMPRODUCT((Stocks!$B$2:$B$10000=AB$1)*(Stocks!$C$2:$C$10000=$A26)*(ROW($3:$10001)-1)),0),\"\")","v":"Stock Réel"},{"$f":"IFERROR(OFFSET(Stocks!$G$1,SUMPRODUCT((Stocks!$B$2:$B$10000=AC$1)*(Stocks!$C$2:$C$10000=$A26)*(ROW($3:$10001)-1)),0),\"\")","v":"Stock Réel"},{"$f":"IFERROR(OFFSET(Stocks!$G$1,SUMPRODUCT((Stocks!$B$2:$B$10000=AD$1)*(Stocks!$C$2:$C$10000=$A26)*(ROW($3:$10001)-1)),0),\"\")","v":"Stock Réel"}]
["MO",null,null,null,null,null,null,null,{"$f":"IFERROR(OFFSET(Stocks!$G$1,SUMPRODUCT((Stocks!$B$2:$B$10000=I$1)*(Stocks!$C$2:$C$10000=$A27)*(ROW($3:$10001)-1)),0),\"\")","v":0},{"$f":"IFERROR(OFFSET(Stocks!$G$1,SUMPRODUCT((Stocks!$B$2:$B$10000=J$1)*(Stocks!$C$2:$C$10000=$A27)*(ROW($3:$10001)-1)),0),\"\")","v":0},{"$f":"IFERROR(OFFSET(Stocks!$G$1,SUMPRODUCT((Stocks!$B$2:$B$10000=K$1)*(Stocks!$C$2:$C$10000=$A27)*(ROW($3:$10001)-1)),0),\"\")","v":0},{"$f":"IFERROR(OFFSET(Stocks!$G$1,SUMPRODUCT((Stocks!$B$2:$B$10000=L$1)*(Stocks!$C$2:$C$10000=$A27)*(ROW($3:$10001)-1)),0),\"\")","v":0},{"$f":"IFERROR(OFFSET(Stocks!$G$1,SUMPRODUCT((Stocks!$B$2:$B$10000=M$1)*(Stocks!$C$2:$C$10000=$A27)*(ROW($3:$10001)-1)),0),\"\")","v":0},{"$f":"IFERROR(OFFSET(Stocks!$G$1,SUMPRODUCT((Stocks!$B$2:$B$10000=N$1)*(Stocks!$C$2:$C$10000=$A27)*(ROW($3:$10001)-1)),0),\"\")","v":0},{"$f":"IFERROR(OFFSET(Stocks!$G$1,SUMPRODUCT((Stocks!$B$2:$B$10000=O$1)*(Stocks!$C$2:$C$10000=$A27)*(ROW($3:$10001)-1)),0),\"\")","v":0},{"$f":"IFERROR(OFFSET(Stocks!$G$1,SUMPRODUCT((Stocks!$B$2:$B$10000=P$1)*(Stocks!$C$2:$C$10000=$A27)*(ROW($3:$10001)-1)),0),\"\")","v":0},{"$f":"IFERROR(OFFSET(Stocks!$G$1,SUMPRODUCT((Stocks!$B$2:$B$10000=Q$1)*(Stocks!$C$2:$C$10000=$A27)*(ROW($3:$10001)-1)),0),\"\")","v":0},{"$f":"IFERROR(OFFSET(Stocks!$G$1,SUMPRODUCT((Stocks!$B$2:$B$10000=R$1)*(Stocks!$C$2:$C$10000=$A27)*(ROW($3:$10001)-1)),0),\"\")","v":0},{"$f":"IFERROR(OFFSET(Stocks!$G$1,SUMPRODUCT((Stocks!$B$2:$B$10000=S$1)*(Stocks!$C$2:$C$10000=$A27)*(ROW($3:$10001)-1)),0),\"\")","v":0},{"$f":"IFERROR(OFFSET(Stocks!$G$1,SUMPRODUCT((Stocks!$B$2:$B$10000=T$1)*(Stocks!$C$2:$C$10000=$A27)*(ROW($3:$10001)-1)),0),\"\")","v":0},null,null,null,null,null,null,null,{"$f":"IFERROR(OFFSET(Stocks!$G$1,SUMPRODUCT((Stocks!$B$2:$B$10000=AB$1)*(Stocks!$C$2:$C$10000=$A27)*(ROW($3:$10001)-1)),0),\"\")","v":"Stock Réel"},{"$f":"IFERROR(OFFSET(Stocks!$G$1,SUMPRODUCT((Stocks!$B$2:$B$10000=AC$1)*(Stocks!$C$2:$C$10000=$A27)*(ROW($3:$10001)-1)),0),\"\")","v":"Stock Réel"},{"$f":"IFERROR(OFFSET(Stocks!$G$1,SUMPRODUCT((Stocks!$B$2:$B$10000=AD$1)*(Stocks!$C$2:$C$10000=$A27)*(ROW($3:$10001)-1)),0),\"\")","v":"Stock Réel"}]
["MOF",null,null,null,null,null,null,null,{"$f":"IFERROR(OFFSET(Stocks!$G$1,SUMPRODUCT((Stocks!$B$2:$B$10000=I$1)*(Stocks!$C$2:$C$10000=$A28)*(ROW($3:$10001)-1)),0),\"\")","v":0},{"$f":"IFERROR(OFFSET(Stocks!$G$1,SUMPRODUCT((Stocks!$B$2:$B$10000=J$1)*(Stocks!$C$2:$C$10000=$A28)*(ROW($3:$10001)-1)),0),\"\")","v":0},{"$f":"IFERROR(OFFSET(Stocks!$G$1,SUMPRODUCT((Stocks!$B$2:$B$10000=K$1)*(Stocks!$C$2:$C$10000=$A28)*(ROW($3:$10001)-1)),0),\"\")","v":0},{"$f":"IFERROR(OFFSET(Stocks!$G$1,SUMPRODUCT((Stocks!$B$2:$B$10000=L$1)*(Stocks!$C$2:$C$10000=$A28)*(ROW($3:$10001)-1)),0),\"\")","v":0},{"$f":"IFERROR(OFFSET(Stocks!$G$1,SUMPRODUCT((Stocks!$B$2:$B$10000=M$1)*(Stocks!$C$2:$C$10000=$A28)*(ROW($3:$10001)-1)),0),\"\")","v":0},{"$f":"IFERROR(OFFSET(Stocks!$G$1,SUMPRODUCT((Stocks!$B$2:$B$10000=N$1)*(Stocks!$C$2:$C$10000=$A28)*(ROW($3:$10001)-1)),0),\"\")","v":0},{"$f":"IFERROR(OFFSET(Stocks!$G$1,SUMPRODUCT((Stocks!$B$2:$B$10000=O$1)*(Stocks!$C$2:$C$10000=$A28)*(ROW($3:$10001)-1)),0),\"\")","v":0},{"$f":"IFERROR(OFFSET(Stocks!$G$1,SUMPRODUCT((Stocks!$B$2:$B$10000=P$1)*(Stocks!$C$2:$C$10000=$A28)*(ROW($3:$10001)-1)),0),\"\")","v":0},{"$f":"IFERROR(OFFSET(Stocks!$G$1,SUMPRODUCT((Stocks!$B$2:$B$10000=Q$1)*(Stocks!$C$2:$C$10000=$A28)*(ROW($3:$10001)-1)),0),\"\")","v":0},{"$f":"IFERROR(OFFSET(Stocks!$G$1,SUMPRODUCT((Stocks!$B$2:$B$10000=R$1)*(Stocks!$C$2:$C$10000=$A28)*(ROW($3:$10001)-1)),0),\"\")","v":0},{"$f":"IFERROR(OFFSET(Stocks!$G$1,SUMPRODUCT((Stocks!$B$2:$B$10000=S$1)*(Stocks!$C$2:$C$10000=$A28)*(ROW($3:$10001)-1)),0),\"\")","v":0},{"$f":"IFERROR(OFFSET(Stocks!$G$1,SUMPRODUCT((Stocks!$B$2:$B$10000=T$1)*(Stocks!$C$2:$C$10000=$A28)*(ROW($3:$10001)-1)),0),\"\")","v":0},null,null,null,null,null,null,null,{"$f":"IFERROR(OFFSET(Stocks!$G$1,SUMPRODUCT((Stocks!$B$2:$B$10000=AB$1)*(Stocks!$C$2:$C$10000=$A28)*(ROW($3:$10001)-1)),0),\"\")","v":"Stock Réel"},{"$f":"IFERROR(OFFSET(Stocks!$G$1,SUMPRODUCT((Stocks!$B$2:$B$10000=AC$1)*(Stocks!$C$2:$C$10000=$A28)*(ROW($3:$10001)-1)),0),\"\")","v":"Stock Réel"},{"$f":"IFERROR(OFFSET(Stocks!$G$1,SUMPRODUCT((Stocks!$B$2:$B$10000=AD$1)*(Stocks!$C$2:$C$10000=$A28)*(ROW($3:$10001)-1)),0),\"\")","v":"Stock Réel"}]
["MOV",null,null,null,null,null,null,null,{"$f":"IFERROR(OFFSET(Stocks!$G$1,SUMPRODUCT((Stocks!$B$2:$B$10000=I$1)*(Stocks!$C$2:$C$10000=$A29)*(ROW($3:$10001)-1)),0),\"\")","v":0},{"$f":"IFERROR(OFFSET(Stocks!$G$1,SUMPRODUCT((Stocks!$B$2:$B$10000=J$1)*(Stocks!$C$2:$C$10000=$A29)*(ROW($3:$10001)-1)),0),\"\")","v":0},{"$f":"IFERROR(OFFSET(Stocks!$G$1,SUMPRODUCT((Stocks!$B$2:$B$10000=K$1)*(Stocks!$C$2:$C$10000=$A29)*(ROW($3:$10001)-1)),0),\"\")","v":0},{"$f":"IFERROR(OFFSET(Stocks!$G$1,SUMPRODUCT((Stocks!$B$2:$B$10000=L$1)*(Stocks!$C$2:$C$10000=$A29)*(ROW($3:$10001)-1)),0),\"\")","v":0},{"$f":"IFERROR(OFFSET(Stocks!$G$1,SUMPRODUCT((Stocks!$B$2:$B$10000=M$1)*(Stocks!$C$2:$C$10000=$A29)*(ROW($3:$10001)-1)),0),\"\")","v":0},{"$f":"IFERROR(OFFSET(Stocks!$G$1,SUMPRODUCT((Stocks!$B$2:$B$10000=N$1)*(Stocks!$C$2:$C$10000=$A29)*(ROW($3:$10001)-1)),0),\"\")","v":0},{"$f":"IFERROR(OFFSET(Stocks!$G$1,SUMPRODUCT((Stocks!$B$2:$B$10000=O$1)*(Stocks!$C$2:$C$10000=$A29)*(ROW($3:$10001)-1)),0),\"\")","v":0},{"$f":"IFERROR(OFFSET(Stocks!$G$1,SUMPRODUCT((Stocks!$B$2:$B$10000=P$1)*(Stocks!$C$2:$C$10000=$A29)*(ROW($3:$10001)-1)),0),\"\")","v":0},{"$f":"IFERROR(OFFSET(Stocks!$G$1,SUMPRODUCT((Stocks!$B$2:$B$10000=Q$1)*(Stocks!$C$2:$C$10000=$A29)*(ROW($3:$10001)-1)),0),\"\")","v":0},{"$f":"IFERROR(OFFSET(Stocks!$G$1,SUMPRODUCT((Stocks!$B$2:$B$10000=R$1)*(Stocks!$C$2:$C$10000=$A29)*(ROW($3:$10001)-1)),0),\"\")","v":0},{"$f":"IFERROR(OFFSET(Stocks!$G$1,SUMPRODUCT((Stocks!$B$2:$B$10000=S$1)*(Stocks!$C$2:$C$10000=$A29)*(ROW($3:$10001)-1)),0),\"\")","v":0},{"$f":"IFERROR(OFFSET(Stocks!$G$1,SUMPRODUCT((Stocks!$B$2:$B$10000=T$1)*(Stocks!$C$2:$C$10000=$A29)*(ROW($3:$10001)-1)),0),\"\")","v":0},null,null,null,null,null,null,null,{"$f":"IFERROR(OFFSET(Stocks!$G$1,SUMPRODUCT((Stocks!$B$2:$B$10000=AB$1)*(Stocks!$C$2:$C$10000=$A29)*(ROW($3:$10001)-1)),0),\"\")","v":"Stock Réel"},{"$f":"IFERROR(OFFSET(Stocks!$G$1,SUMPRODUCT((Stocks!$B$2:$B$10000=AC$1)*(Stocks!$C$2:$C$10000=$A29)*(ROW($3:$10001)-1)),0),\"\")","v":"Stock Réel"},{"$f":"IFERROR(OFFSET(Stocks!$G$1,SUMPRODUCT((Stocks!$B$2:$B$10000=AD$1)*(Stocks!$C$2:$C$10000=$A29)*(ROW($3:$10001)-1)),0),\"\")","v":"Stock Réel"}]
["MR",null,null,null,null,null,null,null,{"$f":"IFERROR(OFFSET(Stocks!$G$1,SUMPRODUCT((Stocks!$B$2:$B$10000=I$1)*(Stocks!$C$2:$C$10000=$A30)*(ROW($3:$10001)-1)),0),\"\")","v":0},{"$f":"IFERROR(OFFSET(Stocks!$G$1,SUMPRODUCT((Stocks!$B$2:$B$10000=J$1)*(Stocks!$C$2:$C$10000=$A30)*(ROW($3:$10001)-1)),0),\"\")","v":0},{"$f":"IFERROR(OFFSET(Stocks!$G$1,SUMPRODUCT((Stocks!$B$2:$B$10000=K$1)*(Stocks!$C$2:$C$10000=$A30)*(ROW($3:$10001)-1)),0),\"\")","v":0},{"$f":"IFERROR(OFFSET(Stocks!$G$1,SUMPRODUCT((Stocks!$B$2:$B$10000=L$1)*(Stocks!$C$2:$C$10000=$A30)*(ROW($3:$10001)-1)),0),\"\")","v":0},{"$f":"IFERROR(OFFSET(Stocks!$G$1,SUMPRODUCT((Stocks!$B$2:$B$10000=M$1)*(Stocks!$C$2:$C$10000=$A30)*(ROW($3:$10001)-1)),0),\"\")","v":0},{"$f":"IFERROR(OFFSET(Stocks!$G$1,SUMPRODUCT((Stocks!$B$2:$B$10000=N$1)*(Stocks!$C$2:$C$10000=$A30)*(ROW($3:$10001)-1)),0),\"\")","v":0},{"$f":"IFERROR(OFFSET(Stocks!$G$1,SUMPRODUCT((Stocks!$B$2:$B$10000=O$1)*(Stocks!$C$2:$C$10000=$A30)*(ROW($3:$10001)-1)),0),\"\")","v":0},{"$f":"IFERROR(OFFSET(Stocks!$G$1,SUMPRODUCT((Stocks!$B$2:$B$10000=P$1)*(Stocks!$C$2:$C$10000=$A30)*(ROW($3:$10001)-1)),0),\"\")","v":0},{"$f":"IFERROR(OFFSET(Stocks!$G$1,SUMPRODUCT((Stocks!$B$2:$B$10000=Q$1)*(Stocks!$C$2:$C$10000=$A30)*(ROW($3:$10001)-1)),0),\"\")","v":0},{"$f":"IFERROR(OFFSET(Stocks!$G$1,SUMPRODUCT((Stocks!$B$2:$B$10000=R$1)*(Stocks!$C$2:$C$10000=$A30)*(ROW($3:$10001)-1)),0),\"\")","v":0},{"$f":"IFERROR(OFFSET(Stocks!$G$1,SUMPRODUCT((Stocks!$B$2:$B$10000=S$1)*(Stocks!$C$2:$C$10000=$A30)*(ROW($3:$10001)-1)),0),\"\")","v":0},{"$f":"IFERROR(OFFSET(Stocks!$G$1,SUMPRODUCT((Stocks!$B$2:$B$10000=T$1)*(Stocks!$C$2:$C$10000=$A30)*(ROW($3:$10001)-1)),0),\"\")","v":0},null,null,null,null,null,null,null,{"$f":"IFERROR(OFFSET(Stocks!$G$1,SUMPRODUCT((Stocks!$B$2:$B$10000=AB$1)*(Stocks!$C$2:$C$10000=$A30)*(ROW($3:$10001)-1)),0),\"\")","v":"Stock Réel"},{"$f":"IFERROR(OFFSET(Stocks!$G$1,SUMPRODUCT((Stocks!$B$2:$B$10000=AC$1)*(Stocks!$C$2:$C$10000=$A30)*(ROW($3:$10001)-1)),0),\"\")","v":"Stock Réel"},{"$f":"IFERROR(OFFSET(Stocks!$G$1,SUMPRODUCT((Stocks!$B$2:$B$10000=AD$1)*(Stocks!$C$2:$C$10000=$A30)*(ROW($3:$10001)-1)),0),\"\")","v":"Stock Réel"}]
["MRN",null,null,null,null,null,null,null,{"$f":"IFERROR(OFFSET(Stocks!$G$1,SUMPRODUCT((Stocks!$B$2:$B$10000=I$1)*(Stocks!$C$2:$C$10000=$A31)*(ROW($3:$10001)-1)),0),\"\")","v":0},{"$f":"IFERROR(OFFSET(Stocks!$G$1,SUMPRODUCT((Stocks!$B$2:$B$10000=J$1)*(Stocks!$C$2:$C$10000=$A31)*(ROW($3:$10001)-1)),0),\"\")","v":0},{"$f":"IFERROR(OFFSET(Stocks!$G$1,SUMPRODUCT((Stocks!$B$2:$B$10000=K$1)*(Stocks!$C$2:$C$10000=$A31)*(ROW($3:$10001)-1)),0),\"\")","v":0},{"$f":"IFERROR(OFFSET(Stocks!$G$1,SUMPRODUCT((Stocks!$B$2:$B$10000=L$1)*(Stocks!$C$2:$C$10000=$A31)*(ROW($3:$10001)-1)),0),\"\")","v":0},{"$f":"IFERROR(OFFSET(Stocks!$G$1,SUMPRODUCT((Stocks!$B$2:$B$10000=M$1)*(Stocks!$C$2:$C$10000=$A31)*(ROW($3:$10001)-1)),0),\"\")","v":0},{"$f":"IFERROR(OFFSET(Stocks!$G$1,SUMPRODUCT((Stocks!$B$2:$B$10000=N$1)*(Stocks!$C$2:$C$10000=$A31)*(ROW($3:$10001)-1)),0),\"\")","v":0},{"$f":"IFERROR(OFFSET(Stocks!$G$1,SUMPRODUCT((Stocks!$B$2:$B$10000=O$1)*(Stocks!$C$2:$C$10000=$A31)*(ROW($3:$10001)-1)),0),\"\")","v":0},{"$f":"IFERROR(OFFSET(Stocks!$G$1,SUMPRODUCT((Stocks!$B$2:$B$10000=P$1)*(Stocks!$C$2:$C$10000=$A31)*(ROW($3:$10001)-1)),0),\"\")","v":0},{"$f":"IFERROR(OFFSET(Stocks!$G$1,SUMPRODUCT((Stocks!$B$2:$B$10000=Q$1)*(Stocks!$C$2:$C$10000=$A31)*(ROW($3:$10001)-1)),0),\"\")","v":0},{"$f":"IFERROR(OFFSET(Stocks!$G$1,SUMPRODUCT((Stocks!$B$2:$B$10000=R$1)*(Stocks!$C$2:$C$10000=$A31)*(ROW($3:$10001)-1)),0),\"\")","v":0},{"$f":"IFERROR(OFFSET(Stocks!$G$1,SUMPRODUCT((Stocks!$B$2:$B$10000=S$1)*(Stocks!$C$2:$C$10000=$A31)*(ROW($3:$10001)-1)),0),\"\")","v":0},{"$f":"IFERROR(OFFSET(Stocks!$G$1,SUMPRODUCT((Stocks!$B$2:$B$10000=T$1)*(Stocks!$C$2:$C$10000=$A31)*(ROW($3:$10001)-1)),0),\"\")","v":0},null,null,null,null,null,null,null,{"$f":"IFERROR(OFFSET(Stocks!$G$1,SUMPRODUCT((Stocks!$B$2:$B$10000=AB$1)*(Stocks!$C$2:$C$10000=$A31)*(ROW($3:$10001)-1)),0),\"\")","v":"Stock Réel"},{"$f":"IFERROR(OFFSET(Stocks!$G$1,SUMPRODUCT((Stocks!$B$2:$B$10000=AC$1)*(Stocks!$C$2:$C$10000=$A31)*(ROW($3:$10001)-1)),0),\"\")","v":"Stock Réel"},{"$f":"IFERROR(OFFSET(Stocks!$G$1,SUMPRODUCT((Stocks!$B$2:$B$10000=AD$1)*(Stocks!$C$2:$C$10000=$A31)*(ROW($3:$10001)-1)),0),\"\")","v":"Stock Réel"}]
["NR",null,null,null,null,null,null,null,{"$f":"IFERROR(OFFSET(Stocks!$G$1,SUMPRODUCT((Stocks!$B$2:$B$10000=I$1)*(Stocks!$C$2:$C$10000=$A32)*(ROW($3:$10001)-1)),0),\"\")","v":0},{"$f":"IFERROR(OFFSET(Stocks!$G$1,SUMPRODUCT((Stocks!$B$2:$B$10000=J$1)*(Stocks!$C$2:$C$10000=$A32)*(ROW($3:$10001)-1)),0),\"\")","v":0},{"$f":"IFERROR(OFFSET(Stocks!$G$1,SUMPRODUCT((Stocks!$B$2:$B$10000=K$1)*(Stocks!$C$2:$C$10000=$A32)*(ROW($3:$10001)-1)),0),\"\")","v":0},{"$f":"IFERROR(OFFSET(Stocks!$G$1,SUMPRODUCT((Stocks!$B$2:$B$10000=L$1)*(Stocks!$C$2:$C$10000=$A32)*(ROW($3:$10001)-1)),0),\"\")","v":0},{"$f":"IFERROR(OFFSET(Stocks!$G$1,SUMPRODUCT((Stocks!$B$2:$B$10000=M$1)*(Stocks!$C$2:$C$10000=$A32)*(ROW($3:$10001)-1)),0),\"\")","v":0},{"$f":"IFERROR(OFFSET(Stocks!$G$1,SUMPRODUCT((Stocks!$B$2:$B$10000=N$1)*(Stocks!$C$2:$C$10000=$A32)*(ROW($3:$10001)-1)),0),\"\")","v":0},{"$f":"IFERROR(OFFSET(Stocks!$G$1,SUMPRODUCT((Stocks!$B$2:$B$10000=O$1)*(Stocks!$C$2:$C$10000=$A32)*(ROW($3:$10001)-1)),0),\"\")","v":0},{"$f":"IFERROR(OFFSET(Stocks!$G$1,SUMPRODUCT((Stocks!$B$2:$B$10000=P$1)*(Stocks!$C$2:$C$10000=$A32)*(ROW($3:$10001)-1)),0),\"\")","v":0},{"$f":"IFERROR(OFFSET(Stocks!$G$1,SUMPRODUCT((Stocks!$B$2:$B$10000=Q$1)*(Stocks!$C$2:$C$10000=$A32)*(ROW($3:$10001)-1)),0),\"\")","v":0},{"$f":"IFERROR(OFFSET(Stocks!$G$1,SUMPRODUCT((Stocks!$B$2:$B$10000=R$1)*(Stocks!$C$2:$C$10000=$A32)*(ROW($3:$10001)-1)),0),\"\")","v":0},{"$f":"IFERROR(OFFSET(Stocks!$G$1,SUMPRODUCT((Stocks!$B$2:$B$10000=S$1)*(Stocks!$C$2:$C$10000=$A32)*(ROW($3:$10001)-1)),0),\"\")","v":0},{"$f":"IFERROR(OFFSET(Stocks!$G$1,SUMPRODUCT((Stocks!$B$2:$B$10000=T$1)*(Stocks!$C$2:$C$10000=$A32)*(ROW($3:$10001)-1)),0),\"\")","v":0},null,null,null,null,null,null,null,{"$f":"IFERROR(OFFSET(Stocks!$G$1,SUMPRODUCT((Stocks!$B$2:$B$10000=AB$1)*(Stocks!$C$2:$C$10000=$A32)*(ROW($3:$10001)-1)),0),\"\")","v":"Stock Réel"},{"$f":"IFERROR(OFFSET(Stocks!$G$1,SUMPRODUCT((Stocks!$B$2:$B$10000=AC$1)*(Stocks!$C$2:$C$10000=$A32)*(ROW($3:$10001)-1)),0),\"\")","v":"Stock Réel"},{"$f":"IFERROR(OFFSET(Stocks!$G$1,SUMPRODUCT((Stocks!$B$2:$B$10000=AD$1)*(Stocks!$C$2:$C$10000=$A32)*(ROW($3:$10001)-1)),0),\"\")","v":"Stock Réel"}]
["OR",null,null,null,null,null,null,null,{"$f":"IFERROR(OFFSET(Stocks!$G$1,SUMPRODUCT((Stocks!$B$2:$B$10000=I$1)*(Stocks!$C$2:$C$10000=$A33)*(ROW($3:$10001)-1)),0),\"\")","v":0},{"$f":"IFERROR(OFFSET(Stocks!$G$1,SUMPRODUCT((Stocks!$B$2:$B$10000=J$1)*(Stocks!$C$2:$C$10000=$A33)*(ROW($3:$10001)-1)),0),\"\")","v":0},{"$f":"IFERROR(OFFSET(Stocks!$G$1,SUMPRODUCT((Stocks!$B$2:$B$10000=K$1)*(Stocks!$C$2:$C$10000=$A33)*(ROW($3:$10001)-1)),0),\"\")","v":0},{"$f":"IFERROR(OFFSET(Stocks!$G$1,SUMPRODUCT((Stocks!$B$2:$B$10000=L$1)*(Stocks!$C$2:$C$10000=$A33)*(ROW($3:$10001)-1)),0),\"\")","v":0},{"$f":"IFERROR(OFFSET(Stocks!$G$1,SUMPRODUCT((Stocks!$B$2:$B$10000=M$1)*(Stocks!$C$2:$C$10000=$A33)*(ROW($3:$10001)-1)),0),\"\")","v":0},{"$f":"IFERROR(OFFSET(Stocks!$G$1,SUMPRODUCT((Stocks!$B$2:$B$10000=N$1)*(Stocks!$C$2:$C$10000=$A33)*(ROW($3:$10001)-1)),0),\"\")","v":0},{"$f":"IFERROR(OFFSET(Stocks!$G$1,SUMPRODUCT((Stocks!$B$2:$B$10000=O$1)*(Stocks!$C$2:$C$10000=$A33)*(ROW($3:$10001)-1)),0),\"\")","v":0},{"$f":"IFERROR(OFFSET(Stocks!$G$1,SUMPRODUCT((Stocks!$B$2:$B$10000=P$1)*(Stocks!$C$2:$C$10000=$A33)*(ROW($3:$10001)-1)),0),\"\")","v":0},{"$f":"IFERROR(OFFSET(Stocks!$G$1,SUMPRODUCT((Stocks!$B$2:$B$10000=Q$1)*(Stocks!$C$2:$C$10000=$A33)*(ROW($3:$10001)-1)),0),\"\")","v":0},{"$f":"IFERROR(OFFSET(Stocks!$G$1,SUMPRODUCT((Stocks!$B$2:$B$10000=R$1)*(Stocks!$C$2:$C$10000=$A33)*(ROW($3:$10001)-1)),0),\"\")","v":0},{"$f":"IFERROR(OFFSET(Stocks!$G$1,SUMPRODUCT((Stocks!$B$2:$B$10000=S$1)*(Stocks!$C$2:$C$10000=$A33)*(ROW($3:$10001)-1)),0),\"\")","v":0},{"$f":"IFERROR(OFFSET(Stocks!$G$1,SUMPRODUCT((Stocks!$B$2:$B$10000=T$1)*(Stocks!$C$2:$C$10000=$A33)*(ROW($3:$10001)-1)),0),\"\")","v":0},null,null,null,null,null,null,null,{"$f":"IFERROR(OFFSET(Stocks!$G$1,SUMPRODUCT((Stocks!$B$2:$B$10000=AB$1)*(Stocks!$C$2:$C$10000=$A33)*(ROW($3:$10001)-1)),0),\"\")","v":"Stock Réel"},{"$f":"IFERROR(OFFSET(Stocks!$G$1,SUMPRODUCT((Stocks!$B$2:$B$10000=AC$1)*(Stocks!$C$2:$C$10000=$A33)*(ROW($3:$10001)-1)),0),\"\")","v":"Stock Réel"},{"$f":"IFERROR(OFFSET(Stocks!$G$1,SUMPRODUCT((Stocks!$B$2:$B$10000=AD$1)*(Stocks!$C$2:$C$10000=$A33)*(ROW($3:$10001)-1)),0),\"\")","v":"Stock Réel"}]
["PA",null,null,null,null,null,null,null,{"$f":"IFERROR(OFFSET(Stocks!$G$1,SUMPRODUCT((Stocks!$B$2:$B$10000=I$1)*(Stocks!$C$2:$C$10000=$A34)*(ROW($3:$10001)-1)),0),\"\")","v":0},{"$f":"IFERROR(OFFSET(Stocks!$G$1,SUMPRODUCT((Stocks!$B$2:$B$10000=J$1)*(Stocks!$C$2:$C$10000=$A34)*(ROW($3:$10001)-1)),0),\"\")","v":0},{"$f":"IFERROR(OFFSET(Stocks!$G$1,SUMPRODUCT((Stocks!$B$2:$B$10000=K$1)*(Stocks!$C$2:$C$10000=$A34)*(ROW($3:$10001)-1)),0),\"\")","v":0},{"$f":"IFERROR(OFFSET(Stocks!$G$1,SUMPRODUCT((Stocks!$B$2:$B$10000=L$1)*(Stocks!$C$2:$C$10000=$A34)*(ROW($3:$10001)-1)),0),\"\")","v":0},{"$f":"IFERROR(OFFSET(Stocks!$G$1,SUMPRODUCT((Stocks!$B$2:$B$10000=M$1)*(Stocks!$C$2:$C$10000=$A34)*(ROW($3:$10001)-1)),0),\"\")","v":0},{"$f":"IFERROR(OFFSET(Stocks!$G$1,SUMPRODUCT((Stocks!$B$2:$B$10000=N$1)*(Stocks!$C$2:$C$10000=$A34)*(ROW($3:$10001)-1)),0),\"\")","v":0},{"$f":"IFERROR(OFFSET(Stocks!$G$1,SUMPRODUCT((Stocks!$B$2:$B$10000=O$1)*(Stocks!$C$2:$C$10000=$A34)*(ROW($3:$10001)-1)),0),\"\")","v":0},{"$f":"IFERROR(OFFSET(Stocks!$G$1,SUMPRODUCT((Stocks!$B$2:$B$10000=P$1)*(Stocks!$C$2:$C$10000=$A34)*(ROW($3:$10001)-1)),0),\"\")","v":0},{"$f":"IFERROR(OFFSET(Stocks!$G$1,SUMPRODUCT((Stocks!$B$2:$B$10000=Q$1)*(Stocks!$C$2:$C$10000=$A34)*(ROW($3:$10001)-1)),0),\"\")","v":0},{"$f":"IFERROR(OFFSET(Stocks!$G$1,SUMPRODUCT((Stocks!$B$2:$B$10000=R$1)*(Stocks!$C$2:$C$10000=$A34)*(ROW($3:$10001)-1)),0),\"\")","v":0},{"$f":"IFERROR(OFFSET(Stocks!$G$1,SUMPRODUCT((Stocks!$B$2:$B$10000=S$1)*(Stocks!$C$2:$C$10000=$A34)*(ROW($3:$10001)-1)),0),\"\")","v":0},{"$f":"IFERROR(OFFSET(Stocks!$G$1,SUMPRODUCT((Stocks!$B$2:$B$10000=T$1)*(Stocks!$C$2:$C$10000=$A34)*(ROW($3:$10001)-1)),0),\"\")","v":0},null,null,null,null,null,null,null,{"$f":"IFERROR(OFFSET(Stocks!$G$1,SUMPRODUCT((Stocks!$B$2:$B$10000=AB$1)*(Stocks!$C$2:$C$10000=$A34)*(ROW($3:$10001)-1)),0),\"\")","v":"Stock Réel"},{"$f":"IFERROR(OFFSET(Stocks!$G$1,SUMPRODUCT((Stocks!$B$2:$B$10000=AC$1)*(Stocks!$C$2:$C$10000=$A34)*(ROW($3:$10001)-1)),0),\"\")","v":"Stock Réel"},{"$f":"IFERROR(OFFSET(Stocks!$G$1,SUMPRODUCT((Stocks!$B$2:$B$10000=AD$1)*(Stocks!$C$2:$C$10000=$A34)*(ROW($3:$10001)-1)),0),\"\")","v":"Stock Réel"}]
["PA2",null,null,null,null,null,null,null,{"$f":"IFERROR(OFFSET(Stocks!$G$1,SUMPRODUCT((Stocks!$B$2:$B$10000=I$1)*(Stocks!$C$2:$C$10000=$A35)*(ROW($3:$10001)-1)),0),\"\")","v":0},{"$f":"IFERROR(OFFSET(Stocks!$G$1,SUMPRODUCT((Stocks!$B$2:$B$10000=J$1)*(Stocks!$C$2:$C$10000=$A35)*(ROW($3:$10001)-1)),0),\"\")","v":0},{"$f":"IFERROR(OFFSET(Stocks!$G$1,SUMPRODUCT((Stocks!$B$2:$B$10000=K$1)*(Stocks!$C$2:$C$10000=$A35)*(ROW($3:$10001)-1)),0),\"\")","v":0},{"$f":"IFERROR(OFFSET(Stocks!$G$1,SUMPRODUCT((Stocks!$B$2:$B$10000=L$1)*(Stocks!$C$2:$C$10000=$A35)*(ROW($3:$10001)-1)),0),\"\")","v":0},{"$f":"IFERROR(OFFSET(Stocks!$G$1,SUMPRODUCT((Stocks!$B$2:$B$10000=M$1)*(Stocks!$C$2:$C$10000=$A35)*(ROW($3:$10001)-1)),0),\"\")","v":0},{"$f":"IFERROR(OFFSET(Stocks!$G$1,SUMPRODUCT((Stocks!$B$2:$B$10000=N$1)*(Stocks!$C$2:$C$10000=$A35)*(ROW($3:$10001)-1)),0),\"\")","v":0},{"$f":"IFERROR(OFFSET(Stocks!$G$1,SUMPRODUCT((Stocks!$B$2:$B$10000=O$1)*(Stocks!$C$2:$C$10000=$A35)*(ROW($3:$10001)-1)),0),\"\")","v":0},{"$f":"IFERROR(OFFSET(Stocks!$G$1,SUMPRODUCT((Stocks!$B$2:$B$10000=P$1)*(Stocks!$C$2:$C$10000=$A35)*(ROW($3:$10001)-1)),0),\"\")","v":0},{"$f":"IFERROR(OFFSET(Stocks!$G$1,SUMPRODUCT((Stocks!$B$2:$B$10000=Q$1)*(Stocks!$C$2:$C$10000=$A35)*(ROW($3:$10001)-1)),0),\"\")","v":0},{"$f":"IFERROR(OFFSET(Stocks!$G$1,SUMPRODUCT((Stocks!$B$2:$B$10000=R$1)*(Stocks!$C$2:$C$10000=$A35)*(ROW($3:$10001)-1)),0),\"\")","v":0},{"$f":"IFERROR(OFFSET(Stocks!$G$1,SUMPRODUCT((Stocks!$B$2:$B$10000=S$1)*(Stocks!$C$2:$C$10000=$A35)*(ROW($3:$10001)-1)),0),\"\")","v":0},{"$f":"IFERROR(OFFSET(Stocks!$G$1,SUMPRODUCT((Stocks!$B$2:$B$10000=T$1)*(Stocks!$C$2:$C$10000=$A35)*(ROW($3:$10001)-1)),0),\"\")","v":0},null,null,null,null,null,null,null,{"$f":"IFERROR(OFFSET(Stocks!$G$1,SUMPRODUCT((Stocks!$B$2:$B$10000=AB$1)*(Stocks!$C$2:$C$10000=$A35)*(ROW($3:$10001)-1)),0),\"\")","v":"Stock Réel"},{"$f":"IFERROR(OFFSET(Stocks!$G$1,SUMPRODUCT((Stocks!$B$2:$B$10000=AC$1)*(Stocks!$C$2:$C$10000=$A35)*(ROW($3:$10001)-1)),0),\"\")","v":"Stock Réel"},{"$f":"IFERROR(OFFSET(Stocks!$G$1,SUMPRODUCT((Stocks!$B$2:$B$10000=AD$1)*(Stocks!$C$2:$C$10000=$A35)*(ROW($3:$10001)-1)),0),\"\")","v":"Stock Réel"}]
["PR",null,null,null,null,null,null,null,{"$f":"IFERROR(OFFSET(Stocks!$G$1,SUMPRODUCT((Stocks!$B$2:$B$10000=I$1)*(Stocks!$C$2:$C$10000=$A36)*(ROW($3:$10001)-1)),0),\"\")","v":0},{"$f":"IFERROR(OFFSET(Stocks!$G$1,SUMPRODUCT((Stocks!$B$2:$B$10000=J$1)*(Stocks!$C$2:$C$10000=$A36)*(ROW($3:$10001)-1)),0),\"\")","v":0},{"$f":"IFERROR(OFFSET(Stocks!$G$1,SUMPRODUCT((Stocks!$B$2:$B$10000=K$1)*(Stocks!$C$2:$C$10000=$A36)*(ROW($3:$10001)-1)),0),\"\")","v":0},{"$f":"IFERROR(OFFSET(Stocks!$G$1,SUMPRODUCT((Stocks!$B$2:$B$10000=L$1)*(Stocks!$C$2:$C$10000=$A36)*(ROW($3:$10001)-1)),0),\"\")","v":0},{"$f":"IFERROR(OFFSET(Stocks!$G$1,SUMPRODUCT((Stocks!$B$2:$B$10000=M$1)*(Stocks!$C$2:$C$10000=$A36)*(ROW($3:$10001)-1)),0),\"\")","v":0},{"$f":"IFERROR(OFFSET(Stocks!$G$1,SUMPRODUCT((Stocks!$B$2:$B$10000=N$1)*(Stocks!$C$2:$C$10000=$A36)*(ROW($3:$10001)-1)),0),\"\")","v":0},{"$f":"IFERROR(OFFSET(Stocks!$G$1,SUMPRODUCT((Stocks!$B$2:$B$10000=O$1)*(Stocks!$C$2:$C$10000=$A36)*(ROW($3:$10001)-1)),0),\"\")","v":0},{"$f":"IFERROR(OFFSET(Stocks!$G$1,SUMPRODUCT((Stocks!$B$2:$B$10000=P$1)*(Stocks!$C$2:$C$10000=$A36)*(ROW($3:$10001)-1)),0),\"\")","v":0},{"$f":"IFERROR(OFFSET(Stocks!$G$1,SUMPRODUCT((Stocks!$B$2:$B$10000=Q$1)*(Stocks!$C$2:$C$10000=$A36)*(ROW($3:$10001)-1)),0),\"\")","v":0},{"$f":"IFERROR(OFFSET(Stocks!$G$1,SUMPRODUCT((Stocks!$B$2:$B$10000=R$1)*(Stocks!$C$2:$C$10000=$A36)*(ROW($3:$10001)-1)),0),\"\")","v":0},{"$f":"IFERROR(OFFSET(Stocks!$G$1,SUMPRODUCT((Stocks!$B$2:$B$10000=S$1)*(Stocks!$C$2:$C$10000=$A36)*(ROW($3:$10001)-1)),0),\"\")","v":0},{"$f":"IFERROR(OFFSET(Stocks!$G$1,SUMPRODUCT((Stocks!$B$2:$B$10000=T$1)*(Stocks!$C$2:$C$10000=$A36)*(ROW($3:$10001)-1)),0),\"\")","v":0},null,null,null,null,null,null,null,{"$f":"IFERROR(OFFSET(Stocks!$G$1,SUMPRODUCT((Stocks!$B$2:$B$10000=AB$1)*(Stocks!$C$2:$C$10000=$A36)*(ROW($3:$10001)-1)),0),\"\")","v":"Stock Réel"},{"$f":"IFERROR(OFFSET(Stocks!$G$1,SUMPRODUCT((Stocks!$B$2:$B$10000=AC$1)*(Stocks!$C$2:$C$10000=$A36)*(ROW($3:$10001)-1)),0),\"\")","v":"Stock Réel"},{"$f":"IFERROR(OFFSET(Stocks!$G$1,SUMPRODUCT((Stocks!$B$2:$B$10000=AD$1)*(Stocks!$C$2:$C$10000=$A36)*(ROW($3:$10001)-1)),0),\"\")","v":"Stock Réel"}]
["R1",null,null,null,null,null,null,null,{"$f":"IFERROR(OFFSET(Stocks!$G$1,SUMPRODUCT((Stocks!$B$2:$B$10000=I$1)*(Stocks!$C$2:$C$10000=$A37)*(ROW($3:$10001)-1)),0),\"\")","v":0},{"$f":"IFERROR(OFFSET(Stocks!$G$1,SUMPRODUCT((Stocks!$B$2:$B$10000=J$1)*(Stocks!$C$2:$C$10000=$A37)*(ROW($3:$10001)-1)),0),\"\")","v":0},{"$f":"IFERROR(OFFSET(Stocks!$G$1,SUMPRODUCT((Stocks!$B$2:$B$10000=K$1)*(Stocks!$C$2:$C$10000=$A37)*(ROW($3:$10001)-1)),0),\"\")","v":0},{"$f":"IFERROR(OFFSET(Stocks!$G$1,SUMPRODUCT((Stocks!$B$2:$B$10000=L$1)*(Stocks!$C$2:$C$10000=$A37)*(ROW($3:$10001)-1)),0),\"\")","v":0},{"$f":"IFERROR(OFFSET(Stocks!$G$1,SUMPRODUCT((Stocks!$B$2:$B$10000=M$1)*(Stocks!$C$2:$C$10000=$A37)*(ROW($3:$10001)-1)),0),\"\")","v":0},{"$f":"IFERROR(OFFSET(Stocks!$G$1,SUMPRODUCT((Stocks!$B$2:$B$10000=N$1)*(Stocks!$C$2:$C$10000=$A37)*(ROW($3:$10001)-1)),0),\"\")","v":0},{"$f":"IFERROR(OFFSET(Stocks!$G$1,SUMPRODUCT((Stocks!$B$2:$B$10000=O$1)*(Stocks!$C$2:$C$10000=$A37)*(ROW($3:$10001)-1)),0),\"\")","v":0},{"$f":"IFERROR(OFFSET(Stocks!$G$1,SUMPRODUCT((Stocks!$B$2:$B$10000=P$1)*(Stocks!$C$2:$C$10000=$A37)*(ROW($3:$10001)-1)),0),\"\")","v":0},{"$f":"IFERROR(OFFSET(Stocks!$G$1,SUMPRODUCT((Stocks!$B$2:$B$10000=Q$1)*(Stocks!$C$2:$C$10000=$A37)*(ROW($3:$10001)-1)),0),\"\")","v":0},{"$f":"IFERROR(OFFSET(Stocks!$G$1,SUMPRODUCT((Stocks!$B$2:$B$10000=R$1)*(Stocks!$C$2:$C$10000=$A37)*(ROW($3:$10001)-1)),0),\"\")","v":0},{"$f":"IFERROR(OFFSET(Stocks!$G$1,SUMPRODUCT((Stocks!$B$2:$B$10000=S$1)*(Stocks!$C$2:$C$10000=$A37)*(ROW($3:$10001)-1)),0),\"\")","v":0},{"$f":"IFERROR(OFFSET(Stocks!$G$1,SUMPRODUCT((Stocks!$B$2:$B$10000=T$1)*(Stocks!$C$2:$C$10000=$A37)*(ROW($3:$10001)-1)),0),\"\")","v":0},null,null,null,null,null,null,null,{"$f":"IFERROR(OFFSET(Stocks!$G$1,SUMPRODUCT((Stocks!$B$2:$B$10000=AB$1)*(Stocks!$C$2:$C$10000=$A37)*(ROW($3:$10001)-1)),0),\"\")","v":"Stock Réel"},{"$f":"IFERROR(OFFSET(Stocks!$G$1,SUMPRODUCT((Stocks!$B$2:$B$10000=AC$1)*(Stocks!$C$2:$C$10000=$A37)*(ROW($3:$10001)-1)),0),\"\")","v":"Stock Réel"},{"$f":"IFERROR(OFFSET(Stocks!$G$1,SUMPRODUCT((Stocks!$B$2:$B$10000=AD$1)*(Stocks!$C$2:$C$10000=$A37)*(ROW($3:$10001)-1)),0),\"\")","v":"Stock Réel"}]
["R2",null,null,null,null,null,null,null,{"$f":"IFERROR(OFFSET(Stocks!$G$1,SUMPRODUCT((Stocks!$B$2:$B$10000=I$1)*(Stocks!$C$2:$C$10000=$A38)*(ROW($3:$10001)-1)),0),\"\")","v":0},{"$f":"IFERROR(OFFSET(Stocks!$G$1,SUMPRODUCT((Stocks!$B$2:$B$10000=J$1)*(Stocks!$C$2:$C$10000=$A38)*(ROW($3:$10001)-1)),0),\"\")","v":0},{"$f":"IFERROR(OFFSET(Stocks!$G$1,SUMPRODUCT((Stocks!$B$2:$B$10000=K$1)*(Stocks!$C$2:$C$10000=$A38)*(ROW($3:$10001)-1)),0),\"\")","v":0},{"$f":"IFERROR(OFFSET(Stocks!$G$1,SUMPRODUCT((Stocks!$B$2:$B$10000=L$1)*(Stocks!$C$2:$C$10000=$A38)*(ROW($3:$10001)-1)),0),\"\")","v":0},{"$f":"IFERROR(OFFSET(Stocks!$G$1,SUMPRODUCT((Stocks!$B$2:$B$10000=M$1)*(Stocks!$C$2:$C$10000=$A38)*(ROW($3:$10001)-1)),0),\"\")","v":0},{"$f":"IFERROR(OFFSET(Stocks!$G$1,SUMPRODUCT((Stocks!$B$2:$B$10000=N$1)*(Stocks!$C$2:$C$10000=$A38)*(ROW($3:$10001)-1)),0),\"\")","v":0},{"$f":"IFERROR(OFFSET(Stocks!$G$1,SUMPRODUCT((Stocks!$B$2:$B$10000=O$1)*(Stocks!$C$2:$C$10000=$A38)*(ROW($3:$10001)-1)),0),\"\")","v":0},{"$f":"IFERROR(OFFSET(Stocks!$G$1,SUMPRODUCT((Stocks!$B$2:$B$10000=P$1)*(Stocks!$C$2:$C$10000=$A38)*(ROW($3:$10001)-1)),0),\"\")","v":0},{"$f":"IFERROR(OFFSET(Stocks!$G$1,SUMPRODUCT((Stocks!$B$2:$B$10000=Q$1)*(Stocks!$C$2:$C$10000=$A38)*(ROW($3:$10001)-1)),0),\"\")","v":0},{"$f":"IFERROR(OFFSET(Stocks!$G$1,SUMPRODUCT((Stocks!$B$2:$B$10000=R$1)*(Stocks!$C$2:$C$10000=$A38)*(ROW($3:$10001)-1)),0),\"\")","v":0},{"$f":"IFERROR(OFFSET(Stocks!$G$1,SUMPRODUCT((Stocks!$B$2:$B$10000=S$1)*(Stocks!$C$2:$C$10000=$A38)*(ROW($3:$10001)-1)),0),\"\")","v":0},{"$f":"IFERROR(OFFSET(Stocks!$G$1,SUMPRODUCT((Stocks!$B$2:$B$10000=T$1)*(Stocks!$C$2:$C$10000=$A38)*(ROW($3:$10001)-1)),0),\"\")","v":0},null,null,null,null,null,null,null,{"$f":"IFERROR(OFFSET(Stocks!$G$1,SUMPRODUCT((Stocks!$B$2:$B$10000=AB$1)*(Stocks!$C$2:$C$10000=$A38)*(ROW($3:$10001)-1)),0),\"\")","v":"Stock Réel"},{"$f":"IFERROR(OFFSET(Stocks!$G$1,SUMPRODUCT((Stocks!$B$2:$B$10000=AC$1)*(Stocks!$C$2:$C$10000=$A38)*(ROW($3:$10001)-1)),0),\"\")","v":"Stock Réel"},{"$f":"IFERROR(OFFSET(Stocks!$G$1,SUMPRODUCT((Stocks!$B$2:$B$10000=AD$1)*(Stocks!$C$2:$C$10000=$A38)*(ROW($3:$10001)-1)),0),\"\")","v":"Stock Réel"}]
["R3",null,null,null,null,null,null,null,{"$f":"IFERROR(OFFSET(Stocks!$G$1,SUMPRODUCT((Stocks!$B$2:$B$10000=I$1)*(Stocks!$C$2:$C$10000=$A39)*(ROW($3:$10001)-1)),0),\"\")","v":0},{"$f":"IFERROR(OFFSET(Stocks!$G$1,SUMPRODUCT((Stocks!$B$2:$B$10000=J$1)*(Stocks!$C$2:$C$10000=$A39)*(ROW($3:$10001)-1)),0),\"\")","v":0},{"$f":"IFERROR(OFFSET(Stocks!$G$1,SUMPRODUCT((Stocks!$B$2:$B$10000=K$1)*(Stocks!$C$2:$C$10000=$A39)*(ROW($3:$10001)-1)),0),\"\")","v":0},{"$f":"IFERROR(OFFSET(Stocks!$G$1,SUMPRODUCT((Stocks!$B$2:$B$10000=L$1)*(Stocks!$C$2:$C$10000=$A39)*(ROW($3:$10001)-1)),0),\"\")","v":0},{"$f":"IFERROR(OFFSET(Stocks!$G$1,SUMPRODUCT((Stocks!$B$2:$B$10000=M$1)*(Stocks!$C$2:$C$10000=$A39)*(ROW($3:$10001)-1)),0),\"\")","v":0},{"$f":"IFERROR(OFFSET(Stocks!$G$1,SUMPRODUCT((Stocks!$B$2:$B$10000=N$1)*(Stocks!$C$2:$C$10000=$A39)*(ROW($3:$10001)-1)),0),\"\")","v":0},{"$f":"IFERROR(OFFSET(Stocks!$G$1,SUMPRODUCT((Stocks!$B$2:$B$10000=O$1)*(Stocks!$C$2:$C$10000=$A39)*(ROW($3:$10001)-1)),0),\"\")","v":0},{"$f":"IFERROR(OFFSET(Stocks!$G$1,SUMPRODUCT((Stocks!$B$2:$B$10000=P$1)*(Stocks!$C$2:$C$10000=$A39)*(ROW($3:$10001)-1)),0),\"\")","v":0},{"$f":"IFERROR(OFFSET(Stocks!$G$1,SUMPRODUCT((Stocks!$B$2:$B$10000=Q$1)*(Stocks!$C$2:$C$10000=$A39)*(ROW($3:$10001)-1)),0),\"\")","v":0},{"$f":"IFERROR(OFFSET(Stocks!$G$1,SUMPRODUCT((Stocks!$B$2:$B$10000=R$1)*(Stocks!$C$2:$C$10000=$A39)*(ROW($3:$10001)-1)),0),\"\")","v":0},{"$f":"IFERROR(OFFSET(Stocks!$G$1,SUMPRODUCT((Stocks!$B$2:$B$10000=S$1)*(Stocks!$C$2:$C$10000=$A39)*(ROW($3:$10001)-1)),0),\"\")","v":0},{"$f":"IFERROR(OFFSET(Stocks!$G$1,SUMPRODUCT((Stocks!$B$2:$B$10000=T$1)*(Stocks!$C$2:$C$10000=$A39)*(ROW($3:$10001)-1)),0),\"\")","v":0},null,null,null,null,null,null,null,{"$f":"IFERROR(OFFSET(Stocks!$G$1,SUMPRODUCT((Stocks!$B$2:$B$10000=AB$1)*(Stocks!$C$2:$C$10000=$A39)*(ROW($3:$10001)-1)),0),\"\")","v":"Stock Réel"},{"$f":"IFERROR(OFFSET(Stocks!$G$1,SUMPRODUCT((Stocks!$B$2:$B$10000=AC$1)*(Stocks!$C$2:$C$10000=$A39)*(ROW($3:$10001)-1)),0),\"\")","v":"Stock Réel"},{"$f":"IFERROR(OFFSET(Stocks!$G$1,SUMPRODUCT((Stocks!$B$2:$B$10000=AD$1)*(Stocks!$C$2:$C$10000=$A39)*(ROW($3:$10001)-1)),0),\"\")","v":"Stock Réel"}]
["RB",null,null,null,null,null,null,null,{"$f":"IFERROR(OFFSET(Stocks!$G$1,SUMPRODUCT((Stocks!$B$2:$B$10000=I$1)*(Stocks!$C$2:$C$10000=$A40)*(ROW($3:$10001)-1)),0),\"\")","v":0},{"$f":"IFERROR(OFFSET(Stocks!$G$1,SUMPRODUCT((Stocks!$B$2:$B$10000=J$1)*(Stocks!$C$2:$C$10000=$A40)*(ROW($3:$10001)-1)),0),\"\")","v":0},{"$f":"IFERROR(OFFSET(Stocks!$G$1,SUMPRODUCT((Stocks!$B$2:$B$10000=K$1)*(Stocks!$C$2:$C$10000=$A40)*(ROW($3:$10001)-1)),0),\"\")","v":0},{"$f":"IFERROR(OFFSET(Stocks!$G$1,SUMPRODUCT((Stocks!$B$2:$B$10000=L$1)*(Stocks!$C$2:$C$10000=$A40)*(ROW($3:$10001)-1)),0),\"\")","v":0},{"$f":"IFERROR(OFFSET(Stocks!$G$1,SUMPRODUCT((Stocks!$B$2:$B$10000=M$1)*(Stocks!$C$2:$C$10000=$A40)*(ROW($3:$10001)-1)),0),\"\")","v":0},{"$f":"IFERROR(OFFSET(Stocks!$G$1,SUMPRODUCT((Stocks!$B$2:$B$10000=N$1)*(Stocks!$C$2:$C$10000=$A40)*(ROW($3:$10001)-1)),0),\"\")","v":0},{"$f":"IFERROR(OFFSET(Stocks!$G$1,SUMPRODUCT((Stocks!$B$2:$B$10000=O$1)*(Stocks!$C$2:$C$10000=$A40)*(ROW($3:$10001)-1)),0),\"\")","v":0},{"$f":"IFERROR(OFFSET(Stocks!$G$1,SUMPRODUCT((Stocks!$B$2:$B$10000=P$1)*(Stocks!$C$2:$C$10000=$A40)*(ROW($3:$10001)-1)),0),\"\")","v":0},{"$f":"IFERROR(OFFSET(Stocks!$G$1,SUMPRODUCT((Stocks!$B$2:$B$10000=Q$1)*(Stocks!$C$2:$C$10000=$A40)*(ROW($3:$10001)-1)),0),\"\")","v":0},{"$f":"IFERROR(OFFSET(Stocks!$G$1,SUMPRODUCT((Stocks!$B$2:$B$10000=R$1)*(Stocks!$C$2:$C$10000=$A40)*(ROW($3:$10001)-1)),0),\"\")","v":0},{"$f":"IFERROR(OFFSET(Stocks!$G$1,SUMPRODUCT((Stocks!$B$2:$B$10000=S$1)*(Stocks!$C$2:$C$10000=$A40)*(ROW($3:$10001)-1)),0),\"\")","v":0},{"$f":"IFERROR(OFFSET(Stocks!$G$1,SUMPRODUCT((Stocks!$B$2:$B$10000=T$1)*(Stocks!$C$2:$C$10000=$A40)*(ROW($3:$10001)-1)),0),\"\")","v":0},null,null,null,null,null,null,null,{"$f":"IFERROR(OFFSET(Stocks!$G$1,SUMPRODUCT((Stocks!$B$2:$B$10000=AB$1)*(Stocks!$C$2:$C$10000=$A40)*(ROW($3:$10001)-1)),0),\"\")","v":"Stock Réel"},{"$f":"IFERROR(OFFSET(Stocks!$G$1,SUMPRODUCT((Stocks!$B$2:$B$10000=AC$1)*(Stocks!$C$2:$C$10000=$A40)*(ROW($3:$10001)-1)),0),\"\")","v":"Stock Réel"},{"$f":"IFERROR(OFFSET(Stocks!$G$1,SUMPRODUCT((Stocks!$B$2:$B$10000=AD$1)*(Stocks!$C$2:$C$10000=$A40)*(ROW($3:$10001)-1)),0),\"\")","v":"Stock Réel"}]
["RF",null,null,null,null,null,null,null,{"$f":"IFERROR(OFFSET(Stocks!$G$1,SUMPRODUCT((Stocks!$B$2:$B$10000=I$1)*(Stocks!$C$2:$C$10000=$A41)*(ROW($3:$10001)-1)),0),\"\")","v":0},{"$f":"IFERROR(OFFSET(Stocks!$G$1,SUMPRODUCT((Stocks!$B$2:$B$10000=J$1)*(Stocks!$C$2:$C$10000=$A41)*(ROW($3:$10001)-1)),0),\"\")","v":0},{"$f":"IFERROR(OFFSET(Stocks!$G$1,SUMPRODUCT((Stocks!$B$2:$B$10000=K$1)*(Stocks!$C$2:$C$10000=$A41)*(ROW($3:$10001)-1)),0),\"\")","v":0},{"$f":"IFERROR(OFFSET(Stocks!$G$1,SUMPRODUCT((Stocks!$B$2:$B$10000=L$1)*(Stocks!$C$2:$C$10000=$A41)*(ROW($3:$10001)-1)),0),\"\")","v":0},{"$f":"IFERROR(OFFSET(Stocks!$G$1,SUMPRODUCT((Stocks!$B$2:$B$10000=M$1)*(Stocks!$C$2:$C$10000=$A41)*(ROW($3:$10001)-1)),0),\"\")","v":0},{"$f":"IFERROR(OFFSET(Stocks!$G$1,SUMPRODUCT((Stocks!$B$2:$B$10000=N$1)*(Stocks!$C$2:$C$10000=$A41)*(ROW($3:$10001)-1)),0),\"\")","v":0},{"$f":"IFERROR(OFFSET(Stocks!$G$1,SUMPRODUCT((Stocks!$B$2:$B$10000=O$1)*(Stocks!$C$2:$C$10000=$A41)*(ROW($3:$10001)-1)),0),\"\")","v":0},{"$f":"IFERROR(OFFSET(Stocks!$G$1,SUMPRODUCT((Stocks!$B$2:$B$10000=P$1)*(Stocks!$C$2:$C$10000=$A41)*(ROW($3:$10001)-1)),0),\"\")","v":0},{"$f":"IFERROR(OFFSET(Stocks!$G$1,SUMPRODUCT((Stocks!$B$2:$B$10000=Q$1)*(Stocks!$C$2:$C$10000=$A41)*(ROW($3:$10001)-1)),0),\"\")","v":0},{"$f":"IFERROR(OFFSET(Stocks!$G$1,SUMPRODUCT((Stocks!$B$2:$B$10000=R$1)*(Stocks!$C$2:$C$10000=$A41)*(ROW($3:$10001)-1)),0),\"\")","v":0},{"$f":"IFERROR(OFFSET(Stocks!$G$1,SUMPRODUCT((Stocks!$B$2:$B$10000=S$1)*(Stocks!$C$2:$C$10000=$A41)*(ROW($3:$10001)-1)),0),\"\")","v":0},{"$f":"IFERROR(OFFSET(Stocks!$G$1,SUMPRODUCT((Stocks!$B$2:$B$10000=T$1)*(Stocks!$C$2:$C$10000=$A41)*(ROW($3:$10001)-1)),0),\"\")","v":0},null,null,null,null,null,null,null,{"$f":"IFERROR(OFFSET(Stocks!$G$1,SUMPRODUCT((Stocks!$B$2:$B$10000=AB$1)*(Stocks!$C$2:$C$10000=$A41)*(ROW($3:$10001)-1)),0),\"\")","v":"Stock Réel"},{"$f":"IFERROR(OFFSET(Stocks!$G$1,SUMPRODUCT((Stocks!$B$2:$B$10000=AC$1)*(Stocks!$C$2:$C$10000=$A41)*(ROW($3:$10001)-1)),0),\"\")","v":"Stock Réel"},{"$f":"IFERROR(OFFSET(Stocks!$G$1,SUMPRODUCT((Stocks!$B$2:$B$10000=AD$1)*(Stocks!$C$2:$C$10000=$A41)*(ROW($3:$10001)-1)),0),\"\")","v":"Stock Réel"}]
["RFF",null,null,null,null,null,null,null,{"$f":"IFERROR(OFFSET(Stocks!$G$1,SUMPRODUCT((Stocks!$B$2:$B$10000=I$1)*(Stocks!$C$2:$C$10000=$A42)*(ROW($3:$10001)-1)),0),\"\")","v":0},{"$f":"IFERROR(OFFSET(Stocks!$G$1,SUMPRODUCT((Stocks!$B$2:$B$10000=J$1)*(Stocks!$C$2:$C$10000=$A42)*(ROW($3:$10001)-1)),0),\"\")","v":0},{"$f":"IFERROR(OFFSET(Stocks!$G$1,SUMPRODUCT((Stocks!$B$2:$B$10000=K$1)*(Stocks!$C$2:$C$10000=$A42)*(ROW($3:$10001)-1)),0),\"\")","v":0},{"$f":"IFERROR(OFFSET(Stocks!$G$1,SUMPRODUCT((Stocks!$B$2:$B$10000=L$1)*(Stocks!$C$2:$C$10000=$A42)*(ROW($3:$10001)-1)),0),\"\")","v":0},{"$f":"IFERROR(OFFSET(Stocks!$G$1,SUMPRODUCT((Stocks!$B$2:$B$10000=M$1)*(Stocks!$C$2:$C$10000=$A42)*(ROW($3:$10001)-1)),0),\"\")","v":0},{"$f":"IFERROR(OFFSET(Stocks!$G$1,SUMPRODUCT((Stocks!$B$2:$B$10000=N$1)*(Stocks!$C$2:$C$10000=$A42)*(ROW($3:$10001)-1)),0),\"\")","v":0},{"$f":"IFERROR(OFFSET(Stocks!$G$1,SUMPRODUCT((Stocks!$B$2:$B$10000=O$1)*(Stocks!$C$2:$C$10000=$A42)*(ROW($3:$10001)-1)),0),\"\")","v":0},{"$f":"IFERROR(OFFSET(Stocks!$G$1,SUMPRODUCT((Stocks!$B$2:$B$10000=P$1)*(Stocks!$C$2:$C$10000=$A42)*(ROW($3:$10001)-1)),0),\"\")","v":0},{"$f":"IFERROR(OFFSET(Stocks!$G$1,SUMPRODUCT((Stocks!$B$2:$B$10000=Q$1)*(Stocks!$C$2:$C$10000=$A42)*(ROW($3:$10001)-1)),0),\"\")","v":0},{"$f":"IFERROR(OFFSET(Stocks!$G$1,SUMPRODUCT((Stocks!$B$2:$B$10000=R$1)*(Stocks!$C$2:$C$10000=$A42)*(ROW($3:$10001)-1)),0),\"\")","v":0},{"$f":"IFERROR(OFFSET(Stocks!$G$1,SUMPRODUCT((Stocks!$B$2:$B$10000=S$1)*(Stocks!$C$2:$C$10000=$A42)*(ROW($3:$10001)-1)),0),\"\")","v":0},{"$f":"IFERROR(OFFSET(Stocks!$G$1,SUMPRODUCT((Stocks!$B$2:$B$10000=T$1)*(Stocks!$C$2:$C$10000=$A42)*(ROW($3:$10001)-1)),0),\"\")","v":0},null,null,null,null,null,null,null,{"$f":"IFERROR(OFFSET(Stocks!$G$1,SUMPRODUCT((Stocks!$B$2:$B$10000=AB$1)*(Stocks!$C$2:$C$10000=$A42)*(ROW($3:$10001)-1)),0),\"\")","v":"Stock Réel"},{"$f":"IFERROR(OFFSET(Stocks!$G$1,SUMPRODUCT((Stocks!$B$2:$B$10000=AC$1)*(Stocks!$C$2:$C$10000=$A42)*(ROW($3:$10001)-1)),0),\"\")","v":"Stock Réel"},{"$f":"IFERROR(OFFSET(Stocks!$G$1,SUMPRODUCT((Stocks!$B$2:$B$10000=AD$1)*(Stocks!$C$2:$C$10000=$A42)*(ROW($3:$10001)-1)),0),\"\")","v":"Stock Réel"}]
["TA",null,null,null,null,null,null,null,{"$f":"IFERROR(OFFSET(Stocks!$G$1,SUMPRODUCT((Stocks!$B$2:$B$10000=I$1)*(Stocks!$C$2:$C$10000=$A43)*(ROW($3:$10001)-1)),0),\"\")","v":0},{"$f":"IFERROR(OFFSET(Stocks!$G$1,SUMPRODUCT((Stocks!$B$2:$B$10000=J$1)*(Stocks!$C$2:$C$10000=$A43)*(ROW($3:$10001)-1)),0),\"\")","v":0},{"$f":"IFERROR(OFFSET(Stocks!$G$1,SUMPRODUCT((Stocks!$B$2:$B$10000=K$1)*(Stocks!$C$2:$C$10000=$A43)*(ROW($3:$10001)-1)),0),\"\")","v":0},{"$f":"IFERROR(OFFSET(Stocks!$G$1,SUMPRODUCT((Stocks!$B$2:$B$10000=L$1)*(Stocks!$C$2:$C$10000=$A43)*(ROW($3:$10001)-1)),0),\"\")","v":0},{"$f":"IFERROR(OFFSET(Stocks!$G$1,SUMPRODUCT((Stocks!$B$2:$B$10000=M$1)*(Stocks!$C$2:$C$10000=$A43)*(ROW($3:$10001)-1)),0),\"\")","v":0},{"$f":"IFERROR(OFFSET(Stocks!$G$1,SUMPRODUCT((Stocks!$B$2:$B$10000=N$1)*(Stocks!$C$2:$C$10000=$A43)*(ROW($3:$10001)-1)),0),\"\")","v":0},{"$f":"IFERROR(OFFSET(Stocks!$G$1,SUMPRODUCT((Stocks!$B$2:$B$10000=O$1)*(Stocks!$C$2:$C$10000=$A43)*(ROW($3:$10001)-1)),0),\"\")","v":0},{"$f":"IFERROR(OFFSET(Stocks!$G$1,SUMPRODUCT((Stocks!$B$2:$B$10000=P$1)*(Stocks!$C$2:$C$10000=$A43)*(ROW($3:$10001)-1)),0),\"\")","v":0},{"$f":"IFERROR(OFFSET(Stocks!$G$1,SUMPRODUCT((Stocks!$B$2:$B$10000=Q$1)*(Stocks!$C$2:$C$10000=$A43)*(ROW($3:$10001)-1)),0),\"\")","v":0},{"$f":"IFERROR(OFFSET(Stocks!$G$1,SUMPRODUCT((Stocks!$B$2:$B$10000=R$1)*(Stocks!$C$2:$C$10000=$A43)*(ROW($3:$10001)-1)),0),\"\")","v":0},{"$f":"IFERROR(OFFSET(Stocks!$G$1,SUMPRODUCT((Stocks!$B$2:$B$10000=S$1)*(Stocks!$C$2:$C$10000=$A43)*(ROW($3:$10001)-1)),0),\"\")","v":0},{"$f":"IFERROR(OFFSET(Stocks!$G$1,SUMPRODUCT((Stocks!$B$2:$B$10000=T$1)*(Stocks!$C$2:$C$10000=$A43)*(ROW($3:$10001)-1)),0),\"\")","v":0},null,null,null,null,null,null,null,{"$f":"IFERROR(OFFSET(Stocks!$G$1,SUMPRODUCT((Stocks!$B$2:$B$10000=AB$1)*(Stocks!$C$2:$C$10000=$A43)*(ROW($3:$10001)-1)),0),\"\")","v":"Stock Réel"},{"$f":"IFERROR(OFFSET(Stocks!$G$1,SUMPRODUCT((Stocks!$B$2:$B$10000=AC$1)*(Stocks!$C$2:$C$10000=$A43)*(ROW($3:$10001)-1)),0),\"\")","v":"Stock Réel"},{"$f":"IFERROR(OFFSET(Stocks!$G$1,SUMPRODUCT((Stocks!$B$2:$B$10000=AD$1)*(Stocks!$C$2:$C$10000=$A43)*(ROW($3:$10001)-1)),0),\"\")","v":"Stock Réel"}]
["TR",null,null,null,null,null,null,null,{"$f":"IFERROR(OFFSET(Stocks!$G$1,SUMPRODUCT((Stocks!$B$2:$B$10000=I$1)*(Stocks!$C$2:$C$10000=$A44)*(ROW($3:$10001)-1)),0),\"\")","v":0},{"$f":"IFERROR(OFFSET(Stocks!$G$1,SUMPRODUCT((Stocks!$B$2:$B$10000=J$1)*(Stocks!$C$2:$C$10000=$A44)*(ROW($3:$10001)-1)),0),\"\")","v":0},{"$f":"IFERROR(OFFSET(Stocks!$G$1,SUMPRODUCT((Stocks!$B$2:$B$10000=K$1)*(Stocks!$C$2:$C$10000=$A44)*(ROW($3:$10001)-1)),0),\"\")","v":0},{"$f":"IFERROR(OFFSET(Stocks!$G$1,SUMPRODUCT((Stocks!$B$2:$B$10000=L$1)*(Stocks!$C$2:$C$10000=$A44)*(ROW($3:$10001)-1)),0),\"\")","v":0},{"$f":"IFERROR(OFFSET(Stocks!$G$1,SUMPRODUCT((Stocks!$B$2:$B$10000=M$1)*(Stocks!$C$2:$C$10000=$A44)*(ROW($3:$10001)-1)),0),\"\")","v":0},{"$f":"IFERROR(OFFSET(Stocks!$G$1,SUMPRODUCT((Stocks!$B$2:$B$10000=N$1)*(Stocks!$C$2:$C$10000=$A44)*(ROW($3:$10001)-1)),0),\"\")","v":0},{"$f":"IFERROR(OFFSET(Stocks!$G$1,SUMPRODUCT((Stocks!$B$2:$B$10000=O$1)*(Stocks!$C$2:$C$10000=$A44)*(ROW($3:$10001)-1)),0),\"\")","v":0},{"$f":"IFERROR(OFFSET(Stocks!$G$1,SUMPRODUCT((Stocks!$B$2:$B$10000=P$1)*(Stocks!$C$2:$C$10000=$A44)*(ROW($3:$10001)-1)),0),\"\")","v":0},{"$f":"IFERROR(OFFSET(Stocks!$G$1,SUMPRODUCT((Stocks!$B$2:$B$10000=Q$1)*(Stocks!$C$2:$C$10000=$A44)*(ROW($3:$10001)-1)),0),\"\")","v":0},{"$f":"IFERROR(OFFSET(Stocks!$G$1,SUMPRODUCT((Stocks!$B$2:$B$10000=R$1)*(Stocks!$C$2:$C$10000=$A44)*(ROW($3:$10001)-1)),0),\"\")","v":0},{"$f":"IFERROR(OFFSET(Stocks!$G$1,SUMPRODUCT((Stocks!$B$2:$B$10000=S$1)*(Stocks!$C$2:$C$10000=$A44)*(ROW($3:$10001)-1)),0),\"\")","v":0},{"$f":"IFERROR(OFFSET(Stocks!$G$1,SUMPRODUCT((Stocks!$B$2:$B$10000=T$1)*(Stocks!$C$2:$C$10000=$A44)*(ROW($3:$10001)-1)),0),\"\")","v":0},null,null,null,null,null,null,null,{"$f":"IFERROR(OFFSET(Stocks!$G$1,SUMPRODUCT((Stocks!$B$2:$B$10000=AB$1)*(Stocks!$C$2:$C$10000=$A44)*(ROW($3:$10001)-1)),0),\"\")","v":"Stock Réel"},{"$f":"IFERROR(OFFSET(Stocks!$G$1,SUMPRODUCT((Stocks!$B$2:$B$10000=AC$1)*(Stocks!$C$2:$C$10000=$A44)*(ROW($3:$10001)-1)),0),\"\")","v":"Stock Réel"},{"$f":"IFERROR(OFFSET(Stocks!$G$1,SUMPRODUCT((Stocks!$B$2:$B$10000=AD$1)*(Stocks!$C$2:$C$10000=$A44)*(ROW($3:$10001)-1)),0),\"\")","v":"Stock Réel"}]
["VA",null,null,null,null,null,null,null,{"$f":"IFERROR(OFFSET(Stocks!$G$1,SUMPRODUCT((Stocks!$B$2:$B$10000=I$1)*(Stocks!$C$2:$C$10000=$A45)*(ROW($3:$10001)-1)),0),\"\")","v":0},{"$f":"IFERROR(OFFSET(Stocks!$G$1,SUMPRODUCT((Stocks!$B$2:$B$10000=J$1)*(Stocks!$C$2:$C$10000=$A45)*(ROW($3:$10001)-1)),0),\"\")","v":0},{"$f":"IFERROR(OFFSET(Stocks!$G$1,SUMPRODUCT((Stocks!$B$2:$B$10000=K$1)*(Stocks!$C$2:$C$10000=$A45)*(ROW($3:$10001)-1)),0),\"\")","v":0},{"$f":"IFERROR(OFFSET(Stocks!$G$1,SUMPRODUCT((Stocks!$B$2:$B$10000=L$1)*(Stocks!$C$2:$C$10000=$A45)*(ROW($3:$10001)-1)),0),\"\")","v":0},{"$f":"IFERROR(OFFSET(Stocks!$G$1,SUMPRODUCT((Stocks!$B$2:$B$10000=M$1)*(Stocks!$C$2:$C$10000=$A45)*(ROW($3:$10001)-1)),0),\"\")","v":0},{"$f":"IFERROR(OFFSET(Stocks!$G$1,SUMPRODUCT((Stocks!$B$2:$B$10000=N$1)*(Stocks!$C$2:$C$10000=$A45)*(ROW($3:$10001)-1)),0),\"\")","v":0},{"$f":"IFERROR(OFFSET(Stocks!$G$1,SUMPRODUCT((Stocks!$B$2:$B$10000=O$1)*(Stocks!$C$2:$C$10000=$A45)*(ROW($3:$10001)-1)),0),\"\")","v":0},{"$f":"IFERROR(OFFSET(Stocks!$G$1,SUMPRODUCT((Stocks!$B$2:$B$10000=P$1)*(Stocks!$C$2:$C$10000=$A45)*(ROW($3:$10001)-1)),0),\"\")","v":0},{"$f":"IFERROR(OFFSET(Stocks!$G$1,SUMPRODUCT((Stocks!$B$2:$B$10000=Q$1)*(Stocks!$C$2:$C$10000=$A45)*(ROW($3:$10001)-1)),0),\"\")","v":0},{"$f":"IFERROR(OFFSET(Stocks!$G$1,SUMPRODUCT((Stocks!$B$2:$B$10000=R$1)*(Stocks!$C$2:$C$10000=$A45)*(ROW($3:$10001)-1)),0),\"\")","v":0},{"$f":"IFERROR(OFFSET(Stocks!$G$1,SUMPRODUCT((Stocks!$B$2:$B$10000=S$1)*(Stocks!$C$2:$C$10000=$A45)*(ROW($3:$10001)-1)),0),\"\")","v":0},{"$f":"IFERROR(OFFSET(Stocks!$G$1,SUMPRODUCT((Stocks!$B$2:$B$10000=T$1)*(Stocks!$C$2:$C$10000=$A45)*(ROW($3:$10001)-1)),0),\"\")","v":0},null,null,null,null,null,null,null,{"$f":"IFERROR(OFFSET(Stocks!$G$1,SUMPRODUCT((Stocks!$B$2:$B$10000=AB$1)*(Stocks!$C$2:$C$10000=$A45)*(ROW($3:$10001)-1)),0),\"\")","v":"Stock Réel"},{"$f":"IFERROR(OFFSET(Stocks!$G$1,SUMPRODUCT((Stocks!$B$2:$B$10000=AC$1)*(Stocks!$C$2:$C$10000=$A45)*(ROW($3:$10001)-1)),0),\"\")","v":"Stock Réel"},{"$f":"IFERROR(OFFSET(Stocks!$G$1,SUMPRODUCT((Stocks!$B$2:$B$10000=AD$1)*(Stocks!$C$2:$C$10000=$A45)*(ROW($3:$10001)-1)),0),\"\")","v":"Stock Réel"}]
["VD",null,null,null,null,null,null,null,{"$f":"IFERROR(OFFSET(Stocks!$G$1,SUMPRODUCT((Stocks!$B$2:$B$10000=I$1)*(Stocks!$C$2:$C$10000=$A46)*(ROW($3:$10001)-1)),0),\"\")","v":0},{"$f":"IFERROR(OFFSET(Stocks!$G$1,SUMPRODUCT((Stocks!$B$2:$B$10000=J$1)*(Stocks!$C$2:$C$10000=$A46)*(ROW($3:$10001)-1)),0),\"\")","v":0},{"$f":"IFERROR(OFFSET(Stocks!$G$1,SUMPRODUCT((Stocks!$B$2:$B$10000=K$1)*(Stocks!$C$2:$C$10000=$A46)*(ROW($3:$10001)-1)),0),\"\")","v":0},{"$f":"IFERROR(OFFSET(Stocks!$G$1,SUMPRODUCT((Stocks!$B$2:$B$10000=L$1)*(Stocks!$C$2:$C$10000=$A46)*(ROW($3:$10001)-1)),0),\"\")","v":0},{"$f":"IFERROR(OFFSET(Stocks!$G$1,SUMPRODUCT((Stocks!$B$2:$B$10000=M$1)*(Stocks!$C$2:$C$10000=$A46)*(ROW($3:$10001)-1)),0),\"\")","v":0},{"$f":"IFERROR(OFFSET(Stocks!$G$1,SUMPRODUCT((Stocks!$B$2:$B$10000=N$1)*(Stocks!$C$2:$C$10000=$A46)*(ROW($3:$10001)-1)),0),\"\")","v":0},{"$f":"IFERROR(OFFSET(Stocks!$G$1,SUMPRODUCT((Stocks!$B$2:$B$10000=O$1)*(Stocks!$C$2:$C$10000=$A46)*(ROW($3:$10001)-1)),0),\"\")","v":0},{"$f":"IFERROR(OFFSET(Stocks!$G$1,SUMPRODUCT((Stocks!$B$2:$B$10000=P$1)*(Stocks!$C$2:$C$10000=$A46)*(ROW($3:$10001)-1)),0),\"\")","v":0},{"$f":"IFERROR(OFFSET(Stocks!$G$1,SUMPRODUCT((Stocks!$B$2:$B$10000=Q$1)*(Stocks!$C$2:$C$10000=$A46)*(ROW($3:$10001)-1)),0),\"\")","v":0},{"$f":"IFERROR(OFFSET(Stocks!$G$1,SUMPRODUCT((Stocks!$B$2:$B$10000=R$1)*(Stocks!$C$2:$C$10000=$A46)*(ROW($3:$10001)-1)),0),\"\")","v":0},{"$f":"IFERROR(OFFSET(Stocks!$G$1,SUMPRODUCT((Stocks!$B$2:$B$10000=S$1)*(Stocks!$C$2:$C$10000=$A46)*(ROW($3:$10001)-1)),0),\"\")","v":0},{"$f":"IFERROR(OFFSET(Stocks!$G$1,SUMPRODUCT((Stocks!$B$2:$B$10000=T$1)*(Stocks!$C$2:$C$10000=$A46)*(ROW($3:$10001)-1)),0),\"\")","v":0},null,null,null,null,null,null,null,{"$f":"IFERROR(OFFSET(Stocks!$G$1,SUMPRODUCT((Stocks!$B$2:$B$10000=AB$1)*(Stocks!$C$2:$C$10000=$A46)*(ROW($3:$10001)-1)),0),\"\")","v":"Stock Réel"},{"$f":"IFERROR(OFFSET(Stocks!$G$1,SUMPRODUCT((Stocks!$B$2:$B$10000=AC$1)*(Stocks!$C$2:$C$10000=$A46)*(ROW($3:$10001)-1)),0),\"\")","v":"Stock Réel"},{"$f":"IFERROR(OFFSET(Stocks!$G$1,SUMPRODUCT((Stocks!$B$2:$B$10000=AD$1)*(Stocks!$C$2:$C$10000=$A46)*(ROW($3:$10001)-1)),0),\"\")","v":"Stock Réel"}]
["VEM",null,null,null,null,null,null,null,{"$f":"IFERROR(OFFSET(Stocks!$G$1,SUMPRODUCT((Stocks!$B$2:$B$10000=I$1)*(Stocks!$C$2:$C$10000=$A47)*(ROW($3:$10001)-1)),0),\"\")","v":0},{"$f":"IFERROR(OFFSET(Stocks!$G$1,SUMPRODUCT((Stocks!$B$2:$B$10000=J$1)*(Stocks!$C$2:$C$10000=$A47)*(ROW($3:$10001)-1)),0),\"\")","v":0},{"$f":"IFERROR(OFFSET(Stocks!$G$1,SUMPRODUCT((Stocks!$B$2:$B$10000=K$1)*(Stocks!$C$2:$C$10000=$A47)*(ROW($3:$10001)-1)),0),\"\")","v":0},{"$f":"IFERROR(OFFSET(Stocks!$G$1,SUMPRODUCT((Stocks!$B$2:$B$10000=L$1)*(Stocks!$C$2:$C$10000=$A47)*(ROW($3:$10001)-1)),0),\"\")","v":0},{"$f":"IFERROR(OFFSET(Stocks!$G$1,SUMPRODUCT((Stocks!$B$2:$B$10000=M$1)*(Stocks!$C$2:$C$10000=$A47)*(ROW($3:$10001)-1)),0),\"\")","v":0},{"$f":"IFERROR(OFFSET(Stocks!$G$1,SUMPRODUCT((Stocks!$B$2:$B$10000=N$1)*(Stocks!$C$2:$C$10000=$A47)*(ROW($3:$10001)-1)),0),\"\")","v":0},{"$f":"IFERROR(OFFSET(Stocks!$G$1,SUMPRODUCT((Stocks!$B$2:$B$10000=O$1)*(Stocks!$C$2:$C$10000=$A47)*(ROW($3:$10001)-1)),0),\"\")","v":0},{"$f":"IFERROR(OFFSET(Stocks!$G$1,SUMPRODUCT((Stocks!$B$2:$B$10000=P$1)*(Stocks!$C$2:$C$10000=$A47)*(ROW($3:$10001)-1)),0),\"\")","v":0},{"$f":"IFERROR(OFFSET(Stocks!$G$1,SUMPRODUCT((Stocks!$B$2:$B$10000=Q$1)*(Stocks!$C$2:$C$10000=$A47)*(ROW($3:$10001)-1)),0),\"\")","v":0},{"$f":"IFERROR(OFFSET(Stocks!$G$1,SUMPRODUCT((Stocks!$B$2:$B$10000=R$1)*(Stocks!$C$2:$C$10000=$A47)*(ROW($3:$10001)-1)),0),\"\")","v":0},{"$f":"IFERROR(OFFSET(Stocks!$G$1,SUMPRODUCT((Stocks!$B$2:$B$10000=S$1)*(Stocks!$C$2:$C$10000=$A47)*(ROW($3:$10001)-1)),0),\"\")","v":0},{"$f":"IFERROR(OFFSET(Stocks!$G$1,SUMPRODUCT((Stocks!$B$2:$B$10000=T$1)*(Stocks!$C$2:$C$10000=$A47)*(ROW($3:$10001)-1)),0),\"\")","v":0},null,null,null,null,null,null,null,{"$f":"IFERROR(OFFSET(Stocks!$G$1,SUMPRODUCT((Stocks!$B$2:$B$10000=AB$1)*(Stocks!$C$2:$C$10000=$A47)*(ROW($3:$10001)-1)),0),\"\")","v":"Stock Réel"},{"$f":"IFERROR(OFFSET(Stocks!$G$1,SUMPRODUCT((Stocks!$B$2:$B$10000=AC$1)*(Stocks!$C$2:$C$10000=$A47)*(ROW($3:$10001)-1)),0),\"\")","v":"Stock Réel"},{"$f":"IFERROR(OFFSET(Stocks!$G$1,SUMPRODUCT((Stocks!$B$2:$B$10000=AD$1)*(Stocks!$C$2:$C$10000=$A47)*(ROW($3:$10001)-1)),0),\"\")","v":"Stock Réel"}]
["VIO",null,null,null,null,null,null,null,{"$f":"IFERROR(OFFSET(Stocks!$G$1,SUMPRODUCT((Stocks!$B$2:$B$10000=I$1)*(Stocks!$C$2:$C$10000=$A48)*(ROW($3:$10001)-1)),0),\"\")","v":0},{"$f":"IFERROR(OFFSET(Stocks!$G$1,SUMPRODUCT((Stocks!$B$2:$B$10000=J$1)*(Stocks!$C$2:$C$10000=$A48)*(ROW($3:$10001)-1)),0),\"\")","v":0},{"$f":"IFERROR(OFFSET(Stocks!$G$1,SUMPRODUCT((Stocks!$B$2:$B$10000=K$1)*(Stocks!$C$2:$C$10000=$A48)*(ROW($3:$10001)-1)),0),\"\")","v":0},{"$f":"IFERROR(OFFSET(Stocks!$G$1,SUMPRODUCT((Stocks!$B$2:$B$10000=L$1)*(Stocks!$C$2:$C$10000=$A48)*(ROW($3:$10001)-1)),0),\"\")","v":0},{"$f":"IFERROR(OFFSET(Stocks!$G$1,SUMPRODUCT((Stocks!$B$2:$B$10000=M$1)*(Stocks!$C$2:$C$10000=$A48)*(ROW($3:$10001)-1)),0),\"\")","v":0},{"$f":"IFERROR(OFFSET(Stocks!$G$1,SUMPRODUCT((Stocks!$B$2:$B$10000=N$1)*(Stocks!$C$2:$C$10000=$A48)*(ROW($3:$10001)-1)),0),\"\")","v":0},{"$f":"IFERROR(OFFSET(Stocks!$G$1,SUMPRODUCT((Stocks!$B$2:$B$10000=O$1)*(Stocks!$C$2:$C$10000=$A48)*(ROW($3:$10001)-1)),0),\"\")","v":0},{"$f":"IFERROR(OFFSET(Stocks!$G$1,SUMPRODUCT((Stocks!$B$2:$B$10000=P$1)*(Stocks!$C$2:$C$10000=$A48)*(ROW($3:$10001)-1)),0),\"\")","v":0},{"$f":"IFERROR(OFFSET(Stocks!$G$1,SUMPRODUCT((Stocks!$B$2:$B$10000=Q$1)*(Stocks!$C$2:$C$10000=$A48)*(ROW($3:$10001)-1)),0),\"\")","v":0},{"$f":"IFERROR(OFFSET(Stocks!$G$1,SUMPRODUCT((Stocks!$B$2:$B$10000=R$1)*(Stocks!$C$2:$C$10000=$A48)*(ROW($3:$10001)-1)),0),\"\")","v":0},{"$f":"IFERROR(OFFSET(Stocks!$G$1,SUMPRODUCT((Stocks!$B$2:$B$10000=S$1)*(Stocks!$C$2:$C$10000=$A48)*(ROW($3:$10001)-1)),0),\"\")","v":0},{"$f":"IFERROR(OFFSET(Stocks!$G$1,SUMPRODUCT((Stocks!$B$2:$B$10000=T$1)*(Stocks!$C$2:$C$10000=$A48)*(ROW($3:$10001)-1)),0),\"\")","v":0},null,null,null,null,null,null,null,{"$f":"IFERROR(OFFSET(Stocks!$G$1,SUMPRODUCT((Stocks!$B$2:$B$10000=AB$1)*(Stocks!$C$2:$C$10000=$A48)*(ROW($3:$10001)-1)),0),\"\")","v":"Stock Réel"},{"$f":"IFERROR(OFFSET(Stocks!$G$1,SUMPRODUCT((Stocks!$B$2:$B$10000=AC$1)*(Stocks!$C$2:$C$10000=$A48)*(ROW($3:$10001)-1)),0),\"\")","v":"Stock Réel"},{"$f":"IFERROR(OFFSET(Stocks!$G$1,SUMPRODUCT((Stocks!$B$2:$B$10000=AD$1)*(Stocks!$C$2:$C$10000=$A48)*(ROW($3:$10001)-1)),0),\"\")","v":"Stock Réel"}]
["VM",null,null,null,null,null,null,null,{"$f":"IFERROR(OFFSET(Stocks!$G$1,SUMPRODUCT((Stocks!$B$2:$B$10000=I$1)*(Stocks!$C$2:$C$10000=$A49)*(ROW($3:$10001)-1)),0),\"\")","v":0},{"$f":"IFERROR(OFFSET(Stocks!$G$1,SUMPRODUCT((Stocks!$B$2:$B$10000=J$1)*(Stocks!$C$2:$C$10000=$A49)*(ROW($3:$10001)-1)),0),\"\")","v":0},{"$f":"IFERROR(OFFSET(Stocks!$G$1,SUMPRODUCT((Stocks!$B$2:$B$10000=K$1)*(Stocks!$C$2:$C$10000=$A49)*(ROW($3:$10001)-1)),0),\"\")","v":0},{"$f":"IFERROR(OFFSET(Stocks!$G$1,SUMPRODUCT((Stocks!$B$2:$B$10000=L$1)*(Stocks!$C$2:$C$10000=$A49)*(ROW($3:$10001)-1)),0),\"\")","v":0},{"$f":"IFERROR(OFFSET(Stocks!$G$1,SUMPRODUCT((Stocks!$B$2:$B$10000=M$1)*(Stocks!$C$2:$C$10000=$A49)*(ROW($3:$10001)-1)),0),\"\")","v":0},{"$f":"IFERROR(OFFSET(Stocks!$G$1,SUMPRODUCT((Stocks!$B$2:$B$10000=N$1)*(Stocks!$C$2:$C$10000=$A49)*(ROW($3:$10001)-1)),0),\"\")","v":0},{"$f":"IFERROR(OFFSET(Stocks!$G$1,SUMPRODUCT((Stocks!$B$2:$B$10000=O$1)*(Stocks!$C$2:$C$10000=$A49)*(ROW($3:$10001)-1)),0),\"\")","v":0},{"$f":"IFERROR(OFFSET(Stocks!$G$1,SUMPRODUCT((Stocks!$B$2:$B$10000=P$1)*(Stocks!$C$2:$C$10000=$A49)*(ROW($3:$10001)-1)),0),\"\")","v":0},{"$f":"IFERROR(OFFSET(Stocks!$G$1,SUMPRODUCT((Stocks!$B$2:$B$10000=Q$1)*(Stocks!$C$2:$C$10000=$A49)*(ROW($3:$10001)-1)),0),\"\")","v":0},{"$f":"IFERROR(OFFSET(Stocks!$G$1,SUMPRODUCT((Stocks!$B$2:$B$10000=R$1)*(Stocks!$C$2:$C$10000=$A49)*(ROW($3:$10001)-1)),0),\"\")","v":0},{"$f":"IFERROR(OFFSET(Stocks!$G$1,SUMPRODUCT((Stocks!$B$2:$B$10000=S$1)*(Stocks!$C$2:$C$10000=$A49)*(ROW($3:$10001)-1)),0),\"\")","v":0},{"$f":"IFERROR(OFFSET(Stocks!$G$1,SUMPRODUCT((Stocks!$B$2:$B$10000=T$1)*(Stocks!$C$2:$C$10000=$A49)*(ROW($3:$10001)-1)),0),\"\")","v":0},null,null,null,null,null,null,null,{"$f":"IFERROR(OFFSET(Stocks!$G$1,SUMPRODUCT((Stocks!$B$2:$B$10000=AB$1)*(Stocks!$C$2:$C$10000=$A49)*(ROW($3:$10001)-1)),0),\"\")","v":"Stock Réel"},{"$f":"IFERROR(OFFSET(Stocks!$G$1,SUMPRODUCT((Stocks!$B$2:$B$10000=AC$1)*(Stocks!$C$2:$C$10000=$A49)*(ROW($3:$10001)-1)),0),\"\")","v":"Stock Réel"},{"$f":"IFERROR(OFFSET(Stocks!$G$1,SUMPRODUCT((Stocks!$B$2:$B$10000=AD$1)*(Stocks!$C$2:$C$10000=$A49)*(ROW($3:$10001)-1)),0),\"\")","v":"Stock Réel"}]
["VP",null,null,null,null,null,null,null,{"$f":"IFERROR(OFFSET(Stocks!$G$1,SUMPRODUCT((Stocks!$B$2:$B$10000=I$1)*(Stocks!$C$2:$C$10000=$A50)*(ROW($3:$10001)-1)),0),\"\")","v":0},{"$f":"IFERROR(OFFSET(Stocks!$G$1,SUMPRODUCT((Stocks!$B$2:$B$10000=J$1)*(Stocks!$C$2:$C$10000=$A50)*(ROW($3:$10001)-1)),0),\"\")","v":0},{"$f":"IFERROR(OFFSET(Stocks!$G$1,SUMPRODUCT((Stocks!$B$2:$B$10000=K$1)*(Stocks!$C$2:$C$10000=$A50)*(ROW($3:$10001)-1)),0),\"\")","v":0},{"$f":"IFERROR(OFFSET(Stocks!$G$1,SUMPRODUCT((Stocks!$B$2:$B$10000=L$1)*(Stocks!$C$2:$C$10000=$A50)*(ROW($3:$10001)-1)),0),\"\")","v":0},{"$f":"IFERROR(OFFSET(Stocks!$G$1,SUMPRODUCT((Stocks!$B$2:$B$10000=M$1)*(Stocks!$C$2:$C$10000=$A50)*(ROW($3:$10001)-1)),0),\"\")","v":0},{"$f":"IFERROR(OFFSET(Stocks!$G$1,SUMPRODUCT((Stocks!$B$2:$B$10000=N$1)*(Stocks!$C$2:$C$10000=$A50)*(ROW($3:$10001)-1)),0),\"\")","v":0},{"$f":"IFERROR(OFFSET(Stocks!$G$1,SUMPRODUCT((Stocks!$B$2:$B$10000=O$1)*(Stocks!$C$2:$C$10000=$A50)*(ROW($3:$10001)-1)),0),\"\")","v":0},{"$f":"IFERROR(OFFSET(Stocks!$G$1,SUMPRODUCT((Stocks!$B$2:$B$10000=P$1)*(Stocks!$C$2:$C$10000=$A50)*(ROW($3:$10001)-1)),0),\"\")","v":0},{"$f":"IFERROR(OFFSET(Stocks!$G$1,SUMPRODUCT((Stocks!$B$2:$B$10000=Q$1)*(Stocks!$C$2:$C$10000=$A50)*(ROW($3:$10001)-1)),0),\"\")","v":0},{"$f":"IFERROR(OFFSET(Stocks!$G$1,SUMPRODUCT((Stocks!$B$2:$B$10000=R$1)*(Stocks!$C$2:$C$10000=$A50)*(ROW($3:$10001)-1)),0),\"\")","v":0},{"$f":"IFERROR(OFFSET(Stocks!$G$1,SUMPRODUCT((Stocks!$B$2:$B$10000=S$1)*(Stocks!$C$2:$C$10000=$A50)*(ROW($3:$10001)-1)),0),\"\")","v":0},{"$f":"IFERROR(OFFSET(Stocks!$G$1,SUMPRODUCT((Stocks!$B$2:$B$10000=T$1)*(Stocks!$C$2:$C$10000=$A50)*(ROW($3:$10001)-1)),0),\"\")","v":0},null,null,null,null,null,null,null,{"$f":"IFERROR(OFFSET(Stocks!$G$1,SUMPRODUCT((Stocks!$B$2:$B$10000=AB$1)*(Stocks!$C$2:$C$10000=$A50)*(ROW($3:$10001)-1)),0),\"\")","v":"Stock Réel"},{"$f":"IFERROR(OFFSET(Stocks!$G$1,SUMPRODUCT((Stocks!$B$2:$B$10000=AC$1)*(Stocks!$C$2:$C$10000=$A50)*(ROW($3:$10001)-1)),0),\"\")","v":"Stock Réel"},{"$f":"IFERROR(OFFSET(Stocks!$G$1,SUMPRODUCT((Stocks!$B$2:$B$10000=AD$1)*(Stocks!$C$2:$C$10000=$A50)*(ROW($3:$10001)-1)),0),\"\")","v":"Stock Réel"}]

{"sheet":"Recap Entree","index":4,"n_rows":50,"n_cols":30,"rows_kept":50,"cut":false,"hidden":false,"merged":[]}
[null,"CI N° 06","CI N° 08","CI N° 10","CI N° 12","CI N° 14","CI N° 16","CI N° 18","CS2T OR","CS2T ARG","CS2T NR","CS2T UNIS","CMK GM","CMK ARG","CMK FIN","FM04","F02 OR","F02 ARG","F02 NR","FTOUL",null,null,null,null,null,null,null,"GPU","GP4C","CA"]
["CI",{"$f":"IFERROR(OFFSET(Stocks!$E$1,SUMPRODUCT((Stocks!$B$2:$B$10000=B$1)*(Stocks!$C$2:$C$10000=$A2)*(ROW($3:$10001)-1)),0),\"\")","v":0},{"$f":"IFERROR(OFFSET(Stocks!$E$1,SUMPRODUCT((Stocks!$B$2:$B$10000=C$1)*(Stocks!$C$2:$C$10000=$A2)*(ROW($3:$10001)-1)),0),\"\")","v":0},{"$f":"IFERROR(OFFSET(Stocks!$E$1,SUMPRODUCT((Stocks!$B$2:$B$10000=D$1)*(Stocks!$C$2:$C$10000=$A2)*(ROW($3:$10001)-1)),0),\"\")","v":0},{"$f":"IFERROR(OFFSET(Stocks!$E$1,SUMPRODUCT((Stocks!$B$2:$B$10000=E$1)*(Stocks!$C$2:$C$10000=$A2)*(ROW($3:$10001)-1)),0),\"\")","v":0},{"$f":"IFERROR(OFFSET(Stocks!$E$1,SUMPRODUCT((Stocks!$B$2:$B$10000=F$1)*(Stocks!$C$2:$C$10000=$A2)*(ROW($3:$10001)-1)),0),\"\")","v":0},{"$f":"IFERROR(OFFSET(Stocks!$E$1,SUMPRODUCT((Stocks!$B$2:$B$10000=G$1)*(Stocks!$C$2:$C$10000=$A2)*(ROW($3:$10001)-1)),0),\"\")","v":0},{"$f":"IFERROR(OFFSET(Stocks!$E$1,SUMPRODUCT((Stocks!$B$2:$B$10000=H$1)*(Stocks!$C$2:$C$10000=$A2)*(ROW($3:$10001)-1)),0),\"\")","v":0},null,null,null,null,null,null,null,null,null,null,null,null,{"$f":"IFERROR(OFFSET(Stocks!$G$1,SUMPRODUCT((Stocks!$B$2:$B$10000=U$1)*(Stocks!$C$2:$C$10000=$A2)*(ROW($3:$10001)-1)),0),\"\")","v":"Stock Réel"},{"$f":"IFERROR(OFFSET(Stocks!$G$1,SUMPRODUCT((Stocks!$B$2:$B$10000=V$1)*(Stocks!$C$2:$C$10000=$A2)*(ROW($3:$10001)-1)),0),\"\")","v":"Stock Réel"},{"$f":"IFERROR(OFFSET(Stocks!$G$1,SUMPRODUCT((Stocks!$B$2:$B$10000=W$1)*(Stocks!$C$2:$C$10000=$A2)*(ROW($3:$10001)-1)),0),\"\")","v":"Stock Réel"},{"$f":"IFERROR(OFFSET(Stocks!$G$1,SUMPRODUCT((Stocks!$B$2:$B$10000=X$1)*(Stocks!$C$2:$C$10000=$A2)*(ROW($3:$10001)-1)),0),\"\")","v":"Stock Réel"},{"$f":"IFERROR(OFFSET(Stocks!$G$1,SUMPRODUCT((Stocks!$B$2:$B$10000=Y$1)*(Stocks!$C$2:$C$10000=$A2)*(ROW($3:$10001)-1)),0),\"\")","v":"Stock Réel"},{"$f":"IFERROR(OFFSET(Stocks!$G$1,SUMPRODUCT((Stocks!$B$2:$B$10000=Z$1)*(Stocks!$C$2:$C$10000=$A2)*(ROW($3:$10001)-1)),0),\"\")","v":"Stock Réel"},{"$f":"IFERROR(OFFSET(Stocks!$G$1,SUMPRODUCT((Stocks!$B$2:$B$10000=AA$1)*(Stocks!$C$2:$C$10000=$A2)*(ROW($3:$10001)-1)),0),\"\")","v":"Stock Réel"}]
["AUB",null,null,null,null,null,null,null,{"$f":"IFERROR(OFFSET(Stocks!$E$1,SUMPRODUCT((Stocks!$B$2:$B$10000=I$1)*(Stocks!$C$2:$C$10000=$A3)*(ROW($3:$10001)-1)),0),\"\")","v":0},{"$f":"IFERROR(OFFSET(Stocks!$E$1,SUMPRODUCT((Stocks!$B$2:$B$10000=J$1)*(Stocks!$C$2:$C$10000=$A3)*(ROW($3:$10001)-1)),0),\"\")","v":0},{"$f":"IFERROR(OFFSET(Stocks!$E$1,SUMPRODUCT((Stocks!$B$2:$B$10000=K$1)*(Stocks!$C$2:$C$10000=$A3)*(ROW($3:$10001)-1)),0),\"\")","v":0},{"$f":"IFERROR(OFFSET(Stocks!$E$1,SUMPRODUCT((Stocks!$B$2:$B$10000=L$1)*(Stocks!$C$2:$C$10000=$A3)*(ROW($3:$10001)-1)),0),\"\")","v":0},{"$f":"IFERROR(OFFSET(Stocks!$E$1,SUMPRODUCT((Stocks!$B$2:$B$10000=M$1)*(Stocks!$C$2:$C$10000=$A3)*(ROW($3:$10001)-1)),0),\"\")","v":0},{"$f":"IFERROR(OFFSET(Stocks!$E$1,SUMPRODUCT((Stocks!$B$2:$B$10000=N$1)*(Stocks!$C$2:$C$10000=$A3)*(ROW($3:$10001)-1)),0),\"\")","v":0},{"$f":"IFERROR(OFFSET(Stocks!$E$1,SUMPRODUCT((Stocks!$B$2:$B$10000=O$1)*(Stocks!$C$2:$C$10000=$A3)*(ROW($3:$10001)-1)),0),\"\")","v":0},{"$f":"IFERROR(OFFSET(Stocks!$E$1,SUMPRODUCT((Stocks!$B$2:$B$10000=P$1)*(Stocks!$C$2:$C$10000=$A3)*(ROW($3:$10001)-1)),0),\"\")","v":0},{"$f":"IFERROR(OFFSET(Stocks!$E$1,SUMPRODUCT((Stocks!$B$2:$B$10000=Q$1)*(Stocks!$C$2:$C$10000=$A3)*(ROW($3:$10001)-1)),0),\"\")","v":0},{"$f":"IFERROR(OFFSET(Stocks!$E$1,SUMPRODUCT((Stocks!$B$2:$B$10000=R$1)*(Stocks!$C$2:$C$10000=$A3)*(ROW($3:$10001)-1)),0),\"\")","v":0},{"$f":"IFERROR(OFFSET(Stocks!$E$1,SUMPRODUCT((Stocks!$B$2:$B$10000=S$1)*(Stocks!$C$2:$C$10000=$A3)*(ROW($3:$10001)-1)),0),\"\")","v":0},{"$f":"IFERROR(OFFSET(Stocks!$E$1,SUMPRODUCT((Stocks!$B$2:$B$10000=T$1)*(Stocks!$C$2:$C$10000=$A3)*(ROW($3:$10001)-1)),0),\"\")","v":0},null,null,null,null,null,null,null,{"$f":"IFERROR(OFFSET(Stocks!$G$1,SUMPRODUCT((Stocks!$B$2:$B$10000=AB$1)*(Stocks!$C$2:$C$10000=$A3)*(ROW($3:$10001)-1)),0),\"\")","v":"Stock Réel"},{"$f":"IFERROR(OFFSET(Stocks!$G$1,SUMPRODUCT((Stocks!$B$2:$B$10000=AC$1)*(Stocks!$C$2:$C$10000=$A3)*(ROW($3:$10001)-1)),0),\"\")","v":"Stock Réel"},{"$f":"IFERROR(OFFSET(Stocks!$G$1,SUMPRODUCT((Stocks!$B$2:$B$10000=AD$1)*(Stocks!$C$2:$C$10000=$A3)*(ROW($3:$10001)-1)),0),\"\")","v":"Stock Réel"}]
["BE",null,null,null,null,null,null,null,{"$f":"IFERROR(OFFSET(Stocks!$E$1,SUMPRODUCT((Stocks!$B$2:$B$10000=I$1)*(Stocks!$C$2:$C$10000=$A4)*(ROW($3:$10001)-1)),0),\"\")","v":0},{"$f":"IFERROR(OFFSET(Stocks!$E$1,SUMPRODUCT((Stocks!$B$2:$B$10000=J$1)*(Stocks!$C$2:$C$10000=$A4)*(ROW($3:$10001)-1)),0),\"\")","v":0},{"$f":"IFERROR(OFFSET(Stocks!$E$1,SUMPRODUCT((Stocks!$B$2:$B$10000=K$1)*(Stocks!$C$2:$C$10000=$A4)*(ROW($3:$10001)-1)),0),\"\")","v":0},{"$f":"IFERROR(OFFSET(Stocks!$E$1,SUMPRODUCT((Stocks!$B$2:$B$10000=L$1)*(Stocks!$C$2:$C$10000=$A4)*(ROW($3:$10001)-1)),0),\"\")","v":0},{"$f":"IFERROR(OFFSET(Stocks!$E$1,SUMPRODUCT((Stocks!$B$2:$B$10000=M$1)*(Stocks!$C$2:$C$10000=$A4)*(ROW($3:$10001)-1)),0),\"\")","v":0},{"$f":"IFERROR(OFFSET(Stocks!$E$1,SUMPRODUCT((Stocks!$B$2:$B$10000=N$1)*(Stocks!$C$2:$C$10000=$A4)*(ROW($3:$10001)-1)),0),\"\")","v":0},{"$f":"IFERROR(OFFSET(Stocks!$E$1,SUMPRODUCT((Stocks!$B$2:$B$10000=O$1)*(Stocks!$C$2:$C$10000=$A4)*(ROW($3:$10001)-1)),0),\"\")","v":0},{"$f":"IFERROR(OFFSET(Stocks!$E$1,SUMPRODUCT((Stocks!$B$2:$B$10000=P$1)*(Stocks!$C$2:$C$10000=$A4)*(ROW($3:$10001)-1)),0),\"\")","v":0},{"$f":"IFERROR(OFFSET(Stocks!$E$1,SUMPRODUCT((Stocks!$B$2:$B$10000=Q$1)*(Stocks!$C$2:$C$10000=$A4)*(ROW($3:$10001)-1)),0),\"\")","v":0},{"$f":"IFERROR(OFFSET(Stocks!$E$1,SUMPRODUCT((Stocks!$B$2:$B$10000=R$1)*(Stocks!$C$2:$C$10000=$A4)*(ROW($3:$10001)-1)),0),\"\")","v":0},{"$f":"IFERROR(OFFSET(Stocks!$E$1,SUMPRODUCT((Stocks!$B$2:$B$10000=S$1)*(Stocks!$C$2:$C$10000=$A4)*(ROW($3:$10001)-1)),0),\"\")","v":0},{"$f":"IFERROR(OFFSET(Stocks!$E$1,SUMPRODUCT((Stocks!$B$2:$B$10000=T$1)*(Stocks!$C$2:$C$10000=$A4)*(ROW($3:$10001)-1)),0),\"\")","v":0},null,null,null,null,null,null,null,{"$f":"IFERROR(OFFSET(Stocks!$G$1,SUMPRODUCT((Stocks!$B$2:$B$10000=AB$1)*(Stocks!$C$2:$C$10000=$A4)*(ROW($3:$10001)-1)),0),\"\")","v":"Stock Réel"},{"$f":"IFERROR(OFFSET(Stocks!$G$1,SUMPRODUCT((Stocks!$B$2:$B$10000=AC$1)*(Stocks!$C$2:$C$10000=$A4)*(ROW($3:$10001)-1)),0),\"\")","v":"Stock Réel"},{"$f":"IFERROR(OFFSET(Stocks!$G$1,SUMPRODUCT((Stocks!$B$2:$B$10000=AD$1)*(Stocks!$C$2:$C$10000=$A4)*(ROW($3:$10001)-1)),0),\"\")","v":"Stock Réel"}]
["BEOR",null,null,null,null,null,null,null,{"$f":"IFERROR(OFFSET(Stocks!$E$1,SUMPRODUCT((Stocks!$B$2:$B$10000=I$1)*(Stocks!$C$2:$C$10000=$A5)*(ROW($3:$10001)-1)),0),\"\")","v":0},{"$f":"IFERROR(OFFSET(Stocks!$E$1,SUMPRODUCT((Stocks!$B$2:$B$10000=J$1)*(Stocks!$C$2:$C$10000=$A5)*(ROW($3:$10001)-1)),0),\"\")","v":0},{"$f":"IFERROR(OFFSET(Stocks!$E$1,SUMPRODUCT((Stocks!$B$2:$B$10000=K$1)*(Stocks!$C$2:$C$10000=$A5)*(ROW($3:$10001)-1)),0),\"\")","v":0},{"$f":"IFERROR(OFFSET(Stocks!$E$1,SUMPRODUCT((Stocks!$B$2:$B$10000=L$1)*(Stocks!$C$2:$C$10000=$A5)*(ROW($3:$10001)-1)),0),\"\")","v":0},{"$f":"IFERROR(OFFSET(Stocks!$E$1,SUMPRODUCT((Stocks!$B$2:$B$10000=M$1)*(Stocks!$C$2:$C$10000=$A5)*(ROW($3:$10001)-1)),0),\"\")","v":0},{"$f":"IFERROR(OFFSET(Stocks!$E$1,SUMPRODUCT((Stocks!$B$2:$B$10000=N$1)*(Stocks!$C$2:$C$10000=$A5)*(ROW($3:$10001)-1)),0),\"\")","v":0},{"$f":"IFERROR(OFFSET(Stocks!$E$1,SUMPRODUCT((Stocks!$B$2:$B$10000=O$1)*(Stocks!$C$2:$C$10000=$A5)*(ROW($3:$10001)-1)),0),\"\")","v":0},{"$f":"IFERROR(OFFSET(Stocks!$E$1,SUMPRODUCT((Stocks!$B$2:$B$10000=P$1)*(Stocks!$C$2:$C$10000=$A5)*(ROW($3:$10001)-1)),0),\"\")","v":0},{"$f":"IFERROR(OFFSET(Stocks!$E$1,SUMPRODUCT((Stocks!$B$2:$B$10000=Q$1)*(Stocks!$C$2:$C$10000=$A5)*(ROW($3:$10001)-1)),0),\"\")","v":0},{"$f":"IFERROR(OFFSET(Stocks!$E$1,SUMPRODUCT((Stocks!$B$2:$B$10000=R$1)*(Stocks!$C$2:$C$10000=$A5)*(ROW($3:$10001)-1)),0),\"\")","v":0},{"$f":"IFERROR(OFFSET(Stocks!$E$1,SUMPRODUCT((Stocks!$B$2:$B$10000=S$1)*(Stocks!$C$2:$C$10000=$A5)*(ROW($3:$10001)-1)),0),\"\")","v":0},{"$f":"IFERROR(OFFSET(Stocks!$E$1,SUMPRODUCT((Stocks!$B$2:$B$10000=T$1)*(Stocks!$C$2:$C$10000=$A5)*(ROW($3:$10001)-1)),0),\"\")","v":0},null,null,null,null,null,null,null,{"$f":"IFERROR(OFFSET(Stocks!$G$1,SUMPRODUCT((Stocks!$B$2:$B$10000=AB$1)*(Stocks!$C$2:$C$10000=$A5)*(ROW($3:$10001)-1)),0),\"\")","v":"Stock Réel"},{"$f":"IFERROR(OFFSET(Stocks!$G$1,SUMPRODUCT((Stocks!$B$2:$B$10000=AC$1)*(Stocks!$C$2:$C$10000=$A5)*(ROW($3:$10001)-1)),0),\"\")","v":"Stock Réel"},{"$f":"IFERROR(OFFSET(Stocks!$G$1,SUMPRODUCT((Stocks!$B$2:$B$10000=AD$1)*(Stocks!$C$2:$C$10000=$A5)*(ROW($3:$10001)-1)),0),\"\")","v":"Stock Réel"}]
["BEF",null,null,null,null,null,null,null,{"$f":"IFERROR(OFFSET(Stocks!$E$1,SUMPRODUCT((Stocks!$B$2:$B$10000=I$1)*(Stocks!$C$2:$C$10000=$A6)*(ROW($3:$10001)-1)),0),\"\")","v":0},{"$f":"IFERROR(OFFSET(Stocks!$E$1,SUMPRODUCT((Stocks!$B$2:$B$10000=J$1)*(Stocks!$C$2:$C$10000=$A6)*(ROW($3:$10001)-1)),0),\"\")","v":0},{"$f":"IFERROR(OFFSET(Stocks!$E$1,SUMPRODUCT((Stocks!$B$2:$B$10000=K$1)*(Stocks!$C$2:$C$10000=$A6)*(ROW($3:$10001)-1)),0),\"\")","v":0},{"$f":"IFERROR(OFFSET(Stocks!$E$1,SUMPRODUCT((Stocks!$B$2:$B$10000=L$1)*(Stocks!$C$2:$C$10000=$A6)*(ROW($3:$10001)-1)),0),\"\")","v":0},{"$f":"IFERROR(OFFSET(Stocks!$E$1,SUMPRODUCT((Stocks!$B$2:$B$10000=M$1)*(Stocks!$C$2:$C$10000=$A6)*(ROW($3:$10001)-1)),0),\"\")","v":0},{"$f":"IFERROR(OFFSET(Stocks!$E$1,SUMPRODUCT((Stocks!$B$2:$B$10000=N$1)*(Stocks!$C$2:$C$10000=$A6)*(ROW($3:$10001)-1)),0),\"\")","v":0},{"$f":"IFERROR(OFFSET(Stocks!$E$1,SUMPRODUCT((Stocks!$B$2:$B$10000=O$1)*(Stocks!$C$2:$C$10000=$A6)*(ROW($3:$10001)-1)),0),\"\")","v":0},{"$f":"IFERROR(OFFSET(Stocks!$E$1,SUMPRODUCT((Stocks!$B$2:$B$10000=P$1)*(Stocks!$C$2:$C$10000=$A6)*(ROW($3:$10001)-1)),0),\"\")","v":0},{"$f":"IFERROR(OFFSET(Stocks!$E$1,SUMPRODUCT((Stocks!$B$2:$B$10000=Q$1)*(Stocks!$C$2:$C$10000=$A6)*(ROW($3:$10001)-1)),0),\"\")","v":0},{"$f":"IFERROR(OFFSET(Stocks!$E$1,SUMPRODUCT((Stocks!$B$2:$B$10000=R$1)*(Stocks!$C$2:$C$10000=$A6)*(ROW($3:$10001)-1)),0),\"\")","v":0},{"$f":"IFERROR(OFFSET(Stocks!$E$1,SUMPRODUCT((Stocks!$B$2:$B$10000=S$1)*(Stocks!$C$2:$C$10000=$A6)*(ROW($3:$10001)-1)),0),\"\")","v":0},{"$f":"IFERROR(OFFSET(Stocks!$E$1,SUMPRODUCT((Stocks!$B$2:$B$10000=T$1)*(Stocks!$C$2:$C$10000=$A6)*(ROW($3:$10001)-1)),0),\"\")","v":0},null,null,null,null,null,null,null,{"$f":"IFERROR(OFFSET(Stocks!$G$1,SUMPRODUCT((Stocks!$B$2:$B$10000=AB$1)*(Stocks!$C$2:$C$10000=$A6)*(ROW($3:$10001)-1)),0),\"\")","v":"Stock Réel"},{"$f":"IFERROR(OFFSET(Stocks!$G$1,SUMPRODUCT((Stocks!$B$2:$B$10000=AC$1)*(Stocks!$C$2:$C$10000=$A6)*(ROW($3:$10001)-1)),0),\"\")","v":"Stock Réel"},{"$f":"IFERROR(OFFSET(Stocks!$G$1,SUMPRODUCT((Stocks!$B$2:$B$10000=AD$1)*(Stocks!$C$2:$C$10000=$A6)*(ROW($3:$10001)-1)),0),\"\")","v":"Stock Réel"}]
["BF",null,null,null,null,null,null,null,{"$f":"IFERROR(OFFSET(Stocks!$E$1,SUMPRODUCT((Stocks!$B$2:$B$10000=I$1)*(Stocks!$C$2:$C$10000=$A7)*(ROW($3:$10001)-1)),0),\"\")","v":0},{"$f":"IFERROR(OFFSET(Stocks!$E$1,SUMPRODUCT((Stocks!$B$2:$B$10000=J$1)*(Stocks!$C$2:$C$10000=$A7)*(ROW($3:$10001)-1)),0),\"\")","v":0},{"$f":"IFERROR(OFFSET(Stocks!$E$1,SUMPRODUCT((Stocks!$B$2:$B$10000=K$1)*(Stocks!$C$2:$C$10000=$A7)*(ROW($3:$10001)-1)),0),\"\")","v":0},{"$f":"IFERROR(OFFSET(Stocks!$E$1,SUMPRODUCT((Stocks!$B$2:$B$10000=L$1)*(Stocks!$C$2:$C$10000=$A7)*(ROW($3:$10001)-1)),0),\"\")","v":0},{"$f":"IFERROR(OFFSET(Stocks!$E$1,SUMPRODUCT((Stocks!$B$2:$B$10000=M$1)*(Stocks!$C$2:$C$10000=$A7)*(ROW($3:$10001)-1)),0),\"\")","v":0},{"$f":"IFERROR(OFFSET(Stocks!$E$1,SUMPRODUCT((Stocks!$B$2:$B$10000=N$1)*(Stocks!$C$2:$C$10000=$A7)*(ROW($3:$10001)-1)),0),\"\")","v":0},{"$f":"IFERROR(OFFSET(Stocks!$E$1,SUMPRODUCT((Stocks!$B$2:$B$10000=O$1)*(Stocks!$C$2:$C$10000=$A7)*(ROW($3:$10001)-1)),0),\"\")","v":0},{"$f":"IFERROR(OFFSET(Stocks!$E$1,SUMPRODUCT((Stocks!$B$2:$B$10000=P$1)*(Stocks!$C$2:$C$10000=$A7)*(ROW($3:$10001)-1)),0),\"\")","v":0},{"$f":"IFERROR(OFFSET(Stocks!$E$1,SUMPRODUCT((Stocks!$B$2:$B$10000=Q$1)*(Stocks!$C$2:$C$10000=$A7)*(ROW($3:$10001)-1)),0),\"\")","v":0},{"$f":"IFERROR(OFFSET(Stocks!$E$1,SUMPRODUCT((Stocks!$B$2:$B$10000=R$1)*(Stocks!$C$2:$C$10000=$A7)*(ROW($3:$10001)-1)),0),\"\")","v":0},{"$f":"IFERROR(OFFSET(Stocks!$E$1,SUMPRODUCT((Stocks!$B$2:$B$10000=S$1)*(Stocks!$C$2:$C$10000=$A7)*(ROW($3:$10001)-1)),0),\"\")","v":0},{"$f":"IFERROR(OFFSET(Stocks!$E$1,SUMPRODUCT((Stocks!$B$2:$B$10000=T$1)*(Stocks!$C$2:$C$10000=$A7)*(ROW($3:$10001)-1)),0),\"\")","v":0},null,null,null,null,null,null,null,{"$f":"IFERROR(OFFSET(Stocks!$G$1,SUMPRODUCT((Stocks!$B$2:$B$10000=AB$1)*(Stocks!$C$2:$C$10000=$A7)*(ROW($3:$10001)-1)),0),\"\")","v":"Stock Réel"},{"$f":"IFERROR(OFFSET(Stocks!$G$1,SUMPRODUCT((Stocks!$B$2:$B$10000=AC$1)*(Stocks!$C$2:$C$10000=$A7)*(ROW($3:$10001)-1)),0),\"\")","v":"Stock Réel"},{"$f":"IFERROR(OFFSET(Stocks!$G$1,SUMPRODUCT((Stocks!$B$2:$B$10000=AD$1)*(Stocks!$C$2:$C$10000=$A7)*(ROW($3:$10001)-1)),0),\"\")","v":"Stock Réel"}]
["BL",null,null,null,null,null,null,null,{"$f":"IFERROR(OFFSET(Stocks!$E$1,SUMPRODUCT((Stocks!$B$2:$B$10000=I$1)*(Stocks!$C$2:$C$10000=$A8)*(ROW($3:$10001)-1)),0),\"\")","v":0},{"$f":"IFERROR(OFFSET(Stocks!$E$1,SUMPRODUCT((Stocks!$B$2:$B$10000=J$1)*(Stocks!$C$2:$C$10000=$A8)*(ROW($3:$10001)-1)),0),\"\")","v":0},{"$f":"IFERROR(OFFSET(Stocks!$E$1,SUMPRODUCT((Stocks!$B$2:$B$10000=K$1)*(Stocks!$C$2:$C$10000=$A8)*(ROW($3:$10001)-1)),0),\"\")","v":0},{"$f":"IFERROR(OFFSET(Stocks!$E$1,SUMPRODUCT((Stocks!$B$2:$B$10000=L$1)*(Stocks!$C$2:$C$10000=$A8)*(ROW($3:$10001)-1)),0),\"\")","v":0},{"$f":"IFERROR(OFFSET(Stocks!$E$1,SUMPRODUCT((Stocks!$B$2:$B$10000=M$1)*(Stocks!$C$2:$C$10000=$A8)*(ROW($3:$10001)-1)),0),\"\")","v":0},{"$f":"IFERROR(OFFSET(Stocks!$E$1,SUMPRODUCT((Stocks!$B$2:$B$10000=N$1)*(Stocks!$C$2:$C$10000=$A8)*(ROW($3:$10001)-1)),0),\"\")","v":0},{"$f":"IFERROR(OFFSET(Stocks!$E$1,SUMPRODUCT((Stocks!$B$2:$B$10000=O$1)*(Stocks!$C$2:$C$10000=$A8)*(ROW($3:$10001)-1)),0),\"\")","v":0},{"$f":"IFERROR(OFFSET(Stocks!$E$1,SUMPRODUCT((Stocks!$B$2:$B$10000=P$1)*(Stocks!$C$2:$C$10000=$A8)*(ROW($3:$10001)-1)),0),\"\")","v":0},{"$f":"IFERROR(OFFSET(Stocks!$E$1,SUMPRODUCT((Stocks!$B$2:$B$10000=Q$1)*(Stocks!$C$2:$C$10000=$A8)*(ROW($3:$10001)-1)),0),\"\")","v":0},{"$f":"IFERROR(OFFSET(Stocks!$E$1,SUMPRODUCT((Stocks!$B$2:$B$10000=R$1)*(Stocks!$C$2:$C$10000=$A8)*(ROW($3:$10001)-1)),0),\"\")","v":0},{"$f":"IFERROR(OFFSET(Stocks!$E$1,SUMPRODUCT((Stocks!$B$2:$B$10000=S$1)*(Stocks!$C$2:$C$10000=$A8)*(ROW($3:$10001)-1)),0),\"\")","v":0},{"$f":"IFERROR(OFFSET(Stocks!$E$1,SUMPRODUCT((Stocks!$B$2:$B$10000=T$1)*(Stocks!$C$2:$C$10000=$A8)*(ROW($3:$10001)-1)),0),\"\")","v":0},null,null,null,null,null,null,null,{"$f":"IFERROR(OFFSET(Stocks!$G$1,SUMPRODUCT((Stocks!$B$2:$B$10000=AB$1)*(Stocks!$C$2:$C$10000=$A8)*(ROW($3:$10001)-1)),0),\"\")","v":"Stock Réel"},{"$f":"IFERROR(OFFSET(Stocks!$G$1,SUMPRODUCT((Stocks!$B$2:$B$10000=AC$1)*(Stocks!$C$2:$C$10000=$A8)*(ROW($3:$10001)-1)),0),\"\")","v":"Stock Réel"},{"$f":"IFERROR(OFFSET(Stocks!$G$1,SUMPRODUCT((Stocks!$B$2:$B$10000=AD$1)*(Stocks!$C$2:$C$10000=$A8)*(ROW($3:$10001)-1)),0),\"\")","v":"Stock Réel"}]
["BLC",null,null,null,null,null,null,null,{"$f":"IFERROR(OFFSET(Stocks!$E$1,SUMPRODUCT((Stocks!$B$2:$B$10000=I$1)*(Stocks!$C$2:$C$10000=$A9)*(ROW($3:$10001)-1)),0),\"\")","v":0},{"$f":"IFERROR(OFFSET(Stocks!$E$1,SUMPRODUCT((Stocks!$B$2:$B$10000=J$1)*(Stocks!$C$2:$C$10000=$A9)*(ROW($3:$10001)-1)),0),\"\")","v":0},{"$f":"IFERROR(OFFSET(Stocks!$E$1,SUMPRODUCT((Stocks!$B$2:$B$10000=K$1)*(Stocks!$C$2:$C$10000=$A9)*(ROW($3:$10001)-1)),0),\"\")","v":0},{"$f":"IFERROR(OFFSET(Stocks!$E$1,SUMPRODUCT((Stocks!$B$2:$B$10000=L$1)*(Stocks!$C$2:$C$10000=$A9)*(ROW($3:$10001)-1)),0),\"\")","v":0},{"$f":"IFERROR(OFFSET(Stocks!$E$1,SUMPRODUCT((Stocks!$B$2:$B$10000=M$1)*(Stocks!$C$2:$C$10000=$A9)*(ROW($3:$10001)-1)),0),\"\")","v":0},{"$f":"IFERROR(OFFSET(Stocks!$E$1,SUMPRODUCT((Stocks!$B$2:$B$10000=N$1)*(Stocks!$C$2:$C$10000=$A9)*(ROW($3:$10001)-1)),0),\"\")","v":0},{"$f":"IFERROR(OFFSET(Stocks!$E$1,SUMPRODUCT((Stocks!$B$2:$B$10000=O$1)*(Stocks!$C$2:$C$10000=$A9)*(ROW($3:$10001)-1)),0),\"\")","v":0},{"$f":"IFERROR(OFFSET(Stocks!$E$1,SUMPRODUCT((Stocks!$B$2:$B$10000=P$1)*(Stocks!$C$2:$C$10000=$A9)*(ROW($3:$10001)-1)),0),\"\")","v":0},{"$f":"IFERROR(OFFSET(Stocks!$E$1,SUMPRODUCT((Stocks!$B$2:$B$10000=Q$1)*(Stocks!$C$2:$C$10000=$A9)*(ROW($3:$10001)-1)),0),\"\")","v":0},{"$f":"IFERROR(OFFSET(Stocks!$E$1,SUMPRODUCT((Stocks!$B$2:$B$10000=R$1)*(Stocks!$C$2:$C$10000=$A9)*(ROW($3:$10001)-1)),0),\"\")","v":0},{"$f":"IFERROR(OFFSET(Stocks!$E$1,SUMPRODUCT((Stocks!$B$2:$B$10000=S$1)*(Stocks!$C$2:$C$10000=$A9)*(ROW($3:$10001)-1)),0),\"\")","v":0},{"$f":"IFERROR(OFFSET(Stocks!$E$1,SUMPRODUCT((Stocks!$B$2:$B$10000=T$1)*(Stocks!$C$2:$C$10000=$A9)*(ROW($3:$10001)-1)),0),\"\")","v":0},null,null,null,null,null,null,null,{"$f":"IFERROR(OFFSET(Stocks!$G$1,SUMPRODUCT((Stocks!$B$2:$B$10000=AB$1)*(Stocks!$C$2:$C$10000=$A9)*(ROW($3:$10001)-1)),0),\"\")","v":"Stock Réel"},{"$f":"IFERROR(OFFSET(Stocks!$G$1,SUMPRODUCT((Stocks!$B$2:$B$10000=AC$1)*(Stocks!$C$2:$C$10000=$A9)*(ROW($3:$10001)-1)),0),\"\")","v":"Stock Réel"},{"$f":"IFERROR(OFFSET(Stocks!$G$1,SUMPRODUCT((Stocks!$B$2:$B$10000=AD$1)*(Stocks!$C$2:$C$10000=$A9)*(ROW($3:$10001)-1)),0),\"\")","v":"Stock Réel"}]
["BLCc",null,null,null,null,null,null,null,{"$f":"IFERROR(OFFSET(Stocks!$E$1,SUMPRODUCT((Stocks!$B$2:$B$10000=I$1)*(Stocks!$C$2:$C$10000=$A10)*(ROW($3:$10001)-1)),0),\"\")","v":0},{"$f":"IFERROR(OFFSET(Stocks!$E$1,SUMPRODUCT((Stocks!$B$2:$B$10000=J$1)*(Stocks!$C$2:$C$10000=$A10)*(ROW($3:$10001)-1)),0),\"\")","v":0},{"$f":"IFERROR(OFFSET(Stocks!$E$1,SUMPRODUCT((Stocks!$B$2:$B$10000=K$1)*(Stocks!$C$2:$C$10000=$A10)*(ROW($3:$10001)-1)),0),\"\")","v":0},{"$f":"IFERROR(OFFSET(Stocks!$E$1,SUMPRODUCT((Stocks!$B$2:$B$10000=L$1)*(Stocks!$C$2:$C$10000=$A10)*(ROW($3:$10001)-1)),0),\"\")","v":0},{"$f":"IFERROR(OFFSET(Stocks!$E$1,SUMPRODUCT((Stocks!$B$2:$B$10000=M$1)*(Stocks!$C$2:$C$10000=$A10)*(ROW($3:$10001)-1)),0),\"\")","v":0},{"$f":"IFERROR(OFFSET(Stocks!$E$1,SUMPRODUCT((Stocks!$B$2:$B$10000=N$1)*(Stocks!$C$2:$C$10000=$A10)*(ROW($3:$10001)-1)),0),\"\")","v":0},{"$f":"IFERROR(OFFSET(Stocks!$E$1,SUMPRODUCT((Stocks!$B$2:$B$10000=O$1)*(Stocks!$C$2:$C$10000=$A10)*(ROW($3:$10001)-1)),0),\"\")","v":0},{"$f":"IFERROR(OFFSET(Stocks!$E$1,SUMPRODUCT((Stocks!$B$2:$B$10000=P$1)*(Stocks!$C$2:$C$10000=$A10)*(ROW($3:$10001)-1)),0),\"\")","v":0},{"$f":"IFERROR(OFFSET(Stocks!$E$1,SUMPRODUCT((Stocks!$B$2:$B$10000=Q$1)*(Stocks!$C$2:$C$10000=$A10)*(ROW($3:$10001)-1)),0),\"\")","v":0},{"$f":"IFERROR(OFFSET(Stocks!$E$1,SUMPRODUCT((Stocks!$B$2:$B$10000=R$1)*(Stocks!$C$2:$C$10000=$A10)*(ROW($3:$10001)-1)),0),\"\")","v":0},{"$f":"IFERROR(OFFSET(Stocks!$E$1,SUMPRODUCT((Stocks!$B$2:$B$10000=S$1)*(Stocks!$C$2:$C$10000=$A10)*(ROW($3:$10001)-1)),0),\"\")","v":0},{"$f":"IFERROR(OFFSET(Stocks!$E$1,SUMPRODUCT((Stocks!$B$2:$B$10000=T$1)*(Stocks!$C$2:$C$10000=$A10)*(ROW($3:$10001)-1)),0),\"\")","v":0},null,null,null,null,null,null,null,{"$f":"IFERROR(OFFSET(Stocks!$G$1,SUMPRODUCT((Stocks!$B$2:$B$10000=AB$1)*(Stocks!$C$2:$C$10000=$A10)*(ROW($3:$10001)-1)),0),\"\")","v":"Stock Réel"},{"$f":"IFERROR(OFFSET(Stocks!$G$1,SUMPRODUCT((Stocks!$B$2:$B$10000=AC$1)*(Stocks!$C$2:$C$10000=$A10)*(ROW($3:$10001)-1)),0),\"\")","v":"Stock Réel"},{"$f":"IFERROR(OFFSET(Stocks!$G$1,SUMPRODUCT((Stocks!$B$2:$B$10000=AD$1)*(Stocks!$C$2:$C$10000=$A10)*(ROW($3:$10001)-1)),0),\"\")","v":"Stock Réel"}]
["BLR",null,null,null,null,null,null,null,{"$f":"IFERROR(OFFSET(Stocks!$E$1,SUMPRODUCT((Stocks!$B$2:$B$10000=I$1)*(Stocks!$C$2:$C$10000=$A11)*(ROW($3:$10001)-1)),0),\"\")","v":0},{"$f":"IFERROR(OFFSET(Stocks!$E$1,SUMPRODUCT((Stocks!$B$2:$B$10000=J$1)*(Stocks!$C$2:$C$10000=$A11)*(ROW($3:$10001)-1)),0),\"\")","v":0},{"$f":"IFERROR(OFFSET(Stocks!$E$1,SUMPRODUCT((Stocks!$B$2:$B$10000=K$1)*(Stocks!$C$2:$C$10000=$A11)*(ROW($3:$10001)-1)),0),\"\")","v":0},{"$f":"IFERROR(OFFSET(Stocks!$E$1,SUMPRODUCT((Stocks!$B$2:$B$10000=L$1)*(Stocks!$C$2:$C$10000=$A11)*(ROW($3:$10001)-1)),0),\"\")","v":0},{"$f":"IFERROR(OFFSET(Stocks!$E$1,SUMPRODUCT((Stocks!$B$2:$B$10000=M$1)*(Stocks!$C$2:$C$10000=$A11)*(ROW($3:$10001)-1)),0),\"\")","v":0},{"$f":"IFERROR(OFFSET(Stocks!$E$1,SUMPRODUCT((Stocks!$B$2:$B$10000=N$1)*(Stocks!$C$2:$C$10000=$A11)*(ROW($3:$10001)-1)),0),\"\")","v":0},{"$f":"IFERROR(OFFSET(Stocks!$E$1,SUMPRODUCT((Stocks!$B$2:$B$10000=O$1)*(Stocks!$C$2:$C$10000=$A11)*(ROW($3:$10001)-1)),0),\"\")","v":0},{"$f":"IFERROR(OFFSET(Stocks!$E$1,SUMPRODUCT((Stocks!$B$2:$B$10000=P$1)*(Stocks!$C$2:$C$10000=$A11)*(ROW($3:$10001)-1)),0),\"\")","v":0},{"$f":"IFERROR(OFFSET(Stocks!$E$1,SUMPRODUCT((Stocks!$B$2:$B$10000=Q$1)*(Stocks!$C$2:$C$10000=$A11)*(ROW($3:$10001)-1)),0),\"\")","v":0},{"$f":"IFERROR(OFFSET(Stocks!$E$1,SUMPRODUCT((Stocks!$B$2:$B$10000=R$1)*(Stocks!$C$2:$C$10000=$A11)*(ROW($3:$10001)-1)),0),\"\")","v":0},{"$f":"IFERROR(OFFSET(Stocks!$E$1,SUMPRODUCT((Stocks!$B$2:$B$10000=S$1)*(Stocks!$C$2:$C$10000=$A11)*(ROW($3:$10001)-1)),0),\"\")","v":0},{"$f":"IFERROR(OFFSET(Stocks!$E$1,SUMPRODUCT((Stocks!$B$2:$B$10000=T$1)*(Stocks!$C$2:$C$10000=$A11)*(ROW($3:$10001)-1)),0),\"\")","v":0},null,null,null,null,null,null,null,{"$f":"IFERROR(OFFSET(Stocks!$G$1,SUMPRODUCT((Stocks!$B$2:$B$10000=AB$1)*(Stocks!$C$2:$C$10000=$A11)*(ROW($3:$10001)-1)),0),\"\")","v":"Stock Réel"},{"$f":"IFERROR(OFFSET(Stocks!$G$1,SUMPRODUCT((Stocks!$B$2:$B$10000=AC$1)*(Stocks!$C$2:$C$10000=$A11)*(ROW($3:$10001)-1)),0),\"\")","v":"Stock Réel"},{"$f":"IFERROR(OFFSET(Stocks!$G$1,SUMPRODUCT((Stocks!$B$2:$B$10000=AD$1)*(Stocks!$C$2:$C$10000=$A11)*(ROW($3:$10001)-1)),0),\"\")","v":"Stock Réel"}]
["BO",null,null,null,null,null,null,null,{"$f":"IFERROR(OFFSET(Stocks!$E$1,SUMPRODUCT((Stocks!$B$2:$B$10000=I$1)*(Stocks!$C$2:$C$10000=$A12)*(ROW($3:$10001)-1)),0),\"\")","v":0},{"$f":"IFERROR(OFFSET(Stocks!$E$1,SUMPRODUCT((Stocks!$B$2:$B$10000=J$1)*(Stocks!$C$2:$C$10000=$A12)*(ROW($3:$10001)-1)),0),\"\")","v":0},{"$f":"IFERROR(OFFSET(Stocks!$E$1,SUMPRODUCT((Stocks!$B$2:$B$10000=K$1)*(Stocks!$C$2:$C$10000=$A12)*(ROW($3:$10001)-1)),0),\"\")","v":0},{"$f":"IFERROR(OFFSET(Stocks!$E$1,SUMPRODUCT((Stocks!$B$2:$B$10000=L$1)*(Stocks!$C$2:$C$10000=$A12)*(ROW($3:$10001)-1)),0),\"\")","v":0},{"$f":"IFERROR(OFFSET(Stocks!$E$1,SUMPRODUCT((Stocks!$B$2:$B$10000=M$1)*(Stocks!$C$2:$C$10000=$A12)*(ROW($3:$10001)-1)),0),\"\")","v":0},{"$f":"IFERROR(OFFSET(Stocks!$E$1,SUMPRODUCT((Stocks!$B$2:$B$10000=N$1)*(Stocks!$C$2:$C$10000=$A12)*(ROW($3:$10001)-1)),0),\"\")","v":0},{"$f":"IFERROR(OFFSET(Stocks!$E$1,SUMPRODUCT((Stocks!$B$2:$B$10000=O$1)*(Stocks!$C$2:$C$10000=$A12)*(ROW($3:$10001)-1)),0),\"\")","v":0},{"$f":"IFERROR(OFFSET(Stocks!$E$1,SUMPRODUCT((Stocks!$B$2:$B$10000=P$1)*(Stocks!$C$2:$C$10000=$A12)*(ROW($3:$10001)-1)),0),\"\")","v":0},{"$f":"IFERROR(OFFSET(Stocks!$E$1,SUMPRODUCT((Stocks!$B$2:$B$10000=Q$1)*(Stocks!$C$2:$C$10000=$A12)*(ROW($3:$10001)-1)),0),\"\")","v":0},{"$f":"IFERROR(OFFSET(Stocks!$E$1,SUMPRODUCT((Stocks!$B$2:$B$10000=R$1)*(Stocks!$C$2:$C$10000=$A12)*(ROW($3:$10001)-1)),0),\"\")","v":0},{"$f":"IFERROR(OFFSET(Stocks!$E$1,SUMPRODUCT((Stocks!$B$2:$B$10000=S$1)*(Stocks!$C$2:$C$10000=$A12)*(ROW($3:$10001)-1)),0),\"\")","v":0},{"$f":"IFERROR(OFFSET(Stocks!$E$1,SUMPRODUCT((Stocks!$B$2:$B$10000=T$1)*(Stocks!$C$2:$C$10000=$A12)*(ROW($3:$10001)-1)),0),\"\")","v":0},null,null,null,null,null,null,null,{"$f":"IFERROR(OFFSET(Stocks!$G$1,SUMPRODUCT((Stocks!$B$2:$B$10000=AB$1)*(Stocks!$C$2:$C$10000=$A12)*(ROW($3:$10001)-1)),0),\"\")","v":"Stock Réel"},{"$f":"IFERROR(OFFSET(Stocks!$G$1,SUMPRODUCT((Stocks!$B$2:$B$10000=AC$1)*(Stocks!$C$2:$C$10000=$A12)*(ROW($3:$10001)-1)),0),\"\")","v":"Stock Réel"},{"$f":"IFERROR(OFFSET(Stocks!$G$1,SUMPRODUCT((Stocks!$B$2:$B$10000=AD$1)*(Stocks!$C$2:$C$10000=$A12)*(ROW($3:$10001)-1)),0),\"\")","v":"Stock Réel"}]
["BR",null,null,null,null,null,null,null,{"$f":"IFERROR(OFFSET(Stocks!$E$1,SUMPRODUCT((Stocks!$B$2:$B$10000=I$1)*(Stocks!$C$2:$C$10000=$A13)*(ROW($3:$10001)-1)),0),\"\")","v":0},{"$f":"IFERROR(OFFSET(Stocks!$E$1,SUMPRODUCT((Stocks!$B$2:$B$10000=J$1)*(Stocks!$C$2:$C$10000=$A13)*(ROW($3:$10001)-1)),0),\"\")","v":0},{"$f":"IFERROR(OFFSET(Stocks!$E$1,SUMPRODUCT((Stocks!$B$2:$B$10000=K$1)*(Stocks!$C$2:$C$10000=$A13)*(ROW($3:$10001)-1)),0),\"\")","v":0},{"$f":"IFERROR(OFFSET(Stocks!$E$1,SUMPRODUCT((Stocks!$B$2:$B$10000=L$1)*(Stocks!$C$2:$C$10000=$A13)*(ROW($3:$10001)-1)),0),\"\")","v":0},{"$f":"IFERROR(OFFSET(Stocks!$E$1,SUMPRODUCT((Stocks!$B$2:$B$10000=M$1)*(Stocks!$C$2:$C$10000=$A13)*(ROW($3:$10001)-1)),0),\"\")","v":0},{"$f":"IFERROR(OFFSET(Stocks!$E$1,SUMPRODUCT((Stocks!$B$2:$B$10000=N$1)*(Stocks!$C$2:$C$10000=$A13)*(ROW($3:$10001)-1)),0),\"\")","v":0},{"$f":"IFERROR(OFFSET(Stocks!$E$1,SUMPRODUCT((Stocks!$B$2:$B$10000=O$1)*(Stocks!$C$2:$C$10000=$A13)*(ROW($3:$10001)-1)),0),\"\")","v":0},{"$f":"IFERROR(OFFSET(Stocks!$E$1,SUMPRODUCT((Stocks!$B$2:$B$10000=P$1)*(Stocks!$C$2:$C$10000=$A13)*(ROW($3:$10001)-1)),0),\"\")","v":0},{"$f":"IFERROR(OFFSET(Stocks!$E$1,SUMPRODUCT((Stocks!$B$2:$B$10000=Q$1)*(Stocks!$C$2:$C$10000=$A13)*(ROW($3:$10001)-1)),0),\"\")","v":0},{"$f":"IFERROR(OFFSET(Stocks!$E$1,SUMPRODUCT((Stocks!$B$2:$B$10000=R$1)*(Stocks!$C$2:$C$10000=$A13)*(ROW($3:$10001)-1)),0),\"\")","v":0},{"$f":"IFERROR(OFFSET(Stocks!$E$1,SUMPRODUCT((Stocks!$B$2:$B$10000=S$1)*(Stocks!$C$2:$C$10000=$A13)*(ROW($3:$10001)-1)),0),\"\")","v":0},{"$f":"IFERROR(OFFSET(Stocks!$E$1,SUMPRODUCT((Stocks!$B$2:$B$10000=T$1)*(Stocks!$C$2:$C$10000=$A13)*(ROW($3:$10001)-1)),0),\"\")","v":0},null,null,null,null,null,null,null,{"$f":"IFERROR(OFFSET(Stocks!$G$1,SUMPRODUCT((Stocks!$B$2:$B$10000=AB$1)*(Stocks!$C$2:$C$10000=$A13)*(ROW($3:$10001)-1)),0),\"\")","v":"Stock Réel"},{"$f":"IFERROR(OFFSET(Stocks!$G$1,SUMPRODUCT((Stocks!$B$2:$B$10000=AC$1)*(Stocks!$C$2:$C$10000=$A13)*(ROW($3:$10001)-1)),0),\"\")","v":"Stock Réel"},{"$f":"IFERROR(OFFSET(Stocks!$G$1,SUMPRODUCT((Stocks!$B$2:$B$10000=AD$1)*(Stocks!$C$2:$C$10000=$A13)*(ROW($3:$10001)-1)),0),\"\")","v":"Stock Réel"}]
["CR",null,null,null,null,null,null,null,{"$f":"IFERROR(OFFSET(Stocks!$E$1,SUMPRODUCT((Stocks!$B$2:$B$10000=I$1)*(Stocks!$C$2:$C$10000=$A14)*(ROW($3:$10001)-1)),0),\"\")","v":0},{"$f":"IFERROR(OFFSET(Stocks!$E$1,SUMPRODUCT((Stocks!$B$2:$B$10000=J$1)*(Stocks!$C$2:$C$10000=$A14)*(ROW($3:$10001)-1)),0),\"\")","v":0},{"$f":"IFERROR(OFFSET(Stocks!$E$1,SUMPRODUCT((Stocks!$B$2:$B$10000=K$1)*(Stocks!$C$2:$C$10000=$A14)*(ROW($3:$10001)-1)),0),\"\")","v":0},{"$f":"IFERROR(OFFSET(Stocks!$E$1,SUMPRODUCT((Stocks!$B$2:$B$10000=L$1)*(Stocks!$C$2:$C$10000=$A14)*(ROW($3:$10001)-1)),0),\"\")","v":0},{"$f":"IFERROR(OFFSET(Stocks!$E$1,SUMPRODUCT((Stocks!$B$2:$B$10000=M$1)*(Stocks!$C$2:$C$10000=$A14)*(ROW($3:$10001)-1)),0),\"\")","v":0},{"$f":"IFERROR(OFFSET(Stocks!$E$1,SUMPRODUCT((Stocks!$B$2:$B$10000=N$1)*(Stocks!$C$2:$C$10000=$A14)*(ROW($3:$10001)-1)),0),\"\")","v":0},{"$f":"IFERROR(OFFSET(Stocks!$E$1,SUMPRODUCT((Stocks!$B$2:$B$10000=O$1)*(Stocks!$C$2:$C$10000=$A14)*(ROW($3:$10001)-1)),0),\"\")","v":0},{"$f":"IFERROR(OFFSET(Stocks!$E$1,SUMPRODUCT((Stocks!$B$2:$B$10000=P$1)*(Stocks!$C$2:$C$10000=$A14)*(ROW($3:$10001)-1)),0),\"\")","v":0},{"$f":"IFERROR(OFFSET(Stocks!$E$1,SUMPRODUCT((Stocks!$B$2:$B$10000=Q$1)*(Stocks!$C$2:$C$10000=$A14)*(ROW($3:$10001)-1)),0),\"\")","v":0},{"$f":"IFERROR(OFFSET(Stocks!$E$1,SUMPRODUCT((Stocks!$B$2:$B$10000=R$1)*(Stocks!$C$2:$C$10000=$A14)*(ROW($3:$10001)-1)),0),\"\")","v":0},{"$f":"IFERROR(OFFSET(Stocks!$E$1,SUMPRODUCT((Stocks!$B$2:$B$10000=S$1)*(Stocks!$C$2:$C$10000=$A14)*(ROW($3:$10001)-1)),0),\"\")","v":0},{"$f":"IFERROR(OFFSET(Stocks!$E$1,SUMPRODUCT((Stocks!$B$2:$B$10000=T$1)*(Stocks!$C$2:$C$10000=$A14)*(ROW($3:$10001)-1)),0),\"\")","v":0},null,null,null,null,null,null,null,{"$f":"IFERROR(OFFSET(Stocks!$G$1,SUMPRODUCT((Stocks!$B$2:$B$10000=AB$1)*(Stocks!$C$2:$C$10000=$A14)*(ROW($3:$10001)-1)),0),\"\")","v":"Stock Réel"},{"$f":"IFERROR(OFFSET(Stocks!$G$1,SUMPRODUCT((Stocks!$B$2:$B$10000=AC$1)*(Stocks!$C$2:$C$10000=$A14)*(ROW($3:$10001)-1)),0),\"\")","v":"Stock Réel"},{"$f":"IFERROR(OFFSET(Stocks!$G$1,SUMPRODUCT((Stocks!$B$2:$B$10000=AD$1)*(Stocks!$C$2:$C$10000=$A14)*(ROW($3:$10001)-1)),0),\"\")","v":"Stock Réel"}]
["CL",null,null,null,null,null,null,null,{"$f":"IFERROR(OFFSET(Stocks!$E$1,SUMPRODUCT((Stocks!$B$2:$B$10000=I$1)*(Stocks!$C$2:$C$10000=$A15)*(ROW($3:$10001)-1)),0),\"\")","v":0},{"$f":"IFERROR(OFFSET(Stocks!$E$1,SUMPRODUCT((Stocks!$B$2:$B$10000=J$1)*(Stocks!$C$2:$C$10000=$A15)*(ROW($3:$10001)-1)),0),\"\")","v":0},{"$f":"IFERROR(OFFSET(Stocks!$E$1,SUMPRODUCT((Stocks!$B$2:$B$10000=K$1)*(Stocks!$C$2:$C$10000=$A15)*(ROW($3:$10001)-1)),0),\"\")","v":0},{"$f":"IFERROR(OFFSET(Stocks!$E$1,SUMPRODUCT((Stocks!$B$2:$B$10000=L$1)*(Stocks!$C$2:$C$10000=$A15)*(ROW($3:$10001)-1)),0),\"\")","v":0},{"$f":"IFERROR(OFFSET(Stocks!$E$1,SUMPRODUCT((Stocks!$B$2:$B$10000=M$1)*(Stocks!$C$2:$C$10000=$A15)*(ROW($3:$10001)-1)),0),\"\")","v":0},{"$f":"IFERROR(OFFSET(Stocks!$E$1,SUMPRODUCT((Stocks!$B$2:$B$10000=N$1)*(Stocks!$C$2:$C$10000=$A15)*(ROW($3:$10001)-1)),0),\"\")","v":0},{"$f":"IFERROR(OFFSET(Stocks!$E$1,SUMPRODUCT((Stocks!$B$2:$B$10000=O$1)*(Stocks!$C$2:$C$10000=$A15)*(ROW($3:$10001)-1)),0),\"\")","v":0},{"$f":"IFERROR(OFFSET(Stocks!$E$1,SUMPRODUCT((Stocks!$B$2:$B$10000=P$1)*(Stocks!$C$2:$C$10000=$A15)*(ROW($3:$10001)-1)),0),\"\")","v":0},{"$f":"IFERROR(OFFSET(Stocks!$E$1,SUMPRODUCT((Stocks!$B$2:$B$10000=Q$1)*(Stocks!$C$2:$C$10000=$A15)*(ROW($3:$10001)-1)),0),\"\")","v":0},{"$f":"IFERROR(OFFSET(Stocks!$E$1,SUMPRODUCT((Stocks!$B$2:$B$10000=R$1)*(Stocks!$C$2:$C$10000=$A15)*(ROW($3:$10001)-1)),0),\"\")","v":0},{"$f":"IFERROR(OFFSET(Stocks!$E$1,SUMPRODUCT((Stocks!$B$2:$B$10000=S$1)*(Stocks!$C$2:$C$10000=$A15)*(ROW($3:$10001)-1)),0),\"\")","v":0},{"$f":"IFERROR(OFFSET(Stocks!$E$1,SUMPRODUCT((Stocks!$B$2:$B$10000=T$1)*(Stocks!$C$2:$C$10000=$A15)*(ROW($3:$10001)-1)),0),\"\")","v":0},null,null,null,null,null,null,null,{"$f":"IFERROR(OFFSET(Stocks!$G$1,SUMPRODUCT((Stocks!$B$2:$B$10000=AB$1)*(Stocks!$C$2:$C$10000=$A15)*(ROW($3:$10001)-1)),0),\"\")","v":"Stock Réel"},{"$f":"IFERROR(OFFSET(Stocks!$G$1,SUMPRODUCT((Stocks!$B$2:$B$10000=AC$1)*(Stocks!$C$2:$C$10000=$A15)*(ROW($3:$10001)-1)),0),\"\")","v":"Stock Réel"},{"$f":"IFERROR(OFFSET(Stocks!$G$1,SUMPRODUCT((Stocks!$B$2:$B$10000=AD$1)*(Stocks!$C$2:$C$10000=$A15)*(ROW($3:$10001)-1)),0),\"\")","v":"Stock Réel"}]
["CRL",null,null,null,null,null,null,null,{"$f":"IFERROR(OFFSET(Stocks!$E$1,SUMPRODUCT((Stocks!$B$2:$B$10000=I$1)*(Stocks!$C$2:$C$10000=$A16)*(ROW($3:$10001)-1)),0),\"\")","v":0},{"$f":"IFERROR(OFFSET(Stocks!$E$1,SUMPRODUCT((Stocks!$B$2:$B$10000=J$1)*(Stocks!$C$2:$C$10000=$A16)*(ROW($3:$10001)-1)),0),\"\")","v":0},{"$f":"IFERROR(OFFSET(Stocks!$E$1,SUMPRODUCT((Stocks!$B$2:$B$10000=K$1)*(Stocks!$C$2:$C$10000=$A16)*(ROW($3:$10001)-1)),0),\"\")","v":0},{"$f":"IFERROR(OFFSET(Stocks!$E$1,SUMPRODUCT((Stocks!$B$2:$B$10000=L$1)*(Stocks!$C$2:$C$10000=$A16)*(ROW($3:$10001)-1)),0),\"\")","v":0},{"$f":"IFERROR(OFFSET(Stocks!$E$1,SUMPRODUCT((Stocks!$B$2:$B$10000=M$1)*(Stocks!$C$2:$C$10000=$A16)*(ROW($3:$10001)-1)),0),\"\")","v":0},{"$f":"IFERROR(OFFSET(Stocks!$E$1,SUMPRODUCT((Stocks!$B$2:$B$10000=N$1)*(Stocks!$C$2:$C$10000=$A16)*(ROW($3:$10001)-1)),0),\"\")","v":0},{"$f":"IFERROR(OFFSET(Stocks!$E$1,SUMPRODUCT((Stocks!$B$2:$B$10000=O$1)*(Stocks!$C$2:$C$10000=$A16)*(ROW($3:$10001)-1)),0),\"\")","v":0},{"$f":"IFERROR(OFFSET(Stocks!$E$1,SUMPRODUCT((Stocks!$B$2:$B$10000=P$1)*(Stocks!$C$2:$C$10000=$A16)*(ROW($3:$10001)-1)),0),\"\")","v":0},{"$f":"IFERROR(OFFSET(Stocks!$E$1,SUMPRODUCT((Stocks!$B$2:$B$10000=Q$1)*(Stocks!$C$2:$C$10000=$A16)*(ROW($3:$10001)-1)),0),\"\")","v":0},{"$f":"IFERROR(OFFSET(Stocks!$E$1,SUMPRODUCT((Stocks!$B$2:$B$10000=R$1)*(Stocks!$C$2:$C$10000=$A16)*(ROW($3:$10001)-1)),0),\"\")","v":0},{"$f":"IFERROR(OFFSET(Stocks!$E$1,SUMPRODUCT((Stocks!$B$2:$B$10000=S$1)*(Stocks!$C$2:$C$10000=$A16)*(ROW($3:$10001)-1)),0),\"\")","v":0},{"$f":"IFERROR(OFFSET(Stocks!$E$1,SUMPRODUCT((Stocks!$B$2:$B$10000=T$1)*(Stocks!$C$2:$C$10000=$A16)*(ROW($3:$10001)-1)),0),\"\")","v":0},null,null,null,null,null,null,null,{"$f":"IFERROR(OFFSET(Stocks!$G$1,SUMPRODUCT((Stocks!$B$2:$B$10000=AB$1)*(Stocks!$C$2:$C$10000=$A16)*(ROW($3:$10001)-1)),0),\"\")","v":"Stock Réel"},{"$f":"IFERROR(OFFSET(Stocks!$G$1,SUMPRODUCT((Stocks!$B$2:$B$10000=AC$1)*(Stocks!$C$2:$C$10000=$A16)*(ROW($3:$10001)-1)),0),\"\")","v":"Stock Réel"},{"$f":"IFERROR(OFFSET(Stocks!$G$1,SUMPRODUCT((Stocks!$B$2:$B$10000=AD$1)*(Stocks!$C$2:$C$10000=$A16)*(ROW($3:$10001)-1)),0),\"\")","v":"Stock Réel"}]
["CVT",null,null,null,null,null,null,null,{"$f":"IFERROR(OFFSET(Stocks!$E$1,SUMPRODUCT((Stocks!$B$2:$B$10000=I$1)*(Stocks!$C$2:$C$10000=$A17)*(ROW($3:$10001)-1)),0),\"\")","v":0},{"$f":"IFERROR(OFFSET(Stocks!$E$1,SUMPRODUCT((Stocks!$B$2:$B$10000=J$1)*(Stocks!$C$2:$C$10000=$A17)*(ROW($3:$10001)-1)),0),\"\")","v":0},{"$f":"IFERROR(OFFSET(Stocks!$E$1,SUMPRODUCT((Stocks!$B$2:$B$10000=K$1)*(Stocks!$C$2:$C$10000=$A17)*(ROW($3:$10001)-1)),0),\"\")","v":0},{"$f":"IFERROR(OFFSET(Stocks!$E$1,SUMPRODUCT((Stocks!$B$2:$B$10000=L$1)*(Stocks!$C$2:$C$10000=$A17)*(ROW($3:$10001)-1)),0),\"\")","v":0},{"$f":"IFERROR(OFFSET(Stocks!$E$1,SUMPRODUCT((Stocks!$B$2:$B$10000=M$1)*(Stocks!$C$2:$C$10000=$A17)*(ROW($3:$10001)-1)),0),\"\")","v":0},{"$f":"IFERROR(OFFSET(Stocks!$E$1,SUMPRODUCT((Stocks!$B$2:$B$10000=N$1)*(Stocks!$C$2:$C$10000=$A17)*(ROW($3:$10001)-1)),0),\"\")","v":0},{"$f":"IFERROR(OFFSET(Stocks!$E$1,SUMPRODUCT((Stocks!$B$2:$B$10000=O$1)*(Stocks!$C$2:$C$10000=$A17)*(ROW($3:$10001)-1)),0),\"\")","v":0},{"$f":"IFERROR(OFFSET(Stocks!$E$1,SUMPRODUCT((Stocks!$B$2:$B$10000=P$1)*(Stocks!$C$2:$C$10000=$A17)*(ROW($3:$10001)-1)),0),\"\")","v":0},{"$f":"IFERROR(OFFSET(Stocks!$E$1,SUMPRODUCT((Stocks!$B$2:$B$10000=Q$1)*(Stocks!$C$2:$C$10000=$A17)*(ROW($3:$10001)-1)),0),\"\")","v":0},{"$f":"IFERROR(OFFSET(Stocks!$E$1,SUMPRODUCT((Stocks!$B$2:$B$10000=R$1)*(Stocks!$C$2:$C$10000=$A17)*(ROW($3:$10001)-1)),0),\"\")","v":0},{"$f":"IFERROR(OFFSET(Stocks!$E$1,SUMPRODUCT((Stocks!$B$2:$B$10000=S$1)*(Stocks!$C$2:$C$10000=$A17)*(ROW($3:$10001)-1)),0),\"\")","v":0},{"$f":"IFERROR(OFFSET(Stocks!$E$1,SUMPRODUCT((Stocks!$B$2:$B$10000=T$1)*(Stocks!$C$2:$C$10000=$A17)*(ROW($3:$10001)-1)),0),\"\")","v":0},null,null,null,null,null,null,null,{"$f":"IFERROR(OFFSET(Stocks!$G$1,SUMPRODUCT((Stocks!$B$2:$B$10000=AB$1)*(Stocks!$C$2:$C$10000=$A17)*(ROW($3:$10001)-1)),0),\"\")","v":"Stock Réel"},{"$f":"IFERROR(OFFSET(Stocks!$G$1,SUMPRODUCT((Stocks!$B$2:$B$10000=AC$1)*(Stocks!$C$2:$C$10000=$A17)*(ROW($3:$10001)-1)),0),\"\")","v":"Stock Réel"},{"$f":"IFERROR(OFFSET(Stocks!$G$1,SUMPRODUCT((Stocks!$B$2:$B$10000=AD$1)*(Stocks!$C$2:$C$10000=$A17)*(ROW($3:$10001)-1)),0),\"\")","v":"Stock Réel"}]
["JP",null,null,null,null,null,null,null,{"$f":"IFERROR(OFFSET(Stocks!$E$1,SUMPRODUCT((Stocks!$B$2:$B$10000=I$1)*(Stocks!$C$2:$C$10000=$A18)*(ROW($3:$10001)-1)),0),\"\")","v":0},{"$f":"IFERROR(OFFSET(Stocks!$E$1,SUMPRODUCT((Stocks!$B$2:$B$10000=J$1)*(Stocks!$C$2:$C$10000=$A18)*(ROW($3:$10001)-1)),0),\"\")","v":0},{"$f":"IFERROR(OFFSET(Stocks!$E$1,SUMPRODUCT((Stocks!$B$2:$B$10000=K$1)*(Stocks!$C$2:$C$10000=$A18)*(ROW($3:$10001)-1)),0),\"\")","v":0},{"$f":"IFERROR(OFFSET(Stocks!$E$1,SUMPRODUCT((Stocks!$B$2:$B$10000=L$1)*(Stocks!$C$2:$C$10000=$A18)*(ROW($3:$10001)-1)),0),\"\")","v":0},{"$f":"IFERROR(OFFSET(Stocks!$E$1,SUMPRODUCT((Stocks!$B$2:$B$10000=M$1)*(Stocks!$C$2:$C$10000=$A18)*(ROW($3:$10001)-1)),0),\"\")","v":0},{"$f":"IFERROR(OFFSET(Stocks!$E$1,SUMPRODUCT((Stocks!$B$2:$B$10000=N$1)*(Stocks!$C$2:$C$10000=$A18)*(ROW($3:$10001)-1)),0),\"\")","v":0},{"$f":"IFERROR(OFFSET(Stocks!$E$1,SUMPRODUCT((Stocks!$B$2:$B$10000=O$1)*(Stocks!$C$2:$C$10000=$A18)*(ROW($3:$10001)-1)),0),\"\")","v":0},{"$f":"IFERROR(OFFSET(Stocks!$E$1,SUMPRODUCT((Stocks!$B$2:$B$10000=P$1)*(Stocks!$C$2:$C$10000=$A18)*(ROW($3:$10001)-1)),0),\"\")","v":0},{"$f":"IFERROR(OFFSET(Stocks!$E$1,SUMPRODUCT((Stocks!$B$2:$B$10000=Q$1)*(Stocks!$C$2:$C$10000=$A18)*(ROW($3:$10001)-1)),0),\"\")","v":0},{"$f":"IFERROR(OFFSET(Stocks!$E$1,SUMPRODUCT((Stocks!$B$2:$B$10000=R$1)*(Stocks!$C$2:$C$10000=$A18)*(ROW($3:$10001)-1)),0),\"\")","v":0},{"$f":"IFERROR(OFFSET(Stocks!$E$1,SUMPRODUCT((Stocks!$B$2:$B$10000=S$1)*(Stocks!$C$2:$C$10000=$A18)*(ROW($3:$10001)-1)),0),\"\")","v":0},{"$f":"IFERROR(OFFSET(Stocks!$E$1,SUMPRODUCT((Stocks!$B$2:$B$10000=T$1)*(Stocks!$C$2:$C$10000=$A18)*(ROW($3:$10001)-1)),0),\"\")","v":0},null,null,null,null,null,null,null,{"$f":"IFERROR(OFFSET(Stocks!$G$1,SUMPRODUCT((Stocks!$B$2:$B$10000=AB$1)*(Stocks!$C$2:$C$10000=$A18)*(ROW($3:$10001)-1)),0),\"\")","v":"Stock Réel"},{"$f":"IFERROR(OFFSET(Stocks!$G$1,SUMPRODUCT((Stocks!$B$2:$B$10000=AC$1)*(Stocks!$C$2:$C$10000=$A18)*(ROW($3:$10001)-1)),0),\"\")","v":"Stock Réel"},{"$f":"IFERROR(OFFSET(Stocks!$G$1,SUMPRODUCT((Stocks!$B$2:$B$10000=AD$1)*(Stocks!$C$2:$C$10000=$A18)*(ROW($3:$10001)-1)),0),\"\")","v":"Stock Réel"}]
["G0",null,null,null,null,null,null,null,{"$f":"IFERROR(OFFSET(Stocks!$E$1,SUMPRODUCT((Stocks!$B$2:$B$10000=I$1)*(Stocks!$C$2:$C$10000=$A19)*(ROW($3:$10001)-1)),0),\"\")","v":0},{"$f":"IFERROR(OFFSET(Stocks!$E$1,SUMPRODUCT((Stocks!$B$2:$B$10000=J$1)*(Stocks!$C$2:$C$10000=$A19)*(ROW($3:$10001)-1)),0),\"\")","v":0},{"$f":"IFERROR(OFFSET(Stocks!$E$1,SUMPRODUCT((Stocks!$B$2:$B$10000=K$1)*(Stocks!$C$2:$C$10000=$A19)*(ROW($3:$10001)-1)),0),\"\")","v":0},{"$f":"IFERROR(OFFSET(Stocks!$E$1,SUMPRODUCT((Stocks!$B$2:$B$10000=L$1)*(Stocks!$C$2:$C$10000=$A19)*(ROW($3:$10001)-1)),0),\"\")","v":0},{"$f":"IFERROR(OFFSET(Stocks!$E$1,SUMPRODUCT((Stocks!$B$2:$B$10000=M$1)*(Stocks!$C$2:$C$10000=$A19)*(ROW($3:$10001)-1)),0),\"\")","v":0},{"$f":"IFERROR(OFFSET(Stocks!$E$1,SUMPRODUCT((Stocks!$B$2:$B$10000=N$1)*(Stocks!$C$2:$C$10000=$A19)*(ROW($3:$10001)-1)),0),\"\")","v":0},{"$f":"IFERROR(OFFSET(Stocks!$E$1,SUMPRODUCT((Stocks!$B$2:$B$10000=O$1)*(Stocks!$C$2:$C$10000=$A19)*(ROW($3:$10001)-1)),0),\"\")","v":0},{"$f":"IFERROR(OFFSET(Stocks!$E$1,SUMPRODUCT((Stocks!$B$2:$B$10000=P$1)*(Stocks!$C$2:$C$10000=$A19)*(ROW($3:$10001)-1)),0),\"\")","v":0},{"$f":"IFERROR(OFFSET(Stocks!$E$1,SUMPRODUCT((Stocks!$B$2:$B$10000=Q$1)*(Stocks!$C$2:$C$10000=$A19)*(ROW($3:$10001)-1)),0),\"\")","v":0},{"$f":"IFERROR(OFFSET(Stocks!$E$1,SUMPRODUCT((Stocks!$B$2:$B$10000=R$1)*(Stocks!$C$2:$C$10000=$A19)*(ROW($3:$10001)-1)),0),\"\")","v":0},{"$f":"IFERROR(OFFSET(Stocks!$E$1,SUMPRODUCT((Stocks!$B$2:$B$10000=S$1)*(Stocks!$C$2:$C$10000=$A19)*(ROW($3:$10001)-1)),0),\"\")","v":0},{"$f":"IFERROR(OFFSET(Stocks!$E$1,SUMPRODUCT((Stocks!$B$2:$B$10000=T$1)*(Stocks!$C$2:$C$10000=$A19)*(ROW($3:$10001)-1)),0),\"\")","v":0},null,null,null,null,null,null,null,{"$f":"IFERROR(OFFSET(Stocks!$G$1,SUMPRODUCT((Stocks!$B$2:$B$10000=AB$1)*(Stocks!$C$2:$C$10000=$A19)*(ROW($3:$10001)-1)),0),\"\")","v":"Stock Réel"},{"$f":"IFERROR(OFFSET(Stocks!$G$1,SUMPRODUCT((Stocks!$B$2:$B$10000=AC$1)*(Stocks!$C$2:$C$10000=$A19)*(ROW($3:$10001)-1)),0),\"\")","v":"Stock Réel"},{"$f":"IFERROR(OFFSET(Stocks!$G$1,SUMPRODUCT((Stocks!$B$2:$B$10000=AD$1)*(Stocks!$C$2:$C$10000=$A19)*(ROW($3:$10001)-1)),0),\"\")","v":"Stock Réel"}]
["G2",null,null,null,null,null,null,null,{"$f":"IFERROR(OFFSET(Stocks!$E$1,SUMPRODUCT((Stocks!$B$2:$B$10000=I$1)*(Stocks!$C$2:$C$10000=$A20)*(ROW($3:$10001)-1)),0),\"\")","v":0},{"$f":"IFERROR(OFFSET(Stocks!$E$1,SUMPRODUCT((Stocks!$B$2:$B$10000=J$1)*(Stocks!$C$2:$C$10000=$A20)*(ROW($3:$10001)-1)),0),\"\")","v":0},{"$f":"IFERROR(OFFSET(Stocks!$E$1,SUMPRODUCT((Stocks!$B$2:$B$10000=K$1)*(Stocks!$C$2:$C$10000=$A20)*(ROW($3:$10001)-1)),0),\"\")","v":0},{"$f":"IFERROR(OFFSET(Stocks!$E$1,SUMPRODUCT((Stocks!$B$2:$B$10000=L$1)*(Stocks!$C$2:$C$10000=$A20)*(ROW($3:$10001)-1)),0),\"\")","v":0},{"$f":"IFERROR(OFFSET(Stocks!$E$1,SUMPRODUCT((Stocks!$B$2:$B$10000=M$1)*(Stocks!$C$2:$C$10000=$A20)*(ROW($3:$10001)-1)),0),\"\")","v":0},{"$f":"IFERROR(OFFSET(Stocks!$E$1,SUMPRODUCT((Stocks!$B$2:$B$10000=N$1)*(Stocks!$C$2:$C$10000=$A20)*(ROW($3:$10001)-1)),0),\"\")","v":0},{"$f":"IFERROR(OFFSET(Stocks!$E$1,SUMPRODUCT((Stocks!$B$2:$B$10000=O$1)*(Stocks!$C$2:$C$10000=$A20)*(ROW($3:$10001)-1)),0),\"\")","v":0},{"$f":"IFERROR(OFFSET(Stocks!$E$1,SUMPRODUCT((Stocks!$B$2:$B$10000=P$1)*(Stocks!$C$2:$C$10000=$A20)*(ROW($3:$10001)-1)),0),\"\")","v":0},{"$f":"IFERROR(OFFSET(Stocks!$E$1,SUMPRODUCT((Stocks!$B$2:$B$10000=Q$1)*(Stocks!$C$2:$C$10000=$A20)*(ROW($3:$10001)-1)),0),\"\")","v":0},{"$f":"IFERROR(OFFSET(Stocks!$E$1,SUMPRODUCT((Stocks!$B$2:$B$10000=R$1)*(Stocks!$C$2:$C$10000=$A20)*(ROW($3:$10001)-1)),0),\"\")","v":0},{"$f":"IFERROR(OFFSET(Stocks!$E$1,SUMPRODUCT((Stocks!$B$2:$B$10000=S$1)*(Stocks!$C$2:$C$10000=$A20)*(ROW($3:$10001)-1)),0),\"\")","v":0},{"$f":"IFERROR(OFFSET(Stocks!$E$1,SUMPRODUCT((Stocks!$B$2:$B$10000=T$1)*(Stocks!$C$2:$C$10000=$A20)*(ROW($3:$10001)-1)),0),\"\")","v":0},null,null,null,null,null,null,null,{"$f":"IFERROR(OFFSET(Stocks!$G$1,SUMPRODUCT((Stocks!$B$2:$B$10000=AB$1)*(Stocks!$C$2:$C$10000=$A20)*(ROW($3:$10001)-1)),0),\"\")","v":"Stock Réel"},{"$f":"IFERROR(OFFSET(Stocks!$G$1,SUMPRODUCT((Stocks!$B$2:$B$10000=AC$1)*(Stocks!$C$2:$C$10000=$A20)*(ROW($3:$10001)-1)),0),\"\")","v":"Stock Réel"},{"$f":"IFERROR(OFFSET(Stocks!$G$1,SUMPRODUCT((Stocks!$B$2:$B$10000=AD$1)*(Stocks!$C$2:$C$10000=$A20)*(ROW($3:$10001)-1)),0),\"\")","v":"Stock Réel"}]
["G3",null,null,null,null,null,null,null,{"$f":"IFERROR(OFFSET(Stocks!$E$1,SUMPRODUCT((Stocks!$B$2:$B$10000=I$1)*(Stocks!$C$2:$C$10000=$A21)*(ROW($3:$10001)-1)),0),\"\")","v":0},{"$f":"IFERROR(OFFSET(Stocks!$E$1,SUMPRODUCT((Stocks!$B$2:$B$10000=J$1)*(Stocks!$C$2:$C$10000=$A21)*(ROW($3:$10001)-1)),0),\"\")","v":0},{"$f":"IFERROR(OFFSET(Stocks!$E$1,SUMPRODUCT((Stocks!$B$2:$B$10000=K$1)*(Stocks!$C$2:$C$10000=$A21)*(ROW($3:$10001)-1)),0),\"\")","v":0},{"$f":"IFERROR(OFFSET(Stocks!$E$1,SUMPRODUCT((Stocks!$B$2:$B$10000=L$1)*(Stocks!$C$2:$C$10000=$A21)*(ROW($3:$10001)-1)),0),\"\")","v":0},{"$f":"IFERROR(OFFSET(Stocks!$E$1,SUMPRODUCT((Stocks!$B$2:$B$10000=M$1)*(Stocks!$C$2:$C$10000=$A21)*(ROW($3:$10001)-1)),0),\"\")","v":0},{"$f":"IFERROR(OFFSET(Stocks!$E$1,SUMPRODUCT((Stocks!$B$2:$B$10000=N$1)*(Stocks!$C$2:$C$10000=$A21)*(ROW($3:$10001)-1)),0),\"\")","v":0},{"$f":"IFERROR(OFFSET(Stocks!$E$1,SUMPRODUCT((Stocks!$B$2:$B$10000=O$1)*(Stocks!$C$2:$C$10000=$A21)*(ROW($3:$10001)-1)),0),\"\")","v":0},{"$f":"IFERROR(OFFSET(Stocks!$E$1,SUMPRODUCT((Stocks!$B$2:$B$10000=P$1)*(Stocks!$C$2:$C$10000=$A21)*(ROW($3:$10001)-1)),0),\"\")","v":0},{"$f":"IFERROR(OFFSET(Stocks!$E$1,SUMPRODUCT((Stocks!$B$2:$B$10000=Q$1)*(Stocks!$C$2:$C$10000=$A21)*(ROW($3:$10001)-1)),0),\"\")","v":0},{"$f":"IFERROR(OFFSET(Stocks!$E$1,SUMPRODUCT((Stocks!$B$2:$B$10000=R$1)*(Stocks!$C$2:$C$10000=$A21)*(ROW($3:$10001)-1)),0),\"\")","v":0},{"$f":"IFERROR(OFFSET(Stocks!$E$1,SUMPRODUCT((Stocks!$B$2:$B$10000=S$1)*(Stocks!$C$2:$C$10000=$A21)*(ROW($3:$10001)-1)),0),\"\")","v":0},{"$f":"IFERROR(OFFSET(Stocks!$E$1,SUMPRODUCT((Stocks!$B$2:$B$10000=T$1)*(Stocks!$C$2:$C$10000=$A21)*(ROW($3:$10001)-1)),0),\"\")","v":0},null,null,null,null,null,null,null,{"$f":"IFERROR(OFFSET(Stocks!$G$1,SUMPRODUCT((Stocks!$B$2:$B$10000=AB$1)*(Stocks!$C$2:$C$10000=$A21)*(ROW($3:$10001)-1)),0),\"\")","v":"Stock Réel"},{"$f":"IFERROR(OFFSET(Stocks!$G$1,SUMPRODUCT((Stocks!$B$2:$B$10000=AC$1)*(Stocks!$C$2:$C$10000=$A21)*(ROW($3:$10001)-1)),0),\"\")","v":"Stock Réel"},{"$f":"IFERROR(OFFSET(Stocks!$G$1,SUMPRODUCT((Stocks!$B$2:$B$10000=AD$1)*(Stocks!$C$2:$C$10000=$A21)*(ROW($3:$10001)-1)),0),\"\")","v":"Stock Réel"}]
["GF",null,null,null,null,null,null,null,{"$f":"IFERROR(OFFSET(Stocks!$E$1,SUMPRODUCT((Stocks!$B$2:$B$10000=I$1)*(Stocks!$C$2:$C$10000=$A22)*(ROW($3:$10001)-1)),0),\"\")","v":0},{"$f":"IFERROR(OFFSET(Stocks!$E$1,SUMPRODUCT((Stocks!$B$2:$B$10000=J$1)*(Stocks!$C$2:$C$10000=$A22)*(ROW($3:$10001)-1)),0),\"\")","v":0},{"$f":"IFERROR(OFFSET(Stocks!$E$1,SUMPRODUCT((Stocks!$B$2:$B$10000=K$1)*(Stocks!$C$2:$C$10000=$A22)*(ROW($3:$10001)-1)),0),\"\")","v":0},{"$f":"IFERROR(OFFSET(Stocks!$E$1,SUMPRODUCT((Stocks!$B$2:$B$10000=L$1)*(Stocks!$C$2:$C$10000=$A22)*(ROW($3:$10001)-1)),0),\"\")","v":0},{"$f":"IFERROR(OFFSET(Stocks!$E$1,SUMPRODUCT((Stocks!$B$2:$B$10000=M$1)*(Stocks!$C$2:$C$10000=$A22)*(ROW($3:$10001)-1)),0),\"\")","v":0},{"$f":"IFERROR(OFFSET(Stocks!$E$1,SUMPRODUCT((Stocks!$B$2:$B$10000=N$1)*(Stocks!$C$2:$C$10000=$A22)*(ROW($3:$10001)-1)),0),\"\")","v":0},{"$f":"IFERROR(OFFSET(Stocks!$E$1,SUMPRODUCT((Stocks!$B$2:$B$10000=O$1)*(Stocks!$C$2:$C$10000=$A22)*(ROW($3:$10001)-1)),0),\"\")","v":0},{"$f":"IFERROR(OFFSET(Stocks!$E$1,SUMPRODUCT((Stocks!$B$2:$B$10000=P$1)*(Stocks!$C$2:$C$10000=$A22)*(ROW($3:$10001)-1)),0),\"\")","v":0},{"$f":"IFERROR(OFFSET(Stocks!$E$1,SUMPRODUCT((Stocks!$B$2:$B$10000=Q$1)*(Stocks!$C$2:$C$10000=$A22)*(ROW($3:$10001)-1)),0),\"\")","v":0},{"$f":"IFERROR(OFFSET(Stocks!$E$1,SUMPRODUCT((Stocks!$B$2:$B$10000=R$1)*(Stocks!$C$2:$C$10000=$A22)*(ROW($3:$10001)-1)),0),\"\")","v":0},{"$f":"IFERROR(OFFSET(Stocks!$E$1,SUMPRODUCT((Stocks!$B$2:$B$10000=S$1)*(Stocks!$C$2:$C$10000=$A22)*(ROW($3:$10001)-1)),0),\"\")","v":0},{"$f":"IFERROR(OFFSET(Stocks!$E$1,SUMPRODUCT((Stocks!$B$2:$B$10000=T$1)*(Stocks!$C$2:$C$10000=$A22)*(ROW($3:$10001)-1)),0),\"\")","v":0},null,null,null,null,null,null,null,{"$f":"IFERROR(OFFSET(Stocks!$G$1,SUMPRODUCT((Stocks!$B$2:$B$10000=AB$1)*(Stocks!$C$2:$C$10000=$A22)*(ROW($3:$10001)-1)),0),\"\")","v":"Stock Réel"},{"$f":"IFERROR(OFFSET(Stocks!$G$1,SUMPRODUCT((Stocks!$B$2:$B$10000=AC$1)*(Stocks!$C$2:$C$10000=$A22)*(ROW($3:$10001)-1)),0),\"\")","v":"Stock Réel"},{"$f":"IFERROR(OFFSET(Stocks!$G$1,SUMPRODUCT((Stocks!$B$2:$B$10000=AD$1)*(Stocks!$C$2:$C$10000=$A22)*(ROW($3:$10001)-1)),0),\"\")","v":"Stock Réel"}]
["GR",null,null,null,null,null,null,null,{"$f":"IFERROR(OFFSET(Stocks!$E$1,SUMPRODUCT((Stocks!$B$2:$B$10000=I$1)*(Stocks!$C$2:$C$10000=$A23)*(ROW($3:$10001)-1)),0),\"\")","v":0},{"$f":"IFERROR(OFFSET(Stocks!$E$1,SUMPRODUCT((Stocks!$B$2:$B$10000=J$1)*(Stocks!$C$2:$C$10000=$A23)*(ROW($3:$10001)-1)),0),\"\")","v":0},{"$f":"IFERROR(OFFSET(Stocks!$E$1,SUMPRODUCT((Stocks!$B$2:$B$10000=K$1)*(Stocks!$C$2:$C$10000=$A23)*(ROW($3:$10001)-1)),0),\"\")","v":0},{"$f":"IFERROR(OFFSET(Stocks!$E$1,SUMPRODUCT((Stocks!$B$2:$B$10000=L$1)*(Stocks!$C$2:$C$10000=$A23)*(ROW($3:$10001)-1)),0),\"\")","v":0},{"$f":"IFERROR(OFFSET(Stocks!$E$1,SUMPRODUCT((Stocks!$B$2:$B$10000=M$1)*(Stocks!$C$2:$C$10000=$A23)*(ROW($3:$10001)-1)),0),\"\")","v":0},{"$f":"IFERROR(OFFSET(Stocks!$E$1,SUMPRODUCT((Stocks!$B$2:$B$10000=N$1)*(Stocks!$C$2:$C$10000=$A23)*(ROW($3:$10001)-1)),0),\"\")","v":0},{"$f":"IFERROR(OFFSET(Stocks!$E$1,SUMPRODUCT((Stocks!$B$2:$B$10000=O$1)*(Stocks!$C$2:$C$10000=$A23)*(ROW($3:$10001)-1)),0),\"\")","v":0},{"$f":"IFERROR(OFFSET(Stocks!$E$1,SUMPRODUCT((Stocks!$B$2:$B$10000=P$1)*(Stocks!$C$2:$C$10000=$A23)*(ROW($3:$10001)-1)),0),\"\")","v":0},{"$f":"IFERROR(OFFSET(Stocks!$E$1,SUMPRODUCT((Stocks!$B$2:$B$10000=Q$1)*(Stocks!$C$2:$C$10000=$A23)*(ROW($3:$10001)-1)),0),\"\")","v":0},{"$f":"IFERROR(OFFSET(Stocks!$E$1,SUMPRODUCT((Stocks!$B$2:$B$10000=R$1)*(Stocks!$C$2:$C$10000=$A23)*(ROW($3:$10001)-1)),0),\"\")","v":0},{"$f":"IFERROR(OFFSET(Stocks!$E$1,SUMPRODUCT((Stocks!$B$2:$B$10000=S$1)*(Stocks!$C$2:$C$10000=$A23)*(ROW($3:$10001)-1)),0),\"\")","v":0},{"$f":"IFERROR(OFFSET(Stocks!$E$1,SUMPRODUCT((Stocks!$B$2:$B$10000=T$1)*(Stocks!$C$2:$C$10000=$A23)*(ROW($3:$10001)-1)),0),\"\")","v":0},null,null,null,null,null,null,null,{"$f":"IFERROR(OFFSET(Stocks!$G$1,SUMPRODUCT((Stocks!$B$2:$B$10000=AB$1)*(Stocks!$C$2:$C$10000=$A23)*(ROW($3:$10001)-1)),0),\"\")","v":"Stock Réel"},{"$f":"IFERROR(OFFSET(Stocks!$G$1,SUMPRODUCT((Stocks!$B$2:$B$10000=AC$1)*(Stocks!$C$2:$C$10000=$A23)*(ROW($3:$10001)-1)),0),\"\")","v":"Stock Réel"},{"$f":"IFERROR(OFFSET(Stocks!$G$1,SUMPRODUCT((Stocks!$B$2:$B$10000=AD$1)*(Stocks!$C$2:$C$10000=$A23)*(ROW($3:$10001)-1)),0),\"\")","v":"Stock Réel"}]
["GRF",null,null,null,null,null,null,null,{"$f":"IFERROR(OFFSET(Stocks!$E$1,SUMPRODUCT((Stocks!$B$2:$B$10000=I$1)*(Stocks!$C$2:$C$10000=$A24)*(ROW($3:$10001)-1)),0),\"\")","v":0},{"$f":"IFERROR(OFFSET(Stocks!$E$1,SUMPRODUCT((Stocks!$B$2:$B$10000=J$1)*(Stocks!$C$2:$C$10000=$A24)*(ROW($3:$10001)-1)),0),\"\")","v":0},{"$f":"IFERROR(OFFSET(Stocks!$E$1,SUMPRODUCT((Stocks!$B$2:$B$10000=K$1)*(Stocks!$C$2:$C$10000=$A24)*(ROW($3:$10001)-1)),0),\"\")","v":0},{"$f":"IFERROR(OFFSET(Stocks!$E$1,SUMPRODUCT((Stocks!$B$2:$B$10000=L$1)*(Stocks!$C$2:$C$10000=$A24)*(ROW($3:$10001)-1)),0),\"\")","v":0},{"$f":"IFERROR(OFFSET(Stocks!$E$1,SUMPRODUCT((Stocks!$B$2:$B$10000=M$1)*(Stocks!$C$2:$C$10000=$A24)*(ROW($3:$10001)-1)),0),\"\")","v":0},{"$f":"IFERROR(OFFSET(Stocks!$E$1,SUMPRODUCT((Stocks!$B$2:$B$10000=N$1)*(Stocks!$C$2:$C$10000=$A24)*(ROW($3:$10001)-1)),0),\"\")","v":0},{"$f":"IFERROR(OFFSET(Stocks!$E$1,SUMPRODUCT((Stocks!$B$2:$B$10000=O$1)*(Stocks!$C$2:$C$10000=$A24)*(ROW($3:$10001)-1)),0),\"\")","v":0},{"$f":"IFERROR(OFFSET(Stocks!$E$1,SUMPRODUCT((Stocks!$B$2:$B$10000=P$1)*(Stocks!$C$2:$C$10000=$A24)*(ROW($3:$10001)-1)),0),\"\")","v":0},{"$f":"IFERROR(OFFSET(Stocks!$E$1,SUMPRODUCT((Stocks!$B$2:$B$10000=Q$1)*(Stocks!$C$2:$C$10000=$A24)*(ROW($3:$10001)-1)),0),\"\")","v":0},{"$f":"IFERROR(OFFSET(Stocks!$E$1,SUMPRODUCT((Stocks!$B$2:$B$10000=R$1)*(Stocks!$C$2:$C$10000=$A24)*(ROW($3:$10001)-1)),0),\"\")","v":0},{"$f":"IFERROR(OFFSET(Stocks!$E$1,SUMPRODUCT((Stocks!$B$2:$B$10000=S$1)*(Stocks!$C$2:$C$10000=$A24)*(ROW($3:$10001)-1)),0),\"\")","v":0},{"$f":"IFERROR(OFFSET(Stocks!$E$1,SUMPRODUCT((Stocks!$B$2:$B$10000=T$1)*(Stocks!$C$2:$C$10000=$A24)*(ROW($3:$10001)-1)),0),\"\")","v":0},null,null,null,null,null,null,null,{"$f":"IFERROR(OFFSET(Stocks!$G$1,SUMPRODUCT((Stocks!$B$2:$B$10000=AB$1)*(Stocks!$C$2:$C$10000=$A24)*(ROW($3:$10001)-1)),0),\"\")","v":"Stock Réel"},{"$f":"IFERROR(OFFSET(Stocks!$G$1,SUMPRODUCT((Stocks!$B$2:$B$10000=AC$1)*(Stocks!$C$2:$C$10000=$A24)*(ROW($3:$10001)-1)),0),\"\")","v":"Stock Réel"},{"$f":"IFERROR(OFFSET(Stocks!$G$1,SUMPRODUCT((Stocks!$B$2:$B$10000=AD$1)*(Stocks!$C$2:$C$10000=$A24)*(ROW($3:$10001)-1)),0),\"\")","v":"Stock Réel"}]
["MTR",null,null,null,null,null,null,null,{"$f":"IFERROR(OFFSET(Stocks!$E$1,SUMPRODUCT((Stocks!$B$2:$B$10000=I$1)*(Stocks!$C$2:$C$10000=$A25)*(ROW($3:$10001)-1)),0),\"\")","v":0},{"$f":"IFERROR(OFFSET(Stocks!$E$1,SUMPRODUCT((Stocks!$B$2:$B$10000=J$1)*(Stocks!$C$2:$C$10000=$A25)*(ROW($3:$10001)-1)),0),\"\")","v":0},{"$f":"IFERROR(OFFSET(Stocks!$E$1,SUMPRODUCT((Stocks!$B$2:$B$10000=K$1)*(Stocks!$C$2:$C$10000=$A25)*(ROW($3:$10001)-1)),0),\"\")","v":0},{"$f":"IFERROR(OFFSET(Stocks!$E$1,SUMPRODUCT((Stocks!$B$2:$B$10000=L$1)*(Stocks!$C$2:$C$10000=$A25)*(ROW($3:$10001)-1)),0),\"\")","v":0},{"$f":"IFERROR(OFFSET(Stocks!$E$1,SUMPRODUCT((Stocks!$B$2:$B$10000=M$1)*(Stocks!$C$2:$C$10000=$A25)*(ROW($3:$10001)-1)),0),\"\")","v":0},{"$f":"IFERROR(OFFSET(Stocks!$E$1,SUMPRODUCT((Stocks!$B$2:$B$10000=N$1)*(Stocks!$C$2:$C$10000=$A25)*(ROW($3:$10001)-1)),0),\"\")","v":0},{"$f":"IFERROR(OFFSET(Stocks!$E$1,SUMPRODUCT((Stocks!$B$2:$B$10000=O$1)*(Stocks!$C$2:$C$10000=$A25)*(ROW($3:$10001)-1)),0),\"\")","v":0},{"$f":"IFERROR(OFFSET(Stocks!$E$1,SUMPRODUCT((Stocks!$B$2:$B$10000=P$1)*(Stocks!$C$2:$C$10000=$A25)*(ROW($3:$10001)-1)),0),\"\")","v":0},{"$f":"IFERROR(OFFSET(Stocks!$E$1,SUMPRODUCT((Stocks!$B$2:$B$10000=Q$1)*(Stocks!$C$2:$C$10000=$A25)*(ROW($3:$10001)-1)),0),\"\")","v":0},{"$f":"IFERROR(OFFSET(Stocks!$E$1,SUMPRODUCT((Stocks!$B$2:$B$10000=R$1)*(Stocks!$C$2:$C$10000=$A25)*(ROW($3:$10001)-1)),0),\"\")","v":0},{"$f":"IFERROR(OFFSET(Stocks!$E$1,SUMPRODUCT((Stocks!$B$2:$B$10000=S$1)*(Stocks!$C$2:$C$10000=$A25)*(ROW($3:$10001)-1)),0),\"\")","v":0},{"$f":"IFERROR(OFFSET(Stocks!$E$1,SUMPRODUCT((Stocks!$B$2:$B$10000=T$1)*(Stocks!$C$2:$C$10000=$A25)*(ROW($3:$10001)-1)),0),\"\")","v":0},null,null,null,null,null,null,null,{"$f":"IFERROR(OFFSET(Stocks!$G$1,SUMPRODUCT((Stocks!$B$2:$B$10000=AB$1)*(Stocks!$C$2:$C$10000=$A25)*(ROW($3:$10001)-1)),0),\"\")","v":"Stock Réel"},{"$f":"IFERROR(OFFSET(Stocks!$G$1,SUMPRODUCT((Stocks!$B$2:$B$10000=AC$1)*(Stocks!$C$2:$C$10000=$A25)*(ROW($3:$10001)-1)),0),\"\")","v":"Stock Réel"},{"$f":"IFERROR(OFFSET(Stocks!$G$1,SUMPRODUCT((Stocks!$B$2:$B$10000=AD$1)*(Stocks!$C$2:$C$10000=$A25)*(ROW($3:$10001)-1)),0),\"\")","v":"Stock Réel"}]
["M2 ",null,null,null,null,null,null,null,{"$f":"IFERROR(OFFSET(Stocks!$E$1,SUMPRODUCT((Stocks!$B$2:$B$10000=I$1)*(Stocks!$C$2:$C$10000=$A26)*(ROW($3:$10001)-1)),0),\"\")","v":0},{"$f":"IFERROR(OFFSET(Stocks!$E$1,SUMPRODUCT((Stocks!$B$2:$B$10000=J$1)*(Stocks!$C$2:$C$10000=$A26)*(ROW($3:$10001)-1)),0),\"\")","v":0},{"$f":"IFERROR(OFFSET(Stocks!$E$1,SUMPRODUCT((Stocks!$B$2:$B$10000=K$1)*(Stocks!$C$2:$C$10000=$A26)*(ROW($3:$10001)-1)),0),\"\")","v":0},{"$f":"IFERROR(OFFSET(Stocks!$E$1,SUMPRODUCT((Stocks!$B$2:$B$10000=L$1)*(Stocks!$C$2:$C$10000=$A26)*(ROW($3:$10001)-1)),0),\"\")","v":0},{"$f":"IFERROR(OFFSET(Stocks!$E$1,SUMPRODUCT((Stocks!$B$2:$B$10000=M$1)*(Stocks!$C$2:$C$10000=$A26)*(ROW($3:$10001)-1)),0),\"\")","v":0},{"$f":"IFERROR(OFFSET(Stocks!$E$1,SUMPRODUCT((Stocks!$B$2:$B$10000=N$1)*(Stocks!$C$2:$C$10000=$A26)*(ROW($3:$10001)-1)),0),\"\")","v":0},{"$f":"IFERROR(OFFSET(Stocks!$E$1,SUMPRODUCT((Stocks!$B$2:$B$10000=O$1)*(Stocks!$C$2:$C$10000=$A26)*(ROW($3:$10001)-1)),0),\"\")","v":0},{"$f":"IFERROR(OFFSET(Stocks!$E$1,SUMPRODUCT((Stocks!$B$2:$B$10000=P$1)*(Stocks!$C$2:$C$10000=$A26)*(ROW($3:$10001)-1)),0),\"\")","v":0},{"$f":"IFERROR(OFFSET(Stocks!$E$1,SUMPRODUCT((Stocks!$B$2:$B$10000=Q$1)*(Stocks!$C$2:$C$10000=$A26)*(ROW($3:$10001)-1)),0),\"\")","v":0},{"$f":"IFERROR(OFFSET(Stocks!$E$1,SUMPRODUCT((Stocks!$B$2:$B$10000=R$1)*(Stocks!$C$2:$C$10000=$A26)*(ROW($3:$10001)-1)),0),\"\")","v":0},{"$f":"IFERROR(OFFSET(Stocks!$E$1,SUMPRODUCT((Stocks!$B$2:$B$10000=S$1)*(Stocks!$C$2:$C$10000=$A26)*(ROW($3:$10001)-1)),0),\"\")","v":0},{"$f":"IFERROR(OFFSET(Stocks!$E$1,SUMPRODUCT((Stocks!$B$2:$B$10000=T$1)*(Stocks!$C$2:$C$10000=$A26)*(ROW($3:$10001)-1)),0),\"\")","v":0},null,null,null,null,null,null,null,{"$f":"IFERROR(OFFSET(Stocks!$G$1,SUMPRODUCT((Stocks!$B$2:$B$10000=AB$1)*(Stocks!$C$2:$C$10000=$A26)*(ROW($3:$10001)-1)),0),\"\")","v":"Stock Réel"},{"$f":"IFERROR(OFFSET(Stocks!$G$1,SUMPRODUCT((Stocks!$B$2:$B$10000=AC$1)*(Stocks!$C$2:$C$10000=$A26)*(ROW($3:$10001)-1)),0),\"\")","v":"Stock Réel"},{"$f":"IFERROR(OFFSET(Stocks!$G$1,SUMPRODUCT((Stocks!$B$2:$B$10000=AD$1)*(Stocks!$C$2:$C$10000=$A26)*(ROW($3:$10001)-1)),0),\"\")","v":"Stock Réel"}]
["MO",null,null,null,null,null,null,null,{"$f":"IFERROR(OFFSET(Stocks!$E$1,SUMPRODUCT((Stocks!$B$2:$B$10000=I$1)*(Stocks!$C$2:$C$10000=$A27)*(ROW($3:$10001)-1)),0),\"\")","v":0},{"$f":"IFERROR(OFFSET(Stocks!$E$1,SUMPRODUCT((Stocks!$B$2:$B$10000=J$1)*(Stocks!$C$2:$C$10000=$A27)*(ROW($3:$10001)-1)),0),\"\")","v":0},{"$f":"IFERROR(OFFSET(Stocks!$E$1,SUMPRODUCT((Stocks!$B$2:$B$10000=K$1)*(Stocks!$C$2:$C$10000=$A27)*(ROW($3:$10001)-1)),0),\"\")","v":0},{"$f":"IFERROR(OFFSET(Stocks!$E$1,SUMPRODUCT((Stocks!$B$2:$B$10000=L$1)*(Stocks!$C$2:$C$10000=$A27)*(ROW($3:$10001)-1)),0),\"\")","v":0},{"$f":"IFERROR(OFFSET(Stocks!$E$1,SUMPRODUCT((Stocks!$B$2:$B$10000=M$1)*(Stocks!$C$2:$C$10000=$A27)*(ROW($3:$10001)-1)),0),\"\")","v":0},{"$f":"IFERROR(OFFSET(Stocks!$E$1,SUMPRODUCT((Stocks!$B$2:$B$10000=N$1)*(Stocks!$C$2:$C$10000=$A27)*(ROW($3:$10001)-1)),0),\"\")","v":0},{"$f":"IFERROR(OFFSET(Stocks!$E$1,SUMPRODUCT((Stocks!$B$2:$B$10000=O$1)*(Stocks!$C$2:$C$10000=$A27)*(ROW($3:$10001)-1)),0),\"\")","v":0},{"$f":"IFERROR(OFFSET(Stocks!$E$1,SUMPRODUCT((Stocks!$B$2:$B$10000=P$1)*(Stocks!$C$2:$C$10000=$A27)*(ROW($3:$10001)-1)),0),\"\")","v":0},{"$f":"IFERROR(OFFSET(Stocks!$E$1,SUMPRODUCT((Stocks!$B$2:$B$10000=Q$1)*(Stocks!$C$2:$C$10000=$A27)*(ROW($3:$10001)-1)),0),\"\")","v":0},{"$f":"IFERROR(OFFSET(Stocks!$E$1,SUMPRODUCT((Stocks!$B$2:$B$10000=R$1)*(Stocks!$C$2:$C$10000=$A27)*(ROW($3:$10001)-1)),0),\"\")","v":0},{"$f":"IFERROR(OFFSET(Stocks!$E$1,SUMPRODUCT((Stocks!$B$2:$B$10000=S$1)*(Stocks!$C$2:$C$10000=$A27)*(ROW($3:$10001)-1)),0),\"\")","v":0},{"$f":"IFERROR(OFFSET(Stocks!$E$1,SUMPRODUCT((Stocks!$B$2:$B$10000=T$1)*(Stocks!$C$2:$C$10000=$A27)*(ROW($3:$10001)-1)),0),\"\")","v":0},null,null,null,null,null,null,null,{"$f":"IFERROR(OFFSET(Stocks!$G$1,SUMPRODUCT((Stocks!$B$2:$B$10000=AB$1)*(Stocks!$C$2:$C$10000=$A27)*(ROW($3:$10001)-1)),0),\"\")","v":"Stock Réel"},{"$f":"IFERROR(OFFSET(Stocks!$G$1,SUMPRODUCT((Stocks!$B$2:$B$10000=AC$1)*(Stocks!$C$2:$C$10000=$A27)*(ROW($3:$10001)-1)),0),\"\")","v":"Stock Réel"},{"$f":"IFERROR(OFFSET(Stocks!$G$1,SUMPRODUCT((Stocks!$B$2:$B$10000=AD$1)*(Stocks!$C$2:$C$10000=$A27)*(ROW($3:$10001)-1)),0),\"\")","v":"Stock Réel"}]
["MOF",null,null,null,null,null,null,null,{"$f":"IFERROR(OFFSET(Stocks!$E$1,SUMPRODUCT((Stocks!$B$2:$B$10000=I$1)*(Stocks!$C$2:$C$10000=$A28)*(ROW($3:$10001)-1)),0),\"\")","v":0},{"$f":"IFERROR(OFFSET(Stocks!$E$1,SUMPRODUCT((Stocks!$B$2:$B$10000=J$1)*(Stocks!$C$2:$C$10000=$A28)*(ROW($3:$10001)-1)),0),\"\")","v":0},{"$f":"IFERROR(OFFSET(Stocks!$E$1,SUMPRODUCT((Stocks!$B$2:$B$10000=K$1)*(Stocks!$C$2:$C$10000=$A28)*(ROW($3:$10001)-1)),0),\"\")","v":0},{"$f":"IFERROR(OFFSET(Stocks!$E$1,SUMPRODUCT((Stocks!$B$2:$B$10000=L$1)*(Stocks!$C$2:$C$10000=$A28)*(ROW($3:$10001)-1)),0),\"\")","v":0},{"$f":"IFERROR(OFFSET(Stocks!$E$1,SUMPRODUCT((Stocks!$B$2:$B$10000=M$1)*(Stocks!$C$2:$C$10000=$A28)*(ROW($3:$10001)-1)),0),\"\")","v":0},{"$f":"IFERROR(OFFSET(Stocks!$E$1,SUMPRODUCT((Stocks!$B$2:$B$10000=N$1)*(Stocks!$C$2:$C$10000=$A28)*(ROW($3:$10001)-1)),0),\"\")","v":0},{"$f":"IFERROR(OFFSET(Stocks!$E$1,SUMPRODUCT((Stocks!$B$2:$B$10000=O$1)*(Stocks!$C$2:$C$10000=$A28)*(ROW($3:$10001)-1)),0),\"\")","v":0},{"$f":"IFERROR(OFFSET(Stocks!$E$1,SUMPRODUCT((Stocks!$B$2:$B$10000=P$1)*(Stocks!$C$2:$C$10000=$A28)*(ROW($3:$10001)-1)),0),\"\")","v":0},{"$f":"IFERROR(OFFSET(Stocks!$E$1,SUMPRODUCT((Stocks!$B$2:$B$10000=Q$1)*(Stocks!$C$2:$C$10000=$A28)*(ROW($3:$10001)-1)),0),\"\")","v":0},{"$f":"IFERROR(OFFSET(Stocks!$E$1,SUMPRODUCT((Stocks!$B$2:$B$10000=R$1)*(Stocks!$C$2:$C$10000=$A28)*(ROW($3:$10001)-1)),0),\"\")","v":0},{"$f":"IFERROR(OFFSET(Stocks!$E$1,SUMPRODUCT((Stocks!$B$2:$B$10000=S$1)*(Stocks!$C$2:$C$10000=$A28)*(ROW($3:$10001)-1)),0),\"\")","v":0},{"$f":"IFERROR(OFFSET(Stocks!$E$1,SUMPRODUCT((Stocks!$B$2:$B$10000=T$1)*(Stocks!$C$2:$C$10000=$A28)*(ROW($3:$10001)-1)),0),\"\")","v":0},null,null,null,null,null,null,null,{"$f":"IFERROR(OFFSET(Stocks!$G$1,SUMPRODUCT((Stocks!$B$2:$B$10000=AB$1)*(Stocks!$C$2:$C$10000=$A28)*(ROW($3:$10001)-1)),0),\"\")","v":"Stock Réel"},{"$f":"IFERROR(OFFSET(Stocks!$G$1,SUMPRODUCT((Stocks!$B$2:$B$10000=AC$1)*(Stocks!$C$2:$C$10000=$A28)*(ROW($3:$10001)-1)),0),\"\")","v":"Stock Réel"},{"$f":"IFERROR(OFFSET(Stocks!$G$1,SUMPRODUCT((Stocks!$B$2:$B$10000=AD$1)*(Stocks!$C$2:$C$10000=$A28)*(ROW($3:$10001)-1)),0),\"\")","v":"Stock Réel"}]
["MOV",null,null,null,null,null,null,null,{"$f":"IFERROR(OFFSET(Stocks!$E$1,SUMPRODUCT((Stocks!$B$2:$B$10000=I$1)*(Stocks!$C$2:$C$10000=$A29)*(ROW($3:$10001)-1)),0),\"\")","v":0},{"$f":"IFERROR(OFFSET(Stocks!$E$1,SUMPRODUCT((Stocks!$B$2:$B$10000=J$1)*(Stocks!$C$2:$C$10000=$A29)*(ROW($3:$10001)-1)),0),\"\")","v":0},{"$f":"IFERROR(OFFSET(Stocks!$E$1,SUMPRODUCT((Stocks!$B$2:$B$10000=K$1)*(Stocks!$C$2:$C$10000=$A29)*(ROW($3:$10001)-1)),0),\"\")","v":0},{"$f":"IFERROR(OFFSET(Stocks!$E$1,SUMPRODUCT((Stocks!$B$2:$B$10000=L$1)*(Stocks!$C$2:$C$10000=$A29)*(ROW($3:$10001)-1)),0),\"\")","v":0},{"$f":"IFERROR(OFFSET(Stocks!$E$1,SUMPRODUCT((Stocks!$B$2:$B$10000=M$1)*(Stocks!$C$2:$C$10000=$A29)*(ROW($3:$10001)-1)),0),\"\")","v":0},{"$f":"IFERROR(OFFSET(Stocks!$E$1,SUMPRODUCT((Stocks!$B$2:$B$10000=N$1)*(Stocks!$C$2:$C$10000=$A29)*(ROW($3:$10001)-1)),0),\"\")","v":0},{"$f":"IFERROR(OFFSET(Stocks!$E$1,SUMPRODUCT((Stocks!$B$2:$B$10000=O$1)*(Stocks!$C$2:$C$10000=$A29)*(ROW($3:$10001)-1)),0),\"\")","v":0},{"$f":"IFERROR(OFFSET(Stocks!$E$1,SUMPRODUCT((Stocks!$B$2:$B$10000=P$1)*(Stocks!$C$2:$C$10000=$A29)*(ROW($3:$10001)-1)),0),\"\")","v":0},{"$f":"IFERROR(OFFSET(Stocks!$E$1,SUMPRODUCT((Stocks!$B$2:$B$10000=Q$1)*(Stocks!$C$2:$C$10000=$A29)*(ROW($3:$10001)-1)),0),\"\")","v":0},{"$f":"IFERROR(OFFSET(Stocks!$E$1,SUMPRODUCT((Stocks!$B$2:$B$10000=R$1)*(Stocks!$C$2:$C$10000=$A29)*(ROW($3:$10001)-1)),0),\"\")","v":0},{"$f":"IFERROR(OFFSET(Stocks!$E$1,SUMPRODUCT((Stocks!$B$2:$B$10000=S$1)*(Stocks!$C$2:$C$10000=$A29)*(ROW($3:$10001)-1)),0),\"\")","v":0},{"$f":"IFERROR(OFFSET(Stocks!$E$1,SUMPRODUCT((Stocks!$B$2:$B$10000=T$1)*(Stocks!$C$2:$C$10000=$A29)*(ROW($3:$10001)-1)),0),\"\")","v":0},null,null,null,null,null,null,null,{"$f":"IFERROR(OFFSET(Stocks!$G$1,SUMPRODUCT((Stocks!$B$2:$B$10000=AB$1)*(Stocks!$C$2:$C$10000=$A29)*(ROW($3:$10001)-1)),0),\"\")","v":"Stock Réel"},{"$f":"IFERROR(OFFSET(Stocks!$G$1,SUMPRODUCT((Stocks!$B$2:$B$10000=AC$1)*(Stocks!$C$2:$C$10000=$A29)*(ROW($3:$10001)-1)),0),\"\")","v":"Stock Réel"},{"$f":"IFERROR(OFFSET(Stocks!$G$1,SUMPRODUCT((Stocks!$B$2:$B$10000=AD$1)*(Stocks!$C$2:$C$10000=$A29)*(ROW($3:$10001)-1)),0),\"\")","v":"Stock Réel"}]
["MR",null,null,null,null,null,null,null,{"$f":"IFERROR(OFFSET(Stocks!$E$1,SUMPRODUCT((Stocks!$B$2:$B$10000=I$1)*(Stocks!$C$2:$C$10000=$A30)*(ROW($3:$10001)-1)),0),\"\")","v":0},{"$f":"IFERROR(OFFSET(Stocks!$E$1,SUMPRODUCT((Stocks!$B$2:$B$10000=J$1)*(Stocks!$C$2:$C$10000=$A30)*(ROW($3:$10001)-1)),0),\"\")","v":0},{"$f":"IFERROR(OFFSET(Stocks!$E$1,SUMPRODUCT((Stocks!$B$2:$B$10000=K$1)*(Stocks!$C$2:$C$10000=$A30)*(ROW($3:$10001)-1)),0),\"\")","v":0},{"$f":"IFERROR(OFFSET(Stocks!$E$1,SUMPRODUCT((Stocks!$B$2:$B$10000=L$1)*(Stocks!$C$2:$C$10000=$A30)*(ROW($3:$10001)-1)),0),\"\")","v":0},{"$f":"IFERROR(OFFSET(Stocks!$E$1,SUMPRODUCT((Stocks!$B$2:$B$10000=M$1)*(Stocks!$C$2:$C$10000=$A30)*(ROW($3:$10001)-1)),0),\"\")","v":0},{"$f":"IFERROR(OFFSET(Stocks!$E$1,SUMPRODUCT((Stocks!$B$2:$B$10000=N$1)*(Stocks!$C$2:$C$10000=$A30)*(ROW($3:$10001)-1)),0),\"\")","v":0},{"$f":"IFERROR(OFFSET(Stocks!$E$1,SUMPRODUCT((Stocks!$B$2:$B$10000=O$1)*(Stocks!$C$2:$C$10000=$A30)*(ROW($3:$10001)-1)),0),\"\")","v":0},{"$f":"IFERROR(OFFSET(Stocks!$E$1,SUMPRODUCT((Stocks!$B$2:$B$10000=P$1)*(Stocks!$C$2:$C$10000=$A30)*(ROW($3:$10001)-1)),0),\"\")","v":0},{"$f":"IFERROR(OFFSET(Stocks!$E$1,SUMPRODUCT((Stocks!$B$2:$B$10000=Q$1)*(Stocks!$C$2:$C$10000=$A30)*(ROW($3:$10001)-1)),0),\"\")","v":0},{"$f":"IFERROR(OFFSET(Stocks!$E$1,SUMPRODUCT((Stocks!$B$2:$B$10000=R$1)*(Stocks!$C$2:$C$10000=$A30)*(ROW($3:$10001)-1)),0),\"\")","v":0},{"$f":"IFERROR(OFFSET(Stocks!$E$1,SUMPRODUCT((Stocks!$B$2:$B$10000=S$1)*(Stocks!$C$2:$C$10000=$A30)*(ROW($3:$10001)-1)),0),\"\")","v":0},{"$f":"IFERROR(OFFSET(Stocks!$E$1,SUMPRODUCT((Stocks!$B$2:$B$10000=T$1)*(Stocks!$C$2:$C$10000=$A30)*(ROW($3:$10001)-1)),0),\"\")","v":0},null,null,null,null,null,null,null,{"$f":"IFERROR(OFFSET(Stocks!$G$1,SUMPRODUCT((Stocks!$B$2:$B$10000=AB$1)*(Stocks!$C$2:$C$10000=$A30)*(ROW($3:$10001)-1)),0),\"\")","v":"Stock Réel"},{"$f":"IFERROR(OFFSET(Stocks!$G$1,SUMPRODUCT((Stocks!$B$2:$B$10000=AC$1)*(Stocks!$C$2:$C$10000=$A30)*(ROW($3:$10001)-1)),0),\"\")","v":"Stock Réel"},{"$f":"IFERROR(OFFSET(Stocks!$G$1,SUMPRODUCT((Stocks!$B$2:$B$10000=AD$1)*(Stocks!$C$2:$C$10000=$A30)*(ROW($3:$10001)-1)),0),\"\")","v":"Stock Réel"}]
["MRN",null,null,null,null,null,null,null,{"$f":"IFERROR(OFFSET(Stocks!$E$1,SUMPRODUCT((Stocks!$B$2:$B$10000=I$1)*(Stocks!$C$2:$C$10000=$A31)*(ROW($3:$10001)-1)),0),\"\")","v":0},{"$f":"IFERROR(OFFSET(Stocks!$E$1,SUMPRODUCT((Stocks!$B$2:$B$10000=J$1)*(Stocks!$C$2:$C$10000=$A31)*(ROW($3:$10001)-1)),0),\"\")","v":0},{"$f":"IFERROR(OFFSET(Stocks!$E$1,SUMPRODUCT((Stocks!$B$2:$B$10000=K$1)*(Stocks!$C$2:$C$10000=$A31)*(ROW($3:$10001)-1)),0),\"\")","v":0},{"$f":"IFERROR(OFFSET(Stocks!$E$1,SUMPRODUCT((Stocks!$B$2:$B$10000=L$1)*(Stocks!$C$2:$C$10000=$A31)*(ROW($3:$10001)-1)),0),\"\")","v":0},{"$f":"IFERROR(OFFSET(Stocks!$E$1,SUMPRODUCT((Stocks!$B$2:$B$10000=M$1)*(Stocks!$C$2:$C$10000=$A31)*(ROW($3:$10001)-1)),0),\"\")","v":0},{"$f":"IFERROR(OFFSET(Stocks!$E$1,SUMPRODUCT((Stocks!$B$2:$B$10000=N$1)*(Stocks!$C$2:$C$10000=$A31)*(ROW($3:$10001)-1)),0),\"\")","v":0},{"$f":"IFERROR(OFFSET(Stocks!$E$1,SUMPRODUCT((Stocks!$B$2:$B$10000=O$1)*(Stocks!$C$2:$C$10000=$A31)*(ROW($3:$10001)-1)),0),\"\")","v":0},{"$f":"IFERROR(OFFSET(Stocks!$E$1,SUMPRODUCT((Stocks!$B$2:$B$10000=P$1)*(Stocks!$C$2:$C$10000=$A31)*(ROW($3:$10001)-1)),0),\"\")","v":0},{"$f":"IFERROR(OFFSET(Stocks!$E$1,SUMPRODUCT((Stocks!$B$2:$B$10000=Q$1)*(Stocks!$C$2:$C$10000=$A31)*(ROW($3:$10001)-1)),0),\"\")","v":0},{"$f":"IFERROR(OFFSET(Stocks!$E$1,SUMPRODUCT((Stocks!$B$2:$B$10000=R$1)*(Stocks!$C$2:$C$10000=$A31)*(ROW($3:$10001)-1)),0),\"\")","v":0},{"$f":"IFERROR(OFFSET(Stocks!$E$1,SUMPRODUCT((Stocks!$B$2:$B$10000=S$1)*(Stocks!$C$2:$C$10000=$A31)*(ROW($3:$10001)-1)),0),\"\")","v":0},{"$f":"IFERROR(OFFSET(Stocks!$E$1,SUMPRODUCT((Stocks!$B$2:$B$10000=T$1)*(Stocks!$C$2:$C$10000=$A31)*(ROW($3:$10001)-1)),0),\"\")","v":0},null,null,null,null,null,null,null,{"$f":"IFERROR(OFFSET(Stocks!$G$1,SUMPRODUCT((Stocks!$B$2:$B$10000=AB$1)*(Stocks!$C$2:$C$10000=$A31)*(ROW($3:$10001)-1)),0),\"\")","v":"Stock Réel"},{"$f":"IFERROR(OFFSET(Stocks!$G$1,SUMPRODUCT((Stocks!$B$2:$B$10000=AC$1)*(Stocks!$C$2:$C$10000=$A31)*(ROW($3:$10001)-1)),0),\"\")","v":"Stock Réel"},{"$f":"IFERROR(OFFSET(Stocks!$G$1,SUMPRODUCT((Stocks!$B$2:$B$10000=AD$1)*(Stocks!$C$2:$C$10000=$A31)*(ROW($3:$10001)-1)),0),\"\")","v":"Stock Réel"}]
["NR",null,null,null,null,null,null,null,{"$f":"IFERROR(OFFSET(Stocks!$E$1,SUMPRODUCT((Stocks!$B$2:$B$10000=I$1)*(Stocks!$C$2:$C$10000=$A32)*(ROW($3:$10001)-1)),0),\"\")","v":0},{"$f":"IFERROR(OFFSET(Stocks!$E$1,SUMPRODUCT((Stocks!$B$2:$B$10000=J$1)*(Stocks!$C$2:$C$10000=$A32)*(ROW($3:$10001)-1)),0),\"\")","v":0},{"$f":"IFERROR(OFFSET(Stocks!$E$1,SUMPRODUCT((Stocks!$B$2:$B$10000=K$1)*(Stocks!$C$2:$C$10000=$A32)*(ROW($3:$10001)-1)),0),\"\")","v":0},{"$f":"IFERROR(OFFSET(Stocks!$E$1,SUMPRODUCT((Stocks!$B$2:$B$10000=L$1)*(Stocks!$C$2:$C$10000=$A32)*(ROW($3:$10001)-1)),0),\"\")","v":0},{"$f":"IFERROR(OFFSET(Stocks!$E$1,SUMPRODUCT((Stocks!$B$2:$B$10000=M$1)*(Stocks!$C$2:$C$10000=$A32)*(ROW($3:$10001)-1)),0),\"\")","v":0},{"$f":"IFERROR(OFFSET(Stocks!$E$1,SUMPRODUCT((Stocks!$B$2:$B$10000=N$1)*(Stocks!$C$2:$C$10000=$A32)*(ROW($3:$10001)-1)),0),\"\")","v":0},{"$f":"IFERROR(OFFSET(Stocks!$E$1,SUMPRODUCT((Stocks!$B$2:$B$10000=O$1)*(Stocks!$C$2:$C$10000=$A32)*(ROW($3:$10001)-1)),0),\"\")","v":0},{"$f":"IFERROR(OFFSET(Stocks!$E$1,SUMPRODUCT((Stocks!$B$2:$B$10000=P$1)*(Stocks!$C$2:$C$10000=$A32)*(ROW($3:$10001)-1)),0),\"\")","v":0},{"$f":"IFERROR(OFFSET(Stocks!$E$1,SUMPRODUCT((Stocks!$B$2:$B$10000=Q$1)*(Stocks!$C$2:$C$10000=$A32)*(ROW($3:$10001)-1)),0),\"\")","v":0},{"$f":"IFERROR(OFFSET(Stocks!$E$1,SUMPRODUCT((Stocks!$B$2:$B$10000=R$1)*(Stocks!$C$2:$C$10000=$A32)*(ROW($3:$10001)-1)),0),\"\")","v":0},{"$f":"IFERROR(OFFSET(Stocks!$E$1,SUMPRODUCT((Stocks!$B$2:$B$10000=S$1)*(Stocks!$C$2:$C$10000=$A32)*(ROW($3:$10001)-1)),0),\"\")","v":0},{"$f":"IFERROR(OFFSET(Stocks!$E$1,SUMPRODUCT((Stocks!$B$2:$B$10000=T$1)*(Stocks!$C$2:$C$10000=$A32)*(ROW($3:$10001)-1)),0),\"\")","v":0},null,null,null,null,null,null,null,{"$f":"IFERROR(OFFSET(Stocks!$G$1,SUMPRODUCT((Stocks!$B$2:$B$10000=AB$1)*(Stocks!$C$2:$C$10000=$A32)*(ROW($3:$10001)-1)),0),\"\")","v":"Stock Réel"},{"$f":"IFERROR(OFFSET(Stocks!$G$1,SUMPRODUCT((Stocks!$B$2:$B$10000=AC$1)*(Stocks!$C$2:$C$10000=$A32)*(ROW($3:$10001)-1)),0),\"\")","v":"Stock Réel"},{"$f":"IFERROR(OFFSET(Stocks!$G$1,SUMPRODUCT((Stocks!$B$2:$B$10000=AD$1)*(Stocks!$C$2:$C$10000=$A32)*(ROW($3:$10001)-1)),0),\"\")","v":"Stock Réel"}]
["OR",null,null,null,null,null,null,null,{"$f":"IFERROR(OFFSET(Stocks!$E$1,SUMPRODUCT((Stocks!$B$2:$B$10000=I$1)*(Stocks!$C$2:$C$10000=$A33)*(ROW($3:$10001)-1)),0),\"\")","v":0},{"$f":"IFERROR(OFFSET(Stocks!$E$1,SUMPRODUCT((Stocks!$B$2:$B$10000=J$1)*(Stocks!$C$2:$C$10000=$A33)*(ROW($3:$10001)-1)),0),\"\")","v":0},{"$f":"IFERROR(OFFSET(Stocks!$E$1,SUMPRODUCT((Stocks!$B$2:$B$10000=K$1)*(Stocks!$C$2:$C$10000=$A33)*(ROW($3:$10001)-1)),0),\"\")","v":0},{"$f":"IFERROR(OFFSET(Stocks!$E$1,SUMPRODUCT((Stocks!$B$2:$B$10000=L$1)*(Stocks!$C$2:$C$10000=$A33)*(ROW($3:$10001)-1)),0),\"\")","v":0},{"$f":"IFERROR(OFFSET(Stocks!$E$1,SUMPRODUCT((Stocks!$B$2:$B$10000=M$1)*(Stocks!$C$2:$C$10000=$A33)*(ROW($3:$10001)-1)),0),\"\")","v":0},{"$f":"IFERROR(OFFSET(Stocks!$E$1,SUMPRODUCT((Stocks!$B$2:$B$10000=N$1)*(Stocks!$C$2:$C$10000=$A33)*(ROW($3:$10001)-1)),0),\"\")","v":0},{"$f":"IFERROR(OFFSET(Stocks!$E$1,SUMPRODUCT((Stocks!$B$2:$B$10000=O$1)*(Stocks!$C$2:$C$10000=$A33)*(ROW($3:$10001)-1)),0),\"\")","v":0},{"$f":"IFERROR(OFFSET(Stocks!$E$1,SUMPRODUCT((Stocks!$B$2:$B$10000=P$1)*(Stocks!$C$2:$C$10000=$A33)*(ROW($3:$10001)-1)),0),\"\")","v":0},{"$f":"IFERROR(OFFSET(Stocks!$E$1,SUMPRODUCT((Stocks!$B$2:$B$10000=Q$1)*(Stocks!$C$2:$C$10000=$A33)*(ROW($3:$10001)-1)),0),\"\")","v":0},{"$f":"IFERROR(OFFSET(Stocks!$E$1,SUMPRODUCT((Stocks!$B$2:$B$10000=R$1)*(Stocks!$C$2:$C$10000=$A33)*(ROW($3:$10001)-1)),0),\"\")","v":0},{"$f":"IFERROR(OFFSET(Stocks!$E$1,SUMPRODUCT((Stocks!$B$2:$B$10000=S$1)*(Stocks!$C$2:$C$10000=$A33)*(ROW($3:$10001)-1)),0),\"\")","v":0},{"$f":"IFERROR(OFFSET(Stocks!$E$1,SUMPRODUCT((Stocks!$B$2:$B$10000=T$1)*(Stocks!$C$2:$C$10000=$A33)*(ROW($3:$10001)-1)),0),\"\")","v":0},null,null,null,null,null,null,null,{"$f":"IFERROR(OFFSET(Stocks!$G$1,SUMPRODUCT((Stocks!$B$2:$B$10000=AB$1)*(Stocks!$C$2:$C$10000=$A33)*(ROW($3:$10001)-1)),0),\"\")","v":"Stock Réel"},{"$f":"IFERROR(OFFSET(Stocks!$G$1,SUMPRODUCT((Stocks!$B$2:$B$10000=AC$1)*(Stocks!$C$2:$C$10000=$A33)*(ROW($3:$10001)-1)),0),\"\")","v":"Stock Réel"},{"$f":"IFERROR(OFFSET(Stocks!$G$1,SUMPRODUCT((Stocks!$B$2:$B$10000=AD$1)*(Stocks!$C$2:$C$10000=$A33)*(ROW($3:$10001)-1)),0),\"\")","v":"Stock Réel"}]
["PA",null,null,null,null,null,null,null,{"$f":"IFERROR(OFFSET(Stocks!$E$1,SUMPRODUCT((Stocks!$B$2:$B$10000=I$1)*(Stocks!$C$2:$C$10000=$A34)*(ROW($3:$10001)-1)),0),\"\")","v":0},{"$f":"IFERROR(OFFSET(Stocks!$E$1,SUMPRODUCT((Stocks!$B$2:$B$10000=J$1)*(Stocks!$C$2:$C$10000=$A34)*(ROW($3:$10001)-1)),0),\"\")","v":0},{"$f":"IFERROR(OFFSET(Stocks!$E$1,SUMPRODUCT((Stocks!$B$2:$B$10000=K$1)*(Stocks!$C$2:$C$10000=$A34)*(ROW($3:$10001)-1)),0),\"\")","v":0},{"$f":"IFERROR(OFFSET(Stocks!$E$1,SUMPRODUCT((Stocks!$B$2:$B$10000=L$1)*(Stocks!$C$2:$C$10000=$A34)*(ROW($3:$10001)-1)),0),\"\")","v":0},{"$f":"IFERROR(OFFSET(Stocks!$E$1,SUMPRODUCT((Stocks!$B$2:$B$10000=M$1)*(Stocks!$C$2:$C$10000=$A34)*(ROW($3:$10001)-1)),0),\"\")","v":0},{"$f":"IFERROR(OFFSET(Stocks!$E$1,SUMPRODUCT((Stocks!$B$2:$B$10000=N$1)*(Stocks!$C$2:$C$10000=$A34)*(ROW($3:$10001)-1)),0),\"\")","v":0},{"$f":"IFERROR(OFFSET(Stocks!$E$1,SUMPRODUCT((Stocks!$B$2:$B$10000=O$1)*(Stocks!$C$2:$C$10000=$A34)*(ROW($3:$10001)-1)),0),\"\")","v":0},{"$f":"IFERROR(OFFSET(Stocks!$E$1,SUMPRODUCT((Stocks!$B$2:$B$10000=P$1)*(Stocks!$C$2:$C$10000=$A34)*(ROW($3:$10001)-1)),0),\"\")","v":0},{"$f":"IFERROR(OFFSET(Stocks!$E$1,SUMPRODUCT((Stocks!$B$2:$B$10000=Q$1)*(Stocks!$C$2:$C$10000=$A34)*(ROW($3:$10001)-1)),0),\"\")","v":0},{"$f":"IFERROR(OFFSET(Stocks!$E$1,SUMPRODUCT((Stocks!$B$2:$B$10000=R$1)*(Stocks!$C$2:$C$10000=$A34)*(ROW($3:$10001)-1)),0),\"\")","v":0},{"$f":"IFERROR(OFFSET(Stocks!$E$1,SUMPRODUCT((Stocks!$B$2:$B$10000=S$1)*(Stocks!$C$2:$C$10000=$A34)*(ROW($3:$10001)-1)),0),\"\")","v":0},{"$f":"IFERROR(OFFSET(Stocks!$E$1,SUMPRODUCT((Stocks!$B$2:$B$10000=T$1)*(Stocks!$C$2:$C$10000=$A34)*(ROW($3:$10001)-1)),0),\"\")","v":0},null,null,null,null,null,null,null,{"$f":"IFERROR(OFFSET(Stocks!$G$1,SUMPRODUCT((Stocks!$B$2:$B$10000=AB$1)*(Stocks!$C$2:$C$10000=$A34)*(ROW($3:$10001)-1)),0),\"\")","v":"Stock Réel"},{"$f":"IFERROR(OFFSET(Stocks!$G$1,SUMPRODUCT((Stocks!$B$2:$B$10000=AC$1)*(Stocks!$C$2:$C$10000=$A34)*(ROW($3:$10001)-1)),0),\"\")","v":"Stock Réel"},{"$f":"IFERROR(OFFSET(Stocks!$G$1,SUMPRODUCT((Stocks!$B$2:$B$10000=AD$1)*(Stocks!$C$2:$C$10000=$A34)*(ROW($3:$10001)-1)),0),\"\")","v":"Stock Réel"}]
["PA2",null,null,null,null,null,null,null,{"$f":"IFERROR(OFFSET(Stocks!$E$1,SUMPRODUCT((Stocks!$B$2:$B$10000=I$1)*(Stocks!$C$2:$C$10000=$A35)*(ROW($3:$10001)-1)),0),\"\")","v":0},{"$f":"IFERROR(OFFSET(Stocks!$E$1,SUMPRODUCT((Stocks!$B$2:$B$10000=J$1)*(Stocks!$C$2:$C$10000=$A35)*(ROW($3:$10001)-1)),0),\"\")","v":0},{"$f":"IFERROR(OFFSET(Stocks!$E$1,SUMPRODUCT((Stocks!$B$2:$B$10000=K$1)*(Stocks!$C$2:$C$10000=$A35)*(ROW($3:$10001)-1)),0),\"\")","v":0},{"$f":"IFERROR(OFFSET(Stocks!$E$1,SUMPRODUCT((Stocks!$B$2:$B$10000=L$1)*(Stocks!$C$2:$C$10000=$A35)*(ROW($3:$10001)-1)),0),\"\")","v":0},{"$f":"IFERROR(OFFSET(Stocks!$E$1,SUMPRODUCT((Stocks!$B$2:$B$10000=M$1)*(Stocks!$C$2:$C$10000=$A35)*(ROW($3:$10001)-1)),0),\"\")","v":0},{"$f":"IFERROR(OFFSET(Stocks!$E$1,SUMPRODUCT((Stocks!$B$2:$B$10000=N$1)*(Stocks!$C$2:$C$10000=$A35)*(ROW($3:$10001)-1)),0),\"\")","v":0},{"$f":"IFERROR(OFFSET(Stocks!$E$1,SUMPRODUCT((Stocks!$B$2:$B$10000=O$1)*(Stocks!$C$2:$C$10000=$A35)*(ROW($3:$10001)-1)),0),\"\")","v":0},{"$f":"IFERROR(OFFSET(Stocks!$E$1,SUMPRODUCT((Stocks!$B$2:$B$10000=P$1)*(Stocks!$C$2:$C$10000=$A35)*(ROW($3:$10001)-1)),0),\"\")","v":0},{"$f":"IFERROR(OFFSET(Stocks!$E$1,SUMPRODUCT((Stocks!$B$2:$B$10000=Q$1)*(Stocks!$C$2:$C$10000=$A35)*(ROW($3:$10001)-1)),0),\"\")","v":0},{"$f":"IFERROR(OFFSET(Stocks!$E$1,SUMPRODUCT((Stocks!$B$2:$B$10000=R$1)*(Stocks!$C$2:$C$10000=$A35)*(ROW($3:$10001)-1)),0),\"\")","v":0},{"$f":"IFERROR(OFFSET(Stocks!$E$1,SUMPRODUCT((Stocks!$B$2:$B$10000=S$1)*(Stocks!$C$2:$C$10000=$A35)*(ROW($3:$10001)-1)),0),\"\")","v":0},{"$f":"IFERROR(OFFSET(Stocks!$E$1,SUMPRODUCT((Stocks!$B$2:$B$10000=T$1)*(Stocks!$C$2:$C$10000=$A35)*(ROW($3:$10001)-1)),0),\"\")","v":0},null,null,null,null,null,null,null,{"$f":"IFERROR(OFFSET(Stocks!$G$1,SUMPRODUCT((Stocks!$B$2:$B$10000=AB$1)*(Stocks!$C$2:$C$10000=$A35)*(ROW($3:$10001)-1)),0),\"\")","v":"Stock Réel"},{"$f":"IFERROR(OFFSET(Stocks!$G$1,SUMPRODUCT((Stocks!$B$2:$B$10000=AC$1)*(Stocks!$C$2:$C$10000=$A35)*(ROW($3:$10001)-1)),0),\"\")","v":"Stock Réel"},{"$f":"IFERROR(OFFSET(Stocks!$G$1,SUMPRODUCT((Stocks!$B$2:$B$10000=AD$1)*(Stocks!$C$2:$C$10000=$A35)*(ROW($3:$10001)-1)),0),\"\")","v":"Stock Réel"}]
["PR",null,null,null,null,null,null,null,{"$f":"IFERROR(OFFSET(Stocks!$E$1,SUMPRODUCT((Stocks!$B$2:$B$10000=I$1)*(Stocks!$C$2:$C$10000=$A36)*(ROW($3:$10001)-1)),0),\"\")","v":0},{"$f":"IFERROR(OFFSET(Stocks!$E$1,SUMPRODUCT((Stocks!$B$2:$B$10000=J$1)*(Stocks!$C$2:$C$10000=$A36)*(ROW($3:$10001)-1)),0),\"\")","v":0},{"$f":"IFERROR(OFFSET(Stocks!$E$1,SUMPRODUCT((Stocks!$B$2:$B$10000=K$1)*(Stocks!$C$2:$C$10000=$A36)*(ROW($3:$10001)-1)),0),\"\")","v":0},{"$f":"IFERROR(OFFSET(Stocks!$E$1,SUMPRODUCT((Stocks!$B$2:$B$10000=L$1)*(Stocks!$C$2:$C$10000=$A36)*(ROW($3:$10001)-1)),0),\"\")","v":0},{"$f":"IFERROR(OFFSET(Stocks!$E$1,SUMPRODUCT((Stocks!$B$2:$B$10000=M$1)*(Stocks!$C$2:$C$10000=$A36)*(ROW($3:$10001)-1)),0),\"\")","v":0},{"$f":"IFERROR(OFFSET(Stocks!$E$1,SUMPRODUCT((Stocks!$B$2:$B$10000=N$1)*(Stocks!$C$2:$C$10000=$A36)*(ROW($3:$10001)-1)),0),\"\")","v":0},{"$f":"IFERROR(OFFSET(Stocks!$E$1,SUMPRODUCT((Stocks!$B$2:$B$10000=O$1)*(Stocks!$C$2:$C$10000=$A36)*(ROW($3:$10001)-1)),0),\"\")","v":0},{"$f":"IFERROR(OFFSET(Stocks!$E$1,SUMPRODUCT((Stocks!$B$2:$B$10000=P$1)*(Stocks!$C$2:$C$10000=$A36)*(ROW($3:$10001)-1)),0),\"\")","v":0},{"$f":"IFERROR(OFFSET(Stocks!$E$1,SUMPRODUCT((Stocks!$B$2:$B$10000=Q$1)*(Stocks!$C$2:$C$10000=$A36)*(ROW($3:$10001)-1)),0),\"\")","v":0},{"$f":"IFERROR(OFFSET(Stocks!$E$1,SUMPRODUCT((Stocks!$B$2:$B$10000=R$1)*(Stocks!$C$2:$C$10000=$A36)*(ROW($3:$10001)-1)),0),\"\")","v":0},{"$f":"IFERROR(OFFSET(Stocks!$E$1,SUMPRODUCT((Stocks!$B$2:$B$10000=S$1)*(Stocks!$C$2:$C$10000=$A36)*(ROW($3:$10001)-1)),0),\"\")","v":0},{"$f":"IFERROR(OFFSET(Stocks!$E$1,SUMPRODUCT((Stocks!$B$2:$B$10000=T$1)*(Stocks!$C$2:$C$10000=$A36)*(ROW($3:$10001)-1)),0),\"\")","v":0},null,null,null,null,null,null,null,{"$f":"IFERROR(OFFSET(Stocks!$G$1,SUMPRODUCT((Stocks!$B$2:$B$10000=AB$1)*(Stocks!$C$2:$C$10000=$A36)*(ROW($3:$10001)-1)),0),\"\")","v":"Stock Réel"},{"$f":"IFERROR(OFFSET(Stocks!$G$1,SUMPRODUCT((Stocks!$B$2:$B$10000=AC$1)*(Stocks!$C$2:$C$10000=$A36)*(ROW($3:$10001)-1)),0),\"\")","v":"Stock Réel"},{"$f":"IFERROR(OFFSET(Stocks!$G$1,SUMPRODUCT((Stocks!$B$2:$B$10000=AD$1)*(Stocks!$C$2:$C$10000=$A36)*(ROW($3:$10001)-1)),0),\"\")","v":"Stock Réel"}]
["R1",null,null,null,null,null,null,null,{"$f":"IFERROR(OFFSET(Stocks!$E$1,SUMPRODUCT((Stocks!$B$2:$B$10000=I$1)*(Stocks!$C$2:$C$10000=$A37)*(ROW($3:$10001)-1)),0),\"\")","v":0},{"$f":"IFERROR(OFFSET(Stocks!$E$1,SUMPRODUCT((Stocks!$B$2:$B$10000=J$1)*(Stocks!$C$2:$C$10000=$A37)*(ROW($3:$10001)-1)),0),\"\")","v":0},{"$f":"IFERROR(OFFSET(Stocks!$E$1,SUMPRODUCT((Stocks!$B$2:$B$10000=K$1)*(Stocks!$C$2:$C$10000=$A37)*(ROW($3:$10001)-1)),0),\"\")","v":0},{"$f":"IFERROR(OFFSET(Stocks!$E$1,SUMPRODUCT((Stocks!$B$2:$B$10000=L$1)*(Stocks!$C$2:$C$10000=$A37)*(ROW($3:$10001)-1)),0),\"\")","v":0},{"$f":"IFERROR(OFFSET(Stocks!$E$1,SUMPRODUCT((Stocks!$B$2:$B$10000=M$1)*(Stocks!$C$2:$C$10000=$A37)*(ROW($3:$10001)-1)),0),\"\")","v":0},{"$f":"IFERROR(OFFSET(Stocks!$E$1,SUMPRODUCT((Stocks!$B$2:$B$10000=N$1)*(Stocks!$C$2:$C$10000=$A37)*(ROW($3:$10001)-1)),0),\"\")","v":0},{"$f":"IFERROR(OFFSET(Stocks!$E$1,SUMPRODUCT((Stocks!$B$2:$B$10000=O$1)*(Stocks!$C$2:$C$10000=$A37)*(ROW($3:$10001)-1)),0),\"\")","v":0},{"$f":"IFERROR(OFFSET(Stocks!$E$1,SUMPRODUCT((Stocks!$B$2:$B$10000=P$1)*(Stocks!$C$2:$C$10000=$A37)*(ROW($3:$10001)-1)),0),\"\")","v":0},{"$f":"IFERROR(OFFSET(Stocks!$E$1,SUMPRODUCT((Stocks!$B$2:$B$10000=Q$1)*(Stocks!$C$2:$C$10000=$A37)*(ROW($3:$10001)-1)),0),\"\")","v":0},{"$f":"IFERROR(OFFSET(Stocks!$E$1,SUMPRODUCT((Stocks!$B$2:$B$10000=R$1)*(Stocks!$C$2:$C$10000=$A37)*(ROW($3:$10001)-1)),0),\"\")","v":0},{"$f":"IFERROR(OFFSET(Stocks!$E$1,SUMPRODUCT((Stocks!$B$2:$B$10000=S$1)*(Stocks!$C$2:$C$10000=$A37)*(ROW($3:$10001)-1)),0),\"\")","v":0},{"$f":"IFERROR(OFFSET(Stocks!$E$1,SUMPRODUCT((Stocks!$B$2:$B$10000=T$1)*(Stocks!$C$2:$C$10000=$A37)*(ROW($3:$10001)-1)),0),\"\")","v":0},null,null,null,null,null,null,null,{"$f":"IFERROR(OFFSET(Stocks!$G$1,SUMPRODUCT((Stocks!$B$2:$B$10000=AB$1)*(Stocks!$C$2:$C$10000=$A37)*(ROW($3:$10001)-1)),0),\"\")","v":"Stock Réel"},{"$f":"IFERROR(OFFSET(Stocks!$G$1,SUMPRODUCT((Stocks!$B$2:$B$10000=AC$1)*(Stocks!$C$2:$C$10000=$A37)*(ROW($3:$10001)-1)),0),\"\")","v":"Stock Réel"},{"$f":"IFERROR(OFFSET(Stocks!$G$1,SUMPRODUCT((Stocks!$B$2:$B$10000=AD$1)*(Stocks!$C$2:$C$10000=$A37)*(ROW($3:$10001)-1)),0),\"\")","v":"Stock Réel"}]
["R2",null,null,null,null,null,null,null,{"$f":"IFERROR(OFFSET(Stocks!$E$1,SUMPRODUCT((Stocks!$B$2:$B$10000=I$1)*(Stocks!$C$2:$C$10000=$A38)*(ROW($3:$10001)-1)),0),\"\")","v":0},{"$f":"IFERROR(OFFSET(Stocks!$E$1,SUMPRODUCT((Stocks!$B$2:$B$10000=J$1)*(Stocks!$C$2:$C$10000=$A38)*(ROW($3:$10001)-1)),0),\"\")","v":0},{"$f":"IFERROR(OFFSET(Stocks!$E$1,SUMPRODUCT((Stocks!$B$2:$B$10000=K$1)*(Stocks!$C$2:$C$10000=$A38)*(ROW($3:$10001)-1)),0),\"\")","v":0},{"$f":"IFERROR(OFFSET(Stocks!$E$1,SUMPRODUCT((Stocks!$B$2:$B$10000=L$1)*(Stocks!$C$2:$C$10000=$A38)*(ROW($3:$10001)-1)),0),\"\")","v":0},{"$f":"IFERROR(OFFSET(Stocks!$E$1,SUMPRODUCT((Stocks!$B$2:$B$10000=M$1)*(Stocks!$C$2:$C$10000=$A38)*(ROW($3:$10001)-1)),0),\"\")","v":0},{"$f":"IFERROR(OFFSET(Stocks!$E$1,SUMPRODUCT((Stocks!$B$2:$B$10000=N$1)*(Stocks!$C$2:$C$10000=$A38)*(ROW($3:$10001)-1)),0),\"\")","v":0},{"$f":"IFERROR(OFFSET(Stocks!$E$1,SUMPRODUCT((Stocks!$B$2:$B$10000=O$1)*(Stocks!$C$2:$C$10000=$A38)*(ROW($3:$10001)-1)),0),\"\")","v":0},{"$f":"IFERROR(OFFSET(Stocks!$E$1,SUMPRODUCT((Stocks!$B$2:$B$10000=P$1)*(Stocks!$C$2:$C$10000=$A38)*(ROW($3:$10001)-1)),0),\"\")","v":0},{"$f":"IFERROR(OFFSET(Stocks!$E$1,SUMPRODUCT((Stocks!$B$2:$B$10000=Q$1)*(Stocks!$C$2:$C$10000=$A38)*(ROW($3:$10001)-1)),0),\"\")","v":0},{"$f":"IFERROR(OFFSET(Stocks!$E$1,SUMPRODUCT((Stocks!$B$2:$B$10000=R$1)*(Stocks!$C$2:$C$10000=$A38)*(ROW($3:$10001)-1)),0),\"\")","v":0},{"$f":"IFERROR(OFFSET(Stocks!$E$1,SUMPRODUCT((Stocks!$B$2:$B$10000=S$1)*(Stocks!$C$2:$C$10000=$A38)*(ROW($3:$10001)-1)),0),\"\")","v":0},{"$f":"IFERROR(OFFSET(Stocks!$E$1,SUMPRODUCT((Stocks!$B$2:$B$10000=T$1)*(Stocks!$C$2:$C$10000=$A38)*(ROW($3:$10001)-1)),0),\"\")","v":0},null,null,null,null,null,null,null,{"$f":"IFERROR(OFFSET(Stocks!$G$1,SUMPRODUCT((Stocks!$B$2:$B$10000=AB$1)*(Stocks!$C$2:$C$10000=$A38)*(ROW($3:$10001)-1)),0),\"\")","v":"Stock Réel"},{"$f":"IFERROR(OFFSET(Stocks!$G$1,SUMPRODUCT((Stocks!$B$2:$B$10000=AC$1)*(Stocks!$C$2:$C$10000=$A38)*(ROW($3:$10001)-1)),0),\"\")","v":"Stock Réel"},{"$f":"IFERROR(OFFSET(Stocks!$G$1,SUMPRODUCT((Stocks!$B$2:$B$10000=AD$1)*(Stocks!$C$2:$C$10000=$A38)*(ROW($3:$10001)-1)),0),\"\")","v":"Stock Réel"}]
["R3",null,null,null,null,null,null,null,{"$f":"IFERROR(OFFSET(Stocks!$E$1,SUMPRODUCT((Stocks!$B$2:$B$10000=I$1)*(Stocks!$C$2:$C$10000=$A39)*(ROW($3:$10001)-1)),0),\"\")","v":0},{"$f":"IFERROR(OFFSET(Stocks!$E$1,SUMPRODUCT((Stocks!$B$2:$B$10000=J$1)*(Stocks!$C$2:$C$10000=$A39)*(ROW($3:$10001)-1)),0),\"\")","v":0},{"$f":"IFERROR(OFFSET(Stocks!$E$1,SUMPRODUCT((Stocks!$B$2:$B$10000=K$1)*(Stocks!$C$2:$C$10000=$A39)*(ROW($3:$10001)-1)),0),\"\")","v":0},{"$f":"IFERROR(OFFSET(Stocks!$E$1,SUMPRODUCT((Stocks!$B$2:$B$10000=L$1)*(Stocks!$C$2:$C$10000=$A39)*(ROW($3:$10001)-1)),0),\"\")","v":0},{"$f":"IFERROR(OFFSET(Stocks!$E$1,SUMPRODUCT((Stocks!$B$2:$B$10000=M$1)*(Stocks!$C$2:$C$10000=$A39)*(ROW($3:$10001)-1)),0),\"\")","v":0},{"$f":"IFERROR(OFFSET(Stocks!$E$1,SUMPRODUCT((Stocks!$B$2:$B$10000=N$1)*(Stocks!$C$2:$C$10000=$A39)*(ROW($3:$10001)-1)),0),\"\")","v":0},{"$f":"IFERROR(OFFSET(Stocks!$E$1,SUMPRODUCT((Stocks!$B$2:$B$10000=O$1)*(Stocks!$C$2:$C$10000=$A39)*(ROW($3:$10001)-1)),0),\"\")","v":0},{"$f":"IFERROR(OFFSET(Stocks!$E$1,SUMPRODUCT((Stocks!$B$2:$B$10000=P$1)*(Stocks!$C$2:$C$10000=$A39)*(ROW($3:$10001)-1)),0),\"\")","v":0},{"$f":"IFERROR(OFFSET(Stocks!$E$1,SUMPRODUCT((Stocks!$B$2:$B$10000=Q$1)*(Stocks!$C$2:$C$10000=$A39)*(ROW($3:$10001)-1)),0),\"\")","v":0},{"$f":"IFERROR(OFFSET(Stocks!$E$1,SUMPRODUCT((Stocks!$B$2:$B$10000=R$1)*(Stocks!$C$2:$C$10000=$A39)*(ROW($3:$10001)-1)),0),\"\")","v":0},{"$f":"IFERROR(OFFSET(Stocks!$E$1,SUMPRODUCT((Stocks!$B$2:$B$10000=S$1)*(Stocks!$C$2:$C$10000=$A39)*(ROW($3:$10001)-1)),0),\"\")","v":0},{"$f":"IFERROR(OFFSET(Stocks!$E$1,SUMPRODUCT((Stocks!$B$2:$B$10000=T$1)*(Stocks!$C$2:$C$10000=$A39)*(ROW($3:$10001)-1)),0),\"\")","v":0},null,null,null,null,null,null,null,{"$f":"IFERROR(OFFSET(Stocks!$G$1,SUMPRODUCT((Stocks!$B$2:$B$10000=AB$1)*(Stocks!$C$2:$C$10000=$A39)*(ROW($3:$10001)-1)),0),\"\")","v":"Stock Réel"},{"$f":"IFERROR(OFFSET(Stocks!$G$1,SUMPRODUCT((Stocks!$B$2:$B$10000=AC$1)*(Stocks!$C$2:$C$10000=$A39)*(ROW($3:$10001)-1)),0),\"\")","v":"Stock Réel"},{"$f":"IFERROR(OFFSET(Stocks!$G$1,SUMPRODUCT((Stocks!$B$2:$B$10000=AD$1)*(Stocks!$C$2:$C$10000=$A39)*(ROW($3:$10001)-1)),0),\"\")","v":"Stock Réel"}]
["RB",null,null,null,null,null,null,null,{"$f":"IFERROR(OFFSET(Stocks!$E$1,SUMPRODUCT((Stocks!$B$2:$B$10000=I$1)*(Stocks!$C$2:$C$10000=$A40)*(ROW($3:$10001)-1)),0),\"\")","v":0},{"$f":"IFERROR(OFFSET(Stocks!$E$1,SUMPRODUCT((Stocks!$B$2:$B$10000=J$1)*(Stocks!$C$2:$C$10000=$A40)*(ROW($3:$10001)-1)),0),\"\")","v":0},{"$f":"IFERROR(OFFSET(Stocks!$E$1,SUMPRODUCT((Stocks!$B$2:$B$10000=K$1)*(Stocks!$C$2:$C$10000=$A40)*(ROW($3:$10001)-1)),0),\"\")","v":0},{"$f":"IFERROR(OFFSET(Stocks!$E$1,SUMPRODUCT((Stocks!$B$2:$B$10000=L$1)*(Stocks!$C$2:$C$10000=$A40)*(ROW($3:$10001)-1)),0),\"\")","v":0},{"$f":"IFERROR(OFFSET(Stocks!$E$1,SUMPRODUCT((Stocks!$B$2:$B$10000=M$1)*(Stocks!$C$2:$C$10000=$A40)*(ROW($3:$10001)-1)),0),\"\")","v":0},{"$f":"IFERROR(OFFSET(Stocks!$E$1,SUMPRODUCT((Stocks!$B$2:$B$10000=N$1)*(Stocks!$C$2:$C$10000=$A40)*(ROW($3:$10001)-1)),0),\"\")","v":0},{"$f":"IFERROR(OFFSET(Stocks!$E$1,SUMPRODUCT((Stocks!$B$2:$B$10000=O$1)*(Stocks!$C$2:$C$10000=$A40)*(ROW($3:$10001)-1)),0),\"\")","v":0},{"$f":"IFERROR(OFFSET(Stocks!$E$1,SUMPRODUCT((Stocks!$B$2:$B$10000=P$1)*(Stocks!$C$2:$C$10000=$A40)*(ROW($3:$10001)-1)),0),\"\")","v":0},{"$f":"IFERROR(OFFSET(Stocks!$E$1,SUMPRODUCT((Stocks!$B$2:$B$10000=Q$1)*(Stocks!$C$2:$C$10000=$A40)*(ROW($3:$10001)-1)),0),\"\")","v":0},{"$f":"IFERROR(OFFSET(Stocks!$E$1,SUMPRODUCT((Stocks!$B$2:$B$10000=R$1)*(Stocks!$C$2:$C$10000=$A40)*(ROW($3:$10001)-1)),0),\"\")","v":0},{"$f":"IFERROR(OFFSET(Stocks!$E$1,SUMPRODUCT((Stocks!$B$2:$B$10000=S$1)*(Stocks!$C$2:$C$10000=$A40)*(ROW($3:$10001)-1)),0),\"\")","v":0},{"$f":"IFERROR(OFFSET(Stocks!$E$1,SUMPRODUCT((Stocks!$B$2:$B$10000=T$1)*(Stocks!$C$2:$C$10000=$A40)*(ROW($3:$10001)-1)),0),\"\")","v":0},null,null,null,null,null,null,null,{"$f":"IFERROR(OFFSET(Stocks!$G$1,SUMPRODUCT((Stocks!$B$2:$B$10000=AB$1)*(Stocks!$C$2:$C$10000=$A40)*(ROW($3:$10001)-1)),0),\"\")","v":"Stock Réel"},{"$f":"IFERROR(OFFSET(Stocks!$G$1,SUMPRODUCT((Stocks!$B$2:$B$10000=AC$1)*(Stocks!$C$2:$C$10000=$A40)*(ROW($3:$10001)-1)),0),\"\")","v":"Stock Réel"},{"$f":"IFERROR(OFFSET(Stocks!$G$1,SUMPRODUCT((Stocks!$B$2:$B$10000=AD$1)*(Stocks!$C$2:$C$10000=$A40)*(ROW($3:$10001)-1)),0),\"\")","v":"Stock Réel"}]
["RF",null,null,null,null,null,null,null,{"$f":"IFERROR(OFFSET(Stocks!$E$1,SUMPRODUCT((Stocks!$B$2:$B$10000=I$1)*(Stocks!$C$2:$C$10000=$A41)*(ROW($3:$10001)-1)),0),\"\")","v":0},{"$f":"IFERROR(OFFSET(Stocks!$E$1,SUMPRODUCT((Stocks!$B$2:$B$10000=J$1)*(Stocks!$C$2:$C$10000=$A41)*(ROW($3:$10001)-1)),0),\"\")","v":0},{"$f":"IFERROR(OFFSET(Stocks!$E$1,SUMPRODUCT((Stocks!$B$2:$B$10000=K$1)*(Stocks!$C$2:$C$10000=$A41)*(ROW($3:$10001)-1)),0),\"\")","v":0},{"$f":"IFERROR(OFFSET(Stocks!$E$1,SUMPRODUCT((Stocks!$B$2:$B$10000=L$1)*(Stocks!$C$2:$C$10000=$A41)*(ROW($3:$10001)-1)),0),\"\")","v":0},{"$f":"IFERROR(OFFSET(Stocks!$E$1,SUMPRODUCT((Stocks!$B$2:$B$10000=M$1)*(Stocks!$C$2:$C$10000=$A41)*(ROW($3:$10001)-1)),0),\"\")","v":0},{"$f":"IFERROR(OFFSET(Stocks!$E$1,SUMPRODUCT((Stocks!$B$2:$B$10000=N$1)*(Stocks!$C$2:$C$10000=$A41)*(ROW($3:$10001)-1)),0),\"\")","v":0},{"$f":"IFERROR(OFFSET(Stocks!$E$1,SUMPRODUCT((Stocks!$B$2:$B$10000=O$1)*(Stocks!$C$2:$C$10000=$A41)*(ROW($3:$10001)-1)),0),\"\")","v":0},{"$f":"IFERROR(OFFSET(Stocks!$E$1,SUMPRODUCT((Stocks!$B$2:$B$10000=P$1)*(Stocks!$C$2:$C$10000=$A41)*(ROW($3:$10001)-1)),0),\"\")","v":0},{"$f":"IFERROR(OFFSET(Stocks!$E$1,SUMPRODUCT((Stocks!$B$2:$B$10000=Q$1)*(Stocks!$C$2:$C$10000=$A41)*(ROW($3:$10001)-1)),0),\"\")","v":0},{"$f":"IFERROR(OFFSET(Stocks!$E$1,SUMPRODUCT((Stocks!$B$2:$B$10000=R$1)*(Stocks!$C$2:$C$10000=$A41)*(ROW($3:$10001)-1)),0),\"\")","v":0},{"$f":"IFERROR(OFFSET(Stocks!$E$1,SUMPRODUCT((Stocks!$B$2:$B$10000=S$1)*(Stocks!$C$2:$C$10000=$A41)*(ROW($3:$10001)-1)),0),\"\")","v":0},{"$f":"IFERROR(OFFSET(Stocks!$E$1,SUMPRODUCT((Stocks!$B$2:$B$10000=T$1)*(Stocks!$C$2:$C$10000=$A41)*(ROW($3:$10001)-1)),0),\"\")","v":0},null,null,null,null,null,null,null,{"$f":"IFERROR(OFFSET(Stocks!$G$1,SUMPRODUCT((Stocks!$B$2:$B$10000=AB$1)*(Stocks!$C$2:$C$10000=$A41)*(ROW($3:$10001)-1)),0),\"\")","v":"Stock Réel"},{"$f":"IFERROR(OFFSET(Stocks!$G$1,SUMPRODUCT((Stocks!$B$2:$B$10000=AC$1)*(Stocks!$C$2:$C$10000=$A41)*(ROW($3:$10001)-1)),0),\"\")","v":"Stock Réel"},{"$f":"IFERROR(OFFSET(Stocks!$G$1,SUMPRODUCT((Stocks!$B$2:$B$10000=AD$1)*(Stocks!$C$2:$C$10000=$A41)*(ROW($3:$10001)-1)),0),\"\")","v":"Stock Réel"}]
["RFF",null,null,null,null,null,null,null,{"$f":"IFERROR(OFFSET(Stocks!$E$1,SUMPRODUCT((Stocks!$B$2:$B$10000=I$1)*(Stocks!$C$2:$C$10000=$A42)*(ROW($3:$10001)-1)),0),\"\")","v":0},{"$f":"IFERROR(OFFSET(Stocks!$E$1,SUMPRODUCT((Stocks!$B$2:$B$10000=J$1)*(Stocks!$C$2:$C$10000=$A42)*(ROW($3:$10001)-1)),0),\"\")","v":0},{"$f":"IFERROR(OFFSET(Stocks!$E$1,SUMPRODUCT((Stocks!$B$2:$B$10000=K$1)*(Stocks!$C$2:$C$10000=$A42)*(ROW($3:$10001)-1)),0),\"\")","v":0},{"$f":"IFERROR(OFFSET(Stocks!$E$1,SUMPRODUCT((Stocks!$B$2:$B$10000=L$1)*(Stocks!$C$2:$C$10000=$A42)*(ROW($3:$10001)-1)),0),\"\")","v":0},{"$f":"IFERROR(OFFSET(Stocks!$E$1,SUMPRODUCT((Stocks!$B$2:$B$10000=M$1)*(Stocks!$C$2:$C$10000=$A42)*(ROW($3:$10001)-1)),0),\"\")","v":0},{"$f":"IFERROR(OFFSET(Stocks!$E$1,SUMPRODUCT((Stocks!$B$2:$B$10000=N$1)*(Stocks!$C$2:$C$10000=$A42)*(ROW($3:$10001)-1)),0),\"\")","v":0},{"$f":"IFERROR(OFFSET(Stocks!$E$1,SUMPRODUCT((Stocks!$B$2:$B$10000=O$1)*(Stocks!$C$2:$C$10000=$A42)*(ROW($3:$10001)-1)),0),\"\")","v":0},{"$f":"IFERROR(OFFSET(Stocks!$E$1,SUMPRODUCT((Stocks!$B$2:$B$10000=P$1)*(Stocks!$C$2:$C$10000=$A42)*(ROW($3:$10001)-1)),0),\"\")","v":0},{"$f":"IFERROR(OFFSET(Stocks!$E$1,SUMPRODUCT((Stocks!$B$2:$B$10000=Q$1)*(Stocks!$C$2:$C$10000=$A42)*(ROW($3:$10001)-1)),0),\"\")","v":0},{"$f":"IFERROR(OFFSET(Stocks!$E$1,SUMPRODUCT((Stocks!$B$2:$B$10000=R$1)*(Stocks!$C$2:$C$10000=$A42)*(ROW($3:$10001)-1)),0),\"\")","v":0},{"$f":"IFERROR(OFFSET(Stocks!$E$1,SUMPRODUCT((Stocks!$B$2:$B$10000=S$1)*(Stocks!$C$2:$C$10000=$A42)*(ROW($3:$10001)-1)),0),\"\")","v":0},{"$f":"IFERROR(OFFSET(Stocks!$E$1,SUMPRODUCT((Stocks!$B$2:$B$10000=T$1)*(Stocks!$C$2:$C$10000=$A42)*(ROW($3:$10001)-1)),0),\"\")","v":0},null,null,null,null,null,null,null,{"$f":"IFERROR(OFFSET(Stocks!$G$1,SUMPRODUCT((Stocks!$B$2:$B$10000=AB$1)*(Stocks!$C$2:$C$10000=$A42)*(ROW($3:$10001)-1)),0),\"\")","v":"Stock Réel"},{"$f":"IFERROR(OFFSET(Stocks!$G$1,SUMPRODUCT((Stocks!$B$2:$B$10000=AC$1)*(Stocks!$C$2:$C$10000=$A42)*(ROW($3:$10001)-1)),0),\"\")","v":"Stock Réel"},{"$f":"IFERROR(OFFSET(Stocks!$G$1,SUMPRODUCT((Stocks!$B$2:$B$10000=AD$1)*(Stocks!$C$2:$C$10000=$A42)*(ROW($3:$10001)-1)),0),\"\")","v":"Stock Réel"}]
["TA",null,null,null,null,null,null,null,{"$f":"IFERROR(OFFSET(Stocks!$E$1,SUMPRODUCT((Stocks!$B$2:$B$10000=I$1)*(Stocks!$C$2:$C$10000=$A43)*(ROW($3:$10001)-1)),0),\"\")","v":0},{"$f":"IFERROR(OFFSET(Stocks!$E$1,SUMPRODUCT((Stocks!$B$2:$B$10000=J$1)*(Stocks!$C$2:$C$10000=$A43)*(ROW($3:$10001)-1)),0),\"\")","v":0},{"$f":"IFERROR(OFFSET(Stocks!$E$1,SUMPRODUCT((Stocks!$B$2:$B$10000=K$1)*(Stocks!$C$2:$C$10000=$A43)*(ROW($3:$10001)-1)),0),\"\")","v":0},{"$f":"IFERROR(OFFSET(Stocks!$E$1,SUMPRODUCT((Stocks!$B$2:$B$10000=L$1)*(Stocks!$C$2:$C$10000=$A43)*(ROW($3:$10001)-1)),0),\"\")","v":0},{"$f":"IFERROR(OFFSET(Stocks!$E$1,SUMPRODUCT((Stocks!$B$2:$B$10000=M$1)*(Stocks!$C$2:$C$10000=$A43)*(ROW($3:$10001)-1)),0),\"\")","v":0},{"$f":"IFERROR(OFFSET(Stocks!$E$1,SUMPRODUCT((Stocks!$B$2:$B$10000=N$1)*(Stocks!$C$2:$C$10000=$A43)*(ROW($3:$10001)-1)),0),\"\")","v":0},{"$f":"IFERROR(OFFSET(Stocks!$E$1,SUMPRODUCT((Stocks!$B$2:$B$10000=O$1)*(Stocks!$C$2:$C$10000=$A43)*(ROW($3:$10001)-1)),0),\"\")","v":0},{"$f":"IFERROR(OFFSET(Stocks!$E$1,SUMPRODUCT((Stocks!$B$2:$B$10000=P$1)*(Stocks!$C$2:$C$10000=$A43)*(ROW($3:$10001)-1)),0),\"\")","v":0},{"$f":"IFERROR(OFFSET(Stocks!$E$1,SUMPRODUCT((Stocks!$B$2:$B$10000=Q$1)*(Stocks!$C$2:$C$10000=$A43)*(ROW($3:$10001)-1)),0),\"\")","v":0},{"$f":"IFERROR(OFFSET(Stocks!$E$1,SUMPRODUCT((Stocks!$B$2:$B$10000=R$1)*(Stocks!$C$2:$C$10000=$A43)*(ROW($3:$10001)-1)),0),\"\")","v":0},{"$f":"IFERROR(OFFSET(Stocks!$E$1,SUMPRODUCT((Stocks!$B$2:$B$10000=S$1)*(Stocks!$C$2:$C$10000=$A43)*(ROW($3:$10001)-1)),0),\"\")","v":0},{"$f":"IFERROR(OFFSET(Stocks!$E$1,SUMPRODUCT((Stocks!$B$2:$B$10000=T$1)*(Stocks!$C$2:$C$10000=$A43)*(ROW($3:$10001)-1)),0),\"\")","v":0},null,null,null,null,null,null,null,{"$f":"IFERROR(OFFSET(Stocks!$G$1,SUMPRODUCT((Stocks!$B$2:$B$10000=AB$1)*(Stocks!$C$2:$C$10000=$A43)*(ROW($3:$10001)-1)),0),\"\")","v":"Stock Réel"},{"$f":"IFERROR(OFFSET(Stocks!$G$1,SUMPRODUCT((Stocks!$B$2:$B$10000=AC$1)*(Stocks!$C$2:$C$10000=$A43)*(ROW($3:$10001)-1)),0),\"\")","v":"Stock Réel"},{"$f":"IFERROR(OFFSET(Stocks!$G$1,SUMPRODUCT((Stocks!$B$2:$B$10000=AD$1)*(Stocks!$C$2:$C$10000=$A43)*(ROW($3:$10001)-1)),0),\"\")","v":"Stock Réel"}]
["TR",null,null,null,null,null,null,null,{"$f":"IFERROR(OFFSET(Stocks!$E$1,SUMPRODUCT((Stocks!$B$2:$B$10000=I$1)*(Stocks!$C$2:$C$10000=$A44)*(ROW($3:$10001)-1)),0),\"\")","v":0},{"$f":"IFERROR(OFFSET(Stocks!$E$1,SUMPRODUCT((Stocks!$B$2:$B$10000=J$1)*(Stocks!$C$2:$C$10000=$A44)*(ROW($3:$10001)-1)),0),\"\")","v":0},{"$f":"IFERROR(OFFSET(Stocks!$E$1,SUMPRODUCT((Stocks!$B$2:$B$10000=K$1)*(Stocks!$C$2:$C$10000=$A44)*(ROW($3:$10001)-1)),0),\"\")","v":0},{"$f":"IFERROR(OFFSET(Stocks!$E$1,SUMPRODUCT((Stocks!$B$2:$B$10000=L$1)*(Stocks!$C$2:$C$10000=$A44)*(ROW($3:$10001)-1)),0),\"\")","v":0},{"$f":"IFERROR(OFFSET(Stocks!$E$1,SUMPRODUCT((Stocks!$B$2:$B$10000=M$1)*(Stocks!$C$2:$C$10000=$A44)*(ROW($3:$10001)-1)),0),\"\")","v":0},{"$f":"IFERROR(OFFSET(Stocks!$E$1,SUMPRODUCT((Stocks!$B$2:$B$10000=N$1)*(Stocks!$C$2:$C$10000=$A44)*(ROW($3:$10001)-1)),0),\"\")","v":0},{"$f":"IFERROR(OFFSET(Stocks!$E$1,SUMPRODUCT((Stocks!$B$2:$B$10000=O$1)*(Stocks!$C$2:$C$10000=$A44)*(ROW($3:$10001)-1)),0),\"\")","v":0},{"$f":"IFERROR(OFFSET(Stocks!$E$1,SUMPRODUCT((Stocks!$B$2:$B$10000=P$1)*(Stocks!$C$2:$C$10000=$A44)*(ROW($3:$10001)-1)),0),\"\")","v":0},{"$f":"IFERROR(OFFSET(Stocks!$E$1,SUMPRODUCT((Stocks!$B$2:$B$10000=Q$1)*(Stocks!$C$2:$C$10000=$A44)*(ROW($3:$10001)-1)),0),\"\")","v":0},{"$f":"IFERROR(OFFSET(Stocks!$E$1,SUMPRODUCT((Stocks!$B$2:$B$10000=R$1)*(Stocks!$C$2:$C$10000=$A44)*(ROW($3:$10001)-1)),0),\"\")","v":0},{"$f":"IFERROR(OFFSET(Stocks!$E$1,SUMPRODUCT((Stocks!$B$2:$B$10000=S$1)*(Stocks!$C$2:$C$10000=$A44)*(ROW($3:$10001)-1)),0),\"\")","v":0},{"$f":"IFERROR(OFFSET(Stocks!$E$1,SUMPRODUCT((Stocks!$B$2:$B$10000=T$1)*(Stocks!$C$2:$C$10000=$A44)*(ROW($3:$10001)-1)),0),\"\")","v":0},null,null,null,null,null,null,null,{"$f":"IFERROR(OFFSET(Stocks!$G$1,SUMPRODUCT((Stocks!$B$2:$B$10000=AB$1)*(Stocks!$C$2:$C$10000=$A44)*(ROW($3:$10001)-1)),0),\"\")","v":"Stock Réel"},{"$f":"IFERROR(OFFSET(Stocks!$G$1,SUMPRODUCT((Stocks!$B$2:$B$10000=AC$1)*(Stocks!$C$2:$C$10000=$A44)*(ROW($3:$10001)-1)),0),\"\")","v":"Stock Réel"},{"$f":"IFERROR(OFFSET(Stocks!$G$1,SUMPRODUCT((Stocks!$B$2:$B$10000=AD$1)*(Stocks!$C$2:$C$10000=$A44)*(ROW($3:$10001)-1)),0),\"\")","v":"Stock Réel"}]
["VA",null,null,null,null,null,null,null,{"$f":"IFERROR(OFFSET(Stocks!$E$1,SUMPRODUCT((Stocks!$B$2:$B$10000=I$1)*(Stocks!$C$2:$C$10000=$A45)*(ROW($3:$10001)-1)),0),\"\")","v":0},{"$f":"IFERROR(OFFSET(Stocks!$E$1,SUMPRODUCT((Stocks!$B$2:$B$10000=J$1)*(Stocks!$C$2:$C$10000=$A45)*(ROW($3:$10001)-1)),0),\"\")","v":0},{"$f":"IFERROR(OFFSET(Stocks!$E$1,SUMPRODUCT((Stocks!$B$2:$B$10000=K$1)*(Stocks!$C$2:$C$10000=$A45)*(ROW($3:$10001)-1)),0),\"\")","v":0},{"$f":"IFERROR(OFFSET(Stocks!$E$1,SUMPRODUCT((Stocks!$B$2:$B$10000=L$1)*(Stocks!$C$2:$C$10000=$A45)*(ROW($3:$10001)-1)),0),\"\")","v":0},{"$f":"IFERROR(OFFSET(Stocks!$E$1,SUMPRODUCT((Stocks!$B$2:$B$10000=M$1)*(Stocks!$C$2:$C$10000=$A45)*(ROW($3:$10001)-1)),0),\"\")","v":0},{"$f":"IFERROR(OFFSET(Stocks!$E$1,SUMPRODUCT((Stocks!$B$2:$B$10000=N$1)*(Stocks!$C$2:$C$10000=$A45)*(ROW($3:$10001)-1)),0),\"\")","v":0},{"$f":"IFERROR(OFFSET(Stocks!$E$1,SUMPRODUCT((Stocks!$B$2:$B$10000=O$1)*(Stocks!$C$2:$C$10000=$A45)*(ROW($3:$10001)-1)),0),\"\")","v":0},{"$f":"IFERROR(OFFSET(Stocks!$E$1,SUMPRODUCT((Stocks!$B$2:$B$10000=P$1)*(Stocks!$C$2:$C$10000=$A45)*(ROW($3:$10001)-1)),0),\"\")","v":0},{"$f":"IFERROR(OFFSET(Stocks!$E$1,SUMPRODUCT((Stocks!$B$2:$B$10000=Q$1)*(Stocks!$C$2:$C$10000=$A45)*(ROW($3:$10001)-1)),0),\"\")","v":0},{"$f":"IFERROR(OFFSET(Stocks!$E$1,SUMPRODUCT((Stocks!$B$2:$B$10000=R$1)*(Stocks!$C$2:$C$10000=$A45)*(ROW($3:$10001)-1)),0),\"\")","v":0},{"$f":"IFERROR(OFFSET(Stocks!$E$1,SUMPRODUCT((Stocks!$B$2:$B$10000=S$1)*(Stocks!$C$2:$C$10000=$A45)*(ROW($3:$10001)-1)),0),\"\")","v":0},{"$f":"IFERROR(OFFSET(Stocks!$E$1,SUMPRODUCT((Stocks!$B$2:$B$10000=T$1)*(Stocks!$C$2:$C$10000=$A45)*(ROW($3:$10001)-1)),0),\"\")","v":0},null,null,null,null,null,null,null,{"$f":"IFERROR(OFFSET(Stocks!$G$1,SUMPRODUCT((Stocks!$B$2:$B$10000=AB$1)*(Stocks!$C$2:$C$10000=$A45)*(ROW($3:$10001)-1)),0),\"\")","v":"Stock Réel"},{"$f":"IFERROR(OFFSET(Stocks!$G$1,SUMPRODUCT((Stocks!$B$2:$B$10000=AC$1)*(Stocks!$C$2:$C$10000=$A45)*(ROW($3:$10001)-1)),0),\"\")","v":"Stock Réel"},{"$f":"IFERROR(OFFSET(Stocks!$G$1,SUMPRODUCT((Stocks!$B$2:$B$10000=AD$1)*(Stocks!$C$2:$C$10000=$A45)*(ROW($3:$10001)-1)),0),\"\")","v":"Stock Réel"}]
["VD",null,null,null,null,null,null,null,{"$f":"IFERROR(OFFSET(Stocks!$E$1,SUMPRODUCT((Stocks!$B$2:$B$10000=I$1)*(Stocks!$C$2:$C$10000=$A46)*(ROW($3:$10001)-1)),0),\"\")","v":0},{"$f":"IFERROR(OFFSET(Stocks!$E$1,SUMPRODUCT((Stocks!$B$2:$B$10000=J$1)*(Stocks!$C$2:$C$10000=$A46)*(ROW($3:$10001)-1)),0),\"\")","v":0},{"$f":"IFERROR(OFFSET(Stocks!$E$1,SUMPRODUCT((Stocks!$B$2:$B$10000=K$1)*(Stocks!$C$2:$C$10000=$A46)*(ROW($3:$10001)-1)),0),\"\")","v":0},{"$f":"IFERROR(OFFSET(Stocks!$E$1,SUMPRODUCT((Stocks!$B$2:$B$10000=L$1)*(Stocks!$C$2:$C$10000=$A46)*(ROW($3:$10001)-1)),0),\"\")","v":0},{"$f":"IFERROR(OFFSET(Stocks!$E$1,SUMPRODUCT((Stocks!$B$2:$B$10000=M$1)*(Stocks!$C$2:$C$10000=$A46)*(ROW($3:$10001)-1)),0),\"\")","v":0},{"$f":"IFERROR(OFFSET(Stocks!$E$1,SUMPRODUCT((Stocks!$B$2:$B$10000=N$1)*(Stocks!$C$2:$C$10000=$A46)*(ROW($3:$10001)-1)),0),\"\")","v":0},{"$f":"IFERROR(OFFSET(Stocks!$E$1,SUMPRODUCT((Stocks!$B$2:$B$10000=O$1)*(Stocks!$C$2:$C$10000=$A46)*(ROW($3:$10001)-1)),0),\"\")","v":0},{"$f":"IFERROR(OFFSET(Stocks!$E$1,SUMPRODUCT((Stocks!$B$2:$B$10000=P$1)*(Stocks!$C$2:$C$10000=$A46)*(ROW($3:$10001)-1)),0),\"\")","v":0},{"$f":"IFERROR(OFFSET(Stocks!$E$1,SUMPRODUCT((Stocks!$B$2:$B$10000=Q$1)*(Stocks!$C$2:$C$10000=$A46)*(ROW($3:$10001)-1)),0),\"\")","v":0},{"$f":"IFERROR(OFFSET(Stocks!$E$1,SUMPRODUCT((Stocks!$B$2:$B$10000=R$1)*(Stocks!$C$2:$C$10000=$A46)*(ROW($3:$10001)-1)),0),\"\")","v":0},{"$f":"IFERROR(OFFSET(Stocks!$E$1,SUMPRODUCT((Stocks!$B$2:$B$10000=S$1)*(Stocks!$C$2:$C$10000=$A46)*(ROW($3:$10001)-1)),0),\"\")","v":0},{"$f":"IFERROR(OFFSET(Stocks!$E$1,SUMPRODUCT((Stocks!$B$2:$B$10000=T$1)*(Stocks!$C$2:$C$10000=$A46)*(ROW($3:$10001)-1)),0),\"\")","v":0},null,null,null,null,null,null,null,{"$f":"IFERROR(OFFSET(Stocks!$G$1,SUMPRODUCT((Stocks!$B$2:$B$10000=AB$1)*(Stocks!$C$2:$C$10000=$A46)*(ROW($3:$10001)-1)),0),\"\")","v":"Stock Réel"},{"$f":"IFERROR(OFFSET(Stocks!$G$1,SUMPRODUCT((Stocks!$B$2:$B$10000=AC$1)*(Stocks!$C$2:$C$10000=$A46)*(ROW($3:$10001)-1)),0),\"\")","v":"Stock Réel"},{"$f":"IFERROR(OFFSET(Stocks!$G$1,SUMPRODUCT((Stocks!$B$2:$B$10000=AD$1)*(Stocks!$C$2:$C$10000=$A46)*(ROW($3:$10001)-1)),0),\"\")","v":"Stock Réel"}]
["VEM",null,null,null,null,null,null,null,{"$f":"IFERROR(OFFSET(Stocks!$E$1,SUMPRODUCT((Stocks!$B$2:$B$10000=I$1)*(Stocks!$C$2:$C$10000=$A47)*(ROW($3:$10001)-1)),0),\"\")","v":0},{"$f":"IFERROR(OFFSET(Stocks!$E$1,SUMPRODUCT((Stocks!$B$2:$B$10000=J$1)*(Stocks!$C$2:$C$10000=$A47)*(ROW($3:$10001)-1)),0),\"\")","v":0},{"$f":"IFERROR(OFFSET(Stocks!$E$1,SUMPRODUCT((Stocks!$B$2:$B$10000=K$1)*(Stocks!$C$2:$C$10000=$A47)*(ROW($3:$10001)-1)),0),\"\")","v":0},{"$f":"IFERROR(OFFSET(Stocks!$E$1,SUMPRODUCT((Stocks!$B$2:$B$10000=L$1)*(Stocks!$C$2:$C$10000=$A47)*(ROW($3:$10001)-1)),0),\"\")","v":0},{"$f":"IFERROR(OFFSET(Stocks!$E$1,SUMPRODUCT((Stocks!$B$2:$B$10000=M$1)*(Stocks!$C$2:$C$10000=$A47)*(ROW($3:$10001)-1)),0),\"\")","v":0},{"$f":"IFERROR(OFFSET(Stocks!$E$1,SUMPRODUCT((Stocks!$B$2:$B$10000=N$1)*(Stocks!$C$2:$C$10000=$A47)*(ROW($3:$10001)-1)),0),\"\")","v":0},{"$f":"IFERROR(OFFSET(Stocks!$E$1,SUMPRODUCT((Stocks!$B$2:$B$10000=O$1)*(Stocks!$C$2:$C$10000=$A47)*(ROW($3:$10001)-1)),0),\"\")","v":0},{"$f":"IFERROR(OFFSET(Stocks!$E$1,SUMPRODUCT((Stocks!$B$2:$B$10000=P$1)*(Stocks!$C$2:$C$10000=$A47)*(ROW($3:$10001)-1)),0),\"\")","v":0},{"$f":"IFERROR(OFFSET(Stocks!$E$1,SUMPRODUCT((Stocks!$B$2:$B$10000=Q$1)*(Stocks!$C$2:$C$10000=$A47)*(ROW($3:$10001)-1)),0),\"\")","v":0},{"$f":"IFERROR(OFFSET(Stocks!$E$1,SUMPRODUCT((Stocks!$B$2:$B$10000=R$1)*(Stocks!$C$2:$C$10000=$A47)*(ROW($3:$10001)-1)),0),\"\")","v":0},{"$f":"IFERROR(OFFSET(Stocks!$E$1,SUMPRODUCT((Stocks!$B$2:$B$10000=S$1)*(Stocks!$C$2:$C$10000=$A47)*(ROW($3:$10001)-1)),0),\"\")","v":0},{"$f":"IFERROR(OFFSET(Stocks!$E$1,SUMPRODUCT((Stocks!$B$2:$B$10000=T$1)*(Stocks!$C$2:$C$10000=$A47)*(ROW($3:$10001)-1)),0),\"\")","v":0},null,null,null,null,null,null,null,{"$f":"IFERROR(OFFSET(Stocks!$G$1,SUMPRODUCT((Stocks!$B$2:$B$10000=AB$1)*(Stocks!$C$2:$C$10000=$A47)*(ROW($3:$10001)-1)),0),\"\")","v":"Stock Réel"},{"$f":"IFERROR(OFFSET(Stocks!$G$1,SUMPRODUCT((Stocks!$B$2:$B$10000=AC$1)*(Stocks!$C$2:$C$10000=$A47)*(ROW($3:$10001)-1)),0),\"\")","v":"Stock Réel"},{"$f":"IFERROR(OFFSET(Stocks!$G$1,SUMPRODUCT((Stocks!$B$2:$B$10000=AD$1)*(Stocks!$C$2:$C$10000=$A47)*(ROW($3:$10001)-1)),0),\"\")","v":"Stock Réel"}]
["VIO",null,null,null,null,null,null,null,{"$f":"IFERROR(OFFSET(Stocks!$E$1,SUMPRODUCT((Stocks!$B$2:$B$10000=I$1)*(Stocks!$C$2:$C$10000=$A48)*(ROW($3:$10001)-1)),0),\"\")","v":0},{"$f":"IFERROR(OFFSET(Stocks!$E$1,SUMPRODUCT((Stocks!$B$2:$B$10000=J$1)*(Stocks!$C$2:$C$10000=$A48)*(ROW($3:$10001)-1)),0),\"\")","v":0},{"$f":"IFERROR(OFFSET(Stocks!$E$1,SUMPRODUCT((Stocks!$B$2:$B$10000=K$1)*(Stocks!$C$2:$C$10000=$A48)*(ROW($3:$10001)-1)),0),\"\")","v":0},{"$f":"IFERROR(OFFSET(Stocks!$E$1,SUMPRODUCT((Stocks!$B$2:$B$10000=L$1)*(Stocks!$C$2:$C$10000=$A48)*(ROW($3:$10001)-1)),0),\"\")","v":0},{"$f":"IFERROR(OFFSET(Stocks!$E$1,SUMPRODUCT((Stocks!$B$2:$B$10000=M$1)*(Stocks!$C$2:$C$10000=$A48)*(ROW($3:$10001)-1)),0),\"\")","v":0},{"$f":"IFERROR(OFFSET(Stocks!$E$1,SUMPRODUCT((Stocks!$B$2:$B$10000=N$1)*(Stocks!$C$2:$C$10000=$A48)*(ROW($3:$10001)-1)),0),\"\")","v":0},{"$f":"IFERROR(OFFSET(Stocks!$E$1,SUMPRODUCT((Stocks!$B$2:$B$10000=O$1)*(Stocks!$C$2:$C$10000=$A48)*(ROW($3:$10001)-1)),0),\"\")","v":0},{"$f":"IFERROR(OFFSET(Stocks!$E$1,SUMPRODUCT((Stocks!$B$2:$B$10000=P$1)*(Stocks!$C$2:$C$10000=$A48)*(ROW($3:$10001)-1)),0),\"\")","v":0},{"$f":"IFERROR(OFFSET(Stocks!$E$1,SUMPRODUCT((Stocks!$B$2:$B$10000=Q$1)*(Stocks!$C$2:$C$10000=$A48)*(ROW($3:$10001)-1)),0),\"\")","v":0},{"$f":"IFERROR(OFFSET(Stocks!$E$1,SUMPRODUCT((Stocks!$B$2:$B$10000=R$1)*(Stocks!$C$2:$C$10000=$A48)*(ROW($3:$10001)-1)),0),\"\")","v":0},{"$f":"IFERROR(OFFSET(Stocks!$E$1,SUMPRODUCT((Stocks!$B$2:$B$10000=S$1)*(Stocks!$C$2:$C$10000=$A48)*(ROW($3:$10001)-1)),0),\"\")","v":0},{"$f":"IFERROR(OFFSET(Stocks!$E$1,SUMPRODUCT((Stocks!$B$2:$B$10000=T$1)*(Stocks!$C$2:$C$10000=$A48)*(ROW($3:$10001)-1)),0),\"\")","v":0},null,null,null,null,null,null,null,{"$f":"IFERROR(OFFSET(Stocks!$G$1,SUMPRODUCT((Stocks!$B$2:$B$10000=AB$1)*(Stocks!$C$2:$C$10000=$A48)*(ROW($3:$10001)-1)),0),\"\")","v":"Stock Réel"},{"$f":"IFERROR(OFFSET(Stocks!$G$1,SUMPRODUCT((Stocks!$B$2:$B$10000=AC$1)*(Stocks!$C$2:$C$10000=$A48)*(ROW($3:$10001)-1)),0),\"\")","v":"Stock Réel"},{"$f":"IFERROR(OFFSET(Stocks!$G$1,SUMPRODUCT((Stocks!$B$2:$B$10000=AD$1)*(Stocks!$C$2:$C$10000=$A48)*(ROW($3:$10001)-1)),0),\"\")","v":"Stock Réel"}]
["VM",null,null,null,null,null,null,null,{"$f":"IFERROR(OFFSET(Stocks!$E$1,SUMPRODUCT((Stocks!$B$2:$B$10000=I$1)*(Stocks!$C$2:$C$10000=$A49)*(ROW($3:$10001)-1)),0),\"\")","v":0},{"$f":"IFERROR(OFFSET(Stocks!$E$1,SUMPRODUCT((Stocks!$B$2:$B$10000=J$1)*(Stocks!$C$2:$C$10000=$A49)*(ROW($3:$10001)-1)),0),\"\")","v":0},{"$f":"IFERROR(OFFSET(Stocks!$E$1,SUMPRODUCT((Stocks!$B$2:$B$10000=K$1)*(Stocks!$C$2:$C$10000=$A49)*(ROW($3:$10001)-1)),0),\"\")","v":0},{"$f":"IFERROR(OFFSET(Stocks!$E$1,SUMPRODUCT((Stocks!$B$2:$B$10000=L$1)*(Stocks!$C$2:$C$10000=$A49)*(ROW($3:$10001)-1)),0),\"\")","v":0},{"$f":"IFERROR(OFFSET(Stocks!$E$1,SUMPRODUCT((Stocks!$B$2:$B$10000=M$1)*(Stocks!$C$2:$C$10000=$A49)*(ROW($3:$10001)-1)),0),\"\")","v":0},{"$f":"IFERROR(OFFSET(Stocks!$E$1,SUMPRODUCT((Stocks!$B$2:$B$10000=N$1)*(Stocks!$C$2:$C$10000=$A49)*(ROW($3:$10001)-1)),0),\"\")","v":0},{"$f":"IFERROR(OFFSET(Stocks!$E$1,SUMPRODUCT((Stocks!$B$2:$B$10000=O$1)*(Stocks!$C$2:$C$10000=$A49)*(ROW($3:$10001)-1)),0),\"\")","v":0},{"$f":"IFERROR(OFFSET(Stocks!$E$1,SUMPRODUCT((Stocks!$B$2:$B$10000=P$1)*(Stocks!$C$2:$C$10000=$A49)*(ROW($3:$10001)-1)),0),\"\")","v":0},{"$f":"IFERROR(OFFSET(Stocks!$E$1,SUMPRODUCT((Stocks!$B$2:$B$10000=Q$1)*(Stocks!$C$2:$C$10000=$A49)*(ROW($3:$10001)-1)),0),\"\")","v":0},{"$f":"IFERROR(OFFSET(Stocks!$E$1,SUMPRODUCT((Stocks!$B$2:$B$10000=R$1)*(Stocks!$C$2:$C$10000=$A49)*(ROW($3:$10001)-1)),0),\"\")","v":0},{"$f":"IFERROR(OFFSET(Stocks!$E$1,SUMPRODUCT((Stocks!$B$2:$B$10000=S$1)*(Stocks!$C$2:$C$10000=$A49)*(ROW($3:$10001)-1)),0),\"\")","v":0},{"$f":"IFERROR(OFFSET(Stocks!$E$1,SUMPRODUCT((Stocks!$B$2:$B$10000=T$1)*(Stocks!$C$2:$C$10000=$A49)*(ROW($3:$10001)-1)),0),\"\")","v":0},null,null,null,null,null,null,null,{"$f":"IFERROR(OFFSET(Stocks!$G$1,SUMPRODUCT((Stocks!$B$2:$B$10000=AB$1)*(Stocks!$C$2:$C$10000=$A49)*(ROW($3:$10001)-1)),0),\"\")","v":"Stock Réel"},{"$f":"IFERROR(OFFSET(Stocks!$G$1,SUMPRODUCT((Stocks!$B$2:$B$10000=AC$1)*(Stocks!$C$2:$C$10000=$A49)*(ROW($3:$10001)-1)),0),\"\")","v":"Stock Réel"},{"$f":"IFERROR(OFFSET(Stocks!$G$1,SUMPRODUCT((Stocks!$B$2:$B$10000=AD$1)*(Stocks!$C$2:$C$10000=$A49)*(ROW($3:$10001)-1)),0),\"\")","v":"Stock Réel"}]
["VP",null,null,null,null,null,null,null,{"$f":"IFERROR(OFFSET(Stocks!$E$1,SUMPRODUCT((Stocks!$B$2:$B$10000=I$1)*(Stocks!$C$2:$C$10000=$A50)*(ROW($3:$10001)-1)),0),\"\")","v":0},{"$f":"IFERROR(OFFSET(Stocks!$E$1,SUMPRODUCT((Stocks!$B$2:$B$10000=J$1)*(Stocks!$C$2:$C$10000=$A50)*(ROW($3:$10001)-1)),0),\"\")","v":0},{"$f":"IFERROR(OFFSET(Stocks!$E$1,SUMPRODUCT((Stocks!$B$2:$B$10000=K$1)*(Stocks!$C$2:$C$10000=$A50)*(ROW($3:$10001)-1)),0),\"\")","v":0},{"$f":"IFERROR(OFFSET(Stocks!$E$1,SUMPRODUCT((Stocks!$B$2:$B$10000=L$1)*(Stocks!$C$2:$C$10000=$A50)*(ROW($3:$10001)-1)),0),\"\")","v":0},{"$f":"IFERROR(OFFSET(Stocks!$E$1,SUMPRODUCT((Stocks!$B$2:$B$10000=M$1)*(Stocks!$C$2:$C$10000=$A50)*(ROW($3:$10001)-1)),0),\"\")","v":0},{"$f":"IFERROR(OFFSET(Stocks!$E$1,SUMPRODUCT((Stocks!$B$2:$B$10000=N$1)*(Stocks!$C$2:$C$10000=$A50)*(ROW($3:$10001)-1)),0),\"\")","v":0},{"$f":"IFERROR(OFFSET(Stocks!$E$1,SUMPRODUCT((Stocks!$B$2:$B$10000=O$1)*(Stocks!$C$2:$C$10000=$A50)*(ROW($3:$10001)-1)),0),\"\")","v":0},{"$f":"IFERROR(OFFSET(Stocks!$E$1,SUMPRODUCT((Stocks!$B$2:$B$10000=P$1)*(Stocks!$C$2:$C$10000=$A50)*(ROW($3:$10001)-1)),0),\"\")","v":0},{"$f":"IFERROR(OFFSET(Stocks!$E$1,SUMPRODUCT((Stocks!$B$2:$B$10000=Q$1)*(Stocks!$C$2:$C$10000=$A50)*(ROW($3:$10001)-1)),0),\"\")","v":0},{"$f":"IFERROR(OFFSET(Stocks!$E$1,SUMPRODUCT((Stocks!$B$2:$B$10000=R$1)*(Stocks!$C$2:$C$10000=$A50)*(ROW($3:$10001)-1)),0),\"\")","v":0},{"$f":"IFERROR(OFFSET(Stocks!$E$1,SUMPRODUCT((Stocks!$B$2:$B$10000=S$1)*(Stocks!$C$2:$C$10000=$A50)*(ROW($3:$10001)-1)),0),\"\")","v":0},{"$f":"IFERROR(OFFSET(Stocks!$E$1,SUMPRODUCT((Stocks!$B$2:$B$10000=T$1)*(Stocks!$C$2:$C$10000=$A50)*(ROW($3:$10001)-1)),0),\"\")","v":0},null,null,null,null,null,null,null,{"$f":"IFERROR(OFFSET(Stocks!$G$1,SUMPRODUCT((Stocks!$B$2:$B$10000=AB$1)*(Stocks!$C$2:$C$10000=$A50)*(ROW($3:$10001)-1)),0),\"\")","v":"Stock Réel"},{"$f":"IFERROR(OFFSET(Stocks!$G$1,SUMPRODUCT((Stocks!$B$2:$B$10000=AC$1)*(Stocks!$C$2:$C$10000=$A50)*(ROW($3:$10001)-1)),0),\"\")","v":"Stock Réel"},{"$f":"IFERROR(OFFSET(Stocks!$G$1,SUMPRODUCT((Stocks!$B$2:$B$10000=AD$1)*(Stocks!$C$2:$C$10000=$A50)*(ROW($3:$10001)-1)),0),\"\")","v":"Stock Réel"}]

{"sheet":"Recap Sortie","index":5,"n_rows":50,"n_cols":30,"rows_kept":50,"cut":false,"hidden":false,"merged":[]}
[null,"CI N° 06","CI N° 08","CI N° 10","CI N° 12","CI N° 14","CI N° 16","CI N° 18","CS2T OR","CS2T ARG","CS2T NR","CS2T UNIS","CMK GM","CMK ARG","CMK FIN","FM04","F02 OR","F02 ARG","F02 NR","FTOUL",null,null,null,null,null,null,null,"GPU","GP4C","CA"]
["CI",{"$f":"IFERROR(OFFSET(Stocks!$F$1,SUMPRODUCT((Stocks!$B$2:$B$10000=B$1)*(Stocks!$C$2:$C$10000=$A2)*(ROW($3:$10001)-1)),0),\"\")","v":0},{"$f":"IFERROR(OFFSET(Stocks!$F$1,SUMPRODUCT((Stocks!$B$2:$B$10000=C$1)*(Stocks!$C$2:$C$10000=$A2)*(ROW($3:$10001)-1)),0),\"\")","v":0},{"$f":"IFERROR(OFFSET(Stocks!$F$1,SUMPRODUCT((Stocks!$B$2:$B$10000=D$1)*(Stocks!$C$2:$C$10000=$A2)*(ROW($3:$10001)-1)),0),\"\")","v":0},{"$f":"IFERROR(OFFSET(Stocks!$F$1,SUMPRODUCT((Stocks!$B$2:$B$10000=E$1)*(Stocks!$C$2:$C$10000=$A2)*(ROW($3:$10001)-1)),0),\"\")","v":0},{"$f":"IFERROR(OFFSET(Stocks!$F$1,SUMPRODUCT((Stocks!$B$2:$B$10000=F$1)*(Stocks!$C$2:$C$10000=$A2)*(ROW($3:$10001)-1)),0),\"\")","v":0},{"$f":"IFERROR(OFFSET(Stocks!$F$1,SUMPRODUCT((Stocks!$B$2:$B$10000=G$1)*(Stocks!$C$2:$C$10000=$A2)*(ROW($3:$10001)-1)),0),\"\")","v":0},{"$f":"IFERROR(OFFSET(Stocks!$F$1,SUMPRODUCT((Stocks!$B$2:$B$10000=H$1)*(Stocks!$C$2:$C$10000=$A2)*(ROW($3:$10001)-1)),0),\"\")","v":0}]
["AUB",null,null,null,null,null,null,null,{"$f":"IFERROR(OFFSET(Stocks!$F$1,SUMPRODUCT((Stocks!$B$2:$B$10000=I$1)*(Stocks!$C$2:$C$10000=$A3)*(ROW($3:$10001)-1)),0),\"\")","v":0},{"$f":"IFERROR(OFFSET(Stocks!$F$1,SUMPRODUCT((Stocks!$B$2:$B$10000=J$1)*(Stocks!$C$2:$C$10000=$A3)*(ROW($3:$10001)-1)),0),\"\")","v":0},{"$f":"IFERROR(OFFSET(Stocks!$F$1,SUMPRODUCT((Stocks!$B$2:$B$10000=K$1)*(Stocks!$C$2:$C$10000=$A3)*(ROW($3:$10001)-1)),0),\"\")","v":0},{"$f":"IFERROR(OFFSET(Stocks!$F$1,SUMPRODUCT((Stocks!$B$2:$B$10000=L$1)*(Stocks!$C$2:$C$10000=$A3)*(ROW($3:$10001)-1)),0),\"\")","v":0},{"$f":"IFERROR(OFFSET(Stocks!$F$1,SUMPRODUCT((Stocks!$B$2:$B$10000=M$1)*(Stocks!$C$2:$C$10000=$A3)*(ROW($3:$10001)-1)),0),\"\")","v":0},{"$f":"IFERROR(OFFSET(Stocks!$F$1,SUMPRODUCT((Stocks!$B$2:$B$10000=N$1)*(Stocks!$C$2:$C$10000=$A3)*(ROW($3:$10001)-1)),0),\"\")","v":0},{"$f":"IFERROR(OFFSET(Stocks!$F$1,SUMPRODUCT((Stocks!$B$2:$B$10000=O$1)*(Stocks!$C$2:$C$10000=$A3)*(ROW($3:$10001)-1)),0),\"\")","v":0},{"$f":"IFERROR(OFFSET(Stocks!$F$1,SUMPRODUCT((Stocks!$B$2:$B$10000=P$1)*(Stocks!$C$2:$C$10000=$A3)*(ROW($3:$10001)-1)),0),\"\")","v":0},{"$f":"IFERROR(OFFSET(Stocks!$F$1,SUMPRODUCT((Stocks!$B$2:$B$10000=Q$1)*(Stocks!$C$2:$C$10000=$A3)*(ROW($3:$10001)-1)),0),\"\")","v":0},{"$f":"IFERROR(OFFSET(Stocks!$F$1,SUMPRODUCT((Stocks!$B$2:$B$10000=R$1)*(Stocks!$C$2:$C$10000=$A3)*(ROW($3:$10001)-1)),0),\"\")","v":0},{"$f":"IFERROR(OFFSET(Stocks!$F$1,SUMPRODUCT((Stocks!$B$2:$B$10000=S$1)*(Stocks!$C$2:$C$10000=$A3)*(ROW($3:$10001)-1)),0),\"\")","v":0},{"$f":"IFERROR(OFFSET(Stocks!$F$1,SUMPRODUCT((Stocks!$B$2:$B$10000=T$1)*(Stocks!$C$2:$C$10000=$A3)*(ROW($3:$10001)-1)),0),\"\")","v":0}]
["BE",null,null,null,null,null,null,null,{"$f":"IFERROR(OFFSET(Stocks!$F$1,SUMPRODUCT((Stocks!$B$2:$B$10000=I$1)*(Stocks!$C$2:$C$10000=$A4)*(ROW($3:$10001)-1)),0),\"\")","v":0},{"$f":"IFERROR(OFFSET(Stocks!$F$1,SUMPRODUCT((Stocks!$B$2:$B$10000=J$1)*(Stocks!$C$2:$C$10000=$A4)*(ROW($3:$10001)-1)),0),\"\")","v":0},{"$f":"IFERROR(OFFSET(Stocks!$F$1,SUMPRODUCT((Stocks!$B$2:$B$10000=K$1)*(Stocks!$C$2:$C$10000=$A4)*(ROW($3:$10001)-1)),0),\"\")","v":0},{"$f":"IFERROR(OFFSET(Stocks!$F$1,SUMPRODUCT((Stocks!$B$2:$B$10000=L$1)*(Stocks!$C$2:$C$10000=$A4)*(ROW($3:$10001)-1)),0),\"\")","v":0},{"$f":"IFERROR(OFFSET(Stocks!$F$1,SUMPRODUCT((Stocks!$B$2:$B$10000=M$1)*(Stocks!$C$2:$C$10000=$A4)*(ROW($3:$10001)-1)),0),\"\")","v":0},{"$f":"IFERROR(OFFSET(Stocks!$F$1,SUMPRODUCT((Stocks!$B$2:$B$10000=N$1)*(Stocks!$C$2:$C$10000=$A4)*(ROW($3:$10001)-1)),0),\"\")","v":0},{"$f":"IFERROR(OFFSET(Stocks!$F$1,SUMPRODUCT((Stocks!$B$2:$B$10000=O$1)*(Stocks!$C$2:$C$10000=$A4)*(ROW($3:$10001)-1)),0),\"\")","v":0},{"$f":"IFERROR(OFFSET(Stocks!$F$1,SUMPRODUCT((Stocks!$B$2:$B$10000=P$1)*(Stocks!$C$2:$C$10000=$A4)*(ROW($3:$10001)-1)),0),\"\")","v":0},{"$f":"IFERROR(OFFSET(Stocks!$F$1,SUMPRODUCT((Stocks!$B$2:$B$10000=Q$1)*(Stocks!$C$2:$C$10000=$A4)*(ROW($3:$10001)-1)),0),\"\")","v":0},{"$f":"IFERROR(OFFSET(Stocks!$F$1,SUMPRODUCT((Stocks!$B$2:$B$10000=R$1)*(Stocks!$C$2:$C$10000=$A4)*(ROW($3:$10001)-1)),0),\"\")","v":0},{"$f":"IFERROR(OFFSET(Stocks!$F$1,SUMPRODUCT((Stocks!$B$2:$B$10000=S$1)*(Stocks!$C$2:$C$10000=$A4)*(ROW($3:$10001)-1)),0),\"\")","v":0},{"$f":"IFERROR(OFFSET(Stocks!$F$1,SUMPRODUCT((Stocks!$B$2:$B$10000=T$1)*(Stocks!$C$2:$C$10000=$A4)*(ROW($3:$10001)-1)),0),\"\")","v":0}]
["BEOR",null,null,null,null,null,null,null,{"$f":"IFERROR(OFFSET(Stocks!$F$1,SUMPRODUCT((Stocks!$B$2:$B$10000=I$1)*(Stocks!$C$2:$C$10000=$A5)*(ROW($3:$10001)-1)),0),\"\")","v":0},{"$f":"IFERROR(OFFSET(Stocks!$F$1,SUMPRODUCT((Stocks!$B$2:$B$10000=J$1)*(Stocks!$C$2:$C$10000=$A5)*(ROW($3:$10001)-1)),0),\"\")","v":0},{"$f":"IFERROR(OFFSET(Stocks!$F$1,SUMPRODUCT((Stocks!$B$2:$B$10000=K$1)*(Stocks!$C$2:$C$10000=$A5)*(ROW($3:$10001)-1)),0),\"\")","v":0},{"$f":"IFERROR(OFFSET(Stocks!$F$1,SUMPRODUCT((Stocks!$B$2:$B$10000=L$1)*(Stocks!$C$2:$C$10000=$A5)*(ROW($3:$10001)-1)),0),\"\")","v":0},{"$f":"IFERROR(OFFSET(Stocks!$F$1,SUMPRODUCT((Stocks!$B$2:$B$10000=M$1)*(Stocks!$C$2:$C$10000=$A5)*(ROW($3:$10001)-1)),0),\"\")","v":0},{"$f":"IFERROR(OFFSET(Stocks!$F$1,SUMPRODUCT((Stocks!$B$2:$B$10000=N$1)*(Stocks!$C$2:$C$10000=$A5)*(ROW($3:$10001)-1)),0),\"\")","v":0},{"$f":"IFERROR(OFFSET(Stocks!$F$1,SUMPRODUCT((Stocks!$B$2:$B$10000=O$1)*(Stocks!$C$2:$C$10000=$A5)*(ROW($3:$10001)-1)),0),\"\")","v":0},{"$f":"IFERROR(OFFSET(Stocks!$F$1,SUMPRODUCT((Stocks!$B$2:$B$10000=P$1)*(Stocks!$C$2:$C$10000=$A5)*(ROW($3:$10001)-1)),0),\"\")","v":0},{"$f":"IFERROR(OFFSET(Stocks!$F$1,SUMPRODUCT((Stocks!$B$2:$B$10000=Q$1)*(Stocks!$C$2:$C$10000=$A5)*(ROW($3:$10001)-1)),0),\"\")","v":0},{"$f":"IFERROR(OFFSET(Stocks!$F$1,SUMPRODUCT((Stocks!$B$2:$B$10000=R$1)*(Stocks!$C$2:$C$10000=$A5)*(ROW($3:$10001)-1)),0),\"\")","v":0},{"$f":"IFERROR(OFFSET(Stocks!$F$1,SUMPRODUCT((Stocks!$B$2:$B$10000=S$1)*(Stocks!$C$2:$C$10000=$A5)*(ROW($3:$10001)-1)),0),\"\")","v":0},{"$f":"IFERROR(OFFSET(Stocks!$F$1,SUMPRODUCT((Stocks!$B$2:$B$10000=T$1)*(Stocks!$C$2:$C$10000=$A5)*(ROW($3:$10001)-1)),0),\"\")","v":0}]
["BEF",null,null,null,null,null,null,null,{"$f":"IFERROR(OFFSET(Stocks!$F$1,SUMPRODUCT((Stocks!$B$2:$B$10000=I$1)*(Stocks!$C$2:$C$10000=$A6)*(ROW($3:$10001)-1)),0),\"\")","v":0},{"$f":"IFERROR(OFFSET(Stocks!$F$1,SUMPRODUCT((Stocks!$B$2:$B$10000=J$1)*(Stocks!$C$2:$C$10000=$A6)*(ROW($3:$10001)-1)),0),\"\")","v":0},{"$f":"IFERROR(OFFSET(Stocks!$F$1,SUMPRODUCT((Stocks!$B$2:$B$10000=K$1)*(Stocks!$C$2:$C$10000=$A6)*(ROW($3:$10001)-1)),0),\"\")","v":0},{"$f":"IFERROR(OFFSET(Stocks!$F$1,SUMPRODUCT((Stocks!$B$2:$B$10000=L$1)*(Stocks!$C$2:$C$10000=$A6)*(ROW($3:$10001)-1)),0),\"\")","v":0},{"$f":"IFERROR(OFFSET(Stocks!$F$1,SUMPRODUCT((Stocks!$B$2:$B$10000=M$1)*(Stocks!$C$2:$C$10000=$A6)*(ROW($3:$10001)-1)),0),\"\")","v":0},{"$f":"IFERROR(OFFSET(Stocks!$F$1,SUMPRODUCT((Stocks!$B$2:$B$10000=N$1)*(Stocks!$C$2:$C$10000=$A6)*(ROW($3:$10001)-1)),0),\"\")","v":0},{"$f":"IFERROR(OFFSET(Stocks!$F$1,SUMPRODUCT((Stocks!$B$2:$B$10000=O$1)*(Stocks!$C$2:$C$10000=$A6)*(ROW($3:$10001)-1)),0),\"\")","v":0},{"$f":"IFERROR(OFFSET(Stocks!$F$1,SUMPRODUCT((Stocks!$B$2:$B$10000=P$1)*(Stocks!$C$2:$C$10000=$A6)*(ROW($3:$10001)-1)),0),\"\")","v":0},{"$f":"IFERROR(OFFSET(Stocks!$F$1,SUMPRODUCT((Stocks!$B$2:$B$10000=Q$1)*(Stocks!$C$2:$C$10000=$A6)*(ROW($3:$10001)-1)),0),\"\")","v":0},{"$f":"IFERROR(OFFSET(Stocks!$F$1,SUMPRODUCT((Stocks!$B$2:$B$10000=R$1)*(Stocks!$C$2:$C$10000=$A6)*(ROW($3:$10001)-1)),0),\"\")","v":0},{"$f":"IFERROR(OFFSET(Stocks!$F$1,SUMPRODUCT((Stocks!$B$2:$B$10000=S$1)*(Stocks!$C$2:$C$10000=$A6)*(ROW($3:$10001)-1)),0),\"\")","v":0},{"$f":"IFERROR(OFFSET(Stocks!$F$1,SUMPRODUCT((Stocks!$B$2:$B$10000=T$1)*(Stocks!$C$2:$C$10000=$A6)*(ROW($3:$10001)-1)),0),\"\")","v":0}]
["BF",null,null,null,null,null,null,null,{"$f":"IFERROR(OFFSET(Stocks!$F$1,SUMPRODUCT((Stocks!$B$2:$B$10000=I$1)*(Stocks!$C$2:$C$10000=$A7)*(ROW($3:$10001)-1)),0),\"\")","v":0},{"$f":"IFERROR(OFFSET(Stocks!$F$1,SUMPRODUCT((Stocks!$B$2:$B$10000=J$1)*(Stocks!$C$2:$C$10000=$A7)*(ROW($3:$10001)-1)),0),\"\")","v":0},{"$f":"IFERROR(OFFSET(Stocks!$F$1,SUMPRODUCT((Stocks!$B$2:$B$10000=K$1)*(Stocks!$C$2:$C$10000=$A7)*(ROW($3:$10001)-1)),0),\"\")","v":0},{"$f":"IFERROR(OFFSET(Stocks!$F$1,SUMPRODUCT((Stocks!$B$2:$B$10000=L$1)*(Stocks!$C$2:$C$10000=$A7)*(ROW($3:$10001)-1)),0),\"\")","v":0},{"$f":"IFERROR(OFFSET(Stocks!$F$1,SUMPRODUCT((Stocks!$B$2:$B$10000=M$1)*(Stocks!$C$2:$C$10000=$A7)*(ROW($3:$10001)-1)),0),\"\")","v":0},{"$f":"IFERROR(OFFSET(Stocks!$F$1,SUMPRODUCT((Stocks!$B$2:$B$10000=N$1)*(Stocks!$C$2:$C$10000=$A7)*(ROW($3:$10001)-1)),0),\"\")","v":0},{"$f":"IFERROR(OFFSET(Stocks!$F$1,SUMPRODUCT((Stocks!$B$2:$B$10000=O$1)*(Stocks!$C$2:$C$10000=$A7)*(ROW($3:$10001)-1)),0),\"\")","v":0},{"$f":"IFERROR(OFFSET(Stocks!$F$1,SUMPRODUCT((Stocks!$B$2:$B$10000=P$1)*(Stocks!$C$2:$C$10000=$A7)*(ROW($3:$10001)-1)),0),\"\")","v":0},{"$f":"IFERROR(OFFSET(Stocks!$F$1,SUMPRODUCT((Stocks!$B$2:$B$10000=Q$1)*(Stocks!$C$2:$C$10000=$A7)*(ROW($3:$10001)-1)),0),\"\")","v":0},{"$f":"IFERROR(OFFSET(Stocks!$F$1,SUMPRODUCT((Stocks!$B$2:$B$10000=R$1)*(Stocks!$C$2:$C$10000=$A7)*(ROW($3:$10001)-1)),0),\"\")","v":0},{"$f":"IFERROR(OFFSET(Stocks!$F$1,SUMPRODUCT((Stocks!$B$2:$B$10000=S$1)*(Stocks!$C$2:$C$10000=$A7)*(ROW($3:$10001)-1)),0),\"\")","v":0},{"$f":"IFERROR(OFFSET(Stocks!$F$1,SUMPRODUCT((Stocks!$B$2:$B$10000=T$1)*(Stocks!$C$2:$C$10000=$A7)*(ROW($3:$10001)-1)),0),\"\")","v":0}]
["BL",null,null,null,null,null,null,null,{"$f":"IFERROR(OFFSET(Stocks!$F$1,SUMPRODUCT((Stocks!$B$2:$B$10000=I$1)*(Stocks!$C$2:$C$10000=$A8)*(ROW($3:$10001)-1)),0),\"\")","v":0},{"$f":"IFERROR(OFFSET(Stocks!$F$1,SUMPRODUCT((Stocks!$B$2:$B$10000=J$1)*(Stocks!$C$2:$C$10000=$A8)*(ROW($3:$10001)-1)),0),\"\")","v":0},{"$f":"IFERROR(OFFSET(Stocks!$F$1,SUMPRODUCT((Stocks!$B$2:$B$10000=K$1)*(Stocks!$C$2:$C$10000=$A8)*(ROW($3:$10001)-1)),0),\"\")","v":0},{"$f":"IFERROR(OFFSET(Stocks!$F$1,SUMPRODUCT((Stocks!$B$2:$B$10000=L$1)*(Stocks!$C$2:$C$10000=$A8)*(ROW($3:$10001)-1)),0),\"\")","v":0},{"$f":"IFERROR(OFFSET(Stocks!$F$1,SUMPRODUCT((Stocks!$B$2:$B$10000=M$1)*(Stocks!$C$2:$C$10000=$A8)*(ROW($3:$10001)-1)),0),\"\")","v":0},{"$f":"IFERROR(OFFSET(Stocks!$F$1,SUMPRODUCT((Stocks!$B$2:$B$10000=N$1)*(Stocks!$C$2:$C$10000=$A8)*(ROW($3:$10001)-1)),0),\"\")","v":0},{"$f":"IFERROR(OFFSET(Stocks!$F$1,SUMPRODUCT((Stocks!$B$2:$B$10000=O$1)*(Stocks!$C$2:$C$10000=$A8)*(ROW($3:$10001)-1)),0),\"\")","v":0},{"$f":"IFERROR(OFFSET(Stocks!$F$1,SUMPRODUCT((Stocks!$B$2:$B$10000=P$1)*(Stocks!$C$2:$C$10000=$A8)*(ROW($3:$10001)-1)),0),\"\")","v":0},{"$f":"IFERROR(OFFSET(Stocks!$F$1,SUMPRODUCT((Stocks!$B$2:$B$10000=Q$1)*(Stocks!$C$2:$C$10000=$A8)*(ROW($3:$10001)-1)),0),\"\")","v":0},{"$f":"IFERROR(OFFSET(Stocks!$F$1,SUMPRODUCT((Stocks!$B$2:$B$10000=R$1)*(Stocks!$C$2:$C$10000=$A8)*(ROW($3:$10001)-1)),0),\"\")","v":0},{"$f":"IFERROR(OFFSET(Stocks!$F$1,SUMPRODUCT((Stocks!$B$2:$B$10000=S$1)*(Stocks!$C$2:$C$10000=$A8)*(ROW($3:$10001)-1)),0),\"\")","v":0},{"$f":"IFERROR(OFFSET(Stocks!$F$1,SUMPRODUCT((Stocks!$B$2:$B$10000=T$1)*(Stocks!$C$2:$C$10000=$A8)*(ROW($3:$10001)-1)),0),\"\")","v":0}]
["BLC",null,null,null,null,null,null,null,{"$f":"IFERROR(OFFSET(Stocks!$F$1,SUMPRODUCT((Stocks!$B$2:$B$10000=I$1)*(Stocks!$C$2:$C$10000=$A9)*(ROW($3:$10001)-1)),0),\"\")","v":0},{"$f":"IFERROR(OFFSET(Stocks!$F$1,SUMPRODUCT((Stocks!$B$2:$B$10000=J$1)*(Stocks!$C$2:$C$10000=$A9)*(ROW($3:$10001)-1)),0),\"\")","v":0},{"$f":"IFERROR(OFFSET(Stocks!$F$1,SUMPRODUCT((Stocks!$B$2:$B$10000=K$1)*(Stocks!$C$2:$C$10000=$A9)*(ROW($3:$10001)-1)),0),\"\")","v":0},{"$f":"IFERROR(OFFSET(Stocks!$F$1,SUMPRODUCT((Stocks!$B$2:$B$10000=L$1)*(Stocks!$C$2:$C$10000=$A9)*(ROW($3:$10001)-1)),0),\"\")","v":0},{"$f":"IFERROR(OFFSET(Stocks!$F$1,SUMPRODUCT((Stocks!$B$2:$B$10000=M$1)*(Stocks!$C$2:$C$10000=$A9)*(ROW($3:$10001)-1)),0),\"\")","v":0},{"$f":"IFERROR(OFFSET(Stocks!$F$1,SUMPRODUCT((Stocks!$B$2:$B$10000=N$1)*(Stocks!$C$2:$C$10000=$A9)*(ROW($3:$10001)-1)),0),\"\")","v":0},{"$f":"IFERROR(OFFSET(Stocks!$F$1,SUMPRODUCT((Stocks!$B$2:$B$10000=O$1)*(Stocks!$C$2:$C$10000=$A9)*(ROW($3:$10001)-1)),0),\"\")","v":0},{"$f":"IFERROR(OFFSET(Stocks!$F$1,SUMPRODUCT((Stocks!$B$2:$B$10000=P$1)*(Stocks!$C$2:$C$10000=$A9)*(ROW($3:$10001)-1)),0),\"\")","v":0},{"$f":"IFERROR(OFFSET(Stocks!$F$1,SUMPRODUCT((Stocks!$B$2:$B$10000=Q$1)*(Stocks!$C$2:$C$10000=$A9)*(ROW($3:$10001)-1)),0),\"\")","v":0},{"$f":"IFERROR(OFFSET(Stocks!$F$1,SUMPRODUCT((Stocks!$B$2:$B$10000=R$1)*(Stocks!$C$2:$C$10000=$A9)*(ROW($3:$10001)-1)),0),\"\")","v":0},{"$f":"IFERROR(OFFSET(Stocks!$F$1,SUMPRODUCT((Stocks!$B$2:$B$10000=S$1)*(Stocks!$C$2:$C$10000=$A9)*(ROW($3:$10001)-1)),0),\"\")","v":0},{"$f":"IFERROR(OFFSET(Stocks!$F$1,SUMPRODUCT((Stocks!$B$2:$B$10000=T$1)*(Stocks!$C$2:$C$10000=$A9)*(ROW($3:$10001)-1)),0),\"\")","v":0}]
["BLCc",null,null,null,null,null,null,null,{"$f":"IFERROR(OFFSET(Stocks!$F$1,SUMPRODUCT((Stocks!$B$2:$B$10000=I$1)*(Stocks!$C$2:$C$10000=$A10)*(ROW($3:$10001)-1)),0),\"\")","v":0},{"$f":"IFERROR(OFFSET(Stocks!$F$1,SUMPRODUCT((Stocks!$B$2:$B$10000=J$1)*(Stocks!$C$2:$C$10000=$A10)*(ROW($3:$10001)-1)),0),\"\")","v":0},{"$f":"IFERROR(OFFSET(Stocks!$F$1,SUMPRODUCT((Stocks!$B$2:$B$10000=K$1)*(Stocks!$C$2:$C$10000=$A10)*(ROW($3:$10001)-1)),0),\"\")","v":0},{"$f":"IFERROR(OFFSET(Stocks!$F$1,SUMPRODUCT((Stocks!$B$2:$B$10000=L$1)*(Stocks!$C$2:$C$10000=$A10)*(ROW($3:$10001)-1)),0),\"\")","v":0},{"$f":"IFERROR(OFFSET(Stocks!$F$1,SUMPRODUCT((Stocks!$B$2:$B$10000=M$1)*(Stocks!$C$2:$C$10000=$A10)*(ROW($3:$10001)-1)),0),\"\")","v":0},{"$f":"IFERROR(OFFSET(Stocks!$F$1,SUMPRODUCT((Stocks!$B$2:$B$10000=N$1)*(Stocks!$C$2:$C$10000=$A10)*(ROW($3:$10001)-1)),0),\"\")","v":0},{"$f":"IFERROR(OFFSET(Stocks!$F$1,SUMPRODUCT((Stocks!$B$2:$B$10000=O$1)*(Stocks!$C$2:$C$10000=$A10)*(ROW($3:$10001)-1)),0),\"\")","v":0},{"$f":"IFERROR(OFFSET(Stocks!$F$1,SUMPRODUCT((Stocks!$B$2:$B$10000=P$1)*(Stocks!$C$2:$C$10000=$A10)*(ROW($3:$10001)-1)),0),\"\")","v":0},{"$f":"IFERROR(OFFSET(Stocks!$F$1,SUMPRODUCT((Stocks!$B$2:$B$10000=Q$1)*(Stocks!$C$2:$C$10000=$A10)*(ROW($3:$10001)-1)),0),\"\")","v":0},{"$f":"IFERROR(OFFSET(Stocks!$F$1,SUMPRODUCT((Stocks!$B$2:$B$10000=R$1)*(Stocks!$C$2:$C$10000=$A10)*(ROW($3:$10001)-1)),0),\"\")","v":0},{"$f":"IFERROR(OFFSET(Stocks!$F$1,SUMPRODUCT((Stocks!$B$2:$B$10000=S$1)*(Stocks!$C$2:$C$10000=$A10)*(ROW($3:$10001)-1)),0),\"\")","v":0},{"$f":"IFERROR(OFFSET(Stocks!$F$1,SUMPRODUCT((Stocks!$B$2:$B$10000=T$1)*(Stocks!$C$2:$C$10000=$A10)*(ROW($3:$10001)-1)),0),\"\")","v":0}]
["BLR",null,null,null,null,null,null,null,{"$f":"IFERROR(OFFSET(Stocks!$F$1,SUMPRODUCT((Stocks!$B$2:$B$10000=I$1)*(Stocks!$C$2:$C$10000=$A11)*(ROW($3:$10001)-1)),0),\"\")","v":0},{"$f":"IFERROR(OFFSET(Stocks!$F$1,SUMPRODUCT((Stocks!$B$2:$B$10000=J$1)*(Stocks!$C$2:$C$10000=$A11)*(ROW($3:$10001)-1)),0),\"\")","v":0},{"$f":"IFERROR(OFFSET(Stocks!$F$1,SUMPRODUCT((Stocks!$B$2:$B$10000=K$1)*(Stocks!$C$2:$C$10000=$A11)*(ROW($3:$10001)-1)),0),\"\")","v":0},{"$f":"IFERROR(OFFSET(Stocks!$F$1,SUMPRODUCT((Stocks!$B$2:$B$10000=L$1)*(Stocks!$C$2:$C$10000=$A11)*(ROW($3:$10001)-1)),0),\"\")","v":0},{"$f":"IFERROR(OFFSET(Stocks!$F$1,SUMPRODUCT((Stocks!$B$2:$B$10000=M$1)*(Stocks!$C$2:$C$10000=$A11)*(ROW($3:$10001)-1)),0),\"\")","v":0},{"$f":"IFERROR(OFFSET(Stocks!$F$1,SUMPRODUCT((Stocks!$B$2:$B$10000=N$1)*(Stocks!$C$2:$C$10000=$A11)*(ROW($3:$10001)-1)),0),\"\")","v":0},{"$f":"IFERROR(OFFSET(Stocks!$F$1,SUMPRODUCT((Stocks!$B$2:$B$10000=O$1)*(Stocks!$C$2:$C$10000=$A11)*(ROW($3:$10001)-1)),0),\"\")","v":0},{"$f":"IFERROR(OFFSET(Stocks!$F$1,SUMPRODUCT((Stocks!$B$2:$B$10000=P$1)*(Stocks!$C$2:$C$10000=$A11)*(ROW($3:$10001)-1)),0),\"\")","v":0},{"$f":"IFERROR(OFFSET(Stocks!$F$1,SUMPRODUCT((Stocks!$B$2:$B$10000=Q$1)*(Stocks!$C$2:$C$10000=$A11)*(ROW($3:$10001)-1)),0),\"\")","v":0},{"$f":"IFERROR(OFFSET(Stocks!$F$1,SUMPRODUCT((Stocks!$B$2:$B$10000=R$1)*(Stocks!$C$2:$C$10000=$A11)*(ROW($3:$10001)-1)),0),\"\")","v":0},{"$f":"IFERROR(OFFSET(Stocks!$F$1,SUMPRODUCT((Stocks!$B$2:$B$10000=S$1)*(Stocks!$C$2:$C$10000=$A11)*(ROW($3:$10001)-1)),0),\"\")","v":0},{"$f":"IFERROR(OFFSET(Stocks!$F$1,SUMPRODUCT((Stocks!$B$2:$B$10000=T$1)*(Stocks!$C$2:$C$10000=$A11)*(ROW($3:$10001)-1)),0),\"\")","v":0}]
["BO",null,null,null,null,null,null,null,{"$f":"IFERROR(OFFSET(Stocks!$F$1,SUMPRODUCT((Stocks!$B$2:$B$10000=I$1)*(Stocks!$C$2:$C$10000=$A12)*(ROW($3:$10001)-1)),0),\"\")","v":0},{"$f":"IFERROR(OFFSET(Stocks!$F$1,SUMPRODUCT((Stocks!$B$2:$B$10000=J$1)*(Stocks!$C$2:$C$10000=$A12)*(ROW($3:$10001)-1)),0),\"\")","v":0},{"$f":"IFERROR(OFFSET(Stocks!$F$1,SUMPRODUCT((Stocks!$B$2:$B$10000=K$1)*(Stocks!$C$2:$C$10000=$A12)*(ROW($3:$10001)-1)),0),\"\")","v":0},{"$f":"IFERROR(OFFSET(Stocks!$F$1,SUMPRODUCT((Stocks!$B$2:$B$10000=L$1)*(Stocks!$C$2:$C$10000=$A12)*(ROW($3:$10001)-1)),0),\"\")","v":0},{"$f":"IFERROR(OFFSET(Stocks!$F$1,SUMPRODUCT((Stocks!$B$2:$B$10000=M$1)*(Stocks!$C$2:$C$10000=$A12)*(ROW($3:$10001)-1)),0),\"\")","v":0},{"$f":"IFERROR(OFFSET(Stocks!$F$1,SUMPRODUCT((Stocks!$B$2:$B$10000=N$1)*(Stocks!$C$2:$C$10000=$A12)*(ROW($3:$10001)-1)),0),\"\")","v":0},{"$f":"IFERROR(OFFSET(Stocks!$F$1,SUMPRODUCT((Stocks!$B$2:$B$10000=O$1)*(Stocks!$C$2:$C$10000=$A12)*(ROW($3:$10001)-1)),0),\"\")","v":0},{"$f":"IFERROR(OFFSET(Stocks!$F$1,SUMPRODUCT((Stocks!$B$2:$B$10000=P$1)*(Stocks!$C$2:$C$10000=$A12)*(ROW($3:$10001)-1)),0),\"\")","v":0},{"$f":"IFERROR(OFFSET(Stocks!$F$1,SUMPRODUCT((Stocks!$B$2:$B$10000=Q$1)*(Stocks!$C$2:$C$10000=$A12)*(ROW($3:$10001)-1)),0),\"\")","v":0},{"$f":"IFERROR(OFFSET(Stocks!$F$1,SUMPRODUCT((Stocks!$B$2:$B$10000=R$1)*(Stocks!$C$2:$C$10000=$A12)*(ROW($3:$10001)-1)),0),\"\")","v":0},{"$f":"IFERROR(OFFSET(Stocks!$F$1,SUMPRODUCT((Stocks!$B$2:$B$10000=S$1)*(Stocks!$C$2:$C$10000=$A12)*(ROW($3:$10001)-1)),0),\"\")","v":0},{"$f":"IFERROR(OFFSET(Stocks!$F$1,SUMPRODUCT((Stocks!$B$2:$B$10000=T$1)*(Stocks!$C$2:$C$10000=$A12)*(ROW($3:$10001)-1)),0),\"\")","v":0}]
["BR",null,null,null,null,null,null,null,{"$f":"IFERROR(OFFSET(Stocks!$F$1,SUMPRODUCT((Stocks!$B$2:$B$10000=I$1)*(Stocks!$C$2:$C$10000=$A13)*(ROW($3:$10001)-1)),0),\"\")","v":0},{"$f":"IFERROR(OFFSET(Stocks!$F$1,SUMPRODUCT((Stocks!$B$2:$B$10000=J$1)*(Stocks!$C$2:$C$10000=$A13)*(ROW($3:$10001)-1)),0),\"\")","v":0},{"$f":"IFERROR(OFFSET(Stocks!$F$1,SUMPRODUCT((Stocks!$B$2:$B$10000=K$1)*(Stocks!$C$2:$C$10000=$A13)*(ROW($3:$10001)-1)),0),\"\")","v":0},{"$f":"IFERROR(OFFSET(Stocks!$F$1,SUMPRODUCT((Stocks!$B$2:$B$10000=L$1)*(Stocks!$C$2:$C$10000=$A13)*(ROW($3:$10001)-1)),0),\"\")","v":0},{"$f":"IFERROR(OFFSET(Stocks!$F$1,SUMPRODUCT((Stocks!$B$2:$B$10000=M$1)*(Stocks!$C$2:$C$10000=$A13)*(ROW($3:$10001)-1)),0),\"\")","v":0},{"$f":"IFERROR(OFFSET(Stocks!$F$1,SUMPRODUCT((Stocks!$B$2:$B$10000=N$1)*(Stocks!$C$2:$C$10000=$A13)*(ROW($3:$10001)-1)),0),\"\")","v":0},{"$f":"IFERROR(OFFSET(Stocks!$F$1,SUMPRODUCT((Stocks!$B$2:$B$10000=O$1)*(Stocks!$C$2:$C$10000=$A13)*(ROW($3:$10001)-1)),0),\"\")","v":0},{"$f":"IFERROR(OFFSET(Stocks!$F$1,SUMPRODUCT((Stocks!$B$2:$B$10000=P$1)*(Stocks!$C$2:$C$10000=$A13)*(ROW($3:$10001)-1)),0),\"\")","v":0},{"$f":"IFERROR(OFFSET(Stocks!$F$1,SUMPRODUCT((Stocks!$B$2:$B$10000=Q$1)*(Stocks!$C$2:$C$10000=$A13)*(ROW($3:$10001)-1)),0),\"\")","v":0},{"$f":"IFERROR(OFFSET(Stocks!$F$1,SUMPRODUCT((Stocks!$B$2:$B$10000=R$1)*(Stocks!$C$2:$C$10000=$A13)*(ROW($3:$10001)-1)),0),\"\")","v":0},{"$f":"IFERROR(OFFSET(Stocks!$F$1,SUMPRODUCT((Stocks!$B$2:$B$10000=S$1)*(Stocks!$C$2:$C$10000=$A13)*(ROW($3:$10001)-1)),0),\"\")","v":0},{"$f":"IFERROR(OFFSET(Stocks!$F$1,SUMPRODUCT((Stocks!$B$2:$B$10000=T$1)*(Stocks!$C$2:$C$10000=$A13)*(ROW($3:$10001)-1)),0),\"\")","v":0}]
["CR",null,null,null,null,null,null,null,{"$f":"IFERROR(OFFSET(Stocks!$F$1,SUMPRODUCT((Stocks!$B$2:$B$10000=I$1)*(Stocks!$C$2:$C$10000=$A14)*(ROW($3:$10001)-1)),0),\"\")","v":0},{"$f":"IFERROR(OFFSET(Stocks!$F$1,SUMPRODUCT((Stocks!$B$2:$B$10000=J$1)*(Stocks!$C$2:$C$10000=$A14)*(ROW($3:$10001)-1)),0),\"\")","v":0},{"$f":"IFERROR(OFFSET(Stocks!$F$1,SUMPRODUCT((Stocks!$B$2:$B$10000=K$1)*(Stocks!$C$2:$C$10000=$A14)*(ROW($3:$10001)-1)),0),\"\")","v":0},{"$f":"IFERROR(OFFSET(Stocks!$F$1,SUMPRODUCT((Stocks!$B$2:$B$10000=L$1)*(Stocks!$C$2:$C$10000=$A14)*(ROW($3:$10001)-1)),0),\"\")","v":0},{"$f":"IFERROR(OFFSET(Stocks!$F$1,SUMPRODUCT((Stocks!$B$2:$B$10000=M$1)*(Stocks!$C$2:$C$10000=$A14)*(ROW($3:$10001)-1)),0),\"\")","v":0},{"$f":"IFERROR(OFFSET(Stocks!$F$1,SUMPRODUCT((Stocks!$B$2:$B$10000=N$1)*(Stocks!$C$2:$C$10000=$A14)*(ROW($3:$10001)-1)),0),\"\")","v":0},{"$f":"IFERROR(OFFSET(Stocks!$F$1,SUMPRODUCT((Stocks!$B$2:$B$10000=O$1)*(Stocks!$C$2:$C$10000=$A14)*(ROW($3:$10001)-1)),0),\"\")","v":0},{"$f":"IFERROR(OFFSET(Stocks!$F$1,SUMPRODUCT((Stocks!$B$2:$B$10000=P$1)*(Stocks!$C$2:$C$10000=$A14)*(ROW($3:$10001)-1)),0),\"\")","v":0},{"$f":"IFERROR(OFFSET(Stocks!$F$1,SUMPRODUCT((Stocks!$B$2:$B$10000=Q$1)*(Stocks!$C$2:$C$10000=$A14)*(ROW($3:$10001)-1)),0),\"\")","v":0},{"$f":"IFERROR(OFFSET(Stocks!$F$1,SUMPRODUCT((Stocks!$B$2:$B$10000=R$1)*(Stocks!$C$2:$C$10000=$A14)*(ROW($3:$10001)-1)),0),\"\")","v":0},{"$f":"IFERROR(OFFSET(Stocks!$F$1,SUMPRODUCT((Stocks!$B$2:$B$10000=S$1)*(Stocks!$C$2:$C$10000=$A14)*(ROW($3:$10001)-1)),0),\"\")","v":0},{"$f":"IFERROR(OFFSET(Stocks!$F$1,SUMPRODUCT((Stocks!$B$2:$B$10000=T$1)*(Stocks!$C$2:$C$10000=$A14)*(ROW($3:$10001)-1)),0),\"\")","v":0}]
["CL",null,null,null,null,null,null,null,{"$f":"IFERROR(OFFSET(Stocks!$F$1,SUMPRODUCT((Stocks!$B$2:$B$10000=I$1)*(Stocks!$C$2:$C$10000=$A15)*(ROW($3:$10001)-1)),0),\"\")","v":0},{"$f":"IFERROR(OFFSET(Stocks!$F$1,SUMPRODUCT((Stocks!$B$2:$B$10000=J$1)*(Stocks!$C$2:$C$10000=$A15)*(ROW($3:$10001)-1)),0),\"\")","v":0},{"$f":"IFERROR(OFFSET(Stocks!$F$1,SUMPRODUCT((Stocks!$B$2:$B$10000=K$1)*(Stocks!$C$2:$C$10000=$A15)*(ROW($3:$10001)-1)),0),\"\")","v":0},{"$f":"IFERROR(OFFSET(Stocks!$F$1,SUMPRODUCT((Stocks!$B$2:$B$10000=L$1)*(Stocks!$C$2:$C$10000=$A15)*(ROW($3:$10001)-1)),0),\"\")","v":0},{"$f":"IFERROR(OFFSET(Stocks!$F$1,SUMPRODUCT((Stocks!$B$2:$B$10000=M$1)*(Stocks!$C$2:$C$10000=$A15)*(ROW($3:$10001)-1)),0),\"\")","v":0},{"$f":"IFERROR(OFFSET(Stocks!$F$1,SUMPRODUCT((Stocks!$B$2:$B$10000=N$1)*(Stocks!$C$2:$C$10000=$A15)*(ROW($3:$10001)-1)),0),\"\")","v":0},{"$f":"IFERROR(OFFSET(Stocks!$F$1,SUMPRODUCT((Stocks!$B$2:$B$10000=O$1)*(Stocks!$C$2:$C$10000=$A15)*(ROW($3:$10001)-1)),0),\"\")","v":0},{"$f":"IFERROR(OFFSET(Stocks!$F$1,SUMPRODUCT((Stocks!$B$2:$B$10000=P$1)*(Stocks!$C$2:$C$10000=$A15)*(ROW($3:$10001)-1)),0),\"\")","v":0},{"$f":"IFERROR(OFFSET(Stocks!$F$1,SUMPRODUCT((Stocks!$B$2:$B$10000=Q$1)*(Stocks!$C$2:$C$10000=$A15)*(ROW($3:$10001)-1)),0),\"\")","v":0},{"$f":"IFERROR(OFFSET(Stocks!$F$1,SUMPRODUCT((Stocks!$B$2:$B$10000=R$1)*(Stocks!$C$2:$C$10000=$A15)*(ROW($3:$10001)-1)),0),\"\")","v":0},{"$f":"IFERROR(OFFSET(Stocks!$F$1,SUMPRODUCT((Stocks!$B$2:$B$10000=S$1)*(Stocks!$C$2:$C$10000=$A15)*(ROW($3:$10001)-1)),0),\"\")","v":0},{"$f":"IFERROR(OFFSET(Stocks!$F$1,SUMPRODUCT((Stocks!$B$2:$B$10000=T$1)*(Stocks!$C$2:$C$10000=$A15)*(ROW($3:$10001)-1)),0),\"\")","v":0}]
["CRL",null,null,null,null,null,null,null,{"$f":"IFERROR(OFFSET(Stocks!$F$1,SUMPRODUCT((Stocks!$B$2:$B$10000=I$1)*(Stocks!$C$2:$C$10000=$A16)*(ROW($3:$10001)-1)),0),\"\")","v":0},{"$f":"IFERROR(OFFSET(Stocks!$F$1,SUMPRODUCT((Stocks!$B$2:$B$10000=J$1)*(Stocks!$C$2:$C$10000=$A16)*(ROW($3:$10001)-1)),0),\"\")","v":0},{"$f":"IFERROR(OFFSET(Stocks!$F$1,SUMPRODUCT((Stocks!$B$2:$B$10000=K$1)*(Stocks!$C$2:$C$10000=$A16)*(ROW($3:$10001)-1)),0),\"\")","v":0},{"$f":"IFERROR(OFFSET(Stocks!$F$1,SUMPRODUCT((Stocks!$B$2:$B$10000=L$1)*(Stocks!$C$2:$C$10000=$A16)*(ROW($3:$10001)-1)),0),\"\")","v":0},{"$f":"IFERROR(OFFSET(Stocks!$F$1,SUMPRODUCT((Stocks!$B$2:$B$10000=M$1)*(Stocks!$C$2:$C$10000=$A16)*(ROW($3:$10001)-1)),0),\"\")","v":0},{"$f":"IFERROR(OFFSET(Stocks!$F$1,SUMPRODUCT((Stocks!$B$2:$B$10000=N$1)*(Stocks!$C$2:$C$10000=$A16)*(ROW($3:$10001)-1)),0),\"\")","v":0},{"$f":"IFERROR(OFFSET(Stocks!$F$1,SUMPRODUCT((Stocks!$B$2:$B$10000=O$1)*(Stocks!$C$2:$C$10000=$A16)*(ROW($3:$10001)-1)),0),\"\")","v":0},{"$f":"IFERROR(OFFSET(Stocks!$F$1,SUMPRODUCT((Stocks!$B$2:$B$10000=P$1)*(Stocks!$C$2:$C$10000=$A16)*(ROW($3:$10001)-1)),0),\"\")","v":0},{"$f":"IFERROR(OFFSET(Stocks!$F$1,SUMPRODUCT((Stocks!$B$2:$B$10000=Q$1)*(Stocks!$C$2:$C$10000=$A16)*(ROW($3:$10001)-1)),0),\"\")","v":0},{"$f":"IFERROR(OFFSET(Stocks!$F$1,SUMPRODUCT((Stocks!$B$2:$B$10000=R$1)*(Stocks!$C$2:$C$10000=$A16)*(ROW($3:$10001)-1)),0),\"\")","v":0},{"$f":"IFERROR(OFFSET(Stocks!$F$1,SUMPRODUCT((Stocks!$B$2:$B$10000=S$1)*(Stocks!$C$2:$C$10000=$A16)*(ROW($3:$10001)-1)),0),\"\")","v":0},{"$f":"IFERROR(OFFSET(Stocks!$F$1,SUMPRODUCT((Stocks!$B$2:$B$10000=T$1)*(Stocks!$C$2:$C$10000=$A16)*(ROW($3:$10001)-1)),0),\"\")","v":0}]
["CVT",null,null,null,null,null,null,null,{"$f":"IFERROR(OFFSET(Stocks!$F$1,SUMPRODUCT((Stocks!$B$2:$B$10000=I$1)*(Stocks!$C$2:$C$10000=$A17)*(ROW($3:$10001)-1)),0),\"\")","v":0},{"$f":"IFERROR(OFFSET(Stocks!$F$1,SUMPRODUCT((Stocks!$B$2:$B$10000=J$1)*(Stocks!$C$2:$C$10000=$A17)*(ROW($3:$10001)-1)),0),\"\")","v":0},{"$f":"IFERROR(OFFSET(Stocks!$F$1,SUMPRODUCT((Stocks!$B$2:$B$10000=K$1)*(Stocks!$C$2:$C$10000=$A17)*(ROW($3:$10001)-1)),0),\"\")","v":0},{"$f":"IFERROR(OFFSET(Stocks!$F$1,SUMPRODUCT((Stocks!$B$2:$B$10000=L$1)*(Stocks!$C$2:$C$10000=$A17)*(ROW($3:$10001)-1)),0),\"\")","v":0},{"$f":"IFERROR(OFFSET(Stocks!$F$1,SUMPRODUCT((Stocks!$B$2:$B$10000=M$1)*(Stocks!$C$2:$C$10000=$A17)*(ROW($3:$10001)-1)),0),\"\")","v":0},{"$f":"IFERROR(OFFSET(Stocks!$F$1,SUMPRODUCT((Stocks!$B$2:$B$10000=N$1)*(Stocks!$C$2:$C$10000=$A17)*(ROW($3:$10001)-1)),0),\"\")","v":0},{"$f":"IFERROR(OFFSET(Stocks!$F$1,SUMPRODUCT((Stocks!$B$2:$B$10000=O$1)*(Stocks!$C$2:$C$10000=$A17)*(ROW($3:$10001)-1)),0),\"\")","v":0},{"$f":"IFERROR(OFFSET(Stocks!$F$1,SUMPRODUCT((Stocks!$B$2:$B$10000=P$1)*(Stocks!$C$2:$C$10000=$A17)*(ROW($3:$10001)-1)),0),\"\")","v":0},{"$f":"IFERROR(OFFSET(Stocks!$F$1,SUMPRODUCT((Stocks!$B$2:$B$10000=Q$1)*(Stocks!$C$2:$C$10000=$A17)*(ROW($3:$10001)-1)),0),\"\")","v":0},{"$f":"IFERROR(OFFSET(Stocks!$F$1,SUMPRODUCT((Stocks!$B$2:$B$10000=R$1)*(Stocks!$C$2:$C$10000=$A17)*(ROW($3:$10001)-1)),0),\"\")","v":0},{"$f":"IFERROR(OFFSET(Stocks!$F$1,SUMPRODUCT((Stocks!$B$2:$B$10000=S$1)*(Stocks!$C$2:$C$10000=$A17)*(ROW($3:$10001)-1)),0),\"\")","v":0},{"$f":"IFERROR(OFFSET(Stocks!$F$1,SUMPRODUCT((Stocks!$B$2:$B$10000=T$1)*(Stocks!$C$2:$C$10000=$A17)*(ROW($3:$10001)-1)),0),\"\")","v":0}]
["JP",null,null,null,null,null,null,null,{"$f":"IFERROR(OFFSET(Stocks!$F$1,SUMPRODUCT((Stocks!$B$2:$B$10000=I$1)*(Stocks!$C$2:$C$10000=$A18)*(ROW($3:$10001)-1)),0),\"\")","v":0},{"$f":"IFERROR(OFFSET(Stocks!$F$1,SUMPRODUCT((Stocks!$B$2:$B$10000=J$1)*(Stocks!$C$2:$C$10000=$A18)*(ROW($3:$10001)-1)),0),\"\")","v":0},{"$f":"IFERROR(OFFSET(Stocks!$F$1,SUMPRODUCT((Stocks!$B$2:$B$10000=K$1)*(Stocks!$C$2:$C$10000=$A18)*(ROW($3:$10001)-1)),0),\"\")","v":0},{"$f":"IFERROR(OFFSET(Stocks!$F$1,SUMPRODUCT((Stocks!$B$2:$B$10000=L$1)*(Stocks!$C$2:$C$10000=$A18)*(ROW($3:$10001)-1)),0),\"\")","v":0},{"$f":"IFERROR(OFFSET(Stocks!$F$1,SUMPRODUCT((Stocks!$B$2:$B$10000=M$1)*(Stocks!$C$2:$C$10000=$A18)*(ROW($3:$10001)-1)),0),\"\")","v":0},{"$f":"IFERROR(OFFSET(Stocks!$F$1,SUMPRODUCT((Stocks!$B$2:$B$10000=N$1)*(Stocks!$C$2:$C$10000=$A18)*(ROW($3:$10001)-1)),0),\"\")","v":0},{"$f":"IFERROR(OFFSET(Stocks!$F$1,SUMPRODUCT((Stocks!$B$2:$B$10000=O$1)*(Stocks!$C$2:$C$10000=$A18)*(ROW($3:$10001)-1)),0),\"\")","v":0},{"$f":"IFERROR(OFFSET(Stocks!$F$1,SUMPRODUCT((Stocks!$B$2:$B$10000=P$1)*(Stocks!$C$2:$C$10000=$A18)*(ROW($3:$10001)-1)),0),\"\")","v":0},{"$f":"IFERROR(OFFSET(Stocks!$F$1,SUMPRODUCT((Stocks!$B$2:$B$10000=Q$1)*(Stocks!$C$2:$C$10000=$A18)*(ROW($3:$10001)-1)),0),\"\")","v":0},{"$f":"IFERROR(OFFSET(Stocks!$F$1,SUMPRODUCT((Stocks!$B$2:$B$10000=R$1)*(Stocks!$C$2:$C$10000=$A18)*(ROW($3:$10001)-1)),0),\"\")","v":0},{"$f":"IFERROR(OFFSET(Stocks!$F$1,SUMPRODUCT((Stocks!$B$2:$B$10000=S$1)*(Stocks!$C$2:$C$10000=$A18)*(ROW($3:$10001)-1)),0),\"\")","v":0},{"$f":"IFERROR(OFFSET(Stocks!$F$1,SUMPRODUCT((Stocks!$B$2:$B$10000=T$1)*(Stocks!$C$2:$C$10000=$A18)*(ROW($3:$10001)-1)),0),\"\")","v":0}]
["G0",null,null,null,null,null,null,null,{"$f":"IFERROR(OFFSET(Stocks!$F$1,SUMPRODUCT((Stocks!$B$2:$B$10000=I$1)*(Stocks!$C$2:$C$10000=$A19)*(ROW($3:$10001)-1)),0),\"\")","v":0},{"$f":"IFERROR(OFFSET(Stocks!$F$1,SUMPRODUCT((Stocks!$B$2:$B$10000=J$1)*(Stocks!$C$2:$C$10000=$A19)*(ROW($3:$10001)-1)),0),\"\")","v":0},{"$f":"IFERROR(OFFSET(Stocks!$F$1,SUMPRODUCT((Stocks!$B$2:$B$10000=K$1)*(Stocks!$C$2:$C$10000=$A19)*(ROW($3:$10001)-1)),0),\"\")","v":0},{"$f":"IFERROR(OFFSET(Stocks!$F$1,SUMPRODUCT((Stocks!$B$2:$B$10000=L$1)*(Stocks!$C$2:$C$10000=$A19)*(ROW($3:$10001)-1)),0),\"\")","v":0},{"$f":"IFERROR(OFFSET(Stocks!$F$1,SUMPRODUCT((Stocks!$B$2:$B$10000=M$1)*(Stocks!$C$2:$C$10000=$A19)*(ROW($3:$10001)-1)),0),\"\")","v":0},{"$f":"IFERROR(OFFSET(Stocks!$F$1,SUMPRODUCT((Stocks!$B$2:$B$10000=N$1)*(Stocks!$C$2:$C$10000=$A19)*(ROW($3:$10001)-1)),0),\"\")","v":0},{"$f":"IFERROR(OFFSET(Stocks!$F$1,SUMPRODUCT((Stocks!$B$2:$B$10000=O$1)*(Stocks!$C$2:$C$10000=$A19)*(ROW($3:$10001)-1)),0),\"\")","v":0},{"$f":"IFERROR(OFFSET(Stocks!$F$1,SUMPRODUCT((Stocks!$B$2:$B$10000=P$1)*(Stocks!$C$2:$C$10000=$A19)*(ROW($3:$10001)-1)),0),\"\")","v":0},{"$f":"IFERROR(OFFSET(Stocks!$F$1,SUMPRODUCT((Stocks!$B$2:$B$10000=Q$1)*(Stocks!$C$2:$C$10000=$A19)*(ROW($3:$10001)-1)),0),\"\")","v":0},{"$f":"IFERROR(OFFSET(Stocks!$F$1,SUMPRODUCT((Stocks!$B$2:$B$10000=R$1)*(Stocks!$C$2:$C$10000=$A19)*(ROW($3:$10001)-1)),0),\"\")","v":0},{"$f":"IFERROR(OFFSET(Stocks!$F$1,SUMPRODUCT((Stocks!$B$2:$B$10000=S$1)*(Stocks!$C$2:$C$10000=$A19)*(ROW($3:$10001)-1)),0),\"\")","v":0},{"$f":"IFERROR(OFFSET(Stocks!$F$1,SUMPRODUCT((Stocks!$B$2:$B$10000=T$1)*(Stocks!$C$2:$C$10000=$A19)*(ROW($3:$10001)-1)),0),\"\")","v":0}]
["G2",null,null,null,null,null,null,null,{"$f":"IFERROR(OFFSET(Stocks!$F$1,SUMPRODUCT((Stocks!$B$2:$B$10000=I$1)*(Stocks!$C$2:$C$10000=$A20)*(ROW($3:$10001)-1)),0),\"\")","v":0},{"$f":"IFERROR(OFFSET(Stocks!$F$1,SUMPRODUCT((Stocks!$B$2:$B$10000=J$1)*(Stocks!$C$2:$C$10000=$A20)*(ROW($3:$10001)-1)),0),\"\")","v":0},{"$f":"IFERROR(OFFSET(Stocks!$F$1,SUMPRODUCT((Stocks!$B$2:$B$10000=K$1)*(Stocks!$C$2:$C$10000=$A20)*(ROW($3:$10001)-1)),0),\"\")","v":0},{"$f":"IFERROR(OFFSET(Stocks!$F$1,SUMPRODUCT((Stocks!$B$2:$B$10000=L$1)*(Stocks!$C$2:$C$10000=$A20)*(ROW($3:$10001)-1)),0),\"\")","v":0},{"$f":"IFERROR(OFFSET(Stocks!$F$1,SUMPRODUCT((Stocks!$B$2:$B$10000=M$1)*(Stocks!$C$2:$C$10000=$A20)*(ROW($3:$10001)-1)),0),\"\")","v":0},{"$f":"IFERROR(OFFSET(Stocks!$F$1,SUMPRODUCT((Stocks!$B$2:$B$10000=N$1)*(Stocks!$C$2:$C$10000=$A20)*(ROW($3:$10001)-1)),0),\"\")","v":0},{"$f":"IFERROR(OFFSET(Stocks!$F$1,SUMPRODUCT((Stocks!$B$2:$B$10000=O$1)*(Stocks!$C$2:$C$10000=$A20)*(ROW($3:$10001)-1)),0),\"\")","v":0},{"$f":"IFERROR(OFFSET(Stocks!$F$1,SUMPRODUCT((Stocks!$B$2:$B$10000=P$1)*(Stocks!$C$2:$C$10000=$A20)*(ROW($3:$10001)-1)),0),\"\")","v":0},{"$f":"IFERROR(OFFSET(Stocks!$F$1,SUMPRODUCT((Stocks!$B$2:$B$10000=Q$1)*(Stocks!$C$2:$C$10000=$A20)*(ROW($3:$10001)-1)),0),\"\")","v":0},{"$f":"IFERROR(OFFSET(Stocks!$F$1,SUMPRODUCT((Stocks!$B$2:$B$10000=R$1)*(Stocks!$C$2:$C$10000=$A20)*(ROW($3:$10001)-1)),0),\"\")","v":0},{"$f":"IFERROR(OFFSET(Stocks!$F$1,SUMPRODUCT((Stocks!$B$2:$B$10000=S$1)*(Stocks!$C$2:$C$10000=$A20)*(ROW($3:$10001)-1)),0),\"\")","v":0},{"$f":"IFERROR(OFFSET(Stocks!$F$1,SUMPRODUCT((Stocks!$B$2:$B$10000=T$1)*(Stocks!$C$2:$C$10000=$A20)*(ROW($3:$10001)-1)),0),\"\")","v":0}]
["G3",null,null,null,null,null,null,null,{"$f":"IFERROR(OFFSET(Stocks!$F$1,SUMPRODUCT((Stocks!$B$2:$B$10000=I$1)*(Stocks!$C$2:$C$10000=$A21)*(ROW($3:$10001)-1)),0),\"\")","v":0},{"$f":"IFERROR(OFFSET(Stocks!$F$1,SUMPRODUCT((Stocks!$B$2:$B$10000=J$1)*(Stocks!$C$2:$C$10000=$A21)*(ROW($3:$10001)-1)),0),\"\")","v":0},{"$f":"IFERROR(OFFSET(Stocks!$F$1,SUMPRODUCT((Stocks!$B$2:$B$10000=K$1)*(Stocks!$C$2:$C$10000=$A21)*(ROW($3:$10001)-1)),0),\"\")","v":0},{"$f":"IFERROR(OFFSET(Stocks!$F$1,SUMPRODUCT((Stocks!$B$2:$B$10000=L$1)*(Stocks!$C$2:$C$10000=$A21)*(ROW($3:$10001)-1)),0),\"\")","v":0},{"$f":"IFERROR(OFFSET(Stocks!$F$1,SUMPRODUCT((Stocks!$B$2:$B$10000=M$1)*(Stocks!$C$2:$C$10000=$A21)*(ROW($3:$10001)-1)),0),\"\")","v":0},{"$f":"IFERROR(OFFSET(Stocks!$F$1,SUMPRODUCT((Stocks!$B$2:$B$10000=N$1)*(Stocks!$C$2:$C$10000=$A21)*(ROW($3:$10001)-1)),0),\"\")","v":0},{"$f":"IFERROR(OFFSET(Stocks!$F$1,SUMPRODUCT((Stocks!$B$2:$B$10000=O$1)*(Stocks!$C$2:$C$10000=$A21)*(ROW($3:$10001)-1)),0),\"\")","v":0},{"$f":"IFERROR(OFFSET(Stocks!$F$1,SUMPRODUCT((Stocks!$B$2:$B$10000=P$1)*(Stocks!$C$2:$C$10000=$A21)*(ROW($3:$10001)-1)),0),\"\")","v":0},{"$f":"IFERROR(OFFSET(Stocks!$F$1,SUMPRODUCT((Stocks!$B$2:$B$10000=Q$1)*(Stocks!$C$2:$C$10000=$A21)*(ROW($3:$10001)-1)),0),\"\")","v":0},{"$f":"IFERROR(OFFSET(Stocks!$F$1,SUMPRODUCT((Stocks!$B$2:$B$10000=R$1)*(Stocks!$C$2:$C$10000=$A21)*(ROW($3:$10001)-1)),0),\"\")","v":0},{"$f":"IFERROR(OFFSET(Stocks!$F$1,SUMPRODUCT((Stocks!$B$2:$B$10000=S$1)*(Stocks!$C$2:$C$10000=$A21)*(ROW($3:$10001)-1)),0),\"\")","v":0},{"$f":"IFERROR(OFFSET(Stocks!$F$1,SUMPRODUCT((Stocks!$B$2:$B$10000=T$1)*(Stocks!$C$2:$C$10000=$A21)*(ROW($3:$10001)-1)),0),\"\")","v":0}]
["GF",null,null,null,null,null,null,null,{"$f":"IFERROR(OFFSET(Stocks!$F$1,SUMPRODUCT((Stocks!$B$2:$B$10000=I$1)*(Stocks!$C$2:$C$10000=$A22)*(ROW($3:$10001)-1)),0),\"\")","v":0},{"$f":"IFERROR(OFFSET(Stocks!$F$1,SUMPRODUCT((Stocks!$B$2:$B$10000=J$1)*(Stocks!$C$2:$C$10000=$A22)*(ROW($3:$10001)-1)),0),\"\")","v":0},{"$f":"IFERROR(OFFSET(Stocks!$F$1,SUMPRODUCT((Stocks!$B$2:$B$10000=K$1)*(Stocks!$C$2:$C$10000=$A22)*(ROW($3:$10001)-1)),0),\"\")","v":0},{"$f":"IFERROR(OFFSET(Stocks!$F$1,SUMPRODUCT((Stocks!$B$2:$B$10000=L$1)*(Stocks!$C$2:$C$10000=$A22)*(ROW($3:$10001)-1)),0),\"\")","v":0},{"$f":"IFERROR(OFFSET(Stocks!$F$1,SUMPRODUCT((Stocks!$B$2:$B$10000=M$1)*(Stocks!$C$2:$C$10000=$A22)*(ROW($3:$10001)-1)),0),\"\")","v":0},{"$f":"IFERROR(OFFSET(Stocks!$F$1,SUMPRODUCT((Stocks!$B$2:$B$10000=N$1)*(Stocks!$C$2:$C$10000=$A22)*(ROW($3:$10001)-1)),0),\"\")","v":0},{"$f":"IFERROR(OFFSET(Stocks!$F$1,SUMPRODUCT((Stocks!$B$2:$B$10000=O$1)*(Stocks!$C$2:$C$10000=$A22)*(ROW($3:$10001)-1)),0),\"\")","v":0},{"$f":"IFERROR(OFFSET(Stocks!$F$1,SUMPRODUCT((Stocks!$B$2:$B$10000=P$1)*(Stocks!$C$2:$C$10000=$A22)*(ROW($3:$10001)-1)),0),\"\")","v":0},{"$f":"IFERROR(OFFSET(Stocks!$F$1,SUMPRODUCT((Stocks!$B$2:$B$10000=Q$1)*(Stocks!$C$2:$C$10000=$A22)*(ROW($3:$10001)-1)),0),\"\")","v":0},{"$f":"IFERROR(OFFSET(Stocks!$F$1,SUMPRODUCT((Stocks!$B$2:$B$10000=R$1)*(Stocks!$C$2:$C$10000=$A22)*(ROW($3:$10001)-1)),0),\"\")","v":0},{"$f":"IFERROR(OFFSET(Stocks!$F$1,SUMPRODUCT((Stocks!$B$2:$B$10000=S$1)*(Stocks!$C$2:$C$10000=$A22)*(ROW($3:$10001)-1)),0),\"\")","v":0},{"$f":"IFERROR(OFFSET(Stocks!$F$1,SUMPRODUCT((Stocks!$B$2:$B$10000=T$1)*(Stocks!$C$2:$C$10000=$A22)*(ROW($3:$10001)-1)),0),\"\")","v":0}]
["GR",null,null,null,null,null,null,null,{"$f":"IFERROR(OFFSET(Stocks!$F$1,SUMPRODUCT((Stocks!$B$2:$B$10000=I$1)*(Stocks!$C$2:$C$10000=$A23)*(ROW($3:$10001)-1)),0),\"\")","v":0},{"$f":"IFERROR(OFFSET(Stocks!$F$1,SUMPRODUCT((Stocks!$B$2:$B$10000=J$1)*(Stocks!$C$2:$C$10000=$A23)*(ROW($3:$10001)-1)),0),\"\")","v":0},{"$f":"IFERROR(OFFSET(Stocks!$F$1,SUMPRODUCT((Stocks!$B$2:$B$10000=K$1)*(Stocks!$C$2:$C$10000=$A23)*(ROW($3:$10001)-1)),0),\"\")","v":0},{"$f":"IFERROR(OFFSET(Stocks!$F$1,SUMPRODUCT((Stocks!$B$2:$B$10000=L$1)*(Stocks!$C$2:$C$10000=$A23)*(ROW($3:$10001)-1)),0),\"\")","v":0},{"$f":"IFERROR(OFFSET(Stocks!$F$1,SUMPRODUCT((Stocks!$B$2:$B$10000=M$1)*(Stocks!$C$2:$C$10000=$A23)*(ROW($3:$10001)-1)),0),\"\")","v":0},{"$f":"IFERROR(OFFSET(Stocks!$F$1,SUMPRODUCT((Stocks!$B$2:$B$10000=N$1)*(Stocks!$C$2:$C$10000=$A23)*(ROW($3:$10001)-1)),0),\"\")","v":0},{"$f":"IFERROR(OFFSET(Stocks!$F$1,SUMPRODUCT((Stocks!$B$2:$B$10000=O$1)*(Stocks!$C$2:$C$10000=$A23)*(ROW($3:$10001)-1)),0),\"\")","v":0},{"$f":"IFERROR(OFFSET(Stocks!$F$1,SUMPRODUCT((Stocks!$B$2:$B$10000=P$1)*(Stocks!$C$2:$C$10000=$A23)*(ROW($3:$10001)-1)),0),\"\")","v":0},{"$f":"IFERROR(OFFSET(Stocks!$F$1,SUMPRODUCT((Stocks!$B$2:$B$10000=Q$1)*(Stocks!$C$2:$C$10000=$A23)*(ROW($3:$10001)-1)),0),\"\")","v":0},{"$f":"IFERROR(OFFSET(Stocks!$F$1,SUMPRODUCT((Stocks!$B$2:$B$10000=R$1)*(Stocks!$C$2:$C$10000=$A23)*(ROW($3:$10001)-1)),0),\"\")","v":0},{"$f":"IFERROR(OFFSET(Stocks!$F$1,SUMPRODUCT((Stocks!$B$2:$B$10000=S$1)*(Stocks!$C$2:$C$10000=$A23)*(ROW($3:$10001)-1)),0),\"\")","v":0},{"$f":"IFERROR(OFFSET(Stocks!$F$1,SUMPRODUCT((Stocks!$B$2:$B$10000=T$1)*(Stocks!$C$2:$C$10000=$A23)*(ROW($3:$10001)-1)),0),\"\")","v":0}]
["GRF",null,null,null,null,null,null,null,{"$f":"IFERROR(OFFSET(Stocks!$F$1,SUMPRODUCT((Stocks!$B$2:$B$10000=I$1)*(Stocks!$C$2:$C$10000=$A24)*(ROW($3:$10001)-1)),0),\"\")","v":0},{"$f":"IFERROR(OFFSET(Stocks!$F$1,SUMPRODUCT((Stocks!$B$2:$B$10000=J$1)*(Stocks!$C$2:$C$10000=$A24)*(ROW($3:$10001)-1)),0),\"\")","v":0},{"$f":"IFERROR(OFFSET(Stocks!$F$1,SUMPRODUCT((Stocks!$B$2:$B$10000=K$1)*(Stocks!$C$2:$C$10000=$A24)*(ROW($3:$10001)-1)),0),\"\")","v":0},{"$f":"IFERROR(OFFSET(Stocks!$F$1,SUMPRODUCT((Stocks!$B$2:$B$10000=L$1)*(Stocks!$C$2:$C$10000=$A24)*(ROW($3:$10001)-1)),0),\"\")","v":0},{"$f":"IFERROR(OFFSET(Stocks!$F$1,SUMPRODUCT((Stocks!$B$2:$B$10000=M$1)*(Stocks!$C$2:$C$10000=$A24)*(ROW($3:$10001)-1)),0),\"\")","v":0},{"$f":"IFERROR(OFFSET(Stocks!$F$1,SUMPRODUCT((Stocks!$B$2:$B$10000=N$1)*(Stocks!$C$2:$C$10000=$A24)*(ROW($3:$10001)-1)),0),\"\")","v":0},{"$f":"IFERROR(OFFSET(Stocks!$F$1,SUMPRODUCT((Stocks!$B$2:$B$10000=O$1)*(Stocks!$C$2:$C$10000=$A24)*(ROW($3:$10001)-1)),0),\"\")","v":0},{"$f":"IFERROR(OFFSET(Stocks!$F$1,SUMPRODUCT((Stocks!$B$2:$B$10000=P$1)*(Stocks!$C$2:$C$10000=$A24)*(ROW($3:$10001)-1)),0),\"\")","v":0},{"$f":"IFERROR(OFFSET(Stocks!$F$1,SUMPRODUCT((Stocks!$B$2:$B$10000=Q$1)*(Stocks!$C$2:$C$10000=$A24)*(ROW($3:$10001)-1)),0),\"\")","v":0},{"$f":"IFERROR(OFFSET(Stocks!$F$1,SUMPRODUCT((Stocks!$B$2:$B$10000=R$1)*(Stocks!$C$2:$C$10000=$A24)*(ROW($3:$10001)-1)),0),\"\")","v":0},{"$f":"IFERROR(OFFSET(Stocks!$F$1,SUMPRODUCT((Stocks!$B$2:$B$10000=S$1)*(Stocks!$C$2:$C$10000=$A24)*(ROW($3:$10001)-1)),0),\"\")","v":0},{"$f":"IFERROR(OFFSET(Stocks!$F$1,SUMPRODUCT((Stocks!$B$2:$B$10000=T$1)*(Stocks!$C$2:$C$10000=$A24)*(ROW($3:$10001)-1)),0),\"\")","v":0}]
["MTR",null,null,null,null,null,null,null,{"$f":"IFERROR(OFFSET(Stocks!$F$1,SUMPRODUCT((Stocks!$B$2:$B$10000=I$1)*(Stocks!$C$2:$C$10000=$A25)*(ROW($3:$10001)-1)),0),\"\")","v":0},{"$f":"IFERROR(OFFSET(Stocks!$F$1,SUMPRODUCT((Stocks!$B$2:$B$10000=J$1)*(Stocks!$C$2:$C$10000=$A25)*(ROW($3:$10001)-1)),0),\"\")","v":0},{"$f":"IFERROR(OFFSET(Stocks!$F$1,SUMPRODUCT((Stocks!$B$2:$B$10000=K$1)*(Stocks!$C$2:$C$10000=$A25)*(ROW($3:$10001)-1)),0),\"\")","v":0},{"$f":"IFERROR(OFFSET(Stocks!$F$1,SUMPRODUCT((Stocks!$B$2:$B$10000=L$1)*(Stocks!$C$2:$C$10000=$A25)*(ROW($3:$10001)-1)),0),\"\")","v":0},{"$f":"IFERROR(OFFSET(Stocks!$F$1,SUMPRODUCT((Stocks!$B$2:$B$10000=M$1)*(Stocks!$C$2:$C$10000=$A25)*(ROW($3:$10001)-1)),0),\"\")","v":0},{"$f":"IFERROR(OFFSET(Stocks!$F$1,SUMPRODUCT((Stocks!$B$2:$B$10000=N$1)*(Stocks!$C$2:$C$10000=$A25)*(ROW($3:$10001)-1)),0),\"\")","v":0},{"$f":"IFERROR(OFFSET(Stocks!$F$1,SUMPRODUCT((Stocks!$B$2:$B$10000=O$1)*(Stocks!$C$2:$C$10000=$A25)*(ROW($3:$10001)-1)),0),\"\")","v":0},{"$f":"IFERROR(OFFSET(Stocks!$F$1,SUMPRODUCT((Stocks!$B$2:$B$10000=P$1)*(Stocks!$C$2:$C$10000=$A25)*(ROW($3:$10001)-1)),0),\"\")","v":0},{"$f":"IFERROR(OFFSET(Stocks!$F$1,SUMPRODUCT((Stocks!$B$2:$B$10000=Q$1)*(Stocks!$C$2:$C$10000=$A25)*(ROW($3:$10001)-1)),0),\"\")","v":0},{"$f":"IFERROR(OFFSET(Stocks!$F$1,SUMPRODUCT((Stocks!$B$2:$B$10000=R$1)*(Stocks!$C$2:$C$10000=$A25)*(ROW($3:$10001)-1)),0),\"\")","v":0},{"$f":"IFERROR(OFFSET(Stocks!$F$1,SUMPRODUCT((Stocks!$B$2:$B$10000=S$1)*(Stocks!$C$2:$C$10000=$A25)*(ROW($3:$10001)-1)),0),\"\")","v":0},{"$f":"IFERROR(OFFSET(Stocks!$F$1,SUMPRODUCT((Stocks!$B$2:$B$10000=T$1)*(Stocks!$C$2:$C$10000=$A25)*(ROW($3:$10001)-1)),0),\"\")","v":0}]
["M2 ",null,null,null,null,null,null,null,{"$f":"IFERROR(OFFSET(Stocks!$F$1,SUMPRODUCT((Stocks!$B$2:$B$10000=I$1)*(Stocks!$C$2:$C$10000=$A26)*(ROW($3:$10001)-1)),0),\"\")","v":0},{"$f":"IFERROR(OFFSET(Stocks!$F$1,SUMPRODUCT((Stocks!$B$2:$B$10000=J$1)*(Stocks!$C$2:$C$10000=$A26)*(ROW($3:$10001)-1)),0),\"\")","v":0},{"$f":"IFERROR(OFFSET(Stocks!$F$1,SUMPRODUCT((Stocks!$B$2:$B$10000=K$1)*(Stocks!$C$2:$C$10000=$A26)*(ROW($3:$10001)-1)),0),\"\")","v":0},{"$f":"IFERROR(OFFSET(Stocks!$F$1,SUMPRODUCT((Stocks!$B$2:$B$10000=L$1)*(Stocks!$C$2:$C$10000=$A26)*(ROW($3:$10001)-1)),0),\"\")","v":0},{"$f":"IFERROR(OFFSET(Stocks!$F$1,SUMPRODUCT((Stocks!$B$2:$B$10000=M$1)*(Stocks!$C$2:$C$10000=$A26)*(ROW($3:$10001)-1)),0),\"\")","v":0},{"$f":"IFERROR(OFFSET(Stocks!$F$1,SUMPRODUCT((Stocks!$B$2:$B$10000=N$1)*(Stocks!$C$2:$C$10000=$A26)*(ROW($3:$10001)-1)),0),\"\")","v":0},{"$f":"IFERROR(OFFSET(Stocks!$F$1,SUMPRODUCT((Stocks!$B$2:$B$10000=O$1)*(Stocks!$C$2:$C$10000=$A26)*(ROW($3:$10001)-1)),0),\"\")","v":0},{"$f":"IFERROR(OFFSET(Stocks!$F$1,SUMPRODUCT((Stocks!$B$2:$B$10000=P$1)*(Stocks!$C$2:$C$10000=$A26)*(ROW($3:$10001)-1)),0),\"\")","v":0},{"$f":"IFERROR(OFFSET(Stocks!$F$1,SUMPRODUCT((Stocks!$B$2:$B$10000=Q$1)*(Stocks!$C$2:$C$10000=$A26)*(ROW($3:$10001)-1)),0),\"\")","v":0},{"$f":"IFERROR(OFFSET(Stocks!$F$1,SUMPRODUCT((Stocks!$B$2:$B$10000=R$1)*(Stocks!$C$2:$C$10000=$A26)*(ROW($3:$10001)-1)),0),\"\")","v":0},{"$f":"IFERROR(OFFSET(Stocks!$F$1,SUMPRODUCT((Stocks!$B$2:$B$10000=S$1)*(Stocks!$C$2:$C$10000=$A26)*(ROW($3:$10001)-1)),0),\"\")","v":0},{"$f":"IFERROR(OFFSET(Stocks!$F$1,SUMPRODUCT((Stocks!$B$2:$B$10000=T$1)*(Stocks!$C$2:$C$10000=$A26)*(ROW($3:$10001)-1)),0),\"\")","v":0}]
["MO",null,null,null,null,null,null,null,{"$f":"IFERROR(OFFSET(Stocks!$F$1,SUMPRODUCT((Stocks!$B$2:$B$10000=I$1)*(Stocks!$C$2:$C$10000=$A27)*(ROW($3:$10001)-1)),0),\"\")","v":0},{"$f":"IFERROR(OFFSET(Stocks!$F$1,SUMPRODUCT((Stocks!$B$2:$B$10000=J$1)*(Stocks!$C$2:$C$10000=$A27)*(ROW($3:$10001)-1)),0),\"\")","v":0},{"$f":"IFERROR(OFFSET(Stocks!$F$1,SUMPRODUCT((Stocks!$B$2:$B$10000=K$1)*(Stocks!$C$2:$C$10000=$A27)*(ROW($3:$10001)-1)),0),\"\")","v":0},{"$f":"IFERROR(OFFSET(Stocks!$F$1,SUMPRODUCT((Stocks!$B$2:$B$10000=L$1)*(Stocks!$C$2:$C$10000=$A27)*(ROW($3:$10001)-1)),0),\"\")","v":0},{"$f":"IFERROR(OFFSET(Stocks!$F$1,SUMPRODUCT((Stocks!$B$2:$B$10000=M$1)*(Stocks!$C$2:$C$10000=$A27)*(ROW($3:$10001)-1)),0),\"\")","v":0},{"$f":"IFERROR(OFFSET(Stocks!$F$1,SUMPRODUCT((Stocks!$B$2:$B$10000=N$1)*(Stocks!$C$2:$C$10000=$A27)*(ROW($3:$10001)-1)),0),\"\")","v":0},{"$f":"IFERROR(OFFSET(Stocks!$F$1,SUMPRODUCT((Stocks!$B$2:$B$10000=O$1)*(Stocks!$C$2:$C$10000=$A27)*(ROW($3:$10001)-1)),0),\"\")","v":0},{"$f":"IFERROR(OFFSET(Stocks!$F$1,SUMPRODUCT((Stocks!$B$2:$B$10000=P$1)*(Stocks!$C$2:$C$10000=$A27)*(ROW($3:$10001)-1)),0),\"\")","v":0},{"$f":"IFERROR(OFFSET(Stocks!$F$1,SUMPRODUCT((Stocks!$B$2:$B$10000=Q$1)*(Stocks!$C$2:$C$10000=$A27)*(ROW($3:$10001)-1)),0),\"\")","v":0},{"$f":"IFERROR(OFFSET(Stocks!$F$1,SUMPRODUCT((Stocks!$B$2:$B$10000=R$1)*(Stocks!$C$2:$C$10000=$A27)*(ROW($3:$10001)-1)),0),\"\")","v":0},{"$f":"IFERROR(OFFSET(Stocks!$F$1,SUMPRODUCT((Stocks!$B$2:$B$10000=S$1)*(Stocks!$C$2:$C$10000=$A27)*(ROW($3:$10001)-1)),0),\"\")","v":0},{"$f":"IFERROR(OFFSET(Stocks!$F$1,SUMPRODUCT((Stocks!$B$2:$B$10000=T$1)*(Stocks!$C$2:$C$10000=$A27)*(ROW($3:$10001)-1)),0),\"\")","v":0}]
["MOF",null,null,null,null,null,null,null,{"$f":"IFERROR(OFFSET(Stocks!$F$1,SUMPRODUCT((Stocks!$B$2:$B$10000=I$1)*(Stocks!$C$2:$C$10000=$A28)*(ROW($3:$10001)-1)),0),\"\")","v":0},{"$f":"IFERROR(OFFSET(Stocks!$F$1,SUMPRODUCT((Stocks!$B$2:$B$10000=J$1)*(Stocks!$C$2:$C$10000=$A28)*(ROW($3:$10001)-1)),0),\"\")","v":0},{"$f":"IFERROR(OFFSET(Stocks!$F$1,SUMPRODUCT((Stocks!$B$2:$B$10000=K$1)*(Stocks!$C$2:$C$10000=$A28)*(ROW($3:$10001)-1)),0),\"\")","v":0},{"$f":"IFERROR(OFFSET(Stocks!$F$1,SUMPRODUCT((Stocks!$B$2:$B$10000=L$1)*(Stocks!$C$2:$C$10000=$A28)*(ROW($3:$10001)-1)),0),\"\")","v":0},{"$f":"IFERROR(OFFSET(Stocks!$F$1,SUMPRODUCT((Stocks!$B$2:$B$10000=M$1)*(Stocks!$C$2:$C$10000=$A28)*(ROW($3:$10001)-1)),0),\"\")","v":0},{"$f":"IFERROR(OFFSET(Stocks!$F$1,SUMPRODUCT((Stocks!$B$2:$B$10000=N$1)*(Stocks!$C$2:$C$10000=$A28)*(ROW($3:$10001)-1)),0),\"\")","v":0},{"$f":"IFERROR(OFFSET(Stocks!$F$1,SUMPRODUCT((Stocks!$B$2:$B$10000=O$1)*(Stocks!$C$2:$C$10000=$A28)*(ROW($3:$10001)-1)),0),\"\")","v":0},{"$f":"IFERROR(OFFSET(Stocks!$F$1,SUMPRODUCT((Stocks!$B$2:$B$10000=P$1)*(Stocks!$C$2:$C$10000=$A28)*(ROW($3:$10001)-1)),0),\"\")","v":0},{"$f":"IFERROR(OFFSET(Stocks!$F$1,SUMPRODUCT((Stocks!$B$2:$B$10000=Q$1)*(Stocks!$C$2:$C$10000=$A28)*(ROW($3:$10001)-1)),0),\"\")","v":0},{"$f":"IFERROR(OFFSET(Stocks!$F$1,SUMPRODUCT((Stocks!$B$2:$B$10000=R$1)*(Stocks!$C$2:$C$10000=$A28)*(ROW($3:$10001)-1)),0),\"\")","v":0},{"$f":"IFERROR(OFFSET(Stocks!$F$1,SUMPRODUCT((Stocks!$B$2:$B$10000=S$1)*(Stocks!$C$2:$C$10000=$A28)*(ROW($3:$10001)-1)),0),\"\")","v":0},{"$f":"IFERROR(OFFSET(Stocks!$F$1,SUMPRODUCT((Stocks!$B$2:$B$10000=T$1)*(Stocks!$C$2:$C$10000=$A28)*(ROW($3:$10001)-1)),0),\"\")","v":0}]
["MOV",null,null,null,null,null,null,null,{"$f":"IFERROR(OFFSET(Stocks!$F$1,SUMPRODUCT((Stocks!$B$2:$B$10000=I$1)*(Stocks!$C$2:$C$10000=$A29)*(ROW($3:$10001)-1)),0),\"\")","v":0},{"$f":"IFERROR(OFFSET(Stocks!$F$1,SUMPRODUCT((Stocks!$B$2:$B$10000=J$1)*(Stocks!$C$2:$C$10000=$A29)*(ROW($3:$10001)-1)),0),\"\")","v":0},{"$f":"IFERROR(OFFSET(Stocks!$F$1,SUMPRODUCT((Stocks!$B$2:$B$10000=K$1)*(Stocks!$C$2:$C$10000=$A29)*(ROW($3:$10001)-1)),0),\"\")","v":0},{"$f":"IFERROR(OFFSET(Stocks!$F$1,SUMPRODUCT((Stocks!$B$2:$B$10000=L$1)*(Stocks!$C$2:$C$10000=$A29)*(ROW($3:$10001)-1)),0),\"\")","v":0},{"$f":"IFERROR(OFFSET(Stocks!$F$1,SUMPRODUCT((Stocks!$B$2:$B$10000=M$1)*(Stocks!$C$2:$C$10000=$A29)*(ROW($3:$10001)-1)),0),\"\")","v":0},{"$f":"IFERROR(OFFSET(Stocks!$F$1,SUMPRODUCT((Stocks!$B$2:$B$10000=N$1)*(Stocks!$C$2:$C$10000=$A29)*(ROW($3:$10001)-1)),0),\"\")","v":0},{"$f":"IFERROR(OFFSET(Stocks!$F$1,SUMPRODUCT((Stocks!$B$2:$B$10000=O$1)*(Stocks!$C$2:$C$10000=$A29)*(ROW($3:$10001)-1)),0),\"\")","v":0},{"$f":"IFERROR(OFFSET(Stocks!$F$1,SUMPRODUCT((Stocks!$B$2:$B$10000=P$1)*(Stocks!$C$2:$C$10000=$A29)*(ROW($3:$10001)-1)),0),\"\")","v":0},{"$f":"IFERROR(OFFSET(Stocks!$F$1,SUMPRODUCT((Stocks!$B$2:$B$10000=Q$1)*(Stocks!$C$2:$C$10000=$A29)*(ROW($3:$10001)-1)),0),\"\")","v":0},{"$f":"IFERROR(OFFSET(Stocks!$F$1,SUMPRODUCT((Stocks!$B$2:$B$10000=R$1)*(Stocks!$C$2:$C$10000=$A29)*(ROW($3:$10001)-1)),0),\"\")","v":0},{"$f":"IFERROR(OFFSET(Stocks!$F$1,SUMPRODUCT((Stocks!$B$2:$B$10000=S$1)*(Stocks!$C$2:$C$10000=$A29)*(ROW($3:$10001)-1)),0),\"\")","v":0},{"$f":"IFERROR(OFFSET(Stocks!$F$1,SUMPRODUCT((Stocks!$B$2:$B$10000=T$1)*(Stocks!$C$2:$C$10000=$A29)*(ROW($3:$10001)-1)),0),\"\")","v":0}]
["MR",null,null,null,null,null,null,null,{"$f":"IFERROR(OFFSET(Stocks!$F$1,SUMPRODUCT((Stocks!$B$2:$B$10000=I$1)*(Stocks!$C$2:$C$10000=$A30)*(ROW($3:$10001)-1)),0),\"\")","v":0},{"$f":"IFERROR(OFFSET(Stocks!$F$1,SUMPRODUCT((Stocks!$B$2:$B$10000=J$1)*(Stocks!$C$2:$C$10000=$A30)*(ROW($3:$10001)-1)),0),\"\")","v":0},{"$f":"IFERROR(OFFSET(Stocks!$F$1,SUMPRODUCT((Stocks!$B$2:$B$10000=K$1)*(Stocks!$C$2:$C$10000=$A30)*(ROW($3:$10001)-1)),0),\"\")","v":0},{"$f":"IFERROR(OFFSET(Stocks!$F$1,SUMPRODUCT((Stocks!$B$2:$B$10000=L$1)*(Stocks!$C$2:$C$10000=$A30)*(ROW($3:$10001)-1)),0),\"\")","v":0},{"$f":"IFERROR(OFFSET(Stocks!$F$1,SUMPRODUCT((Stocks!$B$2:$B$10000=M$1)*(Stocks!$C$2:$C$10000=$A30)*(ROW($3:$10001)-1)),0),\"\")","v":0},{"$f":"IFERROR(OFFSET(Stocks!$F$1,SUMPRODUCT((Stocks!$B$2:$B$10000=N$1)*(Stocks!$C$2:$C$10000=$A30)*(ROW($3:$10001)-1)),0),\"\")","v":0},{"$f":"IFERROR(OFFSET(Stocks!$F$1,SUMPRODUCT((Stocks!$B$2:$B$10000=O$1)*(Stocks!$C$2:$C$10000=$A30)*(ROW($3:$10001)-1)),0),\"\")","v":0},{"$f":"IFERROR(OFFSET(Stocks!$F$1,SUMPRODUCT((Stocks!$B$2:$B$10000=P$1)*(Stocks!$C$2:$C$10000=$A30)*(ROW($3:$10001)-1)),0),\"\")","v":0},{"$f":"IFERROR(OFFSET(Stocks!$F$1,SUMPRODUCT((Stocks!$B$2:$B$10000=Q$1)*(Stocks!$C$2:$C$10000=$A30)*(ROW($3:$10001)-1)),0),\"\")","v":0},{"$f":"IFERROR(OFFSET(Stocks!$F$1,SUMPRODUCT((Stocks!$B$2:$B$10000=R$1)*(Stocks!$C$2:$C$10000=$A30)*(ROW($3:$10001)-1)),0),\"\")","v":0},{"$f":"IFERROR(OFFSET(Stocks!$F$1,SUMPRODUCT((Stocks!$B$2:$B$10000=S$1)*(Stocks!$C$2:$C$10000=$A30)*(ROW($3:$10001)-1)),0),\"\")","v":0},{"$f":"IFERROR(OFFSET(Stocks!$F$1,SUMPRODUCT((Stocks!$B$2:$B$10000=T$1)*(Stocks!$C$2:$C$10000=$A30)*(ROW($3:$10001)-1)),0),\"\")","v":0}]
["MRN",null,null,null,null,null,null,null,{"$f":"IFERROR(OFFSET(Stocks!$F$1,SUMPRODUCT((Stocks!$B$2:$B$10000=I$1)*(Stocks!$C$2:$C$10000=$A31)*(ROW($3:$10001)-1)),0),\"\")","v":0},{"$f":"IFERROR(OFFSET(Stocks!$F$1,SUMPRODUCT((Stocks!$B$2:$B$10000=J$1)*(Stocks!$C$2:$C$10000=$A31)*(ROW($3:$10001)-1)),0),\"\")","v":0},{"$f":"IFERROR(OFFSET(Stocks!$F$1,SUMPRODUCT((Stocks!$B$2:$B$10000=K$1)*(Stocks!$C$2:$C$10000=$A31)*(ROW($3:$10001)-1)),0),\"\")","v":0},{"$f":"IFERROR(OFFSET(Stocks!$F$1,SUMPRODUCT((Stocks!$B$2:$B$10000=L$1)*(Stocks!$C$2:$C$10000=$A31)*(ROW($3:$10001)-1)),0),\"\")","v":0},{"$f":"IFERROR(OFFSET(Stocks!$F$1,SUMPRODUCT((Stocks!$B$2:$B$10000=M$1)*(Stocks!$C$2:$C$10000=$A31)*(ROW($3:$10001)-1)),0),\"\")","v":0},{"$f":"IFERROR(OFFSET(Stocks!$F$1,SUMPRODUCT((Stocks!$B$2:$B$10000=N$1)*(Stocks!$C$2:$C$10000=$A31)*(ROW($3:$10001)-1)),0),\"\")","v":0},{"$f":"IFERROR(OFFSET(Stocks!$F$1,SUMPRODUCT((Stocks!$B$2:$B$10000=O$1)*(Stocks!$C$2:$C$10000=$A31)*(ROW($3:$10001)-1)),0),\"\")","v":0},{"$f":"IFERROR(OFFSET(Stocks!$F$1,SUMPRODUCT((Stocks!$B$2:$B$10000=P$1)*(Stocks!$C$2:$C$10000=$A31)*(ROW($3:$10001)-1)),0),\"\")","v":0},{"$f":"IFERROR(OFFSET(Stocks!$F$1,SUMPRODUCT((Stocks!$B$2:$B$10000=Q$1)*(Stocks!$C$2:$C$10000=$A31)*(ROW($3:$10001)-1)),0),\"\")","v":0},{"$f":"IFERROR(OFFSET(Stocks!$F$1,SUMPRODUCT((Stocks!$B$2:$B$10000=R$1)*(Stocks!$C$2:$C$10000=$A31)*(ROW($3:$10001)-1)),0),\"\")","v":0},{"$f":"IFERROR(OFFSET(Stocks!$F$1,SUMPRODUCT((Stocks!$B$2:$B$10000=S$1)*(Stocks!$C$2:$C$10000=$A31)*(ROW($3:$10001)-1)),0),\"\")","v":0},{"$f":"IFERROR(OFFSET(Stocks!$F$1,SUMPRODUCT((Stocks!$B$2:$B$10000=T$1)*(Stocks!$C$2:$C$10000=$A31)*(ROW($3:$10001)-1)),0),\"\")","v":0}]
["NR",null,null,null,null,null,null,null,{"$f":"IFERROR(OFFSET(Stocks!$F$1,SUMPRODUCT((Stocks!$B$2:$B$10000=I$1)*(Stocks!$C$2:$C$10000=$A32)*(ROW($3:$10001)-1)),0),\"\")","v":0},{"$f":"IFERROR(OFFSET(Stocks!$F$1,SUMPRODUCT((Stocks!$B$2:$B$10000=J$1)*(Stocks!$C$2:$C$10000=$A32)*(ROW($3:$10001)-1)),0),\"\")","v":0},{"$f":"IFERROR(OFFSET(Stocks!$F$1,SUMPRODUCT((Stocks!$B$2:$B$10000=K$1)*(Stocks!$C$2:$C$10000=$A32)*(ROW($3:$10001)-1)),0),\"\")","v":0},{"$f":"IFERROR(OFFSET(Stocks!$F$1,SUMPRODUCT((Stocks!$B$2:$B$10000=L$1)*(Stocks!$C$2:$C$10000=$A32)*(ROW($3:$10001)-1)),0),\"\")","v":0},{"$f":"IFERROR(OFFSET(Stocks!$F$1,SUMPRODUCT((Stocks!$B$2:$B$10000=M$1)*(Stocks!$C$2:$C$10000=$A32)*(ROW($3:$10001)-1)),0),\"\")","v":0},{"$f":"IFERROR(OFFSET(Stocks!$F$1,SUMPRODUCT((Stocks!$B$2:$B$10000=N$1)*(Stocks!$C$2:$C$10000=$A32)*(ROW($3:$10001)-1)),0),\"\")","v":0},{"$f":"IFERROR(OFFSET(Stocks!$F$1,SUMPRODUCT((Stocks!$B$2:$B$10000=O$1)*(Stocks!$C$2:$C$10000=$A32)*(ROW($3:$10001)-1)),0),\"\")","v":0},{"$f":"IFERROR(OFFSET(Stocks!$F$1,SUMPRODUCT((Stocks!$B$2:$B$10000=P$1)*(Stocks!$C$2:$C$10000=$A32)*(ROW($3:$10001)-1)),0),\"\")","v":0},{"$f":"IFERROR(OFFSET(Stocks!$F$1,SUMPRODUCT((Stocks!$B$2:$B$10000=Q$1)*(Stocks!$C$2:$C$10000=$A32)*(ROW($3:$10001)-1)),0),\"\")","v":0},{"$f":"IFERROR(OFFSET(Stocks!$F$1,SUMPRODUCT((Stocks!$B$2:$B$10000=R$1)*(Stocks!$C$2:$C$10000=$A32)*(ROW($3:$10001)-1)),0),\"\")","v":0},{"$f":"IFERROR(OFFSET(Stocks!$F$1,SUMPRODUCT((Stocks!$B$2:$B$10000=S$1)*(Stocks!$C$2:$C$10000=$A32)*(ROW($3:$10001)-1)),0),\"\")","v":0},{"$f":"IFERROR(OFFSET(Stocks!$F$1,SUMPRODUCT((Stocks!$B$2:$B$10000=T$1)*(Stocks!$C$2:$C$10000=$A32)*(ROW($3:$10001)-1)),0),\"\")","v":0}]
["OR",null,null,null,null,null,null,null,{"$f":"IFERROR(OFFSET(Stocks!$F$1,SUMPRODUCT((Stocks!$B$2:$B$10000=I$1)*(Stocks!$C$2:$C$10000=$A33)*(ROW($3:$10001)-1)),0),\"\")","v":0},{"$f":"IFERROR(OFFSET(Stocks!$F$1,SUMPRODUCT((Stocks!$B$2:$B$10000=J$1)*(Stocks!$C$2:$C$10000=$A33)*(ROW($3:$10001)-1)),0),\"\")","v":0},{"$f":"IFERROR(OFFSET(Stocks!$F$1,SUMPRODUCT((Stocks!$B$2:$B$10000=K$1)*(Stocks!$C$2:$C$10000=$A33)*(ROW($3:$10001)-1)),0),\"\")","v":0},{"$f":"IFERROR(OFFSET(Stocks!$F$1,SUMPRODUCT((Stocks!$B$2:$B$10000=L$1)*(Stocks!$C$2:$C$10000=$A33)*(ROW($3:$10001)-1)),0),\"\")","v":0},{"$f":"IFERROR(OFFSET(Stocks!$F$1,SUMPRODUCT((Stocks!$B$2:$B$10000=M$1)*(Stocks!$C$2:$C$10000=$A33)*(ROW($3:$10001)-1)),0),\"\")","v":0},{"$f":"IFERROR(OFFSET(Stocks!$F$1,SUMPRODUCT((Stocks!$B$2:$B$10000=N$1)*(Stocks!$C$2:$C$10000=$A33)*(ROW($3:$10001)-1)),0),\"\")","v":0},{"$f":"IFERROR(OFFSET(Stocks!$F$1,SUMPRODUCT((Stocks!$B$2:$B$10000=O$1)*(Stocks!$C$2:$C$10000=$A33)*(ROW($3:$10001)-1)),0),\"\")","v":0},{"$f":"IFERROR(OFFSET(Stocks!$F$1,SUMPRODUCT((Stocks!$B$2:$B$10000=P$1)*(Stocks!$C$2:$C$10000=$A33)*(ROW($3:$10001)-1)),0),\"\")","v":0},{"$f":"IFERROR(OFFSET(Stocks!$F$1,SUMPRODUCT((Stocks!$B$2:$B$10000=Q$1)*(Stocks!$C$2:$C$10000=$A33)*(ROW($3:$10001)-1)),0),\"\")","v":0},{"$f":"IFERROR(OFFSET(Stocks!$F$1,SUMPRODUCT((Stocks!$B$2:$B$10000=R$1)*(Stocks!$C$2:$C$10000=$A33)*(ROW($3:$10001)-1)),0),\"\")","v":0},{"$f":"IFERROR(OFFSET(Stocks!$F$1,SUMPRODUCT((Stocks!$B$2:$B$10000=S$1)*(Stocks!$C$2:$C$10000=$A33)*(ROW($3:$10001)-1)),0),\"\")","v":0},{"$f":"IFERROR(OFFSET(Stocks!$F$1,SUMPRODUCT((Stocks!$B$2:$B$10000=T$1)*(Stocks!$C$2:$C$10000=$A33)*(ROW($3:$10001)-1)),0),\"\")","v":0}]
["PA",null,null,null,null,null,null,null,{"$f":"IFERROR(OFFSET(Stocks!$F$1,SUMPRODUCT((Stocks!$B$2:$B$10000=I$1)*(Stocks!$C$2:$C$10000=$A34)*(ROW($3:$10001)-1)),0),\"\")","v":0},{"$f":"IFERROR(OFFSET(Stocks!$F$1,SUMPRODUCT((Stocks!$B$2:$B$10000=J$1)*(Stocks!$C$2:$C$10000=$A34)*(ROW($3:$10001)-1)),0),\"\")","v":0},{"$f":"IFERROR(OFFSET(Stocks!$F$1,SUMPRODUCT((Stocks!$B$2:$B$10000=K$1)*(Stocks!$C$2:$C$10000=$A34)*(ROW($3:$10001)-1)),0),\"\")","v":0},{"$f":"IFERROR(OFFSET(Stocks!$F$1,SUMPRODUCT((Stocks!$B$2:$B$10000=L$1)*(Stocks!$C$2:$C$10000=$A34)*(ROW($3:$10001)-1)),0),\"\")","v":0},{"$f":"IFERROR(OFFSET(Stocks!$F$1,SUMPRODUCT((Stocks!$B$2:$B$10000=M$1)*(Stocks!$C$2:$C$10000=$A34)*(ROW($3:$10001)-1)),0),\"\")","v":0},{"$f":"IFERROR(OFFSET(Stocks!$F$1,SUMPRODUCT((Stocks!$B$2:$B$10000=N$1)*(Stocks!$C$2:$C$10000=$A34)*(ROW($3:$10001)-1)),0),\"\")","v":0},{"$f":"IFERROR(OFFSET(Stocks!$F$1,SUMPRODUCT((Stocks!$B$2:$B$10000=O$1)*(Stocks!$C$2:$C$10000=$A34)*(ROW($3:$10001)-1)),0),\"\")","v":0},{"$f":"IFERROR(OFFSET(Stocks!$F$1,SUMPRODUCT((Stocks!$B$2:$B$10000=P$1)*(Stocks!$C$2:$C$10000=$A34)*(ROW($3:$10001)-1)),0),\"\")","v":0},{"$f":"IFERROR(OFFSET(Stocks!$F$1,SUMPRODUCT((Stocks!$B$2:$B$10000=Q$1)*(Stocks!$C$2:$C$10000=$A34)*(ROW($3:$10001)-1)),0),\"\")","v":0},{"$f":"IFERROR(OFFSET(Stocks!$F$1,SUMPRODUCT((Stocks!$B$2:$B$10000=R$1)*(Stocks!$C$2:$C$10000=$A34)*(ROW($3:$10001)-1)),0),\"\")","v":0},{"$f":"IFERROR(OFFSET(Stocks!$F$1,SUMPRODUCT((Stocks!$B$2:$B$10000=S$1)*(Stocks!$C$2:$C$10000=$A34)*(ROW($3:$10001)-1)),0),\"\")","v":0},{"$f":"IFERROR(OFFSET(Stocks!$F$1,SUMPRODUCT((Stocks!$B$2:$B$10000=T$1)*(Stocks!$C$2:$C$10000=$A34)*(ROW($3:$10001)-1)),0),\"\")","v":0}]
["PA2",null,null,null,null,null,null,null,{"$f":"IFERROR(OFFSET(Stocks!$F$1,SUMPRODUCT((Stocks!$B$2:$B$10000=I$1)*(Stocks!$C$2:$C$10000=$A35)*(ROW($3:$10001)-1)),0),\"\")","v":0},{"$f":"IFERROR(OFFSET(Stocks!$F$1,SUMPRODUCT((Stocks!$B$2:$B$10000=J$1)*(Stocks!$C$2:$C$10000=$A35)*(ROW($3:$10001)-1)),0),\"\")","v":0},{"$f":"IFERROR(OFFSET(Stocks!$F$1,SUMPRODUCT((Stocks!$B$2:$B$10000=K$1)*(Stocks!$C$2:$C$10000=$A35)*(ROW($3:$10001)-1)),0),\"\")","v":0},{"$f":"IFERROR(OFFSET(Stocks!$F$1,SUMPRODUCT((Stocks!$B$2:$B$10000=L$1)*(Stocks!$C$2:$C$10000=$A35)*(ROW($3:$10001)-1)),0),\"\")","v":0},{"$f":"IFERROR(OFFSET(Stocks!$F$1,SUMPRODUCT((Stocks!$B$2:$B$10000=M$1)*(Stocks!$C$2:$C$10000=$A35)*(ROW($3:$10001)-1)),0),\"\")","v":0},{"$f":"IFERROR(OFFSET(Stocks!$F$1,SUMPRODUCT((Stocks!$B$2:$B$10000=N$1)*(Stocks!$C$2:$C$10000=$A35)*(ROW($3:$10001)-1)),0),\"\")","v":0},{"$f":"IFERROR(OFFSET(Stocks!$F$1,SUMPRODUCT((Stocks!$B$2:$B$10000=O$1)*(Stocks!$C$2:$C$10000=$A35)*(ROW($3:$10001)-1)),0),\"\")","v":0},{"$f":"IFERROR(OFFSET(Stocks!$F$1,SUMPRODUCT((Stocks!$B$2:$B$10000=P$1)*(Stocks!$C$2:$C$10000=$A35)*(ROW($3:$10001)-1)),0),\"\")","v":0},{"$f":"IFERROR(OFFSET(Stocks!$F$1,SUMPRODUCT((Stocks!$B$2:$B$10000=Q$1)*(Stocks!$C$2:$C$10000=$A35)*(ROW($3:$10001)-1)),0),\"\")","v":0},{"$f":"IFERROR(OFFSET(Stocks!$F$1,SUMPRODUCT((Stocks!$B$2:$B$10000=R$1)*(Stocks!$C$2:$C$10000=$A35)*(ROW($3:$10001)-1)),0),\"\")","v":0},{"$f":"IFERROR(OFFSET(Stocks!$F$1,SUMPRODUCT((Stocks!$B$2:$B$10000=S$1)*(Stocks!$C$2:$C$10000=$A35)*(ROW($3:$10001)-1)),0),\"\")","v":0},{"$f":"IFERROR(OFFSET(Stocks!$F$1,SUMPRODUCT((Stocks!$B$2:$B$10000=T$1)*(Stocks!$C$2:$C$10000=$A35)*(ROW($3:$10001)-1)),0),\"\")","v":0}]
["PR",null,null,null,null,null,null,null,{"$f":"IFERROR(OFFSET(Stocks!$F$1,SUMPRODUCT((Stocks!$B$2:$B$10000=I$1)*(Stocks!$C$2:$C$10000=$A36)*(ROW($3:$10001)-1)),0),\"\")","v":0},{"$f":"IFERROR(OFFSET(Stocks!$F$1,SUMPRODUCT((Stocks!$B$2:$B$10000=J$1)*(Stocks!$C$2:$C$10000=$A36)*(ROW($3:$10001)-1)),0),\"\")","v":0},{"$f":"IFERROR(OFFSET(Stocks!$F$1,SUMPRODUCT((Stocks!$B$2:$B$10000=K$1)*(Stocks!$C$2:$C$10000=$A36)*(ROW($3:$10001)-1)),0),\"\")","v":0},{"$f":"IFERROR(OFFSET(Stocks!$F$1,SUMPRODUCT((Stocks!$B$2:$B$10000=L$1)*(Stocks!$C$2:$C$10000=$A36)*(ROW($3:$10001)-1)),0),\"\")","v":0},{"$f":"IFERROR(OFFSET(Stocks!$F$1,SUMPRODUCT((Stocks!$B$2:$B$10000=M$1)*(Stocks!$C$2:$C$10000=$A36)*(ROW($3:$10001)-1)),0),\"\")","v":0},{"$f":"IFERROR(OFFSET(Stocks!$F$1,SUMPRODUCT((Stocks!$B$2:$B$10000=N$1)*(Stocks!$C$2:$C$10000=$A36)*(ROW($3:$10001)-1)),0),\"\")","v":0},{"$f":"IFERROR(OFFSET(Stocks!$F$1,SUMPRODUCT((Stocks!$B$2:$B$10000=O$1)*(Stocks!$C$2:$C$10000=$A36)*(ROW($3:$10001)-1)),0),\"\")","v":0},{"$f":"IFERROR(OFFSET(Stocks!$F$1,SUMPRODUCT((Stocks!$B$2:$B$10000=P$1)*(Stocks!$C$2:$C$10000=$A36)*(ROW($3:$10001)-1)),0),\"\")","v":0},{"$f":"IFERROR(OFFSET(Stocks!$F$1,SUMPRODUCT((Stocks!$B$2:$B$10000=Q$1)*(Stocks!$C$2:$C$10000=$A36)*(ROW($3:$10001)-1)),0),\"\")","v":0},{"$f":"IFERROR(OFFSET(Stocks!$F$1,SUMPRODUCT((Stocks!$B$2:$B$10000=R$1)*(Stocks!$C$2:$C$10000=$A36)*(ROW($3:$10001)-1)),0),\"\")","v":0},{"$f":"IFERROR(OFFSET(Stocks!$F$1,SUMPRODUCT((Stocks!$B$2:$B$10000=S$1)*(Stocks!$C$2:$C$10000=$A36)*(ROW($3:$10001)-1)),0),\"\")","v":0},{"$f":"IFERROR(OFFSET(Stocks!$F$1,SUMPRODUCT((Stocks!$B$2:$B$10000=T$1)*(Stocks!$C$2:$C$10000=$A36)*(ROW($3:$10001)-1)),0),\"\")","v":0}]
["R1",null,null,null,null,null,null,null,{"$f":"IFERROR(OFFSET(Stocks!$F$1,SUMPRODUCT((Stocks!$B$2:$B$10000=I$1)*(Stocks!$C$2:$C$10000=$A37)*(ROW($3:$10001)-1)),0),\"\")","v":0},{"$f":"IFERROR(OFFSET(Stocks!$F$1,SUMPRODUCT((Stocks!$B$2:$B$10000=J$1)*(Stocks!$C$2:$C$10000=$A37)*(ROW($3:$10001)-1)),0),\"\")","v":0},{"$f":"IFERROR(OFFSET(Stocks!$F$1,SUMPRODUCT((Stocks!$B$2:$B$10000=K$1)*(Stocks!$C$2:$C$10000=$A37)*(ROW($3:$10001)-1)),0),\"\")","v":0},{"$f":"IFERROR(OFFSET(Stocks!$F$1,SUMPRODUCT((Stocks!$B$2:$B$10000=L$1)*(Stocks!$C$2:$C$10000=$A37)*(ROW($3:$10001)-1)),0),\"\")","v":0},{"$f":"IFERROR(OFFSET(Stocks!$F$1,SUMPRODUCT((Stocks!$B$2:$B$10000=M$1)*(Stocks!$C$2:$C$10000=$A37)*(ROW($3:$10001)-1)),0),\"\")","v":0},{"$f":"IFERROR(OFFSET(Stocks!$F$1,SUMPRODUCT((Stocks!$B$2:$B$10000=N$1)*(Stocks!$C$2:$C$10000=$A37)*(ROW($3:$10001)-1)),0),\"\")","v":0},{"$f":"IFERROR(OFFSET(Stocks!$F$1,SUMPRODUCT((Stocks!$B$2:$B$10000=O$1)*(Stocks!$C$2:$C$10000=$A37)*(ROW($3:$10001)-1)),0),\"\")","v":0},{"$f":"IFERROR(OFFSET(Stocks!$F$1,SUMPRODUCT((Stocks!$B$2:$B$10000=P$1)*(Stocks!$C$2:$C$10000=$A37)*(ROW($3:$10001)-1)),0),\"\")","v":0},{"$f":"IFERROR(OFFSET(Stocks!$F$1,SUMPRODUCT((Stocks!$B$2:$B$10000=Q$1)*(Stocks!$C$2:$C$10000=$A37)*(ROW($3:$10001)-1)),0),\"\")","v":0},{"$f":"IFERROR(OFFSET(Stocks!$F$1,SUMPRODUCT((Stocks!$B$2:$B$10000=R$1)*(Stocks!$C$2:$C$10000=$A37)*(ROW($3:$10001)-1)),0),\"\")","v":0},{"$f":"IFERROR(OFFSET(Stocks!$F$1,SUMPRODUCT((Stocks!$B$2:$B$10000=S$1)*(Stocks!$C$2:$C$10000=$A37)*(ROW($3:$10001)-1)),0),\"\")","v":0},{"$f":"IFERROR(OFFSET(Stocks!$F$1,SUMPRODUCT((Stocks!$B$2:$B$10000=T$1)*(Stocks!$C$2:$C$10000=$A37)*(ROW($3:$10001)-1)),0),\"\")","v":0}]
["R2",null,null,null,null,null,null,null,{"$f":"IFERROR(OFFSET(Stocks!$F$1,SUMPRODUCT((Stocks!$B$2:$B$10000=I$1)*(Stocks!$C$2:$C$10000=$A38)*(ROW($3:$10001)-1)),0),\"\")","v":0},{"$f":"IFERROR(OFFSET(Stocks!$F$1,SUMPRODUCT((Stocks!$B$2:$B$10000=J$1)*(Stocks!$C$2:$C$10000=$A38)*(ROW($3:$10001)-1)),0),\"\")","v":0},{"$f":"IFERROR(OFFSET(Stocks!$F$1,SUMPRODUCT((Stocks!$B$2:$B$10000=K$1)*(Stocks!$C$2:$C$10000=$A38)*(ROW($3:$10001)-1)),0),\"\")","v":0},{"$f":"IFERROR(OFFSET(Stocks!$F$1,SUMPRODUCT((Stocks!$B$2:$B$10000=L$1)*(Stocks!$C$2:$C$10000=$A38)*(ROW($3:$10001)-1)),0),\"\")","v":0},{"$f":"IFERROR(OFFSET(Stocks!$F$1,SUMPRODUCT((Stocks!$B$2:$B$10000=M$1)*(Stocks!$C$2:$C$10000=$A38)*(ROW($3:$10001)-1)),0),\"\")","v":0},{"$f":"IFERROR(OFFSET(Stocks!$F$1,SUMPRODUCT((Stocks!$B$2:$B$10000=N$1)*(Stocks!$C$2:$C$10000=$A38)*(ROW($3:$10001)-1)),0),\"\")","v":0},{"$f":"IFERROR(OFFSET(Stocks!$F$1,SUMPRODUCT((Stocks!$B$2:$B$10000=O$1)*(Stocks!$C$2:$C$10000=$A38)*(ROW($3:$10001)-1)),0),\"\")","v":0},{"$f":"IFERROR(OFFSET(Stocks!$F$1,SUMPRODUCT((Stocks!$B$2:$B$10000=P$1)*(Stocks!$C$2:$C$10000=$A38)*(ROW($3:$10001)-1)),0),\"\")","v":0},{"$f":"IFERROR(OFFSET(Stocks!$F$1,SUMPRODUCT((Stocks!$B$2:$B$10000=Q$1)*(Stocks!$C$2:$C$10000=$A38)*(ROW($3:$10001)-1)),0),\"\")","v":0},{"$f":"IFERROR(OFFSET(Stocks!$F$1,SUMPRODUCT((Stocks!$B$2:$B$10000=R$1)*(Stocks!$C$2:$C$10000=$A38)*(ROW($3:$10001)-1)),0),\"\")","v":0},{"$f":"IFERROR(OFFSET(Stocks!$F$1,SUMPRODUCT((Stocks!$B$2:$B$10000=S$1)*(Stocks!$C$2:$C$10000=$A38)*(ROW($3:$10001)-1)),0),\"\")","v":0},{"$f":"IFERROR(OFFSET(Stocks!$F$1,SUMPRODUCT((Stocks!$B$2:$B$10000=T$1)*(Stocks!$C$2:$C$10000=$A38)*(ROW($3:$10001)-1)),0),\"\")","v":0}]
["R3",null,null,null,null,null,null,null,{"$f":"IFERROR(OFFSET(Stocks!$F$1,SUMPRODUCT((Stocks!$B$2:$B$10000=I$1)*(Stocks!$C$2:$C$10000=$A39)*(ROW($3:$10001)-1)),0),\"\")","v":0},{"$f":"IFERROR(OFFSET(Stocks!$F$1,SUMPRODUCT((Stocks!$B$2:$B$10000=J$1)*(Stocks!$C$2:$C$10000=$A39)*(ROW($3:$10001)-1)),0),\"\")","v":0},{"$f":"IFERROR(OFFSET(Stocks!$F$1,SUMPRODUCT((Stocks!$B$2:$B$10000=K$1)*(Stocks!$C$2:$C$10000=$A39)*(ROW($3:$10001)-1)),0),\"\")","v":0},{"$f":"IFERROR(OFFSET(Stocks!$F$1,SUMPRODUCT((Stocks!$B$2:$B$10000=L$1)*(Stocks!$C$2:$C$10000=$A39)*(ROW($3:$10001)-1)),0),\"\")","v":0},{"$f":"IFERROR(OFFSET(Stocks!$F$1,SUMPRODUCT((Stocks!$B$2:$B$10000=M$1)*(Stocks!$C$2:$C$10000=$A39)*(ROW($3:$10001)-1)),0),\"\")","v":0},{"$f":"IFERROR(OFFSET(Stocks!$F$1,SUMPRODUCT((Stocks!$B$2:$B$10000=N$1)*(Stocks!$C$2:$C$10000=$A39)*(ROW($3:$10001)-1)),0),\"\")","v":0},{"$f":"IFERROR(OFFSET(Stocks!$F$1,SUMPRODUCT((Stocks!$B$2:$B$10000=O$1)*(Stocks!$C$2:$C$10000=$A39)*(ROW($3:$10001)-1)),0),\"\")","v":0},{"$f":"IFERROR(OFFSET(Stocks!$F$1,SUMPRODUCT((Stocks!$B$2:$B$10000=P$1)*(Stocks!$C$2:$C$10000=$A39)*(ROW($3:$10001)-1)),0),\"\")","v":0},{"$f":"IFERROR(OFFSET(Stocks!$F$1,SUMPRODUCT((Stocks!$B$2:$B$10000=Q$1)*(Stocks!$C$2:$C$10000=$A39)*(ROW($3:$10001)-1)),0),\"\")","v":0},{"$f":"IFERROR(OFFSET(Stocks!$F$1,SUMPRODUCT((Stocks!$B$2:$B$10000=R$1)*(Stocks!$C$2:$C$10000=$A39)*(ROW($3:$10001)-1)),0),\"\")","v":0},{"$f":"IFERROR(OFFSET(Stocks!$F$1,SUMPRODUCT((Stocks!$B$2:$B$10000=S$1)*(Stocks!$C$2:$C$10000=$A39)*(ROW($3:$10001)-1)),0),\"\")","v":0},{"$f":"IFERROR(OFFSET(Stocks!$F$1,SUMPRODUCT((Stocks!$B$2:$B$10000=T$1)*(Stocks!$C$2:$C$10000=$A39)*(ROW($3:$10001)-1)),0),\"\")","v":0}]
["RB",null,null,null,null,null,null,null,{"$f":"IFERROR(OFFSET(Stocks!$F$1,SUMPRODUCT((Stocks!$B$2:$B$10000=I$1)*(Stocks!$C$2:$C$10000=$A40)*(ROW($3:$10001)-1)),0),\"\")","v":0},{"$f":"IFERROR(OFFSET(Stocks!$F$1,SUMPRODUCT((Stocks!$B$2:$B$10000=J$1)*(Stocks!$C$2:$C$10000=$A40)*(ROW($3:$10001)-1)),0),\"\")","v":0},{"$f":"IFERROR(OFFSET(Stocks!$F$1,SUMPRODUCT((Stocks!$B$2:$B$10000=K$1)*(Stocks!$C$2:$C$10000=$A40)*(ROW($3:$10001)-1)),0),\"\")","v":0},{"$f":"IFERROR(OFFSET(Stocks!$F$1,SUMPRODUCT((Stocks!$B$2:$B$10000=L$1)*(Stocks!$C$2:$C$10000=$A40)*(ROW($3:$10001)-1)),0),\"\")","v":0},{"$f":"IFERROR(OFFSET(Stocks!$F$1,SUMPRODUCT((Stocks!$B$2:$B$10000=M$1)*(Stocks!$C$2:$C$10000=$A40)*(ROW($3:$10001)-1)),0),\"\")","v":0},{"$f":"IFERROR(OFFSET(Stocks!$F$1,SUMPRODUCT((Stocks!$B$2:$B$10000=N$1)*(Stocks!$C$2:$C$10000=$A40)*(ROW($3:$10001)-1)),0),\"\")","v":0},{"$f":"IFERROR(OFFSET(Stocks!$F$1,SUMPRODUCT((Stocks!$B$2:$B$10000=O$1)*(Stocks!$C$2:$C$10000=$A40)*(ROW($3:$10001)-1)),0),\"\")","v":0},{"$f":"IFERROR(OFFSET(Stocks!$F$1,SUMPRODUCT((Stocks!$B$2:$B$10000=P$1)*(Stocks!$C$2:$C$10000=$A40)*(ROW($3:$10001)-1)),0),\"\")","v":0},{"$f":"IFERROR(OFFSET(Stocks!$F$1,SUMPRODUCT((Stocks!$B$2:$B$10000=Q$1)*(Stocks!$C$2:$C$10000=$A40)*(ROW($3:$10001)-1)),0),\"\")","v":0},{"$f":"IFERROR(OFFSET(Stocks!$F$1,SUMPRODUCT((Stocks!$B$2:$B$10000=R$1)*(Stocks!$C$2:$C$10000=$A40)*(ROW($3:$10001)-1)),0),\"\")","v":0},{"$f":"IFERROR(OFFSET(Stocks!$F$1,SUMPRODUCT((Stocks!$B$2:$B$10000=S$1)*(Stocks!$C$2:$C$10000=$A40)*(ROW($3:$10001)-1)),0),\"\")","v":0},{"$f":"IFERROR(OFFSET(Stocks!$F$1,SUMPRODUCT((Stocks!$B$2:$B$10000=T$1)*(Stocks!$C$2:$C$10000=$A40)*(ROW($3:$10001)-1)),0),\"\")","v":0}]
["RF",null,null,null,null,null,null,null,{"$f":"IFERROR(OFFSET(Stocks!$F$1,SUMPRODUCT((Stocks!$B$2:$B$10000=I$1)*(Stocks!$C$2:$C$10000=$A41)*(ROW($3:$10001)-1)),0),\"\")","v":0},{"$f":"IFERROR(OFFSET(Stocks!$F$1,SUMPRODUCT((Stocks!$B$2:$B$10000=J$1)*(Stocks!$C$2:$C$10000=$A41)*(ROW($3:$10001)-1)),0),\"\")","v":0},{"$f":"IFERROR(OFFSET(Stocks!$F$1,SUMPRODUCT((Stocks!$B$2:$B$10000=K$1)*(Stocks!$C$2:$C$10000=$A41)*(ROW($3:$10001)-1)),0),\"\")","v":0},{"$f":"IFERROR(OFFSET(Stocks!$F$1,SUMPRODUCT((Stocks!$B$2:$B$10000=L$1)*(Stocks!$C$2:$C$10000=$A41)*(ROW($3:$10001)-1)),0),\"\")","v":0},{"$f":"IFERROR(OFFSET(Stocks!$F$1,SUMPRODUCT((Stocks!$B$2:$B$10000=M$1)*(Stocks!$C$2:$C$10000=$A41)*(ROW($3:$10001)-1)),0),\"\")","v":0},{"$f":"IFERROR(OFFSET(Stocks!$F$1,SUMPRODUCT((Stocks!$B$2:$B$10000=N$1)*(Stocks!$C$2:$C$10000=$A41)*(ROW($3:$10001)-1)),0),\"\")","v":0},{"$f":"IFERROR(OFFSET(Stocks!$F$1,SUMPRODUCT((Stocks!$B$2:$B$10000=O$1)*(Stocks!$C$2:$C$10000=$A41)*(ROW($3:$10001)-1)),0),\"\")","v":0},{"$f":"IFERROR(OFFSET(Stocks!$F$1,SUMPRODUCT((Stocks!$B$2:$B$10000=P$1)*(Stocks!$C$2:$C$10000=$A41)*(ROW($3:$10001)-1)),0),\"\")","v":0},{"$f":"IFERROR(OFFSET(Stocks!$F$1,SUMPRODUCT((Stocks!$B$2:$B$10000=Q$1)*(Stocks!$C$2:$C$10000=$A41)*(ROW($3:$10001)-1)),0),\"\")","v":0},{"$f":"IFERROR(OFFSET(Stocks!$F$1,SUMPRODUCT((Stocks!$B$2:$B$10000=R$1)*(Stocks!$C$2:$C$10000=$A41)*(ROW($3:$10001)-1)),0),\"\")","v":0},{"$f":"IFERROR(OFFSET(Stocks!$F$1,SUMPRODUCT((Stocks!$B$2:$B$10000=S$1)*(Stocks!$C$2:$C$10000=$A41)*(ROW($3:$10001)-1)),0),\"\")","v":0},{"$f":"IFERROR(OFFSET(Stocks!$F$1,SUMPRODUCT((Stocks!$B$2:$B$10000=T$1)*(Stocks!$C$2:$C$10000=$A41)*(ROW($3:$10001)-1)),0),\"\")","v":0}]
["RFF",null,null,null,null,null,null,null,{"$f":"IFERROR(OFFSET(Stocks!$F$1,SUMPRODUCT((Stocks!$B$2:$B$10000=I$1)*(Stocks!$C$2:$C$10000=$A42)*(ROW($3:$10001)-1)),0),\"\")","v":0},{"$f":"IFERROR(OFFSET(Stocks!$F$1,SUMPRODUCT((Stocks!$B$2:$B$10000=J$1)*(Stocks!$C$2:$C$10000=$A42)*(ROW($3:$10001)-1)),0),\"\")","v":0},{"$f":"IFERROR(OFFSET(Stocks!$F$1,SUMPRODUCT((Stocks!$B$2:$B$10000=K$1)*(Stocks!$C$2:$C$10000=$A42)*(ROW($3:$10001)-1)),0),\"\")","v":0},{"$f":"IFERROR(OFFSET(Stocks!$F$1,SUMPRODUCT((Stocks!$B$2:$B$10000=L$1)*(Stocks!$C$2:$C$10000=$A42)*(ROW($3:$10001)-1)),0),\"\")","v":0},{"$f":"IFERROR(OFFSET(Stocks!$F$1,SUMPRODUCT((Stocks!$B$2:$B$10000=M$1)*(Stocks!$C$2:$C$10000=$A42)*(ROW($3:$10001)-1)),0),\"\")","v":0},{"$f":"IFERROR(OFFSET(Stocks!$F$1,SUMPRODUCT((Stocks!$B$2:$B$10000=N$1)*(Stocks!$C$2:$C$10000=$A42)*(ROW($3:$10001)-1)),0),\"\")","v":0},{"$f":"IFERROR(OFFSET(Stocks!$F$1,SUMPRODUCT((Stocks!$B$2:$B$10000=O$1)*(Stocks!$C$2:$C$10000=$A42)*(ROW($3:$10001)-1)),0),\"\")","v":0},{"$f":"IFERROR(OFFSET(Stocks!$F$1,SUMPRODUCT((Stocks!$B$2:$B$10000=P$1)*(Stocks!$C$2:$C$10000=$A42)*(ROW($3:$10001)-1)),0),\"\")","v":0},{"$f":"IFERROR(OFFSET(Stocks!$F$1,SUMPRODUCT((Stocks!$B$2:$B$10000=Q$1)*(Stocks!$C$2:$C$10000=$A42)*(ROW($3:$10001)-1)),0),\"\")","v":0},{"$f":"IFERROR(OFFSET(Stocks!$F$1,SUMPRODUCT((Stocks!$B$2:$B$10000=R$1)*(Stocks!$C$2:$C$10000=$A42)*(ROW($3:$10001)-1)),0),\"\")","v":0},{"$f":"IFERROR(OFFSET(Stocks!$F$1,SUMPRODUCT((Stocks!$B$2:$B$10000=S$1)*(Stocks!$C$2:$C$10000=$A42)*(ROW($3:$10001)-1)),0),\"\")","v":0},{"$f":"IFERROR(OFFSET(Stocks!$F$1,SUMPRODUCT((Stocks!$B$2:$B$10000=T$1)*(Stocks!$C$2:$C$10000=$A42)*(ROW($3:$10001)-1)),0),\"\")","v":0}]
["TA",null,null,null,null,null,null,null,{"$f":"IFERROR(OFFSET(Stocks!$F$1,SUMPRODUCT((Stocks!$B$2:$B$10000=I$1)*(Stocks!$C$2:$C$10000=$A43)*(ROW($3:$10001)-1)),0),\"\")","v":0},{"$f":"IFERROR(OFFSET(Stocks!$F$1,SUMPRODUCT((Stocks!$B$2:$B$10000=J$1)*(Stocks!$C$2:$C$10000=$A43)*(ROW($3:$10001)-1)),0),\"\")","v":0},{"$f":"IFERROR(OFFSET(Stocks!$F$1,SUMPRODUCT((Stocks!$B$2:$B$10000=K$1)*(Stocks!$C$2:$C$10000=$A43)*(ROW($3:$10001)-1)),0),\"\")","v":0},{"$f":"IFERROR(OFFSET(Stocks!$F$1,SUMPRODUCT((Stocks!$B$2:$B$10000=L$1)*(Stocks!$C$2:$C$10000=$A43)*(ROW($3:$10001)-1)),0),\"\")","v":0},{"$f":"IFERROR(OFFSET(Stocks!$F$1,SUMPRODUCT((Stocks!$B$2:$B$10000=M$1)*(Stocks!$C$2:$C$10000=$A43)*(ROW($3:$10001)-1)),0),\"\")","v":0},{"$f":"IFERROR(OFFSET(Stocks!$F$1,SUMPRODUCT((Stocks!$B$2:$B$10000=N$1)*(Stocks!$C$2:$C$10000=$A43)*(ROW($3:$10001)-1)),0),\"\")","v":0},{"$f":"IFERROR(OFFSET(Stocks!$F$1,SUMPRODUCT((Stocks!$B$2:$B$10000=O$1)*(Stocks!$C$2:$C$10000=$A43)*(ROW($3:$10001)-1)),0),\"\")","v":0},{"$f":"IFERROR(OFFSET(Stocks!$F$1,SUMPRODUCT((Stocks!$B$2:$B$10000=P$1)*(Stocks!$C$2:$C$10000=$A43)*(ROW($3:$10001)-1)),0),\"\")","v":0},{"$f":"IFERROR(OFFSET(Stocks!$F$1,SUMPRODUCT((Stocks!$B$2:$B$10000=Q$1)*(Stocks!$C$2:$C$10000=$A43)*(ROW($3:$10001)-1)),0),\"\")","v":0},{"$f":"IFERROR(OFFSET(Stocks!$F$1,SUMPRODUCT((Stocks!$B$2:$B$10000=R$1)*(Stocks!$C$2:$C$10000=$A43)*(ROW($3:$10001)-1)),0),\"\")","v":0},{"$f":"IFERROR(OFFSET(Stocks!$F$1,SUMPRODUCT((Stocks!$B$2:$B$10000=S$1)*(Stocks!$C$2:$C$10000=$A43)*(ROW($3:$10001)-1)),0),\"\")","v":0},{"$f":"IFERROR(OFFSET(Stocks!$F$1,SUMPRODUCT((Stocks!$B$2:$B$10000=T$1)*(Stocks!$C$2:$C$10000=$A43)*(ROW($3:$10001)-1)),0),\"\")","v":0}]
["TR",null,null,null,null,null,null,null,{"$f":"IFERROR(OFFSET(Stocks!$F$1,SUMPRODUCT((Stocks!$B$2:$B$10000=I$1)*(Stocks!$C$2:$C$10000=$A44)*(ROW($3:$10001)-1)),0),\"\")","v":0},{"$f":"IFERROR(OFFSET(Stocks!$F$1,SUMPRODUCT((Stocks!$B$2:$B$10000=J$1)*(Stocks!$C$2:$C$10000=$A44)*(ROW($3:$10001)-1)),0),\"\")","v":0},{"$f":"IFERROR(OFFSET(Stocks!$F$1,SUMPRODUCT((Stocks!$B$2:$B$10000=K$1)*(Stocks!$C$2:$C$10000=$A44)*(ROW($3:$10001)-1)),0),\"\")","v":0},{"$f":"IFERROR(OFFSET(Stocks!$F$1,SUMPRODUCT((Stocks!$B$2:$B$10000=L$1)*(Stocks!$C$2:$C$10000=$A44)*(ROW($3:$10001)-1)),0),\"\")","v":0},{"$f":"IFERROR(OFFSET(Stocks!$F$1,SUMPRODUCT((Stocks!$B$2:$B$10000=M$1)*(Stocks!$C$2:$C$10000=$A44)*(ROW($3:$10001)-1)),0),\"\")","v":0},{"$f":"IFERROR(OFFSET(Stocks!$F$1,SUMPRODUCT((Stocks!$B$2:$B$10000=N$1)*(Stocks!$C$2:$C$10000=$A44)*(ROW($3:$10001)-1)),0),\"\")","v":0},{"$f":"IFERROR(OFFSET(Stocks!$F$1,SUMPRODUCT((Stocks!$B$2:$B$10000=O$1)*(Stocks!$C$2:$C$10000=$A44)*(ROW($3:$10001)-1)),0),\"\")","v":0},{"$f":"IFERROR(OFFSET(Stocks!$F$1,SUMPRODUCT((Stocks!$B$2:$B$10000=P$1)*(Stocks!$C$2:$C$10000=$A44)*(ROW($3:$10001)-1)),0),\"\")","v":0},{"$f":"IFERROR(OFFSET(Stocks!$F$1,SUMPRODUCT((Stocks!$B$2:$B$10000=Q$1)*(Stocks!$C$2:$C$10000=$A44)*(ROW($3:$10001)-1)),0),\"\")","v":0},{"$f":"IFERROR(OFFSET(Stocks!$F$1,SUMPRODUCT((Stocks!$B$2:$B$10000=R$1)*(Stocks!$C$2:$C$10000=$A44)*(ROW($3:$10001)-1)),0),\"\")","v":0},{"$f":"IFERROR(OFFSET(Stocks!$F$1,SUMPRODUCT((Stocks!$B$2:$B$10000=S$1)*(Stocks!$C$2:$C$10000=$A44)*(ROW($3:$10001)-1)),0),\"\")","v":0},{"$f":"IFERROR(OFFSET(Stocks!$F$1,SUMPRODUCT((Stocks!$B$2:$B$10000=T$1)*(Stocks!$C$2:$C$10000=$A44)*(ROW($3:$10001)-1)),0),\"\")","v":0}]
["VA",null,null,null,null,null,null,null,{"$f":"IFERROR(OFFSET(Stocks!$F$1,SUMPRODUCT((Stocks!$B$2:$B$10000=I$1)*(Stocks!$C$2:$C$10000=$A45)*(ROW($3:$10001)-1)),0),\"\")","v":0},{"$f":"IFERROR(OFFSET(Stocks!$F$1,SUMPRODUCT((Stocks!$B$2:$B$10000=J$1)*(Stocks!$C$2:$C$10000=$A45)*(ROW($3:$10001)-1)),0),\"\")","v":0},{"$f":"IFERROR(OFFSET(Stocks!$F$1,SUMPRODUCT((Stocks!$B$2:$B$10000=K$1)*(Stocks!$C$2:$C$10000=$A45)*(ROW($3:$10001)-1)),0),\"\")","v":0},{"$f":"IFERROR(OFFSET(Stocks!$F$1,SUMPRODUCT((Stocks!$B$2:$B$10000=L$1)*(Stocks!$C$2:$C$10000=$A45)*(ROW($3:$10001)-1)),0),\"\")","v":0},{"$f":"IFERROR(OFFSET(Stocks!$F$1,SUMPRODUCT((Stocks!$B$2:$B$10000=M$1)*(Stocks!$C$2:$C$10000=$A45)*(ROW($3:$10001)-1)),0),\"\")","v":0},{"$f":"IFERROR(OFFSET(Stocks!$F$1,SUMPRODUCT((Stocks!$B$2:$B$10000=N$1)*(Stocks!$C$2:$C$10000=$A45)*(ROW($3:$10001)-1)),0),\"\")","v":0},{"$f":"IFERROR(OFFSET(Stocks!$F$1,SUMPRODUCT((Stocks!$B$2:$B$10000=O$1)*(Stocks!$C$2:$C$10000=$A45)*(ROW($3:$10001)-1)),0),\"\")","v":0},{"$f":"IFERROR(OFFSET(Stocks!$F$1,SUMPRODUCT((Stocks!$B$2:$B$10000=P$1)*(Stocks!$C$2:$C$10000=$A45)*(ROW($3:$10001)-1)),0),\"\")","v":0},{"$f":"IFERROR(OFFSET(Stocks!$F$1,SUMPRODUCT((Stocks!$B$2:$B$10000=Q$1)*(Stocks!$C$2:$C$10000=$A45)*(ROW($3:$10001)-1)),0),\"\")","v":0},{"$f":"IFERROR(OFFSET(Stocks!$F$1,SUMPRODUCT((Stocks!$B$2:$B$10000=R$1)*(Stocks!$C$2:$C$10000=$A45)*(ROW($3:$10001)-1)),0),\"\")","v":0},{"$f":"IFERROR(OFFSET(Stocks!$F$1,SUMPRODUCT((Stocks!$B$2:$B$10000=S$1)*(Stocks!$C$2:$C$10000=$A45)*(ROW($3:$10001)-1)),0),\"\")","v":0},{"$f":"IFERROR(OFFSET(Stocks!$F$1,SUMPRODUCT((Stocks!$B$2:$B$10000=T$1)*(Stocks!$C$2:$C$10000=$A45)*(ROW($3:$10001)-1)),0),\"\")","v":0}]
["VD",null,null,null,null,null,null,null,{"$f":"IFERROR(OFFSET(Stocks!$F$1,SUMPRODUCT((Stocks!$B$2:$B$10000=I$1)*(Stocks!$C$2:$C$10000=$A46)*(ROW($3:$10001)-1)),0),\"\")","v":0},{"$f":"IFERROR(OFFSET(Stocks!$F$1,SUMPRODUCT((Stocks!$B$2:$B$10000=J$1)*(Stocks!$C$2:$C$10000=$A46)*(ROW($3:$10001)-1)),0),\"\")","v":0},{"$f":"IFERROR(OFFSET(Stocks!$F$1,SUMPRODUCT((Stocks!$B$2:$B$10000=K$1)*(Stocks!$C$2:$C$10000=$A46)*(ROW($3:$10001)-1)),0),\"\")","v":0},{"$f":"IFERROR(OFFSET(Stocks!$F$1,SUMPRODUCT((Stocks!$B$2:$B$10000=L$1)*(Stocks!$C$2:$C$10000=$A46)*(ROW($3:$10001)-1)),0),\"\")","v":0},{"$f":"IFERROR(OFFSET(Stocks!$F$1,SUMPRODUCT((Stocks!$B$2:$B$10000=M$1)*(Stocks!$C$2:$C$10000=$A46)*(ROW($3:$10001)-1)),0),\"\")","v":0},{"$f":"IFERROR(OFFSET(Stocks!$F$1,SUMPRODUCT((Stocks!$B$2:$B$10000=N$1)*(Stocks!$C$2:$C$10000=$A46)*(ROW($3:$10001)-1)),0),\"\")","v":0},{"$f":"IFERROR(OFFSET(Stocks!$F$1,SUMPRODUCT((Stocks!$B$2:$B$10000=O$1)*(Stocks!$C$2:$C$10000=$A46)*(ROW($3:$10001)-1)),0),\"\")","v":0},{"$f":"IFERROR(OFFSET(Stocks!$F$1,SUMPRODUCT((Stocks!$B$2:$B$10000=P$1)*(Stocks!$C$2:$C$10000=$A46)*(ROW($3:$10001)-1)),0),\"\")","v":0},{"$f":"IFERROR(OFFSET(Stocks!$F$1,SUMPRODUCT((Stocks!$B$2:$B$10000=Q$1)*(Stocks!$C$2:$C$10000=$A46)*(ROW($3:$10001)-1)),0),\"\")","v":0},{"$f":"IFERROR(OFFSET(Stocks!$F$1,SUMPRODUCT((Stocks!$B$2:$B$10000=R$1)*(Stocks!$C$2:$C$10000=$A46)*(ROW($3:$10001)-1)),0),\"\")","v":0},{"$f":"IFERROR(OFFSET(Stocks!$F$1,SUMPRODUCT((Stocks!$B$2:$B$10000=S$1)*(Stocks!$C$2:$C$10000=$A46)*(ROW($3:$10001)-1)),0),\"\")","v":0},{"$f":"IFERROR(OFFSET(Stocks!$F$1,SUMPRODUCT((Stocks!$B$2:$B$10000=T$1)*(Stocks!$C$2:$C$10000=$A46)*(ROW($3:$10001)-1)),0),\"\")","v":0}]
["VEM",null,null,null,null,null,null,null,{"$f":"IFERROR(OFFSET(Stocks!$F$1,SUMPRODUCT((Stocks!$B$2:$B$10000=I$1)*(Stocks!$C$2:$C$10000=$A47)*(ROW($3:$10001)-1)),0),\"\")","v":0},{"$f":"IFERROR(OFFSET(Stocks!$F$1,SUMPRODUCT((Stocks!$B$2:$B$10000=J$1)*(Stocks!$C$2:$C$10000=$A47)*(ROW($3:$10001)-1)),0),\"\")","v":0},{"$f":"IFERROR(OFFSET(Stocks!$F$1,SUMPRODUCT((Stocks!$B$2:$B$10000=K$1)*(Stocks!$C$2:$C$10000=$A47)*(ROW($3:$10001)-1)),0),\"\")","v":0},{"$f":"IFERROR(OFFSET(Stocks!$F$1,SUMPRODUCT((Stocks!$B$2:$B$10000=L$1)*(Stocks!$C$2:$C$10000=$A47)*(ROW($3:$10001)-1)),0),\"\")","v":0},{"$f":"IFERROR(OFFSET(Stocks!$F$1,SUMPRODUCT((Stocks!$B$2:$B$10000=M$1)*(Stocks!$C$2:$C$10000=$A47)*(ROW($3:$10001)-1)),0),\"\")","v":0},{"$f":"IFERROR(OFFSET(Stocks!$F$1,SUMPRODUCT((Stocks!$B$2:$B$10000=N$1)*(Stocks!$C$2:$C$10000=$A47)*(ROW($3:$10001)-1)),0),\"\")","v":0},{"$f":"IFERROR(OFFSET(Stocks!$F$1,SUMPRODUCT((Stocks!$B$2:$B$10000=O$1)*(Stocks!$C$2:$C$10000=$A47)*(ROW($3:$10001)-1)),0),\"\")","v":0},{"$f":"IFERROR(OFFSET(Stocks!$F$1,SUMPRODUCT((Stocks!$B$2:$B$10000=P$1)*(Stocks!$C$2:$C$10000=$A47)*(ROW($3:$10001)-1)),0),\"\")","v":0},{"$f":"IFERROR(OFFSET(Stocks!$F$1,SUMPRODUCT((Stocks!$B$2:$B$10000=Q$1)*(Stocks!$C$2:$C$10000=$A47)*(ROW($3:$10001)-1)),0),\"\")","v":0},{"$f":"IFERROR(OFFSET(Stocks!$F$1,SUMPRODUCT((Stocks!$B$2:$B$10000=R$1)*(Stocks!$C$2:$C$10000=$A47)*(ROW($3:$10001)-1)),0),\"\")","v":0},{"$f":"IFERROR(OFFSET(Stocks!$F$1,SUMPRODUCT((Stocks!$B$2:$B$10000=S$1)*(Stocks!$C$2:$C$10000=$A47)*(ROW($3:$10001)-1)),0),\"\")","v":0},{"$f":"IFERROR(OFFSET(Stocks!$F$1,SUMPRODUCT((Stocks!$B$2:$B$10000=T$1)*(Stocks!$C$2:$C$10000=$A47)*(ROW($3:$10001)-1)),0),\"\")","v":0}]
["VIO",null,null,null,null,null,null,null,{"$f":"IFERROR(OFFSET(Stocks!$F$1,SUMPRODUCT((Stocks!$B$2:$B$10000=I$1)*(Stocks!$C$2:$C$10000=$A48)*(ROW($3:$10001)-1)),0),\"\")","v":0},{"$f":"IFERROR(OFFSET(Stocks!$F$1,SUMPRODUCT((Stocks!$B$2:$B$10000=J$1)*(Stocks!$C$2:$C$10000=$A48)*(ROW($3:$10001)-1)),0),\"\")","v":0},{"$f":"IFERROR(OFFSET(Stocks!$F$1,SUMPRODUCT((Stocks!$B$2:$B$10000=K$1)*(Stocks!$C$2:$C$10000=$A48)*(ROW($3:$10001)-1)),0),\"\")","v":0},{"$f":"IFERROR(OFFSET(Stocks!$F$1,SUMPRODUCT((Stocks!$B$2:$B$10000=L$1)*(Stocks!$C$2:$C$10000=$A48)*(ROW($3:$10001)-1)),0),\"\")","v":0},{"$f":"IFERROR(OFFSET(Stocks!$F$1,SUMPRODUCT((Stocks!$B$2:$B$10000=M$1)*(Stocks!$C$2:$C$10000=$A48)*(ROW($3:$10001)-1)),0),\"\")","v":0},{"$f":"IFERROR(OFFSET(Stocks!$F$1,SUMPRODUCT((Stocks!$B$2:$B$10000=N$1)*(Stocks!$C$2:$C$10000=$A48)*(ROW($3:$10001)-1)),0),\"\")","v":0},{"$f":"IFERROR(OFFSET(Stocks!$F$1,SUMPRODUCT((Stocks!$B$2:$B$10000=O$1)*(Stocks!$C$2:$C$10000=$A48)*(ROW($3:$10001)-1)),0),\"\")","v":0},{"$f":"IFERROR(OFFSET(Stocks!$F$1,SUMPRODUCT((Stocks!$B$2:$B$10000=P$1)*(Stocks!$C$2:$C$10000=$A48)*(ROW($3:$10001)-1)),0),\"\")","v":0},{"$f":"IFERROR(OFFSET(Stocks!$F$1,SUMPRODUCT((Stocks!$B$2:$B$10000=Q$1)*(Stocks!$C$2:$C$10000=$A48)*(ROW($3:$10001)-1)),0),\"\")","v":0},{"$f":"IFERROR(OFFSET(Stocks!$F$1,SUMPRODUCT((Stocks!$B$2:$B$10000=R$1)*(Stocks!$C$2:$C$10000=$A48)*(ROW($3:$10001)-1)),0),\"\")","v":0},{"$f":"IFERROR(OFFSET(Stocks!$F$1,SUMPRODUCT((Stocks!$B$2:$B$10000=S$1)*(Stocks!$C$2:$C$10000=$A48)*(ROW($3:$10001)-1)),0),\"\")","v":0},{"$f":"IFERROR(OFFSET(Stocks!$F$1,SUMPRODUCT((Stocks!$B$2:$B$10000=T$1)*(Stocks!$C$2:$C$10000=$A48)*(ROW($3:$10001)-1)),0),\"\")","v":0}]
["VM",null,null,null,null,null,null,null,{"$f":"IFERROR(OFFSET(Stocks!$F$1,SUMPRODUCT((Stocks!$B$2:$B$10000=I$1)*(Stocks!$C$2:$C$10000=$A49)*(ROW($3:$10001)-1)),0),\"\")","v":0},{"$f":"IFERROR(OFFSET(Stocks!$F$1,SUMPRODUCT((Stocks!$B$2:$B$10000=J$1)*(Stocks!$C$2:$C$10000=$A49)*(ROW($3:$10001)-1)),0),\"\")","v":0},{"$f":"IFERROR(OFFSET(Stocks!$F$1,SUMPRODUCT((Stocks!$B$2:$B$10000=K$1)*(Stocks!$C$2:$C$10000=$A49)*(ROW($3:$10001)-1)),0),\"\")","v":0},{"$f":"IFERROR(OFFSET(Stocks!$F$1,SUMPRODUCT((Stocks!$B$2:$B$10000=L$1)*(Stocks!$C$2:$C$10000=$A49)*(ROW($3:$10001)-1)),0),\"\")","v":0},{"$f":"IFERROR(OFFSET(Stocks!$F$1,SUMPRODUCT((Stocks!$B$2:$B$10000=M$1)*(Stocks!$C$2:$C$10000=$A49)*(ROW($3:$10001)-1)),0),\"\")","v":0},{"$f":"IFERROR(OFFSET(Stocks!$F$1,SUMPRODUCT((Stocks!$B$2:$B$10000=N$1)*(Stocks!$C$2:$C$10000=$A49)*(ROW($3:$10001)-1)),0),\"\")","v":0},{"$f":"IFERROR(OFFSET(Stocks!$F$1,SUMPRODUCT((Stocks!$B$2:$B$10000=O$1)*(Stocks!$C$2:$C$10000=$A49)*(ROW($3:$10001)-1)),0),\"\")","v":0},{"$f":"IFERROR(OFFSET(Stocks!$F$1,SUMPRODUCT((Stocks!$B$2:$B$10000=P$1)*(Stocks!$C$2:$C$10000=$A49)*(ROW($3:$10001)-1)),0),\"\")","v":0},{"$f":"IFERROR(OFFSET(Stocks!$F$1,SUMPRODUCT((Stocks!$B$2:$B$10000=Q$1)*(Stocks!$C$2:$C$10000=$A49)*(ROW($3:$10001)-1)),0),\"\")","v":0},{"$f":"IFERROR(OFFSET(Stocks!$F$1,SUMPRODUCT((Stocks!$B$2:$B$10000=R$1)*(Stocks!$C$2:$C$10000=$A49)*(ROW($3:$10001)-1)),0),\"\")","v":0},{"$f":"IFERROR(OFFSET(Stocks!$F$1,SUMPRODUCT((Stocks!$B$2:$B$10000=S$1)*(Stocks!$C$2:$C$10000=$A49)*(ROW($3:$10001)-1)),0),\"\")","v":0},{"$f":"IFERROR(OFFSET(Stocks!$F$1,SUMPRODUCT((Stocks!$B$2:$B$10000=T$1)*(Stocks!$C$2:$C$10000=$A49)*(ROW($3:$10001)-1)),0),\"\")","v":0}]
["VP",null,null,null,null,null,null,null,{"$f":"IFERROR(OFFSET(Stocks!$F$1,SUMPRODUCT((Stocks!$B$2:$B$10000=I$1)*(Stocks!$C$2:$C$10000=$A50)*(ROW($3:$10001)-1)),0),\"\")","v":0},{"$f":"IFERROR(OFFSET(Stocks!$F$1,SUMPRODUCT((Stocks!$B$2:$B$10000=J$1)*(Stocks!$C$2:$C$10000=$A50)*(ROW($3:$10001)-1)),0),\"\")","v":0},{"$f":"IFERROR(OFFSET(Stocks!$F$1,SUMPRODUCT((Stocks!$B$2:$B$10000=K$1)*(Stocks!$C$2:$C$10000=$A50)*(ROW($3:$10001)-1)),0),\"\")","v":0},{"$f":"IFERROR(OFFSET(Stocks!$F$1,SUMPRODUCT((Stocks!$B$2:$B$10000=L$1)*(Stocks!$C$2:$C$10000=$A50)*(ROW($3:$10001)-1)),0),\"\")","v":0},{"$f":"IFERROR(OFFSET(Stocks!$F$1,SUMPRODUCT((Stocks!$B$2:$B$10000=M$1)*(Stocks!$C$2:$C$10000=$A50)*(ROW($3:$10001)-1)),0),\"\")","v":0},{"$f":"IFERROR(OFFSET(Stocks!$F$1,SUMPRODUCT((Stocks!$B$2:$B$10000=N$1)*(Stocks!$C$2:$C$10000=$A50)*(ROW($3:$10001)-1)),0),\"\")","v":0},{"$f":"IFERROR(OFFSET(Stocks!$F$1,SUMPRODUCT((Stocks!$B$2:$B$10000=O$1)*(Stocks!$C$2:$C$10000=$A50)*(ROW($3:$10001)-1)),0),\"\")","v":0},{"$f":"IFERROR(OFFSET(Stocks!$F$1,SUMPRODUCT((Stocks!$B$2:$B$10000=P$1)*(Stocks!$C$2:$C$10000=$A50)*(ROW($3:$10001)-1)),0),\"\")","v":0},{"$f":"IFERROR(OFFSET(Stocks!$F$1,SUMPRODUCT((Stocks!$B$2:$B$10000=Q$1)*(Stocks!$C$2:$C$10000=$A50)*(ROW($3:$10001)-1)),0),\"\")","v":0},{"$f":"IFERROR(OFFSET(Stocks!$F$1,SUMPRODUCT((Stocks!$B$2:$B$10000=R$1)*(Stocks!$C$2:$C$10000=$A50)*(ROW($3:$10001)-1)),0),\"\")","v":0},{"$f":"IFERROR(OFFSET(Stocks!$F$1,SUMPRODUCT((Stocks!$B$2:$B$10000=S$1)*(Stocks!$C$2:$C$10000=$A50)*(ROW($3:$10001)-1)),0),\"\")","v":0},{"$f":"IFERROR(OFFSET(Stocks!$F$1,SUMPRODUCT((Stocks!$B$2:$B$10000=T$1)*(Stocks!$C$2:$C$10000=$A50)*(ROW($3:$10001)-1)),0),\"\")","v":0}]

{"sheet":"BD","index":6,"n_rows":97,"n_cols":1,"rows_kept":97,"cut":false,"hidden":false,"merged":[]}
["Clients"]
["aaa1"]
["aaa2"]
["aaa3"]
["aaa4"]
["aaa5"]
["aaa6"]
["aaa7"]
["aaa8"]
["aaa9"]
["aaa10"]
["aaa11"]
["aaa12"]
["aaa13"]
["aaa14"]
["aaa15"]
["aaa16"]
["aaa17"]
["aaa18"]
["aaa19"]
["aaa20"]
["aaa21"]
["aaa22"]
["aaa23"]
["aaa24"]
["aaa25"]
["aaa26"]
["aaa27"]
["aaa28"]
["aaa29"]
["aaa30"]
["aaa31"]
["aaa32"]
["aaa33"]
["aaa34"]
["aaa35"]
["aaa36"]
["aaa37"]
["aaa38"]
["aaa39"]
["aaa40"]
["aaa41"]
["aaa42"]
["aaa43"]
["aaa44"]
["aaa45"]
["aaa46"]
["aaa47"]
["aaa48"]
["aaa49"]
["aaa50"]
["aaa51"]
["aaa52"]
["aaa53"]
["aaa54"]
["aaa55"]
["aaa56"]
["aaa57"]
["aaa58"]
["aaa59"]
["aaa60"]
["aaa61"]
["aaa62"]
["aaa63"]
["aaa64"]
["aaa65"]
["aaa66"]
["aaa67"]
["aaa68"]
["aaa69"]
["aaa70"]
["aaa71"]
["aaa72"]
["aaa73"]
["aaa74"]
["aaa75"]
["aaa76"]
["aaa77"]
["aaa78"]
["aaa79"]
["aaa80"]
["aaa81"]
["aaa82"]
["aaa83"]
["aaa84"]
["aaa85"]
["aaa86"]
["aaa87"]
["aaa88"]
["aaa89"]
["aaa90"]
["aaa91"]
["aaa92"]
["aaa93"]
["aaa94"]
["aaa95"]
["aaa96"]