{"text_format":"1","workbook":"xlsx","n_sheets":3,"sheets":["ورقة1","ورقة2","ورقة3"],"not_rendered":{"charts":0,"images":4,"macros":1,"external_links":0,"defined_names":2,"comments":0,"pivot_tables":0},"unopened":[],"bounds":{"document_bytes":16777216,"sheet_cells":100000,"rows_first":2000,"rows_last":500,"rows_between":2000,"halvings":0,"cell_chars":16384,"cell_head_chars":4096},"cells_cut":0,"cells_raw":0,"read":"whole","date_system":"1900"}

{"sheet":"ورقة1","index":0,"n_rows":589,"n_cols":2,"rows_kept":589,"cut":false,"hidden":false,"merged":[]}
["احمد ",{"$f":"INDEX($A:$A,ROW(A1)*5-5+COLUMN(A1))","v":"احمد "}]
["سعيد"]
["نادر"]
["حسان"]
["همام"]
["محمد"]
["احمد "]
["احمد "]
["سعيد"]
["نادر"]
["حسان"]
["همام"]
["محمد"]
["احمد "]
["احمد "]
["سعيد"]
["نادر"]
["حسان"]
["همام"]
["محمد"]
["احمد "]
["احمد "]
["سعيد"]
["نادر"]
["حسان"]
["همام"]
["محمد"]
["احمد "]
["احمد "]
["سعيد"]
["نادر"]
["حسان"]
["همام"]
["محمد"]
["احمد "]
["احمد "]
["سعيد"]
["نادر"]
["حسان"]
["همام"]
["محمد"]
["احمد "]
["احمد "]
["سعيد"]
["نادر"]
["حسان"]
["همام"]
["محمد"]
["احمد "]
["احمد "]
["سعيد"]
["نادر"]
["حسان"]
["همام"]
["محمد"]
["احمد "]
["احمد "]
["سعيد"]
["نادر"]
["حسان"]
["همام"]
["محمد"]
["احمد "]
["احمد "]
["سعيد"]
["نادر"]
["حسان"]
["همام"]
["محمد"]
["احمد "]
["احمد "]
["سعيد"]
["نادر"]
["حسان"]
["همام"]
["محمد"]
["احمد "]
["احمد "]
["سعيد"]
["نادر"]
["حسان"]
["همام"]
["محمد"]
["احمد "]
["احمد "]
["سعيد"]
["نادر"]
["حسان"]
["همام"]
["محمد"]
["احمد "]
["احمد "]
["سعيد"]
["نادر"]
["حسان"]
["همام"]
["محمد"]
["احمد "]
["احمد "]
["سعيد"]
["نادر"]
["حسان"]
["همام"]
["محمد"]
["احمد "]
["احمد "]
["سعيد"]
["نادر"]
["حسان"]
["همام"]
["محمد"]
["احمد "]
["احمد "]
["سعيد"]
["نادر"]
["حسان"]
["همام"]
["محمد"]
["احمد "]
["احمد "]
["سعيد"]
["نادر"]
["حسان"]
["همام"]
["محمد"]
["احمد "]
["احمد "]
["سعيد"]
["نادر"]
["حسان"]
["همام"]
["محمد"]
["احمد "]
["احمد "]
["سعيد"]
["نادر"]
["حسان"]
["همام"]
["محمد"]
["احمد "]
["احمد "]
["سعيد"]
["نادر"]
["حسان"]
["همام"]
["محمد"]
["احمد "]
["احمد "]
["سعيد"]
["نادر"]
["حسان"]
["همام"]
["محمد"]
["احمد "]
["احمد "]
["سعيد"]
["نادر"]
["حسان"]
["همام"]
["محمد"]
["احمد "]
["احمد "]
["سعيد"]
["نادر"]
["حسان"]
["همام"]
["محمد"]
["احمد "]
["احمد "]
["سعيد"]
["نادر"]
["حسان"]
["همام"]
["محمد"]
["احمد "]
["احمد "]
["سعيد"]
["نادر"]
["حسان"]
["همام"]
["محمد"]
["احمد "]
["احمد "]
["سعيد"]
["نادر"]
["حسان"]
["همام"]
["محمد"]
["احمد "]
["احمد "]
["سعيد"]
["نادر"]
["حسان"]
["همام"]
["محمد"]
["احمد "]
["احمد "]
["سعيد"]
["نادر"]
["حسان"]
["همام"]
["محمد"]
["احمد "]
["احمد "]
["سعيد"]
["نادر"]
["حسان"]
["همام"]
["محمد"]
["احمد "]
["احمد "]
["سعيد"]
["نادر"]
["حسان"]
["همام"]
["محمد"]
["احمد "]
["احمد "]
["سعيد"]
["نادر"]
["حسان"]
["همام"]
["محمد"]
["احمد "]
["احمد "]
["سعيد"]
["نادر"]
["حسان"]
["همام"]
["محمد"]
["احمد "]
["احمد "]
["سعيد"]
["نادر"]
["حسان"]
["همام"]
["محمد"]
["احمد "]
["احمد "]
["سعيد"]
["نادر"]
["حسان"]
["همام"]
["محمد"]
["احمد "]
["احمد "]
["سعيد"]
["نادر"]
["حسان"]
["همام"]
["محمد"]
["احمد "]
["احمد "]
["سعيد"]
["نادر"]
["حسان"]
["همام"]
["محمد"]
["احمد "]
["احمد "]
["سعيد"]
["نادر"]
["حسان"]
["همام"]
["محمد"]
["احمد "]
["احمد "]
["سعيد"]
["نادر"]
["حسان"]
["همام"]
["محمد"]
["احمد "]
["احمد "]
["سعيد"]
["نادر"]
["حسان"]
["همام"]
["محمد"]
["احمد "]
["احمد "]
["سعيد"]
["نادر"]
["حسان"]
["همام"]
["محمد"]
["احمد "]
["احمد "]
["سعيد"]
["نادر"]
["حسان"]
["همام"]
["محمد"]
["احمد "]
["احمد "]
["سعيد"]
["نادر"]
["حسان"]
["همام"]
["محمد"]
["احمد "]
["احمد "]
["سعيد"]
["نادر"]
["حسان"]
["همام"]
["محمد"]
["احمد "]
["احمد "]
["سعيد"]
["نادر"]
["حسان"]
["همام"]
["محمد"]
["احمد "]
["احمد "]
["سعيد"]
["نادر"]
["حسان"]
["همام"]
["محمد"]
["احمد "]
["احمد "]
["سعيد"]
["نادر"]
["حسان"]
["همام"]
["محمد"]
["احمد "]
["احمد "]
["سعيد"]
["نادر"]
["حسان"]
["همام"]
["محمد"]
["احمد "]
["احمد "]
["سعيد"]
["نادر"]
["حسان"]
["همام"]
["محمد"]
["احمد "]
["احمد "]
["سعيد"]
["نادر"]
["حسان"]
["همام"]
["محمد"]
["احمد "]
["احمد "]
["سعيد"]
["نادر"]
["حسان"]
["همام"]
["محمد"]
["احمد "]
["احمد "]
["سعيد"]
["نادر"]
["حسان"]
["همام"]
["محمد"]
["احمد "]
["احمد "]
["سعيد"]
["نادر"]
["حسان"]
["همام"]
["محمد"]
["احمد "]
["احمد "]
["سعيد"]
["نادر"]
["حسان"]
["همام"]
["محمد"]
["احمد "]
["احمد "]
["سعيد"]
["نادر"]
["حسان"]
["همام"]
["محمد"]
["احمد "]
["احمد "]
["سعيد"]
["نادر"]
["حسان"]
["همام"]
["محمد"]
["احمد "]
["احمد "]
["سعيد"]
["نادر"]
["حسان"]
["همام"]
["محمد"]
["احمد "]
["احمد "]
["سعيد"]
["نادر"]
["حسان"]
["همام"]
["محمد"]
["احمد "]
["احمد "]
["سعيد"]
["نادر"]
["حسان"]
["همام"]
["محمد"]
["احمد "]
["احمد "]
["سعيد"]
["نادر"]
["حسان"]
["همام"]
["محمد"]
["احمد "]
["احمد "]
["سعيد"]
["نادر"]
["حسان"]
["همام"]
["محمد"]
["احمد "]
["احمد "]
["سعيد"]
["نادر"]
["حسان"]
["همام"]
["محمد"]
["احمد "]
["احمد "]
["سعيد"]
["نادر"]
["حسان"]
["همام"]
["محمد"]
["احمد "]
["احمد "]
["سعيد"]
["نادر"]
["حسان"]
["همام"]
["محمد"]
["احمد "]
["احمد "]
["سعيد"]
["نادر"]
["حسان"]
["همام"]
["محمد"]
["احمد "]
["احمد "]
["سعيد"]
["نادر"]
["حسان"]
["همام"]
["محمد"]
["احمد "]
["احمد "]
["سعيد"]
["نادر"]
["حسان"]
["همام"]
["محمد"]
["احمد "]
["احمد "]
["سعيد"]
["نادر"]
["حسان"]
["همام"]
["محمد"]
["احمد "]
["احمد "]
["سعيد"]
["نادر"]
["حسان"]
["همام"]
["محمد"]
["احمد "]
["احمد "]
["سعيد"]
["نادر"]
["حسان"]
["همام"]
["محمد"]
["احمد "]
["احمد "]
["سعيد"]
["نادر"]
["حسان"]
["همام"]
["محمد"]
["احمد "]
["احمد "]
["سعيد"]
["نادر"]
["حسان"]
["همام"]
["محمد"]
["احمد "]
["احمد "]
["سعيد"]
["نادر"]
["حسان"]
["همام"]
["محمد"]
["احمد "]
["احمد "]
["سعيد"]
["نادر"]
["حسان"]
["همام"]
["محمد"]
["احمد "]
["احمد "]
["سعيد"]
["نادر"]
["حسان"]
["همام"]
["محمد"]
["احمد "]
["احمد "]
["سعيد"]
["نادر"]
["حسان"]
["همام"]
["محمد"]
["احمد "]
["احمد "]
["سعيد"]
["نادر"]
["حسان"]
["همام"]
["محمد"]
["احمد "]
["احمد "]
["سعيد"]
["نادر"]
["حسان"]
["همام"]
["محمد"]
["احمد "]
["احمد "]
["سعيد"]
["نادر"]
["حسان"]
["همام"]
["محمد"]
["احمد "]
["احمد "]
["سعيد"]
["نادر"]
["حسان"]
["همام"]
["محمد"]
["احمد "]
["احمد "]
["سعيد"]
["نادر"]
["حسان"]
["همام"]
["محمد"]
["احمد "]
["احمد "]
["سعيد"]
["نادر"]
["حسان"]
["همام"]
["محمد"]
["احمد "]
["احمد "]
["سعيد"]
["نادر"]
["حسان"]
["همام"]
["محمد"]
["احمد "]
["احمد "]
["سعيد"]
["نادر"]
["حسان"]
["همام"]
["محمد"]
["احمد "]
["احمد "]

{"sheet":"ورقة2","index":1,"n_rows":118,"n_cols":9,"rows_kept":118,"cut":false,"hidden":false,"merged":[]}
[{"$f":"INDEX(ورقة1!$A:$A,ROW(ورقة1!A1)*5-5+COLUMN(ورقة1!A1))","v":"احمد "},{"$f":"INDEX(ورقة1!$A:$A,ROW(ورقة1!B1)*5-5+COLUMN(ورقة1!B1))","v":"سعيد"},{"$f":"INDEX(ورقة1!$A:$A,ROW(ورقة1!C1)*5-5+COLUMN(ورقة1!C1))","v":"نادر"},{"$f":"INDEX(ورقة1!$A:$A,ROW(ورقة1!D1)*5-5+COLUMN(ورقة1!D1))","v":"حسان"},{"$f":"INDEX(ورقة1!$A:$A,ROW(ورقة1!E1)*5-5+COLUMN(ورقة1!E1))","v":"همام"},{"$f":"INDEX(ورقة1!$A:$A,ROW(ورقة1!F1)*5-5+COLUMN(ورقة1!F1))","v":"محمد"},{"$f":"INDEX(ورقة1!$A:$A,ROW(ورقة1!G1)*5-5+COLUMN(ورقة1!G1))","v":"احمد "},{"$f":"INDEX(ورقة1!$A:$A,ROW(ورقة1!H1)*5-5+COLUMN(ورقة1!H1))","v":"احمد "},{"$f":"INDEX(ورقة1!$A:$A,ROW(ورقة1!I1)*5-5+COLUMN(ورقة1!I1))","v":"سعيد"}]
[{"$f":"INDEX(ورقة1!$A:$A,ROW(ورقة1!A2)*5-5+COLUMN(ورقة1!A2))","v":"محمد"},{"$f":"INDEX(ورقة1!$A:$A,ROW(ورقة1!B2)*5-5+COLUMN(ورقة1!B2))","v":"احمد "},{"$f":"INDEX(ورقة1!$A:$A,ROW(ورقة1!C2)*5-5+COLUMN(ورقة1!C2))","v":"احمد "},{"$f":"INDEX(ورقة1!$A:$A,ROW(ورقة1!D2)*5-5+COLUMN(ورقة1!D2))","v":"سعيد"},{"$f":"INDEX(ورقة1!$A:$A,ROW(ورقة1!E2)*5-5+COLUMN(ورقة1!E2))","v":"نادر"},{"$f":"INDEX(ورقة1!$A:$A,ROW(ورقة1!F2)*5-5+COLUMN(ورقة1!F2))","v":"حسان"},{"$f":"INDEX(ورقة1!$A:$A,ROW(ورقة1!G2)*5-5+COLUMN(ورقة1!G2))","v":"همام"},{"$f":"INDEX(ورقة1!$A:$A,ROW(ورقة1!H2)*5-5+COLUMN(ورقة1!H2))","v":"محمد"},{"$f":"INDEX(ورقة1!$A:$A,ROW(ورقة1!I2)*5-5+COLUMN(ورقة1!I2))","v":"احمد "}]
[{"$f":"INDEX(ورقة1!$A:$A,ROW(ورقة1!A3)*5-5+COLUMN(ورقة1!A3))","v":"حسان"},{"$f":"INDEX(ورقة1!$A:$A,ROW(ورقة1!B3)*5-5+COLUMN(ورقة1!B3))","v":"همام"},{"$f":"INDEX(ورقة1!$A:$A,ROW(ورقة1!C3)*5-5+COLUMN(ورقة1!C3))","v":"محمد"},{"$f":"INDEX(ورقة1!$A:$A,ROW(ورقة1!D3)*5-5+COLUMN(ورقة1!D3))","v":"احمد "},{"$f":"INDEX(ورقة1!$A:$A,ROW(ورقة1!E3)*5-5+COLUMN(ورقة1!E3))","v":"احمد "},{"$f":"INDEX(ورقة1!$A:$A,ROW(ورقة1!F3)*5-5+COLUMN(ورقة1!F3))","v":"سعيد"},{"$f":"INDEX(ورقة1!$A:$A,ROW(ورقة1!G3)*5-5+COLUMN(ورقة1!G3))","v":"نادر"},{"$f":"INDEX(ورقة1!$A:$A,ROW(ورقة1!H3)*5-5+COLUMN(ورقة1!H3))","v":"حسان"},{"$f":"INDEX(ورقة1!$A:$A,ROW(ورقة1!I3)*5-5+COLUMN(ورقة1!I3))","v":"همام"}]
[{"$f":"INDEX(ورقة1!$A:$A,ROW(ورقة1!A4)*5-5+COLUMN(ورقة1!A4))","v":"سعيد"},{"$f":"INDEX(ورقة1!$A:$A,ROW(ورقة1!B4)*5-5+COLUMN(ورقة1!B4))","v":"نادر"},{"$f":"INDEX(ورقة1!$A:$A,ROW(ورقة1!C4)*5-5+COLUMN(ورقة1!C4))","v":"حسان"},{"$f":"INDEX(ورقة1!$A:$A,ROW(ورقة1!D4)*5-5+COLUMN(ورقة1!D4))","v":"همام"},{"$f":"INDEX(ورقة1!$A:$A,ROW(ورقة1!E4)*5-5+COLUMN(ورقة1!E4))","v":"محمد"},{"$f":"INDEX(ورقة1!$A:$A,ROW(ورقة1!F4)*5-5+COLUMN(ورقة1!F4))","v":"احمد "},{"$f":"INDEX(ورقة1!$A:$A,ROW(ورقة1!G4)*5-5+COLUMN(ورقة1!G4))","v":"احمد "},{"$f":"INDEX(ورقة1!$A:$A,ROW(ورقة1!H4)*5-5+COLUMN(ورقة1!H4))","v":"سعيد"},{"$f":"INDEX(ورقة1!$A:$A,ROW(ورقة1!I4)*5-5+COLUMN(ورقة1!I4))","v":"نادر"}]
[{"$f":"INDEX(ورقة1!$A:$A,ROW(ورقة1!A5)*5-5+COLUMN(ورقة1!A5))","v":"احمد "},{"$f":"INDEX(ورقة1!$A:$A,ROW(ورقة1!B5)*5-5+COLUMN(ورقة1!B5))","v":"احمد "},{"$f":"INDEX(ورقة1!$A:$A,ROW(ورقة1!C5)*5-5+COLUMN(ورقة1!C5))","v":"سعيد"},{"$f":"INDEX(ورقة1!$A:$A,ROW(ورقة1!D5)*5-5+COLUMN(ورقة1!D5))","v":"نادر"},{"$f":"INDEX(ورقة1!$A:$A,ROW(ورقة1!E5)*5-5+COLUMN(ورقة1!E5))","v":"حسان"},{"$f":"INDEX(ورقة1!$A:$A,ROW(ورقة1!F5)*5-5+COLUMN(ورقة1!F5))","v":"همام"},{"$f":"INDEX(ورقة1!$A:$A,ROW(ورقة1!G5)*5-5+COLUMN(ورقة1!G5))","v":"محمد"},{"$f":"INDEX(ورقة1!$A:$A,ROW(ورقة1!H5)*5-5+COLUMN(ورقة1!H5))","v":"احمد "},{"$f":"INDEX(ورقة1!$A:$A,ROW(ورقة1!I5)*5-5+COLUMN(ورقة1!I5))","v":"احمد "}]
[{"$f":"INDEX(ورقة1!$A:$A,ROW(ورقة1!A6)*5-5+COLUMN(ورقة1!A6))","v":"همام"},{"$f":"INDEX(ورقة1!$A:$A,ROW(ورقة1!B6)*5-5+COLUMN(ورقة1!B6))","v":"محمد"},{"$f":"INDEX(ورقة1!$A:$A,ROW(ورقة1!C6)*5-5+COLUMN(ورقة1!C6))","v":"احمد "},{"$f":"INDEX(ورقة1!$A:$A,ROW(ورقة1!D6)*5-5+COLUMN(ورقة1!D6))","v":"احمد "},{"$f":"INDEX(ورقة1!$A:$A,ROW(ورقة1!E6)*5-5+COLUMN(ورقة1!E6))","v":"سعيد"},{"$f":"INDEX(ورقة1!$A:$A,ROW(ورقة1!F6)*5-5+COLUMN(ورقة1!F6))","v":"نادر"},{"$f":"INDEX(ورقة1!$A:$A,ROW(ورقة1!G6)*5-5+COLUMN(ورقة1!G6))","v":"حسان"},{"$f":"INDEX(ورقة1!$A:$A,ROW(ورقة1!H6)*5-5+COLUMN(ورقة1!H6))","v":"همام"},{"$f":"INDEX(ورقة1!$A:$A,ROW(ورقة1!I6)*5-5+COLUMN(ورقة1!I6))","v":"محمد"}]
[{"$f":"INDEX(ورقة1!$A:$A,ROW(ورقة1!A7)*5-5+COLUMN(ورقة1!A7))","v":"نادر"},{"$f":"INDEX(ورقة1!$A:$A,ROW(ورقة1!B7)*5-5+COLUMN(ورقة1!B7))","v":"حسان"},{"$f":"INDEX(ورقة1!$A:$A,ROW(ورقة1!C7)*5-5+COLUMN(ورقة1!C7))","v":"همام"},{"$f":"INDEX(ورقة1!$A:$A,ROW(ورقة1!D7)*5-5+COLUMN(ورقة1!D7))","v":"محمد"},{"$f":"INDEX(ورقة1!$A:$A,ROW(ورقة1!E7)*5-5+COLUMN(ورقة1!E7))","v":"احمد "},{"$f":"INDEX(ورقة1!$A:$A,ROW(ورقة1!F7)*5-5+COLUMN(ورقة1!F7))","v":"احمد "},{"$f":"INDEX(ورقة1!$A:$A,ROW(ورقة1!G7)*5-5+COLUMN(ورقة1!G7))","v":"سعيد"},{"$f":"INDEX(ورقة1!$A:$A,ROW(ورقة1!H7)*5-5+COLUMN(ورقة1!H7))","v":"نادر"},{"$f":"INDEX(ورقة1!$A:$A,ROW(ورقة1!I7)*5-5+COLUMN(ورقة1!I7))","v":"حسان"}]
[{"$f":"INDEX(ورقة1!$A:$A,ROW(ورقة1!A8)*5-5+COLUMN(ورقة1!A8))","v":"احمد "},{"$f":"INDEX(ورقة1!$A:$A,ROW(ورقة1!B8)*5-5+COLUMN(ورقة1!B8))","v":"سعيد"},{"$f":"INDEX(ورقة1!$A:$A,ROW(ورقة1!C8)*5-5+COLUMN(ورقة1!C8))","v":"نادر"},{"$f":"INDEX(ورقة1!$A:$A,ROW(ورقة1!D8)*5-5+COLUMN(ورقة1!D8))","v":"حسان"},{"$f":"INDEX(ورقة1!$A:$A,ROW(ورقة1!E8)*5-5+COLUMN(ورقة1!E8))","v":"همام"},{"$f":"INDEX(ورقة1!$A:$A,ROW(ورقة1!F8)*5-5+COLUMN(ورقة1!F8))","v":"محمد"},{"$f":"INDEX(ورقة1!$A:$A,ROW(ورقة1!G8)*5-5+COLUMN(ورقة1!G8))","v":"احمد "},{"$f":"INDEX(ورقة1!$A:$A,ROW(ورقة1!H8)*5-5+COLUMN(ورقة1!H8))","v":"احمد "},{"$f":"INDEX(ورقة1!$A:$A,ROW(ورقة1!I8)*5-5+COLUMN(ورقة1!I8))","v":"سعيد"}]
[{"$f":"INDEX(ورقة1!$A:$A,ROW(ورقة1!A9)*5-5+COLUMN(ورقة1!A9))","v":"محمد"},{"$f":"INDEX(ورقة1!$A:$A,ROW(ورقة1!B9)*5-5+COLUMN(ورقة1!B9))","v":"احمد "},{"$f":"INDEX(ورقة1!$A:$A,ROW(ورقة1!C9)*5-5+COLUMN(ورقة1!C9))","v":"احمد "},{"$f":"INDEX(ورقة1!$A:$A,ROW(ورقة1!D9)*5-5+COLUMN(ورقة1!D9))","v":"سعيد"},{"$f":"INDEX(ورقة1!$A:$A,ROW(ورقة1!E9)*5-5+COLUMN(ورقة1!E9))","v":"نادر"},{"$f":"INDEX(ورقة1!$A:$A,ROW(ورقة1!F9)*5-5+COLUMN(ورقة1!F9))","v":"حسان"},{"$f":"INDEX(ورقة1!$A:$A,ROW(ورقة1!G9)*5-5+COLUMN(ورقة1!G9))","v":"همام"},{"$f":"INDEX(ورقة1!$A:$A,ROW(ورقة1!H9)*5-5+COLUMN(ورقة1!H9))","v":"محمد"},{"$f":"INDEX(ورقة1!$A:$A,ROW(ورقة1!I9)*5-5+COLUMN(ورقة1!I9))","v":"احمد "}]
[{"$f":"INDEX(ورقة1!$A:$A,ROW(ورقة1!A10)*5-5+COLUMN(ورقة1!A10))","v":"حسان"},{"$f":"INDEX(ورقة1!$A:$A,ROW(ورقة1!B10)*5-5+COLUMN(ورقة1!B10))","v":"همام"},{"$f":"INDEX(ورقة1!$A:$A,ROW(ورقة1!C10)*5-5+COLUMN(ورقة1!C10))","v":"محمد"},{"$f":"INDEX(ورقة1!$A:$A,ROW(ورقة1!D10)*5-5+COLUMN(ورقة1!D10))","v":"احمد "},{"$f":"INDEX(ورقة1!$A:$A,ROW(ورقة1!E10)*5-5+COLUMN(ورقة1!E10))","v":"احمد "},{"$f":"INDEX(ورقة1!$A:$A,ROW(ورقة1!F10)*5-5+COLUMN(ورقة1!F10))","v":"سعيد"},{"$f":"INDEX(ورقة1!$A:$A,ROW(ورقة1!G10)*5-5+COLUMN(ورقة1!G10))","v":"نادر"},{"$f":"INDEX(ورقة1!$A:$A,ROW(ورقة1!H10)*5-5+COLUMN(ورقة1!H10))","v":"حسان"},{"$f":"INDEX(ورقة1!$A:$A,ROW(ورقة1!I10)*5-5+COLUMN(ورقة1!I10))","v":"همام"}]
[{"$f":"INDEX(ورقة1!$A:$A,ROW(ورقة1!A11)*5-5+COLUMN(ورقة1!A11))","v":"سعيد"},{"$f":"INDEX(ورقة1!$A:$A,ROW(ورقة1!B11)*5-5+COLUMN(ورقة1!B11))","v":"نادر"},{"$f":"INDEX(ورقة1!$A:$A,ROW(ورقة1!C11)*5-5+COLUMN(ورقة1!C11))","v":"حسان"},{"$f":"INDEX(ورقة1!$A:$A,ROW(ورقة1!D11)*5-5+COLUMN(ورقة1!D11))","v":"همام"},{"$f":"INDEX(ورقة1!$A:$A,ROW(ورقة1!E11)*5-5+COLUMN(ورقة1!E11))","v":"محمد"},{"$f":"INDEX(ورقة1!$A:$A,ROW(ورقة1!F11)*5-5+COLUMN(ورقة1!F11))","v":"احمد "},{"$f":"INDEX(ورقة1!$A:$A,ROW(ورقة1!G11)*5-5+COLUMN(ورقة1!G11))","v":"احمد "},{"$f":"INDEX(ورقة1!$A:$A,ROW(ورقة1!H11)*5-5+COLUMN(ورقة1!H11))","v":"سعيد"},{"$f":"INDEX(ورقة1!$A:$A,ROW(ورقة1!I11)*5-5+COLUMN(ورقة1!I11))","v":"نادر"}]
[{"$f":"INDEX(ورقة1!$A:$A,ROW(ورقة1!A12)*5-5+COLUMN(ورقة1!A12))","v":"احمد "},{"$f":"INDEX(ورقة1!$A:$A,ROW(ورقة1!B12)*5-5+COLUMN(ورقة1!B12))","v":"احمد "},{"$f":"INDEX(ورقة1!$A:$A,ROW(ورقة1!C12)*5-5+COLUMN(ورقة1!C12))","v":"سعيد"},{"$f":"INDEX(ورقة1!$A:$A,ROW(ورقة1!D12)*5-5+COLUMN(ورقة1!D12))","v":"نادر"},{"$f":"INDEX(ورقة1!$A:$A,ROW(ورقة1!E12)*5-5+COLUMN(ورقة1!E12))","v":"حسان"},{"$f":"INDEX(ورقة1!$A:$A,ROW(ورقة1!F12)*5-5+COLUMN(ورقة1!F12))","v":"همام"},{"$f":"INDEX(ورقة1!$A:$A,ROW(ورقة1!G12)*5-5+COLUMN(ورقة1!G12))","v":"محمد"},{"$f":"INDEX(ورقة1!$A:$A,ROW(ورقة1!H12)*5-5+COLUMN(ورقة1!H12))","v":"احمد "},{"$f":"INDEX(ورقة1!$A:$A,ROW(ورقة1!I12)*5-5+COLUMN(ورقة1!I12))","v":"احمد "}]
[{"$f":"INDEX(ورقة1!$A:$A,ROW(ورقة1!A13)*5-5+COLUMN(ورقة1!A13))","v":"همام"},{"$f":"INDEX(ورقة1!$A:$A,ROW(ورقة1!B13)*5-5+COLUMN(ورقة1!B13))","v":"محمد"},{"$f":"INDEX(ورقة1!$A:$A,ROW(ورقة1!C13)*5-5+COLUMN(ورقة1!C13))","v":"احمد "},{"$f":"INDEX(ورقة1!$A:$A,ROW(ورقة1!D13)*5-5+COLUMN(ورقة1!D13))","v":"احمد "},{"$f":"INDEX(ورقة1!$A:$A,ROW(ورقة1!E13)*5-5+COLUMN(ورقة1!E13))","v":"سعيد"},{"$f":"INDEX(ورقة1!$A:$A,ROW(ورقة1!F13)*5-5+COLUMN(ورقة1!F13))","v":"نادر"},{"$f":"INDEX(ورقة1!$A:$A,ROW(ورقة1!G13)*5-5+COLUMN(ورقة1!G13))","v":"حسان"},{"$f":"INDEX(ورقة1!$A:$A,ROW(ورقة1!H13)*5-5+COLUMN(ورقة1!H13))","v":"همام"},{"$f":"INDEX(ورقة1!$A:$A,ROW(ورقة1!I13)*5-5+COLUMN(ورقة1!I13))","v":"محمد"}]
[{"$f":"INDEX(ورقة1!$A:$A,ROW(ورقة1!A14)*5-5+COLUMN(ورقة1!A14))","v":"نادر"},{"$f":"INDEX(ورقة1!$A:$A,ROW(ورقة1!B14)*5-5+COLUMN(ورقة1!B14))","v":"حسان"},{"$f":"INDEX(ورقة1!$A:$A,ROW(ورقة1!C14)*5-5+COLUMN(ورقة1!C14))","v":"همام"},{"$f":"INDEX(ورقة1!$A:$A,ROW(ورقة1!D14)*5-5+COLUMN(ورقة1!D14))","v":"محمد"},{"$f":"INDEX(ورقة1!$A:$A,ROW(ورقة1!E14)*5-5+COLUMN(ورقة1!E14))","v":"احمد "},{"$f":"INDEX(ورقة1!$A:$A,ROW(ورقة1!F14)*5-5+COLUMN(ورقة1!F14))","v":"احمد "},{"$f":"INDEX(ورقة1!$A:$A,ROW(ورقة1!G14)*5-5+COLUMN(ورقة1!G14))","v":"سعيد"},{"$f":"INDEX(ورقة1!$A:$A,ROW(ورقة1!H14)*5-5+COLUMN(ورقة1!H14))","v":"نادر"},{"$f":"INDEX(ورقة1!$A:$A,ROW(ورقة1!I14)*5-5+COLUMN(ورقة1!I14))","v":"حسان"}]
[{"$f":"INDEX(ورقة1!$A:$A,ROW(ورقة1!A15)*5-5+COLUMN(ورقة1!A15))","v":"احمد "},{"$f":"INDEX(ورقة1!$A:$A,ROW(ورقة1!B15)*5-5+COLUMN(ورقة1!B15))","v":"سعيد"},{"$f":"INDEX(ورقة1!$A:$A,ROW(ورقة1!C15)*5-5+COLUMN(ورقة1!C15))","v":"نادر"},{"$f":"INDEX(ورقة1!$A:$A,ROW(ورقة1!D15)*5-5+COLUMN(ورقة1!D15))","v":"حسان"},{"$f":"INDEX(ورقة1!$A:$A,ROW(ورقة1!E15)*5-5+COLUMN(ورقة1!E15))","v":"همام"},{"$f":"INDEX(ورقة1!$A:$A,ROW(ورقة1!F15)*5-5+COLUMN(ورقة1!F15))","v":"محمد"},{"$f":"INDEX(ورقة1!$A:$A,ROW(ورقة1!G15)*5-5+COLUMN(ورقة1!G15))","v":"احمد "},{"$f":"INDEX(ورقة1!$A:$A,ROW(ورقة1!H15)*5-5+COLUMN(ورقة1!H15))","v":"احمد "},{"$f":"INDEX(ورقة1!$A:$A,ROW(ورقة1!I15)*5-5+COLUMN(ورقة1!I15))","v":"سعيد"}]
[{"$f":"INDEX(ورقة1!$A:$A,ROW(ورقة1!A16)*5-5+COLUMN(ورقة1!A16))","v":"محمد"},{"$f":"INDEX(ورقة1!$A:$A,ROW(ورقة1!B16)*5-5+COLUMN(ورقة1!B16))","v":"احمد "},{"$f":"INDEX(ورقة1!$A:$A,ROW(ورقة1!C16)*5-5+COLUMN(ورقة1!C16))","v":"احمد "},{"$f":"INDEX(ورقة1!$A:$A,ROW(ورقة1!D16)*5-5+COLUMN(ورقة1!D16))","v":"سعيد"},{"$f":"INDEX(ورقة1!$A:$A,ROW(ورقة1!E16)*5-5+COLUMN(ورقة1!E16))","v":"نادر"},{"$f":"INDEX(ورقة1!$A:$A,ROW(ورقة1!F16)*5-5+COLUMN(ورقة1!F16))","v":"حسان"},{"$f":"INDEX(ورقة1!$A:$A,ROW(ورقة1!G16)*5-5+COLUMN(ورقة1!G16))","v":"همام"},{"$f":"INDEX(ورقة1!$A:$A,ROW(ورقة1!H16)*5-5+COLUMN(ورقة1!H16))","v":"محمد"},{"$f":"INDEX(ورقة1!$A:$A,ROW(ورقة1!I16)*5-5+COLUMN(ورقة1!I16))","v":"احمد "}]
[{"$f":"INDEX(ورقة1!$A:$A,ROW(ورقة1!A17)*5-5+COLUMN(ورقة1!A17))","v":"حسان"},{"$f":"INDEX(ورقة1!$A:$A,ROW(ورقة1!B17)*5-5+COLUMN(ورقة1!B17))","v":"همام"},{"$f":"INDEX(ورقة1!$A:$A,ROW(ورقة1!C17)*5-5+COLUMN(ورقة1!C17))","v":"محمد"},{"$f":"INDEX(ورقة1!$A:$A,ROW(ورقة1!D17)*5-5+COLUMN(ورقة1!D17))","v":"احمد "},{"$f":"INDEX(ورقة1!$A:$A,ROW(ورقة1!E17)*5-5+COLUMN(ورقة1!E17))","v":"احمد "},{"$f":"INDEX(ورقة1!$A:$A,ROW(ورقة1!F17)*5-5+COLUMN(ورقة1!F17))","v":"سعيد"},{"$f":"INDEX(ورقة1!$A:$A,ROW(ورقة1!G17)*5-5+COLUMN(ورقة1!G17))","v":"نادر"},{"$f":"INDEX(ورقة1!$A:$A,ROW(ورقة1!H17)*5-5+COLUMN(ورقة1!H17))","v":"حسان"},{"$f":"INDEX(ورقة1!$A:$A,ROW(ورقة1!I17)*5-5+COLUMN(ورقة1!I17))","v":"همام"}]
[{"$f":"INDEX(ورقة1!$A:$A,ROW(ورقة1!A18)*5-5+COLUMN(ورقة1!A18))","v":"سعيد"},{"$f":"INDEX(ورقة1!$A:$A,ROW(ورقة1!B18)*5-5+COLUMN(ورقة1!B18))","v":"نادر"},{"$f":"INDEX(ورقة1!$A:$A,ROW(ورقة1!C18)*5-5+COLUMN(ورقة1!C18))","v":"حسان"},{"$f":"INDEX(ورقة1!$A:$A,ROW(ورقة1!D18)*5-5+COLUMN(ورقة1!D18))","v":"همام"},{"$f":"INDEX(ورقة1!$A:$A,ROW(ورقة1!E18)*5-5+COLUMN(ورقة1!E18))","v":"محمد"},{"$f":"INDEX(ورقة1!$A:$A,ROW(ورقة1!F18)*5-5+COLUMN(ورقة1!F18))","v":"احمد "},{"$f":"INDEX(ورقة1!$A:$A,ROW(ورقة1!G18)*5-5+COLUMN(ورقة1!G18))","v":"احمد "},{"$f":"INDEX(ورقة1!$A:$A,ROW(ورقة1!H18)*5-5+COLUMN(ورقة1!H18))","v":"سعيد"},{"$f":"INDEX(ورقة1!$A:$A,ROW(ورقة1!I18)*5-5+COLUMN(ورقة1!I18))","v":"نادر"}]
[{"$f":"INDEX(ورقة1!$A:$A,ROW(ورقة1!A19)*5-5+COLUMN(ورقة1!A19))","v":"احمد "},{"$f":"INDEX(ورقة1!$A:$A,ROW(ورقة1!B19)*5-5+COLUMN(ورقة1!B19))","v":"احمد "},{"$f":"INDEX(ورقة1!$A:$A,ROW(ورقة1!C19)*5-5+COLUMN(ورقة1!C19))","v":"سعيد"},{"$f":"INDEX(ورقة1!$A:$A,ROW(ورقة1!D19)*5-5+COLUMN(ورقة1!D19))","v":"نادر"},{"$f":"INDEX(ورقة1!$A:$A,ROW(ورقة1!E19)*5-5+COLUMN(ورقة1!E19))","v":"حسان"},{"$f":"INDEX(ورقة1!$A:$A,ROW(ورقة1!F19)*5-5+COLUMN(ورقة1!F19))","v":"همام"},{"$f":"INDEX(ورقة1!$A:$A,ROW(ورقة1!G19)*5-5+COLUMN(ورقة1!G19))","v":"محمد"},{"$f":"INDEX(ورقة1!$A:$A,ROW(ورقة1!H19)*5-5+COLUMN(ورقة1!H19))","v":"احمد "},{"$f":"INDEX(ورقة1!$A:$A,ROW(ورقة1!I19)*5-5+COLUMN(ورقة1!I19))","v":"احمد "}]
[{"$f":"INDEX(ورقة1!$A:$A,ROW(ورقة1!A20)*5-5+COLUMN(ورقة1!A20))","v":"همام"},{"$f":"INDEX(ورقة1!$A:$A,ROW(ورقة1!B20)*5-5+COLUMN(ورقة1!B20))","v":"محمد"},{"$f":"INDEX(ورقة1!$A:$A,ROW(ورقة1!C20)*5-5+COLUMN(ورقة1!C20))","v":"احمد "},{"$f":"INDEX(ورقة1!$A:$A,ROW(ورقة1!D20)*5-5+COLUMN(ورقة1!D20))","v":"احمد "},{"$f":"INDEX(ورقة1!$A:$A,ROW(ورقة1!E20)*5-5+COLUMN(ورقة1!E20))","v":"سعيد"},{"$f":"INDEX(ورقة1!$A:$A,ROW(ورقة1!F20)*5-5+COLUMN(ورقة1!F20))","v":"نادر"},{"$f":"INDEX(ورقة1!$A:$A,ROW(ورقة1!G20)*5-5+COLUMN(ورقة1!G20))","v":"حسان"},{"$f":"INDEX(ورقة1!$A:$A,ROW(ورقة1!H20)*5-5+COLUMN(ورقة1!H20))","v":"همام"},{"$f":"INDEX(ورقة1!$A:$A,ROW(ورقة1!I20)*5-5+COLUMN(ورقة1!I20))","v":"محمد"}]
[{"$f":"INDEX(ورقة1!$A:$A,ROW(ورقة1!A21)*5-5+COLUMN(ورقة1!A21))","v":"نادر"},{"$f":"INDEX(ورقة1!$A:$A,ROW(ورقة1!B21)*5-5+COLUMN(ورقة1!B21))","v":"حسان"},{"$f":"INDEX(ورقة1!$A:$A,ROW(ورقة1!C21)*5-5+COLUMN(ورقة1!C21))","v":"همام"},{"$f":"INDEX(ورقة1!$A:$A,ROW(ورقة1!D21)*5-5+COLUMN(ورقة1!D21))","v":"محمد"},{"$f":"INDEX(ورقة1!$A:$A,ROW(ورقة1!E21)*5-5+COLUMN(ورقة1!E21))","v":"احمد "},{"$f":"INDEX(ورقة1!$A:$A,ROW(ورقة1!F21)*5-5+COLUMN(ورقة1!F21))","v":"احمد "},{"$f":"INDEX(ورقة1!$A:$A,ROW(ورقة1!G21)*5-5+COLUMN(ورقة1!G21))","v":"سعيد"},{"$f":"INDEX(ورقة1!$A:$A,ROW(ورقة1!H21)*5-5+COLUMN(ورقة1!H21))","v":"نادر"},{"$f":"INDEX(ورقة1!$A:$A,ROW(ورقة1!I21)*5-5+COLUMN(ورقة1!I21))","v":"حسان"}]
[{"$f":"INDEX(ورقة1!$A:$A,ROW(ورقة1!A22)*5-5+COLUMN(ورقة1!A22))","v":"احمد "},{"$f":"INDEX(ورقة1!$A:$A,ROW(ورقة1!B22)*5-5+COLUMN(ورقة1!B22))","v":"سعيد"},{"$f":"INDEX(ورقة1!$A:$A,ROW(ورقة1!C22)*5-5+COLUMN(ورقة1!C22))","v":"نادر"},{"$f":"INDEX(ورقة1!$A:$A,ROW(ورقة1!D22)*5-5+COLUMN(ورقة1!D22))","v":"حسان"},{"$f":"INDEX(ورقة1!$A:$A,ROW(ورقة1!E22)*5-5+COLUMN(ورقة1!E22))","v":"همام"},{"$f":"INDEX(ورقة1!$A:$A,ROW(ورقة1!F22)*5-5+COLUMN(ورقة1!F22))","v":"محمد"},{"$f":"INDEX(ورقة1!$A:$A,ROW(ورقة1!G22)*5-5+COLUMN(ورقة1!G22))","v":"احمد "},{"$f":"INDEX(ورقة1!$A:$A,ROW(ورقة1!H22)*5-5+COLUMN(ورقة1!H22))","v":"احمد "},{"$f":"INDEX(ورقة1!$A:$A,ROW(ورقة1!I22)*5-5+COLUMN(ورقة1!I22))","v":"سعيد"}]
[{"$f":"INDEX(ورقة1!$A:$A,ROW(ورقة1!A23)*5-5+COLUMN(ورقة1!A23))","v":"محمد"},{"$f":"INDEX(ورقة1!$A:$A,ROW(ورقة1!B23)*5-5+COLUMN(ورقة1!B23))","v":"احمد "},{"$f":"INDEX(ورقة1!$A:$A,ROW(ورقة1!C23)*5-5+COLUMN(ورقة1!C23))","v":"احمد "},{"$f":"INDEX(ورقة1!$A:$A,ROW(ورقة1!D23)*5-5+COLUMN(ورقة1!D23))","v":"سعيد"},{"$f":"INDEX(ورقة1!$A:$A,ROW(ورقة1!E23)*5-5+COLUMN(ورقة1!E23))","v":"نادر"},{"$f":"INDEX(ورقة1!$A:$A,ROW(ورقة1!F23)*5-5+COLUMN(ورقة1!F23))","v":"حسان"},{"$f":"INDEX(ورقة1!$A:$A,ROW(ورقة1!G23)*5-5+COLUMN(ورقة1!G23))","v":"همام"},{"$f":"INDEX(ورقة1!$A:$A,ROW(ورقة1!H23)*5-5+COLUMN(ورقة1!H23))","v":"محمد"},{"$f":"INDEX(ورقة1!$A:$A,ROW(ورقة1!I23)*5-5+COLUMN(ورقة1!I23))","v":"احمد "}]
[{"$f":"INDEX(ورقة1!$A:$A,ROW(ورقة1!A24)*5-5+COLUMN(ورقة1!A24))","v":"حسان"},{"$f":"INDEX(ورقة1!$A:$A,ROW(ورقة1!B24)*5-5+COLUMN(ورقة1!B24))","v":"همام"},{"$f":"INDEX(ورقة1!$A:$A,ROW(ورقة1!C24)*5-5+COLUMN(ورقة1!C24))","v":"محمد"},{"$f":"INDEX(ورقة1!$A:$A,ROW(ورقة1!D24)*5-5+COLUMN(ورقة1!D24))","v":"احمد "},{"$f":"INDEX(ورقة1!$A:$A,ROW(ورقة1!E24)*5-5+COLUMN(ورقة1!E24))","v":"احمد "},{"$f":"INDEX(ورقة1!$A:$A,ROW(ورقة1!F24)*5-5+COLUMN(ورقة1!F24))","v":"سعيد"},{"$f":"INDEX(ورقة1!$A:$A,ROW(ورقة1!G24)*5-5+COLUMN(ورقة1!G24))","v":"نادر"},{"$f":"INDEX(ورقة1!$A:$A,ROW(ورقة1!H24)*5-5+COLUMN(ورقة1!H24))","v":"حسان"},{"$f":"INDEX(ورقة1!$A:$A,ROW(ورقة1!I24)*5-5+COLUMN(ورقة1!I24))","v":"همام"}]
[{"$f":"INDEX(ورقة1!$A:$A,ROW(ورقة1!A25)*5-5+COLUMN(ورقة1!A25))","v":"سعيد"},{"$f":"INDEX(ورقة1!$A:$A,ROW(ورقة1!B25)*5-5+COLUMN(ورقة1!B25))","v":"نادر"},{"$f":"INDEX(ورقة1!$A:$A,ROW(ورقة1!C25)*5-5+COLUMN(ورقة1!C25))","v":"حسان"},{"$f":"INDEX(ورقة1!$A:$A,ROW(ورقة1!D25)*5-5+COLUMN(ورقة1!D25))","v":"همام"},{"$f":"INDEX(ورقة1!$A:$A,ROW(ورقة1!E25)*5-5+COLUMN(ورقة1!E25))","v":"محمد"},{"$f":"INDEX(ورقة1!$A:$A,ROW(ورقة1!F25)*5-5+COLUMN(ورقة1!F25))","v":"احمد "},{"$f":"INDEX(ورقة1!$A:$A,ROW(ورقة1!G25)*5-5+COLUMN(ورقة1!G25))","v":"احمد "},{"$f":"INDEX(ورقة1!$A:$A,ROW(ورقة1!H25)*5-5+COLUMN(ورقة1!H25))","v":"سعيد"},{"$f":"INDEX(ورقة1!$A:$A,ROW(ورقة1!I25)*5-5+COLUMN(ورقة1!I25))","v":"نادر"}]
[{"$f":"INDEX(ورقة1!$A:$A,ROW(ورقة1!A26)*5-5+COLUMN(ورقة1!A26))","v":"احمد "},{"$f":"INDEX(ورقة1!$A:$A,ROW(ورقة1!B26)*5-5+COLUMN(ورقة1!B26))","v":"احمد "},{"$f":"INDEX(ورقة1!$A:$A,ROW(ورقة1!C26)*5-5+COLUMN(ورقة1!C26))","v":"سعيد"},{"$f":"INDEX(ورقة1!$A:$A,ROW(ورقة1!D26)*5-5+COLUMN(ورقة1!D26))","v":"نادر"},{"$f":"INDEX(ورقة1!$A:$A,ROW(ورقة1!E26)*5-5+COLUMN(ورقة1!E26))","v":"حسان"},{"$f":"INDEX(ورقة1!$A:$A,ROW(ورقة1!F26)*5-5+COLUMN(ورقة1!F26))","v":"همام"},{"$f":"INDEX(ورقة1!$A:$A,ROW(ورقة1!G26)*5-5+COLUMN(ورقة1!G26))","v":"محمد"},{"$f":"INDEX(ورقة1!$A:$A,ROW(ورقة1!H26)*5-5+COLUMN(ورقة1!H26))","v":"احمد "},{"$f":"INDEX(ورقة1!$A:$A,ROW(ورقة1!I26)*5-5+COLUMN(ورقة1!I26))","v":"احمد "}]
[{"$f":"INDEX(ورقة1!$A:$A,ROW(ورقة1!A27)*5-5+COLUMN(ورقة1!A27))","v":"همام"},{"$f":"INDEX(ورقة1!$A:$A,ROW(ورقة1!B27)*5-5+COLUMN(ورقة1!B27))","v":"محمد"},{"$f":"INDEX(ورقة1!$A:$A,ROW(ورقة1!C27)*5-5+COLUMN(ورقة1!C27))","v":"احمد "},{"$f":"INDEX(ورقة1!$A:$A,ROW(ورقة1!D27)*5-5+COLUMN(ورقة1!D27))","v":"احمد "},{"$f":"INDEX(ورقة1!$A:$A,ROW(ورقة1!E27)*5-5+COLUMN(ورقة1!E27))","v":"سعيد"},{"$f":"INDEX(ورقة1!$A:$A,ROW(ورقة1!F27)*5-5+COLUMN(ورقة1!F27))","v":"نادر"},{"$f":"INDEX(ورقة1!$A:$A,ROW(ورقة1!G27)*5-5+COLUMN(ورقة1!G27))","v":"حسان"},{"$f":"INDEX(ورقة1!$A:$A,ROW(ورقة1!H27)*5-5+COLUMN(ورقة1!H27))","v":"همام"},{"$f":"INDEX(ورقة1!$A:$A,ROW(ورقة1!I27)*5-5+COLUMN(ورقة1!I27))","v":"محمد"}]
[{"$f":"INDEX(ورقة1!$A:$A,ROW(ورقة1!A28)*5-5+COLUMN(ورقة1!A28))","v":"نادر"},{"$f":"INDEX(ورقة1!$A:$A,ROW(ورقة1!B28)*5-5+COLUMN(ورقة1!B28))","v":"حسان"},{"$f":"INDEX(ورقة1!$A:$A,ROW(ورقة1!C28)*5-5+COLUMN(ورقة1!C28))","v":"همام"},{"$f":"INDEX(ورقة1!$A:$A,ROW(ورقة1!D28)*5-5+COLUMN(ورقة1!D28))","v":"محمد"},{"$f":"INDEX(ورقة1!$A:$A,ROW(ورقة1!E28)*5-5+COLUMN(ورقة1!E28))","v":"احمد "},{"$f":"INDEX(ورقة1!$A:$A,ROW(ورقة1!F28)*5-5+COLUMN(ورقة1!F28))","v":"احمد "},{"$f":"INDEX(ورقة1!$A:$A,ROW(ورقة1!G28)*5-5+COLUMN(ورقة1!G28))","v":"سعيد"},{"$f":"INDEX(ورقة1!$A:$A,ROW(ورقة1!H28)*5-5+COLUMN(ورقة1!H28))","v":"نادر"},{"$f":"INDEX(ورقة1!$A:$A,ROW(ورقة1!I28)*5-5+COLUMN(ورقة1!I28))","v":"حسان"}]
[{"$f":"INDEX(ورقة1!$A:$A,ROW(ورقة1!A29)*5-5+COLUMN(ورقة1!A29))","v":"احمد "},{"$f":"INDEX(ورقة1!$A:$A,ROW(ورقة1!B29)*5-5+COLUMN(ورقة1!B29))","v":"سعيد"},{"$f":"INDEX(ورقة1!$A:$A,ROW(ورقة1!C29)*5-5+COLUMN(ورقة1!C29))","v":"نادر"},{"$f":"INDEX(ورقة1!$A:$A,ROW(ورقة1!D29)*5-5+COLUMN(ورقة1!D29))","v":"حسان"},{"$f":"INDEX(ورقة1!$A:$A,ROW(ورقة1!E29)*5-5+COLUMN(ورقة1!E29))","v":"همام"},{"$f":"INDEX(ورقة1!$A:$A,ROW(ورقة1!F29)*5-5+COLUMN(ورقة1!F29))","v":"محمد"},{"$f":"INDEX(ورقة1!$A:$A,ROW(ورقة1!G29)*5-5+COLUMN(ورقة1!G29))","v":"احمد "},{"$f":"INDEX(ورقة1!$A:$A,ROW(ورقة1!H29)*5-5+COLUMN(ورقة1!H29))","v":"احمد "},{"$f":"INDEX(ورقة1!$A:$A,ROW(ورقة1!I29)*5-5+COLUMN(ورقة1!I29))","v":"سعيد"}]
[{"$f":"INDEX(ورقة1!$A:$A,ROW(ورقة1!A30)*5-5+COLUMN(ورقة1!A30))","v":"محمد"},{"$f":"INDEX(ورقة1!$A:$A,ROW(ورقة1!B30)*5-5+COLUMN(ورقة1!B30))","v":"احمد "},{"$f":"INDEX(ورقة1!$A:$A,ROW(ورقة1!C30)*5-5+COLUMN(ورقة1!C30))","v":"احمد "},{"$f":"INDEX(ورقة1!$A:$A,ROW(ورقة1!D30)*5-5+COLUMN(ورقة1!D30))","v":"سعيد"},{"$f":"INDEX(ورقة1!$A:$A,ROW(ورقة1!E30)*5-5+COLUMN(ورقة1!E30))","v":"نادر"},{"$f":"INDEX(ورقة1!$A:$A,ROW(ورقة1!F30)*5-5+COLUMN(ورقة1!F30))","v":"حسان"},{"$f":"INDEX(ورقة1!$A:$A,ROW(ورقة1!G30)*5-5+COLUMN(ورقة1!G30))","v":"همام"},{"$f":"INDEX(ورقة1!$A:$A,ROW(ورقة1!H30)*5-5+COLUMN(ورقة1!H30))","v":"محمد"},{"$f":"INDEX(ورقة1!$A:$A,ROW(ورقة1!I30)*5-5+COLUMN(ورقة1!I30))","v":"احمد "}]
[{"$f":"INDEX(ورقة1!$A:$A,ROW(ورقة1!A31)*5-5+COLUMN(ورقة1!A31))","v":"حسان"},{"$f":"INDEX(ورقة1!$A:$A,ROW(ورقة1!B31)*5-5+COLUMN(ورقة1!B31))","v":"همام"},{"$f":"INDEX(ورقة1!$A:$A,ROW(ورقة1!C31)*5-5+COLUMN(ورقة1!C31))","v":"محمد"},{"$f":"INDEX(ورقة1!$A:$A,ROW(ورقة1!D31)*5-5+COLUMN(ورقة1!D31))","v":"احمد "},{"$f":"INDEX(ورقة1!$A:$A,ROW(ورقة1!E31)*5-5+COLUMN(ورقة1!E31))","v":"احمد "},{"$f":"INDEX(ورقة1!$A:$A,ROW(ورقة1!F31)*5-5+COLUMN(ورقة1!F31))","v":"سعيد"},{"$f":"INDEX(ورقة1!$A:$A,ROW(ورقة1!G31)*5-5+COLUMN(ورقة1!G31))","v":"نادر"},{"$f":"INDEX(ورقة1!$A:$A,ROW(ورقة1!H31)*5-5+COLUMN(ورقة1!H31))","v":"حسان"},{"$f":"INDEX(ورقة1!$A:$A,ROW(ورقة1!I31)*5-5+COLUMN(ورقة1!I31))","v":"همام"}]
[{"$f":"INDEX(ورقة1!$A:$A,ROW(ورقة1!A32)*5-5+COLUMN(ورقة1!A32))","v":"سعيد"},{"$f":"INDEX(ورقة1!$A:$A,ROW(ورقة1!B32)*5-5+COLUMN(ورقة1!B32))","v":"نادر"},{"$f":"INDEX(ورقة1!$A:$A,ROW(ورقة1!C32)*5-5+COLUMN(ورقة1!C32))","v":"حسان"},{"$f":"INDEX(ورقة1!$A:$A,ROW(ورقة1!D32)*5-5+COLUMN(ورقة1!D32))","v":"همام"},{"$f":"INDEX(ورقة1!$A:$A,ROW(ورقة1!E32)*5-5+COLUMN(ورقة1!E32))","v":"محمد"},{"$f":"INDEX(ورقة1!$A:$A,ROW(ورقة1!F32)*5-5+COLUMN(ورقة1!F32))","v":"احمد "},{"$f":"INDEX(ورقة1!$A:$A,ROW(ورقة1!G32)*5-5+COLUMN(ورقة1!G32))","v":"احمد "},{"$f":"INDEX(ورقة1!$A:$A,ROW(ورقة1!H32)*5-5+COLUMN(ورقة1!H32))","v":"سعيد"},{"$f":"INDEX(ورقة1!$A:$A,ROW(ورقة1!I32)*5-5+COLUMN(ورقة1!I32))","v":"نادر"}]
[{"$f":"INDEX(ورقة1!$A:$A,ROW(ورقة1!A33)*5-5+COLUMN(ورقة1!A33))","v":"احمد "},{"$f":"INDEX(ورقة1!$A:$A,ROW(ورقة1!B33)*5-5+COLUMN(ورقة1!B33))","v":"احمد "},{"$f":"INDEX(ورقة1!$A:$A,ROW(ورقة1!C33)*5-5+COLUMN(ورقة1!C33))","v":"سعيد"},{"$f":"INDEX(ورقة1!$A:$A,ROW(ورقة1!D33)*5-5+COLUMN(ورقة1!D33))","v":"نادر"},{"$f":"INDEX(ورقة1!$A:$A,ROW(ورقة1!E33)*5-5+COLUMN(ورقة1!E33))","v":"حسان"},{"$f":"INDEX(ورقة1!$A:$A,ROW(ورقة1!F33)*5-5+COLUMN(ورقة1!F33))","v":"همام"},{"$f":"INDEX(ورقة1!$A:$A,ROW(ورقة1!G33)*5-5+COLUMN(ورقة1!G33))","v":"محمد"},{"$f":"INDEX(ورقة1!$A:$A,ROW(ورقة1!H33)*5-5+COLUMN(ورقة1!H33))","v":"احمد "},{"$f":"INDEX(ورقة1!$A:$A,ROW(ورقة1!I33)*5-5+COLUMN(ورقة1!I33))","v":"احمد "}]
[{"$f":"INDEX(ورقة1!$A:$A,ROW(ورقة1!A34)*5-5+COLUMN(ورقة1!A34))","v":"همام"},{"$f":"INDEX(ورقة1!$A:$A,ROW(ورقة1!B34)*5-5+COLUMN(ورقة1!B34))","v":"محمد"},{"$f":"INDEX(ورقة1!$A:$A,ROW(ورقة1!C34)*5-5+COLUMN(ورقة1!C34))","v":"احمد "},{"$f":"INDEX(ورقة1!$A:$A,ROW(ورقة1!D34)*5-5+COLUMN(ورقة1!D34))","v":"احمد "},{"$f":"INDEX(ورقة1!$A:$A,ROW(ورقة1!E34)*5-5+COLUMN(ورقة1!E34))","v":"سعيد"},{"$f":"INDEX(ورقة1!$A:$A,ROW(ورقة1!F34)*5-5+COLUMN(ورقة1!F34))","v":"نادر"},{"$f":"INDEX(ورقة1!$A:$A,ROW(ورقة1!G34)*5-5+COLUMN(ورقة1!G34))","v":"حسان"},{"$f":"INDEX(ورقة1!$A:$A,ROW(ورقة1!H34)*5-5+COLUMN(ورقة1!H34))","v":"همام"},{"$f":"INDEX(ورقة1!$A:$A,ROW(ورقة1!I34)*5-5+COLUMN(ورقة1!I34))","v":"محمد"}]
[{"$f":"INDEX(ورقة1!$A:$A,ROW(ورقة1!A35)*5-5+COLUMN(ورقة1!A35))","v":"نادر"},{"$f":"INDEX(ورقة1!$A:$A,ROW(ورقة1!B35)*5-5+COLUMN(ورقة1!B35))","v":"حسان"},{"$f":"INDEX(ورقة1!$A:$A,ROW(ورقة1!C35)*5-5+COLUMN(ورقة1!C35))","v":"همام"},{"$f":"INDEX(ورقة1!$A:$A,ROW(ورقة1!D35)*5-5+COLUMN(ورقة1!D35))","v":"محمد"},{"$f":"INDEX(ورقة1!$A:$A,ROW(ورقة1!E35)*5-5+COLUMN(ورقة1!E35))","v":"احمد "},{"$f":"INDEX(ورقة1!$A:$A,ROW(ورقة1!F35)*5-5+COLUMN(ورقة1!F35))","v":"احمد "},{"$f":"INDEX(ورقة1!$A:$A,ROW(ورقة1!G35)*5-5+COLUMN(ورقة1!G35))","v":"سعيد"},{"$f":"INDEX(ورقة1!$A:$A,ROW(ورقة1!H35)*5-5+COLUMN(ورقة1!H35))","v":"نادر"},{"$f":"INDEX(ورقة1!$A:$A,ROW(ورقة1!I35)*5-5+COLUMN(ورقة1!I35))","v":"حسان"}]
[{"$f":"INDEX(ورقة1!$A:$A,ROW(ورقة1!A36)*5-5+COLUMN(ورقة1!A36))","v":"احمد "},{"$f":"INDEX(ورقة1!$A:$A,ROW(ورقة1!B36)*5-5+COLUMN(ورقة1!B36))","v":"سعيد"},{"$f":"INDEX(ورقة1!$A:$A,ROW(ورقة1!C36)*5-5+COLUMN(ورقة1!C36))","v":"نادر"},{"$f":"INDEX(ورقة1!$A:$A,ROW(ورقة1!D36)*5-5+COLUMN(ورقة1!D36))","v":"حسان"},{"$f":"INDEX(ورقة1!$A:$A,ROW(ورقة1!E36)*5-5+COLUMN(ورقة1!E36))","v":"همام"},{"$f":"INDEX(ورقة1!$A:$A,ROW(ورقة1!F36)*5-5+COLUMN(ورقة1!F36))","v":"محمد"},{"$f":"INDEX(ورقة1!$A:$A,ROW(ورقة1!G36)*5-5+COLUMN(ورقة1!G36))","v":"احمد "},{"$f":"INDEX(ورقة1!$A:$A,ROW(ورقة1!H36)*5-5+COLUMN(ورقة1!H36))","v":"احمد "},{"$f":"INDEX(ورقة1!$A:$A,ROW(ورقة1!I36)*5-5+COLUMN(ورقة1!I36))","v":"سعيد"}]
[{"$f":"INDEX(ورقة1!$A:$A,ROW(ورقة1!A37)*5-5+COLUMN(ورقة1!A37))","v":"محمد"},{"$f":"INDEX(ورقة1!$A:$A,ROW(ورقة1!B37)*5-5+COLUMN(ورقة1!B37))","v":"احمد "},{"$f":"INDEX(ورقة1!$A:$A,ROW(ورقة1!C37)*5-5+COLUMN(ورقة1!C37))","v":"احمد "},{"$f":"INDEX(ورقة1!$A:$A,ROW(ورقة1!D37)*5-5+COLUMN(ورقة1!D37))","v":"سعيد"},{"$f":"INDEX(ورقة1!$A:$A,ROW(ورقة1!E37)*5-5+COLUMN(ورقة1!E37))","v":"نادر"},{"$f":"INDEX(ورقة1!$A:$A,ROW(ورقة1!F37)*5-5+COLUMN(ورقة1!F37))","v":"حسان"},{"$f":"INDEX(ورقة1!$A:$A,ROW(ورقة1!G37)*5-5+COLUMN(ورقة1!G37))","v":"همام"},{"$f":"INDEX(ورقة1!$A:$A,ROW(ورقة1!H37)*5-5+COLUMN(ورقة1!H37))","v":"محمد"},{"$f":"INDEX(ورقة1!$A:$A,ROW(ورقة1!I37)*5-5+COLUMN(ورقة1!I37))","v":"احمد "}]
[{"$f":"INDEX(ورقة1!$A:$A,ROW(ورقة1!A38)*5-5+COLUMN(ورقة1!A38))","v":"حسان"},{"$f":"INDEX(ورقة1!$A:$A,ROW(ورقة1!B38)*5-5+COLUMN(ورقة1!B38))","v":"همام"},{"$f":"INDEX(ورقة1!$A:$A,ROW(ورقة1!C38)*5-5+COLUMN(ورقة1!C38))","v":"محمد"},{"$f":"INDEX(ورقة1!$A:$A,ROW(ورقة1!D38)*5-5+COLUMN(ورقة1!D38))","v":"احمد "},{"$f":"INDEX(ورقة1!$A:$A,ROW(ورقة1!E38)*5-5+COLUMN(ورقة1!E38))","v":"احمد "},{"$f":"INDEX(ورقة1!$A:$A,ROW(ورقة1!F38)*5-5+COLUMN(ورقة1!F38))","v":"سعيد"},{"$f":"INDEX(ورقة1!$A:$A,ROW(ورقة1!G38)*5-5+COLUMN(ورقة1!G38))","v":"نادر"},{"$f":"INDEX(ورقة1!$A:$A,ROW(ورقة1!H38)*5-5+COLUMN(ورقة1!H38))","v":"حسان"},{"$f":"INDEX(ورقة1!$A:$A,ROW(ورقة1!I38)*5-5+COLUMN(ورقة1!I38))","v":"همام"}]
[{"$f":"INDEX(ورقة1!$A:$A,ROW(ورقة1!A39)*5-5+COLUMN(ورقة1!A39))","v":"سعيد"},{"$f":"INDEX(ورقة1!$A:$A,ROW(ورقة1!B39)*5-5+COLUMN(ورقة1!B39))","v":"نادر"},{"$f":"INDEX(ورقة1!$A:$A,ROW(ورقة1!C39)*5-5+COLUMN(ورقة1!C39))","v":"حسان"},{"$f":"INDEX(ورقة1!$A:$A,ROW(ورقة1!D39)*5-5+COLUMN(ورقة1!D39))","v":"همام"},{"$f":"INDEX(ورقة1!$A:$A,ROW(ورقة1!E39)*5-5+COLUMN(ورقة1!E39))","v":"محمد"},{"$f":"INDEX(ورقة1!$A:$A,ROW(ورقة1!F39)*5-5+COLUMN(ورقة1!F39))","v":"احمد "},{"$f":"INDEX(ورقة1!$A:$A,ROW(ورقة1!G39)*5-5+COLUMN(ورقة1!G39))","v":"احمد "},{"$f":"INDEX(ورقة1!$A:$A,ROW(ورقة1!H39)*5-5+COLUMN(ورقة1!H39))","v":"سعيد"},{"$f":"INDEX(ورقة1!$A:$A,ROW(ورقة1!I39)*5-5+COLUMN(ورقة1!I39))","v":"نادر"}]
[{"$f":"INDEX(ورقة1!$A:$A,ROW(ورقة1!A40)*5-5+COLUMN(ورقة1!A40))","v":"احمد "},{"$f":"INDEX(ورقة1!$A:$A,ROW(ورقة1!B40)*5-5+COLUMN(ورقة1!B40))","v":"احمد "},{"$f":"INDEX(ورقة1!$A:$A,ROW(ورقة1!C40)*5-5+COLUMN(ورقة1!C40))","v":"سعيد"},{"$f":"INDEX(ورقة1!$A:$A,ROW(ورقة1!D40)*5-5+COLUMN(ورقة1!D40))","v":"نادر"},{"$f":"INDEX(ورقة1!$A:$A,ROW(ورقة1!E40)*5-5+COLUMN(ورقة1!E40))","v":"حسان"},{"$f":"INDEX(ورقة1!$A:$A,ROW(ورقة1!F40)*5-5+COLUMN(ورقة1!F40))","v":"همام"},{"$f":"INDEX(ورقة1!$A:$A,ROW(ورقة1!G40)*5-5+COLUMN(ورقة1!G40))","v":"محمد"},{"$f":"INDEX(ورقة1!$A:$A,ROW(ورقة1!H40)*5-5+COLUMN(ورقة1!H40))","v":"احمد "},{"$f":"INDEX(ورقة1!$A:$A,ROW(ورقة1!I40)*5-5+COLUMN(ورقة1!I40))","v":"احمد "}]
[{"$f":"INDEX(ورقة1!$A:$A,ROW(ورقة1!A41)*5-5+COLUMN(ورقة1!A41))","v":"همام"},{"$f":"INDEX(ورقة1!$A:$A,ROW(ورقة1!B41)*5-5+COLUMN(ورقة1!B41))","v":"محمد"},{"$f":"INDEX(ورقة1!$A:$A,ROW(ورقة1!C41)*5-5+COLUMN(ورقة1!C41))","v":"احمد "},{"$f":"INDEX(ورقة1!$A:$A,ROW(ورقة1!D41)*5-5+COLUMN(ورقة1!D41))","v":"احمد "},{"$f":"INDEX(ورقة1!$A:$A,ROW(ورقة1!E41)*5-5+COLUMN(ورقة1!E41))","v":"سعيد"},{"$f":"INDEX(ورقة1!$A:$A,ROW(ورقة1!F41)*5-5+COLUMN(ورقة1!F41))","v":"نادر"},{"$f":"INDEX(ورقة1!$A:$A,ROW(ورقة1!G41)*5-5+COLUMN(ورقة1!G41))","v":"حسان"},{"$f":"INDEX(ورقة1!$A:$A,ROW(ورقة1!H41)*5-5+COLUMN(ورقة1!H41))","v":"همام"},{"$f":"INDEX(ورقة1!$A:$A,ROW(ورقة1!I41)*5-5+COLUMN(ورقة1!I41))","v":"محمد"}]
[{"$f":"INDEX(ورقة1!$A:$A,ROW(ورقة1!A42)*5-5+COLUMN(ورقة1!A42))","v":"نادر"},{"$f":"INDEX(ورقة1!$A:$A,ROW(ورقة1!B42)*5-5+COLUMN(ورقة1!B42))","v":"حسان"},{"$f":"INDEX(ورقة1!$A:$A,ROW(ورقة1!C42)*5-5+COLUMN(ورقة1!C42))","v":"همام"},{"$f":"INDEX(ورقة1!$A:$A,ROW(ورقة1!D42)*5-5+COLUMN(ورقة1!D42))","v":"محمد"},{"$f":"INDEX(ورقة1!$A:$A,ROW(ورقة1!E42)*5-5+COLUMN(ورقة1!E42))","v":"احمد "},{"$f":"INDEX(ورقة1!$A:$A,ROW(ورقة1!F42)*5-5+COLUMN(ورقة1!F42))","v":"احمد "},{"$f":"INDEX(ورقة1!$A:$A,ROW(ورقة1!G42)*5-5+COLUMN(ورقة1!G42))","v":"سعيد"},{"$f":"INDEX(ورقة1!$A:$A,ROW(ورقة1!H42)*5-5+COLUMN(ورقة1!H42))","v":"نادر"},{"$f":"INDEX(ورقة1!$A:$A,ROW(ورقة1!I42)*5-5+COLUMN(ورقة1!I42))","v":"حسان"}]
[{"$f":"INDEX(ورقة1!$A:$A,ROW(ورقة1!A43)*5-5+COLUMN(ورقة1!A43))","v":"احمد "},{"$f":"INDEX(ورقة1!$A:$A,ROW(ورقة1!B43)*5-5+COLUMN(ورقة1!B43))","v":"سعيد"},{"$f":"INDEX(ورقة1!$A:$A,ROW(ورقة1!C43)*5-5+COLUMN(ورقة1!C43))","v":"نادر"},{"$f":"INDEX(ورقة1!$A:$A,ROW(ورقة1!D43)*5-5+COLUMN(ورقة1!D43))","v":"حسان"},{"$f":"INDEX(ورقة1!$A:$A,ROW(ورقة1!E43)*5-5+COLUMN(ورقة1!E43))","v":"همام"},{"$f":"INDEX(ورقة1!$A:$A,ROW(ورقة1!F43)*5-5+COLUMN(ورقة1!F43))","v":"محمد"},{"$f":"INDEX(ورقة1!$A:$A,ROW(ورقة1!G43)*5-5+COLUMN(ورقة1!G43))","v":"احمد "},{"$f":"INDEX(ورقة1!$A:$A,ROW(ورقة1!H43)*5-5+COLUMN(ورقة1!H43))","v":"احمد "},{"$f":"INDEX(ورقة1!$A:$A,ROW(ورقة1!I43)*5-5+COLUMN(ورقة1!I43))","v":"سعيد"}]
[{"$f":"INDEX(ورقة1!$A:$A,ROW(ورقة1!A44)*5-5+COLUMN(ورقة1!A44))","v":"محمد"},{"$f":"INDEX(ورقة1!$A:$A,ROW(ورقة1!B44)*5-5+COLUMN(ورقة1!B44))","v":"احمد "},{"$f":"INDEX(ورقة1!$A:$A,ROW(ورقة1!C44)*5-5+COLUMN(ورقة1!C44))","v":"احمد "},{"$f":"INDEX(ورقة1!$A:$A,ROW(ورقة1!D44)*5-5+COLUMN(ورقة1!D44))","v":"سعيد"},{"$f":"INDEX(ورقة1!$A:$A,ROW(ورقة1!E44)*5-5+COLUMN(ورقة1!E44))","v":"نادر"},{"$f":"INDEX(ورقة1!$A:$A,ROW(ورقة1!F44)*5-5+COLUMN(ورقة1!F44))","v":"حسان"},{"$f":"INDEX(ورقة1!$A:$A,ROW(ورقة1!G44)*5-5+COLUMN(ورقة1!G44))","v":"همام"},{"$f":"INDEX(ورقة1!$A:$A,ROW(ورقة1!H44)*5-5+COLUMN(ورقة1!H44))","v":"محمد"},{"$f":"INDEX(ورقة1!$A:$A,ROW(ورقة1!I44)*5-5+COLUMN(ورقة1!I44))","v":"احمد "}]
[{"$f":"INDEX(ورقة1!$A:$A,ROW(ورقة1!A45)*5-5+COLUMN(ورقة1!A45))","v":"حسان"},{"$f":"INDEX(ورقة1!$A:$A,ROW(ورقة1!B45)*5-5+COLUMN(ورقة1!B45))","v":"همام"},{"$f":"INDEX(ورقة1!$A:$A,ROW(ورقة1!C45)*5-5+COLUMN(ورقة1!C45))","v":"محمد"},{"$f":"INDEX(ورقة1!$A:$A,ROW(ورقة1!D45)*5-5+COLUMN(ورقة1!D45))","v":"احمد "},{"$f":"INDEX(ورقة1!$A:$A,ROW(ورقة1!E45)*5-5+COLUMN(ورقة1!E45))","v":"احمد "},{"$f":"INDEX(ورقة1!$A:$A,ROW(ورقة1!F45)*5-5+COLUMN(ورقة1!F45))","v":"سعيد"},{"$f":"INDEX(ورقة1!$A:$A,ROW(ورقة1!G45)*5-5+COLUMN(ورقة1!G45))","v":"نادر"},{"$f":"INDEX(ورقة1!$A:$A,ROW(ورقة1!H45)*5-5+COLUMN(ورقة1!H45))","v":"حسان"},{"$f":"INDEX(ورقة1!$A:$A,ROW(ورقة1!I45)*5-5+COLUMN(ورقة1!I45))","v":"همام"}]
[{"$f":"INDEX(ورقة1!$A:$A,ROW(ورقة1!A46)*5-5+COLUMN(ورقة1!A46))","v":"سعيد"},{"$f":"INDEX(ورقة1!$A:$A,ROW(ورقة1!B46)*5-5+COLUMN(ورقة1!B46))","v":"نادر"},{"$f":"INDEX(ورقة1!$A:$A,ROW(ورقة1!C46)*5-5+COLUMN(ورقة1!C46))","v":"حسان"},{"$f":"INDEX(ورقة1!$A:$A,ROW(ورقة1!D46)*5-5+COLUMN(ورقة1!D46))","v":"همام"},{"$f":"INDEX(ورقة1!$A:$A,ROW(ورقة1!E46)*5-5+COLUMN(ورقة1!E46))","v":"محمد"},{"$f":"INDEX(ورقة1!$A:$A,ROW(ورقة1!F46)*5-5+COLUMN(ورقة1!F46))","v":"احمد "},{"$f":"INDEX(ورقة1!$A:$A,ROW(ورقة1!G46)*5-5+COLUMN(ورقة1!G46))","v":"احمد "},{"$f":"INDEX(ورقة1!$A:$A,ROW(ورقة1!H46)*5-5+COLUMN(ورقة1!H46))","v":"سعيد"},{"$f":"INDEX(ورقة1!$A:$A,ROW(ورقة1!I46)*5-5+COLUMN(ورقة1!I46))","v":"نادر"}]
[{"$f":"INDEX(ورقة1!$A:$A,ROW(ورقة1!A47)*5-5+COLUMN(ورقة1!A47))","v":"احمد "},{"$f":"INDEX(ورقة1!$A:$A,ROW(ورقة1!B47)*5-5+COLUMN(ورقة1!B47))","v":"احمد "},{"$f":"INDEX(ورقة1!$A:$A,ROW(ورقة1!C47)*5-5+COLUMN(ورقة1!C47))","v":"سعيد"},{"$f":"INDEX(ورقة1!$A:$A,ROW(ورقة1!D47)*5-5+COLUMN(ورقة1!D47))","v":"نادر"},{"$f":"INDEX(ورقة1!$A:$A,ROW(ورقة1!E47)*5-5+COLUMN(ورقة1!E47))","v":"حسان"},{"$f":"INDEX(ورقة1!$A:$A,ROW(ورقة1!F47)*5-5+COLUMN(ورقة1!F47))","v":"همام"},{"$f":"INDEX(ورقة1!$A:$A,ROW(ورقة1!G47)*5-5+COLUMN(ورقة1!G47))","v":"محمد"},{"$f":"INDEX(ورقة1!$A:$A,ROW(ورقة1!H47)*5-5+COLUMN(ورقة1!H47))","v":"احمد "},{"$f":"INDEX(ورقة1!$A:$A,ROW(ورقة1!I47)*5-5+COLUMN(ورقة1!I47))","v":"احمد "}]
[{"$f":"INDEX(ورقة1!$A:$A,ROW(ورقة1!A48)*5-5+COLUMN(ورقة1!A48))","v":"همام"},{"$f":"INDEX(ورقة1!$A:$A,ROW(ورقة1!B48)*5-5+COLUMN(ورقة1!B48))","v":"محمد"},{"$f":"INDEX(ورقة1!$A:$A,ROW(ورقة1!C48)*5-5+COLUMN(ورقة1!C48))","v":"احمد "},{"$f":"INDEX(ورقة1!$A:$A,ROW(ورقة1!D48)*5-5+COLUMN(ورقة1!D48))","v":"احمد "},{"$f":"INDEX(ورقة1!$A:$A,ROW(ورقة1!E48)*5-5+COLUMN(ورقة1!E48))","v":"سعيد"},{"$f":"INDEX(ورقة1!$A:$A,ROW(ورقة1!F48)*5-5+COLUMN(ورقة1!F48))","v":"نادر"},{"$f":"INDEX(ورقة1!$A:$A,ROW(ورقة1!G48)*5-5+COLUMN(ورقة1!G48))","v":"حسان"},{"$f":"INDEX(ورقة1!$A:$A,ROW(ورقة1!H48)*5-5+COLUMN(ورقة1!H48))","v":"همام"},{"$f":"INDEX(ورقة1!$A:$A,ROW(ورقة1!I48)*5-5+COLUMN(ورقة1!I48))","v":"محمد"}]
[{"$f":"INDEX(ورقة1!$A:$A,ROW(ورقة1!A49)*5-5+COLUMN(ورقة1!A49))","v":"نادر"},{"$f":"INDEX(ورقة1!$A:$A,ROW(ورقة1!B49)*5-5+COLUMN(ورقة1!B49))","v":"حسان"},{"$f":"INDEX(ورقة1!$A:$A,ROW(ورقة1!C49)*5-5+COLUMN(ورقة1!C49))","v":"همام"},{"$f":"INDEX(ورقة1!$A:$A,ROW(ورقة1!D49)*5-5+COLUMN(ورقة1!D49))","v":"محمد"},{"$f":"INDEX(ورقة1!$A:$A,ROW(ورقة1!E49)*5-5+COLUMN(ورقة1!E49))","v":"احمد "},{"$f":"INDEX(ورقة1!$A:$A,ROW(ورقة1!F49)*5-5+COLUMN(ورقة1!F49))","v":"احمد "},{"$f":"INDEX(ورقة1!$A:$A,ROW(ورقة1!G49)*5-5+COLUMN(ورقة1!G49))","v":"سعيد"},{"$f":"INDEX(ورقة1!$A:$A,ROW(ورقة1!H49)*5-5+COLUMN(ورقة1!H49))","v":"نادر"},{"$f":"INDEX(ورقة1!$A:$A,ROW(ورقة1!I49)*5-5+COLUMN(ورقة1!I49))","v":"حسان"}]
[{"$f":"INDEX(ورقة1!$A:$A,ROW(ورقة1!A50)*5-5+COLUMN(ورقة1!A50))","v":"احمد "},{"$f":"INDEX(ورقة1!$A:$A,ROW(ورقة1!B50)*5-5+COLUMN(ورقة1!B50))","v":"سعيد"},{"$f":"INDEX(ورقة1!$A:$A,ROW(ورقة1!C50)*5-5+COLUMN(ورقة1!C50))","v":"نادر"},{"$f":"INDEX(ورقة1!$A:$A,ROW(ورقة1!D50)*5-5+COLUMN(ورقة1!D50))","v":"حسان"},{"$f":"INDEX(ورقة1!$A:$A,ROW(ورقة1!E50)*5-5+COLUMN(ورقة1!E50))","v":"همام"},{"$f":"INDEX(ورقة1!$A:$A,ROW(ورقة1!F50)*5-5+COLUMN(ورقة1!F50))","v":"محمد"},{"$f":"INDEX(ورقة1!$A:$A,ROW(ورقة1!G50)*5-5+COLUMN(ورقة1!G50))","v":"احمد "},{"$f":"INDEX(ورقة1!$A:$A,ROW(ورقة1!H50)*5-5+COLUMN(ورقة1!H50))","v":"احمد "},{"$f":"INDEX(ورقة1!$A:$A,ROW(ورقة1!I50)*5-5+COLUMN(ورقة1!I50))","v":"سعيد"}]
[{"$f":"INDEX(ورقة1!$A:$A,ROW(ورقة1!A51)*5-5+COLUMN(ورقة1!A51))","v":"محمد"},{"$f":"INDEX(ورقة1!$A:$A,ROW(ورقة1!B51)*5-5+COLUMN(ورقة1!B51))","v":"احمد "},{"$f":"INDEX(ورقة1!$A:$A,ROW(ورقة1!C51)*5-5+COLUMN(ورقة1!C51))","v":"احمد "},{"$f":"INDEX(ورقة1!$A:$A,ROW(ورقة1!D51)*5-5+COLUMN(ورقة1!D51))","v":"سعيد"},{"$f":"INDEX(ورقة1!$A:$A,ROW(ورقة1!E51)*5-5+COLUMN(ورقة1!E51))","v":"نادر"},{"$f":"INDEX(ورقة1!$A:$A,ROW(ورقة1!F51)*5-5+COLUMN(ورقة1!F51))","v":"حسان"},{"$f":"INDEX(ورقة1!$A:$A,ROW(ورقة1!G51)*5-5+COLUMN(ورقة1!G51))","v":"همام"},{"$f":"INDEX(ورقة1!$A:$A,ROW(ورقة1!H51)*5-5+COLUMN(ورقة1!H51))","v":"محمد"},{"$f":"INDEX(ورقة1!$A:$A,ROW(ورقة1!I51)*5-5+COLUMN(ورقة1!I51))","v":"احمد "}]
[{"$f":"INDEX(ورقة1!$A:$A,ROW(ورقة1!A52)*5-5+COLUMN(ورقة1!A52))","v":"حسان"},{"$f":"INDEX(ورقة1!$A:$A,ROW(ورقة1!B52)*5-5+COLUMN(ورقة1!B52))","v":"همام"},{"$f":"INDEX(ورقة1!$A:$A,ROW(ورقة1!C52)*5-5+COLUMN(ورقة1!C52))","v":"محمد"},{"$f":"INDEX(ورقة1!$A:$A,ROW(ورقة1!D52)*5-5+COLUMN(ورقة1!D52))","v":"احمد "},{"$f":"INDEX(ورقة1!$A:$A,ROW(ورقة1!E52)*5-5+COLUMN(ورقة1!E52))","v":"احمد "},{"$f":"INDEX(ورقة1!$A:$A,ROW(ورقة1!F52)*5-5+COLUMN(ورقة1!F52))","v":"سعيد"},{"$f":"INDEX(ورقة1!$A:$A,ROW(ورقة1!G52)*5-5+COLUMN(ورقة1!G52))","v":"نادر"},{"$f":"INDEX(ورقة1!$A:$A,ROW(ورقة1!H52)*5-5+COLUMN(ورقة1!H52))","v":"حسان"},{"$f":"INDEX(ورقة1!$A:$A,ROW(ورقة1!I52)*5-5+COLUMN(ورقة1!I52))","v":"همام"}]
[{"$f":"INDEX(ورقة1!$A:$A,ROW(ورقة1!A53)*5-5+COLUMN(ورقة1!A53))","v":"سعيد"},{"$f":"INDEX(ورقة1!$A:$A,ROW(ورقة1!B53)*5-5+COLUMN(ورقة1!B53))","v":"نادر"},{"$f":"INDEX(ورقة1!$A:$A,ROW(ورقة1!C53)*5-5+COLUMN(ورقة1!C53))","v":"حسان"},{"$f":"INDEX(ورقة1!$A:$A,ROW(ورقة1!D53)*5-5+COLUMN(ورقة1!D53))","v":"همام"},{"$f":"INDEX(ورقة1!$A:$A,ROW(ورقة1!E53)*5-5+COLUMN(ورقة1!E53))","v":"محمد"},{"$f":"INDEX(ورقة1!$A:$A,ROW(ورقة1!F53)*5-5+COLUMN(ورقة1!F53))","v":"احمد "},{"$f":"INDEX(ورقة1!$A:$A,ROW(ورقة1!G53)*5-5+COLUMN(ورقة1!G53))","v":"احمد "},{"$f":"INDEX(ورقة1!$A:$A,ROW(ورقة1!H53)*5-5+COLUMN(ورقة1!H53))","v":"سعيد"},{"$f":"INDEX(ورقة1!$A:$A,ROW(ورقة1!I53)*5-5+COLUMN(ورقة1!I53))","v":"نادر"}]
[{"$f":"INDEX(ورقة1!$A:$A,ROW(ورقة1!A54)*5-5+COLUMN(ورقة1!A54))","v":"احمد "},{"$f":"INDEX(ورقة1!$A:$A,ROW(ورقة1!B54)*5-5+COLUMN(ورقة1!B54))","v":"احمد "},{"$f":"INDEX(ورقة1!$A:$A,ROW(ورقة1!C54)*5-5+COLUMN(ورقة1!C54))","v":"سعيد"},{"$f":"INDEX(ورقة1!$A:$A,ROW(ورقة1!D54)*5-5+COLUMN(ورقة1!D54))","v":"نادر"},{"$f":"INDEX(ورقة1!$A:$A,ROW(ورقة1!E54)*5-5+COLUMN(ورقة1!E54))","v":"حسان"},{"$f":"INDEX(ورقة1!$A:$A,ROW(ورقة1!F54)*5-5+COLUMN(ورقة1!F54))","v":"همام"},{"$f":"INDEX(ورقة1!$A:$A,ROW(ورقة1!G54)*5-5+COLUMN(ورقة1!G54))","v":"محمد"},{"$f":"INDEX(ورقة1!$A:$A,ROW(ورقة1!H54)*5-5+COLUMN(ورقة1!H54))","v":"احمد "},{"$f":"INDEX(ورقة1!$A:$A,ROW(ورقة1!I54)*5-5+COLUMN(ورقة1!I54))","v":"احمد "}]
[{"$f":"INDEX(ورقة1!$A:$A,ROW(ورقة1!A55)*5-5+COLUMN(ورقة1!A55))","v":"همام"},{"$f":"INDEX(ورقة1!$A:$A,ROW(ورقة1!B55)*5-5+COLUMN(ورقة1!B55))","v":"محمد"},{"$f":"INDEX(ورقة1!$A:$A,ROW(ورقة1!C55)*5-5+COLUMN(ورقة1!C55))","v":"احمد "},{"$f":"INDEX(ورقة1!$A:$A,ROW(ورقة1!D55)*5-5+COLUMN(ورقة1!D55))","v":"احمد "},{"$f":"INDEX(ورقة1!$A:$A,ROW(ورقة1!E55)*5-5+COLUMN(ورقة1!E55))","v":"سعيد"},{"$f":"INDEX(ورقة1!$A:$A,ROW(ورقة1!F55)*5-5+COLUMN(ورقة1!F55))","v":"نادر"},{"$f":"INDEX(ورقة1!$A:$A,ROW(ورقة1!G55)*5-5+COLUMN(ورقة1!G55))","v":"حسان"},{"$f":"INDEX(ورقة1!$A:$A,ROW(ورقة1!H55)*5-5+COLUMN(ورقة1!H55))","v":"همام"},{"$f":"INDEX(ورقة1!$A:$A,ROW(ورقة1!I55)*5-5+COLUMN(ورقة1!I55))","v":"محمد"}]
[{"$f":"INDEX(ورقة1!$A:$A,ROW(ورقة1!A56)*5-5+COLUMN(ورقة1!A56))","v":"نادر"},{"$f":"INDEX(ورقة1!$A:$A,ROW(ورقة1!B56)*5-5+COLUMN(ورقة1!B56))","v":"حسان"},{"$f":"INDEX(ورقة1!$A:$A,ROW(ورقة1!C56)*5-5+COLUMN(ورقة1!C56))","v":"همام"},{"$f":"INDEX(ورقة1!$A:$A,ROW(ورقة1!D56)*5-5+COLUMN(ورقة1!D56))","v":"محمد"},{"$f":"INDEX(ورقة1!$A:$A,ROW(ورقة1!E56)*5-5+COLUMN(ورقة1!E56))","v":"احمد "},{"$f":"INDEX(ورقة1!$A:$A,ROW(ورقة1!F56)*5-5+COLUMN(ورقة1!F56))","v":"احمد "},{"$f":"INDEX(ورقة1!$A:$A,ROW(ورقة1!G56)*5-5+COLUMN(ورقة1!G56))","v":"سعيد"},{"$f":"INDEX(ورقة1!$A:$A,ROW(ورقة1!H56)*5-5+COLUMN(ورقة1!H56))","v":"نادر"},{"$f":"INDEX(ورقة1!$A:$A,ROW(ورقة1!I56)*5-5+COLUMN(ورقة1!I56))","v":"حسان"}]
[{"$f":"INDEX(ورقة1!$A:$A,ROW(ورقة1!A57)*5-5+COLUMN(ورقة1!A57))","v":"احمد "},{"$f":"INDEX(ورقة1!$A:$A,ROW(ورقة1!B57)*5-5+COLUMN(ورقة1!B57))","v":"سعيد"},{"$f":"INDEX(ورقة1!$A:$A,ROW(ورقة1!C57)*5-5+COLUMN(ورقة1!C57))","v":"نادر"},{"$f":"INDEX(ورقة1!$A:$A,ROW(ورقة1!D57)*5-5+COLUMN(ورقة1!D57))","v":"حسان"},{"$f":"INDEX(ورقة1!$A:$A,ROW(ورقة1!E57)*5-5+COLUMN(ورقة1!E57))","v":"همام"},{"$f":"INDEX(ورقة1!$A:$A,ROW(ورقة1!F57)*5-5+COLUMN(ورقة1!F57))","v":"محمد"},{"$f":"INDEX(ورقة1!$A:$A,ROW(ورقة1!G57)*5-5+COLUMN(ورقة1!G57))","v":"احمد "},{"$f":"INDEX(ورقة1!$A:$A,ROW(ورقة1!H57)*5-5+COLUMN(ورقة1!H57))","v":"احمد "},{"$f":"INDEX(ورقة1!$A:$A,ROW(ورقة1!I57)*5-5+COLUMN(ورقة1!I57))","v":"سعيد"}]
[{"$f":"INDEX(ورقة1!$A:$A,ROW(ورقة1!A58)*5-5+COLUMN(ورقة1!A58))","v":"محمد"},{"$f":"INDEX(ورقة1!$A:$A,ROW(ورقة1!B58)*5-5+COLUMN(ورقة1!B58))","v":"احمد "},{"$f":"INDEX(ورقة1!$A:$A,ROW(ورقة1!C58)*5-5+COLUMN(ورقة1!C58))","v":"احمد "},{"$f":"INDEX(ورقة1!$A:$A,ROW(ورقة1!D58)*5-5+COLUMN(ورقة1!D58))","v":"سعيد"},{"$f":"INDEX(ورقة1!$A:$A,ROW(ورقة1!E58)*5-5+COLUMN(ورقة1!E58))","v":"نادر"},{"$f":"INDEX(ورقة1!$A:$A,ROW(ورقة1!F58)*5-5+COLUMN(ورقة1!F58))","v":"حسان"},{"$f":"INDEX(ورقة1!$A:$A,ROW(ورقة1!G58)*5-5+COLUMN(ورقة1!G58))","v":"همام"},{"$f":"INDEX(ورقة1!$A:$A,ROW(ورقة1!H58)*5-5+COLUMN(ورقة1!H58))","v":"محمد"},{"$f":"INDEX(ورقة1!$A:$A,ROW(ورقة1!I58)*5-5+COLUMN(ورقة1!I58))","v":"احمد "}]
[{"$f":"INDEX(ورقة1!$A:$A,ROW(ورقة1!A59)*5-5+COLUMN(ورقة1!A59))","v":"حسان"},{"$f":"INDEX(ورقة1!$A:$A,ROW(ورقة1!B59)*5-5+COLUMN(ورقة1!B59))","v":"همام"},{"$f":"INDEX(ورقة1!$A:$A,ROW(ورقة1!C59)*5-5+COLUMN(ورقة1!C59))","v":"محمد"},{"$f":"INDEX(ورقة1!$A:$A,ROW(ورقة1!D59)*5-5+COLUMN(ورقة1!D59))","v":"احمد "},{"$f":"INDEX(ورقة1!$A:$A,ROW(ورقة1!E59)*5-5+COLUMN(ورقة1!E59))","v":"احمد "},{"$f":"INDEX(ورقة1!$A:$A,ROW(ورقة1!F59)*5-5+COLUMN(ورقة1!F59))","v":"سعيد"},{"$f":"INDEX(ورقة1!$A:$A,ROW(ورقة1!G59)*5-5+COLUMN(ورقة1!G59))","v":"نادر"},{"$f":"INDEX(ورقة1!$A:$A,ROW(ورقة1!H59)*5-5+COLUMN(ورقة1!H59))","v":"حسان"},{"$f":"INDEX(ورقة1!$A:$A,ROW(ورقة1!I59)*5-5+COLUMN(ورقة1!I59))","v":"همام"}]
[{"$f":"INDEX(ورقة1!$A:$A,ROW(ورقة1!A60)*5-5+COLUMN(ورقة1!A60))","v":"سعيد"},{"$f":"INDEX(ورقة1!$A:$A,ROW(ورقة1!B60)*5-5+COLUMN(ورقة1!B60))","v":"نادر"},{"$f":"INDEX(ورقة1!$A:$A,ROW(ورقة1!C60)*5-5+COLUMN(ورقة1!C60))","v":"حسان"},{"$f":"INDEX(ورقة1!$A:$A,ROW(ورقة1!D60)*5-5+COLUMN(ورقة1!D60))","v":"همام"},{"$f":"INDEX(ورقة1!$A:$A,ROW(ورقة1!E60)*5-5+COLUMN(ورقة1!E60))","v":"محمد"},{"$f":"INDEX(ورقة1!$A:$A,ROW(ورقة1!F60)*5-5+COLUMN(ورقة1!F60))","v":"احمد "},{"$f":"INDEX(ورقة1!$A:$A,ROW(ورقة1!G60)*5-5+COLUMN(ورقة1!G60))","v":"احمد "},{"$f":"INDEX(ورقة1!$A:$A,ROW(ورقة1!H60)*5-5+COLUMN(ورقة1!H60))","v":"سعيد"},{"$f":"INDEX(ورقة1!$A:$A,ROW(ورقة1!I60)*5-5+COLUMN(ورقة1!I60))","v":"نادر"}]
[{"$f":"INDEX(ورقة1!$A:$A,ROW(ورقة1!A61)*5-5+COLUMN(ورقة1!A61))","v":"احمد "},{"$f":"INDEX(ورقة1!$A:$A,ROW(ورقة1!B61)*5-5+COLUMN(ورقة1!B61))","v":"احمد "},{"$f":"INDEX(ورقة1!$A:$A,ROW(ورقة1!C61)*5-5+COLUMN(ورقة1!C61))","v":"سعيد"},{"$f":"INDEX(ورقة1!$A:$A,ROW(ورقة1!D61)*5-5+COLUMN(ورقة1!D61))","v":"نادر"},{"$f":"INDEX(ورقة1!$A:$A,ROW(ورقة1!E61)*5-5+COLUMN(ورقة1!E61))","v":"حسان"},{"$f":"INDEX(ورقة1!$A:$A,ROW(ورقة1!F61)*5-5+COLUMN(ورقة1!F61))","v":"همام"},{"$f":"INDEX(ورقة1!$A:$A,ROW(ورقة1!G61)*5-5+COLUMN(ورقة1!G61))","v":"محمد"},{"$f":"INDEX(ورقة1!$A:$A,ROW(ورقة1!H61)*5-5+COLUMN(ورقة1!H61))","v":"احمد "},{"$f":"INDEX(ورقة1!$A:$A,ROW(ورقة1!I61)*5-5+COLUMN(ورقة1!I61))","v":"احمد "}]
[{"$f":"INDEX(ورقة1!$A:$A,ROW(ورقة1!A62)*5-5+COLUMN(ورقة1!A62))","v":"همام"},{"$f":"INDEX(ورقة1!$A:$A,ROW(ورقة1!B62)*5-5+COLUMN(ورقة1!B62))","v":"محمد"},{"$f":"INDEX(ورقة1!$A:$A,ROW(ورقة1!C62)*5-5+COLUMN(ورقة1!C62))","v":"احمد "},{"$f":"INDEX(ورقة1!$A:$A,ROW(ورقة1!D62)*5-5+COLUMN(ورقة1!D62))","v":"احمد "},{"$f":"INDEX(ورقة1!$A:$A,ROW(ورقة1!E62)*5-5+COLUMN(ورقة1!E62))","v":"سعيد"},{"$f":"INDEX(ورقة1!$A:$A,ROW(ورقة1!F62)*5-5+COLUMN(ورقة1!F62))","v":"نادر"},{"$f":"INDEX(ورقة1!$A:$A,ROW(ورقة1!G62)*5-5+COLUMN(ورقة1!G62))","v":"حسان"},{"$f":"INDEX(ورقة1!$A:$A,ROW(ورقة1!H62)*5-5+COLUMN(ورقة1!H62))","v":"همام"},{"$f":"INDEX(ورقة1!$A:$A,ROW(ورقة1!I62)*5-5+COLUMN(ورقة1!I62))","v":"محمد"}]
[{"$f":"INDEX(ورقة1!$A:$A,ROW(ورقة1!A63)*5-5+COLUMN(ورقة1!A63))","v":"نادر"},{"$f":"INDEX(ورقة1!$A:$A,ROW(ورقة1!B63)*5-5+COLUMN(ورقة1!B63))","v":"حسان"},{"$f":"INDEX(ورقة1!$A:$A,ROW(ورقة1!C63)*5-5+COLUMN(ورقة1!C63))","v":"همام"},{"$f":"INDEX(ورقة1!$A:$A,ROW(ورقة1!D63)*5-5+COLUMN(ورقة1!D63))","v":"محمد"},{"$f":"INDEX(ورقة1!$A:$A,ROW(ورقة1!E63)*5-5+COLUMN(ورقة1!E63))","v":"احمد "},{"$f":"INDEX(ورقة1!$A:$A,ROW(ورقة1!F63)*5-5+COLUMN(ورقة1!F63))","v":"احمد "},{"$f":"INDEX(ورقة1!$A:$A,ROW(ورقة1!G63)*5-5+COLUMN(ورقة1!G63))","v":"سعيد"},{"$f":"INDEX(ورقة1!$A:$A,ROW(ورقة1!H63)*5-5+COLUMN(ورقة1!H63))","v":"نادر"},{"$f":"INDEX(ورقة1!$A:$A,ROW(ورقة1!I63)*5-5+COLUMN(ورقة1!I63))","v":"حسان"}]
[{"$f":"INDEX(ورقة1!$A:$A,ROW(ورقة1!A64)*5-5+COLUMN(ورقة1!A64))","v":"احمد "},{"$f":"INDEX(ورقة1!$A:$A,ROW(ورقة1!B64)*5-5+COLUMN(ورقة1!B64))","v":"سعيد"},{"$f":"INDEX(ورقة1!$A:$A,ROW(ورقة1!C64)*5-5+COLUMN(ورقة1!C64))","v":"نادر"},{"$f":"INDEX(ورقة1!$A:$A,ROW(ورقة1!D64)*5-5+COLUMN(ورقة1!D64))","v":"حسان"},{"$f":"INDEX(ورقة1!$A:$A,ROW(ورقة1!E64)*5-5+COLUMN(ورقة1!E64))","v":"همام"},{"$f":"INDEX(ورقة1!$A:$A,ROW(ورقة1!F64)*5-5+COLUMN(ورقة1!F64))","v":"محمد"},{"$f":"INDEX(ورقة1!$A:$A,ROW(ورقة1!G64)*5-5+COLUMN(ورقة1!G64))","v":"احمد "},{"$f":"INDEX(ورقة1!$A:$A,ROW(ورقة1!H64)*5-5+COLUMN(ورقة1!H64))","v":"احمد "},{"$f":"INDEX(ورقة1!$A:$A,ROW(ورقة1!I64)*5-5+COLUMN(ورقة1!I64))","v":"سعيد"}]
[{"$f":"INDEX(ورقة1!$A:$A,ROW(ورقة1!A65)*5-5+COLUMN(ورقة1!A65))","v":"محمد"},{"$f":"INDEX(ورقة1!$A:$A,ROW(ورقة1!B65)*5-5+COLUMN(ورقة1!B65))","v":"احمد "},{"$f":"INDEX(ورقة1!$A:$A,ROW(ورقة1!C65)*5-5+COLUMN(ورقة1!C65))","v":"احمد "},{"$f":"INDEX(ورقة1!$A:$A,ROW(ورقة1!D65)*5-5+COLUMN(ورقة1!D65))","v":"سعيد"},{"$f":"INDEX(ورقة1!$A:$A,ROW(ورقة1!E65)*5-5+COLUMN(ورقة1!E65))","v":"نادر"},{"$f":"INDEX(ورقة1!$A:$A,ROW(ورقة1!F65)*5-5+COLUMN(ورقة1!F65))","v":"حسان"},{"$f":"INDEX(ورقة1!$A:$A,ROW(ورقة1!G65)*5-5+COLUMN(ورقة1!G65))","v":"همام"},{"$f":"INDEX(ورقة1!$A:$A,ROW(ورقة1!H65)*5-5+COLUMN(ورقة1!H65))","v":"محمد"},{"$f":"INDEX(ورقة1!$A:$A,ROW(ورقة1!I65)*5-5+COLUMN(ورقة1!I65))","v":"احمد "}]
[{"$f":"INDEX(ورقة1!$A:$A,ROW(ورقة1!A66)*5-5+COLUMN(ورقة1!A66))","v":"حسان"},{"$f":"INDEX(ورقة1!$A:$A,ROW(ورقة1!B66)*5-5+COLUMN(ورقة1!B66))","v":"همام"},{"$f":"INDEX(ورقة1!$A:$A,ROW(ورقة1!C66)*5-5+COLUMN(ورقة1!C66))","v":"محمد"},{"$f":"INDEX(ورقة1!$A:$A,ROW(ورقة1!D66)*5-5+COLUMN(ورقة1!D66))","v":"احمد "},{"$f":"INDEX(ورقة1!$A:$A,ROW(ورقة1!E66)*5-5+COLUMN(ورقة1!E66))","v":"احمد "},{"$f":"INDEX(ورقة1!$A:$A,ROW(ورقة1!F66)*5-5+COLUMN(ورقة1!F66))","v":"سعيد"},{"$f":"INDEX(ورقة1!$A:$A,ROW(ورقة1!G66)*5-5+COLUMN(ورقة1!G66))","v":"نادر"},{"$f":"INDEX(ورقة1!$A:$A,ROW(ورقة1!H66)*5-5+COLUMN(ورقة1!H66))","v":"حسان"},{"$f":"INDEX(ورقة1!$A:$A,ROW(ورقة1!I66)*5-5+COLUMN(ورقة1!I66))","v":"همام"}]
[{"$f":"INDEX(ورقة1!$A:$A,ROW(ورقة1!A67)*5-5+COLUMN(ورقة1!A67))","v":"سعيد"},{"$f":"INDEX(ورقة1!$A:$A,ROW(ورقة1!B67)*5-5+COLUMN(ورقة1!B67))","v":"نادر"},{"$f":"INDEX(ورقة1!$A:$A,ROW(ورقة1!C67)*5-5+COLUMN(ورقة1!C67))","v":"حسان"},{"$f":"INDEX(ورقة1!$A:$A,ROW(ورقة1!D67)*5-5+COLUMN(ورقة1!D67))","v":"همام"},{"$f":"INDEX(ورقة1!$A:$A,ROW(ورقة1!E67)*5-5+COLUMN(ورقة1!E67))","v":"محمد"},{"$f":"INDEX(ورقة1!$A:$A,ROW(ورقة1!F67)*5-5+COLUMN(ورقة1!F67))","v":"احمد "},{"$f":"INDEX(ورقة1!$A:$A,ROW(ورقة1!G67)*5-5+COLUMN(ورقة1!G67))","v":"احمد "},{"$f":"INDEX(ورقة1!$A:$A,ROW(ورقة1!H67)*5-5+COLUMN(ورقة1!H67))","v":"سعيد"},{"$f":"INDEX(ورقة1!$A:$A,ROW(ورقة1!I67)*5-5+COLUMN(ورقة1!I67))","v":"نادر"}]
[{"$f":"INDEX(ورقة1!$A:$A,ROW(ورقة1!A68)*5-5+COLUMN(ورقة1!A68))","v":"احمد "},{"$f":"INDEX(ورقة1!$A:$A,ROW(ورقة1!B68)*5-5+COLUMN(ورقة1!B68))","v":"احمد "},{"$f":"INDEX(ورقة1!$A:$A,ROW(ورقة1!C68)*5-5+COLUMN(ورقة1!C68))","v":"سعيد"},{"$f":"INDEX(ورقة1!$A:$A,ROW(ورقة1!D68)*5-5+COLUMN(ورقة1!D68))","v":"نادر"},{"$f":"INDEX(ورقة1!$A:$A,ROW(ورقة1!E68)*5-5+COLUMN(ورقة1!E68))","v":"حسان"},{"$f":"INDEX(ورقة1!$A:$A,ROW(ورقة1!F68)*5-5+COLUMN(ورقة1!F68))","v":"همام"},{"$f":"INDEX(ورقة1!$A:$A,ROW(ورقة1!G68)*5-5+COLUMN(ورقة1!G68))","v":"محمد"},{"$f":"INDEX(ورقة1!$A:$A,ROW(ورقة1!H68)*5-5+COLUMN(ورقة1!H68))","v":"احمد "},{"$f":"INDEX(ورقة1!$A:$A,ROW(ورقة1!I68)*5-5+COLUMN(ورقة1!I68))","v":"احمد "}]
[{"$f":"INDEX(ورقة1!$A:$A,ROW(ورقة1!A69)*5-5+COLUMN(ورقة1!A69))","v":"همام"},{"$f":"INDEX(ورقة1!$A:$A,ROW(ورقة1!B69)*5-5+COLUMN(ورقة1!B69))","v":"محمد"},{"$f":"INDEX(ورقة1!$A:$A,ROW(ورقة1!C69)*5-5+COLUMN(ورقة1!C69))","v":"احمد "},{"$f":"INDEX(ورقة1!$A:$A,ROW(ورقة1!D69)*5-5+COLUMN(ورقة1!D69))","v":"احمد "},{"$f":"INDEX(ورقة1!$A:$A,ROW(ورقة1!E69)*5-5+COLUMN(ورقة1!E69))","v":"سعيد"},{"$f":"INDEX(ورقة1!$A:$A,ROW(ورقة1!F69)*5-5+COLUMN(ورقة1!F69))","v":"نادر"},{"$f":"INDEX(ورقة1!$A:$A,ROW(ورقة1!G69)*5-5+COLUMN(ورقة1!G69))","v":"حسان"},{"$f":"INDEX(ورقة1!$A:$A,ROW(ورقة1!H69)*5-5+COLUMN(ورقة1!H69))","v":"همام"},{"$f":"INDEX(ورقة1!$A:$A,ROW(ورقة1!I69)*5-5+COLUMN(ورقة1!I69))","v":"محمد"}]
[{"$f":"INDEX(ورقة1!$A:$A,ROW(ورقة1!A70)*5-5+COLUMN(ورقة1!A70))","v":"نادر"},{"$f":"INDEX(ورقة1!$A:$A,ROW(ورقة1!B70)*5-5+COLUMN(ورقة1!B70))","v":"حسان"},{"$f":"INDEX(ورقة1!$A:$A,ROW(ورقة1!C70)*5-5+COLUMN(ورقة1!C70))","v":"همام"},{"$f":"INDEX(ورقة1!$A:$A,ROW(ورقة1!D70)*5-5+COLUMN(ورقة1!D70))","v":"محمد"},{"$f":"INDEX(ورقة1!$A:$A,ROW(ورقة1!E70)*5-5+COLUMN(ورقة1!E70))","v":"احمد "},{"$f":"INDEX(ورقة1!$A:$A,ROW(ورقة1!F70)*5-5+COLUMN(ورقة1!F70))","v":"احمد "},{"$f":"INDEX(ورقة1!$A:$A,ROW(ورقة1!G70)*5-5+COLUMN(ورقة1!G70))","v":"سعيد"},{"$f":"INDEX(ورقة1!$A:$A,ROW(ورقة1!H70)*5-5+COLUMN(ورقة1!H70))","v":"نادر"},{"$f":"INDEX(ورقة1!$A:$A,ROW(ورقة1!I70)*5-5+COLUMN(ورقة1!I70))","v":"حسان"}]
[{"$f":"INDEX(ورقة1!$A:$A,ROW(ورقة1!A71)*5-5+COLUMN(ورقة1!A71))","v":"احمد "},{"$f":"INDEX(ورقة1!$A:$A,ROW(ورقة1!B71)*5-5+COLUMN(ورقة1!B71))","v":"سعيد"},{"$f":"INDEX(ورقة1!$A:$A,ROW(ورقة1!C71)*5-5+COLUMN(ورقة1!C71))","v":"نادر"},{"$f":"INDEX(ورقة1!$A:$A,ROW(ورقة1!D71)*5-5+COLUMN(ورقة1!D71))","v":"حسان"},{"$f":"INDEX(ورقة1!$A:$A,ROW(ورقة1!E71)*5-5+COLUMN(ورقة1!E71))","v":"همام"},{"$f":"INDEX(ورقة1!$A:$A,ROW(ورقة1!F71)*5-5+COLUMN(ورقة1!F71))","v":"محمد"},{"$f":"INDEX(ورقة1!$A:$A,ROW(ورقة1!G71)*5-5+COLUMN(ورقة1!G71))","v":"احمد "},{"$f":"INDEX(ورقة1!$A:$A,ROW(ورقة1!H71)*5-5+COLUMN(ورقة1!H71))","v":"احمد "},{"$f":"INDEX(ورقة1!$A:$A,ROW(ورقة1!I71)*5-5+COLUMN(ورقة1!I71))","v":"سعيد"}]
[{"$f":"INDEX(ورقة1!$A:$A,ROW(ورقة1!A72)*5-5+COLUMN(ورقة1!A72))","v":"محمد"},{"$f":"INDEX(ورقة1!$A:$A,ROW(ورقة1!B72)*5-5+COLUMN(ورقة1!B72))","v":"احمد "},{"$f":"INDEX(ورقة1!$A:$A,ROW(ورقة1!C72)*5-5+COLUMN(ورقة1!C72))","v":"احمد "},{"$f":"INDEX(ورقة1!$A:$A,ROW(ورقة1!D72)*5-5+COLUMN(ورقة1!D72))","v":"سعيد"},{"$f":"INDEX(ورقة1!$A:$A,ROW(ورقة1!E72)*5-5+COLUMN(ورقة1!E72))","v":"نادر"},{"$f":"INDEX(ورقة1!$A:$A,ROW(ورقة1!F72)*5-5+COLUMN(ورقة1!F72))","v":"حسان"},{"$f":"INDEX(ورقة1!$A:$A,ROW(ورقة1!G72)*5-5+COLUMN(ورقة1!G72))","v":"همام"},{"$f":"INDEX(ورقة1!$A:$A,ROW(ورقة1!H72)*5-5+COLUMN(ورقة1!H72))","v":"محمد"},{"$f":"INDEX(ورقة1!$A:$A,ROW(ورقة1!I72)*5-5+COLUMN(ورقة1!I72))","v":"احمد "}]
[{"$f":"INDEX(ورقة1!$A:$A,ROW(ورقة1!A73)*5-5+COLUMN(ورقة1!A73))","v":"حسان"},{"$f":"INDEX(ورقة1!$A:$A,ROW(ورقة1!B73)*5-5+COLUMN(ورقة1!B73))","v":"همام"},{"$f":"INDEX(ورقة1!$A:$A,ROW(ورقة1!C73)*5-5+COLUMN(ورقة1!C73))","v":"محمد"},{"$f":"INDEX(ورقة1!$A:$A,ROW(ورقة1!D73)*5-5+COLUMN(ورقة1!D73))","v":"احمد "},{"$f":"INDEX(ورقة1!$A:$A,ROW(ورقة1!E73)*5-5+COLUMN(ورقة1!E73))","v":"احمد "},{"$f":"INDEX(ورقة1!$A:$A,ROW(ورقة1!F73)*5-5+COLUMN(ورقة1!F73))","v":"سعيد"},{"$f":"INDEX(ورقة1!$A:$A,ROW(ورقة1!G73)*5-5+COLUMN(ورقة1!G73))","v":"نادر"},{"$f":"INDEX(ورقة1!$A:$A,ROW(ورقة1!H73)*5-5+COLUMN(ورقة1!H73))","v":"حسان"},{"$f":"INDEX(ورقة1!$A:$A,ROW(ورقة1!I73)*5-5+COLUMN(ورقة1!I73))","v":"همام"}]
[{"$f":"INDEX(ورقة1!$A:$A,ROW(ورقة1!A74)*5-5+COLUMN(ورقة1!A74))","v":"سعيد"},{"$f":"INDEX(ورقة1!$A:$A,ROW(ورقة1!B74)*5-5+COLUMN(ورقة1!B74))","v":"نادر"},{"$f":"INDEX(ورقة1!$A:$A,ROW(ورقة1!C74)*5-5+COLUMN(ورقة1!C74))","v":"حسان"},{"$f":"INDEX(ورقة1!$A:$A,ROW(ورقة1!D74)*5-5+COLUMN(ورقة1!D74))","v":"همام"},{"$f":"INDEX(ورقة1!$A:$A,ROW(ورقة1!E74)*5-5+COLUMN(ورقة1!E74))","v":"محمد"},{"$f":"INDEX(ورقة1!$A:$A,ROW(ورقة1!F74)*5-5+COLUMN(ورقة1!F74))","v":"احمد "},{"$f":"INDEX(ورقة1!$A:$A,ROW(ورقة1!G74)*5-5+COLUMN(ورقة1!G74))","v":"احمد "},{"$f":"INDEX(ورقة1!$A:$A,ROW(ورقة1!H74)*5-5+COLUMN(ورقة1!H74))","v":"سعيد"},{"$f":"INDEX(ورقة1!$A:$A,ROW(ورقة1!I74)*5-5+COLUMN(ورقة1!I74))","v":"نادر"}]
[{"$f":"INDEX(ورقة1!$A:$A,ROW(ورقة1!A75)*5-5+COLUMN(ورقة1!A75))","v":"احمد "},{"$f":"INDEX(ورقة1!$A:$A,ROW(ورقة1!B75)*5-5+COLUMN(ورقة1!B75))","v":"احمد "},{"$f":"INDEX(ورقة1!$A:$A,ROW(ورقة1!C75)*5-5+COLUMN(ورقة1!C75))","v":"سعيد"},{"$f":"INDEX(ورقة1!$A:$A,ROW(ورقة1!D75)*5-5+COLUMN(ورقة1!D75))","v":"نادر"},{"$f":"INDEX(ورقة1!$A:$A,ROW(ورقة1!E75)*5-5+COLUMN(ورقة1!E75))","v":"حسان"},{"$f":"INDEX(ورقة1!$A:$A,ROW(ورقة1!F75)*5-5+COLUMN(ورقة1!F75))","v":"همام"},{"$f":"INDEX(ورقة1!$A:$A,ROW(ورقة1!G75)*5-5+COLUMN(ورقة1!G75))","v":"محمد"},{"$f":"INDEX(ورقة1!$A:$A,ROW(ورقة1!H75)*5-5+COLUMN(ورقة1!H75))","v":"احمد "},{"$f":"INDEX(ورقة1!$A:$A,ROW(ورقة1!I75)*5-5+COLUMN(ورقة1!I75))","v":"احمد "}]
[{"$f":"INDEX(ورقة1!$A:$A,ROW(ورقة1!A76)*5-5+COLUMN(ورقة1!A76))","v":"همام"},{"$f":"INDEX(ورقة1!$A:$A,ROW(ورقة1!B76)*5-5+COLUMN(ورقة1!B76))","v":"محمد"},{"$f":"INDEX(ورقة1!$A:$A,ROW(ورقة1!C76)*5-5+COLUMN(ورقة1!C76))","v":"احمد "},{"$f":"INDEX(ورقة1!$A:$A,ROW(ورقة1!D76)*5-5+COLUMN(ورقة1!D76))","v":"احمد "},{"$f":"INDEX(ورقة1!$A:$A,ROW(ورقة1!E76)*5-5+COLUMN(ورقة1!E76))","v":"سعيد"},{"$f":"INDEX(ورقة1!$A:$A,ROW(ورقة1!F76)*5-5+COLUMN(ورقة1!F76))","v":"نادر"},{"$f":"INDEX(ورقة1!$A:$A,ROW(ورقة1!G76)*5-5+COLUMN(ورقة1!G76))","v":"حسان"},{"$f":"INDEX(ورقة1!$A:$A,ROW(ورقة1!H76)*5-5+COLUMN(ورقة1!H76))","v":"همام"},{"$f":"INDEX(ورقة1!$A:$A,ROW(ورقة1!I76)*5-5+COLUMN(ورقة1!I76))","v":"محمد"}]
[{"$f":"INDEX(ورقة1!$A:$A,ROW(ورقة1!A77)*5-5+COLUMN(ورقة1!A77))","v":"نادر"},{"$f":"INDEX(ورقة1!$A:$A,ROW(ورقة1!B77)*5-5+COLUMN(ورقة1!B77))","v":"حسان"},{"$f":"INDEX(ورقة1!$A:$A,ROW(ورقة1!C77)*5-5+COLUMN(ورقة1!C77))","v":"همام"},{"$f":"INDEX(ورقة1!$A:$A,ROW(ورقة1!D77)*5-5+COLUMN(ورقة1!D77))","v":"محمد"},{"$f":"INDEX(ورقة1!$A:$A,ROW(ورقة1!E77)*5-5+COLUMN(ورقة1!E77))","v":"احمد "},{"$f":"INDEX(ورقة1!$A:$A,ROW(ورقة1!F77)*5-5+COLUMN(ورقة1!F77))","v":"احمد "},{"$f":"INDEX(ورقة1!$A:$A,ROW(ورقة1!G77)*5-5+COLUMN(ورقة1!G77))","v":"سعيد"},{"$f":"INDEX(ورقة1!$A:$A,ROW(ورقة1!H77)*5-5+COLUMN(ورقة1!H77))","v":"نادر"},{"$f":"INDEX(ورقة1!$A:$A,ROW(ورقة1!I77)*5-5+COLUMN(ورقة1!I77))","v":"حسان"}]
[{"$f":"INDEX(ورقة1!$A:$A,ROW(ورقة1!A78)*5-5+COLUMN(ورقة1!A78))","v":"احمد "},{"$f":"INDEX(ورقة1!$A:$A,ROW(ورقة1!B78)*5-5+COLUMN(ورقة1!B78))","v":"سعيد"},{"$f":"INDEX(ورقة1!$A:$A,ROW(ورقة1!C78)*5-5+COLUMN(ورقة1!C78))","v":"نادر"},{"$f":"INDEX(ورقة1!$A:$A,ROW(ورقة1!D78)*5-5+COLUMN(ورقة1!D78))","v":"حسان"},{"$f":"INDEX(ورقة1!$A:$A,ROW(ورقة1!E78)*5-5+COLUMN(ورقة1!E78))","v":"همام"},{"$f":"INDEX(ورقة1!$A:$A,ROW(ورقة1!F78)*5-5+COLUMN(ورقة1!F78))","v":"محمد"},{"$f":"INDEX(ورقة1!$A:$A,ROW(ورقة1!G78)*5-5+COLUMN(ورقة1!G78))","v":"احمد "},{"$f":"INDEX(ورقة1!$A:$A,ROW(ورقة1!H78)*5-5+COLUMN(ورقة1!H78))","v":"احمد "},{"$f":"INDEX(ورقة1!$A:$A,ROW(ورقة1!I78)*5-5+COLUMN(ورقة1!I78))","v":"سعيد"}]
[{"$f":"INDEX(ورقة1!$A:$A,ROW(ورقة1!A79)*5-5+COLUMN(ورقة1!A79))","v":"محمد"},{"$f":"INDEX(ورقة1!$A:$A,ROW(ورقة1!B79)*5-5+COLUMN(ورقة1!B79))","v":"احمد "},{"$f":"INDEX(ورقة1!$A:$A,ROW(ورقة1!C79)*5-5+COLUMN(ورقة1!C79))","v":"احمد "},{"$f":"INDEX(ورقة1!$A:$A,ROW(ورقة1!D79)*5-5+COLUMN(ورقة1!D79))","v":"سعيد"},{"$f":"INDEX(ورقة1!$A:$A,ROW(ورقة1!E79)*5-5+COLUMN(ورقة1!E79))","v":"نادر"},{"$f":"INDEX(ورقة1!$A:$A,ROW(ورقة1!F79)*5-5+COLUMN(ورقة1!F79))","v":"حسان"},{"$f":"INDEX(ورقة1!$A:$A,ROW(ورقة1!G79)*5-5+COLUMN(ورقة1!G79))","v":"همام"},{"$f":"INDEX(ورقة1!$A:$A,ROW(ورقة1!H79)*5-5+COLUMN(ورقة1!H79))","v":"محمد"},{"$f":"INDEX(ورقة1!$A:$A,ROW(ورقة1!I79)*5-5+COLUMN(ورقة1!I79))","v":"احمد "}]
[{"$f":"INDEX(ورقة1!$A:$A,ROW(ورقة1!A80)*5-5+COLUMN(ورقة1!A80))","v":"حسان"},{"$f":"INDEX(ورقة1!$A:$A,ROW(ورقة1!B80)*5-5+COLUMN(ورقة1!B80))","v":"همام"},{"$f":"INDEX(ورقة1!$A:$A,ROW(ورقة1!C80)*5-5+COLUMN(ورقة1!C80))","v":"محمد"},{"$f":"INDEX(ورقة1!$A:$A,ROW(ورقة1!D80)*5-5+COLUMN(ورقة1!D80))","v":"احمد "},{"$f":"INDEX(ورقة1!$A:$A,ROW(ورقة1!E80)*5-5+COLUMN(ورقة1!E80))","v":"احمد "},{"$f":"INDEX(ورقة1!$A:$A,ROW(ورقة1!F80)*5-5+COLUMN(ورقة1!F80))","v":"سعيد"},{"$f":"INDEX(ورقة1!$A:$A,ROW(ورقة1!G80)*5-5+COLUMN(ورقة1!G80))","v":"نادر"},{"$f":"INDEX(ورقة1!$A:$A,ROW(ورقة1!H80)*5-5+COLUMN(ورقة1!H80))","v":"حسان"},{"$f":"INDEX(ورقة1!$A:$A,ROW(ورقة1!I80)*5-5+COLUMN(ورقة1!I80))","v":"همام"}]
[{"$f":"INDEX(ورقة1!$A:$A,ROW(ورقة1!A81)*5-5+COLUMN(ورقة1!A81))","v":"سعيد"},{"$f":"INDEX(ورقة1!$A:$A,ROW(ورقة1!B81)*5-5+COLUMN(ورقة1!B81))","v":"نادر"},{"$f":"INDEX(ورقة1!$A:$A,ROW(ورقة1!C81)*5-5+COLUMN(ورقة1!C81))","v":"حسان"},{"$f":"INDEX(ورقة1!$A:$A,ROW(ورقة1!D81)*5-5+COLUMN(ورقة1!D81))","v":"همام"},{"$f":"INDEX(ورقة1!$A:$A,ROW(ورقة1!E81)*5-5+COLUMN(ورقة1!E81))","v":"محمد"},{"$f":"INDEX(ورقة1!$A:$A,ROW(ورقة1!F81)*5-5+COLUMN(ورقة1!F81))","v":"احمد "},{"$f":"INDEX(ورقة1!$A:$A,ROW(ورقة1!G81)*5-5+COLUMN(ورقة1!G81))","v":"احمد "},{"$f":"INDEX(ورقة1!$A:$A,ROW(ورقة1!H81)*5-5+COLUMN(ورقة1!H81))","v":"سعيد"},{"$f":"INDEX(ورقة1!$A:$A,ROW(ورقة1!I81)*5-5+COLUMN(ورقة1!I81))","v":"نادر"}]
[{"$f":"INDEX(ورقة1!$A:$A,ROW(ورقة1!A82)*5-5+COLUMN(ورقة1!A82))","v":"احمد "},{"$f":"INDEX(ورقة1!$A:$A,ROW(ورقة1!B82)*5-5+COLUMN(ورقة1!B82))","v":"احمد "},{"$f":"INDEX(ورقة1!$A:$A,ROW(ورقة1!C82)*5-5+COLUMN(ورقة1!C82))","v":"سعيد"},{"$f":"INDEX(ورقة1!$A:$A,ROW(ورقة1!D82)*5-5+COLUMN(ورقة1!D82))","v":"نادر"},{"$f":"INDEX(ورقة1!$A:$A,ROW(ورقة1!E82)*5-5+COLUMN(ورقة1!E82))","v":"حسان"},{"$f":"INDEX(ورقة1!$A:$A,ROW(ورقة1!F82)*5-5+COLUMN(ورقة1!F82))","v":"همام"},{"$f":"INDEX(ورقة1!$A:$A,ROW(ورقة1!G82)*5-5+COLUMN(ورقة1!G82))","v":"محمد"},{"$f":"INDEX(ورقة1!$A:$A,ROW(ورقة1!H82)*5-5+COLUMN(ورقة1!H82))","v":"احمد "},{"$f":"INDEX(ورقة1!$A:$A,ROW(ورقة1!I82)*5-5+COLUMN(ورقة1!I82))","v":"احمد "}]
[{"$f":"INDEX(ورقة1!$A:$A,ROW(ورقة1!A83)*5-5+COLUMN(ورقة1!A83))","v":"همام"},{"$f":"INDEX(ورقة1!$A:$A,ROW(ورقة1!B83)*5-5+COLUMN(ورقة1!B83))","v":"محمد"},{"$f":"INDEX(ورقة1!$A:$A,ROW(ورقة1!C83)*5-5+COLUMN(ورقة1!C83))","v":"احمد "},{"$f":"INDEX(ورقة1!$A:$A,ROW(ورقة1!D83)*5-5+COLUMN(ورقة1!D83))","v":"احمد "},{"$f":"INDEX(ورقة1!$A:$A,ROW(ورقة1!E83)*5-5+COLUMN(ورقة1!E83))","v":"سعيد"},{"$f":"INDEX(ورقة1!$A:$A,ROW(ورقة1!F83)*5-5+COLUMN(ورقة1!F83))","v":"نادر"},{"$f":"INDEX(ورقة1!$A:$A,ROW(ورقة1!G83)*5-5+COLUMN(ورقة1!G83))","v":"حسان"},{"$f":"INDEX(ورقة1!$A:$A,ROW(ورقة1!H83)*5-5+COLUMN(ورقة1!H83))","v":"همام"},{"$f":"INDEX(ورقة1!$A:$A,ROW(ورقة1!I83)*5-5+COLUMN(ورقة1!I83))","v":"محمد"}]
[{"$f":"INDEX(ورقة1!$A:$A,ROW(ورقة1!A84)*5-5+COLUMN(ورقة1!A84))","v":"نادر"},{"$f":"INDEX(ورقة1!$A:$A,ROW(ورقة1!B84)*5-5+COLUMN(ورقة1!B84))","v":"حسان"},{"$f":"INDEX(ورقة1!$A:$A,ROW(ورقة1!C84)*5-5+COLUMN(ورقة1!C84))","v":"همام"},{"$f":"INDEX(ورقة1!$A:$A,ROW(ورقة1!D84)*5-5+COLUMN(ورقة1!D84))","v":"محمد"},{"$f":"INDEX(ورقة1!$A:$A,ROW(ورقة1!E84)*5-5+COLUMN(ورقة1!E84))","v":"احمد "},{"$f":"INDEX(ورقة1!$A:$A,ROW(ورقة1!F84)*5-5+COLUMN(ورقة1!F84))","v":"احمد "},{"$f":"INDEX(ورقة1!$A:$A,ROW(ورقة1!G84)*5-5+COLUMN(ورقة1!G84))","v":"سعيد"},{"$f":"INDEX(ورقة1!$A:$A,ROW(ورقة1!H84)*5-5+COLUMN(ورقة1!H84))","v":"نادر"},{"$f":"INDEX(ورقة1!$A:$A,ROW(ورقة1!I84)*5-5+COLUMN(ورقة1!I84))","v":"حسان"}]
[{"$f":"INDEX(ورقة1!$A:$A,ROW(ورقة1!A85)*5-5+COLUMN(ورقة1!A85))","v":"احمد "},{"$f":"INDEX(ورقة1!$A:$A,ROW(ورقة1!B85)*5-5+COLUMN(ورقة1!B85))","v":"سعيد"},{"$f":"INDEX(ورقة1!$A:$A,ROW(ورقة1!C85)*5-5+COLUMN(ورقة1!C85))","v":"نادر"},{"$f":"INDEX(ورقة1!$A:$A,ROW(ورقة1!D85)*5-5+COLUMN(ورقة1!D85))","v":"حسان"},{"$f":"INDEX(ورقة1!$A:$A,ROW(ورقة1!E85)*5-5+COLUMN(ورقة1!E85))","v":"همام"},{"$f":"INDEX(ورقة1!$A:$A,ROW(ورقة1!F85)*5-5+COLUMN(ورقة1!F85))","v":"محمد"},{"$f":"INDEX(ورقة1!$A:$A,ROW(ورقة1!G85)*5-5+COLUMN(ورقة1!G85))","v":"احمد "},{"$f":"INDEX(ورقة1!$A:$A,ROW(ورقة1!H85)*5-5+COLUMN(ورقة1!H85))","v":"احمد "},{"$f":"INDEX(ورقة1!$A:$A,ROW(ورقة1!I85)*5-5+COLUMN(ورقة1!I85))","v":"سعيد"}]
[{"$f":"INDEX(ورقة1!$A:$A,ROW(ورقة1!A86)*5-5+COLUMN(ورقة1!A86))","v":"محمد"},{"$f":"INDEX(ورقة1!$A:$A,ROW(ورقة1!B86)*5-5+COLUMN(ورقة1!B86))","v":"احمد "},{"$f":"INDEX(ورقة1!$A:$A,ROW(ورقة1!C86)*5-5+COLUMN(ورقة1!C86))","v":"احمد "},{"$f":"INDEX(ورقة1!$A:$A,ROW(ورقة1!D86)*5-5+COLUMN(ورقة1!D86))","v":"سعيد"},{"$f":"INDEX(ورقة1!$A:$A,ROW(ورقة1!E86)*5-5+COLUMN(ورقة1!E86))","v":"نادر"},{"$f":"INDEX(ورقة1!$A:$A,ROW(ورقة1!F86)*5-5+COLUMN(ورقة1!F86))","v":"حسان"},{"$f":"INDEX(ورقة1!$A:$A,ROW(ورقة1!G86)*5-5+COLUMN(ورقة1!G86))","v":"همام"},{"$f":"INDEX(ورقة1!$A:$A,ROW(ورقة1!H86)*5-5+COLUMN(ورقة1!H86))","v":"محمد"},{"$f":"INDEX(ورقة1!$A:$A,ROW(ورقة1!I86)*5-5+COLUMN(ورقة1!I86))","v":"احمد "}]
[{"$f":"INDEX(ورقة1!$A:$A,ROW(ورقة1!A87)*5-5+COLUMN(ورقة1!A87))","v":"حسان"},{"$f":"INDEX(ورقة1!$A:$A,ROW(ورقة1!B87)*5-5+COLUMN(ورقة1!B87))","v":"همام"},{"$f":"INDEX(ورقة1!$A:$A,ROW(ورقة1!C87)*5-5+COLUMN(ورقة1!C87))","v":"محمد"},{"$f":"INDEX(ورقة1!$A:$A,ROW(ورقة1!D87)*5-5+COLUMN(ورقة1!D87))","v":"احمد "},{"$f":"INDEX(ورقة1!$A:$A,ROW(ورقة1!E87)*5-5+COLUMN(ورقة1!E87))","v":"احمد "},{"$f":"INDEX(ورقة1!$A:$A,ROW(ورقة1!F87)*5-5+COLUMN(ورقة1!F87))","v":"سعيد"},{"$f":"INDEX(ورقة1!$A:$A,ROW(ورقة1!G87)*5-5+COLUMN(ورقة1!G87))","v":"نادر"},{"$f":"INDEX(ورقة1!$A:$A,ROW(ورقة1!H87)*5-5+COLUMN(ورقة1!H87))","v":"حسان"},{"$f":"INDEX(ورقة1!$A:$A,ROW(ورقة1!I87)*5-5+COLUMN(ورقة1!I87))","v":"همام"}]
[{"$f":"INDEX(ورقة1!$A:$A,ROW(ورقة1!A88)*5-5+COLUMN(ورقة1!A88))","v":"سعيد"},{"$f":"INDEX(ورقة1!$A:$A,ROW(ورقة1!B88)*5-5+COLUMN(ورقة1!B88))","v":"نادر"},{"$f":"INDEX(ورقة1!$A:$A,ROW(ورقة1!C88)*5-5+COLUMN(ورقة1!C88))","v":"حسان"},{"$f":"INDEX(ورقة1!$A:$A,ROW(ورقة1!D88)*5-5+COLUMN(ورقة1!D88))","v":"همام"},{"$f":"INDEX(ورقة1!$A:$A,ROW(ورقة1!E88)*5-5+COLUMN(ورقة1!E88))","v":"محمد"},{"$f":"INDEX(ورقة1!$A:$A,ROW(ورقة1!F88)*5-5+COLUMN(ورقة1!F88))","v":"احمد "},{"$f":"INDEX(ورقة1!$A:$A,ROW(ورقة1!G88)*5-5+COLUMN(ورقة1!G88))","v":"احمد "},{"$f":"INDEX(ورقة1!$A:$A,ROW(ورقة1!H88)*5-5+COLUMN(ورقة1!H88))","v":"سعيد"},{"$f":"INDEX(ورقة1!$A:$A,ROW(ورقة1!I88)*5-5+COLUMN(ورقة1!I88))","v":"نادر"}]
[{"$f":"INDEX(ورقة1!$A:$A,ROW(ورقة1!A89)*5-5+COLUMN(ورقة1!A89))","v":"احمد "},{"$f":"INDEX(ورقة1!$A:$A,ROW(ورقة1!B89)*5-5+COLUMN(ورقة1!B89))","v":"احمد "},{"$f":"INDEX(ورقة1!$A:$A,ROW(ورقة1!C89)*5-5+COLUMN(ورقة1!C89))","v":"سعيد"},{"$f":"INDEX(ورقة1!$A:$A,ROW(ورقة1!D89)*5-5+COLUMN(ورقة1!D89))","v":"نادر"},{"$f":"INDEX(ورقة1!$A:$A,ROW(ورقة1!E89)*5-5+COLUMN(ورقة1!E89))","v":"حسان"},{"$f":"INDEX(ورقة1!$A:$A,ROW(ورقة1!F89)*5-5+COLUMN(ورقة1!F89))","v":"همام"},{"$f":"INDEX(ورقة1!$A:$A,ROW(ورقة1!G89)*5-5+COLUMN(ورقة1!G89))","v":"محمد"},{"$f":"INDEX(ورقة1!$A:$A,ROW(ورقة1!H89)*5-5+COLUMN(ورقة1!H89))","v":"احمد "},{"$f":"INDEX(ورقة1!$A:$A,ROW(ورقة1!I89)*5-5+COLUMN(ورقة1!I89))","v":"احمد "}]
[{"$f":"INDEX(ورقة1!$A:$A,ROW(ورقة1!A90)*5-5+COLUMN(ورقة1!A90))","v":"همام"},{"$f":"INDEX(ورقة1!$A:$A,ROW(ورقة1!B90)*5-5+COLUMN(ورقة1!B90))","v":"محمد"},{"$f":"INDEX(ورقة1!$A:$A,ROW(ورقة1!C90)*5-5+COLUMN(ورقة1!C90))","v":"احمد "},{"$f":"INDEX(ورقة1!$A:$A,ROW(ورقة1!D90)*5-5+COLUMN(ورقة1!D90))","v":"احمد "},{"$f":"INDEX(ورقة1!$A:$A,ROW(ورقة1!E90)*5-5+COLUMN(ورقة1!E90))","v":"سعيد"},{"$f":"INDEX(ورقة1!$A:$A,ROW(ورقة1!F90)*5-5+COLUMN(ورقة1!F90))","v":"نادر"},{"$f":"INDEX(ورقة1!$A:$A,ROW(ورقة1!G90)*5-5+COLUMN(ورقة1!G90))","v":"حسان"},{"$f":"INDEX(ورقة1!$A:$A,ROW(ورقة1!H90)*5-5+COLUMN(ورقة1!H90))","v":"همام"},{"$f":"INDEX(ورقة1!$A:$A,ROW(ورقة1!I90)*5-5+COLUMN(ورقة1!I90))","v":"محمد"}]
[{"$f":"INDEX(ورقة1!$A:$A,ROW(ورقة1!A91)*5-5+COLUMN(ورقة1!A91))","v":"نادر"},{"$f":"INDEX(ورقة1!$A:$A,ROW(ورقة1!B91)*5-5+COLUMN(ورقة1!B91))","v":"حسان"},{"$f":"INDEX(ورقة1!$A:$A,ROW(ورقة1!C91)*5-5+COLUMN(ورقة1!C91))","v":"همام"},{"$f":"INDEX(ورقة1!$A:$A,ROW(ورقة1!D91)*5-5+COLUMN(ورقة1!D91))","v":"محمد"},{"$f":"INDEX(ورقة1!$A:$A,ROW(ورقة1!E91)*5-5+COLUMN(ورقة1!E91))","v":"احمد "},{"$f":"INDEX(ورقة1!$A:$A,ROW(ورقة1!F91)*5-5+COLUMN(ورقة1!F91))","v":"احمد "},{"$f":"INDEX(ورقة1!$A:$A,ROW(ورقة1!G91)*5-5+COLUMN(ورقة1!G91))","v":"سعيد"},{"$f":"INDEX(ورقة1!$A:$A,ROW(ورقة1!H91)*5-5+COLUMN(ورقة1!H91))","v":"نادر"},{"$f":"INDEX(ورقة1!$A:$A,ROW(ورقة1!I91)*5-5+COLUMN(ورقة1!I91))","v":"حسان"}]
[{"$f":"INDEX(ورقة1!$A:$A,ROW(ورقة1!A92)*5-5+COLUMN(ورقة1!A92))","v":"احمد "},{"$f":"INDEX(ورقة1!$A:$A,ROW(ورقة1!B92)*5-5+COLUMN(ورقة1!B92))","v":"سعيد"},{"$f":"INDEX(ورقة1!$A:$A,ROW(ورقة1!C92)*5-5+COLUMN(ورقة1!C92))","v":"نادر"},{"$f":"INDEX(ورقة1!$A:$A,ROW(ورقة1!D92)*5-5+COLUMN(ورقة1!D92))","v":"حسان"},{"$f":"INDEX(ورقة1!$A:$A,ROW(ورقة1!E92)*5-5+COLUMN(ورقة1!E92))","v":"همام"},{"$f":"INDEX(ورقة1!$A:$A,ROW(ورقة1!F92)*5-5+COLUMN(ورقة1!F92))","v":"محمد"},{"$f":"INDEX(ورقة1!$A:$A,ROW(ورقة1!G92)*5-5+COLUMN(ورقة1!G92))","v":"احمد "},{"$f":"INDEX(ورقة1!$A:$A,ROW(ورقة1!H92)*5-5+COLUMN(ورقة1!H92))","v":"احمد "},{"$f":"INDEX(ورقة1!$A:$A,ROW(ورقة1!I92)*5-5+COLUMN(ورقة1!I92))","v":"سعيد"}]
[{"$f":"INDEX(ورقة1!$A:$A,ROW(ورقة1!A93)*5-5+COLUMN(ورقة1!A93))","v":"محمد"},{"$f":"INDEX(ورقة1!$A:$A,ROW(ورقة1!B93)*5-5+COLUMN(ورقة1!B93))","v":"احمد "},{"$f":"INDEX(ورقة1!$A:$A,ROW(ورقة1!C93)*5-5+COLUMN(ورقة1!C93))","v":"احمد "},{"$f":"INDEX(ورقة1!$A:$A,ROW(ورقة1!D93)*5-5+COLUMN(ورقة1!D93))","v":"سعيد"},{"$f":"INDEX(ورقة1!$A:$A,ROW(ورقة1!E93)*5-5+COLUMN(ورقة1!E93))","v":"نادر"},{"$f":"INDEX(ورقة1!$A:$A,ROW(ورقة1!F93)*5-5+COLUMN(ورقة1!F93))","v":"حسان"},{"$f":"INDEX(ورقة1!$A:$A,ROW(ورقة1!G93)*5-5+COLUMN(ورقة1!G93))","v":"همام"},{"$f":"INDEX(ورقة1!$A:$A,ROW(ورقة1!H93)*5-5+COLUMN(ورقة1!H93))","v":"محمد"},{"$f":"INDEX(ورقة1!$A:$A,ROW(ورقة1!I93)*5-5+COLUMN(ورقة1!I93))","v":"احمد "}]
[{"$f":"INDEX(ورقة1!$A:$A,ROW(ورقة1!A94)*5-5+COLUMN(ورقة1!A94))","v":"حسان"},{"$f":"INDEX(ورقة1!$A:$A,ROW(ورقة1!B94)*5-5+COLUMN(ورقة1!B94))","v":"همام"},{"$f":"INDEX(ورقة1!$A:$A,ROW(ورقة1!C94)*5-5+COLUMN(ورقة1!C94))","v":"محمد"},{"$f":"INDEX(ورقة1!$A:$A,ROW(ورقة1!D94)*5-5+COLUMN(ورقة1!D94))","v":"احمد "},{"$f":"INDEX(ورقة1!$A:$A,ROW(ورقة1!E94)*5-5+COLUMN(ورقة1!E94))","v":"احمد "},{"$f":"INDEX(ورقة1!$A:$A,ROW(ورقة1!F94)*5-5+COLUMN(ورقة1!F94))","v":"سعيد"},{"$f":"INDEX(ورقة1!$A:$A,ROW(ورقة1!G94)*5-5+COLUMN(ورقة1!G94))","v":"نادر"},{"$f":"INDEX(ورقة1!$A:$A,ROW(ورقة1!H94)*5-5+COLUMN(ورقة1!H94))","v":"حسان"},{"$f":"INDEX(ورقة1!$A:$A,ROW(ورقة1!I94)*5-5+COLUMN(ورقة1!I94))","v":"همام"}]
[{"$f":"INDEX(ورقة1!$A:$A,ROW(ورقة1!A95)*5-5+COLUMN(ورقة1!A95))","v":"سعيد"},{"$f":"INDEX(ورقة1!$A:$A,ROW(ورقة1!B95)*5-5+COLUMN(ورقة1!B95))","v":"نادر"},{"$f":"INDEX(ورقة1!$A:$A,ROW(ورقة1!C95)*5-5+COLUMN(ورقة1!C95))","v":"حسان"},{"$f":"INDEX(ورقة1!$A:$A,ROW(ورقة1!D95)*5-5+COLUMN(ورقة1!D95))","v":"همام"},{"$f":"INDEX(ورقة1!$A:$A,ROW(ورقة1!E95)*5-5+COLUMN(ورقة1!E95))","v":"محمد"},{"$f":"INDEX(ورقة1!$A:$A,ROW(ورقة1!F95)*5-5+COLUMN(ورقة1!F95))","v":"احمد "},{"$f":"INDEX(ورقة1!$A:$A,ROW(ورقة1!G95)*5-5+COLUMN(ورقة1!G95))","v":"احمد "},{"$f":"INDEX(ورقة1!$A:$A,ROW(ورقة1!H95)*5-5+COLUMN(ورقة1!H95))","v":"سعيد"},{"$f":"INDEX(ورقة1!$A:$A,ROW(ورقة1!I95)*5-5+COLUMN(ورقة1!I95))","v":"نادر"}]
[{"$f":"INDEX(ورقة1!$A:$A,ROW(ورقة1!A96)*5-5+COLUMN(ورقة1!A96))","v":"احمد "},{"$f":"INDEX(ورقة1!$A:$A,ROW(ورقة1!B96)*5-5+COLUMN(ورقة1!B96))","v":"احمد "},{"$f":"INDEX(ورقة1!$A:$A,ROW(ورقة1!C96)*5-5+COLUMN(ورقة1!C96))","v":"سعيد"},{"$f":"INDEX(ورقة1!$A:$A,ROW(ورقة1!D96)*5-5+COLUMN(ورقة1!D96))","v":"نادر"},{"$f":"INDEX(ورقة1!$A:$A,ROW(ورقة1!E96)*5-5+COLUMN(ورقة1!E96))","v":"حسان"},{"$f":"INDEX(ورقة1!$A:$A,ROW(ورقة1!F96)*5-5+COLUMN(ورقة1!F96))","v":"همام"},{"$f":"INDEX(ورقة1!$A:$A,ROW(ورقة1!G96)*5-5+COLUMN(ورقة1!G96))","v":"محمد"},{"$f":"INDEX(ورقة1!$A:$A,ROW(ورقة1!H96)*5-5+COLUMN(ورقة1!H96))","v":"احمد "},{"$f":"INDEX(ورقة1!$A:$A,ROW(ورقة1!I96)*5-5+COLUMN(ورقة1!I96))","v":"احمد "}]
[{"$f":"INDEX(ورقة1!$A:$A,ROW(ورقة1!A97)*5-5+COLUMN(ورقة1!A97))","v":"همام"},{"$f":"INDEX(ورقة1!$A:$A,ROW(ورقة1!B97)*5-5+COLUMN(ورقة1!B97))","v":"محمد"},{"$f":"INDEX(ورقة1!$A:$A,ROW(ورقة1!C97)*5-5+COLUMN(ورقة1!C97))","v":"احمد "},{"$f":"INDEX(ورقة1!$A:$A,ROW(ورقة1!D97)*5-5+COLUMN(ورقة1!D97))","v":"احمد "},{"$f":"INDEX(ورقة1!$A:$A,ROW(ورقة1!E97)*5-5+COLUMN(ورقة1!E97))","v":"سعيد"},{"$f":"INDEX(ورقة1!$A:$A,ROW(ورقة1!F97)*5-5+COLUMN(ورقة1!F97))","v":"نادر"},{"$f":"INDEX(ورقة1!$A:$A,ROW(ورقة1!G97)*5-5+COLUMN(ورقة1!G97))","v":"حسان"},{"$f":"INDEX(ورقة1!$A:$A,ROW(ورقة1!H97)*5-5+COLUMN(ورقة1!H97))","v":"همام"},{"$f":"INDEX(ورقة1!$A:$A,ROW(ورقة1!I97)*5-5+COLUMN(ورقة1!I97))","v":"محمد"}]
[{"$f":"INDEX(ورقة1!$A:$A,ROW(ورقة1!A98)*5-5+COLUMN(ورقة1!A98))","v":"نادر"},{"$f":"INDEX(ورقة1!$A:$A,ROW(ورقة1!B98)*5-5+COLUMN(ورقة1!B98))","v":"حسان"},{"$f":"INDEX(ورقة1!$A:$A,ROW(ورقة1!C98)*5-5+COLUMN(ورقة1!C98))","v":"همام"},{"$f":"INDEX(ورقة1!$A:$A,ROW(ورقة1!D98)*5-5+COLUMN(ورقة1!D98))","v":"محمد"},{"$f":"INDEX(ورقة1!$A:$A,ROW(ورقة1!E98)*5-5+COLUMN(ورقة1!E98))","v":"احمد "},{"$f":"INDEX(ورقة1!$A:$A,ROW(ورقة1!F98)*5-5+COLUMN(ورقة1!F98))","v":"احمد "},{"$f":"INDEX(ورقة1!$A:$A,ROW(ورقة1!G98)*5-5+COLUMN(ورقة1!G98))","v":"سعيد"},{"$f":"INDEX(ورقة1!$A:$A,ROW(ورقة1!H98)*5-5+COLUMN(ورقة1!H98))","v":"نادر"},{"$f":"INDEX(ورقة1!$A:$A,ROW(ورقة1!I98)*5-5+COLUMN(ورقة1!I98))","v":"حسان"}]
[{"$f":"INDEX(ورقة1!$A:$A,ROW(ورقة1!A99)*5-5+COLUMN(ورقة1!A99))","v":"احمد "},{"$f":"INDEX(ورقة1!$A:$A,ROW(ورقة1!B99)*5-5+COLUMN(ورقة1!B99))","v":"سعيد"},{"$f":"INDEX(ورقة1!$A:$A,ROW(ورقة1!C99)*5-5+COLUMN(ورقة1!C99))","v":"نادر"},{"$f":"INDEX(ورقة1!$A:$A,ROW(ورقة1!D99)*5-5+COLUMN(ورقة1!D99))","v":"حسان"},{"$f":"INDEX(ورقة1!$A:$A,ROW(ورقة1!E99)*5-5+COLUMN(ورقة1!E99))","v":"همام"},{"$f":"INDEX(ورقة1!$A:$A,ROW(ورقة1!F99)*5-5+COLUMN(ورقة1!F99))","v":"محمد"},{"$f":"INDEX(ورقة1!$A:$A,ROW(ورقة1!G99)*5-5+COLUMN(ورقة1!G99))","v":"احمد "},{"$f":"INDEX(ورقة1!$A:$A,ROW(ورقة1!H99)*5-5+COLUMN(ورقة1!H99))","v":"احمد "},{"$f":"INDEX(ورقة1!$A:$A,ROW(ورقة1!I99)*5-5+COLUMN(ورقة1!I99))","v":"سعيد"}]
[{"$f":"INDEX(ورقة1!$A:$A,ROW(ورقة1!A100)*5-5+COLUMN(ورقة1!A100))","v":"محمد"},{"$f":"INDEX(ورقة1!$A:$A,ROW(ورقة1!B100)*5-5+COLUMN(ورقة1!B100))","v":"احمد "},{"$f":"INDEX(ورقة1!$A:$A,ROW(ورقة1!C100)*5-5+COLUMN(ورقة1!C100))","v":"احمد "},{"$f":"INDEX(ورقة1!$A:$A,ROW(ورقة1!D100)*5-5+COLUMN(ورقة1!D100))","v":"سعيد"},{"$f":"INDEX(ورقة1!$A:$A,ROW(ورقة1!E100)*5-5+COLUMN(ورقة1!E100))","v":"نادر"},{"$f":"INDEX(ورقة1!$A:$A,ROW(ورقة1!F100)*5-5+COLUMN(ورقة1!F100))","v":"حسان"},{"$f":"INDEX(ورقة1!$A:$A,ROW(ورقة1!G100)*5-5+COLUMN(ورقة1!G100))","v":"همام"},{"$f":"INDEX(ورقة1!$A:$A,ROW(ورقة1!H100)*5-5+COLUMN(ورقة1!H100))","v":"محمد"},{"$f":"INDEX(ورقة1!$A:$A,ROW(ورقة1!I100)*5-5+COLUMN(ورقة1!I100))","v":"احمد "}]
[{"$f":"INDEX(ورقة1!$A:$A,ROW(ورقة1!A101)*5-5+COLUMN(ورقة1!A101))","v":"حسان"},{"$f":"INDEX(ورقة1!$A:$A,ROW(ورقة1!B101)*5-5+COLUMN(ورقة1!B101))","v":"همام"},{"$f":"INDEX(ورقة1!$A:$A,ROW(ورقة1!C101)*5-5+COLUMN(ورقة1!C101))","v":"محمد"},{"$f":"INDEX(ورقة1!$A:$A,ROW(ورقة1!D101)*5-5+COLUMN(ورقة1!D101))","v":"احمد "},{"$f":"INDEX(ورقة1!$A:$A,ROW(ورقة1!E101)*5-5+COLUMN(ورقة1!E101))","v":"احمد "},{"$f":"INDEX(ورقة1!$A:$A,ROW(ورقة1!F101)*5-5+COLUMN(ورقة1!F101))","v":"سعيد"},{"$f":"INDEX(ورقة1!$A:$A,ROW(ورقة1!G101)*5-5+COLUMN(ورقة1!G101))","v":"نادر"},{"$f":"INDEX(ورقة1!$A:$A,ROW(ورقة1!H101)*5-5+COLUMN(ورقة1!H101))","v":"حسان"},{"$f":"INDEX(ورقة1!$A:$A,ROW(ورقة1!I101)*5-5+COLUMN(ورقة1!I101))","v":"همام"}]
[{"$f":"INDEX(ورقة1!$A:$A,ROW(ورقة1!A102)*5-5+COLUMN(ورقة1!A102))","v":"سعيد"},{"$f":"INDEX(ورقة1!$A:$A,ROW(ورقة1!B102)*5-5+COLUMN(ورقة1!B102))","v":"نادر"},{"$f":"INDEX(ورقة1!$A:$A,ROW(ورقة1!C102)*5-5+COLUMN(ورقة1!C102))","v":"حسان"},{"$f":"INDEX(ورقة1!$A:$A,ROW(ورقة1!D102)*5-5+COLUMN(ورقة1!D102))","v":"همام"},{"$f":"INDEX(ورقة1!$A:$A,ROW(ورقة1!E102)*5-5+COLUMN(ورقة1!E102))","v":"محمد"},{"$f":"INDEX(ورقة1!$A:$A,ROW(ورقة1!F102)*5-5+COLUMN(ورقة1!F102))","v":"احمد "},{"$f":"INDEX(ورقة1!$A:$A,ROW(ورقة1!G102)*5-5+COLUMN(ورقة1!G102))","v":"احمد "},{"$f":"INDEX(ورقة1!$A:$A,ROW(ورقة1!H102)*5-5+COLUMN(ورقة1!H102))","v":"سعيد"},{"$f":"INDEX(ورقة1!$A:$A,ROW(ورقة1!I102)*5-5+COLUMN(ورقة1!I102))","v":"نادر"}]
[{"$f":"INDEX(ورقة1!$A:$A,ROW(ورقة1!A103)*5-5+COLUMN(ورقة1!A103))","v":"احمد "},{"$f":"INDEX(ورقة1!$A:$A,ROW(ورقة1!B103)*5-5+COLUMN(ورقة1!B103))","v":"احمد "},{"$f":"INDEX(ورقة1!$A:$A,ROW(ورقة1!C103)*5-5+COLUMN(ورقة1!C103))","v":"سعيد"},{"$f":"INDEX(ورقة1!$A:$A,ROW(ورقة1!D103)*5-5+COLUMN(ورقة1!D103))","v":"نادر"},{"$f":"INDEX(ورقة1!$A:$A,ROW(ورقة1!E103)*5-5+COLUMN(ورقة1!E103))","v":"حسان"},{"$f":"INDEX(ورقة1!$A:$A,ROW(ورقة1!F103)*5-5+COLUMN(ورقة1!F103))","v":"همام"},{"$f":"INDEX(ورقة1!$A:$A,ROW(ورقة1!G103)*5-5+COLUMN(ورقة1!G103))","v":"محمد"},{"$f":"INDEX(ورقة1!$A:$A,ROW(ورقة1!H103)*5-5+COLUMN(ورقة1!H103))","v":"احمد "},{"$f":"INDEX(ورقة1!$A:$A,ROW(ورقة1!I103)*5-5+COLUMN(ورقة1!I103))","v":"احمد "}]
[{"$f":"INDEX(ورقة1!$A:$A,ROW(ورقة1!A104)*5-5+COLUMN(ورقة1!A104))","v":"همام"},{"$f":"INDEX(ورقة1!$A:$A,ROW(ورقة1!B104)*5-5+COLUMN(ورقة1!B104))","v":"محمد"},{"$f":"INDEX(ورقة1!$A:$A,ROW(ورقة1!C104)*5-5+COLUMN(ورقة1!C104))","v":"احمد "},{"$f":"INDEX(ورقة1!$A:$A,ROW(ورقة1!D104)*5-5+COLUMN(ورقة1!D104))","v":"احمد "},{"$f":"INDEX(ورقة1!$A:$A,ROW(ورقة1!E104)*5-5+COLUMN(ورقة1!E104))","v":"سعيد"},{"$f":"INDEX(ورقة1!$A:$A,ROW(ورقة1!F104)*5-5+COLUMN(ورقة1!F104))","v":"نادر"},{"$f":"INDEX(ورقة1!$A:$A,ROW(ورقة1!G104)*5-5+COLUMN(ورقة1!G104))","v":"حسان"},{"$f":"INDEX(ورقة1!$A:$A,ROW(ورقة1!H104)*5-5+COLUMN(ورقة1!H104))","v":"همام"},{"$f":"INDEX(ورقة1!$A:$A,ROW(ورقة1!I104)*5-5+COLUMN(ورقة1!I104))","v":"محمد"}]
[{"$f":"INDEX(ورقة1!$A:$A,ROW(ورقة1!A105)*5-5+COLUMN(ورقة1!A105))","v":"نادر"},{"$f":"INDEX(ورقة1!$A:$A,ROW(ورقة1!B105)*5-5+COLUMN(ورقة1!B105))","v":"حسان"},{"$f":"INDEX(ورقة1!$A:$A,ROW(ورقة1!C105)*5-5+COLUMN(ورقة1!C105))","v":"همام"},{"$f":"INDEX(ورقة1!$A:$A,ROW(ورقة1!D105)*5-5+COLUMN(ورقة1!D105))","v":"محمد"},{"$f":"INDEX(ورقة1!$A:$A,ROW(ورقة1!E105)*5-5+COLUMN(ورقة1!E105))","v":"احمد "},{"$f":"INDEX(ورقة1!$A:$A,ROW(ورقة1!F105)*5-5+COLUMN(ورقة1!F105))","v":"احمد "},{"$f":"INDEX(ورقة1!$A:$A,ROW(ورقة1!G105)*5-5+COLUMN(ورقة1!G105))","v":"سعيد"},{"$f":"INDEX(ورقة1!$A:$A,ROW(ورقة1!H105)*5-5+COLUMN(ورقة1!H105))","v":"نادر"},{"$f":"INDEX(ورقة1!$A:$A,ROW(ورقة1!I105)*5-5+COLUMN(ورقة1!I105))","v":"حسان"}]
[{"$f":"INDEX(ورقة1!$A:$A,ROW(ورقة1!A106)*5-5+COLUMN(ورقة1!A106))","v":"احمد "},{"$f":"INDEX(ورقة1!$A:$A,ROW(ورقة1!B106)*5-5+COLUMN(ورقة1!B106))","v":"سعيد"},{"$f":"INDEX(ورقة1!$A:$A,ROW(ورقة1!C106)*5-5+COLUMN(ورقة1!C106))","v":"نادر"},{"$f":"INDEX(ورقة1!$A:$A,ROW(ورقة1!D106)*5-5+COLUMN(ورقة1!D106))","v":"حسان"},{"$f":"INDEX(ورقة1!$A:$A,ROW(ورقة1!E106)*5-5+COLUMN(ورقة1!E106))","v":"همام"},{"$f":"INDEX(ورقة1!$A:$A,ROW(ورقة1!F106)*5-5+COLUMN(ورقة1!F106))","v":"محمد"},{"$f":"INDEX(ورقة1!$A:$A,ROW(ورقة1!G106)*5-5+COLUMN(ورقة1!G106))","v":"احمد "},{"$f":"INDEX(ورقة1!$A:$A,ROW(ورقة1!H106)*5-5+COLUMN(ورقة1!H106))","v":"احمد "},{"$f":"INDEX(ورقة1!$A:$A,ROW(ورقة1!I106)*5-5+COLUMN(ورقة1!I106))","v":"سعيد"}]
[{"$f":"INDEX(ورقة1!$A:$A,ROW(ورقة1!A107)*5-5+COLUMN(ورقة1!A107))","v":"محمد"},{"$f":"INDEX(ورقة1!$A:$A,ROW(ورقة1!B107)*5-5+COLUMN(ورقة1!B107))","v":"احمد "},{"$f":"INDEX(ورقة1!$A:$A,ROW(ورقة1!C107)*5-5+COLUMN(ورقة1!C107))","v":"احمد "},{"$f":"INDEX(ورقة1!$A:$A,ROW(ورقة1!D107)*5-5+COLUMN(ورقة1!D107))","v":"سعيد"},{"$f":"INDEX(ورقة1!$A:$A,ROW(ورقة1!E107)*5-5+COLUMN(ورقة1!E107))","v":"نادر"},{"$f":"INDEX(ورقة1!$A:$A,ROW(ورقة1!F107)*5-5+COLUMN(ورقة1!F107))","v":"حسان"},{"$f":"INDEX(ورقة1!$A:$A,ROW(ورقة1!G107)*5-5+COLUMN(ورقة1!G107))","v":"همام"},{"$f":"INDEX(ورقة1!$A:$A,ROW(ورقة1!H107)*5-5+COLUMN(ورقة1!H107))","v":"محمد"},{"$f":"INDEX(ورقة1!$A:$A,ROW(ورقة1!I107)*5-5+COLUMN(ورقة1!I107))","v":"احمد "}]
[{"$f":"INDEX(ورقة1!$A:$A,ROW(ورقة1!A108)*5-5+COLUMN(ورقة1!A108))","v":"حسان"},{"$f":"INDEX(ورقة1!$A:$A,ROW(ورقة1!B108)*5-5+COLUMN(ورقة1!B108))","v":"همام"},{"$f":"INDEX(ورقة1!$A:$A,ROW(ورقة1!C108)*5-5+COLUMN(ورقة1!C108))","v":"محمد"},{"$f":"INDEX(ورقة1!$A:$A,ROW(ورقة1!D108)*5-5+COLUMN(ورقة1!D108))","v":"احمد "},{"$f":"INDEX(ورقة1!$A:$A,ROW(ورقة1!E108)*5-5+COLUMN(ورقة1!E108))","v":"احمد "},{"$f":"INDEX(ورقة1!$A:$A,ROW(ورقة1!F108)*5-5+COLUMN(ورقة1!F108))","v":"سعيد"},{"$f":"INDEX(ورقة1!$A:$A,ROW(ورقة1!G108)*5-5+COLUMN(ورقة1!G108))","v":"نادر"},{"$f":"INDEX(ورقة1!$A:$A,ROW(ورقة1!H108)*5-5+COLUMN(ورقة1!H108))","v":"حسان"},{"$f":"INDEX(ورقة1!$A:$A,ROW(ورقة1!I108)*5-5+COLUMN(ورقة1!I108))","v":"همام"}]
[{"$f":"INDEX(ورقة1!$A:$A,ROW(ورقة1!A109)*5-5+COLUMN(ورقة1!A109))","v":"سعيد"},{"$f":"INDEX(ورقة1!$A:$A,ROW(ورقة1!B109)*5-5+COLUMN(ورقة1!B109))","v":"نادر"},{"$f":"INDEX(ورقة1!$A:$A,ROW(ورقة1!C109)*5-5+COLUMN(ورقة1!C109))","v":"حسان"},{"$f":"INDEX(ورقة1!$A:$A,ROW(ورقة1!D109)*5-5+COLUMN(ورقة1!D109))","v":"همام"},{"$f":"INDEX(ورقة1!$A:$A,ROW(ورقة1!E109)*5-5+COLUMN(ورقة1!E109))","v":"محمد"},{"$f":"INDEX(ورقة1!$A:$A,ROW(ورقة1!F109)*5-5+COLUMN(ورقة1!F109))","v":"احمد "},{"$f":"INDEX(ورقة1!$A:$A,ROW(ورقة1!G109)*5-5+COLUMN(ورقة1!G109))","v":"احمد "},{"$f":"INDEX(ورقة1!$A:$A,ROW(ورقة1!H109)*5-5+COLUMN(ورقة1!H109))","v":"سعيد"},{"$f":"INDEX(ورقة1!$A:$A,ROW(ورقة1!I109)*5-5+COLUMN(ورقة1!I109))","v":"نادر"}]
[{"$f":"INDEX(ورقة1!$A:$A,ROW(ورقة1!A110)*5-5+COLUMN(ورقة1!A110))","v":"احمد "},{"$f":"INDEX(ورقة1!$A:$A,ROW(ورقة1!B110)*5-5+COLUMN(ورقة1!B110))","v":"احمد "},{"$f":"INDEX(ورقة1!$A:$A,ROW(ورقة1!C110)*5-5+COLUMN(ورقة1!C110))","v":"سعيد"},{"$f":"INDEX(ورقة1!$A:$A,ROW(ورقة1!D110)*5-5+COLUMN(ورقة1!D110))","v":"نادر"},{"$f":"INDEX(ورقة1!$A:$A,ROW(ورقة1!E110)*5-5+COLUMN(ورقة1!E110))","v":"حسان"},{"$f":"INDEX(ورقة1!$A:$A,ROW(ورقة1!F110)*5-5+COLUMN(ورقة1!F110))","v":"همام"},{"$f":"INDEX(ورقة1!$A:$A,ROW(ورقة1!G110)*5-5+COLUMN(ورقة1!G110))","v":"محمد"},{"$f":"INDEX(ورقة1!$A:$A,ROW(ورقة1!H110)*5-5+COLUMN(ورقة1!H110))","v":"احمد "},{"$f":"INDEX(ورقة1!$A:$A,ROW(ورقة1!I110)*5-5+COLUMN(ورقة1!I110))","v":"احمد "}]
[{"$f":"INDEX(ورقة1!$A:$A,ROW(ورقة1!A111)*5-5+COLUMN(ورقة1!A111))","v":"همام"},{"$f":"INDEX(ورقة1!$A:$A,ROW(ورقة1!B111)*5-5+COLUMN(ورقة1!B111))","v":"محمد"},{"$f":"INDEX(ورقة1!$A:$A,ROW(ورقة1!C111)*5-5+COLUMN(ورقة1!C111))","v":"احمد "},{"$f":"INDEX(ورقة1!$A:$A,ROW(ورقة1!D111)*5-5+COLUMN(ورقة1!D111))","v":"احمد "},{"$f":"INDEX(ورقة1!$A:$A,ROW(ورقة1!E111)*5-5+COLUMN(ورقة1!E111))","v":"سعيد"},{"$f":"INDEX(ورقة1!$A:$A,ROW(ورقة1!F111)*5-5+COLUMN(ورقة1!F111))","v":"نادر"},{"$f":"INDEX(ورقة1!$A:$A,ROW(ورقة1!G111)*5-5+COLUMN(ورقة1!G111))","v":"حسان"},{"$f":"INDEX(ورقة1!$A:$A,ROW(ورقة1!H111)*5-5+COLUMN(ورقة1!H111))","v":"همام"},{"$f":"INDEX(ورقة1!$A:$A,ROW(ورقة1!I111)*5-5+COLUMN(ورقة1!I111))","v":"محمد"}]
[{"$f":"INDEX(ورقة1!$A:$A,ROW(ورقة1!A112)*5-5+COLUMN(ورقة1!A112))","v":"نادر"},{"$f":"INDEX(ورقة1!$A:$A,ROW(ورقة1!B112)*5-5+COLUMN(ورقة1!B112))","v":"حسان"},{"$f":"INDEX(ورقة1!$A:$A,ROW(ورقة1!C112)*5-5+COLUMN(ورقة1!C112))","v":"همام"},{"$f":"INDEX(ورقة1!$A:$A,ROW(ورقة1!D112)*5-5+COLUMN(ورقة1!D112))","v":"محمد"},{"$f":"INDEX(ورقة1!$A:$A,ROW(ورقة1!E112)*5-5+COLUMN(ورقة1!E112))","v":"احمد "},{"$f":"INDEX(ورقة1!$A:$A,ROW(ورقة1!F112)*5-5+COLUMN(ورقة1!F112))","v":"احمد "},{"$f":"INDEX(ورقة1!$A:$A,ROW(ورقة1!G112)*5-5+COLUMN(ورقة1!G112))","v":"سعيد"},{"$f":"INDEX(ورقة1!$A:$A,ROW(ورقة1!H112)*5-5+COLUMN(ورقة1!H112))","v":"نادر"},{"$f":"INDEX(ورقة1!$A:$A,ROW(ورقة1!I112)*5-5+COLUMN(ورقة1!I112))","v":"حسان"}]
[{"$f":"INDEX(ورقة1!$A:$A,ROW(ورقة1!A113)*5-5+COLUMN(ورقة1!A113))","v":"احمد "},{"$f":"INDEX(ورقة1!$A:$A,ROW(ورقة1!B113)*5-5+COLUMN(ورقة1!B113))","v":"سعيد"},{"$f":"INDEX(ورقة1!$A:$A,ROW(ورقة1!C113)*5-5+COLUMN(ورقة1!C113))","v":"نادر"},{"$f":"INDEX(ورقة1!$A:$A,ROW(ورقة1!D113)*5-5+COLUMN(ورقة1!D113))","v":"حسان"},{"$f":"INDEX(ورقة1!$A:$A,ROW(ورقة1!E113)*5-5+COLUMN(ورقة1!E113))","v":"همام"},{"$f":"INDEX(ورقة1!$A:$A,ROW(ورقة1!F113)*5-5+COLUMN(ورقة1!F113))","v":"محمد"},{"$f":"INDEX(ورقة1!$A:$A,ROW(ورقة1!G113)*5-5+COLUMN(ورقة1!G113))","v":"احمد "},{"$f":"INDEX(ورقة1!$A:$A,ROW(ورقة1!H113)*5-5+COLUMN(ورقة1!H113))","v":"احمد "},{"$f":"INDEX(ورقة1!$A:$A,ROW(ورقة1!I113)*5-5+COLUMN(ورقة1!I113))","v":"سعيد"}]
[{"$f":"INDEX(ورقة1!$A:$A,ROW(ورقة1!A114)*5-5+COLUMN(ورقة1!A114))","v":"محمد"},{"$f":"INDEX(ورقة1!$A:$A,ROW(ورقة1!B114)*5-5+COLUMN(ورقة1!B114))","v":"احمد "},{"$f":"INDEX(ورقة1!$A:$A,ROW(ورقة1!C114)*5-5+COLUMN(ورقة1!C114))","v":"احمد "},{"$f":"INDEX(ورقة1!$A:$A,ROW(ورقة1!D114)*5-5+COLUMN(ورقة1!D114))","v":"سعيد"},{"$f":"INDEX(ورقة1!$A:$A,ROW(ورقة1!E114)*5-5+COLUMN(ورقة1!E114))","v":"نادر"},{"$f":"INDEX(ورقة1!$A:$A,ROW(ورقة1!F114)*5-5+COLUMN(ورقة1!F114))","v":"حسان"},{"$f":"INDEX(ورقة1!$A:$A,ROW(ورقة1!G114)*5-5+COLUMN(ورقة1!G114))","v":"همام"},{"$f":"INDEX(ورقة1!$A:$A,ROW(ورقة1!H114)*5-5+COLUMN(ورقة1!H114))","v":"محمد"},{"$f":"INDEX(ورقة1!$A:$A,ROW(ورقة1!I114)*5-5+COLUMN(ورقة1!I114))","v":"احمد "}]
[{"$f":"INDEX(ورقة1!$A:$A,ROW(ورقة1!A115)*5-5+COLUMN(ورقة1!A115))","v":"حسان"},{"$f":"INDEX(ورقة1!$A:$A,ROW(ورقة1!B115)*5-5+COLUMN(ورقة1!B115))","v":"همام"},{"$f":"INDEX(ورقة1!$A:$A,ROW(ورقة1!C115)*5-5+COLUMN(ورقة1!C115))","v":"محمد"},{"$f":"INDEX(ورقة1!$A:$A,ROW(ورقة1!D115)*5-5+COLUMN(ورقة1!D115))","v":"احمد "},{"$f":"INDEX(ورقة1!$A:$A,ROW(ورقة1!E115)*5-5+COLUMN(ورقة1!E115))","v":"احمد "},{"$f":"INDEX(ورقة1!$A:$A,ROW(ورقة1!F115)*5-5+COLUMN(ورقة1!F115))","v":"سعيد"},{"$f":"INDEX(ورقة1!$A:$A,ROW(ورقة1!G115)*5-5+COLUMN(ورقة1!G115))","v":"نادر"},{"$f":"INDEX(ورقة1!$A:$A,ROW(ورقة1!H115)*5-5+COLUMN(ورقة1!H115))","v":"حسان"},{"$f":"INDEX(ورقة1!$A:$A,ROW(ورقة1!I115)*5-5+COLUMN(ورقة1!I115))","v":"همام"}]
[{"$f":"INDEX(ورقة1!$A:$A,ROW(ورقة1!A116)*5-5+COLUMN(ورقة1!A116))","v":"سعيد"},{"$f":"INDEX(ورقة1!$A:$A,ROW(ورقة1!B116)*5-5+COLUMN(ورقة1!B116))","v":"نادر"},{"$f":"INDEX(ورقة1!$A:$A,ROW(ورقة1!C116)*5-5+COLUMN(ورقة1!C116))","v":"حسان"},{"$f":"INDEX(ورقة1!$A:$A,ROW(ورقة1!D116)*5-5+COLUMN(ورقة1!D116))","v":"همام"},{"$f":"INDEX(ورقة1!$A:$A,ROW(ورقة1!E116)*5-5+COLUMN(ورقة1!E116))","v":"محمد"},{"$f":"INDEX(ورقة1!$A:$A,ROW(ورقة1!F116)*5-5+COLUMN(ورقة1!F116))","v":"احمد "},{"$f":"INDEX(ورقة1!$A:$A,ROW(ورقة1!G116)*5-5+COLUMN(ورقة1!G116))","v":"احمد "},{"$f":"INDEX(ورقة1!$A:$A,ROW(ورقة1!H116)*5-5+COLUMN(ورقة1!H116))","v":"سعيد"},{"$f":"INDEX(ورقة1!$A:$A,ROW(ورقة1!I116)*5-5+COLUMN(ورقة1!I116))","v":"نادر"}]
[{"$f":"INDEX(ورقة1!$A:$A,ROW(ورقة1!A117)*5-5+COLUMN(ورقة1!A117))","v":"احمد "},{"$f":"INDEX(ورقة1!$A:$A,ROW(ورقة1!B117)*5-5+COLUMN(ورقة1!B117))","v":"احمد "},{"$f":"INDEX(ورقة1!$A:$A,ROW(ورقة1!C117)*5-5+COLUMN(ورقة1!C117))","v":"سعيد"},{"$f":"INDEX(ورقة1!$A:$A,ROW(ورقة1!D117)*5-5+COLUMN(ورقة1!D117))","v":"نادر"},{"$f":"INDEX(ورقة1!$A:$A,ROW(ورقة1!E117)*5-5+COLUMN(ورقة1!E117))","v":"حسان"},{"$f":"INDEX(ورقة1!$A:$A,ROW(ورقة1!F117)*5-5+COLUMN(ورقة1!F117))","v":"همام"},{"$f":"INDEX(ورقة1!$A:$A,ROW(ورقة1!G117)*5-5+COLUMN(ورقة1!G117))","v":"محمد"},{"$f":"INDEX(ورقة1!$A:$A,ROW(ورقة1!H117)*5-5+COLUMN(ورقة1!H117))","v":"احمد "},{"$f":"INDEX(ورقة1!$A:$A,ROW(ورقة1!I117)*5-5+COLUMN(ورقة1!I117))","v":"احمد "}]
[{"$f":"INDEX(ورقة1!$A:$A,ROW(ورقة1!A118)*5-5+COLUMN(ورقة1!A118))","v":"همام"},{"$f":"INDEX(ورقة1!$A:$A,ROW(ورقة1!B118)*5-5+COLUMN(ورقة1!B118))","v":"محمد"},{"$f":"INDEX(ورقة1!$A:$A,ROW(ورقة1!C118)*5-5+COLUMN(ورقة1!C118))","v":"احمد "},{"$f":"INDEX(ورقة1!$A:$A,ROW(ورقة1!D118)*5-5+COLUMN(ورقة1!D118))","v":"احمد "},{"$f":"INDEX(ورقة1!$A:$A,ROW(ورقة1!E118)*5-5+COLUMN(ورقة1!E118))","v":0},{"$f":"INDEX(ورقة1!$A:$A,ROW(ورقة1!F118)*5-5+COLUMN(ورقة1!F118))","v":0},{"$f":"INDEX(ورقة1!$A:$A,ROW(ورقة1!G118)*5-5+COLUMN(ورقة1!G118))","v":0},{"$f":"INDEX(ورقة1!$A:$A,ROW(ورقة1!H118)*5-5+COLUMN(ورقة1!H118))","v":0},{"$f":"INDEX(ورقة1!$A:$A,ROW(ورقة1!I118)*5-5+COLUMN(ورقة1!I118))","v":0}]

{"sheet":"ورقة3","index":2,"n_rows":99,"n_cols":5,"rows_kept":99,"cut":false,"hidden":false,"merged":[]}
["احمد ","سعيد","نادر","حسان","همام"]
["احمد ","احمد ","سعيد","نادر","حسان"]
["محمد","احمد ","احمد ","سعيد","نادر"]
["همام","محمد","احمد ","احمد ","سعيد"]
["حسان","همام","محمد","احمد ","احمد "]
["نادر","حسان","همام","محمد","احمد "]
["سعيد","نادر","حسان","همام","محمد"]
["احمد ","سعيد","نادر","حسان","همام"]
["احمد ","احمد ","سعيد","نادر","حسان"]
["محمد","احمد ","احمد ","سعيد","نادر"]
["همام","محمد","احمد ","احمد ","سعيد"]
["حسان","همام","محمد","احمد ","احمد "]
["نادر","حسان","همام","محمد","احمد "]
["سعيد","نادر","حسان","همام","محمد"]
["احمد ","سعيد","نادر","حسان","همام"]
["احمد ","احمد ","سعيد","نادر","حسان"]
["محمد","احمد ","احمد ","سعيد","نادر"]
["همام","محمد","احمد ","احمد ","سعيد"]
["حسان","همام","محمد","احمد ","احمد "]
["نادر","حسان","همام","محمد","احمد "]
["سعيد","نادر","حسان","همام","محمد"]
["احمد ","سعيد","نادر","حسان","همام"]
["احمد ","احمد ","سعيد","نادر","حسان"]
["محمد","احمد ","احمد ","سعيد","نادر"]
["همام","محمد","احمد ","احمد ","سعيد"]
["حسان","همام","محمد","احمد ","احمد "]
["نادر","حسان","همام","محمد","احمد "]
["سعيد","نادر","حسان","همام","محمد"]
["احمد ","سعيد","نادر","حسان","همام"]
["احمد ","احمد ","سعيد","نادر","حسان"]
["محمد","احمد ","احمد ","سعيد","نادر"]
["همام","محمد","احمد ","احمد ","سعيد"]
["حسان","همام","محمد","احمد ","احمد "]
["نادر","حسان","همام","محمد","احمد "]
["سعيد","نادر","حسان","همام","محمد"]
["احمد ","سعيد","نادر","حسان","همام"]
["احمد ","احمد ","سعيد","نادر","حسان"]
["محمد","احمد ","احمد ","سعيد","نادر"]
["همام","محمد","احمد ","احمد ","سعيد"]
["حسان","همام","محمد","احمد ","احمد "]
["نادر","حسان","همام","محمد","احمد "]
["سعيد","نادر","حسان","همام","محمد"]
["احمد ","سعيد","نادر","حسان","همام"]
["احمد ","احمد ","سعيد","نادر","حسان"]
["محمد","احمد ","احمد ","سعيد","نادر"]
["همام","محمد","احمد ","احمد ","سعيد"]
["حسان","همام","محمد","احمد ","احمد "]
["نادر","حسان","همام","محمد","احمد "]
["سعيد","نادر","حسان","همام","محمد"]
["احمد ","سعيد","نادر","حسان","همام"]
["احمد ","احمد ","سعيد","نادر","حسان"]
["محمد","احمد ","احمد ","سعيد","نادر"]
["همام","محمد","احمد ","احمد ","سعيد"]
["حسان","همام","محمد","احمد ","احمد "]
["نادر","حسان","همام","محمد","احمد "]
["سعيد","نادر","حسان","همام","محمد"]
["احمد ","سعيد","نادر","حسان","همام"]
["احمد ","احمد ","سعيد","نادر","حسان"]
["محمد","احمد ","احمد ","سعيد","نادر"]
["همام","محمد","احمد ","احمد ","سعيد"]
["حسان","همام","محمد","احمد ","احمد "]
["نادر","حسان","همام","محمد","احمد "]
["سعيد","نادر","حسان","همام","محمد"]
["احمد ","سعيد","نادر","حسان","همام"]
["احمد ","احمد ","سعيد","نادر","حسان"]
["محمد","احمد ","احمد ","سعيد","نادر"]
["همام","محمد","احمد ","احمد ","سعيد"]
["حسان","همام","محمد","احمد ","احمد "]
["نادر","حسان","همام","محمد","احمد "]
["سعيد","نادر","حسان","همام","محمد"]
["احمد ","سعيد","نادر","حسان","همام"]
["احمد ","احمد ","سعيد","نادر","حسان"]
["محمد","احمد ","احمد ","سعيد","نادر"]
["همام","محمد","احمد ","احمد ","سعيد"]
["حسان","همام","محمد","احمد ","احمد "]
["نادر","حسان","همام","محمد","احمد "]
["سعيد","نادر","حسان","همام","محمد"]
["احمد ","سعيد","نادر","حسان","همام"]
["احمد ","احمد ","سعيد","نادر","حسان"]
["محمد","احمد ","احمد ","سعيد","نادر"]
["همام","محمد","احمد ","احمد ","سعيد"]
["حسان","همام","محمد","احمد ","احمد "]
["نادر","حسان","همام","محمد","احمد "]
["سعيد","نادر","حسان","همام","محمد"]
["احمد ","سعيد","نادر","حسان","همام"]
["احمد ","احمد ","سعيد","نادر","حسان"]
["محمد","احمد ","احمد ","سعيد","نادر"]
["همام","محمد","احمد ","احمد ","سعيد"]
["حسان","همام","محمد","احمد ","احمد "]
["نادر","حسان","همام","محمد","احمد "]
["سعيد","نادر","حسان","همام","محمد"]
["احمد ","سعيد","نادر","حسان","همام"]
["احمد ","احمد ","سعيد","نادر","حسان"]
["محمد","احمد ","احمد ","سعيد","نادر"]
["همام","محمد","احمد ","احمد ","سعيد"]
["حسان","همام","محمد","احمد ","احمد "]
["نادر","حسان","همام","محمد","احمد "]
["سعيد","نادر","حسان","همام","محمد"]
["احمد "]