{"text_format":"1","workbook":"xlsx","n_sheets":3,"sheets":["Minho","Laho","Repport"],"not_rendered":{"charts":0,"images":0,"macros":1,"external_links":0,"defined_names":0,"comments":0,"pivot_tables":0},"unopened":[],"bounds":{"document_bytes":16777216,"sheet_cells":100000,"rows_first":2000,"rows_last":500,"rows_between":2000,"halvings":0,"cell_chars":16384,"cell_head_chars":4096},"cells_cut":0,"cells_raw":0,"read":"whole","date_system":"1900"}

{"sheet":"Minho","index":0,"n_rows":59,"n_cols":18,"rows_kept":59,"cut":false,"hidden":false,"merged":[]}
["التاريخ","الاسم","رقم","man","wan","san","fan","gan","ban","dan","kan","con","on","bon","hon","fon","lon","non"]
["2020-05-01",null,1,1,2,3,4,5,6,7,8,9,10,11,12,13,14,15]
[]
[]
[]
[]
[]
[]
[]
[]
[]
[]
[]
[]
[]
[]
[]
[]
[]
[]
[]
[]
[]
[]
[]
[]
[]
[]
[]
[]
[]
[]
[]
[]
[]
[]
[]
[]
[]
[]
[]
[]
[]
[]
[]
[]
[]
[]
[]
[]
[]
[]
[]
[]
[]
[]
[]
[null,null,null,null,{"$f":"MIN(A2:A56)","v":"2020-05-01"}]
[null,null,null,null,{"$f":"MAX(A2:A56)","v":"2020-05-01"}]

{"sheet":"Laho","index":1,"n_rows":2,"n_cols":27,"rows_kept":2,"cut":false,"hidden":false,"merged":[]}
["التاريخ","الاسم","رقم",{"$f":"Minho!D1","v":"man"},{"$f":"Minho!E1","v":"wan"},{"$f":"Minho!F1","v":"san"},{"$f":"Minho!G1","v":"fan"},{"$f":"Minho!H1","v":"gan"},{"$f":"Minho!I1","v":"ban"},{"$f":"Minho!J1","v":"dan"},{"$f":"Minho!K1","v":"kan"},{"$f":"Minho!L1","v":"con"},{"$f":"Minho!M1","v":"on"},{"$f":"Minho!N1","v":"bon"},{"$f":"Minho!O1","v":"hon"},{"$f":"Minho!P1","v":"fon"},{"$f":"Minho!Q1","v":"lon"},{"$f":"Minho!R1","v":"non"},{"$f":"Minho!S1","v":0},{"$f":"Minho!T1","v":0},{"$f":"Minho!U1","v":0},{"$f":"Minho!V1","v":0},{"$f":"Minho!W1","v":0},{"$f":"Minho!X1","v":0},{"$f":"Minho!Y1","v":0},{"$f":"Minho!Z1","v":0},{"$f":"Minho!AA1","v":0}]
["2020-05-01",null,null,1,2,3,4,5,6,7,8,9,10,11,12,13,14,15]

{"sheet":"Repport","index":2,"n_rows":18,"n_cols":9,"rows_kept":18,"cut":false,"hidden":false,"merged":[[17,4,17,5]]}
["أسماء الاعمدة في\n منه وله هي نفسها",null,"منه","له","التاريخ من","حتى تاريخ"]
[null,null,null,null,"2020-05-01","2020-05-01"]
[{"$f":"OFFSET(Minho!$D$1,,ROWS($A$1:A1)-1)","v":"man"},null,{"$f":"SUM((Minho!$A$2:$A$1000>=$E$2)*(Minho!$A$2:$A$1000<=$F$2)*(INDIRECT(\"Minho!\"&ADDRESS(2,(MATCH($A3,Minho!$A$1:$AA$1)),1)&\":\"&ADDRESS(1000,(MATCH($A3,Minho!$A$1:$AA$1)),1))))","v":14},{"$f":"SUM((Laho!$A$2:$A$1000>=$E$2)*(Laho!$A$2:$A$1000<=$F$2)*(INDIRECT(\"Laho!\"&ADDRESS(2,(MATCH($A3,Laho!$A$1:$AA$1,0)),1)&\":\"&ADDRESS(1000,(MATCH($A3,Laho!$A$1:$AA$1,0)),1))))","v":1},"هذه المعادلات تنفذ المطلوب لكل التواريخ"]
[{"$f":"OFFSET(Minho!$D$1,,ROWS($A$1:A2)-1)","v":"wan"},null,{"$f":"SUM((Minho!$A$2:$A$1000>=$E$2)*(Minho!$A$2:$A$1000<=$F$2)*(INDIRECT(\"Minho!\"&ADDRESS(2,(MATCH($A4,Minho!$A$1:$AA$1)),1)&\":\"&ADDRESS(1000,(MATCH($A4,Minho!$A$1:$AA$1)),1))))","v":15},{"$f":"SUM((Laho!$A$2:$A$1000>=$E$2)*(Laho!$A$2:$A$1000<=$F$2)*(INDIRECT(\"Laho!\"&ADDRESS(2,(MATCH($A4,Laho!$A$1:$AA$1,0)),1)&\":\"&ADDRESS(1000,(MATCH($A4,Laho!$A$1:$AA$1,0)),1))))","v":2},"اريد تنفيذ ما تقوم به المعادلات بناء على التاريخ "]
[{"$f":"OFFSET(Minho!$D$1,,ROWS($A$1:A3)-1)","v":"san"},null,{"$f":"SUM((Minho!$A$2:$A$1000>=$E$2)*(Minho!$A$2:$A$1000<=$F$2)*(INDIRECT(\"Minho!\"&ADDRESS(2,(MATCH($A5,Minho!$A$1:$AA$1)),1)&\":\"&ADDRESS(1000,(MATCH($A5,Minho!$A$1:$AA$1)),1))))","v":15},{"$f":"SUM((Laho!$A$2:$A$1000>=$E$2)*(Laho!$A$2:$A$1000<=$F$2)*(INDIRECT(\"Laho!\"&ADDRESS(2,(MATCH($A5,Laho!$A$1:$AA$1,0)),1)&\":\"&ADDRESS(1000,(MATCH($A5,Laho!$A$1:$AA$1,0)),1))))","v":3},"بنفس هذا الشكل للتقرير "]
[{"$f":"OFFSET(Minho!$D$1,,ROWS($A$1:A4)-1)","v":"fan"},null,{"$f":"SUM((Minho!$A$2:$A$1000>=$E$2)*(Minho!$A$2:$A$1000<=$F$2)*(INDIRECT(\"Minho!\"&ADDRESS(2,(MATCH($A6,Minho!$A$1:$AA$1)),1)&\":\"&ADDRESS(1000,(MATCH($A6,Minho!$A$1:$AA$1)),1))))","v":11},{"$f":"SUM((Laho!$A$2:$A$1000>=$E$2)*(Laho!$A$2:$A$1000<=$F$2)*(INDIRECT(\"Laho!\"&ADDRESS(2,(MATCH($A6,Laho!$A$1:$AA$1,0)),1)&\":\"&ADDRESS(1000,(MATCH($A6,Laho!$A$1:$AA$1,0)),1))))","v":4},"أسماء الاعمدة ثابتة "]
[{"$f":"OFFSET(Minho!$D$1,,ROWS($A$1:A5)-1)","v":"gan"},null,{"$f":"SUM((Minho!$A$2:$A$1000>=$E$2)*(Minho!$A$2:$A$1000<=$F$2)*(INDIRECT(\"Minho!\"&ADDRESS(2,(MATCH($A7,Minho!$A$1:$AA$1)),1)&\":\"&ADDRESS(1000,(MATCH($A7,Minho!$A$1:$AA$1)),1))))","v":11},{"$f":"SUM((Laho!$A$2:$A$1000>=$E$2)*(Laho!$A$2:$A$1000<=$F$2)*(INDIRECT(\"Laho!\"&ADDRESS(2,(MATCH($A7,Laho!$A$1:$AA$1,0)),1)&\":\"&ADDRESS(1000,(MATCH($A7,Laho!$A$1:$AA$1,0)),1))))","v":5}]
[{"$f":"OFFSET(Minho!$D$1,,ROWS($A$1:A6)-1)","v":"ban"},null,{"$f":"SUM((Minho!$A$2:$A$1000>=$E$2)*(Minho!$A$2:$A$1000<=$F$2)*(INDIRECT(\"Minho!\"&ADDRESS(2,(MATCH($A8,Minho!$A$1:$AA$1,0)),1)&\":\"&ADDRESS(1000,(MATCH($A8,Minho!$A$1:$AA$1,0)),1))))","v":6},{"$f":"SUM((Laho!$A$2:$A$1000>=$E$2)*(Laho!$A$2:$A$1000<=$F$2)*(INDIRECT(\"Laho!\"&ADDRESS(2,(MATCH($A8,Laho!$A$1:$AA$1,0)),1)&\":\"&ADDRESS(1000,(MATCH($A8,Laho!$A$1:$AA$1,0)),1))))","v":6}]
[{"$f":"OFFSET(Minho!$D$1,,ROWS($A$1:A7)-1)","v":"dan"},null,{"$f":"SUM((Minho!$A$2:$A$1000>=$E$2)*(Minho!$A$2:$A$1000<=$F$2)*(INDIRECT(\"Minho!\"&ADDRESS(2,(MATCH($A9,Minho!$A$1:$AA$1,0)),1)&\":\"&ADDRESS(1000,(MATCH($A9,Minho!$A$1:$AA$1,0)),1))))","v":7},{"$f":"SUM((Laho!$A$2:$A$1000>=$E$2)*(Laho!$A$2:$A$1000<=$F$2)*(INDIRECT(\"Laho!\"&ADDRESS(2,(MATCH($A9,Laho!$A$1:$AA$1,0)),1)&\":\"&ADDRESS(1000,(MATCH($A9,Laho!$A$1:$AA$1,0)),1))))","v":7}]
[{"$f":"OFFSET(Minho!$D$1,,ROWS($A$1:A8)-1)","v":"kan"},null,{"$f":"SUM((Minho!$A$2:$A$1000>=$E$2)*(Minho!$A$2:$A$1000<=$F$2)*(INDIRECT(\"Minho!\"&ADDRESS(2,(MATCH($A10,Minho!$A$1:$AA$1,0)),1)&\":\"&ADDRESS(1000,(MATCH($A10,Minho!$A$1:$AA$1,0)),1))))","v":8},{"$f":"SUM((Laho!$A$2:$A$1000>=$E$2)*(Laho!$A$2:$A$1000<=$F$2)*(INDIRECT(\"Laho!\"&ADDRESS(2,(MATCH($A10,Laho!$A$1:$AA$1,0)),1)&\":\"&ADDRESS(1000,(MATCH($A10,Laho!$A$1:$AA$1,0)),1))))","v":8}]
[{"$f":"OFFSET(Minho!$D$1,,ROWS($A$1:A9)-1)","v":"con"},null,{"$f":"SUM((Minho!$A$2:$A$1000>=$E$2)*(Minho!$A$2:$A$1000<=$F$2)*(INDIRECT(\"Minho!\"&ADDRESS(2,(MATCH($A11,Minho!$A$1:$AA$1,0)),1)&\":\"&ADDRESS(1000,(MATCH($A11,Minho!$A$1:$AA$1,0)),1))))","v":9},{"$f":"SUM((Laho!$A$2:$A$1000>=$E$2)*(Laho!$A$2:$A$1000<=$F$2)*(INDIRECT(\"Laho!\"&ADDRESS(2,(MATCH($A11,Laho!$A$1:$AA$1,0)),1)&\":\"&ADDRESS(1000,(MATCH($A11,Laho!$A$1:$AA$1,0)),1))))","v":9}]
[{"$f":"OFFSET(Minho!$D$1,,ROWS($A$1:A10)-1)","v":"on"},null,{"$f":"SUM((Minho!$A$2:$A$1000>=$E$2)*(Minho!$A$2:$A$1000<=$F$2)*(INDIRECT(\"Minho!\"&ADDRESS(2,(MATCH($A12,Minho!$A$1:$AA$1,0)),1)&\":\"&ADDRESS(1000,(MATCH($A12,Minho!$A$1:$AA$1,0)),1))))","v":10},{"$f":"SUM((Laho!$A$2:$A$1000>=$E$2)*(Laho!$A$2:$A$1000<=$F$2)*(INDIRECT(\"Laho!\"&ADDRESS(2,(MATCH($A12,Laho!$A$1:$AA$1,0)),1)&\":\"&ADDRESS(1000,(MATCH($A12,Laho!$A$1:$AA$1,0)),1))))","v":10}]
[{"$f":"OFFSET(Minho!$D$1,,ROWS($A$1:A11)-1)","v":"bon"},null,{"$f":"SUM((Minho!$A$2:$A$1000>=$E$2)*(Minho!$A$2:$A$1000<=$F$2)*(INDIRECT(\"Minho!\"&ADDRESS(2,(MATCH($A13,Minho!$A$1:$AA$1,0)),1)&\":\"&ADDRESS(1000,(MATCH($A13,Minho!$A$1:$AA$1,0)),1))))","v":11},{"$f":"SUM((Laho!$A$2:$A$1000>=$E$2)*(Laho!$A$2:$A$1000<=$F$2)*(INDIRECT(\"Laho!\"&ADDRESS(2,(MATCH($A13,Laho!$A$1:$AA$1,0)),1)&\":\"&ADDRESS(1000,(MATCH($A13,Laho!$A$1:$AA$1,0)),1))))","v":11}]
[{"$f":"OFFSET(Minho!$D$1,,ROWS($A$1:A12)-1)","v":"hon"},null,{"$f":"SUM((Minho!$A$2:$A$1000>=$E$2)*(Minho!$A$2:$A$1000<=$F$2)*(INDIRECT(\"Minho!\"&ADDRESS(2,(MATCH($A14,Minho!$A$1:$AA$1,0)),1)&\":\"&ADDRESS(1000,(MATCH($A14,Minho!$A$1:$AA$1,0)),1))))","v":12},{"$f":"SUM((Laho!$A$2:$A$1000>=$E$2)*(Laho!$A$2:$A$1000<=$F$2)*(INDIRECT(\"Laho!\"&ADDRESS(2,(MATCH($A14,Laho!$A$1:$AA$1,0)),1)&\":\"&ADDRESS(1000,(MATCH($A14,Laho!$A$1:$AA$1,0)),1))))","v":12}]
[{"$f":"OFFSET(Minho!$D$1,,ROWS($A$1:A13)-1)","v":"fon"},null,{"$f":"SUM((Minho!$A$2:$A$1000>=$E$2)*(Minho!$A$2:$A$1000<=$F$2)*(INDIRECT(\"Minho!\"&ADDRESS(2,(MATCH($A15,Minho!$A$1:$AA$1,0)),1)&\":\"&ADDRESS(1000,(MATCH($A15,Minho!$A$1:$AA$1,0)),1))))","v":13},{"$f":"SUM((Laho!$A$2:$A$1000>=$E$2)*(Laho!$A$2:$A$1000<=$F$2)*(INDIRECT(\"Laho!\"&ADDRESS(2,(MATCH($A15,Laho!$A$1:$AA$1,0)),1)&\":\"&ADDRESS(1000,(MATCH($A15,Laho!$A$1:$AA$1,0)),1))))","v":13}]
[{"$f":"OFFSET(Minho!$D$1,,ROWS($A$1:A14)-1)","v":"lon"},null,{"$f":"SUM((Minho!$A$2:$A$1000>=$E$2)*(Minho!$A$2:$A$1000<=$F$2)*(INDIRECT(\"Minho!\"&ADDRESS(2,(MATCH($A16,Minho!$A$1:$AA$1,0)),1)&\":\"&ADDRESS(1000,(MATCH($A16,Minho!$A$1:$AA$1,0)),1))))","v":14},{"$f":"SUM((Laho!$A$2:$A$1000>=$E$2)*(Laho!$A$2:$A$1000<=$F$2)*(INDIRECT(\"Laho!\"&ADDRESS(2,(MATCH($A16,Laho!$A$1:$AA$1,0)),1)&\":\"&ADDRESS(1000,(MATCH($A16,Laho!$A$1:$AA$1,0)),1))))","v":14}]
[{"$f":"OFFSET(Minho!$D$1,,ROWS($A$1:A15)-1)","v":"non"},null,{"$f":"SUM((Minho!$A$2:$A$1000>=$E$2)*(Minho!$A$2:$A$1000<=$F$2)*(INDIRECT(\"Minho!\"&ADDRESS(2,(MATCH($A17,Minho!$A$1:$AA$1,0)),1)&\":\"&ADDRESS(1000,(MATCH($A17,Minho!$A$1:$AA$1,0)),1))))","v":15},{"$f":"SUM((Laho!$A$2:$A$1000>=$E$2)*(Laho!$A$2:$A$1000<=$F$2)*(INDIRECT(\"Laho!\"&ADDRESS(2,(MATCH($A17,Laho!$A$1:$AA$1,0)),1)&\":\"&ADDRESS(1000,(MATCH($A17,Laho!$A$1:$AA$1,0)),1))))","v":15}]
[null,null,{"$f":"SUM(C3:C17)","v":171},{"$f":"SUM(D3:D17)","v":120},null,null,null,null,0]