{"text_format":"1","workbook":"xlsx","n_sheets":5,"sheets":["add","bainat","ورقة2","معلمين","ورقة1"],"not_rendered":{"charts":0,"images":1,"macros":1,"external_links":0,"defined_names":5,"comments":0,"pivot_tables":0},"unopened":[],"bounds":{"document_bytes":16777216,"sheet_cells":100000,"rows_first":2000,"rows_last":500,"rows_between":2000,"halvings":0,"cell_chars":16384,"cell_head_chars":4096},"cells_cut":0,"cells_raw":0,"read":"whole","date_system":"1900"}

{"sheet":"add","index":0,"n_rows":41,"n_cols":1,"rows_kept":41,"cut":false,"hidden":true,"merged":[]}
[]
[]
[]
[]
["كود المعلم "]
["الاسم رباعي "]
["جهة العمل "]
["الرقم القومي "]
["تاريخ الميلاد"]
["النوع "]
["الحالة\n الاجتماعية"]
["العنوان"]
["رقم التليفون"]
["البريد الالكتروني"]
["الديانة "]
["المؤهل الاصلي"]
["نوع المؤهل"]
["تاريخه"]
["التقدرير"]
["جهة الحصول عليه"]
["المؤهل الاضافي"]
["تاريخه2"]
["التقدير"]
["جهة الحصول علية"]
["المجموعة النوعية"]
["تاريخ التعيين"]
["الموقف من العمل"]
["تاريخ استلام العمل"]
["الوظيفة الحالية"]
["رقم القرار"]
["تاريخ الوظيفة"]
["مادة التدريس"]
["التخصص علي الكادر "]
["الدرجة المالية "]
["تاريخ الدرجة"]
["اصلي / منتدب"]
["كلي / جزئي"]
["الجهة المنتدب اليها"]
["الجهة المنتدب منها"]
["الوظيفة الاشرافية للمعلمين "]
["الوظيفة الاشرافية لغير المعلمين "]

{"sheet":"bainat","index":1,"n_rows":8,"n_cols":24,"rows_kept":8,"cut":false,"hidden":false,"merged":[[1,1,3,2]]}
[]
[null,"بيانات العاملين "]
[]
[]
[]
[]
[null,"كود المعلم ","الاسم رباعي ","الرقم القومي ","تاريخ الميلاد","النوع ","الحالة\n الاجتماعية","العنوان","رقم التليفون","الديانة ","المؤهل الاصلي","تاريخه","المؤهل الاضافي","تاريخه2","تاريخ التعيين","الوظيفة الحالية","رقم القرار","تاريخ الوظيفة","مادة التدريس","التخصص علي الكادر ","الدرجة المالية ","تاريخ الدرجة","اصلي / منتدب","كلي / جزئي"]
[null,"غغغغغ","ففففف",null,null,null,null,null,"",null,null,null,null,43962,null,null,null,null,null,null,null,null,"اصلي","كلي"]

{"sheet":"ورقة2","index":2,"n_rows":29,"n_cols":5,"rows_kept":29,"cut":false,"hidden":false,"merged":[[28,2,28,3],[27,2,27,3],[22,2,22,3],[23,2,23,3],[24,2,24,3],[25,2,25,3],[26,2,26,3]]}
[]
[]
[]
[]
[]
[]
[null,null,"كود المعلم"]
[null,null,"الاسم",null,"ففففف"]
[null,null,"الرقم القومي"]
[null,null,"تاريخ الميلاد"]
[null,null,"النوع"]
[null,null,"الحالة الاجتماعية"]
[null,null,"العنوان"]
[null,null,"تليفون",null,""]
[null,null,"الديانة"]
[null,null,"المؤهل الاصلي"]
[null,null,"تاريخه"]
[null,null,"المؤهل الاضافي"]
[null,null,"تاريخه",null,"2020-05-11"]
[null,null,"تاريخ التعيين"]
[null,null,"الوظيفة الحالية"]
[null,null,"رقم القرار"]
[null,null,"تاريخ الوظيفة"]
[null,null,"مادة التدريس"]
[null,null,"التخصص علي الكادر "]
[null,null,"الدرجة المالية"]
[null,null,"تاريخ الدرجة"]
[null,null,"اصلي / منتدب",null,"اصلي"]
[null,null,"كلي / جزئي",null,"كلي"]

{"sheet":"معلمين","index":3,"n_rows":203,"n_cols":38,"rows_kept":203,"cut":false,"hidden":true,"merged":[[0,3,0,37]]}
[null,null,null,"بيــــــــــــــــــــــــــــــــــــانـــــــــــــــــــــــــات العــــــــــــــــــــــــــــاملـــــــــــــــــــــــــــــــــــــــــــين"]
[]
["م","كود المعلم ","الاسم رباعي ","جهة العمل ","الرقم القومي ","تاريخ الميلاد","النوع ","الحالة\n الاجتماعية","العنوان","رقم التليفون","البريد الالكتروني","الديانة ","المؤهل الاصلي","نوع المؤهل","تاريخه","التقدرير","جهة الحصول عليه","المؤهل الاضافي","تاريخه2","التقدير","جهة الحصول علية","المجموعة النوعية","تاريخ التعيين","الموقف من العمل","تاريخ استلام العمل","الوظيفة الحالية","رقم القرار","تاريخ الوظيفة","مادة التدريس","التخصص علي الكادر ","الدرجة المالية ","تاريخ الدرجة","اصلي / منتدب","كلي / جزئي","الجهة المنتدب اليها","الجهة المنتدب منها","الوظيفة الاشرافية للمعلمين ","الوظيفة الاشرافية لغير المعلمين "]
[{"$f":"IF(B4=\"\",\"\",SUBTOTAL(3,$B$4:B4))","v":""}]
[{"$f":"IF(B5=\"\",\"\",SUBTOTAL(3,$B$4:B5))","v":""}]
[{"$f":"IF(B6=\"\",\"\",SUBTOTAL(3,$B$4:B6))","v":""}]
[{"$f":"IF(B7=\"\",\"\",SUBTOTAL(3,$B$4:B7))","v":""}]
[{"$f":"IF(B8=\"\",\"\",SUBTOTAL(3,$B$4:B8))","v":""}]
[{"$f":"IF(B9=\"\",\"\",SUBTOTAL(3,$B$4:B9))","v":""}]
[{"$f":"IF(B10=\"\",\"\",SUBTOTAL(3,$B$4:B10))","v":""}]
[{"$f":"IF(B11=\"\",\"\",SUBTOTAL(3,$B$4:B11))","v":""}]
[{"$f":"IF(B12=\"\",\"\",SUBTOTAL(3,$B$4:B12))","v":""}]
[{"$f":"IF(B13=\"\",\"\",SUBTOTAL(3,$B$4:B13))","v":""}]
[{"$f":"IF(B14=\"\",\"\",SUBTOTAL(3,$B$4:B14))","v":""}]
[{"$f":"IF(B15=\"\",\"\",SUBTOTAL(3,$B$4:B15))","v":""}]
[{"$f":"IF(B16=\"\",\"\",SUBTOTAL(3,$B$4:B16))","v":""}]
[{"$f":"IF(B17=\"\",\"\",SUBTOTAL(3,$B$4:B17))","v":""}]
[{"$f":"IF(B18=\"\",\"\",SUBTOTAL(3,$B$4:B18))","v":""}]
[{"$f":"IF(B19=\"\",\"\",SUBTOTAL(3,$B$4:B19))","v":""}]
[{"$f":"IF(B20=\"\",\"\",SUBTOTAL(3,$B$4:B20))","v":""}]
[{"$f":"IF(B21=\"\",\"\",SUBTOTAL(3,$B$4:B21))","v":""}]
[{"$f":"IF(B22=\"\",\"\",SUBTOTAL(3,$B$4:B22))","v":""}]
[{"$f":"IF(B23=\"\",\"\",SUBTOTAL(3,$B$4:B23))","v":""}]
[{"$f":"IF(B24=\"\",\"\",SUBTOTAL(3,$B$4:B24))","v":""}]
[{"$f":"IF(B25=\"\",\"\",SUBTOTAL(3,$B$4:B25))","v":""}]
[{"$f":"IF(B26=\"\",\"\",SUBTOTAL(3,$B$4:B26))","v":""}]
[{"$f":"IF(B27=\"\",\"\",SUBTOTAL(3,$B$4:B27))","v":""}]
[{"$f":"IF(B28=\"\",\"\",SUBTOTAL(3,$B$4:B28))","v":""}]
[{"$f":"IF(B29=\"\",\"\",SUBTOTAL(3,$B$4:B29))","v":""}]
[{"$f":"IF(B30=\"\",\"\",SUBTOTAL(3,$B$4:B30))","v":""}]
[{"$f":"IF(B31=\"\",\"\",SUBTOTAL(3,$B$4:B31))","v":""}]
[{"$f":"IF(B32=\"\",\"\",SUBTOTAL(3,$B$4:B32))","v":""}]
[{"$f":"IF(B33=\"\",\"\",SUBTOTAL(3,$B$4:B33))","v":""}]
[{"$f":"IF(B34=\"\",\"\",SUBTOTAL(3,$B$4:B34))","v":""}]
[{"$f":"IF(B35=\"\",\"\",SUBTOTAL(3,$B$4:B35))","v":""}]
[{"$f":"IF(B36=\"\",\"\",SUBTOTAL(3,$B$4:B36))","v":""}]
[{"$f":"IF(B37=\"\",\"\",SUBTOTAL(3,$B$4:B37))","v":""}]
[{"$f":"IF(B38=\"\",\"\",SUBTOTAL(3,$B$4:B38))","v":""}]
[{"$f":"IF(B39=\"\",\"\",SUBTOTAL(3,$B$4:B39))","v":""}]
[{"$f":"IF(B40=\"\",\"\",SUBTOTAL(3,$B$4:B40))","v":""}]
[{"$f":"IF(B41=\"\",\"\",SUBTOTAL(3,$B$4:B41))","v":""}]
[{"$f":"IF(B42=\"\",\"\",SUBTOTAL(3,$B$4:B42))","v":""}]
[{"$f":"IF(B43=\"\",\"\",SUBTOTAL(3,$B$4:B43))","v":""}]
[{"$f":"IF(B44=\"\",\"\",SUBTOTAL(3,$B$4:B44))","v":""}]
[{"$f":"IF(B45=\"\",\"\",SUBTOTAL(3,$B$4:B45))","v":""}]
[{"$f":"IF(B46=\"\",\"\",SUBTOTAL(3,$B$4:B46))","v":""}]
[{"$f":"IF(B47=\"\",\"\",SUBTOTAL(3,$B$4:B47))","v":""}]
[{"$f":"IF(B48=\"\",\"\",SUBTOTAL(3,$B$4:B48))","v":""}]
[{"$f":"IF(B49=\"\",\"\",SUBTOTAL(3,$B$4:B49))","v":""}]
[{"$f":"IF(B50=\"\",\"\",SUBTOTAL(3,$B$4:B50))","v":""}]
[{"$f":"IF(B51=\"\",\"\",SUBTOTAL(3,$B$4:B51))","v":""}]
[{"$f":"IF(B52=\"\",\"\",SUBTOTAL(3,$B$4:B52))","v":""}]
[{"$f":"IF(B53=\"\",\"\",SUBTOTAL(3,$B$4:B53))","v":""}]
[{"$f":"IF(B54=\"\",\"\",SUBTOTAL(3,$B$4:B54))","v":""}]
[{"$f":"IF(B55=\"\",\"\",SUBTOTAL(3,$B$4:B55))","v":""}]
[{"$f":"IF(B56=\"\",\"\",SUBTOTAL(3,$B$4:B56))","v":""}]
[{"$f":"IF(B57=\"\",\"\",SUBTOTAL(3,$B$4:B57))","v":""}]
[{"$f":"IF(B58=\"\",\"\",SUBTOTAL(3,$B$4:B58))","v":""}]
[{"$f":"IF(B59=\"\",\"\",SUBTOTAL(3,$B$4:B59))","v":""}]
[{"$f":"IF(B60=\"\",\"\",SUBTOTAL(3,$B$4:B60))","v":""}]
[{"$f":"IF(B61=\"\",\"\",SUBTOTAL(3,$B$4:B61))","v":""}]
[{"$f":"IF(B62=\"\",\"\",SUBTOTAL(3,$B$4:B62))","v":""}]
[{"$f":"IF(B63=\"\",\"\",SUBTOTAL(3,$B$4:B63))","v":""}]
[{"$f":"IF(B64=\"\",\"\",SUBTOTAL(3,$B$4:B64))","v":""}]
[{"$f":"IF(B65=\"\",\"\",SUBTOTAL(3,$B$4:B65))","v":""}]
[{"$f":"IF(B66=\"\",\"\",SUBTOTAL(3,$B$4:B66))","v":""}]
[{"$f":"IF(B67=\"\",\"\",SUBTOTAL(3,$B$4:B67))","v":""}]
[{"$f":"IF(B68=\"\",\"\",SUBTOTAL(3,$B$4:B68))","v":""}]
[{"$f":"IF(B69=\"\",\"\",SUBTOTAL(3,$B$4:B69))","v":""}]
[{"$f":"IF(B70=\"\",\"\",SUBTOTAL(3,$B$4:B70))","v":""}]
[{"$f":"IF(B71=\"\",\"\",SUBTOTAL(3,$B$4:B71))","v":""}]
[{"$f":"IF(B72=\"\",\"\",SUBTOTAL(3,$B$4:B72))","v":""}]
[{"$f":"IF(B73=\"\",\"\",SUBTOTAL(3,$B$4:B73))","v":""}]
[{"$f":"IF(B74=\"\",\"\",SUBTOTAL(3,$B$4:B74))","v":""}]
[{"$f":"IF(B75=\"\",\"\",SUBTOTAL(3,$B$4:B75))","v":""}]
[{"$f":"IF(B76=\"\",\"\",SUBTOTAL(3,$B$4:B76))","v":""}]
[{"$f":"IF(B77=\"\",\"\",SUBTOTAL(3,$B$4:B77))","v":""}]
[{"$f":"IF(B78=\"\",\"\",SUBTOTAL(3,$B$4:B78))","v":""}]
[{"$f":"IF(B79=\"\",\"\",SUBTOTAL(3,$B$4:B79))","v":""}]
[{"$f":"IF(B80=\"\",\"\",SUBTOTAL(3,$B$4:B80))","v":""}]
[{"$f":"IF(B81=\"\",\"\",SUBTOTAL(3,$B$4:B81))","v":""}]
[{"$f":"IF(B82=\"\",\"\",SUBTOTAL(3,$B$4:B82))","v":""}]
[{"$f":"IF(B83=\"\",\"\",SUBTOTAL(3,$B$4:B83))","v":""}]
[{"$f":"IF(B84=\"\",\"\",SUBTOTAL(3,$B$4:B84))","v":""}]
[{"$f":"IF(B85=\"\",\"\",SUBTOTAL(3,$B$4:B85))","v":""}]
[{"$f":"IF(B86=\"\",\"\",SUBTOTAL(3,$B$4:B86))","v":""}]
[{"$f":"IF(B87=\"\",\"\",SUBTOTAL(3,$B$4:B87))","v":""}]
[{"$f":"IF(B88=\"\",\"\",SUBTOTAL(3,$B$4:B88))","v":""}]
[{"$f":"IF(B89=\"\",\"\",SUBTOTAL(3,$B$4:B89))","v":""}]
[{"$f":"IF(B90=\"\",\"\",SUBTOTAL(3,$B$4:B90))","v":""}]
[{"$f":"IF(B91=\"\",\"\",SUBTOTAL(3,$B$4:B91))","v":""}]
[{"$f":"IF(B92=\"\",\"\",SUBTOTAL(3,$B$4:B92))","v":""}]
[{"$f":"IF(B93=\"\",\"\",SUBTOTAL(3,$B$4:B93))","v":""}]
[{"$f":"IF(B94=\"\",\"\",SUBTOTAL(3,$B$4:B94))","v":""}]
[{"$f":"IF(B95=\"\",\"\",SUBTOTAL(3,$B$4:B95))","v":""}]
[{"$f":"IF(B96=\"\",\"\",SUBTOTAL(3,$B$4:B96))","v":""}]
[{"$f":"IF(B97=\"\",\"\",SUBTOTAL(3,$B$4:B97))","v":""}]
[{"$f":"IF(B98=\"\",\"\",SUBTOTAL(3,$B$4:B98))","v":""}]
[{"$f":"IF(B99=\"\",\"\",SUBTOTAL(3,$B$4:B99))","v":""}]
[{"$f":"IF(B100=\"\",\"\",SUBTOTAL(3,$B$4:B100))","v":""}]
[{"$f":"IF(B101=\"\",\"\",SUBTOTAL(3,$B$4:B101))","v":""}]
[{"$f":"IF(B102=\"\",\"\",SUBTOTAL(3,$B$4:B102))","v":""}]
[{"$f":"IF(B103=\"\",\"\",SUBTOTAL(3,$B$4:B103))","v":""}]
[{"$f":"IF(B104=\"\",\"\",SUBTOTAL(3,$B$4:B104))","v":""}]
[{"$f":"IF(B105=\"\",\"\",SUBTOTAL(3,$B$4:B105))","v":""}]
[{"$f":"IF(B106=\"\",\"\",SUBTOTAL(3,$B$4:B106))","v":""}]
[{"$f":"IF(B107=\"\",\"\",SUBTOTAL(3,$B$4:B107))","v":""}]
[{"$f":"IF(B108=\"\",\"\",SUBTOTAL(3,$B$4:B108))","v":""}]
[{"$f":"IF(B109=\"\",\"\",SUBTOTAL(3,$B$4:B109))","v":""}]
[{"$f":"IF(B110=\"\",\"\",SUBTOTAL(3,$B$4:B110))","v":""}]
[{"$f":"IF(B111=\"\",\"\",SUBTOTAL(3,$B$4:B111))","v":""}]
[{"$f":"IF(B112=\"\",\"\",SUBTOTAL(3,$B$4:B112))","v":""}]
[{"$f":"IF(B113=\"\",\"\",SUBTOTAL(3,$B$4:B113))","v":""}]
[{"$f":"IF(B114=\"\",\"\",SUBTOTAL(3,$B$4:B114))","v":""}]
[{"$f":"IF(B115=\"\",\"\",SUBTOTAL(3,$B$4:B115))","v":""}]
[{"$f":"IF(B116=\"\",\"\",SUBTOTAL(3,$B$4:B116))","v":""}]
[{"$f":"IF(B117=\"\",\"\",SUBTOTAL(3,$B$4:B117))","v":""}]
[{"$f":"IF(B118=\"\",\"\",SUBTOTAL(3,$B$4:B118))","v":""}]
[{"$f":"IF(B119=\"\",\"\",SUBTOTAL(3,$B$4:B119))","v":""}]
[{"$f":"IF(B120=\"\",\"\",SUBTOTAL(3,$B$4:B120))","v":""}]
[{"$f":"IF(B121=\"\",\"\",SUBTOTAL(3,$B$4:B121))","v":""}]
[{"$f":"IF(B122=\"\",\"\",SUBTOTAL(3,$B$4:B122))","v":""}]
[{"$f":"IF(B123=\"\",\"\",SUBTOTAL(3,$B$4:B123))","v":""}]
[{"$f":"IF(B124=\"\",\"\",SUBTOTAL(3,$B$4:B124))","v":""}]
[{"$f":"IF(B125=\"\",\"\",SUBTOTAL(3,$B$4:B125))","v":""}]
[{"$f":"IF(B126=\"\",\"\",SUBTOTAL(3,$B$4:B126))","v":""}]
[{"$f":"IF(B127=\"\",\"\",SUBTOTAL(3,$B$4:B127))","v":""}]
[{"$f":"IF(B128=\"\",\"\",SUBTOTAL(3,$B$4:B128))","v":""}]
[{"$f":"IF(B129=\"\",\"\",SUBTOTAL(3,$B$4:B129))","v":""}]
[{"$f":"IF(B130=\"\",\"\",SUBTOTAL(3,$B$4:B130))","v":""}]
[{"$f":"IF(B131=\"\",\"\",SUBTOTAL(3,$B$4:B131))","v":""}]
[{"$f":"IF(B132=\"\",\"\",SUBTOTAL(3,$B$4:B132))","v":""}]
[{"$f":"IF(B133=\"\",\"\",SUBTOTAL(3,$B$4:B133))","v":""}]
[{"$f":"IF(B134=\"\",\"\",SUBTOTAL(3,$B$4:B134))","v":""}]
[{"$f":"IF(B135=\"\",\"\",SUBTOTAL(3,$B$4:B135))","v":""}]
[{"$f":"IF(B136=\"\",\"\",SUBTOTAL(3,$B$4:B136))","v":""}]
[{"$f":"IF(B137=\"\",\"\",SUBTOTAL(3,$B$4:B137))","v":""}]
[{"$f":"IF(B138=\"\",\"\",SUBTOTAL(3,$B$4:B138))","v":""}]
[{"$f":"IF(B139=\"\",\"\",SUBTOTAL(3,$B$4:B139))","v":""}]
[{"$f":"IF(B140=\"\",\"\",SUBTOTAL(3,$B$4:B140))","v":""}]
[{"$f":"IF(B141=\"\",\"\",SUBTOTAL(3,$B$4:B141))","v":""}]
[{"$f":"IF(B142=\"\",\"\",SUBTOTAL(3,$B$4:B142))","v":""}]
[{"$f":"IF(B143=\"\",\"\",SUBTOTAL(3,$B$4:B143))","v":""}]
[{"$f":"IF(B144=\"\",\"\",SUBTOTAL(3,$B$4:B144))","v":""}]
[{"$f":"IF(B145=\"\",\"\",SUBTOTAL(3,$B$4:B145))","v":""}]
[{"$f":"IF(B146=\"\",\"\",SUBTOTAL(3,$B$4:B146))","v":""}]
[{"$f":"IF(B147=\"\",\"\",SUBTOTAL(3,$B$4:B147))","v":""}]
[{"$f":"IF(B148=\"\",\"\",SUBTOTAL(3,$B$4:B148))","v":""}]
[{"$f":"IF(B149=\"\",\"\",SUBTOTAL(3,$B$4:B149))","v":""}]
[{"$f":"IF(B150=\"\",\"\",SUBTOTAL(3,$B$4:B150))","v":""}]
[{"$f":"IF(B151=\"\",\"\",SUBTOTAL(3,$B$4:B151))","v":""}]
[{"$f":"IF(B152=\"\",\"\",SUBTOTAL(3,$B$4:B152))","v":""}]
[{"$f":"IF(B153=\"\",\"\",SUBTOTAL(3,$B$4:B153))","v":""}]
[{"$f":"IF(B154=\"\",\"\",SUBTOTAL(3,$B$4:B154))","v":""}]
[{"$f":"IF(B155=\"\",\"\",SUBTOTAL(3,$B$4:B155))","v":""}]
[{"$f":"IF(B156=\"\",\"\",SUBTOTAL(3,$B$4:B156))","v":""}]
[{"$f":"IF(B157=\"\",\"\",SUBTOTAL(3,$B$4:B157))","v":""}]
[{"$f":"IF(B158=\"\",\"\",SUBTOTAL(3,$B$4:B158))","v":""}]
[{"$f":"IF(B159=\"\",\"\",SUBTOTAL(3,$B$4:B159))","v":""}]
[{"$f":"IF(B160=\"\",\"\",SUBTOTAL(3,$B$4:B160))","v":""}]
[{"$f":"IF(B161=\"\",\"\",SUBTOTAL(3,$B$4:B161))","v":""}]
[{"$f":"IF(B162=\"\",\"\",SUBTOTAL(3,$B$4:B162))","v":""}]
[{"$f":"IF(B163=\"\",\"\",SUBTOTAL(3,$B$4:B163))","v":""}]
[{"$f":"IF(B164=\"\",\"\",SUBTOTAL(3,$B$4:B164))","v":""}]
[{"$f":"IF(B165=\"\",\"\",SUBTOTAL(3,$B$4:B165))","v":""}]
[{"$f":"IF(B166=\"\",\"\",SUBTOTAL(3,$B$4:B166))","v":""}]
[{"$f":"IF(B167=\"\",\"\",SUBTOTAL(3,$B$4:B167))","v":""}]
[{"$f":"IF(B168=\"\",\"\",SUBTOTAL(3,$B$4:B168))","v":""}]
[{"$f":"IF(B169=\"\",\"\",SUBTOTAL(3,$B$4:B169))","v":""}]
[{"$f":"IF(B170=\"\",\"\",SUBTOTAL(3,$B$4:B170))","v":""}]
[{"$f":"IF(B171=\"\",\"\",SUBTOTAL(3,$B$4:B171))","v":""}]
[{"$f":"IF(B172=\"\",\"\",SUBTOTAL(3,$B$4:B172))","v":""}]
[{"$f":"IF(B173=\"\",\"\",SUBTOTAL(3,$B$4:B173))","v":""}]
[{"$f":"IF(B174=\"\",\"\",SUBTOTAL(3,$B$4:B174))","v":""}]
[{"$f":"IF(B175=\"\",\"\",SUBTOTAL(3,$B$4:B175))","v":""}]
[{"$f":"IF(B176=\"\",\"\",SUBTOTAL(3,$B$4:B176))","v":""}]
[{"$f":"IF(B177=\"\",\"\",SUBTOTAL(3,$B$4:B177))","v":""}]
[{"$f":"IF(B178=\"\",\"\",SUBTOTAL(3,$B$4:B178))","v":""}]
[{"$f":"IF(B179=\"\",\"\",SUBTOTAL(3,$B$4:B179))","v":""}]
[{"$f":"IF(B180=\"\",\"\",SUBTOTAL(3,$B$4:B180))","v":""}]
[{"$f":"IF(B181=\"\",\"\",SUBTOTAL(3,$B$4:B181))","v":""}]
[{"$f":"IF(B182=\"\",\"\",SUBTOTAL(3,$B$4:B182))","v":""}]
[{"$f":"IF(B183=\"\",\"\",SUBTOTAL(3,$B$4:B183))","v":""}]
[{"$f":"IF(B184=\"\",\"\",SUBTOTAL(3,$B$4:B184))","v":""}]
[{"$f":"IF(B185=\"\",\"\",SUBTOTAL(3,$B$4:B185))","v":""}]
[{"$f":"IF(B186=\"\",\"\",SUBTOTAL(3,$B$4:B186))","v":""}]
[{"$f":"IF(B187=\"\",\"\",SUBTOTAL(3,$B$4:B187))","v":""}]
[{"$f":"IF(B188=\"\",\"\",SUBTOTAL(3,$B$4:B188))","v":""}]
[{"$f":"IF(B189=\"\",\"\",SUBTOTAL(3,$B$4:B189))","v":""}]
[{"$f":"IF(B190=\"\",\"\",SUBTOTAL(3,$B$4:B190))","v":""}]
[{"$f":"IF(B191=\"\",\"\",SUBTOTAL(3,$B$4:B191))","v":""}]
[{"$f":"IF(B192=\"\",\"\",SUBTOTAL(3,$B$4:B192))","v":""}]
[{"$f":"IF(B193=\"\",\"\",SUBTOTAL(3,$B$4:B193))","v":""}]
[{"$f":"IF(B194=\"\",\"\",SUBTOTAL(3,$B$4:B194))","v":""}]
[{"$f":"IF(B195=\"\",\"\",SUBTOTAL(3,$B$4:B195))","v":""}]
[{"$f":"IF(B196=\"\",\"\",SUBTOTAL(3,$B$4:B196))","v":""}]
[{"$f":"IF(B197=\"\",\"\",SUBTOTAL(3,$B$4:B197))","v":""}]
[{"$f":"IF(B198=\"\",\"\",SUBTOTAL(3,$B$4:B198))","v":""}]
[{"$f":"IF(B199=\"\",\"\",SUBTOTAL(3,$B$4:B199))","v":""}]
[{"$f":"IF(B200=\"\",\"\",SUBTOTAL(3,$B$4:B200))","v":""}]
[{"$f":"IF(B201=\"\",\"\",SUBTOTAL(3,$B$4:B201))","v":""}]
[{"$f":"IF(B202=\"\",\"\",SUBTOTAL(3,$B$4:B202))","v":""}]
[{"$f":"IF(B203=\"\",\"\",SUBTOTAL(3,$B$4:B203))","v":""}]

{"sheet":"ورقة1","index":4,"n_rows":79,"n_cols":32,"rows_kept":79,"cut":false,"hidden":false,"merged":[]}
["لكود","المحافظة","1/1","1/2","1/3",null,"2021/2020",1,null,"سبتمبر",2020,"سبتمبر",2020,{"$f":"L1&M1","v":"سبتمبر2020"},"2020-09-01","ذكر","مسلم","اصلي","كلي","اللغة العربية",null,"أكتوبر2020","نوفمبر2020","ديسمبر2020","1/1",11001]
[1,"القاهرة","2/1","2/2","2/3",null,"2022/2021",2,null,"أكتوبر",2021,"أكتوبر",2020,{"$f":"L2&M2","v":"أكتوبر2020"},"2020-10-01","انثي","مسيحي","منتدب","جزئي","التربية الدينية",null,"فبراير2021","مارس2021","أبريل2021","2/1",21001]
[2,"الإسكندرية","3/1","3/2","3/3",null,"2023/2022",3,null,"نوفمبر",2022,"نوفمبر",2020,"نوفمبر2020","2020-11-01",null,null,null,null,"الدراسات الاجتماعية",null,"أكتوبر2021","نوفمبر2021","ديسمبر2021","3/1",31001]
[3,"بورسعيد","4/1","4/2","4/3",null,"2024/2023",4,null,"ديسمبر",2023,"ديسمبر",2020,"ديسمبر2020","2020-12-01",null,null,null,null,"العلوم",null,"فبراير2022","مارس2022","أبريل2022","4/1",41001]
[4,"السويس","5/1","5/2","5/3",null,null,null,null,"يناير",2024,"فبراير",2021,"فبراير2021","2021-02-01",null,null,null,null,"الانجليزي",null,"أكتوبر2022","نوفمبر2022","ديسمبر2022","5/1",51001]
[11,"دمياط","اختار الفصل","اختار الفصل","اختار الفصل",null,null,null,null,"فبراير",2025,"مارس",2021,"مارس2021","2021-03-01",null,null,null,null,"الحاسب الالي",null,"فبراير2023","مارس2023","أبريل2023","1/2",12001]
[12,"الدقهلية",null,null,null,null,null,null,null,"مارس","اختار السنة","أبريل",2021,"أبريل2021","2021-04-01",null,null,null,null,"الرياضيات",null,null,null,null,"2/2",22001]
[13,"الشرقية",null,null,null,null,null,null,null,"أبريل",null,"سبتمبر",2021,"سبتمبر2021","2021-09-01",null,null,null,null,"التربيه الفنية",null,null,null,null,"3/2",32001]
[14,"القليوبية",null,null,null,null,null,null,null,"مايو",null,"أكتوبر",2021,"أكتوبر2021","2021-10-01",null,null,null,null,null,null,null,null,null,"4/2",42001]
[15,"كفر الشيخ",null,null,null,null,null,null,null,"اختار الشهر ",null,"نوفمبر",2021,"نوفمبر2021","2021-11-01",null,null,null,null,null,null,null,null,null,"5/2",52001]
[16,"الغربية",null,null,null,null,null,null,null,null,null,"ديسمبر",2021,"ديسمبر2021","2021-12-01",null,null,null,null,null,null,null,null,null,"1/3",13001]
[17,"المنوفية",null,null,null,null,null,null,null,null,null,"فبراير",2022,"فبراير2022","2022-02-01",null,null,null,null,null,null,null,null,null,"2/3",23001]
[18,"البحيرة",null,null,null,null,null,null,null,null,null,"مارس",2022,"مارس2022","2022-03-01",null,null,null,null,null,null,null,null,null,"3/3",33001]
[19,"الإسماعيلية",null,null,null,null,null,null,null,null,null,"أبريل",2022,"أبريل2022","2022-04-01",null,null,null,null,null,null,null,null,null,"4/3",43001]
[21,"الجيزة",null,null,null,null,null,null,null,null,null,"سبتمبر",2022,"سبتمبر2022",null,null,null,null,null,null,null,null,null,null,"5/3",53001]
[22,"بني سويف",null,null,null,null,null,null,null,null,null,"أكتوبر",2022,"أكتوبر2022"]
[23,"الفيوم",null,null,null,null,null,null,null,null,null,"نوفمبر",2022,"نوفمبر2022"]
[24,"المنيا",null,null,null,null,null,null,null,null,null,"ديسمبر",2022,"ديسمبر2022"]
[25,"أسيوط",null,null,null,null,null,null,null,null,null,"فبراير",2023,"فبراير2023"]
[26,"سوهاج",null,null,null,null,null,null,null,null,null,"مارس",2023,"مارس2023"]
[27,"قنا",null,null,null,null,null,null,null,null,null,"أبريل",2023,"أبريل2023"]
[28,"أسوان",null,null,null,null,null,null,null,null,null,"سبتمبر",2023,"سبتمبر2023"]
[29,"الأقصر",null,null,null,null,null,null,null,null,null,"أكتوبر",2023,"أكتوبر2023"]
[31,"البحر الأحمر",null,null,null,null,null,null,null,null,null,"نوفمبر",2023,"نوفمبر2023"]
[32,"الوادى الجديد",null,null,null,null,null,null,null,null,null,"ديسمبر",2023,"ديسمبر2023"]
[33,"مطروح",null,null,null,null,null,null,null,null,null,"فبراير",2024,"فبراير2024"]
[34,"شمال سيناء",null,null,null,null,null,null,null,null,null,"مارس",2024,"مارس2024"]
[35,"جنوب سيناء",null,null,null,null,null,null,null,null,null,"أبريل",2024,"أبريل2024"]
[88,"خارج الجمهورية",null,null,null,null,null,null,null,null,null,"سبتمبر",2024,"سبتمبر2024"]
[null,null,null,null,null,null,null,null,null,null,null,"أكتوبر",2024,"أكتوبر2024"]
[null,null,null,null,null,null,null,null,null,null,null,"نوفمبر",2024,"نوفمبر2024"]
[null,null,null,null,null,null,null,null,null,null,null,"ديسمبر",2024,"ديسمبر2024"]
[null,null,null,null,null,null,null,null,null,null,null,"فبراير",2025,"فبراير2025"]
[null,null,null,null,null,null,null,null,null,null,null,"مارس",2025,"مارس2025"]
[null,null,null,null,null,null,null,null,null,null,null,"أبريل",2025,"أبريل2025"]
[null,null,null,null,null,null,null,null,null,null,null,"سبتمبر",2025,"سبتمبر2025"]
[null,null,null,null,null,null,null,null,null,null,null,"أكتوبر",2025,"أكتوبر2025"]
[null,null,null,null,null,null,null,null,null,null,null,"نوفمبر",2025,"نوفمبر2025"]
[null,null,null,null,null,null,null,null,null,null,null,"ديسمبر",2025,"ديسمبر2025"]
[null,{"$f":"TEXT(B48,\"dddd\")","v":"dddd"},{"$f":"TEXT(C48,\"dddd\")","v":"dddd"},{"$f":"TEXT(#REF!,\"dddd\")","v":{"$error":"#REF!"}},{"$f":"TEXT(#REF!,\"dddd\")","v":{"$error":"#REF!"}},{"$f":"TEXT(D48,\"dddd\")","v":"dddd"},{"$f":"TEXT(E48,\"dddd\")","v":"dddd"},{"$f":"TEXT(F48,\"dddd\")","v":"dddd"},{"$f":"TEXT(G48,\"dddd\")","v":"dddd"},{"$f":"TEXT(H48,\"dddd\")","v":"dddd"},{"$f":"TEXT(#REF!,\"dddd\")","v":{"$error":"#REF!"}},{"$f":"TEXT(#REF!,\"dddd\")","v":{"$error":"#REF!"}},{"$f":"TEXT(I48,\"dddd\")","v":"dddd"},{"$f":"TEXT(J48,\"dddd\")","v":"dddd"},{"$f":"TEXT(K48,\"dddd\")","v":"dddd"},{"$f":"TEXT(L48,\"dddd\")","v":"dddd"},{"$f":"TEXT(M48,\"dddd\")","v":"dddd"},{"$f":"TEXT(#REF!,\"dddd\")","v":{"$error":"#REF!"}},{"$f":"TEXT(#REF!,\"dddd\")","v":{"$error":"#REF!"}},{"$f":"TEXT(N48,\"dddd\")","v":"dddd"},{"$f":"TEXT(O48,\"dddd\")","v":"dddd"},{"$f":"TEXT(P48,\"dddd\")","v":"dddd"},{"$f":"TEXT(Q48,\"dddd\")","v":"dddd"},{"$f":"TEXT(R48,\"dddd\")","v":"dddd"},{"$f":"TEXT(#REF!,\"dddd\")","v":{"$error":"#REF!"}},{"$f":"TEXT(#REF!,\"dddd\")","v":{"$error":"#REF!"}},{"$f":"TEXT(S48,\"dddd\")","v":"dddd"},{"$f":"TEXT(T48,\"dddd\")","v":"dddd"},{"$f":"TEXT(U48,\"dddd\")","v":"dddd"},{"$f":"TEXT(V48,\"dddd\")","v":"dddd"},{"$f":"TEXT(W48,\"dddd\")","v":"dddd"},"dddd"]
["سبتمبر2020","2020-09-01","2020-09-02","2020-09-03","2020-09-06","2020-09-07","2020-09-08","2020-09-09","2020-09-10","2020-09-13","2020-09-14","2020-09-15","2020-09-16","2020-09-17","2020-09-20","2020-09-21","2020-09-22","2020-09-23","2020-09-24","2020-09-27","2020-09-28","2020-09-29","2020-09-30"]
["أكتوبر2020","2020-10-01","2020-10-04","2020-10-05","2020-10-06","2020-10-07","2020-10-08","2020-10-11","2020-10-12","2020-10-13","2020-10-14","2020-10-15","2020-10-18","2020-10-19","2020-10-20","2020-10-21","2020-10-22","2020-10-25","2020-10-26","2020-10-27","2020-10-28","2020-10-29"]
["نوفمبر2020","2020-11-01","2020-11-02","2020-11-03","2020-11-04","2020-11-05","2020-11-08","2020-11-09","2020-11-10","2020-11-11","2020-11-12","2020-11-15","2020-11-16","2020-11-17","2020-11-18","2020-11-19","2020-11-22","2020-11-23","2020-11-24","2020-11-25","2020-11-26","2020-11-29","2020-11-30"]
["ديسمبر2020","2020-12-01","2020-12-02","2020-12-03","2020-12-06","2020-12-07","2020-12-08","2020-12-09","2020-12-10","2020-12-13","2020-12-14","2020-12-15","2020-12-16","2020-12-17","2020-12-20","2020-12-21","2020-12-22","2020-12-23","2020-12-24","2020-12-27","2020-12-28","2020-12-29","2020-12-30","2020-12-31"]
["فبراير2021","2021-02-01","2021-02-02","2021-02-03","2021-02-04","2021-02-07","2021-02-08","2021-02-09","2021-02-10","2021-02-11","2021-02-14","2021-02-15","2021-02-16","2021-02-17","2021-02-18","2021-02-21","2021-02-22","2021-02-23","2021-02-24","2021-02-25","2021-02-28"]
["مارس2021","2021-03-01","2021-03-02","2021-03-03","2021-03-04","2021-03-07","2021-03-08","2021-03-09","2021-03-10","2021-03-11","2021-03-14","2021-03-15","2021-03-16","2021-03-17","2021-03-18","2021-03-21","2021-03-22","2021-03-23","2021-03-24","2021-03-25","2021-03-28","2021-03-29","2021-03-30","2021-03-31"]
["أبريل2021","2021-04-01","2021-04-04","2021-04-05","2021-04-06","2021-04-07","2021-04-08","2021-04-11","2021-04-12","2021-04-13","2021-04-14","2021-04-15","2021-04-18","2021-04-19","2021-04-20","2021-04-21","2021-04-22","2021-04-25","2021-04-26","2021-04-27","2021-04-28","2021-04-29"]
["سبتمبر2021","2021-09-01","2021-09-02","2021-09-05","2021-09-06","2021-09-07","2021-09-08","2021-09-09","2021-09-12","2021-09-13","2021-09-14","2021-09-15","2021-09-16","2021-09-19","2021-09-20","2021-09-21","2021-09-22","2021-09-23","2021-09-26","2021-09-27","2021-09-28","2021-09-29","2021-09-30"]
["أكتوبر2021","2021-10-01","2021-10-02","2021-10-03","2021-10-04","2021-10-05","2021-10-06","2021-10-07","2021-10-08","2021-10-09","2021-10-10","2021-10-11","2021-10-12","2021-10-13","2021-10-14","2021-10-15","2021-10-16","2021-10-17","2021-10-18","2021-10-19","2021-10-20","2021-10-21","2021-10-22","2021-10-23","2021-10-24","2021-10-25","2021-10-26","2021-10-27","2021-10-28","2021-10-29","2021-10-30","2021-10-31"]
["نوفمبر2021","2021-11-01","2021-11-02","2021-11-03","2021-11-04","2021-11-05","2021-11-06","2021-11-07","2021-11-08","2021-11-09","2021-11-10","2021-11-11","2021-11-12","2021-11-13","2021-11-14","2021-11-15","2021-11-16","2021-11-17","2021-11-18","2021-11-19","2021-11-20","2021-11-21","2021-11-22","2021-11-23","2021-11-24","2021-11-25","2021-11-26","2021-11-27","2021-11-28","2021-11-29","2021-11-30"]
["ديسمبر2021","2021-12-01","2021-12-02","2021-12-03","2021-12-04","2021-12-05","2021-12-06","2021-12-07","2021-12-08","2021-12-09","2021-12-10","2021-12-11","2021-12-12","2021-12-13","2021-12-14","2021-12-15","2021-12-16","2021-12-17","2021-12-18","2021-12-19","2021-12-20","2021-12-21","2021-12-22","2021-12-23","2021-12-24","2021-12-25","2021-12-26","2021-12-27","2021-12-28","2021-12-29","2021-12-30","2021-12-31"]
["فبراير2022","2022-02-01","2022-02-02","2022-02-03","2022-02-04","2022-02-05","2022-02-06","2022-02-07","2022-02-08","2022-02-09","2022-02-10","2022-02-11","2022-02-12","2022-02-13","2022-02-14","2022-02-15","2022-02-16","2022-02-17","2022-02-18","2022-02-19","2022-02-20","2022-02-21","2022-02-22","2022-02-23","2022-02-24","2022-02-25","2022-02-26","2022-02-27","2022-02-28"]
["مارس2022","2022-03-01","2022-03-02","2022-03-03","2022-03-04","2022-03-05","2022-03-06","2022-03-07","2022-03-08","2022-03-09","2022-03-10","2022-03-11","2022-03-12","2022-03-13","2022-03-14","2022-03-15","2022-03-16","2022-03-17","2022-03-18","2022-03-19","2022-03-20","2022-03-21","2022-03-22","2022-03-23","2022-03-24","2022-03-25","2022-03-26","2022-03-27","2022-03-28","2022-03-29","2022-03-30","2022-03-31"]
["أبريل2022","2022-04-01","2022-04-02","2022-04-03","2022-04-04","2022-04-05","2022-04-06","2022-04-07","2022-04-08","2022-04-09","2022-04-10","2022-04-11","2022-04-12","2022-04-13","2022-04-14","2022-04-15","2022-04-16","2022-04-17","2022-04-18","2022-04-19","2022-04-20","2022-04-21","2022-04-22","2022-04-23","2022-04-24","2022-04-25","2022-04-26","2022-04-27","2022-04-28","2022-04-29","2022-04-30"]
["سبتمبر2022","2022-09-01","2022-09-02","2022-09-03","2022-09-04","2022-09-05","2022-09-06","2022-09-07","2022-09-08","2022-09-09","2022-09-10","2022-09-11","2022-09-12","2022-09-13","2022-09-14","2022-09-15","2022-09-16","2022-09-17","2022-09-18","2022-09-19","2022-09-20","2022-09-21","2022-09-22","2022-09-23","2022-09-24","2022-09-25","2022-09-26","2022-09-27","2022-09-28","2022-09-29","2022-09-30"]
["أكتوبر2022","2022-10-01","2022-10-02","2022-10-03","2022-10-04","2022-10-05","2022-10-06","2022-10-07","2022-10-08","2022-10-09","2022-10-10","2022-10-11","2022-10-12","2022-10-13","2022-10-14","2022-10-15","2022-10-16","2022-10-17","2022-10-18","2022-10-19","2022-10-20","2022-10-21","2022-10-22","2022-10-23","2022-10-24","2022-10-25","2022-10-26","2022-10-27","2022-10-28","2022-10-29","2022-10-30","2022-10-31"]
["نوفمبر2022","2022-11-01","2022-11-02","2022-11-03","2022-11-04","2022-11-05","2022-11-06","2022-11-07","2022-11-08","2022-11-09","2022-11-10","2022-11-11","2022-11-12","2022-11-13","2022-11-14","2022-11-15","2022-11-16","2022-11-17","2022-11-18","2022-11-19","2022-11-20","2022-11-21","2022-11-22","2022-11-23","2022-11-24","2022-11-25","2022-11-26","2022-11-27","2022-11-28","2022-11-29","2022-11-30"]
["ديسمبر2022","2022-12-01","2022-12-02","2022-12-03","2022-12-04","2022-12-05","2022-12-06","2022-12-07","2022-12-08","2022-12-09","2022-12-10","2022-12-11","2022-12-12","2022-12-13","2022-12-14","2022-12-15","2022-12-16","2022-12-17","2022-12-18","2022-12-19","2022-12-20","2022-12-21","2022-12-22","2022-12-23","2022-12-24","2022-12-25","2022-12-26","2022-12-27","2022-12-28","2022-12-29","2022-12-30","2022-12-31"]
["فبراير2023","2023-02-01","2023-02-02","2023-02-03","2023-02-04","2023-02-05","2023-02-06","2023-02-07","2023-02-08","2023-02-09","2023-02-10","2023-02-11","2023-02-12","2023-02-13","2023-02-14","2023-02-15","2023-02-16","2023-02-17","2023-02-18","2023-02-19","2023-02-20","2023-02-21","2023-02-22","2023-02-23","2023-02-24","2023-02-25","2023-02-26","2023-02-27","2023-02-28"]
["مارس2023","2023-03-01","2023-03-02","2023-03-03","2023-03-04","2023-03-05","2023-03-06","2023-03-07","2023-03-08","2023-03-09","2023-03-10","2023-03-11","2023-03-12","2023-03-13","2023-03-14","2023-03-15","2023-03-16","2023-03-17","2023-03-18","2023-03-19","2023-03-20","2023-03-21","2023-03-22","2023-03-23","2023-03-24","2023-03-25","2023-03-26","2023-03-27","2023-03-28","2023-03-29","2023-03-30","2023-03-31"]
["أبريل2023","2023-04-01","2023-04-02","2023-04-03","2023-04-04","2023-04-05","2023-04-06","2023-04-07","2023-04-08","2023-04-09","2023-04-10","2023-04-11","2023-04-12","2023-04-13","2023-04-14","2023-04-15","2023-04-16","2023-04-17","2023-04-18","2023-04-19","2023-04-20","2023-04-21","2023-04-22","2023-04-23","2023-04-24","2023-04-25","2023-04-26","2023-04-27","2023-04-28","2023-04-29","2023-04-30"]
["سبتمبر2023"]
["أكتوبر2023"]
["نوفمبر2023"]
["ديسمبر2023"]
["فبراير2024"]
["مارس2024"]
["أبريل2024"]
["سبتمبر2024"]
["أكتوبر2024"]
["نوفمبر2024"]
["ديسمبر2024"]
["فبراير2025"]
["مارس2025"]
["أبريل2025"]
["سبتمبر2025"]
["أكتوبر2025"]
["نوفمبر2025"]
["ديسمبر2025"]