{"text_format":"1","workbook":"xlsx","n_sheets":12,"sheets":["بيانات اساسية","ورقة1","عددى معلمين وفصول","احصاء عددى معلمى الابتدائى","بيانات المعهد","الدرجة المستحقة","معلمى المواد 1","معلمى المواد2","بيانات العاملين بالمعهد","Main","Final","التقرير"],"not_rendered":{"charts":0,"images":1,"macros":1,"external_links":2,"defined_names":6,"comments":0,"pivot_tables":0},"unopened":[],"bounds":{"document_bytes":16777216,"sheet_cells":100000,"rows_first":2000,"rows_last":500,"rows_between":2000,"halvings":0,"cell_chars":16384,"cell_head_chars":4096},"cells_cut":0,"cells_raw":0,"read":"whole","date_system":"1900"}

{"sheet":"بيانات اساسية","index":0,"n_rows":306,"n_cols":80,"rows_kept":306,"cut":false,"hidden":false,"merged":[[2,2,3,11],[2,12,3,25],[2,29,3,39],[3,26,3,27]]}
[null,null,null,null,null,null,null,null,null,null,null,null,null,null,null,null,null,"اصلى"]
[null,null,null,null,null,null,null,null,null,null,null,null,null,null,null,null,null,"منتدب"]
[null,null,"بيانات شخصية",null,null,null,null,null,null,null,null,null,"بيانات وظيفية",null,null,null,null,null,null,null,null,null,null,null,null,null,null,null,null,"بيانات الكادر"]
[null,null,null,null,null,null,null,null,null,null,null,null,null,null,null,null,null,null,null,null,null,null,null,null,null,null,"التقارير السرية"]
["م","السجل","الاسم","الرقم القومي","النوع","تاريخ الميلاد","السن","الموقف من التجنيد","العنوان","التليفون","الرقم التأميني","المؤهل","قرار التعيين","تاريخ التعيين","الاعتبارية","المباشرة لاول مرة","تاريخ المباشرة بالمعهد","اصلى / منتدب","تاريخ الانقطاع","تاريخ العودة","الموقف من العمل","المعاهد التي عمل بها","الصف الدراسى","الوظيفة1","الدرجة المالية","مادرة التدريس الحالية",2019,2020,"الجزاءات","كود المعلم","كلمة سر الكادر","الدرجة على الكادر","التخصص حسب الكادر","رقم قرارالدرجة","تاريخ الدرجة","الدرجة المنتظرة ","تاريخ الدرجة المنتظرة","الوظيفة 2","فئة الوظيفة","ملاحظات"]
[{"$f":"IF(B6=\"\",\"\",SUBTOTAL(3,B6:$B$6))","v":1},273665,"محمد جمعه حسين إبراهيم",27105060100959,{"$f":"IFERROR(IF(ISODD(MID(D6,13,1)),\"ذكر\",\"انثى\"),\"\")","v":"ذكر"},{"$f":"IFERROR(DATE(IF(LEFT(D6,1)*1=3,20,19)&MID(D6,2,2),MID(D6,4,2),MID(D6,6,2)),\"\")","v":"1971-05-06"},{"$f":"IFERROR(DATEDIF(F6,NOW(),\"y\"),\"\")","v":49},null,"مساكن إيديال- الشرابية -القاهرة","01141171205",null,"ب.خدمة إجتماعية 93",null,"2002-09-04",null,"2002-09-04",null,"اصلى",null,null,"على رأس العمل",null,null,"معلم قران كريم","الثانية التخصصية 2014","قران كريم",null,null,null,null,null,"معلم","قران كريم",1488,"2015-07-30",{"$f":"IF(AF6=\"معلم\",\"معلم اول\",IF(AF6=\"معلم اول\",\"معلم اول أ\",IF(AF6=\"معلم خبير\",\"كبير معلمين\",IF(AF6=\"معلم اول أ\",\"معلم خبير\",\"--\"))))","v":"معلم اول"},{"$f":"IF(AI6=\"\",\"\",DATE(YEAR(AI6)+5,MONTH(AI6),DAY(AI6)))","v":"2020-07-30"},"معلم",null,null,null,null,"السجل",null,null,"قران كريم",null,null,null,null,null,null,null,null,null,null,null,null,null,null,null,null,null,null,null,null,null,null,null,null,null,null,null,null,null,null,null,null,null,"الصف الاول الابتدائى"]
[{"$f":"IF(B7=\"\",\"\",SUBTOTAL(3,B$6:$B7))","v":2},362845,"طارق عبدالحكيم عبدالسيد توفيق",27411070100152,{"$f":"IFERROR(IF(ISODD(MID(D7,13,1)),\"ذكر\",\"انثى\"),\"\")","v":"ذكر"},{"$f":"IFERROR(DATE(IF(LEFT(D7,1)*1=3,20,19)&MID(D7,2,2),MID(D7,4,2),MID(D7,6,2)),\"\")","v":"1974-11-07"},{"$f":"IFERROR(DATEDIF(F7,NOW(),\"y\"),\"\")","v":45},"ادى الخدمة","جروان-الباجور- منوفية","01008687342",null,"ل.شريعة وقانون 95",null,"2012-05-07",null,"2007-02-01",null,"اصلى",null,null,"على رأس العمل",null,null,"معلم قران كريم","الثانية التخصصية 2018","قران كريم",null,null,null,null,null,"معلم اول","قران كريم",1499,"2018-10-22",{"$f":"IF(AF7=\"معلم\",\"معلم اول\",IF(AF7=\"معلم اول\",\"معلم اول أ\",IF(AF7=\"معلم خبير\",\"كبير معلمين\",IF(AF7=\"معلم اول أ\",\"معلم خبير\",\"--\"))))","v":"معلم اول أ"},{"$f":"IF(AI7=\"\",\"\",DATE(YEAR(AI7)+5,MONTH(AI7),DAY(AI7)))","v":"2023-10-22"},"معلم",null,null,null,null,"الاسم",null,null,"محفظ ","شيخ معهد",null,null,null,null,null,null,null,null,null,null,null,null,null,null,null,null,null,null,null,null,null,null,null,null,null,null,null,null,null,null,null,null,"الصف الثانى الابتدائى"]
[{"$f":"IF(B8=\"\",\"\",SUBTOTAL(3,B$6:$B8))","v":3},362961,"محمد عبد الحميد محمد عبدالحميد",27708261401198,"ذكر","1977-08-26",42,"معافى نهائى","إمياي- طوخ - قليوبية",1555500779,null,"ل-اصول الدين2001",null,"2012-05-07",null,"2007-04-03",null,"منتدب",null,null,"على رأس العمل",null,null,"معلم قران كريم","الثانية التخصصية 2018","قران كريم",null,null,null,null,null,"معلم اول","قران كريم",1499,"2018-10-22","معلم اول أ","2023-10-22","معلم",null,null,null,null,"الرقم القومي",null,null,"لغة عربية","وكيل معهد",null,null,null,null,null,null,null,null,null,null,null,null,null,null,null,null,null,null,null,null,null,null,null,null,null,null,null,null,null,null,null,null,"الصف الثالث الابتدائى "]
[{"$f":"IF(B9=\"\",\"\",SUBTOTAL(3,B$6:$B9))","v":4},362953,"شيرين محمد عبدالسميع على ",27605202400249,"انثى","1976-05-20",44,null,"الحى الأول 166-الشرق - القاهرة .","01281182603",null,"ل.د.إسلامية وعربية 99",null,"2012-05-07",null,"2007-02-01",null,"اصلى",null,null,"على رأس العمل",null,null,"معلم قران كريم","الثانية التخصصية 2018","قران كريم",null,null,null,null,null,"معلم اول","قران كريم",1499,"2018-10-24","معلم اول أ","2023-10-24","معلم",null,null,"معلم ",null,"تاريخ الميلاد",null,null,"لغة انجليزية","معلم قران كريم",null,null,null,null,null,null,null,null,null,null,null,null,null,null,null,null,null,null,null,null,null,null,null,null,null,null,null,null,null,null,null,null,"الصف الخامس الابتدائى "]
[{"$f":"IF(B10=\"\",\"\",SUBTOTAL(3,B$6:$B10))","v":5},363040,"هناء محمود عبدالعزيز البرص",27810301401004,{"$f":"IFERROR(IF(ISODD(MID(D10,13,1)),\"ذكر\",\"انثى\"),\"\")","v":"انثى"},"1978-10-30",41,null,"مساكن دمنهور- شبرا الخيمة - قليوبية","01277374985",null,"ل.د.إسلامية وعربية 2000",null,"2012-05-07",null,"2007-02-01",null,"اصلى",null,null,"على رأس العمل",null,null,"معلم قران كريم","الثانية التخصصية 2018","قران كريم",null,null,null,null,null,"معلم اول","قران كريم",1499,null,"معلم اول أ",{"$f":"IF(AI10=\"\",\"\",DATE(YEAR(AI10)+5,MONTH(AI10),DAY(AI10)))","v":""},"معلم",null,null,"ادارى",null,"السن",null,null,"علوم","معلم لغة عربية",null,null,null,null,null,null,null,null,null,null,null,null,null,null,null,null,null,null,null,null,null,null,null,null,null,null,null,null,null,null,null,null,"الصف السادس الابتدائى "]
[{"$f":"IF(B11=\"\",\"\",SUBTOTAL(3,B$6:$B11))","v":6},362805,"صباح حافظ على على ",27402241401041,{"$f":"IFERROR(IF(ISODD(MID(D11,13,1)),\"ذكر\",\"انثى\"),\"\")","v":"انثى"},"1974-02-24",46,null,"24ش ورشة البلاط-الفرنوانى -شبرا الخيمة","01149003895",null,"ل.أصول دين 96",null,"2012-05-07",null,"2007-02-01",null,"اصلى",null,null,"على رأس العمل",null,null,"معلم قران كريم","الثانية التخصصية 2018","قران كريم",null,null,null,null,null,"معلم اول","قران كريم",1499,"2018-10-26","معلم اول أ",{"$f":"IF(AI11=\"\",\"\",DATE(YEAR(AI11)+5,MONTH(AI11),DAY(AI11)))","v":"2023-10-26"},"معلم",null,null,"اخصائى ",null,"الموقف من التجنيد",null,null,"تربية الفنية","معلم رياضيات",null,null,null,null,null,null,null,null,null,null,null,null,null,null,null,null,null,null,null,null,null,null,null,null,null,null,null,null,null,null,null,null,"الصف الاول الاعدادى"]
[{"$f":"IF(B12=\"\",\"\",SUBTOTAL(3,B$6:$B12))","v":7},363014,"جيهان جوده السيد أحمد ",27404051400808,"انثى","1974-04-05",46,null,"8ش محمد فيضى- الشرقاوية- شبرا الخيمة",1227105071,null,"ل.د.إسلامية 96",null,"2012-05-07",null,"2007-02-01",null,"اصلى",null,null,"على رأس العمل",null,null,"معلم قران كريم"," الثالثة التخصصية2007","قران كريم",null,null,null,null,null,"معلم اول","قران كريم",null,null,"معلم اول أ","","معلم",null,null,"عامل",null,"العنوان",null,null,"دراسات","معلم لغة انجليزية",null,null,null,null,null,null,null,null,null,null,null,null,null,null,null,null,null,null,null,null,null,null,null,null,null,null,null,null,null,null,null,null,"الصف الثانى الاعدادى"]
[{"$f":"IF(B13=\"\",\"\",SUBTOTAL(3,B$6:$B13))","v":8},268424,"محمد محمود محمد رشدى",27708300101431,{"$f":"IFERROR(IF(ISODD(MID(D13,13,1)),\"ذكر\",\"انثى\"),\"\")","v":"ذكر"},{"$f":"IFERROR(DATE(IF(LEFT(D13,1)*1=3,20,19)&MID(D13,2,2),MID(D13,4,2),MID(D13,6,2)),\"\")","v":"1977-08-30"},{"$f":"IFERROR(DATEDIF(F13,NOW(),\"y\"),\"\")","v":42},null,"18ش -أحمد خليل-الزاوية الحمراء-القاهرة","011505074071",null,"د.صنايع 95",null,"2002-09-04",null,"2003-01-01",null,"اصلى",null,null,"على رأس العمل",null,null,"معلم قران كريم","الثالثة الفنية 2008","قران كريم",null,null,null,null,null,"محفظ","قران كريم",null,null,"--","","محفظ",null,null,null,null,"النوع",null,null,"رياضيات","معلم دراسات",null,null,null,null,null,null,null,null,null,null,null,null,null,null,null,null,null,null,null,null,null,null,null,null,null,null,null,null,null,null,null,null,"الصف الرابع الابتدائى "]
[{"$f":"IF(B14=\"\",\"\",SUBTOTAL(3,B$6:$B21))","v":16},363796,"لوزة السيد إسماعيل مصطفى",26402201202808,{"$f":"IFERROR(IF(ISODD(MID(D14,13,1)),\"ذكر\",\"انثى\"),\"\")","v":"انثى"},{"$f":"IFERROR(DATE(IF(LEFT(D14,1)*1=3,20,19)&MID(D14,2,2),MID(D14,4,2),MID(D14,6,2)),\"\")","v":"1964-02-20"},{"$f":"IFERROR(DATEDIF(F14,NOW(),\"y\"),\"\")","v":56},null,"الشيخ زايد-الحى الحادى عشر- 6أكتوبر","01063346364",null,"دبلوم تجاره1984",null,"2012-05-07",null,"2007-02-01",null,"اصلى",null,null,"على رأس العمل",null,null,"معلم قران كريم","الرابعة الفنية"," لغة عربية",null,null,null,null,null,"محفظ","قران كريم",null,null,"--","","محفظ",null,null,null,null,"تاريخ المباشرة بالمعهد",null,null,"خط","معلم علوم "]
[{"$f":"IF(B15=\"\",\"\",SUBTOTAL(3,B$6:$B15))","v":10},373850,"راشا عبدالمنطلب عبدالمتجلى السيد",27707211400461,"انثى","1977-07-21",43,null,"مساكن إيديال- الشرابية -القاهرة","01141171205",null,"ل.د.إسلامية  2000",null,"2002-09-04",null,"2002-09-04",null,"اصلى",null,null,"على رأس العمل",null,null,"شيخ معهد","الثانية التخصصية 2014 ",null,null,null,null,null,null,"معلم اول أ","مواد شرعية ",null,null,"معلم خبير","","معلم",null,null,null,null,"التليفون",null,null,"تربية رياضية ","معلم خط",null,null,null,null,null,null,null,null,null,null,null,null,null,null,null,null,null,null,null,null,null,null,null,null,null,null,null,null,null,null,null,null,"الصف الثالث الاعدادى"]
[{"$f":"IF(B16=\"\",\"\",SUBTOTAL(3,B$6:$B16))","v":11},95124,"عزة مصطفى كمال محمد حسنين",26107210101303,"انثى","1961-07-21",59,null,"21ش الأميرعزالدين- بولاق أبوالعلا-القاهرة","01146138044",null,"ل. دراسات إنسانية 86",null,"1991-01-20",null,"1991-09-22",null,"اصلى",null,null,"على رأس العمل",null,null,"معلم","الاولى التخصصية"," لغة عربية",null,null,null,null,null,"كبير معلمين","لغة عربية",null,null,"--","","معلم",null,null,null,null,"الرقم التأميني",null,null,"حاسب الى ","معلم تربية فنية",null,null,null,null,null,null,null,null,null,null,null,null,null,null,null,null,null,null,null,null,null,null,null,null,null,null,null,null,null,null,null,null,"الصف الاول الثانوى "]
[{"$f":"IF(B17=\"\",\"\",SUBTOTAL(3,B$6:$B17))","v":12},140158,"هدى إسماعيل محمد محمود",26107210101303,"انثى","1961-07-21",59,null,"21ش الأميرعزالدين- بولاق أبوالعلا-القاهرة","01146138044",null,"ل. دراسات إنسانية 86",null,"1991-01-20",null,"1991-09-22",null,"اصلى",null,null,"على رأس العمل",null,null,"وكيل معهد","الاولى التخصصية"," لغة عربية",null,null,null,null,null,"كبير معلمين","لغة عربية",null,null,"--","","معلم",null,null,null,null,"المؤهل",null,"معلم","مواد شرعية ","معلم حاسب الى",null,null,null,null,null,null,null,null,null,null,null,null,null,null,null,null,null,null,null,null,null,null,null,null,null,null,null,null,null,null,null,null,"الصف الثانى الثانوى "]
[{"$f":"IF(B18=\"\",\"\",SUBTOTAL(3,B$6:$B18))","v":13},188425,"رضا حسين عبدالعزيزعبدالحميد",26305130103565,"انثى","1963-05-13",57,null,"حارة العطار-ش جسرالبحر- الساحل- القاهرة","01271694489",null,"ل.د.إسلامية وعربية 93",null,"1995-10-18",null,"1996-02-06",null,"اصلى",null,null,"على رأس العمل",null,null,"معلم لغة عربية","الثانية التخصصية"," لغة عربية",null,null,null,null,null,"كبير معلمين","لغة عربية",null,null,"--","","معلم",null,null,null,null,"قرار التعيين",null,"محفظ","لغة فرنسية","اخصائى اجتماعى ",null,null,null,null,null,null,null,null,null,null,null,null,null,null,null,null,null,null,null,null,null,null,null,null,null,null,null,null,null,null,null,null,"الصف الثالث الثانوى"]
[{"$f":"IF(B19=\"\",\"\",SUBTOTAL(3,B$6:$B19))","v":14},362521,"هبه أحمد محمد محمد ",28406081401189,"انثى","1984-06-08",36,null,"مساكن الخشب- الشرقاوية - شبرا الخيمة","01061334014",null,"ل.آداب وتربية 2005",null,"2012-05-07",null,"2007-02-01",null,"اصلى",null,null,"على رأس العمل",null,null,"معلم لغة عربية","الثانية التخصصية"," لغة عربية",null,null,null,null,null,"معلم اول","لغة عربية",null,null,"معلم اول أ","","معلم",null,null,null,null,"تاريخ التعيين",null,"مدرس اخصائى","فلسفة ومنطق ","اخصائى نفسى "]
[{"$f":"IF(B20=\"\",\"\",SUBTOTAL(3,B$6:$B20))","v":15},374760,"هناء حسن جابر حسن ",28611150202226,"انثى","1986-11-15",33,null,"18ش أبوليلة-الترعة البولاقية -شبرا مصر","01110156905",null,"ل.د.إسلامية 2008",null,"2013-11-18",null,"2009-09-08",null,"اصلى",null,null,"على رأس العمل",null,null,"معلم لغة عربية","الثانية التخصصية"," لغة عربية",null,null,null,null,null,"معلم اول","لغة عربية",null,null,"معلم اول أ","","معلم",null,null,null,null,"الاعتبارية",null,"ادارى","كيمياء","اخصائى تغذية"]
[{"$f":"IF(B21=\"\",\"\",SUBTOTAL(3,B$6:$B21))","v":16},412212,"فاطمة إسماعيل محمد فراج",28803051602626,"انثى","1988-03-05",32,null,"31ش مسجد الرحمة- الخلفاوى- شبرا مصر","01141841731",null,"ل.د.إسلامية وعربية 2010",null,"2016-02-10",null,"2014-01-01",null,"اصلى",null,null,"على رأس العمل",null,null,"معلم لغة عربية","الثالثة الفنية "," لغة عربية",null,null,null,null,null,"معلم اول","لغة عربية",null,null,"معلم اول أ","","معلم",null,null,null,null,"المباشرة لاول مرة",null,"عامل","فيزياء ","شئون مالية"]
[{"$f":"IF(B22=\"\",\"\",SUBTOTAL(3,B$6:$B22))","v":17},273885,"إيمان محمد هاشم محمد",27411241400842,"انثى","1974-11-24",45,null,"ش زكريا-مساكن توكو- شبراالخيمة.","01021429264",null,"ل. شريعة 2000",null,"2002-09-04",null,"2002-09-04",null,"اصلى",null,null,"على رأس العمل",null,null,"معلم رياضيات","الثانية التخصصية 2013"," رياضيات",null,null,null,null,null,"معلم اول","رياضيات",null,null,"معلم اول أ","","معلم",null,null,null,null,"اصلى / منتدب",null,null,"احياء ","كاتب"]
[{"$f":"IF(B23=\"\",\"\",SUBTOTAL(3,B$6:$B23))","v":18},362264,"نورا صبحى أبوالمعاطى ",28403010110265,"انثى","1984-03-01",36,null,"25ش الثورة - مدينة التعاون - شبرا الخيمة ","01094506082",null,"ب. علوم وتربية 2005",null,"2012-05-07",null,"2007-02-01",null,"اصلى",null,null,"على رأس العمل",null,null,"معلم رياضيات","الثانية التخصصية 2018"," رياضيات",null,null,null,null,null,"معلم اول","رياضيات",null,null,"معلم اول أ","","معلم",null,null,null,null,"تاريخ الانقطاع",null,null,null,"عامل"]
[{"$f":"IF(B24=\"\",\"\",SUBTOTAL(3,B$6:$B24))","v":19},305096,"مشيرة محمد عامر محمد",28208021403569,"انثى","1982-08-02",37,null,"مساكن الفرنوانى - شبرا الخيمة .","01067311818",null,"ل.لغات وترجمة 2005",null,"2012-05-07",null,"2008-02-03",null,"اصلى",null,null,"على رأس العمل",null,null,"معلم لغة انجليزية","الثانية التخصصية 2019","لغة انجليزية",null,null,null,null,null,"معلم اول","لغة انجليزية",null,null,"معلم اول أ","","معلم",null,null,null,null,"تاريخ العودة"]
[{"$f":"IF(B25=\"\",\"\",SUBTOTAL(3,B$6:$B25))","v":20},362034,"أحمد محمود لطفى محمد منتصر",28209011409972,"ذكر","1982-09-01",37,null,"16ش العدلى-العزبة الزراعية -بنها- قليوبية","01220717994",null,"ل.آداب وتربية 2004",null,"2012-05-07",null,"2008-02-01",null,"اصلى",null,null,"على رأس العمل",null,null,"معلم لغة انجليزية","الثانية التخصصية 2018","لغة انجليزية",null,null,null,null,null,"معلم اول","لغة انجليزية",null,null,"معلم اول أ","","معلم",null,null,null,null,"الموقف من العمل"]
[{"$f":"IF(B26=\"\",\"\",SUBTOTAL(3,B$6:$B26))","v":21},273283,"هناء صلاح على الحديدى",27810201401881,"انثى","1978-10-20",41,null,"93ش عزت محمد -منشية الحرية -شبراالخيمة","01280853249",null,"ل.آداب علم نفس 2000",null,"2002-09-04",null,"2003-01-01",null,"اصلى",null,null,"على رأس العمل",null,null,"معلم دراسات","الأولى التخصصية 2019","دراسات",null,null,null,null,null,"معلم اول أ","دراسات",null,null,"معلم خبير","","معلم",null,null,null,null,"المعاهد التي عمل بها"]
[{"$f":"IF(B27=\"\",\"\",SUBTOTAL(3,B$6:$B27))","v":22},246844,"حامد إبراهيم حامد أبوأحمد",27212211400977,"ذكر","1972-12-21",47,null,"البرادعه-القناطرالخيرية - قليوبية ",1204631393,null,"د.صنايع 90",null,"2000-05-29",null,"2000-05-29",null,"اصلى",null,null,"على رأس العمل",null,null,"معلم تربية فنية","الثانية الفنية 2015","تربية فنية",null,null,null,null,null,"غير مدرج بالكادر","تربية الفنية",null,null,"--","","مدرس",null,null,null,null,"الصف الدراسى"]
[{"$f":"IF(B28=\"\",\"\",SUBTOTAL(3,B$6:$B28))","v":23},363699,"إيناس عبدالمنعم عبدالعظيم",27802200105801,"انثى","1978-02-20",42,null,"3ش كنيسة العذراء - الشرابية - القاهرة",1278493457,null,"د.صنايع 98",null,"2012-05-07",null,"2007-02-01",null,"اصلى",null,null,"على رأس العمل",null,null,"معلم تربية فنية","الثانية الفنية2018","تربية فنية",null,null,null,null,null,"غير مدرج بالكادر","تربية الفنية",null,null,"--","","مدرس",null,null,null,null,"الوظيفة"]
[{"$f":"IF(B29=\"\",\"\",SUBTOTAL(3,B$6:$B29))","v":24},363649,"نحمده محمد أحمد محمد ",27606191401147,"انثى","1976-06-19",44,null,"28 ش صوت العرب - الوحدة العربية - شبرا الخيمة ثان ","01155706067",null,"دبلوم خط عربى وتذهيب 2006",null,"2012-05-07",null,"2006-09-18",null,"اصلى",null,null,"على رأس العمل",null,null,"معلم خط","الثالثة الفنية2015","خط",null,null,null,null,null,"غير مدرج بالكادر","خط",null,null,"--","","مدرس",null,null,null,null,"الدرجة المالية"]
[{"$f":"IF(B30=\"\",\"\",SUBTOTAL(3,B$6:$B30))","v":25},378260,"حسن محمد سليمان عوض",28211072603156,"ذكر","1982-11-07",37,null,"أولاد نصير- مركز سوهاج - سوهاج","01002236263",null,"تربية رياضية",null,"2014-07-01",null,"2009-08-01",null,"اصلى",null,null,"على رأس العمل",null,null,"معلم تربية رياضية","الثالثة التخصصية 2014","تربية رياضية",null,null,null,null,null,"معلم","تربية رياضية ",null,null,"معلم اول","","معلم",null,null,null,null,"مادرة التدريس الحالية"]
[{"$f":"IF(B31=\"\",\"\",SUBTOTAL(3,B$6:$B31))","v":26},401917,"علا حسن عبدالمقصود محمد",28801111401401,"انثى","1988-01-11",32,null,"11ش - الشهيد أحمد فتحى - منشية الحرية - شبرا الخيمة",1025952175,null,"ب. خدمة إجتماعية ",null,"2016-08-01",null,"2016-07-16",null,"اصلى",null,null,"على رأس العمل",null,null,"اخصائى اجتماعى","الثالثة التخصصية 2012",null,null,null,null,null,null,null,null,null,null,{"$f":"IF(AF31=\"معلم\",\"معلم اول\",IF(AF31=\"معلم اول\",\"معلم اول أ\",IF(AF31=\"معلم خبير\",\"كبير معلمين\",IF(AF31=\"معلم اول أ\",\"معلم خبير\",\"--\"))))","v":"--"},"","اخصائية",null,null,null,null,2019]
[{"$f":"IF(B32=\"\",\"\",SUBTOTAL(3,B$6:$B32))","v":27},363521,"نسمة إبراهيم إسماعيل الشامى",28502051600721,"انثى","1985-02-05",35,null,"55ش جمال عبدالناصر من ش العسعاس -الجيزة","01010917903",null,"ب.معهد التعاون الزراعى2006",null,"2012-05-07",null,"2008-02-01",null,"اصلى",null,null,"على رأس العمل",null,null,"اخصائى تغذية","الثالثة التخصصية 2012",null,null,null,null,null,null,null,null,null,null,"--","","اخصائية",null,null,null,null,2020]
[{"$f":"IF(B33=\"\",\"\",SUBTOTAL(3,B$6:$B33))","v":28},363571,"نهلة الطيب محمد الطيب",27608280201782,"انثى","1976-08-28",43,null,"110مساكن الضباط - شبرا الخيمة - قليوبية","01275682390",null,"ب. زراعة 2002",null,"2012-05-07",null,"2007-02-08",null,"اصلى",null,null,"على رأس العمل",null,null,"اخصائى تغذية","الثالثة التخصصية 2012",null,null,null,null,null,null,null,null,null,null,"--","","اخصائية",null,null,null,null,"الجزاءات"]
[{"$f":"IF(B34=\"\",\"\",SUBTOTAL(3,B$6:$B34))","v":29},209973,"ولاء رأفت دسوقى إبراهيم ",27803201400764,"انثى","1978-03-20",42,null,"1 شارع جمال عبد الناصر مدينة التعاون شبرا الخيمة",1112774489,null,"د.تجارة 95",null,"1997-08-20",null,"1997-08-20",null,"اصلى",null,null,"على رأس العمل",null,null,"كاتب","الثانية الكتابية 2012",null,null,null,null,null,null,null,null,null,null,"--","","ادارى",null,null,null,null,"كود المعلم"]
[{"$f":"IF(B35=\"\",\"\",SUBTOTAL(3,B$6:$B35))","v":30},215459,"فاطمة عبدالمعطى عبدالسميع",27307131700741,"انثى","1973-07-13",47,null,"16ش أبوصايمه-دمنهور -شبرا الخيمة -قليوبية","01287909802",null,"ثانوية أزهرية 93",null,"1998-06-15",null,"1998-08-08",null,"اصلى",null,null,"على رأس العمل",null,null,"كاتب","الثانية الكتابية 2012",null,null,null,null,null,null,null,null,null,null,"--","","ادارى",null,null,null,null,"كلمة سر الكادر"]
[{"$f":"IF(B36=\"\",\"\",SUBTOTAL(3,B$6:$B36))","v":31},363361,"نادر عادل عبدالفتاح أمين ",27611160103354,"ذكر","1976-11-16",43,null,"32ش سليمان بدوى- روض الفرج -القاهرة","01141389909",null,"د. صنايع 94",null,"2012-05-07",null,"2011-09-29",null,"اصلى",null,null,"على رأس العمل",null,null,"كاتب","الرابعة الكتابية 2012",null,null,null,null,null,null,null,null,null,null,"--","","ادارى",null,null,null,null,"الدرجة على الكادر"]
[{"$f":"IF(B37=\"\",\"\",SUBTOTAL(3,B$6:$B37))","v":32},402062,"نادية عيد عبدالغنى ",27671701401325,"انثى","1982-01-09",38,null,"6ش حسين -الشرقاوية - شبرا الخيمة ","01142072896",null,"د.صنايع 94",null,"2016-08-17",null,"2013-07-01",null,"اصلى",null,null,"على رأس العمل",null,null,"كاتب","الرابعة الفنية 2016",null,null,null,null,null,null,null,null,null,null,"--","","ادارى",null,null,null,null,"التخصص حسب الكادر"]
[{"$f":"IF(B38=\"\",\"\",SUBTOTAL(3,B$6:$B38))","v":33},363963,"حسن حسين منصور حسن",27711252501255,"ذكر","1977-11-25",42,null,"21ش - النيرة الغربية - البصراوى - إمبابه - الجيزة","01012978901",null,"دبلوم معلمين أزهرى 97",null,"2012-05-07",null,"2008-08-07",null,"اصلى",null,null,"على رأس العمل",null,null,"كاتب","الثالثة الكتابية 2012",null,null,null,null,null,null,null,null,null,null,"--","","ادارى",null,null,null,null,"ملاحظات"]
[{"$f":"IF(B39=\"\",\"\",SUBTOTAL(3,B$6:$B39))","v":34},402136,"ماجدة محمد عبدالعزيز أحمد ",26705201400483,"انثى","1967-05-20",53,null,"30ش عبدالمقصود - الفرنوانى شبرا الخيمة ","01274888507",null,"د.تجارة 86",null,"2016-08-17",null,"2011-07-01",null,"اصلى",null,null,"على رأس العمل",null,null,"كاتب","الرابعة الكتابية 2016",null,null,null,null,null,null,null,null,null,null,"--","","ادارى"]
[{"$f":"IF(B40=\"\",\"\",SUBTOTAL(3,B$6:$B40))","v":35},401854,"أمانى عبدالفتاح صلاح الدين ",28304031401083,"انثى","1983-04-03",37,null,"53حارة النجار -شبرا الخيمة أول - القليوبية ","01229719914",null,"ب. تجارة 2009",null,"2016-08-17",null,"2013-07-01",null,"اصلى",null,null,"على رأس العمل",null,null,"شئون مالية","الثالثة التخصصية2012",null,null,null,null,null,null,null,null,null,null,"--","","ادارى"]
[{"$f":"IF(B41=\"\",\"\",SUBTOTAL(3,B$6:$B41))","v":36},209981,"محمد إبراهيم خليل التنة",26708011301011,"ذكر","1967-08-01",52,null,"العصلوجى- مركز الزقازيق - الشرقية ","01017439402",null,"إبتدائية 2015",null,"1997-08-31",null,"1997-08-16",null,"اصلى",null,null,"على رأس العمل",null,null,"عامل","الرابعة العمالية 2015",null,null,null,null,null,null,null,null,null,null,"--","","عامل"]
[{"$f":"IF(B42=\"\",\"\",SUBTOTAL(3,B$6:$B42))","v":37},246730,"أحمد عبدالعظيم محمد الدمرداش ",27907031701713,"ذكر","1979-07-03",41,null,"باجور- منوفية ","01009105175",null,"إبتدائية ",null,"2000-05-29",null,"2000-05-29",null,"اصلى",null,null,"على رأس العمل",null,null,"عامل","الرابعة العمالية 2015",null,null,null,null,null,null,null,null,null,null,"--","","عامل"]
[{"$f":"IF(B43=\"\",\"\",SUBTOTAL(3,B$6:$B43))","v":38},246877,"رضا محمد السيد الصعيدى ",27401061302171,"ذكر","1974-01-06",46,null,"تبيت-بشتيل السوق -الشرقية ","01142721856",null,"إبتدائية 2014",null,"2000-05-29",null,"2000-05-29",null,"اصلى",null,null,"على رأس العمل",null,null,"عامل","الخامسة العمالية 2015",null,null,null,null,null,null,null,null,null,null,"--","","عامل"]
[{"$f":"IF(B44=\"\",\"\",SUBTOTAL(3,B$6:$B44))","v":39},364120,"فاتن عبدالعال على بخيت ",26506080101022,"انثى","1965-06-08",55,null,"69ش-على خليفة - مدينة السعادة - شبرا الخيمة","01141959802",null,"إبتدائية ",null,"2012-05-07",null,"2007-02-10",null,"اصلى",null,null,"على رأس العمل",null,null,"عامل","الخامسة العمالية 2015",null,null,null,null,null,null,null,null,null,null,"--","","عامل"]
[{"$f":"IF(B45=\"\",\"\",SUBTOTAL(3,B$6:$B45))","v":40},388598,"على حسن على محمد حبيب",27507151701051,"ذكر","1975-07-15",45,null,"92ش محمد فريد -عابدين -القاهرة","01278751471",null,"محو أمية",null,"2016-03-02",null,"2009-02-10",null,"اصلى",null,null,"على رأس العمل",null,null,"عامل","السادسة العمالية ",null,null,null,null,null,null,null,null,null,null,"--","","عامل"]
[{"$f":"IF(B46=\"\",\"\",SUBTOTAL(3,B$6:$B46))","v":""},null,null,null,"","","",null,null,null,null,null,null,null,null,null,null,null,null,null,null,null,null,null,null,null,null,null,null,null,null,null,null,null,null,"--",""]
[{"$f":"IF(B47=\"\",\"\",SUBTOTAL(3,B$6:$B47))","v":""},null,null,null,"","","",null,null,null,null,null,null,null,null,null,null,null,null,null,null,null,null,null,null,null,null,null,null,null,null,null,null,null,null,"--",""]
[{"$f":"IF(B48=\"\",\"\",SUBTOTAL(3,B$6:$B48))","v":""},null,null,null,"","","",null,null,null,null,null,null,null,null,null,null,null,null,null,null,null,null,null,null,null,null,null,null,null,null,null,null,null,null,"--",""]
[{"$f":"IF(B49=\"\",\"\",SUBTOTAL(3,B$6:$B49))","v":""},null,null,null,"","","",null,null,null,null,null,null,null,null,null,null,null,null,null,null,null,null,null,null,null,null,null,null,null,null,null,null,null,null,"--",""]
[{"$f":"IF(B50=\"\",\"\",SUBTOTAL(3,B$6:$B50))","v":""},null,null,null,"","","",null,null,null,null,null,null,null,null,null,null,null,null,null,null,null,null,null,null,null,null,null,null,null,null,null,null,null,null,"--",""]
[{"$f":"IF(B51=\"\",\"\",SUBTOTAL(3,B$6:$B51))","v":""},null,null,null,"","","",null,null,null,null,null,null,null,null,null,null,null,null,null,null,null,null,null,null,null,null,null,null,null,null,null,null,null,null,"--",""]
[{"$f":"IF(B52=\"\",\"\",SUBTOTAL(3,B$6:$B52))","v":""},null,null,null,"","","",null,null,null,null,null,null,null,null,null,null,null,null,null,null,null,null,null,null,null,null,null,null,null,null,null,null,null,null,"--",""]
[{"$f":"IF(B53=\"\",\"\",SUBTOTAL(3,B$6:$B53))","v":""},null,null,null,"","","",null,null,null,null,null,null,null,null,null,null,null,null,null,null,null,null,null,null,null,null,null,null,null,null,null,null,null,null,"--",""]
[{"$f":"IF(B54=\"\",\"\",SUBTOTAL(3,B$6:$B54))","v":""},null,null,null,"","","",null,null,null,null,null,null,null,null,null,null,null,null,null,null,null,null,null,null,null,null,null,null,null,null,null,null,null,null,"--",""]
[{"$f":"IF(B55=\"\",\"\",SUBTOTAL(3,B$6:$B55))","v":""},null,null,null,"","","",null,null,null,null,null,null,null,null,null,null,null,null,null,null,null,null,null,null,null,null,null,null,null,null,null,null,null,null,"--",""]
[{"$f":"IF(B56=\"\",\"\",SUBTOTAL(3,B$6:$B56))","v":""},null,null,null,"","","",null,null,null,null,null,null,null,null,null,null,null,null,null,null,null,null,null,null,null,null,null,null,null,null,null,null,null,null,"--",""]
[{"$f":"IF(B57=\"\",\"\",SUBTOTAL(3,B$6:$B57))","v":""},null,null,null,"","","",null,null,null,null,null,null,null,null,null,null,null,null,null,null,null,null,null,null,null,null,null,null,null,null,null,null,null,null,"--",""]
[{"$f":"IF(B58=\"\",\"\",SUBTOTAL(3,B$6:$B58))","v":""},null,null,null,"","","",null,null,null,null,null,null,null,null,null,null,null,null,null,null,null,null,null,null,null,null,null,null,null,null,null,null,null,null,"--",""]
[{"$f":"IF(B59=\"\",\"\",SUBTOTAL(3,B$6:$B59))","v":""},null,null,null,"","","",null,null,null,null,null,null,null,null,null,null,null,null,null,null,null,null,null,null,null,null,null,null,null,null,null,null,null,null,"--",""]
[{"$f":"IF(B60=\"\",\"\",SUBTOTAL(3,B$6:$B60))","v":""},null,null,null,"","","",null,null,null,null,null,null,null,null,null,null,null,null,null,null,null,null,null,null,null,null,null,null,null,null,null,null,null,null,"--",""]
[{"$f":"IF(B61=\"\",\"\",SUBTOTAL(3,B$6:$B61))","v":""},null,null,null,"","","",null,null,null,null,null,null,null,null,null,null,null,null,null,null,null,null,null,null,null,null,null,null,null,null,null,null,null,null,"--",""]
[{"$f":"IF(B62=\"\",\"\",SUBTOTAL(3,B$6:$B62))","v":""},null,null,null,"","","",null,null,null,null,null,null,null,null,null,null,null,null,null,null,null,null,null,null,null,null,null,null,null,null,null,null,null,null,"--",""]
[{"$f":"IF(B63=\"\",\"\",SUBTOTAL(3,B$6:$B63))","v":""},null,null,null,"","","",null,null,null,null,null,null,null,null,null,null,null,null,null,null,null,null,null,null,null,null,null,null,null,null,null,null,null,null,"--",""]
[{"$f":"IF(B64=\"\",\"\",SUBTOTAL(3,B$6:$B64))","v":""},null,null,null,"","","",null,null,null,null,null,null,null,null,null,null,null,null,null,null,null,null,null,null,null,null,null,null,null,null,null,null,null,null,"--",""]
[{"$f":"IF(B65=\"\",\"\",SUBTOTAL(3,B$6:$B65))","v":""},null,null,null,"","","",null,null,null,null,null,null,null,null,null,null,null,null,null,null,null,null,null,null,null,null,null,null,null,null,null,null,null,null,"--",""]
[{"$f":"IF(B66=\"\",\"\",SUBTOTAL(3,B$6:$B66))","v":""},null,null,null,"","","",null,null,null,null,null,null,null,null,null,null,null,null,null,null,null,null,null,null,null,null,null,null,null,null,null,null,null,null,"--",""]
[{"$f":"IF(B67=\"\",\"\",SUBTOTAL(3,B$6:$B67))","v":""},null,null,null,"","","",null,null,null,null,null,null,null,null,null,null,null,null,null,null,null,null,null,null,null,null,null,null,null,null,null,null,null,null,"--",""]
[{"$f":"IF(B68=\"\",\"\",SUBTOTAL(3,B$6:$B68))","v":""},null,null,null,"","","",null,null,null,null,null,null,null,null,null,null,null,null,null,null,null,null,null,null,null,null,null,null,null,null,null,null,null,null,"--",""]
[{"$f":"IF(B69=\"\",\"\",SUBTOTAL(3,B$6:$B69))","v":""},null,null,null,"","","",null,null,null,null,null,null,null,null,null,null,null,null,null,null,null,null,null,null,null,null,null,null,null,null,null,null,null,null,"--",""]
[{"$f":"IF(B70=\"\",\"\",SUBTOTAL(3,B$6:$B70))","v":""},null,null,null,"","","",null,null,null,null,null,null,null,null,null,null,null,null,null,null,null,null,null,null,null,null,null,null,null,null,null,null,null,null,"--",{"$f":"IF(AI70=\"\",\"\",DATE(YEAR(AI70)+5,MONTH(AI70),DAY(AI70)))","v":""}]
[{"$f":"IF(B71=\"\",\"\",SUBTOTAL(3,B$6:$B71))","v":""},null,null,null,{"$f":"IFERROR(IF(ISODD(MID(D71,13,1)),\"ذكر\",\"انثى\"),\"\")","v":""},{"$f":"IFERROR(DATE(IF(LEFT(D71,1)*1=3,20,19)&MID(D71,2,2),MID(D71,4,2),MID(D71,6,2)),\"\")","v":""},{"$f":"IFERROR(DATEDIF(F71,NOW(),\"y\"),\"\")","v":""},null,null,null,null,null,null,null,null,null,null,null,null,null,null,null,null,null,null,null,null,null,null,null,null,null,null,null,null,{"$f":"IF(AF71=\"معلم\",\"معلم اول\",IF(AF71=\"معلم اول\",\"معلم اول أ\",IF(AF71=\"معلم خبير\",\"كبير معلمين\",IF(AF71=\"معلم اول أ\",\"معلم خبير\",\"--\"))))","v":"--"},""]
[{"$f":"IF(B72=\"\",\"\",SUBTOTAL(3,B$6:$B72))","v":""},null,null,null,"","","",null,null,null,null,null,null,null,null,null,null,null,null,null,null,null,null,null,null,null,null,null,null,null,null,null,null,null,null,"--",""]
[{"$f":"IF(B73=\"\",\"\",SUBTOTAL(3,B$6:$B73))","v":""},null,null,null,"","","",null,null,null,null,null,null,null,null,null,null,null,null,null,null,null,null,null,null,null,null,null,null,null,null,null,null,null,null,"--",""]
[{"$f":"IF(B74=\"\",\"\",SUBTOTAL(3,B$6:$B74))","v":""},null,null,null,"","","",null,null,null,null,null,null,null,null,null,null,null,null,null,null,null,null,null,null,null,null,null,null,null,null,null,null,null,null,"--",""]
[{"$f":"IF(B75=\"\",\"\",SUBTOTAL(3,B$6:$B75))","v":""},null,null,null,"","","",null,null,null,null,null,null,null,null,null,null,null,null,null,null,null,null,null,null,null,null,null,null,null,null,null,null,null,null,"--",""]
[{"$f":"IF(B76=\"\",\"\",SUBTOTAL(3,B$6:$B76))","v":""},null,null,null,"","","",null,null,null,null,null,null,null,null,null,null,null,null,null,null,null,null,null,null,null,null,null,null,null,null,null,null,null,null,"--",""]
[{"$f":"IF(B77=\"\",\"\",SUBTOTAL(3,B$6:$B77))","v":""},null,null,null,"","","",null,null,null,null,null,null,null,null,null,null,null,null,null,null,null,null,null,null,null,null,null,null,null,null,null,null,null,null,"--",""]
[{"$f":"IF(B78=\"\",\"\",SUBTOTAL(3,B$6:$B78))","v":""},null,null,null,"","","",null,null,null,null,null,null,null,null,null,null,null,null,null,null,null,null,null,null,null,null,null,null,null,null,null,null,null,null,"--",""]
[{"$f":"IF(B79=\"\",\"\",SUBTOTAL(3,B$6:$B79))","v":""},null,null,null,"","","",null,null,null,null,null,null,null,null,null,null,null,null,null,null,null,null,null,null,null,null,null,null,null,null,null,null,null,null,"--",""]
[{"$f":"IF(B80=\"\",\"\",SUBTOTAL(3,B$6:$B80))","v":""},null,null,null,"","","",null,null,null,null,null,null,null,null,null,null,null,null,null,null,null,null,null,null,null,null,null,null,null,null,null,null,null,null,"--",""]
[{"$f":"IF(B81=\"\",\"\",SUBTOTAL(3,B$6:$B81))","v":""},null,null,null,"","","",null,null,null,null,null,null,null,null,null,null,null,null,null,null,null,null,null,null,null,null,null,null,null,null,null,null,null,null,"--",""]
[{"$f":"IF(B82=\"\",\"\",SUBTOTAL(3,B$6:$B82))","v":""},null,null,null,"","","",null,null,null,null,null,null,null,null,null,null,null,null,null,null,null,null,null,null,null,null,null,null,null,null,null,null,null,null,"--",""]
[{"$f":"IF(B83=\"\",\"\",SUBTOTAL(3,B$6:$B83))","v":""},null,null,null,"","","",null,null,null,null,null,null,null,null,null,null,null,null,null,null,null,null,null,null,null,null,null,null,null,null,null,null,null,null,"--",""]
[{"$f":"IF(B84=\"\",\"\",SUBTOTAL(3,B$6:$B84))","v":""},null,null,null,"","","",null,null,null,null,null,null,null,null,null,null,null,null,null,null,null,null,null,null,null,null,null,null,null,null,null,null,null,null,"--",""]
[{"$f":"IF(B85=\"\",\"\",SUBTOTAL(3,B$6:$B85))","v":""},null,null,null,"","","",null,null,null,null,null,null,null,null,null,null,null,null,null,null,null,null,null,null,null,null,null,null,null,null,null,null,null,null,"--",""]
[{"$f":"IF(B86=\"\",\"\",SUBTOTAL(3,B$6:$B86))","v":""},null,null,null,"","","",null,null,null,null,null,null,null,null,null,null,null,null,null,null,null,null,null,null,null,null,null,null,null,null,null,null,null,null,"--",""]
[{"$f":"IF(B87=\"\",\"\",SUBTOTAL(3,B$6:$B87))","v":""},null,null,null,"","","",null,null,null,null,null,null,null,null,null,null,null,null,null,null,null,null,null,null,null,null,null,null,null,null,null,null,null,null,"--",""]
[{"$f":"IF(B88=\"\",\"\",SUBTOTAL(3,B$6:$B88))","v":""},null,null,null,"","","",null,null,null,null,null,null,null,null,null,null,null,null,null,null,null,null,null,null,null,null,null,null,null,null,null,null,null,null,"--",""]
[{"$f":"IF(B89=\"\",\"\",SUBTOTAL(3,B$6:$B89))","v":""},null,null,null,"","","",null,null,null,null,null,null,null,null,null,null,null,null,null,null,null,null,null,null,null,null,null,null,null,null,null,null,null,null,"--",""]
[{"$f":"IF(B90=\"\",\"\",SUBTOTAL(3,B$6:$B90))","v":""},null,null,null,"","","",null,null,null,null,null,null,null,null,null,null,null,null,null,null,null,null,null,null,null,null,null,null,null,null,null,null,null,null,"--",""]
[{"$f":"IF(B91=\"\",\"\",SUBTOTAL(3,B$6:$B91))","v":""},null,null,null,"","","",null,null,null,null,null,null,null,null,null,null,null,null,null,null,null,null,null,null,null,null,null,null,null,null,null,null,null,null,"--",""]
[{"$f":"IF(B92=\"\",\"\",SUBTOTAL(3,B$6:$B92))","v":""},null,null,null,"","","",null,null,null,null,null,null,null,null,null,null,null,null,null,null,null,null,null,null,null,null,null,null,null,null,null,null,null,null,"--",""]
[{"$f":"IF(B93=\"\",\"\",SUBTOTAL(3,B$6:$B93))","v":""},null,null,null,"","","",null,null,null,null,null,null,null,null,null,null,null,null,null,null,null,null,null,null,null,null,null,null,null,null,null,null,null,null,"--",""]
[{"$f":"IF(B94=\"\",\"\",SUBTOTAL(3,B$6:$B94))","v":""},null,null,null,"","","",null,null,null,null,null,null,null,null,null,null,null,null,null,null,null,null,null,null,null,null,null,null,null,null,null,null,null,null,"--",""]
[{"$f":"IF(B95=\"\",\"\",SUBTOTAL(3,B$6:$B95))","v":""},null,null,null,"","","",null,null,null,null,null,null,null,null,null,null,null,null,null,null,null,null,null,null,null,null,null,null,null,null,null,null,null,null,"--",""]
[{"$f":"IF(B96=\"\",\"\",SUBTOTAL(3,B$6:$B96))","v":""},null,null,null,"","","",null,null,null,null,null,null,null,null,null,null,null,null,null,null,null,null,null,null,null,null,null,null,null,null,null,null,null,null,"--",""]
[{"$f":"IF(B97=\"\",\"\",SUBTOTAL(3,B$6:$B97))","v":""},null,null,null,"","","",null,null,null,null,null,null,null,null,null,null,null,null,null,null,null,null,null,null,null,null,null,null,null,null,null,null,null,null,"--",""]
[{"$f":"IF(B98=\"\",\"\",SUBTOTAL(3,B$6:$B98))","v":""},null,null,null,"","","",null,null,null,null,null,null,null,null,null,null,null,null,null,null,null,null,null,null,null,null,null,null,null,null,null,null,null,null,"--",""]
[{"$f":"IF(B99=\"\",\"\",SUBTOTAL(3,B$6:$B99))","v":""},null,null,null,"","","",null,null,null,null,null,null,null,null,null,null,null,null,null,null,null,null,null,null,null,null,null,null,null,null,null,null,null,null,"--",""]
[{"$f":"IF(B100=\"\",\"\",SUBTOTAL(3,B$6:$B100))","v":""},null,null,null,"","","",null,null,null,null,null,null,null,null,null,null,null,null,null,null,null,null,null,null,null,null,null,null,null,null,null,null,null,null,"--",""]
[{"$f":"IF(B101=\"\",\"\",SUBTOTAL(3,B$6:$B101))","v":""},null,null,null,"","","",null,null,null,null,null,null,null,null,null,null,null,null,null,null,null,null,null,null,null,null,null,null,null,null,null,null,null,null,"--",""]
[{"$f":"IF(B102=\"\",\"\",SUBTOTAL(3,B$6:$B102))","v":""},null,null,null,"","","",null,null,null,null,null,null,null,null,null,null,null,null,null,null,null,null,null,null,null,null,null,null,null,null,null,null,null,null,"--",""]
[{"$f":"IF(B103=\"\",\"\",SUBTOTAL(3,B$6:$B103))","v":""},null,null,null,"","","",null,null,null,null,null,null,null,null,null,null,null,null,null,null,null,null,null,null,null,null,null,null,null,null,null,null,null,null,"--",""]
[{"$f":"IF(B104=\"\",\"\",SUBTOTAL(3,B$6:$B104))","v":""},null,null,null,"","","",null,null,null,null,null,null,null,null,null,null,null,null,null,null,null,null,null,null,null,null,null,null,null,null,null,null,null,null,"--",""]
[{"$f":"IF(B105=\"\",\"\",SUBTOTAL(3,B$6:$B105))","v":""},null,null,null,"","","",null,null,null,null,null,null,null,null,null,null,null,null,null,null,null,null,null,null,null,null,null,null,null,null,null,null,null,null,"--",""]
[{"$f":"IF(B106=\"\",\"\",SUBTOTAL(3,B$6:$B106))","v":""},null,null,null,"","","",null,null,null,null,null,null,null,null,null,null,null,null,null,null,null,null,null,null,null,null,null,null,null,null,null,null,null,null,"--",""]
[{"$f":"IF(B107=\"\",\"\",SUBTOTAL(3,B$6:$B107))","v":""},null,null,null,"","","",null,null,null,null,null,null,null,null,null,null,null,null,null,null,null,null,null,null,null,null,null,null,null,null,null,null,null,null,"--",""]
[{"$f":"IF(B108=\"\",\"\",SUBTOTAL(3,B$6:$B108))","v":""},null,null,null,"","","",null,null,null,null,null,null,null,null,null,null,null,null,null,null,null,null,null,null,null,null,null,null,null,null,null,null,null,null,"--",""]
[{"$f":"IF(B109=\"\",\"\",SUBTOTAL(3,B$6:$B109))","v":""},null,null,null,"","","",null,null,null,null,null,null,null,null,null,null,null,null,null,null,null,null,null,null,null,null,null,null,null,null,null,null,null,null,"--",""]
[{"$f":"IF(B110=\"\",\"\",SUBTOTAL(3,B$6:$B110))","v":""},null,null,null,"","","",null,null,null,null,null,null,null,null,null,null,null,null,null,null,null,null,null,null,null,null,null,null,null,null,null,null,null,null,"--",""]
[{"$f":"IF(B111=\"\",\"\",SUBTOTAL(3,B$6:$B111))","v":""},null,null,null,"","","",null,null,null,null,null,null,null,null,null,null,null,null,null,null,null,null,null,null,null,null,null,null,null,null,null,null,null,null,"--",""]
[{"$f":"IF(B112=\"\",\"\",SUBTOTAL(3,B$6:$B112))","v":""},null,null,null,"","","",null,null,null,null,null,null,null,null,null,null,null,null,null,null,null,null,null,null,null,null,null,null,null,null,null,null,null,null,"--",""]
[{"$f":"IF(B113=\"\",\"\",SUBTOTAL(3,B$6:$B113))","v":""},null,null,null,"","","",null,null,null,null,null,null,null,null,null,null,null,null,null,null,null,null,null,null,null,null,null,null,null,null,null,null,null,null,"--",""]
[{"$f":"IF(B114=\"\",\"\",SUBTOTAL(3,B$6:$B114))","v":""},null,null,null,"","","",null,null,null,null,null,null,null,null,null,null,null,null,null,null,null,null,null,null,null,null,null,null,null,null,null,null,null,null,"--",""]
[{"$f":"IF(B115=\"\",\"\",SUBTOTAL(3,B$6:$B115))","v":""},null,null,null,"","","",null,null,null,null,null,null,null,null,null,null,null,null,null,null,null,null,null,null,null,null,null,null,null,null,null,null,null,null,"--",""]
[{"$f":"IF(B116=\"\",\"\",SUBTOTAL(3,B$6:$B116))","v":""},null,null,null,"","","",null,null,null,null,null,null,null,null,null,null,null,null,null,null,null,null,null,null,null,null,null,null,null,null,null,null,null,null,"--",""]
[{"$f":"IF(B117=\"\",\"\",SUBTOTAL(3,B$6:$B117))","v":""},null,null,null,"","","",null,null,null,null,null,null,null,null,null,null,null,null,null,null,null,null,null,null,null,null,null,null,null,null,null,null,null,null,"--",""]
[{"$f":"IF(B118=\"\",\"\",SUBTOTAL(3,B$6:$B118))","v":""},null,null,null,"","","",null,null,null,null,null,null,null,null,null,null,null,null,null,null,null,null,null,null,null,null,null,null,null,null,null,null,null,null,"--",""]
[{"$f":"IF(B119=\"\",\"\",SUBTOTAL(3,B$6:$B119))","v":""},null,null,null,"","","",null,null,null,null,null,null,null,null,null,null,null,null,null,null,null,null,null,null,null,null,null,null,null,null,null,null,null,null,"--",""]
[{"$f":"IF(B120=\"\",\"\",SUBTOTAL(3,B$6:$B120))","v":""},null,null,null,"","","",null,null,null,null,null,null,null,null,null,null,null,null,null,null,null,null,null,null,null,null,null,null,null,null,null,null,null,null,"--",""]
[{"$f":"IF(B121=\"\",\"\",SUBTOTAL(3,B$6:$B121))","v":""},null,null,null,"","","",null,null,null,null,null,null,null,null,null,null,null,null,null,null,null,null,null,null,null,null,null,null,null,null,null,null,null,null,"--",""]
[{"$f":"IF(B122=\"\",\"\",SUBTOTAL(3,B$6:$B122))","v":""},null,null,null,"","","",null,null,null,null,null,null,null,null,null,null,null,null,null,null,null,null,null,null,null,null,null,null,null,null,null,null,null,null,"--",""]
[{"$f":"IF(B123=\"\",\"\",SUBTOTAL(3,B$6:$B123))","v":""},null,null,null,"","","",null,null,null,null,null,null,null,null,null,null,null,null,null,null,null,null,null,null,null,null,null,null,null,null,null,null,null,null,"--",""]
[{"$f":"IF(B124=\"\",\"\",SUBTOTAL(3,B$6:$B124))","v":""},null,null,null,"","","",null,null,null,null,null,null,null,null,null,null,null,null,null,null,null,null,null,null,null,null,null,null,null,null,null,null,null,null,"--",""]
[{"$f":"IF(B125=\"\",\"\",SUBTOTAL(3,B$6:$B125))","v":""},null,null,null,"","","",null,null,null,null,null,null,null,null,null,null,null,null,null,null,null,null,null,null,null,null,null,null,null,null,null,null,null,null,"--",""]
[{"$f":"IF(B126=\"\",\"\",SUBTOTAL(3,B$6:$B126))","v":""},null,null,null,"","","",null,null,null,null,null,null,null,null,null,null,null,null,null,null,null,null,null,null,null,null,null,null,null,null,null,null,null,null,"--",""]
[{"$f":"IF(B127=\"\",\"\",SUBTOTAL(3,B$6:$B127))","v":""},null,null,null,"","","",null,null,null,null,null,null,null,null,null,null,null,null,null,null,null,null,null,null,null,null,null,null,null,null,null,null,null,null,"--",""]
[{"$f":"IF(B128=\"\",\"\",SUBTOTAL(3,B$6:$B128))","v":""},null,null,null,"","","",null,null,null,null,null,null,null,null,null,null,null,null,null,null,null,null,null,null,null,null,null,null,null,null,null,null,null,null,"--",""]
[{"$f":"IF(B129=\"\",\"\",SUBTOTAL(3,B$6:$B129))","v":""},null,null,null,"","","",null,null,null,null,null,null,null,null,null,null,null,null,null,null,null,null,null,null,null,null,null,null,null,null,null,null,null,null,"--",""]
[{"$f":"IF(B130=\"\",\"\",SUBTOTAL(3,B$6:$B130))","v":""},null,null,null,"","","",null,null,null,null,null,null,null,null,null,null,null,null,null,null,null,null,null,null,null,null,null,null,null,null,null,null,null,null,"--",""]
[{"$f":"IF(B131=\"\",\"\",SUBTOTAL(3,B$6:$B131))","v":""},null,null,null,"","","",null,null,null,null,null,null,null,null,null,null,null,null,null,null,null,null,null,null,null,null,null,null,null,null,null,null,null,null,"--",""]
[{"$f":"IF(B132=\"\",\"\",SUBTOTAL(3,B$6:$B132))","v":""},null,null,null,"","","",null,null,null,null,null,null,null,null,null,null,null,null,null,null,null,null,null,null,null,null,null,null,null,null,null,null,null,null,"--",""]
[{"$f":"IF(B133=\"\",\"\",SUBTOTAL(3,B$6:$B133))","v":""},null,null,null,"","","",null,null,null,null,null,null,null,null,null,null,null,null,null,null,null,null,null,null,null,null,null,null,null,null,null,null,null,null,"--",""]
[{"$f":"IF(B134=\"\",\"\",SUBTOTAL(3,B$6:$B134))","v":""},null,null,null,"","","",null,null,null,null,null,null,null,null,null,null,null,null,null,null,null,null,null,null,null,null,null,null,null,null,null,null,null,null,"--",{"$f":"IF(AI134=\"\",\"\",DATE(YEAR(AI134)+5,MONTH(AI134),DAY(AI134)))","v":""}]
[{"$f":"IF(B135=\"\",\"\",SUBTOTAL(3,B$6:$B135))","v":""},null,null,null,{"$f":"IFERROR(IF(ISODD(MID(D135,13,1)),\"ذكر\",\"انثى\"),\"\")","v":""},{"$f":"IFERROR(DATE(IF(LEFT(D135,1)*1=3,20,19)&MID(D135,2,2),MID(D135,4,2),MID(D135,6,2)),\"\")","v":""},{"$f":"IFERROR(DATEDIF(F135,NOW(),\"y\"),\"\")","v":""},null,null,null,null,null,null,null,null,null,null,null,null,null,null,null,null,null,null,null,null,null,null,null,null,null,null,null,null,{"$f":"IF(AF135=\"معلم\",\"معلم اول\",IF(AF135=\"معلم اول\",\"معلم اول أ\",IF(AF135=\"معلم خبير\",\"كبير معلمين\",IF(AF135=\"معلم اول أ\",\"معلم خبير\",\"--\"))))","v":"--"},""]
[{"$f":"IF(B136=\"\",\"\",SUBTOTAL(3,B$6:$B136))","v":""},null,null,null,"","","",null,null,null,null,null,null,null,null,null,null,null,null,null,null,null,null,null,null,null,null,null,null,null,null,null,null,null,null,"--",""]
[{"$f":"IF(B137=\"\",\"\",SUBTOTAL(3,B$6:$B137))","v":""},null,null,null,"","","",null,null,null,null,null,null,null,null,null,null,null,null,null,null,null,null,null,null,null,null,null,null,null,null,null,null,null,null,"--",""]
[{"$f":"IF(B138=\"\",\"\",SUBTOTAL(3,B$6:$B138))","v":""},null,null,null,"","","",null,null,null,null,null,null,null,null,null,null,null,null,null,null,null,null,null,null,null,null,null,null,null,null,null,null,null,null,"--",""]
[{"$f":"IF(B139=\"\",\"\",SUBTOTAL(3,B$6:$B139))","v":""},null,null,null,"","","",null,null,null,null,null,null,null,null,null,null,null,null,null,null,null,null,null,null,null,null,null,null,null,null,null,null,null,null,"--",""]
[{"$f":"IF(B140=\"\",\"\",SUBTOTAL(3,B$6:$B140))","v":""},null,null,null,"","","",null,null,null,null,null,null,null,null,null,null,null,null,null,null,null,null,null,null,null,null,null,null,null,null,null,null,null,null,"--",""]
[{"$f":"IF(B141=\"\",\"\",SUBTOTAL(3,B$6:$B141))","v":""},null,null,null,"","","",null,null,null,null,null,null,null,null,null,null,null,null,null,null,null,null,null,null,null,null,null,null,null,null,null,null,null,null,"--",""]
[{"$f":"IF(B142=\"\",\"\",SUBTOTAL(3,B$6:$B142))","v":""},null,null,null,"","","",null,null,null,null,null,null,null,null,null,null,null,null,null,null,null,null,null,null,null,null,null,null,null,null,null,null,null,null,"--",""]
[{"$f":"IF(B143=\"\",\"\",SUBTOTAL(3,B$6:$B143))","v":""},null,null,null,"","","",null,null,null,null,null,null,null,null,null,null,null,null,null,null,null,null,null,null,null,null,null,null,null,null,null,null,null,null,"--",""]
[{"$f":"IF(B144=\"\",\"\",SUBTOTAL(3,B$6:$B144))","v":""},null,null,null,"","","",null,null,null,null,null,null,null,null,null,null,null,null,null,null,null,null,null,null,null,null,null,null,null,null,null,null,null,null,"--",""]
[{"$f":"IF(B145=\"\",\"\",SUBTOTAL(3,B$6:$B145))","v":""},null,null,null,"","","",null,null,null,null,null,null,null,null,null,null,null,null,null,null,null,null,null,null,null,null,null,null,null,null,null,null,null,null,"--",""]
[{"$f":"IF(B146=\"\",\"\",SUBTOTAL(3,B$6:$B146))","v":""},null,null,null,"","","",null,null,null,null,null,null,null,null,null,null,null,null,null,null,null,null,null,null,null,null,null,null,null,null,null,null,null,null,"--",""]
[{"$f":"IF(B147=\"\",\"\",SUBTOTAL(3,B$6:$B147))","v":""},null,null,null,"","","",null,null,null,null,null,null,null,null,null,null,null,null,null,null,null,null,null,null,null,null,null,null,null,null,null,null,null,null,"--",""]
[{"$f":"IF(B148=\"\",\"\",SUBTOTAL(3,B$6:$B148))","v":""},null,null,null,"","","",null,null,null,null,null,null,null,null,null,null,null,null,null,null,null,null,null,null,null,null,null,null,null,null,null,null,null,null,"--",""]
[{"$f":"IF(B149=\"\",\"\",SUBTOTAL(3,B$6:$B149))","v":""},null,null,null,"","","",null,null,null,null,null,null,null,null,null,null,null,null,null,null,null,null,null,null,null,null,null,null,null,null,null,null,null,null,"--",""]
[{"$f":"IF(B150=\"\",\"\",SUBTOTAL(3,B$6:$B150))","v":""},null,null,null,"","","",null,null,null,null,null,null,null,null,null,null,null,null,null,null,null,null,null,null,null,null,null,null,null,null,null,null,null,null,"--",""]
[{"$f":"IF(B151=\"\",\"\",SUBTOTAL(3,B$6:$B151))","v":""},null,null,null,"","","",null,null,null,null,null,null,null,null,null,null,null,null,null,null,null,null,null,null,null,null,null,null,null,null,null,null,null,null,"--",""]
[{"$f":"IF(B152=\"\",\"\",SUBTOTAL(3,B$6:$B152))","v":""},null,null,null,"","","",null,null,null,null,null,null,null,null,null,null,null,null,null,null,null,null,null,null,null,null,null,null,null,null,null,null,null,null,"--",""]
[{"$f":"IF(B153=\"\",\"\",SUBTOTAL(3,B$6:$B153))","v":""},null,null,null,"","","",null,null,null,null,null,null,null,null,null,null,null,null,null,null,null,null,null,null,null,null,null,null,null,null,null,null,null,null,"--",""]
[{"$f":"IF(B154=\"\",\"\",SUBTOTAL(3,B$6:$B154))","v":""},null,null,null,"","","",null,null,null,null,null,null,null,null,null,null,null,null,null,null,null,null,null,null,null,null,null,null,null,null,null,null,null,null,"--",""]
[{"$f":"IF(B155=\"\",\"\",SUBTOTAL(3,B$6:$B155))","v":""},null,null,null,"","","",null,null,null,null,null,null,null,null,null,null,null,null,null,null,null,null,null,null,null,null,null,null,null,null,null,null,null,null,"--",""]
[{"$f":"IF(B156=\"\",\"\",SUBTOTAL(3,B$6:$B156))","v":""},null,null,null,"","","",null,null,null,null,null,null,null,null,null,null,null,null,null,null,null,null,null,null,null,null,null,null,null,null,null,null,null,null,"--",""]
[{"$f":"IF(B157=\"\",\"\",SUBTOTAL(3,B$6:$B157))","v":""},null,null,null,"","","",null,null,null,null,null,null,null,null,null,null,null,null,null,null,null,null,null,null,null,null,null,null,null,null,null,null,null,null,"--",""]
[{"$f":"IF(B158=\"\",\"\",SUBTOTAL(3,B$6:$B158))","v":""},null,null,null,"","","",null,null,null,null,null,null,null,null,null,null,null,null,null,null,null,null,null,null,null,null,null,null,null,null,null,null,null,null,"--",""]
[{"$f":"IF(B159=\"\",\"\",SUBTOTAL(3,B$6:$B159))","v":""},null,null,null,"","","",null,null,null,null,null,null,null,null,null,null,null,null,null,null,null,null,null,null,null,null,null,null,null,null,null,null,null,null,"--",""]
[{"$f":"IF(B160=\"\",\"\",SUBTOTAL(3,B$6:$B160))","v":""},null,null,null,"","","",null,null,null,null,null,null,null,null,null,null,null,null,null,null,null,null,null,null,null,null,null,null,null,null,null,null,null,null,"--",""]
[{"$f":"IF(B161=\"\",\"\",SUBTOTAL(3,B$6:$B161))","v":""},null,null,null,"","","",null,null,null,null,null,null,null,null,null,null,null,null,null,null,null,null,null,null,null,null,null,null,null,null,null,null,null,null,"--",""]
[{"$f":"IF(B162=\"\",\"\",SUBTOTAL(3,B$6:$B162))","v":""},null,null,null,"","","",null,null,null,null,null,null,null,null,null,null,null,null,null,null,null,null,null,null,null,null,null,null,null,null,null,null,null,null,"--",""]
[{"$f":"IF(B163=\"\",\"\",SUBTOTAL(3,B$6:$B163))","v":""},null,null,null,"","","",null,null,null,null,null,null,null,null,null,null,null,null,null,null,null,null,null,null,null,null,null,null,null,null,null,null,null,null,"--",""]
[{"$f":"IF(B164=\"\",\"\",SUBTOTAL(3,B$6:$B164))","v":""},null,null,null,"","","",null,null,null,null,null,null,null,null,null,null,null,null,null,null,null,null,null,null,null,null,null,null,null,null,null,null,null,null,"--",""]
[{"$f":"IF(B165=\"\",\"\",SUBTOTAL(3,B$6:$B165))","v":""},null,null,null,"","","",null,null,null,null,null,null,null,null,null,null,null,null,null,null,null,null,null,null,null,null,null,null,null,null,null,null,null,null,"--",""]
[{"$f":"IF(B166=\"\",\"\",SUBTOTAL(3,B$6:$B166))","v":""},null,null,null,"","","",null,null,null,null,null,null,null,null,null,null,null,null,null,null,null,null,null,null,null,null,null,null,null,null,null,null,null,null,"--",""]
[{"$f":"IF(B167=\"\",\"\",SUBTOTAL(3,B$6:$B167))","v":""},null,null,null,"","","",null,null,null,null,null,null,null,null,null,null,null,null,null,null,null,null,null,null,null,null,null,null,null,null,null,null,null,null,"--",""]
[{"$f":"IF(B168=\"\",\"\",SUBTOTAL(3,B$6:$B168))","v":""},null,null,null,"","","",null,null,null,null,null,null,null,null,null,null,null,null,null,null,null,null,null,null,null,null,null,null,null,null,null,null,null,null,"--",""]
[{"$f":"IF(B169=\"\",\"\",SUBTOTAL(3,B$6:$B169))","v":""},null,null,null,"","","",null,null,null,null,null,null,null,null,null,null,null,null,null,null,null,null,null,null,null,null,null,null,null,null,null,null,null,null,"--",""]
[{"$f":"IF(B170=\"\",\"\",SUBTOTAL(3,B$6:$B170))","v":""},null,null,null,"","","",null,null,null,null,null,null,null,null,null,null,null,null,null,null,null,null,null,null,null,null,null,null,null,null,null,null,null,null,"--",""]
[{"$f":"IF(B171=\"\",\"\",SUBTOTAL(3,B$6:$B171))","v":""},null,null,null,"","","",null,null,null,null,null,null,null,null,null,null,null,null,null,null,null,null,null,null,null,null,null,null,null,null,null,null,null,null,"--",""]
[{"$f":"IF(B172=\"\",\"\",SUBTOTAL(3,B$6:$B172))","v":""},null,null,null,"","","",null,null,null,null,null,null,null,null,null,null,null,null,null,null,null,null,null,null,null,null,null,null,null,null,null,null,null,null,"--",""]
[{"$f":"IF(B173=\"\",\"\",SUBTOTAL(3,B$6:$B173))","v":""},null,null,null,"","","",null,null,null,null,null,null,null,null,null,null,null,null,null,null,null,null,null,null,null,null,null,null,null,null,null,null,null,null,"--",""]
[{"$f":"IF(B174=\"\",\"\",SUBTOTAL(3,B$6:$B174))","v":""},null,null,null,"","","",null,null,null,null,null,null,null,null,null,null,null,null,null,null,null,null,null,null,null,null,null,null,null,null,null,null,null,null,"--",""]
[{"$f":"IF(B175=\"\",\"\",SUBTOTAL(3,B$6:$B175))","v":""},null,null,null,"","","",null,null,null,null,null,null,null,null,null,null,null,null,null,null,null,null,null,null,null,null,null,null,null,null,null,null,null,null,"--",""]
[{"$f":"IF(B176=\"\",\"\",SUBTOTAL(3,B$6:$B176))","v":""},null,null,null,"","","",null,null,null,null,null,null,null,null,null,null,null,null,null,null,null,null,null,null,null,null,null,null,null,null,null,null,null,null,"--",""]
[{"$f":"IF(B177=\"\",\"\",SUBTOTAL(3,B$6:$B177))","v":""},null,null,null,"","","",null,null,null,null,null,null,null,null,null,null,null,null,null,null,null,null,null,null,null,null,null,null,null,null,null,null,null,null,"--",""]
[{"$f":"IF(B178=\"\",\"\",SUBTOTAL(3,B$6:$B178))","v":""},null,null,null,"","","",null,null,null,null,null,null,null,null,null,null,null,null,null,null,null,null,null,null,null,null,null,null,null,null,null,null,null,null,"--",""]
[{"$f":"IF(B179=\"\",\"\",SUBTOTAL(3,B$6:$B179))","v":""},null,null,null,"","","",null,null,null,null,null,null,null,null,null,null,null,null,null,null,null,null,null,null,null,null,null,null,null,null,null,null,null,null,"--",""]
[{"$f":"IF(B180=\"\",\"\",SUBTOTAL(3,B$6:$B180))","v":""},null,null,null,"","","",null,null,null,null,null,null,null,null,null,null,null,null,null,null,null,null,null,null,null,null,null,null,null,null,null,null,null,null,"--",""]
[{"$f":"IF(B181=\"\",\"\",SUBTOTAL(3,B$6:$B181))","v":""},null,null,null,"","","",null,null,null,null,null,null,null,null,null,null,null,null,null,null,null,null,null,null,null,null,null,null,null,null,null,null,null,null,"--",""]
[{"$f":"IF(B182=\"\",\"\",SUBTOTAL(3,B$6:$B182))","v":""},null,null,null,"","","",null,null,null,null,null,null,null,null,null,null,null,null,null,null,null,null,null,null,null,null,null,null,null,null,null,null,null,null,"--",""]
[{"$f":"IF(B183=\"\",\"\",SUBTOTAL(3,B$6:$B183))","v":""},null,null,null,"","","",null,null,null,null,null,null,null,null,null,null,null,null,null,null,null,null,null,null,null,null,null,null,null,null,null,null,null,null,"--",""]
[{"$f":"IF(B184=\"\",\"\",SUBTOTAL(3,B$6:$B184))","v":""},null,null,null,"","","",null,null,null,null,null,null,null,null,null,null,null,null,null,null,null,null,null,null,null,null,null,null,null,null,null,null,null,null,"--",""]
[{"$f":"IF(B185=\"\",\"\",SUBTOTAL(3,B$6:$B185))","v":""},null,null,null,"","","",null,null,null,null,null,null,null,null,null,null,null,null,null,null,null,null,null,null,null,null,null,null,null,null,null,null,null,null,"--",""]
[{"$f":"IF(B186=\"\",\"\",SUBTOTAL(3,B$6:$B186))","v":""},null,null,null,"","","",null,null,null,null,null,null,null,null,null,null,null,null,null,null,null,null,null,null,null,null,null,null,null,null,null,null,null,null,"--",""]
[{"$f":"IF(B187=\"\",\"\",SUBTOTAL(3,B$6:$B187))","v":""},null,null,null,"","","",null,null,null,null,null,null,null,null,null,null,null,null,null,null,null,null,null,null,null,null,null,null,null,null,null,null,null,null,"--",""]
[{"$f":"IF(B188=\"\",\"\",SUBTOTAL(3,B$6:$B188))","v":""},null,null,null,"","","",null,null,null,null,null,null,null,null,null,null,null,null,null,null,null,null,null,null,null,null,null,null,null,null,null,null,null,null,"--",""]
[{"$f":"IF(B189=\"\",\"\",SUBTOTAL(3,B$6:$B189))","v":""},null,null,null,"","","",null,null,null,null,null,null,null,null,null,null,null,null,null,null,null,null,null,null,null,null,null,null,null,null,null,null,null,null,"--",""]
[{"$f":"IF(B190=\"\",\"\",SUBTOTAL(3,B$6:$B190))","v":""},null,null,null,"","","",null,null,null,null,null,null,null,null,null,null,null,null,null,null,null,null,null,null,null,null,null,null,null,null,null,null,null,null,"--",""]
[{"$f":"IF(B191=\"\",\"\",SUBTOTAL(3,B$6:$B191))","v":""},null,null,null,"","","",null,null,null,null,null,null,null,null,null,null,null,null,null,null,null,null,null,null,null,null,null,null,null,null,null,null,null,null,"--",""]
[{"$f":"IF(B192=\"\",\"\",SUBTOTAL(3,B$6:$B192))","v":""},null,null,null,"","","",null,null,null,null,null,null,null,null,null,null,null,null,null,null,null,null,null,null,null,null,null,null,null,null,null,null,null,null,"--",""]
[{"$f":"IF(B193=\"\",\"\",SUBTOTAL(3,B$6:$B193))","v":""},null,null,null,"","","",null,null,null,null,null,null,null,null,null,null,null,null,null,null,null,null,null,null,null,null,null,null,null,null,null,null,null,null,"--",""]
[{"$f":"IF(B194=\"\",\"\",SUBTOTAL(3,B$6:$B194))","v":""},null,null,null,"","","",null,null,null,null,null,null,null,null,null,null,null,null,null,null,null,null,null,null,null,null,null,null,null,null,null,null,null,null,"--",""]
[{"$f":"IF(B195=\"\",\"\",SUBTOTAL(3,B$6:$B195))","v":""},null,null,null,"","","",null,null,null,null,null,null,null,null,null,null,null,null,null,null,null,null,null,null,null,null,null,null,null,null,null,null,null,null,"--",""]
[{"$f":"IF(B196=\"\",\"\",SUBTOTAL(3,B$6:$B196))","v":""},null,null,null,"","","",null,null,null,null,null,null,null,null,null,null,null,null,null,null,null,null,null,null,null,null,null,null,null,null,null,null,null,null,"--",""]
[{"$f":"IF(B197=\"\",\"\",SUBTOTAL(3,B$6:$B197))","v":""},null,null,null,"","","",null,null,null,null,null,null,null,null,null,null,null,null,null,null,null,null,null,null,null,null,null,null,null,null,null,null,null,null,"--",""]
[{"$f":"IF(B198=\"\",\"\",SUBTOTAL(3,B$6:$B198))","v":""},null,null,null,"","","",null,null,null,null,null,null,null,null,null,null,null,null,null,null,null,null,null,null,null,null,null,null,null,null,null,null,null,null,"--",{"$f":"IF(AI198=\"\",\"\",DATE(YEAR(AI198)+5,MONTH(AI198),DAY(AI198)))","v":""}]
[{"$f":"IF(B199=\"\",\"\",SUBTOTAL(3,B$6:$B199))","v":""},null,null,null,{"$f":"IFERROR(IF(ISODD(MID(D199,13,1)),\"ذكر\",\"انثى\"),\"\")","v":""},{"$f":"IFERROR(DATE(IF(LEFT(D199,1)*1=3,20,19)&MID(D199,2,2),MID(D199,4,2),MID(D199,6,2)),\"\")","v":""},{"$f":"IFERROR(DATEDIF(F199,NOW(),\"y\"),\"\")","v":""},null,null,null,null,null,null,null,null,null,null,null,null,null,null,null,null,null,null,null,null,null,null,null,null,null,null,null,null,{"$f":"IF(AF199=\"معلم\",\"معلم اول\",IF(AF199=\"معلم اول\",\"معلم اول أ\",IF(AF199=\"معلم خبير\",\"كبير معلمين\",IF(AF199=\"معلم اول أ\",\"معلم خبير\",\"--\"))))","v":"--"},""]
[{"$f":"IF(B200=\"\",\"\",SUBTOTAL(3,B$6:$B200))","v":""},null,null,null,"","","",null,null,null,null,null,null,null,null,null,null,null,null,null,null,null,null,null,null,null,null,null,null,null,null,null,null,null,null,"--",""]
[{"$f":"IF(B201=\"\",\"\",SUBTOTAL(3,B$6:$B201))","v":""},null,null,null,"","","",null,null,null,null,null,null,null,null,null,null,null,null,null,null,null,null,null,null,null,null,null,null,null,null,null,null,null,null,"--",""]
[{"$f":"IF(B202=\"\",\"\",SUBTOTAL(3,B$6:$B202))","v":""},null,null,null,"","","",null,null,null,null,null,null,null,null,null,null,null,null,null,null,null,null,null,null,null,null,null,null,null,null,null,null,null,null,"--",""]
[{"$f":"IF(B203=\"\",\"\",SUBTOTAL(3,B$6:$B203))","v":""},null,null,null,"","","",null,null,null,null,null,null,null,null,null,null,null,null,null,null,null,null,null,null,null,null,null,null,null,null,null,null,null,null,"--",""]
[{"$f":"IF(B204=\"\",\"\",SUBTOTAL(3,B$6:$B204))","v":""},null,null,null,"","","",null,null,null,null,null,null,null,null,null,null,null,null,null,null,null,null,null,null,null,null,null,null,null,null,null,null,null,null,"--",""]
[{"$f":"IF(B205=\"\",\"\",SUBTOTAL(3,B$6:$B205))","v":""},null,null,null,"","","",null,null,null,null,null,null,null,null,null,null,null,null,null,null,null,null,null,null,null,null,null,null,null,null,null,null,null,null,"--",""]
[{"$f":"IF(B206=\"\",\"\",SUBTOTAL(3,B$6:$B206))","v":""},null,null,null,"","","",null,null,null,null,null,null,null,null,null,null,null,null,null,null,null,null,null,null,null,null,null,null,null,null,null,null,null,null,"--",""]
[{"$f":"IF(B207=\"\",\"\",SUBTOTAL(3,B$6:$B207))","v":""},null,null,null,"","","",null,null,null,null,null,null,null,null,null,null,null,null,null,null,null,null,null,null,null,null,null,null,null,null,null,null,null,null,"--",""]
[{"$f":"IF(B208=\"\",\"\",SUBTOTAL(3,B$6:$B208))","v":""},null,null,null,"","","",null,null,null,null,null,null,null,null,null,null,null,null,null,null,null,null,null,null,null,null,null,null,null,null,null,null,null,null,"--",""]
[{"$f":"IF(B209=\"\",\"\",SUBTOTAL(3,B$6:$B209))","v":""},null,null,null,"","","",null,null,null,null,null,null,null,null,null,null,null,null,null,null,null,null,null,null,null,null,null,null,null,null,null,null,null,null,"--",""]
[{"$f":"IF(B210=\"\",\"\",SUBTOTAL(3,B$6:$B210))","v":""},null,null,null,"","","",null,null,null,null,null,null,null,null,null,null,null,null,null,null,null,null,null,null,null,null,null,null,null,null,null,null,null,null,"--",""]
[{"$f":"IF(B211=\"\",\"\",SUBTOTAL(3,B$6:$B211))","v":""},null,null,null,"","","",null,null,null,null,null,null,null,null,null,null,null,null,null,null,null,null,null,null,null,null,null,null,null,null,null,null,null,null,"--",""]
[{"$f":"IF(B212=\"\",\"\",SUBTOTAL(3,B$6:$B212))","v":""},null,null,null,"","","",null,null,null,null,null,null,null,null,null,null,null,null,null,null,null,null,null,null,null,null,null,null,null,null,null,null,null,null,"--",""]
[{"$f":"IF(B213=\"\",\"\",SUBTOTAL(3,B$6:$B213))","v":""},null,null,null,"","","",null,null,null,null,null,null,null,null,null,null,null,null,null,null,null,null,null,null,null,null,null,null,null,null,null,null,null,null,"--",""]
[{"$f":"IF(B214=\"\",\"\",SUBTOTAL(3,B$6:$B214))","v":""},null,null,null,"","","",null,null,null,null,null,null,null,null,null,null,null,null,null,null,null,null,null,null,null,null,null,null,null,null,null,null,null,null,"--",""]
[{"$f":"IF(B215=\"\",\"\",SUBTOTAL(3,B$6:$B215))","v":""},null,null,null,"","","",null,null,null,null,null,null,null,null,null,null,null,null,null,null,null,null,null,null,null,null,null,null,null,null,null,null,null,null,"--",""]
[{"$f":"IF(B216=\"\",\"\",SUBTOTAL(3,B$6:$B216))","v":""},null,null,null,"","","",null,null,null,null,null,null,null,null,null,null,null,null,null,null,null,null,null,null,null,null,null,null,null,null,null,null,null,null,"--",""]
[{"$f":"IF(B217=\"\",\"\",SUBTOTAL(3,B$6:$B217))","v":""},null,null,null,"","","",null,null,null,null,null,null,null,null,null,null,null,null,null,null,null,null,null,null,null,null,null,null,null,null,null,null,null,null,"--",""]
[{"$f":"IF(B218=\"\",\"\",SUBTOTAL(3,B$6:$B218))","v":""},null,null,null,"","","",null,null,null,null,null,null,null,null,null,null,null,null,null,null,null,null,null,null,null,null,null,null,null,null,null,null,null,null,"--",""]
[{"$f":"IF(B219=\"\",\"\",SUBTOTAL(3,B$6:$B219))","v":""},null,null,null,"","","",null,null,null,null,null,null,null,null,null,null,null,null,null,null,null,null,null,null,null,null,null,null,null,null,null,null,null,null,"--",""]
[{"$f":"IF(B220=\"\",\"\",SUBTOTAL(3,B$6:$B220))","v":""},null,null,null,"","","",null,null,null,null,null,null,null,null,null,null,null,null,null,null,null,null,null,null,null,null,null,null,null,null,null,null,null,null,"--",""]
[{"$f":"IF(B221=\"\",\"\",SUBTOTAL(3,B$6:$B221))","v":""},null,null,null,"","","",null,null,null,null,null,null,null,null,null,null,null,null,null,null,null,null,null,null,null,null,null,null,null,null,null,null,null,null,"--",""]
[{"$f":"IF(B222=\"\",\"\",SUBTOTAL(3,B$6:$B222))","v":""},null,null,null,"","","",null,null,null,null,null,null,null,null,null,null,null,null,null,null,null,null,null,null,null,null,null,null,null,null,null,null,null,null,"--",""]
[{"$f":"IF(B223=\"\",\"\",SUBTOTAL(3,B$6:$B223))","v":""},null,null,null,"","","",null,null,null,null,null,null,null,null,null,null,null,null,null,null,null,null,null,null,null,null,null,null,null,null,null,null,null,null,"--",""]
[{"$f":"IF(B224=\"\",\"\",SUBTOTAL(3,B$6:$B224))","v":""},null,null,null,"","","",null,null,null,null,null,null,null,null,null,null,null,null,null,null,null,null,null,null,null,null,null,null,null,null,null,null,null,null,"--",""]
[{"$f":"IF(B225=\"\",\"\",SUBTOTAL(3,B$6:$B225))","v":""},null,null,null,"","","",null,null,null,null,null,null,null,null,null,null,null,null,null,null,null,null,null,null,null,null,null,null,null,null,null,null,null,null,"--",""]
[{"$f":"IF(B226=\"\",\"\",SUBTOTAL(3,B$6:$B226))","v":""},null,null,null,"","","",null,null,null,null,null,null,null,null,null,null,null,null,null,null,null,null,null,null,null,null,null,null,null,null,null,null,null,null,"--",""]
[{"$f":"IF(B227=\"\",\"\",SUBTOTAL(3,B$6:$B227))","v":""},null,null,null,"","","",null,null,null,null,null,null,null,null,null,null,null,null,null,null,null,null,null,null,null,null,null,null,null,null,null,null,null,null,"--",""]
[{"$f":"IF(B228=\"\",\"\",SUBTOTAL(3,B$6:$B228))","v":""},null,null,null,"","","",null,null,null,null,null,null,null,null,null,null,null,null,null,null,null,null,null,null,null,null,null,null,null,null,null,null,null,null,"--",""]
[{"$f":"IF(B229=\"\",\"\",SUBTOTAL(3,B$6:$B229))","v":""},null,null,null,"","","",null,null,null,null,null,null,null,null,null,null,null,null,null,null,null,null,null,null,null,null,null,null,null,null,null,null,null,null,"--",""]
[{"$f":"IF(B230=\"\",\"\",SUBTOTAL(3,B$6:$B230))","v":""},null,null,null,"","","",null,null,null,null,null,null,null,null,null,null,null,null,null,null,null,null,null,null,null,null,null,null,null,null,null,null,null,null,"--",""]
[{"$f":"IF(B231=\"\",\"\",SUBTOTAL(3,B$6:$B231))","v":""},null,null,null,"","","",null,null,null,null,null,null,null,null,null,null,null,null,null,null,null,null,null,null,null,null,null,null,null,null,null,null,null,null,"--",""]
[{"$f":"IF(B232=\"\",\"\",SUBTOTAL(3,B$6:$B232))","v":""},null,null,null,"","","",null,null,null,null,null,null,null,null,null,null,null,null,null,null,null,null,null,null,null,null,null,null,null,null,null,null,null,null,"--",""]
[{"$f":"IF(B233=\"\",\"\",SUBTOTAL(3,B$6:$B233))","v":""},null,null,null,"","","",null,null,null,null,null,null,null,null,null,null,null,null,null,null,null,null,null,null,null,null,null,null,null,null,null,null,null,null,"--",""]
[{"$f":"IF(B234=\"\",\"\",SUBTOTAL(3,B$6:$B234))","v":""},null,null,null,"","","",null,null,null,null,null,null,null,null,null,null,null,null,null,null,null,null,null,null,null,null,null,null,null,null,null,null,null,null,"--",""]
[{"$f":"IF(B235=\"\",\"\",SUBTOTAL(3,B$6:$B235))","v":""},null,null,null,"","","",null,null,null,null,null,null,null,null,null,null,null,null,null,null,null,null,null,null,null,null,null,null,null,null,null,null,null,null,"--",""]
[{"$f":"IF(B236=\"\",\"\",SUBTOTAL(3,B$6:$B236))","v":""},null,null,null,"","","",null,null,null,null,null,null,null,null,null,null,null,null,null,null,null,null,null,null,null,null,null,null,null,null,null,null,null,null,"--",""]
[{"$f":"IF(B237=\"\",\"\",SUBTOTAL(3,B$6:$B237))","v":""},null,null,null,"","","",null,null,null,null,null,null,null,null,null,null,null,null,null,null,null,null,null,null,null,null,null,null,null,null,null,null,null,null,"--",""]
[{"$f":"IF(B238=\"\",\"\",SUBTOTAL(3,B$6:$B238))","v":""},null,null,null,"","","",null,null,null,null,null,null,null,null,null,null,null,null,null,null,null,null,null,null,null,null,null,null,null,null,null,null,null,null,"--",""]
[{"$f":"IF(B239=\"\",\"\",SUBTOTAL(3,B$6:$B239))","v":""},null,null,null,"","","",null,null,null,null,null,null,null,null,null,null,null,null,null,null,null,null,null,null,null,null,null,null,null,null,null,null,null,null,"--",""]
[{"$f":"IF(B240=\"\",\"\",SUBTOTAL(3,B$6:$B240))","v":""},null,null,null,"","","",null,null,null,null,null,null,null,null,null,null,null,null,null,null,null,null,null,null,null,null,null,null,null,null,null,null,null,null,"--",""]
[{"$f":"IF(B241=\"\",\"\",SUBTOTAL(3,B$6:$B241))","v":""},null,null,null,"","","",null,null,null,null,null,null,null,null,null,null,null,null,null,null,null,null,null,null,null,null,null,null,null,null,null,null,null,null,"--",""]
[{"$f":"IF(B242=\"\",\"\",SUBTOTAL(3,B$6:$B242))","v":""},null,null,null,"","","",null,null,null,null,null,null,null,null,null,null,null,null,null,null,null,null,null,null,null,null,null,null,null,null,null,null,null,null,"--",""]
[{"$f":"IF(B243=\"\",\"\",SUBTOTAL(3,B$6:$B243))","v":""},null,null,null,"","","",null,null,null,null,null,null,null,null,null,null,null,null,null,null,null,null,null,null,null,null,null,null,null,null,null,null,null,null,"--",""]
[{"$f":"IF(B244=\"\",\"\",SUBTOTAL(3,B$6:$B244))","v":""},null,null,null,"","","",null,null,null,null,null,null,null,null,null,null,null,null,null,null,null,null,null,null,null,null,null,null,null,null,null,null,null,null,"--",""]
[{"$f":"IF(B245=\"\",\"\",SUBTOTAL(3,B$6:$B245))","v":""},null,null,null,"","","",null,null,null,null,null,null,null,null,null,null,null,null,null,null,null,null,null,null,null,null,null,null,null,null,null,null,null,null,"--",""]
[{"$f":"IF(B246=\"\",\"\",SUBTOTAL(3,B$6:$B246))","v":""},null,null,null,"","","",null,null,null,null,null,null,null,null,null,null,null,null,null,null,null,null,null,null,null,null,null,null,null,null,null,null,null,null,"--",""]
[{"$f":"IF(B247=\"\",\"\",SUBTOTAL(3,B$6:$B247))","v":""},null,null,null,"","","",null,null,null,null,null,null,null,null,null,null,null,null,null,null,null,null,null,null,null,null,null,null,null,null,null,null,null,null,"--",""]
[{"$f":"IF(B248=\"\",\"\",SUBTOTAL(3,B$6:$B248))","v":""},null,null,null,"","","",null,null,null,null,null,null,null,null,null,null,null,null,null,null,null,null,null,null,null,null,null,null,null,null,null,null,null,null,"--",""]
[{"$f":"IF(B249=\"\",\"\",SUBTOTAL(3,B$6:$B249))","v":""},null,null,null,"","","",null,null,null,null,null,null,null,null,null,null,null,null,null,null,null,null,null,null,null,null,null,null,null,null,null,null,null,null,"--",""]
[{"$f":"IF(B250=\"\",\"\",SUBTOTAL(3,B$6:$B250))","v":""},null,null,null,"","","",null,null,null,null,null,null,null,null,null,null,null,null,null,null,null,null,null,null,null,null,null,null,null,null,null,null,null,null,"--",""]
[{"$f":"IF(B251=\"\",\"\",SUBTOTAL(3,B$6:$B251))","v":""},null,null,null,"","","",null,null,null,null,null,null,null,null,null,null,null,null,null,null,null,null,null,null,null,null,null,null,null,null,null,null,null,null,"--",""]
[{"$f":"IF(B252=\"\",\"\",SUBTOTAL(3,B$6:$B252))","v":""},null,null,null,"","","",null,null,null,null,null,null,null,null,null,null,null,null,null,null,null,null,null,null,null,null,null,null,null,null,null,null,null,null,"--",""]
[{"$f":"IF(B253=\"\",\"\",SUBTOTAL(3,B$6:$B253))","v":""},null,null,null,"","","",null,null,null,null,null,null,null,null,null,null,null,null,null,null,null,null,null,null,null,null,null,null,null,null,null,null,null,null,"--",""]
[{"$f":"IF(B254=\"\",\"\",SUBTOTAL(3,B$6:$B254))","v":""},null,null,null,"","","",null,null,null,null,null,null,null,null,null,null,null,null,null,null,null,null,null,null,null,null,null,null,null,null,null,null,null,null,"--",""]
[{"$f":"IF(B255=\"\",\"\",SUBTOTAL(3,B$6:$B255))","v":""},null,null,null,"","","",null,null,null,null,null,null,null,null,null,null,null,null,null,null,null,null,null,null,null,null,null,null,null,null,null,null,null,null,"--",""]
[{"$f":"IF(B256=\"\",\"\",SUBTOTAL(3,B$6:$B256))","v":""},null,null,null,"","","",null,null,null,null,null,null,null,null,null,null,null,null,null,null,null,null,null,null,null,null,null,null,null,null,null,null,null,null,"--",""]
[{"$f":"IF(B257=\"\",\"\",SUBTOTAL(3,B$6:$B257))","v":""},null,null,null,"","","",null,null,null,null,null,null,null,null,null,null,null,null,null,null,null,null,null,null,null,null,null,null,null,null,null,null,null,null,"--",""]
[{"$f":"IF(B258=\"\",\"\",SUBTOTAL(3,B$6:$B258))","v":""},null,null,null,"","","",null,null,null,null,null,null,null,null,null,null,null,null,null,null,null,null,null,null,null,null,null,null,null,null,null,null,null,null,"--",""]
[{"$f":"IF(B259=\"\",\"\",SUBTOTAL(3,B$6:$B259))","v":""},null,null,null,"","","",null,null,null,null,null,null,null,null,null,null,null,null,null,null,null,null,null,null,null,null,null,null,null,null,null,null,null,null,"--",""]
[{"$f":"IF(B260=\"\",\"\",SUBTOTAL(3,B$6:$B260))","v":""},null,null,null,"","","",null,null,null,null,null,null,null,null,null,null,null,null,null,null,null,null,null,null,null,null,null,null,null,null,null,null,null,null,"--",""]
[{"$f":"IF(B261=\"\",\"\",SUBTOTAL(3,B$6:$B261))","v":""},null,null,null,"","","",null,null,null,null,null,null,null,null,null,null,null,null,null,null,null,null,null,null,null,null,null,null,null,null,null,null,null,null,"--",""]
[{"$f":"IF(B262=\"\",\"\",SUBTOTAL(3,B$6:$B262))","v":""},null,null,null,"","","",null,null,null,null,null,null,null,null,null,null,null,null,null,null,null,null,null,null,null,null,null,null,null,null,null,null,null,null,"--",{"$f":"IF(AI262=\"\",\"\",DATE(YEAR(AI262)+5,MONTH(AI262),DAY(AI262)))","v":""}]
[{"$f":"IF(B263=\"\",\"\",SUBTOTAL(3,B$6:$B263))","v":""},null,null,null,{"$f":"IFERROR(IF(ISODD(MID(D263,13,1)),\"ذكر\",\"انثى\"),\"\")","v":""},{"$f":"IFERROR(DATE(IF(LEFT(D263,1)*1=3,20,19)&MID(D263,2,2),MID(D263,4,2),MID(D263,6,2)),\"\")","v":""},{"$f":"IFERROR(DATEDIF(F263,NOW(),\"y\"),\"\")","v":""},null,null,null,null,null,null,null,null,null,null,null,null,null,null,null,null,null,null,null,null,null,null,null,null,null,null,null,null,{"$f":"IF(AF263=\"معلم\",\"معلم اول\",IF(AF263=\"معلم اول\",\"معلم اول أ\",IF(AF263=\"معلم خبير\",\"كبير معلمين\",IF(AF263=\"معلم اول أ\",\"معلم خبير\",\"--\"))))","v":"--"},""]
[{"$f":"IF(B264=\"\",\"\",SUBTOTAL(3,B$6:$B264))","v":""},null,null,null,"","","",null,null,null,null,null,null,null,null,null,null,null,null,null,null,null,null,null,null,null,null,null,null,null,null,null,null,null,null,"--",""]
[{"$f":"IF(B265=\"\",\"\",SUBTOTAL(3,B$6:$B265))","v":""},null,null,null,"","","",null,null,null,null,null,null,null,null,null,null,null,null,null,null,null,null,null,null,null,null,null,null,null,null,null,null,null,null,"--",""]
[{"$f":"IF(B266=\"\",\"\",SUBTOTAL(3,B$6:$B266))","v":""},null,null,null,"","","",null,null,null,null,null,null,null,null,null,null,null,null,null,null,null,null,null,null,null,null,null,null,null,null,null,null,null,null,"--",""]
[{"$f":"IF(B267=\"\",\"\",SUBTOTAL(3,B$6:$B267))","v":""},null,null,null,"","","",null,null,null,null,null,null,null,null,null,null,null,null,null,null,null,null,null,null,null,null,null,null,null,null,null,null,null,null,"--",""]
[{"$f":"IF(B268=\"\",\"\",SUBTOTAL(3,B$6:$B268))","v":""},null,null,null,"","","",null,null,null,null,null,null,null,null,null,null,null,null,null,null,null,null,null,null,null,null,null,null,null,null,null,null,null,null,"--",""]
[{"$f":"IF(B269=\"\",\"\",SUBTOTAL(3,B$6:$B269))","v":""},null,null,null,"","","",null,null,null,null,null,null,null,null,null,null,null,null,null,null,null,null,null,null,null,null,null,null,null,null,null,null,null,null,"--",""]
[{"$f":"IF(B270=\"\",\"\",SUBTOTAL(3,B$6:$B270))","v":""},null,null,null,"","","",null,null,null,null,null,null,null,null,null,null,null,null,null,null,null,null,null,null,null,null,null,null,null,null,null,null,null,null,"--",""]
[{"$f":"IF(B271=\"\",\"\",SUBTOTAL(3,B$6:$B271))","v":""},null,null,null,"","","",null,null,null,null,null,null,null,null,null,null,null,null,null,null,null,null,null,null,null,null,null,null,null,null,null,null,null,null,"--",""]
[{"$f":"IF(B272=\"\",\"\",SUBTOTAL(3,B$6:$B272))","v":""},null,null,null,"","","",null,null,null,null,null,null,null,null,null,null,null,null,null,null,null,null,null,null,null,null,null,null,null,null,null,null,null,null,"--",""]
[{"$f":"IF(B273=\"\",\"\",SUBTOTAL(3,B$6:$B273))","v":""},null,null,null,"","","",null,null,null,null,null,null,null,null,null,null,null,null,null,null,null,null,null,null,null,null,null,null,null,null,null,null,null,null,"--",""]
[{"$f":"IF(B274=\"\",\"\",SUBTOTAL(3,B$6:$B274))","v":""},null,null,null,"","","",null,null,null,null,null,null,null,null,null,null,null,null,null,null,null,null,null,null,null,null,null,null,null,null,null,null,null,null,"--",""]
[{"$f":"IF(B275=\"\",\"\",SUBTOTAL(3,B$6:$B275))","v":""},null,null,null,"","","",null,null,null,null,null,null,null,null,null,null,null,null,null,null,null,null,null,null,null,null,null,null,null,null,null,null,null,null,"--",""]
[{"$f":"IF(B276=\"\",\"\",SUBTOTAL(3,B$6:$B276))","v":""},null,null,null,"","","",null,null,null,null,null,null,null,null,null,null,null,null,null,null,null,null,null,null,null,null,null,null,null,null,null,null,null,null,"--",""]
[{"$f":"IF(B277=\"\",\"\",SUBTOTAL(3,B$6:$B277))","v":""},null,null,null,"","","",null,null,null,null,null,null,null,null,null,null,null,null,null,null,null,null,null,null,null,null,null,null,null,null,null,null,null,null,"--",""]
[{"$f":"IF(B278=\"\",\"\",SUBTOTAL(3,B$6:$B278))","v":""},null,null,null,"","","",null,null,null,null,null,null,null,null,null,null,null,null,null,null,null,null,null,null,null,null,null,null,null,null,null,null,null,null,"--",""]
[{"$f":"IF(B279=\"\",\"\",SUBTOTAL(3,B$6:$B279))","v":""},null,null,null,"","","",null,null,null,null,null,null,null,null,null,null,null,null,null,null,null,null,null,null,null,null,null,null,null,null,null,null,null,null,"--",""]
[{"$f":"IF(B280=\"\",\"\",SUBTOTAL(3,B$6:$B280))","v":""},null,null,null,"","","",null,null,null,null,null,null,null,null,null,null,null,null,null,null,null,null,null,null,null,null,null,null,null,null,null,null,null,null,"--",""]
[{"$f":"IF(B281=\"\",\"\",SUBTOTAL(3,B$6:$B281))","v":""},null,null,null,"","","",null,null,null,null,null,null,null,null,null,null,null,null,null,null,null,null,null,null,null,null,null,null,null,null,null,null,null,null,"--",""]
[{"$f":"IF(B282=\"\",\"\",SUBTOTAL(3,B$6:$B282))","v":""},null,null,null,"","","",null,null,null,null,null,null,null,null,null,null,null,null,null,null,null,null,null,null,null,null,null,null,null,null,null,null,null,null,"--",""]
[{"$f":"IF(B283=\"\",\"\",SUBTOTAL(3,B$6:$B283))","v":""},null,null,null,"","","",null,null,null,null,null,null,null,null,null,null,null,null,null,null,null,null,null,null,null,null,null,null,null,null,null,null,null,null,"--",""]
[{"$f":"IF(B284=\"\",\"\",SUBTOTAL(3,B$6:$B284))","v":""},null,null,null,"","","",null,null,null,null,null,null,null,null,null,null,null,null,null,null,null,null,null,null,null,null,null,null,null,null,null,null,null,null,"--",""]
[{"$f":"IF(B285=\"\",\"\",SUBTOTAL(3,B$6:$B285))","v":""},null,null,null,"","","",null,null,null,null,null,null,null,null,null,null,null,null,null,null,null,null,null,null,null,null,null,null,null,null,null,null,null,null,"--",""]
[{"$f":"IF(B286=\"\",\"\",SUBTOTAL(3,B$6:$B286))","v":""},null,null,null,"","","",null,null,null,null,null,null,null,null,null,null,null,null,null,null,null,null,null,null,null,null,null,null,null,null,null,null,null,null,"--",""]
[{"$f":"IF(B287=\"\",\"\",SUBTOTAL(3,B$6:$B287))","v":""},null,null,null,"","","",null,null,null,null,null,null,null,null,null,null,null,null,null,null,null,null,null,null,null,null,null,null,null,null,null,null,null,null,"--",""]
[{"$f":"IF(B288=\"\",\"\",SUBTOTAL(3,B$6:$B288))","v":""},null,null,null,"","","",null,null,null,null,null,null,null,null,null,null,null,null,null,null,null,null,null,null,null,null,null,null,null,null,null,null,null,null,"--",""]
[{"$f":"IF(B289=\"\",\"\",SUBTOTAL(3,B$6:$B289))","v":""},null,null,null,"","","",null,null,null,null,null,null,null,null,null,null,null,null,null,null,null,null,null,null,null,null,null,null,null,null,null,null,null,null,"--",""]
[{"$f":"IF(B290=\"\",\"\",SUBTOTAL(3,B$6:$B290))","v":""},null,null,null,"","","",null,null,null,null,null,null,null,null,null,null,null,null,null,null,null,null,null,null,null,null,null,null,null,null,null,null,null,null,"--",""]
[{"$f":"IF(B291=\"\",\"\",SUBTOTAL(3,B$6:$B291))","v":""},null,null,null,"","","",null,null,null,null,null,null,null,null,null,null,null,null,null,null,null,null,null,null,null,null,null,null,null,null,null,null,null,null,"--",""]
[{"$f":"IF(B292=\"\",\"\",SUBTOTAL(3,B$6:$B292))","v":""},null,null,null,"","","",null,null,null,null,null,null,null,null,null,null,null,null,null,null,null,null,null,null,null,null,null,null,null,null,null,null,null,null,"--",""]
[{"$f":"IF(B293=\"\",\"\",SUBTOTAL(3,B$6:$B293))","v":""},null,null,null,"","","",null,null,null,null,null,null,null,null,null,null,null,null,null,null,null,null,null,null,null,null,null,null,null,null,null,null,null,null,"--",""]
[{"$f":"IF(B294=\"\",\"\",SUBTOTAL(3,B$6:$B294))","v":""},null,null,null,"","","",null,null,null,null,null,null,null,null,null,null,null,null,null,null,null,null,null,null,null,null,null,null,null,null,null,null,null,null,"--",""]
[{"$f":"IF(B295=\"\",\"\",SUBTOTAL(3,B$6:$B295))","v":""},null,null,null,"","","",null,null,null,null,null,null,null,null,null,null,null,null,null,null,null,null,null,null,null,null,null,null,null,null,null,null,null,null,"--",""]
[{"$f":"IF(B296=\"\",\"\",SUBTOTAL(3,B$6:$B296))","v":""},null,null,null,"","","",null,null,null,null,null,null,null,null,null,null,null,null,null,null,null,null,null,null,null,null,null,null,null,null,null,null,null,null,"--",""]
[{"$f":"IF(B297=\"\",\"\",SUBTOTAL(3,B$6:$B297))","v":""},null,null,null,"","","",null,null,null,null,null,null,null,null,null,null,null,null,null,null,null,null,null,null,null,null,null,null,null,null,null,null,null,null,"--",""]
[{"$f":"IF(B298=\"\",\"\",SUBTOTAL(3,B$6:$B298))","v":""},null,null,null,"","","",null,null,null,null,null,null,null,null,null,null,null,null,null,null,null,null,null,null,null,null,null,null,null,null,null,null,null,null,"--",""]
[{"$f":"IF(B299=\"\",\"\",SUBTOTAL(3,B$6:$B299))","v":""},null,null,null,"","","",null,null,null,null,null,null,null,null,null,null,null,null,null,null,null,null,null,null,null,null,null,null,null,null,null,null,null,null,"--",""]
[{"$f":"IF(B300=\"\",\"\",SUBTOTAL(3,B$6:$B300))","v":""},null,null,null,"","","",null,null,null,null,null,null,null,null,null,null,null,null,null,null,null,null,null,null,null,null,null,null,null,null,null,null,null,null,"--",""]
[{"$f":"IF(B301=\"\",\"\",SUBTOTAL(3,B$6:$B301))","v":""},null,null,null,"","","",null,null,null,null,null,null,null,null,null,null,null,null,null,null,null,null,null,null,null,null,null,null,null,null,null,null,null,null,"--",""]
[{"$f":"IF(B302=\"\",\"\",SUBTOTAL(3,B$6:$B302))","v":""},null,null,null,"","","",null,null,null,null,null,null,null,null,null,null,null,null,null,null,null,null,null,null,null,null,null,null,null,null,null,null,null,null,"--",""]
[{"$f":"IF(B303=\"\",\"\",SUBTOTAL(3,B$6:$B303))","v":""},null,null,null,"","","",null,null,null,null,null,null,null,null,null,null,null,null,null,null,null,null,null,null,null,null,null,null,null,null,null,null,null,null,"--",""]
[{"$f":"IF(B304=\"\",\"\",SUBTOTAL(3,B$6:$B304))","v":""},null,null,null,"","","",null,null,null,null,null,null,null,null,null,null,null,null,null,null,null,null,null,null,null,null,null,null,null,null,null,null,null,null,"--",""]
[{"$f":"IF(B305=\"\",\"\",SUBTOTAL(3,B$6:$B305))","v":""},null,null,null,"","","",null,null,null,null,null,null,null,null,null,null,null,null,null,null,null,null,null,null,null,null,null,null,null,null,null,null,null,null,"--",""]
[{"$f":"IF(B306=\"\",\"\",SUBTOTAL(3,B$6:$B306))","v":""},null,null,null,"","","",null,null,null,null,null,null,null,null,null,null,null,null,null,null,null,null,null,null,null,null,null,null,null,null,null,null,null,null,"--",""]

{"sheet":"ورقة1","index":1,"n_rows":55,"n_cols":20,"rows_kept":55,"cut":false,"hidden":false,"merged":[[0,0,0,2],[0,14,0,17],[1,0,1,2],[1,14,1,17],[2,0,2,2],[2,14,2,17],[4,11,4,17],[5,0,5,17],[6,0,8,0],[6,1,8,1],[6,2,8,2],[6,3,6,4],[6,5,6,6],[6,7,6,8],[6,9,6,19],[7,3,8,3],[7,4,8,4],[7,5,8,6],[7,7,8,8],[7,9,7,19],[9,5,9,6],[9,7,9,8],[10,5,10,6],[10,7,10,8],[11,5,11,6],[11,7,11,8],[12,5,12,6],[12,7,12,8],[13,5,13,6],[13,7,13,8],[14,5,14,6],[14,7,14,8],[15,0,15,1],[15,5,15,6],[15,7,15,8],[17,0,17,17],[18,0,19,0],[18,1,19,1],[18,2,19,2],[18,3,18,10],[18,11,18,16],[18,17,19,18],[20,17,33,18],[33,0,33,1],[35,0,35,17],[36,0,37,0],[36,1,37,1],[36,2,36,6],[36,7,36,16],[36,17,37,18],[37,8,37,9],[37,10,37,13],[37,14,37,16],[38,8,38,9],[38,10,38,13],[38,14,38,16],[38,17,38,18],[39,8,39,9],[39,10,39,13],[39,14,39,16],[39,17,39,18],[40,8,40,9],[40,10,40,13],[40,14,40,16],[40,17,40,18],[41,8,41,9],[41,10,41,13],[41,14,41,16],[41,17,41,18],[42,8,42,9],[42,10,42,13],[42,14,42,16],[42,17,42,18],[43,8,43,9],[43,10,43,13],[43,14,43,16],[43,17,43,18],[44,8,44,9],[44,10,44,13],[44,14,44,16],[44,17,44,18],[45,8,45,9],[45,10,45,13],[45,14,45,16],[45,17,45,18],[46,8,46,9],[46,10,46,13],[46,14,46,16],[46,17,46,18],[47,8,47,9],[47,10,47,13],[47,14,47,16],[47,17,47,18],[48,8,48,9],[48,10,48,13],[48,14,48,16],[48,17,48,18],[49,8,49,9],[49,10,49,13],[49,14,49,16],[49,17,49,18],[54,12,54,15],[50,0,50,1],[50,8,50,9],[50,10,50,13],[50,14,50,16],[50,17,50,18],[52,0,52,18],[53,1,53,2],[53,3,53,5],[53,6,53,8],[53,9,53,11],[53,12,53,15]]}
["الأزهر الشريف ",null,null,null,null,null,null,null,null,null,null,null,null,null,"نموذج رقم (1) تنسيق"]
["رئاسة قطاع المعاهد الأزهرية",null,null,null,null,null,null,null,null,null,null,null,null,null,"تعليم ابتدائى "]
["الإدارة العامة للتنسيق",null,null,null,null,null,null,null,null,null,null,null,null,null,"( 50000 )"]
[]
[" ",null,null,"الإدارة التعليمية : ............................. التعليمية الازهرية",null,null,null,null,null,null,null,"المنطقة التابع لها : القاهرة"]
["بيان بعدد الطلاب والفصول بالمعاهد"]
["م","الصفوف","عدد الفصول","عدد التلاميذ ",null,"عدد الحصص",null,"عدد حصص ",null,"عدد حصص "]
[null,null,null,"بنون  ","بنات","القران الكريم",null,"المواد الدينية و العربية",null,"المواد الثقافيةتذكر المواد مفصلة"]
[null,null,null,null,null,null,null,null,null,"حساب","علوم","انشطة","انجليزى","متعدد","توكاتسو","دراسات","رسم","كمبيوتر","ت. رياضية","الاجمالى"]
[1,"الصف الأول",2,39,29,20,null,22,null,8,null,null,8,22,4,null,null,null,2]
[2,"الصف الثانى",2,32,23,20,null,24,null,8,null,null,8,22,4,null,null,null,2]
[3,"الصف الثالث",2,26,25,24,null,24,null,10,null,4,6,null,null,null,2,2,2]
[4,"الصف الرابع",2,24,36,30,null,22,null,10,4,null,6,null,null,4,2,2,2]
[5,"الصف الخامس",2,40,30,30,null,22,null,10,4,null,6,null,null,4,2,2,2]
[6,"الصف السادس",2,28,40,30,null,22,null,10,4,null,6,null,null,4,2,2,2]
["الإجمالى",null,12,189,183]
[]
["بيان عدد الحصص والمدرسين بالمعاهد"]
["م","المادة","إجمالى\nعدد\nالحصص","عدد المعلمين المقيدون بالمعاهد ويعملون بها",null,null,null,null,null,null,null,"عدد المعلمين المقيدون\nبالمعاهد ولا يعملون بها",null,null,null,null,null,"ملاحظات"]
[null,null,null,"معلم\nمساعد ","معلم","معلم أول","معلم أول\n( أ )","معلم\nخبير","معلم كبير","العجز","الزيادة","مجندون","معارون","أجازات\nبدون\nمرتب","منتدبون\nإلى جهات\nأخرى","انقطاع بانواعه","العمل نصف الوقت"]
[1,"مواد عربية وشرعية",null,null,1,1,1,1,1,1,null,null,null,null,null,null,null,"علماً بان مواد (متعدد التخصصات + التوكاتسو ) غير موجودة فى هذا الاحصاء"]
[2,"علوم",null,null,null,1,null,null,null,1,null,null,null,1]
[3,"رياضيات",null,null,null,2,null,null,null,1]
[4,"انجليزى",null,null,null,2]
[5,"دراسات",null,null,null,null,1]
[6,"تربية فنية",null,null,null,2]
[7,"قران كريم",null,2,1,{"$f":"COUNTIF(#REF!,\"قران كريم\")","v":{"$error":"#REF!"}},null,null,1,1]
[8,"رياض اطفال",null,null,2,1,null,null,null,1]
[9,"تربية رياضية",null,null,1,1,null,null,null,1]
[10,"خط",null,null,1,1]
[11,"اخصائى اجتماعى",null,null,1,1,null,null,null,1]
[12,"مكتبات",null,null,1,1]
[13,"حاسب الى",null,null,null,1,null,null,null,null,null,null,null,1]
["الجملة"]
[]
["بيان بالوظائف الأخرى"]
["م","وظائف","العدد المقيد بالمعاهد و يعمل بها",null,null,null,null,"مقيدون بالمعاهد ولا يعملون بها",null,null,null,null,null,null,null,null,null,"ملاحظات"]
[null,null,"أصلى","منتدب","اللازم","العجز","الزيادة","معارون","أجازات خاصة بأنواعها",null,"منتدبون الى جهات اخرى",null,null,null,"تأمين صحى قرار 259"]
[1,"شيخ المعهد",null,1,null,null,null,null,2,null,3,null,null,null,"بقرار66"]
[2,"وكيل المعهد",1]
[3,"اخصائى اجتماعى",1,null,null,1]
[4,"مشرف اجتماعى"]
[5,"مشرف تغذية"]
[6,"امين مكتبة",1]
[7,"أمين معمل",null,1,null,1]
[8,"اخصائى تدريس"]
[9,"اخصائى نفسى",null,null,null,1]
[10,"اخصائى صحافة",null,null,null,1]
[11,"كاتب",6,null,null,3]
[12,"عامل",5,null,null,2]
["الجملة"]
[null,"ملحوظة : يراعى تدوين الوظائف التى لم تدرج ضمن هذه الاستمارة تحت بند وظائف اخرى"]
["أن البيانات الواردة فى هذه الاستمارة صحيحة وتمثل الواقع وأن أنواع الوظائف مطابقة للقرارات الصادرة من الجهات المختصة وشاملة لجميع المقيدين بالمعهد سواء كانوا عاملين بالفعل أو مجندين أو معارين أو متعاقدين أو حاصلين على أجازات بدون مرتب ."]
[null,"عضو فنى التعليم الايتدائى ",null,"وكيل الادارة",null,null,"مدير الإدارة التعليمية",null,null,"مدير التنسيق",null,null,"يعتمد ،،،"]
[null,null,null,null,null,null,null,null,null,null,null,null,"رئيس الإدارة المركزية"]

{"sheet":"عددى معلمين وفصول","index":2,"n_rows":30,"n_cols":25,"rows_kept":30,"cut":false,"hidden":false,"merged":[[26,2,26,8],[27,0,27,2],[27,8,27,9],[11,2,11,5],[11,6,11,10],[12,6,13,6],[12,7,12,9],[22,0,25,5]]}
["الازهر الشريف "]
[{"$f":"'بيانات المعهد'!G8","v":"الادارة المركزية لمنطقة القاهرة"}]
["إدارة التعليم الابتدائى ",null,null,null,null,{"$f":"'بيانات المعهد'!G9","v":"إدارة شمال القاهرة"}]
[{"$f":"'بيانات المعهد'!G10","v":"معهد شبراالخيمة الابتدائى"}]
["اسم شيخ المعهد / ",{"$f":"'بيانات المعهد'!G12","v":"راشا عبدالمنطلب عبدالمتجلى"},null,null,null,"رقم التليفون/"]
["وكيل المعهد/ ",null,null,null,null,"رقم التليفون /"]
[null,null,"إحصاء بعدد العاملين:-"]
["شيخ معهد","وكيل","وكيل بجدول","معلم كبير","معلم خبير","معلم اول أ","معلم اول","معلم ","محفظ","غير مدرج \nبالكادر","اخصائى اجتماعى"]
[1,{"$f":"COUNTIF('بيانات اساسية'!$X$6:$X$46,\"وكيل\")","v":0},{"$f":"COUNTIF('بيانات اساسية'!$X$6:$X$46,\"وكيل بجدول\")","v":0},{"$f":"COUNTIF('بيانات اساسية'!$AF$6:$AF$306,\"كبير معلمين\")","v":3},{"$f":"COUNTIF('بيانات اساسية'!$AF$6:$AF$306,\"معلم خبير\")","v":0},{"$f":"COUNTIF('بيانات اساسية'!$AF$6:$AF$306,\"معلم اول - أ\")","v":0},{"$f":"COUNTIF('بيانات اساسية'!$AF$6:$AF$306,\"معلم اول\")","v":13},{"$f":"COUNTIF('بيانات اساسية'!$AF$6:$AF$306,\"معلم\")","v":2},{"$f":"COUNTIF('بيانات اساسية'!$AF$6:$AF$306,\"محفظ\")","v":2},{"$f":"COUNTIF('بيانات اساسية'!$AF$6:$AF$306,\"غير مدرج بالكادر\")","v":3},{"$f":"COUNTIF('بيانات اساسية'!$X$6:$X$46,\"اخصائى اجتماعى\")","v":1}]
["اخصائى تغذية","اخصائى مكتبات","امين معمل","كاتب ","شئون مالية","عامل","الاجمالى"]
[{"$f":"COUNTIF('بيانات اساسية'!$X$6:$X$46,\"اخصائى تغذية\")","v":2},{"$f":"COUNTIF('بيانات اساسية'!$X$6:$X$46,\"اخصائى مكتبات\")","v":0},{"$f":"COUNTIF('بيانات اساسية'!$X$6:$X$46,\"امين معمل\")","v":0},{"$f":"COUNTIF('بيانات اساسية'!$X$6:$X$46,\"كاتب\")","v":6},{"$f":"COUNTIF('بيانات اساسية'!$X$6:$X$46,\"شئون مالية\")","v":1},{"$f":"COUNTIF('بيانات اساسية'!$X$6:$X$46,\"عامل\")","v":5},{"$f":"SUM(A9:K9,A11:F11)","v":39}]
[null,null,"إحصاء عددى بتلاميذ المعهد",null,null,null,"إحصاء عددى بمدرسى المعهد"]
["الصف","عدد الفصول","بنين","بنات","الوافدين","الاجمالى","المادة","عدد مدرسى كل مادة",null,null,"ملاحظات"]
["الأول التمهيدى",null,null,null,null,{"$f":"SUM(C14:E14)","v":0},null,"ذكور","اناث","اجمالى"]
["الثانى التمهيدى",1,13,16,"--",{"$f":"SUM(C15:E15)","v":29},"قران كريم",{"$f":"SUMPRODUCT(('بيانات اساسية'!$AG$6:$AG$306=\"قران كريم\")*('بيانات اساسية'!$E$6:$E$306=\"ذكر\"))","v":4},{"$f":"SUMPRODUCT(('بيانات اساسية'!$AG$6:$AG$306=\"قران كريم\")*('بيانات اساسية'!$E$6:$E$306=\"انثى\"))","v":5},{"$f":"SUM(H15:I15)","v":9},null,null,null,null,null,null,null,null,null,null,null,null,null,null,"الاجمالى"]
["الأول الابتدائى",1,27,32,"--",59,"لغة عربية ",{"$f":"SUMPRODUCT(('بيانات اساسية'!$AG$6:$AG$306=\"لغة عربية\")*('بيانات اساسية'!$E$6:$E$306=\"ذكر\"))","v":0},{"$f":"SUMPRODUCT(('بيانات اساسية'!$AG$6:$AG$306=\"لغة عربية\")*('بيانات اساسية'!$E$6:$E$306=\"انثى\"))","v":6},6,null,null,null,null,null,null,null,null,null,null,null,null,null,null,{"$f":"SUM(W16:X16)","v":0}]
["الثانى الابتدائى",1,24,21,"--",45,"تربية دينية",{"$f":"SUMPRODUCT(('بيانات اساسية'!$AG$6:$AG$306=\"دين\")*('بيانات اساسية'!$E$6:$E$306=\"ذكر\"))","v":0},{"$f":"SUMPRODUCT(('بيانات اساسية'!$AG$6:$AG$306=\"دين\")*('بيانات اساسية'!$E$6:$E$306=\"انثى\"))","v":0},0,null,null,null,null,null,null,null,null,null,null,null,null,null,null,0]
["الثالث الابتدائى",1,20,31,"--",51,"رياضيات",{"$f":"SUMPRODUCT(('بيانات اساسية'!$AG$6:$AG$306=\"رياضيات\")*('بيانات اساسية'!$E$6:$E$306=\"ذكر\"))","v":0},{"$f":"SUMPRODUCT(('بيانات اساسية'!$AG$6:$AG$306=\"رياضيات\")*('بيانات اساسية'!$E$6:$E$306=\"انثى\"))","v":2},2,null,null,null,null,null,null,null,null,null,null,null,null,null,null,0]
["الرابع الابتدائى",1,26,23,"--",49,"علوم",{"$f":"SUMPRODUCT(('بيانات اساسية'!$AG$6:$AG$306=\"علوم\")*('بيانات اساسية'!$E$6:$E$306=\"ذكر\"))","v":0},{"$f":"SUMPRODUCT(('بيانات اساسية'!$AG$6:$AG$306=\"علوم\")*('بيانات اساسية'!$E$6:$E$306=\"انثى\"))","v":0},0,null,null,null,null,null,null,null,null,null,null,null,null,null,null,0]
["الخامس الابتدائى",1,13,16,"--",29,"دراسات اجتماعية",{"$f":"SUMPRODUCT(('بيانات اساسية'!$AG$6:$AG$306=\"دراسات\")*('بيانات اساسية'!$E$6:$E$306=\"ذكر\"))","v":0},{"$f":"SUMPRODUCT(('بيانات اساسية'!$AG$6:$AG$306=\"دراسات\")*('بيانات اساسية'!$E$6:$E$306=\"انثى\"))","v":1},1,null,null,null,null,null,null,null,null,null,null,null,null,null,null,0]
["السادس الابتدائى",1,21,16,"--",37,"انجليزى",{"$f":"SUMPRODUCT(('بيانات اساسية'!$AG$6:$AG$306=\"لغة انجليزية\")*('بيانات اساسية'!$E$6:$E$306=\"ذكر\"))","v":1},{"$f":"SUMPRODUCT(('بيانات اساسية'!$AG$6:$AG$306=\"لغة انجليزية\")*('بيانات اساسية'!$E$6:$E$306=\"انثى\"))","v":1},2,null,null,null,null,null,null,null,null,null,null,null,null,null,null,0]
["الاجمالى",{"$f":"SUM(B14:B21)","v":7},{"$f":"SUM(C14:C21)","v":144},{"$f":"SUM(D14:D21)","v":155},{"$f":"SUM(E14:E21)","v":0},{"$f":"SUM(C22:E22)","v":299},"الخط",{"$f":"SUMPRODUCT(('بيانات اساسية'!$AG$6:$AG$306=\"خط\")*('بيانات اساسية'!$E$6:$E$306=\"ذكر\"))","v":0},{"$f":"SUMPRODUCT(('بيانات اساسية'!$AG$6:$AG$306=\"خط\")*('بيانات اساسية'!$E$6:$E$306=\"انثى\"))","v":1},1,null,null,null,null,null,null,null,null,null,null,null,null,null,null,0]
[null,null,null,null,null,null,"تربية فنية",{"$f":"SUMPRODUCT(('بيانات اساسية'!$AG$6:$AG$306=\"نربية فنية\")*('بيانات اساسية'!$E$6:$E$306=\"ذكر\"))","v":0},{"$f":"SUMPRODUCT(('بيانات اساسية'!$AG$6:$AG$306=\"تربية فنية\")*('بيانات اساسية'!$E$6:$E$306=\"انثى\"))","v":0},0,null,null,null,null,null,null,null,null,null,null,null,null,null,null,0]
[null,null,null,null,null,null,"تربية رياضية",{"$f":"SUMPRODUCT(('بيانات اساسية'!$AG$6:$AG$306=\"تربية رياضية\")*('بيانات اساسية'!$E$6:$E$306=\"ذكر\"))","v":0},{"$f":"SUMPRODUCT(('بيانات اساسية'!$AG$6:$AG$306=\"تربية رياضية\")*('بيانات اساسية'!$E$6:$E$306=\"انثى\"))","v":0},0,null,null,null,null,null,null,null,null,null,null,null,null,null,null,0]
[null,null,null,null,null,null,"حاسب الى ",{"$f":"SUMPRODUCT(('بيانات اساسية'!$AG$6:$AG$306=\"حاسب الى \")*('بيانات اساسية'!$E$6:$E$306=\"ذكر\"))","v":0},{"$f":"SUMPRODUCT(('بيانات اساسية'!$AG$6:$AG$306=\"حاسب الى\")*('بيانات اساسية'!$E$6:$E$306=\"انثى\"))","v":0},0]
[null,null,null,null,null,null,"الاجمالى",{"$f":"SUM(H15:H25)","v":5},{"$f":"SUM(I15:I25)","v":16},21]
[null," ","                       تفيد إدارة المعهد بصحة هذه المعلومات وتحت مسئوليتهم"]
["شئون العاملين",null,null,null,null,null,null,null,"يعتمد شيخ المعهد"]
[]
[null,{"$f":"'بيانات المعهد'!G13","v":"فاطمة عبدالمعطى"},null,null,null,null,null,null,{"$f":"'بيانات المعهد'!G12","v":"راشا عبدالمنطلب عبدالمتجلى"}]

{"sheet":"احصاء عددى معلمى الابتدائى","index":3,"n_rows":21,"n_cols":14,"rows_kept":21,"cut":false,"hidden":false,"merged":[[5,1,5,2],[6,1,6,3],[3,1,3,2],[17,1,17,2],[8,1,8,2],[9,1,16,1],[4,1,4,3],[19,3,19,4],[20,3,20,4],[20,7,20,9],[3,3,3,4],[5,4,5,5],[7,4,7,8],[7,9,7,11]]}
[]
[]
[]
[null,{"$f":"'بيانات المعهد'!F7","v":"الازهر الشريف"}]
[null,{"$f":"'بيانات المعهد'!G8","v":"الادارة المركزية لمنطقة القاهرة"},null,null,"الأزهرية"]
[null,{"$f":"'بيانات المعهد'!G9","v":"إدارة شمال القاهرة"},null,"التعليمية"]
[null,{"$f":"'بيانات المعهد'!G10","v":"معهد شبراالخيمة الابتدائى"}]
[null,null,null,null,"احصاء عددي لمدرسي المعهد للعام الدراسى",null,null,null,null,{"$f":"'بيانات المعهد'!G11","v":"2020/ 2021"}]
[null,"المــــــادة",null,"اللغة العربية","القرآن الكريم","الرياضيات","اللغة الانجليزية","العلوم","الدراسات","التربية الفنية","الخط","التربية الرياضية","حاسب الى ","الاجمالى"]
[null,"عدد المدرسين","كبير معلمبن",{"$f":"SUMPRODUCT(('بيانات اساسية'!$AG$6:$AG$306=\"لغة عربية\")*('بيانات اساسية'!$AF$6:$AF$306=\"كبير معلمين\"))","v":3},{"$f":"SUMPRODUCT(('بيانات اساسية'!$AG$6:$AG$306=\"قران كريم\")*('بيانات اساسية'!$AF$6:$AF$306=\"كبير معلمين\"))","v":0},{"$f":"SUMPRODUCT(('بيانات اساسية'!$AG$6:$AG$306=\"رياضيات\")*('بيانات اساسية'!$AF$6:$AF$306=\"كبير معلمين\"))","v":0},{"$f":"SUMPRODUCT(('بيانات اساسية'!$AG$6:$AG$306=\"لغة انجليزية\")*('بيانات اساسية'!$AF$6:$AF$306=\"كبير معلمين\"))","v":0},{"$f":"SUMPRODUCT(('بيانات اساسية'!$AG$6:$AG$306=\"علوم\")*('بيانات اساسية'!$AF$6:$AF$306=\"كبير معلمين\"))","v":0},{"$f":"SUMPRODUCT(('بيانات اساسية'!$AG$6:$AG$306=\"دراسات\")*('بيانات اساسية'!$AF$6:$AF$306=\"كبير معلمين\"))","v":0},{"$f":"SUMPRODUCT(('بيانات اساسية'!$AG$6:$AG$306=\"تربية فنية\")*('بيانات اساسية'!$AF$6:$AF$306=\"كبير معلمين\"))","v":0},{"$f":"SUMPRODUCT(('بيانات اساسية'!$AG$6:$AG$306=\"خط\")*('بيانات اساسية'!$AF$6:$AF$306=\"كبير معلمين\"))","v":0},{"$f":"SUMPRODUCT(('بيانات اساسية'!$AG$6:$AG$306=\"تربية رياضية\")*('بيانات اساسية'!$AF$6:$AF$306=\"كبير معلمين\"))","v":0},{"$f":"SUMPRODUCT(('بيانات اساسية'!$AG$6:$AG$306=\"كمبيوتر\")*('بيانات اساسية'!$AF$6:$AF$306=\"كبير معلمين\"))","v":0},{"$f":"SUM($D$10:$M$10)","v":3}]
[null,null,"معلم خبير",{"$f":"SUMPRODUCT(('بيانات اساسية'!$AG$6:$AG$306=\"لغة عربية\")*('بيانات اساسية'!$AF$6:$AF$306=\"معلم خبير\"))","v":0},{"$f":"SUMPRODUCT(('بيانات اساسية'!$AG$6:$AG$306=\"قران كريم\")*('بيانات اساسية'!$AF$6:$AF$306=\"معلم خبير\"))","v":0},{"$f":"SUMPRODUCT(('بيانات اساسية'!$AG$6:$AG$306=\"رياضيات\")*('بيانات اساسية'!$AF$6:$AF$306=\"معلم خبير\"))","v":0},{"$f":"SUMPRODUCT(('بيانات اساسية'!$AG$6:$AG$306=\"لغة انجليزية\")*('بيانات اساسية'!$AF$6:$AF$306=\"معلم خبير\"))","v":0},{"$f":"SUMPRODUCT(('بيانات اساسية'!$AG$6:$AG$306=\"علوم\")*('بيانات اساسية'!$AF$6:$AF$306=\"معلم خبير\"))","v":0},{"$f":"SUMPRODUCT(('بيانات اساسية'!$AG$6:$AG$306=\"دراسات\")*('بيانات اساسية'!$AF$6:$AF$306=\"معلم خبير\"))","v":0},{"$f":"SUMPRODUCT(('بيانات اساسية'!$AG$6:$AG$306=\"تربية فنية\")*('بيانات اساسية'!$AF$6:$AF$306=\"معلم خبير\"))","v":0},{"$f":"SUMPRODUCT(('بيانات اساسية'!$AG$6:$AG$306=\"خط\")*('بيانات اساسية'!$AF$6:$AF$306=\"معلم خبير\"))","v":0},{"$f":"SUMPRODUCT(('بيانات اساسية'!$AG$6:$AG$306=\"تربية رياضية\")*('بيانات اساسية'!$AF$6:$AF$306=\"معلم خبير\"))","v":0},{"$f":"SUMPRODUCT(('بيانات اساسية'!$AG$6:$AG$306=\"كمبيوتر\")*('بيانات اساسية'!$AF$6:$AF$306=\"معلم خبير\"))","v":0},{"$f":"SUM($D$11:$M$11)","v":0}]
[null,null,"معلم أول أ",{"$f":"SUMPRODUCT(('بيانات اساسية'!$AG$6:$AG$306=\"لغة عربية\")*('بيانات اساسية'!$AF$6:$AF$306=\"معلم اول - أ\"))","v":0},{"$f":"SUMPRODUCT(('بيانات اساسية'!$AG$6:$AG$306=\"قران كريم\")*('بيانات اساسية'!$AF$6:$AF$306=\"معلم اول - أ\"))","v":0},{"$f":"SUMPRODUCT(('بيانات اساسية'!$AG$6:$AG$306=\"رياضيات\")*('بيانات اساسية'!$AF$6:$AF$306=\"معلم اول - أ\"))","v":0},{"$f":"SUMPRODUCT(('بيانات اساسية'!$AG$6:$AG$306=\"لغة انجليزية\")*('بيانات اساسية'!$AF$6:$AF$306=\"معلم اول - أ\"))","v":0},{"$f":"SUMPRODUCT(('بيانات اساسية'!$AG$6:$AG$306=\"علوم\")*('بيانات اساسية'!$AF$6:$AF$306=\"معلم اول - أ\"))","v":0},{"$f":"SUMPRODUCT(('بيانات اساسية'!$AG$6:$AG$306=\"دراسات\")*('بيانات اساسية'!$AF$6:$AF$306=\"معلم اول - أ\"))","v":0},{"$f":"SUMPRODUCT(('بيانات اساسية'!$AG$6:$AG$306=\"تربية فنية\")*('بيانات اساسية'!$AF$6:$AF$306=\"معلم اول - أ\"))","v":0},{"$f":"SUMPRODUCT(('بيانات اساسية'!$AG$6:$AG$306=\"خط\")*('بيانات اساسية'!$AF$6:$AF$306=\"معلم اول - أ\"))","v":0},{"$f":"SUMPRODUCT(('بيانات اساسية'!$AG$6:$AG$306=\"تربية رياضية\")*('بيانات اساسية'!$AF$6:$AF$306=\"معلم اول - أ\"))","v":0},{"$f":"SUMPRODUCT(('بيانات اساسية'!$AG$6:$AG$306=\"كمبيوتر\")*('بيانات اساسية'!$AF$6:$AF$306=\"معلم اول - أ\"))","v":0},{"$f":"SUM($D$12:$M$12)","v":0}]
[null,null,"معلم أول ",{"$f":"SUMPRODUCT(('بيانات اساسية'!$AG$6:$AG$306=\"لغة عربية\")*('بيانات اساسية'!$AF$6:$AF$306=\"معلم اول\"))","v":3},{"$f":"(SUMPRODUCT(('بيانات اساسية'!$AG$6:$AG$306=\"قران كريم\")*('بيانات اساسية'!$AF$6:$AF$306=\"معلم اول\")))","v":6},{"$f":"SUMPRODUCT(('بيانات اساسية'!$AG$6:$AG$306=\"رياضيات\")*('بيانات اساسية'!$AF$6:$AF$306=\"معلم اول\"))","v":2},{"$f":"SUMPRODUCT(('بيانات اساسية'!$AG$6:$AG$306=\"لغة انجليزية\")*('بيانات اساسية'!$AF$6:$AF$306=\"معلم اول\"))","v":2},{"$f":"SUMPRODUCT(('بيانات اساسية'!$AG$6:$AG$306=\"علوم\")*('بيانات اساسية'!$AF$6:$AF$306=\"معلم اول\"))","v":0},{"$f":"SUMPRODUCT(('بيانات اساسية'!$AG$6:$AG$306=\"دراسات\")*('بيانات اساسية'!$AF$6:$AF$306=\"معلم اول\"))","v":0},{"$f":"SUMPRODUCT(('بيانات اساسية'!$AG$6:$AG$306=\"تربية فنية\")*('بيانات اساسية'!$AF$6:$AF$306=\"معلم اول\"))","v":0},{"$f":"SUMPRODUCT(('بيانات اساسية'!$AG$6:$AG$306=\"خط\")*('بيانات اساسية'!$AF$6:$AF$306=\"معلم اول\"))","v":0},{"$f":"SUMPRODUCT(('بيانات اساسية'!$AG$6:$AG$306=\"تربية رياضية\")*('بيانات اساسية'!$AF$6:$AF$306=\"معلم اول\"))","v":0},{"$f":"SUMPRODUCT(('بيانات اساسية'!$AG$6:$AG$306=\"كمبيوتر\")*('بيانات اساسية'!$AF$6:$AF$306=\"معلم اول\"))","v":0},{"$f":"SUM($D$13:$M$13)","v":13}]
[null,null,"معلم",{"$f":"SUMPRODUCT(('بيانات اساسية'!$AG$6:$AG$306=\"لغة عربية\")*('بيانات اساسية'!$AF$6:$AF$306=\"معلم\"))","v":0},{"$f":"SUMPRODUCT(('بيانات اساسية'!$AG$6:$AG$306=\"قران كريم\")*('بيانات اساسية'!$AF$6:$AF$306=\"معلم\"))","v":1},{"$f":"SUMPRODUCT(('بيانات اساسية'!$AG$6:$AG$306=\"رياضيات\")*('بيانات اساسية'!$AF$6:$AF$306=\"معلم\"))","v":0},{"$f":"SUMPRODUCT(('بيانات اساسية'!$AG$6:$AG$306=\"لغة انجليزية\")*('بيانات اساسية'!$AF$6:$AF$306=\"معلم\"))","v":0},{"$f":"SUMPRODUCT(('بيانات اساسية'!$AG$6:$AG$306=\"علوم\")*('بيانات اساسية'!$AF$6:$AF$306=\"معلم\"))","v":0},{"$f":"SUMPRODUCT(('بيانات اساسية'!$AG$6:$AG$306=\"دراسات\")*('بيانات اساسية'!$AF$6:$AF$306=\"معلم\"))","v":0},{"$f":"SUMPRODUCT(('بيانات اساسية'!$AG$6:$AG$306=\"تربية فنية\")*('بيانات اساسية'!$AF$6:$AF$306=\"معلم\"))","v":0},{"$f":"SUMPRODUCT(('بيانات اساسية'!$AG$6:$AG$306=\"خط\")*('بيانات اساسية'!$AF$6:$AF$306=\"معلم\"))","v":0},{"$f":"SUMPRODUCT(('بيانات اساسية'!$AG$6:$AG$306=\"تربية رياضية\")*('بيانات اساسية'!$AF$6:$AF$306=\"معلم\"))","v":0},{"$f":"SUMPRODUCT(('بيانات اساسية'!$AG$6:$AG$306=\"كمبيوتر\")*('بيانات اساسية'!$AF$6:$AF$306=\"معلم\"))","v":0},{"$f":"SUM($D$14:$M$14)","v":1}]
[null,null,"معلم مساعد",{"$f":"SUMPRODUCT(('بيانات اساسية'!$AG$6:$AG$306=\"لغة عربية\")*('بيانات اساسية'!$AF$6:$AF$306=\"معلم مساعد\"))","v":0},{"$f":"SUMPRODUCT(('بيانات اساسية'!$AG$6:$AG$306=\"قران كريم\")*('بيانات اساسية'!$AF$6:$AF$306=\"معلم مساعد\"))","v":0},{"$f":"SUMPRODUCT(('بيانات اساسية'!$AG$6:$AG$306=\"رياضيات\")*('بيانات اساسية'!$AF$6:$AF$306=\"معلم مساعد\"))","v":0},{"$f":"SUMPRODUCT(('بيانات اساسية'!$AG$6:$AG$306=\"لغة انجليزية\")*('بيانات اساسية'!$AF$6:$AF$306=\"معلم مساعد\"))","v":0},{"$f":"SUMPRODUCT(('بيانات اساسية'!$AG$6:$AG$306=\"علوم\")*('بيانات اساسية'!$AF$6:$AF$306=\"معلم مساعد\"))","v":0},{"$f":"SUMPRODUCT(('بيانات اساسية'!$AG$6:$AG$306=\"دراسات\")*('بيانات اساسية'!$AF$6:$AF$306=\"معلم مساعد\"))","v":0},{"$f":"SUMPRODUCT(('بيانات اساسية'!$AG$6:$AG$306=\"تربية فنية\")*('بيانات اساسية'!$AF$6:$AF$306=\"معلم مساعد\"))","v":0},{"$f":"SUMPRODUCT(('بيانات اساسية'!$AG$6:$AG$306=\"خط\")*('بيانات اساسية'!$AF$6:$AF$306=\"معلم مساعد\"))","v":0},{"$f":"SUMPRODUCT(('بيانات اساسية'!$AG$6:$AG$306=\"تربية رياضية\")*('بيانات اساسية'!$AF$6:$AF$306=\"معلم مساعد\"))","v":0},{"$f":"SUMPRODUCT(('بيانات اساسية'!$AG$6:$AG$306=\"كمبيوتر\")*('بيانات اساسية'!$AF$6:$AF$306=\"معلم مساعد\"))","v":0},{"$f":"SUM($D$15:$M$15)","v":0}]
[null,null,"محفظ قران",null,{"$f":"SUMPRODUCT(('بيانات اساسية'!$AG$6:$AG$306=\"قران كريم\")*('بيانات اساسية'!$AF$6:$AF$306=\"محفظ\"))","v":2},null,null,null,null,null,null,null,null,{"$f":"SUM($D$16:$M$16)","v":2}]
[null,null,"غير مدرج بالكادر",{"$f":"SUMPRODUCT(('بيانات اساسية'!$AG$6:$AG$306=\"لغة عربية\")*('بيانات اساسية'!$AF$6:$AF$306=\"غير مدرج بالكادر\"))","v":0},null,{"$f":"SUMPRODUCT(('بيانات اساسية'!$AG$6:$AG$306=\"رياضيات\")*('بيانات اساسية'!$AF$6:$AF$306=\"غير مدرج بالكادر\"))","v":0},{"$f":"SUMPRODUCT(('بيانات اساسية'!$AG$6:$AG$306=\"لغة انجليزية\")*('بيانات اساسية'!$AF$6:$AF$306=\"غير مدرج بالكادر\"))","v":0},{"$f":"SUMPRODUCT(('بيانات اساسية'!$AG$6:$AG$306=\"علوم\")*('بيانات اساسية'!$AF$6:$AF$306=\"غير مدرج بالكادر\"))","v":0},{"$f":"SUMPRODUCT(('بيانات اساسية'!$AG$6:$AG$306=\"دراسات\")*('بيانات اساسية'!$AF$6:$AF$306=\"غير مدرج بالكادر\"))","v":0},{"$f":"SUMPRODUCT(('بيانات اساسية'!$AG$6:$AG$306=\"تربية فنية\")*('بيانات اساسية'!$AF$6:$AF$306=\"غير مدرج بالكادر\"))","v":0},{"$f":"SUMPRODUCT(('بيانات اساسية'!$AG$6:$AG$306=\"خط\")*('بيانات اساسية'!$AF$6:$AF$306=\"غير مدرج بالكادر\"))","v":1},{"$f":"SUMPRODUCT(('بيانات اساسية'!$AG$6:$AG$306=\"تربية رياضية\")*('بيانات اساسية'!$AF$6:$AF$306=\"غير مدرج بالكادر\"))","v":0},{"$f":"SUMPRODUCT(('بيانات اساسية'!$AG$6:$AG$306=\"كمبيوتر\")*('بيانات اساسية'!$AF$6:$AF$306=\"غير مدرج بالكادر\"))","v":0},{"$f":"SUM(D17:$M$17)","v":1}]
[null,"الاجمالى",null,{"$f":"SUM($D$10:$D$17)","v":6},{"$f":"SUM(E10:E17)","v":9},{"$f":"SUM($F$10:$F$17)","v":2},{"$f":"SUM($G$10:$G$17)","v":2},{"$f":"SUM($H$10:$H$17)","v":0},{"$f":"SUM($I$10:$I$17)","v":0},{"$f":"SUM($J$10:$J$17)","v":0},{"$f":"SUM($K$10:$K$17)","v":1},{"$f":"SUM($L$10:$L$17)","v":0},{"$f":"SUM($M$10:$M$17)","v":0},{"$f":"SUM($N$10:$N$17)","v":20}]
[]
[null,null,null,"شئون عاملين",null,null,null,null,"شيخ المعهد"]
[null,null,null,{"$f":"'بيانات المعهد'!G13","v":"فاطمة عبدالمعطى"},null,null,null,{"$f":"'بيانات المعهد'!G12","v":"راشا عبدالمنطلب عبدالمتجلى"}]

{"sheet":"بيانات المعهد","index":4,"n_rows":14,"n_cols":8,"rows_kept":14,"cut":false,"hidden":false,"merged":[]}
[]
[]
[]
[]
[]
[]
[null,null,null,null,null,"الازهر الشريف"]
[null,null,null,null,null,"اسم المنطقة","الادارة المركزية لمنطقة القاهرة","الإزهرية"]
[null,null,null,null,null,"اسم الادارة ","إدارة شمال القاهرة","التعليمية"]
[null,null,null,null,null,"اسم المعهد","معهد شبراالخيمة الابتدائى"]
[null,null,null,null,null,"العام الدراسى","2020/ 2021"]
[null,null,null,null,null,"اسم شيخ المعهد","راشا عبدالمنطلب عبدالمتجلى"]
[null,null,null,null,null,"اسم مختص شئون العاملين","فاطمة عبدالمعطى"]
[null,null,null,null,null,"وكيل المعهد","هدى اسماعيل"]

{"sheet":"الدرجة المستحقة","index":5,"n_rows":314,"n_cols":9,"rows_kept":314,"cut":false,"hidden":false,"merged":[[0,0,1,8]]}
["المستحقون للترقية"]
[]
["م","سجل ","الاسم","اخر ترقية","رقم القرار","تاريخه","الترقية المستحقة ","تاريخ الاستحقاق","ملاحظات"]
[{"$f":"IF(B4=\"\",\"\",SUBTOTAL(3,B$4:B4))","v":1},{"$f":"IFERROR(INDEX('بيانات اساسية'!B$6:B$306,SMALL(IF('بيانات اساسية'!$AL$6:$AL$306=\"معلم\",ROW(B$7:B$306)-ROW(B$7)+1),ROWS($A3:B$3))),\"\")","v":273665},{"$f":"IFERROR(INDEX('بيانات اساسية'!C$6:C$306,SMALL(IF('بيانات اساسية'!$AL$6:$AL$306=\"معلم\",ROW(C$7:C$306)-ROW(C$7)+1),ROWS($A3:C$3))),\"\")","v":"محمد جمعه حسين إبراهيم"},{"$f":"IFERROR(INDEX('بيانات اساسية'!AF$6:AF$306,SMALL(IF('بيانات اساسية'!$AL$6:$AL$306=\"معلم\",ROW(D$7:D$306)-ROW(D$7)+1),ROWS($A3:D$3))),\"\")","v":"معلم"},{"$f":"IFERROR(INDEX('بيانات اساسية'!AH$6:AH$306,SMALL(IF('بيانات اساسية'!$AL$6:$AL$306=\"معلم\",ROW(E$7:E$306)-ROW(E$7)+1),ROWS($A3:E$3))),\"\")","v":1488},{"$f":"IFERROR(INDEX('بيانات اساسية'!AI$6:AI$306,SMALL(IF('بيانات اساسية'!$AL$6:$AL$306=\"معلم\",ROW(F$7:F$306)-ROW(F$7)+1),ROWS($A3:F$3))),\"\")","v":"2015-07-30"},{"$f":"IFERROR(INDEX('بيانات اساسية'!AJ$6:AJ$306,SMALL(IF('بيانات اساسية'!$AL$6:$AL$306=\"معلم\",ROW(G$7:G$306)-ROW(G$7)+1),ROWS($A3:G$3))),\"\")","v":"معلم اول"},{"$f":"IFERROR(INDEX('بيانات اساسية'!AK$6:AK$306,SMALL(IF('بيانات اساسية'!$AL$6:$AL$306=\"معلم\",ROW(H$7:H$306)-ROW(H$7)+1),ROWS($A3:H$3))),\"\")","v":"2020-07-30"}]
[{"$f":"IF(B5=\"\",\"\",SUBTOTAL(3,B$4:B5))","v":2},{"$f":"IFERROR(INDEX('بيانات اساسية'!B$6:B$306,SMALL(IF('بيانات اساسية'!$AL$6:$AL$306=\"معلم\",ROW(B$7:B$306)-ROW(B$7)+1),ROWS($A$3:B4))),\"\")","v":362845},{"$f":"IFERROR(INDEX('بيانات اساسية'!C$6:C$306,SMALL(IF('بيانات اساسية'!$AL$6:$AL$306=\"معلم\",ROW(C$7:C$306)-ROW(C$7)+1),ROWS($A$3:C4))),\"\")","v":"طارق عبدالحكيم عبدالسيد توفيق"},{"$f":"IFERROR(INDEX('بيانات اساسية'!AF$6:AF$306,SMALL(IF('بيانات اساسية'!$AL$6:$AL$306=\"معلم\",ROW(D$7:D$306)-ROW(D$7)+1),ROWS($A$3:D4))),\"\")","v":"معلم اول"},{"$f":"IFERROR(INDEX('بيانات اساسية'!AH$6:AH$306,SMALL(IF('بيانات اساسية'!$AL$6:$AL$306=\"معلم\",ROW(E$7:E$306)-ROW(E$7)+1),ROWS($A$3:E4))),\"\")","v":1499},{"$f":"IFERROR(INDEX('بيانات اساسية'!AI$6:AI$306,SMALL(IF('بيانات اساسية'!$AL$6:$AL$306=\"معلم\",ROW(F$7:F$306)-ROW(F$7)+1),ROWS($A$3:F4))),\"\")","v":"2018-10-22"},{"$f":"IFERROR(INDEX('بيانات اساسية'!AJ$6:AJ$306,SMALL(IF('بيانات اساسية'!$AL$6:$AL$306=\"معلم\",ROW(G$7:G$306)-ROW(G$7)+1),ROWS($A$3:G4))),\"\")","v":"معلم اول أ"},{"$f":"IFERROR(INDEX('بيانات اساسية'!AK$6:AK$306,SMALL(IF('بيانات اساسية'!$AL$6:$AL$306=\"معلم\",ROW(H$7:H$306)-ROW(H$7)+1),ROWS($A$3:H4))),\"\")","v":"2023-10-22"}]
[{"$f":"IF(B6=\"\",\"\",SUBTOTAL(3,B$4:B6))","v":3},{"$f":"IFERROR(INDEX('بيانات اساسية'!B$6:B$306,SMALL(IF('بيانات اساسية'!$AL$6:$AL$306=\"معلم\",ROW(B$7:B$306)-ROW(B$7)+1),ROWS($A$3:B5))),\"\")","v":362961},{"$f":"IFERROR(INDEX('بيانات اساسية'!C$6:C$306,SMALL(IF('بيانات اساسية'!$AL$6:$AL$306=\"معلم\",ROW(C$7:C$306)-ROW(C$7)+1),ROWS($A$3:C5))),\"\")","v":"محمد عبد الحميد محمد عبدالحميد"},{"$f":"IFERROR(INDEX('بيانات اساسية'!AF$6:AF$306,SMALL(IF('بيانات اساسية'!$AL$6:$AL$306=\"معلم\",ROW(D$7:D$306)-ROW(D$7)+1),ROWS($A$3:D5))),\"\")","v":"معلم اول"},{"$f":"IFERROR(INDEX('بيانات اساسية'!AH$6:AH$306,SMALL(IF('بيانات اساسية'!$AL$6:$AL$306=\"معلم\",ROW(E$7:E$306)-ROW(E$7)+1),ROWS($A$3:E5))),\"\")","v":1499},{"$f":"IFERROR(INDEX('بيانات اساسية'!AI$6:AI$306,SMALL(IF('بيانات اساسية'!$AL$6:$AL$306=\"معلم\",ROW(F$7:F$306)-ROW(F$7)+1),ROWS($A$3:F5))),\"\")","v":"2018-10-22"},{"$f":"IFERROR(INDEX('بيانات اساسية'!AJ$6:AJ$306,SMALL(IF('بيانات اساسية'!$AL$6:$AL$306=\"معلم\",ROW(G$7:G$306)-ROW(G$7)+1),ROWS($A$3:G5))),\"\")","v":"معلم اول أ"},{"$f":"IFERROR(INDEX('بيانات اساسية'!AK$6:AK$306,SMALL(IF('بيانات اساسية'!$AL$6:$AL$306=\"معلم\",ROW(H$7:H$306)-ROW(H$7)+1),ROWS($A$3:H5))),\"\")","v":"2023-10-22"}]
[{"$f":"IF(B7=\"\",\"\",SUBTOTAL(3,B$4:B7))","v":4},{"$f":"IFERROR(INDEX('بيانات اساسية'!B$6:B$306,SMALL(IF('بيانات اساسية'!$AL$6:$AL$306=\"معلم\",ROW(B$7:B$306)-ROW(B$7)+1),ROWS($A$3:B6))),\"\")","v":362953},{"$f":"IFERROR(INDEX('بيانات اساسية'!C$6:C$306,SMALL(IF('بيانات اساسية'!$AL$6:$AL$306=\"معلم\",ROW(C$7:C$306)-ROW(C$7)+1),ROWS($A$3:C6))),\"\")","v":"شيرين محمد عبدالسميع على "},{"$f":"IFERROR(INDEX('بيانات اساسية'!AF$6:AF$306,SMALL(IF('بيانات اساسية'!$AL$6:$AL$306=\"معلم\",ROW(D$7:D$306)-ROW(D$7)+1),ROWS($A$3:D6))),\"\")","v":"معلم اول"},{"$f":"IFERROR(INDEX('بيانات اساسية'!AH$6:AH$306,SMALL(IF('بيانات اساسية'!$AL$6:$AL$306=\"معلم\",ROW(E$7:E$306)-ROW(E$7)+1),ROWS($A$3:E6))),\"\")","v":1499},{"$f":"IFERROR(INDEX('بيانات اساسية'!AI$6:AI$306,SMALL(IF('بيانات اساسية'!$AL$6:$AL$306=\"معلم\",ROW(F$7:F$306)-ROW(F$7)+1),ROWS($A$3:F6))),\"\")","v":"2018-10-24"},{"$f":"IFERROR(INDEX('بيانات اساسية'!AJ$6:AJ$306,SMALL(IF('بيانات اساسية'!$AL$6:$AL$306=\"معلم\",ROW(G$7:G$306)-ROW(G$7)+1),ROWS($A$3:G6))),\"\")","v":"معلم اول أ"},{"$f":"IFERROR(INDEX('بيانات اساسية'!AK$6:AK$306,SMALL(IF('بيانات اساسية'!$AL$6:$AL$306=\"معلم\",ROW(H$7:H$306)-ROW(H$7)+1),ROWS($A$3:H6))),\"\")","v":"2023-10-24"}]
[{"$f":"IF(B8=\"\",\"\",SUBTOTAL(3,B$4:B8))","v":5},{"$f":"IFERROR(INDEX('بيانات اساسية'!B$6:B$306,SMALL(IF('بيانات اساسية'!$AL$6:$AL$306=\"معلم\",ROW(B$7:B$306)-ROW(B$7)+1),ROWS($A$3:B7))),\"\")","v":363040},{"$f":"IFERROR(INDEX('بيانات اساسية'!C$6:C$306,SMALL(IF('بيانات اساسية'!$AL$6:$AL$306=\"معلم\",ROW(C$7:C$306)-ROW(C$7)+1),ROWS($A$3:C7))),\"\")","v":"هناء محمود عبدالعزيز البرص"},{"$f":"IFERROR(INDEX('بيانات اساسية'!AF$6:AF$306,SMALL(IF('بيانات اساسية'!$AL$6:$AL$306=\"معلم\",ROW(D$7:D$306)-ROW(D$7)+1),ROWS($A$3:D7))),\"\")","v":"معلم اول"},{"$f":"IFERROR(INDEX('بيانات اساسية'!AH$6:AH$306,SMALL(IF('بيانات اساسية'!$AL$6:$AL$306=\"معلم\",ROW(E$7:E$306)-ROW(E$7)+1),ROWS($A$3:E7))),\"\")","v":1499},{"$f":"IFERROR(INDEX('بيانات اساسية'!AI$6:AI$306,SMALL(IF('بيانات اساسية'!$AL$6:$AL$306=\"معلم\",ROW(F$7:F$306)-ROW(F$7)+1),ROWS($A$3:F7))),\"\")","v":"00:00:00"},{"$f":"IFERROR(INDEX('بيانات اساسية'!AJ$6:AJ$306,SMALL(IF('بيانات اساسية'!$AL$6:$AL$306=\"معلم\",ROW(G$7:G$306)-ROW(G$7)+1),ROWS($A$3:G7))),\"\")","v":"معلم اول أ"},{"$f":"IFERROR(INDEX('بيانات اساسية'!AK$6:AK$306,SMALL(IF('بيانات اساسية'!$AL$6:$AL$306=\"معلم\",ROW(H$7:H$306)-ROW(H$7)+1),ROWS($A$3:H7))),\"\")","v":""}]
[{"$f":"IF(B9=\"\",\"\",SUBTOTAL(3,B$4:B9))","v":6},{"$f":"IFERROR(INDEX('بيانات اساسية'!B$6:B$306,SMALL(IF('بيانات اساسية'!$AL$6:$AL$306=\"معلم\",ROW(B$7:B$306)-ROW(B$7)+1),ROWS($A$3:B8))),\"\")","v":362805},{"$f":"IFERROR(INDEX('بيانات اساسية'!C$6:C$306,SMALL(IF('بيانات اساسية'!$AL$6:$AL$306=\"معلم\",ROW(C$7:C$306)-ROW(C$7)+1),ROWS($A$3:C8))),\"\")","v":"صباح حافظ على على "},{"$f":"IFERROR(INDEX('بيانات اساسية'!AF$6:AF$306,SMALL(IF('بيانات اساسية'!$AL$6:$AL$306=\"معلم\",ROW(D$7:D$306)-ROW(D$7)+1),ROWS($A$3:D8))),\"\")","v":"معلم اول"},{"$f":"IFERROR(INDEX('بيانات اساسية'!AH$6:AH$306,SMALL(IF('بيانات اساسية'!$AL$6:$AL$306=\"معلم\",ROW(E$7:E$306)-ROW(E$7)+1),ROWS($A$3:E8))),\"\")","v":1499},{"$f":"IFERROR(INDEX('بيانات اساسية'!AI$6:AI$306,SMALL(IF('بيانات اساسية'!$AL$6:$AL$306=\"معلم\",ROW(F$7:F$306)-ROW(F$7)+1),ROWS($A$3:F8))),\"\")","v":"2018-10-26"},{"$f":"IFERROR(INDEX('بيانات اساسية'!AJ$6:AJ$306,SMALL(IF('بيانات اساسية'!$AL$6:$AL$306=\"معلم\",ROW(G$7:G$306)-ROW(G$7)+1),ROWS($A$3:G8))),\"\")","v":"معلم اول أ"},{"$f":"IFERROR(INDEX('بيانات اساسية'!AK$6:AK$306,SMALL(IF('بيانات اساسية'!$AL$6:$AL$306=\"معلم\",ROW(H$7:H$306)-ROW(H$7)+1),ROWS($A$3:H8))),\"\")","v":"2023-10-26"}]
[{"$f":"IF(B10=\"\",\"\",SUBTOTAL(3,B$4:B10))","v":7},{"$f":"IFERROR(INDEX('بيانات اساسية'!B$6:B$306,SMALL(IF('بيانات اساسية'!$AL$6:$AL$306=\"معلم\",ROW(B$7:B$306)-ROW(B$7)+1),ROWS($A$3:B9))),\"\")","v":363014},{"$f":"IFERROR(INDEX('بيانات اساسية'!C$6:C$306,SMALL(IF('بيانات اساسية'!$AL$6:$AL$306=\"معلم\",ROW(C$7:C$306)-ROW(C$7)+1),ROWS($A$3:C9))),\"\")","v":"جيهان جوده السيد أحمد "},{"$f":"IFERROR(INDEX('بيانات اساسية'!AF$6:AF$306,SMALL(IF('بيانات اساسية'!$AL$6:$AL$306=\"معلم\",ROW(D$7:D$306)-ROW(D$7)+1),ROWS($A$3:D9))),\"\")","v":"معلم اول"},{"$f":"IFERROR(INDEX('بيانات اساسية'!AH$6:AH$306,SMALL(IF('بيانات اساسية'!$AL$6:$AL$306=\"معلم\",ROW(E$7:E$306)-ROW(E$7)+1),ROWS($A$3:E9))),\"\")","v":0},{"$f":"IFERROR(INDEX('بيانات اساسية'!AI$6:AI$306,SMALL(IF('بيانات اساسية'!$AL$6:$AL$306=\"معلم\",ROW(F$7:F$306)-ROW(F$7)+1),ROWS($A$3:F9))),\"\")","v":"00:00:00"},{"$f":"IFERROR(INDEX('بيانات اساسية'!AJ$6:AJ$306,SMALL(IF('بيانات اساسية'!$AL$6:$AL$306=\"معلم\",ROW(G$7:G$306)-ROW(G$7)+1),ROWS($A$3:G9))),\"\")","v":"معلم اول أ"},{"$f":"IFERROR(INDEX('بيانات اساسية'!AK$6:AK$306,SMALL(IF('بيانات اساسية'!$AL$6:$AL$306=\"معلم\",ROW(H$7:H$306)-ROW(H$7)+1),ROWS($A$3:H9))),\"\")","v":""}]
[{"$f":"IF(B11=\"\",\"\",SUBTOTAL(3,B$4:B11))","v":8},{"$f":"IFERROR(INDEX('بيانات اساسية'!B$6:B$306,SMALL(IF('بيانات اساسية'!$AL$6:$AL$306=\"معلم\",ROW(B$7:B$306)-ROW(B$7)+1),ROWS($A$3:B10))),\"\")","v":373850},{"$f":"IFERROR(INDEX('بيانات اساسية'!C$6:C$306,SMALL(IF('بيانات اساسية'!$AL$6:$AL$306=\"معلم\",ROW(C$7:C$306)-ROW(C$7)+1),ROWS($A$3:C10))),\"\")","v":"راشا عبدالمنطلب عبدالمتجلى السيد"},{"$f":"IFERROR(INDEX('بيانات اساسية'!AF$6:AF$306,SMALL(IF('بيانات اساسية'!$AL$6:$AL$306=\"معلم\",ROW(D$7:D$306)-ROW(D$7)+1),ROWS($A$3:D10))),\"\")","v":"معلم اول أ"},{"$f":"IFERROR(INDEX('بيانات اساسية'!AH$6:AH$306,SMALL(IF('بيانات اساسية'!$AL$6:$AL$306=\"معلم\",ROW(E$7:E$306)-ROW(E$7)+1),ROWS($A$3:E10))),\"\")","v":0},{"$f":"IFERROR(INDEX('بيانات اساسية'!AI$6:AI$306,SMALL(IF('بيانات اساسية'!$AL$6:$AL$306=\"معلم\",ROW(F$7:F$306)-ROW(F$7)+1),ROWS($A$3:F10))),\"\")","v":"00:00:00"},{"$f":"IFERROR(INDEX('بيانات اساسية'!AJ$6:AJ$306,SMALL(IF('بيانات اساسية'!$AL$6:$AL$306=\"معلم\",ROW(G$7:G$306)-ROW(G$7)+1),ROWS($A$3:G10))),\"\")","v":"معلم خبير"},{"$f":"IFERROR(INDEX('بيانات اساسية'!AK$6:AK$306,SMALL(IF('بيانات اساسية'!$AL$6:$AL$306=\"معلم\",ROW(H$7:H$306)-ROW(H$7)+1),ROWS($A$3:H10))),\"\")","v":""}]
[{"$f":"IF(B12=\"\",\"\",SUBTOTAL(3,B$4:B12))","v":9},{"$f":"IFERROR(INDEX('بيانات اساسية'!B$6:B$306,SMALL(IF('بيانات اساسية'!$AL$6:$AL$306=\"معلم\",ROW(B$7:B$306)-ROW(B$7)+1),ROWS($A$3:B11))),\"\")","v":95124},{"$f":"IFERROR(INDEX('بيانات اساسية'!C$6:C$306,SMALL(IF('بيانات اساسية'!$AL$6:$AL$306=\"معلم\",ROW(C$7:C$306)-ROW(C$7)+1),ROWS($A$3:C11))),\"\")","v":"عزة مصطفى كمال محمد حسنين"},{"$f":"IFERROR(INDEX('بيانات اساسية'!AF$6:AF$306,SMALL(IF('بيانات اساسية'!$AL$6:$AL$306=\"معلم\",ROW(D$7:D$306)-ROW(D$7)+1),ROWS($A$3:D11))),\"\")","v":"كبير معلمين"},{"$f":"IFERROR(INDEX('بيانات اساسية'!AH$6:AH$306,SMALL(IF('بيانات اساسية'!$AL$6:$AL$306=\"معلم\",ROW(E$7:E$306)-ROW(E$7)+1),ROWS($A$3:E11))),\"\")","v":0},{"$f":"IFERROR(INDEX('بيانات اساسية'!AI$6:AI$306,SMALL(IF('بيانات اساسية'!$AL$6:$AL$306=\"معلم\",ROW(F$7:F$306)-ROW(F$7)+1),ROWS($A$3:F11))),\"\")","v":"00:00:00"},{"$f":"IFERROR(INDEX('بيانات اساسية'!AJ$6:AJ$306,SMALL(IF('بيانات اساسية'!$AL$6:$AL$306=\"معلم\",ROW(G$7:G$306)-ROW(G$7)+1),ROWS($A$3:G11))),\"\")","v":"--"},{"$f":"IFERROR(INDEX('بيانات اساسية'!AK$6:AK$306,SMALL(IF('بيانات اساسية'!$AL$6:$AL$306=\"معلم\",ROW(H$7:H$306)-ROW(H$7)+1),ROWS($A$3:H11))),\"\")","v":""}]
[{"$f":"IF(B13=\"\",\"\",SUBTOTAL(3,B$4:B13))","v":10},{"$f":"IFERROR(INDEX('بيانات اساسية'!B$6:B$306,SMALL(IF('بيانات اساسية'!$AL$6:$AL$306=\"معلم\",ROW(B$7:B$306)-ROW(B$7)+1),ROWS($A$3:B12))),\"\")","v":140158},{"$f":"IFERROR(INDEX('بيانات اساسية'!C$6:C$306,SMALL(IF('بيانات اساسية'!$AL$6:$AL$306=\"معلم\",ROW(C$7:C$306)-ROW(C$7)+1),ROWS($A$3:C12))),\"\")","v":"هدى إسماعيل محمد محمود"},{"$f":"IFERROR(INDEX('بيانات اساسية'!AF$6:AF$306,SMALL(IF('بيانات اساسية'!$AL$6:$AL$306=\"معلم\",ROW(D$7:D$306)-ROW(D$7)+1),ROWS($A$3:D12))),\"\")","v":"كبير معلمين"},{"$f":"IFERROR(INDEX('بيانات اساسية'!AH$6:AH$306,SMALL(IF('بيانات اساسية'!$AL$6:$AL$306=\"معلم\",ROW(E$7:E$306)-ROW(E$7)+1),ROWS($A$3:E12))),\"\")","v":0},{"$f":"IFERROR(INDEX('بيانات اساسية'!AI$6:AI$306,SMALL(IF('بيانات اساسية'!$AL$6:$AL$306=\"معلم\",ROW(F$7:F$306)-ROW(F$7)+1),ROWS($A$3:F12))),\"\")","v":"00:00:00"},{"$f":"IFERROR(INDEX('بيانات اساسية'!AJ$6:AJ$306,SMALL(IF('بيانات اساسية'!$AL$6:$AL$306=\"معلم\",ROW(G$7:G$306)-ROW(G$7)+1),ROWS($A$3:G12))),\"\")","v":"--"},{"$f":"IFERROR(INDEX('بيانات اساسية'!AK$6:AK$306,SMALL(IF('بيانات اساسية'!$AL$6:$AL$306=\"معلم\",ROW(H$7:H$306)-ROW(H$7)+1),ROWS($A$3:H12))),\"\")","v":""}]
[{"$f":"IF(B14=\"\",\"\",SUBTOTAL(3,B$4:B14))","v":11},{"$f":"IFERROR(INDEX('بيانات اساسية'!B$6:B$306,SMALL(IF('بيانات اساسية'!$AL$6:$AL$306=\"معلم\",ROW(B$7:B$306)-ROW(B$7)+1),ROWS($A$3:B13))),\"\")","v":188425},{"$f":"IFERROR(INDEX('بيانات اساسية'!C$6:C$306,SMALL(IF('بيانات اساسية'!$AL$6:$AL$306=\"معلم\",ROW(C$7:C$306)-ROW(C$7)+1),ROWS($A$3:C13))),\"\")","v":"رضا حسين عبدالعزيزعبدالحميد"},{"$f":"IFERROR(INDEX('بيانات اساسية'!AF$6:AF$306,SMALL(IF('بيانات اساسية'!$AL$6:$AL$306=\"معلم\",ROW(D$7:D$306)-ROW(D$7)+1),ROWS($A$3:D13))),\"\")","v":"كبير معلمين"},{"$f":"IFERROR(INDEX('بيانات اساسية'!AH$6:AH$306,SMALL(IF('بيانات اساسية'!$AL$6:$AL$306=\"معلم\",ROW(E$7:E$306)-ROW(E$7)+1),ROWS($A$3:E13))),\"\")","v":0},{"$f":"IFERROR(INDEX('بيانات اساسية'!AI$6:AI$306,SMALL(IF('بيانات اساسية'!$AL$6:$AL$306=\"معلم\",ROW(F$7:F$306)-ROW(F$7)+1),ROWS($A$3:F13))),\"\")","v":"00:00:00"},{"$f":"IFERROR(INDEX('بيانات اساسية'!AJ$6:AJ$306,SMALL(IF('بيانات اساسية'!$AL$6:$AL$306=\"معلم\",ROW(G$7:G$306)-ROW(G$7)+1),ROWS($A$3:G13))),\"\")","v":"--"},{"$f":"IFERROR(INDEX('بيانات اساسية'!AK$6:AK$306,SMALL(IF('بيانات اساسية'!$AL$6:$AL$306=\"معلم\",ROW(H$7:H$306)-ROW(H$7)+1),ROWS($A$3:H13))),\"\")","v":""}]
[{"$f":"IF(B15=\"\",\"\",SUBTOTAL(3,B$4:B15))","v":12},{"$f":"IFERROR(INDEX('بيانات اساسية'!B$6:B$306,SMALL(IF('بيانات اساسية'!$AL$6:$AL$306=\"معلم\",ROW(B$7:B$306)-ROW(B$7)+1),ROWS($A$3:B14))),\"\")","v":362521},{"$f":"IFERROR(INDEX('بيانات اساسية'!C$6:C$306,SMALL(IF('بيانات اساسية'!$AL$6:$AL$306=\"معلم\",ROW(C$7:C$306)-ROW(C$7)+1),ROWS($A$3:C14))),\"\")","v":"هبه أحمد محمد محمد "},{"$f":"IFERROR(INDEX('بيانات اساسية'!AF$6:AF$306,SMALL(IF('بيانات اساسية'!$AL$6:$AL$306=\"معلم\",ROW(D$7:D$306)-ROW(D$7)+1),ROWS($A$3:D14))),\"\")","v":"معلم اول"},{"$f":"IFERROR(INDEX('بيانات اساسية'!AH$6:AH$306,SMALL(IF('بيانات اساسية'!$AL$6:$AL$306=\"معلم\",ROW(E$7:E$306)-ROW(E$7)+1),ROWS($A$3:E14))),\"\")","v":0},{"$f":"IFERROR(INDEX('بيانات اساسية'!AI$6:AI$306,SMALL(IF('بيانات اساسية'!$AL$6:$AL$306=\"معلم\",ROW(F$7:F$306)-ROW(F$7)+1),ROWS($A$3:F14))),\"\")","v":"00:00:00"},{"$f":"IFERROR(INDEX('بيانات اساسية'!AJ$6:AJ$306,SMALL(IF('بيانات اساسية'!$AL$6:$AL$306=\"معلم\",ROW(G$7:G$306)-ROW(G$7)+1),ROWS($A$3:G14))),\"\")","v":"معلم اول أ"},{"$f":"IFERROR(INDEX('بيانات اساسية'!AK$6:AK$306,SMALL(IF('بيانات اساسية'!$AL$6:$AL$306=\"معلم\",ROW(H$7:H$306)-ROW(H$7)+1),ROWS($A$3:H14))),\"\")","v":""}]
[{"$f":"IF(B16=\"\",\"\",SUBTOTAL(3,B$4:B16))","v":13},{"$f":"IFERROR(INDEX('بيانات اساسية'!B$6:B$306,SMALL(IF('بيانات اساسية'!$AL$6:$AL$306=\"معلم\",ROW(B$7:B$306)-ROW(B$7)+1),ROWS($A$3:B15))),\"\")","v":374760},{"$f":"IFERROR(INDEX('بيانات اساسية'!C$6:C$306,SMALL(IF('بيانات اساسية'!$AL$6:$AL$306=\"معلم\",ROW(C$7:C$306)-ROW(C$7)+1),ROWS($A$3:C15))),\"\")","v":"هناء حسن جابر حسن "},{"$f":"IFERROR(INDEX('بيانات اساسية'!AF$6:AF$306,SMALL(IF('بيانات اساسية'!$AL$6:$AL$306=\"معلم\",ROW(D$7:D$306)-ROW(D$7)+1),ROWS($A$3:D15))),\"\")","v":"معلم اول"},{"$f":"IFERROR(INDEX('بيانات اساسية'!AH$6:AH$306,SMALL(IF('بيانات اساسية'!$AL$6:$AL$306=\"معلم\",ROW(E$7:E$306)-ROW(E$7)+1),ROWS($A$3:E15))),\"\")","v":0},{"$f":"IFERROR(INDEX('بيانات اساسية'!AI$6:AI$306,SMALL(IF('بيانات اساسية'!$AL$6:$AL$306=\"معلم\",ROW(F$7:F$306)-ROW(F$7)+1),ROWS($A$3:F15))),\"\")","v":"00:00:00"},{"$f":"IFERROR(INDEX('بيانات اساسية'!AJ$6:AJ$306,SMALL(IF('بيانات اساسية'!$AL$6:$AL$306=\"معلم\",ROW(G$7:G$306)-ROW(G$7)+1),ROWS($A$3:G15))),\"\")","v":"معلم اول أ"},{"$f":"IFERROR(INDEX('بيانات اساسية'!AK$6:AK$306,SMALL(IF('بيانات اساسية'!$AL$6:$AL$306=\"معلم\",ROW(H$7:H$306)-ROW(H$7)+1),ROWS($A$3:H15))),\"\")","v":""}]
[{"$f":"IF(B17=\"\",\"\",SUBTOTAL(3,B$4:B17))","v":14},{"$f":"IFERROR(INDEX('بيانات اساسية'!B$6:B$306,SMALL(IF('بيانات اساسية'!$AL$6:$AL$306=\"معلم\",ROW(B$7:B$306)-ROW(B$7)+1),ROWS($A$3:B16))),\"\")","v":412212},{"$f":"IFERROR(INDEX('بيانات اساسية'!C$6:C$306,SMALL(IF('بيانات اساسية'!$AL$6:$AL$306=\"معلم\",ROW(C$7:C$306)-ROW(C$7)+1),ROWS($A$3:C16))),\"\")","v":"فاطمة إسماعيل محمد فراج"},{"$f":"IFERROR(INDEX('بيانات اساسية'!AF$6:AF$306,SMALL(IF('بيانات اساسية'!$AL$6:$AL$306=\"معلم\",ROW(D$7:D$306)-ROW(D$7)+1),ROWS($A$3:D16))),\"\")","v":"معلم اول"},{"$f":"IFERROR(INDEX('بيانات اساسية'!AH$6:AH$306,SMALL(IF('بيانات اساسية'!$AL$6:$AL$306=\"معلم\",ROW(E$7:E$306)-ROW(E$7)+1),ROWS($A$3:E16))),\"\")","v":0},{"$f":"IFERROR(INDEX('بيانات اساسية'!AI$6:AI$306,SMALL(IF('بيانات اساسية'!$AL$6:$AL$306=\"معلم\",ROW(F$7:F$306)-ROW(F$7)+1),ROWS($A$3:F16))),\"\")","v":"00:00:00"},{"$f":"IFERROR(INDEX('بيانات اساسية'!AJ$6:AJ$306,SMALL(IF('بيانات اساسية'!$AL$6:$AL$306=\"معلم\",ROW(G$7:G$306)-ROW(G$7)+1),ROWS($A$3:G16))),\"\")","v":"معلم اول أ"},{"$f":"IFERROR(INDEX('بيانات اساسية'!AK$6:AK$306,SMALL(IF('بيانات اساسية'!$AL$6:$AL$306=\"معلم\",ROW(H$7:H$306)-ROW(H$7)+1),ROWS($A$3:H16))),\"\")","v":""}]
[{"$f":"IF(B18=\"\",\"\",SUBTOTAL(3,B$4:B18))","v":15},{"$f":"IFERROR(INDEX('بيانات اساسية'!B$6:B$306,SMALL(IF('بيانات اساسية'!$AL$6:$AL$306=\"معلم\",ROW(B$7:B$306)-ROW(B$7)+1),ROWS($A$3:B17))),\"\")","v":273885},{"$f":"IFERROR(INDEX('بيانات اساسية'!C$6:C$306,SMALL(IF('بيانات اساسية'!$AL$6:$AL$306=\"معلم\",ROW(C$7:C$306)-ROW(C$7)+1),ROWS($A$3:C17))),\"\")","v":"إيمان محمد هاشم محمد"},{"$f":"IFERROR(INDEX('بيانات اساسية'!AF$6:AF$306,SMALL(IF('بيانات اساسية'!$AL$6:$AL$306=\"معلم\",ROW(D$7:D$306)-ROW(D$7)+1),ROWS($A$3:D17))),\"\")","v":"معلم اول"},{"$f":"IFERROR(INDEX('بيانات اساسية'!AH$6:AH$306,SMALL(IF('بيانات اساسية'!$AL$6:$AL$306=\"معلم\",ROW(E$7:E$306)-ROW(E$7)+1),ROWS($A$3:E17))),\"\")","v":0},{"$f":"IFERROR(INDEX('بيانات اساسية'!AI$6:AI$306,SMALL(IF('بيانات اساسية'!$AL$6:$AL$306=\"معلم\",ROW(F$7:F$306)-ROW(F$7)+1),ROWS($A$3:F17))),\"\")","v":"00:00:00"},{"$f":"IFERROR(INDEX('بيانات اساسية'!AJ$6:AJ$306,SMALL(IF('بيانات اساسية'!$AL$6:$AL$306=\"معلم\",ROW(G$7:G$306)-ROW(G$7)+1),ROWS($A$3:G17))),\"\")","v":"معلم اول أ"},{"$f":"IFERROR(INDEX('بيانات اساسية'!AK$6:AK$306,SMALL(IF('بيانات اساسية'!$AL$6:$AL$306=\"معلم\",ROW(H$7:H$306)-ROW(H$7)+1),ROWS($A$3:H17))),\"\")","v":""}]
[{"$f":"IF(B19=\"\",\"\",SUBTOTAL(3,B$4:B19))","v":16},{"$f":"IFERROR(INDEX('بيانات اساسية'!B$6:B$306,SMALL(IF('بيانات اساسية'!$AL$6:$AL$306=\"معلم\",ROW(B$7:B$306)-ROW(B$7)+1),ROWS($A$3:B18))),\"\")","v":362264},{"$f":"IFERROR(INDEX('بيانات اساسية'!C$6:C$306,SMALL(IF('بيانات اساسية'!$AL$6:$AL$306=\"معلم\",ROW(C$7:C$306)-ROW(C$7)+1),ROWS($A$3:C18))),\"\")","v":"نورا صبحى أبوالمعاطى "},{"$f":"IFERROR(INDEX('بيانات اساسية'!AF$6:AF$306,SMALL(IF('بيانات اساسية'!$AL$6:$AL$306=\"معلم\",ROW(D$7:D$306)-ROW(D$7)+1),ROWS($A$3:D18))),\"\")","v":"معلم اول"},{"$f":"IFERROR(INDEX('بيانات اساسية'!AH$6:AH$306,SMALL(IF('بيانات اساسية'!$AL$6:$AL$306=\"معلم\",ROW(E$7:E$306)-ROW(E$7)+1),ROWS($A$3:E18))),\"\")","v":0},{"$f":"IFERROR(INDEX('بيانات اساسية'!AI$6:AI$306,SMALL(IF('بيانات اساسية'!$AL$6:$AL$306=\"معلم\",ROW(F$7:F$306)-ROW(F$7)+1),ROWS($A$3:F18))),\"\")","v":"00:00:00"},{"$f":"IFERROR(INDEX('بيانات اساسية'!AJ$6:AJ$306,SMALL(IF('بيانات اساسية'!$AL$6:$AL$306=\"معلم\",ROW(G$7:G$306)-ROW(G$7)+1),ROWS($A$3:G18))),\"\")","v":"معلم اول أ"},{"$f":"IFERROR(INDEX('بيانات اساسية'!AK$6:AK$306,SMALL(IF('بيانات اساسية'!$AL$6:$AL$306=\"معلم\",ROW(H$7:H$306)-ROW(H$7)+1),ROWS($A$3:H18))),\"\")","v":""}]
[{"$f":"IF(B20=\"\",\"\",SUBTOTAL(3,B$4:B20))","v":17},{"$f":"IFERROR(INDEX('بيانات اساسية'!B$6:B$306,SMALL(IF('بيانات اساسية'!$AL$6:$AL$306=\"معلم\",ROW(B$7:B$306)-ROW(B$7)+1),ROWS($A$3:B19))),\"\")","v":305096},{"$f":"IFERROR(INDEX('بيانات اساسية'!C$6:C$306,SMALL(IF('بيانات اساسية'!$AL$6:$AL$306=\"معلم\",ROW(C$7:C$306)-ROW(C$7)+1),ROWS($A$3:C19))),\"\")","v":"مشيرة محمد عامر محمد"},{"$f":"IFERROR(INDEX('بيانات اساسية'!AF$6:AF$306,SMALL(IF('بيانات اساسية'!$AL$6:$AL$306=\"معلم\",ROW(D$7:D$306)-ROW(D$7)+1),ROWS($A$3:D19))),\"\")","v":"معلم اول"},{"$f":"IFERROR(INDEX('بيانات اساسية'!AH$6:AH$306,SMALL(IF('بيانات اساسية'!$AL$6:$AL$306=\"معلم\",ROW(E$7:E$306)-ROW(E$7)+1),ROWS($A$3:E19))),\"\")","v":0},{"$f":"IFERROR(INDEX('بيانات اساسية'!AI$6:AI$306,SMALL(IF('بيانات اساسية'!$AL$6:$AL$306=\"معلم\",ROW(F$7:F$306)-ROW(F$7)+1),ROWS($A$3:F19))),\"\")","v":"00:00:00"},{"$f":"IFERROR(INDEX('بيانات اساسية'!AJ$6:AJ$306,SMALL(IF('بيانات اساسية'!$AL$6:$AL$306=\"معلم\",ROW(G$7:G$306)-ROW(G$7)+1),ROWS($A$3:G19))),\"\")","v":"معلم اول أ"},{"$f":"IFERROR(INDEX('بيانات اساسية'!AK$6:AK$306,SMALL(IF('بيانات اساسية'!$AL$6:$AL$306=\"معلم\",ROW(H$7:H$306)-ROW(H$7)+1),ROWS($A$3:H19))),\"\")","v":""}]
[{"$f":"IF(B21=\"\",\"\",SUBTOTAL(3,B$4:B21))","v":18},{"$f":"IFERROR(INDEX('بيانات اساسية'!B$6:B$306,SMALL(IF('بيانات اساسية'!$AL$6:$AL$306=\"معلم\",ROW(B$7:B$306)-ROW(B$7)+1),ROWS($A$3:B20))),\"\")","v":362034},{"$f":"IFERROR(INDEX('بيانات اساسية'!C$6:C$306,SMALL(IF('بيانات اساسية'!$AL$6:$AL$306=\"معلم\",ROW(C$7:C$306)-ROW(C$7)+1),ROWS($A$3:C20))),\"\")","v":"أحمد محمود لطفى محمد منتصر"},{"$f":"IFERROR(INDEX('بيانات اساسية'!AF$6:AF$306,SMALL(IF('بيانات اساسية'!$AL$6:$AL$306=\"معلم\",ROW(D$7:D$306)-ROW(D$7)+1),ROWS($A$3:D20))),\"\")","v":"معلم اول"},{"$f":"IFERROR(INDEX('بيانات اساسية'!AH$6:AH$306,SMALL(IF('بيانات اساسية'!$AL$6:$AL$306=\"معلم\",ROW(E$7:E$306)-ROW(E$7)+1),ROWS($A$3:E20))),\"\")","v":0},{"$f":"IFERROR(INDEX('بيانات اساسية'!AI$6:AI$306,SMALL(IF('بيانات اساسية'!$AL$6:$AL$306=\"معلم\",ROW(F$7:F$306)-ROW(F$7)+1),ROWS($A$3:F20))),\"\")","v":"00:00:00"},{"$f":"IFERROR(INDEX('بيانات اساسية'!AJ$6:AJ$306,SMALL(IF('بيانات اساسية'!$AL$6:$AL$306=\"معلم\",ROW(G$7:G$306)-ROW(G$7)+1),ROWS($A$3:G20))),\"\")","v":"معلم اول أ"},{"$f":"IFERROR(INDEX('بيانات اساسية'!AK$6:AK$306,SMALL(IF('بيانات اساسية'!$AL$6:$AL$306=\"معلم\",ROW(H$7:H$306)-ROW(H$7)+1),ROWS($A$3:H20))),\"\")","v":""}]
[{"$f":"IF(B22=\"\",\"\",SUBTOTAL(3,B$4:B22))","v":19},{"$f":"IFERROR(INDEX('بيانات اساسية'!B$6:B$306,SMALL(IF('بيانات اساسية'!$AL$6:$AL$306=\"معلم\",ROW(B$7:B$306)-ROW(B$7)+1),ROWS($A$3:B21))),\"\")","v":273283},{"$f":"IFERROR(INDEX('بيانات اساسية'!C$6:C$306,SMALL(IF('بيانات اساسية'!$AL$6:$AL$306=\"معلم\",ROW(C$7:C$306)-ROW(C$7)+1),ROWS($A$3:C21))),\"\")","v":"هناء صلاح على الحديدى"},{"$f":"IFERROR(INDEX('بيانات اساسية'!AF$6:AF$306,SMALL(IF('بيانات اساسية'!$AL$6:$AL$306=\"معلم\",ROW(D$7:D$306)-ROW(D$7)+1),ROWS($A$3:D21))),\"\")","v":"معلم اول أ"},{"$f":"IFERROR(INDEX('بيانات اساسية'!AH$6:AH$306,SMALL(IF('بيانات اساسية'!$AL$6:$AL$306=\"معلم\",ROW(E$7:E$306)-ROW(E$7)+1),ROWS($A$3:E21))),\"\")","v":0},{"$f":"IFERROR(INDEX('بيانات اساسية'!AI$6:AI$306,SMALL(IF('بيانات اساسية'!$AL$6:$AL$306=\"معلم\",ROW(F$7:F$306)-ROW(F$7)+1),ROWS($A$3:F21))),\"\")","v":"00:00:00"},{"$f":"IFERROR(INDEX('بيانات اساسية'!AJ$6:AJ$306,SMALL(IF('بيانات اساسية'!$AL$6:$AL$306=\"معلم\",ROW(G$7:G$306)-ROW(G$7)+1),ROWS($A$3:G21))),\"\")","v":"معلم خبير"},{"$f":"IFERROR(INDEX('بيانات اساسية'!AK$6:AK$306,SMALL(IF('بيانات اساسية'!$AL$6:$AL$306=\"معلم\",ROW(H$7:H$306)-ROW(H$7)+1),ROWS($A$3:H21))),\"\")","v":""}]
[{"$f":"IF(B23=\"\",\"\",SUBTOTAL(3,B$4:B23))","v":20},{"$f":"IFERROR(INDEX('بيانات اساسية'!B$6:B$306,SMALL(IF('بيانات اساسية'!$AL$6:$AL$306=\"معلم\",ROW(B$7:B$306)-ROW(B$7)+1),ROWS($A$3:B22))),\"\")","v":378260},{"$f":"IFERROR(INDEX('بيانات اساسية'!C$6:C$306,SMALL(IF('بيانات اساسية'!$AL$6:$AL$306=\"معلم\",ROW(C$7:C$306)-ROW(C$7)+1),ROWS($A$3:C22))),\"\")","v":"حسن محمد سليمان عوض"},{"$f":"IFERROR(INDEX('بيانات اساسية'!AF$6:AF$306,SMALL(IF('بيانات اساسية'!$AL$6:$AL$306=\"معلم\",ROW(D$7:D$306)-ROW(D$7)+1),ROWS($A$3:D22))),\"\")","v":"معلم"},{"$f":"IFERROR(INDEX('بيانات اساسية'!AH$6:AH$306,SMALL(IF('بيانات اساسية'!$AL$6:$AL$306=\"معلم\",ROW(E$7:E$306)-ROW(E$7)+1),ROWS($A$3:E22))),\"\")","v":0},{"$f":"IFERROR(INDEX('بيانات اساسية'!AI$6:AI$306,SMALL(IF('بيانات اساسية'!$AL$6:$AL$306=\"معلم\",ROW(F$7:F$306)-ROW(F$7)+1),ROWS($A$3:F22))),\"\")","v":"00:00:00"},{"$f":"IFERROR(INDEX('بيانات اساسية'!AJ$6:AJ$306,SMALL(IF('بيانات اساسية'!$AL$6:$AL$306=\"معلم\",ROW(G$7:G$306)-ROW(G$7)+1),ROWS($A$3:G22))),\"\")","v":"معلم اول"},{"$f":"IFERROR(INDEX('بيانات اساسية'!AK$6:AK$306,SMALL(IF('بيانات اساسية'!$AL$6:$AL$306=\"معلم\",ROW(H$7:H$306)-ROW(H$7)+1),ROWS($A$3:H22))),\"\")","v":""}]
[{"$f":"IF(B24=\"\",\"\",SUBTOTAL(3,B$4:B24))","v":""},{"$f":"IFERROR(INDEX('بيانات اساسية'!B$6:B$306,SMALL(IF('بيانات اساسية'!$AL$6:$AL$306=\"معلم\",ROW(B$7:B$306)-ROW(B$7)+1),ROWS($A$3:B23))),\"\")","v":""},{"$f":"IFERROR(INDEX('بيانات اساسية'!C$6:C$306,SMALL(IF('بيانات اساسية'!$AL$6:$AL$306=\"معلم\",ROW(C$7:C$306)-ROW(C$7)+1),ROWS($A$3:C23))),\"\")","v":""},{"$f":"IFERROR(INDEX('بيانات اساسية'!AF$6:AF$306,SMALL(IF('بيانات اساسية'!$AL$6:$AL$306=\"معلم\",ROW(D$7:D$306)-ROW(D$7)+1),ROWS($A$3:D23))),\"\")","v":""},{"$f":"IFERROR(INDEX('بيانات اساسية'!AH$6:AH$306,SMALL(IF('بيانات اساسية'!$AL$6:$AL$306=\"معلم\",ROW(E$7:E$306)-ROW(E$7)+1),ROWS($A$3:E23))),\"\")","v":""},{"$f":"IFERROR(INDEX('بيانات اساسية'!AI$6:AI$306,SMALL(IF('بيانات اساسية'!$AL$6:$AL$306=\"معلم\",ROW(F$7:F$306)-ROW(F$7)+1),ROWS($A$3:F23))),\"\")","v":""},{"$f":"IFERROR(INDEX('بيانات اساسية'!AJ$6:AJ$306,SMALL(IF('بيانات اساسية'!$AL$6:$AL$306=\"معلم\",ROW(G$7:G$306)-ROW(G$7)+1),ROWS($A$3:G23))),\"\")","v":""},{"$f":"IFERROR(INDEX('بيانات اساسية'!AK$6:AK$306,SMALL(IF('بيانات اساسية'!$AL$6:$AL$306=\"معلم\",ROW(H$7:H$306)-ROW(H$7)+1),ROWS($A$3:H23))),\"\")","v":""}]
[{"$f":"IF(B25=\"\",\"\",SUBTOTAL(3,B$4:B25))","v":""},{"$f":"IFERROR(INDEX('بيانات اساسية'!B$6:B$306,SMALL(IF('بيانات اساسية'!$AL$6:$AL$306=\"معلم\",ROW(B$7:B$306)-ROW(B$7)+1),ROWS($A$3:B24))),\"\")","v":""},{"$f":"IFERROR(INDEX('بيانات اساسية'!C$6:C$306,SMALL(IF('بيانات اساسية'!$AL$6:$AL$306=\"معلم\",ROW(C$7:C$306)-ROW(C$7)+1),ROWS($A$3:C24))),\"\")","v":""},{"$f":"IFERROR(INDEX('بيانات اساسية'!AF$6:AF$306,SMALL(IF('بيانات اساسية'!$AL$6:$AL$306=\"معلم\",ROW(D$7:D$306)-ROW(D$7)+1),ROWS($A$3:D24))),\"\")","v":""},{"$f":"IFERROR(INDEX('بيانات اساسية'!AH$6:AH$306,SMALL(IF('بيانات اساسية'!$AL$6:$AL$306=\"معلم\",ROW(E$7:E$306)-ROW(E$7)+1),ROWS($A$3:E24))),\"\")","v":""},{"$f":"IFERROR(INDEX('بيانات اساسية'!AI$6:AI$306,SMALL(IF('بيانات اساسية'!$AL$6:$AL$306=\"معلم\",ROW(F$7:F$306)-ROW(F$7)+1),ROWS($A$3:F24))),\"\")","v":""},{"$f":"IFERROR(INDEX('بيانات اساسية'!AJ$6:AJ$306,SMALL(IF('بيانات اساسية'!$AL$6:$AL$306=\"معلم\",ROW(G$7:G$306)-ROW(G$7)+1),ROWS($A$3:G24))),\"\")","v":""},{"$f":"IFERROR(INDEX('بيانات اساسية'!AK$6:AK$306,SMALL(IF('بيانات اساسية'!$AL$6:$AL$306=\"معلم\",ROW(H$7:H$306)-ROW(H$7)+1),ROWS($A$3:H24))),\"\")","v":""}]
[{"$f":"IF(B26=\"\",\"\",SUBTOTAL(3,B$4:B26))","v":""},{"$f":"IFERROR(INDEX('بيانات اساسية'!B$6:B$306,SMALL(IF('بيانات اساسية'!$AL$6:$AL$306=\"معلم\",ROW(B$7:B$306)-ROW(B$7)+1),ROWS($A$3:B25))),\"\")","v":""},{"$f":"IFERROR(INDEX('بيانات اساسية'!C$6:C$306,SMALL(IF('بيانات اساسية'!$AL$6:$AL$306=\"معلم\",ROW(C$7:C$306)-ROW(C$7)+1),ROWS($A$3:C25))),\"\")","v":""},{"$f":"IFERROR(INDEX('بيانات اساسية'!AF$6:AF$306,SMALL(IF('بيانات اساسية'!$AL$6:$AL$306=\"معلم\",ROW(D$7:D$306)-ROW(D$7)+1),ROWS($A$3:D25))),\"\")","v":""},{"$f":"IFERROR(INDEX('بيانات اساسية'!AH$6:AH$306,SMALL(IF('بيانات اساسية'!$AL$6:$AL$306=\"معلم\",ROW(E$7:E$306)-ROW(E$7)+1),ROWS($A$3:E25))),\"\")","v":""},{"$f":"IFERROR(INDEX('بيانات اساسية'!AI$6:AI$306,SMALL(IF('بيانات اساسية'!$AL$6:$AL$306=\"معلم\",ROW(F$7:F$306)-ROW(F$7)+1),ROWS($A$3:F25))),\"\")","v":""},{"$f":"IFERROR(INDEX('بيانات اساسية'!AJ$6:AJ$306,SMALL(IF('بيانات اساسية'!$AL$6:$AL$306=\"معلم\",ROW(G$7:G$306)-ROW(G$7)+1),ROWS($A$3:G25))),\"\")","v":""},{"$f":"IFERROR(INDEX('بيانات اساسية'!AK$6:AK$306,SMALL(IF('بيانات اساسية'!$AL$6:$AL$306=\"معلم\",ROW(H$7:H$306)-ROW(H$7)+1),ROWS($A$3:H25))),\"\")","v":""}]
[{"$f":"IF(B27=\"\",\"\",SUBTOTAL(3,B$4:B27))","v":""},{"$f":"IFERROR(INDEX('بيانات اساسية'!B$6:B$306,SMALL(IF('بيانات اساسية'!$AL$6:$AL$306=\"معلم\",ROW(B$7:B$306)-ROW(B$7)+1),ROWS($A$3:B26))),\"\")","v":""},{"$f":"IFERROR(INDEX('بيانات اساسية'!C$6:C$306,SMALL(IF('بيانات اساسية'!$AL$6:$AL$306=\"معلم\",ROW(C$7:C$306)-ROW(C$7)+1),ROWS($A$3:C26))),\"\")","v":""},{"$f":"IFERROR(INDEX('بيانات اساسية'!AF$6:AF$306,SMALL(IF('بيانات اساسية'!$AL$6:$AL$306=\"معلم\",ROW(D$7:D$306)-ROW(D$7)+1),ROWS($A$3:D26))),\"\")","v":""},{"$f":"IFERROR(INDEX('بيانات اساسية'!AH$6:AH$306,SMALL(IF('بيانات اساسية'!$AL$6:$AL$306=\"معلم\",ROW(E$7:E$306)-ROW(E$7)+1),ROWS($A$3:E26))),\"\")","v":""},{"$f":"IFERROR(INDEX('بيانات اساسية'!AI$6:AI$306,SMALL(IF('بيانات اساسية'!$AL$6:$AL$306=\"معلم\",ROW(F$7:F$306)-ROW(F$7)+1),ROWS($A$3:F26))),\"\")","v":""},{"$f":"IFERROR(INDEX('بيانات اساسية'!AJ$6:AJ$306,SMALL(IF('بيانات اساسية'!$AL$6:$AL$306=\"معلم\",ROW(G$7:G$306)-ROW(G$7)+1),ROWS($A$3:G26))),\"\")","v":""},{"$f":"IFERROR(INDEX('بيانات اساسية'!AK$6:AK$306,SMALL(IF('بيانات اساسية'!$AL$6:$AL$306=\"معلم\",ROW(H$7:H$306)-ROW(H$7)+1),ROWS($A$3:H26))),\"\")","v":""}]
[{"$f":"IF(B28=\"\",\"\",SUBTOTAL(3,B$4:B28))","v":""},{"$f":"IFERROR(INDEX('بيانات اساسية'!B$6:B$306,SMALL(IF('بيانات اساسية'!$AL$6:$AL$306=\"معلم\",ROW(B$7:B$306)-ROW(B$7)+1),ROWS($A$3:B27))),\"\")","v":""},{"$f":"IFERROR(INDEX('بيانات اساسية'!C$6:C$306,SMALL(IF('بيانات اساسية'!$AL$6:$AL$306=\"معلم\",ROW(C$7:C$306)-ROW(C$7)+1),ROWS($A$3:C27))),\"\")","v":""},{"$f":"IFERROR(INDEX('بيانات اساسية'!AF$6:AF$306,SMALL(IF('بيانات اساسية'!$AL$6:$AL$306=\"معلم\",ROW(D$7:D$306)-ROW(D$7)+1),ROWS($A$3:D27))),\"\")","v":""},{"$f":"IFERROR(INDEX('بيانات اساسية'!AH$6:AH$306,SMALL(IF('بيانات اساسية'!$AL$6:$AL$306=\"معلم\",ROW(E$7:E$306)-ROW(E$7)+1),ROWS($A$3:E27))),\"\")","v":""},{"$f":"IFERROR(INDEX('بيانات اساسية'!AI$6:AI$306,SMALL(IF('بيانات اساسية'!$AL$6:$AL$306=\"معلم\",ROW(F$7:F$306)-ROW(F$7)+1),ROWS($A$3:F27))),\"\")","v":""},{"$f":"IFERROR(INDEX('بيانات اساسية'!AJ$6:AJ$306,SMALL(IF('بيانات اساسية'!$AL$6:$AL$306=\"معلم\",ROW(G$7:G$306)-ROW(G$7)+1),ROWS($A$3:G27))),\"\")","v":""},{"$f":"IFERROR(INDEX('بيانات اساسية'!AK$6:AK$306,SMALL(IF('بيانات اساسية'!$AL$6:$AL$306=\"معلم\",ROW(H$7:H$306)-ROW(H$7)+1),ROWS($A$3:H27))),\"\")","v":""}]
[{"$f":"IF(B29=\"\",\"\",SUBTOTAL(3,B$4:B29))","v":""},{"$f":"IFERROR(INDEX('بيانات اساسية'!B$6:B$306,SMALL(IF('بيانات اساسية'!$AL$6:$AL$306=\"معلم\",ROW(B$7:B$306)-ROW(B$7)+1),ROWS($A$3:B28))),\"\")","v":""},{"$f":"IFERROR(INDEX('بيانات اساسية'!C$6:C$306,SMALL(IF('بيانات اساسية'!$AL$6:$AL$306=\"معلم\",ROW(C$7:C$306)-ROW(C$7)+1),ROWS($A$3:C28))),\"\")","v":""},{"$f":"IFERROR(INDEX('بيانات اساسية'!AF$6:AF$306,SMALL(IF('بيانات اساسية'!$AL$6:$AL$306=\"معلم\",ROW(D$7:D$306)-ROW(D$7)+1),ROWS($A$3:D28))),\"\")","v":""},{"$f":"IFERROR(INDEX('بيانات اساسية'!AH$6:AH$306,SMALL(IF('بيانات اساسية'!$AL$6:$AL$306=\"معلم\",ROW(E$7:E$306)-ROW(E$7)+1),ROWS($A$3:E28))),\"\")","v":""},{"$f":"IFERROR(INDEX('بيانات اساسية'!AI$6:AI$306,SMALL(IF('بيانات اساسية'!$AL$6:$AL$306=\"معلم\",ROW(F$7:F$306)-ROW(F$7)+1),ROWS($A$3:F28))),\"\")","v":""},{"$f":"IFERROR(INDEX('بيانات اساسية'!AJ$6:AJ$306,SMALL(IF('بيانات اساسية'!$AL$6:$AL$306=\"معلم\",ROW(G$7:G$306)-ROW(G$7)+1),ROWS($A$3:G28))),\"\")","v":""},{"$f":"IFERROR(INDEX('بيانات اساسية'!AK$6:AK$306,SMALL(IF('بيانات اساسية'!$AL$6:$AL$306=\"معلم\",ROW(H$7:H$306)-ROW(H$7)+1),ROWS($A$3:H28))),\"\")","v":""}]
[{"$f":"IF(B30=\"\",\"\",SUBTOTAL(3,B$4:B30))","v":""},{"$f":"IFERROR(INDEX('بيانات اساسية'!B$6:B$306,SMALL(IF('بيانات اساسية'!$AL$6:$AL$306=\"معلم\",ROW(B$7:B$306)-ROW(B$7)+1),ROWS($A$3:B29))),\"\")","v":""},{"$f":"IFERROR(INDEX('بيانات اساسية'!C$6:C$306,SMALL(IF('بيانات اساسية'!$AL$6:$AL$306=\"معلم\",ROW(C$7:C$306)-ROW(C$7)+1),ROWS($A$3:C29))),\"\")","v":""},{"$f":"IFERROR(INDEX('بيانات اساسية'!AF$6:AF$306,SMALL(IF('بيانات اساسية'!$AL$6:$AL$306=\"معلم\",ROW(D$7:D$306)-ROW(D$7)+1),ROWS($A$3:D29))),\"\")","v":""},{"$f":"IFERROR(INDEX('بيانات اساسية'!AH$6:AH$306,SMALL(IF('بيانات اساسية'!$AL$6:$AL$306=\"معلم\",ROW(E$7:E$306)-ROW(E$7)+1),ROWS($A$3:E29))),\"\")","v":""},{"$f":"IFERROR(INDEX('بيانات اساسية'!AI$6:AI$306,SMALL(IF('بيانات اساسية'!$AL$6:$AL$306=\"معلم\",ROW(F$7:F$306)-ROW(F$7)+1),ROWS($A$3:F29))),\"\")","v":""},{"$f":"IFERROR(INDEX('بيانات اساسية'!AJ$6:AJ$306,SMALL(IF('بيانات اساسية'!$AL$6:$AL$306=\"معلم\",ROW(G$7:G$306)-ROW(G$7)+1),ROWS($A$3:G29))),\"\")","v":""},{"$f":"IFERROR(INDEX('بيانات اساسية'!AK$6:AK$306,SMALL(IF('بيانات اساسية'!$AL$6:$AL$306=\"معلم\",ROW(H$7:H$306)-ROW(H$7)+1),ROWS($A$3:H29))),\"\")","v":""}]
[{"$f":"IF(B31=\"\",\"\",SUBTOTAL(3,B$4:B31))","v":""},{"$f":"IFERROR(INDEX('بيانات اساسية'!B$6:B$306,SMALL(IF('بيانات اساسية'!$AL$6:$AL$306=\"معلم\",ROW(B$7:B$306)-ROW(B$7)+1),ROWS($A$3:B30))),\"\")","v":""},{"$f":"IFERROR(INDEX('بيانات اساسية'!C$6:C$306,SMALL(IF('بيانات اساسية'!$AL$6:$AL$306=\"معلم\",ROW(C$7:C$306)-ROW(C$7)+1),ROWS($A$3:C30))),\"\")","v":""},{"$f":"IFERROR(INDEX('بيانات اساسية'!AF$6:AF$306,SMALL(IF('بيانات اساسية'!$AL$6:$AL$306=\"معلم\",ROW(D$7:D$306)-ROW(D$7)+1),ROWS($A$3:D30))),\"\")","v":""},{"$f":"IFERROR(INDEX('بيانات اساسية'!AH$6:AH$306,SMALL(IF('بيانات اساسية'!$AL$6:$AL$306=\"معلم\",ROW(E$7:E$306)-ROW(E$7)+1),ROWS($A$3:E30))),\"\")","v":""},{"$f":"IFERROR(INDEX('بيانات اساسية'!AI$6:AI$306,SMALL(IF('بيانات اساسية'!$AL$6:$AL$306=\"معلم\",ROW(F$7:F$306)-ROW(F$7)+1),ROWS($A$3:F30))),\"\")","v":""},{"$f":"IFERROR(INDEX('بيانات اساسية'!AJ$6:AJ$306,SMALL(IF('بيانات اساسية'!$AL$6:$AL$306=\"معلم\",ROW(G$7:G$306)-ROW(G$7)+1),ROWS($A$3:G30))),\"\")","v":""},{"$f":"IFERROR(INDEX('بيانات اساسية'!AK$6:AK$306,SMALL(IF('بيانات اساسية'!$AL$6:$AL$306=\"معلم\",ROW(H$7:H$306)-ROW(H$7)+1),ROWS($A$3:H30))),\"\")","v":""}]
[{"$f":"IF(B32=\"\",\"\",SUBTOTAL(3,B$4:B32))","v":""},{"$f":"IFERROR(INDEX('بيانات اساسية'!B$6:B$306,SMALL(IF('بيانات اساسية'!$AL$6:$AL$306=\"معلم\",ROW(B$7:B$306)-ROW(B$7)+1),ROWS($A$3:B31))),\"\")","v":""},{"$f":"IFERROR(INDEX('بيانات اساسية'!C$6:C$306,SMALL(IF('بيانات اساسية'!$AL$6:$AL$306=\"معلم\",ROW(C$7:C$306)-ROW(C$7)+1),ROWS($A$3:C31))),\"\")","v":""},{"$f":"IFERROR(INDEX('بيانات اساسية'!AF$6:AF$306,SMALL(IF('بيانات اساسية'!$AL$6:$AL$306=\"معلم\",ROW(D$7:D$306)-ROW(D$7)+1),ROWS($A$3:D31))),\"\")","v":""},{"$f":"IFERROR(INDEX('بيانات اساسية'!AH$6:AH$306,SMALL(IF('بيانات اساسية'!$AL$6:$AL$306=\"معلم\",ROW(E$7:E$306)-ROW(E$7)+1),ROWS($A$3:E31))),\"\")","v":""},{"$f":"IFERROR(INDEX('بيانات اساسية'!AI$6:AI$306,SMALL(IF('بيانات اساسية'!$AL$6:$AL$306=\"معلم\",ROW(F$7:F$306)-ROW(F$7)+1),ROWS($A$3:F31))),\"\")","v":""},{"$f":"IFERROR(INDEX('بيانات اساسية'!AJ$6:AJ$306,SMALL(IF('بيانات اساسية'!$AL$6:$AL$306=\"معلم\",ROW(G$7:G$306)-ROW(G$7)+1),ROWS($A$3:G31))),\"\")","v":""},{"$f":"IFERROR(INDEX('بيانات اساسية'!AK$6:AK$306,SMALL(IF('بيانات اساسية'!$AL$6:$AL$306=\"معلم\",ROW(H$7:H$306)-ROW(H$7)+1),ROWS($A$3:H31))),\"\")","v":""}]
[{"$f":"IF(B33=\"\",\"\",SUBTOTAL(3,B$4:B33))","v":""},{"$f":"IFERROR(INDEX('بيانات اساسية'!B$6:B$306,SMALL(IF('بيانات اساسية'!$AL$6:$AL$306=\"معلم\",ROW(B$7:B$306)-ROW(B$7)+1),ROWS($A$3:B32))),\"\")","v":""},{"$f":"IFERROR(INDEX('بيانات اساسية'!C$6:C$306,SMALL(IF('بيانات اساسية'!$AL$6:$AL$306=\"معلم\",ROW(C$7:C$306)-ROW(C$7)+1),ROWS($A$3:C32))),\"\")","v":""},{"$f":"IFERROR(INDEX('بيانات اساسية'!AF$6:AF$306,SMALL(IF('بيانات اساسية'!$AL$6:$AL$306=\"معلم\",ROW(D$7:D$306)-ROW(D$7)+1),ROWS($A$3:D32))),\"\")","v":""},{"$f":"IFERROR(INDEX('بيانات اساسية'!AH$6:AH$306,SMALL(IF('بيانات اساسية'!$AL$6:$AL$306=\"معلم\",ROW(E$7:E$306)-ROW(E$7)+1),ROWS($A$3:E32))),\"\")","v":""},{"$f":"IFERROR(INDEX('بيانات اساسية'!AI$6:AI$306,SMALL(IF('بيانات اساسية'!$AL$6:$AL$306=\"معلم\",ROW(F$7:F$306)-ROW(F$7)+1),ROWS($A$3:F32))),\"\")","v":""},{"$f":"IFERROR(INDEX('بيانات اساسية'!AJ$6:AJ$306,SMALL(IF('بيانات اساسية'!$AL$6:$AL$306=\"معلم\",ROW(G$7:G$306)-ROW(G$7)+1),ROWS($A$3:G32))),\"\")","v":""},{"$f":"IFERROR(INDEX('بيانات اساسية'!AK$6:AK$306,SMALL(IF('بيانات اساسية'!$AL$6:$AL$306=\"معلم\",ROW(H$7:H$306)-ROW(H$7)+1),ROWS($A$3:H32))),\"\")","v":""}]
[{"$f":"IF(B34=\"\",\"\",SUBTOTAL(3,B$4:B34))","v":""},{"$f":"IFERROR(INDEX('بيانات اساسية'!B$6:B$306,SMALL(IF('بيانات اساسية'!$AL$6:$AL$306=\"معلم\",ROW(B$7:B$306)-ROW(B$7)+1),ROWS($A$3:B33))),\"\")","v":""},{"$f":"IFERROR(INDEX('بيانات اساسية'!C$6:C$306,SMALL(IF('بيانات اساسية'!$AL$6:$AL$306=\"معلم\",ROW(C$7:C$306)-ROW(C$7)+1),ROWS($A$3:C33))),\"\")","v":""},{"$f":"IFERROR(INDEX('بيانات اساسية'!AF$6:AF$306,SMALL(IF('بيانات اساسية'!$AL$6:$AL$306=\"معلم\",ROW(D$7:D$306)-ROW(D$7)+1),ROWS($A$3:D33))),\"\")","v":""},{"$f":"IFERROR(INDEX('بيانات اساسية'!AH$6:AH$306,SMALL(IF('بيانات اساسية'!$AL$6:$AL$306=\"معلم\",ROW(E$7:E$306)-ROW(E$7)+1),ROWS($A$3:E33))),\"\")","v":""},{"$f":"IFERROR(INDEX('بيانات اساسية'!AI$6:AI$306,SMALL(IF('بيانات اساسية'!$AL$6:$AL$306=\"معلم\",ROW(F$7:F$306)-ROW(F$7)+1),ROWS($A$3:F33))),\"\")","v":""},{"$f":"IFERROR(INDEX('بيانات اساسية'!AJ$6:AJ$306,SMALL(IF('بيانات اساسية'!$AL$6:$AL$306=\"معلم\",ROW(G$7:G$306)-ROW(G$7)+1),ROWS($A$3:G33))),\"\")","v":""},{"$f":"IFERROR(INDEX('بيانات اساسية'!AK$6:AK$306,SMALL(IF('بيانات اساسية'!$AL$6:$AL$306=\"معلم\",ROW(H$7:H$306)-ROW(H$7)+1),ROWS($A$3:H33))),\"\")","v":""}]
[{"$f":"IF(B35=\"\",\"\",SUBTOTAL(3,B$4:B35))","v":""},{"$f":"IFERROR(INDEX('بيانات اساسية'!B$6:B$306,SMALL(IF('بيانات اساسية'!$AL$6:$AL$306=\"معلم\",ROW(B$7:B$306)-ROW(B$7)+1),ROWS($A$3:B34))),\"\")","v":""},{"$f":"IFERROR(INDEX('بيانات اساسية'!C$6:C$306,SMALL(IF('بيانات اساسية'!$AL$6:$AL$306=\"معلم\",ROW(C$7:C$306)-ROW(C$7)+1),ROWS($A$3:C34))),\"\")","v":""},{"$f":"IFERROR(INDEX('بيانات اساسية'!AF$6:AF$306,SMALL(IF('بيانات اساسية'!$AL$6:$AL$306=\"معلم\",ROW(D$7:D$306)-ROW(D$7)+1),ROWS($A$3:D34))),\"\")","v":""},{"$f":"IFERROR(INDEX('بيانات اساسية'!AH$6:AH$306,SMALL(IF('بيانات اساسية'!$AL$6:$AL$306=\"معلم\",ROW(E$7:E$306)-ROW(E$7)+1),ROWS($A$3:E34))),\"\")","v":""},{"$f":"IFERROR(INDEX('بيانات اساسية'!AI$6:AI$306,SMALL(IF('بيانات اساسية'!$AL$6:$AL$306=\"معلم\",ROW(F$7:F$306)-ROW(F$7)+1),ROWS($A$3:F34))),\"\")","v":""},{"$f":"IFERROR(INDEX('بيانات اساسية'!AJ$6:AJ$306,SMALL(IF('بيانات اساسية'!$AL$6:$AL$306=\"معلم\",ROW(G$7:G$306)-ROW(G$7)+1),ROWS($A$3:G34))),\"\")","v":""},{"$f":"IFERROR(INDEX('بيانات اساسية'!AK$6:AK$306,SMALL(IF('بيانات اساسية'!$AL$6:$AL$306=\"معلم\",ROW(H$7:H$306)-ROW(H$7)+1),ROWS($A$3:H34))),\"\")","v":""}]
[{"$f":"IF(B36=\"\",\"\",SUBTOTAL(3,B$4:B36))","v":""},{"$f":"IFERROR(INDEX('بيانات اساسية'!B$6:B$306,SMALL(IF('بيانات اساسية'!$AL$6:$AL$306=\"معلم\",ROW(B$7:B$306)-ROW(B$7)+1),ROWS($A$3:B35))),\"\")","v":""},{"$f":"IFERROR(INDEX('بيانات اساسية'!C$6:C$306,SMALL(IF('بيانات اساسية'!$AL$6:$AL$306=\"معلم\",ROW(C$7:C$306)-ROW(C$7)+1),ROWS($A$3:C35))),\"\")","v":""},{"$f":"IFERROR(INDEX('بيانات اساسية'!AF$6:AF$306,SMALL(IF('بيانات اساسية'!$AL$6:$AL$306=\"معلم\",ROW(D$7:D$306)-ROW(D$7)+1),ROWS($A$3:D35))),\"\")","v":""},{"$f":"IFERROR(INDEX('بيانات اساسية'!AH$6:AH$306,SMALL(IF('بيانات اساسية'!$AL$6:$AL$306=\"معلم\",ROW(E$7:E$306)-ROW(E$7)+1),ROWS($A$3:E35))),\"\")","v":""},{"$f":"IFERROR(INDEX('بيانات اساسية'!AI$6:AI$306,SMALL(IF('بيانات اساسية'!$AL$6:$AL$306=\"معلم\",ROW(F$7:F$306)-ROW(F$7)+1),ROWS($A$3:F35))),\"\")","v":""},{"$f":"IFERROR(INDEX('بيانات اساسية'!AJ$6:AJ$306,SMALL(IF('بيانات اساسية'!$AL$6:$AL$306=\"معلم\",ROW(G$7:G$306)-ROW(G$7)+1),ROWS($A$3:G35))),\"\")","v":""},{"$f":"IFERROR(INDEX('بيانات اساسية'!AK$6:AK$306,SMALL(IF('بيانات اساسية'!$AL$6:$AL$306=\"معلم\",ROW(H$7:H$306)-ROW(H$7)+1),ROWS($A$3:H35))),\"\")","v":""}]
[{"$f":"IF(B37=\"\",\"\",SUBTOTAL(3,B$4:B37))","v":""},{"$f":"IFERROR(INDEX('بيانات اساسية'!B$6:B$306,SMALL(IF('بيانات اساسية'!$AL$6:$AL$306=\"معلم\",ROW(B$7:B$306)-ROW(B$7)+1),ROWS($A$3:B36))),\"\")","v":""},{"$f":"IFERROR(INDEX('بيانات اساسية'!C$6:C$306,SMALL(IF('بيانات اساسية'!$AL$6:$AL$306=\"معلم\",ROW(C$7:C$306)-ROW(C$7)+1),ROWS($A$3:C36))),\"\")","v":""},{"$f":"IFERROR(INDEX('بيانات اساسية'!AF$6:AF$306,SMALL(IF('بيانات اساسية'!$AL$6:$AL$306=\"معلم\",ROW(D$7:D$306)-ROW(D$7)+1),ROWS($A$3:D36))),\"\")","v":""},{"$f":"IFERROR(INDEX('بيانات اساسية'!AH$6:AH$306,SMALL(IF('بيانات اساسية'!$AL$6:$AL$306=\"معلم\",ROW(E$7:E$306)-ROW(E$7)+1),ROWS($A$3:E36))),\"\")","v":""},{"$f":"IFERROR(INDEX('بيانات اساسية'!AI$6:AI$306,SMALL(IF('بيانات اساسية'!$AL$6:$AL$306=\"معلم\",ROW(F$7:F$306)-ROW(F$7)+1),ROWS($A$3:F36))),\"\")","v":""},{"$f":"IFERROR(INDEX('بيانات اساسية'!AJ$6:AJ$306,SMALL(IF('بيانات اساسية'!$AL$6:$AL$306=\"معلم\",ROW(G$7:G$306)-ROW(G$7)+1),ROWS($A$3:G36))),\"\")","v":""},{"$f":"IFERROR(INDEX('بيانات اساسية'!AK$6:AK$306,SMALL(IF('بيانات اساسية'!$AL$6:$AL$306=\"معلم\",ROW(H$7:H$306)-ROW(H$7)+1),ROWS($A$3:H36))),\"\")","v":""}]
[{"$f":"IF(B38=\"\",\"\",SUBTOTAL(3,B$4:B38))","v":""},{"$f":"IFERROR(INDEX('بيانات اساسية'!B$6:B$306,SMALL(IF('بيانات اساسية'!$AL$6:$AL$306=\"معلم\",ROW(B$7:B$306)-ROW(B$7)+1),ROWS($A$3:B37))),\"\")","v":""},{"$f":"IFERROR(INDEX('بيانات اساسية'!C$6:C$306,SMALL(IF('بيانات اساسية'!$AL$6:$AL$306=\"معلم\",ROW(C$7:C$306)-ROW(C$7)+1),ROWS($A$3:C37))),\"\")","v":""},{"$f":"IFERROR(INDEX('بيانات اساسية'!AF$6:AF$306,SMALL(IF('بيانات اساسية'!$AL$6:$AL$306=\"معلم\",ROW(D$7:D$306)-ROW(D$7)+1),ROWS($A$3:D37))),\"\")","v":""},{"$f":"IFERROR(INDEX('بيانات اساسية'!AH$6:AH$306,SMALL(IF('بيانات اساسية'!$AL$6:$AL$306=\"معلم\",ROW(E$7:E$306)-ROW(E$7)+1),ROWS($A$3:E37))),\"\")","v":""},{"$f":"IFERROR(INDEX('بيانات اساسية'!AI$6:AI$306,SMALL(IF('بيانات اساسية'!$AL$6:$AL$306=\"معلم\",ROW(F$7:F$306)-ROW(F$7)+1),ROWS($A$3:F37))),\"\")","v":""},{"$f":"IFERROR(INDEX('بيانات اساسية'!AJ$6:AJ$306,SMALL(IF('بيانات اساسية'!$AL$6:$AL$306=\"معلم\",ROW(G$7:G$306)-ROW(G$7)+1),ROWS($A$3:G37))),\"\")","v":""},{"$f":"IFERROR(INDEX('بيانات اساسية'!AK$6:AK$306,SMALL(IF('بيانات اساسية'!$AL$6:$AL$306=\"معلم\",ROW(H$7:H$306)-ROW(H$7)+1),ROWS($A$3:H37))),\"\")","v":""}]
[{"$f":"IF(B39=\"\",\"\",SUBTOTAL(3,B$4:B39))","v":""},{"$f":"IFERROR(INDEX('بيانات اساسية'!B$6:B$306,SMALL(IF('بيانات اساسية'!$AL$6:$AL$306=\"معلم\",ROW(B$7:B$306)-ROW(B$7)+1),ROWS($A$3:B38))),\"\")","v":""},{"$f":"IFERROR(INDEX('بيانات اساسية'!C$6:C$306,SMALL(IF('بيانات اساسية'!$AL$6:$AL$306=\"معلم\",ROW(C$7:C$306)-ROW(C$7)+1),ROWS($A$3:C38))),\"\")","v":""},{"$f":"IFERROR(INDEX('بيانات اساسية'!AF$6:AF$306,SMALL(IF('بيانات اساسية'!$AL$6:$AL$306=\"معلم\",ROW(D$7:D$306)-ROW(D$7)+1),ROWS($A$3:D38))),\"\")","v":""},{"$f":"IFERROR(INDEX('بيانات اساسية'!AH$6:AH$306,SMALL(IF('بيانات اساسية'!$AL$6:$AL$306=\"معلم\",ROW(E$7:E$306)-ROW(E$7)+1),ROWS($A$3:E38))),\"\")","v":""},{"$f":"IFERROR(INDEX('بيانات اساسية'!AI$6:AI$306,SMALL(IF('بيانات اساسية'!$AL$6:$AL$306=\"معلم\",ROW(F$7:F$306)-ROW(F$7)+1),ROWS($A$3:F38))),\"\")","v":""},{"$f":"IFERROR(INDEX('بيانات اساسية'!AJ$6:AJ$306,SMALL(IF('بيانات اساسية'!$AL$6:$AL$306=\"معلم\",ROW(G$7:G$306)-ROW(G$7)+1),ROWS($A$3:G38))),\"\")","v":""},{"$f":"IFERROR(INDEX('بيانات اساسية'!AK$6:AK$306,SMALL(IF('بيانات اساسية'!$AL$6:$AL$306=\"معلم\",ROW(H$7:H$306)-ROW(H$7)+1),ROWS($A$3:H38))),\"\")","v":""}]
[{"$f":"IF(B40=\"\",\"\",SUBTOTAL(3,B$4:B40))","v":""},{"$f":"IFERROR(INDEX('بيانات اساسية'!B$6:B$306,SMALL(IF('بيانات اساسية'!$AL$6:$AL$306=\"معلم\",ROW(B$7:B$306)-ROW(B$7)+1),ROWS($A$3:B39))),\"\")","v":""},{"$f":"IFERROR(INDEX('بيانات اساسية'!C$6:C$306,SMALL(IF('بيانات اساسية'!$AL$6:$AL$306=\"معلم\",ROW(C$7:C$306)-ROW(C$7)+1),ROWS($A$3:C39))),\"\")","v":""},{"$f":"IFERROR(INDEX('بيانات اساسية'!AF$6:AF$306,SMALL(IF('بيانات اساسية'!$AL$6:$AL$306=\"معلم\",ROW(D$7:D$306)-ROW(D$7)+1),ROWS($A$3:D39))),\"\")","v":""},{"$f":"IFERROR(INDEX('بيانات اساسية'!AH$6:AH$306,SMALL(IF('بيانات اساسية'!$AL$6:$AL$306=\"معلم\",ROW(E$7:E$306)-ROW(E$7)+1),ROWS($A$3:E39))),\"\")","v":""},{"$f":"IFERROR(INDEX('بيانات اساسية'!AI$6:AI$306,SMALL(IF('بيانات اساسية'!$AL$6:$AL$306=\"معلم\",ROW(F$7:F$306)-ROW(F$7)+1),ROWS($A$3:F39))),\"\")","v":""},{"$f":"IFERROR(INDEX('بيانات اساسية'!AJ$6:AJ$306,SMALL(IF('بيانات اساسية'!$AL$6:$AL$306=\"معلم\",ROW(G$7:G$306)-ROW(G$7)+1),ROWS($A$3:G39))),\"\")","v":""},{"$f":"IFERROR(INDEX('بيانات اساسية'!AK$6:AK$306,SMALL(IF('بيانات اساسية'!$AL$6:$AL$306=\"معلم\",ROW(H$7:H$306)-ROW(H$7)+1),ROWS($A$3:H39))),\"\")","v":""}]
[{"$f":"IF(B41=\"\",\"\",SUBTOTAL(3,B$4:B41))","v":""},{"$f":"IFERROR(INDEX('بيانات اساسية'!B$6:B$306,SMALL(IF('بيانات اساسية'!$AL$6:$AL$306=\"معلم\",ROW(B$7:B$306)-ROW(B$7)+1),ROWS($A$3:B40))),\"\")","v":""},{"$f":"IFERROR(INDEX('بيانات اساسية'!C$6:C$306,SMALL(IF('بيانات اساسية'!$AL$6:$AL$306=\"معلم\",ROW(C$7:C$306)-ROW(C$7)+1),ROWS($A$3:C40))),\"\")","v":""},{"$f":"IFERROR(INDEX('بيانات اساسية'!AF$6:AF$306,SMALL(IF('بيانات اساسية'!$AL$6:$AL$306=\"معلم\",ROW(D$7:D$306)-ROW(D$7)+1),ROWS($A$3:D40))),\"\")","v":""},{"$f":"IFERROR(INDEX('بيانات اساسية'!AH$6:AH$306,SMALL(IF('بيانات اساسية'!$AL$6:$AL$306=\"معلم\",ROW(E$7:E$306)-ROW(E$7)+1),ROWS($A$3:E40))),\"\")","v":""},{"$f":"IFERROR(INDEX('بيانات اساسية'!AI$6:AI$306,SMALL(IF('بيانات اساسية'!$AL$6:$AL$306=\"معلم\",ROW(F$7:F$306)-ROW(F$7)+1),ROWS($A$3:F40))),\"\")","v":""},{"$f":"IFERROR(INDEX('بيانات اساسية'!AJ$6:AJ$306,SMALL(IF('بيانات اساسية'!$AL$6:$AL$306=\"معلم\",ROW(G$7:G$306)-ROW(G$7)+1),ROWS($A$3:G40))),\"\")","v":""},{"$f":"IFERROR(INDEX('بيانات اساسية'!AK$6:AK$306,SMALL(IF('بيانات اساسية'!$AL$6:$AL$306=\"معلم\",ROW(H$7:H$306)-ROW(H$7)+1),ROWS($A$3:H40))),\"\")","v":""}]
[{"$f":"IF(B42=\"\",\"\",SUBTOTAL(3,B$4:B42))","v":""},{"$f":"IFERROR(INDEX('بيانات اساسية'!B$6:B$306,SMALL(IF('بيانات اساسية'!$AL$6:$AL$306=\"معلم\",ROW(B$7:B$306)-ROW(B$7)+1),ROWS($A$3:B41))),\"\")","v":""},{"$f":"IFERROR(INDEX('بيانات اساسية'!C$6:C$306,SMALL(IF('بيانات اساسية'!$AL$6:$AL$306=\"معلم\",ROW(C$7:C$306)-ROW(C$7)+1),ROWS($A$3:C41))),\"\")","v":""},{"$f":"IFERROR(INDEX('بيانات اساسية'!AF$6:AF$306,SMALL(IF('بيانات اساسية'!$AL$6:$AL$306=\"معلم\",ROW(D$7:D$306)-ROW(D$7)+1),ROWS($A$3:D41))),\"\")","v":""},{"$f":"IFERROR(INDEX('بيانات اساسية'!AH$6:AH$306,SMALL(IF('بيانات اساسية'!$AL$6:$AL$306=\"معلم\",ROW(E$7:E$306)-ROW(E$7)+1),ROWS($A$3:E41))),\"\")","v":""},{"$f":"IFERROR(INDEX('بيانات اساسية'!AI$6:AI$306,SMALL(IF('بيانات اساسية'!$AL$6:$AL$306=\"معلم\",ROW(F$7:F$306)-ROW(F$7)+1),ROWS($A$3:F41))),\"\")","v":""},{"$f":"IFERROR(INDEX('بيانات اساسية'!AJ$6:AJ$306,SMALL(IF('بيانات اساسية'!$AL$6:$AL$306=\"معلم\",ROW(G$7:G$306)-ROW(G$7)+1),ROWS($A$3:G41))),\"\")","v":""},{"$f":"IFERROR(INDEX('بيانات اساسية'!AK$6:AK$306,SMALL(IF('بيانات اساسية'!$AL$6:$AL$306=\"معلم\",ROW(H$7:H$306)-ROW(H$7)+1),ROWS($A$3:H41))),\"\")","v":""}]
[{"$f":"IF(B43=\"\",\"\",SUBTOTAL(3,B$4:B43))","v":""},{"$f":"IFERROR(INDEX('بيانات اساسية'!B$6:B$306,SMALL(IF('بيانات اساسية'!$AL$6:$AL$306=\"معلم\",ROW(B$7:B$306)-ROW(B$7)+1),ROWS($A$3:B42))),\"\")","v":""},{"$f":"IFERROR(INDEX('بيانات اساسية'!C$6:C$306,SMALL(IF('بيانات اساسية'!$AL$6:$AL$306=\"معلم\",ROW(C$7:C$306)-ROW(C$7)+1),ROWS($A$3:C42))),\"\")","v":""},{"$f":"IFERROR(INDEX('بيانات اساسية'!AF$6:AF$306,SMALL(IF('بيانات اساسية'!$AL$6:$AL$306=\"معلم\",ROW(D$7:D$306)-ROW(D$7)+1),ROWS($A$3:D42))),\"\")","v":""},{"$f":"IFERROR(INDEX('بيانات اساسية'!AH$6:AH$306,SMALL(IF('بيانات اساسية'!$AL$6:$AL$306=\"معلم\",ROW(E$7:E$306)-ROW(E$7)+1),ROWS($A$3:E42))),\"\")","v":""},{"$f":"IFERROR(INDEX('بيانات اساسية'!AI$6:AI$306,SMALL(IF('بيانات اساسية'!$AL$6:$AL$306=\"معلم\",ROW(F$7:F$306)-ROW(F$7)+1),ROWS($A$3:F42))),\"\")","v":""},{"$f":"IFERROR(INDEX('بيانات اساسية'!AJ$6:AJ$306,SMALL(IF('بيانات اساسية'!$AL$6:$AL$306=\"معلم\",ROW(G$7:G$306)-ROW(G$7)+1),ROWS($A$3:G42))),\"\")","v":""},{"$f":"IFERROR(INDEX('بيانات اساسية'!AK$6:AK$306,SMALL(IF('بيانات اساسية'!$AL$6:$AL$306=\"معلم\",ROW(H$7:H$306)-ROW(H$7)+1),ROWS($A$3:H42))),\"\")","v":""}]
[{"$f":"IF(B44=\"\",\"\",SUBTOTAL(3,B$4:B44))","v":""},{"$f":"IFERROR(INDEX('بيانات اساسية'!B$6:B$306,SMALL(IF('بيانات اساسية'!$AL$6:$AL$306=\"معلم\",ROW(B$7:B$306)-ROW(B$7)+1),ROWS($A$3:B43))),\"\")","v":""},{"$f":"IFERROR(INDEX('بيانات اساسية'!C$6:C$306,SMALL(IF('بيانات اساسية'!$AL$6:$AL$306=\"معلم\",ROW(C$7:C$306)-ROW(C$7)+1),ROWS($A$3:C43))),\"\")","v":""},{"$f":"IFERROR(INDEX('بيانات اساسية'!AF$6:AF$306,SMALL(IF('بيانات اساسية'!$AL$6:$AL$306=\"معلم\",ROW(D$7:D$306)-ROW(D$7)+1),ROWS($A$3:D43))),\"\")","v":""},{"$f":"IFERROR(INDEX('بيانات اساسية'!AH$6:AH$306,SMALL(IF('بيانات اساسية'!$AL$6:$AL$306=\"معلم\",ROW(E$7:E$306)-ROW(E$7)+1),ROWS($A$3:E43))),\"\")","v":""},{"$f":"IFERROR(INDEX('بيانات اساسية'!AI$6:AI$306,SMALL(IF('بيانات اساسية'!$AL$6:$AL$306=\"معلم\",ROW(F$7:F$306)-ROW(F$7)+1),ROWS($A$3:F43))),\"\")","v":""},{"$f":"IFERROR(INDEX('بيانات اساسية'!AJ$6:AJ$306,SMALL(IF('بيانات اساسية'!$AL$6:$AL$306=\"معلم\",ROW(G$7:G$306)-ROW(G$7)+1),ROWS($A$3:G43))),\"\")","v":""},{"$f":"IFERROR(INDEX('بيانات اساسية'!AK$6:AK$306,SMALL(IF('بيانات اساسية'!$AL$6:$AL$306=\"معلم\",ROW(H$7:H$306)-ROW(H$7)+1),ROWS($A$3:H43))),\"\")","v":""}]
[{"$f":"IF(B45=\"\",\"\",SUBTOTAL(3,B$4:B45))","v":""},{"$f":"IFERROR(INDEX('بيانات اساسية'!B$6:B$306,SMALL(IF('بيانات اساسية'!$AL$6:$AL$306=\"معلم\",ROW(B$7:B$306)-ROW(B$7)+1),ROWS($A$3:B44))),\"\")","v":""},{"$f":"IFERROR(INDEX('بيانات اساسية'!C$6:C$306,SMALL(IF('بيانات اساسية'!$AL$6:$AL$306=\"معلم\",ROW(C$7:C$306)-ROW(C$7)+1),ROWS($A$3:C44))),\"\")","v":""},{"$f":"IFERROR(INDEX('بيانات اساسية'!AF$6:AF$306,SMALL(IF('بيانات اساسية'!$AL$6:$AL$306=\"معلم\",ROW(D$7:D$306)-ROW(D$7)+1),ROWS($A$3:D44))),\"\")","v":""},{"$f":"IFERROR(INDEX('بيانات اساسية'!AH$6:AH$306,SMALL(IF('بيانات اساسية'!$AL$6:$AL$306=\"معلم\",ROW(E$7:E$306)-ROW(E$7)+1),ROWS($A$3:E44))),\"\")","v":""},{"$f":"IFERROR(INDEX('بيانات اساسية'!AI$6:AI$306,SMALL(IF('بيانات اساسية'!$AL$6:$AL$306=\"معلم\",ROW(F$7:F$306)-ROW(F$7)+1),ROWS($A$3:F44))),\"\")","v":""},{"$f":"IFERROR(INDEX('بيانات اساسية'!AJ$6:AJ$306,SMALL(IF('بيانات اساسية'!$AL$6:$AL$306=\"معلم\",ROW(G$7:G$306)-ROW(G$7)+1),ROWS($A$3:G44))),\"\")","v":""},{"$f":"IFERROR(INDEX('بيانات اساسية'!AK$6:AK$306,SMALL(IF('بيانات اساسية'!$AL$6:$AL$306=\"معلم\",ROW(H$7:H$306)-ROW(H$7)+1),ROWS($A$3:H44))),\"\")","v":""}]
[{"$f":"IF(B46=\"\",\"\",SUBTOTAL(3,B$4:B46))","v":""},{"$f":"IFERROR(INDEX('بيانات اساسية'!B$6:B$306,SMALL(IF('بيانات اساسية'!$AL$6:$AL$306=\"معلم\",ROW(B$7:B$306)-ROW(B$7)+1),ROWS($A$3:B45))),\"\")","v":""},{"$f":"IFERROR(INDEX('بيانات اساسية'!C$6:C$306,SMALL(IF('بيانات اساسية'!$AL$6:$AL$306=\"معلم\",ROW(C$7:C$306)-ROW(C$7)+1),ROWS($A$3:C45))),\"\")","v":""},{"$f":"IFERROR(INDEX('بيانات اساسية'!AF$6:AF$306,SMALL(IF('بيانات اساسية'!$AL$6:$AL$306=\"معلم\",ROW(D$7:D$306)-ROW(D$7)+1),ROWS($A$3:D45))),\"\")","v":""},{"$f":"IFERROR(INDEX('بيانات اساسية'!AH$6:AH$306,SMALL(IF('بيانات اساسية'!$AL$6:$AL$306=\"معلم\",ROW(E$7:E$306)-ROW(E$7)+1),ROWS($A$3:E45))),\"\")","v":""},{"$f":"IFERROR(INDEX('بيانات اساسية'!AI$6:AI$306,SMALL(IF('بيانات اساسية'!$AL$6:$AL$306=\"معلم\",ROW(F$7:F$306)-ROW(F$7)+1),ROWS($A$3:F45))),\"\")","v":""},{"$f":"IFERROR(INDEX('بيانات اساسية'!AJ$6:AJ$306,SMALL(IF('بيانات اساسية'!$AL$6:$AL$306=\"معلم\",ROW(G$7:G$306)-ROW(G$7)+1),ROWS($A$3:G45))),\"\")","v":""},{"$f":"IFERROR(INDEX('بيانات اساسية'!AK$6:AK$306,SMALL(IF('بيانات اساسية'!$AL$6:$AL$306=\"معلم\",ROW(H$7:H$306)-ROW(H$7)+1),ROWS($A$3:H45))),\"\")","v":""}]
[{"$f":"IF(B47=\"\",\"\",SUBTOTAL(3,B$4:B47))","v":""},{"$f":"IFERROR(INDEX('بيانات اساسية'!B$6:B$306,SMALL(IF('بيانات اساسية'!$AL$6:$AL$306=\"معلم\",ROW(B$7:B$306)-ROW(B$7)+1),ROWS($A$3:B46))),\"\")","v":""},{"$f":"IFERROR(INDEX('بيانات اساسية'!C$6:C$306,SMALL(IF('بيانات اساسية'!$AL$6:$AL$306=\"معلم\",ROW(C$7:C$306)-ROW(C$7)+1),ROWS($A$3:C46))),\"\")","v":""},{"$f":"IFERROR(INDEX('بيانات اساسية'!AF$6:AF$306,SMALL(IF('بيانات اساسية'!$AL$6:$AL$306=\"معلم\",ROW(D$7:D$306)-ROW(D$7)+1),ROWS($A$3:D46))),\"\")","v":""},{"$f":"IFERROR(INDEX('بيانات اساسية'!AH$6:AH$306,SMALL(IF('بيانات اساسية'!$AL$6:$AL$306=\"معلم\",ROW(E$7:E$306)-ROW(E$7)+1),ROWS($A$3:E46))),\"\")","v":""},{"$f":"IFERROR(INDEX('بيانات اساسية'!AI$6:AI$306,SMALL(IF('بيانات اساسية'!$AL$6:$AL$306=\"معلم\",ROW(F$7:F$306)-ROW(F$7)+1),ROWS($A$3:F46))),\"\")","v":""},{"$f":"IFERROR(INDEX('بيانات اساسية'!AJ$6:AJ$306,SMALL(IF('بيانات اساسية'!$AL$6:$AL$306=\"معلم\",ROW(G$7:G$306)-ROW(G$7)+1),ROWS($A$3:G46))),\"\")","v":""},{"$f":"IFERROR(INDEX('بيانات اساسية'!AK$6:AK$306,SMALL(IF('بيانات اساسية'!$AL$6:$AL$306=\"معلم\",ROW(H$7:H$306)-ROW(H$7)+1),ROWS($A$3:H46))),\"\")","v":""}]
[{"$f":"IF(B48=\"\",\"\",SUBTOTAL(3,B$4:B48))","v":""},{"$f":"IFERROR(INDEX('بيانات اساسية'!B$6:B$306,SMALL(IF('بيانات اساسية'!$AL$6:$AL$306=\"معلم\",ROW(B$7:B$306)-ROW(B$7)+1),ROWS($A$3:B47))),\"\")","v":""},{"$f":"IFERROR(INDEX('بيانات اساسية'!C$6:C$306,SMALL(IF('بيانات اساسية'!$AL$6:$AL$306=\"معلم\",ROW(C$7:C$306)-ROW(C$7)+1),ROWS($A$3:C47))),\"\")","v":""},{"$f":"IFERROR(INDEX('بيانات اساسية'!AF$6:AF$306,SMALL(IF('بيانات اساسية'!$AL$6:$AL$306=\"معلم\",ROW(D$7:D$306)-ROW(D$7)+1),ROWS($A$3:D47))),\"\")","v":""},{"$f":"IFERROR(INDEX('بيانات اساسية'!AH$6:AH$306,SMALL(IF('بيانات اساسية'!$AL$6:$AL$306=\"معلم\",ROW(E$7:E$306)-ROW(E$7)+1),ROWS($A$3:E47))),\"\")","v":""},{"$f":"IFERROR(INDEX('بيانات اساسية'!AI$6:AI$306,SMALL(IF('بيانات اساسية'!$AL$6:$AL$306=\"معلم\",ROW(F$7:F$306)-ROW(F$7)+1),ROWS($A$3:F47))),\"\")","v":""},{"$f":"IFERROR(INDEX('بيانات اساسية'!AJ$6:AJ$306,SMALL(IF('بيانات اساسية'!$AL$6:$AL$306=\"معلم\",ROW(G$7:G$306)-ROW(G$7)+1),ROWS($A$3:G47))),\"\")","v":""},{"$f":"IFERROR(INDEX('بيانات اساسية'!AK$6:AK$306,SMALL(IF('بيانات اساسية'!$AL$6:$AL$306=\"معلم\",ROW(H$7:H$306)-ROW(H$7)+1),ROWS($A$3:H47))),\"\")","v":""}]
[{"$f":"IF(B49=\"\",\"\",SUBTOTAL(3,B$4:B49))","v":""},{"$f":"IFERROR(INDEX('بيانات اساسية'!B$6:B$306,SMALL(IF('بيانات اساسية'!$AL$6:$AL$306=\"معلم\",ROW(B$7:B$306)-ROW(B$7)+1),ROWS($A$3:B48))),\"\")","v":""},{"$f":"IFERROR(INDEX('بيانات اساسية'!C$6:C$306,SMALL(IF('بيانات اساسية'!$AL$6:$AL$306=\"معلم\",ROW(C$7:C$306)-ROW(C$7)+1),ROWS($A$3:C48))),\"\")","v":""},{"$f":"IFERROR(INDEX('بيانات اساسية'!AF$6:AF$306,SMALL(IF('بيانات اساسية'!$AL$6:$AL$306=\"معلم\",ROW(D$7:D$306)-ROW(D$7)+1),ROWS($A$3:D48))),\"\")","v":""},{"$f":"IFERROR(INDEX('بيانات اساسية'!AH$6:AH$306,SMALL(IF('بيانات اساسية'!$AL$6:$AL$306=\"معلم\",ROW(E$7:E$306)-ROW(E$7)+1),ROWS($A$3:E48))),\"\")","v":""},{"$f":"IFERROR(INDEX('بيانات اساسية'!AI$6:AI$306,SMALL(IF('بيانات اساسية'!$AL$6:$AL$306=\"معلم\",ROW(F$7:F$306)-ROW(F$7)+1),ROWS($A$3:F48))),\"\")","v":""},{"$f":"IFERROR(INDEX('بيانات اساسية'!AJ$6:AJ$306,SMALL(IF('بيانات اساسية'!$AL$6:$AL$306=\"معلم\",ROW(G$7:G$306)-ROW(G$7)+1),ROWS($A$3:G48))),\"\")","v":""},{"$f":"IFERROR(INDEX('بيانات اساسية'!AK$6:AK$306,SMALL(IF('بيانات اساسية'!$AL$6:$AL$306=\"معلم\",ROW(H$7:H$306)-ROW(H$7)+1),ROWS($A$3:H48))),\"\")","v":""}]
[{"$f":"IF(B50=\"\",\"\",SUBTOTAL(3,B$4:B50))","v":""},{"$f":"IFERROR(INDEX('بيانات اساسية'!B$6:B$306,SMALL(IF('بيانات اساسية'!$AL$6:$AL$306=\"معلم\",ROW(B$7:B$306)-ROW(B$7)+1),ROWS($A$3:B49))),\"\")","v":""},{"$f":"IFERROR(INDEX('بيانات اساسية'!C$6:C$306,SMALL(IF('بيانات اساسية'!$AL$6:$AL$306=\"معلم\",ROW(C$7:C$306)-ROW(C$7)+1),ROWS($A$3:C49))),\"\")","v":""},{"$f":"IFERROR(INDEX('بيانات اساسية'!AF$6:AF$306,SMALL(IF('بيانات اساسية'!$AL$6:$AL$306=\"معلم\",ROW(D$7:D$306)-ROW(D$7)+1),ROWS($A$3:D49))),\"\")","v":""},{"$f":"IFERROR(INDEX('بيانات اساسية'!AH$6:AH$306,SMALL(IF('بيانات اساسية'!$AL$6:$AL$306=\"معلم\",ROW(E$7:E$306)-ROW(E$7)+1),ROWS($A$3:E49))),\"\")","v":""},{"$f":"IFERROR(INDEX('بيانات اساسية'!AI$6:AI$306,SMALL(IF('بيانات اساسية'!$AL$6:$AL$306=\"معلم\",ROW(F$7:F$306)-ROW(F$7)+1),ROWS($A$3:F49))),\"\")","v":""},{"$f":"IFERROR(INDEX('بيانات اساسية'!AJ$6:AJ$306,SMALL(IF('بيانات اساسية'!$AL$6:$AL$306=\"معلم\",ROW(G$7:G$306)-ROW(G$7)+1),ROWS($A$3:G49))),\"\")","v":""},{"$f":"IFERROR(INDEX('بيانات اساسية'!AK$6:AK$306,SMALL(IF('بيانات اساسية'!$AL$6:$AL$306=\"معلم\",ROW(H$7:H$306)-ROW(H$7)+1),ROWS($A$3:H49))),\"\")","v":""}]
[{"$f":"IF(B51=\"\",\"\",SUBTOTAL(3,B$4:B51))","v":""},{"$f":"IFERROR(INDEX('بيانات اساسية'!B$6:B$306,SMALL(IF('بيانات اساسية'!$AL$6:$AL$306=\"معلم\",ROW(B$7:B$306)-ROW(B$7)+1),ROWS($A$3:B50))),\"\")","v":""},{"$f":"IFERROR(INDEX('بيانات اساسية'!C$6:C$306,SMALL(IF('بيانات اساسية'!$AL$6:$AL$306=\"معلم\",ROW(C$7:C$306)-ROW(C$7)+1),ROWS($A$3:C50))),\"\")","v":""},{"$f":"IFERROR(INDEX('بيانات اساسية'!AF$6:AF$306,SMALL(IF('بيانات اساسية'!$AL$6:$AL$306=\"معلم\",ROW(D$7:D$306)-ROW(D$7)+1),ROWS($A$3:D50))),\"\")","v":""},{"$f":"IFERROR(INDEX('بيانات اساسية'!AH$6:AH$306,SMALL(IF('بيانات اساسية'!$AL$6:$AL$306=\"معلم\",ROW(E$7:E$306)-ROW(E$7)+1),ROWS($A$3:E50))),\"\")","v":""},{"$f":"IFERROR(INDEX('بيانات اساسية'!AI$6:AI$306,SMALL(IF('بيانات اساسية'!$AL$6:$AL$306=\"معلم\",ROW(F$7:F$306)-ROW(F$7)+1),ROWS($A$3:F50))),\"\")","v":""},{"$f":"IFERROR(INDEX('بيانات اساسية'!AJ$6:AJ$306,SMALL(IF('بيانات اساسية'!$AL$6:$AL$306=\"معلم\",ROW(G$7:G$306)-ROW(G$7)+1),ROWS($A$3:G50))),\"\")","v":""},{"$f":"IFERROR(INDEX('بيانات اساسية'!AK$6:AK$306,SMALL(IF('بيانات اساسية'!$AL$6:$AL$306=\"معلم\",ROW(H$7:H$306)-ROW(H$7)+1),ROWS($A$3:H50))),\"\")","v":""}]
[{"$f":"IF(B52=\"\",\"\",SUBTOTAL(3,B$4:B52))","v":""},{"$f":"IFERROR(INDEX('بيانات اساسية'!B$6:B$306,SMALL(IF('بيانات اساسية'!$AL$6:$AL$306=\"معلم\",ROW(B$7:B$306)-ROW(B$7)+1),ROWS($A$3:B51))),\"\")","v":""},{"$f":"IFERROR(INDEX('بيانات اساسية'!C$6:C$306,SMALL(IF('بيانات اساسية'!$AL$6:$AL$306=\"معلم\",ROW(C$7:C$306)-ROW(C$7)+1),ROWS($A$3:C51))),\"\")","v":""},{"$f":"IFERROR(INDEX('بيانات اساسية'!AF$6:AF$306,SMALL(IF('بيانات اساسية'!$AL$6:$AL$306=\"معلم\",ROW(D$7:D$306)-ROW(D$7)+1),ROWS($A$3:D51))),\"\")","v":""},{"$f":"IFERROR(INDEX('بيانات اساسية'!AH$6:AH$306,SMALL(IF('بيانات اساسية'!$AL$6:$AL$306=\"معلم\",ROW(E$7:E$306)-ROW(E$7)+1),ROWS($A$3:E51))),\"\")","v":""},{"$f":"IFERROR(INDEX('بيانات اساسية'!AI$6:AI$306,SMALL(IF('بيانات اساسية'!$AL$6:$AL$306=\"معلم\",ROW(F$7:F$306)-ROW(F$7)+1),ROWS($A$3:F51))),\"\")","v":""},{"$f":"IFERROR(INDEX('بيانات اساسية'!AJ$6:AJ$306,SMALL(IF('بيانات اساسية'!$AL$6:$AL$306=\"معلم\",ROW(G$7:G$306)-ROW(G$7)+1),ROWS($A$3:G51))),\"\")","v":""},{"$f":"IFERROR(INDEX('بيانات اساسية'!AK$6:AK$306,SMALL(IF('بيانات اساسية'!$AL$6:$AL$306=\"معلم\",ROW(H$7:H$306)-ROW(H$7)+1),ROWS($A$3:H51))),\"\")","v":""}]
[{"$f":"IF(B53=\"\",\"\",SUBTOTAL(3,B$4:B53))","v":""},{"$f":"IFERROR(INDEX('بيانات اساسية'!B$6:B$306,SMALL(IF('بيانات اساسية'!$AL$6:$AL$306=\"معلم\",ROW(B$7:B$306)-ROW(B$7)+1),ROWS($A$3:B52))),\"\")","v":""},{"$f":"IFERROR(INDEX('بيانات اساسية'!C$6:C$306,SMALL(IF('بيانات اساسية'!$AL$6:$AL$306=\"معلم\",ROW(C$7:C$306)-ROW(C$7)+1),ROWS($A$3:C52))),\"\")","v":""},{"$f":"IFERROR(INDEX('بيانات اساسية'!AF$6:AF$306,SMALL(IF('بيانات اساسية'!$AL$6:$AL$306=\"معلم\",ROW(D$7:D$306)-ROW(D$7)+1),ROWS($A$3:D52))),\"\")","v":""},{"$f":"IFERROR(INDEX('بيانات اساسية'!AH$6:AH$306,SMALL(IF('بيانات اساسية'!$AL$6:$AL$306=\"معلم\",ROW(E$7:E$306)-ROW(E$7)+1),ROWS($A$3:E52))),\"\")","v":""},{"$f":"IFERROR(INDEX('بيانات اساسية'!AI$6:AI$306,SMALL(IF('بيانات اساسية'!$AL$6:$AL$306=\"معلم\",ROW(F$7:F$306)-ROW(F$7)+1),ROWS($A$3:F52))),\"\")","v":""},{"$f":"IFERROR(INDEX('بيانات اساسية'!AJ$6:AJ$306,SMALL(IF('بيانات اساسية'!$AL$6:$AL$306=\"معلم\",ROW(G$7:G$306)-ROW(G$7)+1),ROWS($A$3:G52))),\"\")","v":""},{"$f":"IFERROR(INDEX('بيانات اساسية'!AK$6:AK$306,SMALL(IF('بيانات اساسية'!$AL$6:$AL$306=\"معلم\",ROW(H$7:H$306)-ROW(H$7)+1),ROWS($A$3:H52))),\"\")","v":""}]
[{"$f":"IF(B54=\"\",\"\",SUBTOTAL(3,B$4:B54))","v":""},{"$f":"IFERROR(INDEX('بيانات اساسية'!B$6:B$306,SMALL(IF('بيانات اساسية'!$AL$6:$AL$306=\"معلم\",ROW(B$7:B$306)-ROW(B$7)+1),ROWS($A$3:B53))),\"\")","v":""},{"$f":"IFERROR(INDEX('بيانات اساسية'!C$6:C$306,SMALL(IF('بيانات اساسية'!$AL$6:$AL$306=\"معلم\",ROW(C$7:C$306)-ROW(C$7)+1),ROWS($A$3:C53))),\"\")","v":""},{"$f":"IFERROR(INDEX('بيانات اساسية'!AF$6:AF$306,SMALL(IF('بيانات اساسية'!$AL$6:$AL$306=\"معلم\",ROW(D$7:D$306)-ROW(D$7)+1),ROWS($A$3:D53))),\"\")","v":""},{"$f":"IFERROR(INDEX('بيانات اساسية'!AH$6:AH$306,SMALL(IF('بيانات اساسية'!$AL$6:$AL$306=\"معلم\",ROW(E$7:E$306)-ROW(E$7)+1),ROWS($A$3:E53))),\"\")","v":""},{"$f":"IFERROR(INDEX('بيانات اساسية'!AI$6:AI$306,SMALL(IF('بيانات اساسية'!$AL$6:$AL$306=\"معلم\",ROW(F$7:F$306)-ROW(F$7)+1),ROWS($A$3:F53))),\"\")","v":""},{"$f":"IFERROR(INDEX('بيانات اساسية'!AJ$6:AJ$306,SMALL(IF('بيانات اساسية'!$AL$6:$AL$306=\"معلم\",ROW(G$7:G$306)-ROW(G$7)+1),ROWS($A$3:G53))),\"\")","v":""},{"$f":"IFERROR(INDEX('بيانات اساسية'!AK$6:AK$306,SMALL(IF('بيانات اساسية'!$AL$6:$AL$306=\"معلم\",ROW(H$7:H$306)-ROW(H$7)+1),ROWS($A$3:H53))),\"\")","v":""}]
[{"$f":"IF(B55=\"\",\"\",SUBTOTAL(3,B$4:B55))","v":""},{"$f":"IFERROR(INDEX('بيانات اساسية'!B$6:B$306,SMALL(IF('بيانات اساسية'!$AL$6:$AL$306=\"معلم\",ROW(B$7:B$306)-ROW(B$7)+1),ROWS($A$3:B54))),\"\")","v":""},{"$f":"IFERROR(INDEX('بيانات اساسية'!C$6:C$306,SMALL(IF('بيانات اساسية'!$AL$6:$AL$306=\"معلم\",ROW(C$7:C$306)-ROW(C$7)+1),ROWS($A$3:C54))),\"\")","v":""},{"$f":"IFERROR(INDEX('بيانات اساسية'!AF$6:AF$306,SMALL(IF('بيانات اساسية'!$AL$6:$AL$306=\"معلم\",ROW(D$7:D$306)-ROW(D$7)+1),ROWS($A$3:D54))),\"\")","v":""},{"$f":"IFERROR(INDEX('بيانات اساسية'!AH$6:AH$306,SMALL(IF('بيانات اساسية'!$AL$6:$AL$306=\"معلم\",ROW(E$7:E$306)-ROW(E$7)+1),ROWS($A$3:E54))),\"\")","v":""},{"$f":"IFERROR(INDEX('بيانات اساسية'!AI$6:AI$306,SMALL(IF('بيانات اساسية'!$AL$6:$AL$306=\"معلم\",ROW(F$7:F$306)-ROW(F$7)+1),ROWS($A$3:F54))),\"\")","v":""},{"$f":"IFERROR(INDEX('بيانات اساسية'!AJ$6:AJ$306,SMALL(IF('بيانات اساسية'!$AL$6:$AL$306=\"معلم\",ROW(G$7:G$306)-ROW(G$7)+1),ROWS($A$3:G54))),\"\")","v":""},{"$f":"IFERROR(INDEX('بيانات اساسية'!AK$6:AK$306,SMALL(IF('بيانات اساسية'!$AL$6:$AL$306=\"معلم\",ROW(H$7:H$306)-ROW(H$7)+1),ROWS($A$3:H54))),\"\")","v":""}]
[{"$f":"IF(B56=\"\",\"\",SUBTOTAL(3,B$4:B56))","v":""},{"$f":"IFERROR(INDEX('بيانات اساسية'!B$6:B$306,SMALL(IF('بيانات اساسية'!$AL$6:$AL$306=\"معلم\",ROW(B$7:B$306)-ROW(B$7)+1),ROWS($A$3:B55))),\"\")","v":""},{"$f":"IFERROR(INDEX('بيانات اساسية'!C$6:C$306,SMALL(IF('بيانات اساسية'!$AL$6:$AL$306=\"معلم\",ROW(C$7:C$306)-ROW(C$7)+1),ROWS($A$3:C55))),\"\")","v":""},{"$f":"IFERROR(INDEX('بيانات اساسية'!AF$6:AF$306,SMALL(IF('بيانات اساسية'!$AL$6:$AL$306=\"معلم\",ROW(D$7:D$306)-ROW(D$7)+1),ROWS($A$3:D55))),\"\")","v":""},{"$f":"IFERROR(INDEX('بيانات اساسية'!AH$6:AH$306,SMALL(IF('بيانات اساسية'!$AL$6:$AL$306=\"معلم\",ROW(E$7:E$306)-ROW(E$7)+1),ROWS($A$3:E55))),\"\")","v":""},{"$f":"IFERROR(INDEX('بيانات اساسية'!AI$6:AI$306,SMALL(IF('بيانات اساسية'!$AL$6:$AL$306=\"معلم\",ROW(F$7:F$306)-ROW(F$7)+1),ROWS($A$3:F55))),\"\")","v":""},{"$f":"IFERROR(INDEX('بيانات اساسية'!AJ$6:AJ$306,SMALL(IF('بيانات اساسية'!$AL$6:$AL$306=\"معلم\",ROW(G$7:G$306)-ROW(G$7)+1),ROWS($A$3:G55))),\"\")","v":""},{"$f":"IFERROR(INDEX('بيانات اساسية'!AK$6:AK$306,SMALL(IF('بيانات اساسية'!$AL$6:$AL$306=\"معلم\",ROW(H$7:H$306)-ROW(H$7)+1),ROWS($A$3:H55))),\"\")","v":""}]
[{"$f":"IF(B57=\"\",\"\",SUBTOTAL(3,B$4:B57))","v":""},{"$f":"IFERROR(INDEX('بيانات اساسية'!B$6:B$306,SMALL(IF('بيانات اساسية'!$AL$6:$AL$306=\"معلم\",ROW(B$7:B$306)-ROW(B$7)+1),ROWS($A$3:B56))),\"\")","v":""},{"$f":"IFERROR(INDEX('بيانات اساسية'!C$6:C$306,SMALL(IF('بيانات اساسية'!$AL$6:$AL$306=\"معلم\",ROW(C$7:C$306)-ROW(C$7)+1),ROWS($A$3:C56))),\"\")","v":""},{"$f":"IFERROR(INDEX('بيانات اساسية'!AF$6:AF$306,SMALL(IF('بيانات اساسية'!$AL$6:$AL$306=\"معلم\",ROW(D$7:D$306)-ROW(D$7)+1),ROWS($A$3:D56))),\"\")","v":""},{"$f":"IFERROR(INDEX('بيانات اساسية'!AH$6:AH$306,SMALL(IF('بيانات اساسية'!$AL$6:$AL$306=\"معلم\",ROW(E$7:E$306)-ROW(E$7)+1),ROWS($A$3:E56))),\"\")","v":""},{"$f":"IFERROR(INDEX('بيانات اساسية'!AI$6:AI$306,SMALL(IF('بيانات اساسية'!$AL$6:$AL$306=\"معلم\",ROW(F$7:F$306)-ROW(F$7)+1),ROWS($A$3:F56))),\"\")","v":""},{"$f":"IFERROR(INDEX('بيانات اساسية'!AJ$6:AJ$306,SMALL(IF('بيانات اساسية'!$AL$6:$AL$306=\"معلم\",ROW(G$7:G$306)-ROW(G$7)+1),ROWS($A$3:G56))),\"\")","v":""},{"$f":"IFERROR(INDEX('بيانات اساسية'!AK$6:AK$306,SMALL(IF('بيانات اساسية'!$AL$6:$AL$306=\"معلم\",ROW(H$7:H$306)-ROW(H$7)+1),ROWS($A$3:H56))),\"\")","v":""}]
[{"$f":"IF(B58=\"\",\"\",SUBTOTAL(3,B$4:B58))","v":""},{"$f":"IFERROR(INDEX('بيانات اساسية'!B$6:B$306,SMALL(IF('بيانات اساسية'!$AL$6:$AL$306=\"معلم\",ROW(B$7:B$306)-ROW(B$7)+1),ROWS($A$3:B57))),\"\")","v":""},{"$f":"IFERROR(INDEX('بيانات اساسية'!C$6:C$306,SMALL(IF('بيانات اساسية'!$AL$6:$AL$306=\"معلم\",ROW(C$7:C$306)-ROW(C$7)+1),ROWS($A$3:C57))),\"\")","v":""},{"$f":"IFERROR(INDEX('بيانات اساسية'!AF$6:AF$306,SMALL(IF('بيانات اساسية'!$AL$6:$AL$306=\"معلم\",ROW(D$7:D$306)-ROW(D$7)+1),ROWS($A$3:D57))),\"\")","v":""},{"$f":"IFERROR(INDEX('بيانات اساسية'!AH$6:AH$306,SMALL(IF('بيانات اساسية'!$AL$6:$AL$306=\"معلم\",ROW(E$7:E$306)-ROW(E$7)+1),ROWS($A$3:E57))),\"\")","v":""},{"$f":"IFERROR(INDEX('بيانات اساسية'!AI$6:AI$306,SMALL(IF('بيانات اساسية'!$AL$6:$AL$306=\"معلم\",ROW(F$7:F$306)-ROW(F$7)+1),ROWS($A$3:F57))),\"\")","v":""},{"$f":"IFERROR(INDEX('بيانات اساسية'!AJ$6:AJ$306,SMALL(IF('بيانات اساسية'!$AL$6:$AL$306=\"معلم\",ROW(G$7:G$306)-ROW(G$7)+1),ROWS($A$3:G57))),\"\")","v":""},{"$f":"IFERROR(INDEX('بيانات اساسية'!AK$6:AK$306,SMALL(IF('بيانات اساسية'!$AL$6:$AL$306=\"معلم\",ROW(H$7:H$306)-ROW(H$7)+1),ROWS($A$3:H57))),\"\")","v":""}]
[{"$f":"IF(B59=\"\",\"\",SUBTOTAL(3,B$4:B59))","v":""},{"$f":"IFERROR(INDEX('بيانات اساسية'!B$6:B$306,SMALL(IF('بيانات اساسية'!$AL$6:$AL$306=\"معلم\",ROW(B$7:B$306)-ROW(B$7)+1),ROWS($A$3:B58))),\"\")","v":""},{"$f":"IFERROR(INDEX('بيانات اساسية'!C$6:C$306,SMALL(IF('بيانات اساسية'!$AL$6:$AL$306=\"معلم\",ROW(C$7:C$306)-ROW(C$7)+1),ROWS($A$3:C58))),\"\")","v":""},{"$f":"IFERROR(INDEX('بيانات اساسية'!AF$6:AF$306,SMALL(IF('بيانات اساسية'!$AL$6:$AL$306=\"معلم\",ROW(D$7:D$306)-ROW(D$7)+1),ROWS($A$3:D58))),\"\")","v":""},{"$f":"IFERROR(INDEX('بيانات اساسية'!AH$6:AH$306,SMALL(IF('بيانات اساسية'!$AL$6:$AL$306=\"معلم\",ROW(E$7:E$306)-ROW(E$7)+1),ROWS($A$3:E58))),\"\")","v":""},{"$f":"IFERROR(INDEX('بيانات اساسية'!AI$6:AI$306,SMALL(IF('بيانات اساسية'!$AL$6:$AL$306=\"معلم\",ROW(F$7:F$306)-ROW(F$7)+1),ROWS($A$3:F58))),\"\")","v":""},{"$f":"IFERROR(INDEX('بيانات اساسية'!AJ$6:AJ$306,SMALL(IF('بيانات اساسية'!$AL$6:$AL$306=\"معلم\",ROW(G$7:G$306)-ROW(G$7)+1),ROWS($A$3:G58))),\"\")","v":""},{"$f":"IFERROR(INDEX('بيانات اساسية'!AK$6:AK$306,SMALL(IF('بيانات اساسية'!$AL$6:$AL$306=\"معلم\",ROW(H$7:H$306)-ROW(H$7)+1),ROWS($A$3:H58))),\"\")","v":""}]
[{"$f":"IF(B60=\"\",\"\",SUBTOTAL(3,B$4:B60))","v":""},{"$f":"IFERROR(INDEX('بيانات اساسية'!B$6:B$306,SMALL(IF('بيانات اساسية'!$AL$6:$AL$306=\"معلم\",ROW(B$7:B$306)-ROW(B$7)+1),ROWS($A$3:B59))),\"\")","v":""},{"$f":"IFERROR(INDEX('بيانات اساسية'!C$6:C$306,SMALL(IF('بيانات اساسية'!$AL$6:$AL$306=\"معلم\",ROW(C$7:C$306)-ROW(C$7)+1),ROWS($A$3:C59))),\"\")","v":""},{"$f":"IFERROR(INDEX('بيانات اساسية'!AF$6:AF$306,SMALL(IF('بيانات اساسية'!$AL$6:$AL$306=\"معلم\",ROW(D$7:D$306)-ROW(D$7)+1),ROWS($A$3:D59))),\"\")","v":""},{"$f":"IFERROR(INDEX('بيانات اساسية'!AH$6:AH$306,SMALL(IF('بيانات اساسية'!$AL$6:$AL$306=\"معلم\",ROW(E$7:E$306)-ROW(E$7)+1),ROWS($A$3:E59))),\"\")","v":""},{"$f":"IFERROR(INDEX('بيانات اساسية'!AI$6:AI$306,SMALL(IF('بيانات اساسية'!$AL$6:$AL$306=\"معلم\",ROW(F$7:F$306)-ROW(F$7)+1),ROWS($A$3:F59))),\"\")","v":""},{"$f":"IFERROR(INDEX('بيانات اساسية'!AJ$6:AJ$306,SMALL(IF('بيانات اساسية'!$AL$6:$AL$306=\"معلم\",ROW(G$7:G$306)-ROW(G$7)+1),ROWS($A$3:G59))),\"\")","v":""},{"$f":"IFERROR(INDEX('بيانات اساسية'!AK$6:AK$306,SMALL(IF('بيانات اساسية'!$AL$6:$AL$306=\"معلم\",ROW(H$7:H$306)-ROW(H$7)+1),ROWS($A$3:H59))),\"\")","v":""}]
[{"$f":"IF(B61=\"\",\"\",SUBTOTAL(3,B$4:B61))","v":""},{"$f":"IFERROR(INDEX('بيانات اساسية'!B$6:B$306,SMALL(IF('بيانات اساسية'!$AL$6:$AL$306=\"معلم\",ROW(B$7:B$306)-ROW(B$7)+1),ROWS($A$3:B60))),\"\")","v":""},{"$f":"IFERROR(INDEX('بيانات اساسية'!C$6:C$306,SMALL(IF('بيانات اساسية'!$AL$6:$AL$306=\"معلم\",ROW(C$7:C$306)-ROW(C$7)+1),ROWS($A$3:C60))),\"\")","v":""},{"$f":"IFERROR(INDEX('بيانات اساسية'!AF$6:AF$306,SMALL(IF('بيانات اساسية'!$AL$6:$AL$306=\"معلم\",ROW(D$7:D$306)-ROW(D$7)+1),ROWS($A$3:D60))),\"\")","v":""},{"$f":"IFERROR(INDEX('بيانات اساسية'!AH$6:AH$306,SMALL(IF('بيانات اساسية'!$AL$6:$AL$306=\"معلم\",ROW(E$7:E$306)-ROW(E$7)+1),ROWS($A$3:E60))),\"\")","v":""},{"$f":"IFERROR(INDEX('بيانات اساسية'!AI$6:AI$306,SMALL(IF('بيانات اساسية'!$AL$6:$AL$306=\"معلم\",ROW(F$7:F$306)-ROW(F$7)+1),ROWS($A$3:F60))),\"\")","v":""},{"$f":"IFERROR(INDEX('بيانات اساسية'!AJ$6:AJ$306,SMALL(IF('بيانات اساسية'!$AL$6:$AL$306=\"معلم\",ROW(G$7:G$306)-ROW(G$7)+1),ROWS($A$3:G60))),\"\")","v":""},{"$f":"IFERROR(INDEX('بيانات اساسية'!AK$6:AK$306,SMALL(IF('بيانات اساسية'!$AL$6:$AL$306=\"معلم\",ROW(H$7:H$306)-ROW(H$7)+1),ROWS($A$3:H60))),\"\")","v":""}]
[{"$f":"IF(B62=\"\",\"\",SUBTOTAL(3,B$4:B62))","v":""},{"$f":"IFERROR(INDEX('بيانات اساسية'!B$6:B$306,SMALL(IF('بيانات اساسية'!$AL$6:$AL$306=\"معلم\",ROW(B$7:B$306)-ROW(B$7)+1),ROWS($A$3:B61))),\"\")","v":""},{"$f":"IFERROR(INDEX('بيانات اساسية'!C$6:C$306,SMALL(IF('بيانات اساسية'!$AL$6:$AL$306=\"معلم\",ROW(C$7:C$306)-ROW(C$7)+1),ROWS($A$3:C61))),\"\")","v":""},{"$f":"IFERROR(INDEX('بيانات اساسية'!AF$6:AF$306,SMALL(IF('بيانات اساسية'!$AL$6:$AL$306=\"معلم\",ROW(D$7:D$306)-ROW(D$7)+1),ROWS($A$3:D61))),\"\")","v":""},{"$f":"IFERROR(INDEX('بيانات اساسية'!AH$6:AH$306,SMALL(IF('بيانات اساسية'!$AL$6:$AL$306=\"معلم\",ROW(E$7:E$306)-ROW(E$7)+1),ROWS($A$3:E61))),\"\")","v":""},{"$f":"IFERROR(INDEX('بيانات اساسية'!AI$6:AI$306,SMALL(IF('بيانات اساسية'!$AL$6:$AL$306=\"معلم\",ROW(F$7:F$306)-ROW(F$7)+1),ROWS($A$3:F61))),\"\")","v":""},{"$f":"IFERROR(INDEX('بيانات اساسية'!AJ$6:AJ$306,SMALL(IF('بيانات اساسية'!$AL$6:$AL$306=\"معلم\",ROW(G$7:G$306)-ROW(G$7)+1),ROWS($A$3:G61))),\"\")","v":""},{"$f":"IFERROR(INDEX('بيانات اساسية'!AK$6:AK$306,SMALL(IF('بيانات اساسية'!$AL$6:$AL$306=\"معلم\",ROW(H$7:H$306)-ROW(H$7)+1),ROWS($A$3:H61))),\"\")","v":""}]
[{"$f":"IF(B63=\"\",\"\",SUBTOTAL(3,B$4:B63))","v":""},{"$f":"IFERROR(INDEX('بيانات اساسية'!B$6:B$306,SMALL(IF('بيانات اساسية'!$AL$6:$AL$306=\"معلم\",ROW(B$7:B$306)-ROW(B$7)+1),ROWS($A$3:B62))),\"\")","v":""},{"$f":"IFERROR(INDEX('بيانات اساسية'!C$6:C$306,SMALL(IF('بيانات اساسية'!$AL$6:$AL$306=\"معلم\",ROW(C$7:C$306)-ROW(C$7)+1),ROWS($A$3:C62))),\"\")","v":""},{"$f":"IFERROR(INDEX('بيانات اساسية'!AF$6:AF$306,SMALL(IF('بيانات اساسية'!$AL$6:$AL$306=\"معلم\",ROW(D$7:D$306)-ROW(D$7)+1),ROWS($A$3:D62))),\"\")","v":""},{"$f":"IFERROR(INDEX('بيانات اساسية'!AH$6:AH$306,SMALL(IF('بيانات اساسية'!$AL$6:$AL$306=\"معلم\",ROW(E$7:E$306)-ROW(E$7)+1),ROWS($A$3:E62))),\"\")","v":""},{"$f":"IFERROR(INDEX('بيانات اساسية'!AI$6:AI$306,SMALL(IF('بيانات اساسية'!$AL$6:$AL$306=\"معلم\",ROW(F$7:F$306)-ROW(F$7)+1),ROWS($A$3:F62))),\"\")","v":""},{"$f":"IFERROR(INDEX('بيانات اساسية'!AJ$6:AJ$306,SMALL(IF('بيانات اساسية'!$AL$6:$AL$306=\"معلم\",ROW(G$7:G$306)-ROW(G$7)+1),ROWS($A$3:G62))),\"\")","v":""},{"$f":"IFERROR(INDEX('بيانات اساسية'!AK$6:AK$306,SMALL(IF('بيانات اساسية'!$AL$6:$AL$306=\"معلم\",ROW(H$7:H$306)-ROW(H$7)+1),ROWS($A$3:H62))),\"\")","v":""}]
[{"$f":"IF(B64=\"\",\"\",SUBTOTAL(3,B$4:B64))","v":""},{"$f":"IFERROR(INDEX('بيانات اساسية'!B$6:B$306,SMALL(IF('بيانات اساسية'!$AL$6:$AL$306=\"معلم\",ROW(B$7:B$306)-ROW(B$7)+1),ROWS($A$3:B63))),\"\")","v":""},{"$f":"IFERROR(INDEX('بيانات اساسية'!C$6:C$306,SMALL(IF('بيانات اساسية'!$AL$6:$AL$306=\"معلم\",ROW(C$7:C$306)-ROW(C$7)+1),ROWS($A$3:C63))),\"\")","v":""},{"$f":"IFERROR(INDEX('بيانات اساسية'!AF$6:AF$306,SMALL(IF('بيانات اساسية'!$AL$6:$AL$306=\"معلم\",ROW(D$7:D$306)-ROW(D$7)+1),ROWS($A$3:D63))),\"\")","v":""},{"$f":"IFERROR(INDEX('بيانات اساسية'!AH$6:AH$306,SMALL(IF('بيانات اساسية'!$AL$6:$AL$306=\"معلم\",ROW(E$7:E$306)-ROW(E$7)+1),ROWS($A$3:E63))),\"\")","v":""},{"$f":"IFERROR(INDEX('بيانات اساسية'!AI$6:AI$306,SMALL(IF('بيانات اساسية'!$AL$6:$AL$306=\"معلم\",ROW(F$7:F$306)-ROW(F$7)+1),ROWS($A$3:F63))),\"\")","v":""},{"$f":"IFERROR(INDEX('بيانات اساسية'!AJ$6:AJ$306,SMALL(IF('بيانات اساسية'!$AL$6:$AL$306=\"معلم\",ROW(G$7:G$306)-ROW(G$7)+1),ROWS($A$3:G63))),\"\")","v":""},{"$f":"IFERROR(INDEX('بيانات اساسية'!AK$6:AK$306,SMALL(IF('بيانات اساسية'!$AL$6:$AL$306=\"معلم\",ROW(H$7:H$306)-ROW(H$7)+1),ROWS($A$3:H63))),\"\")","v":""}]
[{"$f":"IF(B65=\"\",\"\",SUBTOTAL(3,B$4:B65))","v":""},{"$f":"IFERROR(INDEX('بيانات اساسية'!B$6:B$306,SMALL(IF('بيانات اساسية'!$AL$6:$AL$306=\"معلم\",ROW(B$7:B$306)-ROW(B$7)+1),ROWS($A$3:B64))),\"\")","v":""},{"$f":"IFERROR(INDEX('بيانات اساسية'!C$6:C$306,SMALL(IF('بيانات اساسية'!$AL$6:$AL$306=\"معلم\",ROW(C$7:C$306)-ROW(C$7)+1),ROWS($A$3:C64))),\"\")","v":""},{"$f":"IFERROR(INDEX('بيانات اساسية'!AF$6:AF$306,SMALL(IF('بيانات اساسية'!$AL$6:$AL$306=\"معلم\",ROW(D$7:D$306)-ROW(D$7)+1),ROWS($A$3:D64))),\"\")","v":""},{"$f":"IFERROR(INDEX('بيانات اساسية'!AH$6:AH$306,SMALL(IF('بيانات اساسية'!$AL$6:$AL$306=\"معلم\",ROW(E$7:E$306)-ROW(E$7)+1),ROWS($A$3:E64))),\"\")","v":""},{"$f":"IFERROR(INDEX('بيانات اساسية'!AI$6:AI$306,SMALL(IF('بيانات اساسية'!$AL$6:$AL$306=\"معلم\",ROW(F$7:F$306)-ROW(F$7)+1),ROWS($A$3:F64))),\"\")","v":""},{"$f":"IFERROR(INDEX('بيانات اساسية'!AJ$6:AJ$306,SMALL(IF('بيانات اساسية'!$AL$6:$AL$306=\"معلم\",ROW(G$7:G$306)-ROW(G$7)+1),ROWS($A$3:G64))),\"\")","v":""},{"$f":"IFERROR(INDEX('بيانات اساسية'!AK$6:AK$306,SMALL(IF('بيانات اساسية'!$AL$6:$AL$306=\"معلم\",ROW(H$7:H$306)-ROW(H$7)+1),ROWS($A$3:H64))),\"\")","v":""}]
[{"$f":"IF(B66=\"\",\"\",SUBTOTAL(3,B$4:B66))","v":""},{"$f":"IFERROR(INDEX('بيانات اساسية'!B$6:B$306,SMALL(IF('بيانات اساسية'!$AL$6:$AL$306=\"معلم\",ROW(B$7:B$306)-ROW(B$7)+1),ROWS($A$3:B65))),\"\")","v":""},{"$f":"IFERROR(INDEX('بيانات اساسية'!C$6:C$306,SMALL(IF('بيانات اساسية'!$AL$6:$AL$306=\"معلم\",ROW(C$7:C$306)-ROW(C$7)+1),ROWS($A$3:C65))),\"\")","v":""},{"$f":"IFERROR(INDEX('بيانات اساسية'!AF$6:AF$306,SMALL(IF('بيانات اساسية'!$AL$6:$AL$306=\"معلم\",ROW(D$7:D$306)-ROW(D$7)+1),ROWS($A$3:D65))),\"\")","v":""},{"$f":"IFERROR(INDEX('بيانات اساسية'!AH$6:AH$306,SMALL(IF('بيانات اساسية'!$AL$6:$AL$306=\"معلم\",ROW(E$7:E$306)-ROW(E$7)+1),ROWS($A$3:E65))),\"\")","v":""},{"$f":"IFERROR(INDEX('بيانات اساسية'!AI$6:AI$306,SMALL(IF('بيانات اساسية'!$AL$6:$AL$306=\"معلم\",ROW(F$7:F$306)-ROW(F$7)+1),ROWS($A$3:F65))),\"\")","v":""},{"$f":"IFERROR(INDEX('بيانات اساسية'!AJ$6:AJ$306,SMALL(IF('بيانات اساسية'!$AL$6:$AL$306=\"معلم\",ROW(G$7:G$306)-ROW(G$7)+1),ROWS($A$3:G65))),\"\")","v":""},{"$f":"IFERROR(INDEX('بيانات اساسية'!AK$6:AK$306,SMALL(IF('بيانات اساسية'!$AL$6:$AL$306=\"معلم\",ROW(H$7:H$306)-ROW(H$7)+1),ROWS($A$3:H65))),\"\")","v":""}]
[{"$f":"IF(B67=\"\",\"\",SUBTOTAL(3,B$4:B67))","v":""},{"$f":"IFERROR(INDEX('بيانات اساسية'!B$6:B$306,SMALL(IF('بيانات اساسية'!$AL$6:$AL$306=\"معلم\",ROW(B$7:B$306)-ROW(B$7)+1),ROWS($A$3:B66))),\"\")","v":""},{"$f":"IFERROR(INDEX('بيانات اساسية'!C$6:C$306,SMALL(IF('بيانات اساسية'!$AL$6:$AL$306=\"معلم\",ROW(C$7:C$306)-ROW(C$7)+1),ROWS($A$3:C66))),\"\")","v":""},{"$f":"IFERROR(INDEX('بيانات اساسية'!AF$6:AF$306,SMALL(IF('بيانات اساسية'!$AL$6:$AL$306=\"معلم\",ROW(D$7:D$306)-ROW(D$7)+1),ROWS($A$3:D66))),\"\")","v":""},{"$f":"IFERROR(INDEX('بيانات اساسية'!AH$6:AH$306,SMALL(IF('بيانات اساسية'!$AL$6:$AL$306=\"معلم\",ROW(E$7:E$306)-ROW(E$7)+1),ROWS($A$3:E66))),\"\")","v":""},{"$f":"IFERROR(INDEX('بيانات اساسية'!AI$6:AI$306,SMALL(IF('بيانات اساسية'!$AL$6:$AL$306=\"معلم\",ROW(F$7:F$306)-ROW(F$7)+1),ROWS($A$3:F66))),\"\")","v":""},{"$f":"IFERROR(INDEX('بيانات اساسية'!AJ$6:AJ$306,SMALL(IF('بيانات اساسية'!$AL$6:$AL$306=\"معلم\",ROW(G$7:G$306)-ROW(G$7)+1),ROWS($A$3:G66))),\"\")","v":""},{"$f":"IFERROR(INDEX('بيانات اساسية'!AK$6:AK$306,SMALL(IF('بيانات اساسية'!$AL$6:$AL$306=\"معلم\",ROW(H$7:H$306)-ROW(H$7)+1),ROWS($A$3:H66))),\"\")","v":""}]
[{"$f":"IF(B68=\"\",\"\",SUBTOTAL(3,B$4:B68))","v":""},{"$f":"IFERROR(INDEX('بيانات اساسية'!B$6:B$306,SMALL(IF('بيانات اساسية'!$AL$6:$AL$306=\"معلم\",ROW(B$7:B$306)-ROW(B$7)+1),ROWS($A$3:B67))),\"\")","v":""},{"$f":"IFERROR(INDEX('بيانات اساسية'!C$6:C$306,SMALL(IF('بيانات اساسية'!$AL$6:$AL$306=\"معلم\",ROW(C$7:C$306)-ROW(C$7)+1),ROWS($A$3:C67))),\"\")","v":""},{"$f":"IFERROR(INDEX('بيانات اساسية'!AF$6:AF$306,SMALL(IF('بيانات اساسية'!$AL$6:$AL$306=\"معلم\",ROW(D$7:D$306)-ROW(D$7)+1),ROWS($A$3:D67))),\"\")","v":""},{"$f":"IFERROR(INDEX('بيانات اساسية'!AH$6:AH$306,SMALL(IF('بيانات اساسية'!$AL$6:$AL$306=\"معلم\",ROW(E$7:E$306)-ROW(E$7)+1),ROWS($A$3:E67))),\"\")","v":""},{"$f":"IFERROR(INDEX('بيانات اساسية'!AI$6:AI$306,SMALL(IF('بيانات اساسية'!$AL$6:$AL$306=\"معلم\",ROW(F$7:F$306)-ROW(F$7)+1),ROWS($A$3:F67))),\"\")","v":""},{"$f":"IFERROR(INDEX('بيانات اساسية'!AJ$6:AJ$306,SMALL(IF('بيانات اساسية'!$AL$6:$AL$306=\"معلم\",ROW(G$7:G$306)-ROW(G$7)+1),ROWS($A$3:G67))),\"\")","v":""},{"$f":"IFERROR(INDEX('بيانات اساسية'!AK$6:AK$306,SMALL(IF('بيانات اساسية'!$AL$6:$AL$306=\"معلم\",ROW(H$7:H$306)-ROW(H$7)+1),ROWS($A$3:H67))),\"\")","v":""}]
[{"$f":"IF(B69=\"\",\"\",SUBTOTAL(3,B$4:B69))","v":""},{"$f":"IFERROR(INDEX('بيانات اساسية'!B$6:B$306,SMALL(IF('بيانات اساسية'!$AL$6:$AL$306=\"معلم\",ROW(B$7:B$306)-ROW(B$7)+1),ROWS($A$3:B68))),\"\")","v":""},{"$f":"IFERROR(INDEX('بيانات اساسية'!C$6:C$306,SMALL(IF('بيانات اساسية'!$AL$6:$AL$306=\"معلم\",ROW(C$7:C$306)-ROW(C$7)+1),ROWS($A$3:C68))),\"\")","v":""},{"$f":"IFERROR(INDEX('بيانات اساسية'!AF$6:AF$306,SMALL(IF('بيانات اساسية'!$AL$6:$AL$306=\"معلم\",ROW(D$7:D$306)-ROW(D$7)+1),ROWS($A$3:D68))),\"\")","v":""},{"$f":"IFERROR(INDEX('بيانات اساسية'!AH$6:AH$306,SMALL(IF('بيانات اساسية'!$AL$6:$AL$306=\"معلم\",ROW(E$7:E$306)-ROW(E$7)+1),ROWS($A$3:E68))),\"\")","v":""},{"$f":"IFERROR(INDEX('بيانات اساسية'!AI$6:AI$306,SMALL(IF('بيانات اساسية'!$AL$6:$AL$306=\"معلم\",ROW(F$7:F$306)-ROW(F$7)+1),ROWS($A$3:F68))),\"\")","v":""},{"$f":"IFERROR(INDEX('بيانات اساسية'!AJ$6:AJ$306,SMALL(IF('بيانات اساسية'!$AL$6:$AL$306=\"معلم\",ROW(G$7:G$306)-ROW(G$7)+1),ROWS($A$3:G68))),\"\")","v":""},{"$f":"IFERROR(INDEX('بيانات اساسية'!AK$6:AK$306,SMALL(IF('بيانات اساسية'!$AL$6:$AL$306=\"معلم\",ROW(H$7:H$306)-ROW(H$7)+1),ROWS($A$3:H68))),\"\")","v":""}]
[{"$f":"IF(B70=\"\",\"\",SUBTOTAL(3,B$4:B70))","v":""},{"$f":"IFERROR(INDEX('بيانات اساسية'!B$6:B$306,SMALL(IF('بيانات اساسية'!$AL$6:$AL$306=\"معلم\",ROW(B$7:B$306)-ROW(B$7)+1),ROWS($A$3:B69))),\"\")","v":""},{"$f":"IFERROR(INDEX('بيانات اساسية'!C$6:C$306,SMALL(IF('بيانات اساسية'!$AL$6:$AL$306=\"معلم\",ROW(C$7:C$306)-ROW(C$7)+1),ROWS($A$3:C69))),\"\")","v":""},{"$f":"IFERROR(INDEX('بيانات اساسية'!AF$6:AF$306,SMALL(IF('بيانات اساسية'!$AL$6:$AL$306=\"معلم\",ROW(D$7:D$306)-ROW(D$7)+1),ROWS($A$3:D69))),\"\")","v":""},{"$f":"IFERROR(INDEX('بيانات اساسية'!AH$6:AH$306,SMALL(IF('بيانات اساسية'!$AL$6:$AL$306=\"معلم\",ROW(E$7:E$306)-ROW(E$7)+1),ROWS($A$3:E69))),\"\")","v":""},{"$f":"IFERROR(INDEX('بيانات اساسية'!AI$6:AI$306,SMALL(IF('بيانات اساسية'!$AL$6:$AL$306=\"معلم\",ROW(F$7:F$306)-ROW(F$7)+1),ROWS($A$3:F69))),\"\")","v":""},{"$f":"IFERROR(INDEX('بيانات اساسية'!AJ$6:AJ$306,SMALL(IF('بيانات اساسية'!$AL$6:$AL$306=\"معلم\",ROW(G$7:G$306)-ROW(G$7)+1),ROWS($A$3:G69))),\"\")","v":""},{"$f":"IFERROR(INDEX('بيانات اساسية'!AK$6:AK$306,SMALL(IF('بيانات اساسية'!$AL$6:$AL$306=\"معلم\",ROW(H$7:H$306)-ROW(H$7)+1),ROWS($A$3:H69))),\"\")","v":""}]
[{"$f":"IF(B71=\"\",\"\",SUBTOTAL(3,B$4:B71))","v":""},{"$f":"IFERROR(INDEX('بيانات اساسية'!B$6:B$306,SMALL(IF('بيانات اساسية'!$AL$6:$AL$306=\"معلم\",ROW(B$7:B$306)-ROW(B$7)+1),ROWS($A$3:B70))),\"\")","v":""},{"$f":"IFERROR(INDEX('بيانات اساسية'!C$6:C$306,SMALL(IF('بيانات اساسية'!$AL$6:$AL$306=\"معلم\",ROW(C$7:C$306)-ROW(C$7)+1),ROWS($A$3:C70))),\"\")","v":""},{"$f":"IFERROR(INDEX('بيانات اساسية'!AF$6:AF$306,SMALL(IF('بيانات اساسية'!$AL$6:$AL$306=\"معلم\",ROW(D$7:D$306)-ROW(D$7)+1),ROWS($A$3:D70))),\"\")","v":""},{"$f":"IFERROR(INDEX('بيانات اساسية'!AH$6:AH$306,SMALL(IF('بيانات اساسية'!$AL$6:$AL$306=\"معلم\",ROW(E$7:E$306)-ROW(E$7)+1),ROWS($A$3:E70))),\"\")","v":""},{"$f":"IFERROR(INDEX('بيانات اساسية'!AI$6:AI$306,SMALL(IF('بيانات اساسية'!$AL$6:$AL$306=\"معلم\",ROW(F$7:F$306)-ROW(F$7)+1),ROWS($A$3:F70))),\"\")","v":""},{"$f":"IFERROR(INDEX('بيانات اساسية'!AJ$6:AJ$306,SMALL(IF('بيانات اساسية'!$AL$6:$AL$306=\"معلم\",ROW(G$7:G$306)-ROW(G$7)+1),ROWS($A$3:G70))),\"\")","v":""},{"$f":"IFERROR(INDEX('بيانات اساسية'!AK$6:AK$306,SMALL(IF('بيانات اساسية'!$AL$6:$AL$306=\"معلم\",ROW(H$7:H$306)-ROW(H$7)+1),ROWS($A$3:H70))),\"\")","v":""}]
[{"$f":"IF(B72=\"\",\"\",SUBTOTAL(3,B$4:B72))","v":""},{"$f":"IFERROR(INDEX('بيانات اساسية'!B$6:B$306,SMALL(IF('بيانات اساسية'!$AL$6:$AL$306=\"معلم\",ROW(B$7:B$306)-ROW(B$7)+1),ROWS($A$3:B71))),\"\")","v":""},{"$f":"IFERROR(INDEX('بيانات اساسية'!C$6:C$306,SMALL(IF('بيانات اساسية'!$AL$6:$AL$306=\"معلم\",ROW(C$7:C$306)-ROW(C$7)+1),ROWS($A$3:C71))),\"\")","v":""},{"$f":"IFERROR(INDEX('بيانات اساسية'!AF$6:AF$306,SMALL(IF('بيانات اساسية'!$AL$6:$AL$306=\"معلم\",ROW(D$7:D$306)-ROW(D$7)+1),ROWS($A$3:D71))),\"\")","v":""},{"$f":"IFERROR(INDEX('بيانات اساسية'!AH$6:AH$306,SMALL(IF('بيانات اساسية'!$AL$6:$AL$306=\"معلم\",ROW(E$7:E$306)-ROW(E$7)+1),ROWS($A$3:E71))),\"\")","v":""},{"$f":"IFERROR(INDEX('بيانات اساسية'!AI$6:AI$306,SMALL(IF('بيانات اساسية'!$AL$6:$AL$306=\"معلم\",ROW(F$7:F$306)-ROW(F$7)+1),ROWS($A$3:F71))),\"\")","v":""},{"$f":"IFERROR(INDEX('بيانات اساسية'!AJ$6:AJ$306,SMALL(IF('بيانات اساسية'!$AL$6:$AL$306=\"معلم\",ROW(G$7:G$306)-ROW(G$7)+1),ROWS($A$3:G71))),\"\")","v":""},{"$f":"IFERROR(INDEX('بيانات اساسية'!AK$6:AK$306,SMALL(IF('بيانات اساسية'!$AL$6:$AL$306=\"معلم\",ROW(H$7:H$306)-ROW(H$7)+1),ROWS($A$3:H71))),\"\")","v":""}]
[{"$f":"IF(B73=\"\",\"\",SUBTOTAL(3,B$4:B73))","v":""},{"$f":"IFERROR(INDEX('بيانات اساسية'!B$6:B$306,SMALL(IF('بيانات اساسية'!$AL$6:$AL$306=\"معلم\",ROW(B$7:B$306)-ROW(B$7)+1),ROWS($A$3:B72))),\"\")","v":""},{"$f":"IFERROR(INDEX('بيانات اساسية'!C$6:C$306,SMALL(IF('بيانات اساسية'!$AL$6:$AL$306=\"معلم\",ROW(C$7:C$306)-ROW(C$7)+1),ROWS($A$3:C72))),\"\")","v":""},{"$f":"IFERROR(INDEX('بيانات اساسية'!AF$6:AF$306,SMALL(IF('بيانات اساسية'!$AL$6:$AL$306=\"معلم\",ROW(D$7:D$306)-ROW(D$7)+1),ROWS($A$3:D72))),\"\")","v":""},{"$f":"IFERROR(INDEX('بيانات اساسية'!AH$6:AH$306,SMALL(IF('بيانات اساسية'!$AL$6:$AL$306=\"معلم\",ROW(E$7:E$306)-ROW(E$7)+1),ROWS($A$3:E72))),\"\")","v":""},{"$f":"IFERROR(INDEX('بيانات اساسية'!AI$6:AI$306,SMALL(IF('بيانات اساسية'!$AL$6:$AL$306=\"معلم\",ROW(F$7:F$306)-ROW(F$7)+1),ROWS($A$3:F72))),\"\")","v":""},{"$f":"IFERROR(INDEX('بيانات اساسية'!AJ$6:AJ$306,SMALL(IF('بيانات اساسية'!$AL$6:$AL$306=\"معلم\",ROW(G$7:G$306)-ROW(G$7)+1),ROWS($A$3:G72))),\"\")","v":""},{"$f":"IFERROR(INDEX('بيانات اساسية'!AK$6:AK$306,SMALL(IF('بيانات اساسية'!$AL$6:$AL$306=\"معلم\",ROW(H$7:H$306)-ROW(H$7)+1),ROWS($A$3:H72))),\"\")","v":""}]
[{"$f":"IF(B74=\"\",\"\",SUBTOTAL(3,B$4:B74))","v":""},{"$f":"IFERROR(INDEX('بيانات اساسية'!B$6:B$306,SMALL(IF('بيانات اساسية'!$AL$6:$AL$306=\"معلم\",ROW(B$7:B$306)-ROW(B$7)+1),ROWS($A$3:B73))),\"\")","v":""},{"$f":"IFERROR(INDEX('بيانات اساسية'!C$6:C$306,SMALL(IF('بيانات اساسية'!$AL$6:$AL$306=\"معلم\",ROW(C$7:C$306)-ROW(C$7)+1),ROWS($A$3:C73))),\"\")","v":""},{"$f":"IFERROR(INDEX('بيانات اساسية'!AF$6:AF$306,SMALL(IF('بيانات اساسية'!$AL$6:$AL$306=\"معلم\",ROW(D$7:D$306)-ROW(D$7)+1),ROWS($A$3:D73))),\"\")","v":""},{"$f":"IFERROR(INDEX('بيانات اساسية'!AH$6:AH$306,SMALL(IF('بيانات اساسية'!$AL$6:$AL$306=\"معلم\",ROW(E$7:E$306)-ROW(E$7)+1),ROWS($A$3:E73))),\"\")","v":""},{"$f":"IFERROR(INDEX('بيانات اساسية'!AI$6:AI$306,SMALL(IF('بيانات اساسية'!$AL$6:$AL$306=\"معلم\",ROW(F$7:F$306)-ROW(F$7)+1),ROWS($A$3:F73))),\"\")","v":""},{"$f":"IFERROR(INDEX('بيانات اساسية'!AJ$6:AJ$306,SMALL(IF('بيانات اساسية'!$AL$6:$AL$306=\"معلم\",ROW(G$7:G$306)-ROW(G$7)+1),ROWS($A$3:G73))),\"\")","v":""},{"$f":"IFERROR(INDEX('بيانات اساسية'!AK$6:AK$306,SMALL(IF('بيانات اساسية'!$AL$6:$AL$306=\"معلم\",ROW(H$7:H$306)-ROW(H$7)+1),ROWS($A$3:H73))),\"\")","v":""}]
[{"$f":"IF(B75=\"\",\"\",SUBTOTAL(3,B$4:B75))","v":""},{"$f":"IFERROR(INDEX('بيانات اساسية'!B$6:B$306,SMALL(IF('بيانات اساسية'!$AL$6:$AL$306=\"معلم\",ROW(B$7:B$306)-ROW(B$7)+1),ROWS($A$3:B74))),\"\")","v":""},{"$f":"IFERROR(INDEX('بيانات اساسية'!C$6:C$306,SMALL(IF('بيانات اساسية'!$AL$6:$AL$306=\"معلم\",ROW(C$7:C$306)-ROW(C$7)+1),ROWS($A$3:C74))),\"\")","v":""},{"$f":"IFERROR(INDEX('بيانات اساسية'!AF$6:AF$306,SMALL(IF('بيانات اساسية'!$AL$6:$AL$306=\"معلم\",ROW(D$7:D$306)-ROW(D$7)+1),ROWS($A$3:D74))),\"\")","v":""},{"$f":"IFERROR(INDEX('بيانات اساسية'!AH$6:AH$306,SMALL(IF('بيانات اساسية'!$AL$6:$AL$306=\"معلم\",ROW(E$7:E$306)-ROW(E$7)+1),ROWS($A$3:E74))),\"\")","v":""},{"$f":"IFERROR(INDEX('بيانات اساسية'!AI$6:AI$306,SMALL(IF('بيانات اساسية'!$AL$6:$AL$306=\"معلم\",ROW(F$7:F$306)-ROW(F$7)+1),ROWS($A$3:F74))),\"\")","v":""},{"$f":"IFERROR(INDEX('بيانات اساسية'!AJ$6:AJ$306,SMALL(IF('بيانات اساسية'!$AL$6:$AL$306=\"معلم\",ROW(G$7:G$306)-ROW(G$7)+1),ROWS($A$3:G74))),\"\")","v":""},{"$f":"IFERROR(INDEX('بيانات اساسية'!AK$6:AK$306,SMALL(IF('بيانات اساسية'!$AL$6:$AL$306=\"معلم\",ROW(H$7:H$306)-ROW(H$7)+1),ROWS($A$3:H74))),\"\")","v":""}]
[{"$f":"IF(B76=\"\",\"\",SUBTOTAL(3,B$4:B76))","v":""},{"$f":"IFERROR(INDEX('بيانات اساسية'!B$6:B$306,SMALL(IF('بيانات اساسية'!$AL$6:$AL$306=\"معلم\",ROW(B$7:B$306)-ROW(B$7)+1),ROWS($A$3:B75))),\"\")","v":""},{"$f":"IFERROR(INDEX('بيانات اساسية'!C$6:C$306,SMALL(IF('بيانات اساسية'!$AL$6:$AL$306=\"معلم\",ROW(C$7:C$306)-ROW(C$7)+1),ROWS($A$3:C75))),\"\")","v":""},{"$f":"IFERROR(INDEX('بيانات اساسية'!AF$6:AF$306,SMALL(IF('بيانات اساسية'!$AL$6:$AL$306=\"معلم\",ROW(D$7:D$306)-ROW(D$7)+1),ROWS($A$3:D75))),\"\")","v":""},{"$f":"IFERROR(INDEX('بيانات اساسية'!AH$6:AH$306,SMALL(IF('بيانات اساسية'!$AL$6:$AL$306=\"معلم\",ROW(E$7:E$306)-ROW(E$7)+1),ROWS($A$3:E75))),\"\")","v":""},{"$f":"IFERROR(INDEX('بيانات اساسية'!AI$6:AI$306,SMALL(IF('بيانات اساسية'!$AL$6:$AL$306=\"معلم\",ROW(F$7:F$306)-ROW(F$7)+1),ROWS($A$3:F75))),\"\")","v":""},{"$f":"IFERROR(INDEX('بيانات اساسية'!AJ$6:AJ$306,SMALL(IF('بيانات اساسية'!$AL$6:$AL$306=\"معلم\",ROW(G$7:G$306)-ROW(G$7)+1),ROWS($A$3:G75))),\"\")","v":""},{"$f":"IFERROR(INDEX('بيانات اساسية'!AK$6:AK$306,SMALL(IF('بيانات اساسية'!$AL$6:$AL$306=\"معلم\",ROW(H$7:H$306)-ROW(H$7)+1),ROWS($A$3:H75))),\"\")","v":""}]
[{"$f":"IF(B77=\"\",\"\",SUBTOTAL(3,B$4:B77))","v":""},{"$f":"IFERROR(INDEX('بيانات اساسية'!B$6:B$306,SMALL(IF('بيانات اساسية'!$AL$6:$AL$306=\"معلم\",ROW(B$7:B$306)-ROW(B$7)+1),ROWS($A$3:B76))),\"\")","v":""},{"$f":"IFERROR(INDEX('بيانات اساسية'!C$6:C$306,SMALL(IF('بيانات اساسية'!$AL$6:$AL$306=\"معلم\",ROW(C$7:C$306)-ROW(C$7)+1),ROWS($A$3:C76))),\"\")","v":""},{"$f":"IFERROR(INDEX('بيانات اساسية'!AF$6:AF$306,SMALL(IF('بيانات اساسية'!$AL$6:$AL$306=\"معلم\",ROW(D$7:D$306)-ROW(D$7)+1),ROWS($A$3:D76))),\"\")","v":""},{"$f":"IFERROR(INDEX('بيانات اساسية'!AH$6:AH$306,SMALL(IF('بيانات اساسية'!$AL$6:$AL$306=\"معلم\",ROW(E$7:E$306)-ROW(E$7)+1),ROWS($A$3:E76))),\"\")","v":""},{"$f":"IFERROR(INDEX('بيانات اساسية'!AI$6:AI$306,SMALL(IF('بيانات اساسية'!$AL$6:$AL$306=\"معلم\",ROW(F$7:F$306)-ROW(F$7)+1),ROWS($A$3:F76))),\"\")","v":""},{"$f":"IFERROR(INDEX('بيانات اساسية'!AJ$6:AJ$306,SMALL(IF('بيانات اساسية'!$AL$6:$AL$306=\"معلم\",ROW(G$7:G$306)-ROW(G$7)+1),ROWS($A$3:G76))),\"\")","v":""},{"$f":"IFERROR(INDEX('بيانات اساسية'!AK$6:AK$306,SMALL(IF('بيانات اساسية'!$AL$6:$AL$306=\"معلم\",ROW(H$7:H$306)-ROW(H$7)+1),ROWS($A$3:H76))),\"\")","v":""}]
[{"$f":"IF(B78=\"\",\"\",SUBTOTAL(3,B$4:B78))","v":""},{"$f":"IFERROR(INDEX('بيانات اساسية'!B$6:B$306,SMALL(IF('بيانات اساسية'!$AL$6:$AL$306=\"معلم\",ROW(B$7:B$306)-ROW(B$7)+1),ROWS($A$3:B77))),\"\")","v":""},{"$f":"IFERROR(INDEX('بيانات اساسية'!C$6:C$306,SMALL(IF('بيانات اساسية'!$AL$6:$AL$306=\"معلم\",ROW(C$7:C$306)-ROW(C$7)+1),ROWS($A$3:C77))),\"\")","v":""},{"$f":"IFERROR(INDEX('بيانات اساسية'!AF$6:AF$306,SMALL(IF('بيانات اساسية'!$AL$6:$AL$306=\"معلم\",ROW(D$7:D$306)-ROW(D$7)+1),ROWS($A$3:D77))),\"\")","v":""},{"$f":"IFERROR(INDEX('بيانات اساسية'!AH$6:AH$306,SMALL(IF('بيانات اساسية'!$AL$6:$AL$306=\"معلم\",ROW(E$7:E$306)-ROW(E$7)+1),ROWS($A$3:E77))),\"\")","v":""},{"$f":"IFERROR(INDEX('بيانات اساسية'!AI$6:AI$306,SMALL(IF('بيانات اساسية'!$AL$6:$AL$306=\"معلم\",ROW(F$7:F$306)-ROW(F$7)+1),ROWS($A$3:F77))),\"\")","v":""},{"$f":"IFERROR(INDEX('بيانات اساسية'!AJ$6:AJ$306,SMALL(IF('بيانات اساسية'!$AL$6:$AL$306=\"معلم\",ROW(G$7:G$306)-ROW(G$7)+1),ROWS($A$3:G77))),\"\")","v":""},{"$f":"IFERROR(INDEX('بيانات اساسية'!AK$6:AK$306,SMALL(IF('بيانات اساسية'!$AL$6:$AL$306=\"معلم\",ROW(H$7:H$306)-ROW(H$7)+1),ROWS($A$3:H77))),\"\")","v":""}]
[{"$f":"IF(B79=\"\",\"\",SUBTOTAL(3,B$4:B79))","v":""},{"$f":"IFERROR(INDEX('بيانات اساسية'!B$6:B$306,SMALL(IF('بيانات اساسية'!$AL$6:$AL$306=\"معلم\",ROW(B$7:B$306)-ROW(B$7)+1),ROWS($A$3:B78))),\"\")","v":""},{"$f":"IFERROR(INDEX('بيانات اساسية'!C$6:C$306,SMALL(IF('بيانات اساسية'!$AL$6:$AL$306=\"معلم\",ROW(C$7:C$306)-ROW(C$7)+1),ROWS($A$3:C78))),\"\")","v":""},{"$f":"IFERROR(INDEX('بيانات اساسية'!AF$6:AF$306,SMALL(IF('بيانات اساسية'!$AL$6:$AL$306=\"معلم\",ROW(D$7:D$306)-ROW(D$7)+1),ROWS($A$3:D78))),\"\")","v":""},{"$f":"IFERROR(INDEX('بيانات اساسية'!AH$6:AH$306,SMALL(IF('بيانات اساسية'!$AL$6:$AL$306=\"معلم\",ROW(E$7:E$306)-ROW(E$7)+1),ROWS($A$3:E78))),\"\")","v":""},{"$f":"IFERROR(INDEX('بيانات اساسية'!AI$6:AI$306,SMALL(IF('بيانات اساسية'!$AL$6:$AL$306=\"معلم\",ROW(F$7:F$306)-ROW(F$7)+1),ROWS($A$3:F78))),\"\")","v":""},{"$f":"IFERROR(INDEX('بيانات اساسية'!AJ$6:AJ$306,SMALL(IF('بيانات اساسية'!$AL$6:$AL$306=\"معلم\",ROW(G$7:G$306)-ROW(G$7)+1),ROWS($A$3:G78))),\"\")","v":""},{"$f":"IFERROR(INDEX('بيانات اساسية'!AK$6:AK$306,SMALL(IF('بيانات اساسية'!$AL$6:$AL$306=\"معلم\",ROW(H$7:H$306)-ROW(H$7)+1),ROWS($A$3:H78))),\"\")","v":""}]
[{"$f":"IF(B80=\"\",\"\",SUBTOTAL(3,B$4:B80))","v":""},{"$f":"IFERROR(INDEX('بيانات اساسية'!B$6:B$306,SMALL(IF('بيانات اساسية'!$AL$6:$AL$306=\"معلم\",ROW(B$7:B$306)-ROW(B$7)+1),ROWS($A$3:B79))),\"\")","v":""},{"$f":"IFERROR(INDEX('بيانات اساسية'!C$6:C$306,SMALL(IF('بيانات اساسية'!$AL$6:$AL$306=\"معلم\",ROW(C$7:C$306)-ROW(C$7)+1),ROWS($A$3:C79))),\"\")","v":""},{"$f":"IFERROR(INDEX('بيانات اساسية'!AF$6:AF$306,SMALL(IF('بيانات اساسية'!$AL$6:$AL$306=\"معلم\",ROW(D$7:D$306)-ROW(D$7)+1),ROWS($A$3:D79))),\"\")","v":""},{"$f":"IFERROR(INDEX('بيانات اساسية'!AH$6:AH$306,SMALL(IF('بيانات اساسية'!$AL$6:$AL$306=\"معلم\",ROW(E$7:E$306)-ROW(E$7)+1),ROWS($A$3:E79))),\"\")","v":""},{"$f":"IFERROR(INDEX('بيانات اساسية'!AI$6:AI$306,SMALL(IF('بيانات اساسية'!$AL$6:$AL$306=\"معلم\",ROW(F$7:F$306)-ROW(F$7)+1),ROWS($A$3:F79))),\"\")","v":""},{"$f":"IFERROR(INDEX('بيانات اساسية'!AJ$6:AJ$306,SMALL(IF('بيانات اساسية'!$AL$6:$AL$306=\"معلم\",ROW(G$7:G$306)-ROW(G$7)+1),ROWS($A$3:G79))),\"\")","v":""},{"$f":"IFERROR(INDEX('بيانات اساسية'!AK$6:AK$306,SMALL(IF('بيانات اساسية'!$AL$6:$AL$306=\"معلم\",ROW(H$7:H$306)-ROW(H$7)+1),ROWS($A$3:H79))),\"\")","v":""}]
[{"$f":"IF(B81=\"\",\"\",SUBTOTAL(3,B$4:B81))","v":""},{"$f":"IFERROR(INDEX('بيانات اساسية'!B$6:B$306,SMALL(IF('بيانات اساسية'!$AL$6:$AL$306=\"معلم\",ROW(B$7:B$306)-ROW(B$7)+1),ROWS($A$3:B80))),\"\")","v":""},{"$f":"IFERROR(INDEX('بيانات اساسية'!C$6:C$306,SMALL(IF('بيانات اساسية'!$AL$6:$AL$306=\"معلم\",ROW(C$7:C$306)-ROW(C$7)+1),ROWS($A$3:C80))),\"\")","v":""},{"$f":"IFERROR(INDEX('بيانات اساسية'!AF$6:AF$306,SMALL(IF('بيانات اساسية'!$AL$6:$AL$306=\"معلم\",ROW(D$7:D$306)-ROW(D$7)+1),ROWS($A$3:D80))),\"\")","v":""},{"$f":"IFERROR(INDEX('بيانات اساسية'!AH$6:AH$306,SMALL(IF('بيانات اساسية'!$AL$6:$AL$306=\"معلم\",ROW(E$7:E$306)-ROW(E$7)+1),ROWS($A$3:E80))),\"\")","v":""},{"$f":"IFERROR(INDEX('بيانات اساسية'!AI$6:AI$306,SMALL(IF('بيانات اساسية'!$AL$6:$AL$306=\"معلم\",ROW(F$7:F$306)-ROW(F$7)+1),ROWS($A$3:F80))),\"\")","v":""},{"$f":"IFERROR(INDEX('بيانات اساسية'!AJ$6:AJ$306,SMALL(IF('بيانات اساسية'!$AL$6:$AL$306=\"معلم\",ROW(G$7:G$306)-ROW(G$7)+1),ROWS($A$3:G80))),\"\")","v":""},{"$f":"IFERROR(INDEX('بيانات اساسية'!AK$6:AK$306,SMALL(IF('بيانات اساسية'!$AL$6:$AL$306=\"معلم\",ROW(H$7:H$306)-ROW(H$7)+1),ROWS($A$3:H80))),\"\")","v":""}]
[{"$f":"IF(B82=\"\",\"\",SUBTOTAL(3,B$4:B82))","v":""},{"$f":"IFERROR(INDEX('بيانات اساسية'!B$6:B$306,SMALL(IF('بيانات اساسية'!$AL$6:$AL$306=\"معلم\",ROW(B$7:B$306)-ROW(B$7)+1),ROWS($A$3:B81))),\"\")","v":""},{"$f":"IFERROR(INDEX('بيانات اساسية'!C$6:C$306,SMALL(IF('بيانات اساسية'!$AL$6:$AL$306=\"معلم\",ROW(C$7:C$306)-ROW(C$7)+1),ROWS($A$3:C81))),\"\")","v":""},{"$f":"IFERROR(INDEX('بيانات اساسية'!AF$6:AF$306,SMALL(IF('بيانات اساسية'!$AL$6:$AL$306=\"معلم\",ROW(D$7:D$306)-ROW(D$7)+1),ROWS($A$3:D81))),\"\")","v":""},{"$f":"IFERROR(INDEX('بيانات اساسية'!AH$6:AH$306,SMALL(IF('بيانات اساسية'!$AL$6:$AL$306=\"معلم\",ROW(E$7:E$306)-ROW(E$7)+1),ROWS($A$3:E81))),\"\")","v":""},{"$f":"IFERROR(INDEX('بيانات اساسية'!AI$6:AI$306,SMALL(IF('بيانات اساسية'!$AL$6:$AL$306=\"معلم\",ROW(F$7:F$306)-ROW(F$7)+1),ROWS($A$3:F81))),\"\")","v":""},{"$f":"IFERROR(INDEX('بيانات اساسية'!AJ$6:AJ$306,SMALL(IF('بيانات اساسية'!$AL$6:$AL$306=\"معلم\",ROW(G$7:G$306)-ROW(G$7)+1),ROWS($A$3:G81))),\"\")","v":""},{"$f":"IFERROR(INDEX('بيانات اساسية'!AK$6:AK$306,SMALL(IF('بيانات اساسية'!$AL$6:$AL$306=\"معلم\",ROW(H$7:H$306)-ROW(H$7)+1),ROWS($A$3:H81))),\"\")","v":""}]
[{"$f":"IF(B83=\"\",\"\",SUBTOTAL(3,B$4:B83))","v":""},{"$f":"IFERROR(INDEX('بيانات اساسية'!B$6:B$306,SMALL(IF('بيانات اساسية'!$AL$6:$AL$306=\"معلم\",ROW(B$7:B$306)-ROW(B$7)+1),ROWS($A$3:B82))),\"\")","v":""},{"$f":"IFERROR(INDEX('بيانات اساسية'!C$6:C$306,SMALL(IF('بيانات اساسية'!$AL$6:$AL$306=\"معلم\",ROW(C$7:C$306)-ROW(C$7)+1),ROWS($A$3:C82))),\"\")","v":""},{"$f":"IFERROR(INDEX('بيانات اساسية'!AF$6:AF$306,SMALL(IF('بيانات اساسية'!$AL$6:$AL$306=\"معلم\",ROW(D$7:D$306)-ROW(D$7)+1),ROWS($A$3:D82))),\"\")","v":""},{"$f":"IFERROR(INDEX('بيانات اساسية'!AH$6:AH$306,SMALL(IF('بيانات اساسية'!$AL$6:$AL$306=\"معلم\",ROW(E$7:E$306)-ROW(E$7)+1),ROWS($A$3:E82))),\"\")","v":""},{"$f":"IFERROR(INDEX('بيانات اساسية'!AI$6:AI$306,SMALL(IF('بيانات اساسية'!$AL$6:$AL$306=\"معلم\",ROW(F$7:F$306)-ROW(F$7)+1),ROWS($A$3:F82))),\"\")","v":""},{"$f":"IFERROR(INDEX('بيانات اساسية'!AJ$6:AJ$306,SMALL(IF('بيانات اساسية'!$AL$6:$AL$306=\"معلم\",ROW(G$7:G$306)-ROW(G$7)+1),ROWS($A$3:G82))),\"\")","v":""},{"$f":"IFERROR(INDEX('بيانات اساسية'!AK$6:AK$306,SMALL(IF('بيانات اساسية'!$AL$6:$AL$306=\"معلم\",ROW(H$7:H$306)-ROW(H$7)+1),ROWS($A$3:H82))),\"\")","v":""}]
[{"$f":"IF(B84=\"\",\"\",SUBTOTAL(3,B$4:B84))","v":""},{"$f":"IFERROR(INDEX('بيانات اساسية'!B$6:B$306,SMALL(IF('بيانات اساسية'!$AL$6:$AL$306=\"معلم\",ROW(B$7:B$306)-ROW(B$7)+1),ROWS($A$3:B83))),\"\")","v":""},{"$f":"IFERROR(INDEX('بيانات اساسية'!C$6:C$306,SMALL(IF('بيانات اساسية'!$AL$6:$AL$306=\"معلم\",ROW(C$7:C$306)-ROW(C$7)+1),ROWS($A$3:C83))),\"\")","v":""},{"$f":"IFERROR(INDEX('بيانات اساسية'!AF$6:AF$306,SMALL(IF('بيانات اساسية'!$AL$6:$AL$306=\"معلم\",ROW(D$7:D$306)-ROW(D$7)+1),ROWS($A$3:D83))),\"\")","v":""},{"$f":"IFERROR(INDEX('بيانات اساسية'!AH$6:AH$306,SMALL(IF('بيانات اساسية'!$AL$6:$AL$306=\"معلم\",ROW(E$7:E$306)-ROW(E$7)+1),ROWS($A$3:E83))),\"\")","v":""},{"$f":"IFERROR(INDEX('بيانات اساسية'!AI$6:AI$306,SMALL(IF('بيانات اساسية'!$AL$6:$AL$306=\"معلم\",ROW(F$7:F$306)-ROW(F$7)+1),ROWS($A$3:F83))),\"\")","v":""},{"$f":"IFERROR(INDEX('بيانات اساسية'!AJ$6:AJ$306,SMALL(IF('بيانات اساسية'!$AL$6:$AL$306=\"معلم\",ROW(G$7:G$306)-ROW(G$7)+1),ROWS($A$3:G83))),\"\")","v":""},{"$f":"IFERROR(INDEX('بيانات اساسية'!AK$6:AK$306,SMALL(IF('بيانات اساسية'!$AL$6:$AL$306=\"معلم\",ROW(H$7:H$306)-ROW(H$7)+1),ROWS($A$3:H83))),\"\")","v":""}]
[{"$f":"IF(B85=\"\",\"\",SUBTOTAL(3,B$4:B85))","v":""},{"$f":"IFERROR(INDEX('بيانات اساسية'!B$6:B$306,SMALL(IF('بيانات اساسية'!$AL$6:$AL$306=\"معلم\",ROW(B$7:B$306)-ROW(B$7)+1),ROWS($A$3:B84))),\"\")","v":""},{"$f":"IFERROR(INDEX('بيانات اساسية'!C$6:C$306,SMALL(IF('بيانات اساسية'!$AL$6:$AL$306=\"معلم\",ROW(C$7:C$306)-ROW(C$7)+1),ROWS($A$3:C84))),\"\")","v":""},{"$f":"IFERROR(INDEX('بيانات اساسية'!AF$6:AF$306,SMALL(IF('بيانات اساسية'!$AL$6:$AL$306=\"معلم\",ROW(D$7:D$306)-ROW(D$7)+1),ROWS($A$3:D84))),\"\")","v":""},{"$f":"IFERROR(INDEX('بيانات اساسية'!AH$6:AH$306,SMALL(IF('بيانات اساسية'!$AL$6:$AL$306=\"معلم\",ROW(E$7:E$306)-ROW(E$7)+1),ROWS($A$3:E84))),\"\")","v":""},{"$f":"IFERROR(INDEX('بيانات اساسية'!AI$6:AI$306,SMALL(IF('بيانات اساسية'!$AL$6:$AL$306=\"معلم\",ROW(F$7:F$306)-ROW(F$7)+1),ROWS($A$3:F84))),\"\")","v":""},{"$f":"IFERROR(INDEX('بيانات اساسية'!AJ$6:AJ$306,SMALL(IF('بيانات اساسية'!$AL$6:$AL$306=\"معلم\",ROW(G$7:G$306)-ROW(G$7)+1),ROWS($A$3:G84))),\"\")","v":""},{"$f":"IFERROR(INDEX('بيانات اساسية'!AK$6:AK$306,SMALL(IF('بيانات اساسية'!$AL$6:$AL$306=\"معلم\",ROW(H$7:H$306)-ROW(H$7)+1),ROWS($A$3:H84))),\"\")","v":""}]
[{"$f":"IF(B86=\"\",\"\",SUBTOTAL(3,B$4:B86))","v":""},{"$f":"IFERROR(INDEX('بيانات اساسية'!B$6:B$306,SMALL(IF('بيانات اساسية'!$AL$6:$AL$306=\"معلم\",ROW(B$7:B$306)-ROW(B$7)+1),ROWS($A$3:B85))),\"\")","v":""},{"$f":"IFERROR(INDEX('بيانات اساسية'!C$6:C$306,SMALL(IF('بيانات اساسية'!$AL$6:$AL$306=\"معلم\",ROW(C$7:C$306)-ROW(C$7)+1),ROWS($A$3:C85))),\"\")","v":""},{"$f":"IFERROR(INDEX('بيانات اساسية'!AF$6:AF$306,SMALL(IF('بيانات اساسية'!$AL$6:$AL$306=\"معلم\",ROW(D$7:D$306)-ROW(D$7)+1),ROWS($A$3:D85))),\"\")","v":""},{"$f":"IFERROR(INDEX('بيانات اساسية'!AH$6:AH$306,SMALL(IF('بيانات اساسية'!$AL$6:$AL$306=\"معلم\",ROW(E$7:E$306)-ROW(E$7)+1),ROWS($A$3:E85))),\"\")","v":""},{"$f":"IFERROR(INDEX('بيانات اساسية'!AI$6:AI$306,SMALL(IF('بيانات اساسية'!$AL$6:$AL$306=\"معلم\",ROW(F$7:F$306)-ROW(F$7)+1),ROWS($A$3:F85))),\"\")","v":""},{"$f":"IFERROR(INDEX('بيانات اساسية'!AJ$6:AJ$306,SMALL(IF('بيانات اساسية'!$AL$6:$AL$306=\"معلم\",ROW(G$7:G$306)-ROW(G$7)+1),ROWS($A$3:G85))),\"\")","v":""},{"$f":"IFERROR(INDEX('بيانات اساسية'!AK$6:AK$306,SMALL(IF('بيانات اساسية'!$AL$6:$AL$306=\"معلم\",ROW(H$7:H$306)-ROW(H$7)+1),ROWS($A$3:H85))),\"\")","v":""}]
[{"$f":"IF(B87=\"\",\"\",SUBTOTAL(3,B$4:B87))","v":""},{"$f":"IFERROR(INDEX('بيانات اساسية'!B$6:B$306,SMALL(IF('بيانات اساسية'!$AL$6:$AL$306=\"معلم\",ROW(B$7:B$306)-ROW(B$7)+1),ROWS($A$3:B86))),\"\")","v":""},{"$f":"IFERROR(INDEX('بيانات اساسية'!C$6:C$306,SMALL(IF('بيانات اساسية'!$AL$6:$AL$306=\"معلم\",ROW(C$7:C$306)-ROW(C$7)+1),ROWS($A$3:C86))),\"\")","v":""},{"$f":"IFERROR(INDEX('بيانات اساسية'!AF$6:AF$306,SMALL(IF('بيانات اساسية'!$AL$6:$AL$306=\"معلم\",ROW(D$7:D$306)-ROW(D$7)+1),ROWS($A$3:D86))),\"\")","v":""},{"$f":"IFERROR(INDEX('بيانات اساسية'!AH$6:AH$306,SMALL(IF('بيانات اساسية'!$AL$6:$AL$306=\"معلم\",ROW(E$7:E$306)-ROW(E$7)+1),ROWS($A$3:E86))),\"\")","v":""},{"$f":"IFERROR(INDEX('بيانات اساسية'!AI$6:AI$306,SMALL(IF('بيانات اساسية'!$AL$6:$AL$306=\"معلم\",ROW(F$7:F$306)-ROW(F$7)+1),ROWS($A$3:F86))),\"\")","v":""},{"$f":"IFERROR(INDEX('بيانات اساسية'!AJ$6:AJ$306,SMALL(IF('بيانات اساسية'!$AL$6:$AL$306=\"معلم\",ROW(G$7:G$306)-ROW(G$7)+1),ROWS($A$3:G86))),\"\")","v":""},{"$f":"IFERROR(INDEX('بيانات اساسية'!AK$6:AK$306,SMALL(IF('بيانات اساسية'!$AL$6:$AL$306=\"معلم\",ROW(H$7:H$306)-ROW(H$7)+1),ROWS($A$3:H86))),\"\")","v":""}]
[{"$f":"IF(B88=\"\",\"\",SUBTOTAL(3,B$4:B88))","v":""},{"$f":"IFERROR(INDEX('بيانات اساسية'!B$6:B$306,SMALL(IF('بيانات اساسية'!$AL$6:$AL$306=\"معلم\",ROW(B$7:B$306)-ROW(B$7)+1),ROWS($A$3:B87))),\"\")","v":""},{"$f":"IFERROR(INDEX('بيانات اساسية'!C$6:C$306,SMALL(IF('بيانات اساسية'!$AL$6:$AL$306=\"معلم\",ROW(C$7:C$306)-ROW(C$7)+1),ROWS($A$3:C87))),\"\")","v":""},{"$f":"IFERROR(INDEX('بيانات اساسية'!AF$6:AF$306,SMALL(IF('بيانات اساسية'!$AL$6:$AL$306=\"معلم\",ROW(D$7:D$306)-ROW(D$7)+1),ROWS($A$3:D87))),\"\")","v":""},{"$f":"IFERROR(INDEX('بيانات اساسية'!AH$6:AH$306,SMALL(IF('بيانات اساسية'!$AL$6:$AL$306=\"معلم\",ROW(E$7:E$306)-ROW(E$7)+1),ROWS($A$3:E87))),\"\")","v":""},{"$f":"IFERROR(INDEX('بيانات اساسية'!AI$6:AI$306,SMALL(IF('بيانات اساسية'!$AL$6:$AL$306=\"معلم\",ROW(F$7:F$306)-ROW(F$7)+1),ROWS($A$3:F87))),\"\")","v":""},{"$f":"IFERROR(INDEX('بيانات اساسية'!AJ$6:AJ$306,SMALL(IF('بيانات اساسية'!$AL$6:$AL$306=\"معلم\",ROW(G$7:G$306)-ROW(G$7)+1),ROWS($A$3:G87))),\"\")","v":""},{"$f":"IFERROR(INDEX('بيانات اساسية'!AK$6:AK$306,SMALL(IF('بيانات اساسية'!$AL$6:$AL$306=\"معلم\",ROW(H$7:H$306)-ROW(H$7)+1),ROWS($A$3:H87))),\"\")","v":""}]
[{"$f":"IF(B89=\"\",\"\",SUBTOTAL(3,B$4:B89))","v":""},{"$f":"IFERROR(INDEX('بيانات اساسية'!B$6:B$306,SMALL(IF('بيانات اساسية'!$AL$6:$AL$306=\"معلم\",ROW(B$7:B$306)-ROW(B$7)+1),ROWS($A$3:B88))),\"\")","v":""},{"$f":"IFERROR(INDEX('بيانات اساسية'!C$6:C$306,SMALL(IF('بيانات اساسية'!$AL$6:$AL$306=\"معلم\",ROW(C$7:C$306)-ROW(C$7)+1),ROWS($A$3:C88))),\"\")","v":""},{"$f":"IFERROR(INDEX('بيانات اساسية'!AF$6:AF$306,SMALL(IF('بيانات اساسية'!$AL$6:$AL$306=\"معلم\",ROW(D$7:D$306)-ROW(D$7)+1),ROWS($A$3:D88))),\"\")","v":""},{"$f":"IFERROR(INDEX('بيانات اساسية'!AH$6:AH$306,SMALL(IF('بيانات اساسية'!$AL$6:$AL$306=\"معلم\",ROW(E$7:E$306)-ROW(E$7)+1),ROWS($A$3:E88))),\"\")","v":""},{"$f":"IFERROR(INDEX('بيانات اساسية'!AI$6:AI$306,SMALL(IF('بيانات اساسية'!$AL$6:$AL$306=\"معلم\",ROW(F$7:F$306)-ROW(F$7)+1),ROWS($A$3:F88))),\"\")","v":""},{"$f":"IFERROR(INDEX('بيانات اساسية'!AJ$6:AJ$306,SMALL(IF('بيانات اساسية'!$AL$6:$AL$306=\"معلم\",ROW(G$7:G$306)-ROW(G$7)+1),ROWS($A$3:G88))),\"\")","v":""},{"$f":"IFERROR(INDEX('بيانات اساسية'!AK$6:AK$306,SMALL(IF('بيانات اساسية'!$AL$6:$AL$306=\"معلم\",ROW(H$7:H$306)-ROW(H$7)+1),ROWS($A$3:H88))),\"\")","v":""}]
[{"$f":"IF(B90=\"\",\"\",SUBTOTAL(3,B$4:B90))","v":""},{"$f":"IFERROR(INDEX('بيانات اساسية'!B$6:B$306,SMALL(IF('بيانات اساسية'!$AL$6:$AL$306=\"معلم\",ROW(B$7:B$306)-ROW(B$7)+1),ROWS($A$3:B89))),\"\")","v":""},{"$f":"IFERROR(INDEX('بيانات اساسية'!C$6:C$306,SMALL(IF('بيانات اساسية'!$AL$6:$AL$306=\"معلم\",ROW(C$7:C$306)-ROW(C$7)+1),ROWS($A$3:C89))),\"\")","v":""},{"$f":"IFERROR(INDEX('بيانات اساسية'!AF$6:AF$306,SMALL(IF('بيانات اساسية'!$AL$6:$AL$306=\"معلم\",ROW(D$7:D$306)-ROW(D$7)+1),ROWS($A$3:D89))),\"\")","v":""},{"$f":"IFERROR(INDEX('بيانات اساسية'!AH$6:AH$306,SMALL(IF('بيانات اساسية'!$AL$6:$AL$306=\"معلم\",ROW(E$7:E$306)-ROW(E$7)+1),ROWS($A$3:E89))),\"\")","v":""},{"$f":"IFERROR(INDEX('بيانات اساسية'!AI$6:AI$306,SMALL(IF('بيانات اساسية'!$AL$6:$AL$306=\"معلم\",ROW(F$7:F$306)-ROW(F$7)+1),ROWS($A$3:F89))),\"\")","v":""},{"$f":"IFERROR(INDEX('بيانات اساسية'!AJ$6:AJ$306,SMALL(IF('بيانات اساسية'!$AL$6:$AL$306=\"معلم\",ROW(G$7:G$306)-ROW(G$7)+1),ROWS($A$3:G89))),\"\")","v":""},{"$f":"IFERROR(INDEX('بيانات اساسية'!AK$6:AK$306,SMALL(IF('بيانات اساسية'!$AL$6:$AL$306=\"معلم\",ROW(H$7:H$306)-ROW(H$7)+1),ROWS($A$3:H89))),\"\")","v":""}]
[{"$f":"IF(B91=\"\",\"\",SUBTOTAL(3,B$4:B91))","v":""},{"$f":"IFERROR(INDEX('بيانات اساسية'!B$6:B$306,SMALL(IF('بيانات اساسية'!$AL$6:$AL$306=\"معلم\",ROW(B$7:B$306)-ROW(B$7)+1),ROWS($A$3:B90))),\"\")","v":""},{"$f":"IFERROR(INDEX('بيانات اساسية'!C$6:C$306,SMALL(IF('بيانات اساسية'!$AL$6:$AL$306=\"معلم\",ROW(C$7:C$306)-ROW(C$7)+1),ROWS($A$3:C90))),\"\")","v":""},{"$f":"IFERROR(INDEX('بيانات اساسية'!AF$6:AF$306,SMALL(IF('بيانات اساسية'!$AL$6:$AL$306=\"معلم\",ROW(D$7:D$306)-ROW(D$7)+1),ROWS($A$3:D90))),\"\")","v":""},{"$f":"IFERROR(INDEX('بيانات اساسية'!AH$6:AH$306,SMALL(IF('بيانات اساسية'!$AL$6:$AL$306=\"معلم\",ROW(E$7:E$306)-ROW(E$7)+1),ROWS($A$3:E90))),\"\")","v":""},{"$f":"IFERROR(INDEX('بيانات اساسية'!AI$6:AI$306,SMALL(IF('بيانات اساسية'!$AL$6:$AL$306=\"معلم\",ROW(F$7:F$306)-ROW(F$7)+1),ROWS($A$3:F90))),\"\")","v":""},{"$f":"IFERROR(INDEX('بيانات اساسية'!AJ$6:AJ$306,SMALL(IF('بيانات اساسية'!$AL$6:$AL$306=\"معلم\",ROW(G$7:G$306)-ROW(G$7)+1),ROWS($A$3:G90))),\"\")","v":""},{"$f":"IFERROR(INDEX('بيانات اساسية'!AK$6:AK$306,SMALL(IF('بيانات اساسية'!$AL$6:$AL$306=\"معلم\",ROW(H$7:H$306)-ROW(H$7)+1),ROWS($A$3:H90))),\"\")","v":""}]
[{"$f":"IF(B92=\"\",\"\",SUBTOTAL(3,B$4:B92))","v":""},{"$f":"IFERROR(INDEX('بيانات اساسية'!B$6:B$306,SMALL(IF('بيانات اساسية'!$AL$6:$AL$306=\"معلم\",ROW(B$7:B$306)-ROW(B$7)+1),ROWS($A$3:B91))),\"\")","v":""},{"$f":"IFERROR(INDEX('بيانات اساسية'!C$6:C$306,SMALL(IF('بيانات اساسية'!$AL$6:$AL$306=\"معلم\",ROW(C$7:C$306)-ROW(C$7)+1),ROWS($A$3:C91))),\"\")","v":""},{"$f":"IFERROR(INDEX('بيانات اساسية'!AF$6:AF$306,SMALL(IF('بيانات اساسية'!$AL$6:$AL$306=\"معلم\",ROW(D$7:D$306)-ROW(D$7)+1),ROWS($A$3:D91))),\"\")","v":""},{"$f":"IFERROR(INDEX('بيانات اساسية'!AH$6:AH$306,SMALL(IF('بيانات اساسية'!$AL$6:$AL$306=\"معلم\",ROW(E$7:E$306)-ROW(E$7)+1),ROWS($A$3:E91))),\"\")","v":""},{"$f":"IFERROR(INDEX('بيانات اساسية'!AI$6:AI$306,SMALL(IF('بيانات اساسية'!$AL$6:$AL$306=\"معلم\",ROW(F$7:F$306)-ROW(F$7)+1),ROWS($A$3:F91))),\"\")","v":""},{"$f":"IFERROR(INDEX('بيانات اساسية'!AJ$6:AJ$306,SMALL(IF('بيانات اساسية'!$AL$6:$AL$306=\"معلم\",ROW(G$7:G$306)-ROW(G$7)+1),ROWS($A$3:G91))),\"\")","v":""},{"$f":"IFERROR(INDEX('بيانات اساسية'!AK$6:AK$306,SMALL(IF('بيانات اساسية'!$AL$6:$AL$306=\"معلم\",ROW(H$7:H$306)-ROW(H$7)+1),ROWS($A$3:H91))),\"\")","v":""}]
[{"$f":"IF(B93=\"\",\"\",SUBTOTAL(3,B$4:B93))","v":""},{"$f":"IFERROR(INDEX('بيانات اساسية'!B$6:B$306,SMALL(IF('بيانات اساسية'!$AL$6:$AL$306=\"معلم\",ROW(B$7:B$306)-ROW(B$7)+1),ROWS($A$3:B92))),\"\")","v":""},{"$f":"IFERROR(INDEX('بيانات اساسية'!C$6:C$306,SMALL(IF('بيانات اساسية'!$AL$6:$AL$306=\"معلم\",ROW(C$7:C$306)-ROW(C$7)+1),ROWS($A$3:C92))),\"\")","v":""},{"$f":"IFERROR(INDEX('بيانات اساسية'!AF$6:AF$306,SMALL(IF('بيانات اساسية'!$AL$6:$AL$306=\"معلم\",ROW(D$7:D$306)-ROW(D$7)+1),ROWS($A$3:D92))),\"\")","v":""},{"$f":"IFERROR(INDEX('بيانات اساسية'!AH$6:AH$306,SMALL(IF('بيانات اساسية'!$AL$6:$AL$306=\"معلم\",ROW(E$7:E$306)-ROW(E$7)+1),ROWS($A$3:E92))),\"\")","v":""},{"$f":"IFERROR(INDEX('بيانات اساسية'!AI$6:AI$306,SMALL(IF('بيانات اساسية'!$AL$6:$AL$306=\"معلم\",ROW(F$7:F$306)-ROW(F$7)+1),ROWS($A$3:F92))),\"\")","v":""},{"$f":"IFERROR(INDEX('بيانات اساسية'!AJ$6:AJ$306,SMALL(IF('بيانات اساسية'!$AL$6:$AL$306=\"معلم\",ROW(G$7:G$306)-ROW(G$7)+1),ROWS($A$3:G92))),\"\")","v":""},{"$f":"IFERROR(INDEX('بيانات اساسية'!AK$6:AK$306,SMALL(IF('بيانات اساسية'!$AL$6:$AL$306=\"معلم\",ROW(H$7:H$306)-ROW(H$7)+1),ROWS($A$3:H92))),\"\")","v":""}]
[{"$f":"IF(B94=\"\",\"\",SUBTOTAL(3,B$4:B94))","v":""},{"$f":"IFERROR(INDEX('بيانات اساسية'!B$6:B$306,SMALL(IF('بيانات اساسية'!$AL$6:$AL$306=\"معلم\",ROW(B$7:B$306)-ROW(B$7)+1),ROWS($A$3:B93))),\"\")","v":""},{"$f":"IFERROR(INDEX('بيانات اساسية'!C$6:C$306,SMALL(IF('بيانات اساسية'!$AL$6:$AL$306=\"معلم\",ROW(C$7:C$306)-ROW(C$7)+1),ROWS($A$3:C93))),\"\")","v":""},{"$f":"IFERROR(INDEX('بيانات اساسية'!AF$6:AF$306,SMALL(IF('بيانات اساسية'!$AL$6:$AL$306=\"معلم\",ROW(D$7:D$306)-ROW(D$7)+1),ROWS($A$3:D93))),\"\")","v":""},{"$f":"IFERROR(INDEX('بيانات اساسية'!AH$6:AH$306,SMALL(IF('بيانات اساسية'!$AL$6:$AL$306=\"معلم\",ROW(E$7:E$306)-ROW(E$7)+1),ROWS($A$3:E93))),\"\")","v":""},{"$f":"IFERROR(INDEX('بيانات اساسية'!AI$6:AI$306,SMALL(IF('بيانات اساسية'!$AL$6:$AL$306=\"معلم\",ROW(F$7:F$306)-ROW(F$7)+1),ROWS($A$3:F93))),\"\")","v":""},{"$f":"IFERROR(INDEX('بيانات اساسية'!AJ$6:AJ$306,SMALL(IF('بيانات اساسية'!$AL$6:$AL$306=\"معلم\",ROW(G$7:G$306)-ROW(G$7)+1),ROWS($A$3:G93))),\"\")","v":""},{"$f":"IFERROR(INDEX('بيانات اساسية'!AK$6:AK$306,SMALL(IF('بيانات اساسية'!$AL$6:$AL$306=\"معلم\",ROW(H$7:H$306)-ROW(H$7)+1),ROWS($A$3:H93))),\"\")","v":""}]
[{"$f":"IF(B95=\"\",\"\",SUBTOTAL(3,B$4:B95))","v":""},{"$f":"IFERROR(INDEX('بيانات اساسية'!B$6:B$306,SMALL(IF('بيانات اساسية'!$AL$6:$AL$306=\"معلم\",ROW(B$7:B$306)-ROW(B$7)+1),ROWS($A$3:B94))),\"\")","v":""},{"$f":"IFERROR(INDEX('بيانات اساسية'!C$6:C$306,SMALL(IF('بيانات اساسية'!$AL$6:$AL$306=\"معلم\",ROW(C$7:C$306)-ROW(C$7)+1),ROWS($A$3:C94))),\"\")","v":""},{"$f":"IFERROR(INDEX('بيانات اساسية'!AF$6:AF$306,SMALL(IF('بيانات اساسية'!$AL$6:$AL$306=\"معلم\",ROW(D$7:D$306)-ROW(D$7)+1),ROWS($A$3:D94))),\"\")","v":""},{"$f":"IFERROR(INDEX('بيانات اساسية'!AH$6:AH$306,SMALL(IF('بيانات اساسية'!$AL$6:$AL$306=\"معلم\",ROW(E$7:E$306)-ROW(E$7)+1),ROWS($A$3:E94))),\"\")","v":""},{"$f":"IFERROR(INDEX('بيانات اساسية'!AI$6:AI$306,SMALL(IF('بيانات اساسية'!$AL$6:$AL$306=\"معلم\",ROW(F$7:F$306)-ROW(F$7)+1),ROWS($A$3:F94))),\"\")","v":""},{"$f":"IFERROR(INDEX('بيانات اساسية'!AJ$6:AJ$306,SMALL(IF('بيانات اساسية'!$AL$6:$AL$306=\"معلم\",ROW(G$7:G$306)-ROW(G$7)+1),ROWS($A$3:G94))),\"\")","v":""},{"$f":"IFERROR(INDEX('بيانات اساسية'!AK$6:AK$306,SMALL(IF('بيانات اساسية'!$AL$6:$AL$306=\"معلم\",ROW(H$7:H$306)-ROW(H$7)+1),ROWS($A$3:H94))),\"\")","v":""}]
[{"$f":"IF(B96=\"\",\"\",SUBTOTAL(3,B$4:B96))","v":""},{"$f":"IFERROR(INDEX('بيانات اساسية'!B$6:B$306,SMALL(IF('بيانات اساسية'!$AL$6:$AL$306=\"معلم\",ROW(B$7:B$306)-ROW(B$7)+1),ROWS($A$3:B95))),\"\")","v":""},{"$f":"IFERROR(INDEX('بيانات اساسية'!C$6:C$306,SMALL(IF('بيانات اساسية'!$AL$6:$AL$306=\"معلم\",ROW(C$7:C$306)-ROW(C$7)+1),ROWS($A$3:C95))),\"\")","v":""},{"$f":"IFERROR(INDEX('بيانات اساسية'!AF$6:AF$306,SMALL(IF('بيانات اساسية'!$AL$6:$AL$306=\"معلم\",ROW(D$7:D$306)-ROW(D$7)+1),ROWS($A$3:D95))),\"\")","v":""},{"$f":"IFERROR(INDEX('بيانات اساسية'!AH$6:AH$306,SMALL(IF('بيانات اساسية'!$AL$6:$AL$306=\"معلم\",ROW(E$7:E$306)-ROW(E$7)+1),ROWS($A$3:E95))),\"\")","v":""},{"$f":"IFERROR(INDEX('بيانات اساسية'!AI$6:AI$306,SMALL(IF('بيانات اساسية'!$AL$6:$AL$306=\"معلم\",ROW(F$7:F$306)-ROW(F$7)+1),ROWS($A$3:F95))),\"\")","v":""},{"$f":"IFERROR(INDEX('بيانات اساسية'!AJ$6:AJ$306,SMALL(IF('بيانات اساسية'!$AL$6:$AL$306=\"معلم\",ROW(G$7:G$306)-ROW(G$7)+1),ROWS($A$3:G95))),\"\")","v":""},{"$f":"IFERROR(INDEX('بيانات اساسية'!AK$6:AK$306,SMALL(IF('بيانات اساسية'!$AL$6:$AL$306=\"معلم\",ROW(H$7:H$306)-ROW(H$7)+1),ROWS($A$3:H95))),\"\")","v":""}]
[{"$f":"IF(B97=\"\",\"\",SUBTOTAL(3,B$4:B97))","v":""},{"$f":"IFERROR(INDEX('بيانات اساسية'!B$6:B$306,SMALL(IF('بيانات اساسية'!$AL$6:$AL$306=\"معلم\",ROW(B$7:B$306)-ROW(B$7)+1),ROWS($A$3:B96))),\"\")","v":""},{"$f":"IFERROR(INDEX('بيانات اساسية'!C$6:C$306,SMALL(IF('بيانات اساسية'!$AL$6:$AL$306=\"معلم\",ROW(C$7:C$306)-ROW(C$7)+1),ROWS($A$3:C96))),\"\")","v":""},{"$f":"IFERROR(INDEX('بيانات اساسية'!AF$6:AF$306,SMALL(IF('بيانات اساسية'!$AL$6:$AL$306=\"معلم\",ROW(D$7:D$306)-ROW(D$7)+1),ROWS($A$3:D96))),\"\")","v":""},{"$f":"IFERROR(INDEX('بيانات اساسية'!AH$6:AH$306,SMALL(IF('بيانات اساسية'!$AL$6:$AL$306=\"معلم\",ROW(E$7:E$306)-ROW(E$7)+1),ROWS($A$3:E96))),\"\")","v":""},{"$f":"IFERROR(INDEX('بيانات اساسية'!AI$6:AI$306,SMALL(IF('بيانات اساسية'!$AL$6:$AL$306=\"معلم\",ROW(F$7:F$306)-ROW(F$7)+1),ROWS($A$3:F96))),\"\")","v":""},{"$f":"IFERROR(INDEX('بيانات اساسية'!AJ$6:AJ$306,SMALL(IF('بيانات اساسية'!$AL$6:$AL$306=\"معلم\",ROW(G$7:G$306)-ROW(G$7)+1),ROWS($A$3:G96))),\"\")","v":""},{"$f":"IFERROR(INDEX('بيانات اساسية'!AK$6:AK$306,SMALL(IF('بيانات اساسية'!$AL$6:$AL$306=\"معلم\",ROW(H$7:H$306)-ROW(H$7)+1),ROWS($A$3:H96))),\"\")","v":""}]
[{"$f":"IF(B98=\"\",\"\",SUBTOTAL(3,B$4:B98))","v":""},{"$f":"IFERROR(INDEX('بيانات اساسية'!B$6:B$306,SMALL(IF('بيانات اساسية'!$AL$6:$AL$306=\"معلم\",ROW(B$7:B$306)-ROW(B$7)+1),ROWS($A$3:B97))),\"\")","v":""},{"$f":"IFERROR(INDEX('بيانات اساسية'!C$6:C$306,SMALL(IF('بيانات اساسية'!$AL$6:$AL$306=\"معلم\",ROW(C$7:C$306)-ROW(C$7)+1),ROWS($A$3:C97))),\"\")","v":""},{"$f":"IFERROR(INDEX('بيانات اساسية'!AF$6:AF$306,SMALL(IF('بيانات اساسية'!$AL$6:$AL$306=\"معلم\",ROW(D$7:D$306)-ROW(D$7)+1),ROWS($A$3:D97))),\"\")","v":""},{"$f":"IFERROR(INDEX('بيانات اساسية'!AH$6:AH$306,SMALL(IF('بيانات اساسية'!$AL$6:$AL$306=\"معلم\",ROW(E$7:E$306)-ROW(E$7)+1),ROWS($A$3:E97))),\"\")","v":""},{"$f":"IFERROR(INDEX('بيانات اساسية'!AI$6:AI$306,SMALL(IF('بيانات اساسية'!$AL$6:$AL$306=\"معلم\",ROW(F$7:F$306)-ROW(F$7)+1),ROWS($A$3:F97))),\"\")","v":""},{"$f":"IFERROR(INDEX('بيانات اساسية'!AJ$6:AJ$306,SMALL(IF('بيانات اساسية'!$AL$6:$AL$306=\"معلم\",ROW(G$7:G$306)-ROW(G$7)+1),ROWS($A$3:G97))),\"\")","v":""},{"$f":"IFERROR(INDEX('بيانات اساسية'!AK$6:AK$306,SMALL(IF('بيانات اساسية'!$AL$6:$AL$306=\"معلم\",ROW(H$7:H$306)-ROW(H$7)+1),ROWS($A$3:H97))),\"\")","v":""}]
[{"$f":"IF(B99=\"\",\"\",SUBTOTAL(3,B$4:B99))","v":""},{"$f":"IFERROR(INDEX('بيانات اساسية'!B$6:B$306,SMALL(IF('بيانات اساسية'!$AL$6:$AL$306=\"معلم\",ROW(B$7:B$306)-ROW(B$7)+1),ROWS($A$3:B98))),\"\")","v":""},{"$f":"IFERROR(INDEX('بيانات اساسية'!C$6:C$306,SMALL(IF('بيانات اساسية'!$AL$6:$AL$306=\"معلم\",ROW(C$7:C$306)-ROW(C$7)+1),ROWS($A$3:C98))),\"\")","v":""},{"$f":"IFERROR(INDEX('بيانات اساسية'!AF$6:AF$306,SMALL(IF('بيانات اساسية'!$AL$6:$AL$306=\"معلم\",ROW(D$7:D$306)-ROW(D$7)+1),ROWS($A$3:D98))),\"\")","v":""},{"$f":"IFERROR(INDEX('بيانات اساسية'!AH$6:AH$306,SMALL(IF('بيانات اساسية'!$AL$6:$AL$306=\"معلم\",ROW(E$7:E$306)-ROW(E$7)+1),ROWS($A$3:E98))),\"\")","v":""},{"$f":"IFERROR(INDEX('بيانات اساسية'!AI$6:AI$306,SMALL(IF('بيانات اساسية'!$AL$6:$AL$306=\"معلم\",ROW(F$7:F$306)-ROW(F$7)+1),ROWS($A$3:F98))),\"\")","v":""},{"$f":"IFERROR(INDEX('بيانات اساسية'!AJ$6:AJ$306,SMALL(IF('بيانات اساسية'!$AL$6:$AL$306=\"معلم\",ROW(G$7:G$306)-ROW(G$7)+1),ROWS($A$3:G98))),\"\")","v":""},{"$f":"IFERROR(INDEX('بيانات اساسية'!AK$6:AK$306,SMALL(IF('بيانات اساسية'!$AL$6:$AL$306=\"معلم\",ROW(H$7:H$306)-ROW(H$7)+1),ROWS($A$3:H98))),\"\")","v":""}]
[{"$f":"IF(B100=\"\",\"\",SUBTOTAL(3,B$4:B100))","v":""},{"$f":"IFERROR(INDEX('بيانات اساسية'!B$6:B$306,SMALL(IF('بيانات اساسية'!$AL$6:$AL$306=\"معلم\",ROW(B$7:B$306)-ROW(B$7)+1),ROWS($A$3:B99))),\"\")","v":""},{"$f":"IFERROR(INDEX('بيانات اساسية'!C$6:C$306,SMALL(IF('بيانات اساسية'!$AL$6:$AL$306=\"معلم\",ROW(C$7:C$306)-ROW(C$7)+1),ROWS($A$3:C99))),\"\")","v":""},{"$f":"IFERROR(INDEX('بيانات اساسية'!AF$6:AF$306,SMALL(IF('بيانات اساسية'!$AL$6:$AL$306=\"معلم\",ROW(D$7:D$306)-ROW(D$7)+1),ROWS($A$3:D99))),\"\")","v":""},{"$f":"IFERROR(INDEX('بيانات اساسية'!AH$6:AH$306,SMALL(IF('بيانات اساسية'!$AL$6:$AL$306=\"معلم\",ROW(E$7:E$306)-ROW(E$7)+1),ROWS($A$3:E99))),\"\")","v":""},{"$f":"IFERROR(INDEX('بيانات اساسية'!AI$6:AI$306,SMALL(IF('بيانات اساسية'!$AL$6:$AL$306=\"معلم\",ROW(F$7:F$306)-ROW(F$7)+1),ROWS($A$3:F99))),\"\")","v":""},{"$f":"IFERROR(INDEX('بيانات اساسية'!AJ$6:AJ$306,SMALL(IF('بيانات اساسية'!$AL$6:$AL$306=\"معلم\",ROW(G$7:G$306)-ROW(G$7)+1),ROWS($A$3:G99))),\"\")","v":""},{"$f":"IFERROR(INDEX('بيانات اساسية'!AK$6:AK$306,SMALL(IF('بيانات اساسية'!$AL$6:$AL$306=\"معلم\",ROW(H$7:H$306)-ROW(H$7)+1),ROWS($A$3:H99))),\"\")","v":""}]
[{"$f":"IF(B101=\"\",\"\",SUBTOTAL(3,B$4:B101))","v":""},{"$f":"IFERROR(INDEX('بيانات اساسية'!B$6:B$306,SMALL(IF('بيانات اساسية'!$AL$6:$AL$306=\"معلم\",ROW(B$7:B$306)-ROW(B$7)+1),ROWS($A$3:B100))),\"\")","v":""},{"$f":"IFERROR(INDEX('بيانات اساسية'!C$6:C$306,SMALL(IF('بيانات اساسية'!$AL$6:$AL$306=\"معلم\",ROW(C$7:C$306)-ROW(C$7)+1),ROWS($A$3:C100))),\"\")","v":""},{"$f":"IFERROR(INDEX('بيانات اساسية'!AF$6:AF$306,SMALL(IF('بيانات اساسية'!$AL$6:$AL$306=\"معلم\",ROW(D$7:D$306)-ROW(D$7)+1),ROWS($A$3:D100))),\"\")","v":""},{"$f":"IFERROR(INDEX('بيانات اساسية'!AH$6:AH$306,SMALL(IF('بيانات اساسية'!$AL$6:$AL$306=\"معلم\",ROW(E$7:E$306)-ROW(E$7)+1),ROWS($A$3:E100))),\"\")","v":""},{"$f":"IFERROR(INDEX('بيانات اساسية'!AI$6:AI$306,SMALL(IF('بيانات اساسية'!$AL$6:$AL$306=\"معلم\",ROW(F$7:F$306)-ROW(F$7)+1),ROWS($A$3:F100))),\"\")","v":""},{"$f":"IFERROR(INDEX('بيانات اساسية'!AJ$6:AJ$306,SMALL(IF('بيانات اساسية'!$AL$6:$AL$306=\"معلم\",ROW(G$7:G$306)-ROW(G$7)+1),ROWS($A$3:G100))),\"\")","v":""},{"$f":"IFERROR(INDEX('بيانات اساسية'!AK$6:AK$306,SMALL(IF('بيانات اساسية'!$AL$6:$AL$306=\"معلم\",ROW(H$7:H$306)-ROW(H$7)+1),ROWS($A$3:H100))),\"\")","v":""}]
[{"$f":"IF(B102=\"\",\"\",SUBTOTAL(3,B$4:B102))","v":""},{"$f":"IFERROR(INDEX('بيانات اساسية'!B$6:B$306,SMALL(IF('بيانات اساسية'!$AL$6:$AL$306=\"معلم\",ROW(B$7:B$306)-ROW(B$7)+1),ROWS($A$3:B101))),\"\")","v":""},{"$f":"IFERROR(INDEX('بيانات اساسية'!C$6:C$306,SMALL(IF('بيانات اساسية'!$AL$6:$AL$306=\"معلم\",ROW(C$7:C$306)-ROW(C$7)+1),ROWS($A$3:C101))),\"\")","v":""},{"$f":"IFERROR(INDEX('بيانات اساسية'!AF$6:AF$306,SMALL(IF('بيانات اساسية'!$AL$6:$AL$306=\"معلم\",ROW(D$7:D$306)-ROW(D$7)+1),ROWS($A$3:D101))),\"\")","v":""},{"$f":"IFERROR(INDEX('بيانات اساسية'!AH$6:AH$306,SMALL(IF('بيانات اساسية'!$AL$6:$AL$306=\"معلم\",ROW(E$7:E$306)-ROW(E$7)+1),ROWS($A$3:E101))),\"\")","v":""},{"$f":"IFERROR(INDEX('بيانات اساسية'!AI$6:AI$306,SMALL(IF('بيانات اساسية'!$AL$6:$AL$306=\"معلم\",ROW(F$7:F$306)-ROW(F$7)+1),ROWS($A$3:F101))),\"\")","v":""},{"$f":"IFERROR(INDEX('بيانات اساسية'!AJ$6:AJ$306,SMALL(IF('بيانات اساسية'!$AL$6:$AL$306=\"معلم\",ROW(G$7:G$306)-ROW(G$7)+1),ROWS($A$3:G101))),\"\")","v":""},{"$f":"IFERROR(INDEX('بيانات اساسية'!AK$6:AK$306,SMALL(IF('بيانات اساسية'!$AL$6:$AL$306=\"معلم\",ROW(H$7:H$306)-ROW(H$7)+1),ROWS($A$3:H101))),\"\")","v":""}]
[{"$f":"IF(B103=\"\",\"\",SUBTOTAL(3,B$4:B103))","v":""},{"$f":"IFERROR(INDEX('بيانات اساسية'!B$6:B$306,SMALL(IF('بيانات اساسية'!$AL$6:$AL$306=\"معلم\",ROW(B$7:B$306)-ROW(B$7)+1),ROWS($A$3:B102))),\"\")","v":""},{"$f":"IFERROR(INDEX('بيانات اساسية'!C$6:C$306,SMALL(IF('بيانات اساسية'!$AL$6:$AL$306=\"معلم\",ROW(C$7:C$306)-ROW(C$7)+1),ROWS($A$3:C102))),\"\")","v":""},{"$f":"IFERROR(INDEX('بيانات اساسية'!AF$6:AF$306,SMALL(IF('بيانات اساسية'!$AL$6:$AL$306=\"معلم\",ROW(D$7:D$306)-ROW(D$7)+1),ROWS($A$3:D102))),\"\")","v":""},{"$f":"IFERROR(INDEX('بيانات اساسية'!AH$6:AH$306,SMALL(IF('بيانات اساسية'!$AL$6:$AL$306=\"معلم\",ROW(E$7:E$306)-ROW(E$7)+1),ROWS($A$3:E102))),\"\")","v":""},{"$f":"IFERROR(INDEX('بيانات اساسية'!AI$6:AI$306,SMALL(IF('بيانات اساسية'!$AL$6:$AL$306=\"معلم\",ROW(F$7:F$306)-ROW(F$7)+1),ROWS($A$3:F102))),\"\")","v":""},{"$f":"IFERROR(INDEX('بيانات اساسية'!AJ$6:AJ$306,SMALL(IF('بيانات اساسية'!$AL$6:$AL$306=\"معلم\",ROW(G$7:G$306)-ROW(G$7)+1),ROWS($A$3:G102))),\"\")","v":""},{"$f":"IFERROR(INDEX('بيانات اساسية'!AK$6:AK$306,SMALL(IF('بيانات اساسية'!$AL$6:$AL$306=\"معلم\",ROW(H$7:H$306)-ROW(H$7)+1),ROWS($A$3:H102))),\"\")","v":""}]
[{"$f":"IF(B104=\"\",\"\",SUBTOTAL(3,B$4:B104))","v":""},{"$f":"IFERROR(INDEX('بيانات اساسية'!B$6:B$306,SMALL(IF('بيانات اساسية'!$AL$6:$AL$306=\"معلم\",ROW(B$7:B$306)-ROW(B$7)+1),ROWS($A$3:B103))),\"\")","v":""},{"$f":"IFERROR(INDEX('بيانات اساسية'!C$6:C$306,SMALL(IF('بيانات اساسية'!$AL$6:$AL$306=\"معلم\",ROW(C$7:C$306)-ROW(C$7)+1),ROWS($A$3:C103))),\"\")","v":""},{"$f":"IFERROR(INDEX('بيانات اساسية'!AF$6:AF$306,SMALL(IF('بيانات اساسية'!$AL$6:$AL$306=\"معلم\",ROW(D$7:D$306)-ROW(D$7)+1),ROWS($A$3:D103))),\"\")","v":""},{"$f":"IFERROR(INDEX('بيانات اساسية'!AH$6:AH$306,SMALL(IF('بيانات اساسية'!$AL$6:$AL$306=\"معلم\",ROW(E$7:E$306)-ROW(E$7)+1),ROWS($A$3:E103))),\"\")","v":""},{"$f":"IFERROR(INDEX('بيانات اساسية'!AI$6:AI$306,SMALL(IF('بيانات اساسية'!$AL$6:$AL$306=\"معلم\",ROW(F$7:F$306)-ROW(F$7)+1),ROWS($A$3:F103))),\"\")","v":""},{"$f":"IFERROR(INDEX('بيانات اساسية'!AJ$6:AJ$306,SMALL(IF('بيانات اساسية'!$AL$6:$AL$306=\"معلم\",ROW(G$7:G$306)-ROW(G$7)+1),ROWS($A$3:G103))),\"\")","v":""},{"$f":"IFERROR(INDEX('بيانات اساسية'!AK$6:AK$306,SMALL(IF('بيانات اساسية'!$AL$6:$AL$306=\"معلم\",ROW(H$7:H$306)-ROW(H$7)+1),ROWS($A$3:H103))),\"\")","v":""}]
[{"$f":"IF(B105=\"\",\"\",SUBTOTAL(3,B$4:B105))","v":""},{"$f":"IFERROR(INDEX('بيانات اساسية'!B$6:B$306,SMALL(IF('بيانات اساسية'!$AL$6:$AL$306=\"معلم\",ROW(B$7:B$306)-ROW(B$7)+1),ROWS($A$3:B104))),\"\")","v":""},{"$f":"IFERROR(INDEX('بيانات اساسية'!C$6:C$306,SMALL(IF('بيانات اساسية'!$AL$6:$AL$306=\"معلم\",ROW(C$7:C$306)-ROW(C$7)+1),ROWS($A$3:C104))),\"\")","v":""},{"$f":"IFERROR(INDEX('بيانات اساسية'!AF$6:AF$306,SMALL(IF('بيانات اساسية'!$AL$6:$AL$306=\"معلم\",ROW(D$7:D$306)-ROW(D$7)+1),ROWS($A$3:D104))),\"\")","v":""},{"$f":"IFERROR(INDEX('بيانات اساسية'!AH$6:AH$306,SMALL(IF('بيانات اساسية'!$AL$6:$AL$306=\"معلم\",ROW(E$7:E$306)-ROW(E$7)+1),ROWS($A$3:E104))),\"\")","v":""},{"$f":"IFERROR(INDEX('بيانات اساسية'!AI$6:AI$306,SMALL(IF('بيانات اساسية'!$AL$6:$AL$306=\"معلم\",ROW(F$7:F$306)-ROW(F$7)+1),ROWS($A$3:F104))),\"\")","v":""},{"$f":"IFERROR(INDEX('بيانات اساسية'!AJ$6:AJ$306,SMALL(IF('بيانات اساسية'!$AL$6:$AL$306=\"معلم\",ROW(G$7:G$306)-ROW(G$7)+1),ROWS($A$3:G104))),\"\")","v":""},{"$f":"IFERROR(INDEX('بيانات اساسية'!AK$6:AK$306,SMALL(IF('بيانات اساسية'!$AL$6:$AL$306=\"معلم\",ROW(H$7:H$306)-ROW(H$7)+1),ROWS($A$3:H104))),\"\")","v":""}]
[{"$f":"IF(B106=\"\",\"\",SUBTOTAL(3,B$4:B106))","v":""},{"$f":"IFERROR(INDEX('بيانات اساسية'!B$6:B$306,SMALL(IF('بيانات اساسية'!$AL$6:$AL$306=\"معلم\",ROW(B$7:B$306)-ROW(B$7)+1),ROWS($A$3:B105))),\"\")","v":""},{"$f":"IFERROR(INDEX('بيانات اساسية'!C$6:C$306,SMALL(IF('بيانات اساسية'!$AL$6:$AL$306=\"معلم\",ROW(C$7:C$306)-ROW(C$7)+1),ROWS($A$3:C105))),\"\")","v":""},{"$f":"IFERROR(INDEX('بيانات اساسية'!AF$6:AF$306,SMALL(IF('بيانات اساسية'!$AL$6:$AL$306=\"معلم\",ROW(D$7:D$306)-ROW(D$7)+1),ROWS($A$3:D105))),\"\")","v":""},{"$f":"IFERROR(INDEX('بيانات اساسية'!AH$6:AH$306,SMALL(IF('بيانات اساسية'!$AL$6:$AL$306=\"معلم\",ROW(E$7:E$306)-ROW(E$7)+1),ROWS($A$3:E105))),\"\")","v":""},{"$f":"IFERROR(INDEX('بيانات اساسية'!AI$6:AI$306,SMALL(IF('بيانات اساسية'!$AL$6:$AL$306=\"معلم\",ROW(F$7:F$306)-ROW(F$7)+1),ROWS($A$3:F105))),\"\")","v":""},{"$f":"IFERROR(INDEX('بيانات اساسية'!AJ$6:AJ$306,SMALL(IF('بيانات اساسية'!$AL$6:$AL$306=\"معلم\",ROW(G$7:G$306)-ROW(G$7)+1),ROWS($A$3:G105))),\"\")","v":""},{"$f":"IFERROR(INDEX('بيانات اساسية'!AK$6:AK$306,SMALL(IF('بيانات اساسية'!$AL$6:$AL$306=\"معلم\",ROW(H$7:H$306)-ROW(H$7)+1),ROWS($A$3:H105))),\"\")","v":""}]
[{"$f":"IF(B107=\"\",\"\",SUBTOTAL(3,B$4:B107))","v":""},{"$f":"IFERROR(INDEX('بيانات اساسية'!B$6:B$306,SMALL(IF('بيانات اساسية'!$AL$6:$AL$306=\"معلم\",ROW(B$7:B$306)-ROW(B$7)+1),ROWS($A$3:B106))),\"\")","v":""},{"$f":"IFERROR(INDEX('بيانات اساسية'!C$6:C$306,SMALL(IF('بيانات اساسية'!$AL$6:$AL$306=\"معلم\",ROW(C$7:C$306)-ROW(C$7)+1),ROWS($A$3:C106))),\"\")","v":""},{"$f":"IFERROR(INDEX('بيانات اساسية'!AF$6:AF$306,SMALL(IF('بيانات اساسية'!$AL$6:$AL$306=\"معلم\",ROW(D$7:D$306)-ROW(D$7)+1),ROWS($A$3:D106))),\"\")","v":""},{"$f":"IFERROR(INDEX('بيانات اساسية'!AH$6:AH$306,SMALL(IF('بيانات اساسية'!$AL$6:$AL$306=\"معلم\",ROW(E$7:E$306)-ROW(E$7)+1),ROWS($A$3:E106))),\"\")","v":""},{"$f":"IFERROR(INDEX('بيانات اساسية'!AI$6:AI$306,SMALL(IF('بيانات اساسية'!$AL$6:$AL$306=\"معلم\",ROW(F$7:F$306)-ROW(F$7)+1),ROWS($A$3:F106))),\"\")","v":""},{"$f":"IFERROR(INDEX('بيانات اساسية'!AJ$6:AJ$306,SMALL(IF('بيانات اساسية'!$AL$6:$AL$306=\"معلم\",ROW(G$7:G$306)-ROW(G$7)+1),ROWS($A$3:G106))),\"\")","v":""},{"$f":"IFERROR(INDEX('بيانات اساسية'!AK$6:AK$306,SMALL(IF('بيانات اساسية'!$AL$6:$AL$306=\"معلم\",ROW(H$7:H$306)-ROW(H$7)+1),ROWS($A$3:H106))),\"\")","v":""}]
[{"$f":"IF(B108=\"\",\"\",SUBTOTAL(3,B$4:B108))","v":""},{"$f":"IFERROR(INDEX('بيانات اساسية'!B$6:B$306,SMALL(IF('بيانات اساسية'!$AL$6:$AL$306=\"معلم\",ROW(B$7:B$306)-ROW(B$7)+1),ROWS($A$3:B107))),\"\")","v":""},{"$f":"IFERROR(INDEX('بيانات اساسية'!C$6:C$306,SMALL(IF('بيانات اساسية'!$AL$6:$AL$306=\"معلم\",ROW(C$7:C$306)-ROW(C$7)+1),ROWS($A$3:C107))),\"\")","v":""},{"$f":"IFERROR(INDEX('بيانات اساسية'!AF$6:AF$306,SMALL(IF('بيانات اساسية'!$AL$6:$AL$306=\"معلم\",ROW(D$7:D$306)-ROW(D$7)+1),ROWS($A$3:D107))),\"\")","v":""},{"$f":"IFERROR(INDEX('بيانات اساسية'!AH$6:AH$306,SMALL(IF('بيانات اساسية'!$AL$6:$AL$306=\"معلم\",ROW(E$7:E$306)-ROW(E$7)+1),ROWS($A$3:E107))),\"\")","v":""},{"$f":"IFERROR(INDEX('بيانات اساسية'!AI$6:AI$306,SMALL(IF('بيانات اساسية'!$AL$6:$AL$306=\"معلم\",ROW(F$7:F$306)-ROW(F$7)+1),ROWS($A$3:F107))),\"\")","v":""},{"$f":"IFERROR(INDEX('بيانات اساسية'!AJ$6:AJ$306,SMALL(IF('بيانات اساسية'!$AL$6:$AL$306=\"معلم\",ROW(G$7:G$306)-ROW(G$7)+1),ROWS($A$3:G107))),\"\")","v":""},{"$f":"IFERROR(INDEX('بيانات اساسية'!AK$6:AK$306,SMALL(IF('بيانات اساسية'!$AL$6:$AL$306=\"معلم\",ROW(H$7:H$306)-ROW(H$7)+1),ROWS($A$3:H107))),\"\")","v":""}]
[{"$f":"IF(B109=\"\",\"\",SUBTOTAL(3,B$4:B109))","v":""},{"$f":"IFERROR(INDEX('بيانات اساسية'!B$6:B$306,SMALL(IF('بيانات اساسية'!$AL$6:$AL$306=\"معلم\",ROW(B$7:B$306)-ROW(B$7)+1),ROWS($A$3:B108))),\"\")","v":""},{"$f":"IFERROR(INDEX('بيانات اساسية'!C$6:C$306,SMALL(IF('بيانات اساسية'!$AL$6:$AL$306=\"معلم\",ROW(C$7:C$306)-ROW(C$7)+1),ROWS($A$3:C108))),\"\")","v":""},{"$f":"IFERROR(INDEX('بيانات اساسية'!AF$6:AF$306,SMALL(IF('بيانات اساسية'!$AL$6:$AL$306=\"معلم\",ROW(D$7:D$306)-ROW(D$7)+1),ROWS($A$3:D108))),\"\")","v":""},{"$f":"IFERROR(INDEX('بيانات اساسية'!AH$6:AH$306,SMALL(IF('بيانات اساسية'!$AL$6:$AL$306=\"معلم\",ROW(E$7:E$306)-ROW(E$7)+1),ROWS($A$3:E108))),\"\")","v":""},{"$f":"IFERROR(INDEX('بيانات اساسية'!AI$6:AI$306,SMALL(IF('بيانات اساسية'!$AL$6:$AL$306=\"معلم\",ROW(F$7:F$306)-ROW(F$7)+1),ROWS($A$3:F108))),\"\")","v":""},{"$f":"IFERROR(INDEX('بيانات اساسية'!AJ$6:AJ$306,SMALL(IF('بيانات اساسية'!$AL$6:$AL$306=\"معلم\",ROW(G$7:G$306)-ROW(G$7)+1),ROWS($A$3:G108))),\"\")","v":""},{"$f":"IFERROR(INDEX('بيانات اساسية'!AK$6:AK$306,SMALL(IF('بيانات اساسية'!$AL$6:$AL$306=\"معلم\",ROW(H$7:H$306)-ROW(H$7)+1),ROWS($A$3:H108))),\"\")","v":""}]
[{"$f":"IF(B110=\"\",\"\",SUBTOTAL(3,B$4:B110))","v":""},{"$f":"IFERROR(INDEX('بيانات اساسية'!B$6:B$306,SMALL(IF('بيانات اساسية'!$AL$6:$AL$306=\"معلم\",ROW(B$7:B$306)-ROW(B$7)+1),ROWS($A$3:B109))),\"\")","v":""},{"$f":"IFERROR(INDEX('بيانات اساسية'!C$6:C$306,SMALL(IF('بيانات اساسية'!$AL$6:$AL$306=\"معلم\",ROW(C$7:C$306)-ROW(C$7)+1),ROWS($A$3:C109))),\"\")","v":""},{"$f":"IFERROR(INDEX('بيانات اساسية'!AF$6:AF$306,SMALL(IF('بيانات اساسية'!$AL$6:$AL$306=\"معلم\",ROW(D$7:D$306)-ROW(D$7)+1),ROWS($A$3:D109))),\"\")","v":""},{"$f":"IFERROR(INDEX('بيانات اساسية'!AH$6:AH$306,SMALL(IF('بيانات اساسية'!$AL$6:$AL$306=\"معلم\",ROW(E$7:E$306)-ROW(E$7)+1),ROWS($A$3:E109))),\"\")","v":""},{"$f":"IFERROR(INDEX('بيانات اساسية'!AI$6:AI$306,SMALL(IF('بيانات اساسية'!$AL$6:$AL$306=\"معلم\",ROW(F$7:F$306)-ROW(F$7)+1),ROWS($A$3:F109))),\"\")","v":""},{"$f":"IFERROR(INDEX('بيانات اساسية'!AJ$6:AJ$306,SMALL(IF('بيانات اساسية'!$AL$6:$AL$306=\"معلم\",ROW(G$7:G$306)-ROW(G$7)+1),ROWS($A$3:G109))),\"\")","v":""},{"$f":"IFERROR(INDEX('بيانات اساسية'!AK$6:AK$306,SMALL(IF('بيانات اساسية'!$AL$6:$AL$306=\"معلم\",ROW(H$7:H$306)-ROW(H$7)+1),ROWS($A$3:H109))),\"\")","v":""}]
[{"$f":"IF(B111=\"\",\"\",SUBTOTAL(3,B$4:B111))","v":""},{"$f":"IFERROR(INDEX('بيانات اساسية'!B$6:B$306,SMALL(IF('بيانات اساسية'!$AL$6:$AL$306=\"معلم\",ROW(B$7:B$306)-ROW(B$7)+1),ROWS($A$3:B110))),\"\")","v":""},{"$f":"IFERROR(INDEX('بيانات اساسية'!C$6:C$306,SMALL(IF('بيانات اساسية'!$AL$6:$AL$306=\"معلم\",ROW(C$7:C$306)-ROW(C$7)+1),ROWS($A$3:C110))),\"\")","v":""},{"$f":"IFERROR(INDEX('بيانات اساسية'!AF$6:AF$306,SMALL(IF('بيانات اساسية'!$AL$6:$AL$306=\"معلم\",ROW(D$7:D$306)-ROW(D$7)+1),ROWS($A$3:D110))),\"\")","v":""},{"$f":"IFERROR(INDEX('بيانات اساسية'!AH$6:AH$306,SMALL(IF('بيانات اساسية'!$AL$6:$AL$306=\"معلم\",ROW(E$7:E$306)-ROW(E$7)+1),ROWS($A$3:E110))),\"\")","v":""},{"$f":"IFERROR(INDEX('بيانات اساسية'!AI$6:AI$306,SMALL(IF('بيانات اساسية'!$AL$6:$AL$306=\"معلم\",ROW(F$7:F$306)-ROW(F$7)+1),ROWS($A$3:F110))),\"\")","v":""},{"$f":"IFERROR(INDEX('بيانات اساسية'!AJ$6:AJ$306,SMALL(IF('بيانات اساسية'!$AL$6:$AL$306=\"معلم\",ROW(G$7:G$306)-ROW(G$7)+1),ROWS($A$3:G110))),\"\")","v":""},{"$f":"IFERROR(INDEX('بيانات اساسية'!AK$6:AK$306,SMALL(IF('بيانات اساسية'!$AL$6:$AL$306=\"معلم\",ROW(H$7:H$306)-ROW(H$7)+1),ROWS($A$3:H110))),\"\")","v":""}]
[{"$f":"IF(B112=\"\",\"\",SUBTOTAL(3,B$4:B112))","v":""},{"$f":"IFERROR(INDEX('بيانات اساسية'!B$6:B$306,SMALL(IF('بيانات اساسية'!$AL$6:$AL$306=\"معلم\",ROW(B$7:B$306)-ROW(B$7)+1),ROWS($A$3:B111))),\"\")","v":""},{"$f":"IFERROR(INDEX('بيانات اساسية'!C$6:C$306,SMALL(IF('بيانات اساسية'!$AL$6:$AL$306=\"معلم\",ROW(C$7:C$306)-ROW(C$7)+1),ROWS($A$3:C111))),\"\")","v":""},{"$f":"IFERROR(INDEX('بيانات اساسية'!AF$6:AF$306,SMALL(IF('بيانات اساسية'!$AL$6:$AL$306=\"معلم\",ROW(D$7:D$306)-ROW(D$7)+1),ROWS($A$3:D111))),\"\")","v":""},{"$f":"IFERROR(INDEX('بيانات اساسية'!AH$6:AH$306,SMALL(IF('بيانات اساسية'!$AL$6:$AL$306=\"معلم\",ROW(E$7:E$306)-ROW(E$7)+1),ROWS($A$3:E111))),\"\")","v":""},{"$f":"IFERROR(INDEX('بيانات اساسية'!AI$6:AI$306,SMALL(IF('بيانات اساسية'!$AL$6:$AL$306=\"معلم\",ROW(F$7:F$306)-ROW(F$7)+1),ROWS($A$3:F111))),\"\")","v":""},{"$f":"IFERROR(INDEX('بيانات اساسية'!AJ$6:AJ$306,SMALL(IF('بيانات اساسية'!$AL$6:$AL$306=\"معلم\",ROW(G$7:G$306)-ROW(G$7)+1),ROWS($A$3:G111))),\"\")","v":""},{"$f":"IFERROR(INDEX('بيانات اساسية'!AK$6:AK$306,SMALL(IF('بيانات اساسية'!$AL$6:$AL$306=\"معلم\",ROW(H$7:H$306)-ROW(H$7)+1),ROWS($A$3:H111))),\"\")","v":""}]
[{"$f":"IF(B113=\"\",\"\",SUBTOTAL(3,B$4:B113))","v":""},{"$f":"IFERROR(INDEX('بيانات اساسية'!B$6:B$306,SMALL(IF('بيانات اساسية'!$AL$6:$AL$306=\"معلم\",ROW(B$7:B$306)-ROW(B$7)+1),ROWS($A$3:B112))),\"\")","v":""},{"$f":"IFERROR(INDEX('بيانات اساسية'!C$6:C$306,SMALL(IF('بيانات اساسية'!$AL$6:$AL$306=\"معلم\",ROW(C$7:C$306)-ROW(C$7)+1),ROWS($A$3:C112))),\"\")","v":""},{"$f":"IFERROR(INDEX('بيانات اساسية'!AF$6:AF$306,SMALL(IF('بيانات اساسية'!$AL$6:$AL$306=\"معلم\",ROW(D$7:D$306)-ROW(D$7)+1),ROWS($A$3:D112))),\"\")","v":""},{"$f":"IFERROR(INDEX('بيانات اساسية'!AH$6:AH$306,SMALL(IF('بيانات اساسية'!$AL$6:$AL$306=\"معلم\",ROW(E$7:E$306)-ROW(E$7)+1),ROWS($A$3:E112))),\"\")","v":""},{"$f":"IFERROR(INDEX('بيانات اساسية'!AI$6:AI$306,SMALL(IF('بيانات اساسية'!$AL$6:$AL$306=\"معلم\",ROW(F$7:F$306)-ROW(F$7)+1),ROWS($A$3:F112))),\"\")","v":""},{"$f":"IFERROR(INDEX('بيانات اساسية'!AJ$6:AJ$306,SMALL(IF('بيانات اساسية'!$AL$6:$AL$306=\"معلم\",ROW(G$7:G$306)-ROW(G$7)+1),ROWS($A$3:G112))),\"\")","v":""},{"$f":"IFERROR(INDEX('بيانات اساسية'!AK$6:AK$306,SMALL(IF('بيانات اساسية'!$AL$6:$AL$306=\"معلم\",ROW(H$7:H$306)-ROW(H$7)+1),ROWS($A$3:H112))),\"\")","v":""}]
[{"$f":"IF(B114=\"\",\"\",SUBTOTAL(3,B$4:B114))","v":""},{"$f":"IFERROR(INDEX('بيانات اساسية'!B$6:B$306,SMALL(IF('بيانات اساسية'!$AL$6:$AL$306=\"معلم\",ROW(B$7:B$306)-ROW(B$7)+1),ROWS($A$3:B113))),\"\")","v":""},{"$f":"IFERROR(INDEX('بيانات اساسية'!C$6:C$306,SMALL(IF('بيانات اساسية'!$AL$6:$AL$306=\"معلم\",ROW(C$7:C$306)-ROW(C$7)+1),ROWS($A$3:C113))),\"\")","v":""},{"$f":"IFERROR(INDEX('بيانات اساسية'!AF$6:AF$306,SMALL(IF('بيانات اساسية'!$AL$6:$AL$306=\"معلم\",ROW(D$7:D$306)-ROW(D$7)+1),ROWS($A$3:D113))),\"\")","v":""},{"$f":"IFERROR(INDEX('بيانات اساسية'!AH$6:AH$306,SMALL(IF('بيانات اساسية'!$AL$6:$AL$306=\"معلم\",ROW(E$7:E$306)-ROW(E$7)+1),ROWS($A$3:E113))),\"\")","v":""},{"$f":"IFERROR(INDEX('بيانات اساسية'!AI$6:AI$306,SMALL(IF('بيانات اساسية'!$AL$6:$AL$306=\"معلم\",ROW(F$7:F$306)-ROW(F$7)+1),ROWS($A$3:F113))),\"\")","v":""},{"$f":"IFERROR(INDEX('بيانات اساسية'!AJ$6:AJ$306,SMALL(IF('بيانات اساسية'!$AL$6:$AL$306=\"معلم\",ROW(G$7:G$306)-ROW(G$7)+1),ROWS($A$3:G113))),\"\")","v":""},{"$f":"IFERROR(INDEX('بيانات اساسية'!AK$6:AK$306,SMALL(IF('بيانات اساسية'!$AL$6:$AL$306=\"معلم\",ROW(H$7:H$306)-ROW(H$7)+1),ROWS($A$3:H113))),\"\")","v":""}]
[{"$f":"IF(B115=\"\",\"\",SUBTOTAL(3,B$4:B115))","v":""},{"$f":"IFERROR(INDEX('بيانات اساسية'!B$6:B$306,SMALL(IF('بيانات اساسية'!$AL$6:$AL$306=\"معلم\",ROW(B$7:B$306)-ROW(B$7)+1),ROWS($A$3:B114))),\"\")","v":""},{"$f":"IFERROR(INDEX('بيانات اساسية'!C$6:C$306,SMALL(IF('بيانات اساسية'!$AL$6:$AL$306=\"معلم\",ROW(C$7:C$306)-ROW(C$7)+1),ROWS($A$3:C114))),\"\")","v":""},{"$f":"IFERROR(INDEX('بيانات اساسية'!AF$6:AF$306,SMALL(IF('بيانات اساسية'!$AL$6:$AL$306=\"معلم\",ROW(D$7:D$306)-ROW(D$7)+1),ROWS($A$3:D114))),\"\")","v":""},{"$f":"IFERROR(INDEX('بيانات اساسية'!AH$6:AH$306,SMALL(IF('بيانات اساسية'!$AL$6:$AL$306=\"معلم\",ROW(E$7:E$306)-ROW(E$7)+1),ROWS($A$3:E114))),\"\")","v":""},{"$f":"IFERROR(INDEX('بيانات اساسية'!AI$6:AI$306,SMALL(IF('بيانات اساسية'!$AL$6:$AL$306=\"معلم\",ROW(F$7:F$306)-ROW(F$7)+1),ROWS($A$3:F114))),\"\")","v":""},{"$f":"IFERROR(INDEX('بيانات اساسية'!AJ$6:AJ$306,SMALL(IF('بيانات اساسية'!$AL$6:$AL$306=\"معلم\",ROW(G$7:G$306)-ROW(G$7)+1),ROWS($A$3:G114))),\"\")","v":""},{"$f":"IFERROR(INDEX('بيانات اساسية'!AK$6:AK$306,SMALL(IF('بيانات اساسية'!$AL$6:$AL$306=\"معلم\",ROW(H$7:H$306)-ROW(H$7)+1),ROWS($A$3:H114))),\"\")","v":""}]
[{"$f":"IF(B116=\"\",\"\",SUBTOTAL(3,B$4:B116))","v":""},{"$f":"IFERROR(INDEX('بيانات اساسية'!B$6:B$306,SMALL(IF('بيانات اساسية'!$AL$6:$AL$306=\"معلم\",ROW(B$7:B$306)-ROW(B$7)+1),ROWS($A$3:B115))),\"\")","v":""},{"$f":"IFERROR(INDEX('بيانات اساسية'!C$6:C$306,SMALL(IF('بيانات اساسية'!$AL$6:$AL$306=\"معلم\",ROW(C$7:C$306)-ROW(C$7)+1),ROWS($A$3:C115))),\"\")","v":""},{"$f":"IFERROR(INDEX('بيانات اساسية'!AF$6:AF$306,SMALL(IF('بيانات اساسية'!$AL$6:$AL$306=\"معلم\",ROW(D$7:D$306)-ROW(D$7)+1),ROWS($A$3:D115))),\"\")","v":""},{"$f":"IFERROR(INDEX('بيانات اساسية'!AH$6:AH$306,SMALL(IF('بيانات اساسية'!$AL$6:$AL$306=\"معلم\",ROW(E$7:E$306)-ROW(E$7)+1),ROWS($A$3:E115))),\"\")","v":""},{"$f":"IFERROR(INDEX('بيانات اساسية'!AI$6:AI$306,SMALL(IF('بيانات اساسية'!$AL$6:$AL$306=\"معلم\",ROW(F$7:F$306)-ROW(F$7)+1),ROWS($A$3:F115))),\"\")","v":""},{"$f":"IFERROR(INDEX('بيانات اساسية'!AJ$6:AJ$306,SMALL(IF('بيانات اساسية'!$AL$6:$AL$306=\"معلم\",ROW(G$7:G$306)-ROW(G$7)+1),ROWS($A$3:G115))),\"\")","v":""},{"$f":"IFERROR(INDEX('بيانات اساسية'!AK$6:AK$306,SMALL(IF('بيانات اساسية'!$AL$6:$AL$306=\"معلم\",ROW(H$7:H$306)-ROW(H$7)+1),ROWS($A$3:H115))),\"\")","v":""}]
[{"$f":"IF(B117=\"\",\"\",SUBTOTAL(3,B$4:B117))","v":""},{"$f":"IFERROR(INDEX('بيانات اساسية'!B$6:B$306,SMALL(IF('بيانات اساسية'!$AL$6:$AL$306=\"معلم\",ROW(B$7:B$306)-ROW(B$7)+1),ROWS($A$3:B116))),\"\")","v":""},{"$f":"IFERROR(INDEX('بيانات اساسية'!C$6:C$306,SMALL(IF('بيانات اساسية'!$AL$6:$AL$306=\"معلم\",ROW(C$7:C$306)-ROW(C$7)+1),ROWS($A$3:C116))),\"\")","v":""},{"$f":"IFERROR(INDEX('بيانات اساسية'!AF$6:AF$306,SMALL(IF('بيانات اساسية'!$AL$6:$AL$306=\"معلم\",ROW(D$7:D$306)-ROW(D$7)+1),ROWS($A$3:D116))),\"\")","v":""},{"$f":"IFERROR(INDEX('بيانات اساسية'!AH$6:AH$306,SMALL(IF('بيانات اساسية'!$AL$6:$AL$306=\"معلم\",ROW(E$7:E$306)-ROW(E$7)+1),ROWS($A$3:E116))),\"\")","v":""},{"$f":"IFERROR(INDEX('بيانات اساسية'!AI$6:AI$306,SMALL(IF('بيانات اساسية'!$AL$6:$AL$306=\"معلم\",ROW(F$7:F$306)-ROW(F$7)+1),ROWS($A$3:F116))),\"\")","v":""},{"$f":"IFERROR(INDEX('بيانات اساسية'!AJ$6:AJ$306,SMALL(IF('بيانات اساسية'!$AL$6:$AL$306=\"معلم\",ROW(G$7:G$306)-ROW(G$7)+1),ROWS($A$3:G116))),\"\")","v":""},{"$f":"IFERROR(INDEX('بيانات اساسية'!AK$6:AK$306,SMALL(IF('بيانات اساسية'!$AL$6:$AL$306=\"معلم\",ROW(H$7:H$306)-ROW(H$7)+1),ROWS($A$3:H116))),\"\")","v":""}]
[{"$f":"IF(B118=\"\",\"\",SUBTOTAL(3,B$4:B118))","v":""},{"$f":"IFERROR(INDEX('بيانات اساسية'!B$6:B$306,SMALL(IF('بيانات اساسية'!$AL$6:$AL$306=\"معلم\",ROW(B$7:B$306)-ROW(B$7)+1),ROWS($A$3:B117))),\"\")","v":""},{"$f":"IFERROR(INDEX('بيانات اساسية'!C$6:C$306,SMALL(IF('بيانات اساسية'!$AL$6:$AL$306=\"معلم\",ROW(C$7:C$306)-ROW(C$7)+1),ROWS($A$3:C117))),\"\")","v":""},{"$f":"IFERROR(INDEX('بيانات اساسية'!AF$6:AF$306,SMALL(IF('بيانات اساسية'!$AL$6:$AL$306=\"معلم\",ROW(D$7:D$306)-ROW(D$7)+1),ROWS($A$3:D117))),\"\")","v":""},{"$f":"IFERROR(INDEX('بيانات اساسية'!AH$6:AH$306,SMALL(IF('بيانات اساسية'!$AL$6:$AL$306=\"معلم\",ROW(E$7:E$306)-ROW(E$7)+1),ROWS($A$3:E117))),\"\")","v":""},{"$f":"IFERROR(INDEX('بيانات اساسية'!AI$6:AI$306,SMALL(IF('بيانات اساسية'!$AL$6:$AL$306=\"معلم\",ROW(F$7:F$306)-ROW(F$7)+1),ROWS($A$3:F117))),\"\")","v":""},{"$f":"IFERROR(INDEX('بيانات اساسية'!AJ$6:AJ$306,SMALL(IF('بيانات اساسية'!$AL$6:$AL$306=\"معلم\",ROW(G$7:G$306)-ROW(G$7)+1),ROWS($A$3:G117))),\"\")","v":""},{"$f":"IFERROR(INDEX('بيانات اساسية'!AK$6:AK$306,SMALL(IF('بيانات اساسية'!$AL$6:$AL$306=\"معلم\",ROW(H$7:H$306)-ROW(H$7)+1),ROWS($A$3:H117))),\"\")","v":""}]
[{"$f":"IF(B119=\"\",\"\",SUBTOTAL(3,B$4:B119))","v":""},{"$f":"IFERROR(INDEX('بيانات اساسية'!B$6:B$306,SMALL(IF('بيانات اساسية'!$AL$6:$AL$306=\"معلم\",ROW(B$7:B$306)-ROW(B$7)+1),ROWS($A$3:B118))),\"\")","v":""},{"$f":"IFERROR(INDEX('بيانات اساسية'!C$6:C$306,SMALL(IF('بيانات اساسية'!$AL$6:$AL$306=\"معلم\",ROW(C$7:C$306)-ROW(C$7)+1),ROWS($A$3:C118))),\"\")","v":""},{"$f":"IFERROR(INDEX('بيانات اساسية'!AF$6:AF$306,SMALL(IF('بيانات اساسية'!$AL$6:$AL$306=\"معلم\",ROW(D$7:D$306)-ROW(D$7)+1),ROWS($A$3:D118))),\"\")","v":""},{"$f":"IFERROR(INDEX('بيانات اساسية'!AH$6:AH$306,SMALL(IF('بيانات اساسية'!$AL$6:$AL$306=\"معلم\",ROW(E$7:E$306)-ROW(E$7)+1),ROWS($A$3:E118))),\"\")","v":""},{"$f":"IFERROR(INDEX('بيانات اساسية'!AI$6:AI$306,SMALL(IF('بيانات اساسية'!$AL$6:$AL$306=\"معلم\",ROW(F$7:F$306)-ROW(F$7)+1),ROWS($A$3:F118))),\"\")","v":""},{"$f":"IFERROR(INDEX('بيانات اساسية'!AJ$6:AJ$306,SMALL(IF('بيانات اساسية'!$AL$6:$AL$306=\"معلم\",ROW(G$7:G$306)-ROW(G$7)+1),ROWS($A$3:G118))),\"\")","v":""},{"$f":"IFERROR(INDEX('بيانات اساسية'!AK$6:AK$306,SMALL(IF('بيانات اساسية'!$AL$6:$AL$306=\"معلم\",ROW(H$7:H$306)-ROW(H$7)+1),ROWS($A$3:H118))),\"\")","v":""}]
[{"$f":"IF(B120=\"\",\"\",SUBTOTAL(3,B$4:B120))","v":""},{"$f":"IFERROR(INDEX('بيانات اساسية'!B$6:B$306,SMALL(IF('بيانات اساسية'!$AL$6:$AL$306=\"معلم\",ROW(B$7:B$306)-ROW(B$7)+1),ROWS($A$3:B119))),\"\")","v":""},{"$f":"IFERROR(INDEX('بيانات اساسية'!C$6:C$306,SMALL(IF('بيانات اساسية'!$AL$6:$AL$306=\"معلم\",ROW(C$7:C$306)-ROW(C$7)+1),ROWS($A$3:C119))),\"\")","v":""},{"$f":"IFERROR(INDEX('بيانات اساسية'!AF$6:AF$306,SMALL(IF('بيانات اساسية'!$AL$6:$AL$306=\"معلم\",ROW(D$7:D$306)-ROW(D$7)+1),ROWS($A$3:D119))),\"\")","v":""},{"$f":"IFERROR(INDEX('بيانات اساسية'!AH$6:AH$306,SMALL(IF('بيانات اساسية'!$AL$6:$AL$306=\"معلم\",ROW(E$7:E$306)-ROW(E$7)+1),ROWS($A$3:E119))),\"\")","v":""},{"$f":"IFERROR(INDEX('بيانات اساسية'!AI$6:AI$306,SMALL(IF('بيانات اساسية'!$AL$6:$AL$306=\"معلم\",ROW(F$7:F$306)-ROW(F$7)+1),ROWS($A$3:F119))),\"\")","v":""},{"$f":"IFERROR(INDEX('بيانات اساسية'!AJ$6:AJ$306,SMALL(IF('بيانات اساسية'!$AL$6:$AL$306=\"معلم\",ROW(G$7:G$306)-ROW(G$7)+1),ROWS($A$3:G119))),\"\")","v":""},{"$f":"IFERROR(INDEX('بيانات اساسية'!AK$6:AK$306,SMALL(IF('بيانات اساسية'!$AL$6:$AL$306=\"معلم\",ROW(H$7:H$306)-ROW(H$7)+1),ROWS($A$3:H119))),\"\")","v":""}]
[{"$f":"IF(B121=\"\",\"\",SUBTOTAL(3,B$4:B121))","v":""},{"$f":"IFERROR(INDEX('بيانات اساسية'!B$6:B$306,SMALL(IF('بيانات اساسية'!$AL$6:$AL$306=\"معلم\",ROW(B$7:B$306)-ROW(B$7)+1),ROWS($A$3:B120))),\"\")","v":""},{"$f":"IFERROR(INDEX('بيانات اساسية'!C$6:C$306,SMALL(IF('بيانات اساسية'!$AL$6:$AL$306=\"معلم\",ROW(C$7:C$306)-ROW(C$7)+1),ROWS($A$3:C120))),\"\")","v":""},{"$f":"IFERROR(INDEX('بيانات اساسية'!AF$6:AF$306,SMALL(IF('بيانات اساسية'!$AL$6:$AL$306=\"معلم\",ROW(D$7:D$306)-ROW(D$7)+1),ROWS($A$3:D120))),\"\")","v":""},{"$f":"IFERROR(INDEX('بيانات اساسية'!AH$6:AH$306,SMALL(IF('بيانات اساسية'!$AL$6:$AL$306=\"معلم\",ROW(E$7:E$306)-ROW(E$7)+1),ROWS($A$3:E120))),\"\")","v":""},{"$f":"IFERROR(INDEX('بيانات اساسية'!AI$6:AI$306,SMALL(IF('بيانات اساسية'!$AL$6:$AL$306=\"معلم\",ROW(F$7:F$306)-ROW(F$7)+1),ROWS($A$3:F120))),\"\")","v":""},{"$f":"IFERROR(INDEX('بيانات اساسية'!AJ$6:AJ$306,SMALL(IF('بيانات اساسية'!$AL$6:$AL$306=\"معلم\",ROW(G$7:G$306)-ROW(G$7)+1),ROWS($A$3:G120))),\"\")","v":""},{"$f":"IFERROR(INDEX('بيانات اساسية'!AK$6:AK$306,SMALL(IF('بيانات اساسية'!$AL$6:$AL$306=\"معلم\",ROW(H$7:H$306)-ROW(H$7)+1),ROWS($A$3:H120))),\"\")","v":""}]
[{"$f":"IF(B122=\"\",\"\",SUBTOTAL(3,B$4:B122))","v":""},{"$f":"IFERROR(INDEX('بيانات اساسية'!B$6:B$306,SMALL(IF('بيانات اساسية'!$AL$6:$AL$306=\"معلم\",ROW(B$7:B$306)-ROW(B$7)+1),ROWS($A$3:B121))),\"\")","v":""},{"$f":"IFERROR(INDEX('بيانات اساسية'!C$6:C$306,SMALL(IF('بيانات اساسية'!$AL$6:$AL$306=\"معلم\",ROW(C$7:C$306)-ROW(C$7)+1),ROWS($A$3:C121))),\"\")","v":""},{"$f":"IFERROR(INDEX('بيانات اساسية'!AF$6:AF$306,SMALL(IF('بيانات اساسية'!$AL$6:$AL$306=\"معلم\",ROW(D$7:D$306)-ROW(D$7)+1),ROWS($A$3:D121))),\"\")","v":""},{"$f":"IFERROR(INDEX('بيانات اساسية'!AH$6:AH$306,SMALL(IF('بيانات اساسية'!$AL$6:$AL$306=\"معلم\",ROW(E$7:E$306)-ROW(E$7)+1),ROWS($A$3:E121))),\"\")","v":""},{"$f":"IFERROR(INDEX('بيانات اساسية'!AI$6:AI$306,SMALL(IF('بيانات اساسية'!$AL$6:$AL$306=\"معلم\",ROW(F$7:F$306)-ROW(F$7)+1),ROWS($A$3:F121))),\"\")","v":""},{"$f":"IFERROR(INDEX('بيانات اساسية'!AJ$6:AJ$306,SMALL(IF('بيانات اساسية'!$AL$6:$AL$306=\"معلم\",ROW(G$7:G$306)-ROW(G$7)+1),ROWS($A$3:G121))),\"\")","v":""},{"$f":"IFERROR(INDEX('بيانات اساسية'!AK$6:AK$306,SMALL(IF('بيانات اساسية'!$AL$6:$AL$306=\"معلم\",ROW(H$7:H$306)-ROW(H$7)+1),ROWS($A$3:H121))),\"\")","v":""}]
[{"$f":"IF(B123=\"\",\"\",SUBTOTAL(3,B$4:B123))","v":""},{"$f":"IFERROR(INDEX('بيانات اساسية'!B$6:B$306,SMALL(IF('بيانات اساسية'!$AL$6:$AL$306=\"معلم\",ROW(B$7:B$306)-ROW(B$7)+1),ROWS($A$3:B122))),\"\")","v":""},{"$f":"IFERROR(INDEX('بيانات اساسية'!C$6:C$306,SMALL(IF('بيانات اساسية'!$AL$6:$AL$306=\"معلم\",ROW(C$7:C$306)-ROW(C$7)+1),ROWS($A$3:C122))),\"\")","v":""},{"$f":"IFERROR(INDEX('بيانات اساسية'!AF$6:AF$306,SMALL(IF('بيانات اساسية'!$AL$6:$AL$306=\"معلم\",ROW(D$7:D$306)-ROW(D$7)+1),ROWS($A$3:D122))),\"\")","v":""},{"$f":"IFERROR(INDEX('بيانات اساسية'!AH$6:AH$306,SMALL(IF('بيانات اساسية'!$AL$6:$AL$306=\"معلم\",ROW(E$7:E$306)-ROW(E$7)+1),ROWS($A$3:E122))),\"\")","v":""},{"$f":"IFERROR(INDEX('بيانات اساسية'!AI$6:AI$306,SMALL(IF('بيانات اساسية'!$AL$6:$AL$306=\"معلم\",ROW(F$7:F$306)-ROW(F$7)+1),ROWS($A$3:F122))),\"\")","v":""},{"$f":"IFERROR(INDEX('بيانات اساسية'!AJ$6:AJ$306,SMALL(IF('بيانات اساسية'!$AL$6:$AL$306=\"معلم\",ROW(G$7:G$306)-ROW(G$7)+1),ROWS($A$3:G122))),\"\")","v":""},{"$f":"IFERROR(INDEX('بيانات اساسية'!AK$6:AK$306,SMALL(IF('بيانات اساسية'!$AL$6:$AL$306=\"معلم\",ROW(H$7:H$306)-ROW(H$7)+1),ROWS($A$3:H122))),\"\")","v":""}]
[{"$f":"IF(B124=\"\",\"\",SUBTOTAL(3,B$4:B124))","v":""},{"$f":"IFERROR(INDEX('بيانات اساسية'!B$6:B$306,SMALL(IF('بيانات اساسية'!$AL$6:$AL$306=\"معلم\",ROW(B$7:B$306)-ROW(B$7)+1),ROWS($A$3:B123))),\"\")","v":""},{"$f":"IFERROR(INDEX('بيانات اساسية'!C$6:C$306,SMALL(IF('بيانات اساسية'!$AL$6:$AL$306=\"معلم\",ROW(C$7:C$306)-ROW(C$7)+1),ROWS($A$3:C123))),\"\")","v":""},{"$f":"IFERROR(INDEX('بيانات اساسية'!AF$6:AF$306,SMALL(IF('بيانات اساسية'!$AL$6:$AL$306=\"معلم\",ROW(D$7:D$306)-ROW(D$7)+1),ROWS($A$3:D123))),\"\")","v":""},{"$f":"IFERROR(INDEX('بيانات اساسية'!AH$6:AH$306,SMALL(IF('بيانات اساسية'!$AL$6:$AL$306=\"معلم\",ROW(E$7:E$306)-ROW(E$7)+1),ROWS($A$3:E123))),\"\")","v":""},{"$f":"IFERROR(INDEX('بيانات اساسية'!AI$6:AI$306,SMALL(IF('بيانات اساسية'!$AL$6:$AL$306=\"معلم\",ROW(F$7:F$306)-ROW(F$7)+1),ROWS($A$3:F123))),\"\")","v":""},{"$f":"IFERROR(INDEX('بيانات اساسية'!AJ$6:AJ$306,SMALL(IF('بيانات اساسية'!$AL$6:$AL$306=\"معلم\",ROW(G$7:G$306)-ROW(G$7)+1),ROWS($A$3:G123))),\"\")","v":""},{"$f":"IFERROR(INDEX('بيانات اساسية'!AK$6:AK$306,SMALL(IF('بيانات اساسية'!$AL$6:$AL$306=\"معلم\",ROW(H$7:H$306)-ROW(H$7)+1),ROWS($A$3:H123))),\"\")","v":""}]
[{"$f":"IF(B125=\"\",\"\",SUBTOTAL(3,B$4:B125))","v":""},{"$f":"IFERROR(INDEX('بيانات اساسية'!B$6:B$306,SMALL(IF('بيانات اساسية'!$AL$6:$AL$306=\"معلم\",ROW(B$7:B$306)-ROW(B$7)+1),ROWS($A$3:B124))),\"\")","v":""},{"$f":"IFERROR(INDEX('بيانات اساسية'!C$6:C$306,SMALL(IF('بيانات اساسية'!$AL$6:$AL$306=\"معلم\",ROW(C$7:C$306)-ROW(C$7)+1),ROWS($A$3:C124))),\"\")","v":""},{"$f":"IFERROR(INDEX('بيانات اساسية'!AF$6:AF$306,SMALL(IF('بيانات اساسية'!$AL$6:$AL$306=\"معلم\",ROW(D$7:D$306)-ROW(D$7)+1),ROWS($A$3:D124))),\"\")","v":""},{"$f":"IFERROR(INDEX('بيانات اساسية'!AH$6:AH$306,SMALL(IF('بيانات اساسية'!$AL$6:$AL$306=\"معلم\",ROW(E$7:E$306)-ROW(E$7)+1),ROWS($A$3:E124))),\"\")","v":""},{"$f":"IFERROR(INDEX('بيانات اساسية'!AI$6:AI$306,SMALL(IF('بيانات اساسية'!$AL$6:$AL$306=\"معلم\",ROW(F$7:F$306)-ROW(F$7)+1),ROWS($A$3:F124))),\"\")","v":""},{"$f":"IFERROR(INDEX('بيانات اساسية'!AJ$6:AJ$306,SMALL(IF('بيانات اساسية'!$AL$6:$AL$306=\"معلم\",ROW(G$7:G$306)-ROW(G$7)+1),ROWS($A$3:G124))),\"\")","v":""},{"$f":"IFERROR(INDEX('بيانات اساسية'!AK$6:AK$306,SMALL(IF('بيانات اساسية'!$AL$6:$AL$306=\"معلم\",ROW(H$7:H$306)-ROW(H$7)+1),ROWS($A$3:H124))),\"\")","v":""}]
[{"$f":"IF(B126=\"\",\"\",SUBTOTAL(3,B$4:B126))","v":""},{"$f":"IFERROR(INDEX('بيانات اساسية'!B$6:B$306,SMALL(IF('بيانات اساسية'!$AL$6:$AL$306=\"معلم\",ROW(B$7:B$306)-ROW(B$7)+1),ROWS($A$3:B125))),\"\")","v":""},{"$f":"IFERROR(INDEX('بيانات اساسية'!C$6:C$306,SMALL(IF('بيانات اساسية'!$AL$6:$AL$306=\"معلم\",ROW(C$7:C$306)-ROW(C$7)+1),ROWS($A$3:C125))),\"\")","v":""},{"$f":"IFERROR(INDEX('بيانات اساسية'!AF$6:AF$306,SMALL(IF('بيانات اساسية'!$AL$6:$AL$306=\"معلم\",ROW(D$7:D$306)-ROW(D$7)+1),ROWS($A$3:D125))),\"\")","v":""},{"$f":"IFERROR(INDEX('بيانات اساسية'!AH$6:AH$306,SMALL(IF('بيانات اساسية'!$AL$6:$AL$306=\"معلم\",ROW(E$7:E$306)-ROW(E$7)+1),ROWS($A$3:E125))),\"\")","v":""},{"$f":"IFERROR(INDEX('بيانات اساسية'!AI$6:AI$306,SMALL(IF('بيانات اساسية'!$AL$6:$AL$306=\"معلم\",ROW(F$7:F$306)-ROW(F$7)+1),ROWS($A$3:F125))),\"\")","v":""},{"$f":"IFERROR(INDEX('بيانات اساسية'!AJ$6:AJ$306,SMALL(IF('بيانات اساسية'!$AL$6:$AL$306=\"معلم\",ROW(G$7:G$306)-ROW(G$7)+1),ROWS($A$3:G125))),\"\")","v":""},{"$f":"IFERROR(INDEX('بيانات اساسية'!AK$6:AK$306,SMALL(IF('بيانات اساسية'!$AL$6:$AL$306=\"معلم\",ROW(H$7:H$306)-ROW(H$7)+1),ROWS($A$3:H125))),\"\")","v":""}]
[{"$f":"IF(B127=\"\",\"\",SUBTOTAL(3,B$4:B127))","v":""},{"$f":"IFERROR(INDEX('بيانات اساسية'!B$6:B$306,SMALL(IF('بيانات اساسية'!$AL$6:$AL$306=\"معلم\",ROW(B$7:B$306)-ROW(B$7)+1),ROWS($A$3:B126))),\"\")","v":""},{"$f":"IFERROR(INDEX('بيانات اساسية'!C$6:C$306,SMALL(IF('بيانات اساسية'!$AL$6:$AL$306=\"معلم\",ROW(C$7:C$306)-ROW(C$7)+1),ROWS($A$3:C126))),\"\")","v":""},{"$f":"IFERROR(INDEX('بيانات اساسية'!AF$6:AF$306,SMALL(IF('بيانات اساسية'!$AL$6:$AL$306=\"معلم\",ROW(D$7:D$306)-ROW(D$7)+1),ROWS($A$3:D126))),\"\")","v":""},{"$f":"IFERROR(INDEX('بيانات اساسية'!AH$6:AH$306,SMALL(IF('بيانات اساسية'!$AL$6:$AL$306=\"معلم\",ROW(E$7:E$306)-ROW(E$7)+1),ROWS($A$3:E126))),\"\")","v":""},{"$f":"IFERROR(INDEX('بيانات اساسية'!AI$6:AI$306,SMALL(IF('بيانات اساسية'!$AL$6:$AL$306=\"معلم\",ROW(F$7:F$306)-ROW(F$7)+1),ROWS($A$3:F126))),\"\")","v":""},{"$f":"IFERROR(INDEX('بيانات اساسية'!AJ$6:AJ$306,SMALL(IF('بيانات اساسية'!$AL$6:$AL$306=\"معلم\",ROW(G$7:G$306)-ROW(G$7)+1),ROWS($A$3:G126))),\"\")","v":""},{"$f":"IFERROR(INDEX('بيانات اساسية'!AK$6:AK$306,SMALL(IF('بيانات اساسية'!$AL$6:$AL$306=\"معلم\",ROW(H$7:H$306)-ROW(H$7)+1),ROWS($A$3:H126))),\"\")","v":""}]
[{"$f":"IF(B128=\"\",\"\",SUBTOTAL(3,B$4:B128))","v":""},{"$f":"IFERROR(INDEX('بيانات اساسية'!B$6:B$306,SMALL(IF('بيانات اساسية'!$AL$6:$AL$306=\"معلم\",ROW(B$7:B$306)-ROW(B$7)+1),ROWS($A$3:B127))),\"\")","v":""},{"$f":"IFERROR(INDEX('بيانات اساسية'!C$6:C$306,SMALL(IF('بيانات اساسية'!$AL$6:$AL$306=\"معلم\",ROW(C$7:C$306)-ROW(C$7)+1),ROWS($A$3:C127))),\"\")","v":""},{"$f":"IFERROR(INDEX('بيانات اساسية'!AF$6:AF$306,SMALL(IF('بيانات اساسية'!$AL$6:$AL$306=\"معلم\",ROW(D$7:D$306)-ROW(D$7)+1),ROWS($A$3:D127))),\"\")","v":""},{"$f":"IFERROR(INDEX('بيانات اساسية'!AH$6:AH$306,SMALL(IF('بيانات اساسية'!$AL$6:$AL$306=\"معلم\",ROW(E$7:E$306)-ROW(E$7)+1),ROWS($A$3:E127))),\"\")","v":""},{"$f":"IFERROR(INDEX('بيانات اساسية'!AI$6:AI$306,SMALL(IF('بيانات اساسية'!$AL$6:$AL$306=\"معلم\",ROW(F$7:F$306)-ROW(F$7)+1),ROWS($A$3:F127))),\"\")","v":""},{"$f":"IFERROR(INDEX('بيانات اساسية'!AJ$6:AJ$306,SMALL(IF('بيانات اساسية'!$AL$6:$AL$306=\"معلم\",ROW(G$7:G$306)-ROW(G$7)+1),ROWS($A$3:G127))),\"\")","v":""},{"$f":"IFERROR(INDEX('بيانات اساسية'!AK$6:AK$306,SMALL(IF('بيانات اساسية'!$AL$6:$AL$306=\"معلم\",ROW(H$7:H$306)-ROW(H$7)+1),ROWS($A$3:H127))),\"\")","v":""}]
[{"$f":"IF(B129=\"\",\"\",SUBTOTAL(3,B$4:B129))","v":""},{"$f":"IFERROR(INDEX('بيانات اساسية'!B$6:B$306,SMALL(IF('بيانات اساسية'!$AL$6:$AL$306=\"معلم\",ROW(B$7:B$306)-ROW(B$7)+1),ROWS($A$3:B128))),\"\")","v":""},{"$f":"IFERROR(INDEX('بيانات اساسية'!C$6:C$306,SMALL(IF('بيانات اساسية'!$AL$6:$AL$306=\"معلم\",ROW(C$7:C$306)-ROW(C$7)+1),ROWS($A$3:C128))),\"\")","v":""},{"$f":"IFERROR(INDEX('بيانات اساسية'!AF$6:AF$306,SMALL(IF('بيانات اساسية'!$AL$6:$AL$306=\"معلم\",ROW(D$7:D$306)-ROW(D$7)+1),ROWS($A$3:D128))),\"\")","v":""},{"$f":"IFERROR(INDEX('بيانات اساسية'!AH$6:AH$306,SMALL(IF('بيانات اساسية'!$AL$6:$AL$306=\"معلم\",ROW(E$7:E$306)-ROW(E$7)+1),ROWS($A$3:E128))),\"\")","v":""},{"$f":"IFERROR(INDEX('بيانات اساسية'!AI$6:AI$306,SMALL(IF('بيانات اساسية'!$AL$6:$AL$306=\"معلم\",ROW(F$7:F$306)-ROW(F$7)+1),ROWS($A$3:F128))),\"\")","v":""},{"$f":"IFERROR(INDEX('بيانات اساسية'!AJ$6:AJ$306,SMALL(IF('بيانات اساسية'!$AL$6:$AL$306=\"معلم\",ROW(G$7:G$306)-ROW(G$7)+1),ROWS($A$3:G128))),\"\")","v":""},{"$f":"IFERROR(INDEX('بيانات اساسية'!AK$6:AK$306,SMALL(IF('بيانات اساسية'!$AL$6:$AL$306=\"معلم\",ROW(H$7:H$306)-ROW(H$7)+1),ROWS($A$3:H128))),\"\")","v":""}]
[{"$f":"IF(B130=\"\",\"\",SUBTOTAL(3,B$4:B130))","v":""},{"$f":"IFERROR(INDEX('بيانات اساسية'!B$6:B$306,SMALL(IF('بيانات اساسية'!$AL$6:$AL$306=\"معلم\",ROW(B$7:B$306)-ROW(B$7)+1),ROWS($A$3:B129))),\"\")","v":""},{"$f":"IFERROR(INDEX('بيانات اساسية'!C$6:C$306,SMALL(IF('بيانات اساسية'!$AL$6:$AL$306=\"معلم\",ROW(C$7:C$306)-ROW(C$7)+1),ROWS($A$3:C129))),\"\")","v":""},{"$f":"IFERROR(INDEX('بيانات اساسية'!AF$6:AF$306,SMALL(IF('بيانات اساسية'!$AL$6:$AL$306=\"معلم\",ROW(D$7:D$306)-ROW(D$7)+1),ROWS($A$3:D129))),\"\")","v":""},{"$f":"IFERROR(INDEX('بيانات اساسية'!AH$6:AH$306,SMALL(IF('بيانات اساسية'!$AL$6:$AL$306=\"معلم\",ROW(E$7:E$306)-ROW(E$7)+1),ROWS($A$3:E129))),\"\")","v":""},{"$f":"IFERROR(INDEX('بيانات اساسية'!AI$6:AI$306,SMALL(IF('بيانات اساسية'!$AL$6:$AL$306=\"معلم\",ROW(F$7:F$306)-ROW(F$7)+1),ROWS($A$3:F129))),\"\")","v":""},{"$f":"IFERROR(INDEX('بيانات اساسية'!AJ$6:AJ$306,SMALL(IF('بيانات اساسية'!$AL$6:$AL$306=\"معلم\",ROW(G$7:G$306)-ROW(G$7)+1),ROWS($A$3:G129))),\"\")","v":""},{"$f":"IFERROR(INDEX('بيانات اساسية'!AK$6:AK$306,SMALL(IF('بيانات اساسية'!$AL$6:$AL$306=\"معلم\",ROW(H$7:H$306)-ROW(H$7)+1),ROWS($A$3:H129))),\"\")","v":""}]
[{"$f":"IF(B131=\"\",\"\",SUBTOTAL(3,B$4:B131))","v":""},{"$f":"IFERROR(INDEX('بيانات اساسية'!B$6:B$306,SMALL(IF('بيانات اساسية'!$AL$6:$AL$306=\"معلم\",ROW(B$7:B$306)-ROW(B$7)+1),ROWS($A$3:B130))),\"\")","v":""},{"$f":"IFERROR(INDEX('بيانات اساسية'!C$6:C$306,SMALL(IF('بيانات اساسية'!$AL$6:$AL$306=\"معلم\",ROW(C$7:C$306)-ROW(C$7)+1),ROWS($A$3:C130))),\"\")","v":""},{"$f":"IFERROR(INDEX('بيانات اساسية'!AF$6:AF$306,SMALL(IF('بيانات اساسية'!$AL$6:$AL$306=\"معلم\",ROW(D$7:D$306)-ROW(D$7)+1),ROWS($A$3:D130))),\"\")","v":""},{"$f":"IFERROR(INDEX('بيانات اساسية'!AH$6:AH$306,SMALL(IF('بيانات اساسية'!$AL$6:$AL$306=\"معلم\",ROW(E$7:E$306)-ROW(E$7)+1),ROWS($A$3:E130))),\"\")","v":""},{"$f":"IFERROR(INDEX('بيانات اساسية'!AI$6:AI$306,SMALL(IF('بيانات اساسية'!$AL$6:$AL$306=\"معلم\",ROW(F$7:F$306)-ROW(F$7)+1),ROWS($A$3:F130))),\"\")","v":""},{"$f":"IFERROR(INDEX('بيانات اساسية'!AJ$6:AJ$306,SMALL(IF('بيانات اساسية'!$AL$6:$AL$306=\"معلم\",ROW(G$7:G$306)-ROW(G$7)+1),ROWS($A$3:G130))),\"\")","v":""},{"$f":"IFERROR(INDEX('بيانات اساسية'!AK$6:AK$306,SMALL(IF('بيانات اساسية'!$AL$6:$AL$306=\"معلم\",ROW(H$7:H$306)-ROW(H$7)+1),ROWS($A$3:H130))),\"\")","v":""}]
[{"$f":"IF(B132=\"\",\"\",SUBTOTAL(3,B$4:B132))","v":""},{"$f":"IFERROR(INDEX('بيانات اساسية'!B$6:B$306,SMALL(IF('بيانات اساسية'!$AL$6:$AL$306=\"معلم\",ROW(B$7:B$306)-ROW(B$7)+1),ROWS($A$3:B131))),\"\")","v":""},{"$f":"IFERROR(INDEX('بيانات اساسية'!C$6:C$306,SMALL(IF('بيانات اساسية'!$AL$6:$AL$306=\"معلم\",ROW(C$7:C$306)-ROW(C$7)+1),ROWS($A$3:C131))),\"\")","v":""},{"$f":"IFERROR(INDEX('بيانات اساسية'!AF$6:AF$306,SMALL(IF('بيانات اساسية'!$AL$6:$AL$306=\"معلم\",ROW(D$7:D$306)-ROW(D$7)+1),ROWS($A$3:D131))),\"\")","v":""},{"$f":"IFERROR(INDEX('بيانات اساسية'!AH$6:AH$306,SMALL(IF('بيانات اساسية'!$AL$6:$AL$306=\"معلم\",ROW(E$7:E$306)-ROW(E$7)+1),ROWS($A$3:E131))),\"\")","v":""},{"$f":"IFERROR(INDEX('بيانات اساسية'!AI$6:AI$306,SMALL(IF('بيانات اساسية'!$AL$6:$AL$306=\"معلم\",ROW(F$7:F$306)-ROW(F$7)+1),ROWS($A$3:F131))),\"\")","v":""},{"$f":"IFERROR(INDEX('بيانات اساسية'!AJ$6:AJ$306,SMALL(IF('بيانات اساسية'!$AL$6:$AL$306=\"معلم\",ROW(G$7:G$306)-ROW(G$7)+1),ROWS($A$3:G131))),\"\")","v":""},{"$f":"IFERROR(INDEX('بيانات اساسية'!AK$6:AK$306,SMALL(IF('بيانات اساسية'!$AL$6:$AL$306=\"معلم\",ROW(H$7:H$306)-ROW(H$7)+1),ROWS($A$3:H131))),\"\")","v":""}]
[{"$f":"IF(B133=\"\",\"\",SUBTOTAL(3,B$4:B133))","v":""},{"$f":"IFERROR(INDEX('بيانات اساسية'!B$6:B$306,SMALL(IF('بيانات اساسية'!$AL$6:$AL$306=\"معلم\",ROW(B$7:B$306)-ROW(B$7)+1),ROWS($A$3:B132))),\"\")","v":""},{"$f":"IFERROR(INDEX('بيانات اساسية'!C$6:C$306,SMALL(IF('بيانات اساسية'!$AL$6:$AL$306=\"معلم\",ROW(C$7:C$306)-ROW(C$7)+1),ROWS($A$3:C132))),\"\")","v":""},{"$f":"IFERROR(INDEX('بيانات اساسية'!AF$6:AF$306,SMALL(IF('بيانات اساسية'!$AL$6:$AL$306=\"معلم\",ROW(D$7:D$306)-ROW(D$7)+1),ROWS($A$3:D132))),\"\")","v":""},{"$f":"IFERROR(INDEX('بيانات اساسية'!AH$6:AH$306,SMALL(IF('بيانات اساسية'!$AL$6:$AL$306=\"معلم\",ROW(E$7:E$306)-ROW(E$7)+1),ROWS($A$3:E132))),\"\")","v":""},{"$f":"IFERROR(INDEX('بيانات اساسية'!AI$6:AI$306,SMALL(IF('بيانات اساسية'!$AL$6:$AL$306=\"معلم\",ROW(F$7:F$306)-ROW(F$7)+1),ROWS($A$3:F132))),\"\")","v":""},{"$f":"IFERROR(INDEX('بيانات اساسية'!AJ$6:AJ$306,SMALL(IF('بيانات اساسية'!$AL$6:$AL$306=\"معلم\",ROW(G$7:G$306)-ROW(G$7)+1),ROWS($A$3:G132))),\"\")","v":""},{"$f":"IFERROR(INDEX('بيانات اساسية'!AK$6:AK$306,SMALL(IF('بيانات اساسية'!$AL$6:$AL$306=\"معلم\",ROW(H$7:H$306)-ROW(H$7)+1),ROWS($A$3:H132))),\"\")","v":""}]
[{"$f":"IF(B134=\"\",\"\",SUBTOTAL(3,B$4:B134))","v":""},{"$f":"IFERROR(INDEX('بيانات اساسية'!B$6:B$306,SMALL(IF('بيانات اساسية'!$AL$6:$AL$306=\"معلم\",ROW(B$7:B$306)-ROW(B$7)+1),ROWS($A$3:B133))),\"\")","v":""},{"$f":"IFERROR(INDEX('بيانات اساسية'!C$6:C$306,SMALL(IF('بيانات اساسية'!$AL$6:$AL$306=\"معلم\",ROW(C$7:C$306)-ROW(C$7)+1),ROWS($A$3:C133))),\"\")","v":""},{"$f":"IFERROR(INDEX('بيانات اساسية'!AF$6:AF$306,SMALL(IF('بيانات اساسية'!$AL$6:$AL$306=\"معلم\",ROW(D$7:D$306)-ROW(D$7)+1),ROWS($A$3:D133))),\"\")","v":""},{"$f":"IFERROR(INDEX('بيانات اساسية'!AH$6:AH$306,SMALL(IF('بيانات اساسية'!$AL$6:$AL$306=\"معلم\",ROW(E$7:E$306)-ROW(E$7)+1),ROWS($A$3:E133))),\"\")","v":""},{"$f":"IFERROR(INDEX('بيانات اساسية'!AI$6:AI$306,SMALL(IF('بيانات اساسية'!$AL$6:$AL$306=\"معلم\",ROW(F$7:F$306)-ROW(F$7)+1),ROWS($A$3:F133))),\"\")","v":""},{"$f":"IFERROR(INDEX('بيانات اساسية'!AJ$6:AJ$306,SMALL(IF('بيانات اساسية'!$AL$6:$AL$306=\"معلم\",ROW(G$7:G$306)-ROW(G$7)+1),ROWS($A$3:G133))),\"\")","v":""},{"$f":"IFERROR(INDEX('بيانات اساسية'!AK$6:AK$306,SMALL(IF('بيانات اساسية'!$AL$6:$AL$306=\"معلم\",ROW(H$7:H$306)-ROW(H$7)+1),ROWS($A$3:H133))),\"\")","v":""}]
[{"$f":"IF(B135=\"\",\"\",SUBTOTAL(3,B$4:B135))","v":""},{"$f":"IFERROR(INDEX('بيانات اساسية'!B$6:B$306,SMALL(IF('بيانات اساسية'!$AL$6:$AL$306=\"معلم\",ROW(B$7:B$306)-ROW(B$7)+1),ROWS($A$3:B134))),\"\")","v":""},{"$f":"IFERROR(INDEX('بيانات اساسية'!C$6:C$306,SMALL(IF('بيانات اساسية'!$AL$6:$AL$306=\"معلم\",ROW(C$7:C$306)-ROW(C$7)+1),ROWS($A$3:C134))),\"\")","v":""},{"$f":"IFERROR(INDEX('بيانات اساسية'!AF$6:AF$306,SMALL(IF('بيانات اساسية'!$AL$6:$AL$306=\"معلم\",ROW(D$7:D$306)-ROW(D$7)+1),ROWS($A$3:D134))),\"\")","v":""},{"$f":"IFERROR(INDEX('بيانات اساسية'!AH$6:AH$306,SMALL(IF('بيانات اساسية'!$AL$6:$AL$306=\"معلم\",ROW(E$7:E$306)-ROW(E$7)+1),ROWS($A$3:E134))),\"\")","v":""},{"$f":"IFERROR(INDEX('بيانات اساسية'!AI$6:AI$306,SMALL(IF('بيانات اساسية'!$AL$6:$AL$306=\"معلم\",ROW(F$7:F$306)-ROW(F$7)+1),ROWS($A$3:F134))),\"\")","v":""},{"$f":"IFERROR(INDEX('بيانات اساسية'!AJ$6:AJ$306,SMALL(IF('بيانات اساسية'!$AL$6:$AL$306=\"معلم\",ROW(G$7:G$306)-ROW(G$7)+1),ROWS($A$3:G134))),\"\")","v":""},{"$f":"IFERROR(INDEX('بيانات اساسية'!AK$6:AK$306,SMALL(IF('بيانات اساسية'!$AL$6:$AL$306=\"معلم\",ROW(H$7:H$306)-ROW(H$7)+1),ROWS($A$3:H134))),\"\")","v":""}]
[{"$f":"IF(B136=\"\",\"\",SUBTOTAL(3,B$4:B136))","v":""},{"$f":"IFERROR(INDEX('بيانات اساسية'!B$6:B$306,SMALL(IF('بيانات اساسية'!$AL$6:$AL$306=\"معلم\",ROW(B$7:B$306)-ROW(B$7)+1),ROWS($A$3:B135))),\"\")","v":""},{"$f":"IFERROR(INDEX('بيانات اساسية'!C$6:C$306,SMALL(IF('بيانات اساسية'!$AL$6:$AL$306=\"معلم\",ROW(C$7:C$306)-ROW(C$7)+1),ROWS($A$3:C135))),\"\")","v":""},{"$f":"IFERROR(INDEX('بيانات اساسية'!AF$6:AF$306,SMALL(IF('بيانات اساسية'!$AL$6:$AL$306=\"معلم\",ROW(D$7:D$306)-ROW(D$7)+1),ROWS($A$3:D135))),\"\")","v":""},{"$f":"IFERROR(INDEX('بيانات اساسية'!AH$6:AH$306,SMALL(IF('بيانات اساسية'!$AL$6:$AL$306=\"معلم\",ROW(E$7:E$306)-ROW(E$7)+1),ROWS($A$3:E135))),\"\")","v":""},{"$f":"IFERROR(INDEX('بيانات اساسية'!AI$6:AI$306,SMALL(IF('بيانات اساسية'!$AL$6:$AL$306=\"معلم\",ROW(F$7:F$306)-ROW(F$7)+1),ROWS($A$3:F135))),\"\")","v":""},{"$f":"IFERROR(INDEX('بيانات اساسية'!AJ$6:AJ$306,SMALL(IF('بيانات اساسية'!$AL$6:$AL$306=\"معلم\",ROW(G$7:G$306)-ROW(G$7)+1),ROWS($A$3:G135))),\"\")","v":""},{"$f":"IFERROR(INDEX('بيانات اساسية'!AK$6:AK$306,SMALL(IF('بيانات اساسية'!$AL$6:$AL$306=\"معلم\",ROW(H$7:H$306)-ROW(H$7)+1),ROWS($A$3:H135))),\"\")","v":""}]
[{"$f":"IF(B137=\"\",\"\",SUBTOTAL(3,B$4:B137))","v":""},{"$f":"IFERROR(INDEX('بيانات اساسية'!B$6:B$306,SMALL(IF('بيانات اساسية'!$AL$6:$AL$306=\"معلم\",ROW(B$7:B$306)-ROW(B$7)+1),ROWS($A$3:B136))),\"\")","v":""},{"$f":"IFERROR(INDEX('بيانات اساسية'!C$6:C$306,SMALL(IF('بيانات اساسية'!$AL$6:$AL$306=\"معلم\",ROW(C$7:C$306)-ROW(C$7)+1),ROWS($A$3:C136))),\"\")","v":""},{"$f":"IFERROR(INDEX('بيانات اساسية'!AF$6:AF$306,SMALL(IF('بيانات اساسية'!$AL$6:$AL$306=\"معلم\",ROW(D$7:D$306)-ROW(D$7)+1),ROWS($A$3:D136))),\"\")","v":""},{"$f":"IFERROR(INDEX('بيانات اساسية'!AH$6:AH$306,SMALL(IF('بيانات اساسية'!$AL$6:$AL$306=\"معلم\",ROW(E$7:E$306)-ROW(E$7)+1),ROWS($A$3:E136))),\"\")","v":""},{"$f":"IFERROR(INDEX('بيانات اساسية'!AI$6:AI$306,SMALL(IF('بيانات اساسية'!$AL$6:$AL$306=\"معلم\",ROW(F$7:F$306)-ROW(F$7)+1),ROWS($A$3:F136))),\"\")","v":""},{"$f":"IFERROR(INDEX('بيانات اساسية'!AJ$6:AJ$306,SMALL(IF('بيانات اساسية'!$AL$6:$AL$306=\"معلم\",ROW(G$7:G$306)-ROW(G$7)+1),ROWS($A$3:G136))),\"\")","v":""},{"$f":"IFERROR(INDEX('بيانات اساسية'!AK$6:AK$306,SMALL(IF('بيانات اساسية'!$AL$6:$AL$306=\"معلم\",ROW(H$7:H$306)-ROW(H$7)+1),ROWS($A$3:H136))),\"\")","v":""}]
[{"$f":"IF(B138=\"\",\"\",SUBTOTAL(3,B$4:B138))","v":""},{"$f":"IFERROR(INDEX('بيانات اساسية'!B$6:B$306,SMALL(IF('بيانات اساسية'!$AL$6:$AL$306=\"معلم\",ROW(B$7:B$306)-ROW(B$7)+1),ROWS($A$3:B137))),\"\")","v":""},{"$f":"IFERROR(INDEX('بيانات اساسية'!C$6:C$306,SMALL(IF('بيانات اساسية'!$AL$6:$AL$306=\"معلم\",ROW(C$7:C$306)-ROW(C$7)+1),ROWS($A$3:C137))),\"\")","v":""},{"$f":"IFERROR(INDEX('بيانات اساسية'!AF$6:AF$306,SMALL(IF('بيانات اساسية'!$AL$6:$AL$306=\"معلم\",ROW(D$7:D$306)-ROW(D$7)+1),ROWS($A$3:D137))),\"\")","v":""},{"$f":"IFERROR(INDEX('بيانات اساسية'!AH$6:AH$306,SMALL(IF('بيانات اساسية'!$AL$6:$AL$306=\"معلم\",ROW(E$7:E$306)-ROW(E$7)+1),ROWS($A$3:E137))),\"\")","v":""},{"$f":"IFERROR(INDEX('بيانات اساسية'!AI$6:AI$306,SMALL(IF('بيانات اساسية'!$AL$6:$AL$306=\"معلم\",ROW(F$7:F$306)-ROW(F$7)+1),ROWS($A$3:F137))),\"\")","v":""},{"$f":"IFERROR(INDEX('بيانات اساسية'!AJ$6:AJ$306,SMALL(IF('بيانات اساسية'!$AL$6:$AL$306=\"معلم\",ROW(G$7:G$306)-ROW(G$7)+1),ROWS($A$3:G137))),\"\")","v":""},{"$f":"IFERROR(INDEX('بيانات اساسية'!AK$6:AK$306,SMALL(IF('بيانات اساسية'!$AL$6:$AL$306=\"معلم\",ROW(H$7:H$306)-ROW(H$7)+1),ROWS($A$3:H137))),\"\")","v":""}]
[{"$f":"IF(B139=\"\",\"\",SUBTOTAL(3,B$4:B139))","v":""},{"$f":"IFERROR(INDEX('بيانات اساسية'!B$6:B$306,SMALL(IF('بيانات اساسية'!$AL$6:$AL$306=\"معلم\",ROW(B$7:B$306)-ROW(B$7)+1),ROWS($A$3:B138))),\"\")","v":""},{"$f":"IFERROR(INDEX('بيانات اساسية'!C$6:C$306,SMALL(IF('بيانات اساسية'!$AL$6:$AL$306=\"معلم\",ROW(C$7:C$306)-ROW(C$7)+1),ROWS($A$3:C138))),\"\")","v":""},{"$f":"IFERROR(INDEX('بيانات اساسية'!AF$6:AF$306,SMALL(IF('بيانات اساسية'!$AL$6:$AL$306=\"معلم\",ROW(D$7:D$306)-ROW(D$7)+1),ROWS($A$3:D138))),\"\")","v":""},{"$f":"IFERROR(INDEX('بيانات اساسية'!AH$6:AH$306,SMALL(IF('بيانات اساسية'!$AL$6:$AL$306=\"معلم\",ROW(E$7:E$306)-ROW(E$7)+1),ROWS($A$3:E138))),\"\")","v":""},{"$f":"IFERROR(INDEX('بيانات اساسية'!AI$6:AI$306,SMALL(IF('بيانات اساسية'!$AL$6:$AL$306=\"معلم\",ROW(F$7:F$306)-ROW(F$7)+1),ROWS($A$3:F138))),\"\")","v":""},{"$f":"IFERROR(INDEX('بيانات اساسية'!AJ$6:AJ$306,SMALL(IF('بيانات اساسية'!$AL$6:$AL$306=\"معلم\",ROW(G$7:G$306)-ROW(G$7)+1),ROWS($A$3:G138))),\"\")","v":""},{"$f":"IFERROR(INDEX('بيانات اساسية'!AK$6:AK$306,SMALL(IF('بيانات اساسية'!$AL$6:$AL$306=\"معلم\",ROW(H$7:H$306)-ROW(H$7)+1),ROWS($A$3:H138))),\"\")","v":""}]
[{"$f":"IF(B140=\"\",\"\",SUBTOTAL(3,B$4:B140))","v":""},{"$f":"IFERROR(INDEX('بيانات اساسية'!B$6:B$306,SMALL(IF('بيانات اساسية'!$AL$6:$AL$306=\"معلم\",ROW(B$7:B$306)-ROW(B$7)+1),ROWS($A$3:B139))),\"\")","v":""},{"$f":"IFERROR(INDEX('بيانات اساسية'!C$6:C$306,SMALL(IF('بيانات اساسية'!$AL$6:$AL$306=\"معلم\",ROW(C$7:C$306)-ROW(C$7)+1),ROWS($A$3:C139))),\"\")","v":""},{"$f":"IFERROR(INDEX('بيانات اساسية'!AF$6:AF$306,SMALL(IF('بيانات اساسية'!$AL$6:$AL$306=\"معلم\",ROW(D$7:D$306)-ROW(D$7)+1),ROWS($A$3:D139))),\"\")","v":""},{"$f":"IFERROR(INDEX('بيانات اساسية'!AH$6:AH$306,SMALL(IF('بيانات اساسية'!$AL$6:$AL$306=\"معلم\",ROW(E$7:E$306)-ROW(E$7)+1),ROWS($A$3:E139))),\"\")","v":""},{"$f":"IFERROR(INDEX('بيانات اساسية'!AI$6:AI$306,SMALL(IF('بيانات اساسية'!$AL$6:$AL$306=\"معلم\",ROW(F$7:F$306)-ROW(F$7)+1),ROWS($A$3:F139))),\"\")","v":""},{"$f":"IFERROR(INDEX('بيانات اساسية'!AJ$6:AJ$306,SMALL(IF('بيانات اساسية'!$AL$6:$AL$306=\"معلم\",ROW(G$7:G$306)-ROW(G$7)+1),ROWS($A$3:G139))),\"\")","v":""},{"$f":"IFERROR(INDEX('بيانات اساسية'!AK$6:AK$306,SMALL(IF('بيانات اساسية'!$AL$6:$AL$306=\"معلم\",ROW(H$7:H$306)-ROW(H$7)+1),ROWS($A$3:H139))),\"\")","v":""}]
[{"$f":"IF(B141=\"\",\"\",SUBTOTAL(3,B$4:B141))","v":""},{"$f":"IFERROR(INDEX('بيانات اساسية'!B$6:B$306,SMALL(IF('بيانات اساسية'!$AL$6:$AL$306=\"معلم\",ROW(B$7:B$306)-ROW(B$7)+1),ROWS($A$3:B140))),\"\")","v":""},{"$f":"IFERROR(INDEX('بيانات اساسية'!C$6:C$306,SMALL(IF('بيانات اساسية'!$AL$6:$AL$306=\"معلم\",ROW(C$7:C$306)-ROW(C$7)+1),ROWS($A$3:C140))),\"\")","v":""},{"$f":"IFERROR(INDEX('بيانات اساسية'!AF$6:AF$306,SMALL(IF('بيانات اساسية'!$AL$6:$AL$306=\"معلم\",ROW(D$7:D$306)-ROW(D$7)+1),ROWS($A$3:D140))),\"\")","v":""},{"$f":"IFERROR(INDEX('بيانات اساسية'!AH$6:AH$306,SMALL(IF('بيانات اساسية'!$AL$6:$AL$306=\"معلم\",ROW(E$7:E$306)-ROW(E$7)+1),ROWS($A$3:E140))),\"\")","v":""},{"$f":"IFERROR(INDEX('بيانات اساسية'!AI$6:AI$306,SMALL(IF('بيانات اساسية'!$AL$6:$AL$306=\"معلم\",ROW(F$7:F$306)-ROW(F$7)+1),ROWS($A$3:F140))),\"\")","v":""},{"$f":"IFERROR(INDEX('بيانات اساسية'!AJ$6:AJ$306,SMALL(IF('بيانات اساسية'!$AL$6:$AL$306=\"معلم\",ROW(G$7:G$306)-ROW(G$7)+1),ROWS($A$3:G140))),\"\")","v":""},{"$f":"IFERROR(INDEX('بيانات اساسية'!AK$6:AK$306,SMALL(IF('بيانات اساسية'!$AL$6:$AL$306=\"معلم\",ROW(H$7:H$306)-ROW(H$7)+1),ROWS($A$3:H140))),\"\")","v":""}]
[{"$f":"IF(B142=\"\",\"\",SUBTOTAL(3,B$4:B142))","v":""},{"$f":"IFERROR(INDEX('بيانات اساسية'!B$6:B$306,SMALL(IF('بيانات اساسية'!$AL$6:$AL$306=\"معلم\",ROW(B$7:B$306)-ROW(B$7)+1),ROWS($A$3:B141))),\"\")","v":""},{"$f":"IFERROR(INDEX('بيانات اساسية'!C$6:C$306,SMALL(IF('بيانات اساسية'!$AL$6:$AL$306=\"معلم\",ROW(C$7:C$306)-ROW(C$7)+1),ROWS($A$3:C141))),\"\")","v":""},{"$f":"IFERROR(INDEX('بيانات اساسية'!AF$6:AF$306,SMALL(IF('بيانات اساسية'!$AL$6:$AL$306=\"معلم\",ROW(D$7:D$306)-ROW(D$7)+1),ROWS($A$3:D141))),\"\")","v":""},{"$f":"IFERROR(INDEX('بيانات اساسية'!AH$6:AH$306,SMALL(IF('بيانات اساسية'!$AL$6:$AL$306=\"معلم\",ROW(E$7:E$306)-ROW(E$7)+1),ROWS($A$3:E141))),\"\")","v":""},{"$f":"IFERROR(INDEX('بيانات اساسية'!AI$6:AI$306,SMALL(IF('بيانات اساسية'!$AL$6:$AL$306=\"معلم\",ROW(F$7:F$306)-ROW(F$7)+1),ROWS($A$3:F141))),\"\")","v":""},{"$f":"IFERROR(INDEX('بيانات اساسية'!AJ$6:AJ$306,SMALL(IF('بيانات اساسية'!$AL$6:$AL$306=\"معلم\",ROW(G$7:G$306)-ROW(G$7)+1),ROWS($A$3:G141))),\"\")","v":""},{"$f":"IFERROR(INDEX('بيانات اساسية'!AK$6:AK$306,SMALL(IF('بيانات اساسية'!$AL$6:$AL$306=\"معلم\",ROW(H$7:H$306)-ROW(H$7)+1),ROWS($A$3:H141))),\"\")","v":""}]
[{"$f":"IF(B143=\"\",\"\",SUBTOTAL(3,B$4:B143))","v":""},{"$f":"IFERROR(INDEX('بيانات اساسية'!B$6:B$306,SMALL(IF('بيانات اساسية'!$AL$6:$AL$306=\"معلم\",ROW(B$7:B$306)-ROW(B$7)+1),ROWS($A$3:B142))),\"\")","v":""},{"$f":"IFERROR(INDEX('بيانات اساسية'!C$6:C$306,SMALL(IF('بيانات اساسية'!$AL$6:$AL$306=\"معلم\",ROW(C$7:C$306)-ROW(C$7)+1),ROWS($A$3:C142))),\"\")","v":""},{"$f":"IFERROR(INDEX('بيانات اساسية'!AF$6:AF$306,SMALL(IF('بيانات اساسية'!$AL$6:$AL$306=\"معلم\",ROW(D$7:D$306)-ROW(D$7)+1),ROWS($A$3:D142))),\"\")","v":""},{"$f":"IFERROR(INDEX('بيانات اساسية'!AH$6:AH$306,SMALL(IF('بيانات اساسية'!$AL$6:$AL$306=\"معلم\",ROW(E$7:E$306)-ROW(E$7)+1),ROWS($A$3:E142))),\"\")","v":""},{"$f":"IFERROR(INDEX('بيانات اساسية'!AI$6:AI$306,SMALL(IF('بيانات اساسية'!$AL$6:$AL$306=\"معلم\",ROW(F$7:F$306)-ROW(F$7)+1),ROWS($A$3:F142))),\"\")","v":""},{"$f":"IFERROR(INDEX('بيانات اساسية'!AJ$6:AJ$306,SMALL(IF('بيانات اساسية'!$AL$6:$AL$306=\"معلم\",ROW(G$7:G$306)-ROW(G$7)+1),ROWS($A$3:G142))),\"\")","v":""},{"$f":"IFERROR(INDEX('بيانات اساسية'!AK$6:AK$306,SMALL(IF('بيانات اساسية'!$AL$6:$AL$306=\"معلم\",ROW(H$7:H$306)-ROW(H$7)+1),ROWS($A$3:H142))),\"\")","v":""}]
[{"$f":"IF(B144=\"\",\"\",SUBTOTAL(3,B$4:B144))","v":""},{"$f":"IFERROR(INDEX('بيانات اساسية'!B$6:B$306,SMALL(IF('بيانات اساسية'!$AL$6:$AL$306=\"معلم\",ROW(B$7:B$306)-ROW(B$7)+1),ROWS($A$3:B143))),\"\")","v":""},{"$f":"IFERROR(INDEX('بيانات اساسية'!C$6:C$306,SMALL(IF('بيانات اساسية'!$AL$6:$AL$306=\"معلم\",ROW(C$7:C$306)-ROW(C$7)+1),ROWS($A$3:C143))),\"\")","v":""},{"$f":"IFERROR(INDEX('بيانات اساسية'!AF$6:AF$306,SMALL(IF('بيانات اساسية'!$AL$6:$AL$306=\"معلم\",ROW(D$7:D$306)-ROW(D$7)+1),ROWS($A$3:D143))),\"\")","v":""},{"$f":"IFERROR(INDEX('بيانات اساسية'!AH$6:AH$306,SMALL(IF('بيانات اساسية'!$AL$6:$AL$306=\"معلم\",ROW(E$7:E$306)-ROW(E$7)+1),ROWS($A$3:E143))),\"\")","v":""},{"$f":"IFERROR(INDEX('بيانات اساسية'!AI$6:AI$306,SMALL(IF('بيانات اساسية'!$AL$6:$AL$306=\"معلم\",ROW(F$7:F$306)-ROW(F$7)+1),ROWS($A$3:F143))),\"\")","v":""},{"$f":"IFERROR(INDEX('بيانات اساسية'!AJ$6:AJ$306,SMALL(IF('بيانات اساسية'!$AL$6:$AL$306=\"معلم\",ROW(G$7:G$306)-ROW(G$7)+1),ROWS($A$3:G143))),\"\")","v":""},{"$f":"IFERROR(INDEX('بيانات اساسية'!AK$6:AK$306,SMALL(IF('بيانات اساسية'!$AL$6:$AL$306=\"معلم\",ROW(H$7:H$306)-ROW(H$7)+1),ROWS($A$3:H143))),\"\")","v":""}]
[{"$f":"IF(B145=\"\",\"\",SUBTOTAL(3,B$4:B145))","v":""},{"$f":"IFERROR(INDEX('بيانات اساسية'!B$6:B$306,SMALL(IF('بيانات اساسية'!$AL$6:$AL$306=\"معلم\",ROW(B$7:B$306)-ROW(B$7)+1),ROWS($A$3:B144))),\"\")","v":""},{"$f":"IFERROR(INDEX('بيانات اساسية'!C$6:C$306,SMALL(IF('بيانات اساسية'!$AL$6:$AL$306=\"معلم\",ROW(C$7:C$306)-ROW(C$7)+1),ROWS($A$3:C144))),\"\")","v":""},{"$f":"IFERROR(INDEX('بيانات اساسية'!AF$6:AF$306,SMALL(IF('بيانات اساسية'!$AL$6:$AL$306=\"معلم\",ROW(D$7:D$306)-ROW(D$7)+1),ROWS($A$3:D144))),\"\")","v":""},{"$f":"IFERROR(INDEX('بيانات اساسية'!AH$6:AH$306,SMALL(IF('بيانات اساسية'!$AL$6:$AL$306=\"معلم\",ROW(E$7:E$306)-ROW(E$7)+1),ROWS($A$3:E144))),\"\")","v":""},{"$f":"IFERROR(INDEX('بيانات اساسية'!AI$6:AI$306,SMALL(IF('بيانات اساسية'!$AL$6:$AL$306=\"معلم\",ROW(F$7:F$306)-ROW(F$7)+1),ROWS($A$3:F144))),\"\")","v":""},{"$f":"IFERROR(INDEX('بيانات اساسية'!AJ$6:AJ$306,SMALL(IF('بيانات اساسية'!$AL$6:$AL$306=\"معلم\",ROW(G$7:G$306)-ROW(G$7)+1),ROWS($A$3:G144))),\"\")","v":""},{"$f":"IFERROR(INDEX('بيانات اساسية'!AK$6:AK$306,SMALL(IF('بيانات اساسية'!$AL$6:$AL$306=\"معلم\",ROW(H$7:H$306)-ROW(H$7)+1),ROWS($A$3:H144))),\"\")","v":""}]
[{"$f":"IF(B146=\"\",\"\",SUBTOTAL(3,B$4:B146))","v":""},{"$f":"IFERROR(INDEX('بيانات اساسية'!B$6:B$306,SMALL(IF('بيانات اساسية'!$AL$6:$AL$306=\"معلم\",ROW(B$7:B$306)-ROW(B$7)+1),ROWS($A$3:B145))),\"\")","v":""},{"$f":"IFERROR(INDEX('بيانات اساسية'!C$6:C$306,SMALL(IF('بيانات اساسية'!$AL$6:$AL$306=\"معلم\",ROW(C$7:C$306)-ROW(C$7)+1),ROWS($A$3:C145))),\"\")","v":""},{"$f":"IFERROR(INDEX('بيانات اساسية'!AF$6:AF$306,SMALL(IF('بيانات اساسية'!$AL$6:$AL$306=\"معلم\",ROW(D$7:D$306)-ROW(D$7)+1),ROWS($A$3:D145))),\"\")","v":""},{"$f":"IFERROR(INDEX('بيانات اساسية'!AH$6:AH$306,SMALL(IF('بيانات اساسية'!$AL$6:$AL$306=\"معلم\",ROW(E$7:E$306)-ROW(E$7)+1),ROWS($A$3:E145))),\"\")","v":""},{"$f":"IFERROR(INDEX('بيانات اساسية'!AI$6:AI$306,SMALL(IF('بيانات اساسية'!$AL$6:$AL$306=\"معلم\",ROW(F$7:F$306)-ROW(F$7)+1),ROWS($A$3:F145))),\"\")","v":""},{"$f":"IFERROR(INDEX('بيانات اساسية'!AJ$6:AJ$306,SMALL(IF('بيانات اساسية'!$AL$6:$AL$306=\"معلم\",ROW(G$7:G$306)-ROW(G$7)+1),ROWS($A$3:G145))),\"\")","v":""},{"$f":"IFERROR(INDEX('بيانات اساسية'!AK$6:AK$306,SMALL(IF('بيانات اساسية'!$AL$6:$AL$306=\"معلم\",ROW(H$7:H$306)-ROW(H$7)+1),ROWS($A$3:H145))),\"\")","v":""}]
[{"$f":"IF(B147=\"\",\"\",SUBTOTAL(3,B$4:B147))","v":""},{"$f":"IFERROR(INDEX('بيانات اساسية'!B$6:B$306,SMALL(IF('بيانات اساسية'!$AL$6:$AL$306=\"معلم\",ROW(B$7:B$306)-ROW(B$7)+1),ROWS($A$3:B146))),\"\")","v":""},{"$f":"IFERROR(INDEX('بيانات اساسية'!C$6:C$306,SMALL(IF('بيانات اساسية'!$AL$6:$AL$306=\"معلم\",ROW(C$7:C$306)-ROW(C$7)+1),ROWS($A$3:C146))),\"\")","v":""},{"$f":"IFERROR(INDEX('بيانات اساسية'!AF$6:AF$306,SMALL(IF('بيانات اساسية'!$AL$6:$AL$306=\"معلم\",ROW(D$7:D$306)-ROW(D$7)+1),ROWS($A$3:D146))),\"\")","v":""},{"$f":"IFERROR(INDEX('بيانات اساسية'!AH$6:AH$306,SMALL(IF('بيانات اساسية'!$AL$6:$AL$306=\"معلم\",ROW(E$7:E$306)-ROW(E$7)+1),ROWS($A$3:E146))),\"\")","v":""},{"$f":"IFERROR(INDEX('بيانات اساسية'!AI$6:AI$306,SMALL(IF('بيانات اساسية'!$AL$6:$AL$306=\"معلم\",ROW(F$7:F$306)-ROW(F$7)+1),ROWS($A$3:F146))),\"\")","v":""},{"$f":"IFERROR(INDEX('بيانات اساسية'!AJ$6:AJ$306,SMALL(IF('بيانات اساسية'!$AL$6:$AL$306=\"معلم\",ROW(G$7:G$306)-ROW(G$7)+1),ROWS($A$3:G146))),\"\")","v":""},{"$f":"IFERROR(INDEX('بيانات اساسية'!AK$6:AK$306,SMALL(IF('بيانات اساسية'!$AL$6:$AL$306=\"معلم\",ROW(H$7:H$306)-ROW(H$7)+1),ROWS($A$3:H146))),\"\")","v":""}]
[{"$f":"IF(B148=\"\",\"\",SUBTOTAL(3,B$4:B148))","v":""},{"$f":"IFERROR(INDEX('بيانات اساسية'!B$6:B$306,SMALL(IF('بيانات اساسية'!$AL$6:$AL$306=\"معلم\",ROW(B$7:B$306)-ROW(B$7)+1),ROWS($A$3:B147))),\"\")","v":""},{"$f":"IFERROR(INDEX('بيانات اساسية'!C$6:C$306,SMALL(IF('بيانات اساسية'!$AL$6:$AL$306=\"معلم\",ROW(C$7:C$306)-ROW(C$7)+1),ROWS($A$3:C147))),\"\")","v":""},{"$f":"IFERROR(INDEX('بيانات اساسية'!AF$6:AF$306,SMALL(IF('بيانات اساسية'!$AL$6:$AL$306=\"معلم\",ROW(D$7:D$306)-ROW(D$7)+1),ROWS($A$3:D147))),\"\")","v":""},{"$f":"IFERROR(INDEX('بيانات اساسية'!AH$6:AH$306,SMALL(IF('بيانات اساسية'!$AL$6:$AL$306=\"معلم\",ROW(E$7:E$306)-ROW(E$7)+1),ROWS($A$3:E147))),\"\")","v":""},{"$f":"IFERROR(INDEX('بيانات اساسية'!AI$6:AI$306,SMALL(IF('بيانات اساسية'!$AL$6:$AL$306=\"معلم\",ROW(F$7:F$306)-ROW(F$7)+1),ROWS($A$3:F147))),\"\")","v":""},{"$f":"IFERROR(INDEX('بيانات اساسية'!AJ$6:AJ$306,SMALL(IF('بيانات اساسية'!$AL$6:$AL$306=\"معلم\",ROW(G$7:G$306)-ROW(G$7)+1),ROWS($A$3:G147))),\"\")","v":""},{"$f":"IFERROR(INDEX('بيانات اساسية'!AK$6:AK$306,SMALL(IF('بيانات اساسية'!$AL$6:$AL$306=\"معلم\",ROW(H$7:H$306)-ROW(H$7)+1),ROWS($A$3:H147))),\"\")","v":""}]
[{"$f":"IF(B149=\"\",\"\",SUBTOTAL(3,B$4:B149))","v":""},{"$f":"IFERROR(INDEX('بيانات اساسية'!B$6:B$306,SMALL(IF('بيانات اساسية'!$AL$6:$AL$306=\"معلم\",ROW(B$7:B$306)-ROW(B$7)+1),ROWS($A$3:B148))),\"\")","v":""},{"$f":"IFERROR(INDEX('بيانات اساسية'!C$6:C$306,SMALL(IF('بيانات اساسية'!$AL$6:$AL$306=\"معلم\",ROW(C$7:C$306)-ROW(C$7)+1),ROWS($A$3:C148))),\"\")","v":""},{"$f":"IFERROR(INDEX('بيانات اساسية'!AF$6:AF$306,SMALL(IF('بيانات اساسية'!$AL$6:$AL$306=\"معلم\",ROW(D$7:D$306)-ROW(D$7)+1),ROWS($A$3:D148))),\"\")","v":""},{"$f":"IFERROR(INDEX('بيانات اساسية'!AH$6:AH$306,SMALL(IF('بيانات اساسية'!$AL$6:$AL$306=\"معلم\",ROW(E$7:E$306)-ROW(E$7)+1),ROWS($A$3:E148))),\"\")","v":""},{"$f":"IFERROR(INDEX('بيانات اساسية'!AI$6:AI$306,SMALL(IF('بيانات اساسية'!$AL$6:$AL$306=\"معلم\",ROW(F$7:F$306)-ROW(F$7)+1),ROWS($A$3:F148))),\"\")","v":""},{"$f":"IFERROR(INDEX('بيانات اساسية'!AJ$6:AJ$306,SMALL(IF('بيانات اساسية'!$AL$6:$AL$306=\"معلم\",ROW(G$7:G$306)-ROW(G$7)+1),ROWS($A$3:G148))),\"\")","v":""},{"$f":"IFERROR(INDEX('بيانات اساسية'!AK$6:AK$306,SMALL(IF('بيانات اساسية'!$AL$6:$AL$306=\"معلم\",ROW(H$7:H$306)-ROW(H$7)+1),ROWS($A$3:H148))),\"\")","v":""}]
[{"$f":"IF(B150=\"\",\"\",SUBTOTAL(3,B$4:B150))","v":""},{"$f":"IFERROR(INDEX('بيانات اساسية'!B$6:B$306,SMALL(IF('بيانات اساسية'!$AL$6:$AL$306=\"معلم\",ROW(B$7:B$306)-ROW(B$7)+1),ROWS($A$3:B149))),\"\")","v":""},{"$f":"IFERROR(INDEX('بيانات اساسية'!C$6:C$306,SMALL(IF('بيانات اساسية'!$AL$6:$AL$306=\"معلم\",ROW(C$7:C$306)-ROW(C$7)+1),ROWS($A$3:C149))),\"\")","v":""},{"$f":"IFERROR(INDEX('بيانات اساسية'!AF$6:AF$306,SMALL(IF('بيانات اساسية'!$AL$6:$AL$306=\"معلم\",ROW(D$7:D$306)-ROW(D$7)+1),ROWS($A$3:D149))),\"\")","v":""},{"$f":"IFERROR(INDEX('بيانات اساسية'!AH$6:AH$306,SMALL(IF('بيانات اساسية'!$AL$6:$AL$306=\"معلم\",ROW(E$7:E$306)-ROW(E$7)+1),ROWS($A$3:E149))),\"\")","v":""},{"$f":"IFERROR(INDEX('بيانات اساسية'!AI$6:AI$306,SMALL(IF('بيانات اساسية'!$AL$6:$AL$306=\"معلم\",ROW(F$7:F$306)-ROW(F$7)+1),ROWS($A$3:F149))),\"\")","v":""},{"$f":"IFERROR(INDEX('بيانات اساسية'!AJ$6:AJ$306,SMALL(IF('بيانات اساسية'!$AL$6:$AL$306=\"معلم\",ROW(G$7:G$306)-ROW(G$7)+1),ROWS($A$3:G149))),\"\")","v":""},{"$f":"IFERROR(INDEX('بيانات اساسية'!AK$6:AK$306,SMALL(IF('بيانات اساسية'!$AL$6:$AL$306=\"معلم\",ROW(H$7:H$306)-ROW(H$7)+1),ROWS($A$3:H149))),\"\")","v":""}]
[{"$f":"IF(B151=\"\",\"\",SUBTOTAL(3,B$4:B151))","v":""},{"$f":"IFERROR(INDEX('بيانات اساسية'!B$6:B$306,SMALL(IF('بيانات اساسية'!$AL$6:$AL$306=\"معلم\",ROW(B$7:B$306)-ROW(B$7)+1),ROWS($A$3:B150))),\"\")","v":""},{"$f":"IFERROR(INDEX('بيانات اساسية'!C$6:C$306,SMALL(IF('بيانات اساسية'!$AL$6:$AL$306=\"معلم\",ROW(C$7:C$306)-ROW(C$7)+1),ROWS($A$3:C150))),\"\")","v":""},{"$f":"IFERROR(INDEX('بيانات اساسية'!AF$6:AF$306,SMALL(IF('بيانات اساسية'!$AL$6:$AL$306=\"معلم\",ROW(D$7:D$306)-ROW(D$7)+1),ROWS($A$3:D150))),\"\")","v":""},{"$f":"IFERROR(INDEX('بيانات اساسية'!AH$6:AH$306,SMALL(IF('بيانات اساسية'!$AL$6:$AL$306=\"معلم\",ROW(E$7:E$306)-ROW(E$7)+1),ROWS($A$3:E150))),\"\")","v":""},{"$f":"IFERROR(INDEX('بيانات اساسية'!AI$6:AI$306,SMALL(IF('بيانات اساسية'!$AL$6:$AL$306=\"معلم\",ROW(F$7:F$306)-ROW(F$7)+1),ROWS($A$3:F150))),\"\")","v":""},{"$f":"IFERROR(INDEX('بيانات اساسية'!AJ$6:AJ$306,SMALL(IF('بيانات اساسية'!$AL$6:$AL$306=\"معلم\",ROW(G$7:G$306)-ROW(G$7)+1),ROWS($A$3:G150))),\"\")","v":""},{"$f":"IFERROR(INDEX('بيانات اساسية'!AK$6:AK$306,SMALL(IF('بيانات اساسية'!$AL$6:$AL$306=\"معلم\",ROW(H$7:H$306)-ROW(H$7)+1),ROWS($A$3:H150))),\"\")","v":""}]
[{"$f":"IF(B152=\"\",\"\",SUBTOTAL(3,B$4:B152))","v":""},{"$f":"IFERROR(INDEX('بيانات اساسية'!B$6:B$306,SMALL(IF('بيانات اساسية'!$AL$6:$AL$306=\"معلم\",ROW(B$7:B$306)-ROW(B$7)+1),ROWS($A$3:B151))),\"\")","v":""},{"$f":"IFERROR(INDEX('بيانات اساسية'!C$6:C$306,SMALL(IF('بيانات اساسية'!$AL$6:$AL$306=\"معلم\",ROW(C$7:C$306)-ROW(C$7)+1),ROWS($A$3:C151))),\"\")","v":""},{"$f":"IFERROR(INDEX('بيانات اساسية'!AF$6:AF$306,SMALL(IF('بيانات اساسية'!$AL$6:$AL$306=\"معلم\",ROW(D$7:D$306)-ROW(D$7)+1),ROWS($A$3:D151))),\"\")","v":""},{"$f":"IFERROR(INDEX('بيانات اساسية'!AH$6:AH$306,SMALL(IF('بيانات اساسية'!$AL$6:$AL$306=\"معلم\",ROW(E$7:E$306)-ROW(E$7)+1),ROWS($A$3:E151))),\"\")","v":""},{"$f":"IFERROR(INDEX('بيانات اساسية'!AI$6:AI$306,SMALL(IF('بيانات اساسية'!$AL$6:$AL$306=\"معلم\",ROW(F$7:F$306)-ROW(F$7)+1),ROWS($A$3:F151))),\"\")","v":""},{"$f":"IFERROR(INDEX('بيانات اساسية'!AJ$6:AJ$306,SMALL(IF('بيانات اساسية'!$AL$6:$AL$306=\"معلم\",ROW(G$7:G$306)-ROW(G$7)+1),ROWS($A$3:G151))),\"\")","v":""},{"$f":"IFERROR(INDEX('بيانات اساسية'!AK$6:AK$306,SMALL(IF('بيانات اساسية'!$AL$6:$AL$306=\"معلم\",ROW(H$7:H$306)-ROW(H$7)+1),ROWS($A$3:H151))),\"\")","v":""}]
[{"$f":"IF(B153=\"\",\"\",SUBTOTAL(3,B$4:B153))","v":""},{"$f":"IFERROR(INDEX('بيانات اساسية'!B$6:B$306,SMALL(IF('بيانات اساسية'!$AL$6:$AL$306=\"معلم\",ROW(B$7:B$306)-ROW(B$7)+1),ROWS($A$3:B152))),\"\")","v":""},{"$f":"IFERROR(INDEX('بيانات اساسية'!C$6:C$306,SMALL(IF('بيانات اساسية'!$AL$6:$AL$306=\"معلم\",ROW(C$7:C$306)-ROW(C$7)+1),ROWS($A$3:C152))),\"\")","v":""},{"$f":"IFERROR(INDEX('بيانات اساسية'!AF$6:AF$306,SMALL(IF('بيانات اساسية'!$AL$6:$AL$306=\"معلم\",ROW(D$7:D$306)-ROW(D$7)+1),ROWS($A$3:D152))),\"\")","v":""},{"$f":"IFERROR(INDEX('بيانات اساسية'!AH$6:AH$306,SMALL(IF('بيانات اساسية'!$AL$6:$AL$306=\"معلم\",ROW(E$7:E$306)-ROW(E$7)+1),ROWS($A$3:E152))),\"\")","v":""},{"$f":"IFERROR(INDEX('بيانات اساسية'!AI$6:AI$306,SMALL(IF('بيانات اساسية'!$AL$6:$AL$306=\"معلم\",ROW(F$7:F$306)-ROW(F$7)+1),ROWS($A$3:F152))),\"\")","v":""},{"$f":"IFERROR(INDEX('بيانات اساسية'!AJ$6:AJ$306,SMALL(IF('بيانات اساسية'!$AL$6:$AL$306=\"معلم\",ROW(G$7:G$306)-ROW(G$7)+1),ROWS($A$3:G152))),\"\")","v":""},{"$f":"IFERROR(INDEX('بيانات اساسية'!AK$6:AK$306,SMALL(IF('بيانات اساسية'!$AL$6:$AL$306=\"معلم\",ROW(H$7:H$306)-ROW(H$7)+1),ROWS($A$3:H152))),\"\")","v":""}]
[{"$f":"IF(B154=\"\",\"\",SUBTOTAL(3,B$4:B154))","v":""},{"$f":"IFERROR(INDEX('بيانات اساسية'!B$6:B$306,SMALL(IF('بيانات اساسية'!$AL$6:$AL$306=\"معلم\",ROW(B$7:B$306)-ROW(B$7)+1),ROWS($A$3:B153))),\"\")","v":""},{"$f":"IFERROR(INDEX('بيانات اساسية'!C$6:C$306,SMALL(IF('بيانات اساسية'!$AL$6:$AL$306=\"معلم\",ROW(C$7:C$306)-ROW(C$7)+1),ROWS($A$3:C153))),\"\")","v":""},{"$f":"IFERROR(INDEX('بيانات اساسية'!AF$6:AF$306,SMALL(IF('بيانات اساسية'!$AL$6:$AL$306=\"معلم\",ROW(D$7:D$306)-ROW(D$7)+1),ROWS($A$3:D153))),\"\")","v":""},{"$f":"IFERROR(INDEX('بيانات اساسية'!AH$6:AH$306,SMALL(IF('بيانات اساسية'!$AL$6:$AL$306=\"معلم\",ROW(E$7:E$306)-ROW(E$7)+1),ROWS($A$3:E153))),\"\")","v":""},{"$f":"IFERROR(INDEX('بيانات اساسية'!AI$6:AI$306,SMALL(IF('بيانات اساسية'!$AL$6:$AL$306=\"معلم\",ROW(F$7:F$306)-ROW(F$7)+1),ROWS($A$3:F153))),\"\")","v":""},{"$f":"IFERROR(INDEX('بيانات اساسية'!AJ$6:AJ$306,SMALL(IF('بيانات اساسية'!$AL$6:$AL$306=\"معلم\",ROW(G$7:G$306)-ROW(G$7)+1),ROWS($A$3:G153))),\"\")","v":""},{"$f":"IFERROR(INDEX('بيانات اساسية'!AK$6:AK$306,SMALL(IF('بيانات اساسية'!$AL$6:$AL$306=\"معلم\",ROW(H$7:H$306)-ROW(H$7)+1),ROWS($A$3:H153))),\"\")","v":""}]
[{"$f":"IF(B155=\"\",\"\",SUBTOTAL(3,B$4:B155))","v":""},{"$f":"IFERROR(INDEX('بيانات اساسية'!B$6:B$306,SMALL(IF('بيانات اساسية'!$AL$6:$AL$306=\"معلم\",ROW(B$7:B$306)-ROW(B$7)+1),ROWS($A$3:B154))),\"\")","v":""},{"$f":"IFERROR(INDEX('بيانات اساسية'!C$6:C$306,SMALL(IF('بيانات اساسية'!$AL$6:$AL$306=\"معلم\",ROW(C$7:C$306)-ROW(C$7)+1),ROWS($A$3:C154))),\"\")","v":""},{"$f":"IFERROR(INDEX('بيانات اساسية'!AF$6:AF$306,SMALL(IF('بيانات اساسية'!$AL$6:$AL$306=\"معلم\",ROW(D$7:D$306)-ROW(D$7)+1),ROWS($A$3:D154))),\"\")","v":""},{"$f":"IFERROR(INDEX('بيانات اساسية'!AH$6:AH$306,SMALL(IF('بيانات اساسية'!$AL$6:$AL$306=\"معلم\",ROW(E$7:E$306)-ROW(E$7)+1),ROWS($A$3:E154))),\"\")","v":""},{"$f":"IFERROR(INDEX('بيانات اساسية'!AI$6:AI$306,SMALL(IF('بيانات اساسية'!$AL$6:$AL$306=\"معلم\",ROW(F$7:F$306)-ROW(F$7)+1),ROWS($A$3:F154))),\"\")","v":""},{"$f":"IFERROR(INDEX('بيانات اساسية'!AJ$6:AJ$306,SMALL(IF('بيانات اساسية'!$AL$6:$AL$306=\"معلم\",ROW(G$7:G$306)-ROW(G$7)+1),ROWS($A$3:G154))),\"\")","v":""},{"$f":"IFERROR(INDEX('بيانات اساسية'!AK$6:AK$306,SMALL(IF('بيانات اساسية'!$AL$6:$AL$306=\"معلم\",ROW(H$7:H$306)-ROW(H$7)+1),ROWS($A$3:H154))),\"\")","v":""}]
[{"$f":"IF(B156=\"\",\"\",SUBTOTAL(3,B$4:B156))","v":""},{"$f":"IFERROR(INDEX('بيانات اساسية'!B$6:B$306,SMALL(IF('بيانات اساسية'!$AL$6:$AL$306=\"معلم\",ROW(B$7:B$306)-ROW(B$7)+1),ROWS($A$3:B155))),\"\")","v":""},{"$f":"IFERROR(INDEX('بيانات اساسية'!C$6:C$306,SMALL(IF('بيانات اساسية'!$AL$6:$AL$306=\"معلم\",ROW(C$7:C$306)-ROW(C$7)+1),ROWS($A$3:C155))),\"\")","v":""},{"$f":"IFERROR(INDEX('بيانات اساسية'!AF$6:AF$306,SMALL(IF('بيانات اساسية'!$AL$6:$AL$306=\"معلم\",ROW(D$7:D$306)-ROW(D$7)+1),ROWS($A$3:D155))),\"\")","v":""},{"$f":"IFERROR(INDEX('بيانات اساسية'!AH$6:AH$306,SMALL(IF('بيانات اساسية'!$AL$6:$AL$306=\"معلم\",ROW(E$7:E$306)-ROW(E$7)+1),ROWS($A$3:E155))),\"\")","v":""},{"$f":"IFERROR(INDEX('بيانات اساسية'!AI$6:AI$306,SMALL(IF('بيانات اساسية'!$AL$6:$AL$306=\"معلم\",ROW(F$7:F$306)-ROW(F$7)+1),ROWS($A$3:F155))),\"\")","v":""},{"$f":"IFERROR(INDEX('بيانات اساسية'!AJ$6:AJ$306,SMALL(IF('بيانات اساسية'!$AL$6:$AL$306=\"معلم\",ROW(G$7:G$306)-ROW(G$7)+1),ROWS($A$3:G155))),\"\")","v":""},{"$f":"IFERROR(INDEX('بيانات اساسية'!AK$6:AK$306,SMALL(IF('بيانات اساسية'!$AL$6:$AL$306=\"معلم\",ROW(H$7:H$306)-ROW(H$7)+1),ROWS($A$3:H155))),\"\")","v":""}]
[{"$f":"IF(B157=\"\",\"\",SUBTOTAL(3,B$4:B157))","v":""},{"$f":"IFERROR(INDEX('بيانات اساسية'!B$6:B$306,SMALL(IF('بيانات اساسية'!$AL$6:$AL$306=\"معلم\",ROW(B$7:B$306)-ROW(B$7)+1),ROWS($A$3:B156))),\"\")","v":""},{"$f":"IFERROR(INDEX('بيانات اساسية'!C$6:C$306,SMALL(IF('بيانات اساسية'!$AL$6:$AL$306=\"معلم\",ROW(C$7:C$306)-ROW(C$7)+1),ROWS($A$3:C156))),\"\")","v":""},{"$f":"IFERROR(INDEX('بيانات اساسية'!AF$6:AF$306,SMALL(IF('بيانات اساسية'!$AL$6:$AL$306=\"معلم\",ROW(D$7:D$306)-ROW(D$7)+1),ROWS($A$3:D156))),\"\")","v":""},{"$f":"IFERROR(INDEX('بيانات اساسية'!AH$6:AH$306,SMALL(IF('بيانات اساسية'!$AL$6:$AL$306=\"معلم\",ROW(E$7:E$306)-ROW(E$7)+1),ROWS($A$3:E156))),\"\")","v":""},{"$f":"IFERROR(INDEX('بيانات اساسية'!AI$6:AI$306,SMALL(IF('بيانات اساسية'!$AL$6:$AL$306=\"معلم\",ROW(F$7:F$306)-ROW(F$7)+1),ROWS($A$3:F156))),\"\")","v":""},{"$f":"IFERROR(INDEX('بيانات اساسية'!AJ$6:AJ$306,SMALL(IF('بيانات اساسية'!$AL$6:$AL$306=\"معلم\",ROW(G$7:G$306)-ROW(G$7)+1),ROWS($A$3:G156))),\"\")","v":""},{"$f":"IFERROR(INDEX('بيانات اساسية'!AK$6:AK$306,SMALL(IF('بيانات اساسية'!$AL$6:$AL$306=\"معلم\",ROW(H$7:H$306)-ROW(H$7)+1),ROWS($A$3:H156))),\"\")","v":""}]
[{"$f":"IF(B158=\"\",\"\",SUBTOTAL(3,B$4:B158))","v":""},{"$f":"IFERROR(INDEX('بيانات اساسية'!B$6:B$306,SMALL(IF('بيانات اساسية'!$AL$6:$AL$306=\"معلم\",ROW(B$7:B$306)-ROW(B$7)+1),ROWS($A$3:B157))),\"\")","v":""},{"$f":"IFERROR(INDEX('بيانات اساسية'!C$6:C$306,SMALL(IF('بيانات اساسية'!$AL$6:$AL$306=\"معلم\",ROW(C$7:C$306)-ROW(C$7)+1),ROWS($A$3:C157))),\"\")","v":""},{"$f":"IFERROR(INDEX('بيانات اساسية'!AF$6:AF$306,SMALL(IF('بيانات اساسية'!$AL$6:$AL$306=\"معلم\",ROW(D$7:D$306)-ROW(D$7)+1),ROWS($A$3:D157))),\"\")","v":""},{"$f":"IFERROR(INDEX('بيانات اساسية'!AH$6:AH$306,SMALL(IF('بيانات اساسية'!$AL$6:$AL$306=\"معلم\",ROW(E$7:E$306)-ROW(E$7)+1),ROWS($A$3:E157))),\"\")","v":""},{"$f":"IFERROR(INDEX('بيانات اساسية'!AI$6:AI$306,SMALL(IF('بيانات اساسية'!$AL$6:$AL$306=\"معلم\",ROW(F$7:F$306)-ROW(F$7)+1),ROWS($A$3:F157))),\"\")","v":""},{"$f":"IFERROR(INDEX('بيانات اساسية'!AJ$6:AJ$306,SMALL(IF('بيانات اساسية'!$AL$6:$AL$306=\"معلم\",ROW(G$7:G$306)-ROW(G$7)+1),ROWS($A$3:G157))),\"\")","v":""},{"$f":"IFERROR(INDEX('بيانات اساسية'!AK$6:AK$306,SMALL(IF('بيانات اساسية'!$AL$6:$AL$306=\"معلم\",ROW(H$7:H$306)-ROW(H$7)+1),ROWS($A$3:H157))),\"\")","v":""}]
[{"$f":"IF(B159=\"\",\"\",SUBTOTAL(3,B$4:B159))","v":""},{"$f":"IFERROR(INDEX('بيانات اساسية'!B$6:B$306,SMALL(IF('بيانات اساسية'!$AL$6:$AL$306=\"معلم\",ROW(B$7:B$306)-ROW(B$7)+1),ROWS($A$3:B158))),\"\")","v":""},{"$f":"IFERROR(INDEX('بيانات اساسية'!C$6:C$306,SMALL(IF('بيانات اساسية'!$AL$6:$AL$306=\"معلم\",ROW(C$7:C$306)-ROW(C$7)+1),ROWS($A$3:C158))),\"\")","v":""},{"$f":"IFERROR(INDEX('بيانات اساسية'!AF$6:AF$306,SMALL(IF('بيانات اساسية'!$AL$6:$AL$306=\"معلم\",ROW(D$7:D$306)-ROW(D$7)+1),ROWS($A$3:D158))),\"\")","v":""},{"$f":"IFERROR(INDEX('بيانات اساسية'!AH$6:AH$306,SMALL(IF('بيانات اساسية'!$AL$6:$AL$306=\"معلم\",ROW(E$7:E$306)-ROW(E$7)+1),ROWS($A$3:E158))),\"\")","v":""},{"$f":"IFERROR(INDEX('بيانات اساسية'!AI$6:AI$306,SMALL(IF('بيانات اساسية'!$AL$6:$AL$306=\"معلم\",ROW(F$7:F$306)-ROW(F$7)+1),ROWS($A$3:F158))),\"\")","v":""},{"$f":"IFERROR(INDEX('بيانات اساسية'!AJ$6:AJ$306,SMALL(IF('بيانات اساسية'!$AL$6:$AL$306=\"معلم\",ROW(G$7:G$306)-ROW(G$7)+1),ROWS($A$3:G158))),\"\")","v":""},{"$f":"IFERROR(INDEX('بيانات اساسية'!AK$6:AK$306,SMALL(IF('بيانات اساسية'!$AL$6:$AL$306=\"معلم\",ROW(H$7:H$306)-ROW(H$7)+1),ROWS($A$3:H158))),\"\")","v":""}]
[{"$f":"IF(B160=\"\",\"\",SUBTOTAL(3,B$4:B160))","v":""},{"$f":"IFERROR(INDEX('بيانات اساسية'!B$6:B$306,SMALL(IF('بيانات اساسية'!$AL$6:$AL$306=\"معلم\",ROW(B$7:B$306)-ROW(B$7)+1),ROWS($A$3:B159))),\"\")","v":""},{"$f":"IFERROR(INDEX('بيانات اساسية'!C$6:C$306,SMALL(IF('بيانات اساسية'!$AL$6:$AL$306=\"معلم\",ROW(C$7:C$306)-ROW(C$7)+1),ROWS($A$3:C159))),\"\")","v":""},{"$f":"IFERROR(INDEX('بيانات اساسية'!AF$6:AF$306,SMALL(IF('بيانات اساسية'!$AL$6:$AL$306=\"معلم\",ROW(D$7:D$306)-ROW(D$7)+1),ROWS($A$3:D159))),\"\")","v":""},{"$f":"IFERROR(INDEX('بيانات اساسية'!AH$6:AH$306,SMALL(IF('بيانات اساسية'!$AL$6:$AL$306=\"معلم\",ROW(E$7:E$306)-ROW(E$7)+1),ROWS($A$3:E159))),\"\")","v":""},{"$f":"IFERROR(INDEX('بيانات اساسية'!AI$6:AI$306,SMALL(IF('بيانات اساسية'!$AL$6:$AL$306=\"معلم\",ROW(F$7:F$306)-ROW(F$7)+1),ROWS($A$3:F159))),\"\")","v":""},{"$f":"IFERROR(INDEX('بيانات اساسية'!AJ$6:AJ$306,SMALL(IF('بيانات اساسية'!$AL$6:$AL$306=\"معلم\",ROW(G$7:G$306)-ROW(G$7)+1),ROWS($A$3:G159))),\"\")","v":""},{"$f":"IFERROR(INDEX('بيانات اساسية'!AK$6:AK$306,SMALL(IF('بيانات اساسية'!$AL$6:$AL$306=\"معلم\",ROW(H$7:H$306)-ROW(H$7)+1),ROWS($A$3:H159))),\"\")","v":""}]
[{"$f":"IF(B161=\"\",\"\",SUBTOTAL(3,B$4:B161))","v":""},{"$f":"IFERROR(INDEX('بيانات اساسية'!B$6:B$306,SMALL(IF('بيانات اساسية'!$AL$6:$AL$306=\"معلم\",ROW(B$7:B$306)-ROW(B$7)+1),ROWS($A$3:B160))),\"\")","v":""},{"$f":"IFERROR(INDEX('بيانات اساسية'!C$6:C$306,SMALL(IF('بيانات اساسية'!$AL$6:$AL$306=\"معلم\",ROW(C$7:C$306)-ROW(C$7)+1),ROWS($A$3:C160))),\"\")","v":""},{"$f":"IFERROR(INDEX('بيانات اساسية'!AF$6:AF$306,SMALL(IF('بيانات اساسية'!$AL$6:$AL$306=\"معلم\",ROW(D$7:D$306)-ROW(D$7)+1),ROWS($A$3:D160))),\"\")","v":""},{"$f":"IFERROR(INDEX('بيانات اساسية'!AH$6:AH$306,SMALL(IF('بيانات اساسية'!$AL$6:$AL$306=\"معلم\",ROW(E$7:E$306)-ROW(E$7)+1),ROWS($A$3:E160))),\"\")","v":""},{"$f":"IFERROR(INDEX('بيانات اساسية'!AI$6:AI$306,SMALL(IF('بيانات اساسية'!$AL$6:$AL$306=\"معلم\",ROW(F$7:F$306)-ROW(F$7)+1),ROWS($A$3:F160))),\"\")","v":""},{"$f":"IFERROR(INDEX('بيانات اساسية'!AJ$6:AJ$306,SMALL(IF('بيانات اساسية'!$AL$6:$AL$306=\"معلم\",ROW(G$7:G$306)-ROW(G$7)+1),ROWS($A$3:G160))),\"\")","v":""},{"$f":"IFERROR(INDEX('بيانات اساسية'!AK$6:AK$306,SMALL(IF('بيانات اساسية'!$AL$6:$AL$306=\"معلم\",ROW(H$7:H$306)-ROW(H$7)+1),ROWS($A$3:H160))),\"\")","v":""}]
[{"$f":"IF(B162=\"\",\"\",SUBTOTAL(3,B$4:B162))","v":""},{"$f":"IFERROR(INDEX('بيانات اساسية'!B$6:B$306,SMALL(IF('بيانات اساسية'!$AL$6:$AL$306=\"معلم\",ROW(B$7:B$306)-ROW(B$7)+1),ROWS($A$3:B161))),\"\")","v":""},{"$f":"IFERROR(INDEX('بيانات اساسية'!C$6:C$306,SMALL(IF('بيانات اساسية'!$AL$6:$AL$306=\"معلم\",ROW(C$7:C$306)-ROW(C$7)+1),ROWS($A$3:C161))),\"\")","v":""},{"$f":"IFERROR(INDEX('بيانات اساسية'!AF$6:AF$306,SMALL(IF('بيانات اساسية'!$AL$6:$AL$306=\"معلم\",ROW(D$7:D$306)-ROW(D$7)+1),ROWS($A$3:D161))),\"\")","v":""},{"$f":"IFERROR(INDEX('بيانات اساسية'!AH$6:AH$306,SMALL(IF('بيانات اساسية'!$AL$6:$AL$306=\"معلم\",ROW(E$7:E$306)-ROW(E$7)+1),ROWS($A$3:E161))),\"\")","v":""},{"$f":"IFERROR(INDEX('بيانات اساسية'!AI$6:AI$306,SMALL(IF('بيانات اساسية'!$AL$6:$AL$306=\"معلم\",ROW(F$7:F$306)-ROW(F$7)+1),ROWS($A$3:F161))),\"\")","v":""},{"$f":"IFERROR(INDEX('بيانات اساسية'!AJ$6:AJ$306,SMALL(IF('بيانات اساسية'!$AL$6:$AL$306=\"معلم\",ROW(G$7:G$306)-ROW(G$7)+1),ROWS($A$3:G161))),\"\")","v":""},{"$f":"IFERROR(INDEX('بيانات اساسية'!AK$6:AK$306,SMALL(IF('بيانات اساسية'!$AL$6:$AL$306=\"معلم\",ROW(H$7:H$306)-ROW(H$7)+1),ROWS($A$3:H161))),\"\")","v":""}]
[{"$f":"IF(B163=\"\",\"\",SUBTOTAL(3,B$4:B163))","v":""},{"$f":"IFERROR(INDEX('بيانات اساسية'!B$6:B$306,SMALL(IF('بيانات اساسية'!$AL$6:$AL$306=\"معلم\",ROW(B$7:B$306)-ROW(B$7)+1),ROWS($A$3:B162))),\"\")","v":""},{"$f":"IFERROR(INDEX('بيانات اساسية'!C$6:C$306,SMALL(IF('بيانات اساسية'!$AL$6:$AL$306=\"معلم\",ROW(C$7:C$306)-ROW(C$7)+1),ROWS($A$3:C162))),\"\")","v":""},{"$f":"IFERROR(INDEX('بيانات اساسية'!AF$6:AF$306,SMALL(IF('بيانات اساسية'!$AL$6:$AL$306=\"معلم\",ROW(D$7:D$306)-ROW(D$7)+1),ROWS($A$3:D162))),\"\")","v":""},{"$f":"IFERROR(INDEX('بيانات اساسية'!AH$6:AH$306,SMALL(IF('بيانات اساسية'!$AL$6:$AL$306=\"معلم\",ROW(E$7:E$306)-ROW(E$7)+1),ROWS($A$3:E162))),\"\")","v":""},{"$f":"IFERROR(INDEX('بيانات اساسية'!AI$6:AI$306,SMALL(IF('بيانات اساسية'!$AL$6:$AL$306=\"معلم\",ROW(F$7:F$306)-ROW(F$7)+1),ROWS($A$3:F162))),\"\")","v":""},{"$f":"IFERROR(INDEX('بيانات اساسية'!AJ$6:AJ$306,SMALL(IF('بيانات اساسية'!$AL$6:$AL$306=\"معلم\",ROW(G$7:G$306)-ROW(G$7)+1),ROWS($A$3:G162))),\"\")","v":""},{"$f":"IFERROR(INDEX('بيانات اساسية'!AK$6:AK$306,SMALL(IF('بيانات اساسية'!$AL$6:$AL$306=\"معلم\",ROW(H$7:H$306)-ROW(H$7)+1),ROWS($A$3:H162))),\"\")","v":""}]
[{"$f":"IF(B164=\"\",\"\",SUBTOTAL(3,B$4:B164))","v":""},{"$f":"IFERROR(INDEX('بيانات اساسية'!B$6:B$306,SMALL(IF('بيانات اساسية'!$AL$6:$AL$306=\"معلم\",ROW(B$7:B$306)-ROW(B$7)+1),ROWS($A$3:B163))),\"\")","v":""},{"$f":"IFERROR(INDEX('بيانات اساسية'!C$6:C$306,SMALL(IF('بيانات اساسية'!$AL$6:$AL$306=\"معلم\",ROW(C$7:C$306)-ROW(C$7)+1),ROWS($A$3:C163))),\"\")","v":""},{"$f":"IFERROR(INDEX('بيانات اساسية'!AF$6:AF$306,SMALL(IF('بيانات اساسية'!$AL$6:$AL$306=\"معلم\",ROW(D$7:D$306)-ROW(D$7)+1),ROWS($A$3:D163))),\"\")","v":""},{"$f":"IFERROR(INDEX('بيانات اساسية'!AH$6:AH$306,SMALL(IF('بيانات اساسية'!$AL$6:$AL$306=\"معلم\",ROW(E$7:E$306)-ROW(E$7)+1),ROWS($A$3:E163))),\"\")","v":""},{"$f":"IFERROR(INDEX('بيانات اساسية'!AI$6:AI$306,SMALL(IF('بيانات اساسية'!$AL$6:$AL$306=\"معلم\",ROW(F$7:F$306)-ROW(F$7)+1),ROWS($A$3:F163))),\"\")","v":""},{"$f":"IFERROR(INDEX('بيانات اساسية'!AJ$6:AJ$306,SMALL(IF('بيانات اساسية'!$AL$6:$AL$306=\"معلم\",ROW(G$7:G$306)-ROW(G$7)+1),ROWS($A$3:G163))),\"\")","v":""},{"$f":"IFERROR(INDEX('بيانات اساسية'!AK$6:AK$306,SMALL(IF('بيانات اساسية'!$AL$6:$AL$306=\"معلم\",ROW(H$7:H$306)-ROW(H$7)+1),ROWS($A$3:H163))),\"\")","v":""}]
[{"$f":"IF(B165=\"\",\"\",SUBTOTAL(3,B$4:B165))","v":""},{"$f":"IFERROR(INDEX('بيانات اساسية'!B$6:B$306,SMALL(IF('بيانات اساسية'!$AL$6:$AL$306=\"معلم\",ROW(B$7:B$306)-ROW(B$7)+1),ROWS($A$3:B164))),\"\")","v":""},{"$f":"IFERROR(INDEX('بيانات اساسية'!C$6:C$306,SMALL(IF('بيانات اساسية'!$AL$6:$AL$306=\"معلم\",ROW(C$7:C$306)-ROW(C$7)+1),ROWS($A$3:C164))),\"\")","v":""},{"$f":"IFERROR(INDEX('بيانات اساسية'!AF$6:AF$306,SMALL(IF('بيانات اساسية'!$AL$6:$AL$306=\"معلم\",ROW(D$7:D$306)-ROW(D$7)+1),ROWS($A$3:D164))),\"\")","v":""},{"$f":"IFERROR(INDEX('بيانات اساسية'!AH$6:AH$306,SMALL(IF('بيانات اساسية'!$AL$6:$AL$306=\"معلم\",ROW(E$7:E$306)-ROW(E$7)+1),ROWS($A$3:E164))),\"\")","v":""},{"$f":"IFERROR(INDEX('بيانات اساسية'!AI$6:AI$306,SMALL(IF('بيانات اساسية'!$AL$6:$AL$306=\"معلم\",ROW(F$7:F$306)-ROW(F$7)+1),ROWS($A$3:F164))),\"\")","v":""},{"$f":"IFERROR(INDEX('بيانات اساسية'!AJ$6:AJ$306,SMALL(IF('بيانات اساسية'!$AL$6:$AL$306=\"معلم\",ROW(G$7:G$306)-ROW(G$7)+1),ROWS($A$3:G164))),\"\")","v":""},{"$f":"IFERROR(INDEX('بيانات اساسية'!AK$6:AK$306,SMALL(IF('بيانات اساسية'!$AL$6:$AL$306=\"معلم\",ROW(H$7:H$306)-ROW(H$7)+1),ROWS($A$3:H164))),\"\")","v":""}]
[{"$f":"IF(B166=\"\",\"\",SUBTOTAL(3,B$4:B166))","v":""},{"$f":"IFERROR(INDEX('بيانات اساسية'!B$6:B$306,SMALL(IF('بيانات اساسية'!$AL$6:$AL$306=\"معلم\",ROW(B$7:B$306)-ROW(B$7)+1),ROWS($A$3:B165))),\"\")","v":""},{"$f":"IFERROR(INDEX('بيانات اساسية'!C$6:C$306,SMALL(IF('بيانات اساسية'!$AL$6:$AL$306=\"معلم\",ROW(C$7:C$306)-ROW(C$7)+1),ROWS($A$3:C165))),\"\")","v":""},{"$f":"IFERROR(INDEX('بيانات اساسية'!AF$6:AF$306,SMALL(IF('بيانات اساسية'!$AL$6:$AL$306=\"معلم\",ROW(D$7:D$306)-ROW(D$7)+1),ROWS($A$3:D165))),\"\")","v":""},{"$f":"IFERROR(INDEX('بيانات اساسية'!AH$6:AH$306,SMALL(IF('بيانات اساسية'!$AL$6:$AL$306=\"معلم\",ROW(E$7:E$306)-ROW(E$7)+1),ROWS($A$3:E165))),\"\")","v":""},{"$f":"IFERROR(INDEX('بيانات اساسية'!AI$6:AI$306,SMALL(IF('بيانات اساسية'!$AL$6:$AL$306=\"معلم\",ROW(F$7:F$306)-ROW(F$7)+1),ROWS($A$3:F165))),\"\")","v":""},{"$f":"IFERROR(INDEX('بيانات اساسية'!AJ$6:AJ$306,SMALL(IF('بيانات اساسية'!$AL$6:$AL$306=\"معلم\",ROW(G$7:G$306)-ROW(G$7)+1),ROWS($A$3:G165))),\"\")","v":""},{"$f":"IFERROR(INDEX('بيانات اساسية'!AK$6:AK$306,SMALL(IF('بيانات اساسية'!$AL$6:$AL$306=\"معلم\",ROW(H$7:H$306)-ROW(H$7)+1),ROWS($A$3:H165))),\"\")","v":""}]
[{"$f":"IF(B167=\"\",\"\",SUBTOTAL(3,B$4:B167))","v":""},{"$f":"IFERROR(INDEX('بيانات اساسية'!B$6:B$306,SMALL(IF('بيانات اساسية'!$AL$6:$AL$306=\"معلم\",ROW(B$7:B$306)-ROW(B$7)+1),ROWS($A$3:B166))),\"\")","v":""},{"$f":"IFERROR(INDEX('بيانات اساسية'!C$6:C$306,SMALL(IF('بيانات اساسية'!$AL$6:$AL$306=\"معلم\",ROW(C$7:C$306)-ROW(C$7)+1),ROWS($A$3:C166))),\"\")","v":""},{"$f":"IFERROR(INDEX('بيانات اساسية'!AF$6:AF$306,SMALL(IF('بيانات اساسية'!$AL$6:$AL$306=\"معلم\",ROW(D$7:D$306)-ROW(D$7)+1),ROWS($A$3:D166))),\"\")","v":""},{"$f":"IFERROR(INDEX('بيانات اساسية'!AH$6:AH$306,SMALL(IF('بيانات اساسية'!$AL$6:$AL$306=\"معلم\",ROW(E$7:E$306)-ROW(E$7)+1),ROWS($A$3:E166))),\"\")","v":""},{"$f":"IFERROR(INDEX('بيانات اساسية'!AI$6:AI$306,SMALL(IF('بيانات اساسية'!$AL$6:$AL$306=\"معلم\",ROW(F$7:F$306)-ROW(F$7)+1),ROWS($A$3:F166))),\"\")","v":""},{"$f":"IFERROR(INDEX('بيانات اساسية'!AJ$6:AJ$306,SMALL(IF('بيانات اساسية'!$AL$6:$AL$306=\"معلم\",ROW(G$7:G$306)-ROW(G$7)+1),ROWS($A$3:G166))),\"\")","v":""},{"$f":"IFERROR(INDEX('بيانات اساسية'!AK$6:AK$306,SMALL(IF('بيانات اساسية'!$AL$6:$AL$306=\"معلم\",ROW(H$7:H$306)-ROW(H$7)+1),ROWS($A$3:H166))),\"\")","v":""}]
[{"$f":"IF(B168=\"\",\"\",SUBTOTAL(3,B$4:B168))","v":""},{"$f":"IFERROR(INDEX('بيانات اساسية'!B$6:B$306,SMALL(IF('بيانات اساسية'!$AL$6:$AL$306=\"معلم\",ROW(B$7:B$306)-ROW(B$7)+1),ROWS($A$3:B167))),\"\")","v":""},{"$f":"IFERROR(INDEX('بيانات اساسية'!C$6:C$306,SMALL(IF('بيانات اساسية'!$AL$6:$AL$306=\"معلم\",ROW(C$7:C$306)-ROW(C$7)+1),ROWS($A$3:C167))),\"\")","v":""},{"$f":"IFERROR(INDEX('بيانات اساسية'!AF$6:AF$306,SMALL(IF('بيانات اساسية'!$AL$6:$AL$306=\"معلم\",ROW(D$7:D$306)-ROW(D$7)+1),ROWS($A$3:D167))),\"\")","v":""},{"$f":"IFERROR(INDEX('بيانات اساسية'!AH$6:AH$306,SMALL(IF('بيانات اساسية'!$AL$6:$AL$306=\"معلم\",ROW(E$7:E$306)-ROW(E$7)+1),ROWS($A$3:E167))),\"\")","v":""},{"$f":"IFERROR(INDEX('بيانات اساسية'!AI$6:AI$306,SMALL(IF('بيانات اساسية'!$AL$6:$AL$306=\"معلم\",ROW(F$7:F$306)-ROW(F$7)+1),ROWS($A$3:F167))),\"\")","v":""},{"$f":"IFERROR(INDEX('بيانات اساسية'!AJ$6:AJ$306,SMALL(IF('بيانات اساسية'!$AL$6:$AL$306=\"معلم\",ROW(G$7:G$306)-ROW(G$7)+1),ROWS($A$3:G167))),\"\")","v":""},{"$f":"IFERROR(INDEX('بيانات اساسية'!AK$6:AK$306,SMALL(IF('بيانات اساسية'!$AL$6:$AL$306=\"معلم\",ROW(H$7:H$306)-ROW(H$7)+1),ROWS($A$3:H167))),\"\")","v":""}]
[{"$f":"IF(B169=\"\",\"\",SUBTOTAL(3,B$4:B169))","v":""},{"$f":"IFERROR(INDEX('بيانات اساسية'!B$6:B$306,SMALL(IF('بيانات اساسية'!$AL$6:$AL$306=\"معلم\",ROW(B$7:B$306)-ROW(B$7)+1),ROWS($A$3:B168))),\"\")","v":""},{"$f":"IFERROR(INDEX('بيانات اساسية'!C$6:C$306,SMALL(IF('بيانات اساسية'!$AL$6:$AL$306=\"معلم\",ROW(C$7:C$306)-ROW(C$7)+1),ROWS($A$3:C168))),\"\")","v":""},{"$f":"IFERROR(INDEX('بيانات اساسية'!AF$6:AF$306,SMALL(IF('بيانات اساسية'!$AL$6:$AL$306=\"معلم\",ROW(D$7:D$306)-ROW(D$7)+1),ROWS($A$3:D168))),\"\")","v":""},{"$f":"IFERROR(INDEX('بيانات اساسية'!AH$6:AH$306,SMALL(IF('بيانات اساسية'!$AL$6:$AL$306=\"معلم\",ROW(E$7:E$306)-ROW(E$7)+1),ROWS($A$3:E168))),\"\")","v":""},{"$f":"IFERROR(INDEX('بيانات اساسية'!AI$6:AI$306,SMALL(IF('بيانات اساسية'!$AL$6:$AL$306=\"معلم\",ROW(F$7:F$306)-ROW(F$7)+1),ROWS($A$3:F168))),\"\")","v":""},{"$f":"IFERROR(INDEX('بيانات اساسية'!AJ$6:AJ$306,SMALL(IF('بيانات اساسية'!$AL$6:$AL$306=\"معلم\",ROW(G$7:G$306)-ROW(G$7)+1),ROWS($A$3:G168))),\"\")","v":""},{"$f":"IFERROR(INDEX('بيانات اساسية'!AK$6:AK$306,SMALL(IF('بيانات اساسية'!$AL$6:$AL$306=\"معلم\",ROW(H$7:H$306)-ROW(H$7)+1),ROWS($A$3:H168))),\"\")","v":""}]
[{"$f":"IF(B170=\"\",\"\",SUBTOTAL(3,B$4:B170))","v":""},{"$f":"IFERROR(INDEX('بيانات اساسية'!B$6:B$306,SMALL(IF('بيانات اساسية'!$AL$6:$AL$306=\"معلم\",ROW(B$7:B$306)-ROW(B$7)+1),ROWS($A$3:B169))),\"\")","v":""},{"$f":"IFERROR(INDEX('بيانات اساسية'!C$6:C$306,SMALL(IF('بيانات اساسية'!$AL$6:$AL$306=\"معلم\",ROW(C$7:C$306)-ROW(C$7)+1),ROWS($A$3:C169))),\"\")","v":""},{"$f":"IFERROR(INDEX('بيانات اساسية'!AF$6:AF$306,SMALL(IF('بيانات اساسية'!$AL$6:$AL$306=\"معلم\",ROW(D$7:D$306)-ROW(D$7)+1),ROWS($A$3:D169))),\"\")","v":""},{"$f":"IFERROR(INDEX('بيانات اساسية'!AH$6:AH$306,SMALL(IF('بيانات اساسية'!$AL$6:$AL$306=\"معلم\",ROW(E$7:E$306)-ROW(E$7)+1),ROWS($A$3:E169))),\"\")","v":""},{"$f":"IFERROR(INDEX('بيانات اساسية'!AI$6:AI$306,SMALL(IF('بيانات اساسية'!$AL$6:$AL$306=\"معلم\",ROW(F$7:F$306)-ROW(F$7)+1),ROWS($A$3:F169))),\"\")","v":""},{"$f":"IFERROR(INDEX('بيانات اساسية'!AJ$6:AJ$306,SMALL(IF('بيانات اساسية'!$AL$6:$AL$306=\"معلم\",ROW(G$7:G$306)-ROW(G$7)+1),ROWS($A$3:G169))),\"\")","v":""},{"$f":"IFERROR(INDEX('بيانات اساسية'!AK$6:AK$306,SMALL(IF('بيانات اساسية'!$AL$6:$AL$306=\"معلم\",ROW(H$7:H$306)-ROW(H$7)+1),ROWS($A$3:H169))),\"\")","v":""}]
[{"$f":"IF(B171=\"\",\"\",SUBTOTAL(3,B$4:B171))","v":""},{"$f":"IFERROR(INDEX('بيانات اساسية'!B$6:B$306,SMALL(IF('بيانات اساسية'!$AL$6:$AL$306=\"معلم\",ROW(B$7:B$306)-ROW(B$7)+1),ROWS($A$3:B170))),\"\")","v":""},{"$f":"IFERROR(INDEX('بيانات اساسية'!C$6:C$306,SMALL(IF('بيانات اساسية'!$AL$6:$AL$306=\"معلم\",ROW(C$7:C$306)-ROW(C$7)+1),ROWS($A$3:C170))),\"\")","v":""},{"$f":"IFERROR(INDEX('بيانات اساسية'!AF$6:AF$306,SMALL(IF('بيانات اساسية'!$AL$6:$AL$306=\"معلم\",ROW(D$7:D$306)-ROW(D$7)+1),ROWS($A$3:D170))),\"\")","v":""},{"$f":"IFERROR(INDEX('بيانات اساسية'!AH$6:AH$306,SMALL(IF('بيانات اساسية'!$AL$6:$AL$306=\"معلم\",ROW(E$7:E$306)-ROW(E$7)+1),ROWS($A$3:E170))),\"\")","v":""},{"$f":"IFERROR(INDEX('بيانات اساسية'!AI$6:AI$306,SMALL(IF('بيانات اساسية'!$AL$6:$AL$306=\"معلم\",ROW(F$7:F$306)-ROW(F$7)+1),ROWS($A$3:F170))),\"\")","v":""},{"$f":"IFERROR(INDEX('بيانات اساسية'!AJ$6:AJ$306,SMALL(IF('بيانات اساسية'!$AL$6:$AL$306=\"معلم\",ROW(G$7:G$306)-ROW(G$7)+1),ROWS($A$3:G170))),\"\")","v":""},{"$f":"IFERROR(INDEX('بيانات اساسية'!AK$6:AK$306,SMALL(IF('بيانات اساسية'!$AL$6:$AL$306=\"معلم\",ROW(H$7:H$306)-ROW(H$7)+1),ROWS($A$3:H170))),\"\")","v":""}]
[{"$f":"IF(B172=\"\",\"\",SUBTOTAL(3,B$4:B172))","v":""},{"$f":"IFERROR(INDEX('بيانات اساسية'!B$6:B$306,SMALL(IF('بيانات اساسية'!$AL$6:$AL$306=\"معلم\",ROW(B$7:B$306)-ROW(B$7)+1),ROWS($A$3:B171))),\"\")","v":""},{"$f":"IFERROR(INDEX('بيانات اساسية'!C$6:C$306,SMALL(IF('بيانات اساسية'!$AL$6:$AL$306=\"معلم\",ROW(C$7:C$306)-ROW(C$7)+1),ROWS($A$3:C171))),\"\")","v":""},{"$f":"IFERROR(INDEX('بيانات اساسية'!AF$6:AF$306,SMALL(IF('بيانات اساسية'!$AL$6:$AL$306=\"معلم\",ROW(D$7:D$306)-ROW(D$7)+1),ROWS($A$3:D171))),\"\")","v":""},{"$f":"IFERROR(INDEX('بيانات اساسية'!AH$6:AH$306,SMALL(IF('بيانات اساسية'!$AL$6:$AL$306=\"معلم\",ROW(E$7:E$306)-ROW(E$7)+1),ROWS($A$3:E171))),\"\")","v":""},{"$f":"IFERROR(INDEX('بيانات اساسية'!AI$6:AI$306,SMALL(IF('بيانات اساسية'!$AL$6:$AL$306=\"معلم\",ROW(F$7:F$306)-ROW(F$7)+1),ROWS($A$3:F171))),\"\")","v":""},{"$f":"IFERROR(INDEX('بيانات اساسية'!AJ$6:AJ$306,SMALL(IF('بيانات اساسية'!$AL$6:$AL$306=\"معلم\",ROW(G$7:G$306)-ROW(G$7)+1),ROWS($A$3:G171))),\"\")","v":""},{"$f":"IFERROR(INDEX('بيانات اساسية'!AK$6:AK$306,SMALL(IF('بيانات اساسية'!$AL$6:$AL$306=\"معلم\",ROW(H$7:H$306)-ROW(H$7)+1),ROWS($A$3:H171))),\"\")","v":""}]
[{"$f":"IF(B173=\"\",\"\",SUBTOTAL(3,B$4:B173))","v":""},{"$f":"IFERROR(INDEX('بيانات اساسية'!B$6:B$306,SMALL(IF('بيانات اساسية'!$AL$6:$AL$306=\"معلم\",ROW(B$7:B$306)-ROW(B$7)+1),ROWS($A$3:B172))),\"\")","v":""},{"$f":"IFERROR(INDEX('بيانات اساسية'!C$6:C$306,SMALL(IF('بيانات اساسية'!$AL$6:$AL$306=\"معلم\",ROW(C$7:C$306)-ROW(C$7)+1),ROWS($A$3:C172))),\"\")","v":""},{"$f":"IFERROR(INDEX('بيانات اساسية'!AF$6:AF$306,SMALL(IF('بيانات اساسية'!$AL$6:$AL$306=\"معلم\",ROW(D$7:D$306)-ROW(D$7)+1),ROWS($A$3:D172))),\"\")","v":""},{"$f":"IFERROR(INDEX('بيانات اساسية'!AH$6:AH$306,SMALL(IF('بيانات اساسية'!$AL$6:$AL$306=\"معلم\",ROW(E$7:E$306)-ROW(E$7)+1),ROWS($A$3:E172))),\"\")","v":""},{"$f":"IFERROR(INDEX('بيانات اساسية'!AI$6:AI$306,SMALL(IF('بيانات اساسية'!$AL$6:$AL$306=\"معلم\",ROW(F$7:F$306)-ROW(F$7)+1),ROWS($A$3:F172))),\"\")","v":""},{"$f":"IFERROR(INDEX('بيانات اساسية'!AJ$6:AJ$306,SMALL(IF('بيانات اساسية'!$AL$6:$AL$306=\"معلم\",ROW(G$7:G$306)-ROW(G$7)+1),ROWS($A$3:G172))),\"\")","v":""},{"$f":"IFERROR(INDEX('بيانات اساسية'!AK$6:AK$306,SMALL(IF('بيانات اساسية'!$AL$6:$AL$306=\"معلم\",ROW(H$7:H$306)-ROW(H$7)+1),ROWS($A$3:H172))),\"\")","v":""}]
[{"$f":"IF(B174=\"\",\"\",SUBTOTAL(3,B$4:B174))","v":""},{"$f":"IFERROR(INDEX('بيانات اساسية'!B$6:B$306,SMALL(IF('بيانات اساسية'!$AL$6:$AL$306=\"معلم\",ROW(B$7:B$306)-ROW(B$7)+1),ROWS($A$3:B173))),\"\")","v":""},{"$f":"IFERROR(INDEX('بيانات اساسية'!C$6:C$306,SMALL(IF('بيانات اساسية'!$AL$6:$AL$306=\"معلم\",ROW(C$7:C$306)-ROW(C$7)+1),ROWS($A$3:C173))),\"\")","v":""},{"$f":"IFERROR(INDEX('بيانات اساسية'!AF$6:AF$306,SMALL(IF('بيانات اساسية'!$AL$6:$AL$306=\"معلم\",ROW(D$7:D$306)-ROW(D$7)+1),ROWS($A$3:D173))),\"\")","v":""},{"$f":"IFERROR(INDEX('بيانات اساسية'!AH$6:AH$306,SMALL(IF('بيانات اساسية'!$AL$6:$AL$306=\"معلم\",ROW(E$7:E$306)-ROW(E$7)+1),ROWS($A$3:E173))),\"\")","v":""},{"$f":"IFERROR(INDEX('بيانات اساسية'!AI$6:AI$306,SMALL(IF('بيانات اساسية'!$AL$6:$AL$306=\"معلم\",ROW(F$7:F$306)-ROW(F$7)+1),ROWS($A$3:F173))),\"\")","v":""},{"$f":"IFERROR(INDEX('بيانات اساسية'!AJ$6:AJ$306,SMALL(IF('بيانات اساسية'!$AL$6:$AL$306=\"معلم\",ROW(G$7:G$306)-ROW(G$7)+1),ROWS($A$3:G173))),\"\")","v":""},{"$f":"IFERROR(INDEX('بيانات اساسية'!AK$6:AK$306,SMALL(IF('بيانات اساسية'!$AL$6:$AL$306=\"معلم\",ROW(H$7:H$306)-ROW(H$7)+1),ROWS($A$3:H173))),\"\")","v":""}]
[{"$f":"IF(B175=\"\",\"\",SUBTOTAL(3,B$4:B175))","v":""},{"$f":"IFERROR(INDEX('بيانات اساسية'!B$6:B$306,SMALL(IF('بيانات اساسية'!$AL$6:$AL$306=\"معلم\",ROW(B$7:B$306)-ROW(B$7)+1),ROWS($A$3:B174))),\"\")","v":""},{"$f":"IFERROR(INDEX('بيانات اساسية'!C$6:C$306,SMALL(IF('بيانات اساسية'!$AL$6:$AL$306=\"معلم\",ROW(C$7:C$306)-ROW(C$7)+1),ROWS($A$3:C174))),\"\")","v":""},{"$f":"IFERROR(INDEX('بيانات اساسية'!AF$6:AF$306,SMALL(IF('بيانات اساسية'!$AL$6:$AL$306=\"معلم\",ROW(D$7:D$306)-ROW(D$7)+1),ROWS($A$3:D174))),\"\")","v":""},{"$f":"IFERROR(INDEX('بيانات اساسية'!AH$6:AH$306,SMALL(IF('بيانات اساسية'!$AL$6:$AL$306=\"معلم\",ROW(E$7:E$306)-ROW(E$7)+1),ROWS($A$3:E174))),\"\")","v":""},{"$f":"IFERROR(INDEX('بيانات اساسية'!AI$6:AI$306,SMALL(IF('بيانات اساسية'!$AL$6:$AL$306=\"معلم\",ROW(F$7:F$306)-ROW(F$7)+1),ROWS($A$3:F174))),\"\")","v":""},{"$f":"IFERROR(INDEX('بيانات اساسية'!AJ$6:AJ$306,SMALL(IF('بيانات اساسية'!$AL$6:$AL$306=\"معلم\",ROW(G$7:G$306)-ROW(G$7)+1),ROWS($A$3:G174))),\"\")","v":""},{"$f":"IFERROR(INDEX('بيانات اساسية'!AK$6:AK$306,SMALL(IF('بيانات اساسية'!$AL$6:$AL$306=\"معلم\",ROW(H$7:H$306)-ROW(H$7)+1),ROWS($A$3:H174))),\"\")","v":""}]
[{"$f":"IF(B176=\"\",\"\",SUBTOTAL(3,B$4:B176))","v":""},{"$f":"IFERROR(INDEX('بيانات اساسية'!B$6:B$306,SMALL(IF('بيانات اساسية'!$AL$6:$AL$306=\"معلم\",ROW(B$7:B$306)-ROW(B$7)+1),ROWS($A$3:B175))),\"\")","v":""},{"$f":"IFERROR(INDEX('بيانات اساسية'!C$6:C$306,SMALL(IF('بيانات اساسية'!$AL$6:$AL$306=\"معلم\",ROW(C$7:C$306)-ROW(C$7)+1),ROWS($A$3:C175))),\"\")","v":""},{"$f":"IFERROR(INDEX('بيانات اساسية'!AF$6:AF$306,SMALL(IF('بيانات اساسية'!$AL$6:$AL$306=\"معلم\",ROW(D$7:D$306)-ROW(D$7)+1),ROWS($A$3:D175))),\"\")","v":""},{"$f":"IFERROR(INDEX('بيانات اساسية'!AH$6:AH$306,SMALL(IF('بيانات اساسية'!$AL$6:$AL$306=\"معلم\",ROW(E$7:E$306)-ROW(E$7)+1),ROWS($A$3:E175))),\"\")","v":""},{"$f":"IFERROR(INDEX('بيانات اساسية'!AI$6:AI$306,SMALL(IF('بيانات اساسية'!$AL$6:$AL$306=\"معلم\",ROW(F$7:F$306)-ROW(F$7)+1),ROWS($A$3:F175))),\"\")","v":""},{"$f":"IFERROR(INDEX('بيانات اساسية'!AJ$6:AJ$306,SMALL(IF('بيانات اساسية'!$AL$6:$AL$306=\"معلم\",ROW(G$7:G$306)-ROW(G$7)+1),ROWS($A$3:G175))),\"\")","v":""},{"$f":"IFERROR(INDEX('بيانات اساسية'!AK$6:AK$306,SMALL(IF('بيانات اساسية'!$AL$6:$AL$306=\"معلم\",ROW(H$7:H$306)-ROW(H$7)+1),ROWS($A$3:H175))),\"\")","v":""}]
[{"$f":"IF(B177=\"\",\"\",SUBTOTAL(3,B$4:B177))","v":""},{"$f":"IFERROR(INDEX('بيانات اساسية'!B$6:B$306,SMALL(IF('بيانات اساسية'!$AL$6:$AL$306=\"معلم\",ROW(B$7:B$306)-ROW(B$7)+1),ROWS($A$3:B176))),\"\")","v":""},{"$f":"IFERROR(INDEX('بيانات اساسية'!C$6:C$306,SMALL(IF('بيانات اساسية'!$AL$6:$AL$306=\"معلم\",ROW(C$7:C$306)-ROW(C$7)+1),ROWS($A$3:C176))),\"\")","v":""},{"$f":"IFERROR(INDEX('بيانات اساسية'!AF$6:AF$306,SMALL(IF('بيانات اساسية'!$AL$6:$AL$306=\"معلم\",ROW(D$7:D$306)-ROW(D$7)+1),ROWS($A$3:D176))),\"\")","v":""},{"$f":"IFERROR(INDEX('بيانات اساسية'!AH$6:AH$306,SMALL(IF('بيانات اساسية'!$AL$6:$AL$306=\"معلم\",ROW(E$7:E$306)-ROW(E$7)+1),ROWS($A$3:E176))),\"\")","v":""},{"$f":"IFERROR(INDEX('بيانات اساسية'!AI$6:AI$306,SMALL(IF('بيانات اساسية'!$AL$6:$AL$306=\"معلم\",ROW(F$7:F$306)-ROW(F$7)+1),ROWS($A$3:F176))),\"\")","v":""},{"$f":"IFERROR(INDEX('بيانات اساسية'!AJ$6:AJ$306,SMALL(IF('بيانات اساسية'!$AL$6:$AL$306=\"معلم\",ROW(G$7:G$306)-ROW(G$7)+1),ROWS($A$3:G176))),\"\")","v":""},{"$f":"IFERROR(INDEX('بيانات اساسية'!AK$6:AK$306,SMALL(IF('بيانات اساسية'!$AL$6:$AL$306=\"معلم\",ROW(H$7:H$306)-ROW(H$7)+1),ROWS($A$3:H176))),\"\")","v":""}]
[{"$f":"IF(B178=\"\",\"\",SUBTOTAL(3,B$4:B178))","v":""},{"$f":"IFERROR(INDEX('بيانات اساسية'!B$6:B$306,SMALL(IF('بيانات اساسية'!$AL$6:$AL$306=\"معلم\",ROW(B$7:B$306)-ROW(B$7)+1),ROWS($A$3:B177))),\"\")","v":""},{"$f":"IFERROR(INDEX('بيانات اساسية'!C$6:C$306,SMALL(IF('بيانات اساسية'!$AL$6:$AL$306=\"معلم\",ROW(C$7:C$306)-ROW(C$7)+1),ROWS($A$3:C177))),\"\")","v":""},{"$f":"IFERROR(INDEX('بيانات اساسية'!AF$6:AF$306,SMALL(IF('بيانات اساسية'!$AL$6:$AL$306=\"معلم\",ROW(D$7:D$306)-ROW(D$7)+1),ROWS($A$3:D177))),\"\")","v":""},{"$f":"IFERROR(INDEX('بيانات اساسية'!AH$6:AH$306,SMALL(IF('بيانات اساسية'!$AL$6:$AL$306=\"معلم\",ROW(E$7:E$306)-ROW(E$7)+1),ROWS($A$3:E177))),\"\")","v":""},{"$f":"IFERROR(INDEX('بيانات اساسية'!AI$6:AI$306,SMALL(IF('بيانات اساسية'!$AL$6:$AL$306=\"معلم\",ROW(F$7:F$306)-ROW(F$7)+1),ROWS($A$3:F177))),\"\")","v":""},{"$f":"IFERROR(INDEX('بيانات اساسية'!AJ$6:AJ$306,SMALL(IF('بيانات اساسية'!$AL$6:$AL$306=\"معلم\",ROW(G$7:G$306)-ROW(G$7)+1),ROWS($A$3:G177))),\"\")","v":""},{"$f":"IFERROR(INDEX('بيانات اساسية'!AK$6:AK$306,SMALL(IF('بيانات اساسية'!$AL$6:$AL$306=\"معلم\",ROW(H$7:H$306)-ROW(H$7)+1),ROWS($A$3:H177))),\"\")","v":""}]
[{"$f":"IF(B179=\"\",\"\",SUBTOTAL(3,B$4:B179))","v":""},{"$f":"IFERROR(INDEX('بيانات اساسية'!B$6:B$306,SMALL(IF('بيانات اساسية'!$AL$6:$AL$306=\"معلم\",ROW(B$7:B$306)-ROW(B$7)+1),ROWS($A$3:B178))),\"\")","v":""},{"$f":"IFERROR(INDEX('بيانات اساسية'!C$6:C$306,SMALL(IF('بيانات اساسية'!$AL$6:$AL$306=\"معلم\",ROW(C$7:C$306)-ROW(C$7)+1),ROWS($A$3:C178))),\"\")","v":""},{"$f":"IFERROR(INDEX('بيانات اساسية'!AF$6:AF$306,SMALL(IF('بيانات اساسية'!$AL$6:$AL$306=\"معلم\",ROW(D$7:D$306)-ROW(D$7)+1),ROWS($A$3:D178))),\"\")","v":""},{"$f":"IFERROR(INDEX('بيانات اساسية'!AH$6:AH$306,SMALL(IF('بيانات اساسية'!$AL$6:$AL$306=\"معلم\",ROW(E$7:E$306)-ROW(E$7)+1),ROWS($A$3:E178))),\"\")","v":""},{"$f":"IFERROR(INDEX('بيانات اساسية'!AI$6:AI$306,SMALL(IF('بيانات اساسية'!$AL$6:$AL$306=\"معلم\",ROW(F$7:F$306)-ROW(F$7)+1),ROWS($A$3:F178))),\"\")","v":""},{"$f":"IFERROR(INDEX('بيانات اساسية'!AJ$6:AJ$306,SMALL(IF('بيانات اساسية'!$AL$6:$AL$306=\"معلم\",ROW(G$7:G$306)-ROW(G$7)+1),ROWS($A$3:G178))),\"\")","v":""},{"$f":"IFERROR(INDEX('بيانات اساسية'!AK$6:AK$306,SMALL(IF('بيانات اساسية'!$AL$6:$AL$306=\"معلم\",ROW(H$7:H$306)-ROW(H$7)+1),ROWS($A$3:H178))),\"\")","v":""}]
[{"$f":"IF(B180=\"\",\"\",SUBTOTAL(3,B$4:B180))","v":""},{"$f":"IFERROR(INDEX('بيانات اساسية'!B$6:B$306,SMALL(IF('بيانات اساسية'!$AL$6:$AL$306=\"معلم\",ROW(B$7:B$306)-ROW(B$7)+1),ROWS($A$3:B179))),\"\")","v":""},{"$f":"IFERROR(INDEX('بيانات اساسية'!C$6:C$306,SMALL(IF('بيانات اساسية'!$AL$6:$AL$306=\"معلم\",ROW(C$7:C$306)-ROW(C$7)+1),ROWS($A$3:C179))),\"\")","v":""},{"$f":"IFERROR(INDEX('بيانات اساسية'!AF$6:AF$306,SMALL(IF('بيانات اساسية'!$AL$6:$AL$306=\"معلم\",ROW(D$7:D$306)-ROW(D$7)+1),ROWS($A$3:D179))),\"\")","v":""},{"$f":"IFERROR(INDEX('بيانات اساسية'!AH$6:AH$306,SMALL(IF('بيانات اساسية'!$AL$6:$AL$306=\"معلم\",ROW(E$7:E$306)-ROW(E$7)+1),ROWS($A$3:E179))),\"\")","v":""},{"$f":"IFERROR(INDEX('بيانات اساسية'!AI$6:AI$306,SMALL(IF('بيانات اساسية'!$AL$6:$AL$306=\"معلم\",ROW(F$7:F$306)-ROW(F$7)+1),ROWS($A$3:F179))),\"\")","v":""},{"$f":"IFERROR(INDEX('بيانات اساسية'!AJ$6:AJ$306,SMALL(IF('بيانات اساسية'!$AL$6:$AL$306=\"معلم\",ROW(G$7:G$306)-ROW(G$7)+1),ROWS($A$3:G179))),\"\")","v":""},{"$f":"IFERROR(INDEX('بيانات اساسية'!AK$6:AK$306,SMALL(IF('بيانات اساسية'!$AL$6:$AL$306=\"معلم\",ROW(H$7:H$306)-ROW(H$7)+1),ROWS($A$3:H179))),\"\")","v":""}]
[{"$f":"IF(B181=\"\",\"\",SUBTOTAL(3,B$4:B181))","v":""},{"$f":"IFERROR(INDEX('بيانات اساسية'!B$6:B$306,SMALL(IF('بيانات اساسية'!$AL$6:$AL$306=\"معلم\",ROW(B$7:B$306)-ROW(B$7)+1),ROWS($A$3:B180))),\"\")","v":""},{"$f":"IFERROR(INDEX('بيانات اساسية'!C$6:C$306,SMALL(IF('بيانات اساسية'!$AL$6:$AL$306=\"معلم\",ROW(C$7:C$306)-ROW(C$7)+1),ROWS($A$3:C180))),\"\")","v":""},{"$f":"IFERROR(INDEX('بيانات اساسية'!AF$6:AF$306,SMALL(IF('بيانات اساسية'!$AL$6:$AL$306=\"معلم\",ROW(D$7:D$306)-ROW(D$7)+1),ROWS($A$3:D180))),\"\")","v":""},{"$f":"IFERROR(INDEX('بيانات اساسية'!AH$6:AH$306,SMALL(IF('بيانات اساسية'!$AL$6:$AL$306=\"معلم\",ROW(E$7:E$306)-ROW(E$7)+1),ROWS($A$3:E180))),\"\")","v":""},{"$f":"IFERROR(INDEX('بيانات اساسية'!AI$6:AI$306,SMALL(IF('بيانات اساسية'!$AL$6:$AL$306=\"معلم\",ROW(F$7:F$306)-ROW(F$7)+1),ROWS($A$3:F180))),\"\")","v":""},{"$f":"IFERROR(INDEX('بيانات اساسية'!AJ$6:AJ$306,SMALL(IF('بيانات اساسية'!$AL$6:$AL$306=\"معلم\",ROW(G$7:G$306)-ROW(G$7)+1),ROWS($A$3:G180))),\"\")","v":""},{"$f":"IFERROR(INDEX('بيانات اساسية'!AK$6:AK$306,SMALL(IF('بيانات اساسية'!$AL$6:$AL$306=\"معلم\",ROW(H$7:H$306)-ROW(H$7)+1),ROWS($A$3:H180))),\"\")","v":""}]
[{"$f":"IF(B182=\"\",\"\",SUBTOTAL(3,B$4:B182))","v":""},{"$f":"IFERROR(INDEX('بيانات اساسية'!B$6:B$306,SMALL(IF('بيانات اساسية'!$AL$6:$AL$306=\"معلم\",ROW(B$7:B$306)-ROW(B$7)+1),ROWS($A$3:B181))),\"\")","v":""},{"$f":"IFERROR(INDEX('بيانات اساسية'!C$6:C$306,SMALL(IF('بيانات اساسية'!$AL$6:$AL$306=\"معلم\",ROW(C$7:C$306)-ROW(C$7)+1),ROWS($A$3:C181))),\"\")","v":""},{"$f":"IFERROR(INDEX('بيانات اساسية'!AF$6:AF$306,SMALL(IF('بيانات اساسية'!$AL$6:$AL$306=\"معلم\",ROW(D$7:D$306)-ROW(D$7)+1),ROWS($A$3:D181))),\"\")","v":""},{"$f":"IFERROR(INDEX('بيانات اساسية'!AH$6:AH$306,SMALL(IF('بيانات اساسية'!$AL$6:$AL$306=\"معلم\",ROW(E$7:E$306)-ROW(E$7)+1),ROWS($A$3:E181))),\"\")","v":""},{"$f":"IFERROR(INDEX('بيانات اساسية'!AI$6:AI$306,SMALL(IF('بيانات اساسية'!$AL$6:$AL$306=\"معلم\",ROW(F$7:F$306)-ROW(F$7)+1),ROWS($A$3:F181))),\"\")","v":""},{"$f":"IFERROR(INDEX('بيانات اساسية'!AJ$6:AJ$306,SMALL(IF('بيانات اساسية'!$AL$6:$AL$306=\"معلم\",ROW(G$7:G$306)-ROW(G$7)+1),ROWS($A$3:G181))),\"\")","v":""},{"$f":"IFERROR(INDEX('بيانات اساسية'!AK$6:AK$306,SMALL(IF('بيانات اساسية'!$AL$6:$AL$306=\"معلم\",ROW(H$7:H$306)-ROW(H$7)+1),ROWS($A$3:H181))),\"\")","v":""}]
[{"$f":"IF(B183=\"\",\"\",SUBTOTAL(3,B$4:B183))","v":""},{"$f":"IFERROR(INDEX('بيانات اساسية'!B$6:B$306,SMALL(IF('بيانات اساسية'!$AL$6:$AL$306=\"معلم\",ROW(B$7:B$306)-ROW(B$7)+1),ROWS($A$3:B182))),\"\")","v":""},{"$f":"IFERROR(INDEX('بيانات اساسية'!C$6:C$306,SMALL(IF('بيانات اساسية'!$AL$6:$AL$306=\"معلم\",ROW(C$7:C$306)-ROW(C$7)+1),ROWS($A$3:C182))),\"\")","v":""},{"$f":"IFERROR(INDEX('بيانات اساسية'!AF$6:AF$306,SMALL(IF('بيانات اساسية'!$AL$6:$AL$306=\"معلم\",ROW(D$7:D$306)-ROW(D$7)+1),ROWS($A$3:D182))),\"\")","v":""},{"$f":"IFERROR(INDEX('بيانات اساسية'!AH$6:AH$306,SMALL(IF('بيانات اساسية'!$AL$6:$AL$306=\"معلم\",ROW(E$7:E$306)-ROW(E$7)+1),ROWS($A$3:E182))),\"\")","v":""},{"$f":"IFERROR(INDEX('بيانات اساسية'!AI$6:AI$306,SMALL(IF('بيانات اساسية'!$AL$6:$AL$306=\"معلم\",ROW(F$7:F$306)-ROW(F$7)+1),ROWS($A$3:F182))),\"\")","v":""},{"$f":"IFERROR(INDEX('بيانات اساسية'!AJ$6:AJ$306,SMALL(IF('بيانات اساسية'!$AL$6:$AL$306=\"معلم\",ROW(G$7:G$306)-ROW(G$7)+1),ROWS($A$3:G182))),\"\")","v":""},{"$f":"IFERROR(INDEX('بيانات اساسية'!AK$6:AK$306,SMALL(IF('بيانات اساسية'!$AL$6:$AL$306=\"معلم\",ROW(H$7:H$306)-ROW(H$7)+1),ROWS($A$3:H182))),\"\")","v":""}]
[{"$f":"IF(B184=\"\",\"\",SUBTOTAL(3,B$4:B184))","v":""},{"$f":"IFERROR(INDEX('بيانات اساسية'!B$6:B$306,SMALL(IF('بيانات اساسية'!$AL$6:$AL$306=\"معلم\",ROW(B$7:B$306)-ROW(B$7)+1),ROWS($A$3:B183))),\"\")","v":""},{"$f":"IFERROR(INDEX('بيانات اساسية'!C$6:C$306,SMALL(IF('بيانات اساسية'!$AL$6:$AL$306=\"معلم\",ROW(C$7:C$306)-ROW(C$7)+1),ROWS($A$3:C183))),\"\")","v":""},{"$f":"IFERROR(INDEX('بيانات اساسية'!AF$6:AF$306,SMALL(IF('بيانات اساسية'!$AL$6:$AL$306=\"معلم\",ROW(D$7:D$306)-ROW(D$7)+1),ROWS($A$3:D183))),\"\")","v":""},{"$f":"IFERROR(INDEX('بيانات اساسية'!AH$6:AH$306,SMALL(IF('بيانات اساسية'!$AL$6:$AL$306=\"معلم\",ROW(E$7:E$306)-ROW(E$7)+1),ROWS($A$3:E183))),\"\")","v":""},{"$f":"IFERROR(INDEX('بيانات اساسية'!AI$6:AI$306,SMALL(IF('بيانات اساسية'!$AL$6:$AL$306=\"معلم\",ROW(F$7:F$306)-ROW(F$7)+1),ROWS($A$3:F183))),\"\")","v":""},{"$f":"IFERROR(INDEX('بيانات اساسية'!AJ$6:AJ$306,SMALL(IF('بيانات اساسية'!$AL$6:$AL$306=\"معلم\",ROW(G$7:G$306)-ROW(G$7)+1),ROWS($A$3:G183))),\"\")","v":""},{"$f":"IFERROR(INDEX('بيانات اساسية'!AK$6:AK$306,SMALL(IF('بيانات اساسية'!$AL$6:$AL$306=\"معلم\",ROW(H$7:H$306)-ROW(H$7)+1),ROWS($A$3:H183))),\"\")","v":""}]
[{"$f":"IF(B185=\"\",\"\",SUBTOTAL(3,B$4:B185))","v":""},{"$f":"IFERROR(INDEX('بيانات اساسية'!B$6:B$306,SMALL(IF('بيانات اساسية'!$AL$6:$AL$306=\"معلم\",ROW(B$7:B$306)-ROW(B$7)+1),ROWS($A$3:B184))),\"\")","v":""},{"$f":"IFERROR(INDEX('بيانات اساسية'!C$6:C$306,SMALL(IF('بيانات اساسية'!$AL$6:$AL$306=\"معلم\",ROW(C$7:C$306)-ROW(C$7)+1),ROWS($A$3:C184))),\"\")","v":""},{"$f":"IFERROR(INDEX('بيانات اساسية'!AF$6:AF$306,SMALL(IF('بيانات اساسية'!$AL$6:$AL$306=\"معلم\",ROW(D$7:D$306)-ROW(D$7)+1),ROWS($A$3:D184))),\"\")","v":""},{"$f":"IFERROR(INDEX('بيانات اساسية'!AH$6:AH$306,SMALL(IF('بيانات اساسية'!$AL$6:$AL$306=\"معلم\",ROW(E$7:E$306)-ROW(E$7)+1),ROWS($A$3:E184))),\"\")","v":""},{"$f":"IFERROR(INDEX('بيانات اساسية'!AI$6:AI$306,SMALL(IF('بيانات اساسية'!$AL$6:$AL$306=\"معلم\",ROW(F$7:F$306)-ROW(F$7)+1),ROWS($A$3:F184))),\"\")","v":""},{"$f":"IFERROR(INDEX('بيانات اساسية'!AJ$6:AJ$306,SMALL(IF('بيانات اساسية'!$AL$6:$AL$306=\"معلم\",ROW(G$7:G$306)-ROW(G$7)+1),ROWS($A$3:G184))),\"\")","v":""},{"$f":"IFERROR(INDEX('بيانات اساسية'!AK$6:AK$306,SMALL(IF('بيانات اساسية'!$AL$6:$AL$306=\"معلم\",ROW(H$7:H$306)-ROW(H$7)+1),ROWS($A$3:H184))),\"\")","v":""}]
[{"$f":"IF(B186=\"\",\"\",SUBTOTAL(3,B$4:B186))","v":""},{"$f":"IFERROR(INDEX('بيانات اساسية'!B$6:B$306,SMALL(IF('بيانات اساسية'!$AL$6:$AL$306=\"معلم\",ROW(B$7:B$306)-ROW(B$7)+1),ROWS($A$3:B185))),\"\")","v":""},{"$f":"IFERROR(INDEX('بيانات اساسية'!C$6:C$306,SMALL(IF('بيانات اساسية'!$AL$6:$AL$306=\"معلم\",ROW(C$7:C$306)-ROW(C$7)+1),ROWS($A$3:C185))),\"\")","v":""},{"$f":"IFERROR(INDEX('بيانات اساسية'!AF$6:AF$306,SMALL(IF('بيانات اساسية'!$AL$6:$AL$306=\"معلم\",ROW(D$7:D$306)-ROW(D$7)+1),ROWS($A$3:D185))),\"\")","v":""},{"$f":"IFERROR(INDEX('بيانات اساسية'!AH$6:AH$306,SMALL(IF('بيانات اساسية'!$AL$6:$AL$306=\"معلم\",ROW(E$7:E$306)-ROW(E$7)+1),ROWS($A$3:E185))),\"\")","v":""},{"$f":"IFERROR(INDEX('بيانات اساسية'!AI$6:AI$306,SMALL(IF('بيانات اساسية'!$AL$6:$AL$306=\"معلم\",ROW(F$7:F$306)-ROW(F$7)+1),ROWS($A$3:F185))),\"\")","v":""},{"$f":"IFERROR(INDEX('بيانات اساسية'!AJ$6:AJ$306,SMALL(IF('بيانات اساسية'!$AL$6:$AL$306=\"معلم\",ROW(G$7:G$306)-ROW(G$7)+1),ROWS($A$3:G185))),\"\")","v":""},{"$f":"IFERROR(INDEX('بيانات اساسية'!AK$6:AK$306,SMALL(IF('بيانات اساسية'!$AL$6:$AL$306=\"معلم\",ROW(H$7:H$306)-ROW(H$7)+1),ROWS($A$3:H185))),\"\")","v":""}]
[{"$f":"IF(B187=\"\",\"\",SUBTOTAL(3,B$4:B187))","v":""},{"$f":"IFERROR(INDEX('بيانات اساسية'!B$6:B$306,SMALL(IF('بيانات اساسية'!$AL$6:$AL$306=\"معلم\",ROW(B$7:B$306)-ROW(B$7)+1),ROWS($A$3:B186))),\"\")","v":""},{"$f":"IFERROR(INDEX('بيانات اساسية'!C$6:C$306,SMALL(IF('بيانات اساسية'!$AL$6:$AL$306=\"معلم\",ROW(C$7:C$306)-ROW(C$7)+1),ROWS($A$3:C186))),\"\")","v":""},{"$f":"IFERROR(INDEX('بيانات اساسية'!AF$6:AF$306,SMALL(IF('بيانات اساسية'!$AL$6:$AL$306=\"معلم\",ROW(D$7:D$306)-ROW(D$7)+1),ROWS($A$3:D186))),\"\")","v":""},{"$f":"IFERROR(INDEX('بيانات اساسية'!AH$6:AH$306,SMALL(IF('بيانات اساسية'!$AL$6:$AL$306=\"معلم\",ROW(E$7:E$306)-ROW(E$7)+1),ROWS($A$3:E186))),\"\")","v":""},{"$f":"IFERROR(INDEX('بيانات اساسية'!AI$6:AI$306,SMALL(IF('بيانات اساسية'!$AL$6:$AL$306=\"معلم\",ROW(F$7:F$306)-ROW(F$7)+1),ROWS($A$3:F186))),\"\")","v":""},{"$f":"IFERROR(INDEX('بيانات اساسية'!AJ$6:AJ$306,SMALL(IF('بيانات اساسية'!$AL$6:$AL$306=\"معلم\",ROW(G$7:G$306)-ROW(G$7)+1),ROWS($A$3:G186))),\"\")","v":""},{"$f":"IFERROR(INDEX('بيانات اساسية'!AK$6:AK$306,SMALL(IF('بيانات اساسية'!$AL$6:$AL$306=\"معلم\",ROW(H$7:H$306)-ROW(H$7)+1),ROWS($A$3:H186))),\"\")","v":""}]
[{"$f":"IF(B188=\"\",\"\",SUBTOTAL(3,B$4:B188))","v":""},{"$f":"IFERROR(INDEX('بيانات اساسية'!B$6:B$306,SMALL(IF('بيانات اساسية'!$AL$6:$AL$306=\"معلم\",ROW(B$7:B$306)-ROW(B$7)+1),ROWS($A$3:B187))),\"\")","v":""},{"$f":"IFERROR(INDEX('بيانات اساسية'!C$6:C$306,SMALL(IF('بيانات اساسية'!$AL$6:$AL$306=\"معلم\",ROW(C$7:C$306)-ROW(C$7)+1),ROWS($A$3:C187))),\"\")","v":""},{"$f":"IFERROR(INDEX('بيانات اساسية'!AF$6:AF$306,SMALL(IF('بيانات اساسية'!$AL$6:$AL$306=\"معلم\",ROW(D$7:D$306)-ROW(D$7)+1),ROWS($A$3:D187))),\"\")","v":""},{"$f":"IFERROR(INDEX('بيانات اساسية'!AH$6:AH$306,SMALL(IF('بيانات اساسية'!$AL$6:$AL$306=\"معلم\",ROW(E$7:E$306)-ROW(E$7)+1),ROWS($A$3:E187))),\"\")","v":""},{"$f":"IFERROR(INDEX('بيانات اساسية'!AI$6:AI$306,SMALL(IF('بيانات اساسية'!$AL$6:$AL$306=\"معلم\",ROW(F$7:F$306)-ROW(F$7)+1),ROWS($A$3:F187))),\"\")","v":""},{"$f":"IFERROR(INDEX('بيانات اساسية'!AJ$6:AJ$306,SMALL(IF('بيانات اساسية'!$AL$6:$AL$306=\"معلم\",ROW(G$7:G$306)-ROW(G$7)+1),ROWS($A$3:G187))),\"\")","v":""},{"$f":"IFERROR(INDEX('بيانات اساسية'!AK$6:AK$306,SMALL(IF('بيانات اساسية'!$AL$6:$AL$306=\"معلم\",ROW(H$7:H$306)-ROW(H$7)+1),ROWS($A$3:H187))),\"\")","v":""}]
[{"$f":"IF(B189=\"\",\"\",SUBTOTAL(3,B$4:B189))","v":""},{"$f":"IFERROR(INDEX('بيانات اساسية'!B$6:B$306,SMALL(IF('بيانات اساسية'!$AL$6:$AL$306=\"معلم\",ROW(B$7:B$306)-ROW(B$7)+1),ROWS($A$3:B188))),\"\")","v":""},{"$f":"IFERROR(INDEX('بيانات اساسية'!C$6:C$306,SMALL(IF('بيانات اساسية'!$AL$6:$AL$306=\"معلم\",ROW(C$7:C$306)-ROW(C$7)+1),ROWS($A$3:C188))),\"\")","v":""},{"$f":"IFERROR(INDEX('بيانات اساسية'!AF$6:AF$306,SMALL(IF('بيانات اساسية'!$AL$6:$AL$306=\"معلم\",ROW(D$7:D$306)-ROW(D$7)+1),ROWS($A$3:D188))),\"\")","v":""},{"$f":"IFERROR(INDEX('بيانات اساسية'!AH$6:AH$306,SMALL(IF('بيانات اساسية'!$AL$6:$AL$306=\"معلم\",ROW(E$7:E$306)-ROW(E$7)+1),ROWS($A$3:E188))),\"\")","v":""},{"$f":"IFERROR(INDEX('بيانات اساسية'!AI$6:AI$306,SMALL(IF('بيانات اساسية'!$AL$6:$AL$306=\"معلم\",ROW(F$7:F$306)-ROW(F$7)+1),ROWS($A$3:F188))),\"\")","v":""},{"$f":"IFERROR(INDEX('بيانات اساسية'!AJ$6:AJ$306,SMALL(IF('بيانات اساسية'!$AL$6:$AL$306=\"معلم\",ROW(G$7:G$306)-ROW(G$7)+1),ROWS($A$3:G188))),\"\")","v":""},{"$f":"IFERROR(INDEX('بيانات اساسية'!AK$6:AK$306,SMALL(IF('بيانات اساسية'!$AL$6:$AL$306=\"معلم\",ROW(H$7:H$306)-ROW(H$7)+1),ROWS($A$3:H188))),\"\")","v":""}]
[{"$f":"IF(B190=\"\",\"\",SUBTOTAL(3,B$4:B190))","v":""},{"$f":"IFERROR(INDEX('بيانات اساسية'!B$6:B$306,SMALL(IF('بيانات اساسية'!$AL$6:$AL$306=\"معلم\",ROW(B$7:B$306)-ROW(B$7)+1),ROWS($A$3:B189))),\"\")","v":""},{"$f":"IFERROR(INDEX('بيانات اساسية'!C$6:C$306,SMALL(IF('بيانات اساسية'!$AL$6:$AL$306=\"معلم\",ROW(C$7:C$306)-ROW(C$7)+1),ROWS($A$3:C189))),\"\")","v":""},{"$f":"IFERROR(INDEX('بيانات اساسية'!AF$6:AF$306,SMALL(IF('بيانات اساسية'!$AL$6:$AL$306=\"معلم\",ROW(D$7:D$306)-ROW(D$7)+1),ROWS($A$3:D189))),\"\")","v":""},{"$f":"IFERROR(INDEX('بيانات اساسية'!AH$6:AH$306,SMALL(IF('بيانات اساسية'!$AL$6:$AL$306=\"معلم\",ROW(E$7:E$306)-ROW(E$7)+1),ROWS($A$3:E189))),\"\")","v":""},{"$f":"IFERROR(INDEX('بيانات اساسية'!AI$6:AI$306,SMALL(IF('بيانات اساسية'!$AL$6:$AL$306=\"معلم\",ROW(F$7:F$306)-ROW(F$7)+1),ROWS($A$3:F189))),\"\")","v":""},{"$f":"IFERROR(INDEX('بيانات اساسية'!AJ$6:AJ$306,SMALL(IF('بيانات اساسية'!$AL$6:$AL$306=\"معلم\",ROW(G$7:G$306)-ROW(G$7)+1),ROWS($A$3:G189))),\"\")","v":""},{"$f":"IFERROR(INDEX('بيانات اساسية'!AK$6:AK$306,SMALL(IF('بيانات اساسية'!$AL$6:$AL$306=\"معلم\",ROW(H$7:H$306)-ROW(H$7)+1),ROWS($A$3:H189))),\"\")","v":""}]
[{"$f":"IF(B191=\"\",\"\",SUBTOTAL(3,B$4:B191))","v":""},{"$f":"IFERROR(INDEX('بيانات اساسية'!B$6:B$306,SMALL(IF('بيانات اساسية'!$AL$6:$AL$306=\"معلم\",ROW(B$7:B$306)-ROW(B$7)+1),ROWS($A$3:B190))),\"\")","v":""},{"$f":"IFERROR(INDEX('بيانات اساسية'!C$6:C$306,SMALL(IF('بيانات اساسية'!$AL$6:$AL$306=\"معلم\",ROW(C$7:C$306)-ROW(C$7)+1),ROWS($A$3:C190))),\"\")","v":""},{"$f":"IFERROR(INDEX('بيانات اساسية'!AF$6:AF$306,SMALL(IF('بيانات اساسية'!$AL$6:$AL$306=\"معلم\",ROW(D$7:D$306)-ROW(D$7)+1),ROWS($A$3:D190))),\"\")","v":""},{"$f":"IFERROR(INDEX('بيانات اساسية'!AH$6:AH$306,SMALL(IF('بيانات اساسية'!$AL$6:$AL$306=\"معلم\",ROW(E$7:E$306)-ROW(E$7)+1),ROWS($A$3:E190))),\"\")","v":""},{"$f":"IFERROR(INDEX('بيانات اساسية'!AI$6:AI$306,SMALL(IF('بيانات اساسية'!$AL$6:$AL$306=\"معلم\",ROW(F$7:F$306)-ROW(F$7)+1),ROWS($A$3:F190))),\"\")","v":""},{"$f":"IFERROR(INDEX('بيانات اساسية'!AJ$6:AJ$306,SMALL(IF('بيانات اساسية'!$AL$6:$AL$306=\"معلم\",ROW(G$7:G$306)-ROW(G$7)+1),ROWS($A$3:G190))),\"\")","v":""},{"$f":"IFERROR(INDEX('بيانات اساسية'!AK$6:AK$306,SMALL(IF('بيانات اساسية'!$AL$6:$AL$306=\"معلم\",ROW(H$7:H$306)-ROW(H$7)+1),ROWS($A$3:H190))),\"\")","v":""}]
[{"$f":"IF(B192=\"\",\"\",SUBTOTAL(3,B$4:B192))","v":""},{"$f":"IFERROR(INDEX('بيانات اساسية'!B$6:B$306,SMALL(IF('بيانات اساسية'!$AL$6:$AL$306=\"معلم\",ROW(B$7:B$306)-ROW(B$7)+1),ROWS($A$3:B191))),\"\")","v":""},{"$f":"IFERROR(INDEX('بيانات اساسية'!C$6:C$306,SMALL(IF('بيانات اساسية'!$AL$6:$AL$306=\"معلم\",ROW(C$7:C$306)-ROW(C$7)+1),ROWS($A$3:C191))),\"\")","v":""},{"$f":"IFERROR(INDEX('بيانات اساسية'!AF$6:AF$306,SMALL(IF('بيانات اساسية'!$AL$6:$AL$306=\"معلم\",ROW(D$7:D$306)-ROW(D$7)+1),ROWS($A$3:D191))),\"\")","v":""},{"$f":"IFERROR(INDEX('بيانات اساسية'!AH$6:AH$306,SMALL(IF('بيانات اساسية'!$AL$6:$AL$306=\"معلم\",ROW(E$7:E$306)-ROW(E$7)+1),ROWS($A$3:E191))),\"\")","v":""},{"$f":"IFERROR(INDEX('بيانات اساسية'!AI$6:AI$306,SMALL(IF('بيانات اساسية'!$AL$6:$AL$306=\"معلم\",ROW(F$7:F$306)-ROW(F$7)+1),ROWS($A$3:F191))),\"\")","v":""},{"$f":"IFERROR(INDEX('بيانات اساسية'!AJ$6:AJ$306,SMALL(IF('بيانات اساسية'!$AL$6:$AL$306=\"معلم\",ROW(G$7:G$306)-ROW(G$7)+1),ROWS($A$3:G191))),\"\")","v":""},{"$f":"IFERROR(INDEX('بيانات اساسية'!AK$6:AK$306,SMALL(IF('بيانات اساسية'!$AL$6:$AL$306=\"معلم\",ROW(H$7:H$306)-ROW(H$7)+1),ROWS($A$3:H191))),\"\")","v":""}]
[{"$f":"IF(B193=\"\",\"\",SUBTOTAL(3,B$4:B193))","v":""},{"$f":"IFERROR(INDEX('بيانات اساسية'!B$6:B$306,SMALL(IF('بيانات اساسية'!$AL$6:$AL$306=\"معلم\",ROW(B$7:B$306)-ROW(B$7)+1),ROWS($A$3:B192))),\"\")","v":""},{"$f":"IFERROR(INDEX('بيانات اساسية'!C$6:C$306,SMALL(IF('بيانات اساسية'!$AL$6:$AL$306=\"معلم\",ROW(C$7:C$306)-ROW(C$7)+1),ROWS($A$3:C192))),\"\")","v":""},{"$f":"IFERROR(INDEX('بيانات اساسية'!AF$6:AF$306,SMALL(IF('بيانات اساسية'!$AL$6:$AL$306=\"معلم\",ROW(D$7:D$306)-ROW(D$7)+1),ROWS($A$3:D192))),\"\")","v":""},{"$f":"IFERROR(INDEX('بيانات اساسية'!AH$6:AH$306,SMALL(IF('بيانات اساسية'!$AL$6:$AL$306=\"معلم\",ROW(E$7:E$306)-ROW(E$7)+1),ROWS($A$3:E192))),\"\")","v":""},{"$f":"IFERROR(INDEX('بيانات اساسية'!AI$6:AI$306,SMALL(IF('بيانات اساسية'!$AL$6:$AL$306=\"معلم\",ROW(F$7:F$306)-ROW(F$7)+1),ROWS($A$3:F192))),\"\")","v":""},{"$f":"IFERROR(INDEX('بيانات اساسية'!AJ$6:AJ$306,SMALL(IF('بيانات اساسية'!$AL$6:$AL$306=\"معلم\",ROW(G$7:G$306)-ROW(G$7)+1),ROWS($A$3:G192))),\"\")","v":""},{"$f":"IFERROR(INDEX('بيانات اساسية'!AK$6:AK$306,SMALL(IF('بيانات اساسية'!$AL$6:$AL$306=\"معلم\",ROW(H$7:H$306)-ROW(H$7)+1),ROWS($A$3:H192))),\"\")","v":""}]
[{"$f":"IF(B194=\"\",\"\",SUBTOTAL(3,B$4:B194))","v":""},{"$f":"IFERROR(INDEX('بيانات اساسية'!B$6:B$306,SMALL(IF('بيانات اساسية'!$AL$6:$AL$306=\"معلم\",ROW(B$7:B$306)-ROW(B$7)+1),ROWS($A$3:B193))),\"\")","v":""},{"$f":"IFERROR(INDEX('بيانات اساسية'!C$6:C$306,SMALL(IF('بيانات اساسية'!$AL$6:$AL$306=\"معلم\",ROW(C$7:C$306)-ROW(C$7)+1),ROWS($A$3:C193))),\"\")","v":""},{"$f":"IFERROR(INDEX('بيانات اساسية'!AF$6:AF$306,SMALL(IF('بيانات اساسية'!$AL$6:$AL$306=\"معلم\",ROW(D$7:D$306)-ROW(D$7)+1),ROWS($A$3:D193))),\"\")","v":""},{"$f":"IFERROR(INDEX('بيانات اساسية'!AH$6:AH$306,SMALL(IF('بيانات اساسية'!$AL$6:$AL$306=\"معلم\",ROW(E$7:E$306)-ROW(E$7)+1),ROWS($A$3:E193))),\"\")","v":""},{"$f":"IFERROR(INDEX('بيانات اساسية'!AI$6:AI$306,SMALL(IF('بيانات اساسية'!$AL$6:$AL$306=\"معلم\",ROW(F$7:F$306)-ROW(F$7)+1),ROWS($A$3:F193))),\"\")","v":""},{"$f":"IFERROR(INDEX('بيانات اساسية'!AJ$6:AJ$306,SMALL(IF('بيانات اساسية'!$AL$6:$AL$306=\"معلم\",ROW(G$7:G$306)-ROW(G$7)+1),ROWS($A$3:G193))),\"\")","v":""},{"$f":"IFERROR(INDEX('بيانات اساسية'!AK$6:AK$306,SMALL(IF('بيانات اساسية'!$AL$6:$AL$306=\"معلم\",ROW(H$7:H$306)-ROW(H$7)+1),ROWS($A$3:H193))),\"\")","v":""}]
[{"$f":"IF(B195=\"\",\"\",SUBTOTAL(3,B$4:B195))","v":""},{"$f":"IFERROR(INDEX('بيانات اساسية'!B$6:B$306,SMALL(IF('بيانات اساسية'!$AL$6:$AL$306=\"معلم\",ROW(B$7:B$306)-ROW(B$7)+1),ROWS($A$3:B194))),\"\")","v":""},{"$f":"IFERROR(INDEX('بيانات اساسية'!C$6:C$306,SMALL(IF('بيانات اساسية'!$AL$6:$AL$306=\"معلم\",ROW(C$7:C$306)-ROW(C$7)+1),ROWS($A$3:C194))),\"\")","v":""},{"$f":"IFERROR(INDEX('بيانات اساسية'!AF$6:AF$306,SMALL(IF('بيانات اساسية'!$AL$6:$AL$306=\"معلم\",ROW(D$7:D$306)-ROW(D$7)+1),ROWS($A$3:D194))),\"\")","v":""},{"$f":"IFERROR(INDEX('بيانات اساسية'!AH$6:AH$306,SMALL(IF('بيانات اساسية'!$AL$6:$AL$306=\"معلم\",ROW(E$7:E$306)-ROW(E$7)+1),ROWS($A$3:E194))),\"\")","v":""},{"$f":"IFERROR(INDEX('بيانات اساسية'!AI$6:AI$306,SMALL(IF('بيانات اساسية'!$AL$6:$AL$306=\"معلم\",ROW(F$7:F$306)-ROW(F$7)+1),ROWS($A$3:F194))),\"\")","v":""},{"$f":"IFERROR(INDEX('بيانات اساسية'!AJ$6:AJ$306,SMALL(IF('بيانات اساسية'!$AL$6:$AL$306=\"معلم\",ROW(G$7:G$306)-ROW(G$7)+1),ROWS($A$3:G194))),\"\")","v":""},{"$f":"IFERROR(INDEX('بيانات اساسية'!AK$6:AK$306,SMALL(IF('بيانات اساسية'!$AL$6:$AL$306=\"معلم\",ROW(H$7:H$306)-ROW(H$7)+1),ROWS($A$3:H194))),\"\")","v":""}]
[{"$f":"IF(B196=\"\",\"\",SUBTOTAL(3,B$4:B196))","v":""},{"$f":"IFERROR(INDEX('بيانات اساسية'!B$6:B$306,SMALL(IF('بيانات اساسية'!$AL$6:$AL$306=\"معلم\",ROW(B$7:B$306)-ROW(B$7)+1),ROWS($A$3:B195))),\"\")","v":""},{"$f":"IFERROR(INDEX('بيانات اساسية'!C$6:C$306,SMALL(IF('بيانات اساسية'!$AL$6:$AL$306=\"معلم\",ROW(C$7:C$306)-ROW(C$7)+1),ROWS($A$3:C195))),\"\")","v":""},{"$f":"IFERROR(INDEX('بيانات اساسية'!AF$6:AF$306,SMALL(IF('بيانات اساسية'!$AL$6:$AL$306=\"معلم\",ROW(D$7:D$306)-ROW(D$7)+1),ROWS($A$3:D195))),\"\")","v":""},{"$f":"IFERROR(INDEX('بيانات اساسية'!AH$6:AH$306,SMALL(IF('بيانات اساسية'!$AL$6:$AL$306=\"معلم\",ROW(E$7:E$306)-ROW(E$7)+1),ROWS($A$3:E195))),\"\")","v":""},{"$f":"IFERROR(INDEX('بيانات اساسية'!AI$6:AI$306,SMALL(IF('بيانات اساسية'!$AL$6:$AL$306=\"معلم\",ROW(F$7:F$306)-ROW(F$7)+1),ROWS($A$3:F195))),\"\")","v":""},{"$f":"IFERROR(INDEX('بيانات اساسية'!AJ$6:AJ$306,SMALL(IF('بيانات اساسية'!$AL$6:$AL$306=\"معلم\",ROW(G$7:G$306)-ROW(G$7)+1),ROWS($A$3:G195))),\"\")","v":""},{"$f":"IFERROR(INDEX('بيانات اساسية'!AK$6:AK$306,SMALL(IF('بيانات اساسية'!$AL$6:$AL$306=\"معلم\",ROW(H$7:H$306)-ROW(H$7)+1),ROWS($A$3:H195))),\"\")","v":""}]
[{"$f":"IF(B197=\"\",\"\",SUBTOTAL(3,B$4:B197))","v":""},{"$f":"IFERROR(INDEX('بيانات اساسية'!B$6:B$306,SMALL(IF('بيانات اساسية'!$AL$6:$AL$306=\"معلم\",ROW(B$7:B$306)-ROW(B$7)+1),ROWS($A$3:B196))),\"\")","v":""},{"$f":"IFERROR(INDEX('بيانات اساسية'!C$6:C$306,SMALL(IF('بيانات اساسية'!$AL$6:$AL$306=\"معلم\",ROW(C$7:C$306)-ROW(C$7)+1),ROWS($A$3:C196))),\"\")","v":""},{"$f":"IFERROR(INDEX('بيانات اساسية'!AF$6:AF$306,SMALL(IF('بيانات اساسية'!$AL$6:$AL$306=\"معلم\",ROW(D$7:D$306)-ROW(D$7)+1),ROWS($A$3:D196))),\"\")","v":""},{"$f":"IFERROR(INDEX('بيانات اساسية'!AH$6:AH$306,SMALL(IF('بيانات اساسية'!$AL$6:$AL$306=\"معلم\",ROW(E$7:E$306)-ROW(E$7)+1),ROWS($A$3:E196))),\"\")","v":""},{"$f":"IFERROR(INDEX('بيانات اساسية'!AI$6:AI$306,SMALL(IF('بيانات اساسية'!$AL$6:$AL$306=\"معلم\",ROW(F$7:F$306)-ROW(F$7)+1),ROWS($A$3:F196))),\"\")","v":""},{"$f":"IFERROR(INDEX('بيانات اساسية'!AJ$6:AJ$306,SMALL(IF('بيانات اساسية'!$AL$6:$AL$306=\"معلم\",ROW(G$7:G$306)-ROW(G$7)+1),ROWS($A$3:G196))),\"\")","v":""},{"$f":"IFERROR(INDEX('بيانات اساسية'!AK$6:AK$306,SMALL(IF('بيانات اساسية'!$AL$6:$AL$306=\"معلم\",ROW(H$7:H$306)-ROW(H$7)+1),ROWS($A$3:H196))),\"\")","v":""}]
[{"$f":"IF(B198=\"\",\"\",SUBTOTAL(3,B$4:B198))","v":""},{"$f":"IFERROR(INDEX('بيانات اساسية'!B$6:B$306,SMALL(IF('بيانات اساسية'!$AL$6:$AL$306=\"معلم\",ROW(B$7:B$306)-ROW(B$7)+1),ROWS($A$3:B197))),\"\")","v":""},{"$f":"IFERROR(INDEX('بيانات اساسية'!C$6:C$306,SMALL(IF('بيانات اساسية'!$AL$6:$AL$306=\"معلم\",ROW(C$7:C$306)-ROW(C$7)+1),ROWS($A$3:C197))),\"\")","v":""},{"$f":"IFERROR(INDEX('بيانات اساسية'!AF$6:AF$306,SMALL(IF('بيانات اساسية'!$AL$6:$AL$306=\"معلم\",ROW(D$7:D$306)-ROW(D$7)+1),ROWS($A$3:D197))),\"\")","v":""},{"$f":"IFERROR(INDEX('بيانات اساسية'!AH$6:AH$306,SMALL(IF('بيانات اساسية'!$AL$6:$AL$306=\"معلم\",ROW(E$7:E$306)-ROW(E$7)+1),ROWS($A$3:E197))),\"\")","v":""},{"$f":"IFERROR(INDEX('بيانات اساسية'!AI$6:AI$306,SMALL(IF('بيانات اساسية'!$AL$6:$AL$306=\"معلم\",ROW(F$7:F$306)-ROW(F$7)+1),ROWS($A$3:F197))),\"\")","v":""},{"$f":"IFERROR(INDEX('بيانات اساسية'!AJ$6:AJ$306,SMALL(IF('بيانات اساسية'!$AL$6:$AL$306=\"معلم\",ROW(G$7:G$306)-ROW(G$7)+1),ROWS($A$3:G197))),\"\")","v":""},{"$f":"IFERROR(INDEX('بيانات اساسية'!AK$6:AK$306,SMALL(IF('بيانات اساسية'!$AL$6:$AL$306=\"معلم\",ROW(H$7:H$306)-ROW(H$7)+1),ROWS($A$3:H197))),\"\")","v":""}]
[{"$f":"IF(B199=\"\",\"\",SUBTOTAL(3,B$4:B199))","v":""},{"$f":"IFERROR(INDEX('بيانات اساسية'!B$6:B$306,SMALL(IF('بيانات اساسية'!$AL$6:$AL$306=\"معلم\",ROW(B$7:B$306)-ROW(B$7)+1),ROWS($A$3:B198))),\"\")","v":""},{"$f":"IFERROR(INDEX('بيانات اساسية'!C$6:C$306,SMALL(IF('بيانات اساسية'!$AL$6:$AL$306=\"معلم\",ROW(C$7:C$306)-ROW(C$7)+1),ROWS($A$3:C198))),\"\")","v":""},{"$f":"IFERROR(INDEX('بيانات اساسية'!AF$6:AF$306,SMALL(IF('بيانات اساسية'!$AL$6:$AL$306=\"معلم\",ROW(D$7:D$306)-ROW(D$7)+1),ROWS($A$3:D198))),\"\")","v":""},{"$f":"IFERROR(INDEX('بيانات اساسية'!AH$6:AH$306,SMALL(IF('بيانات اساسية'!$AL$6:$AL$306=\"معلم\",ROW(E$7:E$306)-ROW(E$7)+1),ROWS($A$3:E198))),\"\")","v":""},{"$f":"IFERROR(INDEX('بيانات اساسية'!AI$6:AI$306,SMALL(IF('بيانات اساسية'!$AL$6:$AL$306=\"معلم\",ROW(F$7:F$306)-ROW(F$7)+1),ROWS($A$3:F198))),\"\")","v":""},{"$f":"IFERROR(INDEX('بيانات اساسية'!AJ$6:AJ$306,SMALL(IF('بيانات اساسية'!$AL$6:$AL$306=\"معلم\",ROW(G$7:G$306)-ROW(G$7)+1),ROWS($A$3:G198))),\"\")","v":""},{"$f":"IFERROR(INDEX('بيانات اساسية'!AK$6:AK$306,SMALL(IF('بيانات اساسية'!$AL$6:$AL$306=\"معلم\",ROW(H$7:H$306)-ROW(H$7)+1),ROWS($A$3:H198))),\"\")","v":""}]
[{"$f":"IF(B200=\"\",\"\",SUBTOTAL(3,B$4:B200))","v":""},{"$f":"IFERROR(INDEX('بيانات اساسية'!B$6:B$306,SMALL(IF('بيانات اساسية'!$AL$6:$AL$306=\"معلم\",ROW(B$7:B$306)-ROW(B$7)+1),ROWS($A$3:B199))),\"\")","v":""},{"$f":"IFERROR(INDEX('بيانات اساسية'!C$6:C$306,SMALL(IF('بيانات اساسية'!$AL$6:$AL$306=\"معلم\",ROW(C$7:C$306)-ROW(C$7)+1),ROWS($A$3:C199))),\"\")","v":""},{"$f":"IFERROR(INDEX('بيانات اساسية'!AF$6:AF$306,SMALL(IF('بيانات اساسية'!$AL$6:$AL$306=\"معلم\",ROW(D$7:D$306)-ROW(D$7)+1),ROWS($A$3:D199))),\"\")","v":""},{"$f":"IFERROR(INDEX('بيانات اساسية'!AH$6:AH$306,SMALL(IF('بيانات اساسية'!$AL$6:$AL$306=\"معلم\",ROW(E$7:E$306)-ROW(E$7)+1),ROWS($A$3:E199))),\"\")","v":""},{"$f":"IFERROR(INDEX('بيانات اساسية'!AI$6:AI$306,SMALL(IF('بيانات اساسية'!$AL$6:$AL$306=\"معلم\",ROW(F$7:F$306)-ROW(F$7)+1),ROWS($A$3:F199))),\"\")","v":""},{"$f":"IFERROR(INDEX('بيانات اساسية'!AJ$6:AJ$306,SMALL(IF('بيانات اساسية'!$AL$6:$AL$306=\"معلم\",ROW(G$7:G$306)-ROW(G$7)+1),ROWS($A$3:G199))),\"\")","v":""},{"$f":"IFERROR(INDEX('بيانات اساسية'!AK$6:AK$306,SMALL(IF('بيانات اساسية'!$AL$6:$AL$306=\"معلم\",ROW(H$7:H$306)-ROW(H$7)+1),ROWS($A$3:H199))),\"\")","v":""}]
[{"$f":"IF(B201=\"\",\"\",SUBTOTAL(3,B$4:B201))","v":""},{"$f":"IFERROR(INDEX('بيانات اساسية'!B$6:B$306,SMALL(IF('بيانات اساسية'!$AL$6:$AL$306=\"معلم\",ROW(B$7:B$306)-ROW(B$7)+1),ROWS($A$3:B200))),\"\")","v":""},{"$f":"IFERROR(INDEX('بيانات اساسية'!C$6:C$306,SMALL(IF('بيانات اساسية'!$AL$6:$AL$306=\"معلم\",ROW(C$7:C$306)-ROW(C$7)+1),ROWS($A$3:C200))),\"\")","v":""},{"$f":"IFERROR(INDEX('بيانات اساسية'!AF$6:AF$306,SMALL(IF('بيانات اساسية'!$AL$6:$AL$306=\"معلم\",ROW(D$7:D$306)-ROW(D$7)+1),ROWS($A$3:D200))),\"\")","v":""},{"$f":"IFERROR(INDEX('بيانات اساسية'!AH$6:AH$306,SMALL(IF('بيانات اساسية'!$AL$6:$AL$306=\"معلم\",ROW(E$7:E$306)-ROW(E$7)+1),ROWS($A$3:E200))),\"\")","v":""},{"$f":"IFERROR(INDEX('بيانات اساسية'!AI$6:AI$306,SMALL(IF('بيانات اساسية'!$AL$6:$AL$306=\"معلم\",ROW(F$7:F$306)-ROW(F$7)+1),ROWS($A$3:F200))),\"\")","v":""},{"$f":"IFERROR(INDEX('بيانات اساسية'!AJ$6:AJ$306,SMALL(IF('بيانات اساسية'!$AL$6:$AL$306=\"معلم\",ROW(G$7:G$306)-ROW(G$7)+1),ROWS($A$3:G200))),\"\")","v":""},{"$f":"IFERROR(INDEX('بيانات اساسية'!AK$6:AK$306,SMALL(IF('بيانات اساسية'!$AL$6:$AL$306=\"معلم\",ROW(H$7:H$306)-ROW(H$7)+1),ROWS($A$3:H200))),\"\")","v":""}]
[{"$f":"IF(B202=\"\",\"\",SUBTOTAL(3,B$4:B202))","v":""},{"$f":"IFERROR(INDEX('بيانات اساسية'!B$6:B$306,SMALL(IF('بيانات اساسية'!$AL$6:$AL$306=\"معلم\",ROW(B$7:B$306)-ROW(B$7)+1),ROWS($A$3:B201))),\"\")","v":""},{"$f":"IFERROR(INDEX('بيانات اساسية'!C$6:C$306,SMALL(IF('بيانات اساسية'!$AL$6:$AL$306=\"معلم\",ROW(C$7:C$306)-ROW(C$7)+1),ROWS($A$3:C201))),\"\")","v":""},{"$f":"IFERROR(INDEX('بيانات اساسية'!AF$6:AF$306,SMALL(IF('بيانات اساسية'!$AL$6:$AL$306=\"معلم\",ROW(D$7:D$306)-ROW(D$7)+1),ROWS($A$3:D201))),\"\")","v":""},{"$f":"IFERROR(INDEX('بيانات اساسية'!AH$6:AH$306,SMALL(IF('بيانات اساسية'!$AL$6:$AL$306=\"معلم\",ROW(E$7:E$306)-ROW(E$7)+1),ROWS($A$3:E201))),\"\")","v":""},{"$f":"IFERROR(INDEX('بيانات اساسية'!AI$6:AI$306,SMALL(IF('بيانات اساسية'!$AL$6:$AL$306=\"معلم\",ROW(F$7:F$306)-ROW(F$7)+1),ROWS($A$3:F201))),\"\")","v":""},{"$f":"IFERROR(INDEX('بيانات اساسية'!AJ$6:AJ$306,SMALL(IF('بيانات اساسية'!$AL$6:$AL$306=\"معلم\",ROW(G$7:G$306)-ROW(G$7)+1),ROWS($A$3:G201))),\"\")","v":""},{"$f":"IFERROR(INDEX('بيانات اساسية'!AK$6:AK$306,SMALL(IF('بيانات اساسية'!$AL$6:$AL$306=\"معلم\",ROW(H$7:H$306)-ROW(H$7)+1),ROWS($A$3:H201))),\"\")","v":""}]
[{"$f":"IF(B203=\"\",\"\",SUBTOTAL(3,B$4:B203))","v":""},{"$f":"IFERROR(INDEX('بيانات اساسية'!B$6:B$306,SMALL(IF('بيانات اساسية'!$AL$6:$AL$306=\"معلم\",ROW(B$7:B$306)-ROW(B$7)+1),ROWS($A$3:B202))),\"\")","v":""},{"$f":"IFERROR(INDEX('بيانات اساسية'!C$6:C$306,SMALL(IF('بيانات اساسية'!$AL$6:$AL$306=\"معلم\",ROW(C$7:C$306)-ROW(C$7)+1),ROWS($A$3:C202))),\"\")","v":""},{"$f":"IFERROR(INDEX('بيانات اساسية'!AF$6:AF$306,SMALL(IF('بيانات اساسية'!$AL$6:$AL$306=\"معلم\",ROW(D$7:D$306)-ROW(D$7)+1),ROWS($A$3:D202))),\"\")","v":""},{"$f":"IFERROR(INDEX('بيانات اساسية'!AH$6:AH$306,SMALL(IF('بيانات اساسية'!$AL$6:$AL$306=\"معلم\",ROW(E$7:E$306)-ROW(E$7)+1),ROWS($A$3:E202))),\"\")","v":""},{"$f":"IFERROR(INDEX('بيانات اساسية'!AI$6:AI$306,SMALL(IF('بيانات اساسية'!$AL$6:$AL$306=\"معلم\",ROW(F$7:F$306)-ROW(F$7)+1),ROWS($A$3:F202))),\"\")","v":""},{"$f":"IFERROR(INDEX('بيانات اساسية'!AJ$6:AJ$306,SMALL(IF('بيانات اساسية'!$AL$6:$AL$306=\"معلم\",ROW(G$7:G$306)-ROW(G$7)+1),ROWS($A$3:G202))),\"\")","v":""},{"$f":"IFERROR(INDEX('بيانات اساسية'!AK$6:AK$306,SMALL(IF('بيانات اساسية'!$AL$6:$AL$306=\"معلم\",ROW(H$7:H$306)-ROW(H$7)+1),ROWS($A$3:H202))),\"\")","v":""}]
[{"$f":"IF(B204=\"\",\"\",SUBTOTAL(3,B$4:B204))","v":""},{"$f":"IFERROR(INDEX('بيانات اساسية'!B$6:B$306,SMALL(IF('بيانات اساسية'!$AL$6:$AL$306=\"معلم\",ROW(B$7:B$306)-ROW(B$7)+1),ROWS($A$3:B203))),\"\")","v":""},{"$f":"IFERROR(INDEX('بيانات اساسية'!C$6:C$306,SMALL(IF('بيانات اساسية'!$AL$6:$AL$306=\"معلم\",ROW(C$7:C$306)-ROW(C$7)+1),ROWS($A$3:C203))),\"\")","v":""},{"$f":"IFERROR(INDEX('بيانات اساسية'!AF$6:AF$306,SMALL(IF('بيانات اساسية'!$AL$6:$AL$306=\"معلم\",ROW(D$7:D$306)-ROW(D$7)+1),ROWS($A$3:D203))),\"\")","v":""},{"$f":"IFERROR(INDEX('بيانات اساسية'!AH$6:AH$306,SMALL(IF('بيانات اساسية'!$AL$6:$AL$306=\"معلم\",ROW(E$7:E$306)-ROW(E$7)+1),ROWS($A$3:E203))),\"\")","v":""},{"$f":"IFERROR(INDEX('بيانات اساسية'!AI$6:AI$306,SMALL(IF('بيانات اساسية'!$AL$6:$AL$306=\"معلم\",ROW(F$7:F$306)-ROW(F$7)+1),ROWS($A$3:F203))),\"\")","v":""},{"$f":"IFERROR(INDEX('بيانات اساسية'!AJ$6:AJ$306,SMALL(IF('بيانات اساسية'!$AL$6:$AL$306=\"معلم\",ROW(G$7:G$306)-ROW(G$7)+1),ROWS($A$3:G203))),\"\")","v":""},{"$f":"IFERROR(INDEX('بيانات اساسية'!AK$6:AK$306,SMALL(IF('بيانات اساسية'!$AL$6:$AL$306=\"معلم\",ROW(H$7:H$306)-ROW(H$7)+1),ROWS($A$3:H203))),\"\")","v":""}]
[{"$f":"IF(B205=\"\",\"\",SUBTOTAL(3,B$4:B205))","v":""},{"$f":"IFERROR(INDEX('بيانات اساسية'!B$6:B$306,SMALL(IF('بيانات اساسية'!$AL$6:$AL$306=\"معلم\",ROW(B$7:B$306)-ROW(B$7)+1),ROWS($A$3:B204))),\"\")","v":""},{"$f":"IFERROR(INDEX('بيانات اساسية'!C$6:C$306,SMALL(IF('بيانات اساسية'!$AL$6:$AL$306=\"معلم\",ROW(C$7:C$306)-ROW(C$7)+1),ROWS($A$3:C204))),\"\")","v":""},{"$f":"IFERROR(INDEX('بيانات اساسية'!AF$6:AF$306,SMALL(IF('بيانات اساسية'!$AL$6:$AL$306=\"معلم\",ROW(D$7:D$306)-ROW(D$7)+1),ROWS($A$3:D204))),\"\")","v":""},{"$f":"IFERROR(INDEX('بيانات اساسية'!AH$6:AH$306,SMALL(IF('بيانات اساسية'!$AL$6:$AL$306=\"معلم\",ROW(E$7:E$306)-ROW(E$7)+1),ROWS($A$3:E204))),\"\")","v":""},{"$f":"IFERROR(INDEX('بيانات اساسية'!AI$6:AI$306,SMALL(IF('بيانات اساسية'!$AL$6:$AL$306=\"معلم\",ROW(F$7:F$306)-ROW(F$7)+1),ROWS($A$3:F204))),\"\")","v":""},{"$f":"IFERROR(INDEX('بيانات اساسية'!AJ$6:AJ$306,SMALL(IF('بيانات اساسية'!$AL$6:$AL$306=\"معلم\",ROW(G$7:G$306)-ROW(G$7)+1),ROWS($A$3:G204))),\"\")","v":""},{"$f":"IFERROR(INDEX('بيانات اساسية'!AK$6:AK$306,SMALL(IF('بيانات اساسية'!$AL$6:$AL$306=\"معلم\",ROW(H$7:H$306)-ROW(H$7)+1),ROWS($A$3:H204))),\"\")","v":""}]
[{"$f":"IF(B206=\"\",\"\",SUBTOTAL(3,B$4:B206))","v":""},{"$f":"IFERROR(INDEX('بيانات اساسية'!B$6:B$306,SMALL(IF('بيانات اساسية'!$AL$6:$AL$306=\"معلم\",ROW(B$7:B$306)-ROW(B$7)+1),ROWS($A$3:B205))),\"\")","v":""},{"$f":"IFERROR(INDEX('بيانات اساسية'!C$6:C$306,SMALL(IF('بيانات اساسية'!$AL$6:$AL$306=\"معلم\",ROW(C$7:C$306)-ROW(C$7)+1),ROWS($A$3:C205))),\"\")","v":""},{"$f":"IFERROR(INDEX('بيانات اساسية'!AF$6:AF$306,SMALL(IF('بيانات اساسية'!$AL$6:$AL$306=\"معلم\",ROW(D$7:D$306)-ROW(D$7)+1),ROWS($A$3:D205))),\"\")","v":""},{"$f":"IFERROR(INDEX('بيانات اساسية'!AH$6:AH$306,SMALL(IF('بيانات اساسية'!$AL$6:$AL$306=\"معلم\",ROW(E$7:E$306)-ROW(E$7)+1),ROWS($A$3:E205))),\"\")","v":""},{"$f":"IFERROR(INDEX('بيانات اساسية'!AI$6:AI$306,SMALL(IF('بيانات اساسية'!$AL$6:$AL$306=\"معلم\",ROW(F$7:F$306)-ROW(F$7)+1),ROWS($A$3:F205))),\"\")","v":""},{"$f":"IFERROR(INDEX('بيانات اساسية'!AJ$6:AJ$306,SMALL(IF('بيانات اساسية'!$AL$6:$AL$306=\"معلم\",ROW(G$7:G$306)-ROW(G$7)+1),ROWS($A$3:G205))),\"\")","v":""},{"$f":"IFERROR(INDEX('بيانات اساسية'!AK$6:AK$306,SMALL(IF('بيانات اساسية'!$AL$6:$AL$306=\"معلم\",ROW(H$7:H$306)-ROW(H$7)+1),ROWS($A$3:H205))),\"\")","v":""}]
[{"$f":"IF(B207=\"\",\"\",SUBTOTAL(3,B$4:B207))","v":""},{"$f":"IFERROR(INDEX('بيانات اساسية'!B$6:B$306,SMALL(IF('بيانات اساسية'!$AL$6:$AL$306=\"معلم\",ROW(B$7:B$306)-ROW(B$7)+1),ROWS($A$3:B206))),\"\")","v":""},{"$f":"IFERROR(INDEX('بيانات اساسية'!C$6:C$306,SMALL(IF('بيانات اساسية'!$AL$6:$AL$306=\"معلم\",ROW(C$7:C$306)-ROW(C$7)+1),ROWS($A$3:C206))),\"\")","v":""},{"$f":"IFERROR(INDEX('بيانات اساسية'!AF$6:AF$306,SMALL(IF('بيانات اساسية'!$AL$6:$AL$306=\"معلم\",ROW(D$7:D$306)-ROW(D$7)+1),ROWS($A$3:D206))),\"\")","v":""},{"$f":"IFERROR(INDEX('بيانات اساسية'!AH$6:AH$306,SMALL(IF('بيانات اساسية'!$AL$6:$AL$306=\"معلم\",ROW(E$7:E$306)-ROW(E$7)+1),ROWS($A$3:E206))),\"\")","v":""},{"$f":"IFERROR(INDEX('بيانات اساسية'!AI$6:AI$306,SMALL(IF('بيانات اساسية'!$AL$6:$AL$306=\"معلم\",ROW(F$7:F$306)-ROW(F$7)+1),ROWS($A$3:F206))),\"\")","v":""},{"$f":"IFERROR(INDEX('بيانات اساسية'!AJ$6:AJ$306,SMALL(IF('بيانات اساسية'!$AL$6:$AL$306=\"معلم\",ROW(G$7:G$306)-ROW(G$7)+1),ROWS($A$3:G206))),\"\")","v":""},{"$f":"IFERROR(INDEX('بيانات اساسية'!AK$6:AK$306,SMALL(IF('بيانات اساسية'!$AL$6:$AL$306=\"معلم\",ROW(H$7:H$306)-ROW(H$7)+1),ROWS($A$3:H206))),\"\")","v":""}]
[{"$f":"IF(B208=\"\",\"\",SUBTOTAL(3,B$4:B208))","v":""},{"$f":"IFERROR(INDEX('بيانات اساسية'!B$6:B$306,SMALL(IF('بيانات اساسية'!$AL$6:$AL$306=\"معلم\",ROW(B$7:B$306)-ROW(B$7)+1),ROWS($A$3:B207))),\"\")","v":""},{"$f":"IFERROR(INDEX('بيانات اساسية'!C$6:C$306,SMALL(IF('بيانات اساسية'!$AL$6:$AL$306=\"معلم\",ROW(C$7:C$306)-ROW(C$7)+1),ROWS($A$3:C207))),\"\")","v":""},{"$f":"IFERROR(INDEX('بيانات اساسية'!AF$6:AF$306,SMALL(IF('بيانات اساسية'!$AL$6:$AL$306=\"معلم\",ROW(D$7:D$306)-ROW(D$7)+1),ROWS($A$3:D207))),\"\")","v":""},{"$f":"IFERROR(INDEX('بيانات اساسية'!AH$6:AH$306,SMALL(IF('بيانات اساسية'!$AL$6:$AL$306=\"معلم\",ROW(E$7:E$306)-ROW(E$7)+1),ROWS($A$3:E207))),\"\")","v":""},{"$f":"IFERROR(INDEX('بيانات اساسية'!AI$6:AI$306,SMALL(IF('بيانات اساسية'!$AL$6:$AL$306=\"معلم\",ROW(F$7:F$306)-ROW(F$7)+1),ROWS($A$3:F207))),\"\")","v":""},{"$f":"IFERROR(INDEX('بيانات اساسية'!AJ$6:AJ$306,SMALL(IF('بيانات اساسية'!$AL$6:$AL$306=\"معلم\",ROW(G$7:G$306)-ROW(G$7)+1),ROWS($A$3:G207))),\"\")","v":""},{"$f":"IFERROR(INDEX('بيانات اساسية'!AK$6:AK$306,SMALL(IF('بيانات اساسية'!$AL$6:$AL$306=\"معلم\",ROW(H$7:H$306)-ROW(H$7)+1),ROWS($A$3:H207))),\"\")","v":""}]
[{"$f":"IF(B209=\"\",\"\",SUBTOTAL(3,B$4:B209))","v":""},{"$f":"IFERROR(INDEX('بيانات اساسية'!B$6:B$306,SMALL(IF('بيانات اساسية'!$AL$6:$AL$306=\"معلم\",ROW(B$7:B$306)-ROW(B$7)+1),ROWS($A$3:B208))),\"\")","v":""},{"$f":"IFERROR(INDEX('بيانات اساسية'!C$6:C$306,SMALL(IF('بيانات اساسية'!$AL$6:$AL$306=\"معلم\",ROW(C$7:C$306)-ROW(C$7)+1),ROWS($A$3:C208))),\"\")","v":""},{"$f":"IFERROR(INDEX('بيانات اساسية'!AF$6:AF$306,SMALL(IF('بيانات اساسية'!$AL$6:$AL$306=\"معلم\",ROW(D$7:D$306)-ROW(D$7)+1),ROWS($A$3:D208))),\"\")","v":""},{"$f":"IFERROR(INDEX('بيانات اساسية'!AH$6:AH$306,SMALL(IF('بيانات اساسية'!$AL$6:$AL$306=\"معلم\",ROW(E$7:E$306)-ROW(E$7)+1),ROWS($A$3:E208))),\"\")","v":""},{"$f":"IFERROR(INDEX('بيانات اساسية'!AI$6:AI$306,SMALL(IF('بيانات اساسية'!$AL$6:$AL$306=\"معلم\",ROW(F$7:F$306)-ROW(F$7)+1),ROWS($A$3:F208))),\"\")","v":""},{"$f":"IFERROR(INDEX('بيانات اساسية'!AJ$6:AJ$306,SMALL(IF('بيانات اساسية'!$AL$6:$AL$306=\"معلم\",ROW(G$7:G$306)-ROW(G$7)+1),ROWS($A$3:G208))),\"\")","v":""},{"$f":"IFERROR(INDEX('بيانات اساسية'!AK$6:AK$306,SMALL(IF('بيانات اساسية'!$AL$6:$AL$306=\"معلم\",ROW(H$7:H$306)-ROW(H$7)+1),ROWS($A$3:H208))),\"\")","v":""}]
[{"$f":"IF(B210=\"\",\"\",SUBTOTAL(3,B$4:B210))","v":""},{"$f":"IFERROR(INDEX('بيانات اساسية'!B$6:B$306,SMALL(IF('بيانات اساسية'!$AL$6:$AL$306=\"معلم\",ROW(B$7:B$306)-ROW(B$7)+1),ROWS($A$3:B209))),\"\")","v":""},{"$f":"IFERROR(INDEX('بيانات اساسية'!C$6:C$306,SMALL(IF('بيانات اساسية'!$AL$6:$AL$306=\"معلم\",ROW(C$7:C$306)-ROW(C$7)+1),ROWS($A$3:C209))),\"\")","v":""},{"$f":"IFERROR(INDEX('بيانات اساسية'!AF$6:AF$306,SMALL(IF('بيانات اساسية'!$AL$6:$AL$306=\"معلم\",ROW(D$7:D$306)-ROW(D$7)+1),ROWS($A$3:D209))),\"\")","v":""},{"$f":"IFERROR(INDEX('بيانات اساسية'!AH$6:AH$306,SMALL(IF('بيانات اساسية'!$AL$6:$AL$306=\"معلم\",ROW(E$7:E$306)-ROW(E$7)+1),ROWS($A$3:E209))),\"\")","v":""},{"$f":"IFERROR(INDEX('بيانات اساسية'!AI$6:AI$306,SMALL(IF('بيانات اساسية'!$AL$6:$AL$306=\"معلم\",ROW(F$7:F$306)-ROW(F$7)+1),ROWS($A$3:F209))),\"\")","v":""},{"$f":"IFERROR(INDEX('بيانات اساسية'!AJ$6:AJ$306,SMALL(IF('بيانات اساسية'!$AL$6:$AL$306=\"معلم\",ROW(G$7:G$306)-ROW(G$7)+1),ROWS($A$3:G209))),\"\")","v":""},{"$f":"IFERROR(INDEX('بيانات اساسية'!AK$6:AK$306,SMALL(IF('بيانات اساسية'!$AL$6:$AL$306=\"معلم\",ROW(H$7:H$306)-ROW(H$7)+1),ROWS($A$3:H209))),\"\")","v":""}]
[{"$f":"IF(B211=\"\",\"\",SUBTOTAL(3,B$4:B211))","v":""},{"$f":"IFERROR(INDEX('بيانات اساسية'!B$6:B$306,SMALL(IF('بيانات اساسية'!$AL$6:$AL$306=\"معلم\",ROW(B$7:B$306)-ROW(B$7)+1),ROWS($A$3:B210))),\"\")","v":""},{"$f":"IFERROR(INDEX('بيانات اساسية'!C$6:C$306,SMALL(IF('بيانات اساسية'!$AL$6:$AL$306=\"معلم\",ROW(C$7:C$306)-ROW(C$7)+1),ROWS($A$3:C210))),\"\")","v":""},{"$f":"IFERROR(INDEX('بيانات اساسية'!AF$6:AF$306,SMALL(IF('بيانات اساسية'!$AL$6:$AL$306=\"معلم\",ROW(D$7:D$306)-ROW(D$7)+1),ROWS($A$3:D210))),\"\")","v":""},{"$f":"IFERROR(INDEX('بيانات اساسية'!AH$6:AH$306,SMALL(IF('بيانات اساسية'!$AL$6:$AL$306=\"معلم\",ROW(E$7:E$306)-ROW(E$7)+1),ROWS($A$3:E210))),\"\")","v":""},{"$f":"IFERROR(INDEX('بيانات اساسية'!AI$6:AI$306,SMALL(IF('بيانات اساسية'!$AL$6:$AL$306=\"معلم\",ROW(F$7:F$306)-ROW(F$7)+1),ROWS($A$3:F210))),\"\")","v":""},{"$f":"IFERROR(INDEX('بيانات اساسية'!AJ$6:AJ$306,SMALL(IF('بيانات اساسية'!$AL$6:$AL$306=\"معلم\",ROW(G$7:G$306)-ROW(G$7)+1),ROWS($A$3:G210))),\"\")","v":""},{"$f":"IFERROR(INDEX('بيانات اساسية'!AK$6:AK$306,SMALL(IF('بيانات اساسية'!$AL$6:$AL$306=\"معلم\",ROW(H$7:H$306)-ROW(H$7)+1),ROWS($A$3:H210))),\"\")","v":""}]
[{"$f":"IF(B212=\"\",\"\",SUBTOTAL(3,B$4:B212))","v":""},{"$f":"IFERROR(INDEX('بيانات اساسية'!B$6:B$306,SMALL(IF('بيانات اساسية'!$AL$6:$AL$306=\"معلم\",ROW(B$7:B$306)-ROW(B$7)+1),ROWS($A$3:B211))),\"\")","v":""},{"$f":"IFERROR(INDEX('بيانات اساسية'!C$6:C$306,SMALL(IF('بيانات اساسية'!$AL$6:$AL$306=\"معلم\",ROW(C$7:C$306)-ROW(C$7)+1),ROWS($A$3:C211))),\"\")","v":""},{"$f":"IFERROR(INDEX('بيانات اساسية'!AF$6:AF$306,SMALL(IF('بيانات اساسية'!$AL$6:$AL$306=\"معلم\",ROW(D$7:D$306)-ROW(D$7)+1),ROWS($A$3:D211))),\"\")","v":""},{"$f":"IFERROR(INDEX('بيانات اساسية'!AH$6:AH$306,SMALL(IF('بيانات اساسية'!$AL$6:$AL$306=\"معلم\",ROW(E$7:E$306)-ROW(E$7)+1),ROWS($A$3:E211))),\"\")","v":""},{"$f":"IFERROR(INDEX('بيانات اساسية'!AI$6:AI$306,SMALL(IF('بيانات اساسية'!$AL$6:$AL$306=\"معلم\",ROW(F$7:F$306)-ROW(F$7)+1),ROWS($A$3:F211))),\"\")","v":""},{"$f":"IFERROR(INDEX('بيانات اساسية'!AJ$6:AJ$306,SMALL(IF('بيانات اساسية'!$AL$6:$AL$306=\"معلم\",ROW(G$7:G$306)-ROW(G$7)+1),ROWS($A$3:G211))),\"\")","v":""},{"$f":"IFERROR(INDEX('بيانات اساسية'!AK$6:AK$306,SMALL(IF('بيانات اساسية'!$AL$6:$AL$306=\"معلم\",ROW(H$7:H$306)-ROW(H$7)+1),ROWS($A$3:H211))),\"\")","v":""}]
[{"$f":"IF(B213=\"\",\"\",SUBTOTAL(3,B$4:B213))","v":""},{"$f":"IFERROR(INDEX('بيانات اساسية'!B$6:B$306,SMALL(IF('بيانات اساسية'!$AL$6:$AL$306=\"معلم\",ROW(B$7:B$306)-ROW(B$7)+1),ROWS($A$3:B212))),\"\")","v":""},{"$f":"IFERROR(INDEX('بيانات اساسية'!C$6:C$306,SMALL(IF('بيانات اساسية'!$AL$6:$AL$306=\"معلم\",ROW(C$7:C$306)-ROW(C$7)+1),ROWS($A$3:C212))),\"\")","v":""},{"$f":"IFERROR(INDEX('بيانات اساسية'!AF$6:AF$306,SMALL(IF('بيانات اساسية'!$AL$6:$AL$306=\"معلم\",ROW(D$7:D$306)-ROW(D$7)+1),ROWS($A$3:D212))),\"\")","v":""},{"$f":"IFERROR(INDEX('بيانات اساسية'!AH$6:AH$306,SMALL(IF('بيانات اساسية'!$AL$6:$AL$306=\"معلم\",ROW(E$7:E$306)-ROW(E$7)+1),ROWS($A$3:E212))),\"\")","v":""},{"$f":"IFERROR(INDEX('بيانات اساسية'!AI$6:AI$306,SMALL(IF('بيانات اساسية'!$AL$6:$AL$306=\"معلم\",ROW(F$7:F$306)-ROW(F$7)+1),ROWS($A$3:F212))),\"\")","v":""},{"$f":"IFERROR(INDEX('بيانات اساسية'!AJ$6:AJ$306,SMALL(IF('بيانات اساسية'!$AL$6:$AL$306=\"معلم\",ROW(G$7:G$306)-ROW(G$7)+1),ROWS($A$3:G212))),\"\")","v":""},{"$f":"IFERROR(INDEX('بيانات اساسية'!AK$6:AK$306,SMALL(IF('بيانات اساسية'!$AL$6:$AL$306=\"معلم\",ROW(H$7:H$306)-ROW(H$7)+1),ROWS($A$3:H212))),\"\")","v":""}]
[{"$f":"IF(B214=\"\",\"\",SUBTOTAL(3,B$4:B214))","v":""},{"$f":"IFERROR(INDEX('بيانات اساسية'!B$6:B$306,SMALL(IF('بيانات اساسية'!$AL$6:$AL$306=\"معلم\",ROW(B$7:B$306)-ROW(B$7)+1),ROWS($A$3:B213))),\"\")","v":""},{"$f":"IFERROR(INDEX('بيانات اساسية'!C$6:C$306,SMALL(IF('بيانات اساسية'!$AL$6:$AL$306=\"معلم\",ROW(C$7:C$306)-ROW(C$7)+1),ROWS($A$3:C213))),\"\")","v":""},{"$f":"IFERROR(INDEX('بيانات اساسية'!AF$6:AF$306,SMALL(IF('بيانات اساسية'!$AL$6:$AL$306=\"معلم\",ROW(D$7:D$306)-ROW(D$7)+1),ROWS($A$3:D213))),\"\")","v":""},{"$f":"IFERROR(INDEX('بيانات اساسية'!AH$6:AH$306,SMALL(IF('بيانات اساسية'!$AL$6:$AL$306=\"معلم\",ROW(E$7:E$306)-ROW(E$7)+1),ROWS($A$3:E213))),\"\")","v":""},{"$f":"IFERROR(INDEX('بيانات اساسية'!AI$6:AI$306,SMALL(IF('بيانات اساسية'!$AL$6:$AL$306=\"معلم\",ROW(F$7:F$306)-ROW(F$7)+1),ROWS($A$3:F213))),\"\")","v":""},{"$f":"IFERROR(INDEX('بيانات اساسية'!AJ$6:AJ$306,SMALL(IF('بيانات اساسية'!$AL$6:$AL$306=\"معلم\",ROW(G$7:G$306)-ROW(G$7)+1),ROWS($A$3:G213))),\"\")","v":""},{"$f":"IFERROR(INDEX('بيانات اساسية'!AK$6:AK$306,SMALL(IF('بيانات اساسية'!$AL$6:$AL$306=\"معلم\",ROW(H$7:H$306)-ROW(H$7)+1),ROWS($A$3:H213))),\"\")","v":""}]
[{"$f":"IF(B215=\"\",\"\",SUBTOTAL(3,B$4:B215))","v":""},{"$f":"IFERROR(INDEX('بيانات اساسية'!B$6:B$306,SMALL(IF('بيانات اساسية'!$AL$6:$AL$306=\"معلم\",ROW(B$7:B$306)-ROW(B$7)+1),ROWS($A$3:B214))),\"\")","v":""},{"$f":"IFERROR(INDEX('بيانات اساسية'!C$6:C$306,SMALL(IF('بيانات اساسية'!$AL$6:$AL$306=\"معلم\",ROW(C$7:C$306)-ROW(C$7)+1),ROWS($A$3:C214))),\"\")","v":""},{"$f":"IFERROR(INDEX('بيانات اساسية'!AF$6:AF$306,SMALL(IF('بيانات اساسية'!$AL$6:$AL$306=\"معلم\",ROW(D$7:D$306)-ROW(D$7)+1),ROWS($A$3:D214))),\"\")","v":""},{"$f":"IFERROR(INDEX('بيانات اساسية'!AH$6:AH$306,SMALL(IF('بيانات اساسية'!$AL$6:$AL$306=\"معلم\",ROW(E$7:E$306)-ROW(E$7)+1),ROWS($A$3:E214))),\"\")","v":""},{"$f":"IFERROR(INDEX('بيانات اساسية'!AI$6:AI$306,SMALL(IF('بيانات اساسية'!$AL$6:$AL$306=\"معلم\",ROW(F$7:F$306)-ROW(F$7)+1),ROWS($A$3:F214))),\"\")","v":""},{"$f":"IFERROR(INDEX('بيانات اساسية'!AJ$6:AJ$306,SMALL(IF('بيانات اساسية'!$AL$6:$AL$306=\"معلم\",ROW(G$7:G$306)-ROW(G$7)+1),ROWS($A$3:G214))),\"\")","v":""},{"$f":"IFERROR(INDEX('بيانات اساسية'!AK$6:AK$306,SMALL(IF('بيانات اساسية'!$AL$6:$AL$306=\"معلم\",ROW(H$7:H$306)-ROW(H$7)+1),ROWS($A$3:H214))),\"\")","v":""}]
[{"$f":"IF(B216=\"\",\"\",SUBTOTAL(3,B$4:B216))","v":""},{"$f":"IFERROR(INDEX('بيانات اساسية'!B$6:B$306,SMALL(IF('بيانات اساسية'!$AL$6:$AL$306=\"معلم\",ROW(B$7:B$306)-ROW(B$7)+1),ROWS($A$3:B215))),\"\")","v":""},{"$f":"IFERROR(INDEX('بيانات اساسية'!C$6:C$306,SMALL(IF('بيانات اساسية'!$AL$6:$AL$306=\"معلم\",ROW(C$7:C$306)-ROW(C$7)+1),ROWS($A$3:C215))),\"\")","v":""},{"$f":"IFERROR(INDEX('بيانات اساسية'!AF$6:AF$306,SMALL(IF('بيانات اساسية'!$AL$6:$AL$306=\"معلم\",ROW(D$7:D$306)-ROW(D$7)+1),ROWS($A$3:D215))),\"\")","v":""},{"$f":"IFERROR(INDEX('بيانات اساسية'!AH$6:AH$306,SMALL(IF('بيانات اساسية'!$AL$6:$AL$306=\"معلم\",ROW(E$7:E$306)-ROW(E$7)+1),ROWS($A$3:E215))),\"\")","v":""},{"$f":"IFERROR(INDEX('بيانات اساسية'!AI$6:AI$306,SMALL(IF('بيانات اساسية'!$AL$6:$AL$306=\"معلم\",ROW(F$7:F$306)-ROW(F$7)+1),ROWS($A$3:F215))),\"\")","v":""},{"$f":"IFERROR(INDEX('بيانات اساسية'!AJ$6:AJ$306,SMALL(IF('بيانات اساسية'!$AL$6:$AL$306=\"معلم\",ROW(G$7:G$306)-ROW(G$7)+1),ROWS($A$3:G215))),\"\")","v":""},{"$f":"IFERROR(INDEX('بيانات اساسية'!AK$6:AK$306,SMALL(IF('بيانات اساسية'!$AL$6:$AL$306=\"معلم\",ROW(H$7:H$306)-ROW(H$7)+1),ROWS($A$3:H215))),\"\")","v":""}]
[{"$f":"IF(B217=\"\",\"\",SUBTOTAL(3,B$4:B217))","v":""},{"$f":"IFERROR(INDEX('بيانات اساسية'!B$6:B$306,SMALL(IF('بيانات اساسية'!$AL$6:$AL$306=\"معلم\",ROW(B$7:B$306)-ROW(B$7)+1),ROWS($A$3:B216))),\"\")","v":""},{"$f":"IFERROR(INDEX('بيانات اساسية'!C$6:C$306,SMALL(IF('بيانات اساسية'!$AL$6:$AL$306=\"معلم\",ROW(C$7:C$306)-ROW(C$7)+1),ROWS($A$3:C216))),\"\")","v":""},{"$f":"IFERROR(INDEX('بيانات اساسية'!AF$6:AF$306,SMALL(IF('بيانات اساسية'!$AL$6:$AL$306=\"معلم\",ROW(D$7:D$306)-ROW(D$7)+1),ROWS($A$3:D216))),\"\")","v":""},{"$f":"IFERROR(INDEX('بيانات اساسية'!AH$6:AH$306,SMALL(IF('بيانات اساسية'!$AL$6:$AL$306=\"معلم\",ROW(E$7:E$306)-ROW(E$7)+1),ROWS($A$3:E216))),\"\")","v":""},{"$f":"IFERROR(INDEX('بيانات اساسية'!AI$6:AI$306,SMALL(IF('بيانات اساسية'!$AL$6:$AL$306=\"معلم\",ROW(F$7:F$306)-ROW(F$7)+1),ROWS($A$3:F216))),\"\")","v":""},{"$f":"IFERROR(INDEX('بيانات اساسية'!AJ$6:AJ$306,SMALL(IF('بيانات اساسية'!$AL$6:$AL$306=\"معلم\",ROW(G$7:G$306)-ROW(G$7)+1),ROWS($A$3:G216))),\"\")","v":""},{"$f":"IFERROR(INDEX('بيانات اساسية'!AK$6:AK$306,SMALL(IF('بيانات اساسية'!$AL$6:$AL$306=\"معلم\",ROW(H$7:H$306)-ROW(H$7)+1),ROWS($A$3:H216))),\"\")","v":""}]
[{"$f":"IF(B218=\"\",\"\",SUBTOTAL(3,B$4:B218))","v":""},{"$f":"IFERROR(INDEX('بيانات اساسية'!B$6:B$306,SMALL(IF('بيانات اساسية'!$AL$6:$AL$306=\"معلم\",ROW(B$7:B$306)-ROW(B$7)+1),ROWS($A$3:B217))),\"\")","v":""},{"$f":"IFERROR(INDEX('بيانات اساسية'!C$6:C$306,SMALL(IF('بيانات اساسية'!$AL$6:$AL$306=\"معلم\",ROW(C$7:C$306)-ROW(C$7)+1),ROWS($A$3:C217))),\"\")","v":""},{"$f":"IFERROR(INDEX('بيانات اساسية'!AF$6:AF$306,SMALL(IF('بيانات اساسية'!$AL$6:$AL$306=\"معلم\",ROW(D$7:D$306)-ROW(D$7)+1),ROWS($A$3:D217))),\"\")","v":""},{"$f":"IFERROR(INDEX('بيانات اساسية'!AH$6:AH$306,SMALL(IF('بيانات اساسية'!$AL$6:$AL$306=\"معلم\",ROW(E$7:E$306)-ROW(E$7)+1),ROWS($A$3:E217))),\"\")","v":""},{"$f":"IFERROR(INDEX('بيانات اساسية'!AI$6:AI$306,SMALL(IF('بيانات اساسية'!$AL$6:$AL$306=\"معلم\",ROW(F$7:F$306)-ROW(F$7)+1),ROWS($A$3:F217))),\"\")","v":""},{"$f":"IFERROR(INDEX('بيانات اساسية'!AJ$6:AJ$306,SMALL(IF('بيانات اساسية'!$AL$6:$AL$306=\"معلم\",ROW(G$7:G$306)-ROW(G$7)+1),ROWS($A$3:G217))),\"\")","v":""},{"$f":"IFERROR(INDEX('بيانات اساسية'!AK$6:AK$306,SMALL(IF('بيانات اساسية'!$AL$6:$AL$306=\"معلم\",ROW(H$7:H$306)-ROW(H$7)+1),ROWS($A$3:H217))),\"\")","v":""}]
[{"$f":"IF(B219=\"\",\"\",SUBTOTAL(3,B$4:B219))","v":""},{"$f":"IFERROR(INDEX('بيانات اساسية'!B$6:B$306,SMALL(IF('بيانات اساسية'!$AL$6:$AL$306=\"معلم\",ROW(B$7:B$306)-ROW(B$7)+1),ROWS($A$3:B218))),\"\")","v":""},{"$f":"IFERROR(INDEX('بيانات اساسية'!C$6:C$306,SMALL(IF('بيانات اساسية'!$AL$6:$AL$306=\"معلم\",ROW(C$7:C$306)-ROW(C$7)+1),ROWS($A$3:C218))),\"\")","v":""},{"$f":"IFERROR(INDEX('بيانات اساسية'!AF$6:AF$306,SMALL(IF('بيانات اساسية'!$AL$6:$AL$306=\"معلم\",ROW(D$7:D$306)-ROW(D$7)+1),ROWS($A$3:D218))),\"\")","v":""},{"$f":"IFERROR(INDEX('بيانات اساسية'!AH$6:AH$306,SMALL(IF('بيانات اساسية'!$AL$6:$AL$306=\"معلم\",ROW(E$7:E$306)-ROW(E$7)+1),ROWS($A$3:E218))),\"\")","v":""},{"$f":"IFERROR(INDEX('بيانات اساسية'!AI$6:AI$306,SMALL(IF('بيانات اساسية'!$AL$6:$AL$306=\"معلم\",ROW(F$7:F$306)-ROW(F$7)+1),ROWS($A$3:F218))),\"\")","v":""},{"$f":"IFERROR(INDEX('بيانات اساسية'!AJ$6:AJ$306,SMALL(IF('بيانات اساسية'!$AL$6:$AL$306=\"معلم\",ROW(G$7:G$306)-ROW(G$7)+1),ROWS($A$3:G218))),\"\")","v":""},{"$f":"IFERROR(INDEX('بيانات اساسية'!AK$6:AK$306,SMALL(IF('بيانات اساسية'!$AL$6:$AL$306=\"معلم\",ROW(H$7:H$306)-ROW(H$7)+1),ROWS($A$3:H218))),\"\")","v":""}]
[{"$f":"IF(B220=\"\",\"\",SUBTOTAL(3,B$4:B220))","v":""},{"$f":"IFERROR(INDEX('بيانات اساسية'!B$6:B$306,SMALL(IF('بيانات اساسية'!$AL$6:$AL$306=\"معلم\",ROW(B$7:B$306)-ROW(B$7)+1),ROWS($A$3:B219))),\"\")","v":""},{"$f":"IFERROR(INDEX('بيانات اساسية'!C$6:C$306,SMALL(IF('بيانات اساسية'!$AL$6:$AL$306=\"معلم\",ROW(C$7:C$306)-ROW(C$7)+1),ROWS($A$3:C219))),\"\")","v":""},{"$f":"IFERROR(INDEX('بيانات اساسية'!AF$6:AF$306,SMALL(IF('بيانات اساسية'!$AL$6:$AL$306=\"معلم\",ROW(D$7:D$306)-ROW(D$7)+1),ROWS($A$3:D219))),\"\")","v":""},{"$f":"IFERROR(INDEX('بيانات اساسية'!AH$6:AH$306,SMALL(IF('بيانات اساسية'!$AL$6:$AL$306=\"معلم\",ROW(E$7:E$306)-ROW(E$7)+1),ROWS($A$3:E219))),\"\")","v":""},{"$f":"IFERROR(INDEX('بيانات اساسية'!AI$6:AI$306,SMALL(IF('بيانات اساسية'!$AL$6:$AL$306=\"معلم\",ROW(F$7:F$306)-ROW(F$7)+1),ROWS($A$3:F219))),\"\")","v":""},{"$f":"IFERROR(INDEX('بيانات اساسية'!AJ$6:AJ$306,SMALL(IF('بيانات اساسية'!$AL$6:$AL$306=\"معلم\",ROW(G$7:G$306)-ROW(G$7)+1),ROWS($A$3:G219))),\"\")","v":""},{"$f":"IFERROR(INDEX('بيانات اساسية'!AK$6:AK$306,SMALL(IF('بيانات اساسية'!$AL$6:$AL$306=\"معلم\",ROW(H$7:H$306)-ROW(H$7)+1),ROWS($A$3:H219))),\"\")","v":""}]
[{"$f":"IF(B221=\"\",\"\",SUBTOTAL(3,B$4:B221))","v":""},{"$f":"IFERROR(INDEX('بيانات اساسية'!B$6:B$306,SMALL(IF('بيانات اساسية'!$AL$6:$AL$306=\"معلم\",ROW(B$7:B$306)-ROW(B$7)+1),ROWS($A$3:B220))),\"\")","v":""},{"$f":"IFERROR(INDEX('بيانات اساسية'!C$6:C$306,SMALL(IF('بيانات اساسية'!$AL$6:$AL$306=\"معلم\",ROW(C$7:C$306)-ROW(C$7)+1),ROWS($A$3:C220))),\"\")","v":""},{"$f":"IFERROR(INDEX('بيانات اساسية'!AF$6:AF$306,SMALL(IF('بيانات اساسية'!$AL$6:$AL$306=\"معلم\",ROW(D$7:D$306)-ROW(D$7)+1),ROWS($A$3:D220))),\"\")","v":""},{"$f":"IFERROR(INDEX('بيانات اساسية'!AH$6:AH$306,SMALL(IF('بيانات اساسية'!$AL$6:$AL$306=\"معلم\",ROW(E$7:E$306)-ROW(E$7)+1),ROWS($A$3:E220))),\"\")","v":""},{"$f":"IFERROR(INDEX('بيانات اساسية'!AI$6:AI$306,SMALL(IF('بيانات اساسية'!$AL$6:$AL$306=\"معلم\",ROW(F$7:F$306)-ROW(F$7)+1),ROWS($A$3:F220))),\"\")","v":""},{"$f":"IFERROR(INDEX('بيانات اساسية'!AJ$6:AJ$306,SMALL(IF('بيانات اساسية'!$AL$6:$AL$306=\"معلم\",ROW(G$7:G$306)-ROW(G$7)+1),ROWS($A$3:G220))),\"\")","v":""},{"$f":"IFERROR(INDEX('بيانات اساسية'!AK$6:AK$306,SMALL(IF('بيانات اساسية'!$AL$6:$AL$306=\"معلم\",ROW(H$7:H$306)-ROW(H$7)+1),ROWS($A$3:H220))),\"\")","v":""}]
[{"$f":"IF(B222=\"\",\"\",SUBTOTAL(3,B$4:B222))","v":""},{"$f":"IFERROR(INDEX('بيانات اساسية'!B$6:B$306,SMALL(IF('بيانات اساسية'!$AL$6:$AL$306=\"معلم\",ROW(B$7:B$306)-ROW(B$7)+1),ROWS($A$3:B221))),\"\")","v":""},{"$f":"IFERROR(INDEX('بيانات اساسية'!C$6:C$306,SMALL(IF('بيانات اساسية'!$AL$6:$AL$306=\"معلم\",ROW(C$7:C$306)-ROW(C$7)+1),ROWS($A$3:C221))),\"\")","v":""},{"$f":"IFERROR(INDEX('بيانات اساسية'!AF$6:AF$306,SMALL(IF('بيانات اساسية'!$AL$6:$AL$306=\"معلم\",ROW(D$7:D$306)-ROW(D$7)+1),ROWS($A$3:D221))),\"\")","v":""},{"$f":"IFERROR(INDEX('بيانات اساسية'!AH$6:AH$306,SMALL(IF('بيانات اساسية'!$AL$6:$AL$306=\"معلم\",ROW(E$7:E$306)-ROW(E$7)+1),ROWS($A$3:E221))),\"\")","v":""},{"$f":"IFERROR(INDEX('بيانات اساسية'!AI$6:AI$306,SMALL(IF('بيانات اساسية'!$AL$6:$AL$306=\"معلم\",ROW(F$7:F$306)-ROW(F$7)+1),ROWS($A$3:F221))),\"\")","v":""},{"$f":"IFERROR(INDEX('بيانات اساسية'!AJ$6:AJ$306,SMALL(IF('بيانات اساسية'!$AL$6:$AL$306=\"معلم\",ROW(G$7:G$306)-ROW(G$7)+1),ROWS($A$3:G221))),\"\")","v":""},{"$f":"IFERROR(INDEX('بيانات اساسية'!AK$6:AK$306,SMALL(IF('بيانات اساسية'!$AL$6:$AL$306=\"معلم\",ROW(H$7:H$306)-ROW(H$7)+1),ROWS($A$3:H221))),\"\")","v":""}]
[{"$f":"IF(B223=\"\",\"\",SUBTOTAL(3,B$4:B223))","v":""},{"$f":"IFERROR(INDEX('بيانات اساسية'!B$6:B$306,SMALL(IF('بيانات اساسية'!$AL$6:$AL$306=\"معلم\",ROW(B$7:B$306)-ROW(B$7)+1),ROWS($A$3:B222))),\"\")","v":""},{"$f":"IFERROR(INDEX('بيانات اساسية'!C$6:C$306,SMALL(IF('بيانات اساسية'!$AL$6:$AL$306=\"معلم\",ROW(C$7:C$306)-ROW(C$7)+1),ROWS($A$3:C222))),\"\")","v":""},{"$f":"IFERROR(INDEX('بيانات اساسية'!AF$6:AF$306,SMALL(IF('بيانات اساسية'!$AL$6:$AL$306=\"معلم\",ROW(D$7:D$306)-ROW(D$7)+1),ROWS($A$3:D222))),\"\")","v":""},{"$f":"IFERROR(INDEX('بيانات اساسية'!AH$6:AH$306,SMALL(IF('بيانات اساسية'!$AL$6:$AL$306=\"معلم\",ROW(E$7:E$306)-ROW(E$7)+1),ROWS($A$3:E222))),\"\")","v":""},{"$f":"IFERROR(INDEX('بيانات اساسية'!AI$6:AI$306,SMALL(IF('بيانات اساسية'!$AL$6:$AL$306=\"معلم\",ROW(F$7:F$306)-ROW(F$7)+1),ROWS($A$3:F222))),\"\")","v":""},{"$f":"IFERROR(INDEX('بيانات اساسية'!AJ$6:AJ$306,SMALL(IF('بيانات اساسية'!$AL$6:$AL$306=\"معلم\",ROW(G$7:G$306)-ROW(G$7)+1),ROWS($A$3:G222))),\"\")","v":""},{"$f":"IFERROR(INDEX('بيانات اساسية'!AK$6:AK$306,SMALL(IF('بيانات اساسية'!$AL$6:$AL$306=\"معلم\",ROW(H$7:H$306)-ROW(H$7)+1),ROWS($A$3:H222))),\"\")","v":""}]
[{"$f":"IF(B224=\"\",\"\",SUBTOTAL(3,B$4:B224))","v":""},{"$f":"IFERROR(INDEX('بيانات اساسية'!B$6:B$306,SMALL(IF('بيانات اساسية'!$AL$6:$AL$306=\"معلم\",ROW(B$7:B$306)-ROW(B$7)+1),ROWS($A$3:B223))),\"\")","v":""},{"$f":"IFERROR(INDEX('بيانات اساسية'!C$6:C$306,SMALL(IF('بيانات اساسية'!$AL$6:$AL$306=\"معلم\",ROW(C$7:C$306)-ROW(C$7)+1),ROWS($A$3:C223))),\"\")","v":""},{"$f":"IFERROR(INDEX('بيانات اساسية'!AF$6:AF$306,SMALL(IF('بيانات اساسية'!$AL$6:$AL$306=\"معلم\",ROW(D$7:D$306)-ROW(D$7)+1),ROWS($A$3:D223))),\"\")","v":""},{"$f":"IFERROR(INDEX('بيانات اساسية'!AH$6:AH$306,SMALL(IF('بيانات اساسية'!$AL$6:$AL$306=\"معلم\",ROW(E$7:E$306)-ROW(E$7)+1),ROWS($A$3:E223))),\"\")","v":""},{"$f":"IFERROR(INDEX('بيانات اساسية'!AI$6:AI$306,SMALL(IF('بيانات اساسية'!$AL$6:$AL$306=\"معلم\",ROW(F$7:F$306)-ROW(F$7)+1),ROWS($A$3:F223))),\"\")","v":""},{"$f":"IFERROR(INDEX('بيانات اساسية'!AJ$6:AJ$306,SMALL(IF('بيانات اساسية'!$AL$6:$AL$306=\"معلم\",ROW(G$7:G$306)-ROW(G$7)+1),ROWS($A$3:G223))),\"\")","v":""},{"$f":"IFERROR(INDEX('بيانات اساسية'!AK$6:AK$306,SMALL(IF('بيانات اساسية'!$AL$6:$AL$306=\"معلم\",ROW(H$7:H$306)-ROW(H$7)+1),ROWS($A$3:H223))),\"\")","v":""}]
[{"$f":"IF(B225=\"\",\"\",SUBTOTAL(3,B$4:B225))","v":""},{"$f":"IFERROR(INDEX('بيانات اساسية'!B$6:B$306,SMALL(IF('بيانات اساسية'!$AL$6:$AL$306=\"معلم\",ROW(B$7:B$306)-ROW(B$7)+1),ROWS($A$3:B224))),\"\")","v":""},{"$f":"IFERROR(INDEX('بيانات اساسية'!C$6:C$306,SMALL(IF('بيانات اساسية'!$AL$6:$AL$306=\"معلم\",ROW(C$7:C$306)-ROW(C$7)+1),ROWS($A$3:C224))),\"\")","v":""},{"$f":"IFERROR(INDEX('بيانات اساسية'!AF$6:AF$306,SMALL(IF('بيانات اساسية'!$AL$6:$AL$306=\"معلم\",ROW(D$7:D$306)-ROW(D$7)+1),ROWS($A$3:D224))),\"\")","v":""},{"$f":"IFERROR(INDEX('بيانات اساسية'!AH$6:AH$306,SMALL(IF('بيانات اساسية'!$AL$6:$AL$306=\"معلم\",ROW(E$7:E$306)-ROW(E$7)+1),ROWS($A$3:E224))),\"\")","v":""},{"$f":"IFERROR(INDEX('بيانات اساسية'!AI$6:AI$306,SMALL(IF('بيانات اساسية'!$AL$6:$AL$306=\"معلم\",ROW(F$7:F$306)-ROW(F$7)+1),ROWS($A$3:F224))),\"\")","v":""},{"$f":"IFERROR(INDEX('بيانات اساسية'!AJ$6:AJ$306,SMALL(IF('بيانات اساسية'!$AL$6:$AL$306=\"معلم\",ROW(G$7:G$306)-ROW(G$7)+1),ROWS($A$3:G224))),\"\")","v":""},{"$f":"IFERROR(INDEX('بيانات اساسية'!AK$6:AK$306,SMALL(IF('بيانات اساسية'!$AL$6:$AL$306=\"معلم\",ROW(H$7:H$306)-ROW(H$7)+1),ROWS($A$3:H224))),\"\")","v":""}]
[{"$f":"IF(B226=\"\",\"\",SUBTOTAL(3,B$4:B226))","v":""},{"$f":"IFERROR(INDEX('بيانات اساسية'!B$6:B$306,SMALL(IF('بيانات اساسية'!$AL$6:$AL$306=\"معلم\",ROW(B$7:B$306)-ROW(B$7)+1),ROWS($A$3:B225))),\"\")","v":""},{"$f":"IFERROR(INDEX('بيانات اساسية'!C$6:C$306,SMALL(IF('بيانات اساسية'!$AL$6:$AL$306=\"معلم\",ROW(C$7:C$306)-ROW(C$7)+1),ROWS($A$3:C225))),\"\")","v":""},{"$f":"IFERROR(INDEX('بيانات اساسية'!AF$6:AF$306,SMALL(IF('بيانات اساسية'!$AL$6:$AL$306=\"معلم\",ROW(D$7:D$306)-ROW(D$7)+1),ROWS($A$3:D225))),\"\")","v":""},{"$f":"IFERROR(INDEX('بيانات اساسية'!AH$6:AH$306,SMALL(IF('بيانات اساسية'!$AL$6:$AL$306=\"معلم\",ROW(E$7:E$306)-ROW(E$7)+1),ROWS($A$3:E225))),\"\")","v":""},{"$f":"IFERROR(INDEX('بيانات اساسية'!AI$6:AI$306,SMALL(IF('بيانات اساسية'!$AL$6:$AL$306=\"معلم\",ROW(F$7:F$306)-ROW(F$7)+1),ROWS($A$3:F225))),\"\")","v":""},{"$f":"IFERROR(INDEX('بيانات اساسية'!AJ$6:AJ$306,SMALL(IF('بيانات اساسية'!$AL$6:$AL$306=\"معلم\",ROW(G$7:G$306)-ROW(G$7)+1),ROWS($A$3:G225))),\"\")","v":""},{"$f":"IFERROR(INDEX('بيانات اساسية'!AK$6:AK$306,SMALL(IF('بيانات اساسية'!$AL$6:$AL$306=\"معلم\",ROW(H$7:H$306)-ROW(H$7)+1),ROWS($A$3:H225))),\"\")","v":""}]
[{"$f":"IF(B227=\"\",\"\",SUBTOTAL(3,B$4:B227))","v":""},{"$f":"IFERROR(INDEX('بيانات اساسية'!B$6:B$306,SMALL(IF('بيانات اساسية'!$AL$6:$AL$306=\"معلم\",ROW(B$7:B$306)-ROW(B$7)+1),ROWS($A$3:B226))),\"\")","v":""},{"$f":"IFERROR(INDEX('بيانات اساسية'!C$6:C$306,SMALL(IF('بيانات اساسية'!$AL$6:$AL$306=\"معلم\",ROW(C$7:C$306)-ROW(C$7)+1),ROWS($A$3:C226))),\"\")","v":""},{"$f":"IFERROR(INDEX('بيانات اساسية'!AF$6:AF$306,SMALL(IF('بيانات اساسية'!$AL$6:$AL$306=\"معلم\",ROW(D$7:D$306)-ROW(D$7)+1),ROWS($A$3:D226))),\"\")","v":""},{"$f":"IFERROR(INDEX('بيانات اساسية'!AH$6:AH$306,SMALL(IF('بيانات اساسية'!$AL$6:$AL$306=\"معلم\",ROW(E$7:E$306)-ROW(E$7)+1),ROWS($A$3:E226))),\"\")","v":""},{"$f":"IFERROR(INDEX('بيانات اساسية'!AI$6:AI$306,SMALL(IF('بيانات اساسية'!$AL$6:$AL$306=\"معلم\",ROW(F$7:F$306)-ROW(F$7)+1),ROWS($A$3:F226))),\"\")","v":""},{"$f":"IFERROR(INDEX('بيانات اساسية'!AJ$6:AJ$306,SMALL(IF('بيانات اساسية'!$AL$6:$AL$306=\"معلم\",ROW(G$7:G$306)-ROW(G$7)+1),ROWS($A$3:G226))),\"\")","v":""},{"$f":"IFERROR(INDEX('بيانات اساسية'!AK$6:AK$306,SMALL(IF('بيانات اساسية'!$AL$6:$AL$306=\"معلم\",ROW(H$7:H$306)-ROW(H$7)+1),ROWS($A$3:H226))),\"\")","v":""}]
[{"$f":"IF(B228=\"\",\"\",SUBTOTAL(3,B$4:B228))","v":""},{"$f":"IFERROR(INDEX('بيانات اساسية'!B$6:B$306,SMALL(IF('بيانات اساسية'!$AL$6:$AL$306=\"معلم\",ROW(B$7:B$306)-ROW(B$7)+1),ROWS($A$3:B227))),\"\")","v":""},{"$f":"IFERROR(INDEX('بيانات اساسية'!C$6:C$306,SMALL(IF('بيانات اساسية'!$AL$6:$AL$306=\"معلم\",ROW(C$7:C$306)-ROW(C$7)+1),ROWS($A$3:C227))),\"\")","v":""},{"$f":"IFERROR(INDEX('بيانات اساسية'!AF$6:AF$306,SMALL(IF('بيانات اساسية'!$AL$6:$AL$306=\"معلم\",ROW(D$7:D$306)-ROW(D$7)+1),ROWS($A$3:D227))),\"\")","v":""},{"$f":"IFERROR(INDEX('بيانات اساسية'!AH$6:AH$306,SMALL(IF('بيانات اساسية'!$AL$6:$AL$306=\"معلم\",ROW(E$7:E$306)-ROW(E$7)+1),ROWS($A$3:E227))),\"\")","v":""},{"$f":"IFERROR(INDEX('بيانات اساسية'!AI$6:AI$306,SMALL(IF('بيانات اساسية'!$AL$6:$AL$306=\"معلم\",ROW(F$7:F$306)-ROW(F$7)+1),ROWS($A$3:F227))),\"\")","v":""},{"$f":"IFERROR(INDEX('بيانات اساسية'!AJ$6:AJ$306,SMALL(IF('بيانات اساسية'!$AL$6:$AL$306=\"معلم\",ROW(G$7:G$306)-ROW(G$7)+1),ROWS($A$3:G227))),\"\")","v":""},{"$f":"IFERROR(INDEX('بيانات اساسية'!AK$6:AK$306,SMALL(IF('بيانات اساسية'!$AL$6:$AL$306=\"معلم\",ROW(H$7:H$306)-ROW(H$7)+1),ROWS($A$3:H227))),\"\")","v":""}]
[{"$f":"IF(B229=\"\",\"\",SUBTOTAL(3,B$4:B229))","v":""},{"$f":"IFERROR(INDEX('بيانات اساسية'!B$6:B$306,SMALL(IF('بيانات اساسية'!$AL$6:$AL$306=\"معلم\",ROW(B$7:B$306)-ROW(B$7)+1),ROWS($A$3:B228))),\"\")","v":""},{"$f":"IFERROR(INDEX('بيانات اساسية'!C$6:C$306,SMALL(IF('بيانات اساسية'!$AL$6:$AL$306=\"معلم\",ROW(C$7:C$306)-ROW(C$7)+1),ROWS($A$3:C228))),\"\")","v":""},{"$f":"IFERROR(INDEX('بيانات اساسية'!AF$6:AF$306,SMALL(IF('بيانات اساسية'!$AL$6:$AL$306=\"معلم\",ROW(D$7:D$306)-ROW(D$7)+1),ROWS($A$3:D228))),\"\")","v":""},{"$f":"IFERROR(INDEX('بيانات اساسية'!AH$6:AH$306,SMALL(IF('بيانات اساسية'!$AL$6:$AL$306=\"معلم\",ROW(E$7:E$306)-ROW(E$7)+1),ROWS($A$3:E228))),\"\")","v":""},{"$f":"IFERROR(INDEX('بيانات اساسية'!AI$6:AI$306,SMALL(IF('بيانات اساسية'!$AL$6:$AL$306=\"معلم\",ROW(F$7:F$306)-ROW(F$7)+1),ROWS($A$3:F228))),\"\")","v":""},{"$f":"IFERROR(INDEX('بيانات اساسية'!AJ$6:AJ$306,SMALL(IF('بيانات اساسية'!$AL$6:$AL$306=\"معلم\",ROW(G$7:G$306)-ROW(G$7)+1),ROWS($A$3:G228))),\"\")","v":""},{"$f":"IFERROR(INDEX('بيانات اساسية'!AK$6:AK$306,SMALL(IF('بيانات اساسية'!$AL$6:$AL$306=\"معلم\",ROW(H$7:H$306)-ROW(H$7)+1),ROWS($A$3:H228))),\"\")","v":""}]
[{"$f":"IF(B230=\"\",\"\",SUBTOTAL(3,B$4:B230))","v":""},{"$f":"IFERROR(INDEX('بيانات اساسية'!B$6:B$306,SMALL(IF('بيانات اساسية'!$AL$6:$AL$306=\"معلم\",ROW(B$7:B$306)-ROW(B$7)+1),ROWS($A$3:B229))),\"\")","v":""},{"$f":"IFERROR(INDEX('بيانات اساسية'!C$6:C$306,SMALL(IF('بيانات اساسية'!$AL$6:$AL$306=\"معلم\",ROW(C$7:C$306)-ROW(C$7)+1),ROWS($A$3:C229))),\"\")","v":""},{"$f":"IFERROR(INDEX('بيانات اساسية'!AF$6:AF$306,SMALL(IF('بيانات اساسية'!$AL$6:$AL$306=\"معلم\",ROW(D$7:D$306)-ROW(D$7)+1),ROWS($A$3:D229))),\"\")","v":""},{"$f":"IFERROR(INDEX('بيانات اساسية'!AH$6:AH$306,SMALL(IF('بيانات اساسية'!$AL$6:$AL$306=\"معلم\",ROW(E$7:E$306)-ROW(E$7)+1),ROWS($A$3:E229))),\"\")","v":""},{"$f":"IFERROR(INDEX('بيانات اساسية'!AI$6:AI$306,SMALL(IF('بيانات اساسية'!$AL$6:$AL$306=\"معلم\",ROW(F$7:F$306)-ROW(F$7)+1),ROWS($A$3:F229))),\"\")","v":""},{"$f":"IFERROR(INDEX('بيانات اساسية'!AJ$6:AJ$306,SMALL(IF('بيانات اساسية'!$AL$6:$AL$306=\"معلم\",ROW(G$7:G$306)-ROW(G$7)+1),ROWS($A$3:G229))),\"\")","v":""},{"$f":"IFERROR(INDEX('بيانات اساسية'!AK$6:AK$306,SMALL(IF('بيانات اساسية'!$AL$6:$AL$306=\"معلم\",ROW(H$7:H$306)-ROW(H$7)+1),ROWS($A$3:H229))),\"\")","v":""}]
[{"$f":"IF(B231=\"\",\"\",SUBTOTAL(3,B$4:B231))","v":""},{"$f":"IFERROR(INDEX('بيانات اساسية'!B$6:B$306,SMALL(IF('بيانات اساسية'!$AL$6:$AL$306=\"معلم\",ROW(B$7:B$306)-ROW(B$7)+1),ROWS($A$3:B230))),\"\")","v":""},{"$f":"IFERROR(INDEX('بيانات اساسية'!C$6:C$306,SMALL(IF('بيانات اساسية'!$AL$6:$AL$306=\"معلم\",ROW(C$7:C$306)-ROW(C$7)+1),ROWS($A$3:C230))),\"\")","v":""},{"$f":"IFERROR(INDEX('بيانات اساسية'!AF$6:AF$306,SMALL(IF('بيانات اساسية'!$AL$6:$AL$306=\"معلم\",ROW(D$7:D$306)-ROW(D$7)+1),ROWS($A$3:D230))),\"\")","v":""},{"$f":"IFERROR(INDEX('بيانات اساسية'!AH$6:AH$306,SMALL(IF('بيانات اساسية'!$AL$6:$AL$306=\"معلم\",ROW(E$7:E$306)-ROW(E$7)+1),ROWS($A$3:E230))),\"\")","v":""},{"$f":"IFERROR(INDEX('بيانات اساسية'!AI$6:AI$306,SMALL(IF('بيانات اساسية'!$AL$6:$AL$306=\"معلم\",ROW(F$7:F$306)-ROW(F$7)+1),ROWS($A$3:F230))),\"\")","v":""},{"$f":"IFERROR(INDEX('بيانات اساسية'!AJ$6:AJ$306,SMALL(IF('بيانات اساسية'!$AL$6:$AL$306=\"معلم\",ROW(G$7:G$306)-ROW(G$7)+1),ROWS($A$3:G230))),\"\")","v":""},{"$f":"IFERROR(INDEX('بيانات اساسية'!AK$6:AK$306,SMALL(IF('بيانات اساسية'!$AL$6:$AL$306=\"معلم\",ROW(H$7:H$306)-ROW(H$7)+1),ROWS($A$3:H230))),\"\")","v":""}]
[{"$f":"IF(B232=\"\",\"\",SUBTOTAL(3,B$4:B232))","v":""},{"$f":"IFERROR(INDEX('بيانات اساسية'!B$6:B$306,SMALL(IF('بيانات اساسية'!$AL$6:$AL$306=\"معلم\",ROW(B$7:B$306)-ROW(B$7)+1),ROWS($A$3:B231))),\"\")","v":""},{"$f":"IFERROR(INDEX('بيانات اساسية'!C$6:C$306,SMALL(IF('بيانات اساسية'!$AL$6:$AL$306=\"معلم\",ROW(C$7:C$306)-ROW(C$7)+1),ROWS($A$3:C231))),\"\")","v":""},{"$f":"IFERROR(INDEX('بيانات اساسية'!AF$6:AF$306,SMALL(IF('بيانات اساسية'!$AL$6:$AL$306=\"معلم\",ROW(D$7:D$306)-ROW(D$7)+1),ROWS($A$3:D231))),\"\")","v":""},{"$f":"IFERROR(INDEX('بيانات اساسية'!AH$6:AH$306,SMALL(IF('بيانات اساسية'!$AL$6:$AL$306=\"معلم\",ROW(E$7:E$306)-ROW(E$7)+1),ROWS($A$3:E231))),\"\")","v":""},{"$f":"IFERROR(INDEX('بيانات اساسية'!AI$6:AI$306,SMALL(IF('بيانات اساسية'!$AL$6:$AL$306=\"معلم\",ROW(F$7:F$306)-ROW(F$7)+1),ROWS($A$3:F231))),\"\")","v":""},{"$f":"IFERROR(INDEX('بيانات اساسية'!AJ$6:AJ$306,SMALL(IF('بيانات اساسية'!$AL$6:$AL$306=\"معلم\",ROW(G$7:G$306)-ROW(G$7)+1),ROWS($A$3:G231))),\"\")","v":""},{"$f":"IFERROR(INDEX('بيانات اساسية'!AK$6:AK$306,SMALL(IF('بيانات اساسية'!$AL$6:$AL$306=\"معلم\",ROW(H$7:H$306)-ROW(H$7)+1),ROWS($A$3:H231))),\"\")","v":""}]
[{"$f":"IF(B233=\"\",\"\",SUBTOTAL(3,B$4:B233))","v":""},{"$f":"IFERROR(INDEX('بيانات اساسية'!B$6:B$306,SMALL(IF('بيانات اساسية'!$AL$6:$AL$306=\"معلم\",ROW(B$7:B$306)-ROW(B$7)+1),ROWS($A$3:B232))),\"\")","v":""},{"$f":"IFERROR(INDEX('بيانات اساسية'!C$6:C$306,SMALL(IF('بيانات اساسية'!$AL$6:$AL$306=\"معلم\",ROW(C$7:C$306)-ROW(C$7)+1),ROWS($A$3:C232))),\"\")","v":""},{"$f":"IFERROR(INDEX('بيانات اساسية'!AF$6:AF$306,SMALL(IF('بيانات اساسية'!$AL$6:$AL$306=\"معلم\",ROW(D$7:D$306)-ROW(D$7)+1),ROWS($A$3:D232))),\"\")","v":""},{"$f":"IFERROR(INDEX('بيانات اساسية'!AH$6:AH$306,SMALL(IF('بيانات اساسية'!$AL$6:$AL$306=\"معلم\",ROW(E$7:E$306)-ROW(E$7)+1),ROWS($A$3:E232))),\"\")","v":""},{"$f":"IFERROR(INDEX('بيانات اساسية'!AI$6:AI$306,SMALL(IF('بيانات اساسية'!$AL$6:$AL$306=\"معلم\",ROW(F$7:F$306)-ROW(F$7)+1),ROWS($A$3:F232))),\"\")","v":""},{"$f":"IFERROR(INDEX('بيانات اساسية'!AJ$6:AJ$306,SMALL(IF('بيانات اساسية'!$AL$6:$AL$306=\"معلم\",ROW(G$7:G$306)-ROW(G$7)+1),ROWS($A$3:G232))),\"\")","v":""},{"$f":"IFERROR(INDEX('بيانات اساسية'!AK$6:AK$306,SMALL(IF('بيانات اساسية'!$AL$6:$AL$306=\"معلم\",ROW(H$7:H$306)-ROW(H$7)+1),ROWS($A$3:H232))),\"\")","v":""}]
[{"$f":"IF(B234=\"\",\"\",SUBTOTAL(3,B$4:B234))","v":""},{"$f":"IFERROR(INDEX('بيانات اساسية'!B$6:B$306,SMALL(IF('بيانات اساسية'!$AL$6:$AL$306=\"معلم\",ROW(B$7:B$306)-ROW(B$7)+1),ROWS($A$3:B233))),\"\")","v":""},{"$f":"IFERROR(INDEX('بيانات اساسية'!C$6:C$306,SMALL(IF('بيانات اساسية'!$AL$6:$AL$306=\"معلم\",ROW(C$7:C$306)-ROW(C$7)+1),ROWS($A$3:C233))),\"\")","v":""},{"$f":"IFERROR(INDEX('بيانات اساسية'!AF$6:AF$306,SMALL(IF('بيانات اساسية'!$AL$6:$AL$306=\"معلم\",ROW(D$7:D$306)-ROW(D$7)+1),ROWS($A$3:D233))),\"\")","v":""},{"$f":"IFERROR(INDEX('بيانات اساسية'!AH$6:AH$306,SMALL(IF('بيانات اساسية'!$AL$6:$AL$306=\"معلم\",ROW(E$7:E$306)-ROW(E$7)+1),ROWS($A$3:E233))),\"\")","v":""},{"$f":"IFERROR(INDEX('بيانات اساسية'!AI$6:AI$306,SMALL(IF('بيانات اساسية'!$AL$6:$AL$306=\"معلم\",ROW(F$7:F$306)-ROW(F$7)+1),ROWS($A$3:F233))),\"\")","v":""},{"$f":"IFERROR(INDEX('بيانات اساسية'!AJ$6:AJ$306,SMALL(IF('بيانات اساسية'!$AL$6:$AL$306=\"معلم\",ROW(G$7:G$306)-ROW(G$7)+1),ROWS($A$3:G233))),\"\")","v":""},{"$f":"IFERROR(INDEX('بيانات اساسية'!AK$6:AK$306,SMALL(IF('بيانات اساسية'!$AL$6:$AL$306=\"معلم\",ROW(H$7:H$306)-ROW(H$7)+1),ROWS($A$3:H233))),\"\")","v":""}]
[{"$f":"IF(B235=\"\",\"\",SUBTOTAL(3,B$4:B235))","v":""},{"$f":"IFERROR(INDEX('بيانات اساسية'!B$6:B$306,SMALL(IF('بيانات اساسية'!$AL$6:$AL$306=\"معلم\",ROW(B$7:B$306)-ROW(B$7)+1),ROWS($A$3:B234))),\"\")","v":""},{"$f":"IFERROR(INDEX('بيانات اساسية'!C$6:C$306,SMALL(IF('بيانات اساسية'!$AL$6:$AL$306=\"معلم\",ROW(C$7:C$306)-ROW(C$7)+1),ROWS($A$3:C234))),\"\")","v":""},{"$f":"IFERROR(INDEX('بيانات اساسية'!AF$6:AF$306,SMALL(IF('بيانات اساسية'!$AL$6:$AL$306=\"معلم\",ROW(D$7:D$306)-ROW(D$7)+1),ROWS($A$3:D234))),\"\")","v":""},{"$f":"IFERROR(INDEX('بيانات اساسية'!AH$6:AH$306,SMALL(IF('بيانات اساسية'!$AL$6:$AL$306=\"معلم\",ROW(E$7:E$306)-ROW(E$7)+1),ROWS($A$3:E234))),\"\")","v":""},{"$f":"IFERROR(INDEX('بيانات اساسية'!AI$6:AI$306,SMALL(IF('بيانات اساسية'!$AL$6:$AL$306=\"معلم\",ROW(F$7:F$306)-ROW(F$7)+1),ROWS($A$3:F234))),\"\")","v":""},{"$f":"IFERROR(INDEX('بيانات اساسية'!AJ$6:AJ$306,SMALL(IF('بيانات اساسية'!$AL$6:$AL$306=\"معلم\",ROW(G$7:G$306)-ROW(G$7)+1),ROWS($A$3:G234))),\"\")","v":""},{"$f":"IFERROR(INDEX('بيانات اساسية'!AK$6:AK$306,SMALL(IF('بيانات اساسية'!$AL$6:$AL$306=\"معلم\",ROW(H$7:H$306)-ROW(H$7)+1),ROWS($A$3:H234))),\"\")","v":""}]
[{"$f":"IF(B236=\"\",\"\",SUBTOTAL(3,B$4:B236))","v":""},{"$f":"IFERROR(INDEX('بيانات اساسية'!B$6:B$306,SMALL(IF('بيانات اساسية'!$AL$6:$AL$306=\"معلم\",ROW(B$7:B$306)-ROW(B$7)+1),ROWS($A$3:B235))),\"\")","v":""},{"$f":"IFERROR(INDEX('بيانات اساسية'!C$6:C$306,SMALL(IF('بيانات اساسية'!$AL$6:$AL$306=\"معلم\",ROW(C$7:C$306)-ROW(C$7)+1),ROWS($A$3:C235))),\"\")","v":""},{"$f":"IFERROR(INDEX('بيانات اساسية'!AF$6:AF$306,SMALL(IF('بيانات اساسية'!$AL$6:$AL$306=\"معلم\",ROW(D$7:D$306)-ROW(D$7)+1),ROWS($A$3:D235))),\"\")","v":""},{"$f":"IFERROR(INDEX('بيانات اساسية'!AH$6:AH$306,SMALL(IF('بيانات اساسية'!$AL$6:$AL$306=\"معلم\",ROW(E$7:E$306)-ROW(E$7)+1),ROWS($A$3:E235))),\"\")","v":""},{"$f":"IFERROR(INDEX('بيانات اساسية'!AI$6:AI$306,SMALL(IF('بيانات اساسية'!$AL$6:$AL$306=\"معلم\",ROW(F$7:F$306)-ROW(F$7)+1),ROWS($A$3:F235))),\"\")","v":""},{"$f":"IFERROR(INDEX('بيانات اساسية'!AJ$6:AJ$306,SMALL(IF('بيانات اساسية'!$AL$6:$AL$306=\"معلم\",ROW(G$7:G$306)-ROW(G$7)+1),ROWS($A$3:G235))),\"\")","v":""},{"$f":"IFERROR(INDEX('بيانات اساسية'!AK$6:AK$306,SMALL(IF('بيانات اساسية'!$AL$6:$AL$306=\"معلم\",ROW(H$7:H$306)-ROW(H$7)+1),ROWS($A$3:H235))),\"\")","v":""}]
[{"$f":"IF(B237=\"\",\"\",SUBTOTAL(3,B$4:B237))","v":""},{"$f":"IFERROR(INDEX('بيانات اساسية'!B$6:B$306,SMALL(IF('بيانات اساسية'!$AL$6:$AL$306=\"معلم\",ROW(B$7:B$306)-ROW(B$7)+1),ROWS($A$3:B236))),\"\")","v":""},{"$f":"IFERROR(INDEX('بيانات اساسية'!C$6:C$306,SMALL(IF('بيانات اساسية'!$AL$6:$AL$306=\"معلم\",ROW(C$7:C$306)-ROW(C$7)+1),ROWS($A$3:C236))),\"\")","v":""},{"$f":"IFERROR(INDEX('بيانات اساسية'!AF$6:AF$306,SMALL(IF('بيانات اساسية'!$AL$6:$AL$306=\"معلم\",ROW(D$7:D$306)-ROW(D$7)+1),ROWS($A$3:D236))),\"\")","v":""},{"$f":"IFERROR(INDEX('بيانات اساسية'!AH$6:AH$306,SMALL(IF('بيانات اساسية'!$AL$6:$AL$306=\"معلم\",ROW(E$7:E$306)-ROW(E$7)+1),ROWS($A$3:E236))),\"\")","v":""},{"$f":"IFERROR(INDEX('بيانات اساسية'!AI$6:AI$306,SMALL(IF('بيانات اساسية'!$AL$6:$AL$306=\"معلم\",ROW(F$7:F$306)-ROW(F$7)+1),ROWS($A$3:F236))),\"\")","v":""},{"$f":"IFERROR(INDEX('بيانات اساسية'!AJ$6:AJ$306,SMALL(IF('بيانات اساسية'!$AL$6:$AL$306=\"معلم\",ROW(G$7:G$306)-ROW(G$7)+1),ROWS($A$3:G236))),\"\")","v":""},{"$f":"IFERROR(INDEX('بيانات اساسية'!AK$6:AK$306,SMALL(IF('بيانات اساسية'!$AL$6:$AL$306=\"معلم\",ROW(H$7:H$306)-ROW(H$7)+1),ROWS($A$3:H236))),\"\")","v":""}]
[{"$f":"IF(B238=\"\",\"\",SUBTOTAL(3,B$4:B238))","v":""},{"$f":"IFERROR(INDEX('بيانات اساسية'!B$6:B$306,SMALL(IF('بيانات اساسية'!$AL$6:$AL$306=\"معلم\",ROW(B$7:B$306)-ROW(B$7)+1),ROWS($A$3:B237))),\"\")","v":""},{"$f":"IFERROR(INDEX('بيانات اساسية'!C$6:C$306,SMALL(IF('بيانات اساسية'!$AL$6:$AL$306=\"معلم\",ROW(C$7:C$306)-ROW(C$7)+1),ROWS($A$3:C237))),\"\")","v":""},{"$f":"IFERROR(INDEX('بيانات اساسية'!AF$6:AF$306,SMALL(IF('بيانات اساسية'!$AL$6:$AL$306=\"معلم\",ROW(D$7:D$306)-ROW(D$7)+1),ROWS($A$3:D237))),\"\")","v":""},{"$f":"IFERROR(INDEX('بيانات اساسية'!AH$6:AH$306,SMALL(IF('بيانات اساسية'!$AL$6:$AL$306=\"معلم\",ROW(E$7:E$306)-ROW(E$7)+1),ROWS($A$3:E237))),\"\")","v":""},{"$f":"IFERROR(INDEX('بيانات اساسية'!AI$6:AI$306,SMALL(IF('بيانات اساسية'!$AL$6:$AL$306=\"معلم\",ROW(F$7:F$306)-ROW(F$7)+1),ROWS($A$3:F237))),\"\")","v":""},{"$f":"IFERROR(INDEX('بيانات اساسية'!AJ$6:AJ$306,SMALL(IF('بيانات اساسية'!$AL$6:$AL$306=\"معلم\",ROW(G$7:G$306)-ROW(G$7)+1),ROWS($A$3:G237))),\"\")","v":""},{"$f":"IFERROR(INDEX('بيانات اساسية'!AK$6:AK$306,SMALL(IF('بيانات اساسية'!$AL$6:$AL$306=\"معلم\",ROW(H$7:H$306)-ROW(H$7)+1),ROWS($A$3:H237))),\"\")","v":""}]
[{"$f":"IF(B239=\"\",\"\",SUBTOTAL(3,B$4:B239))","v":""},{"$f":"IFERROR(INDEX('بيانات اساسية'!B$6:B$306,SMALL(IF('بيانات اساسية'!$AL$6:$AL$306=\"معلم\",ROW(B$7:B$306)-ROW(B$7)+1),ROWS($A$3:B238))),\"\")","v":""},{"$f":"IFERROR(INDEX('بيانات اساسية'!C$6:C$306,SMALL(IF('بيانات اساسية'!$AL$6:$AL$306=\"معلم\",ROW(C$7:C$306)-ROW(C$7)+1),ROWS($A$3:C238))),\"\")","v":""},{"$f":"IFERROR(INDEX('بيانات اساسية'!AF$6:AF$306,SMALL(IF('بيانات اساسية'!$AL$6:$AL$306=\"معلم\",ROW(D$7:D$306)-ROW(D$7)+1),ROWS($A$3:D238))),\"\")","v":""},{"$f":"IFERROR(INDEX('بيانات اساسية'!AH$6:AH$306,SMALL(IF('بيانات اساسية'!$AL$6:$AL$306=\"معلم\",ROW(E$7:E$306)-ROW(E$7)+1),ROWS($A$3:E238))),\"\")","v":""},{"$f":"IFERROR(INDEX('بيانات اساسية'!AI$6:AI$306,SMALL(IF('بيانات اساسية'!$AL$6:$AL$306=\"معلم\",ROW(F$7:F$306)-ROW(F$7)+1),ROWS($A$3:F238))),\"\")","v":""},{"$f":"IFERROR(INDEX('بيانات اساسية'!AJ$6:AJ$306,SMALL(IF('بيانات اساسية'!$AL$6:$AL$306=\"معلم\",ROW(G$7:G$306)-ROW(G$7)+1),ROWS($A$3:G238))),\"\")","v":""},{"$f":"IFERROR(INDEX('بيانات اساسية'!AK$6:AK$306,SMALL(IF('بيانات اساسية'!$AL$6:$AL$306=\"معلم\",ROW(H$7:H$306)-ROW(H$7)+1),ROWS($A$3:H238))),\"\")","v":""}]
[{"$f":"IF(B240=\"\",\"\",SUBTOTAL(3,B$4:B240))","v":""},{"$f":"IFERROR(INDEX('بيانات اساسية'!B$6:B$306,SMALL(IF('بيانات اساسية'!$AL$6:$AL$306=\"معلم\",ROW(B$7:B$306)-ROW(B$7)+1),ROWS($A$3:B239))),\"\")","v":""},{"$f":"IFERROR(INDEX('بيانات اساسية'!C$6:C$306,SMALL(IF('بيانات اساسية'!$AL$6:$AL$306=\"معلم\",ROW(C$7:C$306)-ROW(C$7)+1),ROWS($A$3:C239))),\"\")","v":""},{"$f":"IFERROR(INDEX('بيانات اساسية'!AF$6:AF$306,SMALL(IF('بيانات اساسية'!$AL$6:$AL$306=\"معلم\",ROW(D$7:D$306)-ROW(D$7)+1),ROWS($A$3:D239))),\"\")","v":""},{"$f":"IFERROR(INDEX('بيانات اساسية'!AH$6:AH$306,SMALL(IF('بيانات اساسية'!$AL$6:$AL$306=\"معلم\",ROW(E$7:E$306)-ROW(E$7)+1),ROWS($A$3:E239))),\"\")","v":""},{"$f":"IFERROR(INDEX('بيانات اساسية'!AI$6:AI$306,SMALL(IF('بيانات اساسية'!$AL$6:$AL$306=\"معلم\",ROW(F$7:F$306)-ROW(F$7)+1),ROWS($A$3:F239))),\"\")","v":""},{"$f":"IFERROR(INDEX('بيانات اساسية'!AJ$6:AJ$306,SMALL(IF('بيانات اساسية'!$AL$6:$AL$306=\"معلم\",ROW(G$7:G$306)-ROW(G$7)+1),ROWS($A$3:G239))),\"\")","v":""},{"$f":"IFERROR(INDEX('بيانات اساسية'!AK$6:AK$306,SMALL(IF('بيانات اساسية'!$AL$6:$AL$306=\"معلم\",ROW(H$7:H$306)-ROW(H$7)+1),ROWS($A$3:H239))),\"\")","v":""}]
[{"$f":"IF(B241=\"\",\"\",SUBTOTAL(3,B$4:B241))","v":""},{"$f":"IFERROR(INDEX('بيانات اساسية'!B$6:B$306,SMALL(IF('بيانات اساسية'!$AL$6:$AL$306=\"معلم\",ROW(B$7:B$306)-ROW(B$7)+1),ROWS($A$3:B240))),\"\")","v":""},{"$f":"IFERROR(INDEX('بيانات اساسية'!C$6:C$306,SMALL(IF('بيانات اساسية'!$AL$6:$AL$306=\"معلم\",ROW(C$7:C$306)-ROW(C$7)+1),ROWS($A$3:C240))),\"\")","v":""},{"$f":"IFERROR(INDEX('بيانات اساسية'!AF$6:AF$306,SMALL(IF('بيانات اساسية'!$AL$6:$AL$306=\"معلم\",ROW(D$7:D$306)-ROW(D$7)+1),ROWS($A$3:D240))),\"\")","v":""},{"$f":"IFERROR(INDEX('بيانات اساسية'!AH$6:AH$306,SMALL(IF('بيانات اساسية'!$AL$6:$AL$306=\"معلم\",ROW(E$7:E$306)-ROW(E$7)+1),ROWS($A$3:E240))),\"\")","v":""},{"$f":"IFERROR(INDEX('بيانات اساسية'!AI$6:AI$306,SMALL(IF('بيانات اساسية'!$AL$6:$AL$306=\"معلم\",ROW(F$7:F$306)-ROW(F$7)+1),ROWS($A$3:F240))),\"\")","v":""},{"$f":"IFERROR(INDEX('بيانات اساسية'!AJ$6:AJ$306,SMALL(IF('بيانات اساسية'!$AL$6:$AL$306=\"معلم\",ROW(G$7:G$306)-ROW(G$7)+1),ROWS($A$3:G240))),\"\")","v":""},{"$f":"IFERROR(INDEX('بيانات اساسية'!AK$6:AK$306,SMALL(IF('بيانات اساسية'!$AL$6:$AL$306=\"معلم\",ROW(H$7:H$306)-ROW(H$7)+1),ROWS($A$3:H240))),\"\")","v":""}]
[{"$f":"IF(B242=\"\",\"\",SUBTOTAL(3,B$4:B242))","v":""},{"$f":"IFERROR(INDEX('بيانات اساسية'!B$6:B$306,SMALL(IF('بيانات اساسية'!$AL$6:$AL$306=\"معلم\",ROW(B$7:B$306)-ROW(B$7)+1),ROWS($A$3:B241))),\"\")","v":""},{"$f":"IFERROR(INDEX('بيانات اساسية'!C$6:C$306,SMALL(IF('بيانات اساسية'!$AL$6:$AL$306=\"معلم\",ROW(C$7:C$306)-ROW(C$7)+1),ROWS($A$3:C241))),\"\")","v":""},{"$f":"IFERROR(INDEX('بيانات اساسية'!AF$6:AF$306,SMALL(IF('بيانات اساسية'!$AL$6:$AL$306=\"معلم\",ROW(D$7:D$306)-ROW(D$7)+1),ROWS($A$3:D241))),\"\")","v":""},{"$f":"IFERROR(INDEX('بيانات اساسية'!AH$6:AH$306,SMALL(IF('بيانات اساسية'!$AL$6:$AL$306=\"معلم\",ROW(E$7:E$306)-ROW(E$7)+1),ROWS($A$3:E241))),\"\")","v":""},{"$f":"IFERROR(INDEX('بيانات اساسية'!AI$6:AI$306,SMALL(IF('بيانات اساسية'!$AL$6:$AL$306=\"معلم\",ROW(F$7:F$306)-ROW(F$7)+1),ROWS($A$3:F241))),\"\")","v":""},{"$f":"IFERROR(INDEX('بيانات اساسية'!AJ$6:AJ$306,SMALL(IF('بيانات اساسية'!$AL$6:$AL$306=\"معلم\",ROW(G$7:G$306)-ROW(G$7)+1),ROWS($A$3:G241))),\"\")","v":""},{"$f":"IFERROR(INDEX('بيانات اساسية'!AK$6:AK$306,SMALL(IF('بيانات اساسية'!$AL$6:$AL$306=\"معلم\",ROW(H$7:H$306)-ROW(H$7)+1),ROWS($A$3:H241))),\"\")","v":""}]
[{"$f":"IF(B243=\"\",\"\",SUBTOTAL(3,B$4:B243))","v":""},{"$f":"IFERROR(INDEX('بيانات اساسية'!B$6:B$306,SMALL(IF('بيانات اساسية'!$AL$6:$AL$306=\"معلم\",ROW(B$7:B$306)-ROW(B$7)+1),ROWS($A$3:B242))),\"\")","v":""},{"$f":"IFERROR(INDEX('بيانات اساسية'!C$6:C$306,SMALL(IF('بيانات اساسية'!$AL$6:$AL$306=\"معلم\",ROW(C$7:C$306)-ROW(C$7)+1),ROWS($A$3:C242))),\"\")","v":""},{"$f":"IFERROR(INDEX('بيانات اساسية'!AF$6:AF$306,SMALL(IF('بيانات اساسية'!$AL$6:$AL$306=\"معلم\",ROW(D$7:D$306)-ROW(D$7)+1),ROWS($A$3:D242))),\"\")","v":""},{"$f":"IFERROR(INDEX('بيانات اساسية'!AH$6:AH$306,SMALL(IF('بيانات اساسية'!$AL$6:$AL$306=\"معلم\",ROW(E$7:E$306)-ROW(E$7)+1),ROWS($A$3:E242))),\"\")","v":""},{"$f":"IFERROR(INDEX('بيانات اساسية'!AI$6:AI$306,SMALL(IF('بيانات اساسية'!$AL$6:$AL$306=\"معلم\",ROW(F$7:F$306)-ROW(F$7)+1),ROWS($A$3:F242))),\"\")","v":""},{"$f":"IFERROR(INDEX('بيانات اساسية'!AJ$6:AJ$306,SMALL(IF('بيانات اساسية'!$AL$6:$AL$306=\"معلم\",ROW(G$7:G$306)-ROW(G$7)+1),ROWS($A$3:G242))),\"\")","v":""},{"$f":"IFERROR(INDEX('بيانات اساسية'!AK$6:AK$306,SMALL(IF('بيانات اساسية'!$AL$6:$AL$306=\"معلم\",ROW(H$7:H$306)-ROW(H$7)+1),ROWS($A$3:H242))),\"\")","v":""}]
[{"$f":"IF(B244=\"\",\"\",SUBTOTAL(3,B$4:B244))","v":""},{"$f":"IFERROR(INDEX('بيانات اساسية'!B$6:B$306,SMALL(IF('بيانات اساسية'!$AL$6:$AL$306=\"معلم\",ROW(B$7:B$306)-ROW(B$7)+1),ROWS($A$3:B243))),\"\")","v":""},{"$f":"IFERROR(INDEX('بيانات اساسية'!C$6:C$306,SMALL(IF('بيانات اساسية'!$AL$6:$AL$306=\"معلم\",ROW(C$7:C$306)-ROW(C$7)+1),ROWS($A$3:C243))),\"\")","v":""},{"$f":"IFERROR(INDEX('بيانات اساسية'!AF$6:AF$306,SMALL(IF('بيانات اساسية'!$AL$6:$AL$306=\"معلم\",ROW(D$7:D$306)-ROW(D$7)+1),ROWS($A$3:D243))),\"\")","v":""},{"$f":"IFERROR(INDEX('بيانات اساسية'!AH$6:AH$306,SMALL(IF('بيانات اساسية'!$AL$6:$AL$306=\"معلم\",ROW(E$7:E$306)-ROW(E$7)+1),ROWS($A$3:E243))),\"\")","v":""},{"$f":"IFERROR(INDEX('بيانات اساسية'!AI$6:AI$306,SMALL(IF('بيانات اساسية'!$AL$6:$AL$306=\"معلم\",ROW(F$7:F$306)-ROW(F$7)+1),ROWS($A$3:F243))),\"\")","v":""},{"$f":"IFERROR(INDEX('بيانات اساسية'!AJ$6:AJ$306,SMALL(IF('بيانات اساسية'!$AL$6:$AL$306=\"معلم\",ROW(G$7:G$306)-ROW(G$7)+1),ROWS($A$3:G243))),\"\")","v":""},{"$f":"IFERROR(INDEX('بيانات اساسية'!AK$6:AK$306,SMALL(IF('بيانات اساسية'!$AL$6:$AL$306=\"معلم\",ROW(H$7:H$306)-ROW(H$7)+1),ROWS($A$3:H243))),\"\")","v":""}]
[{"$f":"IF(B245=\"\",\"\",SUBTOTAL(3,B$4:B245))","v":""},{"$f":"IFERROR(INDEX('بيانات اساسية'!B$6:B$306,SMALL(IF('بيانات اساسية'!$AL$6:$AL$306=\"معلم\",ROW(B$7:B$306)-ROW(B$7)+1),ROWS($A$3:B244))),\"\")","v":""},{"$f":"IFERROR(INDEX('بيانات اساسية'!C$6:C$306,SMALL(IF('بيانات اساسية'!$AL$6:$AL$306=\"معلم\",ROW(C$7:C$306)-ROW(C$7)+1),ROWS($A$3:C244))),\"\")","v":""},{"$f":"IFERROR(INDEX('بيانات اساسية'!AF$6:AF$306,SMALL(IF('بيانات اساسية'!$AL$6:$AL$306=\"معلم\",ROW(D$7:D$306)-ROW(D$7)+1),ROWS($A$3:D244))),\"\")","v":""},{"$f":"IFERROR(INDEX('بيانات اساسية'!AH$6:AH$306,SMALL(IF('بيانات اساسية'!$AL$6:$AL$306=\"معلم\",ROW(E$7:E$306)-ROW(E$7)+1),ROWS($A$3:E244))),\"\")","v":""},{"$f":"IFERROR(INDEX('بيانات اساسية'!AI$6:AI$306,SMALL(IF('بيانات اساسية'!$AL$6:$AL$306=\"معلم\",ROW(F$7:F$306)-ROW(F$7)+1),ROWS($A$3:F244))),\"\")","v":""},{"$f":"IFERROR(INDEX('بيانات اساسية'!AJ$6:AJ$306,SMALL(IF('بيانات اساسية'!$AL$6:$AL$306=\"معلم\",ROW(G$7:G$306)-ROW(G$7)+1),ROWS($A$3:G244))),\"\")","v":""},{"$f":"IFERROR(INDEX('بيانات اساسية'!AK$6:AK$306,SMALL(IF('بيانات اساسية'!$AL$6:$AL$306=\"معلم\",ROW(H$7:H$306)-ROW(H$7)+1),ROWS($A$3:H244))),\"\")","v":""}]
[{"$f":"IF(B246=\"\",\"\",SUBTOTAL(3,B$4:B246))","v":""},{"$f":"IFERROR(INDEX('بيانات اساسية'!B$6:B$306,SMALL(IF('بيانات اساسية'!$AL$6:$AL$306=\"معلم\",ROW(B$7:B$306)-ROW(B$7)+1),ROWS($A$3:B245))),\"\")","v":""},{"$f":"IFERROR(INDEX('بيانات اساسية'!C$6:C$306,SMALL(IF('بيانات اساسية'!$AL$6:$AL$306=\"معلم\",ROW(C$7:C$306)-ROW(C$7)+1),ROWS($A$3:C245))),\"\")","v":""},{"$f":"IFERROR(INDEX('بيانات اساسية'!AF$6:AF$306,SMALL(IF('بيانات اساسية'!$AL$6:$AL$306=\"معلم\",ROW(D$7:D$306)-ROW(D$7)+1),ROWS($A$3:D245))),\"\")","v":""},{"$f":"IFERROR(INDEX('بيانات اساسية'!AH$6:AH$306,SMALL(IF('بيانات اساسية'!$AL$6:$AL$306=\"معلم\",ROW(E$7:E$306)-ROW(E$7)+1),ROWS($A$3:E245))),\"\")","v":""},{"$f":"IFERROR(INDEX('بيانات اساسية'!AI$6:AI$306,SMALL(IF('بيانات اساسية'!$AL$6:$AL$306=\"معلم\",ROW(F$7:F$306)-ROW(F$7)+1),ROWS($A$3:F245))),\"\")","v":""},{"$f":"IFERROR(INDEX('بيانات اساسية'!AJ$6:AJ$306,SMALL(IF('بيانات اساسية'!$AL$6:$AL$306=\"معلم\",ROW(G$7:G$306)-ROW(G$7)+1),ROWS($A$3:G245))),\"\")","v":""},{"$f":"IFERROR(INDEX('بيانات اساسية'!AK$6:AK$306,SMALL(IF('بيانات اساسية'!$AL$6:$AL$306=\"معلم\",ROW(H$7:H$306)-ROW(H$7)+1),ROWS($A$3:H245))),\"\")","v":""}]
[{"$f":"IF(B247=\"\",\"\",SUBTOTAL(3,B$4:B247))","v":""},{"$f":"IFERROR(INDEX('بيانات اساسية'!B$6:B$306,SMALL(IF('بيانات اساسية'!$AL$6:$AL$306=\"معلم\",ROW(B$7:B$306)-ROW(B$7)+1),ROWS($A$3:B246))),\"\")","v":""},{"$f":"IFERROR(INDEX('بيانات اساسية'!C$6:C$306,SMALL(IF('بيانات اساسية'!$AL$6:$AL$306=\"معلم\",ROW(C$7:C$306)-ROW(C$7)+1),ROWS($A$3:C246))),\"\")","v":""},{"$f":"IFERROR(INDEX('بيانات اساسية'!AF$6:AF$306,SMALL(IF('بيانات اساسية'!$AL$6:$AL$306=\"معلم\",ROW(D$7:D$306)-ROW(D$7)+1),ROWS($A$3:D246))),\"\")","v":""},{"$f":"IFERROR(INDEX('بيانات اساسية'!AH$6:AH$306,SMALL(IF('بيانات اساسية'!$AL$6:$AL$306=\"معلم\",ROW(E$7:E$306)-ROW(E$7)+1),ROWS($A$3:E246))),\"\")","v":""},{"$f":"IFERROR(INDEX('بيانات اساسية'!AI$6:AI$306,SMALL(IF('بيانات اساسية'!$AL$6:$AL$306=\"معلم\",ROW(F$7:F$306)-ROW(F$7)+1),ROWS($A$3:F246))),\"\")","v":""},{"$f":"IFERROR(INDEX('بيانات اساسية'!AJ$6:AJ$306,SMALL(IF('بيانات اساسية'!$AL$6:$AL$306=\"معلم\",ROW(G$7:G$306)-ROW(G$7)+1),ROWS($A$3:G246))),\"\")","v":""},{"$f":"IFERROR(INDEX('بيانات اساسية'!AK$6:AK$306,SMALL(IF('بيانات اساسية'!$AL$6:$AL$306=\"معلم\",ROW(H$7:H$306)-ROW(H$7)+1),ROWS($A$3:H246))),\"\")","v":""}]
[{"$f":"IF(B248=\"\",\"\",SUBTOTAL(3,B$4:B248))","v":""},{"$f":"IFERROR(INDEX('بيانات اساسية'!B$6:B$306,SMALL(IF('بيانات اساسية'!$AL$6:$AL$306=\"معلم\",ROW(B$7:B$306)-ROW(B$7)+1),ROWS($A$3:B247))),\"\")","v":""},{"$f":"IFERROR(INDEX('بيانات اساسية'!C$6:C$306,SMALL(IF('بيانات اساسية'!$AL$6:$AL$306=\"معلم\",ROW(C$7:C$306)-ROW(C$7)+1),ROWS($A$3:C247))),\"\")","v":""},{"$f":"IFERROR(INDEX('بيانات اساسية'!AF$6:AF$306,SMALL(IF('بيانات اساسية'!$AL$6:$AL$306=\"معلم\",ROW(D$7:D$306)-ROW(D$7)+1),ROWS($A$3:D247))),\"\")","v":""},{"$f":"IFERROR(INDEX('بيانات اساسية'!AH$6:AH$306,SMALL(IF('بيانات اساسية'!$AL$6:$AL$306=\"معلم\",ROW(E$7:E$306)-ROW(E$7)+1),ROWS($A$3:E247))),\"\")","v":""},{"$f":"IFERROR(INDEX('بيانات اساسية'!AI$6:AI$306,SMALL(IF('بيانات اساسية'!$AL$6:$AL$306=\"معلم\",ROW(F$7:F$306)-ROW(F$7)+1),ROWS($A$3:F247))),\"\")","v":""},{"$f":"IFERROR(INDEX('بيانات اساسية'!AJ$6:AJ$306,SMALL(IF('بيانات اساسية'!$AL$6:$AL$306=\"معلم\",ROW(G$7:G$306)-ROW(G$7)+1),ROWS($A$3:G247))),\"\")","v":""},{"$f":"IFERROR(INDEX('بيانات اساسية'!AK$6:AK$306,SMALL(IF('بيانات اساسية'!$AL$6:$AL$306=\"معلم\",ROW(H$7:H$306)-ROW(H$7)+1),ROWS($A$3:H247))),\"\")","v":""}]
[{"$f":"IF(B249=\"\",\"\",SUBTOTAL(3,B$4:B249))","v":""},{"$f":"IFERROR(INDEX('بيانات اساسية'!B$6:B$306,SMALL(IF('بيانات اساسية'!$AL$6:$AL$306=\"معلم\",ROW(B$7:B$306)-ROW(B$7)+1),ROWS($A$3:B248))),\"\")","v":""},{"$f":"IFERROR(INDEX('بيانات اساسية'!C$6:C$306,SMALL(IF('بيانات اساسية'!$AL$6:$AL$306=\"معلم\",ROW(C$7:C$306)-ROW(C$7)+1),ROWS($A$3:C248))),\"\")","v":""},{"$f":"IFERROR(INDEX('بيانات اساسية'!AF$6:AF$306,SMALL(IF('بيانات اساسية'!$AL$6:$AL$306=\"معلم\",ROW(D$7:D$306)-ROW(D$7)+1),ROWS($A$3:D248))),\"\")","v":""},{"$f":"IFERROR(INDEX('بيانات اساسية'!AH$6:AH$306,SMALL(IF('بيانات اساسية'!$AL$6:$AL$306=\"معلم\",ROW(E$7:E$306)-ROW(E$7)+1),ROWS($A$3:E248))),\"\")","v":""},{"$f":"IFERROR(INDEX('بيانات اساسية'!AI$6:AI$306,SMALL(IF('بيانات اساسية'!$AL$6:$AL$306=\"معلم\",ROW(F$7:F$306)-ROW(F$7)+1),ROWS($A$3:F248))),\"\")","v":""},{"$f":"IFERROR(INDEX('بيانات اساسية'!AJ$6:AJ$306,SMALL(IF('بيانات اساسية'!$AL$6:$AL$306=\"معلم\",ROW(G$7:G$306)-ROW(G$7)+1),ROWS($A$3:G248))),\"\")","v":""},{"$f":"IFERROR(INDEX('بيانات اساسية'!AK$6:AK$306,SMALL(IF('بيانات اساسية'!$AL$6:$AL$306=\"معلم\",ROW(H$7:H$306)-ROW(H$7)+1),ROWS($A$3:H248))),\"\")","v":""}]
[{"$f":"IF(B250=\"\",\"\",SUBTOTAL(3,B$4:B250))","v":""},{"$f":"IFERROR(INDEX('بيانات اساسية'!B$6:B$306,SMALL(IF('بيانات اساسية'!$AL$6:$AL$306=\"معلم\",ROW(B$7:B$306)-ROW(B$7)+1),ROWS($A$3:B249))),\"\")","v":""},{"$f":"IFERROR(INDEX('بيانات اساسية'!C$6:C$306,SMALL(IF('بيانات اساسية'!$AL$6:$AL$306=\"معلم\",ROW(C$7:C$306)-ROW(C$7)+1),ROWS($A$3:C249))),\"\")","v":""},{"$f":"IFERROR(INDEX('بيانات اساسية'!AF$6:AF$306,SMALL(IF('بيانات اساسية'!$AL$6:$AL$306=\"معلم\",ROW(D$7:D$306)-ROW(D$7)+1),ROWS($A$3:D249))),\"\")","v":""},{"$f":"IFERROR(INDEX('بيانات اساسية'!AH$6:AH$306,SMALL(IF('بيانات اساسية'!$AL$6:$AL$306=\"معلم\",ROW(E$7:E$306)-ROW(E$7)+1),ROWS($A$3:E249))),\"\")","v":""},{"$f":"IFERROR(INDEX('بيانات اساسية'!AI$6:AI$306,SMALL(IF('بيانات اساسية'!$AL$6:$AL$306=\"معلم\",ROW(F$7:F$306)-ROW(F$7)+1),ROWS($A$3:F249))),\"\")","v":""},{"$f":"IFERROR(INDEX('بيانات اساسية'!AJ$6:AJ$306,SMALL(IF('بيانات اساسية'!$AL$6:$AL$306=\"معلم\",ROW(G$7:G$306)-ROW(G$7)+1),ROWS($A$3:G249))),\"\")","v":""},{"$f":"IFERROR(INDEX('بيانات اساسية'!AK$6:AK$306,SMALL(IF('بيانات اساسية'!$AL$6:$AL$306=\"معلم\",ROW(H$7:H$306)-ROW(H$7)+1),ROWS($A$3:H249))),\"\")","v":""}]
[{"$f":"IF(B251=\"\",\"\",SUBTOTAL(3,B$4:B251))","v":""},{"$f":"IFERROR(INDEX('بيانات اساسية'!B$6:B$306,SMALL(IF('بيانات اساسية'!$AL$6:$AL$306=\"معلم\",ROW(B$7:B$306)-ROW(B$7)+1),ROWS($A$3:B250))),\"\")","v":""},{"$f":"IFERROR(INDEX('بيانات اساسية'!C$6:C$306,SMALL(IF('بيانات اساسية'!$AL$6:$AL$306=\"معلم\",ROW(C$7:C$306)-ROW(C$7)+1),ROWS($A$3:C250))),\"\")","v":""},{"$f":"IFERROR(INDEX('بيانات اساسية'!AF$6:AF$306,SMALL(IF('بيانات اساسية'!$AL$6:$AL$306=\"معلم\",ROW(D$7:D$306)-ROW(D$7)+1),ROWS($A$3:D250))),\"\")","v":""},{"$f":"IFERROR(INDEX('بيانات اساسية'!AH$6:AH$306,SMALL(IF('بيانات اساسية'!$AL$6:$AL$306=\"معلم\",ROW(E$7:E$306)-ROW(E$7)+1),ROWS($A$3:E250))),\"\")","v":""},{"$f":"IFERROR(INDEX('بيانات اساسية'!AI$6:AI$306,SMALL(IF('بيانات اساسية'!$AL$6:$AL$306=\"معلم\",ROW(F$7:F$306)-ROW(F$7)+1),ROWS($A$3:F250))),\"\")","v":""},{"$f":"IFERROR(INDEX('بيانات اساسية'!AJ$6:AJ$306,SMALL(IF('بيانات اساسية'!$AL$6:$AL$306=\"معلم\",ROW(G$7:G$306)-ROW(G$7)+1),ROWS($A$3:G250))),\"\")","v":""},{"$f":"IFERROR(INDEX('بيانات اساسية'!AK$6:AK$306,SMALL(IF('بيانات اساسية'!$AL$6:$AL$306=\"معلم\",ROW(H$7:H$306)-ROW(H$7)+1),ROWS($A$3:H250))),\"\")","v":""}]
[{"$f":"IF(B252=\"\",\"\",SUBTOTAL(3,B$4:B252))","v":""},{"$f":"IFERROR(INDEX('بيانات اساسية'!B$6:B$306,SMALL(IF('بيانات اساسية'!$AL$6:$AL$306=\"معلم\",ROW(B$7:B$306)-ROW(B$7)+1),ROWS($A$3:B251))),\"\")","v":""},{"$f":"IFERROR(INDEX('بيانات اساسية'!C$6:C$306,SMALL(IF('بيانات اساسية'!$AL$6:$AL$306=\"معلم\",ROW(C$7:C$306)-ROW(C$7)+1),ROWS($A$3:C251))),\"\")","v":""},{"$f":"IFERROR(INDEX('بيانات اساسية'!AF$6:AF$306,SMALL(IF('بيانات اساسية'!$AL$6:$AL$306=\"معلم\",ROW(D$7:D$306)-ROW(D$7)+1),ROWS($A$3:D251))),\"\")","v":""},{"$f":"IFERROR(INDEX('بيانات اساسية'!AH$6:AH$306,SMALL(IF('بيانات اساسية'!$AL$6:$AL$306=\"معلم\",ROW(E$7:E$306)-ROW(E$7)+1),ROWS($A$3:E251))),\"\")","v":""},{"$f":"IFERROR(INDEX('بيانات اساسية'!AI$6:AI$306,SMALL(IF('بيانات اساسية'!$AL$6:$AL$306=\"معلم\",ROW(F$7:F$306)-ROW(F$7)+1),ROWS($A$3:F251))),\"\")","v":""},{"$f":"IFERROR(INDEX('بيانات اساسية'!AJ$6:AJ$306,SMALL(IF('بيانات اساسية'!$AL$6:$AL$306=\"معلم\",ROW(G$7:G$306)-ROW(G$7)+1),ROWS($A$3:G251))),\"\")","v":""},{"$f":"IFERROR(INDEX('بيانات اساسية'!AK$6:AK$306,SMALL(IF('بيانات اساسية'!$AL$6:$AL$306=\"معلم\",ROW(H$7:H$306)-ROW(H$7)+1),ROWS($A$3:H251))),\"\")","v":""}]
[{"$f":"IF(B253=\"\",\"\",SUBTOTAL(3,B$4:B253))","v":""},{"$f":"IFERROR(INDEX('بيانات اساسية'!B$6:B$306,SMALL(IF('بيانات اساسية'!$AL$6:$AL$306=\"معلم\",ROW(B$7:B$306)-ROW(B$7)+1),ROWS($A$3:B252))),\"\")","v":""},{"$f":"IFERROR(INDEX('بيانات اساسية'!C$6:C$306,SMALL(IF('بيانات اساسية'!$AL$6:$AL$306=\"معلم\",ROW(C$7:C$306)-ROW(C$7)+1),ROWS($A$3:C252))),\"\")","v":""},{"$f":"IFERROR(INDEX('بيانات اساسية'!AF$6:AF$306,SMALL(IF('بيانات اساسية'!$AL$6:$AL$306=\"معلم\",ROW(D$7:D$306)-ROW(D$7)+1),ROWS($A$3:D252))),\"\")","v":""},{"$f":"IFERROR(INDEX('بيانات اساسية'!AH$6:AH$306,SMALL(IF('بيانات اساسية'!$AL$6:$AL$306=\"معلم\",ROW(E$7:E$306)-ROW(E$7)+1),ROWS($A$3:E252))),\"\")","v":""},{"$f":"IFERROR(INDEX('بيانات اساسية'!AI$6:AI$306,SMALL(IF('بيانات اساسية'!$AL$6:$AL$306=\"معلم\",ROW(F$7:F$306)-ROW(F$7)+1),ROWS($A$3:F252))),\"\")","v":""},{"$f":"IFERROR(INDEX('بيانات اساسية'!AJ$6:AJ$306,SMALL(IF('بيانات اساسية'!$AL$6:$AL$306=\"معلم\",ROW(G$7:G$306)-ROW(G$7)+1),ROWS($A$3:G252))),\"\")","v":""},{"$f":"IFERROR(INDEX('بيانات اساسية'!AK$6:AK$306,SMALL(IF('بيانات اساسية'!$AL$6:$AL$306=\"معلم\",ROW(H$7:H$306)-ROW(H$7)+1),ROWS($A$3:H252))),\"\")","v":""}]
[{"$f":"IF(B254=\"\",\"\",SUBTOTAL(3,B$4:B254))","v":""},{"$f":"IFERROR(INDEX('بيانات اساسية'!B$6:B$306,SMALL(IF('بيانات اساسية'!$AL$6:$AL$306=\"معلم\",ROW(B$7:B$306)-ROW(B$7)+1),ROWS($A$3:B253))),\"\")","v":""},{"$f":"IFERROR(INDEX('بيانات اساسية'!C$6:C$306,SMALL(IF('بيانات اساسية'!$AL$6:$AL$306=\"معلم\",ROW(C$7:C$306)-ROW(C$7)+1),ROWS($A$3:C253))),\"\")","v":""},{"$f":"IFERROR(INDEX('بيانات اساسية'!AF$6:AF$306,SMALL(IF('بيانات اساسية'!$AL$6:$AL$306=\"معلم\",ROW(D$7:D$306)-ROW(D$7)+1),ROWS($A$3:D253))),\"\")","v":""},{"$f":"IFERROR(INDEX('بيانات اساسية'!AH$6:AH$306,SMALL(IF('بيانات اساسية'!$AL$6:$AL$306=\"معلم\",ROW(E$7:E$306)-ROW(E$7)+1),ROWS($A$3:E253))),\"\")","v":""},{"$f":"IFERROR(INDEX('بيانات اساسية'!AI$6:AI$306,SMALL(IF('بيانات اساسية'!$AL$6:$AL$306=\"معلم\",ROW(F$7:F$306)-ROW(F$7)+1),ROWS($A$3:F253))),\"\")","v":""},{"$f":"IFERROR(INDEX('بيانات اساسية'!AJ$6:AJ$306,SMALL(IF('بيانات اساسية'!$AL$6:$AL$306=\"معلم\",ROW(G$7:G$306)-ROW(G$7)+1),ROWS($A$3:G253))),\"\")","v":""},{"$f":"IFERROR(INDEX('بيانات اساسية'!AK$6:AK$306,SMALL(IF('بيانات اساسية'!$AL$6:$AL$306=\"معلم\",ROW(H$7:H$306)-ROW(H$7)+1),ROWS($A$3:H253))),\"\")","v":""}]
[{"$f":"IF(B255=\"\",\"\",SUBTOTAL(3,B$4:B255))","v":""},{"$f":"IFERROR(INDEX('بيانات اساسية'!B$6:B$306,SMALL(IF('بيانات اساسية'!$AL$6:$AL$306=\"معلم\",ROW(B$7:B$306)-ROW(B$7)+1),ROWS($A$3:B254))),\"\")","v":""},{"$f":"IFERROR(INDEX('بيانات اساسية'!C$6:C$306,SMALL(IF('بيانات اساسية'!$AL$6:$AL$306=\"معلم\",ROW(C$7:C$306)-ROW(C$7)+1),ROWS($A$3:C254))),\"\")","v":""},{"$f":"IFERROR(INDEX('بيانات اساسية'!AF$6:AF$306,SMALL(IF('بيانات اساسية'!$AL$6:$AL$306=\"معلم\",ROW(D$7:D$306)-ROW(D$7)+1),ROWS($A$3:D254))),\"\")","v":""},{"$f":"IFERROR(INDEX('بيانات اساسية'!AH$6:AH$306,SMALL(IF('بيانات اساسية'!$AL$6:$AL$306=\"معلم\",ROW(E$7:E$306)-ROW(E$7)+1),ROWS($A$3:E254))),\"\")","v":""},{"$f":"IFERROR(INDEX('بيانات اساسية'!AI$6:AI$306,SMALL(IF('بيانات اساسية'!$AL$6:$AL$306=\"معلم\",ROW(F$7:F$306)-ROW(F$7)+1),ROWS($A$3:F254))),\"\")","v":""},{"$f":"IFERROR(INDEX('بيانات اساسية'!AJ$6:AJ$306,SMALL(IF('بيانات اساسية'!$AL$6:$AL$306=\"معلم\",ROW(G$7:G$306)-ROW(G$7)+1),ROWS($A$3:G254))),\"\")","v":""},{"$f":"IFERROR(INDEX('بيانات اساسية'!AK$6:AK$306,SMALL(IF('بيانات اساسية'!$AL$6:$AL$306=\"معلم\",ROW(H$7:H$306)-ROW(H$7)+1),ROWS($A$3:H254))),\"\")","v":""}]
[{"$f":"IF(B256=\"\",\"\",SUBTOTAL(3,B$4:B256))","v":""},{"$f":"IFERROR(INDEX('بيانات اساسية'!B$6:B$306,SMALL(IF('بيانات اساسية'!$AL$6:$AL$306=\"معلم\",ROW(B$7:B$306)-ROW(B$7)+1),ROWS($A$3:B255))),\"\")","v":""},{"$f":"IFERROR(INDEX('بيانات اساسية'!C$6:C$306,SMALL(IF('بيانات اساسية'!$AL$6:$AL$306=\"معلم\",ROW(C$7:C$306)-ROW(C$7)+1),ROWS($A$3:C255))),\"\")","v":""},{"$f":"IFERROR(INDEX('بيانات اساسية'!AF$6:AF$306,SMALL(IF('بيانات اساسية'!$AL$6:$AL$306=\"معلم\",ROW(D$7:D$306)-ROW(D$7)+1),ROWS($A$3:D255))),\"\")","v":""},{"$f":"IFERROR(INDEX('بيانات اساسية'!AH$6:AH$306,SMALL(IF('بيانات اساسية'!$AL$6:$AL$306=\"معلم\",ROW(E$7:E$306)-ROW(E$7)+1),ROWS($A$3:E255))),\"\")","v":""},{"$f":"IFERROR(INDEX('بيانات اساسية'!AI$6:AI$306,SMALL(IF('بيانات اساسية'!$AL$6:$AL$306=\"معلم\",ROW(F$7:F$306)-ROW(F$7)+1),ROWS($A$3:F255))),\"\")","v":""},{"$f":"IFERROR(INDEX('بيانات اساسية'!AJ$6:AJ$306,SMALL(IF('بيانات اساسية'!$AL$6:$AL$306=\"معلم\",ROW(G$7:G$306)-ROW(G$7)+1),ROWS($A$3:G255))),\"\")","v":""},{"$f":"IFERROR(INDEX('بيانات اساسية'!AK$6:AK$306,SMALL(IF('بيانات اساسية'!$AL$6:$AL$306=\"معلم\",ROW(H$7:H$306)-ROW(H$7)+1),ROWS($A$3:H255))),\"\")","v":""}]
[{"$f":"IF(B257=\"\",\"\",SUBTOTAL(3,B$4:B257))","v":""},{"$f":"IFERROR(INDEX('بيانات اساسية'!B$6:B$306,SMALL(IF('بيانات اساسية'!$AL$6:$AL$306=\"معلم\",ROW(B$7:B$306)-ROW(B$7)+1),ROWS($A$3:B256))),\"\")","v":""},{"$f":"IFERROR(INDEX('بيانات اساسية'!C$6:C$306,SMALL(IF('بيانات اساسية'!$AL$6:$AL$306=\"معلم\",ROW(C$7:C$306)-ROW(C$7)+1),ROWS($A$3:C256))),\"\")","v":""},{"$f":"IFERROR(INDEX('بيانات اساسية'!AF$6:AF$306,SMALL(IF('بيانات اساسية'!$AL$6:$AL$306=\"معلم\",ROW(D$7:D$306)-ROW(D$7)+1),ROWS($A$3:D256))),\"\")","v":""},{"$f":"IFERROR(INDEX('بيانات اساسية'!AH$6:AH$306,SMALL(IF('بيانات اساسية'!$AL$6:$AL$306=\"معلم\",ROW(E$7:E$306)-ROW(E$7)+1),ROWS($A$3:E256))),\"\")","v":""},{"$f":"IFERROR(INDEX('بيانات اساسية'!AI$6:AI$306,SMALL(IF('بيانات اساسية'!$AL$6:$AL$306=\"معلم\",ROW(F$7:F$306)-ROW(F$7)+1),ROWS($A$3:F256))),\"\")","v":""},{"$f":"IFERROR(INDEX('بيانات اساسية'!AJ$6:AJ$306,SMALL(IF('بيانات اساسية'!$AL$6:$AL$306=\"معلم\",ROW(G$7:G$306)-ROW(G$7)+1),ROWS($A$3:G256))),\"\")","v":""},{"$f":"IFERROR(INDEX('بيانات اساسية'!AK$6:AK$306,SMALL(IF('بيانات اساسية'!$AL$6:$AL$306=\"معلم\",ROW(H$7:H$306)-ROW(H$7)+1),ROWS($A$3:H256))),\"\")","v":""}]
[{"$f":"IF(B258=\"\",\"\",SUBTOTAL(3,B$4:B258))","v":""},{"$f":"IFERROR(INDEX('بيانات اساسية'!B$6:B$306,SMALL(IF('بيانات اساسية'!$AL$6:$AL$306=\"معلم\",ROW(B$7:B$306)-ROW(B$7)+1),ROWS($A$3:B257))),\"\")","v":""},{"$f":"IFERROR(INDEX('بيانات اساسية'!C$6:C$306,SMALL(IF('بيانات اساسية'!$AL$6:$AL$306=\"معلم\",ROW(C$7:C$306)-ROW(C$7)+1),ROWS($A$3:C257))),\"\")","v":""},{"$f":"IFERROR(INDEX('بيانات اساسية'!AF$6:AF$306,SMALL(IF('بيانات اساسية'!$AL$6:$AL$306=\"معلم\",ROW(D$7:D$306)-ROW(D$7)+1),ROWS($A$3:D257))),\"\")","v":""},{"$f":"IFERROR(INDEX('بيانات اساسية'!AH$6:AH$306,SMALL(IF('بيانات اساسية'!$AL$6:$AL$306=\"معلم\",ROW(E$7:E$306)-ROW(E$7)+1),ROWS($A$3:E257))),\"\")","v":""},{"$f":"IFERROR(INDEX('بيانات اساسية'!AI$6:AI$306,SMALL(IF('بيانات اساسية'!$AL$6:$AL$306=\"معلم\",ROW(F$7:F$306)-ROW(F$7)+1),ROWS($A$3:F257))),\"\")","v":""},{"$f":"IFERROR(INDEX('بيانات اساسية'!AJ$6:AJ$306,SMALL(IF('بيانات اساسية'!$AL$6:$AL$306=\"معلم\",ROW(G$7:G$306)-ROW(G$7)+1),ROWS($A$3:G257))),\"\")","v":""},{"$f":"IFERROR(INDEX('بيانات اساسية'!AK$6:AK$306,SMALL(IF('بيانات اساسية'!$AL$6:$AL$306=\"معلم\",ROW(H$7:H$306)-ROW(H$7)+1),ROWS($A$3:H257))),\"\")","v":""}]
[{"$f":"IF(B259=\"\",\"\",SUBTOTAL(3,B$4:B259))","v":""},{"$f":"IFERROR(INDEX('بيانات اساسية'!B$6:B$306,SMALL(IF('بيانات اساسية'!$AL$6:$AL$306=\"معلم\",ROW(B$7:B$306)-ROW(B$7)+1),ROWS($A$3:B258))),\"\")","v":""},{"$f":"IFERROR(INDEX('بيانات اساسية'!C$6:C$306,SMALL(IF('بيانات اساسية'!$AL$6:$AL$306=\"معلم\",ROW(C$7:C$306)-ROW(C$7)+1),ROWS($A$3:C258))),\"\")","v":""},{"$f":"IFERROR(INDEX('بيانات اساسية'!AF$6:AF$306,SMALL(IF('بيانات اساسية'!$AL$6:$AL$306=\"معلم\",ROW(D$7:D$306)-ROW(D$7)+1),ROWS($A$3:D258))),\"\")","v":""},{"$f":"IFERROR(INDEX('بيانات اساسية'!AH$6:AH$306,SMALL(IF('بيانات اساسية'!$AL$6:$AL$306=\"معلم\",ROW(E$7:E$306)-ROW(E$7)+1),ROWS($A$3:E258))),\"\")","v":""},{"$f":"IFERROR(INDEX('بيانات اساسية'!AI$6:AI$306,SMALL(IF('بيانات اساسية'!$AL$6:$AL$306=\"معلم\",ROW(F$7:F$306)-ROW(F$7)+1),ROWS($A$3:F258))),\"\")","v":""},{"$f":"IFERROR(INDEX('بيانات اساسية'!AJ$6:AJ$306,SMALL(IF('بيانات اساسية'!$AL$6:$AL$306=\"معلم\",ROW(G$7:G$306)-ROW(G$7)+1),ROWS($A$3:G258))),\"\")","v":""},{"$f":"IFERROR(INDEX('بيانات اساسية'!AK$6:AK$306,SMALL(IF('بيانات اساسية'!$AL$6:$AL$306=\"معلم\",ROW(H$7:H$306)-ROW(H$7)+1),ROWS($A$3:H258))),\"\")","v":""}]
[{"$f":"IF(B260=\"\",\"\",SUBTOTAL(3,B$4:B260))","v":""},{"$f":"IFERROR(INDEX('بيانات اساسية'!B$6:B$306,SMALL(IF('بيانات اساسية'!$AL$6:$AL$306=\"معلم\",ROW(B$7:B$306)-ROW(B$7)+1),ROWS($A$3:B259))),\"\")","v":""},{"$f":"IFERROR(INDEX('بيانات اساسية'!C$6:C$306,SMALL(IF('بيانات اساسية'!$AL$6:$AL$306=\"معلم\",ROW(C$7:C$306)-ROW(C$7)+1),ROWS($A$3:C259))),\"\")","v":""},{"$f":"IFERROR(INDEX('بيانات اساسية'!AF$6:AF$306,SMALL(IF('بيانات اساسية'!$AL$6:$AL$306=\"معلم\",ROW(D$7:D$306)-ROW(D$7)+1),ROWS($A$3:D259))),\"\")","v":""},{"$f":"IFERROR(INDEX('بيانات اساسية'!AH$6:AH$306,SMALL(IF('بيانات اساسية'!$AL$6:$AL$306=\"معلم\",ROW(E$7:E$306)-ROW(E$7)+1),ROWS($A$3:E259))),\"\")","v":""},{"$f":"IFERROR(INDEX('بيانات اساسية'!AI$6:AI$306,SMALL(IF('بيانات اساسية'!$AL$6:$AL$306=\"معلم\",ROW(F$7:F$306)-ROW(F$7)+1),ROWS($A$3:F259))),\"\")","v":""},{"$f":"IFERROR(INDEX('بيانات اساسية'!AJ$6:AJ$306,SMALL(IF('بيانات اساسية'!$AL$6:$AL$306=\"معلم\",ROW(G$7:G$306)-ROW(G$7)+1),ROWS($A$3:G259))),\"\")","v":""},{"$f":"IFERROR(INDEX('بيانات اساسية'!AK$6:AK$306,SMALL(IF('بيانات اساسية'!$AL$6:$AL$306=\"معلم\",ROW(H$7:H$306)-ROW(H$7)+1),ROWS($A$3:H259))),\"\")","v":""}]
[{"$f":"IF(B261=\"\",\"\",SUBTOTAL(3,B$4:B261))","v":""},{"$f":"IFERROR(INDEX('بيانات اساسية'!B$6:B$306,SMALL(IF('بيانات اساسية'!$AL$6:$AL$306=\"معلم\",ROW(B$7:B$306)-ROW(B$7)+1),ROWS($A$3:B260))),\"\")","v":""},{"$f":"IFERROR(INDEX('بيانات اساسية'!C$6:C$306,SMALL(IF('بيانات اساسية'!$AL$6:$AL$306=\"معلم\",ROW(C$7:C$306)-ROW(C$7)+1),ROWS($A$3:C260))),\"\")","v":""},{"$f":"IFERROR(INDEX('بيانات اساسية'!AF$6:AF$306,SMALL(IF('بيانات اساسية'!$AL$6:$AL$306=\"معلم\",ROW(D$7:D$306)-ROW(D$7)+1),ROWS($A$3:D260))),\"\")","v":""},{"$f":"IFERROR(INDEX('بيانات اساسية'!AH$6:AH$306,SMALL(IF('بيانات اساسية'!$AL$6:$AL$306=\"معلم\",ROW(E$7:E$306)-ROW(E$7)+1),ROWS($A$3:E260))),\"\")","v":""},{"$f":"IFERROR(INDEX('بيانات اساسية'!AI$6:AI$306,SMALL(IF('بيانات اساسية'!$AL$6:$AL$306=\"معلم\",ROW(F$7:F$306)-ROW(F$7)+1),ROWS($A$3:F260))),\"\")","v":""},{"$f":"IFERROR(INDEX('بيانات اساسية'!AJ$6:AJ$306,SMALL(IF('بيانات اساسية'!$AL$6:$AL$306=\"معلم\",ROW(G$7:G$306)-ROW(G$7)+1),ROWS($A$3:G260))),\"\")","v":""},{"$f":"IFERROR(INDEX('بيانات اساسية'!AK$6:AK$306,SMALL(IF('بيانات اساسية'!$AL$6:$AL$306=\"معلم\",ROW(H$7:H$306)-ROW(H$7)+1),ROWS($A$3:H260))),\"\")","v":""}]
[{"$f":"IF(B262=\"\",\"\",SUBTOTAL(3,B$4:B262))","v":""},{"$f":"IFERROR(INDEX('بيانات اساسية'!B$6:B$306,SMALL(IF('بيانات اساسية'!$AL$6:$AL$306=\"معلم\",ROW(B$7:B$306)-ROW(B$7)+1),ROWS($A$3:B261))),\"\")","v":""},{"$f":"IFERROR(INDEX('بيانات اساسية'!C$6:C$306,SMALL(IF('بيانات اساسية'!$AL$6:$AL$306=\"معلم\",ROW(C$7:C$306)-ROW(C$7)+1),ROWS($A$3:C261))),\"\")","v":""},{"$f":"IFERROR(INDEX('بيانات اساسية'!AF$6:AF$306,SMALL(IF('بيانات اساسية'!$AL$6:$AL$306=\"معلم\",ROW(D$7:D$306)-ROW(D$7)+1),ROWS($A$3:D261))),\"\")","v":""},{"$f":"IFERROR(INDEX('بيانات اساسية'!AH$6:AH$306,SMALL(IF('بيانات اساسية'!$AL$6:$AL$306=\"معلم\",ROW(E$7:E$306)-ROW(E$7)+1),ROWS($A$3:E261))),\"\")","v":""},{"$f":"IFERROR(INDEX('بيانات اساسية'!AI$6:AI$306,SMALL(IF('بيانات اساسية'!$AL$6:$AL$306=\"معلم\",ROW(F$7:F$306)-ROW(F$7)+1),ROWS($A$3:F261))),\"\")","v":""},{"$f":"IFERROR(INDEX('بيانات اساسية'!AJ$6:AJ$306,SMALL(IF('بيانات اساسية'!$AL$6:$AL$306=\"معلم\",ROW(G$7:G$306)-ROW(G$7)+1),ROWS($A$3:G261))),\"\")","v":""},{"$f":"IFERROR(INDEX('بيانات اساسية'!AK$6:AK$306,SMALL(IF('بيانات اساسية'!$AL$6:$AL$306=\"معلم\",ROW(H$7:H$306)-ROW(H$7)+1),ROWS($A$3:H261))),\"\")","v":""}]
[{"$f":"IF(B263=\"\",\"\",SUBTOTAL(3,B$4:B263))","v":""},{"$f":"IFERROR(INDEX('بيانات اساسية'!B$6:B$306,SMALL(IF('بيانات اساسية'!$AL$6:$AL$306=\"معلم\",ROW(B$7:B$306)-ROW(B$7)+1),ROWS($A$3:B262))),\"\")","v":""},{"$f":"IFERROR(INDEX('بيانات اساسية'!C$6:C$306,SMALL(IF('بيانات اساسية'!$AL$6:$AL$306=\"معلم\",ROW(C$7:C$306)-ROW(C$7)+1),ROWS($A$3:C262))),\"\")","v":""},{"$f":"IFERROR(INDEX('بيانات اساسية'!AF$6:AF$306,SMALL(IF('بيانات اساسية'!$AL$6:$AL$306=\"معلم\",ROW(D$7:D$306)-ROW(D$7)+1),ROWS($A$3:D262))),\"\")","v":""},{"$f":"IFERROR(INDEX('بيانات اساسية'!AH$6:AH$306,SMALL(IF('بيانات اساسية'!$AL$6:$AL$306=\"معلم\",ROW(E$7:E$306)-ROW(E$7)+1),ROWS($A$3:E262))),\"\")","v":""},{"$f":"IFERROR(INDEX('بيانات اساسية'!AI$6:AI$306,SMALL(IF('بيانات اساسية'!$AL$6:$AL$306=\"معلم\",ROW(F$7:F$306)-ROW(F$7)+1),ROWS($A$3:F262))),\"\")","v":""},{"$f":"IFERROR(INDEX('بيانات اساسية'!AJ$6:AJ$306,SMALL(IF('بيانات اساسية'!$AL$6:$AL$306=\"معلم\",ROW(G$7:G$306)-ROW(G$7)+1),ROWS($A$3:G262))),\"\")","v":""},{"$f":"IFERROR(INDEX('بيانات اساسية'!AK$6:AK$306,SMALL(IF('بيانات اساسية'!$AL$6:$AL$306=\"معلم\",ROW(H$7:H$306)-ROW(H$7)+1),ROWS($A$3:H262))),\"\")","v":""}]
[{"$f":"IF(B264=\"\",\"\",SUBTOTAL(3,B$4:B264))","v":""},{"$f":"IFERROR(INDEX('بيانات اساسية'!B$6:B$306,SMALL(IF('بيانات اساسية'!$AL$6:$AL$306=\"معلم\",ROW(B$7:B$306)-ROW(B$7)+1),ROWS($A$3:B263))),\"\")","v":""},{"$f":"IFERROR(INDEX('بيانات اساسية'!C$6:C$306,SMALL(IF('بيانات اساسية'!$AL$6:$AL$306=\"معلم\",ROW(C$7:C$306)-ROW(C$7)+1),ROWS($A$3:C263))),\"\")","v":""},{"$f":"IFERROR(INDEX('بيانات اساسية'!AF$6:AF$306,SMALL(IF('بيانات اساسية'!$AL$6:$AL$306=\"معلم\",ROW(D$7:D$306)-ROW(D$7)+1),ROWS($A$3:D263))),\"\")","v":""},{"$f":"IFERROR(INDEX('بيانات اساسية'!AH$6:AH$306,SMALL(IF('بيانات اساسية'!$AL$6:$AL$306=\"معلم\",ROW(E$7:E$306)-ROW(E$7)+1),ROWS($A$3:E263))),\"\")","v":""},{"$f":"IFERROR(INDEX('بيانات اساسية'!AI$6:AI$306,SMALL(IF('بيانات اساسية'!$AL$6:$AL$306=\"معلم\",ROW(F$7:F$306)-ROW(F$7)+1),ROWS($A$3:F263))),\"\")","v":""},{"$f":"IFERROR(INDEX('بيانات اساسية'!AJ$6:AJ$306,SMALL(IF('بيانات اساسية'!$AL$6:$AL$306=\"معلم\",ROW(G$7:G$306)-ROW(G$7)+1),ROWS($A$3:G263))),\"\")","v":""},{"$f":"IFERROR(INDEX('بيانات اساسية'!AK$6:AK$306,SMALL(IF('بيانات اساسية'!$AL$6:$AL$306=\"معلم\",ROW(H$7:H$306)-ROW(H$7)+1),ROWS($A$3:H263))),\"\")","v":""}]
[{"$f":"IF(B265=\"\",\"\",SUBTOTAL(3,B$4:B265))","v":""},{"$f":"IFERROR(INDEX('بيانات اساسية'!B$6:B$306,SMALL(IF('بيانات اساسية'!$AL$6:$AL$306=\"معلم\",ROW(B$7:B$306)-ROW(B$7)+1),ROWS($A$3:B264))),\"\")","v":""},{"$f":"IFERROR(INDEX('بيانات اساسية'!C$6:C$306,SMALL(IF('بيانات اساسية'!$AL$6:$AL$306=\"معلم\",ROW(C$7:C$306)-ROW(C$7)+1),ROWS($A$3:C264))),\"\")","v":""},{"$f":"IFERROR(INDEX('بيانات اساسية'!AF$6:AF$306,SMALL(IF('بيانات اساسية'!$AL$6:$AL$306=\"معلم\",ROW(D$7:D$306)-ROW(D$7)+1),ROWS($A$3:D264))),\"\")","v":""},{"$f":"IFERROR(INDEX('بيانات اساسية'!AH$6:AH$306,SMALL(IF('بيانات اساسية'!$AL$6:$AL$306=\"معلم\",ROW(E$7:E$306)-ROW(E$7)+1),ROWS($A$3:E264))),\"\")","v":""},{"$f":"IFERROR(INDEX('بيانات اساسية'!AI$6:AI$306,SMALL(IF('بيانات اساسية'!$AL$6:$AL$306=\"معلم\",ROW(F$7:F$306)-ROW(F$7)+1),ROWS($A$3:F264))),\"\")","v":""},{"$f":"IFERROR(INDEX('بيانات اساسية'!AJ$6:AJ$306,SMALL(IF('بيانات اساسية'!$AL$6:$AL$306=\"معلم\",ROW(G$7:G$306)-ROW(G$7)+1),ROWS($A$3:G264))),\"\")","v":""},{"$f":"IFERROR(INDEX('بيانات اساسية'!AK$6:AK$306,SMALL(IF('بيانات اساسية'!$AL$6:$AL$306=\"معلم\",ROW(H$7:H$306)-ROW(H$7)+1),ROWS($A$3:H264))),\"\")","v":""}]
[{"$f":"IF(B266=\"\",\"\",SUBTOTAL(3,B$4:B266))","v":""},{"$f":"IFERROR(INDEX('بيانات اساسية'!B$6:B$306,SMALL(IF('بيانات اساسية'!$AL$6:$AL$306=\"معلم\",ROW(B$7:B$306)-ROW(B$7)+1),ROWS($A$3:B265))),\"\")","v":""},{"$f":"IFERROR(INDEX('بيانات اساسية'!C$6:C$306,SMALL(IF('بيانات اساسية'!$AL$6:$AL$306=\"معلم\",ROW(C$7:C$306)-ROW(C$7)+1),ROWS($A$3:C265))),\"\")","v":""},{"$f":"IFERROR(INDEX('بيانات اساسية'!AF$6:AF$306,SMALL(IF('بيانات اساسية'!$AL$6:$AL$306=\"معلم\",ROW(D$7:D$306)-ROW(D$7)+1),ROWS($A$3:D265))),\"\")","v":""},{"$f":"IFERROR(INDEX('بيانات اساسية'!AH$6:AH$306,SMALL(IF('بيانات اساسية'!$AL$6:$AL$306=\"معلم\",ROW(E$7:E$306)-ROW(E$7)+1),ROWS($A$3:E265))),\"\")","v":""},{"$f":"IFERROR(INDEX('بيانات اساسية'!AI$6:AI$306,SMALL(IF('بيانات اساسية'!$AL$6:$AL$306=\"معلم\",ROW(F$7:F$306)-ROW(F$7)+1),ROWS($A$3:F265))),\"\")","v":""},{"$f":"IFERROR(INDEX('بيانات اساسية'!AJ$6:AJ$306,SMALL(IF('بيانات اساسية'!$AL$6:$AL$306=\"معلم\",ROW(G$7:G$306)-ROW(G$7)+1),ROWS($A$3:G265))),\"\")","v":""},{"$f":"IFERROR(INDEX('بيانات اساسية'!AK$6:AK$306,SMALL(IF('بيانات اساسية'!$AL$6:$AL$306=\"معلم\",ROW(H$7:H$306)-ROW(H$7)+1),ROWS($A$3:H265))),\"\")","v":""}]
[{"$f":"IF(B267=\"\",\"\",SUBTOTAL(3,B$4:B267))","v":""},{"$f":"IFERROR(INDEX('بيانات اساسية'!B$6:B$306,SMALL(IF('بيانات اساسية'!$AL$6:$AL$306=\"معلم\",ROW(B$7:B$306)-ROW(B$7)+1),ROWS($A$3:B266))),\"\")","v":""},{"$f":"IFERROR(INDEX('بيانات اساسية'!C$6:C$306,SMALL(IF('بيانات اساسية'!$AL$6:$AL$306=\"معلم\",ROW(C$7:C$306)-ROW(C$7)+1),ROWS($A$3:C266))),\"\")","v":""},{"$f":"IFERROR(INDEX('بيانات اساسية'!AF$6:AF$306,SMALL(IF('بيانات اساسية'!$AL$6:$AL$306=\"معلم\",ROW(D$7:D$306)-ROW(D$7)+1),ROWS($A$3:D266))),\"\")","v":""},{"$f":"IFERROR(INDEX('بيانات اساسية'!AH$6:AH$306,SMALL(IF('بيانات اساسية'!$AL$6:$AL$306=\"معلم\",ROW(E$7:E$306)-ROW(E$7)+1),ROWS($A$3:E266))),\"\")","v":""},{"$f":"IFERROR(INDEX('بيانات اساسية'!AI$6:AI$306,SMALL(IF('بيانات اساسية'!$AL$6:$AL$306=\"معلم\",ROW(F$7:F$306)-ROW(F$7)+1),ROWS($A$3:F266))),\"\")","v":""},{"$f":"IFERROR(INDEX('بيانات اساسية'!AJ$6:AJ$306,SMALL(IF('بيانات اساسية'!$AL$6:$AL$306=\"معلم\",ROW(G$7:G$306)-ROW(G$7)+1),ROWS($A$3:G266))),\"\")","v":""},{"$f":"IFERROR(INDEX('بيانات اساسية'!AK$6:AK$306,SMALL(IF('بيانات اساسية'!$AL$6:$AL$306=\"معلم\",ROW(H$7:H$306)-ROW(H$7)+1),ROWS($A$3:H266))),\"\")","v":""}]
[{"$f":"IF(B268=\"\",\"\",SUBTOTAL(3,B$4:B268))","v":""},{"$f":"IFERROR(INDEX('بيانات اساسية'!B$6:B$306,SMALL(IF('بيانات اساسية'!$AL$6:$AL$306=\"معلم\",ROW(B$7:B$306)-ROW(B$7)+1),ROWS($A$3:B267))),\"\")","v":""},{"$f":"IFERROR(INDEX('بيانات اساسية'!C$6:C$306,SMALL(IF('بيانات اساسية'!$AL$6:$AL$306=\"معلم\",ROW(C$7:C$306)-ROW(C$7)+1),ROWS($A$3:C267))),\"\")","v":""},{"$f":"IFERROR(INDEX('بيانات اساسية'!AF$6:AF$306,SMALL(IF('بيانات اساسية'!$AL$6:$AL$306=\"معلم\",ROW(D$7:D$306)-ROW(D$7)+1),ROWS($A$3:D267))),\"\")","v":""},{"$f":"IFERROR(INDEX('بيانات اساسية'!AH$6:AH$306,SMALL(IF('بيانات اساسية'!$AL$6:$AL$306=\"معلم\",ROW(E$7:E$306)-ROW(E$7)+1),ROWS($A$3:E267))),\"\")","v":""},{"$f":"IFERROR(INDEX('بيانات اساسية'!AI$6:AI$306,SMALL(IF('بيانات اساسية'!$AL$6:$AL$306=\"معلم\",ROW(F$7:F$306)-ROW(F$7)+1),ROWS($A$3:F267))),\"\")","v":""},{"$f":"IFERROR(INDEX('بيانات اساسية'!AJ$6:AJ$306,SMALL(IF('بيانات اساسية'!$AL$6:$AL$306=\"معلم\",ROW(G$7:G$306)-ROW(G$7)+1),ROWS($A$3:G267))),\"\")","v":""},{"$f":"IFERROR(INDEX('بيانات اساسية'!AK$6:AK$306,SMALL(IF('بيانات اساسية'!$AL$6:$AL$306=\"معلم\",ROW(H$7:H$306)-ROW(H$7)+1),ROWS($A$3:H267))),\"\")","v":""}]
[{"$f":"IF(B269=\"\",\"\",SUBTOTAL(3,B$4:B269))","v":""},{"$f":"IFERROR(INDEX('بيانات اساسية'!B$6:B$306,SMALL(IF('بيانات اساسية'!$AL$6:$AL$306=\"معلم\",ROW(B$7:B$306)-ROW(B$7)+1),ROWS($A$3:B268))),\"\")","v":""},{"$f":"IFERROR(INDEX('بيانات اساسية'!C$6:C$306,SMALL(IF('بيانات اساسية'!$AL$6:$AL$306=\"معلم\",ROW(C$7:C$306)-ROW(C$7)+1),ROWS($A$3:C268))),\"\")","v":""},{"$f":"IFERROR(INDEX('بيانات اساسية'!AF$6:AF$306,SMALL(IF('بيانات اساسية'!$AL$6:$AL$306=\"معلم\",ROW(D$7:D$306)-ROW(D$7)+1),ROWS($A$3:D268))),\"\")","v":""},{"$f":"IFERROR(INDEX('بيانات اساسية'!AH$6:AH$306,SMALL(IF('بيانات اساسية'!$AL$6:$AL$306=\"معلم\",ROW(E$7:E$306)-ROW(E$7)+1),ROWS($A$3:E268))),\"\")","v":""},{"$f":"IFERROR(INDEX('بيانات اساسية'!AI$6:AI$306,SMALL(IF('بيانات اساسية'!$AL$6:$AL$306=\"معلم\",ROW(F$7:F$306)-ROW(F$7)+1),ROWS($A$3:F268))),\"\")","v":""},{"$f":"IFERROR(INDEX('بيانات اساسية'!AJ$6:AJ$306,SMALL(IF('بيانات اساسية'!$AL$6:$AL$306=\"معلم\",ROW(G$7:G$306)-ROW(G$7)+1),ROWS($A$3:G268))),\"\")","v":""},{"$f":"IFERROR(INDEX('بيانات اساسية'!AK$6:AK$306,SMALL(IF('بيانات اساسية'!$AL$6:$AL$306=\"معلم\",ROW(H$7:H$306)-ROW(H$7)+1),ROWS($A$3:H268))),\"\")","v":""}]
[{"$f":"IF(B270=\"\",\"\",SUBTOTAL(3,B$4:B270))","v":""},{"$f":"IFERROR(INDEX('بيانات اساسية'!B$6:B$306,SMALL(IF('بيانات اساسية'!$AL$6:$AL$306=\"معلم\",ROW(B$7:B$306)-ROW(B$7)+1),ROWS($A$3:B269))),\"\")","v":""},{"$f":"IFERROR(INDEX('بيانات اساسية'!C$6:C$306,SMALL(IF('بيانات اساسية'!$AL$6:$AL$306=\"معلم\",ROW(C$7:C$306)-ROW(C$7)+1),ROWS($A$3:C269))),\"\")","v":""},{"$f":"IFERROR(INDEX('بيانات اساسية'!AF$6:AF$306,SMALL(IF('بيانات اساسية'!$AL$6:$AL$306=\"معلم\",ROW(D$7:D$306)-ROW(D$7)+1),ROWS($A$3:D269))),\"\")","v":""},{"$f":"IFERROR(INDEX('بيانات اساسية'!AH$6:AH$306,SMALL(IF('بيانات اساسية'!$AL$6:$AL$306=\"معلم\",ROW(E$7:E$306)-ROW(E$7)+1),ROWS($A$3:E269))),\"\")","v":""},{"$f":"IFERROR(INDEX('بيانات اساسية'!AI$6:AI$306,SMALL(IF('بيانات اساسية'!$AL$6:$AL$306=\"معلم\",ROW(F$7:F$306)-ROW(F$7)+1),ROWS($A$3:F269))),\"\")","v":""},{"$f":"IFERROR(INDEX('بيانات اساسية'!AJ$6:AJ$306,SMALL(IF('بيانات اساسية'!$AL$6:$AL$306=\"معلم\",ROW(G$7:G$306)-ROW(G$7)+1),ROWS($A$3:G269))),\"\")","v":""},{"$f":"IFERROR(INDEX('بيانات اساسية'!AK$6:AK$306,SMALL(IF('بيانات اساسية'!$AL$6:$AL$306=\"معلم\",ROW(H$7:H$306)-ROW(H$7)+1),ROWS($A$3:H269))),\"\")","v":""}]
[{"$f":"IF(B271=\"\",\"\",SUBTOTAL(3,B$4:B271))","v":""},{"$f":"IFERROR(INDEX('بيانات اساسية'!B$6:B$306,SMALL(IF('بيانات اساسية'!$AL$6:$AL$306=\"معلم\",ROW(B$7:B$306)-ROW(B$7)+1),ROWS($A$3:B270))),\"\")","v":""},{"$f":"IFERROR(INDEX('بيانات اساسية'!C$6:C$306,SMALL(IF('بيانات اساسية'!$AL$6:$AL$306=\"معلم\",ROW(C$7:C$306)-ROW(C$7)+1),ROWS($A$3:C270))),\"\")","v":""},{"$f":"IFERROR(INDEX('بيانات اساسية'!AF$6:AF$306,SMALL(IF('بيانات اساسية'!$AL$6:$AL$306=\"معلم\",ROW(D$7:D$306)-ROW(D$7)+1),ROWS($A$3:D270))),\"\")","v":""},{"$f":"IFERROR(INDEX('بيانات اساسية'!AH$6:AH$306,SMALL(IF('بيانات اساسية'!$AL$6:$AL$306=\"معلم\",ROW(E$7:E$306)-ROW(E$7)+1),ROWS($A$3:E270))),\"\")","v":""},{"$f":"IFERROR(INDEX('بيانات اساسية'!AI$6:AI$306,SMALL(IF('بيانات اساسية'!$AL$6:$AL$306=\"معلم\",ROW(F$7:F$306)-ROW(F$7)+1),ROWS($A$3:F270))),\"\")","v":""},{"$f":"IFERROR(INDEX('بيانات اساسية'!AJ$6:AJ$306,SMALL(IF('بيانات اساسية'!$AL$6:$AL$306=\"معلم\",ROW(G$7:G$306)-ROW(G$7)+1),ROWS($A$3:G270))),\"\")","v":""},{"$f":"IFERROR(INDEX('بيانات اساسية'!AK$6:AK$306,SMALL(IF('بيانات اساسية'!$AL$6:$AL$306=\"معلم\",ROW(H$7:H$306)-ROW(H$7)+1),ROWS($A$3:H270))),\"\")","v":""}]
[{"$f":"IF(B272=\"\",\"\",SUBTOTAL(3,B$4:B272))","v":""},{"$f":"IFERROR(INDEX('بيانات اساسية'!B$6:B$306,SMALL(IF('بيانات اساسية'!$AL$6:$AL$306=\"معلم\",ROW(B$7:B$306)-ROW(B$7)+1),ROWS($A$3:B271))),\"\")","v":""},{"$f":"IFERROR(INDEX('بيانات اساسية'!C$6:C$306,SMALL(IF('بيانات اساسية'!$AL$6:$AL$306=\"معلم\",ROW(C$7:C$306)-ROW(C$7)+1),ROWS($A$3:C271))),\"\")","v":""},{"$f":"IFERROR(INDEX('بيانات اساسية'!AF$6:AF$306,SMALL(IF('بيانات اساسية'!$AL$6:$AL$306=\"معلم\",ROW(D$7:D$306)-ROW(D$7)+1),ROWS($A$3:D271))),\"\")","v":""},{"$f":"IFERROR(INDEX('بيانات اساسية'!AH$6:AH$306,SMALL(IF('بيانات اساسية'!$AL$6:$AL$306=\"معلم\",ROW(E$7:E$306)-ROW(E$7)+1),ROWS($A$3:E271))),\"\")","v":""},{"$f":"IFERROR(INDEX('بيانات اساسية'!AI$6:AI$306,SMALL(IF('بيانات اساسية'!$AL$6:$AL$306=\"معلم\",ROW(F$7:F$306)-ROW(F$7)+1),ROWS($A$3:F271))),\"\")","v":""},{"$f":"IFERROR(INDEX('بيانات اساسية'!AJ$6:AJ$306,SMALL(IF('بيانات اساسية'!$AL$6:$AL$306=\"معلم\",ROW(G$7:G$306)-ROW(G$7)+1),ROWS($A$3:G271))),\"\")","v":""},{"$f":"IFERROR(INDEX('بيانات اساسية'!AK$6:AK$306,SMALL(IF('بيانات اساسية'!$AL$6:$AL$306=\"معلم\",ROW(H$7:H$306)-ROW(H$7)+1),ROWS($A$3:H271))),\"\")","v":""}]
[{"$f":"IF(B273=\"\",\"\",SUBTOTAL(3,B$4:B273))","v":""},{"$f":"IFERROR(INDEX('بيانات اساسية'!B$6:B$306,SMALL(IF('بيانات اساسية'!$AL$6:$AL$306=\"معلم\",ROW(B$7:B$306)-ROW(B$7)+1),ROWS($A$3:B272))),\"\")","v":""},{"$f":"IFERROR(INDEX('بيانات اساسية'!C$6:C$306,SMALL(IF('بيانات اساسية'!$AL$6:$AL$306=\"معلم\",ROW(C$7:C$306)-ROW(C$7)+1),ROWS($A$3:C272))),\"\")","v":""},{"$f":"IFERROR(INDEX('بيانات اساسية'!AF$6:AF$306,SMALL(IF('بيانات اساسية'!$AL$6:$AL$306=\"معلم\",ROW(D$7:D$306)-ROW(D$7)+1),ROWS($A$3:D272))),\"\")","v":""},{"$f":"IFERROR(INDEX('بيانات اساسية'!AH$6:AH$306,SMALL(IF('بيانات اساسية'!$AL$6:$AL$306=\"معلم\",ROW(E$7:E$306)-ROW(E$7)+1),ROWS($A$3:E272))),\"\")","v":""},{"$f":"IFERROR(INDEX('بيانات اساسية'!AI$6:AI$306,SMALL(IF('بيانات اساسية'!$AL$6:$AL$306=\"معلم\",ROW(F$7:F$306)-ROW(F$7)+1),ROWS($A$3:F272))),\"\")","v":""},{"$f":"IFERROR(INDEX('بيانات اساسية'!AJ$6:AJ$306,SMALL(IF('بيانات اساسية'!$AL$6:$AL$306=\"معلم\",ROW(G$7:G$306)-ROW(G$7)+1),ROWS($A$3:G272))),\"\")","v":""},{"$f":"IFERROR(INDEX('بيانات اساسية'!AK$6:AK$306,SMALL(IF('بيانات اساسية'!$AL$6:$AL$306=\"معلم\",ROW(H$7:H$306)-ROW(H$7)+1),ROWS($A$3:H272))),\"\")","v":""}]
[{"$f":"IF(B274=\"\",\"\",SUBTOTAL(3,B$4:B274))","v":""},{"$f":"IFERROR(INDEX('بيانات اساسية'!B$6:B$306,SMALL(IF('بيانات اساسية'!$AL$6:$AL$306=\"معلم\",ROW(B$7:B$306)-ROW(B$7)+1),ROWS($A$3:B273))),\"\")","v":""},{"$f":"IFERROR(INDEX('بيانات اساسية'!C$6:C$306,SMALL(IF('بيانات اساسية'!$AL$6:$AL$306=\"معلم\",ROW(C$7:C$306)-ROW(C$7)+1),ROWS($A$3:C273))),\"\")","v":""},{"$f":"IFERROR(INDEX('بيانات اساسية'!AF$6:AF$306,SMALL(IF('بيانات اساسية'!$AL$6:$AL$306=\"معلم\",ROW(D$7:D$306)-ROW(D$7)+1),ROWS($A$3:D273))),\"\")","v":""},{"$f":"IFERROR(INDEX('بيانات اساسية'!AH$6:AH$306,SMALL(IF('بيانات اساسية'!$AL$6:$AL$306=\"معلم\",ROW(E$7:E$306)-ROW(E$7)+1),ROWS($A$3:E273))),\"\")","v":""},{"$f":"IFERROR(INDEX('بيانات اساسية'!AI$6:AI$306,SMALL(IF('بيانات اساسية'!$AL$6:$AL$306=\"معلم\",ROW(F$7:F$306)-ROW(F$7)+1),ROWS($A$3:F273))),\"\")","v":""},{"$f":"IFERROR(INDEX('بيانات اساسية'!AJ$6:AJ$306,SMALL(IF('بيانات اساسية'!$AL$6:$AL$306=\"معلم\",ROW(G$7:G$306)-ROW(G$7)+1),ROWS($A$3:G273))),\"\")","v":""},{"$f":"IFERROR(INDEX('بيانات اساسية'!AK$6:AK$306,SMALL(IF('بيانات اساسية'!$AL$6:$AL$306=\"معلم\",ROW(H$7:H$306)-ROW(H$7)+1),ROWS($A$3:H273))),\"\")","v":""}]
[{"$f":"IF(B275=\"\",\"\",SUBTOTAL(3,B$4:B275))","v":""},{"$f":"IFERROR(INDEX('بيانات اساسية'!B$6:B$306,SMALL(IF('بيانات اساسية'!$AL$6:$AL$306=\"معلم\",ROW(B$7:B$306)-ROW(B$7)+1),ROWS($A$3:B274))),\"\")","v":""},{"$f":"IFERROR(INDEX('بيانات اساسية'!C$6:C$306,SMALL(IF('بيانات اساسية'!$AL$6:$AL$306=\"معلم\",ROW(C$7:C$306)-ROW(C$7)+1),ROWS($A$3:C274))),\"\")","v":""},{"$f":"IFERROR(INDEX('بيانات اساسية'!AF$6:AF$306,SMALL(IF('بيانات اساسية'!$AL$6:$AL$306=\"معلم\",ROW(D$7:D$306)-ROW(D$7)+1),ROWS($A$3:D274))),\"\")","v":""},{"$f":"IFERROR(INDEX('بيانات اساسية'!AH$6:AH$306,SMALL(IF('بيانات اساسية'!$AL$6:$AL$306=\"معلم\",ROW(E$7:E$306)-ROW(E$7)+1),ROWS($A$3:E274))),\"\")","v":""},{"$f":"IFERROR(INDEX('بيانات اساسية'!AI$6:AI$306,SMALL(IF('بيانات اساسية'!$AL$6:$AL$306=\"معلم\",ROW(F$7:F$306)-ROW(F$7)+1),ROWS($A$3:F274))),\"\")","v":""},{"$f":"IFERROR(INDEX('بيانات اساسية'!AJ$6:AJ$306,SMALL(IF('بيانات اساسية'!$AL$6:$AL$306=\"معلم\",ROW(G$7:G$306)-ROW(G$7)+1),ROWS($A$3:G274))),\"\")","v":""},{"$f":"IFERROR(INDEX('بيانات اساسية'!AK$6:AK$306,SMALL(IF('بيانات اساسية'!$AL$6:$AL$306=\"معلم\",ROW(H$7:H$306)-ROW(H$7)+1),ROWS($A$3:H274))),\"\")","v":""}]
[{"$f":"IF(B276=\"\",\"\",SUBTOTAL(3,B$4:B276))","v":""},{"$f":"IFERROR(INDEX('بيانات اساسية'!B$6:B$306,SMALL(IF('بيانات اساسية'!$AL$6:$AL$306=\"معلم\",ROW(B$7:B$306)-ROW(B$7)+1),ROWS($A$3:B275))),\"\")","v":""},{"$f":"IFERROR(INDEX('بيانات اساسية'!C$6:C$306,SMALL(IF('بيانات اساسية'!$AL$6:$AL$306=\"معلم\",ROW(C$7:C$306)-ROW(C$7)+1),ROWS($A$3:C275))),\"\")","v":""},{"$f":"IFERROR(INDEX('بيانات اساسية'!AF$6:AF$306,SMALL(IF('بيانات اساسية'!$AL$6:$AL$306=\"معلم\",ROW(D$7:D$306)-ROW(D$7)+1),ROWS($A$3:D275))),\"\")","v":""},{"$f":"IFERROR(INDEX('بيانات اساسية'!AH$6:AH$306,SMALL(IF('بيانات اساسية'!$AL$6:$AL$306=\"معلم\",ROW(E$7:E$306)-ROW(E$7)+1),ROWS($A$3:E275))),\"\")","v":""},{"$f":"IFERROR(INDEX('بيانات اساسية'!AI$6:AI$306,SMALL(IF('بيانات اساسية'!$AL$6:$AL$306=\"معلم\",ROW(F$7:F$306)-ROW(F$7)+1),ROWS($A$3:F275))),\"\")","v":""},{"$f":"IFERROR(INDEX('بيانات اساسية'!AJ$6:AJ$306,SMALL(IF('بيانات اساسية'!$AL$6:$AL$306=\"معلم\",ROW(G$7:G$306)-ROW(G$7)+1),ROWS($A$3:G275))),\"\")","v":""},{"$f":"IFERROR(INDEX('بيانات اساسية'!AK$6:AK$306,SMALL(IF('بيانات اساسية'!$AL$6:$AL$306=\"معلم\",ROW(H$7:H$306)-ROW(H$7)+1),ROWS($A$3:H275))),\"\")","v":""}]
[{"$f":"IF(B277=\"\",\"\",SUBTOTAL(3,B$4:B277))","v":""},{"$f":"IFERROR(INDEX('بيانات اساسية'!B$6:B$306,SMALL(IF('بيانات اساسية'!$AL$6:$AL$306=\"معلم\",ROW(B$7:B$306)-ROW(B$7)+1),ROWS($A$3:B276))),\"\")","v":""},{"$f":"IFERROR(INDEX('بيانات اساسية'!C$6:C$306,SMALL(IF('بيانات اساسية'!$AL$6:$AL$306=\"معلم\",ROW(C$7:C$306)-ROW(C$7)+1),ROWS($A$3:C276))),\"\")","v":""},{"$f":"IFERROR(INDEX('بيانات اساسية'!AF$6:AF$306,SMALL(IF('بيانات اساسية'!$AL$6:$AL$306=\"معلم\",ROW(D$7:D$306)-ROW(D$7)+1),ROWS($A$3:D276))),\"\")","v":""},{"$f":"IFERROR(INDEX('بيانات اساسية'!AH$6:AH$306,SMALL(IF('بيانات اساسية'!$AL$6:$AL$306=\"معلم\",ROW(E$7:E$306)-ROW(E$7)+1),ROWS($A$3:E276))),\"\")","v":""},{"$f":"IFERROR(INDEX('بيانات اساسية'!AI$6:AI$306,SMALL(IF('بيانات اساسية'!$AL$6:$AL$306=\"معلم\",ROW(F$7:F$306)-ROW(F$7)+1),ROWS($A$3:F276))),\"\")","v":""},{"$f":"IFERROR(INDEX('بيانات اساسية'!AJ$6:AJ$306,SMALL(IF('بيانات اساسية'!$AL$6:$AL$306=\"معلم\",ROW(G$7:G$306)-ROW(G$7)+1),ROWS($A$3:G276))),\"\")","v":""},{"$f":"IFERROR(INDEX('بيانات اساسية'!AK$6:AK$306,SMALL(IF('بيانات اساسية'!$AL$6:$AL$306=\"معلم\",ROW(H$7:H$306)-ROW(H$7)+1),ROWS($A$3:H276))),\"\")","v":""}]
[{"$f":"IF(B278=\"\",\"\",SUBTOTAL(3,B$4:B278))","v":""},{"$f":"IFERROR(INDEX('بيانات اساسية'!B$6:B$306,SMALL(IF('بيانات اساسية'!$AL$6:$AL$306=\"معلم\",ROW(B$7:B$306)-ROW(B$7)+1),ROWS($A$3:B277))),\"\")","v":""},{"$f":"IFERROR(INDEX('بيانات اساسية'!C$6:C$306,SMALL(IF('بيانات اساسية'!$AL$6:$AL$306=\"معلم\",ROW(C$7:C$306)-ROW(C$7)+1),ROWS($A$3:C277))),\"\")","v":""},{"$f":"IFERROR(INDEX('بيانات اساسية'!AF$6:AF$306,SMALL(IF('بيانات اساسية'!$AL$6:$AL$306=\"معلم\",ROW(D$7:D$306)-ROW(D$7)+1),ROWS($A$3:D277))),\"\")","v":""},{"$f":"IFERROR(INDEX('بيانات اساسية'!AH$6:AH$306,SMALL(IF('بيانات اساسية'!$AL$6:$AL$306=\"معلم\",ROW(E$7:E$306)-ROW(E$7)+1),ROWS($A$3:E277))),\"\")","v":""},{"$f":"IFERROR(INDEX('بيانات اساسية'!AI$6:AI$306,SMALL(IF('بيانات اساسية'!$AL$6:$AL$306=\"معلم\",ROW(F$7:F$306)-ROW(F$7)+1),ROWS($A$3:F277))),\"\")","v":""},{"$f":"IFERROR(INDEX('بيانات اساسية'!AJ$6:AJ$306,SMALL(IF('بيانات اساسية'!$AL$6:$AL$306=\"معلم\",ROW(G$7:G$306)-ROW(G$7)+1),ROWS($A$3:G277))),\"\")","v":""},{"$f":"IFERROR(INDEX('بيانات اساسية'!AK$6:AK$306,SMALL(IF('بيانات اساسية'!$AL$6:$AL$306=\"معلم\",ROW(H$7:H$306)-ROW(H$7)+1),ROWS($A$3:H277))),\"\")","v":""}]
[{"$f":"IF(B279=\"\",\"\",SUBTOTAL(3,B$4:B279))","v":""},{"$f":"IFERROR(INDEX('بيانات اساسية'!B$6:B$306,SMALL(IF('بيانات اساسية'!$AL$6:$AL$306=\"معلم\",ROW(B$7:B$306)-ROW(B$7)+1),ROWS($A$3:B278))),\"\")","v":""},{"$f":"IFERROR(INDEX('بيانات اساسية'!C$6:C$306,SMALL(IF('بيانات اساسية'!$AL$6:$AL$306=\"معلم\",ROW(C$7:C$306)-ROW(C$7)+1),ROWS($A$3:C278))),\"\")","v":""},{"$f":"IFERROR(INDEX('بيانات اساسية'!AF$6:AF$306,SMALL(IF('بيانات اساسية'!$AL$6:$AL$306=\"معلم\",ROW(D$7:D$306)-ROW(D$7)+1),ROWS($A$3:D278))),\"\")","v":""},{"$f":"IFERROR(INDEX('بيانات اساسية'!AH$6:AH$306,SMALL(IF('بيانات اساسية'!$AL$6:$AL$306=\"معلم\",ROW(E$7:E$306)-ROW(E$7)+1),ROWS($A$3:E278))),\"\")","v":""},{"$f":"IFERROR(INDEX('بيانات اساسية'!AI$6:AI$306,SMALL(IF('بيانات اساسية'!$AL$6:$AL$306=\"معلم\",ROW(F$7:F$306)-ROW(F$7)+1),ROWS($A$3:F278))),\"\")","v":""},{"$f":"IFERROR(INDEX('بيانات اساسية'!AJ$6:AJ$306,SMALL(IF('بيانات اساسية'!$AL$6:$AL$306=\"معلم\",ROW(G$7:G$306)-ROW(G$7)+1),ROWS($A$3:G278))),\"\")","v":""},{"$f":"IFERROR(INDEX('بيانات اساسية'!AK$6:AK$306,SMALL(IF('بيانات اساسية'!$AL$6:$AL$306=\"معلم\",ROW(H$7:H$306)-ROW(H$7)+1),ROWS($A$3:H278))),\"\")","v":""}]
[{"$f":"IF(B280=\"\",\"\",SUBTOTAL(3,B$4:B280))","v":""},{"$f":"IFERROR(INDEX('بيانات اساسية'!B$6:B$306,SMALL(IF('بيانات اساسية'!$AL$6:$AL$306=\"معلم\",ROW(B$7:B$306)-ROW(B$7)+1),ROWS($A$3:B279))),\"\")","v":""},{"$f":"IFERROR(INDEX('بيانات اساسية'!C$6:C$306,SMALL(IF('بيانات اساسية'!$AL$6:$AL$306=\"معلم\",ROW(C$7:C$306)-ROW(C$7)+1),ROWS($A$3:C279))),\"\")","v":""},{"$f":"IFERROR(INDEX('بيانات اساسية'!AF$6:AF$306,SMALL(IF('بيانات اساسية'!$AL$6:$AL$306=\"معلم\",ROW(D$7:D$306)-ROW(D$7)+1),ROWS($A$3:D279))),\"\")","v":""},{"$f":"IFERROR(INDEX('بيانات اساسية'!AH$6:AH$306,SMALL(IF('بيانات اساسية'!$AL$6:$AL$306=\"معلم\",ROW(E$7:E$306)-ROW(E$7)+1),ROWS($A$3:E279))),\"\")","v":""},{"$f":"IFERROR(INDEX('بيانات اساسية'!AI$6:AI$306,SMALL(IF('بيانات اساسية'!$AL$6:$AL$306=\"معلم\",ROW(F$7:F$306)-ROW(F$7)+1),ROWS($A$3:F279))),\"\")","v":""},{"$f":"IFERROR(INDEX('بيانات اساسية'!AJ$6:AJ$306,SMALL(IF('بيانات اساسية'!$AL$6:$AL$306=\"معلم\",ROW(G$7:G$306)-ROW(G$7)+1),ROWS($A$3:G279))),\"\")","v":""},{"$f":"IFERROR(INDEX('بيانات اساسية'!AK$6:AK$306,SMALL(IF('بيانات اساسية'!$AL$6:$AL$306=\"معلم\",ROW(H$7:H$306)-ROW(H$7)+1),ROWS($A$3:H279))),\"\")","v":""}]
[{"$f":"IF(B281=\"\",\"\",SUBTOTAL(3,B$4:B281))","v":""},{"$f":"IFERROR(INDEX('بيانات اساسية'!B$6:B$306,SMALL(IF('بيانات اساسية'!$AL$6:$AL$306=\"معلم\",ROW(B$7:B$306)-ROW(B$7)+1),ROWS($A$3:B280))),\"\")","v":""},{"$f":"IFERROR(INDEX('بيانات اساسية'!C$6:C$306,SMALL(IF('بيانات اساسية'!$AL$6:$AL$306=\"معلم\",ROW(C$7:C$306)-ROW(C$7)+1),ROWS($A$3:C280))),\"\")","v":""},{"$f":"IFERROR(INDEX('بيانات اساسية'!AF$6:AF$306,SMALL(IF('بيانات اساسية'!$AL$6:$AL$306=\"معلم\",ROW(D$7:D$306)-ROW(D$7)+1),ROWS($A$3:D280))),\"\")","v":""},{"$f":"IFERROR(INDEX('بيانات اساسية'!AH$6:AH$306,SMALL(IF('بيانات اساسية'!$AL$6:$AL$306=\"معلم\",ROW(E$7:E$306)-ROW(E$7)+1),ROWS($A$3:E280))),\"\")","v":""},{"$f":"IFERROR(INDEX('بيانات اساسية'!AI$6:AI$306,SMALL(IF('بيانات اساسية'!$AL$6:$AL$306=\"معلم\",ROW(F$7:F$306)-ROW(F$7)+1),ROWS($A$3:F280))),\"\")","v":""},{"$f":"IFERROR(INDEX('بيانات اساسية'!AJ$6:AJ$306,SMALL(IF('بيانات اساسية'!$AL$6:$AL$306=\"معلم\",ROW(G$7:G$306)-ROW(G$7)+1),ROWS($A$3:G280))),\"\")","v":""},{"$f":"IFERROR(INDEX('بيانات اساسية'!AK$6:AK$306,SMALL(IF('بيانات اساسية'!$AL$6:$AL$306=\"معلم\",ROW(H$7:H$306)-ROW(H$7)+1),ROWS($A$3:H280))),\"\")","v":""}]
[{"$f":"IF(B282=\"\",\"\",SUBTOTAL(3,B$4:B282))","v":""},{"$f":"IFERROR(INDEX('بيانات اساسية'!B$6:B$306,SMALL(IF('بيانات اساسية'!$AL$6:$AL$306=\"معلم\",ROW(B$7:B$306)-ROW(B$7)+1),ROWS($A$3:B281))),\"\")","v":""},{"$f":"IFERROR(INDEX('بيانات اساسية'!C$6:C$306,SMALL(IF('بيانات اساسية'!$AL$6:$AL$306=\"معلم\",ROW(C$7:C$306)-ROW(C$7)+1),ROWS($A$3:C281))),\"\")","v":""},{"$f":"IFERROR(INDEX('بيانات اساسية'!AF$6:AF$306,SMALL(IF('بيانات اساسية'!$AL$6:$AL$306=\"معلم\",ROW(D$7:D$306)-ROW(D$7)+1),ROWS($A$3:D281))),\"\")","v":""},{"$f":"IFERROR(INDEX('بيانات اساسية'!AH$6:AH$306,SMALL(IF('بيانات اساسية'!$AL$6:$AL$306=\"معلم\",ROW(E$7:E$306)-ROW(E$7)+1),ROWS($A$3:E281))),\"\")","v":""},{"$f":"IFERROR(INDEX('بيانات اساسية'!AI$6:AI$306,SMALL(IF('بيانات اساسية'!$AL$6:$AL$306=\"معلم\",ROW(F$7:F$306)-ROW(F$7)+1),ROWS($A$3:F281))),\"\")","v":""},{"$f":"IFERROR(INDEX('بيانات اساسية'!AJ$6:AJ$306,SMALL(IF('بيانات اساسية'!$AL$6:$AL$306=\"معلم\",ROW(G$7:G$306)-ROW(G$7)+1),ROWS($A$3:G281))),\"\")","v":""},{"$f":"IFERROR(INDEX('بيانات اساسية'!AK$6:AK$306,SMALL(IF('بيانات اساسية'!$AL$6:$AL$306=\"معلم\",ROW(H$7:H$306)-ROW(H$7)+1),ROWS($A$3:H281))),\"\")","v":""}]
[{"$f":"IF(B283=\"\",\"\",SUBTOTAL(3,B$4:B283))","v":""},{"$f":"IFERROR(INDEX('بيانات اساسية'!B$6:B$306,SMALL(IF('بيانات اساسية'!$AL$6:$AL$306=\"معلم\",ROW(B$7:B$306)-ROW(B$7)+1),ROWS($A$3:B282))),\"\")","v":""},{"$f":"IFERROR(INDEX('بيانات اساسية'!C$6:C$306,SMALL(IF('بيانات اساسية'!$AL$6:$AL$306=\"معلم\",ROW(C$7:C$306)-ROW(C$7)+1),ROWS($A$3:C282))),\"\")","v":""},{"$f":"IFERROR(INDEX('بيانات اساسية'!AF$6:AF$306,SMALL(IF('بيانات اساسية'!$AL$6:$AL$306=\"معلم\",ROW(D$7:D$306)-ROW(D$7)+1),ROWS($A$3:D282))),\"\")","v":""},{"$f":"IFERROR(INDEX('بيانات اساسية'!AH$6:AH$306,SMALL(IF('بيانات اساسية'!$AL$6:$AL$306=\"معلم\",ROW(E$7:E$306)-ROW(E$7)+1),ROWS($A$3:E282))),\"\")","v":""},{"$f":"IFERROR(INDEX('بيانات اساسية'!AI$6:AI$306,SMALL(IF('بيانات اساسية'!$AL$6:$AL$306=\"معلم\",ROW(F$7:F$306)-ROW(F$7)+1),ROWS($A$3:F282))),\"\")","v":""},{"$f":"IFERROR(INDEX('بيانات اساسية'!AJ$6:AJ$306,SMALL(IF('بيانات اساسية'!$AL$6:$AL$306=\"معلم\",ROW(G$7:G$306)-ROW(G$7)+1),ROWS($A$3:G282))),\"\")","v":""},{"$f":"IFERROR(INDEX('بيانات اساسية'!AK$6:AK$306,SMALL(IF('بيانات اساسية'!$AL$6:$AL$306=\"معلم\",ROW(H$7:H$306)-ROW(H$7)+1),ROWS($A$3:H282))),\"\")","v":""}]
[{"$f":"IF(B284=\"\",\"\",SUBTOTAL(3,B$4:B284))","v":""},{"$f":"IFERROR(INDEX('بيانات اساسية'!B$6:B$306,SMALL(IF('بيانات اساسية'!$AL$6:$AL$306=\"معلم\",ROW(B$7:B$306)-ROW(B$7)+1),ROWS($A$3:B283))),\"\")","v":""},{"$f":"IFERROR(INDEX('بيانات اساسية'!C$6:C$306,SMALL(IF('بيانات اساسية'!$AL$6:$AL$306=\"معلم\",ROW(C$7:C$306)-ROW(C$7)+1),ROWS($A$3:C283))),\"\")","v":""},{"$f":"IFERROR(INDEX('بيانات اساسية'!AF$6:AF$306,SMALL(IF('بيانات اساسية'!$AL$6:$AL$306=\"معلم\",ROW(D$7:D$306)-ROW(D$7)+1),ROWS($A$3:D283))),\"\")","v":""},{"$f":"IFERROR(INDEX('بيانات اساسية'!AH$6:AH$306,SMALL(IF('بيانات اساسية'!$AL$6:$AL$306=\"معلم\",ROW(E$7:E$306)-ROW(E$7)+1),ROWS($A$3:E283))),\"\")","v":""},{"$f":"IFERROR(INDEX('بيانات اساسية'!AI$6:AI$306,SMALL(IF('بيانات اساسية'!$AL$6:$AL$306=\"معلم\",ROW(F$7:F$306)-ROW(F$7)+1),ROWS($A$3:F283))),\"\")","v":""},{"$f":"IFERROR(INDEX('بيانات اساسية'!AJ$6:AJ$306,SMALL(IF('بيانات اساسية'!$AL$6:$AL$306=\"معلم\",ROW(G$7:G$306)-ROW(G$7)+1),ROWS($A$3:G283))),\"\")","v":""},{"$f":"IFERROR(INDEX('بيانات اساسية'!AK$6:AK$306,SMALL(IF('بيانات اساسية'!$AL$6:$AL$306=\"معلم\",ROW(H$7:H$306)-ROW(H$7)+1),ROWS($A$3:H283))),\"\")","v":""}]
[{"$f":"IF(B285=\"\",\"\",SUBTOTAL(3,B$4:B285))","v":""},{"$f":"IFERROR(INDEX('بيانات اساسية'!B$6:B$306,SMALL(IF('بيانات اساسية'!$AL$6:$AL$306=\"معلم\",ROW(B$7:B$306)-ROW(B$7)+1),ROWS($A$3:B284))),\"\")","v":""},{"$f":"IFERROR(INDEX('بيانات اساسية'!C$6:C$306,SMALL(IF('بيانات اساسية'!$AL$6:$AL$306=\"معلم\",ROW(C$7:C$306)-ROW(C$7)+1),ROWS($A$3:C284))),\"\")","v":""},{"$f":"IFERROR(INDEX('بيانات اساسية'!AF$6:AF$306,SMALL(IF('بيانات اساسية'!$AL$6:$AL$306=\"معلم\",ROW(D$7:D$306)-ROW(D$7)+1),ROWS($A$3:D284))),\"\")","v":""},{"$f":"IFERROR(INDEX('بيانات اساسية'!AH$6:AH$306,SMALL(IF('بيانات اساسية'!$AL$6:$AL$306=\"معلم\",ROW(E$7:E$306)-ROW(E$7)+1),ROWS($A$3:E284))),\"\")","v":""},{"$f":"IFERROR(INDEX('بيانات اساسية'!AI$6:AI$306,SMALL(IF('بيانات اساسية'!$AL$6:$AL$306=\"معلم\",ROW(F$7:F$306)-ROW(F$7)+1),ROWS($A$3:F284))),\"\")","v":""},{"$f":"IFERROR(INDEX('بيانات اساسية'!AJ$6:AJ$306,SMALL(IF('بيانات اساسية'!$AL$6:$AL$306=\"معلم\",ROW(G$7:G$306)-ROW(G$7)+1),ROWS($A$3:G284))),\"\")","v":""},{"$f":"IFERROR(INDEX('بيانات اساسية'!AK$6:AK$306,SMALL(IF('بيانات اساسية'!$AL$6:$AL$306=\"معلم\",ROW(H$7:H$306)-ROW(H$7)+1),ROWS($A$3:H284))),\"\")","v":""}]
[{"$f":"IF(B286=\"\",\"\",SUBTOTAL(3,B$4:B286))","v":""},{"$f":"IFERROR(INDEX('بيانات اساسية'!B$6:B$306,SMALL(IF('بيانات اساسية'!$AL$6:$AL$306=\"معلم\",ROW(B$7:B$306)-ROW(B$7)+1),ROWS($A$3:B285))),\"\")","v":""},{"$f":"IFERROR(INDEX('بيانات اساسية'!C$6:C$306,SMALL(IF('بيانات اساسية'!$AL$6:$AL$306=\"معلم\",ROW(C$7:C$306)-ROW(C$7)+1),ROWS($A$3:C285))),\"\")","v":""},{"$f":"IFERROR(INDEX('بيانات اساسية'!AF$6:AF$306,SMALL(IF('بيانات اساسية'!$AL$6:$AL$306=\"معلم\",ROW(D$7:D$306)-ROW(D$7)+1),ROWS($A$3:D285))),\"\")","v":""},{"$f":"IFERROR(INDEX('بيانات اساسية'!AH$6:AH$306,SMALL(IF('بيانات اساسية'!$AL$6:$AL$306=\"معلم\",ROW(E$7:E$306)-ROW(E$7)+1),ROWS($A$3:E285))),\"\")","v":""},{"$f":"IFERROR(INDEX('بيانات اساسية'!AI$6:AI$306,SMALL(IF('بيانات اساسية'!$AL$6:$AL$306=\"معلم\",ROW(F$7:F$306)-ROW(F$7)+1),ROWS($A$3:F285))),\"\")","v":""},{"$f":"IFERROR(INDEX('بيانات اساسية'!AJ$6:AJ$306,SMALL(IF('بيانات اساسية'!$AL$6:$AL$306=\"معلم\",ROW(G$7:G$306)-ROW(G$7)+1),ROWS($A$3:G285))),\"\")","v":""},{"$f":"IFERROR(INDEX('بيانات اساسية'!AK$6:AK$306,SMALL(IF('بيانات اساسية'!$AL$6:$AL$306=\"معلم\",ROW(H$7:H$306)-ROW(H$7)+1),ROWS($A$3:H285))),\"\")","v":""}]
[{"$f":"IF(B287=\"\",\"\",SUBTOTAL(3,B$4:B287))","v":""},{"$f":"IFERROR(INDEX('بيانات اساسية'!B$6:B$306,SMALL(IF('بيانات اساسية'!$AL$6:$AL$306=\"معلم\",ROW(B$7:B$306)-ROW(B$7)+1),ROWS($A$3:B286))),\"\")","v":""},{"$f":"IFERROR(INDEX('بيانات اساسية'!C$6:C$306,SMALL(IF('بيانات اساسية'!$AL$6:$AL$306=\"معلم\",ROW(C$7:C$306)-ROW(C$7)+1),ROWS($A$3:C286))),\"\")","v":""},{"$f":"IFERROR(INDEX('بيانات اساسية'!AF$6:AF$306,SMALL(IF('بيانات اساسية'!$AL$6:$AL$306=\"معلم\",ROW(D$7:D$306)-ROW(D$7)+1),ROWS($A$3:D286))),\"\")","v":""},{"$f":"IFERROR(INDEX('بيانات اساسية'!AH$6:AH$306,SMALL(IF('بيانات اساسية'!$AL$6:$AL$306=\"معلم\",ROW(E$7:E$306)-ROW(E$7)+1),ROWS($A$3:E286))),\"\")","v":""},{"$f":"IFERROR(INDEX('بيانات اساسية'!AI$6:AI$306,SMALL(IF('بيانات اساسية'!$AL$6:$AL$306=\"معلم\",ROW(F$7:F$306)-ROW(F$7)+1),ROWS($A$3:F286))),\"\")","v":""},{"$f":"IFERROR(INDEX('بيانات اساسية'!AJ$6:AJ$306,SMALL(IF('بيانات اساسية'!$AL$6:$AL$306=\"معلم\",ROW(G$7:G$306)-ROW(G$7)+1),ROWS($A$3:G286))),\"\")","v":""},{"$f":"IFERROR(INDEX('بيانات اساسية'!AK$6:AK$306,SMALL(IF('بيانات اساسية'!$AL$6:$AL$306=\"معلم\",ROW(H$7:H$306)-ROW(H$7)+1),ROWS($A$3:H286))),\"\")","v":""}]
[{"$f":"IF(B288=\"\",\"\",SUBTOTAL(3,B$4:B288))","v":""},{"$f":"IFERROR(INDEX('بيانات اساسية'!B$6:B$306,SMALL(IF('بيانات اساسية'!$AL$6:$AL$306=\"معلم\",ROW(B$7:B$306)-ROW(B$7)+1),ROWS($A$3:B287))),\"\")","v":""},{"$f":"IFERROR(INDEX('بيانات اساسية'!C$6:C$306,SMALL(IF('بيانات اساسية'!$AL$6:$AL$306=\"معلم\",ROW(C$7:C$306)-ROW(C$7)+1),ROWS($A$3:C287))),\"\")","v":""},{"$f":"IFERROR(INDEX('بيانات اساسية'!AF$6:AF$306,SMALL(IF('بيانات اساسية'!$AL$6:$AL$306=\"معلم\",ROW(D$7:D$306)-ROW(D$7)+1),ROWS($A$3:D287))),\"\")","v":""},{"$f":"IFERROR(INDEX('بيانات اساسية'!AH$6:AH$306,SMALL(IF('بيانات اساسية'!$AL$6:$AL$306=\"معلم\",ROW(E$7:E$306)-ROW(E$7)+1),ROWS($A$3:E287))),\"\")","v":""},{"$f":"IFERROR(INDEX('بيانات اساسية'!AI$6:AI$306,SMALL(IF('بيانات اساسية'!$AL$6:$AL$306=\"معلم\",ROW(F$7:F$306)-ROW(F$7)+1),ROWS($A$3:F287))),\"\")","v":""},{"$f":"IFERROR(INDEX('بيانات اساسية'!AJ$6:AJ$306,SMALL(IF('بيانات اساسية'!$AL$6:$AL$306=\"معلم\",ROW(G$7:G$306)-ROW(G$7)+1),ROWS($A$3:G287))),\"\")","v":""},{"$f":"IFERROR(INDEX('بيانات اساسية'!AK$6:AK$306,SMALL(IF('بيانات اساسية'!$AL$6:$AL$306=\"معلم\",ROW(H$7:H$306)-ROW(H$7)+1),ROWS($A$3:H287))),\"\")","v":""}]
[{"$f":"IF(B289=\"\",\"\",SUBTOTAL(3,B$4:B289))","v":""},{"$f":"IFERROR(INDEX('بيانات اساسية'!B$6:B$306,SMALL(IF('بيانات اساسية'!$AL$6:$AL$306=\"معلم\",ROW(B$7:B$306)-ROW(B$7)+1),ROWS($A$3:B288))),\"\")","v":""},{"$f":"IFERROR(INDEX('بيانات اساسية'!C$6:C$306,SMALL(IF('بيانات اساسية'!$AL$6:$AL$306=\"معلم\",ROW(C$7:C$306)-ROW(C$7)+1),ROWS($A$3:C288))),\"\")","v":""},{"$f":"IFERROR(INDEX('بيانات اساسية'!AF$6:AF$306,SMALL(IF('بيانات اساسية'!$AL$6:$AL$306=\"معلم\",ROW(D$7:D$306)-ROW(D$7)+1),ROWS($A$3:D288))),\"\")","v":""},{"$f":"IFERROR(INDEX('بيانات اساسية'!AH$6:AH$306,SMALL(IF('بيانات اساسية'!$AL$6:$AL$306=\"معلم\",ROW(E$7:E$306)-ROW(E$7)+1),ROWS($A$3:E288))),\"\")","v":""},{"$f":"IFERROR(INDEX('بيانات اساسية'!AI$6:AI$306,SMALL(IF('بيانات اساسية'!$AL$6:$AL$306=\"معلم\",ROW(F$7:F$306)-ROW(F$7)+1),ROWS($A$3:F288))),\"\")","v":""},{"$f":"IFERROR(INDEX('بيانات اساسية'!AJ$6:AJ$306,SMALL(IF('بيانات اساسية'!$AL$6:$AL$306=\"معلم\",ROW(G$7:G$306)-ROW(G$7)+1),ROWS($A$3:G288))),\"\")","v":""},{"$f":"IFERROR(INDEX('بيانات اساسية'!AK$6:AK$306,SMALL(IF('بيانات اساسية'!$AL$6:$AL$306=\"معلم\",ROW(H$7:H$306)-ROW(H$7)+1),ROWS($A$3:H288))),\"\")","v":""}]
[{"$f":"IF(B290=\"\",\"\",SUBTOTAL(3,B$4:B290))","v":""},{"$f":"IFERROR(INDEX('بيانات اساسية'!B$6:B$306,SMALL(IF('بيانات اساسية'!$AL$6:$AL$306=\"معلم\",ROW(B$7:B$306)-ROW(B$7)+1),ROWS($A$3:B289))),\"\")","v":""},{"$f":"IFERROR(INDEX('بيانات اساسية'!C$6:C$306,SMALL(IF('بيانات اساسية'!$AL$6:$AL$306=\"معلم\",ROW(C$7:C$306)-ROW(C$7)+1),ROWS($A$3:C289))),\"\")","v":""},{"$f":"IFERROR(INDEX('بيانات اساسية'!AF$6:AF$306,SMALL(IF('بيانات اساسية'!$AL$6:$AL$306=\"معلم\",ROW(D$7:D$306)-ROW(D$7)+1),ROWS($A$3:D289))),\"\")","v":""},{"$f":"IFERROR(INDEX('بيانات اساسية'!AH$6:AH$306,SMALL(IF('بيانات اساسية'!$AL$6:$AL$306=\"معلم\",ROW(E$7:E$306)-ROW(E$7)+1),ROWS($A$3:E289))),\"\")","v":""},{"$f":"IFERROR(INDEX('بيانات اساسية'!AI$6:AI$306,SMALL(IF('بيانات اساسية'!$AL$6:$AL$306=\"معلم\",ROW(F$7:F$306)-ROW(F$7)+1),ROWS($A$3:F289))),\"\")","v":""},{"$f":"IFERROR(INDEX('بيانات اساسية'!AJ$6:AJ$306,SMALL(IF('بيانات اساسية'!$AL$6:$AL$306=\"معلم\",ROW(G$7:G$306)-ROW(G$7)+1),ROWS($A$3:G289))),\"\")","v":""},{"$f":"IFERROR(INDEX('بيانات اساسية'!AK$6:AK$306,SMALL(IF('بيانات اساسية'!$AL$6:$AL$306=\"معلم\",ROW(H$7:H$306)-ROW(H$7)+1),ROWS($A$3:H289))),\"\")","v":""}]
[{"$f":"IF(B291=\"\",\"\",SUBTOTAL(3,B$4:B291))","v":""},{"$f":"IFERROR(INDEX('بيانات اساسية'!B$6:B$306,SMALL(IF('بيانات اساسية'!$AL$6:$AL$306=\"معلم\",ROW(B$7:B$306)-ROW(B$7)+1),ROWS($A$3:B290))),\"\")","v":""},{"$f":"IFERROR(INDEX('بيانات اساسية'!C$6:C$306,SMALL(IF('بيانات اساسية'!$AL$6:$AL$306=\"معلم\",ROW(C$7:C$306)-ROW(C$7)+1),ROWS($A$3:C290))),\"\")","v":""},{"$f":"IFERROR(INDEX('بيانات اساسية'!AF$6:AF$306,SMALL(IF('بيانات اساسية'!$AL$6:$AL$306=\"معلم\",ROW(D$7:D$306)-ROW(D$7)+1),ROWS($A$3:D290))),\"\")","v":""},{"$f":"IFERROR(INDEX('بيانات اساسية'!AH$6:AH$306,SMALL(IF('بيانات اساسية'!$AL$6:$AL$306=\"معلم\",ROW(E$7:E$306)-ROW(E$7)+1),ROWS($A$3:E290))),\"\")","v":""},{"$f":"IFERROR(INDEX('بيانات اساسية'!AI$6:AI$306,SMALL(IF('بيانات اساسية'!$AL$6:$AL$306=\"معلم\",ROW(F$7:F$306)-ROW(F$7)+1),ROWS($A$3:F290))),\"\")","v":""},{"$f":"IFERROR(INDEX('بيانات اساسية'!AJ$6:AJ$306,SMALL(IF('بيانات اساسية'!$AL$6:$AL$306=\"معلم\",ROW(G$7:G$306)-ROW(G$7)+1),ROWS($A$3:G290))),\"\")","v":""},{"$f":"IFERROR(INDEX('بيانات اساسية'!AK$6:AK$306,SMALL(IF('بيانات اساسية'!$AL$6:$AL$306=\"معلم\",ROW(H$7:H$306)-ROW(H$7)+1),ROWS($A$3:H290))),\"\")","v":""}]
[{"$f":"IF(B292=\"\",\"\",SUBTOTAL(3,B$4:B292))","v":""},{"$f":"IFERROR(INDEX('بيانات اساسية'!B$6:B$306,SMALL(IF('بيانات اساسية'!$AL$6:$AL$306=\"معلم\",ROW(B$7:B$306)-ROW(B$7)+1),ROWS($A$3:B291))),\"\")","v":""},{"$f":"IFERROR(INDEX('بيانات اساسية'!C$6:C$306,SMALL(IF('بيانات اساسية'!$AL$6:$AL$306=\"معلم\",ROW(C$7:C$306)-ROW(C$7)+1),ROWS($A$3:C291))),\"\")","v":""},{"$f":"IFERROR(INDEX('بيانات اساسية'!AF$6:AF$306,SMALL(IF('بيانات اساسية'!$AL$6:$AL$306=\"معلم\",ROW(D$7:D$306)-ROW(D$7)+1),ROWS($A$3:D291))),\"\")","v":""},{"$f":"IFERROR(INDEX('بيانات اساسية'!AH$6:AH$306,SMALL(IF('بيانات اساسية'!$AL$6:$AL$306=\"معلم\",ROW(E$7:E$306)-ROW(E$7)+1),ROWS($A$3:E291))),\"\")","v":""},{"$f":"IFERROR(INDEX('بيانات اساسية'!AI$6:AI$306,SMALL(IF('بيانات اساسية'!$AL$6:$AL$306=\"معلم\",ROW(F$7:F$306)-ROW(F$7)+1),ROWS($A$3:F291))),\"\")","v":""},{"$f":"IFERROR(INDEX('بيانات اساسية'!AJ$6:AJ$306,SMALL(IF('بيانات اساسية'!$AL$6:$AL$306=\"معلم\",ROW(G$7:G$306)-ROW(G$7)+1),ROWS($A$3:G291))),\"\")","v":""},{"$f":"IFERROR(INDEX('بيانات اساسية'!AK$6:AK$306,SMALL(IF('بيانات اساسية'!$AL$6:$AL$306=\"معلم\",ROW(H$7:H$306)-ROW(H$7)+1),ROWS($A$3:H291))),\"\")","v":""}]
[{"$f":"IF(B293=\"\",\"\",SUBTOTAL(3,B$4:B293))","v":""},{"$f":"IFERROR(INDEX('بيانات اساسية'!B$6:B$306,SMALL(IF('بيانات اساسية'!$AL$6:$AL$306=\"معلم\",ROW(B$7:B$306)-ROW(B$7)+1),ROWS($A$3:B292))),\"\")","v":""},{"$f":"IFERROR(INDEX('بيانات اساسية'!C$6:C$306,SMALL(IF('بيانات اساسية'!$AL$6:$AL$306=\"معلم\",ROW(C$7:C$306)-ROW(C$7)+1),ROWS($A$3:C292))),\"\")","v":""},{"$f":"IFERROR(INDEX('بيانات اساسية'!AF$6:AF$306,SMALL(IF('بيانات اساسية'!$AL$6:$AL$306=\"معلم\",ROW(D$7:D$306)-ROW(D$7)+1),ROWS($A$3:D292))),\"\")","v":""},{"$f":"IFERROR(INDEX('بيانات اساسية'!AH$6:AH$306,SMALL(IF('بيانات اساسية'!$AL$6:$AL$306=\"معلم\",ROW(E$7:E$306)-ROW(E$7)+1),ROWS($A$3:E292))),\"\")","v":""},{"$f":"IFERROR(INDEX('بيانات اساسية'!AI$6:AI$306,SMALL(IF('بيانات اساسية'!$AL$6:$AL$306=\"معلم\",ROW(F$7:F$306)-ROW(F$7)+1),ROWS($A$3:F292))),\"\")","v":""},{"$f":"IFERROR(INDEX('بيانات اساسية'!AJ$6:AJ$306,SMALL(IF('بيانات اساسية'!$AL$6:$AL$306=\"معلم\",ROW(G$7:G$306)-ROW(G$7)+1),ROWS($A$3:G292))),\"\")","v":""},{"$f":"IFERROR(INDEX('بيانات اساسية'!AK$6:AK$306,SMALL(IF('بيانات اساسية'!$AL$6:$AL$306=\"معلم\",ROW(H$7:H$306)-ROW(H$7)+1),ROWS($A$3:H292))),\"\")","v":""}]
[{"$f":"IF(B294=\"\",\"\",SUBTOTAL(3,B$4:B294))","v":""},{"$f":"IFERROR(INDEX('بيانات اساسية'!B$6:B$306,SMALL(IF('بيانات اساسية'!$AL$6:$AL$306=\"معلم\",ROW(B$7:B$306)-ROW(B$7)+1),ROWS($A$3:B293))),\"\")","v":""},{"$f":"IFERROR(INDEX('بيانات اساسية'!C$6:C$306,SMALL(IF('بيانات اساسية'!$AL$6:$AL$306=\"معلم\",ROW(C$7:C$306)-ROW(C$7)+1),ROWS($A$3:C293))),\"\")","v":""},{"$f":"IFERROR(INDEX('بيانات اساسية'!AF$6:AF$306,SMALL(IF('بيانات اساسية'!$AL$6:$AL$306=\"معلم\",ROW(D$7:D$306)-ROW(D$7)+1),ROWS($A$3:D293))),\"\")","v":""},{"$f":"IFERROR(INDEX('بيانات اساسية'!AH$6:AH$306,SMALL(IF('بيانات اساسية'!$AL$6:$AL$306=\"معلم\",ROW(E$7:E$306)-ROW(E$7)+1),ROWS($A$3:E293))),\"\")","v":""},{"$f":"IFERROR(INDEX('بيانات اساسية'!AI$6:AI$306,SMALL(IF('بيانات اساسية'!$AL$6:$AL$306=\"معلم\",ROW(F$7:F$306)-ROW(F$7)+1),ROWS($A$3:F293))),\"\")","v":""},{"$f":"IFERROR(INDEX('بيانات اساسية'!AJ$6:AJ$306,SMALL(IF('بيانات اساسية'!$AL$6:$AL$306=\"معلم\",ROW(G$7:G$306)-ROW(G$7)+1),ROWS($A$3:G293))),\"\")","v":""},{"$f":"IFERROR(INDEX('بيانات اساسية'!AK$6:AK$306,SMALL(IF('بيانات اساسية'!$AL$6:$AL$306=\"معلم\",ROW(H$7:H$306)-ROW(H$7)+1),ROWS($A$3:H293))),\"\")","v":""}]
[{"$f":"IF(B295=\"\",\"\",SUBTOTAL(3,B$4:B295))","v":""},{"$f":"IFERROR(INDEX('بيانات اساسية'!B$6:B$306,SMALL(IF('بيانات اساسية'!$AL$6:$AL$306=\"معلم\",ROW(B$7:B$306)-ROW(B$7)+1),ROWS($A$3:B294))),\"\")","v":""},{"$f":"IFERROR(INDEX('بيانات اساسية'!C$6:C$306,SMALL(IF('بيانات اساسية'!$AL$6:$AL$306=\"معلم\",ROW(C$7:C$306)-ROW(C$7)+1),ROWS($A$3:C294))),\"\")","v":""},{"$f":"IFERROR(INDEX('بيانات اساسية'!AF$6:AF$306,SMALL(IF('بيانات اساسية'!$AL$6:$AL$306=\"معلم\",ROW(D$7:D$306)-ROW(D$7)+1),ROWS($A$3:D294))),\"\")","v":""},{"$f":"IFERROR(INDEX('بيانات اساسية'!AH$6:AH$306,SMALL(IF('بيانات اساسية'!$AL$6:$AL$306=\"معلم\",ROW(E$7:E$306)-ROW(E$7)+1),ROWS($A$3:E294))),\"\")","v":""},{"$f":"IFERROR(INDEX('بيانات اساسية'!AI$6:AI$306,SMALL(IF('بيانات اساسية'!$AL$6:$AL$306=\"معلم\",ROW(F$7:F$306)-ROW(F$7)+1),ROWS($A$3:F294))),\"\")","v":""},{"$f":"IFERROR(INDEX('بيانات اساسية'!AJ$6:AJ$306,SMALL(IF('بيانات اساسية'!$AL$6:$AL$306=\"معلم\",ROW(G$7:G$306)-ROW(G$7)+1),ROWS($A$3:G294))),\"\")","v":""},{"$f":"IFERROR(INDEX('بيانات اساسية'!AK$6:AK$306,SMALL(IF('بيانات اساسية'!$AL$6:$AL$306=\"معلم\",ROW(H$7:H$306)-ROW(H$7)+1),ROWS($A$3:H294))),\"\")","v":""}]
[{"$f":"IF(B296=\"\",\"\",SUBTOTAL(3,B$4:B296))","v":""},{"$f":"IFERROR(INDEX('بيانات اساسية'!B$6:B$306,SMALL(IF('بيانات اساسية'!$AL$6:$AL$306=\"معلم\",ROW(B$7:B$306)-ROW(B$7)+1),ROWS($A$3:B295))),\"\")","v":""},{"$f":"IFERROR(INDEX('بيانات اساسية'!C$6:C$306,SMALL(IF('بيانات اساسية'!$AL$6:$AL$306=\"معلم\",ROW(C$7:C$306)-ROW(C$7)+1),ROWS($A$3:C295))),\"\")","v":""},{"$f":"IFERROR(INDEX('بيانات اساسية'!AF$6:AF$306,SMALL(IF('بيانات اساسية'!$AL$6:$AL$306=\"معلم\",ROW(D$7:D$306)-ROW(D$7)+1),ROWS($A$3:D295))),\"\")","v":""},{"$f":"IFERROR(INDEX('بيانات اساسية'!AH$6:AH$306,SMALL(IF('بيانات اساسية'!$AL$6:$AL$306=\"معلم\",ROW(E$7:E$306)-ROW(E$7)+1),ROWS($A$3:E295))),\"\")","v":""},{"$f":"IFERROR(INDEX('بيانات اساسية'!AI$6:AI$306,SMALL(IF('بيانات اساسية'!$AL$6:$AL$306=\"معلم\",ROW(F$7:F$306)-ROW(F$7)+1),ROWS($A$3:F295))),\"\")","v":""},{"$f":"IFERROR(INDEX('بيانات اساسية'!AJ$6:AJ$306,SMALL(IF('بيانات اساسية'!$AL$6:$AL$306=\"معلم\",ROW(G$7:G$306)-ROW(G$7)+1),ROWS($A$3:G295))),\"\")","v":""},{"$f":"IFERROR(INDEX('بيانات اساسية'!AK$6:AK$306,SMALL(IF('بيانات اساسية'!$AL$6:$AL$306=\"معلم\",ROW(H$7:H$306)-ROW(H$7)+1),ROWS($A$3:H295))),\"\")","v":""}]
[{"$f":"IF(B297=\"\",\"\",SUBTOTAL(3,B$4:B297))","v":""},{"$f":"IFERROR(INDEX('بيانات اساسية'!B$6:B$306,SMALL(IF('بيانات اساسية'!$AL$6:$AL$306=\"معلم\",ROW(B$7:B$306)-ROW(B$7)+1),ROWS($A$3:B296))),\"\")","v":""},{"$f":"IFERROR(INDEX('بيانات اساسية'!C$6:C$306,SMALL(IF('بيانات اساسية'!$AL$6:$AL$306=\"معلم\",ROW(C$7:C$306)-ROW(C$7)+1),ROWS($A$3:C296))),\"\")","v":""},{"$f":"IFERROR(INDEX('بيانات اساسية'!AF$6:AF$306,SMALL(IF('بيانات اساسية'!$AL$6:$AL$306=\"معلم\",ROW(D$7:D$306)-ROW(D$7)+1),ROWS($A$3:D296))),\"\")","v":""},{"$f":"IFERROR(INDEX('بيانات اساسية'!AH$6:AH$306,SMALL(IF('بيانات اساسية'!$AL$6:$AL$306=\"معلم\",ROW(E$7:E$306)-ROW(E$7)+1),ROWS($A$3:E296))),\"\")","v":""},{"$f":"IFERROR(INDEX('بيانات اساسية'!AI$6:AI$306,SMALL(IF('بيانات اساسية'!$AL$6:$AL$306=\"معلم\",ROW(F$7:F$306)-ROW(F$7)+1),ROWS($A$3:F296))),\"\")","v":""},{"$f":"IFERROR(INDEX('بيانات اساسية'!AJ$6:AJ$306,SMALL(IF('بيانات اساسية'!$AL$6:$AL$306=\"معلم\",ROW(G$7:G$306)-ROW(G$7)+1),ROWS($A$3:G296))),\"\")","v":""},{"$f":"IFERROR(INDEX('بيانات اساسية'!AK$6:AK$306,SMALL(IF('بيانات اساسية'!$AL$6:$AL$306=\"معلم\",ROW(H$7:H$306)-ROW(H$7)+1),ROWS($A$3:H296))),\"\")","v":""}]
[{"$f":"IF(B298=\"\",\"\",SUBTOTAL(3,B$4:B298))","v":""},{"$f":"IFERROR(INDEX('بيانات اساسية'!B$6:B$306,SMALL(IF('بيانات اساسية'!$AL$6:$AL$306=\"معلم\",ROW(B$7:B$306)-ROW(B$7)+1),ROWS($A$3:B297))),\"\")","v":""},{"$f":"IFERROR(INDEX('بيانات اساسية'!C$6:C$306,SMALL(IF('بيانات اساسية'!$AL$6:$AL$306=\"معلم\",ROW(C$7:C$306)-ROW(C$7)+1),ROWS($A$3:C297))),\"\")","v":""},{"$f":"IFERROR(INDEX('بيانات اساسية'!AF$6:AF$306,SMALL(IF('بيانات اساسية'!$AL$6:$AL$306=\"معلم\",ROW(D$7:D$306)-ROW(D$7)+1),ROWS($A$3:D297))),\"\")","v":""},{"$f":"IFERROR(INDEX('بيانات اساسية'!AH$6:AH$306,SMALL(IF('بيانات اساسية'!$AL$6:$AL$306=\"معلم\",ROW(E$7:E$306)-ROW(E$7)+1),ROWS($A$3:E297))),\"\")","v":""},{"$f":"IFERROR(INDEX('بيانات اساسية'!AI$6:AI$306,SMALL(IF('بيانات اساسية'!$AL$6:$AL$306=\"معلم\",ROW(F$7:F$306)-ROW(F$7)+1),ROWS($A$3:F297))),\"\")","v":""},{"$f":"IFERROR(INDEX('بيانات اساسية'!AJ$6:AJ$306,SMALL(IF('بيانات اساسية'!$AL$6:$AL$306=\"معلم\",ROW(G$7:G$306)-ROW(G$7)+1),ROWS($A$3:G297))),\"\")","v":""},{"$f":"IFERROR(INDEX('بيانات اساسية'!AK$6:AK$306,SMALL(IF('بيانات اساسية'!$AL$6:$AL$306=\"معلم\",ROW(H$7:H$306)-ROW(H$7)+1),ROWS($A$3:H297))),\"\")","v":""}]
[{"$f":"IF(B299=\"\",\"\",SUBTOTAL(3,B$4:B299))","v":""},{"$f":"IFERROR(INDEX('بيانات اساسية'!B$6:B$306,SMALL(IF('بيانات اساسية'!$AL$6:$AL$306=\"معلم\",ROW(B$7:B$306)-ROW(B$7)+1),ROWS($A$3:B298))),\"\")","v":""},{"$f":"IFERROR(INDEX('بيانات اساسية'!C$6:C$306,SMALL(IF('بيانات اساسية'!$AL$6:$AL$306=\"معلم\",ROW(C$7:C$306)-ROW(C$7)+1),ROWS($A$3:C298))),\"\")","v":""},{"$f":"IFERROR(INDEX('بيانات اساسية'!AF$6:AF$306,SMALL(IF('بيانات اساسية'!$AL$6:$AL$306=\"معلم\",ROW(D$7:D$306)-ROW(D$7)+1),ROWS($A$3:D298))),\"\")","v":""},{"$f":"IFERROR(INDEX('بيانات اساسية'!AH$6:AH$306,SMALL(IF('بيانات اساسية'!$AL$6:$AL$306=\"معلم\",ROW(E$7:E$306)-ROW(E$7)+1),ROWS($A$3:E298))),\"\")","v":""},{"$f":"IFERROR(INDEX('بيانات اساسية'!AI$6:AI$306,SMALL(IF('بيانات اساسية'!$AL$6:$AL$306=\"معلم\",ROW(F$7:F$306)-ROW(F$7)+1),ROWS($A$3:F298))),\"\")","v":""},{"$f":"IFERROR(INDEX('بيانات اساسية'!AJ$6:AJ$306,SMALL(IF('بيانات اساسية'!$AL$6:$AL$306=\"معلم\",ROW(G$7:G$306)-ROW(G$7)+1),ROWS($A$3:G298))),\"\")","v":""},{"$f":"IFERROR(INDEX('بيانات اساسية'!AK$6:AK$306,SMALL(IF('بيانات اساسية'!$AL$6:$AL$306=\"معلم\",ROW(H$7:H$306)-ROW(H$7)+1),ROWS($A$3:H298))),\"\")","v":""}]
[{"$f":"IF(B300=\"\",\"\",SUBTOTAL(3,B$4:B300))","v":""},{"$f":"IFERROR(INDEX('بيانات اساسية'!B$6:B$306,SMALL(IF('بيانات اساسية'!$AL$6:$AL$306=\"معلم\",ROW(B$7:B$306)-ROW(B$7)+1),ROWS($A$3:B299))),\"\")","v":""},{"$f":"IFERROR(INDEX('بيانات اساسية'!C$6:C$306,SMALL(IF('بيانات اساسية'!$AL$6:$AL$306=\"معلم\",ROW(C$7:C$306)-ROW(C$7)+1),ROWS($A$3:C299))),\"\")","v":""},{"$f":"IFERROR(INDEX('بيانات اساسية'!AF$6:AF$306,SMALL(IF('بيانات اساسية'!$AL$6:$AL$306=\"معلم\",ROW(D$7:D$306)-ROW(D$7)+1),ROWS($A$3:D299))),\"\")","v":""},{"$f":"IFERROR(INDEX('بيانات اساسية'!AH$6:AH$306,SMALL(IF('بيانات اساسية'!$AL$6:$AL$306=\"معلم\",ROW(E$7:E$306)-ROW(E$7)+1),ROWS($A$3:E299))),\"\")","v":""},{"$f":"IFERROR(INDEX('بيانات اساسية'!AI$6:AI$306,SMALL(IF('بيانات اساسية'!$AL$6:$AL$306=\"معلم\",ROW(F$7:F$306)-ROW(F$7)+1),ROWS($A$3:F299))),\"\")","v":""},{"$f":"IFERROR(INDEX('بيانات اساسية'!AJ$6:AJ$306,SMALL(IF('بيانات اساسية'!$AL$6:$AL$306=\"معلم\",ROW(G$7:G$306)-ROW(G$7)+1),ROWS($A$3:G299))),\"\")","v":""},{"$f":"IFERROR(INDEX('بيانات اساسية'!AK$6:AK$306,SMALL(IF('بيانات اساسية'!$AL$6:$AL$306=\"معلم\",ROW(H$7:H$306)-ROW(H$7)+1),ROWS($A$3:H299))),\"\")","v":""}]
[{"$f":"IF(B301=\"\",\"\",SUBTOTAL(3,B$4:B301))","v":""},{"$f":"IFERROR(INDEX('بيانات اساسية'!B$6:B$306,SMALL(IF('بيانات اساسية'!$AL$6:$AL$306=\"معلم\",ROW(B$7:B$306)-ROW(B$7)+1),ROWS($A$3:B300))),\"\")","v":""},{"$f":"IFERROR(INDEX('بيانات اساسية'!C$6:C$306,SMALL(IF('بيانات اساسية'!$AL$6:$AL$306=\"معلم\",ROW(C$7:C$306)-ROW(C$7)+1),ROWS($A$3:C300))),\"\")","v":""},{"$f":"IFERROR(INDEX('بيانات اساسية'!AF$6:AF$306,SMALL(IF('بيانات اساسية'!$AL$6:$AL$306=\"معلم\",ROW(D$7:D$306)-ROW(D$7)+1),ROWS($A$3:D300))),\"\")","v":""},{"$f":"IFERROR(INDEX('بيانات اساسية'!AH$6:AH$306,SMALL(IF('بيانات اساسية'!$AL$6:$AL$306=\"معلم\",ROW(E$7:E$306)-ROW(E$7)+1),ROWS($A$3:E300))),\"\")","v":""},{"$f":"IFERROR(INDEX('بيانات اساسية'!AI$6:AI$306,SMALL(IF('بيانات اساسية'!$AL$6:$AL$306=\"معلم\",ROW(F$7:F$306)-ROW(F$7)+1),ROWS($A$3:F300))),\"\")","v":""},{"$f":"IFERROR(INDEX('بيانات اساسية'!AJ$6:AJ$306,SMALL(IF('بيانات اساسية'!$AL$6:$AL$306=\"معلم\",ROW(G$7:G$306)-ROW(G$7)+1),ROWS($A$3:G300))),\"\")","v":""},{"$f":"IFERROR(INDEX('بيانات اساسية'!AK$6:AK$306,SMALL(IF('بيانات اساسية'!$AL$6:$AL$306=\"معلم\",ROW(H$7:H$306)-ROW(H$7)+1),ROWS($A$3:H300))),\"\")","v":""}]
[{"$f":"IF(B302=\"\",\"\",SUBTOTAL(3,B$4:B302))","v":""},{"$f":"IFERROR(INDEX('بيانات اساسية'!B$6:B$306,SMALL(IF('بيانات اساسية'!$AL$6:$AL$306=\"معلم\",ROW(B$7:B$306)-ROW(B$7)+1),ROWS($A$3:B301))),\"\")","v":""},{"$f":"IFERROR(INDEX('بيانات اساسية'!C$6:C$306,SMALL(IF('بيانات اساسية'!$AL$6:$AL$306=\"معلم\",ROW(C$7:C$306)-ROW(C$7)+1),ROWS($A$3:C301))),\"\")","v":""},{"$f":"IFERROR(INDEX('بيانات اساسية'!AF$6:AF$306,SMALL(IF('بيانات اساسية'!$AL$6:$AL$306=\"معلم\",ROW(D$7:D$306)-ROW(D$7)+1),ROWS($A$3:D301))),\"\")","v":""},{"$f":"IFERROR(INDEX('بيانات اساسية'!AH$6:AH$306,SMALL(IF('بيانات اساسية'!$AL$6:$AL$306=\"معلم\",ROW(E$7:E$306)-ROW(E$7)+1),ROWS($A$3:E301))),\"\")","v":""},{"$f":"IFERROR(INDEX('بيانات اساسية'!AI$6:AI$306,SMALL(IF('بيانات اساسية'!$AL$6:$AL$306=\"معلم\",ROW(F$7:F$306)-ROW(F$7)+1),ROWS($A$3:F301))),\"\")","v":""},{"$f":"IFERROR(INDEX('بيانات اساسية'!AJ$6:AJ$306,SMALL(IF('بيانات اساسية'!$AL$6:$AL$306=\"معلم\",ROW(G$7:G$306)-ROW(G$7)+1),ROWS($A$3:G301))),\"\")","v":""},{"$f":"IFERROR(INDEX('بيانات اساسية'!AK$6:AK$306,SMALL(IF('بيانات اساسية'!$AL$6:$AL$306=\"معلم\",ROW(H$7:H$306)-ROW(H$7)+1),ROWS($A$3:H301))),\"\")","v":""}]
[{"$f":"IF(B303=\"\",\"\",SUBTOTAL(3,B$4:B303))","v":""},{"$f":"IFERROR(INDEX('بيانات اساسية'!B$6:B$306,SMALL(IF('بيانات اساسية'!$AL$6:$AL$306=\"معلم\",ROW(B$7:B$306)-ROW(B$7)+1),ROWS($A$3:B302))),\"\")","v":""},{"$f":"IFERROR(INDEX('بيانات اساسية'!C$6:C$306,SMALL(IF('بيانات اساسية'!$AL$6:$AL$306=\"معلم\",ROW(C$7:C$306)-ROW(C$7)+1),ROWS($A$3:C302))),\"\")","v":""},{"$f":"IFERROR(INDEX('بيانات اساسية'!AF$6:AF$306,SMALL(IF('بيانات اساسية'!$AL$6:$AL$306=\"معلم\",ROW(D$7:D$306)-ROW(D$7)+1),ROWS($A$3:D302))),\"\")","v":""},{"$f":"IFERROR(INDEX('بيانات اساسية'!AH$6:AH$306,SMALL(IF('بيانات اساسية'!$AL$6:$AL$306=\"معلم\",ROW(E$7:E$306)-ROW(E$7)+1),ROWS($A$3:E302))),\"\")","v":""},{"$f":"IFERROR(INDEX('بيانات اساسية'!AI$6:AI$306,SMALL(IF('بيانات اساسية'!$AL$6:$AL$306=\"معلم\",ROW(F$7:F$306)-ROW(F$7)+1),ROWS($A$3:F302))),\"\")","v":""},{"$f":"IFERROR(INDEX('بيانات اساسية'!AJ$6:AJ$306,SMALL(IF('بيانات اساسية'!$AL$6:$AL$306=\"معلم\",ROW(G$7:G$306)-ROW(G$7)+1),ROWS($A$3:G302))),\"\")","v":""},{"$f":"IFERROR(INDEX('بيانات اساسية'!AK$6:AK$306,SMALL(IF('بيانات اساسية'!$AL$6:$AL$306=\"معلم\",ROW(H$7:H$306)-ROW(H$7)+1),ROWS($A$3:H302))),\"\")","v":""}]
[{"$f":"IF(B304=\"\",\"\",SUBTOTAL(3,B$4:B304))","v":""},{"$f":"IFERROR(INDEX('بيانات اساسية'!B$6:B$306,SMALL(IF('بيانات اساسية'!$AL$6:$AL$306=\"معلم\",ROW(B$7:B$306)-ROW(B$7)+1),ROWS($A$3:B303))),\"\")","v":""},{"$f":"IFERROR(INDEX('بيانات اساسية'!C$6:C$306,SMALL(IF('بيانات اساسية'!$AL$6:$AL$306=\"معلم\",ROW(C$7:C$306)-ROW(C$7)+1),ROWS($A$3:C303))),\"\")","v":""},{"$f":"IFERROR(INDEX('بيانات اساسية'!AF$6:AF$306,SMALL(IF('بيانات اساسية'!$AL$6:$AL$306=\"معلم\",ROW(D$7:D$306)-ROW(D$7)+1),ROWS($A$3:D303))),\"\")","v":""},{"$f":"IFERROR(INDEX('بيانات اساسية'!AH$6:AH$306,SMALL(IF('بيانات اساسية'!$AL$6:$AL$306=\"معلم\",ROW(E$7:E$306)-ROW(E$7)+1),ROWS($A$3:E303))),\"\")","v":""},{"$f":"IFERROR(INDEX('بيانات اساسية'!AI$6:AI$306,SMALL(IF('بيانات اساسية'!$AL$6:$AL$306=\"معلم\",ROW(F$7:F$306)-ROW(F$7)+1),ROWS($A$3:F303))),\"\")","v":""},{"$f":"IFERROR(INDEX('بيانات اساسية'!AJ$6:AJ$306,SMALL(IF('بيانات اساسية'!$AL$6:$AL$306=\"معلم\",ROW(G$7:G$306)-ROW(G$7)+1),ROWS($A$3:G303))),\"\")","v":""},{"$f":"IFERROR(INDEX('بيانات اساسية'!AK$6:AK$306,SMALL(IF('بيانات اساسية'!$AL$6:$AL$306=\"معلم\",ROW(H$7:H$306)-ROW(H$7)+1),ROWS($A$3:H303))),\"\")","v":""}]
[{"$f":"IF(B305=\"\",\"\",SUBTOTAL(3,B$4:B305))","v":""},{"$f":"IFERROR(INDEX('بيانات اساسية'!B$6:B$306,SMALL(IF('بيانات اساسية'!$AL$6:$AL$306=\"معلم\",ROW(B$7:B$306)-ROW(B$7)+1),ROWS($A$3:B304))),\"\")","v":""},{"$f":"IFERROR(INDEX('بيانات اساسية'!C$6:C$306,SMALL(IF('بيانات اساسية'!$AL$6:$AL$306=\"معلم\",ROW(C$7:C$306)-ROW(C$7)+1),ROWS($A$3:C304))),\"\")","v":""},{"$f":"IFERROR(INDEX('بيانات اساسية'!AF$6:AF$306,SMALL(IF('بيانات اساسية'!$AL$6:$AL$306=\"معلم\",ROW(D$7:D$306)-ROW(D$7)+1),ROWS($A$3:D304))),\"\")","v":""},{"$f":"IFERROR(INDEX('بيانات اساسية'!AH$6:AH$306,SMALL(IF('بيانات اساسية'!$AL$6:$AL$306=\"معلم\",ROW(E$7:E$306)-ROW(E$7)+1),ROWS($A$3:E304))),\"\")","v":""},{"$f":"IFERROR(INDEX('بيانات اساسية'!AI$6:AI$306,SMALL(IF('بيانات اساسية'!$AL$6:$AL$306=\"معلم\",ROW(F$7:F$306)-ROW(F$7)+1),ROWS($A$3:F304))),\"\")","v":""},{"$f":"IFERROR(INDEX('بيانات اساسية'!AJ$6:AJ$306,SMALL(IF('بيانات اساسية'!$AL$6:$AL$306=\"معلم\",ROW(G$7:G$306)-ROW(G$7)+1),ROWS($A$3:G304))),\"\")","v":""},{"$f":"IFERROR(INDEX('بيانات اساسية'!AK$6:AK$306,SMALL(IF('بيانات اساسية'!$AL$6:$AL$306=\"معلم\",ROW(H$7:H$306)-ROW(H$7)+1),ROWS($A$3:H304))),\"\")","v":""}]
[{"$f":"IF(B306=\"\",\"\",SUBTOTAL(3,B$4:B306))","v":""},{"$f":"IFERROR(INDEX('بيانات اساسية'!B$6:B$306,SMALL(IF('بيانات اساسية'!$AL$6:$AL$306=\"معلم\",ROW(B$7:B$306)-ROW(B$7)+1),ROWS($A$3:B305))),\"\")","v":""},{"$f":"IFERROR(INDEX('بيانات اساسية'!C$6:C$306,SMALL(IF('بيانات اساسية'!$AL$6:$AL$306=\"معلم\",ROW(C$7:C$306)-ROW(C$7)+1),ROWS($A$3:C305))),\"\")","v":""},{"$f":"IFERROR(INDEX('بيانات اساسية'!AF$6:AF$306,SMALL(IF('بيانات اساسية'!$AL$6:$AL$306=\"معلم\",ROW(D$7:D$306)-ROW(D$7)+1),ROWS($A$3:D305))),\"\")","v":""},{"$f":"IFERROR(INDEX('بيانات اساسية'!AH$6:AH$306,SMALL(IF('بيانات اساسية'!$AL$6:$AL$306=\"معلم\",ROW(E$7:E$306)-ROW(E$7)+1),ROWS($A$3:E305))),\"\")","v":""},{"$f":"IFERROR(INDEX('بيانات اساسية'!AI$6:AI$306,SMALL(IF('بيانات اساسية'!$AL$6:$AL$306=\"معلم\",ROW(F$7:F$306)-ROW(F$7)+1),ROWS($A$3:F305))),\"\")","v":""},{"$f":"IFERROR(INDEX('بيانات اساسية'!AJ$6:AJ$306,SMALL(IF('بيانات اساسية'!$AL$6:$AL$306=\"معلم\",ROW(G$7:G$306)-ROW(G$7)+1),ROWS($A$3:G305))),\"\")","v":""},{"$f":"IFERROR(INDEX('بيانات اساسية'!AK$6:AK$306,SMALL(IF('بيانات اساسية'!$AL$6:$AL$306=\"معلم\",ROW(H$7:H$306)-ROW(H$7)+1),ROWS($A$3:H305))),\"\")","v":""}]
[{"$f":"IF(B307=\"\",\"\",SUBTOTAL(3,B$4:B307))","v":""},{"$f":"IFERROR(INDEX('بيانات اساسية'!B$6:B$306,SMALL(IF('بيانات اساسية'!$AL$6:$AL$306=\"معلم\",ROW(B$7:B$306)-ROW(B$7)+1),ROWS($A$3:B306))),\"\")","v":""},{"$f":"IFERROR(INDEX('بيانات اساسية'!C$6:C$306,SMALL(IF('بيانات اساسية'!$AL$6:$AL$306=\"معلم\",ROW(C$7:C$306)-ROW(C$7)+1),ROWS($A$3:C306))),\"\")","v":""},{"$f":"IFERROR(INDEX('بيانات اساسية'!AF$6:AF$306,SMALL(IF('بيانات اساسية'!$AL$6:$AL$306=\"معلم\",ROW(D$7:D$306)-ROW(D$7)+1),ROWS($A$3:D306))),\"\")","v":""},{"$f":"IFERROR(INDEX('بيانات اساسية'!AH$6:AH$306,SMALL(IF('بيانات اساسية'!$AL$6:$AL$306=\"معلم\",ROW(E$7:E$306)-ROW(E$7)+1),ROWS($A$3:E306))),\"\")","v":""},{"$f":"IFERROR(INDEX('بيانات اساسية'!AI$6:AI$306,SMALL(IF('بيانات اساسية'!$AL$6:$AL$306=\"معلم\",ROW(F$7:F$306)-ROW(F$7)+1),ROWS($A$3:F306))),\"\")","v":""},{"$f":"IFERROR(INDEX('بيانات اساسية'!AJ$6:AJ$306,SMALL(IF('بيانات اساسية'!$AL$6:$AL$306=\"معلم\",ROW(G$7:G$306)-ROW(G$7)+1),ROWS($A$3:G306))),\"\")","v":""},{"$f":"IFERROR(INDEX('بيانات اساسية'!AK$6:AK$306,SMALL(IF('بيانات اساسية'!$AL$6:$AL$306=\"معلم\",ROW(H$7:H$306)-ROW(H$7)+1),ROWS($A$3:H306))),\"\")","v":""}]
[{"$f":"IF(B308=\"\",\"\",SUBTOTAL(3,B$4:B308))","v":""},{"$f":"IFERROR(INDEX('بيانات اساسية'!B$6:B$306,SMALL(IF('بيانات اساسية'!$AL$6:$AL$306=\"معلم\",ROW(B$7:B$306)-ROW(B$7)+1),ROWS($A$3:B307))),\"\")","v":""},{"$f":"IFERROR(INDEX('بيانات اساسية'!C$6:C$306,SMALL(IF('بيانات اساسية'!$AL$6:$AL$306=\"معلم\",ROW(C$7:C$306)-ROW(C$7)+1),ROWS($A$3:C307))),\"\")","v":""},{"$f":"IFERROR(INDEX('بيانات اساسية'!AF$6:AF$306,SMALL(IF('بيانات اساسية'!$AL$6:$AL$306=\"معلم\",ROW(D$7:D$306)-ROW(D$7)+1),ROWS($A$3:D307))),\"\")","v":""},{"$f":"IFERROR(INDEX('بيانات اساسية'!AH$6:AH$306,SMALL(IF('بيانات اساسية'!$AL$6:$AL$306=\"معلم\",ROW(E$7:E$306)-ROW(E$7)+1),ROWS($A$3:E307))),\"\")","v":""},{"$f":"IFERROR(INDEX('بيانات اساسية'!AI$6:AI$306,SMALL(IF('بيانات اساسية'!$AL$6:$AL$306=\"معلم\",ROW(F$7:F$306)-ROW(F$7)+1),ROWS($A$3:F307))),\"\")","v":""},{"$f":"IFERROR(INDEX('بيانات اساسية'!AJ$6:AJ$306,SMALL(IF('بيانات اساسية'!$AL$6:$AL$306=\"معلم\",ROW(G$7:G$306)-ROW(G$7)+1),ROWS($A$3:G307))),\"\")","v":""},{"$f":"IFERROR(INDEX('بيانات اساسية'!AK$6:AK$306,SMALL(IF('بيانات اساسية'!$AL$6:$AL$306=\"معلم\",ROW(H$7:H$306)-ROW(H$7)+1),ROWS($A$3:H307))),\"\")","v":""}]
[{"$f":"IF(B309=\"\",\"\",SUBTOTAL(3,B$4:B309))","v":""},{"$f":"IFERROR(INDEX('بيانات اساسية'!B$6:B$306,SMALL(IF('بيانات اساسية'!$AL$6:$AL$306=\"معلم\",ROW(B$7:B$306)-ROW(B$7)+1),ROWS($A$3:B308))),\"\")","v":""},{"$f":"IFERROR(INDEX('بيانات اساسية'!C$6:C$306,SMALL(IF('بيانات اساسية'!$AL$6:$AL$306=\"معلم\",ROW(C$7:C$306)-ROW(C$7)+1),ROWS($A$3:C308))),\"\")","v":""},{"$f":"IFERROR(INDEX('بيانات اساسية'!AF$6:AF$306,SMALL(IF('بيانات اساسية'!$AL$6:$AL$306=\"معلم\",ROW(D$7:D$306)-ROW(D$7)+1),ROWS($A$3:D308))),\"\")","v":""},{"$f":"IFERROR(INDEX('بيانات اساسية'!AH$6:AH$306,SMALL(IF('بيانات اساسية'!$AL$6:$AL$306=\"معلم\",ROW(E$7:E$306)-ROW(E$7)+1),ROWS($A$3:E308))),\"\")","v":""},{"$f":"IFERROR(INDEX('بيانات اساسية'!AI$6:AI$306,SMALL(IF('بيانات اساسية'!$AL$6:$AL$306=\"معلم\",ROW(F$7:F$306)-ROW(F$7)+1),ROWS($A$3:F308))),\"\")","v":""},{"$f":"IFERROR(INDEX('بيانات اساسية'!AJ$6:AJ$306,SMALL(IF('بيانات اساسية'!$AL$6:$AL$306=\"معلم\",ROW(G$7:G$306)-ROW(G$7)+1),ROWS($A$3:G308))),\"\")","v":""},{"$f":"IFERROR(INDEX('بيانات اساسية'!AK$6:AK$306,SMALL(IF('بيانات اساسية'!$AL$6:$AL$306=\"معلم\",ROW(H$7:H$306)-ROW(H$7)+1),ROWS($A$3:H308))),\"\")","v":""}]
[{"$f":"IF(B310=\"\",\"\",SUBTOTAL(3,B$4:B310))","v":""},{"$f":"IFERROR(INDEX('بيانات اساسية'!B$6:B$306,SMALL(IF('بيانات اساسية'!$AL$6:$AL$306=\"معلم\",ROW(B$7:B$306)-ROW(B$7)+1),ROWS($A$3:B309))),\"\")","v":""},{"$f":"IFERROR(INDEX('بيانات اساسية'!C$6:C$306,SMALL(IF('بيانات اساسية'!$AL$6:$AL$306=\"معلم\",ROW(C$7:C$306)-ROW(C$7)+1),ROWS($A$3:C309))),\"\")","v":""},{"$f":"IFERROR(INDEX('بيانات اساسية'!AF$6:AF$306,SMALL(IF('بيانات اساسية'!$AL$6:$AL$306=\"معلم\",ROW(D$7:D$306)-ROW(D$7)+1),ROWS($A$3:D309))),\"\")","v":""},{"$f":"IFERROR(INDEX('بيانات اساسية'!AH$6:AH$306,SMALL(IF('بيانات اساسية'!$AL$6:$AL$306=\"معلم\",ROW(E$7:E$306)-ROW(E$7)+1),ROWS($A$3:E309))),\"\")","v":""},{"$f":"IFERROR(INDEX('بيانات اساسية'!AI$6:AI$306,SMALL(IF('بيانات اساسية'!$AL$6:$AL$306=\"معلم\",ROW(F$7:F$306)-ROW(F$7)+1),ROWS($A$3:F309))),\"\")","v":""},{"$f":"IFERROR(INDEX('بيانات اساسية'!AJ$6:AJ$306,SMALL(IF('بيانات اساسية'!$AL$6:$AL$306=\"معلم\",ROW(G$7:G$306)-ROW(G$7)+1),ROWS($A$3:G309))),\"\")","v":""},{"$f":"IFERROR(INDEX('بيانات اساسية'!AK$6:AK$306,SMALL(IF('بيانات اساسية'!$AL$6:$AL$306=\"معلم\",ROW(H$7:H$306)-ROW(H$7)+1),ROWS($A$3:H309))),\"\")","v":""}]
[{"$f":"IF(B311=\"\",\"\",SUBTOTAL(3,B$4:B311))","v":""},{"$f":"IFERROR(INDEX('بيانات اساسية'!B$6:B$306,SMALL(IF('بيانات اساسية'!$AL$6:$AL$306=\"معلم\",ROW(B$7:B$306)-ROW(B$7)+1),ROWS($A$3:B310))),\"\")","v":""},{"$f":"IFERROR(INDEX('بيانات اساسية'!C$6:C$306,SMALL(IF('بيانات اساسية'!$AL$6:$AL$306=\"معلم\",ROW(C$7:C$306)-ROW(C$7)+1),ROWS($A$3:C310))),\"\")","v":""},{"$f":"IFERROR(INDEX('بيانات اساسية'!AF$6:AF$306,SMALL(IF('بيانات اساسية'!$AL$6:$AL$306=\"معلم\",ROW(D$7:D$306)-ROW(D$7)+1),ROWS($A$3:D310))),\"\")","v":""},{"$f":"IFERROR(INDEX('بيانات اساسية'!AH$6:AH$306,SMALL(IF('بيانات اساسية'!$AL$6:$AL$306=\"معلم\",ROW(E$7:E$306)-ROW(E$7)+1),ROWS($A$3:E310))),\"\")","v":""},{"$f":"IFERROR(INDEX('بيانات اساسية'!AI$6:AI$306,SMALL(IF('بيانات اساسية'!$AL$6:$AL$306=\"معلم\",ROW(F$7:F$306)-ROW(F$7)+1),ROWS($A$3:F310))),\"\")","v":""},{"$f":"IFERROR(INDEX('بيانات اساسية'!AJ$6:AJ$306,SMALL(IF('بيانات اساسية'!$AL$6:$AL$306=\"معلم\",ROW(G$7:G$306)-ROW(G$7)+1),ROWS($A$3:G310))),\"\")","v":""},{"$f":"IFERROR(INDEX('بيانات اساسية'!AK$6:AK$306,SMALL(IF('بيانات اساسية'!$AL$6:$AL$306=\"معلم\",ROW(H$7:H$306)-ROW(H$7)+1),ROWS($A$3:H310))),\"\")","v":""}]
[{"$f":"IF(B312=\"\",\"\",SUBTOTAL(3,B$4:B312))","v":""},{"$f":"IFERROR(INDEX('بيانات اساسية'!B$6:B$306,SMALL(IF('بيانات اساسية'!$AL$6:$AL$306=\"معلم\",ROW(B$7:B$306)-ROW(B$7)+1),ROWS($A$3:B311))),\"\")","v":""},{"$f":"IFERROR(INDEX('بيانات اساسية'!C$6:C$306,SMALL(IF('بيانات اساسية'!$AL$6:$AL$306=\"معلم\",ROW(C$7:C$306)-ROW(C$7)+1),ROWS($A$3:C311))),\"\")","v":""},{"$f":"IFERROR(INDEX('بيانات اساسية'!AF$6:AF$306,SMALL(IF('بيانات اساسية'!$AL$6:$AL$306=\"معلم\",ROW(D$7:D$306)-ROW(D$7)+1),ROWS($A$3:D311))),\"\")","v":""},{"$f":"IFERROR(INDEX('بيانات اساسية'!AH$6:AH$306,SMALL(IF('بيانات اساسية'!$AL$6:$AL$306=\"معلم\",ROW(E$7:E$306)-ROW(E$7)+1),ROWS($A$3:E311))),\"\")","v":""},{"$f":"IFERROR(INDEX('بيانات اساسية'!AI$6:AI$306,SMALL(IF('بيانات اساسية'!$AL$6:$AL$306=\"معلم\",ROW(F$7:F$306)-ROW(F$7)+1),ROWS($A$3:F311))),\"\")","v":""},{"$f":"IFERROR(INDEX('بيانات اساسية'!AJ$6:AJ$306,SMALL(IF('بيانات اساسية'!$AL$6:$AL$306=\"معلم\",ROW(G$7:G$306)-ROW(G$7)+1),ROWS($A$3:G311))),\"\")","v":""},{"$f":"IFERROR(INDEX('بيانات اساسية'!AK$6:AK$306,SMALL(IF('بيانات اساسية'!$AL$6:$AL$306=\"معلم\",ROW(H$7:H$306)-ROW(H$7)+1),ROWS($A$3:H311))),\"\")","v":""}]
[{"$f":"IF(B313=\"\",\"\",SUBTOTAL(3,B$4:B313))","v":""},{"$f":"IFERROR(INDEX('بيانات اساسية'!B$6:B$306,SMALL(IF('بيانات اساسية'!$AL$6:$AL$306=\"معلم\",ROW(B$7:B$306)-ROW(B$7)+1),ROWS($A$3:B312))),\"\")","v":""},{"$f":"IFERROR(INDEX('بيانات اساسية'!C$6:C$306,SMALL(IF('بيانات اساسية'!$AL$6:$AL$306=\"معلم\",ROW(C$7:C$306)-ROW(C$7)+1),ROWS($A$3:C312))),\"\")","v":""},{"$f":"IFERROR(INDEX('بيانات اساسية'!AF$6:AF$306,SMALL(IF('بيانات اساسية'!$AL$6:$AL$306=\"معلم\",ROW(D$7:D$306)-ROW(D$7)+1),ROWS($A$3:D312))),\"\")","v":""},{"$f":"IFERROR(INDEX('بيانات اساسية'!AH$6:AH$306,SMALL(IF('بيانات اساسية'!$AL$6:$AL$306=\"معلم\",ROW(E$7:E$306)-ROW(E$7)+1),ROWS($A$3:E312))),\"\")","v":""},{"$f":"IFERROR(INDEX('بيانات اساسية'!AI$6:AI$306,SMALL(IF('بيانات اساسية'!$AL$6:$AL$306=\"معلم\",ROW(F$7:F$306)-ROW(F$7)+1),ROWS($A$3:F312))),\"\")","v":""},{"$f":"IFERROR(INDEX('بيانات اساسية'!AJ$6:AJ$306,SMALL(IF('بيانات اساسية'!$AL$6:$AL$306=\"معلم\",ROW(G$7:G$306)-ROW(G$7)+1),ROWS($A$3:G312))),\"\")","v":""},{"$f":"IFERROR(INDEX('بيانات اساسية'!AK$6:AK$306,SMALL(IF('بيانات اساسية'!$AL$6:$AL$306=\"معلم\",ROW(H$7:H$306)-ROW(H$7)+1),ROWS($A$3:H312))),\"\")","v":""}]
[{"$f":"IF(B314=\"\",\"\",SUBTOTAL(3,B$4:B314))","v":""},{"$f":"IFERROR(INDEX('بيانات اساسية'!B$6:B$306,SMALL(IF('بيانات اساسية'!$AL$6:$AL$306=\"معلم\",ROW(B$7:B$306)-ROW(B$7)+1),ROWS($A$3:B313))),\"\")","v":""},{"$f":"IFERROR(INDEX('بيانات اساسية'!C$6:C$306,SMALL(IF('بيانات اساسية'!$AL$6:$AL$306=\"معلم\",ROW(C$7:C$306)-ROW(C$7)+1),ROWS($A$3:C313))),\"\")","v":""},{"$f":"IFERROR(INDEX('بيانات اساسية'!AF$6:AF$306,SMALL(IF('بيانات اساسية'!$AL$6:$AL$306=\"معلم\",ROW(D$7:D$306)-ROW(D$7)+1),ROWS($A$3:D313))),\"\")","v":""},{"$f":"IFERROR(INDEX('بيانات اساسية'!AH$6:AH$306,SMALL(IF('بيانات اساسية'!$AL$6:$AL$306=\"معلم\",ROW(E$7:E$306)-ROW(E$7)+1),ROWS($A$3:E313))),\"\")","v":""},{"$f":"IFERROR(INDEX('بيانات اساسية'!AI$6:AI$306,SMALL(IF('بيانات اساسية'!$AL$6:$AL$306=\"معلم\",ROW(F$7:F$306)-ROW(F$7)+1),ROWS($A$3:F313))),\"\")","v":""},{"$f":"IFERROR(INDEX('بيانات اساسية'!AJ$6:AJ$306,SMALL(IF('بيانات اساسية'!$AL$6:$AL$306=\"معلم\",ROW(G$7:G$306)-ROW(G$7)+1),ROWS($A$3:G313))),\"\")","v":""},{"$f":"IFERROR(INDEX('بيانات اساسية'!AK$6:AK$306,SMALL(IF('بيانات اساسية'!$AL$6:$AL$306=\"معلم\",ROW(H$7:H$306)-ROW(H$7)+1),ROWS($A$3:H313))),\"\")","v":""}]

{"sheet":"معلمى المواد 1","index":6,"n_rows":19,"n_cols":12,"rows_kept":19,"cut":false,"hidden":false,"merged":[[6,2,6,8],[7,2,7,6],[18,9,18,10],[14,1,14,3],[15,1,15,3],[14,5,14,7],[15,5,15,7]]}
[{"$f":"'بيانات المعهد'!F7","v":"الازهر الشريف"}]
[{"$f":"'بيانات المعهد'!G8","v":"الادارة المركزية لمنطقة القاهرة"}]
[{"$f":"'بيانات المعهد'!G9","v":"إدارة شمال القاهرة"}]
[{"$f":"'بيانات المعهد'!G10","v":"معهد شبراالخيمة الابتدائى"}]
[]
[]
[null,null,"إحصاء بعدد المعلمين بالمعاهد لكل تخصص على حده"]
[null,null,"أولا المعاهد الابتدائىة"]
[]
["اسم المعهد","قران ","عربى","دين","رياضيات","دراسات","علوم ","تربية فنية","أنشطة","خط","انجليزي","حاسب "]
[{"$f":"'بيانات المعهد'!G10","v":"معهد شبراالخيمة الابتدائى"},{"$f":"COUNTIF('بيانات اساسية'!$AG$6:$AG$306,\"قران كريم\")","v":9},{"$f":"COUNTIF('بيانات اساسية'!$AG$6:$AG$306,\"لغة عربية\")","v":6},{"$f":"COUNTIF('بيانات اساسية'!$AG$6:$AG$306,\"دين\")","v":0},{"$f":"COUNTIF('بيانات اساسية'!$AG$6:$AG$306,\"رياضيات\")","v":2},{"$f":"COUNTIF('بيانات اساسية'!$AG$6:$AG$306,\"دراسات\")","v":1},{"$f":"COUNTIF('بيانات اساسية'!$AG$6:$AG$306,\"علوم\")","v":0},{"$f":"COUNTIF('بيانات اساسية'!$AG$6:$AG$306,\"تربية الفنية\")","v":2},{"$f":"COUNTIF('بيانات اساسية'!$AG$6:$AG$306,\"انشطة\")","v":0},{"$f":"COUNTIF('بيانات اساسية'!$AG$6:$AG$306,\"خط\")","v":1},{"$f":"COUNTIF('بيانات اساسية'!$AG$6:$AG$306,\"لغة انجليزية\")","v":2},{"$f":"COUNTIF('بيانات اساسية'!$AG$6:$AG$306,\"حاسب الى\")","v":0}]
[]
[]
[]
["اسم شيخ المعهد/ ",{"$f":"'بيانات المعهد'!G12","v":"راشا عبدالمنطلب عبدالمتجلى"},null,null,null,"تليفون/"]
["اسم وكيل المعهد/ ",{"$f":"'بيانات المعهد'!G14","v":"هدى اسماعيل"},null,null,null,"تليفون/"]
[]
[null,null,null,null,null,null,null,null,"يعتمد  ,,"]
[null,null,null,null,null,null,null,null,null,"شيخ المعهد"]

{"sheet":"معلمى المواد2","index":7,"n_rows":16,"n_cols":5,"rows_kept":16,"cut":false,"hidden":false,"merged":[[13,1,13,2],[14,1,14,2],[15,1,15,2],[3,0,3,2]]}
["  الازهر الشريف "]
[{"$f":"'بيانات المعهد'!G8","v":"الادارة المركزية لمنطقة القاهرة"}]
[{"$f":"'بيانات المعهد'!G9","v":"إدارة شمال القاهرة"}]
[{"$f":"'بيانات المعهد'!G10","v":"معهد شبراالخيمة الابتدائى"}]
[null,"  إحصاء عددى بمعلمى كل مادة على حدى لعام2019/ 2020",null,null,{"$f":"'بيانات المعهد'!G11","v":"2020/ 2021"}]
[null,"م","المادة ","عدد المعلمين","ملاحظات"]
[null,1,"قران كريم",{"$f":"COUNTIF('بيانات اساسية'!$AG$6:$AG$306,\"قران كريم\")","v":9}]
[null,2,"لغة عربية",{"$f":"COUNTIF('بيانات اساسية'!$AG$6:$AG$306,\"لغة عربية\")","v":6}]
[null,3,"رياضيات",{"$f":"COUNTIF('بيانات اساسية'!$AG$6:$AG$306,\"رياضيات\")","v":2}]
[null,4," علوم",{"$f":"COUNTIF('بيانات اساسية'!$AG$6:$AG$306,\"علوم\")","v":0}]
[null,5," انجليزي",{"$f":"COUNTIF('بيانات اساسية'!$AG$6:$AG$306,\"لغة انجليزية\")","v":2}]
[null,6," دراسات",{"$f":"COUNTIF('بيانات اساسية'!$AG$6:$AG$306,\"دراسات\")","v":1}]
[null,7,"حاسب الى",{"$f":"COUNTIF('بيانات اساسية'!$AG$6:$AG$306,\"حاسب الى\")","v":0}]
[null,"الاجمالى",null,{"$f":"SUM(D7:D13)","v":20}]
[null,"ش . ع",null,null,"يعتمد شيخ المعهد"]
[null,{"$f":"'بيانات المعهد'!G13","v":"فاطمة عبدالمعطى"},null,null,{"$f":"'بيانات المعهد'!G12","v":"راشا عبدالمنطلب عبدالمتجلى"}]

{"sheet":"بيانات العاملين بالمعهد","index":8,"n_rows":131,"n_cols":15,"rows_kept":131,"cut":false,"hidden":false,"merged":[[123,2,124,9],[102,2,103,6],[102,7,103,7],[4,7,5,7],[4,2,5,6],[96,2,97,9],[110,2,111,9],[73,2,74,9],[85,2,86,9],[90,2,91,9],[44,2,45,9],[57,2,58,9],[65,2,66,9],[8,2,9,9],[13,2,14,9],[31,2,32,9]]}
["     الازهر الشريف "]
["     منطقة القاهرة الازهرية "]
["     ادارة تفتيش شمال"]
["    معهد /شبرا الخيمة الابتدائى            "]
[null,null,"بيانات /  شيخ المعهد",null,null,null,null,{"$f":"'بيانات المعهد'!G11","v":"2020/ 2021"}]
[]
["م","رقم السجل","الاسم رباعيا","الرقم القومى 14 رقم","المؤهل ","التخصص","الدرجة على الكادر","الدرجة المالية","الوظيفة الحالية","تاريخ التعيين","تاريخ\n اول مباشرة","رقم التلفون","العنوان","الدرجة المالية2","ملاحظات"]
[1,{"$f":"IFERROR(INDEX('بيانات اساسية'!B$6:B$306,SMALL(IF('بيانات اساسية'!$X$6:$X$306=\"شيخ معهد\",ROW(B$7:B$309)-ROW(B$7)+1),ROWS($A3:B$3))),\"\")","v":""},{"$f":"IFERROR(INDEX('بيانات اساسية'!C$6:C$306,SMALL(IF('بيانات اساسية'!$X$6:$X$306=\"شيخ معهد\",ROW(C$7:C$309)-ROW(C$7)+1),ROWS($A3:C$3))),\"\")","v":""},{"$f":"IFERROR(INDEX('بيانات اساسية'!D$6:D$306,SMALL(IF('بيانات اساسية'!$X$6:$X$306=\"شيخ معهد\",ROW(D$7:D$309)-ROW(D$7)+1),ROWS($A3:D$3))),\"\")","v":""},{"$f":"IFERROR(INDEX('بيانات اساسية'!L$6:L$306,SMALL(IF('بيانات اساسية'!$X$6:$X$306=\"شيخ معهد\",ROW(E$7:E$309)-ROW(E$7)+1),ROWS($A3:E$3))),\"\")","v":""},{"$f":"IFERROR(INDEX('بيانات اساسية'!AG$6:AG$306,SMALL(IF('بيانات اساسية'!$X$6:$X$306=\"شيخ معهد\",ROW(F$7:F$309)-ROW(F$7)+1),ROWS($A3:F$3))),\"\")","v":""},{"$f":"IFERROR(INDEX('بيانات اساسية'!AF$6:AF$306,SMALL(IF('بيانات اساسية'!$X$6:$X$306=\"شيخ معهد\",ROW(G$7:G$309)-ROW(G$7)+1),ROWS($A3:G$3))),\"\")","v":""},{"$f":"IFERROR(INDEX('بيانات اساسية'!Y$6:Y$306,SMALL(IF('بيانات اساسية'!$X$6:$X$306=\"شيخ معهد\",ROW(H$7:H$309)-ROW(H$7)+1),ROWS($A3:H$3))),\"\")","v":""},{"$f":"IFERROR(INDEX('بيانات اساسية'!X$6:X$306,SMALL(IF('بيانات اساسية'!$X$6:$X$306=\"شيخ معهد\",ROW(I$7:I$309)-ROW(I$7)+1),ROWS($A3:I$3))),\"\")","v":""},{"$f":"IFERROR(INDEX('بيانات اساسية'!N$6:N$306,SMALL(IF('بيانات اساسية'!$X$6:$X$306=\"شيخ معهد\",ROW(J$7:J$309)-ROW(J$7)+1),ROWS($A3:J$3))),\"\")","v":""},{"$f":"IFERROR(INDEX('بيانات اساسية'!P$6:P$306,SMALL(IF('بيانات اساسية'!$X$6:$X$306=\"شيخ معهد\",ROW(K$7:K$309)-ROW(K$7)+1),ROWS($A3:K$3))),\"\")","v":""},{"$f":"IFERROR(INDEX('بيانات اساسية'!J$6:J$306,SMALL(IF('بيانات اساسية'!$X$6:$X$306=\"شيخ معهد\",ROW(L$7:L$309)-ROW(L$7)+1),ROWS($A3:L$3))),\"\")","v":""},{"$f":"IFERROR(INDEX('بيانات اساسية'!I$6:I$306,SMALL(IF('بيانات اساسية'!$X$6:$X$306=\"شيخ معهد\",ROW(M$7:M$309)-ROW(M$7)+1),ROWS($A3:M$3))),\"\")","v":""},{"$f":"IFERROR(INDEX('بيانات اساسية'!N$6:N$306,SMALL(IF('بيانات اساسية'!$X$6:$X$306=\"شيخ معهد\",ROW(N$7:N$309)-ROW(N$7)+1),ROWS($A3:N$3))),\"\")","v":""}]
[null,null,"                         بيانات وكيل المعهد"]
[]
["م","رقم السجل","الاسم رباعيا","الرقم القومى 14 رقم","المؤهل ","التخصص","الدرجة على الكادر","الدرجة المالية","الوظيفة الحالية","تاريخ التعيين","تاريخ\n اول مباشرة","رقم التلفون","العنوان","الدرجة المالية2","ملاحظات"]
[1,{"$f":"IFERROR(INDEX('بيانات اساسية'!B$6:B$306,SMALL(IF('بيانات اساسية'!$X$6:$X$306=\"وكيل معهد\",ROW(B$11:B$309)-ROW(B$11)+1),ROWS($A$3:B3))),\"\")","v":140158},{"$f":"IFERROR(INDEX('بيانات اساسية'!C$6:C$306,SMALL(IF('بيانات اساسية'!$X$6:$X$306=\"وكيل معهد\",ROW(C$11:C$309)-ROW(C$11)+1),ROWS($A$3:C3))),\"\")","v":"هدى إسماعيل محمد محمود"},{"$f":"IFERROR(INDEX('بيانات اساسية'!D$6:D$306,SMALL(IF('بيانات اساسية'!$X$6:$X$306=\"وكيل معهد\",ROW(D$11:D$309)-ROW(D$11)+1),ROWS($A$3:D3))),\"\")","v":26107210101303},{"$f":"IFERROR(INDEX('بيانات اساسية'!L$6:L$306,SMALL(IF('بيانات اساسية'!$X$6:$X$306=\"وكيل معهد\",ROW(E$11:E$309)-ROW(E$11)+1),ROWS($A$3:E3))),\"\")","v":"ل. دراسات إنسانية 86"},{"$f":"IFERROR(INDEX('بيانات اساسية'!AG$6:AG$306,SMALL(IF('بيانات اساسية'!$X$6:$X$306=\"وكيل معهد\",ROW(F$11:F$309)-ROW(F$11)+1),ROWS($A$3:F3))),\"\")","v":"لغة عربية"},{"$f":"IFERROR(INDEX('بيانات اساسية'!AF$6:AF$306,SMALL(IF('بيانات اساسية'!$X$6:$X$306=\"وكيل معهد\",ROW(G$11:G$309)-ROW(G$11)+1),ROWS($A$3:G3))),\"\")","v":"كبير معلمين"},{"$f":"IFERROR(INDEX('بيانات اساسية'!Y$6:Y$306,SMALL(IF('بيانات اساسية'!$X$6:$X$306=\"وكيل معهد\",ROW(H$11:H$309)-ROW(H$11)+1),ROWS($A$3:H3))),\"\")","v":"الاولى التخصصية"},{"$f":"IFERROR(INDEX('بيانات اساسية'!X$6:X$306,SMALL(IF('بيانات اساسية'!$X$6:$X$306=\"وكيل معهد\",ROW(I$11:I$309)-ROW(I$11)+1),ROWS($A$3:I3))),\"\")","v":"وكيل معهد"},{"$f":"IFERROR(INDEX('بيانات اساسية'!N$6:N$306,SMALL(IF('بيانات اساسية'!$X$6:$X$306=\"وكيل معهد\",ROW(J$11:J$309)-ROW(J$11)+1),ROWS($A$3:J3))),\"\")","v":"1991-01-20"},{"$f":"IFERROR(INDEX('بيانات اساسية'!P$6:P$306,SMALL(IF('بيانات اساسية'!$X$6:$X$306=\"وكيل معهد\",ROW(K$11:K$309)-ROW(K$11)+1),ROWS($A$3:K3))),\"\")","v":"1991-09-22"},{"$f":"IFERROR(INDEX('بيانات اساسية'!J$6:J$306,SMALL(IF('بيانات اساسية'!$X$6:$X$306=\"وكيل معهد\",ROW(L$11:L$309)-ROW(L$11)+1),ROWS($A$3:L3))),\"\")","v":"01146138044"},{"$f":"IFERROR(INDEX('بيانات اساسية'!I$6:I$306,SMALL(IF('بيانات اساسية'!$X$6:$X$306=\"وكيل معهد\",ROW(M$11:M$309)-ROW(M$11)+1),ROWS($A$3:M3))),\"\")","v":"21ش الأميرعزالدين- بولاق أبوالعلا-القاهرة"}]
[null,{"$f":"IFERROR(INDEX('بيانات اساسية'!B$6:B$306,SMALL(IF('بيانات اساسية'!$X$6:$X$306=\"وكيل معهد\",ROW(B$11:B$309)-ROW(B$11)+1),ROWS($A$3:B4))),\"\")","v":""},{"$f":"IFERROR(INDEX('بيانات اساسية'!C$6:C$306,SMALL(IF('بيانات اساسية'!$X$6:$X$306=\"وكيل معهد\",ROW(C$11:C$309)-ROW(C$11)+1),ROWS($A$3:C4))),\"\")","v":""},{"$f":"IFERROR(INDEX('بيانات اساسية'!D$6:D$306,SMALL(IF('بيانات اساسية'!$X$6:$X$306=\"وكيل معهد\",ROW(D$11:D$309)-ROW(D$11)+1),ROWS($A$3:D4))),\"\")","v":""},{"$f":"IFERROR(INDEX('بيانات اساسية'!L$6:L$306,SMALL(IF('بيانات اساسية'!$X$6:$X$306=\"وكيل معهد\",ROW(E$11:E$309)-ROW(E$11)+1),ROWS($A$3:E4))),\"\")","v":""},{"$f":"IFERROR(INDEX('بيانات اساسية'!AG$6:AG$306,SMALL(IF('بيانات اساسية'!$X$6:$X$306=\"وكيل معهد\",ROW(F$11:F$309)-ROW(F$11)+1),ROWS($A$3:F4))),\"\")","v":""},{"$f":"IFERROR(INDEX('بيانات اساسية'!AF$6:AF$306,SMALL(IF('بيانات اساسية'!$X$6:$X$306=\"وكيل معهد\",ROW(G$11:G$309)-ROW(G$11)+1),ROWS($A$3:G4))),\"\")","v":""},{"$f":"IFERROR(INDEX('بيانات اساسية'!Y$6:Y$306,SMALL(IF('بيانات اساسية'!$X$6:$X$306=\"وكيل معهد\",ROW(H$11:H$309)-ROW(H$11)+1),ROWS($A$3:H4))),\"\")","v":""},{"$f":"IFERROR(INDEX('بيانات اساسية'!X$6:X$306,SMALL(IF('بيانات اساسية'!$X$6:$X$306=\"وكيل معهد\",ROW(I$11:I$309)-ROW(I$11)+1),ROWS($A$3:I4))),\"\")","v":""},{"$f":"IFERROR(INDEX('بيانات اساسية'!N$6:N$306,SMALL(IF('بيانات اساسية'!$X$6:$X$306=\"وكيل معهد\",ROW(J$11:J$309)-ROW(J$11)+1),ROWS($A$3:J4))),\"\")","v":""},{"$f":"IFERROR(INDEX('بيانات اساسية'!P$6:P$306,SMALL(IF('بيانات اساسية'!$X$6:$X$306=\"وكيل معهد\",ROW(K$11:K$309)-ROW(K$11)+1),ROWS($A$3:K4))),\"\")","v":""},{"$f":"IFERROR(INDEX('بيانات اساسية'!J$6:J$306,SMALL(IF('بيانات اساسية'!$X$6:$X$306=\"وكيل معهد\",ROW(L$11:L$309)-ROW(L$11)+1),ROWS($A$3:L4))),\"\")","v":""},{"$f":"IFERROR(INDEX('بيانات اساسية'!I$6:I$306,SMALL(IF('بيانات اساسية'!$X$6:$X$306=\"وكيل معهد\",ROW(M$11:M$309)-ROW(M$11)+1),ROWS($A$3:M4))),\"\")","v":""}]
[null,null,"بيانات معلمى مادة / القران الكريم  "]
[]
["م","رقم السجل","الاسم رباعيا","الرقم القومى 14 رقم","المؤهل ","التخصص","الدرجة على الكادر","الدرجة المالية","الوظيفة الحالية","تاريخ التعيين","تاريخ\n اول مباشرة","رقم التلفون","العنوان","الدرجة المالية2","ملاحظات"]
[1,{"$f":"IFERROR(INDEX('بيانات اساسية'!B$6:B$306,SMALL(IF('بيانات اساسية'!$X$6:$X$306=\"معلم قران كريم\",ROW(B$16:B$309)-ROW(B$16)+1),ROWS($A$3:B3))),\"\")","v":273665},{"$f":"IFERROR(INDEX('بيانات اساسية'!C$6:C$306,SMALL(IF('بيانات اساسية'!$X$6:$X$306=\"معلم قران كريم\",ROW(C$16:C$309)-ROW(C$16)+1),ROWS($A$3:C3))),\"\")","v":"محمد جمعه حسين إبراهيم"},{"$f":"IFERROR(INDEX('بيانات اساسية'!D$6:D$306,SMALL(IF('بيانات اساسية'!$X$6:$X$306=\"معلم قران كريم\",ROW(D$16:D$309)-ROW(D$16)+1),ROWS($A$3:D3))),\"\")","v":27105060100959},{"$f":"IFERROR(INDEX('بيانات اساسية'!L$6:L$306,SMALL(IF('بيانات اساسية'!$X$6:$X$306=\"معلم قران كريم\",ROW(E$16:E$309)-ROW(E$16)+1),ROWS($A$3:E3))),\"\")","v":"ب.خدمة إجتماعية 93"},{"$f":"IFERROR(INDEX('بيانات اساسية'!AG$6:AG$306,SMALL(IF('بيانات اساسية'!$X$6:$X$306=\"معلم قران كريم\",ROW(F$16:F$309)-ROW(F$16)+1),ROWS($A$3:F3))),\"\")","v":"قران كريم"},{"$f":"IFERROR(INDEX('بيانات اساسية'!AF$6:AF$306,SMALL(IF('بيانات اساسية'!$X$6:$X$306=\"معلم قران كريم\",ROW(G$16:G$309)-ROW(G$16)+1),ROWS($A$3:G3))),\"\")","v":"معلم"},{"$f":"IFERROR(INDEX('بيانات اساسية'!Y$6:Y$306,SMALL(IF('بيانات اساسية'!$X$6:$X$306=\"معلم قران كريم\",ROW(H$16:H$309)-ROW(H$16)+1),ROWS($A$3:H3))),\"\")","v":"الثانية التخصصية 2014"},{"$f":"IFERROR(INDEX('بيانات اساسية'!X$6:X$306,SMALL(IF('بيانات اساسية'!$X$6:$X$306=\"معلم قران كريم\",ROW(I$16:I$309)-ROW(I$16)+1),ROWS($A$3:I3))),\"\")","v":"معلم قران كريم"},{"$f":"IFERROR(INDEX('بيانات اساسية'!N$6:N$306,SMALL(IF('بيانات اساسية'!$X$6:$X$306=\"معلم قران كريم\",ROW(J$16:J$309)-ROW(J$16)+1),ROWS($A$3:J3))),\"\")","v":"2002-09-04"},{"$f":"IFERROR(INDEX('بيانات اساسية'!P$6:P$306,SMALL(IF('بيانات اساسية'!$X$6:$X$306=\"معلم قران كريم\",ROW(K$16:K$309)-ROW(K$16)+1),ROWS($A$3:K3))),\"\")","v":"2002-09-04"},{"$f":"IFERROR(INDEX('بيانات اساسية'!J$6:J$306,SMALL(IF('بيانات اساسية'!$X$6:$X$306=\"معلم قران كريم\",ROW(L$16:L$309)-ROW(L$16)+1),ROWS($A$3:L3))),\"\")","v":"01141171205"},{"$f":"IFERROR(INDEX('بيانات اساسية'!I$6:I$306,SMALL(IF('بيانات اساسية'!$X$6:$X$306=\"معلم قران كريم\",ROW(M$16:M$309)-ROW(M$16)+1),ROWS($A$3:M3))),\"\")","v":"مساكن إيديال- الشرابية -القاهرة"},"الثانية التخصصية 2014"]
[2,{"$f":"IFERROR(INDEX('بيانات اساسية'!B$6:B$306,SMALL(IF('بيانات اساسية'!$X$6:$X$306=\"معلم قران كريم\",ROW(B$16:B$309)-ROW(B$16)+1),ROWS($A$3:B4))),\"\")","v":362845},{"$f":"IFERROR(INDEX('بيانات اساسية'!C$6:C$306,SMALL(IF('بيانات اساسية'!$X$6:$X$306=\"معلم قران كريم\",ROW(C$16:C$309)-ROW(C$16)+1),ROWS($A$3:C4))),\"\")","v":"طارق عبدالحكيم عبدالسيد توفيق"},{"$f":"IFERROR(INDEX('بيانات اساسية'!D$6:D$306,SMALL(IF('بيانات اساسية'!$X$6:$X$306=\"معلم قران كريم\",ROW(D$16:D$309)-ROW(D$16)+1),ROWS($A$3:D4))),\"\")","v":27411070100152},{"$f":"IFERROR(INDEX('بيانات اساسية'!L$6:L$306,SMALL(IF('بيانات اساسية'!$X$6:$X$306=\"معلم قران كريم\",ROW(E$16:E$309)-ROW(E$16)+1),ROWS($A$3:E4))),\"\")","v":"ل.شريعة وقانون 95"},{"$f":"IFERROR(INDEX('بيانات اساسية'!AG$6:AG$306,SMALL(IF('بيانات اساسية'!$X$6:$X$306=\"معلم قران كريم\",ROW(F$16:F$309)-ROW(F$16)+1),ROWS($A$3:F4))),\"\")","v":"قران كريم"},{"$f":"IFERROR(INDEX('بيانات اساسية'!AF$6:AF$306,SMALL(IF('بيانات اساسية'!$X$6:$X$306=\"معلم قران كريم\",ROW(G$16:G$309)-ROW(G$16)+1),ROWS($A$3:G4))),\"\")","v":"معلم اول"},{"$f":"IFERROR(INDEX('بيانات اساسية'!Y$6:Y$306,SMALL(IF('بيانات اساسية'!$X$6:$X$306=\"معلم قران كريم\",ROW(H$16:H$309)-ROW(H$16)+1),ROWS($A$3:H4))),\"\")","v":"الثانية التخصصية 2018"},{"$f":"IFERROR(INDEX('بيانات اساسية'!X$6:X$306,SMALL(IF('بيانات اساسية'!$X$6:$X$306=\"معلم قران كريم\",ROW(I$16:I$309)-ROW(I$16)+1),ROWS($A$3:I4))),\"\")","v":"معلم قران كريم"},{"$f":"IFERROR(INDEX('بيانات اساسية'!N$6:N$306,SMALL(IF('بيانات اساسية'!$X$6:$X$306=\"معلم قران كريم\",ROW(J$16:J$309)-ROW(J$16)+1),ROWS($A$3:J4))),\"\")","v":"2012-05-07"},{"$f":"IFERROR(INDEX('بيانات اساسية'!P$6:P$306,SMALL(IF('بيانات اساسية'!$X$6:$X$306=\"معلم قران كريم\",ROW(K$16:K$309)-ROW(K$16)+1),ROWS($A$3:K4))),\"\")","v":"2007-02-01"},{"$f":"IFERROR(INDEX('بيانات اساسية'!J$6:J$306,SMALL(IF('بيانات اساسية'!$X$6:$X$306=\"معلم قران كريم\",ROW(L$16:L$309)-ROW(L$16)+1),ROWS($A$3:L4))),\"\")","v":"01008687342"},{"$f":"IFERROR(INDEX('بيانات اساسية'!I$6:I$306,SMALL(IF('بيانات اساسية'!$X$6:$X$306=\"معلم قران كريم\",ROW(M$16:M$309)-ROW(M$16)+1),ROWS($A$3:M4))),\"\")","v":"جروان-الباجور- منوفية"},"الثانية التخصصية 2018"]
[3,{"$f":"IFERROR(INDEX('بيانات اساسية'!B$6:B$306,SMALL(IF('بيانات اساسية'!$X$6:$X$306=\"معلم قران كريم\",ROW(B$16:B$309)-ROW(B$16)+1),ROWS($A$3:B5))),\"\")","v":362961},{"$f":"IFERROR(INDEX('بيانات اساسية'!C$6:C$306,SMALL(IF('بيانات اساسية'!$X$6:$X$306=\"معلم قران كريم\",ROW(C$16:C$309)-ROW(C$16)+1),ROWS($A$3:C5))),\"\")","v":"محمد عبد الحميد محمد عبدالحميد"},{"$f":"IFERROR(INDEX('بيانات اساسية'!D$6:D$306,SMALL(IF('بيانات اساسية'!$X$6:$X$306=\"معلم قران كريم\",ROW(D$16:D$309)-ROW(D$16)+1),ROWS($A$3:D5))),\"\")","v":27708261401198},{"$f":"IFERROR(INDEX('بيانات اساسية'!L$6:L$306,SMALL(IF('بيانات اساسية'!$X$6:$X$306=\"معلم قران كريم\",ROW(E$16:E$309)-ROW(E$16)+1),ROWS($A$3:E5))),\"\")","v":"ل-اصول الدين2001"},{"$f":"IFERROR(INDEX('بيانات اساسية'!AG$6:AG$306,SMALL(IF('بيانات اساسية'!$X$6:$X$306=\"معلم قران كريم\",ROW(F$16:F$309)-ROW(F$16)+1),ROWS($A$3:F5))),\"\")","v":"قران كريم"},{"$f":"IFERROR(INDEX('بيانات اساسية'!AF$6:AF$306,SMALL(IF('بيانات اساسية'!$X$6:$X$306=\"معلم قران كريم\",ROW(G$16:G$309)-ROW(G$16)+1),ROWS($A$3:G5))),\"\")","v":"معلم اول"},{"$f":"IFERROR(INDEX('بيانات اساسية'!Y$6:Y$306,SMALL(IF('بيانات اساسية'!$X$6:$X$306=\"معلم قران كريم\",ROW(H$16:H$309)-ROW(H$16)+1),ROWS($A$3:H5))),\"\")","v":"الثانية التخصصية 2018"},{"$f":"IFERROR(INDEX('بيانات اساسية'!X$6:X$306,SMALL(IF('بيانات اساسية'!$X$6:$X$306=\"معلم قران كريم\",ROW(I$16:I$309)-ROW(I$16)+1),ROWS($A$3:I5))),\"\")","v":"معلم قران كريم"},{"$f":"IFERROR(INDEX('بيانات اساسية'!N$6:N$306,SMALL(IF('بيانات اساسية'!$X$6:$X$306=\"معلم قران كريم\",ROW(J$16:J$309)-ROW(J$16)+1),ROWS($A$3:J5))),\"\")","v":"2012-05-07"},{"$f":"IFERROR(INDEX('بيانات اساسية'!P$6:P$306,SMALL(IF('بيانات اساسية'!$X$6:$X$306=\"معلم قران كريم\",ROW(K$16:K$309)-ROW(K$16)+1),ROWS($A$3:K5))),\"\")","v":"2007-04-03"},{"$f":"IFERROR(INDEX('بيانات اساسية'!J$6:J$306,SMALL(IF('بيانات اساسية'!$X$6:$X$306=\"معلم قران كريم\",ROW(L$16:L$309)-ROW(L$16)+1),ROWS($A$3:L5))),\"\")","v":1555500779},{"$f":"IFERROR(INDEX('بيانات اساسية'!I$6:I$306,SMALL(IF('بيانات اساسية'!$X$6:$X$306=\"معلم قران كريم\",ROW(M$16:M$309)-ROW(M$16)+1),ROWS($A$3:M5))),\"\")","v":"إمياي- طوخ - قليوبية"},"الثانية التخصصية 2018","انتداب كلى لعام دراسى"]
[4,{"$f":"IFERROR(INDEX('بيانات اساسية'!B$6:B$306,SMALL(IF('بيانات اساسية'!$X$6:$X$306=\"معلم قران كريم\",ROW(B$16:B$309)-ROW(B$16)+1),ROWS($A$3:B6))),\"\")","v":362953},{"$f":"IFERROR(INDEX('بيانات اساسية'!C$6:C$306,SMALL(IF('بيانات اساسية'!$X$6:$X$306=\"معلم قران كريم\",ROW(C$16:C$309)-ROW(C$16)+1),ROWS($A$3:C6))),\"\")","v":"شيرين محمد عبدالسميع على "},{"$f":"IFERROR(INDEX('بيانات اساسية'!D$6:D$306,SMALL(IF('بيانات اساسية'!$X$6:$X$306=\"معلم قران كريم\",ROW(D$16:D$309)-ROW(D$16)+1),ROWS($A$3:D6))),\"\")","v":27605202400249},{"$f":"IFERROR(INDEX('بيانات اساسية'!L$6:L$306,SMALL(IF('بيانات اساسية'!$X$6:$X$306=\"معلم قران كريم\",ROW(E$16:E$309)-ROW(E$16)+1),ROWS($A$3:E6))),\"\")","v":"ل.د.إسلامية وعربية 99"},{"$f":"IFERROR(INDEX('بيانات اساسية'!AG$6:AG$306,SMALL(IF('بيانات اساسية'!$X$6:$X$306=\"معلم قران كريم\",ROW(F$16:F$309)-ROW(F$16)+1),ROWS($A$3:F6))),\"\")","v":"قران كريم"},{"$f":"IFERROR(INDEX('بيانات اساسية'!AF$6:AF$306,SMALL(IF('بيانات اساسية'!$X$6:$X$306=\"معلم قران كريم\",ROW(G$16:G$309)-ROW(G$16)+1),ROWS($A$3:G6))),\"\")","v":"معلم اول"},{"$f":"IFERROR(INDEX('بيانات اساسية'!Y$6:Y$306,SMALL(IF('بيانات اساسية'!$X$6:$X$306=\"معلم قران كريم\",ROW(H$16:H$309)-ROW(H$16)+1),ROWS($A$3:H6))),\"\")","v":"الثانية التخصصية 2018"},{"$f":"IFERROR(INDEX('بيانات اساسية'!X$6:X$306,SMALL(IF('بيانات اساسية'!$X$6:$X$306=\"معلم قران كريم\",ROW(I$16:I$309)-ROW(I$16)+1),ROWS($A$3:I6))),\"\")","v":"معلم قران كريم"},{"$f":"IFERROR(INDEX('بيانات اساسية'!N$6:N$306,SMALL(IF('بيانات اساسية'!$X$6:$X$306=\"معلم قران كريم\",ROW(J$16:J$309)-ROW(J$16)+1),ROWS($A$3:J6))),\"\")","v":"2012-05-07"},{"$f":"IFERROR(INDEX('بيانات اساسية'!P$6:P$306,SMALL(IF('بيانات اساسية'!$X$6:$X$306=\"معلم قران كريم\",ROW(K$16:K$309)-ROW(K$16)+1),ROWS($A$3:K6))),\"\")","v":"2007-02-01"},{"$f":"IFERROR(INDEX('بيانات اساسية'!J$6:J$306,SMALL(IF('بيانات اساسية'!$X$6:$X$306=\"معلم قران كريم\",ROW(L$16:L$309)-ROW(L$16)+1),ROWS($A$3:L6))),\"\")","v":"01281182603"},{"$f":"IFERROR(INDEX('بيانات اساسية'!I$6:I$306,SMALL(IF('بيانات اساسية'!$X$6:$X$306=\"معلم قران كريم\",ROW(M$16:M$309)-ROW(M$16)+1),ROWS($A$3:M6))),\"\")","v":"الحى الأول 166-الشرق - القاهرة ."},"الثالثة الفنية 2008"]
[5,{"$f":"IFERROR(INDEX('بيانات اساسية'!B$6:B$306,SMALL(IF('بيانات اساسية'!$X$6:$X$306=\"معلم قران كريم\",ROW(B$16:B$309)-ROW(B$16)+1),ROWS($A$3:B7))),\"\")","v":363040},{"$f":"IFERROR(INDEX('بيانات اساسية'!C$6:C$306,SMALL(IF('بيانات اساسية'!$X$6:$X$306=\"معلم قران كريم\",ROW(C$16:C$309)-ROW(C$16)+1),ROWS($A$3:C7))),\"\")","v":"هناء محمود عبدالعزيز البرص"},{"$f":"IFERROR(INDEX('بيانات اساسية'!D$6:D$306,SMALL(IF('بيانات اساسية'!$X$6:$X$306=\"معلم قران كريم\",ROW(D$16:D$309)-ROW(D$16)+1),ROWS($A$3:D7))),\"\")","v":27810301401004},{"$f":"IFERROR(INDEX('بيانات اساسية'!L$6:L$306,SMALL(IF('بيانات اساسية'!$X$6:$X$306=\"معلم قران كريم\",ROW(E$16:E$309)-ROW(E$16)+1),ROWS($A$3:E7))),\"\")","v":"ل.د.إسلامية وعربية 2000"},{"$f":"IFERROR(INDEX('بيانات اساسية'!AG$6:AG$306,SMALL(IF('بيانات اساسية'!$X$6:$X$306=\"معلم قران كريم\",ROW(F$16:F$309)-ROW(F$16)+1),ROWS($A$3:F7))),\"\")","v":"قران كريم"},{"$f":"IFERROR(INDEX('بيانات اساسية'!AF$6:AF$306,SMALL(IF('بيانات اساسية'!$X$6:$X$306=\"معلم قران كريم\",ROW(G$16:G$309)-ROW(G$16)+1),ROWS($A$3:G7))),\"\")","v":"معلم اول"},{"$f":"IFERROR(INDEX('بيانات اساسية'!Y$6:Y$306,SMALL(IF('بيانات اساسية'!$X$6:$X$306=\"معلم قران كريم\",ROW(H$16:H$309)-ROW(H$16)+1),ROWS($A$3:H7))),\"\")","v":"الثانية التخصصية 2018"},{"$f":"IFERROR(INDEX('بيانات اساسية'!X$6:X$306,SMALL(IF('بيانات اساسية'!$X$6:$X$306=\"معلم قران كريم\",ROW(I$16:I$309)-ROW(I$16)+1),ROWS($A$3:I7))),\"\")","v":"معلم قران كريم"},{"$f":"IFERROR(INDEX('بيانات اساسية'!N$6:N$306,SMALL(IF('بيانات اساسية'!$X$6:$X$306=\"معلم قران كريم\",ROW(J$16:J$309)-ROW(J$16)+1),ROWS($A$3:J7))),\"\")","v":"2012-05-07"},{"$f":"IFERROR(INDEX('بيانات اساسية'!P$6:P$306,SMALL(IF('بيانات اساسية'!$X$6:$X$306=\"معلم قران كريم\",ROW(K$16:K$309)-ROW(K$16)+1),ROWS($A$3:K7))),\"\")","v":"2007-02-01"},{"$f":"IFERROR(INDEX('بيانات اساسية'!J$6:J$306,SMALL(IF('بيانات اساسية'!$X$6:$X$306=\"معلم قران كريم\",ROW(L$16:L$309)-ROW(L$16)+1),ROWS($A$3:L7))),\"\")","v":"01277374985"},{"$f":"IFERROR(INDEX('بيانات اساسية'!I$6:I$306,SMALL(IF('بيانات اساسية'!$X$6:$X$306=\"معلم قران كريم\",ROW(M$16:M$309)-ROW(M$16)+1),ROWS($A$3:M7))),\"\")","v":"مساكن دمنهور- شبرا الخيمة - قليوبية"},"الثانية التخصصية 2018"]
[6,{"$f":"IFERROR(INDEX('بيانات اساسية'!B$6:B$306,SMALL(IF('بيانات اساسية'!$X$6:$X$306=\"معلم قران كريم\",ROW(B$16:B$309)-ROW(B$16)+1),ROWS($A$3:B8))),\"\")","v":362805},{"$f":"IFERROR(INDEX('بيانات اساسية'!C$6:C$306,SMALL(IF('بيانات اساسية'!$X$6:$X$306=\"معلم قران كريم\",ROW(C$16:C$309)-ROW(C$16)+1),ROWS($A$3:C8))),\"\")","v":"صباح حافظ على على "},{"$f":"IFERROR(INDEX('بيانات اساسية'!D$6:D$306,SMALL(IF('بيانات اساسية'!$X$6:$X$306=\"معلم قران كريم\",ROW(D$16:D$309)-ROW(D$16)+1),ROWS($A$3:D8))),\"\")","v":27402241401041},{"$f":"IFERROR(INDEX('بيانات اساسية'!L$6:L$306,SMALL(IF('بيانات اساسية'!$X$6:$X$306=\"معلم قران كريم\",ROW(E$16:E$309)-ROW(E$16)+1),ROWS($A$3:E8))),\"\")","v":"ل.أصول دين 96"},{"$f":"IFERROR(INDEX('بيانات اساسية'!AG$6:AG$306,SMALL(IF('بيانات اساسية'!$X$6:$X$306=\"معلم قران كريم\",ROW(F$16:F$309)-ROW(F$16)+1),ROWS($A$3:F8))),\"\")","v":"قران كريم"},{"$f":"IFERROR(INDEX('بيانات اساسية'!AF$6:AF$306,SMALL(IF('بيانات اساسية'!$X$6:$X$306=\"معلم قران كريم\",ROW(G$16:G$309)-ROW(G$16)+1),ROWS($A$3:G8))),\"\")","v":"معلم اول"},{"$f":"IFERROR(INDEX('بيانات اساسية'!Y$6:Y$306,SMALL(IF('بيانات اساسية'!$X$6:$X$306=\"معلم قران كريم\",ROW(H$16:H$309)-ROW(H$16)+1),ROWS($A$3:H8))),\"\")","v":"الثانية التخصصية 2018"},{"$f":"IFERROR(INDEX('بيانات اساسية'!X$6:X$306,SMALL(IF('بيانات اساسية'!$X$6:$X$306=\"معلم قران كريم\",ROW(I$16:I$309)-ROW(I$16)+1),ROWS($A$3:I8))),\"\")","v":"معلم قران كريم"},{"$f":"IFERROR(INDEX('بيانات اساسية'!N$6:N$306,SMALL(IF('بيانات اساسية'!$X$6:$X$306=\"معلم قران كريم\",ROW(J$16:J$309)-ROW(J$16)+1),ROWS($A$3:J8))),\"\")","v":"2012-05-07"},{"$f":"IFERROR(INDEX('بيانات اساسية'!P$6:P$306,SMALL(IF('بيانات اساسية'!$X$6:$X$306=\"معلم قران كريم\",ROW(K$16:K$309)-ROW(K$16)+1),ROWS($A$3:K8))),\"\")","v":"2007-02-01"},{"$f":"IFERROR(INDEX('بيانات اساسية'!J$6:J$306,SMALL(IF('بيانات اساسية'!$X$6:$X$306=\"معلم قران كريم\",ROW(L$16:L$309)-ROW(L$16)+1),ROWS($A$3:L8))),\"\")","v":"01149003895"},{"$f":"IFERROR(INDEX('بيانات اساسية'!I$6:I$306,SMALL(IF('بيانات اساسية'!$X$6:$X$306=\"معلم قران كريم\",ROW(M$16:M$309)-ROW(M$16)+1),ROWS($A$3:M8))),\"\")","v":"24ش ورشة البلاط-الفرنوانى -شبرا الخيمة"},"الثانية التخصصية 2018"]
[7,{"$f":"IFERROR(INDEX('بيانات اساسية'!B$6:B$306,SMALL(IF('بيانات اساسية'!$X$6:$X$306=\"معلم قران كريم\",ROW(B$16:B$309)-ROW(B$16)+1),ROWS($A$3:B9))),\"\")","v":363014},{"$f":"IFERROR(INDEX('بيانات اساسية'!C$6:C$306,SMALL(IF('بيانات اساسية'!$X$6:$X$306=\"معلم قران كريم\",ROW(C$16:C$309)-ROW(C$16)+1),ROWS($A$3:C9))),\"\")","v":"جيهان جوده السيد أحمد "},{"$f":"IFERROR(INDEX('بيانات اساسية'!D$6:D$306,SMALL(IF('بيانات اساسية'!$X$6:$X$306=\"معلم قران كريم\",ROW(D$16:D$309)-ROW(D$16)+1),ROWS($A$3:D9))),\"\")","v":27404051400808},{"$f":"IFERROR(INDEX('بيانات اساسية'!L$6:L$306,SMALL(IF('بيانات اساسية'!$X$6:$X$306=\"معلم قران كريم\",ROW(E$16:E$309)-ROW(E$16)+1),ROWS($A$3:E9))),\"\")","v":"ل.د.إسلامية 96"},{"$f":"IFERROR(INDEX('بيانات اساسية'!AG$6:AG$306,SMALL(IF('بيانات اساسية'!$X$6:$X$306=\"معلم قران كريم\",ROW(F$16:F$309)-ROW(F$16)+1),ROWS($A$3:F9))),\"\")","v":"قران كريم"},{"$f":"IFERROR(INDEX('بيانات اساسية'!AF$6:AF$306,SMALL(IF('بيانات اساسية'!$X$6:$X$306=\"معلم قران كريم\",ROW(G$16:G$309)-ROW(G$16)+1),ROWS($A$3:G9))),\"\")","v":"معلم اول"},{"$f":"IFERROR(INDEX('بيانات اساسية'!Y$6:Y$306,SMALL(IF('بيانات اساسية'!$X$6:$X$306=\"معلم قران كريم\",ROW(H$16:H$309)-ROW(H$16)+1),ROWS($A$3:H9))),\"\")","v":" الثالثة التخصصية2007"},{"$f":"IFERROR(INDEX('بيانات اساسية'!X$6:X$306,SMALL(IF('بيانات اساسية'!$X$6:$X$306=\"معلم قران كريم\",ROW(I$16:I$309)-ROW(I$16)+1),ROWS($A$3:I9))),\"\")","v":"معلم قران كريم"},{"$f":"IFERROR(INDEX('بيانات اساسية'!N$6:N$306,SMALL(IF('بيانات اساسية'!$X$6:$X$306=\"معلم قران كريم\",ROW(J$16:J$309)-ROW(J$16)+1),ROWS($A$3:J9))),\"\")","v":"2012-05-07"},{"$f":"IFERROR(INDEX('بيانات اساسية'!P$6:P$306,SMALL(IF('بيانات اساسية'!$X$6:$X$306=\"معلم قران كريم\",ROW(K$16:K$309)-ROW(K$16)+1),ROWS($A$3:K9))),\"\")","v":"2007-02-01"},{"$f":"IFERROR(INDEX('بيانات اساسية'!J$6:J$306,SMALL(IF('بيانات اساسية'!$X$6:$X$306=\"معلم قران كريم\",ROW(L$16:L$309)-ROW(L$16)+1),ROWS($A$3:L9))),\"\")","v":1227105071},{"$f":"IFERROR(INDEX('بيانات اساسية'!I$6:I$306,SMALL(IF('بيانات اساسية'!$X$6:$X$306=\"معلم قران كريم\",ROW(M$16:M$309)-ROW(M$16)+1),ROWS($A$3:M9))),\"\")","v":"8ش محمد فيضى- الشرقاوية- شبرا الخيمة"},"الثانية التخصصية 2018"]
[8,{"$f":"IFERROR(INDEX('بيانات اساسية'!B$6:B$306,SMALL(IF('بيانات اساسية'!$X$6:$X$306=\"معلم قران كريم\",ROW(B$16:B$309)-ROW(B$16)+1),ROWS($A$3:B10))),\"\")","v":268424},{"$f":"IFERROR(INDEX('بيانات اساسية'!C$6:C$306,SMALL(IF('بيانات اساسية'!$X$6:$X$306=\"معلم قران كريم\",ROW(C$16:C$309)-ROW(C$16)+1),ROWS($A$3:C10))),\"\")","v":"محمد محمود محمد رشدى"},{"$f":"IFERROR(INDEX('بيانات اساسية'!D$6:D$306,SMALL(IF('بيانات اساسية'!$X$6:$X$306=\"معلم قران كريم\",ROW(D$16:D$309)-ROW(D$16)+1),ROWS($A$3:D10))),\"\")","v":27708300101431},{"$f":"IFERROR(INDEX('بيانات اساسية'!L$6:L$306,SMALL(IF('بيانات اساسية'!$X$6:$X$306=\"معلم قران كريم\",ROW(E$16:E$309)-ROW(E$16)+1),ROWS($A$3:E10))),\"\")","v":"د.صنايع 95"},{"$f":"IFERROR(INDEX('بيانات اساسية'!AG$6:AG$306,SMALL(IF('بيانات اساسية'!$X$6:$X$306=\"معلم قران كريم\",ROW(F$16:F$309)-ROW(F$16)+1),ROWS($A$3:F10))),\"\")","v":"قران كريم"},{"$f":"IFERROR(INDEX('بيانات اساسية'!AF$6:AF$306,SMALL(IF('بيانات اساسية'!$X$6:$X$306=\"معلم قران كريم\",ROW(G$16:G$309)-ROW(G$16)+1),ROWS($A$3:G10))),\"\")","v":"محفظ"},{"$f":"IFERROR(INDEX('بيانات اساسية'!Y$6:Y$306,SMALL(IF('بيانات اساسية'!$X$6:$X$306=\"معلم قران كريم\",ROW(H$16:H$309)-ROW(H$16)+1),ROWS($A$3:H10))),\"\")","v":"الثالثة الفنية 2008"},{"$f":"IFERROR(INDEX('بيانات اساسية'!X$6:X$306,SMALL(IF('بيانات اساسية'!$X$6:$X$306=\"معلم قران كريم\",ROW(I$16:I$309)-ROW(I$16)+1),ROWS($A$3:I10))),\"\")","v":"معلم قران كريم"},{"$f":"IFERROR(INDEX('بيانات اساسية'!N$6:N$306,SMALL(IF('بيانات اساسية'!$X$6:$X$306=\"معلم قران كريم\",ROW(J$16:J$309)-ROW(J$16)+1),ROWS($A$3:J10))),\"\")","v":"2002-09-04"},{"$f":"IFERROR(INDEX('بيانات اساسية'!P$6:P$306,SMALL(IF('بيانات اساسية'!$X$6:$X$306=\"معلم قران كريم\",ROW(K$16:K$309)-ROW(K$16)+1),ROWS($A$3:K10))),\"\")","v":"2003-01-01"},{"$f":"IFERROR(INDEX('بيانات اساسية'!J$6:J$306,SMALL(IF('بيانات اساسية'!$X$6:$X$306=\"معلم قران كريم\",ROW(L$16:L$309)-ROW(L$16)+1),ROWS($A$3:L10))),\"\")","v":"011505074071"},{"$f":"IFERROR(INDEX('بيانات اساسية'!I$6:I$306,SMALL(IF('بيانات اساسية'!$X$6:$X$306=\"معلم قران كريم\",ROW(M$16:M$309)-ROW(M$16)+1),ROWS($A$3:M10))),\"\")","v":"18ش -أحمد خليل-الزاوية الحمراء-القاهرة"}," الثالثة التخصصية2007","انتداب 3ايام اللواء يحي ع/ث"]
[null,{"$f":"IFERROR(INDEX('بيانات اساسية'!B$6:B$306,SMALL(IF('بيانات اساسية'!$X$6:$X$306=\"معلم قران كريم\",ROW(B$16:B$309)-ROW(B$16)+1),ROWS($A$3:B11))),\"\")","v":363796},{"$f":"IFERROR(INDEX('بيانات اساسية'!C$6:C$306,SMALL(IF('بيانات اساسية'!$X$6:$X$306=\"معلم قران كريم\",ROW(C$16:C$309)-ROW(C$16)+1),ROWS($A$3:C11))),\"\")","v":"لوزة السيد إسماعيل مصطفى"},{"$f":"IFERROR(INDEX('بيانات اساسية'!D$6:D$306,SMALL(IF('بيانات اساسية'!$X$6:$X$306=\"معلم قران كريم\",ROW(D$16:D$309)-ROW(D$16)+1),ROWS($A$3:D11))),\"\")","v":26402201202808},{"$f":"IFERROR(INDEX('بيانات اساسية'!L$6:L$306,SMALL(IF('بيانات اساسية'!$X$6:$X$306=\"معلم قران كريم\",ROW(E$16:E$309)-ROW(E$16)+1),ROWS($A$3:E11))),\"\")","v":"دبلوم تجاره1984"},{"$f":"IFERROR(INDEX('بيانات اساسية'!AG$6:AG$306,SMALL(IF('بيانات اساسية'!$X$6:$X$306=\"معلم قران كريم\",ROW(F$16:F$309)-ROW(F$16)+1),ROWS($A$3:F11))),\"\")","v":"قران كريم"},{"$f":"IFERROR(INDEX('بيانات اساسية'!AF$6:AF$306,SMALL(IF('بيانات اساسية'!$X$6:$X$306=\"معلم قران كريم\",ROW(G$16:G$309)-ROW(G$16)+1),ROWS($A$3:G11))),\"\")","v":"محفظ"},{"$f":"IFERROR(INDEX('بيانات اساسية'!Y$6:Y$306,SMALL(IF('بيانات اساسية'!$X$6:$X$306=\"معلم قران كريم\",ROW(H$16:H$309)-ROW(H$16)+1),ROWS($A$3:H11))),\"\")","v":"الرابعة الفنية"},{"$f":"IFERROR(INDEX('بيانات اساسية'!X$6:X$306,SMALL(IF('بيانات اساسية'!$X$6:$X$306=\"معلم قران كريم\",ROW(I$16:I$309)-ROW(I$16)+1),ROWS($A$3:I11))),\"\")","v":"معلم قران كريم"},{"$f":"IFERROR(INDEX('بيانات اساسية'!N$6:N$306,SMALL(IF('بيانات اساسية'!$X$6:$X$306=\"معلم قران كريم\",ROW(J$16:J$309)-ROW(J$16)+1),ROWS($A$3:J11))),\"\")","v":"2012-05-07"},{"$f":"IFERROR(INDEX('بيانات اساسية'!P$6:P$306,SMALL(IF('بيانات اساسية'!$X$6:$X$306=\"معلم قران كريم\",ROW(K$16:K$309)-ROW(K$16)+1),ROWS($A$3:K11))),\"\")","v":"2007-02-01"},{"$f":"IFERROR(INDEX('بيانات اساسية'!J$6:J$306,SMALL(IF('بيانات اساسية'!$X$6:$X$306=\"معلم قران كريم\",ROW(L$16:L$309)-ROW(L$16)+1),ROWS($A$3:L11))),\"\")","v":"01063346364"},{"$f":"IFERROR(INDEX('بيانات اساسية'!I$6:I$306,SMALL(IF('بيانات اساسية'!$X$6:$X$306=\"معلم قران كريم\",ROW(M$16:M$309)-ROW(M$16)+1),ROWS($A$3:M11))),\"\")","v":"الشيخ زايد-الحى الحادى عشر- 6أكتوبر"}]
[null,{"$f":"IFERROR(INDEX('بيانات اساسية'!B$6:B$306,SMALL(IF('بيانات اساسية'!$X$6:$X$306=\"معلم قران كريم\",ROW(B$16:B$309)-ROW(B$16)+1),ROWS($A$3:B12))),\"\")","v":""},{"$f":"IFERROR(INDEX('بيانات اساسية'!C$6:C$306,SMALL(IF('بيانات اساسية'!$X$6:$X$306=\"معلم قران كريم\",ROW(C$16:C$309)-ROW(C$16)+1),ROWS($A$3:C12))),\"\")","v":""},{"$f":"IFERROR(INDEX('بيانات اساسية'!D$6:D$306,SMALL(IF('بيانات اساسية'!$X$6:$X$306=\"معلم قران كريم\",ROW(D$16:D$309)-ROW(D$16)+1),ROWS($A$3:D12))),\"\")","v":""},{"$f":"IFERROR(INDEX('بيانات اساسية'!L$6:L$306,SMALL(IF('بيانات اساسية'!$X$6:$X$306=\"معلم قران كريم\",ROW(E$16:E$309)-ROW(E$16)+1),ROWS($A$3:E12))),\"\")","v":""},{"$f":"IFERROR(INDEX('بيانات اساسية'!AG$6:AG$306,SMALL(IF('بيانات اساسية'!$X$6:$X$306=\"معلم قران كريم\",ROW(F$16:F$309)-ROW(F$16)+1),ROWS($A$3:F12))),\"\")","v":""},{"$f":"IFERROR(INDEX('بيانات اساسية'!AF$6:AF$306,SMALL(IF('بيانات اساسية'!$X$6:$X$306=\"معلم قران كريم\",ROW(G$16:G$309)-ROW(G$16)+1),ROWS($A$3:G12))),\"\")","v":""},{"$f":"IFERROR(INDEX('بيانات اساسية'!Y$6:Y$306,SMALL(IF('بيانات اساسية'!$X$6:$X$306=\"معلم قران كريم\",ROW(H$16:H$309)-ROW(H$16)+1),ROWS($A$3:H12))),\"\")","v":""},{"$f":"IFERROR(INDEX('بيانات اساسية'!X$6:X$306,SMALL(IF('بيانات اساسية'!$X$6:$X$306=\"معلم قران كريم\",ROW(I$16:I$309)-ROW(I$16)+1),ROWS($A$3:I12))),\"\")","v":""},{"$f":"IFERROR(INDEX('بيانات اساسية'!N$6:N$306,SMALL(IF('بيانات اساسية'!$X$6:$X$306=\"معلم قران كريم\",ROW(J$16:J$309)-ROW(J$16)+1),ROWS($A$3:J12))),\"\")","v":""},{"$f":"IFERROR(INDEX('بيانات اساسية'!P$6:P$306,SMALL(IF('بيانات اساسية'!$X$6:$X$306=\"معلم قران كريم\",ROW(K$16:K$309)-ROW(K$16)+1),ROWS($A$3:K12))),\"\")","v":""},{"$f":"IFERROR(INDEX('بيانات اساسية'!J$6:J$306,SMALL(IF('بيانات اساسية'!$X$6:$X$306=\"معلم قران كريم\",ROW(L$16:L$309)-ROW(L$16)+1),ROWS($A$3:L12))),\"\")","v":""},{"$f":"IFERROR(INDEX('بيانات اساسية'!I$6:I$306,SMALL(IF('بيانات اساسية'!$X$6:$X$306=\"معلم قران كريم\",ROW(M$16:M$309)-ROW(M$16)+1),ROWS($A$3:M12))),\"\")","v":""}]
[null,{"$f":"IFERROR(INDEX('بيانات اساسية'!B$6:B$306,SMALL(IF('بيانات اساسية'!$X$6:$X$306=\"معلم قران كريم\",ROW(B$16:B$309)-ROW(B$16)+1),ROWS($A$3:B13))),\"\")","v":""},{"$f":"IFERROR(INDEX('بيانات اساسية'!C$6:C$306,SMALL(IF('بيانات اساسية'!$X$6:$X$306=\"معلم قران كريم\",ROW(C$16:C$309)-ROW(C$16)+1),ROWS($A$3:C13))),\"\")","v":""},{"$f":"IFERROR(INDEX('بيانات اساسية'!D$6:D$306,SMALL(IF('بيانات اساسية'!$X$6:$X$306=\"معلم قران كريم\",ROW(D$16:D$309)-ROW(D$16)+1),ROWS($A$3:D13))),\"\")","v":""},{"$f":"IFERROR(INDEX('بيانات اساسية'!L$6:L$306,SMALL(IF('بيانات اساسية'!$X$6:$X$306=\"معلم قران كريم\",ROW(E$16:E$309)-ROW(E$16)+1),ROWS($A$3:E13))),\"\")","v":""},{"$f":"IFERROR(INDEX('بيانات اساسية'!AG$6:AG$306,SMALL(IF('بيانات اساسية'!$X$6:$X$306=\"معلم قران كريم\",ROW(F$16:F$309)-ROW(F$16)+1),ROWS($A$3:F13))),\"\")","v":""},{"$f":"IFERROR(INDEX('بيانات اساسية'!AF$6:AF$306,SMALL(IF('بيانات اساسية'!$X$6:$X$306=\"معلم قران كريم\",ROW(G$16:G$309)-ROW(G$16)+1),ROWS($A$3:G13))),\"\")","v":""},{"$f":"IFERROR(INDEX('بيانات اساسية'!Y$6:Y$306,SMALL(IF('بيانات اساسية'!$X$6:$X$306=\"معلم قران كريم\",ROW(H$16:H$309)-ROW(H$16)+1),ROWS($A$3:H13))),\"\")","v":""},{"$f":"IFERROR(INDEX('بيانات اساسية'!X$6:X$306,SMALL(IF('بيانات اساسية'!$X$6:$X$306=\"معلم قران كريم\",ROW(I$16:I$309)-ROW(I$16)+1),ROWS($A$3:I13))),\"\")","v":""},{"$f":"IFERROR(INDEX('بيانات اساسية'!N$6:N$306,SMALL(IF('بيانات اساسية'!$X$6:$X$306=\"معلم قران كريم\",ROW(J$16:J$309)-ROW(J$16)+1),ROWS($A$3:J13))),\"\")","v":""},{"$f":"IFERROR(INDEX('بيانات اساسية'!P$6:P$306,SMALL(IF('بيانات اساسية'!$X$6:$X$306=\"معلم قران كريم\",ROW(K$16:K$309)-ROW(K$16)+1),ROWS($A$3:K13))),\"\")","v":""},{"$f":"IFERROR(INDEX('بيانات اساسية'!J$6:J$306,SMALL(IF('بيانات اساسية'!$X$6:$X$306=\"معلم قران كريم\",ROW(L$16:L$309)-ROW(L$16)+1),ROWS($A$3:L13))),\"\")","v":""},{"$f":"IFERROR(INDEX('بيانات اساسية'!I$6:I$306,SMALL(IF('بيانات اساسية'!$X$6:$X$306=\"معلم قران كريم\",ROW(M$16:M$309)-ROW(M$16)+1),ROWS($A$3:M13))),\"\")","v":""}]
[null,{"$f":"IFERROR(INDEX('بيانات اساسية'!B$6:B$306,SMALL(IF('بيانات اساسية'!$X$6:$X$306=\"معلم قران كريم\",ROW(B$16:B$309)-ROW(B$16)+1),ROWS($A$3:B14))),\"\")","v":""},{"$f":"IFERROR(INDEX('بيانات اساسية'!C$6:C$306,SMALL(IF('بيانات اساسية'!$X$6:$X$306=\"معلم قران كريم\",ROW(C$16:C$309)-ROW(C$16)+1),ROWS($A$3:C14))),\"\")","v":""},{"$f":"IFERROR(INDEX('بيانات اساسية'!D$6:D$306,SMALL(IF('بيانات اساسية'!$X$6:$X$306=\"معلم قران كريم\",ROW(D$16:D$309)-ROW(D$16)+1),ROWS($A$3:D14))),\"\")","v":""},{"$f":"IFERROR(INDEX('بيانات اساسية'!L$6:L$306,SMALL(IF('بيانات اساسية'!$X$6:$X$306=\"معلم قران كريم\",ROW(E$16:E$309)-ROW(E$16)+1),ROWS($A$3:E14))),\"\")","v":""},{"$f":"IFERROR(INDEX('بيانات اساسية'!AG$6:AG$306,SMALL(IF('بيانات اساسية'!$X$6:$X$306=\"معلم قران كريم\",ROW(F$16:F$309)-ROW(F$16)+1),ROWS($A$3:F14))),\"\")","v":""},{"$f":"IFERROR(INDEX('بيانات اساسية'!AF$6:AF$306,SMALL(IF('بيانات اساسية'!$X$6:$X$306=\"معلم قران كريم\",ROW(G$16:G$309)-ROW(G$16)+1),ROWS($A$3:G14))),\"\")","v":""},{"$f":"IFERROR(INDEX('بيانات اساسية'!Y$6:Y$306,SMALL(IF('بيانات اساسية'!$X$6:$X$306=\"معلم قران كريم\",ROW(H$16:H$309)-ROW(H$16)+1),ROWS($A$3:H14))),\"\")","v":""},{"$f":"IFERROR(INDEX('بيانات اساسية'!X$6:X$306,SMALL(IF('بيانات اساسية'!$X$6:$X$306=\"معلم قران كريم\",ROW(I$16:I$309)-ROW(I$16)+1),ROWS($A$3:I14))),\"\")","v":""},{"$f":"IFERROR(INDEX('بيانات اساسية'!N$6:N$306,SMALL(IF('بيانات اساسية'!$X$6:$X$306=\"معلم قران كريم\",ROW(J$16:J$309)-ROW(J$16)+1),ROWS($A$3:J14))),\"\")","v":""},{"$f":"IFERROR(INDEX('بيانات اساسية'!P$6:P$306,SMALL(IF('بيانات اساسية'!$X$6:$X$306=\"معلم قران كريم\",ROW(K$16:K$309)-ROW(K$16)+1),ROWS($A$3:K14))),\"\")","v":""},{"$f":"IFERROR(INDEX('بيانات اساسية'!J$6:J$306,SMALL(IF('بيانات اساسية'!$X$6:$X$306=\"معلم قران كريم\",ROW(L$16:L$309)-ROW(L$16)+1),ROWS($A$3:L14))),\"\")","v":""},{"$f":"IFERROR(INDEX('بيانات اساسية'!I$6:I$306,SMALL(IF('بيانات اساسية'!$X$6:$X$306=\"معلم قران كريم\",ROW(M$16:M$309)-ROW(M$16)+1),ROWS($A$3:M14))),\"\")","v":""}]
[null,{"$f":"IFERROR(INDEX('بيانات اساسية'!B$6:B$306,SMALL(IF('بيانات اساسية'!$X$6:$X$306=\"معلم قران كريم\",ROW(B$16:B$309)-ROW(B$16)+1),ROWS($A$3:B15))),\"\")","v":""},{"$f":"IFERROR(INDEX('بيانات اساسية'!C$6:C$306,SMALL(IF('بيانات اساسية'!$X$6:$X$306=\"معلم قران كريم\",ROW(C$16:C$309)-ROW(C$16)+1),ROWS($A$3:C15))),\"\")","v":""},{"$f":"IFERROR(INDEX('بيانات اساسية'!D$6:D$306,SMALL(IF('بيانات اساسية'!$X$6:$X$306=\"معلم قران كريم\",ROW(D$16:D$309)-ROW(D$16)+1),ROWS($A$3:D15))),\"\")","v":""},{"$f":"IFERROR(INDEX('بيانات اساسية'!L$6:L$306,SMALL(IF('بيانات اساسية'!$X$6:$X$306=\"معلم قران كريم\",ROW(E$16:E$309)-ROW(E$16)+1),ROWS($A$3:E15))),\"\")","v":""},{"$f":"IFERROR(INDEX('بيانات اساسية'!AG$6:AG$306,SMALL(IF('بيانات اساسية'!$X$6:$X$306=\"معلم قران كريم\",ROW(F$16:F$309)-ROW(F$16)+1),ROWS($A$3:F15))),\"\")","v":""},{"$f":"IFERROR(INDEX('بيانات اساسية'!AF$6:AF$306,SMALL(IF('بيانات اساسية'!$X$6:$X$306=\"معلم قران كريم\",ROW(G$16:G$309)-ROW(G$16)+1),ROWS($A$3:G15))),\"\")","v":""},{"$f":"IFERROR(INDEX('بيانات اساسية'!Y$6:Y$306,SMALL(IF('بيانات اساسية'!$X$6:$X$306=\"معلم قران كريم\",ROW(H$16:H$309)-ROW(H$16)+1),ROWS($A$3:H15))),\"\")","v":""},{"$f":"IFERROR(INDEX('بيانات اساسية'!X$6:X$306,SMALL(IF('بيانات اساسية'!$X$6:$X$306=\"معلم قران كريم\",ROW(I$16:I$309)-ROW(I$16)+1),ROWS($A$3:I15))),\"\")","v":""},{"$f":"IFERROR(INDEX('بيانات اساسية'!N$6:N$306,SMALL(IF('بيانات اساسية'!$X$6:$X$306=\"معلم قران كريم\",ROW(J$16:J$309)-ROW(J$16)+1),ROWS($A$3:J15))),\"\")","v":""},{"$f":"IFERROR(INDEX('بيانات اساسية'!P$6:P$306,SMALL(IF('بيانات اساسية'!$X$6:$X$306=\"معلم قران كريم\",ROW(K$16:K$309)-ROW(K$16)+1),ROWS($A$3:K15))),\"\")","v":""},{"$f":"IFERROR(INDEX('بيانات اساسية'!J$6:J$306,SMALL(IF('بيانات اساسية'!$X$6:$X$306=\"معلم قران كريم\",ROW(L$16:L$309)-ROW(L$16)+1),ROWS($A$3:L15))),\"\")","v":""},{"$f":"IFERROR(INDEX('بيانات اساسية'!I$6:I$306,SMALL(IF('بيانات اساسية'!$X$6:$X$306=\"معلم قران كريم\",ROW(M$16:M$309)-ROW(M$16)+1),ROWS($A$3:M15))),\"\")","v":""}]
[null,{"$f":"IFERROR(INDEX('بيانات اساسية'!B$6:B$306,SMALL(IF('بيانات اساسية'!$X$6:$X$306=\"معلم قران كريم\",ROW(B$16:B$309)-ROW(B$16)+1),ROWS($A$3:B16))),\"\")","v":""},{"$f":"IFERROR(INDEX('بيانات اساسية'!C$6:C$306,SMALL(IF('بيانات اساسية'!$X$6:$X$306=\"معلم قران كريم\",ROW(C$16:C$309)-ROW(C$16)+1),ROWS($A$3:C16))),\"\")","v":""},{"$f":"IFERROR(INDEX('بيانات اساسية'!D$6:D$306,SMALL(IF('بيانات اساسية'!$X$6:$X$306=\"معلم قران كريم\",ROW(D$16:D$309)-ROW(D$16)+1),ROWS($A$3:D16))),\"\")","v":""},{"$f":"IFERROR(INDEX('بيانات اساسية'!L$6:L$306,SMALL(IF('بيانات اساسية'!$X$6:$X$306=\"معلم قران كريم\",ROW(E$16:E$309)-ROW(E$16)+1),ROWS($A$3:E16))),\"\")","v":""},{"$f":"IFERROR(INDEX('بيانات اساسية'!AG$6:AG$306,SMALL(IF('بيانات اساسية'!$X$6:$X$306=\"معلم قران كريم\",ROW(F$16:F$309)-ROW(F$16)+1),ROWS($A$3:F16))),\"\")","v":""},{"$f":"IFERROR(INDEX('بيانات اساسية'!AF$6:AF$306,SMALL(IF('بيانات اساسية'!$X$6:$X$306=\"معلم قران كريم\",ROW(G$16:G$309)-ROW(G$16)+1),ROWS($A$3:G16))),\"\")","v":""},{"$f":"IFERROR(INDEX('بيانات اساسية'!Y$6:Y$306,SMALL(IF('بيانات اساسية'!$X$6:$X$306=\"معلم قران كريم\",ROW(H$16:H$309)-ROW(H$16)+1),ROWS($A$3:H16))),\"\")","v":""},{"$f":"IFERROR(INDEX('بيانات اساسية'!X$6:X$306,SMALL(IF('بيانات اساسية'!$X$6:$X$306=\"معلم قران كريم\",ROW(I$16:I$309)-ROW(I$16)+1),ROWS($A$3:I16))),\"\")","v":""},{"$f":"IFERROR(INDEX('بيانات اساسية'!N$6:N$306,SMALL(IF('بيانات اساسية'!$X$6:$X$306=\"معلم قران كريم\",ROW(J$16:J$309)-ROW(J$16)+1),ROWS($A$3:J16))),\"\")","v":""},{"$f":"IFERROR(INDEX('بيانات اساسية'!P$6:P$306,SMALL(IF('بيانات اساسية'!$X$6:$X$306=\"معلم قران كريم\",ROW(K$16:K$309)-ROW(K$16)+1),ROWS($A$3:K16))),\"\")","v":""},{"$f":"IFERROR(INDEX('بيانات اساسية'!J$6:J$306,SMALL(IF('بيانات اساسية'!$X$6:$X$306=\"معلم قران كريم\",ROW(L$16:L$309)-ROW(L$16)+1),ROWS($A$3:L16))),\"\")","v":""},{"$f":"IFERROR(INDEX('بيانات اساسية'!I$6:I$306,SMALL(IF('بيانات اساسية'!$X$6:$X$306=\"معلم قران كريم\",ROW(M$16:M$309)-ROW(M$16)+1),ROWS($A$3:M16))),\"\")","v":""}]
[null,{"$f":"IFERROR(INDEX('بيانات اساسية'!B$6:B$306,SMALL(IF('بيانات اساسية'!$X$6:$X$306=\"معلم قران كريم\",ROW(B$16:B$309)-ROW(B$16)+1),ROWS($A$3:B17))),\"\")","v":""},{"$f":"IFERROR(INDEX('بيانات اساسية'!C$6:C$306,SMALL(IF('بيانات اساسية'!$X$6:$X$306=\"معلم قران كريم\",ROW(C$16:C$309)-ROW(C$16)+1),ROWS($A$3:C17))),\"\")","v":""},{"$f":"IFERROR(INDEX('بيانات اساسية'!D$6:D$306,SMALL(IF('بيانات اساسية'!$X$6:$X$306=\"معلم قران كريم\",ROW(D$16:D$309)-ROW(D$16)+1),ROWS($A$3:D17))),\"\")","v":""},{"$f":"IFERROR(INDEX('بيانات اساسية'!L$6:L$306,SMALL(IF('بيانات اساسية'!$X$6:$X$306=\"معلم قران كريم\",ROW(E$16:E$309)-ROW(E$16)+1),ROWS($A$3:E17))),\"\")","v":""},{"$f":"IFERROR(INDEX('بيانات اساسية'!AG$6:AG$306,SMALL(IF('بيانات اساسية'!$X$6:$X$306=\"معلم قران كريم\",ROW(F$16:F$309)-ROW(F$16)+1),ROWS($A$3:F17))),\"\")","v":""},{"$f":"IFERROR(INDEX('بيانات اساسية'!AF$6:AF$306,SMALL(IF('بيانات اساسية'!$X$6:$X$306=\"معلم قران كريم\",ROW(G$16:G$309)-ROW(G$16)+1),ROWS($A$3:G17))),\"\")","v":""},{"$f":"IFERROR(INDEX('بيانات اساسية'!Y$6:Y$306,SMALL(IF('بيانات اساسية'!$X$6:$X$306=\"معلم قران كريم\",ROW(H$16:H$309)-ROW(H$16)+1),ROWS($A$3:H17))),\"\")","v":""},{"$f":"IFERROR(INDEX('بيانات اساسية'!X$6:X$306,SMALL(IF('بيانات اساسية'!$X$6:$X$306=\"معلم قران كريم\",ROW(I$16:I$309)-ROW(I$16)+1),ROWS($A$3:I17))),\"\")","v":""},{"$f":"IFERROR(INDEX('بيانات اساسية'!N$6:N$306,SMALL(IF('بيانات اساسية'!$X$6:$X$306=\"معلم قران كريم\",ROW(J$16:J$309)-ROW(J$16)+1),ROWS($A$3:J17))),\"\")","v":""},{"$f":"IFERROR(INDEX('بيانات اساسية'!P$6:P$306,SMALL(IF('بيانات اساسية'!$X$6:$X$306=\"معلم قران كريم\",ROW(K$16:K$309)-ROW(K$16)+1),ROWS($A$3:K17))),\"\")","v":""},{"$f":"IFERROR(INDEX('بيانات اساسية'!J$6:J$306,SMALL(IF('بيانات اساسية'!$X$6:$X$306=\"معلم قران كريم\",ROW(L$16:L$309)-ROW(L$16)+1),ROWS($A$3:L17))),\"\")","v":""},{"$f":"IFERROR(INDEX('بيانات اساسية'!I$6:I$306,SMALL(IF('بيانات اساسية'!$X$6:$X$306=\"معلم قران كريم\",ROW(M$16:M$309)-ROW(M$16)+1),ROWS($A$3:M17))),\"\")","v":""}]
[null,null,"                           بيانات معلمى مادة / اللغة العربية "]
[]
["م","رقم السجل","الاسم رباعيا","الرقم القومى 14 رقم","المؤهل ","التخصص","الدرجة على الكادر","الدرجة المالية","الوظيفة الحالية","تاريخ التعيين","تاريخ\n اول مباشرة","رقم التلفون","العنوان","الدرجة المالية2","ملاحظات"]
[1,{"$f":"IFERROR(INDEX('بيانات اساسية'!B$6:B$306,SMALL(IF('بيانات اساسية'!$X$6:$X$306=\"معلم لغة عربية\",ROW(B$34:B$309)-ROW(B$34)+1),ROWS($A$3:B3))),\"\")","v":188425},{"$f":"IFERROR(INDEX('بيانات اساسية'!C$6:C$306,SMALL(IF('بيانات اساسية'!$X$6:$X$306=\"معلم لغة عربية\",ROW(C$34:C$309)-ROW(C$34)+1),ROWS($A$3:C3))),\"\")","v":"رضا حسين عبدالعزيزعبدالحميد"},{"$f":"IFERROR(INDEX('بيانات اساسية'!D$6:D$306,SMALL(IF('بيانات اساسية'!$X$6:$X$306=\"معلم لغة عربية\",ROW(D$34:D$309)-ROW(D$34)+1),ROWS($A$3:D3))),\"\")","v":26305130103565},{"$f":"IFERROR(INDEX('بيانات اساسية'!L$6:L$306,SMALL(IF('بيانات اساسية'!$X$6:$X$306=\"معلم لغة عربية\",ROW(E$34:E$309)-ROW(E$34)+1),ROWS($A$3:E3))),\"\")","v":"ل.د.إسلامية وعربية 93"},{"$f":"IFERROR(INDEX('بيانات اساسية'!AG$6:AG$306,SMALL(IF('بيانات اساسية'!$X$6:$X$306=\"معلم لغة عربية\",ROW(F$34:F$309)-ROW(F$34)+1),ROWS($A$3:F3))),\"\")","v":"لغة عربية"},{"$f":"IFERROR(INDEX('بيانات اساسية'!AF$6:AF$306,SMALL(IF('بيانات اساسية'!$X$6:$X$306=\"معلم لغة عربية\",ROW(G$34:G$309)-ROW(G$34)+1),ROWS($A$3:G3))),\"\")","v":"كبير معلمين"},{"$f":"IFERROR(INDEX('بيانات اساسية'!Y$6:Y$306,SMALL(IF('بيانات اساسية'!$X$6:$X$306=\"معلم لغة عربية\",ROW(H$34:H$309)-ROW(H$34)+1),ROWS($A$3:H3))),\"\")","v":"الثانية التخصصية"},{"$f":"IFERROR(INDEX('بيانات اساسية'!X$6:X$306,SMALL(IF('بيانات اساسية'!$X$6:$X$306=\"معلم لغة عربية\",ROW(I$34:I$309)-ROW(I$34)+1),ROWS($A$3:I3))),\"\")","v":"معلم لغة عربية"},{"$f":"IFERROR(INDEX('بيانات اساسية'!N$6:N$306,SMALL(IF('بيانات اساسية'!$X$6:$X$306=\"معلم لغة عربية\",ROW(J$34:J$309)-ROW(J$34)+1),ROWS($A$3:J3))),\"\")","v":"1995-10-18"},{"$f":"IFERROR(INDEX('بيانات اساسية'!P$6:P$306,SMALL(IF('بيانات اساسية'!$X$6:$X$306=\"معلم لغة عربية\",ROW(K$34:K$309)-ROW(K$34)+1),ROWS($A$3:K3))),\"\")","v":"1996-02-06"},{"$f":"IFERROR(INDEX('بيانات اساسية'!J$6:J$306,SMALL(IF('بيانات اساسية'!$X$6:$X$306=\"معلم لغة عربية\",ROW(L$34:L$309)-ROW(L$34)+1),ROWS($A$3:L3))),\"\")","v":"01271694489"},{"$f":"IFERROR(INDEX('بيانات اساسية'!I$6:I$306,SMALL(IF('بيانات اساسية'!$X$6:$X$306=\"معلم لغة عربية\",ROW(M$34:M$309)-ROW(M$34)+1),ROWS($A$3:M3))),\"\")","v":"حارة العطار-ش جسرالبحر- الساحل- القاهرة"},"كبير معلمين 2020"]
[2,{"$f":"IFERROR(INDEX('بيانات اساسية'!B$6:B$306,SMALL(IF('بيانات اساسية'!$X$6:$X$306=\"معلم لغة عربية\",ROW(B$34:B$309)-ROW(B$34)+1),ROWS($A$3:B4))),\"\")","v":362521},{"$f":"IFERROR(INDEX('بيانات اساسية'!C$6:C$306,SMALL(IF('بيانات اساسية'!$X$6:$X$306=\"معلم لغة عربية\",ROW(C$34:C$309)-ROW(C$34)+1),ROWS($A$3:C4))),\"\")","v":"هبه أحمد محمد محمد "},{"$f":"IFERROR(INDEX('بيانات اساسية'!D$6:D$306,SMALL(IF('بيانات اساسية'!$X$6:$X$306=\"معلم لغة عربية\",ROW(D$34:D$309)-ROW(D$34)+1),ROWS($A$3:D4))),\"\")","v":28406081401189},{"$f":"IFERROR(INDEX('بيانات اساسية'!L$6:L$306,SMALL(IF('بيانات اساسية'!$X$6:$X$306=\"معلم لغة عربية\",ROW(E$34:E$309)-ROW(E$34)+1),ROWS($A$3:E4))),\"\")","v":"ل.آداب وتربية 2005"},{"$f":"IFERROR(INDEX('بيانات اساسية'!AG$6:AG$306,SMALL(IF('بيانات اساسية'!$X$6:$X$306=\"معلم لغة عربية\",ROW(F$34:F$309)-ROW(F$34)+1),ROWS($A$3:F4))),\"\")","v":"لغة عربية"},{"$f":"IFERROR(INDEX('بيانات اساسية'!AF$6:AF$306,SMALL(IF('بيانات اساسية'!$X$6:$X$306=\"معلم لغة عربية\",ROW(G$34:G$309)-ROW(G$34)+1),ROWS($A$3:G4))),\"\")","v":"معلم اول"},{"$f":"IFERROR(INDEX('بيانات اساسية'!Y$6:Y$306,SMALL(IF('بيانات اساسية'!$X$6:$X$306=\"معلم لغة عربية\",ROW(H$34:H$309)-ROW(H$34)+1),ROWS($A$3:H4))),\"\")","v":"الثانية التخصصية"},{"$f":"IFERROR(INDEX('بيانات اساسية'!X$6:X$306,SMALL(IF('بيانات اساسية'!$X$6:$X$306=\"معلم لغة عربية\",ROW(I$34:I$309)-ROW(I$34)+1),ROWS($A$3:I4))),\"\")","v":"معلم لغة عربية"},{"$f":"IFERROR(INDEX('بيانات اساسية'!N$6:N$306,SMALL(IF('بيانات اساسية'!$X$6:$X$306=\"معلم لغة عربية\",ROW(J$34:J$309)-ROW(J$34)+1),ROWS($A$3:J4))),\"\")","v":"2012-05-07"},{"$f":"IFERROR(INDEX('بيانات اساسية'!P$6:P$306,SMALL(IF('بيانات اساسية'!$X$6:$X$306=\"معلم لغة عربية\",ROW(K$34:K$309)-ROW(K$34)+1),ROWS($A$3:K4))),\"\")","v":"2007-02-01"},{"$f":"IFERROR(INDEX('بيانات اساسية'!J$6:J$306,SMALL(IF('بيانات اساسية'!$X$6:$X$306=\"معلم لغة عربية\",ROW(L$34:L$309)-ROW(L$34)+1),ROWS($A$3:L4))),\"\")","v":"01061334014"},{"$f":"IFERROR(INDEX('بيانات اساسية'!I$6:I$306,SMALL(IF('بيانات اساسية'!$X$6:$X$306=\"معلم لغة عربية\",ROW(M$34:M$309)-ROW(M$34)+1),ROWS($A$3:M4))),\"\")","v":"مساكن الخشب- الشرقاوية - شبرا الخيمة"},"معلم خبير 2019"]
[3,{"$f":"IFERROR(INDEX('بيانات اساسية'!B$6:B$306,SMALL(IF('بيانات اساسية'!$X$6:$X$306=\"معلم لغة عربية\",ROW(B$34:B$309)-ROW(B$34)+1),ROWS($A$3:B5))),\"\")","v":374760},{"$f":"IFERROR(INDEX('بيانات اساسية'!C$6:C$306,SMALL(IF('بيانات اساسية'!$X$6:$X$306=\"معلم لغة عربية\",ROW(C$34:C$309)-ROW(C$34)+1),ROWS($A$3:C5))),\"\")","v":"هناء حسن جابر حسن "},{"$f":"IFERROR(INDEX('بيانات اساسية'!D$6:D$306,SMALL(IF('بيانات اساسية'!$X$6:$X$306=\"معلم لغة عربية\",ROW(D$34:D$309)-ROW(D$34)+1),ROWS($A$3:D5))),\"\")","v":28611150202226},{"$f":"IFERROR(INDEX('بيانات اساسية'!L$6:L$306,SMALL(IF('بيانات اساسية'!$X$6:$X$306=\"معلم لغة عربية\",ROW(E$34:E$309)-ROW(E$34)+1),ROWS($A$3:E5))),\"\")","v":"ل.د.إسلامية 2008"},{"$f":"IFERROR(INDEX('بيانات اساسية'!AG$6:AG$306,SMALL(IF('بيانات اساسية'!$X$6:$X$306=\"معلم لغة عربية\",ROW(F$34:F$309)-ROW(F$34)+1),ROWS($A$3:F5))),\"\")","v":"لغة عربية"},{"$f":"IFERROR(INDEX('بيانات اساسية'!AF$6:AF$306,SMALL(IF('بيانات اساسية'!$X$6:$X$306=\"معلم لغة عربية\",ROW(G$34:G$309)-ROW(G$34)+1),ROWS($A$3:G5))),\"\")","v":"معلم اول"},{"$f":"IFERROR(INDEX('بيانات اساسية'!Y$6:Y$306,SMALL(IF('بيانات اساسية'!$X$6:$X$306=\"معلم لغة عربية\",ROW(H$34:H$309)-ROW(H$34)+1),ROWS($A$3:H5))),\"\")","v":"الثانية التخصصية"},{"$f":"IFERROR(INDEX('بيانات اساسية'!X$6:X$306,SMALL(IF('بيانات اساسية'!$X$6:$X$306=\"معلم لغة عربية\",ROW(I$34:I$309)-ROW(I$34)+1),ROWS($A$3:I5))),\"\")","v":"معلم لغة عربية"},{"$f":"IFERROR(INDEX('بيانات اساسية'!N$6:N$306,SMALL(IF('بيانات اساسية'!$X$6:$X$306=\"معلم لغة عربية\",ROW(J$34:J$309)-ROW(J$34)+1),ROWS($A$3:J5))),\"\")","v":"2013-11-18"},{"$f":"IFERROR(INDEX('بيانات اساسية'!P$6:P$306,SMALL(IF('بيانات اساسية'!$X$6:$X$306=\"معلم لغة عربية\",ROW(K$34:K$309)-ROW(K$34)+1),ROWS($A$3:K5))),\"\")","v":"2009-09-08"},{"$f":"IFERROR(INDEX('بيانات اساسية'!J$6:J$306,SMALL(IF('بيانات اساسية'!$X$6:$X$306=\"معلم لغة عربية\",ROW(L$34:L$309)-ROW(L$34)+1),ROWS($A$3:L5))),\"\")","v":"01110156905"},{"$f":"IFERROR(INDEX('بيانات اساسية'!I$6:I$306,SMALL(IF('بيانات اساسية'!$X$6:$X$306=\"معلم لغة عربية\",ROW(M$34:M$309)-ROW(M$34)+1),ROWS($A$3:M5))),\"\")","v":"18ش أبوليلة-الترعة البولاقية -شبرا مصر"},"الثانية التخصصية 2018"]
[4,{"$f":"IFERROR(INDEX('بيانات اساسية'!B$6:B$306,SMALL(IF('بيانات اساسية'!$X$6:$X$306=\"معلم لغة عربية\",ROW(B$34:B$309)-ROW(B$34)+1),ROWS($A$3:B6))),\"\")","v":412212},{"$f":"IFERROR(INDEX('بيانات اساسية'!C$6:C$306,SMALL(IF('بيانات اساسية'!$X$6:$X$306=\"معلم لغة عربية\",ROW(C$34:C$309)-ROW(C$34)+1),ROWS($A$3:C6))),\"\")","v":"فاطمة إسماعيل محمد فراج"},{"$f":"IFERROR(INDEX('بيانات اساسية'!D$6:D$306,SMALL(IF('بيانات اساسية'!$X$6:$X$306=\"معلم لغة عربية\",ROW(D$34:D$309)-ROW(D$34)+1),ROWS($A$3:D6))),\"\")","v":28803051602626},{"$f":"IFERROR(INDEX('بيانات اساسية'!L$6:L$306,SMALL(IF('بيانات اساسية'!$X$6:$X$306=\"معلم لغة عربية\",ROW(E$34:E$309)-ROW(E$34)+1),ROWS($A$3:E6))),\"\")","v":"ل.د.إسلامية وعربية 2010"},{"$f":"IFERROR(INDEX('بيانات اساسية'!AG$6:AG$306,SMALL(IF('بيانات اساسية'!$X$6:$X$306=\"معلم لغة عربية\",ROW(F$34:F$309)-ROW(F$34)+1),ROWS($A$3:F6))),\"\")","v":"لغة عربية"},{"$f":"IFERROR(INDEX('بيانات اساسية'!AF$6:AF$306,SMALL(IF('بيانات اساسية'!$X$6:$X$306=\"معلم لغة عربية\",ROW(G$34:G$309)-ROW(G$34)+1),ROWS($A$3:G6))),\"\")","v":"معلم اول"},{"$f":"IFERROR(INDEX('بيانات اساسية'!Y$6:Y$306,SMALL(IF('بيانات اساسية'!$X$6:$X$306=\"معلم لغة عربية\",ROW(H$34:H$309)-ROW(H$34)+1),ROWS($A$3:H6))),\"\")","v":"الثالثة الفنية "},{"$f":"IFERROR(INDEX('بيانات اساسية'!X$6:X$306,SMALL(IF('بيانات اساسية'!$X$6:$X$306=\"معلم لغة عربية\",ROW(I$34:I$309)-ROW(I$34)+1),ROWS($A$3:I6))),\"\")","v":"معلم لغة عربية"},{"$f":"IFERROR(INDEX('بيانات اساسية'!N$6:N$306,SMALL(IF('بيانات اساسية'!$X$6:$X$306=\"معلم لغة عربية\",ROW(J$34:J$309)-ROW(J$34)+1),ROWS($A$3:J6))),\"\")","v":"2016-02-10"},{"$f":"IFERROR(INDEX('بيانات اساسية'!P$6:P$306,SMALL(IF('بيانات اساسية'!$X$6:$X$306=\"معلم لغة عربية\",ROW(K$34:K$309)-ROW(K$34)+1),ROWS($A$3:K6))),\"\")","v":"2014-01-01"},{"$f":"IFERROR(INDEX('بيانات اساسية'!J$6:J$306,SMALL(IF('بيانات اساسية'!$X$6:$X$306=\"معلم لغة عربية\",ROW(L$34:L$309)-ROW(L$34)+1),ROWS($A$3:L6))),\"\")","v":"01141841731"},{"$f":"IFERROR(INDEX('بيانات اساسية'!I$6:I$306,SMALL(IF('بيانات اساسية'!$X$6:$X$306=\"معلم لغة عربية\",ROW(M$34:M$309)-ROW(M$34)+1),ROWS($A$3:M6))),\"\")","v":"31ش مسجد الرحمة- الخلفاوى- شبرا مصر"},"الثانية التخصصية 2019"]
[5,{"$f":"IFERROR(INDEX('بيانات اساسية'!B$6:B$306,SMALL(IF('بيانات اساسية'!$X$6:$X$306=\"معلم لغة عربية\",ROW(B$34:B$309)-ROW(B$34)+1),ROWS($A$3:B7))),\"\")","v":""},{"$f":"IFERROR(INDEX('بيانات اساسية'!C$6:C$306,SMALL(IF('بيانات اساسية'!$X$6:$X$306=\"معلم لغة عربية\",ROW(C$34:C$309)-ROW(C$34)+1),ROWS($A$3:C7))),\"\")","v":""},{"$f":"IFERROR(INDEX('بيانات اساسية'!D$6:D$306,SMALL(IF('بيانات اساسية'!$X$6:$X$306=\"معلم لغة عربية\",ROW(D$34:D$309)-ROW(D$34)+1),ROWS($A$3:D7))),\"\")","v":""},{"$f":"IFERROR(INDEX('بيانات اساسية'!L$6:L$306,SMALL(IF('بيانات اساسية'!$X$6:$X$306=\"معلم لغة عربية\",ROW(E$34:E$309)-ROW(E$34)+1),ROWS($A$3:E7))),\"\")","v":""},{"$f":"IFERROR(INDEX('بيانات اساسية'!AG$6:AG$306,SMALL(IF('بيانات اساسية'!$X$6:$X$306=\"معلم لغة عربية\",ROW(F$34:F$309)-ROW(F$34)+1),ROWS($A$3:F7))),\"\")","v":""},{"$f":"IFERROR(INDEX('بيانات اساسية'!AF$6:AF$306,SMALL(IF('بيانات اساسية'!$X$6:$X$306=\"معلم لغة عربية\",ROW(G$34:G$309)-ROW(G$34)+1),ROWS($A$3:G7))),\"\")","v":""},{"$f":"IFERROR(INDEX('بيانات اساسية'!Y$6:Y$306,SMALL(IF('بيانات اساسية'!$X$6:$X$306=\"معلم لغة عربية\",ROW(H$34:H$309)-ROW(H$34)+1),ROWS($A$3:H7))),\"\")","v":""},{"$f":"IFERROR(INDEX('بيانات اساسية'!X$6:X$306,SMALL(IF('بيانات اساسية'!$X$6:$X$306=\"معلم لغة عربية\",ROW(I$34:I$309)-ROW(I$34)+1),ROWS($A$3:I7))),\"\")","v":""},{"$f":"IFERROR(INDEX('بيانات اساسية'!N$6:N$306,SMALL(IF('بيانات اساسية'!$X$6:$X$306=\"معلم لغة عربية\",ROW(J$34:J$309)-ROW(J$34)+1),ROWS($A$3:J7))),\"\")","v":""},{"$f":"IFERROR(INDEX('بيانات اساسية'!P$6:P$306,SMALL(IF('بيانات اساسية'!$X$6:$X$306=\"معلم لغة عربية\",ROW(K$34:K$309)-ROW(K$34)+1),ROWS($A$3:K7))),\"\")","v":""},{"$f":"IFERROR(INDEX('بيانات اساسية'!J$6:J$306,SMALL(IF('بيانات اساسية'!$X$6:$X$306=\"معلم لغة عربية\",ROW(L$34:L$309)-ROW(L$34)+1),ROWS($A$3:L7))),\"\")","v":""},{"$f":"IFERROR(INDEX('بيانات اساسية'!I$6:I$306,SMALL(IF('بيانات اساسية'!$X$6:$X$306=\"معلم لغة عربية\",ROW(M$34:M$309)-ROW(M$34)+1),ROWS($A$3:M7))),\"\")","v":""},"الثالثة التخصصية 2016"]
[6,{"$f":"IFERROR(INDEX('بيانات اساسية'!B$6:B$306,SMALL(IF('بيانات اساسية'!$X$6:$X$306=\"معلم لغة عربية\",ROW(B$34:B$309)-ROW(B$34)+1),ROWS($A$3:B8))),\"\")","v":""},{"$f":"IFERROR(INDEX('بيانات اساسية'!C$6:C$306,SMALL(IF('بيانات اساسية'!$X$6:$X$306=\"معلم لغة عربية\",ROW(C$34:C$309)-ROW(C$34)+1),ROWS($A$3:C8))),\"\")","v":""},{"$f":"IFERROR(INDEX('بيانات اساسية'!D$6:D$306,SMALL(IF('بيانات اساسية'!$X$6:$X$306=\"معلم لغة عربية\",ROW(D$34:D$309)-ROW(D$34)+1),ROWS($A$3:D8))),\"\")","v":""},{"$f":"IFERROR(INDEX('بيانات اساسية'!L$6:L$306,SMALL(IF('بيانات اساسية'!$X$6:$X$306=\"معلم لغة عربية\",ROW(E$34:E$309)-ROW(E$34)+1),ROWS($A$3:E8))),\"\")","v":""},{"$f":"IFERROR(INDEX('بيانات اساسية'!AG$6:AG$306,SMALL(IF('بيانات اساسية'!$X$6:$X$306=\"معلم لغة عربية\",ROW(F$34:F$309)-ROW(F$34)+1),ROWS($A$3:F8))),\"\")","v":""},{"$f":"IFERROR(INDEX('بيانات اساسية'!AF$6:AF$306,SMALL(IF('بيانات اساسية'!$X$6:$X$306=\"معلم لغة عربية\",ROW(G$34:G$309)-ROW(G$34)+1),ROWS($A$3:G8))),\"\")","v":""},{"$f":"IFERROR(INDEX('بيانات اساسية'!Y$6:Y$306,SMALL(IF('بيانات اساسية'!$X$6:$X$306=\"معلم لغة عربية\",ROW(H$34:H$309)-ROW(H$34)+1),ROWS($A$3:H8))),\"\")","v":""},{"$f":"IFERROR(INDEX('بيانات اساسية'!X$6:X$306,SMALL(IF('بيانات اساسية'!$X$6:$X$306=\"معلم لغة عربية\",ROW(I$34:I$309)-ROW(I$34)+1),ROWS($A$3:I8))),\"\")","v":""},{"$f":"IFERROR(INDEX('بيانات اساسية'!N$6:N$306,SMALL(IF('بيانات اساسية'!$X$6:$X$306=\"معلم لغة عربية\",ROW(J$34:J$309)-ROW(J$34)+1),ROWS($A$3:J8))),\"\")","v":""},{"$f":"IFERROR(INDEX('بيانات اساسية'!P$6:P$306,SMALL(IF('بيانات اساسية'!$X$6:$X$306=\"معلم لغة عربية\",ROW(K$34:K$309)-ROW(K$34)+1),ROWS($A$3:K8))),\"\")","v":""},{"$f":"IFERROR(INDEX('بيانات اساسية'!J$6:J$306,SMALL(IF('بيانات اساسية'!$X$6:$X$306=\"معلم لغة عربية\",ROW(L$34:L$309)-ROW(L$34)+1),ROWS($A$3:L8))),\"\")","v":""},{"$f":"IFERROR(INDEX('بيانات اساسية'!I$6:I$306,SMALL(IF('بيانات اساسية'!$X$6:$X$306=\"معلم لغة عربية\",ROW(M$34:M$309)-ROW(M$34)+1),ROWS($A$3:M8))),\"\")","v":""},"الخامسة الفنية 2012"]
[null,{"$f":"IFERROR(INDEX('بيانات اساسية'!B$6:B$306,SMALL(IF('بيانات اساسية'!$X$6:$X$306=\"معلم لغة عربية\",ROW(B$34:B$309)-ROW(B$34)+1),ROWS($A$3:B9))),\"\")","v":""},{"$f":"IFERROR(INDEX('بيانات اساسية'!C$6:C$306,SMALL(IF('بيانات اساسية'!$X$6:$X$306=\"معلم لغة عربية\",ROW(C$34:C$309)-ROW(C$34)+1),ROWS($A$3:C9))),\"\")","v":""},{"$f":"IFERROR(INDEX('بيانات اساسية'!D$6:D$306,SMALL(IF('بيانات اساسية'!$X$6:$X$306=\"معلم لغة عربية\",ROW(D$34:D$309)-ROW(D$34)+1),ROWS($A$3:D9))),\"\")","v":""},{"$f":"IFERROR(INDEX('بيانات اساسية'!L$6:L$306,SMALL(IF('بيانات اساسية'!$X$6:$X$306=\"معلم لغة عربية\",ROW(E$34:E$309)-ROW(E$34)+1),ROWS($A$3:E9))),\"\")","v":""},{"$f":"IFERROR(INDEX('بيانات اساسية'!AG$6:AG$306,SMALL(IF('بيانات اساسية'!$X$6:$X$306=\"معلم لغة عربية\",ROW(F$34:F$309)-ROW(F$34)+1),ROWS($A$3:F9))),\"\")","v":""},{"$f":"IFERROR(INDEX('بيانات اساسية'!AF$6:AF$306,SMALL(IF('بيانات اساسية'!$X$6:$X$306=\"معلم لغة عربية\",ROW(G$34:G$309)-ROW(G$34)+1),ROWS($A$3:G9))),\"\")","v":""},{"$f":"IFERROR(INDEX('بيانات اساسية'!Y$6:Y$306,SMALL(IF('بيانات اساسية'!$X$6:$X$306=\"معلم لغة عربية\",ROW(H$34:H$309)-ROW(H$34)+1),ROWS($A$3:H9))),\"\")","v":""},{"$f":"IFERROR(INDEX('بيانات اساسية'!X$6:X$306,SMALL(IF('بيانات اساسية'!$X$6:$X$306=\"معلم لغة عربية\",ROW(I$34:I$309)-ROW(I$34)+1),ROWS($A$3:I9))),\"\")","v":""},{"$f":"IFERROR(INDEX('بيانات اساسية'!N$6:N$306,SMALL(IF('بيانات اساسية'!$X$6:$X$306=\"معلم لغة عربية\",ROW(J$34:J$309)-ROW(J$34)+1),ROWS($A$3:J9))),\"\")","v":""},{"$f":"IFERROR(INDEX('بيانات اساسية'!P$6:P$306,SMALL(IF('بيانات اساسية'!$X$6:$X$306=\"معلم لغة عربية\",ROW(K$34:K$309)-ROW(K$34)+1),ROWS($A$3:K9))),\"\")","v":""},{"$f":"IFERROR(INDEX('بيانات اساسية'!J$6:J$306,SMALL(IF('بيانات اساسية'!$X$6:$X$306=\"معلم لغة عربية\",ROW(L$34:L$309)-ROW(L$34)+1),ROWS($A$3:L9))),\"\")","v":""},{"$f":"IFERROR(INDEX('بيانات اساسية'!I$6:I$306,SMALL(IF('بيانات اساسية'!$X$6:$X$306=\"معلم لغة عربية\",ROW(M$34:M$309)-ROW(M$34)+1),ROWS($A$3:M9))),\"\")","v":""}]
[null,{"$f":"IFERROR(INDEX('بيانات اساسية'!B$6:B$306,SMALL(IF('بيانات اساسية'!$X$6:$X$306=\"معلم لغة عربية\",ROW(B$34:B$309)-ROW(B$34)+1),ROWS($A$3:B10))),\"\")","v":""},{"$f":"IFERROR(INDEX('بيانات اساسية'!C$6:C$306,SMALL(IF('بيانات اساسية'!$X$6:$X$306=\"معلم لغة عربية\",ROW(C$34:C$309)-ROW(C$34)+1),ROWS($A$3:C10))),\"\")","v":""},{"$f":"IFERROR(INDEX('بيانات اساسية'!D$6:D$306,SMALL(IF('بيانات اساسية'!$X$6:$X$306=\"معلم لغة عربية\",ROW(D$34:D$309)-ROW(D$34)+1),ROWS($A$3:D10))),\"\")","v":""},{"$f":"IFERROR(INDEX('بيانات اساسية'!L$6:L$306,SMALL(IF('بيانات اساسية'!$X$6:$X$306=\"معلم لغة عربية\",ROW(E$34:E$309)-ROW(E$34)+1),ROWS($A$3:E10))),\"\")","v":""},{"$f":"IFERROR(INDEX('بيانات اساسية'!AG$6:AG$306,SMALL(IF('بيانات اساسية'!$X$6:$X$306=\"معلم لغة عربية\",ROW(F$34:F$309)-ROW(F$34)+1),ROWS($A$3:F10))),\"\")","v":""},{"$f":"IFERROR(INDEX('بيانات اساسية'!AF$6:AF$306,SMALL(IF('بيانات اساسية'!$X$6:$X$306=\"معلم لغة عربية\",ROW(G$34:G$309)-ROW(G$34)+1),ROWS($A$3:G10))),\"\")","v":""},{"$f":"IFERROR(INDEX('بيانات اساسية'!Y$6:Y$306,SMALL(IF('بيانات اساسية'!$X$6:$X$306=\"معلم لغة عربية\",ROW(H$34:H$309)-ROW(H$34)+1),ROWS($A$3:H10))),\"\")","v":""},{"$f":"IFERROR(INDEX('بيانات اساسية'!X$6:X$306,SMALL(IF('بيانات اساسية'!$X$6:$X$306=\"معلم لغة عربية\",ROW(I$34:I$309)-ROW(I$34)+1),ROWS($A$3:I10))),\"\")","v":""},{"$f":"IFERROR(INDEX('بيانات اساسية'!N$6:N$306,SMALL(IF('بيانات اساسية'!$X$6:$X$306=\"معلم لغة عربية\",ROW(J$34:J$309)-ROW(J$34)+1),ROWS($A$3:J10))),\"\")","v":""},{"$f":"IFERROR(INDEX('بيانات اساسية'!P$6:P$306,SMALL(IF('بيانات اساسية'!$X$6:$X$306=\"معلم لغة عربية\",ROW(K$34:K$309)-ROW(K$34)+1),ROWS($A$3:K10))),\"\")","v":""},{"$f":"IFERROR(INDEX('بيانات اساسية'!J$6:J$306,SMALL(IF('بيانات اساسية'!$X$6:$X$306=\"معلم لغة عربية\",ROW(L$34:L$309)-ROW(L$34)+1),ROWS($A$3:L10))),\"\")","v":""},{"$f":"IFERROR(INDEX('بيانات اساسية'!I$6:I$306,SMALL(IF('بيانات اساسية'!$X$6:$X$306=\"معلم لغة عربية\",ROW(M$34:M$309)-ROW(M$34)+1),ROWS($A$3:M10))),\"\")","v":""}]
[null,{"$f":"IFERROR(INDEX('بيانات اساسية'!B$6:B$306,SMALL(IF('بيانات اساسية'!$X$6:$X$306=\"معلم لغة عربية\",ROW(B$34:B$309)-ROW(B$34)+1),ROWS($A$3:B11))),\"\")","v":""},{"$f":"IFERROR(INDEX('بيانات اساسية'!C$6:C$306,SMALL(IF('بيانات اساسية'!$X$6:$X$306=\"معلم لغة عربية\",ROW(C$34:C$309)-ROW(C$34)+1),ROWS($A$3:C11))),\"\")","v":""},{"$f":"IFERROR(INDEX('بيانات اساسية'!D$6:D$306,SMALL(IF('بيانات اساسية'!$X$6:$X$306=\"معلم لغة عربية\",ROW(D$34:D$309)-ROW(D$34)+1),ROWS($A$3:D11))),\"\")","v":""},{"$f":"IFERROR(INDEX('بيانات اساسية'!L$6:L$306,SMALL(IF('بيانات اساسية'!$X$6:$X$306=\"معلم لغة عربية\",ROW(E$34:E$309)-ROW(E$34)+1),ROWS($A$3:E11))),\"\")","v":""},{"$f":"IFERROR(INDEX('بيانات اساسية'!AG$6:AG$306,SMALL(IF('بيانات اساسية'!$X$6:$X$306=\"معلم لغة عربية\",ROW(F$34:F$309)-ROW(F$34)+1),ROWS($A$3:F11))),\"\")","v":""},{"$f":"IFERROR(INDEX('بيانات اساسية'!AF$6:AF$306,SMALL(IF('بيانات اساسية'!$X$6:$X$306=\"معلم لغة عربية\",ROW(G$34:G$309)-ROW(G$34)+1),ROWS($A$3:G11))),\"\")","v":""},{"$f":"IFERROR(INDEX('بيانات اساسية'!Y$6:Y$306,SMALL(IF('بيانات اساسية'!$X$6:$X$306=\"معلم لغة عربية\",ROW(H$34:H$309)-ROW(H$34)+1),ROWS($A$3:H11))),\"\")","v":""},{"$f":"IFERROR(INDEX('بيانات اساسية'!X$6:X$306,SMALL(IF('بيانات اساسية'!$X$6:$X$306=\"معلم لغة عربية\",ROW(I$34:I$309)-ROW(I$34)+1),ROWS($A$3:I11))),\"\")","v":""},{"$f":"IFERROR(INDEX('بيانات اساسية'!N$6:N$306,SMALL(IF('بيانات اساسية'!$X$6:$X$306=\"معلم لغة عربية\",ROW(J$34:J$309)-ROW(J$34)+1),ROWS($A$3:J11))),\"\")","v":""},{"$f":"IFERROR(INDEX('بيانات اساسية'!P$6:P$306,SMALL(IF('بيانات اساسية'!$X$6:$X$306=\"معلم لغة عربية\",ROW(K$34:K$309)-ROW(K$34)+1),ROWS($A$3:K11))),\"\")","v":""},{"$f":"IFERROR(INDEX('بيانات اساسية'!J$6:J$306,SMALL(IF('بيانات اساسية'!$X$6:$X$306=\"معلم لغة عربية\",ROW(L$34:L$309)-ROW(L$34)+1),ROWS($A$3:L11))),\"\")","v":""},{"$f":"IFERROR(INDEX('بيانات اساسية'!I$6:I$306,SMALL(IF('بيانات اساسية'!$X$6:$X$306=\"معلم لغة عربية\",ROW(M$34:M$309)-ROW(M$34)+1),ROWS($A$3:M11))),\"\")","v":""}]
[null,{"$f":"IFERROR(INDEX('بيانات اساسية'!B$6:B$306,SMALL(IF('بيانات اساسية'!$X$6:$X$306=\"معلم لغة عربية\",ROW(B$34:B$309)-ROW(B$34)+1),ROWS($A$3:B12))),\"\")","v":""},{"$f":"IFERROR(INDEX('بيانات اساسية'!C$6:C$306,SMALL(IF('بيانات اساسية'!$X$6:$X$306=\"معلم لغة عربية\",ROW(C$34:C$309)-ROW(C$34)+1),ROWS($A$3:C12))),\"\")","v":""},{"$f":"IFERROR(INDEX('بيانات اساسية'!D$6:D$306,SMALL(IF('بيانات اساسية'!$X$6:$X$306=\"معلم لغة عربية\",ROW(D$34:D$309)-ROW(D$34)+1),ROWS($A$3:D12))),\"\")","v":""},{"$f":"IFERROR(INDEX('بيانات اساسية'!L$6:L$306,SMALL(IF('بيانات اساسية'!$X$6:$X$306=\"معلم لغة عربية\",ROW(E$34:E$309)-ROW(E$34)+1),ROWS($A$3:E12))),\"\")","v":""},{"$f":"IFERROR(INDEX('بيانات اساسية'!AG$6:AG$306,SMALL(IF('بيانات اساسية'!$X$6:$X$306=\"معلم لغة عربية\",ROW(F$34:F$309)-ROW(F$34)+1),ROWS($A$3:F12))),\"\")","v":""},{"$f":"IFERROR(INDEX('بيانات اساسية'!AF$6:AF$306,SMALL(IF('بيانات اساسية'!$X$6:$X$306=\"معلم لغة عربية\",ROW(G$34:G$309)-ROW(G$34)+1),ROWS($A$3:G12))),\"\")","v":""},{"$f":"IFERROR(INDEX('بيانات اساسية'!Y$6:Y$306,SMALL(IF('بيانات اساسية'!$X$6:$X$306=\"معلم لغة عربية\",ROW(H$34:H$309)-ROW(H$34)+1),ROWS($A$3:H12))),\"\")","v":""},{"$f":"IFERROR(INDEX('بيانات اساسية'!X$6:X$306,SMALL(IF('بيانات اساسية'!$X$6:$X$306=\"معلم لغة عربية\",ROW(I$34:I$309)-ROW(I$34)+1),ROWS($A$3:I12))),\"\")","v":""},{"$f":"IFERROR(INDEX('بيانات اساسية'!N$6:N$306,SMALL(IF('بيانات اساسية'!$X$6:$X$306=\"معلم لغة عربية\",ROW(J$34:J$309)-ROW(J$34)+1),ROWS($A$3:J12))),\"\")","v":""},{"$f":"IFERROR(INDEX('بيانات اساسية'!P$6:P$306,SMALL(IF('بيانات اساسية'!$X$6:$X$306=\"معلم لغة عربية\",ROW(K$34:K$309)-ROW(K$34)+1),ROWS($A$3:K12))),\"\")","v":""},{"$f":"IFERROR(INDEX('بيانات اساسية'!J$6:J$306,SMALL(IF('بيانات اساسية'!$X$6:$X$306=\"معلم لغة عربية\",ROW(L$34:L$309)-ROW(L$34)+1),ROWS($A$3:L12))),\"\")","v":""},{"$f":"IFERROR(INDEX('بيانات اساسية'!I$6:I$306,SMALL(IF('بيانات اساسية'!$X$6:$X$306=\"معلم لغة عربية\",ROW(M$34:M$309)-ROW(M$34)+1),ROWS($A$3:M12))),\"\")","v":""}]
[null,null,"بيانات معلمى مادة / رياضيات  "]
[]
["م","رقم السجل","الاسم رباعيا","الرقم القومى 14 رقم","المؤهل ","التخصص","الدرجة على الكادر","الدرجة المالية","الوظيفة الحالية","تاريخ التعيين","تاريخ\n اول مباشرة","رقم التلفون","العنوان","الدرجة المالية2","ملاحظات"]
[1,{"$f":"IFERROR(INDEX('بيانات اساسية'!B$6:B$306,SMALL(IF('بيانات اساسية'!$X$6:$X$306=\"معلم رياضيات\",ROW(B$47:B$309)-ROW(B$47)+1),ROWS($A$3:B3))),\"\")","v":273885},{"$f":"IFERROR(INDEX('بيانات اساسية'!C$6:C$306,SMALL(IF('بيانات اساسية'!$X$6:$X$306=\"معلم رياضيات\",ROW(C$47:C$309)-ROW(C$47)+1),ROWS($A$3:C3))),\"\")","v":"إيمان محمد هاشم محمد"},{"$f":"IFERROR(INDEX('بيانات اساسية'!D$6:D$306,SMALL(IF('بيانات اساسية'!$X$6:$X$306=\"معلم رياضيات\",ROW(D$47:D$309)-ROW(D$47)+1),ROWS($A$3:D3))),\"\")","v":27411241400842},{"$f":"IFERROR(INDEX('بيانات اساسية'!L$6:L$306,SMALL(IF('بيانات اساسية'!$X$6:$X$306=\"معلم رياضيات\",ROW(E$47:E$309)-ROW(E$47)+1),ROWS($A$3:E3))),\"\")","v":"ل. شريعة 2000"},{"$f":"IFERROR(INDEX('بيانات اساسية'!AG$6:AG$306,SMALL(IF('بيانات اساسية'!$X$6:$X$306=\"معلم رياضيات\",ROW(F$47:F$309)-ROW(F$47)+1),ROWS($A$3:F3))),\"\")","v":"رياضيات"},{"$f":"IFERROR(INDEX('بيانات اساسية'!AF$6:AF$306,SMALL(IF('بيانات اساسية'!$X$6:$X$306=\"معلم رياضيات\",ROW(G$47:G$309)-ROW(G$47)+1),ROWS($A$3:G3))),\"\")","v":"معلم اول"},{"$f":"IFERROR(INDEX('بيانات اساسية'!Y$6:Y$306,SMALL(IF('بيانات اساسية'!$X$6:$X$306=\"معلم رياضيات\",ROW(H$47:H$309)-ROW(H$47)+1),ROWS($A$3:H3))),\"\")","v":"الثانية التخصصية 2013"},{"$f":"IFERROR(INDEX('بيانات اساسية'!X$6:X$306,SMALL(IF('بيانات اساسية'!$X$6:$X$306=\"معلم رياضيات\",ROW(I$47:I$309)-ROW(I$47)+1),ROWS($A$3:I3))),\"\")","v":"معلم رياضيات"},{"$f":"IFERROR(INDEX('بيانات اساسية'!N$6:N$306,SMALL(IF('بيانات اساسية'!$X$6:$X$306=\"معلم رياضيات\",ROW(J$47:J$309)-ROW(J$47)+1),ROWS($A$3:J3))),\"\")","v":"2002-09-04"},{"$f":"IFERROR(INDEX('بيانات اساسية'!P$6:P$306,SMALL(IF('بيانات اساسية'!$X$6:$X$306=\"معلم رياضيات\",ROW(K$47:K$309)-ROW(K$47)+1),ROWS($A$3:K3))),\"\")","v":"2002-09-04"},{"$f":"IFERROR(INDEX('بيانات اساسية'!J$6:J$306,SMALL(IF('بيانات اساسية'!$X$6:$X$306=\"معلم رياضيات\",ROW(L$47:L$309)-ROW(L$47)+1),ROWS($A$3:L3))),\"\")","v":"01021429264"},{"$f":"IFERROR(INDEX('بيانات اساسية'!I$6:I$306,SMALL(IF('بيانات اساسية'!$X$6:$X$306=\"معلم رياضيات\",ROW(M$47:M$309)-ROW(M$47)+1),ROWS($A$3:M3))),\"\")","v":"ش زكريا-مساكن توكو- شبراالخيمة."},"الثانية التخصصية 2013"]
[2,{"$f":"IFERROR(INDEX('بيانات اساسية'!B$6:B$306,SMALL(IF('بيانات اساسية'!$X$6:$X$306=\"معلم رياضيات\",ROW(B$47:B$309)-ROW(B$47)+1),ROWS($A$3:B4))),\"\")","v":362264},{"$f":"IFERROR(INDEX('بيانات اساسية'!C$6:C$306,SMALL(IF('بيانات اساسية'!$X$6:$X$306=\"معلم رياضيات\",ROW(C$47:C$309)-ROW(C$47)+1),ROWS($A$3:C4))),\"\")","v":"نورا صبحى أبوالمعاطى "},{"$f":"IFERROR(INDEX('بيانات اساسية'!D$6:D$306,SMALL(IF('بيانات اساسية'!$X$6:$X$306=\"معلم رياضيات\",ROW(D$47:D$309)-ROW(D$47)+1),ROWS($A$3:D4))),\"\")","v":28403010110265},{"$f":"IFERROR(INDEX('بيانات اساسية'!L$6:L$306,SMALL(IF('بيانات اساسية'!$X$6:$X$306=\"معلم رياضيات\",ROW(E$47:E$309)-ROW(E$47)+1),ROWS($A$3:E4))),\"\")","v":"ب. علوم وتربية 2005"},{"$f":"IFERROR(INDEX('بيانات اساسية'!AG$6:AG$306,SMALL(IF('بيانات اساسية'!$X$6:$X$306=\"معلم رياضيات\",ROW(F$47:F$309)-ROW(F$47)+1),ROWS($A$3:F4))),\"\")","v":"رياضيات"},{"$f":"IFERROR(INDEX('بيانات اساسية'!AF$6:AF$306,SMALL(IF('بيانات اساسية'!$X$6:$X$306=\"معلم رياضيات\",ROW(G$47:G$309)-ROW(G$47)+1),ROWS($A$3:G4))),\"\")","v":"معلم اول"},{"$f":"IFERROR(INDEX('بيانات اساسية'!Y$6:Y$306,SMALL(IF('بيانات اساسية'!$X$6:$X$306=\"معلم رياضيات\",ROW(H$47:H$309)-ROW(H$47)+1),ROWS($A$3:H4))),\"\")","v":"الثانية التخصصية 2018"},{"$f":"IFERROR(INDEX('بيانات اساسية'!X$6:X$306,SMALL(IF('بيانات اساسية'!$X$6:$X$306=\"معلم رياضيات\",ROW(I$47:I$309)-ROW(I$47)+1),ROWS($A$3:I4))),\"\")","v":"معلم رياضيات"},{"$f":"IFERROR(INDEX('بيانات اساسية'!N$6:N$306,SMALL(IF('بيانات اساسية'!$X$6:$X$306=\"معلم رياضيات\",ROW(J$47:J$309)-ROW(J$47)+1),ROWS($A$3:J4))),\"\")","v":"2012-05-07"},{"$f":"IFERROR(INDEX('بيانات اساسية'!P$6:P$306,SMALL(IF('بيانات اساسية'!$X$6:$X$306=\"معلم رياضيات\",ROW(K$47:K$309)-ROW(K$47)+1),ROWS($A$3:K4))),\"\")","v":"2007-02-01"},{"$f":"IFERROR(INDEX('بيانات اساسية'!J$6:J$306,SMALL(IF('بيانات اساسية'!$X$6:$X$306=\"معلم رياضيات\",ROW(L$47:L$309)-ROW(L$47)+1),ROWS($A$3:L4))),\"\")","v":"01094506082"},{"$f":"IFERROR(INDEX('بيانات اساسية'!I$6:I$306,SMALL(IF('بيانات اساسية'!$X$6:$X$306=\"معلم رياضيات\",ROW(M$47:M$309)-ROW(M$47)+1),ROWS($A$3:M4))),\"\")","v":"25ش الثورة - مدينة التعاون - شبرا الخيمة "},"الثانية التخصصية 2018"]
[null,{"$f":"IFERROR(INDEX('بيانات اساسية'!B$6:B$306,SMALL(IF('بيانات اساسية'!$X$6:$X$306=\"معلم رياضيات\",ROW(B$47:B$309)-ROW(B$47)+1),ROWS($A$3:B5))),\"\")","v":""},{"$f":"IFERROR(INDEX('بيانات اساسية'!C$6:C$306,SMALL(IF('بيانات اساسية'!$X$6:$X$306=\"معلم رياضيات\",ROW(C$47:C$309)-ROW(C$47)+1),ROWS($A$3:C5))),\"\")","v":""},{"$f":"IFERROR(INDEX('بيانات اساسية'!D$6:D$306,SMALL(IF('بيانات اساسية'!$X$6:$X$306=\"معلم رياضيات\",ROW(D$47:D$309)-ROW(D$47)+1),ROWS($A$3:D5))),\"\")","v":""},{"$f":"IFERROR(INDEX('بيانات اساسية'!L$6:L$306,SMALL(IF('بيانات اساسية'!$X$6:$X$306=\"معلم رياضيات\",ROW(E$47:E$309)-ROW(E$47)+1),ROWS($A$3:E5))),\"\")","v":""},{"$f":"IFERROR(INDEX('بيانات اساسية'!AG$6:AG$306,SMALL(IF('بيانات اساسية'!$X$6:$X$306=\"معلم رياضيات\",ROW(F$47:F$309)-ROW(F$47)+1),ROWS($A$3:F5))),\"\")","v":""},{"$f":"IFERROR(INDEX('بيانات اساسية'!AF$6:AF$306,SMALL(IF('بيانات اساسية'!$X$6:$X$306=\"معلم رياضيات\",ROW(G$47:G$309)-ROW(G$47)+1),ROWS($A$3:G5))),\"\")","v":""},{"$f":"IFERROR(INDEX('بيانات اساسية'!Y$6:Y$306,SMALL(IF('بيانات اساسية'!$X$6:$X$306=\"معلم رياضيات\",ROW(H$47:H$309)-ROW(H$47)+1),ROWS($A$3:H5))),\"\")","v":""},{"$f":"IFERROR(INDEX('بيانات اساسية'!X$6:X$306,SMALL(IF('بيانات اساسية'!$X$6:$X$306=\"معلم رياضيات\",ROW(I$47:I$309)-ROW(I$47)+1),ROWS($A$3:I5))),\"\")","v":""},{"$f":"IFERROR(INDEX('بيانات اساسية'!N$6:N$306,SMALL(IF('بيانات اساسية'!$X$6:$X$306=\"معلم رياضيات\",ROW(J$47:J$309)-ROW(J$47)+1),ROWS($A$3:J5))),\"\")","v":""},{"$f":"IFERROR(INDEX('بيانات اساسية'!P$6:P$306,SMALL(IF('بيانات اساسية'!$X$6:$X$306=\"معلم رياضيات\",ROW(K$47:K$309)-ROW(K$47)+1),ROWS($A$3:K5))),\"\")","v":""},{"$f":"IFERROR(INDEX('بيانات اساسية'!J$6:J$306,SMALL(IF('بيانات اساسية'!$X$6:$X$306=\"معلم رياضيات\",ROW(L$47:L$309)-ROW(L$47)+1),ROWS($A$3:L5))),\"\")","v":""},{"$f":"IFERROR(INDEX('بيانات اساسية'!I$6:I$306,SMALL(IF('بيانات اساسية'!$X$6:$X$306=\"معلم رياضيات\",ROW(M$47:M$309)-ROW(M$47)+1),ROWS($A$3:M5))),\"\")","v":""}]
[null,{"$f":"IFERROR(INDEX('بيانات اساسية'!B$6:B$306,SMALL(IF('بيانات اساسية'!$X$6:$X$306=\"معلم رياضيات\",ROW(B$47:B$309)-ROW(B$47)+1),ROWS($A$3:B6))),\"\")","v":""},{"$f":"IFERROR(INDEX('بيانات اساسية'!C$6:C$306,SMALL(IF('بيانات اساسية'!$X$6:$X$306=\"معلم رياضيات\",ROW(C$47:C$309)-ROW(C$47)+1),ROWS($A$3:C6))),\"\")","v":""},{"$f":"IFERROR(INDEX('بيانات اساسية'!D$6:D$306,SMALL(IF('بيانات اساسية'!$X$6:$X$306=\"معلم رياضيات\",ROW(D$47:D$309)-ROW(D$47)+1),ROWS($A$3:D6))),\"\")","v":""},{"$f":"IFERROR(INDEX('بيانات اساسية'!L$6:L$306,SMALL(IF('بيانات اساسية'!$X$6:$X$306=\"معلم رياضيات\",ROW(E$47:E$309)-ROW(E$47)+1),ROWS($A$3:E6))),\"\")","v":""},{"$f":"IFERROR(INDEX('بيانات اساسية'!AG$6:AG$306,SMALL(IF('بيانات اساسية'!$X$6:$X$306=\"معلم رياضيات\",ROW(F$47:F$309)-ROW(F$47)+1),ROWS($A$3:F6))),\"\")","v":""},{"$f":"IFERROR(INDEX('بيانات اساسية'!AF$6:AF$306,SMALL(IF('بيانات اساسية'!$X$6:$X$306=\"معلم رياضيات\",ROW(G$47:G$309)-ROW(G$47)+1),ROWS($A$3:G6))),\"\")","v":""},{"$f":"IFERROR(INDEX('بيانات اساسية'!Y$6:Y$306,SMALL(IF('بيانات اساسية'!$X$6:$X$306=\"معلم رياضيات\",ROW(H$47:H$309)-ROW(H$47)+1),ROWS($A$3:H6))),\"\")","v":""},{"$f":"IFERROR(INDEX('بيانات اساسية'!X$6:X$306,SMALL(IF('بيانات اساسية'!$X$6:$X$306=\"معلم رياضيات\",ROW(I$47:I$309)-ROW(I$47)+1),ROWS($A$3:I6))),\"\")","v":""},{"$f":"IFERROR(INDEX('بيانات اساسية'!N$6:N$306,SMALL(IF('بيانات اساسية'!$X$6:$X$306=\"معلم رياضيات\",ROW(J$47:J$309)-ROW(J$47)+1),ROWS($A$3:J6))),\"\")","v":""},{"$f":"IFERROR(INDEX('بيانات اساسية'!P$6:P$306,SMALL(IF('بيانات اساسية'!$X$6:$X$306=\"معلم رياضيات\",ROW(K$47:K$309)-ROW(K$47)+1),ROWS($A$3:K6))),\"\")","v":""},{"$f":"IFERROR(INDEX('بيانات اساسية'!J$6:J$306,SMALL(IF('بيانات اساسية'!$X$6:$X$306=\"معلم رياضيات\",ROW(L$47:L$309)-ROW(L$47)+1),ROWS($A$3:L6))),\"\")","v":""},{"$f":"IFERROR(INDEX('بيانات اساسية'!I$6:I$306,SMALL(IF('بيانات اساسية'!$X$6:$X$306=\"معلم رياضيات\",ROW(M$47:M$309)-ROW(M$47)+1),ROWS($A$3:M6))),\"\")","v":""}]
[null,{"$f":"IFERROR(INDEX('بيانات اساسية'!B$6:B$306,SMALL(IF('بيانات اساسية'!$X$6:$X$306=\"معلم رياضيات\",ROW(B$47:B$309)-ROW(B$47)+1),ROWS($A$3:B7))),\"\")","v":""},{"$f":"IFERROR(INDEX('بيانات اساسية'!C$6:C$306,SMALL(IF('بيانات اساسية'!$X$6:$X$306=\"معلم رياضيات\",ROW(C$47:C$309)-ROW(C$47)+1),ROWS($A$3:C7))),\"\")","v":""},{"$f":"IFERROR(INDEX('بيانات اساسية'!D$6:D$306,SMALL(IF('بيانات اساسية'!$X$6:$X$306=\"معلم رياضيات\",ROW(D$47:D$309)-ROW(D$47)+1),ROWS($A$3:D7))),\"\")","v":""},{"$f":"IFERROR(INDEX('بيانات اساسية'!L$6:L$306,SMALL(IF('بيانات اساسية'!$X$6:$X$306=\"معلم رياضيات\",ROW(E$47:E$309)-ROW(E$47)+1),ROWS($A$3:E7))),\"\")","v":""},{"$f":"IFERROR(INDEX('بيانات اساسية'!AG$6:AG$306,SMALL(IF('بيانات اساسية'!$X$6:$X$306=\"معلم رياضيات\",ROW(F$47:F$309)-ROW(F$47)+1),ROWS($A$3:F7))),\"\")","v":""},{"$f":"IFERROR(INDEX('بيانات اساسية'!AF$6:AF$306,SMALL(IF('بيانات اساسية'!$X$6:$X$306=\"معلم رياضيات\",ROW(G$47:G$309)-ROW(G$47)+1),ROWS($A$3:G7))),\"\")","v":""},{"$f":"IFERROR(INDEX('بيانات اساسية'!Y$6:Y$306,SMALL(IF('بيانات اساسية'!$X$6:$X$306=\"معلم رياضيات\",ROW(H$47:H$309)-ROW(H$47)+1),ROWS($A$3:H7))),\"\")","v":""},{"$f":"IFERROR(INDEX('بيانات اساسية'!X$6:X$306,SMALL(IF('بيانات اساسية'!$X$6:$X$306=\"معلم رياضيات\",ROW(I$47:I$309)-ROW(I$47)+1),ROWS($A$3:I7))),\"\")","v":""},{"$f":"IFERROR(INDEX('بيانات اساسية'!N$6:N$306,SMALL(IF('بيانات اساسية'!$X$6:$X$306=\"معلم رياضيات\",ROW(J$47:J$309)-ROW(J$47)+1),ROWS($A$3:J7))),\"\")","v":""},{"$f":"IFERROR(INDEX('بيانات اساسية'!P$6:P$306,SMALL(IF('بيانات اساسية'!$X$6:$X$306=\"معلم رياضيات\",ROW(K$47:K$309)-ROW(K$47)+1),ROWS($A$3:K7))),\"\")","v":""},{"$f":"IFERROR(INDEX('بيانات اساسية'!J$6:J$306,SMALL(IF('بيانات اساسية'!$X$6:$X$306=\"معلم رياضيات\",ROW(L$47:L$309)-ROW(L$47)+1),ROWS($A$3:L7))),\"\")","v":""},{"$f":"IFERROR(INDEX('بيانات اساسية'!I$6:I$306,SMALL(IF('بيانات اساسية'!$X$6:$X$306=\"معلم رياضيات\",ROW(M$47:M$309)-ROW(M$47)+1),ROWS($A$3:M7))),\"\")","v":""}]
[null,{"$f":"IFERROR(INDEX('بيانات اساسية'!B$6:B$306,SMALL(IF('بيانات اساسية'!$X$6:$X$306=\"معلم رياضيات\",ROW(B$47:B$309)-ROW(B$47)+1),ROWS($A$3:B8))),\"\")","v":""},{"$f":"IFERROR(INDEX('بيانات اساسية'!C$6:C$306,SMALL(IF('بيانات اساسية'!$X$6:$X$306=\"معلم رياضيات\",ROW(C$47:C$309)-ROW(C$47)+1),ROWS($A$3:C8))),\"\")","v":""},{"$f":"IFERROR(INDEX('بيانات اساسية'!D$6:D$306,SMALL(IF('بيانات اساسية'!$X$6:$X$306=\"معلم رياضيات\",ROW(D$47:D$309)-ROW(D$47)+1),ROWS($A$3:D8))),\"\")","v":""},{"$f":"IFERROR(INDEX('بيانات اساسية'!L$6:L$306,SMALL(IF('بيانات اساسية'!$X$6:$X$306=\"معلم رياضيات\",ROW(E$47:E$309)-ROW(E$47)+1),ROWS($A$3:E8))),\"\")","v":""},{"$f":"IFERROR(INDEX('بيانات اساسية'!AG$6:AG$306,SMALL(IF('بيانات اساسية'!$X$6:$X$306=\"معلم رياضيات\",ROW(F$47:F$309)-ROW(F$47)+1),ROWS($A$3:F8))),\"\")","v":""},{"$f":"IFERROR(INDEX('بيانات اساسية'!AF$6:AF$306,SMALL(IF('بيانات اساسية'!$X$6:$X$306=\"معلم رياضيات\",ROW(G$47:G$309)-ROW(G$47)+1),ROWS($A$3:G8))),\"\")","v":""},{"$f":"IFERROR(INDEX('بيانات اساسية'!Y$6:Y$306,SMALL(IF('بيانات اساسية'!$X$6:$X$306=\"معلم رياضيات\",ROW(H$47:H$309)-ROW(H$47)+1),ROWS($A$3:H8))),\"\")","v":""},{"$f":"IFERROR(INDEX('بيانات اساسية'!X$6:X$306,SMALL(IF('بيانات اساسية'!$X$6:$X$306=\"معلم رياضيات\",ROW(I$47:I$309)-ROW(I$47)+1),ROWS($A$3:I8))),\"\")","v":""},{"$f":"IFERROR(INDEX('بيانات اساسية'!N$6:N$306,SMALL(IF('بيانات اساسية'!$X$6:$X$306=\"معلم رياضيات\",ROW(J$47:J$309)-ROW(J$47)+1),ROWS($A$3:J8))),\"\")","v":""},{"$f":"IFERROR(INDEX('بيانات اساسية'!P$6:P$306,SMALL(IF('بيانات اساسية'!$X$6:$X$306=\"معلم رياضيات\",ROW(K$47:K$309)-ROW(K$47)+1),ROWS($A$3:K8))),\"\")","v":""},{"$f":"IFERROR(INDEX('بيانات اساسية'!J$6:J$306,SMALL(IF('بيانات اساسية'!$X$6:$X$306=\"معلم رياضيات\",ROW(L$47:L$309)-ROW(L$47)+1),ROWS($A$3:L8))),\"\")","v":""},{"$f":"IFERROR(INDEX('بيانات اساسية'!I$6:I$306,SMALL(IF('بيانات اساسية'!$X$6:$X$306=\"معلم رياضيات\",ROW(M$47:M$309)-ROW(M$47)+1),ROWS($A$3:M8))),\"\")","v":""}]
[null,{"$f":"IFERROR(INDEX('بيانات اساسية'!B$6:B$306,SMALL(IF('بيانات اساسية'!$X$6:$X$306=\"معلم رياضيات\",ROW(B$47:B$309)-ROW(B$47)+1),ROWS($A$3:B9))),\"\")","v":""},{"$f":"IFERROR(INDEX('بيانات اساسية'!C$6:C$306,SMALL(IF('بيانات اساسية'!$X$6:$X$306=\"معلم رياضيات\",ROW(C$47:C$309)-ROW(C$47)+1),ROWS($A$3:C9))),\"\")","v":""},{"$f":"IFERROR(INDEX('بيانات اساسية'!D$6:D$306,SMALL(IF('بيانات اساسية'!$X$6:$X$306=\"معلم رياضيات\",ROW(D$47:D$309)-ROW(D$47)+1),ROWS($A$3:D9))),\"\")","v":""},{"$f":"IFERROR(INDEX('بيانات اساسية'!L$6:L$306,SMALL(IF('بيانات اساسية'!$X$6:$X$306=\"معلم رياضيات\",ROW(E$47:E$309)-ROW(E$47)+1),ROWS($A$3:E9))),\"\")","v":""},{"$f":"IFERROR(INDEX('بيانات اساسية'!AG$6:AG$306,SMALL(IF('بيانات اساسية'!$X$6:$X$306=\"معلم رياضيات\",ROW(F$47:F$309)-ROW(F$47)+1),ROWS($A$3:F9))),\"\")","v":""},{"$f":"IFERROR(INDEX('بيانات اساسية'!AF$6:AF$306,SMALL(IF('بيانات اساسية'!$X$6:$X$306=\"معلم رياضيات\",ROW(G$47:G$309)-ROW(G$47)+1),ROWS($A$3:G9))),\"\")","v":""},{"$f":"IFERROR(INDEX('بيانات اساسية'!Y$6:Y$306,SMALL(IF('بيانات اساسية'!$X$6:$X$306=\"معلم رياضيات\",ROW(H$47:H$309)-ROW(H$47)+1),ROWS($A$3:H9))),\"\")","v":""},{"$f":"IFERROR(INDEX('بيانات اساسية'!X$6:X$306,SMALL(IF('بيانات اساسية'!$X$6:$X$306=\"معلم رياضيات\",ROW(I$47:I$309)-ROW(I$47)+1),ROWS($A$3:I9))),\"\")","v":""},{"$f":"IFERROR(INDEX('بيانات اساسية'!N$6:N$306,SMALL(IF('بيانات اساسية'!$X$6:$X$306=\"معلم رياضيات\",ROW(J$47:J$309)-ROW(J$47)+1),ROWS($A$3:J9))),\"\")","v":""},{"$f":"IFERROR(INDEX('بيانات اساسية'!P$6:P$306,SMALL(IF('بيانات اساسية'!$X$6:$X$306=\"معلم رياضيات\",ROW(K$47:K$309)-ROW(K$47)+1),ROWS($A$3:K9))),\"\")","v":""},{"$f":"IFERROR(INDEX('بيانات اساسية'!J$6:J$306,SMALL(IF('بيانات اساسية'!$X$6:$X$306=\"معلم رياضيات\",ROW(L$47:L$309)-ROW(L$47)+1),ROWS($A$3:L9))),\"\")","v":""},{"$f":"IFERROR(INDEX('بيانات اساسية'!I$6:I$306,SMALL(IF('بيانات اساسية'!$X$6:$X$306=\"معلم رياضيات\",ROW(M$47:M$309)-ROW(M$47)+1),ROWS($A$3:M9))),\"\")","v":""}]
[null,{"$f":"IFERROR(INDEX('بيانات اساسية'!B$6:B$306,SMALL(IF('بيانات اساسية'!$X$6:$X$306=\"معلم رياضيات\",ROW(B$47:B$309)-ROW(B$47)+1),ROWS($A$3:B10))),\"\")","v":""},{"$f":"IFERROR(INDEX('بيانات اساسية'!C$6:C$306,SMALL(IF('بيانات اساسية'!$X$6:$X$306=\"معلم رياضيات\",ROW(C$47:C$309)-ROW(C$47)+1),ROWS($A$3:C10))),\"\")","v":""},{"$f":"IFERROR(INDEX('بيانات اساسية'!D$6:D$306,SMALL(IF('بيانات اساسية'!$X$6:$X$306=\"معلم رياضيات\",ROW(D$47:D$309)-ROW(D$47)+1),ROWS($A$3:D10))),\"\")","v":""},{"$f":"IFERROR(INDEX('بيانات اساسية'!L$6:L$306,SMALL(IF('بيانات اساسية'!$X$6:$X$306=\"معلم رياضيات\",ROW(E$47:E$309)-ROW(E$47)+1),ROWS($A$3:E10))),\"\")","v":""},{"$f":"IFERROR(INDEX('بيانات اساسية'!AG$6:AG$306,SMALL(IF('بيانات اساسية'!$X$6:$X$306=\"معلم رياضيات\",ROW(F$47:F$309)-ROW(F$47)+1),ROWS($A$3:F10))),\"\")","v":""},{"$f":"IFERROR(INDEX('بيانات اساسية'!AF$6:AF$306,SMALL(IF('بيانات اساسية'!$X$6:$X$306=\"معلم رياضيات\",ROW(G$47:G$309)-ROW(G$47)+1),ROWS($A$3:G10))),\"\")","v":""},{"$f":"IFERROR(INDEX('بيانات اساسية'!Y$6:Y$306,SMALL(IF('بيانات اساسية'!$X$6:$X$306=\"معلم رياضيات\",ROW(H$47:H$309)-ROW(H$47)+1),ROWS($A$3:H10))),\"\")","v":""},{"$f":"IFERROR(INDEX('بيانات اساسية'!X$6:X$306,SMALL(IF('بيانات اساسية'!$X$6:$X$306=\"معلم رياضيات\",ROW(I$47:I$309)-ROW(I$47)+1),ROWS($A$3:I10))),\"\")","v":""},{"$f":"IFERROR(INDEX('بيانات اساسية'!N$6:N$306,SMALL(IF('بيانات اساسية'!$X$6:$X$306=\"معلم رياضيات\",ROW(J$47:J$309)-ROW(J$47)+1),ROWS($A$3:J10))),\"\")","v":""},{"$f":"IFERROR(INDEX('بيانات اساسية'!P$6:P$306,SMALL(IF('بيانات اساسية'!$X$6:$X$306=\"معلم رياضيات\",ROW(K$47:K$309)-ROW(K$47)+1),ROWS($A$3:K10))),\"\")","v":""},{"$f":"IFERROR(INDEX('بيانات اساسية'!J$6:J$306,SMALL(IF('بيانات اساسية'!$X$6:$X$306=\"معلم رياضيات\",ROW(L$47:L$309)-ROW(L$47)+1),ROWS($A$3:L10))),\"\")","v":""},{"$f":"IFERROR(INDEX('بيانات اساسية'!I$6:I$306,SMALL(IF('بيانات اساسية'!$X$6:$X$306=\"معلم رياضيات\",ROW(M$47:M$309)-ROW(M$47)+1),ROWS($A$3:M10))),\"\")","v":""}]
[null,{"$f":"IFERROR(INDEX('بيانات اساسية'!B$6:B$306,SMALL(IF('بيانات اساسية'!$X$6:$X$306=\"معلم رياضيات\",ROW(B$47:B$309)-ROW(B$47)+1),ROWS($A$3:B11))),\"\")","v":""},{"$f":"IFERROR(INDEX('بيانات اساسية'!C$6:C$306,SMALL(IF('بيانات اساسية'!$X$6:$X$306=\"معلم رياضيات\",ROW(C$47:C$309)-ROW(C$47)+1),ROWS($A$3:C11))),\"\")","v":""},{"$f":"IFERROR(INDEX('بيانات اساسية'!D$6:D$306,SMALL(IF('بيانات اساسية'!$X$6:$X$306=\"معلم رياضيات\",ROW(D$47:D$309)-ROW(D$47)+1),ROWS($A$3:D11))),\"\")","v":""},{"$f":"IFERROR(INDEX('بيانات اساسية'!L$6:L$306,SMALL(IF('بيانات اساسية'!$X$6:$X$306=\"معلم رياضيات\",ROW(E$47:E$309)-ROW(E$47)+1),ROWS($A$3:E11))),\"\")","v":""},{"$f":"IFERROR(INDEX('بيانات اساسية'!AG$6:AG$306,SMALL(IF('بيانات اساسية'!$X$6:$X$306=\"معلم رياضيات\",ROW(F$47:F$309)-ROW(F$47)+1),ROWS($A$3:F11))),\"\")","v":""},{"$f":"IFERROR(INDEX('بيانات اساسية'!AF$6:AF$306,SMALL(IF('بيانات اساسية'!$X$6:$X$306=\"معلم رياضيات\",ROW(G$47:G$309)-ROW(G$47)+1),ROWS($A$3:G11))),\"\")","v":""},{"$f":"IFERROR(INDEX('بيانات اساسية'!Y$6:Y$306,SMALL(IF('بيانات اساسية'!$X$6:$X$306=\"معلم رياضيات\",ROW(H$47:H$309)-ROW(H$47)+1),ROWS($A$3:H11))),\"\")","v":""},{"$f":"IFERROR(INDEX('بيانات اساسية'!X$6:X$306,SMALL(IF('بيانات اساسية'!$X$6:$X$306=\"معلم رياضيات\",ROW(I$47:I$309)-ROW(I$47)+1),ROWS($A$3:I11))),\"\")","v":""},{"$f":"IFERROR(INDEX('بيانات اساسية'!N$6:N$306,SMALL(IF('بيانات اساسية'!$X$6:$X$306=\"معلم رياضيات\",ROW(J$47:J$309)-ROW(J$47)+1),ROWS($A$3:J11))),\"\")","v":""},{"$f":"IFERROR(INDEX('بيانات اساسية'!P$6:P$306,SMALL(IF('بيانات اساسية'!$X$6:$X$306=\"معلم رياضيات\",ROW(K$47:K$309)-ROW(K$47)+1),ROWS($A$3:K11))),\"\")","v":""},{"$f":"IFERROR(INDEX('بيانات اساسية'!J$6:J$306,SMALL(IF('بيانات اساسية'!$X$6:$X$306=\"معلم رياضيات\",ROW(L$47:L$309)-ROW(L$47)+1),ROWS($A$3:L11))),\"\")","v":""},{"$f":"IFERROR(INDEX('بيانات اساسية'!I$6:I$306,SMALL(IF('بيانات اساسية'!$X$6:$X$306=\"معلم رياضيات\",ROW(M$47:M$309)-ROW(M$47)+1),ROWS($A$3:M11))),\"\")","v":""}]
[null,{"$f":"IFERROR(INDEX('بيانات اساسية'!B$6:B$306,SMALL(IF('بيانات اساسية'!$X$6:$X$306=\"معلم رياضيات\",ROW(B$47:B$309)-ROW(B$47)+1),ROWS($A$3:B12))),\"\")","v":""},{"$f":"IFERROR(INDEX('بيانات اساسية'!C$6:C$306,SMALL(IF('بيانات اساسية'!$X$6:$X$306=\"معلم رياضيات\",ROW(C$47:C$309)-ROW(C$47)+1),ROWS($A$3:C12))),\"\")","v":""},{"$f":"IFERROR(INDEX('بيانات اساسية'!D$6:D$306,SMALL(IF('بيانات اساسية'!$X$6:$X$306=\"معلم رياضيات\",ROW(D$47:D$309)-ROW(D$47)+1),ROWS($A$3:D12))),\"\")","v":""},{"$f":"IFERROR(INDEX('بيانات اساسية'!L$6:L$306,SMALL(IF('بيانات اساسية'!$X$6:$X$306=\"معلم رياضيات\",ROW(E$47:E$309)-ROW(E$47)+1),ROWS($A$3:E12))),\"\")","v":""},{"$f":"IFERROR(INDEX('بيانات اساسية'!AG$6:AG$306,SMALL(IF('بيانات اساسية'!$X$6:$X$306=\"معلم رياضيات\",ROW(F$47:F$309)-ROW(F$47)+1),ROWS($A$3:F12))),\"\")","v":""},{"$f":"IFERROR(INDEX('بيانات اساسية'!AF$6:AF$306,SMALL(IF('بيانات اساسية'!$X$6:$X$306=\"معلم رياضيات\",ROW(G$47:G$309)-ROW(G$47)+1),ROWS($A$3:G12))),\"\")","v":""},{"$f":"IFERROR(INDEX('بيانات اساسية'!Y$6:Y$306,SMALL(IF('بيانات اساسية'!$X$6:$X$306=\"معلم رياضيات\",ROW(H$47:H$309)-ROW(H$47)+1),ROWS($A$3:H12))),\"\")","v":""},{"$f":"IFERROR(INDEX('بيانات اساسية'!X$6:X$306,SMALL(IF('بيانات اساسية'!$X$6:$X$306=\"معلم رياضيات\",ROW(I$47:I$309)-ROW(I$47)+1),ROWS($A$3:I12))),\"\")","v":""},{"$f":"IFERROR(INDEX('بيانات اساسية'!N$6:N$306,SMALL(IF('بيانات اساسية'!$X$6:$X$306=\"معلم رياضيات\",ROW(J$47:J$309)-ROW(J$47)+1),ROWS($A$3:J12))),\"\")","v":""},{"$f":"IFERROR(INDEX('بيانات اساسية'!P$6:P$306,SMALL(IF('بيانات اساسية'!$X$6:$X$306=\"معلم رياضيات\",ROW(K$47:K$309)-ROW(K$47)+1),ROWS($A$3:K12))),\"\")","v":""},{"$f":"IFERROR(INDEX('بيانات اساسية'!J$6:J$306,SMALL(IF('بيانات اساسية'!$X$6:$X$306=\"معلم رياضيات\",ROW(L$47:L$309)-ROW(L$47)+1),ROWS($A$3:L12))),\"\")","v":""},{"$f":"IFERROR(INDEX('بيانات اساسية'!I$6:I$306,SMALL(IF('بيانات اساسية'!$X$6:$X$306=\"معلم رياضيات\",ROW(M$47:M$309)-ROW(M$47)+1),ROWS($A$3:M12))),\"\")","v":""}]
[null,null,"              بيانات معلمى مادة /  اللغة الانجليزية"]
[]
["م","رقم السجل","الاسم رباعيا","الرقم القومى 14 رقم","المؤهل ","التخصص","الدرجة على الكادر","الدرجة المالية","الوظيفة الحالية","تاريخ التعيين","تاريخ\n اول مباشرة","رقم التلفون","العنوان","الدرجة المالية2","ملاحظات"]
[1,{"$f":"IFERROR(INDEX('بيانات اساسية'!B$6:B$306,SMALL(IF('بيانات اساسية'!$X$6:$X$306=\"معلم لغة انجليزية\",ROW(B$60:B$309)-ROW(B$60)+1),ROWS($A$3:B3))),\"\")","v":305096},{"$f":"IFERROR(INDEX('بيانات اساسية'!C$6:C$306,SMALL(IF('بيانات اساسية'!$X$6:$X$306=\"معلم لغة انجليزية\",ROW(C$60:C$309)-ROW(C$60)+1),ROWS($A$3:C3))),\"\")","v":"مشيرة محمد عامر محمد"},{"$f":"IFERROR(INDEX('بيانات اساسية'!D$6:D$306,SMALL(IF('بيانات اساسية'!$X$6:$X$306=\"معلم لغة انجليزية\",ROW(D$60:D$309)-ROW(D$60)+1),ROWS($A$3:D3))),\"\")","v":28208021403569},{"$f":"IFERROR(INDEX('بيانات اساسية'!L$6:L$306,SMALL(IF('بيانات اساسية'!$X$6:$X$306=\"معلم لغة انجليزية\",ROW(E$60:E$309)-ROW(E$60)+1),ROWS($A$3:E3))),\"\")","v":"ل.لغات وترجمة 2005"},{"$f":"IFERROR(INDEX('بيانات اساسية'!AG$6:AG$306,SMALL(IF('بيانات اساسية'!$X$6:$X$306=\"معلم لغة انجليزية\",ROW(F$60:F$309)-ROW(F$60)+1),ROWS($A$3:F3))),\"\")","v":"لغة انجليزية"},{"$f":"IFERROR(INDEX('بيانات اساسية'!AF$6:AF$306,SMALL(IF('بيانات اساسية'!$X$6:$X$306=\"معلم لغة انجليزية\",ROW(G$60:G$309)-ROW(G$60)+1),ROWS($A$3:G3))),\"\")","v":"معلم اول"},{"$f":"IFERROR(INDEX('بيانات اساسية'!Y$6:Y$306,SMALL(IF('بيانات اساسية'!$X$6:$X$306=\"معلم لغة انجليزية\",ROW(H$60:H$309)-ROW(H$60)+1),ROWS($A$3:H3))),\"\")","v":"الثانية التخصصية 2019"},{"$f":"IFERROR(INDEX('بيانات اساسية'!X$6:X$306,SMALL(IF('بيانات اساسية'!$X$6:$X$306=\"معلم لغة انجليزية\",ROW(I$60:I$309)-ROW(I$60)+1),ROWS($A$3:I3))),\"\")","v":"معلم لغة انجليزية"},{"$f":"IFERROR(INDEX('بيانات اساسية'!N$6:N$306,SMALL(IF('بيانات اساسية'!$X$6:$X$306=\"معلم لغة انجليزية\",ROW(J$60:J$309)-ROW(J$60)+1),ROWS($A$3:J3))),\"\")","v":"2012-05-07"},{"$f":"IFERROR(INDEX('بيانات اساسية'!P$6:P$306,SMALL(IF('بيانات اساسية'!$X$6:$X$306=\"معلم لغة انجليزية\",ROW(K$60:K$309)-ROW(K$60)+1),ROWS($A$3:K3))),\"\")","v":"2008-02-03"},{"$f":"IFERROR(INDEX('بيانات اساسية'!J$6:J$306,SMALL(IF('بيانات اساسية'!$X$6:$X$306=\"معلم رياضيات\",ROW(L$60:L$309)-ROW(L$60)+1),ROWS($A$3:L3))),\"\")","v":"01021429264"},{"$f":"IFERROR(INDEX('بيانات اساسية'!I$6:I$306,SMALL(IF('بيانات اساسية'!$X$6:$X$306=\"معلم لغة انجليزية\",ROW(M$60:M$309)-ROW(M$60)+1),ROWS($A$3:M3))),\"\")","v":"مساكن الفرنوانى - شبرا الخيمة ."},"الثانية التخصصية 2019"]
[2,{"$f":"IFERROR(INDEX('بيانات اساسية'!B$6:B$306,SMALL(IF('بيانات اساسية'!$X$6:$X$306=\"معلم لغة انجليزية\",ROW(B$60:B$309)-ROW(B$60)+1),ROWS($A$3:B4))),\"\")","v":362034},{"$f":"IFERROR(INDEX('بيانات اساسية'!C$6:C$306,SMALL(IF('بيانات اساسية'!$X$6:$X$306=\"معلم لغة انجليزية\",ROW(C$60:C$309)-ROW(C$60)+1),ROWS($A$3:C4))),\"\")","v":"أحمد محمود لطفى محمد منتصر"},{"$f":"IFERROR(INDEX('بيانات اساسية'!D$6:D$306,SMALL(IF('بيانات اساسية'!$X$6:$X$306=\"معلم لغة انجليزية\",ROW(D$60:D$309)-ROW(D$60)+1),ROWS($A$3:D4))),\"\")","v":28209011409972},{"$f":"IFERROR(INDEX('بيانات اساسية'!L$6:L$306,SMALL(IF('بيانات اساسية'!$X$6:$X$306=\"معلم لغة انجليزية\",ROW(E$60:E$309)-ROW(E$60)+1),ROWS($A$3:E4))),\"\")","v":"ل.آداب وتربية 2004"},{"$f":"IFERROR(INDEX('بيانات اساسية'!AG$6:AG$306,SMALL(IF('بيانات اساسية'!$X$6:$X$306=\"معلم لغة انجليزية\",ROW(F$60:F$309)-ROW(F$60)+1),ROWS($A$3:F4))),\"\")","v":"لغة انجليزية"},{"$f":"IFERROR(INDEX('بيانات اساسية'!AF$6:AF$306,SMALL(IF('بيانات اساسية'!$X$6:$X$306=\"معلم لغة انجليزية\",ROW(G$60:G$309)-ROW(G$60)+1),ROWS($A$3:G4))),\"\")","v":"معلم اول"},{"$f":"IFERROR(INDEX('بيانات اساسية'!Y$6:Y$306,SMALL(IF('بيانات اساسية'!$X$6:$X$306=\"معلم لغة انجليزية\",ROW(H$60:H$309)-ROW(H$60)+1),ROWS($A$3:H4))),\"\")","v":"الثانية التخصصية 2018"},{"$f":"IFERROR(INDEX('بيانات اساسية'!X$6:X$306,SMALL(IF('بيانات اساسية'!$X$6:$X$306=\"معلم لغة انجليزية\",ROW(I$60:I$309)-ROW(I$60)+1),ROWS($A$3:I4))),\"\")","v":"معلم لغة انجليزية"},{"$f":"IFERROR(INDEX('بيانات اساسية'!N$6:N$306,SMALL(IF('بيانات اساسية'!$X$6:$X$306=\"معلم لغة انجليزية\",ROW(J$60:J$309)-ROW(J$60)+1),ROWS($A$3:J4))),\"\")","v":"2012-05-07"},{"$f":"IFERROR(INDEX('بيانات اساسية'!P$6:P$306,SMALL(IF('بيانات اساسية'!$X$6:$X$306=\"معلم لغة انجليزية\",ROW(K$60:K$309)-ROW(K$60)+1),ROWS($A$3:K4))),\"\")","v":"2008-02-01"},{"$f":"IFERROR(INDEX('بيانات اساسية'!J$6:J$306,SMALL(IF('بيانات اساسية'!$X$6:$X$306=\"معلم رياضيات\",ROW(L$60:L$309)-ROW(L$60)+1),ROWS($A$3:L4))),\"\")","v":"01094506082"},{"$f":"IFERROR(INDEX('بيانات اساسية'!I$6:I$306,SMALL(IF('بيانات اساسية'!$X$6:$X$306=\"معلم لغة انجليزية\",ROW(M$60:M$309)-ROW(M$60)+1),ROWS($A$3:M4))),\"\")","v":"16ش العدلى-العزبة الزراعية -بنها- قليوبية"},"الثانية التخصصية 2018","منتدب3ايام الى معهد\n     عبدالله خالد"]
[null,{"$f":"IFERROR(INDEX('بيانات اساسية'!B$6:B$306,SMALL(IF('بيانات اساسية'!$X$6:$X$306=\"معلم لغة انجليزية\",ROW(B$60:B$309)-ROW(B$60)+1),ROWS($A$3:B5))),\"\")","v":""},{"$f":"IFERROR(INDEX('بيانات اساسية'!C$6:C$306,SMALL(IF('بيانات اساسية'!$X$6:$X$306=\"معلم لغة انجليزية\",ROW(C$60:C$309)-ROW(C$60)+1),ROWS($A$3:C5))),\"\")","v":""},{"$f":"IFERROR(INDEX('بيانات اساسية'!D$6:D$306,SMALL(IF('بيانات اساسية'!$X$6:$X$306=\"معلم لغة انجليزية\",ROW(D$60:D$309)-ROW(D$60)+1),ROWS($A$3:D5))),\"\")","v":""},{"$f":"IFERROR(INDEX('بيانات اساسية'!L$6:L$306,SMALL(IF('بيانات اساسية'!$X$6:$X$306=\"معلم لغة انجليزية\",ROW(E$60:E$309)-ROW(E$60)+1),ROWS($A$3:E5))),\"\")","v":""},{"$f":"IFERROR(INDEX('بيانات اساسية'!AG$6:AG$306,SMALL(IF('بيانات اساسية'!$X$6:$X$306=\"معلم لغة انجليزية\",ROW(F$60:F$309)-ROW(F$60)+1),ROWS($A$3:F5))),\"\")","v":""},{"$f":"IFERROR(INDEX('بيانات اساسية'!AF$6:AF$306,SMALL(IF('بيانات اساسية'!$X$6:$X$306=\"معلم لغة انجليزية\",ROW(G$60:G$309)-ROW(G$60)+1),ROWS($A$3:G5))),\"\")","v":""},{"$f":"IFERROR(INDEX('بيانات اساسية'!Y$6:Y$306,SMALL(IF('بيانات اساسية'!$X$6:$X$306=\"معلم لغة انجليزية\",ROW(H$60:H$309)-ROW(H$60)+1),ROWS($A$3:H5))),\"\")","v":""},{"$f":"IFERROR(INDEX('بيانات اساسية'!X$6:X$306,SMALL(IF('بيانات اساسية'!$X$6:$X$306=\"معلم لغة انجليزية\",ROW(I$60:I$309)-ROW(I$60)+1),ROWS($A$3:I5))),\"\")","v":""},{"$f":"IFERROR(INDEX('بيانات اساسية'!N$6:N$306,SMALL(IF('بيانات اساسية'!$X$6:$X$306=\"معلم لغة انجليزية\",ROW(J$60:J$309)-ROW(J$60)+1),ROWS($A$3:J5))),\"\")","v":""},{"$f":"IFERROR(INDEX('بيانات اساسية'!P$6:P$306,SMALL(IF('بيانات اساسية'!$X$6:$X$306=\"معلم لغة انجليزية\",ROW(K$60:K$309)-ROW(K$60)+1),ROWS($A$3:K5))),\"\")","v":""},{"$f":"IFERROR(INDEX('بيانات اساسية'!J$6:J$306,SMALL(IF('بيانات اساسية'!$X$6:$X$306=\"معلم رياضيات\",ROW(L$60:L$309)-ROW(L$60)+1),ROWS($A$3:L5))),\"\")","v":""},{"$f":"IFERROR(INDEX('بيانات اساسية'!I$6:I$306,SMALL(IF('بيانات اساسية'!$X$6:$X$306=\"معلم لغة انجليزية\",ROW(M$60:M$309)-ROW(M$60)+1),ROWS($A$3:M5))),\"\")","v":""}]
[null,{"$f":"IFERROR(INDEX('بيانات اساسية'!B$6:B$306,SMALL(IF('بيانات اساسية'!$X$6:$X$306=\"معلم لغة انجليزية\",ROW(B$60:B$309)-ROW(B$60)+1),ROWS($A$3:B6))),\"\")","v":""},{"$f":"IFERROR(INDEX('بيانات اساسية'!C$6:C$306,SMALL(IF('بيانات اساسية'!$X$6:$X$306=\"معلم لغة انجليزية\",ROW(C$60:C$309)-ROW(C$60)+1),ROWS($A$3:C6))),\"\")","v":""},{"$f":"IFERROR(INDEX('بيانات اساسية'!D$6:D$306,SMALL(IF('بيانات اساسية'!$X$6:$X$306=\"معلم لغة انجليزية\",ROW(D$60:D$309)-ROW(D$60)+1),ROWS($A$3:D6))),\"\")","v":""},{"$f":"IFERROR(INDEX('بيانات اساسية'!L$6:L$306,SMALL(IF('بيانات اساسية'!$X$6:$X$306=\"معلم لغة انجليزية\",ROW(E$60:E$309)-ROW(E$60)+1),ROWS($A$3:E6))),\"\")","v":""},{"$f":"IFERROR(INDEX('بيانات اساسية'!AG$6:AG$306,SMALL(IF('بيانات اساسية'!$X$6:$X$306=\"معلم لغة انجليزية\",ROW(F$60:F$309)-ROW(F$60)+1),ROWS($A$3:F6))),\"\")","v":""},{"$f":"IFERROR(INDEX('بيانات اساسية'!AF$6:AF$306,SMALL(IF('بيانات اساسية'!$X$6:$X$306=\"معلم لغة انجليزية\",ROW(G$60:G$309)-ROW(G$60)+1),ROWS($A$3:G6))),\"\")","v":""},{"$f":"IFERROR(INDEX('بيانات اساسية'!Y$6:Y$306,SMALL(IF('بيانات اساسية'!$X$6:$X$306=\"معلم لغة انجليزية\",ROW(H$60:H$309)-ROW(H$60)+1),ROWS($A$3:H6))),\"\")","v":""},{"$f":"IFERROR(INDEX('بيانات اساسية'!X$6:X$306,SMALL(IF('بيانات اساسية'!$X$6:$X$306=\"معلم لغة انجليزية\",ROW(I$60:I$309)-ROW(I$60)+1),ROWS($A$3:I6))),\"\")","v":""},{"$f":"IFERROR(INDEX('بيانات اساسية'!N$6:N$306,SMALL(IF('بيانات اساسية'!$X$6:$X$306=\"معلم لغة انجليزية\",ROW(J$60:J$309)-ROW(J$60)+1),ROWS($A$3:J6))),\"\")","v":""},{"$f":"IFERROR(INDEX('بيانات اساسية'!P$6:P$306,SMALL(IF('بيانات اساسية'!$X$6:$X$306=\"معلم لغة انجليزية\",ROW(K$60:K$309)-ROW(K$60)+1),ROWS($A$3:K6))),\"\")","v":""},{"$f":"IFERROR(INDEX('بيانات اساسية'!J$6:J$306,SMALL(IF('بيانات اساسية'!$X$6:$X$306=\"معلم رياضيات\",ROW(L$60:L$309)-ROW(L$60)+1),ROWS($A$3:L6))),\"\")","v":""},{"$f":"IFERROR(INDEX('بيانات اساسية'!I$6:I$306,SMALL(IF('بيانات اساسية'!$X$6:$X$306=\"معلم لغة انجليزية\",ROW(M$60:M$309)-ROW(M$60)+1),ROWS($A$3:M6))),\"\")","v":""}]
[null,{"$f":"IFERROR(INDEX('بيانات اساسية'!B$6:B$306,SMALL(IF('بيانات اساسية'!$X$6:$X$306=\"معلم لغة انجليزية\",ROW(B$60:B$309)-ROW(B$60)+1),ROWS($A$3:B7))),\"\")","v":""},{"$f":"IFERROR(INDEX('بيانات اساسية'!C$6:C$306,SMALL(IF('بيانات اساسية'!$X$6:$X$306=\"معلم لغة انجليزية\",ROW(C$60:C$309)-ROW(C$60)+1),ROWS($A$3:C7))),\"\")","v":""},{"$f":"IFERROR(INDEX('بيانات اساسية'!D$6:D$306,SMALL(IF('بيانات اساسية'!$X$6:$X$306=\"معلم لغة انجليزية\",ROW(D$60:D$309)-ROW(D$60)+1),ROWS($A$3:D7))),\"\")","v":""},{"$f":"IFERROR(INDEX('بيانات اساسية'!L$6:L$306,SMALL(IF('بيانات اساسية'!$X$6:$X$306=\"معلم لغة انجليزية\",ROW(E$60:E$309)-ROW(E$60)+1),ROWS($A$3:E7))),\"\")","v":""},{"$f":"IFERROR(INDEX('بيانات اساسية'!AG$6:AG$306,SMALL(IF('بيانات اساسية'!$X$6:$X$306=\"معلم لغة انجليزية\",ROW(F$60:F$309)-ROW(F$60)+1),ROWS($A$3:F7))),\"\")","v":""},{"$f":"IFERROR(INDEX('بيانات اساسية'!AF$6:AF$306,SMALL(IF('بيانات اساسية'!$X$6:$X$306=\"معلم لغة انجليزية\",ROW(G$60:G$309)-ROW(G$60)+1),ROWS($A$3:G7))),\"\")","v":""},{"$f":"IFERROR(INDEX('بيانات اساسية'!Y$6:Y$306,SMALL(IF('بيانات اساسية'!$X$6:$X$306=\"معلم لغة انجليزية\",ROW(H$60:H$309)-ROW(H$60)+1),ROWS($A$3:H7))),\"\")","v":""},{"$f":"IFERROR(INDEX('بيانات اساسية'!X$6:X$306,SMALL(IF('بيانات اساسية'!$X$6:$X$306=\"معلم لغة انجليزية\",ROW(I$60:I$309)-ROW(I$60)+1),ROWS($A$3:I7))),\"\")","v":""},{"$f":"IFERROR(INDEX('بيانات اساسية'!N$6:N$306,SMALL(IF('بيانات اساسية'!$X$6:$X$306=\"معلم لغة انجليزية\",ROW(J$60:J$309)-ROW(J$60)+1),ROWS($A$3:J7))),\"\")","v":""},{"$f":"IFERROR(INDEX('بيانات اساسية'!P$6:P$306,SMALL(IF('بيانات اساسية'!$X$6:$X$306=\"معلم لغة انجليزية\",ROW(K$60:K$309)-ROW(K$60)+1),ROWS($A$3:K7))),\"\")","v":""},{"$f":"IFERROR(INDEX('بيانات اساسية'!J$6:J$306,SMALL(IF('بيانات اساسية'!$X$6:$X$306=\"معلم رياضيات\",ROW(L$60:L$309)-ROW(L$60)+1),ROWS($A$3:L7))),\"\")","v":""},{"$f":"IFERROR(INDEX('بيانات اساسية'!I$6:I$306,SMALL(IF('بيانات اساسية'!$X$6:$X$306=\"معلم لغة انجليزية\",ROW(M$60:M$309)-ROW(M$60)+1),ROWS($A$3:M7))),\"\")","v":""}]
[null,null,"                         بيانات معلمى مادة /  الدراسات  "]
[]
["م","رقم السجل","الاسم رباعيا","الرقم القومى 14 رقم","المؤهل ","التخصص","الدرجة على الكادر","الدرجة المالية","الوظيفة الحالية","تاريخ التعيين","تاريخ\n اول مباشرة","رقم التلفون","العنوان","الدرجة المالية2","ملاحظات"]
[null,{"$f":"IFERROR(INDEX('بيانات اساسية'!B$6:B$306,SMALL(IF('بيانات اساسية'!$X$6:$X$306=\"معلم دراسات\",ROW(B$68:B$309)-ROW(B$68)+1),ROWS($A$3:B3))),\"\")","v":273283},{"$f":"IFERROR(INDEX('بيانات اساسية'!C$6:C$306,SMALL(IF('بيانات اساسية'!$X$6:$X$306=\"معلم دراسات\",ROW(C$68:C$309)-ROW(C$68)+1),ROWS($A$3:C3))),\"\")","v":"هناء صلاح على الحديدى"},{"$f":"IFERROR(INDEX('بيانات اساسية'!D$6:D$306,SMALL(IF('بيانات اساسية'!$X$6:$X$306=\"معلم دراسات\",ROW(D$68:D$309)-ROW(D$68)+1),ROWS($A$3:D3))),\"\")","v":27810201401881},{"$f":"IFERROR(INDEX('بيانات اساسية'!L$6:L$306,SMALL(IF('بيانات اساسية'!$X$6:$X$306=\"معلم دراسات\",ROW(E$68:E$309)-ROW(E$68)+1),ROWS($A$3:E3))),\"\")","v":"ل.آداب علم نفس 2000"},{"$f":"IFERROR(INDEX('بيانات اساسية'!AG$6:AG$306,SMALL(IF('بيانات اساسية'!$X$6:$X$306=\"معلم دراسات\",ROW(F$68:F$309)-ROW(F$68)+1),ROWS($A$3:F3))),\"\")","v":"دراسات"},{"$f":"IFERROR(INDEX('بيانات اساسية'!AF$6:AF$306,SMALL(IF('بيانات اساسية'!$X$6:$X$306=\"معلم دراسات\",ROW(G$68:G$309)-ROW(G$68)+1),ROWS($A$3:G3))),\"\")","v":"معلم اول أ"},{"$f":"IFERROR(INDEX('بيانات اساسية'!Y$6:Y$306,SMALL(IF('بيانات اساسية'!$X$6:$X$306=\"معلم دراسات\",ROW(H$68:H$309)-ROW(H$68)+1),ROWS($A$3:H3))),\"\")","v":"الأولى التخصصية 2019"},{"$f":"IFERROR(INDEX('بيانات اساسية'!X$6:X$306,SMALL(IF('بيانات اساسية'!$X$6:$X$306=\"معلم دراسات\",ROW(I$68:I$309)-ROW(I$68)+1),ROWS($A$3:I3))),\"\")","v":"معلم دراسات"},{"$f":"IFERROR(INDEX('بيانات اساسية'!N$6:N$306,SMALL(IF('بيانات اساسية'!$X$6:$X$306=\"معلم دراسات\",ROW(J$68:J$309)-ROW(J$68)+1),ROWS($A$3:J3))),\"\")","v":"2002-09-04"},{"$f":"IFERROR(INDEX('بيانات اساسية'!P$6:P$306,SMALL(IF('بيانات اساسية'!$X$6:$X$306=\"معلم دراسات\",ROW(K$68:K$309)-ROW(K$68)+1),ROWS($A$3:K3))),\"\")","v":"2003-01-01"},{"$f":"IFERROR(INDEX('بيانات اساسية'!J$6:J$306,SMALL(IF('بيانات اساسية'!$X$6:$X$306=\"معلم دراسات\",ROW(L$68:L$309)-ROW(L$68)+1),ROWS($A$3:L3))),\"\")","v":"01280853249"},{"$f":"IFERROR(INDEX('بيانات اساسية'!I$6:I$306,SMALL(IF('بيانات اساسية'!$X$6:$X$306=\"معلم دراسات\",ROW(M$68:M$309)-ROW(M$68)+1),ROWS($A$3:M3))),\"\")","v":"93ش عزت محمد -منشية الحرية -شبراالخيمة"}]
[null,{"$f":"IFERROR(INDEX('بيانات اساسية'!B$6:B$306,SMALL(IF('بيانات اساسية'!$X$6:$X$306=\"معلم دراسات\",ROW(B$68:B$309)-ROW(B$68)+1),ROWS($A$3:B4))),\"\")","v":""},{"$f":"IFERROR(INDEX('بيانات اساسية'!C$6:C$306,SMALL(IF('بيانات اساسية'!$X$6:$X$306=\"معلم دراسات\",ROW(C$68:C$309)-ROW(C$68)+1),ROWS($A$3:C4))),\"\")","v":""},{"$f":"IFERROR(INDEX('بيانات اساسية'!D$6:D$306,SMALL(IF('بيانات اساسية'!$X$6:$X$306=\"معلم دراسات\",ROW(D$68:D$309)-ROW(D$68)+1),ROWS($A$3:D4))),\"\")","v":""},{"$f":"IFERROR(INDEX('بيانات اساسية'!L$6:L$306,SMALL(IF('بيانات اساسية'!$X$6:$X$306=\"معلم دراسات\",ROW(E$68:E$309)-ROW(E$68)+1),ROWS($A$3:E4))),\"\")","v":""},{"$f":"IFERROR(INDEX('بيانات اساسية'!AG$6:AG$306,SMALL(IF('بيانات اساسية'!$X$6:$X$306=\"معلم دراسات\",ROW(F$68:F$309)-ROW(F$68)+1),ROWS($A$3:F4))),\"\")","v":""},{"$f":"IFERROR(INDEX('بيانات اساسية'!AF$6:AF$306,SMALL(IF('بيانات اساسية'!$X$6:$X$306=\"معلم دراسات\",ROW(G$68:G$309)-ROW(G$68)+1),ROWS($A$3:G4))),\"\")","v":""},{"$f":"IFERROR(INDEX('بيانات اساسية'!Y$6:Y$306,SMALL(IF('بيانات اساسية'!$X$6:$X$306=\"معلم دراسات\",ROW(H$68:H$309)-ROW(H$68)+1),ROWS($A$3:H4))),\"\")","v":""},{"$f":"IFERROR(INDEX('بيانات اساسية'!X$6:X$306,SMALL(IF('بيانات اساسية'!$X$6:$X$306=\"معلم دراسات\",ROW(I$68:I$309)-ROW(I$68)+1),ROWS($A$3:I4))),\"\")","v":""},{"$f":"IFERROR(INDEX('بيانات اساسية'!N$6:N$306,SMALL(IF('بيانات اساسية'!$X$6:$X$306=\"معلم دراسات\",ROW(J$68:J$309)-ROW(J$68)+1),ROWS($A$3:J4))),\"\")","v":""},{"$f":"IFERROR(INDEX('بيانات اساسية'!P$6:P$306,SMALL(IF('بيانات اساسية'!$X$6:$X$306=\"معلم دراسات\",ROW(K$68:K$309)-ROW(K$68)+1),ROWS($A$3:K4))),\"\")","v":""},{"$f":"IFERROR(INDEX('بيانات اساسية'!J$6:J$306,SMALL(IF('بيانات اساسية'!$X$6:$X$306=\"معلم دراسات\",ROW(L$68:L$309)-ROW(L$68)+1),ROWS($A$3:L4))),\"\")","v":""},{"$f":"IFERROR(INDEX('بيانات اساسية'!I$6:I$306,SMALL(IF('بيانات اساسية'!$X$6:$X$306=\"معلم دراسات\",ROW(M$68:M$309)-ROW(M$68)+1),ROWS($A$3:M4))),\"\")","v":""}]
[null,{"$f":"IFERROR(INDEX('بيانات اساسية'!B$6:B$306,SMALL(IF('بيانات اساسية'!$X$6:$X$306=\"معلم دراسات\",ROW(B$68:B$309)-ROW(B$68)+1),ROWS($A$3:B5))),\"\")","v":""},{"$f":"IFERROR(INDEX('بيانات اساسية'!C$6:C$306,SMALL(IF('بيانات اساسية'!$X$6:$X$306=\"معلم دراسات\",ROW(C$68:C$309)-ROW(C$68)+1),ROWS($A$3:C5))),\"\")","v":""},{"$f":"IFERROR(INDEX('بيانات اساسية'!D$6:D$306,SMALL(IF('بيانات اساسية'!$X$6:$X$306=\"معلم دراسات\",ROW(D$68:D$309)-ROW(D$68)+1),ROWS($A$3:D5))),\"\")","v":""},{"$f":"IFERROR(INDEX('بيانات اساسية'!L$6:L$306,SMALL(IF('بيانات اساسية'!$X$6:$X$306=\"معلم دراسات\",ROW(E$68:E$309)-ROW(E$68)+1),ROWS($A$3:E5))),\"\")","v":""},{"$f":"IFERROR(INDEX('بيانات اساسية'!AG$6:AG$306,SMALL(IF('بيانات اساسية'!$X$6:$X$306=\"معلم دراسات\",ROW(F$68:F$309)-ROW(F$68)+1),ROWS($A$3:F5))),\"\")","v":""},{"$f":"IFERROR(INDEX('بيانات اساسية'!AF$6:AF$306,SMALL(IF('بيانات اساسية'!$X$6:$X$306=\"معلم دراسات\",ROW(G$68:G$309)-ROW(G$68)+1),ROWS($A$3:G5))),\"\")","v":""},{"$f":"IFERROR(INDEX('بيانات اساسية'!Y$6:Y$306,SMALL(IF('بيانات اساسية'!$X$6:$X$306=\"معلم دراسات\",ROW(H$68:H$309)-ROW(H$68)+1),ROWS($A$3:H5))),\"\")","v":""},{"$f":"IFERROR(INDEX('بيانات اساسية'!X$6:X$306,SMALL(IF('بيانات اساسية'!$X$6:$X$306=\"معلم دراسات\",ROW(I$68:I$309)-ROW(I$68)+1),ROWS($A$3:I5))),\"\")","v":""},{"$f":"IFERROR(INDEX('بيانات اساسية'!N$6:N$306,SMALL(IF('بيانات اساسية'!$X$6:$X$306=\"معلم دراسات\",ROW(J$68:J$309)-ROW(J$68)+1),ROWS($A$3:J5))),\"\")","v":""},{"$f":"IFERROR(INDEX('بيانات اساسية'!P$6:P$306,SMALL(IF('بيانات اساسية'!$X$6:$X$306=\"معلم دراسات\",ROW(K$68:K$309)-ROW(K$68)+1),ROWS($A$3:K5))),\"\")","v":""},{"$f":"IFERROR(INDEX('بيانات اساسية'!J$6:J$306,SMALL(IF('بيانات اساسية'!$X$6:$X$306=\"معلم دراسات\",ROW(L$68:L$309)-ROW(L$68)+1),ROWS($A$3:L5))),\"\")","v":""},{"$f":"IFERROR(INDEX('بيانات اساسية'!I$6:I$306,SMALL(IF('بيانات اساسية'!$X$6:$X$306=\"معلم دراسات\",ROW(M$68:M$309)-ROW(M$68)+1),ROWS($A$3:M5))),\"\")","v":""}]
[null,{"$f":"IFERROR(INDEX('بيانات اساسية'!B$6:B$306,SMALL(IF('بيانات اساسية'!$X$6:$X$306=\"معلم دراسات\",ROW(B$68:B$309)-ROW(B$68)+1),ROWS($A$3:B6))),\"\")","v":""},{"$f":"IFERROR(INDEX('بيانات اساسية'!C$6:C$306,SMALL(IF('بيانات اساسية'!$X$6:$X$306=\"معلم دراسات\",ROW(C$68:C$309)-ROW(C$68)+1),ROWS($A$3:C6))),\"\")","v":""},{"$f":"IFERROR(INDEX('بيانات اساسية'!D$6:D$306,SMALL(IF('بيانات اساسية'!$X$6:$X$306=\"معلم دراسات\",ROW(D$68:D$309)-ROW(D$68)+1),ROWS($A$3:D6))),\"\")","v":""},{"$f":"IFERROR(INDEX('بيانات اساسية'!L$6:L$306,SMALL(IF('بيانات اساسية'!$X$6:$X$306=\"معلم دراسات\",ROW(E$68:E$309)-ROW(E$68)+1),ROWS($A$3:E6))),\"\")","v":""},{"$f":"IFERROR(INDEX('بيانات اساسية'!AG$6:AG$306,SMALL(IF('بيانات اساسية'!$X$6:$X$306=\"معلم دراسات\",ROW(F$68:F$309)-ROW(F$68)+1),ROWS($A$3:F6))),\"\")","v":""},{"$f":"IFERROR(INDEX('بيانات اساسية'!AF$6:AF$306,SMALL(IF('بيانات اساسية'!$X$6:$X$306=\"معلم دراسات\",ROW(G$68:G$309)-ROW(G$68)+1),ROWS($A$3:G6))),\"\")","v":""},{"$f":"IFERROR(INDEX('بيانات اساسية'!Y$6:Y$306,SMALL(IF('بيانات اساسية'!$X$6:$X$306=\"معلم دراسات\",ROW(H$68:H$309)-ROW(H$68)+1),ROWS($A$3:H6))),\"\")","v":""},{"$f":"IFERROR(INDEX('بيانات اساسية'!X$6:X$306,SMALL(IF('بيانات اساسية'!$X$6:$X$306=\"معلم دراسات\",ROW(I$68:I$309)-ROW(I$68)+1),ROWS($A$3:I6))),\"\")","v":""},{"$f":"IFERROR(INDEX('بيانات اساسية'!N$6:N$306,SMALL(IF('بيانات اساسية'!$X$6:$X$306=\"معلم دراسات\",ROW(J$68:J$309)-ROW(J$68)+1),ROWS($A$3:J6))),\"\")","v":""},{"$f":"IFERROR(INDEX('بيانات اساسية'!P$6:P$306,SMALL(IF('بيانات اساسية'!$X$6:$X$306=\"معلم دراسات\",ROW(K$68:K$309)-ROW(K$68)+1),ROWS($A$3:K6))),\"\")","v":""},{"$f":"IFERROR(INDEX('بيانات اساسية'!J$6:J$306,SMALL(IF('بيانات اساسية'!$X$6:$X$306=\"معلم دراسات\",ROW(L$68:L$309)-ROW(L$68)+1),ROWS($A$3:L6))),\"\")","v":""},{"$f":"IFERROR(INDEX('بيانات اساسية'!I$6:I$306,SMALL(IF('بيانات اساسية'!$X$6:$X$306=\"معلم دراسات\",ROW(M$68:M$309)-ROW(M$68)+1),ROWS($A$3:M6))),\"\")","v":""}]
[1,{"$f":"IFERROR(INDEX('بيانات اساسية'!B$6:B$306,SMALL(IF('بيانات اساسية'!$X$6:$X$306=\"معلم دراسات\",ROW(B$68:B$309)-ROW(B$68)+1),ROWS($A$3:B7))),\"\")","v":""},{"$f":"IFERROR(INDEX('بيانات اساسية'!C$6:C$306,SMALL(IF('بيانات اساسية'!$X$6:$X$306=\"معلم دراسات\",ROW(C$68:C$309)-ROW(C$68)+1),ROWS($A$3:C7))),\"\")","v":""},{"$f":"IFERROR(INDEX('بيانات اساسية'!D$6:D$306,SMALL(IF('بيانات اساسية'!$X$6:$X$306=\"معلم دراسات\",ROW(D$68:D$309)-ROW(D$68)+1),ROWS($A$3:D7))),\"\")","v":""},{"$f":"IFERROR(INDEX('بيانات اساسية'!L$6:L$306,SMALL(IF('بيانات اساسية'!$X$6:$X$306=\"معلم دراسات\",ROW(E$68:E$309)-ROW(E$68)+1),ROWS($A$3:E7))),\"\")","v":""},{"$f":"IFERROR(INDEX('بيانات اساسية'!AG$6:AG$306,SMALL(IF('بيانات اساسية'!$X$6:$X$306=\"معلم دراسات\",ROW(F$68:F$309)-ROW(F$68)+1),ROWS($A$3:F7))),\"\")","v":""},{"$f":"IFERROR(INDEX('بيانات اساسية'!AF$6:AF$306,SMALL(IF('بيانات اساسية'!$X$6:$X$306=\"معلم دراسات\",ROW(G$68:G$309)-ROW(G$68)+1),ROWS($A$3:G7))),\"\")","v":""},{"$f":"IFERROR(INDEX('بيانات اساسية'!Y$6:Y$306,SMALL(IF('بيانات اساسية'!$X$6:$X$306=\"معلم دراسات\",ROW(H$68:H$309)-ROW(H$68)+1),ROWS($A$3:H7))),\"\")","v":""},{"$f":"IFERROR(INDEX('بيانات اساسية'!X$6:X$306,SMALL(IF('بيانات اساسية'!$X$6:$X$306=\"معلم دراسات\",ROW(I$68:I$309)-ROW(I$68)+1),ROWS($A$3:I7))),\"\")","v":""},{"$f":"IFERROR(INDEX('بيانات اساسية'!N$6:N$306,SMALL(IF('بيانات اساسية'!$X$6:$X$306=\"معلم دراسات\",ROW(J$68:J$309)-ROW(J$68)+1),ROWS($A$3:J7))),\"\")","v":""},{"$f":"IFERROR(INDEX('بيانات اساسية'!P$6:P$306,SMALL(IF('بيانات اساسية'!$X$6:$X$306=\"معلم دراسات\",ROW(K$68:K$309)-ROW(K$68)+1),ROWS($A$3:K7))),\"\")","v":""},{"$f":"IFERROR(INDEX('بيانات اساسية'!J$6:J$306,SMALL(IF('بيانات اساسية'!$X$6:$X$306=\"معلم دراسات\",ROW(L$68:L$309)-ROW(L$68)+1),ROWS($A$3:L7))),\"\")","v":""},{"$f":"IFERROR(INDEX('بيانات اساسية'!I$6:I$306,SMALL(IF('بيانات اساسية'!$X$6:$X$306=\"معلم دراسات\",ROW(M$68:M$309)-ROW(M$68)+1),ROWS($A$3:M7))),\"\")","v":""},"الأولى التخصصية 2019"]
[null,null,"     بيانات معلمى مادة / علوم"]
[]
["م","رقم السجل","الاسم رباعيا","الرقم القومى 14 رقم","المؤهل ","التخصص","التخصص الكادر","الدرجة المالية","الوظيفة الحالية","تاريخ التعيين","تاريخ\n اول مباشرة","رقم التلفون","العنوان","الدرجة المالية2","ملاحظات"]
[null,{"$f":"IFERROR(INDEX('بيانات اساسية'!B$6:B$306,SMALL(IF('بيانات اساسية'!$X$6:$X$306=\"معلم علوم\",ROW(B$76:B$309)-ROW(B$76)+1),ROWS($A$3:B3))),\"\")","v":""},{"$f":"IFERROR(INDEX('بيانات اساسية'!C$6:C$306,SMALL(IF('بيانات اساسية'!$X$6:$X$306=\"معلم علوم\",ROW(C$76:C$309)-ROW(C$76)+1),ROWS($A$3:C3))),\"\")","v":""},{"$f":"IFERROR(INDEX('بيانات اساسية'!D$6:D$306,SMALL(IF('بيانات اساسية'!$X$6:$X$306=\"معلم علوم\",ROW(D$76:D$309)-ROW(D$76)+1),ROWS($A$3:D3))),\"\")","v":""},{"$f":"IFERROR(INDEX('بيانات اساسية'!L$6:L$306,SMALL(IF('بيانات اساسية'!$X$6:$X$306=\"معلم علوم\",ROW(E$76:E$309)-ROW(E$76)+1),ROWS($A$3:E3))),\"\")","v":""},{"$f":"IFERROR(INDEX('بيانات اساسية'!AG$6:AG$306,SMALL(IF('بيانات اساسية'!$X$6:$X$306=\"معلم علوم\",ROW(F$76:F$309)-ROW(F$76)+1),ROWS($A$3:F3))),\"\")","v":""},{"$f":"IFERROR(INDEX('بيانات اساسية'!AF$6:AF$306,SMALL(IF('بيانات اساسية'!$X$6:$X$306=\"معلم علوم\",ROW(G$76:G$309)-ROW(G$76)+1),ROWS($A$3:G3))),\"\")","v":""},{"$f":"IFERROR(INDEX('بيانات اساسية'!Y$6:Y$306,SMALL(IF('بيانات اساسية'!$X$6:$X$306=\"معلم علوم\",ROW(H$76:H$309)-ROW(H$76)+1),ROWS($A$3:H3))),\"\")","v":""},{"$f":"IFERROR(INDEX('بيانات اساسية'!X$6:X$306,SMALL(IF('بيانات اساسية'!$X$6:$X$306=\"معلم علوم\",ROW(I$76:I$309)-ROW(I$76)+1),ROWS($A$3:I3))),\"\")","v":""},{"$f":"IFERROR(INDEX('بيانات اساسية'!N$6:N$306,SMALL(IF('بيانات اساسية'!$X$6:$X$306=\"معلم علوم\",ROW(J$76:J$309)-ROW(J$76)+1),ROWS($A$3:J3))),\"\")","v":""},{"$f":"IFERROR(INDEX('بيانات اساسية'!P$6:P$306,SMALL(IF('بيانات اساسية'!$X$6:$X$306=\"معلم علوم\",ROW(K$76:K$309)-ROW(K$76)+1),ROWS($A$3:K3))),\"\")","v":""},{"$f":"IFERROR(INDEX('بيانات اساسية'!J$6:J$306,SMALL(IF('بيانات اساسية'!$X$6:$X$306=\"معلم علوم\",ROW(L$76:L$309)-ROW(L$76)+1),ROWS($A$3:L3))),\"\")","v":""},{"$f":"IFERROR(INDEX('بيانات اساسية'!I$6:I$306,SMALL(IF('بيانات اساسية'!$X$6:$X$306=\"معلم علوم\",ROW(M$76:M$309)-ROW(M$76)+1),ROWS($A$3:M3))),\"\")","v":""}]
[null,{"$f":"IFERROR(INDEX('بيانات اساسية'!B$6:B$306,SMALL(IF('بيانات اساسية'!$X$6:$X$306=\"معلم علوم\",ROW(B$76:B$309)-ROW(B$76)+1),ROWS($A$3:B4))),\"\")","v":""},{"$f":"IFERROR(INDEX('بيانات اساسية'!C$6:C$306,SMALL(IF('بيانات اساسية'!$X$6:$X$306=\"معلم علوم\",ROW(C$76:C$309)-ROW(C$76)+1),ROWS($A$3:C4))),\"\")","v":""},{"$f":"IFERROR(INDEX('بيانات اساسية'!D$6:D$306,SMALL(IF('بيانات اساسية'!$X$6:$X$306=\"معلم علوم\",ROW(D$76:D$309)-ROW(D$76)+1),ROWS($A$3:D4))),\"\")","v":""},{"$f":"IFERROR(INDEX('بيانات اساسية'!L$6:L$306,SMALL(IF('بيانات اساسية'!$X$6:$X$306=\"معلم علوم\",ROW(E$76:E$309)-ROW(E$76)+1),ROWS($A$3:E4))),\"\")","v":""},{"$f":"IFERROR(INDEX('بيانات اساسية'!AG$6:AG$306,SMALL(IF('بيانات اساسية'!$X$6:$X$306=\"معلم علوم\",ROW(F$76:F$309)-ROW(F$76)+1),ROWS($A$3:F4))),\"\")","v":""},{"$f":"IFERROR(INDEX('بيانات اساسية'!AF$6:AF$306,SMALL(IF('بيانات اساسية'!$X$6:$X$306=\"معلم علوم\",ROW(G$76:G$309)-ROW(G$76)+1),ROWS($A$3:G4))),\"\")","v":""},{"$f":"IFERROR(INDEX('بيانات اساسية'!Y$6:Y$306,SMALL(IF('بيانات اساسية'!$X$6:$X$306=\"معلم علوم\",ROW(H$76:H$309)-ROW(H$76)+1),ROWS($A$3:H4))),\"\")","v":""},{"$f":"IFERROR(INDEX('بيانات اساسية'!X$6:X$306,SMALL(IF('بيانات اساسية'!$X$6:$X$306=\"معلم علوم\",ROW(I$76:I$309)-ROW(I$76)+1),ROWS($A$3:I4))),\"\")","v":""},{"$f":"IFERROR(INDEX('بيانات اساسية'!N$6:N$306,SMALL(IF('بيانات اساسية'!$X$6:$X$306=\"معلم علوم\",ROW(J$76:J$309)-ROW(J$76)+1),ROWS($A$3:J4))),\"\")","v":""},{"$f":"IFERROR(INDEX('بيانات اساسية'!P$6:P$306,SMALL(IF('بيانات اساسية'!$X$6:$X$306=\"معلم علوم\",ROW(K$76:K$309)-ROW(K$76)+1),ROWS($A$3:K4))),\"\")","v":""},{"$f":"IFERROR(INDEX('بيانات اساسية'!J$6:J$306,SMALL(IF('بيانات اساسية'!$X$6:$X$306=\"معلم علوم\",ROW(L$76:L$309)-ROW(L$76)+1),ROWS($A$3:L4))),\"\")","v":""},{"$f":"IFERROR(INDEX('بيانات اساسية'!I$6:I$306,SMALL(IF('بيانات اساسية'!$X$6:$X$306=\"معلم علوم\",ROW(M$76:M$309)-ROW(M$76)+1),ROWS($A$3:M4))),\"\")","v":""}]
[null,{"$f":"IFERROR(INDEX('بيانات اساسية'!B$6:B$306,SMALL(IF('بيانات اساسية'!$X$6:$X$306=\"معلم علوم\",ROW(B$76:B$309)-ROW(B$76)+1),ROWS($A$3:B5))),\"\")","v":""},{"$f":"IFERROR(INDEX('بيانات اساسية'!C$6:C$306,SMALL(IF('بيانات اساسية'!$X$6:$X$306=\"معلم علوم\",ROW(C$76:C$309)-ROW(C$76)+1),ROWS($A$3:C5))),\"\")","v":""},{"$f":"IFERROR(INDEX('بيانات اساسية'!D$6:D$306,SMALL(IF('بيانات اساسية'!$X$6:$X$306=\"معلم علوم\",ROW(D$76:D$309)-ROW(D$76)+1),ROWS($A$3:D5))),\"\")","v":""},{"$f":"IFERROR(INDEX('بيانات اساسية'!L$6:L$306,SMALL(IF('بيانات اساسية'!$X$6:$X$306=\"معلم علوم\",ROW(E$76:E$309)-ROW(E$76)+1),ROWS($A$3:E5))),\"\")","v":""},{"$f":"IFERROR(INDEX('بيانات اساسية'!AG$6:AG$306,SMALL(IF('بيانات اساسية'!$X$6:$X$306=\"معلم علوم\",ROW(F$76:F$309)-ROW(F$76)+1),ROWS($A$3:F5))),\"\")","v":""},{"$f":"IFERROR(INDEX('بيانات اساسية'!AF$6:AF$306,SMALL(IF('بيانات اساسية'!$X$6:$X$306=\"معلم علوم\",ROW(G$76:G$309)-ROW(G$76)+1),ROWS($A$3:G5))),\"\")","v":""},{"$f":"IFERROR(INDEX('بيانات اساسية'!Y$6:Y$306,SMALL(IF('بيانات اساسية'!$X$6:$X$306=\"معلم علوم\",ROW(H$76:H$309)-ROW(H$76)+1),ROWS($A$3:H5))),\"\")","v":""},{"$f":"IFERROR(INDEX('بيانات اساسية'!X$6:X$306,SMALL(IF('بيانات اساسية'!$X$6:$X$306=\"معلم علوم\",ROW(I$76:I$309)-ROW(I$76)+1),ROWS($A$3:I5))),\"\")","v":""},{"$f":"IFERROR(INDEX('بيانات اساسية'!N$6:N$306,SMALL(IF('بيانات اساسية'!$X$6:$X$306=\"معلم علوم\",ROW(J$76:J$309)-ROW(J$76)+1),ROWS($A$3:J5))),\"\")","v":""},{"$f":"IFERROR(INDEX('بيانات اساسية'!P$6:P$306,SMALL(IF('بيانات اساسية'!$X$6:$X$306=\"معلم علوم\",ROW(K$76:K$309)-ROW(K$76)+1),ROWS($A$3:K5))),\"\")","v":""},{"$f":"IFERROR(INDEX('بيانات اساسية'!J$6:J$306,SMALL(IF('بيانات اساسية'!$X$6:$X$306=\"معلم علوم\",ROW(L$76:L$309)-ROW(L$76)+1),ROWS($A$3:L5))),\"\")","v":""},{"$f":"IFERROR(INDEX('بيانات اساسية'!I$6:I$306,SMALL(IF('بيانات اساسية'!$X$6:$X$306=\"معلم علوم\",ROW(M$76:M$309)-ROW(M$76)+1),ROWS($A$3:M5))),\"\")","v":""}]
[null,{"$f":"IFERROR(INDEX('بيانات اساسية'!B$6:B$306,SMALL(IF('بيانات اساسية'!$X$6:$X$306=\"معلم علوم\",ROW(B$76:B$309)-ROW(B$76)+1),ROWS($A$3:B6))),\"\")","v":""},{"$f":"IFERROR(INDEX('بيانات اساسية'!C$6:C$306,SMALL(IF('بيانات اساسية'!$X$6:$X$306=\"معلم علوم\",ROW(C$76:C$309)-ROW(C$76)+1),ROWS($A$3:C6))),\"\")","v":""},{"$f":"IFERROR(INDEX('بيانات اساسية'!D$6:D$306,SMALL(IF('بيانات اساسية'!$X$6:$X$306=\"معلم علوم\",ROW(D$76:D$309)-ROW(D$76)+1),ROWS($A$3:D6))),\"\")","v":""},{"$f":"IFERROR(INDEX('بيانات اساسية'!L$6:L$306,SMALL(IF('بيانات اساسية'!$X$6:$X$306=\"معلم علوم\",ROW(E$76:E$309)-ROW(E$76)+1),ROWS($A$3:E6))),\"\")","v":""},{"$f":"IFERROR(INDEX('بيانات اساسية'!AG$6:AG$306,SMALL(IF('بيانات اساسية'!$X$6:$X$306=\"معلم علوم\",ROW(F$76:F$309)-ROW(F$76)+1),ROWS($A$3:F6))),\"\")","v":""},{"$f":"IFERROR(INDEX('بيانات اساسية'!AF$6:AF$306,SMALL(IF('بيانات اساسية'!$X$6:$X$306=\"معلم علوم\",ROW(G$76:G$309)-ROW(G$76)+1),ROWS($A$3:G6))),\"\")","v":""},{"$f":"IFERROR(INDEX('بيانات اساسية'!Y$6:Y$306,SMALL(IF('بيانات اساسية'!$X$6:$X$306=\"معلم علوم\",ROW(H$76:H$309)-ROW(H$76)+1),ROWS($A$3:H6))),\"\")","v":""},{"$f":"IFERROR(INDEX('بيانات اساسية'!X$6:X$306,SMALL(IF('بيانات اساسية'!$X$6:$X$306=\"معلم علوم\",ROW(I$76:I$309)-ROW(I$76)+1),ROWS($A$3:I6))),\"\")","v":""},{"$f":"IFERROR(INDEX('بيانات اساسية'!N$6:N$306,SMALL(IF('بيانات اساسية'!$X$6:$X$306=\"معلم علوم\",ROW(J$76:J$309)-ROW(J$76)+1),ROWS($A$3:J6))),\"\")","v":""},{"$f":"IFERROR(INDEX('بيانات اساسية'!P$6:P$306,SMALL(IF('بيانات اساسية'!$X$6:$X$306=\"معلم علوم\",ROW(K$76:K$309)-ROW(K$76)+1),ROWS($A$3:K6))),\"\")","v":""},{"$f":"IFERROR(INDEX('بيانات اساسية'!J$6:J$306,SMALL(IF('بيانات اساسية'!$X$6:$X$306=\"معلم علوم\",ROW(L$76:L$309)-ROW(L$76)+1),ROWS($A$3:L6))),\"\")","v":""},{"$f":"IFERROR(INDEX('بيانات اساسية'!I$6:I$306,SMALL(IF('بيانات اساسية'!$X$6:$X$306=\"معلم علوم\",ROW(M$76:M$309)-ROW(M$76)+1),ROWS($A$3:M6))),\"\")","v":""}]
[null,{"$f":"IFERROR(INDEX('بيانات اساسية'!B$6:B$306,SMALL(IF('بيانات اساسية'!$X$6:$X$306=\"معلم علوم\",ROW(B$76:B$309)-ROW(B$76)+1),ROWS($A$3:B7))),\"\")","v":""},{"$f":"IFERROR(INDEX('بيانات اساسية'!C$6:C$306,SMALL(IF('بيانات اساسية'!$X$6:$X$306=\"معلم علوم\",ROW(C$76:C$309)-ROW(C$76)+1),ROWS($A$3:C7))),\"\")","v":""},{"$f":"IFERROR(INDEX('بيانات اساسية'!D$6:D$306,SMALL(IF('بيانات اساسية'!$X$6:$X$306=\"معلم علوم\",ROW(D$76:D$309)-ROW(D$76)+1),ROWS($A$3:D7))),\"\")","v":""},{"$f":"IFERROR(INDEX('بيانات اساسية'!L$6:L$306,SMALL(IF('بيانات اساسية'!$X$6:$X$306=\"معلم علوم\",ROW(E$76:E$309)-ROW(E$76)+1),ROWS($A$3:E7))),\"\")","v":""},{"$f":"IFERROR(INDEX('بيانات اساسية'!AG$6:AG$306,SMALL(IF('بيانات اساسية'!$X$6:$X$306=\"معلم علوم\",ROW(F$76:F$309)-ROW(F$76)+1),ROWS($A$3:F7))),\"\")","v":""},{"$f":"IFERROR(INDEX('بيانات اساسية'!AF$6:AF$306,SMALL(IF('بيانات اساسية'!$X$6:$X$306=\"معلم علوم\",ROW(G$76:G$309)-ROW(G$76)+1),ROWS($A$3:G7))),\"\")","v":""},{"$f":"IFERROR(INDEX('بيانات اساسية'!Y$6:Y$306,SMALL(IF('بيانات اساسية'!$X$6:$X$306=\"معلم علوم\",ROW(H$76:H$309)-ROW(H$76)+1),ROWS($A$3:H7))),\"\")","v":""},{"$f":"IFERROR(INDEX('بيانات اساسية'!X$6:X$306,SMALL(IF('بيانات اساسية'!$X$6:$X$306=\"معلم علوم\",ROW(I$76:I$309)-ROW(I$76)+1),ROWS($A$3:I7))),\"\")","v":""},{"$f":"IFERROR(INDEX('بيانات اساسية'!N$6:N$306,SMALL(IF('بيانات اساسية'!$X$6:$X$306=\"معلم علوم\",ROW(J$76:J$309)-ROW(J$76)+1),ROWS($A$3:J7))),\"\")","v":""},{"$f":"IFERROR(INDEX('بيانات اساسية'!P$6:P$306,SMALL(IF('بيانات اساسية'!$X$6:$X$306=\"معلم علوم\",ROW(K$76:K$309)-ROW(K$76)+1),ROWS($A$3:K7))),\"\")","v":""},{"$f":"IFERROR(INDEX('بيانات اساسية'!J$6:J$306,SMALL(IF('بيانات اساسية'!$X$6:$X$306=\"معلم علوم\",ROW(L$76:L$309)-ROW(L$76)+1),ROWS($A$3:L7))),\"\")","v":""},{"$f":"IFERROR(INDEX('بيانات اساسية'!I$6:I$306,SMALL(IF('بيانات اساسية'!$X$6:$X$306=\"معلم علوم\",ROW(M$76:M$309)-ROW(M$76)+1),ROWS($A$3:M7))),\"\")","v":""}]
[null,{"$f":"IFERROR(INDEX('بيانات اساسية'!B$6:B$306,SMALL(IF('بيانات اساسية'!$X$6:$X$306=\"معلم علوم\",ROW(B$76:B$309)-ROW(B$76)+1),ROWS($A$3:B8))),\"\")","v":""},{"$f":"IFERROR(INDEX('بيانات اساسية'!C$6:C$306,SMALL(IF('بيانات اساسية'!$X$6:$X$306=\"معلم علوم\",ROW(C$76:C$309)-ROW(C$76)+1),ROWS($A$3:C8))),\"\")","v":""},{"$f":"IFERROR(INDEX('بيانات اساسية'!D$6:D$306,SMALL(IF('بيانات اساسية'!$X$6:$X$306=\"معلم علوم\",ROW(D$76:D$309)-ROW(D$76)+1),ROWS($A$3:D8))),\"\")","v":""},{"$f":"IFERROR(INDEX('بيانات اساسية'!L$6:L$306,SMALL(IF('بيانات اساسية'!$X$6:$X$306=\"معلم علوم\",ROW(E$76:E$309)-ROW(E$76)+1),ROWS($A$3:E8))),\"\")","v":""},{"$f":"IFERROR(INDEX('بيانات اساسية'!AG$6:AG$306,SMALL(IF('بيانات اساسية'!$X$6:$X$306=\"معلم علوم\",ROW(F$76:F$309)-ROW(F$76)+1),ROWS($A$3:F8))),\"\")","v":""},{"$f":"IFERROR(INDEX('بيانات اساسية'!AF$6:AF$306,SMALL(IF('بيانات اساسية'!$X$6:$X$306=\"معلم علوم\",ROW(G$76:G$309)-ROW(G$76)+1),ROWS($A$3:G8))),\"\")","v":""},{"$f":"IFERROR(INDEX('بيانات اساسية'!Y$6:Y$306,SMALL(IF('بيانات اساسية'!$X$6:$X$306=\"معلم علوم\",ROW(H$76:H$309)-ROW(H$76)+1),ROWS($A$3:H8))),\"\")","v":""},{"$f":"IFERROR(INDEX('بيانات اساسية'!X$6:X$306,SMALL(IF('بيانات اساسية'!$X$6:$X$306=\"معلم علوم\",ROW(I$76:I$309)-ROW(I$76)+1),ROWS($A$3:I8))),\"\")","v":""},{"$f":"IFERROR(INDEX('بيانات اساسية'!N$6:N$306,SMALL(IF('بيانات اساسية'!$X$6:$X$306=\"معلم علوم\",ROW(J$76:J$309)-ROW(J$76)+1),ROWS($A$3:J8))),\"\")","v":""},{"$f":"IFERROR(INDEX('بيانات اساسية'!P$6:P$306,SMALL(IF('بيانات اساسية'!$X$6:$X$306=\"معلم علوم\",ROW(K$76:K$309)-ROW(K$76)+1),ROWS($A$3:K8))),\"\")","v":""},{"$f":"IFERROR(INDEX('بيانات اساسية'!J$6:J$306,SMALL(IF('بيانات اساسية'!$X$6:$X$306=\"معلم علوم\",ROW(L$76:L$309)-ROW(L$76)+1),ROWS($A$3:L8))),\"\")","v":""},{"$f":"IFERROR(INDEX('بيانات اساسية'!I$6:I$306,SMALL(IF('بيانات اساسية'!$X$6:$X$306=\"معلم علوم\",ROW(M$76:M$309)-ROW(M$76)+1),ROWS($A$3:M8))),\"\")","v":""}]
[null,{"$f":"IFERROR(INDEX('بيانات اساسية'!B$6:B$306,SMALL(IF('بيانات اساسية'!$X$6:$X$306=\"معلم علوم\",ROW(B$76:B$309)-ROW(B$76)+1),ROWS($A$3:B9))),\"\")","v":""},{"$f":"IFERROR(INDEX('بيانات اساسية'!C$6:C$306,SMALL(IF('بيانات اساسية'!$X$6:$X$306=\"معلم علوم\",ROW(C$76:C$309)-ROW(C$76)+1),ROWS($A$3:C9))),\"\")","v":""},{"$f":"IFERROR(INDEX('بيانات اساسية'!D$6:D$306,SMALL(IF('بيانات اساسية'!$X$6:$X$306=\"معلم علوم\",ROW(D$76:D$309)-ROW(D$76)+1),ROWS($A$3:D9))),\"\")","v":""},{"$f":"IFERROR(INDEX('بيانات اساسية'!L$6:L$306,SMALL(IF('بيانات اساسية'!$X$6:$X$306=\"معلم علوم\",ROW(E$76:E$309)-ROW(E$76)+1),ROWS($A$3:E9))),\"\")","v":""},{"$f":"IFERROR(INDEX('بيانات اساسية'!AG$6:AG$306,SMALL(IF('بيانات اساسية'!$X$6:$X$306=\"معلم علوم\",ROW(F$76:F$309)-ROW(F$76)+1),ROWS($A$3:F9))),\"\")","v":""},{"$f":"IFERROR(INDEX('بيانات اساسية'!AF$6:AF$306,SMALL(IF('بيانات اساسية'!$X$6:$X$306=\"معلم علوم\",ROW(G$76:G$309)-ROW(G$76)+1),ROWS($A$3:G9))),\"\")","v":""},{"$f":"IFERROR(INDEX('بيانات اساسية'!Y$6:Y$306,SMALL(IF('بيانات اساسية'!$X$6:$X$306=\"معلم علوم\",ROW(H$76:H$309)-ROW(H$76)+1),ROWS($A$3:H9))),\"\")","v":""},{"$f":"IFERROR(INDEX('بيانات اساسية'!X$6:X$306,SMALL(IF('بيانات اساسية'!$X$6:$X$306=\"معلم علوم\",ROW(I$76:I$309)-ROW(I$76)+1),ROWS($A$3:I9))),\"\")","v":""},{"$f":"IFERROR(INDEX('بيانات اساسية'!N$6:N$306,SMALL(IF('بيانات اساسية'!$X$6:$X$306=\"معلم علوم\",ROW(J$76:J$309)-ROW(J$76)+1),ROWS($A$3:J9))),\"\")","v":""},{"$f":"IFERROR(INDEX('بيانات اساسية'!P$6:P$306,SMALL(IF('بيانات اساسية'!$X$6:$X$306=\"معلم علوم\",ROW(K$76:K$309)-ROW(K$76)+1),ROWS($A$3:K9))),\"\")","v":""},{"$f":"IFERROR(INDEX('بيانات اساسية'!J$6:J$306,SMALL(IF('بيانات اساسية'!$X$6:$X$306=\"معلم علوم\",ROW(L$76:L$309)-ROW(L$76)+1),ROWS($A$3:L9))),\"\")","v":""},{"$f":"IFERROR(INDEX('بيانات اساسية'!I$6:I$306,SMALL(IF('بيانات اساسية'!$X$6:$X$306=\"معلم علوم\",ROW(M$76:M$309)-ROW(M$76)+1),ROWS($A$3:M9))),\"\")","v":""}]
[null,{"$f":"IFERROR(INDEX('بيانات اساسية'!B$6:B$306,SMALL(IF('بيانات اساسية'!$X$6:$X$306=\"معلم علوم\",ROW(B$76:B$309)-ROW(B$76)+1),ROWS($A$3:B10))),\"\")","v":""},{"$f":"IFERROR(INDEX('بيانات اساسية'!C$6:C$306,SMALL(IF('بيانات اساسية'!$X$6:$X$306=\"معلم علوم\",ROW(C$76:C$309)-ROW(C$76)+1),ROWS($A$3:C10))),\"\")","v":""},{"$f":"IFERROR(INDEX('بيانات اساسية'!D$6:D$306,SMALL(IF('بيانات اساسية'!$X$6:$X$306=\"معلم علوم\",ROW(D$76:D$309)-ROW(D$76)+1),ROWS($A$3:D10))),\"\")","v":""},{"$f":"IFERROR(INDEX('بيانات اساسية'!L$6:L$306,SMALL(IF('بيانات اساسية'!$X$6:$X$306=\"معلم علوم\",ROW(E$76:E$309)-ROW(E$76)+1),ROWS($A$3:E10))),\"\")","v":""},{"$f":"IFERROR(INDEX('بيانات اساسية'!AG$6:AG$306,SMALL(IF('بيانات اساسية'!$X$6:$X$306=\"معلم علوم\",ROW(F$76:F$309)-ROW(F$76)+1),ROWS($A$3:F10))),\"\")","v":""},{"$f":"IFERROR(INDEX('بيانات اساسية'!AF$6:AF$306,SMALL(IF('بيانات اساسية'!$X$6:$X$306=\"معلم علوم\",ROW(G$76:G$309)-ROW(G$76)+1),ROWS($A$3:G10))),\"\")","v":""},{"$f":"IFERROR(INDEX('بيانات اساسية'!Y$6:Y$306,SMALL(IF('بيانات اساسية'!$X$6:$X$306=\"معلم علوم\",ROW(H$76:H$309)-ROW(H$76)+1),ROWS($A$3:H10))),\"\")","v":""},{"$f":"IFERROR(INDEX('بيانات اساسية'!X$6:X$306,SMALL(IF('بيانات اساسية'!$X$6:$X$306=\"معلم علوم\",ROW(I$76:I$309)-ROW(I$76)+1),ROWS($A$3:I10))),\"\")","v":""},{"$f":"IFERROR(INDEX('بيانات اساسية'!N$6:N$306,SMALL(IF('بيانات اساسية'!$X$6:$X$306=\"معلم علوم\",ROW(J$76:J$309)-ROW(J$76)+1),ROWS($A$3:J10))),\"\")","v":""},{"$f":"IFERROR(INDEX('بيانات اساسية'!P$6:P$306,SMALL(IF('بيانات اساسية'!$X$6:$X$306=\"معلم علوم\",ROW(K$76:K$309)-ROW(K$76)+1),ROWS($A$3:K10))),\"\")","v":""},{"$f":"IFERROR(INDEX('بيانات اساسية'!J$6:J$306,SMALL(IF('بيانات اساسية'!$X$6:$X$306=\"معلم علوم\",ROW(L$76:L$309)-ROW(L$76)+1),ROWS($A$3:L10))),\"\")","v":""},{"$f":"IFERROR(INDEX('بيانات اساسية'!I$6:I$306,SMALL(IF('بيانات اساسية'!$X$6:$X$306=\"معلم علوم\",ROW(M$76:M$309)-ROW(M$76)+1),ROWS($A$3:M10))),\"\")","v":""}]
[null,{"$f":"IFERROR(INDEX('بيانات اساسية'!B$6:B$306,SMALL(IF('بيانات اساسية'!$X$6:$X$306=\"معلم علوم\",ROW(B$76:B$309)-ROW(B$76)+1),ROWS($A$3:B11))),\"\")","v":""},{"$f":"IFERROR(INDEX('بيانات اساسية'!C$6:C$306,SMALL(IF('بيانات اساسية'!$X$6:$X$306=\"معلم علوم\",ROW(C$76:C$309)-ROW(C$76)+1),ROWS($A$3:C11))),\"\")","v":""},{"$f":"IFERROR(INDEX('بيانات اساسية'!D$6:D$306,SMALL(IF('بيانات اساسية'!$X$6:$X$306=\"معلم علوم\",ROW(D$76:D$309)-ROW(D$76)+1),ROWS($A$3:D11))),\"\")","v":""},{"$f":"IFERROR(INDEX('بيانات اساسية'!L$6:L$306,SMALL(IF('بيانات اساسية'!$X$6:$X$306=\"معلم علوم\",ROW(E$76:E$309)-ROW(E$76)+1),ROWS($A$3:E11))),\"\")","v":""},{"$f":"IFERROR(INDEX('بيانات اساسية'!AG$6:AG$306,SMALL(IF('بيانات اساسية'!$X$6:$X$306=\"معلم علوم\",ROW(F$76:F$309)-ROW(F$76)+1),ROWS($A$3:F11))),\"\")","v":""},{"$f":"IFERROR(INDEX('بيانات اساسية'!AF$6:AF$306,SMALL(IF('بيانات اساسية'!$X$6:$X$306=\"معلم علوم\",ROW(G$76:G$309)-ROW(G$76)+1),ROWS($A$3:G11))),\"\")","v":""},{"$f":"IFERROR(INDEX('بيانات اساسية'!Y$6:Y$306,SMALL(IF('بيانات اساسية'!$X$6:$X$306=\"معلم علوم\",ROW(H$76:H$309)-ROW(H$76)+1),ROWS($A$3:H11))),\"\")","v":""},{"$f":"IFERROR(INDEX('بيانات اساسية'!X$6:X$306,SMALL(IF('بيانات اساسية'!$X$6:$X$306=\"معلم علوم\",ROW(I$76:I$309)-ROW(I$76)+1),ROWS($A$3:I11))),\"\")","v":""},{"$f":"IFERROR(INDEX('بيانات اساسية'!N$6:N$306,SMALL(IF('بيانات اساسية'!$X$6:$X$306=\"معلم علوم\",ROW(J$76:J$309)-ROW(J$76)+1),ROWS($A$3:J11))),\"\")","v":""},{"$f":"IFERROR(INDEX('بيانات اساسية'!P$6:P$306,SMALL(IF('بيانات اساسية'!$X$6:$X$306=\"معلم علوم\",ROW(K$76:K$309)-ROW(K$76)+1),ROWS($A$3:K11))),\"\")","v":""},{"$f":"IFERROR(INDEX('بيانات اساسية'!J$6:J$306,SMALL(IF('بيانات اساسية'!$X$6:$X$306=\"معلم علوم\",ROW(L$76:L$309)-ROW(L$76)+1),ROWS($A$3:L11))),\"\")","v":""},{"$f":"IFERROR(INDEX('بيانات اساسية'!I$6:I$306,SMALL(IF('بيانات اساسية'!$X$6:$X$306=\"معلم علوم\",ROW(M$76:M$309)-ROW(M$76)+1),ROWS($A$3:M11))),\"\")","v":""}]
[null,null,"                         بيانات معلمى مادة / التربية الفنية"]
[]
["م","رقم السجل","الاسم رباعيا","الرقم القومى 14 رقم","المؤهل ","التخصص","الدرجة على الكادر","الدرجة المالية","الوظيفة الحالية","تاريخ التعيين","تاريخ\n اول مباشرة","رقم التلفون","العنوان","الدرجة المالية2","ملاحظات"]
[1,246844,"حامد إبراهيم حامد أبوأحمد",27212211400977,"د.صنايع 90","تربية فنية",".....","الثانية الفنية 2015","معلم تربية فنية","2000-05-29","2000-05-29",1204631393,"البرادعه-القناطرالخيرية - قليوبية "]
[2,363699,"إيناس عبدالمنعم عبدالعظيم",27802200105801,"د.صنايع 98","تربية فنية","......","الثانية الفنية2018","معلم تربية فنية","2012-05-07","2007-02-01",1278493457,"3ش كنيسة العذراء - الشرابية - القاهرة"]
[null,null,"                         بيانات معلمى مادة /  الخط "]
[]
["م","رقم السجل","الاسم رباعيا","الرقم القومى 14 رقم","المؤهل ","التخصص","الدرجة على الكادر","الدرجة المالية","الوظيفة الحالية","تاريخ التعيين","تاريخ\n اول مباشرة","رقم التلفون","العنوان","الدرجة المالية2","ملاحظات"]
[1,363649,"نحمده محمد أحمد محمد ",27606191401147,"دبلوم خط عربى وتذهيب 2006","تربية فنية","معلم","الثالثة الفنية2015","معلم خط","2012-05-07","2006-09-18","01155706067","28 ش صوت العرب - الوحدة العربية - شبرا الخيمة ثان "]
[]
[]
[null,null,"                         بيانات معلمى مادة /  التربية الرياضية"]
[]
["م","رقم السجل","الاسم رباعيا","الرقم القومى 14 رقم","المؤهل ","التخصص","الدرجة على الكادر","الدرجة المالية","الوظيفة الحالية","تاريخ التعيين","تاريخ\n اول مباشرة","رقم التلفون","العنوان","الدرجة المالية2","ملاحظات"]
[1,378260,"حسن محمد سليمان عوض",28211072603156,"ب.تربية رياضية 2008","تربية رياضية","معلم","الثالثة التخصصية 2014","معلم تربية رياضية","2014-07-01","2009-08-01","01002236263","أولاد نصير- مركز سوهاج - سوهاج"]
[]
[]
[null,null,"بيانات اخصائى المعهد",null,null,null,null,{"$f":"'بيانات المعهد'!G11","v":"2020/ 2021"}]
[]
["م","رقم السجل","الاسم رباعيا","الرقم القومى 14 رقم","المؤهل ","التخصص","الدرجة على الكادر","الدرجة المالية","الوظيفة الحالية","تاريخ التعيين","تاريخ\n اول مباشرة","رقم التلفون","العنوان","الدرجة المالية2","ملاحظات"]
[1,401917,"علا حسن عبدالمقصود محمد",28801111401401,"ب. خدمة إجتماعية ","أخصائى إجتماعى ","......","الثالثة التخصصية 2012","أخصائى إجتماعى","2016-08-01","2016-07-16",1025952175,"11ش - الشهيد أحمد فتحى - منشية الحرية - شبرا الخيمة"]
[2,363521,"نسمة إبراهيم إسماعيل الشامى",28502051600721,"ب.معهد التعاون الزراعى2006","كاتبه","......","الثالثة التخصصية 2012","أخصائى تغذية","2012-05-07","2008-02-01","01010917903","55ش جمال عبدالناصر من ش العسعاس -الجيزة"]
[3,363571,"نهلة الطيب محمد الطيب",27608280201782,"ب. زراعة 2002","كاتبه","......","الثالثة التخصصية 2012","أخصائى تغذية","2012-05-07","2007-02-08","01275682390","110مساكن الضباط-شبرا الخيمة-قليوبية"]
[]
[]
[null,null,"                           بيانات الكتبة بالمعهد 2019/ 2020"]
[]
["م","رقم السجل","الاسم رباعيا","الرقم القومى 14 رقم","المؤهل ","التخصص","الدرجة على الكادر","الدرجة المالية","الوظيفة الحالية","تاريخ التعيين","تاريخ\n اول مباشرة","رقم التلفون","العنوان","الدرجة المالية2","ملاحظات"]
[1,209973,"ولاء رأفت دسوقى إبراهيم ",27803201400764,"د.تجارة 95","كاتبه",".....","الثانية الكتابية 2012","شئون عاملين","1997-08-20","1997-08-20",1112774489,"1 شارع جمال عبد الناصر مدينة التعاون شبرا الخيمة"]
[2,215459,"فاطمة عبدالمعطى عبدالسميع",27307131700741,"ثانوية أزهرية 93","كاتبه",".....","الثانية الكتابية 2012","شئون عاملين","1998-06-15","1998-08-08","01287909802","16ش أبوصايمه-دمنهور -شبرا الخيمة -قليوبية"]
[3,363361,"نادر عادل عبدالفتاح أمين ",27611160103354,"د. صنايع 94","كاتبه",".....","الرابعة الكتابية 2012","عهدة+ توريدات","2012-05-07","2011-09-29","01141389909","32ش سليمان بدوى- روض الفرج -القاهرة"]
[4,402062,"نادية عيد عبدالغنى ",27671701401325,"د.صنايع 94","فنى شئون هندسية",".....","الرابعة الفنية 2016","كتب ","2016-08-17","2013-07-01","01142072896","6ش حسين -الشرقاوية - شبرا الخيمة "]
[5,363963,"حسن حسين منصور حسن",27711252501255,"دبلوم معلمين أزهرى 97","كاتب",".....","الثالثة الكتابية 2012","شئون عاملين","2012-05-07","2008-08-07","01012978901","21ش - النيرة الغربية - البصراوى - إمبابه - الجيزة",null,"انتداب يومين لعقبة بن نافع ب"]
[6,402136,"ماجدة محمد عبدالعزيز أحمد ",26705201400483,"د.تجارة 86","كاتبه",".....","الرابعة الكتابية 2016","شئون طلبة","2016-08-17","2011-07-01","01274888507","30ش عبدالمقصود - الفرنوانى شبرا الخيمة "]
[7,401854,"أمانى عبدالفتاح صلاح الدين ",28304031401083,"ب. تجارة 2009","أخصائى شئون مالية",".....","الثالثة التخصصية2012","شئون مالية","2016-08-17","2013-07-01","01229719914","53حارة النجار -شبرا الخيمة أول - القليوبية "]
[]
[]
[]
[null,null,"                           بيانات العمال 2019/ 2020 "]
[]
["م","رقم السجل","الاسم رباعيا","الرقم القومى 14 رقم","المؤهل ","التخصص","الدرجة على الكادر","الدرجة المالية","الوظيفة الحالية","تاريخ التعيين","تاريخ\n اول مباشرة","رقم التلفون","العنوان","الدرجة المالية2","ملاحظات"]
[1,209981,"محمد إبراهيم خليل التنة",26708011301011,"إبتدائية 2015","......","......","الرابعة العمالية 2015","عامل","1997-08-31","1997-08-16","01017439402","العصلوجى- مركز الزقازيق - الشرقية "]
[2,246730,"أحمد عبدالعظيم محمد الدمرداش ",27907031701713,"إبتدائية ","......","......","الرابعة العمالية 2015","عامل","2000-05-29","2000-05-29","01009105175","باجور- منوفية "]
[3,246877,"رضا محمد السيد الصعيدى ",27401061302171,"إبتدائية 2014","......","......","الخامسة العمالية 2015","عامل","2000-05-29","2000-05-29","01142721856","تبيت-بشتيل السوق -الشرقية "]
[4,364120,"فاتن عبدالعال على بخيت ",26506080101022,"إبتدائية ","......","......","الخامسة العمالية 2015","عامل","2012-05-07","2007-02-10","01141959802","69ش-على خليفة - مدينة السعادة - شبرا الخيمة"]
[5,388598,"على حسن على محمد حبيب",27507151701051,"محو أمية","......","......","السادسة العمالية ","عامل","2016-03-02","2009-02-10","01278751471","92ش محمد فريد -عابدين -القاهرة"]

{"sheet":"Main","index":9,"n_rows":883,"n_cols":40,"rows_kept":883,"cut":false,"hidden":false,"merged":[]}
[]
[]
["م","السجل","الاسم","الرقم القومي","النوع","تاريخ الميلاد","السن","الموقف من التجنيد","العنوان","التليفون","الرقم التأميني","المؤهل","قرار التعيين","تاريخ التعيين","الاعتبارية","المباشرة لاول مرة","تاريخ المباشرة بالمعهد","اصلى / منتدب","تاريخ الانقطاع","تاريخ العودة","الموقف من العمل","المعاهد التي عمل بها","الصف الدراسى","الوظيفة","الدرجة المالية","مادرة التدريس الحالية",2019,2020,"الجزاءات","كود المعلم","كلمة سر الكادر","الدرجة على الكادر","التخصص حسب الكادر","رقم قرارالدرجة","تاريخ الدرجة","الدرجة المنتظرة ","تاريخ الدرجة المنتظرة","الوظيفة2","فئة الوظيفة","ملاحظات"]
[1,273665,"محمد جمعه حسين إبراهيم",27105060100959,{"$f":"IFERROR(IF(ISODD(MID(D4,13,1)),\"ذكر\",\"انثى\"),\"\")","v":"ذكر"},{"$f":"IFERROR(DATE(IF(LEFT(D4,1)*1=3,20,19)&MID(D4,2,2),MID(D4,4,2),MID(D4,6,2)),\"\")","v":"1971-05-06"},{"$f":"IFERROR(DATEDIF(F4,NOW(),\"y\"),\"\")","v":49},null,"مساكن إيديال- الشرابية -القاهرة","01141171205",null,"ب.خدمة إجتماعية 93",null,"2002-09-04",null,"2002-09-04",null,"اصلى",null,null,"على رأس العمل",null,null,"معلم قران كريم","الثانية التخصصية 2014","قران كريم",null,null,null,null,null,"معلم","قران كريم",1488,"2015-07-30",{"$f":"IF(AF4=\"معلم\",\"معلم اول\",IF(AF4=\"معلم اول\",\"معلم اول أ\",IF(AF4=\"معلم خبير\",\"كبير معلمين\",IF(AF4=\"معلم اول أ\",\"معلم خبير\",\"--\"))))","v":"معلم اول"},{"$f":"IF(AI4=\"\",\"\",DATE(YEAR(AI4)+5,MONTH(AI4),DAY(AI4)))","v":"2020-07-30"},"معلم","dfg"]
[2,362845,"طارق عبدالحكيم عبدالسيد توفيق",27411070100152,{"$f":"IFERROR(IF(ISODD(MID(D5,13,1)),\"ذكر\",\"انثى\"),\"\")","v":"ذكر"},{"$f":"IFERROR(DATE(IF(LEFT(D5,1)*1=3,20,19)&MID(D5,2,2),MID(D5,4,2),MID(D5,6,2)),\"\")","v":"1974-11-07"},{"$f":"IFERROR(DATEDIF(F5,NOW(),\"y\"),\"\")","v":45},"ادى الخدمة","جروان-الباجور- منوفية","01008687342",null,"ل.شريعة وقانون 95",null,"2012-05-07",null,"2007-02-01",null,"اصلى",null,null,"على رأس العمل",null,null,"معلم قران كريم","الثانية التخصصية 2018","قران كريم",null,null,null,null,null,"معلم اول","قران كريم",1499,"2018-10-22",{"$f":"IF(AF5=\"معلم\",\"معلم اول\",IF(AF5=\"معلم اول\",\"معلم اول أ\",IF(AF5=\"معلم خبير\",\"كبير معلمين\",IF(AF5=\"معلم اول أ\",\"معلم خبير\",\"--\"))))","v":"معلم اول أ"},{"$f":"IF(AI5=\"\",\"\",DATE(YEAR(AI5)+5,MONTH(AI5),DAY(AI5)))","v":"2023-10-22"},"معلم","dfg"]
[3,362961,"محمد عبد الحميد محمد عبدالحميد",27708261401198,"ذكر","1977-08-26",42,"معافى نهائى","إمياي- طوخ - قليوبية",1555500779,null,"ل-اصول الدين2001",null,"2012-05-07",null,"2007-04-03",null,"منتدب",null,null,"على رأس العمل",null,null,"معلم قران كريم","الثانية التخصصية 2018","قران كريم",null,null,null,null,null,"معلم اول","قران كريم",1499,"2018-10-22","معلم اول أ","2023-10-22","معلم","dfg"]
[4,362953,"شيرين محمد عبدالسميع على ",27605202400249,"انثى","1976-05-20",44,null,"الحى الأول 166-الشرق - القاهرة .","01281182603",null,"ل.د.إسلامية وعربية 99",null,"2012-05-07",null,"2007-02-01",null,"اصلى",null,null,"على رأس العمل",null,null,"معلم قران كريم","الثانية التخصصية 2018","قران كريم",null,null,null,null,null,"معلم اول","قران كريم",1499,"2018-10-24","معلم اول أ","2023-10-24","معلم","aaas"]
[5,363040,"هناء محمود عبدالعزيز البرص",27810301401004,{"$f":"IFERROR(IF(ISODD(MID(D8,13,1)),\"ذكر\",\"انثى\"),\"\")","v":"انثى"},"1978-10-30",41,null,"مساكن دمنهور- شبرا الخيمة - قليوبية","01277374985",null,"ل.د.إسلامية وعربية 2000",null,"2012-05-07",null,"2007-02-01",null,"اصلى",null,null,"على رأس العمل",null,null,"معلم قران كريم","الثانية التخصصية 2018","قران كريم",null,null,null,null,null,"معلم اول","قران كريم",1499,null,"معلم اول أ",{"$f":"IF(AI8=\"\",\"\",DATE(YEAR(AI8)+5,MONTH(AI8),DAY(AI8)))","v":""},"معلم","dfgsw"]
[6,362805,"صباح حافظ على على ",27402241401041,{"$f":"IFERROR(IF(ISODD(MID(D9,13,1)),\"ذكر\",\"انثى\"),\"\")","v":"انثى"},"1974-02-24",46,null,"24ش ورشة البلاط-الفرنوانى -شبرا الخيمة","01149003895",null,"ل.أصول دين 96",null,"2012-05-07",null,"2007-02-01",null,"اصلى",null,null,"على رأس العمل",null,null,"معلم قران كريم","الثانية التخصصية 2018","قران كريم",null,null,null,null,null,"معلم اول","قران كريم",1499,"2018-10-26","معلم اول أ",{"$f":"IF(AI9=\"\",\"\",DATE(YEAR(AI9)+5,MONTH(AI9),DAY(AI9)))","v":"2023-10-26"},"معلم"]
[7,363014,"جيهان جوده السيد أحمد ",27404051400808,"انثى","1974-04-05",46,null,"8ش محمد فيضى- الشرقاوية- شبرا الخيمة",1227105071,null,"ل.د.إسلامية 96",null,"2012-05-07",null,"2007-02-01",null,"اصلى",null,null,"على رأس العمل",null,null,"معلم قران كريم"," الثالثة التخصصية2007","قران كريم",null,null,null,null,null,"معلم اول","قران كريم",null,null,"معلم اول أ","","معلم"]
[8,268424,"محمد محمود محمد رشدى",27708300101431,{"$f":"IFERROR(IF(ISODD(MID(D11,13,1)),\"ذكر\",\"انثى\"),\"\")","v":"ذكر"},{"$f":"IFERROR(DATE(IF(LEFT(D11,1)*1=3,20,19)&MID(D11,2,2),MID(D11,4,2),MID(D11,6,2)),\"\")","v":"1977-08-30"},{"$f":"IFERROR(DATEDIF(F11,NOW(),\"y\"),\"\")","v":42},null,"18ش -أحمد خليل-الزاوية الحمراء-القاهرة","011505074071",null,"د.صنايع 95",null,"2002-09-04",null,"2003-01-01",null,"اصلى",null,null,"على رأس العمل",null,null,"معلم قران كريم","الثالثة الفنية 2008","قران كريم",null,null,null,null,null,"محفظ","قران كريم",null,null,"--","","محفظ"]
[9,363796,"لوزة السيد إسماعيل مصطفى",26402201202808,{"$f":"IFERROR(IF(ISODD(MID(D12,13,1)),\"ذكر\",\"انثى\"),\"\")","v":"انثى"},{"$f":"IFERROR(DATE(IF(LEFT(D12,1)*1=3,20,19)&MID(D12,2,2),MID(D12,4,2),MID(D12,6,2)),\"\")","v":"1964-02-20"},{"$f":"IFERROR(DATEDIF(F12,NOW(),\"y\"),\"\")","v":56},null,"الشيخ زايد-الحى الحادى عشر- 6أكتوبر","01063346364",null,"دبلوم تجاره1984",null,"2012-05-07",null,"2007-02-01",null,"اصلى",null,null,"على رأس العمل",null,null,"معلم قران كريم","الرابعة الفنية"," لغة عربية",null,null,null,null,null,"محفظ","قران كريم",null,null,"--","","محفظ"]
[10,373850,"راشا عبدالمنطلب عبدالمتجلى السيد",27707211400461,"انثى","1977-07-21",43,null,"مساكن إيديال- الشرابية -القاهرة","01141171205",null,"ل.د.إسلامية  2000",null,"2002-09-04",null,"2002-09-04",null,"اصلى",null,null,"على رأس العمل",null,null,"شيخ معهد","الثانية التخصصية 2014 ",null,null,null,null,null,null,"معلم اول أ","مواد شرعية ",null,null,"معلم خبير","","معلم"]
[11,95124,"عزة مصطفى كمال محمد حسنين",26107210101303,"انثى","1961-07-21",59,null,"21ش الأميرعزالدين- بولاق أبوالعلا-القاهرة","01146138044",null,"ل. دراسات إنسانية 86",null,"1991-01-20",null,"1991-09-22",null,"اصلى",null,null,"على رأس العمل",null,null,"معلم","الاولى التخصصية"," لغة عربية",null,null,null,null,null,"كبير معلمين","لغة عربية",null,null,"--","","معلم"]
[12,140158,"هدى إسماعيل محمد محمود",26107210101303,"انثى","1961-07-21",59,null,"21ش الأميرعزالدين- بولاق أبوالعلا-القاهرة","01146138044",null,"ل. دراسات إنسانية 86",null,"1991-01-20",null,"1991-09-22",null,"اصلى",null,null,"على رأس العمل",null,null,"وكيل معهد","الاولى التخصصية"," لغة عربية",null,null,null,null,null,"كبير معلمين","لغة عربية",null,null,"--","","معلم"]
[null,188425,"رضا حسين عبدالعزيزعبدالحميد",26305130103565,"انثى","1963-05-13",57,null,"حارة العطار-ش جسرالبحر- الساحل- القاهرة","01271694489",null,"ل.د.إسلامية وعربية 93",null,"1995-10-18",null,"1996-02-06",null,"اصلى",null,null,"على رأس العمل",null,null,"معلم لغة عربية","الثانية التخصصية"," لغة عربية",null,null,null,null,null,"كبير معلمين","لغة عربية",null,null,"--","","معلم"]
[null,362521,"هبه أحمد محمد محمد ",28406081401189,"انثى","1984-06-08",36,null,"مساكن الخشب- الشرقاوية - شبرا الخيمة","01061334014",null,"ل.آداب وتربية 2005",null,"2012-05-07",null,"2007-02-01",null,"اصلى",null,null,"على رأس العمل",null,null,"معلم لغة عربية","الثانية التخصصية"," لغة عربية",null,null,null,null,null,"معلم اول","لغة عربية",null,null,"معلم اول أ","","معلم"]
[null,374760,"هناء حسن جابر حسن ",28611150202226,"انثى","1986-11-15",33,null,"18ش أبوليلة-الترعة البولاقية -شبرا مصر","01110156905",null,"ل.د.إسلامية 2008",null,"2013-11-18",null,"2009-09-08",null,"اصلى",null,null,"على رأس العمل",null,null,"معلم لغة عربية","الثانية التخصصية"," لغة عربية",null,null,null,null,null,"معلم اول","لغة عربية",null,null,"معلم اول أ","","معلم"]
[null,412212,"فاطمة إسماعيل محمد فراج",28803051602626,"انثى","1988-03-05",32,null,"31ش مسجد الرحمة- الخلفاوى- شبرا مصر","01141841731",null,"ل.د.إسلامية وعربية 2010",null,"2016-02-10",null,"2014-01-01",null,"اصلى",null,null,"على رأس العمل",null,null,"معلم لغة عربية","الثالثة الفنية "," لغة عربية",null,null,null,null,null,"معلم اول","لغة عربية",null,null,"معلم اول أ","","معلم"]
[null,273885,"إيمان محمد هاشم محمد",27411241400842,"انثى","1974-11-24",45,null,"ش زكريا-مساكن توكو- شبراالخيمة.","01021429264",null,"ل. شريعة 2000",null,"2002-09-04",null,"2002-09-04",null,"اصلى",null,null,"على رأس العمل",null,null,"معلم رياضيات","الثانية التخصصية 2013"," رياضيات",null,null,null,null,null,"معلم اول","رياضيات",null,null,"معلم اول أ","","معلم"]
[null,362264,"نورا صبحى أبوالمعاطى ",28403010110265,"انثى","1984-03-01",36,null,"25ش الثورة - مدينة التعاون - شبرا الخيمة ","01094506082",null,"ب. علوم وتربية 2005",null,"2012-05-07",null,"2007-02-01",null,"اصلى",null,null,"على رأس العمل",null,null,"معلم رياضيات","الثانية التخصصية 2018"," رياضيات",null,null,null,null,null,"معلم اول","رياضيات",null,null,"معلم اول أ","","معلم"]
[null,305096,"مشيرة محمد عامر محمد",28208021403569,"انثى","1982-08-02",37,null,"مساكن الفرنوانى - شبرا الخيمة .","01067311818",null,"ل.لغات وترجمة 2005",null,"2012-05-07",null,"2008-02-03",null,"اصلى",null,null,"على رأس العمل",null,null,"معلم لغة انجليزية","الثانية التخصصية 2019","لغة انجليزية",null,null,null,null,null,"معلم اول","لغة انجليزية",null,null,"معلم اول أ","","معلم"]
[null,362034,"أحمد محمود لطفى محمد منتصر",28209011409972,"ذكر","1982-09-01",37,null,"16ش العدلى-العزبة الزراعية -بنها- قليوبية","01220717994",null,"ل.آداب وتربية 2004",null,"2012-05-07",null,"2008-02-01",null,"اصلى",null,null,"على رأس العمل",null,null,"معلم لغة انجليزية","الثانية التخصصية 2018","لغة انجليزية",null,null,null,null,null,"معلم اول","لغة انجليزية",null,null,"معلم اول أ","","معلم"]
[null,273283,"هناء صلاح على الحديدى",27810201401881,"انثى","1978-10-20",41,null,"93ش عزت محمد -منشية الحرية -شبراالخيمة","01280853249",null,"ل.آداب علم نفس 2000",null,"2002-09-04",null,"2003-01-01",null,"اصلى",null,null,"على رأس العمل",null,null,"معلم دراسات","الأولى التخصصية 2019","دراسات",null,null,null,null,null,"معلم اول أ","دراسات",null,null,"معلم خبير","","معلم"]
[null,246844,"حامد إبراهيم حامد أبوأحمد",27212211400977,"ذكر","1972-12-21",47,null,"البرادعه-القناطرالخيرية - قليوبية ",1204631393,null,"د.صنايع 90",null,"2000-05-29",null,"2000-05-29",null,"اصلى",null,null,"على رأس العمل",null,null,"معلم تربية فنية","الثانية الفنية 2015","تربية فنية",null,null,null,null,null,"غير مدرج بالكادر","تربية الفنية",null,null,"--","","مدرس"]
[null,363699,"إيناس عبدالمنعم عبدالعظيم",27802200105801,"انثى","1978-02-20",42,null,"3ش كنيسة العذراء - الشرابية - القاهرة",1278493457,null,"د.صنايع 98",null,"2012-05-07",null,"2007-02-01",null,"اصلى",null,null,"على رأس العمل",null,null,"معلم تربية فنية","الثانية الفنية2018","تربية فنية",null,null,null,null,null,"غير مدرج بالكادر","تربية الفنية",null,null,"--","","مدرس"]
[null,363649,"نحمده محمد أحمد محمد ",27606191401147,"انثى","1976-06-19",44,null,"28 ش صوت العرب - الوحدة العربية - شبرا الخيمة ثان ","01155706067",null,"دبلوم خط عربى وتذهيب 2006",null,"2012-05-07",null,"2006-09-18",null,"اصلى",null,null,"على رأس العمل",null,null,"معلم خط","الثالثة الفنية2015","خط",null,null,null,null,null,"غير مدرج بالكادر","خط",null,null,"--","","مدرس"]
[null,378260,"حسن محمد سليمان عوض",28211072603156,"ذكر","1982-11-07",37,null,"أولاد نصير- مركز سوهاج - سوهاج","01002236263",null,"تربية رياضية",null,"2014-07-01",null,"2009-08-01",null,"اصلى",null,null,"على رأس العمل",null,null,"معلم تربية رياضية","الثالثة التخصصية 2014","تربية رياضية",null,null,null,null,null,"معلم","تربية رياضية ",null,null,"معلم اول","","معلم"]
[null,401917,"علا حسن عبدالمقصود محمد",28801111401401,"انثى","1988-01-11",32,null,"11ش - الشهيد أحمد فتحى - منشية الحرية - شبرا الخيمة",1025952175,null,"ب. خدمة إجتماعية ",null,"2016-08-01",null,"2016-07-16",null,"اصلى",null,null,"على رأس العمل",null,null,"اخصائى اجتماعى","الثالثة التخصصية 2012",null,null,null,null,null,null,null,null,null,null,{"$f":"IF(AF29=\"معلم\",\"معلم اول\",IF(AF29=\"معلم اول\",\"معلم اول أ\",IF(AF29=\"معلم خبير\",\"كبير معلمين\",IF(AF29=\"معلم اول أ\",\"معلم خبير\",\"--\"))))","v":"--"},"","اخصائية"]
[null,363521,"نسمة إبراهيم إسماعيل الشامى",28502051600721,"انثى","1985-02-05",35,null,"55ش جمال عبدالناصر من ش العسعاس -الجيزة","01010917903",null,"ب.معهد التعاون الزراعى2006",null,"2012-05-07",null,"2008-02-01",null,"اصلى",null,null,"على رأس العمل",null,null,"اخصائى تغذية","الثالثة التخصصية 2012",null,null,null,null,null,null,null,null,null,null,"--","","اخصائية"]
[null,363571,"نهلة الطيب محمد الطيب",27608280201782,"انثى","1976-08-28",43,null,"110مساكن الضباط - شبرا الخيمة - قليوبية","01275682390",null,"ب. زراعة 2002",null,"2012-05-07",null,"2007-02-08",null,"اصلى",null,null,"على رأس العمل",null,null,"اخصائى تغذية","الثالثة التخصصية 2012",null,null,null,null,null,null,null,null,null,null,"--","","اخصائية"]
[null,209973,"ولاء رأفت دسوقى إبراهيم ",27803201400764,"انثى","1978-03-20",42,null,"1 شارع جمال عبد الناصر مدينة التعاون شبرا الخيمة",1112774489,null,"د.تجارة 95",null,"1997-08-20",null,"1997-08-20",null,"اصلى",null,null,"على رأس العمل",null,null,"كاتب","الثانية الكتابية 2012",null,null,null,null,null,null,null,null,null,null,"--","","ادارى"]
[null,215459,"فاطمة عبدالمعطى عبدالسميع",27307131700741,"انثى","1973-07-13",47,null,"16ش أبوصايمه-دمنهور -شبرا الخيمة -قليوبية","01287909802",null,"ثانوية أزهرية 93",null,"1998-06-15",null,"1998-08-08",null,"اصلى",null,null,"على رأس العمل",null,null,"كاتب","الثانية الكتابية 2012",null,null,null,null,null,null,null,null,null,null,"--","","ادارى"]
[null,363361,"نادر عادل عبدالفتاح أمين ",27611160103354,"ذكر","1976-11-16",43,null,"32ش سليمان بدوى- روض الفرج -القاهرة","01141389909",null,"د. صنايع 94",null,"2012-05-07",null,"2011-09-29",null,"اصلى",null,null,"على رأس العمل",null,null,"كاتب","الرابعة الكتابية 2012",null,null,null,null,null,null,null,null,null,null,"--","","ادارى"]
[null,402062,"نادية عيد عبدالغنى ",27671701401325,"انثى","1982-01-09",38,null,"6ش حسين -الشرقاوية - شبرا الخيمة ","01142072896",null,"د.صنايع 94",null,"2016-08-17",null,"2013-07-01",null,"اصلى",null,null,"على رأس العمل",null,null,"كاتب","الرابعة الفنية 2016",null,null,null,null,null,null,null,null,null,null,"--","","ادارى"]
[null,363963,"حسن حسين منصور حسن",27711252501255,"ذكر","1977-11-25",42,null,"21ش - النيرة الغربية - البصراوى - إمبابه - الجيزة","01012978901",null,"دبلوم معلمين أزهرى 97",null,"2012-05-07",null,"2008-08-07",null,"اصلى",null,null,"على رأس العمل",null,null,"كاتب","الثالثة الكتابية 2012",null,null,null,null,null,null,null,null,null,null,"--","","ادارى"]
[null,402136,"ماجدة محمد عبدالعزيز أحمد ",26705201400483,"انثى","1967-05-20",53,null,"30ش عبدالمقصود - الفرنوانى شبرا الخيمة ","01274888507",null,"د.تجارة 86",null,"2016-08-17",null,"2011-07-01",null,"اصلى",null,null,"على رأس العمل",null,null,"كاتب","الرابعة الكتابية 2016",null,null,null,null,null,null,null,null,null,null,"--","","ادارى"]
[null,401854,"أمانى عبدالفتاح صلاح الدين ",28304031401083,"انثى","1983-04-03",37,null,"53حارة النجار -شبرا الخيمة أول - القليوبية ","01229719914",null,"ب. تجارة 2009",null,"2016-08-17",null,"2013-07-01",null,"اصلى",null,null,"على رأس العمل",null,null,"شئون مالية","الثالثة التخصصية2012",null,null,null,null,null,null,null,null,null,null,"--","","ادارى"]
[null,209981,"محمد إبراهيم خليل التنة",26708011301011,"ذكر","1967-08-01",52,null,"العصلوجى- مركز الزقازيق - الشرقية ","01017439402",null,"إبتدائية 2015",null,"1997-08-31",null,"1997-08-16",null,"اصلى",null,null,"على رأس العمل",null,null,"عامل","الرابعة العمالية 2015",null,null,null,null,null,null,null,null,null,null,"--","","عامل"]
[null,246730,"أحمد عبدالعظيم محمد الدمرداش ",27907031701713,"ذكر","1979-07-03",41,null,"باجور- منوفية ","01009105175",null,"إبتدائية ",null,"2000-05-29",null,"2000-05-29",null,"اصلى",null,null,"على رأس العمل",null,null,"عامل","الرابعة العمالية 2015",null,null,null,null,null,null,null,null,null,null,"--","","عامل"]
[null,246877,"رضا محمد السيد الصعيدى ",27401061302171,"ذكر","1974-01-06",46,null,"تبيت-بشتيل السوق -الشرقية ","01142721856",null,"إبتدائية 2014",null,"2000-05-29",null,"2000-05-29",null,"اصلى",null,null,"على رأس العمل",null,null,"عامل","الخامسة العمالية 2015",null,null,null,null,null,null,null,null,null,null,"--","","عامل"]
[null,364120,"فاتن عبدالعال على بخيت ",26506080101022,"انثى","1965-06-08",55,null,"69ش-على خليفة - مدينة السعادة - شبرا الخيمة","01141959802",null,"إبتدائية ",null,"2012-05-07",null,"2007-02-10",null,"اصلى",null,null,"على رأس العمل",null,null,"عامل","الخامسة العمالية 2015",null,null,null,null,null,null,null,null,null,null,"--","","عامل"]
[null,388598,"على حسن على محمد حبيب",27507151701051,"ذكر","1975-07-15",45,null,"92ش محمد فريد -عابدين -القاهرة","01278751471",null,"محو أمية",null,"2016-03-02",null,"2009-02-10",null,"اصلى",null,null,"على رأس العمل",null,null,"عامل","السادسة العمالية ",null,null,null,null,null,null,null,null,null,null,"--","","عامل"]
[null,null,null,null,"","","",null,null,null,null,null,null,null,null,null,null,null,null,null,null,null,null,null,null,null,null,null,null,null,null,null,null,null,null,"--",""]
[null,null,null,null,"","","",null,null,null,null,null,null,null,null,null,null,null,null,null,null,null,null,null,null,null,null,null,null,null,null,null,null,null,null,"--",""]
[null,null,null,null,"","","",null,null,null,null,null,null,null,null,null,null,null,null,null,null,null,null,null,null,null,null,null,null,null,null,null,null,null,null,"--",""]
[null,null,null,null,"","","",null,null,null,null,null,null,null,null,null,null,null,null,null,null,null,null,null,null,null,null,null,null,null,null,null,null,null,null,"--",""]
[null,null,null,null,"","","",null,null,null,null,null,null,null,null,null,null,null,null,null,null,null,null,null,null,null,null,null,null,null,null,null,null,null,null,"--",""]
[null,null,null,null,"","","",null,null,null,null,null,null,null,null,null,null,null,null,null,null,null,null,null,null,null,null,null,null,null,null,null,null,null,null,"--",""]
[null,null,null,null,"","","",null,null,null,null,null,null,null,null,null,null,null,null,null,null,null,null,null,null,null,null,null,null,null,null,null,null,null,null,"--",""]
[null,null,null,null,"","","",null,null,null,null,null,null,null,null,null,null,null,null,null,null,null,null,null,null,null,null,null,null,null,null,null,null,null,null,"--",""]
[null,null,null,null,"","","",null,null,null,null,null,null,null,null,null,null,null,null,null,null,null,null,null,null,null,null,null,null,null,null,null,null,null,null,"--",""]
[null,null,null,null,"","","",null,null,null,null,null,null,null,null,null,null,null,null,null,null,null,null,null,null,null,null,null,null,null,null,null,null,null,null,"--",""]
[null,null,null,null,"","","",null,null,null,null,null,null,null,null,null,null,null,null,null,null,null,null,null,null,null,null,null,null,null,null,null,null,null,null,"--",""]
[null,null,null,null,"","","",null,null,null,null,null,null,null,null,null,null,null,null,null,null,null,null,null,null,null,null,null,null,null,null,null,null,null,null,"--",""]
[null,null,null,null,"","","",null,null,null,null,null,null,null,null,null,null,null,null,null,null,null,null,null,null,null,null,null,null,null,null,null,null,null,null,"--",""]
[null,null,null,null,"","","",null,null,null,null,null,null,null,null,null,null,null,null,null,null,null,null,null,null,null,null,null,null,null,null,null,null,null,null,"--",""]
[null,null,null,null,"","","",null,null,null,null,null,null,null,null,null,null,null,null,null,null,null,null,null,null,null,null,null,null,null,null,null,null,null,null,"--",""]
[null,null,null,null,"","","",null,null,null,null,null,null,null,null,null,null,null,null,null,null,null,null,null,null,null,null,null,null,null,null,null,null,null,null,"--",""]
[null,null,null,null,"","","",null,null,null,null,null,null,null,null,null,null,null,null,null,null,null,null,null,null,null,null,null,null,null,null,null,null,null,null,"--",""]
[null,null,null,null,"","","",null,null,null,null,null,null,null,null,null,null,null,null,null,null,null,null,null,null,null,null,null,null,null,null,null,null,null,null,"--",""]
[null,null,null,null,"","","",null,null,null,null,null,null,null,null,null,null,null,null,null,null,null,null,null,null,null,null,null,null,null,null,null,null,null,null,"--",""]
[null,null,null,null,"","","",null,null,null,null,null,null,null,null,null,null,null,null,null,null,null,null,null,null,null,null,null,null,null,null,null,null,null,null,"--",""]
[null,null,null,null,"","","",null,null,null,null,null,null,null,null,null,null,null,null,null,null,null,null,null,null,null,null,null,null,null,null,null,null,null,null,"--",""]
[null,null,null,null,"","","",null,null,null,null,null,null,null,null,null,null,null,null,null,null,null,null,null,null,null,null,null,null,null,null,null,null,null,null,"--",""]
[null,null,null,null,"","","",null,null,null,null,null,null,null,null,null,null,null,null,null,null,null,null,null,null,null,null,null,null,null,null,null,null,null,null,"--",""]
[null,null,null,null,"","","",null,null,null,null,null,null,null,null,null,null,null,null,null,null,null,null,null,null,null,null,null,null,null,null,null,null,null,null,"--",""]
[null,null,null,null,"","","",null,null,null,null,null,null,null,null,null,null,null,null,null,null,null,null,null,null,null,null,null,null,null,null,null,null,null,null,"--",""]
[null,null,null,null,{"$f":"IFERROR(IF(ISODD(MID(D69,13,1)),\"ذكر\",\"انثى\"),\"\")","v":""},{"$f":"IFERROR(DATE(IF(LEFT(D69,1)*1=3,20,19)&MID(D69,2,2),MID(D69,4,2),MID(D69,6,2)),\"\")","v":""},{"$f":"IFERROR(DATEDIF(F69,NOW(),\"y\"),\"\")","v":""},null,null,null,null,null,null,null,null,null,null,null,null,null,null,null,null,null,null,null,null,null,null,null,null,null,null,null,null,{"$f":"IF(AF69=\"معلم\",\"معلم اول\",IF(AF69=\"معلم اول\",\"معلم اول أ\",IF(AF69=\"معلم خبير\",\"كبير معلمين\",IF(AF69=\"معلم اول أ\",\"معلم خبير\",\"--\"))))","v":"--"},{"$f":"IF(AI69=\"\",\"\",DATE(YEAR(AI69)+5,MONTH(AI69),DAY(AI69)))","v":""}]
[null,null,null,null,"","","",null,null,null,null,null,null,null,null,null,null,null,null,null,null,null,null,null,null,null,null,null,null,null,null,null,null,null,null,"--",""]
[null,null,null,null,"","","",null,null,null,null,null,null,null,null,null,null,null,null,null,null,null,null,null,null,null,null,null,null,null,null,null,null,null,null,"--",""]
[null,null,null,null,"","","",null,null,null,null,null,null,null,null,null,null,null,null,null,null,null,null,null,null,null,null,null,null,null,null,null,null,null,null,"--",""]
[null,null,null,null,"","","",null,null,null,null,null,null,null,null,null,null,null,null,null,null,null,null,null,null,null,null,null,null,null,null,null,null,null,null,"--",""]
[null,null,null,null,"","","",null,null,null,null,null,null,null,null,null,null,null,null,null,null,null,null,null,null,null,null,null,null,null,null,null,null,null,null,"--",""]
[null,null,null,null,"","","",null,null,null,null,null,null,null,null,null,null,null,null,null,null,null,null,null,null,null,null,null,null,null,null,null,null,null,null,"--",""]
[null,null,null,null,"","","",null,null,null,null,null,null,null,null,null,null,null,null,null,null,null,null,null,null,null,null,null,null,null,null,null,null,null,null,"--",""]
[null,null,null,null,"","","",null,null,null,null,null,null,null,null,null,null,null,null,null,null,null,null,null,null,null,null,null,null,null,null,null,null,null,null,"--",""]
[null,null,null,null,"","","",null,null,null,null,null,null,null,null,null,null,null,null,null,null,null,null,null,null,null,null,null,null,null,null,null,null,null,null,"--",""]
[null,null,null,null,"","","",null,null,null,null,null,null,null,null,null,null,null,null,null,null,null,null,null,null,null,null,null,null,null,null,null,null,null,null,"--",""]
[null,null,null,null,"","","",null,null,null,null,null,null,null,null,null,null,null,null,null,null,null,null,null,null,null,null,null,null,null,null,null,null,null,null,"--",""]
[null,null,null,null,"","","",null,null,null,null,null,null,null,null,null,null,null,null,null,null,null,null,null,null,null,null,null,null,null,null,null,null,null,null,"--",""]
[null,null,null,null,"","","",null,null,null,null,null,null,null,null,null,null,null,null,null,null,null,null,null,null,null,null,null,null,null,null,null,null,null,null,"--",""]
[null,null,null,null,"","","",null,null,null,null,null,null,null,null,null,null,null,null,null,null,null,null,null,null,null,null,null,null,null,null,null,null,null,null,"--",""]
[null,null,null,null,"","","",null,null,null,null,null,null,null,null,null,null,null,null,null,null,null,null,null,null,null,null,null,null,null,null,null,null,null,null,"--",""]
[null,null,null,null,"","","",null,null,null,null,null,null,null,null,null,null,null,null,null,null,null,null,null,null,null,null,null,null,null,null,null,null,null,null,"--",""]
[null,null,null,null,"","","",null,null,null,null,null,null,null,null,null,null,null,null,null,null,null,null,null,null,null,null,null,null,null,null,null,null,null,null,"--",""]
[null,null,null,null,"","","",null,null,null,null,null,null,null,null,null,null,null,null,null,null,null,null,null,null,null,null,null,null,null,null,null,null,null,null,"--",""]
[null,null,null,null,"","","",null,null,null,null,null,null,null,null,null,null,null,null,null,null,null,null,null,null,null,null,null,null,null,null,null,null,null,null,"--",""]
[null,null,null,null,"","","",null,null,null,null,null,null,null,null,null,null,null,null,null,null,null,null,null,null,null,null,null,null,null,null,null,null,null,null,"--",""]
[null,null,null,null,"","","",null,null,null,null,null,null,null,null,null,null,null,null,null,null,null,null,null,null,null,null,null,null,null,null,null,null,null,null,"--",""]
[null,null,null,null,"","","",null,null,null,null,null,null,null,null,null,null,null,null,null,null,null,null,null,null,null,null,null,null,null,null,null,null,null,null,"--",""]
[null,null,null,null,"","","",null,null,null,null,null,null,null,null,null,null,null,null,null,null,null,null,null,null,null,null,null,null,null,null,null,null,null,null,"--",""]
[null,null,null,null,"","","",null,null,null,null,null,null,null,null,null,null,null,null,null,null,null,null,null,null,null,null,null,null,null,null,null,null,null,null,"--",""]
[null,null,null,null,"","","",null,null,null,null,null,null,null,null,null,null,null,null,null,null,null,null,null,null,null,null,null,null,null,null,null,null,null,null,"--",""]
[null,null,null,null,"","","",null,null,null,null,null,null,null,null,null,null,null,null,null,null,null,null,null,null,null,null,null,null,null,null,null,null,null,null,"--",""]
[null,null,null,null,"","","",null,null,null,null,null,null,null,null,null,null,null,null,null,null,null,null,null,null,null,null,null,null,null,null,null,null,null,null,"--",""]
[null,null,null,null,"","","",null,null,null,null,null,null,null,null,null,null,null,null,null,null,null,null,null,null,null,null,null,null,null,null,null,null,null,null,"--",""]
[null,null,null,null,"","","",null,null,null,null,null,null,null,null,null,null,null,null,null,null,null,null,null,null,null,null,null,null,null,null,null,null,null,null,"--",""]
[null,null,null,null,"","","",null,null,null,null,null,null,null,null,null,null,null,null,null,null,null,null,null,null,null,null,null,null,null,null,null,null,null,null,"--",""]
[null,null,null,null,"","","",null,null,null,null,null,null,null,null,null,null,null,null,null,null,null,null,null,null,null,null,null,null,null,null,null,null,null,null,"--",""]
[null,null,null,null,"","","",null,null,null,null,null,null,null,null,null,null,null,null,null,null,null,null,null,null,null,null,null,null,null,null,null,null,null,null,"--",""]
[null,null,null,null,"","","",null,null,null,null,null,null,null,null,null,null,null,null,null,null,null,null,null,null,null,null,null,null,null,null,null,null,null,null,"--",""]
[null,null,null,null,"","","",null,null,null,null,null,null,null,null,null,null,null,null,null,null,null,null,null,null,null,null,null,null,null,null,null,null,null,null,"--",""]
[null,null,null,null,"","","",null,null,null,null,null,null,null,null,null,null,null,null,null,null,null,null,null,null,null,null,null,null,null,null,null,null,null,null,"--",""]
[null,null,null,null,"","","",null,null,null,null,null,null,null,null,null,null,null,null,null,null,null,null,null,null,null,null,null,null,null,null,null,null,null,null,"--",""]
[null,null,null,null,"","","",null,null,null,null,null,null,null,null,null,null,null,null,null,null,null,null,null,null,null,null,null,null,null,null,null,null,null,null,"--",""]
[null,null,null,null,"","","",null,null,null,null,null,null,null,null,null,null,null,null,null,null,null,null,null,null,null,null,null,null,null,null,null,null,null,null,"--",""]
[null,null,null,null,"","","",null,null,null,null,null,null,null,null,null,null,null,null,null,null,null,null,null,null,null,null,null,null,null,null,null,null,null,null,"--",""]
[null,null,null,null,"","","",null,null,null,null,null,null,null,null,null,null,null,null,null,null,null,null,null,null,null,null,null,null,null,null,null,null,null,null,"--",""]
[null,null,null,null,"","","",null,null,null,null,null,null,null,null,null,null,null,null,null,null,null,null,null,null,null,null,null,null,null,null,null,null,null,null,"--",""]
[null,null,null,null,"","","",null,null,null,null,null,null,null,null,null,null,null,null,null,null,null,null,null,null,null,null,null,null,null,null,null,null,null,null,"--",""]
[null,null,null,null,"","","",null,null,null,null,null,null,null,null,null,null,null,null,null,null,null,null,null,null,null,null,null,null,null,null,null,null,null,null,"--",""]
[null,null,null,null,"","","",null,null,null,null,null,null,null,null,null,null,null,null,null,null,null,null,null,null,null,null,null,null,null,null,null,null,null,null,"--",""]
[null,null,null,null,"","","",null,null,null,null,null,null,null,null,null,null,null,null,null,null,null,null,null,null,null,null,null,null,null,null,null,null,null,null,"--",""]
[null,null,null,null,"","","",null,null,null,null,null,null,null,null,null,null,null,null,null,null,null,null,null,null,null,null,null,null,null,null,null,null,null,null,"--",""]
[null,null,null,null,"","","",null,null,null,null,null,null,null,null,null,null,null,null,null,null,null,null,null,null,null,null,null,null,null,null,null,null,null,null,"--",""]
[null,null,null,null,"","","",null,null,null,null,null,null,null,null,null,null,null,null,null,null,null,null,null,null,null,null,null,null,null,null,null,null,null,null,"--",""]
[null,null,null,null,"","","",null,null,null,null,null,null,null,null,null,null,null,null,null,null,null,null,null,null,null,null,null,null,null,null,null,null,null,null,"--",""]
[null,null,null,null,"","","",null,null,null,null,null,null,null,null,null,null,null,null,null,null,null,null,null,null,null,null,null,null,null,null,null,null,null,null,"--",""]
[null,null,null,null,"","","",null,null,null,null,null,null,null,null,null,null,null,null,null,null,null,null,null,null,null,null,null,null,null,null,null,null,null,null,"--",""]
[null,null,null,null,"","","",null,null,null,null,null,null,null,null,null,null,null,null,null,null,null,null,null,null,null,null,null,null,null,null,null,null,null,null,"--",""]
[null,null,null,null,"","","",null,null,null,null,null,null,null,null,null,null,null,null,null,null,null,null,null,null,null,null,null,null,null,null,null,null,null,null,"--",""]
[null,null,null,null,"","","",null,null,null,null,null,null,null,null,null,null,null,null,null,null,null,null,null,null,null,null,null,null,null,null,null,null,null,null,"--",""]
[null,null,null,null,"","","",null,null,null,null,null,null,null,null,null,null,null,null,null,null,null,null,null,null,null,null,null,null,null,null,null,null,null,null,"--",""]
[null,null,null,null,"","","",null,null,null,null,null,null,null,null,null,null,null,null,null,null,null,null,null,null,null,null,null,null,null,null,null,null,null,null,"--",""]
[null,null,null,null,"","","",null,null,null,null,null,null,null,null,null,null,null,null,null,null,null,null,null,null,null,null,null,null,null,null,null,null,null,null,"--",""]
[null,null,null,null,"","","",null,null,null,null,null,null,null,null,null,null,null,null,null,null,null,null,null,null,null,null,null,null,null,null,null,null,null,null,"--",""]
[null,null,null,null,"","","",null,null,null,null,null,null,null,null,null,null,null,null,null,null,null,null,null,null,null,null,null,null,null,null,null,null,null,null,"--",""]
[null,null,null,null,"","","",null,null,null,null,null,null,null,null,null,null,null,null,null,null,null,null,null,null,null,null,null,null,null,null,null,null,null,null,"--",""]
[null,null,null,null,"","","",null,null,null,null,null,null,null,null,null,null,null,null,null,null,null,null,null,null,null,null,null,null,null,null,null,null,null,null,"--",""]
[null,null,null,null,"","","",null,null,null,null,null,null,null,null,null,null,null,null,null,null,null,null,null,null,null,null,null,null,null,null,null,null,null,null,"--",""]
[null,null,null,null,"","","",null,null,null,null,null,null,null,null,null,null,null,null,null,null,null,null,null,null,null,null,null,null,null,null,null,null,null,null,"--",""]
[null,null,null,null,{"$f":"IFERROR(IF(ISODD(MID(D133,13,1)),\"ذكر\",\"انثى\"),\"\")","v":""},{"$f":"IFERROR(DATE(IF(LEFT(D133,1)*1=3,20,19)&MID(D133,2,2),MID(D133,4,2),MID(D133,6,2)),\"\")","v":""},{"$f":"IFERROR(DATEDIF(F133,NOW(),\"y\"),\"\")","v":""},null,null,null,null,null,null,null,null,null,null,null,null,null,null,null,null,null,null,null,null,null,null,null,null,null,null,null,null,{"$f":"IF(AF133=\"معلم\",\"معلم اول\",IF(AF133=\"معلم اول\",\"معلم اول أ\",IF(AF133=\"معلم خبير\",\"كبير معلمين\",IF(AF133=\"معلم اول أ\",\"معلم خبير\",\"--\"))))","v":"--"},{"$f":"IF(AI133=\"\",\"\",DATE(YEAR(AI133)+5,MONTH(AI133),DAY(AI133)))","v":""}]
[null,null,null,null,"","","",null,null,null,null,null,null,null,null,null,null,null,null,null,null,null,null,null,null,null,null,null,null,null,null,null,null,null,null,"--",""]
[null,null,null,null,"","","",null,null,null,null,null,null,null,null,null,null,null,null,null,null,null,null,null,null,null,null,null,null,null,null,null,null,null,null,"--",""]
[null,null,null,null,"","","",null,null,null,null,null,null,null,null,null,null,null,null,null,null,null,null,null,null,null,null,null,null,null,null,null,null,null,null,"--",""]
[null,null,null,null,"","","",null,null,null,null,null,null,null,null,null,null,null,null,null,null,null,null,null,null,null,null,null,null,null,null,null,null,null,null,"--",""]
[null,null,null,null,"","","",null,null,null,null,null,null,null,null,null,null,null,null,null,null,null,null,null,null,null,null,null,null,null,null,null,null,null,null,"--",""]
[null,null,null,null,"","","",null,null,null,null,null,null,null,null,null,null,null,null,null,null,null,null,null,null,null,null,null,null,null,null,null,null,null,null,"--",""]
[null,null,null,null,"","","",null,null,null,null,null,null,null,null,null,null,null,null,null,null,null,null,null,null,null,null,null,null,null,null,null,null,null,null,"--",""]
[null,null,null,null,"","","",null,null,null,null,null,null,null,null,null,null,null,null,null,null,null,null,null,null,null,null,null,null,null,null,null,null,null,null,"--",""]
[null,null,null,null,"","","",null,null,null,null,null,null,null,null,null,null,null,null,null,null,null,null,null,null,null,null,null,null,null,null,null,null,null,null,"--",""]
[null,null,null,null,"","","",null,null,null,null,null,null,null,null,null,null,null,null,null,null,null,null,null,null,null,null,null,null,null,null,null,null,null,null,"--",""]
[null,null,null,null,"","","",null,null,null,null,null,null,null,null,null,null,null,null,null,null,null,null,null,null,null,null,null,null,null,null,null,null,null,null,"--",""]
[null,null,null,null,"","","",null,null,null,null,null,null,null,null,null,null,null,null,null,null,null,null,null,null,null,null,null,null,null,null,null,null,null,null,"--",""]
[null,null,null,null,"","","",null,null,null,null,null,null,null,null,null,null,null,null,null,null,null,null,null,null,null,null,null,null,null,null,null,null,null,null,"--",""]
[null,null,null,null,"","","",null,null,null,null,null,null,null,null,null,null,null,null,null,null,null,null,null,null,null,null,null,null,null,null,null,null,null,null,"--",""]
[null,null,null,null,"","","",null,null,null,null,null,null,null,null,null,null,null,null,null,null,null,null,null,null,null,null,null,null,null,null,null,null,null,null,"--",""]
[null,null,null,null,"","","",null,null,null,null,null,null,null,null,null,null,null,null,null,null,null,null,null,null,null,null,null,null,null,null,null,null,null,null,"--",""]
[null,null,null,null,"","","",null,null,null,null,null,null,null,null,null,null,null,null,null,null,null,null,null,null,null,null,null,null,null,null,null,null,null,null,"--",""]
[null,null,null,null,"","","",null,null,null,null,null,null,null,null,null,null,null,null,null,null,null,null,null,null,null,null,null,null,null,null,null,null,null,null,"--",""]
[null,null,null,null,"","","",null,null,null,null,null,null,null,null,null,null,null,null,null,null,null,null,null,null,null,null,null,null,null,null,null,null,null,null,"--",""]
[null,null,null,null,"","","",null,null,null,null,null,null,null,null,null,null,null,null,null,null,null,null,null,null,null,null,null,null,null,null,null,null,null,null,"--",""]
[null,null,null,null,"","","",null,null,null,null,null,null,null,null,null,null,null,null,null,null,null,null,null,null,null,null,null,null,null,null,null,null,null,null,"--",""]
[null,null,null,null,"","","",null,null,null,null,null,null,null,null,null,null,null,null,null,null,null,null,null,null,null,null,null,null,null,null,null,null,null,null,"--",""]
[null,null,null,null,"","","",null,null,null,null,null,null,null,null,null,null,null,null,null,null,null,null,null,null,null,null,null,null,null,null,null,null,null,null,"--",""]
[null,null,null,null,"","","",null,null,null,null,null,null,null,null,null,null,null,null,null,null,null,null,null,null,null,null,null,null,null,null,null,null,null,null,"--",""]
[null,null,null,null,"","","",null,null,null,null,null,null,null,null,null,null,null,null,null,null,null,null,null,null,null,null,null,null,null,null,null,null,null,null,"--",""]
[null,null,null,null,"","","",null,null,null,null,null,null,null,null,null,null,null,null,null,null,null,null,null,null,null,null,null,null,null,null,null,null,null,null,"--",""]
[null,null,null,null,"","","",null,null,null,null,null,null,null,null,null,null,null,null,null,null,null,null,null,null,null,null,null,null,null,null,null,null,null,null,"--",""]
[null,null,null,null,"","","",null,null,null,null,null,null,null,null,null,null,null,null,null,null,null,null,null,null,null,null,null,null,null,null,null,null,null,null,"--",""]
[null,null,null,null,"","","",null,null,null,null,null,null,null,null,null,null,null,null,null,null,null,null,null,null,null,null,null,null,null,null,null,null,null,null,"--",""]
[null,null,null,null,"","","",null,null,null,null,null,null,null,null,null,null,null,null,null,null,null,null,null,null,null,null,null,null,null,null,null,null,null,null,"--",""]
[null,null,null,null,"","","",null,null,null,null,null,null,null,null,null,null,null,null,null,null,null,null,null,null,null,null,null,null,null,null,null,null,null,null,"--",""]
[null,null,null,null,"","","",null,null,null,null,null,null,null,null,null,null,null,null,null,null,null,null,null,null,null,null,null,null,null,null,null,null,null,null,"--",""]
[null,null,null,null,"","","",null,null,null,null,null,null,null,null,null,null,null,null,null,null,null,null,null,null,null,null,null,null,null,null,null,null,null,null,"--",""]
[null,null,null,null,"","","",null,null,null,null,null,null,null,null,null,null,null,null,null,null,null,null,null,null,null,null,null,null,null,null,null,null,null,null,"--",""]
[null,null,null,null,"","","",null,null,null,null,null,null,null,null,null,null,null,null,null,null,null,null,null,null,null,null,null,null,null,null,null,null,null,null,"--",""]
[null,null,null,null,"","","",null,null,null,null,null,null,null,null,null,null,null,null,null,null,null,null,null,null,null,null,null,null,null,null,null,null,null,null,"--",""]
[null,null,null,null,"","","",null,null,null,null,null,null,null,null,null,null,null,null,null,null,null,null,null,null,null,null,null,null,null,null,null,null,null,null,"--",""]
[null,null,null,null,"","","",null,null,null,null,null,null,null,null,null,null,null,null,null,null,null,null,null,null,null,null,null,null,null,null,null,null,null,null,"--",""]
[null,null,null,null,"","","",null,null,null,null,null,null,null,null,null,null,null,null,null,null,null,null,null,null,null,null,null,null,null,null,null,null,null,null,"--",""]
[null,null,null,null,"","","",null,null,null,null,null,null,null,null,null,null,null,null,null,null,null,null,null,null,null,null,null,null,null,null,null,null,null,null,"--",""]
[null,null,null,null,"","","",null,null,null,null,null,null,null,null,null,null,null,null,null,null,null,null,null,null,null,null,null,null,null,null,null,null,null,null,"--",""]
[null,null,null,null,"","","",null,null,null,null,null,null,null,null,null,null,null,null,null,null,null,null,null,null,null,null,null,null,null,null,null,null,null,null,"--",""]
[null,null,null,null,"","","",null,null,null,null,null,null,null,null,null,null,null,null,null,null,null,null,null,null,null,null,null,null,null,null,null,null,null,null,"--",""]
[null,null,null,null,"","","",null,null,null,null,null,null,null,null,null,null,null,null,null,null,null,null,null,null,null,null,null,null,null,null,null,null,null,null,"--",""]
[null,null,null,null,"","","",null,null,null,null,null,null,null,null,null,null,null,null,null,null,null,null,null,null,null,null,null,null,null,null,null,null,null,null,"--",""]
[null,null,null,null,"","","",null,null,null,null,null,null,null,null,null,null,null,null,null,null,null,null,null,null,null,null,null,null,null,null,null,null,null,null,"--",""]
[null,null,null,null,"","","",null,null,null,null,null,null,null,null,null,null,null,null,null,null,null,null,null,null,null,null,null,null,null,null,null,null,null,null,"--",""]
[null,null,null,null,"","","",null,null,null,null,null,null,null,null,null,null,null,null,null,null,null,null,null,null,null,null,null,null,null,null,null,null,null,null,"--",""]
[null,null,null,null,"","","",null,null,null,null,null,null,null,null,null,null,null,null,null,null,null,null,null,null,null,null,null,null,null,null,null,null,null,null,"--",""]
[null,null,null,null,"","","",null,null,null,null,null,null,null,null,null,null,null,null,null,null,null,null,null,null,null,null,null,null,null,null,null,null,null,null,"--",""]
[null,null,null,null,"","","",null,null,null,null,null,null,null,null,null,null,null,null,null,null,null,null,null,null,null,null,null,null,null,null,null,null,null,null,"--",""]
[null,null,null,null,"","","",null,null,null,null,null,null,null,null,null,null,null,null,null,null,null,null,null,null,null,null,null,null,null,null,null,null,null,null,"--",""]
[null,null,null,null,"","","",null,null,null,null,null,null,null,null,null,null,null,null,null,null,null,null,null,null,null,null,null,null,null,null,null,null,null,null,"--",""]
[null,null,null,null,"","","",null,null,null,null,null,null,null,null,null,null,null,null,null,null,null,null,null,null,null,null,null,null,null,null,null,null,null,null,"--",""]
[null,null,null,null,"","","",null,null,null,null,null,null,null,null,null,null,null,null,null,null,null,null,null,null,null,null,null,null,null,null,null,null,null,null,"--",""]
[null,null,null,null,"","","",null,null,null,null,null,null,null,null,null,null,null,null,null,null,null,null,null,null,null,null,null,null,null,null,null,null,null,null,"--",""]
[null,null,null,null,"","","",null,null,null,null,null,null,null,null,null,null,null,null,null,null,null,null,null,null,null,null,null,null,null,null,null,null,null,null,"--",""]
[null,null,null,null,"","","",null,null,null,null,null,null,null,null,null,null,null,null,null,null,null,null,null,null,null,null,null,null,null,null,null,null,null,null,"--",""]
[null,null,null,null,"","","",null,null,null,null,null,null,null,null,null,null,null,null,null,null,null,null,null,null,null,null,null,null,null,null,null,null,null,null,"--",""]
[null,null,null,null,"","","",null,null,null,null,null,null,null,null,null,null,null,null,null,null,null,null,null,null,null,null,null,null,null,null,null,null,null,null,"--",""]
[null,null,null,null,"","","",null,null,null,null,null,null,null,null,null,null,null,null,null,null,null,null,null,null,null,null,null,null,null,null,null,null,null,null,"--",""]
[null,null,null,null,"","","",null,null,null,null,null,null,null,null,null,null,null,null,null,null,null,null,null,null,null,null,null,null,null,null,null,null,null,null,"--",""]
[null,null,null,null,"","","",null,null,null,null,null,null,null,null,null,null,null,null,null,null,null,null,null,null,null,null,null,null,null,null,null,null,null,null,"--",""]
[null,null,null,null,{"$f":"IFERROR(IF(ISODD(MID(D197,13,1)),\"ذكر\",\"انثى\"),\"\")","v":""},{"$f":"IFERROR(DATE(IF(LEFT(D197,1)*1=3,20,19)&MID(D197,2,2),MID(D197,4,2),MID(D197,6,2)),\"\")","v":""},{"$f":"IFERROR(DATEDIF(F197,NOW(),\"y\"),\"\")","v":""},null,null,null,null,null,null,null,null,null,null,null,null,null,null,null,null,null,null,null,null,null,null,null,null,null,null,null,null,{"$f":"IF(AF197=\"معلم\",\"معلم اول\",IF(AF197=\"معلم اول\",\"معلم اول أ\",IF(AF197=\"معلم خبير\",\"كبير معلمين\",IF(AF197=\"معلم اول أ\",\"معلم خبير\",\"--\"))))","v":"--"},{"$f":"IF(AI197=\"\",\"\",DATE(YEAR(AI197)+5,MONTH(AI197),DAY(AI197)))","v":""}]
[null,null,null,null,"","","",null,null,null,null,null,null,null,null,null,null,null,null,null,null,null,null,null,null,null,null,null,null,null,null,null,null,null,null,"--",""]
[null,null,null,null,"","","",null,null,null,null,null,null,null,null,null,null,null,null,null,null,null,null,null,null,null,null,null,null,null,null,null,null,null,null,"--",""]
[null,null,null,null,"","","",null,null,null,null,null,null,null,null,null,null,null,null,null,null,null,null,null,null,null,null,null,null,null,null,null,null,null,null,"--",""]
[null,null,null,null,"","","",null,null,null,null,null,null,null,null,null,null,null,null,null,null,null,null,null,null,null,null,null,null,null,null,null,null,null,null,"--",""]
[null,null,null,null,"","","",null,null,null,null,null,null,null,null,null,null,null,null,null,null,null,null,null,null,null,null,null,null,null,null,null,null,null,null,"--",""]
[null,null,null,null,"","","",null,null,null,null,null,null,null,null,null,null,null,null,null,null,null,null,null,null,null,null,null,null,null,null,null,null,null,null,"--",""]
[null,null,null,null,"","","",null,null,null,null,null,null,null,null,null,null,null,null,null,null,null,null,null,null,null,null,null,null,null,null,null,null,null,null,"--",""]
[null,null,null,null,"","","",null,null,null,null,null,null,null,null,null,null,null,null,null,null,null,null,null,null,null,null,null,null,null,null,null,null,null,null,"--",""]
[null,null,null,null,"","","",null,null,null,null,null,null,null,null,null,null,null,null,null,null,null,null,null,null,null,null,null,null,null,null,null,null,null,null,"--",""]
[null,null,null,null,"","","",null,null,null,null,null,null,null,null,null,null,null,null,null,null,null,null,null,null,null,null,null,null,null,null,null,null,null,null,"--",""]
[null,null,null,null,"","","",null,null,null,null,null,null,null,null,null,null,null,null,null,null,null,null,null,null,null,null,null,null,null,null,null,null,null,null,"--",""]
[null,null,null,null,"","","",null,null,null,null,null,null,null,null,null,null,null,null,null,null,null,null,null,null,null,null,null,null,null,null,null,null,null,null,"--",""]
[null,null,null,null,"","","",null,null,null,null,null,null,null,null,null,null,null,null,null,null,null,null,null,null,null,null,null,null,null,null,null,null,null,null,"--",""]
[null,null,null,null,"","","",null,null,null,null,null,null,null,null,null,null,null,null,null,null,null,null,null,null,null,null,null,null,null,null,null,null,null,null,"--",""]
[null,null,null,null,"","","",null,null,null,null,null,null,null,null,null,null,null,null,null,null,null,null,null,null,null,null,null,null,null,null,null,null,null,null,"--",""]
[null,null,null,null,"","","",null,null,null,null,null,null,null,null,null,null,null,null,null,null,null,null,null,null,null,null,null,null,null,null,null,null,null,null,"--",""]
[null,null,null,null,"","","",null,null,null,null,null,null,null,null,null,null,null,null,null,null,null,null,null,null,null,null,null,null,null,null,null,null,null,null,"--",""]
[null,null,null,null,"","","",null,null,null,null,null,null,null,null,null,null,null,null,null,null,null,null,null,null,null,null,null,null,null,null,null,null,null,null,"--",""]
[null,null,null,null,"","","",null,null,null,null,null,null,null,null,null,null,null,null,null,null,null,null,null,null,null,null,null,null,null,null,null,null,null,null,"--",""]
[null,null,null,null,"","","",null,null,null,null,null,null,null,null,null,null,null,null,null,null,null,null,null,null,null,null,null,null,null,null,null,null,null,null,"--",""]
[null,null,null,null,"","","",null,null,null,null,null,null,null,null,null,null,null,null,null,null,null,null,null,null,null,null,null,null,null,null,null,null,null,null,"--",""]
[null,null,null,null,"","","",null,null,null,null,null,null,null,null,null,null,null,null,null,null,null,null,null,null,null,null,null,null,null,null,null,null,null,null,"--",""]
[null,null,null,null,"","","",null,null,null,null,null,null,null,null,null,null,null,null,null,null,null,null,null,null,null,null,null,null,null,null,null,null,null,null,"--",""]
[null,null,null,null,"","","",null,null,null,null,null,null,null,null,null,null,null,null,null,null,null,null,null,null,null,null,null,null,null,null,null,null,null,null,"--",""]
[null,null,null,null,"","","",null,null,null,null,null,null,null,null,null,null,null,null,null,null,null,null,null,null,null,null,null,null,null,null,null,null,null,null,"--",""]
[null,null,null,null,"","","",null,null,null,null,null,null,null,null,null,null,null,null,null,null,null,null,null,null,null,null,null,null,null,null,null,null,null,null,"--",""]
[null,null,null,null,"","","",null,null,null,null,null,null,null,null,null,null,null,null,null,null,null,null,null,null,null,null,null,null,null,null,null,null,null,null,"--",""]
[null,null,null,null,"","","",null,null,null,null,null,null,null,null,null,null,null,null,null,null,null,null,null,null,null,null,null,null,null,null,null,null,null,null,"--",""]
[null,null,null,null,"","","",null,null,null,null,null,null,null,null,null,null,null,null,null,null,null,null,null,null,null,null,null,null,null,null,null,null,null,null,"--",""]
[null,null,null,null,"","","",null,null,null,null,null,null,null,null,null,null,null,null,null,null,null,null,null,null,null,null,null,null,null,null,null,null,null,null,"--",""]
[null,null,null,null,"","","",null,null,null,null,null,null,null,null,null,null,null,null,null,null,null,null,null,null,null,null,null,null,null,null,null,null,null,null,"--",""]
[null,null,null,null,"","","",null,null,null,null,null,null,null,null,null,null,null,null,null,null,null,null,null,null,null,null,null,null,null,null,null,null,null,null,"--",""]
[null,null,null,null,"","","",null,null,null,null,null,null,null,null,null,null,null,null,null,null,null,null,null,null,null,null,null,null,null,null,null,null,null,null,"--",""]
[null,null,null,null,"","","",null,null,null,null,null,null,null,null,null,null,null,null,null,null,null,null,null,null,null,null,null,null,null,null,null,null,null,null,"--",""]
[null,null,null,null,"","","",null,null,null,null,null,null,null,null,null,null,null,null,null,null,null,null,null,null,null,null,null,null,null,null,null,null,null,null,"--",""]
[null,null,null,null,"","","",null,null,null,null,null,null,null,null,null,null,null,null,null,null,null,null,null,null,null,null,null,null,null,null,null,null,null,null,"--",""]
[null,null,null,null,"","","",null,null,null,null,null,null,null,null,null,null,null,null,null,null,null,null,null,null,null,null,null,null,null,null,null,null,null,null,"--",""]
[null,null,null,null,"","","",null,null,null,null,null,null,null,null,null,null,null,null,null,null,null,null,null,null,null,null,null,null,null,null,null,null,null,null,"--",""]
[null,null,null,null,"","","",null,null,null,null,null,null,null,null,null,null,null,null,null,null,null,null,null,null,null,null,null,null,null,null,null,null,null,null,"--",""]
[null,null,null,null,"","","",null,null,null,null,null,null,null,null,null,null,null,null,null,null,null,null,null,null,null,null,null,null,null,null,null,null,null,null,"--",""]
[null,null,null,null,"","","",null,null,null,null,null,null,null,null,null,null,null,null,null,null,null,null,null,null,null,null,null,null,null,null,null,null,null,null,"--",""]
[null,null,null,null,"","","",null,null,null,null,null,null,null,null,null,null,null,null,null,null,null,null,null,null,null,null,null,null,null,null,null,null,null,null,"--",""]
[null,null,null,null,"","","",null,null,null,null,null,null,null,null,null,null,null,null,null,null,null,null,null,null,null,null,null,null,null,null,null,null,null,null,"--",""]
[null,null,null,null,"","","",null,null,null,null,null,null,null,null,null,null,null,null,null,null,null,null,null,null,null,null,null,null,null,null,null,null,null,null,"--",""]
[null,null,null,null,"","","",null,null,null,null,null,null,null,null,null,null,null,null,null,null,null,null,null,null,null,null,null,null,null,null,null,null,null,null,"--",""]
[null,null,null,null,"","","",null,null,null,null,null,null,null,null,null,null,null,null,null,null,null,null,null,null,null,null,null,null,null,null,null,null,null,null,"--",""]
[null,null,null,null,"","","",null,null,null,null,null,null,null,null,null,null,null,null,null,null,null,null,null,null,null,null,null,null,null,null,null,null,null,null,"--",""]
[null,null,null,null,"","","",null,null,null,null,null,null,null,null,null,null,null,null,null,null,null,null,null,null,null,null,null,null,null,null,null,null,null,null,"--",""]
[null,null,null,null,"","","",null,null,null,null,null,null,null,null,null,null,null,null,null,null,null,null,null,null,null,null,null,null,null,null,null,null,null,null,"--",""]
[null,null,null,null,"","","",null,null,null,null,null,null,null,null,null,null,null,null,null,null,null,null,null,null,null,null,null,null,null,null,null,null,null,null,"--",""]
[null,null,null,null,"","","",null,null,null,null,null,null,null,null,null,null,null,null,null,null,null,null,null,null,null,null,null,null,null,null,null,null,null,null,"--",""]
[null,null,null,null,"","","",null,null,null,null,null,null,null,null,null,null,null,null,null,null,null,null,null,null,null,null,null,null,null,null,null,null,null,null,"--",""]
[null,null,null,null,"","","",null,null,null,null,null,null,null,null,null,null,null,null,null,null,null,null,null,null,null,null,null,null,null,null,null,null,null,null,"--",""]
[null,null,null,null,"","","",null,null,null,null,null,null,null,null,null,null,null,null,null,null,null,null,null,null,null,null,null,null,null,null,null,null,null,null,"--",""]
[null,null,null,null,"","","",null,null,null,null,null,null,null,null,null,null,null,null,null,null,null,null,null,null,null,null,null,null,null,null,null,null,null,null,"--",""]
[null,null,null,null,"","","",null,null,null,null,null,null,null,null,null,null,null,null,null,null,null,null,null,null,null,null,null,null,null,null,null,null,null,null,"--",""]
[null,null,null,null,"","","",null,null,null,null,null,null,null,null,null,null,null,null,null,null,null,null,null,null,null,null,null,null,null,null,null,null,null,null,"--",""]
[null,null,null,null,"","","",null,null,null,null,null,null,null,null,null,null,null,null,null,null,null,null,null,null,null,null,null,null,null,null,null,null,null,null,"--",""]
[null,null,null,null,"","","",null,null,null,null,null,null,null,null,null,null,null,null,null,null,null,null,null,null,null,null,null,null,null,null,null,null,null,null,"--",""]
[null,null,null,null,"","","",null,null,null,null,null,null,null,null,null,null,null,null,null,null,null,null,null,null,null,null,null,null,null,null,null,null,null,null,"--",""]
[null,null,null,null,"","","",null,null,null,null,null,null,null,null,null,null,null,null,null,null,null,null,null,null,null,null,null,null,null,null,null,null,null,null,"--",""]
[null,null,null,null,"","","",null,null,null,null,null,null,null,null,null,null,null,null,null,null,null,null,null,null,null,null,null,null,null,null,null,null,null,null,"--",""]
[null,null,null,null,"","","",null,null,null,null,null,null,null,null,null,null,null,null,null,null,null,null,null,null,null,null,null,null,null,null,null,null,null,null,"--",""]
[null,null,null,null,{"$f":"IFERROR(IF(ISODD(MID(D261,13,1)),\"ذكر\",\"انثى\"),\"\")","v":""},{"$f":"IFERROR(DATE(IF(LEFT(D261,1)*1=3,20,19)&MID(D261,2,2),MID(D261,4,2),MID(D261,6,2)),\"\")","v":""},{"$f":"IFERROR(DATEDIF(F261,NOW(),\"y\"),\"\")","v":""},null,null,null,null,null,null,null,null,null,null,null,null,null,null,null,null,null,null,null,null,null,null,null,null,null,null,null,null,{"$f":"IF(AF261=\"معلم\",\"معلم اول\",IF(AF261=\"معلم اول\",\"معلم اول أ\",IF(AF261=\"معلم خبير\",\"كبير معلمين\",IF(AF261=\"معلم اول أ\",\"معلم خبير\",\"--\"))))","v":"--"},{"$f":"IF(AI261=\"\",\"\",DATE(YEAR(AI261)+5,MONTH(AI261),DAY(AI261)))","v":""}]
[null,null,null,null,"","","",null,null,null,null,null,null,null,null,null,null,null,null,null,null,null,null,null,null,null,null,null,null,null,null,null,null,null,null,"--",""]
[null,null,null,null,"","","",null,null,null,null,null,null,null,null,null,null,null,null,null,null,null,null,null,null,null,null,null,null,null,null,null,null,null,null,"--",""]
[null,null,null,null,"","","",null,null,null,null,null,null,null,null,null,null,null,null,null,null,null,null,null,null,null,null,null,null,null,null,null,null,null,null,"--",""]
[null,null,null,null,"","","",null,null,null,null,null,null,null,null,null,null,null,null,null,null,null,null,null,null,null,null,null,null,null,null,null,null,null,null,"--",""]
[null,null,null,null,"","","",null,null,null,null,null,null,null,null,null,null,null,null,null,null,null,null,null,null,null,null,null,null,null,null,null,null,null,null,"--",""]
[null,null,null,null,"","","",null,null,null,null,null,null,null,null,null,null,null,null,null,null,null,null,null,null,null,null,null,null,null,null,null,null,null,null,"--",""]
[null,null,null,null,"","","",null,null,null,null,null,null,null,null,null,null,null,null,null,null,null,null,null,null,null,null,null,null,null,null,null,null,null,null,"--",""]
[null,null,null,null,"","","",null,null,null,null,null,null,null,null,null,null,null,null,null,null,null,null,null,null,null,null,null,null,null,null,null,null,null,null,"--",""]
[null,null,null,null,"","","",null,null,null,null,null,null,null,null,null,null,null,null,null,null,null,null,null,null,null,null,null,null,null,null,null,null,null,null,"--",""]
[null,null,null,null,"","","",null,null,null,null,null,null,null,null,null,null,null,null,null,null,null,null,null,null,null,null,null,null,null,null,null,null,null,null,"--",""]
[null,null,null,null,"","","",null,null,null,null,null,null,null,null,null,null,null,null,null,null,null,null,null,null,null,null,null,null,null,null,null,null,null,null,"--",""]
[null,null,null,null,"","","",null,null,null,null,null,null,null,null,null,null,null,null,null,null,null,null,null,null,null,null,null,null,null,null,null,null,null,null,"--",""]
[null,null,null,null,"","","",null,null,null,null,null,null,null,null,null,null,null,null,null,null,null,null,null,null,null,null,null,null,null,null,null,null,null,null,"--",""]
[null,null,null,null,"","","",null,null,null,null,null,null,null,null,null,null,null,null,null,null,null,null,null,null,null,null,null,null,null,null,null,null,null,null,"--",""]
[null,null,null,null,"","","",null,null,null,null,null,null,null,null,null,null,null,null,null,null,null,null,null,null,null,null,null,null,null,null,null,null,null,null,"--",""]
[null,null,null,null,"","","",null,null,null,null,null,null,null,null,null,null,null,null,null,null,null,null,null,null,null,null,null,null,null,null,null,null,null,null,"--",""]
[null,null,null,null,"","","",null,null,null,null,null,null,null,null,null,null,null,null,null,null,null,null,null,null,null,null,null,null,null,null,null,null,null,null,"--",""]
[null,null,null,null,"","","",null,null,null,null,null,null,null,null,null,null,null,null,null,null,null,null,null,null,null,null,null,null,null,null,null,null,null,null,"--",""]
[null,null,null,null,"","","",null,null,null,null,null,null,null,null,null,null,null,null,null,null,null,null,null,null,null,null,null,null,null,null,null,null,null,null,"--",""]
[null,null,null,null,"","","",null,null,null,null,null,null,null,null,null,null,null,null,null,null,null,null,null,null,null,null,null,null,null,null,null,null,null,null,"--",""]
[null,null,null,null,"","","",null,null,null,null,null,null,null,null,null,null,null,null,null,null,null,null,null,null,null,null,null,null,null,null,null,null,null,null,"--",""]
[null,null,null,null,"","","",null,null,null,null,null,null,null,null,null,null,null,null,null,null,null,null,null,null,null,null,null,null,null,null,null,null,null,null,"--",""]
[null,null,null,null,"","","",null,null,null,null,null,null,null,null,null,null,null,null,null,null,null,null,null,null,null,null,null,null,null,null,null,null,null,null,"--",""]
[null,null,null,null,"","","",null,null,null,null,null,null,null,null,null,null,null,null,null,null,null,null,null,null,null,null,null,null,null,null,null,null,null,null,"--",""]
[null,null,null,null,"","","",null,null,null,null,null,null,null,null,null,null,null,null,null,null,null,null,null,null,null,null,null,null,null,null,null,null,null,null,"--",""]
[null,null,null,null,"","","",null,null,null,null,null,null,null,null,null,null,null,null,null,null,null,null,null,null,null,null,null,null,null,null,null,null,null,null,"--",""]
[null,null,null,null,"","","",null,null,null,null,null,null,null,null,null,null,null,null,null,null,null,null,null,null,null,null,null,null,null,null,null,null,null,null,"--",""]
[null,null,null,null,"","","",null,null,null,null,null,null,null,null,null,null,null,null,null,null,null,null,null,null,null,null,null,null,null,null,null,null,null,null,"--",""]
[null,null,null,null,"","","",null,null,null,null,null,null,null,null,null,null,null,null,null,null,null,null,null,null,null,null,null,null,null,null,null,null,null,null,"--",""]
[null,null,null,null,"","","",null,null,null,null,null,null,null,null,null,null,null,null,null,null,null,null,null,null,null,null,null,null,null,null,null,null,null,null,"--",""]
[null,null,null,null,"","","",null,null,null,null,null,null,null,null,null,null,null,null,null,null,null,null,null,null,null,null,null,null,null,null,null,null,null,null,"--",""]
[null,null,null,null,"","","",null,null,null,null,null,null,null,null,null,null,null,null,null,null,null,null,null,null,null,null,null,null,null,null,null,null,null,null,"--",""]
[null,null,null,null,"","","",null,null,null,null,null,null,null,null,null,null,null,null,null,null,null,null,null,null,null,null,null,null,null,null,null,null,null,null,"--",""]
[null,null,null,null,"","","",null,null,null,null,null,null,null,null,null,null,null,null,null,null,null,null,null,null,null,null,null,null,null,null,null,null,null,null,"--",""]
[null,null,null,null,"","","",null,null,null,null,null,null,null,null,null,null,null,null,null,null,null,null,null,null,null,null,null,null,null,null,null,null,null,null,"--",""]
[null,null,null,null,"","","",null,null,null,null,null,null,null,null,null,null,null,null,null,null,null,null,null,null,null,null,null,null,null,null,null,null,null,null,"--",""]
[null,null,null,null,"","","",null,null,null,null,null,null,null,null,null,null,null,null,null,null,null,null,null,null,null,null,null,null,null,null,null,null,null,null,"--",""]
[null,null,null,null,"","","",null,null,null,null,null,null,null,null,null,null,null,null,null,null,null,null,null,null,null,null,null,null,null,null,null,null,null,null,"--",""]
[null,null,null,null,"","","",null,null,null,null,null,null,null,null,null,null,null,null,null,null,null,null,null,null,null,null,null,null,null,null,null,null,null,null,"--",""]
[null,null,null,null,"","","",null,null,null,null,null,null,null,null,null,null,null,null,null,null,null,null,null,null,null,null,null,null,null,null,null,null,null,null,"--",""]
[null,null,null,null,"","","",null,null,null,null,null,null,null,null,null,null,null,null,null,null,null,null,null,null,null,null,null,null,null,null,null,null,null,null,"--",""]
[null,null,null,null,"","","",null,null,null,null,null,null,null,null,null,null,null,null,null,null,null,null,null,null,null,null,null,null,null,null,null,null,null,null,"--",""]
[null,null,null,null,"","","",null,null,null,null,null,null,null,null,null,null,null,null,null,null,null,null,null,null,null,null,null,null,null,null,null,null,null,null,"--",""]
[null,null,null,null,{"$f":"IFERROR(IF(ISODD(MID(D305,13,1)),\"ذكر\",\"انثى\"),\"\")","v":""},{"$f":"IFERROR(DATE(IF(LEFT(D305,1)*1=3,20,19)&MID(D305,2,2),MID(D305,4,2),MID(D305,6,2)),\"\")","v":""},{"$f":"IFERROR(DATEDIF(F305,NOW(),\"y\"),\"\")","v":""}]
[null,null,null,null,"","",""]
[null,null,null,null,"","",""]
[null,null,null,null,"","",""]
[null,null,null,null,"","",""]
[null,null,null,null,"","",""]
[null,null,null,null,"","",""]
[null,null,null,null,"","",""]
[null,null,null,null,"","",""]
[null,null,null,null,"","",""]
[null,null,null,null,"","",""]
[null,null,null,null,"","",""]
[null,null,null,null,"","",""]
[null,null,null,null,"","",""]
[null,null,null,null,"","",""]
[null,null,null,null,"","",""]
[null,null,null,null,"","",""]
[null,null,null,null,"","",""]
[null,null,null,null,"","",""]
[null,null,null,null,"","",""]
[null,null,null,null,"","",""]
[null,null,null,null,"","",""]
[null,null,null,null,"","",""]
[null,null,null,null,"","",""]
[null,null,null,null,"","",""]
[null,null,null,null,"","",""]
[null,null,null,null,"","",""]
[null,null,null,null,"","",""]
[null,null,null,null,"","",""]
[null,null,null,null,"","",""]
[null,null,null,null,"","",""]
[null,null,null,null,{"$f":"IFERROR(IF(ISODD(MID(D336,13,1)),\"ذكر\",\"انثى\"),\"\")","v":""},{"$f":"IFERROR(DATE(IF(LEFT(D336,1)*1=3,20,19)&MID(D336,2,2),MID(D336,4,2),MID(D336,6,2)),\"\")","v":""},{"$f":"IFERROR(DATEDIF(F336,NOW(),\"y\"),\"\")","v":""}]
[null,null,null,null,"","",""]
[null,null,null,null,"","",""]
[null,null,null,null,"","",""]
[null,null,null,null,"","",""]
[null,null,null,null,"","",""]
[null,null,null,null,"","",""]
[null,null,null,null,"","",""]
[null,null,null,null,"","",""]
[null,null,null,null,"","",""]
[null,null,null,null,"","",""]
[null,null,null,null,"","",""]
[null,null,null,null,"","",""]
[null,null,null,null,"","",""]
[null,null,null,null,"","",""]
[null,null,null,null,"","",""]
[null,null,null,null,"","",""]
[null,null,null,null,"","",""]
[null,null,null,null,"","",""]
[null,null,null,null,"","",""]
[null,null,null,null,"","",""]
[null,null,null,null,"","",""]
[null,null,null,null,"","",""]
[null,null,null,null,"","",""]
[null,null,null,null,"","",""]
[null,null,null,null,"","",""]
[null,null,null,null,"","",""]
[null,null,null,null,"","",""]
[null,null,null,null,"","",""]
[null,null,null,null,"","",""]
[null,null,null,null,"","",""]
[null,null,null,null,"","",""]
[null,null,null,null,"","",""]
[null,null,null,null,"","",""]
[null,null,null,null,"","",""]
[null,null,null,null,"","",""]
[null,null,null,null,"","",""]
[null,null,null,null,"","",""]
[null,null,null,null,"","",""]
[null,null,null,null,"","",""]
[null,null,null,null,"","",""]
[null,null,null,null,"","",""]
[null,null,null,null,"","",""]
[null,null,null,null,"","",""]
[null,null,null,null,"","",""]
[null,null,null,null,"","",""]
[null,null,null,null,"","",""]
[null,null,null,null,"","",""]
[null,null,null,null,"","",""]
[null,null,null,null,"","",""]
[null,null,null,null,"","",""]
[null,null,null,null,"","",""]
[null,null,null,null,"","",""]
[null,null,null,null,"","",""]
[null,null,null,null,"","",""]
[null,null,null,null,"","",""]
[null,null,null,null,"","",""]
[null,null,null,null,"","",""]
[null,null,null,null,"","",""]
[null,null,null,null,"","",""]
[null,null,null,null,"","",""]
[null,null,null,null,"","",""]
[null,null,null,null,"","",""]
[null,null,null,null,"","",""]
[null,null,null,null,{"$f":"IFERROR(IF(ISODD(MID(D400,13,1)),\"ذكر\",\"انثى\"),\"\")","v":""},{"$f":"IFERROR(DATE(IF(LEFT(D400,1)*1=3,20,19)&MID(D400,2,2),MID(D400,4,2),MID(D400,6,2)),\"\")","v":""},{"$f":"IFERROR(DATEDIF(F400,NOW(),\"y\"),\"\")","v":""}]
[null,null,null,null,"","",""]
[null,null,null,null,"","",""]
[null,null,null,null,"","",""]
[null,null,null,null,"","",""]
[null,null,null,null,"","",""]
[null,null,null,null,"","",""]
[null,null,null,null,"","",""]
[null,null,null,null,"","",""]
[null,null,null,null,"","",""]
[null,null,null,null,"","",""]
[null,null,null,null,"","",""]
[null,null,null,null,"","",""]
[null,null,null,null,"","",""]
[null,null,null,null,"","",""]
[null,null,null,null,"","",""]
[null,null,null,null,"","",""]
[null,null,null,null,"","",""]
[null,null,null,null,"","",""]
[null,null,null,null,"","",""]
[null,null,null,null,"","",""]
[null,null,null,null,"","",""]
[null,null,null,null,"","",""]
[null,null,null,null,"","",""]
[null,null,null,null,"","",""]
[null,null,null,null,"","",""]
[null,null,null,null,"","",""]
[null,null,null,null,"","",""]
[null,null,null,null,"","",""]
[null,null,null,null,"","",""]
[null,null,null,null,"","",""]
[null,null,null,null,"","",""]
[null,null,null,null,"","",""]
[null,null,null,null,"","",""]
[null,null,null,null,"","",""]
[null,null,null,null,"","",""]
[null,null,null,null,"","",""]
[null,null,null,null,"","",""]
[null,null,null,null,"","",""]
[null,null,null,null,"","",""]
[null,null,null,null,"","",""]
[null,null,null,null,"","",""]
[null,null,null,null,"","",""]
[null,null,null,null,"","",""]
[null,null,null,null,"","",""]
[null,null,null,null,"","",""]
[null,null,null,null,"","",""]
[null,null,null,null,"","",""]
[null,null,null,null,"","",""]
[null,null,null,null,"","",""]
[null,null,null,null,"","",""]
[null,null,null,null,"","",""]
[null,null,null,null,"","",""]
[null,null,null,null,"","",""]
[null,null,null,null,"","",""]
[null,null,null,null,"","",""]
[null,null,null,null,"","",""]
[null,null,null,null,"","",""]
[null,null,null,null,"","",""]
[null,null,null,null,"","",""]
[null,null,null,null,"","",""]
[null,null,null,null,"","",""]
[null,null,null,null,"","",""]
[null,null,null,null,"","",""]
[null,null,null,null,{"$f":"IFERROR(IF(ISODD(MID(D464,13,1)),\"ذكر\",\"انثى\"),\"\")","v":""},{"$f":"IFERROR(DATE(IF(LEFT(D464,1)*1=3,20,19)&MID(D464,2,2),MID(D464,4,2),MID(D464,6,2)),\"\")","v":""},{"$f":"IFERROR(DATEDIF(F464,NOW(),\"y\"),\"\")","v":""}]
[null,null,null,null,"","",""]
[null,null,null,null,"","",""]
[null,null,null,null,"","",""]
[null,null,null,null,"","",""]
[null,null,null,null,"","",""]
[null,null,null,null,"","",""]
[null,null,null,null,"","",""]
[null,null,null,null,"","",""]
[null,null,null,null,"","",""]
[null,null,null,null,"","",""]
[null,null,null,null,"","",""]
[null,null,null,null,"","",""]
[null,null,null,null,"","",""]
[null,null,null,null,"","",""]
[null,null,null,null,"","",""]
[null,null,null,null,"","",""]
[null,null,null,null,"","",""]
[null,null,null,null,"","",""]
[null,null,null,null,"","",""]
[null,null,null,null,"","",""]
[null,null,null,null,"","",""]
[null,null,null,null,"","",""]
[null,null,null,null,"","",""]
[null,null,null,null,"","",""]
[null,null,null,null,"","",""]
[null,null,null,null,"","",""]
[null,null,null,null,"","",""]
[null,null,null,null,"","",""]
[null,null,null,null,"","",""]
[null,null,null,null,"","",""]
[null,null,null,null,"","",""]
[null,null,null,null,"","",""]
[null,null,null,null,"","",""]
[null,null,null,null,"","",""]
[null,null,null,null,"","",""]
[null,null,null,null,"","",""]
[null,null,null,null,"","",""]
[null,null,null,null,"","",""]
[null,null,null,null,"","",""]
[null,null,null,null,"","",""]
[null,null,null,null,"","",""]
[null,null,null,null,"","",""]
[null,null,null,null,"","",""]
[null,null,null,null,"","",""]
[null,null,null,null,"","",""]
[null,null,null,null,"","",""]
[null,null,null,null,"","",""]
[null,null,null,null,"","",""]
[null,null,null,null,"","",""]
[null,null,null,null,"","",""]
[null,null,null,null,"","",""]
[null,null,null,null,"","",""]
[null,null,null,null,"","",""]
[null,null,null,null,"","",""]
[null,null,null,null,"","",""]
[null,null,null,null,"","",""]
[null,null,null,null,"","",""]
[null,null,null,null,"","",""]
[null,null,null,null,"","",""]
[null,null,null,null,"","",""]
[null,null,null,null,"","",""]
[null,null,null,null,"","",""]
[null,null,null,null,"","",""]
[null,null,null,null,{"$f":"IFERROR(IF(ISODD(MID(D528,13,1)),\"ذكر\",\"انثى\"),\"\")","v":""},{"$f":"IFERROR(DATE(IF(LEFT(D528,1)*1=3,20,19)&MID(D528,2,2),MID(D528,4,2),MID(D528,6,2)),\"\")","v":""},{"$f":"IFERROR(DATEDIF(F528,NOW(),\"y\"),\"\")","v":""}]
[null,null,null,null,"","",""]
[null,null,null,null,"","",""]
[null,null,null,null,"","",""]
[null,null,null,null,"","",""]
[null,null,null,null,"","",""]
[null,null,null,null,"","",""]
[null,null,null,null,"","",""]
[null,null,null,null,"","",""]
[null,null,null,null,"","",""]
[null,null,null,null,"","",""]
[null,null,null,null,"","",""]
[null,null,null,null,"","",""]
[null,null,null,null,"","",""]
[null,null,null,null,"","",""]
[null,null,null,null,"","",""]
[null,null,null,null,"","",""]
[null,null,null,null,"","",""]
[null,null,null,null,"","",""]
[null,null,null,null,"","",""]
[null,null,null,null,"","",""]
[null,null,null,null,"","",""]
[null,null,null,null,"","",""]
[null,null,null,null,"","",""]
[null,null,null,null,"","",""]
[null,null,null,null,"","",""]
[null,null,null,null,"","",""]
[null,null,null,null,"","",""]
[null,null,null,null,"","",""]
[null,null,null,null,"","",""]
[null,null,null,null,"","",""]
[null,null,null,null,"","",""]
[null,null,null,null,"","",""]
[null,null,null,null,"","",""]
[null,null,null,null,"","",""]
[null,null,null,null,"","",""]
[null,null,null,null,"","",""]
[null,null,null,null,"","",""]
[null,null,null,null,"","",""]
[null,null,null,null,"","",""]
[null,null,null,null,"","",""]
[null,null,null,null,"","",""]
[null,null,null,null,"","",""]
[null,null,null,null,"","",""]
[null,null,null,null,"","",""]
[null,null,null,null,"","",""]
[null,null,null,null,"","",""]
[null,null,null,null,"","",""]
[null,null,null,null,"","",""]
[null,null,null,null,"","",""]
[null,null,null,null,"","",""]
[null,null,null,null,"","",""]
[null,null,null,null,"","",""]
[null,null,null,null,"","",""]
[null,null,null,null,"","",""]
[null,null,null,null,"","",""]
[null,null,null,null,"","",""]
[null,null,null,null,"","",""]
[null,null,null,null,"","",""]
[null,null,null,null,"","",""]
[null,null,null,null,"","",""]
[null,null,null,null,"","",""]
[null,null,null,null,"","",""]
[null,null,null,null,"","",""]
[null,null,null,null,{"$f":"IFERROR(IF(ISODD(MID(D592,13,1)),\"ذكر\",\"انثى\"),\"\")","v":""},{"$f":"IFERROR(DATE(IF(LEFT(D592,1)*1=3,20,19)&MID(D592,2,2),MID(D592,4,2),MID(D592,6,2)),\"\")","v":""},{"$f":"IFERROR(DATEDIF(F592,NOW(),\"y\"),\"\")","v":""}]
[null,null,null,null,"","",""]
[null,null,null,null,"","",""]
[null,null,null,null,"","",""]
[null,null,null,null,"","",""]
[null,null,null,null,"","",""]
[null,null,null,null,"","",""]
[null,null,null,null,"","",""]
[null,null,null,null,"","",""]
[null,null,null,null,"","",""]
[null,null,null,null,"","",""]
[null,null,null,null,"","",""]
[null,null,null,null,"","",""]
[null,null,null,null,"","",""]
[null,null,null,null,"","",""]
[null,null,null,null,"","",""]
[null,null,null,null,"","",""]
[null,null,null,null,"","",""]
[null,null,null,null,"","",""]
[null,null,null,null,"","",""]
[null,null,null,null,"","",""]
[null,null,null,null,"","",""]
[null,null,null,null,"","",""]
[null,null,null,null,"","",""]
[null,null,null,null,"","",""]
[null,null,null,null,"","",""]
[null,null,null,null,"","",""]
[null,null,null,null,"","",""]
[null,null,null,null,"","",""]
[null,null,null,null,"","",""]
[null,null,null,null,"","",""]
[null,null,null,null,"","",""]
[null,null,null,null,"","",""]
[null,null,null,null,"","",""]
[null,null,null,null,"","",""]
[null,null,null,null,"","",""]
[null,null,null,null,"","",""]
[null,null,null,null,"","",""]
[null,null,null,null,"","",""]
[null,null,null,null,"","",""]
[null,null,null,null,"","",""]
[null,null,null,null,"","",""]
[null,null,null,null,"","",""]
[null,null,null,null,"","",""]
[null,null,null,null,"","",""]
[null,null,null,null,"","",""]
[null,null,null,null,"","",""]
[null,null,null,null,"","",""]
[null,null,null,null,"","",""]
[null,null,null,null,"","",""]
[null,null,null,null,"","",""]
[null,null,null,null,"","",""]
[null,null,null,null,"","",""]
[null,null,null,null,"","",""]
[null,null,null,null,"","",""]
[null,null,null,null,"","",""]
[null,null,null,null,"","",""]
[null,null,null,null,"","",""]
[null,null,null,null,"","",""]
[null,null,null,null,"","",""]
[null,null,null,null,"","",""]
[null,null,null,null,"","",""]
[null,null,null,null,"","",""]
[null,null,null,null,"","",""]
[null,null,null,null,{"$f":"IFERROR(IF(ISODD(MID(D656,13,1)),\"ذكر\",\"انثى\"),\"\")","v":""},{"$f":"IFERROR(DATE(IF(LEFT(D656,1)*1=3,20,19)&MID(D656,2,2),MID(D656,4,2),MID(D656,6,2)),\"\")","v":""},{"$f":"IFERROR(DATEDIF(F656,NOW(),\"y\"),\"\")","v":""}]
[null,null,null,null,"","",""]
[null,null,null,null,"","",""]
[null,null,null,null,"","",""]
[null,null,null,null,"","",""]
[null,null,null,null,"","",""]
[null,null,null,null,"","",""]
[null,null,null,null,"","",""]
[null,null,null,null,"","",""]
[null,null,null,null,"","",""]
[null,null,null,null,"","",""]
[null,null,null,null,"","",""]
[null,null,null,null,"","",""]
[null,null,null,null,"","",""]
[null,null,null,null,"","",""]
[null,null,null,null,"","",""]
[null,null,null,null,"","",""]
[null,null,null,null,"","",""]
[null,null,null,null,"","",""]
[null,null,null,null,"","",""]
[null,null,null,null,"","",""]
[null,null,null,null,"","",""]
[null,null,null,null,"","",""]
[null,null,null,null,"","",""]
[null,null,null,null,"","",""]
[null,null,null,null,"","",""]
[null,null,null,null,"","",""]
[null,null,null,null,"","",""]
[null,null,null,null,"","",""]
[null,null,null,null,"","",""]
[null,null,null,null,"","",""]
[null,null,null,null,"","",""]
[null,null,null,null,"","",""]
[null,null,null,null,"","",""]
[null,null,null,null,"","",""]
[null,null,null,null,"","",""]
[null,null,null,null,"","",""]
[null,null,null,null,"","",""]
[null,null,null,null,"","",""]
[null,null,null,null,"","",""]
[null,null,null,null,"","",""]
[null,null,null,null,"","",""]
[null,null,null,null,"","",""]
[null,null,null,null,"","",""]
[null,null,null,null,"","",""]
[null,null,null,null,"","",""]
[null,null,null,null,"","",""]
[null,null,null,null,"","",""]
[null,null,null,null,"","",""]
[null,null,null,null,"","",""]
[null,null,null,null,"","",""]
[null,null,null,null,"","",""]
[null,null,null,null,"","",""]
[null,null,null,null,"","",""]
[null,null,null,null,"","",""]
[null,null,null,null,"","",""]
[null,null,null,null,"","",""]
[null,null,null,null,"","",""]
[null,null,null,null,"","",""]
[null,null,null,null,"","",""]
[null,null,null,null,"","",""]
[null,null,null,null,"","",""]
[null,null,null,null,"","",""]
[null,null,null,null,"","",""]
[null,null,null,null,{"$f":"IFERROR(IF(ISODD(MID(D720,13,1)),\"ذكر\",\"انثى\"),\"\")","v":""},{"$f":"IFERROR(DATE(IF(LEFT(D720,1)*1=3,20,19)&MID(D720,2,2),MID(D720,4,2),MID(D720,6,2)),\"\")","v":""},{"$f":"IFERROR(DATEDIF(F720,NOW(),\"y\"),\"\")","v":""}]
[null,null,null,null,"","",""]
[null,null,null,null,"","",""]
[null,null,null,null,"","",""]
[null,null,null,null,"","",""]
[null,null,null,null,"","",""]
[null,null,null,null,"","",""]
[null,null,null,null,"","",""]
[null,null,null,null,"","",""]
[null,null,null,null,"","",""]
[null,null,null,null,"","",""]
[null,null,null,null,"","",""]
[null,null,null,null,"","",""]
[null,null,null,null,"","",""]
[null,null,null,null,"","",""]
[null,null,null,null,"","",""]
[null,null,null,null,"","",""]
[null,null,null,null,"","",""]
[null,null,null,null,"","",""]
[null,null,null,null,"","",""]
[null,null,null,null,"","",""]
[null,null,null,null,"","",""]
[null,null,null,null,"","",""]
[null,null,null,null,"","",""]
[null,null,null,null,"","",""]
[null,null,null,null,"","",""]
[null,null,null,null,"","",""]
[null,null,null,null,"","",""]
[null,null,null,null,"","",""]
[null,null,null,null,"","",""]
[null,null,null,null,"","",""]
[null,null,null,null,"","",""]
[null,null,null,null,"","",""]
[null,null,null,null,"","",""]
[null,null,null,null,"","",""]
[null,null,null,null,"","",""]
[null,null,null,null,"","",""]
[null,null,null,null,"","",""]
[null,null,null,null,"","",""]
[null,null,null,null,"","",""]
[null,null,null,null,"","",""]
[null,null,null,null,"","",""]
[null,null,null,null,"","",""]
[null,null,null,null,"","",""]
[null,null,null,null,"","",""]
[null,null,null,null,"","",""]
[null,null,null,null,"","",""]
[null,null,null,null,"","",""]
[null,null,null,null,"","",""]
[null,null,null,null,"","",""]
[null,null,null,null,"","",""]
[null,null,null,null,"","",""]
[null,null,null,null,"","",""]
[null,null,null,null,"","",""]
[null,null,null,null,"","",""]
[null,null,null,null,"","",""]
[null,null,null,null,"","",""]
[null,null,null,null,"","",""]
[null,null,null,null,"","",""]
[null,null,null,null,"","",""]
[null,null,null,null,"","",""]
[null,null,null,null,"","",""]
[null,null,null,null,"","",""]
[null,null,null,null,"","",""]
[null,null,null,null,{"$f":"IFERROR(IF(ISODD(MID(D784,13,1)),\"ذكر\",\"انثى\"),\"\")","v":""},{"$f":"IFERROR(DATE(IF(LEFT(D784,1)*1=3,20,19)&MID(D784,2,2),MID(D784,4,2),MID(D784,6,2)),\"\")","v":""},{"$f":"IFERROR(DATEDIF(F784,NOW(),\"y\"),\"\")","v":""}]
[null,null,null,null,"","",""]
[null,null,null,null,"","",""]
[null,null,null,null,"","",""]
[null,null,null,null,"","",""]
[null,null,null,null,"","",""]
[null,null,null,null,"","",""]
[null,null,null,null,"","",""]
[null,null,null,null,"","",""]
[null,null,null,null,"","",""]
[null,null,null,null,"","",""]
[null,null,null,null,"","",""]
[null,null,null,null,"","",""]
[null,null,null,null,"","",""]
[null,null,null,null,"","",""]
[null,null,null,null,"","",""]
[null,null,null,null,"","",""]
[null,null,null,null,"","",""]
[null,null,null,null,"","",""]
[null,null,null,null,"","",""]
[null,null,null,null,"","",""]
[null,null,null,null,"","",""]
[null,null,null,null,"","",""]
[null,null,null,null,"","",""]
[null,null,null,null,"","",""]
[null,null,null,null,"","",""]
[null,null,null,null,"","",""]
[null,null,null,null,"","",""]
[null,null,null,null,"","",""]
[null,null,null,null,"","",""]
[null,null,null,null,"","",""]
[null,null,null,null,"","",""]
[null,null,null,null,"","",""]
[null,null,null,null,"","",""]
[null,null,null,null,"","",""]
[null,null,null,null,"","",""]
[null,null,null,null,"","",""]
[null,null,null,null,"","",""]
[null,null,null,null,"","",""]
[null,null,null,null,"","",""]
[null,null,null,null,"","",""]
[null,null,null,null,"","",""]
[null,null,null,null,"","",""]
[null,null,null,null,"","",""]
[null,null,null,null,"","",""]
[null,null,null,null,"","",""]
[null,null,null,null,"","",""]
[null,null,null,null,"","",""]
[null,null,null,null,"","",""]
[null,null,null,null,"","",""]
[null,null,null,null,"","",""]
[null,null,null,null,"","",""]
[null,null,null,null,"","",""]
[null,null,null,null,"","",""]
[null,null,null,null,"","",""]
[null,null,null,null,"","",""]
[null,null,null,null,"","",""]
[null,null,null,null,"","",""]
[null,null,null,null,"","",""]
[null,null,null,null,"","",""]
[null,null,null,null,"","",""]
[null,null,null,null,"","",""]
[null,null,null,null,"","",""]
[null,null,null,null,"","",""]
[null,null,null,null,{"$f":"IFERROR(IF(ISODD(MID(D848,13,1)),\"ذكر\",\"انثى\"),\"\")","v":""},{"$f":"IFERROR(DATE(IF(LEFT(D848,1)*1=3,20,19)&MID(D848,2,2),MID(D848,4,2),MID(D848,6,2)),\"\")","v":""},{"$f":"IFERROR(DATEDIF(F848,NOW(),\"y\"),\"\")","v":""}]
[null,null,null,null,"","",""]
[null,null,null,null,"","",""]
[null,null,null,null,"","",""]
[null,null,null,null,"","",""]
[null,null,null,null,"","",""]
[null,null,null,null,"","",""]
[null,null,null,null,"","",""]
[null,null,null,null,"","",""]
[null,null,null,null,"","",""]
[null,null,null,null,"","",""]
[null,null,null,null,"","",""]
[null,null,null,null,"","",""]
[null,null,null,null,"","",""]
[null,null,null,null,"","",""]
[null,null,null,null,"","",""]
[null,null,null,null,"","",""]
[null,null,null,null,"","",""]
[null,null,null,null,"","",""]
[null,null,null,null,"","",""]
[null,null,null,null,"","",""]
[null,null,null,null,"","",""]
[null,null,null,null,"","",""]
[null,null,null,null,"","",""]
[null,null,null,null,"","",""]
[null,null,null,null,"","",""]
[null,null,null,null,"","",""]
[null,null,null,null,"","",""]
[null,null,null,null,"","",""]
[null,null,null,null,"","",""]
[null,null,null,null,"","",""]
[null,null,null,null,"","",""]
[null,null,null,null,"","",""]
[null,null,null,null,"","",""]
[null,null,null,null,"","",""]
[null,null,null,null,"","",""]

{"sheet":"Final","index":10,"n_rows":884,"n_cols":40,"rows_kept":884,"cut":false,"hidden":false,"merged":[]}
[]
[1]
["م","السجل","الاسم","الرقم القومي","النوع","تاريخ الميلاد","السن","الموقف من التجنيد","العنوان","التليفون","الرقم التأميني","المؤهل","قرار التعيين","تاريخ التعيين","الاعتبارية","المباشرة لاول مرة","تاريخ المباشرة بالمعهد","اصلى / منتدب","تاريخ الانقطاع","تاريخ العودة","الموقف من العمل","المعاهد التي عمل بها","الصف الدراسى","الوظيفة","الدرجة المالية","مادرة التدريس الحالية",2019,2020,"الجزاءات","كود المعلم","كلمة سر الكادر","الدرجة على الكادر","التخصص حسب الكادر","رقم قرارالدرجة","تاريخ الدرجة","الدرجة المنتظرة ","تاريخ الدرجة المنتظرة","الوظيفة 2","فئة الوظيفة","ملاحظات"]
[]
[1,273665,"محمد جمعه حسين إبراهيم",27105060100959,"ذكر","1971-05-06",49,null,"مساكن إيديال- الشرابية -القاهرة","01141171205",null,"ب.خدمة إجتماعية 93",null,"2002-09-04",null,"2002-09-04",null,"اصلى",null,null,"على رأس العمل",null,null,"معلم قران كريم","الثانية التخصصية 2014","قران كريم",null,null,null,null,null,"معلم","قران كريم",1488,"2015-07-30","معلم اول","2020-07-30",null,"dfg"]
[2,362845,"طارق عبدالحكيم عبدالسيد توفيق",27411070100152,"ذكر","1974-11-07",45,"ادى الخدمة","جروان-الباجور- منوفية","01008687342",null,"ل.شريعة وقانون 95",null,"2012-05-07",null,"2007-02-01",null,"اصلى",null,null,"على رأس العمل",null,null,"معلم قران كريم","الثانية التخصصية 2018","قران كريم",null,null,null,null,null,"معلم اول","قران كريم",1499,"2018-10-22","معلم اول أ","2023-10-22",null,"dfg"]
[3,362961,"محمد عبد الحميد محمد عبدالحميد",27708261401198,"ذكر","1977-08-26",42,"معافى نهائى","إمياي- طوخ - قليوبية",1555500779,null,"ل-اصول الدين2001",null,"2012-05-07",null,"2007-04-03",null,"منتدب",null,null,"على رأس العمل",null,null,"معلم قران كريم","الثانية التخصصية 2018","قران كريم",null,null,null,null,null,"معلم اول","قران كريم",1499,"2018-10-22","معلم اول أ","2023-10-22",null,"dfg"]
[4,362953,"شيرين محمد عبدالسميع على ",27605202400249,"انثى","1976-05-20",44,null,"الحى الأول 166-الشرق - القاهرة .","01281182603",null,"ل.د.إسلامية وعربية 99",null,"2012-05-07",null,"2007-02-01",null,"اصلى",null,null,"على رأس العمل",null,null,"معلم قران كريم","الثانية التخصصية 2018","قران كريم",null,null,null,null,null,"معلم اول","قران كريم",1499,"2018-10-24","معلم اول أ","2023-10-24",null,"aaas"]
[5,363040,"هناء محمود عبدالعزيز البرص",27810301401004,"انثى","1978-10-30",41,null,"مساكن دمنهور- شبرا الخيمة - قليوبية","01277374985",null,"ل.د.إسلامية وعربية 2000",null,"2012-05-07",null,"2007-02-01",null,"اصلى",null,null,"على رأس العمل",null,null,"معلم قران كريم","الثانية التخصصية 2018","قران كريم",null,null,null,null,null,"معلم اول","قران كريم",1499,null,"معلم اول أ","",null,"dfgsw"]
[6,362805,"صباح حافظ على على ",27402241401041,"انثى","1974-02-24",46,null,"24ش ورشة البلاط-الفرنوانى -شبرا الخيمة","01149003895",null,"ل.أصول دين 96",null,"2012-05-07",null,"2007-02-01",null,"اصلى",null,null,"على رأس العمل",null,null,"معلم قران كريم","الثانية التخصصية 2018","قران كريم",null,null,null,null,null,"معلم اول","قران كريم",1499,"2018-10-26","معلم اول أ","2023-10-26"]
[7,363014,"جيهان جوده السيد أحمد ",27404051400808,"انثى","1974-04-05",46,null,"8ش محمد فيضى- الشرقاوية- شبرا الخيمة",1227105071,null,"ل.د.إسلامية 96",null,"2012-05-07",null,"2007-02-01",null,"اصلى",null,null,"على رأس العمل",null,null,"معلم قران كريم"," الثالثة التخصصية2007","قران كريم",null,null,null,null,null,"معلم اول","قران كريم",null,null,"معلم اول أ",""]
[8,268424,"محمد محمود محمد رشدى",27708300101431,"ذكر","1977-08-30",42,null,"18ش -أحمد خليل-الزاوية الحمراء-القاهرة","011505074071",null,"د.صنايع 95",null,"2002-09-04",null,"2003-01-01",null,"اصلى",null,null,"على رأس العمل",null,null,"معلم قران كريم","الثالثة الفنية 2008","قران كريم",null,null,null,null,null,"محفظ","قران كريم",null,null,"--",""]
[9,363796,"لوزة السيد إسماعيل مصطفى",26402201202808,"انثى","1964-02-20",56,null,"الشيخ زايد-الحى الحادى عشر- 6أكتوبر","01063346364",null,"دبلوم تجاره1984",null,"2012-05-07",null,"2007-02-01",null,"اصلى",null,null,"على رأس العمل",null,null,"معلم قران كريم","الرابعة الفنية"," لغة عربية",null,null,null,null,null,"محفظ","قران كريم",null,null,"--",""]
[10,373850,"راشا عبدالمنطلب عبدالمتجلى السيد",27707211400461,"انثى","1977-07-21",43,null,"مساكن إيديال- الشرابية -القاهرة","01141171205",null,"ل.د.إسلامية  2000",null,"2002-09-04",null,"2002-09-04",null,"اصلى",null,null,"على رأس العمل",null,null,"شيخ معهد","الثانية التخصصية 2014 ",null,null,null,null,null,null,"معلم اول أ","مواد شرعية ",null,null,"معلم خبير",""]
[11,95124,"عزة مصطفى كمال محمد حسنين",26107210101303,"انثى","1961-07-21",59,null,"21ش الأميرعزالدين- بولاق أبوالعلا-القاهرة","01146138044",null,"ل. دراسات إنسانية 86",null,"1991-01-20",null,"1991-09-22",null,"اصلى",null,null,"على رأس العمل",null,null,"معلم","الاولى التخصصية"," لغة عربية",null,null,null,null,null,"كبير معلمين","لغة عربية",null,null,"--",""]
[12,140158,"هدى إسماعيل محمد محمود",26107210101303,"انثى","1961-07-21",59,null,"21ش الأميرعزالدين- بولاق أبوالعلا-القاهرة","01146138044",null,"ل. دراسات إنسانية 86",null,"1991-01-20",null,"1991-09-22",null,"اصلى",null,null,"على رأس العمل",null,null,"وكيل معهد","الاولى التخصصية"," لغة عربية",null,null,null,null,null,"كبير معلمين","لغة عربية",null,null,"--",""]
[13,188425,"رضا حسين عبدالعزيزعبدالحميد",26305130103565,"انثى","1963-05-13",57,null,"حارة العطار-ش جسرالبحر- الساحل- القاهرة","01271694489",null,"ل.د.إسلامية وعربية 93",null,"1995-10-18",null,"1996-02-06",null,"اصلى",null,null,"على رأس العمل",null,null,"معلم لغة عربية","الثانية التخصصية"," لغة عربية",null,null,null,null,null,"كبير معلمين","لغة عربية",null,null,"--",""]
[14,362521,"هبه أحمد محمد محمد ",28406081401189,"انثى","1984-06-08",36,null,"مساكن الخشب- الشرقاوية - شبرا الخيمة","01061334014",null,"ل.آداب وتربية 2005",null,"2012-05-07",null,"2007-02-01",null,"اصلى",null,null,"على رأس العمل",null,null,"معلم لغة عربية","الثانية التخصصية"," لغة عربية",null,null,null,null,null,"معلم اول","لغة عربية",null,null,"معلم اول أ",""]
[15,374760,"هناء حسن جابر حسن ",28611150202226,"انثى","1986-11-15",33,null,"18ش أبوليلة-الترعة البولاقية -شبرا مصر","01110156905",null,"ل.د.إسلامية 2008",null,"2013-11-18",null,"2009-09-08",null,"اصلى",null,null,"على رأس العمل",null,null,"معلم لغة عربية","الثانية التخصصية"," لغة عربية",null,null,null,null,null,"معلم اول","لغة عربية",null,null,"معلم اول أ",""]
[16,412212,"فاطمة إسماعيل محمد فراج",28803051602626,"انثى","1988-03-05",32,null,"31ش مسجد الرحمة- الخلفاوى- شبرا مصر","01141841731",null,"ل.د.إسلامية وعربية 2010",null,"2016-02-10",null,"2014-01-01",null,"اصلى",null,null,"على رأس العمل",null,null,"معلم لغة عربية","الثالثة الفنية "," لغة عربية",null,null,null,null,null,"معلم اول","لغة عربية",null,null,"معلم اول أ",""]
[17,273885,"إيمان محمد هاشم محمد",27411241400842,"انثى","1974-11-24",45,null,"ش زكريا-مساكن توكو- شبراالخيمة.","01021429264",null,"ل. شريعة 2000",null,"2002-09-04",null,"2002-09-04",null,"اصلى",null,null,"على رأس العمل",null,null,"معلم رياضيات","الثانية التخصصية 2013"," رياضيات",null,null,null,null,null,"معلم اول","رياضيات",null,null,"معلم اول أ",""]
[18,362264,"نورا صبحى أبوالمعاطى ",28403010110265,"انثى","1984-03-01",36,null,"25ش الثورة - مدينة التعاون - شبرا الخيمة ","01094506082",null,"ب. علوم وتربية 2005",null,"2012-05-07",null,"2007-02-01",null,"اصلى",null,null,"على رأس العمل",null,null,"معلم رياضيات","الثانية التخصصية 2018"," رياضيات",null,null,null,null,null,"معلم اول","رياضيات",null,null,"معلم اول أ",""]
[19,305096,"مشيرة محمد عامر محمد",28208021403569,"انثى","1982-08-02",37,null,"مساكن الفرنوانى - شبرا الخيمة .","01067311818",null,"ل.لغات وترجمة 2005",null,"2012-05-07",null,"2008-02-03",null,"اصلى",null,null,"على رأس العمل",null,null,"معلم لغة انجليزية","الثانية التخصصية 2019","لغة انجليزية",null,null,null,null,null,"معلم اول","لغة انجليزية",null,null,"معلم اول أ",""]
[20,362034,"أحمد محمود لطفى محمد منتصر",28209011409972,"ذكر","1982-09-01",37,null,"16ش العدلى-العزبة الزراعية -بنها- قليوبية","01220717994",null,"ل.آداب وتربية 2004",null,"2012-05-07",null,"2008-02-01",null,"اصلى",null,null,"على رأس العمل",null,null,"معلم لغة انجليزية","الثانية التخصصية 2018","لغة انجليزية",null,null,null,null,null,"معلم اول","لغة انجليزية",null,null,"معلم اول أ",""]
[21,273283,"هناء صلاح على الحديدى",27810201401881,"انثى","1978-10-20",41,null,"93ش عزت محمد -منشية الحرية -شبراالخيمة","01280853249",null,"ل.آداب علم نفس 2000",null,"2002-09-04",null,"2003-01-01",null,"اصلى",null,null,"على رأس العمل",null,null,"معلم دراسات","الأولى التخصصية 2019","دراسات",null,null,null,null,null,"معلم اول أ","دراسات",null,null,"معلم خبير",""]
[22,246844,"حامد إبراهيم حامد أبوأحمد",27212211400977,"ذكر","1972-12-21",47,null,"البرادعه-القناطرالخيرية - قليوبية ",1204631393,null,"د.صنايع 90",null,"2000-05-29",null,"2000-05-29",null,"اصلى",null,null,"على رأس العمل",null,null,"معلم تربية فنية","الثانية الفنية 2015","تربية فنية",null,null,null,null,null,"غير مدرج بالكادر","تربية الفنية",null,null,"--",""]
[23,363699,"إيناس عبدالمنعم عبدالعظيم",27802200105801,"انثى","1978-02-20",42,null,"3ش كنيسة العذراء - الشرابية - القاهرة",1278493457,null,"د.صنايع 98",null,"2012-05-07",null,"2007-02-01",null,"اصلى",null,null,"على رأس العمل",null,null,"معلم تربية فنية","الثانية الفنية2018","تربية فنية",null,null,null,null,null,"غير مدرج بالكادر","تربية الفنية",null,null,"--",""]
[24,363649,"نحمده محمد أحمد محمد ",27606191401147,"انثى","1976-06-19",44,null,"28 ش صوت العرب - الوحدة العربية - شبرا الخيمة ثان ","01155706067",null,"دبلوم خط عربى وتذهيب 2006",null,"2012-05-07",null,"2006-09-18",null,"اصلى",null,null,"على رأس العمل",null,null,"معلم خط","الثالثة الفنية2015","خط",null,null,null,null,null,"غير مدرج بالكادر","خط",null,null,"--",""]
[25,378260,"حسن محمد سليمان عوض",28211072603156,"ذكر","1982-11-07",37,null,"أولاد نصير- مركز سوهاج - سوهاج","01002236263",null,"تربية رياضية",null,"2014-07-01",null,"2009-08-01",null,"اصلى",null,null,"على رأس العمل",null,null,"معلم تربية رياضية","الثالثة التخصصية 2014","تربية رياضية",null,null,null,null,null,"معلم","تربية رياضية ",null,null,"معلم اول",""]
[26,401917,"علا حسن عبدالمقصود محمد",28801111401401,"انثى","1988-01-11",32,null,"11ش - الشهيد أحمد فتحى - منشية الحرية - شبرا الخيمة",1025952175,null,"ب. خدمة إجتماعية ",null,"2016-08-01",null,"2016-07-16",null,"اصلى",null,null,"على رأس العمل",null,null,"اخصائى اجتماعى","الثالثة التخصصية 2012",null,null,null,null,null,null,null,null,null,null,"--",""]
[27,363521,"نسمة إبراهيم إسماعيل الشامى",28502051600721,"انثى","1985-02-05",35,null,"55ش جمال عبدالناصر من ش العسعاس -الجيزة","01010917903",null,"ب.معهد التعاون الزراعى2006",null,"2012-05-07",null,"2008-02-01",null,"اصلى",null,null,"على رأس العمل",null,null,"اخصائى تغذية","الثالثة التخصصية 2012",null,null,null,null,null,null,null,null,null,null,"--",""]
[28,363571,"نهلة الطيب محمد الطيب",27608280201782,"انثى","1976-08-28",43,null,"110مساكن الضباط - شبرا الخيمة - قليوبية","01275682390",null,"ب. زراعة 2002",null,"2012-05-07",null,"2007-02-08",null,"اصلى",null,null,"على رأس العمل",null,null,"اخصائى تغذية","الثالثة التخصصية 2012",null,null,null,null,null,null,null,null,null,null,"--",""]
[29,209973,"ولاء رأفت دسوقى إبراهيم ",27803201400764,"انثى","1978-03-20",42,null,"1 شارع جمال عبد الناصر مدينة التعاون شبرا الخيمة",1112774489,null,"د.تجارة 95",null,"1997-08-20",null,"1997-08-20",null,"اصلى",null,null,"على رأس العمل",null,null,"كاتب","الثانية الكتابية 2012",null,null,null,null,null,null,null,null,null,null,"--",""]
[30,215459,"فاطمة عبدالمعطى عبدالسميع",27307131700741,"انثى","1973-07-13",47,null,"16ش أبوصايمه-دمنهور -شبرا الخيمة -قليوبية","01287909802",null,"ثانوية أزهرية 93",null,"1998-06-15",null,"1998-08-08",null,"اصلى",null,null,"على رأس العمل",null,null,"كاتب","الثانية الكتابية 2012",null,null,null,null,null,null,null,null,null,null,"--",""]
[31,363361,"نادر عادل عبدالفتاح أمين ",27611160103354,"ذكر","1976-11-16",43,null,"32ش سليمان بدوى- روض الفرج -القاهرة","01141389909",null,"د. صنايع 94",null,"2012-05-07",null,"2011-09-29",null,"اصلى",null,null,"على رأس العمل",null,null,"كاتب","الرابعة الكتابية 2012",null,null,null,null,null,null,null,null,null,null,"--",""]
[32,402062,"نادية عيد عبدالغنى ",27671701401325,"انثى","1982-01-09",38,null,"6ش حسين -الشرقاوية - شبرا الخيمة ","01142072896",null,"د.صنايع 94",null,"2016-08-17",null,"2013-07-01",null,"اصلى",null,null,"على رأس العمل",null,null,"كاتب","الرابعة الفنية 2016",null,null,null,null,null,null,null,null,null,null,"--",""]
[33,363963,"حسن حسين منصور حسن",27711252501255,"ذكر","1977-11-25",42,null,"21ش - النيرة الغربية - البصراوى - إمبابه - الجيزة","01012978901",null,"دبلوم معلمين أزهرى 97",null,"2012-05-07",null,"2008-08-07",null,"اصلى",null,null,"على رأس العمل",null,null,"كاتب","الثالثة الكتابية 2012",null,null,null,null,null,null,null,null,null,null,"--",""]
[34,402136,"ماجدة محمد عبدالعزيز أحمد ",26705201400483,"انثى","1967-05-20",53,null,"30ش عبدالمقصود - الفرنوانى شبرا الخيمة ","01274888507",null,"د.تجارة 86",null,"2016-08-17",null,"2011-07-01",null,"اصلى",null,null,"على رأس العمل",null,null,"كاتب","الرابعة الكتابية 2016",null,null,null,null,null,null,null,null,null,null,"--",""]
[35,401854,"أمانى عبدالفتاح صلاح الدين ",28304031401083,"انثى","1983-04-03",37,null,"53حارة النجار -شبرا الخيمة أول - القليوبية ","01229719914",null,"ب. تجارة 2009",null,"2016-08-17",null,"2013-07-01",null,"اصلى",null,null,"على رأس العمل",null,null,"شئون مالية","الثالثة التخصصية2012",null,null,null,null,null,null,null,null,null,null,"--",""]
[36,209981,"محمد إبراهيم خليل التنة",26708011301011,"ذكر","1967-08-01",52,null,"العصلوجى- مركز الزقازيق - الشرقية ","01017439402",null,"إبتدائية 2015",null,"1997-08-31",null,"1997-08-16",null,"اصلى",null,null,"على رأس العمل",null,null,"عامل","الرابعة العمالية 2015",null,null,null,null,null,null,null,null,null,null,"--",""]
[37,246730,"أحمد عبدالعظيم محمد الدمرداش ",27907031701713,"ذكر","1979-07-03",41,null,"باجور- منوفية ","01009105175",null,"إبتدائية ",null,"2000-05-29",null,"2000-05-29",null,"اصلى",null,null,"على رأس العمل",null,null,"عامل","الرابعة العمالية 2015",null,null,null,null,null,null,null,null,null,null,"--",""]
[38,246877,"رضا محمد السيد الصعيدى ",27401061302171,"ذكر","1974-01-06",46,null,"تبيت-بشتيل السوق -الشرقية ","01142721856",null,"إبتدائية 2014",null,"2000-05-29",null,"2000-05-29",null,"اصلى",null,null,"على رأس العمل",null,null,"عامل","الخامسة العمالية 2015",null,null,null,null,null,null,null,null,null,null,"--",""]
[39,364120,"فاتن عبدالعال على بخيت ",26506080101022,"انثى","1965-06-08",55,null,"69ش-على خليفة - مدينة السعادة - شبرا الخيمة","01141959802",null,"إبتدائية ",null,"2012-05-07",null,"2007-02-10",null,"اصلى",null,null,"على رأس العمل",null,null,"عامل","الخامسة العمالية 2015",null,null,null,null,null,null,null,null,null,null,"--",""]
[40,388598,"على حسن على محمد حبيب",27507151701051,"ذكر","1975-07-15",45,null,"92ش محمد فريد -عابدين -القاهرة","01278751471",null,"محو أمية",null,"2016-03-02",null,"2009-02-10",null,"اصلى",null,null,"على رأس العمل",null,null,"عامل","السادسة العمالية ",null,null,null,null,null,null,null,null,null,null,"--",""]
[41,null,null,null,"","","",null,null,null,null,null,null,null,null,null,null,null,null,null,null,null,null,null,null,null,null,null,null,null,null,null,null,null,null,"--",""]
[42,null,null,null,"","","",null,null,null,null,null,null,null,null,null,null,null,null,null,null,null,null,null,null,null,null,null,null,null,null,null,null,null,null,"--",""]
[43,null,null,null,"","","",null,null,null,null,null,null,null,null,null,null,null,null,null,null,null,null,null,null,null,null,null,null,null,null,null,null,null,null,"--",""]
[44,null,null,null,"","","",null,null,null,null,null,null,null,null,null,null,null,null,null,null,null,null,null,null,null,null,null,null,null,null,null,null,null,null,"--",""]
[45,null,null,null,"","","",null,null,null,null,null,null,null,null,null,null,null,null,null,null,null,null,null,null,null,null,null,null,null,null,null,null,null,null,"--",""]
[46,null,null,null,"","","",null,null,null,null,null,null,null,null,null,null,null,null,null,null,null,null,null,null,null,null,null,null,null,null,null,null,null,null,"--",""]
[47,null,null,null,"","","",null,null,null,null,null,null,null,null,null,null,null,null,null,null,null,null,null,null,null,null,null,null,null,null,null,null,null,null,"--",""]
[48,null,null,null,"","","",null,null,null,null,null,null,null,null,null,null,null,null,null,null,null,null,null,null,null,null,null,null,null,null,null,null,null,null,"--",""]
[49,null,null,null,"","","",null,null,null,null,null,null,null,null,null,null,null,null,null,null,null,null,null,null,null,null,null,null,null,null,null,null,null,null,"--",""]
[50,null,null,null,"","","",null,null,null,null,null,null,null,null,null,null,null,null,null,null,null,null,null,null,null,null,null,null,null,null,null,null,null,null,"--",""]
[51,null,null,null,"","","",null,null,null,null,null,null,null,null,null,null,null,null,null,null,null,null,null,null,null,null,null,null,null,null,null,null,null,null,"--",""]
[52,null,null,null,"","","",null,null,null,null,null,null,null,null,null,null,null,null,null,null,null,null,null,null,null,null,null,null,null,null,null,null,null,null,"--",""]
[53,null,null,null,"","","",null,null,null,null,null,null,null,null,null,null,null,null,null,null,null,null,null,null,null,null,null,null,null,null,null,null,null,null,"--",""]
[54,null,null,null,"","","",null,null,null,null,null,null,null,null,null,null,null,null,null,null,null,null,null,null,null,null,null,null,null,null,null,null,null,null,"--",""]
[55,null,null,null,"","","",null,null,null,null,null,null,null,null,null,null,null,null,null,null,null,null,null,null,null,null,null,null,null,null,null,null,null,null,"--",""]
[56,null,null,null,"","","",null,null,null,null,null,null,null,null,null,null,null,null,null,null,null,null,null,null,null,null,null,null,null,null,null,null,null,null,"--",""]
[57,null,null,null,"","","",null,null,null,null,null,null,null,null,null,null,null,null,null,null,null,null,null,null,null,null,null,null,null,null,null,null,null,null,"--",""]
[58,null,null,null,"","","",null,null,null,null,null,null,null,null,null,null,null,null,null,null,null,null,null,null,null,null,null,null,null,null,null,null,null,null,"--",""]
[59,null,null,null,"","","",null,null,null,null,null,null,null,null,null,null,null,null,null,null,null,null,null,null,null,null,null,null,null,null,null,null,null,null,"--",""]
[60,null,null,null,"","","",null,null,null,null,null,null,null,null,null,null,null,null,null,null,null,null,null,null,null,null,null,null,null,null,null,null,null,null,"--",""]
[61,null,null,null,"","","",null,null,null,null,null,null,null,null,null,null,null,null,null,null,null,null,null,null,null,null,null,null,null,null,null,null,null,null,"--",""]
[62,null,null,null,"","","",null,null,null,null,null,null,null,null,null,null,null,null,null,null,null,null,null,null,null,null,null,null,null,null,null,null,null,null,"--",""]
[63,null,null,null,"","","",null,null,null,null,null,null,null,null,null,null,null,null,null,null,null,null,null,null,null,null,null,null,null,null,null,null,null,null,"--",""]
[64,null,null,null,"","","",null,null,null,null,null,null,null,null,null,null,null,null,null,null,null,null,null,null,null,null,null,null,null,null,null,null,null,null,"--",""]
[65,null,null,null,"","","",null,null,null,null,null,null,null,null,null,null,null,null,null,null,null,null,null,null,null,null,null,null,null,null,null,null,null,null,"--",""]
[66,null,null,null,"","","",null,null,null,null,null,null,null,null,null,null,null,null,null,null,null,null,null,null,null,null,null,null,null,null,null,null,null,null,"--",""]
[67,null,null,null,"","","",null,null,null,null,null,null,null,null,null,null,null,null,null,null,null,null,null,null,null,null,null,null,null,null,null,null,null,null,"--",""]
[68,null,null,null,"","","",null,null,null,null,null,null,null,null,null,null,null,null,null,null,null,null,null,null,null,null,null,null,null,null,null,null,null,null,"--",""]
[69,null,null,null,"","","",null,null,null,null,null,null,null,null,null,null,null,null,null,null,null,null,null,null,null,null,null,null,null,null,null,null,null,null,"--",""]
[70,null,null,null,"","","",null,null,null,null,null,null,null,null,null,null,null,null,null,null,null,null,null,null,null,null,null,null,null,null,null,null,null,null,"--",""]
[71,null,null,null,"","","",null,null,null,null,null,null,null,null,null,null,null,null,null,null,null,null,null,null,null,null,null,null,null,null,null,null,null,null,"--",""]
[72,null,null,null,"","","",null,null,null,null,null,null,null,null,null,null,null,null,null,null,null,null,null,null,null,null,null,null,null,null,null,null,null,null,"--",""]
[73,null,null,null,"","","",null,null,null,null,null,null,null,null,null,null,null,null,null,null,null,null,null,null,null,null,null,null,null,null,null,null,null,null,"--",""]
[74,null,null,null,"","","",null,null,null,null,null,null,null,null,null,null,null,null,null,null,null,null,null,null,null,null,null,null,null,null,null,null,null,null,"--",""]
[75,null,null,null,"","","",null,null,null,null,null,null,null,null,null,null,null,null,null,null,null,null,null,null,null,null,null,null,null,null,null,null,null,null,"--",""]
[76,null,null,null,"","","",null,null,null,null,null,null,null,null,null,null,null,null,null,null,null,null,null,null,null,null,null,null,null,null,null,null,null,null,"--",""]
[77,null,null,null,"","","",null,null,null,null,null,null,null,null,null,null,null,null,null,null,null,null,null,null,null,null,null,null,null,null,null,null,null,null,"--",""]
[78,null,null,null,"","","",null,null,null,null,null,null,null,null,null,null,null,null,null,null,null,null,null,null,null,null,null,null,null,null,null,null,null,null,"--",""]
[79,null,null,null,"","","",null,null,null,null,null,null,null,null,null,null,null,null,null,null,null,null,null,null,null,null,null,null,null,null,null,null,null,null,"--",""]
[80,null,null,null,"","","",null,null,null,null,null,null,null,null,null,null,null,null,null,null,null,null,null,null,null,null,null,null,null,null,null,null,null,null,"--",""]
[81,null,null,null,"","","",null,null,null,null,null,null,null,null,null,null,null,null,null,null,null,null,null,null,null,null,null,null,null,null,null,null,null,null,"--",""]
[82,null,null,null,"","","",null,null,null,null,null,null,null,null,null,null,null,null,null,null,null,null,null,null,null,null,null,null,null,null,null,null,null,null,"--",""]
[83,null,null,null,"","","",null,null,null,null,null,null,null,null,null,null,null,null,null,null,null,null,null,null,null,null,null,null,null,null,null,null,null,null,"--",""]
[84,null,null,null,"","","",null,null,null,null,null,null,null,null,null,null,null,null,null,null,null,null,null,null,null,null,null,null,null,null,null,null,null,null,"--",""]
[85,null,null,null,"","","",null,null,null,null,null,null,null,null,null,null,null,null,null,null,null,null,null,null,null,null,null,null,null,null,null,null,null,null,"--",""]
[86,null,null,null,"","","",null,null,null,null,null,null,null,null,null,null,null,null,null,null,null,null,null,null,null,null,null,null,null,null,null,null,null,null,"--",""]
[87,null,null,null,"","","",null,null,null,null,null,null,null,null,null,null,null,null,null,null,null,null,null,null,null,null,null,null,null,null,null,null,null,null,"--",""]
[88,null,null,null,"","","",null,null,null,null,null,null,null,null,null,null,null,null,null,null,null,null,null,null,null,null,null,null,null,null,null,null,null,null,"--",""]
[89,null,null,null,"","","",null,null,null,null,null,null,null,null,null,null,null,null,null,null,null,null,null,null,null,null,null,null,null,null,null,null,null,null,"--",""]
[90,null,null,null,"","","",null,null,null,null,null,null,null,null,null,null,null,null,null,null,null,null,null,null,null,null,null,null,null,null,null,null,null,null,"--",""]
[91,null,null,null,"","","",null,null,null,null,null,null,null,null,null,null,null,null,null,null,null,null,null,null,null,null,null,null,null,null,null,null,null,null,"--",""]
[92,null,null,null,"","","",null,null,null,null,null,null,null,null,null,null,null,null,null,null,null,null,null,null,null,null,null,null,null,null,null,null,null,null,"--",""]
[93,null,null,null,"","","",null,null,null,null,null,null,null,null,null,null,null,null,null,null,null,null,null,null,null,null,null,null,null,null,null,null,null,null,"--",""]
[94,null,null,null,"","","",null,null,null,null,null,null,null,null,null,null,null,null,null,null,null,null,null,null,null,null,null,null,null,null,null,null,null,null,"--",""]
[95,null,null,null,"","","",null,null,null,null,null,null,null,null,null,null,null,null,null,null,null,null,null,null,null,null,null,null,null,null,null,null,null,null,"--",""]
[96,null,null,null,"","","",null,null,null,null,null,null,null,null,null,null,null,null,null,null,null,null,null,null,null,null,null,null,null,null,null,null,null,null,"--",""]
[97,null,null,null,"","","",null,null,null,null,null,null,null,null,null,null,null,null,null,null,null,null,null,null,null,null,null,null,null,null,null,null,null,null,"--",""]
[98,null,null,null,"","","",null,null,null,null,null,null,null,null,null,null,null,null,null,null,null,null,null,null,null,null,null,null,null,null,null,null,null,null,"--",""]
[99,null,null,null,"","","",null,null,null,null,null,null,null,null,null,null,null,null,null,null,null,null,null,null,null,null,null,null,null,null,null,null,null,null,"--",""]
[100,null,null,null,"","","",null,null,null,null,null,null,null,null,null,null,null,null,null,null,null,null,null,null,null,null,null,null,null,null,null,null,null,null,"--",""]
[101,null,null,null,"","","",null,null,null,null,null,null,null,null,null,null,null,null,null,null,null,null,null,null,null,null,null,null,null,null,null,null,null,null,"--",""]
[102,null,null,null,"","","",null,null,null,null,null,null,null,null,null,null,null,null,null,null,null,null,null,null,null,null,null,null,null,null,null,null,null,null,"--",""]
[103,null,null,null,"","","",null,null,null,null,null,null,null,null,null,null,null,null,null,null,null,null,null,null,null,null,null,null,null,null,null,null,null,null,"--",""]
[104,null,null,null,"","","",null,null,null,null,null,null,null,null,null,null,null,null,null,null,null,null,null,null,null,null,null,null,null,null,null,null,null,null,"--",""]
[105,null,null,null,"","","",null,null,null,null,null,null,null,null,null,null,null,null,null,null,null,null,null,null,null,null,null,null,null,null,null,null,null,null,"--",""]
[106,null,null,null,"","","",null,null,null,null,null,null,null,null,null,null,null,null,null,null,null,null,null,null,null,null,null,null,null,null,null,null,null,null,"--",""]
[107,null,null,null,"","","",null,null,null,null,null,null,null,null,null,null,null,null,null,null,null,null,null,null,null,null,null,null,null,null,null,null,null,null,"--",""]
[108,null,null,null,"","","",null,null,null,null,null,null,null,null,null,null,null,null,null,null,null,null,null,null,null,null,null,null,null,null,null,null,null,null,"--",""]
[109,null,null,null,"","","",null,null,null,null,null,null,null,null,null,null,null,null,null,null,null,null,null,null,null,null,null,null,null,null,null,null,null,null,"--",""]
[110,null,null,null,"","","",null,null,null,null,null,null,null,null,null,null,null,null,null,null,null,null,null,null,null,null,null,null,null,null,null,null,null,null,"--",""]
[111,null,null,null,"","","",null,null,null,null,null,null,null,null,null,null,null,null,null,null,null,null,null,null,null,null,null,null,null,null,null,null,null,null,"--",""]
[112,null,null,null,"","","",null,null,null,null,null,null,null,null,null,null,null,null,null,null,null,null,null,null,null,null,null,null,null,null,null,null,null,null,"--",""]
[113,null,null,null,"","","",null,null,null,null,null,null,null,null,null,null,null,null,null,null,null,null,null,null,null,null,null,null,null,null,null,null,null,null,"--",""]
[114,null,null,null,"","","",null,null,null,null,null,null,null,null,null,null,null,null,null,null,null,null,null,null,null,null,null,null,null,null,null,null,null,null,"--",""]
[115,null,null,null,"","","",null,null,null,null,null,null,null,null,null,null,null,null,null,null,null,null,null,null,null,null,null,null,null,null,null,null,null,null,"--",""]
[116,null,null,null,"","","",null,null,null,null,null,null,null,null,null,null,null,null,null,null,null,null,null,null,null,null,null,null,null,null,null,null,null,null,"--",""]
[117,null,null,null,"","","",null,null,null,null,null,null,null,null,null,null,null,null,null,null,null,null,null,null,null,null,null,null,null,null,null,null,null,null,"--",""]
[118,null,null,null,"","","",null,null,null,null,null,null,null,null,null,null,null,null,null,null,null,null,null,null,null,null,null,null,null,null,null,null,null,null,"--",""]
[119,null,null,null,"","","",null,null,null,null,null,null,null,null,null,null,null,null,null,null,null,null,null,null,null,null,null,null,null,null,null,null,null,null,"--",""]
[120,null,null,null,"","","",null,null,null,null,null,null,null,null,null,null,null,null,null,null,null,null,null,null,null,null,null,null,null,null,null,null,null,null,"--",""]
[121,null,null,null,"","","",null,null,null,null,null,null,null,null,null,null,null,null,null,null,null,null,null,null,null,null,null,null,null,null,null,null,null,null,"--",""]
[122,null,null,null,"","","",null,null,null,null,null,null,null,null,null,null,null,null,null,null,null,null,null,null,null,null,null,null,null,null,null,null,null,null,"--",""]
[123,null,null,null,"","","",null,null,null,null,null,null,null,null,null,null,null,null,null,null,null,null,null,null,null,null,null,null,null,null,null,null,null,null,"--",""]
[124,null,null,null,"","","",null,null,null,null,null,null,null,null,null,null,null,null,null,null,null,null,null,null,null,null,null,null,null,null,null,null,null,null,"--",""]
[125,null,null,null,"","","",null,null,null,null,null,null,null,null,null,null,null,null,null,null,null,null,null,null,null,null,null,null,null,null,null,null,null,null,"--",""]
[126,null,null,null,"","","",null,null,null,null,null,null,null,null,null,null,null,null,null,null,null,null,null,null,null,null,null,null,null,null,null,null,null,null,"--",""]
[127,null,null,null,"","","",null,null,null,null,null,null,null,null,null,null,null,null,null,null,null,null,null,null,null,null,null,null,null,null,null,null,null,null,"--",""]
[128,null,null,null,"","","",null,null,null,null,null,null,null,null,null,null,null,null,null,null,null,null,null,null,null,null,null,null,null,null,null,null,null,null,"--",""]
[129,null,null,null,"","","",null,null,null,null,null,null,null,null,null,null,null,null,null,null,null,null,null,null,null,null,null,null,null,null,null,null,null,null,"--",""]
[130,null,null,null,"","","",null,null,null,null,null,null,null,null,null,null,null,null,null,null,null,null,null,null,null,null,null,null,null,null,null,null,null,null,"--",""]
[131,null,null,null,"","","",null,null,null,null,null,null,null,null,null,null,null,null,null,null,null,null,null,null,null,null,null,null,null,null,null,null,null,null,"--",""]
[132,null,null,null,"","","",null,null,null,null,null,null,null,null,null,null,null,null,null,null,null,null,null,null,null,null,null,null,null,null,null,null,null,null,"--",""]
[133,null,null,null,"","","",null,null,null,null,null,null,null,null,null,null,null,null,null,null,null,null,null,null,null,null,null,null,null,null,null,null,null,null,"--",""]
[134,null,null,null,"","","",null,null,null,null,null,null,null,null,null,null,null,null,null,null,null,null,null,null,null,null,null,null,null,null,null,null,null,null,"--",""]
[135,null,null,null,"","","",null,null,null,null,null,null,null,null,null,null,null,null,null,null,null,null,null,null,null,null,null,null,null,null,null,null,null,null,"--",""]
[136,null,null,null,"","","",null,null,null,null,null,null,null,null,null,null,null,null,null,null,null,null,null,null,null,null,null,null,null,null,null,null,null,null,"--",""]
[137,null,null,null,"","","",null,null,null,null,null,null,null,null,null,null,null,null,null,null,null,null,null,null,null,null,null,null,null,null,null,null,null,null,"--",""]
[138,null,null,null,"","","",null,null,null,null,null,null,null,null,null,null,null,null,null,null,null,null,null,null,null,null,null,null,null,null,null,null,null,null,"--",""]
[139,null,null,null,"","","",null,null,null,null,null,null,null,null,null,null,null,null,null,null,null,null,null,null,null,null,null,null,null,null,null,null,null,null,"--",""]
[140,null,null,null,"","","",null,null,null,null,null,null,null,null,null,null,null,null,null,null,null,null,null,null,null,null,null,null,null,null,null,null,null,null,"--",""]
[141,null,null,null,"","","",null,null,null,null,null,null,null,null,null,null,null,null,null,null,null,null,null,null,null,null,null,null,null,null,null,null,null,null,"--",""]
[142,null,null,null,"","","",null,null,null,null,null,null,null,null,null,null,null,null,null,null,null,null,null,null,null,null,null,null,null,null,null,null,null,null,"--",""]
[143,null,null,null,"","","",null,null,null,null,null,null,null,null,null,null,null,null,null,null,null,null,null,null,null,null,null,null,null,null,null,null,null,null,"--",""]
[144,null,null,null,"","","",null,null,null,null,null,null,null,null,null,null,null,null,null,null,null,null,null,null,null,null,null,null,null,null,null,null,null,null,"--",""]
[145,null,null,null,"","","",null,null,null,null,null,null,null,null,null,null,null,null,null,null,null,null,null,null,null,null,null,null,null,null,null,null,null,null,"--",""]
[146,null,null,null,"","","",null,null,null,null,null,null,null,null,null,null,null,null,null,null,null,null,null,null,null,null,null,null,null,null,null,null,null,null,"--",""]
[147,null,null,null,"","","",null,null,null,null,null,null,null,null,null,null,null,null,null,null,null,null,null,null,null,null,null,null,null,null,null,null,null,null,"--",""]
[148,null,null,null,"","","",null,null,null,null,null,null,null,null,null,null,null,null,null,null,null,null,null,null,null,null,null,null,null,null,null,null,null,null,"--",""]
[149,null,null,null,"","","",null,null,null,null,null,null,null,null,null,null,null,null,null,null,null,null,null,null,null,null,null,null,null,null,null,null,null,null,"--",""]
[150,null,null,null,"","","",null,null,null,null,null,null,null,null,null,null,null,null,null,null,null,null,null,null,null,null,null,null,null,null,null,null,null,null,"--",""]
[151,null,null,null,"","","",null,null,null,null,null,null,null,null,null,null,null,null,null,null,null,null,null,null,null,null,null,null,null,null,null,null,null,null,"--",""]
[152,null,null,null,"","","",null,null,null,null,null,null,null,null,null,null,null,null,null,null,null,null,null,null,null,null,null,null,null,null,null,null,null,null,"--",""]
[153,null,null,null,"","","",null,null,null,null,null,null,null,null,null,null,null,null,null,null,null,null,null,null,null,null,null,null,null,null,null,null,null,null,"--",""]
[154,null,null,null,"","","",null,null,null,null,null,null,null,null,null,null,null,null,null,null,null,null,null,null,null,null,null,null,null,null,null,null,null,null,"--",""]
[155,null,null,null,"","","",null,null,null,null,null,null,null,null,null,null,null,null,null,null,null,null,null,null,null,null,null,null,null,null,null,null,null,null,"--",""]
[156,null,null,null,"","","",null,null,null,null,null,null,null,null,null,null,null,null,null,null,null,null,null,null,null,null,null,null,null,null,null,null,null,null,"--",""]
[157,null,null,null,"","","",null,null,null,null,null,null,null,null,null,null,null,null,null,null,null,null,null,null,null,null,null,null,null,null,null,null,null,null,"--",""]
[158,null,null,null,"","","",null,null,null,null,null,null,null,null,null,null,null,null,null,null,null,null,null,null,null,null,null,null,null,null,null,null,null,null,"--",""]
[159,null,null,null,"","","",null,null,null,null,null,null,null,null,null,null,null,null,null,null,null,null,null,null,null,null,null,null,null,null,null,null,null,null,"--",""]
[160,null,null,null,"","","",null,null,null,null,null,null,null,null,null,null,null,null,null,null,null,null,null,null,null,null,null,null,null,null,null,null,null,null,"--",""]
[161,null,null,null,"","","",null,null,null,null,null,null,null,null,null,null,null,null,null,null,null,null,null,null,null,null,null,null,null,null,null,null,null,null,"--",""]
[162,null,null,null,"","","",null,null,null,null,null,null,null,null,null,null,null,null,null,null,null,null,null,null,null,null,null,null,null,null,null,null,null,null,"--",""]
[163,null,null,null,"","","",null,null,null,null,null,null,null,null,null,null,null,null,null,null,null,null,null,null,null,null,null,null,null,null,null,null,null,null,"--",""]
[164,null,null,null,"","","",null,null,null,null,null,null,null,null,null,null,null,null,null,null,null,null,null,null,null,null,null,null,null,null,null,null,null,null,"--",""]
[165,null,null,null,"","","",null,null,null,null,null,null,null,null,null,null,null,null,null,null,null,null,null,null,null,null,null,null,null,null,null,null,null,null,"--",""]
[166,null,null,null,"","","",null,null,null,null,null,null,null,null,null,null,null,null,null,null,null,null,null,null,null,null,null,null,null,null,null,null,null,null,"--",""]
[167,null,null,null,"","","",null,null,null,null,null,null,null,null,null,null,null,null,null,null,null,null,null,null,null,null,null,null,null,null,null,null,null,null,"--",""]
[168,null,null,null,"","","",null,null,null,null,null,null,null,null,null,null,null,null,null,null,null,null,null,null,null,null,null,null,null,null,null,null,null,null,"--",""]
[169,null,null,null,"","","",null,null,null,null,null,null,null,null,null,null,null,null,null,null,null,null,null,null,null,null,null,null,null,null,null,null,null,null,"--",""]
[170,null,null,null,"","","",null,null,null,null,null,null,null,null,null,null,null,null,null,null,null,null,null,null,null,null,null,null,null,null,null,null,null,null,"--",""]
[171,null,null,null,"","","",null,null,null,null,null,null,null,null,null,null,null,null,null,null,null,null,null,null,null,null,null,null,null,null,null,null,null,null,"--",""]
[172,null,null,null,"","","",null,null,null,null,null,null,null,null,null,null,null,null,null,null,null,null,null,null,null,null,null,null,null,null,null,null,null,null,"--",""]
[173,null,null,null,"","","",null,null,null,null,null,null,null,null,null,null,null,null,null,null,null,null,null,null,null,null,null,null,null,null,null,null,null,null,"--",""]
[174,null,null,null,"","","",null,null,null,null,null,null,null,null,null,null,null,null,null,null,null,null,null,null,null,null,null,null,null,null,null,null,null,null,"--",""]
[175,null,null,null,"","","",null,null,null,null,null,null,null,null,null,null,null,null,null,null,null,null,null,null,null,null,null,null,null,null,null,null,null,null,"--",""]
[176,null,null,null,"","","",null,null,null,null,null,null,null,null,null,null,null,null,null,null,null,null,null,null,null,null,null,null,null,null,null,null,null,null,"--",""]
[177,null,null,null,"","","",null,null,null,null,null,null,null,null,null,null,null,null,null,null,null,null,null,null,null,null,null,null,null,null,null,null,null,null,"--",""]
[178,null,null,null,"","","",null,null,null,null,null,null,null,null,null,null,null,null,null,null,null,null,null,null,null,null,null,null,null,null,null,null,null,null,"--",""]
[179,null,null,null,"","","",null,null,null,null,null,null,null,null,null,null,null,null,null,null,null,null,null,null,null,null,null,null,null,null,null,null,null,null,"--",""]
[180,null,null,null,"","","",null,null,null,null,null,null,null,null,null,null,null,null,null,null,null,null,null,null,null,null,null,null,null,null,null,null,null,null,"--",""]
[181,null,null,null,"","","",null,null,null,null,null,null,null,null,null,null,null,null,null,null,null,null,null,null,null,null,null,null,null,null,null,null,null,null,"--",""]
[182,null,null,null,"","","",null,null,null,null,null,null,null,null,null,null,null,null,null,null,null,null,null,null,null,null,null,null,null,null,null,null,null,null,"--",""]
[183,null,null,null,"","","",null,null,null,null,null,null,null,null,null,null,null,null,null,null,null,null,null,null,null,null,null,null,null,null,null,null,null,null,"--",""]
[184,null,null,null,"","","",null,null,null,null,null,null,null,null,null,null,null,null,null,null,null,null,null,null,null,null,null,null,null,null,null,null,null,null,"--",""]
[185,null,null,null,"","","",null,null,null,null,null,null,null,null,null,null,null,null,null,null,null,null,null,null,null,null,null,null,null,null,null,null,null,null,"--",""]
[186,null,null,null,"","","",null,null,null,null,null,null,null,null,null,null,null,null,null,null,null,null,null,null,null,null,null,null,null,null,null,null,null,null,"--",""]
[187,null,null,null,"","","",null,null,null,null,null,null,null,null,null,null,null,null,null,null,null,null,null,null,null,null,null,null,null,null,null,null,null,null,"--",""]
[188,null,null,null,"","","",null,null,null,null,null,null,null,null,null,null,null,null,null,null,null,null,null,null,null,null,null,null,null,null,null,null,null,null,"--",""]
[189,null,null,null,"","","",null,null,null,null,null,null,null,null,null,null,null,null,null,null,null,null,null,null,null,null,null,null,null,null,null,null,null,null,"--",""]
[190,null,null,null,"","","",null,null,null,null,null,null,null,null,null,null,null,null,null,null,null,null,null,null,null,null,null,null,null,null,null,null,null,null,"--",""]
[191,null,null,null,"","","",null,null,null,null,null,null,null,null,null,null,null,null,null,null,null,null,null,null,null,null,null,null,null,null,null,null,null,null,"--",""]
[192,null,null,null,"","","",null,null,null,null,null,null,null,null,null,null,null,null,null,null,null,null,null,null,null,null,null,null,null,null,null,null,null,null,"--",""]
[193,null,null,null,"","","",null,null,null,null,null,null,null,null,null,null,null,null,null,null,null,null,null,null,null,null,null,null,null,null,null,null,null,null,"--",""]
[194,null,null,null,"","","",null,null,null,null,null,null,null,null,null,null,null,null,null,null,null,null,null,null,null,null,null,null,null,null,null,null,null,null,"--",""]
[195,null,null,null,"","","",null,null,null,null,null,null,null,null,null,null,null,null,null,null,null,null,null,null,null,null,null,null,null,null,null,null,null,null,"--",""]
[196,null,null,null,"","","",null,null,null,null,null,null,null,null,null,null,null,null,null,null,null,null,null,null,null,null,null,null,null,null,null,null,null,null,"--",""]
[197,null,null,null,"","","",null,null,null,null,null,null,null,null,null,null,null,null,null,null,null,null,null,null,null,null,null,null,null,null,null,null,null,null,"--",""]
[198,null,null,null,"","","",null,null,null,null,null,null,null,null,null,null,null,null,null,null,null,null,null,null,null,null,null,null,null,null,null,null,null,null,"--",""]
[199,null,null,null,"","","",null,null,null,null,null,null,null,null,null,null,null,null,null,null,null,null,null,null,null,null,null,null,null,null,null,null,null,null,"--",""]
[200,null,null,null,"","","",null,null,null,null,null,null,null,null,null,null,null,null,null,null,null,null,null,null,null,null,null,null,null,null,null,null,null,null,"--",""]
[201,null,null,null,"","","",null,null,null,null,null,null,null,null,null,null,null,null,null,null,null,null,null,null,null,null,null,null,null,null,null,null,null,null,"--",""]
[202,null,null,null,"","","",null,null,null,null,null,null,null,null,null,null,null,null,null,null,null,null,null,null,null,null,null,null,null,null,null,null,null,null,"--",""]
[203,null,null,null,"","","",null,null,null,null,null,null,null,null,null,null,null,null,null,null,null,null,null,null,null,null,null,null,null,null,null,null,null,null,"--",""]
[204,null,null,null,"","","",null,null,null,null,null,null,null,null,null,null,null,null,null,null,null,null,null,null,null,null,null,null,null,null,null,null,null,null,"--",""]
[205,null,null,null,"","","",null,null,null,null,null,null,null,null,null,null,null,null,null,null,null,null,null,null,null,null,null,null,null,null,null,null,null,null,"--",""]
[206,null,null,null,"","","",null,null,null,null,null,null,null,null,null,null,null,null,null,null,null,null,null,null,null,null,null,null,null,null,null,null,null,null,"--",""]
[207,null,null,null,"","","",null,null,null,null,null,null,null,null,null,null,null,null,null,null,null,null,null,null,null,null,null,null,null,null,null,null,null,null,"--",""]
[208,null,null,null,"","","",null,null,null,null,null,null,null,null,null,null,null,null,null,null,null,null,null,null,null,null,null,null,null,null,null,null,null,null,"--",""]
[209,null,null,null,"","","",null,null,null,null,null,null,null,null,null,null,null,null,null,null,null,null,null,null,null,null,null,null,null,null,null,null,null,null,"--",""]
[210,null,null,null,"","","",null,null,null,null,null,null,null,null,null,null,null,null,null,null,null,null,null,null,null,null,null,null,null,null,null,null,null,null,"--",""]
[211,null,null,null,"","","",null,null,null,null,null,null,null,null,null,null,null,null,null,null,null,null,null,null,null,null,null,null,null,null,null,null,null,null,"--",""]
[212,null,null,null,"","","",null,null,null,null,null,null,null,null,null,null,null,null,null,null,null,null,null,null,null,null,null,null,null,null,null,null,null,null,"--",""]
[213,null,null,null,"","","",null,null,null,null,null,null,null,null,null,null,null,null,null,null,null,null,null,null,null,null,null,null,null,null,null,null,null,null,"--",""]
[214,null,null,null,"","","",null,null,null,null,null,null,null,null,null,null,null,null,null,null,null,null,null,null,null,null,null,null,null,null,null,null,null,null,"--",""]
[215,null,null,null,"","","",null,null,null,null,null,null,null,null,null,null,null,null,null,null,null,null,null,null,null,null,null,null,null,null,null,null,null,null,"--",""]
[216,null,null,null,"","","",null,null,null,null,null,null,null,null,null,null,null,null,null,null,null,null,null,null,null,null,null,null,null,null,null,null,null,null,"--",""]
[217,null,null,null,"","","",null,null,null,null,null,null,null,null,null,null,null,null,null,null,null,null,null,null,null,null,null,null,null,null,null,null,null,null,"--",""]
[218,null,null,null,"","","",null,null,null,null,null,null,null,null,null,null,null,null,null,null,null,null,null,null,null,null,null,null,null,null,null,null,null,null,"--",""]
[219,null,null,null,"","","",null,null,null,null,null,null,null,null,null,null,null,null,null,null,null,null,null,null,null,null,null,null,null,null,null,null,null,null,"--",""]
[220,null,null,null,"","","",null,null,null,null,null,null,null,null,null,null,null,null,null,null,null,null,null,null,null,null,null,null,null,null,null,null,null,null,"--",""]
[221,null,null,null,"","","",null,null,null,null,null,null,null,null,null,null,null,null,null,null,null,null,null,null,null,null,null,null,null,null,null,null,null,null,"--",""]
[222,null,null,null,"","","",null,null,null,null,null,null,null,null,null,null,null,null,null,null,null,null,null,null,null,null,null,null,null,null,null,null,null,null,"--",""]
[223,null,null,null,"","","",null,null,null,null,null,null,null,null,null,null,null,null,null,null,null,null,null,null,null,null,null,null,null,null,null,null,null,null,"--",""]
[224,null,null,null,"","","",null,null,null,null,null,null,null,null,null,null,null,null,null,null,null,null,null,null,null,null,null,null,null,null,null,null,null,null,"--",""]
[225,null,null,null,"","","",null,null,null,null,null,null,null,null,null,null,null,null,null,null,null,null,null,null,null,null,null,null,null,null,null,null,null,null,"--",""]
[226,null,null,null,"","","",null,null,null,null,null,null,null,null,null,null,null,null,null,null,null,null,null,null,null,null,null,null,null,null,null,null,null,null,"--",""]
[227,null,null,null,"","","",null,null,null,null,null,null,null,null,null,null,null,null,null,null,null,null,null,null,null,null,null,null,null,null,null,null,null,null,"--",""]
[228,null,null,null,"","","",null,null,null,null,null,null,null,null,null,null,null,null,null,null,null,null,null,null,null,null,null,null,null,null,null,null,null,null,"--",""]
[229,null,null,null,"","","",null,null,null,null,null,null,null,null,null,null,null,null,null,null,null,null,null,null,null,null,null,null,null,null,null,null,null,null,"--",""]
[230,null,null,null,"","","",null,null,null,null,null,null,null,null,null,null,null,null,null,null,null,null,null,null,null,null,null,null,null,null,null,null,null,null,"--",""]
[231,null,null,null,"","","",null,null,null,null,null,null,null,null,null,null,null,null,null,null,null,null,null,null,null,null,null,null,null,null,null,null,null,null,"--",""]
[232,null,null,null,"","","",null,null,null,null,null,null,null,null,null,null,null,null,null,null,null,null,null,null,null,null,null,null,null,null,null,null,null,null,"--",""]
[233,null,null,null,"","","",null,null,null,null,null,null,null,null,null,null,null,null,null,null,null,null,null,null,null,null,null,null,null,null,null,null,null,null,"--",""]
[234,null,null,null,"","","",null,null,null,null,null,null,null,null,null,null,null,null,null,null,null,null,null,null,null,null,null,null,null,null,null,null,null,null,"--",""]
[235,null,null,null,"","","",null,null,null,null,null,null,null,null,null,null,null,null,null,null,null,null,null,null,null,null,null,null,null,null,null,null,null,null,"--",""]
[236,null,null,null,"","","",null,null,null,null,null,null,null,null,null,null,null,null,null,null,null,null,null,null,null,null,null,null,null,null,null,null,null,null,"--",""]
[237,null,null,null,"","","",null,null,null,null,null,null,null,null,null,null,null,null,null,null,null,null,null,null,null,null,null,null,null,null,null,null,null,null,"--",""]
[238,null,null,null,"","","",null,null,null,null,null,null,null,null,null,null,null,null,null,null,null,null,null,null,null,null,null,null,null,null,null,null,null,null,"--",""]
[239,null,null,null,"","","",null,null,null,null,null,null,null,null,null,null,null,null,null,null,null,null,null,null,null,null,null,null,null,null,null,null,null,null,"--",""]
[240,null,null,null,"","","",null,null,null,null,null,null,null,null,null,null,null,null,null,null,null,null,null,null,null,null,null,null,null,null,null,null,null,null,"--",""]
[241,null,null,null,"","","",null,null,null,null,null,null,null,null,null,null,null,null,null,null,null,null,null,null,null,null,null,null,null,null,null,null,null,null,"--",""]
[242,null,null,null,"","","",null,null,null,null,null,null,null,null,null,null,null,null,null,null,null,null,null,null,null,null,null,null,null,null,null,null,null,null,"--",""]
[243,null,null,null,"","","",null,null,null,null,null,null,null,null,null,null,null,null,null,null,null,null,null,null,null,null,null,null,null,null,null,null,null,null,"--",""]
[244,null,null,null,"","","",null,null,null,null,null,null,null,null,null,null,null,null,null,null,null,null,null,null,null,null,null,null,null,null,null,null,null,null,"--",""]
[245,null,null,null,"","","",null,null,null,null,null,null,null,null,null,null,null,null,null,null,null,null,null,null,null,null,null,null,null,null,null,null,null,null,"--",""]
[246,null,null,null,"","","",null,null,null,null,null,null,null,null,null,null,null,null,null,null,null,null,null,null,null,null,null,null,null,null,null,null,null,null,"--",""]
[247,null,null,null,"","","",null,null,null,null,null,null,null,null,null,null,null,null,null,null,null,null,null,null,null,null,null,null,null,null,null,null,null,null,"--",""]
[248,null,null,null,"","","",null,null,null,null,null,null,null,null,null,null,null,null,null,null,null,null,null,null,null,null,null,null,null,null,null,null,null,null,"--",""]
[249,null,null,null,"","","",null,null,null,null,null,null,null,null,null,null,null,null,null,null,null,null,null,null,null,null,null,null,null,null,null,null,null,null,"--",""]
[250,null,null,null,"","","",null,null,null,null,null,null,null,null,null,null,null,null,null,null,null,null,null,null,null,null,null,null,null,null,null,null,null,null,"--",""]
[251,null,null,null,"","","",null,null,null,null,null,null,null,null,null,null,null,null,null,null,null,null,null,null,null,null,null,null,null,null,null,null,null,null,"--",""]
[252,null,null,null,"","","",null,null,null,null,null,null,null,null,null,null,null,null,null,null,null,null,null,null,null,null,null,null,null,null,null,null,null,null,"--",""]
[253,null,null,null,"","","",null,null,null,null,null,null,null,null,null,null,null,null,null,null,null,null,null,null,null,null,null,null,null,null,null,null,null,null,"--",""]
[254,null,null,null,"","","",null,null,null,null,null,null,null,null,null,null,null,null,null,null,null,null,null,null,null,null,null,null,null,null,null,null,null,null,"--",""]
[255,null,null,null,"","","",null,null,null,null,null,null,null,null,null,null,null,null,null,null,null,null,null,null,null,null,null,null,null,null,null,null,null,null,"--",""]
[256,null,null,null,"","","",null,null,null,null,null,null,null,null,null,null,null,null,null,null,null,null,null,null,null,null,null,null,null,null,null,null,null,null,"--",""]
[257,null,null,null,"","","",null,null,null,null,null,null,null,null,null,null,null,null,null,null,null,null,null,null,null,null,null,null,null,null,null,null,null,null,"--",""]
[258,null,null,null,"","","",null,null,null,null,null,null,null,null,null,null,null,null,null,null,null,null,null,null,null,null,null,null,null,null,null,null,null,null,"--",""]
[259,null,null,null,"","","",null,null,null,null,null,null,null,null,null,null,null,null,null,null,null,null,null,null,null,null,null,null,null,null,null,null,null,null,"--",""]
[260,null,null,null,"","","",null,null,null,null,null,null,null,null,null,null,null,null,null,null,null,null,null,null,null,null,null,null,null,null,null,null,null,null,"--",""]
[261,null,null,null,"","","",null,null,null,null,null,null,null,null,null,null,null,null,null,null,null,null,null,null,null,null,null,null,null,null,null,null,null,null,"--",""]
[262,null,null,null,"","","",null,null,null,null,null,null,null,null,null,null,null,null,null,null,null,null,null,null,null,null,null,null,null,null,null,null,null,null,"--",""]
[263,null,null,null,"","","",null,null,null,null,null,null,null,null,null,null,null,null,null,null,null,null,null,null,null,null,null,null,null,null,null,null,null,null,"--",""]
[264,null,null,null,"","","",null,null,null,null,null,null,null,null,null,null,null,null,null,null,null,null,null,null,null,null,null,null,null,null,null,null,null,null,"--",""]
[265,null,null,null,"","","",null,null,null,null,null,null,null,null,null,null,null,null,null,null,null,null,null,null,null,null,null,null,null,null,null,null,null,null,"--",""]
[266,null,null,null,"","","",null,null,null,null,null,null,null,null,null,null,null,null,null,null,null,null,null,null,null,null,null,null,null,null,null,null,null,null,"--",""]
[267,null,null,null,"","","",null,null,null,null,null,null,null,null,null,null,null,null,null,null,null,null,null,null,null,null,null,null,null,null,null,null,null,null,"--",""]
[268,null,null,null,"","","",null,null,null,null,null,null,null,null,null,null,null,null,null,null,null,null,null,null,null,null,null,null,null,null,null,null,null,null,"--",""]
[269,null,null,null,"","","",null,null,null,null,null,null,null,null,null,null,null,null,null,null,null,null,null,null,null,null,null,null,null,null,null,null,null,null,"--",""]
[270,null,null,null,"","","",null,null,null,null,null,null,null,null,null,null,null,null,null,null,null,null,null,null,null,null,null,null,null,null,null,null,null,null,"--",""]
[271,null,null,null,"","","",null,null,null,null,null,null,null,null,null,null,null,null,null,null,null,null,null,null,null,null,null,null,null,null,null,null,null,null,"--",""]
[272,null,null,null,"","","",null,null,null,null,null,null,null,null,null,null,null,null,null,null,null,null,null,null,null,null,null,null,null,null,null,null,null,null,"--",""]
[273,null,null,null,"","","",null,null,null,null,null,null,null,null,null,null,null,null,null,null,null,null,null,null,null,null,null,null,null,null,null,null,null,null,"--",""]
[274,null,null,null,"","","",null,null,null,null,null,null,null,null,null,null,null,null,null,null,null,null,null,null,null,null,null,null,null,null,null,null,null,null,"--",""]
[275,null,null,null,"","","",null,null,null,null,null,null,null,null,null,null,null,null,null,null,null,null,null,null,null,null,null,null,null,null,null,null,null,null,"--",""]
[276,null,null,null,"","","",null,null,null,null,null,null,null,null,null,null,null,null,null,null,null,null,null,null,null,null,null,null,null,null,null,null,null,null,"--",""]
[277,null,null,null,"","","",null,null,null,null,null,null,null,null,null,null,null,null,null,null,null,null,null,null,null,null,null,null,null,null,null,null,null,null,"--",""]
[278,null,null,null,"","","",null,null,null,null,null,null,null,null,null,null,null,null,null,null,null,null,null,null,null,null,null,null,null,null,null,null,null,null,"--",""]
[279,null,null,null,"","","",null,null,null,null,null,null,null,null,null,null,null,null,null,null,null,null,null,null,null,null,null,null,null,null,null,null,null,null,"--",""]
[280,null,null,null,"","","",null,null,null,null,null,null,null,null,null,null,null,null,null,null,null,null,null,null,null,null,null,null,null,null,null,null,null,null,"--",""]
[281,null,null,null,"","","",null,null,null,null,null,null,null,null,null,null,null,null,null,null,null,null,null,null,null,null,null,null,null,null,null,null,null,null,"--",""]
[282,null,null,null,"","","",null,null,null,null,null,null,null,null,null,null,null,null,null,null,null,null,null,null,null,null,null,null,null,null,null,null,null,null,"--",""]
[283,null,null,null,"","","",null,null,null,null,null,null,null,null,null,null,null,null,null,null,null,null,null,null,null,null,null,null,null,null,null,null,null,null,"--",""]
[284,null,null,null,"","","",null,null,null,null,null,null,null,null,null,null,null,null,null,null,null,null,null,null,null,null,null,null,null,null,null,null,null,null,"--",""]
[285,null,null,null,"","","",null,null,null,null,null,null,null,null,null,null,null,null,null,null,null,null,null,null,null,null,null,null,null,null,null,null,null,null,"--",""]
[286,null,null,null,"","","",null,null,null,null,null,null,null,null,null,null,null,null,null,null,null,null,null,null,null,null,null,null,null,null,null,null,null,null,"--",""]
[287,null,null,null,"","","",null,null,null,null,null,null,null,null,null,null,null,null,null,null,null,null,null,null,null,null,null,null,null,null,null,null,null,null,"--",""]
[288,null,null,null,"","","",null,null,null,null,null,null,null,null,null,null,null,null,null,null,null,null,null,null,null,null,null,null,null,null,null,null,null,null,"--",""]
[289,null,null,null,"","","",null,null,null,null,null,null,null,null,null,null,null,null,null,null,null,null,null,null,null,null,null,null,null,null,null,null,null,null,"--",""]
[290,null,null,null,"","","",null,null,null,null,null,null,null,null,null,null,null,null,null,null,null,null,null,null,null,null,null,null,null,null,null,null,null,null,"--",""]
[291,null,null,null,"","","",null,null,null,null,null,null,null,null,null,null,null,null,null,null,null,null,null,null,null,null,null,null,null,null,null,null,null,null,"--",""]
[292,null,null,null,"","","",null,null,null,null,null,null,null,null,null,null,null,null,null,null,null,null,null,null,null,null,null,null,null,null,null,null,null,null,"--",""]
[293,null,null,null,"","","",null,null,null,null,null,null,null,null,null,null,null,null,null,null,null,null,null,null,null,null,null,null,null,null,null,null,null,null,"--",""]
[294,null,null,null,"","","",null,null,null,null,null,null,null,null,null,null,null,null,null,null,null,null,null,null,null,null,null,null,null,null,null,null,null,null,"--",""]
[295,null,null,null,"","","",null,null,null,null,null,null,null,null,null,null,null,null,null,null,null,null,null,null,null,null,null,null,null,null,null,null,null,null,"--",""]
[296,null,null,null,"","","",null,null,null,null,null,null,null,null,null,null,null,null,null,null,null,null,null,null,null,null,null,null,null,null,null,null,null,null,"--",""]
[297,null,null,null,"","","",null,null,null,null,null,null,null,null,null,null,null,null,null,null,null,null,null,null,null,null,null,null,null,null,null,null,null,null,"--",""]
[298,null,null,null,"","","",null,null,null,null,null,null,null,null,null,null,null,null,null,null,null,null,null,null,null,null,null,null,null,null,null,null,null,null,"--",""]
[299,null,null,null,"","","",null,null,null,null,null,null,null,null,null,null,null,null,null,null,null,null,null,null,null,null,null,null,null,null,null,null,null,null,"--",""]
[300,null,null,null,"","","",null,null,null,null,null,null,null,null,null,null,null,null,null,null,null,null,null,null,null,null,null,null,null,null,null,null,null,null,"--",""]
[301,null,null,null,"","","",null,null,null,null,null,null,null,null,null,null,null,null,null,null,null,null,null,null,null,null,null,null,null,null,null,null,null,null,"--",""]
[302,null,null,null,"","",""]
[303,null,null,null,"","",""]
[304,null,null,null,"","",""]
[305,null,null,null,"","",""]
[306,null,null,null,"","",""]
[307,null,null,null,"","",""]
[308,null,null,null,"","",""]
[309,null,null,null,"","",""]
[310,null,null,null,"","",""]
[311,null,null,null,"","",""]
[312,null,null,null,"","",""]
[313,null,null,null,"","",""]
[314,null,null,null,"","",""]
[315,null,null,null,"","",""]
[316,null,null,null,"","",""]
[317,null,null,null,"","",""]
[318,null,null,null,"","",""]
[319,null,null,null,"","",""]
[320,null,null,null,"","",""]
[321,null,null,null,"","",""]
[322,null,null,null,"","",""]
[323,null,null,null,"","",""]
[324,null,null,null,"","",""]
[325,null,null,null,"","",""]
[326,null,null,null,"","",""]
[327,null,null,null,"","",""]
[328,null,null,null,"","",""]
[329,null,null,null,"","",""]
[330,null,null,null,"","",""]
[331,null,null,null,"","",""]
[332,null,null,null,"","",""]
[333,null,null,null,"","",""]
[334,null,null,null,"","",""]
[335,null,null,null,"","",""]
[336,null,null,null,"","",""]
[337,null,null,null,"","",""]
[338,null,null,null,"","",""]
[339,null,null,null,"","",""]
[340,null,null,null,"","",""]
[341,null,null,null,"","",""]
[342,null,null,null,"","",""]
[343,null,null,null,"","",""]
[344,null,null,null,"","",""]
[345,null,null,null,"","",""]
[346,null,null,null,"","",""]
[347,null,null,null,"","",""]
[348,null,null,null,"","",""]
[349,null,null,null,"","",""]
[350,null,null,null,"","",""]
[351,null,null,null,"","",""]
[352,null,null,null,"","",""]
[353,null,null,null,"","",""]
[354,null,null,null,"","",""]
[355,null,null,null,"","",""]
[356,null,null,null,"","",""]
[357,null,null,null,"","",""]
[358,null,null,null,"","",""]
[359,null,null,null,"","",""]
[360,null,null,null,"","",""]
[361,null,null,null,"","",""]
[362,null,null,null,"","",""]
[363,null,null,null,"","",""]
[364,null,null,null,"","",""]
[365,null,null,null,"","",""]
[366,null,null,null,"","",""]
[367,null,null,null,"","",""]
[368,null,null,null,"","",""]
[369,null,null,null,"","",""]
[370,null,null,null,"","",""]
[371,null,null,null,"","",""]
[372,null,null,null,"","",""]
[373,null,null,null,"","",""]
[374,null,null,null,"","",""]
[375,null,null,null,"","",""]
[376,null,null,null,"","",""]
[377,null,null,null,"","",""]
[378,null,null,null,"","",""]
[379,null,null,null,"","",""]
[380,null,null,null,"","",""]
[381,null,null,null,"","",""]
[382,null,null,null,"","",""]
[383,null,null,null,"","",""]
[384,null,null,null,"","",""]
[385,null,null,null,"","",""]
[386,null,null,null,"","",""]
[387,null,null,null,"","",""]
[388,null,null,null,"","",""]
[389,null,null,null,"","",""]
[390,null,null,null,"","",""]
[391,null,null,null,"","",""]
[392,null,null,null,"","",""]
[393,null,null,null,"","",""]
[394,null,null,null,"","",""]
[395,null,null,null,"","",""]
[396,null,null,null,"","",""]
[397,null,null,null,"","",""]
[398,null,null,null,"","",""]
[399,null,null,null,"","",""]
[400,null,null,null,"","",""]
[401,null,null,null,"","",""]
[402,null,null,null,"","",""]
[403,null,null,null,"","",""]
[404,null,null,null,"","",""]
[405,null,null,null,"","",""]
[406,null,null,null,"","",""]
[407,null,null,null,"","",""]
[408,null,null,null,"","",""]
[409,null,null,null,"","",""]
[410,null,null,null,"","",""]
[411,null,null,null,"","",""]
[412,null,null,null,"","",""]
[413,null,null,null,"","",""]
[414,null,null,null,"","",""]
[415,null,null,null,"","",""]
[416,null,null,null,"","",""]
[417,null,null,null,"","",""]
[418,null,null,null,"","",""]
[419,null,null,null,"","",""]
[420,null,null,null,"","",""]
[421,null,null,null,"","",""]
[422,null,null,null,"","",""]
[423,null,null,null,"","",""]
[424,null,null,null,"","",""]
[425,null,null,null,"","",""]
[426,null,null,null,"","",""]
[427,null,null,null,"","",""]
[428,null,null,null,"","",""]
[429,null,null,null,"","",""]
[430,null,null,null,"","",""]
[431,null,null,null,"","",""]
[432,null,null,null,"","",""]
[433,null,null,null,"","",""]
[434,null,null,null,"","",""]
[435,null,null,null,"","",""]
[436,null,null,null,"","",""]
[437,null,null,null,"","",""]
[438,null,null,null,"","",""]
[439,null,null,null,"","",""]
[440,null,null,null,"","",""]
[441,null,null,null,"","",""]
[442,null,null,null,"","",""]
[443,null,null,null,"","",""]
[444,null,null,null,"","",""]
[445,null,null,null,"","",""]
[446,null,null,null,"","",""]
[447,null,null,null,"","",""]
[448,null,null,null,"","",""]
[449,null,null,null,"","",""]
[450,null,null,null,"","",""]
[451,null,null,null,"","",""]
[452,null,null,null,"","",""]
[453,null,null,null,"","",""]
[454,null,null,null,"","",""]
[455,null,null,null,"","",""]
[456,null,null,null,"","",""]
[457,null,null,null,"","",""]
[458,null,null,null,"","",""]
[459,null,null,null,"","",""]
[460,null,null,null,"","",""]
[461,null,null,null,"","",""]
[462,null,null,null,"","",""]
[463,null,null,null,"","",""]
[464,null,null,null,"","",""]
[465,null,null,null,"","",""]
[466,null,null,null,"","",""]
[467,null,null,null,"","",""]
[468,null,null,null,"","",""]
[469,null,null,null,"","",""]
[470,null,null,null,"","",""]
[471,null,null,null,"","",""]
[472,null,null,null,"","",""]
[473,null,null,null,"","",""]
[474,null,null,null,"","",""]
[475,null,null,null,"","",""]
[476,null,null,null,"","",""]
[477,null,null,null,"","",""]
[478,null,null,null,"","",""]
[479,null,null,null,"","",""]
[480,null,null,null,"","",""]
[481,null,null,null,"","",""]
[482,null,null,null,"","",""]
[483,null,null,null,"","",""]
[484,null,null,null,"","",""]
[485,null,null,null,"","",""]
[486,null,null,null,"","",""]
[487,null,null,null,"","",""]
[488,null,null,null,"","",""]
[489,null,null,null,"","",""]
[490,null,null,null,"","",""]
[491,null,null,null,"","",""]
[492,null,null,null,"","",""]
[493,null,null,null,"","",""]
[494,null,null,null,"","",""]
[495,null,null,null,"","",""]
[496,null,null,null,"","",""]
[497,null,null,null,"","",""]
[498,null,null,null,"","",""]
[499,null,null,null,"","",""]
[500,null,null,null,"","",""]
[501,null,null,null,"","",""]
[502,null,null,null,"","",""]
[503,null,null,null,"","",""]
[504,null,null,null,"","",""]
[505,null,null,null,"","",""]
[506,null,null,null,"","",""]
[507,null,null,null,"","",""]
[508,null,null,null,"","",""]
[509,null,null,null,"","",""]
[510,null,null,null,"","",""]
[511,null,null,null,"","",""]
[512,null,null,null,"","",""]
[513,null,null,null,"","",""]
[514,null,null,null,"","",""]
[515,null,null,null,"","",""]
[516,null,null,null,"","",""]
[517,null,null,null,"","",""]
[518,null,null,null,"","",""]
[519,null,null,null,"","",""]
[520,null,null,null,"","",""]
[521,null,null,null,"","",""]
[522,null,null,null,"","",""]
[523,null,null,null,"","",""]
[524,null,null,null,"","",""]
[525,null,null,null,"","",""]
[526,null,null,null,"","",""]
[527,null,null,null,"","",""]
[528,null,null,null,"","",""]
[529,null,null,null,"","",""]
[530,null,null,null,"","",""]
[531,null,null,null,"","",""]
[532,null,null,null,"","",""]
[533,null,null,null,"","",""]
[534,null,null,null,"","",""]
[535,null,null,null,"","",""]
[536,null,null,null,"","",""]
[537,null,null,null,"","",""]
[538,null,null,null,"","",""]
[539,null,null,null,"","",""]
[540,null,null,null,"","",""]
[541,null,null,null,"","",""]
[542,null,null,null,"","",""]
[543,null,null,null,"","",""]
[544,null,null,null,"","",""]
[545,null,null,null,"","",""]
[546,null,null,null,"","",""]
[547,null,null,null,"","",""]
[548,null,null,null,"","",""]
[549,null,null,null,"","",""]
[550,null,null,null,"","",""]
[551,null,null,null,"","",""]
[552,null,null,null,"","",""]
[553,null,null,null,"","",""]
[554,null,null,null,"","",""]
[555,null,null,null,"","",""]
[556,null,null,null,"","",""]
[557,null,null,null,"","",""]
[558,null,null,null,"","",""]
[559,null,null,null,"","",""]
[560,null,null,null,"","",""]
[561,null,null,null,"","",""]
[562,null,null,null,"","",""]
[563,null,null,null,"","",""]
[564,null,null,null,"","",""]
[565,null,null,null,"","",""]
[566,null,null,null,"","",""]
[567,null,null,null,"","",""]
[568,null,null,null,"","",""]
[569,null,null,null,"","",""]
[570,null,null,null,"","",""]
[571,null,null,null,"","",""]
[572,null,null,null,"","",""]
[573,null,null,null,"","",""]
[574,null,null,null,"","",""]
[575,null,null,null,"","",""]
[576,null,null,null,"","",""]
[577,null,null,null,"","",""]
[578,null,null,null,"","",""]
[579,null,null,null,"","",""]
[580,null,null,null,"","",""]
[581,null,null,null,"","",""]
[582,null,null,null,"","",""]
[583,null,null,null,"","",""]
[584,null,null,null,"","",""]
[585,null,null,null,"","",""]
[586,null,null,null,"","",""]
[587,null,null,null,"","",""]
[588,null,null,null,"","",""]
[589,null,null,null,"","",""]
[590,null,null,null,"","",""]
[591,null,null,null,"","",""]
[592,null,null,null,"","",""]
[593,null,null,null,"","",""]
[594,null,null,null,"","",""]
[595,null,null,null,"","",""]
[596,null,null,null,"","",""]
[597,null,null,null,"","",""]
[598,null,null,null,"","",""]
[599,null,null,null,"","",""]
[600,null,null,null,"","",""]
[601,null,null,null,"","",""]
[602,null,null,null,"","",""]
[603,null,null,null,"","",""]
[604,null,null,null,"","",""]
[605,null,null,null,"","",""]
[606,null,null,null,"","",""]
[607,null,null,null,"","",""]
[608,null,null,null,"","",""]
[609,null,null,null,"","",""]
[610,null,null,null,"","",""]
[611,null,null,null,"","",""]
[612,null,null,null,"","",""]
[613,null,null,null,"","",""]
[614,null,null,null,"","",""]
[615,null,null,null,"","",""]
[616,null,null,null,"","",""]
[617,null,null,null,"","",""]
[618,null,null,null,"","",""]
[619,null,null,null,"","",""]
[620,null,null,null,"","",""]
[621,null,null,null,"","",""]
[622,null,null,null,"","",""]
[623,null,null,null,"","",""]
[624,null,null,null,"","",""]
[625,null,null,null,"","",""]
[626,null,null,null,"","",""]
[627,null,null,null,"","",""]
[628,null,null,null,"","",""]
[629,null,null,null,"","",""]
[630,null,null,null,"","",""]
[631,null,null,null,"","",""]
[632,null,null,null,"","",""]
[633,null,null,null,"","",""]
[634,null,null,null,"","",""]
[635,null,null,null,"","",""]
[636,null,null,null,"","",""]
[637,null,null,null,"","",""]
[638,null,null,null,"","",""]
[639,null,null,null,"","",""]
[640,null,null,null,"","",""]
[641,null,null,null,"","",""]
[642,null,null,null,"","",""]
[643,null,null,null,"","",""]
[644,null,null,null,"","",""]
[645,null,null,null,"","",""]
[646,null,null,null,"","",""]
[647,null,null,null,"","",""]
[648,null,null,null,"","",""]
[649,null,null,null,"","",""]
[650,null,null,null,"","",""]
[651,null,null,null,"","",""]
[652,null,null,null,"","",""]
[653,null,null,null,"","",""]
[654,null,null,null,"","",""]
[655,null,null,null,"","",""]
[656,null,null,null,"","",""]
[657,null,null,null,"","",""]
[658,null,null,null,"","",""]
[659,null,null,null,"","",""]
[660,null,null,null,"","",""]
[661,null,null,null,"","",""]
[662,null,null,null,"","",""]
[663,null,null,null,"","",""]
[664,null,null,null,"","",""]
[665,null,null,null,"","",""]
[666,null,null,null,"","",""]
[667,null,null,null,"","",""]
[668,null,null,null,"","",""]
[669,null,null,null,"","",""]
[670,null,null,null,"","",""]
[671,null,null,null,"","",""]
[672,null,null,null,"","",""]
[673,null,null,null,"","",""]
[674,null,null,null,"","",""]
[675,null,null,null,"","",""]
[676,null,null,null,"","",""]
[677,null,null,null,"","",""]
[678,null,null,null,"","",""]
[679,null,null,null,"","",""]
[680,null,null,null,"","",""]
[681,null,null,null,"","",""]
[682,null,null,null,"","",""]
[683,null,null,null,"","",""]
[684,null,null,null,"","",""]
[685,null,null,null,"","",""]
[686,null,null,null,"","",""]
[687,null,null,null,"","",""]
[688,null,null,null,"","",""]
[689,null,null,null,"","",""]
[690,null,null,null,"","",""]
[691,null,null,null,"","",""]
[692,null,null,null,"","",""]
[693,null,null,null,"","",""]
[694,null,null,null,"","",""]
[695,null,null,null,"","",""]
[696,null,null,null,"","",""]
[697,null,null,null,"","",""]
[698,null,null,null,"","",""]
[699,null,null,null,"","",""]
[700,null,null,null,"","",""]
[701,null,null,null,"","",""]
[702,null,null,null,"","",""]
[703,null,null,null,"","",""]
[704,null,null,null,"","",""]
[705,null,null,null,"","",""]
[706,null,null,null,"","",""]
[707,null,null,null,"","",""]
[708,null,null,null,"","",""]
[709,null,null,null,"","",""]
[710,null,null,null,"","",""]
[711,null,null,null,"","",""]
[712,null,null,null,"","",""]
[713,null,null,null,"","",""]
[714,null,null,null,"","",""]
[715,null,null,null,"","",""]
[716,null,null,null,"","",""]
[717,null,null,null,"","",""]
[718,null,null,null,"","",""]
[719,null,null,null,"","",""]
[720,null,null,null,"","",""]
[721,null,null,null,"","",""]
[722,null,null,null,"","",""]
[723,null,null,null,"","",""]
[724,null,null,null,"","",""]
[725,null,null,null,"","",""]
[726,null,null,null,"","",""]
[727,null,null,null,"","",""]
[728,null,null,null,"","",""]
[729,null,null,null,"","",""]
[730,null,null,null,"","",""]
[731,null,null,null,"","",""]
[732,null,null,null,"","",""]
[733,null,null,null,"","",""]
[734,null,null,null,"","",""]
[735,null,null,null,"","",""]
[736,null,null,null,"","",""]
[737,null,null,null,"","",""]
[738,null,null,null,"","",""]
[739,null,null,null,"","",""]
[740,null,null,null,"","",""]
[741,null,null,null,"","",""]
[742,null,null,null,"","",""]
[743,null,null,null,"","",""]
[744,null,null,null,"","",""]
[745,null,null,null,"","",""]
[746,null,null,null,"","",""]
[747,null,null,null,"","",""]
[748,null,null,null,"","",""]
[749,null,null,null,"","",""]
[750,null,null,null,"","",""]
[751,null,null,null,"","",""]
[752,null,null,null,"","",""]
[753,null,null,null,"","",""]
[754,null,null,null,"","",""]
[755,null,null,null,"","",""]
[756,null,null,null,"","",""]
[757,null,null,null,"","",""]
[758,null,null,null,"","",""]
[759,null,null,null,"","",""]
[760,null,null,null,"","",""]
[761,null,null,null,"","",""]
[762,null,null,null,"","",""]
[763,null,null,null,"","",""]
[764,null,null,null,"","",""]
[765,null,null,null,"","",""]
[766,null,null,null,"","",""]
[767,null,null,null,"","",""]
[768,null,null,null,"","",""]
[769,null,null,null,"","",""]
[770,null,null,null,"","",""]
[771,null,null,null,"","",""]
[772,null,null,null,"","",""]
[773,null,null,null,"","",""]
[774,null,null,null,"","",""]
[775,null,null,null,"","",""]
[776,null,null,null,"","",""]
[777,null,null,null,"","",""]
[778,null,null,null,"","",""]
[779,null,null,null,"","",""]
[780,null,null,null,"","",""]
[781,null,null,null,"","",""]
[782,null,null,null,"","",""]
[783,null,null,null,"","",""]
[784,null,null,null,"","",""]
[785,null,null,null,"","",""]
[786,null,null,null,"","",""]
[787,null,null,null,"","",""]
[788,null,null,null,"","",""]
[789,null,null,null,"","",""]
[790,null,null,null,"","",""]
[791,null,null,null,"","",""]
[792,null,null,null,"","",""]
[793,null,null,null,"","",""]
[794,null,null,null,"","",""]
[795,null,null,null,"","",""]
[796,null,null,null,"","",""]
[797,null,null,null,"","",""]
[798,null,null,null,"","",""]
[799,null,null,null,"","",""]
[800,null,null,null,"","",""]
[801,null,null,null,"","",""]
[802,null,null,null,"","",""]
[803,null,null,null,"","",""]
[804,null,null,null,"","",""]
[805,null,null,null,"","",""]
[806,null,null,null,"","",""]
[807,null,null,null,"","",""]
[808,null,null,null,"","",""]
[809,null,null,null,"","",""]
[810,null,null,null,"","",""]
[811,null,null,null,"","",""]
[812,null,null,null,"","",""]
[813,null,null,null,"","",""]
[814,null,null,null,"","",""]
[815,null,null,null,"","",""]
[816,null,null,null,"","",""]
[817,null,null,null,"","",""]
[818,null,null,null,"","",""]
[819,null,null,null,"","",""]
[820,null,null,null,"","",""]
[821,null,null,null,"","",""]
[822,null,null,null,"","",""]
[823,null,null,null,"","",""]
[824,null,null,null,"","",""]
[825,null,null,null,"","",""]
[826,null,null,null,"","",""]
[827,null,null,null,"","",""]
[828,null,null,null,"","",""]
[829,null,null,null,"","",""]
[830,null,null,null,"","",""]
[831,null,null,null,"","",""]
[832,null,null,null,"","",""]
[833,null,null,null,"","",""]
[834,null,null,null,"","",""]
[835,null,null,null,"","",""]
[836,null,null,null,"","",""]
[837,null,null,null,"","",""]
[838,null,null,null,"","",""]
[839,null,null,null,"","",""]
[840,null,null,null,"","",""]
[841,null,null,null,"","",""]
[842,null,null,null,"","",""]
[843,null,null,null,"","",""]
[844,null,null,null,"","",""]
[845,null,null,null,"","",""]
[846,null,null,null,"","",""]
[847,null,null,null,"","",""]
[848,null,null,null,"","",""]
[849,null,null,null,"","",""]
[850,null,null,null,"","",""]
[851,null,null,null,"","",""]
[852,null,null,null,"","",""]
[853,null,null,null,"","",""]
[854,null,null,null,"","",""]
[855,null,null,null,"","",""]
[856,null,null,null,"","",""]
[857,null,null,null,"","",""]
[858,null,null,null,"","",""]
[859,null,null,null,"","",""]
[860,null,null,null,"","",""]
[861,null,null,null,"","",""]
[862,null,null,null,"","",""]
[863,null,null,null,"","",""]
[864,null,null,null,"","",""]
[865,null,null,null,"","",""]
[866,null,null,null,"","",""]
[867,null,null,null,"","",""]
[868,null,null,null,"","",""]
[869,null,null,null,"","",""]
[870,null,null,null,"","",""]
[871,null,null,null,"","",""]
[872,null,null,null,"","",""]
[873,null,null,null,"","",""]
[874,null,null,null,"","",""]
[875,null,null,null,"","",""]
[876,null,null,null,"","",""]
[877,null,null,null,"","",""]
[878,null,null,null,"","",""]
[879,null,null,null,"","",""]
[880,null,null,null,"","",""]

{"sheet":"التقرير","index":11,"n_rows":5,"n_cols":4,"rows_kept":5,"cut":false,"hidden":false,"merged":[[4,3,4,10]]}
[null,null,"الأزهر الشريف"]
[null,null,"منطقة القاهرة الازهرية"]
[null,null,"إدارة شمال القاهرة التعليمية "]
[null,null,"معهد شبرا الخيمة الابتدائى"]
[null,null,null,"إحصاء ب"]