{"text_format":"1","workbook":"xlsx","n_sheets":4,"sheets":["1","بيانات","data","حساب سائق"],"not_rendered":{"charts":0,"images":0,"macros":1,"external_links":0,"defined_names":6,"comments":0,"pivot_tables":1},"unopened":[],"bounds":{"document_bytes":16777216,"sheet_cells":100000,"rows_first":2000,"rows_last":500,"rows_between":2000,"halvings":0,"cell_chars":16384,"cell_head_chars":4096},"cells_cut":0,"cells_raw":0,"read":"whole","date_system":"1900"}

{"sheet":"1","index":0,"n_rows":68,"n_cols":13,"rows_kept":68,"cut":false,"hidden":false,"merged":[[65,7,65,8],[62,8,62,10],[63,7,63,8],[64,7,64,8],[4,6,4,7],[4,9,4,11],[5,4,5,7],[5,9,5,11],[6,3,6,6],[0,3,0,6],[0,9,0,11],[1,3,1,6],[1,10,1,11],[2,6,3,7],[2,9,2,11]]}
["مـنـتـج تــام","زيـوت خــام",null,"شركة عباد  الرحمن  للنقل الداخلي",null,null,null,null,1093,"كمال محمد السيد محمد                          "]
["الايمان    737","أحمد ع القوى   2691",null,"العاشر من رمضان ",null,null,null,null,1204,"ملف ضريبي"," 35-03-552-01584-5"]
["محرم     1619","المستقبل        1317",null,null,null,"فـــاتــورة  ",null,null,null,"ماموريه ضرائب العاشر من رمضان"]
[]
["جمعية    1220","الامين         2546",null,null,null,null,"منتج تام  ",null,{"$f":"SUM(I1:I4)","v":2297},"سجل  تجارى : 6707"]
["الاسراء    1630","المؤسسة      2631",null,null,"المطلوب من :- شركة ارما التجاريه",null,null,null,null,"التسجيل ضريبي 576-885-259"]
[null,null,null,"2019-10-10",null,null,null,null,1203]
[null,null,"عمود1","م","القيمة +\n 14 %","القيمة\n بالجنيه","سعر \nالطن","الكميه","المحافظة","رقم \nShipment","نوع\nالسيارة","الميزان","عمود2"]
[]
[]
[]
[]
[]
[]
[]
[]
[]
[]
[]
[]
[]
[]
[]
[]
[]
[]
[]
[]
[]
[]
[]
[]
[]
[]
[]
[]
[]
[]
[]
[]
[]
[]
[]
[null,null,null,1,{"$f":"IFERROR((الجدول6[[#This Row],[القيمة\n بالجنيه]]*1.14),\"\")","v":""},{"$f":"IFERROR(ROUND(G44*H44,2),\"\")","v":""},{"$f":"IFERROR(INDEX(الجدول4[[5 طن]:[وش]],MATCH(الجدول6[[#This Row],[المحافظة]],الجدول4[عمود1],0),MATCH(الجدول6[[#This Row],[نوع\nالسيارة]],الجدول4[[#Headers],[5 طن]:[وش]],0)),\"\")","v":""},{"$f":"IFERROR(OFFSET(بيانات!$A$4,MATCH(C44,بيانات!$X$5:$X$107,0),24),\"\")","v":""},{"$f":"IFERROR(OFFSET(بيانات!$A$4,MATCH(C44,بيانات!$X$5:$X$107,0),7),\"\")","v":""},{"$f":"الجدول6[[#This Row],[عمود1]]","v":0},{"$f":"IFERROR(OFFSET(بيانات!$A$4,MATCH(C44,بيانات!$X$5:$X$107,0),26),\"\")","v":""},{"$f":"IFERROR(OFFSET(بيانات!$A$4,MATCH(C44,بيانات!$X$5:$X$107,0),21),\"\")","v":""},201]
[null,null,null,2,{"$f":"IFERROR((الجدول6[[#This Row],[القيمة\n بالجنيه]]*1.14),\"\")","v":""},{"$f":"IFERROR(ROUND(G45*H45,2),\"\")","v":""},{"$f":"IFERROR(INDEX(الجدول4[[5 طن]:[وش]],MATCH(الجدول6[[#This Row],[المحافظة]],الجدول4[عمود1],0),MATCH(الجدول6[[#This Row],[نوع\nالسيارة]],الجدول4[[#Headers],[5 طن]:[وش]],0)),\"\")","v":""},{"$f":"IFERROR(OFFSET(بيانات!$A$4,MATCH(C45,بيانات!$X$5:$X$107,0),24),\"\")","v":""},{"$f":"IFERROR(OFFSET(بيانات!$A$4,MATCH(C45,بيانات!$X$5:$X$107,0),7),\"\")","v":""},{"$f":"الجدول6[[#This Row],[عمود1]]","v":0},{"$f":"IFERROR(OFFSET(بيانات!$A$4,MATCH(C45,بيانات!$X$5:$X$107,0),26),\"\")","v":""},{"$f":"IFERROR(OFFSET(بيانات!$A$4,MATCH(C45,بيانات!$X$5:$X$107,0),21),\"\")","v":""},1684]
[null,null,null,3,{"$f":"IFERROR((الجدول6[[#This Row],[القيمة\n بالجنيه]]*1.14),\"\")","v":""},"",{"$f":"IFERROR(INDEX(الجدول4[[5 طن]:[وش]],MATCH(الجدول6[[#This Row],[المحافظة]],الجدول4[عمود1],0),MATCH(الجدول6[[#This Row],[نوع\nالسيارة]],الجدول4[[#Headers],[5 طن]:[وش]],0)),\"\")","v":""},{"$f":"IFERROR(OFFSET(بيانات!$A$4,MATCH(C46,بيانات!$X$5:$X$107,0),24),\"\")","v":""},{"$f":"IFERROR(OFFSET(بيانات!$A$4,MATCH(C46,بيانات!$X$5:$X$107,0),7),\"\")","v":""},{"$f":"الجدول6[[#This Row],[عمود1]]","v":0},{"$f":"IFERROR(OFFSET(بيانات!$A$4,MATCH(C46,بيانات!$X$5:$X$107,0),26),\"\")","v":""},{"$f":"IFERROR(OFFSET(بيانات!$A$4,MATCH(C46,بيانات!$X$5:$X$107,0),21),\"\")","v":""},1771]
[null,null,null,4,{"$f":"IFERROR((الجدول6[[#This Row],[القيمة\n بالجنيه]]*1.14),\"\")","v":""},"",{"$f":"IFERROR(INDEX(الجدول4[[5 طن]:[وش]],MATCH(الجدول6[[#This Row],[المحافظة]],الجدول4[عمود1],0),MATCH(الجدول6[[#This Row],[نوع\nالسيارة]],الجدول4[[#Headers],[5 طن]:[وش]],0)),\"\")","v":""},{"$f":"IFERROR(OFFSET(بيانات!$A$4,MATCH(C47,بيانات!$X$5:$X$107,0),24),\"\")","v":""},{"$f":"IFERROR(OFFSET(بيانات!$A$4,MATCH(C47,بيانات!$X$5:$X$107,0),7),\"\")","v":""},{"$f":"الجدول6[[#This Row],[عمود1]]","v":0},{"$f":"IFERROR(OFFSET(بيانات!$A$4,MATCH(C47,بيانات!$X$5:$X$107,0),26),\"\")","v":""},{"$f":"IFERROR(OFFSET(بيانات!$A$4,MATCH(C47,بيانات!$X$5:$X$107,0),21),\"\")","v":""},0]
[null,null,null,5,{"$f":"IFERROR((الجدول6[[#This Row],[القيمة\n بالجنيه]]*1.14),\"\")","v":""},"",{"$f":"IFERROR(INDEX(الجدول4[[5 طن]:[وش]],MATCH(الجدول6[[#This Row],[المحافظة]],الجدول4[عمود1],0),MATCH(الجدول6[[#This Row],[نوع\nالسيارة]],الجدول4[[#Headers],[5 طن]:[وش]],0)),\"\")","v":""},{"$f":"IFERROR(OFFSET(بيانات!$A$4,MATCH(C48,بيانات!$X$5:$X$107,0),24),\"\")","v":""},{"$f":"IFERROR(OFFSET(بيانات!$A$4,MATCH(C48,بيانات!$X$5:$X$107,0),7),\"\")","v":""},{"$f":"الجدول6[[#This Row],[عمود1]]","v":0},{"$f":"IFERROR(OFFSET(بيانات!$A$4,MATCH(C48,بيانات!$X$5:$X$107,0),26),\"\")","v":""},{"$f":"IFERROR(OFFSET(بيانات!$A$4,MATCH(C48,بيانات!$X$5:$X$107,0),21),\"\")","v":""},{"$f":"SUBTOTAL(109,M9:M47)","v":3656}]
[null,null,null,6,{"$f":"IFERROR((الجدول6[[#This Row],[القيمة\n بالجنيه]]*1.14),\"\")","v":""},"",{"$f":"IFERROR(INDEX(الجدول4[[5 طن]:[وش]],MATCH(الجدول6[[#This Row],[المحافظة]],الجدول4[عمود1],0),MATCH(الجدول6[[#This Row],[نوع\nالسيارة]],الجدول4[[#Headers],[5 طن]:[وش]],0)),\"\")","v":""},{"$f":"IFERROR(OFFSET(بيانات!$A$4,MATCH(C49,بيانات!$X$5:$X$107,0),24),\"\")","v":""},{"$f":"IFERROR(OFFSET(بيانات!$A$4,MATCH(C49,بيانات!$X$5:$X$107,0),7),\"\")","v":""},{"$f":"الجدول6[[#This Row],[عمود1]]","v":0},{"$f":"IFERROR(OFFSET(بيانات!$A$4,MATCH(C49,بيانات!$X$5:$X$107,0),26),\"\")","v":""},{"$f":"IFERROR(OFFSET(بيانات!$A$4,MATCH(C49,بيانات!$X$5:$X$107,0),21),\"\")","v":""}]
[null,null,null,7,{"$f":"IFERROR((الجدول6[[#This Row],[القيمة\n بالجنيه]]*1.14),\"\")","v":""},"",{"$f":"IFERROR(INDEX(الجدول4[[5 طن]:[وش]],MATCH(الجدول6[[#This Row],[المحافظة]],الجدول4[عمود1],0),MATCH(الجدول6[[#This Row],[نوع\nالسيارة]],الجدول4[[#Headers],[5 طن]:[وش]],0)),\"\")","v":""},{"$f":"IFERROR(OFFSET(بيانات!$A$4,MATCH(C50,بيانات!$X$5:$X$107,0),24),\"\")","v":""},{"$f":"IFERROR(OFFSET(بيانات!$A$4,MATCH(C50,بيانات!$X$5:$X$107,0),7),\"\")","v":""},{"$f":"الجدول6[[#This Row],[عمود1]]","v":0},{"$f":"IFERROR(OFFSET(بيانات!$A$4,MATCH(C50,بيانات!$X$5:$X$107,0),26),\"\")","v":""},{"$f":"IFERROR(OFFSET(بيانات!$A$4,MATCH(C50,بيانات!$X$5:$X$107,0),21),\"\")","v":""}]
[null,null,null,8,{"$f":"IFERROR((الجدول6[[#This Row],[القيمة\n بالجنيه]]*1.14),\"\")","v":""},"",{"$f":"IFERROR(INDEX(الجدول4[[5 طن]:[وش]],MATCH(الجدول6[[#This Row],[المحافظة]],الجدول4[عمود1],0),MATCH(الجدول6[[#This Row],[نوع\nالسيارة]],الجدول4[[#Headers],[5 طن]:[وش]],0)),\"\")","v":""},{"$f":"IFERROR(OFFSET(بيانات!$A$4,MATCH(C51,بيانات!$X$5:$X$107,0),24),\"\")","v":""},{"$f":"IFERROR(OFFSET(بيانات!$A$4,MATCH(C51,بيانات!$X$5:$X$107,0),7),\"\")","v":""},{"$f":"الجدول6[[#This Row],[عمود1]]","v":0},{"$f":"IFERROR(OFFSET(بيانات!$A$4,MATCH(C51,بيانات!$X$5:$X$107,0),26),\"\")","v":""},{"$f":"IFERROR(OFFSET(بيانات!$A$4,MATCH(C51,بيانات!$X$5:$X$107,0),21),\"\")","v":""}]
[null,null,null,9,{"$f":"IFERROR((الجدول6[[#This Row],[القيمة\n بالجنيه]]*1.14),\"\")","v":""},"",{"$f":"IFERROR(INDEX(الجدول4[[5 طن]:[وش]],MATCH(الجدول6[[#This Row],[المحافظة]],الجدول4[عمود1],0),MATCH(الجدول6[[#This Row],[نوع\nالسيارة]],الجدول4[[#Headers],[5 طن]:[وش]],0)),\"\")","v":""},{"$f":"IFERROR(OFFSET(بيانات!$A$4,MATCH(C52,بيانات!$X$5:$X$107,0),24),\"\")","v":""},{"$f":"IFERROR(OFFSET(بيانات!$A$4,MATCH(C52,بيانات!$X$5:$X$107,0),7),\"\")","v":""},{"$f":"الجدول6[[#This Row],[عمود1]]","v":0},{"$f":"IFERROR(OFFSET(بيانات!$A$4,MATCH(C52,بيانات!$X$5:$X$107,0),26),\"\")","v":""},{"$f":"IFERROR(OFFSET(بيانات!$A$4,MATCH(C52,بيانات!$X$5:$X$107,0),21),\"\")","v":""}]
[null,null,null,10,{"$f":"IFERROR((الجدول6[[#This Row],[القيمة\n بالجنيه]]*1.14),\"\")","v":""},"",{"$f":"IFERROR(INDEX(الجدول4[[5 طن]:[وش]],MATCH(الجدول6[[#This Row],[المحافظة]],الجدول4[عمود1],0),MATCH(الجدول6[[#This Row],[نوع\nالسيارة]],الجدول4[[#Headers],[5 طن]:[وش]],0)),\"\")","v":""},{"$f":"IFERROR(OFFSET(بيانات!$A$4,MATCH(C53,بيانات!$X$5:$X$107,0),24),\"\")","v":""},{"$f":"IFERROR(OFFSET(بيانات!$A$4,MATCH(C53,بيانات!$X$5:$X$107,0),7),\"\")","v":""},{"$f":"الجدول6[[#This Row],[عمود1]]","v":0},{"$f":"IFERROR(OFFSET(بيانات!$A$4,MATCH(C53,بيانات!$X$5:$X$107,0),26),\"\")","v":""},{"$f":"IFERROR(OFFSET(بيانات!$A$4,MATCH(C53,بيانات!$X$5:$X$107,0),21),\"\")","v":""}]
[null,null,null,11,{"$f":"IFERROR((الجدول6[[#This Row],[القيمة\n بالجنيه]]*1.14),\"\")","v":""},"",{"$f":"IFERROR(INDEX(الجدول4[[5 طن]:[وش]],MATCH(الجدول6[[#This Row],[المحافظة]],الجدول4[عمود1],0),MATCH(الجدول6[[#This Row],[نوع\nالسيارة]],الجدول4[[#Headers],[5 طن]:[وش]],0)),\"\")","v":""},{"$f":"IFERROR(OFFSET(بيانات!$A$4,MATCH(C54,بيانات!$X$5:$X$107,0),24),\"\")","v":""},{"$f":"IFERROR(OFFSET(بيانات!$A$4,MATCH(C54,بيانات!$X$5:$X$107,0),7),\"\")","v":""},{"$f":"الجدول6[[#This Row],[عمود1]]","v":0},{"$f":"IFERROR(OFFSET(بيانات!$A$4,MATCH(C54,بيانات!$X$5:$X$107,0),26),\"\")","v":""},{"$f":"IFERROR(OFFSET(بيانات!$A$4,MATCH(C54,بيانات!$X$5:$X$107,0),21),\"\")","v":""}]
[null,null,null,12,{"$f":"IFERROR((الجدول6[[#This Row],[القيمة\n بالجنيه]]*1.14),\"\")","v":""},"",{"$f":"IFERROR(INDEX(الجدول4[[5 طن]:[وش]],MATCH(الجدول6[[#This Row],[المحافظة]],الجدول4[عمود1],0),MATCH(الجدول6[[#This Row],[نوع\nالسيارة]],الجدول4[[#Headers],[5 طن]:[وش]],0)),\"\")","v":""},{"$f":"IFERROR(OFFSET(بيانات!$A$4,MATCH(C55,بيانات!$X$5:$X$107,0),24),\"\")","v":""},{"$f":"IFERROR(OFFSET(بيانات!$A$4,MATCH(C55,بيانات!$X$5:$X$107,0),7),\"\")","v":""},{"$f":"الجدول6[[#This Row],[عمود1]]","v":0},{"$f":"IFERROR(OFFSET(بيانات!$A$4,MATCH(C55,بيانات!$X$5:$X$107,0),26),\"\")","v":""},{"$f":"IFERROR(OFFSET(بيانات!$A$4,MATCH(C55,بيانات!$X$5:$X$107,0),21),\"\")","v":""}]
[null,null,null,13,{"$f":"IFERROR((الجدول6[[#This Row],[القيمة\n بالجنيه]]*1.14),\"\")","v":""},"",{"$f":"IFERROR(INDEX(الجدول4[[5 طن]:[وش]],MATCH(الجدول6[[#This Row],[المحافظة]],الجدول4[عمود1],0),MATCH(الجدول6[[#This Row],[نوع\nالسيارة]],الجدول4[[#Headers],[5 طن]:[وش]],0)),\"\")","v":""},{"$f":"IFERROR(OFFSET(بيانات!$A$4,MATCH(C56,بيانات!$X$5:$X$107,0),24),\"\")","v":""},{"$f":"IFERROR(OFFSET(بيانات!$A$4,MATCH(C56,بيانات!$X$5:$X$107,0),7),\"\")","v":""},{"$f":"الجدول6[[#This Row],[عمود1]]","v":0},{"$f":"IFERROR(OFFSET(بيانات!$A$4,MATCH(C56,بيانات!$X$5:$X$107,0),26),\"\")","v":""},{"$f":"IFERROR(OFFSET(بيانات!$A$4,MATCH(C56,بيانات!$X$5:$X$107,0),21),\"\")","v":""}]
[null,null,null,14,{"$f":"IFERROR((الجدول6[[#This Row],[القيمة\n بالجنيه]]*1.14),\"\")","v":""},"",{"$f":"IFERROR(INDEX(الجدول4[[5 طن]:[وش]],MATCH(الجدول6[[#This Row],[المحافظة]],الجدول4[عمود1],0),MATCH(الجدول6[[#This Row],[نوع\nالسيارة]],الجدول4[[#Headers],[5 طن]:[وش]],0)),\"\")","v":""},{"$f":"IFERROR(OFFSET(بيانات!$A$4,MATCH(C57,بيانات!$X$5:$X$107,0),24),\"\")","v":""},{"$f":"IFERROR(OFFSET(بيانات!$A$4,MATCH(C57,بيانات!$X$5:$X$107,0),7),\"\")","v":""},{"$f":"الجدول6[[#This Row],[عمود1]]","v":0},{"$f":"IFERROR(OFFSET(بيانات!$A$4,MATCH(C57,بيانات!$X$5:$X$107,0),26),\"\")","v":""},{"$f":"IFERROR(OFFSET(بيانات!$A$4,MATCH(C57,بيانات!$X$5:$X$107,0),21),\"\")","v":""}]
[null,null,null,15,{"$f":"IFERROR((الجدول6[[#This Row],[القيمة\n بالجنيه]]*1.14),\"\")","v":""},"",{"$f":"IFERROR(INDEX(الجدول4[[5 طن]:[وش]],MATCH(الجدول6[[#This Row],[المحافظة]],الجدول4[عمود1],0),MATCH(الجدول6[[#This Row],[نوع\nالسيارة]],الجدول4[[#Headers],[5 طن]:[وش]],0)),\"\")","v":""},{"$f":"IFERROR(OFFSET(بيانات!$A$4,MATCH(C58,بيانات!$X$5:$X$107,0),24),\"\")","v":""},{"$f":"IFERROR(OFFSET(بيانات!$A$4,MATCH(C58,بيانات!$X$5:$X$107,0),7),\"\")","v":""},{"$f":"الجدول6[[#This Row],[عمود1]]","v":0},{"$f":"IFERROR(OFFSET(بيانات!$A$4,MATCH(C58,بيانات!$X$5:$X$107,0),26),\"\")","v":""},{"$f":"IFERROR(OFFSET(بيانات!$A$4,MATCH(C58,بيانات!$X$5:$X$107,0),21),\"\")","v":""}]
[null,null,null,16,{"$f":"IFERROR((الجدول6[[#This Row],[القيمة\n بالجنيه]]*1.14),\"\")","v":""},"",{"$f":"IFERROR(INDEX(الجدول4[[5 طن]:[وش]],MATCH(الجدول6[[#This Row],[المحافظة]],الجدول4[عمود1],0),MATCH(الجدول6[[#This Row],[نوع\nالسيارة]],الجدول4[[#Headers],[5 طن]:[وش]],0)),\"\")","v":""},{"$f":"IFERROR(OFFSET(بيانات!$A$4,MATCH(C59,بيانات!$X$5:$X$107,0),24),\"\")","v":""},{"$f":"IFERROR(OFFSET(بيانات!$A$4,MATCH(C59,بيانات!$X$5:$X$107,0),7),\"\")","v":""},{"$f":"الجدول6[[#This Row],[عمود1]]","v":0},{"$f":"IFERROR(OFFSET(بيانات!$A$4,MATCH(C59,بيانات!$X$5:$X$107,0),26),\"\")","v":""},{"$f":"IFERROR(OFFSET(بيانات!$A$4,MATCH(C59,بيانات!$X$5:$X$107,0),21),\"\")","v":""}]
[null,null,null,17,{"$f":"IFERROR((الجدول6[[#This Row],[القيمة\n بالجنيه]]*1.14),\"\")","v":""},"",{"$f":"IFERROR(INDEX(الجدول4[[5 طن]:[وش]],MATCH(الجدول6[[#This Row],[المحافظة]],الجدول4[عمود1],0),MATCH(الجدول6[[#This Row],[نوع\nالسيارة]],الجدول4[[#Headers],[5 طن]:[وش]],0)),\"\")","v":""},{"$f":"IFERROR(OFFSET(بيانات!$A$4,MATCH(C60,بيانات!$X$5:$X$107,0),24),\"\")","v":""},{"$f":"IFERROR(OFFSET(بيانات!$A$4,MATCH(C60,بيانات!$X$5:$X$107,0),7),\"\")","v":""},{"$f":"الجدول6[[#This Row],[عمود1]]","v":0},{"$f":"IFERROR(OFFSET(بيانات!$A$4,MATCH(C60,بيانات!$X$5:$X$107,0),26),\"\")","v":""},{"$f":"IFERROR(OFFSET(بيانات!$A$4,MATCH(C60,بيانات!$X$5:$X$107,0),21),\"\")","v":""}]
[null,null,null,18,{"$f":"IFERROR((الجدول6[[#This Row],[القيمة\n بالجنيه]]*1.14),\"\")","v":""},"",{"$f":"IFERROR(INDEX(الجدول4[[5 طن]:[وش]],MATCH(الجدول6[[#This Row],[المحافظة]],الجدول4[عمود1],0),MATCH(الجدول6[[#This Row],[نوع\nالسيارة]],الجدول4[[#Headers],[5 طن]:[وش]],0)),\"\")","v":""},{"$f":"IFERROR(OFFSET(بيانات!$A$4,MATCH(C61,بيانات!$X$5:$X$107,0),24),\"\")","v":""},{"$f":"IFERROR(OFFSET(بيانات!$A$4,MATCH(C61,بيانات!$X$5:$X$107,0),7),\"\")","v":""},{"$f":"الجدول6[[#This Row],[عمود1]]","v":0},{"$f":"IFERROR(OFFSET(بيانات!$A$4,MATCH(C61,بيانات!$X$5:$X$107,0),26),\"\")","v":""},{"$f":"IFERROR(OFFSET(بيانات!$A$4,MATCH(C61,بيانات!$X$5:$X$107,0),21),\"\")","v":""}]
[null,null,null,19,{"$f":"IFERROR((الجدول6[[#This Row],[القيمة\n بالجنيه]]*1.14),\"\")","v":""},"",{"$f":"IFERROR(INDEX(الجدول4[[5 طن]:[وش]],MATCH(الجدول6[[#This Row],[المحافظة]],الجدول4[عمود1],0),MATCH(الجدول6[[#This Row],[نوع\nالسيارة]],الجدول4[[#Headers],[5 طن]:[وش]],0)),\"\")","v":""},{"$f":"IFERROR(OFFSET(بيانات!$A$4,MATCH(C62,بيانات!$X$5:$X$107,0),24),\"\")","v":""},{"$f":"IFERROR(OFFSET(بيانات!$A$4,MATCH(C62,بيانات!$X$5:$X$107,0),7),\"\")","v":""},{"$f":"الجدول6[[#This Row],[عمود1]]","v":0},{"$f":"IFERROR(OFFSET(بيانات!$A$4,MATCH(C62,بيانات!$X$5:$X$107,0),26),\"\")","v":""},{"$f":"IFERROR(OFFSET(بيانات!$A$4,MATCH(C62,بيانات!$X$5:$X$107,0),21),\"\")","v":""}]
[null,null,null,null,{"$f":"SUMIF(E44:E62,\"<>#n/a\")","v":0},{"$f":"SUMIF(F44:F62,\"<>#n/a\")","v":0},null,{"$f":"SUM(H52:H56)","v":0},null,null,null,0]
[null,null,null,null,null,null,{"$f":"F63*14%","v":0}," 14%ضريبة مبيعات"]
[null,null,null,null,null,null,{"$f":"F63*3/100","v":0}," 3%خصم واضافة"]
[null,null,null,null,null,null,{"$f":"F63+G64-G65","v":0},"اجمالى المستحق "]
[null,null,null,null,16428.349999999999]
[null,null,null,null,{"$f":"E63-E67","v":-16428.349999999999}]

{"sheet":"بيانات","index":1,"n_rows":107,"n_cols":34,"rows_kept":107,"cut":false,"hidden":false,"merged":[[2,1,2,5],[0,8,0,23],[1,3,1,23],[0,5,0,6],[0,1,0,4]]}
[null,"المستحق بالجنيه",null,null,null,{"$f":"(W3+V3+K3)-(G3+I3+J3)","v":-17995},null,"جنيه",{"$f":"NOW()","v":"2020-08-27T15:07:52.870"}]
[null,null,null,{"$f":"CurrText(F1,1,\"جنيه\",\"جنيهات\",1,\"قرش\",\"قروش\",2)","v":"سبعة عشر ألفاً وتسعمائة وخمس وتسعون جنيه فقط لاغير"}]
[null,"اجماليات",null,null,null,null,{"$f":"SUBTOTAL(9,G5:G94254)","v":30340},null,{"$f":"SUBTOTAL(9,I5:I94254)","v":15},{"$f":"SUBTOTAL(9,J5:J94254)","v":0},{"$f":"SUBTOTAL(9,K5:K94254)","v":0},null,null,null,null,null,null,{"$f":"SUBTOTAL(9,R5:R94254)","v":10450},null,null,null,{"$f":"SUBTOTAL(9,V5:V94254)","v":3860},{"$f":"SUBTOTAL(9,W5:W94254)","v":8500}]
["عمود1","التاريخ","السائق","السياره ","مكان التحميل","مكان التعتيق","عهدة","المحافظة","خصم","سلفه","شيك","تحميل","غسيل","تشحيم","صيانه","كاوتش","زيت","سولار","ملاحظات","مقاول","نوع_النقله","ميزان","القيمه","الشيب","الكمية","سعر_الطن","نوع السيارة","محاسبة","ت المحاسبه","عمود5","نوع السيارة4","جرار","5 طن","نقله"]
[{"$f":"بيانات!$X5","v":194157},"2020-01-01","هاني عبدالمنعم",9626,null,"فوكس",400,"القاهره",null,null,null,null,null,null,null,null,null,null,null,null,"طن",75,{"$f":"IFERROR(IF($U5=\"نقلة\",$Z5,IF(AND(Y5>=SUMIF(data!$A$18:$A$21,$AA5,data!$B$18:$B$21),$U5=\"طن\"),($Y5*$Z5),$Z5*SUMIF(data!$A$18:$A$21,$AA5,data!$B$18:$B$21))),\"\")","v":1140},194157,12,{"$f":"IFERROR(IF(بيانات!$U5=\"نقلة\",INDEX(الجدول35[[5 طن]:[وش]],MATCH(بيانات!$H5,الجدول35[عمود1],0),MATCH(بيانات!$AA5,الجدول35[[#Headers],[5 طن]:[وش]],0)),INDEX(الجدول3[[5 طن]:[وش]],MATCH(بيانات!$H5,الجدول3[عمود1],0),MATCH(بيانات!$AA5,الجدول3[[#Headers],[5 طن]:[وش]],0))),\"\")","v":95},"فرداني",null,null,null,null,{"$f":"IF(AND(بيانات!$Y5>=24,بيانات!$U5=\"طن\",بيانات!$AA5=\"جرار\"),بيانات!$Z5*بيانات!$Y5,بيانات!$Z5*24)","v":2280},{"$f":"IF(AND(بيانات!$Y5>=5,AND(بيانات!$U5=\"طن\",بيانات!$AA5=\"5 طن\")),بيانات!$Z5*بيانات!$Y5,بيانات!$Z5*5)","v":475},{"$f":"IF(بيانات!$U5=\"نقلة\",بيانات!$Z5,\"\")","v":""}]
[{"$f":"بيانات!$X6","v":194034},"2020-01-01","محمود احمد",7421,null,"الفيوم",600,"القاهره",null,null,null,null,null,null,null,null,null,null,null,null,"طن",75,{"$f":"IFERROR(IF($U6=\"نقلة\",$Z6,IF(AND(Y6>=SUMIF(data!$A$18:$A$21,AA6,data!$B$18:$B$21),$U6=\"طن\"),($Y6*$Z6),$Z6*AC6)),\"\")","v":0},194034,7,{"$f":"IFERROR(IF(بيانات!$U6=\"نقلة\",INDEX(الجدول35[[5 طن]:[وش]],MATCH(بيانات!$H6,الجدول35[عمود1],0),MATCH(بيانات!$AA6,الجدول35[[#Headers],[5 طن]:[وش]],0)),INDEX(الجدول3[[5 طن]:[وش]],MATCH(بيانات!$H6,الجدول3[عمود1],0),MATCH(بيانات!$AA6,الجدول3[[#Headers],[5 طن]:[وش]],0))),\"\")","v":80},"جرار",null,null,null,null,{"$f":"IF(AND(بيانات!$Y6>=24,بيانات!$U6=\"طن\",بيانات!$AA6=\"جرار\"),بيانات!$Z6*بيانات!$Y6,بيانات!$Z6*24)","v":1920},{"$f":"IF(AND(بيانات!$Y6>=5,AND(بيانات!$U6=\"طن\",بيانات!$AA6=\"5 طن\")),بيانات!$Z6*بيانات!$Y6,بيانات!$Z6*5)","v":400},{"$f":"IF(بيانات!$U6=\"نقلة\",بيانات!$Z6,\"\")","v":""}]
[{"$f":"بيانات!$X7","v":194079},"2020-01-02","علاء شحاته",7462,null,"البدرشين",300,"الجيزه",null,null,null,null,null,null,null,null,null,null,null,null,"نقلة",75,{"$f":"IFERROR(IF($U7=\"نقلة\",$Z7,IF(AND(Y7>=SUMIF(data!$A$18:$A$21,AA7,data!$B$18:$B$21),$U7=\"طن\"),($Y7*$Z7),$Z7*AC7)),\"\")","v":550},194079,5,{"$f":"IFERROR(IF(بيانات!$U7=\"نقلة\",INDEX(الجدول35[[5 طن]:[وش]],MATCH(بيانات!$H7,الجدول35[عمود1],0),MATCH(بيانات!$AA7,الجدول35[[#Headers],[5 طن]:[وش]],0)),INDEX(الجدول3[[5 طن]:[وش]],MATCH(بيانات!$H7,الجدول3[عمود1],0),MATCH(بيانات!$AA7,الجدول3[[#Headers],[5 طن]:[وش]],0))),\"\")","v":550},"5 طن",null,null,null,null,{"$f":"IF(AND(بيانات!$Y7>=24,بيانات!$U7=\"طن\",بيانات!$AA7=\"جرار\"),بيانات!$Z7*بيانات!$Y7,بيانات!$Z7*24)","v":13200},{"$f":"IF(AND(بيانات!$Y7>=5,AND(بيانات!$U7=\"طن\",بيانات!$AA7=\"5 طن\")),بيانات!$Z7*بيانات!$Y7,بيانات!$Z7*5)","v":2750},{"$f":"IF(بيانات!$U7=\"نقلة\",بيانات!$Z7,\"\")","v":550}]
[{"$f":"بيانات!$X8","v":194162},"2020-01-05","محمود عبدالعظيم",7594,null,"اسكندريه",500,"الاسكندريه",null,null,null,null,null,null,null,null,null,null,null,null,"طن",80,{"$f":"IFERROR(IF($U8=\"نقلة\",$Z8,IF(AND(Y8>=SUMIF(data!$A$18:$A$21,AA8,data!$B$18:$B$21),$U8=\"طن\"),($Y8*$Z8),$Z8*AC8)),\"\")","v":1935},194162,9,{"$f":"IFERROR(IF(بيانات!$U8=\"نقلة\",INDEX(الجدول35[[5 طن]:[وش]],MATCH(بيانات!$H8,الجدول35[عمود1],0),MATCH(بيانات!$AA8,الجدول35[[#Headers],[5 طن]:[وش]],0)),INDEX(الجدول3[[5 طن]:[وش]],MATCH(بيانات!$H8,الجدول3[عمود1],0),MATCH(بيانات!$AA8,الجدول3[[#Headers],[5 طن]:[وش]],0))),\"\")","v":215},"5 طن",null,null,null,null,{"$f":"IF(AND(بيانات!$Y8>=24,بيانات!$U8=\"طن\",بيانات!$AA8=\"جرار\"),بيانات!$Z8*بيانات!$Y8,بيانات!$Z8*24)","v":5160},{"$f":"IF(AND(بيانات!$Y8>=5,AND(بيانات!$U8=\"طن\",بيانات!$AA8=\"5 طن\")),بيانات!$Z8*بيانات!$Y8,بيانات!$Z8*5)","v":1935},{"$f":"IF(بيانات!$U8=\"نقلة\",بيانات!$Z8,\"\")","v":""}]
[{"$f":"بيانات!$X9","v":"194093/4/5/6/7/8"},"2020-01-07","حامد رفعت",1698,null,"اسكندريه",null,"الاسكندريه",null,null,null,null,null,null,null,null,null,1000,"لفه4",null,"طن",80,{"$f":"IFERROR(IF($U9=\"نقلة\",$Z9,IF(AND(Y9>=SUMIF(data!$A$18:$A$21,AA9,data!$B$18:$B$21),$U9=\"طن\"),($Y9*$Z9),$Z9*AC9)),\"\")","v":3225},"194093/4/5/6/7/8",15,{"$f":"IFERROR(IF(بيانات!$U9=\"نقلة\",INDEX(الجدول35[[5 طن]:[وش]],MATCH(بيانات!$H9,الجدول35[عمود1],0),MATCH(بيانات!$AA9,الجدول35[[#Headers],[5 طن]:[وش]],0)),INDEX(الجدول3[[5 طن]:[وش]],MATCH(بيانات!$H9,الجدول3[عمود1],0),MATCH(بيانات!$AA9,الجدول3[[#Headers],[5 طن]:[وش]],0))),\"\")","v":215},"5 طن",null,null,null,null,{"$f":"IF(AND(بيانات!$Y9>=24,بيانات!$U9=\"طن\",بيانات!$AA9=\"جرار\"),بيانات!$Z9*بيانات!$Y9,بيانات!$Z9*24)","v":5160},{"$f":"IF(AND(بيانات!$Y9>=5,AND(بيانات!$U9=\"طن\",بيانات!$AA9=\"5 طن\")),بيانات!$Z9*بيانات!$Y9,بيانات!$Z9*5)","v":3225},{"$f":"IF(بيانات!$U9=\"نقلة\",بيانات!$Z9,\"\")","v":""}]
[{"$f":"بيانات!$X10","v":193904},"2020-01-18","رمضان محمود",7293,null,"جيزه",null,"الجيزه",null,null,null,null,null,null,null,null,null,null,null,null,"طن",75,{"$f":"IFERROR(IF($U10=\"نقلة\",$Z10,IF(AND(Y10>=SUMIF(data!$A$18:$A$21,AA10,data!$B$18:$B$21),$U10=\"طن\"),($Y10*$Z10),$Z10*AC10)),\"\")","v":1100},193904,10,{"$f":"IFERROR(IF(بيانات!$U10=\"نقلة\",INDEX(الجدول35[[5 طن]:[وش]],MATCH(بيانات!$H10,الجدول35[عمود1],0),MATCH(بيانات!$AA10,الجدول35[[#Headers],[5 طن]:[وش]],0)),INDEX(الجدول3[[5 طن]:[وش]],MATCH(بيانات!$H10,الجدول3[عمود1],0),MATCH(بيانات!$AA10,الجدول3[[#Headers],[5 طن]:[وش]],0))),\"\")","v":110},"5 طن",null,null,null,null,{"$f":"IF(AND(بيانات!$Y10>=24,بيانات!$U10=\"طن\",بيانات!$AA10=\"جرار\"),بيانات!$Z10*بيانات!$Y10,بيانات!$Z10*24)","v":2640},{"$f":"IF(AND(بيانات!$Y10>=5,AND(بيانات!$U10=\"طن\",بيانات!$AA10=\"5 طن\")),بيانات!$Z10*بيانات!$Y10,بيانات!$Z10*5)","v":1100},{"$f":"IF(بيانات!$U10=\"نقلة\",بيانات!$Z10,\"\")","v":""}]
[{"$f":"بيانات!$X11","v":194087},"2020-02-01","رمضان محمود",7293,null,"ام زغو",200,"الاسكندريه",null,null,null,null,null,null,null,null,null,null,null,null,"طن",80,{"$f":"IFERROR(IF($U11=\"نقلة\",$Z11,IF(AND(Y11>=SUMIF(data!$A$18:$A$21,AA11,data!$B$18:$B$21),$U11=\"طن\"),($Y11*$Z11),$Z11*AC11)),\"\")","v":0},194087,null,{"$f":"IFERROR(IF(بيانات!$U11=\"نقلة\",INDEX(الجدول35[[5 طن]:[وش]],MATCH(بيانات!$H11,الجدول35[عمود1],0),MATCH(بيانات!$AA11,الجدول35[[#Headers],[5 طن]:[وش]],0)),INDEX(الجدول3[[5 طن]:[وش]],MATCH(بيانات!$H11,الجدول3[عمود1],0),MATCH(بيانات!$AA11,الجدول3[[#Headers],[5 طن]:[وش]],0))),\"\")","v":215},"5 طن",null,null,null,null,{"$f":"IF(AND(بيانات!$Y11>=24,بيانات!$U11=\"طن\",بيانات!$AA11=\"جرار\"),بيانات!$Z11*بيانات!$Y11,بيانات!$Z11*24)","v":5160},{"$f":"IF(AND(بيانات!$Y11>=5,AND(بيانات!$U11=\"طن\",بيانات!$AA11=\"5 طن\")),بيانات!$Z11*بيانات!$Y11,بيانات!$Z11*5)","v":1075},{"$f":"IF(بيانات!$U11=\"نقلة\",بيانات!$Z11,\"\")","v":""}]
[{"$f":"بيانات!$X12","v":194031},"2020-02-05","رمضان حمدي",1328,null,"الحرمين",null,"الجيزه",null,null,null,null,null,null,null,null,null,null,null,null,"نقلة",65,{"$f":"IFERROR(IF($U12=\"نقلة\",$Z12,IF(AND(Y12>=SUMIF(data!$A$18:$A$21,AA12,data!$B$18:$B$21),$U12=\"طن\"),($Y12*$Z12),$Z12*AC12)),\"\")","v":550},194031,null,{"$f":"IFERROR(IF(بيانات!$U12=\"نقلة\",INDEX(الجدول35[[5 طن]:[وش]],MATCH(بيانات!$H12,الجدول35[عمود1],0),MATCH(بيانات!$AA12,الجدول35[[#Headers],[5 طن]:[وش]],0)),INDEX(الجدول3[[5 طن]:[وش]],MATCH(بيانات!$H12,الجدول3[عمود1],0),MATCH(بيانات!$AA12,الجدول3[[#Headers],[5 طن]:[وش]],0))),\"\")","v":550},"5 طن",null,null,null,null,{"$f":"IF(AND(بيانات!$Y12>=24,بيانات!$U12=\"طن\",بيانات!$AA12=\"جرار\"),بيانات!$Z12*بيانات!$Y12,بيانات!$Z12*24)","v":13200},{"$f":"IF(AND(بيانات!$Y12>=5,AND(بيانات!$U12=\"طن\",بيانات!$AA12=\"5 طن\")),بيانات!$Z12*بيانات!$Y12,بيانات!$Z12*5)","v":2750},{"$f":"IF(بيانات!$U12=\"نقلة\",بيانات!$Z12,\"\")","v":550}]
[{"$f":"بيانات!$X13","v":194111},"2020-02-07","رمضان حمدي",1328,null,"العاشر",null,"العاشر",null,null,null,null,null,null,null,null,null,null,null,null,"طن",null,{"$f":"IFERROR(IF($U13=\"نقلة\",$Z13,IF(AND(Y13>=SUMIF(data!$A$18:$A$21,AA13,data!$B$18:$B$21),$U13=\"طن\"),($Y13*$Z13),$Z13*AC13)),\"\")","v":0},194111,null,{"$f":"IFERROR(IF(بيانات!$U13=\"نقلة\",INDEX(الجدول35[[5 طن]:[وش]],MATCH(بيانات!$H13,الجدول35[عمود1],0),MATCH(بيانات!$AA13,الجدول35[[#Headers],[5 طن]:[وش]],0)),INDEX(الجدول3[[5 طن]:[وش]],MATCH(بيانات!$H13,الجدول3[عمود1],0),MATCH(بيانات!$AA13,الجدول3[[#Headers],[5 طن]:[وش]],0))),\"\")","v":40},"5 طن",null,null,null,null,{"$f":"IF(AND(بيانات!$Y13>=24,بيانات!$U13=\"طن\",بيانات!$AA13=\"جرار\"),بيانات!$Z13*بيانات!$Y13,بيانات!$Z13*24)","v":960},{"$f":"IF(AND(بيانات!$Y13>=5,AND(بيانات!$U13=\"طن\",بيانات!$AA13=\"5 طن\")),بيانات!$Z13*بيانات!$Y13,بيانات!$Z13*5)","v":200},{"$f":"IF(بيانات!$U13=\"نقلة\",بيانات!$Z13,\"\")","v":""}]
[{"$f":"بيانات!$X14","v":193910},"2020-03-09","محمد عادل",1279,null,"مترو",100,"اكتوبر",null,null,null,null,null,null,null,null,null,850,null,null,"طن",75,{"$f":"IFERROR(IF($U14=\"نقلة\",$Z14,IF(AND(Y14>=SUMIF(data!$A$18:$A$21,AA14,data!$B$18:$B$21),$U14=\"طن\"),($Y14*$Z14),$Z14*AC14)),\"\")","v":0},193910,null,{"$f":"IFERROR(IF(بيانات!$U14=\"نقلة\",INDEX(الجدول35[[5 طن]:[وش]],MATCH(بيانات!$H14,الجدول35[عمود1],0),MATCH(بيانات!$AA14,الجدول35[[#Headers],[5 طن]:[وش]],0)),INDEX(الجدول3[[5 طن]:[وش]],MATCH(بيانات!$H14,الجدول3[عمود1],0),MATCH(بيانات!$AA14,الجدول3[[#Headers],[5 طن]:[وش]],0))),\"\")","v":120},"5 طن",null,null,null,null,{"$f":"IF(AND(بيانات!$Y14>=24,بيانات!$U14=\"طن\",بيانات!$AA14=\"جرار\"),بيانات!$Z14*بيانات!$Y14,بيانات!$Z14*24)","v":2880},{"$f":"IF(AND(بيانات!$Y14>=5,AND(بيانات!$U14=\"طن\",بيانات!$AA14=\"5 طن\")),بيانات!$Z14*بيانات!$Y14,بيانات!$Z14*5)","v":600},{"$f":"IF(بيانات!$U14=\"نقلة\",بيانات!$Z14,\"\")","v":""}]
[{"$f":"بيانات!$X15","v":193888},"2020-03-23","بشير السيد",3751,null,"ام زغو",150,"الاسكندريه",null,null,null,null,null,null,null,null,null,800,null,null,"طن",75,{"$f":"IFERROR(IF($U15=\"نقلة\",$Z15,IF(AND(Y15>=SUMIF(data!$A$18:$A$21,AA15,data!$B$18:$B$21),$U15=\"طن\"),($Y15*$Z15),$Z15*AC15)),\"\")","v":0},193888,null,{"$f":"IFERROR(IF(بيانات!$U15=\"نقلة\",INDEX(الجدول35[[5 طن]:[وش]],MATCH(بيانات!$H15,الجدول35[عمود1],0),MATCH(بيانات!$AA15,الجدول35[[#Headers],[5 طن]:[وش]],0)),INDEX(الجدول3[[5 طن]:[وش]],MATCH(بيانات!$H15,الجدول3[عمود1],0),MATCH(بيانات!$AA15,الجدول3[[#Headers],[5 طن]:[وش]],0))),\"\")","v":215},"5 طن",null,null,null,null,{"$f":"IF(AND(بيانات!$Y15>=24,بيانات!$U15=\"طن\",بيانات!$AA15=\"جرار\"),بيانات!$Z15*بيانات!$Y15,بيانات!$Z15*24)","v":5160},{"$f":"IF(AND(بيانات!$Y15>=5,AND(بيانات!$U15=\"طن\",بيانات!$AA15=\"5 طن\")),بيانات!$Z15*بيانات!$Y15,بيانات!$Z15*5)","v":1075},{"$f":"IF(بيانات!$U15=\"نقلة\",بيانات!$Z15,\"\")","v":""}]
[{"$f":"بيانات!$X16","v":194042},"2020-03-25","ابراهيم حسن",6718,null,"قاهره",100,"القاهره",null,null,null,null,null,null,null,null,null,null,"بروفت",null,"طن",75,{"$f":"IFERROR(IF($U16=\"نقلة\",$Z16,IF(AND(Y16>=SUMIF(data!$A$18:$A$21,AA16,data!$B$18:$B$21),$U16=\"طن\"),($Y16*$Z16),$Z16*AC16)),\"\")","v":0},194042,null,{"$f":"IFERROR(IF(بيانات!$U16=\"نقلة\",INDEX(الجدول35[[5 طن]:[وش]],MATCH(بيانات!$H16,الجدول35[عمود1],0),MATCH(بيانات!$AA16,الجدول35[[#Headers],[5 طن]:[وش]],0)),INDEX(الجدول3[[5 طن]:[وش]],MATCH(بيانات!$H16,الجدول3[عمود1],0),MATCH(بيانات!$AA16,الجدول3[[#Headers],[5 طن]:[وش]],0))),\"\")","v":100},"5 طن",null,null,null,null,{"$f":"IF(AND(بيانات!$Y16>=24,بيانات!$U16=\"طن\",بيانات!$AA16=\"جرار\"),بيانات!$Z16*بيانات!$Y16,بيانات!$Z16*24)","v":2400},{"$f":"IF(AND(بيانات!$Y16>=5,AND(بيانات!$U16=\"طن\",بيانات!$AA16=\"5 طن\")),بيانات!$Z16*بيانات!$Y16,بيانات!$Z16*5)","v":500},{"$f":"IF(بيانات!$U16=\"نقلة\",بيانات!$Z16,\"\")","v":""}]
[{"$f":"بيانات!$X17","v":194131},"2020-03-26","ابراهيم محمد",6847,null,"السويس",400,"السويس",null,null,null,null,null,null,null,null,null,null,null,null,"طن",75,{"$f":"IFERROR(IF($U17=\"نقلة\",$Z17,IF(AND(Y17>=SUMIF(data!$A$18:$A$21,AA17,data!$B$18:$B$21),$U17=\"طن\"),($Y17*$Z17),$Z17*AC17)),\"\")","v":0},194131,null,{"$f":"IFERROR(IF(بيانات!$U17=\"نقلة\",INDEX(الجدول35[[5 طن]:[وش]],MATCH(بيانات!$H17,الجدول35[عمود1],0),MATCH(بيانات!$AA17,الجدول35[[#Headers],[5 طن]:[وش]],0)),INDEX(الجدول3[[5 طن]:[وش]],MATCH(بيانات!$H17,الجدول3[عمود1],0),MATCH(بيانات!$AA17,الجدول3[[#Headers],[5 طن]:[وش]],0))),\"\")","v":120},"5 طن",null,null,null,null,{"$f":"IF(AND(بيانات!$Y17>=24,بيانات!$U17=\"طن\",بيانات!$AA17=\"جرار\"),بيانات!$Z17*بيانات!$Y17,بيانات!$Z17*24)","v":2880},{"$f":"IF(AND(بيانات!$Y17>=5,AND(بيانات!$U17=\"طن\",بيانات!$AA17=\"5 طن\")),بيانات!$Z17*بيانات!$Y17,بيانات!$Z17*5)","v":600},{"$f":"IF(بيانات!$U17=\"نقلة\",بيانات!$Z17,\"\")","v":""}]
[{"$f":"بيانات!$X18","v":194014},"2020-04-01","محمود حسن",9562,null,"السويس",null,"السويس",null,null,null,null,null,null,null,null,null,null,null,null,"طن",65,{"$f":"IFERROR(IF($U18=\"نقلة\",$Z18,IF(AND(Y18>=SUMIF(data!$A$18:$A$21,AA18,data!$B$18:$B$21),$U18=\"طن\"),($Y18*$Z18),$Z18*AC18)),\"\")","v":0},194014,null,{"$f":"IFERROR(IF(بيانات!$U18=\"نقلة\",INDEX(الجدول35[[5 طن]:[وش]],MATCH(بيانات!$H18,الجدول35[عمود1],0),MATCH(بيانات!$AA18,الجدول35[[#Headers],[5 طن]:[وش]],0)),INDEX(الجدول3[[5 طن]:[وش]],MATCH(بيانات!$H18,الجدول3[عمود1],0),MATCH(بيانات!$AA18,الجدول3[[#Headers],[5 طن]:[وش]],0))),\"\")","v":120},"5 طن",null,null,null,null,{"$f":"IF(AND(بيانات!$Y18>=24,بيانات!$U18=\"طن\",بيانات!$AA18=\"جرار\"),بيانات!$Z18*بيانات!$Y18,بيانات!$Z18*24)","v":2880},{"$f":"IF(AND(بيانات!$Y18>=5,AND(بيانات!$U18=\"طن\",بيانات!$AA18=\"5 طن\")),بيانات!$Z18*بيانات!$Y18,بيانات!$Z18*5)","v":600},{"$f":"IF(بيانات!$U18=\"نقلة\",بيانات!$Z18,\"\")","v":""}]
[{"$f":"بيانات!$X19","v":193906},"2020-04-02","محمود حسن",9562,null,"الحرمين",null,"الجيزه",null,null,null,null,null,null,null,null,null,null,null,null,"طن",50,{"$f":"IFERROR(IF($U19=\"نقلة\",$Z19,IF(AND(Y19>=SUMIF(data!$A$18:$A$21,AA19,data!$B$18:$B$21),$U19=\"طن\"),($Y19*$Z19),$Z19*AC19)),\"\")","v":0},193906,null,{"$f":"IFERROR(IF(بيانات!$U19=\"نقلة\",INDEX(الجدول35[[5 طن]:[وش]],MATCH(بيانات!$H19,الجدول35[عمود1],0),MATCH(بيانات!$AA19,الجدول35[[#Headers],[5 طن]:[وش]],0)),INDEX(الجدول3[[5 طن]:[وش]],MATCH(بيانات!$H19,الجدول3[عمود1],0),MATCH(بيانات!$AA19,الجدول3[[#Headers],[5 طن]:[وش]],0))),\"\")","v":110},"5 طن",null,null,null,null,{"$f":"IF(AND(بيانات!$Y19>=24,بيانات!$U19=\"طن\",بيانات!$AA19=\"جرار\"),بيانات!$Z19*بيانات!$Y19,بيانات!$Z19*24)","v":2640},{"$f":"IF(AND(بيانات!$Y19>=5,AND(بيانات!$U19=\"طن\",بيانات!$AA19=\"5 طن\")),بيانات!$Z19*بيانات!$Y19,بيانات!$Z19*5)","v":550},{"$f":"IF(بيانات!$U19=\"نقلة\",بيانات!$Z19,\"\")","v":""}]
[{"$f":"بيانات!$X20","v":194164},"2020-04-03","محمود حسن",9562,null,"فوكس",100,"الجيزه",null,null,null,null,null,null,null,null,null,null,null,null,"طن",65,{"$f":"IFERROR(IF($U20=\"نقلة\",$Z20,IF(AND(Y20>=SUMIF(data!$A$18:$A$21,AA20,data!$B$18:$B$21),$U20=\"طن\"),($Y20*$Z20),$Z20*AC20)),\"\")","v":0},194164,null,{"$f":"IFERROR(IF(بيانات!$U20=\"نقلة\",INDEX(الجدول35[[5 طن]:[وش]],MATCH(بيانات!$H20,الجدول35[عمود1],0),MATCH(بيانات!$AA20,الجدول35[[#Headers],[5 طن]:[وش]],0)),INDEX(الجدول3[[5 طن]:[وش]],MATCH(بيانات!$H20,الجدول3[عمود1],0),MATCH(بيانات!$AA20,الجدول3[[#Headers],[5 طن]:[وش]],0))),\"\")","v":110},"5 طن",null,null,null,null,{"$f":"IF(AND(بيانات!$Y20>=24,بيانات!$U20=\"طن\",بيانات!$AA20=\"جرار\"),بيانات!$Z20*بيانات!$Y20,بيانات!$Z20*24)","v":2640},{"$f":"IF(AND(بيانات!$Y20>=5,AND(بيانات!$U20=\"طن\",بيانات!$AA20=\"5 طن\")),بيانات!$Z20*بيانات!$Y20,بيانات!$Z20*5)","v":550},{"$f":"IF(بيانات!$U20=\"نقلة\",بيانات!$Z20,\"\")","v":""}]
[{"$f":"بيانات!$X21","v":193930},"2020-05-30","عبده السيد",4217,null,"ابيس",null,"الاسكندريه",null,null,null,null,null,null,null,null,null,null,null,null,"طن",80,{"$f":"IFERROR(IF($U21=\"نقلة\",$Z21,IF(AND(Y21>=SUMIF(data!$A$18:$A$21,AA21,data!$B$18:$B$21),$U21=\"طن\"),($Y21*$Z21),$Z21*AC21)),\"\")","v":0},193930,null,{"$f":"IFERROR(IF(بيانات!$U21=\"نقلة\",INDEX(الجدول35[[5 طن]:[وش]],MATCH(بيانات!$H21,الجدول35[عمود1],0),MATCH(بيانات!$AA21,الجدول35[[#Headers],[5 طن]:[وش]],0)),INDEX(الجدول3[[5 طن]:[وش]],MATCH(بيانات!$H21,الجدول3[عمود1],0),MATCH(بيانات!$AA21,الجدول3[[#Headers],[5 طن]:[وش]],0))),\"\")","v":215},"5 طن",null,null,null,null,{"$f":"IF(AND(بيانات!$Y21>=24,بيانات!$U21=\"طن\",بيانات!$AA21=\"جرار\"),بيانات!$Z21*بيانات!$Y21,بيانات!$Z21*24)","v":5160},{"$f":"IF(AND(بيانات!$Y21>=5,AND(بيانات!$U21=\"طن\",بيانات!$AA21=\"5 طن\")),بيانات!$Z21*بيانات!$Y21,بيانات!$Z21*5)","v":1075},{"$f":"IF(بيانات!$U21=\"نقلة\",بيانات!$Z21,\"\")","v":""}]
[{"$f":"بيانات!$X22","v":194143},"2020-05-31","عبده السيد",4217,null,"السويس",250,"السويس",null,null,null,null,null,null,null,null,null,null,null,null,"طن",75,{"$f":"IFERROR(IF($U22=\"نقلة\",$Z22,IF(AND(Y22>=SUMIF(data!$A$18:$A$21,AA22,data!$B$18:$B$21),$U22=\"طن\"),($Y22*$Z22),$Z22*AC22)),\"\")","v":0},194143,null,{"$f":"IFERROR(IF(بيانات!$U22=\"نقلة\",INDEX(الجدول35[[5 طن]:[وش]],MATCH(بيانات!$H22,الجدول35[عمود1],0),MATCH(بيانات!$AA22,الجدول35[[#Headers],[5 طن]:[وش]],0)),INDEX(الجدول3[[5 طن]:[وش]],MATCH(بيانات!$H22,الجدول3[عمود1],0),MATCH(بيانات!$AA22,الجدول3[[#Headers],[5 طن]:[وش]],0))),\"\")","v":120},"5 طن",null,null,null,null,{"$f":"IF(AND(بيانات!$Y22>=24,بيانات!$U22=\"طن\",بيانات!$AA22=\"جرار\"),بيانات!$Z22*بيانات!$Y22,بيانات!$Z22*24)","v":2880},{"$f":"IF(AND(بيانات!$Y22>=5,AND(بيانات!$U22=\"طن\",بيانات!$AA22=\"5 طن\")),بيانات!$Z22*بيانات!$Y22,بيانات!$Z22*5)","v":600},{"$f":"IF(بيانات!$U22=\"نقلة\",بيانات!$Z22,\"\")","v":""}]
[{"$f":"بيانات!$X23","v":194143},"2020-05-31","فريد محمد",null,null,"الوليد",300,"الجيزه",null,null,null,null,null,null,null,null,null,null,null,null,"طن",60,{"$f":"IFERROR(IF($U23=\"نقلة\",$Z23,IF(AND(Y23>=SUMIF(data!$A$18:$A$21,AA23,data!$B$18:$B$21),$U23=\"طن\"),($Y23*$Z23),$Z23*AC23)),\"\")","v":0},194143,null,{"$f":"IFERROR(IF(بيانات!$U23=\"نقلة\",INDEX(الجدول35[[5 طن]:[وش]],MATCH(بيانات!$H23,الجدول35[عمود1],0),MATCH(بيانات!$AA23,الجدول35[[#Headers],[5 طن]:[وش]],0)),INDEX(الجدول3[[5 طن]:[وش]],MATCH(بيانات!$H23,الجدول3[عمود1],0),MATCH(بيانات!$AA23,الجدول3[[#Headers],[5 طن]:[وش]],0))),\"\")","v":110},"5 طن",null,null,null,null,{"$f":"IF(AND(بيانات!$Y23>=24,بيانات!$U23=\"طن\",بيانات!$AA23=\"جرار\"),بيانات!$Z23*بيانات!$Y23,بيانات!$Z23*24)","v":2640},{"$f":"IF(AND(بيانات!$Y23>=5,AND(بيانات!$U23=\"طن\",بيانات!$AA23=\"5 طن\")),بيانات!$Z23*بيانات!$Y23,بيانات!$Z23*5)","v":550},{"$f":"IF(بيانات!$U23=\"نقلة\",بيانات!$Z23,\"\")","v":""}]
[{"$f":"بيانات!$X24","v":278133},"2020-05-31","اسلام محمد",1487,null,"مكرونه اكتوبر",null,"اكتوبر",null,null,null,null,null,null,null,null,null,null,null,null,"طن",75,{"$f":"IFERROR(IF($U24=\"نقلة\",$Z24,IF(AND(Y24>=SUMIF(data!$A$18:$A$21,AA24,data!$B$18:$B$21),$U24=\"طن\"),($Y24*$Z24),$Z24*AC24)),\"\")","v":0},278133,null,{"$f":"IFERROR(IF(بيانات!$U24=\"نقلة\",INDEX(الجدول35[[5 طن]:[وش]],MATCH(بيانات!$H24,الجدول35[عمود1],0),MATCH(بيانات!$AA24,الجدول35[[#Headers],[5 طن]:[وش]],0)),INDEX(الجدول3[[5 طن]:[وش]],MATCH(بيانات!$H24,الجدول3[عمود1],0),MATCH(بيانات!$AA24,الجدول3[[#Headers],[5 طن]:[وش]],0))),\"\")","v":120},"5 طن",null,null,null,null,{"$f":"IF(AND(بيانات!$Y24>=24,بيانات!$U24=\"طن\",بيانات!$AA24=\"جرار\"),بيانات!$Z24*بيانات!$Y24,بيانات!$Z24*24)","v":2880},{"$f":"IF(AND(بيانات!$Y24>=5,AND(بيانات!$U24=\"طن\",بيانات!$AA24=\"5 طن\")),بيانات!$Z24*بيانات!$Y24,بيانات!$Z24*5)","v":600},{"$f":"IF(بيانات!$U24=\"نقلة\",بيانات!$Z24,\"\")","v":""}]
[{"$f":"بيانات!$X25","v":"194286/7"},"2020-06-01","جمال عبدالحكيم",4327,null,"اسكندريه",700,"الاسكندريه",null,null,null,null,null,null,null,null,null,null,null,null,"طن",80,{"$f":"IFERROR(IF($U25=\"نقلة\",$Z25,IF(AND(Y25>=SUMIF(data!$A$18:$A$21,AA25,data!$B$18:$B$21),$U25=\"طن\"),($Y25*$Z25),$Z25*AC25)),\"\")","v":0},"194286/7",null,{"$f":"IFERROR(IF(بيانات!$U25=\"نقلة\",INDEX(الجدول35[[5 طن]:[وش]],MATCH(بيانات!$H25,الجدول35[عمود1],0),MATCH(بيانات!$AA25,الجدول35[[#Headers],[5 طن]:[وش]],0)),INDEX(الجدول3[[5 طن]:[وش]],MATCH(بيانات!$H25,الجدول3[عمود1],0),MATCH(بيانات!$AA25,الجدول3[[#Headers],[5 طن]:[وش]],0))),\"\")","v":215},"5 طن",null,null,null,null,{"$f":"IF(AND(بيانات!$Y25>=24,بيانات!$U25=\"طن\",بيانات!$AA25=\"جرار\"),بيانات!$Z25*بيانات!$Y25,بيانات!$Z25*24)","v":5160},{"$f":"IF(AND(بيانات!$Y25>=5,AND(بيانات!$U25=\"طن\",بيانات!$AA25=\"5 طن\")),بيانات!$Z25*بيانات!$Y25,بيانات!$Z25*5)","v":1075},{"$f":"IF(بيانات!$U25=\"نقلة\",بيانات!$Z25,\"\")","v":""}]
[{"$f":"بيانات!$X26","v":193948},"2020-05-30","جمال عبدالناصر",8152,null,"الجالي",40,"الجيزه",null,null,null,null,null,null,null,null,null,null,null,null,"طن",60,{"$f":"IFERROR(IF($U26=\"نقلة\",$Z26,IF(AND(Y26>=SUMIF(data!$A$18:$A$21,AA26,data!$B$18:$B$21),$U26=\"طن\"),($Y26*$Z26),$Z26*AC26)),\"\")","v":0},193948,null,{"$f":"IFERROR(IF(بيانات!$U26=\"نقلة\",INDEX(الجدول35[[5 طن]:[وش]],MATCH(بيانات!$H26,الجدول35[عمود1],0),MATCH(بيانات!$AA26,الجدول35[[#Headers],[5 طن]:[وش]],0)),INDEX(الجدول3[[5 طن]:[وش]],MATCH(بيانات!$H26,الجدول3[عمود1],0),MATCH(بيانات!$AA26,الجدول3[[#Headers],[5 طن]:[وش]],0))),\"\")","v":110},"5 طن",null,null,null,null,{"$f":"IF(AND(بيانات!$Y26>=24,بيانات!$U26=\"طن\",بيانات!$AA26=\"جرار\"),بيانات!$Z26*بيانات!$Y26,بيانات!$Z26*24)","v":2640},{"$f":"IF(AND(بيانات!$Y26>=5,AND(بيانات!$U26=\"طن\",بيانات!$AA26=\"5 طن\")),بيانات!$Z26*بيانات!$Y26,بيانات!$Z26*5)","v":550},{"$f":"IF(بيانات!$U26=\"نقلة\",بيانات!$Z26,\"\")","v":""}]
[{"$f":"بيانات!$X27","v":194223},"2020-06-01","جمال عبدالناصر",8152,null,"اسكندريه",null,"الاسكندريه",null,null,null,null,null,null,null,null,null,null,null,null,"طن",65,{"$f":"IFERROR(IF($U27=\"نقلة\",$Z27,IF(AND(Y27>=SUMIF(data!$A$18:$A$21,AA27,data!$B$18:$B$21),$U27=\"طن\"),($Y27*$Z27),$Z27*AC27)),\"\")","v":0},194223,null,{"$f":"IFERROR(IF(بيانات!$U27=\"نقلة\",INDEX(الجدول35[[5 طن]:[وش]],MATCH(بيانات!$H27,الجدول35[عمود1],0),MATCH(بيانات!$AA27,الجدول35[[#Headers],[5 طن]:[وش]],0)),INDEX(الجدول3[[5 طن]:[وش]],MATCH(بيانات!$H27,الجدول3[عمود1],0),MATCH(بيانات!$AA27,الجدول3[[#Headers],[5 طن]:[وش]],0))),\"\")","v":215},"5 طن",null,null,null,null,{"$f":"IF(AND(بيانات!$Y27>=24,بيانات!$U27=\"طن\",بيانات!$AA27=\"جرار\"),بيانات!$Z27*بيانات!$Y27,بيانات!$Z27*24)","v":5160},{"$f":"IF(AND(بيانات!$Y27>=5,AND(بيانات!$U27=\"طن\",بيانات!$AA27=\"5 طن\")),بيانات!$Z27*بيانات!$Y27,بيانات!$Z27*5)","v":1075},{"$f":"IF(بيانات!$U27=\"نقلة\",بيانات!$Z27,\"\")","v":""}]
[{"$f":"بيانات!$X28","v":194197},"2020-06-01","محمد صلاح",8576,null,"ام زغو",150,"الاسكندريه",null,null,null,null,null,null,null,null,null,1000,null,null,"طن",65,{"$f":"IFERROR(IF($U28=\"نقلة\",$Z28,IF(AND(Y28>=SUMIF(data!$A$18:$A$21,AA28,data!$B$18:$B$21),$U28=\"طن\"),($Y28*$Z28),$Z28*AC28)),\"\")","v":0},194197,null,{"$f":"IFERROR(IF(بيانات!$U28=\"نقلة\",INDEX(الجدول35[[5 طن]:[وش]],MATCH(بيانات!$H28,الجدول35[عمود1],0),MATCH(بيانات!$AA28,الجدول35[[#Headers],[5 طن]:[وش]],0)),INDEX(الجدول3[[5 طن]:[وش]],MATCH(بيانات!$H28,الجدول3[عمود1],0),MATCH(بيانات!$AA28,الجدول3[[#Headers],[5 طن]:[وش]],0))),\"\")","v":215},"5 طن",null,null,null,null,{"$f":"IF(AND(بيانات!$Y28>=24,بيانات!$U28=\"طن\",بيانات!$AA28=\"جرار\"),بيانات!$Z28*بيانات!$Y28,بيانات!$Z28*24)","v":5160},{"$f":"IF(AND(بيانات!$Y28>=5,AND(بيانات!$U28=\"طن\",بيانات!$AA28=\"5 طن\")),بيانات!$Z28*بيانات!$Y28,بيانات!$Z28*5)","v":1075},{"$f":"IF(بيانات!$U28=\"نقلة\",بيانات!$Z28,\"\")","v":""}]
[{"$f":"بيانات!$X29","v":193905},"2020-06-01","احمد رافت",7918,null,"مترو",null,"اكتوبر",null,null,null,null,null,null,null,null,null,null,null,null,"طن",65,{"$f":"IFERROR(IF($U29=\"نقلة\",$Z29,IF(AND(Y29>=SUMIF(data!$A$18:$A$21,AA29,data!$B$18:$B$21),$U29=\"طن\"),($Y29*$Z29),$Z29*AC29)),\"\")","v":0},193905,null,{"$f":"IFERROR(IF(بيانات!$U29=\"نقلة\",INDEX(الجدول35[[5 طن]:[وش]],MATCH(بيانات!$H29,الجدول35[عمود1],0),MATCH(بيانات!$AA29,الجدول35[[#Headers],[5 طن]:[وش]],0)),INDEX(الجدول3[[5 طن]:[وش]],MATCH(بيانات!$H29,الجدول3[عمود1],0),MATCH(بيانات!$AA29,الجدول3[[#Headers],[5 طن]:[وش]],0))),\"\")","v":120},"5 طن",null,null,null,null,{"$f":"IF(AND(بيانات!$Y29>=24,بيانات!$U29=\"طن\",بيانات!$AA29=\"جرار\"),بيانات!$Z29*بيانات!$Y29,بيانات!$Z29*24)","v":2880},{"$f":"IF(AND(بيانات!$Y29>=5,AND(بيانات!$U29=\"طن\",بيانات!$AA29=\"5 طن\")),بيانات!$Z29*بيانات!$Y29,بيانات!$Z29*5)","v":600},{"$f":"IF(بيانات!$U29=\"نقلة\",بيانات!$Z29,\"\")","v":""}]
[{"$f":"بيانات!$X30","v":194199},"2020-06-01","احمد رافت",7918,null,"ابيس",150,"الاسكندريه",null,null,null,null,null,null,null,null,null,1000,null,null,"طن",65,{"$f":"IFERROR(IF($U30=\"نقلة\",$Z30,IF(AND(Y30>=SUMIF(data!$A$18:$A$21,AA30,data!$B$18:$B$21),$U30=\"طن\"),($Y30*$Z30),$Z30*AC30)),\"\")","v":0},194199,null,{"$f":"IFERROR(IF(بيانات!$U30=\"نقلة\",INDEX(الجدول35[[5 طن]:[وش]],MATCH(بيانات!$H30,الجدول35[عمود1],0),MATCH(بيانات!$AA30,الجدول35[[#Headers],[5 طن]:[وش]],0)),INDEX(الجدول3[[5 طن]:[وش]],MATCH(بيانات!$H30,الجدول3[عمود1],0),MATCH(بيانات!$AA30,الجدول3[[#Headers],[5 طن]:[وش]],0))),\"\")","v":215},"5 طن",null,null,null,null,{"$f":"IF(AND(بيانات!$Y30>=24,بيانات!$U30=\"طن\",بيانات!$AA30=\"جرار\"),بيانات!$Z30*بيانات!$Y30,بيانات!$Z30*24)","v":5160},{"$f":"IF(AND(بيانات!$Y30>=5,AND(بيانات!$U30=\"طن\",بيانات!$AA30=\"5 طن\")),بيانات!$Z30*بيانات!$Y30,بيانات!$Z30*5)","v":1075},{"$f":"IF(بيانات!$U30=\"نقلة\",بيانات!$Z30,\"\")","v":""}]
[{"$f":"بيانات!$X31","v":194198},"2020-06-01","رمضان حمدي",1328,null,"العاشر",100,"العاشر",null,null,null,null,null,null,null,null,null,null,null,null,"طن",null,{"$f":"IFERROR(IF($U31=\"نقلة\",$Z31,IF(AND(Y31>=SUMIF(data!$A$18:$A$21,AA31,data!$B$18:$B$21),$U31=\"طن\"),($Y31*$Z31),$Z31*AC31)),\"\")","v":0},194198,null,{"$f":"IFERROR(IF(بيانات!$U31=\"نقلة\",INDEX(الجدول35[[5 طن]:[وش]],MATCH(بيانات!$H31,الجدول35[عمود1],0),MATCH(بيانات!$AA31,الجدول35[[#Headers],[5 طن]:[وش]],0)),INDEX(الجدول3[[5 طن]:[وش]],MATCH(بيانات!$H31,الجدول3[عمود1],0),MATCH(بيانات!$AA31,الجدول3[[#Headers],[5 طن]:[وش]],0))),\"\")","v":40},"5 طن",null,null,null,null,{"$f":"IF(AND(بيانات!$Y31>=24,بيانات!$U31=\"طن\",بيانات!$AA31=\"جرار\"),بيانات!$Z31*بيانات!$Y31,بيانات!$Z31*24)","v":960},{"$f":"IF(AND(بيانات!$Y31>=5,AND(بيانات!$U31=\"طن\",بيانات!$AA31=\"5 طن\")),بيانات!$Z31*بيانات!$Y31,بيانات!$Z31*5)","v":200},{"$f":"IF(بيانات!$U31=\"نقلة\",بيانات!$Z31,\"\")","v":""}]
[{"$f":"بيانات!$X32","v":194025},"2020-05-31","محمد عادل",1279,null,"السويس",null,"السويس",null,null,null,null,null,null,null,null,null,null,null,null,"طن",75,{"$f":"IFERROR(IF($U32=\"نقلة\",$Z32,IF(AND(Y32>=SUMIF(data!$A$18:$A$21,AA32,data!$B$18:$B$21),$U32=\"طن\"),($Y32*$Z32),$Z32*AC32)),\"\")","v":0},194025,null,{"$f":"IFERROR(IF(بيانات!$U32=\"نقلة\",INDEX(الجدول35[[5 طن]:[وش]],MATCH(بيانات!$H32,الجدول35[عمود1],0),MATCH(بيانات!$AA32,الجدول35[[#Headers],[5 طن]:[وش]],0)),INDEX(الجدول3[[5 طن]:[وش]],MATCH(بيانات!$H32,الجدول3[عمود1],0),MATCH(بيانات!$AA32,الجدول3[[#Headers],[5 طن]:[وش]],0))),\"\")","v":120},"5 طن",null,null,null,null,{"$f":"IF(AND(بيانات!$Y32>=24,بيانات!$U32=\"طن\",بيانات!$AA32=\"جرار\"),بيانات!$Z32*بيانات!$Y32,بيانات!$Z32*24)","v":2880},{"$f":"IF(AND(بيانات!$Y32>=5,AND(بيانات!$U32=\"طن\",بيانات!$AA32=\"5 طن\")),بيانات!$Z32*بيانات!$Y32,بيانات!$Z32*5)","v":600},{"$f":"IF(بيانات!$U32=\"نقلة\",بيانات!$Z32,\"\")","v":""}]
[{"$f":"بيانات!$X33","v":194078},"2020-06-01","محمد عادل",1279,null,"مترو",null,"اكتوبر",null,null,null,null,null,null,null,null,null,null,null,null,"طن",75,{"$f":"IFERROR(IF($U33=\"نقلة\",$Z33,IF(AND(Y33>=SUMIF(data!$A$18:$A$21,AA33,data!$B$18:$B$21),$U33=\"طن\"),($Y33*$Z33),$Z33*AC33)),\"\")","v":0},194078,null,{"$f":"IFERROR(IF(بيانات!$U33=\"نقلة\",INDEX(الجدول35[[5 طن]:[وش]],MATCH(بيانات!$H33,الجدول35[عمود1],0),MATCH(بيانات!$AA33,الجدول35[[#Headers],[5 طن]:[وش]],0)),INDEX(الجدول3[[5 طن]:[وش]],MATCH(بيانات!$H33,الجدول3[عمود1],0),MATCH(بيانات!$AA33,الجدول3[[#Headers],[5 طن]:[وش]],0))),\"\")","v":120},"5 طن",null,null,null,null,{"$f":"IF(AND(بيانات!$Y33>=24,بيانات!$U33=\"طن\",بيانات!$AA33=\"جرار\"),بيانات!$Z33*بيانات!$Y33,بيانات!$Z33*24)","v":2880},{"$f":"IF(AND(بيانات!$Y33>=5,AND(بيانات!$U33=\"طن\",بيانات!$AA33=\"5 طن\")),بيانات!$Z33*بيانات!$Y33,بيانات!$Z33*5)","v":600},{"$f":"IF(بيانات!$U33=\"نقلة\",بيانات!$Z33,\"\")","v":""}]
[{"$f":"بيانات!$X34","v":194227},"2020-06-01","محمد عادل",1279,null,"سوق دوت كوم",100,"القاهره",null,null,null,null,null,null,null,null,null,null,null,null,"طن",null,{"$f":"IFERROR(IF($U34=\"نقلة\",$Z34,IF(AND(Y34>=SUMIF(data!$A$18:$A$21,AA34,data!$B$18:$B$21),$U34=\"طن\"),($Y34*$Z34),$Z34*AC34)),\"\")","v":0},194227,null,{"$f":"IFERROR(IF(بيانات!$U34=\"نقلة\",INDEX(الجدول35[[5 طن]:[وش]],MATCH(بيانات!$H34,الجدول35[عمود1],0),MATCH(بيانات!$AA34,الجدول35[[#Headers],[5 طن]:[وش]],0)),INDEX(الجدول3[[5 طن]:[وش]],MATCH(بيانات!$H34,الجدول3[عمود1],0),MATCH(بيانات!$AA34,الجدول3[[#Headers],[5 طن]:[وش]],0))),\"\")","v":100},"5 طن",null,null,null,null,{"$f":"IF(AND(بيانات!$Y34>=24,بيانات!$U34=\"طن\",بيانات!$AA34=\"جرار\"),بيانات!$Z34*بيانات!$Y34,بيانات!$Z34*24)","v":2400},{"$f":"IF(AND(بيانات!$Y34>=5,AND(بيانات!$U34=\"طن\",بيانات!$AA34=\"5 طن\")),بيانات!$Z34*بيانات!$Y34,بيانات!$Z34*5)","v":500},{"$f":"IF(بيانات!$U34=\"نقلة\",بيانات!$Z34,\"\")","v":""}]
[{"$f":"بيانات!$X35","v":"194304/5"},"2020-06-01","محمود حسن",9562,null,"القاهره",100,"القاهره",null,null,null,null,null,null,null,null,null,null,null,null,"طن",50,{"$f":"IFERROR(IF($U35=\"نقلة\",$Z35,IF(AND(Y35>=SUMIF(data!$A$18:$A$21,AA35,data!$B$18:$B$21),$U35=\"طن\"),($Y35*$Z35),$Z35*AC35)),\"\")","v":0},"194304/5",null,{"$f":"IFERROR(IF(بيانات!$U35=\"نقلة\",INDEX(الجدول35[[5 طن]:[وش]],MATCH(بيانات!$H35,الجدول35[عمود1],0),MATCH(بيانات!$AA35,الجدول35[[#Headers],[5 طن]:[وش]],0)),INDEX(الجدول3[[5 طن]:[وش]],MATCH(بيانات!$H35,الجدول3[عمود1],0),MATCH(بيانات!$AA35,الجدول3[[#Headers],[5 طن]:[وش]],0))),\"\")","v":100},"5 طن",null,null,null,null,{"$f":"IF(AND(بيانات!$Y35>=24,بيانات!$U35=\"طن\",بيانات!$AA35=\"جرار\"),بيانات!$Z35*بيانات!$Y35,بيانات!$Z35*24)","v":2400},{"$f":"IF(AND(بيانات!$Y35>=5,AND(بيانات!$U35=\"طن\",بيانات!$AA35=\"5 طن\")),بيانات!$Z35*بيانات!$Y35,بيانات!$Z35*5)","v":500},{"$f":"IF(بيانات!$U35=\"نقلة\",بيانات!$Z35,\"\")","v":""}]
[{"$f":"بيانات!$X36","v":194311},"2020-06-01","رمضان محمود",7293,null,"جيزه",100,"الجيزه",null,null,null,null,null,null,null,null,null,null,null,null,"طن",75,{"$f":"IFERROR(IF($U36=\"نقلة\",$Z36,IF(AND(Y36>=SUMIF(data!$A$18:$A$21,AA36,data!$B$18:$B$21),$U36=\"طن\"),($Y36*$Z36),$Z36*AC36)),\"\")","v":0},194311,null,{"$f":"IFERROR(IF(بيانات!$U36=\"نقلة\",INDEX(الجدول35[[5 طن]:[وش]],MATCH(بيانات!$H36,الجدول35[عمود1],0),MATCH(بيانات!$AA36,الجدول35[[#Headers],[5 طن]:[وش]],0)),INDEX(الجدول3[[5 طن]:[وش]],MATCH(بيانات!$H36,الجدول3[عمود1],0),MATCH(بيانات!$AA36,الجدول3[[#Headers],[5 طن]:[وش]],0))),\"\")","v":110},"5 طن",null,null,null,null,{"$f":"IF(AND(بيانات!$Y36>=24,بيانات!$U36=\"طن\",بيانات!$AA36=\"جرار\"),بيانات!$Z36*بيانات!$Y36,بيانات!$Z36*24)","v":2640},{"$f":"IF(AND(بيانات!$Y36>=5,AND(بيانات!$U36=\"طن\",بيانات!$AA36=\"5 طن\")),بيانات!$Z36*بيانات!$Y36,بيانات!$Z36*5)","v":550},{"$f":"IF(بيانات!$U36=\"نقلة\",بيانات!$Z36,\"\")","v":""}]
[{"$f":"بيانات!$X37","v":0},"2020-06-01","فريد محمد",null,null,"اسكندريه",700,null,null,null,null,null,null,null,null,null,null,null,null,null,"طن",null,{"$f":"IFERROR(IF($U37=\"نقلة\",$Z37,IF(AND(Y37>=SUMIF(data!$A$18:$A$21,AA37,data!$B$18:$B$21),$U37=\"طن\"),($Y37*$Z37),$Z37*AC37)),\"\")","v":""},null,null,{"$f":"IFERROR(IF(بيانات!$U37=\"نقلة\",INDEX(الجدول35[[5 طن]:[وش]],MATCH(بيانات!$H37,الجدول35[عمود1],0),MATCH(بيانات!$AA37,الجدول35[[#Headers],[5 طن]:[وش]],0)),INDEX(الجدول3[[5 طن]:[وش]],MATCH(بيانات!$H37,الجدول3[عمود1],0),MATCH(بيانات!$AA37,الجدول3[[#Headers],[5 طن]:[وش]],0))),\"\")","v":""},"5 طن",null,null,null,null,{"$f":"IF(AND(بيانات!$Y37>=24,بيانات!$U37=\"طن\",بيانات!$AA37=\"جرار\"),بيانات!$Z37*بيانات!$Y37,بيانات!$Z37*24)","v":{"$error":"#VALUE!"}},{"$f":"IF(AND(بيانات!$Y37>=5,AND(بيانات!$U37=\"طن\",بيانات!$AA37=\"5 طن\")),بيانات!$Z37*بيانات!$Y37,بيانات!$Z37*5)","v":{"$error":"#VALUE!"}},{"$f":"IF(بيانات!$U37=\"نقلة\",بيانات!$Z37,\"\")","v":""}]
[{"$f":"بيانات!$X38","v":278422},"2020-06-01","اسلام محمد",1487,null,"مكرونه اكتوبر",null,"اكتوبر",null,null,null,null,null,null,null,null,null,null,null,null,"طن",75,{"$f":"IFERROR(IF($U38=\"نقلة\",$Z38,IF(AND(Y38>=SUMIF(data!$A$18:$A$21,AA38,data!$B$18:$B$21),$U38=\"طن\"),($Y38*$Z38),$Z38*AC38)),\"\")","v":0},278422,null,{"$f":"IFERROR(IF(بيانات!$U38=\"نقلة\",INDEX(الجدول35[[5 طن]:[وش]],MATCH(بيانات!$H38,الجدول35[عمود1],0),MATCH(بيانات!$AA38,الجدول35[[#Headers],[5 طن]:[وش]],0)),INDEX(الجدول3[[5 طن]:[وش]],MATCH(بيانات!$H38,الجدول3[عمود1],0),MATCH(بيانات!$AA38,الجدول3[[#Headers],[5 طن]:[وش]],0))),\"\")","v":120},"5 طن",null,null,null,null,{"$f":"IF(AND(بيانات!$Y38>=24,بيانات!$U38=\"طن\",بيانات!$AA38=\"جرار\"),بيانات!$Z38*بيانات!$Y38,بيانات!$Z38*24)","v":2880},{"$f":"IF(AND(بيانات!$Y38>=5,AND(بيانات!$U38=\"طن\",بيانات!$AA38=\"5 طن\")),بيانات!$Z38*بيانات!$Y38,بيانات!$Z38*5)","v":600},{"$f":"IF(بيانات!$U38=\"نقلة\",بيانات!$Z38,\"\")","v":""}]
[{"$f":"بيانات!$X39","v":194290},"2020-06-01","اسلام محمد",1487,null,"هايبر اكتوبر",600,"اكتوبر",null,null,null,null,null,null,null,null,null,null,null,null,"طن",75,{"$f":"IFERROR(IF($U39=\"نقلة\",$Z39,IF(AND(Y39>=SUMIF(data!$A$18:$A$21,AA39,data!$B$18:$B$21),$U39=\"طن\"),($Y39*$Z39),$Z39*AC39)),\"\")","v":0},194290,null,{"$f":"IFERROR(IF(بيانات!$U39=\"نقلة\",INDEX(الجدول35[[5 طن]:[وش]],MATCH(بيانات!$H39,الجدول35[عمود1],0),MATCH(بيانات!$AA39,الجدول35[[#Headers],[5 طن]:[وش]],0)),INDEX(الجدول3[[5 طن]:[وش]],MATCH(بيانات!$H39,الجدول3[عمود1],0),MATCH(بيانات!$AA39,الجدول3[[#Headers],[5 طن]:[وش]],0))),\"\")","v":120},"5 طن",null,null,null,null,{"$f":"IF(AND(بيانات!$Y39>=24,بيانات!$U39=\"طن\",بيانات!$AA39=\"جرار\"),بيانات!$Z39*بيانات!$Y39,بيانات!$Z39*24)","v":2880},{"$f":"IF(AND(بيانات!$Y39>=5,AND(بيانات!$U39=\"طن\",بيانات!$AA39=\"5 طن\")),بيانات!$Z39*بيانات!$Y39,بيانات!$Z39*5)","v":600},{"$f":"IF(بيانات!$U39=\"نقلة\",بيانات!$Z39,\"\")","v":""}]
[{"$f":"بيانات!$X40","v":0},"2020-06-01","ابراهيم محمد",null,null,"قاهره",300,null,null,null,null,null,null,null,null,null,null,null,null,null,"طن",null,{"$f":"IFERROR(IF($U40=\"نقلة\",$Z40,IF(AND(Y40>=SUMIF(data!$A$18:$A$21,AA40,data!$B$18:$B$21),$U40=\"طن\"),($Y40*$Z40),$Z40*AC40)),\"\")","v":""},null,null,{"$f":"IFERROR(IF(بيانات!$U40=\"نقلة\",INDEX(الجدول35[[5 طن]:[وش]],MATCH(بيانات!$H40,الجدول35[عمود1],0),MATCH(بيانات!$AA40,الجدول35[[#Headers],[5 طن]:[وش]],0)),INDEX(الجدول3[[5 طن]:[وش]],MATCH(بيانات!$H40,الجدول3[عمود1],0),MATCH(بيانات!$AA40,الجدول3[[#Headers],[5 طن]:[وش]],0))),\"\")","v":""},"5 طن",null,null,null,null,{"$f":"IF(AND(بيانات!$Y40>=24,بيانات!$U40=\"طن\",بيانات!$AA40=\"جرار\"),بيانات!$Z40*بيانات!$Y40,بيانات!$Z40*24)","v":{"$error":"#VALUE!"}},{"$f":"IF(AND(بيانات!$Y40>=5,AND(بيانات!$U40=\"طن\",بيانات!$AA40=\"5 طن\")),بيانات!$Z40*بيانات!$Y40,بيانات!$Z40*5)","v":{"$error":"#VALUE!"}},{"$f":"IF(بيانات!$U40=\"نقلة\",بيانات!$Z40,\"\")","v":""}]
[{"$f":"بيانات!$X41","v":194295},"2020-06-01","علاء شحاته",7462,null,"كفرالشيخ",600,"كفر الشيخ",null,null,null,null,null,null,null,null,null,null,null,null,"طن",80,{"$f":"IFERROR(IF($U41=\"نقلة\",$Z41,IF(AND(Y41>=SUMIF(data!$A$18:$A$21,AA41,data!$B$18:$B$21),$U41=\"طن\"),($Y41*$Z41),$Z41*AC41)),\"\")","v":""},194295,null,{"$f":"IFERROR(IF(بيانات!$U41=\"نقلة\",INDEX(الجدول35[[5 طن]:[وش]],MATCH(بيانات!$H41,الجدول35[عمود1],0),MATCH(بيانات!$AA41,الجدول35[[#Headers],[5 طن]:[وش]],0)),INDEX(الجدول3[[5 طن]:[وش]],MATCH(بيانات!$H41,الجدول3[عمود1],0),MATCH(بيانات!$AA41,الجدول3[[#Headers],[5 طن]:[وش]],0))),\"\")","v":""},"5 طن",null,null,null,null,{"$f":"IF(AND(بيانات!$Y41>=24,بيانات!$U41=\"طن\",بيانات!$AA41=\"جرار\"),بيانات!$Z41*بيانات!$Y41,بيانات!$Z41*24)","v":{"$error":"#VALUE!"}},{"$f":"IF(AND(بيانات!$Y41>=5,AND(بيانات!$U41=\"طن\",بيانات!$AA41=\"5 طن\")),بيانات!$Z41*بيانات!$Y41,بيانات!$Z41*5)","v":{"$error":"#VALUE!"}},{"$f":"IF(بيانات!$U41=\"نقلة\",بيانات!$Z41,\"\")","v":""}]
[{"$f":"بيانات!$X42","v":0},"2020-06-01","عبده السيد",null,null,"قاهره",100,null,null,null,null,null,null,null,null,null,null,null,null,null,"طن",null,{"$f":"IFERROR(IF($U42=\"نقلة\",$Z42,IF(AND(Y42>=SUMIF(data!$A$18:$A$21,AA42,data!$B$18:$B$21),$U42=\"طن\"),($Y42*$Z42),$Z42*AC42)),\"\")","v":""},null,null,{"$f":"IFERROR(IF(بيانات!$U42=\"نقلة\",INDEX(الجدول35[[5 طن]:[وش]],MATCH(بيانات!$H42,الجدول35[عمود1],0),MATCH(بيانات!$AA42,الجدول35[[#Headers],[5 طن]:[وش]],0)),INDEX(الجدول3[[5 طن]:[وش]],MATCH(بيانات!$H42,الجدول3[عمود1],0),MATCH(بيانات!$AA42,الجدول3[[#Headers],[5 طن]:[وش]],0))),\"\")","v":""},"5 طن",null,null,null,null,{"$f":"IF(AND(بيانات!$Y42>=24,بيانات!$U42=\"طن\",بيانات!$AA42=\"جرار\"),بيانات!$Z42*بيانات!$Y42,بيانات!$Z42*24)","v":{"$error":"#VALUE!"}},{"$f":"IF(AND(بيانات!$Y42>=5,AND(بيانات!$U42=\"طن\",بيانات!$AA42=\"5 طن\")),بيانات!$Z42*بيانات!$Y42,بيانات!$Z42*5)","v":{"$error":"#VALUE!"}},{"$f":"IF(بيانات!$U42=\"نقلة\",بيانات!$Z42,\"\")","v":""}]
[{"$f":"بيانات!$X43","v":194134},"2020-06-01","ابراهيم حسن",6718,null,"القاهره",null,"القاهره",null,null,null,null,null,null,null,null,null,null,null,null,"طن",75,{"$f":"IFERROR(IF($U43=\"نقلة\",$Z43,IF(AND(Y43>=SUMIF(data!$A$18:$A$21,AA43,data!$B$18:$B$21),$U43=\"طن\"),($Y43*$Z43),$Z43*AC43)),\"\")","v":0},194134,null,{"$f":"IFERROR(IF(بيانات!$U43=\"نقلة\",INDEX(الجدول35[[5 طن]:[وش]],MATCH(بيانات!$H43,الجدول35[عمود1],0),MATCH(بيانات!$AA43,الجدول35[[#Headers],[5 طن]:[وش]],0)),INDEX(الجدول3[[5 طن]:[وش]],MATCH(بيانات!$H43,الجدول3[عمود1],0),MATCH(بيانات!$AA43,الجدول3[[#Headers],[5 طن]:[وش]],0))),\"\")","v":100},"5 طن",null,null,null,null,{"$f":"IF(AND(بيانات!$Y43>=24,بيانات!$U43=\"طن\",بيانات!$AA43=\"جرار\"),بيانات!$Z43*بيانات!$Y43,بيانات!$Z43*24)","v":2400},{"$f":"IF(AND(بيانات!$Y43>=5,AND(بيانات!$U43=\"طن\",بيانات!$AA43=\"5 طن\")),بيانات!$Z43*بيانات!$Y43,بيانات!$Z43*5)","v":500},{"$f":"IF(بيانات!$U43=\"نقلة\",بيانات!$Z43,\"\")","v":""}]
[{"$f":"بيانات!$X44","v":194276},"2020-06-01","ابراهيم حسن",6718,null,"الفرجاني",100,"القاهره",null,null,null,null,null,null,null,null,null,null,null,null,"طن",75,{"$f":"IFERROR(IF($U44=\"نقلة\",$Z44,IF(AND(Y44>=SUMIF(data!$A$18:$A$21,AA44,data!$B$18:$B$21),$U44=\"طن\"),($Y44*$Z44),$Z44*AC44)),\"\")","v":0},194276,null,{"$f":"IFERROR(IF(بيانات!$U44=\"نقلة\",INDEX(الجدول35[[5 طن]:[وش]],MATCH(بيانات!$H44,الجدول35[عمود1],0),MATCH(بيانات!$AA44,الجدول35[[#Headers],[5 طن]:[وش]],0)),INDEX(الجدول3[[5 طن]:[وش]],MATCH(بيانات!$H44,الجدول3[عمود1],0),MATCH(بيانات!$AA44,الجدول3[[#Headers],[5 طن]:[وش]],0))),\"\")","v":100},"5 طن",null,null,null,null,{"$f":"IF(AND(بيانات!$Y44>=24,بيانات!$U44=\"طن\",بيانات!$AA44=\"جرار\"),بيانات!$Z44*بيانات!$Y44,بيانات!$Z44*24)","v":2400},{"$f":"IF(AND(بيانات!$Y44>=5,AND(بيانات!$U44=\"طن\",بيانات!$AA44=\"5 طن\")),بيانات!$Z44*بيانات!$Y44,بيانات!$Z44*5)","v":500},{"$f":"IF(بيانات!$U44=\"نقلة\",بيانات!$Z44,\"\")","v":""}]
[{"$f":"بيانات!$X45","v":194264},"2020-06-01","هاني عبدالمنعم",9626,null,"كفرالشيخ",500,"كفر الشيخ",null,null,null,null,null,null,null,null,null,null,null,null,"طن",80,{"$f":"IFERROR(IF($U45=\"نقلة\",$Z45,IF(AND(Y45>=SUMIF(data!$A$18:$A$21,AA45,data!$B$18:$B$21),$U45=\"طن\"),($Y45*$Z45),$Z45*AC45)),\"\")","v":""},194264,null,{"$f":"IFERROR(IF(بيانات!$U45=\"نقلة\",INDEX(الجدول35[[5 طن]:[وش]],MATCH(بيانات!$H45,الجدول35[عمود1],0),MATCH(بيانات!$AA45,الجدول35[[#Headers],[5 طن]:[وش]],0)),INDEX(الجدول3[[5 طن]:[وش]],MATCH(بيانات!$H45,الجدول3[عمود1],0),MATCH(بيانات!$AA45,الجدول3[[#Headers],[5 طن]:[وش]],0))),\"\")","v":""},"5 طن",null,null,null,null,{"$f":"IF(AND(بيانات!$Y45>=24,بيانات!$U45=\"طن\",بيانات!$AA45=\"جرار\"),بيانات!$Z45*بيانات!$Y45,بيانات!$Z45*24)","v":{"$error":"#VALUE!"}},{"$f":"IF(AND(بيانات!$Y45>=5,AND(بيانات!$U45=\"طن\",بيانات!$AA45=\"5 طن\")),بيانات!$Z45*بيانات!$Y45,بيانات!$Z45*5)","v":{"$error":"#VALUE!"}},{"$f":"IF(بيانات!$U45=\"نقلة\",بيانات!$Z45,\"\")","v":""}]
[{"$f":"بيانات!$X46","v":194316},"2020-06-01","محمود احمد",7421,null,"البدرشين",300,"الجيزه",null,null,null,null,null,null,null,null,null,null,null,null,"طن",75,{"$f":"IFERROR(IF($U46=\"نقلة\",$Z46,IF(AND(Y46>=SUMIF(data!$A$18:$A$21,AA46,data!$B$18:$B$21),$U46=\"طن\"),($Y46*$Z46),$Z46*AC46)),\"\")","v":0},194316,null,{"$f":"IFERROR(IF(بيانات!$U46=\"نقلة\",INDEX(الجدول35[[5 طن]:[وش]],MATCH(بيانات!$H46,الجدول35[عمود1],0),MATCH(بيانات!$AA46,الجدول35[[#Headers],[5 طن]:[وش]],0)),INDEX(الجدول3[[5 طن]:[وش]],MATCH(بيانات!$H46,الجدول3[عمود1],0),MATCH(بيانات!$AA46,الجدول3[[#Headers],[5 طن]:[وش]],0))),\"\")","v":110},"5 طن",null,null,null,null,{"$f":"IF(AND(بيانات!$Y46>=24,بيانات!$U46=\"طن\",بيانات!$AA46=\"جرار\"),بيانات!$Z46*بيانات!$Y46,بيانات!$Z46*24)","v":2640},{"$f":"IF(AND(بيانات!$Y46>=5,AND(بيانات!$U46=\"طن\",بيانات!$AA46=\"5 طن\")),بيانات!$Z46*بيانات!$Y46,بيانات!$Z46*5)","v":550},{"$f":"IF(بيانات!$U46=\"نقلة\",بيانات!$Z46,\"\")","v":""}]
[{"$f":"بيانات!$X47","v":0},"2020-06-01","احمد محمد فراج",null,null,"اسكندريه",600,null,null,null,null,null,null,null,null,null,null,null,null,null,"طن",null,{"$f":"IFERROR(IF($U47=\"نقلة\",$Z47,IF(AND(Y47>=SUMIF(data!$A$18:$A$21,AA47,data!$B$18:$B$21),$U47=\"طن\"),($Y47*$Z47),$Z47*AC47)),\"\")","v":""},null,null,{"$f":"IFERROR(IF(بيانات!$U47=\"نقلة\",INDEX(الجدول35[[5 طن]:[وش]],MATCH(بيانات!$H47,الجدول35[عمود1],0),MATCH(بيانات!$AA47,الجدول35[[#Headers],[5 طن]:[وش]],0)),INDEX(الجدول3[[5 طن]:[وش]],MATCH(بيانات!$H47,الجدول3[عمود1],0),MATCH(بيانات!$AA47,الجدول3[[#Headers],[5 طن]:[وش]],0))),\"\")","v":""},"5 طن",null,null,null,null,{"$f":"IF(AND(بيانات!$Y47>=24,بيانات!$U47=\"طن\",بيانات!$AA47=\"جرار\"),بيانات!$Z47*بيانات!$Y47,بيانات!$Z47*24)","v":{"$error":"#VALUE!"}},{"$f":"IF(AND(بيانات!$Y47>=5,AND(بيانات!$U47=\"طن\",بيانات!$AA47=\"5 طن\")),بيانات!$Z47*بيانات!$Y47,بيانات!$Z47*5)","v":{"$error":"#VALUE!"}},{"$f":"IF(بيانات!$U47=\"نقلة\",بيانات!$Z47,\"\")","v":""}]
[{"$f":"بيانات!$X48","v":0},"2020-06-01","جمال عبدالرازق",null,null,"بحيره",500,null,null,null,null,null,null,null,null,null,null,null,null,null,"طن",null,{"$f":"IFERROR(IF($U48=\"نقلة\",$Z48,IF(AND(Y48>=SUMIF(data!$A$18:$A$21,AA48,data!$B$18:$B$21),$U48=\"طن\"),($Y48*$Z48),$Z48*AC48)),\"\")","v":""},null,null,{"$f":"IFERROR(IF(بيانات!$U48=\"نقلة\",INDEX(الجدول35[[5 طن]:[وش]],MATCH(بيانات!$H48,الجدول35[عمود1],0),MATCH(بيانات!$AA48,الجدول35[[#Headers],[5 طن]:[وش]],0)),INDEX(الجدول3[[5 طن]:[وش]],MATCH(بيانات!$H48,الجدول3[عمود1],0),MATCH(بيانات!$AA48,الجدول3[[#Headers],[5 طن]:[وش]],0))),\"\")","v":""},"5 طن",null,null,null,null,{"$f":"IF(AND(بيانات!$Y48>=24,بيانات!$U48=\"طن\",بيانات!$AA48=\"جرار\"),بيانات!$Z48*بيانات!$Y48,بيانات!$Z48*24)","v":{"$error":"#VALUE!"}},{"$f":"IF(AND(بيانات!$Y48>=5,AND(بيانات!$U48=\"طن\",بيانات!$AA48=\"5 طن\")),بيانات!$Z48*بيانات!$Y48,بيانات!$Z48*5)","v":{"$error":"#VALUE!"}},{"$f":"IF(بيانات!$U48=\"نقلة\",بيانات!$Z48,\"\")","v":""}]
[{"$f":"بيانات!$X49","v":194010},"2020-05-31","بشير السيد",3751,null,"بحيره",null,"البحيره",null,null,null,null,null,null,null,null,null,null,null,null,"طن",80,{"$f":"IFERROR(IF($U49=\"نقلة\",$Z49,IF(AND(Y49>=SUMIF(data!$A$18:$A$21,AA49,data!$B$18:$B$21),$U49=\"طن\"),($Y49*$Z49),$Z49*AC49)),\"\")","v":0},194010,null,{"$f":"IFERROR(IF(بيانات!$U49=\"نقلة\",INDEX(الجدول35[[5 طن]:[وش]],MATCH(بيانات!$H49,الجدول35[عمود1],0),MATCH(بيانات!$AA49,الجدول35[[#Headers],[5 طن]:[وش]],0)),INDEX(الجدول3[[5 طن]:[وش]],MATCH(بيانات!$H49,الجدول3[عمود1],0),MATCH(بيانات!$AA49,الجدول3[[#Headers],[5 طن]:[وش]],0))),\"\")","v":165},"5 طن",null,null,null,null,{"$f":"IF(AND(بيانات!$Y49>=24,بيانات!$U49=\"طن\",بيانات!$AA49=\"جرار\"),بيانات!$Z49*بيانات!$Y49,بيانات!$Z49*24)","v":3960},{"$f":"IF(AND(بيانات!$Y49>=5,AND(بيانات!$U49=\"طن\",بيانات!$AA49=\"5 طن\")),بيانات!$Z49*بيانات!$Y49,بيانات!$Z49*5)","v":825},{"$f":"IF(بيانات!$U49=\"نقلة\",بيانات!$Z49,\"\")","v":""}]
[{"$f":"بيانات!$X50","v":194065},"2020-06-01","بشير السيد",3751,null,"ام زغو",300,"الاسكندريه",null,null,null,null,null,null,null,null,null,null,null,null,"طن",80,{"$f":"IFERROR(IF($U50=\"نقلة\",$Z50,IF(AND(Y50>=SUMIF(data!$A$18:$A$21,AA50,data!$B$18:$B$21),$U50=\"طن\"),($Y50*$Z50),$Z50*AC50)),\"\")","v":0},194065,null,{"$f":"IFERROR(IF(بيانات!$U50=\"نقلة\",INDEX(الجدول35[[5 طن]:[وش]],MATCH(بيانات!$H50,الجدول35[عمود1],0),MATCH(بيانات!$AA50,الجدول35[[#Headers],[5 طن]:[وش]],0)),INDEX(الجدول3[[5 طن]:[وش]],MATCH(بيانات!$H50,الجدول3[عمود1],0),MATCH(بيانات!$AA50,الجدول3[[#Headers],[5 طن]:[وش]],0))),\"\")","v":215},"5 طن",null,null,null,null,{"$f":"IF(AND(بيانات!$Y50>=24,بيانات!$U50=\"طن\",بيانات!$AA50=\"جرار\"),بيانات!$Z50*بيانات!$Y50,بيانات!$Z50*24)","v":5160},{"$f":"IF(AND(بيانات!$Y50>=5,AND(بيانات!$U50=\"طن\",بيانات!$AA50=\"5 طن\")),بيانات!$Z50*بيانات!$Y50,بيانات!$Z50*5)","v":1075},{"$f":"IF(بيانات!$U50=\"نقلة\",بيانات!$Z50,\"\")","v":""}]
[{"$f":"بيانات!$X51","v":0},"2020-06-01","حامد رفعت",1698,null,"بحيره",200,null,null,null,null,null,null,null,null,null,null,null,null,null,"طن",null,{"$f":"IFERROR(IF($U51=\"نقلة\",$Z51,IF(AND(Y51>=SUMIF(data!$A$18:$A$21,AA51,data!$B$18:$B$21),$U51=\"طن\"),($Y51*$Z51),$Z51*AC51)),\"\")","v":""},null,null,{"$f":"IFERROR(IF(بيانات!$U51=\"نقلة\",INDEX(الجدول35[[5 طن]:[وش]],MATCH(بيانات!$H51,الجدول35[عمود1],0),MATCH(بيانات!$AA51,الجدول35[[#Headers],[5 طن]:[وش]],0)),INDEX(الجدول3[[5 طن]:[وش]],MATCH(بيانات!$H51,الجدول3[عمود1],0),MATCH(بيانات!$AA51,الجدول3[[#Headers],[5 طن]:[وش]],0))),\"\")","v":""},"5 طن",null,null,null,null,{"$f":"IF(AND(بيانات!$Y51>=24,بيانات!$U51=\"طن\",بيانات!$AA51=\"جرار\"),بيانات!$Z51*بيانات!$Y51,بيانات!$Z51*24)","v":{"$error":"#VALUE!"}},{"$f":"IF(AND(بيانات!$Y51>=5,AND(بيانات!$U51=\"طن\",بيانات!$AA51=\"5 طن\")),بيانات!$Z51*بيانات!$Y51,بيانات!$Z51*5)","v":{"$error":"#VALUE!"}},{"$f":"IF(بيانات!$U51=\"نقلة\",بيانات!$Z51,\"\")","v":""}]
[{"$f":"بيانات!$X52","v":0},"2020-06-02","هاني سامي",null,null,"قاهره",300,null,null,null,null,null,null,null,null,null,null,null,null,null,"طن",null,{"$f":"IFERROR(IF($U52=\"نقلة\",$Z52,IF(AND(Y52>=SUMIF(data!$A$18:$A$21,AA52,data!$B$18:$B$21),$U52=\"طن\"),($Y52*$Z52),$Z52*AC52)),\"\")","v":""},null,null,{"$f":"IFERROR(IF(بيانات!$U52=\"نقلة\",INDEX(الجدول35[[5 طن]:[وش]],MATCH(بيانات!$H52,الجدول35[عمود1],0),MATCH(بيانات!$AA52,الجدول35[[#Headers],[5 طن]:[وش]],0)),INDEX(الجدول3[[5 طن]:[وش]],MATCH(بيانات!$H52,الجدول3[عمود1],0),MATCH(بيانات!$AA52,الجدول3[[#Headers],[5 طن]:[وش]],0))),\"\")","v":""},"5 طن",null,null,null,null,{"$f":"IF(AND(بيانات!$Y52>=24,بيانات!$U52=\"طن\",بيانات!$AA52=\"جرار\"),بيانات!$Z52*بيانات!$Y52,بيانات!$Z52*24)","v":{"$error":"#VALUE!"}},{"$f":"IF(AND(بيانات!$Y52>=5,AND(بيانات!$U52=\"طن\",بيانات!$AA52=\"5 طن\")),بيانات!$Z52*بيانات!$Y52,بيانات!$Z52*5)","v":{"$error":"#VALUE!"}},{"$f":"IF(بيانات!$U52=\"نقلة\",بيانات!$Z52,\"\")","v":""}]
[{"$f":"بيانات!$X53","v":0},"2020-06-02","محمود عبدالعظيم",null,null,"كفرالشيخ",500,null,null,null,null,null,null,null,null,null,null,null,null,null,"طن",null,{"$f":"IFERROR(IF($U53=\"نقلة\",$Z53,IF(AND(Y53>=SUMIF(data!$A$18:$A$21,AA53,data!$B$18:$B$21),$U53=\"طن\"),($Y53*$Z53),$Z53*AC53)),\"\")","v":""},null,null,{"$f":"IFERROR(IF(بيانات!$U53=\"نقلة\",INDEX(الجدول35[[5 طن]:[وش]],MATCH(بيانات!$H53,الجدول35[عمود1],0),MATCH(بيانات!$AA53,الجدول35[[#Headers],[5 طن]:[وش]],0)),INDEX(الجدول3[[5 طن]:[وش]],MATCH(بيانات!$H53,الجدول3[عمود1],0),MATCH(بيانات!$AA53,الجدول3[[#Headers],[5 طن]:[وش]],0))),\"\")","v":""},"5 طن",null,null,null,null,{"$f":"IF(AND(بيانات!$Y53>=24,بيانات!$U53=\"طن\",بيانات!$AA53=\"جرار\"),بيانات!$Z53*بيانات!$Y53,بيانات!$Z53*24)","v":{"$error":"#VALUE!"}},{"$f":"IF(AND(بيانات!$Y53>=5,AND(بيانات!$U53=\"طن\",بيانات!$AA53=\"5 طن\")),بيانات!$Z53*بيانات!$Y53,بيانات!$Z53*5)","v":{"$error":"#VALUE!"}},{"$f":"IF(بيانات!$U53=\"نقلة\",بيانات!$Z53,\"\")","v":""}]
[{"$f":"بيانات!$X54","v":194436},"2020-06-02","رمضان حمدي",1328,null,"الفرجاني",100,"القاهره",null,null,null,null,null,null,null,null,null,null,null,null,"طن",65,{"$f":"IFERROR(IF($U54=\"نقلة\",$Z54,IF(AND(Y54>=SUMIF(data!$A$18:$A$21,AA54,data!$B$18:$B$21),$U54=\"طن\"),($Y54*$Z54),$Z54*AC54)),\"\")","v":0},194436,null,{"$f":"IFERROR(IF(بيانات!$U54=\"نقلة\",INDEX(الجدول35[[5 طن]:[وش]],MATCH(بيانات!$H54,الجدول35[عمود1],0),MATCH(بيانات!$AA54,الجدول35[[#Headers],[5 طن]:[وش]],0)),INDEX(الجدول3[[5 طن]:[وش]],MATCH(بيانات!$H54,الجدول3[عمود1],0),MATCH(بيانات!$AA54,الجدول3[[#Headers],[5 طن]:[وش]],0))),\"\")","v":100},"5 طن",null,null,null,null,{"$f":"IF(AND(بيانات!$Y54>=24,بيانات!$U54=\"طن\",بيانات!$AA54=\"جرار\"),بيانات!$Z54*بيانات!$Y54,بيانات!$Z54*24)","v":2400},{"$f":"IF(AND(بيانات!$Y54>=5,AND(بيانات!$U54=\"طن\",بيانات!$AA54=\"5 طن\")),بيانات!$Z54*بيانات!$Y54,بيانات!$Z54*5)","v":500},{"$f":"IF(بيانات!$U54=\"نقلة\",بيانات!$Z54,\"\")","v":""}]
[{"$f":"بيانات!$X55","v":194466},"2020-06-02","محمد فوزي",4139,null,"يثرب",300,"الجيزه",null,null,null,null,null,null,null,null,null,null,null,null,"طن",75,{"$f":"IFERROR(IF($U55=\"نقلة\",$Z55,IF(AND(Y55>=SUMIF(data!$A$18:$A$21,AA55,data!$B$18:$B$21),$U55=\"طن\"),($Y55*$Z55),$Z55*AC55)),\"\")","v":0},194466,null,{"$f":"IFERROR(IF(بيانات!$U55=\"نقلة\",INDEX(الجدول35[[5 طن]:[وش]],MATCH(بيانات!$H55,الجدول35[عمود1],0),MATCH(بيانات!$AA55,الجدول35[[#Headers],[5 طن]:[وش]],0)),INDEX(الجدول3[[5 طن]:[وش]],MATCH(بيانات!$H55,الجدول3[عمود1],0),MATCH(بيانات!$AA55,الجدول3[[#Headers],[5 طن]:[وش]],0))),\"\")","v":110},"5 طن",null,null,null,null,{"$f":"IF(AND(بيانات!$Y55>=24,بيانات!$U55=\"طن\",بيانات!$AA55=\"جرار\"),بيانات!$Z55*بيانات!$Y55,بيانات!$Z55*24)","v":2640},{"$f":"IF(AND(بيانات!$Y55>=5,AND(بيانات!$U55=\"طن\",بيانات!$AA55=\"5 طن\")),بيانات!$Z55*بيانات!$Y55,بيانات!$Z55*5)","v":550},{"$f":"IF(بيانات!$U55=\"نقلة\",بيانات!$Z55,\"\")","v":""}]
[{"$f":"بيانات!$X56","v":194380},"2020-06-02","ابراهيم حامد",3927,null,"قاهره",300,"القاهره",null,null,null,null,null,null,null,null,null,null,null,null,"طن",75,{"$f":"IFERROR(IF($U56=\"نقلة\",$Z56,IF(AND(Y56>=SUMIF(data!$A$18:$A$21,AA56,data!$B$18:$B$21),$U56=\"طن\"),($Y56*$Z56),$Z56*AC56)),\"\")","v":0},194380,null,{"$f":"IFERROR(IF(بيانات!$U56=\"نقلة\",INDEX(الجدول35[[5 طن]:[وش]],MATCH(بيانات!$H56,الجدول35[عمود1],0),MATCH(بيانات!$AA56,الجدول35[[#Headers],[5 طن]:[وش]],0)),INDEX(الجدول3[[5 طن]:[وش]],MATCH(بيانات!$H56,الجدول3[عمود1],0),MATCH(بيانات!$AA56,الجدول3[[#Headers],[5 طن]:[وش]],0))),\"\")","v":95},"وش",null,null,null,null,{"$f":"IF(AND(بيانات!$Y56>=24,بيانات!$U56=\"طن\",بيانات!$AA56=\"جرار\"),بيانات!$Z56*بيانات!$Y56,بيانات!$Z56*24)","v":2280},{"$f":"IF(AND(بيانات!$Y56>=5,AND(بيانات!$U56=\"طن\",بيانات!$AA56=\"5 طن\")),بيانات!$Z56*بيانات!$Y56,بيانات!$Z56*5)","v":475},{"$f":"IF(بيانات!$U56=\"نقلة\",بيانات!$Z56,\"\")","v":""}]
[{"$f":"بيانات!$X57","v":0},"2020-06-02","محمد عادل",1279,null,"اسكندريه",200,null,null,null,null,null,null,null,null,null,null,400,"لفه3",null,"طن",null,{"$f":"IFERROR(IF($U57=\"نقلة\",$Z57,IF(AND(Y57>=SUMIF(data!$A$18:$A$21,AA57,data!$B$18:$B$21),$U57=\"طن\"),($Y57*$Z57),$Z57*AC57)),\"\")","v":""},null,null,{"$f":"IFERROR(IF(بيانات!$U57=\"نقلة\",INDEX(الجدول35[[5 طن]:[وش]],MATCH(بيانات!$H57,الجدول35[عمود1],0),MATCH(بيانات!$AA57,الجدول35[[#Headers],[5 طن]:[وش]],0)),INDEX(الجدول3[[5 طن]:[وش]],MATCH(بيانات!$H57,الجدول3[عمود1],0),MATCH(بيانات!$AA57,الجدول3[[#Headers],[5 طن]:[وش]],0))),\"\")","v":""},"5 طن",null,null,null,null,{"$f":"IF(AND(بيانات!$Y57>=24,بيانات!$U57=\"طن\",بيانات!$AA57=\"جرار\"),بيانات!$Z57*بيانات!$Y57,بيانات!$Z57*24)","v":{"$error":"#VALUE!"}},{"$f":"IF(AND(بيانات!$Y57>=5,AND(بيانات!$U57=\"طن\",بيانات!$AA57=\"5 طن\")),بيانات!$Z57*بيانات!$Y57,بيانات!$Z57*5)","v":{"$error":"#VALUE!"}},{"$f":"IF(بيانات!$U57=\"نقلة\",بيانات!$Z57,\"\")","v":""}]
[{"$f":"بيانات!$X58","v":194409},"2020-06-02","حامد رفعت",1698,null,"اسكندريه",250,"الاسكندريه",null,null,null,null,null,null,null,null,null,null,null,null,"طن",80,{"$f":"IFERROR(IF($U58=\"نقلة\",$Z58,IF(AND(Y58>=SUMIF(data!$A$18:$A$21,AA58,data!$B$18:$B$21),$U58=\"طن\"),($Y58*$Z58),$Z58*AC58)),\"\")","v":0},194409,null,{"$f":"IFERROR(IF(بيانات!$U58=\"نقلة\",INDEX(الجدول35[[5 طن]:[وش]],MATCH(بيانات!$H58,الجدول35[عمود1],0),MATCH(بيانات!$AA58,الجدول35[[#Headers],[5 طن]:[وش]],0)),INDEX(الجدول3[[5 طن]:[وش]],MATCH(بيانات!$H58,الجدول3[عمود1],0),MATCH(بيانات!$AA58,الجدول3[[#Headers],[5 طن]:[وش]],0))),\"\")","v":215},"5 طن",null,null,null,null,{"$f":"IF(AND(بيانات!$Y58>=24,بيانات!$U58=\"طن\",بيانات!$AA58=\"جرار\"),بيانات!$Z58*بيانات!$Y58,بيانات!$Z58*24)","v":5160},{"$f":"IF(AND(بيانات!$Y58>=5,AND(بيانات!$U58=\"طن\",بيانات!$AA58=\"5 طن\")),بيانات!$Z58*بيانات!$Y58,بيانات!$Z58*5)","v":1075},{"$f":"IF(بيانات!$U58=\"نقلة\",بيانات!$Z58,\"\")","v":""}]
[{"$f":"بيانات!$X59","v":194410},"2020-06-02","ابراهيم حسن",6718,null,"اسكندريه",150,"الاسكندريه",null,null,null,null,null,null,null,null,null,null,null,null,"طن",80,{"$f":"IFERROR(IF($U59=\"نقلة\",$Z59,IF(AND(Y59>=SUMIF(data!$A$18:$A$21,AA59,data!$B$18:$B$21),$U59=\"طن\"),($Y59*$Z59),$Z59*AC59)),\"\")","v":0},194410,null,{"$f":"IFERROR(IF(بيانات!$U59=\"نقلة\",INDEX(الجدول35[[5 طن]:[وش]],MATCH(بيانات!$H59,الجدول35[عمود1],0),MATCH(بيانات!$AA59,الجدول35[[#Headers],[5 طن]:[وش]],0)),INDEX(الجدول3[[5 طن]:[وش]],MATCH(بيانات!$H59,الجدول3[عمود1],0),MATCH(بيانات!$AA59,الجدول3[[#Headers],[5 طن]:[وش]],0))),\"\")","v":215},"5 طن",null,null,null,null,{"$f":"IF(AND(بيانات!$Y59>=24,بيانات!$U59=\"طن\",بيانات!$AA59=\"جرار\"),بيانات!$Z59*بيانات!$Y59,بيانات!$Z59*24)","v":5160},{"$f":"IF(AND(بيانات!$Y59>=5,AND(بيانات!$U59=\"طن\",بيانات!$AA59=\"5 طن\")),بيانات!$Z59*بيانات!$Y59,بيانات!$Z59*5)","v":1075},{"$f":"IF(بيانات!$U59=\"نقلة\",بيانات!$Z59,\"\")","v":""}]
[{"$f":"بيانات!$X60","v":194296},"2020-06-01","بشير السيد",3751,null,"ام زغو",null,"الاسكندريه",null,null,null,null,null,null,null,null,null,null,null,null,"طن",65,{"$f":"IFERROR(IF($U60=\"نقلة\",$Z60,IF(AND(Y60>=SUMIF(data!$A$18:$A$21,AA60,data!$B$18:$B$21),$U60=\"طن\"),($Y60*$Z60),$Z60*AC60)),\"\")","v":0},194296,null,{"$f":"IFERROR(IF(بيانات!$U60=\"نقلة\",INDEX(الجدول35[[5 طن]:[وش]],MATCH(بيانات!$H60,الجدول35[عمود1],0),MATCH(بيانات!$AA60,الجدول35[[#Headers],[5 طن]:[وش]],0)),INDEX(الجدول3[[5 طن]:[وش]],MATCH(بيانات!$H60,الجدول3[عمود1],0),MATCH(بيانات!$AA60,الجدول3[[#Headers],[5 طن]:[وش]],0))),\"\")","v":215},"5 طن",null,null,null,null,{"$f":"IF(AND(بيانات!$Y60>=24,بيانات!$U60=\"طن\",بيانات!$AA60=\"جرار\"),بيانات!$Z60*بيانات!$Y60,بيانات!$Z60*24)","v":5160},{"$f":"IF(AND(بيانات!$Y60>=5,AND(بيانات!$U60=\"طن\",بيانات!$AA60=\"5 طن\")),بيانات!$Z60*بيانات!$Y60,بيانات!$Z60*5)","v":1075},{"$f":"IF(بيانات!$U60=\"نقلة\",بيانات!$Z60,\"\")","v":""}]
[{"$f":"بيانات!$X61","v":0},"2020-06-02","بشير السيد",3751,null,"اسماعيليه",150,null,null,null,null,null,null,null,null,null,null,1000,null,null,"طن",null,{"$f":"IFERROR(IF($U61=\"نقلة\",$Z61,IF(AND(Y61>=SUMIF(data!$A$18:$A$21,AA61,data!$B$18:$B$21),$U61=\"طن\"),($Y61*$Z61),$Z61*AC61)),\"\")","v":""},null,null,{"$f":"IFERROR(IF(بيانات!$U61=\"نقلة\",INDEX(الجدول35[[5 طن]:[وش]],MATCH(بيانات!$H61,الجدول35[عمود1],0),MATCH(بيانات!$AA61,الجدول35[[#Headers],[5 طن]:[وش]],0)),INDEX(الجدول3[[5 طن]:[وش]],MATCH(بيانات!$H61,الجدول3[عمود1],0),MATCH(بيانات!$AA61,الجدول3[[#Headers],[5 طن]:[وش]],0))),\"\")","v":""},"5 طن",null,null,null,null,{"$f":"IF(AND(بيانات!$Y61>=24,بيانات!$U61=\"طن\",بيانات!$AA61=\"جرار\"),بيانات!$Z61*بيانات!$Y61,بيانات!$Z61*24)","v":{"$error":"#VALUE!"}},{"$f":"IF(AND(بيانات!$Y61>=5,AND(بيانات!$U61=\"طن\",بيانات!$AA61=\"5 طن\")),بيانات!$Z61*بيانات!$Y61,بيانات!$Z61*5)","v":{"$error":"#VALUE!"}},{"$f":"IF(بيانات!$U61=\"نقلة\",بيانات!$Z61,\"\")","v":""}]
[{"$f":"بيانات!$X62","v":0},"2020-06-02","محمود حسن محمد",null,null,"قاهره",100,null,null,null,null,null,null,null,null,null,null,null,null,null,"طن",null,{"$f":"IFERROR(IF($U62=\"نقلة\",$Z62,IF(AND(Y62>=SUMIF(data!$A$18:$A$21,AA62,data!$B$18:$B$21),$U62=\"طن\"),($Y62*$Z62),$Z62*AC62)),\"\")","v":""},null,null,{"$f":"IFERROR(IF(بيانات!$U62=\"نقلة\",INDEX(الجدول35[[5 طن]:[وش]],MATCH(بيانات!$H62,الجدول35[عمود1],0),MATCH(بيانات!$AA62,الجدول35[[#Headers],[5 طن]:[وش]],0)),INDEX(الجدول3[[5 طن]:[وش]],MATCH(بيانات!$H62,الجدول3[عمود1],0),MATCH(بيانات!$AA62,الجدول3[[#Headers],[5 طن]:[وش]],0))),\"\")","v":""},"5 طن",null,null,null,null,{"$f":"IF(AND(بيانات!$Y62>=24,بيانات!$U62=\"طن\",بيانات!$AA62=\"جرار\"),بيانات!$Z62*بيانات!$Y62,بيانات!$Z62*24)","v":{"$error":"#VALUE!"}},{"$f":"IF(AND(بيانات!$Y62>=5,AND(بيانات!$U62=\"طن\",بيانات!$AA62=\"5 طن\")),بيانات!$Z62*بيانات!$Y62,بيانات!$Z62*5)","v":{"$error":"#VALUE!"}},{"$f":"IF(بيانات!$U62=\"نقلة\",بيانات!$Z62,\"\")","v":""}]
[{"$f":"بيانات!$X63","v":194544},"2020-06-02","رمضان محمود",7293,null,"قاهره",150,"القاهره",null,null,null,null,null,null,null,null,null,null,null,null,"طن",75,{"$f":"IFERROR(IF($U63=\"نقلة\",$Z63,IF(AND(Y63>=SUMIF(data!$A$18:$A$21,AA63,data!$B$18:$B$21),$U63=\"طن\"),($Y63*$Z63),$Z63*AC63)),\"\")","v":0},194544,null,{"$f":"IFERROR(IF(بيانات!$U63=\"نقلة\",INDEX(الجدول35[[5 طن]:[وش]],MATCH(بيانات!$H63,الجدول35[عمود1],0),MATCH(بيانات!$AA63,الجدول35[[#Headers],[5 طن]:[وش]],0)),INDEX(الجدول3[[5 طن]:[وش]],MATCH(بيانات!$H63,الجدول3[عمود1],0),MATCH(بيانات!$AA63,الجدول3[[#Headers],[5 طن]:[وش]],0))),\"\")","v":100},"5 طن",null,null,null,null,{"$f":"IF(AND(بيانات!$Y63>=24,بيانات!$U63=\"طن\",بيانات!$AA63=\"جرار\"),بيانات!$Z63*بيانات!$Y63,بيانات!$Z63*24)","v":2400},{"$f":"IF(AND(بيانات!$Y63>=5,AND(بيانات!$U63=\"طن\",بيانات!$AA63=\"5 طن\")),بيانات!$Z63*بيانات!$Y63,بيانات!$Z63*5)","v":500},{"$f":"IF(بيانات!$U63=\"نقلة\",بيانات!$Z63,\"\")","v":""}]
[{"$f":"بيانات!$X64","v":0},"2020-06-02","فريد محمد",null,null,"مترو",300,null,null,null,null,null,null,null,null,null,null,null,null,null,"طن",null,{"$f":"IFERROR(IF($U64=\"نقلة\",$Z64,IF(AND(Y64>=SUMIF(data!$A$18:$A$21,AA64,data!$B$18:$B$21),$U64=\"طن\"),($Y64*$Z64),$Z64*AC64)),\"\")","v":""},null,null,{"$f":"IFERROR(IF(بيانات!$U64=\"نقلة\",INDEX(الجدول35[[5 طن]:[وش]],MATCH(بيانات!$H64,الجدول35[عمود1],0),MATCH(بيانات!$AA64,الجدول35[[#Headers],[5 طن]:[وش]],0)),INDEX(الجدول3[[5 طن]:[وش]],MATCH(بيانات!$H64,الجدول3[عمود1],0),MATCH(بيانات!$AA64,الجدول3[[#Headers],[5 طن]:[وش]],0))),\"\")","v":""},"5 طن",null,null,null,null,{"$f":"IF(AND(بيانات!$Y64>=24,بيانات!$U64=\"طن\",بيانات!$AA64=\"جرار\"),بيانات!$Z64*بيانات!$Y64,بيانات!$Z64*24)","v":{"$error":"#VALUE!"}},{"$f":"IF(AND(بيانات!$Y64>=5,AND(بيانات!$U64=\"طن\",بيانات!$AA64=\"5 طن\")),بيانات!$Z64*بيانات!$Y64,بيانات!$Z64*5)","v":{"$error":"#VALUE!"}},{"$f":"IF(بيانات!$U64=\"نقلة\",بيانات!$Z64,\"\")","v":""}]
[{"$f":"بيانات!$X65","v":0},"2020-06-02","جمال عبدالحكيم",null,null,"مترو",400,null,null,null,null,null,null,null,null,null,null,null,null,null,"طن",null,{"$f":"IFERROR(IF($U65=\"نقلة\",$Z65,IF(AND(Y65>=SUMIF(data!$A$18:$A$21,AA65,data!$B$18:$B$21),$U65=\"طن\"),($Y65*$Z65),$Z65*AC65)),\"\")","v":""},null,null,{"$f":"IFERROR(IF(بيانات!$U65=\"نقلة\",INDEX(الجدول35[[5 طن]:[وش]],MATCH(بيانات!$H65,الجدول35[عمود1],0),MATCH(بيانات!$AA65,الجدول35[[#Headers],[5 طن]:[وش]],0)),INDEX(الجدول3[[5 طن]:[وش]],MATCH(بيانات!$H65,الجدول3[عمود1],0),MATCH(بيانات!$AA65,الجدول3[[#Headers],[5 طن]:[وش]],0))),\"\")","v":""},"5 طن",null,null,null,null,{"$f":"IF(AND(بيانات!$Y65>=24,بيانات!$U65=\"طن\",بيانات!$AA65=\"جرار\"),بيانات!$Z65*بيانات!$Y65,بيانات!$Z65*24)","v":{"$error":"#VALUE!"}},{"$f":"IF(AND(بيانات!$Y65>=5,AND(بيانات!$U65=\"طن\",بيانات!$AA65=\"5 طن\")),بيانات!$Z65*بيانات!$Y65,بيانات!$Z65*5)","v":{"$error":"#VALUE!"}},{"$f":"IF(بيانات!$U65=\"نقلة\",بيانات!$Z65,\"\")","v":""}]
[{"$f":"بيانات!$X66","v":194471},"2020-06-02","علاء شحاته",7462,null,"النهضه",700,"الاسكندريه",null,null,null,null,null,null,null,null,null,null,null,null,"طن",80,{"$f":"IFERROR(IF($U66=\"نقلة\",$Z66,IF(AND(Y66>=SUMIF(data!$A$18:$A$21,AA66,data!$B$18:$B$21),$U66=\"طن\"),($Y66*$Z66),$Z66*AC66)),\"\")","v":0},194471,null,{"$f":"IFERROR(IF(بيانات!$U66=\"نقلة\",INDEX(الجدول35[[5 طن]:[وش]],MATCH(بيانات!$H66,الجدول35[عمود1],0),MATCH(بيانات!$AA66,الجدول35[[#Headers],[5 طن]:[وش]],0)),INDEX(الجدول3[[5 طن]:[وش]],MATCH(بيانات!$H66,الجدول3[عمود1],0),MATCH(بيانات!$AA66,الجدول3[[#Headers],[5 طن]:[وش]],0))),\"\")","v":215},"5 طن",null,null,null,null,{"$f":"IF(AND(بيانات!$Y66>=24,بيانات!$U66=\"طن\",بيانات!$AA66=\"جرار\"),بيانات!$Z66*بيانات!$Y66,بيانات!$Z66*24)","v":5160},{"$f":"IF(AND(بيانات!$Y66>=5,AND(بيانات!$U66=\"طن\",بيانات!$AA66=\"5 طن\")),بيانات!$Z66*بيانات!$Y66,بيانات!$Z66*5)","v":1075},{"$f":"IF(بيانات!$U66=\"نقلة\",بيانات!$Z66,\"\")","v":""}]
[{"$f":"بيانات!$X67","v":0},"2020-06-02","عبده فهمي",null,null,"دمياط",2000,null,null,null,null,null,null,null,null,null,null,null,"جرار",null,"طن",null,{"$f":"IFERROR(IF($U67=\"نقلة\",$Z67,IF(AND(Y67>=SUMIF(data!$A$18:$A$21,AA67,data!$B$18:$B$21),$U67=\"طن\"),($Y67*$Z67),$Z67*AC67)),\"\")","v":""},null,null,{"$f":"IFERROR(IF(بيانات!$U67=\"نقلة\",INDEX(الجدول35[[5 طن]:[وش]],MATCH(بيانات!$H67,الجدول35[عمود1],0),MATCH(بيانات!$AA67,الجدول35[[#Headers],[5 طن]:[وش]],0)),INDEX(الجدول3[[5 طن]:[وش]],MATCH(بيانات!$H67,الجدول3[عمود1],0),MATCH(بيانات!$AA67,الجدول3[[#Headers],[5 طن]:[وش]],0))),\"\")","v":""},"5 طن",null,null,null,null,{"$f":"IF(AND(بيانات!$Y67>=24,بيانات!$U67=\"طن\",بيانات!$AA67=\"جرار\"),بيانات!$Z67*بيانات!$Y67,بيانات!$Z67*24)","v":{"$error":"#VALUE!"}},{"$f":"IF(AND(بيانات!$Y67>=5,AND(بيانات!$U67=\"طن\",بيانات!$AA67=\"5 طن\")),بيانات!$Z67*بيانات!$Y67,بيانات!$Z67*5)","v":{"$error":"#VALUE!"}},{"$f":"IF(بيانات!$U67=\"نقلة\",بيانات!$Z67,\"\")","v":""}]
[{"$f":"بيانات!$X68","v":0},"2020-06-02","حسن مصطفي",null,null,"كفرالشيخ",2000,null,null,null,null,null,null,null,null,null,null,null,"جرار",null,"طن",null,{"$f":"IFERROR(IF($U68=\"نقلة\",$Z68,IF(AND(Y68>=SUMIF(data!$A$18:$A$21,AA68,data!$B$18:$B$21),$U68=\"طن\"),($Y68*$Z68),$Z68*AC68)),\"\")","v":""},null,null,{"$f":"IFERROR(IF(بيانات!$U68=\"نقلة\",INDEX(الجدول35[[5 طن]:[وش]],MATCH(بيانات!$H68,الجدول35[عمود1],0),MATCH(بيانات!$AA68,الجدول35[[#Headers],[5 طن]:[وش]],0)),INDEX(الجدول3[[5 طن]:[وش]],MATCH(بيانات!$H68,الجدول3[عمود1],0),MATCH(بيانات!$AA68,الجدول3[[#Headers],[5 طن]:[وش]],0))),\"\")","v":""},"5 طن",null,null,null,null,{"$f":"IF(AND(بيانات!$Y68>=24,بيانات!$U68=\"طن\",بيانات!$AA68=\"جرار\"),بيانات!$Z68*بيانات!$Y68,بيانات!$Z68*24)","v":{"$error":"#VALUE!"}},{"$f":"IF(AND(بيانات!$Y68>=5,AND(بيانات!$U68=\"طن\",بيانات!$AA68=\"5 طن\")),بيانات!$Z68*بيانات!$Y68,بيانات!$Z68*5)","v":{"$error":"#VALUE!"}},{"$f":"IF(بيانات!$U68=\"نقلة\",بيانات!$Z68,\"\")","v":""}]
[{"$f":"بيانات!$X69","v":567676},"2020-06-02","ابراهيم عطيه",null,null,"بني سويف",1000,"الجيزه",null,null,null,null,null,null,null,null,null,null,"وش",null,"طن",null,{"$f":"IFERROR(IF($U69=\"نقلة\",$Z69,IF(AND(Y69>=SUMIF(data!$A$18:$A$21,AA69,data!$B$18:$B$21),$U69=\"طن\"),($Y69*$Z69),$Z69*AC69)),\"\")","v":0},567676,null,{"$f":"IFERROR(IF(بيانات!$U69=\"نقلة\",INDEX(الجدول35[[5 طن]:[وش]],MATCH(بيانات!$H69,الجدول35[عمود1],0),MATCH(بيانات!$AA69,الجدول35[[#Headers],[5 طن]:[وش]],0)),INDEX(الجدول3[[5 طن]:[وش]],MATCH(بيانات!$H69,الجدول3[عمود1],0),MATCH(بيانات!$AA69,الجدول3[[#Headers],[5 طن]:[وش]],0))),\"\")","v":110},"5 طن",null,null,null,null,{"$f":"IF(AND(بيانات!$Y69>=24,بيانات!$U69=\"طن\",بيانات!$AA69=\"جرار\"),بيانات!$Z69*بيانات!$Y69,بيانات!$Z69*24)","v":2640},{"$f":"IF(AND(بيانات!$Y69>=5,AND(بيانات!$U69=\"طن\",بيانات!$AA69=\"5 طن\")),بيانات!$Z69*بيانات!$Y69,بيانات!$Z69*5)","v":550},{"$f":"IF(بيانات!$U69=\"نقلة\",بيانات!$Z69,\"\")","v":""}]
[{"$f":"بيانات!$X70","v":0},"2020-06-02","حسن عبدالحليم",null,null,"المحله",200,null,null,null,null,null,null,null,null,null,null,null,null,null,"طن",null,{"$f":"IFERROR(IF($U70=\"نقلة\",$Z70,IF(AND(Y70>=SUMIF(data!$A$18:$A$21,AA70,data!$B$18:$B$21),$U70=\"طن\"),($Y70*$Z70),$Z70*AC70)),\"\")","v":""},null,null,{"$f":"IFERROR(IF(بيانات!$U70=\"نقلة\",INDEX(الجدول35[[5 طن]:[وش]],MATCH(بيانات!$H70,الجدول35[عمود1],0),MATCH(بيانات!$AA70,الجدول35[[#Headers],[5 طن]:[وش]],0)),INDEX(الجدول3[[5 طن]:[وش]],MATCH(بيانات!$H70,الجدول3[عمود1],0),MATCH(بيانات!$AA70,الجدول3[[#Headers],[5 طن]:[وش]],0))),\"\")","v":""},"5 طن",null,null,null,null,{"$f":"IF(AND(بيانات!$Y70>=24,بيانات!$U70=\"طن\",بيانات!$AA70=\"جرار\"),بيانات!$Z70*بيانات!$Y70,بيانات!$Z70*24)","v":{"$error":"#VALUE!"}},{"$f":"IF(AND(بيانات!$Y70>=5,AND(بيانات!$U70=\"طن\",بيانات!$AA70=\"5 طن\")),بيانات!$Z70*بيانات!$Y70,بيانات!$Z70*5)","v":{"$error":"#VALUE!"}},{"$f":"IF(بيانات!$U70=\"نقلة\",بيانات!$Z70,\"\")","v":""}]
[{"$f":"بيانات!$X71","v":194478},"2020-06-02","اسلام محمد ",1487,null,"نوبار",300,"القاهره",null,null,null,null,null,null,null,null,null,null,null,null,"طن",75,{"$f":"IFERROR(IF($U71=\"نقلة\",$Z71,IF(AND(Y71>=SUMIF(data!$A$18:$A$21,AA71,data!$B$18:$B$21),$U71=\"طن\"),($Y71*$Z71),$Z71*AC71)),\"\")","v":0},194478,null,{"$f":"IFERROR(IF(بيانات!$U71=\"نقلة\",INDEX(الجدول35[[5 طن]:[وش]],MATCH(بيانات!$H71,الجدول35[عمود1],0),MATCH(بيانات!$AA71,الجدول35[[#Headers],[5 طن]:[وش]],0)),INDEX(الجدول3[[5 طن]:[وش]],MATCH(بيانات!$H71,الجدول3[عمود1],0),MATCH(بيانات!$AA71,الجدول3[[#Headers],[5 طن]:[وش]],0))),\"\")","v":100},"5 طن",null,null,null,null,{"$f":"IF(AND(بيانات!$Y71>=24,بيانات!$U71=\"طن\",بيانات!$AA71=\"جرار\"),بيانات!$Z71*بيانات!$Y71,بيانات!$Z71*24)","v":2400},{"$f":"IF(AND(بيانات!$Y71>=5,AND(بيانات!$U71=\"طن\",بيانات!$AA71=\"5 طن\")),بيانات!$Z71*بيانات!$Y71,بيانات!$Z71*5)","v":500},{"$f":"IF(بيانات!$U71=\"نقلة\",بيانات!$Z71,\"\")","v":""}]
[{"$f":"بيانات!$X72","v":0},"2020-06-02","عبده السيد",null,null,"قاهره",100,null,null,null,null,null,null,null,null,null,null,null,null,null,"طن",null,{"$f":"IFERROR(IF($U72=\"نقلة\",$Z72,IF(AND(Y72>=SUMIF(data!$A$18:$A$21,AA72,data!$B$18:$B$21),$U72=\"طن\"),($Y72*$Z72),$Z72*AC72)),\"\")","v":""},null,null,{"$f":"IFERROR(IF(بيانات!$U72=\"نقلة\",INDEX(الجدول35[[5 طن]:[وش]],MATCH(بيانات!$H72,الجدول35[عمود1],0),MATCH(بيانات!$AA72,الجدول35[[#Headers],[5 طن]:[وش]],0)),INDEX(الجدول3[[5 طن]:[وش]],MATCH(بيانات!$H72,الجدول3[عمود1],0),MATCH(بيانات!$AA72,الجدول3[[#Headers],[5 طن]:[وش]],0))),\"\")","v":""},"5 طن",null,null,null,null,{"$f":"IF(AND(بيانات!$Y72>=24,بيانات!$U72=\"طن\",بيانات!$AA72=\"جرار\"),بيانات!$Z72*بيانات!$Y72,بيانات!$Z72*24)","v":{"$error":"#VALUE!"}},{"$f":"IF(AND(بيانات!$Y72>=5,AND(بيانات!$U72=\"طن\",بيانات!$AA72=\"5 طن\")),بيانات!$Z72*بيانات!$Y72,بيانات!$Z72*5)","v":{"$error":"#VALUE!"}},{"$f":"IF(بيانات!$U72=\"نقلة\",بيانات!$Z72,\"\")","v":""}]
[{"$f":"بيانات!$X73","v":194512},"2020-06-02","احمد رافت",7918,null,"مترو",150,"اكتوبر",null,null,null,null,null,null,null,null,null,null,null,null,"طن",75,{"$f":"IFERROR(IF($U73=\"نقلة\",$Z73,IF(AND(Y73>=SUMIF(data!$A$18:$A$21,AA73,data!$B$18:$B$21),$U73=\"طن\"),($Y73*$Z73),$Z73*AC73)),\"\")","v":0},194512,null,{"$f":"IFERROR(IF(بيانات!$U73=\"نقلة\",INDEX(الجدول35[[5 طن]:[وش]],MATCH(بيانات!$H73,الجدول35[عمود1],0),MATCH(بيانات!$AA73,الجدول35[[#Headers],[5 طن]:[وش]],0)),INDEX(الجدول3[[5 طن]:[وش]],MATCH(بيانات!$H73,الجدول3[عمود1],0),MATCH(بيانات!$AA73,الجدول3[[#Headers],[5 طن]:[وش]],0))),\"\")","v":120},"5 طن",null,null,null,null,{"$f":"IF(AND(بيانات!$Y73>=24,بيانات!$U73=\"طن\",بيانات!$AA73=\"جرار\"),بيانات!$Z73*بيانات!$Y73,بيانات!$Z73*24)","v":2880},{"$f":"IF(AND(بيانات!$Y73>=5,AND(بيانات!$U73=\"طن\",بيانات!$AA73=\"5 طن\")),بيانات!$Z73*بيانات!$Y73,بيانات!$Z73*5)","v":600},{"$f":"IF(بيانات!$U73=\"نقلة\",بيانات!$Z73,\"\")","v":""}]
[{"$f":"بيانات!$X74","v":194473},"2020-06-02","محمود احمد",7421,null,"مترو",400,"اكتوبر",null,null,null,null,null,null,null,null,null,null,null,null,"طن",75,{"$f":"IFERROR(IF($U74=\"نقلة\",$Z74,IF(AND(Y74>=SUMIF(data!$A$18:$A$21,AA74,data!$B$18:$B$21),$U74=\"طن\"),($Y74*$Z74),$Z74*AC74)),\"\")","v":0},194473,null,{"$f":"IFERROR(IF(بيانات!$U74=\"نقلة\",INDEX(الجدول35[[5 طن]:[وش]],MATCH(بيانات!$H74,الجدول35[عمود1],0),MATCH(بيانات!$AA74,الجدول35[[#Headers],[5 طن]:[وش]],0)),INDEX(الجدول3[[5 طن]:[وش]],MATCH(بيانات!$H74,الجدول3[عمود1],0),MATCH(بيانات!$AA74,الجدول3[[#Headers],[5 طن]:[وش]],0))),\"\")","v":120},"5 طن",null,null,null,null,{"$f":"IF(AND(بيانات!$Y74>=24,بيانات!$U74=\"طن\",بيانات!$AA74=\"جرار\"),بيانات!$Z74*بيانات!$Y74,بيانات!$Z74*24)","v":2880},{"$f":"IF(AND(بيانات!$Y74>=5,AND(بيانات!$U74=\"طن\",بيانات!$AA74=\"5 طن\")),بيانات!$Z74*بيانات!$Y74,بيانات!$Z74*5)","v":600},{"$f":"IF(بيانات!$U74=\"نقلة\",بيانات!$Z74,\"\")","v":""}]
[{"$f":"بيانات!$X75","v":194451},"2020-06-02","جمال عبدالناصر",8152,null,"بور سعيد",null,"بور سعيد",null,null,null,null,null,null,null,null,null,null,null,null,"طن",65,{"$f":"IFERROR(IF($U75=\"نقلة\",$Z75,IF(AND(Y75>=SUMIF(data!$A$18:$A$21,AA75,data!$B$18:$B$21),$U75=\"طن\"),($Y75*$Z75),$Z75*AC75)),\"\")","v":""},194451,null,{"$f":"IFERROR(IF(بيانات!$U75=\"نقلة\",INDEX(الجدول35[[5 طن]:[وش]],MATCH(بيانات!$H75,الجدول35[عمود1],0),MATCH(بيانات!$AA75,الجدول35[[#Headers],[5 طن]:[وش]],0)),INDEX(الجدول3[[5 طن]:[وش]],MATCH(بيانات!$H75,الجدول3[عمود1],0),MATCH(بيانات!$AA75,الجدول3[[#Headers],[5 طن]:[وش]],0))),\"\")","v":""},"5 طن",null,null,null,null,{"$f":"IF(AND(بيانات!$Y75>=24,بيانات!$U75=\"طن\",بيانات!$AA75=\"جرار\"),بيانات!$Z75*بيانات!$Y75,بيانات!$Z75*24)","v":{"$error":"#VALUE!"}},{"$f":"IF(AND(بيانات!$Y75>=5,AND(بيانات!$U75=\"طن\",بيانات!$AA75=\"5 طن\")),بيانات!$Z75*بيانات!$Y75,بيانات!$Z75*5)","v":{"$error":"#VALUE!"}},{"$f":"IF(بيانات!$U75=\"نقلة\",بيانات!$Z75,\"\")","v":""}]
[{"$f":"بيانات!$X76","v":194534},"2020-06-02","محمد صلاح",8576,null,"اولاد رجب",100,"القاهره",null,null,null,null,null,null,null,null,null,null,null,null,"طن",75,{"$f":"IFERROR(IF($U76=\"نقلة\",$Z76,IF(AND(Y76>=SUMIF(data!$A$18:$A$21,AA76,data!$B$18:$B$21),$U76=\"طن\"),($Y76*$Z76),$Z76*AC76)),\"\")","v":0},194534,null,{"$f":"IFERROR(IF(بيانات!$U76=\"نقلة\",INDEX(الجدول35[[5 طن]:[وش]],MATCH(بيانات!$H76,الجدول35[عمود1],0),MATCH(بيانات!$AA76,الجدول35[[#Headers],[5 طن]:[وش]],0)),INDEX(الجدول3[[5 طن]:[وش]],MATCH(بيانات!$H76,الجدول3[عمود1],0),MATCH(بيانات!$AA76,الجدول3[[#Headers],[5 طن]:[وش]],0))),\"\")","v":100},"5 طن",null,null,null,null,{"$f":"IF(AND(بيانات!$Y76>=24,بيانات!$U76=\"طن\",بيانات!$AA76=\"جرار\"),بيانات!$Z76*بيانات!$Y76,بيانات!$Z76*24)","v":2400},{"$f":"IF(AND(بيانات!$Y76>=5,AND(بيانات!$U76=\"طن\",بيانات!$AA76=\"5 طن\")),بيانات!$Z76*بيانات!$Y76,بيانات!$Z76*5)","v":500},{"$f":"IF(بيانات!$U76=\"نقلة\",بيانات!$Z76,\"\")","v":""}]
[{"$f":"بيانات!$X77","v":194515},"2020-06-02","ابراهيم محمد",6847,null,"العاشر",100,"العاشر",null,null,null,null,null,null,null,null,null,null,null,null,"طن",null,{"$f":"IFERROR(IF($U77=\"نقلة\",$Z77,IF(AND(Y77>=SUMIF(data!$A$18:$A$21,AA77,data!$B$18:$B$21),$U77=\"طن\"),($Y77*$Z77),$Z77*AC77)),\"\")","v":0},194515,null,{"$f":"IFERROR(IF(بيانات!$U77=\"نقلة\",INDEX(الجدول35[[5 طن]:[وش]],MATCH(بيانات!$H77,الجدول35[عمود1],0),MATCH(بيانات!$AA77,الجدول35[[#Headers],[5 طن]:[وش]],0)),INDEX(الجدول3[[5 طن]:[وش]],MATCH(بيانات!$H77,الجدول3[عمود1],0),MATCH(بيانات!$AA77,الجدول3[[#Headers],[5 طن]:[وش]],0))),\"\")","v":40},"5 طن",null,null,null,null,{"$f":"IF(AND(بيانات!$Y77>=24,بيانات!$U77=\"طن\",بيانات!$AA77=\"جرار\"),بيانات!$Z77*بيانات!$Y77,بيانات!$Z77*24)","v":960},{"$f":"IF(AND(بيانات!$Y77>=5,AND(بيانات!$U77=\"طن\",بيانات!$AA77=\"5 طن\")),بيانات!$Z77*بيانات!$Y77,بيانات!$Z77*5)","v":200},{"$f":"IF(بيانات!$U77=\"نقلة\",بيانات!$Z77,\"\")","v":""}]
[{"$f":"بيانات!$X78","v":194486},"2020-06-02","هاني عبدالمنعم",9626,null,"كفرالشيخ",500,"كفر الشيخ",null,null,null,null,null,null,null,null,null,null,null,null,"طن",80,{"$f":"IFERROR(IF($U78=\"نقلة\",$Z78,IF(AND(Y78>=SUMIF(data!$A$18:$A$21,AA78,data!$B$18:$B$21),$U78=\"طن\"),($Y78*$Z78),$Z78*AC78)),\"\")","v":""},194486,null,{"$f":"IFERROR(IF(بيانات!$U78=\"نقلة\",INDEX(الجدول35[[5 طن]:[وش]],MATCH(بيانات!$H78,الجدول35[عمود1],0),MATCH(بيانات!$AA78,الجدول35[[#Headers],[5 طن]:[وش]],0)),INDEX(الجدول3[[5 طن]:[وش]],MATCH(بيانات!$H78,الجدول3[عمود1],0),MATCH(بيانات!$AA78,الجدول3[[#Headers],[5 طن]:[وش]],0))),\"\")","v":""},"5 طن",null,null,null,null,{"$f":"IF(AND(بيانات!$Y78>=24,بيانات!$U78=\"طن\",بيانات!$AA78=\"جرار\"),بيانات!$Z78*بيانات!$Y78,بيانات!$Z78*24)","v":{"$error":"#VALUE!"}},{"$f":"IF(AND(بيانات!$Y78>=5,AND(بيانات!$U78=\"طن\",بيانات!$AA78=\"5 طن\")),بيانات!$Z78*بيانات!$Y78,بيانات!$Z78*5)","v":{"$error":"#VALUE!"}},{"$f":"IF(بيانات!$U78=\"نقلة\",بيانات!$Z78,\"\")","v":""}]
[{"$f":"بيانات!$X79","v":0},"2020-06-02","السعيد احمد",null,null,"بدون شغل",300,null,null,null,null,null,null,null,null,null,null,null,"ابومازن",null,"طن",null,{"$f":"IFERROR(IF($U79=\"نقلة\",$Z79,IF(AND(Y79>=SUMIF(data!$A$18:$A$21,AA79,data!$B$18:$B$21),$U79=\"طن\"),($Y79*$Z79),$Z79*AC79)),\"\")","v":""},null,null,{"$f":"IFERROR(IF(بيانات!$U79=\"نقلة\",INDEX(الجدول35[[5 طن]:[وش]],MATCH(بيانات!$H79,الجدول35[عمود1],0),MATCH(بيانات!$AA79,الجدول35[[#Headers],[5 طن]:[وش]],0)),INDEX(الجدول3[[5 طن]:[وش]],MATCH(بيانات!$H79,الجدول3[عمود1],0),MATCH(بيانات!$AA79,الجدول3[[#Headers],[5 طن]:[وش]],0))),\"\")","v":""},"5 طن",null,null,null,null,{"$f":"IF(AND(بيانات!$Y79>=24,بيانات!$U79=\"طن\",بيانات!$AA79=\"جرار\"),بيانات!$Z79*بيانات!$Y79,بيانات!$Z79*24)","v":{"$error":"#VALUE!"}},{"$f":"IF(AND(بيانات!$Y79>=5,AND(بيانات!$U79=\"طن\",بيانات!$AA79=\"5 طن\")),بيانات!$Z79*بيانات!$Y79,بيانات!$Z79*5)","v":{"$error":"#VALUE!"}},{"$f":"IF(بيانات!$U79=\"نقلة\",بيانات!$Z79,\"\")","v":""}]
[{"$f":"بيانات!$X80","v":194273},"2020-06-01","ابراهيم محمد",6847,null,"القاهره",null,"القاهره",null,null,null,null,null,null,null,null,null,null,null,null,"طن",75,{"$f":"IFERROR(IF($U80=\"نقلة\",$Z80,IF(AND(Y80>=SUMIF(data!$A$18:$A$21,AA80,data!$B$18:$B$21),$U80=\"طن\"),($Y80*$Z80),$Z80*AC80)),\"\")","v":0},194273,null,{"$f":"IFERROR(IF(بيانات!$U80=\"نقلة\",INDEX(الجدول35[[5 طن]:[وش]],MATCH(بيانات!$H80,الجدول35[عمود1],0),MATCH(بيانات!$AA80,الجدول35[[#Headers],[5 طن]:[وش]],0)),INDEX(الجدول3[[5 طن]:[وش]],MATCH(بيانات!$H80,الجدول3[عمود1],0),MATCH(بيانات!$AA80,الجدول3[[#Headers],[5 طن]:[وش]],0))),\"\")","v":100},"5 طن",null,null,null,null,{"$f":"IF(AND(بيانات!$Y80>=24,بيانات!$U80=\"طن\",بيانات!$AA80=\"جرار\"),بيانات!$Z80*بيانات!$Y80,بيانات!$Z80*24)","v":2400},{"$f":"IF(AND(بيانات!$Y80>=5,AND(بيانات!$U80=\"طن\",بيانات!$AA80=\"5 طن\")),بيانات!$Z80*بيانات!$Y80,بيانات!$Z80*5)","v":500},{"$f":"IF(بيانات!$U80=\"نقلة\",بيانات!$Z80,\"\")","v":""}]
[{"$f":"بيانات!$X81","v":0},"2020-06-03","عيد فتحي",null,null,"قاهره",null,null,null,null,null,null,null,null,null,null,null,null,null,null,"طن",null,{"$f":"IFERROR(IF($U81=\"نقلة\",$Z81,IF(AND(Y81>=SUMIF(data!$A$18:$A$21,AA81,data!$B$18:$B$21),$U81=\"طن\"),($Y81*$Z81),$Z81*AC81)),\"\")","v":""},null,null,{"$f":"IFERROR(IF(بيانات!$U81=\"نقلة\",INDEX(الجدول35[[5 طن]:[وش]],MATCH(بيانات!$H81,الجدول35[عمود1],0),MATCH(بيانات!$AA81,الجدول35[[#Headers],[5 طن]:[وش]],0)),INDEX(الجدول3[[5 طن]:[وش]],MATCH(بيانات!$H81,الجدول3[عمود1],0),MATCH(بيانات!$AA81,الجدول3[[#Headers],[5 طن]:[وش]],0))),\"\")","v":""},"5 طن",null,null,null,null,{"$f":"IF(AND(بيانات!$Y81>=24,بيانات!$U81=\"طن\",بيانات!$AA81=\"جرار\"),بيانات!$Z81*بيانات!$Y81,بيانات!$Z81*24)","v":{"$error":"#VALUE!"}},{"$f":"IF(AND(بيانات!$Y81>=5,AND(بيانات!$U81=\"طن\",بيانات!$AA81=\"5 طن\")),بيانات!$Z81*بيانات!$Y81,بيانات!$Z81*5)","v":{"$error":"#VALUE!"}},{"$f":"IF(بيانات!$U81=\"نقلة\",بيانات!$Z81,\"\")","v":""}]
[{"$f":"بيانات!$X82","v":0},"2020-06-03","رمضان حمدي",1328,null,"قاهره",100,null,null,null,null,null,null,null,null,null,null,null,null,null,"طن",null,{"$f":"IFERROR(IF($U82=\"نقلة\",$Z82,IF(AND(Y82>=SUMIF(data!$A$18:$A$21,AA82,data!$B$18:$B$21),$U82=\"طن\"),($Y82*$Z82),$Z82*AC82)),\"\")","v":""},null,null,{"$f":"IFERROR(IF(بيانات!$U82=\"نقلة\",INDEX(الجدول35[[5 طن]:[وش]],MATCH(بيانات!$H82,الجدول35[عمود1],0),MATCH(بيانات!$AA82,الجدول35[[#Headers],[5 طن]:[وش]],0)),INDEX(الجدول3[[5 طن]:[وش]],MATCH(بيانات!$H82,الجدول3[عمود1],0),MATCH(بيانات!$AA82,الجدول3[[#Headers],[5 طن]:[وش]],0))),\"\")","v":""},"5 طن",null,null,null,null,{"$f":"IF(AND(بيانات!$Y82>=24,بيانات!$U82=\"طن\",بيانات!$AA82=\"جرار\"),بيانات!$Z82*بيانات!$Y82,بيانات!$Z82*24)","v":{"$error":"#VALUE!"}},{"$f":"IF(AND(بيانات!$Y82>=5,AND(بيانات!$U82=\"طن\",بيانات!$AA82=\"5 طن\")),بيانات!$Z82*بيانات!$Y82,بيانات!$Z82*5)","v":{"$error":"#VALUE!"}},{"$f":"IF(بيانات!$U82=\"نقلة\",بيانات!$Z82,\"\")","v":""}]
[{"$f":"بيانات!$X83","v":0},"2020-06-03","خميس عبدالنبي",null,null,"اسكندريه",700,null,null,null,null,null,null,null,null,null,null,null,null,null,"طن",null,{"$f":"IFERROR(IF($U83=\"نقلة\",$Z83,IF(AND(Y83>=SUMIF(data!$A$18:$A$21,AA83,data!$B$18:$B$21),$U83=\"طن\"),($Y83*$Z83),$Z83*AC83)),\"\")","v":""},null,null,{"$f":"IFERROR(IF(بيانات!$U83=\"نقلة\",INDEX(الجدول35[[5 طن]:[وش]],MATCH(بيانات!$H83,الجدول35[عمود1],0),MATCH(بيانات!$AA83,الجدول35[[#Headers],[5 طن]:[وش]],0)),INDEX(الجدول3[[5 طن]:[وش]],MATCH(بيانات!$H83,الجدول3[عمود1],0),MATCH(بيانات!$AA83,الجدول3[[#Headers],[5 طن]:[وش]],0))),\"\")","v":""},"5 طن",null,null,null,null,{"$f":"IF(AND(بيانات!$Y83>=24,بيانات!$U83=\"طن\",بيانات!$AA83=\"جرار\"),بيانات!$Z83*بيانات!$Y83,بيانات!$Z83*24)","v":{"$error":"#VALUE!"}},{"$f":"IF(AND(بيانات!$Y83>=5,AND(بيانات!$U83=\"طن\",بيانات!$AA83=\"5 طن\")),بيانات!$Z83*بيانات!$Y83,بيانات!$Z83*5)","v":{"$error":"#VALUE!"}},{"$f":"IF(بيانات!$U83=\"نقلة\",بيانات!$Z83,\"\")","v":""}]
[{"$f":"بيانات!$X84","v":0},"2020-06-03","مصطفي عزت",null,null,"طوخ",300,null,null,null,null,null,null,null,null,null,null,null,null,null,"طن",null,{"$f":"IFERROR(IF($U84=\"نقلة\",$Z84,IF(AND(Y84>=SUMIF(data!$A$18:$A$21,AA84,data!$B$18:$B$21),$U84=\"طن\"),($Y84*$Z84),$Z84*AC84)),\"\")","v":""},null,null,{"$f":"IFERROR(IF(بيانات!$U84=\"نقلة\",INDEX(الجدول35[[5 طن]:[وش]],MATCH(بيانات!$H84,الجدول35[عمود1],0),MATCH(بيانات!$AA84,الجدول35[[#Headers],[5 طن]:[وش]],0)),INDEX(الجدول3[[5 طن]:[وش]],MATCH(بيانات!$H84,الجدول3[عمود1],0),MATCH(بيانات!$AA84,الجدول3[[#Headers],[5 طن]:[وش]],0))),\"\")","v":""},"5 طن",null,null,null,null,{"$f":"IF(AND(بيانات!$Y84>=24,بيانات!$U84=\"طن\",بيانات!$AA84=\"جرار\"),بيانات!$Z84*بيانات!$Y84,بيانات!$Z84*24)","v":{"$error":"#VALUE!"}},{"$f":"IF(AND(بيانات!$Y84>=5,AND(بيانات!$U84=\"طن\",بيانات!$AA84=\"5 طن\")),بيانات!$Z84*بيانات!$Y84,بيانات!$Z84*5)","v":{"$error":"#VALUE!"}},{"$f":"IF(بيانات!$U84=\"نقلة\",بيانات!$Z84,\"\")","v":""}]
[{"$f":"بيانات!$X85","v":0},"2020-06-03","ابراهيم حامد",null,null,"قليوب",300,null,null,null,null,null,null,null,null,null,null,null,null,null,"طن",null,{"$f":"IFERROR(IF($U85=\"نقلة\",$Z85,IF(AND(Y85>=SUMIF(data!$A$18:$A$21,AA85,data!$B$18:$B$21),$U85=\"طن\"),($Y85*$Z85),$Z85*AC85)),\"\")","v":""},null,null,{"$f":"IFERROR(IF(بيانات!$U85=\"نقلة\",INDEX(الجدول35[[5 طن]:[وش]],MATCH(بيانات!$H85,الجدول35[عمود1],0),MATCH(بيانات!$AA85,الجدول35[[#Headers],[5 طن]:[وش]],0)),INDEX(الجدول3[[5 طن]:[وش]],MATCH(بيانات!$H85,الجدول3[عمود1],0),MATCH(بيانات!$AA85,الجدول3[[#Headers],[5 طن]:[وش]],0))),\"\")","v":""},"5 طن",null,null,null,null,{"$f":"IF(AND(بيانات!$Y85>=24,بيانات!$U85=\"طن\",بيانات!$AA85=\"جرار\"),بيانات!$Z85*بيانات!$Y85,بيانات!$Z85*24)","v":{"$error":"#VALUE!"}},{"$f":"IF(AND(بيانات!$Y85>=5,AND(بيانات!$U85=\"طن\",بيانات!$AA85=\"5 طن\")),بيانات!$Z85*بيانات!$Y85,بيانات!$Z85*5)","v":{"$error":"#VALUE!"}},{"$f":"IF(بيانات!$U85=\"نقلة\",بيانات!$Z85,\"\")","v":""}]
[{"$f":"بيانات!$X86","v":0},"2020-06-03","ابراهيم حسن",6718,null,"اسكندريه",500,null,null,null,null,null,null,null,null,null,null,1000,"لفه4",null,"طن",null,{"$f":"IFERROR(IF($U86=\"نقلة\",$Z86,IF(AND(Y86>=SUMIF(data!$A$18:$A$21,AA86,data!$B$18:$B$21),$U86=\"طن\"),($Y86*$Z86),$Z86*AC86)),\"\")","v":""},null,null,{"$f":"IFERROR(IF(بيانات!$U86=\"نقلة\",INDEX(الجدول35[[5 طن]:[وش]],MATCH(بيانات!$H86,الجدول35[عمود1],0),MATCH(بيانات!$AA86,الجدول35[[#Headers],[5 طن]:[وش]],0)),INDEX(الجدول3[[5 طن]:[وش]],MATCH(بيانات!$H86,الجدول3[عمود1],0),MATCH(بيانات!$AA86,الجدول3[[#Headers],[5 طن]:[وش]],0))),\"\")","v":""},"5 طن",null,null,null,null,{"$f":"IF(AND(بيانات!$Y86>=24,بيانات!$U86=\"طن\",بيانات!$AA86=\"جرار\"),بيانات!$Z86*بيانات!$Y86,بيانات!$Z86*24)","v":{"$error":"#VALUE!"}},{"$f":"IF(AND(بيانات!$Y86>=5,AND(بيانات!$U86=\"طن\",بيانات!$AA86=\"5 طن\")),بيانات!$Z86*بيانات!$Y86,بيانات!$Z86*5)","v":{"$error":"#VALUE!"}},{"$f":"IF(بيانات!$U86=\"نقلة\",بيانات!$Z86,\"\")","v":""}]
[{"$f":"بيانات!$X87","v":0},"2020-06-03","اسلام محمد",1487,null,"قاهره",300,null,null,null,null,null,null,null,null,null,null,null,null,null,"طن",null,{"$f":"IFERROR(IF($U87=\"نقلة\",$Z87,IF(AND(Y87>=SUMIF(data!$A$18:$A$21,AA87,data!$B$18:$B$21),$U87=\"طن\"),($Y87*$Z87),$Z87*AC87)),\"\")","v":""},null,null,{"$f":"IFERROR(IF(بيانات!$U87=\"نقلة\",INDEX(الجدول35[[5 طن]:[وش]],MATCH(بيانات!$H87,الجدول35[عمود1],0),MATCH(بيانات!$AA87,الجدول35[[#Headers],[5 طن]:[وش]],0)),INDEX(الجدول3[[5 طن]:[وش]],MATCH(بيانات!$H87,الجدول3[عمود1],0),MATCH(بيانات!$AA87,الجدول3[[#Headers],[5 طن]:[وش]],0))),\"\")","v":""},"5 طن",null,null,null,null,{"$f":"IF(AND(بيانات!$Y87>=24,بيانات!$U87=\"طن\",بيانات!$AA87=\"جرار\"),بيانات!$Z87*بيانات!$Y87,بيانات!$Z87*24)","v":{"$error":"#VALUE!"}},{"$f":"IF(AND(بيانات!$Y87>=5,AND(بيانات!$U87=\"طن\",بيانات!$AA87=\"5 طن\")),بيانات!$Z87*بيانات!$Y87,بيانات!$Z87*5)","v":{"$error":"#VALUE!"}},{"$f":"IF(بيانات!$U87=\"نقلة\",بيانات!$Z87,\"\")","v":""}]
[{"$f":"بيانات!$X88","v":0},"2020-06-03","محمود حسن",null,null,"بور سعيد",150,null,null,null,null,null,null,null,null,null,null,null,null,null,"طن",null,{"$f":"IFERROR(IF($U88=\"نقلة\",$Z88,IF(AND(Y88>=SUMIF(data!$A$18:$A$21,AA88,data!$B$18:$B$21),$U88=\"طن\"),($Y88*$Z88),$Z88*AC88)),\"\")","v":""},null,null,{"$f":"IFERROR(IF(بيانات!$U88=\"نقلة\",INDEX(الجدول35[[5 طن]:[وش]],MATCH(بيانات!$H88,الجدول35[عمود1],0),MATCH(بيانات!$AA88,الجدول35[[#Headers],[5 طن]:[وش]],0)),INDEX(الجدول3[[5 طن]:[وش]],MATCH(بيانات!$H88,الجدول3[عمود1],0),MATCH(بيانات!$AA88,الجدول3[[#Headers],[5 طن]:[وش]],0))),\"\")","v":""},"5 طن",null,null,null,null,{"$f":"IF(AND(بيانات!$Y88>=24,بيانات!$U88=\"طن\",بيانات!$AA88=\"جرار\"),بيانات!$Z88*بيانات!$Y88,بيانات!$Z88*24)","v":{"$error":"#VALUE!"}},{"$f":"IF(AND(بيانات!$Y88>=5,AND(بيانات!$U88=\"طن\",بيانات!$AA88=\"5 طن\")),بيانات!$Z88*بيانات!$Y88,بيانات!$Z88*5)","v":{"$error":"#VALUE!"}},{"$f":"IF(بيانات!$U88=\"نقلة\",بيانات!$Z88,\"\")","v":""}]
[{"$f":"بيانات!$X89","v":0},"2020-06-03","محمد صلاح",8576,null,"بحيره",200,null,null,null,null,null,null,null,null,null,null,680,null,null,"طن",null,{"$f":"IFERROR(IF($U89=\"نقلة\",$Z89,IF(AND(Y89>=SUMIF(data!$A$18:$A$21,AA89,data!$B$18:$B$21),$U89=\"طن\"),($Y89*$Z89),$Z89*AC89)),\"\")","v":""},null,null,{"$f":"IFERROR(IF(بيانات!$U89=\"نقلة\",INDEX(الجدول35[[5 طن]:[وش]],MATCH(بيانات!$H89,الجدول35[عمود1],0),MATCH(بيانات!$AA89,الجدول35[[#Headers],[5 طن]:[وش]],0)),INDEX(الجدول3[[5 طن]:[وش]],MATCH(بيانات!$H89,الجدول3[عمود1],0),MATCH(بيانات!$AA89,الجدول3[[#Headers],[5 طن]:[وش]],0))),\"\")","v":""},"5 طن",null,null,null,null,{"$f":"IF(AND(بيانات!$Y89>=24,بيانات!$U89=\"طن\",بيانات!$AA89=\"جرار\"),بيانات!$Z89*بيانات!$Y89,بيانات!$Z89*24)","v":{"$error":"#VALUE!"}},{"$f":"IF(AND(بيانات!$Y89>=5,AND(بيانات!$U89=\"طن\",بيانات!$AA89=\"5 طن\")),بيانات!$Z89*بيانات!$Y89,بيانات!$Z89*5)","v":{"$error":"#VALUE!"}},{"$f":"IF(بيانات!$U89=\"نقلة\",بيانات!$Z89,\"\")","v":""}]
[{"$f":"بيانات!$X90","v":0},"2020-06-03","عبده السيد",null,null,"اكتوبر",100,null,null,null,null,null,null,null,null,null,null,680,null,null,"طن",null,{"$f":"IFERROR(IF($U90=\"نقلة\",$Z90,IF(AND(Y90>=SUMIF(data!$A$18:$A$21,AA90,data!$B$18:$B$21),$U90=\"طن\"),($Y90*$Z90),$Z90*AC90)),\"\")","v":""},null,null,{"$f":"IFERROR(IF(بيانات!$U90=\"نقلة\",INDEX(الجدول35[[5 طن]:[وش]],MATCH(بيانات!$H90,الجدول35[عمود1],0),MATCH(بيانات!$AA90,الجدول35[[#Headers],[5 طن]:[وش]],0)),INDEX(الجدول3[[5 طن]:[وش]],MATCH(بيانات!$H90,الجدول3[عمود1],0),MATCH(بيانات!$AA90,الجدول3[[#Headers],[5 طن]:[وش]],0))),\"\")","v":""},"5 طن",null,null,null,null,{"$f":"IF(AND(بيانات!$Y90>=24,بيانات!$U90=\"طن\",بيانات!$AA90=\"جرار\"),بيانات!$Z90*بيانات!$Y90,بيانات!$Z90*24)","v":{"$error":"#VALUE!"}},{"$f":"IF(AND(بيانات!$Y90>=5,AND(بيانات!$U90=\"طن\",بيانات!$AA90=\"5 طن\")),بيانات!$Z90*بيانات!$Y90,بيانات!$Z90*5)","v":{"$error":"#VALUE!"}},{"$f":"IF(بيانات!$U90=\"نقلة\",بيانات!$Z90,\"\")","v":""}]
[{"$f":"بيانات!$X91","v":0},"2020-06-03","محمد فوزي",4139,null,"يثرب",300,null,null,null,null,null,null,null,null,null,null,null,null,null,"طن",null,{"$f":"IFERROR(IF($U91=\"نقلة\",$Z91,IF(AND(Y91>=SUMIF(data!$A$18:$A$21,AA91,data!$B$18:$B$21),$U91=\"طن\"),($Y91*$Z91),$Z91*AC91)),\"\")","v":""},null,null,{"$f":"IFERROR(IF(بيانات!$U91=\"نقلة\",INDEX(الجدول35[[5 طن]:[وش]],MATCH(بيانات!$H91,الجدول35[عمود1],0),MATCH(بيانات!$AA91,الجدول35[[#Headers],[5 طن]:[وش]],0)),INDEX(الجدول3[[5 طن]:[وش]],MATCH(بيانات!$H91,الجدول3[عمود1],0),MATCH(بيانات!$AA91,الجدول3[[#Headers],[5 طن]:[وش]],0))),\"\")","v":""},"5 طن",null,null,null,null,{"$f":"IF(AND(بيانات!$Y91>=24,بيانات!$U91=\"طن\",بيانات!$AA91=\"جرار\"),بيانات!$Z91*بيانات!$Y91,بيانات!$Z91*24)","v":{"$error":"#VALUE!"}},{"$f":"IF(AND(بيانات!$Y91>=5,AND(بيانات!$U91=\"طن\",بيانات!$AA91=\"5 طن\")),بيانات!$Z91*بيانات!$Y91,بيانات!$Z91*5)","v":{"$error":"#VALUE!"}},{"$f":"IF(بيانات!$U91=\"نقلة\",بيانات!$Z91,\"\")","v":""}]
[{"$f":"بيانات!$X92","v":0},"2020-06-03","مصطفي عزت",null,null,"ام زغو",600,null,null,null,null,null,null,null,null,null,null,null,null,null,"طن",null,{"$f":"IFERROR(IF($U92=\"نقلة\",$Z92,IF(AND(Y92>=SUMIF(data!$A$18:$A$21,AA92,data!$B$18:$B$21),$U92=\"طن\"),($Y92*$Z92),$Z92*AC92)),\"\")","v":""},null,null,{"$f":"IFERROR(IF(بيانات!$U92=\"نقلة\",INDEX(الجدول35[[5 طن]:[وش]],MATCH(بيانات!$H92,الجدول35[عمود1],0),MATCH(بيانات!$AA92,الجدول35[[#Headers],[5 طن]:[وش]],0)),INDEX(الجدول3[[5 طن]:[وش]],MATCH(بيانات!$H92,الجدول3[عمود1],0),MATCH(بيانات!$AA92,الجدول3[[#Headers],[5 طن]:[وش]],0))),\"\")","v":""},"5 طن",null,null,null,null,{"$f":"IF(AND(بيانات!$Y92>=24,بيانات!$U92=\"طن\",بيانات!$AA92=\"جرار\"),بيانات!$Z92*بيانات!$Y92,بيانات!$Z92*24)","v":{"$error":"#VALUE!"}},{"$f":"IF(AND(بيانات!$Y92>=5,AND(بيانات!$U92=\"طن\",بيانات!$AA92=\"5 طن\")),بيانات!$Z92*بيانات!$Y92,بيانات!$Z92*5)","v":{"$error":"#VALUE!"}},{"$f":"IF(بيانات!$U92=\"نقلة\",بيانات!$Z92,\"\")","v":""}]
[{"$f":"بيانات!$X93","v":0},"2020-06-03","علاء شحاته",7462,null,"سوق دوت كوم",100,null,null,null,null,null,null,null,null,null,null,null,null,null,"طن",null,{"$f":"IFERROR(IF($U93=\"نقلة\",$Z93,IF(AND(Y93>=SUMIF(data!$A$18:$A$21,AA93,data!$B$18:$B$21),$U93=\"طن\"),($Y93*$Z93),$Z93*AC93)),\"\")","v":""},null,null,{"$f":"IFERROR(IF(بيانات!$U93=\"نقلة\",INDEX(الجدول35[[5 طن]:[وش]],MATCH(بيانات!$H93,الجدول35[عمود1],0),MATCH(بيانات!$AA93,الجدول35[[#Headers],[5 طن]:[وش]],0)),INDEX(الجدول3[[5 طن]:[وش]],MATCH(بيانات!$H93,الجدول3[عمود1],0),MATCH(بيانات!$AA93,الجدول3[[#Headers],[5 طن]:[وش]],0))),\"\")","v":""},"5 طن",null,null,null,null,{"$f":"IF(AND(بيانات!$Y93>=24,بيانات!$U93=\"طن\",بيانات!$AA93=\"جرار\"),بيانات!$Z93*بيانات!$Y93,بيانات!$Z93*24)","v":{"$error":"#VALUE!"}},{"$f":"IF(AND(بيانات!$Y93>=5,AND(بيانات!$U93=\"طن\",بيانات!$AA93=\"5 طن\")),بيانات!$Z93*بيانات!$Y93,بيانات!$Z93*5)","v":{"$error":"#VALUE!"}},{"$f":"IF(بيانات!$U93=\"نقلة\",بيانات!$Z93,\"\")","v":""}]
[{"$f":"بيانات!$X94","v":0},"2020-06-03","هاني سامي",null,null,"ترست",700,null,null,null,null,null,null,null,null,null,null,null,null,null,"طن",null,{"$f":"IFERROR(IF($U94=\"نقلة\",$Z94,IF(AND(Y94>=SUMIF(data!$A$18:$A$21,AA94,data!$B$18:$B$21),$U94=\"طن\"),($Y94*$Z94),$Z94*AC94)),\"\")","v":""},null,null,{"$f":"IFERROR(IF(بيانات!$U94=\"نقلة\",INDEX(الجدول35[[5 طن]:[وش]],MATCH(بيانات!$H94,الجدول35[عمود1],0),MATCH(بيانات!$AA94,الجدول35[[#Headers],[5 طن]:[وش]],0)),INDEX(الجدول3[[5 طن]:[وش]],MATCH(بيانات!$H94,الجدول3[عمود1],0),MATCH(بيانات!$AA94,الجدول3[[#Headers],[5 طن]:[وش]],0))),\"\")","v":""},"5 طن",null,null,null,null,{"$f":"IF(AND(بيانات!$Y94>=24,بيانات!$U94=\"طن\",بيانات!$AA94=\"جرار\"),بيانات!$Z94*بيانات!$Y94,بيانات!$Z94*24)","v":{"$error":"#VALUE!"}},{"$f":"IF(AND(بيانات!$Y94>=5,AND(بيانات!$U94=\"طن\",بيانات!$AA94=\"5 طن\")),بيانات!$Z94*بيانات!$Y94,بيانات!$Z94*5)","v":{"$error":"#VALUE!"}},{"$f":"IF(بيانات!$U94=\"نقلة\",بيانات!$Z94,\"\")","v":""}]
[{"$f":"بيانات!$X95","v":0},"2020-06-03","فريد محمد",null,null,"الغردقه",1500,null,null,null,null,null,null,null,null,null,null,null,null,null,"طن",null,{"$f":"IFERROR(IF($U95=\"نقلة\",$Z95,IF(AND(Y95>=SUMIF(data!$A$18:$A$21,AA95,data!$B$18:$B$21),$U95=\"طن\"),($Y95*$Z95),$Z95*AC95)),\"\")","v":""},null,null,{"$f":"IFERROR(IF(بيانات!$U95=\"نقلة\",INDEX(الجدول35[[5 طن]:[وش]],MATCH(بيانات!$H95,الجدول35[عمود1],0),MATCH(بيانات!$AA95,الجدول35[[#Headers],[5 طن]:[وش]],0)),INDEX(الجدول3[[5 طن]:[وش]],MATCH(بيانات!$H95,الجدول3[عمود1],0),MATCH(بيانات!$AA95,الجدول3[[#Headers],[5 طن]:[وش]],0))),\"\")","v":""},"5 طن",null,null,null,null,{"$f":"IF(AND(بيانات!$Y95>=24,بيانات!$U95=\"طن\",بيانات!$AA95=\"جرار\"),بيانات!$Z95*بيانات!$Y95,بيانات!$Z95*24)","v":{"$error":"#VALUE!"}},{"$f":"IF(AND(بيانات!$Y95>=5,AND(بيانات!$U95=\"طن\",بيانات!$AA95=\"5 طن\")),بيانات!$Z95*بيانات!$Y95,بيانات!$Z95*5)","v":{"$error":"#VALUE!"}},{"$f":"IF(بيانات!$U95=\"نقلة\",بيانات!$Z95,\"\")","v":""}]
[{"$f":"بيانات!$X96","v":0},"2020-06-03","محمود احمد",7421,null,"قاهره",300,null,null,null,null,null,null,null,null,null,null,null,null,null,"طن",null,{"$f":"IFERROR(IF($U96=\"نقلة\",$Z96,IF(AND(Y96>=SUMIF(data!$A$18:$A$21,AA96,data!$B$18:$B$21),$U96=\"طن\"),($Y96*$Z96),$Z96*AC96)),\"\")","v":""},null,null,{"$f":"IFERROR(IF(بيانات!$U96=\"نقلة\",INDEX(الجدول35[[5 طن]:[وش]],MATCH(بيانات!$H96,الجدول35[عمود1],0),MATCH(بيانات!$AA96,الجدول35[[#Headers],[5 طن]:[وش]],0)),INDEX(الجدول3[[5 طن]:[وش]],MATCH(بيانات!$H96,الجدول3[عمود1],0),MATCH(بيانات!$AA96,الجدول3[[#Headers],[5 طن]:[وش]],0))),\"\")","v":""},"5 طن",null,null,null,null,{"$f":"IF(AND(بيانات!$Y96>=24,بيانات!$U96=\"طن\",بيانات!$AA96=\"جرار\"),بيانات!$Z96*بيانات!$Y96,بيانات!$Z96*24)","v":{"$error":"#VALUE!"}},{"$f":"IF(AND(بيانات!$Y96>=5,AND(بيانات!$U96=\"طن\",بيانات!$AA96=\"5 طن\")),بيانات!$Z96*بيانات!$Y96,بيانات!$Z96*5)","v":{"$error":"#VALUE!"}},{"$f":"IF(بيانات!$U96=\"نقلة\",بيانات!$Z96,\"\")","v":""}]
[{"$f":"بيانات!$X97","v":194729},"2020-06-03","بشير السيد",3751,null,"العاشر",100,"العاشر",null,null,null,null,null,null,null,null,null,null,null,null,"طن",null,{"$f":"IFERROR(IF($U97=\"نقلة\",$Z97,IF(AND(Y97>=SUMIF(data!$A$18:$A$21,AA97,data!$B$18:$B$21),$U97=\"طن\"),($Y97*$Z97),$Z97*AC97)),\"\")","v":0},194729,null,{"$f":"IFERROR(IF(بيانات!$U97=\"نقلة\",INDEX(الجدول35[[5 طن]:[وش]],MATCH(بيانات!$H97,الجدول35[عمود1],0),MATCH(بيانات!$AA97,الجدول35[[#Headers],[5 طن]:[وش]],0)),INDEX(الجدول3[[5 طن]:[وش]],MATCH(بيانات!$H97,الجدول3[عمود1],0),MATCH(بيانات!$AA97,الجدول3[[#Headers],[5 طن]:[وش]],0))),\"\")","v":40},"5 طن",null,null,null,null,{"$f":"IF(AND(بيانات!$Y97>=24,بيانات!$U97=\"طن\",بيانات!$AA97=\"جرار\"),بيانات!$Z97*بيانات!$Y97,بيانات!$Z97*24)","v":960},{"$f":"IF(AND(بيانات!$Y97>=5,AND(بيانات!$U97=\"طن\",بيانات!$AA97=\"5 طن\")),بيانات!$Z97*بيانات!$Y97,بيانات!$Z97*5)","v":200},{"$f":"IF(بيانات!$U97=\"نقلة\",بيانات!$Z97,\"\")","v":""}]
[{"$f":"بيانات!$X98","v":0},"2020-06-03","احمد رافت",7918,null,"ابيس",150,null,null,null,null,null,null,null,null,null,null,680,null,null,"طن",null,{"$f":"IFERROR(IF($U98=\"نقلة\",$Z98,IF(AND(Y98>=SUMIF(data!$A$18:$A$21,AA98,data!$B$18:$B$21),$U98=\"طن\"),($Y98*$Z98),$Z98*AC98)),\"\")","v":""},null,null,{"$f":"IFERROR(IF(بيانات!$U98=\"نقلة\",INDEX(الجدول35[[5 طن]:[وش]],MATCH(بيانات!$H98,الجدول35[عمود1],0),MATCH(بيانات!$AA98,الجدول35[[#Headers],[5 طن]:[وش]],0)),INDEX(الجدول3[[5 طن]:[وش]],MATCH(بيانات!$H98,الجدول3[عمود1],0),MATCH(بيانات!$AA98,الجدول3[[#Headers],[5 طن]:[وش]],0))),\"\")","v":""},"5 طن",null,null,null,null,{"$f":"IF(AND(بيانات!$Y98>=24,بيانات!$U98=\"طن\",بيانات!$AA98=\"جرار\"),بيانات!$Z98*بيانات!$Y98,بيانات!$Z98*24)","v":{"$error":"#VALUE!"}},{"$f":"IF(AND(بيانات!$Y98>=5,AND(بيانات!$U98=\"طن\",بيانات!$AA98=\"5 طن\")),بيانات!$Z98*بيانات!$Y98,بيانات!$Z98*5)","v":{"$error":"#VALUE!"}},{"$f":"IF(بيانات!$U98=\"نقلة\",بيانات!$Z98,\"\")","v":""}]
[{"$f":"بيانات!$X99","v":0},"2020-06-03","حامد رفعت",1698,null,"ابيس",150,null,null,null,null,null,null,null,null,null,null,680,null,null,"طن",null,{"$f":"IFERROR(IF($U99=\"نقلة\",$Z99,IF(AND(Y99>=SUMIF(data!$A$18:$A$21,AA99,data!$B$18:$B$21),$U99=\"طن\"),($Y99*$Z99),$Z99*AC99)),\"\")","v":""},null,null,{"$f":"IFERROR(IF(بيانات!$U99=\"نقلة\",INDEX(الجدول35[[5 طن]:[وش]],MATCH(بيانات!$H99,الجدول35[عمود1],0),MATCH(بيانات!$AA99,الجدول35[[#Headers],[5 طن]:[وش]],0)),INDEX(الجدول3[[5 طن]:[وش]],MATCH(بيانات!$H99,الجدول3[عمود1],0),MATCH(بيانات!$AA99,الجدول3[[#Headers],[5 طن]:[وش]],0))),\"\")","v":""},"5 طن",null,null,null,null,{"$f":"IF(AND(بيانات!$Y99>=24,بيانات!$U99=\"طن\",بيانات!$AA99=\"جرار\"),بيانات!$Z99*بيانات!$Y99,بيانات!$Z99*24)","v":{"$error":"#VALUE!"}},{"$f":"IF(AND(بيانات!$Y99>=5,AND(بيانات!$U99=\"طن\",بيانات!$AA99=\"5 طن\")),بيانات!$Z99*بيانات!$Y99,بيانات!$Z99*5)","v":{"$error":"#VALUE!"}},{"$f":"IF(بيانات!$U99=\"نقلة\",بيانات!$Z99,\"\")","v":""}]
[{"$f":"بيانات!$X100","v":0},"2020-06-03","رمضان محمود",7293,null,"السادات",100,null,null,null,null,null,null,null,null,null,null,680,null,null,"طن",null,{"$f":"IFERROR(IF($U100=\"نقلة\",$Z100,IF(AND(Y100>=SUMIF(data!$A$18:$A$21,AA100,data!$B$18:$B$21),$U100=\"طن\"),($Y100*$Z100),$Z100*AC100)),\"\")","v":""},null,null,{"$f":"IFERROR(IF(بيانات!$U100=\"نقلة\",INDEX(الجدول35[[5 طن]:[وش]],MATCH(بيانات!$H100,الجدول35[عمود1],0),MATCH(بيانات!$AA100,الجدول35[[#Headers],[5 طن]:[وش]],0)),INDEX(الجدول3[[5 طن]:[وش]],MATCH(بيانات!$H100,الجدول3[عمود1],0),MATCH(بيانات!$AA100,الجدول3[[#Headers],[5 طن]:[وش]],0))),\"\")","v":""},"5 طن",null,null,null,null,{"$f":"IF(AND(بيانات!$Y100>=24,بيانات!$U100=\"طن\",بيانات!$AA100=\"جرار\"),بيانات!$Z100*بيانات!$Y100,بيانات!$Z100*24)","v":{"$error":"#VALUE!"}},{"$f":"IF(AND(بيانات!$Y100>=5,AND(بيانات!$U100=\"طن\",بيانات!$AA100=\"5 طن\")),بيانات!$Z100*بيانات!$Y100,بيانات!$Z100*5)","v":{"$error":"#VALUE!"}},{"$f":"IF(بيانات!$U100=\"نقلة\",بيانات!$Z100,\"\")","v":""}]
[{"$f":"بيانات!$X101","v":0},"2020-06-03","ابراهيم محمد",null,null,"قويسنا",500,null,null,null,null,null,null,null,null,null,null,null,null,null,"طن",null,{"$f":"IFERROR(IF($U101=\"نقلة\",$Z101,IF(AND(Y101>=SUMIF(data!$A$18:$A$21,AA101,data!$B$18:$B$21),$U101=\"طن\"),($Y101*$Z101),$Z101*AC101)),\"\")","v":""},null,null,{"$f":"IFERROR(IF(بيانات!$U101=\"نقلة\",INDEX(الجدول35[[5 طن]:[وش]],MATCH(بيانات!$H101,الجدول35[عمود1],0),MATCH(بيانات!$AA101,الجدول35[[#Headers],[5 طن]:[وش]],0)),INDEX(الجدول3[[5 طن]:[وش]],MATCH(بيانات!$H101,الجدول3[عمود1],0),MATCH(بيانات!$AA101,الجدول3[[#Headers],[5 طن]:[وش]],0))),\"\")","v":""},"5 طن",null,null,null,null,{"$f":"IF(AND(بيانات!$Y101>=24,بيانات!$U101=\"طن\",بيانات!$AA101=\"جرار\"),بيانات!$Z101*بيانات!$Y101,بيانات!$Z101*24)","v":{"$error":"#VALUE!"}},{"$f":"IF(AND(بيانات!$Y101>=5,AND(بيانات!$U101=\"طن\",بيانات!$AA101=\"5 طن\")),بيانات!$Z101*بيانات!$Y101,بيانات!$Z101*5)","v":{"$error":"#VALUE!"}},{"$f":"IF(بيانات!$U101=\"نقلة\",بيانات!$Z101,\"\")","v":""}]
[{"$f":"بيانات!$X102","v":0},"2020-06-03","جمال عبدالناصر",8152,null,"بحيره الروان",500,null,null,null,null,null,null,null,null,null,null,null,null,null,"طن",null,{"$f":"IFERROR(IF($U102=\"نقلة\",$Z102,IF(AND(Y102>=SUMIF(data!$A$18:$A$21,AA102,data!$B$18:$B$21),$U102=\"طن\"),($Y102*$Z102),$Z102*AC102)),\"\")","v":""},null,null,{"$f":"IFERROR(IF(بيانات!$U102=\"نقلة\",INDEX(الجدول35[[5 طن]:[وش]],MATCH(بيانات!$H102,الجدول35[عمود1],0),MATCH(بيانات!$AA102,الجدول35[[#Headers],[5 طن]:[وش]],0)),INDEX(الجدول3[[5 طن]:[وش]],MATCH(بيانات!$H102,الجدول3[عمود1],0),MATCH(بيانات!$AA102,الجدول3[[#Headers],[5 طن]:[وش]],0))),\"\")","v":""},"5 طن",null,null,null,null,{"$f":"IF(AND(بيانات!$Y102>=24,بيانات!$U102=\"طن\",بيانات!$AA102=\"جرار\"),بيانات!$Z102*بيانات!$Y102,بيانات!$Z102*24)","v":{"$error":"#VALUE!"}},{"$f":"IF(AND(بيانات!$Y102>=5,AND(بيانات!$U102=\"طن\",بيانات!$AA102=\"5 طن\")),بيانات!$Z102*بيانات!$Y102,بيانات!$Z102*5)","v":{"$error":"#VALUE!"}},{"$f":"IF(بيانات!$U102=\"نقلة\",بيانات!$Z102,\"\")","v":""}]
[{"$f":"بيانات!$X103","v":0},"2020-06-03","محمد عادل",1279,null,"هايبر اكتوبر",100,null,null,null,null,null,null,null,null,null,null,null,null,null,"نقلة",null,{"$f":"IFERROR(IF($U103=\"نقلة\",$Z103,IF(AND(Y103>=SUMIF(data!$A$18:$A$21,AA103,data!$B$18:$B$21),$U103=\"طن\"),($Y103*$Z103),$Z103*AC103)),\"\")","v":""},null,null,{"$f":"IFERROR(IF(بيانات!$U103=\"نقلة\",INDEX(الجدول35[[5 طن]:[وش]],MATCH(بيانات!$H103,الجدول35[عمود1],0),MATCH(بيانات!$AA103,الجدول35[[#Headers],[5 طن]:[وش]],0)),INDEX(الجدول3[[5 طن]:[وش]],MATCH(بيانات!$H103,الجدول3[عمود1],0),MATCH(بيانات!$AA103,الجدول3[[#Headers],[5 طن]:[وش]],0))),\"\")","v":""},"5 طن",null,null,null,null,{"$f":"IF(AND(بيانات!$Y103>=24,بيانات!$U103=\"طن\",بيانات!$AA103=\"جرار\"),بيانات!$Z103*بيانات!$Y103,بيانات!$Z103*24)","v":{"$error":"#VALUE!"}},{"$f":"IF(AND(بيانات!$Y103>=5,AND(بيانات!$U103=\"طن\",بيانات!$AA103=\"5 طن\")),بيانات!$Z103*بيانات!$Y103,بيانات!$Z103*5)","v":{"$error":"#VALUE!"}},{"$f":"IF(بيانات!$U103=\"نقلة\",بيانات!$Z103,\"\")","v":""}]
[{"$f":"بيانات!$X104","v":0},"2020-06-03","هاني عبدالمنعم",9626,null,"كفرالشيخ",500,null,null,null,null,null,null,null,null,null,null,null,null,null,"نقلة",null,{"$f":"IFERROR(IF($U104=\"نقلة\",$Z104,IF(AND(Y104>=SUMIF(data!$A$18:$A$21,AA104,data!$B$18:$B$21),$U104=\"طن\"),($Y104*$Z104),$Z104*AC104)),\"\")","v":""},null,null,{"$f":"IFERROR(IF(بيانات!$U104=\"نقلة\",INDEX(الجدول35[[5 طن]:[وش]],MATCH(بيانات!$H104,الجدول35[عمود1],0),MATCH(بيانات!$AA104,الجدول35[[#Headers],[5 طن]:[وش]],0)),INDEX(الجدول3[[5 طن]:[وش]],MATCH(بيانات!$H104,الجدول3[عمود1],0),MATCH(بيانات!$AA104,الجدول3[[#Headers],[5 طن]:[وش]],0))),\"\")","v":""},"5 طن",null,null,null,null,{"$f":"IF(AND(بيانات!$Y104>=24,بيانات!$U104=\"طن\",بيانات!$AA104=\"جرار\"),بيانات!$Z104*بيانات!$Y104,بيانات!$Z104*24)","v":{"$error":"#VALUE!"}},{"$f":"IF(AND(بيانات!$Y104>=5,AND(بيانات!$U104=\"طن\",بيانات!$AA104=\"5 طن\")),بيانات!$Z104*بيانات!$Y104,بيانات!$Z104*5)","v":{"$error":"#VALUE!"}},{"$f":"IF(بيانات!$U104=\"نقلة\",بيانات!$Z104,\"\")","v":""}]
[{"$f":"بيانات!$X105","v":876578},"2020-06-03","ابراهيم عطيه",null,null,"دمياط",1000,"الاسكندريه",null,null,null,null,null,null,null,null,null,null,null,null,"طن",null,{"$f":"IFERROR(IF($U105=\"نقلة\",$Z105,IF(AND(Y105>=SUMIF(data!$A$18:$A$21,AA105,data!$B$18:$B$21),$U105=\"طن\"),($Y105*$Z105),$Z105*AC105)),\"\")","v":0},876578,null,{"$f":"IFERROR(IF(بيانات!$U105=\"نقلة\",INDEX(الجدول35[[5 طن]:[وش]],MATCH(بيانات!$H105,الجدول35[عمود1],0),MATCH(بيانات!$AA105,الجدول35[[#Headers],[5 طن]:[وش]],0)),INDEX(الجدول3[[5 طن]:[وش]],MATCH(بيانات!$H105,الجدول3[عمود1],0),MATCH(بيانات!$AA105,الجدول3[[#Headers],[5 طن]:[وش]],0))),\"\")","v":150},"وش",null,null,null,null,{"$f":"IF(AND(بيانات!$Y105>=24,بيانات!$U105=\"طن\",بيانات!$AA105=\"جرار\"),بيانات!$Z105*بيانات!$Y105,بيانات!$Z105*24)","v":3600},{"$f":"IF(AND(بيانات!$Y105>=5,AND(بيانات!$U105=\"طن\",بيانات!$AA105=\"5 طن\")),بيانات!$Z105*بيانات!$Y105,بيانات!$Z105*5)","v":750},{"$f":"IF(بيانات!$U105=\"نقلة\",بيانات!$Z105,\"\")","v":""}]
[{"$f":"بيانات!$X106","v":0},"2020-06-03","نبيل رجب",null,null,"بروفت",400,null,null,null,null,null,null,null,null,null,null,null,null,null,"طن",null,{"$f":"IFERROR(IF($U106=\"نقلة\",$Z106,IF(AND(Y106>=SUMIF(data!$A$18:$A$21,AA106,data!$B$18:$B$21),$U106=\"طن\"),($Y106*$Z106),$Z106*AC106)),\"\")","v":""},null,null,{"$f":"IFERROR(IF(بيانات!$U106=\"نقلة\",INDEX(الجدول35[[5 طن]:[وش]],MATCH(بيانات!$H106,الجدول35[عمود1],0),MATCH(بيانات!$AA106,الجدول35[[#Headers],[5 طن]:[وش]],0)),INDEX(الجدول3[[5 طن]:[وش]],MATCH(بيانات!$H106,الجدول3[عمود1],0),MATCH(بيانات!$AA106,الجدول3[[#Headers],[5 طن]:[وش]],0))),\"\")","v":""},"5 طن",null,null,null,null,{"$f":"IF(AND(بيانات!$Y106>=24,بيانات!$U106=\"طن\",بيانات!$AA106=\"جرار\"),بيانات!$Z106*بيانات!$Y106,بيانات!$Z106*24)","v":{"$error":"#VALUE!"}},{"$f":"IF(AND(بيانات!$Y106>=5,AND(بيانات!$U106=\"طن\",بيانات!$AA106=\"5 طن\")),بيانات!$Z106*بيانات!$Y106,بيانات!$Z106*5)","v":{"$error":"#VALUE!"}},{"$f":"IF(بيانات!$U106=\"نقلة\",بيانات!$Z106,\"\")","v":""}]
[{"$f":"بيانات!$X107","v":0},"2020-05-21","حسام حسن",523,null,null,null,null,15,null,null,null,null,null,null,null,null,null,"فرق ميزان",null,"طن",null,{"$f":"IFERROR(IF($U107=\"نقلة\",$Z107,IF(AND(Y107>=SUMIF(data!$A$18:$A$21,AA107,data!$B$18:$B$21),$U107=\"طن\"),($Y107*$Z107),$Z107*AC107)),\"\")","v":0},null,null,null,null,null,null,null,null,{"$f":"IF(AND(بيانات!$Y107>=24,بيانات!$U107=\"طن\",بيانات!$AA107=\"جرار\"),بيانات!$Z107*بيانات!$Y107,بيانات!$Z107*24)","v":0},{"$f":"IF(AND(بيانات!$Y107>=5,AND(بيانات!$U107=\"طن\",بيانات!$AA107=\"5 طن\")),بيانات!$Z107*بيانات!$Y107,بيانات!$Z107*5)","v":0},{"$f":"IF(بيانات!$U107=\"نقلة\",بيانات!$Z107,\"\")","v":""}]

{"sheet":"data","index":2,"n_rows":21,"n_cols":23,"rows_kept":21,"cut":false,"hidden":false,"merged":[[0,18,0,21],[0,0,0,3],[0,6,0,9],[0,12,0,15]]}
["سعر السائق بالطن",null,null,null,null,null,"سعر المصنع بالطن",null,null,null,null,null,"سعر السائق بالنقله",null,null,null,null,null,"سعر السائق بالنقله"]
["عمود1","5 طن","فرداني","جرار","وش",null,"عمود1","5 طن","فرداني","جرار","وش",null,"عمود1","5 طن","فرداني","جرار","وش",null,"عمود1","5 طن","فرداني","جرار","وش"]
["القاهره",100,95,80,95,null,"القاهره",126,105,92,105,null,"القاهره",500,600,700,800,null,"القاهره",550,650,750,850]
["الجيزه",110,95,80,95,null,"الجيزه",137,105,92,105,null,"الجيزه",550,650,750,850,null,"الجيزه",600,700,800,900]
["القليوبيه",110,95,80,95,null,"القليوبيه",137,105,92,105,null,"القليوبيه",600,700,800,900,null,"القليوبيه",650,750,850,950]
["الشرقيه",100,85,80,85,null,"الشرقيه",114,97,92,97,null,"الشرقيه",650,750,850,950,null,"الشرقيه",700,800,900,1000]
["الاسماعيليه",105,95,80,95,null,"الاسماعيليه",161,105,92,105,null,"الاسماعيليه",700,800,900,1000,null,"الاسماعيليه",750,850,950,1050]
["السويس",120,95,80,95,null,"السويس",183,119,105,119,null,"السويس",750,850,950,1050,null,"السويس",800,900,1000,1100]
["اكتوبر",120,100,90,100,null,"اكتوبر",161,108,102,108,null,"اكتوبر",800,900,1000,1100,null,"اكتوبر",850,950,1050,1150]
["البحيره",165,125,120,125,null,"البحيره",198,149,143,149,null,"البحيره",850,950,1050,1150,null,"البحيره",900,1000,1100,1200]
["الاسكندريه",215,150,140,150,null,"الاسكندريه",280,171,164,171,null,"الاسكندريه",900,1000,1100,1200,null,"الاسكندريه",950,1050,1150,1250]
["العاشر",40,35,30,35,null,"العاشر",50,45,35,45,null,"العاشر",950,1050,1150,1250,null,"العاشر",1000,1100,1200,1300]
[]
[]
[]
[]
[]
["5 طن",5]
["فرداني",10]
["جرار",24]
["وش",13]

{"sheet":"حساب سائق","index":3,"n_rows":9,"n_cols":11,"rows_kept":9,"cut":false,"hidden":false,"merged":[]}
["تاريخ المحاسبه","(فارغ)"]
["السائق","محمد صلاح"]
[]
[null,null,null,"القيم"]
["التاريخ","مكان التعتيق","Ship","العهدة","الخصم","الشيك","سلفة","قيمه النقله","ميزان ط","كميه","االصافي"]
["2020-06-01","ام زغو",194197,150,null,null,null,1369.77,65,6.3710000000000004,1284.77]
["2020-06-02","اولاد رجب",194534,100,null,null,null,682.6,75,6.8259999999999996,657.6]
["2020-06-03","بحيره",0,200,null,null,null,0,null,null,-200]
["الإجمالي الكلي",null,null,450,null,null,null,2052.37,140,13.196999999999999,1742.37]