{"text_format":"1","workbook":"xlsx","n_sheets":6,"sheets":["menu","id","Sheet1","الناسخة","كشف الرواتب النهائي","REPORT"],"not_rendered":{"charts":0,"images":3,"macros":1,"external_links":0,"defined_names":3,"comments":0,"pivot_tables":0},"unopened":[],"bounds":{"document_bytes":16777216,"sheet_cells":100000,"rows_first":2000,"rows_last":500,"rows_between":2000,"halvings":0,"cell_chars":16384,"cell_head_chars":4096},"cells_cut":0,"cells_raw":0,"read":"whole","date_system":"1900"}

{"sheet":"menu","index":0,"n_rows":15,"n_cols":7,"rows_kept":15,"cut":false,"hidden":false,"merged":[]}
[null,null,"بيانات موظف"]
["رقم الموظف"]
[]
[11,null,"اسم الموظف",null,null,null,"الراتب الشهري الأساسي للموظف"]
[null,null,"أحمد ذيل القط",null,null,null,108]
[null,null,"الصندوق البريدي",null,"العنوان",null,"المسمى الوظيفي - القسم"]
[null,null,36,null,272,null,446]
[null,null,"هاتف المنزل",null,"هاتف جوال",null,"تاريخ التعيين"]
[null,null,114,null,95,null,"2002-11-24"]
[null,null,"البنك",null,"رقم الحساب البنكي",null,"تاريخ الإنتهاء"]
[null,null,454,null,444,null,"2027-09-16"]
[null,null,"الفاكس",null,"الإيميل"]
[null,null,464,null,114]
[null,null,"رصيد الإجازات المتوفر للموظف"]
[null,null,30]

{"sheet":"id","index":1,"n_rows":503,"n_cols":20,"rows_kept":503,"cut":false,"hidden":false,"merged":[]}
[null,null,null,null,null,null,"بيانات الموظفين",null,null,null,null,null,null,null,null,null,null,null,null," Wael Mourad Accounting Systems"]
["رقم الموظف","اسم الموظف","الراتب الشهري الأساسي","رقم الحساب ","اسم البنك","تاريخ التعيين","تاريخ الإنتهاء","رقم الهاتف المنزل","الإيميل","الفاكس","رصيد الإجازات المتوفر الموظف","الصندوق البريدي","العنوان","رقم الجوال","المسمى الوظيفي ","القسم",null,null,"إعادة تنسيق"]
["ID","STAFF NAME","Monthly Salary","Account. No","Bnank Name","Joining Date","End Of Service","Tle. Home","Email","Fax","Leave Pay","Post Address","Address","mobile","job title","Department",null,null,"عبدالعزيز الحمادي"]
[{"$f":"ROW()-3","v":1},"وائل مراد",285,83,333,"2000-10-31","2025-10-04",214,91,434,330,252,467,208,204,"الدائرة المالية","@Abdulaziz_Hmadi"]
[2,"عبدالعزيز الحمادي",242,31,38,"2000-12-17","2026-02-17",395,103,162,286,310,221,356,152,"قسم التقنية"]
[3,"نعيم بالع كرشو",381,75,44,"2001-04-15","2026-05-03",161,112,313,357,434,406,389,301]
[4,"سامر محي الدّين زارع باذنجاني",133,15,182,"2001-08-14","2026-06-16",323,257,99,123,392,379,195,91]
[5,"عبد السّلام محمد نص لسان",287,433,23,"2001-08-27","2026-08-16",477,309,18,183,277,286,58,95]
[6,"تامر عبد الجّليل سامع صوتو",113,123,469,"2001-11-11","2027-01-29",182,104,478,243,142,462,477,250]
[7,"محمود ضايع اسمو",408,202,137,"2002-01-21","2027-04-06",77,399,306,397,182,285,305,472]
[8,"عادل واجع راسو",306,323,355,"2002-04-01","2027-04-18",337,500,50,410,299,387,369,10]
[9,"هاني زمان مأكول حقّو ",480,26,161,"2002-08-04","2027-06-10",57,64,324,215,449,202,234,20]
[10,"ربيع ليش مطنّش",24,317,106,"2002-10-25","2027-06-26",15,319,138,330,433,122,449,354]
[11,"أحمد ذيل القط",108,444,454,"2002-11-24","2027-09-16",114,114,464,30,36,272,95,446]
[12,"سمير كاسر ايدو",256,405,261,"2003-04-26","2028-02-11",172,164,298,413,288,471,343,60]
[13,"عبد الكريم فركش حالو",383,380,131,"2003-10-22","2028-05-24",28,288,35,265,496,36,107,345]
[14,"عبد الشافي قابضها جد",52,211,120,"2004-01-28","2028-11-18",400,55,499,212,311,347,83,169]
[15,"كميل خازق كيسو",408,168,298,"2004-03-17","2028-12-20",73,205,369,276,211,242,294,224]
[16,"علي شالح صبّاطو",315,395,35,"2004-04-22","2029-06-08",266,296,436,325,446,52,442,151]
[17,"شادي فارك كفّو أبو دلعة",209,64,340,"2004-08-29","2029-12-23",147,408,307,6,306,257,59,159]
[18,"طالع نازل من بيتو",17,361,241,"2004-11-30","2030-03-10",14,357,252,438,235,239,208,6]
[19,"رفيق دربك عاطول",34,48,365,"2005-05-06","2030-06-21",127,2,230,333,363,85,290,346]
[20,"طارق مقلب مضبوط",432,37,39,"2005-09-13","2031-01-01",382,261,462,63,319,372,83,53]
[21,"شاكر ناسي حالو",143,215,10,"2005-11-26","2031-04-16",495,304,62,82,475,293,65,294]
[22,"كريم بس بالمي",319,87,113,"2006-02-22","2031-07-01",182,81,447,356,472,418,334,287]
[23,"أقرع نتّف شعراتو",119,124,317,"2006-06-27","2031-10-14",297,218,337,203,57,102,380,69]
[24,"جميل أبشع خلق الله",351,499,370,"2006-09-22","2032-02-06",271,254,500,225,5,454,331,355]
[25,"كامل ناقص مش عارف",73,140,499,"2006-12-13","2032-03-04",180,10,293,201,431,391,285,189]
[26,"شبعان جايع بالحارة",484,67,420,"2007-03-17","2032-03-30",457,489,300,384,378,115,401,274]
[27,"معروف عنّو حركاتو",65,465,13,"2007-09-21","2032-05-28",218,23,453,129,475,390,182,13]
[28,"صابر مش عارف قديش",90,245,439,"2007-12-05","2032-09-22",343,412,464,378,388,146,295,399]
[29,"قادر يضبط أعصابو",336,484,454,"2008-01-05","2032-11-24",472,103,454,51,161,318,443,213]
[30,"فاكك زرّو الفوقاني",211,170,482,"2008-02-17","2033-01-28",65,335,498,459,253,307,416,46]
[31,"أطرش سامع همسة",74,378,52,"2008-07-16","2033-07-01",304,88,45,429,141,111,54,231]
[32,"أعمى شايف برغوث",184,369,35,"2009-01-11","2033-12-27",351,164,156,139,278,476,36,469]
[33,"راكض أعرج  قدّامي",424,284,186,"2009-04-15","2034-05-23",78,236,323,377,249,234,463,34]
[34,"ناقر مدّي بخيالو",232,288,466,"2009-08-09","2034-10-18",224,283,242,466,374,300,27,369]
[35,"طفران زهقان العيشي",119,330,264,"2010-01-21","2035-03-10",450,359,281,123,204,274,81,20]
[36,"عارف كوعو من بوعو",491,92,203,"2010-06-18","2035-06-26",289,423,420,162,198,224,133,120]
[37,"ماشي حافي ليل نهار",272,336,425,"2010-10-27","2035-12-21",157,3,198,371,273,136,165,170]
[38,"داعس نملة ختيارة",315,1,374,"2011-05-13","2036-01-02",432,437,340,441,145,481,182,213]
[39,"خربوش ستيلو ناشف",309,320,486,"2011-10-21","2036-01-23",421,364,42,103,386,397,154,278]
[40,"عاجن أطيب منقوشي",141,33,81,"2011-11-12","2036-07-25",280,123,225,390,211,11,67,454]
[41,"جنط بنشر دولابو",388,355,249,"2012-03-22","2036-09-03",378,300,227,196,270,382,201,248]
[42,"واحد فول محرحر",194,251,22,"2012-07-13","2036-10-03",307,148,24,489,354,120,219,195]
[43,null,180,137,166,"2012-11-16","2037-02-08",249,458,120,232,320,14,335,400]
[44,null,215,409,398,"2013-04-27","2037-05-27",26,39,138,153,12,461,489,71]
[45,null,449,278,398,"2013-07-24","2037-07-19",415,462,143,124,385,256,64,153]
[46,null,188,443,62,"2014-01-02","2037-09-19",457,486,150,334,178,274,208,154]
[47,null,62,166,401,"2014-03-11","2037-11-16",262,488,314,351,26,327,148,216]
[48,null,494,406,180,"2014-09-23","2038-01-01",410,379,423,453,290,23,396,234]
[49,null,327,437,95,"2014-12-19","2038-05-22",495,277,111,394,54,67,209,189]
[50,null,430,398,465,"2015-02-28","2038-08-02",345,172,216,275,87,448,399,94]
[51,null,85,348,476,"2015-07-28","2038-10-11",196,230,386,41,422,328,221,216]
[52,null,223,126,433,"2015-12-31","2038-11-09",40,479,88,139,43,447,181,329]
[53,null,81,57,6,"2016-01-27","2039-02-08",439,43,303,430,97,253,290,402]
[54,null,421,33,427,"2016-04-15","2039-05-31",98,68,197,48,245,8,225,212]
[55,null,281,127,231,"2016-07-14","2039-09-21",120,305,361,459,46,281,411,500]
[56,null,90,42,401,"2017-01-17","2039-11-03",300,31,278,364,158,425,239,339]
[57,null,89,401,343,"2017-02-23","2039-12-29",233,138,246,146,294,208,143,107]
[58,null,40,209,226,"2017-09-06","2040-04-14",131,152,295,211,162,293,484,435]
[59,null,431,152,144,"2017-12-01","2040-06-04",151,98,373,184,274,87,28,183]
[60,null,485,26,185,"2018-02-21","2040-11-17",386,135,157,145,156,408,258,221]
[61,null,193,416,301,"2018-04-29","2041-03-13",447,310,189,388,470,18,146,337]
[62,null,254,366,368,"2018-06-22","2041-06-29",259,17,351,83,302,162,393,431]
[63,null,139,448,54,"2018-11-22","2041-10-10",180,449,275,274,380,146,328,376]
[64,null,412,393,268,"2018-12-16","2042-03-25",22,384,252,317,315,11,202,409]
[65,null,134,141,293,"2019-07-02","2042-09-12",320,172,247,35,28,32,271,21]
[66,null,223,198,422,"2019-08-23","2043-02-22",79,445,355,181,27,85,267,442]
[67,null,408,60,260,"2020-01-03","2043-06-21",387,73,286,114,462,451,379,481]
[68,null,173,417,216,"2020-04-15","2043-08-19",277,236,175,111,34,70,46,460]
[69,null,199,222,367,"2020-06-26","2043-08-31",431,478,458,1,300,75,402,475]
[70,null,346,431,248,"2020-09-16","2043-10-12",94,128,255,314,57,497,283,381]
[71,null,207,408,374,"2020-09-27","2043-12-25",430,104,5,234,428,295,43,498]
[72,null,178,264,74,"2021-04-05","2044-05-19",179,433,287,4,228,330,82,408]
[73,null,401,378,112,"2021-04-28","2044-06-12",146,27,334,139,246,228,50,500]
[74,null,108,25,437,"2021-11-12","2044-10-27",493,413,55,159,83,96,124,415]
[75,null,277,323,178,"2022-01-20","2045-02-27",146,333,170,329,86,26,452,3]
[76,null,310,70,99,"2022-04-11","2045-08-04",439,380,357,12,337,279,177,248]
[77,null,257,488,217,"2022-05-16","2045-12-27",32,198,300,105,466,126,361,300]
[78,null,44,371,59,"2022-11-11","2046-05-04",102,411,35,283,435,109,118,227]
[79,null,47,350,56,"2023-05-05","2046-10-19",163,3,97,389,417,230,270,33]
[80,null,415,94,198,"2023-07-11","2046-11-12",53,307,204,4,15,395,393,330]
[81,null,261,262,121,"2023-10-01","2047-02-22",139,232,439,144,460,214,150,322]
[82,null,460,480,299,"2024-03-10","2047-05-18",144,171,365,494,498,147,352,412]
[83,null,38,192,257,"2024-05-19","2047-06-25",4,73,499,7,10,44,466,76]
[84,null,42,219,255,"2024-08-21","2047-09-17",401,100,291,239,323,485,418,460]
[85]
[86]
[87]
[88]
[89]
[90]
[91]
[92]
[93]
[94]
[95]
[96]
[97]
[98]
[99]
[100]
[101]
[102]
[103]
[104]
[105]
[106]
[107]
[108]
[109]
[110]
[111]
[112]
[113]
[114]
[115]
[116]
[117]
[118]
[119]
[120]
[121]
[122]
[123]
[124]
[125]
[126]
[127]
[128]
[129]
[130]
[131]
[132]
[133]
[134]
[135]
[136]
[137]
[138]
[139]
[140]
[141]
[142]
[143]
[144]
[145]
[146]
[147]
[148]
[149]
[150]
[151]
[152]
[153]
[154]
[155]
[156]
[157]
[158]
[159]
[160]
[161]
[162]
[163]
[164]
[165]
[166]
[167]
[168]
[169]
[170]
[171]
[172]
[173]
[174]
[175]
[176]
[177]
[178]
[179]
[180]
[181]
[182]
[183]
[184]
[185]
[186]
[187]
[188]
[189]
[190]
[191]
[192]
[193]
[194]
[195]
[196]
[197]
[198]
[199]
[200]
[201]
[202]
[203]
[204]
[205]
[206]
[207]
[208]
[209]
[210]
[211]
[212]
[213]
[214]
[215]
[216]
[217]
[218]
[219]
[220]
[221]
[222]
[223]
[224]
[225]
[226]
[227]
[228]
[229]
[230]
[231]
[232]
[233]
[234]
[235]
[236]
[237]
[238]
[239]
[240]
[241]
[242]
[243]
[244]
[245]
[246]
[247]
[248]
[249]
[250]
[251]
[252]
[253]
[254]
[255]
[256]
[257]
[258]
[259]
[260]
[261]
[262]
[263]
[264]
[265]
[266]
[267]
[268]
[269]
[270]
[271]
[272]
[273]
[274]
[275]
[276]
[277]
[278]
[279]
[280]
[281]
[282]
[283]
[284]
[285]
[286]
[287]
[288]
[289]
[290]
[291]
[292]
[293]
[294]
[295]
[296]
[297]
[298]
[299]
[300]
[301]
[302]
[303]
[304]
[305]
[306]
[307]
[308]
[309]
[310]
[311]
[312]
[313]
[314]
[315]
[316]
[317]
[318]
[319]
[320]
[321]
[322]
[323]
[324]
[325]
[326]
[327]
[328]
[329]
[330]
[331]
[332]
[333]
[334]
[335]
[336]
[337]
[338]
[339]
[340]
[341]
[342]
[343]
[344]
[345]
[346]
[347]
[348]
[349]
[350]
[351]
[352]
[353]
[354]
[355]
[356]
[357]
[358]
[359]
[360]
[361]
[362]
[363]
[364]
[365]
[366]
[367]
[368]
[369]
[370]
[371]
[372]
[373]
[374]
[375]
[376]
[377]
[378]
[379]
[380]
[381]
[382]
[383]
[384]
[385]
[386]
[387]
[388]
[389]
[390]
[391]
[392]
[393]
[394]
[395]
[396]
[397]
[398]
[399]
[400]
[401]
[402]
[403]
[404]
[405]
[406]
[407]
[408]
[409]
[410]
[411]
[412]
[413]
[414]
[415]
[416]
[417]
[418]
[419]
[420]
[421]
[422]
[423]
[424]
[425]
[426]
[427]
[428]
[429]
[430]
[431]
[432]
[433]
[434]
[435]
[436]
[437]
[438]
[439]
[440]
[441]
[442]
[443]
[444]
[445]
[446]
[447]
[448]
[449]
[450]
[451]
[452]
[453]
[454]
[455]
[456]
[457]
[458]
[459]
[460]
[461]
[462]
[463]
[464]
[465]
[466]
[467]
[468]
[469]
[470]
[471]
[472]
[473]
[474]
[475]
[476]
[477]
[478]
[479]
[480]
[481]
[482]
[483]
[484]
[485]
[486]
[487]
[488]
[489]
[490]
[491]
[492]
[493]
[494]
[495]
[496]
[497]
[498]
[499]
[500]

{"sheet":"Sheet1","index":2,"n_rows":0,"n_cols":0,"rows_kept":0,"cut":false,"hidden":false,"merged":[]}

{"sheet":"الناسخة","index":3,"n_rows":231,"n_cols":23,"rows_kept":231,"cut":false,"hidden":true,"merged":[[1,2,1,4],[1,6,1,8]]}
[null," Wael Mourad Accounting Systems"]
[null,null,"لشركة وائل مراد وأخوه للمواد العذائية",null,null,"يناير 2011","كشف تفاصيل رواتب شهر "]
["كود","إسم الموظف","رقم الحساب ","إسم البنك","الراتب الشهري الأساسي","إيام الإجازة المدفوعة","عدد أيام العمل","الراتب المستحق","قرض","جزاءات","تأخيرات","زيادات","رصيد إجازات مدفوع مع الراتب","صافي الراتب",null,null,null,null,null,null,null,null,{"$f":"ISERROR(FIND(\"/\",D4))","v":true}]
["ID","STAFF NAME","Account. No","Bnank Name","Monthly Salary","leave pay day's","Works Day","Due salary","Lons","penalty","Lateclt","Additions","LEAVE PAY","Net salary",null,null,null,null,null,null,null,null,"يسيسي"]
[null,null,null,null,null,null,null,{"$f":"G5*E5/26","v":0},null,null,null,null,{"$f":"F5*E5/26","v":0},{"$f":"H5-I5-J5-K5+L5+M5","v":0}]
[null,null,null,null,null,null,null,0,null,null,null,null,0,0]
[null,null,null,null,null,null,null,0,null,null,null,null,0,0]
[null,null,null,null,null,null,null,0,null,null,null,null,0,0]
[null,null,null,null,null,null,null,0,null,null,null,null,0,0]
[null,null,null,null,null,null,null,0,null,null,null,null,0,0]
[null,null,null,null,null,null,null,0,null,null,null,null,0,0]
[null,null,null,null,null,null,null,0,null,null,null,null,0,0]
[null,null,null,null,null,null,null,0,null,null,null,null,0,0]
[null,null,null,null,null,null,null,0,null,null,null,null,0,0]
[null,null,null,null,null,null,null,0,null,null,null,null,0,0]
[null,null,null,null,null,null,null,0,null,null,null,null,0,0]
[null,null,null,null,null,null,null,0,null,null,null,null,0,0]
[null,null,null,null,null,null,null,0,null,null,null,null,0,0]
[null,null,null,null,null,null,null,0,null,null,null,null,0,0]
[null,null,null,null,null,null,null,0,null,null,null,null,0,0]
[null,null,null,null,null,null,null,0,null,null,null,null,0,0]
[null,null,null,null,null,null,null,0,null,null,null,null,0,0]
[null,null,null,null,null,null,null,0,null,null,null,null,0,0]
[null,null,null,null,null,null,null,0,null,null,null,null,0,0]
[null,null,null,null,null,null,null,0,null,null,null,null,0,0]
[null,null,null,null,null,null,null,0,null,null,null,null,0,0]
[null,null,null,null,null,null,null,0,null,null,null,null,0,0]
[null,null,null,null,null,null,null,0,null,null,null,null,0,0]
[null,null,null,null,null,null,null,0,null,null,null,null,0,0]
[null,null,null,null,null,null,null,0,null,null,null,null,0,0]
[null,null,null,null,null,null,null,0,null,null,null,null,0,0]
[null,null,null,null,null,null,null,0,null,null,null,null,0,0]
[null,null,null,null,null,null,null,0,null,null,null,null,0,0]
[null,null,null,null,null,null,null,0,null,null,null,null,0,0]
[null,null,null,null,null,null,null,0,null,null,null,null,0,0]
[null,null,null,null,null,null,null,0,null,null,null,null,0,0]
[null,null,null,null,null,null,null,0,null,null,null,null,0,0]
[null,null,null,null,null,null,null,0,null,null,null,null,0,0]
[null,null,null,null,null,null,null,0,null,null,null,null,0,0]
[null,null,null,null,null,null,null,0,null,null,null,null,0,0]
[null,null,null,null,null,null,null,0,null,null,null,null,0,0]
[null,null,null,null,null,null,null,0,null,null,null,null,0,0]
[null,null,null,null,null,null,null,0,null,null,null,null,0,0]
[null,null,null,null,null,null,null,0,null,null,null,null,0,0]
[null,null,null,null,null,null,null,0,null,null,null,null,0,0]
[null,null,null,null,null,null,null,0,null,null,null,null,0,0]
[null,null,null,null,null,null,null,0,null,null,null,null,0,0]
[null,null,null,null,null,null,null,0,null,null,null,null,0,0]
[null,null,null,null,null,null,null,0,null,null,null,null,0,0]
[null,null,null,null,null,null,null,0,null,null,null,null,0,0]
[null,null,null,null,null,null,null,0,null,null,null,null,0,0]
[null,null,null,null,null,null,null,0,null,null,null,null,0,0]
[null,null,null,null,null,null,null,0,null,null,null,null,0,0]
[null,null,null,null,null,null,null,0,null,null,null,null,0,0]
[null,null,null,null,null,null,null,0,null,null,null,null,0,0]
[null,null,null,null,null,null,null,0,null,null,null,null,0,0]
[null,null,null,null,null,null,null,0,null,null,null,null,0,0]
[null,null,null,null,null,null,null,0,null,null,null,null,0,0]
[null,null,null,null,null,null,null,0,null,null,null,null,0,0]
[null,null,null,null,null,null,null,0,null,null,null,null,0,0]
[null,null,null,null,null,null,null,0,null,null,null,null,0,0]
[null,null,null,null,null,null,null,0,null,null,null,null,0,0]
[null,null,null,null,null,null,null,0,null,null,null,null,0,0]
[null,null,null,null,null,null,null,0,null,null,null,null,0,0]
[null,null,null,null,null,null,null,0,null,null,null,null,0,0]
[null,null,null,null,null,null,null,0,null,null,null,null,0,0]
[null,null,null,null,null,null,null,0,null,null,null,null,0,0]
[null,null,null,null,null,null,null,0,null,null,null,null,0,0]
[null,null,null,null,null,null,null,0,null,null,null,null,0,0]
[null,null,null,null,null,null,null,0,null,null,null,null,0,0]
[null,null,null,null,null,null,null,0,null,null,null,null,0,0]
[null,null,null,null,null,null,null,0,null,null,null,null,0,0]
[null,null,null,null,null,null,null,0,null,null,null,null,0,0]
[null,null,null,null,null,null,null,0,null,null,null,null,0,0]
[null,null,null,null,null,null,null,0,null,null,null,null,0,0]
[null,null,null,null,null,null,null,0,null,null,null,null,0,0]
[null,null,null,null,null,null,null,0,null,null,null,null,0,0]
[null,null,null,null,null,null,null,0,null,null,null,null,0,0]
[null,null,null,null,null,null,null,0,null,null,null,null,0,0]
[null,null,null,null,null,null,null,0,null,null,null,null,0,0]
[null,null,null,null,null,null,null,0,null,null,null,null,0,0]
[null,null,null,null,null,null,null,0,null,null,null,null,0,0]
[null,null,null,null,null,null,null,0,null,null,null,null,0,0]
[null,null,null,null,null,null,null,0,null,null,null,null,0,0]
[null,null,null,null,null,null,null,0,null,null,null,null,0,0]
[null,null,null,null,null,null,null,0,null,null,null,null,0,0]
[null,null,null,null,null,null,null,0,null,null,null,null,0,0]
[null,null,null,null,null,null,null,0,null,null,null,null,0,0]
[null,null,null,null,null,null,null,0,null,null,null,null,0,0]
[null,null,null,null,null,null,null,0,null,null,null,null,0,0]
[null,null,null,null,null,null,null,0,null,null,null,null,0,0]
[null,null,null,null,null,null,null,0,null,null,null,null,0,0]
[null,null,null,null,null,null,null,0,null,null,null,null,0,0]
[null,null,null,null,null,null,null,0,null,null,null,null,0,0]
[null,null,null,null,null,null,null,0,null,null,null,null,0,0]
[null,null,null,null,null,null,null,0,null,null,null,null,0,0]
[null,null,null,null,null,null,null,0,null,null,null,null,0,0]
[null,null,null,null,null,null,null,0,null,null,null,null,0,0]
[null,null,null,null,null,null,null,0,null,null,null,null,0,0]
[null,null,null,null,null,null,null,0,null,null,null,null,0,0]
[null,null,null,null,null,null,null,0,null,null,null,null,0,0]
[null,null,null,null,null,null,null,0,null,null,null,null,0,0]
[null,null,null,null,null,null,null,0,null,null,null,null,0,0]
[null,null,null,null,null,null,null,0,null,null,null,null,0,0]
[null,null,null,null,null,null,null,0,null,null,null,null,0,0]
[null,null,null,null,null,null,null,0,null,null,null,null,0,0]
[null,null,null,null,null,null,null,0,null,null,null,null,0,0]
[null,null,null,null,null,null,null,0,null,null,null,null,0,0]
[null,null,null,null,null,null,null,0,null,null,null,null,0,0]
[null,null,null,null,null,null,null,0,null,null,null,null,0,0]
[null,null,null,null,null,null,null,0,null,null,null,null,0,0]
[null,null,null,null,null,null,null,0,null,null,null,null,0,0]
[null,null,null,null,null,null,null,0,null,null,null,null,0,0]
[null,null,null,null,null,null,null,0,null,null,null,null,0,0]
[null,null,null,null,null,null,null,0,null,null,null,null,0,0]
[null,null,null,null,null,null,null,0,null,null,null,null,0,0]
[null,null,null,null,null,null,null,0,null,null,null,null,0,0]
[null,null,null,null,null,null,null,0,null,null,null,null,0,0]
[null,null,null,null,null,null,null,0,null,null,null,null,0,0]
[null,null,null,null,null,null,null,0,null,null,null,null,0,0]
[null,null,null,null,null,null,null,0,null,null,null,null,0,0]
[null,null,null,null,null,null,null,0,null,null,null,null,0,0]
[null,null,null,null,null,null,null,0,null,null,null,null,0,0]
[null,null,null,null,null,null,null,0,null,null,null,null,0,0]
[null,null,null,null,null,null,null,0,null,null,null,null,0,0]
[null,null,null,null,null,null,null,0,null,null,null,null,0,0]
[null,null,null,null,null,null,null,0,null,null,null,null,0,0]
[null,null,null,null,null,null,null,0,null,null,null,null,0,0]
[null,null,null,null,null,null,null,0,null,null,null,null,0,0]
[null,null,null,null,null,null,null,0,null,null,null,null,0,0]
[null,null,null,null,null,null,null,0,null,null,null,null,0,0]
[null,null,null,null,null,null,null,0,null,null,null,null,0,0]
[null,null,null,null,null,null,null,0,null,null,null,null,0,0]
[null,null,null,null,null,null,null,0,null,null,null,null,0,0]
[null,null,null,null,null,null,null,0,null,null,null,null,0,0]
[null,null,null,null,null,null,null,0,null,null,null,null,0,0]
[null,null,null,null,null,null,null,0,null,null,null,null,0,0]
[null,null,null,null,null,null,null,0,null,null,null,null,0,0]
[null,null,null,null,null,null,null,0,null,null,null,null,0,0]
[null,null,null,null,null,null,null,0,null,null,null,null,0,0]
[null,null,null,null,null,null,null,0,null,null,null,null,0,0]
[null,null,null,null,null,null,null,0,null,null,null,null,0,0]
[null,null,null,null,null,null,null,0,null,null,null,null,0,0]
[null,null,null,null,null,null,null,0,null,null,null,null,0,0]
[null,null,null,null,null,null,null,0,null,null,null,null,0,0]
[null,null,null,null,null,null,null,0,null,null,null,null,0,0]
[null,null,null,null,null,null,null,0,null,null,null,null,0,0]
[null,null,null,null,null,null,null,0,null,null,null,null,0,0]
[null,null,null,null,null,null,null,0,null,null,null,null,0,0]
[null,null,null,null,null,null,null,0,null,null,null,null,0,0]
[null,null,null,null,null,null,null,0,null,null,null,null,0,0]
[null,null,null,null,null,null,null,0,null,null,null,null,0,0]
[null,null,null,null,null,null,null,0,null,null,null,null,0,0]
[null,null,null,null,null,null,null,0,null,null,null,null,0,0]
[null,null,null,null,null,null,null,0,null,null,null,null,0,0]
[null,null,null,null,null,null,null,0,null,null,null,null,0,0]
[null,null,null,null,null,null,null,0,null,null,null,null,0,0]
[null,null,null,null,null,null,null,0,null,null,null,null,0,0]
[null,null,null,null,null,null,null,0,null,null,null,null,0,0]
[null,null,null,null,null,null,null,0,null,null,null,null,0,0]
[null,null,null,null,null,null,null,0,null,null,null,null,0,0]
[null,null,null,null,null,null,null,0,null,null,null,null,0,0]
[null,null,null,null,null,null,null,0,null,null,null,null,0,0]
[null,null,null,null,null,null,null,0,null,null,null,null,0,0]
[null,null,null,null,null,null,null,0,null,null,null,null,0,0]
[null,null,null,null,null,null,null,0,null,null,null,null,0,0]
[null,null,null,null,null,null,null,0,null,null,null,null,0,0]
[null,null,null,null,null,null,null,0,null,null,null,null,0,0]
[null,null,null,null,null,null,null,0,null,null,null,null,0,0]
[null,null,null,null,null,null,null,0,null,null,null,null,0,0]
[null,null,null,null,null,null,null,0,null,null,null,null,0,0]
[null,null,null,null,null,null,null,0,null,null,null,null,0,0]
[null,null,null,null,null,null,null,0,null,null,null,null,0,0]
[null,null,null,null,null,null,null,0,null,null,null,null,0,0]
[null,null,null,null,null,null,null,0,null,null,null,null,0,0]
[null,null,null,null,null,null,null,0,null,null,null,null,0,0]
[null,null,null,null,null,null,null,0,null,null,null,null,0,0]
[null,null,null,null,null,null,null,0,null,null,null,null,0,0]
[null,null,null,null,null,null,null,0,null,null,null,null,0,0]
[null,null,null,null,null,null,null,0,null,null,null,null,0,0]
[null,null,null,null,null,null,null,0,null,null,null,null,0,0]
[null,null,null,null,null,null,null,0,null,null,null,null,0,0]
[null,null,null,null,null,null,null,0,null,null,null,null,0,0]
[null,null,null,null,null,null,null,0,null,null,null,null,0,0]
[null,null,null,null,null,null,null,0,null,null,null,null,0,0]
[null,null,null,null,null,null,null,0,null,null,null,null,0,0]
[null,null,null,null,null,null,null,0,null,null,null,null,0,0]
[null,null,null,null,null,null,null,0,null,null,null,null,0,0]
[null,null,null,null,null,null,null,0,null,null,null,null,0,0]
[null,null,null,null,null,null,null,0,null,null,null,null,0,0]
[null,null,null,null,null,null,null,0,null,null,null,null,0,0]
[null,null,null,null,null,null,null,0,null,null,null,null,0,0]
[null,null,null,null,null,null,null,0,null,null,null,null,0,0]
[null,null,null,null,null,null,null,0,null,null,null,null,0,0]
[null,null,null,null,null,null,null,0,null,null,null,null,0,0]
[null,null,null,null,null,null,null,0,null,null,null,null,0,0]
[null,null,null,null,null,null,null,0,null,null,null,null,0,0]
[null,null,null,null,null,null,null,0,null,null,null,null,0,0]
[null,null,null,null,null,null,null,0,null,null,null,null,0,0]
[null,null,null,null,null,null,null,0,null,null,null,null,0,0]
[null,null,null,null,null,null,null,0,null,null,null,null,0,0]
[null,null,null,null,null,null,null,0,null,null,null,null,0,0]
[null,null,null,null,null,null,null,0,null,null,null,null,0,0]
[null,null,null,null,null,null,null,0,null,null,null,null,0,0]
[null,null,null,null,null,null,null,0,null,null,null,null,0,0]
[null,null,null,null,null,null,null,0,null,null,null,null,0,0]
[null,null,null,null,null,null,null,0,null,null,null,null,0,0]
[null,null,null,null,null,null,null,0,null,null,null,null,0,0]
[null,null,null,null,null,null,null,0,null,null,null,null,0,0]
[null,null,null,null,null,null,null,0,null,null,null,null,0,0]
[null,null,null,null,null,null,null,0,null,null,null,null,0,0]
[null,null,null,null,null,null,null,0,null,null,null,null,0,0]
[null,null,null,null,null,null,null,0,null,null,null,null,0,0]
[null,null,null,null,null,null,null,0,null,null,null,null,0,0]
[null,null,null,null,null,null,null,0,null,null,null,null,0,0]
[null,null,null,null,null,null,null,0,null,null,null,null,0,0]
[null,null,null,null,null,null,null,0,null,null,null,null,0,0]
[null,null,null,null,null,null,null,0,null,null,null,null,0,0]
[null,null,null,null,null,null,null,0,null,null,null,null,0,0]
[null,null,null,null,null,null,null,0,null,null,null,null,0,0]
[null,null,null,null,null,null,null,0,null,null,null,null,0,0]
[null,null,null,null,null,null,null,0,null,null,null,null,0,0]
[null,null,null,null,null,null,null,0,null,null,null,null,0,0]
[null,null,null,null,null,null,null,0,null,null,null,null,0,0]
[null,null,null,null,null,null,null,0,null,null,null,null,0,0]
[null,null,null,null,null,null,null,0,null,null,null,null,0,0]
[null,null,null,null,null,null,null,0,null,null,null,null,0,0]
[null,null,null,null,null,null,null,0,null,null,null,null,0,0]
[null,null,null,null,null,null,null,0,null,null,null,null,0,0]
[null,null,null,null,null,null,null,0,null,null,null,null,0,0]
[null,"Total ",null,null,{"$f":"SUM(E5:E230)","v":0},null,null,{"$f":"SUM(H5:H230)","v":0},0,0,0,0,0,0]

{"sheet":"كشف الرواتب النهائي","index":4,"n_rows":1000,"n_cols":6,"rows_kept":1000,"cut":false,"hidden":true,"merged":[]}
[]
[]
[null,"كود","إسم الموظف","رقم الحساب ","إسم البنك","صافي الراتب"]
[null,"ID","STAFF NAME","Account. No","Bnank Name","Net salary"]
[null,{"$f":"id!A4","v":1},{"$f":"id!B4","v":"وائل مراد"},{"$f":"id!D4","v":83},{"$f":"id!E4","v":333}]
[null,{"$f":"id!A5","v":2},{"$f":"id!B5","v":"عبدالعزيز الحمادي"},{"$f":"id!D5","v":31},{"$f":"id!E5","v":38}]
[null,{"$f":"id!A6","v":3},{"$f":"id!B6","v":"نعيم بالع كرشو"},{"$f":"id!D6","v":75},{"$f":"id!E6","v":44}]
[null,{"$f":"id!A7","v":4},{"$f":"id!B7","v":"سامر محي الدّين زارع باذنجاني"},{"$f":"id!D7","v":15},{"$f":"id!E7","v":182}]
[null,{"$f":"id!A8","v":5},{"$f":"id!B8","v":"عبد السّلام محمد نص لسان"},{"$f":"id!D8","v":433},{"$f":"id!E8","v":23}]
[null,{"$f":"id!A9","v":6},{"$f":"id!B9","v":"تامر عبد الجّليل سامع صوتو"},{"$f":"id!D9","v":123},{"$f":"id!E9","v":469}]
[null,{"$f":"id!A10","v":7},{"$f":"id!B10","v":"محمود ضايع اسمو"},{"$f":"id!D10","v":202},{"$f":"id!E10","v":137}]
[null,{"$f":"id!A11","v":8},{"$f":"id!B11","v":"عادل واجع راسو"},{"$f":"id!D11","v":323},{"$f":"id!E11","v":355}]
[null,{"$f":"id!A12","v":9},{"$f":"id!B12","v":"هاني زمان مأكول حقّو "},{"$f":"id!D12","v":26},{"$f":"id!E12","v":161}]
[null,{"$f":"id!A13","v":10},{"$f":"id!B13","v":"ربيع ليش مطنّش"},{"$f":"id!D13","v":317},{"$f":"id!E13","v":106}]
[null,{"$f":"id!A14","v":11},{"$f":"id!B14","v":"أحمد ذيل القط"},{"$f":"id!D14","v":444},{"$f":"id!E14","v":454}]
[null,{"$f":"id!A15","v":12},{"$f":"id!B15","v":"سمير كاسر ايدو"},{"$f":"id!D15","v":405},{"$f":"id!E15","v":261}]
[null,{"$f":"id!A16","v":13},{"$f":"id!B16","v":"عبد الكريم فركش حالو"},{"$f":"id!D16","v":380},{"$f":"id!E16","v":131}]
[null,{"$f":"id!A17","v":14},{"$f":"id!B17","v":"عبد الشافي قابضها جد"},{"$f":"id!D17","v":211},{"$f":"id!E17","v":120}]
[null,{"$f":"id!A18","v":15},{"$f":"id!B18","v":"كميل خازق كيسو"},{"$f":"id!D18","v":168},{"$f":"id!E18","v":298}]
[null,{"$f":"id!A19","v":16},{"$f":"id!B19","v":"علي شالح صبّاطو"},{"$f":"id!D19","v":395},{"$f":"id!E19","v":35}]
[null,{"$f":"id!A20","v":17},{"$f":"id!B20","v":"شادي فارك كفّو أبو دلعة"},{"$f":"id!D20","v":64},{"$f":"id!E20","v":340}]
[null,{"$f":"id!A21","v":18},{"$f":"id!B21","v":"طالع نازل من بيتو"},{"$f":"id!D21","v":361},{"$f":"id!E21","v":241}]
[null,{"$f":"id!A22","v":19},{"$f":"id!B22","v":"رفيق دربك عاطول"},{"$f":"id!D22","v":48},{"$f":"id!E22","v":365}]
[null,{"$f":"id!A23","v":20},{"$f":"id!B23","v":"طارق مقلب مضبوط"},{"$f":"id!D23","v":37},{"$f":"id!E23","v":39}]
[null,{"$f":"id!A24","v":21},{"$f":"id!B24","v":"شاكر ناسي حالو"},{"$f":"id!D24","v":215},{"$f":"id!E24","v":10}]
[null,{"$f":"id!A25","v":22},{"$f":"id!B25","v":"كريم بس بالمي"},{"$f":"id!D25","v":87},{"$f":"id!E25","v":113}]
[null,{"$f":"id!A26","v":23},{"$f":"id!B26","v":"أقرع نتّف شعراتو"},{"$f":"id!D26","v":124},{"$f":"id!E26","v":317}]
[null,{"$f":"id!A27","v":24},{"$f":"id!B27","v":"جميل أبشع خلق الله"},{"$f":"id!D27","v":499},{"$f":"id!E27","v":370}]
[null,{"$f":"id!A28","v":25},{"$f":"id!B28","v":"كامل ناقص مش عارف"},{"$f":"id!D28","v":140},{"$f":"id!E28","v":499}]
[null,{"$f":"id!A29","v":26},{"$f":"id!B29","v":"شبعان جايع بالحارة"},{"$f":"id!D29","v":67},{"$f":"id!E29","v":420}]
[null,{"$f":"id!A30","v":27},{"$f":"id!B30","v":"معروف عنّو حركاتو"},{"$f":"id!D30","v":465},{"$f":"id!E30","v":13}]
[null,{"$f":"id!A31","v":28},{"$f":"id!B31","v":"صابر مش عارف قديش"},{"$f":"id!D31","v":245},{"$f":"id!E31","v":439}]
[null,{"$f":"id!A32","v":29},{"$f":"id!B32","v":"قادر يضبط أعصابو"},{"$f":"id!D32","v":484},{"$f":"id!E32","v":454}]
[null,{"$f":"id!A33","v":30},{"$f":"id!B33","v":"فاكك زرّو الفوقاني"},{"$f":"id!D33","v":170},{"$f":"id!E33","v":482}]
[null,{"$f":"id!A34","v":31},{"$f":"id!B34","v":"أطرش سامع همسة"},{"$f":"id!D34","v":378},{"$f":"id!E34","v":52}]
[null,{"$f":"id!A35","v":32},{"$f":"id!B35","v":"أعمى شايف برغوث"},{"$f":"id!D35","v":369},{"$f":"id!E35","v":35}]
[null,{"$f":"id!A36","v":33},{"$f":"id!B36","v":"راكض أعرج  قدّامي"},{"$f":"id!D36","v":284},{"$f":"id!E36","v":186}]
[null,{"$f":"id!A37","v":34},{"$f":"id!B37","v":"ناقر مدّي بخيالو"},{"$f":"id!D37","v":288},{"$f":"id!E37","v":466}]
[null,{"$f":"id!A38","v":35},{"$f":"id!B38","v":"طفران زهقان العيشي"},{"$f":"id!D38","v":330},{"$f":"id!E38","v":264}]
[null,{"$f":"id!A39","v":36},{"$f":"id!B39","v":"عارف كوعو من بوعو"},{"$f":"id!D39","v":92},{"$f":"id!E39","v":203}]
[null,{"$f":"id!A40","v":37},{"$f":"id!B40","v":"ماشي حافي ليل نهار"},{"$f":"id!D40","v":336},{"$f":"id!E40","v":425}]
[null,{"$f":"id!A41","v":38},{"$f":"id!B41","v":"داعس نملة ختيارة"},{"$f":"id!D41","v":1},{"$f":"id!E41","v":374}]
[null,{"$f":"id!A42","v":39},{"$f":"id!B42","v":"خربوش ستيلو ناشف"},{"$f":"id!D42","v":320},{"$f":"id!E42","v":486}]
[null,{"$f":"id!A43","v":40},{"$f":"id!B43","v":"عاجن أطيب منقوشي"},{"$f":"id!D43","v":33},{"$f":"id!E43","v":81}]
[null,{"$f":"id!A44","v":41},{"$f":"id!B44","v":"جنط بنشر دولابو"},{"$f":"id!D44","v":355},{"$f":"id!E44","v":249}]
[null,{"$f":"id!A45","v":42},{"$f":"id!B45","v":"واحد فول محرحر"},{"$f":"id!D45","v":251},{"$f":"id!E45","v":22}]
[null,{"$f":"id!A46","v":43},{"$f":"id!B46","v":0},{"$f":"id!D46","v":137},{"$f":"id!E46","v":166}]
[null,{"$f":"id!A47","v":44},{"$f":"id!B47","v":0},{"$f":"id!D47","v":409},{"$f":"id!E47","v":398}]
[null,{"$f":"id!A48","v":45},{"$f":"id!B48","v":0},{"$f":"id!D48","v":278},{"$f":"id!E48","v":398}]
[null,{"$f":"id!A49","v":46},{"$f":"id!B49","v":0},{"$f":"id!D49","v":443},{"$f":"id!E49","v":62}]
[null,{"$f":"id!A50","v":47},{"$f":"id!B50","v":0},{"$f":"id!D50","v":166},{"$f":"id!E50","v":401}]
[null,{"$f":"id!A51","v":48},{"$f":"id!B51","v":0},{"$f":"id!D51","v":406},{"$f":"id!E51","v":180}]
[null,{"$f":"id!A52","v":49},{"$f":"id!B52","v":0},{"$f":"id!D52","v":437},{"$f":"id!E52","v":95}]
[null,{"$f":"id!A53","v":50},{"$f":"id!B53","v":0},{"$f":"id!D53","v":398},{"$f":"id!E53","v":465}]
[null,{"$f":"id!A54","v":51},{"$f":"id!B54","v":0},{"$f":"id!D54","v":348},{"$f":"id!E54","v":476}]
[null,{"$f":"id!A55","v":52},{"$f":"id!B55","v":0},{"$f":"id!D55","v":126},{"$f":"id!E55","v":433}]
[null,{"$f":"id!A56","v":53},{"$f":"id!B56","v":0},{"$f":"id!D56","v":57},{"$f":"id!E56","v":6}]
[null,{"$f":"id!A57","v":54},{"$f":"id!B57","v":0},{"$f":"id!D57","v":33},{"$f":"id!E57","v":427}]
[null,{"$f":"id!A58","v":55},{"$f":"id!B58","v":0},{"$f":"id!D58","v":127},{"$f":"id!E58","v":231}]
[null,{"$f":"id!A59","v":56},{"$f":"id!B59","v":0},{"$f":"id!D59","v":42},{"$f":"id!E59","v":401}]
[null,{"$f":"id!A60","v":57},{"$f":"id!B60","v":0},{"$f":"id!D60","v":401},{"$f":"id!E60","v":343}]
[null,{"$f":"id!A61","v":58},{"$f":"id!B61","v":0},{"$f":"id!D61","v":209},{"$f":"id!E61","v":226}]
[null,{"$f":"id!A62","v":59},{"$f":"id!B62","v":0},{"$f":"id!D62","v":152},{"$f":"id!E62","v":144}]
[null,{"$f":"id!A63","v":60},{"$f":"id!B63","v":0},{"$f":"id!D63","v":26},{"$f":"id!E63","v":185}]
[null,{"$f":"id!A64","v":61},{"$f":"id!B64","v":0},{"$f":"id!D64","v":416},{"$f":"id!E64","v":301}]
[null,{"$f":"id!A65","v":62},{"$f":"id!B65","v":0},{"$f":"id!D65","v":366},{"$f":"id!E65","v":368}]
[null,{"$f":"id!A66","v":63},{"$f":"id!B66","v":0},{"$f":"id!D66","v":448},{"$f":"id!E66","v":54}]
[null,{"$f":"id!A67","v":64},{"$f":"id!B67","v":0},{"$f":"id!D67","v":393},{"$f":"id!E67","v":268}]
[null,{"$f":"id!A68","v":65},{"$f":"id!B68","v":0},{"$f":"id!D68","v":141},{"$f":"id!E68","v":293}]
[null,{"$f":"id!A69","v":66},{"$f":"id!B69","v":0},{"$f":"id!D69","v":198},{"$f":"id!E69","v":422}]
[null,{"$f":"id!A70","v":67},{"$f":"id!B70","v":0},{"$f":"id!D70","v":60},{"$f":"id!E70","v":260}]
[null,{"$f":"id!A71","v":68},{"$f":"id!B71","v":0},{"$f":"id!D71","v":417},{"$f":"id!E71","v":216}]
[null,{"$f":"id!A72","v":69},{"$f":"id!B72","v":0},{"$f":"id!D72","v":222},{"$f":"id!E72","v":367}]
[null,{"$f":"id!A73","v":70},{"$f":"id!B73","v":0},{"$f":"id!D73","v":431},{"$f":"id!E73","v":248}]
[null,{"$f":"id!A74","v":71},{"$f":"id!B74","v":0},{"$f":"id!D74","v":408},{"$f":"id!E74","v":374}]
[null,{"$f":"id!A75","v":72},{"$f":"id!B75","v":0},{"$f":"id!D75","v":264},{"$f":"id!E75","v":74}]
[null,{"$f":"id!A76","v":73},{"$f":"id!B76","v":0},{"$f":"id!D76","v":378},{"$f":"id!E76","v":112}]
[null,{"$f":"id!A77","v":74},{"$f":"id!B77","v":0},{"$f":"id!D77","v":25},{"$f":"id!E77","v":437}]
[null,{"$f":"id!A78","v":75},{"$f":"id!B78","v":0},{"$f":"id!D78","v":323},{"$f":"id!E78","v":178}]
[null,{"$f":"id!A79","v":76},{"$f":"id!B79","v":0},{"$f":"id!D79","v":70},{"$f":"id!E79","v":99}]
[null,{"$f":"id!A80","v":77},{"$f":"id!B80","v":0},{"$f":"id!D80","v":488},{"$f":"id!E80","v":217}]
[null,{"$f":"id!A81","v":78},{"$f":"id!B81","v":0},{"$f":"id!D81","v":371},{"$f":"id!E81","v":59}]
[null,{"$f":"id!A82","v":79},{"$f":"id!B82","v":0},{"$f":"id!D82","v":350},{"$f":"id!E82","v":56}]
[null,{"$f":"id!A83","v":80},{"$f":"id!B83","v":0},{"$f":"id!D83","v":94},{"$f":"id!E83","v":198}]
[null,{"$f":"id!A84","v":81},{"$f":"id!B84","v":0},{"$f":"id!D84","v":262},{"$f":"id!E84","v":121}]
[null,{"$f":"id!A85","v":82},{"$f":"id!B85","v":0},{"$f":"id!D85","v":480},{"$f":"id!E85","v":299}]
[null,{"$f":"id!A86","v":83},{"$f":"id!B86","v":0},{"$f":"id!D86","v":192},{"$f":"id!E86","v":257}]
[null,{"$f":"id!A87","v":84},{"$f":"id!B87","v":0},{"$f":"id!D87","v":219},{"$f":"id!E87","v":255}]
[null,{"$f":"id!A88","v":85},{"$f":"id!B88","v":0},{"$f":"id!D88","v":0},{"$f":"id!E88","v":0}]
[null,{"$f":"id!A89","v":86},{"$f":"id!B89","v":0},{"$f":"id!D89","v":0},{"$f":"id!E89","v":0}]
[null,{"$f":"id!A90","v":87},{"$f":"id!B90","v":0},{"$f":"id!D90","v":0},{"$f":"id!E90","v":0}]
[null,{"$f":"id!A91","v":88},{"$f":"id!B91","v":0},{"$f":"id!D91","v":0},{"$f":"id!E91","v":0}]
[null,{"$f":"id!A92","v":89},{"$f":"id!B92","v":0},{"$f":"id!D92","v":0},{"$f":"id!E92","v":0}]
[null,{"$f":"id!A93","v":90},{"$f":"id!B93","v":0},{"$f":"id!D93","v":0},{"$f":"id!E93","v":0}]
[null,{"$f":"id!A94","v":91},{"$f":"id!B94","v":0},{"$f":"id!D94","v":0},{"$f":"id!E94","v":0}]
[null,{"$f":"id!A95","v":92},{"$f":"id!B95","v":0},{"$f":"id!D95","v":0},{"$f":"id!E95","v":0}]
[null,{"$f":"id!A96","v":93},{"$f":"id!B96","v":0},{"$f":"id!D96","v":0},{"$f":"id!E96","v":0}]
[null,{"$f":"id!A97","v":94},{"$f":"id!B97","v":0},{"$f":"id!D97","v":0},{"$f":"id!E97","v":0}]
[null,{"$f":"id!A98","v":95},{"$f":"id!B98","v":0},{"$f":"id!D98","v":0},{"$f":"id!E98","v":0}]
[null,{"$f":"id!A99","v":96},{"$f":"id!B99","v":0},{"$f":"id!D99","v":0},{"$f":"id!E99","v":0}]
[null,{"$f":"id!A100","v":97},{"$f":"id!B100","v":0},{"$f":"id!D100","v":0},{"$f":"id!E100","v":0}]
[null,{"$f":"id!A101","v":98},{"$f":"id!B101","v":0},{"$f":"id!D101","v":0},{"$f":"id!E101","v":0}]
[null,{"$f":"id!A102","v":99},{"$f":"id!B102","v":0},{"$f":"id!D102","v":0},{"$f":"id!E102","v":0}]
[null,{"$f":"id!A103","v":100},{"$f":"id!B103","v":0},{"$f":"id!D103","v":0},{"$f":"id!E103","v":0}]
[null,{"$f":"id!A104","v":101},{"$f":"id!B104","v":0},{"$f":"id!D104","v":0},{"$f":"id!E104","v":0}]
[null,{"$f":"id!A105","v":102},{"$f":"id!B105","v":0},{"$f":"id!D105","v":0},{"$f":"id!E105","v":0}]
[null,{"$f":"id!A106","v":103},{"$f":"id!B106","v":0},{"$f":"id!D106","v":0},{"$f":"id!E106","v":0}]
[null,{"$f":"id!A107","v":104},{"$f":"id!B107","v":0},{"$f":"id!D107","v":0},{"$f":"id!E107","v":0}]
[null,{"$f":"id!A108","v":105},{"$f":"id!B108","v":0},{"$f":"id!D108","v":0},{"$f":"id!E108","v":0}]
[null,{"$f":"id!A109","v":106},{"$f":"id!B109","v":0},{"$f":"id!D109","v":0},{"$f":"id!E109","v":0}]
[null,{"$f":"id!A110","v":107},{"$f":"id!B110","v":0},{"$f":"id!D110","v":0},{"$f":"id!E110","v":0}]
[null,{"$f":"id!A111","v":108},{"$f":"id!B111","v":0},{"$f":"id!D111","v":0},{"$f":"id!E111","v":0}]
[null,{"$f":"id!A112","v":109},{"$f":"id!B112","v":0},{"$f":"id!D112","v":0},{"$f":"id!E112","v":0}]
[null,{"$f":"id!A113","v":110},{"$f":"id!B113","v":0},{"$f":"id!D113","v":0},{"$f":"id!E113","v":0}]
[null,{"$f":"id!A114","v":111},{"$f":"id!B114","v":0},{"$f":"id!D114","v":0},{"$f":"id!E114","v":0}]
[null,{"$f":"id!A115","v":112},{"$f":"id!B115","v":0},{"$f":"id!D115","v":0},{"$f":"id!E115","v":0}]
[null,{"$f":"id!A116","v":113},{"$f":"id!B116","v":0},{"$f":"id!D116","v":0},{"$f":"id!E116","v":0}]
[null,{"$f":"id!A117","v":114},{"$f":"id!B117","v":0},{"$f":"id!D117","v":0},{"$f":"id!E117","v":0}]
[null,{"$f":"id!A118","v":115},{"$f":"id!B118","v":0},{"$f":"id!D118","v":0},{"$f":"id!E118","v":0}]
[null,{"$f":"id!A119","v":116},{"$f":"id!B119","v":0},{"$f":"id!D119","v":0},{"$f":"id!E119","v":0}]
[null,{"$f":"id!A120","v":117},{"$f":"id!B120","v":0},{"$f":"id!D120","v":0},{"$f":"id!E120","v":0}]
[null,{"$f":"id!A121","v":118},{"$f":"id!B121","v":0},{"$f":"id!D121","v":0},{"$f":"id!E121","v":0}]
[null,{"$f":"id!A122","v":119},{"$f":"id!B122","v":0},{"$f":"id!D122","v":0},{"$f":"id!E122","v":0}]
[null,{"$f":"id!A123","v":120},{"$f":"id!B123","v":0},{"$f":"id!D123","v":0},{"$f":"id!E123","v":0}]
[null,{"$f":"id!A124","v":121},{"$f":"id!B124","v":0},{"$f":"id!D124","v":0},{"$f":"id!E124","v":0}]
[null,{"$f":"id!A125","v":122},{"$f":"id!B125","v":0},{"$f":"id!D125","v":0},{"$f":"id!E125","v":0}]
[null,{"$f":"id!A126","v":123},{"$f":"id!B126","v":0},{"$f":"id!D126","v":0},{"$f":"id!E126","v":0}]
[null,{"$f":"id!A127","v":124},{"$f":"id!B127","v":0},{"$f":"id!D127","v":0},{"$f":"id!E127","v":0}]
[null,{"$f":"id!A128","v":125},{"$f":"id!B128","v":0},{"$f":"id!D128","v":0},{"$f":"id!E128","v":0}]
[null,{"$f":"id!A129","v":126},{"$f":"id!B129","v":0},{"$f":"id!D129","v":0},{"$f":"id!E129","v":0}]
[null,{"$f":"id!A130","v":127},{"$f":"id!B130","v":0},{"$f":"id!D130","v":0},{"$f":"id!E130","v":0}]
[null,{"$f":"id!A131","v":128},{"$f":"id!B131","v":0},{"$f":"id!D131","v":0},{"$f":"id!E131","v":0}]
[null,{"$f":"id!A132","v":129},{"$f":"id!B132","v":0},{"$f":"id!D132","v":0},{"$f":"id!E132","v":0}]
[null,{"$f":"id!A133","v":130},{"$f":"id!B133","v":0},{"$f":"id!D133","v":0},{"$f":"id!E133","v":0}]
[null,{"$f":"id!A134","v":131},{"$f":"id!B134","v":0},{"$f":"id!D134","v":0},{"$f":"id!E134","v":0}]
[null,{"$f":"id!A135","v":132},{"$f":"id!B135","v":0},{"$f":"id!D135","v":0},{"$f":"id!E135","v":0}]
[null,{"$f":"id!A136","v":133},{"$f":"id!B136","v":0},{"$f":"id!D136","v":0},{"$f":"id!E136","v":0}]
[null,{"$f":"id!A137","v":134},{"$f":"id!B137","v":0},{"$f":"id!D137","v":0},{"$f":"id!E137","v":0}]
[null,{"$f":"id!A138","v":135},{"$f":"id!B138","v":0},{"$f":"id!D138","v":0},{"$f":"id!E138","v":0}]
[null,{"$f":"id!A139","v":136},{"$f":"id!B139","v":0},{"$f":"id!D139","v":0},{"$f":"id!E139","v":0}]
[null,{"$f":"id!A140","v":137},{"$f":"id!B140","v":0},{"$f":"id!D140","v":0},{"$f":"id!E140","v":0}]
[null,{"$f":"id!A141","v":138},{"$f":"id!B141","v":0},{"$f":"id!D141","v":0},{"$f":"id!E141","v":0}]
[null,{"$f":"id!A142","v":139},{"$f":"id!B142","v":0},{"$f":"id!D142","v":0},{"$f":"id!E142","v":0}]
[null,{"$f":"id!A143","v":140},{"$f":"id!B143","v":0},{"$f":"id!D143","v":0},{"$f":"id!E143","v":0}]
[null,{"$f":"id!A144","v":141},{"$f":"id!B144","v":0},{"$f":"id!D144","v":0},{"$f":"id!E144","v":0}]
[null,{"$f":"id!A145","v":142},{"$f":"id!B145","v":0},{"$f":"id!D145","v":0},{"$f":"id!E145","v":0}]
[null,{"$f":"id!A146","v":143},{"$f":"id!B146","v":0},{"$f":"id!D146","v":0},{"$f":"id!E146","v":0}]
[null,{"$f":"id!A147","v":144},{"$f":"id!B147","v":0},{"$f":"id!D147","v":0},{"$f":"id!E147","v":0}]
[null,{"$f":"id!A148","v":145},{"$f":"id!B148","v":0},{"$f":"id!D148","v":0},{"$f":"id!E148","v":0}]
[null,{"$f":"id!A149","v":146},{"$f":"id!B149","v":0},{"$f":"id!D149","v":0},{"$f":"id!E149","v":0}]
[null,{"$f":"id!A150","v":147},{"$f":"id!B150","v":0},{"$f":"id!D150","v":0},{"$f":"id!E150","v":0}]
[null,{"$f":"id!A151","v":148},{"$f":"id!B151","v":0},{"$f":"id!D151","v":0},{"$f":"id!E151","v":0}]
[null,{"$f":"id!A152","v":149},{"$f":"id!B152","v":0},{"$f":"id!D152","v":0},{"$f":"id!E152","v":0}]
[null,{"$f":"id!A153","v":150},{"$f":"id!B153","v":0},{"$f":"id!D153","v":0},{"$f":"id!E153","v":0}]
[null,{"$f":"id!A154","v":151},{"$f":"id!B154","v":0},{"$f":"id!D154","v":0},{"$f":"id!E154","v":0}]
[null,{"$f":"id!A155","v":152},{"$f":"id!B155","v":0},{"$f":"id!D155","v":0},{"$f":"id!E155","v":0}]
[null,{"$f":"id!A156","v":153},{"$f":"id!B156","v":0},{"$f":"id!D156","v":0},{"$f":"id!E156","v":0}]
[null,{"$f":"id!A157","v":154},{"$f":"id!B157","v":0},{"$f":"id!D157","v":0},{"$f":"id!E157","v":0}]
[null,{"$f":"id!A158","v":155},{"$f":"id!B158","v":0},{"$f":"id!D158","v":0},{"$f":"id!E158","v":0}]
[null,{"$f":"id!A159","v":156},{"$f":"id!B159","v":0},{"$f":"id!D159","v":0},{"$f":"id!E159","v":0}]
[null,{"$f":"id!A160","v":157},{"$f":"id!B160","v":0},{"$f":"id!D160","v":0},{"$f":"id!E160","v":0}]
[null,{"$f":"id!A161","v":158},{"$f":"id!B161","v":0},{"$f":"id!D161","v":0},{"$f":"id!E161","v":0}]
[null,{"$f":"id!A162","v":159},{"$f":"id!B162","v":0},{"$f":"id!D162","v":0},{"$f":"id!E162","v":0}]
[null,{"$f":"id!A163","v":160},{"$f":"id!B163","v":0},{"$f":"id!D163","v":0},{"$f":"id!E163","v":0}]
[null,{"$f":"id!A164","v":161},{"$f":"id!B164","v":0},{"$f":"id!D164","v":0},{"$f":"id!E164","v":0}]
[null,{"$f":"id!A165","v":162},{"$f":"id!B165","v":0},{"$f":"id!D165","v":0},{"$f":"id!E165","v":0}]
[null,{"$f":"id!A166","v":163},{"$f":"id!B166","v":0},{"$f":"id!D166","v":0},{"$f":"id!E166","v":0}]
[null,{"$f":"id!A167","v":164},{"$f":"id!B167","v":0},{"$f":"id!D167","v":0},{"$f":"id!E167","v":0}]
[null,{"$f":"id!A168","v":165},{"$f":"id!B168","v":0},{"$f":"id!D168","v":0},{"$f":"id!E168","v":0}]
[null,{"$f":"id!A169","v":166},{"$f":"id!B169","v":0},{"$f":"id!D169","v":0},{"$f":"id!E169","v":0}]
[null,{"$f":"id!A170","v":167},{"$f":"id!B170","v":0},{"$f":"id!D170","v":0},{"$f":"id!E170","v":0}]
[null,{"$f":"id!A171","v":168},{"$f":"id!B171","v":0},{"$f":"id!D171","v":0},{"$f":"id!E171","v":0}]
[null,{"$f":"id!A172","v":169},{"$f":"id!B172","v":0},{"$f":"id!D172","v":0},{"$f":"id!E172","v":0}]
[null,{"$f":"id!A173","v":170},{"$f":"id!B173","v":0},{"$f":"id!D173","v":0},{"$f":"id!E173","v":0}]
[null,{"$f":"id!A174","v":171},{"$f":"id!B174","v":0},{"$f":"id!D174","v":0},{"$f":"id!E174","v":0}]
[null,{"$f":"id!A175","v":172},{"$f":"id!B175","v":0},{"$f":"id!D175","v":0},{"$f":"id!E175","v":0}]
[null,{"$f":"id!A176","v":173},{"$f":"id!B176","v":0},{"$f":"id!D176","v":0},{"$f":"id!E176","v":0}]
[null,{"$f":"id!A177","v":174},{"$f":"id!B177","v":0},{"$f":"id!D177","v":0},{"$f":"id!E177","v":0}]
[null,{"$f":"id!A178","v":175},{"$f":"id!B178","v":0},{"$f":"id!D178","v":0},{"$f":"id!E178","v":0}]
[null,{"$f":"id!A179","v":176},{"$f":"id!B179","v":0},{"$f":"id!D179","v":0},{"$f":"id!E179","v":0}]
[null,{"$f":"id!A180","v":177},{"$f":"id!B180","v":0},{"$f":"id!D180","v":0},{"$f":"id!E180","v":0}]
[null,{"$f":"id!A181","v":178},{"$f":"id!B181","v":0},{"$f":"id!D181","v":0},{"$f":"id!E181","v":0}]
[null,{"$f":"id!A182","v":179},{"$f":"id!B182","v":0},{"$f":"id!D182","v":0},{"$f":"id!E182","v":0}]
[null,{"$f":"id!A183","v":180},{"$f":"id!B183","v":0},{"$f":"id!D183","v":0},{"$f":"id!E183","v":0}]
[null,{"$f":"id!A184","v":181},{"$f":"id!B184","v":0},{"$f":"id!D184","v":0},{"$f":"id!E184","v":0}]
[null,{"$f":"id!A185","v":182},{"$f":"id!B185","v":0},{"$f":"id!D185","v":0},{"$f":"id!E185","v":0}]
[null,{"$f":"id!A186","v":183},{"$f":"id!B186","v":0},{"$f":"id!D186","v":0},{"$f":"id!E186","v":0}]
[null,{"$f":"id!A187","v":184},{"$f":"id!B187","v":0},{"$f":"id!D187","v":0},{"$f":"id!E187","v":0}]
[null,{"$f":"id!A188","v":185},{"$f":"id!B188","v":0},{"$f":"id!D188","v":0},{"$f":"id!E188","v":0}]
[null,{"$f":"id!A189","v":186},{"$f":"id!B189","v":0},{"$f":"id!D189","v":0},{"$f":"id!E189","v":0}]
[null,{"$f":"id!A190","v":187},{"$f":"id!B190","v":0},{"$f":"id!D190","v":0},{"$f":"id!E190","v":0}]
[null,{"$f":"id!A191","v":188},{"$f":"id!B191","v":0},{"$f":"id!D191","v":0},{"$f":"id!E191","v":0}]
[null,{"$f":"id!A192","v":189},{"$f":"id!B192","v":0},{"$f":"id!D192","v":0},{"$f":"id!E192","v":0}]
[null,{"$f":"id!A193","v":190},{"$f":"id!B193","v":0},{"$f":"id!D193","v":0},{"$f":"id!E193","v":0}]
[null,{"$f":"id!A194","v":191},{"$f":"id!B194","v":0},{"$f":"id!D194","v":0},{"$f":"id!E194","v":0}]
[null,{"$f":"id!A195","v":192},{"$f":"id!B195","v":0},{"$f":"id!D195","v":0},{"$f":"id!E195","v":0}]
[null,{"$f":"id!A196","v":193},{"$f":"id!B196","v":0},{"$f":"id!D196","v":0},{"$f":"id!E196","v":0}]
[null,{"$f":"id!A197","v":194},{"$f":"id!B197","v":0},{"$f":"id!D197","v":0},{"$f":"id!E197","v":0}]
[null,{"$f":"id!A198","v":195},{"$f":"id!B198","v":0},{"$f":"id!D198","v":0},{"$f":"id!E198","v":0}]
[null,{"$f":"id!A199","v":196},{"$f":"id!B199","v":0},{"$f":"id!D199","v":0},{"$f":"id!E199","v":0}]
[null,{"$f":"id!A200","v":197},{"$f":"id!B200","v":0},{"$f":"id!D200","v":0},{"$f":"id!E200","v":0}]
[null,{"$f":"id!A201","v":198},{"$f":"id!B201","v":0},{"$f":"id!D201","v":0},{"$f":"id!E201","v":0}]
[null,{"$f":"id!A202","v":199},{"$f":"id!B202","v":0},{"$f":"id!D202","v":0},{"$f":"id!E202","v":0}]
[null,{"$f":"id!A203","v":200},{"$f":"id!B203","v":0},{"$f":"id!D203","v":0},{"$f":"id!E203","v":0}]
[null,{"$f":"id!A204","v":201},{"$f":"id!B204","v":0},{"$f":"id!D204","v":0},{"$f":"id!E204","v":0}]
[null,{"$f":"id!A205","v":202},{"$f":"id!B205","v":0},{"$f":"id!D205","v":0},{"$f":"id!E205","v":0}]
[null,{"$f":"id!A206","v":203},{"$f":"id!B206","v":0},{"$f":"id!D206","v":0},{"$f":"id!E206","v":0}]
[null,{"$f":"id!A207","v":204},{"$f":"id!B207","v":0},{"$f":"id!D207","v":0},{"$f":"id!E207","v":0}]
[null,{"$f":"id!A208","v":205},{"$f":"id!B208","v":0},{"$f":"id!D208","v":0},{"$f":"id!E208","v":0}]
[null,{"$f":"id!A209","v":206},{"$f":"id!B209","v":0},{"$f":"id!D209","v":0},{"$f":"id!E209","v":0}]
[null,{"$f":"id!A210","v":207},{"$f":"id!B210","v":0},{"$f":"id!D210","v":0},{"$f":"id!E210","v":0}]
[null,{"$f":"id!A211","v":208},{"$f":"id!B211","v":0},{"$f":"id!D211","v":0},{"$f":"id!E211","v":0}]
[null,{"$f":"id!A212","v":209},{"$f":"id!B212","v":0},{"$f":"id!D212","v":0},{"$f":"id!E212","v":0}]
[null,{"$f":"id!A213","v":210},{"$f":"id!B213","v":0},{"$f":"id!D213","v":0},{"$f":"id!E213","v":0}]
[null,{"$f":"id!A214","v":211},{"$f":"id!B214","v":0},{"$f":"id!D214","v":0},{"$f":"id!E214","v":0}]
[null,{"$f":"id!A215","v":212},{"$f":"id!B215","v":0},{"$f":"id!D215","v":0},{"$f":"id!E215","v":0}]
[null,{"$f":"id!A216","v":213},{"$f":"id!B216","v":0},{"$f":"id!D216","v":0},{"$f":"id!E216","v":0}]
[null,{"$f":"id!A217","v":214},{"$f":"id!B217","v":0},{"$f":"id!D217","v":0},{"$f":"id!E217","v":0}]
[null,{"$f":"id!A218","v":215},{"$f":"id!B218","v":0},{"$f":"id!D218","v":0},{"$f":"id!E218","v":0}]
[null,{"$f":"id!A219","v":216},{"$f":"id!B219","v":0},{"$f":"id!D219","v":0},{"$f":"id!E219","v":0}]
[null,{"$f":"id!A220","v":217},{"$f":"id!B220","v":0},{"$f":"id!D220","v":0},{"$f":"id!E220","v":0}]
[null,{"$f":"id!A221","v":218},{"$f":"id!B221","v":0},{"$f":"id!D221","v":0},{"$f":"id!E221","v":0}]
[null,{"$f":"id!A222","v":219},{"$f":"id!B222","v":0},{"$f":"id!D222","v":0},{"$f":"id!E222","v":0}]
[null,{"$f":"id!A223","v":220},{"$f":"id!B223","v":0},{"$f":"id!D223","v":0},{"$f":"id!E223","v":0}]
[null,{"$f":"id!A224","v":221},{"$f":"id!B224","v":0},{"$f":"id!D224","v":0},{"$f":"id!E224","v":0}]
[null,{"$f":"id!A225","v":222},{"$f":"id!B225","v":0},{"$f":"id!D225","v":0},{"$f":"id!E225","v":0}]
[null,{"$f":"id!A226","v":223},{"$f":"id!B226","v":0},{"$f":"id!D226","v":0},{"$f":"id!E226","v":0}]
[null,{"$f":"id!A227","v":224},{"$f":"id!B227","v":0},{"$f":"id!D227","v":0},{"$f":"id!E227","v":0}]
[null,{"$f":"id!A228","v":225},{"$f":"id!B228","v":0},{"$f":"id!D228","v":0},{"$f":"id!E228","v":0}]
[null,{"$f":"id!A229","v":226},{"$f":"id!B229","v":0},{"$f":"id!D229","v":0},{"$f":"id!E229","v":0}]
[null,{"$f":"id!A230","v":227},{"$f":"id!B230","v":0},{"$f":"id!D230","v":0},{"$f":"id!E230","v":0}]
[null,{"$f":"id!A231","v":228},{"$f":"id!B231","v":0},{"$f":"id!D231","v":0},{"$f":"id!E231","v":0}]
[null,{"$f":"id!A232","v":229},{"$f":"id!B232","v":0},{"$f":"id!D232","v":0},{"$f":"id!E232","v":0}]
[null,{"$f":"id!A233","v":230},{"$f":"id!B233","v":0},{"$f":"id!D233","v":0},{"$f":"id!E233","v":0}]
[null,{"$f":"id!A234","v":231},{"$f":"id!B234","v":0},{"$f":"id!D234","v":0},{"$f":"id!E234","v":0}]
[null,{"$f":"id!A235","v":232},{"$f":"id!B235","v":0},{"$f":"id!D235","v":0},{"$f":"id!E235","v":0}]
[null,{"$f":"id!A236","v":233},{"$f":"id!B236","v":0},{"$f":"id!D236","v":0},{"$f":"id!E236","v":0}]
[null,{"$f":"id!A237","v":234},{"$f":"id!B237","v":0},{"$f":"id!D237","v":0},{"$f":"id!E237","v":0}]
[null,{"$f":"id!A238","v":235},{"$f":"id!B238","v":0},{"$f":"id!D238","v":0},{"$f":"id!E238","v":0}]
[null,{"$f":"id!A239","v":236},{"$f":"id!B239","v":0},{"$f":"id!D239","v":0},{"$f":"id!E239","v":0}]
[null,{"$f":"id!A240","v":237},{"$f":"id!B240","v":0},{"$f":"id!D240","v":0},{"$f":"id!E240","v":0}]
[null,{"$f":"id!A241","v":238},{"$f":"id!B241","v":0},{"$f":"id!D241","v":0},{"$f":"id!E241","v":0}]
[null,{"$f":"id!A242","v":239},{"$f":"id!B242","v":0},{"$f":"id!D242","v":0},{"$f":"id!E242","v":0}]
[null,{"$f":"id!A243","v":240},{"$f":"id!B243","v":0},{"$f":"id!D243","v":0},{"$f":"id!E243","v":0}]
[null,{"$f":"id!A244","v":241},{"$f":"id!B244","v":0},{"$f":"id!D244","v":0},{"$f":"id!E244","v":0}]
[null,{"$f":"id!A245","v":242},{"$f":"id!B245","v":0},{"$f":"id!D245","v":0},{"$f":"id!E245","v":0}]
[null,{"$f":"id!A246","v":243},{"$f":"id!B246","v":0},{"$f":"id!D246","v":0},{"$f":"id!E246","v":0}]
[null,{"$f":"id!A247","v":244},{"$f":"id!B247","v":0},{"$f":"id!D247","v":0},{"$f":"id!E247","v":0}]
[null,{"$f":"id!A248","v":245},{"$f":"id!B248","v":0},{"$f":"id!D248","v":0},{"$f":"id!E248","v":0}]
[null,{"$f":"id!A249","v":246},{"$f":"id!B249","v":0},{"$f":"id!D249","v":0},{"$f":"id!E249","v":0}]
[null,{"$f":"id!A250","v":247},{"$f":"id!B250","v":0},{"$f":"id!D250","v":0},{"$f":"id!E250","v":0}]
[null,{"$f":"id!A251","v":248},{"$f":"id!B251","v":0},{"$f":"id!D251","v":0},{"$f":"id!E251","v":0}]
[null,{"$f":"id!A252","v":249},{"$f":"id!B252","v":0},{"$f":"id!D252","v":0},{"$f":"id!E252","v":0}]
[null,{"$f":"id!A253","v":250},{"$f":"id!B253","v":0},{"$f":"id!D253","v":0},{"$f":"id!E253","v":0}]
[null,{"$f":"id!A254","v":251},{"$f":"id!B254","v":0},{"$f":"id!D254","v":0},{"$f":"id!E254","v":0}]
[null,{"$f":"id!A255","v":252},{"$f":"id!B255","v":0},{"$f":"id!D255","v":0},{"$f":"id!E255","v":0}]
[null,{"$f":"id!A256","v":253},{"$f":"id!B256","v":0},{"$f":"id!D256","v":0},{"$f":"id!E256","v":0}]
[null,{"$f":"id!A257","v":254},{"$f":"id!B257","v":0},{"$f":"id!D257","v":0},{"$f":"id!E257","v":0}]
[null,{"$f":"id!A258","v":255},{"$f":"id!B258","v":0},{"$f":"id!D258","v":0},{"$f":"id!E258","v":0}]
[null,{"$f":"id!A259","v":256},{"$f":"id!B259","v":0},{"$f":"id!D259","v":0},{"$f":"id!E259","v":0}]
[null,{"$f":"id!A260","v":257},{"$f":"id!B260","v":0},{"$f":"id!D260","v":0},{"$f":"id!E260","v":0}]
[null,{"$f":"id!A261","v":258},{"$f":"id!B261","v":0},{"$f":"id!D261","v":0},{"$f":"id!E261","v":0}]
[null,{"$f":"id!A262","v":259},{"$f":"id!B262","v":0},{"$f":"id!D262","v":0},{"$f":"id!E262","v":0}]
[null,{"$f":"id!A263","v":260},{"$f":"id!B263","v":0},{"$f":"id!D263","v":0},{"$f":"id!E263","v":0}]
[null,{"$f":"id!A264","v":261},{"$f":"id!B264","v":0},{"$f":"id!D264","v":0},{"$f":"id!E264","v":0}]
[null,{"$f":"id!A265","v":262},{"$f":"id!B265","v":0},{"$f":"id!D265","v":0},{"$f":"id!E265","v":0}]
[null,{"$f":"id!A266","v":263},{"$f":"id!B266","v":0},{"$f":"id!D266","v":0},{"$f":"id!E266","v":0}]
[null,{"$f":"id!A267","v":264},{"$f":"id!B267","v":0},{"$f":"id!D267","v":0},{"$f":"id!E267","v":0}]
[null,{"$f":"id!A268","v":265},{"$f":"id!B268","v":0},{"$f":"id!D268","v":0},{"$f":"id!E268","v":0}]
[null,{"$f":"id!A269","v":266},{"$f":"id!B269","v":0},{"$f":"id!D269","v":0},{"$f":"id!E269","v":0}]
[null,{"$f":"id!A270","v":267},{"$f":"id!B270","v":0},{"$f":"id!D270","v":0},{"$f":"id!E270","v":0}]
[null,{"$f":"id!A271","v":268},{"$f":"id!B271","v":0},{"$f":"id!D271","v":0},{"$f":"id!E271","v":0}]
[null,{"$f":"id!A272","v":269},{"$f":"id!B272","v":0},{"$f":"id!D272","v":0},{"$f":"id!E272","v":0}]
[null,{"$f":"id!A273","v":270},{"$f":"id!B273","v":0},{"$f":"id!D273","v":0},{"$f":"id!E273","v":0}]
[null,{"$f":"id!A274","v":271},{"$f":"id!B274","v":0},{"$f":"id!D274","v":0},{"$f":"id!E274","v":0}]
[null,{"$f":"id!A275","v":272},{"$f":"id!B275","v":0},{"$f":"id!D275","v":0},{"$f":"id!E275","v":0}]
[null,{"$f":"id!A276","v":273},{"$f":"id!B276","v":0},{"$f":"id!D276","v":0},{"$f":"id!E276","v":0}]
[null,{"$f":"id!A277","v":274},{"$f":"id!B277","v":0},{"$f":"id!D277","v":0},{"$f":"id!E277","v":0}]
[null,{"$f":"id!A278","v":275},{"$f":"id!B278","v":0},{"$f":"id!D278","v":0},{"$f":"id!E278","v":0}]
[null,{"$f":"id!A279","v":276},{"$f":"id!B279","v":0},{"$f":"id!D279","v":0},{"$f":"id!E279","v":0}]
[null,{"$f":"id!A280","v":277},{"$f":"id!B280","v":0},{"$f":"id!D280","v":0},{"$f":"id!E280","v":0}]
[null,{"$f":"id!A281","v":278},{"$f":"id!B281","v":0},{"$f":"id!D281","v":0},{"$f":"id!E281","v":0}]
[null,{"$f":"id!A282","v":279},{"$f":"id!B282","v":0},{"$f":"id!D282","v":0},{"$f":"id!E282","v":0}]
[null,{"$f":"id!A283","v":280},{"$f":"id!B283","v":0},{"$f":"id!D283","v":0},{"$f":"id!E283","v":0}]
[null,{"$f":"id!A284","v":281},{"$f":"id!B284","v":0},{"$f":"id!D284","v":0},{"$f":"id!E284","v":0}]
[null,{"$f":"id!A285","v":282},{"$f":"id!B285","v":0},{"$f":"id!D285","v":0},{"$f":"id!E285","v":0}]
[null,{"$f":"id!A286","v":283},{"$f":"id!B286","v":0},{"$f":"id!D286","v":0},{"$f":"id!E286","v":0}]
[null,{"$f":"id!A287","v":284},{"$f":"id!B287","v":0},{"$f":"id!D287","v":0},{"$f":"id!E287","v":0}]
[null,{"$f":"id!A288","v":285},{"$f":"id!B288","v":0},{"$f":"id!D288","v":0},{"$f":"id!E288","v":0}]
[null,{"$f":"id!A289","v":286},{"$f":"id!B289","v":0},{"$f":"id!D289","v":0},{"$f":"id!E289","v":0}]
[null,{"$f":"id!A290","v":287},{"$f":"id!B290","v":0},{"$f":"id!D290","v":0},{"$f":"id!E290","v":0}]
[null,{"$f":"id!A291","v":288},{"$f":"id!B291","v":0},{"$f":"id!D291","v":0},{"$f":"id!E291","v":0}]
[null,{"$f":"id!A292","v":289},{"$f":"id!B292","v":0},{"$f":"id!D292","v":0},{"$f":"id!E292","v":0}]
[null,{"$f":"id!A293","v":290},{"$f":"id!B293","v":0},{"$f":"id!D293","v":0},{"$f":"id!E293","v":0}]
[null,{"$f":"id!A294","v":291},{"$f":"id!B294","v":0},{"$f":"id!D294","v":0},{"$f":"id!E294","v":0}]
[null,{"$f":"id!A295","v":292},{"$f":"id!B295","v":0},{"$f":"id!D295","v":0},{"$f":"id!E295","v":0}]
[null,{"$f":"id!A296","v":293},{"$f":"id!B296","v":0},{"$f":"id!D296","v":0},{"$f":"id!E296","v":0}]
[null,{"$f":"id!A297","v":294},{"$f":"id!B297","v":0},{"$f":"id!D297","v":0},{"$f":"id!E297","v":0}]
[null,{"$f":"id!A298","v":295},{"$f":"id!B298","v":0},{"$f":"id!D298","v":0},{"$f":"id!E298","v":0}]
[null,{"$f":"id!A299","v":296},{"$f":"id!B299","v":0},{"$f":"id!D299","v":0},{"$f":"id!E299","v":0}]
[null,{"$f":"id!A300","v":297},{"$f":"id!B300","v":0},{"$f":"id!D300","v":0},{"$f":"id!E300","v":0}]
[null,{"$f":"id!A301","v":298},{"$f":"id!B301","v":0},{"$f":"id!D301","v":0},{"$f":"id!E301","v":0}]
[null,{"$f":"id!A302","v":299},{"$f":"id!B302","v":0},{"$f":"id!D302","v":0},{"$f":"id!E302","v":0}]
[null,{"$f":"id!A303","v":300},{"$f":"id!B303","v":0},{"$f":"id!D303","v":0},{"$f":"id!E303","v":0}]
[null,{"$f":"id!A304","v":301},{"$f":"id!B304","v":0},{"$f":"id!D304","v":0},{"$f":"id!E304","v":0}]
[null,{"$f":"id!A305","v":302},{"$f":"id!B305","v":0},{"$f":"id!D305","v":0},{"$f":"id!E305","v":0}]
[null,{"$f":"id!A306","v":303},{"$f":"id!B306","v":0},{"$f":"id!D306","v":0},{"$f":"id!E306","v":0}]
[null,{"$f":"id!A307","v":304},{"$f":"id!B307","v":0},{"$f":"id!D307","v":0},{"$f":"id!E307","v":0}]
[null,{"$f":"id!A308","v":305},{"$f":"id!B308","v":0},{"$f":"id!D308","v":0},{"$f":"id!E308","v":0}]
[null,{"$f":"id!A309","v":306},{"$f":"id!B309","v":0},{"$f":"id!D309","v":0},{"$f":"id!E309","v":0}]
[null,{"$f":"id!A310","v":307},{"$f":"id!B310","v":0},{"$f":"id!D310","v":0},{"$f":"id!E310","v":0}]
[null,{"$f":"id!A311","v":308},{"$f":"id!B311","v":0},{"$f":"id!D311","v":0},{"$f":"id!E311","v":0}]
[null,{"$f":"id!A312","v":309},{"$f":"id!B312","v":0},{"$f":"id!D312","v":0},{"$f":"id!E312","v":0}]
[null,{"$f":"id!A313","v":310},{"$f":"id!B313","v":0},{"$f":"id!D313","v":0},{"$f":"id!E313","v":0}]
[null,{"$f":"id!A314","v":311},{"$f":"id!B314","v":0},{"$f":"id!D314","v":0},{"$f":"id!E314","v":0}]
[null,{"$f":"id!A315","v":312},{"$f":"id!B315","v":0},{"$f":"id!D315","v":0},{"$f":"id!E315","v":0}]
[null,{"$f":"id!A316","v":313},{"$f":"id!B316","v":0},{"$f":"id!D316","v":0},{"$f":"id!E316","v":0}]
[null,{"$f":"id!A317","v":314},{"$f":"id!B317","v":0},{"$f":"id!D317","v":0},{"$f":"id!E317","v":0}]
[null,{"$f":"id!A318","v":315},{"$f":"id!B318","v":0},{"$f":"id!D318","v":0},{"$f":"id!E318","v":0}]
[null,{"$f":"id!A319","v":316},{"$f":"id!B319","v":0},{"$f":"id!D319","v":0},{"$f":"id!E319","v":0}]
[null,{"$f":"id!A320","v":317},{"$f":"id!B320","v":0},{"$f":"id!D320","v":0},{"$f":"id!E320","v":0}]
[null,{"$f":"id!A321","v":318},{"$f":"id!B321","v":0},{"$f":"id!D321","v":0},{"$f":"id!E321","v":0}]
[null,{"$f":"id!A322","v":319},{"$f":"id!B322","v":0},{"$f":"id!D322","v":0},{"$f":"id!E322","v":0}]
[null,{"$f":"id!A323","v":320},{"$f":"id!B323","v":0},{"$f":"id!D323","v":0},{"$f":"id!E323","v":0}]
[null,{"$f":"id!A324","v":321},{"$f":"id!B324","v":0},{"$f":"id!D324","v":0},{"$f":"id!E324","v":0}]
[null,{"$f":"id!A325","v":322},{"$f":"id!B325","v":0},{"$f":"id!D325","v":0},{"$f":"id!E325","v":0}]
[null,{"$f":"id!A326","v":323},{"$f":"id!B326","v":0},{"$f":"id!D326","v":0},{"$f":"id!E326","v":0}]
[null,{"$f":"id!A327","v":324},{"$f":"id!B327","v":0},{"$f":"id!D327","v":0},{"$f":"id!E327","v":0}]
[null,{"$f":"id!A328","v":325},{"$f":"id!B328","v":0},{"$f":"id!D328","v":0},{"$f":"id!E328","v":0}]
[null,{"$f":"id!A329","v":326},{"$f":"id!B329","v":0},{"$f":"id!D329","v":0},{"$f":"id!E329","v":0}]
[null,{"$f":"id!A330","v":327},{"$f":"id!B330","v":0},{"$f":"id!D330","v":0},{"$f":"id!E330","v":0}]
[null,{"$f":"id!A331","v":328},{"$f":"id!B331","v":0},{"$f":"id!D331","v":0},{"$f":"id!E331","v":0}]
[null,{"$f":"id!A332","v":329},{"$f":"id!B332","v":0},{"$f":"id!D332","v":0},{"$f":"id!E332","v":0}]
[null,{"$f":"id!A333","v":330},{"$f":"id!B333","v":0},{"$f":"id!D333","v":0},{"$f":"id!E333","v":0}]
[null,{"$f":"id!A334","v":331},{"$f":"id!B334","v":0},{"$f":"id!D334","v":0},{"$f":"id!E334","v":0}]
[null,{"$f":"id!A335","v":332},{"$f":"id!B335","v":0},{"$f":"id!D335","v":0},{"$f":"id!E335","v":0}]
[null,{"$f":"id!A336","v":333},{"$f":"id!B336","v":0},{"$f":"id!D336","v":0},{"$f":"id!E336","v":0}]
[null,{"$f":"id!A337","v":334},{"$f":"id!B337","v":0},{"$f":"id!D337","v":0},{"$f":"id!E337","v":0}]
[null,{"$f":"id!A338","v":335},{"$f":"id!B338","v":0},{"$f":"id!D338","v":0},{"$f":"id!E338","v":0}]
[null,{"$f":"id!A339","v":336},{"$f":"id!B339","v":0},{"$f":"id!D339","v":0},{"$f":"id!E339","v":0}]
[null,{"$f":"id!A340","v":337},{"$f":"id!B340","v":0},{"$f":"id!D340","v":0},{"$f":"id!E340","v":0}]
[null,{"$f":"id!A341","v":338},{"$f":"id!B341","v":0},{"$f":"id!D341","v":0},{"$f":"id!E341","v":0}]
[null,{"$f":"id!A342","v":339},{"$f":"id!B342","v":0},{"$f":"id!D342","v":0},{"$f":"id!E342","v":0}]
[null,{"$f":"id!A343","v":340},{"$f":"id!B343","v":0},{"$f":"id!D343","v":0},{"$f":"id!E343","v":0}]
[null,{"$f":"id!A344","v":341},{"$f":"id!B344","v":0},{"$f":"id!D344","v":0},{"$f":"id!E344","v":0}]
[null,{"$f":"id!A345","v":342},{"$f":"id!B345","v":0},{"$f":"id!D345","v":0},{"$f":"id!E345","v":0}]
[null,{"$f":"id!A346","v":343},{"$f":"id!B346","v":0},{"$f":"id!D346","v":0},{"$f":"id!E346","v":0}]
[null,{"$f":"id!A347","v":344},{"$f":"id!B347","v":0},{"$f":"id!D347","v":0},{"$f":"id!E347","v":0}]
[null,{"$f":"id!A348","v":345},{"$f":"id!B348","v":0},{"$f":"id!D348","v":0},{"$f":"id!E348","v":0}]
[null,{"$f":"id!A349","v":346},{"$f":"id!B349","v":0},{"$f":"id!D349","v":0},{"$f":"id!E349","v":0}]
[null,{"$f":"id!A350","v":347},{"$f":"id!B350","v":0},{"$f":"id!D350","v":0},{"$f":"id!E350","v":0}]
[null,{"$f":"id!A351","v":348},{"$f":"id!B351","v":0},{"$f":"id!D351","v":0},{"$f":"id!E351","v":0}]
[null,{"$f":"id!A352","v":349},{"$f":"id!B352","v":0},{"$f":"id!D352","v":0},{"$f":"id!E352","v":0}]
[null,{"$f":"id!A353","v":350},{"$f":"id!B353","v":0},{"$f":"id!D353","v":0},{"$f":"id!E353","v":0}]
[null,{"$f":"id!A354","v":351},{"$f":"id!B354","v":0},{"$f":"id!D354","v":0},{"$f":"id!E354","v":0}]
[null,{"$f":"id!A355","v":352},{"$f":"id!B355","v":0},{"$f":"id!D355","v":0},{"$f":"id!E355","v":0}]
[null,{"$f":"id!A356","v":353},{"$f":"id!B356","v":0},{"$f":"id!D356","v":0},{"$f":"id!E356","v":0}]
[null,{"$f":"id!A357","v":354},{"$f":"id!B357","v":0},{"$f":"id!D357","v":0},{"$f":"id!E357","v":0}]
[null,{"$f":"id!A358","v":355},{"$f":"id!B358","v":0},{"$f":"id!D358","v":0},{"$f":"id!E358","v":0}]
[null,{"$f":"id!A359","v":356},{"$f":"id!B359","v":0},{"$f":"id!D359","v":0},{"$f":"id!E359","v":0}]
[null,{"$f":"id!A360","v":357},{"$f":"id!B360","v":0},{"$f":"id!D360","v":0},{"$f":"id!E360","v":0}]
[null,{"$f":"id!A361","v":358},{"$f":"id!B361","v":0},{"$f":"id!D361","v":0},{"$f":"id!E361","v":0}]
[null,{"$f":"id!A362","v":359},{"$f":"id!B362","v":0},{"$f":"id!D362","v":0},{"$f":"id!E362","v":0}]
[null,{"$f":"id!A363","v":360},{"$f":"id!B363","v":0},{"$f":"id!D363","v":0},{"$f":"id!E363","v":0}]
[null,{"$f":"id!A364","v":361},{"$f":"id!B364","v":0},{"$f":"id!D364","v":0},{"$f":"id!E364","v":0}]
[null,{"$f":"id!A365","v":362},{"$f":"id!B365","v":0},{"$f":"id!D365","v":0},{"$f":"id!E365","v":0}]
[null,{"$f":"id!A366","v":363},{"$f":"id!B366","v":0},{"$f":"id!D366","v":0},{"$f":"id!E366","v":0}]
[null,{"$f":"id!A367","v":364},{"$f":"id!B367","v":0},{"$f":"id!D367","v":0},{"$f":"id!E367","v":0}]
[null,{"$f":"id!A368","v":365},{"$f":"id!B368","v":0},{"$f":"id!D368","v":0},{"$f":"id!E368","v":0}]
[null,{"$f":"id!A369","v":366},{"$f":"id!B369","v":0},{"$f":"id!D369","v":0},{"$f":"id!E369","v":0}]
[null,{"$f":"id!A370","v":367},{"$f":"id!B370","v":0},{"$f":"id!D370","v":0},{"$f":"id!E370","v":0}]
[null,{"$f":"id!A371","v":368},{"$f":"id!B371","v":0},{"$f":"id!D371","v":0},{"$f":"id!E371","v":0}]
[null,{"$f":"id!A372","v":369},{"$f":"id!B372","v":0},{"$f":"id!D372","v":0},{"$f":"id!E372","v":0}]
[null,{"$f":"id!A373","v":370},{"$f":"id!B373","v":0},{"$f":"id!D373","v":0},{"$f":"id!E373","v":0}]
[null,{"$f":"id!A374","v":371},{"$f":"id!B374","v":0},{"$f":"id!D374","v":0},{"$f":"id!E374","v":0}]
[null,{"$f":"id!A375","v":372},{"$f":"id!B375","v":0},{"$f":"id!D375","v":0},{"$f":"id!E375","v":0}]
[null,{"$f":"id!A376","v":373},{"$f":"id!B376","v":0},{"$f":"id!D376","v":0},{"$f":"id!E376","v":0}]
[null,{"$f":"id!A377","v":374},{"$f":"id!B377","v":0},{"$f":"id!D377","v":0},{"$f":"id!E377","v":0}]
[null,{"$f":"id!A378","v":375},{"$f":"id!B378","v":0},{"$f":"id!D378","v":0},{"$f":"id!E378","v":0}]
[null,{"$f":"id!A379","v":376},{"$f":"id!B379","v":0},{"$f":"id!D379","v":0},{"$f":"id!E379","v":0}]
[null,{"$f":"id!A380","v":377},{"$f":"id!B380","v":0},{"$f":"id!D380","v":0},{"$f":"id!E380","v":0}]
[null,{"$f":"id!A381","v":378},{"$f":"id!B381","v":0},{"$f":"id!D381","v":0},{"$f":"id!E381","v":0}]
[null,{"$f":"id!A382","v":379},{"$f":"id!B382","v":0},{"$f":"id!D382","v":0},{"$f":"id!E382","v":0}]
[null,{"$f":"id!A383","v":380},{"$f":"id!B383","v":0},{"$f":"id!D383","v":0},{"$f":"id!E383","v":0}]
[null,{"$f":"id!A384","v":381},{"$f":"id!B384","v":0},{"$f":"id!D384","v":0},{"$f":"id!E384","v":0}]
[null,{"$f":"id!A385","v":382},{"$f":"id!B385","v":0},{"$f":"id!D385","v":0},{"$f":"id!E385","v":0}]
[null,{"$f":"id!A386","v":383},{"$f":"id!B386","v":0},{"$f":"id!D386","v":0},{"$f":"id!E386","v":0}]
[null,{"$f":"id!A387","v":384},{"$f":"id!B387","v":0},{"$f":"id!D387","v":0},{"$f":"id!E387","v":0}]
[null,{"$f":"id!A388","v":385},{"$f":"id!B388","v":0},{"$f":"id!D388","v":0},{"$f":"id!E388","v":0}]
[null,{"$f":"id!A389","v":386},{"$f":"id!B389","v":0},{"$f":"id!D389","v":0},{"$f":"id!E389","v":0}]
[null,{"$f":"id!A390","v":387},{"$f":"id!B390","v":0},{"$f":"id!D390","v":0},{"$f":"id!E390","v":0}]
[null,{"$f":"id!A391","v":388},{"$f":"id!B391","v":0},{"$f":"id!D391","v":0},{"$f":"id!E391","v":0}]
[null,{"$f":"id!A392","v":389},{"$f":"id!B392","v":0},{"$f":"id!D392","v":0},{"$f":"id!E392","v":0}]
[null,{"$f":"id!A393","v":390},{"$f":"id!B393","v":0},{"$f":"id!D393","v":0},{"$f":"id!E393","v":0}]
[null,{"$f":"id!A394","v":391},{"$f":"id!B394","v":0},{"$f":"id!D394","v":0},{"$f":"id!E394","v":0}]
[null,{"$f":"id!A395","v":392},{"$f":"id!B395","v":0},{"$f":"id!D395","v":0},{"$f":"id!E395","v":0}]
[null,{"$f":"id!A396","v":393},{"$f":"id!B396","v":0},{"$f":"id!D396","v":0},{"$f":"id!E396","v":0}]
[null,{"$f":"id!A397","v":394},{"$f":"id!B397","v":0},{"$f":"id!D397","v":0},{"$f":"id!E397","v":0}]
[null,{"$f":"id!A398","v":395},{"$f":"id!B398","v":0},{"$f":"id!D398","v":0},{"$f":"id!E398","v":0}]
[null,{"$f":"id!A399","v":396},{"$f":"id!B399","v":0},{"$f":"id!D399","v":0},{"$f":"id!E399","v":0}]
[null,{"$f":"id!A400","v":397},{"$f":"id!B400","v":0},{"$f":"id!D400","v":0},{"$f":"id!E400","v":0}]
[null,{"$f":"id!A401","v":398},{"$f":"id!B401","v":0},{"$f":"id!D401","v":0},{"$f":"id!E401","v":0}]
[null,{"$f":"id!A402","v":399},{"$f":"id!B402","v":0},{"$f":"id!D402","v":0},{"$f":"id!E402","v":0}]
[null,{"$f":"id!A403","v":400},{"$f":"id!B403","v":0},{"$f":"id!D403","v":0},{"$f":"id!E403","v":0}]
[null,{"$f":"id!A404","v":401},{"$f":"id!B404","v":0},{"$f":"id!D404","v":0},{"$f":"id!E404","v":0}]
[null,{"$f":"id!A405","v":402},{"$f":"id!B405","v":0},{"$f":"id!D405","v":0},{"$f":"id!E405","v":0}]
[null,{"$f":"id!A406","v":403},{"$f":"id!B406","v":0},{"$f":"id!D406","v":0},{"$f":"id!E406","v":0}]
[null,{"$f":"id!A407","v":404},{"$f":"id!B407","v":0},{"$f":"id!D407","v":0},{"$f":"id!E407","v":0}]
[null,{"$f":"id!A408","v":405},{"$f":"id!B408","v":0},{"$f":"id!D408","v":0},{"$f":"id!E408","v":0}]
[null,{"$f":"id!A409","v":406},{"$f":"id!B409","v":0},{"$f":"id!D409","v":0},{"$f":"id!E409","v":0}]
[null,{"$f":"id!A410","v":407},{"$f":"id!B410","v":0},{"$f":"id!D410","v":0},{"$f":"id!E410","v":0}]
[null,{"$f":"id!A411","v":408},{"$f":"id!B411","v":0},{"$f":"id!D411","v":0},{"$f":"id!E411","v":0}]
[null,{"$f":"id!A412","v":409},{"$f":"id!B412","v":0},{"$f":"id!D412","v":0},{"$f":"id!E412","v":0}]
[null,{"$f":"id!A413","v":410},{"$f":"id!B413","v":0},{"$f":"id!D413","v":0},{"$f":"id!E413","v":0}]
[null,{"$f":"id!A414","v":411},{"$f":"id!B414","v":0},{"$f":"id!D414","v":0},{"$f":"id!E414","v":0}]
[null,{"$f":"id!A415","v":412},{"$f":"id!B415","v":0},{"$f":"id!D415","v":0},{"$f":"id!E415","v":0}]
[null,{"$f":"id!A416","v":413},{"$f":"id!B416","v":0},{"$f":"id!D416","v":0},{"$f":"id!E416","v":0}]
[null,{"$f":"id!A417","v":414},{"$f":"id!B417","v":0},{"$f":"id!D417","v":0},{"$f":"id!E417","v":0}]
[null,{"$f":"id!A418","v":415},{"$f":"id!B418","v":0},{"$f":"id!D418","v":0},{"$f":"id!E418","v":0}]
[null,{"$f":"id!A419","v":416},{"$f":"id!B419","v":0},{"$f":"id!D419","v":0},{"$f":"id!E419","v":0}]
[null,{"$f":"id!A420","v":417},{"$f":"id!B420","v":0},{"$f":"id!D420","v":0},{"$f":"id!E420","v":0}]
[null,{"$f":"id!A421","v":418},{"$f":"id!B421","v":0},{"$f":"id!D421","v":0},{"$f":"id!E421","v":0}]
[null,{"$f":"id!A422","v":419},{"$f":"id!B422","v":0},{"$f":"id!D422","v":0},{"$f":"id!E422","v":0}]
[null,{"$f":"id!A423","v":420},{"$f":"id!B423","v":0},{"$f":"id!D423","v":0},{"$f":"id!E423","v":0}]
[null,{"$f":"id!A424","v":421},{"$f":"id!B424","v":0},{"$f":"id!D424","v":0},{"$f":"id!E424","v":0}]
[null,{"$f":"id!A425","v":422},{"$f":"id!B425","v":0},{"$f":"id!D425","v":0},{"$f":"id!E425","v":0}]
[null,{"$f":"id!A426","v":423},{"$f":"id!B426","v":0},{"$f":"id!D426","v":0},{"$f":"id!E426","v":0}]
[null,{"$f":"id!A427","v":424},{"$f":"id!B427","v":0},{"$f":"id!D427","v":0},{"$f":"id!E427","v":0}]
[null,{"$f":"id!A428","v":425},{"$f":"id!B428","v":0},{"$f":"id!D428","v":0},{"$f":"id!E428","v":0}]
[null,{"$f":"id!A429","v":426},{"$f":"id!B429","v":0},{"$f":"id!D429","v":0},{"$f":"id!E429","v":0}]
[null,{"$f":"id!A430","v":427},{"$f":"id!B430","v":0},{"$f":"id!D430","v":0},{"$f":"id!E430","v":0}]
[null,{"$f":"id!A431","v":428},{"$f":"id!B431","v":0},{"$f":"id!D431","v":0},{"$f":"id!E431","v":0}]
[null,{"$f":"id!A432","v":429},{"$f":"id!B432","v":0},{"$f":"id!D432","v":0},{"$f":"id!E432","v":0}]
[null,{"$f":"id!A433","v":430},{"$f":"id!B433","v":0},{"$f":"id!D433","v":0},{"$f":"id!E433","v":0}]
[null,{"$f":"id!A434","v":431},{"$f":"id!B434","v":0},{"$f":"id!D434","v":0},{"$f":"id!E434","v":0}]
[null,{"$f":"id!A435","v":432},{"$f":"id!B435","v":0},{"$f":"id!D435","v":0},{"$f":"id!E435","v":0}]
[null,{"$f":"id!A436","v":433},{"$f":"id!B436","v":0},{"$f":"id!D436","v":0},{"$f":"id!E436","v":0}]
[null,{"$f":"id!A437","v":434},{"$f":"id!B437","v":0},{"$f":"id!D437","v":0},{"$f":"id!E437","v":0}]
[null,{"$f":"id!A438","v":435},{"$f":"id!B438","v":0},{"$f":"id!D438","v":0},{"$f":"id!E438","v":0}]
[null,{"$f":"id!A439","v":436},{"$f":"id!B439","v":0},{"$f":"id!D439","v":0},{"$f":"id!E439","v":0}]
[null,{"$f":"id!A440","v":437},{"$f":"id!B440","v":0},{"$f":"id!D440","v":0},{"$f":"id!E440","v":0}]
[null,{"$f":"id!A441","v":438},{"$f":"id!B441","v":0},{"$f":"id!D441","v":0},{"$f":"id!E441","v":0}]
[null,{"$f":"id!A442","v":439},{"$f":"id!B442","v":0},{"$f":"id!D442","v":0},{"$f":"id!E442","v":0}]
[null,{"$f":"id!A443","v":440},{"$f":"id!B443","v":0},{"$f":"id!D443","v":0},{"$f":"id!E443","v":0}]
[null,{"$f":"id!A444","v":441},{"$f":"id!B444","v":0},{"$f":"id!D444","v":0},{"$f":"id!E444","v":0}]
[null,{"$f":"id!A445","v":442},{"$f":"id!B445","v":0},{"$f":"id!D445","v":0},{"$f":"id!E445","v":0}]
[null,{"$f":"id!A446","v":443},{"$f":"id!B446","v":0},{"$f":"id!D446","v":0},{"$f":"id!E446","v":0}]
[null,{"$f":"id!A447","v":444},{"$f":"id!B447","v":0},{"$f":"id!D447","v":0},{"$f":"id!E447","v":0}]
[null,{"$f":"id!A448","v":445},{"$f":"id!B448","v":0},{"$f":"id!D448","v":0},{"$f":"id!E448","v":0}]
[null,{"$f":"id!A449","v":446},{"$f":"id!B449","v":0},{"$f":"id!D449","v":0},{"$f":"id!E449","v":0}]
[null,{"$f":"id!A450","v":447},{"$f":"id!B450","v":0},{"$f":"id!D450","v":0},{"$f":"id!E450","v":0}]
[null,{"$f":"id!A451","v":448},{"$f":"id!B451","v":0},{"$f":"id!D451","v":0},{"$f":"id!E451","v":0}]
[null,{"$f":"id!A452","v":449},{"$f":"id!B452","v":0},{"$f":"id!D452","v":0},{"$f":"id!E452","v":0}]
[null,{"$f":"id!A453","v":450},{"$f":"id!B453","v":0},{"$f":"id!D453","v":0},{"$f":"id!E453","v":0}]
[null,{"$f":"id!A454","v":451},{"$f":"id!B454","v":0},{"$f":"id!D454","v":0},{"$f":"id!E454","v":0}]
[null,{"$f":"id!A455","v":452},{"$f":"id!B455","v":0},{"$f":"id!D455","v":0},{"$f":"id!E455","v":0}]
[null,{"$f":"id!A456","v":453},{"$f":"id!B456","v":0},{"$f":"id!D456","v":0},{"$f":"id!E456","v":0}]
[null,{"$f":"id!A457","v":454},{"$f":"id!B457","v":0},{"$f":"id!D457","v":0},{"$f":"id!E457","v":0}]
[null,{"$f":"id!A458","v":455},{"$f":"id!B458","v":0},{"$f":"id!D458","v":0},{"$f":"id!E458","v":0}]
[null,{"$f":"id!A459","v":456},{"$f":"id!B459","v":0},{"$f":"id!D459","v":0},{"$f":"id!E459","v":0}]
[null,{"$f":"id!A460","v":457},{"$f":"id!B460","v":0},{"$f":"id!D460","v":0},{"$f":"id!E460","v":0}]
[null,{"$f":"id!A461","v":458},{"$f":"id!B461","v":0},{"$f":"id!D461","v":0},{"$f":"id!E461","v":0}]
[null,{"$f":"id!A462","v":459},{"$f":"id!B462","v":0},{"$f":"id!D462","v":0},{"$f":"id!E462","v":0}]
[null,{"$f":"id!A463","v":460},{"$f":"id!B463","v":0},{"$f":"id!D463","v":0},{"$f":"id!E463","v":0}]
[null,{"$f":"id!A464","v":461},{"$f":"id!B464","v":0},{"$f":"id!D464","v":0},{"$f":"id!E464","v":0}]
[null,{"$f":"id!A465","v":462},{"$f":"id!B465","v":0},{"$f":"id!D465","v":0},{"$f":"id!E465","v":0}]
[null,{"$f":"id!A466","v":463},{"$f":"id!B466","v":0},{"$f":"id!D466","v":0},{"$f":"id!E466","v":0}]
[null,{"$f":"id!A467","v":464},{"$f":"id!B467","v":0},{"$f":"id!D467","v":0},{"$f":"id!E467","v":0}]
[null,{"$f":"id!A468","v":465},{"$f":"id!B468","v":0},{"$f":"id!D468","v":0},{"$f":"id!E468","v":0}]
[null,{"$f":"id!A469","v":466},{"$f":"id!B469","v":0},{"$f":"id!D469","v":0},{"$f":"id!E469","v":0}]
[null,{"$f":"id!A470","v":467},{"$f":"id!B470","v":0},{"$f":"id!D470","v":0},{"$f":"id!E470","v":0}]
[null,{"$f":"id!A471","v":468},{"$f":"id!B471","v":0},{"$f":"id!D471","v":0},{"$f":"id!E471","v":0}]
[null,{"$f":"id!A472","v":469},{"$f":"id!B472","v":0},{"$f":"id!D472","v":0},{"$f":"id!E472","v":0}]
[null,{"$f":"id!A473","v":470},{"$f":"id!B473","v":0},{"$f":"id!D473","v":0},{"$f":"id!E473","v":0}]
[null,{"$f":"id!A474","v":471},{"$f":"id!B474","v":0},{"$f":"id!D474","v":0},{"$f":"id!E474","v":0}]
[null,{"$f":"id!A475","v":472},{"$f":"id!B475","v":0},{"$f":"id!D475","v":0},{"$f":"id!E475","v":0}]
[null,{"$f":"id!A476","v":473},{"$f":"id!B476","v":0},{"$f":"id!D476","v":0},{"$f":"id!E476","v":0}]
[null,{"$f":"id!A477","v":474},{"$f":"id!B477","v":0},{"$f":"id!D477","v":0},{"$f":"id!E477","v":0}]
[null,{"$f":"id!A478","v":475},{"$f":"id!B478","v":0},{"$f":"id!D478","v":0},{"$f":"id!E478","v":0}]
[null,{"$f":"id!A479","v":476},{"$f":"id!B479","v":0},{"$f":"id!D479","v":0},{"$f":"id!E479","v":0}]
[null,{"$f":"id!A480","v":477},{"$f":"id!B480","v":0},{"$f":"id!D480","v":0},{"$f":"id!E480","v":0}]
[null,{"$f":"id!A481","v":478},{"$f":"id!B481","v":0},{"$f":"id!D481","v":0},{"$f":"id!E481","v":0}]
[null,{"$f":"id!A482","v":479},{"$f":"id!B482","v":0},{"$f":"id!D482","v":0},{"$f":"id!E482","v":0}]
[null,{"$f":"id!A483","v":480},{"$f":"id!B483","v":0},{"$f":"id!D483","v":0},{"$f":"id!E483","v":0}]
[null,{"$f":"id!A484","v":481},{"$f":"id!B484","v":0},{"$f":"id!D484","v":0},{"$f":"id!E484","v":0}]
[null,{"$f":"id!A485","v":482},{"$f":"id!B485","v":0},{"$f":"id!D485","v":0},{"$f":"id!E485","v":0}]
[null,{"$f":"id!A486","v":483},{"$f":"id!B486","v":0},{"$f":"id!D486","v":0},{"$f":"id!E486","v":0}]
[null,{"$f":"id!A487","v":484},{"$f":"id!B487","v":0},{"$f":"id!D487","v":0},{"$f":"id!E487","v":0}]
[null,{"$f":"id!A488","v":485},{"$f":"id!B488","v":0},{"$f":"id!D488","v":0},{"$f":"id!E488","v":0}]
[null,{"$f":"id!A489","v":486},{"$f":"id!B489","v":0},{"$f":"id!D489","v":0},{"$f":"id!E489","v":0}]
[null,{"$f":"id!A490","v":487},{"$f":"id!B490","v":0},{"$f":"id!D490","v":0},{"$f":"id!E490","v":0}]
[null,{"$f":"id!A491","v":488},{"$f":"id!B491","v":0},{"$f":"id!D491","v":0},{"$f":"id!E491","v":0}]
[null,{"$f":"id!A492","v":489},{"$f":"id!B492","v":0},{"$f":"id!D492","v":0},{"$f":"id!E492","v":0}]
[null,{"$f":"id!A493","v":490},{"$f":"id!B493","v":0},{"$f":"id!D493","v":0},{"$f":"id!E493","v":0}]
[null,{"$f":"id!A494","v":491},{"$f":"id!B494","v":0},{"$f":"id!D494","v":0},{"$f":"id!E494","v":0}]
[null,{"$f":"id!A495","v":492},{"$f":"id!B495","v":0},{"$f":"id!D495","v":0},{"$f":"id!E495","v":0}]
[null,{"$f":"id!A496","v":493},{"$f":"id!B496","v":0},{"$f":"id!D496","v":0},{"$f":"id!E496","v":0}]
[null,{"$f":"id!A497","v":494},{"$f":"id!B497","v":0},{"$f":"id!D497","v":0},{"$f":"id!E497","v":0}]
[null,{"$f":"id!A498","v":495},{"$f":"id!B498","v":0},{"$f":"id!D498","v":0},{"$f":"id!E498","v":0}]
[null,{"$f":"id!A499","v":496},{"$f":"id!B499","v":0},{"$f":"id!D499","v":0},{"$f":"id!E499","v":0}]
[null,{"$f":"id!A500","v":497},{"$f":"id!B500","v":0},{"$f":"id!D500","v":0},{"$f":"id!E500","v":0}]
[null,{"$f":"id!A501","v":498},{"$f":"id!B501","v":0},{"$f":"id!D501","v":0},{"$f":"id!E501","v":0}]
[null,{"$f":"id!A502","v":499},{"$f":"id!B502","v":0},{"$f":"id!D502","v":0},{"$f":"id!E502","v":0}]
[null,{"$f":"id!A503","v":500},{"$f":"id!B503","v":0},{"$f":"id!D503","v":0},{"$f":"id!E503","v":0}]
[null,{"$f":"id!A504","v":0},{"$f":"id!B504","v":0},{"$f":"id!D504","v":0},{"$f":"id!E504","v":0}]
[null,{"$f":"id!A505","v":0},{"$f":"id!B505","v":0},{"$f":"id!D505","v":0},{"$f":"id!E505","v":0}]
[null,{"$f":"id!A506","v":0},{"$f":"id!B506","v":0},{"$f":"id!D506","v":0},{"$f":"id!E506","v":0}]
[null,{"$f":"id!A507","v":0},{"$f":"id!B507","v":0},{"$f":"id!D507","v":0},{"$f":"id!E507","v":0}]
[null,{"$f":"id!A508","v":0},{"$f":"id!B508","v":0},{"$f":"id!D508","v":0},{"$f":"id!E508","v":0}]
[null,{"$f":"id!A509","v":0},{"$f":"id!B509","v":0},{"$f":"id!D509","v":0},{"$f":"id!E509","v":0}]
[null,{"$f":"id!A510","v":0},{"$f":"id!B510","v":0},{"$f":"id!D510","v":0},{"$f":"id!E510","v":0}]
[null,{"$f":"id!A511","v":0},{"$f":"id!B511","v":0},{"$f":"id!D511","v":0},{"$f":"id!E511","v":0}]
[null,{"$f":"id!A512","v":0},{"$f":"id!B512","v":0},{"$f":"id!D512","v":0},{"$f":"id!E512","v":0}]
[null,{"$f":"id!A513","v":0},{"$f":"id!B513","v":0},{"$f":"id!D513","v":0},{"$f":"id!E513","v":0}]
[null,{"$f":"id!A514","v":0},{"$f":"id!B514","v":0},{"$f":"id!D514","v":0},{"$f":"id!E514","v":0}]
[null,{"$f":"id!A515","v":0},{"$f":"id!B515","v":0},{"$f":"id!D515","v":0},{"$f":"id!E515","v":0}]
[null,{"$f":"id!A516","v":0},{"$f":"id!B516","v":0},{"$f":"id!D516","v":0},{"$f":"id!E516","v":0}]
[null,{"$f":"id!A517","v":0},{"$f":"id!B517","v":0},{"$f":"id!D517","v":0},{"$f":"id!E517","v":0}]
[null,{"$f":"id!A518","v":0},{"$f":"id!B518","v":0},{"$f":"id!D518","v":0},{"$f":"id!E518","v":0}]
[null,{"$f":"id!A519","v":0},{"$f":"id!B519","v":0},{"$f":"id!D519","v":0},{"$f":"id!E519","v":0}]
[null,{"$f":"id!A520","v":0},{"$f":"id!B520","v":0},{"$f":"id!D520","v":0},{"$f":"id!E520","v":0}]
[null,{"$f":"id!A521","v":0},{"$f":"id!B521","v":0},{"$f":"id!D521","v":0},{"$f":"id!E521","v":0}]
[null,{"$f":"id!A522","v":0},{"$f":"id!B522","v":0},{"$f":"id!D522","v":0},{"$f":"id!E522","v":0}]
[null,{"$f":"id!A523","v":0},{"$f":"id!B523","v":0},{"$f":"id!D523","v":0},{"$f":"id!E523","v":0}]
[null,{"$f":"id!A524","v":0},{"$f":"id!B524","v":0},{"$f":"id!D524","v":0},{"$f":"id!E524","v":0}]
[null,{"$f":"id!A525","v":0},{"$f":"id!B525","v":0},{"$f":"id!D525","v":0},{"$f":"id!E525","v":0}]
[null,{"$f":"id!A526","v":0},{"$f":"id!B526","v":0},{"$f":"id!D526","v":0},{"$f":"id!E526","v":0}]
[null,{"$f":"id!A527","v":0},{"$f":"id!B527","v":0},{"$f":"id!D527","v":0},{"$f":"id!E527","v":0}]
[null,{"$f":"id!A528","v":0},{"$f":"id!B528","v":0},{"$f":"id!D528","v":0},{"$f":"id!E528","v":0}]
[null,{"$f":"id!A529","v":0},{"$f":"id!B529","v":0},{"$f":"id!D529","v":0},{"$f":"id!E529","v":0}]
[null,{"$f":"id!A530","v":0},{"$f":"id!B530","v":0},{"$f":"id!D530","v":0},{"$f":"id!E530","v":0}]
[null,{"$f":"id!A531","v":0},{"$f":"id!B531","v":0},{"$f":"id!D531","v":0},{"$f":"id!E531","v":0}]
[null,{"$f":"id!A532","v":0},{"$f":"id!B532","v":0},{"$f":"id!D532","v":0},{"$f":"id!E532","v":0}]
[null,{"$f":"id!A533","v":0},{"$f":"id!B533","v":0},{"$f":"id!D533","v":0},{"$f":"id!E533","v":0}]
[null,{"$f":"id!A534","v":0},{"$f":"id!B534","v":0},{"$f":"id!D534","v":0},{"$f":"id!E534","v":0}]
[null,{"$f":"id!A535","v":0},{"$f":"id!B535","v":0},{"$f":"id!D535","v":0},{"$f":"id!E535","v":0}]
[null,{"$f":"id!A536","v":0},{"$f":"id!B536","v":0},{"$f":"id!D536","v":0},{"$f":"id!E536","v":0}]
[null,{"$f":"id!A537","v":0},{"$f":"id!B537","v":0},{"$f":"id!D537","v":0},{"$f":"id!E537","v":0}]
[null,{"$f":"id!A538","v":0},{"$f":"id!B538","v":0},{"$f":"id!D538","v":0},{"$f":"id!E538","v":0}]
[null,{"$f":"id!A539","v":0},{"$f":"id!B539","v":0},{"$f":"id!D539","v":0},{"$f":"id!E539","v":0}]
[null,{"$f":"id!A540","v":0},{"$f":"id!B540","v":0},{"$f":"id!D540","v":0},{"$f":"id!E540","v":0}]
[null,{"$f":"id!A541","v":0},{"$f":"id!B541","v":0},{"$f":"id!D541","v":0},{"$f":"id!E541","v":0}]
[null,{"$f":"id!A542","v":0},{"$f":"id!B542","v":0},{"$f":"id!D542","v":0},{"$f":"id!E542","v":0}]
[null,{"$f":"id!A543","v":0},{"$f":"id!B543","v":0},{"$f":"id!D543","v":0},{"$f":"id!E543","v":0}]
[null,{"$f":"id!A544","v":0},{"$f":"id!B544","v":0},{"$f":"id!D544","v":0},{"$f":"id!E544","v":0}]
[null,{"$f":"id!A545","v":0},{"$f":"id!B545","v":0},{"$f":"id!D545","v":0},{"$f":"id!E545","v":0}]
[null,{"$f":"id!A546","v":0},{"$f":"id!B546","v":0},{"$f":"id!D546","v":0},{"$f":"id!E546","v":0}]
[null,{"$f":"id!A547","v":0},{"$f":"id!B547","v":0},{"$f":"id!D547","v":0},{"$f":"id!E547","v":0}]
[null,{"$f":"id!A548","v":0},{"$f":"id!B548","v":0},{"$f":"id!D548","v":0},{"$f":"id!E548","v":0}]
[null,{"$f":"id!A549","v":0},{"$f":"id!B549","v":0},{"$f":"id!D549","v":0},{"$f":"id!E549","v":0}]
[null,{"$f":"id!A550","v":0},{"$f":"id!B550","v":0},{"$f":"id!D550","v":0},{"$f":"id!E550","v":0}]
[null,{"$f":"id!A551","v":0},{"$f":"id!B551","v":0},{"$f":"id!D551","v":0},{"$f":"id!E551","v":0}]
[null,{"$f":"id!A552","v":0},{"$f":"id!B552","v":0},{"$f":"id!D552","v":0},{"$f":"id!E552","v":0}]
[null,{"$f":"id!A553","v":0},{"$f":"id!B553","v":0},{"$f":"id!D553","v":0},{"$f":"id!E553","v":0}]
[null,{"$f":"id!A554","v":0},{"$f":"id!B554","v":0},{"$f":"id!D554","v":0},{"$f":"id!E554","v":0}]
[null,{"$f":"id!A555","v":0},{"$f":"id!B555","v":0},{"$f":"id!D555","v":0},{"$f":"id!E555","v":0}]
[null,{"$f":"id!A556","v":0},{"$f":"id!B556","v":0},{"$f":"id!D556","v":0},{"$f":"id!E556","v":0}]
[null,{"$f":"id!A557","v":0},{"$f":"id!B557","v":0},{"$f":"id!D557","v":0},{"$f":"id!E557","v":0}]
[null,{"$f":"id!A558","v":0},{"$f":"id!B558","v":0},{"$f":"id!D558","v":0},{"$f":"id!E558","v":0}]
[null,{"$f":"id!A559","v":0},{"$f":"id!B559","v":0},{"$f":"id!D559","v":0},{"$f":"id!E559","v":0}]
[null,{"$f":"id!A560","v":0},{"$f":"id!B560","v":0},{"$f":"id!D560","v":0},{"$f":"id!E560","v":0}]
[null,{"$f":"id!A561","v":0},{"$f":"id!B561","v":0},{"$f":"id!D561","v":0},{"$f":"id!E561","v":0}]
[null,{"$f":"id!A562","v":0},{"$f":"id!B562","v":0},{"$f":"id!D562","v":0},{"$f":"id!E562","v":0}]
[null,{"$f":"id!A563","v":0},{"$f":"id!B563","v":0},{"$f":"id!D563","v":0},{"$f":"id!E563","v":0}]
[null,{"$f":"id!A564","v":0},{"$f":"id!B564","v":0},{"$f":"id!D564","v":0},{"$f":"id!E564","v":0}]
[null,{"$f":"id!A565","v":0},{"$f":"id!B565","v":0},{"$f":"id!D565","v":0},{"$f":"id!E565","v":0}]
[null,{"$f":"id!A566","v":0},{"$f":"id!B566","v":0},{"$f":"id!D566","v":0},{"$f":"id!E566","v":0}]
[null,{"$f":"id!A567","v":0},{"$f":"id!B567","v":0},{"$f":"id!D567","v":0},{"$f":"id!E567","v":0}]
[null,{"$f":"id!A568","v":0},{"$f":"id!B568","v":0},{"$f":"id!D568","v":0},{"$f":"id!E568","v":0}]
[null,{"$f":"id!A569","v":0},{"$f":"id!B569","v":0},{"$f":"id!D569","v":0},{"$f":"id!E569","v":0}]
[null,{"$f":"id!A570","v":0},{"$f":"id!B570","v":0},{"$f":"id!D570","v":0},{"$f":"id!E570","v":0}]
[null,{"$f":"id!A571","v":0},{"$f":"id!B571","v":0},{"$f":"id!D571","v":0},{"$f":"id!E571","v":0}]
[null,{"$f":"id!A572","v":0},{"$f":"id!B572","v":0},{"$f":"id!D572","v":0},{"$f":"id!E572","v":0}]
[null,{"$f":"id!A573","v":0},{"$f":"id!B573","v":0},{"$f":"id!D573","v":0},{"$f":"id!E573","v":0}]
[null,{"$f":"id!A574","v":0},{"$f":"id!B574","v":0},{"$f":"id!D574","v":0},{"$f":"id!E574","v":0}]
[null,{"$f":"id!A575","v":0},{"$f":"id!B575","v":0},{"$f":"id!D575","v":0},{"$f":"id!E575","v":0}]
[null,{"$f":"id!A576","v":0},{"$f":"id!B576","v":0},{"$f":"id!D576","v":0},{"$f":"id!E576","v":0}]
[null,{"$f":"id!A577","v":0},{"$f":"id!B577","v":0},{"$f":"id!D577","v":0},{"$f":"id!E577","v":0}]
[null,{"$f":"id!A578","v":0},{"$f":"id!B578","v":0},{"$f":"id!D578","v":0},{"$f":"id!E578","v":0}]
[null,{"$f":"id!A579","v":0},{"$f":"id!B579","v":0},{"$f":"id!D579","v":0},{"$f":"id!E579","v":0}]
[null,{"$f":"id!A580","v":0},{"$f":"id!B580","v":0},{"$f":"id!D580","v":0},{"$f":"id!E580","v":0}]
[null,{"$f":"id!A581","v":0},{"$f":"id!B581","v":0},{"$f":"id!D581","v":0},{"$f":"id!E581","v":0}]
[null,{"$f":"id!A582","v":0},{"$f":"id!B582","v":0},{"$f":"id!D582","v":0},{"$f":"id!E582","v":0}]
[null,{"$f":"id!A583","v":0},{"$f":"id!B583","v":0},{"$f":"id!D583","v":0},{"$f":"id!E583","v":0}]
[null,{"$f":"id!A584","v":0},{"$f":"id!B584","v":0},{"$f":"id!D584","v":0},{"$f":"id!E584","v":0}]
[null,{"$f":"id!A585","v":0},{"$f":"id!B585","v":0},{"$f":"id!D585","v":0},{"$f":"id!E585","v":0}]
[null,{"$f":"id!A586","v":0},{"$f":"id!B586","v":0},{"$f":"id!D586","v":0},{"$f":"id!E586","v":0}]
[null,{"$f":"id!A587","v":0},{"$f":"id!B587","v":0},{"$f":"id!D587","v":0},{"$f":"id!E587","v":0}]
[null,{"$f":"id!A588","v":0},{"$f":"id!B588","v":0},{"$f":"id!D588","v":0},{"$f":"id!E588","v":0}]
[null,{"$f":"id!A589","v":0},{"$f":"id!B589","v":0},{"$f":"id!D589","v":0},{"$f":"id!E589","v":0}]
[null,{"$f":"id!A590","v":0},{"$f":"id!B590","v":0},{"$f":"id!D590","v":0},{"$f":"id!E590","v":0}]
[null,{"$f":"id!A591","v":0},{"$f":"id!B591","v":0},{"$f":"id!D591","v":0},{"$f":"id!E591","v":0}]
[null,{"$f":"id!A592","v":0},{"$f":"id!B592","v":0},{"$f":"id!D592","v":0},{"$f":"id!E592","v":0}]
[null,{"$f":"id!A593","v":0},{"$f":"id!B593","v":0},{"$f":"id!D593","v":0},{"$f":"id!E593","v":0}]
[null,{"$f":"id!A594","v":0},{"$f":"id!B594","v":0},{"$f":"id!D594","v":0},{"$f":"id!E594","v":0}]
[null,{"$f":"id!A595","v":0},{"$f":"id!B595","v":0},{"$f":"id!D595","v":0},{"$f":"id!E595","v":0}]
[null,{"$f":"id!A596","v":0},{"$f":"id!B596","v":0},{"$f":"id!D596","v":0},{"$f":"id!E596","v":0}]
[null,{"$f":"id!A597","v":0},{"$f":"id!B597","v":0},{"$f":"id!D597","v":0},{"$f":"id!E597","v":0}]
[null,{"$f":"id!A598","v":0},{"$f":"id!B598","v":0},{"$f":"id!D598","v":0},{"$f":"id!E598","v":0}]
[null,{"$f":"id!A599","v":0},{"$f":"id!B599","v":0},{"$f":"id!D599","v":0},{"$f":"id!E599","v":0}]
[null,{"$f":"id!A600","v":0},{"$f":"id!B600","v":0},{"$f":"id!D600","v":0},{"$f":"id!E600","v":0}]
[null,{"$f":"id!A601","v":0},{"$f":"id!B601","v":0},{"$f":"id!D601","v":0},{"$f":"id!E601","v":0}]
[null,{"$f":"id!A602","v":0},{"$f":"id!B602","v":0},{"$f":"id!D602","v":0},{"$f":"id!E602","v":0}]
[null,{"$f":"id!A603","v":0},{"$f":"id!B603","v":0},{"$f":"id!D603","v":0},{"$f":"id!E603","v":0}]
[null,{"$f":"id!A604","v":0},{"$f":"id!B604","v":0},{"$f":"id!D604","v":0},{"$f":"id!E604","v":0}]
[null,{"$f":"id!A605","v":0},{"$f":"id!B605","v":0},{"$f":"id!D605","v":0},{"$f":"id!E605","v":0}]
[null,{"$f":"id!A606","v":0},{"$f":"id!B606","v":0},{"$f":"id!D606","v":0},{"$f":"id!E606","v":0}]
[null,{"$f":"id!A607","v":0},{"$f":"id!B607","v":0},{"$f":"id!D607","v":0},{"$f":"id!E607","v":0}]
[null,{"$f":"id!A608","v":0},{"$f":"id!B608","v":0},{"$f":"id!D608","v":0},{"$f":"id!E608","v":0}]
[null,{"$f":"id!A609","v":0},{"$f":"id!B609","v":0},{"$f":"id!D609","v":0},{"$f":"id!E609","v":0}]
[null,{"$f":"id!A610","v":0},{"$f":"id!B610","v":0},{"$f":"id!D610","v":0},{"$f":"id!E610","v":0}]
[null,{"$f":"id!A611","v":0},{"$f":"id!B611","v":0},{"$f":"id!D611","v":0},{"$f":"id!E611","v":0}]
[null,{"$f":"id!A612","v":0},{"$f":"id!B612","v":0},{"$f":"id!D612","v":0},{"$f":"id!E612","v":0}]
[null,{"$f":"id!A613","v":0},{"$f":"id!B613","v":0},{"$f":"id!D613","v":0},{"$f":"id!E613","v":0}]
[null,{"$f":"id!A614","v":0},{"$f":"id!B614","v":0},{"$f":"id!D614","v":0},{"$f":"id!E614","v":0}]
[null,{"$f":"id!A615","v":0},{"$f":"id!B615","v":0},{"$f":"id!D615","v":0},{"$f":"id!E615","v":0}]
[null,{"$f":"id!A616","v":0},{"$f":"id!B616","v":0},{"$f":"id!D616","v":0},{"$f":"id!E616","v":0}]
[null,{"$f":"id!A617","v":0},{"$f":"id!B617","v":0},{"$f":"id!D617","v":0},{"$f":"id!E617","v":0}]
[null,{"$f":"id!A618","v":0},{"$f":"id!B618","v":0},{"$f":"id!D618","v":0},{"$f":"id!E618","v":0}]
[null,{"$f":"id!A619","v":0},{"$f":"id!B619","v":0},{"$f":"id!D619","v":0},{"$f":"id!E619","v":0}]
[null,{"$f":"id!A620","v":0},{"$f":"id!B620","v":0},{"$f":"id!D620","v":0},{"$f":"id!E620","v":0}]
[null,{"$f":"id!A621","v":0},{"$f":"id!B621","v":0},{"$f":"id!D621","v":0},{"$f":"id!E621","v":0}]
[null,{"$f":"id!A622","v":0},{"$f":"id!B622","v":0},{"$f":"id!D622","v":0},{"$f":"id!E622","v":0}]
[null,{"$f":"id!A623","v":0},{"$f":"id!B623","v":0},{"$f":"id!D623","v":0},{"$f":"id!E623","v":0}]
[null,{"$f":"id!A624","v":0},{"$f":"id!B624","v":0},{"$f":"id!D624","v":0},{"$f":"id!E624","v":0}]
[null,{"$f":"id!A625","v":0},{"$f":"id!B625","v":0},{"$f":"id!D625","v":0},{"$f":"id!E625","v":0}]
[null,{"$f":"id!A626","v":0},{"$f":"id!B626","v":0},{"$f":"id!D626","v":0},{"$f":"id!E626","v":0}]
[null,{"$f":"id!A627","v":0},{"$f":"id!B627","v":0},{"$f":"id!D627","v":0},{"$f":"id!E627","v":0}]
[null,{"$f":"id!A628","v":0},{"$f":"id!B628","v":0},{"$f":"id!D628","v":0},{"$f":"id!E628","v":0}]
[null,{"$f":"id!A629","v":0},{"$f":"id!B629","v":0},{"$f":"id!D629","v":0},{"$f":"id!E629","v":0}]
[null,{"$f":"id!A630","v":0},{"$f":"id!B630","v":0},{"$f":"id!D630","v":0},{"$f":"id!E630","v":0}]
[null,{"$f":"id!A631","v":0},{"$f":"id!B631","v":0},{"$f":"id!D631","v":0},{"$f":"id!E631","v":0}]
[null,{"$f":"id!A632","v":0},{"$f":"id!B632","v":0},{"$f":"id!D632","v":0},{"$f":"id!E632","v":0}]
[null,{"$f":"id!A633","v":0},{"$f":"id!B633","v":0},{"$f":"id!D633","v":0},{"$f":"id!E633","v":0}]
[null,{"$f":"id!A634","v":0},{"$f":"id!B634","v":0},{"$f":"id!D634","v":0},{"$f":"id!E634","v":0}]
[null,{"$f":"id!A635","v":0},{"$f":"id!B635","v":0},{"$f":"id!D635","v":0},{"$f":"id!E635","v":0}]
[null,{"$f":"id!A636","v":0},{"$f":"id!B636","v":0},{"$f":"id!D636","v":0},{"$f":"id!E636","v":0}]
[null,{"$f":"id!A637","v":0},{"$f":"id!B637","v":0},{"$f":"id!D637","v":0},{"$f":"id!E637","v":0}]
[null,{"$f":"id!A638","v":0},{"$f":"id!B638","v":0},{"$f":"id!D638","v":0},{"$f":"id!E638","v":0}]
[null,{"$f":"id!A639","v":0},{"$f":"id!B639","v":0},{"$f":"id!D639","v":0},{"$f":"id!E639","v":0}]
[null,{"$f":"id!A640","v":0},{"$f":"id!B640","v":0},{"$f":"id!D640","v":0},{"$f":"id!E640","v":0}]
[null,{"$f":"id!A641","v":0},{"$f":"id!B641","v":0},{"$f":"id!D641","v":0},{"$f":"id!E641","v":0}]
[null,{"$f":"id!A642","v":0},{"$f":"id!B642","v":0},{"$f":"id!D642","v":0},{"$f":"id!E642","v":0}]
[null,{"$f":"id!A643","v":0},{"$f":"id!B643","v":0},{"$f":"id!D643","v":0},{"$f":"id!E643","v":0}]
[null,{"$f":"id!A644","v":0},{"$f":"id!B644","v":0},{"$f":"id!D644","v":0},{"$f":"id!E644","v":0}]
[null,{"$f":"id!A645","v":0},{"$f":"id!B645","v":0},{"$f":"id!D645","v":0},{"$f":"id!E645","v":0}]
[null,{"$f":"id!A646","v":0},{"$f":"id!B646","v":0},{"$f":"id!D646","v":0},{"$f":"id!E646","v":0}]
[null,{"$f":"id!A647","v":0},{"$f":"id!B647","v":0},{"$f":"id!D647","v":0},{"$f":"id!E647","v":0}]
[null,{"$f":"id!A648","v":0},{"$f":"id!B648","v":0},{"$f":"id!D648","v":0},{"$f":"id!E648","v":0}]
[null,{"$f":"id!A649","v":0},{"$f":"id!B649","v":0},{"$f":"id!D649","v":0},{"$f":"id!E649","v":0}]
[null,{"$f":"id!A650","v":0},{"$f":"id!B650","v":0},{"$f":"id!D650","v":0},{"$f":"id!E650","v":0}]
[null,{"$f":"id!A651","v":0},{"$f":"id!B651","v":0},{"$f":"id!D651","v":0},{"$f":"id!E651","v":0}]
[null,{"$f":"id!A652","v":0},{"$f":"id!B652","v":0},{"$f":"id!D652","v":0},{"$f":"id!E652","v":0}]
[null,{"$f":"id!A653","v":0},{"$f":"id!B653","v":0},{"$f":"id!D653","v":0},{"$f":"id!E653","v":0}]
[null,{"$f":"id!A654","v":0},{"$f":"id!B654","v":0},{"$f":"id!D654","v":0},{"$f":"id!E654","v":0}]
[null,{"$f":"id!A655","v":0},{"$f":"id!B655","v":0},{"$f":"id!D655","v":0},{"$f":"id!E655","v":0}]
[null,{"$f":"id!A656","v":0},{"$f":"id!B656","v":0},{"$f":"id!D656","v":0},{"$f":"id!E656","v":0}]
[null,{"$f":"id!A657","v":0},{"$f":"id!B657","v":0},{"$f":"id!D657","v":0},{"$f":"id!E657","v":0}]
[null,{"$f":"id!A658","v":0},{"$f":"id!B658","v":0},{"$f":"id!D658","v":0},{"$f":"id!E658","v":0}]
[null,{"$f":"id!A659","v":0},{"$f":"id!B659","v":0},{"$f":"id!D659","v":0},{"$f":"id!E659","v":0}]
[null,{"$f":"id!A660","v":0},{"$f":"id!B660","v":0},{"$f":"id!D660","v":0},{"$f":"id!E660","v":0}]
[null,{"$f":"id!A661","v":0},{"$f":"id!B661","v":0},{"$f":"id!D661","v":0},{"$f":"id!E661","v":0}]
[null,{"$f":"id!A662","v":0},{"$f":"id!B662","v":0},{"$f":"id!D662","v":0},{"$f":"id!E662","v":0}]
[null,{"$f":"id!A663","v":0},{"$f":"id!B663","v":0},{"$f":"id!D663","v":0},{"$f":"id!E663","v":0}]
[null,{"$f":"id!A664","v":0},{"$f":"id!B664","v":0},{"$f":"id!D664","v":0},{"$f":"id!E664","v":0}]
[null,{"$f":"id!A665","v":0},{"$f":"id!B665","v":0},{"$f":"id!D665","v":0},{"$f":"id!E665","v":0}]
[null,{"$f":"id!A666","v":0},{"$f":"id!B666","v":0},{"$f":"id!D666","v":0},{"$f":"id!E666","v":0}]
[null,{"$f":"id!A667","v":0},{"$f":"id!B667","v":0},{"$f":"id!D667","v":0},{"$f":"id!E667","v":0}]
[null,{"$f":"id!A668","v":0},{"$f":"id!B668","v":0},{"$f":"id!D668","v":0},{"$f":"id!E668","v":0}]
[null,{"$f":"id!A669","v":0},{"$f":"id!B669","v":0},{"$f":"id!D669","v":0},{"$f":"id!E669","v":0}]
[null,{"$f":"id!A670","v":0},{"$f":"id!B670","v":0},{"$f":"id!D670","v":0},{"$f":"id!E670","v":0}]
[null,{"$f":"id!A671","v":0},{"$f":"id!B671","v":0},{"$f":"id!D671","v":0},{"$f":"id!E671","v":0}]
[null,{"$f":"id!A672","v":0},{"$f":"id!B672","v":0},{"$f":"id!D672","v":0},{"$f":"id!E672","v":0}]
[null,{"$f":"id!A673","v":0},{"$f":"id!B673","v":0},{"$f":"id!D673","v":0},{"$f":"id!E673","v":0}]
[null,{"$f":"id!A674","v":0},{"$f":"id!B674","v":0},{"$f":"id!D674","v":0},{"$f":"id!E674","v":0}]
[null,{"$f":"id!A675","v":0},{"$f":"id!B675","v":0},{"$f":"id!D675","v":0},{"$f":"id!E675","v":0}]
[null,{"$f":"id!A676","v":0},{"$f":"id!B676","v":0},{"$f":"id!D676","v":0},{"$f":"id!E676","v":0}]
[null,{"$f":"id!A677","v":0},{"$f":"id!B677","v":0},{"$f":"id!D677","v":0},{"$f":"id!E677","v":0}]
[null,{"$f":"id!A678","v":0},{"$f":"id!B678","v":0},{"$f":"id!D678","v":0},{"$f":"id!E678","v":0}]
[null,{"$f":"id!A679","v":0},{"$f":"id!B679","v":0},{"$f":"id!D679","v":0},{"$f":"id!E679","v":0}]
[null,{"$f":"id!A680","v":0},{"$f":"id!B680","v":0},{"$f":"id!D680","v":0},{"$f":"id!E680","v":0}]
[null,{"$f":"id!A681","v":0},{"$f":"id!B681","v":0},{"$f":"id!D681","v":0},{"$f":"id!E681","v":0}]
[null,{"$f":"id!A682","v":0},{"$f":"id!B682","v":0},{"$f":"id!D682","v":0},{"$f":"id!E682","v":0}]
[null,{"$f":"id!A683","v":0},{"$f":"id!B683","v":0},{"$f":"id!D683","v":0},{"$f":"id!E683","v":0}]
[null,{"$f":"id!A684","v":0},{"$f":"id!B684","v":0},{"$f":"id!D684","v":0},{"$f":"id!E684","v":0}]
[null,{"$f":"id!A685","v":0},{"$f":"id!B685","v":0},{"$f":"id!D685","v":0},{"$f":"id!E685","v":0}]
[null,{"$f":"id!A686","v":0},{"$f":"id!B686","v":0},{"$f":"id!D686","v":0},{"$f":"id!E686","v":0}]
[null,{"$f":"id!A687","v":0},{"$f":"id!B687","v":0},{"$f":"id!D687","v":0},{"$f":"id!E687","v":0}]
[null,{"$f":"id!A688","v":0},{"$f":"id!B688","v":0},{"$f":"id!D688","v":0},{"$f":"id!E688","v":0}]
[null,{"$f":"id!A689","v":0},{"$f":"id!B689","v":0},{"$f":"id!D689","v":0},{"$f":"id!E689","v":0}]
[null,{"$f":"id!A690","v":0},{"$f":"id!B690","v":0},{"$f":"id!D690","v":0},{"$f":"id!E690","v":0}]
[null,{"$f":"id!A691","v":0},{"$f":"id!B691","v":0},{"$f":"id!D691","v":0},{"$f":"id!E691","v":0}]
[null,{"$f":"id!A692","v":0},{"$f":"id!B692","v":0},{"$f":"id!D692","v":0},{"$f":"id!E692","v":0}]
[null,{"$f":"id!A693","v":0},{"$f":"id!B693","v":0},{"$f":"id!D693","v":0},{"$f":"id!E693","v":0}]
[null,{"$f":"id!A694","v":0},{"$f":"id!B694","v":0},{"$f":"id!D694","v":0},{"$f":"id!E694","v":0}]
[null,{"$f":"id!A695","v":0},{"$f":"id!B695","v":0},{"$f":"id!D695","v":0},{"$f":"id!E695","v":0}]
[null,{"$f":"id!A696","v":0},{"$f":"id!B696","v":0},{"$f":"id!D696","v":0},{"$f":"id!E696","v":0}]
[null,{"$f":"id!A697","v":0},{"$f":"id!B697","v":0},{"$f":"id!D697","v":0},{"$f":"id!E697","v":0}]
[null,{"$f":"id!A698","v":0},{"$f":"id!B698","v":0},{"$f":"id!D698","v":0},{"$f":"id!E698","v":0}]
[null,{"$f":"id!A699","v":0},{"$f":"id!B699","v":0},{"$f":"id!D699","v":0},{"$f":"id!E699","v":0}]
[null,{"$f":"id!A700","v":0},{"$f":"id!B700","v":0},{"$f":"id!D700","v":0},{"$f":"id!E700","v":0}]
[null,{"$f":"id!A701","v":0},{"$f":"id!B701","v":0},{"$f":"id!D701","v":0},{"$f":"id!E701","v":0}]
[null,{"$f":"id!A702","v":0},{"$f":"id!B702","v":0},{"$f":"id!D702","v":0},{"$f":"id!E702","v":0}]
[null,{"$f":"id!A703","v":0},{"$f":"id!B703","v":0},{"$f":"id!D703","v":0},{"$f":"id!E703","v":0}]
[null,{"$f":"id!A704","v":0},{"$f":"id!B704","v":0},{"$f":"id!D704","v":0},{"$f":"id!E704","v":0}]
[null,{"$f":"id!A705","v":0},{"$f":"id!B705","v":0},{"$f":"id!D705","v":0},{"$f":"id!E705","v":0}]
[null,{"$f":"id!A706","v":0},{"$f":"id!B706","v":0},{"$f":"id!D706","v":0},{"$f":"id!E706","v":0}]
[null,{"$f":"id!A707","v":0},{"$f":"id!B707","v":0},{"$f":"id!D707","v":0},{"$f":"id!E707","v":0}]
[null,{"$f":"id!A708","v":0},{"$f":"id!B708","v":0},{"$f":"id!D708","v":0},{"$f":"id!E708","v":0}]
[null,{"$f":"id!A709","v":0},{"$f":"id!B709","v":0},{"$f":"id!D709","v":0},{"$f":"id!E709","v":0}]
[null,{"$f":"id!A710","v":0},{"$f":"id!B710","v":0},{"$f":"id!D710","v":0},{"$f":"id!E710","v":0}]
[null,{"$f":"id!A711","v":0},{"$f":"id!B711","v":0},{"$f":"id!D711","v":0},{"$f":"id!E711","v":0}]
[null,{"$f":"id!A712","v":0},{"$f":"id!B712","v":0},{"$f":"id!D712","v":0},{"$f":"id!E712","v":0}]
[null,{"$f":"id!A713","v":0},{"$f":"id!B713","v":0},{"$f":"id!D713","v":0},{"$f":"id!E713","v":0}]
[null,{"$f":"id!A714","v":0},{"$f":"id!B714","v":0},{"$f":"id!D714","v":0},{"$f":"id!E714","v":0}]
[null,{"$f":"id!A715","v":0},{"$f":"id!B715","v":0},{"$f":"id!D715","v":0},{"$f":"id!E715","v":0}]
[null,{"$f":"id!A716","v":0},{"$f":"id!B716","v":0},{"$f":"id!D716","v":0},{"$f":"id!E716","v":0}]
[null,{"$f":"id!A717","v":0},{"$f":"id!B717","v":0},{"$f":"id!D717","v":0},{"$f":"id!E717","v":0}]
[null,{"$f":"id!A718","v":0},{"$f":"id!B718","v":0},{"$f":"id!D718","v":0},{"$f":"id!E718","v":0}]
[null,{"$f":"id!A719","v":0},{"$f":"id!B719","v":0},{"$f":"id!D719","v":0},{"$f":"id!E719","v":0}]
[null,{"$f":"id!A720","v":0},{"$f":"id!B720","v":0},{"$f":"id!D720","v":0},{"$f":"id!E720","v":0}]
[null,{"$f":"id!A721","v":0},{"$f":"id!B721","v":0},{"$f":"id!D721","v":0},{"$f":"id!E721","v":0}]
[null,{"$f":"id!A722","v":0},{"$f":"id!B722","v":0},{"$f":"id!D722","v":0},{"$f":"id!E722","v":0}]
[null,{"$f":"id!A723","v":0},{"$f":"id!B723","v":0},{"$f":"id!D723","v":0},{"$f":"id!E723","v":0}]
[null,{"$f":"id!A724","v":0},{"$f":"id!B724","v":0},{"$f":"id!D724","v":0},{"$f":"id!E724","v":0}]
[null,{"$f":"id!A725","v":0},{"$f":"id!B725","v":0},{"$f":"id!D725","v":0},{"$f":"id!E725","v":0}]
[null,{"$f":"id!A726","v":0},{"$f":"id!B726","v":0},{"$f":"id!D726","v":0},{"$f":"id!E726","v":0}]
[null,{"$f":"id!A727","v":0},{"$f":"id!B727","v":0},{"$f":"id!D727","v":0},{"$f":"id!E727","v":0}]
[null,{"$f":"id!A728","v":0},{"$f":"id!B728","v":0},{"$f":"id!D728","v":0},{"$f":"id!E728","v":0}]
[null,{"$f":"id!A729","v":0},{"$f":"id!B729","v":0},{"$f":"id!D729","v":0},{"$f":"id!E729","v":0}]
[null,{"$f":"id!A730","v":0},{"$f":"id!B730","v":0},{"$f":"id!D730","v":0},{"$f":"id!E730","v":0}]
[null,{"$f":"id!A731","v":0},{"$f":"id!B731","v":0},{"$f":"id!D731","v":0},{"$f":"id!E731","v":0}]
[null,{"$f":"id!A732","v":0},{"$f":"id!B732","v":0},{"$f":"id!D732","v":0},{"$f":"id!E732","v":0}]
[null,{"$f":"id!A733","v":0},{"$f":"id!B733","v":0},{"$f":"id!D733","v":0},{"$f":"id!E733","v":0}]
[null,{"$f":"id!A734","v":0},{"$f":"id!B734","v":0},{"$f":"id!D734","v":0},{"$f":"id!E734","v":0}]
[null,{"$f":"id!A735","v":0},{"$f":"id!B735","v":0},{"$f":"id!D735","v":0},{"$f":"id!E735","v":0}]
[null,{"$f":"id!A736","v":0},{"$f":"id!B736","v":0},{"$f":"id!D736","v":0},{"$f":"id!E736","v":0}]
[null,{"$f":"id!A737","v":0},{"$f":"id!B737","v":0},{"$f":"id!D737","v":0},{"$f":"id!E737","v":0}]
[null,{"$f":"id!A738","v":0},{"$f":"id!B738","v":0},{"$f":"id!D738","v":0},{"$f":"id!E738","v":0}]
[null,{"$f":"id!A739","v":0},{"$f":"id!B739","v":0},{"$f":"id!D739","v":0},{"$f":"id!E739","v":0}]
[null,{"$f":"id!A740","v":0},{"$f":"id!B740","v":0},{"$f":"id!D740","v":0},{"$f":"id!E740","v":0}]
[null,{"$f":"id!A741","v":0},{"$f":"id!B741","v":0},{"$f":"id!D741","v":0},{"$f":"id!E741","v":0}]
[null,{"$f":"id!A742","v":0},{"$f":"id!B742","v":0},{"$f":"id!D742","v":0},{"$f":"id!E742","v":0}]
[null,{"$f":"id!A743","v":0},{"$f":"id!B743","v":0},{"$f":"id!D743","v":0},{"$f":"id!E743","v":0}]
[null,{"$f":"id!A744","v":0},{"$f":"id!B744","v":0},{"$f":"id!D744","v":0},{"$f":"id!E744","v":0}]
[null,{"$f":"id!A745","v":0},{"$f":"id!B745","v":0},{"$f":"id!D745","v":0},{"$f":"id!E745","v":0}]
[null,{"$f":"id!A746","v":0},{"$f":"id!B746","v":0},{"$f":"id!D746","v":0},{"$f":"id!E746","v":0}]
[null,{"$f":"id!A747","v":0},{"$f":"id!B747","v":0},{"$f":"id!D747","v":0},{"$f":"id!E747","v":0}]
[null,{"$f":"id!A748","v":0},{"$f":"id!B748","v":0},{"$f":"id!D748","v":0},{"$f":"id!E748","v":0}]
[null,{"$f":"id!A749","v":0},{"$f":"id!B749","v":0},{"$f":"id!D749","v":0},{"$f":"id!E749","v":0}]
[null,{"$f":"id!A750","v":0},{"$f":"id!B750","v":0},{"$f":"id!D750","v":0},{"$f":"id!E750","v":0}]
[null,{"$f":"id!A751","v":0},{"$f":"id!B751","v":0},{"$f":"id!D751","v":0},{"$f":"id!E751","v":0}]
[null,{"$f":"id!A752","v":0},{"$f":"id!B752","v":0},{"$f":"id!D752","v":0},{"$f":"id!E752","v":0}]
[null,{"$f":"id!A753","v":0},{"$f":"id!B753","v":0},{"$f":"id!D753","v":0},{"$f":"id!E753","v":0}]
[null,{"$f":"id!A754","v":0},{"$f":"id!B754","v":0},{"$f":"id!D754","v":0},{"$f":"id!E754","v":0}]
[null,{"$f":"id!A755","v":0},{"$f":"id!B755","v":0},{"$f":"id!D755","v":0},{"$f":"id!E755","v":0}]
[null,{"$f":"id!A756","v":0},{"$f":"id!B756","v":0},{"$f":"id!D756","v":0},{"$f":"id!E756","v":0}]
[null,{"$f":"id!A757","v":0},{"$f":"id!B757","v":0},{"$f":"id!D757","v":0},{"$f":"id!E757","v":0}]
[null,{"$f":"id!A758","v":0},{"$f":"id!B758","v":0},{"$f":"id!D758","v":0},{"$f":"id!E758","v":0}]
[null,{"$f":"id!A759","v":0},{"$f":"id!B759","v":0},{"$f":"id!D759","v":0},{"$f":"id!E759","v":0}]
[null,{"$f":"id!A760","v":0},{"$f":"id!B760","v":0},{"$f":"id!D760","v":0},{"$f":"id!E760","v":0}]
[null,{"$f":"id!A761","v":0},{"$f":"id!B761","v":0},{"$f":"id!D761","v":0},{"$f":"id!E761","v":0}]
[null,{"$f":"id!A762","v":0},{"$f":"id!B762","v":0},{"$f":"id!D762","v":0},{"$f":"id!E762","v":0}]
[null,{"$f":"id!A763","v":0},{"$f":"id!B763","v":0},{"$f":"id!D763","v":0},{"$f":"id!E763","v":0}]
[null,{"$f":"id!A764","v":0},{"$f":"id!B764","v":0},{"$f":"id!D764","v":0},{"$f":"id!E764","v":0}]
[null,{"$f":"id!A765","v":0},{"$f":"id!B765","v":0},{"$f":"id!D765","v":0},{"$f":"id!E765","v":0}]
[null,{"$f":"id!A766","v":0},{"$f":"id!B766","v":0},{"$f":"id!D766","v":0},{"$f":"id!E766","v":0}]
[null,{"$f":"id!A767","v":0},{"$f":"id!B767","v":0},{"$f":"id!D767","v":0},{"$f":"id!E767","v":0}]
[null,{"$f":"id!A768","v":0},{"$f":"id!B768","v":0},{"$f":"id!D768","v":0},{"$f":"id!E768","v":0}]
[null,{"$f":"id!A769","v":0},{"$f":"id!B769","v":0},{"$f":"id!D769","v":0},{"$f":"id!E769","v":0}]
[null,{"$f":"id!A770","v":0},{"$f":"id!B770","v":0},{"$f":"id!D770","v":0},{"$f":"id!E770","v":0}]
[null,{"$f":"id!A771","v":0},{"$f":"id!B771","v":0},{"$f":"id!D771","v":0},{"$f":"id!E771","v":0}]
[null,{"$f":"id!A772","v":0},{"$f":"id!B772","v":0},{"$f":"id!D772","v":0},{"$f":"id!E772","v":0}]
[null,{"$f":"id!A773","v":0},{"$f":"id!B773","v":0},{"$f":"id!D773","v":0},{"$f":"id!E773","v":0}]
[null,{"$f":"id!A774","v":0},{"$f":"id!B774","v":0},{"$f":"id!D774","v":0},{"$f":"id!E774","v":0}]
[null,{"$f":"id!A775","v":0},{"$f":"id!B775","v":0},{"$f":"id!D775","v":0},{"$f":"id!E775","v":0}]
[null,{"$f":"id!A776","v":0},{"$f":"id!B776","v":0},{"$f":"id!D776","v":0},{"$f":"id!E776","v":0}]
[null,{"$f":"id!A777","v":0},{"$f":"id!B777","v":0},{"$f":"id!D777","v":0},{"$f":"id!E777","v":0}]
[null,{"$f":"id!A778","v":0},{"$f":"id!B778","v":0},{"$f":"id!D778","v":0},{"$f":"id!E778","v":0}]
[null,{"$f":"id!A779","v":0},{"$f":"id!B779","v":0},{"$f":"id!D779","v":0},{"$f":"id!E779","v":0}]
[null,{"$f":"id!A780","v":0},{"$f":"id!B780","v":0},{"$f":"id!D780","v":0},{"$f":"id!E780","v":0}]
[null,{"$f":"id!A781","v":0},{"$f":"id!B781","v":0},{"$f":"id!D781","v":0},{"$f":"id!E781","v":0}]
[null,{"$f":"id!A782","v":0},{"$f":"id!B782","v":0},{"$f":"id!D782","v":0},{"$f":"id!E782","v":0}]
[null,{"$f":"id!A783","v":0},{"$f":"id!B783","v":0},{"$f":"id!D783","v":0},{"$f":"id!E783","v":0}]
[null,{"$f":"id!A784","v":0},{"$f":"id!B784","v":0},{"$f":"id!D784","v":0},{"$f":"id!E784","v":0}]
[null,{"$f":"id!A785","v":0},{"$f":"id!B785","v":0},{"$f":"id!D785","v":0},{"$f":"id!E785","v":0}]
[null,{"$f":"id!A786","v":0},{"$f":"id!B786","v":0},{"$f":"id!D786","v":0},{"$f":"id!E786","v":0}]
[null,{"$f":"id!A787","v":0},{"$f":"id!B787","v":0},{"$f":"id!D787","v":0},{"$f":"id!E787","v":0}]
[null,{"$f":"id!A788","v":0},{"$f":"id!B788","v":0},{"$f":"id!D788","v":0},{"$f":"id!E788","v":0}]
[null,{"$f":"id!A789","v":0},{"$f":"id!B789","v":0},{"$f":"id!D789","v":0},{"$f":"id!E789","v":0}]
[null,{"$f":"id!A790","v":0},{"$f":"id!B790","v":0},{"$f":"id!D790","v":0},{"$f":"id!E790","v":0}]
[null,{"$f":"id!A791","v":0},{"$f":"id!B791","v":0},{"$f":"id!D791","v":0},{"$f":"id!E791","v":0}]
[null,{"$f":"id!A792","v":0},{"$f":"id!B792","v":0},{"$f":"id!D792","v":0},{"$f":"id!E792","v":0}]
[null,{"$f":"id!A793","v":0},{"$f":"id!B793","v":0},{"$f":"id!D793","v":0},{"$f":"id!E793","v":0}]
[null,{"$f":"id!A794","v":0},{"$f":"id!B794","v":0},{"$f":"id!D794","v":0},{"$f":"id!E794","v":0}]
[null,{"$f":"id!A795","v":0},{"$f":"id!B795","v":0},{"$f":"id!D795","v":0},{"$f":"id!E795","v":0}]
[null,{"$f":"id!A796","v":0},{"$f":"id!B796","v":0},{"$f":"id!D796","v":0},{"$f":"id!E796","v":0}]
[null,{"$f":"id!A797","v":0},{"$f":"id!B797","v":0},{"$f":"id!D797","v":0},{"$f":"id!E797","v":0}]
[null,{"$f":"id!A798","v":0},{"$f":"id!B798","v":0},{"$f":"id!D798","v":0},{"$f":"id!E798","v":0}]
[null,{"$f":"id!A799","v":0},{"$f":"id!B799","v":0},{"$f":"id!D799","v":0},{"$f":"id!E799","v":0}]
[null,{"$f":"id!A800","v":0},{"$f":"id!B800","v":0},{"$f":"id!D800","v":0},{"$f":"id!E800","v":0}]
[null,{"$f":"id!A801","v":0},{"$f":"id!B801","v":0},{"$f":"id!D801","v":0},{"$f":"id!E801","v":0}]
[null,{"$f":"id!A802","v":0},{"$f":"id!B802","v":0},{"$f":"id!D802","v":0},{"$f":"id!E802","v":0}]
[null,{"$f":"id!A803","v":0},{"$f":"id!B803","v":0},{"$f":"id!D803","v":0},{"$f":"id!E803","v":0}]
[null,{"$f":"id!A804","v":0},{"$f":"id!B804","v":0},{"$f":"id!D804","v":0},{"$f":"id!E804","v":0}]
[null,{"$f":"id!A805","v":0},{"$f":"id!B805","v":0},{"$f":"id!D805","v":0},{"$f":"id!E805","v":0}]
[null,{"$f":"id!A806","v":0},{"$f":"id!B806","v":0},{"$f":"id!D806","v":0},{"$f":"id!E806","v":0}]
[null,{"$f":"id!A807","v":0},{"$f":"id!B807","v":0},{"$f":"id!D807","v":0},{"$f":"id!E807","v":0}]
[null,{"$f":"id!A808","v":0},{"$f":"id!B808","v":0},{"$f":"id!D808","v":0},{"$f":"id!E808","v":0}]
[null,{"$f":"id!A809","v":0},{"$f":"id!B809","v":0},{"$f":"id!D809","v":0},{"$f":"id!E809","v":0}]
[null,{"$f":"id!A810","v":0},{"$f":"id!B810","v":0},{"$f":"id!D810","v":0},{"$f":"id!E810","v":0}]
[null,{"$f":"id!A811","v":0},{"$f":"id!B811","v":0},{"$f":"id!D811","v":0},{"$f":"id!E811","v":0}]
[null,{"$f":"id!A812","v":0},{"$f":"id!B812","v":0},{"$f":"id!D812","v":0},{"$f":"id!E812","v":0}]
[null,{"$f":"id!A813","v":0},{"$f":"id!B813","v":0},{"$f":"id!D813","v":0},{"$f":"id!E813","v":0}]
[null,{"$f":"id!A814","v":0},{"$f":"id!B814","v":0},{"$f":"id!D814","v":0},{"$f":"id!E814","v":0}]
[null,{"$f":"id!A815","v":0},{"$f":"id!B815","v":0},{"$f":"id!D815","v":0},{"$f":"id!E815","v":0}]
[null,{"$f":"id!A816","v":0},{"$f":"id!B816","v":0},{"$f":"id!D816","v":0},{"$f":"id!E816","v":0}]
[null,{"$f":"id!A817","v":0},{"$f":"id!B817","v":0},{"$f":"id!D817","v":0},{"$f":"id!E817","v":0}]
[null,{"$f":"id!A818","v":0},{"$f":"id!B818","v":0},{"$f":"id!D818","v":0},{"$f":"id!E818","v":0}]
[null,{"$f":"id!A819","v":0},{"$f":"id!B819","v":0},{"$f":"id!D819","v":0},{"$f":"id!E819","v":0}]
[null,{"$f":"id!A820","v":0},{"$f":"id!B820","v":0},{"$f":"id!D820","v":0},{"$f":"id!E820","v":0}]
[null,{"$f":"id!A821","v":0},{"$f":"id!B821","v":0},{"$f":"id!D821","v":0},{"$f":"id!E821","v":0}]
[null,{"$f":"id!A822","v":0},{"$f":"id!B822","v":0},{"$f":"id!D822","v":0},{"$f":"id!E822","v":0}]
[null,{"$f":"id!A823","v":0},{"$f":"id!B823","v":0},{"$f":"id!D823","v":0},{"$f":"id!E823","v":0}]
[null,{"$f":"id!A824","v":0},{"$f":"id!B824","v":0},{"$f":"id!D824","v":0},{"$f":"id!E824","v":0}]
[null,{"$f":"id!A825","v":0},{"$f":"id!B825","v":0},{"$f":"id!D825","v":0},{"$f":"id!E825","v":0}]
[null,{"$f":"id!A826","v":0},{"$f":"id!B826","v":0},{"$f":"id!D826","v":0},{"$f":"id!E826","v":0}]
[null,{"$f":"id!A827","v":0},{"$f":"id!B827","v":0},{"$f":"id!D827","v":0},{"$f":"id!E827","v":0}]
[null,{"$f":"id!A828","v":0},{"$f":"id!B828","v":0},{"$f":"id!D828","v":0},{"$f":"id!E828","v":0}]
[null,{"$f":"id!A829","v":0},{"$f":"id!B829","v":0},{"$f":"id!D829","v":0},{"$f":"id!E829","v":0}]
[null,{"$f":"id!A830","v":0},{"$f":"id!B830","v":0},{"$f":"id!D830","v":0},{"$f":"id!E830","v":0}]
[null,{"$f":"id!A831","v":0},{"$f":"id!B831","v":0},{"$f":"id!D831","v":0},{"$f":"id!E831","v":0}]
[null,{"$f":"id!A832","v":0},{"$f":"id!B832","v":0},{"$f":"id!D832","v":0},{"$f":"id!E832","v":0}]
[null,{"$f":"id!A833","v":0},{"$f":"id!B833","v":0},{"$f":"id!D833","v":0},{"$f":"id!E833","v":0}]
[null,{"$f":"id!A834","v":0},{"$f":"id!B834","v":0},{"$f":"id!D834","v":0},{"$f":"id!E834","v":0}]
[null,{"$f":"id!A835","v":0},{"$f":"id!B835","v":0},{"$f":"id!D835","v":0},{"$f":"id!E835","v":0}]
[null,{"$f":"id!A836","v":0},{"$f":"id!B836","v":0},{"$f":"id!D836","v":0},{"$f":"id!E836","v":0}]
[null,{"$f":"id!A837","v":0},{"$f":"id!B837","v":0},{"$f":"id!D837","v":0},{"$f":"id!E837","v":0}]
[null,{"$f":"id!A838","v":0},{"$f":"id!B838","v":0},{"$f":"id!D838","v":0},{"$f":"id!E838","v":0}]
[null,{"$f":"id!A839","v":0},{"$f":"id!B839","v":0},{"$f":"id!D839","v":0},{"$f":"id!E839","v":0}]
[null,{"$f":"id!A840","v":0},{"$f":"id!B840","v":0},{"$f":"id!D840","v":0},{"$f":"id!E840","v":0}]
[null,{"$f":"id!A841","v":0},{"$f":"id!B841","v":0},{"$f":"id!D841","v":0},{"$f":"id!E841","v":0}]
[null,{"$f":"id!A842","v":0},{"$f":"id!B842","v":0},{"$f":"id!D842","v":0},{"$f":"id!E842","v":0}]
[null,{"$f":"id!A843","v":0},{"$f":"id!B843","v":0},{"$f":"id!D843","v":0},{"$f":"id!E843","v":0}]
[null,{"$f":"id!A844","v":0},{"$f":"id!B844","v":0},{"$f":"id!D844","v":0},{"$f":"id!E844","v":0}]
[null,{"$f":"id!A845","v":0},{"$f":"id!B845","v":0},{"$f":"id!D845","v":0},{"$f":"id!E845","v":0}]
[null,{"$f":"id!A846","v":0},{"$f":"id!B846","v":0},{"$f":"id!D846","v":0},{"$f":"id!E846","v":0}]
[null,{"$f":"id!A847","v":0},{"$f":"id!B847","v":0},{"$f":"id!D847","v":0},{"$f":"id!E847","v":0}]
[null,{"$f":"id!A848","v":0},{"$f":"id!B848","v":0},{"$f":"id!D848","v":0},{"$f":"id!E848","v":0}]
[null,{"$f":"id!A849","v":0},{"$f":"id!B849","v":0},{"$f":"id!D849","v":0},{"$f":"id!E849","v":0}]
[null,{"$f":"id!A850","v":0},{"$f":"id!B850","v":0},{"$f":"id!D850","v":0},{"$f":"id!E850","v":0}]
[null,{"$f":"id!A851","v":0},{"$f":"id!B851","v":0},{"$f":"id!D851","v":0},{"$f":"id!E851","v":0}]
[null,{"$f":"id!A852","v":0},{"$f":"id!B852","v":0},{"$f":"id!D852","v":0},{"$f":"id!E852","v":0}]
[null,{"$f":"id!A853","v":0},{"$f":"id!B853","v":0},{"$f":"id!D853","v":0},{"$f":"id!E853","v":0}]
[null,{"$f":"id!A854","v":0},{"$f":"id!B854","v":0},{"$f":"id!D854","v":0},{"$f":"id!E854","v":0}]
[null,{"$f":"id!A855","v":0},{"$f":"id!B855","v":0},{"$f":"id!D855","v":0},{"$f":"id!E855","v":0}]
[null,{"$f":"id!A856","v":0},{"$f":"id!B856","v":0},{"$f":"id!D856","v":0},{"$f":"id!E856","v":0}]
[null,{"$f":"id!A857","v":0},{"$f":"id!B857","v":0},{"$f":"id!D857","v":0},{"$f":"id!E857","v":0}]
[null,{"$f":"id!A858","v":0},{"$f":"id!B858","v":0},{"$f":"id!D858","v":0},{"$f":"id!E858","v":0}]
[null,{"$f":"id!A859","v":0},{"$f":"id!B859","v":0},{"$f":"id!D859","v":0},{"$f":"id!E859","v":0}]
[null,{"$f":"id!A860","v":0},{"$f":"id!B860","v":0},{"$f":"id!D860","v":0},{"$f":"id!E860","v":0}]
[null,{"$f":"id!A861","v":0},{"$f":"id!B861","v":0},{"$f":"id!D861","v":0},{"$f":"id!E861","v":0}]
[null,{"$f":"id!A862","v":0},{"$f":"id!B862","v":0},{"$f":"id!D862","v":0},{"$f":"id!E862","v":0}]
[null,{"$f":"id!A863","v":0},{"$f":"id!B863","v":0},{"$f":"id!D863","v":0},{"$f":"id!E863","v":0}]
[null,{"$f":"id!A864","v":0},{"$f":"id!B864","v":0},{"$f":"id!D864","v":0},{"$f":"id!E864","v":0}]
[null,{"$f":"id!A865","v":0},{"$f":"id!B865","v":0},{"$f":"id!D865","v":0},{"$f":"id!E865","v":0}]
[null,{"$f":"id!A866","v":0},{"$f":"id!B866","v":0},{"$f":"id!D866","v":0},{"$f":"id!E866","v":0}]
[null,{"$f":"id!A867","v":0},{"$f":"id!B867","v":0},{"$f":"id!D867","v":0},{"$f":"id!E867","v":0}]
[null,{"$f":"id!A868","v":0},{"$f":"id!B868","v":0},{"$f":"id!D868","v":0},{"$f":"id!E868","v":0}]
[null,{"$f":"id!A869","v":0},{"$f":"id!B869","v":0},{"$f":"id!D869","v":0},{"$f":"id!E869","v":0}]
[null,{"$f":"id!A870","v":0},{"$f":"id!B870","v":0},{"$f":"id!D870","v":0},{"$f":"id!E870","v":0}]
[null,{"$f":"id!A871","v":0},{"$f":"id!B871","v":0},{"$f":"id!D871","v":0},{"$f":"id!E871","v":0}]
[null,{"$f":"id!A872","v":0},{"$f":"id!B872","v":0},{"$f":"id!D872","v":0},{"$f":"id!E872","v":0}]
[null,{"$f":"id!A873","v":0},{"$f":"id!B873","v":0},{"$f":"id!D873","v":0},{"$f":"id!E873","v":0}]
[null,{"$f":"id!A874","v":0},{"$f":"id!B874","v":0},{"$f":"id!D874","v":0},{"$f":"id!E874","v":0}]
[null,{"$f":"id!A875","v":0},{"$f":"id!B875","v":0},{"$f":"id!D875","v":0},{"$f":"id!E875","v":0}]
[null,{"$f":"id!A876","v":0},{"$f":"id!B876","v":0},{"$f":"id!D876","v":0},{"$f":"id!E876","v":0}]
[null,{"$f":"id!A877","v":0},{"$f":"id!B877","v":0},{"$f":"id!D877","v":0},{"$f":"id!E877","v":0}]
[null,{"$f":"id!A878","v":0},{"$f":"id!B878","v":0},{"$f":"id!D878","v":0},{"$f":"id!E878","v":0}]
[null,{"$f":"id!A879","v":0},{"$f":"id!B879","v":0},{"$f":"id!D879","v":0},{"$f":"id!E879","v":0}]
[null,{"$f":"id!A880","v":0},{"$f":"id!B880","v":0},{"$f":"id!D880","v":0},{"$f":"id!E880","v":0}]
[null,{"$f":"id!A881","v":0},{"$f":"id!B881","v":0},{"$f":"id!D881","v":0},{"$f":"id!E881","v":0}]
[null,{"$f":"id!A882","v":0},{"$f":"id!B882","v":0},{"$f":"id!D882","v":0},{"$f":"id!E882","v":0}]
[null,{"$f":"id!A883","v":0},{"$f":"id!B883","v":0},{"$f":"id!D883","v":0},{"$f":"id!E883","v":0}]
[null,{"$f":"id!A884","v":0},{"$f":"id!B884","v":0},{"$f":"id!D884","v":0},{"$f":"id!E884","v":0}]
[null,{"$f":"id!A885","v":0},{"$f":"id!B885","v":0},{"$f":"id!D885","v":0},{"$f":"id!E885","v":0}]
[null,{"$f":"id!A886","v":0},{"$f":"id!B886","v":0},{"$f":"id!D886","v":0},{"$f":"id!E886","v":0}]
[null,{"$f":"id!A887","v":0},{"$f":"id!B887","v":0},{"$f":"id!D887","v":0},{"$f":"id!E887","v":0}]
[null,{"$f":"id!A888","v":0},{"$f":"id!B888","v":0},{"$f":"id!D888","v":0},{"$f":"id!E888","v":0}]
[null,{"$f":"id!A889","v":0},{"$f":"id!B889","v":0},{"$f":"id!D889","v":0},{"$f":"id!E889","v":0}]
[null,{"$f":"id!A890","v":0},{"$f":"id!B890","v":0},{"$f":"id!D890","v":0},{"$f":"id!E890","v":0}]
[null,{"$f":"id!A891","v":0},{"$f":"id!B891","v":0},{"$f":"id!D891","v":0},{"$f":"id!E891","v":0}]
[null,{"$f":"id!A892","v":0},{"$f":"id!B892","v":0},{"$f":"id!D892","v":0},{"$f":"id!E892","v":0}]
[null,{"$f":"id!A893","v":0},{"$f":"id!B893","v":0},{"$f":"id!D893","v":0},{"$f":"id!E893","v":0}]
[null,{"$f":"id!A894","v":0},{"$f":"id!B894","v":0},{"$f":"id!D894","v":0},{"$f":"id!E894","v":0}]
[null,{"$f":"id!A895","v":0},{"$f":"id!B895","v":0},{"$f":"id!D895","v":0},{"$f":"id!E895","v":0}]
[null,{"$f":"id!A896","v":0},{"$f":"id!B896","v":0},{"$f":"id!D896","v":0},{"$f":"id!E896","v":0}]
[null,{"$f":"id!A897","v":0},{"$f":"id!B897","v":0},{"$f":"id!D897","v":0},{"$f":"id!E897","v":0}]
[null,{"$f":"id!A898","v":0},{"$f":"id!B898","v":0},{"$f":"id!D898","v":0},{"$f":"id!E898","v":0}]
[null,{"$f":"id!A899","v":0},{"$f":"id!B899","v":0},{"$f":"id!D899","v":0},{"$f":"id!E899","v":0}]
[null,{"$f":"id!A900","v":0},{"$f":"id!B900","v":0},{"$f":"id!D900","v":0},{"$f":"id!E900","v":0}]
[null,{"$f":"id!A901","v":0},{"$f":"id!B901","v":0},{"$f":"id!D901","v":0},{"$f":"id!E901","v":0}]
[null,{"$f":"id!A902","v":0},{"$f":"id!B902","v":0},{"$f":"id!D902","v":0},{"$f":"id!E902","v":0}]
[null,{"$f":"id!A903","v":0},{"$f":"id!B903","v":0},{"$f":"id!D903","v":0},{"$f":"id!E903","v":0}]
[null,{"$f":"id!A904","v":0},{"$f":"id!B904","v":0},{"$f":"id!D904","v":0},{"$f":"id!E904","v":0}]
[null,{"$f":"id!A905","v":0},{"$f":"id!B905","v":0},{"$f":"id!D905","v":0},{"$f":"id!E905","v":0}]
[null,{"$f":"id!A906","v":0},{"$f":"id!B906","v":0},{"$f":"id!D906","v":0},{"$f":"id!E906","v":0}]
[null,{"$f":"id!A907","v":0},{"$f":"id!B907","v":0},{"$f":"id!D907","v":0},{"$f":"id!E907","v":0}]
[null,{"$f":"id!A908","v":0},{"$f":"id!B908","v":0},{"$f":"id!D908","v":0},{"$f":"id!E908","v":0}]
[null,{"$f":"id!A909","v":0},{"$f":"id!B909","v":0},{"$f":"id!D909","v":0},{"$f":"id!E909","v":0}]
[null,{"$f":"id!A910","v":0},{"$f":"id!B910","v":0},{"$f":"id!D910","v":0},{"$f":"id!E910","v":0}]
[null,{"$f":"id!A911","v":0},{"$f":"id!B911","v":0},{"$f":"id!D911","v":0},{"$f":"id!E911","v":0}]
[null,{"$f":"id!A912","v":0},{"$f":"id!B912","v":0},{"$f":"id!D912","v":0},{"$f":"id!E912","v":0}]
[null,{"$f":"id!A913","v":0},{"$f":"id!B913","v":0},{"$f":"id!D913","v":0},{"$f":"id!E913","v":0}]
[null,{"$f":"id!A914","v":0},{"$f":"id!B914","v":0},{"$f":"id!D914","v":0},{"$f":"id!E914","v":0}]
[null,{"$f":"id!A915","v":0},{"$f":"id!B915","v":0},{"$f":"id!D915","v":0},{"$f":"id!E915","v":0}]
[null,{"$f":"id!A916","v":0},{"$f":"id!B916","v":0},{"$f":"id!D916","v":0},{"$f":"id!E916","v":0}]
[null,{"$f":"id!A917","v":0},{"$f":"id!B917","v":0},{"$f":"id!D917","v":0},{"$f":"id!E917","v":0}]
[null,{"$f":"id!A918","v":0},{"$f":"id!B918","v":0},{"$f":"id!D918","v":0},{"$f":"id!E918","v":0}]
[null,{"$f":"id!A919","v":0},{"$f":"id!B919","v":0},{"$f":"id!D919","v":0},{"$f":"id!E919","v":0}]
[null,{"$f":"id!A920","v":0},{"$f":"id!B920","v":0},{"$f":"id!D920","v":0},{"$f":"id!E920","v":0}]
[null,{"$f":"id!A921","v":0},{"$f":"id!B921","v":0},{"$f":"id!D921","v":0},{"$f":"id!E921","v":0}]
[null,{"$f":"id!A922","v":0},{"$f":"id!B922","v":0},{"$f":"id!D922","v":0},{"$f":"id!E922","v":0}]
[null,{"$f":"id!A923","v":0},{"$f":"id!B923","v":0},{"$f":"id!D923","v":0},{"$f":"id!E923","v":0}]
[null,{"$f":"id!A924","v":0},{"$f":"id!B924","v":0},{"$f":"id!D924","v":0},{"$f":"id!E924","v":0}]
[null,{"$f":"id!A925","v":0},{"$f":"id!B925","v":0},{"$f":"id!D925","v":0},{"$f":"id!E925","v":0}]
[null,{"$f":"id!A926","v":0},{"$f":"id!B926","v":0},{"$f":"id!D926","v":0},{"$f":"id!E926","v":0}]
[null,{"$f":"id!A927","v":0},{"$f":"id!B927","v":0},{"$f":"id!D927","v":0},{"$f":"id!E927","v":0}]
[null,{"$f":"id!A928","v":0},{"$f":"id!B928","v":0},{"$f":"id!D928","v":0},{"$f":"id!E928","v":0}]
[null,{"$f":"id!A929","v":0},{"$f":"id!B929","v":0},{"$f":"id!D929","v":0},{"$f":"id!E929","v":0}]
[null,{"$f":"id!A930","v":0},{"$f":"id!B930","v":0},{"$f":"id!D930","v":0},{"$f":"id!E930","v":0}]
[null,{"$f":"id!A931","v":0},{"$f":"id!B931","v":0},{"$f":"id!D931","v":0},{"$f":"id!E931","v":0}]
[null,{"$f":"id!A932","v":0},{"$f":"id!B932","v":0},{"$f":"id!D932","v":0},{"$f":"id!E932","v":0}]
[null,{"$f":"id!A933","v":0},{"$f":"id!B933","v":0},{"$f":"id!D933","v":0},{"$f":"id!E933","v":0}]
[null,{"$f":"id!A934","v":0},{"$f":"id!B934","v":0},{"$f":"id!D934","v":0},{"$f":"id!E934","v":0}]
[null,{"$f":"id!A935","v":0},{"$f":"id!B935","v":0},{"$f":"id!D935","v":0},{"$f":"id!E935","v":0}]
[null,{"$f":"id!A936","v":0},{"$f":"id!B936","v":0},{"$f":"id!D936","v":0},{"$f":"id!E936","v":0}]
[null,{"$f":"id!A937","v":0},{"$f":"id!B937","v":0},{"$f":"id!D937","v":0},{"$f":"id!E937","v":0}]
[null,{"$f":"id!A938","v":0},{"$f":"id!B938","v":0},{"$f":"id!D938","v":0},{"$f":"id!E938","v":0}]
[null,{"$f":"id!A939","v":0},{"$f":"id!B939","v":0},{"$f":"id!D939","v":0},{"$f":"id!E939","v":0}]
[null,{"$f":"id!A940","v":0},{"$f":"id!B940","v":0},{"$f":"id!D940","v":0},{"$f":"id!E940","v":0}]
[null,{"$f":"id!A941","v":0},{"$f":"id!B941","v":0},{"$f":"id!D941","v":0},{"$f":"id!E941","v":0}]
[null,{"$f":"id!A942","v":0},{"$f":"id!B942","v":0},{"$f":"id!D942","v":0},{"$f":"id!E942","v":0}]
[null,{"$f":"id!A943","v":0},{"$f":"id!B943","v":0},{"$f":"id!D943","v":0},{"$f":"id!E943","v":0}]
[null,{"$f":"id!A944","v":0},{"$f":"id!B944","v":0},{"$f":"id!D944","v":0},{"$f":"id!E944","v":0}]
[null,{"$f":"id!A945","v":0},{"$f":"id!B945","v":0},{"$f":"id!D945","v":0},{"$f":"id!E945","v":0}]
[null,{"$f":"id!A946","v":0},{"$f":"id!B946","v":0},{"$f":"id!D946","v":0},{"$f":"id!E946","v":0}]
[null,{"$f":"id!A947","v":0},{"$f":"id!B947","v":0},{"$f":"id!D947","v":0},{"$f":"id!E947","v":0}]
[null,{"$f":"id!A948","v":0},{"$f":"id!B948","v":0},{"$f":"id!D948","v":0},{"$f":"id!E948","v":0}]
[null,{"$f":"id!A949","v":0},{"$f":"id!B949","v":0},{"$f":"id!D949","v":0},{"$f":"id!E949","v":0}]
[null,{"$f":"id!A950","v":0},{"$f":"id!B950","v":0},{"$f":"id!D950","v":0},{"$f":"id!E950","v":0}]
[null,{"$f":"id!A951","v":0},{"$f":"id!B951","v":0},{"$f":"id!D951","v":0},{"$f":"id!E951","v":0}]
[null,{"$f":"id!A952","v":0},{"$f":"id!B952","v":0},{"$f":"id!D952","v":0},{"$f":"id!E952","v":0}]
[null,{"$f":"id!A953","v":0},{"$f":"id!B953","v":0},{"$f":"id!D953","v":0},{"$f":"id!E953","v":0}]
[null,{"$f":"id!A954","v":0},{"$f":"id!B954","v":0},{"$f":"id!D954","v":0},{"$f":"id!E954","v":0}]
[null,{"$f":"id!A955","v":0},{"$f":"id!B955","v":0},{"$f":"id!D955","v":0},{"$f":"id!E955","v":0}]
[null,{"$f":"id!A956","v":0},{"$f":"id!B956","v":0},{"$f":"id!D956","v":0},{"$f":"id!E956","v":0}]
[null,{"$f":"id!A957","v":0},{"$f":"id!B957","v":0},{"$f":"id!D957","v":0},{"$f":"id!E957","v":0}]
[null,{"$f":"id!A958","v":0},{"$f":"id!B958","v":0},{"$f":"id!D958","v":0},{"$f":"id!E958","v":0}]
[null,{"$f":"id!A959","v":0},{"$f":"id!B959","v":0},{"$f":"id!D959","v":0},{"$f":"id!E959","v":0}]
[null,{"$f":"id!A960","v":0},{"$f":"id!B960","v":0},{"$f":"id!D960","v":0},{"$f":"id!E960","v":0}]
[null,{"$f":"id!A961","v":0},{"$f":"id!B961","v":0},{"$f":"id!D961","v":0},{"$f":"id!E961","v":0}]
[null,{"$f":"id!A962","v":0},{"$f":"id!B962","v":0},{"$f":"id!D962","v":0},{"$f":"id!E962","v":0}]
[null,{"$f":"id!A963","v":0},{"$f":"id!B963","v":0},{"$f":"id!D963","v":0},{"$f":"id!E963","v":0}]
[null,{"$f":"id!A964","v":0},{"$f":"id!B964","v":0},{"$f":"id!D964","v":0},{"$f":"id!E964","v":0}]
[null,{"$f":"id!A965","v":0},{"$f":"id!B965","v":0},{"$f":"id!D965","v":0},{"$f":"id!E965","v":0}]
[null,{"$f":"id!A966","v":0},{"$f":"id!B966","v":0},{"$f":"id!D966","v":0},{"$f":"id!E966","v":0}]
[null,{"$f":"id!A967","v":0},{"$f":"id!B967","v":0},{"$f":"id!D967","v":0},{"$f":"id!E967","v":0}]
[null,{"$f":"id!A968","v":0},{"$f":"id!B968","v":0},{"$f":"id!D968","v":0},{"$f":"id!E968","v":0}]
[null,{"$f":"id!A969","v":0},{"$f":"id!B969","v":0},{"$f":"id!D969","v":0},{"$f":"id!E969","v":0}]
[null,{"$f":"id!A970","v":0},{"$f":"id!B970","v":0},{"$f":"id!D970","v":0},{"$f":"id!E970","v":0}]
[null,{"$f":"id!A971","v":0},{"$f":"id!B971","v":0},{"$f":"id!D971","v":0},{"$f":"id!E971","v":0}]
[null,{"$f":"id!A972","v":0},{"$f":"id!B972","v":0},{"$f":"id!D972","v":0},{"$f":"id!E972","v":0}]
[null,{"$f":"id!A973","v":0},{"$f":"id!B973","v":0},{"$f":"id!D973","v":0},{"$f":"id!E973","v":0}]
[null,{"$f":"id!A974","v":0},{"$f":"id!B974","v":0},{"$f":"id!D974","v":0},{"$f":"id!E974","v":0}]
[null,{"$f":"id!A975","v":0},{"$f":"id!B975","v":0},{"$f":"id!D975","v":0},{"$f":"id!E975","v":0}]
[null,{"$f":"id!A976","v":0},{"$f":"id!B976","v":0},{"$f":"id!D976","v":0},{"$f":"id!E976","v":0}]
[null,{"$f":"id!A977","v":0},{"$f":"id!B977","v":0},{"$f":"id!D977","v":0},{"$f":"id!E977","v":0}]
[null,{"$f":"id!A978","v":0},{"$f":"id!B978","v":0},{"$f":"id!D978","v":0},{"$f":"id!E978","v":0}]
[null,{"$f":"id!A979","v":0},{"$f":"id!B979","v":0},{"$f":"id!D979","v":0},{"$f":"id!E979","v":0}]
[null,{"$f":"id!A980","v":0},{"$f":"id!B980","v":0},{"$f":"id!D980","v":0},{"$f":"id!E980","v":0}]
[null,{"$f":"id!A981","v":0},{"$f":"id!B981","v":0},{"$f":"id!D981","v":0},{"$f":"id!E981","v":0}]
[null,{"$f":"id!A982","v":0},{"$f":"id!B982","v":0},{"$f":"id!D982","v":0},{"$f":"id!E982","v":0}]
[null,{"$f":"id!A983","v":0},{"$f":"id!B983","v":0},{"$f":"id!D983","v":0},{"$f":"id!E983","v":0}]
[null,{"$f":"id!A984","v":0},{"$f":"id!B984","v":0},{"$f":"id!D984","v":0},{"$f":"id!E984","v":0}]
[null,{"$f":"id!A985","v":0},{"$f":"id!B985","v":0},{"$f":"id!D985","v":0},{"$f":"id!E985","v":0}]
[null,{"$f":"id!A986","v":0},{"$f":"id!B986","v":0},{"$f":"id!D986","v":0},{"$f":"id!E986","v":0}]
[null,{"$f":"id!A987","v":0},{"$f":"id!B987","v":0},{"$f":"id!D987","v":0},{"$f":"id!E987","v":0}]
[null,{"$f":"id!A988","v":0},{"$f":"id!B988","v":0},{"$f":"id!D988","v":0},{"$f":"id!E988","v":0}]
[null,{"$f":"id!A989","v":0},{"$f":"id!B989","v":0},{"$f":"id!D989","v":0},{"$f":"id!E989","v":0}]
[null,{"$f":"id!A990","v":0},{"$f":"id!B990","v":0},{"$f":"id!D990","v":0},{"$f":"id!E990","v":0}]
[null,{"$f":"id!A991","v":0},{"$f":"id!B991","v":0},{"$f":"id!D991","v":0},{"$f":"id!E991","v":0}]
[null,{"$f":"id!A992","v":0},{"$f":"id!B992","v":0},{"$f":"id!D992","v":0},{"$f":"id!E992","v":0}]
[null,{"$f":"id!A993","v":0},{"$f":"id!B993","v":0},{"$f":"id!D993","v":0},{"$f":"id!E993","v":0}]
[null,{"$f":"id!A994","v":0},{"$f":"id!B994","v":0},{"$f":"id!D994","v":0},{"$f":"id!E994","v":0}]
[null,{"$f":"id!A995","v":0},{"$f":"id!B995","v":0},{"$f":"id!D995","v":0},{"$f":"id!E995","v":0}]
[null,{"$f":"id!A996","v":0},{"$f":"id!B996","v":0},{"$f":"id!D996","v":0},{"$f":"id!E996","v":0}]
[null,{"$f":"id!A997","v":0},{"$f":"id!B997","v":0},{"$f":"id!D997","v":0},{"$f":"id!E997","v":0}]
[null,{"$f":"id!A998","v":0},{"$f":"id!B998","v":0},{"$f":"id!D998","v":0},{"$f":"id!E998","v":0}]
[null,{"$f":"id!A999","v":0},{"$f":"id!B999","v":0},{"$f":"id!D999","v":0},{"$f":"id!E999","v":0}]

{"sheet":"REPORT","index":5,"n_rows":50,"n_cols":6,"rows_kept":50,"cut":false,"hidden":true,"merged":[[0,0,0,4],[1,1,1,4],[49,1,49,4]]}
[" Wael Mourad Accounting Systems"]
[null,"كشف رواتب موظفي شركة وائل مراد وأخوه للمواد الغذائية لشهر يناير 2011"]
["Date :",{"$f":"TODAY()","v":"2020-09-16"}]
["كود","إسم الموظف",null,"رقم الحساب ","إسم البنك","صافي الراتب"]
["ID","STAFF NAME",null,"Account. No","Bnank Name","Net salary"]
[]
[]
[]
[]
[]
[]
[]
[]
[]
[]
[]
[]
[]
[]
[]
[]
[]
[]
[]
[]
[]
[]
[]
[]
[]
[]
[]
[]
[]
[]
[]
[]
[]
[]
[]
[]
[]
[]
[]
[]
[]
[]
[]
[]
[null,"Total    الإجمالي  ",null,null,null,{"$f":"SUM(F6:F49)","v":0}]