{"text_format":"1","workbook":"xlsx","n_sheets":4,"sheets":["المخزون","قائمة المشتريات","قائمة المبيعات","جدول المبيعات"],"not_rendered":{"charts":0,"images":3,"macros":1,"external_links":2,"defined_names":7,"comments":0,"pivot_tables":0},"unopened":[],"bounds":{"document_bytes":16777216,"sheet_cells":100000,"rows_first":2000,"rows_last":500,"rows_between":2000,"halvings":0,"cell_chars":16384,"cell_head_chars":4096},"cells_cut":0,"cells_raw":0,"read":"whole","date_system":"1900"}

{"sheet":"المخزون","index":0,"n_rows":500,"n_cols":11,"rows_kept":500,"cut":false,"hidden":false,"merged":[[1,0,1,7]]}
[]
["حركة المخزون والبيع والشراء",null,null,null,null,null,null,null,"الفائدة",-654805]
["الرقم","الكود","التعيين","الوحده","المشتريات","المبيعات","المخزون","سعر الشراء","سعر البيع","الاجمالى","التاريخ"]
[{"$f":"IF(C4=\"\",\"\",SUBTOTAL(3,C$4:C4))","v":1},"H.M.NAFTAL 4L","DOT3","L1",{"$f":"SUMIF('قائمة المشتريات'!$B$4:$B$1000,المخزون!B4,'قائمة المشتريات'!$E$4:$E$1000)","v":100},0,{"$f":"E4-F4","v":100},1000,1200,{"$f":"G4*I4","v":120000}]
[{"$f":"IF(C5=\"\",\"\",SUBTOTAL(3,C$4:C5))","v":2},"H.M. NAFTAL 4L","20W50","L2",{"$f":"SUMIF('قائمة المشتريات'!$B$4:$B$1000,المخزون!B5,'قائمة المشتريات'!$E$4:$E$1000)","v":30},0,{"$f":"E5-F5","v":30},1200,1400,{"$f":"G5*I5","v":42000}]
[{"$f":"IF(C6=\"\",\"\",SUBTOTAL(3,C$4:C6))","v":3},"HUILE MOTEUR NAFTAL 1L","20W75","L3",{"$f":"SUMIF('قائمة المشتريات'!$B$4:$B$1000,المخزون!B6,'قائمة المشتريات'!$E$4:$E$1000)","v":1000},0,1000,1500,2000,2000000]
[{"$f":"IF(C7=\"\",\"\",SUBTOTAL(3,C$4:C7))","v":4},"H. B.V. TOTAL 1L","75W80AE","L4",{"$f":"SUMIF('قائمة المشتريات'!$B$4:$B$1000,المخزون!B7,'قائمة المشتريات'!$E$4:$E$1000)","v":300},0,300,1400,1500,450000]
[{"$f":"IF(C8=\"\",\"\",SUBTOTAL(3,C$4:C8))","v":5},"BENDIX DOT3 55 FLUIDE","DOT30","L5",{"$f":"SUMIF('قائمة المشتريات'!$B$4:$B$1000,المخزون!B8,'قائمة المشتريات'!$E$4:$E$1000)","v":0},0,{"$f":"E8-F8","v":0},600,800,0]
[{"$f":"IF(C9=\"\",\"\",SUBTOTAL(3,C$4:C9))","v":6},"H. M. ELF FR 5L","15W40","L6",{"$f":"SUMIF('قائمة المشتريات'!$B$4:$B$1000,المخزون!B9,'قائمة المشتريات'!$E$4:$E$1000)","v":0},0,0,400,500,0]
[{"$f":"IF(C10=\"\",\"\",SUBTOTAL(3,C$4:C10))","v":7},"GLACEOL NAFTAL 5L","ENAD","L7",{"$f":"SUMIF('قائمة المشتريات'!$B$4:$B$1000,المخزون!B10,'قائمة المشتريات'!$E$4:$E$1000)","v":0},0,0,800,900,0]
[{"$f":"IF(C11=\"\",\"\",SUBTOTAL(3,C$4:C11))","v":8},"H. M. LIQUI MOLY PERFORMANCE 5L ","5W30","L8",{"$f":"SUMIF('قائمة المشتريات'!$B$4:$B$1000,المخزون!B11,'قائمة المشتريات'!$E$4:$E$1000)","v":0},0,0,300,400,0]
[{"$f":"IF(C12=\"\",\"\",SUBTOTAL(3,C$4:C12))","v":9},"H. M. LIQUI MOLY TOP TEC 4200 5L","5W30","L9",{"$f":"SUMIF('قائمة المشتريات'!$B$4:$B$1000,المخزون!B12,'قائمة المشتريات'!$E$4:$E$1000)","v":0},0,0,18,21,0]
[{"$f":"IF(C13=\"\",\"\",SUBTOTAL(3,C$4:C13))","v":10},"GRAISSE A2 VERKOL 18KG","10W40","L10",{"$f":"SUMIF('قائمة المشتريات'!$B$4:$B$1000,المخزون!B13,'قائمة المشتريات'!$E$4:$E$1000)","v":0},0,0,19,22,0]
[{"$f":"IF(C14=\"\",\"\",SUBTOTAL(3,C$4:C14))","v":11},"H.M. NAFTAL 5L","5W40SNTY PLUS","L11",{"$f":"SUMIF('قائمة المشتريات'!$B$4:$B$1000,المخزون!B14,'قائمة المشتريات'!$E$4:$E$1000)","v":0},0,0,20,23,0]
[{"$f":"IF(C15=\"\",\"\",SUBTOTAL(3,C$4:C15))","v":12},"H.M. CASTROL 5L","10W40GTX","L12",{"$f":"SUMIF('قائمة المشتريات'!$B$4:$B$1000,المخزون!B15,'قائمة المشتريات'!$E$4:$E$1000)","v":0},0,0,21,24,0]
[{"$f":"IF(C16=\"\",\"\",SUBTOTAL(3,C$4:C16))","v":13},"H.M. CASTROL 5L ","15W40GTX","L13",{"$f":"SUMIF('قائمة المشتريات'!$B$4:$B$1000,المخزون!B16,'قائمة المشتريات'!$E$4:$E$1000)","v":0},0,0,22,25,0]
[{"$f":"IF(C17=\"\",\"\",SUBTOTAL(3,C$4:C17))","v":14},"H.M. CASTROL 5L","5W40EDGE","L14",{"$f":"SUMIF('قائمة المشتريات'!$B$4:$B$1000,المخزون!B17,'قائمة المشتريات'!$E$4:$E$1000)","v":0},0,0,23,26,0]
[{"$f":"IF(C18=\"\",\"\",SUBTOTAL(3,C$4:C18))","v":15},"H.M. TOTAL FR 5L","10W40","L15",{"$f":"SUMIF('قائمة المشتريات'!$B$4:$B$1000,المخزون!B18,'قائمة المشتريات'!$E$4:$E$1000)","v":11},17,-6,24,27,-162]
[{"$f":"IF(C19=\"\",\"\",SUBTOTAL(3,C$4:C19))","v":16},null,"5W40SNTY PLUS","L16",{"$f":"SUMIF('قائمة المشتريات'!$B$4:$B$1000,المخزون!B19,'قائمة المشتريات'!$E$4:$E$1000)","v":0},0,0,25,28,0]
[{"$f":"IF(C20=\"\",\"\",SUBTOTAL(3,C$4:C20))","v":17},null,"75W80AE","L17",{"$f":"SUMIF('قائمة المشتريات'!$B$4:$B$1000,المخزون!B20,'قائمة المشتريات'!$E$4:$E$1000)","v":0},0,0,26,29,0]
[{"$f":"IF(C21=\"\",\"\",SUBTOTAL(3,C$4:C21))","v":""},null,null,"L18",{"$f":"SUMIF('قائمة المشتريات'!$B$4:$B$1000,المخزون!B21,'قائمة المشتريات'!$E$4:$E$1000)","v":0},0,0,27,30,0]
[{"$f":"IF(C22=\"\",\"\",SUBTOTAL(3,C$4:C22))","v":""},null,null,"L19",{"$f":"SUMIF('قائمة المشتريات'!$B$4:$B$1000,المخزون!B22,'قائمة المشتريات'!$E$4:$E$1000)","v":0},0,0,28,31,0]
[{"$f":"IF(C23=\"\",\"\",SUBTOTAL(3,C$4:C23))","v":""},null,null,"L20",{"$f":"SUMIF('قائمة المشتريات'!$B$4:$B$1000,المخزون!B23,'قائمة المشتريات'!$E$4:$E$1000)","v":0},0,0,29,32,0]
[{"$f":"IF(C24=\"\",\"\",SUBTOTAL(3,C$4:C24))","v":""},null,null,"L21",{"$f":"SUMIF('قائمة المشتريات'!$B$4:$B$1000,المخزون!B24,'قائمة المشتريات'!$E$4:$E$1000)","v":0},0,0,30,33,0]
[{"$f":"IF(C25=\"\",\"\",SUBTOTAL(3,C$4:C25))","v":""},null,null,"L22",{"$f":"SUMIF('قائمة المشتريات'!$B$4:$B$1000,المخزون!B25,'قائمة المشتريات'!$E$4:$E$1000)","v":0},0,0,31,34,0]
[{"$f":"IF(C26=\"\",\"\",SUBTOTAL(3,C$4:C26))","v":""},null,null,"L23",{"$f":"SUMIF('قائمة المشتريات'!$B$4:$B$1000,المخزون!B26,'قائمة المشتريات'!$E$4:$E$1000)","v":0},0,0,32,35,0]
[{"$f":"IF(C27=\"\",\"\",SUBTOTAL(3,C$4:C27))","v":""},null,null,"L24",{"$f":"SUMIF('قائمة المشتريات'!$B$4:$B$1000,المخزون!B27,'قائمة المشتريات'!$E$4:$E$1000)","v":0},0,0,33,36,0]
[{"$f":"IF(C28=\"\",\"\",SUBTOTAL(3,C$4:C28))","v":""},null,null,"L25",{"$f":"SUMIF('قائمة المشتريات'!$B$4:$B$1000,المخزون!B28,'قائمة المشتريات'!$E$4:$E$1000)","v":0},0,0,34,37,0]
[{"$f":"IF(C29=\"\",\"\",SUBTOTAL(3,C$4:C29))","v":""},null,null,"L26",{"$f":"SUMIF('قائمة المشتريات'!$B$4:$B$1000,المخزون!B29,'قائمة المشتريات'!$E$4:$E$1000)","v":0},0,0,35,38,0]
[{"$f":"IF(C30=\"\",\"\",SUBTOTAL(3,C$4:C30))","v":""},null,null,"L27",{"$f":"SUMIF('قائمة المشتريات'!$B$4:$B$1000,المخزون!B30,'قائمة المشتريات'!$E$4:$E$1000)","v":0},0,0,36,39,0]
[{"$f":"IF(C31=\"\",\"\",SUBTOTAL(3,C$4:C31))","v":""},null,null,"L28",{"$f":"SUMIF('قائمة المشتريات'!$B$4:$B$1000,المخزون!B31,'قائمة المشتريات'!$E$4:$E$1000)","v":0},0,0,37,40,0]
[{"$f":"IF(C32=\"\",\"\",SUBTOTAL(3,C$4:C32))","v":""},null,null,"L29",{"$f":"SUMIF('قائمة المشتريات'!$B$4:$B$1000,المخزون!B32,'قائمة المشتريات'!$E$4:$E$1000)","v":0},0,0,38,41,0]
[{"$f":"IF(C33=\"\",\"\",SUBTOTAL(3,C$4:C33))","v":""},null,null,"L30",{"$f":"SUMIF('قائمة المشتريات'!$B$4:$B$1000,المخزون!B33,'قائمة المشتريات'!$E$4:$E$1000)","v":0},0,0,39,42,0]
[{"$f":"IF(C34=\"\",\"\",SUBTOTAL(3,C$4:C34))","v":""},null,null,"L31",{"$f":"SUMIF('قائمة المشتريات'!$B$4:$B$1000,المخزون!B34,'قائمة المشتريات'!$E$4:$E$1000)","v":0},0,0,40,43,0]
[{"$f":"IF(C35=\"\",\"\",SUBTOTAL(3,C$4:C35))","v":""},null,null,"L32",{"$f":"SUMIF('قائمة المشتريات'!$B$4:$B$1000,المخزون!B35,'قائمة المشتريات'!$E$4:$E$1000)","v":0},0,0,41,44,0]
[{"$f":"IF(C36=\"\",\"\",SUBTOTAL(3,C$4:C36))","v":""},null,null,"L33",{"$f":"SUMIF('قائمة المشتريات'!$B$4:$B$1000,المخزون!B36,'قائمة المشتريات'!$E$4:$E$1000)","v":0},0,0,42,45,0]
[{"$f":"IF(C37=\"\",\"\",SUBTOTAL(3,C$4:C37))","v":""},null,null,"L34",{"$f":"SUMIF('قائمة المشتريات'!$B$4:$B$1000,المخزون!B37,'قائمة المشتريات'!$E$4:$E$1000)","v":0},0,0,43,46,0]
[{"$f":"IF(C38=\"\",\"\",SUBTOTAL(3,C$4:C38))","v":""},null,null,"L35",{"$f":"SUMIF('قائمة المشتريات'!$B$4:$B$1000,المخزون!B38,'قائمة المشتريات'!$E$4:$E$1000)","v":0},0,0,44,47,0]
[{"$f":"IF(C39=\"\",\"\",SUBTOTAL(3,C$4:C39))","v":""},null,null,"L36",{"$f":"SUMIF('قائمة المشتريات'!$B$4:$B$1000,المخزون!B39,'قائمة المشتريات'!$E$4:$E$1000)","v":0},0,0,45,48,0]
[{"$f":"IF(C40=\"\",\"\",SUBTOTAL(3,C$4:C40))","v":""},null,null,"L37",{"$f":"SUMIF('قائمة المشتريات'!$B$4:$B$1000,المخزون!B40,'قائمة المشتريات'!$E$4:$E$1000)","v":0},0,0,46,49,0]
[{"$f":"IF(C41=\"\",\"\",SUBTOTAL(3,C$4:C41))","v":""},null,null,"L38",{"$f":"SUMIF('قائمة المشتريات'!$B$4:$B$1000,المخزون!B41,'قائمة المشتريات'!$E$4:$E$1000)","v":0},0,0,47,50,0]
[{"$f":"IF(C42=\"\",\"\",SUBTOTAL(3,C$4:C42))","v":""},null,null,"L39",{"$f":"SUMIF('قائمة المشتريات'!$B$4:$B$1000,المخزون!B42,'قائمة المشتريات'!$E$4:$E$1000)","v":0},0,0,48,51,0]
[{"$f":"IF(C43=\"\",\"\",SUBTOTAL(3,C$4:C43))","v":""},null,null,"L40",{"$f":"SUMIF('قائمة المشتريات'!$B$4:$B$1000,المخزون!B43,'قائمة المشتريات'!$E$4:$E$1000)","v":0},0,0,49,52,0]
[{"$f":"IF(C44=\"\",\"\",SUBTOTAL(3,C$4:C44))","v":""},null,null,"L41",{"$f":"SUMIF('قائمة المشتريات'!$B$4:$B$1000,المخزون!B44,'قائمة المشتريات'!$E$4:$E$1000)","v":0},0,0,50,53,0]
[{"$f":"IF(C45=\"\",\"\",SUBTOTAL(3,C$4:C45))","v":""},null,null,"L42",{"$f":"SUMIF('قائمة المشتريات'!$B$4:$B$1000,المخزون!B45,'قائمة المشتريات'!$E$4:$E$1000)","v":0},0,0,51,54,0]
[{"$f":"IF(C46=\"\",\"\",SUBTOTAL(3,C$4:C46))","v":""},null,null,"L43",{"$f":"SUMIF('قائمة المشتريات'!$B$4:$B$1000,المخزون!B46,'قائمة المشتريات'!$E$4:$E$1000)","v":0},0,0,52,55,0]
[{"$f":"IF(C47=\"\",\"\",SUBTOTAL(3,C$4:C47))","v":""},null,null,"L44",{"$f":"SUMIF('قائمة المشتريات'!$B$4:$B$1000,المخزون!B47,'قائمة المشتريات'!$E$4:$E$1000)","v":0},0,0,53,56,0]
[{"$f":"IF(C48=\"\",\"\",SUBTOTAL(3,C$4:C48))","v":""},null,null,"L45",{"$f":"SUMIF('قائمة المشتريات'!$B$4:$B$1000,المخزون!B48,'قائمة المشتريات'!$E$4:$E$1000)","v":0},0,0,54,57,0]
[{"$f":"IF(C49=\"\",\"\",SUBTOTAL(3,C$4:C49))","v":""},null,null,"L46",{"$f":"SUMIF('قائمة المشتريات'!$B$4:$B$1000,المخزون!B49,'قائمة المشتريات'!$E$4:$E$1000)","v":0},0,0,55,58,0]
[{"$f":"IF(C50=\"\",\"\",SUBTOTAL(3,C$4:C50))","v":""},null,null,"L47",{"$f":"SUMIF('قائمة المشتريات'!$B$4:$B$1000,المخزون!B50,'قائمة المشتريات'!$E$4:$E$1000)","v":0},0,0,56,59,0]
[{"$f":"IF(C51=\"\",\"\",SUBTOTAL(3,C$4:C51))","v":""},null,null,"L48",{"$f":"SUMIF('قائمة المشتريات'!$B$4:$B$1000,المخزون!B51,'قائمة المشتريات'!$E$4:$E$1000)","v":0},0,0,57,60,0]
[{"$f":"IF(C52=\"\",\"\",SUBTOTAL(3,C$4:C52))","v":""},null,null,"L49",{"$f":"SUMIF('قائمة المشتريات'!$B$4:$B$1000,المخزون!B52,'قائمة المشتريات'!$E$4:$E$1000)","v":0},0,0,58,61,0]
[{"$f":"IF(C53=\"\",\"\",SUBTOTAL(3,C$4:C53))","v":""},null,null,"L50",{"$f":"SUMIF('قائمة المشتريات'!$B$4:$B$1000,المخزون!B53,'قائمة المشتريات'!$E$4:$E$1000)","v":0},0,0,59,62,0]
[{"$f":"IF(C54=\"\",\"\",SUBTOTAL(3,C$4:C54))","v":""},null,null,"L51",{"$f":"SUMIF('قائمة المشتريات'!$B$4:$B$1000,المخزون!B54,'قائمة المشتريات'!$E$4:$E$1000)","v":0},0,0,60,63,0]
[{"$f":"IF(C55=\"\",\"\",SUBTOTAL(3,C$4:C55))","v":""},null,null,"L52",{"$f":"SUMIF('قائمة المشتريات'!$B$4:$B$1000,المخزون!B55,'قائمة المشتريات'!$E$4:$E$1000)","v":0},0,0,61,64,0]
[{"$f":"IF(C56=\"\",\"\",SUBTOTAL(3,C$4:C56))","v":""},null,null,"L53",{"$f":"SUMIF('قائمة المشتريات'!$B$4:$B$1000,المخزون!B56,'قائمة المشتريات'!$E$4:$E$1000)","v":0},0,0,62,65,0]
[{"$f":"IF(C57=\"\",\"\",SUBTOTAL(3,C$4:C57))","v":""},null,null,"L54",{"$f":"SUMIF('قائمة المشتريات'!$B$4:$B$1000,المخزون!B57,'قائمة المشتريات'!$E$4:$E$1000)","v":0},0,0,63,66,0]
[{"$f":"IF(C58=\"\",\"\",SUBTOTAL(3,C$4:C58))","v":""},null,null,"L55",{"$f":"SUMIF('قائمة المشتريات'!$B$4:$B$1000,المخزون!B58,'قائمة المشتريات'!$E$4:$E$1000)","v":0},0,0,64,67,0]
[{"$f":"IF(C59=\"\",\"\",SUBTOTAL(3,C$4:C59))","v":""},null,null,"L56",{"$f":"SUMIF('قائمة المشتريات'!$B$4:$B$1000,المخزون!B59,'قائمة المشتريات'!$E$4:$E$1000)","v":0},0,0,65,68,0]
[{"$f":"IF(C60=\"\",\"\",SUBTOTAL(3,C$4:C60))","v":""},null,null,"L57",{"$f":"SUMIF('قائمة المشتريات'!$B$4:$B$1000,المخزون!B60,'قائمة المشتريات'!$E$4:$E$1000)","v":0},0,0,66,69,0]
[{"$f":"IF(C61=\"\",\"\",SUBTOTAL(3,C$4:C61))","v":""},null,null,"L58",{"$f":"SUMIF('قائمة المشتريات'!$B$4:$B$1000,المخزون!B61,'قائمة المشتريات'!$E$4:$E$1000)","v":0},0,0,67,70,0]
[{"$f":"IF(C62=\"\",\"\",SUBTOTAL(3,C$4:C62))","v":""},null,null,"L59",{"$f":"SUMIF('قائمة المشتريات'!$B$4:$B$1000,المخزون!B62,'قائمة المشتريات'!$E$4:$E$1000)","v":0},0,0,68,71,0]
[{"$f":"IF(C63=\"\",\"\",SUBTOTAL(3,C$4:C63))","v":""},null,null,"L60",{"$f":"SUMIF('قائمة المشتريات'!$B$4:$B$1000,المخزون!B63,'قائمة المشتريات'!$E$4:$E$1000)","v":0},0,0,69,72,0]
[{"$f":"IF(C64=\"\",\"\",SUBTOTAL(3,C$4:C64))","v":""},null,null,"L61",{"$f":"SUMIF('قائمة المشتريات'!$B$4:$B$1000,المخزون!B64,'قائمة المشتريات'!$E$4:$E$1000)","v":0},0,0,70,73,0]
[{"$f":"IF(C65=\"\",\"\",SUBTOTAL(3,C$4:C65))","v":""},null,null,"L62",{"$f":"SUMIF('قائمة المشتريات'!$B$4:$B$1000,المخزون!B65,'قائمة المشتريات'!$E$4:$E$1000)","v":0},0,0,71,74,0]
[{"$f":"IF(C66=\"\",\"\",SUBTOTAL(3,C$4:C66))","v":""},null,null,"L63",{"$f":"SUMIF('قائمة المشتريات'!$B$4:$B$1000,المخزون!B66,'قائمة المشتريات'!$E$4:$E$1000)","v":0},0,0,72,75,0]
[{"$f":"IF(C67=\"\",\"\",SUBTOTAL(3,C$4:C67))","v":""},null,null,"L64",{"$f":"SUMIF('قائمة المشتريات'!$B$4:$B$1000,المخزون!B67,'قائمة المشتريات'!$E$4:$E$1000)","v":0},0,0,73,76,0]
[{"$f":"IF(C68=\"\",\"\",SUBTOTAL(3,C$4:C68))","v":""},null,null,"L65",{"$f":"SUMIF('قائمة المشتريات'!$B$4:$B$1000,المخزون!B68,'قائمة المشتريات'!$E$4:$E$1000)","v":0},0,0,74,77,0]
[{"$f":"IF(C69=\"\",\"\",SUBTOTAL(3,C$4:C69))","v":""},null,null,"L66",{"$f":"SUMIF('قائمة المشتريات'!$B$4:$B$1000,المخزون!B69,'قائمة المشتريات'!$E$4:$E$1000)","v":0},0,{"$f":"E69-F69","v":0},75,78,{"$f":"G69*I69","v":0}]
[{"$f":"IF(C70=\"\",\"\",SUBTOTAL(3,C$4:C70))","v":""},null,null,"L67",{"$f":"SUMIF('قائمة المشتريات'!$B$4:$B$1000,المخزون!B70,'قائمة المشتريات'!$E$4:$E$1000)","v":0},0,0,76,79,0]
[{"$f":"IF(C71=\"\",\"\",SUBTOTAL(3,C$4:C71))","v":""},null,null,"L68",{"$f":"SUMIF('قائمة المشتريات'!$B$4:$B$1000,المخزون!B71,'قائمة المشتريات'!$E$4:$E$1000)","v":0},0,0,77,80,0]
[{"$f":"IF(C72=\"\",\"\",SUBTOTAL(3,C$4:C72))","v":""},null,null,"L69",{"$f":"SUMIF('قائمة المشتريات'!$B$4:$B$1000,المخزون!B72,'قائمة المشتريات'!$E$4:$E$1000)","v":0},0,0,78,81,0]
[{"$f":"IF(C73=\"\",\"\",SUBTOTAL(3,C$4:C73))","v":""},null,null,"L70",{"$f":"SUMIF('قائمة المشتريات'!$B$4:$B$1000,المخزون!B73,'قائمة المشتريات'!$E$4:$E$1000)","v":0},0,0,79,82,0]
[{"$f":"IF(C74=\"\",\"\",SUBTOTAL(3,C$4:C74))","v":""},null,null,"L71",{"$f":"SUMIF('قائمة المشتريات'!$B$4:$B$1000,المخزون!B74,'قائمة المشتريات'!$E$4:$E$1000)","v":0},0,0,80,83,0]
[{"$f":"IF(C75=\"\",\"\",SUBTOTAL(3,C$4:C75))","v":""},null,null,"L72",{"$f":"SUMIF('قائمة المشتريات'!$B$4:$B$1000,المخزون!B75,'قائمة المشتريات'!$E$4:$E$1000)","v":0},0,0,81,84,0]
[{"$f":"IF(C76=\"\",\"\",SUBTOTAL(3,C$4:C76))","v":""},null,null,"L73",{"$f":"SUMIF('قائمة المشتريات'!$B$4:$B$1000,المخزون!B76,'قائمة المشتريات'!$E$4:$E$1000)","v":0},0,0,82,85,0]
[{"$f":"IF(C77=\"\",\"\",SUBTOTAL(3,C$4:C77))","v":""},null,null,"L74",{"$f":"SUMIF('قائمة المشتريات'!$B$4:$B$1000,المخزون!B77,'قائمة المشتريات'!$E$4:$E$1000)","v":0},0,0,83,86,0]
[{"$f":"IF(C78=\"\",\"\",SUBTOTAL(3,C$4:C78))","v":""},null,null,"L75",{"$f":"SUMIF('قائمة المشتريات'!$B$4:$B$1000,المخزون!B78,'قائمة المشتريات'!$E$4:$E$1000)","v":0},0,0,84,87,0]
[{"$f":"IF(C79=\"\",\"\",SUBTOTAL(3,C$4:C79))","v":""},null,null,"L76",{"$f":"SUMIF('قائمة المشتريات'!$B$4:$B$1000,المخزون!B79,'قائمة المشتريات'!$E$4:$E$1000)","v":0},0,0,85,88,0]
[{"$f":"IF(C80=\"\",\"\",SUBTOTAL(3,C$4:C80))","v":""},null,null,"L77",{"$f":"SUMIF('قائمة المشتريات'!$B$4:$B$1000,المخزون!B80,'قائمة المشتريات'!$E$4:$E$1000)","v":0},0,0,86,89,0]
[{"$f":"IF(C81=\"\",\"\",SUBTOTAL(3,C$4:C81))","v":""},null,null,"L78",{"$f":"SUMIF('قائمة المشتريات'!$B$4:$B$1000,المخزون!B81,'قائمة المشتريات'!$E$4:$E$1000)","v":0},0,0,87,90,0]
[{"$f":"IF(C82=\"\",\"\",SUBTOTAL(3,C$4:C82))","v":""},null,null,"L79",{"$f":"SUMIF('قائمة المشتريات'!$B$4:$B$1000,المخزون!B82,'قائمة المشتريات'!$E$4:$E$1000)","v":0},0,0,88,91,0]
[{"$f":"IF(C83=\"\",\"\",SUBTOTAL(3,C$4:C83))","v":""},null,null,"L80",{"$f":"SUMIF('قائمة المشتريات'!$B$4:$B$1000,المخزون!B83,'قائمة المشتريات'!$E$4:$E$1000)","v":0},0,0,89,92,0]
[{"$f":"IF(C84=\"\",\"\",SUBTOTAL(3,C$4:C84))","v":""},null,null,"L81",{"$f":"SUMIF('قائمة المشتريات'!$B$4:$B$1000,المخزون!B84,'قائمة المشتريات'!$E$4:$E$1000)","v":0},0,0,90,93,0]
[{"$f":"IF(C85=\"\",\"\",SUBTOTAL(3,C$4:C85))","v":""},null,null,"L82",{"$f":"SUMIF('قائمة المشتريات'!$B$4:$B$1000,المخزون!B85,'قائمة المشتريات'!$E$4:$E$1000)","v":0},0,0,91,94,0]
[{"$f":"IF(C86=\"\",\"\",SUBTOTAL(3,C$4:C86))","v":""},null,null,"L83",{"$f":"SUMIF('قائمة المشتريات'!$B$4:$B$1000,المخزون!B86,'قائمة المشتريات'!$E$4:$E$1000)","v":0},0,0,92,95,0]
[{"$f":"IF(C87=\"\",\"\",SUBTOTAL(3,C$4:C87))","v":""},null,null,"L84",{"$f":"SUMIF('قائمة المشتريات'!$B$4:$B$1000,المخزون!B87,'قائمة المشتريات'!$E$4:$E$1000)","v":0},0,0,93,96,0]
[{"$f":"IF(C88=\"\",\"\",SUBTOTAL(3,C$4:C88))","v":""},null,null,"L85",{"$f":"SUMIF('قائمة المشتريات'!$B$4:$B$1000,المخزون!B88,'قائمة المشتريات'!$E$4:$E$1000)","v":0},0,0,94,97,0]
[{"$f":"IF(C89=\"\",\"\",SUBTOTAL(3,C$4:C89))","v":""},null,null,"L86",{"$f":"SUMIF('قائمة المشتريات'!$B$4:$B$1000,المخزون!B89,'قائمة المشتريات'!$E$4:$E$1000)","v":0},0,0,95,98,0]
[{"$f":"IF(C90=\"\",\"\",SUBTOTAL(3,C$4:C90))","v":""},null,null,"L87",{"$f":"SUMIF('قائمة المشتريات'!$B$4:$B$1000,المخزون!B90,'قائمة المشتريات'!$E$4:$E$1000)","v":0},0,0,96,99,0]
[{"$f":"IF(C91=\"\",\"\",SUBTOTAL(3,C$4:C91))","v":""},null,null,"L88",{"$f":"SUMIF('قائمة المشتريات'!$B$4:$B$1000,المخزون!B91,'قائمة المشتريات'!$E$4:$E$1000)","v":0},0,0,97,100,0]
[{"$f":"IF(C92=\"\",\"\",SUBTOTAL(3,C$4:C92))","v":""},null,null,"L89",{"$f":"SUMIF('قائمة المشتريات'!$B$4:$B$1000,المخزون!B92,'قائمة المشتريات'!$E$4:$E$1000)","v":0},0,0,98,101,0]
[{"$f":"IF(C93=\"\",\"\",SUBTOTAL(3,C$4:C93))","v":""},null,null,"L90",{"$f":"SUMIF('قائمة المشتريات'!$B$4:$B$1000,المخزون!B93,'قائمة المشتريات'!$E$4:$E$1000)","v":0},0,0,99,102,0]
[{"$f":"IF(C94=\"\",\"\",SUBTOTAL(3,C$4:C94))","v":""},null,null,"L91",{"$f":"SUMIF('قائمة المشتريات'!$B$4:$B$1000,المخزون!B94,'قائمة المشتريات'!$E$4:$E$1000)","v":0},0,0,100,103,0]
[{"$f":"IF(C95=\"\",\"\",SUBTOTAL(3,C$4:C95))","v":""},null,null,"L92",{"$f":"SUMIF('قائمة المشتريات'!$B$4:$B$1000,المخزون!B95,'قائمة المشتريات'!$E$4:$E$1000)","v":0},0,0,101,104,0]
[{"$f":"IF(C96=\"\",\"\",SUBTOTAL(3,C$4:C96))","v":""},null,null,"L93",{"$f":"SUMIF('قائمة المشتريات'!$B$4:$B$1000,المخزون!B96,'قائمة المشتريات'!$E$4:$E$1000)","v":0},0,0,102,105,0]
[{"$f":"IF(C97=\"\",\"\",SUBTOTAL(3,C$4:C97))","v":""},null,null,"L94",{"$f":"SUMIF('قائمة المشتريات'!$B$4:$B$1000,المخزون!B97,'قائمة المشتريات'!$E$4:$E$1000)","v":0},0,0,103,106,0]
[{"$f":"IF(C98=\"\",\"\",SUBTOTAL(3,C$4:C98))","v":""},null,null,"L95",{"$f":"SUMIF('قائمة المشتريات'!$B$4:$B$1000,المخزون!B98,'قائمة المشتريات'!$E$4:$E$1000)","v":0},0,0,104,107,0]
[{"$f":"IF(C99=\"\",\"\",SUBTOTAL(3,C$4:C99))","v":""},null,null,"L96",{"$f":"SUMIF('قائمة المشتريات'!$B$4:$B$1000,المخزون!B99,'قائمة المشتريات'!$E$4:$E$1000)","v":0},0,0,105,108,0]
[{"$f":"IF(C100=\"\",\"\",SUBTOTAL(3,C$4:C100))","v":""},null,null,"L97",{"$f":"SUMIF('قائمة المشتريات'!$B$4:$B$1000,المخزون!B100,'قائمة المشتريات'!$E$4:$E$1000)","v":0},0,0,106,109,0]
[{"$f":"IF(C101=\"\",\"\",SUBTOTAL(3,C$4:C101))","v":""},null,null,"L98",{"$f":"SUMIF('قائمة المشتريات'!$B$4:$B$1000,المخزون!B101,'قائمة المشتريات'!$E$4:$E$1000)","v":0},0,0,107,110,0]
[{"$f":"IF(C102=\"\",\"\",SUBTOTAL(3,C$4:C102))","v":""},null,null,"L99",{"$f":"SUMIF('قائمة المشتريات'!$B$4:$B$1000,المخزون!B102,'قائمة المشتريات'!$E$4:$E$1000)","v":0},0,0,108,111,0]
[{"$f":"IF(C103=\"\",\"\",SUBTOTAL(3,C$4:C103))","v":""},null,null,"L100",{"$f":"SUMIF('قائمة المشتريات'!$B$4:$B$1000,المخزون!B103,'قائمة المشتريات'!$E$4:$E$1000)","v":0},0,0,109,112,0]
[{"$f":"IF(C104=\"\",\"\",SUBTOTAL(3,C$4:C104))","v":""},null,null,"L101",{"$f":"SUMIF('قائمة المشتريات'!$B$4:$B$1000,المخزون!B104,'قائمة المشتريات'!$E$4:$E$1000)","v":0},0,0,110,113,0]
[{"$f":"IF(C105=\"\",\"\",SUBTOTAL(3,C$4:C105))","v":""},null,null,"L102",{"$f":"SUMIF('قائمة المشتريات'!$B$4:$B$1000,المخزون!B105,'قائمة المشتريات'!$E$4:$E$1000)","v":0},0,0,111,114,0]
[{"$f":"IF(C106=\"\",\"\",SUBTOTAL(3,C$4:C106))","v":""},null,null,"L103",{"$f":"SUMIF('قائمة المشتريات'!$B$4:$B$1000,المخزون!B106,'قائمة المشتريات'!$E$4:$E$1000)","v":0},0,0,112,115,0]
[{"$f":"IF(C107=\"\",\"\",SUBTOTAL(3,C$4:C107))","v":""},null,null,"L104",{"$f":"SUMIF('قائمة المشتريات'!$B$4:$B$1000,المخزون!B107,'قائمة المشتريات'!$E$4:$E$1000)","v":0},0,0,113,116,0]
[{"$f":"IF(C108=\"\",\"\",SUBTOTAL(3,C$4:C108))","v":""},null,null,"L105",{"$f":"SUMIF('قائمة المشتريات'!$B$4:$B$1000,المخزون!B108,'قائمة المشتريات'!$E$4:$E$1000)","v":0},0,0,114,117,0]
[{"$f":"IF(C109=\"\",\"\",SUBTOTAL(3,C$4:C109))","v":""},null,null,"L106",{"$f":"SUMIF('قائمة المشتريات'!$B$4:$B$1000,المخزون!B109,'قائمة المشتريات'!$E$4:$E$1000)","v":0},0,0,115,118,0]
[{"$f":"IF(C110=\"\",\"\",SUBTOTAL(3,C$4:C110))","v":""},null,null,"L107",{"$f":"SUMIF('قائمة المشتريات'!$B$4:$B$1000,المخزون!B110,'قائمة المشتريات'!$E$4:$E$1000)","v":0},0,0,116,119,0]
[{"$f":"IF(C111=\"\",\"\",SUBTOTAL(3,C$4:C111))","v":""},null,null,"L108",{"$f":"SUMIF('قائمة المشتريات'!$B$4:$B$1000,المخزون!B111,'قائمة المشتريات'!$E$4:$E$1000)","v":0},0,0,117,120,0]
[{"$f":"IF(C112=\"\",\"\",SUBTOTAL(3,C$4:C112))","v":""},null,null,"L109",{"$f":"SUMIF('قائمة المشتريات'!$B$4:$B$1000,المخزون!B112,'قائمة المشتريات'!$E$4:$E$1000)","v":0},0,0,118,121,0]
[{"$f":"IF(C113=\"\",\"\",SUBTOTAL(3,C$4:C113))","v":""},null,null,"L110",{"$f":"SUMIF('قائمة المشتريات'!$B$4:$B$1000,المخزون!B113,'قائمة المشتريات'!$E$4:$E$1000)","v":0},0,0,119,122,0]
[{"$f":"IF(C114=\"\",\"\",SUBTOTAL(3,C$4:C114))","v":""},null,null,"L111",{"$f":"SUMIF('قائمة المشتريات'!$B$4:$B$1000,المخزون!B114,'قائمة المشتريات'!$E$4:$E$1000)","v":0},0,0,120,123,0]
[{"$f":"IF(C115=\"\",\"\",SUBTOTAL(3,C$4:C115))","v":""},null,null,"L112",{"$f":"SUMIF('قائمة المشتريات'!$B$4:$B$1000,المخزون!B115,'قائمة المشتريات'!$E$4:$E$1000)","v":0},0,0,121,124,0]
[{"$f":"IF(C116=\"\",\"\",SUBTOTAL(3,C$4:C116))","v":""},null,null,"L113",{"$f":"SUMIF('قائمة المشتريات'!$B$4:$B$1000,المخزون!B116,'قائمة المشتريات'!$E$4:$E$1000)","v":0},0,0,122,125,0]
[{"$f":"IF(C117=\"\",\"\",SUBTOTAL(3,C$4:C117))","v":""},null,null,"L114",{"$f":"SUMIF('قائمة المشتريات'!$B$4:$B$1000,المخزون!B117,'قائمة المشتريات'!$E$4:$E$1000)","v":0},0,0,123,126,0]
[{"$f":"IF(C118=\"\",\"\",SUBTOTAL(3,C$4:C118))","v":""},null,null,"L115",{"$f":"SUMIF('قائمة المشتريات'!$B$4:$B$1000,المخزون!B118,'قائمة المشتريات'!$E$4:$E$1000)","v":0},0,0,124,127,0]
[{"$f":"IF(C119=\"\",\"\",SUBTOTAL(3,C$4:C119))","v":""},null,null,"L116",{"$f":"SUMIF('قائمة المشتريات'!$B$4:$B$1000,المخزون!B119,'قائمة المشتريات'!$E$4:$E$1000)","v":0},0,0,125,128,0]
[{"$f":"IF(C120=\"\",\"\",SUBTOTAL(3,C$4:C120))","v":""},null,null,"L117",{"$f":"SUMIF('قائمة المشتريات'!$B$4:$B$1000,المخزون!B120,'قائمة المشتريات'!$E$4:$E$1000)","v":0},0,0,126,129,0]
[{"$f":"IF(C121=\"\",\"\",SUBTOTAL(3,C$4:C121))","v":""},null,null,"L118",{"$f":"SUMIF('قائمة المشتريات'!$B$4:$B$1000,المخزون!B121,'قائمة المشتريات'!$E$4:$E$1000)","v":0},0,0,127,130,0]
[{"$f":"IF(C122=\"\",\"\",SUBTOTAL(3,C$4:C122))","v":""},null,null,"L119",{"$f":"SUMIF('قائمة المشتريات'!$B$4:$B$1000,المخزون!B122,'قائمة المشتريات'!$E$4:$E$1000)","v":0},0,0,128,131,0]
[{"$f":"IF(C123=\"\",\"\",SUBTOTAL(3,C$4:C123))","v":""},null,null,"L120",{"$f":"SUMIF('قائمة المشتريات'!$B$4:$B$1000,المخزون!B123,'قائمة المشتريات'!$E$4:$E$1000)","v":0},0,0,129,132,0]
[{"$f":"IF(C124=\"\",\"\",SUBTOTAL(3,C$4:C124))","v":""},null,null,"L121",{"$f":"SUMIF('قائمة المشتريات'!$B$4:$B$1000,المخزون!B124,'قائمة المشتريات'!$E$4:$E$1000)","v":0},0,0,130,133,0]
[{"$f":"IF(C125=\"\",\"\",SUBTOTAL(3,C$4:C125))","v":""},null,null,"L122",{"$f":"SUMIF('قائمة المشتريات'!$B$4:$B$1000,المخزون!B125,'قائمة المشتريات'!$E$4:$E$1000)","v":0},0,0,131,134,0]
[{"$f":"IF(C126=\"\",\"\",SUBTOTAL(3,C$4:C126))","v":""},null,null,"L123",{"$f":"SUMIF('قائمة المشتريات'!$B$4:$B$1000,المخزون!B126,'قائمة المشتريات'!$E$4:$E$1000)","v":0},0,0,132,135,0]
[{"$f":"IF(C127=\"\",\"\",SUBTOTAL(3,C$4:C127))","v":""},null,null,"L124",{"$f":"SUMIF('قائمة المشتريات'!$B$4:$B$1000,المخزون!B127,'قائمة المشتريات'!$E$4:$E$1000)","v":0},0,0,133,136,0]
[{"$f":"IF(C128=\"\",\"\",SUBTOTAL(3,C$4:C128))","v":""},null,null,"L125",{"$f":"SUMIF('قائمة المشتريات'!$B$4:$B$1000,المخزون!B128,'قائمة المشتريات'!$E$4:$E$1000)","v":0},0,0,134,137,0]
[{"$f":"IF(C129=\"\",\"\",SUBTOTAL(3,C$4:C129))","v":""},null,null,"L126",{"$f":"SUMIF('قائمة المشتريات'!$B$4:$B$1000,المخزون!B129,'قائمة المشتريات'!$E$4:$E$1000)","v":0},0,0,135,138,0]
[{"$f":"IF(C130=\"\",\"\",SUBTOTAL(3,C$4:C130))","v":""},null,null,"L127",{"$f":"SUMIF('قائمة المشتريات'!$B$4:$B$1000,المخزون!B130,'قائمة المشتريات'!$E$4:$E$1000)","v":0},0,0,136,139,0]
[{"$f":"IF(C131=\"\",\"\",SUBTOTAL(3,C$4:C131))","v":""},null,null,"L128",{"$f":"SUMIF('قائمة المشتريات'!$B$4:$B$1000,المخزون!B131,'قائمة المشتريات'!$E$4:$E$1000)","v":0},0,0,137,140,0]
[{"$f":"IF(C132=\"\",\"\",SUBTOTAL(3,C$4:C132))","v":""},null,null,"L129",{"$f":"SUMIF('قائمة المشتريات'!$B$4:$B$1000,المخزون!B132,'قائمة المشتريات'!$E$4:$E$1000)","v":0},0,0,138,141,0]
[{"$f":"IF(C133=\"\",\"\",SUBTOTAL(3,C$4:C133))","v":""},null,null,"L130",{"$f":"SUMIF('قائمة المشتريات'!$B$4:$B$1000,المخزون!B133,'قائمة المشتريات'!$E$4:$E$1000)","v":0},0,{"$f":"E133-F133","v":0},139,142,{"$f":"G133*I133","v":0}]
[{"$f":"IF(C134=\"\",\"\",SUBTOTAL(3,C$4:C134))","v":""},null,null,"L131",{"$f":"SUMIF('قائمة المشتريات'!$B$4:$B$1000,المخزون!B134,'قائمة المشتريات'!$E$4:$E$1000)","v":0},0,0,140,143,0]
[{"$f":"IF(C135=\"\",\"\",SUBTOTAL(3,C$4:C135))","v":""},null,null,"L132",{"$f":"SUMIF('قائمة المشتريات'!$B$4:$B$1000,المخزون!B135,'قائمة المشتريات'!$E$4:$E$1000)","v":0},0,0,141,144,0]
[{"$f":"IF(C136=\"\",\"\",SUBTOTAL(3,C$4:C136))","v":""},null,null,"L133",{"$f":"SUMIF('قائمة المشتريات'!$B$4:$B$1000,المخزون!B136,'قائمة المشتريات'!$E$4:$E$1000)","v":0},0,0,142,145,0]
[{"$f":"IF(C137=\"\",\"\",SUBTOTAL(3,C$4:C137))","v":""},null,null,"L134",{"$f":"SUMIF('قائمة المشتريات'!$B$4:$B$1000,المخزون!B137,'قائمة المشتريات'!$E$4:$E$1000)","v":0},0,0,143,146,0]
[{"$f":"IF(C138=\"\",\"\",SUBTOTAL(3,C$4:C138))","v":""},null,null,"L135",{"$f":"SUMIF('قائمة المشتريات'!$B$4:$B$1000,المخزون!B138,'قائمة المشتريات'!$E$4:$E$1000)","v":0},0,0,144,147,0]
[{"$f":"IF(C139=\"\",\"\",SUBTOTAL(3,C$4:C139))","v":""},null,null,"L136",{"$f":"SUMIF('قائمة المشتريات'!$B$4:$B$1000,المخزون!B139,'قائمة المشتريات'!$E$4:$E$1000)","v":0},0,0,145,148,0]
[{"$f":"IF(C140=\"\",\"\",SUBTOTAL(3,C$4:C140))","v":""},null,null,"L137",{"$f":"SUMIF('قائمة المشتريات'!$B$4:$B$1000,المخزون!B140,'قائمة المشتريات'!$E$4:$E$1000)","v":0},0,0,146,149,0]
[{"$f":"IF(C141=\"\",\"\",SUBTOTAL(3,C$4:C141))","v":""},null,null,"L138",{"$f":"SUMIF('قائمة المشتريات'!$B$4:$B$1000,المخزون!B141,'قائمة المشتريات'!$E$4:$E$1000)","v":0},0,0,147,150,0]
[{"$f":"IF(C142=\"\",\"\",SUBTOTAL(3,C$4:C142))","v":""},null,null,"L139",{"$f":"SUMIF('قائمة المشتريات'!$B$4:$B$1000,المخزون!B142,'قائمة المشتريات'!$E$4:$E$1000)","v":0},0,0,148,151,0]
[{"$f":"IF(C143=\"\",\"\",SUBTOTAL(3,C$4:C143))","v":""},null,null,"L140",{"$f":"SUMIF('قائمة المشتريات'!$B$4:$B$1000,المخزون!B143,'قائمة المشتريات'!$E$4:$E$1000)","v":0},0,0,149,152,0]
[{"$f":"IF(C144=\"\",\"\",SUBTOTAL(3,C$4:C144))","v":""},null,null,"L141",{"$f":"SUMIF('قائمة المشتريات'!$B$4:$B$1000,المخزون!B144,'قائمة المشتريات'!$E$4:$E$1000)","v":0},0,0,150,153,0]
[{"$f":"IF(C145=\"\",\"\",SUBTOTAL(3,C$4:C145))","v":""},null,null,"L142",{"$f":"SUMIF('قائمة المشتريات'!$B$4:$B$1000,المخزون!B145,'قائمة المشتريات'!$E$4:$E$1000)","v":0},0,0,151,154,0]
[{"$f":"IF(C146=\"\",\"\",SUBTOTAL(3,C$4:C146))","v":""},null,null,"L143",{"$f":"SUMIF('قائمة المشتريات'!$B$4:$B$1000,المخزون!B146,'قائمة المشتريات'!$E$4:$E$1000)","v":0},0,0,152,155,0]
[{"$f":"IF(C147=\"\",\"\",SUBTOTAL(3,C$4:C147))","v":""},null,null,"L144",{"$f":"SUMIF('قائمة المشتريات'!$B$4:$B$1000,المخزون!B147,'قائمة المشتريات'!$E$4:$E$1000)","v":0},0,0,153,156,0]
[{"$f":"IF(C148=\"\",\"\",SUBTOTAL(3,C$4:C148))","v":""},null,null,"L145",{"$f":"SUMIF('قائمة المشتريات'!$B$4:$B$1000,المخزون!B148,'قائمة المشتريات'!$E$4:$E$1000)","v":0},0,0,154,157,0]
[{"$f":"IF(C149=\"\",\"\",SUBTOTAL(3,C$4:C149))","v":""},null,null,"L146",{"$f":"SUMIF('قائمة المشتريات'!$B$4:$B$1000,المخزون!B149,'قائمة المشتريات'!$E$4:$E$1000)","v":0},0,0,155,158,0]
[{"$f":"IF(C150=\"\",\"\",SUBTOTAL(3,C$4:C150))","v":""},null,null,"L147",{"$f":"SUMIF('قائمة المشتريات'!$B$4:$B$1000,المخزون!B150,'قائمة المشتريات'!$E$4:$E$1000)","v":0},0,0,156,159,0]
[{"$f":"IF(C151=\"\",\"\",SUBTOTAL(3,C$4:C151))","v":""},null,null,"L148",{"$f":"SUMIF('قائمة المشتريات'!$B$4:$B$1000,المخزون!B151,'قائمة المشتريات'!$E$4:$E$1000)","v":0},0,0,157,160,0]
[{"$f":"IF(C152=\"\",\"\",SUBTOTAL(3,C$4:C152))","v":""},null,null,"L149",{"$f":"SUMIF('قائمة المشتريات'!$B$4:$B$1000,المخزون!B152,'قائمة المشتريات'!$E$4:$E$1000)","v":0},0,0,158,161,0]
[{"$f":"IF(C153=\"\",\"\",SUBTOTAL(3,C$4:C153))","v":""},null,null,"L150",{"$f":"SUMIF('قائمة المشتريات'!$B$4:$B$1000,المخزون!B153,'قائمة المشتريات'!$E$4:$E$1000)","v":0},0,0,159,162,0]
[{"$f":"IF(C154=\"\",\"\",SUBTOTAL(3,C$4:C154))","v":""},null,null,"L151",{"$f":"SUMIF('قائمة المشتريات'!$B$4:$B$1000,المخزون!B154,'قائمة المشتريات'!$E$4:$E$1000)","v":0},0,0,160,163,0]
[{"$f":"IF(C155=\"\",\"\",SUBTOTAL(3,C$4:C155))","v":""},null,null,"L152",{"$f":"SUMIF('قائمة المشتريات'!$B$4:$B$1000,المخزون!B155,'قائمة المشتريات'!$E$4:$E$1000)","v":0},0,0,161,164,0]
[{"$f":"IF(C156=\"\",\"\",SUBTOTAL(3,C$4:C156))","v":""},null,null,"L153",{"$f":"SUMIF('قائمة المشتريات'!$B$4:$B$1000,المخزون!B156,'قائمة المشتريات'!$E$4:$E$1000)","v":0},0,0,162,165,0]
[{"$f":"IF(C157=\"\",\"\",SUBTOTAL(3,C$4:C157))","v":""},null,null,"L154",{"$f":"SUMIF('قائمة المشتريات'!$B$4:$B$1000,المخزون!B157,'قائمة المشتريات'!$E$4:$E$1000)","v":0},0,0,163,166,0]
[{"$f":"IF(C158=\"\",\"\",SUBTOTAL(3,C$4:C158))","v":""},null,null,"L155",{"$f":"SUMIF('قائمة المشتريات'!$B$4:$B$1000,المخزون!B158,'قائمة المشتريات'!$E$4:$E$1000)","v":0},0,0,164,167,0]
[{"$f":"IF(C159=\"\",\"\",SUBTOTAL(3,C$4:C159))","v":""},null,null,"L156",{"$f":"SUMIF('قائمة المشتريات'!$B$4:$B$1000,المخزون!B159,'قائمة المشتريات'!$E$4:$E$1000)","v":0},0,0,165,168,0]
[{"$f":"IF(C160=\"\",\"\",SUBTOTAL(3,C$4:C160))","v":""},null,null,"L157",{"$f":"SUMIF('قائمة المشتريات'!$B$4:$B$1000,المخزون!B160,'قائمة المشتريات'!$E$4:$E$1000)","v":0},0,0,166,169,0]
[{"$f":"IF(C161=\"\",\"\",SUBTOTAL(3,C$4:C161))","v":""},null,null,"L158",{"$f":"SUMIF('قائمة المشتريات'!$B$4:$B$1000,المخزون!B161,'قائمة المشتريات'!$E$4:$E$1000)","v":0},0,0,167,170,0]
[{"$f":"IF(C162=\"\",\"\",SUBTOTAL(3,C$4:C162))","v":""},null,null,"L159",{"$f":"SUMIF('قائمة المشتريات'!$B$4:$B$1000,المخزون!B162,'قائمة المشتريات'!$E$4:$E$1000)","v":0},0,0,168,171,0]
[{"$f":"IF(C163=\"\",\"\",SUBTOTAL(3,C$4:C163))","v":""},null,null,"L160",{"$f":"SUMIF('قائمة المشتريات'!$B$4:$B$1000,المخزون!B163,'قائمة المشتريات'!$E$4:$E$1000)","v":0},0,0,169,172,0]
[{"$f":"IF(C164=\"\",\"\",SUBTOTAL(3,C$4:C164))","v":""},null,null,"L161",{"$f":"SUMIF('قائمة المشتريات'!$B$4:$B$1000,المخزون!B164,'قائمة المشتريات'!$E$4:$E$1000)","v":0},0,0,170,173,0]
[{"$f":"IF(C165=\"\",\"\",SUBTOTAL(3,C$4:C165))","v":""},null,null,"L162",{"$f":"SUMIF('قائمة المشتريات'!$B$4:$B$1000,المخزون!B165,'قائمة المشتريات'!$E$4:$E$1000)","v":0},0,0,171,174,0]
[{"$f":"IF(C166=\"\",\"\",SUBTOTAL(3,C$4:C166))","v":""},null,null,"L163",{"$f":"SUMIF('قائمة المشتريات'!$B$4:$B$1000,المخزون!B166,'قائمة المشتريات'!$E$4:$E$1000)","v":0},0,0,172,175,0]
[{"$f":"IF(C167=\"\",\"\",SUBTOTAL(3,C$4:C167))","v":""},null,null,"L164",{"$f":"SUMIF('قائمة المشتريات'!$B$4:$B$1000,المخزون!B167,'قائمة المشتريات'!$E$4:$E$1000)","v":0},0,0,173,176,0]
[{"$f":"IF(C168=\"\",\"\",SUBTOTAL(3,C$4:C168))","v":""},null,null,"L165",{"$f":"SUMIF('قائمة المشتريات'!$B$4:$B$1000,المخزون!B168,'قائمة المشتريات'!$E$4:$E$1000)","v":0},0,0,174,177,0]
[{"$f":"IF(C169=\"\",\"\",SUBTOTAL(3,C$4:C169))","v":""},null,null,"L166",{"$f":"SUMIF('قائمة المشتريات'!$B$4:$B$1000,المخزون!B169,'قائمة المشتريات'!$E$4:$E$1000)","v":0},0,0,175,178,0]
[{"$f":"IF(C170=\"\",\"\",SUBTOTAL(3,C$4:C170))","v":""},null,null,"L167",{"$f":"SUMIF('قائمة المشتريات'!$B$4:$B$1000,المخزون!B170,'قائمة المشتريات'!$E$4:$E$1000)","v":0},0,0,176,179,0]
[{"$f":"IF(C171=\"\",\"\",SUBTOTAL(3,C$4:C171))","v":""},null,null,"L168",{"$f":"SUMIF('قائمة المشتريات'!$B$4:$B$1000,المخزون!B171,'قائمة المشتريات'!$E$4:$E$1000)","v":0},0,0,177,180,0]
[{"$f":"IF(C172=\"\",\"\",SUBTOTAL(3,C$4:C172))","v":""},null,null,"L169",{"$f":"SUMIF('قائمة المشتريات'!$B$4:$B$1000,المخزون!B172,'قائمة المشتريات'!$E$4:$E$1000)","v":0},0,0,178,181,0]
[{"$f":"IF(C173=\"\",\"\",SUBTOTAL(3,C$4:C173))","v":""},null,null,"L170",{"$f":"SUMIF('قائمة المشتريات'!$B$4:$B$1000,المخزون!B173,'قائمة المشتريات'!$E$4:$E$1000)","v":0},0,0,179,182,0]
[{"$f":"IF(C174=\"\",\"\",SUBTOTAL(3,C$4:C174))","v":""},null,null,"L171",{"$f":"SUMIF('قائمة المشتريات'!$B$4:$B$1000,المخزون!B174,'قائمة المشتريات'!$E$4:$E$1000)","v":0},0,0,180,183,0]
[{"$f":"IF(C175=\"\",\"\",SUBTOTAL(3,C$4:C175))","v":""},null,null,"L172",{"$f":"SUMIF('قائمة المشتريات'!$B$4:$B$1000,المخزون!B175,'قائمة المشتريات'!$E$4:$E$1000)","v":0},0,0,181,184,0]
[{"$f":"IF(C176=\"\",\"\",SUBTOTAL(3,C$4:C176))","v":""},null,null,"L173",{"$f":"SUMIF('قائمة المشتريات'!$B$4:$B$1000,المخزون!B176,'قائمة المشتريات'!$E$4:$E$1000)","v":0},0,0,182,185,0]
[{"$f":"IF(C177=\"\",\"\",SUBTOTAL(3,C$4:C177))","v":""},null,null,"L174",{"$f":"SUMIF('قائمة المشتريات'!$B$4:$B$1000,المخزون!B177,'قائمة المشتريات'!$E$4:$E$1000)","v":0},0,0,183,186,0]
[{"$f":"IF(C178=\"\",\"\",SUBTOTAL(3,C$4:C178))","v":""},null,null,"L175",{"$f":"SUMIF('قائمة المشتريات'!$B$4:$B$1000,المخزون!B178,'قائمة المشتريات'!$E$4:$E$1000)","v":0},0,0,184,187,0]
[{"$f":"IF(C179=\"\",\"\",SUBTOTAL(3,C$4:C179))","v":""},null,null,"L176",{"$f":"SUMIF('قائمة المشتريات'!$B$4:$B$1000,المخزون!B179,'قائمة المشتريات'!$E$4:$E$1000)","v":0},0,0,185,188,0]
[{"$f":"IF(C180=\"\",\"\",SUBTOTAL(3,C$4:C180))","v":""},null,null,"L177",{"$f":"SUMIF('قائمة المشتريات'!$B$4:$B$1000,المخزون!B180,'قائمة المشتريات'!$E$4:$E$1000)","v":0},0,0,186,189,0]
[{"$f":"IF(C181=\"\",\"\",SUBTOTAL(3,C$4:C181))","v":""},null,null,"L178",{"$f":"SUMIF('قائمة المشتريات'!$B$4:$B$1000,المخزون!B181,'قائمة المشتريات'!$E$4:$E$1000)","v":0},0,0,187,190,0]
[{"$f":"IF(C182=\"\",\"\",SUBTOTAL(3,C$4:C182))","v":""},null,null,"L179",{"$f":"SUMIF('قائمة المشتريات'!$B$4:$B$1000,المخزون!B182,'قائمة المشتريات'!$E$4:$E$1000)","v":0},0,0,188,191,0]
[{"$f":"IF(C183=\"\",\"\",SUBTOTAL(3,C$4:C183))","v":""},null,null,"L180",{"$f":"SUMIF('قائمة المشتريات'!$B$4:$B$1000,المخزون!B183,'قائمة المشتريات'!$E$4:$E$1000)","v":0},0,0,189,192,0]
[{"$f":"IF(C184=\"\",\"\",SUBTOTAL(3,C$4:C184))","v":""},null,null,"L181",{"$f":"SUMIF('قائمة المشتريات'!$B$4:$B$1000,المخزون!B184,'قائمة المشتريات'!$E$4:$E$1000)","v":0},0,0,190,193,0]
[{"$f":"IF(C185=\"\",\"\",SUBTOTAL(3,C$4:C185))","v":""},null,null,"L182",{"$f":"SUMIF('قائمة المشتريات'!$B$4:$B$1000,المخزون!B185,'قائمة المشتريات'!$E$4:$E$1000)","v":0},0,0,191,194,0]
[{"$f":"IF(C186=\"\",\"\",SUBTOTAL(3,C$4:C186))","v":""},null,null,"L183",{"$f":"SUMIF('قائمة المشتريات'!$B$4:$B$1000,المخزون!B186,'قائمة المشتريات'!$E$4:$E$1000)","v":0},0,0,192,195,0]
[{"$f":"IF(C187=\"\",\"\",SUBTOTAL(3,C$4:C187))","v":""},null,null,"L184",{"$f":"SUMIF('قائمة المشتريات'!$B$4:$B$1000,المخزون!B187,'قائمة المشتريات'!$E$4:$E$1000)","v":0},0,0,193,196,0]
[{"$f":"IF(C188=\"\",\"\",SUBTOTAL(3,C$4:C188))","v":""},null,null,"L185",{"$f":"SUMIF('قائمة المشتريات'!$B$4:$B$1000,المخزون!B188,'قائمة المشتريات'!$E$4:$E$1000)","v":0},0,0,194,197,0]
[{"$f":"IF(C189=\"\",\"\",SUBTOTAL(3,C$4:C189))","v":""},null,null,"L186",{"$f":"SUMIF('قائمة المشتريات'!$B$4:$B$1000,المخزون!B189,'قائمة المشتريات'!$E$4:$E$1000)","v":0},0,0,195,198,0]
[{"$f":"IF(C190=\"\",\"\",SUBTOTAL(3,C$4:C190))","v":""},null,null,"L187",{"$f":"SUMIF('قائمة المشتريات'!$B$4:$B$1000,المخزون!B190,'قائمة المشتريات'!$E$4:$E$1000)","v":0},0,0,196,199,0]
[{"$f":"IF(C191=\"\",\"\",SUBTOTAL(3,C$4:C191))","v":""},null,null,"L188",{"$f":"SUMIF('قائمة المشتريات'!$B$4:$B$1000,المخزون!B191,'قائمة المشتريات'!$E$4:$E$1000)","v":0},0,0,197,200,0]
[{"$f":"IF(C192=\"\",\"\",SUBTOTAL(3,C$4:C192))","v":""},null,null,"L189",{"$f":"SUMIF('قائمة المشتريات'!$B$4:$B$1000,المخزون!B192,'قائمة المشتريات'!$E$4:$E$1000)","v":0},0,0,198,201,0]
[{"$f":"IF(C193=\"\",\"\",SUBTOTAL(3,C$4:C193))","v":""},null,null,"L190",{"$f":"SUMIF('قائمة المشتريات'!$B$4:$B$1000,المخزون!B193,'قائمة المشتريات'!$E$4:$E$1000)","v":0},0,0,199,202,0]
[{"$f":"IF(C194=\"\",\"\",SUBTOTAL(3,C$4:C194))","v":""},null,null,"L191",{"$f":"SUMIF('قائمة المشتريات'!$B$4:$B$1000,المخزون!B194,'قائمة المشتريات'!$E$4:$E$1000)","v":0},0,0,200,203,0]
[{"$f":"IF(C195=\"\",\"\",SUBTOTAL(3,C$4:C195))","v":""},null,null,"L192",{"$f":"SUMIF('قائمة المشتريات'!$B$4:$B$1000,المخزون!B195,'قائمة المشتريات'!$E$4:$E$1000)","v":0},0,0,201,204,0]
[{"$f":"IF(C196=\"\",\"\",SUBTOTAL(3,C$4:C196))","v":""},null,null,"L193",{"$f":"SUMIF('قائمة المشتريات'!$B$4:$B$1000,المخزون!B196,'قائمة المشتريات'!$E$4:$E$1000)","v":0},0,0,202,205,0]
[{"$f":"IF(C197=\"\",\"\",SUBTOTAL(3,C$4:C197))","v":""},null,null,"L194",{"$f":"SUMIF('قائمة المشتريات'!$B$4:$B$1000,المخزون!B197,'قائمة المشتريات'!$E$4:$E$1000)","v":0},0,{"$f":"E197-F197","v":0},203,206,{"$f":"G197*I197","v":0}]
[{"$f":"IF(C198=\"\",\"\",SUBTOTAL(3,C$4:C198))","v":""},null,null,"L195",{"$f":"SUMIF('قائمة المشتريات'!$B$4:$B$1000,المخزون!B198,'قائمة المشتريات'!$E$4:$E$1000)","v":0},0,0,204,207,0]
[{"$f":"IF(C199=\"\",\"\",SUBTOTAL(3,C$4:C199))","v":""},null,null,"L196",{"$f":"SUMIF('قائمة المشتريات'!$B$4:$B$1000,المخزون!B199,'قائمة المشتريات'!$E$4:$E$1000)","v":0},0,0,205,208,0]
[{"$f":"IF(C200=\"\",\"\",SUBTOTAL(3,C$4:C200))","v":""},null,null,"L197",{"$f":"SUMIF('قائمة المشتريات'!$B$4:$B$1000,المخزون!B200,'قائمة المشتريات'!$E$4:$E$1000)","v":0},0,0,206,209,0]
[{"$f":"IF(C201=\"\",\"\",SUBTOTAL(3,C$4:C201))","v":""},null,null,"L198",{"$f":"SUMIF('قائمة المشتريات'!$B$4:$B$1000,المخزون!B201,'قائمة المشتريات'!$E$4:$E$1000)","v":0},0,0,207,210,0]
[{"$f":"IF(C202=\"\",\"\",SUBTOTAL(3,C$4:C202))","v":""},null,null,"L199",{"$f":"SUMIF('قائمة المشتريات'!$B$4:$B$1000,المخزون!B202,'قائمة المشتريات'!$E$4:$E$1000)","v":0},0,0,208,211,0]
[{"$f":"IF(C203=\"\",\"\",SUBTOTAL(3,C$4:C203))","v":""},null,null,"L200",{"$f":"SUMIF('قائمة المشتريات'!$B$4:$B$1000,المخزون!B203,'قائمة المشتريات'!$E$4:$E$1000)","v":0},0,0,209,212,0]
[{"$f":"IF(C204=\"\",\"\",SUBTOTAL(3,C$4:C204))","v":""},null,null,"L201",{"$f":"SUMIF('قائمة المشتريات'!$B$4:$B$1000,المخزون!B204,'قائمة المشتريات'!$E$4:$E$1000)","v":0},0,0,210,213,0]
[{"$f":"IF(C205=\"\",\"\",SUBTOTAL(3,C$4:C205))","v":""},null,null,"L202",{"$f":"SUMIF('قائمة المشتريات'!$B$4:$B$1000,المخزون!B205,'قائمة المشتريات'!$E$4:$E$1000)","v":0},0,0,211,214,0]
[{"$f":"IF(C206=\"\",\"\",SUBTOTAL(3,C$4:C206))","v":""},null,null,"L203",{"$f":"SUMIF('قائمة المشتريات'!$B$4:$B$1000,المخزون!B206,'قائمة المشتريات'!$E$4:$E$1000)","v":0},0,0,212,215,0]
[{"$f":"IF(C207=\"\",\"\",SUBTOTAL(3,C$4:C207))","v":""},null,null,"L204",{"$f":"SUMIF('قائمة المشتريات'!$B$4:$B$1000,المخزون!B207,'قائمة المشتريات'!$E$4:$E$1000)","v":0},0,0,213,216,0]
[{"$f":"IF(C208=\"\",\"\",SUBTOTAL(3,C$4:C208))","v":""},null,null,"L205",{"$f":"SUMIF('قائمة المشتريات'!$B$4:$B$1000,المخزون!B208,'قائمة المشتريات'!$E$4:$E$1000)","v":0},0,0,214,217,0]
[{"$f":"IF(C209=\"\",\"\",SUBTOTAL(3,C$4:C209))","v":""},null,null,"L206",{"$f":"SUMIF('قائمة المشتريات'!$B$4:$B$1000,المخزون!B209,'قائمة المشتريات'!$E$4:$E$1000)","v":0},0,0,215,218,0]
[{"$f":"IF(C210=\"\",\"\",SUBTOTAL(3,C$4:C210))","v":""},null,null,"L207",{"$f":"SUMIF('قائمة المشتريات'!$B$4:$B$1000,المخزون!B210,'قائمة المشتريات'!$E$4:$E$1000)","v":0},0,0,216,219,0]
[{"$f":"IF(C211=\"\",\"\",SUBTOTAL(3,C$4:C211))","v":""},null,null,"L208",{"$f":"SUMIF('قائمة المشتريات'!$B$4:$B$1000,المخزون!B211,'قائمة المشتريات'!$E$4:$E$1000)","v":0},0,0,217,220,0]
[{"$f":"IF(C212=\"\",\"\",SUBTOTAL(3,C$4:C212))","v":""},null,null,"L209",{"$f":"SUMIF('قائمة المشتريات'!$B$4:$B$1000,المخزون!B212,'قائمة المشتريات'!$E$4:$E$1000)","v":0},0,0,218,221,0]
[{"$f":"IF(C213=\"\",\"\",SUBTOTAL(3,C$4:C213))","v":""},null,null,"L210",{"$f":"SUMIF('قائمة المشتريات'!$B$4:$B$1000,المخزون!B213,'قائمة المشتريات'!$E$4:$E$1000)","v":0},0,0,219,222,0]
[{"$f":"IF(C214=\"\",\"\",SUBTOTAL(3,C$4:C214))","v":""},null,null,"L211",{"$f":"SUMIF('قائمة المشتريات'!$B$4:$B$1000,المخزون!B214,'قائمة المشتريات'!$E$4:$E$1000)","v":0},0,0,220,223,0]
[{"$f":"IF(C215=\"\",\"\",SUBTOTAL(3,C$4:C215))","v":""},null,null,"L212",{"$f":"SUMIF('قائمة المشتريات'!$B$4:$B$1000,المخزون!B215,'قائمة المشتريات'!$E$4:$E$1000)","v":0},0,0,221,224,0]
[{"$f":"IF(C216=\"\",\"\",SUBTOTAL(3,C$4:C216))","v":""},null,null,"L213",{"$f":"SUMIF('قائمة المشتريات'!$B$4:$B$1000,المخزون!B216,'قائمة المشتريات'!$E$4:$E$1000)","v":0},0,0,222,225,0]
[{"$f":"IF(C217=\"\",\"\",SUBTOTAL(3,C$4:C217))","v":""},null,null,"L214",{"$f":"SUMIF('قائمة المشتريات'!$B$4:$B$1000,المخزون!B217,'قائمة المشتريات'!$E$4:$E$1000)","v":0},0,0,223,226,0]
[{"$f":"IF(C218=\"\",\"\",SUBTOTAL(3,C$4:C218))","v":""},null,null,"L215",{"$f":"SUMIF('قائمة المشتريات'!$B$4:$B$1000,المخزون!B218,'قائمة المشتريات'!$E$4:$E$1000)","v":0},0,0,224,227,0]
[{"$f":"IF(C219=\"\",\"\",SUBTOTAL(3,C$4:C219))","v":""},null,null,"L216",{"$f":"SUMIF('قائمة المشتريات'!$B$4:$B$1000,المخزون!B219,'قائمة المشتريات'!$E$4:$E$1000)","v":0},0,0,225,228,0]
[{"$f":"IF(C220=\"\",\"\",SUBTOTAL(3,C$4:C220))","v":""},null,null,"L217",{"$f":"SUMIF('قائمة المشتريات'!$B$4:$B$1000,المخزون!B220,'قائمة المشتريات'!$E$4:$E$1000)","v":0},0,0,226,229,0]
[{"$f":"IF(C221=\"\",\"\",SUBTOTAL(3,C$4:C221))","v":""},null,null,"L218",{"$f":"SUMIF('قائمة المشتريات'!$B$4:$B$1000,المخزون!B221,'قائمة المشتريات'!$E$4:$E$1000)","v":0},0,0,227,230,0]
[{"$f":"IF(C222=\"\",\"\",SUBTOTAL(3,C$4:C222))","v":""},null,null,"L219",{"$f":"SUMIF('قائمة المشتريات'!$B$4:$B$1000,المخزون!B222,'قائمة المشتريات'!$E$4:$E$1000)","v":0},0,0,228,231,0]
[{"$f":"IF(C223=\"\",\"\",SUBTOTAL(3,C$4:C223))","v":""},null,null,"L220",{"$f":"SUMIF('قائمة المشتريات'!$B$4:$B$1000,المخزون!B223,'قائمة المشتريات'!$E$4:$E$1000)","v":0},0,0,229,232,0]
[{"$f":"IF(C224=\"\",\"\",SUBTOTAL(3,C$4:C224))","v":""},null,null,"L221",{"$f":"SUMIF('قائمة المشتريات'!$B$4:$B$1000,المخزون!B224,'قائمة المشتريات'!$E$4:$E$1000)","v":0},0,0,230,233,0]
[{"$f":"IF(C225=\"\",\"\",SUBTOTAL(3,C$4:C225))","v":""},null,null,"L222",{"$f":"SUMIF('قائمة المشتريات'!$B$4:$B$1000,المخزون!B225,'قائمة المشتريات'!$E$4:$E$1000)","v":0},0,0,231,234,0]
[{"$f":"IF(C226=\"\",\"\",SUBTOTAL(3,C$4:C226))","v":""},null,null,"L223",{"$f":"SUMIF('قائمة المشتريات'!$B$4:$B$1000,المخزون!B226,'قائمة المشتريات'!$E$4:$E$1000)","v":0},0,0,232,235,0]
[{"$f":"IF(C227=\"\",\"\",SUBTOTAL(3,C$4:C227))","v":""},null,null,"L224",{"$f":"SUMIF('قائمة المشتريات'!$B$4:$B$1000,المخزون!B227,'قائمة المشتريات'!$E$4:$E$1000)","v":0},0,0,233,236,0]
[{"$f":"IF(C228=\"\",\"\",SUBTOTAL(3,C$4:C228))","v":""},null,null,"L225",{"$f":"SUMIF('قائمة المشتريات'!$B$4:$B$1000,المخزون!B228,'قائمة المشتريات'!$E$4:$E$1000)","v":0},0,0,234,237,0]
[{"$f":"IF(C229=\"\",\"\",SUBTOTAL(3,C$4:C229))","v":""},null,null,"L226",{"$f":"SUMIF('قائمة المشتريات'!$B$4:$B$1000,المخزون!B229,'قائمة المشتريات'!$E$4:$E$1000)","v":0},0,0,235,238,0]
[{"$f":"IF(C230=\"\",\"\",SUBTOTAL(3,C$4:C230))","v":""},null,null,"L227",{"$f":"SUMIF('قائمة المشتريات'!$B$4:$B$1000,المخزون!B230,'قائمة المشتريات'!$E$4:$E$1000)","v":0},0,0,236,239,0]
[{"$f":"IF(C231=\"\",\"\",SUBTOTAL(3,C$4:C231))","v":""},null,null,"L228",{"$f":"SUMIF('قائمة المشتريات'!$B$4:$B$1000,المخزون!B231,'قائمة المشتريات'!$E$4:$E$1000)","v":0},0,0,237,240,0]
[{"$f":"IF(C232=\"\",\"\",SUBTOTAL(3,C$4:C232))","v":""},null,null,"L229",{"$f":"SUMIF('قائمة المشتريات'!$B$4:$B$1000,المخزون!B232,'قائمة المشتريات'!$E$4:$E$1000)","v":0},0,0,238,241,0]
[{"$f":"IF(C233=\"\",\"\",SUBTOTAL(3,C$4:C233))","v":""},null,null,"L230",{"$f":"SUMIF('قائمة المشتريات'!$B$4:$B$1000,المخزون!B233,'قائمة المشتريات'!$E$4:$E$1000)","v":0},0,0,239,242,0]
[{"$f":"IF(C234=\"\",\"\",SUBTOTAL(3,C$4:C234))","v":""},null,null,"L231",{"$f":"SUMIF('قائمة المشتريات'!$B$4:$B$1000,المخزون!B234,'قائمة المشتريات'!$E$4:$E$1000)","v":0},0,0,240,243,0]
[{"$f":"IF(C235=\"\",\"\",SUBTOTAL(3,C$4:C235))","v":""},null,null,"L232",{"$f":"SUMIF('قائمة المشتريات'!$B$4:$B$1000,المخزون!B235,'قائمة المشتريات'!$E$4:$E$1000)","v":0},0,0,241,244,0]
[{"$f":"IF(C236=\"\",\"\",SUBTOTAL(3,C$4:C236))","v":""},null,null,"L233",{"$f":"SUMIF('قائمة المشتريات'!$B$4:$B$1000,المخزون!B236,'قائمة المشتريات'!$E$4:$E$1000)","v":0},0,0,242,245,0]
[{"$f":"IF(C237=\"\",\"\",SUBTOTAL(3,C$4:C237))","v":""},null,null,"L234",{"$f":"SUMIF('قائمة المشتريات'!$B$4:$B$1000,المخزون!B237,'قائمة المشتريات'!$E$4:$E$1000)","v":0},0,0,243,246,0]
[{"$f":"IF(C238=\"\",\"\",SUBTOTAL(3,C$4:C238))","v":""},null,null,"L235",{"$f":"SUMIF('قائمة المشتريات'!$B$4:$B$1000,المخزون!B238,'قائمة المشتريات'!$E$4:$E$1000)","v":0},0,0,244,247,0]
[{"$f":"IF(C239=\"\",\"\",SUBTOTAL(3,C$4:C239))","v":""},null,null,"L236",{"$f":"SUMIF('قائمة المشتريات'!$B$4:$B$1000,المخزون!B239,'قائمة المشتريات'!$E$4:$E$1000)","v":0},0,0,245,248,0]
[{"$f":"IF(C240=\"\",\"\",SUBTOTAL(3,C$4:C240))","v":""},null,null,"L237",{"$f":"SUMIF('قائمة المشتريات'!$B$4:$B$1000,المخزون!B240,'قائمة المشتريات'!$E$4:$E$1000)","v":0},0,0,246,249,0]
[{"$f":"IF(C241=\"\",\"\",SUBTOTAL(3,C$4:C241))","v":""},null,null,"L238",{"$f":"SUMIF('قائمة المشتريات'!$B$4:$B$1000,المخزون!B241,'قائمة المشتريات'!$E$4:$E$1000)","v":0},0,0,247,250,0]
[{"$f":"IF(C242=\"\",\"\",SUBTOTAL(3,C$4:C242))","v":""},null,null,"L239",{"$f":"SUMIF('قائمة المشتريات'!$B$4:$B$1000,المخزون!B242,'قائمة المشتريات'!$E$4:$E$1000)","v":0},0,0,248,251,0]
[{"$f":"IF(C243=\"\",\"\",SUBTOTAL(3,C$4:C243))","v":""},null,null,"L240",{"$f":"SUMIF('قائمة المشتريات'!$B$4:$B$1000,المخزون!B243,'قائمة المشتريات'!$E$4:$E$1000)","v":0},0,0,249,252,0]
[{"$f":"IF(C244=\"\",\"\",SUBTOTAL(3,C$4:C244))","v":""},null,null,"L241",{"$f":"SUMIF('قائمة المشتريات'!$B$4:$B$1000,المخزون!B244,'قائمة المشتريات'!$E$4:$E$1000)","v":0},0,0,250,253,0]
[{"$f":"IF(C245=\"\",\"\",SUBTOTAL(3,C$4:C245))","v":""},null,null,"L242",{"$f":"SUMIF('قائمة المشتريات'!$B$4:$B$1000,المخزون!B245,'قائمة المشتريات'!$E$4:$E$1000)","v":0},0,0,251,254,0]
[{"$f":"IF(C246=\"\",\"\",SUBTOTAL(3,C$4:C246))","v":""},null,null,"L243",{"$f":"SUMIF('قائمة المشتريات'!$B$4:$B$1000,المخزون!B246,'قائمة المشتريات'!$E$4:$E$1000)","v":0},0,0,252,255,0]
[{"$f":"IF(C247=\"\",\"\",SUBTOTAL(3,C$4:C247))","v":""},null,null,"L244",{"$f":"SUMIF('قائمة المشتريات'!$B$4:$B$1000,المخزون!B247,'قائمة المشتريات'!$E$4:$E$1000)","v":0},0,0,253,256,0]
[{"$f":"IF(C248=\"\",\"\",SUBTOTAL(3,C$4:C248))","v":""},null,null,"L245",{"$f":"SUMIF('قائمة المشتريات'!$B$4:$B$1000,المخزون!B248,'قائمة المشتريات'!$E$4:$E$1000)","v":0},0,0,254,257,0]
[{"$f":"IF(C249=\"\",\"\",SUBTOTAL(3,C$4:C249))","v":""},null,null,"L246",{"$f":"SUMIF('قائمة المشتريات'!$B$4:$B$1000,المخزون!B249,'قائمة المشتريات'!$E$4:$E$1000)","v":0},0,0,255,258,0]
[{"$f":"IF(C250=\"\",\"\",SUBTOTAL(3,C$4:C250))","v":""},null,null,"L247",{"$f":"SUMIF('قائمة المشتريات'!$B$4:$B$1000,المخزون!B250,'قائمة المشتريات'!$E$4:$E$1000)","v":0},0,0,256,259,0]
[{"$f":"IF(C251=\"\",\"\",SUBTOTAL(3,C$4:C251))","v":""},null,null,"L248",{"$f":"SUMIF('قائمة المشتريات'!$B$4:$B$1000,المخزون!B251,'قائمة المشتريات'!$E$4:$E$1000)","v":0},0,0,257,260,0]
[{"$f":"IF(C252=\"\",\"\",SUBTOTAL(3,C$4:C252))","v":""},null,null,"L249",{"$f":"SUMIF('قائمة المشتريات'!$B$4:$B$1000,المخزون!B252,'قائمة المشتريات'!$E$4:$E$1000)","v":0},0,0,258,261,0]
[{"$f":"IF(C253=\"\",\"\",SUBTOTAL(3,C$4:C253))","v":""},null,null,"L250",{"$f":"SUMIF('قائمة المشتريات'!$B$4:$B$1000,المخزون!B253,'قائمة المشتريات'!$E$4:$E$1000)","v":0},0,0,259,262,0]
[{"$f":"IF(C254=\"\",\"\",SUBTOTAL(3,C$4:C254))","v":""},null,null,"L251",{"$f":"SUMIF('قائمة المشتريات'!$B$4:$B$1000,المخزون!B254,'قائمة المشتريات'!$E$4:$E$1000)","v":0},0,0,260,263,0]
[{"$f":"IF(C255=\"\",\"\",SUBTOTAL(3,C$4:C255))","v":""},null,null,"L252",{"$f":"SUMIF('قائمة المشتريات'!$B$4:$B$1000,المخزون!B255,'قائمة المشتريات'!$E$4:$E$1000)","v":0},0,0,261,264,0]
[{"$f":"IF(C256=\"\",\"\",SUBTOTAL(3,C$4:C256))","v":""},null,null,"L253",{"$f":"SUMIF('قائمة المشتريات'!$B$4:$B$1000,المخزون!B256,'قائمة المشتريات'!$E$4:$E$1000)","v":0},0,0,262,265,0]
[{"$f":"IF(C257=\"\",\"\",SUBTOTAL(3,C$4:C257))","v":""},null,null,"L254",{"$f":"SUMIF('قائمة المشتريات'!$B$4:$B$1000,المخزون!B257,'قائمة المشتريات'!$E$4:$E$1000)","v":0},0,0,263,266,0]
[{"$f":"IF(C258=\"\",\"\",SUBTOTAL(3,C$4:C258))","v":""},null,null,"L255",{"$f":"SUMIF('قائمة المشتريات'!$B$4:$B$1000,المخزون!B258,'قائمة المشتريات'!$E$4:$E$1000)","v":0},0,0,264,267,0]
[{"$f":"IF(C259=\"\",\"\",SUBTOTAL(3,C$4:C259))","v":""},null,null,"L256",{"$f":"SUMIF('قائمة المشتريات'!$B$4:$B$1000,المخزون!B259,'قائمة المشتريات'!$E$4:$E$1000)","v":0},0,0,265,268,0]
[{"$f":"IF(C260=\"\",\"\",SUBTOTAL(3,C$4:C260))","v":""},null,null,"L257",{"$f":"SUMIF('قائمة المشتريات'!$B$4:$B$1000,المخزون!B260,'قائمة المشتريات'!$E$4:$E$1000)","v":0},0,0,266,269,0]
[{"$f":"IF(C261=\"\",\"\",SUBTOTAL(3,C$4:C261))","v":""},null,null,"L258",{"$f":"SUMIF('قائمة المشتريات'!$B$4:$B$1000,المخزون!B261,'قائمة المشتريات'!$E$4:$E$1000)","v":0},0,{"$f":"E261-F261","v":0},267,270,{"$f":"G261*I261","v":0}]
[{"$f":"IF(C262=\"\",\"\",SUBTOTAL(3,C$4:C262))","v":""},null,null,"L259",{"$f":"SUMIF('قائمة المشتريات'!$B$4:$B$1000,المخزون!B262,'قائمة المشتريات'!$E$4:$E$1000)","v":0},0,0,268,271,0]
[{"$f":"IF(C263=\"\",\"\",SUBTOTAL(3,C$4:C263))","v":""},null,null,"L260",{"$f":"SUMIF('قائمة المشتريات'!$B$4:$B$1000,المخزون!B263,'قائمة المشتريات'!$E$4:$E$1000)","v":0},0,0,269,272,0]
[{"$f":"IF(C264=\"\",\"\",SUBTOTAL(3,C$4:C264))","v":""},null,null,"L261",{"$f":"SUMIF('قائمة المشتريات'!$B$4:$B$1000,المخزون!B264,'قائمة المشتريات'!$E$4:$E$1000)","v":0},0,0,270,273,0]
[{"$f":"IF(C265=\"\",\"\",SUBTOTAL(3,C$4:C265))","v":""},null,null,"L262",{"$f":"SUMIF('قائمة المشتريات'!$B$4:$B$1000,المخزون!B265,'قائمة المشتريات'!$E$4:$E$1000)","v":0},0,0,271,274,0]
[{"$f":"IF(C266=\"\",\"\",SUBTOTAL(3,C$4:C266))","v":""},null,null,"L263",{"$f":"SUMIF('قائمة المشتريات'!$B$4:$B$1000,المخزون!B266,'قائمة المشتريات'!$E$4:$E$1000)","v":0},0,0,272,275,0]
[{"$f":"IF(C267=\"\",\"\",SUBTOTAL(3,C$4:C267))","v":""},null,null,"L264",{"$f":"SUMIF('قائمة المشتريات'!$B$4:$B$1000,المخزون!B267,'قائمة المشتريات'!$E$4:$E$1000)","v":0},0,0,273,276,0]
[{"$f":"IF(C268=\"\",\"\",SUBTOTAL(3,C$4:C268))","v":""},null,null,"L265",{"$f":"SUMIF('قائمة المشتريات'!$B$4:$B$1000,المخزون!B268,'قائمة المشتريات'!$E$4:$E$1000)","v":0},0,0,274,277,0]
[{"$f":"IF(C269=\"\",\"\",SUBTOTAL(3,C$4:C269))","v":""},null,null,"L266",{"$f":"SUMIF('قائمة المشتريات'!$B$4:$B$1000,المخزون!B269,'قائمة المشتريات'!$E$4:$E$1000)","v":0},0,0,275,278,0]
[{"$f":"IF(C270=\"\",\"\",SUBTOTAL(3,C$4:C270))","v":""},null,null,"L267",{"$f":"SUMIF('قائمة المشتريات'!$B$4:$B$1000,المخزون!B270,'قائمة المشتريات'!$E$4:$E$1000)","v":0},0,0,276,279,0]
[{"$f":"IF(C271=\"\",\"\",SUBTOTAL(3,C$4:C271))","v":""},null,null,"L268",{"$f":"SUMIF('قائمة المشتريات'!$B$4:$B$1000,المخزون!B271,'قائمة المشتريات'!$E$4:$E$1000)","v":0},0,0,277,280,0]
[{"$f":"IF(C272=\"\",\"\",SUBTOTAL(3,C$4:C272))","v":""},null,null,"L269",{"$f":"SUMIF('قائمة المشتريات'!$B$4:$B$1000,المخزون!B272,'قائمة المشتريات'!$E$4:$E$1000)","v":0},0,0,278,281,0]
[{"$f":"IF(C273=\"\",\"\",SUBTOTAL(3,C$4:C273))","v":""},null,null,"L270",{"$f":"SUMIF('قائمة المشتريات'!$B$4:$B$1000,المخزون!B273,'قائمة المشتريات'!$E$4:$E$1000)","v":0},0,0,279,282,0]
[{"$f":"IF(C274=\"\",\"\",SUBTOTAL(3,C$4:C274))","v":""},null,null,"L271",{"$f":"SUMIF('قائمة المشتريات'!$B$4:$B$1000,المخزون!B274,'قائمة المشتريات'!$E$4:$E$1000)","v":0},0,0,280,283,0]
[{"$f":"IF(C275=\"\",\"\",SUBTOTAL(3,C$4:C275))","v":""},null,null,"L272",{"$f":"SUMIF('قائمة المشتريات'!$B$4:$B$1000,المخزون!B275,'قائمة المشتريات'!$E$4:$E$1000)","v":0},0,0,281,284,0]
[{"$f":"IF(C276=\"\",\"\",SUBTOTAL(3,C$4:C276))","v":""},null,null,"L273",{"$f":"SUMIF('قائمة المشتريات'!$B$4:$B$1000,المخزون!B276,'قائمة المشتريات'!$E$4:$E$1000)","v":0},0,0,282,285,0]
[{"$f":"IF(C277=\"\",\"\",SUBTOTAL(3,C$4:C277))","v":""},null,null,"L274",{"$f":"SUMIF('قائمة المشتريات'!$B$4:$B$1000,المخزون!B277,'قائمة المشتريات'!$E$4:$E$1000)","v":0},0,0,283,286,0]
[{"$f":"IF(C278=\"\",\"\",SUBTOTAL(3,C$4:C278))","v":""},null,null,"L275",{"$f":"SUMIF('قائمة المشتريات'!$B$4:$B$1000,المخزون!B278,'قائمة المشتريات'!$E$4:$E$1000)","v":0},0,0,284,287,0]
[{"$f":"IF(C279=\"\",\"\",SUBTOTAL(3,C$4:C279))","v":""},null,null,"L276",{"$f":"SUMIF('قائمة المشتريات'!$B$4:$B$1000,المخزون!B279,'قائمة المشتريات'!$E$4:$E$1000)","v":0},0,0,285,288,0]
[{"$f":"IF(C280=\"\",\"\",SUBTOTAL(3,C$4:C280))","v":""},null,null,"L277",{"$f":"SUMIF('قائمة المشتريات'!$B$4:$B$1000,المخزون!B280,'قائمة المشتريات'!$E$4:$E$1000)","v":0},0,0,286,289,0]
[{"$f":"IF(C281=\"\",\"\",SUBTOTAL(3,C$4:C281))","v":""},null,null,"L278",{"$f":"SUMIF('قائمة المشتريات'!$B$4:$B$1000,المخزون!B281,'قائمة المشتريات'!$E$4:$E$1000)","v":0},0,0,287,290,0]
[{"$f":"IF(C282=\"\",\"\",SUBTOTAL(3,C$4:C282))","v":""},null,null,"L279",{"$f":"SUMIF('قائمة المشتريات'!$B$4:$B$1000,المخزون!B282,'قائمة المشتريات'!$E$4:$E$1000)","v":0},0,0,288,291,0]
[{"$f":"IF(C283=\"\",\"\",SUBTOTAL(3,C$4:C283))","v":""},null,null,"L280",{"$f":"SUMIF('قائمة المشتريات'!$B$4:$B$1000,المخزون!B283,'قائمة المشتريات'!$E$4:$E$1000)","v":0},0,0,289,292,0]
[{"$f":"IF(C284=\"\",\"\",SUBTOTAL(3,C$4:C284))","v":""},null,null,"L281",{"$f":"SUMIF('قائمة المشتريات'!$B$4:$B$1000,المخزون!B284,'قائمة المشتريات'!$E$4:$E$1000)","v":0},0,0,290,293,0]
[{"$f":"IF(C285=\"\",\"\",SUBTOTAL(3,C$4:C285))","v":""},null,null,"L282",{"$f":"SUMIF('قائمة المشتريات'!$B$4:$B$1000,المخزون!B285,'قائمة المشتريات'!$E$4:$E$1000)","v":0},0,0,291,294,0]
[{"$f":"IF(C286=\"\",\"\",SUBTOTAL(3,C$4:C286))","v":""},null,null,"L283",{"$f":"SUMIF('قائمة المشتريات'!$B$4:$B$1000,المخزون!B286,'قائمة المشتريات'!$E$4:$E$1000)","v":0},0,0,292,295,0]
[{"$f":"IF(C287=\"\",\"\",SUBTOTAL(3,C$4:C287))","v":""},null,null,"L284",{"$f":"SUMIF('قائمة المشتريات'!$B$4:$B$1000,المخزون!B287,'قائمة المشتريات'!$E$4:$E$1000)","v":0},0,0,293,296,0]
[{"$f":"IF(C288=\"\",\"\",SUBTOTAL(3,C$4:C288))","v":""},null,null,"L285",{"$f":"SUMIF('قائمة المشتريات'!$B$4:$B$1000,المخزون!B288,'قائمة المشتريات'!$E$4:$E$1000)","v":0},0,0,294,297,0]
[{"$f":"IF(C289=\"\",\"\",SUBTOTAL(3,C$4:C289))","v":""},null,null,"L286",{"$f":"SUMIF('قائمة المشتريات'!$B$4:$B$1000,المخزون!B289,'قائمة المشتريات'!$E$4:$E$1000)","v":0},0,0,295,298,0]
[{"$f":"IF(C290=\"\",\"\",SUBTOTAL(3,C$4:C290))","v":""},null,null,"L287",{"$f":"SUMIF('قائمة المشتريات'!$B$4:$B$1000,المخزون!B290,'قائمة المشتريات'!$E$4:$E$1000)","v":0},0,0,296,299,0]
[{"$f":"IF(C291=\"\",\"\",SUBTOTAL(3,C$4:C291))","v":""},null,null,"L288",{"$f":"SUMIF('قائمة المشتريات'!$B$4:$B$1000,المخزون!B291,'قائمة المشتريات'!$E$4:$E$1000)","v":0},0,0,297,300,0]
[{"$f":"IF(C292=\"\",\"\",SUBTOTAL(3,C$4:C292))","v":""},null,null,"L289",{"$f":"SUMIF('قائمة المشتريات'!$B$4:$B$1000,المخزون!B292,'قائمة المشتريات'!$E$4:$E$1000)","v":0},0,0,298,301,0]
[{"$f":"IF(C293=\"\",\"\",SUBTOTAL(3,C$4:C293))","v":""},null,null,"L290",{"$f":"SUMIF('قائمة المشتريات'!$B$4:$B$1000,المخزون!B293,'قائمة المشتريات'!$E$4:$E$1000)","v":0},0,0,299,302,0]
[{"$f":"IF(C294=\"\",\"\",SUBTOTAL(3,C$4:C294))","v":""},null,null,"L291",{"$f":"SUMIF('قائمة المشتريات'!$B$4:$B$1000,المخزون!B294,'قائمة المشتريات'!$E$4:$E$1000)","v":0},0,0,300,303,0]
[{"$f":"IF(C295=\"\",\"\",SUBTOTAL(3,C$4:C295))","v":""},null,null,"L292",{"$f":"SUMIF('قائمة المشتريات'!$B$4:$B$1000,المخزون!B295,'قائمة المشتريات'!$E$4:$E$1000)","v":0},0,0,301,304,0]
[{"$f":"IF(C296=\"\",\"\",SUBTOTAL(3,C$4:C296))","v":""},null,null,"L293",{"$f":"SUMIF('قائمة المشتريات'!$B$4:$B$1000,المخزون!B296,'قائمة المشتريات'!$E$4:$E$1000)","v":0},0,0,302,305,0]
[{"$f":"IF(C297=\"\",\"\",SUBTOTAL(3,C$4:C297))","v":""},null,null,"L294",{"$f":"SUMIF('قائمة المشتريات'!$B$4:$B$1000,المخزون!B297,'قائمة المشتريات'!$E$4:$E$1000)","v":0},0,0,303,306,0]
[{"$f":"IF(C298=\"\",\"\",SUBTOTAL(3,C$4:C298))","v":""},null,null,"L295",{"$f":"SUMIF('قائمة المشتريات'!$B$4:$B$1000,المخزون!B298,'قائمة المشتريات'!$E$4:$E$1000)","v":0},0,0,304,307,0]
[{"$f":"IF(C299=\"\",\"\",SUBTOTAL(3,C$4:C299))","v":""},null,null,"L296",{"$f":"SUMIF('قائمة المشتريات'!$B$4:$B$1000,المخزون!B299,'قائمة المشتريات'!$E$4:$E$1000)","v":0},0,0,305,308,0]
[{"$f":"IF(C300=\"\",\"\",SUBTOTAL(3,C$4:C300))","v":""},null,null,"L297",{"$f":"SUMIF('قائمة المشتريات'!$B$4:$B$1000,المخزون!B300,'قائمة المشتريات'!$E$4:$E$1000)","v":0},0,0,306,309,0]
[{"$f":"IF(C301=\"\",\"\",SUBTOTAL(3,C$4:C301))","v":""},null,null,"L298",{"$f":"SUMIF('قائمة المشتريات'!$B$4:$B$1000,المخزون!B301,'قائمة المشتريات'!$E$4:$E$1000)","v":0},0,0,307,310,0]
[{"$f":"IF(C302=\"\",\"\",SUBTOTAL(3,C$4:C302))","v":""},null,null,"L299",{"$f":"SUMIF('قائمة المشتريات'!$B$4:$B$1000,المخزون!B302,'قائمة المشتريات'!$E$4:$E$1000)","v":0},0,0,308,311,0]
[{"$f":"IF(C303=\"\",\"\",SUBTOTAL(3,C$4:C303))","v":""},null,null,"L300",{"$f":"SUMIF('قائمة المشتريات'!$B$4:$B$1000,المخزون!B303,'قائمة المشتريات'!$E$4:$E$1000)","v":0},0,0,309,312,0]
[{"$f":"IF(C304=\"\",\"\",SUBTOTAL(3,C$4:C304))","v":""},null,null,"L301",{"$f":"SUMIF('قائمة المشتريات'!$B$4:$B$1000,المخزون!B304,'قائمة المشتريات'!$E$4:$E$1000)","v":0},0,0,310,313,0]
[{"$f":"IF(C305=\"\",\"\",SUBTOTAL(3,C$4:C305))","v":""},null,null,"L302",{"$f":"SUMIF('قائمة المشتريات'!$B$4:$B$1000,المخزون!B305,'قائمة المشتريات'!$E$4:$E$1000)","v":0},0,0,311,314,0]
[{"$f":"IF(C306=\"\",\"\",SUBTOTAL(3,C$4:C306))","v":""},null,null,"L303",{"$f":"SUMIF('قائمة المشتريات'!$B$4:$B$1000,المخزون!B306,'قائمة المشتريات'!$E$4:$E$1000)","v":0},0,0,312,315,0]
[{"$f":"IF(C307=\"\",\"\",SUBTOTAL(3,C$4:C307))","v":""},null,null,"L304",{"$f":"SUMIF('قائمة المشتريات'!$B$4:$B$1000,المخزون!B307,'قائمة المشتريات'!$E$4:$E$1000)","v":0},0,0,313,316,0]
[{"$f":"IF(C308=\"\",\"\",SUBTOTAL(3,C$4:C308))","v":""},null,null,"L305",{"$f":"SUMIF('قائمة المشتريات'!$B$4:$B$1000,المخزون!B308,'قائمة المشتريات'!$E$4:$E$1000)","v":0},0,0,314,317,0]
[{"$f":"IF(C309=\"\",\"\",SUBTOTAL(3,C$4:C309))","v":""},null,null,"L306",{"$f":"SUMIF('قائمة المشتريات'!$B$4:$B$1000,المخزون!B309,'قائمة المشتريات'!$E$4:$E$1000)","v":0},0,0,315,318,0]
[{"$f":"IF(C310=\"\",\"\",SUBTOTAL(3,C$4:C310))","v":""},null,null,"L307",{"$f":"SUMIF('قائمة المشتريات'!$B$4:$B$1000,المخزون!B310,'قائمة المشتريات'!$E$4:$E$1000)","v":0},0,0,316,319,0]
[{"$f":"IF(C311=\"\",\"\",SUBTOTAL(3,C$4:C311))","v":""},null,null,"L308",{"$f":"SUMIF('قائمة المشتريات'!$B$4:$B$1000,المخزون!B311,'قائمة المشتريات'!$E$4:$E$1000)","v":0},0,0,317,320,0]
[{"$f":"IF(C312=\"\",\"\",SUBTOTAL(3,C$4:C312))","v":""},null,null,"L309",{"$f":"SUMIF('قائمة المشتريات'!$B$4:$B$1000,المخزون!B312,'قائمة المشتريات'!$E$4:$E$1000)","v":0},0,0,318,321,0]
[{"$f":"IF(C313=\"\",\"\",SUBTOTAL(3,C$4:C313))","v":""},null,null,"L310",{"$f":"SUMIF('قائمة المشتريات'!$B$4:$B$1000,المخزون!B313,'قائمة المشتريات'!$E$4:$E$1000)","v":0},0,0,319,322,0]
[{"$f":"IF(C314=\"\",\"\",SUBTOTAL(3,C$4:C314))","v":""},null,null,"L311",{"$f":"SUMIF('قائمة المشتريات'!$B$4:$B$1000,المخزون!B314,'قائمة المشتريات'!$E$4:$E$1000)","v":0},0,0,320,323,0]
[{"$f":"IF(C315=\"\",\"\",SUBTOTAL(3,C$4:C315))","v":""},null,null,"L312",{"$f":"SUMIF('قائمة المشتريات'!$B$4:$B$1000,المخزون!B315,'قائمة المشتريات'!$E$4:$E$1000)","v":0},0,0,321,324,0]
[{"$f":"IF(C316=\"\",\"\",SUBTOTAL(3,C$4:C316))","v":""},null,null,"L313",{"$f":"SUMIF('قائمة المشتريات'!$B$4:$B$1000,المخزون!B316,'قائمة المشتريات'!$E$4:$E$1000)","v":0},0,0,322,325,0]
[{"$f":"IF(C317=\"\",\"\",SUBTOTAL(3,C$4:C317))","v":""},null,null,"L314",{"$f":"SUMIF('قائمة المشتريات'!$B$4:$B$1000,المخزون!B317,'قائمة المشتريات'!$E$4:$E$1000)","v":0},0,0,323,326,0]
[{"$f":"IF(C318=\"\",\"\",SUBTOTAL(3,C$4:C318))","v":""},null,null,"L315",{"$f":"SUMIF('قائمة المشتريات'!$B$4:$B$1000,المخزون!B318,'قائمة المشتريات'!$E$4:$E$1000)","v":0},0,0,324,327,0]
[{"$f":"IF(C319=\"\",\"\",SUBTOTAL(3,C$4:C319))","v":""},null,null,"L316",{"$f":"SUMIF('قائمة المشتريات'!$B$4:$B$1000,المخزون!B319,'قائمة المشتريات'!$E$4:$E$1000)","v":0},0,0,325,328,0]
[{"$f":"IF(C320=\"\",\"\",SUBTOTAL(3,C$4:C320))","v":""},null,null,"L317",{"$f":"SUMIF('قائمة المشتريات'!$B$4:$B$1000,المخزون!B320,'قائمة المشتريات'!$E$4:$E$1000)","v":0},0,0,326,329,0]
[{"$f":"IF(C321=\"\",\"\",SUBTOTAL(3,C$4:C321))","v":""},null,null,"L318",{"$f":"SUMIF('قائمة المشتريات'!$B$4:$B$1000,المخزون!B321,'قائمة المشتريات'!$E$4:$E$1000)","v":0},0,0,327,330,0]
[{"$f":"IF(C322=\"\",\"\",SUBTOTAL(3,C$4:C322))","v":""},null,null,"L319",{"$f":"SUMIF('قائمة المشتريات'!$B$4:$B$1000,المخزون!B322,'قائمة المشتريات'!$E$4:$E$1000)","v":0},0,0,328,331,0]
[{"$f":"IF(C323=\"\",\"\",SUBTOTAL(3,C$4:C323))","v":""},null,null,"L320",{"$f":"SUMIF('قائمة المشتريات'!$B$4:$B$1000,المخزون!B323,'قائمة المشتريات'!$E$4:$E$1000)","v":0},0,0,329,332,0]
[{"$f":"IF(C324=\"\",\"\",SUBTOTAL(3,C$4:C324))","v":""},null,null,"L321",{"$f":"SUMIF('قائمة المشتريات'!$B$4:$B$1000,المخزون!B324,'قائمة المشتريات'!$E$4:$E$1000)","v":0},0,0,330,333,0]
[{"$f":"IF(C325=\"\",\"\",SUBTOTAL(3,C$4:C325))","v":""},null,null,"L322",{"$f":"SUMIF('قائمة المشتريات'!$B$4:$B$1000,المخزون!B325,'قائمة المشتريات'!$E$4:$E$1000)","v":0},0,{"$f":"E325-F325","v":0},331,334,{"$f":"G325*I325","v":0}]
[{"$f":"IF(C326=\"\",\"\",SUBTOTAL(3,C$4:C326))","v":""},null,null,"L323",{"$f":"SUMIF('قائمة المشتريات'!$B$4:$B$1000,المخزون!B326,'قائمة المشتريات'!$E$4:$E$1000)","v":0},0,0,332,335,0]
[{"$f":"IF(C327=\"\",\"\",SUBTOTAL(3,C$4:C327))","v":""},null,null,"L324",{"$f":"SUMIF('قائمة المشتريات'!$B$4:$B$1000,المخزون!B327,'قائمة المشتريات'!$E$4:$E$1000)","v":0},0,0,333,336,0]
[{"$f":"IF(C328=\"\",\"\",SUBTOTAL(3,C$4:C328))","v":""},null,null,"L325",{"$f":"SUMIF('قائمة المشتريات'!$B$4:$B$1000,المخزون!B328,'قائمة المشتريات'!$E$4:$E$1000)","v":0},0,0,334,337,0]
[{"$f":"IF(C329=\"\",\"\",SUBTOTAL(3,C$4:C329))","v":""},null,null,"L326",{"$f":"SUMIF('قائمة المشتريات'!$B$4:$B$1000,المخزون!B329,'قائمة المشتريات'!$E$4:$E$1000)","v":0},0,0,335,338,0]
[{"$f":"IF(C330=\"\",\"\",SUBTOTAL(3,C$4:C330))","v":""},null,null,"L327",{"$f":"SUMIF('قائمة المشتريات'!$B$4:$B$1000,المخزون!B330,'قائمة المشتريات'!$E$4:$E$1000)","v":0},0,0,336,339,0]
[{"$f":"IF(C331=\"\",\"\",SUBTOTAL(3,C$4:C331))","v":""},null,null,"L328",{"$f":"SUMIF('قائمة المشتريات'!$B$4:$B$1000,المخزون!B331,'قائمة المشتريات'!$E$4:$E$1000)","v":0},0,0,337,340,0]
[{"$f":"IF(C332=\"\",\"\",SUBTOTAL(3,C$4:C332))","v":""},null,null,"L329",{"$f":"SUMIF('قائمة المشتريات'!$B$4:$B$1000,المخزون!B332,'قائمة المشتريات'!$E$4:$E$1000)","v":0},0,0,338,341,0]
[{"$f":"IF(C333=\"\",\"\",SUBTOTAL(3,C$4:C333))","v":""},null,null,"L330",{"$f":"SUMIF('قائمة المشتريات'!$B$4:$B$1000,المخزون!B333,'قائمة المشتريات'!$E$4:$E$1000)","v":0},0,0,339,342,0]
[{"$f":"IF(C334=\"\",\"\",SUBTOTAL(3,C$4:C334))","v":""},null,null,"L331",{"$f":"SUMIF('قائمة المشتريات'!$B$4:$B$1000,المخزون!B334,'قائمة المشتريات'!$E$4:$E$1000)","v":0},0,0,340,343,0]
[{"$f":"IF(C335=\"\",\"\",SUBTOTAL(3,C$4:C335))","v":""},null,null,"L332",{"$f":"SUMIF('قائمة المشتريات'!$B$4:$B$1000,المخزون!B335,'قائمة المشتريات'!$E$4:$E$1000)","v":0},0,0,341,344,0]
[{"$f":"IF(C336=\"\",\"\",SUBTOTAL(3,C$4:C336))","v":""},null,null,"L333",{"$f":"SUMIF('قائمة المشتريات'!$B$4:$B$1000,المخزون!B336,'قائمة المشتريات'!$E$4:$E$1000)","v":0},0,0,342,345,0]
[{"$f":"IF(C337=\"\",\"\",SUBTOTAL(3,C$4:C337))","v":""},null,null,"L334",{"$f":"SUMIF('قائمة المشتريات'!$B$4:$B$1000,المخزون!B337,'قائمة المشتريات'!$E$4:$E$1000)","v":0},0,0,343,346,0]
[{"$f":"IF(C338=\"\",\"\",SUBTOTAL(3,C$4:C338))","v":""},null,null,"L335",{"$f":"SUMIF('قائمة المشتريات'!$B$4:$B$1000,المخزون!B338,'قائمة المشتريات'!$E$4:$E$1000)","v":0},0,0,344,347,0]
[{"$f":"IF(C339=\"\",\"\",SUBTOTAL(3,C$4:C339))","v":""},null,null,"L336",{"$f":"SUMIF('قائمة المشتريات'!$B$4:$B$1000,المخزون!B339,'قائمة المشتريات'!$E$4:$E$1000)","v":0},0,0,345,348,0]
[{"$f":"IF(C340=\"\",\"\",SUBTOTAL(3,C$4:C340))","v":""},null,null,"L337",{"$f":"SUMIF('قائمة المشتريات'!$B$4:$B$1000,المخزون!B340,'قائمة المشتريات'!$E$4:$E$1000)","v":0},0,0,346,349,0]
[{"$f":"IF(C341=\"\",\"\",SUBTOTAL(3,C$4:C341))","v":""},null,null,"L338",{"$f":"SUMIF('قائمة المشتريات'!$B$4:$B$1000,المخزون!B341,'قائمة المشتريات'!$E$4:$E$1000)","v":0},0,0,347,350,0]
[{"$f":"IF(C342=\"\",\"\",SUBTOTAL(3,C$4:C342))","v":""},null,null,"L339",{"$f":"SUMIF('قائمة المشتريات'!$B$4:$B$1000,المخزون!B342,'قائمة المشتريات'!$E$4:$E$1000)","v":0},0,0,348,351,0]
[{"$f":"IF(C343=\"\",\"\",SUBTOTAL(3,C$4:C343))","v":""},null,null,"L340",{"$f":"SUMIF('قائمة المشتريات'!$B$4:$B$1000,المخزون!B343,'قائمة المشتريات'!$E$4:$E$1000)","v":0},0,0,349,352,0]
[{"$f":"IF(C344=\"\",\"\",SUBTOTAL(3,C$4:C344))","v":""},null,null,"L341",{"$f":"SUMIF('قائمة المشتريات'!$B$4:$B$1000,المخزون!B344,'قائمة المشتريات'!$E$4:$E$1000)","v":0},0,0,350,353,0]
[{"$f":"IF(C345=\"\",\"\",SUBTOTAL(3,C$4:C345))","v":""},null,null,"L342",{"$f":"SUMIF('قائمة المشتريات'!$B$4:$B$1000,المخزون!B345,'قائمة المشتريات'!$E$4:$E$1000)","v":0},0,0,351,354,0]
[{"$f":"IF(C346=\"\",\"\",SUBTOTAL(3,C$4:C346))","v":""},null,null,"L343",{"$f":"SUMIF('قائمة المشتريات'!$B$4:$B$1000,المخزون!B346,'قائمة المشتريات'!$E$4:$E$1000)","v":0},0,0,352,355,0]
[{"$f":"IF(C347=\"\",\"\",SUBTOTAL(3,C$4:C347))","v":""},null,null,"L344",{"$f":"SUMIF('قائمة المشتريات'!$B$4:$B$1000,المخزون!B347,'قائمة المشتريات'!$E$4:$E$1000)","v":0},0,0,353,356,0]
[{"$f":"IF(C348=\"\",\"\",SUBTOTAL(3,C$4:C348))","v":""},null,null,"L345",{"$f":"SUMIF('قائمة المشتريات'!$B$4:$B$1000,المخزون!B348,'قائمة المشتريات'!$E$4:$E$1000)","v":0},0,0,354,357,0]
[{"$f":"IF(C349=\"\",\"\",SUBTOTAL(3,C$4:C349))","v":""},null,null,"L346",{"$f":"SUMIF('قائمة المشتريات'!$B$4:$B$1000,المخزون!B349,'قائمة المشتريات'!$E$4:$E$1000)","v":0},0,0,355,358,0]
[{"$f":"IF(C350=\"\",\"\",SUBTOTAL(3,C$4:C350))","v":""},null,null,"L347",{"$f":"SUMIF('قائمة المشتريات'!$B$4:$B$1000,المخزون!B350,'قائمة المشتريات'!$E$4:$E$1000)","v":0},0,0,356,359,0]
[{"$f":"IF(C351=\"\",\"\",SUBTOTAL(3,C$4:C351))","v":""},null,null,"L348",{"$f":"SUMIF('قائمة المشتريات'!$B$4:$B$1000,المخزون!B351,'قائمة المشتريات'!$E$4:$E$1000)","v":0},0,0,357,360,0]
[{"$f":"IF(C352=\"\",\"\",SUBTOTAL(3,C$4:C352))","v":""},null,null,"L349",{"$f":"SUMIF('قائمة المشتريات'!$B$4:$B$1000,المخزون!B352,'قائمة المشتريات'!$E$4:$E$1000)","v":0},0,0,358,361,0]
[{"$f":"IF(C353=\"\",\"\",SUBTOTAL(3,C$4:C353))","v":""},null,null,"L350",{"$f":"SUMIF('قائمة المشتريات'!$B$4:$B$1000,المخزون!B353,'قائمة المشتريات'!$E$4:$E$1000)","v":0},0,0,359,362,0]
[{"$f":"IF(C354=\"\",\"\",SUBTOTAL(3,C$4:C354))","v":""},null,null,"L351",{"$f":"SUMIF('قائمة المشتريات'!$B$4:$B$1000,المخزون!B354,'قائمة المشتريات'!$E$4:$E$1000)","v":0},0,0,360,363,0]
[{"$f":"IF(C355=\"\",\"\",SUBTOTAL(3,C$4:C355))","v":""},null,null,"L352",{"$f":"SUMIF('قائمة المشتريات'!$B$4:$B$1000,المخزون!B355,'قائمة المشتريات'!$E$4:$E$1000)","v":0},0,0,361,364,0]
[{"$f":"IF(C356=\"\",\"\",SUBTOTAL(3,C$4:C356))","v":""},null,null,"L353",{"$f":"SUMIF('قائمة المشتريات'!$B$4:$B$1000,المخزون!B356,'قائمة المشتريات'!$E$4:$E$1000)","v":0},0,0,362,365,0]
[{"$f":"IF(C357=\"\",\"\",SUBTOTAL(3,C$4:C357))","v":""},null,null,"L354",{"$f":"SUMIF('قائمة المشتريات'!$B$4:$B$1000,المخزون!B357,'قائمة المشتريات'!$E$4:$E$1000)","v":0},0,0,363,366,0]
[{"$f":"IF(C358=\"\",\"\",SUBTOTAL(3,C$4:C358))","v":""},null,null,"L355",{"$f":"SUMIF('قائمة المشتريات'!$B$4:$B$1000,المخزون!B358,'قائمة المشتريات'!$E$4:$E$1000)","v":0},0,0,364,367,0]
[{"$f":"IF(C359=\"\",\"\",SUBTOTAL(3,C$4:C359))","v":""},null,null,"L356",{"$f":"SUMIF('قائمة المشتريات'!$B$4:$B$1000,المخزون!B359,'قائمة المشتريات'!$E$4:$E$1000)","v":0},0,0,365,368,0]
[{"$f":"IF(C360=\"\",\"\",SUBTOTAL(3,C$4:C360))","v":""},null,null,"L357",{"$f":"SUMIF('قائمة المشتريات'!$B$4:$B$1000,المخزون!B360,'قائمة المشتريات'!$E$4:$E$1000)","v":0},0,0,366,369,0]
[{"$f":"IF(C361=\"\",\"\",SUBTOTAL(3,C$4:C361))","v":""},null,null,"L358",{"$f":"SUMIF('قائمة المشتريات'!$B$4:$B$1000,المخزون!B361,'قائمة المشتريات'!$E$4:$E$1000)","v":0},0,0,367,370,0]
[{"$f":"IF(C362=\"\",\"\",SUBTOTAL(3,C$4:C362))","v":""},null,null,"L359",{"$f":"SUMIF('قائمة المشتريات'!$B$4:$B$1000,المخزون!B362,'قائمة المشتريات'!$E$4:$E$1000)","v":0},0,0,368,371,0]
[{"$f":"IF(C363=\"\",\"\",SUBTOTAL(3,C$4:C363))","v":""},null,null,"L360",{"$f":"SUMIF('قائمة المشتريات'!$B$4:$B$1000,المخزون!B363,'قائمة المشتريات'!$E$4:$E$1000)","v":0},0,0,369,372,0]
[{"$f":"IF(C364=\"\",\"\",SUBTOTAL(3,C$4:C364))","v":""},null,null,"L361",{"$f":"SUMIF('قائمة المشتريات'!$B$4:$B$1000,المخزون!B364,'قائمة المشتريات'!$E$4:$E$1000)","v":0},0,0,370,373,0]
[{"$f":"IF(C365=\"\",\"\",SUBTOTAL(3,C$4:C365))","v":""},null,null,"L362",{"$f":"SUMIF('قائمة المشتريات'!$B$4:$B$1000,المخزون!B365,'قائمة المشتريات'!$E$4:$E$1000)","v":0},0,0,371,374,0]
[{"$f":"IF(C366=\"\",\"\",SUBTOTAL(3,C$4:C366))","v":""},null,null,"L363",{"$f":"SUMIF('قائمة المشتريات'!$B$4:$B$1000,المخزون!B366,'قائمة المشتريات'!$E$4:$E$1000)","v":0},0,0,372,375,0]
[{"$f":"IF(C367=\"\",\"\",SUBTOTAL(3,C$4:C367))","v":""},null,null,"L364",{"$f":"SUMIF('قائمة المشتريات'!$B$4:$B$1000,المخزون!B367,'قائمة المشتريات'!$E$4:$E$1000)","v":0},0,0,373,376,0]
[{"$f":"IF(C368=\"\",\"\",SUBTOTAL(3,C$4:C368))","v":""},null,null,"L365",{"$f":"SUMIF('قائمة المشتريات'!$B$4:$B$1000,المخزون!B368,'قائمة المشتريات'!$E$4:$E$1000)","v":0},0,0,374,377,0]
[{"$f":"IF(C369=\"\",\"\",SUBTOTAL(3,C$4:C369))","v":""},null,null,"L366",{"$f":"SUMIF('قائمة المشتريات'!$B$4:$B$1000,المخزون!B369,'قائمة المشتريات'!$E$4:$E$1000)","v":0},0,0,375,378,0]
[{"$f":"IF(C370=\"\",\"\",SUBTOTAL(3,C$4:C370))","v":""},null,null,"L367",{"$f":"SUMIF('قائمة المشتريات'!$B$4:$B$1000,المخزون!B370,'قائمة المشتريات'!$E$4:$E$1000)","v":0},0,0,376,379,0]
[{"$f":"IF(C371=\"\",\"\",SUBTOTAL(3,C$4:C371))","v":""},null,null,"L368",{"$f":"SUMIF('قائمة المشتريات'!$B$4:$B$1000,المخزون!B371,'قائمة المشتريات'!$E$4:$E$1000)","v":0},0,0,377,380,0]
[{"$f":"IF(C372=\"\",\"\",SUBTOTAL(3,C$4:C372))","v":""},null,null,"L369",{"$f":"SUMIF('قائمة المشتريات'!$B$4:$B$1000,المخزون!B372,'قائمة المشتريات'!$E$4:$E$1000)","v":0},0,0,378,381,0]
[{"$f":"IF(C373=\"\",\"\",SUBTOTAL(3,C$4:C373))","v":""},null,null,"L370",{"$f":"SUMIF('قائمة المشتريات'!$B$4:$B$1000,المخزون!B373,'قائمة المشتريات'!$E$4:$E$1000)","v":0},0,0,379,382,0]
[{"$f":"IF(C374=\"\",\"\",SUBTOTAL(3,C$4:C374))","v":""},null,null,"L371",{"$f":"SUMIF('قائمة المشتريات'!$B$4:$B$1000,المخزون!B374,'قائمة المشتريات'!$E$4:$E$1000)","v":0},0,0,380,383,0]
[{"$f":"IF(C375=\"\",\"\",SUBTOTAL(3,C$4:C375))","v":""},null,null,"L372",{"$f":"SUMIF('قائمة المشتريات'!$B$4:$B$1000,المخزون!B375,'قائمة المشتريات'!$E$4:$E$1000)","v":0},0,0,381,384,0]
[{"$f":"IF(C376=\"\",\"\",SUBTOTAL(3,C$4:C376))","v":""},null,null,"L373",{"$f":"SUMIF('قائمة المشتريات'!$B$4:$B$1000,المخزون!B376,'قائمة المشتريات'!$E$4:$E$1000)","v":0},0,0,382,385,0]
[{"$f":"IF(C377=\"\",\"\",SUBTOTAL(3,C$4:C377))","v":""},null,null,"L374",{"$f":"SUMIF('قائمة المشتريات'!$B$4:$B$1000,المخزون!B377,'قائمة المشتريات'!$E$4:$E$1000)","v":0},0,0,383,386,0]
[{"$f":"IF(C378=\"\",\"\",SUBTOTAL(3,C$4:C378))","v":""},null,null,"L375",{"$f":"SUMIF('قائمة المشتريات'!$B$4:$B$1000,المخزون!B378,'قائمة المشتريات'!$E$4:$E$1000)","v":0},0,0,384,387,0]
[{"$f":"IF(C379=\"\",\"\",SUBTOTAL(3,C$4:C379))","v":""},null,null,"L376",{"$f":"SUMIF('قائمة المشتريات'!$B$4:$B$1000,المخزون!B379,'قائمة المشتريات'!$E$4:$E$1000)","v":0},0,0,385,388,0]
[{"$f":"IF(C380=\"\",\"\",SUBTOTAL(3,C$4:C380))","v":""},null,null,"L377",{"$f":"SUMIF('قائمة المشتريات'!$B$4:$B$1000,المخزون!B380,'قائمة المشتريات'!$E$4:$E$1000)","v":0},0,0,386,389,0]
[{"$f":"IF(C381=\"\",\"\",SUBTOTAL(3,C$4:C381))","v":""},null,null,"L378",{"$f":"SUMIF('قائمة المشتريات'!$B$4:$B$1000,المخزون!B381,'قائمة المشتريات'!$E$4:$E$1000)","v":0},0,0,387,390,0]
[{"$f":"IF(C382=\"\",\"\",SUBTOTAL(3,C$4:C382))","v":""},null,null,"L379",{"$f":"SUMIF('قائمة المشتريات'!$B$4:$B$1000,المخزون!B382,'قائمة المشتريات'!$E$4:$E$1000)","v":0},0,0,388,391,0]
[{"$f":"IF(C383=\"\",\"\",SUBTOTAL(3,C$4:C383))","v":""},null,null,"L380",{"$f":"SUMIF('قائمة المشتريات'!$B$4:$B$1000,المخزون!B383,'قائمة المشتريات'!$E$4:$E$1000)","v":0},0,0,389,392,0]
[{"$f":"IF(C384=\"\",\"\",SUBTOTAL(3,C$4:C384))","v":""},null,null,"L381",{"$f":"SUMIF('قائمة المشتريات'!$B$4:$B$1000,المخزون!B384,'قائمة المشتريات'!$E$4:$E$1000)","v":0},0,0,390,393,0]
[{"$f":"IF(C385=\"\",\"\",SUBTOTAL(3,C$4:C385))","v":""},null,null,"L382",{"$f":"SUMIF('قائمة المشتريات'!$B$4:$B$1000,المخزون!B385,'قائمة المشتريات'!$E$4:$E$1000)","v":0},0,0,391,394,0]
[{"$f":"IF(C386=\"\",\"\",SUBTOTAL(3,C$4:C386))","v":""},null,null,"L383",{"$f":"SUMIF('قائمة المشتريات'!$B$4:$B$1000,المخزون!B386,'قائمة المشتريات'!$E$4:$E$1000)","v":0},0,0,392,395,0]
[{"$f":"IF(C387=\"\",\"\",SUBTOTAL(3,C$4:C387))","v":""},null,null,"L384",{"$f":"SUMIF('قائمة المشتريات'!$B$4:$B$1000,المخزون!B387,'قائمة المشتريات'!$E$4:$E$1000)","v":0},0,0,393,396,0]
[{"$f":"IF(C388=\"\",\"\",SUBTOTAL(3,C$4:C388))","v":""},null,null,"L385",{"$f":"SUMIF('قائمة المشتريات'!$B$4:$B$1000,المخزون!B388,'قائمة المشتريات'!$E$4:$E$1000)","v":0},0,0,394,397,0]
[{"$f":"IF(C389=\"\",\"\",SUBTOTAL(3,C$4:C389))","v":""},null,null,"L386",{"$f":"SUMIF('قائمة المشتريات'!$B$4:$B$1000,المخزون!B389,'قائمة المشتريات'!$E$4:$E$1000)","v":0},0,{"$f":"E389-F389","v":0},395,398,{"$f":"G389*I389","v":0}]
[{"$f":"IF(C390=\"\",\"\",SUBTOTAL(3,C$4:C390))","v":""},null,null,"L387",{"$f":"SUMIF('قائمة المشتريات'!$B$4:$B$1000,المخزون!B390,'قائمة المشتريات'!$E$4:$E$1000)","v":0},0,0,396,399,0]
[{"$f":"IF(C391=\"\",\"\",SUBTOTAL(3,C$4:C391))","v":""},null,null,"L388",{"$f":"SUMIF('قائمة المشتريات'!$B$4:$B$1000,المخزون!B391,'قائمة المشتريات'!$E$4:$E$1000)","v":0},0,0,397,400,0]
[{"$f":"IF(C392=\"\",\"\",SUBTOTAL(3,C$4:C392))","v":""},null,null,"L389",{"$f":"SUMIF('قائمة المشتريات'!$B$4:$B$1000,المخزون!B392,'قائمة المشتريات'!$E$4:$E$1000)","v":0},0,0,398,401,0]
[{"$f":"IF(C393=\"\",\"\",SUBTOTAL(3,C$4:C393))","v":""},null,null,"L390",{"$f":"SUMIF('قائمة المشتريات'!$B$4:$B$1000,المخزون!B393,'قائمة المشتريات'!$E$4:$E$1000)","v":0},0,0,399,402,0]
[{"$f":"IF(C394=\"\",\"\",SUBTOTAL(3,C$4:C394))","v":""},null,null,"L391",{"$f":"SUMIF('قائمة المشتريات'!$B$4:$B$1000,المخزون!B394,'قائمة المشتريات'!$E$4:$E$1000)","v":0},0,0,400,403,0]
[{"$f":"IF(C395=\"\",\"\",SUBTOTAL(3,C$4:C395))","v":""},null,null,"L392",{"$f":"SUMIF('قائمة المشتريات'!$B$4:$B$1000,المخزون!B395,'قائمة المشتريات'!$E$4:$E$1000)","v":0},0,0,401,404,0]
[{"$f":"IF(C396=\"\",\"\",SUBTOTAL(3,C$4:C396))","v":""},null,null,"L393",{"$f":"SUMIF('قائمة المشتريات'!$B$4:$B$1000,المخزون!B396,'قائمة المشتريات'!$E$4:$E$1000)","v":0},0,0,402,405,0]
[{"$f":"IF(C397=\"\",\"\",SUBTOTAL(3,C$4:C397))","v":""},null,null,"L394",{"$f":"SUMIF('قائمة المشتريات'!$B$4:$B$1000,المخزون!B397,'قائمة المشتريات'!$E$4:$E$1000)","v":0},0,0,403,406,0]
[{"$f":"IF(C398=\"\",\"\",SUBTOTAL(3,C$4:C398))","v":""},null,null,"L395",{"$f":"SUMIF('قائمة المشتريات'!$B$4:$B$1000,المخزون!B398,'قائمة المشتريات'!$E$4:$E$1000)","v":0},0,0,404,407,0]
[{"$f":"IF(C399=\"\",\"\",SUBTOTAL(3,C$4:C399))","v":""},null,null,"L396",{"$f":"SUMIF('قائمة المشتريات'!$B$4:$B$1000,المخزون!B399,'قائمة المشتريات'!$E$4:$E$1000)","v":0},0,0,405,408,0]
[{"$f":"IF(C400=\"\",\"\",SUBTOTAL(3,C$4:C400))","v":""},null,null,"L397",{"$f":"SUMIF('قائمة المشتريات'!$B$4:$B$1000,المخزون!B400,'قائمة المشتريات'!$E$4:$E$1000)","v":0},0,0,406,409,0]
[{"$f":"IF(C401=\"\",\"\",SUBTOTAL(3,C$4:C401))","v":""},null,null,"L398",{"$f":"SUMIF('قائمة المشتريات'!$B$4:$B$1000,المخزون!B401,'قائمة المشتريات'!$E$4:$E$1000)","v":0},0,0,407,410,0]
[{"$f":"IF(C402=\"\",\"\",SUBTOTAL(3,C$4:C402))","v":""},null,null,"L399",{"$f":"SUMIF('قائمة المشتريات'!$B$4:$B$1000,المخزون!B402,'قائمة المشتريات'!$E$4:$E$1000)","v":0},0,0,408,411,0]
[{"$f":"IF(C403=\"\",\"\",SUBTOTAL(3,C$4:C403))","v":""},null,null,"L400",{"$f":"SUMIF('قائمة المشتريات'!$B$4:$B$1000,المخزون!B403,'قائمة المشتريات'!$E$4:$E$1000)","v":0},0,0,409,412,0]
[{"$f":"IF(C404=\"\",\"\",SUBTOTAL(3,C$4:C404))","v":""},null,null,"L401",{"$f":"SUMIF('قائمة المشتريات'!$B$4:$B$1000,المخزون!B404,'قائمة المشتريات'!$E$4:$E$1000)","v":0},0,0,410,413,0]
[{"$f":"IF(C405=\"\",\"\",SUBTOTAL(3,C$4:C405))","v":""},null,null,"L402",{"$f":"SUMIF('قائمة المشتريات'!$B$4:$B$1000,المخزون!B405,'قائمة المشتريات'!$E$4:$E$1000)","v":0},0,0,411,414,0]
[{"$f":"IF(C406=\"\",\"\",SUBTOTAL(3,C$4:C406))","v":""},null,null,"L403",{"$f":"SUMIF('قائمة المشتريات'!$B$4:$B$1000,المخزون!B406,'قائمة المشتريات'!$E$4:$E$1000)","v":0},0,0,412,415,0]
[{"$f":"IF(C407=\"\",\"\",SUBTOTAL(3,C$4:C407))","v":""},null,null,"L404",{"$f":"SUMIF('قائمة المشتريات'!$B$4:$B$1000,المخزون!B407,'قائمة المشتريات'!$E$4:$E$1000)","v":0},0,0,413,416,0]
[{"$f":"IF(C408=\"\",\"\",SUBTOTAL(3,C$4:C408))","v":""},null,null,"L405",{"$f":"SUMIF('قائمة المشتريات'!$B$4:$B$1000,المخزون!B408,'قائمة المشتريات'!$E$4:$E$1000)","v":0},0,0,414,417,0]
[{"$f":"IF(C409=\"\",\"\",SUBTOTAL(3,C$4:C409))","v":""},null,null,"L406",{"$f":"SUMIF('قائمة المشتريات'!$B$4:$B$1000,المخزون!B409,'قائمة المشتريات'!$E$4:$E$1000)","v":0},0,0,415,418,0]
[{"$f":"IF(C410=\"\",\"\",SUBTOTAL(3,C$4:C410))","v":""},null,null,"L407",{"$f":"SUMIF('قائمة المشتريات'!$B$4:$B$1000,المخزون!B410,'قائمة المشتريات'!$E$4:$E$1000)","v":0},0,0,416,419,0]
[{"$f":"IF(C411=\"\",\"\",SUBTOTAL(3,C$4:C411))","v":""},null,null,"L408",{"$f":"SUMIF('قائمة المشتريات'!$B$4:$B$1000,المخزون!B411,'قائمة المشتريات'!$E$4:$E$1000)","v":0},0,0,417,420,0]
[{"$f":"IF(C412=\"\",\"\",SUBTOTAL(3,C$4:C412))","v":""},null,null,"L409",{"$f":"SUMIF('قائمة المشتريات'!$B$4:$B$1000,المخزون!B412,'قائمة المشتريات'!$E$4:$E$1000)","v":0},0,0,418,421,0]
[{"$f":"IF(C413=\"\",\"\",SUBTOTAL(3,C$4:C413))","v":""},null,null,"L410",{"$f":"SUMIF('قائمة المشتريات'!$B$4:$B$1000,المخزون!B413,'قائمة المشتريات'!$E$4:$E$1000)","v":0},0,0,419,422,0]
[{"$f":"IF(C414=\"\",\"\",SUBTOTAL(3,C$4:C414))","v":""},null,null,"L411",{"$f":"SUMIF('قائمة المشتريات'!$B$4:$B$1000,المخزون!B414,'قائمة المشتريات'!$E$4:$E$1000)","v":0},0,0,420,423,0]
[{"$f":"IF(C415=\"\",\"\",SUBTOTAL(3,C$4:C415))","v":""},null,null,"L412",{"$f":"SUMIF('قائمة المشتريات'!$B$4:$B$1000,المخزون!B415,'قائمة المشتريات'!$E$4:$E$1000)","v":0},0,0,421,424,0]
[{"$f":"IF(C416=\"\",\"\",SUBTOTAL(3,C$4:C416))","v":""},null,null,"L413",{"$f":"SUMIF('قائمة المشتريات'!$B$4:$B$1000,المخزون!B416,'قائمة المشتريات'!$E$4:$E$1000)","v":0},0,0,422,425,0]
[{"$f":"IF(C417=\"\",\"\",SUBTOTAL(3,C$4:C417))","v":""},null,null,"L414",{"$f":"SUMIF('قائمة المشتريات'!$B$4:$B$1000,المخزون!B417,'قائمة المشتريات'!$E$4:$E$1000)","v":0},0,0,423,426,0]
[{"$f":"IF(C418=\"\",\"\",SUBTOTAL(3,C$4:C418))","v":""},null,null,"L415",{"$f":"SUMIF('قائمة المشتريات'!$B$4:$B$1000,المخزون!B418,'قائمة المشتريات'!$E$4:$E$1000)","v":0},0,0,424,427,0]
[{"$f":"IF(C419=\"\",\"\",SUBTOTAL(3,C$4:C419))","v":""},null,null,"L416",{"$f":"SUMIF('قائمة المشتريات'!$B$4:$B$1000,المخزون!B419,'قائمة المشتريات'!$E$4:$E$1000)","v":0},0,0,425,428,0]
[{"$f":"IF(C420=\"\",\"\",SUBTOTAL(3,C$4:C420))","v":""},null,null,"L417",{"$f":"SUMIF('قائمة المشتريات'!$B$4:$B$1000,المخزون!B420,'قائمة المشتريات'!$E$4:$E$1000)","v":0},0,0,426,429,0]
[{"$f":"IF(C421=\"\",\"\",SUBTOTAL(3,C$4:C421))","v":""},null,null,"L418",{"$f":"SUMIF('قائمة المشتريات'!$B$4:$B$1000,المخزون!B421,'قائمة المشتريات'!$E$4:$E$1000)","v":0},0,0,427,430,0]
[{"$f":"IF(C422=\"\",\"\",SUBTOTAL(3,C$4:C422))","v":""},null,null,"L419",{"$f":"SUMIF('قائمة المشتريات'!$B$4:$B$1000,المخزون!B422,'قائمة المشتريات'!$E$4:$E$1000)","v":0},0,0,428,431,0]
[{"$f":"IF(C423=\"\",\"\",SUBTOTAL(3,C$4:C423))","v":""},null,null,"L420",{"$f":"SUMIF('قائمة المشتريات'!$B$4:$B$1000,المخزون!B423,'قائمة المشتريات'!$E$4:$E$1000)","v":0},0,0,429,432,0]
[{"$f":"IF(C424=\"\",\"\",SUBTOTAL(3,C$4:C424))","v":""},null,null,"L421",{"$f":"SUMIF('قائمة المشتريات'!$B$4:$B$1000,المخزون!B424,'قائمة المشتريات'!$E$4:$E$1000)","v":0},0,0,430,433,0]
[{"$f":"IF(C425=\"\",\"\",SUBTOTAL(3,C$4:C425))","v":""},null,null,"L422",{"$f":"SUMIF('قائمة المشتريات'!$B$4:$B$1000,المخزون!B425,'قائمة المشتريات'!$E$4:$E$1000)","v":0},0,0,431,434,0]
[{"$f":"IF(C426=\"\",\"\",SUBTOTAL(3,C$4:C426))","v":""},null,null,"L423",{"$f":"SUMIF('قائمة المشتريات'!$B$4:$B$1000,المخزون!B426,'قائمة المشتريات'!$E$4:$E$1000)","v":0},0,0,432,435,0]
[{"$f":"IF(C427=\"\",\"\",SUBTOTAL(3,C$4:C427))","v":""},null,null,"L424",{"$f":"SUMIF('قائمة المشتريات'!$B$4:$B$1000,المخزون!B427,'قائمة المشتريات'!$E$4:$E$1000)","v":0},0,0,433,436,0]
[{"$f":"IF(C428=\"\",\"\",SUBTOTAL(3,C$4:C428))","v":""},null,null,"L425",{"$f":"SUMIF('قائمة المشتريات'!$B$4:$B$1000,المخزون!B428,'قائمة المشتريات'!$E$4:$E$1000)","v":0},0,0,434,437,0]
[{"$f":"IF(C429=\"\",\"\",SUBTOTAL(3,C$4:C429))","v":""},null,null,"L426",{"$f":"SUMIF('قائمة المشتريات'!$B$4:$B$1000,المخزون!B429,'قائمة المشتريات'!$E$4:$E$1000)","v":0},0,0,435,438,0]
[{"$f":"IF(C430=\"\",\"\",SUBTOTAL(3,C$4:C430))","v":""},null,null,"L427",{"$f":"SUMIF('قائمة المشتريات'!$B$4:$B$1000,المخزون!B430,'قائمة المشتريات'!$E$4:$E$1000)","v":0},0,0,436,439,0]
[{"$f":"IF(C431=\"\",\"\",SUBTOTAL(3,C$4:C431))","v":""},null,null,"L428",{"$f":"SUMIF('قائمة المشتريات'!$B$4:$B$1000,المخزون!B431,'قائمة المشتريات'!$E$4:$E$1000)","v":0},0,0,437,440,0]
[{"$f":"IF(C432=\"\",\"\",SUBTOTAL(3,C$4:C432))","v":""},null,null,"L429",{"$f":"SUMIF('قائمة المشتريات'!$B$4:$B$1000,المخزون!B432,'قائمة المشتريات'!$E$4:$E$1000)","v":0},0,0,438,441,0]
[{"$f":"IF(C433=\"\",\"\",SUBTOTAL(3,C$4:C433))","v":""},null,null,"L430",{"$f":"SUMIF('قائمة المشتريات'!$B$4:$B$1000,المخزون!B433,'قائمة المشتريات'!$E$4:$E$1000)","v":0},0,0,439,442,0]
[{"$f":"IF(C434=\"\",\"\",SUBTOTAL(3,C$4:C434))","v":""},null,null,"L431",{"$f":"SUMIF('قائمة المشتريات'!$B$4:$B$1000,المخزون!B434,'قائمة المشتريات'!$E$4:$E$1000)","v":0},0,0,440,443,0]
[{"$f":"IF(C435=\"\",\"\",SUBTOTAL(3,C$4:C435))","v":""},null,null,"L432",{"$f":"SUMIF('قائمة المشتريات'!$B$4:$B$1000,المخزون!B435,'قائمة المشتريات'!$E$4:$E$1000)","v":0},0,0,441,444,0]
[{"$f":"IF(C436=\"\",\"\",SUBTOTAL(3,C$4:C436))","v":""},null,null,"L433",{"$f":"SUMIF('قائمة المشتريات'!$B$4:$B$1000,المخزون!B436,'قائمة المشتريات'!$E$4:$E$1000)","v":0},0,0,442,445,0]
[{"$f":"IF(C437=\"\",\"\",SUBTOTAL(3,C$4:C437))","v":""},null,null,"L434",{"$f":"SUMIF('قائمة المشتريات'!$B$4:$B$1000,المخزون!B437,'قائمة المشتريات'!$E$4:$E$1000)","v":0},0,0,443,446,0]
[{"$f":"IF(C438=\"\",\"\",SUBTOTAL(3,C$4:C438))","v":""},null,null,"L435",{"$f":"SUMIF('قائمة المشتريات'!$B$4:$B$1000,المخزون!B438,'قائمة المشتريات'!$E$4:$E$1000)","v":0},0,0,444,447,0]
[{"$f":"IF(C439=\"\",\"\",SUBTOTAL(3,C$4:C439))","v":""},null,null,"L436",{"$f":"SUMIF('قائمة المشتريات'!$B$4:$B$1000,المخزون!B439,'قائمة المشتريات'!$E$4:$E$1000)","v":0},0,0,445,448,0]
[{"$f":"IF(C440=\"\",\"\",SUBTOTAL(3,C$4:C440))","v":""},null,null,"L437",{"$f":"SUMIF('قائمة المشتريات'!$B$4:$B$1000,المخزون!B440,'قائمة المشتريات'!$E$4:$E$1000)","v":0},0,0,446,449,0]
[{"$f":"IF(C441=\"\",\"\",SUBTOTAL(3,C$4:C441))","v":""},null,null,"L438",{"$f":"SUMIF('قائمة المشتريات'!$B$4:$B$1000,المخزون!B441,'قائمة المشتريات'!$E$4:$E$1000)","v":0},0,0,447,450,0]
[{"$f":"IF(C442=\"\",\"\",SUBTOTAL(3,C$4:C442))","v":""},null,null,"L439",{"$f":"SUMIF('قائمة المشتريات'!$B$4:$B$1000,المخزون!B442,'قائمة المشتريات'!$E$4:$E$1000)","v":0},0,0,448,451,0]
[{"$f":"IF(C443=\"\",\"\",SUBTOTAL(3,C$4:C443))","v":""},null,null,"L440",{"$f":"SUMIF('قائمة المشتريات'!$B$4:$B$1000,المخزون!B443,'قائمة المشتريات'!$E$4:$E$1000)","v":0},0,0,449,452,0]
[{"$f":"IF(C444=\"\",\"\",SUBTOTAL(3,C$4:C444))","v":""},null,null,"L441",{"$f":"SUMIF('قائمة المشتريات'!$B$4:$B$1000,المخزون!B444,'قائمة المشتريات'!$E$4:$E$1000)","v":0},0,0,450,453,0]
[{"$f":"IF(C445=\"\",\"\",SUBTOTAL(3,C$4:C445))","v":""},null,null,"L442",{"$f":"SUMIF('قائمة المشتريات'!$B$4:$B$1000,المخزون!B445,'قائمة المشتريات'!$E$4:$E$1000)","v":0},0,0,451,454,0]
[{"$f":"IF(C446=\"\",\"\",SUBTOTAL(3,C$4:C446))","v":""},null,null,"L443",{"$f":"SUMIF('قائمة المشتريات'!$B$4:$B$1000,المخزون!B446,'قائمة المشتريات'!$E$4:$E$1000)","v":0},0,0,452,455,0]
[{"$f":"IF(C447=\"\",\"\",SUBTOTAL(3,C$4:C447))","v":""},null,null,"L444",{"$f":"SUMIF('قائمة المشتريات'!$B$4:$B$1000,المخزون!B447,'قائمة المشتريات'!$E$4:$E$1000)","v":0},0,0,453,456,0]
[{"$f":"IF(C448=\"\",\"\",SUBTOTAL(3,C$4:C448))","v":""},null,null,"L445",{"$f":"SUMIF('قائمة المشتريات'!$B$4:$B$1000,المخزون!B448,'قائمة المشتريات'!$E$4:$E$1000)","v":0},0,0,454,457,0]
[{"$f":"IF(C449=\"\",\"\",SUBTOTAL(3,C$4:C449))","v":""},null,null,"L446",{"$f":"SUMIF('قائمة المشتريات'!$B$4:$B$1000,المخزون!B449,'قائمة المشتريات'!$E$4:$E$1000)","v":0},0,0,455,458,0]
[{"$f":"IF(C450=\"\",\"\",SUBTOTAL(3,C$4:C450))","v":""},null,null,"L447",{"$f":"SUMIF('قائمة المشتريات'!$B$4:$B$1000,المخزون!B450,'قائمة المشتريات'!$E$4:$E$1000)","v":0},0,0,456,459,0]
[{"$f":"IF(C451=\"\",\"\",SUBTOTAL(3,C$4:C451))","v":""},null,null,"L448",{"$f":"SUMIF('قائمة المشتريات'!$B$4:$B$1000,المخزون!B451,'قائمة المشتريات'!$E$4:$E$1000)","v":0},0,0,457,460,0]
[{"$f":"IF(C452=\"\",\"\",SUBTOTAL(3,C$4:C452))","v":""},null,null,"L449",{"$f":"SUMIF('قائمة المشتريات'!$B$4:$B$1000,المخزون!B452,'قائمة المشتريات'!$E$4:$E$1000)","v":0},0,0,458,461,0]
[{"$f":"IF(C453=\"\",\"\",SUBTOTAL(3,C$4:C453))","v":""},null,null,"L450",{"$f":"SUMIF('قائمة المشتريات'!$B$4:$B$1000,المخزون!B453,'قائمة المشتريات'!$E$4:$E$1000)","v":0},0,{"$f":"E453-F453","v":0},459,462,{"$f":"G453*I453","v":0}]
[{"$f":"IF(C454=\"\",\"\",SUBTOTAL(3,C$4:C454))","v":""},null,null,"L451",{"$f":"SUMIF('قائمة المشتريات'!$B$4:$B$1000,المخزون!B454,'قائمة المشتريات'!$E$4:$E$1000)","v":0},0,0,460,463,0]
[{"$f":"IF(C455=\"\",\"\",SUBTOTAL(3,C$4:C455))","v":""},null,null,"L452",{"$f":"SUMIF('قائمة المشتريات'!$B$4:$B$1000,المخزون!B455,'قائمة المشتريات'!$E$4:$E$1000)","v":0},0,0,461,464,0]
[{"$f":"IF(C456=\"\",\"\",SUBTOTAL(3,C$4:C456))","v":""},null,null,"L453",{"$f":"SUMIF('قائمة المشتريات'!$B$4:$B$1000,المخزون!B456,'قائمة المشتريات'!$E$4:$E$1000)","v":0},0,0,462,465,0]
[{"$f":"IF(C457=\"\",\"\",SUBTOTAL(3,C$4:C457))","v":""},null,null,"L454",{"$f":"SUMIF('قائمة المشتريات'!$B$4:$B$1000,المخزون!B457,'قائمة المشتريات'!$E$4:$E$1000)","v":0},0,0,463,466,0]
[{"$f":"IF(C458=\"\",\"\",SUBTOTAL(3,C$4:C458))","v":""},null,null,"L455",{"$f":"SUMIF('قائمة المشتريات'!$B$4:$B$1000,المخزون!B458,'قائمة المشتريات'!$E$4:$E$1000)","v":0},0,0,464,467,0]
[{"$f":"IF(C459=\"\",\"\",SUBTOTAL(3,C$4:C459))","v":""},null,null,"L456",{"$f":"SUMIF('قائمة المشتريات'!$B$4:$B$1000,المخزون!B459,'قائمة المشتريات'!$E$4:$E$1000)","v":0},0,0,465,468,0]
[{"$f":"IF(C460=\"\",\"\",SUBTOTAL(3,C$4:C460))","v":""},null,null,"L457",{"$f":"SUMIF('قائمة المشتريات'!$B$4:$B$1000,المخزون!B460,'قائمة المشتريات'!$E$4:$E$1000)","v":0},0,0,466,469,0]
[{"$f":"IF(C461=\"\",\"\",SUBTOTAL(3,C$4:C461))","v":""},null,null,"L458",{"$f":"SUMIF('قائمة المشتريات'!$B$4:$B$1000,المخزون!B461,'قائمة المشتريات'!$E$4:$E$1000)","v":0},0,0,467,470,0]
[{"$f":"IF(C462=\"\",\"\",SUBTOTAL(3,C$4:C462))","v":""},null,null,"L459",{"$f":"SUMIF('قائمة المشتريات'!$B$4:$B$1000,المخزون!B462,'قائمة المشتريات'!$E$4:$E$1000)","v":0},0,0,468,471,0]
[{"$f":"IF(C463=\"\",\"\",SUBTOTAL(3,C$4:C463))","v":""},null,null,"L460",{"$f":"SUMIF('قائمة المشتريات'!$B$4:$B$1000,المخزون!B463,'قائمة المشتريات'!$E$4:$E$1000)","v":0},0,0,469,472,0]
[{"$f":"IF(C464=\"\",\"\",SUBTOTAL(3,C$4:C464))","v":""},null,null,"L461",{"$f":"SUMIF('قائمة المشتريات'!$B$4:$B$1000,المخزون!B464,'قائمة المشتريات'!$E$4:$E$1000)","v":0},0,0,470,473,0]
[{"$f":"IF(C465=\"\",\"\",SUBTOTAL(3,C$4:C465))","v":""},null,null,"L462",{"$f":"SUMIF('قائمة المشتريات'!$B$4:$B$1000,المخزون!B465,'قائمة المشتريات'!$E$4:$E$1000)","v":0},0,0,471,474,0]
[{"$f":"IF(C466=\"\",\"\",SUBTOTAL(3,C$4:C466))","v":""},null,null,"L463",{"$f":"SUMIF('قائمة المشتريات'!$B$4:$B$1000,المخزون!B466,'قائمة المشتريات'!$E$4:$E$1000)","v":0},0,0,472,475,0]
[{"$f":"IF(C467=\"\",\"\",SUBTOTAL(3,C$4:C467))","v":""},null,null,"L464",{"$f":"SUMIF('قائمة المشتريات'!$B$4:$B$1000,المخزون!B467,'قائمة المشتريات'!$E$4:$E$1000)","v":0},0,0,473,476,0]
[{"$f":"IF(C468=\"\",\"\",SUBTOTAL(3,C$4:C468))","v":""},null,null,"L465",{"$f":"SUMIF('قائمة المشتريات'!$B$4:$B$1000,المخزون!B468,'قائمة المشتريات'!$E$4:$E$1000)","v":0},0,0,474,477,0]
[{"$f":"IF(C469=\"\",\"\",SUBTOTAL(3,C$4:C469))","v":""},null,null,"L466",{"$f":"SUMIF('قائمة المشتريات'!$B$4:$B$1000,المخزون!B469,'قائمة المشتريات'!$E$4:$E$1000)","v":0},0,0,475,478,0]
[{"$f":"IF(C470=\"\",\"\",SUBTOTAL(3,C$4:C470))","v":""},null,null,"L467",{"$f":"SUMIF('قائمة المشتريات'!$B$4:$B$1000,المخزون!B470,'قائمة المشتريات'!$E$4:$E$1000)","v":0},0,0,476,479,0]
[{"$f":"IF(C471=\"\",\"\",SUBTOTAL(3,C$4:C471))","v":""},null,null,"L468",{"$f":"SUMIF('قائمة المشتريات'!$B$4:$B$1000,المخزون!B471,'قائمة المشتريات'!$E$4:$E$1000)","v":0},0,0,477,480,0]
[{"$f":"IF(C472=\"\",\"\",SUBTOTAL(3,C$4:C472))","v":""},null,null,"L469",{"$f":"SUMIF('قائمة المشتريات'!$B$4:$B$1000,المخزون!B472,'قائمة المشتريات'!$E$4:$E$1000)","v":0},0,0,478,481,0]
[{"$f":"IF(C473=\"\",\"\",SUBTOTAL(3,C$4:C473))","v":""},null,null,"L470",{"$f":"SUMIF('قائمة المشتريات'!$B$4:$B$1000,المخزون!B473,'قائمة المشتريات'!$E$4:$E$1000)","v":0},0,0,479,482,0]
[{"$f":"IF(C474=\"\",\"\",SUBTOTAL(3,C$4:C474))","v":""},null,null,"L471",{"$f":"SUMIF('قائمة المشتريات'!$B$4:$B$1000,المخزون!B474,'قائمة المشتريات'!$E$4:$E$1000)","v":0},0,0,480,483,0]
[{"$f":"IF(C475=\"\",\"\",SUBTOTAL(3,C$4:C475))","v":""},null,null,"L472",{"$f":"SUMIF('قائمة المشتريات'!$B$4:$B$1000,المخزون!B475,'قائمة المشتريات'!$E$4:$E$1000)","v":0},0,0,481,484,0]
[{"$f":"IF(C476=\"\",\"\",SUBTOTAL(3,C$4:C476))","v":""},null,null,"L473",{"$f":"SUMIF('قائمة المشتريات'!$B$4:$B$1000,المخزون!B476,'قائمة المشتريات'!$E$4:$E$1000)","v":0},0,0,482,485,0]
[{"$f":"IF(C477=\"\",\"\",SUBTOTAL(3,C$4:C477))","v":""},null,null,"L474",{"$f":"SUMIF('قائمة المشتريات'!$B$4:$B$1000,المخزون!B477,'قائمة المشتريات'!$E$4:$E$1000)","v":0},0,0,483,486,0]
[{"$f":"IF(C478=\"\",\"\",SUBTOTAL(3,C$4:C478))","v":""},null,null,"L475",{"$f":"SUMIF('قائمة المشتريات'!$B$4:$B$1000,المخزون!B478,'قائمة المشتريات'!$E$4:$E$1000)","v":0},0,0,484,487,0]
[{"$f":"IF(C479=\"\",\"\",SUBTOTAL(3,C$4:C479))","v":""},null,null,"L476",{"$f":"SUMIF('قائمة المشتريات'!$B$4:$B$1000,المخزون!B479,'قائمة المشتريات'!$E$4:$E$1000)","v":0},0,0,485,488,0]
[{"$f":"IF(C480=\"\",\"\",SUBTOTAL(3,C$4:C480))","v":""},null,null,"L477",{"$f":"SUMIF('قائمة المشتريات'!$B$4:$B$1000,المخزون!B480,'قائمة المشتريات'!$E$4:$E$1000)","v":0},0,0,486,489,0]
[{"$f":"IF(C481=\"\",\"\",SUBTOTAL(3,C$4:C481))","v":""},null,null,"L478",{"$f":"SUMIF('قائمة المشتريات'!$B$4:$B$1000,المخزون!B481,'قائمة المشتريات'!$E$4:$E$1000)","v":0},0,0,487,490,0]
[{"$f":"IF(C482=\"\",\"\",SUBTOTAL(3,C$4:C482))","v":""},null,null,"L479",{"$f":"SUMIF('قائمة المشتريات'!$B$4:$B$1000,المخزون!B482,'قائمة المشتريات'!$E$4:$E$1000)","v":0},0,0,488,491,0]
[{"$f":"IF(C483=\"\",\"\",SUBTOTAL(3,C$4:C483))","v":""},null,null,"L480",{"$f":"SUMIF('قائمة المشتريات'!$B$4:$B$1000,المخزون!B483,'قائمة المشتريات'!$E$4:$E$1000)","v":0},0,0,489,492,0]
[{"$f":"IF(C484=\"\",\"\",SUBTOTAL(3,C$4:C484))","v":""},null,null,"L481",{"$f":"SUMIF('قائمة المشتريات'!$B$4:$B$1000,المخزون!B484,'قائمة المشتريات'!$E$4:$E$1000)","v":0},0,0,490,493,0]
[{"$f":"IF(C485=\"\",\"\",SUBTOTAL(3,C$4:C485))","v":""},null,null,"L482",{"$f":"SUMIF('قائمة المشتريات'!$B$4:$B$1000,المخزون!B485,'قائمة المشتريات'!$E$4:$E$1000)","v":0},0,0,491,494,0]
[{"$f":"IF(C486=\"\",\"\",SUBTOTAL(3,C$4:C486))","v":""},null,null,"L483",{"$f":"SUMIF('قائمة المشتريات'!$B$4:$B$1000,المخزون!B486,'قائمة المشتريات'!$E$4:$E$1000)","v":0},0,0,492,495,0]
[{"$f":"IF(C487=\"\",\"\",SUBTOTAL(3,C$4:C487))","v":""},null,null,"L484",{"$f":"SUMIF('قائمة المشتريات'!$B$4:$B$1000,المخزون!B487,'قائمة المشتريات'!$E$4:$E$1000)","v":0},0,0,493,496,0]
[{"$f":"IF(C488=\"\",\"\",SUBTOTAL(3,C$4:C488))","v":""},null,null,"L485",{"$f":"SUMIF('قائمة المشتريات'!$B$4:$B$1000,المخزون!B488,'قائمة المشتريات'!$E$4:$E$1000)","v":0},0,0,494,497,0]
[{"$f":"IF(C489=\"\",\"\",SUBTOTAL(3,C$4:C489))","v":""},null,null,"L486",{"$f":"SUMIF('قائمة المشتريات'!$B$4:$B$1000,المخزون!B489,'قائمة المشتريات'!$E$4:$E$1000)","v":0},0,0,495,498,0]
[{"$f":"IF(C490=\"\",\"\",SUBTOTAL(3,C$4:C490))","v":""},null,null,"L487",{"$f":"SUMIF('قائمة المشتريات'!$B$4:$B$1000,المخزون!B490,'قائمة المشتريات'!$E$4:$E$1000)","v":0},0,0,496,499,0]
[{"$f":"IF(C491=\"\",\"\",SUBTOTAL(3,C$4:C491))","v":""},null,null,"L488",{"$f":"SUMIF('قائمة المشتريات'!$B$4:$B$1000,المخزون!B491,'قائمة المشتريات'!$E$4:$E$1000)","v":0},0,0,497,500,0]
[{"$f":"IF(C492=\"\",\"\",SUBTOTAL(3,C$4:C492))","v":""},null,null,"L489",{"$f":"SUMIF('قائمة المشتريات'!$B$4:$B$1000,المخزون!B492,'قائمة المشتريات'!$E$4:$E$1000)","v":0},0,0,498,501,0]
[{"$f":"IF(C493=\"\",\"\",SUBTOTAL(3,C$4:C493))","v":""},null,null,"L490",{"$f":"SUMIF('قائمة المشتريات'!$B$4:$B$1000,المخزون!B493,'قائمة المشتريات'!$E$4:$E$1000)","v":0},0,0,499,502,0]
[{"$f":"IF(C494=\"\",\"\",SUBTOTAL(3,C$4:C494))","v":""},null,null,"L491",{"$f":"SUMIF('قائمة المشتريات'!$B$4:$B$1000,المخزون!B494,'قائمة المشتريات'!$E$4:$E$1000)","v":0},0,0,500,503,0]
[{"$f":"IF(C495=\"\",\"\",SUBTOTAL(3,C$4:C495))","v":""},null,null,"L492",{"$f":"SUMIF('قائمة المشتريات'!$B$4:$B$1000,المخزون!B495,'قائمة المشتريات'!$E$4:$E$1000)","v":0},0,0,501,504,0]
[{"$f":"IF(C496=\"\",\"\",SUBTOTAL(3,C$4:C496))","v":""},null,null,"L493",{"$f":"SUMIF('قائمة المشتريات'!$B$4:$B$1000,المخزون!B496,'قائمة المشتريات'!$E$4:$E$1000)","v":0},0,0,502,505,0]
[{"$f":"IF(C497=\"\",\"\",SUBTOTAL(3,C$4:C497))","v":""},null,null,"L494",{"$f":"SUMIF('قائمة المشتريات'!$B$4:$B$1000,المخزون!B497,'قائمة المشتريات'!$E$4:$E$1000)","v":0},0,0,503,506,0]
[{"$f":"IF(C498=\"\",\"\",SUBTOTAL(3,C$4:C498))","v":""},null,null,"L495",{"$f":"SUMIF('قائمة المشتريات'!$B$4:$B$1000,المخزون!B498,'قائمة المشتريات'!$E$4:$E$1000)","v":0},0,0,504,507,0]
[{"$f":"IF(C499=\"\",\"\",SUBTOTAL(3,C$4:C499))","v":""},null,null,"L496",{"$f":"SUMIF('قائمة المشتريات'!$B$4:$B$1000,المخزون!B499,'قائمة المشتريات'!$E$4:$E$1000)","v":0},0,0,505,508,0]
[{"$f":"IF(C500=\"\",\"\",SUBTOTAL(3,C$4:C500))","v":""},null,null,"L497",{"$f":"SUMIF('قائمة المشتريات'!$B$4:$B$1000,المخزون!B500,'قائمة المشتريات'!$E$4:$E$1000)","v":0},0,0,506,509,0]

{"sheet":"قائمة المشتريات","index":1,"n_rows":500,"n_cols":9,"rows_kept":500,"cut":false,"hidden":false,"merged":[[1,0,1,5]]}
[]
["قائمة المشتريات",null,null,null,null,null,"المجموع",{"$f":"SUM(G4:G1048576)","v":1546264},{"$f":"IF(B4<>\"\",IF(H4=\"\",NOW(),H4),\"\")","v":"2020-10-18T21:38:26.020"}]
["الرقم","التعيين","الكود","الوحده","الكميه","سعر الشراء","السعر الاجمالى","التاريخ"]
[{"$f":"IF(B4=\"\",\"\",SUBTOTAL(3,B$4:B4))","v":1},"HUILE MOTEUR NAFTAL 1L",{"$f":"IFERROR(VLOOKUP(B4,stocklist,2,0),\"\")","v":"20W75"},"L3",1000,1500,{"$f":"IFERROR(F4*E4,\"\")","v":1500000}]
[{"$f":"IF(B5=\"\",\"\",SUBTOTAL(3,B$4:B5))","v":2},"H.M. NAFTAL 4L","20W50","L2",30,1200,36000]
[{"$f":"IF(B6=\"\",\"\",SUBTOTAL(3,B$4:B6))","v":3},"HUILE MOTEUR NAFTAL 1L","20W75","L3",null,1500,0]
[{"$f":"IF(B7=\"\",\"\",SUBTOTAL(3,B$4:B7))","v":4},"H. B.V. TOTAL 1L","75W80AE","L4",null,1400,0]
[{"$f":"IF(B8=\"\",\"\",SUBTOTAL(3,B$4:B8))","v":5},"BENDIX DOT3 55 FLUIDE","DOT30","L5",null,600,0]
[{"$f":"IF(B9=\"\",\"\",SUBTOTAL(3,B$4:B9))","v":6},"H. M. LIQUI MOLY PERFORMANCE 5L ","5W30","L6",null,400,0]
[{"$f":"IF(B10=\"\",\"\",SUBTOTAL(3,B$4:B10))","v":7},"GLACEOL NAFTAL 5L","ENAD","L7",null,800,0]
[{"$f":"IF(B11=\"\",\"\",SUBTOTAL(3,B$4:B11))","v":8},"H. M. LIQUI MOLY PERFORMANCE 5L ","5W30","L8",null,300,0]
[{"$f":"IF(B12=\"\",\"\",SUBTOTAL(3,B$4:B12))","v":9},"H. M. LIQUI MOLY TOP TEC 4200 5L","5W30","L9",null,18,0]
[{"$f":"IF(B13=\"\",\"\",SUBTOTAL(3,B$4:B13))","v":10},"GRAISSE A2 VERKOL 18KG","10W40","L10",null,19,0]
[{"$f":"IF(B14=\"\",\"\",SUBTOTAL(3,B$4:B14))","v":11},"H.M. NAFTAL 5L","5W40SNTY PLUS","L11",null,20,0]
[{"$f":"IF(B15=\"\",\"\",SUBTOTAL(3,B$4:B15))","v":12},"H.M. CASTROL 5L","10W40GTX","L12",null,21,0]
[{"$f":"IF(B16=\"\",\"\",SUBTOTAL(3,B$4:B16))","v":13},"H.M. CASTROL 5L ","15W40GTX","L13",null,22,0]
[{"$f":"IF(B17=\"\",\"\",SUBTOTAL(3,B$4:B17))","v":14},"H.M. CASTROL 5L","10W40GTX","L12",null,21,0]
[{"$f":"IF(B18=\"\",\"\",SUBTOTAL(3,B$4:B18))","v":15},"H.M. TOTAL FR 5L","10W40","L15",11,24,264]
[{"$f":"IF(B19=\"\",\"\",SUBTOTAL(3,B$4:B19))","v":16},"5W40SNTY PLUS","","",null,"",""]
[{"$f":"IF(B20=\"\",\"\",SUBTOTAL(3,B$4:B20))","v":17},"75W80AE","","",null,"",""]
[{"$f":"IF(B21=\"\",\"\",SUBTOTAL(3,B$4:B21))","v":18},"H.M.NAFTAL 4L","DOT3","L16",100,25,2500]
[{"$f":"IF(B22=\"\",\"\",SUBTOTAL(3,B$4:B22))","v":19},"H. B.V. TOTAL 1L","75W80AE","L16",300,25,7500]
[{"$f":"IF(B23=\"\",\"\",SUBTOTAL(3,B$4:B23))","v":""},null,"","",null,"",""]
[{"$f":"IF(B24=\"\",\"\",SUBTOTAL(3,B$4:B24))","v":""},null,"","",null,"",""]
[{"$f":"IF(B25=\"\",\"\",SUBTOTAL(3,B$4:B25))","v":""},null,"","",null,"",""]
[{"$f":"IF(B26=\"\",\"\",SUBTOTAL(3,B$4:B26))","v":""},null,"","",null,"",""]
[{"$f":"IF(B27=\"\",\"\",SUBTOTAL(3,B$4:B27))","v":""},null,"","",null,"",""]
[{"$f":"IF(B28=\"\",\"\",SUBTOTAL(3,B$4:B28))","v":""},null,"","",null,"",""]
[{"$f":"IF(B29=\"\",\"\",SUBTOTAL(3,B$4:B29))","v":""},null,"","",null,"",""]
[{"$f":"IF(B30=\"\",\"\",SUBTOTAL(3,B$4:B30))","v":""},null,"","",null,"",""]
[{"$f":"IF(B31=\"\",\"\",SUBTOTAL(3,B$4:B31))","v":""},null,"","",null,"",""]
[{"$f":"IF(B32=\"\",\"\",SUBTOTAL(3,B$4:B32))","v":""},null,"","",null,"",""]
[{"$f":"IF(B33=\"\",\"\",SUBTOTAL(3,B$4:B33))","v":""},null,"","",null,"",""]
[{"$f":"IF(B34=\"\",\"\",SUBTOTAL(3,B$4:B34))","v":""},null,"","",null,"",""]
[{"$f":"IF(B35=\"\",\"\",SUBTOTAL(3,B$4:B35))","v":""},null,"","",null,"",""]
[{"$f":"IF(B36=\"\",\"\",SUBTOTAL(3,B$4:B36))","v":""},null,"","",null,"",""]
[{"$f":"IF(B37=\"\",\"\",SUBTOTAL(3,B$4:B37))","v":""},null,"","",null,"",""]
[{"$f":"IF(B38=\"\",\"\",SUBTOTAL(3,B$4:B38))","v":""},null,"","",null,"",""]
[{"$f":"IF(B39=\"\",\"\",SUBTOTAL(3,B$4:B39))","v":""},null,"","",null,"",""]
[{"$f":"IF(B40=\"\",\"\",SUBTOTAL(3,B$4:B40))","v":""},null,"","",null,"",""]
[{"$f":"IF(B41=\"\",\"\",SUBTOTAL(3,B$4:B41))","v":""},null,"","",null,"",""]
[{"$f":"IF(B42=\"\",\"\",SUBTOTAL(3,B$4:B42))","v":""},null,"","",null,"",""]
[{"$f":"IF(B43=\"\",\"\",SUBTOTAL(3,B$4:B43))","v":""},null,"","",null,"",""]
[{"$f":"IF(B44=\"\",\"\",SUBTOTAL(3,B$4:B44))","v":""},null,"","",null,"",""]
[{"$f":"IF(B45=\"\",\"\",SUBTOTAL(3,B$4:B45))","v":""},null,"","",null,"",""]
[{"$f":"IF(B46=\"\",\"\",SUBTOTAL(3,B$4:B46))","v":""},null,"","",null,"",""]
[{"$f":"IF(B47=\"\",\"\",SUBTOTAL(3,B$4:B47))","v":""},null,"","",null,"",""]
[{"$f":"IF(B48=\"\",\"\",SUBTOTAL(3,B$4:B48))","v":""},null,"","",null,"",""]
[{"$f":"IF(B49=\"\",\"\",SUBTOTAL(3,B$4:B49))","v":""},null,"","",null,"",""]
[{"$f":"IF(B50=\"\",\"\",SUBTOTAL(3,B$4:B50))","v":""},null,"","",null,"",""]
[{"$f":"IF(B51=\"\",\"\",SUBTOTAL(3,B$4:B51))","v":""},null,"","",null,"",""]
[{"$f":"IF(B52=\"\",\"\",SUBTOTAL(3,B$4:B52))","v":""},null,"","",null,"",""]
[{"$f":"IF(B53=\"\",\"\",SUBTOTAL(3,B$4:B53))","v":""},null,"","",null,"",""]
[{"$f":"IF(B54=\"\",\"\",SUBTOTAL(3,B$4:B54))","v":""},null,"","",null,"",""]
[{"$f":"IF(B55=\"\",\"\",SUBTOTAL(3,B$4:B55))","v":""},null,"","",null,"",""]
[{"$f":"IF(B56=\"\",\"\",SUBTOTAL(3,B$4:B56))","v":""},null,"","",null,"",""]
[{"$f":"IF(B57=\"\",\"\",SUBTOTAL(3,B$4:B57))","v":""},null,"","",null,"",""]
[{"$f":"IF(B58=\"\",\"\",SUBTOTAL(3,B$4:B58))","v":""},null,"","",null,"",""]
[{"$f":"IF(B59=\"\",\"\",SUBTOTAL(3,B$4:B59))","v":""},null,"","",null,"",""]
[{"$f":"IF(B60=\"\",\"\",SUBTOTAL(3,B$4:B60))","v":""},null,"","",null,"",""]
[{"$f":"IF(B61=\"\",\"\",SUBTOTAL(3,B$4:B61))","v":""},null,"","",null,"",""]
[{"$f":"IF(B62=\"\",\"\",SUBTOTAL(3,B$4:B62))","v":""},null,"","",null,"",""]
[{"$f":"IF(B63=\"\",\"\",SUBTOTAL(3,B$4:B63))","v":""},null,"","",null,"",""]
[{"$f":"IF(B64=\"\",\"\",SUBTOTAL(3,B$4:B64))","v":""},null,"","",null,"",""]
[{"$f":"IF(B65=\"\",\"\",SUBTOTAL(3,B$4:B65))","v":""},null,"","",null,"",""]
[{"$f":"IF(B66=\"\",\"\",SUBTOTAL(3,B$4:B66))","v":""},null,"","",null,"",""]
[{"$f":"IF(B67=\"\",\"\",SUBTOTAL(3,B$4:B67))","v":""},null,"","",null,"",""]
[{"$f":"IF(B68=\"\",\"\",SUBTOTAL(3,B$4:B68))","v":""},null,{"$f":"IFERROR(VLOOKUP(B68,stocklist,2,0),\"\")","v":""},"",null,"",{"$f":"IFERROR(F68*E68,\"\")","v":""}]
[{"$f":"IF(B69=\"\",\"\",SUBTOTAL(3,B$4:B69))","v":""},null,"","",null,"",""]
[{"$f":"IF(B70=\"\",\"\",SUBTOTAL(3,B$4:B70))","v":""},null,"","",null,"",""]
[{"$f":"IF(B71=\"\",\"\",SUBTOTAL(3,B$4:B71))","v":""},null,"","",null,"",""]
[{"$f":"IF(B72=\"\",\"\",SUBTOTAL(3,B$4:B72))","v":""},null,"","",null,"",""]
[{"$f":"IF(B73=\"\",\"\",SUBTOTAL(3,B$4:B73))","v":""},null,"","",null,"",""]
[{"$f":"IF(B74=\"\",\"\",SUBTOTAL(3,B$4:B74))","v":""},null,"","",null,"",""]
[{"$f":"IF(B75=\"\",\"\",SUBTOTAL(3,B$4:B75))","v":""},null,"","",null,"",""]
[{"$f":"IF(B76=\"\",\"\",SUBTOTAL(3,B$4:B76))","v":""},null,"","",null,"",""]
[{"$f":"IF(B77=\"\",\"\",SUBTOTAL(3,B$4:B77))","v":""},null,"","",null,"",""]
[{"$f":"IF(B78=\"\",\"\",SUBTOTAL(3,B$4:B78))","v":""},null,"","",null,"",""]
[{"$f":"IF(B79=\"\",\"\",SUBTOTAL(3,B$4:B79))","v":""},null,"","",null,"",""]
[{"$f":"IF(B80=\"\",\"\",SUBTOTAL(3,B$4:B80))","v":""},null,"","",null,"",""]
[{"$f":"IF(B81=\"\",\"\",SUBTOTAL(3,B$4:B81))","v":""},null,"","",null,"",""]
[{"$f":"IF(B82=\"\",\"\",SUBTOTAL(3,B$4:B82))","v":""},null,"","",null,"",""]
[{"$f":"IF(B83=\"\",\"\",SUBTOTAL(3,B$4:B83))","v":""},null,"","",null,"",""]
[{"$f":"IF(B84=\"\",\"\",SUBTOTAL(3,B$4:B84))","v":""},null,"","",null,"",""]
[{"$f":"IF(B85=\"\",\"\",SUBTOTAL(3,B$4:B85))","v":""},null,"","",null,"",""]
[{"$f":"IF(B86=\"\",\"\",SUBTOTAL(3,B$4:B86))","v":""},null,"","",null,"",""]
[{"$f":"IF(B87=\"\",\"\",SUBTOTAL(3,B$4:B87))","v":""},null,"","",null,"",""]
[{"$f":"IF(B88=\"\",\"\",SUBTOTAL(3,B$4:B88))","v":""},null,"","",null,"",""]
[{"$f":"IF(B89=\"\",\"\",SUBTOTAL(3,B$4:B89))","v":""},null,"","",null,"",""]
[{"$f":"IF(B90=\"\",\"\",SUBTOTAL(3,B$4:B90))","v":""},null,"","",null,"",""]
[{"$f":"IF(B91=\"\",\"\",SUBTOTAL(3,B$4:B91))","v":""},null,"","",null,"",""]
[{"$f":"IF(B92=\"\",\"\",SUBTOTAL(3,B$4:B92))","v":""},null,"","",null,"",""]
[{"$f":"IF(B93=\"\",\"\",SUBTOTAL(3,B$4:B93))","v":""},null,"","",null,"",""]
[{"$f":"IF(B94=\"\",\"\",SUBTOTAL(3,B$4:B94))","v":""},null,"","",null,"",""]
[{"$f":"IF(B95=\"\",\"\",SUBTOTAL(3,B$4:B95))","v":""},null,"","",null,"",""]
[{"$f":"IF(B96=\"\",\"\",SUBTOTAL(3,B$4:B96))","v":""},null,"","",null,"",""]
[{"$f":"IF(B97=\"\",\"\",SUBTOTAL(3,B$4:B97))","v":""},null,"","",null,"",""]
[{"$f":"IF(B98=\"\",\"\",SUBTOTAL(3,B$4:B98))","v":""},null,"","",null,"",""]
[{"$f":"IF(B99=\"\",\"\",SUBTOTAL(3,B$4:B99))","v":""},null,"","",null,"",""]
[{"$f":"IF(B100=\"\",\"\",SUBTOTAL(3,B$4:B100))","v":""},null,"","",null,"",""]
[{"$f":"IF(B101=\"\",\"\",SUBTOTAL(3,B$4:B101))","v":""},null,"","",null,"",""]
[{"$f":"IF(B102=\"\",\"\",SUBTOTAL(3,B$4:B102))","v":""},null,"","",null,"",""]
[{"$f":"IF(B103=\"\",\"\",SUBTOTAL(3,B$4:B103))","v":""},null,"","",null,"",""]
[{"$f":"IF(B104=\"\",\"\",SUBTOTAL(3,B$4:B104))","v":""},null,"","",null,"",""]
[{"$f":"IF(B105=\"\",\"\",SUBTOTAL(3,B$4:B105))","v":""},null,"","",null,"",""]
[{"$f":"IF(B106=\"\",\"\",SUBTOTAL(3,B$4:B106))","v":""},null,"","",null,"",""]
[{"$f":"IF(B107=\"\",\"\",SUBTOTAL(3,B$4:B107))","v":""},null,"","",null,"",""]
[{"$f":"IF(B108=\"\",\"\",SUBTOTAL(3,B$4:B108))","v":""},null,"","",null,"",""]
[{"$f":"IF(B109=\"\",\"\",SUBTOTAL(3,B$4:B109))","v":""},null,"","",null,"",""]
[{"$f":"IF(B110=\"\",\"\",SUBTOTAL(3,B$4:B110))","v":""},null,"","",null,"",""]
[{"$f":"IF(B111=\"\",\"\",SUBTOTAL(3,B$4:B111))","v":""},null,"","",null,"",""]
[{"$f":"IF(B112=\"\",\"\",SUBTOTAL(3,B$4:B112))","v":""},null,"","",null,"",""]
[{"$f":"IF(B113=\"\",\"\",SUBTOTAL(3,B$4:B113))","v":""},null,"","",null,"",""]
[{"$f":"IF(B114=\"\",\"\",SUBTOTAL(3,B$4:B114))","v":""},null,"","",null,"",""]
[{"$f":"IF(B115=\"\",\"\",SUBTOTAL(3,B$4:B115))","v":""},null,"","",null,"",""]
[{"$f":"IF(B116=\"\",\"\",SUBTOTAL(3,B$4:B116))","v":""},null,"","",null,"",""]
[{"$f":"IF(B117=\"\",\"\",SUBTOTAL(3,B$4:B117))","v":""},null,"","",null,"",""]
[{"$f":"IF(B118=\"\",\"\",SUBTOTAL(3,B$4:B118))","v":""},null,"","",null,"",""]
[{"$f":"IF(B119=\"\",\"\",SUBTOTAL(3,B$4:B119))","v":""},null,"","",null,"",""]
[{"$f":"IF(B120=\"\",\"\",SUBTOTAL(3,B$4:B120))","v":""},null,"","",null,"",""]
[{"$f":"IF(B121=\"\",\"\",SUBTOTAL(3,B$4:B121))","v":""},null,"","",null,"",""]
[{"$f":"IF(B122=\"\",\"\",SUBTOTAL(3,B$4:B122))","v":""},null,"","",null,"",""]
[{"$f":"IF(B123=\"\",\"\",SUBTOTAL(3,B$4:B123))","v":""},null,"","",null,"",""]
[{"$f":"IF(B124=\"\",\"\",SUBTOTAL(3,B$4:B124))","v":""},null,"","",null,"",""]
[{"$f":"IF(B125=\"\",\"\",SUBTOTAL(3,B$4:B125))","v":""},null,"","",null,"",""]
[{"$f":"IF(B126=\"\",\"\",SUBTOTAL(3,B$4:B126))","v":""},null,"","",null,"",""]
[{"$f":"IF(B127=\"\",\"\",SUBTOTAL(3,B$4:B127))","v":""},null,"","",null,"",""]
[{"$f":"IF(B128=\"\",\"\",SUBTOTAL(3,B$4:B128))","v":""},null,"","",null,"",""]
[{"$f":"IF(B129=\"\",\"\",SUBTOTAL(3,B$4:B129))","v":""},null,"","",null,"",""]
[{"$f":"IF(B130=\"\",\"\",SUBTOTAL(3,B$4:B130))","v":""},null,"","",null,"",""]
[{"$f":"IF(B131=\"\",\"\",SUBTOTAL(3,B$4:B131))","v":""},null,"","",null,"",""]
[{"$f":"IF(B132=\"\",\"\",SUBTOTAL(3,B$4:B132))","v":""},null,{"$f":"IFERROR(VLOOKUP(B132,stocklist,2,0),\"\")","v":""},"",null,"",{"$f":"IFERROR(F132*E132,\"\")","v":""}]
[{"$f":"IF(B133=\"\",\"\",SUBTOTAL(3,B$4:B133))","v":""},null,"","",null,"",""]
[{"$f":"IF(B134=\"\",\"\",SUBTOTAL(3,B$4:B134))","v":""},null,"","",null,"",""]
[{"$f":"IF(B135=\"\",\"\",SUBTOTAL(3,B$4:B135))","v":""},null,"","",null,"",""]
[{"$f":"IF(B136=\"\",\"\",SUBTOTAL(3,B$4:B136))","v":""},null,"","",null,"",""]
[{"$f":"IF(B137=\"\",\"\",SUBTOTAL(3,B$4:B137))","v":""},null,"","",null,"",""]
[{"$f":"IF(B138=\"\",\"\",SUBTOTAL(3,B$4:B138))","v":""},null,"","",null,"",""]
[{"$f":"IF(B139=\"\",\"\",SUBTOTAL(3,B$4:B139))","v":""},null,"","",null,"",""]
[{"$f":"IF(B140=\"\",\"\",SUBTOTAL(3,B$4:B140))","v":""},null,"","",null,"",""]
[{"$f":"IF(B141=\"\",\"\",SUBTOTAL(3,B$4:B141))","v":""},null,"","",null,"",""]
[{"$f":"IF(B142=\"\",\"\",SUBTOTAL(3,B$4:B142))","v":""},null,"","",null,"",""]
[{"$f":"IF(B143=\"\",\"\",SUBTOTAL(3,B$4:B143))","v":""},null,"","",null,"",""]
[{"$f":"IF(B144=\"\",\"\",SUBTOTAL(3,B$4:B144))","v":""},null,"","",null,"",""]
[{"$f":"IF(B145=\"\",\"\",SUBTOTAL(3,B$4:B145))","v":""},null,"","",null,"",""]
[{"$f":"IF(B146=\"\",\"\",SUBTOTAL(3,B$4:B146))","v":""},null,"","",null,"",""]
[{"$f":"IF(B147=\"\",\"\",SUBTOTAL(3,B$4:B147))","v":""},null,"","",null,"",""]
[{"$f":"IF(B148=\"\",\"\",SUBTOTAL(3,B$4:B148))","v":""},null,"","",null,"",""]
[{"$f":"IF(B149=\"\",\"\",SUBTOTAL(3,B$4:B149))","v":""},null,"","",null,"",""]
[{"$f":"IF(B150=\"\",\"\",SUBTOTAL(3,B$4:B150))","v":""},null,"","",null,"",""]
[{"$f":"IF(B151=\"\",\"\",SUBTOTAL(3,B$4:B151))","v":""},null,"","",null,"",""]
[{"$f":"IF(B152=\"\",\"\",SUBTOTAL(3,B$4:B152))","v":""},null,"","",null,"",""]
[{"$f":"IF(B153=\"\",\"\",SUBTOTAL(3,B$4:B153))","v":""},null,"","",null,"",""]
[{"$f":"IF(B154=\"\",\"\",SUBTOTAL(3,B$4:B154))","v":""},null,"","",null,"",""]
[{"$f":"IF(B155=\"\",\"\",SUBTOTAL(3,B$4:B155))","v":""},null,"","",null,"",""]
[{"$f":"IF(B156=\"\",\"\",SUBTOTAL(3,B$4:B156))","v":""},null,"","",null,"",""]
[{"$f":"IF(B157=\"\",\"\",SUBTOTAL(3,B$4:B157))","v":""},null,"","",null,"",""]
[{"$f":"IF(B158=\"\",\"\",SUBTOTAL(3,B$4:B158))","v":""},null,"","",null,"",""]
[{"$f":"IF(B159=\"\",\"\",SUBTOTAL(3,B$4:B159))","v":""},null,"","",null,"",""]
[{"$f":"IF(B160=\"\",\"\",SUBTOTAL(3,B$4:B160))","v":""},null,"","",null,"",""]
[{"$f":"IF(B161=\"\",\"\",SUBTOTAL(3,B$4:B161))","v":""},null,"","",null,"",""]
[{"$f":"IF(B162=\"\",\"\",SUBTOTAL(3,B$4:B162))","v":""},null,"","",null,"",""]
[{"$f":"IF(B163=\"\",\"\",SUBTOTAL(3,B$4:B163))","v":""},null,"","",null,"",""]
[{"$f":"IF(B164=\"\",\"\",SUBTOTAL(3,B$4:B164))","v":""},null,"","",null,"",""]
[{"$f":"IF(B165=\"\",\"\",SUBTOTAL(3,B$4:B165))","v":""},null,"","",null,"",""]
[{"$f":"IF(B166=\"\",\"\",SUBTOTAL(3,B$4:B166))","v":""},null,"","",null,"",""]
[{"$f":"IF(B167=\"\",\"\",SUBTOTAL(3,B$4:B167))","v":""},null,"","",null,"",""]
[{"$f":"IF(B168=\"\",\"\",SUBTOTAL(3,B$4:B168))","v":""},null,"","",null,"",""]
[{"$f":"IF(B169=\"\",\"\",SUBTOTAL(3,B$4:B169))","v":""},null,"","",null,"",""]
[{"$f":"IF(B170=\"\",\"\",SUBTOTAL(3,B$4:B170))","v":""},null,"","",null,"",""]
[{"$f":"IF(B171=\"\",\"\",SUBTOTAL(3,B$4:B171))","v":""},null,"","",null,"",""]
[{"$f":"IF(B172=\"\",\"\",SUBTOTAL(3,B$4:B172))","v":""},null,"","",null,"",""]
[{"$f":"IF(B173=\"\",\"\",SUBTOTAL(3,B$4:B173))","v":""},null,"","",null,"",""]
[{"$f":"IF(B174=\"\",\"\",SUBTOTAL(3,B$4:B174))","v":""},null,"","",null,"",""]
[{"$f":"IF(B175=\"\",\"\",SUBTOTAL(3,B$4:B175))","v":""},null,"","",null,"",""]
[{"$f":"IF(B176=\"\",\"\",SUBTOTAL(3,B$4:B176))","v":""},null,"","",null,"",""]
[{"$f":"IF(B177=\"\",\"\",SUBTOTAL(3,B$4:B177))","v":""},null,"","",null,"",""]
[{"$f":"IF(B178=\"\",\"\",SUBTOTAL(3,B$4:B178))","v":""},null,"","",null,"",""]
[{"$f":"IF(B179=\"\",\"\",SUBTOTAL(3,B$4:B179))","v":""},null,"","",null,"",""]
[{"$f":"IF(B180=\"\",\"\",SUBTOTAL(3,B$4:B180))","v":""},null,"","",null,"",""]
[{"$f":"IF(B181=\"\",\"\",SUBTOTAL(3,B$4:B181))","v":""},null,"","",null,"",""]
[{"$f":"IF(B182=\"\",\"\",SUBTOTAL(3,B$4:B182))","v":""},null,"","",null,"",""]
[{"$f":"IF(B183=\"\",\"\",SUBTOTAL(3,B$4:B183))","v":""},null,"","",null,"",""]
[{"$f":"IF(B184=\"\",\"\",SUBTOTAL(3,B$4:B184))","v":""},null,"","",null,"",""]
[{"$f":"IF(B185=\"\",\"\",SUBTOTAL(3,B$4:B185))","v":""},null,"","",null,"",""]
[{"$f":"IF(B186=\"\",\"\",SUBTOTAL(3,B$4:B186))","v":""},null,"","",null,"",""]
[{"$f":"IF(B187=\"\",\"\",SUBTOTAL(3,B$4:B187))","v":""},null,"","",null,"",""]
[{"$f":"IF(B188=\"\",\"\",SUBTOTAL(3,B$4:B188))","v":""},null,"","",null,"",""]
[{"$f":"IF(B189=\"\",\"\",SUBTOTAL(3,B$4:B189))","v":""},null,"","",null,"",""]
[{"$f":"IF(B190=\"\",\"\",SUBTOTAL(3,B$4:B190))","v":""},null,"","",null,"",""]
[{"$f":"IF(B191=\"\",\"\",SUBTOTAL(3,B$4:B191))","v":""},null,"","",null,"",""]
[{"$f":"IF(B192=\"\",\"\",SUBTOTAL(3,B$4:B192))","v":""},null,"","",null,"",""]
[{"$f":"IF(B193=\"\",\"\",SUBTOTAL(3,B$4:B193))","v":""},null,"","",null,"",""]
[{"$f":"IF(B194=\"\",\"\",SUBTOTAL(3,B$4:B194))","v":""},null,"","",null,"",""]
[{"$f":"IF(B195=\"\",\"\",SUBTOTAL(3,B$4:B195))","v":""},null,"","",null,"",""]
[{"$f":"IF(B196=\"\",\"\",SUBTOTAL(3,B$4:B196))","v":""},null,{"$f":"IFERROR(VLOOKUP(B196,stocklist,2,0),\"\")","v":""},"",null,"",{"$f":"IFERROR(F196*E196,\"\")","v":""}]
[{"$f":"IF(B197=\"\",\"\",SUBTOTAL(3,B$4:B197))","v":""},null,"","",null,"",""]
[{"$f":"IF(B198=\"\",\"\",SUBTOTAL(3,B$4:B198))","v":""},null,"","",null,"",""]
[{"$f":"IF(B199=\"\",\"\",SUBTOTAL(3,B$4:B199))","v":""},null,"","",null,"",""]
[{"$f":"IF(B200=\"\",\"\",SUBTOTAL(3,B$4:B200))","v":""},null,"","",null,"",""]
[{"$f":"IF(B201=\"\",\"\",SUBTOTAL(3,B$4:B201))","v":""},null,"","",null,"",""]
[{"$f":"IF(B202=\"\",\"\",SUBTOTAL(3,B$4:B202))","v":""},null,"","",null,"",""]
[{"$f":"IF(B203=\"\",\"\",SUBTOTAL(3,B$4:B203))","v":""},null,"","",null,"",""]
[{"$f":"IF(B204=\"\",\"\",SUBTOTAL(3,B$4:B204))","v":""},null,"","",null,"",""]
[{"$f":"IF(B205=\"\",\"\",SUBTOTAL(3,B$4:B205))","v":""},null,"","",null,"",""]
[{"$f":"IF(B206=\"\",\"\",SUBTOTAL(3,B$4:B206))","v":""},null,"","",null,"",""]
[{"$f":"IF(B207=\"\",\"\",SUBTOTAL(3,B$4:B207))","v":""},null,"","",null,"",""]
[{"$f":"IF(B208=\"\",\"\",SUBTOTAL(3,B$4:B208))","v":""},null,"","",null,"",""]
[{"$f":"IF(B209=\"\",\"\",SUBTOTAL(3,B$4:B209))","v":""},null,"","",null,"",""]
[{"$f":"IF(B210=\"\",\"\",SUBTOTAL(3,B$4:B210))","v":""},null,"","",null,"",""]
[{"$f":"IF(B211=\"\",\"\",SUBTOTAL(3,B$4:B211))","v":""},null,"","",null,"",""]
[{"$f":"IF(B212=\"\",\"\",SUBTOTAL(3,B$4:B212))","v":""},null,"","",null,"",""]
[{"$f":"IF(B213=\"\",\"\",SUBTOTAL(3,B$4:B213))","v":""},null,"","",null,"",""]
[{"$f":"IF(B214=\"\",\"\",SUBTOTAL(3,B$4:B214))","v":""},null,"","",null,"",""]
[{"$f":"IF(B215=\"\",\"\",SUBTOTAL(3,B$4:B215))","v":""},null,"","",null,"",""]
[{"$f":"IF(B216=\"\",\"\",SUBTOTAL(3,B$4:B216))","v":""},null,"","",null,"",""]
[{"$f":"IF(B217=\"\",\"\",SUBTOTAL(3,B$4:B217))","v":""},null,"","",null,"",""]
[{"$f":"IF(B218=\"\",\"\",SUBTOTAL(3,B$4:B218))","v":""},null,"","",null,"",""]
[{"$f":"IF(B219=\"\",\"\",SUBTOTAL(3,B$4:B219))","v":""},null,"","",null,"",""]
[{"$f":"IF(B220=\"\",\"\",SUBTOTAL(3,B$4:B220))","v":""},null,"","",null,"",""]
[{"$f":"IF(B221=\"\",\"\",SUBTOTAL(3,B$4:B221))","v":""},null,"","",null,"",""]
[{"$f":"IF(B222=\"\",\"\",SUBTOTAL(3,B$4:B222))","v":""},null,"","",null,"",""]
[{"$f":"IF(B223=\"\",\"\",SUBTOTAL(3,B$4:B223))","v":""},null,"","",null,"",""]
[{"$f":"IF(B224=\"\",\"\",SUBTOTAL(3,B$4:B224))","v":""},null,"","",null,"",""]
[{"$f":"IF(B225=\"\",\"\",SUBTOTAL(3,B$4:B225))","v":""},null,"","",null,"",""]
[{"$f":"IF(B226=\"\",\"\",SUBTOTAL(3,B$4:B226))","v":""},null,"","",null,"",""]
[{"$f":"IF(B227=\"\",\"\",SUBTOTAL(3,B$4:B227))","v":""},null,"","",null,"",""]
[{"$f":"IF(B228=\"\",\"\",SUBTOTAL(3,B$4:B228))","v":""},null,"","",null,"",""]
[{"$f":"IF(B229=\"\",\"\",SUBTOTAL(3,B$4:B229))","v":""},null,"","",null,"",""]
[{"$f":"IF(B230=\"\",\"\",SUBTOTAL(3,B$4:B230))","v":""},null,"","",null,"",""]
[{"$f":"IF(B231=\"\",\"\",SUBTOTAL(3,B$4:B231))","v":""},null,"","",null,"",""]
[{"$f":"IF(B232=\"\",\"\",SUBTOTAL(3,B$4:B232))","v":""},null,"","",null,"",""]
[{"$f":"IF(B233=\"\",\"\",SUBTOTAL(3,B$4:B233))","v":""},null,"","",null,"",""]
[{"$f":"IF(B234=\"\",\"\",SUBTOTAL(3,B$4:B234))","v":""},null,"","",null,"",""]
[{"$f":"IF(B235=\"\",\"\",SUBTOTAL(3,B$4:B235))","v":""},null,"","",null,"",""]
[{"$f":"IF(B236=\"\",\"\",SUBTOTAL(3,B$4:B236))","v":""},null,"","",null,"",""]
[{"$f":"IF(B237=\"\",\"\",SUBTOTAL(3,B$4:B237))","v":""},null,"","",null,"",""]
[{"$f":"IF(B238=\"\",\"\",SUBTOTAL(3,B$4:B238))","v":""},null,"","",null,"",""]
[{"$f":"IF(B239=\"\",\"\",SUBTOTAL(3,B$4:B239))","v":""},null,"","",null,"",""]
[{"$f":"IF(B240=\"\",\"\",SUBTOTAL(3,B$4:B240))","v":""},null,"","",null,"",""]
[{"$f":"IF(B241=\"\",\"\",SUBTOTAL(3,B$4:B241))","v":""},null,"","",null,"",""]
[{"$f":"IF(B242=\"\",\"\",SUBTOTAL(3,B$4:B242))","v":""},null,"","",null,"",""]
[{"$f":"IF(B243=\"\",\"\",SUBTOTAL(3,B$4:B243))","v":""},null,"","",null,"",""]
[{"$f":"IF(B244=\"\",\"\",SUBTOTAL(3,B$4:B244))","v":""},null,"","",null,"",""]
[{"$f":"IF(B245=\"\",\"\",SUBTOTAL(3,B$4:B245))","v":""},null,"","",null,"",""]
[{"$f":"IF(B246=\"\",\"\",SUBTOTAL(3,B$4:B246))","v":""},null,"","",null,"",""]
[{"$f":"IF(B247=\"\",\"\",SUBTOTAL(3,B$4:B247))","v":""},null,"","",null,"",""]
[{"$f":"IF(B248=\"\",\"\",SUBTOTAL(3,B$4:B248))","v":""},null,"","",null,"",""]
[{"$f":"IF(B249=\"\",\"\",SUBTOTAL(3,B$4:B249))","v":""},null,"","",null,"",""]
[{"$f":"IF(B250=\"\",\"\",SUBTOTAL(3,B$4:B250))","v":""},null,"","",null,"",""]
[{"$f":"IF(B251=\"\",\"\",SUBTOTAL(3,B$4:B251))","v":""},null,"","",null,"",""]
[{"$f":"IF(B252=\"\",\"\",SUBTOTAL(3,B$4:B252))","v":""},null,"","",null,"",""]
[{"$f":"IF(B253=\"\",\"\",SUBTOTAL(3,B$4:B253))","v":""},null,"","",null,"",""]
[{"$f":"IF(B254=\"\",\"\",SUBTOTAL(3,B$4:B254))","v":""},null,"","",null,"",""]
[{"$f":"IF(B255=\"\",\"\",SUBTOTAL(3,B$4:B255))","v":""},null,"","",null,"",""]
[{"$f":"IF(B256=\"\",\"\",SUBTOTAL(3,B$4:B256))","v":""},null,"","",null,"",""]
[{"$f":"IF(B257=\"\",\"\",SUBTOTAL(3,B$4:B257))","v":""},null,"","",null,"",""]
[{"$f":"IF(B258=\"\",\"\",SUBTOTAL(3,B$4:B258))","v":""},null,"","",null,"",""]
[{"$f":"IF(B259=\"\",\"\",SUBTOTAL(3,B$4:B259))","v":""},null,"","",null,"",""]
[{"$f":"IF(B260=\"\",\"\",SUBTOTAL(3,B$4:B260))","v":""},null,{"$f":"IFERROR(VLOOKUP(B260,stocklist,2,0),\"\")","v":""},"",null,"",{"$f":"IFERROR(F260*E260,\"\")","v":""}]
[{"$f":"IF(B261=\"\",\"\",SUBTOTAL(3,B$4:B261))","v":""},null,"","",null,"",""]
[{"$f":"IF(B262=\"\",\"\",SUBTOTAL(3,B$4:B262))","v":""},null,"","",null,"",""]
[{"$f":"IF(B263=\"\",\"\",SUBTOTAL(3,B$4:B263))","v":""},null,"","",null,"",""]
[{"$f":"IF(B264=\"\",\"\",SUBTOTAL(3,B$4:B264))","v":""},null,"","",null,"",""]
[{"$f":"IF(B265=\"\",\"\",SUBTOTAL(3,B$4:B265))","v":""},null,"","",null,"",""]
[{"$f":"IF(B266=\"\",\"\",SUBTOTAL(3,B$4:B266))","v":""},null,"","",null,"",""]
[{"$f":"IF(B267=\"\",\"\",SUBTOTAL(3,B$4:B267))","v":""},null,"","",null,"",""]
[{"$f":"IF(B268=\"\",\"\",SUBTOTAL(3,B$4:B268))","v":""},null,"","",null,"",""]
[{"$f":"IF(B269=\"\",\"\",SUBTOTAL(3,B$4:B269))","v":""},null,"","",null,"",""]
[{"$f":"IF(B270=\"\",\"\",SUBTOTAL(3,B$4:B270))","v":""},null,"","",null,"",""]
[{"$f":"IF(B271=\"\",\"\",SUBTOTAL(3,B$4:B271))","v":""},null,"","",null,"",""]
[{"$f":"IF(B272=\"\",\"\",SUBTOTAL(3,B$4:B272))","v":""},null,"","",null,"",""]
[{"$f":"IF(B273=\"\",\"\",SUBTOTAL(3,B$4:B273))","v":""},null,"","",null,"",""]
[{"$f":"IF(B274=\"\",\"\",SUBTOTAL(3,B$4:B274))","v":""},null,"","",null,"",""]
[{"$f":"IF(B275=\"\",\"\",SUBTOTAL(3,B$4:B275))","v":""},null,"","",null,"",""]
[{"$f":"IF(B276=\"\",\"\",SUBTOTAL(3,B$4:B276))","v":""},null,"","",null,"",""]
[{"$f":"IF(B277=\"\",\"\",SUBTOTAL(3,B$4:B277))","v":""},null,"","",null,"",""]
[{"$f":"IF(B278=\"\",\"\",SUBTOTAL(3,B$4:B278))","v":""},null,"","",null,"",""]
[{"$f":"IF(B279=\"\",\"\",SUBTOTAL(3,B$4:B279))","v":""},null,"","",null,"",""]
[{"$f":"IF(B280=\"\",\"\",SUBTOTAL(3,B$4:B280))","v":""},null,"","",null,"",""]
[{"$f":"IF(B281=\"\",\"\",SUBTOTAL(3,B$4:B281))","v":""},null,"","",null,"",""]
[{"$f":"IF(B282=\"\",\"\",SUBTOTAL(3,B$4:B282))","v":""},null,"","",null,"",""]
[{"$f":"IF(B283=\"\",\"\",SUBTOTAL(3,B$4:B283))","v":""},null,"","",null,"",""]
[{"$f":"IF(B284=\"\",\"\",SUBTOTAL(3,B$4:B284))","v":""},null,"","",null,"",""]
[{"$f":"IF(B285=\"\",\"\",SUBTOTAL(3,B$4:B285))","v":""},null,"","",null,"",""]
[{"$f":"IF(B286=\"\",\"\",SUBTOTAL(3,B$4:B286))","v":""},null,"","",null,"",""]
[{"$f":"IF(B287=\"\",\"\",SUBTOTAL(3,B$4:B287))","v":""},null,"","",null,"",""]
[{"$f":"IF(B288=\"\",\"\",SUBTOTAL(3,B$4:B288))","v":""},null,"","",null,"",""]
[{"$f":"IF(B289=\"\",\"\",SUBTOTAL(3,B$4:B289))","v":""},null,"","",null,"",""]
[{"$f":"IF(B290=\"\",\"\",SUBTOTAL(3,B$4:B290))","v":""},null,"","",null,"",""]
[{"$f":"IF(B291=\"\",\"\",SUBTOTAL(3,B$4:B291))","v":""},null,"","",null,"",""]
[{"$f":"IF(B292=\"\",\"\",SUBTOTAL(3,B$4:B292))","v":""},null,"","",null,"",""]
[{"$f":"IF(B293=\"\",\"\",SUBTOTAL(3,B$4:B293))","v":""},null,"","",null,"",""]
[{"$f":"IF(B294=\"\",\"\",SUBTOTAL(3,B$4:B294))","v":""},null,"","",null,"",""]
[{"$f":"IF(B295=\"\",\"\",SUBTOTAL(3,B$4:B295))","v":""},null,"","",null,"",""]
[{"$f":"IF(B296=\"\",\"\",SUBTOTAL(3,B$4:B296))","v":""},null,"","",null,"",""]
[{"$f":"IF(B297=\"\",\"\",SUBTOTAL(3,B$4:B297))","v":""},null,"","",null,"",""]
[{"$f":"IF(B298=\"\",\"\",SUBTOTAL(3,B$4:B298))","v":""},null,"","",null,"",""]
[{"$f":"IF(B299=\"\",\"\",SUBTOTAL(3,B$4:B299))","v":""},null,"","",null,"",""]
[{"$f":"IF(B300=\"\",\"\",SUBTOTAL(3,B$4:B300))","v":""},null,"","",null,"",""]
[{"$f":"IF(B301=\"\",\"\",SUBTOTAL(3,B$4:B301))","v":""},null,"","",null,"",""]
[{"$f":"IF(B302=\"\",\"\",SUBTOTAL(3,B$4:B302))","v":""},null,"","",null,"",""]
[{"$f":"IF(B303=\"\",\"\",SUBTOTAL(3,B$4:B303))","v":""},null,"","",null,"",""]
[{"$f":"IF(B304=\"\",\"\",SUBTOTAL(3,B$4:B304))","v":""},null,"","",null,"",""]
[{"$f":"IF(B305=\"\",\"\",SUBTOTAL(3,B$4:B305))","v":""},null,"","",null,"",""]
[{"$f":"IF(B306=\"\",\"\",SUBTOTAL(3,B$4:B306))","v":""},null,"","",null,"",""]
[{"$f":"IF(B307=\"\",\"\",SUBTOTAL(3,B$4:B307))","v":""},null,"","",null,"",""]
[{"$f":"IF(B308=\"\",\"\",SUBTOTAL(3,B$4:B308))","v":""},null,"","",null,"",""]
[{"$f":"IF(B309=\"\",\"\",SUBTOTAL(3,B$4:B309))","v":""},null,"","",null,"",""]
[{"$f":"IF(B310=\"\",\"\",SUBTOTAL(3,B$4:B310))","v":""},null,"","",null,"",""]
[{"$f":"IF(B311=\"\",\"\",SUBTOTAL(3,B$4:B311))","v":""},null,"","",null,"",""]
[{"$f":"IF(B312=\"\",\"\",SUBTOTAL(3,B$4:B312))","v":""},null,"","",null,"",""]
[{"$f":"IF(B313=\"\",\"\",SUBTOTAL(3,B$4:B313))","v":""},null,"","",null,"",""]
[{"$f":"IF(B314=\"\",\"\",SUBTOTAL(3,B$4:B314))","v":""},null,"","",null,"",""]
[{"$f":"IF(B315=\"\",\"\",SUBTOTAL(3,B$4:B315))","v":""},null,"","",null,"",""]
[{"$f":"IF(B316=\"\",\"\",SUBTOTAL(3,B$4:B316))","v":""},null,"","",null,"",""]
[{"$f":"IF(B317=\"\",\"\",SUBTOTAL(3,B$4:B317))","v":""},null,"","",null,"",""]
[{"$f":"IF(B318=\"\",\"\",SUBTOTAL(3,B$4:B318))","v":""},null,"","",null,"",""]
[{"$f":"IF(B319=\"\",\"\",SUBTOTAL(3,B$4:B319))","v":""},null,"","",null,"",""]
[{"$f":"IF(B320=\"\",\"\",SUBTOTAL(3,B$4:B320))","v":""},null,"","",null,"",""]
[{"$f":"IF(B321=\"\",\"\",SUBTOTAL(3,B$4:B321))","v":""},null,"","",null,"",""]
[{"$f":"IF(B322=\"\",\"\",SUBTOTAL(3,B$4:B322))","v":""},null,"","",null,"",""]
[{"$f":"IF(B323=\"\",\"\",SUBTOTAL(3,B$4:B323))","v":""},null,"","",null,"",""]
[{"$f":"IF(B324=\"\",\"\",SUBTOTAL(3,B$4:B324))","v":""},null,{"$f":"IFERROR(VLOOKUP(B324,stocklist,2,0),\"\")","v":""},"",null,"",{"$f":"IFERROR(F324*E324,\"\")","v":""}]
[{"$f":"IF(B325=\"\",\"\",SUBTOTAL(3,B$4:B325))","v":""},null,"","",null,"",""]
[{"$f":"IF(B326=\"\",\"\",SUBTOTAL(3,B$4:B326))","v":""},null,"","",null,"",""]
[{"$f":"IF(B327=\"\",\"\",SUBTOTAL(3,B$4:B327))","v":""},null,"","",null,"",""]
[{"$f":"IF(B328=\"\",\"\",SUBTOTAL(3,B$4:B328))","v":""},null,"","",null,"",""]
[{"$f":"IF(B329=\"\",\"\",SUBTOTAL(3,B$4:B329))","v":""},null,"","",null,"",""]
[{"$f":"IF(B330=\"\",\"\",SUBTOTAL(3,B$4:B330))","v":""},null,"","",null,"",""]
[{"$f":"IF(B331=\"\",\"\",SUBTOTAL(3,B$4:B331))","v":""},null,"","",null,"",""]
[{"$f":"IF(B332=\"\",\"\",SUBTOTAL(3,B$4:B332))","v":""},null,"","",null,"",""]
[{"$f":"IF(B333=\"\",\"\",SUBTOTAL(3,B$4:B333))","v":""},null,"","",null,"",""]
[{"$f":"IF(B334=\"\",\"\",SUBTOTAL(3,B$4:B334))","v":""},null,"","",null,"",""]
[{"$f":"IF(B335=\"\",\"\",SUBTOTAL(3,B$4:B335))","v":""},null,"","",null,"",""]
[{"$f":"IF(B336=\"\",\"\",SUBTOTAL(3,B$4:B336))","v":""},null,"","",null,"",""]
[{"$f":"IF(B337=\"\",\"\",SUBTOTAL(3,B$4:B337))","v":""},null,"","",null,"",""]
[{"$f":"IF(B338=\"\",\"\",SUBTOTAL(3,B$4:B338))","v":""},null,"","",null,"",""]
[{"$f":"IF(B339=\"\",\"\",SUBTOTAL(3,B$4:B339))","v":""},null,"","",null,"",""]
[{"$f":"IF(B340=\"\",\"\",SUBTOTAL(3,B$4:B340))","v":""},null,"","",null,"",""]
[{"$f":"IF(B341=\"\",\"\",SUBTOTAL(3,B$4:B341))","v":""},null,"","",null,"",""]
[{"$f":"IF(B342=\"\",\"\",SUBTOTAL(3,B$4:B342))","v":""},null,"","",null,"",""]
[{"$f":"IF(B343=\"\",\"\",SUBTOTAL(3,B$4:B343))","v":""},null,"","",null,"",""]
[{"$f":"IF(B344=\"\",\"\",SUBTOTAL(3,B$4:B344))","v":""},null,"","",null,"",""]
[{"$f":"IF(B345=\"\",\"\",SUBTOTAL(3,B$4:B345))","v":""},null,"","",null,"",""]
[{"$f":"IF(B346=\"\",\"\",SUBTOTAL(3,B$4:B346))","v":""},null,"","",null,"",""]
[{"$f":"IF(B347=\"\",\"\",SUBTOTAL(3,B$4:B347))","v":""},null,"","",null,"",""]
[{"$f":"IF(B348=\"\",\"\",SUBTOTAL(3,B$4:B348))","v":""},null,"","",null,"",""]
[{"$f":"IF(B349=\"\",\"\",SUBTOTAL(3,B$4:B349))","v":""},null,"","",null,"",""]
[{"$f":"IF(B350=\"\",\"\",SUBTOTAL(3,B$4:B350))","v":""},null,"","",null,"",""]
[{"$f":"IF(B351=\"\",\"\",SUBTOTAL(3,B$4:B351))","v":""},null,"","",null,"",""]
[{"$f":"IF(B352=\"\",\"\",SUBTOTAL(3,B$4:B352))","v":""},null,"","",null,"",""]
[{"$f":"IF(B353=\"\",\"\",SUBTOTAL(3,B$4:B353))","v":""},null,"","",null,"",""]
[{"$f":"IF(B354=\"\",\"\",SUBTOTAL(3,B$4:B354))","v":""},null,"","",null,"",""]
[{"$f":"IF(B355=\"\",\"\",SUBTOTAL(3,B$4:B355))","v":""},null,"","",null,"",""]
[{"$f":"IF(B356=\"\",\"\",SUBTOTAL(3,B$4:B356))","v":""},null,"","",null,"",""]
[{"$f":"IF(B357=\"\",\"\",SUBTOTAL(3,B$4:B357))","v":""},null,"","",null,"",""]
[{"$f":"IF(B358=\"\",\"\",SUBTOTAL(3,B$4:B358))","v":""},null,"","",null,"",""]
[{"$f":"IF(B359=\"\",\"\",SUBTOTAL(3,B$4:B359))","v":""},null,"","",null,"",""]
[{"$f":"IF(B360=\"\",\"\",SUBTOTAL(3,B$4:B360))","v":""},null,"","",null,"",""]
[{"$f":"IF(B361=\"\",\"\",SUBTOTAL(3,B$4:B361))","v":""},null,"","",null,"",""]
[{"$f":"IF(B362=\"\",\"\",SUBTOTAL(3,B$4:B362))","v":""},null,"","",null,"",""]
[{"$f":"IF(B363=\"\",\"\",SUBTOTAL(3,B$4:B363))","v":""},null,"","",null,"",""]
[{"$f":"IF(B364=\"\",\"\",SUBTOTAL(3,B$4:B364))","v":""},null,"","",null,"",""]
[{"$f":"IF(B365=\"\",\"\",SUBTOTAL(3,B$4:B365))","v":""},null,"","",null,"",""]
[{"$f":"IF(B366=\"\",\"\",SUBTOTAL(3,B$4:B366))","v":""},null,"","",null,"",""]
[{"$f":"IF(B367=\"\",\"\",SUBTOTAL(3,B$4:B367))","v":""},null,"","",null,"",""]
[{"$f":"IF(B368=\"\",\"\",SUBTOTAL(3,B$4:B368))","v":""},null,"","",null,"",""]
[{"$f":"IF(B369=\"\",\"\",SUBTOTAL(3,B$4:B369))","v":""},null,"","",null,"",""]
[{"$f":"IF(B370=\"\",\"\",SUBTOTAL(3,B$4:B370))","v":""},null,"","",null,"",""]
[{"$f":"IF(B371=\"\",\"\",SUBTOTAL(3,B$4:B371))","v":""},null,"","",null,"",""]
[{"$f":"IF(B372=\"\",\"\",SUBTOTAL(3,B$4:B372))","v":""},null,"","",null,"",""]
[{"$f":"IF(B373=\"\",\"\",SUBTOTAL(3,B$4:B373))","v":""},null,"","",null,"",""]
[{"$f":"IF(B374=\"\",\"\",SUBTOTAL(3,B$4:B374))","v":""},null,"","",null,"",""]
[{"$f":"IF(B375=\"\",\"\",SUBTOTAL(3,B$4:B375))","v":""},null,"","",null,"",""]
[{"$f":"IF(B376=\"\",\"\",SUBTOTAL(3,B$4:B376))","v":""},null,"","",null,"",""]
[{"$f":"IF(B377=\"\",\"\",SUBTOTAL(3,B$4:B377))","v":""},null,"","",null,"",""]
[{"$f":"IF(B378=\"\",\"\",SUBTOTAL(3,B$4:B378))","v":""},null,"","",null,"",""]
[{"$f":"IF(B379=\"\",\"\",SUBTOTAL(3,B$4:B379))","v":""},null,"","",null,"",""]
[{"$f":"IF(B380=\"\",\"\",SUBTOTAL(3,B$4:B380))","v":""},null,"","",null,"",""]
[{"$f":"IF(B381=\"\",\"\",SUBTOTAL(3,B$4:B381))","v":""},null,"","",null,"",""]
[{"$f":"IF(B382=\"\",\"\",SUBTOTAL(3,B$4:B382))","v":""},null,"","",null,"",""]
[{"$f":"IF(B383=\"\",\"\",SUBTOTAL(3,B$4:B383))","v":""},null,"","",null,"",""]
[{"$f":"IF(B384=\"\",\"\",SUBTOTAL(3,B$4:B384))","v":""},null,"","",null,"",""]
[{"$f":"IF(B385=\"\",\"\",SUBTOTAL(3,B$4:B385))","v":""},null,"","",null,"",""]
[{"$f":"IF(B386=\"\",\"\",SUBTOTAL(3,B$4:B386))","v":""},null,"","",null,"",""]
[{"$f":"IF(B387=\"\",\"\",SUBTOTAL(3,B$4:B387))","v":""},null,"","",null,"",""]
[{"$f":"IF(B388=\"\",\"\",SUBTOTAL(3,B$4:B388))","v":""},null,{"$f":"IFERROR(VLOOKUP(B388,stocklist,2,0),\"\")","v":""},"",null,"",{"$f":"IFERROR(F388*E388,\"\")","v":""}]
[{"$f":"IF(B389=\"\",\"\",SUBTOTAL(3,B$4:B389))","v":""},null,"","",null,"",""]
[{"$f":"IF(B390=\"\",\"\",SUBTOTAL(3,B$4:B390))","v":""},null,"","",null,"",""]
[{"$f":"IF(B391=\"\",\"\",SUBTOTAL(3,B$4:B391))","v":""},null,"","",null,"",""]
[{"$f":"IF(B392=\"\",\"\",SUBTOTAL(3,B$4:B392))","v":""},null,"","",null,"",""]
[{"$f":"IF(B393=\"\",\"\",SUBTOTAL(3,B$4:B393))","v":""},null,"","",null,"",""]
[{"$f":"IF(B394=\"\",\"\",SUBTOTAL(3,B$4:B394))","v":""},null,"","",null,"",""]
[{"$f":"IF(B395=\"\",\"\",SUBTOTAL(3,B$4:B395))","v":""},null,"","",null,"",""]
[{"$f":"IF(B396=\"\",\"\",SUBTOTAL(3,B$4:B396))","v":""},null,"","",null,"",""]
[{"$f":"IF(B397=\"\",\"\",SUBTOTAL(3,B$4:B397))","v":""},null,"","",null,"",""]
[{"$f":"IF(B398=\"\",\"\",SUBTOTAL(3,B$4:B398))","v":""},null,"","",null,"",""]
[{"$f":"IF(B399=\"\",\"\",SUBTOTAL(3,B$4:B399))","v":""},null,"","",null,"",""]
[{"$f":"IF(B400=\"\",\"\",SUBTOTAL(3,B$4:B400))","v":""},null,"","",null,"",""]
[{"$f":"IF(B401=\"\",\"\",SUBTOTAL(3,B$4:B401))","v":""},null,"","",null,"",""]
[{"$f":"IF(B402=\"\",\"\",SUBTOTAL(3,B$4:B402))","v":""},null,"","",null,"",""]
[{"$f":"IF(B403=\"\",\"\",SUBTOTAL(3,B$4:B403))","v":""},null,"","",null,"",""]
[{"$f":"IF(B404=\"\",\"\",SUBTOTAL(3,B$4:B404))","v":""},null,"","",null,"",""]
[{"$f":"IF(B405=\"\",\"\",SUBTOTAL(3,B$4:B405))","v":""},null,"","",null,"",""]
[{"$f":"IF(B406=\"\",\"\",SUBTOTAL(3,B$4:B406))","v":""},null,"","",null,"",""]
[{"$f":"IF(B407=\"\",\"\",SUBTOTAL(3,B$4:B407))","v":""},null,"","",null,"",""]
[{"$f":"IF(B408=\"\",\"\",SUBTOTAL(3,B$4:B408))","v":""},null,"","",null,"",""]
[{"$f":"IF(B409=\"\",\"\",SUBTOTAL(3,B$4:B409))","v":""},null,"","",null,"",""]
[{"$f":"IF(B410=\"\",\"\",SUBTOTAL(3,B$4:B410))","v":""},null,"","",null,"",""]
[{"$f":"IF(B411=\"\",\"\",SUBTOTAL(3,B$4:B411))","v":""},null,"","",null,"",""]
[{"$f":"IF(B412=\"\",\"\",SUBTOTAL(3,B$4:B412))","v":""},null,"","",null,"",""]
[{"$f":"IF(B413=\"\",\"\",SUBTOTAL(3,B$4:B413))","v":""},null,"","",null,"",""]
[{"$f":"IF(B414=\"\",\"\",SUBTOTAL(3,B$4:B414))","v":""},null,"","",null,"",""]
[{"$f":"IF(B415=\"\",\"\",SUBTOTAL(3,B$4:B415))","v":""},null,"","",null,"",""]
[{"$f":"IF(B416=\"\",\"\",SUBTOTAL(3,B$4:B416))","v":""},null,"","",null,"",""]
[{"$f":"IF(B417=\"\",\"\",SUBTOTAL(3,B$4:B417))","v":""},null,"","",null,"",""]
[{"$f":"IF(B418=\"\",\"\",SUBTOTAL(3,B$4:B418))","v":""},null,"","",null,"",""]
[{"$f":"IF(B419=\"\",\"\",SUBTOTAL(3,B$4:B419))","v":""},null,"","",null,"",""]
[{"$f":"IF(B420=\"\",\"\",SUBTOTAL(3,B$4:B420))","v":""},null,"","",null,"",""]
[{"$f":"IF(B421=\"\",\"\",SUBTOTAL(3,B$4:B421))","v":""},null,"","",null,"",""]
[{"$f":"IF(B422=\"\",\"\",SUBTOTAL(3,B$4:B422))","v":""},null,"","",null,"",""]
[{"$f":"IF(B423=\"\",\"\",SUBTOTAL(3,B$4:B423))","v":""},null,"","",null,"",""]
[{"$f":"IF(B424=\"\",\"\",SUBTOTAL(3,B$4:B424))","v":""},null,"","",null,"",""]
[{"$f":"IF(B425=\"\",\"\",SUBTOTAL(3,B$4:B425))","v":""},null,"","",null,"",""]
[{"$f":"IF(B426=\"\",\"\",SUBTOTAL(3,B$4:B426))","v":""},null,"","",null,"",""]
[{"$f":"IF(B427=\"\",\"\",SUBTOTAL(3,B$4:B427))","v":""},null,"","",null,"",""]
[{"$f":"IF(B428=\"\",\"\",SUBTOTAL(3,B$4:B428))","v":""},null,"","",null,"",""]
[{"$f":"IF(B429=\"\",\"\",SUBTOTAL(3,B$4:B429))","v":""},null,"","",null,"",""]
[{"$f":"IF(B430=\"\",\"\",SUBTOTAL(3,B$4:B430))","v":""},null,"","",null,"",""]
[{"$f":"IF(B431=\"\",\"\",SUBTOTAL(3,B$4:B431))","v":""},null,"","",null,"",""]
[{"$f":"IF(B432=\"\",\"\",SUBTOTAL(3,B$4:B432))","v":""},null,"","",null,"",""]
[{"$f":"IF(B433=\"\",\"\",SUBTOTAL(3,B$4:B433))","v":""},null,"","",null,"",""]
[{"$f":"IF(B434=\"\",\"\",SUBTOTAL(3,B$4:B434))","v":""},null,"","",null,"",""]
[{"$f":"IF(B435=\"\",\"\",SUBTOTAL(3,B$4:B435))","v":""},null,"","",null,"",""]
[{"$f":"IF(B436=\"\",\"\",SUBTOTAL(3,B$4:B436))","v":""},null,"","",null,"",""]
[{"$f":"IF(B437=\"\",\"\",SUBTOTAL(3,B$4:B437))","v":""},null,"","",null,"",""]
[{"$f":"IF(B438=\"\",\"\",SUBTOTAL(3,B$4:B438))","v":""},null,"","",null,"",""]
[{"$f":"IF(B439=\"\",\"\",SUBTOTAL(3,B$4:B439))","v":""},null,"","",null,"",""]
[{"$f":"IF(B440=\"\",\"\",SUBTOTAL(3,B$4:B440))","v":""},null,"","",null,"",""]
[{"$f":"IF(B441=\"\",\"\",SUBTOTAL(3,B$4:B441))","v":""},null,"","",null,"",""]
[{"$f":"IF(B442=\"\",\"\",SUBTOTAL(3,B$4:B442))","v":""},null,"","",null,"",""]
[{"$f":"IF(B443=\"\",\"\",SUBTOTAL(3,B$4:B443))","v":""},null,"","",null,"",""]
[{"$f":"IF(B444=\"\",\"\",SUBTOTAL(3,B$4:B444))","v":""},null,"","",null,"",""]
[{"$f":"IF(B445=\"\",\"\",SUBTOTAL(3,B$4:B445))","v":""},null,"","",null,"",""]
[{"$f":"IF(B446=\"\",\"\",SUBTOTAL(3,B$4:B446))","v":""},null,"","",null,"",""]
[{"$f":"IF(B447=\"\",\"\",SUBTOTAL(3,B$4:B447))","v":""},null,"","",null,"",""]
[{"$f":"IF(B448=\"\",\"\",SUBTOTAL(3,B$4:B448))","v":""},null,"","",null,"",""]
[{"$f":"IF(B449=\"\",\"\",SUBTOTAL(3,B$4:B449))","v":""},null,"","",null,"",""]
[{"$f":"IF(B450=\"\",\"\",SUBTOTAL(3,B$4:B450))","v":""},null,"","",null,"",""]
[{"$f":"IF(B451=\"\",\"\",SUBTOTAL(3,B$4:B451))","v":""},null,"","",null,"",""]
[{"$f":"IF(B452=\"\",\"\",SUBTOTAL(3,B$4:B452))","v":""},null,{"$f":"IFERROR(VLOOKUP(B452,stocklist,2,0),\"\")","v":""},"",null,"",{"$f":"IFERROR(F452*E452,\"\")","v":""}]
[{"$f":"IF(B453=\"\",\"\",SUBTOTAL(3,B$4:B453))","v":""},null,"","",null,"",""]
[{"$f":"IF(B454=\"\",\"\",SUBTOTAL(3,B$4:B454))","v":""},null,"","",null,"",""]
[{"$f":"IF(B455=\"\",\"\",SUBTOTAL(3,B$4:B455))","v":""},null,"","",null,"",""]
[{"$f":"IF(B456=\"\",\"\",SUBTOTAL(3,B$4:B456))","v":""},null,"","",null,"",""]
[{"$f":"IF(B457=\"\",\"\",SUBTOTAL(3,B$4:B457))","v":""},null,"","",null,"",""]
[{"$f":"IF(B458=\"\",\"\",SUBTOTAL(3,B$4:B458))","v":""},null,"","",null,"",""]
[{"$f":"IF(B459=\"\",\"\",SUBTOTAL(3,B$4:B459))","v":""},null,"","",null,"",""]
[{"$f":"IF(B460=\"\",\"\",SUBTOTAL(3,B$4:B460))","v":""},null,"","",null,"",""]
[{"$f":"IF(B461=\"\",\"\",SUBTOTAL(3,B$4:B461))","v":""},null,"","",null,"",""]
[{"$f":"IF(B462=\"\",\"\",SUBTOTAL(3,B$4:B462))","v":""},null,"","",null,"",""]
[{"$f":"IF(B463=\"\",\"\",SUBTOTAL(3,B$4:B463))","v":""},null,"","",null,"",""]
[{"$f":"IF(B464=\"\",\"\",SUBTOTAL(3,B$4:B464))","v":""},null,"","",null,"",""]
[{"$f":"IF(B465=\"\",\"\",SUBTOTAL(3,B$4:B465))","v":""},null,"","",null,"",""]
[{"$f":"IF(B466=\"\",\"\",SUBTOTAL(3,B$4:B466))","v":""},null,"","",null,"",""]
[{"$f":"IF(B467=\"\",\"\",SUBTOTAL(3,B$4:B467))","v":""},null,"","",null,"",""]
[{"$f":"IF(B468=\"\",\"\",SUBTOTAL(3,B$4:B468))","v":""},null,"","",null,"",""]
[{"$f":"IF(B469=\"\",\"\",SUBTOTAL(3,B$4:B469))","v":""},null,"","",null,"",""]
[{"$f":"IF(B470=\"\",\"\",SUBTOTAL(3,B$4:B470))","v":""},null,"","",null,"",""]
[{"$f":"IF(B471=\"\",\"\",SUBTOTAL(3,B$4:B471))","v":""},null,"","",null,"",""]
[{"$f":"IF(B472=\"\",\"\",SUBTOTAL(3,B$4:B472))","v":""},null,"","",null,"",""]
[{"$f":"IF(B473=\"\",\"\",SUBTOTAL(3,B$4:B473))","v":""},null,"","",null,"",""]
[{"$f":"IF(B474=\"\",\"\",SUBTOTAL(3,B$4:B474))","v":""},null,"","",null,"",""]
[{"$f":"IF(B475=\"\",\"\",SUBTOTAL(3,B$4:B475))","v":""},null,"","",null,"",""]
[{"$f":"IF(B476=\"\",\"\",SUBTOTAL(3,B$4:B476))","v":""},null,"","",null,"",""]
[{"$f":"IF(B477=\"\",\"\",SUBTOTAL(3,B$4:B477))","v":""},null,"","",null,"",""]
[{"$f":"IF(B478=\"\",\"\",SUBTOTAL(3,B$4:B478))","v":""},null,"","",null,"",""]
[{"$f":"IF(B479=\"\",\"\",SUBTOTAL(3,B$4:B479))","v":""},null,"","",null,"",""]
[{"$f":"IF(B480=\"\",\"\",SUBTOTAL(3,B$4:B480))","v":""},null,"","",null,"",""]
[{"$f":"IF(B481=\"\",\"\",SUBTOTAL(3,B$4:B481))","v":""},null,"","",null,"",""]
[{"$f":"IF(B482=\"\",\"\",SUBTOTAL(3,B$4:B482))","v":""},null,"","",null,"",""]
[{"$f":"IF(B483=\"\",\"\",SUBTOTAL(3,B$4:B483))","v":""},null,"","",null,"",""]
[{"$f":"IF(B484=\"\",\"\",SUBTOTAL(3,B$4:B484))","v":""},null,"","",null,"",""]
[{"$f":"IF(B485=\"\",\"\",SUBTOTAL(3,B$4:B485))","v":""},null,"","",null,"",""]
[{"$f":"IF(B486=\"\",\"\",SUBTOTAL(3,B$4:B486))","v":""},null,"","",null,"",""]
[{"$f":"IF(B487=\"\",\"\",SUBTOTAL(3,B$4:B487))","v":""},null,"","",null,"",""]
[{"$f":"IF(B488=\"\",\"\",SUBTOTAL(3,B$4:B488))","v":""},null,"","",null,"",""]
[{"$f":"IF(B489=\"\",\"\",SUBTOTAL(3,B$4:B489))","v":""},null,"","",null,"",""]
[{"$f":"IF(B490=\"\",\"\",SUBTOTAL(3,B$4:B490))","v":""},null,"","",null,"",""]
[{"$f":"IF(B491=\"\",\"\",SUBTOTAL(3,B$4:B491))","v":""},null,"","",null,"",""]
[{"$f":"IF(B492=\"\",\"\",SUBTOTAL(3,B$4:B492))","v":""},null,"","",null,"",""]
[{"$f":"IF(B493=\"\",\"\",SUBTOTAL(3,B$4:B493))","v":""},null,"","",null,"",""]
[{"$f":"IF(B494=\"\",\"\",SUBTOTAL(3,B$4:B494))","v":""},null,"","",null,"",""]
[{"$f":"IF(B495=\"\",\"\",SUBTOTAL(3,B$4:B495))","v":""},null,"","",null,"",""]
[{"$f":"IF(B496=\"\",\"\",SUBTOTAL(3,B$4:B496))","v":""},null,"","",null,"",""]
[{"$f":"IF(B497=\"\",\"\",SUBTOTAL(3,B$4:B497))","v":""},null,"","",null,"",""]
[{"$f":"IF(B498=\"\",\"\",SUBTOTAL(3,B$4:B498))","v":""},null,"","",null,"",""]
[{"$f":"IF(B499=\"\",\"\",SUBTOTAL(3,B$4:B499))","v":""},null,"","",null,"",""]
[{"$f":"IF(B500=\"\",\"\",SUBTOTAL(3,B$4:B500))","v":""},null,"","",null,"",""]

{"sheet":"قائمة المبيعات","index":2,"n_rows":500,"n_cols":8,"rows_kept":500,"cut":false,"hidden":false,"merged":[[1,0,1,5]]}
[null,1,null,null,2]
["قـــائمــــة المبيعــــات",null,null,null,null,null,"المجموع",{"$f":"SUM(G4:G1048576)","v":0}]
["الرقم","التعيين","الكود","الوحده","الكميه","سعر المبيعات","السعر الاجمالى","التاريخ"]
[{"$f":"IF(B4=\"\",\"\",SUBTOTAL(3,B$4:B4))","v":1},"H. M. LIQUI MOLY PERFORMANCE 5L ",{"$f":"IFERROR(VLOOKUP(B4,stocklist,2,0),\"\")","v":"5W30"},"L15",null,27,{"$f":"IFERROR(F4*E4,\"\")","v":0}]
[{"$f":"IF(B5=\"\",\"\",SUBTOTAL(3,B$4:B5))","v":2},"H.M. TOTAL FR 5L","10W40","L15",null,27,{"$f":"IFERROR(F5*E5,\"\")","v":0}]
[{"$f":"IF(B6=\"\",\"\",SUBTOTAL(3,B$4:B6))","v":3},"H.M. TOTAL FR 5L","10W40","L15",null,27,0]
[{"$f":"IF(B7=\"\",\"\",SUBTOTAL(3,B$4:B7))","v":4},"GRAISSE A2 VERKOL 18KG","10W40","",null,"",""]
[{"$f":"IF(B8=\"\",\"\",SUBTOTAL(3,B$4:B8))","v":""},null,"","",null,"",""]
[{"$f":"IF(B9=\"\",\"\",SUBTOTAL(3,B$4:B9))","v":""},null,"","",null,"",""]
[{"$f":"IF(B10=\"\",\"\",SUBTOTAL(3,B$4:B10))","v":""},null,"","",null,"",""]
[{"$f":"IF(B11=\"\",\"\",SUBTOTAL(3,B$4:B11))","v":""},null,"","",null,"",""]
[{"$f":"IF(B12=\"\",\"\",SUBTOTAL(3,B$4:B12))","v":""},null,"","",null,"",""]
[{"$f":"IF(B13=\"\",\"\",SUBTOTAL(3,B$4:B13))","v":""},null,"","",null,"",""]
[{"$f":"IF(B14=\"\",\"\",SUBTOTAL(3,B$4:B14))","v":""},null,"","",null,"",{"$f":"IFERROR(F14*E14,\"\")","v":""}]
[{"$f":"IF(B15=\"\",\"\",SUBTOTAL(3,B$4:B15))","v":""},null,"","",null,"",{"$f":"IFERROR(F15*E15,\"\")","v":""}]
[{"$f":"IF(B16=\"\",\"\",SUBTOTAL(3,B$4:B16))","v":""},null,"","",null,"",{"$f":"IFERROR(F16*E16,\"\")","v":""}]
[{"$f":"IF(B17=\"\",\"\",SUBTOTAL(3,B$4:B17))","v":""},null,"","",null,"",{"$f":"IFERROR(F17*E17,\"\")","v":""}]
[{"$f":"IF(B18=\"\",\"\",SUBTOTAL(3,B$4:B18))","v":""},null,"","",null,"",{"$f":"IFERROR(F18*E18,\"\")","v":""}]
[{"$f":"IF(B19=\"\",\"\",SUBTOTAL(3,B$4:B19))","v":""},null,"","",null,"",{"$f":"IFERROR(F19*E19,\"\")","v":""}]
[{"$f":"IF(B20=\"\",\"\",SUBTOTAL(3,B$4:B20))","v":""},null,"","",null,"",""]
[{"$f":"IF(B21=\"\",\"\",SUBTOTAL(3,B$4:B21))","v":""},null,"","",null,"",""]
[{"$f":"IF(B22=\"\",\"\",SUBTOTAL(3,B$4:B22))","v":""},null,"","",null,"",""]
[{"$f":"IF(B23=\"\",\"\",SUBTOTAL(3,B$4:B23))","v":""},null,"","",null,"",""]
[{"$f":"IF(B24=\"\",\"\",SUBTOTAL(3,B$4:B24))","v":""},null,"","",null,"",""]
[{"$f":"IF(B25=\"\",\"\",SUBTOTAL(3,B$4:B25))","v":""},null,"","",null,"",""]
[{"$f":"IF(B26=\"\",\"\",SUBTOTAL(3,B$4:B26))","v":""},null,"","",null,"",""]
[{"$f":"IF(B27=\"\",\"\",SUBTOTAL(3,B$4:B27))","v":""},null,"","",null,"",""]
[{"$f":"IF(B28=\"\",\"\",SUBTOTAL(3,B$4:B28))","v":""},null,"","",null,"",""]
[{"$f":"IF(B29=\"\",\"\",SUBTOTAL(3,B$4:B29))","v":""},null,"","",null,"",""]
[{"$f":"IF(B30=\"\",\"\",SUBTOTAL(3,B$4:B30))","v":""},null,"","",null,"",""]
[{"$f":"IF(B31=\"\",\"\",SUBTOTAL(3,B$4:B31))","v":""},null,"","",null,"",""]
[{"$f":"IF(B32=\"\",\"\",SUBTOTAL(3,B$4:B32))","v":""},null,"","",null,"",""]
[{"$f":"IF(B33=\"\",\"\",SUBTOTAL(3,B$4:B33))","v":""},null,"","",null,"",""]
[{"$f":"IF(B34=\"\",\"\",SUBTOTAL(3,B$4:B34))","v":""},null,"","",null,"",""]
[{"$f":"IF(B35=\"\",\"\",SUBTOTAL(3,B$4:B35))","v":""},null,"","",null,"",""]
[{"$f":"IF(B36=\"\",\"\",SUBTOTAL(3,B$4:B36))","v":""},null,"","",null,"",""]
[{"$f":"IF(B37=\"\",\"\",SUBTOTAL(3,B$4:B37))","v":""},null,"","",null,"",""]
[{"$f":"IF(B38=\"\",\"\",SUBTOTAL(3,B$4:B38))","v":""},null,"","",null,"",""]
[{"$f":"IF(B39=\"\",\"\",SUBTOTAL(3,B$4:B39))","v":""},null,"","",null,"",""]
[{"$f":"IF(B40=\"\",\"\",SUBTOTAL(3,B$4:B40))","v":""},null,"","",null,"",""]
[{"$f":"IF(B41=\"\",\"\",SUBTOTAL(3,B$4:B41))","v":""},null,"","",null,"",""]
[{"$f":"IF(B42=\"\",\"\",SUBTOTAL(3,B$4:B42))","v":""},null,"","",null,"",""]
[{"$f":"IF(B43=\"\",\"\",SUBTOTAL(3,B$4:B43))","v":""},null,"","",null,"",""]
[{"$f":"IF(B44=\"\",\"\",SUBTOTAL(3,B$4:B44))","v":""},null,"","",null,"",""]
[{"$f":"IF(B45=\"\",\"\",SUBTOTAL(3,B$4:B45))","v":""},null,"","",null,"",""]
[{"$f":"IF(B46=\"\",\"\",SUBTOTAL(3,B$4:B46))","v":""},null,"","",null,"",""]
[{"$f":"IF(B47=\"\",\"\",SUBTOTAL(3,B$4:B47))","v":""},null,"","",null,"",""]
[{"$f":"IF(B48=\"\",\"\",SUBTOTAL(3,B$4:B48))","v":""},null,"","",null,"",""]
[{"$f":"IF(B49=\"\",\"\",SUBTOTAL(3,B$4:B49))","v":""},null,"","",null,"",""]
[{"$f":"IF(B50=\"\",\"\",SUBTOTAL(3,B$4:B50))","v":""},null,"","",null,"",""]
[{"$f":"IF(B51=\"\",\"\",SUBTOTAL(3,B$4:B51))","v":""},null,"","",null,"",""]
[{"$f":"IF(B52=\"\",\"\",SUBTOTAL(3,B$4:B52))","v":""},null,"","",null,"",""]
[{"$f":"IF(B53=\"\",\"\",SUBTOTAL(3,B$4:B53))","v":""},null,"","",null,"",""]
[{"$f":"IF(B54=\"\",\"\",SUBTOTAL(3,B$4:B54))","v":""},null,"","",null,"",""]
[{"$f":"IF(B55=\"\",\"\",SUBTOTAL(3,B$4:B55))","v":""},null,"","",null,"",""]
[{"$f":"IF(B56=\"\",\"\",SUBTOTAL(3,B$4:B56))","v":""},null,"","",null,"",""]
[{"$f":"IF(B57=\"\",\"\",SUBTOTAL(3,B$4:B57))","v":""},null,"","",null,"",""]
[{"$f":"IF(B58=\"\",\"\",SUBTOTAL(3,B$4:B58))","v":""},null,"","",null,"",""]
[{"$f":"IF(B59=\"\",\"\",SUBTOTAL(3,B$4:B59))","v":""},null,"","",null,"",""]
[{"$f":"IF(B60=\"\",\"\",SUBTOTAL(3,B$4:B60))","v":""},null,"","",null,"",""]
[{"$f":"IF(B61=\"\",\"\",SUBTOTAL(3,B$4:B61))","v":""},null,"","",null,"",""]
[{"$f":"IF(B62=\"\",\"\",SUBTOTAL(3,B$4:B62))","v":""},null,"","",null,"",""]
[{"$f":"IF(B63=\"\",\"\",SUBTOTAL(3,B$4:B63))","v":""},null,"","",null,"",""]
[{"$f":"IF(B64=\"\",\"\",SUBTOTAL(3,B$4:B64))","v":""},null,"","",null,"",""]
[{"$f":"IF(B65=\"\",\"\",SUBTOTAL(3,B$4:B65))","v":""},null,"","",null,"",""]
[{"$f":"IF(B66=\"\",\"\",SUBTOTAL(3,B$4:B66))","v":""},null,"","",null,"",""]
[{"$f":"IF(B67=\"\",\"\",SUBTOTAL(3,B$4:B67))","v":""},null,"","",null,"",""]
[{"$f":"IF(B68=\"\",\"\",SUBTOTAL(3,B$4:B68))","v":""},null,{"$f":"IFERROR(VLOOKUP(B68,stocklist,2,0),\"\")","v":""},"",null,"",""]
[{"$f":"IF(B69=\"\",\"\",SUBTOTAL(3,B$4:B69))","v":""},null,"","",null,"",""]
[{"$f":"IF(B70=\"\",\"\",SUBTOTAL(3,B$4:B70))","v":""},null,"","",null,"",""]
[{"$f":"IF(B71=\"\",\"\",SUBTOTAL(3,B$4:B71))","v":""},null,"","",null,"",""]
[{"$f":"IF(B72=\"\",\"\",SUBTOTAL(3,B$4:B72))","v":""},null,"","",null,"",""]
[{"$f":"IF(B73=\"\",\"\",SUBTOTAL(3,B$4:B73))","v":""},null,"","",null,"",""]
[{"$f":"IF(B74=\"\",\"\",SUBTOTAL(3,B$4:B74))","v":""},null,"","",null,"",""]
[{"$f":"IF(B75=\"\",\"\",SUBTOTAL(3,B$4:B75))","v":""},null,"","",null,"",""]
[{"$f":"IF(B76=\"\",\"\",SUBTOTAL(3,B$4:B76))","v":""},null,"","",null,"",""]
[{"$f":"IF(B77=\"\",\"\",SUBTOTAL(3,B$4:B77))","v":""},null,"","",null,"",""]
[{"$f":"IF(B78=\"\",\"\",SUBTOTAL(3,B$4:B78))","v":""},null,"","",null,"",""]
[{"$f":"IF(B79=\"\",\"\",SUBTOTAL(3,B$4:B79))","v":""},null,"","",null,"",""]
[{"$f":"IF(B80=\"\",\"\",SUBTOTAL(3,B$4:B80))","v":""},null,"","",null,"",""]
[{"$f":"IF(B81=\"\",\"\",SUBTOTAL(3,B$4:B81))","v":""},null,"","",null,"",""]
[{"$f":"IF(B82=\"\",\"\",SUBTOTAL(3,B$4:B82))","v":""},null,"","",null,"",""]
[{"$f":"IF(B83=\"\",\"\",SUBTOTAL(3,B$4:B83))","v":""},null,"","",null,"",{"$f":"IFERROR(F83*E83,\"\")","v":""}]
[{"$f":"IF(B84=\"\",\"\",SUBTOTAL(3,B$4:B84))","v":""},null,"","",null,"",""]
[{"$f":"IF(B85=\"\",\"\",SUBTOTAL(3,B$4:B85))","v":""},null,"","",null,"",""]
[{"$f":"IF(B86=\"\",\"\",SUBTOTAL(3,B$4:B86))","v":""},null,"","",null,"",""]
[{"$f":"IF(B87=\"\",\"\",SUBTOTAL(3,B$4:B87))","v":""},null,"","",null,"",""]
[{"$f":"IF(B88=\"\",\"\",SUBTOTAL(3,B$4:B88))","v":""},null,"","",null,"",""]
[{"$f":"IF(B89=\"\",\"\",SUBTOTAL(3,B$4:B89))","v":""},null,"","",null,"",""]
[{"$f":"IF(B90=\"\",\"\",SUBTOTAL(3,B$4:B90))","v":""},null,"","",null,"",""]
[{"$f":"IF(B91=\"\",\"\",SUBTOTAL(3,B$4:B91))","v":""},null,"","",null,"",""]
[{"$f":"IF(B92=\"\",\"\",SUBTOTAL(3,B$4:B92))","v":""},null,"","",null,"",""]
[{"$f":"IF(B93=\"\",\"\",SUBTOTAL(3,B$4:B93))","v":""},null,"","",null,"",""]
[{"$f":"IF(B94=\"\",\"\",SUBTOTAL(3,B$4:B94))","v":""},null,"","",null,"",""]
[{"$f":"IF(B95=\"\",\"\",SUBTOTAL(3,B$4:B95))","v":""},null,"","",null,"",""]
[{"$f":"IF(B96=\"\",\"\",SUBTOTAL(3,B$4:B96))","v":""},null,"","",null,"",""]
[{"$f":"IF(B97=\"\",\"\",SUBTOTAL(3,B$4:B97))","v":""},null,"","",null,"",""]
[{"$f":"IF(B98=\"\",\"\",SUBTOTAL(3,B$4:B98))","v":""},null,"","",null,"",""]
[{"$f":"IF(B99=\"\",\"\",SUBTOTAL(3,B$4:B99))","v":""},null,"","",null,"",""]
[{"$f":"IF(B100=\"\",\"\",SUBTOTAL(3,B$4:B100))","v":""},null,"","",null,"",""]
[{"$f":"IF(B101=\"\",\"\",SUBTOTAL(3,B$4:B101))","v":""},null,"","",null,"",""]
[{"$f":"IF(B102=\"\",\"\",SUBTOTAL(3,B$4:B102))","v":""},null,"","",null,"",""]
[{"$f":"IF(B103=\"\",\"\",SUBTOTAL(3,B$4:B103))","v":""},null,"","",null,"",""]
[{"$f":"IF(B104=\"\",\"\",SUBTOTAL(3,B$4:B104))","v":""},null,"","",null,"",""]
[{"$f":"IF(B105=\"\",\"\",SUBTOTAL(3,B$4:B105))","v":""},null,"","",null,"",""]
[{"$f":"IF(B106=\"\",\"\",SUBTOTAL(3,B$4:B106))","v":""},null,"","",null,"",""]
[{"$f":"IF(B107=\"\",\"\",SUBTOTAL(3,B$4:B107))","v":""},null,"","",null,"",""]
[{"$f":"IF(B108=\"\",\"\",SUBTOTAL(3,B$4:B108))","v":""},null,"","",null,"",""]
[{"$f":"IF(B109=\"\",\"\",SUBTOTAL(3,B$4:B109))","v":""},null,"","",null,"",""]
[{"$f":"IF(B110=\"\",\"\",SUBTOTAL(3,B$4:B110))","v":""},null,"","",null,"",""]
[{"$f":"IF(B111=\"\",\"\",SUBTOTAL(3,B$4:B111))","v":""},null,"","",null,"",""]
[{"$f":"IF(B112=\"\",\"\",SUBTOTAL(3,B$4:B112))","v":""},null,"","",null,"",""]
[{"$f":"IF(B113=\"\",\"\",SUBTOTAL(3,B$4:B113))","v":""},null,"","",null,"",""]
[{"$f":"IF(B114=\"\",\"\",SUBTOTAL(3,B$4:B114))","v":""},null,"","",null,"",""]
[{"$f":"IF(B115=\"\",\"\",SUBTOTAL(3,B$4:B115))","v":""},null,"","",null,"",""]
[{"$f":"IF(B116=\"\",\"\",SUBTOTAL(3,B$4:B116))","v":""},null,"","",null,"",""]
[{"$f":"IF(B117=\"\",\"\",SUBTOTAL(3,B$4:B117))","v":""},null,"","",null,"",""]
[{"$f":"IF(B118=\"\",\"\",SUBTOTAL(3,B$4:B118))","v":""},null,"","",null,"",""]
[{"$f":"IF(B119=\"\",\"\",SUBTOTAL(3,B$4:B119))","v":""},null,"","",null,"",""]
[{"$f":"IF(B120=\"\",\"\",SUBTOTAL(3,B$4:B120))","v":""},null,"","",null,"",""]
[{"$f":"IF(B121=\"\",\"\",SUBTOTAL(3,B$4:B121))","v":""},null,"","",null,"",""]
[{"$f":"IF(B122=\"\",\"\",SUBTOTAL(3,B$4:B122))","v":""},null,"","",null,"",""]
[{"$f":"IF(B123=\"\",\"\",SUBTOTAL(3,B$4:B123))","v":""},null,"","",null,"",""]
[{"$f":"IF(B124=\"\",\"\",SUBTOTAL(3,B$4:B124))","v":""},null,"","",null,"",""]
[{"$f":"IF(B125=\"\",\"\",SUBTOTAL(3,B$4:B125))","v":""},null,"","",null,"",""]
[{"$f":"IF(B126=\"\",\"\",SUBTOTAL(3,B$4:B126))","v":""},null,"","",null,"",""]
[{"$f":"IF(B127=\"\",\"\",SUBTOTAL(3,B$4:B127))","v":""},null,"","",null,"",""]
[{"$f":"IF(B128=\"\",\"\",SUBTOTAL(3,B$4:B128))","v":""},null,"","",null,"",""]
[{"$f":"IF(B129=\"\",\"\",SUBTOTAL(3,B$4:B129))","v":""},null,"","",null,"",""]
[{"$f":"IF(B130=\"\",\"\",SUBTOTAL(3,B$4:B130))","v":""},null,"","",null,"",""]
[{"$f":"IF(B131=\"\",\"\",SUBTOTAL(3,B$4:B131))","v":""},null,"","",null,"",""]
[{"$f":"IF(B132=\"\",\"\",SUBTOTAL(3,B$4:B132))","v":""},null,{"$f":"IFERROR(VLOOKUP(B132,stocklist,2,0),\"\")","v":""},"",null,"",""]
[{"$f":"IF(B133=\"\",\"\",SUBTOTAL(3,B$4:B133))","v":""},null,"","",null,"",""]
[{"$f":"IF(B134=\"\",\"\",SUBTOTAL(3,B$4:B134))","v":""},null,"","",null,"",""]
[{"$f":"IF(B135=\"\",\"\",SUBTOTAL(3,B$4:B135))","v":""},null,"","",null,"",""]
[{"$f":"IF(B136=\"\",\"\",SUBTOTAL(3,B$4:B136))","v":""},null,"","",null,"",""]
[{"$f":"IF(B137=\"\",\"\",SUBTOTAL(3,B$4:B137))","v":""},null,"","",null,"",""]
[{"$f":"IF(B138=\"\",\"\",SUBTOTAL(3,B$4:B138))","v":""},null,"","",null,"",""]
[{"$f":"IF(B139=\"\",\"\",SUBTOTAL(3,B$4:B139))","v":""},null,"","",null,"",""]
[{"$f":"IF(B140=\"\",\"\",SUBTOTAL(3,B$4:B140))","v":""},null,"","",null,"",""]
[{"$f":"IF(B141=\"\",\"\",SUBTOTAL(3,B$4:B141))","v":""},null,"","",null,"",""]
[{"$f":"IF(B142=\"\",\"\",SUBTOTAL(3,B$4:B142))","v":""},null,"","",null,"",""]
[{"$f":"IF(B143=\"\",\"\",SUBTOTAL(3,B$4:B143))","v":""},null,"","",null,"",""]
[{"$f":"IF(B144=\"\",\"\",SUBTOTAL(3,B$4:B144))","v":""},null,"","",null,"",""]
[{"$f":"IF(B145=\"\",\"\",SUBTOTAL(3,B$4:B145))","v":""},null,"","",null,"",""]
[{"$f":"IF(B146=\"\",\"\",SUBTOTAL(3,B$4:B146))","v":""},null,"","",null,"",""]
[{"$f":"IF(B147=\"\",\"\",SUBTOTAL(3,B$4:B147))","v":""},null,"","",null,"",{"$f":"IFERROR(F147*E147,\"\")","v":""}]
[{"$f":"IF(B148=\"\",\"\",SUBTOTAL(3,B$4:B148))","v":""},null,"","",null,"",""]
[{"$f":"IF(B149=\"\",\"\",SUBTOTAL(3,B$4:B149))","v":""},null,"","",null,"",""]
[{"$f":"IF(B150=\"\",\"\",SUBTOTAL(3,B$4:B150))","v":""},null,"","",null,"",""]
[{"$f":"IF(B151=\"\",\"\",SUBTOTAL(3,B$4:B151))","v":""},null,"","",null,"",""]
[{"$f":"IF(B152=\"\",\"\",SUBTOTAL(3,B$4:B152))","v":""},null,"","",null,"",""]
[{"$f":"IF(B153=\"\",\"\",SUBTOTAL(3,B$4:B153))","v":""},null,"","",null,"",""]
[{"$f":"IF(B154=\"\",\"\",SUBTOTAL(3,B$4:B154))","v":""},null,"","",null,"",""]
[{"$f":"IF(B155=\"\",\"\",SUBTOTAL(3,B$4:B155))","v":""},null,"","",null,"",""]
[{"$f":"IF(B156=\"\",\"\",SUBTOTAL(3,B$4:B156))","v":""},null,"","",null,"",""]
[{"$f":"IF(B157=\"\",\"\",SUBTOTAL(3,B$4:B157))","v":""},null,"","",null,"",""]
[{"$f":"IF(B158=\"\",\"\",SUBTOTAL(3,B$4:B158))","v":""},null,"","",null,"",""]
[{"$f":"IF(B159=\"\",\"\",SUBTOTAL(3,B$4:B159))","v":""},null,"","",null,"",""]
[{"$f":"IF(B160=\"\",\"\",SUBTOTAL(3,B$4:B160))","v":""},null,"","",null,"",""]
[{"$f":"IF(B161=\"\",\"\",SUBTOTAL(3,B$4:B161))","v":""},null,"","",null,"",""]
[{"$f":"IF(B162=\"\",\"\",SUBTOTAL(3,B$4:B162))","v":""},null,"","",null,"",""]
[{"$f":"IF(B163=\"\",\"\",SUBTOTAL(3,B$4:B163))","v":""},null,"","",null,"",""]
[{"$f":"IF(B164=\"\",\"\",SUBTOTAL(3,B$4:B164))","v":""},null,"","",null,"",""]
[{"$f":"IF(B165=\"\",\"\",SUBTOTAL(3,B$4:B165))","v":""},null,"","",null,"",""]
[{"$f":"IF(B166=\"\",\"\",SUBTOTAL(3,B$4:B166))","v":""},null,"","",null,"",""]
[{"$f":"IF(B167=\"\",\"\",SUBTOTAL(3,B$4:B167))","v":""},null,"","",null,"",""]
[{"$f":"IF(B168=\"\",\"\",SUBTOTAL(3,B$4:B168))","v":""},null,"","",null,"",""]
[{"$f":"IF(B169=\"\",\"\",SUBTOTAL(3,B$4:B169))","v":""},null,"","",null,"",""]
[{"$f":"IF(B170=\"\",\"\",SUBTOTAL(3,B$4:B170))","v":""},null,"","",null,"",""]
[{"$f":"IF(B171=\"\",\"\",SUBTOTAL(3,B$4:B171))","v":""},null,"","",null,"",""]
[{"$f":"IF(B172=\"\",\"\",SUBTOTAL(3,B$4:B172))","v":""},null,"","",null,"",""]
[{"$f":"IF(B173=\"\",\"\",SUBTOTAL(3,B$4:B173))","v":""},null,"","",null,"",""]
[{"$f":"IF(B174=\"\",\"\",SUBTOTAL(3,B$4:B174))","v":""},null,"","",null,"",""]
[{"$f":"IF(B175=\"\",\"\",SUBTOTAL(3,B$4:B175))","v":""},null,"","",null,"",""]
[{"$f":"IF(B176=\"\",\"\",SUBTOTAL(3,B$4:B176))","v":""},null,"","",null,"",""]
[{"$f":"IF(B177=\"\",\"\",SUBTOTAL(3,B$4:B177))","v":""},null,"","",null,"",""]
[{"$f":"IF(B178=\"\",\"\",SUBTOTAL(3,B$4:B178))","v":""},null,"","",null,"",""]
[{"$f":"IF(B179=\"\",\"\",SUBTOTAL(3,B$4:B179))","v":""},null,"","",null,"",""]
[{"$f":"IF(B180=\"\",\"\",SUBTOTAL(3,B$4:B180))","v":""},null,"","",null,"",""]
[{"$f":"IF(B181=\"\",\"\",SUBTOTAL(3,B$4:B181))","v":""},null,"","",null,"",""]
[{"$f":"IF(B182=\"\",\"\",SUBTOTAL(3,B$4:B182))","v":""},null,"","",null,"",""]
[{"$f":"IF(B183=\"\",\"\",SUBTOTAL(3,B$4:B183))","v":""},null,"","",null,"",""]
[{"$f":"IF(B184=\"\",\"\",SUBTOTAL(3,B$4:B184))","v":""},null,"","",null,"",""]
[{"$f":"IF(B185=\"\",\"\",SUBTOTAL(3,B$4:B185))","v":""},null,"","",null,"",""]
[{"$f":"IF(B186=\"\",\"\",SUBTOTAL(3,B$4:B186))","v":""},null,"","",null,"",""]
[{"$f":"IF(B187=\"\",\"\",SUBTOTAL(3,B$4:B187))","v":""},null,"","",null,"",""]
[{"$f":"IF(B188=\"\",\"\",SUBTOTAL(3,B$4:B188))","v":""},null,"","",null,"",""]
[{"$f":"IF(B189=\"\",\"\",SUBTOTAL(3,B$4:B189))","v":""},null,"","",null,"",""]
[{"$f":"IF(B190=\"\",\"\",SUBTOTAL(3,B$4:B190))","v":""},null,"","",null,"",""]
[{"$f":"IF(B191=\"\",\"\",SUBTOTAL(3,B$4:B191))","v":""},null,"","",null,"",""]
[{"$f":"IF(B192=\"\",\"\",SUBTOTAL(3,B$4:B192))","v":""},null,"","",null,"",""]
[{"$f":"IF(B193=\"\",\"\",SUBTOTAL(3,B$4:B193))","v":""},null,"","",null,"",""]
[{"$f":"IF(B194=\"\",\"\",SUBTOTAL(3,B$4:B194))","v":""},null,"","",null,"",""]
[{"$f":"IF(B195=\"\",\"\",SUBTOTAL(3,B$4:B195))","v":""},null,"","",null,"",""]
[{"$f":"IF(B196=\"\",\"\",SUBTOTAL(3,B$4:B196))","v":""},null,{"$f":"IFERROR(VLOOKUP(B196,stocklist,2,0),\"\")","v":""},"",null,"",""]
[{"$f":"IF(B197=\"\",\"\",SUBTOTAL(3,B$4:B197))","v":""},null,"","",null,"",""]
[{"$f":"IF(B198=\"\",\"\",SUBTOTAL(3,B$4:B198))","v":""},null,"","",null,"",""]
[{"$f":"IF(B199=\"\",\"\",SUBTOTAL(3,B$4:B199))","v":""},null,"","",null,"",""]
[{"$f":"IF(B200=\"\",\"\",SUBTOTAL(3,B$4:B200))","v":""},null,"","",null,"",""]
[{"$f":"IF(B201=\"\",\"\",SUBTOTAL(3,B$4:B201))","v":""},null,"","",null,"",""]
[{"$f":"IF(B202=\"\",\"\",SUBTOTAL(3,B$4:B202))","v":""},null,"","",null,"",""]
[{"$f":"IF(B203=\"\",\"\",SUBTOTAL(3,B$4:B203))","v":""},null,"","",null,"",""]
[{"$f":"IF(B204=\"\",\"\",SUBTOTAL(3,B$4:B204))","v":""},null,"","",null,"",""]
[{"$f":"IF(B205=\"\",\"\",SUBTOTAL(3,B$4:B205))","v":""},null,"","",null,"",""]
[{"$f":"IF(B206=\"\",\"\",SUBTOTAL(3,B$4:B206))","v":""},null,"","",null,"",""]
[{"$f":"IF(B207=\"\",\"\",SUBTOTAL(3,B$4:B207))","v":""},null,"","",null,"",""]
[{"$f":"IF(B208=\"\",\"\",SUBTOTAL(3,B$4:B208))","v":""},null,"","",null,"",""]
[{"$f":"IF(B209=\"\",\"\",SUBTOTAL(3,B$4:B209))","v":""},null,"","",null,"",""]
[{"$f":"IF(B210=\"\",\"\",SUBTOTAL(3,B$4:B210))","v":""},null,"","",null,"",""]
[{"$f":"IF(B211=\"\",\"\",SUBTOTAL(3,B$4:B211))","v":""},null,"","",null,"",{"$f":"IFERROR(F211*E211,\"\")","v":""}]
[{"$f":"IF(B212=\"\",\"\",SUBTOTAL(3,B$4:B212))","v":""},null,"","",null,"",""]
[{"$f":"IF(B213=\"\",\"\",SUBTOTAL(3,B$4:B213))","v":""},null,"","",null,"",""]
[{"$f":"IF(B214=\"\",\"\",SUBTOTAL(3,B$4:B214))","v":""},null,"","",null,"",""]
[{"$f":"IF(B215=\"\",\"\",SUBTOTAL(3,B$4:B215))","v":""},null,"","",null,"",""]
[{"$f":"IF(B216=\"\",\"\",SUBTOTAL(3,B$4:B216))","v":""},null,"","",null,"",""]
[{"$f":"IF(B217=\"\",\"\",SUBTOTAL(3,B$4:B217))","v":""},null,"","",null,"",""]
[{"$f":"IF(B218=\"\",\"\",SUBTOTAL(3,B$4:B218))","v":""},null,"","",null,"",""]
[{"$f":"IF(B219=\"\",\"\",SUBTOTAL(3,B$4:B219))","v":""},null,"","",null,"",""]
[{"$f":"IF(B220=\"\",\"\",SUBTOTAL(3,B$4:B220))","v":""},null,"","",null,"",""]
[{"$f":"IF(B221=\"\",\"\",SUBTOTAL(3,B$4:B221))","v":""},null,"","",null,"",""]
[{"$f":"IF(B222=\"\",\"\",SUBTOTAL(3,B$4:B222))","v":""},null,"","",null,"",""]
[{"$f":"IF(B223=\"\",\"\",SUBTOTAL(3,B$4:B223))","v":""},null,"","",null,"",""]
[{"$f":"IF(B224=\"\",\"\",SUBTOTAL(3,B$4:B224))","v":""},null,"","",null,"",""]
[{"$f":"IF(B225=\"\",\"\",SUBTOTAL(3,B$4:B225))","v":""},null,"","",null,"",""]
[{"$f":"IF(B226=\"\",\"\",SUBTOTAL(3,B$4:B226))","v":""},null,"","",null,"",""]
[{"$f":"IF(B227=\"\",\"\",SUBTOTAL(3,B$4:B227))","v":""},null,"","",null,"",""]
[{"$f":"IF(B228=\"\",\"\",SUBTOTAL(3,B$4:B228))","v":""},null,"","",null,"",""]
[{"$f":"IF(B229=\"\",\"\",SUBTOTAL(3,B$4:B229))","v":""},null,"","",null,"",""]
[{"$f":"IF(B230=\"\",\"\",SUBTOTAL(3,B$4:B230))","v":""},null,"","",null,"",""]
[{"$f":"IF(B231=\"\",\"\",SUBTOTAL(3,B$4:B231))","v":""},null,"","",null,"",""]
[{"$f":"IF(B232=\"\",\"\",SUBTOTAL(3,B$4:B232))","v":""},null,"","",null,"",""]
[{"$f":"IF(B233=\"\",\"\",SUBTOTAL(3,B$4:B233))","v":""},null,"","",null,"",""]
[{"$f":"IF(B234=\"\",\"\",SUBTOTAL(3,B$4:B234))","v":""},null,"","",null,"",""]
[{"$f":"IF(B235=\"\",\"\",SUBTOTAL(3,B$4:B235))","v":""},null,"","",null,"",""]
[{"$f":"IF(B236=\"\",\"\",SUBTOTAL(3,B$4:B236))","v":""},null,"","",null,"",""]
[{"$f":"IF(B237=\"\",\"\",SUBTOTAL(3,B$4:B237))","v":""},null,"","",null,"",""]
[{"$f":"IF(B238=\"\",\"\",SUBTOTAL(3,B$4:B238))","v":""},null,"","",null,"",""]
[{"$f":"IF(B239=\"\",\"\",SUBTOTAL(3,B$4:B239))","v":""},null,"","",null,"",""]
[{"$f":"IF(B240=\"\",\"\",SUBTOTAL(3,B$4:B240))","v":""},null,"","",null,"",""]
[{"$f":"IF(B241=\"\",\"\",SUBTOTAL(3,B$4:B241))","v":""},null,"","",null,"",""]
[{"$f":"IF(B242=\"\",\"\",SUBTOTAL(3,B$4:B242))","v":""},null,"","",null,"",""]
[{"$f":"IF(B243=\"\",\"\",SUBTOTAL(3,B$4:B243))","v":""},null,"","",null,"",""]
[{"$f":"IF(B244=\"\",\"\",SUBTOTAL(3,B$4:B244))","v":""},null,"","",null,"",""]
[{"$f":"IF(B245=\"\",\"\",SUBTOTAL(3,B$4:B245))","v":""},null,"","",null,"",""]
[{"$f":"IF(B246=\"\",\"\",SUBTOTAL(3,B$4:B246))","v":""},null,"","",null,"",""]
[{"$f":"IF(B247=\"\",\"\",SUBTOTAL(3,B$4:B247))","v":""},null,"","",null,"",""]
[{"$f":"IF(B248=\"\",\"\",SUBTOTAL(3,B$4:B248))","v":""},null,"","",null,"",""]
[{"$f":"IF(B249=\"\",\"\",SUBTOTAL(3,B$4:B249))","v":""},null,"","",null,"",""]
[{"$f":"IF(B250=\"\",\"\",SUBTOTAL(3,B$4:B250))","v":""},null,"","",null,"",""]
[{"$f":"IF(B251=\"\",\"\",SUBTOTAL(3,B$4:B251))","v":""},null,"","",null,"",""]
[{"$f":"IF(B252=\"\",\"\",SUBTOTAL(3,B$4:B252))","v":""},null,"","",null,"",""]
[{"$f":"IF(B253=\"\",\"\",SUBTOTAL(3,B$4:B253))","v":""},null,"","",null,"",""]
[{"$f":"IF(B254=\"\",\"\",SUBTOTAL(3,B$4:B254))","v":""},null,"","",null,"",""]
[{"$f":"IF(B255=\"\",\"\",SUBTOTAL(3,B$4:B255))","v":""},null,"","",null,"",""]
[{"$f":"IF(B256=\"\",\"\",SUBTOTAL(3,B$4:B256))","v":""},null,"","",null,"",""]
[{"$f":"IF(B257=\"\",\"\",SUBTOTAL(3,B$4:B257))","v":""},null,"","",null,"",""]
[{"$f":"IF(B258=\"\",\"\",SUBTOTAL(3,B$4:B258))","v":""},null,"","",null,"",""]
[{"$f":"IF(B259=\"\",\"\",SUBTOTAL(3,B$4:B259))","v":""},null,"","",null,"",""]
[{"$f":"IF(B260=\"\",\"\",SUBTOTAL(3,B$4:B260))","v":""},null,{"$f":"IFERROR(VLOOKUP(B260,stocklist,2,0),\"\")","v":""},"",null,"",""]
[{"$f":"IF(B261=\"\",\"\",SUBTOTAL(3,B$4:B261))","v":""},null,"","",null,"",""]
[{"$f":"IF(B262=\"\",\"\",SUBTOTAL(3,B$4:B262))","v":""},null,"","",null,"",""]
[{"$f":"IF(B263=\"\",\"\",SUBTOTAL(3,B$4:B263))","v":""},null,"","",null,"",""]
[{"$f":"IF(B264=\"\",\"\",SUBTOTAL(3,B$4:B264))","v":""},null,"","",null,"",""]
[{"$f":"IF(B265=\"\",\"\",SUBTOTAL(3,B$4:B265))","v":""},null,"","",null,"",""]
[{"$f":"IF(B266=\"\",\"\",SUBTOTAL(3,B$4:B266))","v":""},null,"","",null,"",""]
[{"$f":"IF(B267=\"\",\"\",SUBTOTAL(3,B$4:B267))","v":""},null,"","",null,"",""]
[{"$f":"IF(B268=\"\",\"\",SUBTOTAL(3,B$4:B268))","v":""},null,"","",null,"",""]
[{"$f":"IF(B269=\"\",\"\",SUBTOTAL(3,B$4:B269))","v":""},null,"","",null,"",""]
[{"$f":"IF(B270=\"\",\"\",SUBTOTAL(3,B$4:B270))","v":""},null,"","",null,"",""]
[{"$f":"IF(B271=\"\",\"\",SUBTOTAL(3,B$4:B271))","v":""},null,"","",null,"",""]
[{"$f":"IF(B272=\"\",\"\",SUBTOTAL(3,B$4:B272))","v":""},null,"","",null,"",""]
[{"$f":"IF(B273=\"\",\"\",SUBTOTAL(3,B$4:B273))","v":""},null,"","",null,"",""]
[{"$f":"IF(B274=\"\",\"\",SUBTOTAL(3,B$4:B274))","v":""},null,"","",null,"",""]
[{"$f":"IF(B275=\"\",\"\",SUBTOTAL(3,B$4:B275))","v":""},null,"","",null,"",{"$f":"IFERROR(F275*E275,\"\")","v":""}]
[{"$f":"IF(B276=\"\",\"\",SUBTOTAL(3,B$4:B276))","v":""},null,"","",null,"",""]
[{"$f":"IF(B277=\"\",\"\",SUBTOTAL(3,B$4:B277))","v":""},null,"","",null,"",""]
[{"$f":"IF(B278=\"\",\"\",SUBTOTAL(3,B$4:B278))","v":""},null,"","",null,"",""]
[{"$f":"IF(B279=\"\",\"\",SUBTOTAL(3,B$4:B279))","v":""},null,"","",null,"",""]
[{"$f":"IF(B280=\"\",\"\",SUBTOTAL(3,B$4:B280))","v":""},null,"","",null,"",""]
[{"$f":"IF(B281=\"\",\"\",SUBTOTAL(3,B$4:B281))","v":""},null,"","",null,"",""]
[{"$f":"IF(B282=\"\",\"\",SUBTOTAL(3,B$4:B282))","v":""},null,"","",null,"",""]
[{"$f":"IF(B283=\"\",\"\",SUBTOTAL(3,B$4:B283))","v":""},null,"","",null,"",""]
[{"$f":"IF(B284=\"\",\"\",SUBTOTAL(3,B$4:B284))","v":""},null,"","",null,"",""]
[{"$f":"IF(B285=\"\",\"\",SUBTOTAL(3,B$4:B285))","v":""},null,"","",null,"",""]
[{"$f":"IF(B286=\"\",\"\",SUBTOTAL(3,B$4:B286))","v":""},null,"","",null,"",""]
[{"$f":"IF(B287=\"\",\"\",SUBTOTAL(3,B$4:B287))","v":""},null,"","",null,"",""]
[{"$f":"IF(B288=\"\",\"\",SUBTOTAL(3,B$4:B288))","v":""},null,"","",null,"",""]
[{"$f":"IF(B289=\"\",\"\",SUBTOTAL(3,B$4:B289))","v":""},null,"","",null,"",""]
[{"$f":"IF(B290=\"\",\"\",SUBTOTAL(3,B$4:B290))","v":""},null,"","",null,"",""]
[{"$f":"IF(B291=\"\",\"\",SUBTOTAL(3,B$4:B291))","v":""},null,"","",null,"",""]
[{"$f":"IF(B292=\"\",\"\",SUBTOTAL(3,B$4:B292))","v":""},null,"","",null,"",""]
[{"$f":"IF(B293=\"\",\"\",SUBTOTAL(3,B$4:B293))","v":""},null,"","",null,"",""]
[{"$f":"IF(B294=\"\",\"\",SUBTOTAL(3,B$4:B294))","v":""},null,"","",null,"",""]
[{"$f":"IF(B295=\"\",\"\",SUBTOTAL(3,B$4:B295))","v":""},null,"","",null,"",""]
[{"$f":"IF(B296=\"\",\"\",SUBTOTAL(3,B$4:B296))","v":""},null,"","",null,"",""]
[{"$f":"IF(B297=\"\",\"\",SUBTOTAL(3,B$4:B297))","v":""},null,"","",null,"",""]
[{"$f":"IF(B298=\"\",\"\",SUBTOTAL(3,B$4:B298))","v":""},null,"","",null,"",""]
[{"$f":"IF(B299=\"\",\"\",SUBTOTAL(3,B$4:B299))","v":""},null,"","",null,"",""]
[{"$f":"IF(B300=\"\",\"\",SUBTOTAL(3,B$4:B300))","v":""},null,"","",null,"",""]
[{"$f":"IF(B301=\"\",\"\",SUBTOTAL(3,B$4:B301))","v":""},null,"","",null,"",""]
[{"$f":"IF(B302=\"\",\"\",SUBTOTAL(3,B$4:B302))","v":""},null,"","",null,"",""]
[{"$f":"IF(B303=\"\",\"\",SUBTOTAL(3,B$4:B303))","v":""},null,"","",null,"",""]
[{"$f":"IF(B304=\"\",\"\",SUBTOTAL(3,B$4:B304))","v":""},null,"","",null,"",""]
[{"$f":"IF(B305=\"\",\"\",SUBTOTAL(3,B$4:B305))","v":""},null,"","",null,"",""]
[{"$f":"IF(B306=\"\",\"\",SUBTOTAL(3,B$4:B306))","v":""},null,"","",null,"",""]
[{"$f":"IF(B307=\"\",\"\",SUBTOTAL(3,B$4:B307))","v":""},null,"","",null,"",""]
[{"$f":"IF(B308=\"\",\"\",SUBTOTAL(3,B$4:B308))","v":""},null,"","",null,"",""]
[{"$f":"IF(B309=\"\",\"\",SUBTOTAL(3,B$4:B309))","v":""},null,"","",null,"",""]
[{"$f":"IF(B310=\"\",\"\",SUBTOTAL(3,B$4:B310))","v":""},null,"","",null,"",""]
[{"$f":"IF(B311=\"\",\"\",SUBTOTAL(3,B$4:B311))","v":""},null,"","",null,"",""]
[{"$f":"IF(B312=\"\",\"\",SUBTOTAL(3,B$4:B312))","v":""},null,"","",null,"",""]
[{"$f":"IF(B313=\"\",\"\",SUBTOTAL(3,B$4:B313))","v":""},null,"","",null,"",""]
[{"$f":"IF(B314=\"\",\"\",SUBTOTAL(3,B$4:B314))","v":""},null,"","",null,"",""]
[{"$f":"IF(B315=\"\",\"\",SUBTOTAL(3,B$4:B315))","v":""},null,"","",null,"",""]
[{"$f":"IF(B316=\"\",\"\",SUBTOTAL(3,B$4:B316))","v":""},null,"","",null,"",""]
[{"$f":"IF(B317=\"\",\"\",SUBTOTAL(3,B$4:B317))","v":""},null,"","",null,"",""]
[{"$f":"IF(B318=\"\",\"\",SUBTOTAL(3,B$4:B318))","v":""},null,"","",null,"",""]
[{"$f":"IF(B319=\"\",\"\",SUBTOTAL(3,B$4:B319))","v":""},null,"","",null,"",""]
[{"$f":"IF(B320=\"\",\"\",SUBTOTAL(3,B$4:B320))","v":""},null,"","",null,"",""]
[{"$f":"IF(B321=\"\",\"\",SUBTOTAL(3,B$4:B321))","v":""},null,"","",null,"",""]
[{"$f":"IF(B322=\"\",\"\",SUBTOTAL(3,B$4:B322))","v":""},null,"","",null,"",""]
[{"$f":"IF(B323=\"\",\"\",SUBTOTAL(3,B$4:B323))","v":""},null,"","",null,"",""]
[{"$f":"IF(B324=\"\",\"\",SUBTOTAL(3,B$4:B324))","v":""},null,{"$f":"IFERROR(VLOOKUP(B324,stocklist,2,0),\"\")","v":""},"",null,"",""]
[{"$f":"IF(B325=\"\",\"\",SUBTOTAL(3,B$4:B325))","v":""},null,"","",null,"",""]
[{"$f":"IF(B326=\"\",\"\",SUBTOTAL(3,B$4:B326))","v":""},null,"","",null,"",""]
[{"$f":"IF(B327=\"\",\"\",SUBTOTAL(3,B$4:B327))","v":""},null,"","",null,"",""]
[{"$f":"IF(B328=\"\",\"\",SUBTOTAL(3,B$4:B328))","v":""},null,"","",null,"",""]
[{"$f":"IF(B329=\"\",\"\",SUBTOTAL(3,B$4:B329))","v":""},null,"","",null,"",""]
[{"$f":"IF(B330=\"\",\"\",SUBTOTAL(3,B$4:B330))","v":""},null,"","",null,"",""]
[{"$f":"IF(B331=\"\",\"\",SUBTOTAL(3,B$4:B331))","v":""},null,"","",null,"",""]
[{"$f":"IF(B332=\"\",\"\",SUBTOTAL(3,B$4:B332))","v":""},null,"","",null,"",""]
[{"$f":"IF(B333=\"\",\"\",SUBTOTAL(3,B$4:B333))","v":""},null,"","",null,"",""]
[{"$f":"IF(B334=\"\",\"\",SUBTOTAL(3,B$4:B334))","v":""},null,"","",null,"",""]
[{"$f":"IF(B335=\"\",\"\",SUBTOTAL(3,B$4:B335))","v":""},null,"","",null,"",""]
[{"$f":"IF(B336=\"\",\"\",SUBTOTAL(3,B$4:B336))","v":""},null,"","",null,"",""]
[{"$f":"IF(B337=\"\",\"\",SUBTOTAL(3,B$4:B337))","v":""},null,"","",null,"",""]
[{"$f":"IF(B338=\"\",\"\",SUBTOTAL(3,B$4:B338))","v":""},null,"","",null,"",""]
[{"$f":"IF(B339=\"\",\"\",SUBTOTAL(3,B$4:B339))","v":""},null,"","",null,"",{"$f":"IFERROR(F339*E339,\"\")","v":""}]
[{"$f":"IF(B340=\"\",\"\",SUBTOTAL(3,B$4:B340))","v":""},null,"","",null,"",""]
[{"$f":"IF(B341=\"\",\"\",SUBTOTAL(3,B$4:B341))","v":""},null,"","",null,"",""]
[{"$f":"IF(B342=\"\",\"\",SUBTOTAL(3,B$4:B342))","v":""},null,"","",null,"",""]
[{"$f":"IF(B343=\"\",\"\",SUBTOTAL(3,B$4:B343))","v":""},null,"","",null,"",""]
[{"$f":"IF(B344=\"\",\"\",SUBTOTAL(3,B$4:B344))","v":""},null,"","",null,"",""]
[{"$f":"IF(B345=\"\",\"\",SUBTOTAL(3,B$4:B345))","v":""},null,"","",null,"",""]
[{"$f":"IF(B346=\"\",\"\",SUBTOTAL(3,B$4:B346))","v":""},null,"","",null,"",""]
[{"$f":"IF(B347=\"\",\"\",SUBTOTAL(3,B$4:B347))","v":""},null,"","",null,"",""]
[{"$f":"IF(B348=\"\",\"\",SUBTOTAL(3,B$4:B348))","v":""},null,"","",null,"",""]
[{"$f":"IF(B349=\"\",\"\",SUBTOTAL(3,B$4:B349))","v":""},null,"","",null,"",""]
[{"$f":"IF(B350=\"\",\"\",SUBTOTAL(3,B$4:B350))","v":""},null,"","",null,"",""]
[{"$f":"IF(B351=\"\",\"\",SUBTOTAL(3,B$4:B351))","v":""},null,"","",null,"",""]
[{"$f":"IF(B352=\"\",\"\",SUBTOTAL(3,B$4:B352))","v":""},null,"","",null,"",""]
[{"$f":"IF(B353=\"\",\"\",SUBTOTAL(3,B$4:B353))","v":""},null,"","",null,"",""]
[{"$f":"IF(B354=\"\",\"\",SUBTOTAL(3,B$4:B354))","v":""},null,"","",null,"",""]
[{"$f":"IF(B355=\"\",\"\",SUBTOTAL(3,B$4:B355))","v":""},null,"","",null,"",""]
[{"$f":"IF(B356=\"\",\"\",SUBTOTAL(3,B$4:B356))","v":""},null,"","",null,"",""]
[{"$f":"IF(B357=\"\",\"\",SUBTOTAL(3,B$4:B357))","v":""},null,"","",null,"",""]
[{"$f":"IF(B358=\"\",\"\",SUBTOTAL(3,B$4:B358))","v":""},null,"","",null,"",""]
[{"$f":"IF(B359=\"\",\"\",SUBTOTAL(3,B$4:B359))","v":""},null,"","",null,"",""]
[{"$f":"IF(B360=\"\",\"\",SUBTOTAL(3,B$4:B360))","v":""},null,"","",null,"",""]
[{"$f":"IF(B361=\"\",\"\",SUBTOTAL(3,B$4:B361))","v":""},null,"","",null,"",""]
[{"$f":"IF(B362=\"\",\"\",SUBTOTAL(3,B$4:B362))","v":""},null,"","",null,"",""]
[{"$f":"IF(B363=\"\",\"\",SUBTOTAL(3,B$4:B363))","v":""},null,"","",null,"",""]
[{"$f":"IF(B364=\"\",\"\",SUBTOTAL(3,B$4:B364))","v":""},null,"","",null,"",""]
[{"$f":"IF(B365=\"\",\"\",SUBTOTAL(3,B$4:B365))","v":""},null,"","",null,"",""]
[{"$f":"IF(B366=\"\",\"\",SUBTOTAL(3,B$4:B366))","v":""},null,"","",null,"",""]
[{"$f":"IF(B367=\"\",\"\",SUBTOTAL(3,B$4:B367))","v":""},null,"","",null,"",""]
[{"$f":"IF(B368=\"\",\"\",SUBTOTAL(3,B$4:B368))","v":""},null,"","",null,"",""]
[{"$f":"IF(B369=\"\",\"\",SUBTOTAL(3,B$4:B369))","v":""},null,"","",null,"",""]
[{"$f":"IF(B370=\"\",\"\",SUBTOTAL(3,B$4:B370))","v":""},null,"","",null,"",""]
[{"$f":"IF(B371=\"\",\"\",SUBTOTAL(3,B$4:B371))","v":""},null,"","",null,"",""]
[{"$f":"IF(B372=\"\",\"\",SUBTOTAL(3,B$4:B372))","v":""},null,"","",null,"",""]
[{"$f":"IF(B373=\"\",\"\",SUBTOTAL(3,B$4:B373))","v":""},null,"","",null,"",""]
[{"$f":"IF(B374=\"\",\"\",SUBTOTAL(3,B$4:B374))","v":""},null,"","",null,"",""]
[{"$f":"IF(B375=\"\",\"\",SUBTOTAL(3,B$4:B375))","v":""},null,"","",null,"",""]
[{"$f":"IF(B376=\"\",\"\",SUBTOTAL(3,B$4:B376))","v":""},null,"","",null,"",""]
[{"$f":"IF(B377=\"\",\"\",SUBTOTAL(3,B$4:B377))","v":""},null,"","",null,"",""]
[{"$f":"IF(B378=\"\",\"\",SUBTOTAL(3,B$4:B378))","v":""},null,"","",null,"",""]
[{"$f":"IF(B379=\"\",\"\",SUBTOTAL(3,B$4:B379))","v":""},null,"","",null,"",""]
[{"$f":"IF(B380=\"\",\"\",SUBTOTAL(3,B$4:B380))","v":""},null,"","",null,"",""]
[{"$f":"IF(B381=\"\",\"\",SUBTOTAL(3,B$4:B381))","v":""},null,"","",null,"",""]
[{"$f":"IF(B382=\"\",\"\",SUBTOTAL(3,B$4:B382))","v":""},null,"","",null,"",""]
[{"$f":"IF(B383=\"\",\"\",SUBTOTAL(3,B$4:B383))","v":""},null,"","",null,"",""]
[{"$f":"IF(B384=\"\",\"\",SUBTOTAL(3,B$4:B384))","v":""},null,"","",null,"",""]
[{"$f":"IF(B385=\"\",\"\",SUBTOTAL(3,B$4:B385))","v":""},null,"","",null,"",""]
[{"$f":"IF(B386=\"\",\"\",SUBTOTAL(3,B$4:B386))","v":""},null,"","",null,"",""]
[{"$f":"IF(B387=\"\",\"\",SUBTOTAL(3,B$4:B387))","v":""},null,"","",null,"",""]
[{"$f":"IF(B388=\"\",\"\",SUBTOTAL(3,B$4:B388))","v":""},null,{"$f":"IFERROR(VLOOKUP(B388,stocklist,2,0),\"\")","v":""},"",null,"",""]
[{"$f":"IF(B389=\"\",\"\",SUBTOTAL(3,B$4:B389))","v":""},null,"","",null,"",""]
[{"$f":"IF(B390=\"\",\"\",SUBTOTAL(3,B$4:B390))","v":""},null,"","",null,"",""]
[{"$f":"IF(B391=\"\",\"\",SUBTOTAL(3,B$4:B391))","v":""},null,"","",null,"",""]
[{"$f":"IF(B392=\"\",\"\",SUBTOTAL(3,B$4:B392))","v":""},null,"","",null,"",""]
[{"$f":"IF(B393=\"\",\"\",SUBTOTAL(3,B$4:B393))","v":""},null,"","",null,"",""]
[{"$f":"IF(B394=\"\",\"\",SUBTOTAL(3,B$4:B394))","v":""},null,"","",null,"",""]
[{"$f":"IF(B395=\"\",\"\",SUBTOTAL(3,B$4:B395))","v":""},null,"","",null,"",""]
[{"$f":"IF(B396=\"\",\"\",SUBTOTAL(3,B$4:B396))","v":""},null,"","",null,"",""]
[{"$f":"IF(B397=\"\",\"\",SUBTOTAL(3,B$4:B397))","v":""},null,"","",null,"",""]
[{"$f":"IF(B398=\"\",\"\",SUBTOTAL(3,B$4:B398))","v":""},null,"","",null,"",""]
[{"$f":"IF(B399=\"\",\"\",SUBTOTAL(3,B$4:B399))","v":""},null,"","",null,"",""]
[{"$f":"IF(B400=\"\",\"\",SUBTOTAL(3,B$4:B400))","v":""},null,"","",null,"",""]
[{"$f":"IF(B401=\"\",\"\",SUBTOTAL(3,B$4:B401))","v":""},null,"","",null,"",""]
[{"$f":"IF(B402=\"\",\"\",SUBTOTAL(3,B$4:B402))","v":""},null,"","",null,"",""]
[{"$f":"IF(B403=\"\",\"\",SUBTOTAL(3,B$4:B403))","v":""},null,"","",null,"",{"$f":"IFERROR(F403*E403,\"\")","v":""}]
[{"$f":"IF(B404=\"\",\"\",SUBTOTAL(3,B$4:B404))","v":""},null,"","",null,"",""]
[{"$f":"IF(B405=\"\",\"\",SUBTOTAL(3,B$4:B405))","v":""},null,"","",null,"",""]
[{"$f":"IF(B406=\"\",\"\",SUBTOTAL(3,B$4:B406))","v":""},null,"","",null,"",""]
[{"$f":"IF(B407=\"\",\"\",SUBTOTAL(3,B$4:B407))","v":""},null,"","",null,"",""]
[{"$f":"IF(B408=\"\",\"\",SUBTOTAL(3,B$4:B408))","v":""},null,"","",null,"",""]
[{"$f":"IF(B409=\"\",\"\",SUBTOTAL(3,B$4:B409))","v":""},null,"","",null,"",""]
[{"$f":"IF(B410=\"\",\"\",SUBTOTAL(3,B$4:B410))","v":""},null,"","",null,"",""]
[{"$f":"IF(B411=\"\",\"\",SUBTOTAL(3,B$4:B411))","v":""},null,"","",null,"",""]
[{"$f":"IF(B412=\"\",\"\",SUBTOTAL(3,B$4:B412))","v":""},null,"","",null,"",""]
[{"$f":"IF(B413=\"\",\"\",SUBTOTAL(3,B$4:B413))","v":""},null,"","",null,"",""]
[{"$f":"IF(B414=\"\",\"\",SUBTOTAL(3,B$4:B414))","v":""},null,"","",null,"",""]
[{"$f":"IF(B415=\"\",\"\",SUBTOTAL(3,B$4:B415))","v":""},null,"","",null,"",""]
[{"$f":"IF(B416=\"\",\"\",SUBTOTAL(3,B$4:B416))","v":""},null,"","",null,"",""]
[{"$f":"IF(B417=\"\",\"\",SUBTOTAL(3,B$4:B417))","v":""},null,"","",null,"",""]
[{"$f":"IF(B418=\"\",\"\",SUBTOTAL(3,B$4:B418))","v":""},null,"","",null,"",""]
[{"$f":"IF(B419=\"\",\"\",SUBTOTAL(3,B$4:B419))","v":""},null,"","",null,"",""]
[{"$f":"IF(B420=\"\",\"\",SUBTOTAL(3,B$4:B420))","v":""},null,"","",null,"",""]
[{"$f":"IF(B421=\"\",\"\",SUBTOTAL(3,B$4:B421))","v":""},null,"","",null,"",""]
[{"$f":"IF(B422=\"\",\"\",SUBTOTAL(3,B$4:B422))","v":""},null,"","",null,"",""]
[{"$f":"IF(B423=\"\",\"\",SUBTOTAL(3,B$4:B423))","v":""},null,"","",null,"",""]
[{"$f":"IF(B424=\"\",\"\",SUBTOTAL(3,B$4:B424))","v":""},null,"","",null,"",""]
[{"$f":"IF(B425=\"\",\"\",SUBTOTAL(3,B$4:B425))","v":""},null,"","",null,"",""]
[{"$f":"IF(B426=\"\",\"\",SUBTOTAL(3,B$4:B426))","v":""},null,"","",null,"",""]
[{"$f":"IF(B427=\"\",\"\",SUBTOTAL(3,B$4:B427))","v":""},null,"","",null,"",""]
[{"$f":"IF(B428=\"\",\"\",SUBTOTAL(3,B$4:B428))","v":""},null,"","",null,"",""]
[{"$f":"IF(B429=\"\",\"\",SUBTOTAL(3,B$4:B429))","v":""},null,"","",null,"",""]
[{"$f":"IF(B430=\"\",\"\",SUBTOTAL(3,B$4:B430))","v":""},null,"","",null,"",""]
[{"$f":"IF(B431=\"\",\"\",SUBTOTAL(3,B$4:B431))","v":""},null,"","",null,"",""]
[{"$f":"IF(B432=\"\",\"\",SUBTOTAL(3,B$4:B432))","v":""},null,"","",null,"",""]
[{"$f":"IF(B433=\"\",\"\",SUBTOTAL(3,B$4:B433))","v":""},null,"","",null,"",""]
[{"$f":"IF(B434=\"\",\"\",SUBTOTAL(3,B$4:B434))","v":""},null,"","",null,"",""]
[{"$f":"IF(B435=\"\",\"\",SUBTOTAL(3,B$4:B435))","v":""},null,"","",null,"",""]
[{"$f":"IF(B436=\"\",\"\",SUBTOTAL(3,B$4:B436))","v":""},null,"","",null,"",""]
[{"$f":"IF(B437=\"\",\"\",SUBTOTAL(3,B$4:B437))","v":""},null,"","",null,"",""]
[{"$f":"IF(B438=\"\",\"\",SUBTOTAL(3,B$4:B438))","v":""},null,"","",null,"",""]
[{"$f":"IF(B439=\"\",\"\",SUBTOTAL(3,B$4:B439))","v":""},null,"","",null,"",""]
[{"$f":"IF(B440=\"\",\"\",SUBTOTAL(3,B$4:B440))","v":""},null,"","",null,"",""]
[{"$f":"IF(B441=\"\",\"\",SUBTOTAL(3,B$4:B441))","v":""},null,"","",null,"",""]
[{"$f":"IF(B442=\"\",\"\",SUBTOTAL(3,B$4:B442))","v":""},null,"","",null,"",""]
[{"$f":"IF(B443=\"\",\"\",SUBTOTAL(3,B$4:B443))","v":""},null,"","",null,"",""]
[{"$f":"IF(B444=\"\",\"\",SUBTOTAL(3,B$4:B444))","v":""},null,"","",null,"",""]
[{"$f":"IF(B445=\"\",\"\",SUBTOTAL(3,B$4:B445))","v":""},null,"","",null,"",""]
[{"$f":"IF(B446=\"\",\"\",SUBTOTAL(3,B$4:B446))","v":""},null,"","",null,"",""]
[{"$f":"IF(B447=\"\",\"\",SUBTOTAL(3,B$4:B447))","v":""},null,"","",null,"",""]
[{"$f":"IF(B448=\"\",\"\",SUBTOTAL(3,B$4:B448))","v":""},null,"","",null,"",""]
[{"$f":"IF(B449=\"\",\"\",SUBTOTAL(3,B$4:B449))","v":""},null,"","",null,"",""]
[{"$f":"IF(B450=\"\",\"\",SUBTOTAL(3,B$4:B450))","v":""},null,"","",null,"",""]
[{"$f":"IF(B451=\"\",\"\",SUBTOTAL(3,B$4:B451))","v":""},null,"","",null,"",""]
[{"$f":"IF(B452=\"\",\"\",SUBTOTAL(3,B$4:B452))","v":""},null,{"$f":"IFERROR(VLOOKUP(B452,stocklist,2,0),\"\")","v":""},"",null,"",""]
[{"$f":"IF(B453=\"\",\"\",SUBTOTAL(3,B$4:B453))","v":""},null,"","",null,"",""]
[{"$f":"IF(B454=\"\",\"\",SUBTOTAL(3,B$4:B454))","v":""},null,"","",null,"",""]
[{"$f":"IF(B455=\"\",\"\",SUBTOTAL(3,B$4:B455))","v":""},null,"","",null,"",""]
[{"$f":"IF(B456=\"\",\"\",SUBTOTAL(3,B$4:B456))","v":""},null,"","",null,"",""]
[{"$f":"IF(B457=\"\",\"\",SUBTOTAL(3,B$4:B457))","v":""},null,"","",null,"",""]
[{"$f":"IF(B458=\"\",\"\",SUBTOTAL(3,B$4:B458))","v":""},null,"","",null,"",""]
[{"$f":"IF(B459=\"\",\"\",SUBTOTAL(3,B$4:B459))","v":""},null,"","",null,"",""]
[{"$f":"IF(B460=\"\",\"\",SUBTOTAL(3,B$4:B460))","v":""},null,"","",null,"",""]
[{"$f":"IF(B461=\"\",\"\",SUBTOTAL(3,B$4:B461))","v":""},null,"","",null,"",""]
[{"$f":"IF(B462=\"\",\"\",SUBTOTAL(3,B$4:B462))","v":""},null,"","",null,"",""]
[{"$f":"IF(B463=\"\",\"\",SUBTOTAL(3,B$4:B463))","v":""},null,"","",null,"",""]
[{"$f":"IF(B464=\"\",\"\",SUBTOTAL(3,B$4:B464))","v":""},null,"","",null,"",""]
[{"$f":"IF(B465=\"\",\"\",SUBTOTAL(3,B$4:B465))","v":""},null,"","",null,"",""]
[{"$f":"IF(B466=\"\",\"\",SUBTOTAL(3,B$4:B466))","v":""},null,"","",null,"",""]
[{"$f":"IF(B467=\"\",\"\",SUBTOTAL(3,B$4:B467))","v":""},null,"","",null,"",{"$f":"IFERROR(F467*E467,\"\")","v":""}]
[{"$f":"IF(B468=\"\",\"\",SUBTOTAL(3,B$4:B468))","v":""},null,"","",null,"",""]
[{"$f":"IF(B469=\"\",\"\",SUBTOTAL(3,B$4:B469))","v":""},null,"","",null,"",""]
[{"$f":"IF(B470=\"\",\"\",SUBTOTAL(3,B$4:B470))","v":""},null,"","",null,"",""]
[{"$f":"IF(B471=\"\",\"\",SUBTOTAL(3,B$4:B471))","v":""},null,"","",null,"",""]
[{"$f":"IF(B472=\"\",\"\",SUBTOTAL(3,B$4:B472))","v":""},null,"","",null,"",""]
[{"$f":"IF(B473=\"\",\"\",SUBTOTAL(3,B$4:B473))","v":""},null,"","",null,"",""]
[{"$f":"IF(B474=\"\",\"\",SUBTOTAL(3,B$4:B474))","v":""},null,"","",null,"",""]
[{"$f":"IF(B475=\"\",\"\",SUBTOTAL(3,B$4:B475))","v":""},null,"","",null,"",""]
[{"$f":"IF(B476=\"\",\"\",SUBTOTAL(3,B$4:B476))","v":""},null,"","",null,"",""]
[{"$f":"IF(B477=\"\",\"\",SUBTOTAL(3,B$4:B477))","v":""},null,"","",null,"",""]
[{"$f":"IF(B478=\"\",\"\",SUBTOTAL(3,B$4:B478))","v":""},null,"","",null,"",""]
[{"$f":"IF(B479=\"\",\"\",SUBTOTAL(3,B$4:B479))","v":""},null,"","",null,"",""]
[{"$f":"IF(B480=\"\",\"\",SUBTOTAL(3,B$4:B480))","v":""},null,"","",null,"",""]
[{"$f":"IF(B481=\"\",\"\",SUBTOTAL(3,B$4:B481))","v":""},null,"","",null,"",""]
[{"$f":"IF(B482=\"\",\"\",SUBTOTAL(3,B$4:B482))","v":""},null,"","",null,"",""]
[{"$f":"IF(B483=\"\",\"\",SUBTOTAL(3,B$4:B483))","v":""},null,"","",null,"",""]
[{"$f":"IF(B484=\"\",\"\",SUBTOTAL(3,B$4:B484))","v":""},null,"","",null,"",""]
[{"$f":"IF(B485=\"\",\"\",SUBTOTAL(3,B$4:B485))","v":""},null,"","",null,"",""]
[{"$f":"IF(B486=\"\",\"\",SUBTOTAL(3,B$4:B486))","v":""},null,"","",null,"",""]
[{"$f":"IF(B487=\"\",\"\",SUBTOTAL(3,B$4:B487))","v":""},null,"","",null,"",""]
[{"$f":"IF(B488=\"\",\"\",SUBTOTAL(3,B$4:B488))","v":""},null,"","",null,"",""]
[{"$f":"IF(B489=\"\",\"\",SUBTOTAL(3,B$4:B489))","v":""},null,"","",null,"",""]
[{"$f":"IF(B490=\"\",\"\",SUBTOTAL(3,B$4:B490))","v":""},null,"","",null,"",""]
[{"$f":"IF(B491=\"\",\"\",SUBTOTAL(3,B$4:B491))","v":""},null,"","",null,"",""]
[{"$f":"IF(B492=\"\",\"\",SUBTOTAL(3,B$4:B492))","v":""},null,"","",null,"",""]
[{"$f":"IF(B493=\"\",\"\",SUBTOTAL(3,B$4:B493))","v":""},null,"","",null,"",""]
[{"$f":"IF(B494=\"\",\"\",SUBTOTAL(3,B$4:B494))","v":""},null,"","",null,"",""]
[{"$f":"IF(B495=\"\",\"\",SUBTOTAL(3,B$4:B495))","v":""},null,"","",null,"",""]
[{"$f":"IF(B496=\"\",\"\",SUBTOTAL(3,B$4:B496))","v":""},null,"","",null,"",""]
[{"$f":"IF(B497=\"\",\"\",SUBTOTAL(3,B$4:B497))","v":""},null,"","",null,"",""]
[{"$f":"IF(B498=\"\",\"\",SUBTOTAL(3,B$4:B498))","v":""},null,"","",null,"",""]
[{"$f":"IF(B499=\"\",\"\",SUBTOTAL(3,B$4:B499))","v":""},null,"","",null,"",""]
[{"$f":"IF(B500=\"\",\"\",SUBTOTAL(3,B$4:B500))","v":""},null,"","",null,"",""]

{"sheet":"جدول المبيعات","index":3,"n_rows":40,"n_cols":10,"rows_kept":40,"cut":false,"hidden":false,"merged":[[5,4,5,5],[1,3,1,4],[1,5,1,6],[2,0,2,5],[3,3,3,4],[4,4,4,5],[17,4,17,5],[6,4,6,5],[7,4,7,5],[8,4,8,5],[9,4,9,5],[10,4,10,5],[11,4,11,5],[33,4,33,5],[34,4,34,5],[35,4,35,5],[24,4,24,5],[25,4,25,5],[26,4,26,5],[27,4,27,5],[28,4,28,5],[29,4,29,5],[3,9,4,12],[5,9,6,12],[30,4,30,5],[31,4,31,5],[32,4,32,5],[18,4,18,5],[19,4,19,5],[20,4,20,5],[21,4,21,5],[22,4,22,5],[23,4,23,5],[12,4,12,5],[13,4,13,5],[14,4,14,5],[15,4,15,5],[16,4,16,5],[36,4,36,5],[37,4,37,5],[38,2,38,3],[38,4,38,6],[39,3,39,6]]}
[]
[null,null,null,"الصندوق",null,459]
["مجمــــل المبيعــــــات"]
[null,1,2,null,null,null,{"$f":"TODAY()","v":"2020-10-18"},null,null,"معادلة ترحيل"]
["الرقم","التعيين","الكمية","ثمن الوحدة","المجموع",null,"ملاحظات"]
[{"$f":"IF(B6=\"\",\"\",SUBTOTAL(3,B$6:B6))","v":1},"BENDIX DOT3 55 FLUIDE",10,{"$f":"IFERROR(VLOOKUP(B6,bayaa,5,FALSE),\"\")","v":""},{"$f":"IFERROR(D6*C6,\"\")","v":""},null,null,null,null,"من شيت جدول المبيعات الى قائمة المبيعات"]
[{"$f":"IF(B7=\"\",\"\",SUBTOTAL(3,B$6:B7))","v":2},"H. M. LIQUI MOLY PERFORMANCE 5L ",30,27,{"$f":"IFERROR(D6*C6,\"\")","v":""}]
[{"$f":"IF(B8=\"\",\"\",SUBTOTAL(3,B$6:B8))","v":3},"H.M. NAFTAL 5L",30,"",{"$f":"IFERROR(D7*C7,\"\")","v":810}]
[{"$f":"IF(B9=\"\",\"\",SUBTOTAL(3,B$6:B9))","v":4},"H. M. LIQUI MOLY PERFORMANCE 5L ",30,27,""]
[{"$f":"IF(B10=\"\",\"\",SUBTOTAL(3,B$6:B10))","v":5},"H.M. NAFTAL 4L",30,"",810]
[{"$f":"IF(B11=\"\",\"\",SUBTOTAL(3,B$6:B11))","v":6},"H.M. NAFTAL 4L",30,"",""]
[{"$f":"IF(B12=\"\",\"\",SUBTOTAL(3,B$6:B12))","v":7},"HUILE MOTEUR NAFTAL 1L",30,"",""]
[{"$f":"IF(B13=\"\",\"\",SUBTOTAL(3,B$6:B13))","v":8},"H.M. CASTROL 5L ",30,"",""]
[{"$f":"IF(B14=\"\",\"\",SUBTOTAL(3,B$6:B14))","v":9},"HUILE MOTEUR NAFTAL 1L",30,"",""]
[{"$f":"IF(B15=\"\",\"\",SUBTOTAL(3,B$6:B15))","v":10},"H.M. CASTROL 5L ",30,"",""]
[{"$f":"IF(B16=\"\",\"\",SUBTOTAL(3,B$6:B16))","v":11},"HUILE MOTEUR NAFTAL 1L",30,"",""]
[{"$f":"IF(B17=\"\",\"\",SUBTOTAL(3,B$6:B17))","v":12},"H.M. CASTROL 5L ",30,"",""]
[{"$f":"IF(B18=\"\",\"\",SUBTOTAL(3,B$6:B18))","v":13},"HUILE MOTEUR NAFTAL 1L",30,"",""]
[{"$f":"IF(B19=\"\",\"\",SUBTOTAL(3,B$6:B19))","v":14},"H.M. CASTROL 5L ",30,"",""]
[{"$f":"IF(B20=\"\",\"\",SUBTOTAL(3,B$6:B20))","v":15},"HUILE MOTEUR NAFTAL 1L",30,"",""]
[{"$f":"IF(B21=\"\",\"\",SUBTOTAL(3,B$6:B21))","v":16},"H.M. CASTROL 5L ",30,"",""]
[{"$f":"IF(B22=\"\",\"\",SUBTOTAL(3,B$6:B22))","v":17},"HUILE MOTEUR NAFTAL 1L",30,"",""]
[{"$f":"IF(B23=\"\",\"\",SUBTOTAL(3,B$6:B23))","v":18},"H.M. CASTROL 5L ",30,"",""]
[{"$f":"IF(B24=\"\",\"\",SUBTOTAL(3,B$6:B24))","v":19},"HUILE MOTEUR NAFTAL 1L",30,"",""]
[{"$f":"IF(B25=\"\",\"\",SUBTOTAL(3,B$6:B25))","v":20},"H.M. CASTROL 5L ",30,"",""]
[{"$f":"IF(B26=\"\",\"\",SUBTOTAL(3,B$6:B26))","v":21},"HUILE MOTEUR NAFTAL 1L",30,"",{"$f":"IFERROR(D25*C25,\"\")","v":""}]
[{"$f":"IF(B27=\"\",\"\",SUBTOTAL(3,B$6:B27))","v":22},"H.M. CASTROL 5L ",30,"",{"$f":"IFERROR(D26*C26,\"\")","v":""}]
[{"$f":"IF(B28=\"\",\"\",SUBTOTAL(3,B$6:B28))","v":23},"HUILE MOTEUR NAFTAL 1L",30,"",""]
[{"$f":"IF(B29=\"\",\"\",SUBTOTAL(3,B$6:B29))","v":24},"H.M. CASTROL 5L ",30,"",""]
[{"$f":"IF(B30=\"\",\"\",SUBTOTAL(3,B$6:B30))","v":25},"HUILE MOTEUR NAFTAL 1L",30,"",""]
[{"$f":"IF(B31=\"\",\"\",SUBTOTAL(3,B$6:B31))","v":26},"H.M. CASTROL 5L ",30,"",""]
[{"$f":"IF(B32=\"\",\"\",SUBTOTAL(3,B$6:B32))","v":27},"HUILE MOTEUR NAFTAL 1L",30,"",""]
[{"$f":"IF(B33=\"\",\"\",SUBTOTAL(3,B$6:B33))","v":28},"H.M. CASTROL 5L ",30,"",""]
[{"$f":"IF(B34=\"\",\"\",SUBTOTAL(3,B$6:B34))","v":29},"HUILE MOTEUR NAFTAL 1L",30,"",""]
[{"$f":"IF(B35=\"\",\"\",SUBTOTAL(3,B$6:B35))","v":30},"H.M. CASTROL 5L ",30,"",""]
[{"$f":"IF(B36=\"\",\"\",SUBTOTAL(3,B$6:B36))","v":31},"HUILE MOTEUR NAFTAL 1L",30,"",""]
[{"$f":"IF(B37=\"\",\"\",SUBTOTAL(3,B$6:B37))","v":32},"H.M. CASTROL 5L ",30,"",""]
[{"$f":"IF(B38=\"\",\"\",SUBTOTAL(3,B$6:B38))","v":33},"HUILE MOTEUR NAFTAL 1L",30,"",{"$f":"IFERROR(D38*C38,\"\")","v":""}]
[null,null,"المجموع بالرسم",null,{"$f":"IFERROR(SUM(E6:G38),\"\")","v":1620}]
[null,null,null,"الختـــم والإمضــاء"]